{"text_format":"1","workbook":"xlsx","n_sheets":5,"sheets":["MainDisplay","Sheet1","Sheet4 (2)","Sheet4","Sheet2"],"not_rendered":{"charts":3,"images":2,"macros":1,"external_links":0,"defined_names":0,"comments":0,"pivot_tables":0},"unopened":[],"bounds":{"document_bytes":16777216,"sheet_cells":100000,"rows_first":2000,"rows_last":500,"rows_between":2000,"halvings":0,"cell_chars":16384,"cell_head_chars":4096},"cells_cut":0,"cells_raw":0,"read":"whole","date_system":"1900"}

{"sheet":"MainDisplay","index":0,"n_rows":64,"n_cols":27,"rows_kept":64,"cut":false,"hidden":false,"merged":[[44,2,44,5],[20,2,20,5],[21,2,21,5],[22,2,22,5],[35,2,35,5],[36,2,36,5],[42,2,42,5],[43,2,43,5],[37,2,37,5],[38,2,38,5],[39,2,39,5],[40,2,40,5],[41,2,41,5],[26,2,26,5],[27,2,27,5],[29,2,29,5],[30,2,30,5],[23,2,23,5],[24,2,24,5],[25,2,25,5],[34,2,34,5],[28,2,28,5],[31,2,31,5],[32,2,32,5],[33,2,33,5],[17,2,17,5],[13,2,13,5],[12,2,12,5],[14,2,14,5],[15,2,15,5],[16,2,16,5],[44,7,44,9],[44,11,44,13],[1,21,2,23],[1,19,1,20],[1,5,2,18],[18,2,18,5],[19,2,19,5],[3,2,3,5],[8,2,8,5],[9,2,9,5],[10,2,10,5],[11,2,11,5],[4,2,4,5],[5,2,5,5],[6,2,6,5],[7,2,7,5]]}
[]
[null,null,null,null,null,"CQG SPDR S&P Kensho Smart Mobility ETF",null,null,null,null,null,null,null,null,null,null,null,null,null,"Ribbon",null,{"$f":"RTD(\"cqg.rtd\", ,\"SystemInfo\", \"Linetime\")","v":44334.370798611111}]
[]
[null,"Symbol","Description (NC) (US Equities & ETFs Only)",null,null,null,"5-min","Bid","Last Trade","Ask","NC","%NC","Open","High","Low"]
[null,"S.HAIL",{"$f":"IFERROR(RTD(\"cqg.rtd\",,\"ContractData\",B5,\"LongDescription\",,\"T\"),\"\")&\" (\"&P5&\")\"","v":"SPDR S&P Kensho Smart Mobility ETF (+.37)"},null,null,null,null,{"$f":"IF(LEFT(B5,1)=\"\",\"\",IFERROR(TEXT(RTD(\"cqg.rtd\", ,\"ContractData\", B5, \"Bid\",, \"T\"),W57),\"\"))","v":"58.76"},{"$f":"IF(LEFT(B5,1)=\"\",\"\",IFERROR(TEXT(RTD(\"cqg.rtd\", ,\"ContractData\", B5, \"LastTrade\",, \"T\"),W57),\"\"))","v":"58.64"},{"$f":"IF(LEFT(B5,1)=\"\",\"\",IFERROR(TEXT(RTD(\"cqg.rtd\", ,\"ContractData\", B5, \"Ask\",, \"T\"),W57),\"\"))","v":"58.85"},{"$f":"IF(LEFT(B5,1)=\"\",\"\",IF(RTD(\"cqg.rtd\",,\"ContractData\",B5,\"NetLastTradeToday\",,\"T\")=\"\",\"\",IFERROR(IF(RTD(\"cqg.rtd\",,\"ContractData\",B5,\"NetLastTradeToday\",,\"T\")>0,\"+\",\"\")&TEXT(RTD(\"cqg.rtd\",,\"ContractData\",B5,\"NetLastTradeToday\",,\"T\"),W57),\"\")))","v":"+.37"},{"$f":"IFERROR(RTD(\"cqg.rtd\", ,\"ContractData\", B5, \"PerCentNetLastTrade\",, \"T\")/100,\"\")","v":6.3497511584005495E-3},{"$f":"IF(LEFT(B5,1)=\"\",\"\",IFERROR(TEXT(RTD(\"cqg.rtd\", ,\"ContractData\", B5, \"Open\",, \"T\"),W57),\"\"))","v":"58.65"},{"$f":"IF(LEFT(B5,1)=\"\",\"\",IFERROR(TEXT(RTD(\"cqg.rtd\", ,\"ContractData\", B5, \"High\",, \"T\"),W57),\"\"))","v":"58.67"},{"$f":"IF(LEFT(B5,1)=\"\",\"\",IFERROR(TEXT(RTD(\"cqg.rtd\", ,\"ContractData\", B5, \"Low\",, \"T\"),W57),\"\"))","v":"58.27"},{"$f":"IF(LEFT(B5,1)=\"\",\"\",IF(RTD(\"cqg.rtd\",,\"ContractData\",B5,\"NetLastTradeToday\",,\"T\")=\"\",\"\",IFERROR(IF(RTD(\"cqg.rtd\",,\"ContractData\",B5,\"NetLastTradeToday\",,\"T\")>0,\"+\",\"\")&TEXT(RTD(\"cqg.rtd\",,\"ContractData\",B5,\"NetLastTradeToday\",,\"T\"),W57),\"\")))","v":"+.37"},null,{"$f":"IF(H5>I5,1,0)","v":1},{"$f":"IF(J5<I5,1,0)","v":0},null,null,null,null,null,{"$f":"IF(N5-I5<=2*AA5,1,0)","v":0},{"$f":"IF(I5-O5<=2*AA5,1,0)","v":0},{"$f":"RTD(\"cqg.rtd\", ,\"ContractData\", B5, \"TickSize\",, \"T\")","v":0.01}]
[null,"S.SPY",{"$f":"IFERROR(RTD(\"cqg.rtd\",,\"ContractData\",B6,\"LongDescription\",,\"T\"),\"\")&\" (\"&P6&\")\"","v":"SPDR S&P 500 (-.09)"},null,null,null,null,{"$f":"IF(LEFT(B6,1)=\"\",\"\",IFERROR(TEXT(RTD(\"cqg.rtd\", ,\"ContractData\", B6, \"Bid\",, \"T\"),W58),\"\"))","v":"415.43"},{"$f":"IF(LEFT(B6,1)=\"\",\"\",IFERROR(TEXT(RTD(\"cqg.rtd\", ,\"ContractData\", B6, \"LastTrade\",, \"T\"),W58),\"\"))","v":"415.43"},{"$f":"IF(LEFT(B6,1)=\"\",\"\",IFERROR(TEXT(RTD(\"cqg.rtd\", ,\"ContractData\", B6, \"Ask\",, \"T\"),W58),\"\"))","v":"415.44"},{"$f":"IF(LEFT(B6,1)=\"\",\"\",IF(RTD(\"cqg.rtd\",,\"ContractData\",B6,\"NetLastTradeToday\",,\"T\")=\"\",\"\",IFERROR(IF(RTD(\"cqg.rtd\",,\"ContractData\",B6,\"NetLastTradeToday\",,\"T\")>0,\"+\",\"\")&TEXT(RTD(\"cqg.rtd\",,\"ContractData\",B6,\"NetLastTradeToday\",,\"T\"),W58),\"\")))","v":"-.09"},{"$f":"IFERROR(RTD(\"cqg.rtd\", ,\"ContractData\", B6, \"PerCentNetLastTrade\",, \"T\")/100,\"\")","v":-2.1659607239122062E-4},{"$f":"IF(LEFT(B6,1)=\"\",\"\",IFERROR(TEXT(RTD(\"cqg.rtd\", ,\"ContractData\", B6, \"Open\",, \"T\"),W58),\"\"))","v":"415.80"},{"$f":"IF(LEFT(B6,1)=\"\",\"\",IFERROR(TEXT(RTD(\"cqg.rtd\", ,\"ContractData\", B6, \"High\",, \"T\"),W58),\"\"))","v":"416.06"},{"$f":"IF(LEFT(B6,1)=\"\",\"\",IFERROR(TEXT(RTD(\"cqg.rtd\", ,\"ContractData\", B6, \"Low\",, \"T\"),W58),\"\"))","v":"414.82"},{"$f":"IF(LEFT(B6,1)=\"\",\"\",IF(RTD(\"cqg.rtd\",,\"ContractData\",B6,\"NetLastTradeToday\",,\"T\")=\"\",\"\",IFERROR(IF(RTD(\"cqg.rtd\",,\"ContractData\",B6,\"NetLastTradeToday\",,\"T\")>0,\"+\",\"\")&TEXT(RTD(\"cqg.rtd\",,\"ContractData\",B6,\"NetLastTradeToday\",,\"T\"),W58),\"\")))","v":"-.09"},null,{"$f":"IF(H6>I6,1,0)","v":0},{"$f":"IF(J6<I6,1,0)","v":0},null,null,null,null,null,{"$f":"IF(N6-I6<=2*AA6,1,0)","v":0},{"$f":"IF(I6-O6<=2*AA6,1,0)","v":0},{"$f":"RTD(\"cqg.rtd\", ,\"ContractData\", B6, \"TickSize\",, \"T\")","v":0.01}]
[null,"S.RYT",{"$f":"IFERROR(RTD(\"cqg.rtd\",,\"ContractData\",B7,\"LongDescription\",,\"T\"),\"\")&\" (\"&P7&\")\"","v":"Invesco S&P 500 Eq Wt Technology ETF (.00)"},null,null,null,null,{"$f":"IF(LEFT(B7,1)=\"\",\"\",IFERROR(TEXT(RTD(\"cqg.rtd\", ,\"ContractData\", B7, \"Bid\",, \"T\"),W59),\"\"))","v":"270.68"},{"$f":"IF(LEFT(B7,1)=\"\",\"\",IFERROR(TEXT(RTD(\"cqg.rtd\", ,\"ContractData\", B7, \"LastTrade\",, \"T\"),W59),\"\"))","v":"270.53"},{"$f":"IF(LEFT(B7,1)=\"\",\"\",IFERROR(TEXT(RTD(\"cqg.rtd\", ,\"ContractData\", B7, \"Ask\",, \"T\"),W59),\"\"))","v":"270.97"},{"$f":"IF(LEFT(B7,1)=\"\",\"\",IF(RTD(\"cqg.rtd\",,\"ContractData\",B7,\"NetLastTradeToday\",,\"T\")=\"\",\"\",IFERROR(IF(RTD(\"cqg.rtd\",,\"ContractData\",B7,\"NetLastTradeToday\",,\"T\")>0,\"+\",\"\")&TEXT(RTD(\"cqg.rtd\",,\"ContractData\",B7,\"NetLastTradeToday\",,\"T\"),W59),\"\")))","v":".00"},{"$f":"IFERROR(RTD(\"cqg.rtd\", ,\"ContractData\", B7, \"PerCentNetLastTrade\",, \"T\")/100,\"\")","v":0},{"$f":"IF(LEFT(B7,1)=\"\",\"\",IFERROR(TEXT(RTD(\"cqg.rtd\", ,\"ContractData\", B7, \"Open\",, \"T\"),W59),\"\"))","v":"271.37"},{"$f":"IF(LEFT(B7,1)=\"\",\"\",IFERROR(TEXT(RTD(\"cqg.rtd\", ,\"ContractData\", B7, \"High\",, \"T\"),W59),\"\"))","v":"271.37"},{"$f":"IF(LEFT(B7,1)=\"\",\"\",IFERROR(TEXT(RTD(\"cqg.rtd\", ,\"ContractData\", B7, \"Low\",, \"T\"),W59),\"\"))","v":"270.53"},{"$f":"IF(LEFT(B7,1)=\"\",\"\",IF(RTD(\"cqg.rtd\",,\"ContractData\",B7,\"NetLastTradeToday\",,\"T\")=\"\",\"\",IFERROR(IF(RTD(\"cqg.rtd\",,\"ContractData\",B7,\"NetLastTradeToday\",,\"T\")>0,\"+\",\"\")&TEXT(RTD(\"cqg.rtd\",,\"ContractData\",B7,\"NetLastTradeToday\",,\"T\"),W59),\"\")))","v":".00"},null,1,0,null,null,null,null,null,0,1,{"$f":"RTD(\"cqg.rtd\", ,\"ContractData\", B7, \"TickSize\",, \"T\")","v":0.01}]
[null,"S.IWF",{"$f":"IFERROR(RTD(\"cqg.rtd\",,\"ContractData\",B8,\"LongDescription\",,\"T\"),\"\")&\" (\"&P8&\")\"","v":"iShares Russell 1000 Growth ETF (+.36)"},null,null,null,null,{"$f":"IF(LEFT(B8,1)=\"\",\"\",IFERROR(TEXT(RTD(\"cqg.rtd\", ,\"ContractData\", B8, \"Bid\",, \"T\"),W60),\"\"))","v":"250.59"},{"$f":"IF(LEFT(B8,1)=\"\",\"\",IFERROR(TEXT(RTD(\"cqg.rtd\", ,\"ContractData\", B8, \"LastTrade\",, \"T\"),W60),\"\"))","v":"250.61"},{"$f":"IF(LEFT(B8,1)=\"\",\"\",IFERROR(TEXT(RTD(\"cqg.rtd\", ,\"ContractData\", B8, \"Ask\",, \"T\"),W60),\"\"))","v":"250.63"},{"$f":"IF(LEFT(B8,1)=\"\",\"\",IF(RTD(\"cqg.rtd\",,\"ContractData\",B8,\"NetLastTradeToday\",,\"T\")=\"\",\"\",IFERROR(IF(RTD(\"cqg.rtd\",,\"ContractData\",B8,\"NetLastTradeToday\",,\"T\")>0,\"+\",\"\")&TEXT(RTD(\"cqg.rtd\",,\"ContractData\",B8,\"NetLastTradeToday\",,\"T\"),W60),\"\")))","v":"+.36"},{"$f":"IFERROR(RTD(\"cqg.rtd\", ,\"ContractData\", B8, \"PerCentNetLastTrade\",, \"T\")/100,\"\")","v":1.4385614385614388E-3},{"$f":"IF(LEFT(B8,1)=\"\",\"\",IFERROR(TEXT(RTD(\"cqg.rtd\", ,\"ContractData\", B8, \"Open\",, \"T\"),W60),\"\"))","v":"250.63"},{"$f":"IF(LEFT(B8,1)=\"\",\"\",IFERROR(TEXT(RTD(\"cqg.rtd\", ,\"ContractData\", B8, \"High\",, \"T\"),W60),\"\"))","v":"251.09"},{"$f":"IF(LEFT(B8,1)=\"\",\"\",IFERROR(TEXT(RTD(\"cqg.rtd\", ,\"ContractData\", B8, \"Low\",, \"T\"),W60),\"\"))","v":"250.20"},{"$f":"IF(LEFT(B8,1)=\"\",\"\",IF(RTD(\"cqg.rtd\",,\"ContractData\",B8,\"NetLastTradeToday\",,\"T\")=\"\",\"\",IFERROR(IF(RTD(\"cqg.rtd\",,\"ContractData\",B8,\"NetLastTradeToday\",,\"T\")>0,\"+\",\"\")&TEXT(RTD(\"cqg.rtd\",,\"ContractData\",B8,\"NetLastTradeToday\",,\"T\"),W60),\"\")))","v":"+.36"},null,0,0,null,null,null,null,null,0,0,{"$f":"RTD(\"cqg.rtd\", ,\"ContractData\", B8, \"TickSize\",, \"T\")","v":0.01}]
[null,"S.GLD",{"$f":"IFERROR(RTD(\"cqg.rtd\",,\"ContractData\",B9,\"LongDescription\",,\"T\"),\"\")&\" (\"&P9&\")\"","v":"SPDR Gold Trust (+.11)"},null,null,null,null,{"$f":"IF(LEFT(B9,1)=\"\",\"\",IFERROR(TEXT(RTD(\"cqg.rtd\", ,\"ContractData\", B9, \"Bid\",, \"T\"),W61),\"\"))","v":"174.79"},{"$f":"IF(LEFT(B9,1)=\"\",\"\",IFERROR(TEXT(RTD(\"cqg.rtd\", ,\"ContractData\", B9, \"LastTrade\",, \"T\"),W61),\"\"))","v":"174.81"},{"$f":"IF(LEFT(B9,1)=\"\",\"\",IFERROR(TEXT(RTD(\"cqg.rtd\", ,\"ContractData\", B9, \"Ask\",, \"T\"),W61),\"\"))","v":"174.80"},{"$f":"IF(LEFT(B9,1)=\"\",\"\",IF(RTD(\"cqg.rtd\",,\"ContractData\",B9,\"NetLastTradeToday\",,\"T\")=\"\",\"\",IFERROR(IF(RTD(\"cqg.rtd\",,\"ContractData\",B9,\"NetLastTradeToday\",,\"T\")>0,\"+\",\"\")&TEXT(RTD(\"cqg.rtd\",,\"ContractData\",B9,\"NetLastTradeToday\",,\"T\"),W61),\"\")))","v":"+.11"},{"$f":"IFERROR(RTD(\"cqg.rtd\", ,\"ContractData\", B9, \"PerCentNetLastTrade\",, \"T\")/100,\"\")","v":6.2965082999427583E-4},{"$f":"IF(LEFT(B9,1)=\"\",\"\",IFERROR(TEXT(RTD(\"cqg.rtd\", ,\"ContractData\", B9, \"Open\",, \"T\"),W61),\"\"))","v":"175.23"},{"$f":"IF(LEFT(B9,1)=\"\",\"\",IFERROR(TEXT(RTD(\"cqg.rtd\", ,\"ContractData\", B9, \"High\",, \"T\"),W61),\"\"))","v":"175.57"},{"$f":"IF(LEFT(B9,1)=\"\",\"\",IFERROR(TEXT(RTD(\"cqg.rtd\", ,\"ContractData\", B9, \"Low\",, \"T\"),W61),\"\"))","v":"174.69"},{"$f":"IF(LEFT(B9,1)=\"\",\"\",IF(RTD(\"cqg.rtd\",,\"ContractData\",B9,\"NetLastTradeToday\",,\"T\")=\"\",\"\",IFERROR(IF(RTD(\"cqg.rtd\",,\"ContractData\",B9,\"NetLastTradeToday\",,\"T\")>0,\"+\",\"\")&TEXT(RTD(\"cqg.rtd\",,\"ContractData\",B9,\"NetLastTradeToday\",,\"T\"),W61),\"\")))","v":"+.11"},null,0,1,null,null,null,null,null,0,0,{"$f":"RTD(\"cqg.rtd\", ,\"ContractData\", B9, \"TickSize\",, \"T\")","v":0.01}]
[null,"S.SLV",{"$f":"IFERROR(RTD(\"cqg.rtd\",,\"ContractData\",B10,\"LongDescription\",,\"T\"),\"\")&\" (\"&P10&\")\"","v":"iShares Silver Trust (+.03)"},null,null,null,null,{"$f":"IF(LEFT(B10,1)=\"\",\"\",IFERROR(TEXT(RTD(\"cqg.rtd\", ,\"ContractData\", B10, \"Bid\",, \"T\"),W62),\"\"))","v":"26.22"},{"$f":"IF(LEFT(B10,1)=\"\",\"\",IFERROR(TEXT(RTD(\"cqg.rtd\", ,\"ContractData\", B10, \"LastTrade\",, \"T\"),W62),\"\"))","v":"26.22"},{"$f":"IF(LEFT(B10,1)=\"\",\"\",IFERROR(TEXT(RTD(\"cqg.rtd\", ,\"ContractData\", B10, \"Ask\",, \"T\"),W62),\"\"))","v":"26.23"},{"$f":"IF(LEFT(B10,1)=\"\",\"\",IF(RTD(\"cqg.rtd\",,\"ContractData\",B10,\"NetLastTradeToday\",,\"T\")=\"\",\"\",IFERROR(IF(RTD(\"cqg.rtd\",,\"ContractData\",B10,\"NetLastTradeToday\",,\"T\")>0,\"+\",\"\")&TEXT(RTD(\"cqg.rtd\",,\"ContractData\",B10,\"NetLastTradeToday\",,\"T\"),W62),\"\")))","v":"+.03"},{"$f":"IFERROR(RTD(\"cqg.rtd\", ,\"ContractData\", B10, \"PerCentNetLastTrade\",, \"T\")/100,\"\")","v":1.145475372279496E-3},{"$f":"IF(LEFT(B10,1)=\"\",\"\",IFERROR(TEXT(RTD(\"cqg.rtd\", ,\"ContractData\", B10, \"Open\",, \"T\"),W62),\"\"))","v":"26.46"},{"$f":"IF(LEFT(B10,1)=\"\",\"\",IFERROR(TEXT(RTD(\"cqg.rtd\", ,\"ContractData\", B10, \"High\",, \"T\"),W62),\"\"))","v":"26.58"},{"$f":"IF(LEFT(B10,1)=\"\",\"\",IFERROR(TEXT(RTD(\"cqg.rtd\", ,\"ContractData\", B10, \"Low\",, \"T\"),W62),\"\"))","v":"26.19"},{"$f":"IF(LEFT(B10,1)=\"\",\"\",IF(RTD(\"cqg.rtd\",,\"ContractData\",B10,\"NetLastTradeToday\",,\"T\")=\"\",\"\",IFERROR(IF(RTD(\"cqg.rtd\",,\"ContractData\",B10,\"NetLastTradeToday\",,\"T\")>0,\"+\",\"\")&TEXT(RTD(\"cqg.rtd\",,\"ContractData\",B10,\"NetLastTradeToday\",,\"T\"),W62),\"\")))","v":"+.03"},null,0,0,null,null,null,null,null,0,0,{"$f":"RTD(\"cqg.rtd\", ,\"ContractData\", B10, \"TickSize\",, \"T\")","v":0.01}]
[null,"S.USO",{"$f":"IFERROR(RTD(\"cqg.rtd\",,\"ContractData\",B11,\"LongDescription\",,\"T\"),\"\")&\" (\"&P11&\")\"","v":"United States Oil Fund (-.16)"},null,null,null,null,{"$f":"IF(LEFT(B11,1)=\"\",\"\",IFERROR(TEXT(RTD(\"cqg.rtd\", ,\"ContractData\", B11, \"Bid\",, \"T\"),W63),\"\"))","v":"45.20"},{"$f":"IF(LEFT(B11,1)=\"\",\"\",IFERROR(TEXT(RTD(\"cqg.rtd\", ,\"ContractData\", B11, \"LastTrade\",, \"T\"),W63),\"\"))","v":"45.20"},{"$f":"IF(LEFT(B11,1)=\"\",\"\",IFERROR(TEXT(RTD(\"cqg.rtd\", ,\"ContractData\", B11, \"Ask\",, \"T\"),W63),\"\"))","v":"45.21"},{"$f":"IF(LEFT(B11,1)=\"\",\"\",IF(RTD(\"cqg.rtd\",,\"ContractData\",B11,\"NetLastTradeToday\",,\"T\")=\"\",\"\",IFERROR(IF(RTD(\"cqg.rtd\",,\"ContractData\",B11,\"NetLastTradeToday\",,\"T\")>0,\"+\",\"\")&TEXT(RTD(\"cqg.rtd\",,\"ContractData\",B11,\"NetLastTradeToday\",,\"T\"),W63),\"\")))","v":"-.16"},{"$f":"IFERROR(RTD(\"cqg.rtd\", ,\"ContractData\", B11, \"PerCentNetLastTrade\",, \"T\")/100,\"\")","v":-3.5273368606701938E-3},{"$f":"IF(LEFT(B11,1)=\"\",\"\",IFERROR(TEXT(RTD(\"cqg.rtd\", ,\"ContractData\", B11, \"Open\",, \"T\"),W63),\"\"))","v":"45.39"},{"$f":"IF(LEFT(B11,1)=\"\",\"\",IFERROR(TEXT(RTD(\"cqg.rtd\", ,\"ContractData\", B11, \"High\",, \"T\"),W63),\"\"))","v":"45.39"},{"$f":"IF(LEFT(B11,1)=\"\",\"\",IFERROR(TEXT(RTD(\"cqg.rtd\", ,\"ContractData\", B11, \"Low\",, \"T\"),W63),\"\"))","v":"45.13"},{"$f":"IF(LEFT(B11,1)=\"\",\"\",IF(RTD(\"cqg.rtd\",,\"ContractData\",B11,\"NetLastTradeToday\",,\"T\")=\"\",\"\",IFERROR(IF(RTD(\"cqg.rtd\",,\"ContractData\",B11,\"NetLastTradeToday\",,\"T\")>0,\"+\",\"\")&TEXT(RTD(\"cqg.rtd\",,\"ContractData\",B11,\"NetLastTradeToday\",,\"T\"),W63),\"\")))","v":"-.16"},null,0,0,null,null,null,null,null,0,0,{"$f":"RTD(\"cqg.rtd\", ,\"ContractData\", B11, \"TickSize\",, \"T\")","v":0.01}]
[null,"S.TSLA",{"$f":"IFERROR(RTD(\"cqg.rtd\",,\"ContractData\",B12,\"LongDescription\",,\"T\"),\"\")&\" (\"&P12&\")\"","v":"Tesla, Inc. (-1.64)"},null,null,null,null,{"$f":"IF(LEFT(B12,1)=\"\",\"\",IFERROR(TEXT(RTD(\"cqg.rtd\", ,\"ContractData\", B12, \"Bid\",, \"T\"),W64),\"\"))","v":"574.92"},{"$f":"IF(LEFT(B12,1)=\"\",\"\",IFERROR(TEXT(RTD(\"cqg.rtd\", ,\"ContractData\", B12, \"LastTrade\",, \"T\"),W64),\"\"))","v":"575.19"},{"$f":"IF(LEFT(B12,1)=\"\",\"\",IFERROR(TEXT(RTD(\"cqg.rtd\", ,\"ContractData\", B12, \"Ask\",, \"T\"),W64),\"\"))","v":"575.20"},{"$f":"IF(LEFT(B12,1)=\"\",\"\",IF(RTD(\"cqg.rtd\",,\"ContractData\",B12,\"NetLastTradeToday\",,\"T\")=\"\",\"\",IFERROR(IF(RTD(\"cqg.rtd\",,\"ContractData\",B12,\"NetLastTradeToday\",,\"T\")>0,\"+\",\"\")&TEXT(RTD(\"cqg.rtd\",,\"ContractData\",B12,\"NetLastTradeToday\",,\"T\"),W64),\"\")))","v":"-1.64"},{"$f":"IFERROR(RTD(\"cqg.rtd\", ,\"ContractData\", B12, \"PerCentNetLastTrade\",, \"T\")/100,\"\")","v":-2.8431253575576859E-3},{"$f":"IF(LEFT(B12,1)=\"\",\"\",IFERROR(TEXT(RTD(\"cqg.rtd\", ,\"ContractData\", B12, \"Open\",, \"T\"),W64),\"\"))","v":"568.00"},{"$f":"IF(LEFT(B12,1)=\"\",\"\",IFERROR(TEXT(RTD(\"cqg.rtd\", ,\"ContractData\", B12, \"High\",, \"T\"),W64),\"\"))","v":"575.87"},{"$f":"IF(LEFT(B12,1)=\"\",\"\",IFERROR(TEXT(RTD(\"cqg.rtd\", ,\"ContractData\", B12, \"Low\",, \"T\"),W64),\"\"))","v":"563.38"},{"$f":"IF(LEFT(B12,1)=\"\",\"\",IF(RTD(\"cqg.rtd\",,\"ContractData\",B12,\"NetLastTradeToday\",,\"T\")=\"\",\"\",IFERROR(IF(RTD(\"cqg.rtd\",,\"ContractData\",B12,\"NetLastTradeToday\",,\"T\")>0,\"+\",\"\")&TEXT(RTD(\"cqg.rtd\",,\"ContractData\",B12,\"NetLastTradeToday\",,\"T\"),W64),\"\")))","v":"-1.64"},null,0,0,null,null,null,null,null,0,0,{"$f":"RTD(\"cqg.rtd\", ,\"ContractData\", B12, \"TickSize\",, \"T\")","v":0.01}]
[null,"Symbol","Top 15 Description (NC)",null,null,null,"5-min","Bid","Last Trade","Ask","NC","%NC","Open","High","Low",null,"News"]
[null,{"$f":"Sheet2!N1","v":"NKLA"},{"$f":"IF(LEFT(Sheet2!P1,1)=\"\",\"\",IFERROR(RTD(\"cqg.rtd\",,\"ContractData\",Sheet2!P1,\"LongDescription\",,\"T\")&\" (\"&P14&\")\",\"\"))","v":"Nikola Corporation (+1.02)"},null,null,null,null,{"$f":"IF(LEFT(Sheet2!P1,1)=\"\",\"\",IFERROR(RTD(\"cqg.rtd\", ,\"ContractData\", Sheet2!P1, \"Bid\",, \"T\"),\"\"))","v":13.97},{"$f":"IF(LEFT(Sheet2!P1,1)=\"\",\"\",IFERROR(RTD(\"cqg.rtd\", ,\"ContractData\", Sheet2!P1, \"LastTrade\",, \"T\"),\"\"))","v":13.98},{"$f":"IF(LEFT(Sheet2!P1,1)=\"\",\"\",IFERROR(RTD(\"cqg.rtd\", ,\"ContractData\", Sheet2!P1, \"Ask\",, \"T\"),\"\"))","v":13.98},{"$f":"IF(LEFT(Sheet2!P1,1)=\"\",\"\",IFERROR(IF(RTD(\"cqg.rtd\", ,\"ContractData\", Sheet2!P1, \"NetLastTradeToday\",, \"T\")>0,\"+\",\"\")&TEXT(RTD(\"cqg.rtd\", ,\"ContractData\", Sheet2!P1, \"NetLastTradeToday\",, \"T\"),\"0.00\"),\"\"))","v":"+1.02"},{"$f":"IFERROR(RTD(\"cqg.rtd\", ,\"ContractData\", Sheet2!P1, \"PerCentNetLastTrade\",, \"T\")/100,\"\")","v":7.8703703703703706E-2},{"$f":"IF(LEFT(Sheet2!P1,1)=\"\",\"\",IFERROR(RTD(\"cqg.rtd\", ,\"ContractData\", Sheet2!P1, \"Open\",, \"T\"),\"\"))","v":13.35},{"$f":"IF(LEFT(Sheet2!P1,1)=\"\",\"\",IFERROR(RTD(\"cqg.rtd\", ,\"ContractData\", Sheet2!P1, \"High\",, \"T\"),\"\"))","v":14.030000000000001},{"$f":"IF(LEFT(Sheet2!P1,1)=\"\",\"\",IFERROR(RTD(\"cqg.rtd\", ,\"ContractData\", Sheet2!P1, \"Low\",, \"T\"),\"\"))","v":13.07},{"$f":"IF(LEFT(Sheet2!P1,1)=\"\",\"\",IFERROR(IF(RTD(\"cqg.rtd\", ,\"ContractData\", Sheet2!P1, \"NetLastTradeToday\",, \"T\")>0,\"+\",\"\")&TEXT(RTD(\"cqg.rtd\", ,\"ContractData\", Sheet2!P1, \"NetLastTradeToday\",, \"T\"),\"0.00\"),\"\"))","v":"+1.02"},{"$f":"Sheet2!Q1","v":0},{"$f":"IF(H14>I14,1,0)","v":0},{"$f":"IF(J14<I14,1,0)","v":0},null,null,null,null,null,0,{"$f":"IF(I14-O14<=2*AA14,1,0)","v":0},{"$f":"RTD(\"cqg.rtd\", ,\"ContractData\", Sheet2!P1, \"TickSize\",, \"T\")","v":0.01}]
[null,{"$f":"Sheet2!N2","v":"BLNK"},{"$f":"IF(LEFT(Sheet2!P2,1)=\"\",\"\",IFERROR(RTD(\"cqg.rtd\",,\"ContractData\",Sheet2!P2,\"LongDescription\",,\"T\")&\" (\"&P15&\")\",\"\"))","v":"Blink Charging Co. (+1.88)"},null,null,null,null,{"$f":"IF(LEFT(Sheet2!P2,1)=\"\",\"\",IFERROR(RTD(\"cqg.rtd\", ,\"ContractData\", Sheet2!P2, \"Bid\",, \"T\"),\"\"))","v":32.56},{"$f":"IF(LEFT(Sheet2!P2,1)=\"\",\"\",IFERROR(RTD(\"cqg.rtd\", ,\"ContractData\", Sheet2!P2, \"LastTrade\",, \"T\"),\"\"))","v":32.630000000000003},{"$f":"IF(LEFT(Sheet2!P2,1)=\"\",\"\",IFERROR(RTD(\"cqg.rtd\", ,\"ContractData\", Sheet2!P2, \"Ask\",, \"T\"),\"\"))","v":32.630000000000003},{"$f":"IF(LEFT(Sheet2!P2,1)=\"\",\"\",IFERROR(IF(RTD(\"cqg.rtd\", ,\"ContractData\", Sheet2!P2, \"NetLastTradeToday\",, \"T\")>0,\"+\",\"\")&TEXT(RTD(\"cqg.rtd\", ,\"ContractData\", Sheet2!P2, \"NetLastTradeToday\",, \"T\"),\"0.00\"),\"\"))","v":"+1.88"},{"$f":"IFERROR(RTD(\"cqg.rtd\", ,\"ContractData\", Sheet2!P2, \"PerCentNetLastTrade\",, \"T\")/100,\"\")","v":6.1138211382113825E-2},{"$f":"IF(LEFT(Sheet2!P2,1)=\"\",\"\",IFERROR(RTD(\"cqg.rtd\", ,\"ContractData\", Sheet2!P2, \"Open\",, \"T\"),\"\"))","v":31.44},{"$f":"IF(LEFT(Sheet2!P2,1)=\"\",\"\",IFERROR(RTD(\"cqg.rtd\", ,\"ContractData\", Sheet2!P2, \"High\",, \"T\"),\"\"))","v":32.700000000000003},{"$f":"IF(LEFT(Sheet2!P2,1)=\"\",\"\",IFERROR(RTD(\"cqg.rtd\", ,\"ContractData\", Sheet2!P2, \"Low\",, \"T\"),\"\"))","v":30.94},{"$f":"IF(LEFT(Sheet2!P2,1)=\"\",\"\",IFERROR(IF(RTD(\"cqg.rtd\", ,\"ContractData\", Sheet2!P2, \"NetLastTradeToday\",, \"T\")>0,\"+\",\"\")&TEXT(RTD(\"cqg.rtd\", ,\"ContractData\", Sheet2!P2, \"NetLastTradeToday\",, \"T\"),\"0.00\"),\"\"))","v":"+1.88"},{"$f":"Sheet2!Q2","v":0},{"$f":"IF(H15>I15,1,0)","v":0},{"$f":"IF(J15<I15,1,0)","v":0},null,null,null,null,null,{"$f":"IF(N15-I15<=2*AA15,1,0)","v":0},{"$f":"IF(I15-O15<=2*AA15,1,0)","v":0},{"$f":"RTD(\"cqg.rtd\", ,\"ContractData\", Sheet2!P2, \"TickSize\",, \"T\")","v":0.01}]
[null,{"$f":"Sheet2!N3","v":"LYFT"},{"$f":"IF(LEFT(Sheet2!P3,1)=\"\",\"\",IFERROR(RTD(\"cqg.rtd\",,\"ContractData\",Sheet2!P3,\"LongDescription\",,\"T\")&\" (\"&P16&\")\",\"\"))","v":"Lyft, Inc. Class A (+2.44)"},null,null,null,null,{"$f":"IF(LEFT(Sheet2!P3,1)=\"\",\"\",IFERROR(RTD(\"cqg.rtd\", ,\"ContractData\", Sheet2!P3, \"Bid\",, \"T\"),\"\"))","v":52.15},{"$f":"IF(LEFT(Sheet2!P3,1)=\"\",\"\",IFERROR(RTD(\"cqg.rtd\", ,\"ContractData\", Sheet2!P3, \"LastTrade\",, \"T\"),\"\"))","v":52.15},{"$f":"IF(LEFT(Sheet2!P3,1)=\"\",\"\",IFERROR(RTD(\"cqg.rtd\", ,\"ContractData\", Sheet2!P3, \"Ask\",, \"T\"),\"\"))","v":52.17},{"$f":"IF(LEFT(Sheet2!P3,1)=\"\",\"\",IFERROR(IF(RTD(\"cqg.rtd\", ,\"ContractData\", Sheet2!P3, \"NetLastTradeToday\",, \"T\")>0,\"+\",\"\")&TEXT(RTD(\"cqg.rtd\", ,\"ContractData\", Sheet2!P3, \"NetLastTradeToday\",, \"T\"),\"0.00\"),\"\"))","v":"+2.44"},{"$f":"IFERROR(RTD(\"cqg.rtd\", ,\"ContractData\", Sheet2!P3, \"PerCentNetLastTrade\",, \"T\")/100,\"\")","v":4.9084691209012273E-2},{"$f":"IF(LEFT(Sheet2!P3,1)=\"\",\"\",IFERROR(RTD(\"cqg.rtd\", ,\"ContractData\", Sheet2!P3, \"Open\",, \"T\"),\"\"))","v":51.11},{"$f":"IF(LEFT(Sheet2!P3,1)=\"\",\"\",IFERROR(RTD(\"cqg.rtd\", ,\"ContractData\", Sheet2!P3, \"High\",, \"T\"),\"\"))","v":52.38},{"$f":"IF(LEFT(Sheet2!P3,1)=\"\",\"\",IFERROR(RTD(\"cqg.rtd\", ,\"ContractData\", Sheet2!P3, \"Low\",, \"T\"),\"\"))","v":51.03},{"$f":"IF(LEFT(Sheet2!P3,1)=\"\",\"\",IFERROR(IF(RTD(\"cqg.rtd\", ,\"ContractData\", Sheet2!P3, \"NetLastTradeToday\",, \"T\")>0,\"+\",\"\")&TEXT(RTD(\"cqg.rtd\", ,\"ContractData\", Sheet2!P3, \"NetLastTradeToday\",, \"T\"),\"0.00\"),\"\"))","v":"+2.44"},{"$f":"Sheet2!Q3","v":0},0,0,null,null,null,null,null,{"$f":"IF(N16-I16<=2*AA16,1,0)","v":0},{"$f":"IF(I16-O16<=2*AA16,1,0)","v":0},{"$f":"RTD(\"cqg.rtd\", ,\"ContractData\", Sheet2!P3, \"TickSize\",, \"T\")","v":0.01}]
[null,{"$f":"Sheet2!N4","v":"UBER"},{"$f":"IF(LEFT(Sheet2!P4,1)=\"\",\"\",IFERROR(RTD(\"cqg.rtd\",,\"ContractData\",Sheet2!P4,\"LongDescription\",,\"T\")&\" (\"&P17&\")\",\"\"))","v":"Uber Technologies, Inc. (+1.86)"},null,null,null,null,{"$f":"IF(LEFT(Sheet2!P4,1)=\"\",\"\",IFERROR(RTD(\"cqg.rtd\", ,\"ContractData\", Sheet2!P4, \"Bid\",, \"T\"),\"\"))","v":49.370000000000005},{"$f":"IF(LEFT(Sheet2!P4,1)=\"\",\"\",IFERROR(RTD(\"cqg.rtd\", ,\"ContractData\", Sheet2!P4, \"LastTrade\",, \"T\"),\"\"))","v":49.370000000000005},{"$f":"IF(LEFT(Sheet2!P4,1)=\"\",\"\",IFERROR(RTD(\"cqg.rtd\", ,\"ContractData\", Sheet2!P4, \"Ask\",, \"T\"),\"\"))","v":49.39},{"$f":"IF(LEFT(Sheet2!P4,1)=\"\",\"\",IFERROR(IF(RTD(\"cqg.rtd\", ,\"ContractData\", Sheet2!P4, \"NetLastTradeToday\",, \"T\")>0,\"+\",\"\")&TEXT(RTD(\"cqg.rtd\", ,\"ContractData\", Sheet2!P4, \"NetLastTradeToday\",, \"T\"),\"0.00\"),\"\"))","v":"+1.86"},{"$f":"IFERROR(RTD(\"cqg.rtd\", ,\"ContractData\", Sheet2!P4, \"PerCentNetLastTrade\",, \"T\")/100,\"\")","v":3.9149652704693748E-2},{"$f":"IF(LEFT(Sheet2!P4,1)=\"\",\"\",IFERROR(RTD(\"cqg.rtd\", ,\"ContractData\", Sheet2!P4, \"Open\",, \"T\"),\"\"))","v":49.67},{"$f":"IF(LEFT(Sheet2!P4,1)=\"\",\"\",IFERROR(RTD(\"cqg.rtd\", ,\"ContractData\", Sheet2!P4, \"High\",, \"T\"),\"\"))","v":49.9},{"$f":"IF(LEFT(Sheet2!P4,1)=\"\",\"\",IFERROR(RTD(\"cqg.rtd\", ,\"ContractData\", Sheet2!P4, \"Low\",, \"T\"),\"\"))","v":48.52},{"$f":"IF(LEFT(Sheet2!P4,1)=\"\",\"\",IFERROR(IF(RTD(\"cqg.rtd\", ,\"ContractData\", Sheet2!P4, \"NetLastTradeToday\",, \"T\")>0,\"+\",\"\")&TEXT(RTD(\"cqg.rtd\", ,\"ContractData\", Sheet2!P4, \"NetLastTradeToday\",, \"T\"),\"0.00\"),\"\"))","v":"+1.86"},{"$f":"Sheet2!Q4","v":0},0,0,null,null,null,null,null,0,0,{"$f":"RTD(\"cqg.rtd\", ,\"ContractData\", Sheet2!P4, \"TickSize\",, \"T\")","v":0.01}]
[null,{"$f":"Sheet2!N5","v":"VNE"},{"$f":"IF(LEFT(Sheet2!P5,1)=\"\",\"\",IFERROR(RTD(\"cqg.rtd\",,\"ContractData\",Sheet2!P5,\"LongDescription\",,\"T\")&\" (\"&P18&\")\",\"\"))","v":"Veoneer, Inc. (+0.72)"},null,null,null,null,{"$f":"IF(LEFT(Sheet2!P5,1)=\"\",\"\",IFERROR(RTD(\"cqg.rtd\", ,\"ContractData\", Sheet2!P5, \"Bid\",, \"T\"),\"\"))","v":22.87},{"$f":"IF(LEFT(Sheet2!P5,1)=\"\",\"\",IFERROR(RTD(\"cqg.rtd\", ,\"ContractData\", Sheet2!P5, \"LastTrade\",, \"T\"),\"\"))","v":22.900000000000002},{"$f":"IF(LEFT(Sheet2!P5,1)=\"\",\"\",IFERROR(RTD(\"cqg.rtd\", ,\"ContractData\", Sheet2!P5, \"Ask\",, \"T\"),\"\"))","v":22.97},{"$f":"IF(LEFT(Sheet2!P5,1)=\"\",\"\",IFERROR(IF(RTD(\"cqg.rtd\", ,\"ContractData\", Sheet2!P5, \"NetLastTradeToday\",, \"T\")>0,\"+\",\"\")&TEXT(RTD(\"cqg.rtd\", ,\"ContractData\", Sheet2!P5, \"NetLastTradeToday\",, \"T\"),\"0.00\"),\"\"))","v":"+0.72"},{"$f":"IFERROR(RTD(\"cqg.rtd\", ,\"ContractData\", Sheet2!P5, \"PerCentNetLastTrade\",, \"T\")/100,\"\")","v":3.2461677186654644E-2},{"$f":"IF(LEFT(Sheet2!P5,1)=\"\",\"\",IFERROR(RTD(\"cqg.rtd\", ,\"ContractData\", Sheet2!P5, \"Open\",, \"T\"),\"\"))","v":22.61},{"$f":"IF(LEFT(Sheet2!P5,1)=\"\",\"\",IFERROR(RTD(\"cqg.rtd\", ,\"ContractData\", Sheet2!P5, \"High\",, \"T\"),\"\"))","v":22.900000000000002},{"$f":"IF(LEFT(Sheet2!P5,1)=\"\",\"\",IFERROR(RTD(\"cqg.rtd\", ,\"ContractData\", Sheet2!P5, \"Low\",, \"T\"),\"\"))","v":22.51},{"$f":"IF(LEFT(Sheet2!P5,1)=\"\",\"\",IFERROR(IF(RTD(\"cqg.rtd\", ,\"ContractData\", Sheet2!P5, \"NetLastTradeToday\",, \"T\")>0,\"+\",\"\")&TEXT(RTD(\"cqg.rtd\", ,\"ContractData\", Sheet2!P5, \"NetLastTradeToday\",, \"T\"),\"0.00\"),\"\"))","v":"+0.72"},{"$f":"Sheet2!Q5","v":0},0,0,null,null,null,null,null,1,0,{"$f":"RTD(\"cqg.rtd\", ,\"ContractData\", Sheet2!P5, \"TickSize\",, \"T\")","v":0.01}]
[null,{"$f":"Sheet2!N6","v":"F"},{"$f":"IF(LEFT(Sheet2!P6,1)=\"\",\"\",IFERROR(RTD(\"cqg.rtd\",,\"ContractData\",Sheet2!P6,\"LongDescription\",,\"T\")&\" (\"&P19&\")\",\"\"))","v":"Ford Motor Company (+0.30)"},null,null,null,null,{"$f":"IF(LEFT(Sheet2!P6,1)=\"\",\"\",IFERROR(RTD(\"cqg.rtd\", ,\"ContractData\", Sheet2!P6, \"Bid\",, \"T\"),\"\"))","v":12.44},{"$f":"IF(LEFT(Sheet2!P6,1)=\"\",\"\",IFERROR(RTD(\"cqg.rtd\", ,\"ContractData\", Sheet2!P6, \"LastTrade\",, \"T\"),\"\"))","v":12.450000000000001},{"$f":"IF(LEFT(Sheet2!P6,1)=\"\",\"\",IFERROR(RTD(\"cqg.rtd\", ,\"ContractData\", Sheet2!P6, \"Ask\",, \"T\"),\"\"))","v":12.450000000000001},{"$f":"IF(LEFT(Sheet2!P6,1)=\"\",\"\",IFERROR(IF(RTD(\"cqg.rtd\", ,\"ContractData\", Sheet2!P6, \"NetLastTradeToday\",, \"T\")>0,\"+\",\"\")&TEXT(RTD(\"cqg.rtd\", ,\"ContractData\", Sheet2!P6, \"NetLastTradeToday\",, \"T\"),\"0.00\"),\"\"))","v":"+0.30"},{"$f":"IFERROR(RTD(\"cqg.rtd\", ,\"ContractData\", Sheet2!P6, \"PerCentNetLastTrade\",, \"T\")/100,\"\")","v":2.4691358024691357E-2},{"$f":"IF(LEFT(Sheet2!P6,1)=\"\",\"\",IFERROR(RTD(\"cqg.rtd\", ,\"ContractData\", Sheet2!P6, \"Open\",, \"T\"),\"\"))","v":12.290000000000001},{"$f":"IF(LEFT(Sheet2!P6,1)=\"\",\"\",IFERROR(RTD(\"cqg.rtd\", ,\"ContractData\", Sheet2!P6, \"High\",, \"T\"),\"\"))","v":12.530000000000001},{"$f":"IF(LEFT(Sheet2!P6,1)=\"\",\"\",IFERROR(RTD(\"cqg.rtd\", ,\"ContractData\", Sheet2!P6, \"Low\",, \"T\"),\"\"))","v":12.25},{"$f":"IF(LEFT(Sheet2!P6,1)=\"\",\"\",IFERROR(IF(RTD(\"cqg.rtd\", ,\"ContractData\", Sheet2!P6, \"NetLastTradeToday\",, \"T\")>0,\"+\",\"\")&TEXT(RTD(\"cqg.rtd\", ,\"ContractData\", Sheet2!P6, \"NetLastTradeToday\",, \"T\"),\"0.00\"),\"\"))","v":"+0.30"},{"$f":"Sheet2!Q6","v":0},0,0,null,null,null,null,null,0,0,{"$f":"RTD(\"cqg.rtd\", ,\"ContractData\", Sheet2!P6, \"TickSize\",, \"T\")","v":0.01}]
[null,{"$f":"Sheet2!N7","v":"PLUG"},{"$f":"IF(LEFT(Sheet2!P7,1)=\"\",\"\",IFERROR(RTD(\"cqg.rtd\",,\"ContractData\",Sheet2!P7,\"LongDescription\",,\"T\")&\" (\"&P20&\")\",\"\"))","v":"Plug Power, Inc. (+0.59)"},null,null,null,null,{"$f":"IF(LEFT(Sheet2!P7,1)=\"\",\"\",IFERROR(RTD(\"cqg.rtd\", ,\"ContractData\", Sheet2!P7, \"Bid\",, \"T\"),\"\"))","v":25.53},{"$f":"IF(LEFT(Sheet2!P7,1)=\"\",\"\",IFERROR(RTD(\"cqg.rtd\", ,\"ContractData\", Sheet2!P7, \"LastTrade\",, \"T\"),\"\"))","v":25.53},{"$f":"IF(LEFT(Sheet2!P7,1)=\"\",\"\",IFERROR(RTD(\"cqg.rtd\", ,\"ContractData\", Sheet2!P7, \"Ask\",, \"T\"),\"\"))","v":25.54},{"$f":"IF(LEFT(Sheet2!P7,1)=\"\",\"\",IFERROR(IF(RTD(\"cqg.rtd\", ,\"ContractData\", Sheet2!P7, \"NetLastTradeToday\",, \"T\")>0,\"+\",\"\")&TEXT(RTD(\"cqg.rtd\", ,\"ContractData\", Sheet2!P7, \"NetLastTradeToday\",, \"T\"),\"0.00\"),\"\"))","v":"+0.59"},{"$f":"IFERROR(RTD(\"cqg.rtd\", ,\"ContractData\", Sheet2!P7, \"PerCentNetLastTrade\",, \"T\")/100,\"\")","v":2.3656776263031275E-2},{"$f":"IF(LEFT(Sheet2!P7,1)=\"\",\"\",IFERROR(RTD(\"cqg.rtd\", ,\"ContractData\", Sheet2!P7, \"Open\",, \"T\"),\"\"))","v":25.310000000000002},{"$f":"IF(LEFT(Sheet2!P7,1)=\"\",\"\",IFERROR(RTD(\"cqg.rtd\", ,\"ContractData\", Sheet2!P7, \"High\",, \"T\"),\"\"))","v":25.61},{"$f":"IF(LEFT(Sheet2!P7,1)=\"\",\"\",IFERROR(RTD(\"cqg.rtd\", ,\"ContractData\", Sheet2!P7, \"Low\",, \"T\"),\"\"))","v":24.76},{"$f":"IF(LEFT(Sheet2!P7,1)=\"\",\"\",IFERROR(IF(RTD(\"cqg.rtd\", ,\"ContractData\", Sheet2!P7, \"NetLastTradeToday\",, \"T\")>0,\"+\",\"\")&TEXT(RTD(\"cqg.rtd\", ,\"ContractData\", Sheet2!P7, \"NetLastTradeToday\",, \"T\"),\"0.00\"),\"\"))","v":"+0.59"},{"$f":"Sheet2!Q7","v":0},0,0,null,null,null,null,null,0,0,{"$f":"RTD(\"cqg.rtd\", ,\"ContractData\", Sheet2!P7, \"TickSize\",, \"T\")","v":0.01}]
[null,{"$f":"Sheet2!N8","v":"GILT"},{"$f":"IF(LEFT(Sheet2!P8,1)=\"\",\"\",IFERROR(RTD(\"cqg.rtd\",,\"ContractData\",Sheet2!P8,\"LongDescription\",,\"T\")&\" (\"&P21&\")\",\"\"))","v":"Gilat Satellite Ntks Ltd (+0.19)"},null,null,null,null,{"$f":"IF(LEFT(Sheet2!P8,1)=\"\",\"\",IFERROR(RTD(\"cqg.rtd\", ,\"ContractData\", Sheet2!P8, \"Bid\",, \"T\"),\"\"))","v":8.9500000000000011},{"$f":"IF(LEFT(Sheet2!P8,1)=\"\",\"\",IFERROR(RTD(\"cqg.rtd\", ,\"ContractData\", Sheet2!P8, \"LastTrade\",, \"T\"),\"\"))","v":8.98},{"$f":"IF(LEFT(Sheet2!P8,1)=\"\",\"\",IFERROR(RTD(\"cqg.rtd\", ,\"ContractData\", Sheet2!P8, \"Ask\",, \"T\"),\"\"))","v":8.99},{"$f":"IF(LEFT(Sheet2!P8,1)=\"\",\"\",IFERROR(IF(RTD(\"cqg.rtd\", ,\"ContractData\", Sheet2!P8, \"NetLastTradeToday\",, \"T\")>0,\"+\",\"\")&TEXT(RTD(\"cqg.rtd\", ,\"ContractData\", Sheet2!P8, \"NetLastTradeToday\",, \"T\"),\"0.00\"),\"\"))","v":"+0.19"},{"$f":"IFERROR(RTD(\"cqg.rtd\", ,\"ContractData\", Sheet2!P8, \"PerCentNetLastTrade\",, \"T\")/100,\"\")","v":2.1615472127417518E-2},{"$f":"IF(LEFT(Sheet2!P8,1)=\"\",\"\",IFERROR(RTD(\"cqg.rtd\", ,\"ContractData\", Sheet2!P8, \"Open\",, \"T\"),\"\"))","v":8.9},{"$f":"IF(LEFT(Sheet2!P8,1)=\"\",\"\",IFERROR(RTD(\"cqg.rtd\", ,\"ContractData\", Sheet2!P8, \"High\",, \"T\"),\"\"))","v":8.98},{"$f":"IF(LEFT(Sheet2!P8,1)=\"\",\"\",IFERROR(RTD(\"cqg.rtd\", ,\"ContractData\", Sheet2!P8, \"Low\",, \"T\"),\"\"))","v":8.7799999999999994},{"$f":"IF(LEFT(Sheet2!P8,1)=\"\",\"\",IFERROR(IF(RTD(\"cqg.rtd\", ,\"ContractData\", Sheet2!P8, \"NetLastTradeToday\",, \"T\")>0,\"+\",\"\")&TEXT(RTD(\"cqg.rtd\", ,\"ContractData\", Sheet2!P8, \"NetLastTradeToday\",, \"T\"),\"0.00\"),\"\"))","v":"+0.19"},{"$f":"Sheet2!Q8","v":0},0,0,null,null,null,null,null,1,0,{"$f":"RTD(\"cqg.rtd\", ,\"ContractData\", Sheet2!P8, \"TickSize\",, \"T\")","v":0.01}]
[null,{"$f":"Sheet2!N9","v":"AXL"},{"$f":"IF(LEFT(Sheet2!P9,1)=\"\",\"\",IFERROR(RTD(\"cqg.rtd\",,\"ContractData\",Sheet2!P9,\"LongDescription\",,\"T\")&\" (\"&P22&\")\",\"\"))","v":"American Axle and Manufac (+0.22)"},null,null,null,null,{"$f":"IF(LEFT(Sheet2!P9,1)=\"\",\"\",IFERROR(RTD(\"cqg.rtd\", ,\"ContractData\", Sheet2!P9, \"Bid\",, \"T\"),\"\"))","v":11.02},{"$f":"IF(LEFT(Sheet2!P9,1)=\"\",\"\",IFERROR(RTD(\"cqg.rtd\", ,\"ContractData\", Sheet2!P9, \"LastTrade\",, \"T\"),\"\"))","v":11.03},{"$f":"IF(LEFT(Sheet2!P9,1)=\"\",\"\",IFERROR(RTD(\"cqg.rtd\", ,\"ContractData\", Sheet2!P9, \"Ask\",, \"T\"),\"\"))","v":11.040000000000001},{"$f":"IF(LEFT(Sheet2!P9,1)=\"\",\"\",IFERROR(IF(RTD(\"cqg.rtd\", ,\"ContractData\", Sheet2!P9, \"NetLastTradeToday\",, \"T\")>0,\"+\",\"\")&TEXT(RTD(\"cqg.rtd\", ,\"ContractData\", Sheet2!P9, \"NetLastTradeToday\",, \"T\"),\"0.00\"),\"\"))","v":"+0.22"},{"$f":"IFERROR(RTD(\"cqg.rtd\", ,\"ContractData\", Sheet2!P9, \"PerCentNetLastTrade\",, \"T\")/100,\"\")","v":2.0351526364477335E-2},{"$f":"IF(LEFT(Sheet2!P9,1)=\"\",\"\",IFERROR(RTD(\"cqg.rtd\", ,\"ContractData\", Sheet2!P9, \"Open\",, \"T\"),\"\"))","v":10.92},{"$f":"IF(LEFT(Sheet2!P9,1)=\"\",\"\",IFERROR(RTD(\"cqg.rtd\", ,\"ContractData\", Sheet2!P9, \"High\",, \"T\"),\"\"))","v":11.05},{"$f":"IF(LEFT(Sheet2!P9,1)=\"\",\"\",IFERROR(RTD(\"cqg.rtd\", ,\"ContractData\", Sheet2!P9, \"Low\",, \"T\"),\"\"))","v":10.81},{"$f":"IF(LEFT(Sheet2!P9,1)=\"\",\"\",IFERROR(IF(RTD(\"cqg.rtd\", ,\"ContractData\", Sheet2!P9, \"NetLastTradeToday\",, \"T\")>0,\"+\",\"\")&TEXT(RTD(\"cqg.rtd\", ,\"ContractData\", Sheet2!P9, \"NetLastTradeToday\",, \"T\"),\"0.00\"),\"\"))","v":"+0.22"},{"$f":"Sheet2!Q9","v":0},0,0,null,null,null,null,null,0,0,{"$f":"RTD(\"cqg.rtd\", ,\"ContractData\", Sheet2!P9, \"TickSize\",, \"T\")","v":0.01}]
[null,{"$f":"Sheet2!N10","v":"BLDP"},{"$f":"IF(LEFT(Sheet2!P10,1)=\"\",\"\",IFERROR(RTD(\"cqg.rtd\",,\"ContractData\",Sheet2!P10,\"LongDescription\",,\"T\")&\" (\"&P23&\")\",\"\"))","v":"Ballard Power System (+0.29)"},null,null,null,null,{"$f":"IF(LEFT(Sheet2!P10,1)=\"\",\"\",IFERROR(RTD(\"cqg.rtd\", ,\"ContractData\", Sheet2!P10, \"Bid\",, \"T\"),\"\"))","v":14.57},{"$f":"IF(LEFT(Sheet2!P10,1)=\"\",\"\",IFERROR(RTD(\"cqg.rtd\", ,\"ContractData\", Sheet2!P10, \"LastTrade\",, \"T\"),\"\"))","v":14.58},{"$f":"IF(LEFT(Sheet2!P10,1)=\"\",\"\",IFERROR(RTD(\"cqg.rtd\", ,\"ContractData\", Sheet2!P10, \"Ask\",, \"T\"),\"\"))","v":14.58},{"$f":"IF(LEFT(Sheet2!P10,1)=\"\",\"\",IFERROR(IF(RTD(\"cqg.rtd\", ,\"ContractData\", Sheet2!P10, \"NetLastTradeToday\",, \"T\")>0,\"+\",\"\")&TEXT(RTD(\"cqg.rtd\", ,\"ContractData\", Sheet2!P10, \"NetLastTradeToday\",, \"T\"),\"0.00\"),\"\"))","v":"+0.29"},{"$f":"IFERROR(RTD(\"cqg.rtd\", ,\"ContractData\", Sheet2!P10, \"PerCentNetLastTrade\",, \"T\")/100,\"\")","v":2.0293911826452064E-2},{"$f":"IF(LEFT(Sheet2!P10,1)=\"\",\"\",IFERROR(RTD(\"cqg.rtd\", ,\"ContractData\", Sheet2!P10, \"Open\",, \"T\"),\"\"))","v":14.42},{"$f":"IF(LEFT(Sheet2!P10,1)=\"\",\"\",IFERROR(RTD(\"cqg.rtd\", ,\"ContractData\", Sheet2!P10, \"High\",, \"T\"),\"\"))","v":14.61},{"$f":"IF(LEFT(Sheet2!P10,1)=\"\",\"\",IFERROR(RTD(\"cqg.rtd\", ,\"ContractData\", Sheet2!P10, \"Low\",, \"T\"),\"\"))","v":14.030000000000001},{"$f":"IF(LEFT(Sheet2!P10,1)=\"\",\"\",IFERROR(IF(RTD(\"cqg.rtd\", ,\"ContractData\", Sheet2!P10, \"NetLastTradeToday\",, \"T\")>0,\"+\",\"\")&TEXT(RTD(\"cqg.rtd\", ,\"ContractData\", Sheet2!P10, \"NetLastTradeToday\",, \"T\"),\"0.00\"),\"\"))","v":"+0.29"},{"$f":"Sheet2!Q10","v":0},0,0,null,null,null,null,null,0,0,{"$f":"RTD(\"cqg.rtd\", ,\"ContractData\", Sheet2!P10, \"TickSize\",, \"T\")","v":0.01}]
[null,{"$f":"Sheet2!N11","v":"TTM"},{"$f":"IF(LEFT(Sheet2!P11,1)=\"\",\"\",IFERROR(RTD(\"cqg.rtd\",,\"ContractData\",Sheet2!P11,\"LongDescription\",,\"T\")&\" (\"&P24&\")\",\"\"))","v":"Tata Motors Limited (+0.44)"},null,null,null,null,{"$f":"IF(LEFT(Sheet2!P11,1)=\"\",\"\",IFERROR(RTD(\"cqg.rtd\", ,\"ContractData\", Sheet2!P11, \"Bid\",, \"T\"),\"\"))","v":22.32},{"$f":"IF(LEFT(Sheet2!P11,1)=\"\",\"\",IFERROR(RTD(\"cqg.rtd\", ,\"ContractData\", Sheet2!P11, \"LastTrade\",, \"T\"),\"\"))","v":22.34},{"$f":"IF(LEFT(Sheet2!P11,1)=\"\",\"\",IFERROR(RTD(\"cqg.rtd\", ,\"ContractData\", Sheet2!P11, \"Ask\",, \"T\"),\"\"))","v":22.35},{"$f":"IF(LEFT(Sheet2!P11,1)=\"\",\"\",IFERROR(IF(RTD(\"cqg.rtd\", ,\"ContractData\", Sheet2!P11, \"NetLastTradeToday\",, \"T\")>0,\"+\",\"\")&TEXT(RTD(\"cqg.rtd\", ,\"ContractData\", Sheet2!P11, \"NetLastTradeToday\",, \"T\"),\"0.00\"),\"\"))","v":"+0.44"},{"$f":"IFERROR(RTD(\"cqg.rtd\", ,\"ContractData\", Sheet2!P11, \"PerCentNetLastTrade\",, \"T\")/100,\"\")","v":2.0091324200913242E-2},{"$f":"IF(LEFT(Sheet2!P11,1)=\"\",\"\",IFERROR(RTD(\"cqg.rtd\", ,\"ContractData\", Sheet2!P11, \"Open\",, \"T\"),\"\"))","v":21.79},{"$f":"IF(LEFT(Sheet2!P11,1)=\"\",\"\",IFERROR(RTD(\"cqg.rtd\", ,\"ContractData\", Sheet2!P11, \"High\",, \"T\"),\"\"))","v":22.36},{"$f":"IF(LEFT(Sheet2!P11,1)=\"\",\"\",IFERROR(RTD(\"cqg.rtd\", ,\"ContractData\", Sheet2!P11, \"Low\",, \"T\"),\"\"))","v":21.79},{"$f":"IF(LEFT(Sheet2!P11,1)=\"\",\"\",IFERROR(IF(RTD(\"cqg.rtd\", ,\"ContractData\", Sheet2!P11, \"NetLastTradeToday\",, \"T\")>0,\"+\",\"\")&TEXT(RTD(\"cqg.rtd\", ,\"ContractData\", Sheet2!P11, \"NetLastTradeToday\",, \"T\"),\"0.00\"),\"\"))","v":"+0.44"},{"$f":"Sheet2!Q11","v":0},0,0,null,null,null,null,null,1,0,{"$f":"RTD(\"cqg.rtd\", ,\"ContractData\", Sheet2!P11, \"TickSize\",, \"T\")","v":0.01}]
[null,{"$f":"Sheet2!N12","v":"WKHS"},{"$f":"IF(LEFT(Sheet2!P12,1)=\"\",\"\",IFERROR(RTD(\"cqg.rtd\",,\"ContractData\",Sheet2!P12,\"LongDescription\",,\"T\")&\" (\"&P25&\")\",\"\"))","v":"Workhorse Group, Inc. (+0.16)"},null,null,null,null,{"$f":"IF(LEFT(Sheet2!P12,1)=\"\",\"\",IFERROR(RTD(\"cqg.rtd\", ,\"ContractData\", Sheet2!P12, \"Bid\",, \"T\"),\"\"))","v":8.41},{"$f":"IF(LEFT(Sheet2!P12,1)=\"\",\"\",IFERROR(RTD(\"cqg.rtd\", ,\"ContractData\", Sheet2!P12, \"LastTrade\",, \"T\"),\"\"))","v":8.41},{"$f":"IF(LEFT(Sheet2!P12,1)=\"\",\"\",IFERROR(RTD(\"cqg.rtd\", ,\"ContractData\", Sheet2!P12, \"Ask\",, \"T\"),\"\"))","v":8.42},{"$f":"IF(LEFT(Sheet2!P12,1)=\"\",\"\",IFERROR(IF(RTD(\"cqg.rtd\", ,\"ContractData\", Sheet2!P12, \"NetLastTradeToday\",, \"T\")>0,\"+\",\"\")&TEXT(RTD(\"cqg.rtd\", ,\"ContractData\", Sheet2!P12, \"NetLastTradeToday\",, \"T\"),\"0.00\"),\"\"))","v":"+0.16"},{"$f":"IFERROR(RTD(\"cqg.rtd\", ,\"ContractData\", Sheet2!P12, \"PerCentNetLastTrade\",, \"T\")/100,\"\")","v":1.9393939393939394E-2},{"$f":"IF(LEFT(Sheet2!P12,1)=\"\",\"\",IFERROR(RTD(\"cqg.rtd\", ,\"ContractData\", Sheet2!P12, \"Open\",, \"T\"),\"\"))","v":8.27},{"$f":"IF(LEFT(Sheet2!P12,1)=\"\",\"\",IFERROR(RTD(\"cqg.rtd\", ,\"ContractData\", Sheet2!P12, \"High\",, \"T\"),\"\"))","v":8.4700000000000006},{"$f":"IF(LEFT(Sheet2!P12,1)=\"\",\"\",IFERROR(RTD(\"cqg.rtd\", ,\"ContractData\", Sheet2!P12, \"Low\",, \"T\"),\"\"))","v":8.1},{"$f":"IF(LEFT(Sheet2!P12,1)=\"\",\"\",IFERROR(IF(RTD(\"cqg.rtd\", ,\"ContractData\", Sheet2!P12, \"NetLastTradeToday\",, \"T\")>0,\"+\",\"\")&TEXT(RTD(\"cqg.rtd\", ,\"ContractData\", Sheet2!P12, \"NetLastTradeToday\",, \"T\"),\"0.00\"),\"\"))","v":"+0.16"},{"$f":"Sheet2!Q12","v":0},0,0,null,null,null,null,null,0,0,{"$f":"RTD(\"cqg.rtd\", ,\"ContractData\", Sheet2!P12, \"TickSize\",, \"T\")","v":0.01}]
[null,{"$f":"Sheet2!N13","v":"HMC"},{"$f":"IF(LEFT(Sheet2!P13,1)=\"\",\"\",IFERROR(RTD(\"cqg.rtd\",,\"ContractData\",Sheet2!P13,\"LongDescription\",,\"T\")&\" (\"&P26&\")\",\"\"))","v":"Honda Motor Co Ltd (+0.57)"},null,null,null,null,{"$f":"IF(LEFT(Sheet2!P13,1)=\"\",\"\",IFERROR(RTD(\"cqg.rtd\", ,\"ContractData\", Sheet2!P13, \"Bid\",, \"T\"),\"\"))","v":30.47},{"$f":"IF(LEFT(Sheet2!P13,1)=\"\",\"\",IFERROR(RTD(\"cqg.rtd\", ,\"ContractData\", Sheet2!P13, \"LastTrade\",, \"T\"),\"\"))","v":30.47},{"$f":"IF(LEFT(Sheet2!P13,1)=\"\",\"\",IFERROR(RTD(\"cqg.rtd\", ,\"ContractData\", Sheet2!P13, \"Ask\",, \"T\"),\"\"))","v":30.48},{"$f":"IF(LEFT(Sheet2!P13,1)=\"\",\"\",IFERROR(IF(RTD(\"cqg.rtd\", ,\"ContractData\", Sheet2!P13, \"NetLastTradeToday\",, \"T\")>0,\"+\",\"\")&TEXT(RTD(\"cqg.rtd\", ,\"ContractData\", Sheet2!P13, \"NetLastTradeToday\",, \"T\"),\"0.00\"),\"\"))","v":"+0.57"},{"$f":"IFERROR(RTD(\"cqg.rtd\", ,\"ContractData\", Sheet2!P13, \"PerCentNetLastTrade\",, \"T\")/100,\"\")","v":1.9063545150501671E-2},{"$f":"IF(LEFT(Sheet2!P13,1)=\"\",\"\",IFERROR(RTD(\"cqg.rtd\", ,\"ContractData\", Sheet2!P13, \"Open\",, \"T\"),\"\"))","v":30.52},{"$f":"IF(LEFT(Sheet2!P13,1)=\"\",\"\",IFERROR(RTD(\"cqg.rtd\", ,\"ContractData\", Sheet2!P13, \"High\",, \"T\"),\"\"))","v":30.78},{"$f":"IF(LEFT(Sheet2!P13,1)=\"\",\"\",IFERROR(RTD(\"cqg.rtd\", ,\"ContractData\", Sheet2!P13, \"Low\",, \"T\"),\"\"))","v":30.36},{"$f":"IF(LEFT(Sheet2!P13,1)=\"\",\"\",IFERROR(IF(RTD(\"cqg.rtd\", ,\"ContractData\", Sheet2!P13, \"NetLastTradeToday\",, \"T\")>0,\"+\",\"\")&TEXT(RTD(\"cqg.rtd\", ,\"ContractData\", Sheet2!P13, \"NetLastTradeToday\",, \"T\"),\"0.00\"),\"\"))","v":"+0.57"},{"$f":"Sheet2!Q13","v":0},0,0,null,null,null,null,null,0,0,{"$f":"RTD(\"cqg.rtd\", ,\"ContractData\", Sheet2!P13, \"TickSize\",, \"T\")","v":0.01}]
[null,{"$f":"Sheet2!N14","v":"NIU"},{"$f":"IF(LEFT(Sheet2!P14,1)=\"\",\"\",IFERROR(RTD(\"cqg.rtd\",,\"ContractData\",Sheet2!P14,\"LongDescription\",,\"T\")&\" (\"&P27&\")\",\"\"))","v":"Niu Technologies (+0.53)"},null,null,null,null,{"$f":"IF(LEFT(Sheet2!P14,1)=\"\",\"\",IFERROR(RTD(\"cqg.rtd\", ,\"ContractData\", Sheet2!P14, \"Bid\",, \"T\"),\"\"))","v":29.240000000000002},{"$f":"IF(LEFT(Sheet2!P14,1)=\"\",\"\",IFERROR(RTD(\"cqg.rtd\", ,\"ContractData\", Sheet2!P14, \"LastTrade\",, \"T\"),\"\"))","v":29.38},{"$f":"IF(LEFT(Sheet2!P14,1)=\"\",\"\",IFERROR(RTD(\"cqg.rtd\", ,\"ContractData\", Sheet2!P14, \"Ask\",, \"T\"),\"\"))","v":29.39},{"$f":"IF(LEFT(Sheet2!P14,1)=\"\",\"\",IFERROR(IF(RTD(\"cqg.rtd\", ,\"ContractData\", Sheet2!P14, \"NetLastTradeToday\",, \"T\")>0,\"+\",\"\")&TEXT(RTD(\"cqg.rtd\", ,\"ContractData\", Sheet2!P14, \"NetLastTradeToday\",, \"T\"),\"0.00\"),\"\"))","v":"+0.53"},{"$f":"IFERROR(RTD(\"cqg.rtd\", ,\"ContractData\", Sheet2!P14, \"PerCentNetLastTrade\",, \"T\")/100,\"\")","v":1.8370883882149046E-2},{"$f":"IF(LEFT(Sheet2!P14,1)=\"\",\"\",IFERROR(RTD(\"cqg.rtd\", ,\"ContractData\", Sheet2!P14, \"Open\",, \"T\"),\"\"))","v":28.85},{"$f":"IF(LEFT(Sheet2!P14,1)=\"\",\"\",IFERROR(RTD(\"cqg.rtd\", ,\"ContractData\", Sheet2!P14, \"High\",, \"T\"),\"\"))","v":29.490000000000002},{"$f":"IF(LEFT(Sheet2!P14,1)=\"\",\"\",IFERROR(RTD(\"cqg.rtd\", ,\"ContractData\", Sheet2!P14, \"Low\",, \"T\"),\"\"))","v":28.85},{"$f":"IF(LEFT(Sheet2!P14,1)=\"\",\"\",IFERROR(IF(RTD(\"cqg.rtd\", ,\"ContractData\", Sheet2!P14, \"NetLastTradeToday\",, \"T\")>0,\"+\",\"\")&TEXT(RTD(\"cqg.rtd\", ,\"ContractData\", Sheet2!P14, \"NetLastTradeToday\",, \"T\"),\"0.00\"),\"\"))","v":"+0.53"},{"$f":"Sheet2!Q14","v":0},0,0,null,null,null,null,null,0,0,{"$f":"RTD(\"cqg.rtd\", ,\"ContractData\", Sheet2!P14, \"TickSize\",, \"T\")","v":0.01}]
[null,{"$f":"Sheet2!N15","v":"TM"},{"$f":"IF(LEFT(Sheet2!P15,1)=\"\",\"\",IFERROR(RTD(\"cqg.rtd\",,\"ContractData\",Sheet2!P15,\"LongDescription\",,\"T\")&\" (\"&P28&\")\",\"\"))","v":"Toyota Motor Corporation ADR (+2.78)"},null,null,null,null,{"$f":"IF(LEFT(Sheet2!P15,1)=\"\",\"\",IFERROR(RTD(\"cqg.rtd\", ,\"ContractData\", Sheet2!P15, \"Bid\",, \"T\"),\"\"))","v":161.45000000000002},{"$f":"IF(LEFT(Sheet2!P15,1)=\"\",\"\",IFERROR(RTD(\"cqg.rtd\", ,\"ContractData\", Sheet2!P15, \"LastTrade\",, \"T\"),\"\"))","v":161.46},{"$f":"IF(LEFT(Sheet2!P15,1)=\"\",\"\",IFERROR(RTD(\"cqg.rtd\", ,\"ContractData\", Sheet2!P15, \"Ask\",, \"T\"),\"\"))","v":161.75},{"$f":"IF(LEFT(Sheet2!P15,1)=\"\",\"\",IFERROR(IF(RTD(\"cqg.rtd\", ,\"ContractData\", Sheet2!P15, \"NetLastTradeToday\",, \"T\")>0,\"+\",\"\")&TEXT(RTD(\"cqg.rtd\", ,\"ContractData\", Sheet2!P15, \"NetLastTradeToday\",, \"T\"),\"0.00\"),\"\"))","v":"+2.78"},{"$f":"IFERROR(RTD(\"cqg.rtd\", ,\"ContractData\", Sheet2!P15, \"PerCentNetLastTrade\",, \"T\")/100,\"\")","v":1.7519536173430803E-2},{"$f":"IF(LEFT(Sheet2!P15,1)=\"\",\"\",IFERROR(RTD(\"cqg.rtd\", ,\"ContractData\", Sheet2!P15, \"Open\",, \"T\"),\"\"))","v":160.46},{"$f":"IF(LEFT(Sheet2!P15,1)=\"\",\"\",IFERROR(RTD(\"cqg.rtd\", ,\"ContractData\", Sheet2!P15, \"High\",, \"T\"),\"\"))","v":161.91},{"$f":"IF(LEFT(Sheet2!P15,1)=\"\",\"\",IFERROR(RTD(\"cqg.rtd\", ,\"ContractData\", Sheet2!P15, \"Low\",, \"T\"),\"\"))","v":160.32},{"$f":"IF(LEFT(Sheet2!P15,1)=\"\",\"\",IFERROR(IF(RTD(\"cqg.rtd\", ,\"ContractData\", Sheet2!P15, \"NetLastTradeToday\",, \"T\")>0,\"+\",\"\")&TEXT(RTD(\"cqg.rtd\", ,\"ContractData\", Sheet2!P15, \"NetLastTradeToday\",, \"T\"),\"0.00\"),\"\"))","v":"+2.78"},{"$f":"Sheet2!Q15","v":0},0,0,null,null,null,null,null,0,0,{"$f":"RTD(\"cqg.rtd\", ,\"ContractData\", Sheet2!P15, \"TickSize\",, \"T\")","v":0.01}]
[null,"Symbol","Bottom 15 Description (NC)",null,null,null,"5-min","Bid","Last Trade","Ask","NC","%NC","Open","High","Low"]
[null,{"$f":"Sheet2!N44","v":"ST"},{"$f":"IF(LEFT(Sheet2!P44,1)=\"\",\"\",IFERROR(RTD(\"cqg.rtd\",,\"ContractData\",Sheet2!P44,\"LongDescription\",,\"T\")&\" (\"&P30&\")\",\"\"))","v":"Sensata Technologies Holding N.V. (-0.14)"},null,null,null,null,{"$f":"IF(LEFT(Sheet2!P44,1)=\"\",\"\",IFERROR(RTD(\"cqg.rtd\", ,\"ContractData\", Sheet2!P44, \"Bid\",, \"T\"),\"\"))","v":57.910000000000004},{"$f":"IF(LEFT(Sheet2!P44,1)=\"\",\"\",IFERROR(RTD(\"cqg.rtd\", ,\"ContractData\", Sheet2!P44, \"LastTrade\",, \"T\"),\"\"))","v":57.89},{"$f":"IF(LEFT(Sheet2!P44,1)=\"\",\"\",IFERROR(RTD(\"cqg.rtd\", ,\"ContractData\", Sheet2!P44, \"Ask\",, \"T\"),\"\"))","v":58.01},{"$f":"IF(LEFT(Sheet2!P44,1)=\"\",\"\",IFERROR(IF(RTD(\"cqg.rtd\", ,\"ContractData\", Sheet2!P44, \"NetLastTradeToday\",, \"T\")>0,\"+\",\"\")&TEXT(RTD(\"cqg.rtd\", ,\"ContractData\", Sheet2!P44, \"NetLastTradeToday\",, \"T\"),\"0.00\"),\"\"))","v":"-0.14"},{"$f":"IFERROR(RTD(\"cqg.rtd\", ,\"ContractData\", Sheet2!P44, \"PerCentNetLastTrade\",, \"T\")/100,\"\")","v":-2.4125452352231607E-3},{"$f":"IF(LEFT(Sheet2!P44,1)=\"\",\"\",IFERROR(RTD(\"cqg.rtd\", ,\"ContractData\", Sheet2!P44, \"Open\",, \"T\"),\"\"))","v":58.01},{"$f":"IF(LEFT(Sheet2!P44,1)=\"\",\"\",IFERROR(RTD(\"cqg.rtd\", ,\"ContractData\", Sheet2!P44, \"High\",, \"T\"),\"\"))","v":58.19},{"$f":"IF(LEFT(Sheet2!P44,1)=\"\",\"\",IFERROR(RTD(\"cqg.rtd\", ,\"ContractData\", Sheet2!P44, \"Low\",, \"T\"),\"\"))","v":57.52},{"$f":"IF(LEFT(Sheet2!P44,1)=\"\",\"\",IFERROR(IF(RTD(\"cqg.rtd\", ,\"ContractData\", Sheet2!P44, \"NetLastTradeToday\",, \"T\")>0,\"+\",\"\")&TEXT(RTD(\"cqg.rtd\", ,\"ContractData\", Sheet2!P44, \"NetLastTradeToday\",, \"T\"),\"0.00\"),\"\"))","v":"-0.14"},{"$f":"Sheet2!Q44","v":0},"Symbol","Time","Open","High","Low","Last",null,{"$f":"IF(N30-I30<=2*AA30,1,0)","v":0},{"$f":"IF(I30-O30<=2*AA30,1,0)","v":0},{"$f":"RTD(\"cqg.rtd\", ,\"ContractData\", Sheet2!P44, \"TickSize\",, \"T\")","v":0.01}]
[null,{"$f":"Sheet2!N45","v":"TSLA"},{"$f":"IF(LEFT(Sheet2!P45,1)=\"\",\"\",IFERROR(RTD(\"cqg.rtd\",,\"ContractData\",Sheet2!P45,\"LongDescription\",,\"T\")&\" (\"&P31&\")\",\"\"))","v":"Tesla, Inc. (-1.64)"},null,null,null,null,{"$f":"IF(LEFT(Sheet2!P45,1)=\"\",\"\",IFERROR(RTD(\"cqg.rtd\", ,\"ContractData\", Sheet2!P45, \"Bid\",, \"T\"),\"\"))","v":574.91999999999996},{"$f":"IF(LEFT(Sheet2!P45,1)=\"\",\"\",IFERROR(RTD(\"cqg.rtd\", ,\"ContractData\", Sheet2!P45, \"LastTrade\",, \"T\"),\"\"))","v":575.19000000000005},{"$f":"IF(LEFT(Sheet2!P45,1)=\"\",\"\",IFERROR(RTD(\"cqg.rtd\", ,\"ContractData\", Sheet2!P45, \"Ask\",, \"T\"),\"\"))","v":575.20000000000005},{"$f":"IF(LEFT(Sheet2!P45,1)=\"\",\"\",IFERROR(IF(RTD(\"cqg.rtd\", ,\"ContractData\", Sheet2!P45, \"NetLastTradeToday\",, \"T\")>0,\"+\",\"\")&TEXT(RTD(\"cqg.rtd\", ,\"ContractData\", Sheet2!P45, \"NetLastTradeToday\",, \"T\"),\"0.00\"),\"\"))","v":"-1.64"},{"$f":"IFERROR(RTD(\"cqg.rtd\", ,\"ContractData\", Sheet2!P45, \"PerCentNetLastTrade\",, \"T\")/100,\"\")","v":-2.8431253575576859E-3},{"$f":"IF(LEFT(Sheet2!P45,1)=\"\",\"\",IFERROR(RTD(\"cqg.rtd\", ,\"ContractData\", Sheet2!P45, \"Open\",, \"T\"),\"\"))","v":568},{"$f":"IF(LEFT(Sheet2!P45,1)=\"\",\"\",IFERROR(RTD(\"cqg.rtd\", ,\"ContractData\", Sheet2!P45, \"High\",, \"T\"),\"\"))","v":575.87},{"$f":"IF(LEFT(Sheet2!P45,1)=\"\",\"\",IFERROR(RTD(\"cqg.rtd\", ,\"ContractData\", Sheet2!P45, \"Low\",, \"T\"),\"\"))","v":563.38},{"$f":"IF(LEFT(Sheet2!P45,1)=\"\",\"\",IFERROR(IF(RTD(\"cqg.rtd\", ,\"ContractData\", Sheet2!P45, \"NetLastTradeToday\",, \"T\")>0,\"+\",\"\")&TEXT(RTD(\"cqg.rtd\", ,\"ContractData\", Sheet2!P45, \"NetLastTradeToday\",, \"T\"),\"0.00\"),\"\"))","v":"-1.64"},{"$f":"Sheet2!Q45","v":0},"S.HAIL","D",{"$f":"IFERROR(TEXT(RTD(\"cqg.rtd\", ,\"ContractData\",R31, \"Open\",, \"T\"),W55),\"\")","v":"58.65"},{"$f":"IFERROR(TEXT(RTD(\"cqg.rtd\", ,\"ContractData\",R31, \"High\",, \"T\"),W55),\"\")","v":"58.67"},{"$f":"IFERROR(TEXT(RTD(\"cqg.rtd\", ,\"ContractData\",R31, \"Low\",, \"T\"),W55),\"\")","v":"58.27"},{"$f":"IFERROR(TEXT(RTD(\"cqg.rtd\", ,\"ContractData\",R31, \"Last\",, \"T\"),W55),\"\")","v":"58.76"},null,{"$f":"IF(N31-I31<=2*AA31,1,0)","v":0},{"$f":"IF(I31-O31<=2*AA31,1,0)","v":0},{"$f":"RTD(\"cqg.rtd\", ,\"ContractData\", Sheet2!P45, \"TickSize\",, \"T\")","v":0.01}]
[null,{"$f":"Sheet2!N46","v":"SEDG"},{"$f":"IF(LEFT(Sheet2!P46,1)=\"\",\"\",IFERROR(RTD(\"cqg.rtd\",,\"ContractData\",Sheet2!P46,\"LongDescription\",,\"T\")&\" (\"&P32&\")\",\"\"))","v":"SolarEdge Technologies, Inc. (-0.81)"},null,null,null,null,{"$f":"IF(LEFT(Sheet2!P46,1)=\"\",\"\",IFERROR(RTD(\"cqg.rtd\", ,\"ContractData\", Sheet2!P46, \"Bid\",, \"T\"),\"\"))","v":216.51},{"$f":"IF(LEFT(Sheet2!P46,1)=\"\",\"\",IFERROR(RTD(\"cqg.rtd\", ,\"ContractData\", Sheet2!P46, \"LastTrade\",, \"T\"),\"\"))","v":217.20000000000002},{"$f":"IF(LEFT(Sheet2!P46,1)=\"\",\"\",IFERROR(RTD(\"cqg.rtd\", ,\"ContractData\", Sheet2!P46, \"Ask\",, \"T\"),\"\"))","v":217.67000000000002},{"$f":"IF(LEFT(Sheet2!P46,1)=\"\",\"\",IFERROR(IF(RTD(\"cqg.rtd\", ,\"ContractData\", Sheet2!P46, \"NetLastTradeToday\",, \"T\")>0,\"+\",\"\")&TEXT(RTD(\"cqg.rtd\", ,\"ContractData\", Sheet2!P46, \"NetLastTradeToday\",, \"T\"),\"0.00\"),\"\"))","v":"-0.81"},{"$f":"IFERROR(RTD(\"cqg.rtd\", ,\"ContractData\", Sheet2!P46, \"PerCentNetLastTrade\",, \"T\")/100,\"\")","v":-3.7154258978945921E-3},{"$f":"IF(LEFT(Sheet2!P46,1)=\"\",\"\",IFERROR(RTD(\"cqg.rtd\", ,\"ContractData\", Sheet2!P46, \"Open\",, \"T\"),\"\"))","v":220.16},{"$f":"IF(LEFT(Sheet2!P46,1)=\"\",\"\",IFERROR(RTD(\"cqg.rtd\", ,\"ContractData\", Sheet2!P46, \"High\",, \"T\"),\"\"))","v":220.26},{"$f":"IF(LEFT(Sheet2!P46,1)=\"\",\"\",IFERROR(RTD(\"cqg.rtd\", ,\"ContractData\", Sheet2!P46, \"Low\",, \"T\"),\"\"))","v":215.17000000000002},{"$f":"IF(LEFT(Sheet2!P46,1)=\"\",\"\",IFERROR(IF(RTD(\"cqg.rtd\", ,\"ContractData\", Sheet2!P46, \"NetLastTradeToday\",, \"T\")>0,\"+\",\"\")&TEXT(RTD(\"cqg.rtd\", ,\"ContractData\", Sheet2!P46, \"NetLastTradeToday\",, \"T\"),\"0.00\"),\"\"))","v":"-0.81"},{"$f":"Sheet2!Q46","v":0},null,null,null,null,null,null,null,0,0,{"$f":"RTD(\"cqg.rtd\", ,\"ContractData\", Sheet2!P46, \"TickSize\",, \"T\")","v":0.01}]
[null,{"$f":"Sheet2!N47","v":"BWA"},{"$f":"IF(LEFT(Sheet2!P47,1)=\"\",\"\",IFERROR(RTD(\"cqg.rtd\",,\"ContractData\",Sheet2!P47,\"LongDescription\",,\"T\")&\" (\"&P33&\")\",\"\"))","v":"Borg Warner Inc (-0.22)"},null,null,null,null,{"$f":"IF(LEFT(Sheet2!P47,1)=\"\",\"\",IFERROR(RTD(\"cqg.rtd\", ,\"ContractData\", Sheet2!P47, \"Bid\",, \"T\"),\"\"))","v":51.410000000000004},{"$f":"IF(LEFT(Sheet2!P47,1)=\"\",\"\",IFERROR(RTD(\"cqg.rtd\", ,\"ContractData\", Sheet2!P47, \"LastTrade\",, \"T\"),\"\"))","v":51.43},{"$f":"IF(LEFT(Sheet2!P47,1)=\"\",\"\",IFERROR(RTD(\"cqg.rtd\", ,\"ContractData\", Sheet2!P47, \"Ask\",, \"T\"),\"\"))","v":51.46},{"$f":"IF(LEFT(Sheet2!P47,1)=\"\",\"\",IFERROR(IF(RTD(\"cqg.rtd\", ,\"ContractData\", Sheet2!P47, \"NetLastTradeToday\",, \"T\")>0,\"+\",\"\")&TEXT(RTD(\"cqg.rtd\", ,\"ContractData\", Sheet2!P47, \"NetLastTradeToday\",, \"T\"),\"0.00\"),\"\"))","v":"-0.22"},{"$f":"IFERROR(RTD(\"cqg.rtd\", ,\"ContractData\", Sheet2!P47, \"PerCentNetLastTrade\",, \"T\")/100,\"\")","v":-4.2594385285575995E-3},{"$f":"IF(LEFT(Sheet2!P47,1)=\"\",\"\",IFERROR(RTD(\"cqg.rtd\", ,\"ContractData\", Sheet2!P47, \"Open\",, \"T\"),\"\"))","v":51.47},{"$f":"IF(LEFT(Sheet2!P47,1)=\"\",\"\",IFERROR(RTD(\"cqg.rtd\", ,\"ContractData\", Sheet2!P47, \"High\",, \"T\"),\"\"))","v":51.76},{"$f":"IF(LEFT(Sheet2!P47,1)=\"\",\"\",IFERROR(RTD(\"cqg.rtd\", ,\"ContractData\", Sheet2!P47, \"Low\",, \"T\"),\"\"))","v":51.18},{"$f":"IF(LEFT(Sheet2!P47,1)=\"\",\"\",IFERROR(IF(RTD(\"cqg.rtd\", ,\"ContractData\", Sheet2!P47, \"NetLastTradeToday\",, \"T\")>0,\"+\",\"\")&TEXT(RTD(\"cqg.rtd\", ,\"ContractData\", Sheet2!P47, \"NetLastTradeToday\",, \"T\"),\"0.00\"),\"\"))","v":"-0.22"},{"$f":"Sheet2!Q47","v":0},null,null,null,null,null,null,null,0,0,{"$f":"RTD(\"cqg.rtd\", ,\"ContractData\", Sheet2!P47, \"TickSize\",, \"T\")","v":0.01}]
[null,{"$f":"Sheet2!N48","v":"MOD"},{"$f":"IF(LEFT(Sheet2!P48,1)=\"\",\"\",IFERROR(RTD(\"cqg.rtd\",,\"ContractData\",Sheet2!P48,\"LongDescription\",,\"T\")&\" (\"&P34&\")\",\"\"))","v":"Modine Manufacturing Co (-0.08)"},null,null,null,null,{"$f":"IF(LEFT(Sheet2!P48,1)=\"\",\"\",IFERROR(RTD(\"cqg.rtd\", ,\"ContractData\", Sheet2!P48, \"Bid\",, \"T\"),\"\"))","v":16.87},{"$f":"IF(LEFT(Sheet2!P48,1)=\"\",\"\",IFERROR(RTD(\"cqg.rtd\", ,\"ContractData\", Sheet2!P48, \"LastTrade\",, \"T\"),\"\"))","v":16.88},{"$f":"IF(LEFT(Sheet2!P48,1)=\"\",\"\",IFERROR(RTD(\"cqg.rtd\", ,\"ContractData\", Sheet2!P48, \"Ask\",, \"T\"),\"\"))","v":16.93},{"$f":"IF(LEFT(Sheet2!P48,1)=\"\",\"\",IFERROR(IF(RTD(\"cqg.rtd\", ,\"ContractData\", Sheet2!P48, \"NetLastTradeToday\",, \"T\")>0,\"+\",\"\")&TEXT(RTD(\"cqg.rtd\", ,\"ContractData\", Sheet2!P48, \"NetLastTradeToday\",, \"T\"),\"0.00\"),\"\"))","v":"-0.08"},{"$f":"IFERROR(RTD(\"cqg.rtd\", ,\"ContractData\", Sheet2!P48, \"PerCentNetLastTrade\",, \"T\")/100,\"\")","v":-4.7169811320754715E-3},{"$f":"IF(LEFT(Sheet2!P48,1)=\"\",\"\",IFERROR(RTD(\"cqg.rtd\", ,\"ContractData\", Sheet2!P48, \"Open\",, \"T\"),\"\"))","v":17},{"$f":"IF(LEFT(Sheet2!P48,1)=\"\",\"\",IFERROR(RTD(\"cqg.rtd\", ,\"ContractData\", Sheet2!P48, \"High\",, \"T\"),\"\"))","v":17},{"$f":"IF(LEFT(Sheet2!P48,1)=\"\",\"\",IFERROR(RTD(\"cqg.rtd\", ,\"ContractData\", Sheet2!P48, \"Low\",, \"T\"),\"\"))","v":16.78},{"$f":"IF(LEFT(Sheet2!P48,1)=\"\",\"\",IFERROR(IF(RTD(\"cqg.rtd\", ,\"ContractData\", Sheet2!P48, \"NetLastTradeToday\",, \"T\")>0,\"+\",\"\")&TEXT(RTD(\"cqg.rtd\", ,\"ContractData\", Sheet2!P48, \"NetLastTradeToday\",, \"T\"),\"0.00\"),\"\"))","v":"-0.08"},{"$f":"Sheet2!Q48","v":0},null,null,null,null,null,null,null,0,0,{"$f":"RTD(\"cqg.rtd\", ,\"ContractData\", Sheet2!P48, \"TickSize\",, \"T\")","v":0.01}]
[null,{"$f":"Sheet2!N49","v":"ALSN"},{"$f":"IF(LEFT(Sheet2!P49,1)=\"\",\"\",IFERROR(RTD(\"cqg.rtd\",,\"ContractData\",Sheet2!P49,\"LongDescription\",,\"T\")&\" (\"&P35&\")\",\"\"))","v":"Allison Transmission Holdings, Inc. (-0.22)"},null,null,null,null,{"$f":"IF(LEFT(Sheet2!P49,1)=\"\",\"\",IFERROR(RTD(\"cqg.rtd\", ,\"ContractData\", Sheet2!P49, \"Bid\",, \"T\"),\"\"))","v":45.17},{"$f":"IF(LEFT(Sheet2!P49,1)=\"\",\"\",IFERROR(RTD(\"cqg.rtd\", ,\"ContractData\", Sheet2!P49, \"LastTrade\",, \"T\"),\"\"))","v":45.2},{"$f":"IF(LEFT(Sheet2!P49,1)=\"\",\"\",IFERROR(RTD(\"cqg.rtd\", ,\"ContractData\", Sheet2!P49, \"Ask\",, \"T\"),\"\"))","v":45.25},{"$f":"IF(LEFT(Sheet2!P49,1)=\"\",\"\",IFERROR(IF(RTD(\"cqg.rtd\", ,\"ContractData\", Sheet2!P49, \"NetLastTradeToday\",, \"T\")>0,\"+\",\"\")&TEXT(RTD(\"cqg.rtd\", ,\"ContractData\", Sheet2!P49, \"NetLastTradeToday\",, \"T\"),\"0.00\"),\"\"))","v":"-0.22"},{"$f":"IFERROR(RTD(\"cqg.rtd\", ,\"ContractData\", Sheet2!P49, \"PerCentNetLastTrade\",, \"T\")/100,\"\")","v":-4.8436811977102603E-3},{"$f":"IF(LEFT(Sheet2!P49,1)=\"\",\"\",IFERROR(RTD(\"cqg.rtd\", ,\"ContractData\", Sheet2!P49, \"Open\",, \"T\"),\"\"))","v":45.29},{"$f":"IF(LEFT(Sheet2!P49,1)=\"\",\"\",IFERROR(RTD(\"cqg.rtd\", ,\"ContractData\", Sheet2!P49, \"High\",, \"T\"),\"\"))","v":45.300000000000004},{"$f":"IF(LEFT(Sheet2!P49,1)=\"\",\"\",IFERROR(RTD(\"cqg.rtd\", ,\"ContractData\", Sheet2!P49, \"Low\",, \"T\"),\"\"))","v":45},{"$f":"IF(LEFT(Sheet2!P49,1)=\"\",\"\",IFERROR(IF(RTD(\"cqg.rtd\", ,\"ContractData\", Sheet2!P49, \"NetLastTradeToday\",, \"T\")>0,\"+\",\"\")&TEXT(RTD(\"cqg.rtd\", ,\"ContractData\", Sheet2!P49, \"NetLastTradeToday\",, \"T\"),\"0.00\"),\"\"))","v":"-0.22"},{"$f":"Sheet2!Q49","v":0},null,null,null,null,null,null,null,0,0,{"$f":"RTD(\"cqg.rtd\", ,\"ContractData\", Sheet2!P49, \"TickSize\",, \"T\")","v":0.01}]
[null,{"$f":"Sheet2!N50","v":"TRMB"},{"$f":"IF(LEFT(Sheet2!P50,1)=\"\",\"\",IFERROR(RTD(\"cqg.rtd\",,\"ContractData\",Sheet2!P50,\"LongDescription\",,\"T\")&\" (\"&P36&\")\",\"\"))","v":"Trimble Inc. (-0.42)"},null,null,null,null,{"$f":"IF(LEFT(Sheet2!P50,1)=\"\",\"\",IFERROR(RTD(\"cqg.rtd\", ,\"ContractData\", Sheet2!P50, \"Bid\",, \"T\"),\"\"))","v":75.710000000000008},{"$f":"IF(LEFT(Sheet2!P50,1)=\"\",\"\",IFERROR(RTD(\"cqg.rtd\", ,\"ContractData\", Sheet2!P50, \"LastTrade\",, \"T\"),\"\"))","v":75.81},{"$f":"IF(LEFT(Sheet2!P50,1)=\"\",\"\",IFERROR(RTD(\"cqg.rtd\", ,\"ContractData\", Sheet2!P50, \"Ask\",, \"T\"),\"\"))","v":75.790000000000006},{"$f":"IF(LEFT(Sheet2!P50,1)=\"\",\"\",IFERROR(IF(RTD(\"cqg.rtd\", ,\"ContractData\", Sheet2!P50, \"NetLastTradeToday\",, \"T\")>0,\"+\",\"\")&TEXT(RTD(\"cqg.rtd\", ,\"ContractData\", Sheet2!P50, \"NetLastTradeToday\",, \"T\"),\"0.00\"),\"\"))","v":"-0.42"},{"$f":"IFERROR(RTD(\"cqg.rtd\", ,\"ContractData\", Sheet2!P50, \"PerCentNetLastTrade\",, \"T\")/100,\"\")","v":-5.5096418732782371E-3},{"$f":"IF(LEFT(Sheet2!P50,1)=\"\",\"\",IFERROR(RTD(\"cqg.rtd\", ,\"ContractData\", Sheet2!P50, \"Open\",, \"T\"),\"\"))","v":76.31},{"$f":"IF(LEFT(Sheet2!P50,1)=\"\",\"\",IFERROR(RTD(\"cqg.rtd\", ,\"ContractData\", Sheet2!P50, \"High\",, \"T\"),\"\"))","v":76.400000000000006},{"$f":"IF(LEFT(Sheet2!P50,1)=\"\",\"\",IFERROR(RTD(\"cqg.rtd\", ,\"ContractData\", Sheet2!P50, \"Low\",, \"T\"),\"\"))","v":75.430000000000007},{"$f":"IF(LEFT(Sheet2!P50,1)=\"\",\"\",IFERROR(IF(RTD(\"cqg.rtd\", ,\"ContractData\", Sheet2!P50, \"NetLastTradeToday\",, \"T\")>0,\"+\",\"\")&TEXT(RTD(\"cqg.rtd\", ,\"ContractData\", Sheet2!P50, \"NetLastTradeToday\",, \"T\"),\"0.00\"),\"\"))","v":"-0.42"},{"$f":"Sheet2!Q50","v":0},null,null,null,null,null,null,null,0,0,{"$f":"RTD(\"cqg.rtd\", ,\"ContractData\", Sheet2!P50, \"TickSize\",, \"T\")","v":0.01}]
[null,{"$f":"Sheet2!N51","v":"UAVS"},{"$f":"IF(LEFT(Sheet2!P51,1)=\"\",\"\",IFERROR(RTD(\"cqg.rtd\",,\"ContractData\",Sheet2!P51,\"LongDescription\",,\"T\")&\" (\"&P37&\")\",\"\"))","v":"AgEagle Aerial Systems Inc.  (-0.03)"},null,null,null,null,{"$f":"IF(LEFT(Sheet2!P51,1)=\"\",\"\",IFERROR(RTD(\"cqg.rtd\", ,\"ContractData\", Sheet2!P51, \"Bid\",, \"T\"),\"\"))","v":4.37},{"$f":"IF(LEFT(Sheet2!P51,1)=\"\",\"\",IFERROR(RTD(\"cqg.rtd\", ,\"ContractData\", Sheet2!P51, \"LastTrade\",, \"T\"),\"\"))","v":4.41},{"$f":"IF(LEFT(Sheet2!P51,1)=\"\",\"\",IFERROR(RTD(\"cqg.rtd\", ,\"ContractData\", Sheet2!P51, \"Ask\",, \"T\"),\"\"))","v":4.42},{"$f":"IF(LEFT(Sheet2!P51,1)=\"\",\"\",IFERROR(IF(RTD(\"cqg.rtd\", ,\"ContractData\", Sheet2!P51, \"NetLastTradeToday\",, \"T\")>0,\"+\",\"\")&TEXT(RTD(\"cqg.rtd\", ,\"ContractData\", Sheet2!P51, \"NetLastTradeToday\",, \"T\"),\"0.00\"),\"\"))","v":"-0.03"},{"$f":"IFERROR(RTD(\"cqg.rtd\", ,\"ContractData\", Sheet2!P51, \"PerCentNetLastTrade\",, \"T\")/100,\"\")","v":-6.7567567567567563E-3},{"$f":"IF(LEFT(Sheet2!P51,1)=\"\",\"\",IFERROR(RTD(\"cqg.rtd\", ,\"ContractData\", Sheet2!P51, \"Open\",, \"T\"),\"\"))","v":4.29},{"$f":"IF(LEFT(Sheet2!P51,1)=\"\",\"\",IFERROR(RTD(\"cqg.rtd\", ,\"ContractData\", Sheet2!P51, \"High\",, \"T\"),\"\"))","v":4.41},{"$f":"IF(LEFT(Sheet2!P51,1)=\"\",\"\",IFERROR(RTD(\"cqg.rtd\", ,\"ContractData\", Sheet2!P51, \"Low\",, \"T\"),\"\"))","v":4.09},{"$f":"IF(LEFT(Sheet2!P51,1)=\"\",\"\",IFERROR(IF(RTD(\"cqg.rtd\", ,\"ContractData\", Sheet2!P51, \"NetLastTradeToday\",, \"T\")>0,\"+\",\"\")&TEXT(RTD(\"cqg.rtd\", ,\"ContractData\", Sheet2!P51, \"NetLastTradeToday\",, \"T\"),\"0.00\"),\"\"))","v":"-0.03"},{"$f":"Sheet2!Q51","v":0},null,null,null,null,null,null,null,1,0,{"$f":"RTD(\"cqg.rtd\", ,\"ContractData\", Sheet2!P51, \"TickSize\",, \"T\")","v":0.01}]
[null,{"$f":"Sheet2!N52","v":"MTOR"},{"$f":"IF(LEFT(Sheet2!P52,1)=\"\",\"\",IFERROR(RTD(\"cqg.rtd\",,\"ContractData\",Sheet2!P52,\"LongDescription\",,\"T\")&\" (\"&P38&\")\",\"\"))","v":"Meritor Inc. (-0.18)"},null,null,null,null,{"$f":"IF(LEFT(Sheet2!P52,1)=\"\",\"\",IFERROR(RTD(\"cqg.rtd\", ,\"ContractData\", Sheet2!P52, \"Bid\",, \"T\"),\"\"))","v":26.12},{"$f":"IF(LEFT(Sheet2!P52,1)=\"\",\"\",IFERROR(RTD(\"cqg.rtd\", ,\"ContractData\", Sheet2!P52, \"LastTrade\",, \"T\"),\"\"))","v":26.07},{"$f":"IF(LEFT(Sheet2!P52,1)=\"\",\"\",IFERROR(RTD(\"cqg.rtd\", ,\"ContractData\", Sheet2!P52, \"Ask\",, \"T\"),\"\"))","v":26.21},{"$f":"IF(LEFT(Sheet2!P52,1)=\"\",\"\",IFERROR(IF(RTD(\"cqg.rtd\", ,\"ContractData\", Sheet2!P52, \"NetLastTradeToday\",, \"T\")>0,\"+\",\"\")&TEXT(RTD(\"cqg.rtd\", ,\"ContractData\", Sheet2!P52, \"NetLastTradeToday\",, \"T\"),\"0.00\"),\"\"))","v":"-0.18"},{"$f":"IFERROR(RTD(\"cqg.rtd\", ,\"ContractData\", Sheet2!P52, \"PerCentNetLastTrade\",, \"T\")/100,\"\")","v":-6.8571428571428568E-3},{"$f":"IF(LEFT(Sheet2!P52,1)=\"\",\"\",IFERROR(RTD(\"cqg.rtd\", ,\"ContractData\", Sheet2!P52, \"Open\",, \"T\"),\"\"))","v":26.21},{"$f":"IF(LEFT(Sheet2!P52,1)=\"\",\"\",IFERROR(RTD(\"cqg.rtd\", ,\"ContractData\", Sheet2!P52, \"High\",, \"T\"),\"\"))","v":26.310000000000002},{"$f":"IF(LEFT(Sheet2!P52,1)=\"\",\"\",IFERROR(RTD(\"cqg.rtd\", ,\"ContractData\", Sheet2!P52, \"Low\",, \"T\"),\"\"))","v":25.84},{"$f":"IF(LEFT(Sheet2!P52,1)=\"\",\"\",IFERROR(IF(RTD(\"cqg.rtd\", ,\"ContractData\", Sheet2!P52, \"NetLastTradeToday\",, \"T\")>0,\"+\",\"\")&TEXT(RTD(\"cqg.rtd\", ,\"ContractData\", Sheet2!P52, \"NetLastTradeToday\",, \"T\"),\"0.00\"),\"\"))","v":"-0.18"},{"$f":"Sheet2!Q52","v":0},null,null,null,null,null,null,null,0,0,{"$f":"RTD(\"cqg.rtd\", ,\"ContractData\", Sheet2!P52, \"TickSize\",, \"T\")","v":0.01}]
[null,{"$f":"Sheet2!N53","v":"HY"},{"$f":"IF(LEFT(Sheet2!P53,1)=\"\",\"\",IFERROR(RTD(\"cqg.rtd\",,\"ContractData\",Sheet2!P53,\"LongDescription\",,\"T\")&\" (\"&P39&\")\",\"\"))","v":"Hyster-Yale Materials Handling, Inc. (-0.58)"},null,null,null,null,{"$f":"IF(LEFT(Sheet2!P53,1)=\"\",\"\",IFERROR(RTD(\"cqg.rtd\", ,\"ContractData\", Sheet2!P53, \"Bid\",, \"T\"),\"\"))","v":76.02},{"$f":"IF(LEFT(Sheet2!P53,1)=\"\",\"\",IFERROR(RTD(\"cqg.rtd\", ,\"ContractData\", Sheet2!P53, \"LastTrade\",, \"T\"),\"\"))","v":76.44},{"$f":"IF(LEFT(Sheet2!P53,1)=\"\",\"\",IFERROR(RTD(\"cqg.rtd\", ,\"ContractData\", Sheet2!P53, \"Ask\",, \"T\"),\"\"))","v":77},{"$f":"IF(LEFT(Sheet2!P53,1)=\"\",\"\",IFERROR(IF(RTD(\"cqg.rtd\", ,\"ContractData\", Sheet2!P53, \"NetLastTradeToday\",, \"T\")>0,\"+\",\"\")&TEXT(RTD(\"cqg.rtd\", ,\"ContractData\", Sheet2!P53, \"NetLastTradeToday\",, \"T\"),\"0.00\"),\"\"))","v":"-0.58"},{"$f":"IFERROR(RTD(\"cqg.rtd\", ,\"ContractData\", Sheet2!P53, \"PerCentNetLastTrade\",, \"T\")/100,\"\")","v":-7.5305115554401454E-3},{"$f":"IF(LEFT(Sheet2!P53,1)=\"\",\"\",IFERROR(RTD(\"cqg.rtd\", ,\"ContractData\", Sheet2!P53, \"Open\",, \"T\"),\"\"))","v":76.92},{"$f":"IF(LEFT(Sheet2!P53,1)=\"\",\"\",IFERROR(RTD(\"cqg.rtd\", ,\"ContractData\", Sheet2!P53, \"High\",, \"T\"),\"\"))","v":76.92},{"$f":"IF(LEFT(Sheet2!P53,1)=\"\",\"\",IFERROR(RTD(\"cqg.rtd\", ,\"ContractData\", Sheet2!P53, \"Low\",, \"T\"),\"\"))","v":76.44},{"$f":"IF(LEFT(Sheet2!P53,1)=\"\",\"\",IFERROR(IF(RTD(\"cqg.rtd\", ,\"ContractData\", Sheet2!P53, \"NetLastTradeToday\",, \"T\")>0,\"+\",\"\")&TEXT(RTD(\"cqg.rtd\", ,\"ContractData\", Sheet2!P53, \"NetLastTradeToday\",, \"T\"),\"0.00\"),\"\"))","v":"-0.58"},{"$f":"Sheet2!Q53","v":0},null,null,null,null,null,null,null,0,1,{"$f":"RTD(\"cqg.rtd\", ,\"ContractData\", Sheet2!P53, \"TickSize\",, \"T\")","v":0.01}]
[null,{"$f":"Sheet2!N54","v":"HEI"},{"$f":"IF(LEFT(Sheet2!P54,1)=\"\",\"\",IFERROR(RTD(\"cqg.rtd\",,\"ContractData\",Sheet2!P54,\"LongDescription\",,\"T\")&\" (\"&P40&\")\",\"\"))","v":"HEICO CORP (-1.05)"},null,null,null,null,{"$f":"IF(LEFT(Sheet2!P54,1)=\"\",\"\",IFERROR(RTD(\"cqg.rtd\", ,\"ContractData\", Sheet2!P54, \"Bid\",, \"T\"),\"\"))","v":132.58000000000001},{"$f":"IF(LEFT(Sheet2!P54,1)=\"\",\"\",IFERROR(RTD(\"cqg.rtd\", ,\"ContractData\", Sheet2!P54, \"LastTrade\",, \"T\"),\"\"))","v":132.74},{"$f":"IF(LEFT(Sheet2!P54,1)=\"\",\"\",IFERROR(RTD(\"cqg.rtd\", ,\"ContractData\", Sheet2!P54, \"Ask\",, \"T\"),\"\"))","v":132.94},{"$f":"IF(LEFT(Sheet2!P54,1)=\"\",\"\",IFERROR(IF(RTD(\"cqg.rtd\", ,\"ContractData\", Sheet2!P54, \"NetLastTradeToday\",, \"T\")>0,\"+\",\"\")&TEXT(RTD(\"cqg.rtd\", ,\"ContractData\", Sheet2!P54, \"NetLastTradeToday\",, \"T\"),\"0.00\"),\"\"))","v":"-1.05"},{"$f":"IFERROR(RTD(\"cqg.rtd\", ,\"ContractData\", Sheet2!P54, \"PerCentNetLastTrade\",, \"T\")/100,\"\")","v":-7.8481201883548839E-3},{"$f":"IF(LEFT(Sheet2!P54,1)=\"\",\"\",IFERROR(RTD(\"cqg.rtd\", ,\"ContractData\", Sheet2!P54, \"Open\",, \"T\"),\"\"))","v":133.19999999999999},{"$f":"IF(LEFT(Sheet2!P54,1)=\"\",\"\",IFERROR(RTD(\"cqg.rtd\", ,\"ContractData\", Sheet2!P54, \"High\",, \"T\"),\"\"))","v":133.36000000000001},{"$f":"IF(LEFT(Sheet2!P54,1)=\"\",\"\",IFERROR(RTD(\"cqg.rtd\", ,\"ContractData\", Sheet2!P54, \"Low\",, \"T\"),\"\"))","v":132.14000000000001},{"$f":"IF(LEFT(Sheet2!P54,1)=\"\",\"\",IFERROR(IF(RTD(\"cqg.rtd\", ,\"ContractData\", Sheet2!P54, \"NetLastTradeToday\",, \"T\")>0,\"+\",\"\")&TEXT(RTD(\"cqg.rtd\", ,\"ContractData\", Sheet2!P54, \"NetLastTradeToday\",, \"T\"),\"0.00\"),\"\"))","v":"-1.05"},{"$f":"Sheet2!Q54","v":0},null,null,null,null,null,null,null,0,0,{"$f":"RTD(\"cqg.rtd\", ,\"ContractData\", Sheet2!P54, \"TickSize\",, \"T\")","v":0.01}]
[null,{"$f":"Sheet2!N55","v":"VC"},{"$f":"IF(LEFT(Sheet2!P55,1)=\"\",\"\",IFERROR(RTD(\"cqg.rtd\",,\"ContractData\",Sheet2!P55,\"LongDescription\",,\"T\")&\" (\"&P41&\")\",\"\"))","v":"Visteon Corporation (-1.11)"},null,null,null,null,{"$f":"IF(LEFT(Sheet2!P55,1)=\"\",\"\",IFERROR(RTD(\"cqg.rtd\", ,\"ContractData\", Sheet2!P55, \"Bid\",, \"T\"),\"\"))","v":112.65},{"$f":"IF(LEFT(Sheet2!P55,1)=\"\",\"\",IFERROR(RTD(\"cqg.rtd\", ,\"ContractData\", Sheet2!P55, \"LastTrade\",, \"T\"),\"\"))","v":112.98},{"$f":"IF(LEFT(Sheet2!P55,1)=\"\",\"\",IFERROR(RTD(\"cqg.rtd\", ,\"ContractData\", Sheet2!P55, \"Ask\",, \"T\"),\"\"))","v":113.23},{"$f":"IF(LEFT(Sheet2!P55,1)=\"\",\"\",IFERROR(IF(RTD(\"cqg.rtd\", ,\"ContractData\", Sheet2!P55, \"NetLastTradeToday\",, \"T\")>0,\"+\",\"\")&TEXT(RTD(\"cqg.rtd\", ,\"ContractData\", Sheet2!P55, \"NetLastTradeToday\",, \"T\"),\"0.00\"),\"\"))","v":"-1.11"},{"$f":"IFERROR(RTD(\"cqg.rtd\", ,\"ContractData\", Sheet2!P55, \"PerCentNetLastTrade\",, \"T\")/100,\"\")","v":-9.7291611885353662E-3},{"$f":"IF(LEFT(Sheet2!P55,1)=\"\",\"\",IFERROR(RTD(\"cqg.rtd\", ,\"ContractData\", Sheet2!P55, \"Open\",, \"T\"),\"\"))","v":114.24000000000001},{"$f":"IF(LEFT(Sheet2!P55,1)=\"\",\"\",IFERROR(RTD(\"cqg.rtd\", ,\"ContractData\", Sheet2!P55, \"High\",, \"T\"),\"\"))","v":114.38},{"$f":"IF(LEFT(Sheet2!P55,1)=\"\",\"\",IFERROR(RTD(\"cqg.rtd\", ,\"ContractData\", Sheet2!P55, \"Low\",, \"T\"),\"\"))","v":112.60000000000001},{"$f":"IF(LEFT(Sheet2!P55,1)=\"\",\"\",IFERROR(IF(RTD(\"cqg.rtd\", ,\"ContractData\", Sheet2!P55, \"NetLastTradeToday\",, \"T\")>0,\"+\",\"\")&TEXT(RTD(\"cqg.rtd\", ,\"ContractData\", Sheet2!P55, \"NetLastTradeToday\",, \"T\"),\"0.00\"),\"\"))","v":"-1.11"},{"$f":"Sheet2!Q55","v":0},null,null,null,null,null,null,null,0,0,{"$f":"RTD(\"cqg.rtd\", ,\"ContractData\", Sheet2!P55, \"TickSize\",, \"T\")","v":0.01}]
[null,{"$f":"Sheet2!N56","v":"KNDI"},{"$f":"IF(LEFT(Sheet2!P56,1)=\"\",\"\",IFERROR(RTD(\"cqg.rtd\",,\"ContractData\",Sheet2!P56,\"LongDescription\",,\"T\")&\" (\"&P42&\")\",\"\"))","v":"Kandi Technologies Group Inc. (-0.05)"},null,null,null,null,{"$f":"IF(LEFT(Sheet2!P56,1)=\"\",\"\",IFERROR(RTD(\"cqg.rtd\", ,\"ContractData\", Sheet2!P56, \"Bid\",, \"T\"),\"\"))","v":5.04},{"$f":"IF(LEFT(Sheet2!P56,1)=\"\",\"\",IFERROR(RTD(\"cqg.rtd\", ,\"ContractData\", Sheet2!P56, \"LastTrade\",, \"T\"),\"\"))","v":5.05},{"$f":"IF(LEFT(Sheet2!P56,1)=\"\",\"\",IFERROR(RTD(\"cqg.rtd\", ,\"ContractData\", Sheet2!P56, \"Ask\",, \"T\"),\"\"))","v":5.05},{"$f":"IF(LEFT(Sheet2!P56,1)=\"\",\"\",IFERROR(IF(RTD(\"cqg.rtd\", ,\"ContractData\", Sheet2!P56, \"NetLastTradeToday\",, \"T\")>0,\"+\",\"\")&TEXT(RTD(\"cqg.rtd\", ,\"ContractData\", Sheet2!P56, \"NetLastTradeToday\",, \"T\"),\"0.00\"),\"\"))","v":"-0.05"},{"$f":"IFERROR(RTD(\"cqg.rtd\", ,\"ContractData\", Sheet2!P56, \"PerCentNetLastTrade\",, \"T\")/100,\"\")","v":-9.8039215686274508E-3},{"$f":"IF(LEFT(Sheet2!P56,1)=\"\",\"\",IFERROR(RTD(\"cqg.rtd\", ,\"ContractData\", Sheet2!P56, \"Open\",, \"T\"),\"\"))","v":5.16},{"$f":"IF(LEFT(Sheet2!P56,1)=\"\",\"\",IFERROR(RTD(\"cqg.rtd\", ,\"ContractData\", Sheet2!P56, \"High\",, \"T\"),\"\"))","v":5.19},{"$f":"IF(LEFT(Sheet2!P56,1)=\"\",\"\",IFERROR(RTD(\"cqg.rtd\", ,\"ContractData\", Sheet2!P56, \"Low\",, \"T\"),\"\"))","v":5},{"$f":"IF(LEFT(Sheet2!P56,1)=\"\",\"\",IFERROR(IF(RTD(\"cqg.rtd\", ,\"ContractData\", Sheet2!P56, \"NetLastTradeToday\",, \"T\")>0,\"+\",\"\")&TEXT(RTD(\"cqg.rtd\", ,\"ContractData\", Sheet2!P56, \"NetLastTradeToday\",, \"T\"),\"0.00\"),\"\"))","v":"-0.05"},{"$f":"Sheet2!Q56","v":0},null,null,null,null,null,null,null,0,0,{"$f":"RTD(\"cqg.rtd\", ,\"ContractData\", Sheet2!P56, \"TickSize\",, \"T\")","v":0.01}]
[null,{"$f":"Sheet2!N57","v":"CMI"},{"$f":"IF(LEFT(Sheet2!P57,1)=\"\",\"\",IFERROR(RTD(\"cqg.rtd\",,\"ContractData\",Sheet2!P57,\"LongDescription\",,\"T\")&\" (\"&P43&\")\",\"\"))","v":"Cummins Inc (-3.34)"},null,null,null,null,{"$f":"IF(LEFT(Sheet2!P57,1)=\"\",\"\",IFERROR(RTD(\"cqg.rtd\", ,\"ContractData\", Sheet2!P57, \"Bid\",, \"T\"),\"\"))","v":262.79000000000002},{"$f":"IF(LEFT(Sheet2!P57,1)=\"\",\"\",IFERROR(RTD(\"cqg.rtd\", ,\"ContractData\", Sheet2!P57, \"LastTrade\",, \"T\"),\"\"))","v":262.98},{"$f":"IF(LEFT(Sheet2!P57,1)=\"\",\"\",IFERROR(RTD(\"cqg.rtd\", ,\"ContractData\", Sheet2!P57, \"Ask\",, \"T\"),\"\"))","v":263.10000000000002},{"$f":"IF(LEFT(Sheet2!P57,1)=\"\",\"\",IFERROR(IF(RTD(\"cqg.rtd\", ,\"ContractData\", Sheet2!P57, \"NetLastTradeToday\",, \"T\")>0,\"+\",\"\")&TEXT(RTD(\"cqg.rtd\", ,\"ContractData\", Sheet2!P57, \"NetLastTradeToday\",, \"T\"),\"0.00\"),\"\"))","v":"-3.34"},{"$f":"IFERROR(RTD(\"cqg.rtd\", ,\"ContractData\", Sheet2!P57, \"PerCentNetLastTrade\",, \"T\")/100,\"\")","v":-1.2541303694803245E-2},{"$f":"IF(LEFT(Sheet2!P57,1)=\"\",\"\",IFERROR(RTD(\"cqg.rtd\", ,\"ContractData\", Sheet2!P57, \"Open\",, \"T\"),\"\"))","v":264.86},{"$f":"IF(LEFT(Sheet2!P57,1)=\"\",\"\",IFERROR(RTD(\"cqg.rtd\", ,\"ContractData\", Sheet2!P57, \"High\",, \"T\"),\"\"))","v":265.31},{"$f":"IF(LEFT(Sheet2!P57,1)=\"\",\"\",IFERROR(RTD(\"cqg.rtd\", ,\"ContractData\", Sheet2!P57, \"Low\",, \"T\"),\"\"))","v":262.12},{"$f":"IF(LEFT(Sheet2!P57,1)=\"\",\"\",IFERROR(IF(RTD(\"cqg.rtd\", ,\"ContractData\", Sheet2!P57, \"NetLastTradeToday\",, \"T\")>0,\"+\",\"\")&TEXT(RTD(\"cqg.rtd\", ,\"ContractData\", Sheet2!P57, \"NetLastTradeToday\",, \"T\"),\"0.00\"),\"\"))","v":"-3.34"},{"$f":"Sheet2!Q57","v":0},null,null,null,null,null,null,null,0,0,{"$f":"RTD(\"cqg.rtd\", ,\"ContractData\", Sheet2!P57, \"TickSize\",, \"T\")","v":0.01}]
[null,{"$f":"Sheet2!N58","v":"NIO"},{"$f":"IF(LEFT(Sheet2!P58,1)=\"\",\"\",IFERROR(RTD(\"cqg.rtd\",,\"ContractData\",Sheet2!P58,\"LongDescription\",,\"T\")&\" (\"&P44&\")\",\"\"))","v":"NIO, Inc. (-0.44)"},null,null,null,null,{"$f":"IF(LEFT(Sheet2!P58,1)=\"\",\"\",IFERROR(RTD(\"cqg.rtd\", ,\"ContractData\", Sheet2!P58, \"Bid\",, \"T\"),\"\"))","v":33.369999999999997},{"$f":"IF(LEFT(Sheet2!P58,1)=\"\",\"\",IFERROR(RTD(\"cqg.rtd\", ,\"ContractData\", Sheet2!P58, \"LastTrade\",, \"T\"),\"\"))","v":33.369999999999997},{"$f":"IF(LEFT(Sheet2!P58,1)=\"\",\"\",IFERROR(RTD(\"cqg.rtd\", ,\"ContractData\", Sheet2!P58, \"Ask\",, \"T\"),\"\"))","v":33.380000000000003},{"$f":"IF(LEFT(Sheet2!P58,1)=\"\",\"\",IFERROR(IF(RTD(\"cqg.rtd\", ,\"ContractData\", Sheet2!P58, \"NetLastTradeToday\",, \"T\")>0,\"+\",\"\")&TEXT(RTD(\"cqg.rtd\", ,\"ContractData\", Sheet2!P58, \"NetLastTradeToday\",, \"T\"),\"0.00\"),\"\"))","v":"-0.44"},{"$f":"IFERROR(RTD(\"cqg.rtd\", ,\"ContractData\", Sheet2!P58, \"PerCentNetLastTrade\",, \"T\")/100,\"\")","v":-1.3013901212658975E-2},{"$f":"IF(LEFT(Sheet2!P58,1)=\"\",\"\",IFERROR(RTD(\"cqg.rtd\", ,\"ContractData\", Sheet2!P58, \"Open\",, \"T\"),\"\"))","v":34.01},{"$f":"IF(LEFT(Sheet2!P58,1)=\"\",\"\",IFERROR(RTD(\"cqg.rtd\", ,\"ContractData\", Sheet2!P58, \"High\",, \"T\"),\"\"))","v":34.03},{"$f":"IF(LEFT(Sheet2!P58,1)=\"\",\"\",IFERROR(RTD(\"cqg.rtd\", ,\"ContractData\", Sheet2!P58, \"Low\",, \"T\"),\"\"))","v":33.26},{"$f":"IF(LEFT(Sheet2!P58,1)=\"\",\"\",IFERROR(IF(RTD(\"cqg.rtd\", ,\"ContractData\", Sheet2!P58, \"NetLastTradeToday\",, \"T\")>0,\"+\",\"\")&TEXT(RTD(\"cqg.rtd\", ,\"ContractData\", Sheet2!P58, \"NetLastTradeToday\",, \"T\"),\"0.00\"),\"\"))","v":"-0.44"},{"$f":"Sheet2!Q58","v":0},null,null,null,null,null,null,null,0,0,{"$f":"RTD(\"cqg.rtd\", ,\"ContractData\", Sheet2!P58, \"TickSize\",, \"T\")","v":0.01}]
[null,null,"IF the Data is blank then hit Refresh in CQG",null,null,null,null,"  Copyright © 2021, CQG Inc.",null,null,null,"Designed by Thom Hartle"]
[]
[]
[]
[]
[]
[]
[]
[]
[null,null,null,null,null,null,null,null,null,null,null,null,null,null,null,null,null,{"$f":"IF(R31=\"S.US.AXL\",\"American Axle & Manufacturing Holdings, Inc\",RTD(\"cqg.rtd\", ,\"ContractData\",R31, \"LongDescription\",, \"T\"))&\"  NC: \"&U54","v":"SPDR S&P Kensho Smart Mobility ETF  NC: .37"},null,null,{"$f":"IFERROR(TEXT(RTD(\"cqg.rtd\", ,\"ContractData\",R31, \"NetLasttrade\",, \"T\"),W55),\"\")","v":".37"},{"$f":"LEN(U55)","v":4}]
[null,null,null,null,null,null,null,null,null,null,null,null,null,null,null,null,null,null,null,null,{"$f":"RTD(\"cqg.rtd\", ,\"ContractData\",R31, \"TickSize\",, \"T\")","v":0.01},{"$f":"IF(LEN(U55)-2<0,0,LEN(U55)-2)","v":2},{"$f":"IF(V55=0,\"#\",IF(V55=1,\"#.0\",IF(V55=2,\"#.00\",IF(V55=3,\"#.000\",IF(V55=4,\"#.0000\",IF(V55=5,\"#.00000\",IF(V55=6,\"#.000000\",IF(V55=7,\"#.0000000\"))))))))","v":"#.00"}]
[]
[null,null,null,null,null,null,null,null,null,null,null,null,null,null,null,{"$f":"Sheet4!$N$6","v":65.23},{"$f":"Sheet2!O1+0.025","v":0.10370370370370371},0,null,null,{"$f":"RTD(\"cqg.rtd\", ,\"ContractData\",B5, \"TickSize\",, \"T\")","v":0.01},{"$f":"IF(LEN(U57)-2<0,0,LEN(U57)-2)","v":2},{"$f":"IF(V57=0,\"#\",IF(V57=1,\"#.0\",IF(V57=2,\"#.00\",IF(V57=3,\"#.000\",IF(V57=4,\"#.0000\",IF(V57=5,\"#.00000\",IF(V57=6,\"#.000000\",IF(V57=7,\"#.0000000\"))))))))","v":"#.00"}]
[null,null,null,null,null,null,null,null,null,null,null,null,null,null,null,{"$f":"Sheet4!$N$7","v":55.370000000000005},0,{"$f":"MAX(Sheet2!O46)-0.0025","v":-1.5513901212658976E-2},null,null,{"$f":"RTD(\"cqg.rtd\", ,\"ContractData\",B6, \"TickSize\",, \"T\")","v":0.01},{"$f":"IF(LEN(U58)-2<0,0,LEN(U58)-2)","v":2},{"$f":"IF(V58=0,\"#\",IF(V58=1,\"#.0\",IF(V58=2,\"#.00\",IF(V58=3,\"#.000\",IF(V58=4,\"#.0000\",IF(V58=5,\"#.00000\",IF(V58=6,\"#.000000\",IF(V58=7,\"#.0000000\"))))))))","v":"#.00"}]
[null,null,null,null,null,null,null,null,null,null,null,null,null,null,null,null,null,null,null,null,{"$f":"RTD(\"cqg.rtd\", ,\"ContractData\",B7, \"TickSize\",, \"T\")","v":0.01},2,{"$f":"IF(V59=0,\"#\",IF(V59=1,\"#.0\",IF(V59=2,\"#.00\",IF(V59=3,\"#.000\",IF(V59=4,\"#.0000\",IF(V59=5,\"#.00000\",IF(V59=6,\"#.000000\",IF(V59=7,\"#.0000000\"))))))))","v":"#.00"}]
[null,null,null,null,null,null,null,null,null,null,null,null,null,null,null,null,null,null,null,null,{"$f":"RTD(\"cqg.rtd\", ,\"ContractData\",B8, \"TickSize\",, \"T\")","v":0.01},2,{"$f":"IF(V60=0,\"#\",IF(V60=1,\"#.0\",IF(V60=2,\"#.00\",IF(V60=3,\"#.000\",IF(V60=4,\"#.0000\",IF(V60=5,\"#.00000\",IF(V60=6,\"#.000000\",IF(V60=7,\"#.0000000\"))))))))","v":"#.00"}]
[null,null,null,null,null,null,null,null,null,null,null,null,null,null,null,null,null,null,null,null,{"$f":"RTD(\"cqg.rtd\", ,\"ContractData\",B9, \"TickSize\",, \"T\")","v":0.01},2,"#.00"]
[null,null,null,null,null,null,null,null,null,null,null,null,null,null,null,null,null,null,null,null,{"$f":"RTD(\"cqg.rtd\", ,\"ContractData\",B10, \"TickSize\",, \"T\")","v":0.01},2,"#.00"]
[null,null,null,null,null,null,null,null,null,null,null,null,null,null,null,null,null,null,null,null,{"$f":"RTD(\"cqg.rtd\", ,\"ContractData\",B11, \"TickSize\",, \"T\")","v":0.01},2,"#.00"]
[null,null,null,null,null,null,null,null,null,null,null,null,null,null,null,null,null,null,null,null,{"$f":"RTD(\"cqg.rtd\", ,\"ContractData\",B12, \"TickSize\",, \"T\")","v":0.01},{"$f":"LEN(U64)-2","v":2},"#.00"]

{"sheet":"Sheet1","index":1,"n_rows":71,"n_cols":19,"rows_kept":71,"cut":false,"hidden":true,"merged":[]}
["S.US.ADI","Semiconductors",null,null,null,{"$f":"RTD(\"cqg.rtd\", ,\"ContractData\",A1, \"LongDescription\",, \"T\")","v":"Analog Devices Inc"},null,null,{"$f":"RTD(\"cqg.rtd\", ,\"ContractData\",A1, \"LastTrade\",, \"T\")","v":148.37},{"$f":"RTD(\"cqg.rtd\",,\"StudyData\",\"HiLevel(\"&A1&\",Period1:=12,AllowGaps:=0,InputChoice1:=High,InputChoice3:=High)\",\"Bar\",, \"Close\",\"W\",\"0\",,,,,\"T\")","v":163.9},{"$f":"RTD(\"cqg.rtd\",,\"StudyData\",\"LoLevel(\"&A1&\",Period2:=12,AllowGaps:=0,InputChoice2:=Low,InputChoice4:=Low)\",\"Bar\",, \"Close\",\"W\",\"0\",,,,,\"T\")","v":142.25},{"$f":"(I1-K1)/(J1-K1)","v":0.28267898383371837},{"$f":"IFERROR(RANK(L1,$L$1:L$58,0)+COUNTIF($L$1:L1,L1)-1,\"\")","v":39},{"$f":"A1","v":"S.US.ADI"},{"$f":"L1","v":0.28267898383371837},1,{"$f":"IFERROR(VLOOKUP(P1,$M$1:$O$58,2,FALSE),\"\")","v":"S.US.CAR"},{"$f":"IFERROR(VLOOKUP(P1,$M$1:$O$58,3,FALSE),\"\")","v":0.9758704948075746},{"$f":"RTD(\"cqg.rtd\", ,\"ContractData\",Q1, \"LongDescription\",, \"T\")","v":"AVIS Budget Group Inc"}]
["S.US.ALSN","Construction Machinery & Heavy Trucks",null,null,null,{"$f":"RTD(\"cqg.rtd\", ,\"ContractData\",A2, \"LongDescription\",, \"T\")","v":"Allison Transmission Holdings, Inc."},null,null,{"$f":"RTD(\"cqg.rtd\", ,\"ContractData\",A2, \"LastTrade\",, \"T\")","v":45.2},{"$f":"RTD(\"cqg.rtd\",,\"StudyData\",\"HiLevel(\"&A2&\",Period1:=12,AllowGaps:=0,InputChoice1:=High,InputChoice3:=High)\",\"Bar\",, \"Close\",\"W\",\"0\",,,,,\"T\")","v":46.4},{"$f":"RTD(\"cqg.rtd\",,\"StudyData\",\"LoLevel(\"&A2&\",Period2:=12,AllowGaps:=0,InputChoice2:=Low,InputChoice4:=Low)\",\"Bar\",, \"Close\",\"W\",\"0\",,,,,\"T\")","v":38.380000000000003},{"$f":"(I2-K2)/(J2-K2)","v":0.85037406483790567},{"$f":"IFERROR(RANK(L2,$L$1:L$58,0)+COUNTIF($L$1:L2,L2)-1,\"\")","v":11},"S.US.ALSN",{"$f":"L2","v":0.85037406483790567},{"$f":"P1+1","v":2},{"$f":"IFERROR(VLOOKUP(P2,$M$1:$O$58,2,FALSE),\"\")","v":"S.US.TM"},{"$f":"IFERROR(VLOOKUP(P2,$M$1:$O$58,3,FALSE),\"\")","v":0.97249388753056298},{"$f":"RTD(\"cqg.rtd\", ,\"ContractData\",Q2, \"LongDescription\",, \"T\")","v":"Toyota Motor Corporation ADR"}]
["S.US.AMBA","Semiconductors",null,null,null,{"$f":"RTD(\"cqg.rtd\", ,\"ContractData\",A3, \"LongDescription\",, \"T\")","v":"Ambarella, Inc. Ordinary Shares"},null,null,{"$f":"RTD(\"cqg.rtd\", ,\"ContractData\",A3, \"LastTrade\",, \"T\")","v":89.210000000000008},{"$f":"RTD(\"cqg.rtd\",,\"StudyData\",\"HiLevel(\"&A3&\",Period1:=12,AllowGaps:=0,InputChoice1:=High,InputChoice3:=High)\",\"Bar\",, \"Close\",\"W\",\"0\",,,,,\"T\")","v":137.19999999999999},{"$f":"RTD(\"cqg.rtd\",,\"StudyData\",\"LoLevel(\"&A3&\",Period2:=12,AllowGaps:=0,InputChoice2:=Low,InputChoice4:=Low)\",\"Bar\",, \"Close\",\"W\",\"0\",,,,,\"T\")","v":82.59},0.12122321919062454,{"$f":"IFERROR(RANK(L3,$L$1:L$58,0)+COUNTIF($L$1:L3,L3)-1,\"\")","v":53},"S.US.AMBA",0.12122321919062454,{"$f":"P2+1","v":3},"S.US.TXT",0.95671421544515511,{"$f":"RTD(\"cqg.rtd\", ,\"ContractData\",Q3, \"LongDescription\",, \"T\")","v":"Textron Inc"}]
["S.US.ANSS","Application Software",null,null,null,{"$f":"RTD(\"cqg.rtd\", ,\"ContractData\",A4, \"LongDescription\",, \"T\")","v":"ANSYS Inc"},null,null,{"$f":"RTD(\"cqg.rtd\", ,\"ContractData\",A4, \"LastTrade\",, \"T\")","v":323.08},{"$f":"RTD(\"cqg.rtd\",,\"StudyData\",\"HiLevel(\"&A4&\",Period1:=12,AllowGaps:=0,InputChoice1:=High,InputChoice3:=High)\",\"Bar\",, \"Close\",\"W\",\"0\",,,,,\"T\")","v":378.75},{"$f":"RTD(\"cqg.rtd\",,\"StudyData\",\"LoLevel(\"&A4&\",Period2:=12,AllowGaps:=0,InputChoice2:=Low,InputChoice4:=Low)\",\"Bar\",, \"Close\",\"W\",\"0\",,,,,\"T\")","v":292.79000000000002},0.3523731968357372,{"$f":"IFERROR(RANK(L4,$L$1:L$58,0)+COUNTIF($L$1:L4,L4)-1,\"\")","v":33},"S.US.ANSS",0.3523731968357372,4,"S.US.STLA",0.95546558704453466,{"$f":"RTD(\"cqg.rtd\", ,\"ContractData\",Q4, \"LongDescription\",, \"T\")","v":"Stellantis N.V."}]
["S.US.APTV","Auto Parts & Equipment",null,null,null,{"$f":"RTD(\"cqg.rtd\", ,\"ContractData\",A5, \"LongDescription\",, \"T\")","v":"Aptiv PLC"},null,null,{"$f":"RTD(\"cqg.rtd\", ,\"ContractData\",A5, \"LastTrade\",, \"T\")","v":139.39000000000001},{"$f":"RTD(\"cqg.rtd\",,\"StudyData\",\"HiLevel(\"&A5&\",Period1:=12,AllowGaps:=0,InputChoice1:=High,InputChoice3:=High)\",\"Bar\",, \"Close\",\"W\",\"0\",,,,,\"T\")","v":160.13999999999999},{"$f":"RTD(\"cqg.rtd\",,\"StudyData\",\"LoLevel(\"&A5&\",Period2:=12,AllowGaps:=0,InputChoice2:=Low,InputChoice4:=Low)\",\"Bar\",, \"Close\",\"W\",\"0\",,,,,\"T\")","v":133.44999999999999},0.22255526414387511,{"$f":"IFERROR(RANK(L5,$L$1:L$58,0)+COUNTIF($L$1:L5,L5)-1,\"\")","v":41},"S.US.APTV",0.22255526414387511,5,"S.US.ORBC",0.93116634799235154,{"$f":"RTD(\"cqg.rtd\", ,\"ContractData\",Q5, \"LongDescription\",, \"T\")","v":"ORBCOMM Inc."}]
["S.US.AXL","Auto Parts & Equipment",null,null,null,{"$f":"RTD(\"cqg.rtd\", ,\"ContractData\",A6, \"LongDescription\",, \"T\")","v":"American Axle and Manufac"},null,null,{"$f":"RTD(\"cqg.rtd\", ,\"ContractData\",A6, \"LastTrade\",, \"T\")","v":11.03},{"$f":"RTD(\"cqg.rtd\",,\"StudyData\",\"HiLevel(\"&A6&\",Period1:=12,AllowGaps:=0,InputChoice1:=High,InputChoice3:=High)\",\"Bar\",, \"Close\",\"W\",\"0\",,,,,\"T\")","v":12.92},{"$f":"RTD(\"cqg.rtd\",,\"StudyData\",\"LoLevel(\"&A6&\",Period2:=12,AllowGaps:=0,InputChoice2:=Low,InputChoice4:=Low)\",\"Bar\",, \"Close\",\"W\",\"0\",,,,,\"T\")","v":8.65},0.55737704918032771,{"$f":"IFERROR(RANK(L6,$L$1:L$58,0)+COUNTIF($L$1:L6,L6)-1,\"\")","v":22},"S.US.AXL",0.55737704918032771,6,"S.US.DAN",0.92375366568914963,{"$f":"RTD(\"cqg.rtd\", ,\"ContractData\",Q6, \"LongDescription\",, \"T\")","v":"Dana Holding Corp"}]
["S.US.BIDU","Interactive Media & Services",null,null,null,{"$f":"RTD(\"cqg.rtd\", ,\"ContractData\",A7, \"LongDescription\",, \"T\")","v":"Baidu Inc"},null,null,{"$f":"RTD(\"cqg.rtd\", ,\"ContractData\",A7, \"LastTrade\",, \"T\")","v":191.81},{"$f":"RTD(\"cqg.rtd\",,\"StudyData\",\"HiLevel(\"&A7&\",Period1:=12,AllowGaps:=0,InputChoice1:=High,InputChoice3:=High)\",\"Bar\",, \"Close\",\"W\",\"0\",,,,,\"T\")","v":311.18},{"$f":"RTD(\"cqg.rtd\",,\"StudyData\",\"LoLevel(\"&A7&\",Period2:=12,AllowGaps:=0,InputChoice2:=Low,InputChoice4:=Low)\",\"Bar\",, \"Close\",\"W\",\"0\",,,,,\"T\")","v":174.05},0.12951214176329023,{"$f":"IFERROR(RANK(L7,$L$1:L$58,0)+COUNTIF($L$1:L7,L7)-1,\"\")","v":52},"S.US.BIDU",0.12951214176329023,7,"S.US.MT",0.91208791208791207,{"$f":"RTD(\"cqg.rtd\", ,\"ContractData\",Q7, \"LongDescription\",, \"T\")","v":"Arcelor Mittal"}]
["S.US.BLDP","Electrical Components & Equipment",null,null,null,{"$f":"RTD(\"cqg.rtd\", ,\"ContractData\",A8, \"LongDescription\",, \"T\")","v":"Ballard Power System"},null,null,{"$f":"RTD(\"cqg.rtd\", ,\"ContractData\",A8, \"LastTrade\",, \"T\")","v":14.58},{"$f":"RTD(\"cqg.rtd\",,\"StudyData\",\"HiLevel(\"&A8&\",Period1:=12,AllowGaps:=0,InputChoice1:=High,InputChoice3:=High)\",\"Bar\",, \"Close\",\"W\",\"0\",,,,,\"T\")","v":30.06},{"$f":"RTD(\"cqg.rtd\",,\"StudyData\",\"LoLevel(\"&A8&\",Period2:=12,AllowGaps:=0,InputChoice2:=Low,InputChoice4:=Low)\",\"Bar\",, \"Close\",\"W\",\"0\",,,,,\"T\")","v":12.8},0.10312862108922362,{"$f":"IFERROR(RANK(L8,$L$1:L$58,0)+COUNTIF($L$1:L8,L8)-1,\"\")","v":56},"S.US.BLDP",0.10312862108922362,8,"S.US.MOD",0.8835820895522386,{"$f":"RTD(\"cqg.rtd\", ,\"ContractData\",Q8, \"LongDescription\",, \"T\")","v":"Modine Manufacturing Co"}]
["S.US.BLNK","Automotive Retail",null,null,null,{"$f":"RTD(\"cqg.rtd\", ,\"ContractData\",A9, \"LongDescription\",, \"T\")","v":"Blink Charging Co."},null,null,{"$f":"RTD(\"cqg.rtd\", ,\"ContractData\",A9, \"LastTrade\",, \"T\")","v":32.630000000000003},{"$f":"RTD(\"cqg.rtd\",,\"StudyData\",\"HiLevel(\"&A9&\",Period1:=12,AllowGaps:=0,InputChoice1:=High,InputChoice3:=High)\",\"Bar\",, \"Close\",\"W\",\"0\",,,,,\"T\")","v":46.45},{"$f":"RTD(\"cqg.rtd\",,\"StudyData\",\"LoLevel(\"&A9&\",Period2:=12,AllowGaps:=0,InputChoice2:=Low,InputChoice4:=Low)\",\"Bar\",, \"Close\",\"W\",\"0\",,,,,\"T\")","v":25},0.35571095571095579,{"$f":"IFERROR(RANK(L9,$L$1:L$58,0)+COUNTIF($L$1:L9,L9)-1,\"\")","v":32},"S.US.BLNK",0.35571095571095579,9,"S.US.VNT",0.87276341948310121,{"$f":"RTD(\"cqg.rtd\", ,\"ContractData\",Q9, \"LongDescription\",, \"T\")","v":"Vontier Corporation"}]
["S.US.BWA","Auto Parts & Equipment",null,null,null,{"$f":"RTD(\"cqg.rtd\", ,\"ContractData\",A10, \"LongDescription\",, \"T\")","v":"Borg Warner Inc"},null,null,{"$f":"RTD(\"cqg.rtd\", ,\"ContractData\",A10, \"LastTrade\",, \"T\")","v":51.43},{"$f":"RTD(\"cqg.rtd\",,\"StudyData\",\"HiLevel(\"&A10&\",Period1:=12,AllowGaps:=0,InputChoice1:=High,InputChoice3:=High)\",\"Bar\",, \"Close\",\"W\",\"0\",,,,,\"T\")","v":54.21},{"$f":"RTD(\"cqg.rtd\",,\"StudyData\",\"LoLevel(\"&A10&\",Period2:=12,AllowGaps:=0,InputChoice2:=Low,InputChoice4:=Low)\",\"Bar\",, \"Close\",\"W\",\"0\",,,,,\"T\")","v":42.53},0.7619863013698629,{"$f":"IFERROR(RANK(L10,$L$1:L$58,0)+COUNTIF($L$1:L10,L10)-1,\"\")","v":14},"S.US.BWA",0.7619863013698629,10,"S.US.SANM",0.85185185185185208,{"$f":"RTD(\"cqg.rtd\", ,\"ContractData\",Q10, \"LongDescription\",, \"T\")","v":"Sanmina Corp"}]
["S.US.CAMP","Communications Equipment",null,null,null,{"$f":"RTD(\"cqg.rtd\", ,\"ContractData\",A11, \"LongDescription\",, \"T\")","v":"CalAmp Corp."},null,null,{"$f":"RTD(\"cqg.rtd\", ,\"ContractData\",A11, \"LastTrade\",, \"T\")","v":13.47},{"$f":"RTD(\"cqg.rtd\",,\"StudyData\",\"HiLevel(\"&A11&\",Period1:=12,AllowGaps:=0,InputChoice1:=High,InputChoice3:=High)\",\"Bar\",, \"Close\",\"W\",\"0\",,,,,\"T\")","v":14.45},{"$f":"RTD(\"cqg.rtd\",,\"StudyData\",\"LoLevel(\"&A11&\",Period2:=12,AllowGaps:=0,InputChoice2:=Low,InputChoice4:=Low)\",\"Bar\",, \"Close\",\"W\",\"0\",,,,,\"T\")","v":10.17},0.77102803738317782,{"$f":"IFERROR(RANK(L11,$L$1:L$58,0)+COUNTIF($L$1:L11,L11)-1,\"\")","v":13},"S.US.CAMP",0.77102803738317782,11,"S.US.ALSN",0.85037406483790567,{"$f":"RTD(\"cqg.rtd\", ,\"ContractData\",Q11, \"LongDescription\",, \"T\")","v":"Allison Transmission Holdings, Inc."}]
["S.US.CAR","Trucking",null,null,null,{"$f":"RTD(\"cqg.rtd\", ,\"ContractData\",A12, \"LongDescription\",, \"T\")","v":"AVIS Budget Group Inc"},null,null,{"$f":"RTD(\"cqg.rtd\", ,\"ContractData\",A12, \"LastTrade\",, \"T\")","v":89.49},{"$f":"RTD(\"cqg.rtd\",,\"StudyData\",\"HiLevel(\"&A12&\",Period1:=12,AllowGaps:=0,InputChoice1:=High,InputChoice3:=High)\",\"Bar\",, \"Close\",\"W\",\"0\",,,,,\"T\")","v":90.28},{"$f":"RTD(\"cqg.rtd\",,\"StudyData\",\"LoLevel(\"&A12&\",Period2:=12,AllowGaps:=0,InputChoice2:=Low,InputChoice4:=Low)\",\"Bar\",, \"Close\",\"W\",\"0\",,,,,\"T\")","v":57.54},0.9758704948075746,{"$f":"IFERROR(RANK(L12,$L$1:L$58,0)+COUNTIF($L$1:L12,L12)-1,\"\")","v":1},"S.US.CAR",0.9758704948075746,12,"S.US.LXFR",0.80295566502463034,{"$f":"RTD(\"cqg.rtd\", ,\"ContractData\",Q12, \"LongDescription\",, \"T\")","v":"Luxfer Holdings Plc"}]
["S.US.CMI","Construction Machinery & Heavy Trucks",null,null,null,{"$f":"RTD(\"cqg.rtd\", ,\"ContractData\",A13, \"LongDescription\",, \"T\")","v":"Cummins Inc"},null,null,{"$f":"RTD(\"cqg.rtd\", ,\"ContractData\",A13, \"LastTrade\",, \"T\")","v":262.98},{"$f":"RTD(\"cqg.rtd\",,\"StudyData\",\"HiLevel(\"&A13&\",Period1:=12,AllowGaps:=0,InputChoice1:=High,InputChoice3:=High)\",\"Bar\",, \"Close\",\"W\",\"0\",,,,,\"T\")","v":277.08999999999997},{"$f":"RTD(\"cqg.rtd\",,\"StudyData\",\"LoLevel(\"&A13&\",Period2:=12,AllowGaps:=0,InputChoice2:=Low,InputChoice4:=Low)\",\"Bar\",, \"Close\",\"W\",\"0\",,,,,\"T\")","v":247.03},0.53060545575515738,{"$f":"IFERROR(RANK(L13,$L$1:L$58,0)+COUNTIF($L$1:L13,L13)-1,\"\")","v":24},"S.US.CMI",0.53060545575515738,13,"S.US.CAMP",0.77102803738317782,{"$f":"RTD(\"cqg.rtd\", ,\"ContractData\",Q13, \"LongDescription\",, \"T\")","v":"CalAmp Corp."}]
["S.US.DAN","Auto Parts & Equipment",null,null,null,{"$f":"RTD(\"cqg.rtd\", ,\"ContractData\",A14, \"LongDescription\",, \"T\")","v":"Dana Holding Corp"},null,null,{"$f":"RTD(\"cqg.rtd\", ,\"ContractData\",A14, \"LastTrade\",, \"T\")","v":27.92},{"$f":"RTD(\"cqg.rtd\",,\"StudyData\",\"HiLevel(\"&A14&\",Period1:=12,AllowGaps:=0,InputChoice1:=High,InputChoice3:=High)\",\"Bar\",, \"Close\",\"W\",\"0\",,,,,\"T\")","v":28.44},{"$f":"RTD(\"cqg.rtd\",,\"StudyData\",\"LoLevel(\"&A14&\",Period2:=12,AllowGaps:=0,InputChoice2:=Low,InputChoice4:=Low)\",\"Bar\",, \"Close\",\"W\",\"0\",,,,,\"T\")","v":21.62},0.92375366568914963,{"$f":"IFERROR(RANK(L14,$L$1:L$58,0)+COUNTIF($L$1:L14,L14)-1,\"\")","v":6},"S.US.DAN",0.92375366568914963,14,"S.US.BWA",0.7619863013698629,{"$f":"RTD(\"cqg.rtd\", ,\"ContractData\",Q14, \"LongDescription\",, \"T\")","v":"Borg Warner Inc"}]
["S.US.F","Automobile Manufacturers",null,null,null,{"$f":"RTD(\"cqg.rtd\", ,\"ContractData\",A15, \"LongDescription\",, \"T\")","v":"Ford Motor Company"},null,null,{"$f":"RTD(\"cqg.rtd\", ,\"ContractData\",A15, \"LastTrade\",, \"T\")","v":12.450000000000001},{"$f":"RTD(\"cqg.rtd\",,\"StudyData\",\"HiLevel(\"&A15&\",Period1:=12,AllowGaps:=0,InputChoice1:=High,InputChoice3:=High)\",\"Bar\",, \"Close\",\"W\",\"0\",,,,,\"T\")","v":13.62},{"$f":"RTD(\"cqg.rtd\",,\"StudyData\",\"LoLevel(\"&A15&\",Period2:=12,AllowGaps:=0,InputChoice2:=Low,InputChoice4:=Low)\",\"Bar\",, \"Close\",\"W\",\"0\",,,,,\"T\")","v":11.14},0.52822580645161343,{"$f":"IFERROR(RANK(L15,$L$1:L$58,0)+COUNTIF($L$1:L15,L15)-1,\"\")","v":25},"S.US.F",0.52822580645161343,15,"S.US.TTM",0.73540856031128421,{"$f":"RTD(\"cqg.rtd\", ,\"ContractData\",Q15, \"LongDescription\",, \"T\")","v":"Tata Motors Limited"}]
["S.US.GILT","Electronic Equipment & Instruments",null,null,null,{"$f":"RTD(\"cqg.rtd\", ,\"ContractData\",A16, \"LongDescription\",, \"T\")","v":"Gilat Satellite Ntks Ltd"},null,null,{"$f":"RTD(\"cqg.rtd\", ,\"ContractData\",A16, \"LastTrade\",, \"T\")","v":8.98},{"$f":"RTD(\"cqg.rtd\",,\"StudyData\",\"HiLevel(\"&A16&\",Period1:=12,AllowGaps:=0,InputChoice1:=High,InputChoice3:=High)\",\"Bar\",, \"Close\",\"W\",\"0\",,,,,\"T\")","v":15.22},{"$f":"RTD(\"cqg.rtd\",,\"StudyData\",\"LoLevel(\"&A16&\",Period2:=12,AllowGaps:=0,InputChoice2:=Low,InputChoice4:=Low)\",\"Bar\",, \"Close\",\"W\",\"0\",,,,,\"T\")","v":8.32},9.5652173913043495E-2,{"$f":"IFERROR(RANK(L16,$L$1:L$58,0)+COUNTIF($L$1:L16,L16)-1,\"\")","v":57},"S.US.GILT",9.5652173913043495E-2,16,"S.US.LEA",0.69390171699230307,{"$f":"RTD(\"cqg.rtd\", ,\"ContractData\",Q16, \"LongDescription\",, \"T\")","v":"Lear Corporation"}]
["S.US.GM","Communications Equipment",null,null,null,{"$f":"RTD(\"cqg.rtd\", ,\"ContractData\",A17, \"LongDescription\",, \"T\")","v":"General Motors Company"},null,null,{"$f":"RTD(\"cqg.rtd\", ,\"ContractData\",A17, \"LastTrade\",, \"T\")","v":56.68},{"$f":"RTD(\"cqg.rtd\",,\"StudyData\",\"HiLevel(\"&A17&\",Period1:=12,AllowGaps:=0,InputChoice1:=High,InputChoice3:=High)\",\"Bar\",, \"Close\",\"W\",\"0\",,,,,\"T\")","v":63.44},{"$f":"RTD(\"cqg.rtd\",,\"StudyData\",\"LoLevel(\"&A17&\",Period2:=12,AllowGaps:=0,InputChoice2:=Low,InputChoice4:=Low)\",\"Bar\",, \"Close\",\"W\",\"0\",,,,,\"T\")","v":50.25},0.48749052312357855,{"$f":"IFERROR(RANK(L17,$L$1:L$58,0)+COUNTIF($L$1:L17,L17)-1,\"\")","v":28},"S.US.GM",0.48749052312357855,17,"S.US.HMC",0.61126005361930225,{"$f":"RTD(\"cqg.rtd\", ,\"ContractData\",Q17, \"LongDescription\",, \"T\")","v":"Honda Motor Co Ltd"}]
["S.US.HEI","Automobile Manufacturers",null,null,null,{"$f":"RTD(\"cqg.rtd\", ,\"ContractData\",A18, \"LongDescription\",, \"T\")","v":"HEICO CORP"},null,null,{"$f":"RTD(\"cqg.rtd\", ,\"ContractData\",A18, \"LastTrade\",, \"T\")","v":132.74},{"$f":"RTD(\"cqg.rtd\",,\"StudyData\",\"HiLevel(\"&A18&\",Period1:=12,AllowGaps:=0,InputChoice1:=High,InputChoice3:=High)\",\"Bar\",, \"Close\",\"W\",\"0\",,,,,\"T\")","v":142.88999999999999},{"$f":"RTD(\"cqg.rtd\",,\"StudyData\",\"LoLevel(\"&A18&\",Period2:=12,AllowGaps:=0,InputChoice2:=Low,InputChoice4:=Low)\",\"Bar\",, \"Close\",\"W\",\"0\",,,,,\"T\")","v":117.06},0.60704607046070524,{"$f":"IFERROR(RANK(L18,$L$1:L$58,0)+COUNTIF($L$1:L18,L18)-1,\"\")","v":19},"S.US.HEI",0.60704607046070524,18,"S.US.TDY",0.60972785176606836,{"$f":"RTD(\"cqg.rtd\", ,\"ContractData\",Q18, \"LongDescription\",, \"T\")","v":"Teledyne Technologies Inc"}]
["S.US.HMC","Aerospace & Defence",null,null,null,{"$f":"RTD(\"cqg.rtd\", ,\"ContractData\",A19, \"LongDescription\",, \"T\")","v":"Honda Motor Co Ltd"},null,null,{"$f":"RTD(\"cqg.rtd\", ,\"ContractData\",A19, \"LastTrade\",, \"T\")","v":30.47},{"$f":"RTD(\"cqg.rtd\",,\"StudyData\",\"HiLevel(\"&A19&\",Period1:=12,AllowGaps:=0,InputChoice1:=High,InputChoice3:=High)\",\"Bar\",, \"Close\",\"W\",\"0\",,,,,\"T\")","v":31.92},{"$f":"RTD(\"cqg.rtd\",,\"StudyData\",\"LoLevel(\"&A19&\",Period2:=12,AllowGaps:=0,InputChoice2:=Low,InputChoice4:=Low)\",\"Bar\",, \"Close\",\"W\",\"0\",,,,,\"T\")","v":28.19},0.61126005361930225,{"$f":"IFERROR(RANK(L19,$L$1:L$58,0)+COUNTIF($L$1:L19,L19)-1,\"\")","v":17},"S.US.HMC",0.61126005361930225,19,"S.US.HEI",0.60704607046070524,{"$f":"RTD(\"cqg.rtd\", ,\"ContractData\",Q19, \"LongDescription\",, \"T\")","v":"HEICO CORP"}]
["S.US.HY","Automobile Manufacturers",null,null,null,{"$f":"RTD(\"cqg.rtd\", ,\"ContractData\",A20, \"LongDescription\",, \"T\")","v":"Hyster-Yale Materials Handling, Inc."},null,null,{"$f":"RTD(\"cqg.rtd\", ,\"ContractData\",A20, \"LastTrade\",, \"T\")","v":76.44},{"$f":"RTD(\"cqg.rtd\",,\"StudyData\",\"HiLevel(\"&A20&\",Period1:=12,AllowGaps:=0,InputChoice1:=High,InputChoice3:=High)\",\"Bar\",, \"Close\",\"W\",\"0\",,,,,\"T\")","v":98.21},{"$f":"RTD(\"cqg.rtd\",,\"StudyData\",\"LoLevel(\"&A20&\",Period2:=12,AllowGaps:=0,InputChoice2:=Low,InputChoice4:=Low)\",\"Bar\",, \"Close\",\"W\",\"0\",,,,,\"T\")","v":71.44},0.18677624206200974,{"$f":"IFERROR(RANK(L20,$L$1:L$58,0)+COUNTIF($L$1:L20,L20)-1,\"\")","v":47},"S.US.HY",0.18677624206200974,20,"S.US.NVDA",0.56939214631522328,{"$f":"RTD(\"cqg.rtd\", ,\"ContractData\",Q20, \"LongDescription\",, \"T\")","v":"NVIDIA Corp"}]
["S.US.INTC","Industrial Machinery",null,null,null,{"$f":"RTD(\"cqg.rtd\", ,\"ContractData\",A21, \"LongDescription\",, \"T\")","v":"Intel Corporation"},null,null,{"$f":"RTD(\"cqg.rtd\", ,\"ContractData\",A21, \"LastTrade\",, \"T\")","v":55.68},{"$f":"RTD(\"cqg.rtd\",,\"StudyData\",\"HiLevel(\"&A21&\",Period1:=12,AllowGaps:=0,InputChoice1:=High,InputChoice3:=High)\",\"Bar\",, \"Close\",\"W\",\"0\",,,,,\"T\")","v":68.489999999999995},{"$f":"RTD(\"cqg.rtd\",,\"StudyData\",\"LoLevel(\"&A21&\",Period2:=12,AllowGaps:=0,InputChoice2:=Low,InputChoice4:=Low)\",\"Bar\",, \"Close\",\"W\",\"0\",,,,,\"T\")","v":53.42},0.14996682149966814,{"$f":"IFERROR(RANK(L21,$L$1:L$58,0)+COUNTIF($L$1:L21,L21)-1,\"\")","v":49},"S.US.INTC",0.14996682149966814,21,"S.US.NXPI",0.56527565084226639,{"$f":"RTD(\"cqg.rtd\", ,\"ContractData\",Q21, \"LongDescription\",, \"T\")","v":"NXP Semiconductors N.V."}]
["S.US.IX","Semiconductors",null,null,null,{"$f":"RTD(\"cqg.rtd\", ,\"ContractData\",A22, \"LongDescription\",, \"T\")","v":"ORIX Corporation"},null,null,{"$f":"RTD(\"cqg.rtd\", ,\"ContractData\",A22, \"LastTrade\",, \"T\")","v":85.960000000000008},{"$f":"RTD(\"cqg.rtd\",,\"StudyData\",\"HiLevel(\"&A22&\",Period1:=12,AllowGaps:=0,InputChoice1:=High,InputChoice3:=High)\",\"Bar\",, \"Close\",\"W\",\"0\",,,,,\"T\")","v":91.38},{"$f":"RTD(\"cqg.rtd\",,\"StudyData\",\"LoLevel(\"&A22&\",Period2:=12,AllowGaps:=0,InputChoice2:=Low,InputChoice4:=Low)\",\"Bar\",, \"Close\",\"W\",\"0\",,,,,\"T\")","v":79.510000000000005},0.54338668913226695,{"$f":"IFERROR(RANK(L22,$L$1:L$58,0)+COUNTIF($L$1:L22,L22)-1,\"\")","v":23},"S.US.IX",0.54338668913226695,22,"S.US.AXL",0.55737704918032771,{"$f":"RTD(\"cqg.rtd\", ,\"ContractData\",Q22, \"LongDescription\",, \"T\")","v":"American Axle and Manufac"}]
["S.US.KNDI","Other Diversified Financial Services",null,null,null,{"$f":"RTD(\"cqg.rtd\", ,\"ContractData\",A23, \"LongDescription\",, \"T\")","v":"Kandi Technologies Group Inc."},null,null,{"$f":"RTD(\"cqg.rtd\", ,\"ContractData\",A23, \"LastTrade\",, \"T\")","v":5.05},{"$f":"RTD(\"cqg.rtd\",,\"StudyData\",\"HiLevel(\"&A23&\",Period1:=12,AllowGaps:=0,InputChoice1:=High,InputChoice3:=High)\",\"Bar\",, \"Close\",\"W\",\"0\",,,,,\"T\")","v":7.49},{"$f":"RTD(\"cqg.rtd\",,\"StudyData\",\"LoLevel(\"&A23&\",Period2:=12,AllowGaps:=0,InputChoice2:=Low,InputChoice4:=Low)\",\"Bar\",, \"Close\",\"W\",\"0\",,,,,\"T\")","v":4.4000000000000004},0.21035598705501601,{"$f":"IFERROR(RANK(L23,$L$1:L$58,0)+COUNTIF($L$1:L23,L23)-1,\"\")","v":44},"S.US.KNDI",0.21035598705501601,23,"S.US.IX",0.54338668913226695,{"$f":"RTD(\"cqg.rtd\", ,\"ContractData\",Q23, \"LongDescription\",, \"T\")","v":"ORIX Corporation"}]
["S.US.LEA","Auto Parts & Equipment",null,null,null,{"$f":"RTD(\"cqg.rtd\", ,\"ContractData\",A24, \"LongDescription\",, \"T\")","v":"Lear Corporation"},null,null,{"$f":"RTD(\"cqg.rtd\", ,\"ContractData\",A24, \"LastTrade\",, \"T\")","v":186.63},{"$f":"RTD(\"cqg.rtd\",,\"StudyData\",\"HiLevel(\"&A24&\",Period1:=12,AllowGaps:=0,InputChoice1:=High,InputChoice3:=High)\",\"Bar\",, \"Close\",\"W\",\"0\",,,,,\"T\")","v":196.97},{"$f":"RTD(\"cqg.rtd\",,\"StudyData\",\"LoLevel(\"&A24&\",Period2:=12,AllowGaps:=0,InputChoice2:=Low,InputChoice4:=Low)\",\"Bar\",, \"Close\",\"W\",\"0\",,,,,\"T\")","v":163.19},0.69390171699230307,{"$f":"IFERROR(RANK(L24,$L$1:L$58,0)+COUNTIF($L$1:L24,L24)-1,\"\")","v":16},"S.US.LEA",0.69390171699230307,24,"S.US.CMI",0.53060545575515738,{"$f":"RTD(\"cqg.rtd\", ,\"ContractData\",Q24, \"LongDescription\",, \"T\")","v":"Cummins Inc"}]
["S.US.LXFR","Auto Parts & Equipment",null,null,null,{"$f":"RTD(\"cqg.rtd\", ,\"ContractData\",A25, \"LongDescription\",, \"T\")","v":"Luxfer Holdings Plc"},null,null,{"$f":"RTD(\"cqg.rtd\", ,\"ContractData\",A25, \"LastTrade\",, \"T\")","v":22.29},{"$f":"RTD(\"cqg.rtd\",,\"StudyData\",\"HiLevel(\"&A25&\",Period1:=12,AllowGaps:=0,InputChoice1:=High,InputChoice3:=High)\",\"Bar\",, \"Close\",\"W\",\"0\",,,,,\"T\")","v":23.09},{"$f":"RTD(\"cqg.rtd\",,\"StudyData\",\"LoLevel(\"&A25&\",Period2:=12,AllowGaps:=0,InputChoice2:=Low,InputChoice4:=Low)\",\"Bar\",, \"Close\",\"W\",\"0\",,,,,\"T\")","v":19.03},0.80295566502463034,{"$f":"IFERROR(RANK(L25,$L$1:L$58,0)+COUNTIF($L$1:L25,L25)-1,\"\")","v":12},"S.US.LXFR",0.80295566502463034,25,"S.US.F",0.52822580645161343,{"$f":"RTD(\"cqg.rtd\", ,\"ContractData\",Q25, \"LongDescription\",, \"T\")","v":"Ford Motor Company"}]
["S.US.LYFT","Industrial Machinery",null,null,null,{"$f":"RTD(\"cqg.rtd\", ,\"ContractData\",A26, \"LongDescription\",, \"T\")","v":"Lyft, Inc. Class A"},null,null,{"$f":"RTD(\"cqg.rtd\", ,\"ContractData\",A26, \"LastTrade\",, \"T\")","v":52.15},{"$f":"RTD(\"cqg.rtd\",,\"StudyData\",\"HiLevel(\"&A26&\",Period1:=12,AllowGaps:=0,InputChoice1:=High,InputChoice3:=High)\",\"Bar\",, \"Close\",\"W\",\"0\",,,,,\"T\")","v":68.28},{"$f":"RTD(\"cqg.rtd\",,\"StudyData\",\"LoLevel(\"&A26&\",Period2:=12,AllowGaps:=0,InputChoice2:=Low,InputChoice4:=Low)\",\"Bar\",, \"Close\",\"W\",\"0\",,,,,\"T\")","v":45.28},0.29869565217391292,{"$f":"IFERROR(RANK(L26,$L$1:L$58,0)+COUNTIF($L$1:L26,L26)-1,\"\")","v":38},"S.US.LYFT",0.29869565217391292,26,"S.US.TXN",0.52464494569757703,{"$f":"RTD(\"cqg.rtd\", ,\"ContractData\",Q26, \"LongDescription\",, \"T\")","v":"Texas Instruments Inc"}]
["S.US.MOD","Trucking",null,null,null,{"$f":"RTD(\"cqg.rtd\", ,\"ContractData\",A27, \"LongDescription\",, \"T\")","v":"Modine Manufacturing Co"},null,null,{"$f":"RTD(\"cqg.rtd\", ,\"ContractData\",A27, \"LastTrade\",, \"T\")","v":16.88},{"$f":"RTD(\"cqg.rtd\",,\"StudyData\",\"HiLevel(\"&A27&\",Period1:=12,AllowGaps:=0,InputChoice1:=High,InputChoice3:=High)\",\"Bar\",, \"Close\",\"W\",\"0\",,,,,\"T\")","v":17.27},{"$f":"RTD(\"cqg.rtd\",,\"StudyData\",\"LoLevel(\"&A27&\",Period2:=12,AllowGaps:=0,InputChoice2:=Low,InputChoice4:=Low)\",\"Bar\",, \"Close\",\"W\",\"0\",,,,,\"T\")","v":13.92},0.8835820895522386,{"$f":"IFERROR(RANK(L27,$L$1:L$58,0)+COUNTIF($L$1:L27,L27)-1,\"\")","v":8},"S.US.MOD",0.8835820895522386,27,"S.US.TRMB",0.49469570072585156,{"$f":"RTD(\"cqg.rtd\", ,\"ContractData\",Q27, \"LongDescription\",, \"T\")","v":"Trimble Inc."}]
["S.US.MT","Auto Parts & Equipment",null,null,null,{"$f":"RTD(\"cqg.rtd\", ,\"ContractData\",A28, \"LongDescription\",, \"T\")","v":"Arcelor Mittal"},null,null,{"$f":"RTD(\"cqg.rtd\", ,\"ContractData\",A28, \"LastTrade\",, \"T\")","v":32.99},{"$f":"RTD(\"cqg.rtd\",,\"StudyData\",\"HiLevel(\"&A28&\",Period1:=12,AllowGaps:=0,InputChoice1:=High,InputChoice3:=High)\",\"Bar\",, \"Close\",\"W\",\"0\",,,,,\"T\")","v":33.950000000000003},{"$f":"RTD(\"cqg.rtd\",,\"StudyData\",\"LoLevel(\"&A28&\",Period2:=12,AllowGaps:=0,InputChoice2:=Low,InputChoice4:=Low)\",\"Bar\",, \"Close\",\"W\",\"0\",,,,,\"T\")","v":23.03},0.91208791208791207,{"$f":"IFERROR(RANK(L28,$L$1:L$58,0)+COUNTIF($L$1:L28,L28)-1,\"\")","v":7},"S.US.MT",0.91208791208791207,28,"S.US.GM",0.48749052312357855,{"$f":"RTD(\"cqg.rtd\", ,\"ContractData\",Q28, \"LongDescription\",, \"T\")","v":"General Motors Company"}]
["S.US.MTOR","Steel",null,null,null,{"$f":"RTD(\"cqg.rtd\", ,\"ContractData\",A29, \"LongDescription\",, \"T\")","v":"Meritor Inc."},null,null,{"$f":"RTD(\"cqg.rtd\", ,\"ContractData\",A29, \"LastTrade\",, \"T\")","v":26.07},{"$f":"RTD(\"cqg.rtd\",,\"StudyData\",\"HiLevel(\"&A29&\",Period1:=12,AllowGaps:=0,InputChoice1:=High,InputChoice3:=High)\",\"Bar\",, \"Close\",\"W\",\"0\",,,,,\"T\")","v":32.93},{"$f":"RTD(\"cqg.rtd\",,\"StudyData\",\"LoLevel(\"&A29&\",Period2:=12,AllowGaps:=0,InputChoice2:=Low,InputChoice4:=Low)\",\"Bar\",, \"Close\",\"W\",\"0\",,,,,\"T\")","v":24.03},0.22921348314606735,{"$f":"IFERROR(RANK(L29,$L$1:L$58,0)+COUNTIF($L$1:L29,L29)-1,\"\")","v":40},"S.US.MTOR",0.22921348314606735,29,"S.US.NKLA",0.48070907194994789,{"$f":"RTD(\"cqg.rtd\", ,\"ContractData\",Q29, \"LongDescription\",, \"T\")","v":"Nikola Corporation"}]
["S.US.NIO","Construction Machinery & Heavy Trucks",null,null,null,{"$f":"RTD(\"cqg.rtd\", ,\"ContractData\",A30, \"LongDescription\",, \"T\")","v":"NIO, Inc."},null,null,{"$f":"RTD(\"cqg.rtd\", ,\"ContractData\",A30, \"LastTrade\",, \"T\")","v":33.369999999999997},{"$f":"RTD(\"cqg.rtd\",,\"StudyData\",\"HiLevel(\"&A30&\",Period1:=12,AllowGaps:=0,InputChoice1:=High,InputChoice3:=High)\",\"Bar\",, \"Close\",\"W\",\"0\",,,,,\"T\")","v":50.42},{"$f":"RTD(\"cqg.rtd\",,\"StudyData\",\"LoLevel(\"&A30&\",Period2:=12,AllowGaps:=0,InputChoice2:=Low,InputChoice4:=Low)\",\"Bar\",, \"Close\",\"W\",\"0\",,,,,\"T\")","v":30.71},0.13495687468290191,{"$f":"IFERROR(RANK(L30,$L$1:L$58,0)+COUNTIF($L$1:L30,L30)-1,\"\")","v":51},"S.US.NIO",0.13495687468290191,30,"S.US.YNDX",0.47599674532139996,{"$f":"RTD(\"cqg.rtd\", ,\"ContractData\",Q30, \"LongDescription\",, \"T\")","v":"Yandex N.V."}]
["S.US.NIU","Automobile Manufacturers",null,null,null,{"$f":"RTD(\"cqg.rtd\", ,\"ContractData\",A31, \"LongDescription\",, \"T\")","v":"Niu Technologies"},null,null,{"$f":"RTD(\"cqg.rtd\", ,\"ContractData\",A31, \"LastTrade\",, \"T\")","v":29.38},{"$f":"RTD(\"cqg.rtd\",,\"StudyData\",\"HiLevel(\"&A31&\",Period1:=12,AllowGaps:=0,InputChoice1:=High,InputChoice3:=High)\",\"Bar\",, \"Close\",\"W\",\"0\",,,,,\"T\")","v":43.92},{"$f":"RTD(\"cqg.rtd\",,\"StudyData\",\"LoLevel(\"&A31&\",Period2:=12,AllowGaps:=0,InputChoice2:=Low,InputChoice4:=Low)\",\"Bar\",, \"Close\",\"W\",\"0\",,,,,\"T\")","v":26},0.18861607142857134,{"$f":"IFERROR(RANK(L31,$L$1:L$58,0)+COUNTIF($L$1:L31,L31)-1,\"\")","v":46},"S.US.NIU",0.18861607142857134,31,"S.US.THRM",0.36737022247575568,{"$f":"RTD(\"cqg.rtd\", ,\"ContractData\",Q31, \"LongDescription\",, \"T\")","v":"Gentherm Inc"}]
["S.US.NKLA","Motorcycle Manufacturers",null,null,null,{"$f":"RTD(\"cqg.rtd\", ,\"ContractData\",A32, \"LongDescription\",, \"T\")","v":"Nikola Corporation"},null,null,{"$f":"RTD(\"cqg.rtd\", ,\"ContractData\",A32, \"LastTrade\",, \"T\")","v":13.98},{"$f":"RTD(\"cqg.rtd\",,\"StudyData\",\"HiLevel(\"&A32&\",Period1:=12,AllowGaps:=0,InputChoice1:=High,InputChoice3:=High)\",\"Bar\",, \"Close\",\"W\",\"0\",,,,,\"T\")","v":18.96},{"$f":"RTD(\"cqg.rtd\",,\"StudyData\",\"LoLevel(\"&A32&\",Period2:=12,AllowGaps:=0,InputChoice2:=Low,InputChoice4:=Low)\",\"Bar\",, \"Close\",\"W\",\"0\",,,,,\"T\")","v":9.3699999999999992},0.48070907194994789,{"$f":"IFERROR(RANK(L32,$L$1:L$58,0)+COUNTIF($L$1:L32,L32)-1,\"\")","v":29},"S.US.NKLA",0.48070907194994789,32,"S.US.BLNK",0.35571095571095579,{"$f":"RTD(\"cqg.rtd\", ,\"ContractData\",Q32, \"LongDescription\",, \"T\")","v":"Blink Charging Co."}]
["S.US.NVDA","Construction Machinery & Heavy Trucks",null,null,null,{"$f":"RTD(\"cqg.rtd\", ,\"ContractData\",A33, \"LongDescription\",, \"T\")","v":"NVIDIA Corp"},null,null,{"$f":"RTD(\"cqg.rtd\", ,\"ContractData\",A33, \"LastTrade\",, \"T\")","v":568.51},{"$f":"RTD(\"cqg.rtd\",,\"StudyData\",\"HiLevel(\"&A33&\",Period1:=12,AllowGaps:=0,InputChoice1:=High,InputChoice3:=High)\",\"Bar\",, \"Close\",\"W\",\"0\",,,,,\"T\")","v":648.55999999999995},{"$f":"RTD(\"cqg.rtd\",,\"StudyData\",\"LoLevel(\"&A33&\",Period2:=12,AllowGaps:=0,InputChoice2:=Low,InputChoice4:=Low)\",\"Bar\",, \"Close\",\"W\",\"0\",,,,,\"T\")","v":462.66},0.56939214631522328,{"$f":"IFERROR(RANK(L33,$L$1:L$58,0)+COUNTIF($L$1:L33,L33)-1,\"\")","v":20},{"$f":"A33","v":"S.US.NVDA"},0.56939214631522328,33,"S.US.ANSS",0.3523731968357372,{"$f":"RTD(\"cqg.rtd\", ,\"ContractData\",Q33, \"LongDescription\",, \"T\")","v":"ANSYS Inc"}]
["S.US.NXPI","Semiconductors",null,null,null,{"$f":"RTD(\"cqg.rtd\", ,\"ContractData\",A34, \"LongDescription\",, \"T\")","v":"NXP Semiconductors N.V."},null,null,{"$f":"RTD(\"cqg.rtd\", ,\"ContractData\",A34, \"LastTrade\",, \"T\")","v":193.72},{"$f":"RTD(\"cqg.rtd\",,\"StudyData\",\"HiLevel(\"&A34&\",Period1:=12,AllowGaps:=0,InputChoice1:=High,InputChoice3:=High)\",\"Bar\",, \"Close\",\"W\",\"0\",,,,,\"T\")","v":216.43},{"$f":"RTD(\"cqg.rtd\",,\"StudyData\",\"LoLevel(\"&A34&\",Period2:=12,AllowGaps:=0,InputChoice2:=Low,InputChoice4:=Low)\",\"Bar\",, \"Close\",\"W\",\"0\",,,,,\"T\")","v":164.19},0.56527565084226639,{"$f":"IFERROR(RANK(L34,$L$1:L$58,0)+COUNTIF($L$1:L34,L34)-1,\"\")","v":21},"S.US.NXPI",0.56527565084226639,34,"S.US.ST",0.3393881453154875,{"$f":"RTD(\"cqg.rtd\", ,\"ContractData\",Q34, \"LongDescription\",, \"T\")","v":"Sensata Technologies Holding N.V."}]
["S.US.ON","Semiconductors",null,null,null,{"$f":"RTD(\"cqg.rtd\", ,\"ContractData\",A35, \"LongDescription\",, \"T\")","v":"ON Semiconductor Corp"},null,null,{"$f":"RTD(\"cqg.rtd\", ,\"ContractData\",A35, \"LastTrade\",, \"T\")","v":36.96},{"$f":"RTD(\"cqg.rtd\",,\"StudyData\",\"HiLevel(\"&A35&\",Period1:=12,AllowGaps:=0,InputChoice1:=High,InputChoice3:=High)\",\"Bar\",, \"Close\",\"W\",\"0\",,,,,\"T\")","v":44.59},{"$f":"RTD(\"cqg.rtd\",,\"StudyData\",\"LoLevel(\"&A35&\",Period2:=12,AllowGaps:=0,InputChoice2:=Low,InputChoice4:=Low)\",\"Bar\",, \"Close\",\"W\",\"0\",,,,,\"T\")","v":34.79},0.2214285714285715,{"$f":"IFERROR(RANK(L35,$L$1:L$58,0)+COUNTIF($L$1:L35,L35)-1,\"\")","v":42},"S.US.ON",0.2214285714285715,35,"S.US.UBER",0.33824331696672139,{"$f":"RTD(\"cqg.rtd\", ,\"ContractData\",Q35, \"LongDescription\",, \"T\")","v":"Uber Technologies, Inc."}]
["S.US.ORBC","Semiconductors",null,null,null,{"$f":"RTD(\"cqg.rtd\", ,\"ContractData\",A36, \"LongDescription\",, \"T\")","v":"ORBCOMM Inc."},null,null,{"$f":"RTD(\"cqg.rtd\", ,\"ContractData\",A36, \"LastTrade\",, \"T\")","v":11.19},{"$f":"RTD(\"cqg.rtd\",,\"StudyData\",\"HiLevel(\"&A36&\",Period1:=12,AllowGaps:=0,InputChoice1:=High,InputChoice3:=High)\",\"Bar\",, \"Close\",\"W\",\"0\",,,,,\"T\")","v":11.55},{"$f":"RTD(\"cqg.rtd\",,\"StudyData\",\"LoLevel(\"&A36&\",Period2:=12,AllowGaps:=0,InputChoice2:=Low,InputChoice4:=Low)\",\"Bar\",, \"Close\",\"W\",\"0\",,,,,\"T\")","v":6.32},0.93116634799235154,{"$f":"IFERROR(RANK(L36,$L$1:L$58,0)+COUNTIF($L$1:L36,L36)-1,\"\")","v":5},"S.US.ORBC",0.93116634799235154,36,"S.US.XPER",0.32939189189189166,{"$f":"RTD(\"cqg.rtd\", ,\"ContractData\",Q36, \"LongDescription\",, \"T\")","v":"Xperi Holding Corporation"}]
["S.US.PLUG","Alternative Carriers",null,null,null,{"$f":"RTD(\"cqg.rtd\", ,\"ContractData\",A37, \"LongDescription\",, \"T\")","v":"Plug Power, Inc."},null,null,{"$f":"RTD(\"cqg.rtd\", ,\"ContractData\",A37, \"LastTrade\",, \"T\")","v":25.53},{"$f":"RTD(\"cqg.rtd\",,\"StudyData\",\"HiLevel(\"&A37&\",Period1:=12,AllowGaps:=0,InputChoice1:=High,InputChoice3:=High)\",\"Bar\",, \"Close\",\"W\",\"0\",,,,,\"T\")","v":53.1},{"$f":"RTD(\"cqg.rtd\",,\"StudyData\",\"LoLevel(\"&A37&\",Period2:=12,AllowGaps:=0,InputChoice2:=Low,InputChoice4:=Low)\",\"Bar\",, \"Close\",\"W\",\"0\",,,,,\"T\")","v":18.47},0.20386947733179328,{"$f":"IFERROR(RANK(L37,$L$1:L$58,0)+COUNTIF($L$1:L37,L37)-1,\"\")","v":45},"S.US.PLUG",0.20386947733179328,37,"S.US.STM",0.31824417009602174,{"$f":"RTD(\"cqg.rtd\", ,\"ContractData\",Q37, \"LongDescription\",, \"T\")","v":"STMicroelectronics N.V."}]
["S.US.SANM","Electrical Components & Equipment",null,null,null,{"$f":"RTD(\"cqg.rtd\", ,\"ContractData\",A38, \"LongDescription\",, \"T\")","v":"Sanmina Corp"},null,null,{"$f":"RTD(\"cqg.rtd\", ,\"ContractData\",A38, \"LastTrade\",, \"T\")","v":42.28},{"$f":"RTD(\"cqg.rtd\",,\"StudyData\",\"HiLevel(\"&A38&\",Period1:=12,AllowGaps:=0,InputChoice1:=High,InputChoice3:=High)\",\"Bar\",, \"Close\",\"W\",\"0\",,,,,\"T\")","v":43.36},{"$f":"RTD(\"cqg.rtd\",,\"StudyData\",\"LoLevel(\"&A38&\",Period2:=12,AllowGaps:=0,InputChoice2:=Low,InputChoice4:=Low)\",\"Bar\",, \"Close\",\"W\",\"0\",,,,,\"T\")","v":36.07},0.85185185185185208,{"$f":"IFERROR(RANK(L38,$L$1:L$58,0)+COUNTIF($L$1:L38,L38)-1,\"\")","v":10},"S.US.SANM",0.85185185185185208,38,"S.US.LYFT",0.29869565217391292,{"$f":"RTD(\"cqg.rtd\", ,\"ContractData\",Q38, \"LongDescription\",, \"T\")","v":"Lyft, Inc. Class A"}]
["S.US.SEDG","Electronic Manufacturing Services",null,null,null,{"$f":"RTD(\"cqg.rtd\", ,\"ContractData\",A39, \"LongDescription\",, \"T\")","v":"SolarEdge Technologies, Inc."},null,null,{"$f":"RTD(\"cqg.rtd\", ,\"ContractData\",A39, \"LastTrade\",, \"T\")","v":217.20000000000002},{"$f":"RTD(\"cqg.rtd\",,\"StudyData\",\"HiLevel(\"&A39&\",Period1:=12,AllowGaps:=0,InputChoice1:=High,InputChoice3:=High)\",\"Bar\",, \"Close\",\"W\",\"0\",,,,,\"T\")","v":310.5},{"$f":"RTD(\"cqg.rtd\",,\"StudyData\",\"LoLevel(\"&A39&\",Period2:=12,AllowGaps:=0,InputChoice2:=Low,InputChoice4:=Low)\",\"Bar\",, \"Close\",\"W\",\"0\",,,,,\"T\")","v":199.33},0.16074480525321586,{"$f":"IFERROR(RANK(L39,$L$1:L$58,0)+COUNTIF($L$1:L39,L39)-1,\"\")","v":48},"S.US.SEDG",0.16074480525321586,39,"S.US.ADI",0.28267898383371837,{"$f":"RTD(\"cqg.rtd\", ,\"ContractData\",Q39, \"LongDescription\",, \"T\")","v":"Analog Devices Inc"}]
["S.US.ST","Semiconductor Equipment",null,null,null,{"$f":"RTD(\"cqg.rtd\", ,\"ContractData\",A40, \"LongDescription\",, \"T\")","v":"Sensata Technologies Holding N.V."},null,null,{"$f":"RTD(\"cqg.rtd\", ,\"ContractData\",A40, \"LastTrade\",, \"T\")","v":57.89},{"$f":"RTD(\"cqg.rtd\",,\"StudyData\",\"HiLevel(\"&A40&\",Period1:=12,AllowGaps:=0,InputChoice1:=High,InputChoice3:=High)\",\"Bar\",, \"Close\",\"W\",\"0\",,,,,\"T\")","v":64.8},{"$f":"RTD(\"cqg.rtd\",,\"StudyData\",\"LoLevel(\"&A40&\",Period2:=12,AllowGaps:=0,InputChoice2:=Low,InputChoice4:=Low)\",\"Bar\",, \"Close\",\"W\",\"0\",,,,,\"T\")","v":54.34},0.3393881453154875,{"$f":"IFERROR(RANK(L40,$L$1:L$58,0)+COUNTIF($L$1:L40,L40)-1,\"\")","v":34},"S.US.ST",0.3393881453154875,40,"S.US.MTOR",0.22921348314606735,{"$f":"RTD(\"cqg.rtd\", ,\"ContractData\",Q40, \"LongDescription\",, \"T\")","v":"Meritor Inc."}]
["S.US.STLA","Electrical Components & Equipment",null,null,null,{"$f":"RTD(\"cqg.rtd\", ,\"ContractData\",A41, \"LongDescription\",, \"T\")","v":"Stellantis N.V."},null,null,{"$f":"RTD(\"cqg.rtd\", ,\"ContractData\",A41, \"LastTrade\",, \"T\")","v":18.41},{"$f":"RTD(\"cqg.rtd\",,\"StudyData\",\"HiLevel(\"&A41&\",Period1:=12,AllowGaps:=0,InputChoice1:=High,InputChoice3:=High)\",\"Bar\",, \"Close\",\"W\",\"0\",,,,,\"T\")","v":18.52},{"$f":"RTD(\"cqg.rtd\",,\"StudyData\",\"LoLevel(\"&A41&\",Period2:=12,AllowGaps:=0,InputChoice2:=Low,InputChoice4:=Low)\",\"Bar\",, \"Close\",\"W\",\"0\",,,,,\"T\")","v":16.05},0.95546558704453466,{"$f":"IFERROR(RANK(L41,$L$1:L$58,0)+COUNTIF($L$1:L41,L41)-1,\"\")","v":4},"S.US.STLA",0.95546558704453466,41,"S.US.APTV",0.22255526414387511,{"$f":"RTD(\"cqg.rtd\", ,\"ContractData\",Q41, \"LongDescription\",, \"T\")","v":"Aptiv PLC"}]
["S.US.STM","Automobile Manufacturers",null,null,null,{"$f":"RTD(\"cqg.rtd\", ,\"ContractData\",A42, \"LongDescription\",, \"T\")","v":"STMicroelectronics N.V."},null,null,{"$f":"RTD(\"cqg.rtd\", ,\"ContractData\",A42, \"LastTrade\",, \"T\")","v":35.619999999999997},{"$f":"RTD(\"cqg.rtd\",,\"StudyData\",\"HiLevel(\"&A42&\",Period1:=12,AllowGaps:=0,InputChoice1:=High,InputChoice3:=High)\",\"Bar\",, \"Close\",\"W\",\"0\",,,,,\"T\")","v":40.590000000000003},{"$f":"RTD(\"cqg.rtd\",,\"StudyData\",\"LoLevel(\"&A42&\",Period2:=12,AllowGaps:=0,InputChoice2:=Low,InputChoice4:=Low)\",\"Bar\",, \"Close\",\"W\",\"0\",,,,,\"T\")","v":33.299999999999997},0.31824417009602174,{"$f":"IFERROR(RANK(L42,$L$1:L$58,0)+COUNTIF($L$1:L42,L42)-1,\"\")","v":37},"S.US.STM",0.31824417009602174,42,"S.US.ON",0.2214285714285715,{"$f":"RTD(\"cqg.rtd\", ,\"ContractData\",Q42, \"LongDescription\",, \"T\")","v":"ON Semiconductor Corp"}]
["S.US.TDY","Semiconductors",null,null,null,{"$f":"RTD(\"cqg.rtd\", ,\"ContractData\",A43, \"LongDescription\",, \"T\")","v":"Teledyne Technologies Inc"},null,null,{"$f":"RTD(\"cqg.rtd\", ,\"ContractData\",A43, \"LastTrade\",, \"T\")","v":417.35},{"$f":"RTD(\"cqg.rtd\",,\"StudyData\",\"HiLevel(\"&A43&\",Period1:=12,AllowGaps:=0,InputChoice1:=High,InputChoice3:=High)\",\"Bar\",, \"Close\",\"W\",\"0\",,,,,\"T\")","v":457.79},{"$f":"RTD(\"cqg.rtd\",,\"StudyData\",\"LoLevel(\"&A43&\",Period2:=12,AllowGaps:=0,InputChoice2:=Low,InputChoice4:=Low)\",\"Bar\",, \"Close\",\"W\",\"0\",,,,,\"T\")","v":354.17},0.60972785176606836,{"$f":"IFERROR(RANK(L43,$L$1:L$58,0)+COUNTIF($L$1:L43,L43)-1,\"\")","v":18},"S.US.TDY",0.60972785176606836,43,"S.US.VNE",0.21649484536082511,{"$f":"RTD(\"cqg.rtd\", ,\"ContractData\",Q43, \"LongDescription\",, \"T\")","v":"Veoneer, Inc."}]
["S.US.THRM","Auto Parts & Equipment",null,null,null,{"$f":"RTD(\"cqg.rtd\", ,\"ContractData\",A44, \"LongDescription\",, \"T\")","v":"Gentherm Inc"},null,null,{"$f":"RTD(\"cqg.rtd\", ,\"ContractData\",A44, \"LastTrade\",, \"T\")","v":70.89},{"$f":"RTD(\"cqg.rtd\",,\"StudyData\",\"HiLevel(\"&A44&\",Period1:=12,AllowGaps:=0,InputChoice1:=High,InputChoice3:=High)\",\"Bar\",, \"Close\",\"W\",\"0\",,,,,\"T\")","v":81.98},{"$f":"RTD(\"cqg.rtd\",,\"StudyData\",\"LoLevel(\"&A44&\",Period2:=12,AllowGaps:=0,InputChoice2:=Low,InputChoice4:=Low)\",\"Bar\",, \"Close\",\"W\",\"0\",,,,,\"T\")","v":64.45},0.36737022247575568,{"$f":"IFERROR(RANK(L44,$L$1:L$58,0)+COUNTIF($L$1:L44,L44)-1,\"\")","v":31},"S.US.THRM",0.36737022247575568,44,"S.US.KNDI",0.21035598705501601,{"$f":"RTD(\"cqg.rtd\", ,\"ContractData\",Q44, \"LongDescription\",, \"T\")","v":"Kandi Technologies Group Inc."}]
["S.US.TM","Automobile Manufacturers",null,null,null,{"$f":"RTD(\"cqg.rtd\", ,\"ContractData\",A45, \"LongDescription\",, \"T\")","v":"Toyota Motor Corporation ADR"},null,null,{"$f":"RTD(\"cqg.rtd\", ,\"ContractData\",A45, \"LastTrade\",, \"T\")","v":161.46},{"$f":"RTD(\"cqg.rtd\",,\"StudyData\",\"HiLevel(\"&A45&\",Period1:=12,AllowGaps:=0,InputChoice1:=High,InputChoice3:=High)\",\"Bar\",, \"Close\",\"W\",\"0\",,,,,\"T\")","v":161.91},{"$f":"RTD(\"cqg.rtd\",,\"StudyData\",\"LoLevel(\"&A45&\",Period2:=12,AllowGaps:=0,InputChoice2:=Low,InputChoice4:=Low)\",\"Bar\",, \"Close\",\"W\",\"0\",,,,,\"T\")","v":145.55000000000001},0.97249388753056298,{"$f":"IFERROR(RANK(L45,$L$1:L$58,0)+COUNTIF($L$1:L45,L45)-1,\"\")","v":2},"S.US.TM",0.97249388753056298,45,"S.US.PLUG",0.20386947733179328,{"$f":"RTD(\"cqg.rtd\", ,\"ContractData\",Q45, \"LongDescription\",, \"T\")","v":"Plug Power, Inc."}]
["S.US.TRMB","Electronic Equipment & Instruments",null,null,null,{"$f":"RTD(\"cqg.rtd\", ,\"ContractData\",A46, \"LongDescription\",, \"T\")","v":"Trimble Inc."},null,null,{"$f":"RTD(\"cqg.rtd\", ,\"ContractData\",A46, \"LastTrade\",, \"T\")","v":75.81},{"$f":"RTD(\"cqg.rtd\",,\"StudyData\",\"HiLevel(\"&A46&\",Period1:=12,AllowGaps:=0,InputChoice1:=High,InputChoice3:=High)\",\"Bar\",, \"Close\",\"W\",\"0\",,,,,\"T\")","v":84.86},{"$f":"RTD(\"cqg.rtd\",,\"StudyData\",\"LoLevel(\"&A46&\",Period2:=12,AllowGaps:=0,InputChoice2:=Low,InputChoice4:=Low)\",\"Bar\",, \"Close\",\"W\",\"0\",,,,,\"T\")","v":66.95},0.49469570072585156,{"$f":"IFERROR(RANK(L46,$L$1:L$58,0)+COUNTIF($L$1:L46,L46)-1,\"\")","v":27},{"$f":"A46","v":"S.US.TRMB"},{"$f":"L46","v":0.49469570072585156},46,"S.US.NIU",0.18861607142857134,{"$f":"RTD(\"cqg.rtd\", ,\"ContractData\",Q46, \"LongDescription\",, \"T\")","v":"Niu Technologies"}]
["S.US.TSLA","Automobile Manufacturers",null,null,null,{"$f":"RTD(\"cqg.rtd\", ,\"ContractData\",A47, \"LongDescription\",, \"T\")","v":"Tesla, Inc."},null,null,{"$f":"RTD(\"cqg.rtd\", ,\"ContractData\",A47, \"LastTrade\",, \"T\")","v":575.19000000000005},{"$f":"RTD(\"cqg.rtd\",,\"StudyData\",\"HiLevel(\"&A47&\",Period1:=12,AllowGaps:=0,InputChoice1:=High,InputChoice3:=High)\",\"Bar\",, \"Close\",\"W\",\"0\",,,,,\"T\")","v":780.79},{"$f":"RTD(\"cqg.rtd\",,\"StudyData\",\"LoLevel(\"&A47&\",Period2:=12,AllowGaps:=0,InputChoice2:=Low,InputChoice4:=Low)\",\"Bar\",, \"Close\",\"W\",\"0\",,,,,\"T\")","v":539.49},0.14794861168669726,{"$f":"IFERROR(RANK(L47,$L$1:L$58,0)+COUNTIF($L$1:L47,L47)-1,\"\")","v":50},"S.US.TSLA",0.14794861168669726,47,"S.US.HY",0.18677624206200974,{"$f":"RTD(\"cqg.rtd\", ,\"ContractData\",Q47, \"LongDescription\",, \"T\")","v":"Hyster-Yale Materials Handling, Inc."}]
["S.US.TTM","Automobile Manufacturers",null,null,null,{"$f":"RTD(\"cqg.rtd\", ,\"ContractData\",A48, \"LongDescription\",, \"T\")","v":"Tata Motors Limited"},null,null,{"$f":"RTD(\"cqg.rtd\", ,\"ContractData\",A48, \"LastTrade\",, \"T\")","v":22.34},{"$f":"RTD(\"cqg.rtd\",,\"StudyData\",\"HiLevel(\"&A48&\",Period1:=12,AllowGaps:=0,InputChoice1:=High,InputChoice3:=High)\",\"Bar\",, \"Close\",\"W\",\"0\",,,,,\"T\")","v":23.7},{"$f":"RTD(\"cqg.rtd\",,\"StudyData\",\"LoLevel(\"&A48&\",Period2:=12,AllowGaps:=0,InputChoice2:=Low,InputChoice4:=Low)\",\"Bar\",, \"Close\",\"W\",\"0\",,,,,\"T\")","v":18.559999999999999},0.73540856031128421,{"$f":"IFERROR(RANK(L48,$L$1:L$58,0)+COUNTIF($L$1:L48,L48)-1,\"\")","v":15},"S.US.TTM",0.73540856031128421,48,"S.US.SEDG",0.16074480525321586,{"$f":"RTD(\"cqg.rtd\", ,\"ContractData\",Q48, \"LongDescription\",, \"T\")","v":"SolarEdge Technologies, Inc."}]
["S.US.TXN","Semiconductors",null,null,null,{"$f":"RTD(\"cqg.rtd\", ,\"ContractData\",A49, \"LongDescription\",, \"T\")","v":"Texas Instruments Inc"},null,null,{"$f":"RTD(\"cqg.rtd\", ,\"ContractData\",A49, \"LastTrade\",, \"T\")","v":180.51},{"$f":"RTD(\"cqg.rtd\",,\"StudyData\",\"HiLevel(\"&A49&\",Period1:=12,AllowGaps:=0,InputChoice1:=High,InputChoice3:=High)\",\"Bar\",, \"Close\",\"W\",\"0\",,,,,\"T\")","v":197.58},{"$f":"RTD(\"cqg.rtd\",,\"StudyData\",\"LoLevel(\"&A49&\",Period2:=12,AllowGaps:=0,InputChoice2:=Low,InputChoice4:=Low)\",\"Bar\",, \"Close\",\"W\",\"0\",,,,,\"T\")","v":161.66999999999999},0.52464494569757703,{"$f":"IFERROR(RANK(L49,$L$1:L$58,0)+COUNTIF($L$1:L49,L49)-1,\"\")","v":26},"S.US.TXN",0.52464494569757703,49,"S.US.INTC",0.14996682149966814,{"$f":"RTD(\"cqg.rtd\", ,\"ContractData\",Q49, \"LongDescription\",, \"T\")","v":"Intel Corporation"}]
["S.US.TXT","Aerospace & Defence",null,null,null,{"$f":"RTD(\"cqg.rtd\", ,\"ContractData\",A50, \"LongDescription\",, \"T\")","v":"Textron Inc"},null,null,{"$f":"RTD(\"cqg.rtd\", ,\"ContractData\",A50, \"LastTrade\",, \"T\")","v":68.28},{"$f":"RTD(\"cqg.rtd\",,\"StudyData\",\"HiLevel(\"&A50&\",Period1:=12,AllowGaps:=0,InputChoice1:=High,InputChoice3:=High)\",\"Bar\",, \"Close\",\"W\",\"0\",,,,,\"T\")","v":69.16},{"$f":"RTD(\"cqg.rtd\",,\"StudyData\",\"LoLevel(\"&A50&\",Period2:=12,AllowGaps:=0,InputChoice2:=Low,InputChoice4:=Low)\",\"Bar\",, \"Close\",\"W\",\"0\",,,,,\"T\")","v":48.83},0.95671421544515511,{"$f":"IFERROR(RANK(L50,$L$1:L$58,0)+COUNTIF($L$1:L50,L50)-1,\"\")","v":3},"S.US.TXT",0.95671421544515511,50,"S.US.TSLA",0.14794861168669726,{"$f":"RTD(\"cqg.rtd\", ,\"ContractData\",Q50, \"LongDescription\",, \"T\")","v":"Tesla, Inc."}]
["S.US.UAVS","Agricultural & Farm Machinery",null,null,null,{"$f":"RTD(\"cqg.rtd\", ,\"ContractData\",A51, \"LongDescription\",, \"T\")","v":"AgEagle Aerial Systems Inc. "},null,null,{"$f":"RTD(\"cqg.rtd\", ,\"ContractData\",A51, \"LastTrade\",, \"T\")","v":4.41},{"$f":"RTD(\"cqg.rtd\",,\"StudyData\",\"HiLevel(\"&A51&\",Period1:=12,AllowGaps:=0,InputChoice1:=High,InputChoice3:=High)\",\"Bar\",, \"Close\",\"W\",\"0\",,,,,\"T\")","v":9.3000000000000007},{"$f":"RTD(\"cqg.rtd\",,\"StudyData\",\"LoLevel(\"&A51&\",Period2:=12,AllowGaps:=0,InputChoice2:=Low,InputChoice4:=Low)\",\"Bar\",, \"Close\",\"W\",\"0\",,,,,\"T\")","v":4.03},7.2106261859582521E-2,{"$f":"IFERROR(RANK(L51,$L$1:L$58,0)+COUNTIF($L$1:L51,L51)-1,\"\")","v":58},"S.US.UAVS",7.2106261859582521E-2,51,"S.US.NIO",0.13495687468290191,{"$f":"RTD(\"cqg.rtd\", ,\"ContractData\",Q51, \"LongDescription\",, \"T\")","v":"NIO, Inc."}]
["S.US.UBER","Trucking",null,null,null,{"$f":"RTD(\"cqg.rtd\", ,\"ContractData\",A52, \"LongDescription\",, \"T\")","v":"Uber Technologies, Inc."},null,null,{"$f":"RTD(\"cqg.rtd\", ,\"ContractData\",A52, \"LastTrade\",, \"T\")","v":49.370000000000005},{"$f":"RTD(\"cqg.rtd\",,\"StudyData\",\"HiLevel(\"&A52&\",Period1:=12,AllowGaps:=0,InputChoice1:=High,InputChoice3:=High)\",\"Bar\",, \"Close\",\"W\",\"0\",,,,,\"T\")","v":61.5},{"$f":"RTD(\"cqg.rtd\",,\"StudyData\",\"LoLevel(\"&A52&\",Period2:=12,AllowGaps:=0,InputChoice2:=Low,InputChoice4:=Low)\",\"Bar\",, \"Close\",\"W\",\"0\",,,,,\"T\")","v":43.17},0.33824331696672139,{"$f":"IFERROR(RANK(L52,$L$1:L$58,0)+COUNTIF($L$1:L52,L52)-1,\"\")","v":35},"S.US.UBER",0.33824331696672139,52,"S.US.BIDU",0.12951214176329023,{"$f":"RTD(\"cqg.rtd\", ,\"ContractData\",Q52, \"LongDescription\",, \"T\")","v":"Baidu Inc"}]
["S.US.VC","Auto Parts & Equipment",null,null,null,{"$f":"RTD(\"cqg.rtd\", ,\"ContractData\",A53, \"LongDescription\",, \"T\")","v":"Visteon Corporation"},null,null,{"$f":"RTD(\"cqg.rtd\", ,\"ContractData\",A53, \"LastTrade\",, \"T\")","v":112.98},{"$f":"RTD(\"cqg.rtd\",,\"StudyData\",\"HiLevel(\"&A53&\",Period1:=12,AllowGaps:=0,InputChoice1:=High,InputChoice3:=High)\",\"Bar\",, \"Close\",\"W\",\"0\",,,,,\"T\")","v":136.58000000000001},{"$f":"RTD(\"cqg.rtd\",,\"StudyData\",\"LoLevel(\"&A53&\",Period2:=12,AllowGaps:=0,InputChoice2:=Low,InputChoice4:=Low)\",\"Bar\",, \"Close\",\"W\",\"0\",,,,,\"T\")","v":109.8},0.11874533233756554,{"$f":"IFERROR(RANK(L53,$L$1:L$58,0)+COUNTIF($L$1:L53,L53)-1,\"\")","v":54},"S.US.VC",0.11874533233756554,53,"S.US.AMBA",0.12122321919062454,{"$f":"RTD(\"cqg.rtd\", ,\"ContractData\",Q53, \"LongDescription\",, \"T\")","v":"Ambarella, Inc. Ordinary Shares"}]
["S.US.VNE","Auto Parts & Equipment",null,null,null,{"$f":"RTD(\"cqg.rtd\", ,\"ContractData\",A54, \"LongDescription\",, \"T\")","v":"Veoneer, Inc."},null,null,{"$f":"RTD(\"cqg.rtd\", ,\"ContractData\",A54, \"LastTrade\",, \"T\")","v":22.900000000000002},{"$f":"RTD(\"cqg.rtd\",,\"StudyData\",\"HiLevel(\"&A54&\",Period1:=12,AllowGaps:=0,InputChoice1:=High,InputChoice3:=High)\",\"Bar\",, \"Close\",\"W\",\"0\",,,,,\"T\")","v":28.98},{"$f":"RTD(\"cqg.rtd\",,\"StudyData\",\"LoLevel(\"&A54&\",Period2:=12,AllowGaps:=0,InputChoice2:=Low,InputChoice4:=Low)\",\"Bar\",, \"Close\",\"W\",\"0\",,,,,\"T\")","v":21.22},0.21649484536082511,{"$f":"IFERROR(RANK(L54,$L$1:L$58,0)+COUNTIF($L$1:L54,L54)-1,\"\")","v":43},"S.US.VNE",0.21649484536082511,54,"S.US.VC",0.11874533233756554,{"$f":"RTD(\"cqg.rtd\", ,\"ContractData\",Q54, \"LongDescription\",, \"T\")","v":"Visteon Corporation"}]
["S.US.VNT","Electronic Equipment & Instruments",null,null,null,{"$f":"RTD(\"cqg.rtd\", ,\"ContractData\",A55, \"LongDescription\",, \"T\")","v":"Vontier Corporation"},null,null,{"$f":"RTD(\"cqg.rtd\", ,\"ContractData\",A55, \"LastTrade\",, \"T\")","v":34.26},{"$f":"RTD(\"cqg.rtd\",,\"StudyData\",\"HiLevel(\"&A55&\",Period1:=12,AllowGaps:=0,InputChoice1:=High,InputChoice3:=High)\",\"Bar\",, \"Close\",\"W\",\"0\",,,,,\"T\")","v":34.9},{"$f":"RTD(\"cqg.rtd\",,\"StudyData\",\"LoLevel(\"&A55&\",Period2:=12,AllowGaps:=0,InputChoice2:=Low,InputChoice4:=Low)\",\"Bar\",, \"Close\",\"W\",\"0\",,,,,\"T\")","v":29.87},0.87276341948310121,{"$f":"IFERROR(RANK(L55,$L$1:L$58,0)+COUNTIF($L$1:L55,L55)-1,\"\")","v":9},"S.US.VNT",0.87276341948310121,55,"S.US.WKHS",0.11708586296617524,{"$f":"RTD(\"cqg.rtd\", ,\"ContractData\",Q55, \"LongDescription\",, \"T\")","v":"Workhorse Group, Inc."}]
["S.US.WKHS","Auto Parts & Equipment",null,null,null,{"$f":"RTD(\"cqg.rtd\", ,\"ContractData\",A56, \"LongDescription\",, \"T\")","v":"Workhorse Group, Inc."},null,null,{"$f":"RTD(\"cqg.rtd\", ,\"ContractData\",A56, \"LastTrade\",, \"T\")","v":8.41},{"$f":"RTD(\"cqg.rtd\",,\"StudyData\",\"HiLevel(\"&A56&\",Period1:=12,AllowGaps:=0,InputChoice1:=High,InputChoice3:=High)\",\"Bar\",, \"Close\",\"W\",\"0\",,,,,\"T\")","v":18.59},{"$f":"RTD(\"cqg.rtd\",,\"StudyData\",\"LoLevel(\"&A56&\",Period2:=12,AllowGaps:=0,InputChoice2:=Low,InputChoice4:=Low)\",\"Bar\",, \"Close\",\"W\",\"0\",,,,,\"T\")","v":7.06},0.11708586296617524,{"$f":"IFERROR(RANK(L56,$L$1:L$58,0)+COUNTIF($L$1:L56,L56)-1,\"\")","v":55},"S.US.WKHS",0.11708586296617524,56,"S.US.BLDP",0.10312862108922362,{"$f":"RTD(\"cqg.rtd\", ,\"ContractData\",Q56, \"LongDescription\",, \"T\")","v":"Ballard Power System"}]
["S.US.XPER","Systems Software",null,null,null,{"$f":"RTD(\"cqg.rtd\", ,\"ContractData\",A57, \"LongDescription\",, \"T\")","v":"Xperi Holding Corporation"},null,null,{"$f":"RTD(\"cqg.rtd\", ,\"ContractData\",A57, \"LastTrade\",, \"T\")","v":21.06},{"$f":"RTD(\"cqg.rtd\",,\"StudyData\",\"HiLevel(\"&A57&\",Period1:=12,AllowGaps:=0,InputChoice1:=High,InputChoice3:=High)\",\"Bar\",, \"Close\",\"W\",\"0\",,,,,\"T\")","v":25.03},{"$f":"RTD(\"cqg.rtd\",,\"StudyData\",\"LoLevel(\"&A57&\",Period2:=12,AllowGaps:=0,InputChoice2:=Low,InputChoice4:=Low)\",\"Bar\",, \"Close\",\"W\",\"0\",,,,,\"T\")","v":19.11},0.32939189189189166,{"$f":"IFERROR(RANK(L57,$L$1:L$58,0)+COUNTIF($L$1:L57,L57)-1,\"\")","v":36},"S.US.XPER",0.32939189189189166,57,"S.US.GILT",9.5652173913043495E-2,{"$f":"RTD(\"cqg.rtd\", ,\"ContractData\",Q57, \"LongDescription\",, \"T\")","v":"Gilat Satellite Ntks Ltd"}]
["S.US.YNDX","Interactive Media & Services",null,null,null,{"$f":"RTD(\"cqg.rtd\", ,\"ContractData\",A58, \"LongDescription\",, \"T\")","v":"Yandex N.V."},null,null,{"$f":"RTD(\"cqg.rtd\", ,\"ContractData\",A58, \"LastTrade\",, \"T\")","v":64.760000000000005},{"$f":"RTD(\"cqg.rtd\",,\"StudyData\",\"HiLevel(\"&A58&\",Period1:=12,AllowGaps:=0,InputChoice1:=High,InputChoice3:=High)\",\"Bar\",, \"Close\",\"W\",\"0\",,,,,\"T\")","v":71.2},{"$f":"RTD(\"cqg.rtd\",,\"StudyData\",\"LoLevel(\"&A58&\",Period2:=12,AllowGaps:=0,InputChoice2:=Low,InputChoice4:=Low)\",\"Bar\",, \"Close\",\"W\",\"0\",,,,,\"T\")","v":58.91},0.47599674532139996,{"$f":"IFERROR(RANK(L58,$L$1:L$58,0)+COUNTIF($L$1:L58,L58)-1,\"\")","v":30},"S.US.YNDX",0.47599674532139996,58,"S.US.UAVS",7.2106261859582521E-2,{"$f":"RTD(\"cqg.rtd\", ,\"ContractData\",Q58, \"LongDescription\",, \"T\")","v":"AgEagle Aerial Systems Inc. "}]
[]
[null,null,"    LoLevel(@,Period2:=12,AllowGaps:=0,InputChoice2:=Low,InputChoice4:=Low)"]
[null,null,{"$f":"RTD(\"cqg.rtd\",,\"StudyData\",\"LoLevel(\"&A55&\",Period2:=12,AllowGaps:=0,InputChoice2:=Low,InputChoice4:=Low)\",\"Bar\",, \"Close\",\"W\",\"0\",,,,,\"T\")","v":29.87}]
[null,null,null,null,null,null,null,null,null,"Current Time 02/12/21 08:22"]
[]
[null,null,null,null,null,null,null,null,null,"Test: -- Overlaid = FALSE"]
[null,null,null,null,null,null,null,null,null," "]
[null,null,null,null,null,null,null,null,null,"  Curve 'c1 (Display String)"]
[null,null,null,null,null,null,null,null,null,"    LoLevel(@,12,0)"]
[null,null,null,null,null,null,null,null,null," "]
[null,null,null,null,null,null,null,null,null,"  Curve 'c1 (Study String)  "]
[null,null,null,null,null,null,null,null,null,"    LoLevel(@,Period2:=12,AllowGaps:=0,InputChoice2:=Low,InputChoice4:=Low)"]
[null,null,null,null,null,null,null,null,null,"  -------------------------------------------------------"]

{"sheet":"Sheet4 (2)","index":2,"n_rows":81,"n_cols":78,"rows_kept":81,"cut":false,"hidden":true,"merged":[]}
[{"$f":"YEAR(TODAY())","v":2021},{"$f":"MONTH(TODAY())","v":5},{"$f":"DAY(TODAY())","v":18},{"$f":"IF(OR(WEEKDAY(TODAY())=1,WEEKDAY(TODAY())=7),0,1)","v":1},null,{"$f":"Sheet2!P1","v":"S.US.NKLA"},null,null,{"$f":"Sheet2!P1","v":"S.US.NKLA"},null,null,{"$f":"MOD(RTD(\"cqg.rtd\", ,\"SystemInfo\", \"Linetime\"),1)","v":0.37079861111124046}]
[null,{"$f":"Sheet2!P1","v":"S.US.NKLA"},null,null,null,{"$f":"Sheet2!P2","v":"S.US.BLNK"},null,{"$f":"Sheet2!P3","v":"S.US.LYFT"},null,{"$f":"Sheet2!P4","v":"S.US.UBER"},null,{"$f":"Sheet2!P5","v":"S.US.VNE"},null,{"$f":"Sheet2!P6","v":"S.US.F"},null,{"$f":"Sheet2!P7","v":"S.US.PLUG"},null,{"$f":"Sheet2!P8","v":"S.US.GILT"},null,{"$f":"Sheet2!P9","v":"S.US.AXL"},null,{"$f":"Sheet2!P10","v":"S.US.BLDP"},null,{"$f":"Sheet2!P11","v":"S.US.TTM"},null,{"$f":"Sheet2!P12","v":"S.US.WKHS"},null,{"$f":"Sheet2!P13","v":"S.US.HMC"},null,{"$f":"Sheet2!P14","v":"S.US.NIU"},null,{"$f":"Sheet2!P15","v":"S.US.TM"},null,{"$f":"Sheet2!P44","v":"S.US.ST"},null,{"$f":"Sheet2!P45","v":"S.US.TSLA"},null,{"$f":"Sheet2!P46","v":"S.US.SEDG"},null,{"$f":"Sheet2!P47","v":"S.US.BWA"},null,{"$f":"Sheet2!P48","v":"S.US.MOD"},null,{"$f":"Sheet2!P49","v":"S.US.ALSN"},null,{"$f":"Sheet2!P50","v":"S.US.TRMB"},null,{"$f":"Sheet2!P51","v":"S.US.UAVS"},null,{"$f":"Sheet2!P52","v":"S.US.MTOR"},null,{"$f":"Sheet2!P53","v":"S.US.HY"},null,{"$f":"Sheet2!P54","v":"S.US.HEI"},null,{"$f":"Sheet2!P55","v":"S.US.VC"},null,{"$f":"Sheet2!P56","v":"S.US.KNDI"},null,{"$f":"Sheet2!P57","v":"S.US.CMI"},null,{"$f":"Sheet2!P58","v":"S.US.NIO"},null,{"$f":"MainDisplay!B5","v":"S.HAIL"},null,{"$f":"MainDisplay!B6","v":"S.SPY"},null,{"$f":"MainDisplay!B7","v":"S.RYT"},null,{"$f":"MainDisplay!B8","v":"S.IWF"},null,{"$f":"MainDisplay!B9","v":"S.GLD"},null,{"$f":"MainDisplay!B10","v":"S.SLV"},null,{"$f":"MainDisplay!B11","v":"S.USO"},null,{"$f":"MainDisplay!B12","v":"S.TSLA"}]
[null,"Close"]
[0,{"$f":"IF(D4=0,NA(),RTD(\"cqg.rtd\",,\"StudyData\", \"Close(\"&$B$2&\") When Barix(\"&$B$2&\",reference:=StartOfSession)=\"&A4&\"\", \"Bar\", \"\", \"Close\",\"5\",\"0\",\"All\",,,\"False\",\"T\",\"EveryTick\"))","v":13.24},"08:30:00",{"$f":"IF($D$1=0,1,IF($L$1>C4,1,0))","v":1},null,{"$f":"IF(D4=0,NA(),RTD(\"cqg.rtd\",,\"StudyData\", \"Close(\"&$F$2&\") When Barix(\"&$F$2&\",reference:=StartOfSession)=\"&A4&\"\", \"Bar\", \"\", \"Close\",\"5\",\"0\",\"All\",,,\"False\",\"T\",\"EveryTick\"))","v":31.02},null,{"$f":"IF(D4=0,NA(),RTD(\"cqg.rtd\",,\"StudyData\", \"Close(\"&$H$2&\") When Barix(\"&$H$2&\",reference:=StartOfSession)=\"&A4&\"\", \"Bar\", \"\", \"Close\",\"5\",\"0\",\"All\",,,\"False\",\"T\",\"EveryTick\"))","v":52.01},null,{"$f":"IF(D4=0,NA(),RTD(\"cqg.rtd\",,\"StudyData\", \"Close(\"&$J$2&\") When Barix(\"&$J$2&\",reference:=StartOfSession)=\"&A4&\"\", \"Bar\", \"\", \"Close\",\"5\",\"0\",\"All\",,,\"False\",\"T\",\"EveryTick\"))","v":48.98},null,{"$f":"IF(D4=0,NA(),RTD(\"cqg.rtd\",,\"StudyData\", \"Close(\"&$L$2&\") When Barix(\"&$L$2&\",reference:=StartOfSession)=\"&A4&\"\", \"Bar\", \"\", \"Close\",\"5\",\"0\",\"All\",,,\"False\",\"T\",\"EveryTick\"))","v":22.51},null,{"$f":"IF(D4=0,NA(),RTD(\"cqg.rtd\",,\"StudyData\", \"Close(\"&$N$2&\") When Barix(\"&$N$2&\",reference:=StartOfSession)=\"&A4&\"\", \"Bar\", \"\", \"Close\",\"5\",\"0\",\"All\",,,\"False\",\"T\",\"EveryTick\"))","v":12.27},null,{"$f":"IF(D4=0,NA(),RTD(\"cqg.rtd\",,\"StudyData\", \"Close(\"&$P$2&\") When Barix(\"&$P$2&\",reference:=StartOfSession)=\"&A4&\"\", \"Bar\", \"\", \"Close\",\"5\",\"0\",\"All\",,,\"False\",\"T\",\"EveryTick\"))","v":24.9},null,{"$f":"IF(D4=0,NA(),RTD(\"cqg.rtd\",,\"StudyData\", \"Close(\"&$R$2&\") When Barix(\"&$R$2&\",reference:=StartOfSession)=\"&A4&\"\", \"Bar\", \"\", \"Close\",\"5\",\"0\",\"All\",,,\"False\",\"T\",\"EveryTick\"))","v":8.7799999999999994},null,{"$f":"IF(D4=0,NA(),RTD(\"cqg.rtd\",,\"StudyData\", \"Close(\"&$T$2&\") When Barix(\"&$T$2&\",reference:=StartOfSession)=\"&A4&\"\", \"Bar\", \"\", \"Close\",\"5\",\"0\",\"All\",,,\"False\",\"T\",\"EveryTick\"))","v":10.85},null,{"$f":"IF(D4=0,NA(),RTD(\"cqg.rtd\",,\"StudyData\", \"Close(\"&$V$2&\") When Barix(\"&$V$2&\",reference:=StartOfSession)=\"&A4&\"\", \"Bar\", \"\", \"Close\",\"5\",\"0\",\"All\",,,\"False\",\"T\",\"EveryTick\"))","v":14.14},null,{"$f":"IF(D4=0,NA(),RTD(\"cqg.rtd\",,\"StudyData\", \"Close(\"&$X$2&\") When Barix(\"&$X$2&\",reference:=StartOfSession)=\"&A4&\"\", \"Bar\", \"\", \"Close\",\"5\",\"0\",\"All\",,,\"False\",\"T\",\"EveryTick\"))","v":22.07},null,{"$f":"IF(D4=0,NA(),RTD(\"cqg.rtd\",,\"StudyData\", \"Close(\"&$Z$2&\") When Barix(\"&$Z$2&\",reference:=StartOfSession)=\"&A4&\"\", \"Bar\", \"\", \"Close\",\"5\",\"0\",\"All\",,,\"False\",\"T\",\"EveryTick\"))","v":8.2100000000000009},null,{"$f":"IF(D4=0,NA(),RTD(\"cqg.rtd\",,\"StudyData\", \"Close(\"&$AB$2&\") When Barix(\"&$AB$2&\",reference:=StartOfSession)=\"&A4&\"\", \"Bar\", \"\", \"Close\",\"5\",\"0\",\"All\",,,\"False\",\"T\",\"EveryTick\"))","v":30.59},null,{"$f":"IF(D4=0,NA(),RTD(\"cqg.rtd\",,\"StudyData\", \"Close(\"&$AD$2&\") When Barix(\"&$AD$2&\",reference:=StartOfSession)=\"&A4&\"\", \"Bar\", \"\", \"Close\",\"5\",\"0\",\"All\",,,\"False\",\"T\",\"EveryTick\"))","v":29.18},null,{"$f":"IF(D4=0,NA(),RTD(\"cqg.rtd\",,\"StudyData\", \"Close(\"&$AF$2&\") When Barix(\"&$AF$2&\",reference:=StartOfSession)=\"&A4&\"\", \"Bar\", \"\", \"Close\",\"5\",\"0\",\"All\",,,\"False\",\"T\",\"EveryTick\"))","v":161},null,{"$f":"IF(D4=0,NA(),RTD(\"cqg.rtd\",,\"StudyData\", \"Close(\"&$AH$2&\") When Barix(\"&$AH$2&\",reference:=StartOfSession)=\"&A4&\"\", \"Bar\", \"\", \"Close\",\"5\",\"0\",\"All\",,,\"False\",\"T\",\"EveryTick\"))","v":57.52},null,{"$f":"IF(D4=0,NA(),RTD(\"cqg.rtd\",,\"StudyData\", \"Close(\"&$AJ$2&\") When Barix(\"&$AJ$2&\",reference:=StartOfSession)=\"&A4&\"\", \"Bar\", \"\", \"Close\",\"5\",\"0\",\"All\",,,\"False\",\"T\",\"EveryTick\"))","v":566.41999999999996},null,{"$f":"IF(D4=0,NA(),RTD(\"cqg.rtd\",,\"StudyData\", \"Close(\"&$AL$2&\") When Barix(\"&$AL$2&\",reference:=StartOfSession)=\"&A4&\"\", \"Bar\", \"\", \"Close\",\"5\",\"0\",\"All\",,,\"False\",\"T\",\"EveryTick\"))","v":217.82},null,{"$f":"IF(D4=0,NA(),RTD(\"cqg.rtd\",,\"StudyData\", \"Close(\"&$AN$2&\") When Barix(\"&$AN$2&\",reference:=StartOfSession)=\"&A4&\"\", \"Bar\", \"\", \"Close\",\"5\",\"0\",\"All\",,,\"False\",\"T\",\"EveryTick\"))","v":51.18},null,{"$f":"IF(D4=0,NA(),RTD(\"cqg.rtd\",,\"StudyData\", \"Close(\"&$AN$2&\") When Barix(\"&$AN$2&\",reference:=StartOfSession)=\"&A4&\"\", \"Bar\", \"\", \"Close\",\"5\",\"0\",\"All\",,,\"False\",\"T\",\"EveryTick\"))","v":51.18},null,{"$f":"IF(D4=0,NA(),RTD(\"cqg.rtd\",,\"StudyData\", \"Close(\"&$AR$2&\") When Barix(\"&$AR$2&\",reference:=StartOfSession)=\"&A4&\"\", \"Bar\", \"\", \"Close\",\"5\",\"0\",\"All\",,,\"False\",\"T\",\"EveryTick\"))","v":45},null,{"$f":"IF(D4=0,NA(),RTD(\"cqg.rtd\",,\"StudyData\", \"Close(\"&$AT$2&\") When Barix(\"&$AT$2&\",reference:=StartOfSession)=\"&A4&\"\", \"Bar\", \"\", \"Close\",\"5\",\"0\",\"All\",,,\"False\",\"T\",\"EveryTick\"))","v":75.67},null,{"$f":"IF(D4=0,NA(),RTD(\"cqg.rtd\",,\"StudyData\", \"Close(\"&$AV$2&\") When Barix(\"&$AV$2&\",reference:=StartOfSession)=\"&A4&\"\", \"Bar\", \"\", \"Close\",\"5\",\"0\",\"All\",,,\"False\",\"T\",\"EveryTick\"))","v":4.16},null,{"$f":"IF(D4=0,NA(),RTD(\"cqg.rtd\",,\"StudyData\", \"Close(\"&$AX$2&\") When Barix(\"&$AX$2&\",reference:=StartOfSession)=\"&A4&\"\", \"Bar\", \"\", \"Close\",\"5\",\"0\",\"All\",,,\"False\",\"T\",\"EveryTick\"))","v":25.84},null,{"$f":"IF(D4=0,NA(),RTD(\"cqg.rtd\",,\"StudyData\", \"Close(\"&$AZ$2&\") When Barix(\"&$AZ$2&\",reference:=StartOfSession)=\"&A4&\"\", \"Bar\", \"\", \"Close\",\"5\",\"0\",\"All\",,,\"False\",\"T\",\"EveryTick\"))","v":76.92},null,{"$f":"IF(D4=0,NA(),RTD(\"cqg.rtd\",,\"StudyData\", \"Close(\"&$BB$2&\") When Barix(\"&$BB$2&\",reference:=StartOfSession)=\"&A4&\"\", \"Bar\", \"\", \"Close\",\"5\",\"0\",\"All\",,,\"False\",\"T\",\"EveryTick\"))","v":132.13999999999999},null,{"$f":"IF(D4=0,NA(),RTD(\"cqg.rtd\",,\"StudyData\", \"Close(\"&$BD$2&\") When Barix(\"&$BD$2&\",reference:=StartOfSession)=\"&A4&\"\", \"Bar\", \"\", \"Close\",\"5\",\"0\",\"All\",,,\"False\",\"T\",\"EveryTick\"))","v":113.25},null,{"$f":"IF(D4=0,NA(),RTD(\"cqg.rtd\",,\"StudyData\", \"Close(\"&$BF$2&\") When Barix(\"&$BF$2&\",reference:=StartOfSession)=\"&A4&\"\", \"Bar\", \"\", \"Close\",\"5\",\"0\",\"All\",,,\"False\",\"T\",\"EveryTick\"))","v":5.0599999999999996},null,{"$f":"IF(D4=0,NA(),RTD(\"cqg.rtd\",,\"StudyData\", \"Close(\"&$BH$2&\") When Barix(\"&$BH$2&\",reference:=StartOfSession)=\"&A4&\"\", \"Bar\", \"\", \"Close\",\"5\",\"0\",\"All\",,,\"False\",\"T\",\"EveryTick\"))","v":263.52999999999997},null,{"$f":"IF(D4=0,NA(),RTD(\"cqg.rtd\",,\"StudyData\", \"Close(\"&$BJ$2&\") When Barix(\"&$BJ$2&\",reference:=StartOfSession)=\"&A4&\"\", \"Bar\", \"\", \"Close\",\"5\",\"0\",\"All\",,,\"False\",\"T\",\"EveryTick\"))","v":33.53},null,{"$f":"IF(D4=0,NA(),RTD(\"cqg.rtd\",,\"StudyData\", \"Close(\"&$BL$2&\") When Barix(\"&$BL$2&\",reference:=StartOfSession)=\"&A4&\"\", \"Bar\", \"\", \"Close\",\"5\",\"0\",\"All\",,,\"False\",\"T\",\"EveryTick\"))","v":58.29},null,{"$f":"IF(D4=0,NA(),RTD(\"cqg.rtd\",,\"StudyData\", \"Close(\"&$BN$2&\") When Barix(\"&$BN$2&\",reference:=StartOfSession)=\"&A4&\"\", \"Bar\", \"\", \"Close\",\"5\",\"0\",\"All\",,,\"False\",\"T\",\"EveryTick\"))","v":415.05},null,{"$f":"IF(D4=0,NA(),RTD(\"cqg.rtd\",,\"StudyData\", \"Close(\"&$BP$2&\") When Barix(\"&$BP$2&\",reference:=StartOfSession)=\"&A4&\"\", \"Bar\", \"\", \"Close\",\"5\",\"0\",\"All\",,,\"False\",\"T\",\"EveryTick\"))","v":271.37},null,{"$f":"IF(D4=0,NA(),RTD(\"cqg.rtd\",,\"StudyData\", \"Close(\"&$BR$2&\") When Barix(\"&$BR$2&\",reference:=StartOfSession)=\"&A4&\"\", \"Bar\", \"\", \"Close\",\"5\",\"0\",\"All\",,,\"False\",\"T\",\"EveryTick\"))","v":250.46},null,{"$f":"IF(D4=0,NA(),RTD(\"cqg.rtd\",,\"StudyData\", \"Close(\"&$BT$2&\") When Barix(\"&$BT$2&\",reference:=StartOfSession)=\"&A4&\"\", \"Bar\", \"\", \"Close\",\"5\",\"0\",\"All\",,,\"False\",\"T\",\"EveryTick\"))","v":174.98},null,{"$f":"IF(D4=0,NA(),RTD(\"cqg.rtd\",,\"StudyData\", \"Close(\"&$BV$2&\") When Barix(\"&$BV$2&\",reference:=StartOfSession)=\"&A4&\"\", \"Bar\", \"\", \"Close\",\"5\",\"0\",\"All\",,,\"False\",\"T\",\"EveryTick\"))","v":26.28},null,{"$f":"IF(D4=0,NA(),RTD(\"cqg.rtd\",,\"StudyData\", \"Close(\"&$BX$2&\") When Barix(\"&$BX$2&\",reference:=StartOfSession)=\"&A4&\"\", \"Bar\", \"\", \"Close\",\"5\",\"0\",\"All\",,,\"False\",\"T\",\"EveryTick\"))","v":45.25},null,{"$f":"IF(D4=0,NA(),RTD(\"cqg.rtd\",,\"StudyData\", \"Close(\"&$BZ$2&\") When Barix(\"&$BZ$2&\",reference:=StartOfSession)=\"&A4&\"\", \"Bar\", \"\", \"Close\",\"5\",\"0\",\"All\",,,\"False\",\"T\",\"EveryTick\"))","v":566.41999999999996}]
[{"$f":"A4+1","v":1},{"$f":"IF(D5=0,NA(),RTD(\"cqg.rtd\",,\"StudyData\", \"Close(\"&$B$2&\") When Barix(\"&$B$2&\",reference:=StartOfSession)=\"&A5&\"\", \"Bar\", \"\", \"Close\",\"5\",\"0\",\"All\",,,\"False\",\"T\",\"EveryTick\"))","v":13.72},"08:35:00",{"$f":"IF($D$1=0,1,IF($L$1>C5,1,0))","v":1},null,{"$f":"IF(D5=0,NA(),RTD(\"cqg.rtd\",,\"StudyData\", \"Close(\"&$F$2&\") When Barix(\"&$F$2&\",reference:=StartOfSession)=\"&A5&\"\", \"Bar\", \"\", \"Close\",\"5\",\"0\",\"All\",,,\"False\",\"T\",\"EveryTick\"))","v":31.59},null,{"$f":"IF(D5=0,NA(),RTD(\"cqg.rtd\",,\"StudyData\", \"Close(\"&$H$2&\") When Barix(\"&$H$2&\",reference:=StartOfSession)=\"&A5&\"\", \"Bar\", \"\", \"Close\",\"5\",\"0\",\"All\",,,\"False\",\"T\",\"EveryTick\"))","v":51.96},null,{"$f":"IF(D5=0,NA(),RTD(\"cqg.rtd\",,\"StudyData\", \"Close(\"&$J$2&\") When Barix(\"&$J$2&\",reference:=StartOfSession)=\"&A5&\"\", \"Bar\", \"\", \"Close\",\"5\",\"0\",\"All\",,,\"False\",\"T\",\"EveryTick\"))","v":49.13},null,{"$f":"IF(D5=0,NA(),RTD(\"cqg.rtd\",,\"StudyData\", \"Close(\"&$L$2&\") When Barix(\"&$L$2&\",reference:=StartOfSession)=\"&A5&\"\", \"Bar\", \"\", \"Close\",\"5\",\"0\",\"All\",,,\"False\",\"T\",\"EveryTick\"))","v":22.65},null,{"$f":"IF(D5=0,NA(),RTD(\"cqg.rtd\",,\"StudyData\", \"Close(\"&$N$2&\") When Barix(\"&$N$2&\",reference:=StartOfSession)=\"&A5&\"\", \"Bar\", \"\", \"Close\",\"5\",\"0\",\"All\",,,\"False\",\"T\",\"EveryTick\"))","v":12.43},null,{"$f":"IF(D5=0,NA(),RTD(\"cqg.rtd\",,\"StudyData\", \"Close(\"&$P$2&\") When Barix(\"&$P$2&\",reference:=StartOfSession)=\"&A5&\"\", \"Bar\", \"\", \"Close\",\"5\",\"0\",\"All\",,,\"False\",\"T\",\"EveryTick\"))","v":25.12},null,{"$f":"IF(D5=0,NA(),RTD(\"cqg.rtd\",,\"StudyData\", \"Close(\"&$R$2&\") When Barix(\"&$R$2&\",reference:=StartOfSession)=\"&A5&\"\", \"Bar\", \"\", \"Close\",\"5\",\"0\",\"All\",,,\"False\",\"T\",\"EveryTick\"))","v":8.94},null,{"$f":"IF(D5=0,NA(),RTD(\"cqg.rtd\",,\"StudyData\", \"Close(\"&$T$2&\") When Barix(\"&$T$2&\",reference:=StartOfSession)=\"&A5&\"\", \"Bar\", \"\", \"Close\",\"5\",\"0\",\"All\",,,\"False\",\"T\",\"EveryTick\"))","v":10.94},null,{"$f":"IF(D5=0,NA(),RTD(\"cqg.rtd\",,\"StudyData\", \"Close(\"&$V$2&\") When Barix(\"&$V$2&\",reference:=StartOfSession)=\"&A5&\"\", \"Bar\", \"\", \"Close\",\"5\",\"0\",\"All\",,,\"False\",\"T\",\"EveryTick\"))","v":14.31},null,{"$f":"IF(D5=0,NA(),RTD(\"cqg.rtd\",,\"StudyData\", \"Close(\"&$X$2&\") When Barix(\"&$X$2&\",reference:=StartOfSession)=\"&A5&\"\", \"Bar\", \"\", \"Close\",\"5\",\"0\",\"All\",,,\"False\",\"T\",\"EveryTick\"))","v":22.09},null,{"$f":"IF(D5=0,NA(),RTD(\"cqg.rtd\",,\"StudyData\", \"Close(\"&$Z$2&\") When Barix(\"&$Z$2&\",reference:=StartOfSession)=\"&A5&\"\", \"Bar\", \"\", \"Close\",\"5\",\"0\",\"All\",,,\"False\",\"T\",\"EveryTick\"))","v":8.36},null,{"$f":"IF(D5=0,NA(),RTD(\"cqg.rtd\",,\"StudyData\", \"Close(\"&$AB$2&\") When Barix(\"&$AB$2&\",reference:=StartOfSession)=\"&A5&\"\", \"Bar\", \"\", \"Close\",\"5\",\"0\",\"All\",,,\"False\",\"T\",\"EveryTick\"))","v":30.69},null,{"$f":"IF(D5=0,NA(),RTD(\"cqg.rtd\",,\"StudyData\", \"Close(\"&$AD$2&\") When Barix(\"&$AD$2&\",reference:=StartOfSession)=\"&A5&\"\", \"Bar\", \"\", \"Close\",\"5\",\"0\",\"All\",,,\"False\",\"T\",\"EveryTick\"))","v":29.28},null,{"$f":"IF(D5=0,NA(),RTD(\"cqg.rtd\",,\"StudyData\", \"Close(\"&$AF$2&\") When Barix(\"&$AF$2&\",reference:=StartOfSession)=\"&A5&\"\", \"Bar\", \"\", \"Close\",\"5\",\"0\",\"All\",,,\"False\",\"T\",\"EveryTick\"))","v":161.51},null,{"$f":"IF(D5=0,NA(),RTD(\"cqg.rtd\",,\"StudyData\", \"Close(\"&$AH$2&\") When Barix(\"&$AH$2&\",reference:=StartOfSession)=\"&A5&\"\", \"Bar\", \"\", \"Close\",\"5\",\"0\",\"All\",,,\"False\",\"T\",\"EveryTick\"))","v":57.86},null,{"$f":"IF(D5=0,NA(),RTD(\"cqg.rtd\",,\"StudyData\", \"Close(\"&$AJ$2&\") When Barix(\"&$AJ$2&\",reference:=StartOfSession)=\"&A5&\"\", \"Bar\", \"\", \"Close\",\"5\",\"0\",\"All\",,,\"False\",\"T\",\"EveryTick\"))","v":574.99},null,{"$f":"IF(D5=0,NA(),RTD(\"cqg.rtd\",,\"StudyData\", \"Close(\"&$AL$2&\") When Barix(\"&$AL$2&\",reference:=StartOfSession)=\"&A5&\"\", \"Bar\", \"\", \"Close\",\"5\",\"0\",\"All\",,,\"False\",\"T\",\"EveryTick\"))","v":217.63},null,{"$f":"IF(D5=0,NA(),RTD(\"cqg.rtd\",,\"StudyData\", \"Close(\"&$AN$2&\") When Barix(\"&$AN$2&\",reference:=StartOfSession)=\"&A5&\"\", \"Bar\", \"\", \"Close\",\"5\",\"0\",\"All\",,,\"False\",\"T\",\"EveryTick\"))","v":51.51},null,{"$f":"IF(D5=0,NA(),RTD(\"cqg.rtd\",,\"StudyData\", \"Close(\"&$AN$2&\") When Barix(\"&$AN$2&\",reference:=StartOfSession)=\"&A5&\"\", \"Bar\", \"\", \"Close\",\"5\",\"0\",\"All\",,,\"False\",\"T\",\"EveryTick\"))","v":51.51},null,{"$f":"IF(D5=0,NA(),RTD(\"cqg.rtd\",,\"StudyData\", \"Close(\"&$AR$2&\") When Barix(\"&$AR$2&\",reference:=StartOfSession)=\"&A5&\"\", \"Bar\", \"\", \"Close\",\"5\",\"0\",\"All\",,,\"False\",\"T\",\"EveryTick\"))","v":45.11},null,{"$f":"IF(D5=0,NA(),RTD(\"cqg.rtd\",,\"StudyData\", \"Close(\"&$AT$2&\") When Barix(\"&$AT$2&\",reference:=StartOfSession)=\"&A5&\"\", \"Bar\", \"\", \"Close\",\"5\",\"0\",\"All\",,,\"False\",\"T\",\"EveryTick\"))","v":75.73},null,{"$f":"IF(D5=0,NA(),RTD(\"cqg.rtd\",,\"StudyData\", \"Close(\"&$AV$2&\") When Barix(\"&$AV$2&\",reference:=StartOfSession)=\"&A5&\"\", \"Bar\", \"\", \"Close\",\"5\",\"0\",\"All\",,,\"False\",\"T\",\"EveryTick\"))","v":4.2300000000000004},null,{"$f":"IF(D5=0,NA(),RTD(\"cqg.rtd\",,\"StudyData\", \"Close(\"&$AX$2&\") When Barix(\"&$AX$2&\",reference:=StartOfSession)=\"&A5&\"\", \"Bar\", \"\", \"Close\",\"5\",\"0\",\"All\",,,\"False\",\"T\",\"EveryTick\"))","v":26.02},null,{"$f":"IF(D5=0,NA(),RTD(\"cqg.rtd\",,\"StudyData\", \"Close(\"&$AZ$2&\") When Barix(\"&$AZ$2&\",reference:=StartOfSession)=\"&A5&\"\", \"Bar\", \"\", \"Close\",\"5\",\"0\",\"All\",,,\"False\",\"T\",\"EveryTick\"))","v":76.92},null,{"$f":"IF(D5=0,NA(),RTD(\"cqg.rtd\",,\"StudyData\", \"Close(\"&$BB$2&\") When Barix(\"&$BB$2&\",reference:=StartOfSession)=\"&A5&\"\", \"Bar\", \"\", \"Close\",\"5\",\"0\",\"All\",,,\"False\",\"T\",\"EveryTick\"))","v":132.24},null,{"$f":"IF(D5=0,NA(),RTD(\"cqg.rtd\",,\"StudyData\", \"Close(\"&$BD$2&\") When Barix(\"&$BD$2&\",reference:=StartOfSession)=\"&A5&\"\", \"Bar\", \"\", \"Close\",\"5\",\"0\",\"All\",,,\"False\",\"T\",\"EveryTick\"))","v":113.3},null,{"$f":"IF(D5=0,NA(),RTD(\"cqg.rtd\",,\"StudyData\", \"Close(\"&$BF$2&\") When Barix(\"&$BF$2&\",reference:=StartOfSession)=\"&A5&\"\", \"Bar\", \"\", \"Close\",\"5\",\"0\",\"All\",,,\"False\",\"T\",\"EveryTick\"))","v":5.08},null,{"$f":"IF(D5=0,NA(),RTD(\"cqg.rtd\",,\"StudyData\", \"Close(\"&$BH$2&\") When Barix(\"&$BH$2&\",reference:=StartOfSession)=\"&A5&\"\", \"Bar\", \"\", \"Close\",\"5\",\"0\",\"All\",,,\"False\",\"T\",\"EveryTick\"))","v":264.27999999999997},null,{"$f":"IF(D5=0,NA(),RTD(\"cqg.rtd\",,\"StudyData\", \"Close(\"&$BJ$2&\") When Barix(\"&$BJ$2&\",reference:=StartOfSession)=\"&A5&\"\", \"Bar\", \"\", \"Close\",\"5\",\"0\",\"All\",,,\"False\",\"T\",\"EveryTick\"))","v":33.86},null,{"$f":"IF(D5=0,NA(),RTD(\"cqg.rtd\",,\"StudyData\", \"Close(\"&$BL$2&\") When Barix(\"&$BL$2&\",reference:=StartOfSession)=\"&A5&\"\", \"Bar\", \"\", \"Close\",\"5\",\"0\",\"All\",,,\"False\",\"T\",\"EveryTick\"))","v":58.29},null,{"$f":"IF(D5=0,NA(),RTD(\"cqg.rtd\",,\"StudyData\", \"Close(\"&$BN$2&\") When Barix(\"&$BN$2&\",reference:=StartOfSession)=\"&A5&\"\", \"Bar\", \"\", \"Close\",\"5\",\"0\",\"All\",,,\"False\",\"T\",\"EveryTick\"))","v":415.99},null,{"$f":"IF(D5=0,NA(),RTD(\"cqg.rtd\",,\"StudyData\", \"Close(\"&$BP$2&\") When Barix(\"&$BP$2&\",reference:=StartOfSession)=\"&A5&\"\", \"Bar\", \"\", \"Close\",\"5\",\"0\",\"All\",,,\"False\",\"T\",\"EveryTick\"))","v":271.37},null,{"$f":"IF(D5=0,NA(),RTD(\"cqg.rtd\",,\"StudyData\", \"Close(\"&$BR$2&\") When Barix(\"&$BR$2&\",reference:=StartOfSession)=\"&A5&\"\", \"Bar\", \"\", \"Close\",\"5\",\"0\",\"All\",,,\"False\",\"T\",\"EveryTick\"))","v":251.07},null,{"$f":"IF(D5=0,NA(),RTD(\"cqg.rtd\",,\"StudyData\", \"Close(\"&$BT$2&\") When Barix(\"&$BT$2&\",reference:=StartOfSession)=\"&A5&\"\", \"Bar\", \"\", \"Close\",\"5\",\"0\",\"All\",,,\"False\",\"T\",\"EveryTick\"))","v":175.1},null,{"$f":"IF(D5=0,NA(),RTD(\"cqg.rtd\",,\"StudyData\", \"Close(\"&$BV$2&\") When Barix(\"&$BV$2&\",reference:=StartOfSession)=\"&A5&\"\", \"Bar\", \"\", \"Close\",\"5\",\"0\",\"All\",,,\"False\",\"T\",\"EveryTick\"))","v":26.35},null,{"$f":"IF(D5=0,NA(),RTD(\"cqg.rtd\",,\"StudyData\", \"Close(\"&$BX$2&\") When Barix(\"&$BX$2&\",reference:=StartOfSession)=\"&A5&\"\", \"Bar\", \"\", \"Close\",\"5\",\"0\",\"All\",,,\"False\",\"T\",\"EveryTick\"))","v":45.28},null,{"$f":"IF(D5=0,NA(),RTD(\"cqg.rtd\",,\"StudyData\", \"Close(\"&$BZ$2&\") When Barix(\"&$BZ$2&\",reference:=StartOfSession)=\"&A5&\"\", \"Bar\", \"\", \"Close\",\"5\",\"0\",\"All\",,,\"False\",\"T\",\"EveryTick\"))","v":574.99}]
[{"$f":"A5+1","v":2},{"$f":"IF(D6=0,NA(),RTD(\"cqg.rtd\",,\"StudyData\", \"Close(\"&$B$2&\") When Barix(\"&$B$2&\",reference:=StartOfSession)=\"&A6&\"\", \"Bar\", \"\", \"Close\",\"5\",\"0\",\"All\",,,\"False\",\"T\",\"EveryTick\"))","v":13.74},"08:40:00",1,null,{"$f":"IF(D6=0,NA(),RTD(\"cqg.rtd\",,\"StudyData\", \"Close(\"&$F$2&\") When Barix(\"&$F$2&\",reference:=StartOfSession)=\"&A6&\"\", \"Bar\", \"\", \"Close\",\"5\",\"0\",\"All\",,,\"False\",\"T\",\"EveryTick\"))","v":32.1},null,{"$f":"IF(D6=0,NA(),RTD(\"cqg.rtd\",,\"StudyData\", \"Close(\"&$H$2&\") When Barix(\"&$H$2&\",reference:=StartOfSession)=\"&A6&\"\", \"Bar\", \"\", \"Close\",\"5\",\"0\",\"All\",,,\"False\",\"T\",\"EveryTick\"))","v":51.19},null,{"$f":"IF(D6=0,NA(),RTD(\"cqg.rtd\",,\"StudyData\", \"Close(\"&$J$2&\") When Barix(\"&$J$2&\",reference:=StartOfSession)=\"&A6&\"\", \"Bar\", \"\", \"Close\",\"5\",\"0\",\"All\",,,\"False\",\"T\",\"EveryTick\"))","v":48.58},null,{"$f":"IF(D6=0,NA(),RTD(\"cqg.rtd\",,\"StudyData\", \"Close(\"&$L$2&\") When Barix(\"&$L$2&\",reference:=StartOfSession)=\"&A6&\"\", \"Bar\", \"\", \"Close\",\"5\",\"0\",\"All\",,,\"False\",\"T\",\"EveryTick\"))","v":22.75},null,{"$f":"IF(D6=0,NA(),RTD(\"cqg.rtd\",,\"StudyData\", \"Close(\"&$N$2&\") When Barix(\"&$N$2&\",reference:=StartOfSession)=\"&A6&\"\", \"Bar\", \"\", \"Close\",\"5\",\"0\",\"All\",,,\"False\",\"T\",\"EveryTick\"))","v":12.49},null,{"$f":"IF(D6=0,NA(),RTD(\"cqg.rtd\",,\"StudyData\", \"Close(\"&$P$2&\") When Barix(\"&$P$2&\",reference:=StartOfSession)=\"&A6&\"\", \"Bar\", \"\", \"Close\",\"5\",\"0\",\"All\",,,\"False\",\"T\",\"EveryTick\"))","v":24.96},null,{"$f":"IF(D6=0,NA(),RTD(\"cqg.rtd\",,\"StudyData\", \"Close(\"&$R$2&\") When Barix(\"&$R$2&\",reference:=StartOfSession)=\"&A6&\"\", \"Bar\", \"\", \"Close\",\"5\",\"0\",\"All\",,,\"False\",\"T\",\"EveryTick\"))","v":8.94},null,{"$f":"IF(D6=0,NA(),RTD(\"cqg.rtd\",,\"StudyData\", \"Close(\"&$T$2&\") When Barix(\"&$T$2&\",reference:=StartOfSession)=\"&A6&\"\", \"Bar\", \"\", \"Close\",\"5\",\"0\",\"All\",,,\"False\",\"T\",\"EveryTick\"))","v":10.96},null,{"$f":"IF(D6=0,NA(),RTD(\"cqg.rtd\",,\"StudyData\", \"Close(\"&$V$2&\") When Barix(\"&$V$2&\",reference:=StartOfSession)=\"&A6&\"\", \"Bar\", \"\", \"Close\",\"5\",\"0\",\"All\",,,\"False\",\"T\",\"EveryTick\"))","v":14.33},null,{"$f":"IF(D6=0,NA(),RTD(\"cqg.rtd\",,\"StudyData\", \"Close(\"&$X$2&\") When Barix(\"&$X$2&\",reference:=StartOfSession)=\"&A6&\"\", \"Bar\", \"\", \"Close\",\"5\",\"0\",\"All\",,,\"False\",\"T\",\"EveryTick\"))","v":22.11},null,{"$f":"IF(D6=0,NA(),RTD(\"cqg.rtd\",,\"StudyData\", \"Close(\"&$Z$2&\") When Barix(\"&$Z$2&\",reference:=StartOfSession)=\"&A6&\"\", \"Bar\", \"\", \"Close\",\"5\",\"0\",\"All\",,,\"False\",\"T\",\"EveryTick\"))","v":8.2899999999999991},null,{"$f":"IF(D6=0,NA(),RTD(\"cqg.rtd\",,\"StudyData\", \"Close(\"&$AB$2&\") When Barix(\"&$AB$2&\",reference:=StartOfSession)=\"&A6&\"\", \"Bar\", \"\", \"Close\",\"5\",\"0\",\"All\",,,\"False\",\"T\",\"EveryTick\"))","v":30.75},null,{"$f":"IF(D6=0,NA(),RTD(\"cqg.rtd\",,\"StudyData\", \"Close(\"&$AD$2&\") When Barix(\"&$AD$2&\",reference:=StartOfSession)=\"&A6&\"\", \"Bar\", \"\", \"Close\",\"5\",\"0\",\"All\",,,\"False\",\"T\",\"EveryTick\"))","v":29.22},null,{"$f":"IF(D6=0,NA(),RTD(\"cqg.rtd\",,\"StudyData\", \"Close(\"&$AF$2&\") When Barix(\"&$AF$2&\",reference:=StartOfSession)=\"&A6&\"\", \"Bar\", \"\", \"Close\",\"5\",\"0\",\"All\",,,\"False\",\"T\",\"EveryTick\"))","v":161.84},null,{"$f":"IF(D6=0,NA(),RTD(\"cqg.rtd\",,\"StudyData\", \"Close(\"&$AH$2&\") When Barix(\"&$AH$2&\",reference:=StartOfSession)=\"&A6&\"\", \"Bar\", \"\", \"Close\",\"5\",\"0\",\"All\",,,\"False\",\"T\",\"EveryTick\"))","v":57.85},null,{"$f":"IF(D6=0,NA(),RTD(\"cqg.rtd\",,\"StudyData\", \"Close(\"&$AJ$2&\") When Barix(\"&$AJ$2&\",reference:=StartOfSession)=\"&A6&\"\", \"Bar\", \"\", \"Close\",\"5\",\"0\",\"All\",,,\"False\",\"T\",\"EveryTick\"))","v":571.66},null,{"$f":"IF(D6=0,NA(),RTD(\"cqg.rtd\",,\"StudyData\", \"Close(\"&$AL$2&\") When Barix(\"&$AL$2&\",reference:=StartOfSession)=\"&A6&\"\", \"Bar\", \"\", \"Close\",\"5\",\"0\",\"All\",,,\"False\",\"T\",\"EveryTick\"))","v":216.82},null,{"$f":"IF(D6=0,NA(),RTD(\"cqg.rtd\",,\"StudyData\", \"Close(\"&$AN$2&\") When Barix(\"&$AN$2&\",reference:=StartOfSession)=\"&A6&\"\", \"Bar\", \"\", \"Close\",\"5\",\"0\",\"All\",,,\"False\",\"T\",\"EveryTick\"))","v":51.71},null,{"$f":"IF(D6=0,NA(),RTD(\"cqg.rtd\",,\"StudyData\", \"Close(\"&$AN$2&\") When Barix(\"&$AN$2&\",reference:=StartOfSession)=\"&A6&\"\", \"Bar\", \"\", \"Close\",\"5\",\"0\",\"All\",,,\"False\",\"T\",\"EveryTick\"))","v":51.71},null,{"$f":"IF(D6=0,NA(),RTD(\"cqg.rtd\",,\"StudyData\", \"Close(\"&$AR$2&\") When Barix(\"&$AR$2&\",reference:=StartOfSession)=\"&A6&\"\", \"Bar\", \"\", \"Close\",\"5\",\"0\",\"All\",,,\"False\",\"T\",\"EveryTick\"))","v":45.27},null,{"$f":"IF(D6=0,NA(),RTD(\"cqg.rtd\",,\"StudyData\", \"Close(\"&$AT$2&\") When Barix(\"&$AT$2&\",reference:=StartOfSession)=\"&A6&\"\", \"Bar\", \"\", \"Close\",\"5\",\"0\",\"All\",,,\"False\",\"T\",\"EveryTick\"))","v":75.760000000000005},null,{"$f":"IF(D6=0,NA(),RTD(\"cqg.rtd\",,\"StudyData\", \"Close(\"&$AV$2&\") When Barix(\"&$AV$2&\",reference:=StartOfSession)=\"&A6&\"\", \"Bar\", \"\", \"Close\",\"5\",\"0\",\"All\",,,\"False\",\"T\",\"EveryTick\"))","v":4.29},null,{"$f":"IF(D6=0,NA(),RTD(\"cqg.rtd\",,\"StudyData\", \"Close(\"&$AX$2&\") When Barix(\"&$AX$2&\",reference:=StartOfSession)=\"&A6&\"\", \"Bar\", \"\", \"Close\",\"5\",\"0\",\"All\",,,\"False\",\"T\",\"EveryTick\"))","v":26.1},null,{"$f":"IF(D6=0,NA(),RTD(\"cqg.rtd\",,\"StudyData\", \"Close(\"&$AZ$2&\") When Barix(\"&$AZ$2&\",reference:=StartOfSession)=\"&A6&\"\", \"Bar\", \"\", \"Close\",\"5\",\"0\",\"All\",,,\"False\",\"T\",\"EveryTick\"))","v":76.44},null,{"$f":"IF(D6=0,NA(),RTD(\"cqg.rtd\",,\"StudyData\", \"Close(\"&$BB$2&\") When Barix(\"&$BB$2&\",reference:=StartOfSession)=\"&A6&\"\", \"Bar\", \"\", \"Close\",\"5\",\"0\",\"All\",,,\"False\",\"T\",\"EveryTick\"))","v":132.62},null,{"$f":"IF(D6=0,NA(),RTD(\"cqg.rtd\",,\"StudyData\", \"Close(\"&$BD$2&\") When Barix(\"&$BD$2&\",reference:=StartOfSession)=\"&A6&\"\", \"Bar\", \"\", \"Close\",\"5\",\"0\",\"All\",,,\"False\",\"T\",\"EveryTick\"))","v":113.59},null,{"$f":"IF(D6=0,NA(),RTD(\"cqg.rtd\",,\"StudyData\", \"Close(\"&$BF$2&\") When Barix(\"&$BF$2&\",reference:=StartOfSession)=\"&A6&\"\", \"Bar\", \"\", \"Close\",\"5\",\"0\",\"All\",,,\"False\",\"T\",\"EveryTick\"))","v":5.0199999999999996},null,{"$f":"IF(D6=0,NA(),RTD(\"cqg.rtd\",,\"StudyData\", \"Close(\"&$BH$2&\") When Barix(\"&$BH$2&\",reference:=StartOfSession)=\"&A6&\"\", \"Bar\", \"\", \"Close\",\"5\",\"0\",\"All\",,,\"False\",\"T\",\"EveryTick\"))","v":264},null,{"$f":"IF(D6=0,NA(),RTD(\"cqg.rtd\",,\"StudyData\", \"Close(\"&$BJ$2&\") When Barix(\"&$BJ$2&\",reference:=StartOfSession)=\"&A6&\"\", \"Bar\", \"\", \"Close\",\"5\",\"0\",\"All\",,,\"False\",\"T\",\"EveryTick\"))","v":33.380000000000003},null,{"$f":"IF(D6=0,NA(),RTD(\"cqg.rtd\",,\"StudyData\", \"Close(\"&$BL$2&\") When Barix(\"&$BL$2&\",reference:=StartOfSession)=\"&A6&\"\", \"Bar\", \"\", \"Close\",\"5\",\"0\",\"All\",,,\"False\",\"T\",\"EveryTick\"))","v":58.62},null,{"$f":"IF(D6=0,NA(),RTD(\"cqg.rtd\",,\"StudyData\", \"Close(\"&$BN$2&\") When Barix(\"&$BN$2&\",reference:=StartOfSession)=\"&A6&\"\", \"Bar\", \"\", \"Close\",\"5\",\"0\",\"All\",,,\"False\",\"T\",\"EveryTick\"))","v":415.67},null,{"$f":"IF(D6=0,NA(),RTD(\"cqg.rtd\",,\"StudyData\", \"Close(\"&$BP$2&\") When Barix(\"&$BP$2&\",reference:=StartOfSession)=\"&A6&\"\", \"Bar\", \"\", \"Close\",\"5\",\"0\",\"All\",,,\"False\",\"T\",\"EveryTick\"))","v":271},null,{"$f":"IF(D6=0,NA(),RTD(\"cqg.rtd\",,\"StudyData\", \"Close(\"&$BR$2&\") When Barix(\"&$BR$2&\",reference:=StartOfSession)=\"&A6&\"\", \"Bar\", \"\", \"Close\",\"5\",\"0\",\"All\",,,\"False\",\"T\",\"EveryTick\"))","v":250.6},null,{"$f":"IF(D6=0,NA(),RTD(\"cqg.rtd\",,\"StudyData\", \"Close(\"&$BT$2&\") When Barix(\"&$BT$2&\",reference:=StartOfSession)=\"&A6&\"\", \"Bar\", \"\", \"Close\",\"5\",\"0\",\"All\",,,\"False\",\"T\",\"EveryTick\"))","v":174.85},null,{"$f":"IF(D6=0,NA(),RTD(\"cqg.rtd\",,\"StudyData\", \"Close(\"&$BV$2&\") When Barix(\"&$BV$2&\",reference:=StartOfSession)=\"&A6&\"\", \"Bar\", \"\", \"Close\",\"5\",\"0\",\"All\",,,\"False\",\"T\",\"EveryTick\"))","v":26.27},null,{"$f":"IF(D6=0,NA(),RTD(\"cqg.rtd\",,\"StudyData\", \"Close(\"&$BX$2&\") When Barix(\"&$BX$2&\",reference:=StartOfSession)=\"&A6&\"\", \"Bar\", \"\", \"Close\",\"5\",\"0\",\"All\",,,\"False\",\"T\",\"EveryTick\"))","v":45.28},null,{"$f":"IF(D6=0,NA(),RTD(\"cqg.rtd\",,\"StudyData\", \"Close(\"&$BZ$2&\") When Barix(\"&$BZ$2&\",reference:=StartOfSession)=\"&A6&\"\", \"Bar\", \"\", \"Close\",\"5\",\"0\",\"All\",,,\"False\",\"T\",\"EveryTick\"))","v":571.66}]
[3,{"$f":"IF(D7=0,NA(),RTD(\"cqg.rtd\",,\"StudyData\", \"Close(\"&$B$2&\") When Barix(\"&$B$2&\",reference:=StartOfSession)=\"&A7&\"\", \"Bar\", \"\", \"Close\",\"5\",\"0\",\"All\",,,\"False\",\"T\",\"EveryTick\"))","v":13.94},"08:45:00",1,null,{"$f":"IF(D7=0,NA(),RTD(\"cqg.rtd\",,\"StudyData\", \"Close(\"&$F$2&\") When Barix(\"&$F$2&\",reference:=StartOfSession)=\"&A7&\"\", \"Bar\", \"\", \"Close\",\"5\",\"0\",\"All\",,,\"False\",\"T\",\"EveryTick\"))","v":32.18},null,{"$f":"IF(D7=0,NA(),RTD(\"cqg.rtd\",,\"StudyData\", \"Close(\"&$H$2&\") When Barix(\"&$H$2&\",reference:=StartOfSession)=\"&A7&\"\", \"Bar\", \"\", \"Close\",\"5\",\"0\",\"All\",,,\"False\",\"T\",\"EveryTick\"))","v":51.81},null,{"$f":"IF(D7=0,NA(),RTD(\"cqg.rtd\",,\"StudyData\", \"Close(\"&$J$2&\") When Barix(\"&$J$2&\",reference:=StartOfSession)=\"&A7&\"\", \"Bar\", \"\", \"Close\",\"5\",\"0\",\"All\",,,\"False\",\"T\",\"EveryTick\"))","v":49.05},null,{"$f":"IF(D7=0,NA(),RTD(\"cqg.rtd\",,\"StudyData\", \"Close(\"&$L$2&\") When Barix(\"&$L$2&\",reference:=StartOfSession)=\"&A7&\"\", \"Bar\", \"\", \"Close\",\"5\",\"0\",\"All\",,,\"False\",\"T\",\"EveryTick\"))","v":22.82},null,{"$f":"IF(D7=0,NA(),RTD(\"cqg.rtd\",,\"StudyData\", \"Close(\"&$N$2&\") When Barix(\"&$N$2&\",reference:=StartOfSession)=\"&A7&\"\", \"Bar\", \"\", \"Close\",\"5\",\"0\",\"All\",,,\"False\",\"T\",\"EveryTick\"))","v":12.46},null,{"$f":"IF(D7=0,NA(),RTD(\"cqg.rtd\",,\"StudyData\", \"Close(\"&$P$2&\") When Barix(\"&$P$2&\",reference:=StartOfSession)=\"&A7&\"\", \"Bar\", \"\", \"Close\",\"5\",\"0\",\"All\",,,\"False\",\"T\",\"EveryTick\"))","v":25.3},null,{"$f":"IF(D7=0,NA(),RTD(\"cqg.rtd\",,\"StudyData\", \"Close(\"&$R$2&\") When Barix(\"&$R$2&\",reference:=StartOfSession)=\"&A7&\"\", \"Bar\", \"\", \"Close\",\"5\",\"0\",\"All\",,,\"False\",\"T\",\"EveryTick\"))","v":8.9700000000000006},null,{"$f":"IF(D7=0,NA(),RTD(\"cqg.rtd\",,\"StudyData\", \"Close(\"&$T$2&\") When Barix(\"&$T$2&\",reference:=StartOfSession)=\"&A7&\"\", \"Bar\", \"\", \"Close\",\"5\",\"0\",\"All\",,,\"False\",\"T\",\"EveryTick\"))","v":10.93},null,{"$f":"IF(D7=0,NA(),RTD(\"cqg.rtd\",,\"StudyData\", \"Close(\"&$V$2&\") When Barix(\"&$V$2&\",reference:=StartOfSession)=\"&A7&\"\", \"Bar\", \"\", \"Close\",\"5\",\"0\",\"All\",,,\"False\",\"T\",\"EveryTick\"))","v":14.44},null,{"$f":"IF(D7=0,NA(),RTD(\"cqg.rtd\",,\"StudyData\", \"Close(\"&$X$2&\") When Barix(\"&$X$2&\",reference:=StartOfSession)=\"&A7&\"\", \"Bar\", \"\", \"Close\",\"5\",\"0\",\"All\",,,\"False\",\"T\",\"EveryTick\"))","v":22.2},null,{"$f":"IF(D7=0,NA(),RTD(\"cqg.rtd\",,\"StudyData\", \"Close(\"&$Z$2&\") When Barix(\"&$Z$2&\",reference:=StartOfSession)=\"&A7&\"\", \"Bar\", \"\", \"Close\",\"5\",\"0\",\"All\",,,\"False\",\"T\",\"EveryTick\"))","v":8.3699999999999992},null,{"$f":"IF(D7=0,NA(),RTD(\"cqg.rtd\",,\"StudyData\", \"Close(\"&$AB$2&\") When Barix(\"&$AB$2&\",reference:=StartOfSession)=\"&A7&\"\", \"Bar\", \"\", \"Close\",\"5\",\"0\",\"All\",,,\"False\",\"T\",\"EveryTick\"))","v":30.52},null,{"$f":"IF(D7=0,NA(),RTD(\"cqg.rtd\",,\"StudyData\", \"Close(\"&$AD$2&\") When Barix(\"&$AD$2&\",reference:=StartOfSession)=\"&A7&\"\", \"Bar\", \"\", \"Close\",\"5\",\"0\",\"All\",,,\"False\",\"T\",\"EveryTick\"))","v":29.49},null,{"$f":"IF(D7=0,NA(),RTD(\"cqg.rtd\",,\"StudyData\", \"Close(\"&$AF$2&\") When Barix(\"&$AF$2&\",reference:=StartOfSession)=\"&A7&\"\", \"Bar\", \"\", \"Close\",\"5\",\"0\",\"All\",,,\"False\",\"T\",\"EveryTick\"))","v":161.22},null,{"$f":"IF(D7=0,NA(),RTD(\"cqg.rtd\",,\"StudyData\", \"Close(\"&$AH$2&\") When Barix(\"&$AH$2&\",reference:=StartOfSession)=\"&A7&\"\", \"Bar\", \"\", \"Close\",\"5\",\"0\",\"All\",,,\"False\",\"T\",\"EveryTick\"))","v":57.93},null,{"$f":"IF(D7=0,NA(),RTD(\"cqg.rtd\",,\"StudyData\", \"Close(\"&$AJ$2&\") When Barix(\"&$AJ$2&\",reference:=StartOfSession)=\"&A7&\"\", \"Bar\", \"\", \"Close\",\"5\",\"0\",\"All\",,,\"False\",\"T\",\"EveryTick\"))","v":572.83000000000004},null,{"$f":"IF(D7=0,NA(),RTD(\"cqg.rtd\",,\"StudyData\", \"Close(\"&$AL$2&\") When Barix(\"&$AL$2&\",reference:=StartOfSession)=\"&A7&\"\", \"Bar\", \"\", \"Close\",\"5\",\"0\",\"All\",,,\"False\",\"T\",\"EveryTick\"))","v":216.41},null,{"$f":"IF(D7=0,NA(),RTD(\"cqg.rtd\",,\"StudyData\", \"Close(\"&$AN$2&\") When Barix(\"&$AN$2&\",reference:=StartOfSession)=\"&A7&\"\", \"Bar\", \"\", \"Close\",\"5\",\"0\",\"All\",,,\"False\",\"T\",\"EveryTick\"))","v":51.37},null,{"$f":"IF(D7=0,NA(),RTD(\"cqg.rtd\",,\"StudyData\", \"Close(\"&$AN$2&\") When Barix(\"&$AN$2&\",reference:=StartOfSession)=\"&A7&\"\", \"Bar\", \"\", \"Close\",\"5\",\"0\",\"All\",,,\"False\",\"T\",\"EveryTick\"))","v":51.37},null,{"$f":"IF(D7=0,NA(),RTD(\"cqg.rtd\",,\"StudyData\", \"Close(\"&$AR$2&\") When Barix(\"&$AR$2&\",reference:=StartOfSession)=\"&A7&\"\", \"Bar\", \"\", \"Close\",\"5\",\"0\",\"All\",,,\"False\",\"T\",\"EveryTick\"))","v":45.15},null,{"$f":"IF(D7=0,NA(),RTD(\"cqg.rtd\",,\"StudyData\", \"Close(\"&$AT$2&\") When Barix(\"&$AT$2&\",reference:=StartOfSession)=\"&A7&\"\", \"Bar\", \"\", \"Close\",\"5\",\"0\",\"All\",,,\"False\",\"T\",\"EveryTick\"))","v":75.709999999999994},null,{"$f":"IF(D7=0,NA(),RTD(\"cqg.rtd\",,\"StudyData\", \"Close(\"&$AV$2&\") When Barix(\"&$AV$2&\",reference:=StartOfSession)=\"&A7&\"\", \"Bar\", \"\", \"Close\",\"5\",\"0\",\"All\",,,\"False\",\"T\",\"EveryTick\"))","v":4.3499999999999996},null,{"$f":"IF(D7=0,NA(),RTD(\"cqg.rtd\",,\"StudyData\", \"Close(\"&$AX$2&\") When Barix(\"&$AX$2&\",reference:=StartOfSession)=\"&A7&\"\", \"Bar\", \"\", \"Close\",\"5\",\"0\",\"All\",,,\"False\",\"T\",\"EveryTick\"))","v":26.07},null,{"$f":"IF(D7=0,NA(),RTD(\"cqg.rtd\",,\"StudyData\", \"Close(\"&$AZ$2&\") When Barix(\"&$AZ$2&\",reference:=StartOfSession)=\"&A7&\"\", \"Bar\", \"\", \"Close\",\"5\",\"0\",\"All\",,,\"False\",\"T\",\"EveryTick\"))","v":76.44},null,{"$f":"IF(D7=0,NA(),RTD(\"cqg.rtd\",,\"StudyData\", \"Close(\"&$BB$2&\") When Barix(\"&$BB$2&\",reference:=StartOfSession)=\"&A7&\"\", \"Bar\", \"\", \"Close\",\"5\",\"0\",\"All\",,,\"False\",\"T\",\"EveryTick\"))","v":132.88999999999999},null,{"$f":"IF(D7=0,NA(),RTD(\"cqg.rtd\",,\"StudyData\", \"Close(\"&$BD$2&\") When Barix(\"&$BD$2&\",reference:=StartOfSession)=\"&A7&\"\", \"Bar\", \"\", \"Close\",\"5\",\"0\",\"All\",,,\"False\",\"T\",\"EveryTick\"))","v":112.6},null,{"$f":"IF(D7=0,NA(),RTD(\"cqg.rtd\",,\"StudyData\", \"Close(\"&$BF$2&\") When Barix(\"&$BF$2&\",reference:=StartOfSession)=\"&A7&\"\", \"Bar\", \"\", \"Close\",\"5\",\"0\",\"All\",,,\"False\",\"T\",\"EveryTick\"))","v":5.04},null,{"$f":"IF(D7=0,NA(),RTD(\"cqg.rtd\",,\"StudyData\", \"Close(\"&$BH$2&\") When Barix(\"&$BH$2&\",reference:=StartOfSession)=\"&A7&\"\", \"Bar\", \"\", \"Close\",\"5\",\"0\",\"All\",,,\"False\",\"T\",\"EveryTick\"))","v":262.87},null,{"$f":"IF(D7=0,NA(),RTD(\"cqg.rtd\",,\"StudyData\", \"Close(\"&$BJ$2&\") When Barix(\"&$BJ$2&\",reference:=StartOfSession)=\"&A7&\"\", \"Bar\", \"\", \"Close\",\"5\",\"0\",\"All\",,,\"False\",\"T\",\"EveryTick\"))","v":33.520000000000003},null,{"$f":"IF(D7=0,NA(),RTD(\"cqg.rtd\",,\"StudyData\", \"Close(\"&$BL$2&\") When Barix(\"&$BL$2&\",reference:=StartOfSession)=\"&A7&\"\", \"Bar\", \"\", \"Close\",\"5\",\"0\",\"All\",,,\"False\",\"T\",\"EveryTick\"))","v":58.67},null,{"$f":"IF(D7=0,NA(),RTD(\"cqg.rtd\",,\"StudyData\", \"Close(\"&$BN$2&\") When Barix(\"&$BN$2&\",reference:=StartOfSession)=\"&A7&\"\", \"Bar\", \"\", \"Close\",\"5\",\"0\",\"All\",,,\"False\",\"T\",\"EveryTick\"))","v":415.33},null,{"$f":"IF(D7=0,NA(),RTD(\"cqg.rtd\",,\"StudyData\", \"Close(\"&$BP$2&\") When Barix(\"&$BP$2&\",reference:=StartOfSession)=\"&A7&\"\", \"Bar\", \"\", \"Close\",\"5\",\"0\",\"All\",,,\"False\",\"T\",\"EveryTick\"))","v":270.52999999999997},null,{"$f":"IF(D7=0,NA(),RTD(\"cqg.rtd\",,\"StudyData\", \"Close(\"&$BR$2&\") When Barix(\"&$BR$2&\",reference:=StartOfSession)=\"&A7&\"\", \"Bar\", \"\", \"Close\",\"5\",\"0\",\"All\",,,\"False\",\"T\",\"EveryTick\"))","v":250.59},null,{"$f":"IF(D7=0,NA(),RTD(\"cqg.rtd\",,\"StudyData\", \"Close(\"&$BT$2&\") When Barix(\"&$BT$2&\",reference:=StartOfSession)=\"&A7&\"\", \"Bar\", \"\", \"Close\",\"5\",\"0\",\"All\",,,\"False\",\"T\",\"EveryTick\"))","v":174.86},null,{"$f":"IF(D7=0,NA(),RTD(\"cqg.rtd\",,\"StudyData\", \"Close(\"&$BV$2&\") When Barix(\"&$BV$2&\",reference:=StartOfSession)=\"&A7&\"\", \"Bar\", \"\", \"Close\",\"5\",\"0\",\"All\",,,\"False\",\"T\",\"EveryTick\"))","v":26.21},null,{"$f":"IF(D7=0,NA(),RTD(\"cqg.rtd\",,\"StudyData\", \"Close(\"&$BX$2&\") When Barix(\"&$BX$2&\",reference:=StartOfSession)=\"&A7&\"\", \"Bar\", \"\", \"Close\",\"5\",\"0\",\"All\",,,\"False\",\"T\",\"EveryTick\"))","v":45.26},null,{"$f":"IF(D7=0,NA(),RTD(\"cqg.rtd\",,\"StudyData\", \"Close(\"&$BZ$2&\") When Barix(\"&$BZ$2&\",reference:=StartOfSession)=\"&A7&\"\", \"Bar\", \"\", \"Close\",\"5\",\"0\",\"All\",,,\"False\",\"T\",\"EveryTick\"))","v":572.83000000000004}]
[4,{"$f":"IF(D8=0,NA(),RTD(\"cqg.rtd\",,\"StudyData\", \"Close(\"&$B$2&\") When Barix(\"&$B$2&\",reference:=StartOfSession)=\"&A8&\"\", \"Bar\", \"\", \"Close\",\"5\",\"0\",\"All\",,,\"False\",\"T\",\"EveryTick\"))","v":13.98},"08:50:00",1,null,{"$f":"IF(D8=0,NA(),RTD(\"cqg.rtd\",,\"StudyData\", \"Close(\"&$F$2&\") When Barix(\"&$F$2&\",reference:=StartOfSession)=\"&A8&\"\", \"Bar\", \"\", \"Close\",\"5\",\"0\",\"All\",,,\"False\",\"T\",\"EveryTick\"))","v":32.630000000000003},null,{"$f":"IF(D8=0,NA(),RTD(\"cqg.rtd\",,\"StudyData\", \"Close(\"&$H$2&\") When Barix(\"&$H$2&\",reference:=StartOfSession)=\"&A8&\"\", \"Bar\", \"\", \"Close\",\"5\",\"0\",\"All\",,,\"False\",\"T\",\"EveryTick\"))","v":52.15},null,{"$f":"IF(D8=0,NA(),RTD(\"cqg.rtd\",,\"StudyData\", \"Close(\"&$J$2&\") When Barix(\"&$J$2&\",reference:=StartOfSession)=\"&A8&\"\", \"Bar\", \"\", \"Close\",\"5\",\"0\",\"All\",,,\"False\",\"T\",\"EveryTick\"))","v":49.37},null,{"$f":"IF(D8=0,NA(),RTD(\"cqg.rtd\",,\"StudyData\", \"Close(\"&$L$2&\") When Barix(\"&$L$2&\",reference:=StartOfSession)=\"&A8&\"\", \"Bar\", \"\", \"Close\",\"5\",\"0\",\"All\",,,\"False\",\"T\",\"EveryTick\"))","v":22.9},null,{"$f":"IF(D8=0,NA(),RTD(\"cqg.rtd\",,\"StudyData\", \"Close(\"&$N$2&\") When Barix(\"&$N$2&\",reference:=StartOfSession)=\"&A8&\"\", \"Bar\", \"\", \"Close\",\"5\",\"0\",\"All\",,,\"False\",\"T\",\"EveryTick\"))","v":12.45},null,{"$f":"IF(D8=0,NA(),RTD(\"cqg.rtd\",,\"StudyData\", \"Close(\"&$P$2&\") When Barix(\"&$P$2&\",reference:=StartOfSession)=\"&A8&\"\", \"Bar\", \"\", \"Close\",\"5\",\"0\",\"All\",,,\"False\",\"T\",\"EveryTick\"))","v":25.53},null,{"$f":"IF(D8=0,NA(),RTD(\"cqg.rtd\",,\"StudyData\", \"Close(\"&$R$2&\") When Barix(\"&$R$2&\",reference:=StartOfSession)=\"&A8&\"\", \"Bar\", \"\", \"Close\",\"5\",\"0\",\"All\",,,\"False\",\"T\",\"EveryTick\"))","v":8.98},null,{"$f":"IF(D8=0,NA(),RTD(\"cqg.rtd\",,\"StudyData\", \"Close(\"&$T$2&\") When Barix(\"&$T$2&\",reference:=StartOfSession)=\"&A8&\"\", \"Bar\", \"\", \"Close\",\"5\",\"0\",\"All\",,,\"False\",\"T\",\"EveryTick\"))","v":11.03},null,{"$f":"IF(D8=0,NA(),RTD(\"cqg.rtd\",,\"StudyData\", \"Close(\"&$V$2&\") When Barix(\"&$V$2&\",reference:=StartOfSession)=\"&A8&\"\", \"Bar\", \"\", \"Close\",\"5\",\"0\",\"All\",,,\"False\",\"T\",\"EveryTick\"))","v":14.58},null,{"$f":"IF(D8=0,NA(),RTD(\"cqg.rtd\",,\"StudyData\", \"Close(\"&$X$2&\") When Barix(\"&$X$2&\",reference:=StartOfSession)=\"&A8&\"\", \"Bar\", \"\", \"Close\",\"5\",\"0\",\"All\",,,\"False\",\"T\",\"EveryTick\"))","v":22.34},null,{"$f":"IF(D8=0,NA(),RTD(\"cqg.rtd\",,\"StudyData\", \"Close(\"&$Z$2&\") When Barix(\"&$Z$2&\",reference:=StartOfSession)=\"&A8&\"\", \"Bar\", \"\", \"Close\",\"5\",\"0\",\"All\",,,\"False\",\"T\",\"EveryTick\"))","v":8.41},null,{"$f":"IF(D8=0,NA(),RTD(\"cqg.rtd\",,\"StudyData\", \"Close(\"&$AB$2&\") When Barix(\"&$AB$2&\",reference:=StartOfSession)=\"&A8&\"\", \"Bar\", \"\", \"Close\",\"5\",\"0\",\"All\",,,\"False\",\"T\",\"EveryTick\"))","v":30.47},null,{"$f":"IF(D8=0,NA(),RTD(\"cqg.rtd\",,\"StudyData\", \"Close(\"&$AD$2&\") When Barix(\"&$AD$2&\",reference:=StartOfSession)=\"&A8&\"\", \"Bar\", \"\", \"Close\",\"5\",\"0\",\"All\",,,\"False\",\"T\",\"EveryTick\"))","v":29.38},null,{"$f":"IF(D8=0,NA(),RTD(\"cqg.rtd\",,\"StudyData\", \"Close(\"&$AF$2&\") When Barix(\"&$AF$2&\",reference:=StartOfSession)=\"&A8&\"\", \"Bar\", \"\", \"Close\",\"5\",\"0\",\"All\",,,\"False\",\"T\",\"EveryTick\"))","v":161.46},null,{"$f":"IF(D8=0,NA(),RTD(\"cqg.rtd\",,\"StudyData\", \"Close(\"&$AH$2&\") When Barix(\"&$AH$2&\",reference:=StartOfSession)=\"&A8&\"\", \"Bar\", \"\", \"Close\",\"5\",\"0\",\"All\",,,\"False\",\"T\",\"EveryTick\"))","v":57.89},null,{"$f":"IF(D8=0,NA(),RTD(\"cqg.rtd\",,\"StudyData\", \"Close(\"&$AJ$2&\") When Barix(\"&$AJ$2&\",reference:=StartOfSession)=\"&A8&\"\", \"Bar\", \"\", \"Close\",\"5\",\"0\",\"All\",,,\"False\",\"T\",\"EveryTick\"))","v":575.19000000000005},null,{"$f":"IF(D8=0,NA(),RTD(\"cqg.rtd\",,\"StudyData\", \"Close(\"&$AL$2&\") When Barix(\"&$AL$2&\",reference:=StartOfSession)=\"&A8&\"\", \"Bar\", \"\", \"Close\",\"5\",\"0\",\"All\",,,\"False\",\"T\",\"EveryTick\"))","v":217.2},null,{"$f":"IF(D8=0,NA(),RTD(\"cqg.rtd\",,\"StudyData\", \"Close(\"&$AN$2&\") When Barix(\"&$AN$2&\",reference:=StartOfSession)=\"&A8&\"\", \"Bar\", \"\", \"Close\",\"5\",\"0\",\"All\",,,\"False\",\"T\",\"EveryTick\"))","v":51.43},null,{"$f":"IF(D8=0,NA(),RTD(\"cqg.rtd\",,\"StudyData\", \"Close(\"&$AN$2&\") When Barix(\"&$AN$2&\",reference:=StartOfSession)=\"&A8&\"\", \"Bar\", \"\", \"Close\",\"5\",\"0\",\"All\",,,\"False\",\"T\",\"EveryTick\"))","v":51.43},null,{"$f":"IF(D8=0,NA(),RTD(\"cqg.rtd\",,\"StudyData\", \"Close(\"&$AR$2&\") When Barix(\"&$AR$2&\",reference:=StartOfSession)=\"&A8&\"\", \"Bar\", \"\", \"Close\",\"5\",\"0\",\"All\",,,\"False\",\"T\",\"EveryTick\"))","v":45.2},null,{"$f":"IF(D8=0,NA(),RTD(\"cqg.rtd\",,\"StudyData\", \"Close(\"&$AT$2&\") When Barix(\"&$AT$2&\",reference:=StartOfSession)=\"&A8&\"\", \"Bar\", \"\", \"Close\",\"5\",\"0\",\"All\",,,\"False\",\"T\",\"EveryTick\"))","v":75.81},null,{"$f":"IF(D8=0,NA(),RTD(\"cqg.rtd\",,\"StudyData\", \"Close(\"&$AV$2&\") When Barix(\"&$AV$2&\",reference:=StartOfSession)=\"&A8&\"\", \"Bar\", \"\", \"Close\",\"5\",\"0\",\"All\",,,\"False\",\"T\",\"EveryTick\"))","v":4.41},null,{"$f":"IF(D8=0,NA(),RTD(\"cqg.rtd\",,\"StudyData\", \"Close(\"&$AX$2&\") When Barix(\"&$AX$2&\",reference:=StartOfSession)=\"&A8&\"\", \"Bar\", \"\", \"Close\",\"5\",\"0\",\"All\",,,\"False\",\"T\",\"EveryTick\"))","v":26.07},null,{"$f":"IF(D8=0,NA(),RTD(\"cqg.rtd\",,\"StudyData\", \"Close(\"&$AZ$2&\") When Barix(\"&$AZ$2&\",reference:=StartOfSession)=\"&A8&\"\", \"Bar\", \"\", \"Close\",\"5\",\"0\",\"All\",,,\"False\",\"T\",\"EveryTick\"))","v":76.44},null,{"$f":"IF(D8=0,NA(),RTD(\"cqg.rtd\",,\"StudyData\", \"Close(\"&$BB$2&\") When Barix(\"&$BB$2&\",reference:=StartOfSession)=\"&A8&\"\", \"Bar\", \"\", \"Close\",\"5\",\"0\",\"All\",,,\"False\",\"T\",\"EveryTick\"))","v":132.74},null,{"$f":"IF(D8=0,NA(),RTD(\"cqg.rtd\",,\"StudyData\", \"Close(\"&$BD$2&\") When Barix(\"&$BD$2&\",reference:=StartOfSession)=\"&A8&\"\", \"Bar\", \"\", \"Close\",\"5\",\"0\",\"All\",,,\"False\",\"T\",\"EveryTick\"))","v":112.98},null,{"$f":"IF(D8=0,NA(),RTD(\"cqg.rtd\",,\"StudyData\", \"Close(\"&$BF$2&\") When Barix(\"&$BF$2&\",reference:=StartOfSession)=\"&A8&\"\", \"Bar\", \"\", \"Close\",\"5\",\"0\",\"All\",,,\"False\",\"T\",\"EveryTick\"))","v":5.05},null,{"$f":"IF(D8=0,NA(),RTD(\"cqg.rtd\",,\"StudyData\", \"Close(\"&$BH$2&\") When Barix(\"&$BH$2&\",reference:=StartOfSession)=\"&A8&\"\", \"Bar\", \"\", \"Close\",\"5\",\"0\",\"All\",,,\"False\",\"T\",\"EveryTick\"))","v":262.98},null,{"$f":"IF(D8=0,NA(),RTD(\"cqg.rtd\",,\"StudyData\", \"Close(\"&$BJ$2&\") When Barix(\"&$BJ$2&\",reference:=StartOfSession)=\"&A8&\"\", \"Bar\", \"\", \"Close\",\"5\",\"0\",\"All\",,,\"False\",\"T\",\"EveryTick\"))","v":33.369999999999997},null,{"$f":"IF(D8=0,NA(),RTD(\"cqg.rtd\",,\"StudyData\", \"Close(\"&$BL$2&\") When Barix(\"&$BL$2&\",reference:=StartOfSession)=\"&A8&\"\", \"Bar\", \"\", \"Close\",\"5\",\"0\",\"All\",,,\"False\",\"T\",\"EveryTick\"))","v":58.64},null,{"$f":"IF(D8=0,NA(),RTD(\"cqg.rtd\",,\"StudyData\", \"Close(\"&$BN$2&\") When Barix(\"&$BN$2&\",reference:=StartOfSession)=\"&A8&\"\", \"Bar\", \"\", \"Close\",\"5\",\"0\",\"All\",,,\"False\",\"T\",\"EveryTick\"))","v":415.43},null,{"$f":"IF(D8=0,NA(),RTD(\"cqg.rtd\",,\"StudyData\", \"Close(\"&$BP$2&\") When Barix(\"&$BP$2&\",reference:=StartOfSession)=\"&A8&\"\", \"Bar\", \"\", \"Close\",\"5\",\"0\",\"All\",,,\"False\",\"T\",\"EveryTick\"))","v":270.52999999999997},null,{"$f":"IF(D8=0,NA(),RTD(\"cqg.rtd\",,\"StudyData\", \"Close(\"&$BR$2&\") When Barix(\"&$BR$2&\",reference:=StartOfSession)=\"&A8&\"\", \"Bar\", \"\", \"Close\",\"5\",\"0\",\"All\",,,\"False\",\"T\",\"EveryTick\"))","v":250.61},null,{"$f":"IF(D8=0,NA(),RTD(\"cqg.rtd\",,\"StudyData\", \"Close(\"&$BT$2&\") When Barix(\"&$BT$2&\",reference:=StartOfSession)=\"&A8&\"\", \"Bar\", \"\", \"Close\",\"5\",\"0\",\"All\",,,\"False\",\"T\",\"EveryTick\"))","v":174.81},null,{"$f":"IF(D8=0,NA(),RTD(\"cqg.rtd\",,\"StudyData\", \"Close(\"&$BV$2&\") When Barix(\"&$BV$2&\",reference:=StartOfSession)=\"&A8&\"\", \"Bar\", \"\", \"Close\",\"5\",\"0\",\"All\",,,\"False\",\"T\",\"EveryTick\"))","v":26.22},null,{"$f":"IF(D8=0,NA(),RTD(\"cqg.rtd\",,\"StudyData\", \"Close(\"&$BX$2&\") When Barix(\"&$BX$2&\",reference:=StartOfSession)=\"&A8&\"\", \"Bar\", \"\", \"Close\",\"5\",\"0\",\"All\",,,\"False\",\"T\",\"EveryTick\"))","v":45.22},null,{"$f":"IF(D8=0,NA(),RTD(\"cqg.rtd\",,\"StudyData\", \"Close(\"&$BZ$2&\") When Barix(\"&$BZ$2&\",reference:=StartOfSession)=\"&A8&\"\", \"Bar\", \"\", \"Close\",\"5\",\"0\",\"All\",,,\"False\",\"T\",\"EveryTick\"))","v":575.19000000000005}]
[5,{"$f":"IF(D9=0,NA(),RTD(\"cqg.rtd\",,\"StudyData\", \"Close(\"&$B$2&\") When Barix(\"&$B$2&\",reference:=StartOfSession)=\"&A9&\"\", \"Bar\", \"\", \"Close\",\"5\",\"0\",\"All\",,,\"False\",\"T\",\"EveryTick\"))","v":{"$error":"#N/A"}},"08:55:00",0,null,{"$f":"IF(D9=0,NA(),RTD(\"cqg.rtd\",,\"StudyData\", \"Close(\"&$F$2&\") When Barix(\"&$F$2&\",reference:=StartOfSession)=\"&A9&\"\", \"Bar\", \"\", \"Close\",\"5\",\"0\",\"All\",,,\"False\",\"T\",\"EveryTick\"))","v":{"$error":"#N/A"}},null,{"$f":"IF(D9=0,NA(),RTD(\"cqg.rtd\",,\"StudyData\", \"Close(\"&$H$2&\") When Barix(\"&$H$2&\",reference:=StartOfSession)=\"&A9&\"\", \"Bar\", \"\", \"Close\",\"5\",\"0\",\"All\",,,\"False\",\"T\",\"EveryTick\"))","v":{"$error":"#N/A"}},null,{"$f":"IF(D9=0,NA(),RTD(\"cqg.rtd\",,\"StudyData\", \"Close(\"&$J$2&\") When Barix(\"&$J$2&\",reference:=StartOfSession)=\"&A9&\"\", \"Bar\", \"\", \"Close\",\"5\",\"0\",\"All\",,,\"False\",\"T\",\"EveryTick\"))","v":{"$error":"#N/A"}},null,{"$f":"IF(D9=0,NA(),RTD(\"cqg.rtd\",,\"StudyData\", \"Close(\"&$L$2&\") When Barix(\"&$L$2&\",reference:=StartOfSession)=\"&A9&\"\", \"Bar\", \"\", \"Close\",\"5\",\"0\",\"All\",,,\"False\",\"T\",\"EveryTick\"))","v":{"$error":"#N/A"}},null,{"$f":"IF(D9=0,NA(),RTD(\"cqg.rtd\",,\"StudyData\", \"Close(\"&$N$2&\") When Barix(\"&$N$2&\",reference:=StartOfSession)=\"&A9&\"\", \"Bar\", \"\", \"Close\",\"5\",\"0\",\"All\",,,\"False\",\"T\",\"EveryTick\"))","v":{"$error":"#N/A"}},null,{"$f":"IF(D9=0,NA(),RTD(\"cqg.rtd\",,\"StudyData\", \"Close(\"&$P$2&\") When Barix(\"&$P$2&\",reference:=StartOfSession)=\"&A9&\"\", \"Bar\", \"\", \"Close\",\"5\",\"0\",\"All\",,,\"False\",\"T\",\"EveryTick\"))","v":{"$error":"#N/A"}},null,{"$f":"IF(D9=0,NA(),RTD(\"cqg.rtd\",,\"StudyData\", \"Close(\"&$R$2&\") When Barix(\"&$R$2&\",reference:=StartOfSession)=\"&A9&\"\", \"Bar\", \"\", \"Close\",\"5\",\"0\",\"All\",,,\"False\",\"T\",\"EveryTick\"))","v":{"$error":"#N/A"}},null,{"$f":"IF(D9=0,NA(),RTD(\"cqg.rtd\",,\"StudyData\", \"Close(\"&$T$2&\") When Barix(\"&$T$2&\",reference:=StartOfSession)=\"&A9&\"\", \"Bar\", \"\", \"Close\",\"5\",\"0\",\"All\",,,\"False\",\"T\",\"EveryTick\"))","v":{"$error":"#N/A"}},null,{"$f":"IF(D9=0,NA(),RTD(\"cqg.rtd\",,\"StudyData\", \"Close(\"&$V$2&\") When Barix(\"&$V$2&\",reference:=StartOfSession)=\"&A9&\"\", \"Bar\", \"\", \"Close\",\"5\",\"0\",\"All\",,,\"False\",\"T\",\"EveryTick\"))","v":{"$error":"#N/A"}},null,{"$f":"IF(D9=0,NA(),RTD(\"cqg.rtd\",,\"StudyData\", \"Close(\"&$X$2&\") When Barix(\"&$X$2&\",reference:=StartOfSession)=\"&A9&\"\", \"Bar\", \"\", \"Close\",\"5\",\"0\",\"All\",,,\"False\",\"T\",\"EveryTick\"))","v":{"$error":"#N/A"}},null,{"$f":"IF(D9=0,NA(),RTD(\"cqg.rtd\",,\"StudyData\", \"Close(\"&$Z$2&\") When Barix(\"&$Z$2&\",reference:=StartOfSession)=\"&A9&\"\", \"Bar\", \"\", \"Close\",\"5\",\"0\",\"All\",,,\"False\",\"T\",\"EveryTick\"))","v":{"$error":"#N/A"}},null,{"$f":"IF(D9=0,NA(),RTD(\"cqg.rtd\",,\"StudyData\", \"Close(\"&$AB$2&\") When Barix(\"&$AB$2&\",reference:=StartOfSession)=\"&A9&\"\", \"Bar\", \"\", \"Close\",\"5\",\"0\",\"All\",,,\"False\",\"T\",\"EveryTick\"))","v":{"$error":"#N/A"}},null,{"$f":"IF(D9=0,NA(),RTD(\"cqg.rtd\",,\"StudyData\", \"Close(\"&$AD$2&\") When Barix(\"&$AD$2&\",reference:=StartOfSession)=\"&A9&\"\", \"Bar\", \"\", \"Close\",\"5\",\"0\",\"All\",,,\"False\",\"T\",\"EveryTick\"))","v":{"$error":"#N/A"}},null,{"$f":"IF(D9=0,NA(),RTD(\"cqg.rtd\",,\"StudyData\", \"Close(\"&$AF$2&\") When Barix(\"&$AF$2&\",reference:=StartOfSession)=\"&A9&\"\", \"Bar\", \"\", \"Close\",\"5\",\"0\",\"All\",,,\"False\",\"T\",\"EveryTick\"))","v":{"$error":"#N/A"}},null,{"$f":"IF(D9=0,NA(),RTD(\"cqg.rtd\",,\"StudyData\", \"Close(\"&$AH$2&\") When Barix(\"&$AH$2&\",reference:=StartOfSession)=\"&A9&\"\", \"Bar\", \"\", \"Close\",\"5\",\"0\",\"All\",,,\"False\",\"T\",\"EveryTick\"))","v":{"$error":"#N/A"}},null,{"$f":"IF(D9=0,NA(),RTD(\"cqg.rtd\",,\"StudyData\", \"Close(\"&$AJ$2&\") When Barix(\"&$AJ$2&\",reference:=StartOfSession)=\"&A9&\"\", \"Bar\", \"\", \"Close\",\"5\",\"0\",\"All\",,,\"False\",\"T\",\"EveryTick\"))","v":{"$error":"#N/A"}},null,{"$f":"IF(D9=0,NA(),RTD(\"cqg.rtd\",,\"StudyData\", \"Close(\"&$AL$2&\") When Barix(\"&$AL$2&\",reference:=StartOfSession)=\"&A9&\"\", \"Bar\", \"\", \"Close\",\"5\",\"0\",\"All\",,,\"False\",\"T\",\"EveryTick\"))","v":{"$error":"#N/A"}},null,{"$f":"IF(D9=0,NA(),RTD(\"cqg.rtd\",,\"StudyData\", \"Close(\"&$AN$2&\") When Barix(\"&$AN$2&\",reference:=StartOfSession)=\"&A9&\"\", \"Bar\", \"\", \"Close\",\"5\",\"0\",\"All\",,,\"False\",\"T\",\"EveryTick\"))","v":{"$error":"#N/A"}},null,{"$f":"IF(D9=0,NA(),RTD(\"cqg.rtd\",,\"StudyData\", \"Close(\"&$AN$2&\") When Barix(\"&$AN$2&\",reference:=StartOfSession)=\"&A9&\"\", \"Bar\", \"\", \"Close\",\"5\",\"0\",\"All\",,,\"False\",\"T\",\"EveryTick\"))","v":{"$error":"#N/A"}},null,{"$f":"IF(D9=0,NA(),RTD(\"cqg.rtd\",,\"StudyData\", \"Close(\"&$AR$2&\") When Barix(\"&$AR$2&\",reference:=StartOfSession)=\"&A9&\"\", \"Bar\", \"\", \"Close\",\"5\",\"0\",\"All\",,,\"False\",\"T\",\"EveryTick\"))","v":{"$error":"#N/A"}},null,{"$f":"IF(D9=0,NA(),RTD(\"cqg.rtd\",,\"StudyData\", \"Close(\"&$AT$2&\") When Barix(\"&$AT$2&\",reference:=StartOfSession)=\"&A9&\"\", \"Bar\", \"\", \"Close\",\"5\",\"0\",\"All\",,,\"False\",\"T\",\"EveryTick\"))","v":{"$error":"#N/A"}},null,{"$f":"IF(D9=0,NA(),RTD(\"cqg.rtd\",,\"StudyData\", \"Close(\"&$AV$2&\") When Barix(\"&$AV$2&\",reference:=StartOfSession)=\"&A9&\"\", \"Bar\", \"\", \"Close\",\"5\",\"0\",\"All\",,,\"False\",\"T\",\"EveryTick\"))","v":{"$error":"#N/A"}},null,{"$f":"IF(D9=0,NA(),RTD(\"cqg.rtd\",,\"StudyData\", \"Close(\"&$AX$2&\") When Barix(\"&$AX$2&\",reference:=StartOfSession)=\"&A9&\"\", \"Bar\", \"\", \"Close\",\"5\",\"0\",\"All\",,,\"False\",\"T\",\"EveryTick\"))","v":{"$error":"#N/A"}},null,{"$f":"IF(D9=0,NA(),RTD(\"cqg.rtd\",,\"StudyData\", \"Close(\"&$AZ$2&\") When Barix(\"&$AZ$2&\",reference:=StartOfSession)=\"&A9&\"\", \"Bar\", \"\", \"Close\",\"5\",\"0\",\"All\",,,\"False\",\"T\",\"EveryTick\"))","v":{"$error":"#N/A"}},null,{"$f":"IF(D9=0,NA(),RTD(\"cqg.rtd\",,\"StudyData\", \"Close(\"&$BB$2&\") When Barix(\"&$BB$2&\",reference:=StartOfSession)=\"&A9&\"\", \"Bar\", \"\", \"Close\",\"5\",\"0\",\"All\",,,\"False\",\"T\",\"EveryTick\"))","v":{"$error":"#N/A"}},null,{"$f":"IF(D9=0,NA(),RTD(\"cqg.rtd\",,\"StudyData\", \"Close(\"&$BD$2&\") When Barix(\"&$BD$2&\",reference:=StartOfSession)=\"&A9&\"\", \"Bar\", \"\", \"Close\",\"5\",\"0\",\"All\",,,\"False\",\"T\",\"EveryTick\"))","v":{"$error":"#N/A"}},null,{"$f":"IF(D9=0,NA(),RTD(\"cqg.rtd\",,\"StudyData\", \"Close(\"&$BF$2&\") When Barix(\"&$BF$2&\",reference:=StartOfSession)=\"&A9&\"\", \"Bar\", \"\", \"Close\",\"5\",\"0\",\"All\",,,\"False\",\"T\",\"EveryTick\"))","v":{"$error":"#N/A"}},null,{"$f":"IF(D9=0,NA(),RTD(\"cqg.rtd\",,\"StudyData\", \"Close(\"&$BH$2&\") When Barix(\"&$BH$2&\",reference:=StartOfSession)=\"&A9&\"\", \"Bar\", \"\", \"Close\",\"5\",\"0\",\"All\",,,\"False\",\"T\",\"EveryTick\"))","v":{"$error":"#N/A"}},null,{"$f":"IF(D9=0,NA(),RTD(\"cqg.rtd\",,\"StudyData\", \"Close(\"&$BJ$2&\") When Barix(\"&$BJ$2&\",reference:=StartOfSession)=\"&A9&\"\", \"Bar\", \"\", \"Close\",\"5\",\"0\",\"All\",,,\"False\",\"T\",\"EveryTick\"))","v":{"$error":"#N/A"}},null,{"$f":"IF(D9=0,NA(),RTD(\"cqg.rtd\",,\"StudyData\", \"Close(\"&$BL$2&\") When Barix(\"&$BL$2&\",reference:=StartOfSession)=\"&A9&\"\", \"Bar\", \"\", \"Close\",\"5\",\"0\",\"All\",,,\"False\",\"T\",\"EveryTick\"))","v":{"$error":"#N/A"}},null,{"$f":"IF(D9=0,NA(),RTD(\"cqg.rtd\",,\"StudyData\", \"Close(\"&$BN$2&\") When Barix(\"&$BN$2&\",reference:=StartOfSession)=\"&A9&\"\", \"Bar\", \"\", \"Close\",\"5\",\"0\",\"All\",,,\"False\",\"T\",\"EveryTick\"))","v":{"$error":"#N/A"}},null,{"$f":"IF(D9=0,NA(),RTD(\"cqg.rtd\",,\"StudyData\", \"Close(\"&$BP$2&\") When Barix(\"&$BP$2&\",reference:=StartOfSession)=\"&A9&\"\", \"Bar\", \"\", \"Close\",\"5\",\"0\",\"All\",,,\"False\",\"T\",\"EveryTick\"))","v":{"$error":"#N/A"}},null,{"$f":"IF(D9=0,NA(),RTD(\"cqg.rtd\",,\"StudyData\", \"Close(\"&$BR$2&\") When Barix(\"&$BR$2&\",reference:=StartOfSession)=\"&A9&\"\", \"Bar\", \"\", \"Close\",\"5\",\"0\",\"All\",,,\"False\",\"T\",\"EveryTick\"))","v":{"$error":"#N/A"}},null,{"$f":"IF(D9=0,NA(),RTD(\"cqg.rtd\",,\"StudyData\", \"Close(\"&$BT$2&\") When Barix(\"&$BT$2&\",reference:=StartOfSession)=\"&A9&\"\", \"Bar\", \"\", \"Close\",\"5\",\"0\",\"All\",,,\"False\",\"T\",\"EveryTick\"))","v":{"$error":"#N/A"}},null,{"$f":"IF(D9=0,NA(),RTD(\"cqg.rtd\",,\"StudyData\", \"Close(\"&$BV$2&\") When Barix(\"&$BV$2&\",reference:=StartOfSession)=\"&A9&\"\", \"Bar\", \"\", \"Close\",\"5\",\"0\",\"All\",,,\"False\",\"T\",\"EveryTick\"))","v":{"$error":"#N/A"}},null,{"$f":"IF(D9=0,NA(),RTD(\"cqg.rtd\",,\"StudyData\", \"Close(\"&$BX$2&\") When Barix(\"&$BX$2&\",reference:=StartOfSession)=\"&A9&\"\", \"Bar\", \"\", \"Close\",\"5\",\"0\",\"All\",,,\"False\",\"T\",\"EveryTick\"))","v":{"$error":"#N/A"}},null,{"$f":"IF(D9=0,NA(),RTD(\"cqg.rtd\",,\"StudyData\", \"Close(\"&$BZ$2&\") When Barix(\"&$BZ$2&\",reference:=StartOfSession)=\"&A9&\"\", \"Bar\", \"\", \"Close\",\"5\",\"0\",\"All\",,,\"False\",\"T\",\"EveryTick\"))","v":{"$error":"#N/A"}}]
[6,{"$f":"IF(D10=0,NA(),RTD(\"cqg.rtd\",,\"StudyData\", \"Close(\"&$B$2&\") When Barix(\"&$B$2&\",reference:=StartOfSession)=\"&A10&\"\", \"Bar\", \"\", \"Close\",\"5\",\"0\",\"All\",,,\"False\",\"T\",\"EveryTick\"))","v":{"$error":"#N/A"}},"09:00:00",0,null,{"$f":"IF(D10=0,NA(),RTD(\"cqg.rtd\",,\"StudyData\", \"Close(\"&$F$2&\") When Barix(\"&$F$2&\",reference:=StartOfSession)=\"&A10&\"\", \"Bar\", \"\", \"Close\",\"5\",\"0\",\"All\",,,\"False\",\"T\",\"EveryTick\"))","v":{"$error":"#N/A"}},null,{"$f":"IF(D10=0,NA(),RTD(\"cqg.rtd\",,\"StudyData\", \"Close(\"&$H$2&\") When Barix(\"&$H$2&\",reference:=StartOfSession)=\"&A10&\"\", \"Bar\", \"\", \"Close\",\"5\",\"0\",\"All\",,,\"False\",\"T\",\"EveryTick\"))","v":{"$error":"#N/A"}},null,{"$f":"IF(D10=0,NA(),RTD(\"cqg.rtd\",,\"StudyData\", \"Close(\"&$J$2&\") When Barix(\"&$J$2&\",reference:=StartOfSession)=\"&A10&\"\", \"Bar\", \"\", \"Close\",\"5\",\"0\",\"All\",,,\"False\",\"T\",\"EveryTick\"))","v":{"$error":"#N/A"}},null,{"$f":"IF(D10=0,NA(),RTD(\"cqg.rtd\",,\"StudyData\", \"Close(\"&$L$2&\") When Barix(\"&$L$2&\",reference:=StartOfSession)=\"&A10&\"\", \"Bar\", \"\", \"Close\",\"5\",\"0\",\"All\",,,\"False\",\"T\",\"EveryTick\"))","v":{"$error":"#N/A"}},null,{"$f":"IF(D10=0,NA(),RTD(\"cqg.rtd\",,\"StudyData\", \"Close(\"&$N$2&\") When Barix(\"&$N$2&\",reference:=StartOfSession)=\"&A10&\"\", \"Bar\", \"\", \"Close\",\"5\",\"0\",\"All\",,,\"False\",\"T\",\"EveryTick\"))","v":{"$error":"#N/A"}},null,{"$f":"IF(D10=0,NA(),RTD(\"cqg.rtd\",,\"StudyData\", \"Close(\"&$P$2&\") When Barix(\"&$P$2&\",reference:=StartOfSession)=\"&A10&\"\", \"Bar\", \"\", \"Close\",\"5\",\"0\",\"All\",,,\"False\",\"T\",\"EveryTick\"))","v":{"$error":"#N/A"}},null,{"$f":"IF(D10=0,NA(),RTD(\"cqg.rtd\",,\"StudyData\", \"Close(\"&$R$2&\") When Barix(\"&$R$2&\",reference:=StartOfSession)=\"&A10&\"\", \"Bar\", \"\", \"Close\",\"5\",\"0\",\"All\",,,\"False\",\"T\",\"EveryTick\"))","v":{"$error":"#N/A"}},null,{"$f":"IF(D10=0,NA(),RTD(\"cqg.rtd\",,\"StudyData\", \"Close(\"&$T$2&\") When Barix(\"&$T$2&\",reference:=StartOfSession)=\"&A10&\"\", \"Bar\", \"\", \"Close\",\"5\",\"0\",\"All\",,,\"False\",\"T\",\"EveryTick\"))","v":{"$error":"#N/A"}},null,{"$f":"IF(D10=0,NA(),RTD(\"cqg.rtd\",,\"StudyData\", \"Close(\"&$V$2&\") When Barix(\"&$V$2&\",reference:=StartOfSession)=\"&A10&\"\", \"Bar\", \"\", \"Close\",\"5\",\"0\",\"All\",,,\"False\",\"T\",\"EveryTick\"))","v":{"$error":"#N/A"}},null,{"$f":"IF(D10=0,NA(),RTD(\"cqg.rtd\",,\"StudyData\", \"Close(\"&$X$2&\") When Barix(\"&$X$2&\",reference:=StartOfSession)=\"&A10&\"\", \"Bar\", \"\", \"Close\",\"5\",\"0\",\"All\",,,\"False\",\"T\",\"EveryTick\"))","v":{"$error":"#N/A"}},null,{"$f":"IF(D10=0,NA(),RTD(\"cqg.rtd\",,\"StudyData\", \"Close(\"&$Z$2&\") When Barix(\"&$Z$2&\",reference:=StartOfSession)=\"&A10&\"\", \"Bar\", \"\", \"Close\",\"5\",\"0\",\"All\",,,\"False\",\"T\",\"EveryTick\"))","v":{"$error":"#N/A"}},null,{"$f":"IF(D10=0,NA(),RTD(\"cqg.rtd\",,\"StudyData\", \"Close(\"&$AB$2&\") When Barix(\"&$AB$2&\",reference:=StartOfSession)=\"&A10&\"\", \"Bar\", \"\", \"Close\",\"5\",\"0\",\"All\",,,\"False\",\"T\",\"EveryTick\"))","v":{"$error":"#N/A"}},null,{"$f":"IF(D10=0,NA(),RTD(\"cqg.rtd\",,\"StudyData\", \"Close(\"&$AD$2&\") When Barix(\"&$AD$2&\",reference:=StartOfSession)=\"&A10&\"\", \"Bar\", \"\", \"Close\",\"5\",\"0\",\"All\",,,\"False\",\"T\",\"EveryTick\"))","v":{"$error":"#N/A"}},null,{"$f":"IF(D10=0,NA(),RTD(\"cqg.rtd\",,\"StudyData\", \"Close(\"&$AF$2&\") When Barix(\"&$AF$2&\",reference:=StartOfSession)=\"&A10&\"\", \"Bar\", \"\", \"Close\",\"5\",\"0\",\"All\",,,\"False\",\"T\",\"EveryTick\"))","v":{"$error":"#N/A"}},null,{"$f":"IF(D10=0,NA(),RTD(\"cqg.rtd\",,\"StudyData\", \"Close(\"&$AH$2&\") When Barix(\"&$AH$2&\",reference:=StartOfSession)=\"&A10&\"\", \"Bar\", \"\", \"Close\",\"5\",\"0\",\"All\",,,\"False\",\"T\",\"EveryTick\"))","v":{"$error":"#N/A"}},null,{"$f":"IF(D10=0,NA(),RTD(\"cqg.rtd\",,\"StudyData\", \"Close(\"&$AJ$2&\") When Barix(\"&$AJ$2&\",reference:=StartOfSession)=\"&A10&\"\", \"Bar\", \"\", \"Close\",\"5\",\"0\",\"All\",,,\"False\",\"T\",\"EveryTick\"))","v":{"$error":"#N/A"}},null,{"$f":"IF(D10=0,NA(),RTD(\"cqg.rtd\",,\"StudyData\", \"Close(\"&$AL$2&\") When Barix(\"&$AL$2&\",reference:=StartOfSession)=\"&A10&\"\", \"Bar\", \"\", \"Close\",\"5\",\"0\",\"All\",,,\"False\",\"T\",\"EveryTick\"))","v":{"$error":"#N/A"}},null,{"$f":"IF(D10=0,NA(),RTD(\"cqg.rtd\",,\"StudyData\", \"Close(\"&$AN$2&\") When Barix(\"&$AN$2&\",reference:=StartOfSession)=\"&A10&\"\", \"Bar\", \"\", \"Close\",\"5\",\"0\",\"All\",,,\"False\",\"T\",\"EveryTick\"))","v":{"$error":"#N/A"}},null,{"$f":"IF(D10=0,NA(),RTD(\"cqg.rtd\",,\"StudyData\", \"Close(\"&$AN$2&\") When Barix(\"&$AN$2&\",reference:=StartOfSession)=\"&A10&\"\", \"Bar\", \"\", \"Close\",\"5\",\"0\",\"All\",,,\"False\",\"T\",\"EveryTick\"))","v":{"$error":"#N/A"}},null,{"$f":"IF(D10=0,NA(),RTD(\"cqg.rtd\",,\"StudyData\", \"Close(\"&$AR$2&\") When Barix(\"&$AR$2&\",reference:=StartOfSession)=\"&A10&\"\", \"Bar\", \"\", \"Close\",\"5\",\"0\",\"All\",,,\"False\",\"T\",\"EveryTick\"))","v":{"$error":"#N/A"}},null,{"$f":"IF(D10=0,NA(),RTD(\"cqg.rtd\",,\"StudyData\", \"Close(\"&$AT$2&\") When Barix(\"&$AT$2&\",reference:=StartOfSession)=\"&A10&\"\", \"Bar\", \"\", \"Close\",\"5\",\"0\",\"All\",,,\"False\",\"T\",\"EveryTick\"))","v":{"$error":"#N/A"}},null,{"$f":"IF(D10=0,NA(),RTD(\"cqg.rtd\",,\"StudyData\", \"Close(\"&$AV$2&\") When Barix(\"&$AV$2&\",reference:=StartOfSession)=\"&A10&\"\", \"Bar\", \"\", \"Close\",\"5\",\"0\",\"All\",,,\"False\",\"T\",\"EveryTick\"))","v":{"$error":"#N/A"}},null,{"$f":"IF(D10=0,NA(),RTD(\"cqg.rtd\",,\"StudyData\", \"Close(\"&$AX$2&\") When Barix(\"&$AX$2&\",reference:=StartOfSession)=\"&A10&\"\", \"Bar\", \"\", \"Close\",\"5\",\"0\",\"All\",,,\"False\",\"T\",\"EveryTick\"))","v":{"$error":"#N/A"}},null,{"$f":"IF(D10=0,NA(),RTD(\"cqg.rtd\",,\"StudyData\", \"Close(\"&$AZ$2&\") When Barix(\"&$AZ$2&\",reference:=StartOfSession)=\"&A10&\"\", \"Bar\", \"\", \"Close\",\"5\",\"0\",\"All\",,,\"False\",\"T\",\"EveryTick\"))","v":{"$error":"#N/A"}},null,{"$f":"IF(D10=0,NA(),RTD(\"cqg.rtd\",,\"StudyData\", \"Close(\"&$BB$2&\") When Barix(\"&$BB$2&\",reference:=StartOfSession)=\"&A10&\"\", \"Bar\", \"\", \"Close\",\"5\",\"0\",\"All\",,,\"False\",\"T\",\"EveryTick\"))","v":{"$error":"#N/A"}},null,{"$f":"IF(D10=0,NA(),RTD(\"cqg.rtd\",,\"StudyData\", \"Close(\"&$BD$2&\") When Barix(\"&$BD$2&\",reference:=StartOfSession)=\"&A10&\"\", \"Bar\", \"\", \"Close\",\"5\",\"0\",\"All\",,,\"False\",\"T\",\"EveryTick\"))","v":{"$error":"#N/A"}},null,{"$f":"IF(D10=0,NA(),RTD(\"cqg.rtd\",,\"StudyData\", \"Close(\"&$BF$2&\") When Barix(\"&$BF$2&\",reference:=StartOfSession)=\"&A10&\"\", \"Bar\", \"\", \"Close\",\"5\",\"0\",\"All\",,,\"False\",\"T\",\"EveryTick\"))","v":{"$error":"#N/A"}},null,{"$f":"IF(D10=0,NA(),RTD(\"cqg.rtd\",,\"StudyData\", \"Close(\"&$BH$2&\") When Barix(\"&$BH$2&\",reference:=StartOfSession)=\"&A10&\"\", \"Bar\", \"\", \"Close\",\"5\",\"0\",\"All\",,,\"False\",\"T\",\"EveryTick\"))","v":{"$error":"#N/A"}},null,{"$f":"IF(D10=0,NA(),RTD(\"cqg.rtd\",,\"StudyData\", \"Close(\"&$BJ$2&\") When Barix(\"&$BJ$2&\",reference:=StartOfSession)=\"&A10&\"\", \"Bar\", \"\", \"Close\",\"5\",\"0\",\"All\",,,\"False\",\"T\",\"EveryTick\"))","v":{"$error":"#N/A"}},null,{"$f":"IF(D10=0,NA(),RTD(\"cqg.rtd\",,\"StudyData\", \"Close(\"&$BL$2&\") When Barix(\"&$BL$2&\",reference:=StartOfSession)=\"&A10&\"\", \"Bar\", \"\", \"Close\",\"5\",\"0\",\"All\",,,\"False\",\"T\",\"EveryTick\"))","v":{"$error":"#N/A"}},null,{"$f":"IF(D10=0,NA(),RTD(\"cqg.rtd\",,\"StudyData\", \"Close(\"&$BN$2&\") When Barix(\"&$BN$2&\",reference:=StartOfSession)=\"&A10&\"\", \"Bar\", \"\", \"Close\",\"5\",\"0\",\"All\",,,\"False\",\"T\",\"EveryTick\"))","v":{"$error":"#N/A"}},null,{"$f":"IF(D10=0,NA(),RTD(\"cqg.rtd\",,\"StudyData\", \"Close(\"&$BP$2&\") When Barix(\"&$BP$2&\",reference:=StartOfSession)=\"&A10&\"\", \"Bar\", \"\", \"Close\",\"5\",\"0\",\"All\",,,\"False\",\"T\",\"EveryTick\"))","v":{"$error":"#N/A"}},null,{"$f":"IF(D10=0,NA(),RTD(\"cqg.rtd\",,\"StudyData\", \"Close(\"&$BR$2&\") When Barix(\"&$BR$2&\",reference:=StartOfSession)=\"&A10&\"\", \"Bar\", \"\", \"Close\",\"5\",\"0\",\"All\",,,\"False\",\"T\",\"EveryTick\"))","v":{"$error":"#N/A"}},null,{"$f":"IF(D10=0,NA(),RTD(\"cqg.rtd\",,\"StudyData\", \"Close(\"&$BT$2&\") When Barix(\"&$BT$2&\",reference:=StartOfSession)=\"&A10&\"\", \"Bar\", \"\", \"Close\",\"5\",\"0\",\"All\",,,\"False\",\"T\",\"EveryTick\"))","v":{"$error":"#N/A"}},null,{"$f":"IF(D10=0,NA(),RTD(\"cqg.rtd\",,\"StudyData\", \"Close(\"&$BV$2&\") When Barix(\"&$BV$2&\",reference:=StartOfSession)=\"&A10&\"\", \"Bar\", \"\", \"Close\",\"5\",\"0\",\"All\",,,\"False\",\"T\",\"EveryTick\"))","v":{"$error":"#N/A"}},null,{"$f":"IF(D10=0,NA(),RTD(\"cqg.rtd\",,\"StudyData\", \"Close(\"&$BX$2&\") When Barix(\"&$BX$2&\",reference:=StartOfSession)=\"&A10&\"\", \"Bar\", \"\", \"Close\",\"5\",\"0\",\"All\",,,\"False\",\"T\",\"EveryTick\"))","v":{"$error":"#N/A"}},null,{"$f":"IF(D10=0,NA(),RTD(\"cqg.rtd\",,\"StudyData\", \"Close(\"&$BZ$2&\") When Barix(\"&$BZ$2&\",reference:=StartOfSession)=\"&A10&\"\", \"Bar\", \"\", \"Close\",\"5\",\"0\",\"All\",,,\"False\",\"T\",\"EveryTick\"))","v":{"$error":"#N/A"}}]
[7,{"$f":"IF(D11=0,NA(),RTD(\"cqg.rtd\",,\"StudyData\", \"Close(\"&$B$2&\") When Barix(\"&$B$2&\",reference:=StartOfSession)=\"&A11&\"\", \"Bar\", \"\", \"Close\",\"5\",\"0\",\"All\",,,\"False\",\"T\",\"EveryTick\"))","v":{"$error":"#N/A"}},"09:05:00",0,null,{"$f":"IF(D11=0,NA(),RTD(\"cqg.rtd\",,\"StudyData\", \"Close(\"&$F$2&\") When Barix(\"&$F$2&\",reference:=StartOfSession)=\"&A11&\"\", \"Bar\", \"\", \"Close\",\"5\",\"0\",\"All\",,,\"False\",\"T\",\"EveryTick\"))","v":{"$error":"#N/A"}},null,{"$f":"IF(D11=0,NA(),RTD(\"cqg.rtd\",,\"StudyData\", \"Close(\"&$H$2&\") When Barix(\"&$H$2&\",reference:=StartOfSession)=\"&A11&\"\", \"Bar\", \"\", \"Close\",\"5\",\"0\",\"All\",,,\"False\",\"T\",\"EveryTick\"))","v":{"$error":"#N/A"}},null,{"$f":"IF(D11=0,NA(),RTD(\"cqg.rtd\",,\"StudyData\", \"Close(\"&$J$2&\") When Barix(\"&$J$2&\",reference:=StartOfSession)=\"&A11&\"\", \"Bar\", \"\", \"Close\",\"5\",\"0\",\"All\",,,\"False\",\"T\",\"EveryTick\"))","v":{"$error":"#N/A"}},null,{"$f":"IF(D11=0,NA(),RTD(\"cqg.rtd\",,\"StudyData\", \"Close(\"&$L$2&\") When Barix(\"&$L$2&\",reference:=StartOfSession)=\"&A11&\"\", \"Bar\", \"\", \"Close\",\"5\",\"0\",\"All\",,,\"False\",\"T\",\"EveryTick\"))","v":{"$error":"#N/A"}},null,{"$f":"IF(D11=0,NA(),RTD(\"cqg.rtd\",,\"StudyData\", \"Close(\"&$N$2&\") When Barix(\"&$N$2&\",reference:=StartOfSession)=\"&A11&\"\", \"Bar\", \"\", \"Close\",\"5\",\"0\",\"All\",,,\"False\",\"T\",\"EveryTick\"))","v":{"$error":"#N/A"}},null,{"$f":"IF(D11=0,NA(),RTD(\"cqg.rtd\",,\"StudyData\", \"Close(\"&$P$2&\") When Barix(\"&$P$2&\",reference:=StartOfSession)=\"&A11&\"\", \"Bar\", \"\", \"Close\",\"5\",\"0\",\"All\",,,\"False\",\"T\",\"EveryTick\"))","v":{"$error":"#N/A"}},null,{"$f":"IF(D11=0,NA(),RTD(\"cqg.rtd\",,\"StudyData\", \"Close(\"&$R$2&\") When Barix(\"&$R$2&\",reference:=StartOfSession)=\"&A11&\"\", \"Bar\", \"\", \"Close\",\"5\",\"0\",\"All\",,,\"False\",\"T\",\"EveryTick\"))","v":{"$error":"#N/A"}},null,{"$f":"IF(D11=0,NA(),RTD(\"cqg.rtd\",,\"StudyData\", \"Close(\"&$T$2&\") When Barix(\"&$T$2&\",reference:=StartOfSession)=\"&A11&\"\", \"Bar\", \"\", \"Close\",\"5\",\"0\",\"All\",,,\"False\",\"T\",\"EveryTick\"))","v":{"$error":"#N/A"}},null,{"$f":"IF(D11=0,NA(),RTD(\"cqg.rtd\",,\"StudyData\", \"Close(\"&$V$2&\") When Barix(\"&$V$2&\",reference:=StartOfSession)=\"&A11&\"\", \"Bar\", \"\", \"Close\",\"5\",\"0\",\"All\",,,\"False\",\"T\",\"EveryTick\"))","v":{"$error":"#N/A"}},null,{"$f":"IF(D11=0,NA(),RTD(\"cqg.rtd\",,\"StudyData\", \"Close(\"&$X$2&\") When Barix(\"&$X$2&\",reference:=StartOfSession)=\"&A11&\"\", \"Bar\", \"\", \"Close\",\"5\",\"0\",\"All\",,,\"False\",\"T\",\"EveryTick\"))","v":{"$error":"#N/A"}},null,{"$f":"IF(D11=0,NA(),RTD(\"cqg.rtd\",,\"StudyData\", \"Close(\"&$Z$2&\") When Barix(\"&$Z$2&\",reference:=StartOfSession)=\"&A11&\"\", \"Bar\", \"\", \"Close\",\"5\",\"0\",\"All\",,,\"False\",\"T\",\"EveryTick\"))","v":{"$error":"#N/A"}},null,{"$f":"IF(D11=0,NA(),RTD(\"cqg.rtd\",,\"StudyData\", \"Close(\"&$AB$2&\") When Barix(\"&$AB$2&\",reference:=StartOfSession)=\"&A11&\"\", \"Bar\", \"\", \"Close\",\"5\",\"0\",\"All\",,,\"False\",\"T\",\"EveryTick\"))","v":{"$error":"#N/A"}},null,{"$f":"IF(D11=0,NA(),RTD(\"cqg.rtd\",,\"StudyData\", \"Close(\"&$AD$2&\") When Barix(\"&$AD$2&\",reference:=StartOfSession)=\"&A11&\"\", \"Bar\", \"\", \"Close\",\"5\",\"0\",\"All\",,,\"False\",\"T\",\"EveryTick\"))","v":{"$error":"#N/A"}},null,{"$f":"IF(D11=0,NA(),RTD(\"cqg.rtd\",,\"StudyData\", \"Close(\"&$AF$2&\") When Barix(\"&$AF$2&\",reference:=StartOfSession)=\"&A11&\"\", \"Bar\", \"\", \"Close\",\"5\",\"0\",\"All\",,,\"False\",\"T\",\"EveryTick\"))","v":{"$error":"#N/A"}},null,{"$f":"IF(D11=0,NA(),RTD(\"cqg.rtd\",,\"StudyData\", \"Close(\"&$AH$2&\") When Barix(\"&$AH$2&\",reference:=StartOfSession)=\"&A11&\"\", \"Bar\", \"\", \"Close\",\"5\",\"0\",\"All\",,,\"False\",\"T\",\"EveryTick\"))","v":{"$error":"#N/A"}},null,{"$f":"IF(D11=0,NA(),RTD(\"cqg.rtd\",,\"StudyData\", \"Close(\"&$AJ$2&\") When Barix(\"&$AJ$2&\",reference:=StartOfSession)=\"&A11&\"\", \"Bar\", \"\", \"Close\",\"5\",\"0\",\"All\",,,\"False\",\"T\",\"EveryTick\"))","v":{"$error":"#N/A"}},null,{"$f":"IF(D11=0,NA(),RTD(\"cqg.rtd\",,\"StudyData\", \"Close(\"&$AL$2&\") When Barix(\"&$AL$2&\",reference:=StartOfSession)=\"&A11&\"\", \"Bar\", \"\", \"Close\",\"5\",\"0\",\"All\",,,\"False\",\"T\",\"EveryTick\"))","v":{"$error":"#N/A"}},null,{"$f":"IF(D11=0,NA(),RTD(\"cqg.rtd\",,\"StudyData\", \"Close(\"&$AN$2&\") When Barix(\"&$AN$2&\",reference:=StartOfSession)=\"&A11&\"\", \"Bar\", \"\", \"Close\",\"5\",\"0\",\"All\",,,\"False\",\"T\",\"EveryTick\"))","v":{"$error":"#N/A"}},null,{"$f":"IF(D11=0,NA(),RTD(\"cqg.rtd\",,\"StudyData\", \"Close(\"&$AN$2&\") When Barix(\"&$AN$2&\",reference:=StartOfSession)=\"&A11&\"\", \"Bar\", \"\", \"Close\",\"5\",\"0\",\"All\",,,\"False\",\"T\",\"EveryTick\"))","v":{"$error":"#N/A"}},null,{"$f":"IF(D11=0,NA(),RTD(\"cqg.rtd\",,\"StudyData\", \"Close(\"&$AR$2&\") When Barix(\"&$AR$2&\",reference:=StartOfSession)=\"&A11&\"\", \"Bar\", \"\", \"Close\",\"5\",\"0\",\"All\",,,\"False\",\"T\",\"EveryTick\"))","v":{"$error":"#N/A"}},null,{"$f":"IF(D11=0,NA(),RTD(\"cqg.rtd\",,\"StudyData\", \"Close(\"&$AT$2&\") When Barix(\"&$AT$2&\",reference:=StartOfSession)=\"&A11&\"\", \"Bar\", \"\", \"Close\",\"5\",\"0\",\"All\",,,\"False\",\"T\",\"EveryTick\"))","v":{"$error":"#N/A"}},null,{"$f":"IF(D11=0,NA(),RTD(\"cqg.rtd\",,\"StudyData\", \"Close(\"&$AV$2&\") When Barix(\"&$AV$2&\",reference:=StartOfSession)=\"&A11&\"\", \"Bar\", \"\", \"Close\",\"5\",\"0\",\"All\",,,\"False\",\"T\",\"EveryTick\"))","v":{"$error":"#N/A"}},null,{"$f":"IF(D11=0,NA(),RTD(\"cqg.rtd\",,\"StudyData\", \"Close(\"&$AX$2&\") When Barix(\"&$AX$2&\",reference:=StartOfSession)=\"&A11&\"\", \"Bar\", \"\", \"Close\",\"5\",\"0\",\"All\",,,\"False\",\"T\",\"EveryTick\"))","v":{"$error":"#N/A"}},null,{"$f":"IF(D11=0,NA(),RTD(\"cqg.rtd\",,\"StudyData\", \"Close(\"&$AZ$2&\") When Barix(\"&$AZ$2&\",reference:=StartOfSession)=\"&A11&\"\", \"Bar\", \"\", \"Close\",\"5\",\"0\",\"All\",,,\"False\",\"T\",\"EveryTick\"))","v":{"$error":"#N/A"}},null,{"$f":"IF(D11=0,NA(),RTD(\"cqg.rtd\",,\"StudyData\", \"Close(\"&$BB$2&\") When Barix(\"&$BB$2&\",reference:=StartOfSession)=\"&A11&\"\", \"Bar\", \"\", \"Close\",\"5\",\"0\",\"All\",,,\"False\",\"T\",\"EveryTick\"))","v":{"$error":"#N/A"}},null,{"$f":"IF(D11=0,NA(),RTD(\"cqg.rtd\",,\"StudyData\", \"Close(\"&$BD$2&\") When Barix(\"&$BD$2&\",reference:=StartOfSession)=\"&A11&\"\", \"Bar\", \"\", \"Close\",\"5\",\"0\",\"All\",,,\"False\",\"T\",\"EveryTick\"))","v":{"$error":"#N/A"}},null,{"$f":"IF(D11=0,NA(),RTD(\"cqg.rtd\",,\"StudyData\", \"Close(\"&$BF$2&\") When Barix(\"&$BF$2&\",reference:=StartOfSession)=\"&A11&\"\", \"Bar\", \"\", \"Close\",\"5\",\"0\",\"All\",,,\"False\",\"T\",\"EveryTick\"))","v":{"$error":"#N/A"}},null,{"$f":"IF(D11=0,NA(),RTD(\"cqg.rtd\",,\"StudyData\", \"Close(\"&$BH$2&\") When Barix(\"&$BH$2&\",reference:=StartOfSession)=\"&A11&\"\", \"Bar\", \"\", \"Close\",\"5\",\"0\",\"All\",,,\"False\",\"T\",\"EveryTick\"))","v":{"$error":"#N/A"}},null,{"$f":"IF(D11=0,NA(),RTD(\"cqg.rtd\",,\"StudyData\", \"Close(\"&$BJ$2&\") When Barix(\"&$BJ$2&\",reference:=StartOfSession)=\"&A11&\"\", \"Bar\", \"\", \"Close\",\"5\",\"0\",\"All\",,,\"False\",\"T\",\"EveryTick\"))","v":{"$error":"#N/A"}},null,{"$f":"IF(D11=0,NA(),RTD(\"cqg.rtd\",,\"StudyData\", \"Close(\"&$BL$2&\") When Barix(\"&$BL$2&\",reference:=StartOfSession)=\"&A11&\"\", \"Bar\", \"\", \"Close\",\"5\",\"0\",\"All\",,,\"False\",\"T\",\"EveryTick\"))","v":{"$error":"#N/A"}},null,{"$f":"IF(D11=0,NA(),RTD(\"cqg.rtd\",,\"StudyData\", \"Close(\"&$BN$2&\") When Barix(\"&$BN$2&\",reference:=StartOfSession)=\"&A11&\"\", \"Bar\", \"\", \"Close\",\"5\",\"0\",\"All\",,,\"False\",\"T\",\"EveryTick\"))","v":{"$error":"#N/A"}},null,{"$f":"IF(D11=0,NA(),RTD(\"cqg.rtd\",,\"StudyData\", \"Close(\"&$BP$2&\") When Barix(\"&$BP$2&\",reference:=StartOfSession)=\"&A11&\"\", \"Bar\", \"\", \"Close\",\"5\",\"0\",\"All\",,,\"False\",\"T\",\"EveryTick\"))","v":{"$error":"#N/A"}},null,{"$f":"IF(D11=0,NA(),RTD(\"cqg.rtd\",,\"StudyData\", \"Close(\"&$BR$2&\") When Barix(\"&$BR$2&\",reference:=StartOfSession)=\"&A11&\"\", \"Bar\", \"\", \"Close\",\"5\",\"0\",\"All\",,,\"False\",\"T\",\"EveryTick\"))","v":{"$error":"#N/A"}},null,{"$f":"IF(D11=0,NA(),RTD(\"cqg.rtd\",,\"StudyData\", \"Close(\"&$BT$2&\") When Barix(\"&$BT$2&\",reference:=StartOfSession)=\"&A11&\"\", \"Bar\", \"\", \"Close\",\"5\",\"0\",\"All\",,,\"False\",\"T\",\"EveryTick\"))","v":{"$error":"#N/A"}},null,{"$f":"IF(D11=0,NA(),RTD(\"cqg.rtd\",,\"StudyData\", \"Close(\"&$BV$2&\") When Barix(\"&$BV$2&\",reference:=StartOfSession)=\"&A11&\"\", \"Bar\", \"\", \"Close\",\"5\",\"0\",\"All\",,,\"False\",\"T\",\"EveryTick\"))","v":{"$error":"#N/A"}},null,{"$f":"IF(D11=0,NA(),RTD(\"cqg.rtd\",,\"StudyData\", \"Close(\"&$BX$2&\") When Barix(\"&$BX$2&\",reference:=StartOfSession)=\"&A11&\"\", \"Bar\", \"\", \"Close\",\"5\",\"0\",\"All\",,,\"False\",\"T\",\"EveryTick\"))","v":{"$error":"#N/A"}},null,{"$f":"IF(D11=0,NA(),RTD(\"cqg.rtd\",,\"StudyData\", \"Close(\"&$BZ$2&\") When Barix(\"&$BZ$2&\",reference:=StartOfSession)=\"&A11&\"\", \"Bar\", \"\", \"Close\",\"5\",\"0\",\"All\",,,\"False\",\"T\",\"EveryTick\"))","v":{"$error":"#N/A"}}]
[8,{"$f":"IF(D12=0,NA(),RTD(\"cqg.rtd\",,\"StudyData\", \"Close(\"&$B$2&\") When Barix(\"&$B$2&\",reference:=StartOfSession)=\"&A12&\"\", \"Bar\", \"\", \"Close\",\"5\",\"0\",\"All\",,,\"False\",\"T\",\"EveryTick\"))","v":{"$error":"#N/A"}},"09:10:00",0,null,{"$f":"IF(D12=0,NA(),RTD(\"cqg.rtd\",,\"StudyData\", \"Close(\"&$F$2&\") When Barix(\"&$F$2&\",reference:=StartOfSession)=\"&A12&\"\", \"Bar\", \"\", \"Close\",\"5\",\"0\",\"All\",,,\"False\",\"T\",\"EveryTick\"))","v":{"$error":"#N/A"}},null,{"$f":"IF(D12=0,NA(),RTD(\"cqg.rtd\",,\"StudyData\", \"Close(\"&$H$2&\") When Barix(\"&$H$2&\",reference:=StartOfSession)=\"&A12&\"\", \"Bar\", \"\", \"Close\",\"5\",\"0\",\"All\",,,\"False\",\"T\",\"EveryTick\"))","v":{"$error":"#N/A"}},null,{"$f":"IF(D12=0,NA(),RTD(\"cqg.rtd\",,\"StudyData\", \"Close(\"&$J$2&\") When Barix(\"&$J$2&\",reference:=StartOfSession)=\"&A12&\"\", \"Bar\", \"\", \"Close\",\"5\",\"0\",\"All\",,,\"False\",\"T\",\"EveryTick\"))","v":{"$error":"#N/A"}},null,{"$f":"IF(D12=0,NA(),RTD(\"cqg.rtd\",,\"StudyData\", \"Close(\"&$L$2&\") When Barix(\"&$L$2&\",reference:=StartOfSession)=\"&A12&\"\", \"Bar\", \"\", \"Close\",\"5\",\"0\",\"All\",,,\"False\",\"T\",\"EveryTick\"))","v":{"$error":"#N/A"}},null,{"$f":"IF(D12=0,NA(),RTD(\"cqg.rtd\",,\"StudyData\", \"Close(\"&$N$2&\") When Barix(\"&$N$2&\",reference:=StartOfSession)=\"&A12&\"\", \"Bar\", \"\", \"Close\",\"5\",\"0\",\"All\",,,\"False\",\"T\",\"EveryTick\"))","v":{"$error":"#N/A"}},null,{"$f":"IF(D12=0,NA(),RTD(\"cqg.rtd\",,\"StudyData\", \"Close(\"&$P$2&\") When Barix(\"&$P$2&\",reference:=StartOfSession)=\"&A12&\"\", \"Bar\", \"\", \"Close\",\"5\",\"0\",\"All\",,,\"False\",\"T\",\"EveryTick\"))","v":{"$error":"#N/A"}},null,{"$f":"IF(D12=0,NA(),RTD(\"cqg.rtd\",,\"StudyData\", \"Close(\"&$R$2&\") When Barix(\"&$R$2&\",reference:=StartOfSession)=\"&A12&\"\", \"Bar\", \"\", \"Close\",\"5\",\"0\",\"All\",,,\"False\",\"T\",\"EveryTick\"))","v":{"$error":"#N/A"}},null,{"$f":"IF(D12=0,NA(),RTD(\"cqg.rtd\",,\"StudyData\", \"Close(\"&$T$2&\") When Barix(\"&$T$2&\",reference:=StartOfSession)=\"&A12&\"\", \"Bar\", \"\", \"Close\",\"5\",\"0\",\"All\",,,\"False\",\"T\",\"EveryTick\"))","v":{"$error":"#N/A"}},null,{"$f":"IF(D12=0,NA(),RTD(\"cqg.rtd\",,\"StudyData\", \"Close(\"&$V$2&\") When Barix(\"&$V$2&\",reference:=StartOfSession)=\"&A12&\"\", \"Bar\", \"\", \"Close\",\"5\",\"0\",\"All\",,,\"False\",\"T\",\"EveryTick\"))","v":{"$error":"#N/A"}},null,{"$f":"IF(D12=0,NA(),RTD(\"cqg.rtd\",,\"StudyData\", \"Close(\"&$X$2&\") When Barix(\"&$X$2&\",reference:=StartOfSession)=\"&A12&\"\", \"Bar\", \"\", \"Close\",\"5\",\"0\",\"All\",,,\"False\",\"T\",\"EveryTick\"))","v":{"$error":"#N/A"}},null,{"$f":"IF(D12=0,NA(),RTD(\"cqg.rtd\",,\"StudyData\", \"Close(\"&$Z$2&\") When Barix(\"&$Z$2&\",reference:=StartOfSession)=\"&A12&\"\", \"Bar\", \"\", \"Close\",\"5\",\"0\",\"All\",,,\"False\",\"T\",\"EveryTick\"))","v":{"$error":"#N/A"}},null,{"$f":"IF(D12=0,NA(),RTD(\"cqg.rtd\",,\"StudyData\", \"Close(\"&$AB$2&\") When Barix(\"&$AB$2&\",reference:=StartOfSession)=\"&A12&\"\", \"Bar\", \"\", \"Close\",\"5\",\"0\",\"All\",,,\"False\",\"T\",\"EveryTick\"))","v":{"$error":"#N/A"}},null,{"$f":"IF(D12=0,NA(),RTD(\"cqg.rtd\",,\"StudyData\", \"Close(\"&$AD$2&\") When Barix(\"&$AD$2&\",reference:=StartOfSession)=\"&A12&\"\", \"Bar\", \"\", \"Close\",\"5\",\"0\",\"All\",,,\"False\",\"T\",\"EveryTick\"))","v":{"$error":"#N/A"}},null,{"$f":"IF(D12=0,NA(),RTD(\"cqg.rtd\",,\"StudyData\", \"Close(\"&$AF$2&\") When Barix(\"&$AF$2&\",reference:=StartOfSession)=\"&A12&\"\", \"Bar\", \"\", \"Close\",\"5\",\"0\",\"All\",,,\"False\",\"T\",\"EveryTick\"))","v":{"$error":"#N/A"}},null,{"$f":"IF(D12=0,NA(),RTD(\"cqg.rtd\",,\"StudyData\", \"Close(\"&$AH$2&\") When Barix(\"&$AH$2&\",reference:=StartOfSession)=\"&A12&\"\", \"Bar\", \"\", \"Close\",\"5\",\"0\",\"All\",,,\"False\",\"T\",\"EveryTick\"))","v":{"$error":"#N/A"}},null,{"$f":"IF(D12=0,NA(),RTD(\"cqg.rtd\",,\"StudyData\", \"Close(\"&$AJ$2&\") When Barix(\"&$AJ$2&\",reference:=StartOfSession)=\"&A12&\"\", \"Bar\", \"\", \"Close\",\"5\",\"0\",\"All\",,,\"False\",\"T\",\"EveryTick\"))","v":{"$error":"#N/A"}},null,{"$f":"IF(D12=0,NA(),RTD(\"cqg.rtd\",,\"StudyData\", \"Close(\"&$AL$2&\") When Barix(\"&$AL$2&\",reference:=StartOfSession)=\"&A12&\"\", \"Bar\", \"\", \"Close\",\"5\",\"0\",\"All\",,,\"False\",\"T\",\"EveryTick\"))","v":{"$error":"#N/A"}},null,{"$f":"IF(D12=0,NA(),RTD(\"cqg.rtd\",,\"StudyData\", \"Close(\"&$AN$2&\") When Barix(\"&$AN$2&\",reference:=StartOfSession)=\"&A12&\"\", \"Bar\", \"\", \"Close\",\"5\",\"0\",\"All\",,,\"False\",\"T\",\"EveryTick\"))","v":{"$error":"#N/A"}},null,{"$f":"IF(D12=0,NA(),RTD(\"cqg.rtd\",,\"StudyData\", \"Close(\"&$AN$2&\") When Barix(\"&$AN$2&\",reference:=StartOfSession)=\"&A12&\"\", \"Bar\", \"\", \"Close\",\"5\",\"0\",\"All\",,,\"False\",\"T\",\"EveryTick\"))","v":{"$error":"#N/A"}},null,{"$f":"IF(D12=0,NA(),RTD(\"cqg.rtd\",,\"StudyData\", \"Close(\"&$AR$2&\") When Barix(\"&$AR$2&\",reference:=StartOfSession)=\"&A12&\"\", \"Bar\", \"\", \"Close\",\"5\",\"0\",\"All\",,,\"False\",\"T\",\"EveryTick\"))","v":{"$error":"#N/A"}},null,{"$f":"IF(D12=0,NA(),RTD(\"cqg.rtd\",,\"StudyData\", \"Close(\"&$AT$2&\") When Barix(\"&$AT$2&\",reference:=StartOfSession)=\"&A12&\"\", \"Bar\", \"\", \"Close\",\"5\",\"0\",\"All\",,,\"False\",\"T\",\"EveryTick\"))","v":{"$error":"#N/A"}},null,{"$f":"IF(D12=0,NA(),RTD(\"cqg.rtd\",,\"StudyData\", \"Close(\"&$AV$2&\") When Barix(\"&$AV$2&\",reference:=StartOfSession)=\"&A12&\"\", \"Bar\", \"\", \"Close\",\"5\",\"0\",\"All\",,,\"False\",\"T\",\"EveryTick\"))","v":{"$error":"#N/A"}},null,{"$f":"IF(D12=0,NA(),RTD(\"cqg.rtd\",,\"StudyData\", \"Close(\"&$AX$2&\") When Barix(\"&$AX$2&\",reference:=StartOfSession)=\"&A12&\"\", \"Bar\", \"\", \"Close\",\"5\",\"0\",\"All\",,,\"False\",\"T\",\"EveryTick\"))","v":{"$error":"#N/A"}},null,{"$f":"IF(D12=0,NA(),RTD(\"cqg.rtd\",,\"StudyData\", \"Close(\"&$AZ$2&\") When Barix(\"&$AZ$2&\",reference:=StartOfSession)=\"&A12&\"\", \"Bar\", \"\", \"Close\",\"5\",\"0\",\"All\",,,\"False\",\"T\",\"EveryTick\"))","v":{"$error":"#N/A"}},null,{"$f":"IF(D12=0,NA(),RTD(\"cqg.rtd\",,\"StudyData\", \"Close(\"&$BB$2&\") When Barix(\"&$BB$2&\",reference:=StartOfSession)=\"&A12&\"\", \"Bar\", \"\", \"Close\",\"5\",\"0\",\"All\",,,\"False\",\"T\",\"EveryTick\"))","v":{"$error":"#N/A"}},null,{"$f":"IF(D12=0,NA(),RTD(\"cqg.rtd\",,\"StudyData\", \"Close(\"&$BD$2&\") When Barix(\"&$BD$2&\",reference:=StartOfSession)=\"&A12&\"\", \"Bar\", \"\", \"Close\",\"5\",\"0\",\"All\",,,\"False\",\"T\",\"EveryTick\"))","v":{"$error":"#N/A"}},null,{"$f":"IF(D12=0,NA(),RTD(\"cqg.rtd\",,\"StudyData\", \"Close(\"&$BF$2&\") When Barix(\"&$BF$2&\",reference:=StartOfSession)=\"&A12&\"\", \"Bar\", \"\", \"Close\",\"5\",\"0\",\"All\",,,\"False\",\"T\",\"EveryTick\"))","v":{"$error":"#N/A"}},null,{"$f":"IF(D12=0,NA(),RTD(\"cqg.rtd\",,\"StudyData\", \"Close(\"&$BH$2&\") When Barix(\"&$BH$2&\",reference:=StartOfSession)=\"&A12&\"\", \"Bar\", \"\", \"Close\",\"5\",\"0\",\"All\",,,\"False\",\"T\",\"EveryTick\"))","v":{"$error":"#N/A"}},null,{"$f":"IF(D12=0,NA(),RTD(\"cqg.rtd\",,\"StudyData\", \"Close(\"&$BJ$2&\") When Barix(\"&$BJ$2&\",reference:=StartOfSession)=\"&A12&\"\", \"Bar\", \"\", \"Close\",\"5\",\"0\",\"All\",,,\"False\",\"T\",\"EveryTick\"))","v":{"$error":"#N/A"}},null,{"$f":"IF(D12=0,NA(),RTD(\"cqg.rtd\",,\"StudyData\", \"Close(\"&$BL$2&\") When Barix(\"&$BL$2&\",reference:=StartOfSession)=\"&A12&\"\", \"Bar\", \"\", \"Close\",\"5\",\"0\",\"All\",,,\"False\",\"T\",\"EveryTick\"))","v":{"$error":"#N/A"}},null,{"$f":"IF(D12=0,NA(),RTD(\"cqg.rtd\",,\"StudyData\", \"Close(\"&$BN$2&\") When Barix(\"&$BN$2&\",reference:=StartOfSession)=\"&A12&\"\", \"Bar\", \"\", \"Close\",\"5\",\"0\",\"All\",,,\"False\",\"T\",\"EveryTick\"))","v":{"$error":"#N/A"}},null,{"$f":"IF(D12=0,NA(),RTD(\"cqg.rtd\",,\"StudyData\", \"Close(\"&$BP$2&\") When Barix(\"&$BP$2&\",reference:=StartOfSession)=\"&A12&\"\", \"Bar\", \"\", \"Close\",\"5\",\"0\",\"All\",,,\"False\",\"T\",\"EveryTick\"))","v":{"$error":"#N/A"}},null,{"$f":"IF(D12=0,NA(),RTD(\"cqg.rtd\",,\"StudyData\", \"Close(\"&$BR$2&\") When Barix(\"&$BR$2&\",reference:=StartOfSession)=\"&A12&\"\", \"Bar\", \"\", \"Close\",\"5\",\"0\",\"All\",,,\"False\",\"T\",\"EveryTick\"))","v":{"$error":"#N/A"}},null,{"$f":"IF(D12=0,NA(),RTD(\"cqg.rtd\",,\"StudyData\", \"Close(\"&$BT$2&\") When Barix(\"&$BT$2&\",reference:=StartOfSession)=\"&A12&\"\", \"Bar\", \"\", \"Close\",\"5\",\"0\",\"All\",,,\"False\",\"T\",\"EveryTick\"))","v":{"$error":"#N/A"}},null,{"$f":"IF(D12=0,NA(),RTD(\"cqg.rtd\",,\"StudyData\", \"Close(\"&$BV$2&\") When Barix(\"&$BV$2&\",reference:=StartOfSession)=\"&A12&\"\", \"Bar\", \"\", \"Close\",\"5\",\"0\",\"All\",,,\"False\",\"T\",\"EveryTick\"))","v":{"$error":"#N/A"}},null,{"$f":"IF(D12=0,NA(),RTD(\"cqg.rtd\",,\"StudyData\", \"Close(\"&$BX$2&\") When Barix(\"&$BX$2&\",reference:=StartOfSession)=\"&A12&\"\", \"Bar\", \"\", \"Close\",\"5\",\"0\",\"All\",,,\"False\",\"T\",\"EveryTick\"))","v":{"$error":"#N/A"}},null,{"$f":"IF(D12=0,NA(),RTD(\"cqg.rtd\",,\"StudyData\", \"Close(\"&$BZ$2&\") When Barix(\"&$BZ$2&\",reference:=StartOfSession)=\"&A12&\"\", \"Bar\", \"\", \"Close\",\"5\",\"0\",\"All\",,,\"False\",\"T\",\"EveryTick\"))","v":{"$error":"#N/A"}}]
[9,{"$f":"IF(D13=0,NA(),RTD(\"cqg.rtd\",,\"StudyData\", \"Close(\"&$B$2&\") When Barix(\"&$B$2&\",reference:=StartOfSession)=\"&A13&\"\", \"Bar\", \"\", \"Close\",\"5\",\"0\",\"All\",,,\"False\",\"T\",\"EveryTick\"))","v":{"$error":"#N/A"}},"09:15:00",0,null,{"$f":"IF(D13=0,NA(),RTD(\"cqg.rtd\",,\"StudyData\", \"Close(\"&$F$2&\") When Barix(\"&$F$2&\",reference:=StartOfSession)=\"&A13&\"\", \"Bar\", \"\", \"Close\",\"5\",\"0\",\"All\",,,\"False\",\"T\",\"EveryTick\"))","v":{"$error":"#N/A"}},null,{"$f":"IF(D13=0,NA(),RTD(\"cqg.rtd\",,\"StudyData\", \"Close(\"&$H$2&\") When Barix(\"&$H$2&\",reference:=StartOfSession)=\"&A13&\"\", \"Bar\", \"\", \"Close\",\"5\",\"0\",\"All\",,,\"False\",\"T\",\"EveryTick\"))","v":{"$error":"#N/A"}},null,{"$f":"IF(D13=0,NA(),RTD(\"cqg.rtd\",,\"StudyData\", \"Close(\"&$J$2&\") When Barix(\"&$J$2&\",reference:=StartOfSession)=\"&A13&\"\", \"Bar\", \"\", \"Close\",\"5\",\"0\",\"All\",,,\"False\",\"T\",\"EveryTick\"))","v":{"$error":"#N/A"}},null,{"$f":"IF(D13=0,NA(),RTD(\"cqg.rtd\",,\"StudyData\", \"Close(\"&$L$2&\") When Barix(\"&$L$2&\",reference:=StartOfSession)=\"&A13&\"\", \"Bar\", \"\", \"Close\",\"5\",\"0\",\"All\",,,\"False\",\"T\",\"EveryTick\"))","v":{"$error":"#N/A"}},null,{"$f":"IF(D13=0,NA(),RTD(\"cqg.rtd\",,\"StudyData\", \"Close(\"&$N$2&\") When Barix(\"&$N$2&\",reference:=StartOfSession)=\"&A13&\"\", \"Bar\", \"\", \"Close\",\"5\",\"0\",\"All\",,,\"False\",\"T\",\"EveryTick\"))","v":{"$error":"#N/A"}},null,{"$f":"IF(D13=0,NA(),RTD(\"cqg.rtd\",,\"StudyData\", \"Close(\"&$P$2&\") When Barix(\"&$P$2&\",reference:=StartOfSession)=\"&A13&\"\", \"Bar\", \"\", \"Close\",\"5\",\"0\",\"All\",,,\"False\",\"T\",\"EveryTick\"))","v":{"$error":"#N/A"}},null,{"$f":"IF(D13=0,NA(),RTD(\"cqg.rtd\",,\"StudyData\", \"Close(\"&$R$2&\") When Barix(\"&$R$2&\",reference:=StartOfSession)=\"&A13&\"\", \"Bar\", \"\", \"Close\",\"5\",\"0\",\"All\",,,\"False\",\"T\",\"EveryTick\"))","v":{"$error":"#N/A"}},null,{"$f":"IF(D13=0,NA(),RTD(\"cqg.rtd\",,\"StudyData\", \"Close(\"&$T$2&\") When Barix(\"&$T$2&\",reference:=StartOfSession)=\"&A13&\"\", \"Bar\", \"\", \"Close\",\"5\",\"0\",\"All\",,,\"False\",\"T\",\"EveryTick\"))","v":{"$error":"#N/A"}},null,{"$f":"IF(D13=0,NA(),RTD(\"cqg.rtd\",,\"StudyData\", \"Close(\"&$V$2&\") When Barix(\"&$V$2&\",reference:=StartOfSession)=\"&A13&\"\", \"Bar\", \"\", \"Close\",\"5\",\"0\",\"All\",,,\"False\",\"T\",\"EveryTick\"))","v":{"$error":"#N/A"}},null,{"$f":"IF(D13=0,NA(),RTD(\"cqg.rtd\",,\"StudyData\", \"Close(\"&$X$2&\") When Barix(\"&$X$2&\",reference:=StartOfSession)=\"&A13&\"\", \"Bar\", \"\", \"Close\",\"5\",\"0\",\"All\",,,\"False\",\"T\",\"EveryTick\"))","v":{"$error":"#N/A"}},null,{"$f":"IF(D13=0,NA(),RTD(\"cqg.rtd\",,\"StudyData\", \"Close(\"&$Z$2&\") When Barix(\"&$Z$2&\",reference:=StartOfSession)=\"&A13&\"\", \"Bar\", \"\", \"Close\",\"5\",\"0\",\"All\",,,\"False\",\"T\",\"EveryTick\"))","v":{"$error":"#N/A"}},null,{"$f":"IF(D13=0,NA(),RTD(\"cqg.rtd\",,\"StudyData\", \"Close(\"&$AB$2&\") When Barix(\"&$AB$2&\",reference:=StartOfSession)=\"&A13&\"\", \"Bar\", \"\", \"Close\",\"5\",\"0\",\"All\",,,\"False\",\"T\",\"EveryTick\"))","v":{"$error":"#N/A"}},null,{"$f":"IF(D13=0,NA(),RTD(\"cqg.rtd\",,\"StudyData\", \"Close(\"&$AD$2&\") When Barix(\"&$AD$2&\",reference:=StartOfSession)=\"&A13&\"\", \"Bar\", \"\", \"Close\",\"5\",\"0\",\"All\",,,\"False\",\"T\",\"EveryTick\"))","v":{"$error":"#N/A"}},null,{"$f":"IF(D13=0,NA(),RTD(\"cqg.rtd\",,\"StudyData\", \"Close(\"&$AF$2&\") When Barix(\"&$AF$2&\",reference:=StartOfSession)=\"&A13&\"\", \"Bar\", \"\", \"Close\",\"5\",\"0\",\"All\",,,\"False\",\"T\",\"EveryTick\"))","v":{"$error":"#N/A"}},null,{"$f":"IF(D13=0,NA(),RTD(\"cqg.rtd\",,\"StudyData\", \"Close(\"&$AH$2&\") When Barix(\"&$AH$2&\",reference:=StartOfSession)=\"&A13&\"\", \"Bar\", \"\", \"Close\",\"5\",\"0\",\"All\",,,\"False\",\"T\",\"EveryTick\"))","v":{"$error":"#N/A"}},null,{"$f":"IF(D13=0,NA(),RTD(\"cqg.rtd\",,\"StudyData\", \"Close(\"&$AJ$2&\") When Barix(\"&$AJ$2&\",reference:=StartOfSession)=\"&A13&\"\", \"Bar\", \"\", \"Close\",\"5\",\"0\",\"All\",,,\"False\",\"T\",\"EveryTick\"))","v":{"$error":"#N/A"}},null,{"$f":"IF(D13=0,NA(),RTD(\"cqg.rtd\",,\"StudyData\", \"Close(\"&$AL$2&\") When Barix(\"&$AL$2&\",reference:=StartOfSession)=\"&A13&\"\", \"Bar\", \"\", \"Close\",\"5\",\"0\",\"All\",,,\"False\",\"T\",\"EveryTick\"))","v":{"$error":"#N/A"}},null,{"$f":"IF(D13=0,NA(),RTD(\"cqg.rtd\",,\"StudyData\", \"Close(\"&$AN$2&\") When Barix(\"&$AN$2&\",reference:=StartOfSession)=\"&A13&\"\", \"Bar\", \"\", \"Close\",\"5\",\"0\",\"All\",,,\"False\",\"T\",\"EveryTick\"))","v":{"$error":"#N/A"}},null,{"$f":"IF(D13=0,NA(),RTD(\"cqg.rtd\",,\"StudyData\", \"Close(\"&$AN$2&\") When Barix(\"&$AN$2&\",reference:=StartOfSession)=\"&A13&\"\", \"Bar\", \"\", \"Close\",\"5\",\"0\",\"All\",,,\"False\",\"T\",\"EveryTick\"))","v":{"$error":"#N/A"}},null,{"$f":"IF(D13=0,NA(),RTD(\"cqg.rtd\",,\"StudyData\", \"Close(\"&$AR$2&\") When Barix(\"&$AR$2&\",reference:=StartOfSession)=\"&A13&\"\", \"Bar\", \"\", \"Close\",\"5\",\"0\",\"All\",,,\"False\",\"T\",\"EveryTick\"))","v":{"$error":"#N/A"}},null,{"$f":"IF(D13=0,NA(),RTD(\"cqg.rtd\",,\"StudyData\", \"Close(\"&$AT$2&\") When Barix(\"&$AT$2&\",reference:=StartOfSession)=\"&A13&\"\", \"Bar\", \"\", \"Close\",\"5\",\"0\",\"All\",,,\"False\",\"T\",\"EveryTick\"))","v":{"$error":"#N/A"}},null,{"$f":"IF(D13=0,NA(),RTD(\"cqg.rtd\",,\"StudyData\", \"Close(\"&$AV$2&\") When Barix(\"&$AV$2&\",reference:=StartOfSession)=\"&A13&\"\", \"Bar\", \"\", \"Close\",\"5\",\"0\",\"All\",,,\"False\",\"T\",\"EveryTick\"))","v":{"$error":"#N/A"}},null,{"$f":"IF(D13=0,NA(),RTD(\"cqg.rtd\",,\"StudyData\", \"Close(\"&$AX$2&\") When Barix(\"&$AX$2&\",reference:=StartOfSession)=\"&A13&\"\", \"Bar\", \"\", \"Close\",\"5\",\"0\",\"All\",,,\"False\",\"T\",\"EveryTick\"))","v":{"$error":"#N/A"}},null,{"$f":"IF(D13=0,NA(),RTD(\"cqg.rtd\",,\"StudyData\", \"Close(\"&$AZ$2&\") When Barix(\"&$AZ$2&\",reference:=StartOfSession)=\"&A13&\"\", \"Bar\", \"\", \"Close\",\"5\",\"0\",\"All\",,,\"False\",\"T\",\"EveryTick\"))","v":{"$error":"#N/A"}},null,{"$f":"IF(D13=0,NA(),RTD(\"cqg.rtd\",,\"StudyData\", \"Close(\"&$BB$2&\") When Barix(\"&$BB$2&\",reference:=StartOfSession)=\"&A13&\"\", \"Bar\", \"\", \"Close\",\"5\",\"0\",\"All\",,,\"False\",\"T\",\"EveryTick\"))","v":{"$error":"#N/A"}},null,{"$f":"IF(D13=0,NA(),RTD(\"cqg.rtd\",,\"StudyData\", \"Close(\"&$BD$2&\") When Barix(\"&$BD$2&\",reference:=StartOfSession)=\"&A13&\"\", \"Bar\", \"\", \"Close\",\"5\",\"0\",\"All\",,,\"False\",\"T\",\"EveryTick\"))","v":{"$error":"#N/A"}},null,{"$f":"IF(D13=0,NA(),RTD(\"cqg.rtd\",,\"StudyData\", \"Close(\"&$BF$2&\") When Barix(\"&$BF$2&\",reference:=StartOfSession)=\"&A13&\"\", \"Bar\", \"\", \"Close\",\"5\",\"0\",\"All\",,,\"False\",\"T\",\"EveryTick\"))","v":{"$error":"#N/A"}},null,{"$f":"IF(D13=0,NA(),RTD(\"cqg.rtd\",,\"StudyData\", \"Close(\"&$BH$2&\") When Barix(\"&$BH$2&\",reference:=StartOfSession)=\"&A13&\"\", \"Bar\", \"\", \"Close\",\"5\",\"0\",\"All\",,,\"False\",\"T\",\"EveryTick\"))","v":{"$error":"#N/A"}},null,{"$f":"IF(D13=0,NA(),RTD(\"cqg.rtd\",,\"StudyData\", \"Close(\"&$BJ$2&\") When Barix(\"&$BJ$2&\",reference:=StartOfSession)=\"&A13&\"\", \"Bar\", \"\", \"Close\",\"5\",\"0\",\"All\",,,\"False\",\"T\",\"EveryTick\"))","v":{"$error":"#N/A"}},null,{"$f":"IF(D13=0,NA(),RTD(\"cqg.rtd\",,\"StudyData\", \"Close(\"&$BL$2&\") When Barix(\"&$BL$2&\",reference:=StartOfSession)=\"&A13&\"\", \"Bar\", \"\", \"Close\",\"5\",\"0\",\"All\",,,\"False\",\"T\",\"EveryTick\"))","v":{"$error":"#N/A"}},null,{"$f":"IF(D13=0,NA(),RTD(\"cqg.rtd\",,\"StudyData\", \"Close(\"&$BN$2&\") When Barix(\"&$BN$2&\",reference:=StartOfSession)=\"&A13&\"\", \"Bar\", \"\", \"Close\",\"5\",\"0\",\"All\",,,\"False\",\"T\",\"EveryTick\"))","v":{"$error":"#N/A"}},null,{"$f":"IF(D13=0,NA(),RTD(\"cqg.rtd\",,\"StudyData\", \"Close(\"&$BP$2&\") When Barix(\"&$BP$2&\",reference:=StartOfSession)=\"&A13&\"\", \"Bar\", \"\", \"Close\",\"5\",\"0\",\"All\",,,\"False\",\"T\",\"EveryTick\"))","v":{"$error":"#N/A"}},null,{"$f":"IF(D13=0,NA(),RTD(\"cqg.rtd\",,\"StudyData\", \"Close(\"&$BR$2&\") When Barix(\"&$BR$2&\",reference:=StartOfSession)=\"&A13&\"\", \"Bar\", \"\", \"Close\",\"5\",\"0\",\"All\",,,\"False\",\"T\",\"EveryTick\"))","v":{"$error":"#N/A"}},null,{"$f":"IF(D13=0,NA(),RTD(\"cqg.rtd\",,\"StudyData\", \"Close(\"&$BT$2&\") When Barix(\"&$BT$2&\",reference:=StartOfSession)=\"&A13&\"\", \"Bar\", \"\", \"Close\",\"5\",\"0\",\"All\",,,\"False\",\"T\",\"EveryTick\"))","v":{"$error":"#N/A"}},null,{"$f":"IF(D13=0,NA(),RTD(\"cqg.rtd\",,\"StudyData\", \"Close(\"&$BV$2&\") When Barix(\"&$BV$2&\",reference:=StartOfSession)=\"&A13&\"\", \"Bar\", \"\", \"Close\",\"5\",\"0\",\"All\",,,\"False\",\"T\",\"EveryTick\"))","v":{"$error":"#N/A"}},null,{"$f":"IF(D13=0,NA(),RTD(\"cqg.rtd\",,\"StudyData\", \"Close(\"&$BX$2&\") When Barix(\"&$BX$2&\",reference:=StartOfSession)=\"&A13&\"\", \"Bar\", \"\", \"Close\",\"5\",\"0\",\"All\",,,\"False\",\"T\",\"EveryTick\"))","v":{"$error":"#N/A"}},null,{"$f":"IF(D13=0,NA(),RTD(\"cqg.rtd\",,\"StudyData\", \"Close(\"&$BZ$2&\") When Barix(\"&$BZ$2&\",reference:=StartOfSession)=\"&A13&\"\", \"Bar\", \"\", \"Close\",\"5\",\"0\",\"All\",,,\"False\",\"T\",\"EveryTick\"))","v":{"$error":"#N/A"}}]
[10,{"$f":"IF(D14=0,NA(),RTD(\"cqg.rtd\",,\"StudyData\", \"Close(\"&$B$2&\") When Barix(\"&$B$2&\",reference:=StartOfSession)=\"&A14&\"\", \"Bar\", \"\", \"Close\",\"5\",\"0\",\"All\",,,\"False\",\"T\",\"EveryTick\"))","v":{"$error":"#N/A"}},"09:20:00",0,null,{"$f":"IF(D14=0,NA(),RTD(\"cqg.rtd\",,\"StudyData\", \"Close(\"&$F$2&\") When Barix(\"&$F$2&\",reference:=StartOfSession)=\"&A14&\"\", \"Bar\", \"\", \"Close\",\"5\",\"0\",\"All\",,,\"False\",\"T\",\"EveryTick\"))","v":{"$error":"#N/A"}},null,{"$f":"IF(D14=0,NA(),RTD(\"cqg.rtd\",,\"StudyData\", \"Close(\"&$H$2&\") When Barix(\"&$H$2&\",reference:=StartOfSession)=\"&A14&\"\", \"Bar\", \"\", \"Close\",\"5\",\"0\",\"All\",,,\"False\",\"T\",\"EveryTick\"))","v":{"$error":"#N/A"}},null,{"$f":"IF(D14=0,NA(),RTD(\"cqg.rtd\",,\"StudyData\", \"Close(\"&$J$2&\") When Barix(\"&$J$2&\",reference:=StartOfSession)=\"&A14&\"\", \"Bar\", \"\", \"Close\",\"5\",\"0\",\"All\",,,\"False\",\"T\",\"EveryTick\"))","v":{"$error":"#N/A"}},null,{"$f":"IF(D14=0,NA(),RTD(\"cqg.rtd\",,\"StudyData\", \"Close(\"&$L$2&\") When Barix(\"&$L$2&\",reference:=StartOfSession)=\"&A14&\"\", \"Bar\", \"\", \"Close\",\"5\",\"0\",\"All\",,,\"False\",\"T\",\"EveryTick\"))","v":{"$error":"#N/A"}},null,{"$f":"IF(D14=0,NA(),RTD(\"cqg.rtd\",,\"StudyData\", \"Close(\"&$N$2&\") When Barix(\"&$N$2&\",reference:=StartOfSession)=\"&A14&\"\", \"Bar\", \"\", \"Close\",\"5\",\"0\",\"All\",,,\"False\",\"T\",\"EveryTick\"))","v":{"$error":"#N/A"}},null,{"$f":"IF(D14=0,NA(),RTD(\"cqg.rtd\",,\"StudyData\", \"Close(\"&$P$2&\") When Barix(\"&$P$2&\",reference:=StartOfSession)=\"&A14&\"\", \"Bar\", \"\", \"Close\",\"5\",\"0\",\"All\",,,\"False\",\"T\",\"EveryTick\"))","v":{"$error":"#N/A"}},null,{"$f":"IF(D14=0,NA(),RTD(\"cqg.rtd\",,\"StudyData\", \"Close(\"&$R$2&\") When Barix(\"&$R$2&\",reference:=StartOfSession)=\"&A14&\"\", \"Bar\", \"\", \"Close\",\"5\",\"0\",\"All\",,,\"False\",\"T\",\"EveryTick\"))","v":{"$error":"#N/A"}},null,{"$f":"IF(D14=0,NA(),RTD(\"cqg.rtd\",,\"StudyData\", \"Close(\"&$T$2&\") When Barix(\"&$T$2&\",reference:=StartOfSession)=\"&A14&\"\", \"Bar\", \"\", \"Close\",\"5\",\"0\",\"All\",,,\"False\",\"T\",\"EveryTick\"))","v":{"$error":"#N/A"}},null,{"$f":"IF(D14=0,NA(),RTD(\"cqg.rtd\",,\"StudyData\", \"Close(\"&$V$2&\") When Barix(\"&$V$2&\",reference:=StartOfSession)=\"&A14&\"\", \"Bar\", \"\", \"Close\",\"5\",\"0\",\"All\",,,\"False\",\"T\",\"EveryTick\"))","v":{"$error":"#N/A"}},null,{"$f":"IF(D14=0,NA(),RTD(\"cqg.rtd\",,\"StudyData\", \"Close(\"&$X$2&\") When Barix(\"&$X$2&\",reference:=StartOfSession)=\"&A14&\"\", \"Bar\", \"\", \"Close\",\"5\",\"0\",\"All\",,,\"False\",\"T\",\"EveryTick\"))","v":{"$error":"#N/A"}},null,{"$f":"IF(D14=0,NA(),RTD(\"cqg.rtd\",,\"StudyData\", \"Close(\"&$Z$2&\") When Barix(\"&$Z$2&\",reference:=StartOfSession)=\"&A14&\"\", \"Bar\", \"\", \"Close\",\"5\",\"0\",\"All\",,,\"False\",\"T\",\"EveryTick\"))","v":{"$error":"#N/A"}},null,{"$f":"IF(D14=0,NA(),RTD(\"cqg.rtd\",,\"StudyData\", \"Close(\"&$AB$2&\") When Barix(\"&$AB$2&\",reference:=StartOfSession)=\"&A14&\"\", \"Bar\", \"\", \"Close\",\"5\",\"0\",\"All\",,,\"False\",\"T\",\"EveryTick\"))","v":{"$error":"#N/A"}},null,{"$f":"IF(D14=0,NA(),RTD(\"cqg.rtd\",,\"StudyData\", \"Close(\"&$AD$2&\") When Barix(\"&$AD$2&\",reference:=StartOfSession)=\"&A14&\"\", \"Bar\", \"\", \"Close\",\"5\",\"0\",\"All\",,,\"False\",\"T\",\"EveryTick\"))","v":{"$error":"#N/A"}},null,{"$f":"IF(D14=0,NA(),RTD(\"cqg.rtd\",,\"StudyData\", \"Close(\"&$AF$2&\") When Barix(\"&$AF$2&\",reference:=StartOfSession)=\"&A14&\"\", \"Bar\", \"\", \"Close\",\"5\",\"0\",\"All\",,,\"False\",\"T\",\"EveryTick\"))","v":{"$error":"#N/A"}},null,{"$f":"IF(D14=0,NA(),RTD(\"cqg.rtd\",,\"StudyData\", \"Close(\"&$AH$2&\") When Barix(\"&$AH$2&\",reference:=StartOfSession)=\"&A14&\"\", \"Bar\", \"\", \"Close\",\"5\",\"0\",\"All\",,,\"False\",\"T\",\"EveryTick\"))","v":{"$error":"#N/A"}},null,{"$f":"IF(D14=0,NA(),RTD(\"cqg.rtd\",,\"StudyData\", \"Close(\"&$AJ$2&\") When Barix(\"&$AJ$2&\",reference:=StartOfSession)=\"&A14&\"\", \"Bar\", \"\", \"Close\",\"5\",\"0\",\"All\",,,\"False\",\"T\",\"EveryTick\"))","v":{"$error":"#N/A"}},null,{"$f":"IF(D14=0,NA(),RTD(\"cqg.rtd\",,\"StudyData\", \"Close(\"&$AL$2&\") When Barix(\"&$AL$2&\",reference:=StartOfSession)=\"&A14&\"\", \"Bar\", \"\", \"Close\",\"5\",\"0\",\"All\",,,\"False\",\"T\",\"EveryTick\"))","v":{"$error":"#N/A"}},null,{"$f":"IF(D14=0,NA(),RTD(\"cqg.rtd\",,\"StudyData\", \"Close(\"&$AN$2&\") When Barix(\"&$AN$2&\",reference:=StartOfSession)=\"&A14&\"\", \"Bar\", \"\", \"Close\",\"5\",\"0\",\"All\",,,\"False\",\"T\",\"EveryTick\"))","v":{"$error":"#N/A"}},null,{"$f":"IF(D14=0,NA(),RTD(\"cqg.rtd\",,\"StudyData\", \"Close(\"&$AN$2&\") When Barix(\"&$AN$2&\",reference:=StartOfSession)=\"&A14&\"\", \"Bar\", \"\", \"Close\",\"5\",\"0\",\"All\",,,\"False\",\"T\",\"EveryTick\"))","v":{"$error":"#N/A"}},null,{"$f":"IF(D14=0,NA(),RTD(\"cqg.rtd\",,\"StudyData\", \"Close(\"&$AR$2&\") When Barix(\"&$AR$2&\",reference:=StartOfSession)=\"&A14&\"\", \"Bar\", \"\", \"Close\",\"5\",\"0\",\"All\",,,\"False\",\"T\",\"EveryTick\"))","v":{"$error":"#N/A"}},null,{"$f":"IF(D14=0,NA(),RTD(\"cqg.rtd\",,\"StudyData\", \"Close(\"&$AT$2&\") When Barix(\"&$AT$2&\",reference:=StartOfSession)=\"&A14&\"\", \"Bar\", \"\", \"Close\",\"5\",\"0\",\"All\",,,\"False\",\"T\",\"EveryTick\"))","v":{"$error":"#N/A"}},null,{"$f":"IF(D14=0,NA(),RTD(\"cqg.rtd\",,\"StudyData\", \"Close(\"&$AV$2&\") When Barix(\"&$AV$2&\",reference:=StartOfSession)=\"&A14&\"\", \"Bar\", \"\", \"Close\",\"5\",\"0\",\"All\",,,\"False\",\"T\",\"EveryTick\"))","v":{"$error":"#N/A"}},null,{"$f":"IF(D14=0,NA(),RTD(\"cqg.rtd\",,\"StudyData\", \"Close(\"&$AX$2&\") When Barix(\"&$AX$2&\",reference:=StartOfSession)=\"&A14&\"\", \"Bar\", \"\", \"Close\",\"5\",\"0\",\"All\",,,\"False\",\"T\",\"EveryTick\"))","v":{"$error":"#N/A"}},null,{"$f":"IF(D14=0,NA(),RTD(\"cqg.rtd\",,\"StudyData\", \"Close(\"&$AZ$2&\") When Barix(\"&$AZ$2&\",reference:=StartOfSession)=\"&A14&\"\", \"Bar\", \"\", \"Close\",\"5\",\"0\",\"All\",,,\"False\",\"T\",\"EveryTick\"))","v":{"$error":"#N/A"}},null,{"$f":"IF(D14=0,NA(),RTD(\"cqg.rtd\",,\"StudyData\", \"Close(\"&$BB$2&\") When Barix(\"&$BB$2&\",reference:=StartOfSession)=\"&A14&\"\", \"Bar\", \"\", \"Close\",\"5\",\"0\",\"All\",,,\"False\",\"T\",\"EveryTick\"))","v":{"$error":"#N/A"}},null,{"$f":"IF(D14=0,NA(),RTD(\"cqg.rtd\",,\"StudyData\", \"Close(\"&$BD$2&\") When Barix(\"&$BD$2&\",reference:=StartOfSession)=\"&A14&\"\", \"Bar\", \"\", \"Close\",\"5\",\"0\",\"All\",,,\"False\",\"T\",\"EveryTick\"))","v":{"$error":"#N/A"}},null,{"$f":"IF(D14=0,NA(),RTD(\"cqg.rtd\",,\"StudyData\", \"Close(\"&$BF$2&\") When Barix(\"&$BF$2&\",reference:=StartOfSession)=\"&A14&\"\", \"Bar\", \"\", \"Close\",\"5\",\"0\",\"All\",,,\"False\",\"T\",\"EveryTick\"))","v":{"$error":"#N/A"}},null,{"$f":"IF(D14=0,NA(),RTD(\"cqg.rtd\",,\"StudyData\", \"Close(\"&$BH$2&\") When Barix(\"&$BH$2&\",reference:=StartOfSession)=\"&A14&\"\", \"Bar\", \"\", \"Close\",\"5\",\"0\",\"All\",,,\"False\",\"T\",\"EveryTick\"))","v":{"$error":"#N/A"}},null,{"$f":"IF(D14=0,NA(),RTD(\"cqg.rtd\",,\"StudyData\", \"Close(\"&$BJ$2&\") When Barix(\"&$BJ$2&\",reference:=StartOfSession)=\"&A14&\"\", \"Bar\", \"\", \"Close\",\"5\",\"0\",\"All\",,,\"False\",\"T\",\"EveryTick\"))","v":{"$error":"#N/A"}},null,{"$f":"IF(D14=0,NA(),RTD(\"cqg.rtd\",,\"StudyData\", \"Close(\"&$BL$2&\") When Barix(\"&$BL$2&\",reference:=StartOfSession)=\"&A14&\"\", \"Bar\", \"\", \"Close\",\"5\",\"0\",\"All\",,,\"False\",\"T\",\"EveryTick\"))","v":{"$error":"#N/A"}},null,{"$f":"IF(D14=0,NA(),RTD(\"cqg.rtd\",,\"StudyData\", \"Close(\"&$BN$2&\") When Barix(\"&$BN$2&\",reference:=StartOfSession)=\"&A14&\"\", \"Bar\", \"\", \"Close\",\"5\",\"0\",\"All\",,,\"False\",\"T\",\"EveryTick\"))","v":{"$error":"#N/A"}},null,{"$f":"IF(D14=0,NA(),RTD(\"cqg.rtd\",,\"StudyData\", \"Close(\"&$BP$2&\") When Barix(\"&$BP$2&\",reference:=StartOfSession)=\"&A14&\"\", \"Bar\", \"\", \"Close\",\"5\",\"0\",\"All\",,,\"False\",\"T\",\"EveryTick\"))","v":{"$error":"#N/A"}},null,{"$f":"IF(D14=0,NA(),RTD(\"cqg.rtd\",,\"StudyData\", \"Close(\"&$BR$2&\") When Barix(\"&$BR$2&\",reference:=StartOfSession)=\"&A14&\"\", \"Bar\", \"\", \"Close\",\"5\",\"0\",\"All\",,,\"False\",\"T\",\"EveryTick\"))","v":{"$error":"#N/A"}},null,{"$f":"IF(D14=0,NA(),RTD(\"cqg.rtd\",,\"StudyData\", \"Close(\"&$BT$2&\") When Barix(\"&$BT$2&\",reference:=StartOfSession)=\"&A14&\"\", \"Bar\", \"\", \"Close\",\"5\",\"0\",\"All\",,,\"False\",\"T\",\"EveryTick\"))","v":{"$error":"#N/A"}},null,{"$f":"IF(D14=0,NA(),RTD(\"cqg.rtd\",,\"StudyData\", \"Close(\"&$BV$2&\") When Barix(\"&$BV$2&\",reference:=StartOfSession)=\"&A14&\"\", \"Bar\", \"\", \"Close\",\"5\",\"0\",\"All\",,,\"False\",\"T\",\"EveryTick\"))","v":{"$error":"#N/A"}},null,{"$f":"IF(D14=0,NA(),RTD(\"cqg.rtd\",,\"StudyData\", \"Close(\"&$BX$2&\") When Barix(\"&$BX$2&\",reference:=StartOfSession)=\"&A14&\"\", \"Bar\", \"\", \"Close\",\"5\",\"0\",\"All\",,,\"False\",\"T\",\"EveryTick\"))","v":{"$error":"#N/A"}},null,{"$f":"IF(D14=0,NA(),RTD(\"cqg.rtd\",,\"StudyData\", \"Close(\"&$BZ$2&\") When Barix(\"&$BZ$2&\",reference:=StartOfSession)=\"&A14&\"\", \"Bar\", \"\", \"Close\",\"5\",\"0\",\"All\",,,\"False\",\"T\",\"EveryTick\"))","v":{"$error":"#N/A"}}]
[11,{"$f":"IF(D15=0,NA(),RTD(\"cqg.rtd\",,\"StudyData\", \"Close(\"&$B$2&\") When Barix(\"&$B$2&\",reference:=StartOfSession)=\"&A15&\"\", \"Bar\", \"\", \"Close\",\"5\",\"0\",\"All\",,,\"False\",\"T\",\"EveryTick\"))","v":{"$error":"#N/A"}},"09:25:00",0,null,{"$f":"IF(D15=0,NA(),RTD(\"cqg.rtd\",,\"StudyData\", \"Close(\"&$F$2&\") When Barix(\"&$F$2&\",reference:=StartOfSession)=\"&A15&\"\", \"Bar\", \"\", \"Close\",\"5\",\"0\",\"All\",,,\"False\",\"T\",\"EveryTick\"))","v":{"$error":"#N/A"}},null,{"$f":"IF(D15=0,NA(),RTD(\"cqg.rtd\",,\"StudyData\", \"Close(\"&$H$2&\") When Barix(\"&$H$2&\",reference:=StartOfSession)=\"&A15&\"\", \"Bar\", \"\", \"Close\",\"5\",\"0\",\"All\",,,\"False\",\"T\",\"EveryTick\"))","v":{"$error":"#N/A"}},null,{"$f":"IF(D15=0,NA(),RTD(\"cqg.rtd\",,\"StudyData\", \"Close(\"&$J$2&\") When Barix(\"&$J$2&\",reference:=StartOfSession)=\"&A15&\"\", \"Bar\", \"\", \"Close\",\"5\",\"0\",\"All\",,,\"False\",\"T\",\"EveryTick\"))","v":{"$error":"#N/A"}},null,{"$f":"IF(D15=0,NA(),RTD(\"cqg.rtd\",,\"StudyData\", \"Close(\"&$L$2&\") When Barix(\"&$L$2&\",reference:=StartOfSession)=\"&A15&\"\", \"Bar\", \"\", \"Close\",\"5\",\"0\",\"All\",,,\"False\",\"T\",\"EveryTick\"))","v":{"$error":"#N/A"}},null,{"$f":"IF(D15=0,NA(),RTD(\"cqg.rtd\",,\"StudyData\", \"Close(\"&$N$2&\") When Barix(\"&$N$2&\",reference:=StartOfSession)=\"&A15&\"\", \"Bar\", \"\", \"Close\",\"5\",\"0\",\"All\",,,\"False\",\"T\",\"EveryTick\"))","v":{"$error":"#N/A"}},null,{"$f":"IF(D15=0,NA(),RTD(\"cqg.rtd\",,\"StudyData\", \"Close(\"&$P$2&\") When Barix(\"&$P$2&\",reference:=StartOfSession)=\"&A15&\"\", \"Bar\", \"\", \"Close\",\"5\",\"0\",\"All\",,,\"False\",\"T\",\"EveryTick\"))","v":{"$error":"#N/A"}},null,{"$f":"IF(D15=0,NA(),RTD(\"cqg.rtd\",,\"StudyData\", \"Close(\"&$R$2&\") When Barix(\"&$R$2&\",reference:=StartOfSession)=\"&A15&\"\", \"Bar\", \"\", \"Close\",\"5\",\"0\",\"All\",,,\"False\",\"T\",\"EveryTick\"))","v":{"$error":"#N/A"}},null,{"$f":"IF(D15=0,NA(),RTD(\"cqg.rtd\",,\"StudyData\", \"Close(\"&$T$2&\") When Barix(\"&$T$2&\",reference:=StartOfSession)=\"&A15&\"\", \"Bar\", \"\", \"Close\",\"5\",\"0\",\"All\",,,\"False\",\"T\",\"EveryTick\"))","v":{"$error":"#N/A"}},null,{"$f":"IF(D15=0,NA(),RTD(\"cqg.rtd\",,\"StudyData\", \"Close(\"&$V$2&\") When Barix(\"&$V$2&\",reference:=StartOfSession)=\"&A15&\"\", \"Bar\", \"\", \"Close\",\"5\",\"0\",\"All\",,,\"False\",\"T\",\"EveryTick\"))","v":{"$error":"#N/A"}},null,{"$f":"IF(D15=0,NA(),RTD(\"cqg.rtd\",,\"StudyData\", \"Close(\"&$X$2&\") When Barix(\"&$X$2&\",reference:=StartOfSession)=\"&A15&\"\", \"Bar\", \"\", \"Close\",\"5\",\"0\",\"All\",,,\"False\",\"T\",\"EveryTick\"))","v":{"$error":"#N/A"}},null,{"$f":"IF(D15=0,NA(),RTD(\"cqg.rtd\",,\"StudyData\", \"Close(\"&$Z$2&\") When Barix(\"&$Z$2&\",reference:=StartOfSession)=\"&A15&\"\", \"Bar\", \"\", \"Close\",\"5\",\"0\",\"All\",,,\"False\",\"T\",\"EveryTick\"))","v":{"$error":"#N/A"}},null,{"$f":"IF(D15=0,NA(),RTD(\"cqg.rtd\",,\"StudyData\", \"Close(\"&$AB$2&\") When Barix(\"&$AB$2&\",reference:=StartOfSession)=\"&A15&\"\", \"Bar\", \"\", \"Close\",\"5\",\"0\",\"All\",,,\"False\",\"T\",\"EveryTick\"))","v":{"$error":"#N/A"}},null,{"$f":"IF(D15=0,NA(),RTD(\"cqg.rtd\",,\"StudyData\", \"Close(\"&$AD$2&\") When Barix(\"&$AD$2&\",reference:=StartOfSession)=\"&A15&\"\", \"Bar\", \"\", \"Close\",\"5\",\"0\",\"All\",,,\"False\",\"T\",\"EveryTick\"))","v":{"$error":"#N/A"}},null,{"$f":"IF(D15=0,NA(),RTD(\"cqg.rtd\",,\"StudyData\", \"Close(\"&$AF$2&\") When Barix(\"&$AF$2&\",reference:=StartOfSession)=\"&A15&\"\", \"Bar\", \"\", \"Close\",\"5\",\"0\",\"All\",,,\"False\",\"T\",\"EveryTick\"))","v":{"$error":"#N/A"}},null,{"$f":"IF(D15=0,NA(),RTD(\"cqg.rtd\",,\"StudyData\", \"Close(\"&$AH$2&\") When Barix(\"&$AH$2&\",reference:=StartOfSession)=\"&A15&\"\", \"Bar\", \"\", \"Close\",\"5\",\"0\",\"All\",,,\"False\",\"T\",\"EveryTick\"))","v":{"$error":"#N/A"}},null,{"$f":"IF(D15=0,NA(),RTD(\"cqg.rtd\",,\"StudyData\", \"Close(\"&$AJ$2&\") When Barix(\"&$AJ$2&\",reference:=StartOfSession)=\"&A15&\"\", \"Bar\", \"\", \"Close\",\"5\",\"0\",\"All\",,,\"False\",\"T\",\"EveryTick\"))","v":{"$error":"#N/A"}},null,{"$f":"IF(D15=0,NA(),RTD(\"cqg.rtd\",,\"StudyData\", \"Close(\"&$AL$2&\") When Barix(\"&$AL$2&\",reference:=StartOfSession)=\"&A15&\"\", \"Bar\", \"\", \"Close\",\"5\",\"0\",\"All\",,,\"False\",\"T\",\"EveryTick\"))","v":{"$error":"#N/A"}},null,{"$f":"IF(D15=0,NA(),RTD(\"cqg.rtd\",,\"StudyData\", \"Close(\"&$AN$2&\") When Barix(\"&$AN$2&\",reference:=StartOfSession)=\"&A15&\"\", \"Bar\", \"\", \"Close\",\"5\",\"0\",\"All\",,,\"False\",\"T\",\"EveryTick\"))","v":{"$error":"#N/A"}},null,{"$f":"IF(D15=0,NA(),RTD(\"cqg.rtd\",,\"StudyData\", \"Close(\"&$AN$2&\") When Barix(\"&$AN$2&\",reference:=StartOfSession)=\"&A15&\"\", \"Bar\", \"\", \"Close\",\"5\",\"0\",\"All\",,,\"False\",\"T\",\"EveryTick\"))","v":{"$error":"#N/A"}},null,{"$f":"IF(D15=0,NA(),RTD(\"cqg.rtd\",,\"StudyData\", \"Close(\"&$AR$2&\") When Barix(\"&$AR$2&\",reference:=StartOfSession)=\"&A15&\"\", \"Bar\", \"\", \"Close\",\"5\",\"0\",\"All\",,,\"False\",\"T\",\"EveryTick\"))","v":{"$error":"#N/A"}},null,{"$f":"IF(D15=0,NA(),RTD(\"cqg.rtd\",,\"StudyData\", \"Close(\"&$AT$2&\") When Barix(\"&$AT$2&\",reference:=StartOfSession)=\"&A15&\"\", \"Bar\", \"\", \"Close\",\"5\",\"0\",\"All\",,,\"False\",\"T\",\"EveryTick\"))","v":{"$error":"#N/A"}},null,{"$f":"IF(D15=0,NA(),RTD(\"cqg.rtd\",,\"StudyData\", \"Close(\"&$AV$2&\") When Barix(\"&$AV$2&\",reference:=StartOfSession)=\"&A15&\"\", \"Bar\", \"\", \"Close\",\"5\",\"0\",\"All\",,,\"False\",\"T\",\"EveryTick\"))","v":{"$error":"#N/A"}},null,{"$f":"IF(D15=0,NA(),RTD(\"cqg.rtd\",,\"StudyData\", \"Close(\"&$AX$2&\") When Barix(\"&$AX$2&\",reference:=StartOfSession)=\"&A15&\"\", \"Bar\", \"\", \"Close\",\"5\",\"0\",\"All\",,,\"False\",\"T\",\"EveryTick\"))","v":{"$error":"#N/A"}},null,{"$f":"IF(D15=0,NA(),RTD(\"cqg.rtd\",,\"StudyData\", \"Close(\"&$AZ$2&\") When Barix(\"&$AZ$2&\",reference:=StartOfSession)=\"&A15&\"\", \"Bar\", \"\", \"Close\",\"5\",\"0\",\"All\",,,\"False\",\"T\",\"EveryTick\"))","v":{"$error":"#N/A"}},null,{"$f":"IF(D15=0,NA(),RTD(\"cqg.rtd\",,\"StudyData\", \"Close(\"&$BB$2&\") When Barix(\"&$BB$2&\",reference:=StartOfSession)=\"&A15&\"\", \"Bar\", \"\", \"Close\",\"5\",\"0\",\"All\",,,\"False\",\"T\",\"EveryTick\"))","v":{"$error":"#N/A"}},null,{"$f":"IF(D15=0,NA(),RTD(\"cqg.rtd\",,\"StudyData\", \"Close(\"&$BD$2&\") When Barix(\"&$BD$2&\",reference:=StartOfSession)=\"&A15&\"\", \"Bar\", \"\", \"Close\",\"5\",\"0\",\"All\",,,\"False\",\"T\",\"EveryTick\"))","v":{"$error":"#N/A"}},null,{"$f":"IF(D15=0,NA(),RTD(\"cqg.rtd\",,\"StudyData\", \"Close(\"&$BF$2&\") When Barix(\"&$BF$2&\",reference:=StartOfSession)=\"&A15&\"\", \"Bar\", \"\", \"Close\",\"5\",\"0\",\"All\",,,\"False\",\"T\",\"EveryTick\"))","v":{"$error":"#N/A"}},null,{"$f":"IF(D15=0,NA(),RTD(\"cqg.rtd\",,\"StudyData\", \"Close(\"&$BH$2&\") When Barix(\"&$BH$2&\",reference:=StartOfSession)=\"&A15&\"\", \"Bar\", \"\", \"Close\",\"5\",\"0\",\"All\",,,\"False\",\"T\",\"EveryTick\"))","v":{"$error":"#N/A"}},null,{"$f":"IF(D15=0,NA(),RTD(\"cqg.rtd\",,\"StudyData\", \"Close(\"&$BJ$2&\") When Barix(\"&$BJ$2&\",reference:=StartOfSession)=\"&A15&\"\", \"Bar\", \"\", \"Close\",\"5\",\"0\",\"All\",,,\"False\",\"T\",\"EveryTick\"))","v":{"$error":"#N/A"}},null,{"$f":"IF(D15=0,NA(),RTD(\"cqg.rtd\",,\"StudyData\", \"Close(\"&$BL$2&\") When Barix(\"&$BL$2&\",reference:=StartOfSession)=\"&A15&\"\", \"Bar\", \"\", \"Close\",\"5\",\"0\",\"All\",,,\"False\",\"T\",\"EveryTick\"))","v":{"$error":"#N/A"}},null,{"$f":"IF(D15=0,NA(),RTD(\"cqg.rtd\",,\"StudyData\", \"Close(\"&$BN$2&\") When Barix(\"&$BN$2&\",reference:=StartOfSession)=\"&A15&\"\", \"Bar\", \"\", \"Close\",\"5\",\"0\",\"All\",,,\"False\",\"T\",\"EveryTick\"))","v":{"$error":"#N/A"}},null,{"$f":"IF(D15=0,NA(),RTD(\"cqg.rtd\",,\"StudyData\", \"Close(\"&$BP$2&\") When Barix(\"&$BP$2&\",reference:=StartOfSession)=\"&A15&\"\", \"Bar\", \"\", \"Close\",\"5\",\"0\",\"All\",,,\"False\",\"T\",\"EveryTick\"))","v":{"$error":"#N/A"}},null,{"$f":"IF(D15=0,NA(),RTD(\"cqg.rtd\",,\"StudyData\", \"Close(\"&$BR$2&\") When Barix(\"&$BR$2&\",reference:=StartOfSession)=\"&A15&\"\", \"Bar\", \"\", \"Close\",\"5\",\"0\",\"All\",,,\"False\",\"T\",\"EveryTick\"))","v":{"$error":"#N/A"}},null,{"$f":"IF(D15=0,NA(),RTD(\"cqg.rtd\",,\"StudyData\", \"Close(\"&$BT$2&\") When Barix(\"&$BT$2&\",reference:=StartOfSession)=\"&A15&\"\", \"Bar\", \"\", \"Close\",\"5\",\"0\",\"All\",,,\"False\",\"T\",\"EveryTick\"))","v":{"$error":"#N/A"}},null,{"$f":"IF(D15=0,NA(),RTD(\"cqg.rtd\",,\"StudyData\", \"Close(\"&$BV$2&\") When Barix(\"&$BV$2&\",reference:=StartOfSession)=\"&A15&\"\", \"Bar\", \"\", \"Close\",\"5\",\"0\",\"All\",,,\"False\",\"T\",\"EveryTick\"))","v":{"$error":"#N/A"}},null,{"$f":"IF(D15=0,NA(),RTD(\"cqg.rtd\",,\"StudyData\", \"Close(\"&$BX$2&\") When Barix(\"&$BX$2&\",reference:=StartOfSession)=\"&A15&\"\", \"Bar\", \"\", \"Close\",\"5\",\"0\",\"All\",,,\"False\",\"T\",\"EveryTick\"))","v":{"$error":"#N/A"}},null,{"$f":"IF(D15=0,NA(),RTD(\"cqg.rtd\",,\"StudyData\", \"Close(\"&$BZ$2&\") When Barix(\"&$BZ$2&\",reference:=StartOfSession)=\"&A15&\"\", \"Bar\", \"\", \"Close\",\"5\",\"0\",\"All\",,,\"False\",\"T\",\"EveryTick\"))","v":{"$error":"#N/A"}}]
[12,{"$f":"IF(D16=0,NA(),RTD(\"cqg.rtd\",,\"StudyData\", \"Close(\"&$B$2&\") When Barix(\"&$B$2&\",reference:=StartOfSession)=\"&A16&\"\", \"Bar\", \"\", \"Close\",\"5\",\"0\",\"All\",,,\"False\",\"T\",\"EveryTick\"))","v":{"$error":"#N/A"}},"09:30:00",0,null,{"$f":"IF(D16=0,NA(),RTD(\"cqg.rtd\",,\"StudyData\", \"Close(\"&$F$2&\") When Barix(\"&$F$2&\",reference:=StartOfSession)=\"&A16&\"\", \"Bar\", \"\", \"Close\",\"5\",\"0\",\"All\",,,\"False\",\"T\",\"EveryTick\"))","v":{"$error":"#N/A"}},null,{"$f":"IF(D16=0,NA(),RTD(\"cqg.rtd\",,\"StudyData\", \"Close(\"&$H$2&\") When Barix(\"&$H$2&\",reference:=StartOfSession)=\"&A16&\"\", \"Bar\", \"\", \"Close\",\"5\",\"0\",\"All\",,,\"False\",\"T\",\"EveryTick\"))","v":{"$error":"#N/A"}},null,{"$f":"IF(D16=0,NA(),RTD(\"cqg.rtd\",,\"StudyData\", \"Close(\"&$J$2&\") When Barix(\"&$J$2&\",reference:=StartOfSession)=\"&A16&\"\", \"Bar\", \"\", \"Close\",\"5\",\"0\",\"All\",,,\"False\",\"T\",\"EveryTick\"))","v":{"$error":"#N/A"}},null,{"$f":"IF(D16=0,NA(),RTD(\"cqg.rtd\",,\"StudyData\", \"Close(\"&$L$2&\") When Barix(\"&$L$2&\",reference:=StartOfSession)=\"&A16&\"\", \"Bar\", \"\", \"Close\",\"5\",\"0\",\"All\",,,\"False\",\"T\",\"EveryTick\"))","v":{"$error":"#N/A"}},null,{"$f":"IF(D16=0,NA(),RTD(\"cqg.rtd\",,\"StudyData\", \"Close(\"&$N$2&\") When Barix(\"&$N$2&\",reference:=StartOfSession)=\"&A16&\"\", \"Bar\", \"\", \"Close\",\"5\",\"0\",\"All\",,,\"False\",\"T\",\"EveryTick\"))","v":{"$error":"#N/A"}},null,{"$f":"IF(D16=0,NA(),RTD(\"cqg.rtd\",,\"StudyData\", \"Close(\"&$P$2&\") When Barix(\"&$P$2&\",reference:=StartOfSession)=\"&A16&\"\", \"Bar\", \"\", \"Close\",\"5\",\"0\",\"All\",,,\"False\",\"T\",\"EveryTick\"))","v":{"$error":"#N/A"}},null,{"$f":"IF(D16=0,NA(),RTD(\"cqg.rtd\",,\"StudyData\", \"Close(\"&$R$2&\") When Barix(\"&$R$2&\",reference:=StartOfSession)=\"&A16&\"\", \"Bar\", \"\", \"Close\",\"5\",\"0\",\"All\",,,\"False\",\"T\",\"EveryTick\"))","v":{"$error":"#N/A"}},null,{"$f":"IF(D16=0,NA(),RTD(\"cqg.rtd\",,\"StudyData\", \"Close(\"&$T$2&\") When Barix(\"&$T$2&\",reference:=StartOfSession)=\"&A16&\"\", \"Bar\", \"\", \"Close\",\"5\",\"0\",\"All\",,,\"False\",\"T\",\"EveryTick\"))","v":{"$error":"#N/A"}},null,{"$f":"IF(D16=0,NA(),RTD(\"cqg.rtd\",,\"StudyData\", \"Close(\"&$V$2&\") When Barix(\"&$V$2&\",reference:=StartOfSession)=\"&A16&\"\", \"Bar\", \"\", \"Close\",\"5\",\"0\",\"All\",,,\"False\",\"T\",\"EveryTick\"))","v":{"$error":"#N/A"}},null,{"$f":"IF(D16=0,NA(),RTD(\"cqg.rtd\",,\"StudyData\", \"Close(\"&$X$2&\") When Barix(\"&$X$2&\",reference:=StartOfSession)=\"&A16&\"\", \"Bar\", \"\", \"Close\",\"5\",\"0\",\"All\",,,\"False\",\"T\",\"EveryTick\"))","v":{"$error":"#N/A"}},null,{"$f":"IF(D16=0,NA(),RTD(\"cqg.rtd\",,\"StudyData\", \"Close(\"&$Z$2&\") When Barix(\"&$Z$2&\",reference:=StartOfSession)=\"&A16&\"\", \"Bar\", \"\", \"Close\",\"5\",\"0\",\"All\",,,\"False\",\"T\",\"EveryTick\"))","v":{"$error":"#N/A"}},null,{"$f":"IF(D16=0,NA(),RTD(\"cqg.rtd\",,\"StudyData\", \"Close(\"&$AB$2&\") When Barix(\"&$AB$2&\",reference:=StartOfSession)=\"&A16&\"\", \"Bar\", \"\", \"Close\",\"5\",\"0\",\"All\",,,\"False\",\"T\",\"EveryTick\"))","v":{"$error":"#N/A"}},null,{"$f":"IF(D16=0,NA(),RTD(\"cqg.rtd\",,\"StudyData\", \"Close(\"&$AD$2&\") When Barix(\"&$AD$2&\",reference:=StartOfSession)=\"&A16&\"\", \"Bar\", \"\", \"Close\",\"5\",\"0\",\"All\",,,\"False\",\"T\",\"EveryTick\"))","v":{"$error":"#N/A"}},null,{"$f":"IF(D16=0,NA(),RTD(\"cqg.rtd\",,\"StudyData\", \"Close(\"&$AF$2&\") When Barix(\"&$AF$2&\",reference:=StartOfSession)=\"&A16&\"\", \"Bar\", \"\", \"Close\",\"5\",\"0\",\"All\",,,\"False\",\"T\",\"EveryTick\"))","v":{"$error":"#N/A"}},null,{"$f":"IF(D16=0,NA(),RTD(\"cqg.rtd\",,\"StudyData\", \"Close(\"&$AH$2&\") When Barix(\"&$AH$2&\",reference:=StartOfSession)=\"&A16&\"\", \"Bar\", \"\", \"Close\",\"5\",\"0\",\"All\",,,\"False\",\"T\",\"EveryTick\"))","v":{"$error":"#N/A"}},null,{"$f":"IF(D16=0,NA(),RTD(\"cqg.rtd\",,\"StudyData\", \"Close(\"&$AJ$2&\") When Barix(\"&$AJ$2&\",reference:=StartOfSession)=\"&A16&\"\", \"Bar\", \"\", \"Close\",\"5\",\"0\",\"All\",,,\"False\",\"T\",\"EveryTick\"))","v":{"$error":"#N/A"}},null,{"$f":"IF(D16=0,NA(),RTD(\"cqg.rtd\",,\"StudyData\", \"Close(\"&$AL$2&\") When Barix(\"&$AL$2&\",reference:=StartOfSession)=\"&A16&\"\", \"Bar\", \"\", \"Close\",\"5\",\"0\",\"All\",,,\"False\",\"T\",\"EveryTick\"))","v":{"$error":"#N/A"}},null,{"$f":"IF(D16=0,NA(),RTD(\"cqg.rtd\",,\"StudyData\", \"Close(\"&$AN$2&\") When Barix(\"&$AN$2&\",reference:=StartOfSession)=\"&A16&\"\", \"Bar\", \"\", \"Close\",\"5\",\"0\",\"All\",,,\"False\",\"T\",\"EveryTick\"))","v":{"$error":"#N/A"}},null,{"$f":"IF(D16=0,NA(),RTD(\"cqg.rtd\",,\"StudyData\", \"Close(\"&$AN$2&\") When Barix(\"&$AN$2&\",reference:=StartOfSession)=\"&A16&\"\", \"Bar\", \"\", \"Close\",\"5\",\"0\",\"All\",,,\"False\",\"T\",\"EveryTick\"))","v":{"$error":"#N/A"}},null,{"$f":"IF(D16=0,NA(),RTD(\"cqg.rtd\",,\"StudyData\", \"Close(\"&$AR$2&\") When Barix(\"&$AR$2&\",reference:=StartOfSession)=\"&A16&\"\", \"Bar\", \"\", \"Close\",\"5\",\"0\",\"All\",,,\"False\",\"T\",\"EveryTick\"))","v":{"$error":"#N/A"}},null,{"$f":"IF(D16=0,NA(),RTD(\"cqg.rtd\",,\"StudyData\", \"Close(\"&$AT$2&\") When Barix(\"&$AT$2&\",reference:=StartOfSession)=\"&A16&\"\", \"Bar\", \"\", \"Close\",\"5\",\"0\",\"All\",,,\"False\",\"T\",\"EveryTick\"))","v":{"$error":"#N/A"}},null,{"$f":"IF(D16=0,NA(),RTD(\"cqg.rtd\",,\"StudyData\", \"Close(\"&$AV$2&\") When Barix(\"&$AV$2&\",reference:=StartOfSession)=\"&A16&\"\", \"Bar\", \"\", \"Close\",\"5\",\"0\",\"All\",,,\"False\",\"T\",\"EveryTick\"))","v":{"$error":"#N/A"}},null,{"$f":"IF(D16=0,NA(),RTD(\"cqg.rtd\",,\"StudyData\", \"Close(\"&$AX$2&\") When Barix(\"&$AX$2&\",reference:=StartOfSession)=\"&A16&\"\", \"Bar\", \"\", \"Close\",\"5\",\"0\",\"All\",,,\"False\",\"T\",\"EveryTick\"))","v":{"$error":"#N/A"}},null,{"$f":"IF(D16=0,NA(),RTD(\"cqg.rtd\",,\"StudyData\", \"Close(\"&$AZ$2&\") When Barix(\"&$AZ$2&\",reference:=StartOfSession)=\"&A16&\"\", \"Bar\", \"\", \"Close\",\"5\",\"0\",\"All\",,,\"False\",\"T\",\"EveryTick\"))","v":{"$error":"#N/A"}},null,{"$f":"IF(D16=0,NA(),RTD(\"cqg.rtd\",,\"StudyData\", \"Close(\"&$BB$2&\") When Barix(\"&$BB$2&\",reference:=StartOfSession)=\"&A16&\"\", \"Bar\", \"\", \"Close\",\"5\",\"0\",\"All\",,,\"False\",\"T\",\"EveryTick\"))","v":{"$error":"#N/A"}},null,{"$f":"IF(D16=0,NA(),RTD(\"cqg.rtd\",,\"StudyData\", \"Close(\"&$BD$2&\") When Barix(\"&$BD$2&\",reference:=StartOfSession)=\"&A16&\"\", \"Bar\", \"\", \"Close\",\"5\",\"0\",\"All\",,,\"False\",\"T\",\"EveryTick\"))","v":{"$error":"#N/A"}},null,{"$f":"IF(D16=0,NA(),RTD(\"cqg.rtd\",,\"StudyData\", \"Close(\"&$BF$2&\") When Barix(\"&$BF$2&\",reference:=StartOfSession)=\"&A16&\"\", \"Bar\", \"\", \"Close\",\"5\",\"0\",\"All\",,,\"False\",\"T\",\"EveryTick\"))","v":{"$error":"#N/A"}},null,{"$f":"IF(D16=0,NA(),RTD(\"cqg.rtd\",,\"StudyData\", \"Close(\"&$BH$2&\") When Barix(\"&$BH$2&\",reference:=StartOfSession)=\"&A16&\"\", \"Bar\", \"\", \"Close\",\"5\",\"0\",\"All\",,,\"False\",\"T\",\"EveryTick\"))","v":{"$error":"#N/A"}},null,{"$f":"IF(D16=0,NA(),RTD(\"cqg.rtd\",,\"StudyData\", \"Close(\"&$BJ$2&\") When Barix(\"&$BJ$2&\",reference:=StartOfSession)=\"&A16&\"\", \"Bar\", \"\", \"Close\",\"5\",\"0\",\"All\",,,\"False\",\"T\",\"EveryTick\"))","v":{"$error":"#N/A"}},null,{"$f":"IF(D16=0,NA(),RTD(\"cqg.rtd\",,\"StudyData\", \"Close(\"&$BL$2&\") When Barix(\"&$BL$2&\",reference:=StartOfSession)=\"&A16&\"\", \"Bar\", \"\", \"Close\",\"5\",\"0\",\"All\",,,\"False\",\"T\",\"EveryTick\"))","v":{"$error":"#N/A"}},null,{"$f":"IF(D16=0,NA(),RTD(\"cqg.rtd\",,\"StudyData\", \"Close(\"&$BN$2&\") When Barix(\"&$BN$2&\",reference:=StartOfSession)=\"&A16&\"\", \"Bar\", \"\", \"Close\",\"5\",\"0\",\"All\",,,\"False\",\"T\",\"EveryTick\"))","v":{"$error":"#N/A"}},null,{"$f":"IF(D16=0,NA(),RTD(\"cqg.rtd\",,\"StudyData\", \"Close(\"&$BP$2&\") When Barix(\"&$BP$2&\",reference:=StartOfSession)=\"&A16&\"\", \"Bar\", \"\", \"Close\",\"5\",\"0\",\"All\",,,\"False\",\"T\",\"EveryTick\"))","v":{"$error":"#N/A"}},null,{"$f":"IF(D16=0,NA(),RTD(\"cqg.rtd\",,\"StudyData\", \"Close(\"&$BR$2&\") When Barix(\"&$BR$2&\",reference:=StartOfSession)=\"&A16&\"\", \"Bar\", \"\", \"Close\",\"5\",\"0\",\"All\",,,\"False\",\"T\",\"EveryTick\"))","v":{"$error":"#N/A"}},null,{"$f":"IF(D16=0,NA(),RTD(\"cqg.rtd\",,\"StudyData\", \"Close(\"&$BT$2&\") When Barix(\"&$BT$2&\",reference:=StartOfSession)=\"&A16&\"\", \"Bar\", \"\", \"Close\",\"5\",\"0\",\"All\",,,\"False\",\"T\",\"EveryTick\"))","v":{"$error":"#N/A"}},null,{"$f":"IF(D16=0,NA(),RTD(\"cqg.rtd\",,\"StudyData\", \"Close(\"&$BV$2&\") When Barix(\"&$BV$2&\",reference:=StartOfSession)=\"&A16&\"\", \"Bar\", \"\", \"Close\",\"5\",\"0\",\"All\",,,\"False\",\"T\",\"EveryTick\"))","v":{"$error":"#N/A"}},null,{"$f":"IF(D16=0,NA(),RTD(\"cqg.rtd\",,\"StudyData\", \"Close(\"&$BX$2&\") When Barix(\"&$BX$2&\",reference:=StartOfSession)=\"&A16&\"\", \"Bar\", \"\", \"Close\",\"5\",\"0\",\"All\",,,\"False\",\"T\",\"EveryTick\"))","v":{"$error":"#N/A"}},null,{"$f":"IF(D16=0,NA(),RTD(\"cqg.rtd\",,\"StudyData\", \"Close(\"&$BZ$2&\") When Barix(\"&$BZ$2&\",reference:=StartOfSession)=\"&A16&\"\", \"Bar\", \"\", \"Close\",\"5\",\"0\",\"All\",,,\"False\",\"T\",\"EveryTick\"))","v":{"$error":"#N/A"}}]
[13,{"$f":"IF(D17=0,NA(),RTD(\"cqg.rtd\",,\"StudyData\", \"Close(\"&$B$2&\") When Barix(\"&$B$2&\",reference:=StartOfSession)=\"&A17&\"\", \"Bar\", \"\", \"Close\",\"5\",\"0\",\"All\",,,\"False\",\"T\",\"EveryTick\"))","v":{"$error":"#N/A"}},"09:35:00",0,null,{"$f":"IF(D17=0,NA(),RTD(\"cqg.rtd\",,\"StudyData\", \"Close(\"&$F$2&\") When Barix(\"&$F$2&\",reference:=StartOfSession)=\"&A17&\"\", \"Bar\", \"\", \"Close\",\"5\",\"0\",\"All\",,,\"False\",\"T\",\"EveryTick\"))","v":{"$error":"#N/A"}},null,{"$f":"IF(D17=0,NA(),RTD(\"cqg.rtd\",,\"StudyData\", \"Close(\"&$H$2&\") When Barix(\"&$H$2&\",reference:=StartOfSession)=\"&A17&\"\", \"Bar\", \"\", \"Close\",\"5\",\"0\",\"All\",,,\"False\",\"T\",\"EveryTick\"))","v":{"$error":"#N/A"}},null,{"$f":"IF(D17=0,NA(),RTD(\"cqg.rtd\",,\"StudyData\", \"Close(\"&$J$2&\") When Barix(\"&$J$2&\",reference:=StartOfSession)=\"&A17&\"\", \"Bar\", \"\", \"Close\",\"5\",\"0\",\"All\",,,\"False\",\"T\",\"EveryTick\"))","v":{"$error":"#N/A"}},null,{"$f":"IF(D17=0,NA(),RTD(\"cqg.rtd\",,\"StudyData\", \"Close(\"&$L$2&\") When Barix(\"&$L$2&\",reference:=StartOfSession)=\"&A17&\"\", \"Bar\", \"\", \"Close\",\"5\",\"0\",\"All\",,,\"False\",\"T\",\"EveryTick\"))","v":{"$error":"#N/A"}},null,{"$f":"IF(D17=0,NA(),RTD(\"cqg.rtd\",,\"StudyData\", \"Close(\"&$N$2&\") When Barix(\"&$N$2&\",reference:=StartOfSession)=\"&A17&\"\", \"Bar\", \"\", \"Close\",\"5\",\"0\",\"All\",,,\"False\",\"T\",\"EveryTick\"))","v":{"$error":"#N/A"}},null,{"$f":"IF(D17=0,NA(),RTD(\"cqg.rtd\",,\"StudyData\", \"Close(\"&$P$2&\") When Barix(\"&$P$2&\",reference:=StartOfSession)=\"&A17&\"\", \"Bar\", \"\", \"Close\",\"5\",\"0\",\"All\",,,\"False\",\"T\",\"EveryTick\"))","v":{"$error":"#N/A"}},null,{"$f":"IF(D17=0,NA(),RTD(\"cqg.rtd\",,\"StudyData\", \"Close(\"&$R$2&\") When Barix(\"&$R$2&\",reference:=StartOfSession)=\"&A17&\"\", \"Bar\", \"\", \"Close\",\"5\",\"0\",\"All\",,,\"False\",\"T\",\"EveryTick\"))","v":{"$error":"#N/A"}},null,{"$f":"IF(D17=0,NA(),RTD(\"cqg.rtd\",,\"StudyData\", \"Close(\"&$T$2&\") When Barix(\"&$T$2&\",reference:=StartOfSession)=\"&A17&\"\", \"Bar\", \"\", \"Close\",\"5\",\"0\",\"All\",,,\"False\",\"T\",\"EveryTick\"))","v":{"$error":"#N/A"}},null,{"$f":"IF(D17=0,NA(),RTD(\"cqg.rtd\",,\"StudyData\", \"Close(\"&$V$2&\") When Barix(\"&$V$2&\",reference:=StartOfSession)=\"&A17&\"\", \"Bar\", \"\", \"Close\",\"5\",\"0\",\"All\",,,\"False\",\"T\",\"EveryTick\"))","v":{"$error":"#N/A"}},null,{"$f":"IF(D17=0,NA(),RTD(\"cqg.rtd\",,\"StudyData\", \"Close(\"&$X$2&\") When Barix(\"&$X$2&\",reference:=StartOfSession)=\"&A17&\"\", \"Bar\", \"\", \"Close\",\"5\",\"0\",\"All\",,,\"False\",\"T\",\"EveryTick\"))","v":{"$error":"#N/A"}},null,{"$f":"IF(D17=0,NA(),RTD(\"cqg.rtd\",,\"StudyData\", \"Close(\"&$Z$2&\") When Barix(\"&$Z$2&\",reference:=StartOfSession)=\"&A17&\"\", \"Bar\", \"\", \"Close\",\"5\",\"0\",\"All\",,,\"False\",\"T\",\"EveryTick\"))","v":{"$error":"#N/A"}},null,{"$f":"IF(D17=0,NA(),RTD(\"cqg.rtd\",,\"StudyData\", \"Close(\"&$AB$2&\") When Barix(\"&$AB$2&\",reference:=StartOfSession)=\"&A17&\"\", \"Bar\", \"\", \"Close\",\"5\",\"0\",\"All\",,,\"False\",\"T\",\"EveryTick\"))","v":{"$error":"#N/A"}},null,{"$f":"IF(D17=0,NA(),RTD(\"cqg.rtd\",,\"StudyData\", \"Close(\"&$AD$2&\") When Barix(\"&$AD$2&\",reference:=StartOfSession)=\"&A17&\"\", \"Bar\", \"\", \"Close\",\"5\",\"0\",\"All\",,,\"False\",\"T\",\"EveryTick\"))","v":{"$error":"#N/A"}},null,{"$f":"IF(D17=0,NA(),RTD(\"cqg.rtd\",,\"StudyData\", \"Close(\"&$AF$2&\") When Barix(\"&$AF$2&\",reference:=StartOfSession)=\"&A17&\"\", \"Bar\", \"\", \"Close\",\"5\",\"0\",\"All\",,,\"False\",\"T\",\"EveryTick\"))","v":{"$error":"#N/A"}},null,{"$f":"IF(D17=0,NA(),RTD(\"cqg.rtd\",,\"StudyData\", \"Close(\"&$AH$2&\") When Barix(\"&$AH$2&\",reference:=StartOfSession)=\"&A17&\"\", \"Bar\", \"\", \"Close\",\"5\",\"0\",\"All\",,,\"False\",\"T\",\"EveryTick\"))","v":{"$error":"#N/A"}},null,{"$f":"IF(D17=0,NA(),RTD(\"cqg.rtd\",,\"StudyData\", \"Close(\"&$AJ$2&\") When Barix(\"&$AJ$2&\",reference:=StartOfSession)=\"&A17&\"\", \"Bar\", \"\", \"Close\",\"5\",\"0\",\"All\",,,\"False\",\"T\",\"EveryTick\"))","v":{"$error":"#N/A"}},null,{"$f":"IF(D17=0,NA(),RTD(\"cqg.rtd\",,\"StudyData\", \"Close(\"&$AL$2&\") When Barix(\"&$AL$2&\",reference:=StartOfSession)=\"&A17&\"\", \"Bar\", \"\", \"Close\",\"5\",\"0\",\"All\",,,\"False\",\"T\",\"EveryTick\"))","v":{"$error":"#N/A"}},null,{"$f":"IF(D17=0,NA(),RTD(\"cqg.rtd\",,\"StudyData\", \"Close(\"&$AN$2&\") When Barix(\"&$AN$2&\",reference:=StartOfSession)=\"&A17&\"\", \"Bar\", \"\", \"Close\",\"5\",\"0\",\"All\",,,\"False\",\"T\",\"EveryTick\"))","v":{"$error":"#N/A"}},null,{"$f":"IF(D17=0,NA(),RTD(\"cqg.rtd\",,\"StudyData\", \"Close(\"&$AN$2&\") When Barix(\"&$AN$2&\",reference:=StartOfSession)=\"&A17&\"\", \"Bar\", \"\", \"Close\",\"5\",\"0\",\"All\",,,\"False\",\"T\",\"EveryTick\"))","v":{"$error":"#N/A"}},null,{"$f":"IF(D17=0,NA(),RTD(\"cqg.rtd\",,\"StudyData\", \"Close(\"&$AR$2&\") When Barix(\"&$AR$2&\",reference:=StartOfSession)=\"&A17&\"\", \"Bar\", \"\", \"Close\",\"5\",\"0\",\"All\",,,\"False\",\"T\",\"EveryTick\"))","v":{"$error":"#N/A"}},null,{"$f":"IF(D17=0,NA(),RTD(\"cqg.rtd\",,\"StudyData\", \"Close(\"&$AT$2&\") When Barix(\"&$AT$2&\",reference:=StartOfSession)=\"&A17&\"\", \"Bar\", \"\", \"Close\",\"5\",\"0\",\"All\",,,\"False\",\"T\",\"EveryTick\"))","v":{"$error":"#N/A"}},null,{"$f":"IF(D17=0,NA(),RTD(\"cqg.rtd\",,\"StudyData\", \"Close(\"&$AV$2&\") When Barix(\"&$AV$2&\",reference:=StartOfSession)=\"&A17&\"\", \"Bar\", \"\", \"Close\",\"5\",\"0\",\"All\",,,\"False\",\"T\",\"EveryTick\"))","v":{"$error":"#N/A"}},null,{"$f":"IF(D17=0,NA(),RTD(\"cqg.rtd\",,\"StudyData\", \"Close(\"&$AX$2&\") When Barix(\"&$AX$2&\",reference:=StartOfSession)=\"&A17&\"\", \"Bar\", \"\", \"Close\",\"5\",\"0\",\"All\",,,\"False\",\"T\",\"EveryTick\"))","v":{"$error":"#N/A"}},null,{"$f":"IF(D17=0,NA(),RTD(\"cqg.rtd\",,\"StudyData\", \"Close(\"&$AZ$2&\") When Barix(\"&$AZ$2&\",reference:=StartOfSession)=\"&A17&\"\", \"Bar\", \"\", \"Close\",\"5\",\"0\",\"All\",,,\"False\",\"T\",\"EveryTick\"))","v":{"$error":"#N/A"}},null,{"$f":"IF(D17=0,NA(),RTD(\"cqg.rtd\",,\"StudyData\", \"Close(\"&$BB$2&\") When Barix(\"&$BB$2&\",reference:=StartOfSession)=\"&A17&\"\", \"Bar\", \"\", \"Close\",\"5\",\"0\",\"All\",,,\"False\",\"T\",\"EveryTick\"))","v":{"$error":"#N/A"}},null,{"$f":"IF(D17=0,NA(),RTD(\"cqg.rtd\",,\"StudyData\", \"Close(\"&$BD$2&\") When Barix(\"&$BD$2&\",reference:=StartOfSession)=\"&A17&\"\", \"Bar\", \"\", \"Close\",\"5\",\"0\",\"All\",,,\"False\",\"T\",\"EveryTick\"))","v":{"$error":"#N/A"}},null,{"$f":"IF(D17=0,NA(),RTD(\"cqg.rtd\",,\"StudyData\", \"Close(\"&$BF$2&\") When Barix(\"&$BF$2&\",reference:=StartOfSession)=\"&A17&\"\", \"Bar\", \"\", \"Close\",\"5\",\"0\",\"All\",,,\"False\",\"T\",\"EveryTick\"))","v":{"$error":"#N/A"}},null,{"$f":"IF(D17=0,NA(),RTD(\"cqg.rtd\",,\"StudyData\", \"Close(\"&$BH$2&\") When Barix(\"&$BH$2&\",reference:=StartOfSession)=\"&A17&\"\", \"Bar\", \"\", \"Close\",\"5\",\"0\",\"All\",,,\"False\",\"T\",\"EveryTick\"))","v":{"$error":"#N/A"}},null,{"$f":"IF(D17=0,NA(),RTD(\"cqg.rtd\",,\"StudyData\", \"Close(\"&$BJ$2&\") When Barix(\"&$BJ$2&\",reference:=StartOfSession)=\"&A17&\"\", \"Bar\", \"\", \"Close\",\"5\",\"0\",\"All\",,,\"False\",\"T\",\"EveryTick\"))","v":{"$error":"#N/A"}},null,{"$f":"IF(D17=0,NA(),RTD(\"cqg.rtd\",,\"StudyData\", \"Close(\"&$BL$2&\") When Barix(\"&$BL$2&\",reference:=StartOfSession)=\"&A17&\"\", \"Bar\", \"\", \"Close\",\"5\",\"0\",\"All\",,,\"False\",\"T\",\"EveryTick\"))","v":{"$error":"#N/A"}},null,{"$f":"IF(D17=0,NA(),RTD(\"cqg.rtd\",,\"StudyData\", \"Close(\"&$BN$2&\") When Barix(\"&$BN$2&\",reference:=StartOfSession)=\"&A17&\"\", \"Bar\", \"\", \"Close\",\"5\",\"0\",\"All\",,,\"False\",\"T\",\"EveryTick\"))","v":{"$error":"#N/A"}},null,{"$f":"IF(D17=0,NA(),RTD(\"cqg.rtd\",,\"StudyData\", \"Close(\"&$BP$2&\") When Barix(\"&$BP$2&\",reference:=StartOfSession)=\"&A17&\"\", \"Bar\", \"\", \"Close\",\"5\",\"0\",\"All\",,,\"False\",\"T\",\"EveryTick\"))","v":{"$error":"#N/A"}},null,{"$f":"IF(D17=0,NA(),RTD(\"cqg.rtd\",,\"StudyData\", \"Close(\"&$BR$2&\") When Barix(\"&$BR$2&\",reference:=StartOfSession)=\"&A17&\"\", \"Bar\", \"\", \"Close\",\"5\",\"0\",\"All\",,,\"False\",\"T\",\"EveryTick\"))","v":{"$error":"#N/A"}},null,{"$f":"IF(D17=0,NA(),RTD(\"cqg.rtd\",,\"StudyData\", \"Close(\"&$BT$2&\") When Barix(\"&$BT$2&\",reference:=StartOfSession)=\"&A17&\"\", \"Bar\", \"\", \"Close\",\"5\",\"0\",\"All\",,,\"False\",\"T\",\"EveryTick\"))","v":{"$error":"#N/A"}},null,{"$f":"IF(D17=0,NA(),RTD(\"cqg.rtd\",,\"StudyData\", \"Close(\"&$BV$2&\") When Barix(\"&$BV$2&\",reference:=StartOfSession)=\"&A17&\"\", \"Bar\", \"\", \"Close\",\"5\",\"0\",\"All\",,,\"False\",\"T\",\"EveryTick\"))","v":{"$error":"#N/A"}},null,{"$f":"IF(D17=0,NA(),RTD(\"cqg.rtd\",,\"StudyData\", \"Close(\"&$BX$2&\") When Barix(\"&$BX$2&\",reference:=StartOfSession)=\"&A17&\"\", \"Bar\", \"\", \"Close\",\"5\",\"0\",\"All\",,,\"False\",\"T\",\"EveryTick\"))","v":{"$error":"#N/A"}},null,{"$f":"IF(D17=0,NA(),RTD(\"cqg.rtd\",,\"StudyData\", \"Close(\"&$BZ$2&\") When Barix(\"&$BZ$2&\",reference:=StartOfSession)=\"&A17&\"\", \"Bar\", \"\", \"Close\",\"5\",\"0\",\"All\",,,\"False\",\"T\",\"EveryTick\"))","v":{"$error":"#N/A"}}]
[14,{"$f":"IF(D18=0,NA(),RTD(\"cqg.rtd\",,\"StudyData\", \"Close(\"&$B$2&\") When Barix(\"&$B$2&\",reference:=StartOfSession)=\"&A18&\"\", \"Bar\", \"\", \"Close\",\"5\",\"0\",\"All\",,,\"False\",\"T\",\"EveryTick\"))","v":{"$error":"#N/A"}},"09:40:00",0,null,{"$f":"IF(D18=0,NA(),RTD(\"cqg.rtd\",,\"StudyData\", \"Close(\"&$F$2&\") When Barix(\"&$F$2&\",reference:=StartOfSession)=\"&A18&\"\", \"Bar\", \"\", \"Close\",\"5\",\"0\",\"All\",,,\"False\",\"T\",\"EveryTick\"))","v":{"$error":"#N/A"}},null,{"$f":"IF(D18=0,NA(),RTD(\"cqg.rtd\",,\"StudyData\", \"Close(\"&$H$2&\") When Barix(\"&$H$2&\",reference:=StartOfSession)=\"&A18&\"\", \"Bar\", \"\", \"Close\",\"5\",\"0\",\"All\",,,\"False\",\"T\",\"EveryTick\"))","v":{"$error":"#N/A"}},null,{"$f":"IF(D18=0,NA(),RTD(\"cqg.rtd\",,\"StudyData\", \"Close(\"&$J$2&\") When Barix(\"&$J$2&\",reference:=StartOfSession)=\"&A18&\"\", \"Bar\", \"\", \"Close\",\"5\",\"0\",\"All\",,,\"False\",\"T\",\"EveryTick\"))","v":{"$error":"#N/A"}},null,{"$f":"IF(D18=0,NA(),RTD(\"cqg.rtd\",,\"StudyData\", \"Close(\"&$L$2&\") When Barix(\"&$L$2&\",reference:=StartOfSession)=\"&A18&\"\", \"Bar\", \"\", \"Close\",\"5\",\"0\",\"All\",,,\"False\",\"T\",\"EveryTick\"))","v":{"$error":"#N/A"}},null,{"$f":"IF(D18=0,NA(),RTD(\"cqg.rtd\",,\"StudyData\", \"Close(\"&$N$2&\") When Barix(\"&$N$2&\",reference:=StartOfSession)=\"&A18&\"\", \"Bar\", \"\", \"Close\",\"5\",\"0\",\"All\",,,\"False\",\"T\",\"EveryTick\"))","v":{"$error":"#N/A"}},null,{"$f":"IF(D18=0,NA(),RTD(\"cqg.rtd\",,\"StudyData\", \"Close(\"&$P$2&\") When Barix(\"&$P$2&\",reference:=StartOfSession)=\"&A18&\"\", \"Bar\", \"\", \"Close\",\"5\",\"0\",\"All\",,,\"False\",\"T\",\"EveryTick\"))","v":{"$error":"#N/A"}},null,{"$f":"IF(D18=0,NA(),RTD(\"cqg.rtd\",,\"StudyData\", \"Close(\"&$R$2&\") When Barix(\"&$R$2&\",reference:=StartOfSession)=\"&A18&\"\", \"Bar\", \"\", \"Close\",\"5\",\"0\",\"All\",,,\"False\",\"T\",\"EveryTick\"))","v":{"$error":"#N/A"}},null,{"$f":"IF(D18=0,NA(),RTD(\"cqg.rtd\",,\"StudyData\", \"Close(\"&$T$2&\") When Barix(\"&$T$2&\",reference:=StartOfSession)=\"&A18&\"\", \"Bar\", \"\", \"Close\",\"5\",\"0\",\"All\",,,\"False\",\"T\",\"EveryTick\"))","v":{"$error":"#N/A"}},null,{"$f":"IF(D18=0,NA(),RTD(\"cqg.rtd\",,\"StudyData\", \"Close(\"&$V$2&\") When Barix(\"&$V$2&\",reference:=StartOfSession)=\"&A18&\"\", \"Bar\", \"\", \"Close\",\"5\",\"0\",\"All\",,,\"False\",\"T\",\"EveryTick\"))","v":{"$error":"#N/A"}},null,{"$f":"IF(D18=0,NA(),RTD(\"cqg.rtd\",,\"StudyData\", \"Close(\"&$X$2&\") When Barix(\"&$X$2&\",reference:=StartOfSession)=\"&A18&\"\", \"Bar\", \"\", \"Close\",\"5\",\"0\",\"All\",,,\"False\",\"T\",\"EveryTick\"))","v":{"$error":"#N/A"}},null,{"$f":"IF(D18=0,NA(),RTD(\"cqg.rtd\",,\"StudyData\", \"Close(\"&$Z$2&\") When Barix(\"&$Z$2&\",reference:=StartOfSession)=\"&A18&\"\", \"Bar\", \"\", \"Close\",\"5\",\"0\",\"All\",,,\"False\",\"T\",\"EveryTick\"))","v":{"$error":"#N/A"}},null,{"$f":"IF(D18=0,NA(),RTD(\"cqg.rtd\",,\"StudyData\", \"Close(\"&$AB$2&\") When Barix(\"&$AB$2&\",reference:=StartOfSession)=\"&A18&\"\", \"Bar\", \"\", \"Close\",\"5\",\"0\",\"All\",,,\"False\",\"T\",\"EveryTick\"))","v":{"$error":"#N/A"}},null,{"$f":"IF(D18=0,NA(),RTD(\"cqg.rtd\",,\"StudyData\", \"Close(\"&$AD$2&\") When Barix(\"&$AD$2&\",reference:=StartOfSession)=\"&A18&\"\", \"Bar\", \"\", \"Close\",\"5\",\"0\",\"All\",,,\"False\",\"T\",\"EveryTick\"))","v":{"$error":"#N/A"}},null,{"$f":"IF(D18=0,NA(),RTD(\"cqg.rtd\",,\"StudyData\", \"Close(\"&$AF$2&\") When Barix(\"&$AF$2&\",reference:=StartOfSession)=\"&A18&\"\", \"Bar\", \"\", \"Close\",\"5\",\"0\",\"All\",,,\"False\",\"T\",\"EveryTick\"))","v":{"$error":"#N/A"}},null,{"$f":"IF(D18=0,NA(),RTD(\"cqg.rtd\",,\"StudyData\", \"Close(\"&$AH$2&\") When Barix(\"&$AH$2&\",reference:=StartOfSession)=\"&A18&\"\", \"Bar\", \"\", \"Close\",\"5\",\"0\",\"All\",,,\"False\",\"T\",\"EveryTick\"))","v":{"$error":"#N/A"}},null,{"$f":"IF(D18=0,NA(),RTD(\"cqg.rtd\",,\"StudyData\", \"Close(\"&$AJ$2&\") When Barix(\"&$AJ$2&\",reference:=StartOfSession)=\"&A18&\"\", \"Bar\", \"\", \"Close\",\"5\",\"0\",\"All\",,,\"False\",\"T\",\"EveryTick\"))","v":{"$error":"#N/A"}},null,{"$f":"IF(D18=0,NA(),RTD(\"cqg.rtd\",,\"StudyData\", \"Close(\"&$AL$2&\") When Barix(\"&$AL$2&\",reference:=StartOfSession)=\"&A18&\"\", \"Bar\", \"\", \"Close\",\"5\",\"0\",\"All\",,,\"False\",\"T\",\"EveryTick\"))","v":{"$error":"#N/A"}},null,{"$f":"IF(D18=0,NA(),RTD(\"cqg.rtd\",,\"StudyData\", \"Close(\"&$AN$2&\") When Barix(\"&$AN$2&\",reference:=StartOfSession)=\"&A18&\"\", \"Bar\", \"\", \"Close\",\"5\",\"0\",\"All\",,,\"False\",\"T\",\"EveryTick\"))","v":{"$error":"#N/A"}},null,{"$f":"IF(D18=0,NA(),RTD(\"cqg.rtd\",,\"StudyData\", \"Close(\"&$AN$2&\") When Barix(\"&$AN$2&\",reference:=StartOfSession)=\"&A18&\"\", \"Bar\", \"\", \"Close\",\"5\",\"0\",\"All\",,,\"False\",\"T\",\"EveryTick\"))","v":{"$error":"#N/A"}},null,{"$f":"IF(D18=0,NA(),RTD(\"cqg.rtd\",,\"StudyData\", \"Close(\"&$AR$2&\") When Barix(\"&$AR$2&\",reference:=StartOfSession)=\"&A18&\"\", \"Bar\", \"\", \"Close\",\"5\",\"0\",\"All\",,,\"False\",\"T\",\"EveryTick\"))","v":{"$error":"#N/A"}},null,{"$f":"IF(D18=0,NA(),RTD(\"cqg.rtd\",,\"StudyData\", \"Close(\"&$AT$2&\") When Barix(\"&$AT$2&\",reference:=StartOfSession)=\"&A18&\"\", \"Bar\", \"\", \"Close\",\"5\",\"0\",\"All\",,,\"False\",\"T\",\"EveryTick\"))","v":{"$error":"#N/A"}},null,{"$f":"IF(D18=0,NA(),RTD(\"cqg.rtd\",,\"StudyData\", \"Close(\"&$AV$2&\") When Barix(\"&$AV$2&\",reference:=StartOfSession)=\"&A18&\"\", \"Bar\", \"\", \"Close\",\"5\",\"0\",\"All\",,,\"False\",\"T\",\"EveryTick\"))","v":{"$error":"#N/A"}},null,{"$f":"IF(D18=0,NA(),RTD(\"cqg.rtd\",,\"StudyData\", \"Close(\"&$AX$2&\") When Barix(\"&$AX$2&\",reference:=StartOfSession)=\"&A18&\"\", \"Bar\", \"\", \"Close\",\"5\",\"0\",\"All\",,,\"False\",\"T\",\"EveryTick\"))","v":{"$error":"#N/A"}},null,{"$f":"IF(D18=0,NA(),RTD(\"cqg.rtd\",,\"StudyData\", \"Close(\"&$AZ$2&\") When Barix(\"&$AZ$2&\",reference:=StartOfSession)=\"&A18&\"\", \"Bar\", \"\", \"Close\",\"5\",\"0\",\"All\",,,\"False\",\"T\",\"EveryTick\"))","v":{"$error":"#N/A"}},null,{"$f":"IF(D18=0,NA(),RTD(\"cqg.rtd\",,\"StudyData\", \"Close(\"&$BB$2&\") When Barix(\"&$BB$2&\",reference:=StartOfSession)=\"&A18&\"\", \"Bar\", \"\", \"Close\",\"5\",\"0\",\"All\",,,\"False\",\"T\",\"EveryTick\"))","v":{"$error":"#N/A"}},null,{"$f":"IF(D18=0,NA(),RTD(\"cqg.rtd\",,\"StudyData\", \"Close(\"&$BD$2&\") When Barix(\"&$BD$2&\",reference:=StartOfSession)=\"&A18&\"\", \"Bar\", \"\", \"Close\",\"5\",\"0\",\"All\",,,\"False\",\"T\",\"EveryTick\"))","v":{"$error":"#N/A"}},null,{"$f":"IF(D18=0,NA(),RTD(\"cqg.rtd\",,\"StudyData\", \"Close(\"&$BF$2&\") When Barix(\"&$BF$2&\",reference:=StartOfSession)=\"&A18&\"\", \"Bar\", \"\", \"Close\",\"5\",\"0\",\"All\",,,\"False\",\"T\",\"EveryTick\"))","v":{"$error":"#N/A"}},null,{"$f":"IF(D18=0,NA(),RTD(\"cqg.rtd\",,\"StudyData\", \"Close(\"&$BH$2&\") When Barix(\"&$BH$2&\",reference:=StartOfSession)=\"&A18&\"\", \"Bar\", \"\", \"Close\",\"5\",\"0\",\"All\",,,\"False\",\"T\",\"EveryTick\"))","v":{"$error":"#N/A"}},null,{"$f":"IF(D18=0,NA(),RTD(\"cqg.rtd\",,\"StudyData\", \"Close(\"&$BJ$2&\") When Barix(\"&$BJ$2&\",reference:=StartOfSession)=\"&A18&\"\", \"Bar\", \"\", \"Close\",\"5\",\"0\",\"All\",,,\"False\",\"T\",\"EveryTick\"))","v":{"$error":"#N/A"}},null,{"$f":"IF(D18=0,NA(),RTD(\"cqg.rtd\",,\"StudyData\", \"Close(\"&$BL$2&\") When Barix(\"&$BL$2&\",reference:=StartOfSession)=\"&A18&\"\", \"Bar\", \"\", \"Close\",\"5\",\"0\",\"All\",,,\"False\",\"T\",\"EveryTick\"))","v":{"$error":"#N/A"}},null,{"$f":"IF(D18=0,NA(),RTD(\"cqg.rtd\",,\"StudyData\", \"Close(\"&$BN$2&\") When Barix(\"&$BN$2&\",reference:=StartOfSession)=\"&A18&\"\", \"Bar\", \"\", \"Close\",\"5\",\"0\",\"All\",,,\"False\",\"T\",\"EveryTick\"))","v":{"$error":"#N/A"}},null,{"$f":"IF(D18=0,NA(),RTD(\"cqg.rtd\",,\"StudyData\", \"Close(\"&$BP$2&\") When Barix(\"&$BP$2&\",reference:=StartOfSession)=\"&A18&\"\", \"Bar\", \"\", \"Close\",\"5\",\"0\",\"All\",,,\"False\",\"T\",\"EveryTick\"))","v":{"$error":"#N/A"}},null,{"$f":"IF(D18=0,NA(),RTD(\"cqg.rtd\",,\"StudyData\", \"Close(\"&$BR$2&\") When Barix(\"&$BR$2&\",reference:=StartOfSession)=\"&A18&\"\", \"Bar\", \"\", \"Close\",\"5\",\"0\",\"All\",,,\"False\",\"T\",\"EveryTick\"))","v":{"$error":"#N/A"}},null,{"$f":"IF(D18=0,NA(),RTD(\"cqg.rtd\",,\"StudyData\", \"Close(\"&$BT$2&\") When Barix(\"&$BT$2&\",reference:=StartOfSession)=\"&A18&\"\", \"Bar\", \"\", \"Close\",\"5\",\"0\",\"All\",,,\"False\",\"T\",\"EveryTick\"))","v":{"$error":"#N/A"}},null,{"$f":"IF(D18=0,NA(),RTD(\"cqg.rtd\",,\"StudyData\", \"Close(\"&$BV$2&\") When Barix(\"&$BV$2&\",reference:=StartOfSession)=\"&A18&\"\", \"Bar\", \"\", \"Close\",\"5\",\"0\",\"All\",,,\"False\",\"T\",\"EveryTick\"))","v":{"$error":"#N/A"}},null,{"$f":"IF(D18=0,NA(),RTD(\"cqg.rtd\",,\"StudyData\", \"Close(\"&$BX$2&\") When Barix(\"&$BX$2&\",reference:=StartOfSession)=\"&A18&\"\", \"Bar\", \"\", \"Close\",\"5\",\"0\",\"All\",,,\"False\",\"T\",\"EveryTick\"))","v":{"$error":"#N/A"}},null,{"$f":"IF(D18=0,NA(),RTD(\"cqg.rtd\",,\"StudyData\", \"Close(\"&$BZ$2&\") When Barix(\"&$BZ$2&\",reference:=StartOfSession)=\"&A18&\"\", \"Bar\", \"\", \"Close\",\"5\",\"0\",\"All\",,,\"False\",\"T\",\"EveryTick\"))","v":{"$error":"#N/A"}}]
[15,{"$f":"IF(D19=0,NA(),RTD(\"cqg.rtd\",,\"StudyData\", \"Close(\"&$B$2&\") When Barix(\"&$B$2&\",reference:=StartOfSession)=\"&A19&\"\", \"Bar\", \"\", \"Close\",\"5\",\"0\",\"All\",,,\"False\",\"T\",\"EveryTick\"))","v":{"$error":"#N/A"}},"09:45:00",0,null,{"$f":"IF(D19=0,NA(),RTD(\"cqg.rtd\",,\"StudyData\", \"Close(\"&$F$2&\") When Barix(\"&$F$2&\",reference:=StartOfSession)=\"&A19&\"\", \"Bar\", \"\", \"Close\",\"5\",\"0\",\"All\",,,\"False\",\"T\",\"EveryTick\"))","v":{"$error":"#N/A"}},null,{"$f":"IF(D19=0,NA(),RTD(\"cqg.rtd\",,\"StudyData\", \"Close(\"&$H$2&\") When Barix(\"&$H$2&\",reference:=StartOfSession)=\"&A19&\"\", \"Bar\", \"\", \"Close\",\"5\",\"0\",\"All\",,,\"False\",\"T\",\"EveryTick\"))","v":{"$error":"#N/A"}},null,{"$f":"IF(D19=0,NA(),RTD(\"cqg.rtd\",,\"StudyData\", \"Close(\"&$J$2&\") When Barix(\"&$J$2&\",reference:=StartOfSession)=\"&A19&\"\", \"Bar\", \"\", \"Close\",\"5\",\"0\",\"All\",,,\"False\",\"T\",\"EveryTick\"))","v":{"$error":"#N/A"}},null,{"$f":"IF(D19=0,NA(),RTD(\"cqg.rtd\",,\"StudyData\", \"Close(\"&$L$2&\") When Barix(\"&$L$2&\",reference:=StartOfSession)=\"&A19&\"\", \"Bar\", \"\", \"Close\",\"5\",\"0\",\"All\",,,\"False\",\"T\",\"EveryTick\"))","v":{"$error":"#N/A"}},null,{"$f":"IF(D19=0,NA(),RTD(\"cqg.rtd\",,\"StudyData\", \"Close(\"&$N$2&\") When Barix(\"&$N$2&\",reference:=StartOfSession)=\"&A19&\"\", \"Bar\", \"\", \"Close\",\"5\",\"0\",\"All\",,,\"False\",\"T\",\"EveryTick\"))","v":{"$error":"#N/A"}},null,{"$f":"IF(D19=0,NA(),RTD(\"cqg.rtd\",,\"StudyData\", \"Close(\"&$P$2&\") When Barix(\"&$P$2&\",reference:=StartOfSession)=\"&A19&\"\", \"Bar\", \"\", \"Close\",\"5\",\"0\",\"All\",,,\"False\",\"T\",\"EveryTick\"))","v":{"$error":"#N/A"}},null,{"$f":"IF(D19=0,NA(),RTD(\"cqg.rtd\",,\"StudyData\", \"Close(\"&$R$2&\") When Barix(\"&$R$2&\",reference:=StartOfSession)=\"&A19&\"\", \"Bar\", \"\", \"Close\",\"5\",\"0\",\"All\",,,\"False\",\"T\",\"EveryTick\"))","v":{"$error":"#N/A"}},null,{"$f":"IF(D19=0,NA(),RTD(\"cqg.rtd\",,\"StudyData\", \"Close(\"&$T$2&\") When Barix(\"&$T$2&\",reference:=StartOfSession)=\"&A19&\"\", \"Bar\", \"\", \"Close\",\"5\",\"0\",\"All\",,,\"False\",\"T\",\"EveryTick\"))","v":{"$error":"#N/A"}},null,{"$f":"IF(D19=0,NA(),RTD(\"cqg.rtd\",,\"StudyData\", \"Close(\"&$V$2&\") When Barix(\"&$V$2&\",reference:=StartOfSession)=\"&A19&\"\", \"Bar\", \"\", \"Close\",\"5\",\"0\",\"All\",,,\"False\",\"T\",\"EveryTick\"))","v":{"$error":"#N/A"}},null,{"$f":"IF(D19=0,NA(),RTD(\"cqg.rtd\",,\"StudyData\", \"Close(\"&$X$2&\") When Barix(\"&$X$2&\",reference:=StartOfSession)=\"&A19&\"\", \"Bar\", \"\", \"Close\",\"5\",\"0\",\"All\",,,\"False\",\"T\",\"EveryTick\"))","v":{"$error":"#N/A"}},null,{"$f":"IF(D19=0,NA(),RTD(\"cqg.rtd\",,\"StudyData\", \"Close(\"&$Z$2&\") When Barix(\"&$Z$2&\",reference:=StartOfSession)=\"&A19&\"\", \"Bar\", \"\", \"Close\",\"5\",\"0\",\"All\",,,\"False\",\"T\",\"EveryTick\"))","v":{"$error":"#N/A"}},null,{"$f":"IF(D19=0,NA(),RTD(\"cqg.rtd\",,\"StudyData\", \"Close(\"&$AB$2&\") When Barix(\"&$AB$2&\",reference:=StartOfSession)=\"&A19&\"\", \"Bar\", \"\", \"Close\",\"5\",\"0\",\"All\",,,\"False\",\"T\",\"EveryTick\"))","v":{"$error":"#N/A"}},null,{"$f":"IF(D19=0,NA(),RTD(\"cqg.rtd\",,\"StudyData\", \"Close(\"&$AD$2&\") When Barix(\"&$AD$2&\",reference:=StartOfSession)=\"&A19&\"\", \"Bar\", \"\", \"Close\",\"5\",\"0\",\"All\",,,\"False\",\"T\",\"EveryTick\"))","v":{"$error":"#N/A"}},null,{"$f":"IF(D19=0,NA(),RTD(\"cqg.rtd\",,\"StudyData\", \"Close(\"&$AF$2&\") When Barix(\"&$AF$2&\",reference:=StartOfSession)=\"&A19&\"\", \"Bar\", \"\", \"Close\",\"5\",\"0\",\"All\",,,\"False\",\"T\",\"EveryTick\"))","v":{"$error":"#N/A"}},null,{"$f":"IF(D19=0,NA(),RTD(\"cqg.rtd\",,\"StudyData\", \"Close(\"&$AH$2&\") When Barix(\"&$AH$2&\",reference:=StartOfSession)=\"&A19&\"\", \"Bar\", \"\", \"Close\",\"5\",\"0\",\"All\",,,\"False\",\"T\",\"EveryTick\"))","v":{"$error":"#N/A"}},null,{"$f":"IF(D19=0,NA(),RTD(\"cqg.rtd\",,\"StudyData\", \"Close(\"&$AJ$2&\") When Barix(\"&$AJ$2&\",reference:=StartOfSession)=\"&A19&\"\", \"Bar\", \"\", \"Close\",\"5\",\"0\",\"All\",,,\"False\",\"T\",\"EveryTick\"))","v":{"$error":"#N/A"}},null,{"$f":"IF(D19=0,NA(),RTD(\"cqg.rtd\",,\"StudyData\", \"Close(\"&$AL$2&\") When Barix(\"&$AL$2&\",reference:=StartOfSession)=\"&A19&\"\", \"Bar\", \"\", \"Close\",\"5\",\"0\",\"All\",,,\"False\",\"T\",\"EveryTick\"))","v":{"$error":"#N/A"}},null,{"$f":"IF(D19=0,NA(),RTD(\"cqg.rtd\",,\"StudyData\", \"Close(\"&$AN$2&\") When Barix(\"&$AN$2&\",reference:=StartOfSession)=\"&A19&\"\", \"Bar\", \"\", \"Close\",\"5\",\"0\",\"All\",,,\"False\",\"T\",\"EveryTick\"))","v":{"$error":"#N/A"}},null,{"$f":"IF(D19=0,NA(),RTD(\"cqg.rtd\",,\"StudyData\", \"Close(\"&$AN$2&\") When Barix(\"&$AN$2&\",reference:=StartOfSession)=\"&A19&\"\", \"Bar\", \"\", \"Close\",\"5\",\"0\",\"All\",,,\"False\",\"T\",\"EveryTick\"))","v":{"$error":"#N/A"}},null,{"$f":"IF(D19=0,NA(),RTD(\"cqg.rtd\",,\"StudyData\", \"Close(\"&$AR$2&\") When Barix(\"&$AR$2&\",reference:=StartOfSession)=\"&A19&\"\", \"Bar\", \"\", \"Close\",\"5\",\"0\",\"All\",,,\"False\",\"T\",\"EveryTick\"))","v":{"$error":"#N/A"}},null,{"$f":"IF(D19=0,NA(),RTD(\"cqg.rtd\",,\"StudyData\", \"Close(\"&$AT$2&\") When Barix(\"&$AT$2&\",reference:=StartOfSession)=\"&A19&\"\", \"Bar\", \"\", \"Close\",\"5\",\"0\",\"All\",,,\"False\",\"T\",\"EveryTick\"))","v":{"$error":"#N/A"}},null,{"$f":"IF(D19=0,NA(),RTD(\"cqg.rtd\",,\"StudyData\", \"Close(\"&$AV$2&\") When Barix(\"&$AV$2&\",reference:=StartOfSession)=\"&A19&\"\", \"Bar\", \"\", \"Close\",\"5\",\"0\",\"All\",,,\"False\",\"T\",\"EveryTick\"))","v":{"$error":"#N/A"}},null,{"$f":"IF(D19=0,NA(),RTD(\"cqg.rtd\",,\"StudyData\", \"Close(\"&$AX$2&\") When Barix(\"&$AX$2&\",reference:=StartOfSession)=\"&A19&\"\", \"Bar\", \"\", \"Close\",\"5\",\"0\",\"All\",,,\"False\",\"T\",\"EveryTick\"))","v":{"$error":"#N/A"}},null,{"$f":"IF(D19=0,NA(),RTD(\"cqg.rtd\",,\"StudyData\", \"Close(\"&$AZ$2&\") When Barix(\"&$AZ$2&\",reference:=StartOfSession)=\"&A19&\"\", \"Bar\", \"\", \"Close\",\"5\",\"0\",\"All\",,,\"False\",\"T\",\"EveryTick\"))","v":{"$error":"#N/A"}},null,{"$f":"IF(D19=0,NA(),RTD(\"cqg.rtd\",,\"StudyData\", \"Close(\"&$BB$2&\") When Barix(\"&$BB$2&\",reference:=StartOfSession)=\"&A19&\"\", \"Bar\", \"\", \"Close\",\"5\",\"0\",\"All\",,,\"False\",\"T\",\"EveryTick\"))","v":{"$error":"#N/A"}},null,{"$f":"IF(D19=0,NA(),RTD(\"cqg.rtd\",,\"StudyData\", \"Close(\"&$BD$2&\") When Barix(\"&$BD$2&\",reference:=StartOfSession)=\"&A19&\"\", \"Bar\", \"\", \"Close\",\"5\",\"0\",\"All\",,,\"False\",\"T\",\"EveryTick\"))","v":{"$error":"#N/A"}},null,{"$f":"IF(D19=0,NA(),RTD(\"cqg.rtd\",,\"StudyData\", \"Close(\"&$BF$2&\") When Barix(\"&$BF$2&\",reference:=StartOfSession)=\"&A19&\"\", \"Bar\", \"\", \"Close\",\"5\",\"0\",\"All\",,,\"False\",\"T\",\"EveryTick\"))","v":{"$error":"#N/A"}},null,{"$f":"IF(D19=0,NA(),RTD(\"cqg.rtd\",,\"StudyData\", \"Close(\"&$BH$2&\") When Barix(\"&$BH$2&\",reference:=StartOfSession)=\"&A19&\"\", \"Bar\", \"\", \"Close\",\"5\",\"0\",\"All\",,,\"False\",\"T\",\"EveryTick\"))","v":{"$error":"#N/A"}},null,{"$f":"IF(D19=0,NA(),RTD(\"cqg.rtd\",,\"StudyData\", \"Close(\"&$BJ$2&\") When Barix(\"&$BJ$2&\",reference:=StartOfSession)=\"&A19&\"\", \"Bar\", \"\", \"Close\",\"5\",\"0\",\"All\",,,\"False\",\"T\",\"EveryTick\"))","v":{"$error":"#N/A"}},null,{"$f":"IF(D19=0,NA(),RTD(\"cqg.rtd\",,\"StudyData\", \"Close(\"&$BL$2&\") When Barix(\"&$BL$2&\",reference:=StartOfSession)=\"&A19&\"\", \"Bar\", \"\", \"Close\",\"5\",\"0\",\"All\",,,\"False\",\"T\",\"EveryTick\"))","v":{"$error":"#N/A"}},null,{"$f":"IF(D19=0,NA(),RTD(\"cqg.rtd\",,\"StudyData\", \"Close(\"&$BN$2&\") When Barix(\"&$BN$2&\",reference:=StartOfSession)=\"&A19&\"\", \"Bar\", \"\", \"Close\",\"5\",\"0\",\"All\",,,\"False\",\"T\",\"EveryTick\"))","v":{"$error":"#N/A"}},null,{"$f":"IF(D19=0,NA(),RTD(\"cqg.rtd\",,\"StudyData\", \"Close(\"&$BP$2&\") When Barix(\"&$BP$2&\",reference:=StartOfSession)=\"&A19&\"\", \"Bar\", \"\", \"Close\",\"5\",\"0\",\"All\",,,\"False\",\"T\",\"EveryTick\"))","v":{"$error":"#N/A"}},null,{"$f":"IF(D19=0,NA(),RTD(\"cqg.rtd\",,\"StudyData\", \"Close(\"&$BR$2&\") When Barix(\"&$BR$2&\",reference:=StartOfSession)=\"&A19&\"\", \"Bar\", \"\", \"Close\",\"5\",\"0\",\"All\",,,\"False\",\"T\",\"EveryTick\"))","v":{"$error":"#N/A"}},null,{"$f":"IF(D19=0,NA(),RTD(\"cqg.rtd\",,\"StudyData\", \"Close(\"&$BT$2&\") When Barix(\"&$BT$2&\",reference:=StartOfSession)=\"&A19&\"\", \"Bar\", \"\", \"Close\",\"5\",\"0\",\"All\",,,\"False\",\"T\",\"EveryTick\"))","v":{"$error":"#N/A"}},null,{"$f":"IF(D19=0,NA(),RTD(\"cqg.rtd\",,\"StudyData\", \"Close(\"&$BV$2&\") When Barix(\"&$BV$2&\",reference:=StartOfSession)=\"&A19&\"\", \"Bar\", \"\", \"Close\",\"5\",\"0\",\"All\",,,\"False\",\"T\",\"EveryTick\"))","v":{"$error":"#N/A"}},null,{"$f":"IF(D19=0,NA(),RTD(\"cqg.rtd\",,\"StudyData\", \"Close(\"&$BX$2&\") When Barix(\"&$BX$2&\",reference:=StartOfSession)=\"&A19&\"\", \"Bar\", \"\", \"Close\",\"5\",\"0\",\"All\",,,\"False\",\"T\",\"EveryTick\"))","v":{"$error":"#N/A"}},null,{"$f":"IF(D19=0,NA(),RTD(\"cqg.rtd\",,\"StudyData\", \"Close(\"&$BZ$2&\") When Barix(\"&$BZ$2&\",reference:=StartOfSession)=\"&A19&\"\", \"Bar\", \"\", \"Close\",\"5\",\"0\",\"All\",,,\"False\",\"T\",\"EveryTick\"))","v":{"$error":"#N/A"}}]
[16,{"$f":"IF(D20=0,NA(),RTD(\"cqg.rtd\",,\"StudyData\", \"Close(\"&$B$2&\") When Barix(\"&$B$2&\",reference:=StartOfSession)=\"&A20&\"\", \"Bar\", \"\", \"Close\",\"5\",\"0\",\"All\",,,\"False\",\"T\",\"EveryTick\"))","v":{"$error":"#N/A"}},"09:50:00",0,null,{"$f":"IF(D20=0,NA(),RTD(\"cqg.rtd\",,\"StudyData\", \"Close(\"&$F$2&\") When Barix(\"&$F$2&\",reference:=StartOfSession)=\"&A20&\"\", \"Bar\", \"\", \"Close\",\"5\",\"0\",\"All\",,,\"False\",\"T\",\"EveryTick\"))","v":{"$error":"#N/A"}},null,{"$f":"IF(D20=0,NA(),RTD(\"cqg.rtd\",,\"StudyData\", \"Close(\"&$H$2&\") When Barix(\"&$H$2&\",reference:=StartOfSession)=\"&A20&\"\", \"Bar\", \"\", \"Close\",\"5\",\"0\",\"All\",,,\"False\",\"T\",\"EveryTick\"))","v":{"$error":"#N/A"}},null,{"$f":"IF(D20=0,NA(),RTD(\"cqg.rtd\",,\"StudyData\", \"Close(\"&$J$2&\") When Barix(\"&$J$2&\",reference:=StartOfSession)=\"&A20&\"\", \"Bar\", \"\", \"Close\",\"5\",\"0\",\"All\",,,\"False\",\"T\",\"EveryTick\"))","v":{"$error":"#N/A"}},null,{"$f":"IF(D20=0,NA(),RTD(\"cqg.rtd\",,\"StudyData\", \"Close(\"&$L$2&\") When Barix(\"&$L$2&\",reference:=StartOfSession)=\"&A20&\"\", \"Bar\", \"\", \"Close\",\"5\",\"0\",\"All\",,,\"False\",\"T\",\"EveryTick\"))","v":{"$error":"#N/A"}},null,{"$f":"IF(D20=0,NA(),RTD(\"cqg.rtd\",,\"StudyData\", \"Close(\"&$N$2&\") When Barix(\"&$N$2&\",reference:=StartOfSession)=\"&A20&\"\", \"Bar\", \"\", \"Close\",\"5\",\"0\",\"All\",,,\"False\",\"T\",\"EveryTick\"))","v":{"$error":"#N/A"}},null,{"$f":"IF(D20=0,NA(),RTD(\"cqg.rtd\",,\"StudyData\", \"Close(\"&$P$2&\") When Barix(\"&$P$2&\",reference:=StartOfSession)=\"&A20&\"\", \"Bar\", \"\", \"Close\",\"5\",\"0\",\"All\",,,\"False\",\"T\",\"EveryTick\"))","v":{"$error":"#N/A"}},null,{"$f":"IF(D20=0,NA(),RTD(\"cqg.rtd\",,\"StudyData\", \"Close(\"&$R$2&\") When Barix(\"&$R$2&\",reference:=StartOfSession)=\"&A20&\"\", \"Bar\", \"\", \"Close\",\"5\",\"0\",\"All\",,,\"False\",\"T\",\"EveryTick\"))","v":{"$error":"#N/A"}},null,{"$f":"IF(D20=0,NA(),RTD(\"cqg.rtd\",,\"StudyData\", \"Close(\"&$T$2&\") When Barix(\"&$T$2&\",reference:=StartOfSession)=\"&A20&\"\", \"Bar\", \"\", \"Close\",\"5\",\"0\",\"All\",,,\"False\",\"T\",\"EveryTick\"))","v":{"$error":"#N/A"}},null,{"$f":"IF(D20=0,NA(),RTD(\"cqg.rtd\",,\"StudyData\", \"Close(\"&$V$2&\") When Barix(\"&$V$2&\",reference:=StartOfSession)=\"&A20&\"\", \"Bar\", \"\", \"Close\",\"5\",\"0\",\"All\",,,\"False\",\"T\",\"EveryTick\"))","v":{"$error":"#N/A"}},null,{"$f":"IF(D20=0,NA(),RTD(\"cqg.rtd\",,\"StudyData\", \"Close(\"&$X$2&\") When Barix(\"&$X$2&\",reference:=StartOfSession)=\"&A20&\"\", \"Bar\", \"\", \"Close\",\"5\",\"0\",\"All\",,,\"False\",\"T\",\"EveryTick\"))","v":{"$error":"#N/A"}},null,{"$f":"IF(D20=0,NA(),RTD(\"cqg.rtd\",,\"StudyData\", \"Close(\"&$Z$2&\") When Barix(\"&$Z$2&\",reference:=StartOfSession)=\"&A20&\"\", \"Bar\", \"\", \"Close\",\"5\",\"0\",\"All\",,,\"False\",\"T\",\"EveryTick\"))","v":{"$error":"#N/A"}},null,{"$f":"IF(D20=0,NA(),RTD(\"cqg.rtd\",,\"StudyData\", \"Close(\"&$AB$2&\") When Barix(\"&$AB$2&\",reference:=StartOfSession)=\"&A20&\"\", \"Bar\", \"\", \"Close\",\"5\",\"0\",\"All\",,,\"False\",\"T\",\"EveryTick\"))","v":{"$error":"#N/A"}},null,{"$f":"IF(D20=0,NA(),RTD(\"cqg.rtd\",,\"StudyData\", \"Close(\"&$AD$2&\") When Barix(\"&$AD$2&\",reference:=StartOfSession)=\"&A20&\"\", \"Bar\", \"\", \"Close\",\"5\",\"0\",\"All\",,,\"False\",\"T\",\"EveryTick\"))","v":{"$error":"#N/A"}},null,{"$f":"IF(D20=0,NA(),RTD(\"cqg.rtd\",,\"StudyData\", \"Close(\"&$AF$2&\") When Barix(\"&$AF$2&\",reference:=StartOfSession)=\"&A20&\"\", \"Bar\", \"\", \"Close\",\"5\",\"0\",\"All\",,,\"False\",\"T\",\"EveryTick\"))","v":{"$error":"#N/A"}},null,{"$f":"IF(D20=0,NA(),RTD(\"cqg.rtd\",,\"StudyData\", \"Close(\"&$AH$2&\") When Barix(\"&$AH$2&\",reference:=StartOfSession)=\"&A20&\"\", \"Bar\", \"\", \"Close\",\"5\",\"0\",\"All\",,,\"False\",\"T\",\"EveryTick\"))","v":{"$error":"#N/A"}},null,{"$f":"IF(D20=0,NA(),RTD(\"cqg.rtd\",,\"StudyData\", \"Close(\"&$AJ$2&\") When Barix(\"&$AJ$2&\",reference:=StartOfSession)=\"&A20&\"\", \"Bar\", \"\", \"Close\",\"5\",\"0\",\"All\",,,\"False\",\"T\",\"EveryTick\"))","v":{"$error":"#N/A"}},null,{"$f":"IF(D20=0,NA(),RTD(\"cqg.rtd\",,\"StudyData\", \"Close(\"&$AL$2&\") When Barix(\"&$AL$2&\",reference:=StartOfSession)=\"&A20&\"\", \"Bar\", \"\", \"Close\",\"5\",\"0\",\"All\",,,\"False\",\"T\",\"EveryTick\"))","v":{"$error":"#N/A"}},null,{"$f":"IF(D20=0,NA(),RTD(\"cqg.rtd\",,\"StudyData\", \"Close(\"&$AN$2&\") When Barix(\"&$AN$2&\",reference:=StartOfSession)=\"&A20&\"\", \"Bar\", \"\", \"Close\",\"5\",\"0\",\"All\",,,\"False\",\"T\",\"EveryTick\"))","v":{"$error":"#N/A"}},null,{"$f":"IF(D20=0,NA(),RTD(\"cqg.rtd\",,\"StudyData\", \"Close(\"&$AN$2&\") When Barix(\"&$AN$2&\",reference:=StartOfSession)=\"&A20&\"\", \"Bar\", \"\", \"Close\",\"5\",\"0\",\"All\",,,\"False\",\"T\",\"EveryTick\"))","v":{"$error":"#N/A"}},null,{"$f":"IF(D20=0,NA(),RTD(\"cqg.rtd\",,\"StudyData\", \"Close(\"&$AR$2&\") When Barix(\"&$AR$2&\",reference:=StartOfSession)=\"&A20&\"\", \"Bar\", \"\", \"Close\",\"5\",\"0\",\"All\",,,\"False\",\"T\",\"EveryTick\"))","v":{"$error":"#N/A"}},null,{"$f":"IF(D20=0,NA(),RTD(\"cqg.rtd\",,\"StudyData\", \"Close(\"&$AT$2&\") When Barix(\"&$AT$2&\",reference:=StartOfSession)=\"&A20&\"\", \"Bar\", \"\", \"Close\",\"5\",\"0\",\"All\",,,\"False\",\"T\",\"EveryTick\"))","v":{"$error":"#N/A"}},null,{"$f":"IF(D20=0,NA(),RTD(\"cqg.rtd\",,\"StudyData\", \"Close(\"&$AV$2&\") When Barix(\"&$AV$2&\",reference:=StartOfSession)=\"&A20&\"\", \"Bar\", \"\", \"Close\",\"5\",\"0\",\"All\",,,\"False\",\"T\",\"EveryTick\"))","v":{"$error":"#N/A"}},null,{"$f":"IF(D20=0,NA(),RTD(\"cqg.rtd\",,\"StudyData\", \"Close(\"&$AX$2&\") When Barix(\"&$AX$2&\",reference:=StartOfSession)=\"&A20&\"\", \"Bar\", \"\", \"Close\",\"5\",\"0\",\"All\",,,\"False\",\"T\",\"EveryTick\"))","v":{"$error":"#N/A"}},null,{"$f":"IF(D20=0,NA(),RTD(\"cqg.rtd\",,\"StudyData\", \"Close(\"&$AZ$2&\") When Barix(\"&$AZ$2&\",reference:=StartOfSession)=\"&A20&\"\", \"Bar\", \"\", \"Close\",\"5\",\"0\",\"All\",,,\"False\",\"T\",\"EveryTick\"))","v":{"$error":"#N/A"}},null,{"$f":"IF(D20=0,NA(),RTD(\"cqg.rtd\",,\"StudyData\", \"Close(\"&$BB$2&\") When Barix(\"&$BB$2&\",reference:=StartOfSession)=\"&A20&\"\", \"Bar\", \"\", \"Close\",\"5\",\"0\",\"All\",,,\"False\",\"T\",\"EveryTick\"))","v":{"$error":"#N/A"}},null,{"$f":"IF(D20=0,NA(),RTD(\"cqg.rtd\",,\"StudyData\", \"Close(\"&$BD$2&\") When Barix(\"&$BD$2&\",reference:=StartOfSession)=\"&A20&\"\", \"Bar\", \"\", \"Close\",\"5\",\"0\",\"All\",,,\"False\",\"T\",\"EveryTick\"))","v":{"$error":"#N/A"}},null,{"$f":"IF(D20=0,NA(),RTD(\"cqg.rtd\",,\"StudyData\", \"Close(\"&$BF$2&\") When Barix(\"&$BF$2&\",reference:=StartOfSession)=\"&A20&\"\", \"Bar\", \"\", \"Close\",\"5\",\"0\",\"All\",,,\"False\",\"T\",\"EveryTick\"))","v":{"$error":"#N/A"}},null,{"$f":"IF(D20=0,NA(),RTD(\"cqg.rtd\",,\"StudyData\", \"Close(\"&$BH$2&\") When Barix(\"&$BH$2&\",reference:=StartOfSession)=\"&A20&\"\", \"Bar\", \"\", \"Close\",\"5\",\"0\",\"All\",,,\"False\",\"T\",\"EveryTick\"))","v":{"$error":"#N/A"}},null,{"$f":"IF(D20=0,NA(),RTD(\"cqg.rtd\",,\"StudyData\", \"Close(\"&$BJ$2&\") When Barix(\"&$BJ$2&\",reference:=StartOfSession)=\"&A20&\"\", \"Bar\", \"\", \"Close\",\"5\",\"0\",\"All\",,,\"False\",\"T\",\"EveryTick\"))","v":{"$error":"#N/A"}},null,{"$f":"IF(D20=0,NA(),RTD(\"cqg.rtd\",,\"StudyData\", \"Close(\"&$BL$2&\") When Barix(\"&$BL$2&\",reference:=StartOfSession)=\"&A20&\"\", \"Bar\", \"\", \"Close\",\"5\",\"0\",\"All\",,,\"False\",\"T\",\"EveryTick\"))","v":{"$error":"#N/A"}},null,{"$f":"IF(D20=0,NA(),RTD(\"cqg.rtd\",,\"StudyData\", \"Close(\"&$BN$2&\") When Barix(\"&$BN$2&\",reference:=StartOfSession)=\"&A20&\"\", \"Bar\", \"\", \"Close\",\"5\",\"0\",\"All\",,,\"False\",\"T\",\"EveryTick\"))","v":{"$error":"#N/A"}},null,{"$f":"IF(D20=0,NA(),RTD(\"cqg.rtd\",,\"StudyData\", \"Close(\"&$BP$2&\") When Barix(\"&$BP$2&\",reference:=StartOfSession)=\"&A20&\"\", \"Bar\", \"\", \"Close\",\"5\",\"0\",\"All\",,,\"False\",\"T\",\"EveryTick\"))","v":{"$error":"#N/A"}},null,{"$f":"IF(D20=0,NA(),RTD(\"cqg.rtd\",,\"StudyData\", \"Close(\"&$BR$2&\") When Barix(\"&$BR$2&\",reference:=StartOfSession)=\"&A20&\"\", \"Bar\", \"\", \"Close\",\"5\",\"0\",\"All\",,,\"False\",\"T\",\"EveryTick\"))","v":{"$error":"#N/A"}},null,{"$f":"IF(D20=0,NA(),RTD(\"cqg.rtd\",,\"StudyData\", \"Close(\"&$BT$2&\") When Barix(\"&$BT$2&\",reference:=StartOfSession)=\"&A20&\"\", \"Bar\", \"\", \"Close\",\"5\",\"0\",\"All\",,,\"False\",\"T\",\"EveryTick\"))","v":{"$error":"#N/A"}},null,{"$f":"IF(D20=0,NA(),RTD(\"cqg.rtd\",,\"StudyData\", \"Close(\"&$BV$2&\") When Barix(\"&$BV$2&\",reference:=StartOfSession)=\"&A20&\"\", \"Bar\", \"\", \"Close\",\"5\",\"0\",\"All\",,,\"False\",\"T\",\"EveryTick\"))","v":{"$error":"#N/A"}},null,{"$f":"IF(D20=0,NA(),RTD(\"cqg.rtd\",,\"StudyData\", \"Close(\"&$BX$2&\") When Barix(\"&$BX$2&\",reference:=StartOfSession)=\"&A20&\"\", \"Bar\", \"\", \"Close\",\"5\",\"0\",\"All\",,,\"False\",\"T\",\"EveryTick\"))","v":{"$error":"#N/A"}},null,{"$f":"IF(D20=0,NA(),RTD(\"cqg.rtd\",,\"StudyData\", \"Close(\"&$BZ$2&\") When Barix(\"&$BZ$2&\",reference:=StartOfSession)=\"&A20&\"\", \"Bar\", \"\", \"Close\",\"5\",\"0\",\"All\",,,\"False\",\"T\",\"EveryTick\"))","v":{"$error":"#N/A"}}]
[17,{"$f":"IF(D21=0,NA(),RTD(\"cqg.rtd\",,\"StudyData\", \"Close(\"&$B$2&\") When Barix(\"&$B$2&\",reference:=StartOfSession)=\"&A21&\"\", \"Bar\", \"\", \"Close\",\"5\",\"0\",\"All\",,,\"False\",\"T\",\"EveryTick\"))","v":{"$error":"#N/A"}},"09:55:00",0,null,{"$f":"IF(D21=0,NA(),RTD(\"cqg.rtd\",,\"StudyData\", \"Close(\"&$F$2&\") When Barix(\"&$F$2&\",reference:=StartOfSession)=\"&A21&\"\", \"Bar\", \"\", \"Close\",\"5\",\"0\",\"All\",,,\"False\",\"T\",\"EveryTick\"))","v":{"$error":"#N/A"}},null,{"$f":"IF(D21=0,NA(),RTD(\"cqg.rtd\",,\"StudyData\", \"Close(\"&$H$2&\") When Barix(\"&$H$2&\",reference:=StartOfSession)=\"&A21&\"\", \"Bar\", \"\", \"Close\",\"5\",\"0\",\"All\",,,\"False\",\"T\",\"EveryTick\"))","v":{"$error":"#N/A"}},null,{"$f":"IF(D21=0,NA(),RTD(\"cqg.rtd\",,\"StudyData\", \"Close(\"&$J$2&\") When Barix(\"&$J$2&\",reference:=StartOfSession)=\"&A21&\"\", \"Bar\", \"\", \"Close\",\"5\",\"0\",\"All\",,,\"False\",\"T\",\"EveryTick\"))","v":{"$error":"#N/A"}},null,{"$f":"IF(D21=0,NA(),RTD(\"cqg.rtd\",,\"StudyData\", \"Close(\"&$L$2&\") When Barix(\"&$L$2&\",reference:=StartOfSession)=\"&A21&\"\", \"Bar\", \"\", \"Close\",\"5\",\"0\",\"All\",,,\"False\",\"T\",\"EveryTick\"))","v":{"$error":"#N/A"}},null,{"$f":"IF(D21=0,NA(),RTD(\"cqg.rtd\",,\"StudyData\", \"Close(\"&$N$2&\") When Barix(\"&$N$2&\",reference:=StartOfSession)=\"&A21&\"\", \"Bar\", \"\", \"Close\",\"5\",\"0\",\"All\",,,\"False\",\"T\",\"EveryTick\"))","v":{"$error":"#N/A"}},null,{"$f":"IF(D21=0,NA(),RTD(\"cqg.rtd\",,\"StudyData\", \"Close(\"&$P$2&\") When Barix(\"&$P$2&\",reference:=StartOfSession)=\"&A21&\"\", \"Bar\", \"\", \"Close\",\"5\",\"0\",\"All\",,,\"False\",\"T\",\"EveryTick\"))","v":{"$error":"#N/A"}},null,{"$f":"IF(D21=0,NA(),RTD(\"cqg.rtd\",,\"StudyData\", \"Close(\"&$R$2&\") When Barix(\"&$R$2&\",reference:=StartOfSession)=\"&A21&\"\", \"Bar\", \"\", \"Close\",\"5\",\"0\",\"All\",,,\"False\",\"T\",\"EveryTick\"))","v":{"$error":"#N/A"}},null,{"$f":"IF(D21=0,NA(),RTD(\"cqg.rtd\",,\"StudyData\", \"Close(\"&$T$2&\") When Barix(\"&$T$2&\",reference:=StartOfSession)=\"&A21&\"\", \"Bar\", \"\", \"Close\",\"5\",\"0\",\"All\",,,\"False\",\"T\",\"EveryTick\"))","v":{"$error":"#N/A"}},null,{"$f":"IF(D21=0,NA(),RTD(\"cqg.rtd\",,\"StudyData\", \"Close(\"&$V$2&\") When Barix(\"&$V$2&\",reference:=StartOfSession)=\"&A21&\"\", \"Bar\", \"\", \"Close\",\"5\",\"0\",\"All\",,,\"False\",\"T\",\"EveryTick\"))","v":{"$error":"#N/A"}},null,{"$f":"IF(D21=0,NA(),RTD(\"cqg.rtd\",,\"StudyData\", \"Close(\"&$X$2&\") When Barix(\"&$X$2&\",reference:=StartOfSession)=\"&A21&\"\", \"Bar\", \"\", \"Close\",\"5\",\"0\",\"All\",,,\"False\",\"T\",\"EveryTick\"))","v":{"$error":"#N/A"}},null,{"$f":"IF(D21=0,NA(),RTD(\"cqg.rtd\",,\"StudyData\", \"Close(\"&$Z$2&\") When Barix(\"&$Z$2&\",reference:=StartOfSession)=\"&A21&\"\", \"Bar\", \"\", \"Close\",\"5\",\"0\",\"All\",,,\"False\",\"T\",\"EveryTick\"))","v":{"$error":"#N/A"}},null,{"$f":"IF(D21=0,NA(),RTD(\"cqg.rtd\",,\"StudyData\", \"Close(\"&$AB$2&\") When Barix(\"&$AB$2&\",reference:=StartOfSession)=\"&A21&\"\", \"Bar\", \"\", \"Close\",\"5\",\"0\",\"All\",,,\"False\",\"T\",\"EveryTick\"))","v":{"$error":"#N/A"}},null,{"$f":"IF(D21=0,NA(),RTD(\"cqg.rtd\",,\"StudyData\", \"Close(\"&$AD$2&\") When Barix(\"&$AD$2&\",reference:=StartOfSession)=\"&A21&\"\", \"Bar\", \"\", \"Close\",\"5\",\"0\",\"All\",,,\"False\",\"T\",\"EveryTick\"))","v":{"$error":"#N/A"}},null,{"$f":"IF(D21=0,NA(),RTD(\"cqg.rtd\",,\"StudyData\", \"Close(\"&$AF$2&\") When Barix(\"&$AF$2&\",reference:=StartOfSession)=\"&A21&\"\", \"Bar\", \"\", \"Close\",\"5\",\"0\",\"All\",,,\"False\",\"T\",\"EveryTick\"))","v":{"$error":"#N/A"}},null,{"$f":"IF(D21=0,NA(),RTD(\"cqg.rtd\",,\"StudyData\", \"Close(\"&$AH$2&\") When Barix(\"&$AH$2&\",reference:=StartOfSession)=\"&A21&\"\", \"Bar\", \"\", \"Close\",\"5\",\"0\",\"All\",,,\"False\",\"T\",\"EveryTick\"))","v":{"$error":"#N/A"}},null,{"$f":"IF(D21=0,NA(),RTD(\"cqg.rtd\",,\"StudyData\", \"Close(\"&$AJ$2&\") When Barix(\"&$AJ$2&\",reference:=StartOfSession)=\"&A21&\"\", \"Bar\", \"\", \"Close\",\"5\",\"0\",\"All\",,,\"False\",\"T\",\"EveryTick\"))","v":{"$error":"#N/A"}},null,{"$f":"IF(D21=0,NA(),RTD(\"cqg.rtd\",,\"StudyData\", \"Close(\"&$AL$2&\") When Barix(\"&$AL$2&\",reference:=StartOfSession)=\"&A21&\"\", \"Bar\", \"\", \"Close\",\"5\",\"0\",\"All\",,,\"False\",\"T\",\"EveryTick\"))","v":{"$error":"#N/A"}},null,{"$f":"IF(D21=0,NA(),RTD(\"cqg.rtd\",,\"StudyData\", \"Close(\"&$AN$2&\") When Barix(\"&$AN$2&\",reference:=StartOfSession)=\"&A21&\"\", \"Bar\", \"\", \"Close\",\"5\",\"0\",\"All\",,,\"False\",\"T\",\"EveryTick\"))","v":{"$error":"#N/A"}},null,{"$f":"IF(D21=0,NA(),RTD(\"cqg.rtd\",,\"StudyData\", \"Close(\"&$AN$2&\") When Barix(\"&$AN$2&\",reference:=StartOfSession)=\"&A21&\"\", \"Bar\", \"\", \"Close\",\"5\",\"0\",\"All\",,,\"False\",\"T\",\"EveryTick\"))","v":{"$error":"#N/A"}},null,{"$f":"IF(D21=0,NA(),RTD(\"cqg.rtd\",,\"StudyData\", \"Close(\"&$AR$2&\") When Barix(\"&$AR$2&\",reference:=StartOfSession)=\"&A21&\"\", \"Bar\", \"\", \"Close\",\"5\",\"0\",\"All\",,,\"False\",\"T\",\"EveryTick\"))","v":{"$error":"#N/A"}},null,{"$f":"IF(D21=0,NA(),RTD(\"cqg.rtd\",,\"StudyData\", \"Close(\"&$AT$2&\") When Barix(\"&$AT$2&\",reference:=StartOfSession)=\"&A21&\"\", \"Bar\", \"\", \"Close\",\"5\",\"0\",\"All\",,,\"False\",\"T\",\"EveryTick\"))","v":{"$error":"#N/A"}},null,{"$f":"IF(D21=0,NA(),RTD(\"cqg.rtd\",,\"StudyData\", \"Close(\"&$AV$2&\") When Barix(\"&$AV$2&\",reference:=StartOfSession)=\"&A21&\"\", \"Bar\", \"\", \"Close\",\"5\",\"0\",\"All\",,,\"False\",\"T\",\"EveryTick\"))","v":{"$error":"#N/A"}},null,{"$f":"IF(D21=0,NA(),RTD(\"cqg.rtd\",,\"StudyData\", \"Close(\"&$AX$2&\") When Barix(\"&$AX$2&\",reference:=StartOfSession)=\"&A21&\"\", \"Bar\", \"\", \"Close\",\"5\",\"0\",\"All\",,,\"False\",\"T\",\"EveryTick\"))","v":{"$error":"#N/A"}},null,{"$f":"IF(D21=0,NA(),RTD(\"cqg.rtd\",,\"StudyData\", \"Close(\"&$AZ$2&\") When Barix(\"&$AZ$2&\",reference:=StartOfSession)=\"&A21&\"\", \"Bar\", \"\", \"Close\",\"5\",\"0\",\"All\",,,\"False\",\"T\",\"EveryTick\"))","v":{"$error":"#N/A"}},null,{"$f":"IF(D21=0,NA(),RTD(\"cqg.rtd\",,\"StudyData\", \"Close(\"&$BB$2&\") When Barix(\"&$BB$2&\",reference:=StartOfSession)=\"&A21&\"\", \"Bar\", \"\", \"Close\",\"5\",\"0\",\"All\",,,\"False\",\"T\",\"EveryTick\"))","v":{"$error":"#N/A"}},null,{"$f":"IF(D21=0,NA(),RTD(\"cqg.rtd\",,\"StudyData\", \"Close(\"&$BD$2&\") When Barix(\"&$BD$2&\",reference:=StartOfSession)=\"&A21&\"\", \"Bar\", \"\", \"Close\",\"5\",\"0\",\"All\",,,\"False\",\"T\",\"EveryTick\"))","v":{"$error":"#N/A"}},null,{"$f":"IF(D21=0,NA(),RTD(\"cqg.rtd\",,\"StudyData\", \"Close(\"&$BF$2&\") When Barix(\"&$BF$2&\",reference:=StartOfSession)=\"&A21&\"\", \"Bar\", \"\", \"Close\",\"5\",\"0\",\"All\",,,\"False\",\"T\",\"EveryTick\"))","v":{"$error":"#N/A"}},null,{"$f":"IF(D21=0,NA(),RTD(\"cqg.rtd\",,\"StudyData\", \"Close(\"&$BH$2&\") When Barix(\"&$BH$2&\",reference:=StartOfSession)=\"&A21&\"\", \"Bar\", \"\", \"Close\",\"5\",\"0\",\"All\",,,\"False\",\"T\",\"EveryTick\"))","v":{"$error":"#N/A"}},null,{"$f":"IF(D21=0,NA(),RTD(\"cqg.rtd\",,\"StudyData\", \"Close(\"&$BJ$2&\") When Barix(\"&$BJ$2&\",reference:=StartOfSession)=\"&A21&\"\", \"Bar\", \"\", \"Close\",\"5\",\"0\",\"All\",,,\"False\",\"T\",\"EveryTick\"))","v":{"$error":"#N/A"}},null,{"$f":"IF(D21=0,NA(),RTD(\"cqg.rtd\",,\"StudyData\", \"Close(\"&$BL$2&\") When Barix(\"&$BL$2&\",reference:=StartOfSession)=\"&A21&\"\", \"Bar\", \"\", \"Close\",\"5\",\"0\",\"All\",,,\"False\",\"T\",\"EveryTick\"))","v":{"$error":"#N/A"}},null,{"$f":"IF(D21=0,NA(),RTD(\"cqg.rtd\",,\"StudyData\", \"Close(\"&$BN$2&\") When Barix(\"&$BN$2&\",reference:=StartOfSession)=\"&A21&\"\", \"Bar\", \"\", \"Close\",\"5\",\"0\",\"All\",,,\"False\",\"T\",\"EveryTick\"))","v":{"$error":"#N/A"}},null,{"$f":"IF(D21=0,NA(),RTD(\"cqg.rtd\",,\"StudyData\", \"Close(\"&$BP$2&\") When Barix(\"&$BP$2&\",reference:=StartOfSession)=\"&A21&\"\", \"Bar\", \"\", \"Close\",\"5\",\"0\",\"All\",,,\"False\",\"T\",\"EveryTick\"))","v":{"$error":"#N/A"}},null,{"$f":"IF(D21=0,NA(),RTD(\"cqg.rtd\",,\"StudyData\", \"Close(\"&$BR$2&\") When Barix(\"&$BR$2&\",reference:=StartOfSession)=\"&A21&\"\", \"Bar\", \"\", \"Close\",\"5\",\"0\",\"All\",,,\"False\",\"T\",\"EveryTick\"))","v":{"$error":"#N/A"}},null,{"$f":"IF(D21=0,NA(),RTD(\"cqg.rtd\",,\"StudyData\", \"Close(\"&$BT$2&\") When Barix(\"&$BT$2&\",reference:=StartOfSession)=\"&A21&\"\", \"Bar\", \"\", \"Close\",\"5\",\"0\",\"All\",,,\"False\",\"T\",\"EveryTick\"))","v":{"$error":"#N/A"}},null,{"$f":"IF(D21=0,NA(),RTD(\"cqg.rtd\",,\"StudyData\", \"Close(\"&$BV$2&\") When Barix(\"&$BV$2&\",reference:=StartOfSession)=\"&A21&\"\", \"Bar\", \"\", \"Close\",\"5\",\"0\",\"All\",,,\"False\",\"T\",\"EveryTick\"))","v":{"$error":"#N/A"}},null,{"$f":"IF(D21=0,NA(),RTD(\"cqg.rtd\",,\"StudyData\", \"Close(\"&$BX$2&\") When Barix(\"&$BX$2&\",reference:=StartOfSession)=\"&A21&\"\", \"Bar\", \"\", \"Close\",\"5\",\"0\",\"All\",,,\"False\",\"T\",\"EveryTick\"))","v":{"$error":"#N/A"}},null,{"$f":"IF(D21=0,NA(),RTD(\"cqg.rtd\",,\"StudyData\", \"Close(\"&$BZ$2&\") When Barix(\"&$BZ$2&\",reference:=StartOfSession)=\"&A21&\"\", \"Bar\", \"\", \"Close\",\"5\",\"0\",\"All\",,,\"False\",\"T\",\"EveryTick\"))","v":{"$error":"#N/A"}}]
[18,{"$f":"IF(D22=0,NA(),RTD(\"cqg.rtd\",,\"StudyData\", \"Close(\"&$B$2&\") When Barix(\"&$B$2&\",reference:=StartOfSession)=\"&A22&\"\", \"Bar\", \"\", \"Close\",\"5\",\"0\",\"All\",,,\"False\",\"T\",\"EveryTick\"))","v":{"$error":"#N/A"}},"10:00:00",0,null,{"$f":"IF(D22=0,NA(),RTD(\"cqg.rtd\",,\"StudyData\", \"Close(\"&$F$2&\") When Barix(\"&$F$2&\",reference:=StartOfSession)=\"&A22&\"\", \"Bar\", \"\", \"Close\",\"5\",\"0\",\"All\",,,\"False\",\"T\",\"EveryTick\"))","v":{"$error":"#N/A"}},null,{"$f":"IF(D22=0,NA(),RTD(\"cqg.rtd\",,\"StudyData\", \"Close(\"&$H$2&\") When Barix(\"&$H$2&\",reference:=StartOfSession)=\"&A22&\"\", \"Bar\", \"\", \"Close\",\"5\",\"0\",\"All\",,,\"False\",\"T\",\"EveryTick\"))","v":{"$error":"#N/A"}},null,{"$f":"IF(D22=0,NA(),RTD(\"cqg.rtd\",,\"StudyData\", \"Close(\"&$J$2&\") When Barix(\"&$J$2&\",reference:=StartOfSession)=\"&A22&\"\", \"Bar\", \"\", \"Close\",\"5\",\"0\",\"All\",,,\"False\",\"T\",\"EveryTick\"))","v":{"$error":"#N/A"}},null,{"$f":"IF(D22=0,NA(),RTD(\"cqg.rtd\",,\"StudyData\", \"Close(\"&$L$2&\") When Barix(\"&$L$2&\",reference:=StartOfSession)=\"&A22&\"\", \"Bar\", \"\", \"Close\",\"5\",\"0\",\"All\",,,\"False\",\"T\",\"EveryTick\"))","v":{"$error":"#N/A"}},null,{"$f":"IF(D22=0,NA(),RTD(\"cqg.rtd\",,\"StudyData\", \"Close(\"&$N$2&\") When Barix(\"&$N$2&\",reference:=StartOfSession)=\"&A22&\"\", \"Bar\", \"\", \"Close\",\"5\",\"0\",\"All\",,,\"False\",\"T\",\"EveryTick\"))","v":{"$error":"#N/A"}},null,{"$f":"IF(D22=0,NA(),RTD(\"cqg.rtd\",,\"StudyData\", \"Close(\"&$P$2&\") When Barix(\"&$P$2&\",reference:=StartOfSession)=\"&A22&\"\", \"Bar\", \"\", \"Close\",\"5\",\"0\",\"All\",,,\"False\",\"T\",\"EveryTick\"))","v":{"$error":"#N/A"}},null,{"$f":"IF(D22=0,NA(),RTD(\"cqg.rtd\",,\"StudyData\", \"Close(\"&$R$2&\") When Barix(\"&$R$2&\",reference:=StartOfSession)=\"&A22&\"\", \"Bar\", \"\", \"Close\",\"5\",\"0\",\"All\",,,\"False\",\"T\",\"EveryTick\"))","v":{"$error":"#N/A"}},null,{"$f":"IF(D22=0,NA(),RTD(\"cqg.rtd\",,\"StudyData\", \"Close(\"&$T$2&\") When Barix(\"&$T$2&\",reference:=StartOfSession)=\"&A22&\"\", \"Bar\", \"\", \"Close\",\"5\",\"0\",\"All\",,,\"False\",\"T\",\"EveryTick\"))","v":{"$error":"#N/A"}},null,{"$f":"IF(D22=0,NA(),RTD(\"cqg.rtd\",,\"StudyData\", \"Close(\"&$V$2&\") When Barix(\"&$V$2&\",reference:=StartOfSession)=\"&A22&\"\", \"Bar\", \"\", \"Close\",\"5\",\"0\",\"All\",,,\"False\",\"T\",\"EveryTick\"))","v":{"$error":"#N/A"}},null,{"$f":"IF(D22=0,NA(),RTD(\"cqg.rtd\",,\"StudyData\", \"Close(\"&$X$2&\") When Barix(\"&$X$2&\",reference:=StartOfSession)=\"&A22&\"\", \"Bar\", \"\", \"Close\",\"5\",\"0\",\"All\",,,\"False\",\"T\",\"EveryTick\"))","v":{"$error":"#N/A"}},null,{"$f":"IF(D22=0,NA(),RTD(\"cqg.rtd\",,\"StudyData\", \"Close(\"&$Z$2&\") When Barix(\"&$Z$2&\",reference:=StartOfSession)=\"&A22&\"\", \"Bar\", \"\", \"Close\",\"5\",\"0\",\"All\",,,\"False\",\"T\",\"EveryTick\"))","v":{"$error":"#N/A"}},null,{"$f":"IF(D22=0,NA(),RTD(\"cqg.rtd\",,\"StudyData\", \"Close(\"&$AB$2&\") When Barix(\"&$AB$2&\",reference:=StartOfSession)=\"&A22&\"\", \"Bar\", \"\", \"Close\",\"5\",\"0\",\"All\",,,\"False\",\"T\",\"EveryTick\"))","v":{"$error":"#N/A"}},null,{"$f":"IF(D22=0,NA(),RTD(\"cqg.rtd\",,\"StudyData\", \"Close(\"&$AD$2&\") When Barix(\"&$AD$2&\",reference:=StartOfSession)=\"&A22&\"\", \"Bar\", \"\", \"Close\",\"5\",\"0\",\"All\",,,\"False\",\"T\",\"EveryTick\"))","v":{"$error":"#N/A"}},null,{"$f":"IF(D22=0,NA(),RTD(\"cqg.rtd\",,\"StudyData\", \"Close(\"&$AF$2&\") When Barix(\"&$AF$2&\",reference:=StartOfSession)=\"&A22&\"\", \"Bar\", \"\", \"Close\",\"5\",\"0\",\"All\",,,\"False\",\"T\",\"EveryTick\"))","v":{"$error":"#N/A"}},null,{"$f":"IF(D22=0,NA(),RTD(\"cqg.rtd\",,\"StudyData\", \"Close(\"&$AH$2&\") When Barix(\"&$AH$2&\",reference:=StartOfSession)=\"&A22&\"\", \"Bar\", \"\", \"Close\",\"5\",\"0\",\"All\",,,\"False\",\"T\",\"EveryTick\"))","v":{"$error":"#N/A"}},null,{"$f":"IF(D22=0,NA(),RTD(\"cqg.rtd\",,\"StudyData\", \"Close(\"&$AJ$2&\") When Barix(\"&$AJ$2&\",reference:=StartOfSession)=\"&A22&\"\", \"Bar\", \"\", \"Close\",\"5\",\"0\",\"All\",,,\"False\",\"T\",\"EveryTick\"))","v":{"$error":"#N/A"}},null,{"$f":"IF(D22=0,NA(),RTD(\"cqg.rtd\",,\"StudyData\", \"Close(\"&$AL$2&\") When Barix(\"&$AL$2&\",reference:=StartOfSession)=\"&A22&\"\", \"Bar\", \"\", \"Close\",\"5\",\"0\",\"All\",,,\"False\",\"T\",\"EveryTick\"))","v":{"$error":"#N/A"}},null,{"$f":"IF(D22=0,NA(),RTD(\"cqg.rtd\",,\"StudyData\", \"Close(\"&$AN$2&\") When Barix(\"&$AN$2&\",reference:=StartOfSession)=\"&A22&\"\", \"Bar\", \"\", \"Close\",\"5\",\"0\",\"All\",,,\"False\",\"T\",\"EveryTick\"))","v":{"$error":"#N/A"}},null,{"$f":"IF(D22=0,NA(),RTD(\"cqg.rtd\",,\"StudyData\", \"Close(\"&$AN$2&\") When Barix(\"&$AN$2&\",reference:=StartOfSession)=\"&A22&\"\", \"Bar\", \"\", \"Close\",\"5\",\"0\",\"All\",,,\"False\",\"T\",\"EveryTick\"))","v":{"$error":"#N/A"}},null,{"$f":"IF(D22=0,NA(),RTD(\"cqg.rtd\",,\"StudyData\", \"Close(\"&$AR$2&\") When Barix(\"&$AR$2&\",reference:=StartOfSession)=\"&A22&\"\", \"Bar\", \"\", \"Close\",\"5\",\"0\",\"All\",,,\"False\",\"T\",\"EveryTick\"))","v":{"$error":"#N/A"}},null,{"$f":"IF(D22=0,NA(),RTD(\"cqg.rtd\",,\"StudyData\", \"Close(\"&$AT$2&\") When Barix(\"&$AT$2&\",reference:=StartOfSession)=\"&A22&\"\", \"Bar\", \"\", \"Close\",\"5\",\"0\",\"All\",,,\"False\",\"T\",\"EveryTick\"))","v":{"$error":"#N/A"}},null,{"$f":"IF(D22=0,NA(),RTD(\"cqg.rtd\",,\"StudyData\", \"Close(\"&$AV$2&\") When Barix(\"&$AV$2&\",reference:=StartOfSession)=\"&A22&\"\", \"Bar\", \"\", \"Close\",\"5\",\"0\",\"All\",,,\"False\",\"T\",\"EveryTick\"))","v":{"$error":"#N/A"}},null,{"$f":"IF(D22=0,NA(),RTD(\"cqg.rtd\",,\"StudyData\", \"Close(\"&$AX$2&\") When Barix(\"&$AX$2&\",reference:=StartOfSession)=\"&A22&\"\", \"Bar\", \"\", \"Close\",\"5\",\"0\",\"All\",,,\"False\",\"T\",\"EveryTick\"))","v":{"$error":"#N/A"}},null,{"$f":"IF(D22=0,NA(),RTD(\"cqg.rtd\",,\"StudyData\", \"Close(\"&$AZ$2&\") When Barix(\"&$AZ$2&\",reference:=StartOfSession)=\"&A22&\"\", \"Bar\", \"\", \"Close\",\"5\",\"0\",\"All\",,,\"False\",\"T\",\"EveryTick\"))","v":{"$error":"#N/A"}},null,{"$f":"IF(D22=0,NA(),RTD(\"cqg.rtd\",,\"StudyData\", \"Close(\"&$BB$2&\") When Barix(\"&$BB$2&\",reference:=StartOfSession)=\"&A22&\"\", \"Bar\", \"\", \"Close\",\"5\",\"0\",\"All\",,,\"False\",\"T\",\"EveryTick\"))","v":{"$error":"#N/A"}},null,{"$f":"IF(D22=0,NA(),RTD(\"cqg.rtd\",,\"StudyData\", \"Close(\"&$BD$2&\") When Barix(\"&$BD$2&\",reference:=StartOfSession)=\"&A22&\"\", \"Bar\", \"\", \"Close\",\"5\",\"0\",\"All\",,,\"False\",\"T\",\"EveryTick\"))","v":{"$error":"#N/A"}},null,{"$f":"IF(D22=0,NA(),RTD(\"cqg.rtd\",,\"StudyData\", \"Close(\"&$BF$2&\") When Barix(\"&$BF$2&\",reference:=StartOfSession)=\"&A22&\"\", \"Bar\", \"\", \"Close\",\"5\",\"0\",\"All\",,,\"False\",\"T\",\"EveryTick\"))","v":{"$error":"#N/A"}},null,{"$f":"IF(D22=0,NA(),RTD(\"cqg.rtd\",,\"StudyData\", \"Close(\"&$BH$2&\") When Barix(\"&$BH$2&\",reference:=StartOfSession)=\"&A22&\"\", \"Bar\", \"\", \"Close\",\"5\",\"0\",\"All\",,,\"False\",\"T\",\"EveryTick\"))","v":{"$error":"#N/A"}},null,{"$f":"IF(D22=0,NA(),RTD(\"cqg.rtd\",,\"StudyData\", \"Close(\"&$BJ$2&\") When Barix(\"&$BJ$2&\",reference:=StartOfSession)=\"&A22&\"\", \"Bar\", \"\", \"Close\",\"5\",\"0\",\"All\",,,\"False\",\"T\",\"EveryTick\"))","v":{"$error":"#N/A"}},null,{"$f":"IF(D22=0,NA(),RTD(\"cqg.rtd\",,\"StudyData\", \"Close(\"&$BL$2&\") When Barix(\"&$BL$2&\",reference:=StartOfSession)=\"&A22&\"\", \"Bar\", \"\", \"Close\",\"5\",\"0\",\"All\",,,\"False\",\"T\",\"EveryTick\"))","v":{"$error":"#N/A"}},null,{"$f":"IF(D22=0,NA(),RTD(\"cqg.rtd\",,\"StudyData\", \"Close(\"&$BN$2&\") When Barix(\"&$BN$2&\",reference:=StartOfSession)=\"&A22&\"\", \"Bar\", \"\", \"Close\",\"5\",\"0\",\"All\",,,\"False\",\"T\",\"EveryTick\"))","v":{"$error":"#N/A"}},null,{"$f":"IF(D22=0,NA(),RTD(\"cqg.rtd\",,\"StudyData\", \"Close(\"&$BP$2&\") When Barix(\"&$BP$2&\",reference:=StartOfSession)=\"&A22&\"\", \"Bar\", \"\", \"Close\",\"5\",\"0\",\"All\",,,\"False\",\"T\",\"EveryTick\"))","v":{"$error":"#N/A"}},null,{"$f":"IF(D22=0,NA(),RTD(\"cqg.rtd\",,\"StudyData\", \"Close(\"&$BR$2&\") When Barix(\"&$BR$2&\",reference:=StartOfSession)=\"&A22&\"\", \"Bar\", \"\", \"Close\",\"5\",\"0\",\"All\",,,\"False\",\"T\",\"EveryTick\"))","v":{"$error":"#N/A"}},null,{"$f":"IF(D22=0,NA(),RTD(\"cqg.rtd\",,\"StudyData\", \"Close(\"&$BT$2&\") When Barix(\"&$BT$2&\",reference:=StartOfSession)=\"&A22&\"\", \"Bar\", \"\", \"Close\",\"5\",\"0\",\"All\",,,\"False\",\"T\",\"EveryTick\"))","v":{"$error":"#N/A"}},null,{"$f":"IF(D22=0,NA(),RTD(\"cqg.rtd\",,\"StudyData\", \"Close(\"&$BV$2&\") When Barix(\"&$BV$2&\",reference:=StartOfSession)=\"&A22&\"\", \"Bar\", \"\", \"Close\",\"5\",\"0\",\"All\",,,\"False\",\"T\",\"EveryTick\"))","v":{"$error":"#N/A"}},null,{"$f":"IF(D22=0,NA(),RTD(\"cqg.rtd\",,\"StudyData\", \"Close(\"&$BX$2&\") When Barix(\"&$BX$2&\",reference:=StartOfSession)=\"&A22&\"\", \"Bar\", \"\", \"Close\",\"5\",\"0\",\"All\",,,\"False\",\"T\",\"EveryTick\"))","v":{"$error":"#N/A"}},null,{"$f":"IF(D22=0,NA(),RTD(\"cqg.rtd\",,\"StudyData\", \"Close(\"&$BZ$2&\") When Barix(\"&$BZ$2&\",reference:=StartOfSession)=\"&A22&\"\", \"Bar\", \"\", \"Close\",\"5\",\"0\",\"All\",,,\"False\",\"T\",\"EveryTick\"))","v":{"$error":"#N/A"}}]
[19,{"$f":"IF(D23=0,NA(),RTD(\"cqg.rtd\",,\"StudyData\", \"Close(\"&$B$2&\") When Barix(\"&$B$2&\",reference:=StartOfSession)=\"&A23&\"\", \"Bar\", \"\", \"Close\",\"5\",\"0\",\"All\",,,\"False\",\"T\",\"EveryTick\"))","v":{"$error":"#N/A"}},"10:05:00",0,null,{"$f":"IF(D23=0,NA(),RTD(\"cqg.rtd\",,\"StudyData\", \"Close(\"&$F$2&\") When Barix(\"&$F$2&\",reference:=StartOfSession)=\"&A23&\"\", \"Bar\", \"\", \"Close\",\"5\",\"0\",\"All\",,,\"False\",\"T\",\"EveryTick\"))","v":{"$error":"#N/A"}},null,{"$f":"IF(D23=0,NA(),RTD(\"cqg.rtd\",,\"StudyData\", \"Close(\"&$H$2&\") When Barix(\"&$H$2&\",reference:=StartOfSession)=\"&A23&\"\", \"Bar\", \"\", \"Close\",\"5\",\"0\",\"All\",,,\"False\",\"T\",\"EveryTick\"))","v":{"$error":"#N/A"}},null,{"$f":"IF(D23=0,NA(),RTD(\"cqg.rtd\",,\"StudyData\", \"Close(\"&$J$2&\") When Barix(\"&$J$2&\",reference:=StartOfSession)=\"&A23&\"\", \"Bar\", \"\", \"Close\",\"5\",\"0\",\"All\",,,\"False\",\"T\",\"EveryTick\"))","v":{"$error":"#N/A"}},null,{"$f":"IF(D23=0,NA(),RTD(\"cqg.rtd\",,\"StudyData\", \"Close(\"&$L$2&\") When Barix(\"&$L$2&\",reference:=StartOfSession)=\"&A23&\"\", \"Bar\", \"\", \"Close\",\"5\",\"0\",\"All\",,,\"False\",\"T\",\"EveryTick\"))","v":{"$error":"#N/A"}},null,{"$f":"IF(D23=0,NA(),RTD(\"cqg.rtd\",,\"StudyData\", \"Close(\"&$N$2&\") When Barix(\"&$N$2&\",reference:=StartOfSession)=\"&A23&\"\", \"Bar\", \"\", \"Close\",\"5\",\"0\",\"All\",,,\"False\",\"T\",\"EveryTick\"))","v":{"$error":"#N/A"}},null,{"$f":"IF(D23=0,NA(),RTD(\"cqg.rtd\",,\"StudyData\", \"Close(\"&$P$2&\") When Barix(\"&$P$2&\",reference:=StartOfSession)=\"&A23&\"\", \"Bar\", \"\", \"Close\",\"5\",\"0\",\"All\",,,\"False\",\"T\",\"EveryTick\"))","v":{"$error":"#N/A"}},null,{"$f":"IF(D23=0,NA(),RTD(\"cqg.rtd\",,\"StudyData\", \"Close(\"&$R$2&\") When Barix(\"&$R$2&\",reference:=StartOfSession)=\"&A23&\"\", \"Bar\", \"\", \"Close\",\"5\",\"0\",\"All\",,,\"False\",\"T\",\"EveryTick\"))","v":{"$error":"#N/A"}},null,{"$f":"IF(D23=0,NA(),RTD(\"cqg.rtd\",,\"StudyData\", \"Close(\"&$T$2&\") When Barix(\"&$T$2&\",reference:=StartOfSession)=\"&A23&\"\", \"Bar\", \"\", \"Close\",\"5\",\"0\",\"All\",,,\"False\",\"T\",\"EveryTick\"))","v":{"$error":"#N/A"}},null,{"$f":"IF(D23=0,NA(),RTD(\"cqg.rtd\",,\"StudyData\", \"Close(\"&$V$2&\") When Barix(\"&$V$2&\",reference:=StartOfSession)=\"&A23&\"\", \"Bar\", \"\", \"Close\",\"5\",\"0\",\"All\",,,\"False\",\"T\",\"EveryTick\"))","v":{"$error":"#N/A"}},null,{"$f":"IF(D23=0,NA(),RTD(\"cqg.rtd\",,\"StudyData\", \"Close(\"&$X$2&\") When Barix(\"&$X$2&\",reference:=StartOfSession)=\"&A23&\"\", \"Bar\", \"\", \"Close\",\"5\",\"0\",\"All\",,,\"False\",\"T\",\"EveryTick\"))","v":{"$error":"#N/A"}},null,{"$f":"IF(D23=0,NA(),RTD(\"cqg.rtd\",,\"StudyData\", \"Close(\"&$Z$2&\") When Barix(\"&$Z$2&\",reference:=StartOfSession)=\"&A23&\"\", \"Bar\", \"\", \"Close\",\"5\",\"0\",\"All\",,,\"False\",\"T\",\"EveryTick\"))","v":{"$error":"#N/A"}},null,{"$f":"IF(D23=0,NA(),RTD(\"cqg.rtd\",,\"StudyData\", \"Close(\"&$AB$2&\") When Barix(\"&$AB$2&\",reference:=StartOfSession)=\"&A23&\"\", \"Bar\", \"\", \"Close\",\"5\",\"0\",\"All\",,,\"False\",\"T\",\"EveryTick\"))","v":{"$error":"#N/A"}},null,{"$f":"IF(D23=0,NA(),RTD(\"cqg.rtd\",,\"StudyData\", \"Close(\"&$AD$2&\") When Barix(\"&$AD$2&\",reference:=StartOfSession)=\"&A23&\"\", \"Bar\", \"\", \"Close\",\"5\",\"0\",\"All\",,,\"False\",\"T\",\"EveryTick\"))","v":{"$error":"#N/A"}},null,{"$f":"IF(D23=0,NA(),RTD(\"cqg.rtd\",,\"StudyData\", \"Close(\"&$AF$2&\") When Barix(\"&$AF$2&\",reference:=StartOfSession)=\"&A23&\"\", \"Bar\", \"\", \"Close\",\"5\",\"0\",\"All\",,,\"False\",\"T\",\"EveryTick\"))","v":{"$error":"#N/A"}},null,{"$f":"IF(D23=0,NA(),RTD(\"cqg.rtd\",,\"StudyData\", \"Close(\"&$AH$2&\") When Barix(\"&$AH$2&\",reference:=StartOfSession)=\"&A23&\"\", \"Bar\", \"\", \"Close\",\"5\",\"0\",\"All\",,,\"False\",\"T\",\"EveryTick\"))","v":{"$error":"#N/A"}},null,{"$f":"IF(D23=0,NA(),RTD(\"cqg.rtd\",,\"StudyData\", \"Close(\"&$AJ$2&\") When Barix(\"&$AJ$2&\",reference:=StartOfSession)=\"&A23&\"\", \"Bar\", \"\", \"Close\",\"5\",\"0\",\"All\",,,\"False\",\"T\",\"EveryTick\"))","v":{"$error":"#N/A"}},null,{"$f":"IF(D23=0,NA(),RTD(\"cqg.rtd\",,\"StudyData\", \"Close(\"&$AL$2&\") When Barix(\"&$AL$2&\",reference:=StartOfSession)=\"&A23&\"\", \"Bar\", \"\", \"Close\",\"5\",\"0\",\"All\",,,\"False\",\"T\",\"EveryTick\"))","v":{"$error":"#N/A"}},null,{"$f":"IF(D23=0,NA(),RTD(\"cqg.rtd\",,\"StudyData\", \"Close(\"&$AN$2&\") When Barix(\"&$AN$2&\",reference:=StartOfSession)=\"&A23&\"\", \"Bar\", \"\", \"Close\",\"5\",\"0\",\"All\",,,\"False\",\"T\",\"EveryTick\"))","v":{"$error":"#N/A"}},null,{"$f":"IF(D23=0,NA(),RTD(\"cqg.rtd\",,\"StudyData\", \"Close(\"&$AN$2&\") When Barix(\"&$AN$2&\",reference:=StartOfSession)=\"&A23&\"\", \"Bar\", \"\", \"Close\",\"5\",\"0\",\"All\",,,\"False\",\"T\",\"EveryTick\"))","v":{"$error":"#N/A"}},null,{"$f":"IF(D23=0,NA(),RTD(\"cqg.rtd\",,\"StudyData\", \"Close(\"&$AR$2&\") When Barix(\"&$AR$2&\",reference:=StartOfSession)=\"&A23&\"\", \"Bar\", \"\", \"Close\",\"5\",\"0\",\"All\",,,\"False\",\"T\",\"EveryTick\"))","v":{"$error":"#N/A"}},null,{"$f":"IF(D23=0,NA(),RTD(\"cqg.rtd\",,\"StudyData\", \"Close(\"&$AT$2&\") When Barix(\"&$AT$2&\",reference:=StartOfSession)=\"&A23&\"\", \"Bar\", \"\", \"Close\",\"5\",\"0\",\"All\",,,\"False\",\"T\",\"EveryTick\"))","v":{"$error":"#N/A"}},null,{"$f":"IF(D23=0,NA(),RTD(\"cqg.rtd\",,\"StudyData\", \"Close(\"&$AV$2&\") When Barix(\"&$AV$2&\",reference:=StartOfSession)=\"&A23&\"\", \"Bar\", \"\", \"Close\",\"5\",\"0\",\"All\",,,\"False\",\"T\",\"EveryTick\"))","v":{"$error":"#N/A"}},null,{"$f":"IF(D23=0,NA(),RTD(\"cqg.rtd\",,\"StudyData\", \"Close(\"&$AX$2&\") When Barix(\"&$AX$2&\",reference:=StartOfSession)=\"&A23&\"\", \"Bar\", \"\", \"Close\",\"5\",\"0\",\"All\",,,\"False\",\"T\",\"EveryTick\"))","v":{"$error":"#N/A"}},null,{"$f":"IF(D23=0,NA(),RTD(\"cqg.rtd\",,\"StudyData\", \"Close(\"&$AZ$2&\") When Barix(\"&$AZ$2&\",reference:=StartOfSession)=\"&A23&\"\", \"Bar\", \"\", \"Close\",\"5\",\"0\",\"All\",,,\"False\",\"T\",\"EveryTick\"))","v":{"$error":"#N/A"}},null,{"$f":"IF(D23=0,NA(),RTD(\"cqg.rtd\",,\"StudyData\", \"Close(\"&$BB$2&\") When Barix(\"&$BB$2&\",reference:=StartOfSession)=\"&A23&\"\", \"Bar\", \"\", \"Close\",\"5\",\"0\",\"All\",,,\"False\",\"T\",\"EveryTick\"))","v":{"$error":"#N/A"}},null,{"$f":"IF(D23=0,NA(),RTD(\"cqg.rtd\",,\"StudyData\", \"Close(\"&$BD$2&\") When Barix(\"&$BD$2&\",reference:=StartOfSession)=\"&A23&\"\", \"Bar\", \"\", \"Close\",\"5\",\"0\",\"All\",,,\"False\",\"T\",\"EveryTick\"))","v":{"$error":"#N/A"}},null,{"$f":"IF(D23=0,NA(),RTD(\"cqg.rtd\",,\"StudyData\", \"Close(\"&$BF$2&\") When Barix(\"&$BF$2&\",reference:=StartOfSession)=\"&A23&\"\", \"Bar\", \"\", \"Close\",\"5\",\"0\",\"All\",,,\"False\",\"T\",\"EveryTick\"))","v":{"$error":"#N/A"}},null,{"$f":"IF(D23=0,NA(),RTD(\"cqg.rtd\",,\"StudyData\", \"Close(\"&$BH$2&\") When Barix(\"&$BH$2&\",reference:=StartOfSession)=\"&A23&\"\", \"Bar\", \"\", \"Close\",\"5\",\"0\",\"All\",,,\"False\",\"T\",\"EveryTick\"))","v":{"$error":"#N/A"}},null,{"$f":"IF(D23=0,NA(),RTD(\"cqg.rtd\",,\"StudyData\", \"Close(\"&$BJ$2&\") When Barix(\"&$BJ$2&\",reference:=StartOfSession)=\"&A23&\"\", \"Bar\", \"\", \"Close\",\"5\",\"0\",\"All\",,,\"False\",\"T\",\"EveryTick\"))","v":{"$error":"#N/A"}},null,{"$f":"IF(D23=0,NA(),RTD(\"cqg.rtd\",,\"StudyData\", \"Close(\"&$BL$2&\") When Barix(\"&$BL$2&\",reference:=StartOfSession)=\"&A23&\"\", \"Bar\", \"\", \"Close\",\"5\",\"0\",\"All\",,,\"False\",\"T\",\"EveryTick\"))","v":{"$error":"#N/A"}},null,{"$f":"IF(D23=0,NA(),RTD(\"cqg.rtd\",,\"StudyData\", \"Close(\"&$BN$2&\") When Barix(\"&$BN$2&\",reference:=StartOfSession)=\"&A23&\"\", \"Bar\", \"\", \"Close\",\"5\",\"0\",\"All\",,,\"False\",\"T\",\"EveryTick\"))","v":{"$error":"#N/A"}},null,{"$f":"IF(D23=0,NA(),RTD(\"cqg.rtd\",,\"StudyData\", \"Close(\"&$BP$2&\") When Barix(\"&$BP$2&\",reference:=StartOfSession)=\"&A23&\"\", \"Bar\", \"\", \"Close\",\"5\",\"0\",\"All\",,,\"False\",\"T\",\"EveryTick\"))","v":{"$error":"#N/A"}},null,{"$f":"IF(D23=0,NA(),RTD(\"cqg.rtd\",,\"StudyData\", \"Close(\"&$BR$2&\") When Barix(\"&$BR$2&\",reference:=StartOfSession)=\"&A23&\"\", \"Bar\", \"\", \"Close\",\"5\",\"0\",\"All\",,,\"False\",\"T\",\"EveryTick\"))","v":{"$error":"#N/A"}},null,{"$f":"IF(D23=0,NA(),RTD(\"cqg.rtd\",,\"StudyData\", \"Close(\"&$BT$2&\") When Barix(\"&$BT$2&\",reference:=StartOfSession)=\"&A23&\"\", \"Bar\", \"\", \"Close\",\"5\",\"0\",\"All\",,,\"False\",\"T\",\"EveryTick\"))","v":{"$error":"#N/A"}},null,{"$f":"IF(D23=0,NA(),RTD(\"cqg.rtd\",,\"StudyData\", \"Close(\"&$BV$2&\") When Barix(\"&$BV$2&\",reference:=StartOfSession)=\"&A23&\"\", \"Bar\", \"\", \"Close\",\"5\",\"0\",\"All\",,,\"False\",\"T\",\"EveryTick\"))","v":{"$error":"#N/A"}},null,{"$f":"IF(D23=0,NA(),RTD(\"cqg.rtd\",,\"StudyData\", \"Close(\"&$BX$2&\") When Barix(\"&$BX$2&\",reference:=StartOfSession)=\"&A23&\"\", \"Bar\", \"\", \"Close\",\"5\",\"0\",\"All\",,,\"False\",\"T\",\"EveryTick\"))","v":{"$error":"#N/A"}},null,{"$f":"IF(D23=0,NA(),RTD(\"cqg.rtd\",,\"StudyData\", \"Close(\"&$BZ$2&\") When Barix(\"&$BZ$2&\",reference:=StartOfSession)=\"&A23&\"\", \"Bar\", \"\", \"Close\",\"5\",\"0\",\"All\",,,\"False\",\"T\",\"EveryTick\"))","v":{"$error":"#N/A"}}]
[20,{"$f":"IF(D24=0,NA(),RTD(\"cqg.rtd\",,\"StudyData\", \"Close(\"&$B$2&\") When Barix(\"&$B$2&\",reference:=StartOfSession)=\"&A24&\"\", \"Bar\", \"\", \"Close\",\"5\",\"0\",\"All\",,,\"False\",\"T\",\"EveryTick\"))","v":{"$error":"#N/A"}},"10:10:00",0,null,{"$f":"IF(D24=0,NA(),RTD(\"cqg.rtd\",,\"StudyData\", \"Close(\"&$F$2&\") When Barix(\"&$F$2&\",reference:=StartOfSession)=\"&A24&\"\", \"Bar\", \"\", \"Close\",\"5\",\"0\",\"All\",,,\"False\",\"T\",\"EveryTick\"))","v":{"$error":"#N/A"}},null,{"$f":"IF(D24=0,NA(),RTD(\"cqg.rtd\",,\"StudyData\", \"Close(\"&$H$2&\") When Barix(\"&$H$2&\",reference:=StartOfSession)=\"&A24&\"\", \"Bar\", \"\", \"Close\",\"5\",\"0\",\"All\",,,\"False\",\"T\",\"EveryTick\"))","v":{"$error":"#N/A"}},null,{"$f":"IF(D24=0,NA(),RTD(\"cqg.rtd\",,\"StudyData\", \"Close(\"&$J$2&\") When Barix(\"&$J$2&\",reference:=StartOfSession)=\"&A24&\"\", \"Bar\", \"\", \"Close\",\"5\",\"0\",\"All\",,,\"False\",\"T\",\"EveryTick\"))","v":{"$error":"#N/A"}},null,{"$f":"IF(D24=0,NA(),RTD(\"cqg.rtd\",,\"StudyData\", \"Close(\"&$L$2&\") When Barix(\"&$L$2&\",reference:=StartOfSession)=\"&A24&\"\", \"Bar\", \"\", \"Close\",\"5\",\"0\",\"All\",,,\"False\",\"T\",\"EveryTick\"))","v":{"$error":"#N/A"}},null,{"$f":"IF(D24=0,NA(),RTD(\"cqg.rtd\",,\"StudyData\", \"Close(\"&$N$2&\") When Barix(\"&$N$2&\",reference:=StartOfSession)=\"&A24&\"\", \"Bar\", \"\", \"Close\",\"5\",\"0\",\"All\",,,\"False\",\"T\",\"EveryTick\"))","v":{"$error":"#N/A"}},null,{"$f":"IF(D24=0,NA(),RTD(\"cqg.rtd\",,\"StudyData\", \"Close(\"&$P$2&\") When Barix(\"&$P$2&\",reference:=StartOfSession)=\"&A24&\"\", \"Bar\", \"\", \"Close\",\"5\",\"0\",\"All\",,,\"False\",\"T\",\"EveryTick\"))","v":{"$error":"#N/A"}},null,{"$f":"IF(D24=0,NA(),RTD(\"cqg.rtd\",,\"StudyData\", \"Close(\"&$R$2&\") When Barix(\"&$R$2&\",reference:=StartOfSession)=\"&A24&\"\", \"Bar\", \"\", \"Close\",\"5\",\"0\",\"All\",,,\"False\",\"T\",\"EveryTick\"))","v":{"$error":"#N/A"}},null,{"$f":"IF(D24=0,NA(),RTD(\"cqg.rtd\",,\"StudyData\", \"Close(\"&$T$2&\") When Barix(\"&$T$2&\",reference:=StartOfSession)=\"&A24&\"\", \"Bar\", \"\", \"Close\",\"5\",\"0\",\"All\",,,\"False\",\"T\",\"EveryTick\"))","v":{"$error":"#N/A"}},null,{"$f":"IF(D24=0,NA(),RTD(\"cqg.rtd\",,\"StudyData\", \"Close(\"&$V$2&\") When Barix(\"&$V$2&\",reference:=StartOfSession)=\"&A24&\"\", \"Bar\", \"\", \"Close\",\"5\",\"0\",\"All\",,,\"False\",\"T\",\"EveryTick\"))","v":{"$error":"#N/A"}},null,{"$f":"IF(D24=0,NA(),RTD(\"cqg.rtd\",,\"StudyData\", \"Close(\"&$X$2&\") When Barix(\"&$X$2&\",reference:=StartOfSession)=\"&A24&\"\", \"Bar\", \"\", \"Close\",\"5\",\"0\",\"All\",,,\"False\",\"T\",\"EveryTick\"))","v":{"$error":"#N/A"}},null,{"$f":"IF(D24=0,NA(),RTD(\"cqg.rtd\",,\"StudyData\", \"Close(\"&$Z$2&\") When Barix(\"&$Z$2&\",reference:=StartOfSession)=\"&A24&\"\", \"Bar\", \"\", \"Close\",\"5\",\"0\",\"All\",,,\"False\",\"T\",\"EveryTick\"))","v":{"$error":"#N/A"}},null,{"$f":"IF(D24=0,NA(),RTD(\"cqg.rtd\",,\"StudyData\", \"Close(\"&$AB$2&\") When Barix(\"&$AB$2&\",reference:=StartOfSession)=\"&A24&\"\", \"Bar\", \"\", \"Close\",\"5\",\"0\",\"All\",,,\"False\",\"T\",\"EveryTick\"))","v":{"$error":"#N/A"}},null,{"$f":"IF(D24=0,NA(),RTD(\"cqg.rtd\",,\"StudyData\", \"Close(\"&$AD$2&\") When Barix(\"&$AD$2&\",reference:=StartOfSession)=\"&A24&\"\", \"Bar\", \"\", \"Close\",\"5\",\"0\",\"All\",,,\"False\",\"T\",\"EveryTick\"))","v":{"$error":"#N/A"}},null,{"$f":"IF(D24=0,NA(),RTD(\"cqg.rtd\",,\"StudyData\", \"Close(\"&$AF$2&\") When Barix(\"&$AF$2&\",reference:=StartOfSession)=\"&A24&\"\", \"Bar\", \"\", \"Close\",\"5\",\"0\",\"All\",,,\"False\",\"T\",\"EveryTick\"))","v":{"$error":"#N/A"}},null,{"$f":"IF(D24=0,NA(),RTD(\"cqg.rtd\",,\"StudyData\", \"Close(\"&$AH$2&\") When Barix(\"&$AH$2&\",reference:=StartOfSession)=\"&A24&\"\", \"Bar\", \"\", \"Close\",\"5\",\"0\",\"All\",,,\"False\",\"T\",\"EveryTick\"))","v":{"$error":"#N/A"}},null,{"$f":"IF(D24=0,NA(),RTD(\"cqg.rtd\",,\"StudyData\", \"Close(\"&$AJ$2&\") When Barix(\"&$AJ$2&\",reference:=StartOfSession)=\"&A24&\"\", \"Bar\", \"\", \"Close\",\"5\",\"0\",\"All\",,,\"False\",\"T\",\"EveryTick\"))","v":{"$error":"#N/A"}},null,{"$f":"IF(D24=0,NA(),RTD(\"cqg.rtd\",,\"StudyData\", \"Close(\"&$AL$2&\") When Barix(\"&$AL$2&\",reference:=StartOfSession)=\"&A24&\"\", \"Bar\", \"\", \"Close\",\"5\",\"0\",\"All\",,,\"False\",\"T\",\"EveryTick\"))","v":{"$error":"#N/A"}},null,{"$f":"IF(D24=0,NA(),RTD(\"cqg.rtd\",,\"StudyData\", \"Close(\"&$AN$2&\") When Barix(\"&$AN$2&\",reference:=StartOfSession)=\"&A24&\"\", \"Bar\", \"\", \"Close\",\"5\",\"0\",\"All\",,,\"False\",\"T\",\"EveryTick\"))","v":{"$error":"#N/A"}},null,{"$f":"IF(D24=0,NA(),RTD(\"cqg.rtd\",,\"StudyData\", \"Close(\"&$AN$2&\") When Barix(\"&$AN$2&\",reference:=StartOfSession)=\"&A24&\"\", \"Bar\", \"\", \"Close\",\"5\",\"0\",\"All\",,,\"False\",\"T\",\"EveryTick\"))","v":{"$error":"#N/A"}},null,{"$f":"IF(D24=0,NA(),RTD(\"cqg.rtd\",,\"StudyData\", \"Close(\"&$AR$2&\") When Barix(\"&$AR$2&\",reference:=StartOfSession)=\"&A24&\"\", \"Bar\", \"\", \"Close\",\"5\",\"0\",\"All\",,,\"False\",\"T\",\"EveryTick\"))","v":{"$error":"#N/A"}},null,{"$f":"IF(D24=0,NA(),RTD(\"cqg.rtd\",,\"StudyData\", \"Close(\"&$AT$2&\") When Barix(\"&$AT$2&\",reference:=StartOfSession)=\"&A24&\"\", \"Bar\", \"\", \"Close\",\"5\",\"0\",\"All\",,,\"False\",\"T\",\"EveryTick\"))","v":{"$error":"#N/A"}},null,{"$f":"IF(D24=0,NA(),RTD(\"cqg.rtd\",,\"StudyData\", \"Close(\"&$AV$2&\") When Barix(\"&$AV$2&\",reference:=StartOfSession)=\"&A24&\"\", \"Bar\", \"\", \"Close\",\"5\",\"0\",\"All\",,,\"False\",\"T\",\"EveryTick\"))","v":{"$error":"#N/A"}},null,{"$f":"IF(D24=0,NA(),RTD(\"cqg.rtd\",,\"StudyData\", \"Close(\"&$AX$2&\") When Barix(\"&$AX$2&\",reference:=StartOfSession)=\"&A24&\"\", \"Bar\", \"\", \"Close\",\"5\",\"0\",\"All\",,,\"False\",\"T\",\"EveryTick\"))","v":{"$error":"#N/A"}},null,{"$f":"IF(D24=0,NA(),RTD(\"cqg.rtd\",,\"StudyData\", \"Close(\"&$AZ$2&\") When Barix(\"&$AZ$2&\",reference:=StartOfSession)=\"&A24&\"\", \"Bar\", \"\", \"Close\",\"5\",\"0\",\"All\",,,\"False\",\"T\",\"EveryTick\"))","v":{"$error":"#N/A"}},null,{"$f":"IF(D24=0,NA(),RTD(\"cqg.rtd\",,\"StudyData\", \"Close(\"&$BB$2&\") When Barix(\"&$BB$2&\",reference:=StartOfSession)=\"&A24&\"\", \"Bar\", \"\", \"Close\",\"5\",\"0\",\"All\",,,\"False\",\"T\",\"EveryTick\"))","v":{"$error":"#N/A"}},null,{"$f":"IF(D24=0,NA(),RTD(\"cqg.rtd\",,\"StudyData\", \"Close(\"&$BD$2&\") When Barix(\"&$BD$2&\",reference:=StartOfSession)=\"&A24&\"\", \"Bar\", \"\", \"Close\",\"5\",\"0\",\"All\",,,\"False\",\"T\",\"EveryTick\"))","v":{"$error":"#N/A"}},null,{"$f":"IF(D24=0,NA(),RTD(\"cqg.rtd\",,\"StudyData\", \"Close(\"&$BF$2&\") When Barix(\"&$BF$2&\",reference:=StartOfSession)=\"&A24&\"\", \"Bar\", \"\", \"Close\",\"5\",\"0\",\"All\",,,\"False\",\"T\",\"EveryTick\"))","v":{"$error":"#N/A"}},null,{"$f":"IF(D24=0,NA(),RTD(\"cqg.rtd\",,\"StudyData\", \"Close(\"&$BH$2&\") When Barix(\"&$BH$2&\",reference:=StartOfSession)=\"&A24&\"\", \"Bar\", \"\", \"Close\",\"5\",\"0\",\"All\",,,\"False\",\"T\",\"EveryTick\"))","v":{"$error":"#N/A"}},null,{"$f":"IF(D24=0,NA(),RTD(\"cqg.rtd\",,\"StudyData\", \"Close(\"&$BJ$2&\") When Barix(\"&$BJ$2&\",reference:=StartOfSession)=\"&A24&\"\", \"Bar\", \"\", \"Close\",\"5\",\"0\",\"All\",,,\"False\",\"T\",\"EveryTick\"))","v":{"$error":"#N/A"}},null,{"$f":"IF(D24=0,NA(),RTD(\"cqg.rtd\",,\"StudyData\", \"Close(\"&$BL$2&\") When Barix(\"&$BL$2&\",reference:=StartOfSession)=\"&A24&\"\", \"Bar\", \"\", \"Close\",\"5\",\"0\",\"All\",,,\"False\",\"T\",\"EveryTick\"))","v":{"$error":"#N/A"}},null,{"$f":"IF(D24=0,NA(),RTD(\"cqg.rtd\",,\"StudyData\", \"Close(\"&$BN$2&\") When Barix(\"&$BN$2&\",reference:=StartOfSession)=\"&A24&\"\", \"Bar\", \"\", \"Close\",\"5\",\"0\",\"All\",,,\"False\",\"T\",\"EveryTick\"))","v":{"$error":"#N/A"}},null,{"$f":"IF(D24=0,NA(),RTD(\"cqg.rtd\",,\"StudyData\", \"Close(\"&$BP$2&\") When Barix(\"&$BP$2&\",reference:=StartOfSession)=\"&A24&\"\", \"Bar\", \"\", \"Close\",\"5\",\"0\",\"All\",,,\"False\",\"T\",\"EveryTick\"))","v":{"$error":"#N/A"}},null,{"$f":"IF(D24=0,NA(),RTD(\"cqg.rtd\",,\"StudyData\", \"Close(\"&$BR$2&\") When Barix(\"&$BR$2&\",reference:=StartOfSession)=\"&A24&\"\", \"Bar\", \"\", \"Close\",\"5\",\"0\",\"All\",,,\"False\",\"T\",\"EveryTick\"))","v":{"$error":"#N/A"}},null,{"$f":"IF(D24=0,NA(),RTD(\"cqg.rtd\",,\"StudyData\", \"Close(\"&$BT$2&\") When Barix(\"&$BT$2&\",reference:=StartOfSession)=\"&A24&\"\", \"Bar\", \"\", \"Close\",\"5\",\"0\",\"All\",,,\"False\",\"T\",\"EveryTick\"))","v":{"$error":"#N/A"}},null,{"$f":"IF(D24=0,NA(),RTD(\"cqg.rtd\",,\"StudyData\", \"Close(\"&$BV$2&\") When Barix(\"&$BV$2&\",reference:=StartOfSession)=\"&A24&\"\", \"Bar\", \"\", \"Close\",\"5\",\"0\",\"All\",,,\"False\",\"T\",\"EveryTick\"))","v":{"$error":"#N/A"}},null,{"$f":"IF(D24=0,NA(),RTD(\"cqg.rtd\",,\"StudyData\", \"Close(\"&$BX$2&\") When Barix(\"&$BX$2&\",reference:=StartOfSession)=\"&A24&\"\", \"Bar\", \"\", \"Close\",\"5\",\"0\",\"All\",,,\"False\",\"T\",\"EveryTick\"))","v":{"$error":"#N/A"}},null,{"$f":"IF(D24=0,NA(),RTD(\"cqg.rtd\",,\"StudyData\", \"Close(\"&$BZ$2&\") When Barix(\"&$BZ$2&\",reference:=StartOfSession)=\"&A24&\"\", \"Bar\", \"\", \"Close\",\"5\",\"0\",\"All\",,,\"False\",\"T\",\"EveryTick\"))","v":{"$error":"#N/A"}}]
[21,{"$f":"IF(D25=0,NA(),RTD(\"cqg.rtd\",,\"StudyData\", \"Close(\"&$B$2&\") When Barix(\"&$B$2&\",reference:=StartOfSession)=\"&A25&\"\", \"Bar\", \"\", \"Close\",\"5\",\"0\",\"All\",,,\"False\",\"T\",\"EveryTick\"))","v":{"$error":"#N/A"}},"10:15:00",0,null,{"$f":"IF(D25=0,NA(),RTD(\"cqg.rtd\",,\"StudyData\", \"Close(\"&$F$2&\") When Barix(\"&$F$2&\",reference:=StartOfSession)=\"&A25&\"\", \"Bar\", \"\", \"Close\",\"5\",\"0\",\"All\",,,\"False\",\"T\",\"EveryTick\"))","v":{"$error":"#N/A"}},null,{"$f":"IF(D25=0,NA(),RTD(\"cqg.rtd\",,\"StudyData\", \"Close(\"&$H$2&\") When Barix(\"&$H$2&\",reference:=StartOfSession)=\"&A25&\"\", \"Bar\", \"\", \"Close\",\"5\",\"0\",\"All\",,,\"False\",\"T\",\"EveryTick\"))","v":{"$error":"#N/A"}},null,{"$f":"IF(D25=0,NA(),RTD(\"cqg.rtd\",,\"StudyData\", \"Close(\"&$J$2&\") When Barix(\"&$J$2&\",reference:=StartOfSession)=\"&A25&\"\", \"Bar\", \"\", \"Close\",\"5\",\"0\",\"All\",,,\"False\",\"T\",\"EveryTick\"))","v":{"$error":"#N/A"}},null,{"$f":"IF(D25=0,NA(),RTD(\"cqg.rtd\",,\"StudyData\", \"Close(\"&$L$2&\") When Barix(\"&$L$2&\",reference:=StartOfSession)=\"&A25&\"\", \"Bar\", \"\", \"Close\",\"5\",\"0\",\"All\",,,\"False\",\"T\",\"EveryTick\"))","v":{"$error":"#N/A"}},null,{"$f":"IF(D25=0,NA(),RTD(\"cqg.rtd\",,\"StudyData\", \"Close(\"&$N$2&\") When Barix(\"&$N$2&\",reference:=StartOfSession)=\"&A25&\"\", \"Bar\", \"\", \"Close\",\"5\",\"0\",\"All\",,,\"False\",\"T\",\"EveryTick\"))","v":{"$error":"#N/A"}},null,{"$f":"IF(D25=0,NA(),RTD(\"cqg.rtd\",,\"StudyData\", \"Close(\"&$P$2&\") When Barix(\"&$P$2&\",reference:=StartOfSession)=\"&A25&\"\", \"Bar\", \"\", \"Close\",\"5\",\"0\",\"All\",,,\"False\",\"T\",\"EveryTick\"))","v":{"$error":"#N/A"}},null,{"$f":"IF(D25=0,NA(),RTD(\"cqg.rtd\",,\"StudyData\", \"Close(\"&$R$2&\") When Barix(\"&$R$2&\",reference:=StartOfSession)=\"&A25&\"\", \"Bar\", \"\", \"Close\",\"5\",\"0\",\"All\",,,\"False\",\"T\",\"EveryTick\"))","v":{"$error":"#N/A"}},null,{"$f":"IF(D25=0,NA(),RTD(\"cqg.rtd\",,\"StudyData\", \"Close(\"&$T$2&\") When Barix(\"&$T$2&\",reference:=StartOfSession)=\"&A25&\"\", \"Bar\", \"\", \"Close\",\"5\",\"0\",\"All\",,,\"False\",\"T\",\"EveryTick\"))","v":{"$error":"#N/A"}},null,{"$f":"IF(D25=0,NA(),RTD(\"cqg.rtd\",,\"StudyData\", \"Close(\"&$V$2&\") When Barix(\"&$V$2&\",reference:=StartOfSession)=\"&A25&\"\", \"Bar\", \"\", \"Close\",\"5\",\"0\",\"All\",,,\"False\",\"T\",\"EveryTick\"))","v":{"$error":"#N/A"}},null,{"$f":"IF(D25=0,NA(),RTD(\"cqg.rtd\",,\"StudyData\", \"Close(\"&$X$2&\") When Barix(\"&$X$2&\",reference:=StartOfSession)=\"&A25&\"\", \"Bar\", \"\", \"Close\",\"5\",\"0\",\"All\",,,\"False\",\"T\",\"EveryTick\"))","v":{"$error":"#N/A"}},null,{"$f":"IF(D25=0,NA(),RTD(\"cqg.rtd\",,\"StudyData\", \"Close(\"&$Z$2&\") When Barix(\"&$Z$2&\",reference:=StartOfSession)=\"&A25&\"\", \"Bar\", \"\", \"Close\",\"5\",\"0\",\"All\",,,\"False\",\"T\",\"EveryTick\"))","v":{"$error":"#N/A"}},null,{"$f":"IF(D25=0,NA(),RTD(\"cqg.rtd\",,\"StudyData\", \"Close(\"&$AB$2&\") When Barix(\"&$AB$2&\",reference:=StartOfSession)=\"&A25&\"\", \"Bar\", \"\", \"Close\",\"5\",\"0\",\"All\",,,\"False\",\"T\",\"EveryTick\"))","v":{"$error":"#N/A"}},null,{"$f":"IF(D25=0,NA(),RTD(\"cqg.rtd\",,\"StudyData\", \"Close(\"&$AD$2&\") When Barix(\"&$AD$2&\",reference:=StartOfSession)=\"&A25&\"\", \"Bar\", \"\", \"Close\",\"5\",\"0\",\"All\",,,\"False\",\"T\",\"EveryTick\"))","v":{"$error":"#N/A"}},null,{"$f":"IF(D25=0,NA(),RTD(\"cqg.rtd\",,\"StudyData\", \"Close(\"&$AF$2&\") When Barix(\"&$AF$2&\",reference:=StartOfSession)=\"&A25&\"\", \"Bar\", \"\", \"Close\",\"5\",\"0\",\"All\",,,\"False\",\"T\",\"EveryTick\"))","v":{"$error":"#N/A"}},null,{"$f":"IF(D25=0,NA(),RTD(\"cqg.rtd\",,\"StudyData\", \"Close(\"&$AH$2&\") When Barix(\"&$AH$2&\",reference:=StartOfSession)=\"&A25&\"\", \"Bar\", \"\", \"Close\",\"5\",\"0\",\"All\",,,\"False\",\"T\",\"EveryTick\"))","v":{"$error":"#N/A"}},null,{"$f":"IF(D25=0,NA(),RTD(\"cqg.rtd\",,\"StudyData\", \"Close(\"&$AJ$2&\") When Barix(\"&$AJ$2&\",reference:=StartOfSession)=\"&A25&\"\", \"Bar\", \"\", \"Close\",\"5\",\"0\",\"All\",,,\"False\",\"T\",\"EveryTick\"))","v":{"$error":"#N/A"}},null,{"$f":"IF(D25=0,NA(),RTD(\"cqg.rtd\",,\"StudyData\", \"Close(\"&$AL$2&\") When Barix(\"&$AL$2&\",reference:=StartOfSession)=\"&A25&\"\", \"Bar\", \"\", \"Close\",\"5\",\"0\",\"All\",,,\"False\",\"T\",\"EveryTick\"))","v":{"$error":"#N/A"}},null,{"$f":"IF(D25=0,NA(),RTD(\"cqg.rtd\",,\"StudyData\", \"Close(\"&$AN$2&\") When Barix(\"&$AN$2&\",reference:=StartOfSession)=\"&A25&\"\", \"Bar\", \"\", \"Close\",\"5\",\"0\",\"All\",,,\"False\",\"T\",\"EveryTick\"))","v":{"$error":"#N/A"}},null,{"$f":"IF(D25=0,NA(),RTD(\"cqg.rtd\",,\"StudyData\", \"Close(\"&$AN$2&\") When Barix(\"&$AN$2&\",reference:=StartOfSession)=\"&A25&\"\", \"Bar\", \"\", \"Close\",\"5\",\"0\",\"All\",,,\"False\",\"T\",\"EveryTick\"))","v":{"$error":"#N/A"}},null,{"$f":"IF(D25=0,NA(),RTD(\"cqg.rtd\",,\"StudyData\", \"Close(\"&$AR$2&\") When Barix(\"&$AR$2&\",reference:=StartOfSession)=\"&A25&\"\", \"Bar\", \"\", \"Close\",\"5\",\"0\",\"All\",,,\"False\",\"T\",\"EveryTick\"))","v":{"$error":"#N/A"}},null,{"$f":"IF(D25=0,NA(),RTD(\"cqg.rtd\",,\"StudyData\", \"Close(\"&$AT$2&\") When Barix(\"&$AT$2&\",reference:=StartOfSession)=\"&A25&\"\", \"Bar\", \"\", \"Close\",\"5\",\"0\",\"All\",,,\"False\",\"T\",\"EveryTick\"))","v":{"$error":"#N/A"}},null,{"$f":"IF(D25=0,NA(),RTD(\"cqg.rtd\",,\"StudyData\", \"Close(\"&$AV$2&\") When Barix(\"&$AV$2&\",reference:=StartOfSession)=\"&A25&\"\", \"Bar\", \"\", \"Close\",\"5\",\"0\",\"All\",,,\"False\",\"T\",\"EveryTick\"))","v":{"$error":"#N/A"}},null,{"$f":"IF(D25=0,NA(),RTD(\"cqg.rtd\",,\"StudyData\", \"Close(\"&$AX$2&\") When Barix(\"&$AX$2&\",reference:=StartOfSession)=\"&A25&\"\", \"Bar\", \"\", \"Close\",\"5\",\"0\",\"All\",,,\"False\",\"T\",\"EveryTick\"))","v":{"$error":"#N/A"}},null,{"$f":"IF(D25=0,NA(),RTD(\"cqg.rtd\",,\"StudyData\", \"Close(\"&$AZ$2&\") When Barix(\"&$AZ$2&\",reference:=StartOfSession)=\"&A25&\"\", \"Bar\", \"\", \"Close\",\"5\",\"0\",\"All\",,,\"False\",\"T\",\"EveryTick\"))","v":{"$error":"#N/A"}},null,{"$f":"IF(D25=0,NA(),RTD(\"cqg.rtd\",,\"StudyData\", \"Close(\"&$BB$2&\") When Barix(\"&$BB$2&\",reference:=StartOfSession)=\"&A25&\"\", \"Bar\", \"\", \"Close\",\"5\",\"0\",\"All\",,,\"False\",\"T\",\"EveryTick\"))","v":{"$error":"#N/A"}},null,{"$f":"IF(D25=0,NA(),RTD(\"cqg.rtd\",,\"StudyData\", \"Close(\"&$BD$2&\") When Barix(\"&$BD$2&\",reference:=StartOfSession)=\"&A25&\"\", \"Bar\", \"\", \"Close\",\"5\",\"0\",\"All\",,,\"False\",\"T\",\"EveryTick\"))","v":{"$error":"#N/A"}},null,{"$f":"IF(D25=0,NA(),RTD(\"cqg.rtd\",,\"StudyData\", \"Close(\"&$BF$2&\") When Barix(\"&$BF$2&\",reference:=StartOfSession)=\"&A25&\"\", \"Bar\", \"\", \"Close\",\"5\",\"0\",\"All\",,,\"False\",\"T\",\"EveryTick\"))","v":{"$error":"#N/A"}},null,{"$f":"IF(D25=0,NA(),RTD(\"cqg.rtd\",,\"StudyData\", \"Close(\"&$BH$2&\") When Barix(\"&$BH$2&\",reference:=StartOfSession)=\"&A25&\"\", \"Bar\", \"\", \"Close\",\"5\",\"0\",\"All\",,,\"False\",\"T\",\"EveryTick\"))","v":{"$error":"#N/A"}},null,{"$f":"IF(D25=0,NA(),RTD(\"cqg.rtd\",,\"StudyData\", \"Close(\"&$BJ$2&\") When Barix(\"&$BJ$2&\",reference:=StartOfSession)=\"&A25&\"\", \"Bar\", \"\", \"Close\",\"5\",\"0\",\"All\",,,\"False\",\"T\",\"EveryTick\"))","v":{"$error":"#N/A"}},null,{"$f":"IF(D25=0,NA(),RTD(\"cqg.rtd\",,\"StudyData\", \"Close(\"&$BL$2&\") When Barix(\"&$BL$2&\",reference:=StartOfSession)=\"&A25&\"\", \"Bar\", \"\", \"Close\",\"5\",\"0\",\"All\",,,\"False\",\"T\",\"EveryTick\"))","v":{"$error":"#N/A"}},null,{"$f":"IF(D25=0,NA(),RTD(\"cqg.rtd\",,\"StudyData\", \"Close(\"&$BN$2&\") When Barix(\"&$BN$2&\",reference:=StartOfSession)=\"&A25&\"\", \"Bar\", \"\", \"Close\",\"5\",\"0\",\"All\",,,\"False\",\"T\",\"EveryTick\"))","v":{"$error":"#N/A"}},null,{"$f":"IF(D25=0,NA(),RTD(\"cqg.rtd\",,\"StudyData\", \"Close(\"&$BP$2&\") When Barix(\"&$BP$2&\",reference:=StartOfSession)=\"&A25&\"\", \"Bar\", \"\", \"Close\",\"5\",\"0\",\"All\",,,\"False\",\"T\",\"EveryTick\"))","v":{"$error":"#N/A"}},null,{"$f":"IF(D25=0,NA(),RTD(\"cqg.rtd\",,\"StudyData\", \"Close(\"&$BR$2&\") When Barix(\"&$BR$2&\",reference:=StartOfSession)=\"&A25&\"\", \"Bar\", \"\", \"Close\",\"5\",\"0\",\"All\",,,\"False\",\"T\",\"EveryTick\"))","v":{"$error":"#N/A"}},null,{"$f":"IF(D25=0,NA(),RTD(\"cqg.rtd\",,\"StudyData\", \"Close(\"&$BT$2&\") When Barix(\"&$BT$2&\",reference:=StartOfSession)=\"&A25&\"\", \"Bar\", \"\", \"Close\",\"5\",\"0\",\"All\",,,\"False\",\"T\",\"EveryTick\"))","v":{"$error":"#N/A"}},null,{"$f":"IF(D25=0,NA(),RTD(\"cqg.rtd\",,\"StudyData\", \"Close(\"&$BV$2&\") When Barix(\"&$BV$2&\",reference:=StartOfSession)=\"&A25&\"\", \"Bar\", \"\", \"Close\",\"5\",\"0\",\"All\",,,\"False\",\"T\",\"EveryTick\"))","v":{"$error":"#N/A"}},null,{"$f":"IF(D25=0,NA(),RTD(\"cqg.rtd\",,\"StudyData\", \"Close(\"&$BX$2&\") When Barix(\"&$BX$2&\",reference:=StartOfSession)=\"&A25&\"\", \"Bar\", \"\", \"Close\",\"5\",\"0\",\"All\",,,\"False\",\"T\",\"EveryTick\"))","v":{"$error":"#N/A"}},null,{"$f":"IF(D25=0,NA(),RTD(\"cqg.rtd\",,\"StudyData\", \"Close(\"&$BZ$2&\") When Barix(\"&$BZ$2&\",reference:=StartOfSession)=\"&A25&\"\", \"Bar\", \"\", \"Close\",\"5\",\"0\",\"All\",,,\"False\",\"T\",\"EveryTick\"))","v":{"$error":"#N/A"}}]
[22,{"$f":"IF(D26=0,NA(),RTD(\"cqg.rtd\",,\"StudyData\", \"Close(\"&$B$2&\") When Barix(\"&$B$2&\",reference:=StartOfSession)=\"&A26&\"\", \"Bar\", \"\", \"Close\",\"5\",\"0\",\"All\",,,\"False\",\"T\",\"EveryTick\"))","v":{"$error":"#N/A"}},"10:20:00",0,null,{"$f":"IF(D26=0,NA(),RTD(\"cqg.rtd\",,\"StudyData\", \"Close(\"&$F$2&\") When Barix(\"&$F$2&\",reference:=StartOfSession)=\"&A26&\"\", \"Bar\", \"\", \"Close\",\"5\",\"0\",\"All\",,,\"False\",\"T\",\"EveryTick\"))","v":{"$error":"#N/A"}},null,{"$f":"IF(D26=0,NA(),RTD(\"cqg.rtd\",,\"StudyData\", \"Close(\"&$H$2&\") When Barix(\"&$H$2&\",reference:=StartOfSession)=\"&A26&\"\", \"Bar\", \"\", \"Close\",\"5\",\"0\",\"All\",,,\"False\",\"T\",\"EveryTick\"))","v":{"$error":"#N/A"}},null,{"$f":"IF(D26=0,NA(),RTD(\"cqg.rtd\",,\"StudyData\", \"Close(\"&$J$2&\") When Barix(\"&$J$2&\",reference:=StartOfSession)=\"&A26&\"\", \"Bar\", \"\", \"Close\",\"5\",\"0\",\"All\",,,\"False\",\"T\",\"EveryTick\"))","v":{"$error":"#N/A"}},null,{"$f":"IF(D26=0,NA(),RTD(\"cqg.rtd\",,\"StudyData\", \"Close(\"&$L$2&\") When Barix(\"&$L$2&\",reference:=StartOfSession)=\"&A26&\"\", \"Bar\", \"\", \"Close\",\"5\",\"0\",\"All\",,,\"False\",\"T\",\"EveryTick\"))","v":{"$error":"#N/A"}},null,{"$f":"IF(D26=0,NA(),RTD(\"cqg.rtd\",,\"StudyData\", \"Close(\"&$N$2&\") When Barix(\"&$N$2&\",reference:=StartOfSession)=\"&A26&\"\", \"Bar\", \"\", \"Close\",\"5\",\"0\",\"All\",,,\"False\",\"T\",\"EveryTick\"))","v":{"$error":"#N/A"}},null,{"$f":"IF(D26=0,NA(),RTD(\"cqg.rtd\",,\"StudyData\", \"Close(\"&$P$2&\") When Barix(\"&$P$2&\",reference:=StartOfSession)=\"&A26&\"\", \"Bar\", \"\", \"Close\",\"5\",\"0\",\"All\",,,\"False\",\"T\",\"EveryTick\"))","v":{"$error":"#N/A"}},null,{"$f":"IF(D26=0,NA(),RTD(\"cqg.rtd\",,\"StudyData\", \"Close(\"&$R$2&\") When Barix(\"&$R$2&\",reference:=StartOfSession)=\"&A26&\"\", \"Bar\", \"\", \"Close\",\"5\",\"0\",\"All\",,,\"False\",\"T\",\"EveryTick\"))","v":{"$error":"#N/A"}},null,{"$f":"IF(D26=0,NA(),RTD(\"cqg.rtd\",,\"StudyData\", \"Close(\"&$T$2&\") When Barix(\"&$T$2&\",reference:=StartOfSession)=\"&A26&\"\", \"Bar\", \"\", \"Close\",\"5\",\"0\",\"All\",,,\"False\",\"T\",\"EveryTick\"))","v":{"$error":"#N/A"}},null,{"$f":"IF(D26=0,NA(),RTD(\"cqg.rtd\",,\"StudyData\", \"Close(\"&$V$2&\") When Barix(\"&$V$2&\",reference:=StartOfSession)=\"&A26&\"\", \"Bar\", \"\", \"Close\",\"5\",\"0\",\"All\",,,\"False\",\"T\",\"EveryTick\"))","v":{"$error":"#N/A"}},null,{"$f":"IF(D26=0,NA(),RTD(\"cqg.rtd\",,\"StudyData\", \"Close(\"&$X$2&\") When Barix(\"&$X$2&\",reference:=StartOfSession)=\"&A26&\"\", \"Bar\", \"\", \"Close\",\"5\",\"0\",\"All\",,,\"False\",\"T\",\"EveryTick\"))","v":{"$error":"#N/A"}},null,{"$f":"IF(D26=0,NA(),RTD(\"cqg.rtd\",,\"StudyData\", \"Close(\"&$Z$2&\") When Barix(\"&$Z$2&\",reference:=StartOfSession)=\"&A26&\"\", \"Bar\", \"\", \"Close\",\"5\",\"0\",\"All\",,,\"False\",\"T\",\"EveryTick\"))","v":{"$error":"#N/A"}},null,{"$f":"IF(D26=0,NA(),RTD(\"cqg.rtd\",,\"StudyData\", \"Close(\"&$AB$2&\") When Barix(\"&$AB$2&\",reference:=StartOfSession)=\"&A26&\"\", \"Bar\", \"\", \"Close\",\"5\",\"0\",\"All\",,,\"False\",\"T\",\"EveryTick\"))","v":{"$error":"#N/A"}},null,{"$f":"IF(D26=0,NA(),RTD(\"cqg.rtd\",,\"StudyData\", \"Close(\"&$AD$2&\") When Barix(\"&$AD$2&\",reference:=StartOfSession)=\"&A26&\"\", \"Bar\", \"\", \"Close\",\"5\",\"0\",\"All\",,,\"False\",\"T\",\"EveryTick\"))","v":{"$error":"#N/A"}},null,{"$f":"IF(D26=0,NA(),RTD(\"cqg.rtd\",,\"StudyData\", \"Close(\"&$AF$2&\") When Barix(\"&$AF$2&\",reference:=StartOfSession)=\"&A26&\"\", \"Bar\", \"\", \"Close\",\"5\",\"0\",\"All\",,,\"False\",\"T\",\"EveryTick\"))","v":{"$error":"#N/A"}},null,{"$f":"IF(D26=0,NA(),RTD(\"cqg.rtd\",,\"StudyData\", \"Close(\"&$AH$2&\") When Barix(\"&$AH$2&\",reference:=StartOfSession)=\"&A26&\"\", \"Bar\", \"\", \"Close\",\"5\",\"0\",\"All\",,,\"False\",\"T\",\"EveryTick\"))","v":{"$error":"#N/A"}},null,{"$f":"IF(D26=0,NA(),RTD(\"cqg.rtd\",,\"StudyData\", \"Close(\"&$AJ$2&\") When Barix(\"&$AJ$2&\",reference:=StartOfSession)=\"&A26&\"\", \"Bar\", \"\", \"Close\",\"5\",\"0\",\"All\",,,\"False\",\"T\",\"EveryTick\"))","v":{"$error":"#N/A"}},null,{"$f":"IF(D26=0,NA(),RTD(\"cqg.rtd\",,\"StudyData\", \"Close(\"&$AL$2&\") When Barix(\"&$AL$2&\",reference:=StartOfSession)=\"&A26&\"\", \"Bar\", \"\", \"Close\",\"5\",\"0\",\"All\",,,\"False\",\"T\",\"EveryTick\"))","v":{"$error":"#N/A"}},null,{"$f":"IF(D26=0,NA(),RTD(\"cqg.rtd\",,\"StudyData\", \"Close(\"&$AN$2&\") When Barix(\"&$AN$2&\",reference:=StartOfSession)=\"&A26&\"\", \"Bar\", \"\", \"Close\",\"5\",\"0\",\"All\",,,\"False\",\"T\",\"EveryTick\"))","v":{"$error":"#N/A"}},null,{"$f":"IF(D26=0,NA(),RTD(\"cqg.rtd\",,\"StudyData\", \"Close(\"&$AN$2&\") When Barix(\"&$AN$2&\",reference:=StartOfSession)=\"&A26&\"\", \"Bar\", \"\", \"Close\",\"5\",\"0\",\"All\",,,\"False\",\"T\",\"EveryTick\"))","v":{"$error":"#N/A"}},null,{"$f":"IF(D26=0,NA(),RTD(\"cqg.rtd\",,\"StudyData\", \"Close(\"&$AR$2&\") When Barix(\"&$AR$2&\",reference:=StartOfSession)=\"&A26&\"\", \"Bar\", \"\", \"Close\",\"5\",\"0\",\"All\",,,\"False\",\"T\",\"EveryTick\"))","v":{"$error":"#N/A"}},null,{"$f":"IF(D26=0,NA(),RTD(\"cqg.rtd\",,\"StudyData\", \"Close(\"&$AT$2&\") When Barix(\"&$AT$2&\",reference:=StartOfSession)=\"&A26&\"\", \"Bar\", \"\", \"Close\",\"5\",\"0\",\"All\",,,\"False\",\"T\",\"EveryTick\"))","v":{"$error":"#N/A"}},null,{"$f":"IF(D26=0,NA(),RTD(\"cqg.rtd\",,\"StudyData\", \"Close(\"&$AV$2&\") When Barix(\"&$AV$2&\",reference:=StartOfSession)=\"&A26&\"\", \"Bar\", \"\", \"Close\",\"5\",\"0\",\"All\",,,\"False\",\"T\",\"EveryTick\"))","v":{"$error":"#N/A"}},null,{"$f":"IF(D26=0,NA(),RTD(\"cqg.rtd\",,\"StudyData\", \"Close(\"&$AX$2&\") When Barix(\"&$AX$2&\",reference:=StartOfSession)=\"&A26&\"\", \"Bar\", \"\", \"Close\",\"5\",\"0\",\"All\",,,\"False\",\"T\",\"EveryTick\"))","v":{"$error":"#N/A"}},null,{"$f":"IF(D26=0,NA(),RTD(\"cqg.rtd\",,\"StudyData\", \"Close(\"&$AZ$2&\") When Barix(\"&$AZ$2&\",reference:=StartOfSession)=\"&A26&\"\", \"Bar\", \"\", \"Close\",\"5\",\"0\",\"All\",,,\"False\",\"T\",\"EveryTick\"))","v":{"$error":"#N/A"}},null,{"$f":"IF(D26=0,NA(),RTD(\"cqg.rtd\",,\"StudyData\", \"Close(\"&$BB$2&\") When Barix(\"&$BB$2&\",reference:=StartOfSession)=\"&A26&\"\", \"Bar\", \"\", \"Close\",\"5\",\"0\",\"All\",,,\"False\",\"T\",\"EveryTick\"))","v":{"$error":"#N/A"}},null,{"$f":"IF(D26=0,NA(),RTD(\"cqg.rtd\",,\"StudyData\", \"Close(\"&$BD$2&\") When Barix(\"&$BD$2&\",reference:=StartOfSession)=\"&A26&\"\", \"Bar\", \"\", \"Close\",\"5\",\"0\",\"All\",,,\"False\",\"T\",\"EveryTick\"))","v":{"$error":"#N/A"}},null,{"$f":"IF(D26=0,NA(),RTD(\"cqg.rtd\",,\"StudyData\", \"Close(\"&$BF$2&\") When Barix(\"&$BF$2&\",reference:=StartOfSession)=\"&A26&\"\", \"Bar\", \"\", \"Close\",\"5\",\"0\",\"All\",,,\"False\",\"T\",\"EveryTick\"))","v":{"$error":"#N/A"}},null,{"$f":"IF(D26=0,NA(),RTD(\"cqg.rtd\",,\"StudyData\", \"Close(\"&$BH$2&\") When Barix(\"&$BH$2&\",reference:=StartOfSession)=\"&A26&\"\", \"Bar\", \"\", \"Close\",\"5\",\"0\",\"All\",,,\"False\",\"T\",\"EveryTick\"))","v":{"$error":"#N/A"}},null,{"$f":"IF(D26=0,NA(),RTD(\"cqg.rtd\",,\"StudyData\", \"Close(\"&$BJ$2&\") When Barix(\"&$BJ$2&\",reference:=StartOfSession)=\"&A26&\"\", \"Bar\", \"\", \"Close\",\"5\",\"0\",\"All\",,,\"False\",\"T\",\"EveryTick\"))","v":{"$error":"#N/A"}},null,{"$f":"IF(D26=0,NA(),RTD(\"cqg.rtd\",,\"StudyData\", \"Close(\"&$BL$2&\") When Barix(\"&$BL$2&\",reference:=StartOfSession)=\"&A26&\"\", \"Bar\", \"\", \"Close\",\"5\",\"0\",\"All\",,,\"False\",\"T\",\"EveryTick\"))","v":{"$error":"#N/A"}},null,{"$f":"IF(D26=0,NA(),RTD(\"cqg.rtd\",,\"StudyData\", \"Close(\"&$BN$2&\") When Barix(\"&$BN$2&\",reference:=StartOfSession)=\"&A26&\"\", \"Bar\", \"\", \"Close\",\"5\",\"0\",\"All\",,,\"False\",\"T\",\"EveryTick\"))","v":{"$error":"#N/A"}},null,{"$f":"IF(D26=0,NA(),RTD(\"cqg.rtd\",,\"StudyData\", \"Close(\"&$BP$2&\") When Barix(\"&$BP$2&\",reference:=StartOfSession)=\"&A26&\"\", \"Bar\", \"\", \"Close\",\"5\",\"0\",\"All\",,,\"False\",\"T\",\"EveryTick\"))","v":{"$error":"#N/A"}},null,{"$f":"IF(D26=0,NA(),RTD(\"cqg.rtd\",,\"StudyData\", \"Close(\"&$BR$2&\") When Barix(\"&$BR$2&\",reference:=StartOfSession)=\"&A26&\"\", \"Bar\", \"\", \"Close\",\"5\",\"0\",\"All\",,,\"False\",\"T\",\"EveryTick\"))","v":{"$error":"#N/A"}},null,{"$f":"IF(D26=0,NA(),RTD(\"cqg.rtd\",,\"StudyData\", \"Close(\"&$BT$2&\") When Barix(\"&$BT$2&\",reference:=StartOfSession)=\"&A26&\"\", \"Bar\", \"\", \"Close\",\"5\",\"0\",\"All\",,,\"False\",\"T\",\"EveryTick\"))","v":{"$error":"#N/A"}},null,{"$f":"IF(D26=0,NA(),RTD(\"cqg.rtd\",,\"StudyData\", \"Close(\"&$BV$2&\") When Barix(\"&$BV$2&\",reference:=StartOfSession)=\"&A26&\"\", \"Bar\", \"\", \"Close\",\"5\",\"0\",\"All\",,,\"False\",\"T\",\"EveryTick\"))","v":{"$error":"#N/A"}},null,{"$f":"IF(D26=0,NA(),RTD(\"cqg.rtd\",,\"StudyData\", \"Close(\"&$BX$2&\") When Barix(\"&$BX$2&\",reference:=StartOfSession)=\"&A26&\"\", \"Bar\", \"\", \"Close\",\"5\",\"0\",\"All\",,,\"False\",\"T\",\"EveryTick\"))","v":{"$error":"#N/A"}},null,{"$f":"IF(D26=0,NA(),RTD(\"cqg.rtd\",,\"StudyData\", \"Close(\"&$BZ$2&\") When Barix(\"&$BZ$2&\",reference:=StartOfSession)=\"&A26&\"\", \"Bar\", \"\", \"Close\",\"5\",\"0\",\"All\",,,\"False\",\"T\",\"EveryTick\"))","v":{"$error":"#N/A"}}]
[23,{"$f":"IF(D27=0,NA(),RTD(\"cqg.rtd\",,\"StudyData\", \"Close(\"&$B$2&\") When Barix(\"&$B$2&\",reference:=StartOfSession)=\"&A27&\"\", \"Bar\", \"\", \"Close\",\"5\",\"0\",\"All\",,,\"False\",\"T\",\"EveryTick\"))","v":{"$error":"#N/A"}},"10:25:00",0,null,{"$f":"IF(D27=0,NA(),RTD(\"cqg.rtd\",,\"StudyData\", \"Close(\"&$F$2&\") When Barix(\"&$F$2&\",reference:=StartOfSession)=\"&A27&\"\", \"Bar\", \"\", \"Close\",\"5\",\"0\",\"All\",,,\"False\",\"T\",\"EveryTick\"))","v":{"$error":"#N/A"}},null,{"$f":"IF(D27=0,NA(),RTD(\"cqg.rtd\",,\"StudyData\", \"Close(\"&$H$2&\") When Barix(\"&$H$2&\",reference:=StartOfSession)=\"&A27&\"\", \"Bar\", \"\", \"Close\",\"5\",\"0\",\"All\",,,\"False\",\"T\",\"EveryTick\"))","v":{"$error":"#N/A"}},null,{"$f":"IF(D27=0,NA(),RTD(\"cqg.rtd\",,\"StudyData\", \"Close(\"&$J$2&\") When Barix(\"&$J$2&\",reference:=StartOfSession)=\"&A27&\"\", \"Bar\", \"\", \"Close\",\"5\",\"0\",\"All\",,,\"False\",\"T\",\"EveryTick\"))","v":{"$error":"#N/A"}},null,{"$f":"IF(D27=0,NA(),RTD(\"cqg.rtd\",,\"StudyData\", \"Close(\"&$L$2&\") When Barix(\"&$L$2&\",reference:=StartOfSession)=\"&A27&\"\", \"Bar\", \"\", \"Close\",\"5\",\"0\",\"All\",,,\"False\",\"T\",\"EveryTick\"))","v":{"$error":"#N/A"}},null,{"$f":"IF(D27=0,NA(),RTD(\"cqg.rtd\",,\"StudyData\", \"Close(\"&$N$2&\") When Barix(\"&$N$2&\",reference:=StartOfSession)=\"&A27&\"\", \"Bar\", \"\", \"Close\",\"5\",\"0\",\"All\",,,\"False\",\"T\",\"EveryTick\"))","v":{"$error":"#N/A"}},null,{"$f":"IF(D27=0,NA(),RTD(\"cqg.rtd\",,\"StudyData\", \"Close(\"&$P$2&\") When Barix(\"&$P$2&\",reference:=StartOfSession)=\"&A27&\"\", \"Bar\", \"\", \"Close\",\"5\",\"0\",\"All\",,,\"False\",\"T\",\"EveryTick\"))","v":{"$error":"#N/A"}},null,{"$f":"IF(D27=0,NA(),RTD(\"cqg.rtd\",,\"StudyData\", \"Close(\"&$R$2&\") When Barix(\"&$R$2&\",reference:=StartOfSession)=\"&A27&\"\", \"Bar\", \"\", \"Close\",\"5\",\"0\",\"All\",,,\"False\",\"T\",\"EveryTick\"))","v":{"$error":"#N/A"}},null,{"$f":"IF(D27=0,NA(),RTD(\"cqg.rtd\",,\"StudyData\", \"Close(\"&$T$2&\") When Barix(\"&$T$2&\",reference:=StartOfSession)=\"&A27&\"\", \"Bar\", \"\", \"Close\",\"5\",\"0\",\"All\",,,\"False\",\"T\",\"EveryTick\"))","v":{"$error":"#N/A"}},null,{"$f":"IF(D27=0,NA(),RTD(\"cqg.rtd\",,\"StudyData\", \"Close(\"&$V$2&\") When Barix(\"&$V$2&\",reference:=StartOfSession)=\"&A27&\"\", \"Bar\", \"\", \"Close\",\"5\",\"0\",\"All\",,,\"False\",\"T\",\"EveryTick\"))","v":{"$error":"#N/A"}},null,{"$f":"IF(D27=0,NA(),RTD(\"cqg.rtd\",,\"StudyData\", \"Close(\"&$X$2&\") When Barix(\"&$X$2&\",reference:=StartOfSession)=\"&A27&\"\", \"Bar\", \"\", \"Close\",\"5\",\"0\",\"All\",,,\"False\",\"T\",\"EveryTick\"))","v":{"$error":"#N/A"}},null,{"$f":"IF(D27=0,NA(),RTD(\"cqg.rtd\",,\"StudyData\", \"Close(\"&$Z$2&\") When Barix(\"&$Z$2&\",reference:=StartOfSession)=\"&A27&\"\", \"Bar\", \"\", \"Close\",\"5\",\"0\",\"All\",,,\"False\",\"T\",\"EveryTick\"))","v":{"$error":"#N/A"}},null,{"$f":"IF(D27=0,NA(),RTD(\"cqg.rtd\",,\"StudyData\", \"Close(\"&$AB$2&\") When Barix(\"&$AB$2&\",reference:=StartOfSession)=\"&A27&\"\", \"Bar\", \"\", \"Close\",\"5\",\"0\",\"All\",,,\"False\",\"T\",\"EveryTick\"))","v":{"$error":"#N/A"}},null,{"$f":"IF(D27=0,NA(),RTD(\"cqg.rtd\",,\"StudyData\", \"Close(\"&$AD$2&\") When Barix(\"&$AD$2&\",reference:=StartOfSession)=\"&A27&\"\", \"Bar\", \"\", \"Close\",\"5\",\"0\",\"All\",,,\"False\",\"T\",\"EveryTick\"))","v":{"$error":"#N/A"}},null,{"$f":"IF(D27=0,NA(),RTD(\"cqg.rtd\",,\"StudyData\", \"Close(\"&$AF$2&\") When Barix(\"&$AF$2&\",reference:=StartOfSession)=\"&A27&\"\", \"Bar\", \"\", \"Close\",\"5\",\"0\",\"All\",,,\"False\",\"T\",\"EveryTick\"))","v":{"$error":"#N/A"}},null,{"$f":"IF(D27=0,NA(),RTD(\"cqg.rtd\",,\"StudyData\", \"Close(\"&$AH$2&\") When Barix(\"&$AH$2&\",reference:=StartOfSession)=\"&A27&\"\", \"Bar\", \"\", \"Close\",\"5\",\"0\",\"All\",,,\"False\",\"T\",\"EveryTick\"))","v":{"$error":"#N/A"}},null,{"$f":"IF(D27=0,NA(),RTD(\"cqg.rtd\",,\"StudyData\", \"Close(\"&$AJ$2&\") When Barix(\"&$AJ$2&\",reference:=StartOfSession)=\"&A27&\"\", \"Bar\", \"\", \"Close\",\"5\",\"0\",\"All\",,,\"False\",\"T\",\"EveryTick\"))","v":{"$error":"#N/A"}},null,{"$f":"IF(D27=0,NA(),RTD(\"cqg.rtd\",,\"StudyData\", \"Close(\"&$AL$2&\") When Barix(\"&$AL$2&\",reference:=StartOfSession)=\"&A27&\"\", \"Bar\", \"\", \"Close\",\"5\",\"0\",\"All\",,,\"False\",\"T\",\"EveryTick\"))","v":{"$error":"#N/A"}},null,{"$f":"IF(D27=0,NA(),RTD(\"cqg.rtd\",,\"StudyData\", \"Close(\"&$AN$2&\") When Barix(\"&$AN$2&\",reference:=StartOfSession)=\"&A27&\"\", \"Bar\", \"\", \"Close\",\"5\",\"0\",\"All\",,,\"False\",\"T\",\"EveryTick\"))","v":{"$error":"#N/A"}},null,{"$f":"IF(D27=0,NA(),RTD(\"cqg.rtd\",,\"StudyData\", \"Close(\"&$AN$2&\") When Barix(\"&$AN$2&\",reference:=StartOfSession)=\"&A27&\"\", \"Bar\", \"\", \"Close\",\"5\",\"0\",\"All\",,,\"False\",\"T\",\"EveryTick\"))","v":{"$error":"#N/A"}},null,{"$f":"IF(D27=0,NA(),RTD(\"cqg.rtd\",,\"StudyData\", \"Close(\"&$AR$2&\") When Barix(\"&$AR$2&\",reference:=StartOfSession)=\"&A27&\"\", \"Bar\", \"\", \"Close\",\"5\",\"0\",\"All\",,,\"False\",\"T\",\"EveryTick\"))","v":{"$error":"#N/A"}},null,{"$f":"IF(D27=0,NA(),RTD(\"cqg.rtd\",,\"StudyData\", \"Close(\"&$AT$2&\") When Barix(\"&$AT$2&\",reference:=StartOfSession)=\"&A27&\"\", \"Bar\", \"\", \"Close\",\"5\",\"0\",\"All\",,,\"False\",\"T\",\"EveryTick\"))","v":{"$error":"#N/A"}},null,{"$f":"IF(D27=0,NA(),RTD(\"cqg.rtd\",,\"StudyData\", \"Close(\"&$AV$2&\") When Barix(\"&$AV$2&\",reference:=StartOfSession)=\"&A27&\"\", \"Bar\", \"\", \"Close\",\"5\",\"0\",\"All\",,,\"False\",\"T\",\"EveryTick\"))","v":{"$error":"#N/A"}},null,{"$f":"IF(D27=0,NA(),RTD(\"cqg.rtd\",,\"StudyData\", \"Close(\"&$AX$2&\") When Barix(\"&$AX$2&\",reference:=StartOfSession)=\"&A27&\"\", \"Bar\", \"\", \"Close\",\"5\",\"0\",\"All\",,,\"False\",\"T\",\"EveryTick\"))","v":{"$error":"#N/A"}},null,{"$f":"IF(D27=0,NA(),RTD(\"cqg.rtd\",,\"StudyData\", \"Close(\"&$AZ$2&\") When Barix(\"&$AZ$2&\",reference:=StartOfSession)=\"&A27&\"\", \"Bar\", \"\", \"Close\",\"5\",\"0\",\"All\",,,\"False\",\"T\",\"EveryTick\"))","v":{"$error":"#N/A"}},null,{"$f":"IF(D27=0,NA(),RTD(\"cqg.rtd\",,\"StudyData\", \"Close(\"&$BB$2&\") When Barix(\"&$BB$2&\",reference:=StartOfSession)=\"&A27&\"\", \"Bar\", \"\", \"Close\",\"5\",\"0\",\"All\",,,\"False\",\"T\",\"EveryTick\"))","v":{"$error":"#N/A"}},null,{"$f":"IF(D27=0,NA(),RTD(\"cqg.rtd\",,\"StudyData\", \"Close(\"&$BD$2&\") When Barix(\"&$BD$2&\",reference:=StartOfSession)=\"&A27&\"\", \"Bar\", \"\", \"Close\",\"5\",\"0\",\"All\",,,\"False\",\"T\",\"EveryTick\"))","v":{"$error":"#N/A"}},null,{"$f":"IF(D27=0,NA(),RTD(\"cqg.rtd\",,\"StudyData\", \"Close(\"&$BF$2&\") When Barix(\"&$BF$2&\",reference:=StartOfSession)=\"&A27&\"\", \"Bar\", \"\", \"Close\",\"5\",\"0\",\"All\",,,\"False\",\"T\",\"EveryTick\"))","v":{"$error":"#N/A"}},null,{"$f":"IF(D27=0,NA(),RTD(\"cqg.rtd\",,\"StudyData\", \"Close(\"&$BH$2&\") When Barix(\"&$BH$2&\",reference:=StartOfSession)=\"&A27&\"\", \"Bar\", \"\", \"Close\",\"5\",\"0\",\"All\",,,\"False\",\"T\",\"EveryTick\"))","v":{"$error":"#N/A"}},null,{"$f":"IF(D27=0,NA(),RTD(\"cqg.rtd\",,\"StudyData\", \"Close(\"&$BJ$2&\") When Barix(\"&$BJ$2&\",reference:=StartOfSession)=\"&A27&\"\", \"Bar\", \"\", \"Close\",\"5\",\"0\",\"All\",,,\"False\",\"T\",\"EveryTick\"))","v":{"$error":"#N/A"}},null,{"$f":"IF(D27=0,NA(),RTD(\"cqg.rtd\",,\"StudyData\", \"Close(\"&$BL$2&\") When Barix(\"&$BL$2&\",reference:=StartOfSession)=\"&A27&\"\", \"Bar\", \"\", \"Close\",\"5\",\"0\",\"All\",,,\"False\",\"T\",\"EveryTick\"))","v":{"$error":"#N/A"}},null,{"$f":"IF(D27=0,NA(),RTD(\"cqg.rtd\",,\"StudyData\", \"Close(\"&$BN$2&\") When Barix(\"&$BN$2&\",reference:=StartOfSession)=\"&A27&\"\", \"Bar\", \"\", \"Close\",\"5\",\"0\",\"All\",,,\"False\",\"T\",\"EveryTick\"))","v":{"$error":"#N/A"}},null,{"$f":"IF(D27=0,NA(),RTD(\"cqg.rtd\",,\"StudyData\", \"Close(\"&$BP$2&\") When Barix(\"&$BP$2&\",reference:=StartOfSession)=\"&A27&\"\", \"Bar\", \"\", \"Close\",\"5\",\"0\",\"All\",,,\"False\",\"T\",\"EveryTick\"))","v":{"$error":"#N/A"}},null,{"$f":"IF(D27=0,NA(),RTD(\"cqg.rtd\",,\"StudyData\", \"Close(\"&$BR$2&\") When Barix(\"&$BR$2&\",reference:=StartOfSession)=\"&A27&\"\", \"Bar\", \"\", \"Close\",\"5\",\"0\",\"All\",,,\"False\",\"T\",\"EveryTick\"))","v":{"$error":"#N/A"}},null,{"$f":"IF(D27=0,NA(),RTD(\"cqg.rtd\",,\"StudyData\", \"Close(\"&$BT$2&\") When Barix(\"&$BT$2&\",reference:=StartOfSession)=\"&A27&\"\", \"Bar\", \"\", \"Close\",\"5\",\"0\",\"All\",,,\"False\",\"T\",\"EveryTick\"))","v":{"$error":"#N/A"}},null,{"$f":"IF(D27=0,NA(),RTD(\"cqg.rtd\",,\"StudyData\", \"Close(\"&$BV$2&\") When Barix(\"&$BV$2&\",reference:=StartOfSession)=\"&A27&\"\", \"Bar\", \"\", \"Close\",\"5\",\"0\",\"All\",,,\"False\",\"T\",\"EveryTick\"))","v":{"$error":"#N/A"}},null,{"$f":"IF(D27=0,NA(),RTD(\"cqg.rtd\",,\"StudyData\", \"Close(\"&$BX$2&\") When Barix(\"&$BX$2&\",reference:=StartOfSession)=\"&A27&\"\", \"Bar\", \"\", \"Close\",\"5\",\"0\",\"All\",,,\"False\",\"T\",\"EveryTick\"))","v":{"$error":"#N/A"}},null,{"$f":"IF(D27=0,NA(),RTD(\"cqg.rtd\",,\"StudyData\", \"Close(\"&$BZ$2&\") When Barix(\"&$BZ$2&\",reference:=StartOfSession)=\"&A27&\"\", \"Bar\", \"\", \"Close\",\"5\",\"0\",\"All\",,,\"False\",\"T\",\"EveryTick\"))","v":{"$error":"#N/A"}}]
[24,{"$f":"IF(D28=0,NA(),RTD(\"cqg.rtd\",,\"StudyData\", \"Close(\"&$B$2&\") When Barix(\"&$B$2&\",reference:=StartOfSession)=\"&A28&\"\", \"Bar\", \"\", \"Close\",\"5\",\"0\",\"All\",,,\"False\",\"T\",\"EveryTick\"))","v":{"$error":"#N/A"}},"10:30:00",0,null,{"$f":"IF(D28=0,NA(),RTD(\"cqg.rtd\",,\"StudyData\", \"Close(\"&$F$2&\") When Barix(\"&$F$2&\",reference:=StartOfSession)=\"&A28&\"\", \"Bar\", \"\", \"Close\",\"5\",\"0\",\"All\",,,\"False\",\"T\",\"EveryTick\"))","v":{"$error":"#N/A"}},null,{"$f":"IF(D28=0,NA(),RTD(\"cqg.rtd\",,\"StudyData\", \"Close(\"&$H$2&\") When Barix(\"&$H$2&\",reference:=StartOfSession)=\"&A28&\"\", \"Bar\", \"\", \"Close\",\"5\",\"0\",\"All\",,,\"False\",\"T\",\"EveryTick\"))","v":{"$error":"#N/A"}},null,{"$f":"IF(D28=0,NA(),RTD(\"cqg.rtd\",,\"StudyData\", \"Close(\"&$J$2&\") When Barix(\"&$J$2&\",reference:=StartOfSession)=\"&A28&\"\", \"Bar\", \"\", \"Close\",\"5\",\"0\",\"All\",,,\"False\",\"T\",\"EveryTick\"))","v":{"$error":"#N/A"}},null,{"$f":"IF(D28=0,NA(),RTD(\"cqg.rtd\",,\"StudyData\", \"Close(\"&$L$2&\") When Barix(\"&$L$2&\",reference:=StartOfSession)=\"&A28&\"\", \"Bar\", \"\", \"Close\",\"5\",\"0\",\"All\",,,\"False\",\"T\",\"EveryTick\"))","v":{"$error":"#N/A"}},null,{"$f":"IF(D28=0,NA(),RTD(\"cqg.rtd\",,\"StudyData\", \"Close(\"&$N$2&\") When Barix(\"&$N$2&\",reference:=StartOfSession)=\"&A28&\"\", \"Bar\", \"\", \"Close\",\"5\",\"0\",\"All\",,,\"False\",\"T\",\"EveryTick\"))","v":{"$error":"#N/A"}},null,{"$f":"IF(D28=0,NA(),RTD(\"cqg.rtd\",,\"StudyData\", \"Close(\"&$P$2&\") When Barix(\"&$P$2&\",reference:=StartOfSession)=\"&A28&\"\", \"Bar\", \"\", \"Close\",\"5\",\"0\",\"All\",,,\"False\",\"T\",\"EveryTick\"))","v":{"$error":"#N/A"}},null,{"$f":"IF(D28=0,NA(),RTD(\"cqg.rtd\",,\"StudyData\", \"Close(\"&$R$2&\") When Barix(\"&$R$2&\",reference:=StartOfSession)=\"&A28&\"\", \"Bar\", \"\", \"Close\",\"5\",\"0\",\"All\",,,\"False\",\"T\",\"EveryTick\"))","v":{"$error":"#N/A"}},null,{"$f":"IF(D28=0,NA(),RTD(\"cqg.rtd\",,\"StudyData\", \"Close(\"&$T$2&\") When Barix(\"&$T$2&\",reference:=StartOfSession)=\"&A28&\"\", \"Bar\", \"\", \"Close\",\"5\",\"0\",\"All\",,,\"False\",\"T\",\"EveryTick\"))","v":{"$error":"#N/A"}},null,{"$f":"IF(D28=0,NA(),RTD(\"cqg.rtd\",,\"StudyData\", \"Close(\"&$V$2&\") When Barix(\"&$V$2&\",reference:=StartOfSession)=\"&A28&\"\", \"Bar\", \"\", \"Close\",\"5\",\"0\",\"All\",,,\"False\",\"T\",\"EveryTick\"))","v":{"$error":"#N/A"}},null,{"$f":"IF(D28=0,NA(),RTD(\"cqg.rtd\",,\"StudyData\", \"Close(\"&$X$2&\") When Barix(\"&$X$2&\",reference:=StartOfSession)=\"&A28&\"\", \"Bar\", \"\", \"Close\",\"5\",\"0\",\"All\",,,\"False\",\"T\",\"EveryTick\"))","v":{"$error":"#N/A"}},null,{"$f":"IF(D28=0,NA(),RTD(\"cqg.rtd\",,\"StudyData\", \"Close(\"&$Z$2&\") When Barix(\"&$Z$2&\",reference:=StartOfSession)=\"&A28&\"\", \"Bar\", \"\", \"Close\",\"5\",\"0\",\"All\",,,\"False\",\"T\",\"EveryTick\"))","v":{"$error":"#N/A"}},null,{"$f":"IF(D28=0,NA(),RTD(\"cqg.rtd\",,\"StudyData\", \"Close(\"&$AB$2&\") When Barix(\"&$AB$2&\",reference:=StartOfSession)=\"&A28&\"\", \"Bar\", \"\", \"Close\",\"5\",\"0\",\"All\",,,\"False\",\"T\",\"EveryTick\"))","v":{"$error":"#N/A"}},null,{"$f":"IF(D28=0,NA(),RTD(\"cqg.rtd\",,\"StudyData\", \"Close(\"&$AD$2&\") When Barix(\"&$AD$2&\",reference:=StartOfSession)=\"&A28&\"\", \"Bar\", \"\", \"Close\",\"5\",\"0\",\"All\",,,\"False\",\"T\",\"EveryTick\"))","v":{"$error":"#N/A"}},null,{"$f":"IF(D28=0,NA(),RTD(\"cqg.rtd\",,\"StudyData\", \"Close(\"&$AF$2&\") When Barix(\"&$AF$2&\",reference:=StartOfSession)=\"&A28&\"\", \"Bar\", \"\", \"Close\",\"5\",\"0\",\"All\",,,\"False\",\"T\",\"EveryTick\"))","v":{"$error":"#N/A"}},null,{"$f":"IF(D28=0,NA(),RTD(\"cqg.rtd\",,\"StudyData\", \"Close(\"&$AH$2&\") When Barix(\"&$AH$2&\",reference:=StartOfSession)=\"&A28&\"\", \"Bar\", \"\", \"Close\",\"5\",\"0\",\"All\",,,\"False\",\"T\",\"EveryTick\"))","v":{"$error":"#N/A"}},null,{"$f":"IF(D28=0,NA(),RTD(\"cqg.rtd\",,\"StudyData\", \"Close(\"&$AJ$2&\") When Barix(\"&$AJ$2&\",reference:=StartOfSession)=\"&A28&\"\", \"Bar\", \"\", \"Close\",\"5\",\"0\",\"All\",,,\"False\",\"T\",\"EveryTick\"))","v":{"$error":"#N/A"}},null,{"$f":"IF(D28=0,NA(),RTD(\"cqg.rtd\",,\"StudyData\", \"Close(\"&$AL$2&\") When Barix(\"&$AL$2&\",reference:=StartOfSession)=\"&A28&\"\", \"Bar\", \"\", \"Close\",\"5\",\"0\",\"All\",,,\"False\",\"T\",\"EveryTick\"))","v":{"$error":"#N/A"}},null,{"$f":"IF(D28=0,NA(),RTD(\"cqg.rtd\",,\"StudyData\", \"Close(\"&$AN$2&\") When Barix(\"&$AN$2&\",reference:=StartOfSession)=\"&A28&\"\", \"Bar\", \"\", \"Close\",\"5\",\"0\",\"All\",,,\"False\",\"T\",\"EveryTick\"))","v":{"$error":"#N/A"}},null,{"$f":"IF(D28=0,NA(),RTD(\"cqg.rtd\",,\"StudyData\", \"Close(\"&$AN$2&\") When Barix(\"&$AN$2&\",reference:=StartOfSession)=\"&A28&\"\", \"Bar\", \"\", \"Close\",\"5\",\"0\",\"All\",,,\"False\",\"T\",\"EveryTick\"))","v":{"$error":"#N/A"}},null,{"$f":"IF(D28=0,NA(),RTD(\"cqg.rtd\",,\"StudyData\", \"Close(\"&$AR$2&\") When Barix(\"&$AR$2&\",reference:=StartOfSession)=\"&A28&\"\", \"Bar\", \"\", \"Close\",\"5\",\"0\",\"All\",,,\"False\",\"T\",\"EveryTick\"))","v":{"$error":"#N/A"}},null,{"$f":"IF(D28=0,NA(),RTD(\"cqg.rtd\",,\"StudyData\", \"Close(\"&$AT$2&\") When Barix(\"&$AT$2&\",reference:=StartOfSession)=\"&A28&\"\", \"Bar\", \"\", \"Close\",\"5\",\"0\",\"All\",,,\"False\",\"T\",\"EveryTick\"))","v":{"$error":"#N/A"}},null,{"$f":"IF(D28=0,NA(),RTD(\"cqg.rtd\",,\"StudyData\", \"Close(\"&$AV$2&\") When Barix(\"&$AV$2&\",reference:=StartOfSession)=\"&A28&\"\", \"Bar\", \"\", \"Close\",\"5\",\"0\",\"All\",,,\"False\",\"T\",\"EveryTick\"))","v":{"$error":"#N/A"}},null,{"$f":"IF(D28=0,NA(),RTD(\"cqg.rtd\",,\"StudyData\", \"Close(\"&$AX$2&\") When Barix(\"&$AX$2&\",reference:=StartOfSession)=\"&A28&\"\", \"Bar\", \"\", \"Close\",\"5\",\"0\",\"All\",,,\"False\",\"T\",\"EveryTick\"))","v":{"$error":"#N/A"}},null,{"$f":"IF(D28=0,NA(),RTD(\"cqg.rtd\",,\"StudyData\", \"Close(\"&$AZ$2&\") When Barix(\"&$AZ$2&\",reference:=StartOfSession)=\"&A28&\"\", \"Bar\", \"\", \"Close\",\"5\",\"0\",\"All\",,,\"False\",\"T\",\"EveryTick\"))","v":{"$error":"#N/A"}},null,{"$f":"IF(D28=0,NA(),RTD(\"cqg.rtd\",,\"StudyData\", \"Close(\"&$BB$2&\") When Barix(\"&$BB$2&\",reference:=StartOfSession)=\"&A28&\"\", \"Bar\", \"\", \"Close\",\"5\",\"0\",\"All\",,,\"False\",\"T\",\"EveryTick\"))","v":{"$error":"#N/A"}},null,{"$f":"IF(D28=0,NA(),RTD(\"cqg.rtd\",,\"StudyData\", \"Close(\"&$BD$2&\") When Barix(\"&$BD$2&\",reference:=StartOfSession)=\"&A28&\"\", \"Bar\", \"\", \"Close\",\"5\",\"0\",\"All\",,,\"False\",\"T\",\"EveryTick\"))","v":{"$error":"#N/A"}},null,{"$f":"IF(D28=0,NA(),RTD(\"cqg.rtd\",,\"StudyData\", \"Close(\"&$BF$2&\") When Barix(\"&$BF$2&\",reference:=StartOfSession)=\"&A28&\"\", \"Bar\", \"\", \"Close\",\"5\",\"0\",\"All\",,,\"False\",\"T\",\"EveryTick\"))","v":{"$error":"#N/A"}},null,{"$f":"IF(D28=0,NA(),RTD(\"cqg.rtd\",,\"StudyData\", \"Close(\"&$BH$2&\") When Barix(\"&$BH$2&\",reference:=StartOfSession)=\"&A28&\"\", \"Bar\", \"\", \"Close\",\"5\",\"0\",\"All\",,,\"False\",\"T\",\"EveryTick\"))","v":{"$error":"#N/A"}},null,{"$f":"IF(D28=0,NA(),RTD(\"cqg.rtd\",,\"StudyData\", \"Close(\"&$BJ$2&\") When Barix(\"&$BJ$2&\",reference:=StartOfSession)=\"&A28&\"\", \"Bar\", \"\", \"Close\",\"5\",\"0\",\"All\",,,\"False\",\"T\",\"EveryTick\"))","v":{"$error":"#N/A"}},null,{"$f":"IF(D28=0,NA(),RTD(\"cqg.rtd\",,\"StudyData\", \"Close(\"&$BL$2&\") When Barix(\"&$BL$2&\",reference:=StartOfSession)=\"&A28&\"\", \"Bar\", \"\", \"Close\",\"5\",\"0\",\"All\",,,\"False\",\"T\",\"EveryTick\"))","v":{"$error":"#N/A"}},null,{"$f":"IF(D28=0,NA(),RTD(\"cqg.rtd\",,\"StudyData\", \"Close(\"&$BN$2&\") When Barix(\"&$BN$2&\",reference:=StartOfSession)=\"&A28&\"\", \"Bar\", \"\", \"Close\",\"5\",\"0\",\"All\",,,\"False\",\"T\",\"EveryTick\"))","v":{"$error":"#N/A"}},null,{"$f":"IF(D28=0,NA(),RTD(\"cqg.rtd\",,\"StudyData\", \"Close(\"&$BP$2&\") When Barix(\"&$BP$2&\",reference:=StartOfSession)=\"&A28&\"\", \"Bar\", \"\", \"Close\",\"5\",\"0\",\"All\",,,\"False\",\"T\",\"EveryTick\"))","v":{"$error":"#N/A"}},null,{"$f":"IF(D28=0,NA(),RTD(\"cqg.rtd\",,\"StudyData\", \"Close(\"&$BR$2&\") When Barix(\"&$BR$2&\",reference:=StartOfSession)=\"&A28&\"\", \"Bar\", \"\", \"Close\",\"5\",\"0\",\"All\",,,\"False\",\"T\",\"EveryTick\"))","v":{"$error":"#N/A"}},null,{"$f":"IF(D28=0,NA(),RTD(\"cqg.rtd\",,\"StudyData\", \"Close(\"&$BT$2&\") When Barix(\"&$BT$2&\",reference:=StartOfSession)=\"&A28&\"\", \"Bar\", \"\", \"Close\",\"5\",\"0\",\"All\",,,\"False\",\"T\",\"EveryTick\"))","v":{"$error":"#N/A"}},null,{"$f":"IF(D28=0,NA(),RTD(\"cqg.rtd\",,\"StudyData\", \"Close(\"&$BV$2&\") When Barix(\"&$BV$2&\",reference:=StartOfSession)=\"&A28&\"\", \"Bar\", \"\", \"Close\",\"5\",\"0\",\"All\",,,\"False\",\"T\",\"EveryTick\"))","v":{"$error":"#N/A"}},null,{"$f":"IF(D28=0,NA(),RTD(\"cqg.rtd\",,\"StudyData\", \"Close(\"&$BX$2&\") When Barix(\"&$BX$2&\",reference:=StartOfSession)=\"&A28&\"\", \"Bar\", \"\", \"Close\",\"5\",\"0\",\"All\",,,\"False\",\"T\",\"EveryTick\"))","v":{"$error":"#N/A"}},null,{"$f":"IF(D28=0,NA(),RTD(\"cqg.rtd\",,\"StudyData\", \"Close(\"&$BZ$2&\") When Barix(\"&$BZ$2&\",reference:=StartOfSession)=\"&A28&\"\", \"Bar\", \"\", \"Close\",\"5\",\"0\",\"All\",,,\"False\",\"T\",\"EveryTick\"))","v":{"$error":"#N/A"}}]
[25,{"$f":"IF(D29=0,NA(),RTD(\"cqg.rtd\",,\"StudyData\", \"Close(\"&$B$2&\") When Barix(\"&$B$2&\",reference:=StartOfSession)=\"&A29&\"\", \"Bar\", \"\", \"Close\",\"5\",\"0\",\"All\",,,\"False\",\"T\",\"EveryTick\"))","v":{"$error":"#N/A"}},"10:35:00",0,null,{"$f":"IF(D29=0,NA(),RTD(\"cqg.rtd\",,\"StudyData\", \"Close(\"&$F$2&\") When Barix(\"&$F$2&\",reference:=StartOfSession)=\"&A29&\"\", \"Bar\", \"\", \"Close\",\"5\",\"0\",\"All\",,,\"False\",\"T\",\"EveryTick\"))","v":{"$error":"#N/A"}},null,{"$f":"IF(D29=0,NA(),RTD(\"cqg.rtd\",,\"StudyData\", \"Close(\"&$H$2&\") When Barix(\"&$H$2&\",reference:=StartOfSession)=\"&A29&\"\", \"Bar\", \"\", \"Close\",\"5\",\"0\",\"All\",,,\"False\",\"T\",\"EveryTick\"))","v":{"$error":"#N/A"}},null,{"$f":"IF(D29=0,NA(),RTD(\"cqg.rtd\",,\"StudyData\", \"Close(\"&$J$2&\") When Barix(\"&$J$2&\",reference:=StartOfSession)=\"&A29&\"\", \"Bar\", \"\", \"Close\",\"5\",\"0\",\"All\",,,\"False\",\"T\",\"EveryTick\"))","v":{"$error":"#N/A"}},null,{"$f":"IF(D29=0,NA(),RTD(\"cqg.rtd\",,\"StudyData\", \"Close(\"&$L$2&\") When Barix(\"&$L$2&\",reference:=StartOfSession)=\"&A29&\"\", \"Bar\", \"\", \"Close\",\"5\",\"0\",\"All\",,,\"False\",\"T\",\"EveryTick\"))","v":{"$error":"#N/A"}},null,{"$f":"IF(D29=0,NA(),RTD(\"cqg.rtd\",,\"StudyData\", \"Close(\"&$N$2&\") When Barix(\"&$N$2&\",reference:=StartOfSession)=\"&A29&\"\", \"Bar\", \"\", \"Close\",\"5\",\"0\",\"All\",,,\"False\",\"T\",\"EveryTick\"))","v":{"$error":"#N/A"}},null,{"$f":"IF(D29=0,NA(),RTD(\"cqg.rtd\",,\"StudyData\", \"Close(\"&$P$2&\") When Barix(\"&$P$2&\",reference:=StartOfSession)=\"&A29&\"\", \"Bar\", \"\", \"Close\",\"5\",\"0\",\"All\",,,\"False\",\"T\",\"EveryTick\"))","v":{"$error":"#N/A"}},null,{"$f":"IF(D29=0,NA(),RTD(\"cqg.rtd\",,\"StudyData\", \"Close(\"&$R$2&\") When Barix(\"&$R$2&\",reference:=StartOfSession)=\"&A29&\"\", \"Bar\", \"\", \"Close\",\"5\",\"0\",\"All\",,,\"False\",\"T\",\"EveryTick\"))","v":{"$error":"#N/A"}},null,{"$f":"IF(D29=0,NA(),RTD(\"cqg.rtd\",,\"StudyData\", \"Close(\"&$T$2&\") When Barix(\"&$T$2&\",reference:=StartOfSession)=\"&A29&\"\", \"Bar\", \"\", \"Close\",\"5\",\"0\",\"All\",,,\"False\",\"T\",\"EveryTick\"))","v":{"$error":"#N/A"}},null,{"$f":"IF(D29=0,NA(),RTD(\"cqg.rtd\",,\"StudyData\", \"Close(\"&$V$2&\") When Barix(\"&$V$2&\",reference:=StartOfSession)=\"&A29&\"\", \"Bar\", \"\", \"Close\",\"5\",\"0\",\"All\",,,\"False\",\"T\",\"EveryTick\"))","v":{"$error":"#N/A"}},null,{"$f":"IF(D29=0,NA(),RTD(\"cqg.rtd\",,\"StudyData\", \"Close(\"&$X$2&\") When Barix(\"&$X$2&\",reference:=StartOfSession)=\"&A29&\"\", \"Bar\", \"\", \"Close\",\"5\",\"0\",\"All\",,,\"False\",\"T\",\"EveryTick\"))","v":{"$error":"#N/A"}},null,{"$f":"IF(D29=0,NA(),RTD(\"cqg.rtd\",,\"StudyData\", \"Close(\"&$Z$2&\") When Barix(\"&$Z$2&\",reference:=StartOfSession)=\"&A29&\"\", \"Bar\", \"\", \"Close\",\"5\",\"0\",\"All\",,,\"False\",\"T\",\"EveryTick\"))","v":{"$error":"#N/A"}},null,{"$f":"IF(D29=0,NA(),RTD(\"cqg.rtd\",,\"StudyData\", \"Close(\"&$AB$2&\") When Barix(\"&$AB$2&\",reference:=StartOfSession)=\"&A29&\"\", \"Bar\", \"\", \"Close\",\"5\",\"0\",\"All\",,,\"False\",\"T\",\"EveryTick\"))","v":{"$error":"#N/A"}},null,{"$f":"IF(D29=0,NA(),RTD(\"cqg.rtd\",,\"StudyData\", \"Close(\"&$AD$2&\") When Barix(\"&$AD$2&\",reference:=StartOfSession)=\"&A29&\"\", \"Bar\", \"\", \"Close\",\"5\",\"0\",\"All\",,,\"False\",\"T\",\"EveryTick\"))","v":{"$error":"#N/A"}},null,{"$f":"IF(D29=0,NA(),RTD(\"cqg.rtd\",,\"StudyData\", \"Close(\"&$AF$2&\") When Barix(\"&$AF$2&\",reference:=StartOfSession)=\"&A29&\"\", \"Bar\", \"\", \"Close\",\"5\",\"0\",\"All\",,,\"False\",\"T\",\"EveryTick\"))","v":{"$error":"#N/A"}},null,{"$f":"IF(D29=0,NA(),RTD(\"cqg.rtd\",,\"StudyData\", \"Close(\"&$AH$2&\") When Barix(\"&$AH$2&\",reference:=StartOfSession)=\"&A29&\"\", \"Bar\", \"\", \"Close\",\"5\",\"0\",\"All\",,,\"False\",\"T\",\"EveryTick\"))","v":{"$error":"#N/A"}},null,{"$f":"IF(D29=0,NA(),RTD(\"cqg.rtd\",,\"StudyData\", \"Close(\"&$AJ$2&\") When Barix(\"&$AJ$2&\",reference:=StartOfSession)=\"&A29&\"\", \"Bar\", \"\", \"Close\",\"5\",\"0\",\"All\",,,\"False\",\"T\",\"EveryTick\"))","v":{"$error":"#N/A"}},null,{"$f":"IF(D29=0,NA(),RTD(\"cqg.rtd\",,\"StudyData\", \"Close(\"&$AL$2&\") When Barix(\"&$AL$2&\",reference:=StartOfSession)=\"&A29&\"\", \"Bar\", \"\", \"Close\",\"5\",\"0\",\"All\",,,\"False\",\"T\",\"EveryTick\"))","v":{"$error":"#N/A"}},null,{"$f":"IF(D29=0,NA(),RTD(\"cqg.rtd\",,\"StudyData\", \"Close(\"&$AN$2&\") When Barix(\"&$AN$2&\",reference:=StartOfSession)=\"&A29&\"\", \"Bar\", \"\", \"Close\",\"5\",\"0\",\"All\",,,\"False\",\"T\",\"EveryTick\"))","v":{"$error":"#N/A"}},null,{"$f":"IF(D29=0,NA(),RTD(\"cqg.rtd\",,\"StudyData\", \"Close(\"&$AN$2&\") When Barix(\"&$AN$2&\",reference:=StartOfSession)=\"&A29&\"\", \"Bar\", \"\", \"Close\",\"5\",\"0\",\"All\",,,\"False\",\"T\",\"EveryTick\"))","v":{"$error":"#N/A"}},null,{"$f":"IF(D29=0,NA(),RTD(\"cqg.rtd\",,\"StudyData\", \"Close(\"&$AR$2&\") When Barix(\"&$AR$2&\",reference:=StartOfSession)=\"&A29&\"\", \"Bar\", \"\", \"Close\",\"5\",\"0\",\"All\",,,\"False\",\"T\",\"EveryTick\"))","v":{"$error":"#N/A"}},null,{"$f":"IF(D29=0,NA(),RTD(\"cqg.rtd\",,\"StudyData\", \"Close(\"&$AT$2&\") When Barix(\"&$AT$2&\",reference:=StartOfSession)=\"&A29&\"\", \"Bar\", \"\", \"Close\",\"5\",\"0\",\"All\",,,\"False\",\"T\",\"EveryTick\"))","v":{"$error":"#N/A"}},null,{"$f":"IF(D29=0,NA(),RTD(\"cqg.rtd\",,\"StudyData\", \"Close(\"&$AV$2&\") When Barix(\"&$AV$2&\",reference:=StartOfSession)=\"&A29&\"\", \"Bar\", \"\", \"Close\",\"5\",\"0\",\"All\",,,\"False\",\"T\",\"EveryTick\"))","v":{"$error":"#N/A"}},null,{"$f":"IF(D29=0,NA(),RTD(\"cqg.rtd\",,\"StudyData\", \"Close(\"&$AX$2&\") When Barix(\"&$AX$2&\",reference:=StartOfSession)=\"&A29&\"\", \"Bar\", \"\", \"Close\",\"5\",\"0\",\"All\",,,\"False\",\"T\",\"EveryTick\"))","v":{"$error":"#N/A"}},null,{"$f":"IF(D29=0,NA(),RTD(\"cqg.rtd\",,\"StudyData\", \"Close(\"&$AZ$2&\") When Barix(\"&$AZ$2&\",reference:=StartOfSession)=\"&A29&\"\", \"Bar\", \"\", \"Close\",\"5\",\"0\",\"All\",,,\"False\",\"T\",\"EveryTick\"))","v":{"$error":"#N/A"}},null,{"$f":"IF(D29=0,NA(),RTD(\"cqg.rtd\",,\"StudyData\", \"Close(\"&$BB$2&\") When Barix(\"&$BB$2&\",reference:=StartOfSession)=\"&A29&\"\", \"Bar\", \"\", \"Close\",\"5\",\"0\",\"All\",,,\"False\",\"T\",\"EveryTick\"))","v":{"$error":"#N/A"}},null,{"$f":"IF(D29=0,NA(),RTD(\"cqg.rtd\",,\"StudyData\", \"Close(\"&$BD$2&\") When Barix(\"&$BD$2&\",reference:=StartOfSession)=\"&A29&\"\", \"Bar\", \"\", \"Close\",\"5\",\"0\",\"All\",,,\"False\",\"T\",\"EveryTick\"))","v":{"$error":"#N/A"}},null,{"$f":"IF(D29=0,NA(),RTD(\"cqg.rtd\",,\"StudyData\", \"Close(\"&$BF$2&\") When Barix(\"&$BF$2&\",reference:=StartOfSession)=\"&A29&\"\", \"Bar\", \"\", \"Close\",\"5\",\"0\",\"All\",,,\"False\",\"T\",\"EveryTick\"))","v":{"$error":"#N/A"}},null,{"$f":"IF(D29=0,NA(),RTD(\"cqg.rtd\",,\"StudyData\", \"Close(\"&$BH$2&\") When Barix(\"&$BH$2&\",reference:=StartOfSession)=\"&A29&\"\", \"Bar\", \"\", \"Close\",\"5\",\"0\",\"All\",,,\"False\",\"T\",\"EveryTick\"))","v":{"$error":"#N/A"}},null,{"$f":"IF(D29=0,NA(),RTD(\"cqg.rtd\",,\"StudyData\", \"Close(\"&$BJ$2&\") When Barix(\"&$BJ$2&\",reference:=StartOfSession)=\"&A29&\"\", \"Bar\", \"\", \"Close\",\"5\",\"0\",\"All\",,,\"False\",\"T\",\"EveryTick\"))","v":{"$error":"#N/A"}},null,{"$f":"IF(D29=0,NA(),RTD(\"cqg.rtd\",,\"StudyData\", \"Close(\"&$BL$2&\") When Barix(\"&$BL$2&\",reference:=StartOfSession)=\"&A29&\"\", \"Bar\", \"\", \"Close\",\"5\",\"0\",\"All\",,,\"False\",\"T\",\"EveryTick\"))","v":{"$error":"#N/A"}},null,{"$f":"IF(D29=0,NA(),RTD(\"cqg.rtd\",,\"StudyData\", \"Close(\"&$BN$2&\") When Barix(\"&$BN$2&\",reference:=StartOfSession)=\"&A29&\"\", \"Bar\", \"\", \"Close\",\"5\",\"0\",\"All\",,,\"False\",\"T\",\"EveryTick\"))","v":{"$error":"#N/A"}},null,{"$f":"IF(D29=0,NA(),RTD(\"cqg.rtd\",,\"StudyData\", \"Close(\"&$BP$2&\") When Barix(\"&$BP$2&\",reference:=StartOfSession)=\"&A29&\"\", \"Bar\", \"\", \"Close\",\"5\",\"0\",\"All\",,,\"False\",\"T\",\"EveryTick\"))","v":{"$error":"#N/A"}},null,{"$f":"IF(D29=0,NA(),RTD(\"cqg.rtd\",,\"StudyData\", \"Close(\"&$BR$2&\") When Barix(\"&$BR$2&\",reference:=StartOfSession)=\"&A29&\"\", \"Bar\", \"\", \"Close\",\"5\",\"0\",\"All\",,,\"False\",\"T\",\"EveryTick\"))","v":{"$error":"#N/A"}},null,{"$f":"IF(D29=0,NA(),RTD(\"cqg.rtd\",,\"StudyData\", \"Close(\"&$BT$2&\") When Barix(\"&$BT$2&\",reference:=StartOfSession)=\"&A29&\"\", \"Bar\", \"\", \"Close\",\"5\",\"0\",\"All\",,,\"False\",\"T\",\"EveryTick\"))","v":{"$error":"#N/A"}},null,{"$f":"IF(D29=0,NA(),RTD(\"cqg.rtd\",,\"StudyData\", \"Close(\"&$BV$2&\") When Barix(\"&$BV$2&\",reference:=StartOfSession)=\"&A29&\"\", \"Bar\", \"\", \"Close\",\"5\",\"0\",\"All\",,,\"False\",\"T\",\"EveryTick\"))","v":{"$error":"#N/A"}},null,{"$f":"IF(D29=0,NA(),RTD(\"cqg.rtd\",,\"StudyData\", \"Close(\"&$BX$2&\") When Barix(\"&$BX$2&\",reference:=StartOfSession)=\"&A29&\"\", \"Bar\", \"\", \"Close\",\"5\",\"0\",\"All\",,,\"False\",\"T\",\"EveryTick\"))","v":{"$error":"#N/A"}},null,{"$f":"IF(D29=0,NA(),RTD(\"cqg.rtd\",,\"StudyData\", \"Close(\"&$BZ$2&\") When Barix(\"&$BZ$2&\",reference:=StartOfSession)=\"&A29&\"\", \"Bar\", \"\", \"Close\",\"5\",\"0\",\"All\",,,\"False\",\"T\",\"EveryTick\"))","v":{"$error":"#N/A"}}]
[26,{"$f":"IF(D30=0,NA(),RTD(\"cqg.rtd\",,\"StudyData\", \"Close(\"&$B$2&\") When Barix(\"&$B$2&\",reference:=StartOfSession)=\"&A30&\"\", \"Bar\", \"\", \"Close\",\"5\",\"0\",\"All\",,,\"False\",\"T\",\"EveryTick\"))","v":{"$error":"#N/A"}},"10:40:00",0,null,{"$f":"IF(D30=0,NA(),RTD(\"cqg.rtd\",,\"StudyData\", \"Close(\"&$F$2&\") When Barix(\"&$F$2&\",reference:=StartOfSession)=\"&A30&\"\", \"Bar\", \"\", \"Close\",\"5\",\"0\",\"All\",,,\"False\",\"T\",\"EveryTick\"))","v":{"$error":"#N/A"}},null,{"$f":"IF(D30=0,NA(),RTD(\"cqg.rtd\",,\"StudyData\", \"Close(\"&$H$2&\") When Barix(\"&$H$2&\",reference:=StartOfSession)=\"&A30&\"\", \"Bar\", \"\", \"Close\",\"5\",\"0\",\"All\",,,\"False\",\"T\",\"EveryTick\"))","v":{"$error":"#N/A"}},null,{"$f":"IF(D30=0,NA(),RTD(\"cqg.rtd\",,\"StudyData\", \"Close(\"&$J$2&\") When Barix(\"&$J$2&\",reference:=StartOfSession)=\"&A30&\"\", \"Bar\", \"\", \"Close\",\"5\",\"0\",\"All\",,,\"False\",\"T\",\"EveryTick\"))","v":{"$error":"#N/A"}},null,{"$f":"IF(D30=0,NA(),RTD(\"cqg.rtd\",,\"StudyData\", \"Close(\"&$L$2&\") When Barix(\"&$L$2&\",reference:=StartOfSession)=\"&A30&\"\", \"Bar\", \"\", \"Close\",\"5\",\"0\",\"All\",,,\"False\",\"T\",\"EveryTick\"))","v":{"$error":"#N/A"}},null,{"$f":"IF(D30=0,NA(),RTD(\"cqg.rtd\",,\"StudyData\", \"Close(\"&$N$2&\") When Barix(\"&$N$2&\",reference:=StartOfSession)=\"&A30&\"\", \"Bar\", \"\", \"Close\",\"5\",\"0\",\"All\",,,\"False\",\"T\",\"EveryTick\"))","v":{"$error":"#N/A"}},null,{"$f":"IF(D30=0,NA(),RTD(\"cqg.rtd\",,\"StudyData\", \"Close(\"&$P$2&\") When Barix(\"&$P$2&\",reference:=StartOfSession)=\"&A30&\"\", \"Bar\", \"\", \"Close\",\"5\",\"0\",\"All\",,,\"False\",\"T\",\"EveryTick\"))","v":{"$error":"#N/A"}},null,{"$f":"IF(D30=0,NA(),RTD(\"cqg.rtd\",,\"StudyData\", \"Close(\"&$R$2&\") When Barix(\"&$R$2&\",reference:=StartOfSession)=\"&A30&\"\", \"Bar\", \"\", \"Close\",\"5\",\"0\",\"All\",,,\"False\",\"T\",\"EveryTick\"))","v":{"$error":"#N/A"}},null,{"$f":"IF(D30=0,NA(),RTD(\"cqg.rtd\",,\"StudyData\", \"Close(\"&$T$2&\") When Barix(\"&$T$2&\",reference:=StartOfSession)=\"&A30&\"\", \"Bar\", \"\", \"Close\",\"5\",\"0\",\"All\",,,\"False\",\"T\",\"EveryTick\"))","v":{"$error":"#N/A"}},null,{"$f":"IF(D30=0,NA(),RTD(\"cqg.rtd\",,\"StudyData\", \"Close(\"&$V$2&\") When Barix(\"&$V$2&\",reference:=StartOfSession)=\"&A30&\"\", \"Bar\", \"\", \"Close\",\"5\",\"0\",\"All\",,,\"False\",\"T\",\"EveryTick\"))","v":{"$error":"#N/A"}},null,{"$f":"IF(D30=0,NA(),RTD(\"cqg.rtd\",,\"StudyData\", \"Close(\"&$X$2&\") When Barix(\"&$X$2&\",reference:=StartOfSession)=\"&A30&\"\", \"Bar\", \"\", \"Close\",\"5\",\"0\",\"All\",,,\"False\",\"T\",\"EveryTick\"))","v":{"$error":"#N/A"}},null,{"$f":"IF(D30=0,NA(),RTD(\"cqg.rtd\",,\"StudyData\", \"Close(\"&$Z$2&\") When Barix(\"&$Z$2&\",reference:=StartOfSession)=\"&A30&\"\", \"Bar\", \"\", \"Close\",\"5\",\"0\",\"All\",,,\"False\",\"T\",\"EveryTick\"))","v":{"$error":"#N/A"}},null,{"$f":"IF(D30=0,NA(),RTD(\"cqg.rtd\",,\"StudyData\", \"Close(\"&$AB$2&\") When Barix(\"&$AB$2&\",reference:=StartOfSession)=\"&A30&\"\", \"Bar\", \"\", \"Close\",\"5\",\"0\",\"All\",,,\"False\",\"T\",\"EveryTick\"))","v":{"$error":"#N/A"}},null,{"$f":"IF(D30=0,NA(),RTD(\"cqg.rtd\",,\"StudyData\", \"Close(\"&$AD$2&\") When Barix(\"&$AD$2&\",reference:=StartOfSession)=\"&A30&\"\", \"Bar\", \"\", \"Close\",\"5\",\"0\",\"All\",,,\"False\",\"T\",\"EveryTick\"))","v":{"$error":"#N/A"}},null,{"$f":"IF(D30=0,NA(),RTD(\"cqg.rtd\",,\"StudyData\", \"Close(\"&$AF$2&\") When Barix(\"&$AF$2&\",reference:=StartOfSession)=\"&A30&\"\", \"Bar\", \"\", \"Close\",\"5\",\"0\",\"All\",,,\"False\",\"T\",\"EveryTick\"))","v":{"$error":"#N/A"}},null,{"$f":"IF(D30=0,NA(),RTD(\"cqg.rtd\",,\"StudyData\", \"Close(\"&$AH$2&\") When Barix(\"&$AH$2&\",reference:=StartOfSession)=\"&A30&\"\", \"Bar\", \"\", \"Close\",\"5\",\"0\",\"All\",,,\"False\",\"T\",\"EveryTick\"))","v":{"$error":"#N/A"}},null,{"$f":"IF(D30=0,NA(),RTD(\"cqg.rtd\",,\"StudyData\", \"Close(\"&$AJ$2&\") When Barix(\"&$AJ$2&\",reference:=StartOfSession)=\"&A30&\"\", \"Bar\", \"\", \"Close\",\"5\",\"0\",\"All\",,,\"False\",\"T\",\"EveryTick\"))","v":{"$error":"#N/A"}},null,{"$f":"IF(D30=0,NA(),RTD(\"cqg.rtd\",,\"StudyData\", \"Close(\"&$AL$2&\") When Barix(\"&$AL$2&\",reference:=StartOfSession)=\"&A30&\"\", \"Bar\", \"\", \"Close\",\"5\",\"0\",\"All\",,,\"False\",\"T\",\"EveryTick\"))","v":{"$error":"#N/A"}},null,{"$f":"IF(D30=0,NA(),RTD(\"cqg.rtd\",,\"StudyData\", \"Close(\"&$AN$2&\") When Barix(\"&$AN$2&\",reference:=StartOfSession)=\"&A30&\"\", \"Bar\", \"\", \"Close\",\"5\",\"0\",\"All\",,,\"False\",\"T\",\"EveryTick\"))","v":{"$error":"#N/A"}},null,{"$f":"IF(D30=0,NA(),RTD(\"cqg.rtd\",,\"StudyData\", \"Close(\"&$AN$2&\") When Barix(\"&$AN$2&\",reference:=StartOfSession)=\"&A30&\"\", \"Bar\", \"\", \"Close\",\"5\",\"0\",\"All\",,,\"False\",\"T\",\"EveryTick\"))","v":{"$error":"#N/A"}},null,{"$f":"IF(D30=0,NA(),RTD(\"cqg.rtd\",,\"StudyData\", \"Close(\"&$AR$2&\") When Barix(\"&$AR$2&\",reference:=StartOfSession)=\"&A30&\"\", \"Bar\", \"\", \"Close\",\"5\",\"0\",\"All\",,,\"False\",\"T\",\"EveryTick\"))","v":{"$error":"#N/A"}},null,{"$f":"IF(D30=0,NA(),RTD(\"cqg.rtd\",,\"StudyData\", \"Close(\"&$AT$2&\") When Barix(\"&$AT$2&\",reference:=StartOfSession)=\"&A30&\"\", \"Bar\", \"\", \"Close\",\"5\",\"0\",\"All\",,,\"False\",\"T\",\"EveryTick\"))","v":{"$error":"#N/A"}},null,{"$f":"IF(D30=0,NA(),RTD(\"cqg.rtd\",,\"StudyData\", \"Close(\"&$AV$2&\") When Barix(\"&$AV$2&\",reference:=StartOfSession)=\"&A30&\"\", \"Bar\", \"\", \"Close\",\"5\",\"0\",\"All\",,,\"False\",\"T\",\"EveryTick\"))","v":{"$error":"#N/A"}},null,{"$f":"IF(D30=0,NA(),RTD(\"cqg.rtd\",,\"StudyData\", \"Close(\"&$AX$2&\") When Barix(\"&$AX$2&\",reference:=StartOfSession)=\"&A30&\"\", \"Bar\", \"\", \"Close\",\"5\",\"0\",\"All\",,,\"False\",\"T\",\"EveryTick\"))","v":{"$error":"#N/A"}},null,{"$f":"IF(D30=0,NA(),RTD(\"cqg.rtd\",,\"StudyData\", \"Close(\"&$AZ$2&\") When Barix(\"&$AZ$2&\",reference:=StartOfSession)=\"&A30&\"\", \"Bar\", \"\", \"Close\",\"5\",\"0\",\"All\",,,\"False\",\"T\",\"EveryTick\"))","v":{"$error":"#N/A"}},null,{"$f":"IF(D30=0,NA(),RTD(\"cqg.rtd\",,\"StudyData\", \"Close(\"&$BB$2&\") When Barix(\"&$BB$2&\",reference:=StartOfSession)=\"&A30&\"\", \"Bar\", \"\", \"Close\",\"5\",\"0\",\"All\",,,\"False\",\"T\",\"EveryTick\"))","v":{"$error":"#N/A"}},null,{"$f":"IF(D30=0,NA(),RTD(\"cqg.rtd\",,\"StudyData\", \"Close(\"&$BD$2&\") When Barix(\"&$BD$2&\",reference:=StartOfSession)=\"&A30&\"\", \"Bar\", \"\", \"Close\",\"5\",\"0\",\"All\",,,\"False\",\"T\",\"EveryTick\"))","v":{"$error":"#N/A"}},null,{"$f":"IF(D30=0,NA(),RTD(\"cqg.rtd\",,\"StudyData\", \"Close(\"&$BF$2&\") When Barix(\"&$BF$2&\",reference:=StartOfSession)=\"&A30&\"\", \"Bar\", \"\", \"Close\",\"5\",\"0\",\"All\",,,\"False\",\"T\",\"EveryTick\"))","v":{"$error":"#N/A"}},null,{"$f":"IF(D30=0,NA(),RTD(\"cqg.rtd\",,\"StudyData\", \"Close(\"&$BH$2&\") When Barix(\"&$BH$2&\",reference:=StartOfSession)=\"&A30&\"\", \"Bar\", \"\", \"Close\",\"5\",\"0\",\"All\",,,\"False\",\"T\",\"EveryTick\"))","v":{"$error":"#N/A"}},null,{"$f":"IF(D30=0,NA(),RTD(\"cqg.rtd\",,\"StudyData\", \"Close(\"&$BJ$2&\") When Barix(\"&$BJ$2&\",reference:=StartOfSession)=\"&A30&\"\", \"Bar\", \"\", \"Close\",\"5\",\"0\",\"All\",,,\"False\",\"T\",\"EveryTick\"))","v":{"$error":"#N/A"}},null,{"$f":"IF(D30=0,NA(),RTD(\"cqg.rtd\",,\"StudyData\", \"Close(\"&$BL$2&\") When Barix(\"&$BL$2&\",reference:=StartOfSession)=\"&A30&\"\", \"Bar\", \"\", \"Close\",\"5\",\"0\",\"All\",,,\"False\",\"T\",\"EveryTick\"))","v":{"$error":"#N/A"}},null,{"$f":"IF(D30=0,NA(),RTD(\"cqg.rtd\",,\"StudyData\", \"Close(\"&$BN$2&\") When Barix(\"&$BN$2&\",reference:=StartOfSession)=\"&A30&\"\", \"Bar\", \"\", \"Close\",\"5\",\"0\",\"All\",,,\"False\",\"T\",\"EveryTick\"))","v":{"$error":"#N/A"}},null,{"$f":"IF(D30=0,NA(),RTD(\"cqg.rtd\",,\"StudyData\", \"Close(\"&$BP$2&\") When Barix(\"&$BP$2&\",reference:=StartOfSession)=\"&A30&\"\", \"Bar\", \"\", \"Close\",\"5\",\"0\",\"All\",,,\"False\",\"T\",\"EveryTick\"))","v":{"$error":"#N/A"}},null,{"$f":"IF(D30=0,NA(),RTD(\"cqg.rtd\",,\"StudyData\", \"Close(\"&$BR$2&\") When Barix(\"&$BR$2&\",reference:=StartOfSession)=\"&A30&\"\", \"Bar\", \"\", \"Close\",\"5\",\"0\",\"All\",,,\"False\",\"T\",\"EveryTick\"))","v":{"$error":"#N/A"}},null,{"$f":"IF(D30=0,NA(),RTD(\"cqg.rtd\",,\"StudyData\", \"Close(\"&$BT$2&\") When Barix(\"&$BT$2&\",reference:=StartOfSession)=\"&A30&\"\", \"Bar\", \"\", \"Close\",\"5\",\"0\",\"All\",,,\"False\",\"T\",\"EveryTick\"))","v":{"$error":"#N/A"}},null,{"$f":"IF(D30=0,NA(),RTD(\"cqg.rtd\",,\"StudyData\", \"Close(\"&$BV$2&\") When Barix(\"&$BV$2&\",reference:=StartOfSession)=\"&A30&\"\", \"Bar\", \"\", \"Close\",\"5\",\"0\",\"All\",,,\"False\",\"T\",\"EveryTick\"))","v":{"$error":"#N/A"}},null,{"$f":"IF(D30=0,NA(),RTD(\"cqg.rtd\",,\"StudyData\", \"Close(\"&$BX$2&\") When Barix(\"&$BX$2&\",reference:=StartOfSession)=\"&A30&\"\", \"Bar\", \"\", \"Close\",\"5\",\"0\",\"All\",,,\"False\",\"T\",\"EveryTick\"))","v":{"$error":"#N/A"}},null,{"$f":"IF(D30=0,NA(),RTD(\"cqg.rtd\",,\"StudyData\", \"Close(\"&$BZ$2&\") When Barix(\"&$BZ$2&\",reference:=StartOfSession)=\"&A30&\"\", \"Bar\", \"\", \"Close\",\"5\",\"0\",\"All\",,,\"False\",\"T\",\"EveryTick\"))","v":{"$error":"#N/A"}}]
[27,{"$f":"IF(D31=0,NA(),RTD(\"cqg.rtd\",,\"StudyData\", \"Close(\"&$B$2&\") When Barix(\"&$B$2&\",reference:=StartOfSession)=\"&A31&\"\", \"Bar\", \"\", \"Close\",\"5\",\"0\",\"All\",,,\"False\",\"T\",\"EveryTick\"))","v":{"$error":"#N/A"}},"10:45:00",0,null,{"$f":"IF(D31=0,NA(),RTD(\"cqg.rtd\",,\"StudyData\", \"Close(\"&$F$2&\") When Barix(\"&$F$2&\",reference:=StartOfSession)=\"&A31&\"\", \"Bar\", \"\", \"Close\",\"5\",\"0\",\"All\",,,\"False\",\"T\",\"EveryTick\"))","v":{"$error":"#N/A"}},null,{"$f":"IF(D31=0,NA(),RTD(\"cqg.rtd\",,\"StudyData\", \"Close(\"&$H$2&\") When Barix(\"&$H$2&\",reference:=StartOfSession)=\"&A31&\"\", \"Bar\", \"\", \"Close\",\"5\",\"0\",\"All\",,,\"False\",\"T\",\"EveryTick\"))","v":{"$error":"#N/A"}},null,{"$f":"IF(D31=0,NA(),RTD(\"cqg.rtd\",,\"StudyData\", \"Close(\"&$J$2&\") When Barix(\"&$J$2&\",reference:=StartOfSession)=\"&A31&\"\", \"Bar\", \"\", \"Close\",\"5\",\"0\",\"All\",,,\"False\",\"T\",\"EveryTick\"))","v":{"$error":"#N/A"}},null,{"$f":"IF(D31=0,NA(),RTD(\"cqg.rtd\",,\"StudyData\", \"Close(\"&$L$2&\") When Barix(\"&$L$2&\",reference:=StartOfSession)=\"&A31&\"\", \"Bar\", \"\", \"Close\",\"5\",\"0\",\"All\",,,\"False\",\"T\",\"EveryTick\"))","v":{"$error":"#N/A"}},null,{"$f":"IF(D31=0,NA(),RTD(\"cqg.rtd\",,\"StudyData\", \"Close(\"&$N$2&\") When Barix(\"&$N$2&\",reference:=StartOfSession)=\"&A31&\"\", \"Bar\", \"\", \"Close\",\"5\",\"0\",\"All\",,,\"False\",\"T\",\"EveryTick\"))","v":{"$error":"#N/A"}},null,{"$f":"IF(D31=0,NA(),RTD(\"cqg.rtd\",,\"StudyData\", \"Close(\"&$P$2&\") When Barix(\"&$P$2&\",reference:=StartOfSession)=\"&A31&\"\", \"Bar\", \"\", \"Close\",\"5\",\"0\",\"All\",,,\"False\",\"T\",\"EveryTick\"))","v":{"$error":"#N/A"}},null,{"$f":"IF(D31=0,NA(),RTD(\"cqg.rtd\",,\"StudyData\", \"Close(\"&$R$2&\") When Barix(\"&$R$2&\",reference:=StartOfSession)=\"&A31&\"\", \"Bar\", \"\", \"Close\",\"5\",\"0\",\"All\",,,\"False\",\"T\",\"EveryTick\"))","v":{"$error":"#N/A"}},null,{"$f":"IF(D31=0,NA(),RTD(\"cqg.rtd\",,\"StudyData\", \"Close(\"&$T$2&\") When Barix(\"&$T$2&\",reference:=StartOfSession)=\"&A31&\"\", \"Bar\", \"\", \"Close\",\"5\",\"0\",\"All\",,,\"False\",\"T\",\"EveryTick\"))","v":{"$error":"#N/A"}},null,{"$f":"IF(D31=0,NA(),RTD(\"cqg.rtd\",,\"StudyData\", \"Close(\"&$V$2&\") When Barix(\"&$V$2&\",reference:=StartOfSession)=\"&A31&\"\", \"Bar\", \"\", \"Close\",\"5\",\"0\",\"All\",,,\"False\",\"T\",\"EveryTick\"))","v":{"$error":"#N/A"}},null,{"$f":"IF(D31=0,NA(),RTD(\"cqg.rtd\",,\"StudyData\", \"Close(\"&$X$2&\") When Barix(\"&$X$2&\",reference:=StartOfSession)=\"&A31&\"\", \"Bar\", \"\", \"Close\",\"5\",\"0\",\"All\",,,\"False\",\"T\",\"EveryTick\"))","v":{"$error":"#N/A"}},null,{"$f":"IF(D31=0,NA(),RTD(\"cqg.rtd\",,\"StudyData\", \"Close(\"&$Z$2&\") When Barix(\"&$Z$2&\",reference:=StartOfSession)=\"&A31&\"\", \"Bar\", \"\", \"Close\",\"5\",\"0\",\"All\",,,\"False\",\"T\",\"EveryTick\"))","v":{"$error":"#N/A"}},null,{"$f":"IF(D31=0,NA(),RTD(\"cqg.rtd\",,\"StudyData\", \"Close(\"&$AB$2&\") When Barix(\"&$AB$2&\",reference:=StartOfSession)=\"&A31&\"\", \"Bar\", \"\", \"Close\",\"5\",\"0\",\"All\",,,\"False\",\"T\",\"EveryTick\"))","v":{"$error":"#N/A"}},null,{"$f":"IF(D31=0,NA(),RTD(\"cqg.rtd\",,\"StudyData\", \"Close(\"&$AD$2&\") When Barix(\"&$AD$2&\",reference:=StartOfSession)=\"&A31&\"\", \"Bar\", \"\", \"Close\",\"5\",\"0\",\"All\",,,\"False\",\"T\",\"EveryTick\"))","v":{"$error":"#N/A"}},null,{"$f":"IF(D31=0,NA(),RTD(\"cqg.rtd\",,\"StudyData\", \"Close(\"&$AF$2&\") When Barix(\"&$AF$2&\",reference:=StartOfSession)=\"&A31&\"\", \"Bar\", \"\", \"Close\",\"5\",\"0\",\"All\",,,\"False\",\"T\",\"EveryTick\"))","v":{"$error":"#N/A"}},null,{"$f":"IF(D31=0,NA(),RTD(\"cqg.rtd\",,\"StudyData\", \"Close(\"&$AH$2&\") When Barix(\"&$AH$2&\",reference:=StartOfSession)=\"&A31&\"\", \"Bar\", \"\", \"Close\",\"5\",\"0\",\"All\",,,\"False\",\"T\",\"EveryTick\"))","v":{"$error":"#N/A"}},null,{"$f":"IF(D31=0,NA(),RTD(\"cqg.rtd\",,\"StudyData\", \"Close(\"&$AJ$2&\") When Barix(\"&$AJ$2&\",reference:=StartOfSession)=\"&A31&\"\", \"Bar\", \"\", \"Close\",\"5\",\"0\",\"All\",,,\"False\",\"T\",\"EveryTick\"))","v":{"$error":"#N/A"}},null,{"$f":"IF(D31=0,NA(),RTD(\"cqg.rtd\",,\"StudyData\", \"Close(\"&$AL$2&\") When Barix(\"&$AL$2&\",reference:=StartOfSession)=\"&A31&\"\", \"Bar\", \"\", \"Close\",\"5\",\"0\",\"All\",,,\"False\",\"T\",\"EveryTick\"))","v":{"$error":"#N/A"}},null,{"$f":"IF(D31=0,NA(),RTD(\"cqg.rtd\",,\"StudyData\", \"Close(\"&$AN$2&\") When Barix(\"&$AN$2&\",reference:=StartOfSession)=\"&A31&\"\", \"Bar\", \"\", \"Close\",\"5\",\"0\",\"All\",,,\"False\",\"T\",\"EveryTick\"))","v":{"$error":"#N/A"}},null,{"$f":"IF(D31=0,NA(),RTD(\"cqg.rtd\",,\"StudyData\", \"Close(\"&$AN$2&\") When Barix(\"&$AN$2&\",reference:=StartOfSession)=\"&A31&\"\", \"Bar\", \"\", \"Close\",\"5\",\"0\",\"All\",,,\"False\",\"T\",\"EveryTick\"))","v":{"$error":"#N/A"}},null,{"$f":"IF(D31=0,NA(),RTD(\"cqg.rtd\",,\"StudyData\", \"Close(\"&$AR$2&\") When Barix(\"&$AR$2&\",reference:=StartOfSession)=\"&A31&\"\", \"Bar\", \"\", \"Close\",\"5\",\"0\",\"All\",,,\"False\",\"T\",\"EveryTick\"))","v":{"$error":"#N/A"}},null,{"$f":"IF(D31=0,NA(),RTD(\"cqg.rtd\",,\"StudyData\", \"Close(\"&$AT$2&\") When Barix(\"&$AT$2&\",reference:=StartOfSession)=\"&A31&\"\", \"Bar\", \"\", \"Close\",\"5\",\"0\",\"All\",,,\"False\",\"T\",\"EveryTick\"))","v":{"$error":"#N/A"}},null,{"$f":"IF(D31=0,NA(),RTD(\"cqg.rtd\",,\"StudyData\", \"Close(\"&$AV$2&\") When Barix(\"&$AV$2&\",reference:=StartOfSession)=\"&A31&\"\", \"Bar\", \"\", \"Close\",\"5\",\"0\",\"All\",,,\"False\",\"T\",\"EveryTick\"))","v":{"$error":"#N/A"}},null,{"$f":"IF(D31=0,NA(),RTD(\"cqg.rtd\",,\"StudyData\", \"Close(\"&$AX$2&\") When Barix(\"&$AX$2&\",reference:=StartOfSession)=\"&A31&\"\", \"Bar\", \"\", \"Close\",\"5\",\"0\",\"All\",,,\"False\",\"T\",\"EveryTick\"))","v":{"$error":"#N/A"}},null,{"$f":"IF(D31=0,NA(),RTD(\"cqg.rtd\",,\"StudyData\", \"Close(\"&$AZ$2&\") When Barix(\"&$AZ$2&\",reference:=StartOfSession)=\"&A31&\"\", \"Bar\", \"\", \"Close\",\"5\",\"0\",\"All\",,,\"False\",\"T\",\"EveryTick\"))","v":{"$error":"#N/A"}},null,{"$f":"IF(D31=0,NA(),RTD(\"cqg.rtd\",,\"StudyData\", \"Close(\"&$BB$2&\") When Barix(\"&$BB$2&\",reference:=StartOfSession)=\"&A31&\"\", \"Bar\", \"\", \"Close\",\"5\",\"0\",\"All\",,,\"False\",\"T\",\"EveryTick\"))","v":{"$error":"#N/A"}},null,{"$f":"IF(D31=0,NA(),RTD(\"cqg.rtd\",,\"StudyData\", \"Close(\"&$BD$2&\") When Barix(\"&$BD$2&\",reference:=StartOfSession)=\"&A31&\"\", \"Bar\", \"\", \"Close\",\"5\",\"0\",\"All\",,,\"False\",\"T\",\"EveryTick\"))","v":{"$error":"#N/A"}},null,{"$f":"IF(D31=0,NA(),RTD(\"cqg.rtd\",,\"StudyData\", \"Close(\"&$BF$2&\") When Barix(\"&$BF$2&\",reference:=StartOfSession)=\"&A31&\"\", \"Bar\", \"\", \"Close\",\"5\",\"0\",\"All\",,,\"False\",\"T\",\"EveryTick\"))","v":{"$error":"#N/A"}},null,{"$f":"IF(D31=0,NA(),RTD(\"cqg.rtd\",,\"StudyData\", \"Close(\"&$BH$2&\") When Barix(\"&$BH$2&\",reference:=StartOfSession)=\"&A31&\"\", \"Bar\", \"\", \"Close\",\"5\",\"0\",\"All\",,,\"False\",\"T\",\"EveryTick\"))","v":{"$error":"#N/A"}},null,{"$f":"IF(D31=0,NA(),RTD(\"cqg.rtd\",,\"StudyData\", \"Close(\"&$BJ$2&\") When Barix(\"&$BJ$2&\",reference:=StartOfSession)=\"&A31&\"\", \"Bar\", \"\", \"Close\",\"5\",\"0\",\"All\",,,\"False\",\"T\",\"EveryTick\"))","v":{"$error":"#N/A"}},null,{"$f":"IF(D31=0,NA(),RTD(\"cqg.rtd\",,\"StudyData\", \"Close(\"&$BL$2&\") When Barix(\"&$BL$2&\",reference:=StartOfSession)=\"&A31&\"\", \"Bar\", \"\", \"Close\",\"5\",\"0\",\"All\",,,\"False\",\"T\",\"EveryTick\"))","v":{"$error":"#N/A"}},null,{"$f":"IF(D31=0,NA(),RTD(\"cqg.rtd\",,\"StudyData\", \"Close(\"&$BN$2&\") When Barix(\"&$BN$2&\",reference:=StartOfSession)=\"&A31&\"\", \"Bar\", \"\", \"Close\",\"5\",\"0\",\"All\",,,\"False\",\"T\",\"EveryTick\"))","v":{"$error":"#N/A"}},null,{"$f":"IF(D31=0,NA(),RTD(\"cqg.rtd\",,\"StudyData\", \"Close(\"&$BP$2&\") When Barix(\"&$BP$2&\",reference:=StartOfSession)=\"&A31&\"\", \"Bar\", \"\", \"Close\",\"5\",\"0\",\"All\",,,\"False\",\"T\",\"EveryTick\"))","v":{"$error":"#N/A"}},null,{"$f":"IF(D31=0,NA(),RTD(\"cqg.rtd\",,\"StudyData\", \"Close(\"&$BR$2&\") When Barix(\"&$BR$2&\",reference:=StartOfSession)=\"&A31&\"\", \"Bar\", \"\", \"Close\",\"5\",\"0\",\"All\",,,\"False\",\"T\",\"EveryTick\"))","v":{"$error":"#N/A"}},null,{"$f":"IF(D31=0,NA(),RTD(\"cqg.rtd\",,\"StudyData\", \"Close(\"&$BT$2&\") When Barix(\"&$BT$2&\",reference:=StartOfSession)=\"&A31&\"\", \"Bar\", \"\", \"Close\",\"5\",\"0\",\"All\",,,\"False\",\"T\",\"EveryTick\"))","v":{"$error":"#N/A"}},null,{"$f":"IF(D31=0,NA(),RTD(\"cqg.rtd\",,\"StudyData\", \"Close(\"&$BV$2&\") When Barix(\"&$BV$2&\",reference:=StartOfSession)=\"&A31&\"\", \"Bar\", \"\", \"Close\",\"5\",\"0\",\"All\",,,\"False\",\"T\",\"EveryTick\"))","v":{"$error":"#N/A"}},null,{"$f":"IF(D31=0,NA(),RTD(\"cqg.rtd\",,\"StudyData\", \"Close(\"&$BX$2&\") When Barix(\"&$BX$2&\",reference:=StartOfSession)=\"&A31&\"\", \"Bar\", \"\", \"Close\",\"5\",\"0\",\"All\",,,\"False\",\"T\",\"EveryTick\"))","v":{"$error":"#N/A"}},null,{"$f":"IF(D31=0,NA(),RTD(\"cqg.rtd\",,\"StudyData\", \"Close(\"&$BZ$2&\") When Barix(\"&$BZ$2&\",reference:=StartOfSession)=\"&A31&\"\", \"Bar\", \"\", \"Close\",\"5\",\"0\",\"All\",,,\"False\",\"T\",\"EveryTick\"))","v":{"$error":"#N/A"}}]
[28,{"$f":"IF(D32=0,NA(),RTD(\"cqg.rtd\",,\"StudyData\", \"Close(\"&$B$2&\") When Barix(\"&$B$2&\",reference:=StartOfSession)=\"&A32&\"\", \"Bar\", \"\", \"Close\",\"5\",\"0\",\"All\",,,\"False\",\"T\",\"EveryTick\"))","v":{"$error":"#N/A"}},"10:50:00",0,null,{"$f":"IF(D32=0,NA(),RTD(\"cqg.rtd\",,\"StudyData\", \"Close(\"&$F$2&\") When Barix(\"&$F$2&\",reference:=StartOfSession)=\"&A32&\"\", \"Bar\", \"\", \"Close\",\"5\",\"0\",\"All\",,,\"False\",\"T\",\"EveryTick\"))","v":{"$error":"#N/A"}},null,{"$f":"IF(D32=0,NA(),RTD(\"cqg.rtd\",,\"StudyData\", \"Close(\"&$H$2&\") When Barix(\"&$H$2&\",reference:=StartOfSession)=\"&A32&\"\", \"Bar\", \"\", \"Close\",\"5\",\"0\",\"All\",,,\"False\",\"T\",\"EveryTick\"))","v":{"$error":"#N/A"}},null,{"$f":"IF(D32=0,NA(),RTD(\"cqg.rtd\",,\"StudyData\", \"Close(\"&$J$2&\") When Barix(\"&$J$2&\",reference:=StartOfSession)=\"&A32&\"\", \"Bar\", \"\", \"Close\",\"5\",\"0\",\"All\",,,\"False\",\"T\",\"EveryTick\"))","v":{"$error":"#N/A"}},null,{"$f":"IF(D32=0,NA(),RTD(\"cqg.rtd\",,\"StudyData\", \"Close(\"&$L$2&\") When Barix(\"&$L$2&\",reference:=StartOfSession)=\"&A32&\"\", \"Bar\", \"\", \"Close\",\"5\",\"0\",\"All\",,,\"False\",\"T\",\"EveryTick\"))","v":{"$error":"#N/A"}},null,{"$f":"IF(D32=0,NA(),RTD(\"cqg.rtd\",,\"StudyData\", \"Close(\"&$N$2&\") When Barix(\"&$N$2&\",reference:=StartOfSession)=\"&A32&\"\", \"Bar\", \"\", \"Close\",\"5\",\"0\",\"All\",,,\"False\",\"T\",\"EveryTick\"))","v":{"$error":"#N/A"}},null,{"$f":"IF(D32=0,NA(),RTD(\"cqg.rtd\",,\"StudyData\", \"Close(\"&$P$2&\") When Barix(\"&$P$2&\",reference:=StartOfSession)=\"&A32&\"\", \"Bar\", \"\", \"Close\",\"5\",\"0\",\"All\",,,\"False\",\"T\",\"EveryTick\"))","v":{"$error":"#N/A"}},null,{"$f":"IF(D32=0,NA(),RTD(\"cqg.rtd\",,\"StudyData\", \"Close(\"&$R$2&\") When Barix(\"&$R$2&\",reference:=StartOfSession)=\"&A32&\"\", \"Bar\", \"\", \"Close\",\"5\",\"0\",\"All\",,,\"False\",\"T\",\"EveryTick\"))","v":{"$error":"#N/A"}},null,{"$f":"IF(D32=0,NA(),RTD(\"cqg.rtd\",,\"StudyData\", \"Close(\"&$T$2&\") When Barix(\"&$T$2&\",reference:=StartOfSession)=\"&A32&\"\", \"Bar\", \"\", \"Close\",\"5\",\"0\",\"All\",,,\"False\",\"T\",\"EveryTick\"))","v":{"$error":"#N/A"}},null,{"$f":"IF(D32=0,NA(),RTD(\"cqg.rtd\",,\"StudyData\", \"Close(\"&$V$2&\") When Barix(\"&$V$2&\",reference:=StartOfSession)=\"&A32&\"\", \"Bar\", \"\", \"Close\",\"5\",\"0\",\"All\",,,\"False\",\"T\",\"EveryTick\"))","v":{"$error":"#N/A"}},null,{"$f":"IF(D32=0,NA(),RTD(\"cqg.rtd\",,\"StudyData\", \"Close(\"&$X$2&\") When Barix(\"&$X$2&\",reference:=StartOfSession)=\"&A32&\"\", \"Bar\", \"\", \"Close\",\"5\",\"0\",\"All\",,,\"False\",\"T\",\"EveryTick\"))","v":{"$error":"#N/A"}},null,{"$f":"IF(D32=0,NA(),RTD(\"cqg.rtd\",,\"StudyData\", \"Close(\"&$Z$2&\") When Barix(\"&$Z$2&\",reference:=StartOfSession)=\"&A32&\"\", \"Bar\", \"\", \"Close\",\"5\",\"0\",\"All\",,,\"False\",\"T\",\"EveryTick\"))","v":{"$error":"#N/A"}},null,{"$f":"IF(D32=0,NA(),RTD(\"cqg.rtd\",,\"StudyData\", \"Close(\"&$AB$2&\") When Barix(\"&$AB$2&\",reference:=StartOfSession)=\"&A32&\"\", \"Bar\", \"\", \"Close\",\"5\",\"0\",\"All\",,,\"False\",\"T\",\"EveryTick\"))","v":{"$error":"#N/A"}},null,{"$f":"IF(D32=0,NA(),RTD(\"cqg.rtd\",,\"StudyData\", \"Close(\"&$AD$2&\") When Barix(\"&$AD$2&\",reference:=StartOfSession)=\"&A32&\"\", \"Bar\", \"\", \"Close\",\"5\",\"0\",\"All\",,,\"False\",\"T\",\"EveryTick\"))","v":{"$error":"#N/A"}},null,{"$f":"IF(D32=0,NA(),RTD(\"cqg.rtd\",,\"StudyData\", \"Close(\"&$AF$2&\") When Barix(\"&$AF$2&\",reference:=StartOfSession)=\"&A32&\"\", \"Bar\", \"\", \"Close\",\"5\",\"0\",\"All\",,,\"False\",\"T\",\"EveryTick\"))","v":{"$error":"#N/A"}},null,{"$f":"IF(D32=0,NA(),RTD(\"cqg.rtd\",,\"StudyData\", \"Close(\"&$AH$2&\") When Barix(\"&$AH$2&\",reference:=StartOfSession)=\"&A32&\"\", \"Bar\", \"\", \"Close\",\"5\",\"0\",\"All\",,,\"False\",\"T\",\"EveryTick\"))","v":{"$error":"#N/A"}},null,{"$f":"IF(D32=0,NA(),RTD(\"cqg.rtd\",,\"StudyData\", \"Close(\"&$AJ$2&\") When Barix(\"&$AJ$2&\",reference:=StartOfSession)=\"&A32&\"\", \"Bar\", \"\", \"Close\",\"5\",\"0\",\"All\",,,\"False\",\"T\",\"EveryTick\"))","v":{"$error":"#N/A"}},null,{"$f":"IF(D32=0,NA(),RTD(\"cqg.rtd\",,\"StudyData\", \"Close(\"&$AL$2&\") When Barix(\"&$AL$2&\",reference:=StartOfSession)=\"&A32&\"\", \"Bar\", \"\", \"Close\",\"5\",\"0\",\"All\",,,\"False\",\"T\",\"EveryTick\"))","v":{"$error":"#N/A"}},null,{"$f":"IF(D32=0,NA(),RTD(\"cqg.rtd\",,\"StudyData\", \"Close(\"&$AN$2&\") When Barix(\"&$AN$2&\",reference:=StartOfSession)=\"&A32&\"\", \"Bar\", \"\", \"Close\",\"5\",\"0\",\"All\",,,\"False\",\"T\",\"EveryTick\"))","v":{"$error":"#N/A"}},null,{"$f":"IF(D32=0,NA(),RTD(\"cqg.rtd\",,\"StudyData\", \"Close(\"&$AN$2&\") When Barix(\"&$AN$2&\",reference:=StartOfSession)=\"&A32&\"\", \"Bar\", \"\", \"Close\",\"5\",\"0\",\"All\",,,\"False\",\"T\",\"EveryTick\"))","v":{"$error":"#N/A"}},null,{"$f":"IF(D32=0,NA(),RTD(\"cqg.rtd\",,\"StudyData\", \"Close(\"&$AR$2&\") When Barix(\"&$AR$2&\",reference:=StartOfSession)=\"&A32&\"\", \"Bar\", \"\", \"Close\",\"5\",\"0\",\"All\",,,\"False\",\"T\",\"EveryTick\"))","v":{"$error":"#N/A"}},null,{"$f":"IF(D32=0,NA(),RTD(\"cqg.rtd\",,\"StudyData\", \"Close(\"&$AT$2&\") When Barix(\"&$AT$2&\",reference:=StartOfSession)=\"&A32&\"\", \"Bar\", \"\", \"Close\",\"5\",\"0\",\"All\",,,\"False\",\"T\",\"EveryTick\"))","v":{"$error":"#N/A"}},null,{"$f":"IF(D32=0,NA(),RTD(\"cqg.rtd\",,\"StudyData\", \"Close(\"&$AV$2&\") When Barix(\"&$AV$2&\",reference:=StartOfSession)=\"&A32&\"\", \"Bar\", \"\", \"Close\",\"5\",\"0\",\"All\",,,\"False\",\"T\",\"EveryTick\"))","v":{"$error":"#N/A"}},null,{"$f":"IF(D32=0,NA(),RTD(\"cqg.rtd\",,\"StudyData\", \"Close(\"&$AX$2&\") When Barix(\"&$AX$2&\",reference:=StartOfSession)=\"&A32&\"\", \"Bar\", \"\", \"Close\",\"5\",\"0\",\"All\",,,\"False\",\"T\",\"EveryTick\"))","v":{"$error":"#N/A"}},null,{"$f":"IF(D32=0,NA(),RTD(\"cqg.rtd\",,\"StudyData\", \"Close(\"&$AZ$2&\") When Barix(\"&$AZ$2&\",reference:=StartOfSession)=\"&A32&\"\", \"Bar\", \"\", \"Close\",\"5\",\"0\",\"All\",,,\"False\",\"T\",\"EveryTick\"))","v":{"$error":"#N/A"}},null,{"$f":"IF(D32=0,NA(),RTD(\"cqg.rtd\",,\"StudyData\", \"Close(\"&$BB$2&\") When Barix(\"&$BB$2&\",reference:=StartOfSession)=\"&A32&\"\", \"Bar\", \"\", \"Close\",\"5\",\"0\",\"All\",,,\"False\",\"T\",\"EveryTick\"))","v":{"$error":"#N/A"}},null,{"$f":"IF(D32=0,NA(),RTD(\"cqg.rtd\",,\"StudyData\", \"Close(\"&$BD$2&\") When Barix(\"&$BD$2&\",reference:=StartOfSession)=\"&A32&\"\", \"Bar\", \"\", \"Close\",\"5\",\"0\",\"All\",,,\"False\",\"T\",\"EveryTick\"))","v":{"$error":"#N/A"}},null,{"$f":"IF(D32=0,NA(),RTD(\"cqg.rtd\",,\"StudyData\", \"Close(\"&$BF$2&\") When Barix(\"&$BF$2&\",reference:=StartOfSession)=\"&A32&\"\", \"Bar\", \"\", \"Close\",\"5\",\"0\",\"All\",,,\"False\",\"T\",\"EveryTick\"))","v":{"$error":"#N/A"}},null,{"$f":"IF(D32=0,NA(),RTD(\"cqg.rtd\",,\"StudyData\", \"Close(\"&$BH$2&\") When Barix(\"&$BH$2&\",reference:=StartOfSession)=\"&A32&\"\", \"Bar\", \"\", \"Close\",\"5\",\"0\",\"All\",,,\"False\",\"T\",\"EveryTick\"))","v":{"$error":"#N/A"}},null,{"$f":"IF(D32=0,NA(),RTD(\"cqg.rtd\",,\"StudyData\", \"Close(\"&$BJ$2&\") When Barix(\"&$BJ$2&\",reference:=StartOfSession)=\"&A32&\"\", \"Bar\", \"\", \"Close\",\"5\",\"0\",\"All\",,,\"False\",\"T\",\"EveryTick\"))","v":{"$error":"#N/A"}},null,{"$f":"IF(D32=0,NA(),RTD(\"cqg.rtd\",,\"StudyData\", \"Close(\"&$BL$2&\") When Barix(\"&$BL$2&\",reference:=StartOfSession)=\"&A32&\"\", \"Bar\", \"\", \"Close\",\"5\",\"0\",\"All\",,,\"False\",\"T\",\"EveryTick\"))","v":{"$error":"#N/A"}},null,{"$f":"IF(D32=0,NA(),RTD(\"cqg.rtd\",,\"StudyData\", \"Close(\"&$BN$2&\") When Barix(\"&$BN$2&\",reference:=StartOfSession)=\"&A32&\"\", \"Bar\", \"\", \"Close\",\"5\",\"0\",\"All\",,,\"False\",\"T\",\"EveryTick\"))","v":{"$error":"#N/A"}},null,{"$f":"IF(D32=0,NA(),RTD(\"cqg.rtd\",,\"StudyData\", \"Close(\"&$BP$2&\") When Barix(\"&$BP$2&\",reference:=StartOfSession)=\"&A32&\"\", \"Bar\", \"\", \"Close\",\"5\",\"0\",\"All\",,,\"False\",\"T\",\"EveryTick\"))","v":{"$error":"#N/A"}},null,{"$f":"IF(D32=0,NA(),RTD(\"cqg.rtd\",,\"StudyData\", \"Close(\"&$BR$2&\") When Barix(\"&$BR$2&\",reference:=StartOfSession)=\"&A32&\"\", \"Bar\", \"\", \"Close\",\"5\",\"0\",\"All\",,,\"False\",\"T\",\"EveryTick\"))","v":{"$error":"#N/A"}},null,{"$f":"IF(D32=0,NA(),RTD(\"cqg.rtd\",,\"StudyData\", \"Close(\"&$BT$2&\") When Barix(\"&$BT$2&\",reference:=StartOfSession)=\"&A32&\"\", \"Bar\", \"\", \"Close\",\"5\",\"0\",\"All\",,,\"False\",\"T\",\"EveryTick\"))","v":{"$error":"#N/A"}},null,{"$f":"IF(D32=0,NA(),RTD(\"cqg.rtd\",,\"StudyData\", \"Close(\"&$BV$2&\") When Barix(\"&$BV$2&\",reference:=StartOfSession)=\"&A32&\"\", \"Bar\", \"\", \"Close\",\"5\",\"0\",\"All\",,,\"False\",\"T\",\"EveryTick\"))","v":{"$error":"#N/A"}},null,{"$f":"IF(D32=0,NA(),RTD(\"cqg.rtd\",,\"StudyData\", \"Close(\"&$BX$2&\") When Barix(\"&$BX$2&\",reference:=StartOfSession)=\"&A32&\"\", \"Bar\", \"\", \"Close\",\"5\",\"0\",\"All\",,,\"False\",\"T\",\"EveryTick\"))","v":{"$error":"#N/A"}},null,{"$f":"IF(D32=0,NA(),RTD(\"cqg.rtd\",,\"StudyData\", \"Close(\"&$BZ$2&\") When Barix(\"&$BZ$2&\",reference:=StartOfSession)=\"&A32&\"\", \"Bar\", \"\", \"Close\",\"5\",\"0\",\"All\",,,\"False\",\"T\",\"EveryTick\"))","v":{"$error":"#N/A"}}]
[29,{"$f":"IF(D33=0,NA(),RTD(\"cqg.rtd\",,\"StudyData\", \"Close(\"&$B$2&\") When Barix(\"&$B$2&\",reference:=StartOfSession)=\"&A33&\"\", \"Bar\", \"\", \"Close\",\"5\",\"0\",\"All\",,,\"False\",\"T\",\"EveryTick\"))","v":{"$error":"#N/A"}},"10:55:00",0,null,{"$f":"IF(D33=0,NA(),RTD(\"cqg.rtd\",,\"StudyData\", \"Close(\"&$F$2&\") When Barix(\"&$F$2&\",reference:=StartOfSession)=\"&A33&\"\", \"Bar\", \"\", \"Close\",\"5\",\"0\",\"All\",,,\"False\",\"T\",\"EveryTick\"))","v":{"$error":"#N/A"}},null,{"$f":"IF(D33=0,NA(),RTD(\"cqg.rtd\",,\"StudyData\", \"Close(\"&$H$2&\") When Barix(\"&$H$2&\",reference:=StartOfSession)=\"&A33&\"\", \"Bar\", \"\", \"Close\",\"5\",\"0\",\"All\",,,\"False\",\"T\",\"EveryTick\"))","v":{"$error":"#N/A"}},null,{"$f":"IF(D33=0,NA(),RTD(\"cqg.rtd\",,\"StudyData\", \"Close(\"&$J$2&\") When Barix(\"&$J$2&\",reference:=StartOfSession)=\"&A33&\"\", \"Bar\", \"\", \"Close\",\"5\",\"0\",\"All\",,,\"False\",\"T\",\"EveryTick\"))","v":{"$error":"#N/A"}},null,{"$f":"IF(D33=0,NA(),RTD(\"cqg.rtd\",,\"StudyData\", \"Close(\"&$L$2&\") When Barix(\"&$L$2&\",reference:=StartOfSession)=\"&A33&\"\", \"Bar\", \"\", \"Close\",\"5\",\"0\",\"All\",,,\"False\",\"T\",\"EveryTick\"))","v":{"$error":"#N/A"}},null,{"$f":"IF(D33=0,NA(),RTD(\"cqg.rtd\",,\"StudyData\", \"Close(\"&$N$2&\") When Barix(\"&$N$2&\",reference:=StartOfSession)=\"&A33&\"\", \"Bar\", \"\", \"Close\",\"5\",\"0\",\"All\",,,\"False\",\"T\",\"EveryTick\"))","v":{"$error":"#N/A"}},null,{"$f":"IF(D33=0,NA(),RTD(\"cqg.rtd\",,\"StudyData\", \"Close(\"&$P$2&\") When Barix(\"&$P$2&\",reference:=StartOfSession)=\"&A33&\"\", \"Bar\", \"\", \"Close\",\"5\",\"0\",\"All\",,,\"False\",\"T\",\"EveryTick\"))","v":{"$error":"#N/A"}},null,{"$f":"IF(D33=0,NA(),RTD(\"cqg.rtd\",,\"StudyData\", \"Close(\"&$R$2&\") When Barix(\"&$R$2&\",reference:=StartOfSession)=\"&A33&\"\", \"Bar\", \"\", \"Close\",\"5\",\"0\",\"All\",,,\"False\",\"T\",\"EveryTick\"))","v":{"$error":"#N/A"}},null,{"$f":"IF(D33=0,NA(),RTD(\"cqg.rtd\",,\"StudyData\", \"Close(\"&$T$2&\") When Barix(\"&$T$2&\",reference:=StartOfSession)=\"&A33&\"\", \"Bar\", \"\", \"Close\",\"5\",\"0\",\"All\",,,\"False\",\"T\",\"EveryTick\"))","v":{"$error":"#N/A"}},null,{"$f":"IF(D33=0,NA(),RTD(\"cqg.rtd\",,\"StudyData\", \"Close(\"&$V$2&\") When Barix(\"&$V$2&\",reference:=StartOfSession)=\"&A33&\"\", \"Bar\", \"\", \"Close\",\"5\",\"0\",\"All\",,,\"False\",\"T\",\"EveryTick\"))","v":{"$error":"#N/A"}},null,{"$f":"IF(D33=0,NA(),RTD(\"cqg.rtd\",,\"StudyData\", \"Close(\"&$X$2&\") When Barix(\"&$X$2&\",reference:=StartOfSession)=\"&A33&\"\", \"Bar\", \"\", \"Close\",\"5\",\"0\",\"All\",,,\"False\",\"T\",\"EveryTick\"))","v":{"$error":"#N/A"}},null,{"$f":"IF(D33=0,NA(),RTD(\"cqg.rtd\",,\"StudyData\", \"Close(\"&$Z$2&\") When Barix(\"&$Z$2&\",reference:=StartOfSession)=\"&A33&\"\", \"Bar\", \"\", \"Close\",\"5\",\"0\",\"All\",,,\"False\",\"T\",\"EveryTick\"))","v":{"$error":"#N/A"}},null,{"$f":"IF(D33=0,NA(),RTD(\"cqg.rtd\",,\"StudyData\", \"Close(\"&$AB$2&\") When Barix(\"&$AB$2&\",reference:=StartOfSession)=\"&A33&\"\", \"Bar\", \"\", \"Close\",\"5\",\"0\",\"All\",,,\"False\",\"T\",\"EveryTick\"))","v":{"$error":"#N/A"}},null,{"$f":"IF(D33=0,NA(),RTD(\"cqg.rtd\",,\"StudyData\", \"Close(\"&$AD$2&\") When Barix(\"&$AD$2&\",reference:=StartOfSession)=\"&A33&\"\", \"Bar\", \"\", \"Close\",\"5\",\"0\",\"All\",,,\"False\",\"T\",\"EveryTick\"))","v":{"$error":"#N/A"}},null,{"$f":"IF(D33=0,NA(),RTD(\"cqg.rtd\",,\"StudyData\", \"Close(\"&$AF$2&\") When Barix(\"&$AF$2&\",reference:=StartOfSession)=\"&A33&\"\", \"Bar\", \"\", \"Close\",\"5\",\"0\",\"All\",,,\"False\",\"T\",\"EveryTick\"))","v":{"$error":"#N/A"}},null,{"$f":"IF(D33=0,NA(),RTD(\"cqg.rtd\",,\"StudyData\", \"Close(\"&$AH$2&\") When Barix(\"&$AH$2&\",reference:=StartOfSession)=\"&A33&\"\", \"Bar\", \"\", \"Close\",\"5\",\"0\",\"All\",,,\"False\",\"T\",\"EveryTick\"))","v":{"$error":"#N/A"}},null,{"$f":"IF(D33=0,NA(),RTD(\"cqg.rtd\",,\"StudyData\", \"Close(\"&$AJ$2&\") When Barix(\"&$AJ$2&\",reference:=StartOfSession)=\"&A33&\"\", \"Bar\", \"\", \"Close\",\"5\",\"0\",\"All\",,,\"False\",\"T\",\"EveryTick\"))","v":{"$error":"#N/A"}},null,{"$f":"IF(D33=0,NA(),RTD(\"cqg.rtd\",,\"StudyData\", \"Close(\"&$AL$2&\") When Barix(\"&$AL$2&\",reference:=StartOfSession)=\"&A33&\"\", \"Bar\", \"\", \"Close\",\"5\",\"0\",\"All\",,,\"False\",\"T\",\"EveryTick\"))","v":{"$error":"#N/A"}},null,{"$f":"IF(D33=0,NA(),RTD(\"cqg.rtd\",,\"StudyData\", \"Close(\"&$AN$2&\") When Barix(\"&$AN$2&\",reference:=StartOfSession)=\"&A33&\"\", \"Bar\", \"\", \"Close\",\"5\",\"0\",\"All\",,,\"False\",\"T\",\"EveryTick\"))","v":{"$error":"#N/A"}},null,{"$f":"IF(D33=0,NA(),RTD(\"cqg.rtd\",,\"StudyData\", \"Close(\"&$AN$2&\") When Barix(\"&$AN$2&\",reference:=StartOfSession)=\"&A33&\"\", \"Bar\", \"\", \"Close\",\"5\",\"0\",\"All\",,,\"False\",\"T\",\"EveryTick\"))","v":{"$error":"#N/A"}},null,{"$f":"IF(D33=0,NA(),RTD(\"cqg.rtd\",,\"StudyData\", \"Close(\"&$AR$2&\") When Barix(\"&$AR$2&\",reference:=StartOfSession)=\"&A33&\"\", \"Bar\", \"\", \"Close\",\"5\",\"0\",\"All\",,,\"False\",\"T\",\"EveryTick\"))","v":{"$error":"#N/A"}},null,{"$f":"IF(D33=0,NA(),RTD(\"cqg.rtd\",,\"StudyData\", \"Close(\"&$AT$2&\") When Barix(\"&$AT$2&\",reference:=StartOfSession)=\"&A33&\"\", \"Bar\", \"\", \"Close\",\"5\",\"0\",\"All\",,,\"False\",\"T\",\"EveryTick\"))","v":{"$error":"#N/A"}},null,{"$f":"IF(D33=0,NA(),RTD(\"cqg.rtd\",,\"StudyData\", \"Close(\"&$AV$2&\") When Barix(\"&$AV$2&\",reference:=StartOfSession)=\"&A33&\"\", \"Bar\", \"\", \"Close\",\"5\",\"0\",\"All\",,,\"False\",\"T\",\"EveryTick\"))","v":{"$error":"#N/A"}},null,{"$f":"IF(D33=0,NA(),RTD(\"cqg.rtd\",,\"StudyData\", \"Close(\"&$AX$2&\") When Barix(\"&$AX$2&\",reference:=StartOfSession)=\"&A33&\"\", \"Bar\", \"\", \"Close\",\"5\",\"0\",\"All\",,,\"False\",\"T\",\"EveryTick\"))","v":{"$error":"#N/A"}},null,{"$f":"IF(D33=0,NA(),RTD(\"cqg.rtd\",,\"StudyData\", \"Close(\"&$AZ$2&\") When Barix(\"&$AZ$2&\",reference:=StartOfSession)=\"&A33&\"\", \"Bar\", \"\", \"Close\",\"5\",\"0\",\"All\",,,\"False\",\"T\",\"EveryTick\"))","v":{"$error":"#N/A"}},null,{"$f":"IF(D33=0,NA(),RTD(\"cqg.rtd\",,\"StudyData\", \"Close(\"&$BB$2&\") When Barix(\"&$BB$2&\",reference:=StartOfSession)=\"&A33&\"\", \"Bar\", \"\", \"Close\",\"5\",\"0\",\"All\",,,\"False\",\"T\",\"EveryTick\"))","v":{"$error":"#N/A"}},null,{"$f":"IF(D33=0,NA(),RTD(\"cqg.rtd\",,\"StudyData\", \"Close(\"&$BD$2&\") When Barix(\"&$BD$2&\",reference:=StartOfSession)=\"&A33&\"\", \"Bar\", \"\", \"Close\",\"5\",\"0\",\"All\",,,\"False\",\"T\",\"EveryTick\"))","v":{"$error":"#N/A"}},null,{"$f":"IF(D33=0,NA(),RTD(\"cqg.rtd\",,\"StudyData\", \"Close(\"&$BF$2&\") When Barix(\"&$BF$2&\",reference:=StartOfSession)=\"&A33&\"\", \"Bar\", \"\", \"Close\",\"5\",\"0\",\"All\",,,\"False\",\"T\",\"EveryTick\"))","v":{"$error":"#N/A"}},null,{"$f":"IF(D33=0,NA(),RTD(\"cqg.rtd\",,\"StudyData\", \"Close(\"&$BH$2&\") When Barix(\"&$BH$2&\",reference:=StartOfSession)=\"&A33&\"\", \"Bar\", \"\", \"Close\",\"5\",\"0\",\"All\",,,\"False\",\"T\",\"EveryTick\"))","v":{"$error":"#N/A"}},null,{"$f":"IF(D33=0,NA(),RTD(\"cqg.rtd\",,\"StudyData\", \"Close(\"&$BJ$2&\") When Barix(\"&$BJ$2&\",reference:=StartOfSession)=\"&A33&\"\", \"Bar\", \"\", \"Close\",\"5\",\"0\",\"All\",,,\"False\",\"T\",\"EveryTick\"))","v":{"$error":"#N/A"}},null,{"$f":"IF(D33=0,NA(),RTD(\"cqg.rtd\",,\"StudyData\", \"Close(\"&$BL$2&\") When Barix(\"&$BL$2&\",reference:=StartOfSession)=\"&A33&\"\", \"Bar\", \"\", \"Close\",\"5\",\"0\",\"All\",,,\"False\",\"T\",\"EveryTick\"))","v":{"$error":"#N/A"}},null,{"$f":"IF(D33=0,NA(),RTD(\"cqg.rtd\",,\"StudyData\", \"Close(\"&$BN$2&\") When Barix(\"&$BN$2&\",reference:=StartOfSession)=\"&A33&\"\", \"Bar\", \"\", \"Close\",\"5\",\"0\",\"All\",,,\"False\",\"T\",\"EveryTick\"))","v":{"$error":"#N/A"}},null,{"$f":"IF(D33=0,NA(),RTD(\"cqg.rtd\",,\"StudyData\", \"Close(\"&$BP$2&\") When Barix(\"&$BP$2&\",reference:=StartOfSession)=\"&A33&\"\", \"Bar\", \"\", \"Close\",\"5\",\"0\",\"All\",,,\"False\",\"T\",\"EveryTick\"))","v":{"$error":"#N/A"}},null,{"$f":"IF(D33=0,NA(),RTD(\"cqg.rtd\",,\"StudyData\", \"Close(\"&$BR$2&\") When Barix(\"&$BR$2&\",reference:=StartOfSession)=\"&A33&\"\", \"Bar\", \"\", \"Close\",\"5\",\"0\",\"All\",,,\"False\",\"T\",\"EveryTick\"))","v":{"$error":"#N/A"}},null,{"$f":"IF(D33=0,NA(),RTD(\"cqg.rtd\",,\"StudyData\", \"Close(\"&$BT$2&\") When Barix(\"&$BT$2&\",reference:=StartOfSession)=\"&A33&\"\", \"Bar\", \"\", \"Close\",\"5\",\"0\",\"All\",,,\"False\",\"T\",\"EveryTick\"))","v":{"$error":"#N/A"}},null,{"$f":"IF(D33=0,NA(),RTD(\"cqg.rtd\",,\"StudyData\", \"Close(\"&$BV$2&\") When Barix(\"&$BV$2&\",reference:=StartOfSession)=\"&A33&\"\", \"Bar\", \"\", \"Close\",\"5\",\"0\",\"All\",,,\"False\",\"T\",\"EveryTick\"))","v":{"$error":"#N/A"}},null,{"$f":"IF(D33=0,NA(),RTD(\"cqg.rtd\",,\"StudyData\", \"Close(\"&$BX$2&\") When Barix(\"&$BX$2&\",reference:=StartOfSession)=\"&A33&\"\", \"Bar\", \"\", \"Close\",\"5\",\"0\",\"All\",,,\"False\",\"T\",\"EveryTick\"))","v":{"$error":"#N/A"}},null,{"$f":"IF(D33=0,NA(),RTD(\"cqg.rtd\",,\"StudyData\", \"Close(\"&$BZ$2&\") When Barix(\"&$BZ$2&\",reference:=StartOfSession)=\"&A33&\"\", \"Bar\", \"\", \"Close\",\"5\",\"0\",\"All\",,,\"False\",\"T\",\"EveryTick\"))","v":{"$error":"#N/A"}}]
[30,{"$f":"IF(D34=0,NA(),RTD(\"cqg.rtd\",,\"StudyData\", \"Close(\"&$B$2&\") When Barix(\"&$B$2&\",reference:=StartOfSession)=\"&A34&\"\", \"Bar\", \"\", \"Close\",\"5\",\"0\",\"All\",,,\"False\",\"T\",\"EveryTick\"))","v":{"$error":"#N/A"}},"11:00:00",0,null,{"$f":"IF(D34=0,NA(),RTD(\"cqg.rtd\",,\"StudyData\", \"Close(\"&$F$2&\") When Barix(\"&$F$2&\",reference:=StartOfSession)=\"&A34&\"\", \"Bar\", \"\", \"Close\",\"5\",\"0\",\"All\",,,\"False\",\"T\",\"EveryTick\"))","v":{"$error":"#N/A"}},null,{"$f":"IF(D34=0,NA(),RTD(\"cqg.rtd\",,\"StudyData\", \"Close(\"&$H$2&\") When Barix(\"&$H$2&\",reference:=StartOfSession)=\"&A34&\"\", \"Bar\", \"\", \"Close\",\"5\",\"0\",\"All\",,,\"False\",\"T\",\"EveryTick\"))","v":{"$error":"#N/A"}},null,{"$f":"IF(D34=0,NA(),RTD(\"cqg.rtd\",,\"StudyData\", \"Close(\"&$J$2&\") When Barix(\"&$J$2&\",reference:=StartOfSession)=\"&A34&\"\", \"Bar\", \"\", \"Close\",\"5\",\"0\",\"All\",,,\"False\",\"T\",\"EveryTick\"))","v":{"$error":"#N/A"}},null,{"$f":"IF(D34=0,NA(),RTD(\"cqg.rtd\",,\"StudyData\", \"Close(\"&$L$2&\") When Barix(\"&$L$2&\",reference:=StartOfSession)=\"&A34&\"\", \"Bar\", \"\", \"Close\",\"5\",\"0\",\"All\",,,\"False\",\"T\",\"EveryTick\"))","v":{"$error":"#N/A"}},null,{"$f":"IF(D34=0,NA(),RTD(\"cqg.rtd\",,\"StudyData\", \"Close(\"&$N$2&\") When Barix(\"&$N$2&\",reference:=StartOfSession)=\"&A34&\"\", \"Bar\", \"\", \"Close\",\"5\",\"0\",\"All\",,,\"False\",\"T\",\"EveryTick\"))","v":{"$error":"#N/A"}},null,{"$f":"IF(D34=0,NA(),RTD(\"cqg.rtd\",,\"StudyData\", \"Close(\"&$P$2&\") When Barix(\"&$P$2&\",reference:=StartOfSession)=\"&A34&\"\", \"Bar\", \"\", \"Close\",\"5\",\"0\",\"All\",,,\"False\",\"T\",\"EveryTick\"))","v":{"$error":"#N/A"}},null,{"$f":"IF(D34=0,NA(),RTD(\"cqg.rtd\",,\"StudyData\", \"Close(\"&$R$2&\") When Barix(\"&$R$2&\",reference:=StartOfSession)=\"&A34&\"\", \"Bar\", \"\", \"Close\",\"5\",\"0\",\"All\",,,\"False\",\"T\",\"EveryTick\"))","v":{"$error":"#N/A"}},null,{"$f":"IF(D34=0,NA(),RTD(\"cqg.rtd\",,\"StudyData\", \"Close(\"&$T$2&\") When Barix(\"&$T$2&\",reference:=StartOfSession)=\"&A34&\"\", \"Bar\", \"\", \"Close\",\"5\",\"0\",\"All\",,,\"False\",\"T\",\"EveryTick\"))","v":{"$error":"#N/A"}},null,{"$f":"IF(D34=0,NA(),RTD(\"cqg.rtd\",,\"StudyData\", \"Close(\"&$V$2&\") When Barix(\"&$V$2&\",reference:=StartOfSession)=\"&A34&\"\", \"Bar\", \"\", \"Close\",\"5\",\"0\",\"All\",,,\"False\",\"T\",\"EveryTick\"))","v":{"$error":"#N/A"}},null,{"$f":"IF(D34=0,NA(),RTD(\"cqg.rtd\",,\"StudyData\", \"Close(\"&$X$2&\") When Barix(\"&$X$2&\",reference:=StartOfSession)=\"&A34&\"\", \"Bar\", \"\", \"Close\",\"5\",\"0\",\"All\",,,\"False\",\"T\",\"EveryTick\"))","v":{"$error":"#N/A"}},null,{"$f":"IF(D34=0,NA(),RTD(\"cqg.rtd\",,\"StudyData\", \"Close(\"&$Z$2&\") When Barix(\"&$Z$2&\",reference:=StartOfSession)=\"&A34&\"\", \"Bar\", \"\", \"Close\",\"5\",\"0\",\"All\",,,\"False\",\"T\",\"EveryTick\"))","v":{"$error":"#N/A"}},null,{"$f":"IF(D34=0,NA(),RTD(\"cqg.rtd\",,\"StudyData\", \"Close(\"&$AB$2&\") When Barix(\"&$AB$2&\",reference:=StartOfSession)=\"&A34&\"\", \"Bar\", \"\", \"Close\",\"5\",\"0\",\"All\",,,\"False\",\"T\",\"EveryTick\"))","v":{"$error":"#N/A"}},null,{"$f":"IF(D34=0,NA(),RTD(\"cqg.rtd\",,\"StudyData\", \"Close(\"&$AD$2&\") When Barix(\"&$AD$2&\",reference:=StartOfSession)=\"&A34&\"\", \"Bar\", \"\", \"Close\",\"5\",\"0\",\"All\",,,\"False\",\"T\",\"EveryTick\"))","v":{"$error":"#N/A"}},null,{"$f":"IF(D34=0,NA(),RTD(\"cqg.rtd\",,\"StudyData\", \"Close(\"&$AF$2&\") When Barix(\"&$AF$2&\",reference:=StartOfSession)=\"&A34&\"\", \"Bar\", \"\", \"Close\",\"5\",\"0\",\"All\",,,\"False\",\"T\",\"EveryTick\"))","v":{"$error":"#N/A"}},null,{"$f":"IF(D34=0,NA(),RTD(\"cqg.rtd\",,\"StudyData\", \"Close(\"&$AH$2&\") When Barix(\"&$AH$2&\",reference:=StartOfSession)=\"&A34&\"\", \"Bar\", \"\", \"Close\",\"5\",\"0\",\"All\",,,\"False\",\"T\",\"EveryTick\"))","v":{"$error":"#N/A"}},null,{"$f":"IF(D34=0,NA(),RTD(\"cqg.rtd\",,\"StudyData\", \"Close(\"&$AJ$2&\") When Barix(\"&$AJ$2&\",reference:=StartOfSession)=\"&A34&\"\", \"Bar\", \"\", \"Close\",\"5\",\"0\",\"All\",,,\"False\",\"T\",\"EveryTick\"))","v":{"$error":"#N/A"}},null,{"$f":"IF(D34=0,NA(),RTD(\"cqg.rtd\",,\"StudyData\", \"Close(\"&$AL$2&\") When Barix(\"&$AL$2&\",reference:=StartOfSession)=\"&A34&\"\", \"Bar\", \"\", \"Close\",\"5\",\"0\",\"All\",,,\"False\",\"T\",\"EveryTick\"))","v":{"$error":"#N/A"}},null,{"$f":"IF(D34=0,NA(),RTD(\"cqg.rtd\",,\"StudyData\", \"Close(\"&$AN$2&\") When Barix(\"&$AN$2&\",reference:=StartOfSession)=\"&A34&\"\", \"Bar\", \"\", \"Close\",\"5\",\"0\",\"All\",,,\"False\",\"T\",\"EveryTick\"))","v":{"$error":"#N/A"}},null,{"$f":"IF(D34=0,NA(),RTD(\"cqg.rtd\",,\"StudyData\", \"Close(\"&$AN$2&\") When Barix(\"&$AN$2&\",reference:=StartOfSession)=\"&A34&\"\", \"Bar\", \"\", \"Close\",\"5\",\"0\",\"All\",,,\"False\",\"T\",\"EveryTick\"))","v":{"$error":"#N/A"}},null,{"$f":"IF(D34=0,NA(),RTD(\"cqg.rtd\",,\"StudyData\", \"Close(\"&$AR$2&\") When Barix(\"&$AR$2&\",reference:=StartOfSession)=\"&A34&\"\", \"Bar\", \"\", \"Close\",\"5\",\"0\",\"All\",,,\"False\",\"T\",\"EveryTick\"))","v":{"$error":"#N/A"}},null,{"$f":"IF(D34=0,NA(),RTD(\"cqg.rtd\",,\"StudyData\", \"Close(\"&$AT$2&\") When Barix(\"&$AT$2&\",reference:=StartOfSession)=\"&A34&\"\", \"Bar\", \"\", \"Close\",\"5\",\"0\",\"All\",,,\"False\",\"T\",\"EveryTick\"))","v":{"$error":"#N/A"}},null,{"$f":"IF(D34=0,NA(),RTD(\"cqg.rtd\",,\"StudyData\", \"Close(\"&$AV$2&\") When Barix(\"&$AV$2&\",reference:=StartOfSession)=\"&A34&\"\", \"Bar\", \"\", \"Close\",\"5\",\"0\",\"All\",,,\"False\",\"T\",\"EveryTick\"))","v":{"$error":"#N/A"}},null,{"$f":"IF(D34=0,NA(),RTD(\"cqg.rtd\",,\"StudyData\", \"Close(\"&$AX$2&\") When Barix(\"&$AX$2&\",reference:=StartOfSession)=\"&A34&\"\", \"Bar\", \"\", \"Close\",\"5\",\"0\",\"All\",,,\"False\",\"T\",\"EveryTick\"))","v":{"$error":"#N/A"}},null,{"$f":"IF(D34=0,NA(),RTD(\"cqg.rtd\",,\"StudyData\", \"Close(\"&$AZ$2&\") When Barix(\"&$AZ$2&\",reference:=StartOfSession)=\"&A34&\"\", \"Bar\", \"\", \"Close\",\"5\",\"0\",\"All\",,,\"False\",\"T\",\"EveryTick\"))","v":{"$error":"#N/A"}},null,{"$f":"IF(D34=0,NA(),RTD(\"cqg.rtd\",,\"StudyData\", \"Close(\"&$BB$2&\") When Barix(\"&$BB$2&\",reference:=StartOfSession)=\"&A34&\"\", \"Bar\", \"\", \"Close\",\"5\",\"0\",\"All\",,,\"False\",\"T\",\"EveryTick\"))","v":{"$error":"#N/A"}},null,{"$f":"IF(D34=0,NA(),RTD(\"cqg.rtd\",,\"StudyData\", \"Close(\"&$BD$2&\") When Barix(\"&$BD$2&\",reference:=StartOfSession)=\"&A34&\"\", \"Bar\", \"\", \"Close\",\"5\",\"0\",\"All\",,,\"False\",\"T\",\"EveryTick\"))","v":{"$error":"#N/A"}},null,{"$f":"IF(D34=0,NA(),RTD(\"cqg.rtd\",,\"StudyData\", \"Close(\"&$BF$2&\") When Barix(\"&$BF$2&\",reference:=StartOfSession)=\"&A34&\"\", \"Bar\", \"\", \"Close\",\"5\",\"0\",\"All\",,,\"False\",\"T\",\"EveryTick\"))","v":{"$error":"#N/A"}},null,{"$f":"IF(D34=0,NA(),RTD(\"cqg.rtd\",,\"StudyData\", \"Close(\"&$BH$2&\") When Barix(\"&$BH$2&\",reference:=StartOfSession)=\"&A34&\"\", \"Bar\", \"\", \"Close\",\"5\",\"0\",\"All\",,,\"False\",\"T\",\"EveryTick\"))","v":{"$error":"#N/A"}},null,{"$f":"IF(D34=0,NA(),RTD(\"cqg.rtd\",,\"StudyData\", \"Close(\"&$BJ$2&\") When Barix(\"&$BJ$2&\",reference:=StartOfSession)=\"&A34&\"\", \"Bar\", \"\", \"Close\",\"5\",\"0\",\"All\",,,\"False\",\"T\",\"EveryTick\"))","v":{"$error":"#N/A"}},null,{"$f":"IF(D34=0,NA(),RTD(\"cqg.rtd\",,\"StudyData\", \"Close(\"&$BL$2&\") When Barix(\"&$BL$2&\",reference:=StartOfSession)=\"&A34&\"\", \"Bar\", \"\", \"Close\",\"5\",\"0\",\"All\",,,\"False\",\"T\",\"EveryTick\"))","v":{"$error":"#N/A"}},null,{"$f":"IF(D34=0,NA(),RTD(\"cqg.rtd\",,\"StudyData\", \"Close(\"&$BN$2&\") When Barix(\"&$BN$2&\",reference:=StartOfSession)=\"&A34&\"\", \"Bar\", \"\", \"Close\",\"5\",\"0\",\"All\",,,\"False\",\"T\",\"EveryTick\"))","v":{"$error":"#N/A"}},null,{"$f":"IF(D34=0,NA(),RTD(\"cqg.rtd\",,\"StudyData\", \"Close(\"&$BP$2&\") When Barix(\"&$BP$2&\",reference:=StartOfSession)=\"&A34&\"\", \"Bar\", \"\", \"Close\",\"5\",\"0\",\"All\",,,\"False\",\"T\",\"EveryTick\"))","v":{"$error":"#N/A"}},null,{"$f":"IF(D34=0,NA(),RTD(\"cqg.rtd\",,\"StudyData\", \"Close(\"&$BR$2&\") When Barix(\"&$BR$2&\",reference:=StartOfSession)=\"&A34&\"\", \"Bar\", \"\", \"Close\",\"5\",\"0\",\"All\",,,\"False\",\"T\",\"EveryTick\"))","v":{"$error":"#N/A"}},null,{"$f":"IF(D34=0,NA(),RTD(\"cqg.rtd\",,\"StudyData\", \"Close(\"&$BT$2&\") When Barix(\"&$BT$2&\",reference:=StartOfSession)=\"&A34&\"\", \"Bar\", \"\", \"Close\",\"5\",\"0\",\"All\",,,\"False\",\"T\",\"EveryTick\"))","v":{"$error":"#N/A"}},null,{"$f":"IF(D34=0,NA(),RTD(\"cqg.rtd\",,\"StudyData\", \"Close(\"&$BV$2&\") When Barix(\"&$BV$2&\",reference:=StartOfSession)=\"&A34&\"\", \"Bar\", \"\", \"Close\",\"5\",\"0\",\"All\",,,\"False\",\"T\",\"EveryTick\"))","v":{"$error":"#N/A"}},null,{"$f":"IF(D34=0,NA(),RTD(\"cqg.rtd\",,\"StudyData\", \"Close(\"&$BX$2&\") When Barix(\"&$BX$2&\",reference:=StartOfSession)=\"&A34&\"\", \"Bar\", \"\", \"Close\",\"5\",\"0\",\"All\",,,\"False\",\"T\",\"EveryTick\"))","v":{"$error":"#N/A"}},null,{"$f":"IF(D34=0,NA(),RTD(\"cqg.rtd\",,\"StudyData\", \"Close(\"&$BZ$2&\") When Barix(\"&$BZ$2&\",reference:=StartOfSession)=\"&A34&\"\", \"Bar\", \"\", \"Close\",\"5\",\"0\",\"All\",,,\"False\",\"T\",\"EveryTick\"))","v":{"$error":"#N/A"}}]
[31,{"$f":"IF(D35=0,NA(),RTD(\"cqg.rtd\",,\"StudyData\", \"Close(\"&$B$2&\") When Barix(\"&$B$2&\",reference:=StartOfSession)=\"&A35&\"\", \"Bar\", \"\", \"Close\",\"5\",\"0\",\"All\",,,\"False\",\"T\",\"EveryTick\"))","v":{"$error":"#N/A"}},"11:05:00",0,null,{"$f":"IF(D35=0,NA(),RTD(\"cqg.rtd\",,\"StudyData\", \"Close(\"&$F$2&\") When Barix(\"&$F$2&\",reference:=StartOfSession)=\"&A35&\"\", \"Bar\", \"\", \"Close\",\"5\",\"0\",\"All\",,,\"False\",\"T\",\"EveryTick\"))","v":{"$error":"#N/A"}},null,{"$f":"IF(D35=0,NA(),RTD(\"cqg.rtd\",,\"StudyData\", \"Close(\"&$H$2&\") When Barix(\"&$H$2&\",reference:=StartOfSession)=\"&A35&\"\", \"Bar\", \"\", \"Close\",\"5\",\"0\",\"All\",,,\"False\",\"T\",\"EveryTick\"))","v":{"$error":"#N/A"}},null,{"$f":"IF(D35=0,NA(),RTD(\"cqg.rtd\",,\"StudyData\", \"Close(\"&$J$2&\") When Barix(\"&$J$2&\",reference:=StartOfSession)=\"&A35&\"\", \"Bar\", \"\", \"Close\",\"5\",\"0\",\"All\",,,\"False\",\"T\",\"EveryTick\"))","v":{"$error":"#N/A"}},null,{"$f":"IF(D35=0,NA(),RTD(\"cqg.rtd\",,\"StudyData\", \"Close(\"&$L$2&\") When Barix(\"&$L$2&\",reference:=StartOfSession)=\"&A35&\"\", \"Bar\", \"\", \"Close\",\"5\",\"0\",\"All\",,,\"False\",\"T\",\"EveryTick\"))","v":{"$error":"#N/A"}},null,{"$f":"IF(D35=0,NA(),RTD(\"cqg.rtd\",,\"StudyData\", \"Close(\"&$N$2&\") When Barix(\"&$N$2&\",reference:=StartOfSession)=\"&A35&\"\", \"Bar\", \"\", \"Close\",\"5\",\"0\",\"All\",,,\"False\",\"T\",\"EveryTick\"))","v":{"$error":"#N/A"}},null,{"$f":"IF(D35=0,NA(),RTD(\"cqg.rtd\",,\"StudyData\", \"Close(\"&$P$2&\") When Barix(\"&$P$2&\",reference:=StartOfSession)=\"&A35&\"\", \"Bar\", \"\", \"Close\",\"5\",\"0\",\"All\",,,\"False\",\"T\",\"EveryTick\"))","v":{"$error":"#N/A"}},null,{"$f":"IF(D35=0,NA(),RTD(\"cqg.rtd\",,\"StudyData\", \"Close(\"&$R$2&\") When Barix(\"&$R$2&\",reference:=StartOfSession)=\"&A35&\"\", \"Bar\", \"\", \"Close\",\"5\",\"0\",\"All\",,,\"False\",\"T\",\"EveryTick\"))","v":{"$error":"#N/A"}},null,{"$f":"IF(D35=0,NA(),RTD(\"cqg.rtd\",,\"StudyData\", \"Close(\"&$T$2&\") When Barix(\"&$T$2&\",reference:=StartOfSession)=\"&A35&\"\", \"Bar\", \"\", \"Close\",\"5\",\"0\",\"All\",,,\"False\",\"T\",\"EveryTick\"))","v":{"$error":"#N/A"}},null,{"$f":"IF(D35=0,NA(),RTD(\"cqg.rtd\",,\"StudyData\", \"Close(\"&$V$2&\") When Barix(\"&$V$2&\",reference:=StartOfSession)=\"&A35&\"\", \"Bar\", \"\", \"Close\",\"5\",\"0\",\"All\",,,\"False\",\"T\",\"EveryTick\"))","v":{"$error":"#N/A"}},null,{"$f":"IF(D35=0,NA(),RTD(\"cqg.rtd\",,\"StudyData\", \"Close(\"&$X$2&\") When Barix(\"&$X$2&\",reference:=StartOfSession)=\"&A35&\"\", \"Bar\", \"\", \"Close\",\"5\",\"0\",\"All\",,,\"False\",\"T\",\"EveryTick\"))","v":{"$error":"#N/A"}},null,{"$f":"IF(D35=0,NA(),RTD(\"cqg.rtd\",,\"StudyData\", \"Close(\"&$Z$2&\") When Barix(\"&$Z$2&\",reference:=StartOfSession)=\"&A35&\"\", \"Bar\", \"\", \"Close\",\"5\",\"0\",\"All\",,,\"False\",\"T\",\"EveryTick\"))","v":{"$error":"#N/A"}},null,{"$f":"IF(D35=0,NA(),RTD(\"cqg.rtd\",,\"StudyData\", \"Close(\"&$AB$2&\") When Barix(\"&$AB$2&\",reference:=StartOfSession)=\"&A35&\"\", \"Bar\", \"\", \"Close\",\"5\",\"0\",\"All\",,,\"False\",\"T\",\"EveryTick\"))","v":{"$error":"#N/A"}},null,{"$f":"IF(D35=0,NA(),RTD(\"cqg.rtd\",,\"StudyData\", \"Close(\"&$AD$2&\") When Barix(\"&$AD$2&\",reference:=StartOfSession)=\"&A35&\"\", \"Bar\", \"\", \"Close\",\"5\",\"0\",\"All\",,,\"False\",\"T\",\"EveryTick\"))","v":{"$error":"#N/A"}},null,{"$f":"IF(D35=0,NA(),RTD(\"cqg.rtd\",,\"StudyData\", \"Close(\"&$AF$2&\") When Barix(\"&$AF$2&\",reference:=StartOfSession)=\"&A35&\"\", \"Bar\", \"\", \"Close\",\"5\",\"0\",\"All\",,,\"False\",\"T\",\"EveryTick\"))","v":{"$error":"#N/A"}},null,{"$f":"IF(D35=0,NA(),RTD(\"cqg.rtd\",,\"StudyData\", \"Close(\"&$AH$2&\") When Barix(\"&$AH$2&\",reference:=StartOfSession)=\"&A35&\"\", \"Bar\", \"\", \"Close\",\"5\",\"0\",\"All\",,,\"False\",\"T\",\"EveryTick\"))","v":{"$error":"#N/A"}},null,{"$f":"IF(D35=0,NA(),RTD(\"cqg.rtd\",,\"StudyData\", \"Close(\"&$AJ$2&\") When Barix(\"&$AJ$2&\",reference:=StartOfSession)=\"&A35&\"\", \"Bar\", \"\", \"Close\",\"5\",\"0\",\"All\",,,\"False\",\"T\",\"EveryTick\"))","v":{"$error":"#N/A"}},null,{"$f":"IF(D35=0,NA(),RTD(\"cqg.rtd\",,\"StudyData\", \"Close(\"&$AL$2&\") When Barix(\"&$AL$2&\",reference:=StartOfSession)=\"&A35&\"\", \"Bar\", \"\", \"Close\",\"5\",\"0\",\"All\",,,\"False\",\"T\",\"EveryTick\"))","v":{"$error":"#N/A"}},null,{"$f":"IF(D35=0,NA(),RTD(\"cqg.rtd\",,\"StudyData\", \"Close(\"&$AN$2&\") When Barix(\"&$AN$2&\",reference:=StartOfSession)=\"&A35&\"\", \"Bar\", \"\", \"Close\",\"5\",\"0\",\"All\",,,\"False\",\"T\",\"EveryTick\"))","v":{"$error":"#N/A"}},null,{"$f":"IF(D35=0,NA(),RTD(\"cqg.rtd\",,\"StudyData\", \"Close(\"&$AN$2&\") When Barix(\"&$AN$2&\",reference:=StartOfSession)=\"&A35&\"\", \"Bar\", \"\", \"Close\",\"5\",\"0\",\"All\",,,\"False\",\"T\",\"EveryTick\"))","v":{"$error":"#N/A"}},null,{"$f":"IF(D35=0,NA(),RTD(\"cqg.rtd\",,\"StudyData\", \"Close(\"&$AR$2&\") When Barix(\"&$AR$2&\",reference:=StartOfSession)=\"&A35&\"\", \"Bar\", \"\", \"Close\",\"5\",\"0\",\"All\",,,\"False\",\"T\",\"EveryTick\"))","v":{"$error":"#N/A"}},null,{"$f":"IF(D35=0,NA(),RTD(\"cqg.rtd\",,\"StudyData\", \"Close(\"&$AT$2&\") When Barix(\"&$AT$2&\",reference:=StartOfSession)=\"&A35&\"\", \"Bar\", \"\", \"Close\",\"5\",\"0\",\"All\",,,\"False\",\"T\",\"EveryTick\"))","v":{"$error":"#N/A"}},null,{"$f":"IF(D35=0,NA(),RTD(\"cqg.rtd\",,\"StudyData\", \"Close(\"&$AV$2&\") When Barix(\"&$AV$2&\",reference:=StartOfSession)=\"&A35&\"\", \"Bar\", \"\", \"Close\",\"5\",\"0\",\"All\",,,\"False\",\"T\",\"EveryTick\"))","v":{"$error":"#N/A"}},null,{"$f":"IF(D35=0,NA(),RTD(\"cqg.rtd\",,\"StudyData\", \"Close(\"&$AX$2&\") When Barix(\"&$AX$2&\",reference:=StartOfSession)=\"&A35&\"\", \"Bar\", \"\", \"Close\",\"5\",\"0\",\"All\",,,\"False\",\"T\",\"EveryTick\"))","v":{"$error":"#N/A"}},null,{"$f":"IF(D35=0,NA(),RTD(\"cqg.rtd\",,\"StudyData\", \"Close(\"&$AZ$2&\") When Barix(\"&$AZ$2&\",reference:=StartOfSession)=\"&A35&\"\", \"Bar\", \"\", \"Close\",\"5\",\"0\",\"All\",,,\"False\",\"T\",\"EveryTick\"))","v":{"$error":"#N/A"}},null,{"$f":"IF(D35=0,NA(),RTD(\"cqg.rtd\",,\"StudyData\", \"Close(\"&$BB$2&\") When Barix(\"&$BB$2&\",reference:=StartOfSession)=\"&A35&\"\", \"Bar\", \"\", \"Close\",\"5\",\"0\",\"All\",,,\"False\",\"T\",\"EveryTick\"))","v":{"$error":"#N/A"}},null,{"$f":"IF(D35=0,NA(),RTD(\"cqg.rtd\",,\"StudyData\", \"Close(\"&$BD$2&\") When Barix(\"&$BD$2&\",reference:=StartOfSession)=\"&A35&\"\", \"Bar\", \"\", \"Close\",\"5\",\"0\",\"All\",,,\"False\",\"T\",\"EveryTick\"))","v":{"$error":"#N/A"}},null,{"$f":"IF(D35=0,NA(),RTD(\"cqg.rtd\",,\"StudyData\", \"Close(\"&$BF$2&\") When Barix(\"&$BF$2&\",reference:=StartOfSession)=\"&A35&\"\", \"Bar\", \"\", \"Close\",\"5\",\"0\",\"All\",,,\"False\",\"T\",\"EveryTick\"))","v":{"$error":"#N/A"}},null,{"$f":"IF(D35=0,NA(),RTD(\"cqg.rtd\",,\"StudyData\", \"Close(\"&$BH$2&\") When Barix(\"&$BH$2&\",reference:=StartOfSession)=\"&A35&\"\", \"Bar\", \"\", \"Close\",\"5\",\"0\",\"All\",,,\"False\",\"T\",\"EveryTick\"))","v":{"$error":"#N/A"}},null,{"$f":"IF(D35=0,NA(),RTD(\"cqg.rtd\",,\"StudyData\", \"Close(\"&$BJ$2&\") When Barix(\"&$BJ$2&\",reference:=StartOfSession)=\"&A35&\"\", \"Bar\", \"\", \"Close\",\"5\",\"0\",\"All\",,,\"False\",\"T\",\"EveryTick\"))","v":{"$error":"#N/A"}},null,{"$f":"IF(D35=0,NA(),RTD(\"cqg.rtd\",,\"StudyData\", \"Close(\"&$BL$2&\") When Barix(\"&$BL$2&\",reference:=StartOfSession)=\"&A35&\"\", \"Bar\", \"\", \"Close\",\"5\",\"0\",\"All\",,,\"False\",\"T\",\"EveryTick\"))","v":{"$error":"#N/A"}},null,{"$f":"IF(D35=0,NA(),RTD(\"cqg.rtd\",,\"StudyData\", \"Close(\"&$BN$2&\") When Barix(\"&$BN$2&\",reference:=StartOfSession)=\"&A35&\"\", \"Bar\", \"\", \"Close\",\"5\",\"0\",\"All\",,,\"False\",\"T\",\"EveryTick\"))","v":{"$error":"#N/A"}},null,{"$f":"IF(D35=0,NA(),RTD(\"cqg.rtd\",,\"StudyData\", \"Close(\"&$BP$2&\") When Barix(\"&$BP$2&\",reference:=StartOfSession)=\"&A35&\"\", \"Bar\", \"\", \"Close\",\"5\",\"0\",\"All\",,,\"False\",\"T\",\"EveryTick\"))","v":{"$error":"#N/A"}},null,{"$f":"IF(D35=0,NA(),RTD(\"cqg.rtd\",,\"StudyData\", \"Close(\"&$BR$2&\") When Barix(\"&$BR$2&\",reference:=StartOfSession)=\"&A35&\"\", \"Bar\", \"\", \"Close\",\"5\",\"0\",\"All\",,,\"False\",\"T\",\"EveryTick\"))","v":{"$error":"#N/A"}},null,{"$f":"IF(D35=0,NA(),RTD(\"cqg.rtd\",,\"StudyData\", \"Close(\"&$BT$2&\") When Barix(\"&$BT$2&\",reference:=StartOfSession)=\"&A35&\"\", \"Bar\", \"\", \"Close\",\"5\",\"0\",\"All\",,,\"False\",\"T\",\"EveryTick\"))","v":{"$error":"#N/A"}},null,{"$f":"IF(D35=0,NA(),RTD(\"cqg.rtd\",,\"StudyData\", \"Close(\"&$BV$2&\") When Barix(\"&$BV$2&\",reference:=StartOfSession)=\"&A35&\"\", \"Bar\", \"\", \"Close\",\"5\",\"0\",\"All\",,,\"False\",\"T\",\"EveryTick\"))","v":{"$error":"#N/A"}},null,{"$f":"IF(D35=0,NA(),RTD(\"cqg.rtd\",,\"StudyData\", \"Close(\"&$BX$2&\") When Barix(\"&$BX$2&\",reference:=StartOfSession)=\"&A35&\"\", \"Bar\", \"\", \"Close\",\"5\",\"0\",\"All\",,,\"False\",\"T\",\"EveryTick\"))","v":{"$error":"#N/A"}},null,{"$f":"IF(D35=0,NA(),RTD(\"cqg.rtd\",,\"StudyData\", \"Close(\"&$BZ$2&\") When Barix(\"&$BZ$2&\",reference:=StartOfSession)=\"&A35&\"\", \"Bar\", \"\", \"Close\",\"5\",\"0\",\"All\",,,\"False\",\"T\",\"EveryTick\"))","v":{"$error":"#N/A"}}]
[32,{"$f":"IF(D36=0,NA(),RTD(\"cqg.rtd\",,\"StudyData\", \"Close(\"&$B$2&\") When Barix(\"&$B$2&\",reference:=StartOfSession)=\"&A36&\"\", \"Bar\", \"\", \"Close\",\"5\",\"0\",\"All\",,,\"False\",\"T\",\"EveryTick\"))","v":{"$error":"#N/A"}},"11:10:00",0,null,{"$f":"IF(D36=0,NA(),RTD(\"cqg.rtd\",,\"StudyData\", \"Close(\"&$F$2&\") When Barix(\"&$F$2&\",reference:=StartOfSession)=\"&A36&\"\", \"Bar\", \"\", \"Close\",\"5\",\"0\",\"All\",,,\"False\",\"T\",\"EveryTick\"))","v":{"$error":"#N/A"}},null,{"$f":"IF(D36=0,NA(),RTD(\"cqg.rtd\",,\"StudyData\", \"Close(\"&$H$2&\") When Barix(\"&$H$2&\",reference:=StartOfSession)=\"&A36&\"\", \"Bar\", \"\", \"Close\",\"5\",\"0\",\"All\",,,\"False\",\"T\",\"EveryTick\"))","v":{"$error":"#N/A"}},null,{"$f":"IF(D36=0,NA(),RTD(\"cqg.rtd\",,\"StudyData\", \"Close(\"&$J$2&\") When Barix(\"&$J$2&\",reference:=StartOfSession)=\"&A36&\"\", \"Bar\", \"\", \"Close\",\"5\",\"0\",\"All\",,,\"False\",\"T\",\"EveryTick\"))","v":{"$error":"#N/A"}},null,{"$f":"IF(D36=0,NA(),RTD(\"cqg.rtd\",,\"StudyData\", \"Close(\"&$L$2&\") When Barix(\"&$L$2&\",reference:=StartOfSession)=\"&A36&\"\", \"Bar\", \"\", \"Close\",\"5\",\"0\",\"All\",,,\"False\",\"T\",\"EveryTick\"))","v":{"$error":"#N/A"}},null,{"$f":"IF(D36=0,NA(),RTD(\"cqg.rtd\",,\"StudyData\", \"Close(\"&$N$2&\") When Barix(\"&$N$2&\",reference:=StartOfSession)=\"&A36&\"\", \"Bar\", \"\", \"Close\",\"5\",\"0\",\"All\",,,\"False\",\"T\",\"EveryTick\"))","v":{"$error":"#N/A"}},null,{"$f":"IF(D36=0,NA(),RTD(\"cqg.rtd\",,\"StudyData\", \"Close(\"&$P$2&\") When Barix(\"&$P$2&\",reference:=StartOfSession)=\"&A36&\"\", \"Bar\", \"\", \"Close\",\"5\",\"0\",\"All\",,,\"False\",\"T\",\"EveryTick\"))","v":{"$error":"#N/A"}},null,{"$f":"IF(D36=0,NA(),RTD(\"cqg.rtd\",,\"StudyData\", \"Close(\"&$R$2&\") When Barix(\"&$R$2&\",reference:=StartOfSession)=\"&A36&\"\", \"Bar\", \"\", \"Close\",\"5\",\"0\",\"All\",,,\"False\",\"T\",\"EveryTick\"))","v":{"$error":"#N/A"}},null,{"$f":"IF(D36=0,NA(),RTD(\"cqg.rtd\",,\"StudyData\", \"Close(\"&$T$2&\") When Barix(\"&$T$2&\",reference:=StartOfSession)=\"&A36&\"\", \"Bar\", \"\", \"Close\",\"5\",\"0\",\"All\",,,\"False\",\"T\",\"EveryTick\"))","v":{"$error":"#N/A"}},null,{"$f":"IF(D36=0,NA(),RTD(\"cqg.rtd\",,\"StudyData\", \"Close(\"&$V$2&\") When Barix(\"&$V$2&\",reference:=StartOfSession)=\"&A36&\"\", \"Bar\", \"\", \"Close\",\"5\",\"0\",\"All\",,,\"False\",\"T\",\"EveryTick\"))","v":{"$error":"#N/A"}},null,{"$f":"IF(D36=0,NA(),RTD(\"cqg.rtd\",,\"StudyData\", \"Close(\"&$X$2&\") When Barix(\"&$X$2&\",reference:=StartOfSession)=\"&A36&\"\", \"Bar\", \"\", \"Close\",\"5\",\"0\",\"All\",,,\"False\",\"T\",\"EveryTick\"))","v":{"$error":"#N/A"}},null,{"$f":"IF(D36=0,NA(),RTD(\"cqg.rtd\",,\"StudyData\", \"Close(\"&$Z$2&\") When Barix(\"&$Z$2&\",reference:=StartOfSession)=\"&A36&\"\", \"Bar\", \"\", \"Close\",\"5\",\"0\",\"All\",,,\"False\",\"T\",\"EveryTick\"))","v":{"$error":"#N/A"}},null,{"$f":"IF(D36=0,NA(),RTD(\"cqg.rtd\",,\"StudyData\", \"Close(\"&$AB$2&\") When Barix(\"&$AB$2&\",reference:=StartOfSession)=\"&A36&\"\", \"Bar\", \"\", \"Close\",\"5\",\"0\",\"All\",,,\"False\",\"T\",\"EveryTick\"))","v":{"$error":"#N/A"}},null,{"$f":"IF(D36=0,NA(),RTD(\"cqg.rtd\",,\"StudyData\", \"Close(\"&$AD$2&\") When Barix(\"&$AD$2&\",reference:=StartOfSession)=\"&A36&\"\", \"Bar\", \"\", \"Close\",\"5\",\"0\",\"All\",,,\"False\",\"T\",\"EveryTick\"))","v":{"$error":"#N/A"}},null,{"$f":"IF(D36=0,NA(),RTD(\"cqg.rtd\",,\"StudyData\", \"Close(\"&$AF$2&\") When Barix(\"&$AF$2&\",reference:=StartOfSession)=\"&A36&\"\", \"Bar\", \"\", \"Close\",\"5\",\"0\",\"All\",,,\"False\",\"T\",\"EveryTick\"))","v":{"$error":"#N/A"}},null,{"$f":"IF(D36=0,NA(),RTD(\"cqg.rtd\",,\"StudyData\", \"Close(\"&$AH$2&\") When Barix(\"&$AH$2&\",reference:=StartOfSession)=\"&A36&\"\", \"Bar\", \"\", \"Close\",\"5\",\"0\",\"All\",,,\"False\",\"T\",\"EveryTick\"))","v":{"$error":"#N/A"}},null,{"$f":"IF(D36=0,NA(),RTD(\"cqg.rtd\",,\"StudyData\", \"Close(\"&$AJ$2&\") When Barix(\"&$AJ$2&\",reference:=StartOfSession)=\"&A36&\"\", \"Bar\", \"\", \"Close\",\"5\",\"0\",\"All\",,,\"False\",\"T\",\"EveryTick\"))","v":{"$error":"#N/A"}},null,{"$f":"IF(D36=0,NA(),RTD(\"cqg.rtd\",,\"StudyData\", \"Close(\"&$AL$2&\") When Barix(\"&$AL$2&\",reference:=StartOfSession)=\"&A36&\"\", \"Bar\", \"\", \"Close\",\"5\",\"0\",\"All\",,,\"False\",\"T\",\"EveryTick\"))","v":{"$error":"#N/A"}},null,{"$f":"IF(D36=0,NA(),RTD(\"cqg.rtd\",,\"StudyData\", \"Close(\"&$AN$2&\") When Barix(\"&$AN$2&\",reference:=StartOfSession)=\"&A36&\"\", \"Bar\", \"\", \"Close\",\"5\",\"0\",\"All\",,,\"False\",\"T\",\"EveryTick\"))","v":{"$error":"#N/A"}},null,{"$f":"IF(D36=0,NA(),RTD(\"cqg.rtd\",,\"StudyData\", \"Close(\"&$AN$2&\") When Barix(\"&$AN$2&\",reference:=StartOfSession)=\"&A36&\"\", \"Bar\", \"\", \"Close\",\"5\",\"0\",\"All\",,,\"False\",\"T\",\"EveryTick\"))","v":{"$error":"#N/A"}},null,{"$f":"IF(D36=0,NA(),RTD(\"cqg.rtd\",,\"StudyData\", \"Close(\"&$AR$2&\") When Barix(\"&$AR$2&\",reference:=StartOfSession)=\"&A36&\"\", \"Bar\", \"\", \"Close\",\"5\",\"0\",\"All\",,,\"False\",\"T\",\"EveryTick\"))","v":{"$error":"#N/A"}},null,{"$f":"IF(D36=0,NA(),RTD(\"cqg.rtd\",,\"StudyData\", \"Close(\"&$AT$2&\") When Barix(\"&$AT$2&\",reference:=StartOfSession)=\"&A36&\"\", \"Bar\", \"\", \"Close\",\"5\",\"0\",\"All\",,,\"False\",\"T\",\"EveryTick\"))","v":{"$error":"#N/A"}},null,{"$f":"IF(D36=0,NA(),RTD(\"cqg.rtd\",,\"StudyData\", \"Close(\"&$AV$2&\") When Barix(\"&$AV$2&\",reference:=StartOfSession)=\"&A36&\"\", \"Bar\", \"\", \"Close\",\"5\",\"0\",\"All\",,,\"False\",\"T\",\"EveryTick\"))","v":{"$error":"#N/A"}},null,{"$f":"IF(D36=0,NA(),RTD(\"cqg.rtd\",,\"StudyData\", \"Close(\"&$AX$2&\") When Barix(\"&$AX$2&\",reference:=StartOfSession)=\"&A36&\"\", \"Bar\", \"\", \"Close\",\"5\",\"0\",\"All\",,,\"False\",\"T\",\"EveryTick\"))","v":{"$error":"#N/A"}},null,{"$f":"IF(D36=0,NA(),RTD(\"cqg.rtd\",,\"StudyData\", \"Close(\"&$AZ$2&\") When Barix(\"&$AZ$2&\",reference:=StartOfSession)=\"&A36&\"\", \"Bar\", \"\", \"Close\",\"5\",\"0\",\"All\",,,\"False\",\"T\",\"EveryTick\"))","v":{"$error":"#N/A"}},null,{"$f":"IF(D36=0,NA(),RTD(\"cqg.rtd\",,\"StudyData\", \"Close(\"&$BB$2&\") When Barix(\"&$BB$2&\",reference:=StartOfSession)=\"&A36&\"\", \"Bar\", \"\", \"Close\",\"5\",\"0\",\"All\",,,\"False\",\"T\",\"EveryTick\"))","v":{"$error":"#N/A"}},null,{"$f":"IF(D36=0,NA(),RTD(\"cqg.rtd\",,\"StudyData\", \"Close(\"&$BD$2&\") When Barix(\"&$BD$2&\",reference:=StartOfSession)=\"&A36&\"\", \"Bar\", \"\", \"Close\",\"5\",\"0\",\"All\",,,\"False\",\"T\",\"EveryTick\"))","v":{"$error":"#N/A"}},null,{"$f":"IF(D36=0,NA(),RTD(\"cqg.rtd\",,\"StudyData\", \"Close(\"&$BF$2&\") When Barix(\"&$BF$2&\",reference:=StartOfSession)=\"&A36&\"\", \"Bar\", \"\", \"Close\",\"5\",\"0\",\"All\",,,\"False\",\"T\",\"EveryTick\"))","v":{"$error":"#N/A"}},null,{"$f":"IF(D36=0,NA(),RTD(\"cqg.rtd\",,\"StudyData\", \"Close(\"&$BH$2&\") When Barix(\"&$BH$2&\",reference:=StartOfSession)=\"&A36&\"\", \"Bar\", \"\", \"Close\",\"5\",\"0\",\"All\",,,\"False\",\"T\",\"EveryTick\"))","v":{"$error":"#N/A"}},null,{"$f":"IF(D36=0,NA(),RTD(\"cqg.rtd\",,\"StudyData\", \"Close(\"&$BJ$2&\") When Barix(\"&$BJ$2&\",reference:=StartOfSession)=\"&A36&\"\", \"Bar\", \"\", \"Close\",\"5\",\"0\",\"All\",,,\"False\",\"T\",\"EveryTick\"))","v":{"$error":"#N/A"}},null,{"$f":"IF(D36=0,NA(),RTD(\"cqg.rtd\",,\"StudyData\", \"Close(\"&$BL$2&\") When Barix(\"&$BL$2&\",reference:=StartOfSession)=\"&A36&\"\", \"Bar\", \"\", \"Close\",\"5\",\"0\",\"All\",,,\"False\",\"T\",\"EveryTick\"))","v":{"$error":"#N/A"}},null,{"$f":"IF(D36=0,NA(),RTD(\"cqg.rtd\",,\"StudyData\", \"Close(\"&$BN$2&\") When Barix(\"&$BN$2&\",reference:=StartOfSession)=\"&A36&\"\", \"Bar\", \"\", \"Close\",\"5\",\"0\",\"All\",,,\"False\",\"T\",\"EveryTick\"))","v":{"$error":"#N/A"}},null,{"$f":"IF(D36=0,NA(),RTD(\"cqg.rtd\",,\"StudyData\", \"Close(\"&$BP$2&\") When Barix(\"&$BP$2&\",reference:=StartOfSession)=\"&A36&\"\", \"Bar\", \"\", \"Close\",\"5\",\"0\",\"All\",,,\"False\",\"T\",\"EveryTick\"))","v":{"$error":"#N/A"}},null,{"$f":"IF(D36=0,NA(),RTD(\"cqg.rtd\",,\"StudyData\", \"Close(\"&$BR$2&\") When Barix(\"&$BR$2&\",reference:=StartOfSession)=\"&A36&\"\", \"Bar\", \"\", \"Close\",\"5\",\"0\",\"All\",,,\"False\",\"T\",\"EveryTick\"))","v":{"$error":"#N/A"}},null,{"$f":"IF(D36=0,NA(),RTD(\"cqg.rtd\",,\"StudyData\", \"Close(\"&$BT$2&\") When Barix(\"&$BT$2&\",reference:=StartOfSession)=\"&A36&\"\", \"Bar\", \"\", \"Close\",\"5\",\"0\",\"All\",,,\"False\",\"T\",\"EveryTick\"))","v":{"$error":"#N/A"}},null,{"$f":"IF(D36=0,NA(),RTD(\"cqg.rtd\",,\"StudyData\", \"Close(\"&$BV$2&\") When Barix(\"&$BV$2&\",reference:=StartOfSession)=\"&A36&\"\", \"Bar\", \"\", \"Close\",\"5\",\"0\",\"All\",,,\"False\",\"T\",\"EveryTick\"))","v":{"$error":"#N/A"}},null,{"$f":"IF(D36=0,NA(),RTD(\"cqg.rtd\",,\"StudyData\", \"Close(\"&$BX$2&\") When Barix(\"&$BX$2&\",reference:=StartOfSession)=\"&A36&\"\", \"Bar\", \"\", \"Close\",\"5\",\"0\",\"All\",,,\"False\",\"T\",\"EveryTick\"))","v":{"$error":"#N/A"}},null,{"$f":"IF(D36=0,NA(),RTD(\"cqg.rtd\",,\"StudyData\", \"Close(\"&$BZ$2&\") When Barix(\"&$BZ$2&\",reference:=StartOfSession)=\"&A36&\"\", \"Bar\", \"\", \"Close\",\"5\",\"0\",\"All\",,,\"False\",\"T\",\"EveryTick\"))","v":{"$error":"#N/A"}}]
[33,{"$f":"IF(D37=0,NA(),RTD(\"cqg.rtd\",,\"StudyData\", \"Close(\"&$B$2&\") When Barix(\"&$B$2&\",reference:=StartOfSession)=\"&A37&\"\", \"Bar\", \"\", \"Close\",\"5\",\"0\",\"All\",,,\"False\",\"T\",\"EveryTick\"))","v":{"$error":"#N/A"}},"11:15:00",0,null,{"$f":"IF(D37=0,NA(),RTD(\"cqg.rtd\",,\"StudyData\", \"Close(\"&$F$2&\") When Barix(\"&$F$2&\",reference:=StartOfSession)=\"&A37&\"\", \"Bar\", \"\", \"Close\",\"5\",\"0\",\"All\",,,\"False\",\"T\",\"EveryTick\"))","v":{"$error":"#N/A"}},null,{"$f":"IF(D37=0,NA(),RTD(\"cqg.rtd\",,\"StudyData\", \"Close(\"&$H$2&\") When Barix(\"&$H$2&\",reference:=StartOfSession)=\"&A37&\"\", \"Bar\", \"\", \"Close\",\"5\",\"0\",\"All\",,,\"False\",\"T\",\"EveryTick\"))","v":{"$error":"#N/A"}},null,{"$f":"IF(D37=0,NA(),RTD(\"cqg.rtd\",,\"StudyData\", \"Close(\"&$J$2&\") When Barix(\"&$J$2&\",reference:=StartOfSession)=\"&A37&\"\", \"Bar\", \"\", \"Close\",\"5\",\"0\",\"All\",,,\"False\",\"T\",\"EveryTick\"))","v":{"$error":"#N/A"}},null,{"$f":"IF(D37=0,NA(),RTD(\"cqg.rtd\",,\"StudyData\", \"Close(\"&$L$2&\") When Barix(\"&$L$2&\",reference:=StartOfSession)=\"&A37&\"\", \"Bar\", \"\", \"Close\",\"5\",\"0\",\"All\",,,\"False\",\"T\",\"EveryTick\"))","v":{"$error":"#N/A"}},null,{"$f":"IF(D37=0,NA(),RTD(\"cqg.rtd\",,\"StudyData\", \"Close(\"&$N$2&\") When Barix(\"&$N$2&\",reference:=StartOfSession)=\"&A37&\"\", \"Bar\", \"\", \"Close\",\"5\",\"0\",\"All\",,,\"False\",\"T\",\"EveryTick\"))","v":{"$error":"#N/A"}},null,{"$f":"IF(D37=0,NA(),RTD(\"cqg.rtd\",,\"StudyData\", \"Close(\"&$P$2&\") When Barix(\"&$P$2&\",reference:=StartOfSession)=\"&A37&\"\", \"Bar\", \"\", \"Close\",\"5\",\"0\",\"All\",,,\"False\",\"T\",\"EveryTick\"))","v":{"$error":"#N/A"}},null,{"$f":"IF(D37=0,NA(),RTD(\"cqg.rtd\",,\"StudyData\", \"Close(\"&$R$2&\") When Barix(\"&$R$2&\",reference:=StartOfSession)=\"&A37&\"\", \"Bar\", \"\", \"Close\",\"5\",\"0\",\"All\",,,\"False\",\"T\",\"EveryTick\"))","v":{"$error":"#N/A"}},null,{"$f":"IF(D37=0,NA(),RTD(\"cqg.rtd\",,\"StudyData\", \"Close(\"&$T$2&\") When Barix(\"&$T$2&\",reference:=StartOfSession)=\"&A37&\"\", \"Bar\", \"\", \"Close\",\"5\",\"0\",\"All\",,,\"False\",\"T\",\"EveryTick\"))","v":{"$error":"#N/A"}},null,{"$f":"IF(D37=0,NA(),RTD(\"cqg.rtd\",,\"StudyData\", \"Close(\"&$V$2&\") When Barix(\"&$V$2&\",reference:=StartOfSession)=\"&A37&\"\", \"Bar\", \"\", \"Close\",\"5\",\"0\",\"All\",,,\"False\",\"T\",\"EveryTick\"))","v":{"$error":"#N/A"}},null,{"$f":"IF(D37=0,NA(),RTD(\"cqg.rtd\",,\"StudyData\", \"Close(\"&$X$2&\") When Barix(\"&$X$2&\",reference:=StartOfSession)=\"&A37&\"\", \"Bar\", \"\", \"Close\",\"5\",\"0\",\"All\",,,\"False\",\"T\",\"EveryTick\"))","v":{"$error":"#N/A"}},null,{"$f":"IF(D37=0,NA(),RTD(\"cqg.rtd\",,\"StudyData\", \"Close(\"&$Z$2&\") When Barix(\"&$Z$2&\",reference:=StartOfSession)=\"&A37&\"\", \"Bar\", \"\", \"Close\",\"5\",\"0\",\"All\",,,\"False\",\"T\",\"EveryTick\"))","v":{"$error":"#N/A"}},null,{"$f":"IF(D37=0,NA(),RTD(\"cqg.rtd\",,\"StudyData\", \"Close(\"&$AB$2&\") When Barix(\"&$AB$2&\",reference:=StartOfSession)=\"&A37&\"\", \"Bar\", \"\", \"Close\",\"5\",\"0\",\"All\",,,\"False\",\"T\",\"EveryTick\"))","v":{"$error":"#N/A"}},null,{"$f":"IF(D37=0,NA(),RTD(\"cqg.rtd\",,\"StudyData\", \"Close(\"&$AD$2&\") When Barix(\"&$AD$2&\",reference:=StartOfSession)=\"&A37&\"\", \"Bar\", \"\", \"Close\",\"5\",\"0\",\"All\",,,\"False\",\"T\",\"EveryTick\"))","v":{"$error":"#N/A"}},null,{"$f":"IF(D37=0,NA(),RTD(\"cqg.rtd\",,\"StudyData\", \"Close(\"&$AF$2&\") When Barix(\"&$AF$2&\",reference:=StartOfSession)=\"&A37&\"\", \"Bar\", \"\", \"Close\",\"5\",\"0\",\"All\",,,\"False\",\"T\",\"EveryTick\"))","v":{"$error":"#N/A"}},null,{"$f":"IF(D37=0,NA(),RTD(\"cqg.rtd\",,\"StudyData\", \"Close(\"&$AH$2&\") When Barix(\"&$AH$2&\",reference:=StartOfSession)=\"&A37&\"\", \"Bar\", \"\", \"Close\",\"5\",\"0\",\"All\",,,\"False\",\"T\",\"EveryTick\"))","v":{"$error":"#N/A"}},null,{"$f":"IF(D37=0,NA(),RTD(\"cqg.rtd\",,\"StudyData\", \"Close(\"&$AJ$2&\") When Barix(\"&$AJ$2&\",reference:=StartOfSession)=\"&A37&\"\", \"Bar\", \"\", \"Close\",\"5\",\"0\",\"All\",,,\"False\",\"T\",\"EveryTick\"))","v":{"$error":"#N/A"}},null,{"$f":"IF(D37=0,NA(),RTD(\"cqg.rtd\",,\"StudyData\", \"Close(\"&$AL$2&\") When Barix(\"&$AL$2&\",reference:=StartOfSession)=\"&A37&\"\", \"Bar\", \"\", \"Close\",\"5\",\"0\",\"All\",,,\"False\",\"T\",\"EveryTick\"))","v":{"$error":"#N/A"}},null,{"$f":"IF(D37=0,NA(),RTD(\"cqg.rtd\",,\"StudyData\", \"Close(\"&$AN$2&\") When Barix(\"&$AN$2&\",reference:=StartOfSession)=\"&A37&\"\", \"Bar\", \"\", \"Close\",\"5\",\"0\",\"All\",,,\"False\",\"T\",\"EveryTick\"))","v":{"$error":"#N/A"}},null,{"$f":"IF(D37=0,NA(),RTD(\"cqg.rtd\",,\"StudyData\", \"Close(\"&$AN$2&\") When Barix(\"&$AN$2&\",reference:=StartOfSession)=\"&A37&\"\", \"Bar\", \"\", \"Close\",\"5\",\"0\",\"All\",,,\"False\",\"T\",\"EveryTick\"))","v":{"$error":"#N/A"}},null,{"$f":"IF(D37=0,NA(),RTD(\"cqg.rtd\",,\"StudyData\", \"Close(\"&$AR$2&\") When Barix(\"&$AR$2&\",reference:=StartOfSession)=\"&A37&\"\", \"Bar\", \"\", \"Close\",\"5\",\"0\",\"All\",,,\"False\",\"T\",\"EveryTick\"))","v":{"$error":"#N/A"}},null,{"$f":"IF(D37=0,NA(),RTD(\"cqg.rtd\",,\"StudyData\", \"Close(\"&$AT$2&\") When Barix(\"&$AT$2&\",reference:=StartOfSession)=\"&A37&\"\", \"Bar\", \"\", \"Close\",\"5\",\"0\",\"All\",,,\"False\",\"T\",\"EveryTick\"))","v":{"$error":"#N/A"}},null,{"$f":"IF(D37=0,NA(),RTD(\"cqg.rtd\",,\"StudyData\", \"Close(\"&$AV$2&\") When Barix(\"&$AV$2&\",reference:=StartOfSession)=\"&A37&\"\", \"Bar\", \"\", \"Close\",\"5\",\"0\",\"All\",,,\"False\",\"T\",\"EveryTick\"))","v":{"$error":"#N/A"}},null,{"$f":"IF(D37=0,NA(),RTD(\"cqg.rtd\",,\"StudyData\", \"Close(\"&$AX$2&\") When Barix(\"&$AX$2&\",reference:=StartOfSession)=\"&A37&\"\", \"Bar\", \"\", \"Close\",\"5\",\"0\",\"All\",,,\"False\",\"T\",\"EveryTick\"))","v":{"$error":"#N/A"}},null,{"$f":"IF(D37=0,NA(),RTD(\"cqg.rtd\",,\"StudyData\", \"Close(\"&$AZ$2&\") When Barix(\"&$AZ$2&\",reference:=StartOfSession)=\"&A37&\"\", \"Bar\", \"\", \"Close\",\"5\",\"0\",\"All\",,,\"False\",\"T\",\"EveryTick\"))","v":{"$error":"#N/A"}},null,{"$f":"IF(D37=0,NA(),RTD(\"cqg.rtd\",,\"StudyData\", \"Close(\"&$BB$2&\") When Barix(\"&$BB$2&\",reference:=StartOfSession)=\"&A37&\"\", \"Bar\", \"\", \"Close\",\"5\",\"0\",\"All\",,,\"False\",\"T\",\"EveryTick\"))","v":{"$error":"#N/A"}},null,{"$f":"IF(D37=0,NA(),RTD(\"cqg.rtd\",,\"StudyData\", \"Close(\"&$BD$2&\") When Barix(\"&$BD$2&\",reference:=StartOfSession)=\"&A37&\"\", \"Bar\", \"\", \"Close\",\"5\",\"0\",\"All\",,,\"False\",\"T\",\"EveryTick\"))","v":{"$error":"#N/A"}},null,{"$f":"IF(D37=0,NA(),RTD(\"cqg.rtd\",,\"StudyData\", \"Close(\"&$BF$2&\") When Barix(\"&$BF$2&\",reference:=StartOfSession)=\"&A37&\"\", \"Bar\", \"\", \"Close\",\"5\",\"0\",\"All\",,,\"False\",\"T\",\"EveryTick\"))","v":{"$error":"#N/A"}},null,{"$f":"IF(D37=0,NA(),RTD(\"cqg.rtd\",,\"StudyData\", \"Close(\"&$BH$2&\") When Barix(\"&$BH$2&\",reference:=StartOfSession)=\"&A37&\"\", \"Bar\", \"\", \"Close\",\"5\",\"0\",\"All\",,,\"False\",\"T\",\"EveryTick\"))","v":{"$error":"#N/A"}},null,{"$f":"IF(D37=0,NA(),RTD(\"cqg.rtd\",,\"StudyData\", \"Close(\"&$BJ$2&\") When Barix(\"&$BJ$2&\",reference:=StartOfSession)=\"&A37&\"\", \"Bar\", \"\", \"Close\",\"5\",\"0\",\"All\",,,\"False\",\"T\",\"EveryTick\"))","v":{"$error":"#N/A"}},null,{"$f":"IF(D37=0,NA(),RTD(\"cqg.rtd\",,\"StudyData\", \"Close(\"&$BL$2&\") When Barix(\"&$BL$2&\",reference:=StartOfSession)=\"&A37&\"\", \"Bar\", \"\", \"Close\",\"5\",\"0\",\"All\",,,\"False\",\"T\",\"EveryTick\"))","v":{"$error":"#N/A"}},null,{"$f":"IF(D37=0,NA(),RTD(\"cqg.rtd\",,\"StudyData\", \"Close(\"&$BN$2&\") When Barix(\"&$BN$2&\",reference:=StartOfSession)=\"&A37&\"\", \"Bar\", \"\", \"Close\",\"5\",\"0\",\"All\",,,\"False\",\"T\",\"EveryTick\"))","v":{"$error":"#N/A"}},null,{"$f":"IF(D37=0,NA(),RTD(\"cqg.rtd\",,\"StudyData\", \"Close(\"&$BP$2&\") When Barix(\"&$BP$2&\",reference:=StartOfSession)=\"&A37&\"\", \"Bar\", \"\", \"Close\",\"5\",\"0\",\"All\",,,\"False\",\"T\",\"EveryTick\"))","v":{"$error":"#N/A"}},null,{"$f":"IF(D37=0,NA(),RTD(\"cqg.rtd\",,\"StudyData\", \"Close(\"&$BR$2&\") When Barix(\"&$BR$2&\",reference:=StartOfSession)=\"&A37&\"\", \"Bar\", \"\", \"Close\",\"5\",\"0\",\"All\",,,\"False\",\"T\",\"EveryTick\"))","v":{"$error":"#N/A"}},null,{"$f":"IF(D37=0,NA(),RTD(\"cqg.rtd\",,\"StudyData\", \"Close(\"&$BT$2&\") When Barix(\"&$BT$2&\",reference:=StartOfSession)=\"&A37&\"\", \"Bar\", \"\", \"Close\",\"5\",\"0\",\"All\",,,\"False\",\"T\",\"EveryTick\"))","v":{"$error":"#N/A"}},null,{"$f":"IF(D37=0,NA(),RTD(\"cqg.rtd\",,\"StudyData\", \"Close(\"&$BV$2&\") When Barix(\"&$BV$2&\",reference:=StartOfSession)=\"&A37&\"\", \"Bar\", \"\", \"Close\",\"5\",\"0\",\"All\",,,\"False\",\"T\",\"EveryTick\"))","v":{"$error":"#N/A"}},null,{"$f":"IF(D37=0,NA(),RTD(\"cqg.rtd\",,\"StudyData\", \"Close(\"&$BX$2&\") When Barix(\"&$BX$2&\",reference:=StartOfSession)=\"&A37&\"\", \"Bar\", \"\", \"Close\",\"5\",\"0\",\"All\",,,\"False\",\"T\",\"EveryTick\"))","v":{"$error":"#N/A"}},null,{"$f":"IF(D37=0,NA(),RTD(\"cqg.rtd\",,\"StudyData\", \"Close(\"&$BZ$2&\") When Barix(\"&$BZ$2&\",reference:=StartOfSession)=\"&A37&\"\", \"Bar\", \"\", \"Close\",\"5\",\"0\",\"All\",,,\"False\",\"T\",\"EveryTick\"))","v":{"$error":"#N/A"}}]
[34,{"$f":"IF(D38=0,NA(),RTD(\"cqg.rtd\",,\"StudyData\", \"Close(\"&$B$2&\") When Barix(\"&$B$2&\",reference:=StartOfSession)=\"&A38&\"\", \"Bar\", \"\", \"Close\",\"5\",\"0\",\"All\",,,\"False\",\"T\",\"EveryTick\"))","v":{"$error":"#N/A"}},"11:20:00",0,null,{"$f":"IF(D38=0,NA(),RTD(\"cqg.rtd\",,\"StudyData\", \"Close(\"&$F$2&\") When Barix(\"&$F$2&\",reference:=StartOfSession)=\"&A38&\"\", \"Bar\", \"\", \"Close\",\"5\",\"0\",\"All\",,,\"False\",\"T\",\"EveryTick\"))","v":{"$error":"#N/A"}},null,{"$f":"IF(D38=0,NA(),RTD(\"cqg.rtd\",,\"StudyData\", \"Close(\"&$H$2&\") When Barix(\"&$H$2&\",reference:=StartOfSession)=\"&A38&\"\", \"Bar\", \"\", \"Close\",\"5\",\"0\",\"All\",,,\"False\",\"T\",\"EveryTick\"))","v":{"$error":"#N/A"}},null,{"$f":"IF(D38=0,NA(),RTD(\"cqg.rtd\",,\"StudyData\", \"Close(\"&$J$2&\") When Barix(\"&$J$2&\",reference:=StartOfSession)=\"&A38&\"\", \"Bar\", \"\", \"Close\",\"5\",\"0\",\"All\",,,\"False\",\"T\",\"EveryTick\"))","v":{"$error":"#N/A"}},null,{"$f":"IF(D38=0,NA(),RTD(\"cqg.rtd\",,\"StudyData\", \"Close(\"&$L$2&\") When Barix(\"&$L$2&\",reference:=StartOfSession)=\"&A38&\"\", \"Bar\", \"\", \"Close\",\"5\",\"0\",\"All\",,,\"False\",\"T\",\"EveryTick\"))","v":{"$error":"#N/A"}},null,{"$f":"IF(D38=0,NA(),RTD(\"cqg.rtd\",,\"StudyData\", \"Close(\"&$N$2&\") When Barix(\"&$N$2&\",reference:=StartOfSession)=\"&A38&\"\", \"Bar\", \"\", \"Close\",\"5\",\"0\",\"All\",,,\"False\",\"T\",\"EveryTick\"))","v":{"$error":"#N/A"}},null,{"$f":"IF(D38=0,NA(),RTD(\"cqg.rtd\",,\"StudyData\", \"Close(\"&$P$2&\") When Barix(\"&$P$2&\",reference:=StartOfSession)=\"&A38&\"\", \"Bar\", \"\", \"Close\",\"5\",\"0\",\"All\",,,\"False\",\"T\",\"EveryTick\"))","v":{"$error":"#N/A"}},null,{"$f":"IF(D38=0,NA(),RTD(\"cqg.rtd\",,\"StudyData\", \"Close(\"&$R$2&\") When Barix(\"&$R$2&\",reference:=StartOfSession)=\"&A38&\"\", \"Bar\", \"\", \"Close\",\"5\",\"0\",\"All\",,,\"False\",\"T\",\"EveryTick\"))","v":{"$error":"#N/A"}},null,{"$f":"IF(D38=0,NA(),RTD(\"cqg.rtd\",,\"StudyData\", \"Close(\"&$T$2&\") When Barix(\"&$T$2&\",reference:=StartOfSession)=\"&A38&\"\", \"Bar\", \"\", \"Close\",\"5\",\"0\",\"All\",,,\"False\",\"T\",\"EveryTick\"))","v":{"$error":"#N/A"}},null,{"$f":"IF(D38=0,NA(),RTD(\"cqg.rtd\",,\"StudyData\", \"Close(\"&$V$2&\") When Barix(\"&$V$2&\",reference:=StartOfSession)=\"&A38&\"\", \"Bar\", \"\", \"Close\",\"5\",\"0\",\"All\",,,\"False\",\"T\",\"EveryTick\"))","v":{"$error":"#N/A"}},null,{"$f":"IF(D38=0,NA(),RTD(\"cqg.rtd\",,\"StudyData\", \"Close(\"&$X$2&\") When Barix(\"&$X$2&\",reference:=StartOfSession)=\"&A38&\"\", \"Bar\", \"\", \"Close\",\"5\",\"0\",\"All\",,,\"False\",\"T\",\"EveryTick\"))","v":{"$error":"#N/A"}},null,{"$f":"IF(D38=0,NA(),RTD(\"cqg.rtd\",,\"StudyData\", \"Close(\"&$Z$2&\") When Barix(\"&$Z$2&\",reference:=StartOfSession)=\"&A38&\"\", \"Bar\", \"\", \"Close\",\"5\",\"0\",\"All\",,,\"False\",\"T\",\"EveryTick\"))","v":{"$error":"#N/A"}},null,{"$f":"IF(D38=0,NA(),RTD(\"cqg.rtd\",,\"StudyData\", \"Close(\"&$AB$2&\") When Barix(\"&$AB$2&\",reference:=StartOfSession)=\"&A38&\"\", \"Bar\", \"\", \"Close\",\"5\",\"0\",\"All\",,,\"False\",\"T\",\"EveryTick\"))","v":{"$error":"#N/A"}},null,{"$f":"IF(D38=0,NA(),RTD(\"cqg.rtd\",,\"StudyData\", \"Close(\"&$AD$2&\") When Barix(\"&$AD$2&\",reference:=StartOfSession)=\"&A38&\"\", \"Bar\", \"\", \"Close\",\"5\",\"0\",\"All\",,,\"False\",\"T\",\"EveryTick\"))","v":{"$error":"#N/A"}},null,{"$f":"IF(D38=0,NA(),RTD(\"cqg.rtd\",,\"StudyData\", \"Close(\"&$AF$2&\") When Barix(\"&$AF$2&\",reference:=StartOfSession)=\"&A38&\"\", \"Bar\", \"\", \"Close\",\"5\",\"0\",\"All\",,,\"False\",\"T\",\"EveryTick\"))","v":{"$error":"#N/A"}},null,{"$f":"IF(D38=0,NA(),RTD(\"cqg.rtd\",,\"StudyData\", \"Close(\"&$AH$2&\") When Barix(\"&$AH$2&\",reference:=StartOfSession)=\"&A38&\"\", \"Bar\", \"\", \"Close\",\"5\",\"0\",\"All\",,,\"False\",\"T\",\"EveryTick\"))","v":{"$error":"#N/A"}},null,{"$f":"IF(D38=0,NA(),RTD(\"cqg.rtd\",,\"StudyData\", \"Close(\"&$AJ$2&\") When Barix(\"&$AJ$2&\",reference:=StartOfSession)=\"&A38&\"\", \"Bar\", \"\", \"Close\",\"5\",\"0\",\"All\",,,\"False\",\"T\",\"EveryTick\"))","v":{"$error":"#N/A"}},null,{"$f":"IF(D38=0,NA(),RTD(\"cqg.rtd\",,\"StudyData\", \"Close(\"&$AL$2&\") When Barix(\"&$AL$2&\",reference:=StartOfSession)=\"&A38&\"\", \"Bar\", \"\", \"Close\",\"5\",\"0\",\"All\",,,\"False\",\"T\",\"EveryTick\"))","v":{"$error":"#N/A"}},null,{"$f":"IF(D38=0,NA(),RTD(\"cqg.rtd\",,\"StudyData\", \"Close(\"&$AN$2&\") When Barix(\"&$AN$2&\",reference:=StartOfSession)=\"&A38&\"\", \"Bar\", \"\", \"Close\",\"5\",\"0\",\"All\",,,\"False\",\"T\",\"EveryTick\"))","v":{"$error":"#N/A"}},null,{"$f":"IF(D38=0,NA(),RTD(\"cqg.rtd\",,\"StudyData\", \"Close(\"&$AN$2&\") When Barix(\"&$AN$2&\",reference:=StartOfSession)=\"&A38&\"\", \"Bar\", \"\", \"Close\",\"5\",\"0\",\"All\",,,\"False\",\"T\",\"EveryTick\"))","v":{"$error":"#N/A"}},null,{"$f":"IF(D38=0,NA(),RTD(\"cqg.rtd\",,\"StudyData\", \"Close(\"&$AR$2&\") When Barix(\"&$AR$2&\",reference:=StartOfSession)=\"&A38&\"\", \"Bar\", \"\", \"Close\",\"5\",\"0\",\"All\",,,\"False\",\"T\",\"EveryTick\"))","v":{"$error":"#N/A"}},null,{"$f":"IF(D38=0,NA(),RTD(\"cqg.rtd\",,\"StudyData\", \"Close(\"&$AT$2&\") When Barix(\"&$AT$2&\",reference:=StartOfSession)=\"&A38&\"\", \"Bar\", \"\", \"Close\",\"5\",\"0\",\"All\",,,\"False\",\"T\",\"EveryTick\"))","v":{"$error":"#N/A"}},null,{"$f":"IF(D38=0,NA(),RTD(\"cqg.rtd\",,\"StudyData\", \"Close(\"&$AV$2&\") When Barix(\"&$AV$2&\",reference:=StartOfSession)=\"&A38&\"\", \"Bar\", \"\", \"Close\",\"5\",\"0\",\"All\",,,\"False\",\"T\",\"EveryTick\"))","v":{"$error":"#N/A"}},null,{"$f":"IF(D38=0,NA(),RTD(\"cqg.rtd\",,\"StudyData\", \"Close(\"&$AX$2&\") When Barix(\"&$AX$2&\",reference:=StartOfSession)=\"&A38&\"\", \"Bar\", \"\", \"Close\",\"5\",\"0\",\"All\",,,\"False\",\"T\",\"EveryTick\"))","v":{"$error":"#N/A"}},null,{"$f":"IF(D38=0,NA(),RTD(\"cqg.rtd\",,\"StudyData\", \"Close(\"&$AZ$2&\") When Barix(\"&$AZ$2&\",reference:=StartOfSession)=\"&A38&\"\", \"Bar\", \"\", \"Close\",\"5\",\"0\",\"All\",,,\"False\",\"T\",\"EveryTick\"))","v":{"$error":"#N/A"}},null,{"$f":"IF(D38=0,NA(),RTD(\"cqg.rtd\",,\"StudyData\", \"Close(\"&$BB$2&\") When Barix(\"&$BB$2&\",reference:=StartOfSession)=\"&A38&\"\", \"Bar\", \"\", \"Close\",\"5\",\"0\",\"All\",,,\"False\",\"T\",\"EveryTick\"))","v":{"$error":"#N/A"}},null,{"$f":"IF(D38=0,NA(),RTD(\"cqg.rtd\",,\"StudyData\", \"Close(\"&$BD$2&\") When Barix(\"&$BD$2&\",reference:=StartOfSession)=\"&A38&\"\", \"Bar\", \"\", \"Close\",\"5\",\"0\",\"All\",,,\"False\",\"T\",\"EveryTick\"))","v":{"$error":"#N/A"}},null,{"$f":"IF(D38=0,NA(),RTD(\"cqg.rtd\",,\"StudyData\", \"Close(\"&$BF$2&\") When Barix(\"&$BF$2&\",reference:=StartOfSession)=\"&A38&\"\", \"Bar\", \"\", \"Close\",\"5\",\"0\",\"All\",,,\"False\",\"T\",\"EveryTick\"))","v":{"$error":"#N/A"}},null,{"$f":"IF(D38=0,NA(),RTD(\"cqg.rtd\",,\"StudyData\", \"Close(\"&$BH$2&\") When Barix(\"&$BH$2&\",reference:=StartOfSession)=\"&A38&\"\", \"Bar\", \"\", \"Close\",\"5\",\"0\",\"All\",,,\"False\",\"T\",\"EveryTick\"))","v":{"$error":"#N/A"}},null,{"$f":"IF(D38=0,NA(),RTD(\"cqg.rtd\",,\"StudyData\", \"Close(\"&$BJ$2&\") When Barix(\"&$BJ$2&\",reference:=StartOfSession)=\"&A38&\"\", \"Bar\", \"\", \"Close\",\"5\",\"0\",\"All\",,,\"False\",\"T\",\"EveryTick\"))","v":{"$error":"#N/A"}},null,{"$f":"IF(D38=0,NA(),RTD(\"cqg.rtd\",,\"StudyData\", \"Close(\"&$BL$2&\") When Barix(\"&$BL$2&\",reference:=StartOfSession)=\"&A38&\"\", \"Bar\", \"\", \"Close\",\"5\",\"0\",\"All\",,,\"False\",\"T\",\"EveryTick\"))","v":{"$error":"#N/A"}},null,{"$f":"IF(D38=0,NA(),RTD(\"cqg.rtd\",,\"StudyData\", \"Close(\"&$BN$2&\") When Barix(\"&$BN$2&\",reference:=StartOfSession)=\"&A38&\"\", \"Bar\", \"\", \"Close\",\"5\",\"0\",\"All\",,,\"False\",\"T\",\"EveryTick\"))","v":{"$error":"#N/A"}},null,{"$f":"IF(D38=0,NA(),RTD(\"cqg.rtd\",,\"StudyData\", \"Close(\"&$BP$2&\") When Barix(\"&$BP$2&\",reference:=StartOfSession)=\"&A38&\"\", \"Bar\", \"\", \"Close\",\"5\",\"0\",\"All\",,,\"False\",\"T\",\"EveryTick\"))","v":{"$error":"#N/A"}},null,{"$f":"IF(D38=0,NA(),RTD(\"cqg.rtd\",,\"StudyData\", \"Close(\"&$BR$2&\") When Barix(\"&$BR$2&\",reference:=StartOfSession)=\"&A38&\"\", \"Bar\", \"\", \"Close\",\"5\",\"0\",\"All\",,,\"False\",\"T\",\"EveryTick\"))","v":{"$error":"#N/A"}},null,{"$f":"IF(D38=0,NA(),RTD(\"cqg.rtd\",,\"StudyData\", \"Close(\"&$BT$2&\") When Barix(\"&$BT$2&\",reference:=StartOfSession)=\"&A38&\"\", \"Bar\", \"\", \"Close\",\"5\",\"0\",\"All\",,,\"False\",\"T\",\"EveryTick\"))","v":{"$error":"#N/A"}},null,{"$f":"IF(D38=0,NA(),RTD(\"cqg.rtd\",,\"StudyData\", \"Close(\"&$BV$2&\") When Barix(\"&$BV$2&\",reference:=StartOfSession)=\"&A38&\"\", \"Bar\", \"\", \"Close\",\"5\",\"0\",\"All\",,,\"False\",\"T\",\"EveryTick\"))","v":{"$error":"#N/A"}},null,{"$f":"IF(D38=0,NA(),RTD(\"cqg.rtd\",,\"StudyData\", \"Close(\"&$BX$2&\") When Barix(\"&$BX$2&\",reference:=StartOfSession)=\"&A38&\"\", \"Bar\", \"\", \"Close\",\"5\",\"0\",\"All\",,,\"False\",\"T\",\"EveryTick\"))","v":{"$error":"#N/A"}},null,{"$f":"IF(D38=0,NA(),RTD(\"cqg.rtd\",,\"StudyData\", \"Close(\"&$BZ$2&\") When Barix(\"&$BZ$2&\",reference:=StartOfSession)=\"&A38&\"\", \"Bar\", \"\", \"Close\",\"5\",\"0\",\"All\",,,\"False\",\"T\",\"EveryTick\"))","v":{"$error":"#N/A"}}]
[35,{"$f":"IF(D39=0,NA(),RTD(\"cqg.rtd\",,\"StudyData\", \"Close(\"&$B$2&\") When Barix(\"&$B$2&\",reference:=StartOfSession)=\"&A39&\"\", \"Bar\", \"\", \"Close\",\"5\",\"0\",\"All\",,,\"False\",\"T\",\"EveryTick\"))","v":{"$error":"#N/A"}},"11:25:00",0,null,{"$f":"IF(D39=0,NA(),RTD(\"cqg.rtd\",,\"StudyData\", \"Close(\"&$F$2&\") When Barix(\"&$F$2&\",reference:=StartOfSession)=\"&A39&\"\", \"Bar\", \"\", \"Close\",\"5\",\"0\",\"All\",,,\"False\",\"T\",\"EveryTick\"))","v":{"$error":"#N/A"}},null,{"$f":"IF(D39=0,NA(),RTD(\"cqg.rtd\",,\"StudyData\", \"Close(\"&$H$2&\") When Barix(\"&$H$2&\",reference:=StartOfSession)=\"&A39&\"\", \"Bar\", \"\", \"Close\",\"5\",\"0\",\"All\",,,\"False\",\"T\",\"EveryTick\"))","v":{"$error":"#N/A"}},null,{"$f":"IF(D39=0,NA(),RTD(\"cqg.rtd\",,\"StudyData\", \"Close(\"&$J$2&\") When Barix(\"&$J$2&\",reference:=StartOfSession)=\"&A39&\"\", \"Bar\", \"\", \"Close\",\"5\",\"0\",\"All\",,,\"False\",\"T\",\"EveryTick\"))","v":{"$error":"#N/A"}},null,{"$f":"IF(D39=0,NA(),RTD(\"cqg.rtd\",,\"StudyData\", \"Close(\"&$L$2&\") When Barix(\"&$L$2&\",reference:=StartOfSession)=\"&A39&\"\", \"Bar\", \"\", \"Close\",\"5\",\"0\",\"All\",,,\"False\",\"T\",\"EveryTick\"))","v":{"$error":"#N/A"}},null,{"$f":"IF(D39=0,NA(),RTD(\"cqg.rtd\",,\"StudyData\", \"Close(\"&$N$2&\") When Barix(\"&$N$2&\",reference:=StartOfSession)=\"&A39&\"\", \"Bar\", \"\", \"Close\",\"5\",\"0\",\"All\",,,\"False\",\"T\",\"EveryTick\"))","v":{"$error":"#N/A"}},null,{"$f":"IF(D39=0,NA(),RTD(\"cqg.rtd\",,\"StudyData\", \"Close(\"&$P$2&\") When Barix(\"&$P$2&\",reference:=StartOfSession)=\"&A39&\"\", \"Bar\", \"\", \"Close\",\"5\",\"0\",\"All\",,,\"False\",\"T\",\"EveryTick\"))","v":{"$error":"#N/A"}},null,{"$f":"IF(D39=0,NA(),RTD(\"cqg.rtd\",,\"StudyData\", \"Close(\"&$R$2&\") When Barix(\"&$R$2&\",reference:=StartOfSession)=\"&A39&\"\", \"Bar\", \"\", \"Close\",\"5\",\"0\",\"All\",,,\"False\",\"T\",\"EveryTick\"))","v":{"$error":"#N/A"}},null,{"$f":"IF(D39=0,NA(),RTD(\"cqg.rtd\",,\"StudyData\", \"Close(\"&$T$2&\") When Barix(\"&$T$2&\",reference:=StartOfSession)=\"&A39&\"\", \"Bar\", \"\", \"Close\",\"5\",\"0\",\"All\",,,\"False\",\"T\",\"EveryTick\"))","v":{"$error":"#N/A"}},null,{"$f":"IF(D39=0,NA(),RTD(\"cqg.rtd\",,\"StudyData\", \"Close(\"&$V$2&\") When Barix(\"&$V$2&\",reference:=StartOfSession)=\"&A39&\"\", \"Bar\", \"\", \"Close\",\"5\",\"0\",\"All\",,,\"False\",\"T\",\"EveryTick\"))","v":{"$error":"#N/A"}},null,{"$f":"IF(D39=0,NA(),RTD(\"cqg.rtd\",,\"StudyData\", \"Close(\"&$X$2&\") When Barix(\"&$X$2&\",reference:=StartOfSession)=\"&A39&\"\", \"Bar\", \"\", \"Close\",\"5\",\"0\",\"All\",,,\"False\",\"T\",\"EveryTick\"))","v":{"$error":"#N/A"}},null,{"$f":"IF(D39=0,NA(),RTD(\"cqg.rtd\",,\"StudyData\", \"Close(\"&$Z$2&\") When Barix(\"&$Z$2&\",reference:=StartOfSession)=\"&A39&\"\", \"Bar\", \"\", \"Close\",\"5\",\"0\",\"All\",,,\"False\",\"T\",\"EveryTick\"))","v":{"$error":"#N/A"}},null,{"$f":"IF(D39=0,NA(),RTD(\"cqg.rtd\",,\"StudyData\", \"Close(\"&$AB$2&\") When Barix(\"&$AB$2&\",reference:=StartOfSession)=\"&A39&\"\", \"Bar\", \"\", \"Close\",\"5\",\"0\",\"All\",,,\"False\",\"T\",\"EveryTick\"))","v":{"$error":"#N/A"}},null,{"$f":"IF(D39=0,NA(),RTD(\"cqg.rtd\",,\"StudyData\", \"Close(\"&$AD$2&\") When Barix(\"&$AD$2&\",reference:=StartOfSession)=\"&A39&\"\", \"Bar\", \"\", \"Close\",\"5\",\"0\",\"All\",,,\"False\",\"T\",\"EveryTick\"))","v":{"$error":"#N/A"}},null,{"$f":"IF(D39=0,NA(),RTD(\"cqg.rtd\",,\"StudyData\", \"Close(\"&$AF$2&\") When Barix(\"&$AF$2&\",reference:=StartOfSession)=\"&A39&\"\", \"Bar\", \"\", \"Close\",\"5\",\"0\",\"All\",,,\"False\",\"T\",\"EveryTick\"))","v":{"$error":"#N/A"}},null,{"$f":"IF(D39=0,NA(),RTD(\"cqg.rtd\",,\"StudyData\", \"Close(\"&$AH$2&\") When Barix(\"&$AH$2&\",reference:=StartOfSession)=\"&A39&\"\", \"Bar\", \"\", \"Close\",\"5\",\"0\",\"All\",,,\"False\",\"T\",\"EveryTick\"))","v":{"$error":"#N/A"}},null,{"$f":"IF(D39=0,NA(),RTD(\"cqg.rtd\",,\"StudyData\", \"Close(\"&$AJ$2&\") When Barix(\"&$AJ$2&\",reference:=StartOfSession)=\"&A39&\"\", \"Bar\", \"\", \"Close\",\"5\",\"0\",\"All\",,,\"False\",\"T\",\"EveryTick\"))","v":{"$error":"#N/A"}},null,{"$f":"IF(D39=0,NA(),RTD(\"cqg.rtd\",,\"StudyData\", \"Close(\"&$AL$2&\") When Barix(\"&$AL$2&\",reference:=StartOfSession)=\"&A39&\"\", \"Bar\", \"\", \"Close\",\"5\",\"0\",\"All\",,,\"False\",\"T\",\"EveryTick\"))","v":{"$error":"#N/A"}},null,{"$f":"IF(D39=0,NA(),RTD(\"cqg.rtd\",,\"StudyData\", \"Close(\"&$AN$2&\") When Barix(\"&$AN$2&\",reference:=StartOfSession)=\"&A39&\"\", \"Bar\", \"\", \"Close\",\"5\",\"0\",\"All\",,,\"False\",\"T\",\"EveryTick\"))","v":{"$error":"#N/A"}},null,{"$f":"IF(D39=0,NA(),RTD(\"cqg.rtd\",,\"StudyData\", \"Close(\"&$AN$2&\") When Barix(\"&$AN$2&\",reference:=StartOfSession)=\"&A39&\"\", \"Bar\", \"\", \"Close\",\"5\",\"0\",\"All\",,,\"False\",\"T\",\"EveryTick\"))","v":{"$error":"#N/A"}},null,{"$f":"IF(D39=0,NA(),RTD(\"cqg.rtd\",,\"StudyData\", \"Close(\"&$AR$2&\") When Barix(\"&$AR$2&\",reference:=StartOfSession)=\"&A39&\"\", \"Bar\", \"\", \"Close\",\"5\",\"0\",\"All\",,,\"False\",\"T\",\"EveryTick\"))","v":{"$error":"#N/A"}},null,{"$f":"IF(D39=0,NA(),RTD(\"cqg.rtd\",,\"StudyData\", \"Close(\"&$AT$2&\") When Barix(\"&$AT$2&\",reference:=StartOfSession)=\"&A39&\"\", \"Bar\", \"\", \"Close\",\"5\",\"0\",\"All\",,,\"False\",\"T\",\"EveryTick\"))","v":{"$error":"#N/A"}},null,{"$f":"IF(D39=0,NA(),RTD(\"cqg.rtd\",,\"StudyData\", \"Close(\"&$AV$2&\") When Barix(\"&$AV$2&\",reference:=StartOfSession)=\"&A39&\"\", \"Bar\", \"\", \"Close\",\"5\",\"0\",\"All\",,,\"False\",\"T\",\"EveryTick\"))","v":{"$error":"#N/A"}},null,{"$f":"IF(D39=0,NA(),RTD(\"cqg.rtd\",,\"StudyData\", \"Close(\"&$AX$2&\") When Barix(\"&$AX$2&\",reference:=StartOfSession)=\"&A39&\"\", \"Bar\", \"\", \"Close\",\"5\",\"0\",\"All\",,,\"False\",\"T\",\"EveryTick\"))","v":{"$error":"#N/A"}},null,{"$f":"IF(D39=0,NA(),RTD(\"cqg.rtd\",,\"StudyData\", \"Close(\"&$AZ$2&\") When Barix(\"&$AZ$2&\",reference:=StartOfSession)=\"&A39&\"\", \"Bar\", \"\", \"Close\",\"5\",\"0\",\"All\",,,\"False\",\"T\",\"EveryTick\"))","v":{"$error":"#N/A"}},null,{"$f":"IF(D39=0,NA(),RTD(\"cqg.rtd\",,\"StudyData\", \"Close(\"&$BB$2&\") When Barix(\"&$BB$2&\",reference:=StartOfSession)=\"&A39&\"\", \"Bar\", \"\", \"Close\",\"5\",\"0\",\"All\",,,\"False\",\"T\",\"EveryTick\"))","v":{"$error":"#N/A"}},null,{"$f":"IF(D39=0,NA(),RTD(\"cqg.rtd\",,\"StudyData\", \"Close(\"&$BD$2&\") When Barix(\"&$BD$2&\",reference:=StartOfSession)=\"&A39&\"\", \"Bar\", \"\", \"Close\",\"5\",\"0\",\"All\",,,\"False\",\"T\",\"EveryTick\"))","v":{"$error":"#N/A"}},null,{"$f":"IF(D39=0,NA(),RTD(\"cqg.rtd\",,\"StudyData\", \"Close(\"&$BF$2&\") When Barix(\"&$BF$2&\",reference:=StartOfSession)=\"&A39&\"\", \"Bar\", \"\", \"Close\",\"5\",\"0\",\"All\",,,\"False\",\"T\",\"EveryTick\"))","v":{"$error":"#N/A"}},null,{"$f":"IF(D39=0,NA(),RTD(\"cqg.rtd\",,\"StudyData\", \"Close(\"&$BH$2&\") When Barix(\"&$BH$2&\",reference:=StartOfSession)=\"&A39&\"\", \"Bar\", \"\", \"Close\",\"5\",\"0\",\"All\",,,\"False\",\"T\",\"EveryTick\"))","v":{"$error":"#N/A"}},null,{"$f":"IF(D39=0,NA(),RTD(\"cqg.rtd\",,\"StudyData\", \"Close(\"&$BJ$2&\") When Barix(\"&$BJ$2&\",reference:=StartOfSession)=\"&A39&\"\", \"Bar\", \"\", \"Close\",\"5\",\"0\",\"All\",,,\"False\",\"T\",\"EveryTick\"))","v":{"$error":"#N/A"}},null,{"$f":"IF(D39=0,NA(),RTD(\"cqg.rtd\",,\"StudyData\", \"Close(\"&$BL$2&\") When Barix(\"&$BL$2&\",reference:=StartOfSession)=\"&A39&\"\", \"Bar\", \"\", \"Close\",\"5\",\"0\",\"All\",,,\"False\",\"T\",\"EveryTick\"))","v":{"$error":"#N/A"}},null,{"$f":"IF(D39=0,NA(),RTD(\"cqg.rtd\",,\"StudyData\", \"Close(\"&$BN$2&\") When Barix(\"&$BN$2&\",reference:=StartOfSession)=\"&A39&\"\", \"Bar\", \"\", \"Close\",\"5\",\"0\",\"All\",,,\"False\",\"T\",\"EveryTick\"))","v":{"$error":"#N/A"}},null,{"$f":"IF(D39=0,NA(),RTD(\"cqg.rtd\",,\"StudyData\", \"Close(\"&$BP$2&\") When Barix(\"&$BP$2&\",reference:=StartOfSession)=\"&A39&\"\", \"Bar\", \"\", \"Close\",\"5\",\"0\",\"All\",,,\"False\",\"T\",\"EveryTick\"))","v":{"$error":"#N/A"}},null,{"$f":"IF(D39=0,NA(),RTD(\"cqg.rtd\",,\"StudyData\", \"Close(\"&$BR$2&\") When Barix(\"&$BR$2&\",reference:=StartOfSession)=\"&A39&\"\", \"Bar\", \"\", \"Close\",\"5\",\"0\",\"All\",,,\"False\",\"T\",\"EveryTick\"))","v":{"$error":"#N/A"}},null,{"$f":"IF(D39=0,NA(),RTD(\"cqg.rtd\",,\"StudyData\", \"Close(\"&$BT$2&\") When Barix(\"&$BT$2&\",reference:=StartOfSession)=\"&A39&\"\", \"Bar\", \"\", \"Close\",\"5\",\"0\",\"All\",,,\"False\",\"T\",\"EveryTick\"))","v":{"$error":"#N/A"}},null,{"$f":"IF(D39=0,NA(),RTD(\"cqg.rtd\",,\"StudyData\", \"Close(\"&$BV$2&\") When Barix(\"&$BV$2&\",reference:=StartOfSession)=\"&A39&\"\", \"Bar\", \"\", \"Close\",\"5\",\"0\",\"All\",,,\"False\",\"T\",\"EveryTick\"))","v":{"$error":"#N/A"}},null,{"$f":"IF(D39=0,NA(),RTD(\"cqg.rtd\",,\"StudyData\", \"Close(\"&$BX$2&\") When Barix(\"&$BX$2&\",reference:=StartOfSession)=\"&A39&\"\", \"Bar\", \"\", \"Close\",\"5\",\"0\",\"All\",,,\"False\",\"T\",\"EveryTick\"))","v":{"$error":"#N/A"}},null,{"$f":"IF(D39=0,NA(),RTD(\"cqg.rtd\",,\"StudyData\", \"Close(\"&$BZ$2&\") When Barix(\"&$BZ$2&\",reference:=StartOfSession)=\"&A39&\"\", \"Bar\", \"\", \"Close\",\"5\",\"0\",\"All\",,,\"False\",\"T\",\"EveryTick\"))","v":{"$error":"#N/A"}}]
[36,{"$f":"IF(D40=0,NA(),RTD(\"cqg.rtd\",,\"StudyData\", \"Close(\"&$B$2&\") When Barix(\"&$B$2&\",reference:=StartOfSession)=\"&A40&\"\", \"Bar\", \"\", \"Close\",\"5\",\"0\",\"All\",,,\"False\",\"T\",\"EveryTick\"))","v":{"$error":"#N/A"}},"11:30:00",0,null,{"$f":"IF(D40=0,NA(),RTD(\"cqg.rtd\",,\"StudyData\", \"Close(\"&$F$2&\") When Barix(\"&$F$2&\",reference:=StartOfSession)=\"&A40&\"\", \"Bar\", \"\", \"Close\",\"5\",\"0\",\"All\",,,\"False\",\"T\",\"EveryTick\"))","v":{"$error":"#N/A"}},null,{"$f":"IF(D40=0,NA(),RTD(\"cqg.rtd\",,\"StudyData\", \"Close(\"&$H$2&\") When Barix(\"&$H$2&\",reference:=StartOfSession)=\"&A40&\"\", \"Bar\", \"\", \"Close\",\"5\",\"0\",\"All\",,,\"False\",\"T\",\"EveryTick\"))","v":{"$error":"#N/A"}},null,{"$f":"IF(D40=0,NA(),RTD(\"cqg.rtd\",,\"StudyData\", \"Close(\"&$J$2&\") When Barix(\"&$J$2&\",reference:=StartOfSession)=\"&A40&\"\", \"Bar\", \"\", \"Close\",\"5\",\"0\",\"All\",,,\"False\",\"T\",\"EveryTick\"))","v":{"$error":"#N/A"}},null,{"$f":"IF(D40=0,NA(),RTD(\"cqg.rtd\",,\"StudyData\", \"Close(\"&$L$2&\") When Barix(\"&$L$2&\",reference:=StartOfSession)=\"&A40&\"\", \"Bar\", \"\", \"Close\",\"5\",\"0\",\"All\",,,\"False\",\"T\",\"EveryTick\"))","v":{"$error":"#N/A"}},null,{"$f":"IF(D40=0,NA(),RTD(\"cqg.rtd\",,\"StudyData\", \"Close(\"&$N$2&\") When Barix(\"&$N$2&\",reference:=StartOfSession)=\"&A40&\"\", \"Bar\", \"\", \"Close\",\"5\",\"0\",\"All\",,,\"False\",\"T\",\"EveryTick\"))","v":{"$error":"#N/A"}},null,{"$f":"IF(D40=0,NA(),RTD(\"cqg.rtd\",,\"StudyData\", \"Close(\"&$P$2&\") When Barix(\"&$P$2&\",reference:=StartOfSession)=\"&A40&\"\", \"Bar\", \"\", \"Close\",\"5\",\"0\",\"All\",,,\"False\",\"T\",\"EveryTick\"))","v":{"$error":"#N/A"}},null,{"$f":"IF(D40=0,NA(),RTD(\"cqg.rtd\",,\"StudyData\", \"Close(\"&$R$2&\") When Barix(\"&$R$2&\",reference:=StartOfSession)=\"&A40&\"\", \"Bar\", \"\", \"Close\",\"5\",\"0\",\"All\",,,\"False\",\"T\",\"EveryTick\"))","v":{"$error":"#N/A"}},null,{"$f":"IF(D40=0,NA(),RTD(\"cqg.rtd\",,\"StudyData\", \"Close(\"&$T$2&\") When Barix(\"&$T$2&\",reference:=StartOfSession)=\"&A40&\"\", \"Bar\", \"\", \"Close\",\"5\",\"0\",\"All\",,,\"False\",\"T\",\"EveryTick\"))","v":{"$error":"#N/A"}},null,{"$f":"IF(D40=0,NA(),RTD(\"cqg.rtd\",,\"StudyData\", \"Close(\"&$V$2&\") When Barix(\"&$V$2&\",reference:=StartOfSession)=\"&A40&\"\", \"Bar\", \"\", \"Close\",\"5\",\"0\",\"All\",,,\"False\",\"T\",\"EveryTick\"))","v":{"$error":"#N/A"}},null,{"$f":"IF(D40=0,NA(),RTD(\"cqg.rtd\",,\"StudyData\", \"Close(\"&$X$2&\") When Barix(\"&$X$2&\",reference:=StartOfSession)=\"&A40&\"\", \"Bar\", \"\", \"Close\",\"5\",\"0\",\"All\",,,\"False\",\"T\",\"EveryTick\"))","v":{"$error":"#N/A"}},null,{"$f":"IF(D40=0,NA(),RTD(\"cqg.rtd\",,\"StudyData\", \"Close(\"&$Z$2&\") When Barix(\"&$Z$2&\",reference:=StartOfSession)=\"&A40&\"\", \"Bar\", \"\", \"Close\",\"5\",\"0\",\"All\",,,\"False\",\"T\",\"EveryTick\"))","v":{"$error":"#N/A"}},null,{"$f":"IF(D40=0,NA(),RTD(\"cqg.rtd\",,\"StudyData\", \"Close(\"&$AB$2&\") When Barix(\"&$AB$2&\",reference:=StartOfSession)=\"&A40&\"\", \"Bar\", \"\", \"Close\",\"5\",\"0\",\"All\",,,\"False\",\"T\",\"EveryTick\"))","v":{"$error":"#N/A"}},null,{"$f":"IF(D40=0,NA(),RTD(\"cqg.rtd\",,\"StudyData\", \"Close(\"&$AD$2&\") When Barix(\"&$AD$2&\",reference:=StartOfSession)=\"&A40&\"\", \"Bar\", \"\", \"Close\",\"5\",\"0\",\"All\",,,\"False\",\"T\",\"EveryTick\"))","v":{"$error":"#N/A"}},null,{"$f":"IF(D40=0,NA(),RTD(\"cqg.rtd\",,\"StudyData\", \"Close(\"&$AF$2&\") When Barix(\"&$AF$2&\",reference:=StartOfSession)=\"&A40&\"\", \"Bar\", \"\", \"Close\",\"5\",\"0\",\"All\",,,\"False\",\"T\",\"EveryTick\"))","v":{"$error":"#N/A"}},null,{"$f":"IF(D40=0,NA(),RTD(\"cqg.rtd\",,\"StudyData\", \"Close(\"&$AH$2&\") When Barix(\"&$AH$2&\",reference:=StartOfSession)=\"&A40&\"\", \"Bar\", \"\", \"Close\",\"5\",\"0\",\"All\",,,\"False\",\"T\",\"EveryTick\"))","v":{"$error":"#N/A"}},null,{"$f":"IF(D40=0,NA(),RTD(\"cqg.rtd\",,\"StudyData\", \"Close(\"&$AJ$2&\") When Barix(\"&$AJ$2&\",reference:=StartOfSession)=\"&A40&\"\", \"Bar\", \"\", \"Close\",\"5\",\"0\",\"All\",,,\"False\",\"T\",\"EveryTick\"))","v":{"$error":"#N/A"}},null,{"$f":"IF(D40=0,NA(),RTD(\"cqg.rtd\",,\"StudyData\", \"Close(\"&$AL$2&\") When Barix(\"&$AL$2&\",reference:=StartOfSession)=\"&A40&\"\", \"Bar\", \"\", \"Close\",\"5\",\"0\",\"All\",,,\"False\",\"T\",\"EveryTick\"))","v":{"$error":"#N/A"}},null,{"$f":"IF(D40=0,NA(),RTD(\"cqg.rtd\",,\"StudyData\", \"Close(\"&$AN$2&\") When Barix(\"&$AN$2&\",reference:=StartOfSession)=\"&A40&\"\", \"Bar\", \"\", \"Close\",\"5\",\"0\",\"All\",,,\"False\",\"T\",\"EveryTick\"))","v":{"$error":"#N/A"}},null,{"$f":"IF(D40=0,NA(),RTD(\"cqg.rtd\",,\"StudyData\", \"Close(\"&$AN$2&\") When Barix(\"&$AN$2&\",reference:=StartOfSession)=\"&A40&\"\", \"Bar\", \"\", \"Close\",\"5\",\"0\",\"All\",,,\"False\",\"T\",\"EveryTick\"))","v":{"$error":"#N/A"}},null,{"$f":"IF(D40=0,NA(),RTD(\"cqg.rtd\",,\"StudyData\", \"Close(\"&$AR$2&\") When Barix(\"&$AR$2&\",reference:=StartOfSession)=\"&A40&\"\", \"Bar\", \"\", \"Close\",\"5\",\"0\",\"All\",,,\"False\",\"T\",\"EveryTick\"))","v":{"$error":"#N/A"}},null,{"$f":"IF(D40=0,NA(),RTD(\"cqg.rtd\",,\"StudyData\", \"Close(\"&$AT$2&\") When Barix(\"&$AT$2&\",reference:=StartOfSession)=\"&A40&\"\", \"Bar\", \"\", \"Close\",\"5\",\"0\",\"All\",,,\"False\",\"T\",\"EveryTick\"))","v":{"$error":"#N/A"}},null,{"$f":"IF(D40=0,NA(),RTD(\"cqg.rtd\",,\"StudyData\", \"Close(\"&$AV$2&\") When Barix(\"&$AV$2&\",reference:=StartOfSession)=\"&A40&\"\", \"Bar\", \"\", \"Close\",\"5\",\"0\",\"All\",,,\"False\",\"T\",\"EveryTick\"))","v":{"$error":"#N/A"}},null,{"$f":"IF(D40=0,NA(),RTD(\"cqg.rtd\",,\"StudyData\", \"Close(\"&$AX$2&\") When Barix(\"&$AX$2&\",reference:=StartOfSession)=\"&A40&\"\", \"Bar\", \"\", \"Close\",\"5\",\"0\",\"All\",,,\"False\",\"T\",\"EveryTick\"))","v":{"$error":"#N/A"}},null,{"$f":"IF(D40=0,NA(),RTD(\"cqg.rtd\",,\"StudyData\", \"Close(\"&$AZ$2&\") When Barix(\"&$AZ$2&\",reference:=StartOfSession)=\"&A40&\"\", \"Bar\", \"\", \"Close\",\"5\",\"0\",\"All\",,,\"False\",\"T\",\"EveryTick\"))","v":{"$error":"#N/A"}},null,{"$f":"IF(D40=0,NA(),RTD(\"cqg.rtd\",,\"StudyData\", \"Close(\"&$BB$2&\") When Barix(\"&$BB$2&\",reference:=StartOfSession)=\"&A40&\"\", \"Bar\", \"\", \"Close\",\"5\",\"0\",\"All\",,,\"False\",\"T\",\"EveryTick\"))","v":{"$error":"#N/A"}},null,{"$f":"IF(D40=0,NA(),RTD(\"cqg.rtd\",,\"StudyData\", \"Close(\"&$BD$2&\") When Barix(\"&$BD$2&\",reference:=StartOfSession)=\"&A40&\"\", \"Bar\", \"\", \"Close\",\"5\",\"0\",\"All\",,,\"False\",\"T\",\"EveryTick\"))","v":{"$error":"#N/A"}},null,{"$f":"IF(D40=0,NA(),RTD(\"cqg.rtd\",,\"StudyData\", \"Close(\"&$BF$2&\") When Barix(\"&$BF$2&\",reference:=StartOfSession)=\"&A40&\"\", \"Bar\", \"\", \"Close\",\"5\",\"0\",\"All\",,,\"False\",\"T\",\"EveryTick\"))","v":{"$error":"#N/A"}},null,{"$f":"IF(D40=0,NA(),RTD(\"cqg.rtd\",,\"StudyData\", \"Close(\"&$BH$2&\") When Barix(\"&$BH$2&\",reference:=StartOfSession)=\"&A40&\"\", \"Bar\", \"\", \"Close\",\"5\",\"0\",\"All\",,,\"False\",\"T\",\"EveryTick\"))","v":{"$error":"#N/A"}},null,{"$f":"IF(D40=0,NA(),RTD(\"cqg.rtd\",,\"StudyData\", \"Close(\"&$BJ$2&\") When Barix(\"&$BJ$2&\",reference:=StartOfSession)=\"&A40&\"\", \"Bar\", \"\", \"Close\",\"5\",\"0\",\"All\",,,\"False\",\"T\",\"EveryTick\"))","v":{"$error":"#N/A"}},null,{"$f":"IF(D40=0,NA(),RTD(\"cqg.rtd\",,\"StudyData\", \"Close(\"&$BL$2&\") When Barix(\"&$BL$2&\",reference:=StartOfSession)=\"&A40&\"\", \"Bar\", \"\", \"Close\",\"5\",\"0\",\"All\",,,\"False\",\"T\",\"EveryTick\"))","v":{"$error":"#N/A"}},null,{"$f":"IF(D40=0,NA(),RTD(\"cqg.rtd\",,\"StudyData\", \"Close(\"&$BN$2&\") When Barix(\"&$BN$2&\",reference:=StartOfSession)=\"&A40&\"\", \"Bar\", \"\", \"Close\",\"5\",\"0\",\"All\",,,\"False\",\"T\",\"EveryTick\"))","v":{"$error":"#N/A"}},null,{"$f":"IF(D40=0,NA(),RTD(\"cqg.rtd\",,\"StudyData\", \"Close(\"&$BP$2&\") When Barix(\"&$BP$2&\",reference:=StartOfSession)=\"&A40&\"\", \"Bar\", \"\", \"Close\",\"5\",\"0\",\"All\",,,\"False\",\"T\",\"EveryTick\"))","v":{"$error":"#N/A"}},null,{"$f":"IF(D40=0,NA(),RTD(\"cqg.rtd\",,\"StudyData\", \"Close(\"&$BR$2&\") When Barix(\"&$BR$2&\",reference:=StartOfSession)=\"&A40&\"\", \"Bar\", \"\", \"Close\",\"5\",\"0\",\"All\",,,\"False\",\"T\",\"EveryTick\"))","v":{"$error":"#N/A"}},null,{"$f":"IF(D40=0,NA(),RTD(\"cqg.rtd\",,\"StudyData\", \"Close(\"&$BT$2&\") When Barix(\"&$BT$2&\",reference:=StartOfSession)=\"&A40&\"\", \"Bar\", \"\", \"Close\",\"5\",\"0\",\"All\",,,\"False\",\"T\",\"EveryTick\"))","v":{"$error":"#N/A"}},null,{"$f":"IF(D40=0,NA(),RTD(\"cqg.rtd\",,\"StudyData\", \"Close(\"&$BV$2&\") When Barix(\"&$BV$2&\",reference:=StartOfSession)=\"&A40&\"\", \"Bar\", \"\", \"Close\",\"5\",\"0\",\"All\",,,\"False\",\"T\",\"EveryTick\"))","v":{"$error":"#N/A"}},null,{"$f":"IF(D40=0,NA(),RTD(\"cqg.rtd\",,\"StudyData\", \"Close(\"&$BX$2&\") When Barix(\"&$BX$2&\",reference:=StartOfSession)=\"&A40&\"\", \"Bar\", \"\", \"Close\",\"5\",\"0\",\"All\",,,\"False\",\"T\",\"EveryTick\"))","v":{"$error":"#N/A"}},null,{"$f":"IF(D40=0,NA(),RTD(\"cqg.rtd\",,\"StudyData\", \"Close(\"&$BZ$2&\") When Barix(\"&$BZ$2&\",reference:=StartOfSession)=\"&A40&\"\", \"Bar\", \"\", \"Close\",\"5\",\"0\",\"All\",,,\"False\",\"T\",\"EveryTick\"))","v":{"$error":"#N/A"}}]
[37,{"$f":"IF(D41=0,NA(),RTD(\"cqg.rtd\",,\"StudyData\", \"Close(\"&$B$2&\") When Barix(\"&$B$2&\",reference:=StartOfSession)=\"&A41&\"\", \"Bar\", \"\", \"Close\",\"5\",\"0\",\"All\",,,\"False\",\"T\",\"EveryTick\"))","v":{"$error":"#N/A"}},"11:35:00",0,null,{"$f":"IF(D41=0,NA(),RTD(\"cqg.rtd\",,\"StudyData\", \"Close(\"&$F$2&\") When Barix(\"&$F$2&\",reference:=StartOfSession)=\"&A41&\"\", \"Bar\", \"\", \"Close\",\"5\",\"0\",\"All\",,,\"False\",\"T\",\"EveryTick\"))","v":{"$error":"#N/A"}},null,{"$f":"IF(D41=0,NA(),RTD(\"cqg.rtd\",,\"StudyData\", \"Close(\"&$H$2&\") When Barix(\"&$H$2&\",reference:=StartOfSession)=\"&A41&\"\", \"Bar\", \"\", \"Close\",\"5\",\"0\",\"All\",,,\"False\",\"T\",\"EveryTick\"))","v":{"$error":"#N/A"}},null,{"$f":"IF(D41=0,NA(),RTD(\"cqg.rtd\",,\"StudyData\", \"Close(\"&$J$2&\") When Barix(\"&$J$2&\",reference:=StartOfSession)=\"&A41&\"\", \"Bar\", \"\", \"Close\",\"5\",\"0\",\"All\",,,\"False\",\"T\",\"EveryTick\"))","v":{"$error":"#N/A"}},null,{"$f":"IF(D41=0,NA(),RTD(\"cqg.rtd\",,\"StudyData\", \"Close(\"&$L$2&\") When Barix(\"&$L$2&\",reference:=StartOfSession)=\"&A41&\"\", \"Bar\", \"\", \"Close\",\"5\",\"0\",\"All\",,,\"False\",\"T\",\"EveryTick\"))","v":{"$error":"#N/A"}},null,{"$f":"IF(D41=0,NA(),RTD(\"cqg.rtd\",,\"StudyData\", \"Close(\"&$N$2&\") When Barix(\"&$N$2&\",reference:=StartOfSession)=\"&A41&\"\", \"Bar\", \"\", \"Close\",\"5\",\"0\",\"All\",,,\"False\",\"T\",\"EveryTick\"))","v":{"$error":"#N/A"}},null,{"$f":"IF(D41=0,NA(),RTD(\"cqg.rtd\",,\"StudyData\", \"Close(\"&$P$2&\") When Barix(\"&$P$2&\",reference:=StartOfSession)=\"&A41&\"\", \"Bar\", \"\", \"Close\",\"5\",\"0\",\"All\",,,\"False\",\"T\",\"EveryTick\"))","v":{"$error":"#N/A"}},null,{"$f":"IF(D41=0,NA(),RTD(\"cqg.rtd\",,\"StudyData\", \"Close(\"&$R$2&\") When Barix(\"&$R$2&\",reference:=StartOfSession)=\"&A41&\"\", \"Bar\", \"\", \"Close\",\"5\",\"0\",\"All\",,,\"False\",\"T\",\"EveryTick\"))","v":{"$error":"#N/A"}},null,{"$f":"IF(D41=0,NA(),RTD(\"cqg.rtd\",,\"StudyData\", \"Close(\"&$T$2&\") When Barix(\"&$T$2&\",reference:=StartOfSession)=\"&A41&\"\", \"Bar\", \"\", \"Close\",\"5\",\"0\",\"All\",,,\"False\",\"T\",\"EveryTick\"))","v":{"$error":"#N/A"}},null,{"$f":"IF(D41=0,NA(),RTD(\"cqg.rtd\",,\"StudyData\", \"Close(\"&$V$2&\") When Barix(\"&$V$2&\",reference:=StartOfSession)=\"&A41&\"\", \"Bar\", \"\", \"Close\",\"5\",\"0\",\"All\",,,\"False\",\"T\",\"EveryTick\"))","v":{"$error":"#N/A"}},null,{"$f":"IF(D41=0,NA(),RTD(\"cqg.rtd\",,\"StudyData\", \"Close(\"&$X$2&\") When Barix(\"&$X$2&\",reference:=StartOfSession)=\"&A41&\"\", \"Bar\", \"\", \"Close\",\"5\",\"0\",\"All\",,,\"False\",\"T\",\"EveryTick\"))","v":{"$error":"#N/A"}},null,{"$f":"IF(D41=0,NA(),RTD(\"cqg.rtd\",,\"StudyData\", \"Close(\"&$Z$2&\") When Barix(\"&$Z$2&\",reference:=StartOfSession)=\"&A41&\"\", \"Bar\", \"\", \"Close\",\"5\",\"0\",\"All\",,,\"False\",\"T\",\"EveryTick\"))","v":{"$error":"#N/A"}},null,{"$f":"IF(D41=0,NA(),RTD(\"cqg.rtd\",,\"StudyData\", \"Close(\"&$AB$2&\") When Barix(\"&$AB$2&\",reference:=StartOfSession)=\"&A41&\"\", \"Bar\", \"\", \"Close\",\"5\",\"0\",\"All\",,,\"False\",\"T\",\"EveryTick\"))","v":{"$error":"#N/A"}},null,{"$f":"IF(D41=0,NA(),RTD(\"cqg.rtd\",,\"StudyData\", \"Close(\"&$AD$2&\") When Barix(\"&$AD$2&\",reference:=StartOfSession)=\"&A41&\"\", \"Bar\", \"\", \"Close\",\"5\",\"0\",\"All\",,,\"False\",\"T\",\"EveryTick\"))","v":{"$error":"#N/A"}},null,{"$f":"IF(D41=0,NA(),RTD(\"cqg.rtd\",,\"StudyData\", \"Close(\"&$AF$2&\") When Barix(\"&$AF$2&\",reference:=StartOfSession)=\"&A41&\"\", \"Bar\", \"\", \"Close\",\"5\",\"0\",\"All\",,,\"False\",\"T\",\"EveryTick\"))","v":{"$error":"#N/A"}},null,{"$f":"IF(D41=0,NA(),RTD(\"cqg.rtd\",,\"StudyData\", \"Close(\"&$AH$2&\") When Barix(\"&$AH$2&\",reference:=StartOfSession)=\"&A41&\"\", \"Bar\", \"\", \"Close\",\"5\",\"0\",\"All\",,,\"False\",\"T\",\"EveryTick\"))","v":{"$error":"#N/A"}},null,{"$f":"IF(D41=0,NA(),RTD(\"cqg.rtd\",,\"StudyData\", \"Close(\"&$AJ$2&\") When Barix(\"&$AJ$2&\",reference:=StartOfSession)=\"&A41&\"\", \"Bar\", \"\", \"Close\",\"5\",\"0\",\"All\",,,\"False\",\"T\",\"EveryTick\"))","v":{"$error":"#N/A"}},null,{"$f":"IF(D41=0,NA(),RTD(\"cqg.rtd\",,\"StudyData\", \"Close(\"&$AL$2&\") When Barix(\"&$AL$2&\",reference:=StartOfSession)=\"&A41&\"\", \"Bar\", \"\", \"Close\",\"5\",\"0\",\"All\",,,\"False\",\"T\",\"EveryTick\"))","v":{"$error":"#N/A"}},null,{"$f":"IF(D41=0,NA(),RTD(\"cqg.rtd\",,\"StudyData\", \"Close(\"&$AN$2&\") When Barix(\"&$AN$2&\",reference:=StartOfSession)=\"&A41&\"\", \"Bar\", \"\", \"Close\",\"5\",\"0\",\"All\",,,\"False\",\"T\",\"EveryTick\"))","v":{"$error":"#N/A"}},null,{"$f":"IF(D41=0,NA(),RTD(\"cqg.rtd\",,\"StudyData\", \"Close(\"&$AN$2&\") When Barix(\"&$AN$2&\",reference:=StartOfSession)=\"&A41&\"\", \"Bar\", \"\", \"Close\",\"5\",\"0\",\"All\",,,\"False\",\"T\",\"EveryTick\"))","v":{"$error":"#N/A"}},null,{"$f":"IF(D41=0,NA(),RTD(\"cqg.rtd\",,\"StudyData\", \"Close(\"&$AR$2&\") When Barix(\"&$AR$2&\",reference:=StartOfSession)=\"&A41&\"\", \"Bar\", \"\", \"Close\",\"5\",\"0\",\"All\",,,\"False\",\"T\",\"EveryTick\"))","v":{"$error":"#N/A"}},null,{"$f":"IF(D41=0,NA(),RTD(\"cqg.rtd\",,\"StudyData\", \"Close(\"&$AT$2&\") When Barix(\"&$AT$2&\",reference:=StartOfSession)=\"&A41&\"\", \"Bar\", \"\", \"Close\",\"5\",\"0\",\"All\",,,\"False\",\"T\",\"EveryTick\"))","v":{"$error":"#N/A"}},null,{"$f":"IF(D41=0,NA(),RTD(\"cqg.rtd\",,\"StudyData\", \"Close(\"&$AV$2&\") When Barix(\"&$AV$2&\",reference:=StartOfSession)=\"&A41&\"\", \"Bar\", \"\", \"Close\",\"5\",\"0\",\"All\",,,\"False\",\"T\",\"EveryTick\"))","v":{"$error":"#N/A"}},null,{"$f":"IF(D41=0,NA(),RTD(\"cqg.rtd\",,\"StudyData\", \"Close(\"&$AX$2&\") When Barix(\"&$AX$2&\",reference:=StartOfSession)=\"&A41&\"\", \"Bar\", \"\", \"Close\",\"5\",\"0\",\"All\",,,\"False\",\"T\",\"EveryTick\"))","v":{"$error":"#N/A"}},null,{"$f":"IF(D41=0,NA(),RTD(\"cqg.rtd\",,\"StudyData\", \"Close(\"&$AZ$2&\") When Barix(\"&$AZ$2&\",reference:=StartOfSession)=\"&A41&\"\", \"Bar\", \"\", \"Close\",\"5\",\"0\",\"All\",,,\"False\",\"T\",\"EveryTick\"))","v":{"$error":"#N/A"}},null,{"$f":"IF(D41=0,NA(),RTD(\"cqg.rtd\",,\"StudyData\", \"Close(\"&$BB$2&\") When Barix(\"&$BB$2&\",reference:=StartOfSession)=\"&A41&\"\", \"Bar\", \"\", \"Close\",\"5\",\"0\",\"All\",,,\"False\",\"T\",\"EveryTick\"))","v":{"$error":"#N/A"}},null,{"$f":"IF(D41=0,NA(),RTD(\"cqg.rtd\",,\"StudyData\", \"Close(\"&$BD$2&\") When Barix(\"&$BD$2&\",reference:=StartOfSession)=\"&A41&\"\", \"Bar\", \"\", \"Close\",\"5\",\"0\",\"All\",,,\"False\",\"T\",\"EveryTick\"))","v":{"$error":"#N/A"}},null,{"$f":"IF(D41=0,NA(),RTD(\"cqg.rtd\",,\"StudyData\", \"Close(\"&$BF$2&\") When Barix(\"&$BF$2&\",reference:=StartOfSession)=\"&A41&\"\", \"Bar\", \"\", \"Close\",\"5\",\"0\",\"All\",,,\"False\",\"T\",\"EveryTick\"))","v":{"$error":"#N/A"}},null,{"$f":"IF(D41=0,NA(),RTD(\"cqg.rtd\",,\"StudyData\", \"Close(\"&$BH$2&\") When Barix(\"&$BH$2&\",reference:=StartOfSession)=\"&A41&\"\", \"Bar\", \"\", \"Close\",\"5\",\"0\",\"All\",,,\"False\",\"T\",\"EveryTick\"))","v":{"$error":"#N/A"}},null,{"$f":"IF(D41=0,NA(),RTD(\"cqg.rtd\",,\"StudyData\", \"Close(\"&$BJ$2&\") When Barix(\"&$BJ$2&\",reference:=StartOfSession)=\"&A41&\"\", \"Bar\", \"\", \"Close\",\"5\",\"0\",\"All\",,,\"False\",\"T\",\"EveryTick\"))","v":{"$error":"#N/A"}},null,{"$f":"IF(D41=0,NA(),RTD(\"cqg.rtd\",,\"StudyData\", \"Close(\"&$BL$2&\") When Barix(\"&$BL$2&\",reference:=StartOfSession)=\"&A41&\"\", \"Bar\", \"\", \"Close\",\"5\",\"0\",\"All\",,,\"False\",\"T\",\"EveryTick\"))","v":{"$error":"#N/A"}},null,{"$f":"IF(D41=0,NA(),RTD(\"cqg.rtd\",,\"StudyData\", \"Close(\"&$BN$2&\") When Barix(\"&$BN$2&\",reference:=StartOfSession)=\"&A41&\"\", \"Bar\", \"\", \"Close\",\"5\",\"0\",\"All\",,,\"False\",\"T\",\"EveryTick\"))","v":{"$error":"#N/A"}},null,{"$f":"IF(D41=0,NA(),RTD(\"cqg.rtd\",,\"StudyData\", \"Close(\"&$BP$2&\") When Barix(\"&$BP$2&\",reference:=StartOfSession)=\"&A41&\"\", \"Bar\", \"\", \"Close\",\"5\",\"0\",\"All\",,,\"False\",\"T\",\"EveryTick\"))","v":{"$error":"#N/A"}},null,{"$f":"IF(D41=0,NA(),RTD(\"cqg.rtd\",,\"StudyData\", \"Close(\"&$BR$2&\") When Barix(\"&$BR$2&\",reference:=StartOfSession)=\"&A41&\"\", \"Bar\", \"\", \"Close\",\"5\",\"0\",\"All\",,,\"False\",\"T\",\"EveryTick\"))","v":{"$error":"#N/A"}},null,{"$f":"IF(D41=0,NA(),RTD(\"cqg.rtd\",,\"StudyData\", \"Close(\"&$BT$2&\") When Barix(\"&$BT$2&\",reference:=StartOfSession)=\"&A41&\"\", \"Bar\", \"\", \"Close\",\"5\",\"0\",\"All\",,,\"False\",\"T\",\"EveryTick\"))","v":{"$error":"#N/A"}},null,{"$f":"IF(D41=0,NA(),RTD(\"cqg.rtd\",,\"StudyData\", \"Close(\"&$BV$2&\") When Barix(\"&$BV$2&\",reference:=StartOfSession)=\"&A41&\"\", \"Bar\", \"\", \"Close\",\"5\",\"0\",\"All\",,,\"False\",\"T\",\"EveryTick\"))","v":{"$error":"#N/A"}},null,{"$f":"IF(D41=0,NA(),RTD(\"cqg.rtd\",,\"StudyData\", \"Close(\"&$BX$2&\") When Barix(\"&$BX$2&\",reference:=StartOfSession)=\"&A41&\"\", \"Bar\", \"\", \"Close\",\"5\",\"0\",\"All\",,,\"False\",\"T\",\"EveryTick\"))","v":{"$error":"#N/A"}},null,{"$f":"IF(D41=0,NA(),RTD(\"cqg.rtd\",,\"StudyData\", \"Close(\"&$BZ$2&\") When Barix(\"&$BZ$2&\",reference:=StartOfSession)=\"&A41&\"\", \"Bar\", \"\", \"Close\",\"5\",\"0\",\"All\",,,\"False\",\"T\",\"EveryTick\"))","v":{"$error":"#N/A"}}]
[38,{"$f":"IF(D42=0,NA(),RTD(\"cqg.rtd\",,\"StudyData\", \"Close(\"&$B$2&\") When Barix(\"&$B$2&\",reference:=StartOfSession)=\"&A42&\"\", \"Bar\", \"\", \"Close\",\"5\",\"0\",\"All\",,,\"False\",\"T\",\"EveryTick\"))","v":{"$error":"#N/A"}},"11:40:00",0,null,{"$f":"IF(D42=0,NA(),RTD(\"cqg.rtd\",,\"StudyData\", \"Close(\"&$F$2&\") When Barix(\"&$F$2&\",reference:=StartOfSession)=\"&A42&\"\", \"Bar\", \"\", \"Close\",\"5\",\"0\",\"All\",,,\"False\",\"T\",\"EveryTick\"))","v":{"$error":"#N/A"}},null,{"$f":"IF(D42=0,NA(),RTD(\"cqg.rtd\",,\"StudyData\", \"Close(\"&$H$2&\") When Barix(\"&$H$2&\",reference:=StartOfSession)=\"&A42&\"\", \"Bar\", \"\", \"Close\",\"5\",\"0\",\"All\",,,\"False\",\"T\",\"EveryTick\"))","v":{"$error":"#N/A"}},null,{"$f":"IF(D42=0,NA(),RTD(\"cqg.rtd\",,\"StudyData\", \"Close(\"&$J$2&\") When Barix(\"&$J$2&\",reference:=StartOfSession)=\"&A42&\"\", \"Bar\", \"\", \"Close\",\"5\",\"0\",\"All\",,,\"False\",\"T\",\"EveryTick\"))","v":{"$error":"#N/A"}},null,{"$f":"IF(D42=0,NA(),RTD(\"cqg.rtd\",,\"StudyData\", \"Close(\"&$L$2&\") When Barix(\"&$L$2&\",reference:=StartOfSession)=\"&A42&\"\", \"Bar\", \"\", \"Close\",\"5\",\"0\",\"All\",,,\"False\",\"T\",\"EveryTick\"))","v":{"$error":"#N/A"}},null,{"$f":"IF(D42=0,NA(),RTD(\"cqg.rtd\",,\"StudyData\", \"Close(\"&$N$2&\") When Barix(\"&$N$2&\",reference:=StartOfSession)=\"&A42&\"\", \"Bar\", \"\", \"Close\",\"5\",\"0\",\"All\",,,\"False\",\"T\",\"EveryTick\"))","v":{"$error":"#N/A"}},null,{"$f":"IF(D42=0,NA(),RTD(\"cqg.rtd\",,\"StudyData\", \"Close(\"&$P$2&\") When Barix(\"&$P$2&\",reference:=StartOfSession)=\"&A42&\"\", \"Bar\", \"\", \"Close\",\"5\",\"0\",\"All\",,,\"False\",\"T\",\"EveryTick\"))","v":{"$error":"#N/A"}},null,{"$f":"IF(D42=0,NA(),RTD(\"cqg.rtd\",,\"StudyData\", \"Close(\"&$R$2&\") When Barix(\"&$R$2&\",reference:=StartOfSession)=\"&A42&\"\", \"Bar\", \"\", \"Close\",\"5\",\"0\",\"All\",,,\"False\",\"T\",\"EveryTick\"))","v":{"$error":"#N/A"}},null,{"$f":"IF(D42=0,NA(),RTD(\"cqg.rtd\",,\"StudyData\", \"Close(\"&$T$2&\") When Barix(\"&$T$2&\",reference:=StartOfSession)=\"&A42&\"\", \"Bar\", \"\", \"Close\",\"5\",\"0\",\"All\",,,\"False\",\"T\",\"EveryTick\"))","v":{"$error":"#N/A"}},null,{"$f":"IF(D42=0,NA(),RTD(\"cqg.rtd\",,\"StudyData\", \"Close(\"&$V$2&\") When Barix(\"&$V$2&\",reference:=StartOfSession)=\"&A42&\"\", \"Bar\", \"\", \"Close\",\"5\",\"0\",\"All\",,,\"False\",\"T\",\"EveryTick\"))","v":{"$error":"#N/A"}},null,{"$f":"IF(D42=0,NA(),RTD(\"cqg.rtd\",,\"StudyData\", \"Close(\"&$X$2&\") When Barix(\"&$X$2&\",reference:=StartOfSession)=\"&A42&\"\", \"Bar\", \"\", \"Close\",\"5\",\"0\",\"All\",,,\"False\",\"T\",\"EveryTick\"))","v":{"$error":"#N/A"}},null,{"$f":"IF(D42=0,NA(),RTD(\"cqg.rtd\",,\"StudyData\", \"Close(\"&$Z$2&\") When Barix(\"&$Z$2&\",reference:=StartOfSession)=\"&A42&\"\", \"Bar\", \"\", \"Close\",\"5\",\"0\",\"All\",,,\"False\",\"T\",\"EveryTick\"))","v":{"$error":"#N/A"}},null,{"$f":"IF(D42=0,NA(),RTD(\"cqg.rtd\",,\"StudyData\", \"Close(\"&$AB$2&\") When Barix(\"&$AB$2&\",reference:=StartOfSession)=\"&A42&\"\", \"Bar\", \"\", \"Close\",\"5\",\"0\",\"All\",,,\"False\",\"T\",\"EveryTick\"))","v":{"$error":"#N/A"}},null,{"$f":"IF(D42=0,NA(),RTD(\"cqg.rtd\",,\"StudyData\", \"Close(\"&$AD$2&\") When Barix(\"&$AD$2&\",reference:=StartOfSession)=\"&A42&\"\", \"Bar\", \"\", \"Close\",\"5\",\"0\",\"All\",,,\"False\",\"T\",\"EveryTick\"))","v":{"$error":"#N/A"}},null,{"$f":"IF(D42=0,NA(),RTD(\"cqg.rtd\",,\"StudyData\", \"Close(\"&$AF$2&\") When Barix(\"&$AF$2&\",reference:=StartOfSession)=\"&A42&\"\", \"Bar\", \"\", \"Close\",\"5\",\"0\",\"All\",,,\"False\",\"T\",\"EveryTick\"))","v":{"$error":"#N/A"}},null,{"$f":"IF(D42=0,NA(),RTD(\"cqg.rtd\",,\"StudyData\", \"Close(\"&$AH$2&\") When Barix(\"&$AH$2&\",reference:=StartOfSession)=\"&A42&\"\", \"Bar\", \"\", \"Close\",\"5\",\"0\",\"All\",,,\"False\",\"T\",\"EveryTick\"))","v":{"$error":"#N/A"}},null,{"$f":"IF(D42=0,NA(),RTD(\"cqg.rtd\",,\"StudyData\", \"Close(\"&$AJ$2&\") When Barix(\"&$AJ$2&\",reference:=StartOfSession)=\"&A42&\"\", \"Bar\", \"\", \"Close\",\"5\",\"0\",\"All\",,,\"False\",\"T\",\"EveryTick\"))","v":{"$error":"#N/A"}},null,{"$f":"IF(D42=0,NA(),RTD(\"cqg.rtd\",,\"StudyData\", \"Close(\"&$AL$2&\") When Barix(\"&$AL$2&\",reference:=StartOfSession)=\"&A42&\"\", \"Bar\", \"\", \"Close\",\"5\",\"0\",\"All\",,,\"False\",\"T\",\"EveryTick\"))","v":{"$error":"#N/A"}},null,{"$f":"IF(D42=0,NA(),RTD(\"cqg.rtd\",,\"StudyData\", \"Close(\"&$AN$2&\") When Barix(\"&$AN$2&\",reference:=StartOfSession)=\"&A42&\"\", \"Bar\", \"\", \"Close\",\"5\",\"0\",\"All\",,,\"False\",\"T\",\"EveryTick\"))","v":{"$error":"#N/A"}},null,{"$f":"IF(D42=0,NA(),RTD(\"cqg.rtd\",,\"StudyData\", \"Close(\"&$AN$2&\") When Barix(\"&$AN$2&\",reference:=StartOfSession)=\"&A42&\"\", \"Bar\", \"\", \"Close\",\"5\",\"0\",\"All\",,,\"False\",\"T\",\"EveryTick\"))","v":{"$error":"#N/A"}},null,{"$f":"IF(D42=0,NA(),RTD(\"cqg.rtd\",,\"StudyData\", \"Close(\"&$AR$2&\") When Barix(\"&$AR$2&\",reference:=StartOfSession)=\"&A42&\"\", \"Bar\", \"\", \"Close\",\"5\",\"0\",\"All\",,,\"False\",\"T\",\"EveryTick\"))","v":{"$error":"#N/A"}},null,{"$f":"IF(D42=0,NA(),RTD(\"cqg.rtd\",,\"StudyData\", \"Close(\"&$AT$2&\") When Barix(\"&$AT$2&\",reference:=StartOfSession)=\"&A42&\"\", \"Bar\", \"\", \"Close\",\"5\",\"0\",\"All\",,,\"False\",\"T\",\"EveryTick\"))","v":{"$error":"#N/A"}},null,{"$f":"IF(D42=0,NA(),RTD(\"cqg.rtd\",,\"StudyData\", \"Close(\"&$AV$2&\") When Barix(\"&$AV$2&\",reference:=StartOfSession)=\"&A42&\"\", \"Bar\", \"\", \"Close\",\"5\",\"0\",\"All\",,,\"False\",\"T\",\"EveryTick\"))","v":{"$error":"#N/A"}},null,{"$f":"IF(D42=0,NA(),RTD(\"cqg.rtd\",,\"StudyData\", \"Close(\"&$AX$2&\") When Barix(\"&$AX$2&\",reference:=StartOfSession)=\"&A42&\"\", \"Bar\", \"\", \"Close\",\"5\",\"0\",\"All\",,,\"False\",\"T\",\"EveryTick\"))","v":{"$error":"#N/A"}},null,{"$f":"IF(D42=0,NA(),RTD(\"cqg.rtd\",,\"StudyData\", \"Close(\"&$AZ$2&\") When Barix(\"&$AZ$2&\",reference:=StartOfSession)=\"&A42&\"\", \"Bar\", \"\", \"Close\",\"5\",\"0\",\"All\",,,\"False\",\"T\",\"EveryTick\"))","v":{"$error":"#N/A"}},null,{"$f":"IF(D42=0,NA(),RTD(\"cqg.rtd\",,\"StudyData\", \"Close(\"&$BB$2&\") When Barix(\"&$BB$2&\",reference:=StartOfSession)=\"&A42&\"\", \"Bar\", \"\", \"Close\",\"5\",\"0\",\"All\",,,\"False\",\"T\",\"EveryTick\"))","v":{"$error":"#N/A"}},null,{"$f":"IF(D42=0,NA(),RTD(\"cqg.rtd\",,\"StudyData\", \"Close(\"&$BD$2&\") When Barix(\"&$BD$2&\",reference:=StartOfSession)=\"&A42&\"\", \"Bar\", \"\", \"Close\",\"5\",\"0\",\"All\",,,\"False\",\"T\",\"EveryTick\"))","v":{"$error":"#N/A"}},null,{"$f":"IF(D42=0,NA(),RTD(\"cqg.rtd\",,\"StudyData\", \"Close(\"&$BF$2&\") When Barix(\"&$BF$2&\",reference:=StartOfSession)=\"&A42&\"\", \"Bar\", \"\", \"Close\",\"5\",\"0\",\"All\",,,\"False\",\"T\",\"EveryTick\"))","v":{"$error":"#N/A"}},null,{"$f":"IF(D42=0,NA(),RTD(\"cqg.rtd\",,\"StudyData\", \"Close(\"&$BH$2&\") When Barix(\"&$BH$2&\",reference:=StartOfSession)=\"&A42&\"\", \"Bar\", \"\", \"Close\",\"5\",\"0\",\"All\",,,\"False\",\"T\",\"EveryTick\"))","v":{"$error":"#N/A"}},null,{"$f":"IF(D42=0,NA(),RTD(\"cqg.rtd\",,\"StudyData\", \"Close(\"&$BJ$2&\") When Barix(\"&$BJ$2&\",reference:=StartOfSession)=\"&A42&\"\", \"Bar\", \"\", \"Close\",\"5\",\"0\",\"All\",,,\"False\",\"T\",\"EveryTick\"))","v":{"$error":"#N/A"}},null,{"$f":"IF(D42=0,NA(),RTD(\"cqg.rtd\",,\"StudyData\", \"Close(\"&$BL$2&\") When Barix(\"&$BL$2&\",reference:=StartOfSession)=\"&A42&\"\", \"Bar\", \"\", \"Close\",\"5\",\"0\",\"All\",,,\"False\",\"T\",\"EveryTick\"))","v":{"$error":"#N/A"}},null,{"$f":"IF(D42=0,NA(),RTD(\"cqg.rtd\",,\"StudyData\", \"Close(\"&$BN$2&\") When Barix(\"&$BN$2&\",reference:=StartOfSession)=\"&A42&\"\", \"Bar\", \"\", \"Close\",\"5\",\"0\",\"All\",,,\"False\",\"T\",\"EveryTick\"))","v":{"$error":"#N/A"}},null,{"$f":"IF(D42=0,NA(),RTD(\"cqg.rtd\",,\"StudyData\", \"Close(\"&$BP$2&\") When Barix(\"&$BP$2&\",reference:=StartOfSession)=\"&A42&\"\", \"Bar\", \"\", \"Close\",\"5\",\"0\",\"All\",,,\"False\",\"T\",\"EveryTick\"))","v":{"$error":"#N/A"}},null,{"$f":"IF(D42=0,NA(),RTD(\"cqg.rtd\",,\"StudyData\", \"Close(\"&$BR$2&\") When Barix(\"&$BR$2&\",reference:=StartOfSession)=\"&A42&\"\", \"Bar\", \"\", \"Close\",\"5\",\"0\",\"All\",,,\"False\",\"T\",\"EveryTick\"))","v":{"$error":"#N/A"}},null,{"$f":"IF(D42=0,NA(),RTD(\"cqg.rtd\",,\"StudyData\", \"Close(\"&$BT$2&\") When Barix(\"&$BT$2&\",reference:=StartOfSession)=\"&A42&\"\", \"Bar\", \"\", \"Close\",\"5\",\"0\",\"All\",,,\"False\",\"T\",\"EveryTick\"))","v":{"$error":"#N/A"}},null,{"$f":"IF(D42=0,NA(),RTD(\"cqg.rtd\",,\"StudyData\", \"Close(\"&$BV$2&\") When Barix(\"&$BV$2&\",reference:=StartOfSession)=\"&A42&\"\", \"Bar\", \"\", \"Close\",\"5\",\"0\",\"All\",,,\"False\",\"T\",\"EveryTick\"))","v":{"$error":"#N/A"}},null,{"$f":"IF(D42=0,NA(),RTD(\"cqg.rtd\",,\"StudyData\", \"Close(\"&$BX$2&\") When Barix(\"&$BX$2&\",reference:=StartOfSession)=\"&A42&\"\", \"Bar\", \"\", \"Close\",\"5\",\"0\",\"All\",,,\"False\",\"T\",\"EveryTick\"))","v":{"$error":"#N/A"}},null,{"$f":"IF(D42=0,NA(),RTD(\"cqg.rtd\",,\"StudyData\", \"Close(\"&$BZ$2&\") When Barix(\"&$BZ$2&\",reference:=StartOfSession)=\"&A42&\"\", \"Bar\", \"\", \"Close\",\"5\",\"0\",\"All\",,,\"False\",\"T\",\"EveryTick\"))","v":{"$error":"#N/A"}}]
[39,{"$f":"IF(D43=0,NA(),RTD(\"cqg.rtd\",,\"StudyData\", \"Close(\"&$B$2&\") When Barix(\"&$B$2&\",reference:=StartOfSession)=\"&A43&\"\", \"Bar\", \"\", \"Close\",\"5\",\"0\",\"All\",,,\"False\",\"T\",\"EveryTick\"))","v":{"$error":"#N/A"}},"11:45:00",0,null,{"$f":"IF(D43=0,NA(),RTD(\"cqg.rtd\",,\"StudyData\", \"Close(\"&$F$2&\") When Barix(\"&$F$2&\",reference:=StartOfSession)=\"&A43&\"\", \"Bar\", \"\", \"Close\",\"5\",\"0\",\"All\",,,\"False\",\"T\",\"EveryTick\"))","v":{"$error":"#N/A"}},null,{"$f":"IF(D43=0,NA(),RTD(\"cqg.rtd\",,\"StudyData\", \"Close(\"&$H$2&\") When Barix(\"&$H$2&\",reference:=StartOfSession)=\"&A43&\"\", \"Bar\", \"\", \"Close\",\"5\",\"0\",\"All\",,,\"False\",\"T\",\"EveryTick\"))","v":{"$error":"#N/A"}},null,{"$f":"IF(D43=0,NA(),RTD(\"cqg.rtd\",,\"StudyData\", \"Close(\"&$J$2&\") When Barix(\"&$J$2&\",reference:=StartOfSession)=\"&A43&\"\", \"Bar\", \"\", \"Close\",\"5\",\"0\",\"All\",,,\"False\",\"T\",\"EveryTick\"))","v":{"$error":"#N/A"}},null,{"$f":"IF(D43=0,NA(),RTD(\"cqg.rtd\",,\"StudyData\", \"Close(\"&$L$2&\") When Barix(\"&$L$2&\",reference:=StartOfSession)=\"&A43&\"\", \"Bar\", \"\", \"Close\",\"5\",\"0\",\"All\",,,\"False\",\"T\",\"EveryTick\"))","v":{"$error":"#N/A"}},null,{"$f":"IF(D43=0,NA(),RTD(\"cqg.rtd\",,\"StudyData\", \"Close(\"&$N$2&\") When Barix(\"&$N$2&\",reference:=StartOfSession)=\"&A43&\"\", \"Bar\", \"\", \"Close\",\"5\",\"0\",\"All\",,,\"False\",\"T\",\"EveryTick\"))","v":{"$error":"#N/A"}},null,{"$f":"IF(D43=0,NA(),RTD(\"cqg.rtd\",,\"StudyData\", \"Close(\"&$P$2&\") When Barix(\"&$P$2&\",reference:=StartOfSession)=\"&A43&\"\", \"Bar\", \"\", \"Close\",\"5\",\"0\",\"All\",,,\"False\",\"T\",\"EveryTick\"))","v":{"$error":"#N/A"}},null,{"$f":"IF(D43=0,NA(),RTD(\"cqg.rtd\",,\"StudyData\", \"Close(\"&$R$2&\") When Barix(\"&$R$2&\",reference:=StartOfSession)=\"&A43&\"\", \"Bar\", \"\", \"Close\",\"5\",\"0\",\"All\",,,\"False\",\"T\",\"EveryTick\"))","v":{"$error":"#N/A"}},null,{"$f":"IF(D43=0,NA(),RTD(\"cqg.rtd\",,\"StudyData\", \"Close(\"&$T$2&\") When Barix(\"&$T$2&\",reference:=StartOfSession)=\"&A43&\"\", \"Bar\", \"\", \"Close\",\"5\",\"0\",\"All\",,,\"False\",\"T\",\"EveryTick\"))","v":{"$error":"#N/A"}},null,{"$f":"IF(D43=0,NA(),RTD(\"cqg.rtd\",,\"StudyData\", \"Close(\"&$V$2&\") When Barix(\"&$V$2&\",reference:=StartOfSession)=\"&A43&\"\", \"Bar\", \"\", \"Close\",\"5\",\"0\",\"All\",,,\"False\",\"T\",\"EveryTick\"))","v":{"$error":"#N/A"}},null,{"$f":"IF(D43=0,NA(),RTD(\"cqg.rtd\",,\"StudyData\", \"Close(\"&$X$2&\") When Barix(\"&$X$2&\",reference:=StartOfSession)=\"&A43&\"\", \"Bar\", \"\", \"Close\",\"5\",\"0\",\"All\",,,\"False\",\"T\",\"EveryTick\"))","v":{"$error":"#N/A"}},null,{"$f":"IF(D43=0,NA(),RTD(\"cqg.rtd\",,\"StudyData\", \"Close(\"&$Z$2&\") When Barix(\"&$Z$2&\",reference:=StartOfSession)=\"&A43&\"\", \"Bar\", \"\", \"Close\",\"5\",\"0\",\"All\",,,\"False\",\"T\",\"EveryTick\"))","v":{"$error":"#N/A"}},null,{"$f":"IF(D43=0,NA(),RTD(\"cqg.rtd\",,\"StudyData\", \"Close(\"&$AB$2&\") When Barix(\"&$AB$2&\",reference:=StartOfSession)=\"&A43&\"\", \"Bar\", \"\", \"Close\",\"5\",\"0\",\"All\",,,\"False\",\"T\",\"EveryTick\"))","v":{"$error":"#N/A"}},null,{"$f":"IF(D43=0,NA(),RTD(\"cqg.rtd\",,\"StudyData\", \"Close(\"&$AD$2&\") When Barix(\"&$AD$2&\",reference:=StartOfSession)=\"&A43&\"\", \"Bar\", \"\", \"Close\",\"5\",\"0\",\"All\",,,\"False\",\"T\",\"EveryTick\"))","v":{"$error":"#N/A"}},null,{"$f":"IF(D43=0,NA(),RTD(\"cqg.rtd\",,\"StudyData\", \"Close(\"&$AF$2&\") When Barix(\"&$AF$2&\",reference:=StartOfSession)=\"&A43&\"\", \"Bar\", \"\", \"Close\",\"5\",\"0\",\"All\",,,\"False\",\"T\",\"EveryTick\"))","v":{"$error":"#N/A"}},null,{"$f":"IF(D43=0,NA(),RTD(\"cqg.rtd\",,\"StudyData\", \"Close(\"&$AH$2&\") When Barix(\"&$AH$2&\",reference:=StartOfSession)=\"&A43&\"\", \"Bar\", \"\", \"Close\",\"5\",\"0\",\"All\",,,\"False\",\"T\",\"EveryTick\"))","v":{"$error":"#N/A"}},null,{"$f":"IF(D43=0,NA(),RTD(\"cqg.rtd\",,\"StudyData\", \"Close(\"&$AJ$2&\") When Barix(\"&$AJ$2&\",reference:=StartOfSession)=\"&A43&\"\", \"Bar\", \"\", \"Close\",\"5\",\"0\",\"All\",,,\"False\",\"T\",\"EveryTick\"))","v":{"$error":"#N/A"}},null,{"$f":"IF(D43=0,NA(),RTD(\"cqg.rtd\",,\"StudyData\", \"Close(\"&$AL$2&\") When Barix(\"&$AL$2&\",reference:=StartOfSession)=\"&A43&\"\", \"Bar\", \"\", \"Close\",\"5\",\"0\",\"All\",,,\"False\",\"T\",\"EveryTick\"))","v":{"$error":"#N/A"}},null,{"$f":"IF(D43=0,NA(),RTD(\"cqg.rtd\",,\"StudyData\", \"Close(\"&$AN$2&\") When Barix(\"&$AN$2&\",reference:=StartOfSession)=\"&A43&\"\", \"Bar\", \"\", \"Close\",\"5\",\"0\",\"All\",,,\"False\",\"T\",\"EveryTick\"))","v":{"$error":"#N/A"}},null,{"$f":"IF(D43=0,NA(),RTD(\"cqg.rtd\",,\"StudyData\", \"Close(\"&$AN$2&\") When Barix(\"&$AN$2&\",reference:=StartOfSession)=\"&A43&\"\", \"Bar\", \"\", \"Close\",\"5\",\"0\",\"All\",,,\"False\",\"T\",\"EveryTick\"))","v":{"$error":"#N/A"}},null,{"$f":"IF(D43=0,NA(),RTD(\"cqg.rtd\",,\"StudyData\", \"Close(\"&$AR$2&\") When Barix(\"&$AR$2&\",reference:=StartOfSession)=\"&A43&\"\", \"Bar\", \"\", \"Close\",\"5\",\"0\",\"All\",,,\"False\",\"T\",\"EveryTick\"))","v":{"$error":"#N/A"}},null,{"$f":"IF(D43=0,NA(),RTD(\"cqg.rtd\",,\"StudyData\", \"Close(\"&$AT$2&\") When Barix(\"&$AT$2&\",reference:=StartOfSession)=\"&A43&\"\", \"Bar\", \"\", \"Close\",\"5\",\"0\",\"All\",,,\"False\",\"T\",\"EveryTick\"))","v":{"$error":"#N/A"}},null,{"$f":"IF(D43=0,NA(),RTD(\"cqg.rtd\",,\"StudyData\", \"Close(\"&$AV$2&\") When Barix(\"&$AV$2&\",reference:=StartOfSession)=\"&A43&\"\", \"Bar\", \"\", \"Close\",\"5\",\"0\",\"All\",,,\"False\",\"T\",\"EveryTick\"))","v":{"$error":"#N/A"}},null,{"$f":"IF(D43=0,NA(),RTD(\"cqg.rtd\",,\"StudyData\", \"Close(\"&$AX$2&\") When Barix(\"&$AX$2&\",reference:=StartOfSession)=\"&A43&\"\", \"Bar\", \"\", \"Close\",\"5\",\"0\",\"All\",,,\"False\",\"T\",\"EveryTick\"))","v":{"$error":"#N/A"}},null,{"$f":"IF(D43=0,NA(),RTD(\"cqg.rtd\",,\"StudyData\", \"Close(\"&$AZ$2&\") When Barix(\"&$AZ$2&\",reference:=StartOfSession)=\"&A43&\"\", \"Bar\", \"\", \"Close\",\"5\",\"0\",\"All\",,,\"False\",\"T\",\"EveryTick\"))","v":{"$error":"#N/A"}},null,{"$f":"IF(D43=0,NA(),RTD(\"cqg.rtd\",,\"StudyData\", \"Close(\"&$BB$2&\") When Barix(\"&$BB$2&\",reference:=StartOfSession)=\"&A43&\"\", \"Bar\", \"\", \"Close\",\"5\",\"0\",\"All\",,,\"False\",\"T\",\"EveryTick\"))","v":{"$error":"#N/A"}},null,{"$f":"IF(D43=0,NA(),RTD(\"cqg.rtd\",,\"StudyData\", \"Close(\"&$BD$2&\") When Barix(\"&$BD$2&\",reference:=StartOfSession)=\"&A43&\"\", \"Bar\", \"\", \"Close\",\"5\",\"0\",\"All\",,,\"False\",\"T\",\"EveryTick\"))","v":{"$error":"#N/A"}},null,{"$f":"IF(D43=0,NA(),RTD(\"cqg.rtd\",,\"StudyData\", \"Close(\"&$BF$2&\") When Barix(\"&$BF$2&\",reference:=StartOfSession)=\"&A43&\"\", \"Bar\", \"\", \"Close\",\"5\",\"0\",\"All\",,,\"False\",\"T\",\"EveryTick\"))","v":{"$error":"#N/A"}},null,{"$f":"IF(D43=0,NA(),RTD(\"cqg.rtd\",,\"StudyData\", \"Close(\"&$BH$2&\") When Barix(\"&$BH$2&\",reference:=StartOfSession)=\"&A43&\"\", \"Bar\", \"\", \"Close\",\"5\",\"0\",\"All\",,,\"False\",\"T\",\"EveryTick\"))","v":{"$error":"#N/A"}},null,{"$f":"IF(D43=0,NA(),RTD(\"cqg.rtd\",,\"StudyData\", \"Close(\"&$BJ$2&\") When Barix(\"&$BJ$2&\",reference:=StartOfSession)=\"&A43&\"\", \"Bar\", \"\", \"Close\",\"5\",\"0\",\"All\",,,\"False\",\"T\",\"EveryTick\"))","v":{"$error":"#N/A"}},null,{"$f":"IF(D43=0,NA(),RTD(\"cqg.rtd\",,\"StudyData\", \"Close(\"&$BL$2&\") When Barix(\"&$BL$2&\",reference:=StartOfSession)=\"&A43&\"\", \"Bar\", \"\", \"Close\",\"5\",\"0\",\"All\",,,\"False\",\"T\",\"EveryTick\"))","v":{"$error":"#N/A"}},null,{"$f":"IF(D43=0,NA(),RTD(\"cqg.rtd\",,\"StudyData\", \"Close(\"&$BN$2&\") When Barix(\"&$BN$2&\",reference:=StartOfSession)=\"&A43&\"\", \"Bar\", \"\", \"Close\",\"5\",\"0\",\"All\",,,\"False\",\"T\",\"EveryTick\"))","v":{"$error":"#N/A"}},null,{"$f":"IF(D43=0,NA(),RTD(\"cqg.rtd\",,\"StudyData\", \"Close(\"&$BP$2&\") When Barix(\"&$BP$2&\",reference:=StartOfSession)=\"&A43&\"\", \"Bar\", \"\", \"Close\",\"5\",\"0\",\"All\",,,\"False\",\"T\",\"EveryTick\"))","v":{"$error":"#N/A"}},null,{"$f":"IF(D43=0,NA(),RTD(\"cqg.rtd\",,\"StudyData\", \"Close(\"&$BR$2&\") When Barix(\"&$BR$2&\",reference:=StartOfSession)=\"&A43&\"\", \"Bar\", \"\", \"Close\",\"5\",\"0\",\"All\",,,\"False\",\"T\",\"EveryTick\"))","v":{"$error":"#N/A"}},null,{"$f":"IF(D43=0,NA(),RTD(\"cqg.rtd\",,\"StudyData\", \"Close(\"&$BT$2&\") When Barix(\"&$BT$2&\",reference:=StartOfSession)=\"&A43&\"\", \"Bar\", \"\", \"Close\",\"5\",\"0\",\"All\",,,\"False\",\"T\",\"EveryTick\"))","v":{"$error":"#N/A"}},null,{"$f":"IF(D43=0,NA(),RTD(\"cqg.rtd\",,\"StudyData\", \"Close(\"&$BV$2&\") When Barix(\"&$BV$2&\",reference:=StartOfSession)=\"&A43&\"\", \"Bar\", \"\", \"Close\",\"5\",\"0\",\"All\",,,\"False\",\"T\",\"EveryTick\"))","v":{"$error":"#N/A"}},null,{"$f":"IF(D43=0,NA(),RTD(\"cqg.rtd\",,\"StudyData\", \"Close(\"&$BX$2&\") When Barix(\"&$BX$2&\",reference:=StartOfSession)=\"&A43&\"\", \"Bar\", \"\", \"Close\",\"5\",\"0\",\"All\",,,\"False\",\"T\",\"EveryTick\"))","v":{"$error":"#N/A"}},null,{"$f":"IF(D43=0,NA(),RTD(\"cqg.rtd\",,\"StudyData\", \"Close(\"&$BZ$2&\") When Barix(\"&$BZ$2&\",reference:=StartOfSession)=\"&A43&\"\", \"Bar\", \"\", \"Close\",\"5\",\"0\",\"All\",,,\"False\",\"T\",\"EveryTick\"))","v":{"$error":"#N/A"}}]
[40,{"$f":"IF(D44=0,NA(),RTD(\"cqg.rtd\",,\"StudyData\", \"Close(\"&$B$2&\") When Barix(\"&$B$2&\",reference:=StartOfSession)=\"&A44&\"\", \"Bar\", \"\", \"Close\",\"5\",\"0\",\"All\",,,\"False\",\"T\",\"EveryTick\"))","v":{"$error":"#N/A"}},"11:50:00",0,null,{"$f":"IF(D44=0,NA(),RTD(\"cqg.rtd\",,\"StudyData\", \"Close(\"&$F$2&\") When Barix(\"&$F$2&\",reference:=StartOfSession)=\"&A44&\"\", \"Bar\", \"\", \"Close\",\"5\",\"0\",\"All\",,,\"False\",\"T\",\"EveryTick\"))","v":{"$error":"#N/A"}},null,{"$f":"IF(D44=0,NA(),RTD(\"cqg.rtd\",,\"StudyData\", \"Close(\"&$H$2&\") When Barix(\"&$H$2&\",reference:=StartOfSession)=\"&A44&\"\", \"Bar\", \"\", \"Close\",\"5\",\"0\",\"All\",,,\"False\",\"T\",\"EveryTick\"))","v":{"$error":"#N/A"}},null,{"$f":"IF(D44=0,NA(),RTD(\"cqg.rtd\",,\"StudyData\", \"Close(\"&$J$2&\") When Barix(\"&$J$2&\",reference:=StartOfSession)=\"&A44&\"\", \"Bar\", \"\", \"Close\",\"5\",\"0\",\"All\",,,\"False\",\"T\",\"EveryTick\"))","v":{"$error":"#N/A"}},null,{"$f":"IF(D44=0,NA(),RTD(\"cqg.rtd\",,\"StudyData\", \"Close(\"&$L$2&\") When Barix(\"&$L$2&\",reference:=StartOfSession)=\"&A44&\"\", \"Bar\", \"\", \"Close\",\"5\",\"0\",\"All\",,,\"False\",\"T\",\"EveryTick\"))","v":{"$error":"#N/A"}},null,{"$f":"IF(D44=0,NA(),RTD(\"cqg.rtd\",,\"StudyData\", \"Close(\"&$N$2&\") When Barix(\"&$N$2&\",reference:=StartOfSession)=\"&A44&\"\", \"Bar\", \"\", \"Close\",\"5\",\"0\",\"All\",,,\"False\",\"T\",\"EveryTick\"))","v":{"$error":"#N/A"}},null,{"$f":"IF(D44=0,NA(),RTD(\"cqg.rtd\",,\"StudyData\", \"Close(\"&$P$2&\") When Barix(\"&$P$2&\",reference:=StartOfSession)=\"&A44&\"\", \"Bar\", \"\", \"Close\",\"5\",\"0\",\"All\",,,\"False\",\"T\",\"EveryTick\"))","v":{"$error":"#N/A"}},null,{"$f":"IF(D44=0,NA(),RTD(\"cqg.rtd\",,\"StudyData\", \"Close(\"&$R$2&\") When Barix(\"&$R$2&\",reference:=StartOfSession)=\"&A44&\"\", \"Bar\", \"\", \"Close\",\"5\",\"0\",\"All\",,,\"False\",\"T\",\"EveryTick\"))","v":{"$error":"#N/A"}},null,{"$f":"IF(D44=0,NA(),RTD(\"cqg.rtd\",,\"StudyData\", \"Close(\"&$T$2&\") When Barix(\"&$T$2&\",reference:=StartOfSession)=\"&A44&\"\", \"Bar\", \"\", \"Close\",\"5\",\"0\",\"All\",,,\"False\",\"T\",\"EveryTick\"))","v":{"$error":"#N/A"}},null,{"$f":"IF(D44=0,NA(),RTD(\"cqg.rtd\",,\"StudyData\", \"Close(\"&$V$2&\") When Barix(\"&$V$2&\",reference:=StartOfSession)=\"&A44&\"\", \"Bar\", \"\", \"Close\",\"5\",\"0\",\"All\",,,\"False\",\"T\",\"EveryTick\"))","v":{"$error":"#N/A"}},null,{"$f":"IF(D44=0,NA(),RTD(\"cqg.rtd\",,\"StudyData\", \"Close(\"&$X$2&\") When Barix(\"&$X$2&\",reference:=StartOfSession)=\"&A44&\"\", \"Bar\", \"\", \"Close\",\"5\",\"0\",\"All\",,,\"False\",\"T\",\"EveryTick\"))","v":{"$error":"#N/A"}},null,{"$f":"IF(D44=0,NA(),RTD(\"cqg.rtd\",,\"StudyData\", \"Close(\"&$Z$2&\") When Barix(\"&$Z$2&\",reference:=StartOfSession)=\"&A44&\"\", \"Bar\", \"\", \"Close\",\"5\",\"0\",\"All\",,,\"False\",\"T\",\"EveryTick\"))","v":{"$error":"#N/A"}},null,{"$f":"IF(D44=0,NA(),RTD(\"cqg.rtd\",,\"StudyData\", \"Close(\"&$AB$2&\") When Barix(\"&$AB$2&\",reference:=StartOfSession)=\"&A44&\"\", \"Bar\", \"\", \"Close\",\"5\",\"0\",\"All\",,,\"False\",\"T\",\"EveryTick\"))","v":{"$error":"#N/A"}},null,{"$f":"IF(D44=0,NA(),RTD(\"cqg.rtd\",,\"StudyData\", \"Close(\"&$AD$2&\") When Barix(\"&$AD$2&\",reference:=StartOfSession)=\"&A44&\"\", \"Bar\", \"\", \"Close\",\"5\",\"0\",\"All\",,,\"False\",\"T\",\"EveryTick\"))","v":{"$error":"#N/A"}},null,{"$f":"IF(D44=0,NA(),RTD(\"cqg.rtd\",,\"StudyData\", \"Close(\"&$AF$2&\") When Barix(\"&$AF$2&\",reference:=StartOfSession)=\"&A44&\"\", \"Bar\", \"\", \"Close\",\"5\",\"0\",\"All\",,,\"False\",\"T\",\"EveryTick\"))","v":{"$error":"#N/A"}},null,{"$f":"IF(D44=0,NA(),RTD(\"cqg.rtd\",,\"StudyData\", \"Close(\"&$AH$2&\") When Barix(\"&$AH$2&\",reference:=StartOfSession)=\"&A44&\"\", \"Bar\", \"\", \"Close\",\"5\",\"0\",\"All\",,,\"False\",\"T\",\"EveryTick\"))","v":{"$error":"#N/A"}},null,{"$f":"IF(D44=0,NA(),RTD(\"cqg.rtd\",,\"StudyData\", \"Close(\"&$AJ$2&\") When Barix(\"&$AJ$2&\",reference:=StartOfSession)=\"&A44&\"\", \"Bar\", \"\", \"Close\",\"5\",\"0\",\"All\",,,\"False\",\"T\",\"EveryTick\"))","v":{"$error":"#N/A"}},null,{"$f":"IF(D44=0,NA(),RTD(\"cqg.rtd\",,\"StudyData\", \"Close(\"&$AL$2&\") When Barix(\"&$AL$2&\",reference:=StartOfSession)=\"&A44&\"\", \"Bar\", \"\", \"Close\",\"5\",\"0\",\"All\",,,\"False\",\"T\",\"EveryTick\"))","v":{"$error":"#N/A"}},null,{"$f":"IF(D44=0,NA(),RTD(\"cqg.rtd\",,\"StudyData\", \"Close(\"&$AN$2&\") When Barix(\"&$AN$2&\",reference:=StartOfSession)=\"&A44&\"\", \"Bar\", \"\", \"Close\",\"5\",\"0\",\"All\",,,\"False\",\"T\",\"EveryTick\"))","v":{"$error":"#N/A"}},null,{"$f":"IF(D44=0,NA(),RTD(\"cqg.rtd\",,\"StudyData\", \"Close(\"&$AN$2&\") When Barix(\"&$AN$2&\",reference:=StartOfSession)=\"&A44&\"\", \"Bar\", \"\", \"Close\",\"5\",\"0\",\"All\",,,\"False\",\"T\",\"EveryTick\"))","v":{"$error":"#N/A"}},null,{"$f":"IF(D44=0,NA(),RTD(\"cqg.rtd\",,\"StudyData\", \"Close(\"&$AR$2&\") When Barix(\"&$AR$2&\",reference:=StartOfSession)=\"&A44&\"\", \"Bar\", \"\", \"Close\",\"5\",\"0\",\"All\",,,\"False\",\"T\",\"EveryTick\"))","v":{"$error":"#N/A"}},null,{"$f":"IF(D44=0,NA(),RTD(\"cqg.rtd\",,\"StudyData\", \"Close(\"&$AT$2&\") When Barix(\"&$AT$2&\",reference:=StartOfSession)=\"&A44&\"\", \"Bar\", \"\", \"Close\",\"5\",\"0\",\"All\",,,\"False\",\"T\",\"EveryTick\"))","v":{"$error":"#N/A"}},null,{"$f":"IF(D44=0,NA(),RTD(\"cqg.rtd\",,\"StudyData\", \"Close(\"&$AV$2&\") When Barix(\"&$AV$2&\",reference:=StartOfSession)=\"&A44&\"\", \"Bar\", \"\", \"Close\",\"5\",\"0\",\"All\",,,\"False\",\"T\",\"EveryTick\"))","v":{"$error":"#N/A"}},null,{"$f":"IF(D44=0,NA(),RTD(\"cqg.rtd\",,\"StudyData\", \"Close(\"&$AX$2&\") When Barix(\"&$AX$2&\",reference:=StartOfSession)=\"&A44&\"\", \"Bar\", \"\", \"Close\",\"5\",\"0\",\"All\",,,\"False\",\"T\",\"EveryTick\"))","v":{"$error":"#N/A"}},null,{"$f":"IF(D44=0,NA(),RTD(\"cqg.rtd\",,\"StudyData\", \"Close(\"&$AZ$2&\") When Barix(\"&$AZ$2&\",reference:=StartOfSession)=\"&A44&\"\", \"Bar\", \"\", \"Close\",\"5\",\"0\",\"All\",,,\"False\",\"T\",\"EveryTick\"))","v":{"$error":"#N/A"}},null,{"$f":"IF(D44=0,NA(),RTD(\"cqg.rtd\",,\"StudyData\", \"Close(\"&$BB$2&\") When Barix(\"&$BB$2&\",reference:=StartOfSession)=\"&A44&\"\", \"Bar\", \"\", \"Close\",\"5\",\"0\",\"All\",,,\"False\",\"T\",\"EveryTick\"))","v":{"$error":"#N/A"}},null,{"$f":"IF(D44=0,NA(),RTD(\"cqg.rtd\",,\"StudyData\", \"Close(\"&$BD$2&\") When Barix(\"&$BD$2&\",reference:=StartOfSession)=\"&A44&\"\", \"Bar\", \"\", \"Close\",\"5\",\"0\",\"All\",,,\"False\",\"T\",\"EveryTick\"))","v":{"$error":"#N/A"}},null,{"$f":"IF(D44=0,NA(),RTD(\"cqg.rtd\",,\"StudyData\", \"Close(\"&$BF$2&\") When Barix(\"&$BF$2&\",reference:=StartOfSession)=\"&A44&\"\", \"Bar\", \"\", \"Close\",\"5\",\"0\",\"All\",,,\"False\",\"T\",\"EveryTick\"))","v":{"$error":"#N/A"}},null,{"$f":"IF(D44=0,NA(),RTD(\"cqg.rtd\",,\"StudyData\", \"Close(\"&$BH$2&\") When Barix(\"&$BH$2&\",reference:=StartOfSession)=\"&A44&\"\", \"Bar\", \"\", \"Close\",\"5\",\"0\",\"All\",,,\"False\",\"T\",\"EveryTick\"))","v":{"$error":"#N/A"}},null,{"$f":"IF(D44=0,NA(),RTD(\"cqg.rtd\",,\"StudyData\", \"Close(\"&$BJ$2&\") When Barix(\"&$BJ$2&\",reference:=StartOfSession)=\"&A44&\"\", \"Bar\", \"\", \"Close\",\"5\",\"0\",\"All\",,,\"False\",\"T\",\"EveryTick\"))","v":{"$error":"#N/A"}},null,{"$f":"IF(D44=0,NA(),RTD(\"cqg.rtd\",,\"StudyData\", \"Close(\"&$BL$2&\") When Barix(\"&$BL$2&\",reference:=StartOfSession)=\"&A44&\"\", \"Bar\", \"\", \"Close\",\"5\",\"0\",\"All\",,,\"False\",\"T\",\"EveryTick\"))","v":{"$error":"#N/A"}},null,{"$f":"IF(D44=0,NA(),RTD(\"cqg.rtd\",,\"StudyData\", \"Close(\"&$BN$2&\") When Barix(\"&$BN$2&\",reference:=StartOfSession)=\"&A44&\"\", \"Bar\", \"\", \"Close\",\"5\",\"0\",\"All\",,,\"False\",\"T\",\"EveryTick\"))","v":{"$error":"#N/A"}},null,{"$f":"IF(D44=0,NA(),RTD(\"cqg.rtd\",,\"StudyData\", \"Close(\"&$BP$2&\") When Barix(\"&$BP$2&\",reference:=StartOfSession)=\"&A44&\"\", \"Bar\", \"\", \"Close\",\"5\",\"0\",\"All\",,,\"False\",\"T\",\"EveryTick\"))","v":{"$error":"#N/A"}},null,{"$f":"IF(D44=0,NA(),RTD(\"cqg.rtd\",,\"StudyData\", \"Close(\"&$BR$2&\") When Barix(\"&$BR$2&\",reference:=StartOfSession)=\"&A44&\"\", \"Bar\", \"\", \"Close\",\"5\",\"0\",\"All\",,,\"False\",\"T\",\"EveryTick\"))","v":{"$error":"#N/A"}},null,{"$f":"IF(D44=0,NA(),RTD(\"cqg.rtd\",,\"StudyData\", \"Close(\"&$BT$2&\") When Barix(\"&$BT$2&\",reference:=StartOfSession)=\"&A44&\"\", \"Bar\", \"\", \"Close\",\"5\",\"0\",\"All\",,,\"False\",\"T\",\"EveryTick\"))","v":{"$error":"#N/A"}},null,{"$f":"IF(D44=0,NA(),RTD(\"cqg.rtd\",,\"StudyData\", \"Close(\"&$BV$2&\") When Barix(\"&$BV$2&\",reference:=StartOfSession)=\"&A44&\"\", \"Bar\", \"\", \"Close\",\"5\",\"0\",\"All\",,,\"False\",\"T\",\"EveryTick\"))","v":{"$error":"#N/A"}},null,{"$f":"IF(D44=0,NA(),RTD(\"cqg.rtd\",,\"StudyData\", \"Close(\"&$BX$2&\") When Barix(\"&$BX$2&\",reference:=StartOfSession)=\"&A44&\"\", \"Bar\", \"\", \"Close\",\"5\",\"0\",\"All\",,,\"False\",\"T\",\"EveryTick\"))","v":{"$error":"#N/A"}},null,{"$f":"IF(D44=0,NA(),RTD(\"cqg.rtd\",,\"StudyData\", \"Close(\"&$BZ$2&\") When Barix(\"&$BZ$2&\",reference:=StartOfSession)=\"&A44&\"\", \"Bar\", \"\", \"Close\",\"5\",\"0\",\"All\",,,\"False\",\"T\",\"EveryTick\"))","v":{"$error":"#N/A"}}]
[41,{"$f":"IF(D45=0,NA(),RTD(\"cqg.rtd\",,\"StudyData\", \"Close(\"&$B$2&\") When Barix(\"&$B$2&\",reference:=StartOfSession)=\"&A45&\"\", \"Bar\", \"\", \"Close\",\"5\",\"0\",\"All\",,,\"False\",\"T\",\"EveryTick\"))","v":{"$error":"#N/A"}},"11:55:00",0,null,{"$f":"IF(D45=0,NA(),RTD(\"cqg.rtd\",,\"StudyData\", \"Close(\"&$F$2&\") When Barix(\"&$F$2&\",reference:=StartOfSession)=\"&A45&\"\", \"Bar\", \"\", \"Close\",\"5\",\"0\",\"All\",,,\"False\",\"T\",\"EveryTick\"))","v":{"$error":"#N/A"}},null,{"$f":"IF(D45=0,NA(),RTD(\"cqg.rtd\",,\"StudyData\", \"Close(\"&$H$2&\") When Barix(\"&$H$2&\",reference:=StartOfSession)=\"&A45&\"\", \"Bar\", \"\", \"Close\",\"5\",\"0\",\"All\",,,\"False\",\"T\",\"EveryTick\"))","v":{"$error":"#N/A"}},null,{"$f":"IF(D45=0,NA(),RTD(\"cqg.rtd\",,\"StudyData\", \"Close(\"&$J$2&\") When Barix(\"&$J$2&\",reference:=StartOfSession)=\"&A45&\"\", \"Bar\", \"\", \"Close\",\"5\",\"0\",\"All\",,,\"False\",\"T\",\"EveryTick\"))","v":{"$error":"#N/A"}},null,{"$f":"IF(D45=0,NA(),RTD(\"cqg.rtd\",,\"StudyData\", \"Close(\"&$L$2&\") When Barix(\"&$L$2&\",reference:=StartOfSession)=\"&A45&\"\", \"Bar\", \"\", \"Close\",\"5\",\"0\",\"All\",,,\"False\",\"T\",\"EveryTick\"))","v":{"$error":"#N/A"}},null,{"$f":"IF(D45=0,NA(),RTD(\"cqg.rtd\",,\"StudyData\", \"Close(\"&$N$2&\") When Barix(\"&$N$2&\",reference:=StartOfSession)=\"&A45&\"\", \"Bar\", \"\", \"Close\",\"5\",\"0\",\"All\",,,\"False\",\"T\",\"EveryTick\"))","v":{"$error":"#N/A"}},null,{"$f":"IF(D45=0,NA(),RTD(\"cqg.rtd\",,\"StudyData\", \"Close(\"&$P$2&\") When Barix(\"&$P$2&\",reference:=StartOfSession)=\"&A45&\"\", \"Bar\", \"\", \"Close\",\"5\",\"0\",\"All\",,,\"False\",\"T\",\"EveryTick\"))","v":{"$error":"#N/A"}},null,{"$f":"IF(D45=0,NA(),RTD(\"cqg.rtd\",,\"StudyData\", \"Close(\"&$R$2&\") When Barix(\"&$R$2&\",reference:=StartOfSession)=\"&A45&\"\", \"Bar\", \"\", \"Close\",\"5\",\"0\",\"All\",,,\"False\",\"T\",\"EveryTick\"))","v":{"$error":"#N/A"}},null,{"$f":"IF(D45=0,NA(),RTD(\"cqg.rtd\",,\"StudyData\", \"Close(\"&$T$2&\") When Barix(\"&$T$2&\",reference:=StartOfSession)=\"&A45&\"\", \"Bar\", \"\", \"Close\",\"5\",\"0\",\"All\",,,\"False\",\"T\",\"EveryTick\"))","v":{"$error":"#N/A"}},null,{"$f":"IF(D45=0,NA(),RTD(\"cqg.rtd\",,\"StudyData\", \"Close(\"&$V$2&\") When Barix(\"&$V$2&\",reference:=StartOfSession)=\"&A45&\"\", \"Bar\", \"\", \"Close\",\"5\",\"0\",\"All\",,,\"False\",\"T\",\"EveryTick\"))","v":{"$error":"#N/A"}},null,{"$f":"IF(D45=0,NA(),RTD(\"cqg.rtd\",,\"StudyData\", \"Close(\"&$X$2&\") When Barix(\"&$X$2&\",reference:=StartOfSession)=\"&A45&\"\", \"Bar\", \"\", \"Close\",\"5\",\"0\",\"All\",,,\"False\",\"T\",\"EveryTick\"))","v":{"$error":"#N/A"}},null,{"$f":"IF(D45=0,NA(),RTD(\"cqg.rtd\",,\"StudyData\", \"Close(\"&$Z$2&\") When Barix(\"&$Z$2&\",reference:=StartOfSession)=\"&A45&\"\", \"Bar\", \"\", \"Close\",\"5\",\"0\",\"All\",,,\"False\",\"T\",\"EveryTick\"))","v":{"$error":"#N/A"}},null,{"$f":"IF(D45=0,NA(),RTD(\"cqg.rtd\",,\"StudyData\", \"Close(\"&$AB$2&\") When Barix(\"&$AB$2&\",reference:=StartOfSession)=\"&A45&\"\", \"Bar\", \"\", \"Close\",\"5\",\"0\",\"All\",,,\"False\",\"T\",\"EveryTick\"))","v":{"$error":"#N/A"}},null,{"$f":"IF(D45=0,NA(),RTD(\"cqg.rtd\",,\"StudyData\", \"Close(\"&$AD$2&\") When Barix(\"&$AD$2&\",reference:=StartOfSession)=\"&A45&\"\", \"Bar\", \"\", \"Close\",\"5\",\"0\",\"All\",,,\"False\",\"T\",\"EveryTick\"))","v":{"$error":"#N/A"}},null,{"$f":"IF(D45=0,NA(),RTD(\"cqg.rtd\",,\"StudyData\", \"Close(\"&$AF$2&\") When Barix(\"&$AF$2&\",reference:=StartOfSession)=\"&A45&\"\", \"Bar\", \"\", \"Close\",\"5\",\"0\",\"All\",,,\"False\",\"T\",\"EveryTick\"))","v":{"$error":"#N/A"}},null,{"$f":"IF(D45=0,NA(),RTD(\"cqg.rtd\",,\"StudyData\", \"Close(\"&$AH$2&\") When Barix(\"&$AH$2&\",reference:=StartOfSession)=\"&A45&\"\", \"Bar\", \"\", \"Close\",\"5\",\"0\",\"All\",,,\"False\",\"T\",\"EveryTick\"))","v":{"$error":"#N/A"}},null,{"$f":"IF(D45=0,NA(),RTD(\"cqg.rtd\",,\"StudyData\", \"Close(\"&$AJ$2&\") When Barix(\"&$AJ$2&\",reference:=StartOfSession)=\"&A45&\"\", \"Bar\", \"\", \"Close\",\"5\",\"0\",\"All\",,,\"False\",\"T\",\"EveryTick\"))","v":{"$error":"#N/A"}},null,{"$f":"IF(D45=0,NA(),RTD(\"cqg.rtd\",,\"StudyData\", \"Close(\"&$AL$2&\") When Barix(\"&$AL$2&\",reference:=StartOfSession)=\"&A45&\"\", \"Bar\", \"\", \"Close\",\"5\",\"0\",\"All\",,,\"False\",\"T\",\"EveryTick\"))","v":{"$error":"#N/A"}},null,{"$f":"IF(D45=0,NA(),RTD(\"cqg.rtd\",,\"StudyData\", \"Close(\"&$AN$2&\") When Barix(\"&$AN$2&\",reference:=StartOfSession)=\"&A45&\"\", \"Bar\", \"\", \"Close\",\"5\",\"0\",\"All\",,,\"False\",\"T\",\"EveryTick\"))","v":{"$error":"#N/A"}},null,{"$f":"IF(D45=0,NA(),RTD(\"cqg.rtd\",,\"StudyData\", \"Close(\"&$AN$2&\") When Barix(\"&$AN$2&\",reference:=StartOfSession)=\"&A45&\"\", \"Bar\", \"\", \"Close\",\"5\",\"0\",\"All\",,,\"False\",\"T\",\"EveryTick\"))","v":{"$error":"#N/A"}},null,{"$f":"IF(D45=0,NA(),RTD(\"cqg.rtd\",,\"StudyData\", \"Close(\"&$AR$2&\") When Barix(\"&$AR$2&\",reference:=StartOfSession)=\"&A45&\"\", \"Bar\", \"\", \"Close\",\"5\",\"0\",\"All\",,,\"False\",\"T\",\"EveryTick\"))","v":{"$error":"#N/A"}},null,{"$f":"IF(D45=0,NA(),RTD(\"cqg.rtd\",,\"StudyData\", \"Close(\"&$AT$2&\") When Barix(\"&$AT$2&\",reference:=StartOfSession)=\"&A45&\"\", \"Bar\", \"\", \"Close\",\"5\",\"0\",\"All\",,,\"False\",\"T\",\"EveryTick\"))","v":{"$error":"#N/A"}},null,{"$f":"IF(D45=0,NA(),RTD(\"cqg.rtd\",,\"StudyData\", \"Close(\"&$AV$2&\") When Barix(\"&$AV$2&\",reference:=StartOfSession)=\"&A45&\"\", \"Bar\", \"\", \"Close\",\"5\",\"0\",\"All\",,,\"False\",\"T\",\"EveryTick\"))","v":{"$error":"#N/A"}},null,{"$f":"IF(D45=0,NA(),RTD(\"cqg.rtd\",,\"StudyData\", \"Close(\"&$AX$2&\") When Barix(\"&$AX$2&\",reference:=StartOfSession)=\"&A45&\"\", \"Bar\", \"\", \"Close\",\"5\",\"0\",\"All\",,,\"False\",\"T\",\"EveryTick\"))","v":{"$error":"#N/A"}},null,{"$f":"IF(D45=0,NA(),RTD(\"cqg.rtd\",,\"StudyData\", \"Close(\"&$AZ$2&\") When Barix(\"&$AZ$2&\",reference:=StartOfSession)=\"&A45&\"\", \"Bar\", \"\", \"Close\",\"5\",\"0\",\"All\",,,\"False\",\"T\",\"EveryTick\"))","v":{"$error":"#N/A"}},null,{"$f":"IF(D45=0,NA(),RTD(\"cqg.rtd\",,\"StudyData\", \"Close(\"&$BB$2&\") When Barix(\"&$BB$2&\",reference:=StartOfSession)=\"&A45&\"\", \"Bar\", \"\", \"Close\",\"5\",\"0\",\"All\",,,\"False\",\"T\",\"EveryTick\"))","v":{"$error":"#N/A"}},null,{"$f":"IF(D45=0,NA(),RTD(\"cqg.rtd\",,\"StudyData\", \"Close(\"&$BD$2&\") When Barix(\"&$BD$2&\",reference:=StartOfSession)=\"&A45&\"\", \"Bar\", \"\", \"Close\",\"5\",\"0\",\"All\",,,\"False\",\"T\",\"EveryTick\"))","v":{"$error":"#N/A"}},null,{"$f":"IF(D45=0,NA(),RTD(\"cqg.rtd\",,\"StudyData\", \"Close(\"&$BF$2&\") When Barix(\"&$BF$2&\",reference:=StartOfSession)=\"&A45&\"\", \"Bar\", \"\", \"Close\",\"5\",\"0\",\"All\",,,\"False\",\"T\",\"EveryTick\"))","v":{"$error":"#N/A"}},null,{"$f":"IF(D45=0,NA(),RTD(\"cqg.rtd\",,\"StudyData\", \"Close(\"&$BH$2&\") When Barix(\"&$BH$2&\",reference:=StartOfSession)=\"&A45&\"\", \"Bar\", \"\", \"Close\",\"5\",\"0\",\"All\",,,\"False\",\"T\",\"EveryTick\"))","v":{"$error":"#N/A"}},null,{"$f":"IF(D45=0,NA(),RTD(\"cqg.rtd\",,\"StudyData\", \"Close(\"&$BJ$2&\") When Barix(\"&$BJ$2&\",reference:=StartOfSession)=\"&A45&\"\", \"Bar\", \"\", \"Close\",\"5\",\"0\",\"All\",,,\"False\",\"T\",\"EveryTick\"))","v":{"$error":"#N/A"}},null,{"$f":"IF(D45=0,NA(),RTD(\"cqg.rtd\",,\"StudyData\", \"Close(\"&$BL$2&\") When Barix(\"&$BL$2&\",reference:=StartOfSession)=\"&A45&\"\", \"Bar\", \"\", \"Close\",\"5\",\"0\",\"All\",,,\"False\",\"T\",\"EveryTick\"))","v":{"$error":"#N/A"}},null,{"$f":"IF(D45=0,NA(),RTD(\"cqg.rtd\",,\"StudyData\", \"Close(\"&$BN$2&\") When Barix(\"&$BN$2&\",reference:=StartOfSession)=\"&A45&\"\", \"Bar\", \"\", \"Close\",\"5\",\"0\",\"All\",,,\"False\",\"T\",\"EveryTick\"))","v":{"$error":"#N/A"}},null,{"$f":"IF(D45=0,NA(),RTD(\"cqg.rtd\",,\"StudyData\", \"Close(\"&$BP$2&\") When Barix(\"&$BP$2&\",reference:=StartOfSession)=\"&A45&\"\", \"Bar\", \"\", \"Close\",\"5\",\"0\",\"All\",,,\"False\",\"T\",\"EveryTick\"))","v":{"$error":"#N/A"}},null,{"$f":"IF(D45=0,NA(),RTD(\"cqg.rtd\",,\"StudyData\", \"Close(\"&$BR$2&\") When Barix(\"&$BR$2&\",reference:=StartOfSession)=\"&A45&\"\", \"Bar\", \"\", \"Close\",\"5\",\"0\",\"All\",,,\"False\",\"T\",\"EveryTick\"))","v":{"$error":"#N/A"}},null,{"$f":"IF(D45=0,NA(),RTD(\"cqg.rtd\",,\"StudyData\", \"Close(\"&$BT$2&\") When Barix(\"&$BT$2&\",reference:=StartOfSession)=\"&A45&\"\", \"Bar\", \"\", \"Close\",\"5\",\"0\",\"All\",,,\"False\",\"T\",\"EveryTick\"))","v":{"$error":"#N/A"}},null,{"$f":"IF(D45=0,NA(),RTD(\"cqg.rtd\",,\"StudyData\", \"Close(\"&$BV$2&\") When Barix(\"&$BV$2&\",reference:=StartOfSession)=\"&A45&\"\", \"Bar\", \"\", \"Close\",\"5\",\"0\",\"All\",,,\"False\",\"T\",\"EveryTick\"))","v":{"$error":"#N/A"}},null,{"$f":"IF(D45=0,NA(),RTD(\"cqg.rtd\",,\"StudyData\", \"Close(\"&$BX$2&\") When Barix(\"&$BX$2&\",reference:=StartOfSession)=\"&A45&\"\", \"Bar\", \"\", \"Close\",\"5\",\"0\",\"All\",,,\"False\",\"T\",\"EveryTick\"))","v":{"$error":"#N/A"}},null,{"$f":"IF(D45=0,NA(),RTD(\"cqg.rtd\",,\"StudyData\", \"Close(\"&$BZ$2&\") When Barix(\"&$BZ$2&\",reference:=StartOfSession)=\"&A45&\"\", \"Bar\", \"\", \"Close\",\"5\",\"0\",\"All\",,,\"False\",\"T\",\"EveryTick\"))","v":{"$error":"#N/A"}}]
[42,{"$f":"IF(D46=0,NA(),RTD(\"cqg.rtd\",,\"StudyData\", \"Close(\"&$B$2&\") When Barix(\"&$B$2&\",reference:=StartOfSession)=\"&A46&\"\", \"Bar\", \"\", \"Close\",\"5\",\"0\",\"All\",,,\"False\",\"T\",\"EveryTick\"))","v":{"$error":"#N/A"}},"12:00:00",0,null,{"$f":"IF(D46=0,NA(),RTD(\"cqg.rtd\",,\"StudyData\", \"Close(\"&$F$2&\") When Barix(\"&$F$2&\",reference:=StartOfSession)=\"&A46&\"\", \"Bar\", \"\", \"Close\",\"5\",\"0\",\"All\",,,\"False\",\"T\",\"EveryTick\"))","v":{"$error":"#N/A"}},null,{"$f":"IF(D46=0,NA(),RTD(\"cqg.rtd\",,\"StudyData\", \"Close(\"&$H$2&\") When Barix(\"&$H$2&\",reference:=StartOfSession)=\"&A46&\"\", \"Bar\", \"\", \"Close\",\"5\",\"0\",\"All\",,,\"False\",\"T\",\"EveryTick\"))","v":{"$error":"#N/A"}},null,{"$f":"IF(D46=0,NA(),RTD(\"cqg.rtd\",,\"StudyData\", \"Close(\"&$J$2&\") When Barix(\"&$J$2&\",reference:=StartOfSession)=\"&A46&\"\", \"Bar\", \"\", \"Close\",\"5\",\"0\",\"All\",,,\"False\",\"T\",\"EveryTick\"))","v":{"$error":"#N/A"}},null,{"$f":"IF(D46=0,NA(),RTD(\"cqg.rtd\",,\"StudyData\", \"Close(\"&$L$2&\") When Barix(\"&$L$2&\",reference:=StartOfSession)=\"&A46&\"\", \"Bar\", \"\", \"Close\",\"5\",\"0\",\"All\",,,\"False\",\"T\",\"EveryTick\"))","v":{"$error":"#N/A"}},null,{"$f":"IF(D46=0,NA(),RTD(\"cqg.rtd\",,\"StudyData\", \"Close(\"&$N$2&\") When Barix(\"&$N$2&\",reference:=StartOfSession)=\"&A46&\"\", \"Bar\", \"\", \"Close\",\"5\",\"0\",\"All\",,,\"False\",\"T\",\"EveryTick\"))","v":{"$error":"#N/A"}},null,{"$f":"IF(D46=0,NA(),RTD(\"cqg.rtd\",,\"StudyData\", \"Close(\"&$P$2&\") When Barix(\"&$P$2&\",reference:=StartOfSession)=\"&A46&\"\", \"Bar\", \"\", \"Close\",\"5\",\"0\",\"All\",,,\"False\",\"T\",\"EveryTick\"))","v":{"$error":"#N/A"}},null,{"$f":"IF(D46=0,NA(),RTD(\"cqg.rtd\",,\"StudyData\", \"Close(\"&$R$2&\") When Barix(\"&$R$2&\",reference:=StartOfSession)=\"&A46&\"\", \"Bar\", \"\", \"Close\",\"5\",\"0\",\"All\",,,\"False\",\"T\",\"EveryTick\"))","v":{"$error":"#N/A"}},null,{"$f":"IF(D46=0,NA(),RTD(\"cqg.rtd\",,\"StudyData\", \"Close(\"&$T$2&\") When Barix(\"&$T$2&\",reference:=StartOfSession)=\"&A46&\"\", \"Bar\", \"\", \"Close\",\"5\",\"0\",\"All\",,,\"False\",\"T\",\"EveryTick\"))","v":{"$error":"#N/A"}},null,{"$f":"IF(D46=0,NA(),RTD(\"cqg.rtd\",,\"StudyData\", \"Close(\"&$V$2&\") When Barix(\"&$V$2&\",reference:=StartOfSession)=\"&A46&\"\", \"Bar\", \"\", \"Close\",\"5\",\"0\",\"All\",,,\"False\",\"T\",\"EveryTick\"))","v":{"$error":"#N/A"}},null,{"$f":"IF(D46=0,NA(),RTD(\"cqg.rtd\",,\"StudyData\", \"Close(\"&$X$2&\") When Barix(\"&$X$2&\",reference:=StartOfSession)=\"&A46&\"\", \"Bar\", \"\", \"Close\",\"5\",\"0\",\"All\",,,\"False\",\"T\",\"EveryTick\"))","v":{"$error":"#N/A"}},null,{"$f":"IF(D46=0,NA(),RTD(\"cqg.rtd\",,\"StudyData\", \"Close(\"&$Z$2&\") When Barix(\"&$Z$2&\",reference:=StartOfSession)=\"&A46&\"\", \"Bar\", \"\", \"Close\",\"5\",\"0\",\"All\",,,\"False\",\"T\",\"EveryTick\"))","v":{"$error":"#N/A"}},null,{"$f":"IF(D46=0,NA(),RTD(\"cqg.rtd\",,\"StudyData\", \"Close(\"&$AB$2&\") When Barix(\"&$AB$2&\",reference:=StartOfSession)=\"&A46&\"\", \"Bar\", \"\", \"Close\",\"5\",\"0\",\"All\",,,\"False\",\"T\",\"EveryTick\"))","v":{"$error":"#N/A"}},null,{"$f":"IF(D46=0,NA(),RTD(\"cqg.rtd\",,\"StudyData\", \"Close(\"&$AD$2&\") When Barix(\"&$AD$2&\",reference:=StartOfSession)=\"&A46&\"\", \"Bar\", \"\", \"Close\",\"5\",\"0\",\"All\",,,\"False\",\"T\",\"EveryTick\"))","v":{"$error":"#N/A"}},null,{"$f":"IF(D46=0,NA(),RTD(\"cqg.rtd\",,\"StudyData\", \"Close(\"&$AF$2&\") When Barix(\"&$AF$2&\",reference:=StartOfSession)=\"&A46&\"\", \"Bar\", \"\", \"Close\",\"5\",\"0\",\"All\",,,\"False\",\"T\",\"EveryTick\"))","v":{"$error":"#N/A"}},null,{"$f":"IF(D46=0,NA(),RTD(\"cqg.rtd\",,\"StudyData\", \"Close(\"&$AH$2&\") When Barix(\"&$AH$2&\",reference:=StartOfSession)=\"&A46&\"\", \"Bar\", \"\", \"Close\",\"5\",\"0\",\"All\",,,\"False\",\"T\",\"EveryTick\"))","v":{"$error":"#N/A"}},null,{"$f":"IF(D46=0,NA(),RTD(\"cqg.rtd\",,\"StudyData\", \"Close(\"&$AJ$2&\") When Barix(\"&$AJ$2&\",reference:=StartOfSession)=\"&A46&\"\", \"Bar\", \"\", \"Close\",\"5\",\"0\",\"All\",,,\"False\",\"T\",\"EveryTick\"))","v":{"$error":"#N/A"}},null,{"$f":"IF(D46=0,NA(),RTD(\"cqg.rtd\",,\"StudyData\", \"Close(\"&$AL$2&\") When Barix(\"&$AL$2&\",reference:=StartOfSession)=\"&A46&\"\", \"Bar\", \"\", \"Close\",\"5\",\"0\",\"All\",,,\"False\",\"T\",\"EveryTick\"))","v":{"$error":"#N/A"}},null,{"$f":"IF(D46=0,NA(),RTD(\"cqg.rtd\",,\"StudyData\", \"Close(\"&$AN$2&\") When Barix(\"&$AN$2&\",reference:=StartOfSession)=\"&A46&\"\", \"Bar\", \"\", \"Close\",\"5\",\"0\",\"All\",,,\"False\",\"T\",\"EveryTick\"))","v":{"$error":"#N/A"}},null,{"$f":"IF(D46=0,NA(),RTD(\"cqg.rtd\",,\"StudyData\", \"Close(\"&$AN$2&\") When Barix(\"&$AN$2&\",reference:=StartOfSession)=\"&A46&\"\", \"Bar\", \"\", \"Close\",\"5\",\"0\",\"All\",,,\"False\",\"T\",\"EveryTick\"))","v":{"$error":"#N/A"}},null,{"$f":"IF(D46=0,NA(),RTD(\"cqg.rtd\",,\"StudyData\", \"Close(\"&$AR$2&\") When Barix(\"&$AR$2&\",reference:=StartOfSession)=\"&A46&\"\", \"Bar\", \"\", \"Close\",\"5\",\"0\",\"All\",,,\"False\",\"T\",\"EveryTick\"))","v":{"$error":"#N/A"}},null,{"$f":"IF(D46=0,NA(),RTD(\"cqg.rtd\",,\"StudyData\", \"Close(\"&$AT$2&\") When Barix(\"&$AT$2&\",reference:=StartOfSession)=\"&A46&\"\", \"Bar\", \"\", \"Close\",\"5\",\"0\",\"All\",,,\"False\",\"T\",\"EveryTick\"))","v":{"$error":"#N/A"}},null,{"$f":"IF(D46=0,NA(),RTD(\"cqg.rtd\",,\"StudyData\", \"Close(\"&$AV$2&\") When Barix(\"&$AV$2&\",reference:=StartOfSession)=\"&A46&\"\", \"Bar\", \"\", \"Close\",\"5\",\"0\",\"All\",,,\"False\",\"T\",\"EveryTick\"))","v":{"$error":"#N/A"}},null,{"$f":"IF(D46=0,NA(),RTD(\"cqg.rtd\",,\"StudyData\", \"Close(\"&$AX$2&\") When Barix(\"&$AX$2&\",reference:=StartOfSession)=\"&A46&\"\", \"Bar\", \"\", \"Close\",\"5\",\"0\",\"All\",,,\"False\",\"T\",\"EveryTick\"))","v":{"$error":"#N/A"}},null,{"$f":"IF(D46=0,NA(),RTD(\"cqg.rtd\",,\"StudyData\", \"Close(\"&$AZ$2&\") When Barix(\"&$AZ$2&\",reference:=StartOfSession)=\"&A46&\"\", \"Bar\", \"\", \"Close\",\"5\",\"0\",\"All\",,,\"False\",\"T\",\"EveryTick\"))","v":{"$error":"#N/A"}},null,{"$f":"IF(D46=0,NA(),RTD(\"cqg.rtd\",,\"StudyData\", \"Close(\"&$BB$2&\") When Barix(\"&$BB$2&\",reference:=StartOfSession)=\"&A46&\"\", \"Bar\", \"\", \"Close\",\"5\",\"0\",\"All\",,,\"False\",\"T\",\"EveryTick\"))","v":{"$error":"#N/A"}},null,{"$f":"IF(D46=0,NA(),RTD(\"cqg.rtd\",,\"StudyData\", \"Close(\"&$BD$2&\") When Barix(\"&$BD$2&\",reference:=StartOfSession)=\"&A46&\"\", \"Bar\", \"\", \"Close\",\"5\",\"0\",\"All\",,,\"False\",\"T\",\"EveryTick\"))","v":{"$error":"#N/A"}},null,{"$f":"IF(D46=0,NA(),RTD(\"cqg.rtd\",,\"StudyData\", \"Close(\"&$BF$2&\") When Barix(\"&$BF$2&\",reference:=StartOfSession)=\"&A46&\"\", \"Bar\", \"\", \"Close\",\"5\",\"0\",\"All\",,,\"False\",\"T\",\"EveryTick\"))","v":{"$error":"#N/A"}},null,{"$f":"IF(D46=0,NA(),RTD(\"cqg.rtd\",,\"StudyData\", \"Close(\"&$BH$2&\") When Barix(\"&$BH$2&\",reference:=StartOfSession)=\"&A46&\"\", \"Bar\", \"\", \"Close\",\"5\",\"0\",\"All\",,,\"False\",\"T\",\"EveryTick\"))","v":{"$error":"#N/A"}},null,{"$f":"IF(D46=0,NA(),RTD(\"cqg.rtd\",,\"StudyData\", \"Close(\"&$BJ$2&\") When Barix(\"&$BJ$2&\",reference:=StartOfSession)=\"&A46&\"\", \"Bar\", \"\", \"Close\",\"5\",\"0\",\"All\",,,\"False\",\"T\",\"EveryTick\"))","v":{"$error":"#N/A"}},null,{"$f":"IF(D46=0,NA(),RTD(\"cqg.rtd\",,\"StudyData\", \"Close(\"&$BL$2&\") When Barix(\"&$BL$2&\",reference:=StartOfSession)=\"&A46&\"\", \"Bar\", \"\", \"Close\",\"5\",\"0\",\"All\",,,\"False\",\"T\",\"EveryTick\"))","v":{"$error":"#N/A"}},null,{"$f":"IF(D46=0,NA(),RTD(\"cqg.rtd\",,\"StudyData\", \"Close(\"&$BN$2&\") When Barix(\"&$BN$2&\",reference:=StartOfSession)=\"&A46&\"\", \"Bar\", \"\", \"Close\",\"5\",\"0\",\"All\",,,\"False\",\"T\",\"EveryTick\"))","v":{"$error":"#N/A"}},null,{"$f":"IF(D46=0,NA(),RTD(\"cqg.rtd\",,\"StudyData\", \"Close(\"&$BP$2&\") When Barix(\"&$BP$2&\",reference:=StartOfSession)=\"&A46&\"\", \"Bar\", \"\", \"Close\",\"5\",\"0\",\"All\",,,\"False\",\"T\",\"EveryTick\"))","v":{"$error":"#N/A"}},null,{"$f":"IF(D46=0,NA(),RTD(\"cqg.rtd\",,\"StudyData\", \"Close(\"&$BR$2&\") When Barix(\"&$BR$2&\",reference:=StartOfSession)=\"&A46&\"\", \"Bar\", \"\", \"Close\",\"5\",\"0\",\"All\",,,\"False\",\"T\",\"EveryTick\"))","v":{"$error":"#N/A"}},null,{"$f":"IF(D46=0,NA(),RTD(\"cqg.rtd\",,\"StudyData\", \"Close(\"&$BT$2&\") When Barix(\"&$BT$2&\",reference:=StartOfSession)=\"&A46&\"\", \"Bar\", \"\", \"Close\",\"5\",\"0\",\"All\",,,\"False\",\"T\",\"EveryTick\"))","v":{"$error":"#N/A"}},null,{"$f":"IF(D46=0,NA(),RTD(\"cqg.rtd\",,\"StudyData\", \"Close(\"&$BV$2&\") When Barix(\"&$BV$2&\",reference:=StartOfSession)=\"&A46&\"\", \"Bar\", \"\", \"Close\",\"5\",\"0\",\"All\",,,\"False\",\"T\",\"EveryTick\"))","v":{"$error":"#N/A"}},null,{"$f":"IF(D46=0,NA(),RTD(\"cqg.rtd\",,\"StudyData\", \"Close(\"&$BX$2&\") When Barix(\"&$BX$2&\",reference:=StartOfSession)=\"&A46&\"\", \"Bar\", \"\", \"Close\",\"5\",\"0\",\"All\",,,\"False\",\"T\",\"EveryTick\"))","v":{"$error":"#N/A"}},null,{"$f":"IF(D46=0,NA(),RTD(\"cqg.rtd\",,\"StudyData\", \"Close(\"&$BZ$2&\") When Barix(\"&$BZ$2&\",reference:=StartOfSession)=\"&A46&\"\", \"Bar\", \"\", \"Close\",\"5\",\"0\",\"All\",,,\"False\",\"T\",\"EveryTick\"))","v":{"$error":"#N/A"}}]
[43,{"$f":"IF(D47=0,NA(),RTD(\"cqg.rtd\",,\"StudyData\", \"Close(\"&$B$2&\") When Barix(\"&$B$2&\",reference:=StartOfSession)=\"&A47&\"\", \"Bar\", \"\", \"Close\",\"5\",\"0\",\"All\",,,\"False\",\"T\",\"EveryTick\"))","v":{"$error":"#N/A"}},"12:05:00",0,null,{"$f":"IF(D47=0,NA(),RTD(\"cqg.rtd\",,\"StudyData\", \"Close(\"&$F$2&\") When Barix(\"&$F$2&\",reference:=StartOfSession)=\"&A47&\"\", \"Bar\", \"\", \"Close\",\"5\",\"0\",\"All\",,,\"False\",\"T\",\"EveryTick\"))","v":{"$error":"#N/A"}},null,{"$f":"IF(D47=0,NA(),RTD(\"cqg.rtd\",,\"StudyData\", \"Close(\"&$H$2&\") When Barix(\"&$H$2&\",reference:=StartOfSession)=\"&A47&\"\", \"Bar\", \"\", \"Close\",\"5\",\"0\",\"All\",,,\"False\",\"T\",\"EveryTick\"))","v":{"$error":"#N/A"}},null,{"$f":"IF(D47=0,NA(),RTD(\"cqg.rtd\",,\"StudyData\", \"Close(\"&$J$2&\") When Barix(\"&$J$2&\",reference:=StartOfSession)=\"&A47&\"\", \"Bar\", \"\", \"Close\",\"5\",\"0\",\"All\",,,\"False\",\"T\",\"EveryTick\"))","v":{"$error":"#N/A"}},null,{"$f":"IF(D47=0,NA(),RTD(\"cqg.rtd\",,\"StudyData\", \"Close(\"&$L$2&\") When Barix(\"&$L$2&\",reference:=StartOfSession)=\"&A47&\"\", \"Bar\", \"\", \"Close\",\"5\",\"0\",\"All\",,,\"False\",\"T\",\"EveryTick\"))","v":{"$error":"#N/A"}},null,{"$f":"IF(D47=0,NA(),RTD(\"cqg.rtd\",,\"StudyData\", \"Close(\"&$N$2&\") When Barix(\"&$N$2&\",reference:=StartOfSession)=\"&A47&\"\", \"Bar\", \"\", \"Close\",\"5\",\"0\",\"All\",,,\"False\",\"T\",\"EveryTick\"))","v":{"$error":"#N/A"}},null,{"$f":"IF(D47=0,NA(),RTD(\"cqg.rtd\",,\"StudyData\", \"Close(\"&$P$2&\") When Barix(\"&$P$2&\",reference:=StartOfSession)=\"&A47&\"\", \"Bar\", \"\", \"Close\",\"5\",\"0\",\"All\",,,\"False\",\"T\",\"EveryTick\"))","v":{"$error":"#N/A"}},null,{"$f":"IF(D47=0,NA(),RTD(\"cqg.rtd\",,\"StudyData\", \"Close(\"&$R$2&\") When Barix(\"&$R$2&\",reference:=StartOfSession)=\"&A47&\"\", \"Bar\", \"\", \"Close\",\"5\",\"0\",\"All\",,,\"False\",\"T\",\"EveryTick\"))","v":{"$error":"#N/A"}},null,{"$f":"IF(D47=0,NA(),RTD(\"cqg.rtd\",,\"StudyData\", \"Close(\"&$T$2&\") When Barix(\"&$T$2&\",reference:=StartOfSession)=\"&A47&\"\", \"Bar\", \"\", \"Close\",\"5\",\"0\",\"All\",,,\"False\",\"T\",\"EveryTick\"))","v":{"$error":"#N/A"}},null,{"$f":"IF(D47=0,NA(),RTD(\"cqg.rtd\",,\"StudyData\", \"Close(\"&$V$2&\") When Barix(\"&$V$2&\",reference:=StartOfSession)=\"&A47&\"\", \"Bar\", \"\", \"Close\",\"5\",\"0\",\"All\",,,\"False\",\"T\",\"EveryTick\"))","v":{"$error":"#N/A"}},null,{"$f":"IF(D47=0,NA(),RTD(\"cqg.rtd\",,\"StudyData\", \"Close(\"&$X$2&\") When Barix(\"&$X$2&\",reference:=StartOfSession)=\"&A47&\"\", \"Bar\", \"\", \"Close\",\"5\",\"0\",\"All\",,,\"False\",\"T\",\"EveryTick\"))","v":{"$error":"#N/A"}},null,{"$f":"IF(D47=0,NA(),RTD(\"cqg.rtd\",,\"StudyData\", \"Close(\"&$Z$2&\") When Barix(\"&$Z$2&\",reference:=StartOfSession)=\"&A47&\"\", \"Bar\", \"\", \"Close\",\"5\",\"0\",\"All\",,,\"False\",\"T\",\"EveryTick\"))","v":{"$error":"#N/A"}},null,{"$f":"IF(D47=0,NA(),RTD(\"cqg.rtd\",,\"StudyData\", \"Close(\"&$AB$2&\") When Barix(\"&$AB$2&\",reference:=StartOfSession)=\"&A47&\"\", \"Bar\", \"\", \"Close\",\"5\",\"0\",\"All\",,,\"False\",\"T\",\"EveryTick\"))","v":{"$error":"#N/A"}},null,{"$f":"IF(D47=0,NA(),RTD(\"cqg.rtd\",,\"StudyData\", \"Close(\"&$AD$2&\") When Barix(\"&$AD$2&\",reference:=StartOfSession)=\"&A47&\"\", \"Bar\", \"\", \"Close\",\"5\",\"0\",\"All\",,,\"False\",\"T\",\"EveryTick\"))","v":{"$error":"#N/A"}},null,{"$f":"IF(D47=0,NA(),RTD(\"cqg.rtd\",,\"StudyData\", \"Close(\"&$AF$2&\") When Barix(\"&$AF$2&\",reference:=StartOfSession)=\"&A47&\"\", \"Bar\", \"\", \"Close\",\"5\",\"0\",\"All\",,,\"False\",\"T\",\"EveryTick\"))","v":{"$error":"#N/A"}},null,{"$f":"IF(D47=0,NA(),RTD(\"cqg.rtd\",,\"StudyData\", \"Close(\"&$AH$2&\") When Barix(\"&$AH$2&\",reference:=StartOfSession)=\"&A47&\"\", \"Bar\", \"\", \"Close\",\"5\",\"0\",\"All\",,,\"False\",\"T\",\"EveryTick\"))","v":{"$error":"#N/A"}},null,{"$f":"IF(D47=0,NA(),RTD(\"cqg.rtd\",,\"StudyData\", \"Close(\"&$AJ$2&\") When Barix(\"&$AJ$2&\",reference:=StartOfSession)=\"&A47&\"\", \"Bar\", \"\", \"Close\",\"5\",\"0\",\"All\",,,\"False\",\"T\",\"EveryTick\"))","v":{"$error":"#N/A"}},null,{"$f":"IF(D47=0,NA(),RTD(\"cqg.rtd\",,\"StudyData\", \"Close(\"&$AL$2&\") When Barix(\"&$AL$2&\",reference:=StartOfSession)=\"&A47&\"\", \"Bar\", \"\", \"Close\",\"5\",\"0\",\"All\",,,\"False\",\"T\",\"EveryTick\"))","v":{"$error":"#N/A"}},null,{"$f":"IF(D47=0,NA(),RTD(\"cqg.rtd\",,\"StudyData\", \"Close(\"&$AN$2&\") When Barix(\"&$AN$2&\",reference:=StartOfSession)=\"&A47&\"\", \"Bar\", \"\", \"Close\",\"5\",\"0\",\"All\",,,\"False\",\"T\",\"EveryTick\"))","v":{"$error":"#N/A"}},null,{"$f":"IF(D47=0,NA(),RTD(\"cqg.rtd\",,\"StudyData\", \"Close(\"&$AN$2&\") When Barix(\"&$AN$2&\",reference:=StartOfSession)=\"&A47&\"\", \"Bar\", \"\", \"Close\",\"5\",\"0\",\"All\",,,\"False\",\"T\",\"EveryTick\"))","v":{"$error":"#N/A"}},null,{"$f":"IF(D47=0,NA(),RTD(\"cqg.rtd\",,\"StudyData\", \"Close(\"&$AR$2&\") When Barix(\"&$AR$2&\",reference:=StartOfSession)=\"&A47&\"\", \"Bar\", \"\", \"Close\",\"5\",\"0\",\"All\",,,\"False\",\"T\",\"EveryTick\"))","v":{"$error":"#N/A"}},null,{"$f":"IF(D47=0,NA(),RTD(\"cqg.rtd\",,\"StudyData\", \"Close(\"&$AT$2&\") When Barix(\"&$AT$2&\",reference:=StartOfSession)=\"&A47&\"\", \"Bar\", \"\", \"Close\",\"5\",\"0\",\"All\",,,\"False\",\"T\",\"EveryTick\"))","v":{"$error":"#N/A"}},null,{"$f":"IF(D47=0,NA(),RTD(\"cqg.rtd\",,\"StudyData\", \"Close(\"&$AV$2&\") When Barix(\"&$AV$2&\",reference:=StartOfSession)=\"&A47&\"\", \"Bar\", \"\", \"Close\",\"5\",\"0\",\"All\",,,\"False\",\"T\",\"EveryTick\"))","v":{"$error":"#N/A"}},null,{"$f":"IF(D47=0,NA(),RTD(\"cqg.rtd\",,\"StudyData\", \"Close(\"&$AX$2&\") When Barix(\"&$AX$2&\",reference:=StartOfSession)=\"&A47&\"\", \"Bar\", \"\", \"Close\",\"5\",\"0\",\"All\",,,\"False\",\"T\",\"EveryTick\"))","v":{"$error":"#N/A"}},null,{"$f":"IF(D47=0,NA(),RTD(\"cqg.rtd\",,\"StudyData\", \"Close(\"&$AZ$2&\") When Barix(\"&$AZ$2&\",reference:=StartOfSession)=\"&A47&\"\", \"Bar\", \"\", \"Close\",\"5\",\"0\",\"All\",,,\"False\",\"T\",\"EveryTick\"))","v":{"$error":"#N/A"}},null,{"$f":"IF(D47=0,NA(),RTD(\"cqg.rtd\",,\"StudyData\", \"Close(\"&$BB$2&\") When Barix(\"&$BB$2&\",reference:=StartOfSession)=\"&A47&\"\", \"Bar\", \"\", \"Close\",\"5\",\"0\",\"All\",,,\"False\",\"T\",\"EveryTick\"))","v":{"$error":"#N/A"}},null,{"$f":"IF(D47=0,NA(),RTD(\"cqg.rtd\",,\"StudyData\", \"Close(\"&$BD$2&\") When Barix(\"&$BD$2&\",reference:=StartOfSession)=\"&A47&\"\", \"Bar\", \"\", \"Close\",\"5\",\"0\",\"All\",,,\"False\",\"T\",\"EveryTick\"))","v":{"$error":"#N/A"}},null,{"$f":"IF(D47=0,NA(),RTD(\"cqg.rtd\",,\"StudyData\", \"Close(\"&$BF$2&\") When Barix(\"&$BF$2&\",reference:=StartOfSession)=\"&A47&\"\", \"Bar\", \"\", \"Close\",\"5\",\"0\",\"All\",,,\"False\",\"T\",\"EveryTick\"))","v":{"$error":"#N/A"}},null,{"$f":"IF(D47=0,NA(),RTD(\"cqg.rtd\",,\"StudyData\", \"Close(\"&$BH$2&\") When Barix(\"&$BH$2&\",reference:=StartOfSession)=\"&A47&\"\", \"Bar\", \"\", \"Close\",\"5\",\"0\",\"All\",,,\"False\",\"T\",\"EveryTick\"))","v":{"$error":"#N/A"}},null,{"$f":"IF(D47=0,NA(),RTD(\"cqg.rtd\",,\"StudyData\", \"Close(\"&$BJ$2&\") When Barix(\"&$BJ$2&\",reference:=StartOfSession)=\"&A47&\"\", \"Bar\", \"\", \"Close\",\"5\",\"0\",\"All\",,,\"False\",\"T\",\"EveryTick\"))","v":{"$error":"#N/A"}},null,{"$f":"IF(D47=0,NA(),RTD(\"cqg.rtd\",,\"StudyData\", \"Close(\"&$BL$2&\") When Barix(\"&$BL$2&\",reference:=StartOfSession)=\"&A47&\"\", \"Bar\", \"\", \"Close\",\"5\",\"0\",\"All\",,,\"False\",\"T\",\"EveryTick\"))","v":{"$error":"#N/A"}},null,{"$f":"IF(D47=0,NA(),RTD(\"cqg.rtd\",,\"StudyData\", \"Close(\"&$BN$2&\") When Barix(\"&$BN$2&\",reference:=StartOfSession)=\"&A47&\"\", \"Bar\", \"\", \"Close\",\"5\",\"0\",\"All\",,,\"False\",\"T\",\"EveryTick\"))","v":{"$error":"#N/A"}},null,{"$f":"IF(D47=0,NA(),RTD(\"cqg.rtd\",,\"StudyData\", \"Close(\"&$BP$2&\") When Barix(\"&$BP$2&\",reference:=StartOfSession)=\"&A47&\"\", \"Bar\", \"\", \"Close\",\"5\",\"0\",\"All\",,,\"False\",\"T\",\"EveryTick\"))","v":{"$error":"#N/A"}},null,{"$f":"IF(D47=0,NA(),RTD(\"cqg.rtd\",,\"StudyData\", \"Close(\"&$BR$2&\") When Barix(\"&$BR$2&\",reference:=StartOfSession)=\"&A47&\"\", \"Bar\", \"\", \"Close\",\"5\",\"0\",\"All\",,,\"False\",\"T\",\"EveryTick\"))","v":{"$error":"#N/A"}},null,{"$f":"IF(D47=0,NA(),RTD(\"cqg.rtd\",,\"StudyData\", \"Close(\"&$BT$2&\") When Barix(\"&$BT$2&\",reference:=StartOfSession)=\"&A47&\"\", \"Bar\", \"\", \"Close\",\"5\",\"0\",\"All\",,,\"False\",\"T\",\"EveryTick\"))","v":{"$error":"#N/A"}},null,{"$f":"IF(D47=0,NA(),RTD(\"cqg.rtd\",,\"StudyData\", \"Close(\"&$BV$2&\") When Barix(\"&$BV$2&\",reference:=StartOfSession)=\"&A47&\"\", \"Bar\", \"\", \"Close\",\"5\",\"0\",\"All\",,,\"False\",\"T\",\"EveryTick\"))","v":{"$error":"#N/A"}},null,{"$f":"IF(D47=0,NA(),RTD(\"cqg.rtd\",,\"StudyData\", \"Close(\"&$BX$2&\") When Barix(\"&$BX$2&\",reference:=StartOfSession)=\"&A47&\"\", \"Bar\", \"\", \"Close\",\"5\",\"0\",\"All\",,,\"False\",\"T\",\"EveryTick\"))","v":{"$error":"#N/A"}},null,{"$f":"IF(D47=0,NA(),RTD(\"cqg.rtd\",,\"StudyData\", \"Close(\"&$BZ$2&\") When Barix(\"&$BZ$2&\",reference:=StartOfSession)=\"&A47&\"\", \"Bar\", \"\", \"Close\",\"5\",\"0\",\"All\",,,\"False\",\"T\",\"EveryTick\"))","v":{"$error":"#N/A"}}]
[44,{"$f":"IF(D48=0,NA(),RTD(\"cqg.rtd\",,\"StudyData\", \"Close(\"&$B$2&\") When Barix(\"&$B$2&\",reference:=StartOfSession)=\"&A48&\"\", \"Bar\", \"\", \"Close\",\"5\",\"0\",\"All\",,,\"False\",\"T\",\"EveryTick\"))","v":{"$error":"#N/A"}},"12:10:00",0,null,{"$f":"IF(D48=0,NA(),RTD(\"cqg.rtd\",,\"StudyData\", \"Close(\"&$F$2&\") When Barix(\"&$F$2&\",reference:=StartOfSession)=\"&A48&\"\", \"Bar\", \"\", \"Close\",\"5\",\"0\",\"All\",,,\"False\",\"T\",\"EveryTick\"))","v":{"$error":"#N/A"}},null,{"$f":"IF(D48=0,NA(),RTD(\"cqg.rtd\",,\"StudyData\", \"Close(\"&$H$2&\") When Barix(\"&$H$2&\",reference:=StartOfSession)=\"&A48&\"\", \"Bar\", \"\", \"Close\",\"5\",\"0\",\"All\",,,\"False\",\"T\",\"EveryTick\"))","v":{"$error":"#N/A"}},null,{"$f":"IF(D48=0,NA(),RTD(\"cqg.rtd\",,\"StudyData\", \"Close(\"&$J$2&\") When Barix(\"&$J$2&\",reference:=StartOfSession)=\"&A48&\"\", \"Bar\", \"\", \"Close\",\"5\",\"0\",\"All\",,,\"False\",\"T\",\"EveryTick\"))","v":{"$error":"#N/A"}},null,{"$f":"IF(D48=0,NA(),RTD(\"cqg.rtd\",,\"StudyData\", \"Close(\"&$L$2&\") When Barix(\"&$L$2&\",reference:=StartOfSession)=\"&A48&\"\", \"Bar\", \"\", \"Close\",\"5\",\"0\",\"All\",,,\"False\",\"T\",\"EveryTick\"))","v":{"$error":"#N/A"}},null,{"$f":"IF(D48=0,NA(),RTD(\"cqg.rtd\",,\"StudyData\", \"Close(\"&$N$2&\") When Barix(\"&$N$2&\",reference:=StartOfSession)=\"&A48&\"\", \"Bar\", \"\", \"Close\",\"5\",\"0\",\"All\",,,\"False\",\"T\",\"EveryTick\"))","v":{"$error":"#N/A"}},null,{"$f":"IF(D48=0,NA(),RTD(\"cqg.rtd\",,\"StudyData\", \"Close(\"&$P$2&\") When Barix(\"&$P$2&\",reference:=StartOfSession)=\"&A48&\"\", \"Bar\", \"\", \"Close\",\"5\",\"0\",\"All\",,,\"False\",\"T\",\"EveryTick\"))","v":{"$error":"#N/A"}},null,{"$f":"IF(D48=0,NA(),RTD(\"cqg.rtd\",,\"StudyData\", \"Close(\"&$R$2&\") When Barix(\"&$R$2&\",reference:=StartOfSession)=\"&A48&\"\", \"Bar\", \"\", \"Close\",\"5\",\"0\",\"All\",,,\"False\",\"T\",\"EveryTick\"))","v":{"$error":"#N/A"}},null,{"$f":"IF(D48=0,NA(),RTD(\"cqg.rtd\",,\"StudyData\", \"Close(\"&$T$2&\") When Barix(\"&$T$2&\",reference:=StartOfSession)=\"&A48&\"\", \"Bar\", \"\", \"Close\",\"5\",\"0\",\"All\",,,\"False\",\"T\",\"EveryTick\"))","v":{"$error":"#N/A"}},null,{"$f":"IF(D48=0,NA(),RTD(\"cqg.rtd\",,\"StudyData\", \"Close(\"&$V$2&\") When Barix(\"&$V$2&\",reference:=StartOfSession)=\"&A48&\"\", \"Bar\", \"\", \"Close\",\"5\",\"0\",\"All\",,,\"False\",\"T\",\"EveryTick\"))","v":{"$error":"#N/A"}},null,{"$f":"IF(D48=0,NA(),RTD(\"cqg.rtd\",,\"StudyData\", \"Close(\"&$X$2&\") When Barix(\"&$X$2&\",reference:=StartOfSession)=\"&A48&\"\", \"Bar\", \"\", \"Close\",\"5\",\"0\",\"All\",,,\"False\",\"T\",\"EveryTick\"))","v":{"$error":"#N/A"}},null,{"$f":"IF(D48=0,NA(),RTD(\"cqg.rtd\",,\"StudyData\", \"Close(\"&$Z$2&\") When Barix(\"&$Z$2&\",reference:=StartOfSession)=\"&A48&\"\", \"Bar\", \"\", \"Close\",\"5\",\"0\",\"All\",,,\"False\",\"T\",\"EveryTick\"))","v":{"$error":"#N/A"}},null,{"$f":"IF(D48=0,NA(),RTD(\"cqg.rtd\",,\"StudyData\", \"Close(\"&$AB$2&\") When Barix(\"&$AB$2&\",reference:=StartOfSession)=\"&A48&\"\", \"Bar\", \"\", \"Close\",\"5\",\"0\",\"All\",,,\"False\",\"T\",\"EveryTick\"))","v":{"$error":"#N/A"}},null,{"$f":"IF(D48=0,NA(),RTD(\"cqg.rtd\",,\"StudyData\", \"Close(\"&$AD$2&\") When Barix(\"&$AD$2&\",reference:=StartOfSession)=\"&A48&\"\", \"Bar\", \"\", \"Close\",\"5\",\"0\",\"All\",,,\"False\",\"T\",\"EveryTick\"))","v":{"$error":"#N/A"}},null,{"$f":"IF(D48=0,NA(),RTD(\"cqg.rtd\",,\"StudyData\", \"Close(\"&$AF$2&\") When Barix(\"&$AF$2&\",reference:=StartOfSession)=\"&A48&\"\", \"Bar\", \"\", \"Close\",\"5\",\"0\",\"All\",,,\"False\",\"T\",\"EveryTick\"))","v":{"$error":"#N/A"}},null,{"$f":"IF(D48=0,NA(),RTD(\"cqg.rtd\",,\"StudyData\", \"Close(\"&$AH$2&\") When Barix(\"&$AH$2&\",reference:=StartOfSession)=\"&A48&\"\", \"Bar\", \"\", \"Close\",\"5\",\"0\",\"All\",,,\"False\",\"T\",\"EveryTick\"))","v":{"$error":"#N/A"}},null,{"$f":"IF(D48=0,NA(),RTD(\"cqg.rtd\",,\"StudyData\", \"Close(\"&$AJ$2&\") When Barix(\"&$AJ$2&\",reference:=StartOfSession)=\"&A48&\"\", \"Bar\", \"\", \"Close\",\"5\",\"0\",\"All\",,,\"False\",\"T\",\"EveryTick\"))","v":{"$error":"#N/A"}},null,{"$f":"IF(D48=0,NA(),RTD(\"cqg.rtd\",,\"StudyData\", \"Close(\"&$AL$2&\") When Barix(\"&$AL$2&\",reference:=StartOfSession)=\"&A48&\"\", \"Bar\", \"\", \"Close\",\"5\",\"0\",\"All\",,,\"False\",\"T\",\"EveryTick\"))","v":{"$error":"#N/A"}},null,{"$f":"IF(D48=0,NA(),RTD(\"cqg.rtd\",,\"StudyData\", \"Close(\"&$AN$2&\") When Barix(\"&$AN$2&\",reference:=StartOfSession)=\"&A48&\"\", \"Bar\", \"\", \"Close\",\"5\",\"0\",\"All\",,,\"False\",\"T\",\"EveryTick\"))","v":{"$error":"#N/A"}},null,{"$f":"IF(D48=0,NA(),RTD(\"cqg.rtd\",,\"StudyData\", \"Close(\"&$AN$2&\") When Barix(\"&$AN$2&\",reference:=StartOfSession)=\"&A48&\"\", \"Bar\", \"\", \"Close\",\"5\",\"0\",\"All\",,,\"False\",\"T\",\"EveryTick\"))","v":{"$error":"#N/A"}},null,{"$f":"IF(D48=0,NA(),RTD(\"cqg.rtd\",,\"StudyData\", \"Close(\"&$AR$2&\") When Barix(\"&$AR$2&\",reference:=StartOfSession)=\"&A48&\"\", \"Bar\", \"\", \"Close\",\"5\",\"0\",\"All\",,,\"False\",\"T\",\"EveryTick\"))","v":{"$error":"#N/A"}},null,{"$f":"IF(D48=0,NA(),RTD(\"cqg.rtd\",,\"StudyData\", \"Close(\"&$AT$2&\") When Barix(\"&$AT$2&\",reference:=StartOfSession)=\"&A48&\"\", \"Bar\", \"\", \"Close\",\"5\",\"0\",\"All\",,,\"False\",\"T\",\"EveryTick\"))","v":{"$error":"#N/A"}},null,{"$f":"IF(D48=0,NA(),RTD(\"cqg.rtd\",,\"StudyData\", \"Close(\"&$AV$2&\") When Barix(\"&$AV$2&\",reference:=StartOfSession)=\"&A48&\"\", \"Bar\", \"\", \"Close\",\"5\",\"0\",\"All\",,,\"False\",\"T\",\"EveryTick\"))","v":{"$error":"#N/A"}},null,{"$f":"IF(D48=0,NA(),RTD(\"cqg.rtd\",,\"StudyData\", \"Close(\"&$AX$2&\") When Barix(\"&$AX$2&\",reference:=StartOfSession)=\"&A48&\"\", \"Bar\", \"\", \"Close\",\"5\",\"0\",\"All\",,,\"False\",\"T\",\"EveryTick\"))","v":{"$error":"#N/A"}},null,{"$f":"IF(D48=0,NA(),RTD(\"cqg.rtd\",,\"StudyData\", \"Close(\"&$AZ$2&\") When Barix(\"&$AZ$2&\",reference:=StartOfSession)=\"&A48&\"\", \"Bar\", \"\", \"Close\",\"5\",\"0\",\"All\",,,\"False\",\"T\",\"EveryTick\"))","v":{"$error":"#N/A"}},null,{"$f":"IF(D48=0,NA(),RTD(\"cqg.rtd\",,\"StudyData\", \"Close(\"&$BB$2&\") When Barix(\"&$BB$2&\",reference:=StartOfSession)=\"&A48&\"\", \"Bar\", \"\", \"Close\",\"5\",\"0\",\"All\",,,\"False\",\"T\",\"EveryTick\"))","v":{"$error":"#N/A"}},null,{"$f":"IF(D48=0,NA(),RTD(\"cqg.rtd\",,\"StudyData\", \"Close(\"&$BD$2&\") When Barix(\"&$BD$2&\",reference:=StartOfSession)=\"&A48&\"\", \"Bar\", \"\", \"Close\",\"5\",\"0\",\"All\",,,\"False\",\"T\",\"EveryTick\"))","v":{"$error":"#N/A"}},null,{"$f":"IF(D48=0,NA(),RTD(\"cqg.rtd\",,\"StudyData\", \"Close(\"&$BF$2&\") When Barix(\"&$BF$2&\",reference:=StartOfSession)=\"&A48&\"\", \"Bar\", \"\", \"Close\",\"5\",\"0\",\"All\",,,\"False\",\"T\",\"EveryTick\"))","v":{"$error":"#N/A"}},null,{"$f":"IF(D48=0,NA(),RTD(\"cqg.rtd\",,\"StudyData\", \"Close(\"&$BH$2&\") When Barix(\"&$BH$2&\",reference:=StartOfSession)=\"&A48&\"\", \"Bar\", \"\", \"Close\",\"5\",\"0\",\"All\",,,\"False\",\"T\",\"EveryTick\"))","v":{"$error":"#N/A"}},null,{"$f":"IF(D48=0,NA(),RTD(\"cqg.rtd\",,\"StudyData\", \"Close(\"&$BJ$2&\") When Barix(\"&$BJ$2&\",reference:=StartOfSession)=\"&A48&\"\", \"Bar\", \"\", \"Close\",\"5\",\"0\",\"All\",,,\"False\",\"T\",\"EveryTick\"))","v":{"$error":"#N/A"}},null,{"$f":"IF(D48=0,NA(),RTD(\"cqg.rtd\",,\"StudyData\", \"Close(\"&$BL$2&\") When Barix(\"&$BL$2&\",reference:=StartOfSession)=\"&A48&\"\", \"Bar\", \"\", \"Close\",\"5\",\"0\",\"All\",,,\"False\",\"T\",\"EveryTick\"))","v":{"$error":"#N/A"}},null,{"$f":"IF(D48=0,NA(),RTD(\"cqg.rtd\",,\"StudyData\", \"Close(\"&$BN$2&\") When Barix(\"&$BN$2&\",reference:=StartOfSession)=\"&A48&\"\", \"Bar\", \"\", \"Close\",\"5\",\"0\",\"All\",,,\"False\",\"T\",\"EveryTick\"))","v":{"$error":"#N/A"}},null,{"$f":"IF(D48=0,NA(),RTD(\"cqg.rtd\",,\"StudyData\", \"Close(\"&$BP$2&\") When Barix(\"&$BP$2&\",reference:=StartOfSession)=\"&A48&\"\", \"Bar\", \"\", \"Close\",\"5\",\"0\",\"All\",,,\"False\",\"T\",\"EveryTick\"))","v":{"$error":"#N/A"}},null,{"$f":"IF(D48=0,NA(),RTD(\"cqg.rtd\",,\"StudyData\", \"Close(\"&$BR$2&\") When Barix(\"&$BR$2&\",reference:=StartOfSession)=\"&A48&\"\", \"Bar\", \"\", \"Close\",\"5\",\"0\",\"All\",,,\"False\",\"T\",\"EveryTick\"))","v":{"$error":"#N/A"}},null,{"$f":"IF(D48=0,NA(),RTD(\"cqg.rtd\",,\"StudyData\", \"Close(\"&$BT$2&\") When Barix(\"&$BT$2&\",reference:=StartOfSession)=\"&A48&\"\", \"Bar\", \"\", \"Close\",\"5\",\"0\",\"All\",,,\"False\",\"T\",\"EveryTick\"))","v":{"$error":"#N/A"}},null,{"$f":"IF(D48=0,NA(),RTD(\"cqg.rtd\",,\"StudyData\", \"Close(\"&$BV$2&\") When Barix(\"&$BV$2&\",reference:=StartOfSession)=\"&A48&\"\", \"Bar\", \"\", \"Close\",\"5\",\"0\",\"All\",,,\"False\",\"T\",\"EveryTick\"))","v":{"$error":"#N/A"}},null,{"$f":"IF(D48=0,NA(),RTD(\"cqg.rtd\",,\"StudyData\", \"Close(\"&$BX$2&\") When Barix(\"&$BX$2&\",reference:=StartOfSession)=\"&A48&\"\", \"Bar\", \"\", \"Close\",\"5\",\"0\",\"All\",,,\"False\",\"T\",\"EveryTick\"))","v":{"$error":"#N/A"}},null,{"$f":"IF(D48=0,NA(),RTD(\"cqg.rtd\",,\"StudyData\", \"Close(\"&$BZ$2&\") When Barix(\"&$BZ$2&\",reference:=StartOfSession)=\"&A48&\"\", \"Bar\", \"\", \"Close\",\"5\",\"0\",\"All\",,,\"False\",\"T\",\"EveryTick\"))","v":{"$error":"#N/A"}}]
[45,{"$f":"IF(D49=0,NA(),RTD(\"cqg.rtd\",,\"StudyData\", \"Close(\"&$B$2&\") When Barix(\"&$B$2&\",reference:=StartOfSession)=\"&A49&\"\", \"Bar\", \"\", \"Close\",\"5\",\"0\",\"All\",,,\"False\",\"T\",\"EveryTick\"))","v":{"$error":"#N/A"}},"12:15:00",0,null,{"$f":"IF(D49=0,NA(),RTD(\"cqg.rtd\",,\"StudyData\", \"Close(\"&$F$2&\") When Barix(\"&$F$2&\",reference:=StartOfSession)=\"&A49&\"\", \"Bar\", \"\", \"Close\",\"5\",\"0\",\"All\",,,\"False\",\"T\",\"EveryTick\"))","v":{"$error":"#N/A"}},null,{"$f":"IF(D49=0,NA(),RTD(\"cqg.rtd\",,\"StudyData\", \"Close(\"&$H$2&\") When Barix(\"&$H$2&\",reference:=StartOfSession)=\"&A49&\"\", \"Bar\", \"\", \"Close\",\"5\",\"0\",\"All\",,,\"False\",\"T\",\"EveryTick\"))","v":{"$error":"#N/A"}},null,{"$f":"IF(D49=0,NA(),RTD(\"cqg.rtd\",,\"StudyData\", \"Close(\"&$J$2&\") When Barix(\"&$J$2&\",reference:=StartOfSession)=\"&A49&\"\", \"Bar\", \"\", \"Close\",\"5\",\"0\",\"All\",,,\"False\",\"T\",\"EveryTick\"))","v":{"$error":"#N/A"}},null,{"$f":"IF(D49=0,NA(),RTD(\"cqg.rtd\",,\"StudyData\", \"Close(\"&$L$2&\") When Barix(\"&$L$2&\",reference:=StartOfSession)=\"&A49&\"\", \"Bar\", \"\", \"Close\",\"5\",\"0\",\"All\",,,\"False\",\"T\",\"EveryTick\"))","v":{"$error":"#N/A"}},null,{"$f":"IF(D49=0,NA(),RTD(\"cqg.rtd\",,\"StudyData\", \"Close(\"&$N$2&\") When Barix(\"&$N$2&\",reference:=StartOfSession)=\"&A49&\"\", \"Bar\", \"\", \"Close\",\"5\",\"0\",\"All\",,,\"False\",\"T\",\"EveryTick\"))","v":{"$error":"#N/A"}},null,{"$f":"IF(D49=0,NA(),RTD(\"cqg.rtd\",,\"StudyData\", \"Close(\"&$P$2&\") When Barix(\"&$P$2&\",reference:=StartOfSession)=\"&A49&\"\", \"Bar\", \"\", \"Close\",\"5\",\"0\",\"All\",,,\"False\",\"T\",\"EveryTick\"))","v":{"$error":"#N/A"}},null,{"$f":"IF(D49=0,NA(),RTD(\"cqg.rtd\",,\"StudyData\", \"Close(\"&$R$2&\") When Barix(\"&$R$2&\",reference:=StartOfSession)=\"&A49&\"\", \"Bar\", \"\", \"Close\",\"5\",\"0\",\"All\",,,\"False\",\"T\",\"EveryTick\"))","v":{"$error":"#N/A"}},null,{"$f":"IF(D49=0,NA(),RTD(\"cqg.rtd\",,\"StudyData\", \"Close(\"&$T$2&\") When Barix(\"&$T$2&\",reference:=StartOfSession)=\"&A49&\"\", \"Bar\", \"\", \"Close\",\"5\",\"0\",\"All\",,,\"False\",\"T\",\"EveryTick\"))","v":{"$error":"#N/A"}},null,{"$f":"IF(D49=0,NA(),RTD(\"cqg.rtd\",,\"StudyData\", \"Close(\"&$V$2&\") When Barix(\"&$V$2&\",reference:=StartOfSession)=\"&A49&\"\", \"Bar\", \"\", \"Close\",\"5\",\"0\",\"All\",,,\"False\",\"T\",\"EveryTick\"))","v":{"$error":"#N/A"}},null,{"$f":"IF(D49=0,NA(),RTD(\"cqg.rtd\",,\"StudyData\", \"Close(\"&$X$2&\") When Barix(\"&$X$2&\",reference:=StartOfSession)=\"&A49&\"\", \"Bar\", \"\", \"Close\",\"5\",\"0\",\"All\",,,\"False\",\"T\",\"EveryTick\"))","v":{"$error":"#N/A"}},null,{"$f":"IF(D49=0,NA(),RTD(\"cqg.rtd\",,\"StudyData\", \"Close(\"&$Z$2&\") When Barix(\"&$Z$2&\",reference:=StartOfSession)=\"&A49&\"\", \"Bar\", \"\", \"Close\",\"5\",\"0\",\"All\",,,\"False\",\"T\",\"EveryTick\"))","v":{"$error":"#N/A"}},null,{"$f":"IF(D49=0,NA(),RTD(\"cqg.rtd\",,\"StudyData\", \"Close(\"&$AB$2&\") When Barix(\"&$AB$2&\",reference:=StartOfSession)=\"&A49&\"\", \"Bar\", \"\", \"Close\",\"5\",\"0\",\"All\",,,\"False\",\"T\",\"EveryTick\"))","v":{"$error":"#N/A"}},null,{"$f":"IF(D49=0,NA(),RTD(\"cqg.rtd\",,\"StudyData\", \"Close(\"&$AD$2&\") When Barix(\"&$AD$2&\",reference:=StartOfSession)=\"&A49&\"\", \"Bar\", \"\", \"Close\",\"5\",\"0\",\"All\",,,\"False\",\"T\",\"EveryTick\"))","v":{"$error":"#N/A"}},null,{"$f":"IF(D49=0,NA(),RTD(\"cqg.rtd\",,\"StudyData\", \"Close(\"&$AF$2&\") When Barix(\"&$AF$2&\",reference:=StartOfSession)=\"&A49&\"\", \"Bar\", \"\", \"Close\",\"5\",\"0\",\"All\",,,\"False\",\"T\",\"EveryTick\"))","v":{"$error":"#N/A"}},null,{"$f":"IF(D49=0,NA(),RTD(\"cqg.rtd\",,\"StudyData\", \"Close(\"&$AH$2&\") When Barix(\"&$AH$2&\",reference:=StartOfSession)=\"&A49&\"\", \"Bar\", \"\", \"Close\",\"5\",\"0\",\"All\",,,\"False\",\"T\",\"EveryTick\"))","v":{"$error":"#N/A"}},null,{"$f":"IF(D49=0,NA(),RTD(\"cqg.rtd\",,\"StudyData\", \"Close(\"&$AJ$2&\") When Barix(\"&$AJ$2&\",reference:=StartOfSession)=\"&A49&\"\", \"Bar\", \"\", \"Close\",\"5\",\"0\",\"All\",,,\"False\",\"T\",\"EveryTick\"))","v":{"$error":"#N/A"}},null,{"$f":"IF(D49=0,NA(),RTD(\"cqg.rtd\",,\"StudyData\", \"Close(\"&$AL$2&\") When Barix(\"&$AL$2&\",reference:=StartOfSession)=\"&A49&\"\", \"Bar\", \"\", \"Close\",\"5\",\"0\",\"All\",,,\"False\",\"T\",\"EveryTick\"))","v":{"$error":"#N/A"}},null,{"$f":"IF(D49=0,NA(),RTD(\"cqg.rtd\",,\"StudyData\", \"Close(\"&$AN$2&\") When Barix(\"&$AN$2&\",reference:=StartOfSession)=\"&A49&\"\", \"Bar\", \"\", \"Close\",\"5\",\"0\",\"All\",,,\"False\",\"T\",\"EveryTick\"))","v":{"$error":"#N/A"}},null,{"$f":"IF(D49=0,NA(),RTD(\"cqg.rtd\",,\"StudyData\", \"Close(\"&$AN$2&\") When Barix(\"&$AN$2&\",reference:=StartOfSession)=\"&A49&\"\", \"Bar\", \"\", \"Close\",\"5\",\"0\",\"All\",,,\"False\",\"T\",\"EveryTick\"))","v":{"$error":"#N/A"}},null,{"$f":"IF(D49=0,NA(),RTD(\"cqg.rtd\",,\"StudyData\", \"Close(\"&$AR$2&\") When Barix(\"&$AR$2&\",reference:=StartOfSession)=\"&A49&\"\", \"Bar\", \"\", \"Close\",\"5\",\"0\",\"All\",,,\"False\",\"T\",\"EveryTick\"))","v":{"$error":"#N/A"}},null,{"$f":"IF(D49=0,NA(),RTD(\"cqg.rtd\",,\"StudyData\", \"Close(\"&$AT$2&\") When Barix(\"&$AT$2&\",reference:=StartOfSession)=\"&A49&\"\", \"Bar\", \"\", \"Close\",\"5\",\"0\",\"All\",,,\"False\",\"T\",\"EveryTick\"))","v":{"$error":"#N/A"}},null,{"$f":"IF(D49=0,NA(),RTD(\"cqg.rtd\",,\"StudyData\", \"Close(\"&$AV$2&\") When Barix(\"&$AV$2&\",reference:=StartOfSession)=\"&A49&\"\", \"Bar\", \"\", \"Close\",\"5\",\"0\",\"All\",,,\"False\",\"T\",\"EveryTick\"))","v":{"$error":"#N/A"}},null,{"$f":"IF(D49=0,NA(),RTD(\"cqg.rtd\",,\"StudyData\", \"Close(\"&$AX$2&\") When Barix(\"&$AX$2&\",reference:=StartOfSession)=\"&A49&\"\", \"Bar\", \"\", \"Close\",\"5\",\"0\",\"All\",,,\"False\",\"T\",\"EveryTick\"))","v":{"$error":"#N/A"}},null,{"$f":"IF(D49=0,NA(),RTD(\"cqg.rtd\",,\"StudyData\", \"Close(\"&$AZ$2&\") When Barix(\"&$AZ$2&\",reference:=StartOfSession)=\"&A49&\"\", \"Bar\", \"\", \"Close\",\"5\",\"0\",\"All\",,,\"False\",\"T\",\"EveryTick\"))","v":{"$error":"#N/A"}},null,{"$f":"IF(D49=0,NA(),RTD(\"cqg.rtd\",,\"StudyData\", \"Close(\"&$BB$2&\") When Barix(\"&$BB$2&\",reference:=StartOfSession)=\"&A49&\"\", \"Bar\", \"\", \"Close\",\"5\",\"0\",\"All\",,,\"False\",\"T\",\"EveryTick\"))","v":{"$error":"#N/A"}},null,{"$f":"IF(D49=0,NA(),RTD(\"cqg.rtd\",,\"StudyData\", \"Close(\"&$BD$2&\") When Barix(\"&$BD$2&\",reference:=StartOfSession)=\"&A49&\"\", \"Bar\", \"\", \"Close\",\"5\",\"0\",\"All\",,,\"False\",\"T\",\"EveryTick\"))","v":{"$error":"#N/A"}},null,{"$f":"IF(D49=0,NA(),RTD(\"cqg.rtd\",,\"StudyData\", \"Close(\"&$BF$2&\") When Barix(\"&$BF$2&\",reference:=StartOfSession)=\"&A49&\"\", \"Bar\", \"\", \"Close\",\"5\",\"0\",\"All\",,,\"False\",\"T\",\"EveryTick\"))","v":{"$error":"#N/A"}},null,{"$f":"IF(D49=0,NA(),RTD(\"cqg.rtd\",,\"StudyData\", \"Close(\"&$BH$2&\") When Barix(\"&$BH$2&\",reference:=StartOfSession)=\"&A49&\"\", \"Bar\", \"\", \"Close\",\"5\",\"0\",\"All\",,,\"False\",\"T\",\"EveryTick\"))","v":{"$error":"#N/A"}},null,{"$f":"IF(D49=0,NA(),RTD(\"cqg.rtd\",,\"StudyData\", \"Close(\"&$BJ$2&\") When Barix(\"&$BJ$2&\",reference:=StartOfSession)=\"&A49&\"\", \"Bar\", \"\", \"Close\",\"5\",\"0\",\"All\",,,\"False\",\"T\",\"EveryTick\"))","v":{"$error":"#N/A"}},null,{"$f":"IF(D49=0,NA(),RTD(\"cqg.rtd\",,\"StudyData\", \"Close(\"&$BL$2&\") When Barix(\"&$BL$2&\",reference:=StartOfSession)=\"&A49&\"\", \"Bar\", \"\", \"Close\",\"5\",\"0\",\"All\",,,\"False\",\"T\",\"EveryTick\"))","v":{"$error":"#N/A"}},null,{"$f":"IF(D49=0,NA(),RTD(\"cqg.rtd\",,\"StudyData\", \"Close(\"&$BN$2&\") When Barix(\"&$BN$2&\",reference:=StartOfSession)=\"&A49&\"\", \"Bar\", \"\", \"Close\",\"5\",\"0\",\"All\",,,\"False\",\"T\",\"EveryTick\"))","v":{"$error":"#N/A"}},null,{"$f":"IF(D49=0,NA(),RTD(\"cqg.rtd\",,\"StudyData\", \"Close(\"&$BP$2&\") When Barix(\"&$BP$2&\",reference:=StartOfSession)=\"&A49&\"\", \"Bar\", \"\", \"Close\",\"5\",\"0\",\"All\",,,\"False\",\"T\",\"EveryTick\"))","v":{"$error":"#N/A"}},null,{"$f":"IF(D49=0,NA(),RTD(\"cqg.rtd\",,\"StudyData\", \"Close(\"&$BR$2&\") When Barix(\"&$BR$2&\",reference:=StartOfSession)=\"&A49&\"\", \"Bar\", \"\", \"Close\",\"5\",\"0\",\"All\",,,\"False\",\"T\",\"EveryTick\"))","v":{"$error":"#N/A"}},null,{"$f":"IF(D49=0,NA(),RTD(\"cqg.rtd\",,\"StudyData\", \"Close(\"&$BT$2&\") When Barix(\"&$BT$2&\",reference:=StartOfSession)=\"&A49&\"\", \"Bar\", \"\", \"Close\",\"5\",\"0\",\"All\",,,\"False\",\"T\",\"EveryTick\"))","v":{"$error":"#N/A"}},null,{"$f":"IF(D49=0,NA(),RTD(\"cqg.rtd\",,\"StudyData\", \"Close(\"&$BV$2&\") When Barix(\"&$BV$2&\",reference:=StartOfSession)=\"&A49&\"\", \"Bar\", \"\", \"Close\",\"5\",\"0\",\"All\",,,\"False\",\"T\",\"EveryTick\"))","v":{"$error":"#N/A"}},null,{"$f":"IF(D49=0,NA(),RTD(\"cqg.rtd\",,\"StudyData\", \"Close(\"&$BX$2&\") When Barix(\"&$BX$2&\",reference:=StartOfSession)=\"&A49&\"\", \"Bar\", \"\", \"Close\",\"5\",\"0\",\"All\",,,\"False\",\"T\",\"EveryTick\"))","v":{"$error":"#N/A"}},null,{"$f":"IF(D49=0,NA(),RTD(\"cqg.rtd\",,\"StudyData\", \"Close(\"&$BZ$2&\") When Barix(\"&$BZ$2&\",reference:=StartOfSession)=\"&A49&\"\", \"Bar\", \"\", \"Close\",\"5\",\"0\",\"All\",,,\"False\",\"T\",\"EveryTick\"))","v":{"$error":"#N/A"}}]
[46,{"$f":"IF(D50=0,NA(),RTD(\"cqg.rtd\",,\"StudyData\", \"Close(\"&$B$2&\") When Barix(\"&$B$2&\",reference:=StartOfSession)=\"&A50&\"\", \"Bar\", \"\", \"Close\",\"5\",\"0\",\"All\",,,\"False\",\"T\",\"EveryTick\"))","v":{"$error":"#N/A"}},"12:20:00",0,null,{"$f":"IF(D50=0,NA(),RTD(\"cqg.rtd\",,\"StudyData\", \"Close(\"&$F$2&\") When Barix(\"&$F$2&\",reference:=StartOfSession)=\"&A50&\"\", \"Bar\", \"\", \"Close\",\"5\",\"0\",\"All\",,,\"False\",\"T\",\"EveryTick\"))","v":{"$error":"#N/A"}},null,{"$f":"IF(D50=0,NA(),RTD(\"cqg.rtd\",,\"StudyData\", \"Close(\"&$H$2&\") When Barix(\"&$H$2&\",reference:=StartOfSession)=\"&A50&\"\", \"Bar\", \"\", \"Close\",\"5\",\"0\",\"All\",,,\"False\",\"T\",\"EveryTick\"))","v":{"$error":"#N/A"}},null,{"$f":"IF(D50=0,NA(),RTD(\"cqg.rtd\",,\"StudyData\", \"Close(\"&$J$2&\") When Barix(\"&$J$2&\",reference:=StartOfSession)=\"&A50&\"\", \"Bar\", \"\", \"Close\",\"5\",\"0\",\"All\",,,\"False\",\"T\",\"EveryTick\"))","v":{"$error":"#N/A"}},null,{"$f":"IF(D50=0,NA(),RTD(\"cqg.rtd\",,\"StudyData\", \"Close(\"&$L$2&\") When Barix(\"&$L$2&\",reference:=StartOfSession)=\"&A50&\"\", \"Bar\", \"\", \"Close\",\"5\",\"0\",\"All\",,,\"False\",\"T\",\"EveryTick\"))","v":{"$error":"#N/A"}},null,{"$f":"IF(D50=0,NA(),RTD(\"cqg.rtd\",,\"StudyData\", \"Close(\"&$N$2&\") When Barix(\"&$N$2&\",reference:=StartOfSession)=\"&A50&\"\", \"Bar\", \"\", \"Close\",\"5\",\"0\",\"All\",,,\"False\",\"T\",\"EveryTick\"))","v":{"$error":"#N/A"}},null,{"$f":"IF(D50=0,NA(),RTD(\"cqg.rtd\",,\"StudyData\", \"Close(\"&$P$2&\") When Barix(\"&$P$2&\",reference:=StartOfSession)=\"&A50&\"\", \"Bar\", \"\", \"Close\",\"5\",\"0\",\"All\",,,\"False\",\"T\",\"EveryTick\"))","v":{"$error":"#N/A"}},null,{"$f":"IF(D50=0,NA(),RTD(\"cqg.rtd\",,\"StudyData\", \"Close(\"&$R$2&\") When Barix(\"&$R$2&\",reference:=StartOfSession)=\"&A50&\"\", \"Bar\", \"\", \"Close\",\"5\",\"0\",\"All\",,,\"False\",\"T\",\"EveryTick\"))","v":{"$error":"#N/A"}},null,{"$f":"IF(D50=0,NA(),RTD(\"cqg.rtd\",,\"StudyData\", \"Close(\"&$T$2&\") When Barix(\"&$T$2&\",reference:=StartOfSession)=\"&A50&\"\", \"Bar\", \"\", \"Close\",\"5\",\"0\",\"All\",,,\"False\",\"T\",\"EveryTick\"))","v":{"$error":"#N/A"}},null,{"$f":"IF(D50=0,NA(),RTD(\"cqg.rtd\",,\"StudyData\", \"Close(\"&$V$2&\") When Barix(\"&$V$2&\",reference:=StartOfSession)=\"&A50&\"\", \"Bar\", \"\", \"Close\",\"5\",\"0\",\"All\",,,\"False\",\"T\",\"EveryTick\"))","v":{"$error":"#N/A"}},null,{"$f":"IF(D50=0,NA(),RTD(\"cqg.rtd\",,\"StudyData\", \"Close(\"&$X$2&\") When Barix(\"&$X$2&\",reference:=StartOfSession)=\"&A50&\"\", \"Bar\", \"\", \"Close\",\"5\",\"0\",\"All\",,,\"False\",\"T\",\"EveryTick\"))","v":{"$error":"#N/A"}},null,{"$f":"IF(D50=0,NA(),RTD(\"cqg.rtd\",,\"StudyData\", \"Close(\"&$Z$2&\") When Barix(\"&$Z$2&\",reference:=StartOfSession)=\"&A50&\"\", \"Bar\", \"\", \"Close\",\"5\",\"0\",\"All\",,,\"False\",\"T\",\"EveryTick\"))","v":{"$error":"#N/A"}},null,{"$f":"IF(D50=0,NA(),RTD(\"cqg.rtd\",,\"StudyData\", \"Close(\"&$AB$2&\") When Barix(\"&$AB$2&\",reference:=StartOfSession)=\"&A50&\"\", \"Bar\", \"\", \"Close\",\"5\",\"0\",\"All\",,,\"False\",\"T\",\"EveryTick\"))","v":{"$error":"#N/A"}},null,{"$f":"IF(D50=0,NA(),RTD(\"cqg.rtd\",,\"StudyData\", \"Close(\"&$AD$2&\") When Barix(\"&$AD$2&\",reference:=StartOfSession)=\"&A50&\"\", \"Bar\", \"\", \"Close\",\"5\",\"0\",\"All\",,,\"False\",\"T\",\"EveryTick\"))","v":{"$error":"#N/A"}},null,{"$f":"IF(D50=0,NA(),RTD(\"cqg.rtd\",,\"StudyData\", \"Close(\"&$AF$2&\") When Barix(\"&$AF$2&\",reference:=StartOfSession)=\"&A50&\"\", \"Bar\", \"\", \"Close\",\"5\",\"0\",\"All\",,,\"False\",\"T\",\"EveryTick\"))","v":{"$error":"#N/A"}},null,{"$f":"IF(D50=0,NA(),RTD(\"cqg.rtd\",,\"StudyData\", \"Close(\"&$AH$2&\") When Barix(\"&$AH$2&\",reference:=StartOfSession)=\"&A50&\"\", \"Bar\", \"\", \"Close\",\"5\",\"0\",\"All\",,,\"False\",\"T\",\"EveryTick\"))","v":{"$error":"#N/A"}},null,{"$f":"IF(D50=0,NA(),RTD(\"cqg.rtd\",,\"StudyData\", \"Close(\"&$AJ$2&\") When Barix(\"&$AJ$2&\",reference:=StartOfSession)=\"&A50&\"\", \"Bar\", \"\", \"Close\",\"5\",\"0\",\"All\",,,\"False\",\"T\",\"EveryTick\"))","v":{"$error":"#N/A"}},null,{"$f":"IF(D50=0,NA(),RTD(\"cqg.rtd\",,\"StudyData\", \"Close(\"&$AL$2&\") When Barix(\"&$AL$2&\",reference:=StartOfSession)=\"&A50&\"\", \"Bar\", \"\", \"Close\",\"5\",\"0\",\"All\",,,\"False\",\"T\",\"EveryTick\"))","v":{"$error":"#N/A"}},null,{"$f":"IF(D50=0,NA(),RTD(\"cqg.rtd\",,\"StudyData\", \"Close(\"&$AN$2&\") When Barix(\"&$AN$2&\",reference:=StartOfSession)=\"&A50&\"\", \"Bar\", \"\", \"Close\",\"5\",\"0\",\"All\",,,\"False\",\"T\",\"EveryTick\"))","v":{"$error":"#N/A"}},null,{"$f":"IF(D50=0,NA(),RTD(\"cqg.rtd\",,\"StudyData\", \"Close(\"&$AN$2&\") When Barix(\"&$AN$2&\",reference:=StartOfSession)=\"&A50&\"\", \"Bar\", \"\", \"Close\",\"5\",\"0\",\"All\",,,\"False\",\"T\",\"EveryTick\"))","v":{"$error":"#N/A"}},null,{"$f":"IF(D50=0,NA(),RTD(\"cqg.rtd\",,\"StudyData\", \"Close(\"&$AR$2&\") When Barix(\"&$AR$2&\",reference:=StartOfSession)=\"&A50&\"\", \"Bar\", \"\", \"Close\",\"5\",\"0\",\"All\",,,\"False\",\"T\",\"EveryTick\"))","v":{"$error":"#N/A"}},null,{"$f":"IF(D50=0,NA(),RTD(\"cqg.rtd\",,\"StudyData\", \"Close(\"&$AT$2&\") When Barix(\"&$AT$2&\",reference:=StartOfSession)=\"&A50&\"\", \"Bar\", \"\", \"Close\",\"5\",\"0\",\"All\",,,\"False\",\"T\",\"EveryTick\"))","v":{"$error":"#N/A"}},null,{"$f":"IF(D50=0,NA(),RTD(\"cqg.rtd\",,\"StudyData\", \"Close(\"&$AV$2&\") When Barix(\"&$AV$2&\",reference:=StartOfSession)=\"&A50&\"\", \"Bar\", \"\", \"Close\",\"5\",\"0\",\"All\",,,\"False\",\"T\",\"EveryTick\"))","v":{"$error":"#N/A"}},null,{"$f":"IF(D50=0,NA(),RTD(\"cqg.rtd\",,\"StudyData\", \"Close(\"&$AX$2&\") When Barix(\"&$AX$2&\",reference:=StartOfSession)=\"&A50&\"\", \"Bar\", \"\", \"Close\",\"5\",\"0\",\"All\",,,\"False\",\"T\",\"EveryTick\"))","v":{"$error":"#N/A"}},null,{"$f":"IF(D50=0,NA(),RTD(\"cqg.rtd\",,\"StudyData\", \"Close(\"&$AZ$2&\") When Barix(\"&$AZ$2&\",reference:=StartOfSession)=\"&A50&\"\", \"Bar\", \"\", \"Close\",\"5\",\"0\",\"All\",,,\"False\",\"T\",\"EveryTick\"))","v":{"$error":"#N/A"}},null,{"$f":"IF(D50=0,NA(),RTD(\"cqg.rtd\",,\"StudyData\", \"Close(\"&$BB$2&\") When Barix(\"&$BB$2&\",reference:=StartOfSession)=\"&A50&\"\", \"Bar\", \"\", \"Close\",\"5\",\"0\",\"All\",,,\"False\",\"T\",\"EveryTick\"))","v":{"$error":"#N/A"}},null,{"$f":"IF(D50=0,NA(),RTD(\"cqg.rtd\",,\"StudyData\", \"Close(\"&$BD$2&\") When Barix(\"&$BD$2&\",reference:=StartOfSession)=\"&A50&\"\", \"Bar\", \"\", \"Close\",\"5\",\"0\",\"All\",,,\"False\",\"T\",\"EveryTick\"))","v":{"$error":"#N/A"}},null,{"$f":"IF(D50=0,NA(),RTD(\"cqg.rtd\",,\"StudyData\", \"Close(\"&$BF$2&\") When Barix(\"&$BF$2&\",reference:=StartOfSession)=\"&A50&\"\", \"Bar\", \"\", \"Close\",\"5\",\"0\",\"All\",,,\"False\",\"T\",\"EveryTick\"))","v":{"$error":"#N/A"}},null,{"$f":"IF(D50=0,NA(),RTD(\"cqg.rtd\",,\"StudyData\", \"Close(\"&$BH$2&\") When Barix(\"&$BH$2&\",reference:=StartOfSession)=\"&A50&\"\", \"Bar\", \"\", \"Close\",\"5\",\"0\",\"All\",,,\"False\",\"T\",\"EveryTick\"))","v":{"$error":"#N/A"}},null,{"$f":"IF(D50=0,NA(),RTD(\"cqg.rtd\",,\"StudyData\", \"Close(\"&$BJ$2&\") When Barix(\"&$BJ$2&\",reference:=StartOfSession)=\"&A50&\"\", \"Bar\", \"\", \"Close\",\"5\",\"0\",\"All\",,,\"False\",\"T\",\"EveryTick\"))","v":{"$error":"#N/A"}},null,{"$f":"IF(D50=0,NA(),RTD(\"cqg.rtd\",,\"StudyData\", \"Close(\"&$BL$2&\") When Barix(\"&$BL$2&\",reference:=StartOfSession)=\"&A50&\"\", \"Bar\", \"\", \"Close\",\"5\",\"0\",\"All\",,,\"False\",\"T\",\"EveryTick\"))","v":{"$error":"#N/A"}},null,{"$f":"IF(D50=0,NA(),RTD(\"cqg.rtd\",,\"StudyData\", \"Close(\"&$BN$2&\") When Barix(\"&$BN$2&\",reference:=StartOfSession)=\"&A50&\"\", \"Bar\", \"\", \"Close\",\"5\",\"0\",\"All\",,,\"False\",\"T\",\"EveryTick\"))","v":{"$error":"#N/A"}},null,{"$f":"IF(D50=0,NA(),RTD(\"cqg.rtd\",,\"StudyData\", \"Close(\"&$BP$2&\") When Barix(\"&$BP$2&\",reference:=StartOfSession)=\"&A50&\"\", \"Bar\", \"\", \"Close\",\"5\",\"0\",\"All\",,,\"False\",\"T\",\"EveryTick\"))","v":{"$error":"#N/A"}},null,{"$f":"IF(D50=0,NA(),RTD(\"cqg.rtd\",,\"StudyData\", \"Close(\"&$BR$2&\") When Barix(\"&$BR$2&\",reference:=StartOfSession)=\"&A50&\"\", \"Bar\", \"\", \"Close\",\"5\",\"0\",\"All\",,,\"False\",\"T\",\"EveryTick\"))","v":{"$error":"#N/A"}},null,{"$f":"IF(D50=0,NA(),RTD(\"cqg.rtd\",,\"StudyData\", \"Close(\"&$BT$2&\") When Barix(\"&$BT$2&\",reference:=StartOfSession)=\"&A50&\"\", \"Bar\", \"\", \"Close\",\"5\",\"0\",\"All\",,,\"False\",\"T\",\"EveryTick\"))","v":{"$error":"#N/A"}},null,{"$f":"IF(D50=0,NA(),RTD(\"cqg.rtd\",,\"StudyData\", \"Close(\"&$BV$2&\") When Barix(\"&$BV$2&\",reference:=StartOfSession)=\"&A50&\"\", \"Bar\", \"\", \"Close\",\"5\",\"0\",\"All\",,,\"False\",\"T\",\"EveryTick\"))","v":{"$error":"#N/A"}},null,{"$f":"IF(D50=0,NA(),RTD(\"cqg.rtd\",,\"StudyData\", \"Close(\"&$BX$2&\") When Barix(\"&$BX$2&\",reference:=StartOfSession)=\"&A50&\"\", \"Bar\", \"\", \"Close\",\"5\",\"0\",\"All\",,,\"False\",\"T\",\"EveryTick\"))","v":{"$error":"#N/A"}},null,{"$f":"IF(D50=0,NA(),RTD(\"cqg.rtd\",,\"StudyData\", \"Close(\"&$BZ$2&\") When Barix(\"&$BZ$2&\",reference:=StartOfSession)=\"&A50&\"\", \"Bar\", \"\", \"Close\",\"5\",\"0\",\"All\",,,\"False\",\"T\",\"EveryTick\"))","v":{"$error":"#N/A"}}]
[47,{"$f":"IF(D51=0,NA(),RTD(\"cqg.rtd\",,\"StudyData\", \"Close(\"&$B$2&\") When Barix(\"&$B$2&\",reference:=StartOfSession)=\"&A51&\"\", \"Bar\", \"\", \"Close\",\"5\",\"0\",\"All\",,,\"False\",\"T\",\"EveryTick\"))","v":{"$error":"#N/A"}},"12:25:00",0,null,{"$f":"IF(D51=0,NA(),RTD(\"cqg.rtd\",,\"StudyData\", \"Close(\"&$F$2&\") When Barix(\"&$F$2&\",reference:=StartOfSession)=\"&A51&\"\", \"Bar\", \"\", \"Close\",\"5\",\"0\",\"All\",,,\"False\",\"T\",\"EveryTick\"))","v":{"$error":"#N/A"}},null,{"$f":"IF(D51=0,NA(),RTD(\"cqg.rtd\",,\"StudyData\", \"Close(\"&$H$2&\") When Barix(\"&$H$2&\",reference:=StartOfSession)=\"&A51&\"\", \"Bar\", \"\", \"Close\",\"5\",\"0\",\"All\",,,\"False\",\"T\",\"EveryTick\"))","v":{"$error":"#N/A"}},null,{"$f":"IF(D51=0,NA(),RTD(\"cqg.rtd\",,\"StudyData\", \"Close(\"&$J$2&\") When Barix(\"&$J$2&\",reference:=StartOfSession)=\"&A51&\"\", \"Bar\", \"\", \"Close\",\"5\",\"0\",\"All\",,,\"False\",\"T\",\"EveryTick\"))","v":{"$error":"#N/A"}},null,{"$f":"IF(D51=0,NA(),RTD(\"cqg.rtd\",,\"StudyData\", \"Close(\"&$L$2&\") When Barix(\"&$L$2&\",reference:=StartOfSession)=\"&A51&\"\", \"Bar\", \"\", \"Close\",\"5\",\"0\",\"All\",,,\"False\",\"T\",\"EveryTick\"))","v":{"$error":"#N/A"}},null,{"$f":"IF(D51=0,NA(),RTD(\"cqg.rtd\",,\"StudyData\", \"Close(\"&$N$2&\") When Barix(\"&$N$2&\",reference:=StartOfSession)=\"&A51&\"\", \"Bar\", \"\", \"Close\",\"5\",\"0\",\"All\",,,\"False\",\"T\",\"EveryTick\"))","v":{"$error":"#N/A"}},null,{"$f":"IF(D51=0,NA(),RTD(\"cqg.rtd\",,\"StudyData\", \"Close(\"&$P$2&\") When Barix(\"&$P$2&\",reference:=StartOfSession)=\"&A51&\"\", \"Bar\", \"\", \"Close\",\"5\",\"0\",\"All\",,,\"False\",\"T\",\"EveryTick\"))","v":{"$error":"#N/A"}},null,{"$f":"IF(D51=0,NA(),RTD(\"cqg.rtd\",,\"StudyData\", \"Close(\"&$R$2&\") When Barix(\"&$R$2&\",reference:=StartOfSession)=\"&A51&\"\", \"Bar\", \"\", \"Close\",\"5\",\"0\",\"All\",,,\"False\",\"T\",\"EveryTick\"))","v":{"$error":"#N/A"}},null,{"$f":"IF(D51=0,NA(),RTD(\"cqg.rtd\",,\"StudyData\", \"Close(\"&$T$2&\") When Barix(\"&$T$2&\",reference:=StartOfSession)=\"&A51&\"\", \"Bar\", \"\", \"Close\",\"5\",\"0\",\"All\",,,\"False\",\"T\",\"EveryTick\"))","v":{"$error":"#N/A"}},null,{"$f":"IF(D51=0,NA(),RTD(\"cqg.rtd\",,\"StudyData\", \"Close(\"&$V$2&\") When Barix(\"&$V$2&\",reference:=StartOfSession)=\"&A51&\"\", \"Bar\", \"\", \"Close\",\"5\",\"0\",\"All\",,,\"False\",\"T\",\"EveryTick\"))","v":{"$error":"#N/A"}},null,{"$f":"IF(D51=0,NA(),RTD(\"cqg.rtd\",,\"StudyData\", \"Close(\"&$X$2&\") When Barix(\"&$X$2&\",reference:=StartOfSession)=\"&A51&\"\", \"Bar\", \"\", \"Close\",\"5\",\"0\",\"All\",,,\"False\",\"T\",\"EveryTick\"))","v":{"$error":"#N/A"}},null,{"$f":"IF(D51=0,NA(),RTD(\"cqg.rtd\",,\"StudyData\", \"Close(\"&$Z$2&\") When Barix(\"&$Z$2&\",reference:=StartOfSession)=\"&A51&\"\", \"Bar\", \"\", \"Close\",\"5\",\"0\",\"All\",,,\"False\",\"T\",\"EveryTick\"))","v":{"$error":"#N/A"}},null,{"$f":"IF(D51=0,NA(),RTD(\"cqg.rtd\",,\"StudyData\", \"Close(\"&$AB$2&\") When Barix(\"&$AB$2&\",reference:=StartOfSession)=\"&A51&\"\", \"Bar\", \"\", \"Close\",\"5\",\"0\",\"All\",,,\"False\",\"T\",\"EveryTick\"))","v":{"$error":"#N/A"}},null,{"$f":"IF(D51=0,NA(),RTD(\"cqg.rtd\",,\"StudyData\", \"Close(\"&$AD$2&\") When Barix(\"&$AD$2&\",reference:=StartOfSession)=\"&A51&\"\", \"Bar\", \"\", \"Close\",\"5\",\"0\",\"All\",,,\"False\",\"T\",\"EveryTick\"))","v":{"$error":"#N/A"}},null,{"$f":"IF(D51=0,NA(),RTD(\"cqg.rtd\",,\"StudyData\", \"Close(\"&$AF$2&\") When Barix(\"&$AF$2&\",reference:=StartOfSession)=\"&A51&\"\", \"Bar\", \"\", \"Close\",\"5\",\"0\",\"All\",,,\"False\",\"T\",\"EveryTick\"))","v":{"$error":"#N/A"}},null,{"$f":"IF(D51=0,NA(),RTD(\"cqg.rtd\",,\"StudyData\", \"Close(\"&$AH$2&\") When Barix(\"&$AH$2&\",reference:=StartOfSession)=\"&A51&\"\", \"Bar\", \"\", \"Close\",\"5\",\"0\",\"All\",,,\"False\",\"T\",\"EveryTick\"))","v":{"$error":"#N/A"}},null,{"$f":"IF(D51=0,NA(),RTD(\"cqg.rtd\",,\"StudyData\", \"Close(\"&$AJ$2&\") When Barix(\"&$AJ$2&\",reference:=StartOfSession)=\"&A51&\"\", \"Bar\", \"\", \"Close\",\"5\",\"0\",\"All\",,,\"False\",\"T\",\"EveryTick\"))","v":{"$error":"#N/A"}},null,{"$f":"IF(D51=0,NA(),RTD(\"cqg.rtd\",,\"StudyData\", \"Close(\"&$AL$2&\") When Barix(\"&$AL$2&\",reference:=StartOfSession)=\"&A51&\"\", \"Bar\", \"\", \"Close\",\"5\",\"0\",\"All\",,,\"False\",\"T\",\"EveryTick\"))","v":{"$error":"#N/A"}},null,{"$f":"IF(D51=0,NA(),RTD(\"cqg.rtd\",,\"StudyData\", \"Close(\"&$AN$2&\") When Barix(\"&$AN$2&\",reference:=StartOfSession)=\"&A51&\"\", \"Bar\", \"\", \"Close\",\"5\",\"0\",\"All\",,,\"False\",\"T\",\"EveryTick\"))","v":{"$error":"#N/A"}},null,{"$f":"IF(D51=0,NA(),RTD(\"cqg.rtd\",,\"StudyData\", \"Close(\"&$AN$2&\") When Barix(\"&$AN$2&\",reference:=StartOfSession)=\"&A51&\"\", \"Bar\", \"\", \"Close\",\"5\",\"0\",\"All\",,,\"False\",\"T\",\"EveryTick\"))","v":{"$error":"#N/A"}},null,{"$f":"IF(D51=0,NA(),RTD(\"cqg.rtd\",,\"StudyData\", \"Close(\"&$AR$2&\") When Barix(\"&$AR$2&\",reference:=StartOfSession)=\"&A51&\"\", \"Bar\", \"\", \"Close\",\"5\",\"0\",\"All\",,,\"False\",\"T\",\"EveryTick\"))","v":{"$error":"#N/A"}},null,{"$f":"IF(D51=0,NA(),RTD(\"cqg.rtd\",,\"StudyData\", \"Close(\"&$AT$2&\") When Barix(\"&$AT$2&\",reference:=StartOfSession)=\"&A51&\"\", \"Bar\", \"\", \"Close\",\"5\",\"0\",\"All\",,,\"False\",\"T\",\"EveryTick\"))","v":{"$error":"#N/A"}},null,{"$f":"IF(D51=0,NA(),RTD(\"cqg.rtd\",,\"StudyData\", \"Close(\"&$AV$2&\") When Barix(\"&$AV$2&\",reference:=StartOfSession)=\"&A51&\"\", \"Bar\", \"\", \"Close\",\"5\",\"0\",\"All\",,,\"False\",\"T\",\"EveryTick\"))","v":{"$error":"#N/A"}},null,{"$f":"IF(D51=0,NA(),RTD(\"cqg.rtd\",,\"StudyData\", \"Close(\"&$AX$2&\") When Barix(\"&$AX$2&\",reference:=StartOfSession)=\"&A51&\"\", \"Bar\", \"\", \"Close\",\"5\",\"0\",\"All\",,,\"False\",\"T\",\"EveryTick\"))","v":{"$error":"#N/A"}},null,{"$f":"IF(D51=0,NA(),RTD(\"cqg.rtd\",,\"StudyData\", \"Close(\"&$AZ$2&\") When Barix(\"&$AZ$2&\",reference:=StartOfSession)=\"&A51&\"\", \"Bar\", \"\", \"Close\",\"5\",\"0\",\"All\",,,\"False\",\"T\",\"EveryTick\"))","v":{"$error":"#N/A"}},null,{"$f":"IF(D51=0,NA(),RTD(\"cqg.rtd\",,\"StudyData\", \"Close(\"&$BB$2&\") When Barix(\"&$BB$2&\",reference:=StartOfSession)=\"&A51&\"\", \"Bar\", \"\", \"Close\",\"5\",\"0\",\"All\",,,\"False\",\"T\",\"EveryTick\"))","v":{"$error":"#N/A"}},null,{"$f":"IF(D51=0,NA(),RTD(\"cqg.rtd\",,\"StudyData\", \"Close(\"&$BD$2&\") When Barix(\"&$BD$2&\",reference:=StartOfSession)=\"&A51&\"\", \"Bar\", \"\", \"Close\",\"5\",\"0\",\"All\",,,\"False\",\"T\",\"EveryTick\"))","v":{"$error":"#N/A"}},null,{"$f":"IF(D51=0,NA(),RTD(\"cqg.rtd\",,\"StudyData\", \"Close(\"&$BF$2&\") When Barix(\"&$BF$2&\",reference:=StartOfSession)=\"&A51&\"\", \"Bar\", \"\", \"Close\",\"5\",\"0\",\"All\",,,\"False\",\"T\",\"EveryTick\"))","v":{"$error":"#N/A"}},null,{"$f":"IF(D51=0,NA(),RTD(\"cqg.rtd\",,\"StudyData\", \"Close(\"&$BH$2&\") When Barix(\"&$BH$2&\",reference:=StartOfSession)=\"&A51&\"\", \"Bar\", \"\", \"Close\",\"5\",\"0\",\"All\",,,\"False\",\"T\",\"EveryTick\"))","v":{"$error":"#N/A"}},null,{"$f":"IF(D51=0,NA(),RTD(\"cqg.rtd\",,\"StudyData\", \"Close(\"&$BJ$2&\") When Barix(\"&$BJ$2&\",reference:=StartOfSession)=\"&A51&\"\", \"Bar\", \"\", \"Close\",\"5\",\"0\",\"All\",,,\"False\",\"T\",\"EveryTick\"))","v":{"$error":"#N/A"}},null,{"$f":"IF(D51=0,NA(),RTD(\"cqg.rtd\",,\"StudyData\", \"Close(\"&$BL$2&\") When Barix(\"&$BL$2&\",reference:=StartOfSession)=\"&A51&\"\", \"Bar\", \"\", \"Close\",\"5\",\"0\",\"All\",,,\"False\",\"T\",\"EveryTick\"))","v":{"$error":"#N/A"}},null,{"$f":"IF(D51=0,NA(),RTD(\"cqg.rtd\",,\"StudyData\", \"Close(\"&$BN$2&\") When Barix(\"&$BN$2&\",reference:=StartOfSession)=\"&A51&\"\", \"Bar\", \"\", \"Close\",\"5\",\"0\",\"All\",,,\"False\",\"T\",\"EveryTick\"))","v":{"$error":"#N/A"}},null,{"$f":"IF(D51=0,NA(),RTD(\"cqg.rtd\",,\"StudyData\", \"Close(\"&$BP$2&\") When Barix(\"&$BP$2&\",reference:=StartOfSession)=\"&A51&\"\", \"Bar\", \"\", \"Close\",\"5\",\"0\",\"All\",,,\"False\",\"T\",\"EveryTick\"))","v":{"$error":"#N/A"}},null,{"$f":"IF(D51=0,NA(),RTD(\"cqg.rtd\",,\"StudyData\", \"Close(\"&$BR$2&\") When Barix(\"&$BR$2&\",reference:=StartOfSession)=\"&A51&\"\", \"Bar\", \"\", \"Close\",\"5\",\"0\",\"All\",,,\"False\",\"T\",\"EveryTick\"))","v":{"$error":"#N/A"}},null,{"$f":"IF(D51=0,NA(),RTD(\"cqg.rtd\",,\"StudyData\", \"Close(\"&$BT$2&\") When Barix(\"&$BT$2&\",reference:=StartOfSession)=\"&A51&\"\", \"Bar\", \"\", \"Close\",\"5\",\"0\",\"All\",,,\"False\",\"T\",\"EveryTick\"))","v":{"$error":"#N/A"}},null,{"$f":"IF(D51=0,NA(),RTD(\"cqg.rtd\",,\"StudyData\", \"Close(\"&$BV$2&\") When Barix(\"&$BV$2&\",reference:=StartOfSession)=\"&A51&\"\", \"Bar\", \"\", \"Close\",\"5\",\"0\",\"All\",,,\"False\",\"T\",\"EveryTick\"))","v":{"$error":"#N/A"}},null,{"$f":"IF(D51=0,NA(),RTD(\"cqg.rtd\",,\"StudyData\", \"Close(\"&$BX$2&\") When Barix(\"&$BX$2&\",reference:=StartOfSession)=\"&A51&\"\", \"Bar\", \"\", \"Close\",\"5\",\"0\",\"All\",,,\"False\",\"T\",\"EveryTick\"))","v":{"$error":"#N/A"}},null,{"$f":"IF(D51=0,NA(),RTD(\"cqg.rtd\",,\"StudyData\", \"Close(\"&$BZ$2&\") When Barix(\"&$BZ$2&\",reference:=StartOfSession)=\"&A51&\"\", \"Bar\", \"\", \"Close\",\"5\",\"0\",\"All\",,,\"False\",\"T\",\"EveryTick\"))","v":{"$error":"#N/A"}}]
[48,{"$f":"IF(D52=0,NA(),RTD(\"cqg.rtd\",,\"StudyData\", \"Close(\"&$B$2&\") When Barix(\"&$B$2&\",reference:=StartOfSession)=\"&A52&\"\", \"Bar\", \"\", \"Close\",\"5\",\"0\",\"All\",,,\"False\",\"T\",\"EveryTick\"))","v":{"$error":"#N/A"}},"12:30:00",0,null,{"$f":"IF(D52=0,NA(),RTD(\"cqg.rtd\",,\"StudyData\", \"Close(\"&$F$2&\") When Barix(\"&$F$2&\",reference:=StartOfSession)=\"&A52&\"\", \"Bar\", \"\", \"Close\",\"5\",\"0\",\"All\",,,\"False\",\"T\",\"EveryTick\"))","v":{"$error":"#N/A"}},null,{"$f":"IF(D52=0,NA(),RTD(\"cqg.rtd\",,\"StudyData\", \"Close(\"&$H$2&\") When Barix(\"&$H$2&\",reference:=StartOfSession)=\"&A52&\"\", \"Bar\", \"\", \"Close\",\"5\",\"0\",\"All\",,,\"False\",\"T\",\"EveryTick\"))","v":{"$error":"#N/A"}},null,{"$f":"IF(D52=0,NA(),RTD(\"cqg.rtd\",,\"StudyData\", \"Close(\"&$J$2&\") When Barix(\"&$J$2&\",reference:=StartOfSession)=\"&A52&\"\", \"Bar\", \"\", \"Close\",\"5\",\"0\",\"All\",,,\"False\",\"T\",\"EveryTick\"))","v":{"$error":"#N/A"}},null,{"$f":"IF(D52=0,NA(),RTD(\"cqg.rtd\",,\"StudyData\", \"Close(\"&$L$2&\") When Barix(\"&$L$2&\",reference:=StartOfSession)=\"&A52&\"\", \"Bar\", \"\", \"Close\",\"5\",\"0\",\"All\",,,\"False\",\"T\",\"EveryTick\"))","v":{"$error":"#N/A"}},null,{"$f":"IF(D52=0,NA(),RTD(\"cqg.rtd\",,\"StudyData\", \"Close(\"&$N$2&\") When Barix(\"&$N$2&\",reference:=StartOfSession)=\"&A52&\"\", \"Bar\", \"\", \"Close\",\"5\",\"0\",\"All\",,,\"False\",\"T\",\"EveryTick\"))","v":{"$error":"#N/A"}},null,{"$f":"IF(D52=0,NA(),RTD(\"cqg.rtd\",,\"StudyData\", \"Close(\"&$P$2&\") When Barix(\"&$P$2&\",reference:=StartOfSession)=\"&A52&\"\", \"Bar\", \"\", \"Close\",\"5\",\"0\",\"All\",,,\"False\",\"T\",\"EveryTick\"))","v":{"$error":"#N/A"}},null,{"$f":"IF(D52=0,NA(),RTD(\"cqg.rtd\",,\"StudyData\", \"Close(\"&$R$2&\") When Barix(\"&$R$2&\",reference:=StartOfSession)=\"&A52&\"\", \"Bar\", \"\", \"Close\",\"5\",\"0\",\"All\",,,\"False\",\"T\",\"EveryTick\"))","v":{"$error":"#N/A"}},null,{"$f":"IF(D52=0,NA(),RTD(\"cqg.rtd\",,\"StudyData\", \"Close(\"&$T$2&\") When Barix(\"&$T$2&\",reference:=StartOfSession)=\"&A52&\"\", \"Bar\", \"\", \"Close\",\"5\",\"0\",\"All\",,,\"False\",\"T\",\"EveryTick\"))","v":{"$error":"#N/A"}},null,{"$f":"IF(D52=0,NA(),RTD(\"cqg.rtd\",,\"StudyData\", \"Close(\"&$V$2&\") When Barix(\"&$V$2&\",reference:=StartOfSession)=\"&A52&\"\", \"Bar\", \"\", \"Close\",\"5\",\"0\",\"All\",,,\"False\",\"T\",\"EveryTick\"))","v":{"$error":"#N/A"}},null,{"$f":"IF(D52=0,NA(),RTD(\"cqg.rtd\",,\"StudyData\", \"Close(\"&$X$2&\") When Barix(\"&$X$2&\",reference:=StartOfSession)=\"&A52&\"\", \"Bar\", \"\", \"Close\",\"5\",\"0\",\"All\",,,\"False\",\"T\",\"EveryTick\"))","v":{"$error":"#N/A"}},null,{"$f":"IF(D52=0,NA(),RTD(\"cqg.rtd\",,\"StudyData\", \"Close(\"&$Z$2&\") When Barix(\"&$Z$2&\",reference:=StartOfSession)=\"&A52&\"\", \"Bar\", \"\", \"Close\",\"5\",\"0\",\"All\",,,\"False\",\"T\",\"EveryTick\"))","v":{"$error":"#N/A"}},null,{"$f":"IF(D52=0,NA(),RTD(\"cqg.rtd\",,\"StudyData\", \"Close(\"&$AB$2&\") When Barix(\"&$AB$2&\",reference:=StartOfSession)=\"&A52&\"\", \"Bar\", \"\", \"Close\",\"5\",\"0\",\"All\",,,\"False\",\"T\",\"EveryTick\"))","v":{"$error":"#N/A"}},null,{"$f":"IF(D52=0,NA(),RTD(\"cqg.rtd\",,\"StudyData\", \"Close(\"&$AD$2&\") When Barix(\"&$AD$2&\",reference:=StartOfSession)=\"&A52&\"\", \"Bar\", \"\", \"Close\",\"5\",\"0\",\"All\",,,\"False\",\"T\",\"EveryTick\"))","v":{"$error":"#N/A"}},null,{"$f":"IF(D52=0,NA(),RTD(\"cqg.rtd\",,\"StudyData\", \"Close(\"&$AF$2&\") When Barix(\"&$AF$2&\",reference:=StartOfSession)=\"&A52&\"\", \"Bar\", \"\", \"Close\",\"5\",\"0\",\"All\",,,\"False\",\"T\",\"EveryTick\"))","v":{"$error":"#N/A"}},null,{"$f":"IF(D52=0,NA(),RTD(\"cqg.rtd\",,\"StudyData\", \"Close(\"&$AH$2&\") When Barix(\"&$AH$2&\",reference:=StartOfSession)=\"&A52&\"\", \"Bar\", \"\", \"Close\",\"5\",\"0\",\"All\",,,\"False\",\"T\",\"EveryTick\"))","v":{"$error":"#N/A"}},null,{"$f":"IF(D52=0,NA(),RTD(\"cqg.rtd\",,\"StudyData\", \"Close(\"&$AJ$2&\") When Barix(\"&$AJ$2&\",reference:=StartOfSession)=\"&A52&\"\", \"Bar\", \"\", \"Close\",\"5\",\"0\",\"All\",,,\"False\",\"T\",\"EveryTick\"))","v":{"$error":"#N/A"}},null,{"$f":"IF(D52=0,NA(),RTD(\"cqg.rtd\",,\"StudyData\", \"Close(\"&$AL$2&\") When Barix(\"&$AL$2&\",reference:=StartOfSession)=\"&A52&\"\", \"Bar\", \"\", \"Close\",\"5\",\"0\",\"All\",,,\"False\",\"T\",\"EveryTick\"))","v":{"$error":"#N/A"}},null,{"$f":"IF(D52=0,NA(),RTD(\"cqg.rtd\",,\"StudyData\", \"Close(\"&$AN$2&\") When Barix(\"&$AN$2&\",reference:=StartOfSession)=\"&A52&\"\", \"Bar\", \"\", \"Close\",\"5\",\"0\",\"All\",,,\"False\",\"T\",\"EveryTick\"))","v":{"$error":"#N/A"}},null,{"$f":"IF(D52=0,NA(),RTD(\"cqg.rtd\",,\"StudyData\", \"Close(\"&$AN$2&\") When Barix(\"&$AN$2&\",reference:=StartOfSession)=\"&A52&\"\", \"Bar\", \"\", \"Close\",\"5\",\"0\",\"All\",,,\"False\",\"T\",\"EveryTick\"))","v":{"$error":"#N/A"}},null,{"$f":"IF(D52=0,NA(),RTD(\"cqg.rtd\",,\"StudyData\", \"Close(\"&$AR$2&\") When Barix(\"&$AR$2&\",reference:=StartOfSession)=\"&A52&\"\", \"Bar\", \"\", \"Close\",\"5\",\"0\",\"All\",,,\"False\",\"T\",\"EveryTick\"))","v":{"$error":"#N/A"}},null,{"$f":"IF(D52=0,NA(),RTD(\"cqg.rtd\",,\"StudyData\", \"Close(\"&$AT$2&\") When Barix(\"&$AT$2&\",reference:=StartOfSession)=\"&A52&\"\", \"Bar\", \"\", \"Close\",\"5\",\"0\",\"All\",,,\"False\",\"T\",\"EveryTick\"))","v":{"$error":"#N/A"}},null,{"$f":"IF(D52=0,NA(),RTD(\"cqg.rtd\",,\"StudyData\", \"Close(\"&$AV$2&\") When Barix(\"&$AV$2&\",reference:=StartOfSession)=\"&A52&\"\", \"Bar\", \"\", \"Close\",\"5\",\"0\",\"All\",,,\"False\",\"T\",\"EveryTick\"))","v":{"$error":"#N/A"}},null,{"$f":"IF(D52=0,NA(),RTD(\"cqg.rtd\",,\"StudyData\", \"Close(\"&$AX$2&\") When Barix(\"&$AX$2&\",reference:=StartOfSession)=\"&A52&\"\", \"Bar\", \"\", \"Close\",\"5\",\"0\",\"All\",,,\"False\",\"T\",\"EveryTick\"))","v":{"$error":"#N/A"}},null,{"$f":"IF(D52=0,NA(),RTD(\"cqg.rtd\",,\"StudyData\", \"Close(\"&$AZ$2&\") When Barix(\"&$AZ$2&\",reference:=StartOfSession)=\"&A52&\"\", \"Bar\", \"\", \"Close\",\"5\",\"0\",\"All\",,,\"False\",\"T\",\"EveryTick\"))","v":{"$error":"#N/A"}},null,{"$f":"IF(D52=0,NA(),RTD(\"cqg.rtd\",,\"StudyData\", \"Close(\"&$BB$2&\") When Barix(\"&$BB$2&\",reference:=StartOfSession)=\"&A52&\"\", \"Bar\", \"\", \"Close\",\"5\",\"0\",\"All\",,,\"False\",\"T\",\"EveryTick\"))","v":{"$error":"#N/A"}},null,{"$f":"IF(D52=0,NA(),RTD(\"cqg.rtd\",,\"StudyData\", \"Close(\"&$BD$2&\") When Barix(\"&$BD$2&\",reference:=StartOfSession)=\"&A52&\"\", \"Bar\", \"\", \"Close\",\"5\",\"0\",\"All\",,,\"False\",\"T\",\"EveryTick\"))","v":{"$error":"#N/A"}},null,{"$f":"IF(D52=0,NA(),RTD(\"cqg.rtd\",,\"StudyData\", \"Close(\"&$BF$2&\") When Barix(\"&$BF$2&\",reference:=StartOfSession)=\"&A52&\"\", \"Bar\", \"\", \"Close\",\"5\",\"0\",\"All\",,,\"False\",\"T\",\"EveryTick\"))","v":{"$error":"#N/A"}},null,{"$f":"IF(D52=0,NA(),RTD(\"cqg.rtd\",,\"StudyData\", \"Close(\"&$BH$2&\") When Barix(\"&$BH$2&\",reference:=StartOfSession)=\"&A52&\"\", \"Bar\", \"\", \"Close\",\"5\",\"0\",\"All\",,,\"False\",\"T\",\"EveryTick\"))","v":{"$error":"#N/A"}},null,{"$f":"IF(D52=0,NA(),RTD(\"cqg.rtd\",,\"StudyData\", \"Close(\"&$BJ$2&\") When Barix(\"&$BJ$2&\",reference:=StartOfSession)=\"&A52&\"\", \"Bar\", \"\", \"Close\",\"5\",\"0\",\"All\",,,\"False\",\"T\",\"EveryTick\"))","v":{"$error":"#N/A"}},null,{"$f":"IF(D52=0,NA(),RTD(\"cqg.rtd\",,\"StudyData\", \"Close(\"&$BL$2&\") When Barix(\"&$BL$2&\",reference:=StartOfSession)=\"&A52&\"\", \"Bar\", \"\", \"Close\",\"5\",\"0\",\"All\",,,\"False\",\"T\",\"EveryTick\"))","v":{"$error":"#N/A"}},null,{"$f":"IF(D52=0,NA(),RTD(\"cqg.rtd\",,\"StudyData\", \"Close(\"&$BN$2&\") When Barix(\"&$BN$2&\",reference:=StartOfSession)=\"&A52&\"\", \"Bar\", \"\", \"Close\",\"5\",\"0\",\"All\",,,\"False\",\"T\",\"EveryTick\"))","v":{"$error":"#N/A"}},null,{"$f":"IF(D52=0,NA(),RTD(\"cqg.rtd\",,\"StudyData\", \"Close(\"&$BP$2&\") When Barix(\"&$BP$2&\",reference:=StartOfSession)=\"&A52&\"\", \"Bar\", \"\", \"Close\",\"5\",\"0\",\"All\",,,\"False\",\"T\",\"EveryTick\"))","v":{"$error":"#N/A"}},null,{"$f":"IF(D52=0,NA(),RTD(\"cqg.rtd\",,\"StudyData\", \"Close(\"&$BR$2&\") When Barix(\"&$BR$2&\",reference:=StartOfSession)=\"&A52&\"\", \"Bar\", \"\", \"Close\",\"5\",\"0\",\"All\",,,\"False\",\"T\",\"EveryTick\"))","v":{"$error":"#N/A"}},null,{"$f":"IF(D52=0,NA(),RTD(\"cqg.rtd\",,\"StudyData\", \"Close(\"&$BT$2&\") When Barix(\"&$BT$2&\",reference:=StartOfSession)=\"&A52&\"\", \"Bar\", \"\", \"Close\",\"5\",\"0\",\"All\",,,\"False\",\"T\",\"EveryTick\"))","v":{"$error":"#N/A"}},null,{"$f":"IF(D52=0,NA(),RTD(\"cqg.rtd\",,\"StudyData\", \"Close(\"&$BV$2&\") When Barix(\"&$BV$2&\",reference:=StartOfSession)=\"&A52&\"\", \"Bar\", \"\", \"Close\",\"5\",\"0\",\"All\",,,\"False\",\"T\",\"EveryTick\"))","v":{"$error":"#N/A"}},null,{"$f":"IF(D52=0,NA(),RTD(\"cqg.rtd\",,\"StudyData\", \"Close(\"&$BX$2&\") When Barix(\"&$BX$2&\",reference:=StartOfSession)=\"&A52&\"\", \"Bar\", \"\", \"Close\",\"5\",\"0\",\"All\",,,\"False\",\"T\",\"EveryTick\"))","v":{"$error":"#N/A"}},null,{"$f":"IF(D52=0,NA(),RTD(\"cqg.rtd\",,\"StudyData\", \"Close(\"&$BZ$2&\") When Barix(\"&$BZ$2&\",reference:=StartOfSession)=\"&A52&\"\", \"Bar\", \"\", \"Close\",\"5\",\"0\",\"All\",,,\"False\",\"T\",\"EveryTick\"))","v":{"$error":"#N/A"}}]
[49,{"$f":"IF(D53=0,NA(),RTD(\"cqg.rtd\",,\"StudyData\", \"Close(\"&$B$2&\") When Barix(\"&$B$2&\",reference:=StartOfSession)=\"&A53&\"\", \"Bar\", \"\", \"Close\",\"5\",\"0\",\"All\",,,\"False\",\"T\",\"EveryTick\"))","v":{"$error":"#N/A"}},"12:35:00",0,null,{"$f":"IF(D53=0,NA(),RTD(\"cqg.rtd\",,\"StudyData\", \"Close(\"&$F$2&\") When Barix(\"&$F$2&\",reference:=StartOfSession)=\"&A53&\"\", \"Bar\", \"\", \"Close\",\"5\",\"0\",\"All\",,,\"False\",\"T\",\"EveryTick\"))","v":{"$error":"#N/A"}},null,{"$f":"IF(D53=0,NA(),RTD(\"cqg.rtd\",,\"StudyData\", \"Close(\"&$H$2&\") When Barix(\"&$H$2&\",reference:=StartOfSession)=\"&A53&\"\", \"Bar\", \"\", \"Close\",\"5\",\"0\",\"All\",,,\"False\",\"T\",\"EveryTick\"))","v":{"$error":"#N/A"}},null,{"$f":"IF(D53=0,NA(),RTD(\"cqg.rtd\",,\"StudyData\", \"Close(\"&$J$2&\") When Barix(\"&$J$2&\",reference:=StartOfSession)=\"&A53&\"\", \"Bar\", \"\", \"Close\",\"5\",\"0\",\"All\",,,\"False\",\"T\",\"EveryTick\"))","v":{"$error":"#N/A"}},null,{"$f":"IF(D53=0,NA(),RTD(\"cqg.rtd\",,\"StudyData\", \"Close(\"&$L$2&\") When Barix(\"&$L$2&\",reference:=StartOfSession)=\"&A53&\"\", \"Bar\", \"\", \"Close\",\"5\",\"0\",\"All\",,,\"False\",\"T\",\"EveryTick\"))","v":{"$error":"#N/A"}},null,{"$f":"IF(D53=0,NA(),RTD(\"cqg.rtd\",,\"StudyData\", \"Close(\"&$N$2&\") When Barix(\"&$N$2&\",reference:=StartOfSession)=\"&A53&\"\", \"Bar\", \"\", \"Close\",\"5\",\"0\",\"All\",,,\"False\",\"T\",\"EveryTick\"))","v":{"$error":"#N/A"}},null,{"$f":"IF(D53=0,NA(),RTD(\"cqg.rtd\",,\"StudyData\", \"Close(\"&$P$2&\") When Barix(\"&$P$2&\",reference:=StartOfSession)=\"&A53&\"\", \"Bar\", \"\", \"Close\",\"5\",\"0\",\"All\",,,\"False\",\"T\",\"EveryTick\"))","v":{"$error":"#N/A"}},null,{"$f":"IF(D53=0,NA(),RTD(\"cqg.rtd\",,\"StudyData\", \"Close(\"&$R$2&\") When Barix(\"&$R$2&\",reference:=StartOfSession)=\"&A53&\"\", \"Bar\", \"\", \"Close\",\"5\",\"0\",\"All\",,,\"False\",\"T\",\"EveryTick\"))","v":{"$error":"#N/A"}},null,{"$f":"IF(D53=0,NA(),RTD(\"cqg.rtd\",,\"StudyData\", \"Close(\"&$T$2&\") When Barix(\"&$T$2&\",reference:=StartOfSession)=\"&A53&\"\", \"Bar\", \"\", \"Close\",\"5\",\"0\",\"All\",,,\"False\",\"T\",\"EveryTick\"))","v":{"$error":"#N/A"}},null,{"$f":"IF(D53=0,NA(),RTD(\"cqg.rtd\",,\"StudyData\", \"Close(\"&$V$2&\") When Barix(\"&$V$2&\",reference:=StartOfSession)=\"&A53&\"\", \"Bar\", \"\", \"Close\",\"5\",\"0\",\"All\",,,\"False\",\"T\",\"EveryTick\"))","v":{"$error":"#N/A"}},null,{"$f":"IF(D53=0,NA(),RTD(\"cqg.rtd\",,\"StudyData\", \"Close(\"&$X$2&\") When Barix(\"&$X$2&\",reference:=StartOfSession)=\"&A53&\"\", \"Bar\", \"\", \"Close\",\"5\",\"0\",\"All\",,,\"False\",\"T\",\"EveryTick\"))","v":{"$error":"#N/A"}},null,{"$f":"IF(D53=0,NA(),RTD(\"cqg.rtd\",,\"StudyData\", \"Close(\"&$Z$2&\") When Barix(\"&$Z$2&\",reference:=StartOfSession)=\"&A53&\"\", \"Bar\", \"\", \"Close\",\"5\",\"0\",\"All\",,,\"False\",\"T\",\"EveryTick\"))","v":{"$error":"#N/A"}},null,{"$f":"IF(D53=0,NA(),RTD(\"cqg.rtd\",,\"StudyData\", \"Close(\"&$AB$2&\") When Barix(\"&$AB$2&\",reference:=StartOfSession)=\"&A53&\"\", \"Bar\", \"\", \"Close\",\"5\",\"0\",\"All\",,,\"False\",\"T\",\"EveryTick\"))","v":{"$error":"#N/A"}},null,{"$f":"IF(D53=0,NA(),RTD(\"cqg.rtd\",,\"StudyData\", \"Close(\"&$AD$2&\") When Barix(\"&$AD$2&\",reference:=StartOfSession)=\"&A53&\"\", \"Bar\", \"\", \"Close\",\"5\",\"0\",\"All\",,,\"False\",\"T\",\"EveryTick\"))","v":{"$error":"#N/A"}},null,{"$f":"IF(D53=0,NA(),RTD(\"cqg.rtd\",,\"StudyData\", \"Close(\"&$AF$2&\") When Barix(\"&$AF$2&\",reference:=StartOfSession)=\"&A53&\"\", \"Bar\", \"\", \"Close\",\"5\",\"0\",\"All\",,,\"False\",\"T\",\"EveryTick\"))","v":{"$error":"#N/A"}},null,{"$f":"IF(D53=0,NA(),RTD(\"cqg.rtd\",,\"StudyData\", \"Close(\"&$AH$2&\") When Barix(\"&$AH$2&\",reference:=StartOfSession)=\"&A53&\"\", \"Bar\", \"\", \"Close\",\"5\",\"0\",\"All\",,,\"False\",\"T\",\"EveryTick\"))","v":{"$error":"#N/A"}},null,{"$f":"IF(D53=0,NA(),RTD(\"cqg.rtd\",,\"StudyData\", \"Close(\"&$AJ$2&\") When Barix(\"&$AJ$2&\",reference:=StartOfSession)=\"&A53&\"\", \"Bar\", \"\", \"Close\",\"5\",\"0\",\"All\",,,\"False\",\"T\",\"EveryTick\"))","v":{"$error":"#N/A"}},null,{"$f":"IF(D53=0,NA(),RTD(\"cqg.rtd\",,\"StudyData\", \"Close(\"&$AL$2&\") When Barix(\"&$AL$2&\",reference:=StartOfSession)=\"&A53&\"\", \"Bar\", \"\", \"Close\",\"5\",\"0\",\"All\",,,\"False\",\"T\",\"EveryTick\"))","v":{"$error":"#N/A"}},null,{"$f":"IF(D53=0,NA(),RTD(\"cqg.rtd\",,\"StudyData\", \"Close(\"&$AN$2&\") When Barix(\"&$AN$2&\",reference:=StartOfSession)=\"&A53&\"\", \"Bar\", \"\", \"Close\",\"5\",\"0\",\"All\",,,\"False\",\"T\",\"EveryTick\"))","v":{"$error":"#N/A"}},null,{"$f":"IF(D53=0,NA(),RTD(\"cqg.rtd\",,\"StudyData\", \"Close(\"&$AN$2&\") When Barix(\"&$AN$2&\",reference:=StartOfSession)=\"&A53&\"\", \"Bar\", \"\", \"Close\",\"5\",\"0\",\"All\",,,\"False\",\"T\",\"EveryTick\"))","v":{"$error":"#N/A"}},null,{"$f":"IF(D53=0,NA(),RTD(\"cqg.rtd\",,\"StudyData\", \"Close(\"&$AR$2&\") When Barix(\"&$AR$2&\",reference:=StartOfSession)=\"&A53&\"\", \"Bar\", \"\", \"Close\",\"5\",\"0\",\"All\",,,\"False\",\"T\",\"EveryTick\"))","v":{"$error":"#N/A"}},null,{"$f":"IF(D53=0,NA(),RTD(\"cqg.rtd\",,\"StudyData\", \"Close(\"&$AT$2&\") When Barix(\"&$AT$2&\",reference:=StartOfSession)=\"&A53&\"\", \"Bar\", \"\", \"Close\",\"5\",\"0\",\"All\",,,\"False\",\"T\",\"EveryTick\"))","v":{"$error":"#N/A"}},null,{"$f":"IF(D53=0,NA(),RTD(\"cqg.rtd\",,\"StudyData\", \"Close(\"&$AV$2&\") When Barix(\"&$AV$2&\",reference:=StartOfSession)=\"&A53&\"\", \"Bar\", \"\", \"Close\",\"5\",\"0\",\"All\",,,\"False\",\"T\",\"EveryTick\"))","v":{"$error":"#N/A"}},null,{"$f":"IF(D53=0,NA(),RTD(\"cqg.rtd\",,\"StudyData\", \"Close(\"&$AX$2&\") When Barix(\"&$AX$2&\",reference:=StartOfSession)=\"&A53&\"\", \"Bar\", \"\", \"Close\",\"5\",\"0\",\"All\",,,\"False\",\"T\",\"EveryTick\"))","v":{"$error":"#N/A"}},null,{"$f":"IF(D53=0,NA(),RTD(\"cqg.rtd\",,\"StudyData\", \"Close(\"&$AZ$2&\") When Barix(\"&$AZ$2&\",reference:=StartOfSession)=\"&A53&\"\", \"Bar\", \"\", \"Close\",\"5\",\"0\",\"All\",,,\"False\",\"T\",\"EveryTick\"))","v":{"$error":"#N/A"}},null,{"$f":"IF(D53=0,NA(),RTD(\"cqg.rtd\",,\"StudyData\", \"Close(\"&$BB$2&\") When Barix(\"&$BB$2&\",reference:=StartOfSession)=\"&A53&\"\", \"Bar\", \"\", \"Close\",\"5\",\"0\",\"All\",,,\"False\",\"T\",\"EveryTick\"))","v":{"$error":"#N/A"}},null,{"$f":"IF(D53=0,NA(),RTD(\"cqg.rtd\",,\"StudyData\", \"Close(\"&$BD$2&\") When Barix(\"&$BD$2&\",reference:=StartOfSession)=\"&A53&\"\", \"Bar\", \"\", \"Close\",\"5\",\"0\",\"All\",,,\"False\",\"T\",\"EveryTick\"))","v":{"$error":"#N/A"}},null,{"$f":"IF(D53=0,NA(),RTD(\"cqg.rtd\",,\"StudyData\", \"Close(\"&$BF$2&\") When Barix(\"&$BF$2&\",reference:=StartOfSession)=\"&A53&\"\", \"Bar\", \"\", \"Close\",\"5\",\"0\",\"All\",,,\"False\",\"T\",\"EveryTick\"))","v":{"$error":"#N/A"}},null,{"$f":"IF(D53=0,NA(),RTD(\"cqg.rtd\",,\"StudyData\", \"Close(\"&$BH$2&\") When Barix(\"&$BH$2&\",reference:=StartOfSession)=\"&A53&\"\", \"Bar\", \"\", \"Close\",\"5\",\"0\",\"All\",,,\"False\",\"T\",\"EveryTick\"))","v":{"$error":"#N/A"}},null,{"$f":"IF(D53=0,NA(),RTD(\"cqg.rtd\",,\"StudyData\", \"Close(\"&$BJ$2&\") When Barix(\"&$BJ$2&\",reference:=StartOfSession)=\"&A53&\"\", \"Bar\", \"\", \"Close\",\"5\",\"0\",\"All\",,,\"False\",\"T\",\"EveryTick\"))","v":{"$error":"#N/A"}},null,{"$f":"IF(D53=0,NA(),RTD(\"cqg.rtd\",,\"StudyData\", \"Close(\"&$BL$2&\") When Barix(\"&$BL$2&\",reference:=StartOfSession)=\"&A53&\"\", \"Bar\", \"\", \"Close\",\"5\",\"0\",\"All\",,,\"False\",\"T\",\"EveryTick\"))","v":{"$error":"#N/A"}},null,{"$f":"IF(D53=0,NA(),RTD(\"cqg.rtd\",,\"StudyData\", \"Close(\"&$BN$2&\") When Barix(\"&$BN$2&\",reference:=StartOfSession)=\"&A53&\"\", \"Bar\", \"\", \"Close\",\"5\",\"0\",\"All\",,,\"False\",\"T\",\"EveryTick\"))","v":{"$error":"#N/A"}},null,{"$f":"IF(D53=0,NA(),RTD(\"cqg.rtd\",,\"StudyData\", \"Close(\"&$BP$2&\") When Barix(\"&$BP$2&\",reference:=StartOfSession)=\"&A53&\"\", \"Bar\", \"\", \"Close\",\"5\",\"0\",\"All\",,,\"False\",\"T\",\"EveryTick\"))","v":{"$error":"#N/A"}},null,{"$f":"IF(D53=0,NA(),RTD(\"cqg.rtd\",,\"StudyData\", \"Close(\"&$BR$2&\") When Barix(\"&$BR$2&\",reference:=StartOfSession)=\"&A53&\"\", \"Bar\", \"\", \"Close\",\"5\",\"0\",\"All\",,,\"False\",\"T\",\"EveryTick\"))","v":{"$error":"#N/A"}},null,{"$f":"IF(D53=0,NA(),RTD(\"cqg.rtd\",,\"StudyData\", \"Close(\"&$BT$2&\") When Barix(\"&$BT$2&\",reference:=StartOfSession)=\"&A53&\"\", \"Bar\", \"\", \"Close\",\"5\",\"0\",\"All\",,,\"False\",\"T\",\"EveryTick\"))","v":{"$error":"#N/A"}},null,{"$f":"IF(D53=0,NA(),RTD(\"cqg.rtd\",,\"StudyData\", \"Close(\"&$BV$2&\") When Barix(\"&$BV$2&\",reference:=StartOfSession)=\"&A53&\"\", \"Bar\", \"\", \"Close\",\"5\",\"0\",\"All\",,,\"False\",\"T\",\"EveryTick\"))","v":{"$error":"#N/A"}},null,{"$f":"IF(D53=0,NA(),RTD(\"cqg.rtd\",,\"StudyData\", \"Close(\"&$BX$2&\") When Barix(\"&$BX$2&\",reference:=StartOfSession)=\"&A53&\"\", \"Bar\", \"\", \"Close\",\"5\",\"0\",\"All\",,,\"False\",\"T\",\"EveryTick\"))","v":{"$error":"#N/A"}},null,{"$f":"IF(D53=0,NA(),RTD(\"cqg.rtd\",,\"StudyData\", \"Close(\"&$BZ$2&\") When Barix(\"&$BZ$2&\",reference:=StartOfSession)=\"&A53&\"\", \"Bar\", \"\", \"Close\",\"5\",\"0\",\"All\",,,\"False\",\"T\",\"EveryTick\"))","v":{"$error":"#N/A"}}]
[50,{"$f":"IF(D54=0,NA(),RTD(\"cqg.rtd\",,\"StudyData\", \"Close(\"&$B$2&\") When Barix(\"&$B$2&\",reference:=StartOfSession)=\"&A54&\"\", \"Bar\", \"\", \"Close\",\"5\",\"0\",\"All\",,,\"False\",\"T\",\"EveryTick\"))","v":{"$error":"#N/A"}},"12:40:00",0,null,{"$f":"IF(D54=0,NA(),RTD(\"cqg.rtd\",,\"StudyData\", \"Close(\"&$F$2&\") When Barix(\"&$F$2&\",reference:=StartOfSession)=\"&A54&\"\", \"Bar\", \"\", \"Close\",\"5\",\"0\",\"All\",,,\"False\",\"T\",\"EveryTick\"))","v":{"$error":"#N/A"}},null,{"$f":"IF(D54=0,NA(),RTD(\"cqg.rtd\",,\"StudyData\", \"Close(\"&$H$2&\") When Barix(\"&$H$2&\",reference:=StartOfSession)=\"&A54&\"\", \"Bar\", \"\", \"Close\",\"5\",\"0\",\"All\",,,\"False\",\"T\",\"EveryTick\"))","v":{"$error":"#N/A"}},null,{"$f":"IF(D54=0,NA(),RTD(\"cqg.rtd\",,\"StudyData\", \"Close(\"&$J$2&\") When Barix(\"&$J$2&\",reference:=StartOfSession)=\"&A54&\"\", \"Bar\", \"\", \"Close\",\"5\",\"0\",\"All\",,,\"False\",\"T\",\"EveryTick\"))","v":{"$error":"#N/A"}},null,{"$f":"IF(D54=0,NA(),RTD(\"cqg.rtd\",,\"StudyData\", \"Close(\"&$L$2&\") When Barix(\"&$L$2&\",reference:=StartOfSession)=\"&A54&\"\", \"Bar\", \"\", \"Close\",\"5\",\"0\",\"All\",,,\"False\",\"T\",\"EveryTick\"))","v":{"$error":"#N/A"}},null,{"$f":"IF(D54=0,NA(),RTD(\"cqg.rtd\",,\"StudyData\", \"Close(\"&$N$2&\") When Barix(\"&$N$2&\",reference:=StartOfSession)=\"&A54&\"\", \"Bar\", \"\", \"Close\",\"5\",\"0\",\"All\",,,\"False\",\"T\",\"EveryTick\"))","v":{"$error":"#N/A"}},null,{"$f":"IF(D54=0,NA(),RTD(\"cqg.rtd\",,\"StudyData\", \"Close(\"&$P$2&\") When Barix(\"&$P$2&\",reference:=StartOfSession)=\"&A54&\"\", \"Bar\", \"\", \"Close\",\"5\",\"0\",\"All\",,,\"False\",\"T\",\"EveryTick\"))","v":{"$error":"#N/A"}},null,{"$f":"IF(D54=0,NA(),RTD(\"cqg.rtd\",,\"StudyData\", \"Close(\"&$R$2&\") When Barix(\"&$R$2&\",reference:=StartOfSession)=\"&A54&\"\", \"Bar\", \"\", \"Close\",\"5\",\"0\",\"All\",,,\"False\",\"T\",\"EveryTick\"))","v":{"$error":"#N/A"}},null,{"$f":"IF(D54=0,NA(),RTD(\"cqg.rtd\",,\"StudyData\", \"Close(\"&$T$2&\") When Barix(\"&$T$2&\",reference:=StartOfSession)=\"&A54&\"\", \"Bar\", \"\", \"Close\",\"5\",\"0\",\"All\",,,\"False\",\"T\",\"EveryTick\"))","v":{"$error":"#N/A"}},null,{"$f":"IF(D54=0,NA(),RTD(\"cqg.rtd\",,\"StudyData\", \"Close(\"&$V$2&\") When Barix(\"&$V$2&\",reference:=StartOfSession)=\"&A54&\"\", \"Bar\", \"\", \"Close\",\"5\",\"0\",\"All\",,,\"False\",\"T\",\"EveryTick\"))","v":{"$error":"#N/A"}},null,{"$f":"IF(D54=0,NA(),RTD(\"cqg.rtd\",,\"StudyData\", \"Close(\"&$X$2&\") When Barix(\"&$X$2&\",reference:=StartOfSession)=\"&A54&\"\", \"Bar\", \"\", \"Close\",\"5\",\"0\",\"All\",,,\"False\",\"T\",\"EveryTick\"))","v":{"$error":"#N/A"}},null,{"$f":"IF(D54=0,NA(),RTD(\"cqg.rtd\",,\"StudyData\", \"Close(\"&$Z$2&\") When Barix(\"&$Z$2&\",reference:=StartOfSession)=\"&A54&\"\", \"Bar\", \"\", \"Close\",\"5\",\"0\",\"All\",,,\"False\",\"T\",\"EveryTick\"))","v":{"$error":"#N/A"}},null,{"$f":"IF(D54=0,NA(),RTD(\"cqg.rtd\",,\"StudyData\", \"Close(\"&$AB$2&\") When Barix(\"&$AB$2&\",reference:=StartOfSession)=\"&A54&\"\", \"Bar\", \"\", \"Close\",\"5\",\"0\",\"All\",,,\"False\",\"T\",\"EveryTick\"))","v":{"$error":"#N/A"}},null,{"$f":"IF(D54=0,NA(),RTD(\"cqg.rtd\",,\"StudyData\", \"Close(\"&$AD$2&\") When Barix(\"&$AD$2&\",reference:=StartOfSession)=\"&A54&\"\", \"Bar\", \"\", \"Close\",\"5\",\"0\",\"All\",,,\"False\",\"T\",\"EveryTick\"))","v":{"$error":"#N/A"}},null,{"$f":"IF(D54=0,NA(),RTD(\"cqg.rtd\",,\"StudyData\", \"Close(\"&$AF$2&\") When Barix(\"&$AF$2&\",reference:=StartOfSession)=\"&A54&\"\", \"Bar\", \"\", \"Close\",\"5\",\"0\",\"All\",,,\"False\",\"T\",\"EveryTick\"))","v":{"$error":"#N/A"}},null,{"$f":"IF(D54=0,NA(),RTD(\"cqg.rtd\",,\"StudyData\", \"Close(\"&$AH$2&\") When Barix(\"&$AH$2&\",reference:=StartOfSession)=\"&A54&\"\", \"Bar\", \"\", \"Close\",\"5\",\"0\",\"All\",,,\"False\",\"T\",\"EveryTick\"))","v":{"$error":"#N/A"}},null,{"$f":"IF(D54=0,NA(),RTD(\"cqg.rtd\",,\"StudyData\", \"Close(\"&$AJ$2&\") When Barix(\"&$AJ$2&\",reference:=StartOfSession)=\"&A54&\"\", \"Bar\", \"\", \"Close\",\"5\",\"0\",\"All\",,,\"False\",\"T\",\"EveryTick\"))","v":{"$error":"#N/A"}},null,{"$f":"IF(D54=0,NA(),RTD(\"cqg.rtd\",,\"StudyData\", \"Close(\"&$AL$2&\") When Barix(\"&$AL$2&\",reference:=StartOfSession)=\"&A54&\"\", \"Bar\", \"\", \"Close\",\"5\",\"0\",\"All\",,,\"False\",\"T\",\"EveryTick\"))","v":{"$error":"#N/A"}},null,{"$f":"IF(D54=0,NA(),RTD(\"cqg.rtd\",,\"StudyData\", \"Close(\"&$AN$2&\") When Barix(\"&$AN$2&\",reference:=StartOfSession)=\"&A54&\"\", \"Bar\", \"\", \"Close\",\"5\",\"0\",\"All\",,,\"False\",\"T\",\"EveryTick\"))","v":{"$error":"#N/A"}},null,{"$f":"IF(D54=0,NA(),RTD(\"cqg.rtd\",,\"StudyData\", \"Close(\"&$AN$2&\") When Barix(\"&$AN$2&\",reference:=StartOfSession)=\"&A54&\"\", \"Bar\", \"\", \"Close\",\"5\",\"0\",\"All\",,,\"False\",\"T\",\"EveryTick\"))","v":{"$error":"#N/A"}},null,{"$f":"IF(D54=0,NA(),RTD(\"cqg.rtd\",,\"StudyData\", \"Close(\"&$AR$2&\") When Barix(\"&$AR$2&\",reference:=StartOfSession)=\"&A54&\"\", \"Bar\", \"\", \"Close\",\"5\",\"0\",\"All\",,,\"False\",\"T\",\"EveryTick\"))","v":{"$error":"#N/A"}},null,{"$f":"IF(D54=0,NA(),RTD(\"cqg.rtd\",,\"StudyData\", \"Close(\"&$AT$2&\") When Barix(\"&$AT$2&\",reference:=StartOfSession)=\"&A54&\"\", \"Bar\", \"\", \"Close\",\"5\",\"0\",\"All\",,,\"False\",\"T\",\"EveryTick\"))","v":{"$error":"#N/A"}},null,{"$f":"IF(D54=0,NA(),RTD(\"cqg.rtd\",,\"StudyData\", \"Close(\"&$AV$2&\") When Barix(\"&$AV$2&\",reference:=StartOfSession)=\"&A54&\"\", \"Bar\", \"\", \"Close\",\"5\",\"0\",\"All\",,,\"False\",\"T\",\"EveryTick\"))","v":{"$error":"#N/A"}},null,{"$f":"IF(D54=0,NA(),RTD(\"cqg.rtd\",,\"StudyData\", \"Close(\"&$AX$2&\") When Barix(\"&$AX$2&\",reference:=StartOfSession)=\"&A54&\"\", \"Bar\", \"\", \"Close\",\"5\",\"0\",\"All\",,,\"False\",\"T\",\"EveryTick\"))","v":{"$error":"#N/A"}},null,{"$f":"IF(D54=0,NA(),RTD(\"cqg.rtd\",,\"StudyData\", \"Close(\"&$AZ$2&\") When Barix(\"&$AZ$2&\",reference:=StartOfSession)=\"&A54&\"\", \"Bar\", \"\", \"Close\",\"5\",\"0\",\"All\",,,\"False\",\"T\",\"EveryTick\"))","v":{"$error":"#N/A"}},null,{"$f":"IF(D54=0,NA(),RTD(\"cqg.rtd\",,\"StudyData\", \"Close(\"&$BB$2&\") When Barix(\"&$BB$2&\",reference:=StartOfSession)=\"&A54&\"\", \"Bar\", \"\", \"Close\",\"5\",\"0\",\"All\",,,\"False\",\"T\",\"EveryTick\"))","v":{"$error":"#N/A"}},null,{"$f":"IF(D54=0,NA(),RTD(\"cqg.rtd\",,\"StudyData\", \"Close(\"&$BD$2&\") When Barix(\"&$BD$2&\",reference:=StartOfSession)=\"&A54&\"\", \"Bar\", \"\", \"Close\",\"5\",\"0\",\"All\",,,\"False\",\"T\",\"EveryTick\"))","v":{"$error":"#N/A"}},null,{"$f":"IF(D54=0,NA(),RTD(\"cqg.rtd\",,\"StudyData\", \"Close(\"&$BF$2&\") When Barix(\"&$BF$2&\",reference:=StartOfSession)=\"&A54&\"\", \"Bar\", \"\", \"Close\",\"5\",\"0\",\"All\",,,\"False\",\"T\",\"EveryTick\"))","v":{"$error":"#N/A"}},null,{"$f":"IF(D54=0,NA(),RTD(\"cqg.rtd\",,\"StudyData\", \"Close(\"&$BH$2&\") When Barix(\"&$BH$2&\",reference:=StartOfSession)=\"&A54&\"\", \"Bar\", \"\", \"Close\",\"5\",\"0\",\"All\",,,\"False\",\"T\",\"EveryTick\"))","v":{"$error":"#N/A"}},null,{"$f":"IF(D54=0,NA(),RTD(\"cqg.rtd\",,\"StudyData\", \"Close(\"&$BJ$2&\") When Barix(\"&$BJ$2&\",reference:=StartOfSession)=\"&A54&\"\", \"Bar\", \"\", \"Close\",\"5\",\"0\",\"All\",,,\"False\",\"T\",\"EveryTick\"))","v":{"$error":"#N/A"}},null,{"$f":"IF(D54=0,NA(),RTD(\"cqg.rtd\",,\"StudyData\", \"Close(\"&$BL$2&\") When Barix(\"&$BL$2&\",reference:=StartOfSession)=\"&A54&\"\", \"Bar\", \"\", \"Close\",\"5\",\"0\",\"All\",,,\"False\",\"T\",\"EveryTick\"))","v":{"$error":"#N/A"}},null,{"$f":"IF(D54=0,NA(),RTD(\"cqg.rtd\",,\"StudyData\", \"Close(\"&$BN$2&\") When Barix(\"&$BN$2&\",reference:=StartOfSession)=\"&A54&\"\", \"Bar\", \"\", \"Close\",\"5\",\"0\",\"All\",,,\"False\",\"T\",\"EveryTick\"))","v":{"$error":"#N/A"}},null,{"$f":"IF(D54=0,NA(),RTD(\"cqg.rtd\",,\"StudyData\", \"Close(\"&$BP$2&\") When Barix(\"&$BP$2&\",reference:=StartOfSession)=\"&A54&\"\", \"Bar\", \"\", \"Close\",\"5\",\"0\",\"All\",,,\"False\",\"T\",\"EveryTick\"))","v":{"$error":"#N/A"}},null,{"$f":"IF(D54=0,NA(),RTD(\"cqg.rtd\",,\"StudyData\", \"Close(\"&$BR$2&\") When Barix(\"&$BR$2&\",reference:=StartOfSession)=\"&A54&\"\", \"Bar\", \"\", \"Close\",\"5\",\"0\",\"All\",,,\"False\",\"T\",\"EveryTick\"))","v":{"$error":"#N/A"}},null,{"$f":"IF(D54=0,NA(),RTD(\"cqg.rtd\",,\"StudyData\", \"Close(\"&$BT$2&\") When Barix(\"&$BT$2&\",reference:=StartOfSession)=\"&A54&\"\", \"Bar\", \"\", \"Close\",\"5\",\"0\",\"All\",,,\"False\",\"T\",\"EveryTick\"))","v":{"$error":"#N/A"}},null,{"$f":"IF(D54=0,NA(),RTD(\"cqg.rtd\",,\"StudyData\", \"Close(\"&$BV$2&\") When Barix(\"&$BV$2&\",reference:=StartOfSession)=\"&A54&\"\", \"Bar\", \"\", \"Close\",\"5\",\"0\",\"All\",,,\"False\",\"T\",\"EveryTick\"))","v":{"$error":"#N/A"}},null,{"$f":"IF(D54=0,NA(),RTD(\"cqg.rtd\",,\"StudyData\", \"Close(\"&$BX$2&\") When Barix(\"&$BX$2&\",reference:=StartOfSession)=\"&A54&\"\", \"Bar\", \"\", \"Close\",\"5\",\"0\",\"All\",,,\"False\",\"T\",\"EveryTick\"))","v":{"$error":"#N/A"}},null,{"$f":"IF(D54=0,NA(),RTD(\"cqg.rtd\",,\"StudyData\", \"Close(\"&$BZ$2&\") When Barix(\"&$BZ$2&\",reference:=StartOfSession)=\"&A54&\"\", \"Bar\", \"\", \"Close\",\"5\",\"0\",\"All\",,,\"False\",\"T\",\"EveryTick\"))","v":{"$error":"#N/A"}}]
[51,{"$f":"IF(D55=0,NA(),RTD(\"cqg.rtd\",,\"StudyData\", \"Close(\"&$B$2&\") When Barix(\"&$B$2&\",reference:=StartOfSession)=\"&A55&\"\", \"Bar\", \"\", \"Close\",\"5\",\"0\",\"All\",,,\"False\",\"T\",\"EveryTick\"))","v":{"$error":"#N/A"}},"12:45:00",0,null,{"$f":"IF(D55=0,NA(),RTD(\"cqg.rtd\",,\"StudyData\", \"Close(\"&$F$2&\") When Barix(\"&$F$2&\",reference:=StartOfSession)=\"&A55&\"\", \"Bar\", \"\", \"Close\",\"5\",\"0\",\"All\",,,\"False\",\"T\",\"EveryTick\"))","v":{"$error":"#N/A"}},null,{"$f":"IF(D55=0,NA(),RTD(\"cqg.rtd\",,\"StudyData\", \"Close(\"&$H$2&\") When Barix(\"&$H$2&\",reference:=StartOfSession)=\"&A55&\"\", \"Bar\", \"\", \"Close\",\"5\",\"0\",\"All\",,,\"False\",\"T\",\"EveryTick\"))","v":{"$error":"#N/A"}},null,{"$f":"IF(D55=0,NA(),RTD(\"cqg.rtd\",,\"StudyData\", \"Close(\"&$J$2&\") When Barix(\"&$J$2&\",reference:=StartOfSession)=\"&A55&\"\", \"Bar\", \"\", \"Close\",\"5\",\"0\",\"All\",,,\"False\",\"T\",\"EveryTick\"))","v":{"$error":"#N/A"}},null,{"$f":"IF(D55=0,NA(),RTD(\"cqg.rtd\",,\"StudyData\", \"Close(\"&$L$2&\") When Barix(\"&$L$2&\",reference:=StartOfSession)=\"&A55&\"\", \"Bar\", \"\", \"Close\",\"5\",\"0\",\"All\",,,\"False\",\"T\",\"EveryTick\"))","v":{"$error":"#N/A"}},null,{"$f":"IF(D55=0,NA(),RTD(\"cqg.rtd\",,\"StudyData\", \"Close(\"&$N$2&\") When Barix(\"&$N$2&\",reference:=StartOfSession)=\"&A55&\"\", \"Bar\", \"\", \"Close\",\"5\",\"0\",\"All\",,,\"False\",\"T\",\"EveryTick\"))","v":{"$error":"#N/A"}},null,{"$f":"IF(D55=0,NA(),RTD(\"cqg.rtd\",,\"StudyData\", \"Close(\"&$P$2&\") When Barix(\"&$P$2&\",reference:=StartOfSession)=\"&A55&\"\", \"Bar\", \"\", \"Close\",\"5\",\"0\",\"All\",,,\"False\",\"T\",\"EveryTick\"))","v":{"$error":"#N/A"}},null,{"$f":"IF(D55=0,NA(),RTD(\"cqg.rtd\",,\"StudyData\", \"Close(\"&$R$2&\") When Barix(\"&$R$2&\",reference:=StartOfSession)=\"&A55&\"\", \"Bar\", \"\", \"Close\",\"5\",\"0\",\"All\",,,\"False\",\"T\",\"EveryTick\"))","v":{"$error":"#N/A"}},null,{"$f":"IF(D55=0,NA(),RTD(\"cqg.rtd\",,\"StudyData\", \"Close(\"&$T$2&\") When Barix(\"&$T$2&\",reference:=StartOfSession)=\"&A55&\"\", \"Bar\", \"\", \"Close\",\"5\",\"0\",\"All\",,,\"False\",\"T\",\"EveryTick\"))","v":{"$error":"#N/A"}},null,{"$f":"IF(D55=0,NA(),RTD(\"cqg.rtd\",,\"StudyData\", \"Close(\"&$V$2&\") When Barix(\"&$V$2&\",reference:=StartOfSession)=\"&A55&\"\", \"Bar\", \"\", \"Close\",\"5\",\"0\",\"All\",,,\"False\",\"T\",\"EveryTick\"))","v":{"$error":"#N/A"}},null,{"$f":"IF(D55=0,NA(),RTD(\"cqg.rtd\",,\"StudyData\", \"Close(\"&$X$2&\") When Barix(\"&$X$2&\",reference:=StartOfSession)=\"&A55&\"\", \"Bar\", \"\", \"Close\",\"5\",\"0\",\"All\",,,\"False\",\"T\",\"EveryTick\"))","v":{"$error":"#N/A"}},null,{"$f":"IF(D55=0,NA(),RTD(\"cqg.rtd\",,\"StudyData\", \"Close(\"&$Z$2&\") When Barix(\"&$Z$2&\",reference:=StartOfSession)=\"&A55&\"\", \"Bar\", \"\", \"Close\",\"5\",\"0\",\"All\",,,\"False\",\"T\",\"EveryTick\"))","v":{"$error":"#N/A"}},null,{"$f":"IF(D55=0,NA(),RTD(\"cqg.rtd\",,\"StudyData\", \"Close(\"&$AB$2&\") When Barix(\"&$AB$2&\",reference:=StartOfSession)=\"&A55&\"\", \"Bar\", \"\", \"Close\",\"5\",\"0\",\"All\",,,\"False\",\"T\",\"EveryTick\"))","v":{"$error":"#N/A"}},null,{"$f":"IF(D55=0,NA(),RTD(\"cqg.rtd\",,\"StudyData\", \"Close(\"&$AD$2&\") When Barix(\"&$AD$2&\",reference:=StartOfSession)=\"&A55&\"\", \"Bar\", \"\", \"Close\",\"5\",\"0\",\"All\",,,\"False\",\"T\",\"EveryTick\"))","v":{"$error":"#N/A"}},null,{"$f":"IF(D55=0,NA(),RTD(\"cqg.rtd\",,\"StudyData\", \"Close(\"&$AF$2&\") When Barix(\"&$AF$2&\",reference:=StartOfSession)=\"&A55&\"\", \"Bar\", \"\", \"Close\",\"5\",\"0\",\"All\",,,\"False\",\"T\",\"EveryTick\"))","v":{"$error":"#N/A"}},null,{"$f":"IF(D55=0,NA(),RTD(\"cqg.rtd\",,\"StudyData\", \"Close(\"&$AH$2&\") When Barix(\"&$AH$2&\",reference:=StartOfSession)=\"&A55&\"\", \"Bar\", \"\", \"Close\",\"5\",\"0\",\"All\",,,\"False\",\"T\",\"EveryTick\"))","v":{"$error":"#N/A"}},null,{"$f":"IF(D55=0,NA(),RTD(\"cqg.rtd\",,\"StudyData\", \"Close(\"&$AJ$2&\") When Barix(\"&$AJ$2&\",reference:=StartOfSession)=\"&A55&\"\", \"Bar\", \"\", \"Close\",\"5\",\"0\",\"All\",,,\"False\",\"T\",\"EveryTick\"))","v":{"$error":"#N/A"}},null,{"$f":"IF(D55=0,NA(),RTD(\"cqg.rtd\",,\"StudyData\", \"Close(\"&$AL$2&\") When Barix(\"&$AL$2&\",reference:=StartOfSession)=\"&A55&\"\", \"Bar\", \"\", \"Close\",\"5\",\"0\",\"All\",,,\"False\",\"T\",\"EveryTick\"))","v":{"$error":"#N/A"}},null,{"$f":"IF(D55=0,NA(),RTD(\"cqg.rtd\",,\"StudyData\", \"Close(\"&$AN$2&\") When Barix(\"&$AN$2&\",reference:=StartOfSession)=\"&A55&\"\", \"Bar\", \"\", \"Close\",\"5\",\"0\",\"All\",,,\"False\",\"T\",\"EveryTick\"))","v":{"$error":"#N/A"}},null,{"$f":"IF(D55=0,NA(),RTD(\"cqg.rtd\",,\"StudyData\", \"Close(\"&$AN$2&\") When Barix(\"&$AN$2&\",reference:=StartOfSession)=\"&A55&\"\", \"Bar\", \"\", \"Close\",\"5\",\"0\",\"All\",,,\"False\",\"T\",\"EveryTick\"))","v":{"$error":"#N/A"}},null,{"$f":"IF(D55=0,NA(),RTD(\"cqg.rtd\",,\"StudyData\", \"Close(\"&$AR$2&\") When Barix(\"&$AR$2&\",reference:=StartOfSession)=\"&A55&\"\", \"Bar\", \"\", \"Close\",\"5\",\"0\",\"All\",,,\"False\",\"T\",\"EveryTick\"))","v":{"$error":"#N/A"}},null,{"$f":"IF(D55=0,NA(),RTD(\"cqg.rtd\",,\"StudyData\", \"Close(\"&$AT$2&\") When Barix(\"&$AT$2&\",reference:=StartOfSession)=\"&A55&\"\", \"Bar\", \"\", \"Close\",\"5\",\"0\",\"All\",,,\"False\",\"T\",\"EveryTick\"))","v":{"$error":"#N/A"}},null,{"$f":"IF(D55=0,NA(),RTD(\"cqg.rtd\",,\"StudyData\", \"Close(\"&$AV$2&\") When Barix(\"&$AV$2&\",reference:=StartOfSession)=\"&A55&\"\", \"Bar\", \"\", \"Close\",\"5\",\"0\",\"All\",,,\"False\",\"T\",\"EveryTick\"))","v":{"$error":"#N/A"}},null,{"$f":"IF(D55=0,NA(),RTD(\"cqg.rtd\",,\"StudyData\", \"Close(\"&$AX$2&\") When Barix(\"&$AX$2&\",reference:=StartOfSession)=\"&A55&\"\", \"Bar\", \"\", \"Close\",\"5\",\"0\",\"All\",,,\"False\",\"T\",\"EveryTick\"))","v":{"$error":"#N/A"}},null,{"$f":"IF(D55=0,NA(),RTD(\"cqg.rtd\",,\"StudyData\", \"Close(\"&$AZ$2&\") When Barix(\"&$AZ$2&\",reference:=StartOfSession)=\"&A55&\"\", \"Bar\", \"\", \"Close\",\"5\",\"0\",\"All\",,,\"False\",\"T\",\"EveryTick\"))","v":{"$error":"#N/A"}},null,{"$f":"IF(D55=0,NA(),RTD(\"cqg.rtd\",,\"StudyData\", \"Close(\"&$BB$2&\") When Barix(\"&$BB$2&\",reference:=StartOfSession)=\"&A55&\"\", \"Bar\", \"\", \"Close\",\"5\",\"0\",\"All\",,,\"False\",\"T\",\"EveryTick\"))","v":{"$error":"#N/A"}},null,{"$f":"IF(D55=0,NA(),RTD(\"cqg.rtd\",,\"StudyData\", \"Close(\"&$BD$2&\") When Barix(\"&$BD$2&\",reference:=StartOfSession)=\"&A55&\"\", \"Bar\", \"\", \"Close\",\"5\",\"0\",\"All\",,,\"False\",\"T\",\"EveryTick\"))","v":{"$error":"#N/A"}},null,{"$f":"IF(D55=0,NA(),RTD(\"cqg.rtd\",,\"StudyData\", \"Close(\"&$BF$2&\") When Barix(\"&$BF$2&\",reference:=StartOfSession)=\"&A55&\"\", \"Bar\", \"\", \"Close\",\"5\",\"0\",\"All\",,,\"False\",\"T\",\"EveryTick\"))","v":{"$error":"#N/A"}},null,{"$f":"IF(D55=0,NA(),RTD(\"cqg.rtd\",,\"StudyData\", \"Close(\"&$BH$2&\") When Barix(\"&$BH$2&\",reference:=StartOfSession)=\"&A55&\"\", \"Bar\", \"\", \"Close\",\"5\",\"0\",\"All\",,,\"False\",\"T\",\"EveryTick\"))","v":{"$error":"#N/A"}},null,{"$f":"IF(D55=0,NA(),RTD(\"cqg.rtd\",,\"StudyData\", \"Close(\"&$BJ$2&\") When Barix(\"&$BJ$2&\",reference:=StartOfSession)=\"&A55&\"\", \"Bar\", \"\", \"Close\",\"5\",\"0\",\"All\",,,\"False\",\"T\",\"EveryTick\"))","v":{"$error":"#N/A"}},null,{"$f":"IF(D55=0,NA(),RTD(\"cqg.rtd\",,\"StudyData\", \"Close(\"&$BL$2&\") When Barix(\"&$BL$2&\",reference:=StartOfSession)=\"&A55&\"\", \"Bar\", \"\", \"Close\",\"5\",\"0\",\"All\",,,\"False\",\"T\",\"EveryTick\"))","v":{"$error":"#N/A"}},null,{"$f":"IF(D55=0,NA(),RTD(\"cqg.rtd\",,\"StudyData\", \"Close(\"&$BN$2&\") When Barix(\"&$BN$2&\",reference:=StartOfSession)=\"&A55&\"\", \"Bar\", \"\", \"Close\",\"5\",\"0\",\"All\",,,\"False\",\"T\",\"EveryTick\"))","v":{"$error":"#N/A"}},null,{"$f":"IF(D55=0,NA(),RTD(\"cqg.rtd\",,\"StudyData\", \"Close(\"&$BP$2&\") When Barix(\"&$BP$2&\",reference:=StartOfSession)=\"&A55&\"\", \"Bar\", \"\", \"Close\",\"5\",\"0\",\"All\",,,\"False\",\"T\",\"EveryTick\"))","v":{"$error":"#N/A"}},null,{"$f":"IF(D55=0,NA(),RTD(\"cqg.rtd\",,\"StudyData\", \"Close(\"&$BR$2&\") When Barix(\"&$BR$2&\",reference:=StartOfSession)=\"&A55&\"\", \"Bar\", \"\", \"Close\",\"5\",\"0\",\"All\",,,\"False\",\"T\",\"EveryTick\"))","v":{"$error":"#N/A"}},null,{"$f":"IF(D55=0,NA(),RTD(\"cqg.rtd\",,\"StudyData\", \"Close(\"&$BT$2&\") When Barix(\"&$BT$2&\",reference:=StartOfSession)=\"&A55&\"\", \"Bar\", \"\", \"Close\",\"5\",\"0\",\"All\",,,\"False\",\"T\",\"EveryTick\"))","v":{"$error":"#N/A"}},null,{"$f":"IF(D55=0,NA(),RTD(\"cqg.rtd\",,\"StudyData\", \"Close(\"&$BV$2&\") When Barix(\"&$BV$2&\",reference:=StartOfSession)=\"&A55&\"\", \"Bar\", \"\", \"Close\",\"5\",\"0\",\"All\",,,\"False\",\"T\",\"EveryTick\"))","v":{"$error":"#N/A"}},null,{"$f":"IF(D55=0,NA(),RTD(\"cqg.rtd\",,\"StudyData\", \"Close(\"&$BX$2&\") When Barix(\"&$BX$2&\",reference:=StartOfSession)=\"&A55&\"\", \"Bar\", \"\", \"Close\",\"5\",\"0\",\"All\",,,\"False\",\"T\",\"EveryTick\"))","v":{"$error":"#N/A"}},null,{"$f":"IF(D55=0,NA(),RTD(\"cqg.rtd\",,\"StudyData\", \"Close(\"&$BZ$2&\") When Barix(\"&$BZ$2&\",reference:=StartOfSession)=\"&A55&\"\", \"Bar\", \"\", \"Close\",\"5\",\"0\",\"All\",,,\"False\",\"T\",\"EveryTick\"))","v":{"$error":"#N/A"}}]
[52,{"$f":"IF(D56=0,NA(),RTD(\"cqg.rtd\",,\"StudyData\", \"Close(\"&$B$2&\") When Barix(\"&$B$2&\",reference:=StartOfSession)=\"&A56&\"\", \"Bar\", \"\", \"Close\",\"5\",\"0\",\"All\",,,\"False\",\"T\",\"EveryTick\"))","v":{"$error":"#N/A"}},"12:50:00",0,null,{"$f":"IF(D56=0,NA(),RTD(\"cqg.rtd\",,\"StudyData\", \"Close(\"&$F$2&\") When Barix(\"&$F$2&\",reference:=StartOfSession)=\"&A56&\"\", \"Bar\", \"\", \"Close\",\"5\",\"0\",\"All\",,,\"False\",\"T\",\"EveryTick\"))","v":{"$error":"#N/A"}},null,{"$f":"IF(D56=0,NA(),RTD(\"cqg.rtd\",,\"StudyData\", \"Close(\"&$H$2&\") When Barix(\"&$H$2&\",reference:=StartOfSession)=\"&A56&\"\", \"Bar\", \"\", \"Close\",\"5\",\"0\",\"All\",,,\"False\",\"T\",\"EveryTick\"))","v":{"$error":"#N/A"}},null,{"$f":"IF(D56=0,NA(),RTD(\"cqg.rtd\",,\"StudyData\", \"Close(\"&$J$2&\") When Barix(\"&$J$2&\",reference:=StartOfSession)=\"&A56&\"\", \"Bar\", \"\", \"Close\",\"5\",\"0\",\"All\",,,\"False\",\"T\",\"EveryTick\"))","v":{"$error":"#N/A"}},null,{"$f":"IF(D56=0,NA(),RTD(\"cqg.rtd\",,\"StudyData\", \"Close(\"&$L$2&\") When Barix(\"&$L$2&\",reference:=StartOfSession)=\"&A56&\"\", \"Bar\", \"\", \"Close\",\"5\",\"0\",\"All\",,,\"False\",\"T\",\"EveryTick\"))","v":{"$error":"#N/A"}},null,{"$f":"IF(D56=0,NA(),RTD(\"cqg.rtd\",,\"StudyData\", \"Close(\"&$N$2&\") When Barix(\"&$N$2&\",reference:=StartOfSession)=\"&A56&\"\", \"Bar\", \"\", \"Close\",\"5\",\"0\",\"All\",,,\"False\",\"T\",\"EveryTick\"))","v":{"$error":"#N/A"}},null,{"$f":"IF(D56=0,NA(),RTD(\"cqg.rtd\",,\"StudyData\", \"Close(\"&$P$2&\") When Barix(\"&$P$2&\",reference:=StartOfSession)=\"&A56&\"\", \"Bar\", \"\", \"Close\",\"5\",\"0\",\"All\",,,\"False\",\"T\",\"EveryTick\"))","v":{"$error":"#N/A"}},null,{"$f":"IF(D56=0,NA(),RTD(\"cqg.rtd\",,\"StudyData\", \"Close(\"&$R$2&\") When Barix(\"&$R$2&\",reference:=StartOfSession)=\"&A56&\"\", \"Bar\", \"\", \"Close\",\"5\",\"0\",\"All\",,,\"False\",\"T\",\"EveryTick\"))","v":{"$error":"#N/A"}},null,{"$f":"IF(D56=0,NA(),RTD(\"cqg.rtd\",,\"StudyData\", \"Close(\"&$T$2&\") When Barix(\"&$T$2&\",reference:=StartOfSession)=\"&A56&\"\", \"Bar\", \"\", \"Close\",\"5\",\"0\",\"All\",,,\"False\",\"T\",\"EveryTick\"))","v":{"$error":"#N/A"}},null,{"$f":"IF(D56=0,NA(),RTD(\"cqg.rtd\",,\"StudyData\", \"Close(\"&$V$2&\") When Barix(\"&$V$2&\",reference:=StartOfSession)=\"&A56&\"\", \"Bar\", \"\", \"Close\",\"5\",\"0\",\"All\",,,\"False\",\"T\",\"EveryTick\"))","v":{"$error":"#N/A"}},null,{"$f":"IF(D56=0,NA(),RTD(\"cqg.rtd\",,\"StudyData\", \"Close(\"&$X$2&\") When Barix(\"&$X$2&\",reference:=StartOfSession)=\"&A56&\"\", \"Bar\", \"\", \"Close\",\"5\",\"0\",\"All\",,,\"False\",\"T\",\"EveryTick\"))","v":{"$error":"#N/A"}},null,{"$f":"IF(D56=0,NA(),RTD(\"cqg.rtd\",,\"StudyData\", \"Close(\"&$Z$2&\") When Barix(\"&$Z$2&\",reference:=StartOfSession)=\"&A56&\"\", \"Bar\", \"\", \"Close\",\"5\",\"0\",\"All\",,,\"False\",\"T\",\"EveryTick\"))","v":{"$error":"#N/A"}},null,{"$f":"IF(D56=0,NA(),RTD(\"cqg.rtd\",,\"StudyData\", \"Close(\"&$AB$2&\") When Barix(\"&$AB$2&\",reference:=StartOfSession)=\"&A56&\"\", \"Bar\", \"\", \"Close\",\"5\",\"0\",\"All\",,,\"False\",\"T\",\"EveryTick\"))","v":{"$error":"#N/A"}},null,{"$f":"IF(D56=0,NA(),RTD(\"cqg.rtd\",,\"StudyData\", \"Close(\"&$AD$2&\") When Barix(\"&$AD$2&\",reference:=StartOfSession)=\"&A56&\"\", \"Bar\", \"\", \"Close\",\"5\",\"0\",\"All\",,,\"False\",\"T\",\"EveryTick\"))","v":{"$error":"#N/A"}},null,{"$f":"IF(D56=0,NA(),RTD(\"cqg.rtd\",,\"StudyData\", \"Close(\"&$AF$2&\") When Barix(\"&$AF$2&\",reference:=StartOfSession)=\"&A56&\"\", \"Bar\", \"\", \"Close\",\"5\",\"0\",\"All\",,,\"False\",\"T\",\"EveryTick\"))","v":{"$error":"#N/A"}},null,{"$f":"IF(D56=0,NA(),RTD(\"cqg.rtd\",,\"StudyData\", \"Close(\"&$AH$2&\") When Barix(\"&$AH$2&\",reference:=StartOfSession)=\"&A56&\"\", \"Bar\", \"\", \"Close\",\"5\",\"0\",\"All\",,,\"False\",\"T\",\"EveryTick\"))","v":{"$error":"#N/A"}},null,{"$f":"IF(D56=0,NA(),RTD(\"cqg.rtd\",,\"StudyData\", \"Close(\"&$AJ$2&\") When Barix(\"&$AJ$2&\",reference:=StartOfSession)=\"&A56&\"\", \"Bar\", \"\", \"Close\",\"5\",\"0\",\"All\",,,\"False\",\"T\",\"EveryTick\"))","v":{"$error":"#N/A"}},null,{"$f":"IF(D56=0,NA(),RTD(\"cqg.rtd\",,\"StudyData\", \"Close(\"&$AL$2&\") When Barix(\"&$AL$2&\",reference:=StartOfSession)=\"&A56&\"\", \"Bar\", \"\", \"Close\",\"5\",\"0\",\"All\",,,\"False\",\"T\",\"EveryTick\"))","v":{"$error":"#N/A"}},null,{"$f":"IF(D56=0,NA(),RTD(\"cqg.rtd\",,\"StudyData\", \"Close(\"&$AN$2&\") When Barix(\"&$AN$2&\",reference:=StartOfSession)=\"&A56&\"\", \"Bar\", \"\", \"Close\",\"5\",\"0\",\"All\",,,\"False\",\"T\",\"EveryTick\"))","v":{"$error":"#N/A"}},null,{"$f":"IF(D56=0,NA(),RTD(\"cqg.rtd\",,\"StudyData\", \"Close(\"&$AN$2&\") When Barix(\"&$AN$2&\",reference:=StartOfSession)=\"&A56&\"\", \"Bar\", \"\", \"Close\",\"5\",\"0\",\"All\",,,\"False\",\"T\",\"EveryTick\"))","v":{"$error":"#N/A"}},null,{"$f":"IF(D56=0,NA(),RTD(\"cqg.rtd\",,\"StudyData\", \"Close(\"&$AR$2&\") When Barix(\"&$AR$2&\",reference:=StartOfSession)=\"&A56&\"\", \"Bar\", \"\", \"Close\",\"5\",\"0\",\"All\",,,\"False\",\"T\",\"EveryTick\"))","v":{"$error":"#N/A"}},null,{"$f":"IF(D56=0,NA(),RTD(\"cqg.rtd\",,\"StudyData\", \"Close(\"&$AT$2&\") When Barix(\"&$AT$2&\",reference:=StartOfSession)=\"&A56&\"\", \"Bar\", \"\", \"Close\",\"5\",\"0\",\"All\",,,\"False\",\"T\",\"EveryTick\"))","v":{"$error":"#N/A"}},null,{"$f":"IF(D56=0,NA(),RTD(\"cqg.rtd\",,\"StudyData\", \"Close(\"&$AV$2&\") When Barix(\"&$AV$2&\",reference:=StartOfSession)=\"&A56&\"\", \"Bar\", \"\", \"Close\",\"5\",\"0\",\"All\",,,\"False\",\"T\",\"EveryTick\"))","v":{"$error":"#N/A"}},null,{"$f":"IF(D56=0,NA(),RTD(\"cqg.rtd\",,\"StudyData\", \"Close(\"&$AX$2&\") When Barix(\"&$AX$2&\",reference:=StartOfSession)=\"&A56&\"\", \"Bar\", \"\", \"Close\",\"5\",\"0\",\"All\",,,\"False\",\"T\",\"EveryTick\"))","v":{"$error":"#N/A"}},null,{"$f":"IF(D56=0,NA(),RTD(\"cqg.rtd\",,\"StudyData\", \"Close(\"&$AZ$2&\") When Barix(\"&$AZ$2&\",reference:=StartOfSession)=\"&A56&\"\", \"Bar\", \"\", \"Close\",\"5\",\"0\",\"All\",,,\"False\",\"T\",\"EveryTick\"))","v":{"$error":"#N/A"}},null,{"$f":"IF(D56=0,NA(),RTD(\"cqg.rtd\",,\"StudyData\", \"Close(\"&$BB$2&\") When Barix(\"&$BB$2&\",reference:=StartOfSession)=\"&A56&\"\", \"Bar\", \"\", \"Close\",\"5\",\"0\",\"All\",,,\"False\",\"T\",\"EveryTick\"))","v":{"$error":"#N/A"}},null,{"$f":"IF(D56=0,NA(),RTD(\"cqg.rtd\",,\"StudyData\", \"Close(\"&$BD$2&\") When Barix(\"&$BD$2&\",reference:=StartOfSession)=\"&A56&\"\", \"Bar\", \"\", \"Close\",\"5\",\"0\",\"All\",,,\"False\",\"T\",\"EveryTick\"))","v":{"$error":"#N/A"}},null,{"$f":"IF(D56=0,NA(),RTD(\"cqg.rtd\",,\"StudyData\", \"Close(\"&$BF$2&\") When Barix(\"&$BF$2&\",reference:=StartOfSession)=\"&A56&\"\", \"Bar\", \"\", \"Close\",\"5\",\"0\",\"All\",,,\"False\",\"T\",\"EveryTick\"))","v":{"$error":"#N/A"}},null,{"$f":"IF(D56=0,NA(),RTD(\"cqg.rtd\",,\"StudyData\", \"Close(\"&$BH$2&\") When Barix(\"&$BH$2&\",reference:=StartOfSession)=\"&A56&\"\", \"Bar\", \"\", \"Close\",\"5\",\"0\",\"All\",,,\"False\",\"T\",\"EveryTick\"))","v":{"$error":"#N/A"}},null,{"$f":"IF(D56=0,NA(),RTD(\"cqg.rtd\",,\"StudyData\", \"Close(\"&$BJ$2&\") When Barix(\"&$BJ$2&\",reference:=StartOfSession)=\"&A56&\"\", \"Bar\", \"\", \"Close\",\"5\",\"0\",\"All\",,,\"False\",\"T\",\"EveryTick\"))","v":{"$error":"#N/A"}},null,{"$f":"IF(D56=0,NA(),RTD(\"cqg.rtd\",,\"StudyData\", \"Close(\"&$BL$2&\") When Barix(\"&$BL$2&\",reference:=StartOfSession)=\"&A56&\"\", \"Bar\", \"\", \"Close\",\"5\",\"0\",\"All\",,,\"False\",\"T\",\"EveryTick\"))","v":{"$error":"#N/A"}},null,{"$f":"IF(D56=0,NA(),RTD(\"cqg.rtd\",,\"StudyData\", \"Close(\"&$BN$2&\") When Barix(\"&$BN$2&\",reference:=StartOfSession)=\"&A56&\"\", \"Bar\", \"\", \"Close\",\"5\",\"0\",\"All\",,,\"False\",\"T\",\"EveryTick\"))","v":{"$error":"#N/A"}},null,{"$f":"IF(D56=0,NA(),RTD(\"cqg.rtd\",,\"StudyData\", \"Close(\"&$BP$2&\") When Barix(\"&$BP$2&\",reference:=StartOfSession)=\"&A56&\"\", \"Bar\", \"\", \"Close\",\"5\",\"0\",\"All\",,,\"False\",\"T\",\"EveryTick\"))","v":{"$error":"#N/A"}},null,{"$f":"IF(D56=0,NA(),RTD(\"cqg.rtd\",,\"StudyData\", \"Close(\"&$BR$2&\") When Barix(\"&$BR$2&\",reference:=StartOfSession)=\"&A56&\"\", \"Bar\", \"\", \"Close\",\"5\",\"0\",\"All\",,,\"False\",\"T\",\"EveryTick\"))","v":{"$error":"#N/A"}},null,{"$f":"IF(D56=0,NA(),RTD(\"cqg.rtd\",,\"StudyData\", \"Close(\"&$BT$2&\") When Barix(\"&$BT$2&\",reference:=StartOfSession)=\"&A56&\"\", \"Bar\", \"\", \"Close\",\"5\",\"0\",\"All\",,,\"False\",\"T\",\"EveryTick\"))","v":{"$error":"#N/A"}},null,{"$f":"IF(D56=0,NA(),RTD(\"cqg.rtd\",,\"StudyData\", \"Close(\"&$BV$2&\") When Barix(\"&$BV$2&\",reference:=StartOfSession)=\"&A56&\"\", \"Bar\", \"\", \"Close\",\"5\",\"0\",\"All\",,,\"False\",\"T\",\"EveryTick\"))","v":{"$error":"#N/A"}},null,{"$f":"IF(D56=0,NA(),RTD(\"cqg.rtd\",,\"StudyData\", \"Close(\"&$BX$2&\") When Barix(\"&$BX$2&\",reference:=StartOfSession)=\"&A56&\"\", \"Bar\", \"\", \"Close\",\"5\",\"0\",\"All\",,,\"False\",\"T\",\"EveryTick\"))","v":{"$error":"#N/A"}},null,{"$f":"IF(D56=0,NA(),RTD(\"cqg.rtd\",,\"StudyData\", \"Close(\"&$BZ$2&\") When Barix(\"&$BZ$2&\",reference:=StartOfSession)=\"&A56&\"\", \"Bar\", \"\", \"Close\",\"5\",\"0\",\"All\",,,\"False\",\"T\",\"EveryTick\"))","v":{"$error":"#N/A"}}]
[53,{"$f":"IF(D57=0,NA(),RTD(\"cqg.rtd\",,\"StudyData\", \"Close(\"&$B$2&\") When Barix(\"&$B$2&\",reference:=StartOfSession)=\"&A57&\"\", \"Bar\", \"\", \"Close\",\"5\",\"0\",\"All\",,,\"False\",\"T\",\"EveryTick\"))","v":{"$error":"#N/A"}},"12:55:00",0,null,{"$f":"IF(D57=0,NA(),RTD(\"cqg.rtd\",,\"StudyData\", \"Close(\"&$F$2&\") When Barix(\"&$F$2&\",reference:=StartOfSession)=\"&A57&\"\", \"Bar\", \"\", \"Close\",\"5\",\"0\",\"All\",,,\"False\",\"T\",\"EveryTick\"))","v":{"$error":"#N/A"}},null,{"$f":"IF(D57=0,NA(),RTD(\"cqg.rtd\",,\"StudyData\", \"Close(\"&$H$2&\") When Barix(\"&$H$2&\",reference:=StartOfSession)=\"&A57&\"\", \"Bar\", \"\", \"Close\",\"5\",\"0\",\"All\",,,\"False\",\"T\",\"EveryTick\"))","v":{"$error":"#N/A"}},null,{"$f":"IF(D57=0,NA(),RTD(\"cqg.rtd\",,\"StudyData\", \"Close(\"&$J$2&\") When Barix(\"&$J$2&\",reference:=StartOfSession)=\"&A57&\"\", \"Bar\", \"\", \"Close\",\"5\",\"0\",\"All\",,,\"False\",\"T\",\"EveryTick\"))","v":{"$error":"#N/A"}},null,{"$f":"IF(D57=0,NA(),RTD(\"cqg.rtd\",,\"StudyData\", \"Close(\"&$L$2&\") When Barix(\"&$L$2&\",reference:=StartOfSession)=\"&A57&\"\", \"Bar\", \"\", \"Close\",\"5\",\"0\",\"All\",,,\"False\",\"T\",\"EveryTick\"))","v":{"$error":"#N/A"}},null,{"$f":"IF(D57=0,NA(),RTD(\"cqg.rtd\",,\"StudyData\", \"Close(\"&$N$2&\") When Barix(\"&$N$2&\",reference:=StartOfSession)=\"&A57&\"\", \"Bar\", \"\", \"Close\",\"5\",\"0\",\"All\",,,\"False\",\"T\",\"EveryTick\"))","v":{"$error":"#N/A"}},null,{"$f":"IF(D57=0,NA(),RTD(\"cqg.rtd\",,\"StudyData\", \"Close(\"&$P$2&\") When Barix(\"&$P$2&\",reference:=StartOfSession)=\"&A57&\"\", \"Bar\", \"\", \"Close\",\"5\",\"0\",\"All\",,,\"False\",\"T\",\"EveryTick\"))","v":{"$error":"#N/A"}},null,{"$f":"IF(D57=0,NA(),RTD(\"cqg.rtd\",,\"StudyData\", \"Close(\"&$R$2&\") When Barix(\"&$R$2&\",reference:=StartOfSession)=\"&A57&\"\", \"Bar\", \"\", \"Close\",\"5\",\"0\",\"All\",,,\"False\",\"T\",\"EveryTick\"))","v":{"$error":"#N/A"}},null,{"$f":"IF(D57=0,NA(),RTD(\"cqg.rtd\",,\"StudyData\", \"Close(\"&$T$2&\") When Barix(\"&$T$2&\",reference:=StartOfSession)=\"&A57&\"\", \"Bar\", \"\", \"Close\",\"5\",\"0\",\"All\",,,\"False\",\"T\",\"EveryTick\"))","v":{"$error":"#N/A"}},null,{"$f":"IF(D57=0,NA(),RTD(\"cqg.rtd\",,\"StudyData\", \"Close(\"&$V$2&\") When Barix(\"&$V$2&\",reference:=StartOfSession)=\"&A57&\"\", \"Bar\", \"\", \"Close\",\"5\",\"0\",\"All\",,,\"False\",\"T\",\"EveryTick\"))","v":{"$error":"#N/A"}},null,{"$f":"IF(D57=0,NA(),RTD(\"cqg.rtd\",,\"StudyData\", \"Close(\"&$X$2&\") When Barix(\"&$X$2&\",reference:=StartOfSession)=\"&A57&\"\", \"Bar\", \"\", \"Close\",\"5\",\"0\",\"All\",,,\"False\",\"T\",\"EveryTick\"))","v":{"$error":"#N/A"}},null,{"$f":"IF(D57=0,NA(),RTD(\"cqg.rtd\",,\"StudyData\", \"Close(\"&$Z$2&\") When Barix(\"&$Z$2&\",reference:=StartOfSession)=\"&A57&\"\", \"Bar\", \"\", \"Close\",\"5\",\"0\",\"All\",,,\"False\",\"T\",\"EveryTick\"))","v":{"$error":"#N/A"}},null,{"$f":"IF(D57=0,NA(),RTD(\"cqg.rtd\",,\"StudyData\", \"Close(\"&$AB$2&\") When Barix(\"&$AB$2&\",reference:=StartOfSession)=\"&A57&\"\", \"Bar\", \"\", \"Close\",\"5\",\"0\",\"All\",,,\"False\",\"T\",\"EveryTick\"))","v":{"$error":"#N/A"}},null,{"$f":"IF(D57=0,NA(),RTD(\"cqg.rtd\",,\"StudyData\", \"Close(\"&$AD$2&\") When Barix(\"&$AD$2&\",reference:=StartOfSession)=\"&A57&\"\", \"Bar\", \"\", \"Close\",\"5\",\"0\",\"All\",,,\"False\",\"T\",\"EveryTick\"))","v":{"$error":"#N/A"}},null,{"$f":"IF(D57=0,NA(),RTD(\"cqg.rtd\",,\"StudyData\", \"Close(\"&$AF$2&\") When Barix(\"&$AF$2&\",reference:=StartOfSession)=\"&A57&\"\", \"Bar\", \"\", \"Close\",\"5\",\"0\",\"All\",,,\"False\",\"T\",\"EveryTick\"))","v":{"$error":"#N/A"}},null,{"$f":"IF(D57=0,NA(),RTD(\"cqg.rtd\",,\"StudyData\", \"Close(\"&$AH$2&\") When Barix(\"&$AH$2&\",reference:=StartOfSession)=\"&A57&\"\", \"Bar\", \"\", \"Close\",\"5\",\"0\",\"All\",,,\"False\",\"T\",\"EveryTick\"))","v":{"$error":"#N/A"}},null,{"$f":"IF(D57=0,NA(),RTD(\"cqg.rtd\",,\"StudyData\", \"Close(\"&$AJ$2&\") When Barix(\"&$AJ$2&\",reference:=StartOfSession)=\"&A57&\"\", \"Bar\", \"\", \"Close\",\"5\",\"0\",\"All\",,,\"False\",\"T\",\"EveryTick\"))","v":{"$error":"#N/A"}},null,{"$f":"IF(D57=0,NA(),RTD(\"cqg.rtd\",,\"StudyData\", \"Close(\"&$AL$2&\") When Barix(\"&$AL$2&\",reference:=StartOfSession)=\"&A57&\"\", \"Bar\", \"\", \"Close\",\"5\",\"0\",\"All\",,,\"False\",\"T\",\"EveryTick\"))","v":{"$error":"#N/A"}},null,{"$f":"IF(D57=0,NA(),RTD(\"cqg.rtd\",,\"StudyData\", \"Close(\"&$AN$2&\") When Barix(\"&$AN$2&\",reference:=StartOfSession)=\"&A57&\"\", \"Bar\", \"\", \"Close\",\"5\",\"0\",\"All\",,,\"False\",\"T\",\"EveryTick\"))","v":{"$error":"#N/A"}},null,{"$f":"IF(D57=0,NA(),RTD(\"cqg.rtd\",,\"StudyData\", \"Close(\"&$AN$2&\") When Barix(\"&$AN$2&\",reference:=StartOfSession)=\"&A57&\"\", \"Bar\", \"\", \"Close\",\"5\",\"0\",\"All\",,,\"False\",\"T\",\"EveryTick\"))","v":{"$error":"#N/A"}},null,{"$f":"IF(D57=0,NA(),RTD(\"cqg.rtd\",,\"StudyData\", \"Close(\"&$AR$2&\") When Barix(\"&$AR$2&\",reference:=StartOfSession)=\"&A57&\"\", \"Bar\", \"\", \"Close\",\"5\",\"0\",\"All\",,,\"False\",\"T\",\"EveryTick\"))","v":{"$error":"#N/A"}},null,{"$f":"IF(D57=0,NA(),RTD(\"cqg.rtd\",,\"StudyData\", \"Close(\"&$AT$2&\") When Barix(\"&$AT$2&\",reference:=StartOfSession)=\"&A57&\"\", \"Bar\", \"\", \"Close\",\"5\",\"0\",\"All\",,,\"False\",\"T\",\"EveryTick\"))","v":{"$error":"#N/A"}},null,{"$f":"IF(D57=0,NA(),RTD(\"cqg.rtd\",,\"StudyData\", \"Close(\"&$AV$2&\") When Barix(\"&$AV$2&\",reference:=StartOfSession)=\"&A57&\"\", \"Bar\", \"\", \"Close\",\"5\",\"0\",\"All\",,,\"False\",\"T\",\"EveryTick\"))","v":{"$error":"#N/A"}},null,{"$f":"IF(D57=0,NA(),RTD(\"cqg.rtd\",,\"StudyData\", \"Close(\"&$AX$2&\") When Barix(\"&$AX$2&\",reference:=StartOfSession)=\"&A57&\"\", \"Bar\", \"\", \"Close\",\"5\",\"0\",\"All\",,,\"False\",\"T\",\"EveryTick\"))","v":{"$error":"#N/A"}},null,{"$f":"IF(D57=0,NA(),RTD(\"cqg.rtd\",,\"StudyData\", \"Close(\"&$AZ$2&\") When Barix(\"&$AZ$2&\",reference:=StartOfSession)=\"&A57&\"\", \"Bar\", \"\", \"Close\",\"5\",\"0\",\"All\",,,\"False\",\"T\",\"EveryTick\"))","v":{"$error":"#N/A"}},null,{"$f":"IF(D57=0,NA(),RTD(\"cqg.rtd\",,\"StudyData\", \"Close(\"&$BB$2&\") When Barix(\"&$BB$2&\",reference:=StartOfSession)=\"&A57&\"\", \"Bar\", \"\", \"Close\",\"5\",\"0\",\"All\",,,\"False\",\"T\",\"EveryTick\"))","v":{"$error":"#N/A"}},null,{"$f":"IF(D57=0,NA(),RTD(\"cqg.rtd\",,\"StudyData\", \"Close(\"&$BD$2&\") When Barix(\"&$BD$2&\",reference:=StartOfSession)=\"&A57&\"\", \"Bar\", \"\", \"Close\",\"5\",\"0\",\"All\",,,\"False\",\"T\",\"EveryTick\"))","v":{"$error":"#N/A"}},null,{"$f":"IF(D57=0,NA(),RTD(\"cqg.rtd\",,\"StudyData\", \"Close(\"&$BF$2&\") When Barix(\"&$BF$2&\",reference:=StartOfSession)=\"&A57&\"\", \"Bar\", \"\", \"Close\",\"5\",\"0\",\"All\",,,\"False\",\"T\",\"EveryTick\"))","v":{"$error":"#N/A"}},null,{"$f":"IF(D57=0,NA(),RTD(\"cqg.rtd\",,\"StudyData\", \"Close(\"&$BH$2&\") When Barix(\"&$BH$2&\",reference:=StartOfSession)=\"&A57&\"\", \"Bar\", \"\", \"Close\",\"5\",\"0\",\"All\",,,\"False\",\"T\",\"EveryTick\"))","v":{"$error":"#N/A"}},null,{"$f":"IF(D57=0,NA(),RTD(\"cqg.rtd\",,\"StudyData\", \"Close(\"&$BJ$2&\") When Barix(\"&$BJ$2&\",reference:=StartOfSession)=\"&A57&\"\", \"Bar\", \"\", \"Close\",\"5\",\"0\",\"All\",,,\"False\",\"T\",\"EveryTick\"))","v":{"$error":"#N/A"}},null,{"$f":"IF(D57=0,NA(),RTD(\"cqg.rtd\",,\"StudyData\", \"Close(\"&$BL$2&\") When Barix(\"&$BL$2&\",reference:=StartOfSession)=\"&A57&\"\", \"Bar\", \"\", \"Close\",\"5\",\"0\",\"All\",,,\"False\",\"T\",\"EveryTick\"))","v":{"$error":"#N/A"}},null,{"$f":"IF(D57=0,NA(),RTD(\"cqg.rtd\",,\"StudyData\", \"Close(\"&$BN$2&\") When Barix(\"&$BN$2&\",reference:=StartOfSession)=\"&A57&\"\", \"Bar\", \"\", \"Close\",\"5\",\"0\",\"All\",,,\"False\",\"T\",\"EveryTick\"))","v":{"$error":"#N/A"}},null,{"$f":"IF(D57=0,NA(),RTD(\"cqg.rtd\",,\"StudyData\", \"Close(\"&$BP$2&\") When Barix(\"&$BP$2&\",reference:=StartOfSession)=\"&A57&\"\", \"Bar\", \"\", \"Close\",\"5\",\"0\",\"All\",,,\"False\",\"T\",\"EveryTick\"))","v":{"$error":"#N/A"}},null,{"$f":"IF(D57=0,NA(),RTD(\"cqg.rtd\",,\"StudyData\", \"Close(\"&$BR$2&\") When Barix(\"&$BR$2&\",reference:=StartOfSession)=\"&A57&\"\", \"Bar\", \"\", \"Close\",\"5\",\"0\",\"All\",,,\"False\",\"T\",\"EveryTick\"))","v":{"$error":"#N/A"}},null,{"$f":"IF(D57=0,NA(),RTD(\"cqg.rtd\",,\"StudyData\", \"Close(\"&$BT$2&\") When Barix(\"&$BT$2&\",reference:=StartOfSession)=\"&A57&\"\", \"Bar\", \"\", \"Close\",\"5\",\"0\",\"All\",,,\"False\",\"T\",\"EveryTick\"))","v":{"$error":"#N/A"}},null,{"$f":"IF(D57=0,NA(),RTD(\"cqg.rtd\",,\"StudyData\", \"Close(\"&$BV$2&\") When Barix(\"&$BV$2&\",reference:=StartOfSession)=\"&A57&\"\", \"Bar\", \"\", \"Close\",\"5\",\"0\",\"All\",,,\"False\",\"T\",\"EveryTick\"))","v":{"$error":"#N/A"}},null,{"$f":"IF(D57=0,NA(),RTD(\"cqg.rtd\",,\"StudyData\", \"Close(\"&$BX$2&\") When Barix(\"&$BX$2&\",reference:=StartOfSession)=\"&A57&\"\", \"Bar\", \"\", \"Close\",\"5\",\"0\",\"All\",,,\"False\",\"T\",\"EveryTick\"))","v":{"$error":"#N/A"}},null,{"$f":"IF(D57=0,NA(),RTD(\"cqg.rtd\",,\"StudyData\", \"Close(\"&$BZ$2&\") When Barix(\"&$BZ$2&\",reference:=StartOfSession)=\"&A57&\"\", \"Bar\", \"\", \"Close\",\"5\",\"0\",\"All\",,,\"False\",\"T\",\"EveryTick\"))","v":{"$error":"#N/A"}}]
[54,{"$f":"IF(D58=0,NA(),RTD(\"cqg.rtd\",,\"StudyData\", \"Close(\"&$B$2&\") When Barix(\"&$B$2&\",reference:=StartOfSession)=\"&A58&\"\", \"Bar\", \"\", \"Close\",\"5\",\"0\",\"All\",,,\"False\",\"T\",\"EveryTick\"))","v":{"$error":"#N/A"}},"13:00:00",0,null,{"$f":"IF(D58=0,NA(),RTD(\"cqg.rtd\",,\"StudyData\", \"Close(\"&$F$2&\") When Barix(\"&$F$2&\",reference:=StartOfSession)=\"&A58&\"\", \"Bar\", \"\", \"Close\",\"5\",\"0\",\"All\",,,\"False\",\"T\",\"EveryTick\"))","v":{"$error":"#N/A"}},null,{"$f":"IF(D58=0,NA(),RTD(\"cqg.rtd\",,\"StudyData\", \"Close(\"&$H$2&\") When Barix(\"&$H$2&\",reference:=StartOfSession)=\"&A58&\"\", \"Bar\", \"\", \"Close\",\"5\",\"0\",\"All\",,,\"False\",\"T\",\"EveryTick\"))","v":{"$error":"#N/A"}},null,{"$f":"IF(D58=0,NA(),RTD(\"cqg.rtd\",,\"StudyData\", \"Close(\"&$J$2&\") When Barix(\"&$J$2&\",reference:=StartOfSession)=\"&A58&\"\", \"Bar\", \"\", \"Close\",\"5\",\"0\",\"All\",,,\"False\",\"T\",\"EveryTick\"))","v":{"$error":"#N/A"}},null,{"$f":"IF(D58=0,NA(),RTD(\"cqg.rtd\",,\"StudyData\", \"Close(\"&$L$2&\") When Barix(\"&$L$2&\",reference:=StartOfSession)=\"&A58&\"\", \"Bar\", \"\", \"Close\",\"5\",\"0\",\"All\",,,\"False\",\"T\",\"EveryTick\"))","v":{"$error":"#N/A"}},null,{"$f":"IF(D58=0,NA(),RTD(\"cqg.rtd\",,\"StudyData\", \"Close(\"&$N$2&\") When Barix(\"&$N$2&\",reference:=StartOfSession)=\"&A58&\"\", \"Bar\", \"\", \"Close\",\"5\",\"0\",\"All\",,,\"False\",\"T\",\"EveryTick\"))","v":{"$error":"#N/A"}},null,{"$f":"IF(D58=0,NA(),RTD(\"cqg.rtd\",,\"StudyData\", \"Close(\"&$P$2&\") When Barix(\"&$P$2&\",reference:=StartOfSession)=\"&A58&\"\", \"Bar\", \"\", \"Close\",\"5\",\"0\",\"All\",,,\"False\",\"T\",\"EveryTick\"))","v":{"$error":"#N/A"}},null,{"$f":"IF(D58=0,NA(),RTD(\"cqg.rtd\",,\"StudyData\", \"Close(\"&$R$2&\") When Barix(\"&$R$2&\",reference:=StartOfSession)=\"&A58&\"\", \"Bar\", \"\", \"Close\",\"5\",\"0\",\"All\",,,\"False\",\"T\",\"EveryTick\"))","v":{"$error":"#N/A"}},null,{"$f":"IF(D58=0,NA(),RTD(\"cqg.rtd\",,\"StudyData\", \"Close(\"&$T$2&\") When Barix(\"&$T$2&\",reference:=StartOfSession)=\"&A58&\"\", \"Bar\", \"\", \"Close\",\"5\",\"0\",\"All\",,,\"False\",\"T\",\"EveryTick\"))","v":{"$error":"#N/A"}},null,{"$f":"IF(D58=0,NA(),RTD(\"cqg.rtd\",,\"StudyData\", \"Close(\"&$V$2&\") When Barix(\"&$V$2&\",reference:=StartOfSession)=\"&A58&\"\", \"Bar\", \"\", \"Close\",\"5\",\"0\",\"All\",,,\"False\",\"T\",\"EveryTick\"))","v":{"$error":"#N/A"}},null,{"$f":"IF(D58=0,NA(),RTD(\"cqg.rtd\",,\"StudyData\", \"Close(\"&$X$2&\") When Barix(\"&$X$2&\",reference:=StartOfSession)=\"&A58&\"\", \"Bar\", \"\", \"Close\",\"5\",\"0\",\"All\",,,\"False\",\"T\",\"EveryTick\"))","v":{"$error":"#N/A"}},null,{"$f":"IF(D58=0,NA(),RTD(\"cqg.rtd\",,\"StudyData\", \"Close(\"&$Z$2&\") When Barix(\"&$Z$2&\",reference:=StartOfSession)=\"&A58&\"\", \"Bar\", \"\", \"Close\",\"5\",\"0\",\"All\",,,\"False\",\"T\",\"EveryTick\"))","v":{"$error":"#N/A"}},null,{"$f":"IF(D58=0,NA(),RTD(\"cqg.rtd\",,\"StudyData\", \"Close(\"&$AB$2&\") When Barix(\"&$AB$2&\",reference:=StartOfSession)=\"&A58&\"\", \"Bar\", \"\", \"Close\",\"5\",\"0\",\"All\",,,\"False\",\"T\",\"EveryTick\"))","v":{"$error":"#N/A"}},null,{"$f":"IF(D58=0,NA(),RTD(\"cqg.rtd\",,\"StudyData\", \"Close(\"&$AD$2&\") When Barix(\"&$AD$2&\",reference:=StartOfSession)=\"&A58&\"\", \"Bar\", \"\", \"Close\",\"5\",\"0\",\"All\",,,\"False\",\"T\",\"EveryTick\"))","v":{"$error":"#N/A"}},null,{"$f":"IF(D58=0,NA(),RTD(\"cqg.rtd\",,\"StudyData\", \"Close(\"&$AF$2&\") When Barix(\"&$AF$2&\",reference:=StartOfSession)=\"&A58&\"\", \"Bar\", \"\", \"Close\",\"5\",\"0\",\"All\",,,\"False\",\"T\",\"EveryTick\"))","v":{"$error":"#N/A"}},null,{"$f":"IF(D58=0,NA(),RTD(\"cqg.rtd\",,\"StudyData\", \"Close(\"&$AH$2&\") When Barix(\"&$AH$2&\",reference:=StartOfSession)=\"&A58&\"\", \"Bar\", \"\", \"Close\",\"5\",\"0\",\"All\",,,\"False\",\"T\",\"EveryTick\"))","v":{"$error":"#N/A"}},null,{"$f":"IF(D58=0,NA(),RTD(\"cqg.rtd\",,\"StudyData\", \"Close(\"&$AJ$2&\") When Barix(\"&$AJ$2&\",reference:=StartOfSession)=\"&A58&\"\", \"Bar\", \"\", \"Close\",\"5\",\"0\",\"All\",,,\"False\",\"T\",\"EveryTick\"))","v":{"$error":"#N/A"}},null,{"$f":"IF(D58=0,NA(),RTD(\"cqg.rtd\",,\"StudyData\", \"Close(\"&$AL$2&\") When Barix(\"&$AL$2&\",reference:=StartOfSession)=\"&A58&\"\", \"Bar\", \"\", \"Close\",\"5\",\"0\",\"All\",,,\"False\",\"T\",\"EveryTick\"))","v":{"$error":"#N/A"}},null,{"$f":"IF(D58=0,NA(),RTD(\"cqg.rtd\",,\"StudyData\", \"Close(\"&$AN$2&\") When Barix(\"&$AN$2&\",reference:=StartOfSession)=\"&A58&\"\", \"Bar\", \"\", \"Close\",\"5\",\"0\",\"All\",,,\"False\",\"T\",\"EveryTick\"))","v":{"$error":"#N/A"}},null,{"$f":"IF(D58=0,NA(),RTD(\"cqg.rtd\",,\"StudyData\", \"Close(\"&$AN$2&\") When Barix(\"&$AN$2&\",reference:=StartOfSession)=\"&A58&\"\", \"Bar\", \"\", \"Close\",\"5\",\"0\",\"All\",,,\"False\",\"T\",\"EveryTick\"))","v":{"$error":"#N/A"}},null,{"$f":"IF(D58=0,NA(),RTD(\"cqg.rtd\",,\"StudyData\", \"Close(\"&$AR$2&\") When Barix(\"&$AR$2&\",reference:=StartOfSession)=\"&A58&\"\", \"Bar\", \"\", \"Close\",\"5\",\"0\",\"All\",,,\"False\",\"T\",\"EveryTick\"))","v":{"$error":"#N/A"}},null,{"$f":"IF(D58=0,NA(),RTD(\"cqg.rtd\",,\"StudyData\", \"Close(\"&$AT$2&\") When Barix(\"&$AT$2&\",reference:=StartOfSession)=\"&A58&\"\", \"Bar\", \"\", \"Close\",\"5\",\"0\",\"All\",,,\"False\",\"T\",\"EveryTick\"))","v":{"$error":"#N/A"}},null,{"$f":"IF(D58=0,NA(),RTD(\"cqg.rtd\",,\"StudyData\", \"Close(\"&$AV$2&\") When Barix(\"&$AV$2&\",reference:=StartOfSession)=\"&A58&\"\", \"Bar\", \"\", \"Close\",\"5\",\"0\",\"All\",,,\"False\",\"T\",\"EveryTick\"))","v":{"$error":"#N/A"}},null,{"$f":"IF(D58=0,NA(),RTD(\"cqg.rtd\",,\"StudyData\", \"Close(\"&$AX$2&\") When Barix(\"&$AX$2&\",reference:=StartOfSession)=\"&A58&\"\", \"Bar\", \"\", \"Close\",\"5\",\"0\",\"All\",,,\"False\",\"T\",\"EveryTick\"))","v":{"$error":"#N/A"}},null,{"$f":"IF(D58=0,NA(),RTD(\"cqg.rtd\",,\"StudyData\", \"Close(\"&$AZ$2&\") When Barix(\"&$AZ$2&\",reference:=StartOfSession)=\"&A58&\"\", \"Bar\", \"\", \"Close\",\"5\",\"0\",\"All\",,,\"False\",\"T\",\"EveryTick\"))","v":{"$error":"#N/A"}},null,{"$f":"IF(D58=0,NA(),RTD(\"cqg.rtd\",,\"StudyData\", \"Close(\"&$BB$2&\") When Barix(\"&$BB$2&\",reference:=StartOfSession)=\"&A58&\"\", \"Bar\", \"\", \"Close\",\"5\",\"0\",\"All\",,,\"False\",\"T\",\"EveryTick\"))","v":{"$error":"#N/A"}},null,{"$f":"IF(D58=0,NA(),RTD(\"cqg.rtd\",,\"StudyData\", \"Close(\"&$BD$2&\") When Barix(\"&$BD$2&\",reference:=StartOfSession)=\"&A58&\"\", \"Bar\", \"\", \"Close\",\"5\",\"0\",\"All\",,,\"False\",\"T\",\"EveryTick\"))","v":{"$error":"#N/A"}},null,{"$f":"IF(D58=0,NA(),RTD(\"cqg.rtd\",,\"StudyData\", \"Close(\"&$BF$2&\") When Barix(\"&$BF$2&\",reference:=StartOfSession)=\"&A58&\"\", \"Bar\", \"\", \"Close\",\"5\",\"0\",\"All\",,,\"False\",\"T\",\"EveryTick\"))","v":{"$error":"#N/A"}},null,{"$f":"IF(D58=0,NA(),RTD(\"cqg.rtd\",,\"StudyData\", \"Close(\"&$BH$2&\") When Barix(\"&$BH$2&\",reference:=StartOfSession)=\"&A58&\"\", \"Bar\", \"\", \"Close\",\"5\",\"0\",\"All\",,,\"False\",\"T\",\"EveryTick\"))","v":{"$error":"#N/A"}},null,{"$f":"IF(D58=0,NA(),RTD(\"cqg.rtd\",,\"StudyData\", \"Close(\"&$BJ$2&\") When Barix(\"&$BJ$2&\",reference:=StartOfSession)=\"&A58&\"\", \"Bar\", \"\", \"Close\",\"5\",\"0\",\"All\",,,\"False\",\"T\",\"EveryTick\"))","v":{"$error":"#N/A"}},null,{"$f":"IF(D58=0,NA(),RTD(\"cqg.rtd\",,\"StudyData\", \"Close(\"&$BL$2&\") When Barix(\"&$BL$2&\",reference:=StartOfSession)=\"&A58&\"\", \"Bar\", \"\", \"Close\",\"5\",\"0\",\"All\",,,\"False\",\"T\",\"EveryTick\"))","v":{"$error":"#N/A"}},null,{"$f":"IF(D58=0,NA(),RTD(\"cqg.rtd\",,\"StudyData\", \"Close(\"&$BN$2&\") When Barix(\"&$BN$2&\",reference:=StartOfSession)=\"&A58&\"\", \"Bar\", \"\", \"Close\",\"5\",\"0\",\"All\",,,\"False\",\"T\",\"EveryTick\"))","v":{"$error":"#N/A"}},null,{"$f":"IF(D58=0,NA(),RTD(\"cqg.rtd\",,\"StudyData\", \"Close(\"&$BP$2&\") When Barix(\"&$BP$2&\",reference:=StartOfSession)=\"&A58&\"\", \"Bar\", \"\", \"Close\",\"5\",\"0\",\"All\",,,\"False\",\"T\",\"EveryTick\"))","v":{"$error":"#N/A"}},null,{"$f":"IF(D58=0,NA(),RTD(\"cqg.rtd\",,\"StudyData\", \"Close(\"&$BR$2&\") When Barix(\"&$BR$2&\",reference:=StartOfSession)=\"&A58&\"\", \"Bar\", \"\", \"Close\",\"5\",\"0\",\"All\",,,\"False\",\"T\",\"EveryTick\"))","v":{"$error":"#N/A"}},null,{"$f":"IF(D58=0,NA(),RTD(\"cqg.rtd\",,\"StudyData\", \"Close(\"&$BT$2&\") When Barix(\"&$BT$2&\",reference:=StartOfSession)=\"&A58&\"\", \"Bar\", \"\", \"Close\",\"5\",\"0\",\"All\",,,\"False\",\"T\",\"EveryTick\"))","v":{"$error":"#N/A"}},null,{"$f":"IF(D58=0,NA(),RTD(\"cqg.rtd\",,\"StudyData\", \"Close(\"&$BV$2&\") When Barix(\"&$BV$2&\",reference:=StartOfSession)=\"&A58&\"\", \"Bar\", \"\", \"Close\",\"5\",\"0\",\"All\",,,\"False\",\"T\",\"EveryTick\"))","v":{"$error":"#N/A"}},null,{"$f":"IF(D58=0,NA(),RTD(\"cqg.rtd\",,\"StudyData\", \"Close(\"&$BX$2&\") When Barix(\"&$BX$2&\",reference:=StartOfSession)=\"&A58&\"\", \"Bar\", \"\", \"Close\",\"5\",\"0\",\"All\",,,\"False\",\"T\",\"EveryTick\"))","v":{"$error":"#N/A"}},null,{"$f":"IF(D58=0,NA(),RTD(\"cqg.rtd\",,\"StudyData\", \"Close(\"&$BZ$2&\") When Barix(\"&$BZ$2&\",reference:=StartOfSession)=\"&A58&\"\", \"Bar\", \"\", \"Close\",\"5\",\"0\",\"All\",,,\"False\",\"T\",\"EveryTick\"))","v":{"$error":"#N/A"}}]
[55,{"$f":"IF(D59=0,NA(),RTD(\"cqg.rtd\",,\"StudyData\", \"Close(\"&$B$2&\") When Barix(\"&$B$2&\",reference:=StartOfSession)=\"&A59&\"\", \"Bar\", \"\", \"Close\",\"5\",\"0\",\"All\",,,\"False\",\"T\",\"EveryTick\"))","v":{"$error":"#N/A"}},"13:05:00",0,null,{"$f":"IF(D59=0,NA(),RTD(\"cqg.rtd\",,\"StudyData\", \"Close(\"&$F$2&\") When Barix(\"&$F$2&\",reference:=StartOfSession)=\"&A59&\"\", \"Bar\", \"\", \"Close\",\"5\",\"0\",\"All\",,,\"False\",\"T\",\"EveryTick\"))","v":{"$error":"#N/A"}},null,{"$f":"IF(D59=0,NA(),RTD(\"cqg.rtd\",,\"StudyData\", \"Close(\"&$H$2&\") When Barix(\"&$H$2&\",reference:=StartOfSession)=\"&A59&\"\", \"Bar\", \"\", \"Close\",\"5\",\"0\",\"All\",,,\"False\",\"T\",\"EveryTick\"))","v":{"$error":"#N/A"}},null,{"$f":"IF(D59=0,NA(),RTD(\"cqg.rtd\",,\"StudyData\", \"Close(\"&$J$2&\") When Barix(\"&$J$2&\",reference:=StartOfSession)=\"&A59&\"\", \"Bar\", \"\", \"Close\",\"5\",\"0\",\"All\",,,\"False\",\"T\",\"EveryTick\"))","v":{"$error":"#N/A"}},null,{"$f":"IF(D59=0,NA(),RTD(\"cqg.rtd\",,\"StudyData\", \"Close(\"&$L$2&\") When Barix(\"&$L$2&\",reference:=StartOfSession)=\"&A59&\"\", \"Bar\", \"\", \"Close\",\"5\",\"0\",\"All\",,,\"False\",\"T\",\"EveryTick\"))","v":{"$error":"#N/A"}},null,{"$f":"IF(D59=0,NA(),RTD(\"cqg.rtd\",,\"StudyData\", \"Close(\"&$N$2&\") When Barix(\"&$N$2&\",reference:=StartOfSession)=\"&A59&\"\", \"Bar\", \"\", \"Close\",\"5\",\"0\",\"All\",,,\"False\",\"T\",\"EveryTick\"))","v":{"$error":"#N/A"}},null,{"$f":"IF(D59=0,NA(),RTD(\"cqg.rtd\",,\"StudyData\", \"Close(\"&$P$2&\") When Barix(\"&$P$2&\",reference:=StartOfSession)=\"&A59&\"\", \"Bar\", \"\", \"Close\",\"5\",\"0\",\"All\",,,\"False\",\"T\",\"EveryTick\"))","v":{"$error":"#N/A"}},null,{"$f":"IF(D59=0,NA(),RTD(\"cqg.rtd\",,\"StudyData\", \"Close(\"&$R$2&\") When Barix(\"&$R$2&\",reference:=StartOfSession)=\"&A59&\"\", \"Bar\", \"\", \"Close\",\"5\",\"0\",\"All\",,,\"False\",\"T\",\"EveryTick\"))","v":{"$error":"#N/A"}},null,{"$f":"IF(D59=0,NA(),RTD(\"cqg.rtd\",,\"StudyData\", \"Close(\"&$T$2&\") When Barix(\"&$T$2&\",reference:=StartOfSession)=\"&A59&\"\", \"Bar\", \"\", \"Close\",\"5\",\"0\",\"All\",,,\"False\",\"T\",\"EveryTick\"))","v":{"$error":"#N/A"}},null,{"$f":"IF(D59=0,NA(),RTD(\"cqg.rtd\",,\"StudyData\", \"Close(\"&$V$2&\") When Barix(\"&$V$2&\",reference:=StartOfSession)=\"&A59&\"\", \"Bar\", \"\", \"Close\",\"5\",\"0\",\"All\",,,\"False\",\"T\",\"EveryTick\"))","v":{"$error":"#N/A"}},null,{"$f":"IF(D59=0,NA(),RTD(\"cqg.rtd\",,\"StudyData\", \"Close(\"&$X$2&\") When Barix(\"&$X$2&\",reference:=StartOfSession)=\"&A59&\"\", \"Bar\", \"\", \"Close\",\"5\",\"0\",\"All\",,,\"False\",\"T\",\"EveryTick\"))","v":{"$error":"#N/A"}},null,{"$f":"IF(D59=0,NA(),RTD(\"cqg.rtd\",,\"StudyData\", \"Close(\"&$Z$2&\") When Barix(\"&$Z$2&\",reference:=StartOfSession)=\"&A59&\"\", \"Bar\", \"\", \"Close\",\"5\",\"0\",\"All\",,,\"False\",\"T\",\"EveryTick\"))","v":{"$error":"#N/A"}},null,{"$f":"IF(D59=0,NA(),RTD(\"cqg.rtd\",,\"StudyData\", \"Close(\"&$AB$2&\") When Barix(\"&$AB$2&\",reference:=StartOfSession)=\"&A59&\"\", \"Bar\", \"\", \"Close\",\"5\",\"0\",\"All\",,,\"False\",\"T\",\"EveryTick\"))","v":{"$error":"#N/A"}},null,{"$f":"IF(D59=0,NA(),RTD(\"cqg.rtd\",,\"StudyData\", \"Close(\"&$AD$2&\") When Barix(\"&$AD$2&\",reference:=StartOfSession)=\"&A59&\"\", \"Bar\", \"\", \"Close\",\"5\",\"0\",\"All\",,,\"False\",\"T\",\"EveryTick\"))","v":{"$error":"#N/A"}},null,{"$f":"IF(D59=0,NA(),RTD(\"cqg.rtd\",,\"StudyData\", \"Close(\"&$AF$2&\") When Barix(\"&$AF$2&\",reference:=StartOfSession)=\"&A59&\"\", \"Bar\", \"\", \"Close\",\"5\",\"0\",\"All\",,,\"False\",\"T\",\"EveryTick\"))","v":{"$error":"#N/A"}},null,{"$f":"IF(D59=0,NA(),RTD(\"cqg.rtd\",,\"StudyData\", \"Close(\"&$AH$2&\") When Barix(\"&$AH$2&\",reference:=StartOfSession)=\"&A59&\"\", \"Bar\", \"\", \"Close\",\"5\",\"0\",\"All\",,,\"False\",\"T\",\"EveryTick\"))","v":{"$error":"#N/A"}},null,{"$f":"IF(D59=0,NA(),RTD(\"cqg.rtd\",,\"StudyData\", \"Close(\"&$AJ$2&\") When Barix(\"&$AJ$2&\",reference:=StartOfSession)=\"&A59&\"\", \"Bar\", \"\", \"Close\",\"5\",\"0\",\"All\",,,\"False\",\"T\",\"EveryTick\"))","v":{"$error":"#N/A"}},null,{"$f":"IF(D59=0,NA(),RTD(\"cqg.rtd\",,\"StudyData\", \"Close(\"&$AL$2&\") When Barix(\"&$AL$2&\",reference:=StartOfSession)=\"&A59&\"\", \"Bar\", \"\", \"Close\",\"5\",\"0\",\"All\",,,\"False\",\"T\",\"EveryTick\"))","v":{"$error":"#N/A"}},null,{"$f":"IF(D59=0,NA(),RTD(\"cqg.rtd\",,\"StudyData\", \"Close(\"&$AN$2&\") When Barix(\"&$AN$2&\",reference:=StartOfSession)=\"&A59&\"\", \"Bar\", \"\", \"Close\",\"5\",\"0\",\"All\",,,\"False\",\"T\",\"EveryTick\"))","v":{"$error":"#N/A"}},null,{"$f":"IF(D59=0,NA(),RTD(\"cqg.rtd\",,\"StudyData\", \"Close(\"&$AN$2&\") When Barix(\"&$AN$2&\",reference:=StartOfSession)=\"&A59&\"\", \"Bar\", \"\", \"Close\",\"5\",\"0\",\"All\",,,\"False\",\"T\",\"EveryTick\"))","v":{"$error":"#N/A"}},null,{"$f":"IF(D59=0,NA(),RTD(\"cqg.rtd\",,\"StudyData\", \"Close(\"&$AR$2&\") When Barix(\"&$AR$2&\",reference:=StartOfSession)=\"&A59&\"\", \"Bar\", \"\", \"Close\",\"5\",\"0\",\"All\",,,\"False\",\"T\",\"EveryTick\"))","v":{"$error":"#N/A"}},null,{"$f":"IF(D59=0,NA(),RTD(\"cqg.rtd\",,\"StudyData\", \"Close(\"&$AT$2&\") When Barix(\"&$AT$2&\",reference:=StartOfSession)=\"&A59&\"\", \"Bar\", \"\", \"Close\",\"5\",\"0\",\"All\",,,\"False\",\"T\",\"EveryTick\"))","v":{"$error":"#N/A"}},null,{"$f":"IF(D59=0,NA(),RTD(\"cqg.rtd\",,\"StudyData\", \"Close(\"&$AV$2&\") When Barix(\"&$AV$2&\",reference:=StartOfSession)=\"&A59&\"\", \"Bar\", \"\", \"Close\",\"5\",\"0\",\"All\",,,\"False\",\"T\",\"EveryTick\"))","v":{"$error":"#N/A"}},null,{"$f":"IF(D59=0,NA(),RTD(\"cqg.rtd\",,\"StudyData\", \"Close(\"&$AX$2&\") When Barix(\"&$AX$2&\",reference:=StartOfSession)=\"&A59&\"\", \"Bar\", \"\", \"Close\",\"5\",\"0\",\"All\",,,\"False\",\"T\",\"EveryTick\"))","v":{"$error":"#N/A"}},null,{"$f":"IF(D59=0,NA(),RTD(\"cqg.rtd\",,\"StudyData\", \"Close(\"&$AZ$2&\") When Barix(\"&$AZ$2&\",reference:=StartOfSession)=\"&A59&\"\", \"Bar\", \"\", \"Close\",\"5\",\"0\",\"All\",,,\"False\",\"T\",\"EveryTick\"))","v":{"$error":"#N/A"}},null,{"$f":"IF(D59=0,NA(),RTD(\"cqg.rtd\",,\"StudyData\", \"Close(\"&$BB$2&\") When Barix(\"&$BB$2&\",reference:=StartOfSession)=\"&A59&\"\", \"Bar\", \"\", \"Close\",\"5\",\"0\",\"All\",,,\"False\",\"T\",\"EveryTick\"))","v":{"$error":"#N/A"}},null,{"$f":"IF(D59=0,NA(),RTD(\"cqg.rtd\",,\"StudyData\", \"Close(\"&$BD$2&\") When Barix(\"&$BD$2&\",reference:=StartOfSession)=\"&A59&\"\", \"Bar\", \"\", \"Close\",\"5\",\"0\",\"All\",,,\"False\",\"T\",\"EveryTick\"))","v":{"$error":"#N/A"}},null,{"$f":"IF(D59=0,NA(),RTD(\"cqg.rtd\",,\"StudyData\", \"Close(\"&$BF$2&\") When Barix(\"&$BF$2&\",reference:=StartOfSession)=\"&A59&\"\", \"Bar\", \"\", \"Close\",\"5\",\"0\",\"All\",,,\"False\",\"T\",\"EveryTick\"))","v":{"$error":"#N/A"}},null,{"$f":"IF(D59=0,NA(),RTD(\"cqg.rtd\",,\"StudyData\", \"Close(\"&$BH$2&\") When Barix(\"&$BH$2&\",reference:=StartOfSession)=\"&A59&\"\", \"Bar\", \"\", \"Close\",\"5\",\"0\",\"All\",,,\"False\",\"T\",\"EveryTick\"))","v":{"$error":"#N/A"}},null,{"$f":"IF(D59=0,NA(),RTD(\"cqg.rtd\",,\"StudyData\", \"Close(\"&$BJ$2&\") When Barix(\"&$BJ$2&\",reference:=StartOfSession)=\"&A59&\"\", \"Bar\", \"\", \"Close\",\"5\",\"0\",\"All\",,,\"False\",\"T\",\"EveryTick\"))","v":{"$error":"#N/A"}},null,{"$f":"IF(D59=0,NA(),RTD(\"cqg.rtd\",,\"StudyData\", \"Close(\"&$BL$2&\") When Barix(\"&$BL$2&\",reference:=StartOfSession)=\"&A59&\"\", \"Bar\", \"\", \"Close\",\"5\",\"0\",\"All\",,,\"False\",\"T\",\"EveryTick\"))","v":{"$error":"#N/A"}},null,{"$f":"IF(D59=0,NA(),RTD(\"cqg.rtd\",,\"StudyData\", \"Close(\"&$BN$2&\") When Barix(\"&$BN$2&\",reference:=StartOfSession)=\"&A59&\"\", \"Bar\", \"\", \"Close\",\"5\",\"0\",\"All\",,,\"False\",\"T\",\"EveryTick\"))","v":{"$error":"#N/A"}},null,{"$f":"IF(D59=0,NA(),RTD(\"cqg.rtd\",,\"StudyData\", \"Close(\"&$BP$2&\") When Barix(\"&$BP$2&\",reference:=StartOfSession)=\"&A59&\"\", \"Bar\", \"\", \"Close\",\"5\",\"0\",\"All\",,,\"False\",\"T\",\"EveryTick\"))","v":{"$error":"#N/A"}},null,{"$f":"IF(D59=0,NA(),RTD(\"cqg.rtd\",,\"StudyData\", \"Close(\"&$BR$2&\") When Barix(\"&$BR$2&\",reference:=StartOfSession)=\"&A59&\"\", \"Bar\", \"\", \"Close\",\"5\",\"0\",\"All\",,,\"False\",\"T\",\"EveryTick\"))","v":{"$error":"#N/A"}},null,{"$f":"IF(D59=0,NA(),RTD(\"cqg.rtd\",,\"StudyData\", \"Close(\"&$BT$2&\") When Barix(\"&$BT$2&\",reference:=StartOfSession)=\"&A59&\"\", \"Bar\", \"\", \"Close\",\"5\",\"0\",\"All\",,,\"False\",\"T\",\"EveryTick\"))","v":{"$error":"#N/A"}},null,{"$f":"IF(D59=0,NA(),RTD(\"cqg.rtd\",,\"StudyData\", \"Close(\"&$BV$2&\") When Barix(\"&$BV$2&\",reference:=StartOfSession)=\"&A59&\"\", \"Bar\", \"\", \"Close\",\"5\",\"0\",\"All\",,,\"False\",\"T\",\"EveryTick\"))","v":{"$error":"#N/A"}},null,{"$f":"IF(D59=0,NA(),RTD(\"cqg.rtd\",,\"StudyData\", \"Close(\"&$BX$2&\") When Barix(\"&$BX$2&\",reference:=StartOfSession)=\"&A59&\"\", \"Bar\", \"\", \"Close\",\"5\",\"0\",\"All\",,,\"False\",\"T\",\"EveryTick\"))","v":{"$error":"#N/A"}},null,{"$f":"IF(D59=0,NA(),RTD(\"cqg.rtd\",,\"StudyData\", \"Close(\"&$BZ$2&\") When Barix(\"&$BZ$2&\",reference:=StartOfSession)=\"&A59&\"\", \"Bar\", \"\", \"Close\",\"5\",\"0\",\"All\",,,\"False\",\"T\",\"EveryTick\"))","v":{"$error":"#N/A"}}]
[56,{"$f":"IF(D60=0,NA(),RTD(\"cqg.rtd\",,\"StudyData\", \"Close(\"&$B$2&\") When Barix(\"&$B$2&\",reference:=StartOfSession)=\"&A60&\"\", \"Bar\", \"\", \"Close\",\"5\",\"0\",\"All\",,,\"False\",\"T\",\"EveryTick\"))","v":{"$error":"#N/A"}},"13:10:00",0,null,{"$f":"IF(D60=0,NA(),RTD(\"cqg.rtd\",,\"StudyData\", \"Close(\"&$F$2&\") When Barix(\"&$F$2&\",reference:=StartOfSession)=\"&A60&\"\", \"Bar\", \"\", \"Close\",\"5\",\"0\",\"All\",,,\"False\",\"T\",\"EveryTick\"))","v":{"$error":"#N/A"}},null,{"$f":"IF(D60=0,NA(),RTD(\"cqg.rtd\",,\"StudyData\", \"Close(\"&$H$2&\") When Barix(\"&$H$2&\",reference:=StartOfSession)=\"&A60&\"\", \"Bar\", \"\", \"Close\",\"5\",\"0\",\"All\",,,\"False\",\"T\",\"EveryTick\"))","v":{"$error":"#N/A"}},null,{"$f":"IF(D60=0,NA(),RTD(\"cqg.rtd\",,\"StudyData\", \"Close(\"&$J$2&\") When Barix(\"&$J$2&\",reference:=StartOfSession)=\"&A60&\"\", \"Bar\", \"\", \"Close\",\"5\",\"0\",\"All\",,,\"False\",\"T\",\"EveryTick\"))","v":{"$error":"#N/A"}},null,{"$f":"IF(D60=0,NA(),RTD(\"cqg.rtd\",,\"StudyData\", \"Close(\"&$L$2&\") When Barix(\"&$L$2&\",reference:=StartOfSession)=\"&A60&\"\", \"Bar\", \"\", \"Close\",\"5\",\"0\",\"All\",,,\"False\",\"T\",\"EveryTick\"))","v":{"$error":"#N/A"}},null,{"$f":"IF(D60=0,NA(),RTD(\"cqg.rtd\",,\"StudyData\", \"Close(\"&$N$2&\") When Barix(\"&$N$2&\",reference:=StartOfSession)=\"&A60&\"\", \"Bar\", \"\", \"Close\",\"5\",\"0\",\"All\",,,\"False\",\"T\",\"EveryTick\"))","v":{"$error":"#N/A"}},null,{"$f":"IF(D60=0,NA(),RTD(\"cqg.rtd\",,\"StudyData\", \"Close(\"&$P$2&\") When Barix(\"&$P$2&\",reference:=StartOfSession)=\"&A60&\"\", \"Bar\", \"\", \"Close\",\"5\",\"0\",\"All\",,,\"False\",\"T\",\"EveryTick\"))","v":{"$error":"#N/A"}},null,{"$f":"IF(D60=0,NA(),RTD(\"cqg.rtd\",,\"StudyData\", \"Close(\"&$R$2&\") When Barix(\"&$R$2&\",reference:=StartOfSession)=\"&A60&\"\", \"Bar\", \"\", \"Close\",\"5\",\"0\",\"All\",,,\"False\",\"T\",\"EveryTick\"))","v":{"$error":"#N/A"}},null,{"$f":"IF(D60=0,NA(),RTD(\"cqg.rtd\",,\"StudyData\", \"Close(\"&$T$2&\") When Barix(\"&$T$2&\",reference:=StartOfSession)=\"&A60&\"\", \"Bar\", \"\", \"Close\",\"5\",\"0\",\"All\",,,\"False\",\"T\",\"EveryTick\"))","v":{"$error":"#N/A"}},null,{"$f":"IF(D60=0,NA(),RTD(\"cqg.rtd\",,\"StudyData\", \"Close(\"&$V$2&\") When Barix(\"&$V$2&\",reference:=StartOfSession)=\"&A60&\"\", \"Bar\", \"\", \"Close\",\"5\",\"0\",\"All\",,,\"False\",\"T\",\"EveryTick\"))","v":{"$error":"#N/A"}},null,{"$f":"IF(D60=0,NA(),RTD(\"cqg.rtd\",,\"StudyData\", \"Close(\"&$X$2&\") When Barix(\"&$X$2&\",reference:=StartOfSession)=\"&A60&\"\", \"Bar\", \"\", \"Close\",\"5\",\"0\",\"All\",,,\"False\",\"T\",\"EveryTick\"))","v":{"$error":"#N/A"}},null,{"$f":"IF(D60=0,NA(),RTD(\"cqg.rtd\",,\"StudyData\", \"Close(\"&$Z$2&\") When Barix(\"&$Z$2&\",reference:=StartOfSession)=\"&A60&\"\", \"Bar\", \"\", \"Close\",\"5\",\"0\",\"All\",,,\"False\",\"T\",\"EveryTick\"))","v":{"$error":"#N/A"}},null,{"$f":"IF(D60=0,NA(),RTD(\"cqg.rtd\",,\"StudyData\", \"Close(\"&$AB$2&\") When Barix(\"&$AB$2&\",reference:=StartOfSession)=\"&A60&\"\", \"Bar\", \"\", \"Close\",\"5\",\"0\",\"All\",,,\"False\",\"T\",\"EveryTick\"))","v":{"$error":"#N/A"}},null,{"$f":"IF(D60=0,NA(),RTD(\"cqg.rtd\",,\"StudyData\", \"Close(\"&$AD$2&\") When Barix(\"&$AD$2&\",reference:=StartOfSession)=\"&A60&\"\", \"Bar\", \"\", \"Close\",\"5\",\"0\",\"All\",,,\"False\",\"T\",\"EveryTick\"))","v":{"$error":"#N/A"}},null,{"$f":"IF(D60=0,NA(),RTD(\"cqg.rtd\",,\"StudyData\", \"Close(\"&$AF$2&\") When Barix(\"&$AF$2&\",reference:=StartOfSession)=\"&A60&\"\", \"Bar\", \"\", \"Close\",\"5\",\"0\",\"All\",,,\"False\",\"T\",\"EveryTick\"))","v":{"$error":"#N/A"}},null,{"$f":"IF(D60=0,NA(),RTD(\"cqg.rtd\",,\"StudyData\", \"Close(\"&$AH$2&\") When Barix(\"&$AH$2&\",reference:=StartOfSession)=\"&A60&\"\", \"Bar\", \"\", \"Close\",\"5\",\"0\",\"All\",,,\"False\",\"T\",\"EveryTick\"))","v":{"$error":"#N/A"}},null,{"$f":"IF(D60=0,NA(),RTD(\"cqg.rtd\",,\"StudyData\", \"Close(\"&$AJ$2&\") When Barix(\"&$AJ$2&\",reference:=StartOfSession)=\"&A60&\"\", \"Bar\", \"\", \"Close\",\"5\",\"0\",\"All\",,,\"False\",\"T\",\"EveryTick\"))","v":{"$error":"#N/A"}},null,{"$f":"IF(D60=0,NA(),RTD(\"cqg.rtd\",,\"StudyData\", \"Close(\"&$AL$2&\") When Barix(\"&$AL$2&\",reference:=StartOfSession)=\"&A60&\"\", \"Bar\", \"\", \"Close\",\"5\",\"0\",\"All\",,,\"False\",\"T\",\"EveryTick\"))","v":{"$error":"#N/A"}},null,{"$f":"IF(D60=0,NA(),RTD(\"cqg.rtd\",,\"StudyData\", \"Close(\"&$AN$2&\") When Barix(\"&$AN$2&\",reference:=StartOfSession)=\"&A60&\"\", \"Bar\", \"\", \"Close\",\"5\",\"0\",\"All\",,,\"False\",\"T\",\"EveryTick\"))","v":{"$error":"#N/A"}},null,{"$f":"IF(D60=0,NA(),RTD(\"cqg.rtd\",,\"StudyData\", \"Close(\"&$AN$2&\") When Barix(\"&$AN$2&\",reference:=StartOfSession)=\"&A60&\"\", \"Bar\", \"\", \"Close\",\"5\",\"0\",\"All\",,,\"False\",\"T\",\"EveryTick\"))","v":{"$error":"#N/A"}},null,{"$f":"IF(D60=0,NA(),RTD(\"cqg.rtd\",,\"StudyData\", \"Close(\"&$AR$2&\") When Barix(\"&$AR$2&\",reference:=StartOfSession)=\"&A60&\"\", \"Bar\", \"\", \"Close\",\"5\",\"0\",\"All\",,,\"False\",\"T\",\"EveryTick\"))","v":{"$error":"#N/A"}},null,{"$f":"IF(D60=0,NA(),RTD(\"cqg.rtd\",,\"StudyData\", \"Close(\"&$AT$2&\") When Barix(\"&$AT$2&\",reference:=StartOfSession)=\"&A60&\"\", \"Bar\", \"\", \"Close\",\"5\",\"0\",\"All\",,,\"False\",\"T\",\"EveryTick\"))","v":{"$error":"#N/A"}},null,{"$f":"IF(D60=0,NA(),RTD(\"cqg.rtd\",,\"StudyData\", \"Close(\"&$AV$2&\") When Barix(\"&$AV$2&\",reference:=StartOfSession)=\"&A60&\"\", \"Bar\", \"\", \"Close\",\"5\",\"0\",\"All\",,,\"False\",\"T\",\"EveryTick\"))","v":{"$error":"#N/A"}},null,{"$f":"IF(D60=0,NA(),RTD(\"cqg.rtd\",,\"StudyData\", \"Close(\"&$AX$2&\") When Barix(\"&$AX$2&\",reference:=StartOfSession)=\"&A60&\"\", \"Bar\", \"\", \"Close\",\"5\",\"0\",\"All\",,,\"False\",\"T\",\"EveryTick\"))","v":{"$error":"#N/A"}},null,{"$f":"IF(D60=0,NA(),RTD(\"cqg.rtd\",,\"StudyData\", \"Close(\"&$AZ$2&\") When Barix(\"&$AZ$2&\",reference:=StartOfSession)=\"&A60&\"\", \"Bar\", \"\", \"Close\",\"5\",\"0\",\"All\",,,\"False\",\"T\",\"EveryTick\"))","v":{"$error":"#N/A"}},null,{"$f":"IF(D60=0,NA(),RTD(\"cqg.rtd\",,\"StudyData\", \"Close(\"&$BB$2&\") When Barix(\"&$BB$2&\",reference:=StartOfSession)=\"&A60&\"\", \"Bar\", \"\", \"Close\",\"5\",\"0\",\"All\",,,\"False\",\"T\",\"EveryTick\"))","v":{"$error":"#N/A"}},null,{"$f":"IF(D60=0,NA(),RTD(\"cqg.rtd\",,\"StudyData\", \"Close(\"&$BD$2&\") When Barix(\"&$BD$2&\",reference:=StartOfSession)=\"&A60&\"\", \"Bar\", \"\", \"Close\",\"5\",\"0\",\"All\",,,\"False\",\"T\",\"EveryTick\"))","v":{"$error":"#N/A"}},null,{"$f":"IF(D60=0,NA(),RTD(\"cqg.rtd\",,\"StudyData\", \"Close(\"&$BF$2&\") When Barix(\"&$BF$2&\",reference:=StartOfSession)=\"&A60&\"\", \"Bar\", \"\", \"Close\",\"5\",\"0\",\"All\",,,\"False\",\"T\",\"EveryTick\"))","v":{"$error":"#N/A"}},null,{"$f":"IF(D60=0,NA(),RTD(\"cqg.rtd\",,\"StudyData\", \"Close(\"&$BH$2&\") When Barix(\"&$BH$2&\",reference:=StartOfSession)=\"&A60&\"\", \"Bar\", \"\", \"Close\",\"5\",\"0\",\"All\",,,\"False\",\"T\",\"EveryTick\"))","v":{"$error":"#N/A"}},null,{"$f":"IF(D60=0,NA(),RTD(\"cqg.rtd\",,\"StudyData\", \"Close(\"&$BJ$2&\") When Barix(\"&$BJ$2&\",reference:=StartOfSession)=\"&A60&\"\", \"Bar\", \"\", \"Close\",\"5\",\"0\",\"All\",,,\"False\",\"T\",\"EveryTick\"))","v":{"$error":"#N/A"}},null,{"$f":"IF(D60=0,NA(),RTD(\"cqg.rtd\",,\"StudyData\", \"Close(\"&$BL$2&\") When Barix(\"&$BL$2&\",reference:=StartOfSession)=\"&A60&\"\", \"Bar\", \"\", \"Close\",\"5\",\"0\",\"All\",,,\"False\",\"T\",\"EveryTick\"))","v":{"$error":"#N/A"}},null,{"$f":"IF(D60=0,NA(),RTD(\"cqg.rtd\",,\"StudyData\", \"Close(\"&$BN$2&\") When Barix(\"&$BN$2&\",reference:=StartOfSession)=\"&A60&\"\", \"Bar\", \"\", \"Close\",\"5\",\"0\",\"All\",,,\"False\",\"T\",\"EveryTick\"))","v":{"$error":"#N/A"}},null,{"$f":"IF(D60=0,NA(),RTD(\"cqg.rtd\",,\"StudyData\", \"Close(\"&$BP$2&\") When Barix(\"&$BP$2&\",reference:=StartOfSession)=\"&A60&\"\", \"Bar\", \"\", \"Close\",\"5\",\"0\",\"All\",,,\"False\",\"T\",\"EveryTick\"))","v":{"$error":"#N/A"}},null,{"$f":"IF(D60=0,NA(),RTD(\"cqg.rtd\",,\"StudyData\", \"Close(\"&$BR$2&\") When Barix(\"&$BR$2&\",reference:=StartOfSession)=\"&A60&\"\", \"Bar\", \"\", \"Close\",\"5\",\"0\",\"All\",,,\"False\",\"T\",\"EveryTick\"))","v":{"$error":"#N/A"}},null,{"$f":"IF(D60=0,NA(),RTD(\"cqg.rtd\",,\"StudyData\", \"Close(\"&$BT$2&\") When Barix(\"&$BT$2&\",reference:=StartOfSession)=\"&A60&\"\", \"Bar\", \"\", \"Close\",\"5\",\"0\",\"All\",,,\"False\",\"T\",\"EveryTick\"))","v":{"$error":"#N/A"}},null,{"$f":"IF(D60=0,NA(),RTD(\"cqg.rtd\",,\"StudyData\", \"Close(\"&$BV$2&\") When Barix(\"&$BV$2&\",reference:=StartOfSession)=\"&A60&\"\", \"Bar\", \"\", \"Close\",\"5\",\"0\",\"All\",,,\"False\",\"T\",\"EveryTick\"))","v":{"$error":"#N/A"}},null,{"$f":"IF(D60=0,NA(),RTD(\"cqg.rtd\",,\"StudyData\", \"Close(\"&$BX$2&\") When Barix(\"&$BX$2&\",reference:=StartOfSession)=\"&A60&\"\", \"Bar\", \"\", \"Close\",\"5\",\"0\",\"All\",,,\"False\",\"T\",\"EveryTick\"))","v":{"$error":"#N/A"}},null,{"$f":"IF(D60=0,NA(),RTD(\"cqg.rtd\",,\"StudyData\", \"Close(\"&$BZ$2&\") When Barix(\"&$BZ$2&\",reference:=StartOfSession)=\"&A60&\"\", \"Bar\", \"\", \"Close\",\"5\",\"0\",\"All\",,,\"False\",\"T\",\"EveryTick\"))","v":{"$error":"#N/A"}}]
[57,{"$f":"IF(D61=0,NA(),RTD(\"cqg.rtd\",,\"StudyData\", \"Close(\"&$B$2&\") When Barix(\"&$B$2&\",reference:=StartOfSession)=\"&A61&\"\", \"Bar\", \"\", \"Close\",\"5\",\"0\",\"All\",,,\"False\",\"T\",\"EveryTick\"))","v":{"$error":"#N/A"}},"13:15:00",0,null,{"$f":"IF(D61=0,NA(),RTD(\"cqg.rtd\",,\"StudyData\", \"Close(\"&$F$2&\") When Barix(\"&$F$2&\",reference:=StartOfSession)=\"&A61&\"\", \"Bar\", \"\", \"Close\",\"5\",\"0\",\"All\",,,\"False\",\"T\",\"EveryTick\"))","v":{"$error":"#N/A"}},null,{"$f":"IF(D61=0,NA(),RTD(\"cqg.rtd\",,\"StudyData\", \"Close(\"&$H$2&\") When Barix(\"&$H$2&\",reference:=StartOfSession)=\"&A61&\"\", \"Bar\", \"\", \"Close\",\"5\",\"0\",\"All\",,,\"False\",\"T\",\"EveryTick\"))","v":{"$error":"#N/A"}},null,{"$f":"IF(D61=0,NA(),RTD(\"cqg.rtd\",,\"StudyData\", \"Close(\"&$J$2&\") When Barix(\"&$J$2&\",reference:=StartOfSession)=\"&A61&\"\", \"Bar\", \"\", \"Close\",\"5\",\"0\",\"All\",,,\"False\",\"T\",\"EveryTick\"))","v":{"$error":"#N/A"}},null,{"$f":"IF(D61=0,NA(),RTD(\"cqg.rtd\",,\"StudyData\", \"Close(\"&$L$2&\") When Barix(\"&$L$2&\",reference:=StartOfSession)=\"&A61&\"\", \"Bar\", \"\", \"Close\",\"5\",\"0\",\"All\",,,\"False\",\"T\",\"EveryTick\"))","v":{"$error":"#N/A"}},null,{"$f":"IF(D61=0,NA(),RTD(\"cqg.rtd\",,\"StudyData\", \"Close(\"&$N$2&\") When Barix(\"&$N$2&\",reference:=StartOfSession)=\"&A61&\"\", \"Bar\", \"\", \"Close\",\"5\",\"0\",\"All\",,,\"False\",\"T\",\"EveryTick\"))","v":{"$error":"#N/A"}},null,{"$f":"IF(D61=0,NA(),RTD(\"cqg.rtd\",,\"StudyData\", \"Close(\"&$P$2&\") When Barix(\"&$P$2&\",reference:=StartOfSession)=\"&A61&\"\", \"Bar\", \"\", \"Close\",\"5\",\"0\",\"All\",,,\"False\",\"T\",\"EveryTick\"))","v":{"$error":"#N/A"}},null,{"$f":"IF(D61=0,NA(),RTD(\"cqg.rtd\",,\"StudyData\", \"Close(\"&$R$2&\") When Barix(\"&$R$2&\",reference:=StartOfSession)=\"&A61&\"\", \"Bar\", \"\", \"Close\",\"5\",\"0\",\"All\",,,\"False\",\"T\",\"EveryTick\"))","v":{"$error":"#N/A"}},null,{"$f":"IF(D61=0,NA(),RTD(\"cqg.rtd\",,\"StudyData\", \"Close(\"&$T$2&\") When Barix(\"&$T$2&\",reference:=StartOfSession)=\"&A61&\"\", \"Bar\", \"\", \"Close\",\"5\",\"0\",\"All\",,,\"False\",\"T\",\"EveryTick\"))","v":{"$error":"#N/A"}},null,{"$f":"IF(D61=0,NA(),RTD(\"cqg.rtd\",,\"StudyData\", \"Close(\"&$V$2&\") When Barix(\"&$V$2&\",reference:=StartOfSession)=\"&A61&\"\", \"Bar\", \"\", \"Close\",\"5\",\"0\",\"All\",,,\"False\",\"T\",\"EveryTick\"))","v":{"$error":"#N/A"}},null,{"$f":"IF(D61=0,NA(),RTD(\"cqg.rtd\",,\"StudyData\", \"Close(\"&$X$2&\") When Barix(\"&$X$2&\",reference:=StartOfSession)=\"&A61&\"\", \"Bar\", \"\", \"Close\",\"5\",\"0\",\"All\",,,\"False\",\"T\",\"EveryTick\"))","v":{"$error":"#N/A"}},null,{"$f":"IF(D61=0,NA(),RTD(\"cqg.rtd\",,\"StudyData\", \"Close(\"&$Z$2&\") When Barix(\"&$Z$2&\",reference:=StartOfSession)=\"&A61&\"\", \"Bar\", \"\", \"Close\",\"5\",\"0\",\"All\",,,\"False\",\"T\",\"EveryTick\"))","v":{"$error":"#N/A"}},null,{"$f":"IF(D61=0,NA(),RTD(\"cqg.rtd\",,\"StudyData\", \"Close(\"&$AB$2&\") When Barix(\"&$AB$2&\",reference:=StartOfSession)=\"&A61&\"\", \"Bar\", \"\", \"Close\",\"5\",\"0\",\"All\",,,\"False\",\"T\",\"EveryTick\"))","v":{"$error":"#N/A"}},null,{"$f":"IF(D61=0,NA(),RTD(\"cqg.rtd\",,\"StudyData\", \"Close(\"&$AD$2&\") When Barix(\"&$AD$2&\",reference:=StartOfSession)=\"&A61&\"\", \"Bar\", \"\", \"Close\",\"5\",\"0\",\"All\",,,\"False\",\"T\",\"EveryTick\"))","v":{"$error":"#N/A"}},null,{"$f":"IF(D61=0,NA(),RTD(\"cqg.rtd\",,\"StudyData\", \"Close(\"&$AF$2&\") When Barix(\"&$AF$2&\",reference:=StartOfSession)=\"&A61&\"\", \"Bar\", \"\", \"Close\",\"5\",\"0\",\"All\",,,\"False\",\"T\",\"EveryTick\"))","v":{"$error":"#N/A"}},null,{"$f":"IF(D61=0,NA(),RTD(\"cqg.rtd\",,\"StudyData\", \"Close(\"&$AH$2&\") When Barix(\"&$AH$2&\",reference:=StartOfSession)=\"&A61&\"\", \"Bar\", \"\", \"Close\",\"5\",\"0\",\"All\",,,\"False\",\"T\",\"EveryTick\"))","v":{"$error":"#N/A"}},null,{"$f":"IF(D61=0,NA(),RTD(\"cqg.rtd\",,\"StudyData\", \"Close(\"&$AJ$2&\") When Barix(\"&$AJ$2&\",reference:=StartOfSession)=\"&A61&\"\", \"Bar\", \"\", \"Close\",\"5\",\"0\",\"All\",,,\"False\",\"T\",\"EveryTick\"))","v":{"$error":"#N/A"}},null,{"$f":"IF(D61=0,NA(),RTD(\"cqg.rtd\",,\"StudyData\", \"Close(\"&$AL$2&\") When Barix(\"&$AL$2&\",reference:=StartOfSession)=\"&A61&\"\", \"Bar\", \"\", \"Close\",\"5\",\"0\",\"All\",,,\"False\",\"T\",\"EveryTick\"))","v":{"$error":"#N/A"}},null,{"$f":"IF(D61=0,NA(),RTD(\"cqg.rtd\",,\"StudyData\", \"Close(\"&$AN$2&\") When Barix(\"&$AN$2&\",reference:=StartOfSession)=\"&A61&\"\", \"Bar\", \"\", \"Close\",\"5\",\"0\",\"All\",,,\"False\",\"T\",\"EveryTick\"))","v":{"$error":"#N/A"}},null,{"$f":"IF(D61=0,NA(),RTD(\"cqg.rtd\",,\"StudyData\", \"Close(\"&$AN$2&\") When Barix(\"&$AN$2&\",reference:=StartOfSession)=\"&A61&\"\", \"Bar\", \"\", \"Close\",\"5\",\"0\",\"All\",,,\"False\",\"T\",\"EveryTick\"))","v":{"$error":"#N/A"}},null,{"$f":"IF(D61=0,NA(),RTD(\"cqg.rtd\",,\"StudyData\", \"Close(\"&$AR$2&\") When Barix(\"&$AR$2&\",reference:=StartOfSession)=\"&A61&\"\", \"Bar\", \"\", \"Close\",\"5\",\"0\",\"All\",,,\"False\",\"T\",\"EveryTick\"))","v":{"$error":"#N/A"}},null,{"$f":"IF(D61=0,NA(),RTD(\"cqg.rtd\",,\"StudyData\", \"Close(\"&$AT$2&\") When Barix(\"&$AT$2&\",reference:=StartOfSession)=\"&A61&\"\", \"Bar\", \"\", \"Close\",\"5\",\"0\",\"All\",,,\"False\",\"T\",\"EveryTick\"))","v":{"$error":"#N/A"}},null,{"$f":"IF(D61=0,NA(),RTD(\"cqg.rtd\",,\"StudyData\", \"Close(\"&$AV$2&\") When Barix(\"&$AV$2&\",reference:=StartOfSession)=\"&A61&\"\", \"Bar\", \"\", \"Close\",\"5\",\"0\",\"All\",,,\"False\",\"T\",\"EveryTick\"))","v":{"$error":"#N/A"}},null,{"$f":"IF(D61=0,NA(),RTD(\"cqg.rtd\",,\"StudyData\", \"Close(\"&$AX$2&\") When Barix(\"&$AX$2&\",reference:=StartOfSession)=\"&A61&\"\", \"Bar\", \"\", \"Close\",\"5\",\"0\",\"All\",,,\"False\",\"T\",\"EveryTick\"))","v":{"$error":"#N/A"}},null,{"$f":"IF(D61=0,NA(),RTD(\"cqg.rtd\",,\"StudyData\", \"Close(\"&$AZ$2&\") When Barix(\"&$AZ$2&\",reference:=StartOfSession)=\"&A61&\"\", \"Bar\", \"\", \"Close\",\"5\",\"0\",\"All\",,,\"False\",\"T\",\"EveryTick\"))","v":{"$error":"#N/A"}},null,{"$f":"IF(D61=0,NA(),RTD(\"cqg.rtd\",,\"StudyData\", \"Close(\"&$BB$2&\") When Barix(\"&$BB$2&\",reference:=StartOfSession)=\"&A61&\"\", \"Bar\", \"\", \"Close\",\"5\",\"0\",\"All\",,,\"False\",\"T\",\"EveryTick\"))","v":{"$error":"#N/A"}},null,{"$f":"IF(D61=0,NA(),RTD(\"cqg.rtd\",,\"StudyData\", \"Close(\"&$BD$2&\") When Barix(\"&$BD$2&\",reference:=StartOfSession)=\"&A61&\"\", \"Bar\", \"\", \"Close\",\"5\",\"0\",\"All\",,,\"False\",\"T\",\"EveryTick\"))","v":{"$error":"#N/A"}},null,{"$f":"IF(D61=0,NA(),RTD(\"cqg.rtd\",,\"StudyData\", \"Close(\"&$BF$2&\") When Barix(\"&$BF$2&\",reference:=StartOfSession)=\"&A61&\"\", \"Bar\", \"\", \"Close\",\"5\",\"0\",\"All\",,,\"False\",\"T\",\"EveryTick\"))","v":{"$error":"#N/A"}},null,{"$f":"IF(D61=0,NA(),RTD(\"cqg.rtd\",,\"StudyData\", \"Close(\"&$BH$2&\") When Barix(\"&$BH$2&\",reference:=StartOfSession)=\"&A61&\"\", \"Bar\", \"\", \"Close\",\"5\",\"0\",\"All\",,,\"False\",\"T\",\"EveryTick\"))","v":{"$error":"#N/A"}},null,{"$f":"IF(D61=0,NA(),RTD(\"cqg.rtd\",,\"StudyData\", \"Close(\"&$BJ$2&\") When Barix(\"&$BJ$2&\",reference:=StartOfSession)=\"&A61&\"\", \"Bar\", \"\", \"Close\",\"5\",\"0\",\"All\",,,\"False\",\"T\",\"EveryTick\"))","v":{"$error":"#N/A"}},null,{"$f":"IF(D61=0,NA(),RTD(\"cqg.rtd\",,\"StudyData\", \"Close(\"&$BL$2&\") When Barix(\"&$BL$2&\",reference:=StartOfSession)=\"&A61&\"\", \"Bar\", \"\", \"Close\",\"5\",\"0\",\"All\",,,\"False\",\"T\",\"EveryTick\"))","v":{"$error":"#N/A"}},null,{"$f":"IF(D61=0,NA(),RTD(\"cqg.rtd\",,\"StudyData\", \"Close(\"&$BN$2&\") When Barix(\"&$BN$2&\",reference:=StartOfSession)=\"&A61&\"\", \"Bar\", \"\", \"Close\",\"5\",\"0\",\"All\",,,\"False\",\"T\",\"EveryTick\"))","v":{"$error":"#N/A"}},null,{"$f":"IF(D61=0,NA(),RTD(\"cqg.rtd\",,\"StudyData\", \"Close(\"&$BP$2&\") When Barix(\"&$BP$2&\",reference:=StartOfSession)=\"&A61&\"\", \"Bar\", \"\", \"Close\",\"5\",\"0\",\"All\",,,\"False\",\"T\",\"EveryTick\"))","v":{"$error":"#N/A"}},null,{"$f":"IF(D61=0,NA(),RTD(\"cqg.rtd\",,\"StudyData\", \"Close(\"&$BR$2&\") When Barix(\"&$BR$2&\",reference:=StartOfSession)=\"&A61&\"\", \"Bar\", \"\", \"Close\",\"5\",\"0\",\"All\",,,\"False\",\"T\",\"EveryTick\"))","v":{"$error":"#N/A"}},null,{"$f":"IF(D61=0,NA(),RTD(\"cqg.rtd\",,\"StudyData\", \"Close(\"&$BT$2&\") When Barix(\"&$BT$2&\",reference:=StartOfSession)=\"&A61&\"\", \"Bar\", \"\", \"Close\",\"5\",\"0\",\"All\",,,\"False\",\"T\",\"EveryTick\"))","v":{"$error":"#N/A"}},null,{"$f":"IF(D61=0,NA(),RTD(\"cqg.rtd\",,\"StudyData\", \"Close(\"&$BV$2&\") When Barix(\"&$BV$2&\",reference:=StartOfSession)=\"&A61&\"\", \"Bar\", \"\", \"Close\",\"5\",\"0\",\"All\",,,\"False\",\"T\",\"EveryTick\"))","v":{"$error":"#N/A"}},null,{"$f":"IF(D61=0,NA(),RTD(\"cqg.rtd\",,\"StudyData\", \"Close(\"&$BX$2&\") When Barix(\"&$BX$2&\",reference:=StartOfSession)=\"&A61&\"\", \"Bar\", \"\", \"Close\",\"5\",\"0\",\"All\",,,\"False\",\"T\",\"EveryTick\"))","v":{"$error":"#N/A"}},null,{"$f":"IF(D61=0,NA(),RTD(\"cqg.rtd\",,\"StudyData\", \"Close(\"&$BZ$2&\") When Barix(\"&$BZ$2&\",reference:=StartOfSession)=\"&A61&\"\", \"Bar\", \"\", \"Close\",\"5\",\"0\",\"All\",,,\"False\",\"T\",\"EveryTick\"))","v":{"$error":"#N/A"}}]
[58,{"$f":"IF(D62=0,NA(),RTD(\"cqg.rtd\",,\"StudyData\", \"Close(\"&$B$2&\") When Barix(\"&$B$2&\",reference:=StartOfSession)=\"&A62&\"\", \"Bar\", \"\", \"Close\",\"5\",\"0\",\"All\",,,\"False\",\"T\",\"EveryTick\"))","v":{"$error":"#N/A"}},"13:20:00",0,null,{"$f":"IF(D62=0,NA(),RTD(\"cqg.rtd\",,\"StudyData\", \"Close(\"&$F$2&\") When Barix(\"&$F$2&\",reference:=StartOfSession)=\"&A62&\"\", \"Bar\", \"\", \"Close\",\"5\",\"0\",\"All\",,,\"False\",\"T\",\"EveryTick\"))","v":{"$error":"#N/A"}},null,{"$f":"IF(D62=0,NA(),RTD(\"cqg.rtd\",,\"StudyData\", \"Close(\"&$H$2&\") When Barix(\"&$H$2&\",reference:=StartOfSession)=\"&A62&\"\", \"Bar\", \"\", \"Close\",\"5\",\"0\",\"All\",,,\"False\",\"T\",\"EveryTick\"))","v":{"$error":"#N/A"}},null,{"$f":"IF(D62=0,NA(),RTD(\"cqg.rtd\",,\"StudyData\", \"Close(\"&$J$2&\") When Barix(\"&$J$2&\",reference:=StartOfSession)=\"&A62&\"\", \"Bar\", \"\", \"Close\",\"5\",\"0\",\"All\",,,\"False\",\"T\",\"EveryTick\"))","v":{"$error":"#N/A"}},null,{"$f":"IF(D62=0,NA(),RTD(\"cqg.rtd\",,\"StudyData\", \"Close(\"&$L$2&\") When Barix(\"&$L$2&\",reference:=StartOfSession)=\"&A62&\"\", \"Bar\", \"\", \"Close\",\"5\",\"0\",\"All\",,,\"False\",\"T\",\"EveryTick\"))","v":{"$error":"#N/A"}},null,{"$f":"IF(D62=0,NA(),RTD(\"cqg.rtd\",,\"StudyData\", \"Close(\"&$N$2&\") When Barix(\"&$N$2&\",reference:=StartOfSession)=\"&A62&\"\", \"Bar\", \"\", \"Close\",\"5\",\"0\",\"All\",,,\"False\",\"T\",\"EveryTick\"))","v":{"$error":"#N/A"}},null,{"$f":"IF(D62=0,NA(),RTD(\"cqg.rtd\",,\"StudyData\", \"Close(\"&$P$2&\") When Barix(\"&$P$2&\",reference:=StartOfSession)=\"&A62&\"\", \"Bar\", \"\", \"Close\",\"5\",\"0\",\"All\",,,\"False\",\"T\",\"EveryTick\"))","v":{"$error":"#N/A"}},null,{"$f":"IF(D62=0,NA(),RTD(\"cqg.rtd\",,\"StudyData\", \"Close(\"&$R$2&\") When Barix(\"&$R$2&\",reference:=StartOfSession)=\"&A62&\"\", \"Bar\", \"\", \"Close\",\"5\",\"0\",\"All\",,,\"False\",\"T\",\"EveryTick\"))","v":{"$error":"#N/A"}},null,{"$f":"IF(D62=0,NA(),RTD(\"cqg.rtd\",,\"StudyData\", \"Close(\"&$T$2&\") When Barix(\"&$T$2&\",reference:=StartOfSession)=\"&A62&\"\", \"Bar\", \"\", \"Close\",\"5\",\"0\",\"All\",,,\"False\",\"T\",\"EveryTick\"))","v":{"$error":"#N/A"}},null,{"$f":"IF(D62=0,NA(),RTD(\"cqg.rtd\",,\"StudyData\", \"Close(\"&$V$2&\") When Barix(\"&$V$2&\",reference:=StartOfSession)=\"&A62&\"\", \"Bar\", \"\", \"Close\",\"5\",\"0\",\"All\",,,\"False\",\"T\",\"EveryTick\"))","v":{"$error":"#N/A"}},null,{"$f":"IF(D62=0,NA(),RTD(\"cqg.rtd\",,\"StudyData\", \"Close(\"&$X$2&\") When Barix(\"&$X$2&\",reference:=StartOfSession)=\"&A62&\"\", \"Bar\", \"\", \"Close\",\"5\",\"0\",\"All\",,,\"False\",\"T\",\"EveryTick\"))","v":{"$error":"#N/A"}},null,{"$f":"IF(D62=0,NA(),RTD(\"cqg.rtd\",,\"StudyData\", \"Close(\"&$Z$2&\") When Barix(\"&$Z$2&\",reference:=StartOfSession)=\"&A62&\"\", \"Bar\", \"\", \"Close\",\"5\",\"0\",\"All\",,,\"False\",\"T\",\"EveryTick\"))","v":{"$error":"#N/A"}},null,{"$f":"IF(D62=0,NA(),RTD(\"cqg.rtd\",,\"StudyData\", \"Close(\"&$AB$2&\") When Barix(\"&$AB$2&\",reference:=StartOfSession)=\"&A62&\"\", \"Bar\", \"\", \"Close\",\"5\",\"0\",\"All\",,,\"False\",\"T\",\"EveryTick\"))","v":{"$error":"#N/A"}},null,{"$f":"IF(D62=0,NA(),RTD(\"cqg.rtd\",,\"StudyData\", \"Close(\"&$AD$2&\") When Barix(\"&$AD$2&\",reference:=StartOfSession)=\"&A62&\"\", \"Bar\", \"\", \"Close\",\"5\",\"0\",\"All\",,,\"False\",\"T\",\"EveryTick\"))","v":{"$error":"#N/A"}},null,{"$f":"IF(D62=0,NA(),RTD(\"cqg.rtd\",,\"StudyData\", \"Close(\"&$AF$2&\") When Barix(\"&$AF$2&\",reference:=StartOfSession)=\"&A62&\"\", \"Bar\", \"\", \"Close\",\"5\",\"0\",\"All\",,,\"False\",\"T\",\"EveryTick\"))","v":{"$error":"#N/A"}},null,{"$f":"IF(D62=0,NA(),RTD(\"cqg.rtd\",,\"StudyData\", \"Close(\"&$AH$2&\") When Barix(\"&$AH$2&\",reference:=StartOfSession)=\"&A62&\"\", \"Bar\", \"\", \"Close\",\"5\",\"0\",\"All\",,,\"False\",\"T\",\"EveryTick\"))","v":{"$error":"#N/A"}},null,{"$f":"IF(D62=0,NA(),RTD(\"cqg.rtd\",,\"StudyData\", \"Close(\"&$AJ$2&\") When Barix(\"&$AJ$2&\",reference:=StartOfSession)=\"&A62&\"\", \"Bar\", \"\", \"Close\",\"5\",\"0\",\"All\",,,\"False\",\"T\",\"EveryTick\"))","v":{"$error":"#N/A"}},null,{"$f":"IF(D62=0,NA(),RTD(\"cqg.rtd\",,\"StudyData\", \"Close(\"&$AL$2&\") When Barix(\"&$AL$2&\",reference:=StartOfSession)=\"&A62&\"\", \"Bar\", \"\", \"Close\",\"5\",\"0\",\"All\",,,\"False\",\"T\",\"EveryTick\"))","v":{"$error":"#N/A"}},null,{"$f":"IF(D62=0,NA(),RTD(\"cqg.rtd\",,\"StudyData\", \"Close(\"&$AN$2&\") When Barix(\"&$AN$2&\",reference:=StartOfSession)=\"&A62&\"\", \"Bar\", \"\", \"Close\",\"5\",\"0\",\"All\",,,\"False\",\"T\",\"EveryTick\"))","v":{"$error":"#N/A"}},null,{"$f":"IF(D62=0,NA(),RTD(\"cqg.rtd\",,\"StudyData\", \"Close(\"&$AN$2&\") When Barix(\"&$AN$2&\",reference:=StartOfSession)=\"&A62&\"\", \"Bar\", \"\", \"Close\",\"5\",\"0\",\"All\",,,\"False\",\"T\",\"EveryTick\"))","v":{"$error":"#N/A"}},null,{"$f":"IF(D62=0,NA(),RTD(\"cqg.rtd\",,\"StudyData\", \"Close(\"&$AR$2&\") When Barix(\"&$AR$2&\",reference:=StartOfSession)=\"&A62&\"\", \"Bar\", \"\", \"Close\",\"5\",\"0\",\"All\",,,\"False\",\"T\",\"EveryTick\"))","v":{"$error":"#N/A"}},null,{"$f":"IF(D62=0,NA(),RTD(\"cqg.rtd\",,\"StudyData\", \"Close(\"&$AT$2&\") When Barix(\"&$AT$2&\",reference:=StartOfSession)=\"&A62&\"\", \"Bar\", \"\", \"Close\",\"5\",\"0\",\"All\",,,\"False\",\"T\",\"EveryTick\"))","v":{"$error":"#N/A"}},null,{"$f":"IF(D62=0,NA(),RTD(\"cqg.rtd\",,\"StudyData\", \"Close(\"&$AV$2&\") When Barix(\"&$AV$2&\",reference:=StartOfSession)=\"&A62&\"\", \"Bar\", \"\", \"Close\",\"5\",\"0\",\"All\",,,\"False\",\"T\",\"EveryTick\"))","v":{"$error":"#N/A"}},null,{"$f":"IF(D62=0,NA(),RTD(\"cqg.rtd\",,\"StudyData\", \"Close(\"&$AX$2&\") When Barix(\"&$AX$2&\",reference:=StartOfSession)=\"&A62&\"\", \"Bar\", \"\", \"Close\",\"5\",\"0\",\"All\",,,\"False\",\"T\",\"EveryTick\"))","v":{"$error":"#N/A"}},null,{"$f":"IF(D62=0,NA(),RTD(\"cqg.rtd\",,\"StudyData\", \"Close(\"&$AZ$2&\") When Barix(\"&$AZ$2&\",reference:=StartOfSession)=\"&A62&\"\", \"Bar\", \"\", \"Close\",\"5\",\"0\",\"All\",,,\"False\",\"T\",\"EveryTick\"))","v":{"$error":"#N/A"}},null,{"$f":"IF(D62=0,NA(),RTD(\"cqg.rtd\",,\"StudyData\", \"Close(\"&$BB$2&\") When Barix(\"&$BB$2&\",reference:=StartOfSession)=\"&A62&\"\", \"Bar\", \"\", \"Close\",\"5\",\"0\",\"All\",,,\"False\",\"T\",\"EveryTick\"))","v":{"$error":"#N/A"}},null,{"$f":"IF(D62=0,NA(),RTD(\"cqg.rtd\",,\"StudyData\", \"Close(\"&$BD$2&\") When Barix(\"&$BD$2&\",reference:=StartOfSession)=\"&A62&\"\", \"Bar\", \"\", \"Close\",\"5\",\"0\",\"All\",,,\"False\",\"T\",\"EveryTick\"))","v":{"$error":"#N/A"}},null,{"$f":"IF(D62=0,NA(),RTD(\"cqg.rtd\",,\"StudyData\", \"Close(\"&$BF$2&\") When Barix(\"&$BF$2&\",reference:=StartOfSession)=\"&A62&\"\", \"Bar\", \"\", \"Close\",\"5\",\"0\",\"All\",,,\"False\",\"T\",\"EveryTick\"))","v":{"$error":"#N/A"}},null,{"$f":"IF(D62=0,NA(),RTD(\"cqg.rtd\",,\"StudyData\", \"Close(\"&$BH$2&\") When Barix(\"&$BH$2&\",reference:=StartOfSession)=\"&A62&\"\", \"Bar\", \"\", \"Close\",\"5\",\"0\",\"All\",,,\"False\",\"T\",\"EveryTick\"))","v":{"$error":"#N/A"}},null,{"$f":"IF(D62=0,NA(),RTD(\"cqg.rtd\",,\"StudyData\", \"Close(\"&$BJ$2&\") When Barix(\"&$BJ$2&\",reference:=StartOfSession)=\"&A62&\"\", \"Bar\", \"\", \"Close\",\"5\",\"0\",\"All\",,,\"False\",\"T\",\"EveryTick\"))","v":{"$error":"#N/A"}},null,{"$f":"IF(D62=0,NA(),RTD(\"cqg.rtd\",,\"StudyData\", \"Close(\"&$BL$2&\") When Barix(\"&$BL$2&\",reference:=StartOfSession)=\"&A62&\"\", \"Bar\", \"\", \"Close\",\"5\",\"0\",\"All\",,,\"False\",\"T\",\"EveryTick\"))","v":{"$error":"#N/A"}},null,{"$f":"IF(D62=0,NA(),RTD(\"cqg.rtd\",,\"StudyData\", \"Close(\"&$BN$2&\") When Barix(\"&$BN$2&\",reference:=StartOfSession)=\"&A62&\"\", \"Bar\", \"\", \"Close\",\"5\",\"0\",\"All\",,,\"False\",\"T\",\"EveryTick\"))","v":{"$error":"#N/A"}},null,{"$f":"IF(D62=0,NA(),RTD(\"cqg.rtd\",,\"StudyData\", \"Close(\"&$BP$2&\") When Barix(\"&$BP$2&\",reference:=StartOfSession)=\"&A62&\"\", \"Bar\", \"\", \"Close\",\"5\",\"0\",\"All\",,,\"False\",\"T\",\"EveryTick\"))","v":{"$error":"#N/A"}},null,{"$f":"IF(D62=0,NA(),RTD(\"cqg.rtd\",,\"StudyData\", \"Close(\"&$BR$2&\") When Barix(\"&$BR$2&\",reference:=StartOfSession)=\"&A62&\"\", \"Bar\", \"\", \"Close\",\"5\",\"0\",\"All\",,,\"False\",\"T\",\"EveryTick\"))","v":{"$error":"#N/A"}},null,{"$f":"IF(D62=0,NA(),RTD(\"cqg.rtd\",,\"StudyData\", \"Close(\"&$BT$2&\") When Barix(\"&$BT$2&\",reference:=StartOfSession)=\"&A62&\"\", \"Bar\", \"\", \"Close\",\"5\",\"0\",\"All\",,,\"False\",\"T\",\"EveryTick\"))","v":{"$error":"#N/A"}},null,{"$f":"IF(D62=0,NA(),RTD(\"cqg.rtd\",,\"StudyData\", \"Close(\"&$BV$2&\") When Barix(\"&$BV$2&\",reference:=StartOfSession)=\"&A62&\"\", \"Bar\", \"\", \"Close\",\"5\",\"0\",\"All\",,,\"False\",\"T\",\"EveryTick\"))","v":{"$error":"#N/A"}},null,{"$f":"IF(D62=0,NA(),RTD(\"cqg.rtd\",,\"StudyData\", \"Close(\"&$BX$2&\") When Barix(\"&$BX$2&\",reference:=StartOfSession)=\"&A62&\"\", \"Bar\", \"\", \"Close\",\"5\",\"0\",\"All\",,,\"False\",\"T\",\"EveryTick\"))","v":{"$error":"#N/A"}},null,{"$f":"IF(D62=0,NA(),RTD(\"cqg.rtd\",,\"StudyData\", \"Close(\"&$BZ$2&\") When Barix(\"&$BZ$2&\",reference:=StartOfSession)=\"&A62&\"\", \"Bar\", \"\", \"Close\",\"5\",\"0\",\"All\",,,\"False\",\"T\",\"EveryTick\"))","v":{"$error":"#N/A"}}]
[59,{"$f":"IF(D63=0,NA(),RTD(\"cqg.rtd\",,\"StudyData\", \"Close(\"&$B$2&\") When Barix(\"&$B$2&\",reference:=StartOfSession)=\"&A63&\"\", \"Bar\", \"\", \"Close\",\"5\",\"0\",\"All\",,,\"False\",\"T\",\"EveryTick\"))","v":{"$error":"#N/A"}},"13:25:00",0,null,{"$f":"IF(D63=0,NA(),RTD(\"cqg.rtd\",,\"StudyData\", \"Close(\"&$F$2&\") When Barix(\"&$F$2&\",reference:=StartOfSession)=\"&A63&\"\", \"Bar\", \"\", \"Close\",\"5\",\"0\",\"All\",,,\"False\",\"T\",\"EveryTick\"))","v":{"$error":"#N/A"}},null,{"$f":"IF(D63=0,NA(),RTD(\"cqg.rtd\",,\"StudyData\", \"Close(\"&$H$2&\") When Barix(\"&$H$2&\",reference:=StartOfSession)=\"&A63&\"\", \"Bar\", \"\", \"Close\",\"5\",\"0\",\"All\",,,\"False\",\"T\",\"EveryTick\"))","v":{"$error":"#N/A"}},null,{"$f":"IF(D63=0,NA(),RTD(\"cqg.rtd\",,\"StudyData\", \"Close(\"&$J$2&\") When Barix(\"&$J$2&\",reference:=StartOfSession)=\"&A63&\"\", \"Bar\", \"\", \"Close\",\"5\",\"0\",\"All\",,,\"False\",\"T\",\"EveryTick\"))","v":{"$error":"#N/A"}},null,{"$f":"IF(D63=0,NA(),RTD(\"cqg.rtd\",,\"StudyData\", \"Close(\"&$L$2&\") When Barix(\"&$L$2&\",reference:=StartOfSession)=\"&A63&\"\", \"Bar\", \"\", \"Close\",\"5\",\"0\",\"All\",,,\"False\",\"T\",\"EveryTick\"))","v":{"$error":"#N/A"}},null,{"$f":"IF(D63=0,NA(),RTD(\"cqg.rtd\",,\"StudyData\", \"Close(\"&$N$2&\") When Barix(\"&$N$2&\",reference:=StartOfSession)=\"&A63&\"\", \"Bar\", \"\", \"Close\",\"5\",\"0\",\"All\",,,\"False\",\"T\",\"EveryTick\"))","v":{"$error":"#N/A"}},null,{"$f":"IF(D63=0,NA(),RTD(\"cqg.rtd\",,\"StudyData\", \"Close(\"&$P$2&\") When Barix(\"&$P$2&\",reference:=StartOfSession)=\"&A63&\"\", \"Bar\", \"\", \"Close\",\"5\",\"0\",\"All\",,,\"False\",\"T\",\"EveryTick\"))","v":{"$error":"#N/A"}},null,{"$f":"IF(D63=0,NA(),RTD(\"cqg.rtd\",,\"StudyData\", \"Close(\"&$R$2&\") When Barix(\"&$R$2&\",reference:=StartOfSession)=\"&A63&\"\", \"Bar\", \"\", \"Close\",\"5\",\"0\",\"All\",,,\"False\",\"T\",\"EveryTick\"))","v":{"$error":"#N/A"}},null,{"$f":"IF(D63=0,NA(),RTD(\"cqg.rtd\",,\"StudyData\", \"Close(\"&$T$2&\") When Barix(\"&$T$2&\",reference:=StartOfSession)=\"&A63&\"\", \"Bar\", \"\", \"Close\",\"5\",\"0\",\"All\",,,\"False\",\"T\",\"EveryTick\"))","v":{"$error":"#N/A"}},null,{"$f":"IF(D63=0,NA(),RTD(\"cqg.rtd\",,\"StudyData\", \"Close(\"&$V$2&\") When Barix(\"&$V$2&\",reference:=StartOfSession)=\"&A63&\"\", \"Bar\", \"\", \"Close\",\"5\",\"0\",\"All\",,,\"False\",\"T\",\"EveryTick\"))","v":{"$error":"#N/A"}},null,{"$f":"IF(D63=0,NA(),RTD(\"cqg.rtd\",,\"StudyData\", \"Close(\"&$X$2&\") When Barix(\"&$X$2&\",reference:=StartOfSession)=\"&A63&\"\", \"Bar\", \"\", \"Close\",\"5\",\"0\",\"All\",,,\"False\",\"T\",\"EveryTick\"))","v":{"$error":"#N/A"}},null,{"$f":"IF(D63=0,NA(),RTD(\"cqg.rtd\",,\"StudyData\", \"Close(\"&$Z$2&\") When Barix(\"&$Z$2&\",reference:=StartOfSession)=\"&A63&\"\", \"Bar\", \"\", \"Close\",\"5\",\"0\",\"All\",,,\"False\",\"T\",\"EveryTick\"))","v":{"$error":"#N/A"}},null,{"$f":"IF(D63=0,NA(),RTD(\"cqg.rtd\",,\"StudyData\", \"Close(\"&$AB$2&\") When Barix(\"&$AB$2&\",reference:=StartOfSession)=\"&A63&\"\", \"Bar\", \"\", \"Close\",\"5\",\"0\",\"All\",,,\"False\",\"T\",\"EveryTick\"))","v":{"$error":"#N/A"}},null,{"$f":"IF(D63=0,NA(),RTD(\"cqg.rtd\",,\"StudyData\", \"Close(\"&$AD$2&\") When Barix(\"&$AD$2&\",reference:=StartOfSession)=\"&A63&\"\", \"Bar\", \"\", \"Close\",\"5\",\"0\",\"All\",,,\"False\",\"T\",\"EveryTick\"))","v":{"$error":"#N/A"}},null,{"$f":"IF(D63=0,NA(),RTD(\"cqg.rtd\",,\"StudyData\", \"Close(\"&$AF$2&\") When Barix(\"&$AF$2&\",reference:=StartOfSession)=\"&A63&\"\", \"Bar\", \"\", \"Close\",\"5\",\"0\",\"All\",,,\"False\",\"T\",\"EveryTick\"))","v":{"$error":"#N/A"}},null,{"$f":"IF(D63=0,NA(),RTD(\"cqg.rtd\",,\"StudyData\", \"Close(\"&$AH$2&\") When Barix(\"&$AH$2&\",reference:=StartOfSession)=\"&A63&\"\", \"Bar\", \"\", \"Close\",\"5\",\"0\",\"All\",,,\"False\",\"T\",\"EveryTick\"))","v":{"$error":"#N/A"}},null,{"$f":"IF(D63=0,NA(),RTD(\"cqg.rtd\",,\"StudyData\", \"Close(\"&$AJ$2&\") When Barix(\"&$AJ$2&\",reference:=StartOfSession)=\"&A63&\"\", \"Bar\", \"\", \"Close\",\"5\",\"0\",\"All\",,,\"False\",\"T\",\"EveryTick\"))","v":{"$error":"#N/A"}},null,{"$f":"IF(D63=0,NA(),RTD(\"cqg.rtd\",,\"StudyData\", \"Close(\"&$AL$2&\") When Barix(\"&$AL$2&\",reference:=StartOfSession)=\"&A63&\"\", \"Bar\", \"\", \"Close\",\"5\",\"0\",\"All\",,,\"False\",\"T\",\"EveryTick\"))","v":{"$error":"#N/A"}},null,{"$f":"IF(D63=0,NA(),RTD(\"cqg.rtd\",,\"StudyData\", \"Close(\"&$AN$2&\") When Barix(\"&$AN$2&\",reference:=StartOfSession)=\"&A63&\"\", \"Bar\", \"\", \"Close\",\"5\",\"0\",\"All\",,,\"False\",\"T\",\"EveryTick\"))","v":{"$error":"#N/A"}},null,{"$f":"IF(D63=0,NA(),RTD(\"cqg.rtd\",,\"StudyData\", \"Close(\"&$AN$2&\") When Barix(\"&$AN$2&\",reference:=StartOfSession)=\"&A63&\"\", \"Bar\", \"\", \"Close\",\"5\",\"0\",\"All\",,,\"False\",\"T\",\"EveryTick\"))","v":{"$error":"#N/A"}},null,{"$f":"IF(D63=0,NA(),RTD(\"cqg.rtd\",,\"StudyData\", \"Close(\"&$AR$2&\") When Barix(\"&$AR$2&\",reference:=StartOfSession)=\"&A63&\"\", \"Bar\", \"\", \"Close\",\"5\",\"0\",\"All\",,,\"False\",\"T\",\"EveryTick\"))","v":{"$error":"#N/A"}},null,{"$f":"IF(D63=0,NA(),RTD(\"cqg.rtd\",,\"StudyData\", \"Close(\"&$AT$2&\") When Barix(\"&$AT$2&\",reference:=StartOfSession)=\"&A63&\"\", \"Bar\", \"\", \"Close\",\"5\",\"0\",\"All\",,,\"False\",\"T\",\"EveryTick\"))","v":{"$error":"#N/A"}},null,{"$f":"IF(D63=0,NA(),RTD(\"cqg.rtd\",,\"StudyData\", \"Close(\"&$AV$2&\") When Barix(\"&$AV$2&\",reference:=StartOfSession)=\"&A63&\"\", \"Bar\", \"\", \"Close\",\"5\",\"0\",\"All\",,,\"False\",\"T\",\"EveryTick\"))","v":{"$error":"#N/A"}},null,{"$f":"IF(D63=0,NA(),RTD(\"cqg.rtd\",,\"StudyData\", \"Close(\"&$AX$2&\") When Barix(\"&$AX$2&\",reference:=StartOfSession)=\"&A63&\"\", \"Bar\", \"\", \"Close\",\"5\",\"0\",\"All\",,,\"False\",\"T\",\"EveryTick\"))","v":{"$error":"#N/A"}},null,{"$f":"IF(D63=0,NA(),RTD(\"cqg.rtd\",,\"StudyData\", \"Close(\"&$AZ$2&\") When Barix(\"&$AZ$2&\",reference:=StartOfSession)=\"&A63&\"\", \"Bar\", \"\", \"Close\",\"5\",\"0\",\"All\",,,\"False\",\"T\",\"EveryTick\"))","v":{"$error":"#N/A"}},null,{"$f":"IF(D63=0,NA(),RTD(\"cqg.rtd\",,\"StudyData\", \"Close(\"&$BB$2&\") When Barix(\"&$BB$2&\",reference:=StartOfSession)=\"&A63&\"\", \"Bar\", \"\", \"Close\",\"5\",\"0\",\"All\",,,\"False\",\"T\",\"EveryTick\"))","v":{"$error":"#N/A"}},null,{"$f":"IF(D63=0,NA(),RTD(\"cqg.rtd\",,\"StudyData\", \"Close(\"&$BD$2&\") When Barix(\"&$BD$2&\",reference:=StartOfSession)=\"&A63&\"\", \"Bar\", \"\", \"Close\",\"5\",\"0\",\"All\",,,\"False\",\"T\",\"EveryTick\"))","v":{"$error":"#N/A"}},null,{"$f":"IF(D63=0,NA(),RTD(\"cqg.rtd\",,\"StudyData\", \"Close(\"&$BF$2&\") When Barix(\"&$BF$2&\",reference:=StartOfSession)=\"&A63&\"\", \"Bar\", \"\", \"Close\",\"5\",\"0\",\"All\",,,\"False\",\"T\",\"EveryTick\"))","v":{"$error":"#N/A"}},null,{"$f":"IF(D63=0,NA(),RTD(\"cqg.rtd\",,\"StudyData\", \"Close(\"&$BH$2&\") When Barix(\"&$BH$2&\",reference:=StartOfSession)=\"&A63&\"\", \"Bar\", \"\", \"Close\",\"5\",\"0\",\"All\",,,\"False\",\"T\",\"EveryTick\"))","v":{"$error":"#N/A"}},null,{"$f":"IF(D63=0,NA(),RTD(\"cqg.rtd\",,\"StudyData\", \"Close(\"&$BJ$2&\") When Barix(\"&$BJ$2&\",reference:=StartOfSession)=\"&A63&\"\", \"Bar\", \"\", \"Close\",\"5\",\"0\",\"All\",,,\"False\",\"T\",\"EveryTick\"))","v":{"$error":"#N/A"}},null,{"$f":"IF(D63=0,NA(),RTD(\"cqg.rtd\",,\"StudyData\", \"Close(\"&$BL$2&\") When Barix(\"&$BL$2&\",reference:=StartOfSession)=\"&A63&\"\", \"Bar\", \"\", \"Close\",\"5\",\"0\",\"All\",,,\"False\",\"T\",\"EveryTick\"))","v":{"$error":"#N/A"}},null,{"$f":"IF(D63=0,NA(),RTD(\"cqg.rtd\",,\"StudyData\", \"Close(\"&$BN$2&\") When Barix(\"&$BN$2&\",reference:=StartOfSession)=\"&A63&\"\", \"Bar\", \"\", \"Close\",\"5\",\"0\",\"All\",,,\"False\",\"T\",\"EveryTick\"))","v":{"$error":"#N/A"}},null,{"$f":"IF(D63=0,NA(),RTD(\"cqg.rtd\",,\"StudyData\", \"Close(\"&$BP$2&\") When Barix(\"&$BP$2&\",reference:=StartOfSession)=\"&A63&\"\", \"Bar\", \"\", \"Close\",\"5\",\"0\",\"All\",,,\"False\",\"T\",\"EveryTick\"))","v":{"$error":"#N/A"}},null,{"$f":"IF(D63=0,NA(),RTD(\"cqg.rtd\",,\"StudyData\", \"Close(\"&$BR$2&\") When Barix(\"&$BR$2&\",reference:=StartOfSession)=\"&A63&\"\", \"Bar\", \"\", \"Close\",\"5\",\"0\",\"All\",,,\"False\",\"T\",\"EveryTick\"))","v":{"$error":"#N/A"}},null,{"$f":"IF(D63=0,NA(),RTD(\"cqg.rtd\",,\"StudyData\", \"Close(\"&$BT$2&\") When Barix(\"&$BT$2&\",reference:=StartOfSession)=\"&A63&\"\", \"Bar\", \"\", \"Close\",\"5\",\"0\",\"All\",,,\"False\",\"T\",\"EveryTick\"))","v":{"$error":"#N/A"}},null,{"$f":"IF(D63=0,NA(),RTD(\"cqg.rtd\",,\"StudyData\", \"Close(\"&$BV$2&\") When Barix(\"&$BV$2&\",reference:=StartOfSession)=\"&A63&\"\", \"Bar\", \"\", \"Close\",\"5\",\"0\",\"All\",,,\"False\",\"T\",\"EveryTick\"))","v":{"$error":"#N/A"}},null,{"$f":"IF(D63=0,NA(),RTD(\"cqg.rtd\",,\"StudyData\", \"Close(\"&$BX$2&\") When Barix(\"&$BX$2&\",reference:=StartOfSession)=\"&A63&\"\", \"Bar\", \"\", \"Close\",\"5\",\"0\",\"All\",,,\"False\",\"T\",\"EveryTick\"))","v":{"$error":"#N/A"}},null,{"$f":"IF(D63=0,NA(),RTD(\"cqg.rtd\",,\"StudyData\", \"Close(\"&$BZ$2&\") When Barix(\"&$BZ$2&\",reference:=StartOfSession)=\"&A63&\"\", \"Bar\", \"\", \"Close\",\"5\",\"0\",\"All\",,,\"False\",\"T\",\"EveryTick\"))","v":{"$error":"#N/A"}}]
[60,{"$f":"IF(D64=0,NA(),RTD(\"cqg.rtd\",,\"StudyData\", \"Close(\"&$B$2&\") When Barix(\"&$B$2&\",reference:=StartOfSession)=\"&A64&\"\", \"Bar\", \"\", \"Close\",\"5\",\"0\",\"All\",,,\"False\",\"T\",\"EveryTick\"))","v":{"$error":"#N/A"}},"13:30:00",0,null,{"$f":"IF(D64=0,NA(),RTD(\"cqg.rtd\",,\"StudyData\", \"Close(\"&$F$2&\") When Barix(\"&$F$2&\",reference:=StartOfSession)=\"&A64&\"\", \"Bar\", \"\", \"Close\",\"5\",\"0\",\"All\",,,\"False\",\"T\",\"EveryTick\"))","v":{"$error":"#N/A"}},null,{"$f":"IF(D64=0,NA(),RTD(\"cqg.rtd\",,\"StudyData\", \"Close(\"&$H$2&\") When Barix(\"&$H$2&\",reference:=StartOfSession)=\"&A64&\"\", \"Bar\", \"\", \"Close\",\"5\",\"0\",\"All\",,,\"False\",\"T\",\"EveryTick\"))","v":{"$error":"#N/A"}},null,{"$f":"IF(D64=0,NA(),RTD(\"cqg.rtd\",,\"StudyData\", \"Close(\"&$J$2&\") When Barix(\"&$J$2&\",reference:=StartOfSession)=\"&A64&\"\", \"Bar\", \"\", \"Close\",\"5\",\"0\",\"All\",,,\"False\",\"T\",\"EveryTick\"))","v":{"$error":"#N/A"}},null,{"$f":"IF(D64=0,NA(),RTD(\"cqg.rtd\",,\"StudyData\", \"Close(\"&$L$2&\") When Barix(\"&$L$2&\",reference:=StartOfSession)=\"&A64&\"\", \"Bar\", \"\", \"Close\",\"5\",\"0\",\"All\",,,\"False\",\"T\",\"EveryTick\"))","v":{"$error":"#N/A"}},null,{"$f":"IF(D64=0,NA(),RTD(\"cqg.rtd\",,\"StudyData\", \"Close(\"&$N$2&\") When Barix(\"&$N$2&\",reference:=StartOfSession)=\"&A64&\"\", \"Bar\", \"\", \"Close\",\"5\",\"0\",\"All\",,,\"False\",\"T\",\"EveryTick\"))","v":{"$error":"#N/A"}},null,{"$f":"IF(D64=0,NA(),RTD(\"cqg.rtd\",,\"StudyData\", \"Close(\"&$P$2&\") When Barix(\"&$P$2&\",reference:=StartOfSession)=\"&A64&\"\", \"Bar\", \"\", \"Close\",\"5\",\"0\",\"All\",,,\"False\",\"T\",\"EveryTick\"))","v":{"$error":"#N/A"}},null,{"$f":"IF(D64=0,NA(),RTD(\"cqg.rtd\",,\"StudyData\", \"Close(\"&$R$2&\") When Barix(\"&$R$2&\",reference:=StartOfSession)=\"&A64&\"\", \"Bar\", \"\", \"Close\",\"5\",\"0\",\"All\",,,\"False\",\"T\",\"EveryTick\"))","v":{"$error":"#N/A"}},null,{"$f":"IF(D64=0,NA(),RTD(\"cqg.rtd\",,\"StudyData\", \"Close(\"&$T$2&\") When Barix(\"&$T$2&\",reference:=StartOfSession)=\"&A64&\"\", \"Bar\", \"\", \"Close\",\"5\",\"0\",\"All\",,,\"False\",\"T\",\"EveryTick\"))","v":{"$error":"#N/A"}},null,{"$f":"IF(D64=0,NA(),RTD(\"cqg.rtd\",,\"StudyData\", \"Close(\"&$V$2&\") When Barix(\"&$V$2&\",reference:=StartOfSession)=\"&A64&\"\", \"Bar\", \"\", \"Close\",\"5\",\"0\",\"All\",,,\"False\",\"T\",\"EveryTick\"))","v":{"$error":"#N/A"}},null,{"$f":"IF(D64=0,NA(),RTD(\"cqg.rtd\",,\"StudyData\", \"Close(\"&$X$2&\") When Barix(\"&$X$2&\",reference:=StartOfSession)=\"&A64&\"\", \"Bar\", \"\", \"Close\",\"5\",\"0\",\"All\",,,\"False\",\"T\",\"EveryTick\"))","v":{"$error":"#N/A"}},null,{"$f":"IF(D64=0,NA(),RTD(\"cqg.rtd\",,\"StudyData\", \"Close(\"&$Z$2&\") When Barix(\"&$Z$2&\",reference:=StartOfSession)=\"&A64&\"\", \"Bar\", \"\", \"Close\",\"5\",\"0\",\"All\",,,\"False\",\"T\",\"EveryTick\"))","v":{"$error":"#N/A"}},null,{"$f":"IF(D64=0,NA(),RTD(\"cqg.rtd\",,\"StudyData\", \"Close(\"&$AB$2&\") When Barix(\"&$AB$2&\",reference:=StartOfSession)=\"&A64&\"\", \"Bar\", \"\", \"Close\",\"5\",\"0\",\"All\",,,\"False\",\"T\",\"EveryTick\"))","v":{"$error":"#N/A"}},null,{"$f":"IF(D64=0,NA(),RTD(\"cqg.rtd\",,\"StudyData\", \"Close(\"&$AD$2&\") When Barix(\"&$AD$2&\",reference:=StartOfSession)=\"&A64&\"\", \"Bar\", \"\", \"Close\",\"5\",\"0\",\"All\",,,\"False\",\"T\",\"EveryTick\"))","v":{"$error":"#N/A"}},null,{"$f":"IF(D64=0,NA(),RTD(\"cqg.rtd\",,\"StudyData\", \"Close(\"&$AF$2&\") When Barix(\"&$AF$2&\",reference:=StartOfSession)=\"&A64&\"\", \"Bar\", \"\", \"Close\",\"5\",\"0\",\"All\",,,\"False\",\"T\",\"EveryTick\"))","v":{"$error":"#N/A"}},null,{"$f":"IF(D64=0,NA(),RTD(\"cqg.rtd\",,\"StudyData\", \"Close(\"&$AH$2&\") When Barix(\"&$AH$2&\",reference:=StartOfSession)=\"&A64&\"\", \"Bar\", \"\", \"Close\",\"5\",\"0\",\"All\",,,\"False\",\"T\",\"EveryTick\"))","v":{"$error":"#N/A"}},null,{"$f":"IF(D64=0,NA(),RTD(\"cqg.rtd\",,\"StudyData\", \"Close(\"&$AJ$2&\") When Barix(\"&$AJ$2&\",reference:=StartOfSession)=\"&A64&\"\", \"Bar\", \"\", \"Close\",\"5\",\"0\",\"All\",,,\"False\",\"T\",\"EveryTick\"))","v":{"$error":"#N/A"}},null,{"$f":"IF(D64=0,NA(),RTD(\"cqg.rtd\",,\"StudyData\", \"Close(\"&$AL$2&\") When Barix(\"&$AL$2&\",reference:=StartOfSession)=\"&A64&\"\", \"Bar\", \"\", \"Close\",\"5\",\"0\",\"All\",,,\"False\",\"T\",\"EveryTick\"))","v":{"$error":"#N/A"}},null,{"$f":"IF(D64=0,NA(),RTD(\"cqg.rtd\",,\"StudyData\", \"Close(\"&$AN$2&\") When Barix(\"&$AN$2&\",reference:=StartOfSession)=\"&A64&\"\", \"Bar\", \"\", \"Close\",\"5\",\"0\",\"All\",,,\"False\",\"T\",\"EveryTick\"))","v":{"$error":"#N/A"}},null,{"$f":"IF(D64=0,NA(),RTD(\"cqg.rtd\",,\"StudyData\", \"Close(\"&$AN$2&\") When Barix(\"&$AN$2&\",reference:=StartOfSession)=\"&A64&\"\", \"Bar\", \"\", \"Close\",\"5\",\"0\",\"All\",,,\"False\",\"T\",\"EveryTick\"))","v":{"$error":"#N/A"}},null,{"$f":"IF(D64=0,NA(),RTD(\"cqg.rtd\",,\"StudyData\", \"Close(\"&$AR$2&\") When Barix(\"&$AR$2&\",reference:=StartOfSession)=\"&A64&\"\", \"Bar\", \"\", \"Close\",\"5\",\"0\",\"All\",,,\"False\",\"T\",\"EveryTick\"))","v":{"$error":"#N/A"}},null,{"$f":"IF(D64=0,NA(),RTD(\"cqg.rtd\",,\"StudyData\", \"Close(\"&$AT$2&\") When Barix(\"&$AT$2&\",reference:=StartOfSession)=\"&A64&\"\", \"Bar\", \"\", \"Close\",\"5\",\"0\",\"All\",,,\"False\",\"T\",\"EveryTick\"))","v":{"$error":"#N/A"}},null,{"$f":"IF(D64=0,NA(),RTD(\"cqg.rtd\",,\"StudyData\", \"Close(\"&$AV$2&\") When Barix(\"&$AV$2&\",reference:=StartOfSession)=\"&A64&\"\", \"Bar\", \"\", \"Close\",\"5\",\"0\",\"All\",,,\"False\",\"T\",\"EveryTick\"))","v":{"$error":"#N/A"}},null,{"$f":"IF(D64=0,NA(),RTD(\"cqg.rtd\",,\"StudyData\", \"Close(\"&$AX$2&\") When Barix(\"&$AX$2&\",reference:=StartOfSession)=\"&A64&\"\", \"Bar\", \"\", \"Close\",\"5\",\"0\",\"All\",,,\"False\",\"T\",\"EveryTick\"))","v":{"$error":"#N/A"}},null,{"$f":"IF(D64=0,NA(),RTD(\"cqg.rtd\",,\"StudyData\", \"Close(\"&$AZ$2&\") When Barix(\"&$AZ$2&\",reference:=StartOfSession)=\"&A64&\"\", \"Bar\", \"\", \"Close\",\"5\",\"0\",\"All\",,,\"False\",\"T\",\"EveryTick\"))","v":{"$error":"#N/A"}},null,{"$f":"IF(D64=0,NA(),RTD(\"cqg.rtd\",,\"StudyData\", \"Close(\"&$BB$2&\") When Barix(\"&$BB$2&\",reference:=StartOfSession)=\"&A64&\"\", \"Bar\", \"\", \"Close\",\"5\",\"0\",\"All\",,,\"False\",\"T\",\"EveryTick\"))","v":{"$error":"#N/A"}},null,{"$f":"IF(D64=0,NA(),RTD(\"cqg.rtd\",,\"StudyData\", \"Close(\"&$BD$2&\") When Barix(\"&$BD$2&\",reference:=StartOfSession)=\"&A64&\"\", \"Bar\", \"\", \"Close\",\"5\",\"0\",\"All\",,,\"False\",\"T\",\"EveryTick\"))","v":{"$error":"#N/A"}},null,{"$f":"IF(D64=0,NA(),RTD(\"cqg.rtd\",,\"StudyData\", \"Close(\"&$BF$2&\") When Barix(\"&$BF$2&\",reference:=StartOfSession)=\"&A64&\"\", \"Bar\", \"\", \"Close\",\"5\",\"0\",\"All\",,,\"False\",\"T\",\"EveryTick\"))","v":{"$error":"#N/A"}},null,{"$f":"IF(D64=0,NA(),RTD(\"cqg.rtd\",,\"StudyData\", \"Close(\"&$BH$2&\") When Barix(\"&$BH$2&\",reference:=StartOfSession)=\"&A64&\"\", \"Bar\", \"\", \"Close\",\"5\",\"0\",\"All\",,,\"False\",\"T\",\"EveryTick\"))","v":{"$error":"#N/A"}},null,{"$f":"IF(D64=0,NA(),RTD(\"cqg.rtd\",,\"StudyData\", \"Close(\"&$BJ$2&\") When Barix(\"&$BJ$2&\",reference:=StartOfSession)=\"&A64&\"\", \"Bar\", \"\", \"Close\",\"5\",\"0\",\"All\",,,\"False\",\"T\",\"EveryTick\"))","v":{"$error":"#N/A"}},null,{"$f":"IF(D64=0,NA(),RTD(\"cqg.rtd\",,\"StudyData\", \"Close(\"&$BL$2&\") When Barix(\"&$BL$2&\",reference:=StartOfSession)=\"&A64&\"\", \"Bar\", \"\", \"Close\",\"5\",\"0\",\"All\",,,\"False\",\"T\",\"EveryTick\"))","v":{"$error":"#N/A"}},null,{"$f":"IF(D64=0,NA(),RTD(\"cqg.rtd\",,\"StudyData\", \"Close(\"&$BN$2&\") When Barix(\"&$BN$2&\",reference:=StartOfSession)=\"&A64&\"\", \"Bar\", \"\", \"Close\",\"5\",\"0\",\"All\",,,\"False\",\"T\",\"EveryTick\"))","v":{"$error":"#N/A"}},null,{"$f":"IF(D64=0,NA(),RTD(\"cqg.rtd\",,\"StudyData\", \"Close(\"&$BP$2&\") When Barix(\"&$BP$2&\",reference:=StartOfSession)=\"&A64&\"\", \"Bar\", \"\", \"Close\",\"5\",\"0\",\"All\",,,\"False\",\"T\",\"EveryTick\"))","v":{"$error":"#N/A"}},null,{"$f":"IF(D64=0,NA(),RTD(\"cqg.rtd\",,\"StudyData\", \"Close(\"&$BR$2&\") When Barix(\"&$BR$2&\",reference:=StartOfSession)=\"&A64&\"\", \"Bar\", \"\", \"Close\",\"5\",\"0\",\"All\",,,\"False\",\"T\",\"EveryTick\"))","v":{"$error":"#N/A"}},null,{"$f":"IF(D64=0,NA(),RTD(\"cqg.rtd\",,\"StudyData\", \"Close(\"&$BT$2&\") When Barix(\"&$BT$2&\",reference:=StartOfSession)=\"&A64&\"\", \"Bar\", \"\", \"Close\",\"5\",\"0\",\"All\",,,\"False\",\"T\",\"EveryTick\"))","v":{"$error":"#N/A"}},null,{"$f":"IF(D64=0,NA(),RTD(\"cqg.rtd\",,\"StudyData\", \"Close(\"&$BV$2&\") When Barix(\"&$BV$2&\",reference:=StartOfSession)=\"&A64&\"\", \"Bar\", \"\", \"Close\",\"5\",\"0\",\"All\",,,\"False\",\"T\",\"EveryTick\"))","v":{"$error":"#N/A"}},null,{"$f":"IF(D64=0,NA(),RTD(\"cqg.rtd\",,\"StudyData\", \"Close(\"&$BX$2&\") When Barix(\"&$BX$2&\",reference:=StartOfSession)=\"&A64&\"\", \"Bar\", \"\", \"Close\",\"5\",\"0\",\"All\",,,\"False\",\"T\",\"EveryTick\"))","v":{"$error":"#N/A"}},null,{"$f":"IF(D64=0,NA(),RTD(\"cqg.rtd\",,\"StudyData\", \"Close(\"&$BZ$2&\") When Barix(\"&$BZ$2&\",reference:=StartOfSession)=\"&A64&\"\", \"Bar\", \"\", \"Close\",\"5\",\"0\",\"All\",,,\"False\",\"T\",\"EveryTick\"))","v":{"$error":"#N/A"}}]
[61,{"$f":"IF(D65=0,NA(),RTD(\"cqg.rtd\",,\"StudyData\", \"Close(\"&$B$2&\") When Barix(\"&$B$2&\",reference:=StartOfSession)=\"&A65&\"\", \"Bar\", \"\", \"Close\",\"5\",\"0\",\"All\",,,\"False\",\"T\",\"EveryTick\"))","v":{"$error":"#N/A"}},"13:35:00",0,null,{"$f":"IF(D65=0,NA(),RTD(\"cqg.rtd\",,\"StudyData\", \"Close(\"&$F$2&\") When Barix(\"&$F$2&\",reference:=StartOfSession)=\"&A65&\"\", \"Bar\", \"\", \"Close\",\"5\",\"0\",\"All\",,,\"False\",\"T\",\"EveryTick\"))","v":{"$error":"#N/A"}},null,{"$f":"IF(D65=0,NA(),RTD(\"cqg.rtd\",,\"StudyData\", \"Close(\"&$H$2&\") When Barix(\"&$H$2&\",reference:=StartOfSession)=\"&A65&\"\", \"Bar\", \"\", \"Close\",\"5\",\"0\",\"All\",,,\"False\",\"T\",\"EveryTick\"))","v":{"$error":"#N/A"}},null,{"$f":"IF(D65=0,NA(),RTD(\"cqg.rtd\",,\"StudyData\", \"Close(\"&$J$2&\") When Barix(\"&$J$2&\",reference:=StartOfSession)=\"&A65&\"\", \"Bar\", \"\", \"Close\",\"5\",\"0\",\"All\",,,\"False\",\"T\",\"EveryTick\"))","v":{"$error":"#N/A"}},null,{"$f":"IF(D65=0,NA(),RTD(\"cqg.rtd\",,\"StudyData\", \"Close(\"&$L$2&\") When Barix(\"&$L$2&\",reference:=StartOfSession)=\"&A65&\"\", \"Bar\", \"\", \"Close\",\"5\",\"0\",\"All\",,,\"False\",\"T\",\"EveryTick\"))","v":{"$error":"#N/A"}},null,{"$f":"IF(D65=0,NA(),RTD(\"cqg.rtd\",,\"StudyData\", \"Close(\"&$N$2&\") When Barix(\"&$N$2&\",reference:=StartOfSession)=\"&A65&\"\", \"Bar\", \"\", \"Close\",\"5\",\"0\",\"All\",,,\"False\",\"T\",\"EveryTick\"))","v":{"$error":"#N/A"}},null,{"$f":"IF(D65=0,NA(),RTD(\"cqg.rtd\",,\"StudyData\", \"Close(\"&$P$2&\") When Barix(\"&$P$2&\",reference:=StartOfSession)=\"&A65&\"\", \"Bar\", \"\", \"Close\",\"5\",\"0\",\"All\",,,\"False\",\"T\",\"EveryTick\"))","v":{"$error":"#N/A"}},null,{"$f":"IF(D65=0,NA(),RTD(\"cqg.rtd\",,\"StudyData\", \"Close(\"&$R$2&\") When Barix(\"&$R$2&\",reference:=StartOfSession)=\"&A65&\"\", \"Bar\", \"\", \"Close\",\"5\",\"0\",\"All\",,,\"False\",\"T\",\"EveryTick\"))","v":{"$error":"#N/A"}},null,{"$f":"IF(D65=0,NA(),RTD(\"cqg.rtd\",,\"StudyData\", \"Close(\"&$T$2&\") When Barix(\"&$T$2&\",reference:=StartOfSession)=\"&A65&\"\", \"Bar\", \"\", \"Close\",\"5\",\"0\",\"All\",,,\"False\",\"T\",\"EveryTick\"))","v":{"$error":"#N/A"}},null,{"$f":"IF(D65=0,NA(),RTD(\"cqg.rtd\",,\"StudyData\", \"Close(\"&$V$2&\") When Barix(\"&$V$2&\",reference:=StartOfSession)=\"&A65&\"\", \"Bar\", \"\", \"Close\",\"5\",\"0\",\"All\",,,\"False\",\"T\",\"EveryTick\"))","v":{"$error":"#N/A"}},null,{"$f":"IF(D65=0,NA(),RTD(\"cqg.rtd\",,\"StudyData\", \"Close(\"&$X$2&\") When Barix(\"&$X$2&\",reference:=StartOfSession)=\"&A65&\"\", \"Bar\", \"\", \"Close\",\"5\",\"0\",\"All\",,,\"False\",\"T\",\"EveryTick\"))","v":{"$error":"#N/A"}},null,{"$f":"IF(D65=0,NA(),RTD(\"cqg.rtd\",,\"StudyData\", \"Close(\"&$Z$2&\") When Barix(\"&$Z$2&\",reference:=StartOfSession)=\"&A65&\"\", \"Bar\", \"\", \"Close\",\"5\",\"0\",\"All\",,,\"False\",\"T\",\"EveryTick\"))","v":{"$error":"#N/A"}},null,{"$f":"IF(D65=0,NA(),RTD(\"cqg.rtd\",,\"StudyData\", \"Close(\"&$AB$2&\") When Barix(\"&$AB$2&\",reference:=StartOfSession)=\"&A65&\"\", \"Bar\", \"\", \"Close\",\"5\",\"0\",\"All\",,,\"False\",\"T\",\"EveryTick\"))","v":{"$error":"#N/A"}},null,{"$f":"IF(D65=0,NA(),RTD(\"cqg.rtd\",,\"StudyData\", \"Close(\"&$AD$2&\") When Barix(\"&$AD$2&\",reference:=StartOfSession)=\"&A65&\"\", \"Bar\", \"\", \"Close\",\"5\",\"0\",\"All\",,,\"False\",\"T\",\"EveryTick\"))","v":{"$error":"#N/A"}},null,{"$f":"IF(D65=0,NA(),RTD(\"cqg.rtd\",,\"StudyData\", \"Close(\"&$AF$2&\") When Barix(\"&$AF$2&\",reference:=StartOfSession)=\"&A65&\"\", \"Bar\", \"\", \"Close\",\"5\",\"0\",\"All\",,,\"False\",\"T\",\"EveryTick\"))","v":{"$error":"#N/A"}},null,{"$f":"IF(D65=0,NA(),RTD(\"cqg.rtd\",,\"StudyData\", \"Close(\"&$AH$2&\") When Barix(\"&$AH$2&\",reference:=StartOfSession)=\"&A65&\"\", \"Bar\", \"\", \"Close\",\"5\",\"0\",\"All\",,,\"False\",\"T\",\"EveryTick\"))","v":{"$error":"#N/A"}},null,{"$f":"IF(D65=0,NA(),RTD(\"cqg.rtd\",,\"StudyData\", \"Close(\"&$AJ$2&\") When Barix(\"&$AJ$2&\",reference:=StartOfSession)=\"&A65&\"\", \"Bar\", \"\", \"Close\",\"5\",\"0\",\"All\",,,\"False\",\"T\",\"EveryTick\"))","v":{"$error":"#N/A"}},null,{"$f":"IF(D65=0,NA(),RTD(\"cqg.rtd\",,\"StudyData\", \"Close(\"&$AL$2&\") When Barix(\"&$AL$2&\",reference:=StartOfSession)=\"&A65&\"\", \"Bar\", \"\", \"Close\",\"5\",\"0\",\"All\",,,\"False\",\"T\",\"EveryTick\"))","v":{"$error":"#N/A"}},null,{"$f":"IF(D65=0,NA(),RTD(\"cqg.rtd\",,\"StudyData\", \"Close(\"&$AN$2&\") When Barix(\"&$AN$2&\",reference:=StartOfSession)=\"&A65&\"\", \"Bar\", \"\", \"Close\",\"5\",\"0\",\"All\",,,\"False\",\"T\",\"EveryTick\"))","v":{"$error":"#N/A"}},null,{"$f":"IF(D65=0,NA(),RTD(\"cqg.rtd\",,\"StudyData\", \"Close(\"&$AN$2&\") When Barix(\"&$AN$2&\",reference:=StartOfSession)=\"&A65&\"\", \"Bar\", \"\", \"Close\",\"5\",\"0\",\"All\",,,\"False\",\"T\",\"EveryTick\"))","v":{"$error":"#N/A"}},null,{"$f":"IF(D65=0,NA(),RTD(\"cqg.rtd\",,\"StudyData\", \"Close(\"&$AR$2&\") When Barix(\"&$AR$2&\",reference:=StartOfSession)=\"&A65&\"\", \"Bar\", \"\", \"Close\",\"5\",\"0\",\"All\",,,\"False\",\"T\",\"EveryTick\"))","v":{"$error":"#N/A"}},null,{"$f":"IF(D65=0,NA(),RTD(\"cqg.rtd\",,\"StudyData\", \"Close(\"&$AT$2&\") When Barix(\"&$AT$2&\",reference:=StartOfSession)=\"&A65&\"\", \"Bar\", \"\", \"Close\",\"5\",\"0\",\"All\",,,\"False\",\"T\",\"EveryTick\"))","v":{"$error":"#N/A"}},null,{"$f":"IF(D65=0,NA(),RTD(\"cqg.rtd\",,\"StudyData\", \"Close(\"&$AV$2&\") When Barix(\"&$AV$2&\",reference:=StartOfSession)=\"&A65&\"\", \"Bar\", \"\", \"Close\",\"5\",\"0\",\"All\",,,\"False\",\"T\",\"EveryTick\"))","v":{"$error":"#N/A"}},null,{"$f":"IF(D65=0,NA(),RTD(\"cqg.rtd\",,\"StudyData\", \"Close(\"&$AX$2&\") When Barix(\"&$AX$2&\",reference:=StartOfSession)=\"&A65&\"\", \"Bar\", \"\", \"Close\",\"5\",\"0\",\"All\",,,\"False\",\"T\",\"EveryTick\"))","v":{"$error":"#N/A"}},null,{"$f":"IF(D65=0,NA(),RTD(\"cqg.rtd\",,\"StudyData\", \"Close(\"&$AZ$2&\") When Barix(\"&$AZ$2&\",reference:=StartOfSession)=\"&A65&\"\", \"Bar\", \"\", \"Close\",\"5\",\"0\",\"All\",,,\"False\",\"T\",\"EveryTick\"))","v":{"$error":"#N/A"}},null,{"$f":"IF(D65=0,NA(),RTD(\"cqg.rtd\",,\"StudyData\", \"Close(\"&$BB$2&\") When Barix(\"&$BB$2&\",reference:=StartOfSession)=\"&A65&\"\", \"Bar\", \"\", \"Close\",\"5\",\"0\",\"All\",,,\"False\",\"T\",\"EveryTick\"))","v":{"$error":"#N/A"}},null,{"$f":"IF(D65=0,NA(),RTD(\"cqg.rtd\",,\"StudyData\", \"Close(\"&$BD$2&\") When Barix(\"&$BD$2&\",reference:=StartOfSession)=\"&A65&\"\", \"Bar\", \"\", \"Close\",\"5\",\"0\",\"All\",,,\"False\",\"T\",\"EveryTick\"))","v":{"$error":"#N/A"}},null,{"$f":"IF(D65=0,NA(),RTD(\"cqg.rtd\",,\"StudyData\", \"Close(\"&$BF$2&\") When Barix(\"&$BF$2&\",reference:=StartOfSession)=\"&A65&\"\", \"Bar\", \"\", \"Close\",\"5\",\"0\",\"All\",,,\"False\",\"T\",\"EveryTick\"))","v":{"$error":"#N/A"}},null,{"$f":"IF(D65=0,NA(),RTD(\"cqg.rtd\",,\"StudyData\", \"Close(\"&$BH$2&\") When Barix(\"&$BH$2&\",reference:=StartOfSession)=\"&A65&\"\", \"Bar\", \"\", \"Close\",\"5\",\"0\",\"All\",,,\"False\",\"T\",\"EveryTick\"))","v":{"$error":"#N/A"}},null,{"$f":"IF(D65=0,NA(),RTD(\"cqg.rtd\",,\"StudyData\", \"Close(\"&$BJ$2&\") When Barix(\"&$BJ$2&\",reference:=StartOfSession)=\"&A65&\"\", \"Bar\", \"\", \"Close\",\"5\",\"0\",\"All\",,,\"False\",\"T\",\"EveryTick\"))","v":{"$error":"#N/A"}},null,{"$f":"IF(D65=0,NA(),RTD(\"cqg.rtd\",,\"StudyData\", \"Close(\"&$BL$2&\") When Barix(\"&$BL$2&\",reference:=StartOfSession)=\"&A65&\"\", \"Bar\", \"\", \"Close\",\"5\",\"0\",\"All\",,,\"False\",\"T\",\"EveryTick\"))","v":{"$error":"#N/A"}},null,{"$f":"IF(D65=0,NA(),RTD(\"cqg.rtd\",,\"StudyData\", \"Close(\"&$BN$2&\") When Barix(\"&$BN$2&\",reference:=StartOfSession)=\"&A65&\"\", \"Bar\", \"\", \"Close\",\"5\",\"0\",\"All\",,,\"False\",\"T\",\"EveryTick\"))","v":{"$error":"#N/A"}},null,{"$f":"IF(D65=0,NA(),RTD(\"cqg.rtd\",,\"StudyData\", \"Close(\"&$BP$2&\") When Barix(\"&$BP$2&\",reference:=StartOfSession)=\"&A65&\"\", \"Bar\", \"\", \"Close\",\"5\",\"0\",\"All\",,,\"False\",\"T\",\"EveryTick\"))","v":{"$error":"#N/A"}},null,{"$f":"IF(D65=0,NA(),RTD(\"cqg.rtd\",,\"StudyData\", \"Close(\"&$BR$2&\") When Barix(\"&$BR$2&\",reference:=StartOfSession)=\"&A65&\"\", \"Bar\", \"\", \"Close\",\"5\",\"0\",\"All\",,,\"False\",\"T\",\"EveryTick\"))","v":{"$error":"#N/A"}},null,{"$f":"IF(D65=0,NA(),RTD(\"cqg.rtd\",,\"StudyData\", \"Close(\"&$BT$2&\") When Barix(\"&$BT$2&\",reference:=StartOfSession)=\"&A65&\"\", \"Bar\", \"\", \"Close\",\"5\",\"0\",\"All\",,,\"False\",\"T\",\"EveryTick\"))","v":{"$error":"#N/A"}},null,{"$f":"IF(D65=0,NA(),RTD(\"cqg.rtd\",,\"StudyData\", \"Close(\"&$BV$2&\") When Barix(\"&$BV$2&\",reference:=StartOfSession)=\"&A65&\"\", \"Bar\", \"\", \"Close\",\"5\",\"0\",\"All\",,,\"False\",\"T\",\"EveryTick\"))","v":{"$error":"#N/A"}},null,{"$f":"IF(D65=0,NA(),RTD(\"cqg.rtd\",,\"StudyData\", \"Close(\"&$BX$2&\") When Barix(\"&$BX$2&\",reference:=StartOfSession)=\"&A65&\"\", \"Bar\", \"\", \"Close\",\"5\",\"0\",\"All\",,,\"False\",\"T\",\"EveryTick\"))","v":{"$error":"#N/A"}},null,{"$f":"IF(D65=0,NA(),RTD(\"cqg.rtd\",,\"StudyData\", \"Close(\"&$BZ$2&\") When Barix(\"&$BZ$2&\",reference:=StartOfSession)=\"&A65&\"\", \"Bar\", \"\", \"Close\",\"5\",\"0\",\"All\",,,\"False\",\"T\",\"EveryTick\"))","v":{"$error":"#N/A"}}]
[62,{"$f":"IF(D66=0,NA(),RTD(\"cqg.rtd\",,\"StudyData\", \"Close(\"&$B$2&\") When Barix(\"&$B$2&\",reference:=StartOfSession)=\"&A66&\"\", \"Bar\", \"\", \"Close\",\"5\",\"0\",\"All\",,,\"False\",\"T\",\"EveryTick\"))","v":{"$error":"#N/A"}},"13:40:00",0,null,{"$f":"IF(D66=0,NA(),RTD(\"cqg.rtd\",,\"StudyData\", \"Close(\"&$F$2&\") When Barix(\"&$F$2&\",reference:=StartOfSession)=\"&A66&\"\", \"Bar\", \"\", \"Close\",\"5\",\"0\",\"All\",,,\"False\",\"T\",\"EveryTick\"))","v":{"$error":"#N/A"}},null,{"$f":"IF(D66=0,NA(),RTD(\"cqg.rtd\",,\"StudyData\", \"Close(\"&$H$2&\") When Barix(\"&$H$2&\",reference:=StartOfSession)=\"&A66&\"\", \"Bar\", \"\", \"Close\",\"5\",\"0\",\"All\",,,\"False\",\"T\",\"EveryTick\"))","v":{"$error":"#N/A"}},null,{"$f":"IF(D66=0,NA(),RTD(\"cqg.rtd\",,\"StudyData\", \"Close(\"&$J$2&\") When Barix(\"&$J$2&\",reference:=StartOfSession)=\"&A66&\"\", \"Bar\", \"\", \"Close\",\"5\",\"0\",\"All\",,,\"False\",\"T\",\"EveryTick\"))","v":{"$error":"#N/A"}},null,{"$f":"IF(D66=0,NA(),RTD(\"cqg.rtd\",,\"StudyData\", \"Close(\"&$L$2&\") When Barix(\"&$L$2&\",reference:=StartOfSession)=\"&A66&\"\", \"Bar\", \"\", \"Close\",\"5\",\"0\",\"All\",,,\"False\",\"T\",\"EveryTick\"))","v":{"$error":"#N/A"}},null,{"$f":"IF(D66=0,NA(),RTD(\"cqg.rtd\",,\"StudyData\", \"Close(\"&$N$2&\") When Barix(\"&$N$2&\",reference:=StartOfSession)=\"&A66&\"\", \"Bar\", \"\", \"Close\",\"5\",\"0\",\"All\",,,\"False\",\"T\",\"EveryTick\"))","v":{"$error":"#N/A"}},null,{"$f":"IF(D66=0,NA(),RTD(\"cqg.rtd\",,\"StudyData\", \"Close(\"&$P$2&\") When Barix(\"&$P$2&\",reference:=StartOfSession)=\"&A66&\"\", \"Bar\", \"\", \"Close\",\"5\",\"0\",\"All\",,,\"False\",\"T\",\"EveryTick\"))","v":{"$error":"#N/A"}},null,{"$f":"IF(D66=0,NA(),RTD(\"cqg.rtd\",,\"StudyData\", \"Close(\"&$R$2&\") When Barix(\"&$R$2&\",reference:=StartOfSession)=\"&A66&\"\", \"Bar\", \"\", \"Close\",\"5\",\"0\",\"All\",,,\"False\",\"T\",\"EveryTick\"))","v":{"$error":"#N/A"}},null,{"$f":"IF(D66=0,NA(),RTD(\"cqg.rtd\",,\"StudyData\", \"Close(\"&$T$2&\") When Barix(\"&$T$2&\",reference:=StartOfSession)=\"&A66&\"\", \"Bar\", \"\", \"Close\",\"5\",\"0\",\"All\",,,\"False\",\"T\",\"EveryTick\"))","v":{"$error":"#N/A"}},null,{"$f":"IF(D66=0,NA(),RTD(\"cqg.rtd\",,\"StudyData\", \"Close(\"&$V$2&\") When Barix(\"&$V$2&\",reference:=StartOfSession)=\"&A66&\"\", \"Bar\", \"\", \"Close\",\"5\",\"0\",\"All\",,,\"False\",\"T\",\"EveryTick\"))","v":{"$error":"#N/A"}},null,{"$f":"IF(D66=0,NA(),RTD(\"cqg.rtd\",,\"StudyData\", \"Close(\"&$X$2&\") When Barix(\"&$X$2&\",reference:=StartOfSession)=\"&A66&\"\", \"Bar\", \"\", \"Close\",\"5\",\"0\",\"All\",,,\"False\",\"T\",\"EveryTick\"))","v":{"$error":"#N/A"}},null,{"$f":"IF(D66=0,NA(),RTD(\"cqg.rtd\",,\"StudyData\", \"Close(\"&$Z$2&\") When Barix(\"&$Z$2&\",reference:=StartOfSession)=\"&A66&\"\", \"Bar\", \"\", \"Close\",\"5\",\"0\",\"All\",,,\"False\",\"T\",\"EveryTick\"))","v":{"$error":"#N/A"}},null,{"$f":"IF(D66=0,NA(),RTD(\"cqg.rtd\",,\"StudyData\", \"Close(\"&$AB$2&\") When Barix(\"&$AB$2&\",reference:=StartOfSession)=\"&A66&\"\", \"Bar\", \"\", \"Close\",\"5\",\"0\",\"All\",,,\"False\",\"T\",\"EveryTick\"))","v":{"$error":"#N/A"}},null,{"$f":"IF(D66=0,NA(),RTD(\"cqg.rtd\",,\"StudyData\", \"Close(\"&$AD$2&\") When Barix(\"&$AD$2&\",reference:=StartOfSession)=\"&A66&\"\", \"Bar\", \"\", \"Close\",\"5\",\"0\",\"All\",,,\"False\",\"T\",\"EveryTick\"))","v":{"$error":"#N/A"}},null,{"$f":"IF(D66=0,NA(),RTD(\"cqg.rtd\",,\"StudyData\", \"Close(\"&$AF$2&\") When Barix(\"&$AF$2&\",reference:=StartOfSession)=\"&A66&\"\", \"Bar\", \"\", \"Close\",\"5\",\"0\",\"All\",,,\"False\",\"T\",\"EveryTick\"))","v":{"$error":"#N/A"}},null,{"$f":"IF(D66=0,NA(),RTD(\"cqg.rtd\",,\"StudyData\", \"Close(\"&$AH$2&\") When Barix(\"&$AH$2&\",reference:=StartOfSession)=\"&A66&\"\", \"Bar\", \"\", \"Close\",\"5\",\"0\",\"All\",,,\"False\",\"T\",\"EveryTick\"))","v":{"$error":"#N/A"}},null,{"$f":"IF(D66=0,NA(),RTD(\"cqg.rtd\",,\"StudyData\", \"Close(\"&$AJ$2&\") When Barix(\"&$AJ$2&\",reference:=StartOfSession)=\"&A66&\"\", \"Bar\", \"\", \"Close\",\"5\",\"0\",\"All\",,,\"False\",\"T\",\"EveryTick\"))","v":{"$error":"#N/A"}},null,{"$f":"IF(D66=0,NA(),RTD(\"cqg.rtd\",,\"StudyData\", \"Close(\"&$AL$2&\") When Barix(\"&$AL$2&\",reference:=StartOfSession)=\"&A66&\"\", \"Bar\", \"\", \"Close\",\"5\",\"0\",\"All\",,,\"False\",\"T\",\"EveryTick\"))","v":{"$error":"#N/A"}},null,{"$f":"IF(D66=0,NA(),RTD(\"cqg.rtd\",,\"StudyData\", \"Close(\"&$AN$2&\") When Barix(\"&$AN$2&\",reference:=StartOfSession)=\"&A66&\"\", \"Bar\", \"\", \"Close\",\"5\",\"0\",\"All\",,,\"False\",\"T\",\"EveryTick\"))","v":{"$error":"#N/A"}},null,{"$f":"IF(D66=0,NA(),RTD(\"cqg.rtd\",,\"StudyData\", \"Close(\"&$AN$2&\") When Barix(\"&$AN$2&\",reference:=StartOfSession)=\"&A66&\"\", \"Bar\", \"\", \"Close\",\"5\",\"0\",\"All\",,,\"False\",\"T\",\"EveryTick\"))","v":{"$error":"#N/A"}},null,{"$f":"IF(D66=0,NA(),RTD(\"cqg.rtd\",,\"StudyData\", \"Close(\"&$AR$2&\") When Barix(\"&$AR$2&\",reference:=StartOfSession)=\"&A66&\"\", \"Bar\", \"\", \"Close\",\"5\",\"0\",\"All\",,,\"False\",\"T\",\"EveryTick\"))","v":{"$error":"#N/A"}},null,{"$f":"IF(D66=0,NA(),RTD(\"cqg.rtd\",,\"StudyData\", \"Close(\"&$AT$2&\") When Barix(\"&$AT$2&\",reference:=StartOfSession)=\"&A66&\"\", \"Bar\", \"\", \"Close\",\"5\",\"0\",\"All\",,,\"False\",\"T\",\"EveryTick\"))","v":{"$error":"#N/A"}},null,{"$f":"IF(D66=0,NA(),RTD(\"cqg.rtd\",,\"StudyData\", \"Close(\"&$AV$2&\") When Barix(\"&$AV$2&\",reference:=StartOfSession)=\"&A66&\"\", \"Bar\", \"\", \"Close\",\"5\",\"0\",\"All\",,,\"False\",\"T\",\"EveryTick\"))","v":{"$error":"#N/A"}},null,{"$f":"IF(D66=0,NA(),RTD(\"cqg.rtd\",,\"StudyData\", \"Close(\"&$AX$2&\") When Barix(\"&$AX$2&\",reference:=StartOfSession)=\"&A66&\"\", \"Bar\", \"\", \"Close\",\"5\",\"0\",\"All\",,,\"False\",\"T\",\"EveryTick\"))","v":{"$error":"#N/A"}},null,{"$f":"IF(D66=0,NA(),RTD(\"cqg.rtd\",,\"StudyData\", \"Close(\"&$AZ$2&\") When Barix(\"&$AZ$2&\",reference:=StartOfSession)=\"&A66&\"\", \"Bar\", \"\", \"Close\",\"5\",\"0\",\"All\",,,\"False\",\"T\",\"EveryTick\"))","v":{"$error":"#N/A"}},null,{"$f":"IF(D66=0,NA(),RTD(\"cqg.rtd\",,\"StudyData\", \"Close(\"&$BB$2&\") When Barix(\"&$BB$2&\",reference:=StartOfSession)=\"&A66&\"\", \"Bar\", \"\", \"Close\",\"5\",\"0\",\"All\",,,\"False\",\"T\",\"EveryTick\"))","v":{"$error":"#N/A"}},null,{"$f":"IF(D66=0,NA(),RTD(\"cqg.rtd\",,\"StudyData\", \"Close(\"&$BD$2&\") When Barix(\"&$BD$2&\",reference:=StartOfSession)=\"&A66&\"\", \"Bar\", \"\", \"Close\",\"5\",\"0\",\"All\",,,\"False\",\"T\",\"EveryTick\"))","v":{"$error":"#N/A"}},null,{"$f":"IF(D66=0,NA(),RTD(\"cqg.rtd\",,\"StudyData\", \"Close(\"&$BF$2&\") When Barix(\"&$BF$2&\",reference:=StartOfSession)=\"&A66&\"\", \"Bar\", \"\", \"Close\",\"5\",\"0\",\"All\",,,\"False\",\"T\",\"EveryTick\"))","v":{"$error":"#N/A"}},null,{"$f":"IF(D66=0,NA(),RTD(\"cqg.rtd\",,\"StudyData\", \"Close(\"&$BH$2&\") When Barix(\"&$BH$2&\",reference:=StartOfSession)=\"&A66&\"\", \"Bar\", \"\", \"Close\",\"5\",\"0\",\"All\",,,\"False\",\"T\",\"EveryTick\"))","v":{"$error":"#N/A"}},null,{"$f":"IF(D66=0,NA(),RTD(\"cqg.rtd\",,\"StudyData\", \"Close(\"&$BJ$2&\") When Barix(\"&$BJ$2&\",reference:=StartOfSession)=\"&A66&\"\", \"Bar\", \"\", \"Close\",\"5\",\"0\",\"All\",,,\"False\",\"T\",\"EveryTick\"))","v":{"$error":"#N/A"}},null,{"$f":"IF(D66=0,NA(),RTD(\"cqg.rtd\",,\"StudyData\", \"Close(\"&$BL$2&\") When Barix(\"&$BL$2&\",reference:=StartOfSession)=\"&A66&\"\", \"Bar\", \"\", \"Close\",\"5\",\"0\",\"All\",,,\"False\",\"T\",\"EveryTick\"))","v":{"$error":"#N/A"}},null,{"$f":"IF(D66=0,NA(),RTD(\"cqg.rtd\",,\"StudyData\", \"Close(\"&$BN$2&\") When Barix(\"&$BN$2&\",reference:=StartOfSession)=\"&A66&\"\", \"Bar\", \"\", \"Close\",\"5\",\"0\",\"All\",,,\"False\",\"T\",\"EveryTick\"))","v":{"$error":"#N/A"}},null,{"$f":"IF(D66=0,NA(),RTD(\"cqg.rtd\",,\"StudyData\", \"Close(\"&$BP$2&\") When Barix(\"&$BP$2&\",reference:=StartOfSession)=\"&A66&\"\", \"Bar\", \"\", \"Close\",\"5\",\"0\",\"All\",,,\"False\",\"T\",\"EveryTick\"))","v":{"$error":"#N/A"}},null,{"$f":"IF(D66=0,NA(),RTD(\"cqg.rtd\",,\"StudyData\", \"Close(\"&$BR$2&\") When Barix(\"&$BR$2&\",reference:=StartOfSession)=\"&A66&\"\", \"Bar\", \"\", \"Close\",\"5\",\"0\",\"All\",,,\"False\",\"T\",\"EveryTick\"))","v":{"$error":"#N/A"}},null,{"$f":"IF(D66=0,NA(),RTD(\"cqg.rtd\",,\"StudyData\", \"Close(\"&$BT$2&\") When Barix(\"&$BT$2&\",reference:=StartOfSession)=\"&A66&\"\", \"Bar\", \"\", \"Close\",\"5\",\"0\",\"All\",,,\"False\",\"T\",\"EveryTick\"))","v":{"$error":"#N/A"}},null,{"$f":"IF(D66=0,NA(),RTD(\"cqg.rtd\",,\"StudyData\", \"Close(\"&$BV$2&\") When Barix(\"&$BV$2&\",reference:=StartOfSession)=\"&A66&\"\", \"Bar\", \"\", \"Close\",\"5\",\"0\",\"All\",,,\"False\",\"T\",\"EveryTick\"))","v":{"$error":"#N/A"}},null,{"$f":"IF(D66=0,NA(),RTD(\"cqg.rtd\",,\"StudyData\", \"Close(\"&$BX$2&\") When Barix(\"&$BX$2&\",reference:=StartOfSession)=\"&A66&\"\", \"Bar\", \"\", \"Close\",\"5\",\"0\",\"All\",,,\"False\",\"T\",\"EveryTick\"))","v":{"$error":"#N/A"}},null,{"$f":"IF(D66=0,NA(),RTD(\"cqg.rtd\",,\"StudyData\", \"Close(\"&$BZ$2&\") When Barix(\"&$BZ$2&\",reference:=StartOfSession)=\"&A66&\"\", \"Bar\", \"\", \"Close\",\"5\",\"0\",\"All\",,,\"False\",\"T\",\"EveryTick\"))","v":{"$error":"#N/A"}}]
[63,{"$f":"IF(D67=0,NA(),RTD(\"cqg.rtd\",,\"StudyData\", \"Close(\"&$B$2&\") When Barix(\"&$B$2&\",reference:=StartOfSession)=\"&A67&\"\", \"Bar\", \"\", \"Close\",\"5\",\"0\",\"All\",,,\"False\",\"T\",\"EveryTick\"))","v":{"$error":"#N/A"}},"13:45:00",0,null,{"$f":"IF(D67=0,NA(),RTD(\"cqg.rtd\",,\"StudyData\", \"Close(\"&$F$2&\") When Barix(\"&$F$2&\",reference:=StartOfSession)=\"&A67&\"\", \"Bar\", \"\", \"Close\",\"5\",\"0\",\"All\",,,\"False\",\"T\",\"EveryTick\"))","v":{"$error":"#N/A"}},null,{"$f":"IF(D67=0,NA(),RTD(\"cqg.rtd\",,\"StudyData\", \"Close(\"&$H$2&\") When Barix(\"&$H$2&\",reference:=StartOfSession)=\"&A67&\"\", \"Bar\", \"\", \"Close\",\"5\",\"0\",\"All\",,,\"False\",\"T\",\"EveryTick\"))","v":{"$error":"#N/A"}},null,{"$f":"IF(D67=0,NA(),RTD(\"cqg.rtd\",,\"StudyData\", \"Close(\"&$J$2&\") When Barix(\"&$J$2&\",reference:=StartOfSession)=\"&A67&\"\", \"Bar\", \"\", \"Close\",\"5\",\"0\",\"All\",,,\"False\",\"T\",\"EveryTick\"))","v":{"$error":"#N/A"}},null,{"$f":"IF(D67=0,NA(),RTD(\"cqg.rtd\",,\"StudyData\", \"Close(\"&$L$2&\") When Barix(\"&$L$2&\",reference:=StartOfSession)=\"&A67&\"\", \"Bar\", \"\", \"Close\",\"5\",\"0\",\"All\",,,\"False\",\"T\",\"EveryTick\"))","v":{"$error":"#N/A"}},null,{"$f":"IF(D67=0,NA(),RTD(\"cqg.rtd\",,\"StudyData\", \"Close(\"&$N$2&\") When Barix(\"&$N$2&\",reference:=StartOfSession)=\"&A67&\"\", \"Bar\", \"\", \"Close\",\"5\",\"0\",\"All\",,,\"False\",\"T\",\"EveryTick\"))","v":{"$error":"#N/A"}},null,{"$f":"IF(D67=0,NA(),RTD(\"cqg.rtd\",,\"StudyData\", \"Close(\"&$P$2&\") When Barix(\"&$P$2&\",reference:=StartOfSession)=\"&A67&\"\", \"Bar\", \"\", \"Close\",\"5\",\"0\",\"All\",,,\"False\",\"T\",\"EveryTick\"))","v":{"$error":"#N/A"}},null,{"$f":"IF(D67=0,NA(),RTD(\"cqg.rtd\",,\"StudyData\", \"Close(\"&$R$2&\") When Barix(\"&$R$2&\",reference:=StartOfSession)=\"&A67&\"\", \"Bar\", \"\", \"Close\",\"5\",\"0\",\"All\",,,\"False\",\"T\",\"EveryTick\"))","v":{"$error":"#N/A"}},null,{"$f":"IF(D67=0,NA(),RTD(\"cqg.rtd\",,\"StudyData\", \"Close(\"&$T$2&\") When Barix(\"&$T$2&\",reference:=StartOfSession)=\"&A67&\"\", \"Bar\", \"\", \"Close\",\"5\",\"0\",\"All\",,,\"False\",\"T\",\"EveryTick\"))","v":{"$error":"#N/A"}},null,{"$f":"IF(D67=0,NA(),RTD(\"cqg.rtd\",,\"StudyData\", \"Close(\"&$V$2&\") When Barix(\"&$V$2&\",reference:=StartOfSession)=\"&A67&\"\", \"Bar\", \"\", \"Close\",\"5\",\"0\",\"All\",,,\"False\",\"T\",\"EveryTick\"))","v":{"$error":"#N/A"}},null,{"$f":"IF(D67=0,NA(),RTD(\"cqg.rtd\",,\"StudyData\", \"Close(\"&$X$2&\") When Barix(\"&$X$2&\",reference:=StartOfSession)=\"&A67&\"\", \"Bar\", \"\", \"Close\",\"5\",\"0\",\"All\",,,\"False\",\"T\",\"EveryTick\"))","v":{"$error":"#N/A"}},null,{"$f":"IF(D67=0,NA(),RTD(\"cqg.rtd\",,\"StudyData\", \"Close(\"&$Z$2&\") When Barix(\"&$Z$2&\",reference:=StartOfSession)=\"&A67&\"\", \"Bar\", \"\", \"Close\",\"5\",\"0\",\"All\",,,\"False\",\"T\",\"EveryTick\"))","v":{"$error":"#N/A"}},null,{"$f":"IF(D67=0,NA(),RTD(\"cqg.rtd\",,\"StudyData\", \"Close(\"&$AB$2&\") When Barix(\"&$AB$2&\",reference:=StartOfSession)=\"&A67&\"\", \"Bar\", \"\", \"Close\",\"5\",\"0\",\"All\",,,\"False\",\"T\",\"EveryTick\"))","v":{"$error":"#N/A"}},null,{"$f":"IF(D67=0,NA(),RTD(\"cqg.rtd\",,\"StudyData\", \"Close(\"&$AD$2&\") When Barix(\"&$AD$2&\",reference:=StartOfSession)=\"&A67&\"\", \"Bar\", \"\", \"Close\",\"5\",\"0\",\"All\",,,\"False\",\"T\",\"EveryTick\"))","v":{"$error":"#N/A"}},null,{"$f":"IF(D67=0,NA(),RTD(\"cqg.rtd\",,\"StudyData\", \"Close(\"&$AF$2&\") When Barix(\"&$AF$2&\",reference:=StartOfSession)=\"&A67&\"\", \"Bar\", \"\", \"Close\",\"5\",\"0\",\"All\",,,\"False\",\"T\",\"EveryTick\"))","v":{"$error":"#N/A"}},null,{"$f":"IF(D67=0,NA(),RTD(\"cqg.rtd\",,\"StudyData\", \"Close(\"&$AH$2&\") When Barix(\"&$AH$2&\",reference:=StartOfSession)=\"&A67&\"\", \"Bar\", \"\", \"Close\",\"5\",\"0\",\"All\",,,\"False\",\"T\",\"EveryTick\"))","v":{"$error":"#N/A"}},null,{"$f":"IF(D67=0,NA(),RTD(\"cqg.rtd\",,\"StudyData\", \"Close(\"&$AJ$2&\") When Barix(\"&$AJ$2&\",reference:=StartOfSession)=\"&A67&\"\", \"Bar\", \"\", \"Close\",\"5\",\"0\",\"All\",,,\"False\",\"T\",\"EveryTick\"))","v":{"$error":"#N/A"}},null,{"$f":"IF(D67=0,NA(),RTD(\"cqg.rtd\",,\"StudyData\", \"Close(\"&$AL$2&\") When Barix(\"&$AL$2&\",reference:=StartOfSession)=\"&A67&\"\", \"Bar\", \"\", \"Close\",\"5\",\"0\",\"All\",,,\"False\",\"T\",\"EveryTick\"))","v":{"$error":"#N/A"}},null,{"$f":"IF(D67=0,NA(),RTD(\"cqg.rtd\",,\"StudyData\", \"Close(\"&$AN$2&\") When Barix(\"&$AN$2&\",reference:=StartOfSession)=\"&A67&\"\", \"Bar\", \"\", \"Close\",\"5\",\"0\",\"All\",,,\"False\",\"T\",\"EveryTick\"))","v":{"$error":"#N/A"}},null,{"$f":"IF(D67=0,NA(),RTD(\"cqg.rtd\",,\"StudyData\", \"Close(\"&$AN$2&\") When Barix(\"&$AN$2&\",reference:=StartOfSession)=\"&A67&\"\", \"Bar\", \"\", \"Close\",\"5\",\"0\",\"All\",,,\"False\",\"T\",\"EveryTick\"))","v":{"$error":"#N/A"}},null,{"$f":"IF(D67=0,NA(),RTD(\"cqg.rtd\",,\"StudyData\", \"Close(\"&$AR$2&\") When Barix(\"&$AR$2&\",reference:=StartOfSession)=\"&A67&\"\", \"Bar\", \"\", \"Close\",\"5\",\"0\",\"All\",,,\"False\",\"T\",\"EveryTick\"))","v":{"$error":"#N/A"}},null,{"$f":"IF(D67=0,NA(),RTD(\"cqg.rtd\",,\"StudyData\", \"Close(\"&$AT$2&\") When Barix(\"&$AT$2&\",reference:=StartOfSession)=\"&A67&\"\", \"Bar\", \"\", \"Close\",\"5\",\"0\",\"All\",,,\"False\",\"T\",\"EveryTick\"))","v":{"$error":"#N/A"}},null,{"$f":"IF(D67=0,NA(),RTD(\"cqg.rtd\",,\"StudyData\", \"Close(\"&$AV$2&\") When Barix(\"&$AV$2&\",reference:=StartOfSession)=\"&A67&\"\", \"Bar\", \"\", \"Close\",\"5\",\"0\",\"All\",,,\"False\",\"T\",\"EveryTick\"))","v":{"$error":"#N/A"}},null,{"$f":"IF(D67=0,NA(),RTD(\"cqg.rtd\",,\"StudyData\", \"Close(\"&$AX$2&\") When Barix(\"&$AX$2&\",reference:=StartOfSession)=\"&A67&\"\", \"Bar\", \"\", \"Close\",\"5\",\"0\",\"All\",,,\"False\",\"T\",\"EveryTick\"))","v":{"$error":"#N/A"}},null,{"$f":"IF(D67=0,NA(),RTD(\"cqg.rtd\",,\"StudyData\", \"Close(\"&$AZ$2&\") When Barix(\"&$AZ$2&\",reference:=StartOfSession)=\"&A67&\"\", \"Bar\", \"\", \"Close\",\"5\",\"0\",\"All\",,,\"False\",\"T\",\"EveryTick\"))","v":{"$error":"#N/A"}},null,{"$f":"IF(D67=0,NA(),RTD(\"cqg.rtd\",,\"StudyData\", \"Close(\"&$BB$2&\") When Barix(\"&$BB$2&\",reference:=StartOfSession)=\"&A67&\"\", \"Bar\", \"\", \"Close\",\"5\",\"0\",\"All\",,,\"False\",\"T\",\"EveryTick\"))","v":{"$error":"#N/A"}},null,{"$f":"IF(D67=0,NA(),RTD(\"cqg.rtd\",,\"StudyData\", \"Close(\"&$BD$2&\") When Barix(\"&$BD$2&\",reference:=StartOfSession)=\"&A67&\"\", \"Bar\", \"\", \"Close\",\"5\",\"0\",\"All\",,,\"False\",\"T\",\"EveryTick\"))","v":{"$error":"#N/A"}},null,{"$f":"IF(D67=0,NA(),RTD(\"cqg.rtd\",,\"StudyData\", \"Close(\"&$BF$2&\") When Barix(\"&$BF$2&\",reference:=StartOfSession)=\"&A67&\"\", \"Bar\", \"\", \"Close\",\"5\",\"0\",\"All\",,,\"False\",\"T\",\"EveryTick\"))","v":{"$error":"#N/A"}},null,{"$f":"IF(D67=0,NA(),RTD(\"cqg.rtd\",,\"StudyData\", \"Close(\"&$BH$2&\") When Barix(\"&$BH$2&\",reference:=StartOfSession)=\"&A67&\"\", \"Bar\", \"\", \"Close\",\"5\",\"0\",\"All\",,,\"False\",\"T\",\"EveryTick\"))","v":{"$error":"#N/A"}},null,{"$f":"IF(D67=0,NA(),RTD(\"cqg.rtd\",,\"StudyData\", \"Close(\"&$BJ$2&\") When Barix(\"&$BJ$2&\",reference:=StartOfSession)=\"&A67&\"\", \"Bar\", \"\", \"Close\",\"5\",\"0\",\"All\",,,\"False\",\"T\",\"EveryTick\"))","v":{"$error":"#N/A"}},null,{"$f":"IF(D67=0,NA(),RTD(\"cqg.rtd\",,\"StudyData\", \"Close(\"&$BL$2&\") When Barix(\"&$BL$2&\",reference:=StartOfSession)=\"&A67&\"\", \"Bar\", \"\", \"Close\",\"5\",\"0\",\"All\",,,\"False\",\"T\",\"EveryTick\"))","v":{"$error":"#N/A"}},null,{"$f":"IF(D67=0,NA(),RTD(\"cqg.rtd\",,\"StudyData\", \"Close(\"&$BN$2&\") When Barix(\"&$BN$2&\",reference:=StartOfSession)=\"&A67&\"\", \"Bar\", \"\", \"Close\",\"5\",\"0\",\"All\",,,\"False\",\"T\",\"EveryTick\"))","v":{"$error":"#N/A"}},null,{"$f":"IF(D67=0,NA(),RTD(\"cqg.rtd\",,\"StudyData\", \"Close(\"&$BP$2&\") When Barix(\"&$BP$2&\",reference:=StartOfSession)=\"&A67&\"\", \"Bar\", \"\", \"Close\",\"5\",\"0\",\"All\",,,\"False\",\"T\",\"EveryTick\"))","v":{"$error":"#N/A"}},null,{"$f":"IF(D67=0,NA(),RTD(\"cqg.rtd\",,\"StudyData\", \"Close(\"&$BR$2&\") When Barix(\"&$BR$2&\",reference:=StartOfSession)=\"&A67&\"\", \"Bar\", \"\", \"Close\",\"5\",\"0\",\"All\",,,\"False\",\"T\",\"EveryTick\"))","v":{"$error":"#N/A"}},null,{"$f":"IF(D67=0,NA(),RTD(\"cqg.rtd\",,\"StudyData\", \"Close(\"&$BT$2&\") When Barix(\"&$BT$2&\",reference:=StartOfSession)=\"&A67&\"\", \"Bar\", \"\", \"Close\",\"5\",\"0\",\"All\",,,\"False\",\"T\",\"EveryTick\"))","v":{"$error":"#N/A"}},null,{"$f":"IF(D67=0,NA(),RTD(\"cqg.rtd\",,\"StudyData\", \"Close(\"&$BV$2&\") When Barix(\"&$BV$2&\",reference:=StartOfSession)=\"&A67&\"\", \"Bar\", \"\", \"Close\",\"5\",\"0\",\"All\",,,\"False\",\"T\",\"EveryTick\"))","v":{"$error":"#N/A"}},null,{"$f":"IF(D67=0,NA(),RTD(\"cqg.rtd\",,\"StudyData\", \"Close(\"&$BX$2&\") When Barix(\"&$BX$2&\",reference:=StartOfSession)=\"&A67&\"\", \"Bar\", \"\", \"Close\",\"5\",\"0\",\"All\",,,\"False\",\"T\",\"EveryTick\"))","v":{"$error":"#N/A"}},null,{"$f":"IF(D67=0,NA(),RTD(\"cqg.rtd\",,\"StudyData\", \"Close(\"&$BZ$2&\") When Barix(\"&$BZ$2&\",reference:=StartOfSession)=\"&A67&\"\", \"Bar\", \"\", \"Close\",\"5\",\"0\",\"All\",,,\"False\",\"T\",\"EveryTick\"))","v":{"$error":"#N/A"}}]
[64,{"$f":"IF(D68=0,NA(),RTD(\"cqg.rtd\",,\"StudyData\", \"Close(\"&$B$2&\") When Barix(\"&$B$2&\",reference:=StartOfSession)=\"&A68&\"\", \"Bar\", \"\", \"Close\",\"5\",\"0\",\"All\",,,\"False\",\"T\",\"EveryTick\"))","v":{"$error":"#N/A"}},"13:50:00",0,null,{"$f":"IF(D68=0,NA(),RTD(\"cqg.rtd\",,\"StudyData\", \"Close(\"&$F$2&\") When Barix(\"&$F$2&\",reference:=StartOfSession)=\"&A68&\"\", \"Bar\", \"\", \"Close\",\"5\",\"0\",\"All\",,,\"False\",\"T\",\"EveryTick\"))","v":{"$error":"#N/A"}},null,{"$f":"IF(D68=0,NA(),RTD(\"cqg.rtd\",,\"StudyData\", \"Close(\"&$H$2&\") When Barix(\"&$H$2&\",reference:=StartOfSession)=\"&A68&\"\", \"Bar\", \"\", \"Close\",\"5\",\"0\",\"All\",,,\"False\",\"T\",\"EveryTick\"))","v":{"$error":"#N/A"}},null,{"$f":"IF(D68=0,NA(),RTD(\"cqg.rtd\",,\"StudyData\", \"Close(\"&$J$2&\") When Barix(\"&$J$2&\",reference:=StartOfSession)=\"&A68&\"\", \"Bar\", \"\", \"Close\",\"5\",\"0\",\"All\",,,\"False\",\"T\",\"EveryTick\"))","v":{"$error":"#N/A"}},null,{"$f":"IF(D68=0,NA(),RTD(\"cqg.rtd\",,\"StudyData\", \"Close(\"&$L$2&\") When Barix(\"&$L$2&\",reference:=StartOfSession)=\"&A68&\"\", \"Bar\", \"\", \"Close\",\"5\",\"0\",\"All\",,,\"False\",\"T\",\"EveryTick\"))","v":{"$error":"#N/A"}},null,{"$f":"IF(D68=0,NA(),RTD(\"cqg.rtd\",,\"StudyData\", \"Close(\"&$N$2&\") When Barix(\"&$N$2&\",reference:=StartOfSession)=\"&A68&\"\", \"Bar\", \"\", \"Close\",\"5\",\"0\",\"All\",,,\"False\",\"T\",\"EveryTick\"))","v":{"$error":"#N/A"}},null,{"$f":"IF(D68=0,NA(),RTD(\"cqg.rtd\",,\"StudyData\", \"Close(\"&$P$2&\") When Barix(\"&$P$2&\",reference:=StartOfSession)=\"&A68&\"\", \"Bar\", \"\", \"Close\",\"5\",\"0\",\"All\",,,\"False\",\"T\",\"EveryTick\"))","v":{"$error":"#N/A"}},null,{"$f":"IF(D68=0,NA(),RTD(\"cqg.rtd\",,\"StudyData\", \"Close(\"&$R$2&\") When Barix(\"&$R$2&\",reference:=StartOfSession)=\"&A68&\"\", \"Bar\", \"\", \"Close\",\"5\",\"0\",\"All\",,,\"False\",\"T\",\"EveryTick\"))","v":{"$error":"#N/A"}},null,{"$f":"IF(D68=0,NA(),RTD(\"cqg.rtd\",,\"StudyData\", \"Close(\"&$T$2&\") When Barix(\"&$T$2&\",reference:=StartOfSession)=\"&A68&\"\", \"Bar\", \"\", \"Close\",\"5\",\"0\",\"All\",,,\"False\",\"T\",\"EveryTick\"))","v":{"$error":"#N/A"}},null,{"$f":"IF(D68=0,NA(),RTD(\"cqg.rtd\",,\"StudyData\", \"Close(\"&$V$2&\") When Barix(\"&$V$2&\",reference:=StartOfSession)=\"&A68&\"\", \"Bar\", \"\", \"Close\",\"5\",\"0\",\"All\",,,\"False\",\"T\",\"EveryTick\"))","v":{"$error":"#N/A"}},null,{"$f":"IF(D68=0,NA(),RTD(\"cqg.rtd\",,\"StudyData\", \"Close(\"&$X$2&\") When Barix(\"&$X$2&\",reference:=StartOfSession)=\"&A68&\"\", \"Bar\", \"\", \"Close\",\"5\",\"0\",\"All\",,,\"False\",\"T\",\"EveryTick\"))","v":{"$error":"#N/A"}},null,{"$f":"IF(D68=0,NA(),RTD(\"cqg.rtd\",,\"StudyData\", \"Close(\"&$Z$2&\") When Barix(\"&$Z$2&\",reference:=StartOfSession)=\"&A68&\"\", \"Bar\", \"\", \"Close\",\"5\",\"0\",\"All\",,,\"False\",\"T\",\"EveryTick\"))","v":{"$error":"#N/A"}},null,{"$f":"IF(D68=0,NA(),RTD(\"cqg.rtd\",,\"StudyData\", \"Close(\"&$AB$2&\") When Barix(\"&$AB$2&\",reference:=StartOfSession)=\"&A68&\"\", \"Bar\", \"\", \"Close\",\"5\",\"0\",\"All\",,,\"False\",\"T\",\"EveryTick\"))","v":{"$error":"#N/A"}},null,{"$f":"IF(D68=0,NA(),RTD(\"cqg.rtd\",,\"StudyData\", \"Close(\"&$AD$2&\") When Barix(\"&$AD$2&\",reference:=StartOfSession)=\"&A68&\"\", \"Bar\", \"\", \"Close\",\"5\",\"0\",\"All\",,,\"False\",\"T\",\"EveryTick\"))","v":{"$error":"#N/A"}},null,{"$f":"IF(D68=0,NA(),RTD(\"cqg.rtd\",,\"StudyData\", \"Close(\"&$AF$2&\") When Barix(\"&$AF$2&\",reference:=StartOfSession)=\"&A68&\"\", \"Bar\", \"\", \"Close\",\"5\",\"0\",\"All\",,,\"False\",\"T\",\"EveryTick\"))","v":{"$error":"#N/A"}},null,{"$f":"IF(D68=0,NA(),RTD(\"cqg.rtd\",,\"StudyData\", \"Close(\"&$AH$2&\") When Barix(\"&$AH$2&\",reference:=StartOfSession)=\"&A68&\"\", \"Bar\", \"\", \"Close\",\"5\",\"0\",\"All\",,,\"False\",\"T\",\"EveryTick\"))","v":{"$error":"#N/A"}},null,{"$f":"IF(D68=0,NA(),RTD(\"cqg.rtd\",,\"StudyData\", \"Close(\"&$AJ$2&\") When Barix(\"&$AJ$2&\",reference:=StartOfSession)=\"&A68&\"\", \"Bar\", \"\", \"Close\",\"5\",\"0\",\"All\",,,\"False\",\"T\",\"EveryTick\"))","v":{"$error":"#N/A"}},null,{"$f":"IF(D68=0,NA(),RTD(\"cqg.rtd\",,\"StudyData\", \"Close(\"&$AL$2&\") When Barix(\"&$AL$2&\",reference:=StartOfSession)=\"&A68&\"\", \"Bar\", \"\", \"Close\",\"5\",\"0\",\"All\",,,\"False\",\"T\",\"EveryTick\"))","v":{"$error":"#N/A"}},null,{"$f":"IF(D68=0,NA(),RTD(\"cqg.rtd\",,\"StudyData\", \"Close(\"&$AN$2&\") When Barix(\"&$AN$2&\",reference:=StartOfSession)=\"&A68&\"\", \"Bar\", \"\", \"Close\",\"5\",\"0\",\"All\",,,\"False\",\"T\",\"EveryTick\"))","v":{"$error":"#N/A"}},null,{"$f":"IF(D68=0,NA(),RTD(\"cqg.rtd\",,\"StudyData\", \"Close(\"&$AN$2&\") When Barix(\"&$AN$2&\",reference:=StartOfSession)=\"&A68&\"\", \"Bar\", \"\", \"Close\",\"5\",\"0\",\"All\",,,\"False\",\"T\",\"EveryTick\"))","v":{"$error":"#N/A"}},null,{"$f":"IF(D68=0,NA(),RTD(\"cqg.rtd\",,\"StudyData\", \"Close(\"&$AR$2&\") When Barix(\"&$AR$2&\",reference:=StartOfSession)=\"&A68&\"\", \"Bar\", \"\", \"Close\",\"5\",\"0\",\"All\",,,\"False\",\"T\",\"EveryTick\"))","v":{"$error":"#N/A"}},null,{"$f":"IF(D68=0,NA(),RTD(\"cqg.rtd\",,\"StudyData\", \"Close(\"&$AT$2&\") When Barix(\"&$AT$2&\",reference:=StartOfSession)=\"&A68&\"\", \"Bar\", \"\", \"Close\",\"5\",\"0\",\"All\",,,\"False\",\"T\",\"EveryTick\"))","v":{"$error":"#N/A"}},null,{"$f":"IF(D68=0,NA(),RTD(\"cqg.rtd\",,\"StudyData\", \"Close(\"&$AV$2&\") When Barix(\"&$AV$2&\",reference:=StartOfSession)=\"&A68&\"\", \"Bar\", \"\", \"Close\",\"5\",\"0\",\"All\",,,\"False\",\"T\",\"EveryTick\"))","v":{"$error":"#N/A"}},null,{"$f":"IF(D68=0,NA(),RTD(\"cqg.rtd\",,\"StudyData\", \"Close(\"&$AX$2&\") When Barix(\"&$AX$2&\",reference:=StartOfSession)=\"&A68&\"\", \"Bar\", \"\", \"Close\",\"5\",\"0\",\"All\",,,\"False\",\"T\",\"EveryTick\"))","v":{"$error":"#N/A"}},null,{"$f":"IF(D68=0,NA(),RTD(\"cqg.rtd\",,\"StudyData\", \"Close(\"&$AZ$2&\") When Barix(\"&$AZ$2&\",reference:=StartOfSession)=\"&A68&\"\", \"Bar\", \"\", \"Close\",\"5\",\"0\",\"All\",,,\"False\",\"T\",\"EveryTick\"))","v":{"$error":"#N/A"}},null,{"$f":"IF(D68=0,NA(),RTD(\"cqg.rtd\",,\"StudyData\", \"Close(\"&$BB$2&\") When Barix(\"&$BB$2&\",reference:=StartOfSession)=\"&A68&\"\", \"Bar\", \"\", \"Close\",\"5\",\"0\",\"All\",,,\"False\",\"T\",\"EveryTick\"))","v":{"$error":"#N/A"}},null,{"$f":"IF(D68=0,NA(),RTD(\"cqg.rtd\",,\"StudyData\", \"Close(\"&$BD$2&\") When Barix(\"&$BD$2&\",reference:=StartOfSession)=\"&A68&\"\", \"Bar\", \"\", \"Close\",\"5\",\"0\",\"All\",,,\"False\",\"T\",\"EveryTick\"))","v":{"$error":"#N/A"}},null,{"$f":"IF(D68=0,NA(),RTD(\"cqg.rtd\",,\"StudyData\", \"Close(\"&$BF$2&\") When Barix(\"&$BF$2&\",reference:=StartOfSession)=\"&A68&\"\", \"Bar\", \"\", \"Close\",\"5\",\"0\",\"All\",,,\"False\",\"T\",\"EveryTick\"))","v":{"$error":"#N/A"}},null,{"$f":"IF(D68=0,NA(),RTD(\"cqg.rtd\",,\"StudyData\", \"Close(\"&$BH$2&\") When Barix(\"&$BH$2&\",reference:=StartOfSession)=\"&A68&\"\", \"Bar\", \"\", \"Close\",\"5\",\"0\",\"All\",,,\"False\",\"T\",\"EveryTick\"))","v":{"$error":"#N/A"}},null,{"$f":"IF(D68=0,NA(),RTD(\"cqg.rtd\",,\"StudyData\", \"Close(\"&$BJ$2&\") When Barix(\"&$BJ$2&\",reference:=StartOfSession)=\"&A68&\"\", \"Bar\", \"\", \"Close\",\"5\",\"0\",\"All\",,,\"False\",\"T\",\"EveryTick\"))","v":{"$error":"#N/A"}},null,{"$f":"IF(D68=0,NA(),RTD(\"cqg.rtd\",,\"StudyData\", \"Close(\"&$BL$2&\") When Barix(\"&$BL$2&\",reference:=StartOfSession)=\"&A68&\"\", \"Bar\", \"\", \"Close\",\"5\",\"0\",\"All\",,,\"False\",\"T\",\"EveryTick\"))","v":{"$error":"#N/A"}},null,{"$f":"IF(D68=0,NA(),RTD(\"cqg.rtd\",,\"StudyData\", \"Close(\"&$BN$2&\") When Barix(\"&$BN$2&\",reference:=StartOfSession)=\"&A68&\"\", \"Bar\", \"\", \"Close\",\"5\",\"0\",\"All\",,,\"False\",\"T\",\"EveryTick\"))","v":{"$error":"#N/A"}},null,{"$f":"IF(D68=0,NA(),RTD(\"cqg.rtd\",,\"StudyData\", \"Close(\"&$BP$2&\") When Barix(\"&$BP$2&\",reference:=StartOfSession)=\"&A68&\"\", \"Bar\", \"\", \"Close\",\"5\",\"0\",\"All\",,,\"False\",\"T\",\"EveryTick\"))","v":{"$error":"#N/A"}},null,{"$f":"IF(D68=0,NA(),RTD(\"cqg.rtd\",,\"StudyData\", \"Close(\"&$BR$2&\") When Barix(\"&$BR$2&\",reference:=StartOfSession)=\"&A68&\"\", \"Bar\", \"\", \"Close\",\"5\",\"0\",\"All\",,,\"False\",\"T\",\"EveryTick\"))","v":{"$error":"#N/A"}},null,{"$f":"IF(D68=0,NA(),RTD(\"cqg.rtd\",,\"StudyData\", \"Close(\"&$BT$2&\") When Barix(\"&$BT$2&\",reference:=StartOfSession)=\"&A68&\"\", \"Bar\", \"\", \"Close\",\"5\",\"0\",\"All\",,,\"False\",\"T\",\"EveryTick\"))","v":{"$error":"#N/A"}},null,{"$f":"IF(D68=0,NA(),RTD(\"cqg.rtd\",,\"StudyData\", \"Close(\"&$BV$2&\") When Barix(\"&$BV$2&\",reference:=StartOfSession)=\"&A68&\"\", \"Bar\", \"\", \"Close\",\"5\",\"0\",\"All\",,,\"False\",\"T\",\"EveryTick\"))","v":{"$error":"#N/A"}},null,{"$f":"IF(D68=0,NA(),RTD(\"cqg.rtd\",,\"StudyData\", \"Close(\"&$BX$2&\") When Barix(\"&$BX$2&\",reference:=StartOfSession)=\"&A68&\"\", \"Bar\", \"\", \"Close\",\"5\",\"0\",\"All\",,,\"False\",\"T\",\"EveryTick\"))","v":{"$error":"#N/A"}},null,{"$f":"IF(D68=0,NA(),RTD(\"cqg.rtd\",,\"StudyData\", \"Close(\"&$BZ$2&\") When Barix(\"&$BZ$2&\",reference:=StartOfSession)=\"&A68&\"\", \"Bar\", \"\", \"Close\",\"5\",\"0\",\"All\",,,\"False\",\"T\",\"EveryTick\"))","v":{"$error":"#N/A"}}]
[65,{"$f":"IF(D69=0,NA(),RTD(\"cqg.rtd\",,\"StudyData\", \"Close(\"&$B$2&\") When Barix(\"&$B$2&\",reference:=StartOfSession)=\"&A69&\"\", \"Bar\", \"\", \"Close\",\"5\",\"0\",\"All\",,,\"False\",\"T\",\"EveryTick\"))","v":{"$error":"#N/A"}},"13:55:00",{"$f":"IF($D$1=0,1,IF($L$1>C69,1,0))","v":0},null,{"$f":"IF(D69=0,NA(),RTD(\"cqg.rtd\",,\"StudyData\", \"Close(\"&$F$2&\") When Barix(\"&$F$2&\",reference:=StartOfSession)=\"&A69&\"\", \"Bar\", \"\", \"Close\",\"5\",\"0\",\"All\",,,\"False\",\"T\",\"EveryTick\"))","v":{"$error":"#N/A"}},null,{"$f":"IF(D69=0,NA(),RTD(\"cqg.rtd\",,\"StudyData\", \"Close(\"&$H$2&\") When Barix(\"&$H$2&\",reference:=StartOfSession)=\"&A69&\"\", \"Bar\", \"\", \"Close\",\"5\",\"0\",\"All\",,,\"False\",\"T\",\"EveryTick\"))","v":{"$error":"#N/A"}},null,{"$f":"IF(D69=0,NA(),RTD(\"cqg.rtd\",,\"StudyData\", \"Close(\"&$J$2&\") When Barix(\"&$J$2&\",reference:=StartOfSession)=\"&A69&\"\", \"Bar\", \"\", \"Close\",\"5\",\"0\",\"All\",,,\"False\",\"T\",\"EveryTick\"))","v":{"$error":"#N/A"}},null,{"$f":"IF(D69=0,NA(),RTD(\"cqg.rtd\",,\"StudyData\", \"Close(\"&$L$2&\") When Barix(\"&$L$2&\",reference:=StartOfSession)=\"&A69&\"\", \"Bar\", \"\", \"Close\",\"5\",\"0\",\"All\",,,\"False\",\"T\",\"EveryTick\"))","v":{"$error":"#N/A"}},null,{"$f":"IF(D69=0,NA(),RTD(\"cqg.rtd\",,\"StudyData\", \"Close(\"&$N$2&\") When Barix(\"&$N$2&\",reference:=StartOfSession)=\"&A69&\"\", \"Bar\", \"\", \"Close\",\"5\",\"0\",\"All\",,,\"False\",\"T\",\"EveryTick\"))","v":{"$error":"#N/A"}},null,{"$f":"IF(D69=0,NA(),RTD(\"cqg.rtd\",,\"StudyData\", \"Close(\"&$P$2&\") When Barix(\"&$P$2&\",reference:=StartOfSession)=\"&A69&\"\", \"Bar\", \"\", \"Close\",\"5\",\"0\",\"All\",,,\"False\",\"T\",\"EveryTick\"))","v":{"$error":"#N/A"}},null,{"$f":"IF(D69=0,NA(),RTD(\"cqg.rtd\",,\"StudyData\", \"Close(\"&$R$2&\") When Barix(\"&$R$2&\",reference:=StartOfSession)=\"&A69&\"\", \"Bar\", \"\", \"Close\",\"5\",\"0\",\"All\",,,\"False\",\"T\",\"EveryTick\"))","v":{"$error":"#N/A"}},null,{"$f":"IF(D69=0,NA(),RTD(\"cqg.rtd\",,\"StudyData\", \"Close(\"&$T$2&\") When Barix(\"&$T$2&\",reference:=StartOfSession)=\"&A69&\"\", \"Bar\", \"\", \"Close\",\"5\",\"0\",\"All\",,,\"False\",\"T\",\"EveryTick\"))","v":{"$error":"#N/A"}},null,{"$f":"IF(D69=0,NA(),RTD(\"cqg.rtd\",,\"StudyData\", \"Close(\"&$V$2&\") When Barix(\"&$V$2&\",reference:=StartOfSession)=\"&A69&\"\", \"Bar\", \"\", \"Close\",\"5\",\"0\",\"All\",,,\"False\",\"T\",\"EveryTick\"))","v":{"$error":"#N/A"}},null,{"$f":"IF(D69=0,NA(),RTD(\"cqg.rtd\",,\"StudyData\", \"Close(\"&$X$2&\") When Barix(\"&$X$2&\",reference:=StartOfSession)=\"&A69&\"\", \"Bar\", \"\", \"Close\",\"5\",\"0\",\"All\",,,\"False\",\"T\",\"EveryTick\"))","v":{"$error":"#N/A"}},null,{"$f":"IF(D69=0,NA(),RTD(\"cqg.rtd\",,\"StudyData\", \"Close(\"&$Z$2&\") When Barix(\"&$Z$2&\",reference:=StartOfSession)=\"&A69&\"\", \"Bar\", \"\", \"Close\",\"5\",\"0\",\"All\",,,\"False\",\"T\",\"EveryTick\"))","v":{"$error":"#N/A"}},null,{"$f":"IF(D69=0,NA(),RTD(\"cqg.rtd\",,\"StudyData\", \"Close(\"&$AB$2&\") When Barix(\"&$AB$2&\",reference:=StartOfSession)=\"&A69&\"\", \"Bar\", \"\", \"Close\",\"5\",\"0\",\"All\",,,\"False\",\"T\",\"EveryTick\"))","v":{"$error":"#N/A"}},null,{"$f":"IF(D69=0,NA(),RTD(\"cqg.rtd\",,\"StudyData\", \"Close(\"&$AD$2&\") When Barix(\"&$AD$2&\",reference:=StartOfSession)=\"&A69&\"\", \"Bar\", \"\", \"Close\",\"5\",\"0\",\"All\",,,\"False\",\"T\",\"EveryTick\"))","v":{"$error":"#N/A"}},null,{"$f":"IF(D69=0,NA(),RTD(\"cqg.rtd\",,\"StudyData\", \"Close(\"&$AF$2&\") When Barix(\"&$AF$2&\",reference:=StartOfSession)=\"&A69&\"\", \"Bar\", \"\", \"Close\",\"5\",\"0\",\"All\",,,\"False\",\"T\",\"EveryTick\"))","v":{"$error":"#N/A"}},null,{"$f":"IF(D69=0,NA(),RTD(\"cqg.rtd\",,\"StudyData\", \"Close(\"&$AH$2&\") When Barix(\"&$AH$2&\",reference:=StartOfSession)=\"&A69&\"\", \"Bar\", \"\", \"Close\",\"5\",\"0\",\"All\",,,\"False\",\"T\",\"EveryTick\"))","v":{"$error":"#N/A"}},null,{"$f":"IF(D69=0,NA(),RTD(\"cqg.rtd\",,\"StudyData\", \"Close(\"&$AJ$2&\") When Barix(\"&$AJ$2&\",reference:=StartOfSession)=\"&A69&\"\", \"Bar\", \"\", \"Close\",\"5\",\"0\",\"All\",,,\"False\",\"T\",\"EveryTick\"))","v":{"$error":"#N/A"}},null,{"$f":"IF(D69=0,NA(),RTD(\"cqg.rtd\",,\"StudyData\", \"Close(\"&$AL$2&\") When Barix(\"&$AL$2&\",reference:=StartOfSession)=\"&A69&\"\", \"Bar\", \"\", \"Close\",\"5\",\"0\",\"All\",,,\"False\",\"T\",\"EveryTick\"))","v":{"$error":"#N/A"}},null,{"$f":"IF(D69=0,NA(),RTD(\"cqg.rtd\",,\"StudyData\", \"Close(\"&$AN$2&\") When Barix(\"&$AN$2&\",reference:=StartOfSession)=\"&A69&\"\", \"Bar\", \"\", \"Close\",\"5\",\"0\",\"All\",,,\"False\",\"T\",\"EveryTick\"))","v":{"$error":"#N/A"}},null,{"$f":"IF(D69=0,NA(),RTD(\"cqg.rtd\",,\"StudyData\", \"Close(\"&$AN$2&\") When Barix(\"&$AN$2&\",reference:=StartOfSession)=\"&A69&\"\", \"Bar\", \"\", \"Close\",\"5\",\"0\",\"All\",,,\"False\",\"T\",\"EveryTick\"))","v":{"$error":"#N/A"}},null,{"$f":"IF(D69=0,NA(),RTD(\"cqg.rtd\",,\"StudyData\", \"Close(\"&$AR$2&\") When Barix(\"&$AR$2&\",reference:=StartOfSession)=\"&A69&\"\", \"Bar\", \"\", \"Close\",\"5\",\"0\",\"All\",,,\"False\",\"T\",\"EveryTick\"))","v":{"$error":"#N/A"}},null,{"$f":"IF(D69=0,NA(),RTD(\"cqg.rtd\",,\"StudyData\", \"Close(\"&$AT$2&\") When Barix(\"&$AT$2&\",reference:=StartOfSession)=\"&A69&\"\", \"Bar\", \"\", \"Close\",\"5\",\"0\",\"All\",,,\"False\",\"T\",\"EveryTick\"))","v":{"$error":"#N/A"}},null,{"$f":"IF(D69=0,NA(),RTD(\"cqg.rtd\",,\"StudyData\", \"Close(\"&$AV$2&\") When Barix(\"&$AV$2&\",reference:=StartOfSession)=\"&A69&\"\", \"Bar\", \"\", \"Close\",\"5\",\"0\",\"All\",,,\"False\",\"T\",\"EveryTick\"))","v":{"$error":"#N/A"}},null,{"$f":"IF(D69=0,NA(),RTD(\"cqg.rtd\",,\"StudyData\", \"Close(\"&$AX$2&\") When Barix(\"&$AX$2&\",reference:=StartOfSession)=\"&A69&\"\", \"Bar\", \"\", \"Close\",\"5\",\"0\",\"All\",,,\"False\",\"T\",\"EveryTick\"))","v":{"$error":"#N/A"}},null,{"$f":"IF(D69=0,NA(),RTD(\"cqg.rtd\",,\"StudyData\", \"Close(\"&$AZ$2&\") When Barix(\"&$AZ$2&\",reference:=StartOfSession)=\"&A69&\"\", \"Bar\", \"\", \"Close\",\"5\",\"0\",\"All\",,,\"False\",\"T\",\"EveryTick\"))","v":{"$error":"#N/A"}},null,{"$f":"IF(D69=0,NA(),RTD(\"cqg.rtd\",,\"StudyData\", \"Close(\"&$BB$2&\") When Barix(\"&$BB$2&\",reference:=StartOfSession)=\"&A69&\"\", \"Bar\", \"\", \"Close\",\"5\",\"0\",\"All\",,,\"False\",\"T\",\"EveryTick\"))","v":{"$error":"#N/A"}},null,{"$f":"IF(D69=0,NA(),RTD(\"cqg.rtd\",,\"StudyData\", \"Close(\"&$BD$2&\") When Barix(\"&$BD$2&\",reference:=StartOfSession)=\"&A69&\"\", \"Bar\", \"\", \"Close\",\"5\",\"0\",\"All\",,,\"False\",\"T\",\"EveryTick\"))","v":{"$error":"#N/A"}},null,{"$f":"IF(D69=0,NA(),RTD(\"cqg.rtd\",,\"StudyData\", \"Close(\"&$BF$2&\") When Barix(\"&$BF$2&\",reference:=StartOfSession)=\"&A69&\"\", \"Bar\", \"\", \"Close\",\"5\",\"0\",\"All\",,,\"False\",\"T\",\"EveryTick\"))","v":{"$error":"#N/A"}},null,{"$f":"IF(D69=0,NA(),RTD(\"cqg.rtd\",,\"StudyData\", \"Close(\"&$BH$2&\") When Barix(\"&$BH$2&\",reference:=StartOfSession)=\"&A69&\"\", \"Bar\", \"\", \"Close\",\"5\",\"0\",\"All\",,,\"False\",\"T\",\"EveryTick\"))","v":{"$error":"#N/A"}},null,{"$f":"IF(D69=0,NA(),RTD(\"cqg.rtd\",,\"StudyData\", \"Close(\"&$BJ$2&\") When Barix(\"&$BJ$2&\",reference:=StartOfSession)=\"&A69&\"\", \"Bar\", \"\", \"Close\",\"5\",\"0\",\"All\",,,\"False\",\"T\",\"EveryTick\"))","v":{"$error":"#N/A"}},null,{"$f":"IF(D69=0,NA(),RTD(\"cqg.rtd\",,\"StudyData\", \"Close(\"&$BL$2&\") When Barix(\"&$BL$2&\",reference:=StartOfSession)=\"&A69&\"\", \"Bar\", \"\", \"Close\",\"5\",\"0\",\"All\",,,\"False\",\"T\",\"EveryTick\"))","v":{"$error":"#N/A"}},null,{"$f":"IF(D69=0,NA(),RTD(\"cqg.rtd\",,\"StudyData\", \"Close(\"&$BN$2&\") When Barix(\"&$BN$2&\",reference:=StartOfSession)=\"&A69&\"\", \"Bar\", \"\", \"Close\",\"5\",\"0\",\"All\",,,\"False\",\"T\",\"EveryTick\"))","v":{"$error":"#N/A"}},null,{"$f":"IF(D69=0,NA(),RTD(\"cqg.rtd\",,\"StudyData\", \"Close(\"&$BP$2&\") When Barix(\"&$BP$2&\",reference:=StartOfSession)=\"&A69&\"\", \"Bar\", \"\", \"Close\",\"5\",\"0\",\"All\",,,\"False\",\"T\",\"EveryTick\"))","v":{"$error":"#N/A"}},null,{"$f":"IF(D69=0,NA(),RTD(\"cqg.rtd\",,\"StudyData\", \"Close(\"&$BR$2&\") When Barix(\"&$BR$2&\",reference:=StartOfSession)=\"&A69&\"\", \"Bar\", \"\", \"Close\",\"5\",\"0\",\"All\",,,\"False\",\"T\",\"EveryTick\"))","v":{"$error":"#N/A"}},null,{"$f":"IF(D69=0,NA(),RTD(\"cqg.rtd\",,\"StudyData\", \"Close(\"&$BT$2&\") When Barix(\"&$BT$2&\",reference:=StartOfSession)=\"&A69&\"\", \"Bar\", \"\", \"Close\",\"5\",\"0\",\"All\",,,\"False\",\"T\",\"EveryTick\"))","v":{"$error":"#N/A"}},null,{"$f":"IF(D69=0,NA(),RTD(\"cqg.rtd\",,\"StudyData\", \"Close(\"&$BV$2&\") When Barix(\"&$BV$2&\",reference:=StartOfSession)=\"&A69&\"\", \"Bar\", \"\", \"Close\",\"5\",\"0\",\"All\",,,\"False\",\"T\",\"EveryTick\"))","v":{"$error":"#N/A"}},null,{"$f":"IF(D69=0,NA(),RTD(\"cqg.rtd\",,\"StudyData\", \"Close(\"&$BX$2&\") When Barix(\"&$BX$2&\",reference:=StartOfSession)=\"&A69&\"\", \"Bar\", \"\", \"Close\",\"5\",\"0\",\"All\",,,\"False\",\"T\",\"EveryTick\"))","v":{"$error":"#N/A"}},null,{"$f":"IF(D69=0,NA(),RTD(\"cqg.rtd\",,\"StudyData\", \"Close(\"&$BZ$2&\") When Barix(\"&$BZ$2&\",reference:=StartOfSession)=\"&A69&\"\", \"Bar\", \"\", \"Close\",\"5\",\"0\",\"All\",,,\"False\",\"T\",\"EveryTick\"))","v":{"$error":"#N/A"}}]
[{"$f":"A69+1","v":66},{"$f":"IF(D70=0,NA(),RTD(\"cqg.rtd\",,\"StudyData\", \"Close(\"&$B$2&\") When Barix(\"&$B$2&\",reference:=StartOfSession)=\"&A70&\"\", \"Bar\", \"\", \"Close\",\"5\",\"0\",\"All\",,,\"False\",\"T\",\"EveryTick\"))","v":{"$error":"#N/A"}},"14:00:00",0,null,{"$f":"IF(D70=0,NA(),RTD(\"cqg.rtd\",,\"StudyData\", \"Close(\"&$F$2&\") When Barix(\"&$F$2&\",reference:=StartOfSession)=\"&A70&\"\", \"Bar\", \"\", \"Close\",\"5\",\"0\",\"All\",,,\"False\",\"T\",\"EveryTick\"))","v":{"$error":"#N/A"}},null,{"$f":"IF(D70=0,NA(),RTD(\"cqg.rtd\",,\"StudyData\", \"Close(\"&$H$2&\") When Barix(\"&$H$2&\",reference:=StartOfSession)=\"&A70&\"\", \"Bar\", \"\", \"Close\",\"5\",\"0\",\"All\",,,\"False\",\"T\",\"EveryTick\"))","v":{"$error":"#N/A"}},null,{"$f":"IF(D70=0,NA(),RTD(\"cqg.rtd\",,\"StudyData\", \"Close(\"&$J$2&\") When Barix(\"&$J$2&\",reference:=StartOfSession)=\"&A70&\"\", \"Bar\", \"\", \"Close\",\"5\",\"0\",\"All\",,,\"False\",\"T\",\"EveryTick\"))","v":{"$error":"#N/A"}},null,{"$f":"IF(D70=0,NA(),RTD(\"cqg.rtd\",,\"StudyData\", \"Close(\"&$L$2&\") When Barix(\"&$L$2&\",reference:=StartOfSession)=\"&A70&\"\", \"Bar\", \"\", \"Close\",\"5\",\"0\",\"All\",,,\"False\",\"T\",\"EveryTick\"))","v":{"$error":"#N/A"}},null,{"$f":"IF(D70=0,NA(),RTD(\"cqg.rtd\",,\"StudyData\", \"Close(\"&$N$2&\") When Barix(\"&$N$2&\",reference:=StartOfSession)=\"&A70&\"\", \"Bar\", \"\", \"Close\",\"5\",\"0\",\"All\",,,\"False\",\"T\",\"EveryTick\"))","v":{"$error":"#N/A"}},null,{"$f":"IF(D70=0,NA(),RTD(\"cqg.rtd\",,\"StudyData\", \"Close(\"&$P$2&\") When Barix(\"&$P$2&\",reference:=StartOfSession)=\"&A70&\"\", \"Bar\", \"\", \"Close\",\"5\",\"0\",\"All\",,,\"False\",\"T\",\"EveryTick\"))","v":{"$error":"#N/A"}},null,{"$f":"IF(D70=0,NA(),RTD(\"cqg.rtd\",,\"StudyData\", \"Close(\"&$R$2&\") When Barix(\"&$R$2&\",reference:=StartOfSession)=\"&A70&\"\", \"Bar\", \"\", \"Close\",\"5\",\"0\",\"All\",,,\"False\",\"T\",\"EveryTick\"))","v":{"$error":"#N/A"}},null,{"$f":"IF(D70=0,NA(),RTD(\"cqg.rtd\",,\"StudyData\", \"Close(\"&$T$2&\") When Barix(\"&$T$2&\",reference:=StartOfSession)=\"&A70&\"\", \"Bar\", \"\", \"Close\",\"5\",\"0\",\"All\",,,\"False\",\"T\",\"EveryTick\"))","v":{"$error":"#N/A"}},null,{"$f":"IF(D70=0,NA(),RTD(\"cqg.rtd\",,\"StudyData\", \"Close(\"&$V$2&\") When Barix(\"&$V$2&\",reference:=StartOfSession)=\"&A70&\"\", \"Bar\", \"\", \"Close\",\"5\",\"0\",\"All\",,,\"False\",\"T\",\"EveryTick\"))","v":{"$error":"#N/A"}},null,{"$f":"IF(D70=0,NA(),RTD(\"cqg.rtd\",,\"StudyData\", \"Close(\"&$X$2&\") When Barix(\"&$X$2&\",reference:=StartOfSession)=\"&A70&\"\", \"Bar\", \"\", \"Close\",\"5\",\"0\",\"All\",,,\"False\",\"T\",\"EveryTick\"))","v":{"$error":"#N/A"}},null,{"$f":"IF(D70=0,NA(),RTD(\"cqg.rtd\",,\"StudyData\", \"Close(\"&$Z$2&\") When Barix(\"&$Z$2&\",reference:=StartOfSession)=\"&A70&\"\", \"Bar\", \"\", \"Close\",\"5\",\"0\",\"All\",,,\"False\",\"T\",\"EveryTick\"))","v":{"$error":"#N/A"}},null,{"$f":"IF(D70=0,NA(),RTD(\"cqg.rtd\",,\"StudyData\", \"Close(\"&$AB$2&\") When Barix(\"&$AB$2&\",reference:=StartOfSession)=\"&A70&\"\", \"Bar\", \"\", \"Close\",\"5\",\"0\",\"All\",,,\"False\",\"T\",\"EveryTick\"))","v":{"$error":"#N/A"}},null,{"$f":"IF(D70=0,NA(),RTD(\"cqg.rtd\",,\"StudyData\", \"Close(\"&$AD$2&\") When Barix(\"&$AD$2&\",reference:=StartOfSession)=\"&A70&\"\", \"Bar\", \"\", \"Close\",\"5\",\"0\",\"All\",,,\"False\",\"T\",\"EveryTick\"))","v":{"$error":"#N/A"}},null,{"$f":"IF(D70=0,NA(),RTD(\"cqg.rtd\",,\"StudyData\", \"Close(\"&$AF$2&\") When Barix(\"&$AF$2&\",reference:=StartOfSession)=\"&A70&\"\", \"Bar\", \"\", \"Close\",\"5\",\"0\",\"All\",,,\"False\",\"T\",\"EveryTick\"))","v":{"$error":"#N/A"}},null,{"$f":"IF(D70=0,NA(),RTD(\"cqg.rtd\",,\"StudyData\", \"Close(\"&$AH$2&\") When Barix(\"&$AH$2&\",reference:=StartOfSession)=\"&A70&\"\", \"Bar\", \"\", \"Close\",\"5\",\"0\",\"All\",,,\"False\",\"T\",\"EveryTick\"))","v":{"$error":"#N/A"}},null,{"$f":"IF(D70=0,NA(),RTD(\"cqg.rtd\",,\"StudyData\", \"Close(\"&$AJ$2&\") When Barix(\"&$AJ$2&\",reference:=StartOfSession)=\"&A70&\"\", \"Bar\", \"\", \"Close\",\"5\",\"0\",\"All\",,,\"False\",\"T\",\"EveryTick\"))","v":{"$error":"#N/A"}},null,{"$f":"IF(D70=0,NA(),RTD(\"cqg.rtd\",,\"StudyData\", \"Close(\"&$AL$2&\") When Barix(\"&$AL$2&\",reference:=StartOfSession)=\"&A70&\"\", \"Bar\", \"\", \"Close\",\"5\",\"0\",\"All\",,,\"False\",\"T\",\"EveryTick\"))","v":{"$error":"#N/A"}},null,{"$f":"IF(D70=0,NA(),RTD(\"cqg.rtd\",,\"StudyData\", \"Close(\"&$AN$2&\") When Barix(\"&$AN$2&\",reference:=StartOfSession)=\"&A70&\"\", \"Bar\", \"\", \"Close\",\"5\",\"0\",\"All\",,,\"False\",\"T\",\"EveryTick\"))","v":{"$error":"#N/A"}},null,{"$f":"IF(D70=0,NA(),RTD(\"cqg.rtd\",,\"StudyData\", \"Close(\"&$AN$2&\") When Barix(\"&$AN$2&\",reference:=StartOfSession)=\"&A70&\"\", \"Bar\", \"\", \"Close\",\"5\",\"0\",\"All\",,,\"False\",\"T\",\"EveryTick\"))","v":{"$error":"#N/A"}},null,{"$f":"IF(D70=0,NA(),RTD(\"cqg.rtd\",,\"StudyData\", \"Close(\"&$AR$2&\") When Barix(\"&$AR$2&\",reference:=StartOfSession)=\"&A70&\"\", \"Bar\", \"\", \"Close\",\"5\",\"0\",\"All\",,,\"False\",\"T\",\"EveryTick\"))","v":{"$error":"#N/A"}},null,{"$f":"IF(D70=0,NA(),RTD(\"cqg.rtd\",,\"StudyData\", \"Close(\"&$AT$2&\") When Barix(\"&$AT$2&\",reference:=StartOfSession)=\"&A70&\"\", \"Bar\", \"\", \"Close\",\"5\",\"0\",\"All\",,,\"False\",\"T\",\"EveryTick\"))","v":{"$error":"#N/A"}},null,{"$f":"IF(D70=0,NA(),RTD(\"cqg.rtd\",,\"StudyData\", \"Close(\"&$AV$2&\") When Barix(\"&$AV$2&\",reference:=StartOfSession)=\"&A70&\"\", \"Bar\", \"\", \"Close\",\"5\",\"0\",\"All\",,,\"False\",\"T\",\"EveryTick\"))","v":{"$error":"#N/A"}},null,{"$f":"IF(D70=0,NA(),RTD(\"cqg.rtd\",,\"StudyData\", \"Close(\"&$AX$2&\") When Barix(\"&$AX$2&\",reference:=StartOfSession)=\"&A70&\"\", \"Bar\", \"\", \"Close\",\"5\",\"0\",\"All\",,,\"False\",\"T\",\"EveryTick\"))","v":{"$error":"#N/A"}},null,{"$f":"IF(D70=0,NA(),RTD(\"cqg.rtd\",,\"StudyData\", \"Close(\"&$AZ$2&\") When Barix(\"&$AZ$2&\",reference:=StartOfSession)=\"&A70&\"\", \"Bar\", \"\", \"Close\",\"5\",\"0\",\"All\",,,\"False\",\"T\",\"EveryTick\"))","v":{"$error":"#N/A"}},null,{"$f":"IF(D70=0,NA(),RTD(\"cqg.rtd\",,\"StudyData\", \"Close(\"&$BB$2&\") When Barix(\"&$BB$2&\",reference:=StartOfSession)=\"&A70&\"\", \"Bar\", \"\", \"Close\",\"5\",\"0\",\"All\",,,\"False\",\"T\",\"EveryTick\"))","v":{"$error":"#N/A"}},null,{"$f":"IF(D70=0,NA(),RTD(\"cqg.rtd\",,\"StudyData\", \"Close(\"&$BD$2&\") When Barix(\"&$BD$2&\",reference:=StartOfSession)=\"&A70&\"\", \"Bar\", \"\", \"Close\",\"5\",\"0\",\"All\",,,\"False\",\"T\",\"EveryTick\"))","v":{"$error":"#N/A"}},null,{"$f":"IF(D70=0,NA(),RTD(\"cqg.rtd\",,\"StudyData\", \"Close(\"&$BF$2&\") When Barix(\"&$BF$2&\",reference:=StartOfSession)=\"&A70&\"\", \"Bar\", \"\", \"Close\",\"5\",\"0\",\"All\",,,\"False\",\"T\",\"EveryTick\"))","v":{"$error":"#N/A"}},null,{"$f":"IF(D70=0,NA(),RTD(\"cqg.rtd\",,\"StudyData\", \"Close(\"&$BH$2&\") When Barix(\"&$BH$2&\",reference:=StartOfSession)=\"&A70&\"\", \"Bar\", \"\", \"Close\",\"5\",\"0\",\"All\",,,\"False\",\"T\",\"EveryTick\"))","v":{"$error":"#N/A"}},null,{"$f":"IF(D70=0,NA(),RTD(\"cqg.rtd\",,\"StudyData\", \"Close(\"&$BJ$2&\") When Barix(\"&$BJ$2&\",reference:=StartOfSession)=\"&A70&\"\", \"Bar\", \"\", \"Close\",\"5\",\"0\",\"All\",,,\"False\",\"T\",\"EveryTick\"))","v":{"$error":"#N/A"}},null,{"$f":"IF(D70=0,NA(),RTD(\"cqg.rtd\",,\"StudyData\", \"Close(\"&$BL$2&\") When Barix(\"&$BL$2&\",reference:=StartOfSession)=\"&A70&\"\", \"Bar\", \"\", \"Close\",\"5\",\"0\",\"All\",,,\"False\",\"T\",\"EveryTick\"))","v":{"$error":"#N/A"}},null,{"$f":"IF(D70=0,NA(),RTD(\"cqg.rtd\",,\"StudyData\", \"Close(\"&$BN$2&\") When Barix(\"&$BN$2&\",reference:=StartOfSession)=\"&A70&\"\", \"Bar\", \"\", \"Close\",\"5\",\"0\",\"All\",,,\"False\",\"T\",\"EveryTick\"))","v":{"$error":"#N/A"}},null,{"$f":"IF(D70=0,NA(),RTD(\"cqg.rtd\",,\"StudyData\", \"Close(\"&$BP$2&\") When Barix(\"&$BP$2&\",reference:=StartOfSession)=\"&A70&\"\", \"Bar\", \"\", \"Close\",\"5\",\"0\",\"All\",,,\"False\",\"T\",\"EveryTick\"))","v":{"$error":"#N/A"}},null,{"$f":"IF(D70=0,NA(),RTD(\"cqg.rtd\",,\"StudyData\", \"Close(\"&$BR$2&\") When Barix(\"&$BR$2&\",reference:=StartOfSession)=\"&A70&\"\", \"Bar\", \"\", \"Close\",\"5\",\"0\",\"All\",,,\"False\",\"T\",\"EveryTick\"))","v":{"$error":"#N/A"}},null,{"$f":"IF(D70=0,NA(),RTD(\"cqg.rtd\",,\"StudyData\", \"Close(\"&$BT$2&\") When Barix(\"&$BT$2&\",reference:=StartOfSession)=\"&A70&\"\", \"Bar\", \"\", \"Close\",\"5\",\"0\",\"All\",,,\"False\",\"T\",\"EveryTick\"))","v":{"$error":"#N/A"}},null,{"$f":"IF(D70=0,NA(),RTD(\"cqg.rtd\",,\"StudyData\", \"Close(\"&$BV$2&\") When Barix(\"&$BV$2&\",reference:=StartOfSession)=\"&A70&\"\", \"Bar\", \"\", \"Close\",\"5\",\"0\",\"All\",,,\"False\",\"T\",\"EveryTick\"))","v":{"$error":"#N/A"}},null,{"$f":"IF(D70=0,NA(),RTD(\"cqg.rtd\",,\"StudyData\", \"Close(\"&$BX$2&\") When Barix(\"&$BX$2&\",reference:=StartOfSession)=\"&A70&\"\", \"Bar\", \"\", \"Close\",\"5\",\"0\",\"All\",,,\"False\",\"T\",\"EveryTick\"))","v":{"$error":"#N/A"}},null,{"$f":"IF(D70=0,NA(),RTD(\"cqg.rtd\",,\"StudyData\", \"Close(\"&$BZ$2&\") When Barix(\"&$BZ$2&\",reference:=StartOfSession)=\"&A70&\"\", \"Bar\", \"\", \"Close\",\"5\",\"0\",\"All\",,,\"False\",\"T\",\"EveryTick\"))","v":{"$error":"#N/A"}}]
[67,{"$f":"IF(D71=0,NA(),RTD(\"cqg.rtd\",,\"StudyData\", \"Close(\"&$B$2&\") When Barix(\"&$B$2&\",reference:=StartOfSession)=\"&A71&\"\", \"Bar\", \"\", \"Close\",\"5\",\"0\",\"All\",,,\"False\",\"T\",\"EveryTick\"))","v":{"$error":"#N/A"}},"14:05:00",0,null,{"$f":"IF(D71=0,NA(),RTD(\"cqg.rtd\",,\"StudyData\", \"Close(\"&$F$2&\") When Barix(\"&$F$2&\",reference:=StartOfSession)=\"&A71&\"\", \"Bar\", \"\", \"Close\",\"5\",\"0\",\"All\",,,\"False\",\"T\",\"EveryTick\"))","v":{"$error":"#N/A"}},null,{"$f":"IF(D71=0,NA(),RTD(\"cqg.rtd\",,\"StudyData\", \"Close(\"&$H$2&\") When Barix(\"&$H$2&\",reference:=StartOfSession)=\"&A71&\"\", \"Bar\", \"\", \"Close\",\"5\",\"0\",\"All\",,,\"False\",\"T\",\"EveryTick\"))","v":{"$error":"#N/A"}},null,{"$f":"IF(D71=0,NA(),RTD(\"cqg.rtd\",,\"StudyData\", \"Close(\"&$J$2&\") When Barix(\"&$J$2&\",reference:=StartOfSession)=\"&A71&\"\", \"Bar\", \"\", \"Close\",\"5\",\"0\",\"All\",,,\"False\",\"T\",\"EveryTick\"))","v":{"$error":"#N/A"}},null,{"$f":"IF(D71=0,NA(),RTD(\"cqg.rtd\",,\"StudyData\", \"Close(\"&$L$2&\") When Barix(\"&$L$2&\",reference:=StartOfSession)=\"&A71&\"\", \"Bar\", \"\", \"Close\",\"5\",\"0\",\"All\",,,\"False\",\"T\",\"EveryTick\"))","v":{"$error":"#N/A"}},null,{"$f":"IF(D71=0,NA(),RTD(\"cqg.rtd\",,\"StudyData\", \"Close(\"&$N$2&\") When Barix(\"&$N$2&\",reference:=StartOfSession)=\"&A71&\"\", \"Bar\", \"\", \"Close\",\"5\",\"0\",\"All\",,,\"False\",\"T\",\"EveryTick\"))","v":{"$error":"#N/A"}},null,{"$f":"IF(D71=0,NA(),RTD(\"cqg.rtd\",,\"StudyData\", \"Close(\"&$P$2&\") When Barix(\"&$P$2&\",reference:=StartOfSession)=\"&A71&\"\", \"Bar\", \"\", \"Close\",\"5\",\"0\",\"All\",,,\"False\",\"T\",\"EveryTick\"))","v":{"$error":"#N/A"}},null,{"$f":"IF(D71=0,NA(),RTD(\"cqg.rtd\",,\"StudyData\", \"Close(\"&$R$2&\") When Barix(\"&$R$2&\",reference:=StartOfSession)=\"&A71&\"\", \"Bar\", \"\", \"Close\",\"5\",\"0\",\"All\",,,\"False\",\"T\",\"EveryTick\"))","v":{"$error":"#N/A"}},null,{"$f":"IF(D71=0,NA(),RTD(\"cqg.rtd\",,\"StudyData\", \"Close(\"&$T$2&\") When Barix(\"&$T$2&\",reference:=StartOfSession)=\"&A71&\"\", \"Bar\", \"\", \"Close\",\"5\",\"0\",\"All\",,,\"False\",\"T\",\"EveryTick\"))","v":{"$error":"#N/A"}},null,{"$f":"IF(D71=0,NA(),RTD(\"cqg.rtd\",,\"StudyData\", \"Close(\"&$V$2&\") When Barix(\"&$V$2&\",reference:=StartOfSession)=\"&A71&\"\", \"Bar\", \"\", \"Close\",\"5\",\"0\",\"All\",,,\"False\",\"T\",\"EveryTick\"))","v":{"$error":"#N/A"}},null,{"$f":"IF(D71=0,NA(),RTD(\"cqg.rtd\",,\"StudyData\", \"Close(\"&$X$2&\") When Barix(\"&$X$2&\",reference:=StartOfSession)=\"&A71&\"\", \"Bar\", \"\", \"Close\",\"5\",\"0\",\"All\",,,\"False\",\"T\",\"EveryTick\"))","v":{"$error":"#N/A"}},null,{"$f":"IF(D71=0,NA(),RTD(\"cqg.rtd\",,\"StudyData\", \"Close(\"&$Z$2&\") When Barix(\"&$Z$2&\",reference:=StartOfSession)=\"&A71&\"\", \"Bar\", \"\", \"Close\",\"5\",\"0\",\"All\",,,\"False\",\"T\",\"EveryTick\"))","v":{"$error":"#N/A"}},null,{"$f":"IF(D71=0,NA(),RTD(\"cqg.rtd\",,\"StudyData\", \"Close(\"&$AB$2&\") When Barix(\"&$AB$2&\",reference:=StartOfSession)=\"&A71&\"\", \"Bar\", \"\", \"Close\",\"5\",\"0\",\"All\",,,\"False\",\"T\",\"EveryTick\"))","v":{"$error":"#N/A"}},null,{"$f":"IF(D71=0,NA(),RTD(\"cqg.rtd\",,\"StudyData\", \"Close(\"&$AD$2&\") When Barix(\"&$AD$2&\",reference:=StartOfSession)=\"&A71&\"\", \"Bar\", \"\", \"Close\",\"5\",\"0\",\"All\",,,\"False\",\"T\",\"EveryTick\"))","v":{"$error":"#N/A"}},null,{"$f":"IF(D71=0,NA(),RTD(\"cqg.rtd\",,\"StudyData\", \"Close(\"&$AF$2&\") When Barix(\"&$AF$2&\",reference:=StartOfSession)=\"&A71&\"\", \"Bar\", \"\", \"Close\",\"5\",\"0\",\"All\",,,\"False\",\"T\",\"EveryTick\"))","v":{"$error":"#N/A"}},null,{"$f":"IF(D71=0,NA(),RTD(\"cqg.rtd\",,\"StudyData\", \"Close(\"&$AH$2&\") When Barix(\"&$AH$2&\",reference:=StartOfSession)=\"&A71&\"\", \"Bar\", \"\", \"Close\",\"5\",\"0\",\"All\",,,\"False\",\"T\",\"EveryTick\"))","v":{"$error":"#N/A"}},null,{"$f":"IF(D71=0,NA(),RTD(\"cqg.rtd\",,\"StudyData\", \"Close(\"&$AJ$2&\") When Barix(\"&$AJ$2&\",reference:=StartOfSession)=\"&A71&\"\", \"Bar\", \"\", \"Close\",\"5\",\"0\",\"All\",,,\"False\",\"T\",\"EveryTick\"))","v":{"$error":"#N/A"}},null,{"$f":"IF(D71=0,NA(),RTD(\"cqg.rtd\",,\"StudyData\", \"Close(\"&$AL$2&\") When Barix(\"&$AL$2&\",reference:=StartOfSession)=\"&A71&\"\", \"Bar\", \"\", \"Close\",\"5\",\"0\",\"All\",,,\"False\",\"T\",\"EveryTick\"))","v":{"$error":"#N/A"}},null,{"$f":"IF(D71=0,NA(),RTD(\"cqg.rtd\",,\"StudyData\", \"Close(\"&$AN$2&\") When Barix(\"&$AN$2&\",reference:=StartOfSession)=\"&A71&\"\", \"Bar\", \"\", \"Close\",\"5\",\"0\",\"All\",,,\"False\",\"T\",\"EveryTick\"))","v":{"$error":"#N/A"}},null,{"$f":"IF(D71=0,NA(),RTD(\"cqg.rtd\",,\"StudyData\", \"Close(\"&$AN$2&\") When Barix(\"&$AN$2&\",reference:=StartOfSession)=\"&A71&\"\", \"Bar\", \"\", \"Close\",\"5\",\"0\",\"All\",,,\"False\",\"T\",\"EveryTick\"))","v":{"$error":"#N/A"}},null,{"$f":"IF(D71=0,NA(),RTD(\"cqg.rtd\",,\"StudyData\", \"Close(\"&$AR$2&\") When Barix(\"&$AR$2&\",reference:=StartOfSession)=\"&A71&\"\", \"Bar\", \"\", \"Close\",\"5\",\"0\",\"All\",,,\"False\",\"T\",\"EveryTick\"))","v":{"$error":"#N/A"}},null,{"$f":"IF(D71=0,NA(),RTD(\"cqg.rtd\",,\"StudyData\", \"Close(\"&$AT$2&\") When Barix(\"&$AT$2&\",reference:=StartOfSession)=\"&A71&\"\", \"Bar\", \"\", \"Close\",\"5\",\"0\",\"All\",,,\"False\",\"T\",\"EveryTick\"))","v":{"$error":"#N/A"}},null,{"$f":"IF(D71=0,NA(),RTD(\"cqg.rtd\",,\"StudyData\", \"Close(\"&$AV$2&\") When Barix(\"&$AV$2&\",reference:=StartOfSession)=\"&A71&\"\", \"Bar\", \"\", \"Close\",\"5\",\"0\",\"All\",,,\"False\",\"T\",\"EveryTick\"))","v":{"$error":"#N/A"}},null,{"$f":"IF(D71=0,NA(),RTD(\"cqg.rtd\",,\"StudyData\", \"Close(\"&$AX$2&\") When Barix(\"&$AX$2&\",reference:=StartOfSession)=\"&A71&\"\", \"Bar\", \"\", \"Close\",\"5\",\"0\",\"All\",,,\"False\",\"T\",\"EveryTick\"))","v":{"$error":"#N/A"}},null,{"$f":"IF(D71=0,NA(),RTD(\"cqg.rtd\",,\"StudyData\", \"Close(\"&$AZ$2&\") When Barix(\"&$AZ$2&\",reference:=StartOfSession)=\"&A71&\"\", \"Bar\", \"\", \"Close\",\"5\",\"0\",\"All\",,,\"False\",\"T\",\"EveryTick\"))","v":{"$error":"#N/A"}},null,{"$f":"IF(D71=0,NA(),RTD(\"cqg.rtd\",,\"StudyData\", \"Close(\"&$BB$2&\") When Barix(\"&$BB$2&\",reference:=StartOfSession)=\"&A71&\"\", \"Bar\", \"\", \"Close\",\"5\",\"0\",\"All\",,,\"False\",\"T\",\"EveryTick\"))","v":{"$error":"#N/A"}},null,{"$f":"IF(D71=0,NA(),RTD(\"cqg.rtd\",,\"StudyData\", \"Close(\"&$BD$2&\") When Barix(\"&$BD$2&\",reference:=StartOfSession)=\"&A71&\"\", \"Bar\", \"\", \"Close\",\"5\",\"0\",\"All\",,,\"False\",\"T\",\"EveryTick\"))","v":{"$error":"#N/A"}},null,{"$f":"IF(D71=0,NA(),RTD(\"cqg.rtd\",,\"StudyData\", \"Close(\"&$BF$2&\") When Barix(\"&$BF$2&\",reference:=StartOfSession)=\"&A71&\"\", \"Bar\", \"\", \"Close\",\"5\",\"0\",\"All\",,,\"False\",\"T\",\"EveryTick\"))","v":{"$error":"#N/A"}},null,{"$f":"IF(D71=0,NA(),RTD(\"cqg.rtd\",,\"StudyData\", \"Close(\"&$BH$2&\") When Barix(\"&$BH$2&\",reference:=StartOfSession)=\"&A71&\"\", \"Bar\", \"\", \"Close\",\"5\",\"0\",\"All\",,,\"False\",\"T\",\"EveryTick\"))","v":{"$error":"#N/A"}},null,{"$f":"IF(D71=0,NA(),RTD(\"cqg.rtd\",,\"StudyData\", \"Close(\"&$BJ$2&\") When Barix(\"&$BJ$2&\",reference:=StartOfSession)=\"&A71&\"\", \"Bar\", \"\", \"Close\",\"5\",\"0\",\"All\",,,\"False\",\"T\",\"EveryTick\"))","v":{"$error":"#N/A"}},null,{"$f":"IF(D71=0,NA(),RTD(\"cqg.rtd\",,\"StudyData\", \"Close(\"&$BL$2&\") When Barix(\"&$BL$2&\",reference:=StartOfSession)=\"&A71&\"\", \"Bar\", \"\", \"Close\",\"5\",\"0\",\"All\",,,\"False\",\"T\",\"EveryTick\"))","v":{"$error":"#N/A"}},null,{"$f":"IF(D71=0,NA(),RTD(\"cqg.rtd\",,\"StudyData\", \"Close(\"&$BN$2&\") When Barix(\"&$BN$2&\",reference:=StartOfSession)=\"&A71&\"\", \"Bar\", \"\", \"Close\",\"5\",\"0\",\"All\",,,\"False\",\"T\",\"EveryTick\"))","v":{"$error":"#N/A"}},null,{"$f":"IF(D71=0,NA(),RTD(\"cqg.rtd\",,\"StudyData\", \"Close(\"&$BP$2&\") When Barix(\"&$BP$2&\",reference:=StartOfSession)=\"&A71&\"\", \"Bar\", \"\", \"Close\",\"5\",\"0\",\"All\",,,\"False\",\"T\",\"EveryTick\"))","v":{"$error":"#N/A"}},null,{"$f":"IF(D71=0,NA(),RTD(\"cqg.rtd\",,\"StudyData\", \"Close(\"&$BR$2&\") When Barix(\"&$BR$2&\",reference:=StartOfSession)=\"&A71&\"\", \"Bar\", \"\", \"Close\",\"5\",\"0\",\"All\",,,\"False\",\"T\",\"EveryTick\"))","v":{"$error":"#N/A"}},null,{"$f":"IF(D71=0,NA(),RTD(\"cqg.rtd\",,\"StudyData\", \"Close(\"&$BT$2&\") When Barix(\"&$BT$2&\",reference:=StartOfSession)=\"&A71&\"\", \"Bar\", \"\", \"Close\",\"5\",\"0\",\"All\",,,\"False\",\"T\",\"EveryTick\"))","v":{"$error":"#N/A"}},null,{"$f":"IF(D71=0,NA(),RTD(\"cqg.rtd\",,\"StudyData\", \"Close(\"&$BV$2&\") When Barix(\"&$BV$2&\",reference:=StartOfSession)=\"&A71&\"\", \"Bar\", \"\", \"Close\",\"5\",\"0\",\"All\",,,\"False\",\"T\",\"EveryTick\"))","v":{"$error":"#N/A"}},null,{"$f":"IF(D71=0,NA(),RTD(\"cqg.rtd\",,\"StudyData\", \"Close(\"&$BX$2&\") When Barix(\"&$BX$2&\",reference:=StartOfSession)=\"&A71&\"\", \"Bar\", \"\", \"Close\",\"5\",\"0\",\"All\",,,\"False\",\"T\",\"EveryTick\"))","v":{"$error":"#N/A"}},null,{"$f":"IF(D71=0,NA(),RTD(\"cqg.rtd\",,\"StudyData\", \"Close(\"&$BZ$2&\") When Barix(\"&$BZ$2&\",reference:=StartOfSession)=\"&A71&\"\", \"Bar\", \"\", \"Close\",\"5\",\"0\",\"All\",,,\"False\",\"T\",\"EveryTick\"))","v":{"$error":"#N/A"}}]
[68,{"$f":"IF(D72=0,NA(),RTD(\"cqg.rtd\",,\"StudyData\", \"Close(\"&$B$2&\") When Barix(\"&$B$2&\",reference:=StartOfSession)=\"&A72&\"\", \"Bar\", \"\", \"Close\",\"5\",\"0\",\"All\",,,\"False\",\"T\",\"EveryTick\"))","v":{"$error":"#N/A"}},"14:10:00",0,null,{"$f":"IF(D72=0,NA(),RTD(\"cqg.rtd\",,\"StudyData\", \"Close(\"&$F$2&\") When Barix(\"&$F$2&\",reference:=StartOfSession)=\"&A72&\"\", \"Bar\", \"\", \"Close\",\"5\",\"0\",\"All\",,,\"False\",\"T\",\"EveryTick\"))","v":{"$error":"#N/A"}},null,{"$f":"IF(D72=0,NA(),RTD(\"cqg.rtd\",,\"StudyData\", \"Close(\"&$H$2&\") When Barix(\"&$H$2&\",reference:=StartOfSession)=\"&A72&\"\", \"Bar\", \"\", \"Close\",\"5\",\"0\",\"All\",,,\"False\",\"T\",\"EveryTick\"))","v":{"$error":"#N/A"}},null,{"$f":"IF(D72=0,NA(),RTD(\"cqg.rtd\",,\"StudyData\", \"Close(\"&$J$2&\") When Barix(\"&$J$2&\",reference:=StartOfSession)=\"&A72&\"\", \"Bar\", \"\", \"Close\",\"5\",\"0\",\"All\",,,\"False\",\"T\",\"EveryTick\"))","v":{"$error":"#N/A"}},null,{"$f":"IF(D72=0,NA(),RTD(\"cqg.rtd\",,\"StudyData\", \"Close(\"&$L$2&\") When Barix(\"&$L$2&\",reference:=StartOfSession)=\"&A72&\"\", \"Bar\", \"\", \"Close\",\"5\",\"0\",\"All\",,,\"False\",\"T\",\"EveryTick\"))","v":{"$error":"#N/A"}},null,{"$f":"IF(D72=0,NA(),RTD(\"cqg.rtd\",,\"StudyData\", \"Close(\"&$N$2&\") When Barix(\"&$N$2&\",reference:=StartOfSession)=\"&A72&\"\", \"Bar\", \"\", \"Close\",\"5\",\"0\",\"All\",,,\"False\",\"T\",\"EveryTick\"))","v":{"$error":"#N/A"}},null,{"$f":"IF(D72=0,NA(),RTD(\"cqg.rtd\",,\"StudyData\", \"Close(\"&$P$2&\") When Barix(\"&$P$2&\",reference:=StartOfSession)=\"&A72&\"\", \"Bar\", \"\", \"Close\",\"5\",\"0\",\"All\",,,\"False\",\"T\",\"EveryTick\"))","v":{"$error":"#N/A"}},null,{"$f":"IF(D72=0,NA(),RTD(\"cqg.rtd\",,\"StudyData\", \"Close(\"&$R$2&\") When Barix(\"&$R$2&\",reference:=StartOfSession)=\"&A72&\"\", \"Bar\", \"\", \"Close\",\"5\",\"0\",\"All\",,,\"False\",\"T\",\"EveryTick\"))","v":{"$error":"#N/A"}},null,{"$f":"IF(D72=0,NA(),RTD(\"cqg.rtd\",,\"StudyData\", \"Close(\"&$T$2&\") When Barix(\"&$T$2&\",reference:=StartOfSession)=\"&A72&\"\", \"Bar\", \"\", \"Close\",\"5\",\"0\",\"All\",,,\"False\",\"T\",\"EveryTick\"))","v":{"$error":"#N/A"}},null,{"$f":"IF(D72=0,NA(),RTD(\"cqg.rtd\",,\"StudyData\", \"Close(\"&$V$2&\") When Barix(\"&$V$2&\",reference:=StartOfSession)=\"&A72&\"\", \"Bar\", \"\", \"Close\",\"5\",\"0\",\"All\",,,\"False\",\"T\",\"EveryTick\"))","v":{"$error":"#N/A"}},null,{"$f":"IF(D72=0,NA(),RTD(\"cqg.rtd\",,\"StudyData\", \"Close(\"&$X$2&\") When Barix(\"&$X$2&\",reference:=StartOfSession)=\"&A72&\"\", \"Bar\", \"\", \"Close\",\"5\",\"0\",\"All\",,,\"False\",\"T\",\"EveryTick\"))","v":{"$error":"#N/A"}},null,{"$f":"IF(D72=0,NA(),RTD(\"cqg.rtd\",,\"StudyData\", \"Close(\"&$Z$2&\") When Barix(\"&$Z$2&\",reference:=StartOfSession)=\"&A72&\"\", \"Bar\", \"\", \"Close\",\"5\",\"0\",\"All\",,,\"False\",\"T\",\"EveryTick\"))","v":{"$error":"#N/A"}},null,{"$f":"IF(D72=0,NA(),RTD(\"cqg.rtd\",,\"StudyData\", \"Close(\"&$AB$2&\") When Barix(\"&$AB$2&\",reference:=StartOfSession)=\"&A72&\"\", \"Bar\", \"\", \"Close\",\"5\",\"0\",\"All\",,,\"False\",\"T\",\"EveryTick\"))","v":{"$error":"#N/A"}},null,{"$f":"IF(D72=0,NA(),RTD(\"cqg.rtd\",,\"StudyData\", \"Close(\"&$AD$2&\") When Barix(\"&$AD$2&\",reference:=StartOfSession)=\"&A72&\"\", \"Bar\", \"\", \"Close\",\"5\",\"0\",\"All\",,,\"False\",\"T\",\"EveryTick\"))","v":{"$error":"#N/A"}},null,{"$f":"IF(D72=0,NA(),RTD(\"cqg.rtd\",,\"StudyData\", \"Close(\"&$AF$2&\") When Barix(\"&$AF$2&\",reference:=StartOfSession)=\"&A72&\"\", \"Bar\", \"\", \"Close\",\"5\",\"0\",\"All\",,,\"False\",\"T\",\"EveryTick\"))","v":{"$error":"#N/A"}},null,{"$f":"IF(D72=0,NA(),RTD(\"cqg.rtd\",,\"StudyData\", \"Close(\"&$AH$2&\") When Barix(\"&$AH$2&\",reference:=StartOfSession)=\"&A72&\"\", \"Bar\", \"\", \"Close\",\"5\",\"0\",\"All\",,,\"False\",\"T\",\"EveryTick\"))","v":{"$error":"#N/A"}},null,{"$f":"IF(D72=0,NA(),RTD(\"cqg.rtd\",,\"StudyData\", \"Close(\"&$AJ$2&\") When Barix(\"&$AJ$2&\",reference:=StartOfSession)=\"&A72&\"\", \"Bar\", \"\", \"Close\",\"5\",\"0\",\"All\",,,\"False\",\"T\",\"EveryTick\"))","v":{"$error":"#N/A"}},null,{"$f":"IF(D72=0,NA(),RTD(\"cqg.rtd\",,\"StudyData\", \"Close(\"&$AL$2&\") When Barix(\"&$AL$2&\",reference:=StartOfSession)=\"&A72&\"\", \"Bar\", \"\", \"Close\",\"5\",\"0\",\"All\",,,\"False\",\"T\",\"EveryTick\"))","v":{"$error":"#N/A"}},null,{"$f":"IF(D72=0,NA(),RTD(\"cqg.rtd\",,\"StudyData\", \"Close(\"&$AN$2&\") When Barix(\"&$AN$2&\",reference:=StartOfSession)=\"&A72&\"\", \"Bar\", \"\", \"Close\",\"5\",\"0\",\"All\",,,\"False\",\"T\",\"EveryTick\"))","v":{"$error":"#N/A"}},null,{"$f":"IF(D72=0,NA(),RTD(\"cqg.rtd\",,\"StudyData\", \"Close(\"&$AN$2&\") When Barix(\"&$AN$2&\",reference:=StartOfSession)=\"&A72&\"\", \"Bar\", \"\", \"Close\",\"5\",\"0\",\"All\",,,\"False\",\"T\",\"EveryTick\"))","v":{"$error":"#N/A"}},null,{"$f":"IF(D72=0,NA(),RTD(\"cqg.rtd\",,\"StudyData\", \"Close(\"&$AR$2&\") When Barix(\"&$AR$2&\",reference:=StartOfSession)=\"&A72&\"\", \"Bar\", \"\", \"Close\",\"5\",\"0\",\"All\",,,\"False\",\"T\",\"EveryTick\"))","v":{"$error":"#N/A"}},null,{"$f":"IF(D72=0,NA(),RTD(\"cqg.rtd\",,\"StudyData\", \"Close(\"&$AT$2&\") When Barix(\"&$AT$2&\",reference:=StartOfSession)=\"&A72&\"\", \"Bar\", \"\", \"Close\",\"5\",\"0\",\"All\",,,\"False\",\"T\",\"EveryTick\"))","v":{"$error":"#N/A"}},null,{"$f":"IF(D72=0,NA(),RTD(\"cqg.rtd\",,\"StudyData\", \"Close(\"&$AV$2&\") When Barix(\"&$AV$2&\",reference:=StartOfSession)=\"&A72&\"\", \"Bar\", \"\", \"Close\",\"5\",\"0\",\"All\",,,\"False\",\"T\",\"EveryTick\"))","v":{"$error":"#N/A"}},null,{"$f":"IF(D72=0,NA(),RTD(\"cqg.rtd\",,\"StudyData\", \"Close(\"&$AX$2&\") When Barix(\"&$AX$2&\",reference:=StartOfSession)=\"&A72&\"\", \"Bar\", \"\", \"Close\",\"5\",\"0\",\"All\",,,\"False\",\"T\",\"EveryTick\"))","v":{"$error":"#N/A"}},null,{"$f":"IF(D72=0,NA(),RTD(\"cqg.rtd\",,\"StudyData\", \"Close(\"&$AZ$2&\") When Barix(\"&$AZ$2&\",reference:=StartOfSession)=\"&A72&\"\", \"Bar\", \"\", \"Close\",\"5\",\"0\",\"All\",,,\"False\",\"T\",\"EveryTick\"))","v":{"$error":"#N/A"}},null,{"$f":"IF(D72=0,NA(),RTD(\"cqg.rtd\",,\"StudyData\", \"Close(\"&$BB$2&\") When Barix(\"&$BB$2&\",reference:=StartOfSession)=\"&A72&\"\", \"Bar\", \"\", \"Close\",\"5\",\"0\",\"All\",,,\"False\",\"T\",\"EveryTick\"))","v":{"$error":"#N/A"}},null,{"$f":"IF(D72=0,NA(),RTD(\"cqg.rtd\",,\"StudyData\", \"Close(\"&$BD$2&\") When Barix(\"&$BD$2&\",reference:=StartOfSession)=\"&A72&\"\", \"Bar\", \"\", \"Close\",\"5\",\"0\",\"All\",,,\"False\",\"T\",\"EveryTick\"))","v":{"$error":"#N/A"}},null,{"$f":"IF(D72=0,NA(),RTD(\"cqg.rtd\",,\"StudyData\", \"Close(\"&$BF$2&\") When Barix(\"&$BF$2&\",reference:=StartOfSession)=\"&A72&\"\", \"Bar\", \"\", \"Close\",\"5\",\"0\",\"All\",,,\"False\",\"T\",\"EveryTick\"))","v":{"$error":"#N/A"}},null,{"$f":"IF(D72=0,NA(),RTD(\"cqg.rtd\",,\"StudyData\", \"Close(\"&$BH$2&\") When Barix(\"&$BH$2&\",reference:=StartOfSession)=\"&A72&\"\", \"Bar\", \"\", \"Close\",\"5\",\"0\",\"All\",,,\"False\",\"T\",\"EveryTick\"))","v":{"$error":"#N/A"}},null,{"$f":"IF(D72=0,NA(),RTD(\"cqg.rtd\",,\"StudyData\", \"Close(\"&$BJ$2&\") When Barix(\"&$BJ$2&\",reference:=StartOfSession)=\"&A72&\"\", \"Bar\", \"\", \"Close\",\"5\",\"0\",\"All\",,,\"False\",\"T\",\"EveryTick\"))","v":{"$error":"#N/A"}},null,{"$f":"IF(D72=0,NA(),RTD(\"cqg.rtd\",,\"StudyData\", \"Close(\"&$BL$2&\") When Barix(\"&$BL$2&\",reference:=StartOfSession)=\"&A72&\"\", \"Bar\", \"\", \"Close\",\"5\",\"0\",\"All\",,,\"False\",\"T\",\"EveryTick\"))","v":{"$error":"#N/A"}},null,{"$f":"IF(D72=0,NA(),RTD(\"cqg.rtd\",,\"StudyData\", \"Close(\"&$BN$2&\") When Barix(\"&$BN$2&\",reference:=StartOfSession)=\"&A72&\"\", \"Bar\", \"\", \"Close\",\"5\",\"0\",\"All\",,,\"False\",\"T\",\"EveryTick\"))","v":{"$error":"#N/A"}},null,{"$f":"IF(D72=0,NA(),RTD(\"cqg.rtd\",,\"StudyData\", \"Close(\"&$BP$2&\") When Barix(\"&$BP$2&\",reference:=StartOfSession)=\"&A72&\"\", \"Bar\", \"\", \"Close\",\"5\",\"0\",\"All\",,,\"False\",\"T\",\"EveryTick\"))","v":{"$error":"#N/A"}},null,{"$f":"IF(D72=0,NA(),RTD(\"cqg.rtd\",,\"StudyData\", \"Close(\"&$BR$2&\") When Barix(\"&$BR$2&\",reference:=StartOfSession)=\"&A72&\"\", \"Bar\", \"\", \"Close\",\"5\",\"0\",\"All\",,,\"False\",\"T\",\"EveryTick\"))","v":{"$error":"#N/A"}},null,{"$f":"IF(D72=0,NA(),RTD(\"cqg.rtd\",,\"StudyData\", \"Close(\"&$BT$2&\") When Barix(\"&$BT$2&\",reference:=StartOfSession)=\"&A72&\"\", \"Bar\", \"\", \"Close\",\"5\",\"0\",\"All\",,,\"False\",\"T\",\"EveryTick\"))","v":{"$error":"#N/A"}},null,{"$f":"IF(D72=0,NA(),RTD(\"cqg.rtd\",,\"StudyData\", \"Close(\"&$BV$2&\") When Barix(\"&$BV$2&\",reference:=StartOfSession)=\"&A72&\"\", \"Bar\", \"\", \"Close\",\"5\",\"0\",\"All\",,,\"False\",\"T\",\"EveryTick\"))","v":{"$error":"#N/A"}},null,{"$f":"IF(D72=0,NA(),RTD(\"cqg.rtd\",,\"StudyData\", \"Close(\"&$BX$2&\") When Barix(\"&$BX$2&\",reference:=StartOfSession)=\"&A72&\"\", \"Bar\", \"\", \"Close\",\"5\",\"0\",\"All\",,,\"False\",\"T\",\"EveryTick\"))","v":{"$error":"#N/A"}},null,{"$f":"IF(D72=0,NA(),RTD(\"cqg.rtd\",,\"StudyData\", \"Close(\"&$BZ$2&\") When Barix(\"&$BZ$2&\",reference:=StartOfSession)=\"&A72&\"\", \"Bar\", \"\", \"Close\",\"5\",\"0\",\"All\",,,\"False\",\"T\",\"EveryTick\"))","v":{"$error":"#N/A"}}]
[69,{"$f":"IF(D73=0,NA(),RTD(\"cqg.rtd\",,\"StudyData\", \"Close(\"&$B$2&\") When Barix(\"&$B$2&\",reference:=StartOfSession)=\"&A73&\"\", \"Bar\", \"\", \"Close\",\"5\",\"0\",\"All\",,,\"False\",\"T\",\"EveryTick\"))","v":{"$error":"#N/A"}},"14:15:00",0,null,{"$f":"IF(D73=0,NA(),RTD(\"cqg.rtd\",,\"StudyData\", \"Close(\"&$F$2&\") When Barix(\"&$F$2&\",reference:=StartOfSession)=\"&A73&\"\", \"Bar\", \"\", \"Close\",\"5\",\"0\",\"All\",,,\"False\",\"T\",\"EveryTick\"))","v":{"$error":"#N/A"}},null,{"$f":"IF(D73=0,NA(),RTD(\"cqg.rtd\",,\"StudyData\", \"Close(\"&$H$2&\") When Barix(\"&$H$2&\",reference:=StartOfSession)=\"&A73&\"\", \"Bar\", \"\", \"Close\",\"5\",\"0\",\"All\",,,\"False\",\"T\",\"EveryTick\"))","v":{"$error":"#N/A"}},null,{"$f":"IF(D73=0,NA(),RTD(\"cqg.rtd\",,\"StudyData\", \"Close(\"&$J$2&\") When Barix(\"&$J$2&\",reference:=StartOfSession)=\"&A73&\"\", \"Bar\", \"\", \"Close\",\"5\",\"0\",\"All\",,,\"False\",\"T\",\"EveryTick\"))","v":{"$error":"#N/A"}},null,{"$f":"IF(D73=0,NA(),RTD(\"cqg.rtd\",,\"StudyData\", \"Close(\"&$L$2&\") When Barix(\"&$L$2&\",reference:=StartOfSession)=\"&A73&\"\", \"Bar\", \"\", \"Close\",\"5\",\"0\",\"All\",,,\"False\",\"T\",\"EveryTick\"))","v":{"$error":"#N/A"}},null,{"$f":"IF(D73=0,NA(),RTD(\"cqg.rtd\",,\"StudyData\", \"Close(\"&$N$2&\") When Barix(\"&$N$2&\",reference:=StartOfSession)=\"&A73&\"\", \"Bar\", \"\", \"Close\",\"5\",\"0\",\"All\",,,\"False\",\"T\",\"EveryTick\"))","v":{"$error":"#N/A"}},null,{"$f":"IF(D73=0,NA(),RTD(\"cqg.rtd\",,\"StudyData\", \"Close(\"&$P$2&\") When Barix(\"&$P$2&\",reference:=StartOfSession)=\"&A73&\"\", \"Bar\", \"\", \"Close\",\"5\",\"0\",\"All\",,,\"False\",\"T\",\"EveryTick\"))","v":{"$error":"#N/A"}},null,{"$f":"IF(D73=0,NA(),RTD(\"cqg.rtd\",,\"StudyData\", \"Close(\"&$R$2&\") When Barix(\"&$R$2&\",reference:=StartOfSession)=\"&A73&\"\", \"Bar\", \"\", \"Close\",\"5\",\"0\",\"All\",,,\"False\",\"T\",\"EveryTick\"))","v":{"$error":"#N/A"}},null,{"$f":"IF(D73=0,NA(),RTD(\"cqg.rtd\",,\"StudyData\", \"Close(\"&$T$2&\") When Barix(\"&$T$2&\",reference:=StartOfSession)=\"&A73&\"\", \"Bar\", \"\", \"Close\",\"5\",\"0\",\"All\",,,\"False\",\"T\",\"EveryTick\"))","v":{"$error":"#N/A"}},null,{"$f":"IF(D73=0,NA(),RTD(\"cqg.rtd\",,\"StudyData\", \"Close(\"&$V$2&\") When Barix(\"&$V$2&\",reference:=StartOfSession)=\"&A73&\"\", \"Bar\", \"\", \"Close\",\"5\",\"0\",\"All\",,,\"False\",\"T\",\"EveryTick\"))","v":{"$error":"#N/A"}},null,{"$f":"IF(D73=0,NA(),RTD(\"cqg.rtd\",,\"StudyData\", \"Close(\"&$X$2&\") When Barix(\"&$X$2&\",reference:=StartOfSession)=\"&A73&\"\", \"Bar\", \"\", \"Close\",\"5\",\"0\",\"All\",,,\"False\",\"T\",\"EveryTick\"))","v":{"$error":"#N/A"}},null,{"$f":"IF(D73=0,NA(),RTD(\"cqg.rtd\",,\"StudyData\", \"Close(\"&$Z$2&\") When Barix(\"&$Z$2&\",reference:=StartOfSession)=\"&A73&\"\", \"Bar\", \"\", \"Close\",\"5\",\"0\",\"All\",,,\"False\",\"T\",\"EveryTick\"))","v":{"$error":"#N/A"}},null,{"$f":"IF(D73=0,NA(),RTD(\"cqg.rtd\",,\"StudyData\", \"Close(\"&$AB$2&\") When Barix(\"&$AB$2&\",reference:=StartOfSession)=\"&A73&\"\", \"Bar\", \"\", \"Close\",\"5\",\"0\",\"All\",,,\"False\",\"T\",\"EveryTick\"))","v":{"$error":"#N/A"}},null,{"$f":"IF(D73=0,NA(),RTD(\"cqg.rtd\",,\"StudyData\", \"Close(\"&$AD$2&\") When Barix(\"&$AD$2&\",reference:=StartOfSession)=\"&A73&\"\", \"Bar\", \"\", \"Close\",\"5\",\"0\",\"All\",,,\"False\",\"T\",\"EveryTick\"))","v":{"$error":"#N/A"}},null,{"$f":"IF(D73=0,NA(),RTD(\"cqg.rtd\",,\"StudyData\", \"Close(\"&$AF$2&\") When Barix(\"&$AF$2&\",reference:=StartOfSession)=\"&A73&\"\", \"Bar\", \"\", \"Close\",\"5\",\"0\",\"All\",,,\"False\",\"T\",\"EveryTick\"))","v":{"$error":"#N/A"}},null,{"$f":"IF(D73=0,NA(),RTD(\"cqg.rtd\",,\"StudyData\", \"Close(\"&$AH$2&\") When Barix(\"&$AH$2&\",reference:=StartOfSession)=\"&A73&\"\", \"Bar\", \"\", \"Close\",\"5\",\"0\",\"All\",,,\"False\",\"T\",\"EveryTick\"))","v":{"$error":"#N/A"}},null,{"$f":"IF(D73=0,NA(),RTD(\"cqg.rtd\",,\"StudyData\", \"Close(\"&$AJ$2&\") When Barix(\"&$AJ$2&\",reference:=StartOfSession)=\"&A73&\"\", \"Bar\", \"\", \"Close\",\"5\",\"0\",\"All\",,,\"False\",\"T\",\"EveryTick\"))","v":{"$error":"#N/A"}},null,{"$f":"IF(D73=0,NA(),RTD(\"cqg.rtd\",,\"StudyData\", \"Close(\"&$AL$2&\") When Barix(\"&$AL$2&\",reference:=StartOfSession)=\"&A73&\"\", \"Bar\", \"\", \"Close\",\"5\",\"0\",\"All\",,,\"False\",\"T\",\"EveryTick\"))","v":{"$error":"#N/A"}},null,{"$f":"IF(D73=0,NA(),RTD(\"cqg.rtd\",,\"StudyData\", \"Close(\"&$AN$2&\") When Barix(\"&$AN$2&\",reference:=StartOfSession)=\"&A73&\"\", \"Bar\", \"\", \"Close\",\"5\",\"0\",\"All\",,,\"False\",\"T\",\"EveryTick\"))","v":{"$error":"#N/A"}},null,{"$f":"IF(D73=0,NA(),RTD(\"cqg.rtd\",,\"StudyData\", \"Close(\"&$AN$2&\") When Barix(\"&$AN$2&\",reference:=StartOfSession)=\"&A73&\"\", \"Bar\", \"\", \"Close\",\"5\",\"0\",\"All\",,,\"False\",\"T\",\"EveryTick\"))","v":{"$error":"#N/A"}},null,{"$f":"IF(D73=0,NA(),RTD(\"cqg.rtd\",,\"StudyData\", \"Close(\"&$AR$2&\") When Barix(\"&$AR$2&\",reference:=StartOfSession)=\"&A73&\"\", \"Bar\", \"\", \"Close\",\"5\",\"0\",\"All\",,,\"False\",\"T\",\"EveryTick\"))","v":{"$error":"#N/A"}},null,{"$f":"IF(D73=0,NA(),RTD(\"cqg.rtd\",,\"StudyData\", \"Close(\"&$AT$2&\") When Barix(\"&$AT$2&\",reference:=StartOfSession)=\"&A73&\"\", \"Bar\", \"\", \"Close\",\"5\",\"0\",\"All\",,,\"False\",\"T\",\"EveryTick\"))","v":{"$error":"#N/A"}},null,{"$f":"IF(D73=0,NA(),RTD(\"cqg.rtd\",,\"StudyData\", \"Close(\"&$AV$2&\") When Barix(\"&$AV$2&\",reference:=StartOfSession)=\"&A73&\"\", \"Bar\", \"\", \"Close\",\"5\",\"0\",\"All\",,,\"False\",\"T\",\"EveryTick\"))","v":{"$error":"#N/A"}},null,{"$f":"IF(D73=0,NA(),RTD(\"cqg.rtd\",,\"StudyData\", \"Close(\"&$AX$2&\") When Barix(\"&$AX$2&\",reference:=StartOfSession)=\"&A73&\"\", \"Bar\", \"\", \"Close\",\"5\",\"0\",\"All\",,,\"False\",\"T\",\"EveryTick\"))","v":{"$error":"#N/A"}},null,{"$f":"IF(D73=0,NA(),RTD(\"cqg.rtd\",,\"StudyData\", \"Close(\"&$AZ$2&\") When Barix(\"&$AZ$2&\",reference:=StartOfSession)=\"&A73&\"\", \"Bar\", \"\", \"Close\",\"5\",\"0\",\"All\",,,\"False\",\"T\",\"EveryTick\"))","v":{"$error":"#N/A"}},null,{"$f":"IF(D73=0,NA(),RTD(\"cqg.rtd\",,\"StudyData\", \"Close(\"&$BB$2&\") When Barix(\"&$BB$2&\",reference:=StartOfSession)=\"&A73&\"\", \"Bar\", \"\", \"Close\",\"5\",\"0\",\"All\",,,\"False\",\"T\",\"EveryTick\"))","v":{"$error":"#N/A"}},null,{"$f":"IF(D73=0,NA(),RTD(\"cqg.rtd\",,\"StudyData\", \"Close(\"&$BD$2&\") When Barix(\"&$BD$2&\",reference:=StartOfSession)=\"&A73&\"\", \"Bar\", \"\", \"Close\",\"5\",\"0\",\"All\",,,\"False\",\"T\",\"EveryTick\"))","v":{"$error":"#N/A"}},null,{"$f":"IF(D73=0,NA(),RTD(\"cqg.rtd\",,\"StudyData\", \"Close(\"&$BF$2&\") When Barix(\"&$BF$2&\",reference:=StartOfSession)=\"&A73&\"\", \"Bar\", \"\", \"Close\",\"5\",\"0\",\"All\",,,\"False\",\"T\",\"EveryTick\"))","v":{"$error":"#N/A"}},null,{"$f":"IF(D73=0,NA(),RTD(\"cqg.rtd\",,\"StudyData\", \"Close(\"&$BH$2&\") When Barix(\"&$BH$2&\",reference:=StartOfSession)=\"&A73&\"\", \"Bar\", \"\", \"Close\",\"5\",\"0\",\"All\",,,\"False\",\"T\",\"EveryTick\"))","v":{"$error":"#N/A"}},null,{"$f":"IF(D73=0,NA(),RTD(\"cqg.rtd\",,\"StudyData\", \"Close(\"&$BJ$2&\") When Barix(\"&$BJ$2&\",reference:=StartOfSession)=\"&A73&\"\", \"Bar\", \"\", \"Close\",\"5\",\"0\",\"All\",,,\"False\",\"T\",\"EveryTick\"))","v":{"$error":"#N/A"}},null,{"$f":"IF(D73=0,NA(),RTD(\"cqg.rtd\",,\"StudyData\", \"Close(\"&$BL$2&\") When Barix(\"&$BL$2&\",reference:=StartOfSession)=\"&A73&\"\", \"Bar\", \"\", \"Close\",\"5\",\"0\",\"All\",,,\"False\",\"T\",\"EveryTick\"))","v":{"$error":"#N/A"}},null,{"$f":"IF(D73=0,NA(),RTD(\"cqg.rtd\",,\"StudyData\", \"Close(\"&$BN$2&\") When Barix(\"&$BN$2&\",reference:=StartOfSession)=\"&A73&\"\", \"Bar\", \"\", \"Close\",\"5\",\"0\",\"All\",,,\"False\",\"T\",\"EveryTick\"))","v":{"$error":"#N/A"}},null,{"$f":"IF(D73=0,NA(),RTD(\"cqg.rtd\",,\"StudyData\", \"Close(\"&$BP$2&\") When Barix(\"&$BP$2&\",reference:=StartOfSession)=\"&A73&\"\", \"Bar\", \"\", \"Close\",\"5\",\"0\",\"All\",,,\"False\",\"T\",\"EveryTick\"))","v":{"$error":"#N/A"}},null,{"$f":"IF(D73=0,NA(),RTD(\"cqg.rtd\",,\"StudyData\", \"Close(\"&$BR$2&\") When Barix(\"&$BR$2&\",reference:=StartOfSession)=\"&A73&\"\", \"Bar\", \"\", \"Close\",\"5\",\"0\",\"All\",,,\"False\",\"T\",\"EveryTick\"))","v":{"$error":"#N/A"}},null,{"$f":"IF(D73=0,NA(),RTD(\"cqg.rtd\",,\"StudyData\", \"Close(\"&$BT$2&\") When Barix(\"&$BT$2&\",reference:=StartOfSession)=\"&A73&\"\", \"Bar\", \"\", \"Close\",\"5\",\"0\",\"All\",,,\"False\",\"T\",\"EveryTick\"))","v":{"$error":"#N/A"}},null,{"$f":"IF(D73=0,NA(),RTD(\"cqg.rtd\",,\"StudyData\", \"Close(\"&$BV$2&\") When Barix(\"&$BV$2&\",reference:=StartOfSession)=\"&A73&\"\", \"Bar\", \"\", \"Close\",\"5\",\"0\",\"All\",,,\"False\",\"T\",\"EveryTick\"))","v":{"$error":"#N/A"}},null,{"$f":"IF(D73=0,NA(),RTD(\"cqg.rtd\",,\"StudyData\", \"Close(\"&$BX$2&\") When Barix(\"&$BX$2&\",reference:=StartOfSession)=\"&A73&\"\", \"Bar\", \"\", \"Close\",\"5\",\"0\",\"All\",,,\"False\",\"T\",\"EveryTick\"))","v":{"$error":"#N/A"}},null,{"$f":"IF(D73=0,NA(),RTD(\"cqg.rtd\",,\"StudyData\", \"Close(\"&$BZ$2&\") When Barix(\"&$BZ$2&\",reference:=StartOfSession)=\"&A73&\"\", \"Bar\", \"\", \"Close\",\"5\",\"0\",\"All\",,,\"False\",\"T\",\"EveryTick\"))","v":{"$error":"#N/A"}}]
[70,{"$f":"IF(D74=0,NA(),RTD(\"cqg.rtd\",,\"StudyData\", \"Close(\"&$B$2&\") When Barix(\"&$B$2&\",reference:=StartOfSession)=\"&A74&\"\", \"Bar\", \"\", \"Close\",\"5\",\"0\",\"All\",,,\"False\",\"T\",\"EveryTick\"))","v":{"$error":"#N/A"}},"14:20:00",0,null,{"$f":"IF(D74=0,NA(),RTD(\"cqg.rtd\",,\"StudyData\", \"Close(\"&$F$2&\") When Barix(\"&$F$2&\",reference:=StartOfSession)=\"&A74&\"\", \"Bar\", \"\", \"Close\",\"5\",\"0\",\"All\",,,\"False\",\"T\",\"EveryTick\"))","v":{"$error":"#N/A"}},null,{"$f":"IF(D74=0,NA(),RTD(\"cqg.rtd\",,\"StudyData\", \"Close(\"&$H$2&\") When Barix(\"&$H$2&\",reference:=StartOfSession)=\"&A74&\"\", \"Bar\", \"\", \"Close\",\"5\",\"0\",\"All\",,,\"False\",\"T\",\"EveryTick\"))","v":{"$error":"#N/A"}},null,{"$f":"IF(D74=0,NA(),RTD(\"cqg.rtd\",,\"StudyData\", \"Close(\"&$J$2&\") When Barix(\"&$J$2&\",reference:=StartOfSession)=\"&A74&\"\", \"Bar\", \"\", \"Close\",\"5\",\"0\",\"All\",,,\"False\",\"T\",\"EveryTick\"))","v":{"$error":"#N/A"}},null,{"$f":"IF(D74=0,NA(),RTD(\"cqg.rtd\",,\"StudyData\", \"Close(\"&$L$2&\") When Barix(\"&$L$2&\",reference:=StartOfSession)=\"&A74&\"\", \"Bar\", \"\", \"Close\",\"5\",\"0\",\"All\",,,\"False\",\"T\",\"EveryTick\"))","v":{"$error":"#N/A"}},null,{"$f":"IF(D74=0,NA(),RTD(\"cqg.rtd\",,\"StudyData\", \"Close(\"&$N$2&\") When Barix(\"&$N$2&\",reference:=StartOfSession)=\"&A74&\"\", \"Bar\", \"\", \"Close\",\"5\",\"0\",\"All\",,,\"False\",\"T\",\"EveryTick\"))","v":{"$error":"#N/A"}},null,{"$f":"IF(D74=0,NA(),RTD(\"cqg.rtd\",,\"StudyData\", \"Close(\"&$P$2&\") When Barix(\"&$P$2&\",reference:=StartOfSession)=\"&A74&\"\", \"Bar\", \"\", \"Close\",\"5\",\"0\",\"All\",,,\"False\",\"T\",\"EveryTick\"))","v":{"$error":"#N/A"}},null,{"$f":"IF(D74=0,NA(),RTD(\"cqg.rtd\",,\"StudyData\", \"Close(\"&$R$2&\") When Barix(\"&$R$2&\",reference:=StartOfSession)=\"&A74&\"\", \"Bar\", \"\", \"Close\",\"5\",\"0\",\"All\",,,\"False\",\"T\",\"EveryTick\"))","v":{"$error":"#N/A"}},null,{"$f":"IF(D74=0,NA(),RTD(\"cqg.rtd\",,\"StudyData\", \"Close(\"&$T$2&\") When Barix(\"&$T$2&\",reference:=StartOfSession)=\"&A74&\"\", \"Bar\", \"\", \"Close\",\"5\",\"0\",\"All\",,,\"False\",\"T\",\"EveryTick\"))","v":{"$error":"#N/A"}},null,{"$f":"IF(D74=0,NA(),RTD(\"cqg.rtd\",,\"StudyData\", \"Close(\"&$V$2&\") When Barix(\"&$V$2&\",reference:=StartOfSession)=\"&A74&\"\", \"Bar\", \"\", \"Close\",\"5\",\"0\",\"All\",,,\"False\",\"T\",\"EveryTick\"))","v":{"$error":"#N/A"}},null,{"$f":"IF(D74=0,NA(),RTD(\"cqg.rtd\",,\"StudyData\", \"Close(\"&$X$2&\") When Barix(\"&$X$2&\",reference:=StartOfSession)=\"&A74&\"\", \"Bar\", \"\", \"Close\",\"5\",\"0\",\"All\",,,\"False\",\"T\",\"EveryTick\"))","v":{"$error":"#N/A"}},null,{"$f":"IF(D74=0,NA(),RTD(\"cqg.rtd\",,\"StudyData\", \"Close(\"&$Z$2&\") When Barix(\"&$Z$2&\",reference:=StartOfSession)=\"&A74&\"\", \"Bar\", \"\", \"Close\",\"5\",\"0\",\"All\",,,\"False\",\"T\",\"EveryTick\"))","v":{"$error":"#N/A"}},null,{"$f":"IF(D74=0,NA(),RTD(\"cqg.rtd\",,\"StudyData\", \"Close(\"&$AB$2&\") When Barix(\"&$AB$2&\",reference:=StartOfSession)=\"&A74&\"\", \"Bar\", \"\", \"Close\",\"5\",\"0\",\"All\",,,\"False\",\"T\",\"EveryTick\"))","v":{"$error":"#N/A"}},null,{"$f":"IF(D74=0,NA(),RTD(\"cqg.rtd\",,\"StudyData\", \"Close(\"&$AD$2&\") When Barix(\"&$AD$2&\",reference:=StartOfSession)=\"&A74&\"\", \"Bar\", \"\", \"Close\",\"5\",\"0\",\"All\",,,\"False\",\"T\",\"EveryTick\"))","v":{"$error":"#N/A"}},null,{"$f":"IF(D74=0,NA(),RTD(\"cqg.rtd\",,\"StudyData\", \"Close(\"&$AF$2&\") When Barix(\"&$AF$2&\",reference:=StartOfSession)=\"&A74&\"\", \"Bar\", \"\", \"Close\",\"5\",\"0\",\"All\",,,\"False\",\"T\",\"EveryTick\"))","v":{"$error":"#N/A"}},null,{"$f":"IF(D74=0,NA(),RTD(\"cqg.rtd\",,\"StudyData\", \"Close(\"&$AH$2&\") When Barix(\"&$AH$2&\",reference:=StartOfSession)=\"&A74&\"\", \"Bar\", \"\", \"Close\",\"5\",\"0\",\"All\",,,\"False\",\"T\",\"EveryTick\"))","v":{"$error":"#N/A"}},null,{"$f":"IF(D74=0,NA(),RTD(\"cqg.rtd\",,\"StudyData\", \"Close(\"&$AJ$2&\") When Barix(\"&$AJ$2&\",reference:=StartOfSession)=\"&A74&\"\", \"Bar\", \"\", \"Close\",\"5\",\"0\",\"All\",,,\"False\",\"T\",\"EveryTick\"))","v":{"$error":"#N/A"}},null,{"$f":"IF(D74=0,NA(),RTD(\"cqg.rtd\",,\"StudyData\", \"Close(\"&$AL$2&\") When Barix(\"&$AL$2&\",reference:=StartOfSession)=\"&A74&\"\", \"Bar\", \"\", \"Close\",\"5\",\"0\",\"All\",,,\"False\",\"T\",\"EveryTick\"))","v":{"$error":"#N/A"}},null,{"$f":"IF(D74=0,NA(),RTD(\"cqg.rtd\",,\"StudyData\", \"Close(\"&$AN$2&\") When Barix(\"&$AN$2&\",reference:=StartOfSession)=\"&A74&\"\", \"Bar\", \"\", \"Close\",\"5\",\"0\",\"All\",,,\"False\",\"T\",\"EveryTick\"))","v":{"$error":"#N/A"}},null,{"$f":"IF(D74=0,NA(),RTD(\"cqg.rtd\",,\"StudyData\", \"Close(\"&$AN$2&\") When Barix(\"&$AN$2&\",reference:=StartOfSession)=\"&A74&\"\", \"Bar\", \"\", \"Close\",\"5\",\"0\",\"All\",,,\"False\",\"T\",\"EveryTick\"))","v":{"$error":"#N/A"}},null,{"$f":"IF(D74=0,NA(),RTD(\"cqg.rtd\",,\"StudyData\", \"Close(\"&$AR$2&\") When Barix(\"&$AR$2&\",reference:=StartOfSession)=\"&A74&\"\", \"Bar\", \"\", \"Close\",\"5\",\"0\",\"All\",,,\"False\",\"T\",\"EveryTick\"))","v":{"$error":"#N/A"}},null,{"$f":"IF(D74=0,NA(),RTD(\"cqg.rtd\",,\"StudyData\", \"Close(\"&$AT$2&\") When Barix(\"&$AT$2&\",reference:=StartOfSession)=\"&A74&\"\", \"Bar\", \"\", \"Close\",\"5\",\"0\",\"All\",,,\"False\",\"T\",\"EveryTick\"))","v":{"$error":"#N/A"}},null,{"$f":"IF(D74=0,NA(),RTD(\"cqg.rtd\",,\"StudyData\", \"Close(\"&$AV$2&\") When Barix(\"&$AV$2&\",reference:=StartOfSession)=\"&A74&\"\", \"Bar\", \"\", \"Close\",\"5\",\"0\",\"All\",,,\"False\",\"T\",\"EveryTick\"))","v":{"$error":"#N/A"}},null,{"$f":"IF(D74=0,NA(),RTD(\"cqg.rtd\",,\"StudyData\", \"Close(\"&$AX$2&\") When Barix(\"&$AX$2&\",reference:=StartOfSession)=\"&A74&\"\", \"Bar\", \"\", \"Close\",\"5\",\"0\",\"All\",,,\"False\",\"T\",\"EveryTick\"))","v":{"$error":"#N/A"}},null,{"$f":"IF(D74=0,NA(),RTD(\"cqg.rtd\",,\"StudyData\", \"Close(\"&$AZ$2&\") When Barix(\"&$AZ$2&\",reference:=StartOfSession)=\"&A74&\"\", \"Bar\", \"\", \"Close\",\"5\",\"0\",\"All\",,,\"False\",\"T\",\"EveryTick\"))","v":{"$error":"#N/A"}},null,{"$f":"IF(D74=0,NA(),RTD(\"cqg.rtd\",,\"StudyData\", \"Close(\"&$BB$2&\") When Barix(\"&$BB$2&\",reference:=StartOfSession)=\"&A74&\"\", \"Bar\", \"\", \"Close\",\"5\",\"0\",\"All\",,,\"False\",\"T\",\"EveryTick\"))","v":{"$error":"#N/A"}},null,{"$f":"IF(D74=0,NA(),RTD(\"cqg.rtd\",,\"StudyData\", \"Close(\"&$BD$2&\") When Barix(\"&$BD$2&\",reference:=StartOfSession)=\"&A74&\"\", \"Bar\", \"\", \"Close\",\"5\",\"0\",\"All\",,,\"False\",\"T\",\"EveryTick\"))","v":{"$error":"#N/A"}},null,{"$f":"IF(D74=0,NA(),RTD(\"cqg.rtd\",,\"StudyData\", \"Close(\"&$BF$2&\") When Barix(\"&$BF$2&\",reference:=StartOfSession)=\"&A74&\"\", \"Bar\", \"\", \"Close\",\"5\",\"0\",\"All\",,,\"False\",\"T\",\"EveryTick\"))","v":{"$error":"#N/A"}},null,{"$f":"IF(D74=0,NA(),RTD(\"cqg.rtd\",,\"StudyData\", \"Close(\"&$BH$2&\") When Barix(\"&$BH$2&\",reference:=StartOfSession)=\"&A74&\"\", \"Bar\", \"\", \"Close\",\"5\",\"0\",\"All\",,,\"False\",\"T\",\"EveryTick\"))","v":{"$error":"#N/A"}},null,{"$f":"IF(D74=0,NA(),RTD(\"cqg.rtd\",,\"StudyData\", \"Close(\"&$BJ$2&\") When Barix(\"&$BJ$2&\",reference:=StartOfSession)=\"&A74&\"\", \"Bar\", \"\", \"Close\",\"5\",\"0\",\"All\",,,\"False\",\"T\",\"EveryTick\"))","v":{"$error":"#N/A"}},null,{"$f":"IF(D74=0,NA(),RTD(\"cqg.rtd\",,\"StudyData\", \"Close(\"&$BL$2&\") When Barix(\"&$BL$2&\",reference:=StartOfSession)=\"&A74&\"\", \"Bar\", \"\", \"Close\",\"5\",\"0\",\"All\",,,\"False\",\"T\",\"EveryTick\"))","v":{"$error":"#N/A"}},null,{"$f":"IF(D74=0,NA(),RTD(\"cqg.rtd\",,\"StudyData\", \"Close(\"&$BN$2&\") When Barix(\"&$BN$2&\",reference:=StartOfSession)=\"&A74&\"\", \"Bar\", \"\", \"Close\",\"5\",\"0\",\"All\",,,\"False\",\"T\",\"EveryTick\"))","v":{"$error":"#N/A"}},null,{"$f":"IF(D74=0,NA(),RTD(\"cqg.rtd\",,\"StudyData\", \"Close(\"&$BP$2&\") When Barix(\"&$BP$2&\",reference:=StartOfSession)=\"&A74&\"\", \"Bar\", \"\", \"Close\",\"5\",\"0\",\"All\",,,\"False\",\"T\",\"EveryTick\"))","v":{"$error":"#N/A"}},null,{"$f":"IF(D74=0,NA(),RTD(\"cqg.rtd\",,\"StudyData\", \"Close(\"&$BR$2&\") When Barix(\"&$BR$2&\",reference:=StartOfSession)=\"&A74&\"\", \"Bar\", \"\", \"Close\",\"5\",\"0\",\"All\",,,\"False\",\"T\",\"EveryTick\"))","v":{"$error":"#N/A"}},null,{"$f":"IF(D74=0,NA(),RTD(\"cqg.rtd\",,\"StudyData\", \"Close(\"&$BT$2&\") When Barix(\"&$BT$2&\",reference:=StartOfSession)=\"&A74&\"\", \"Bar\", \"\", \"Close\",\"5\",\"0\",\"All\",,,\"False\",\"T\",\"EveryTick\"))","v":{"$error":"#N/A"}},null,{"$f":"IF(D74=0,NA(),RTD(\"cqg.rtd\",,\"StudyData\", \"Close(\"&$BV$2&\") When Barix(\"&$BV$2&\",reference:=StartOfSession)=\"&A74&\"\", \"Bar\", \"\", \"Close\",\"5\",\"0\",\"All\",,,\"False\",\"T\",\"EveryTick\"))","v":{"$error":"#N/A"}},null,{"$f":"IF(D74=0,NA(),RTD(\"cqg.rtd\",,\"StudyData\", \"Close(\"&$BX$2&\") When Barix(\"&$BX$2&\",reference:=StartOfSession)=\"&A74&\"\", \"Bar\", \"\", \"Close\",\"5\",\"0\",\"All\",,,\"False\",\"T\",\"EveryTick\"))","v":{"$error":"#N/A"}},null,{"$f":"IF(D74=0,NA(),RTD(\"cqg.rtd\",,\"StudyData\", \"Close(\"&$BZ$2&\") When Barix(\"&$BZ$2&\",reference:=StartOfSession)=\"&A74&\"\", \"Bar\", \"\", \"Close\",\"5\",\"0\",\"All\",,,\"False\",\"T\",\"EveryTick\"))","v":{"$error":"#N/A"}}]
[71,{"$f":"IF(D75=0,NA(),RTD(\"cqg.rtd\",,\"StudyData\", \"Close(\"&$B$2&\") When Barix(\"&$B$2&\",reference:=StartOfSession)=\"&A75&\"\", \"Bar\", \"\", \"Close\",\"5\",\"0\",\"All\",,,\"False\",\"T\",\"EveryTick\"))","v":{"$error":"#N/A"}},"14:25:00",0,null,{"$f":"IF(D75=0,NA(),RTD(\"cqg.rtd\",,\"StudyData\", \"Close(\"&$F$2&\") When Barix(\"&$F$2&\",reference:=StartOfSession)=\"&A75&\"\", \"Bar\", \"\", \"Close\",\"5\",\"0\",\"All\",,,\"False\",\"T\",\"EveryTick\"))","v":{"$error":"#N/A"}},null,{"$f":"IF(D75=0,NA(),RTD(\"cqg.rtd\",,\"StudyData\", \"Close(\"&$H$2&\") When Barix(\"&$H$2&\",reference:=StartOfSession)=\"&A75&\"\", \"Bar\", \"\", \"Close\",\"5\",\"0\",\"All\",,,\"False\",\"T\",\"EveryTick\"))","v":{"$error":"#N/A"}},null,{"$f":"IF(D75=0,NA(),RTD(\"cqg.rtd\",,\"StudyData\", \"Close(\"&$J$2&\") When Barix(\"&$J$2&\",reference:=StartOfSession)=\"&A75&\"\", \"Bar\", \"\", \"Close\",\"5\",\"0\",\"All\",,,\"False\",\"T\",\"EveryTick\"))","v":{"$error":"#N/A"}},null,{"$f":"IF(D75=0,NA(),RTD(\"cqg.rtd\",,\"StudyData\", \"Close(\"&$L$2&\") When Barix(\"&$L$2&\",reference:=StartOfSession)=\"&A75&\"\", \"Bar\", \"\", \"Close\",\"5\",\"0\",\"All\",,,\"False\",\"T\",\"EveryTick\"))","v":{"$error":"#N/A"}},null,{"$f":"IF(D75=0,NA(),RTD(\"cqg.rtd\",,\"StudyData\", \"Close(\"&$N$2&\") When Barix(\"&$N$2&\",reference:=StartOfSession)=\"&A75&\"\", \"Bar\", \"\", \"Close\",\"5\",\"0\",\"All\",,,\"False\",\"T\",\"EveryTick\"))","v":{"$error":"#N/A"}},null,{"$f":"IF(D75=0,NA(),RTD(\"cqg.rtd\",,\"StudyData\", \"Close(\"&$P$2&\") When Barix(\"&$P$2&\",reference:=StartOfSession)=\"&A75&\"\", \"Bar\", \"\", \"Close\",\"5\",\"0\",\"All\",,,\"False\",\"T\",\"EveryTick\"))","v":{"$error":"#N/A"}},null,{"$f":"IF(D75=0,NA(),RTD(\"cqg.rtd\",,\"StudyData\", \"Close(\"&$R$2&\") When Barix(\"&$R$2&\",reference:=StartOfSession)=\"&A75&\"\", \"Bar\", \"\", \"Close\",\"5\",\"0\",\"All\",,,\"False\",\"T\",\"EveryTick\"))","v":{"$error":"#N/A"}},null,{"$f":"IF(D75=0,NA(),RTD(\"cqg.rtd\",,\"StudyData\", \"Close(\"&$T$2&\") When Barix(\"&$T$2&\",reference:=StartOfSession)=\"&A75&\"\", \"Bar\", \"\", \"Close\",\"5\",\"0\",\"All\",,,\"False\",\"T\",\"EveryTick\"))","v":{"$error":"#N/A"}},null,{"$f":"IF(D75=0,NA(),RTD(\"cqg.rtd\",,\"StudyData\", \"Close(\"&$V$2&\") When Barix(\"&$V$2&\",reference:=StartOfSession)=\"&A75&\"\", \"Bar\", \"\", \"Close\",\"5\",\"0\",\"All\",,,\"False\",\"T\",\"EveryTick\"))","v":{"$error":"#N/A"}},null,{"$f":"IF(D75=0,NA(),RTD(\"cqg.rtd\",,\"StudyData\", \"Close(\"&$X$2&\") When Barix(\"&$X$2&\",reference:=StartOfSession)=\"&A75&\"\", \"Bar\", \"\", \"Close\",\"5\",\"0\",\"All\",,,\"False\",\"T\",\"EveryTick\"))","v":{"$error":"#N/A"}},null,{"$f":"IF(D75=0,NA(),RTD(\"cqg.rtd\",,\"StudyData\", \"Close(\"&$Z$2&\") When Barix(\"&$Z$2&\",reference:=StartOfSession)=\"&A75&\"\", \"Bar\", \"\", \"Close\",\"5\",\"0\",\"All\",,,\"False\",\"T\",\"EveryTick\"))","v":{"$error":"#N/A"}},null,{"$f":"IF(D75=0,NA(),RTD(\"cqg.rtd\",,\"StudyData\", \"Close(\"&$AB$2&\") When Barix(\"&$AB$2&\",reference:=StartOfSession)=\"&A75&\"\", \"Bar\", \"\", \"Close\",\"5\",\"0\",\"All\",,,\"False\",\"T\",\"EveryTick\"))","v":{"$error":"#N/A"}},null,{"$f":"IF(D75=0,NA(),RTD(\"cqg.rtd\",,\"StudyData\", \"Close(\"&$AD$2&\") When Barix(\"&$AD$2&\",reference:=StartOfSession)=\"&A75&\"\", \"Bar\", \"\", \"Close\",\"5\",\"0\",\"All\",,,\"False\",\"T\",\"EveryTick\"))","v":{"$error":"#N/A"}},null,{"$f":"IF(D75=0,NA(),RTD(\"cqg.rtd\",,\"StudyData\", \"Close(\"&$AF$2&\") When Barix(\"&$AF$2&\",reference:=StartOfSession)=\"&A75&\"\", \"Bar\", \"\", \"Close\",\"5\",\"0\",\"All\",,,\"False\",\"T\",\"EveryTick\"))","v":{"$error":"#N/A"}},null,{"$f":"IF(D75=0,NA(),RTD(\"cqg.rtd\",,\"StudyData\", \"Close(\"&$AH$2&\") When Barix(\"&$AH$2&\",reference:=StartOfSession)=\"&A75&\"\", \"Bar\", \"\", \"Close\",\"5\",\"0\",\"All\",,,\"False\",\"T\",\"EveryTick\"))","v":{"$error":"#N/A"}},null,{"$f":"IF(D75=0,NA(),RTD(\"cqg.rtd\",,\"StudyData\", \"Close(\"&$AJ$2&\") When Barix(\"&$AJ$2&\",reference:=StartOfSession)=\"&A75&\"\", \"Bar\", \"\", \"Close\",\"5\",\"0\",\"All\",,,\"False\",\"T\",\"EveryTick\"))","v":{"$error":"#N/A"}},null,{"$f":"IF(D75=0,NA(),RTD(\"cqg.rtd\",,\"StudyData\", \"Close(\"&$AL$2&\") When Barix(\"&$AL$2&\",reference:=StartOfSession)=\"&A75&\"\", \"Bar\", \"\", \"Close\",\"5\",\"0\",\"All\",,,\"False\",\"T\",\"EveryTick\"))","v":{"$error":"#N/A"}},null,{"$f":"IF(D75=0,NA(),RTD(\"cqg.rtd\",,\"StudyData\", \"Close(\"&$AN$2&\") When Barix(\"&$AN$2&\",reference:=StartOfSession)=\"&A75&\"\", \"Bar\", \"\", \"Close\",\"5\",\"0\",\"All\",,,\"False\",\"T\",\"EveryTick\"))","v":{"$error":"#N/A"}},null,{"$f":"IF(D75=0,NA(),RTD(\"cqg.rtd\",,\"StudyData\", \"Close(\"&$AN$2&\") When Barix(\"&$AN$2&\",reference:=StartOfSession)=\"&A75&\"\", \"Bar\", \"\", \"Close\",\"5\",\"0\",\"All\",,,\"False\",\"T\",\"EveryTick\"))","v":{"$error":"#N/A"}},null,{"$f":"IF(D75=0,NA(),RTD(\"cqg.rtd\",,\"StudyData\", \"Close(\"&$AR$2&\") When Barix(\"&$AR$2&\",reference:=StartOfSession)=\"&A75&\"\", \"Bar\", \"\", \"Close\",\"5\",\"0\",\"All\",,,\"False\",\"T\",\"EveryTick\"))","v":{"$error":"#N/A"}},null,{"$f":"IF(D75=0,NA(),RTD(\"cqg.rtd\",,\"StudyData\", \"Close(\"&$AT$2&\") When Barix(\"&$AT$2&\",reference:=StartOfSession)=\"&A75&\"\", \"Bar\", \"\", \"Close\",\"5\",\"0\",\"All\",,,\"False\",\"T\",\"EveryTick\"))","v":{"$error":"#N/A"}},null,{"$f":"IF(D75=0,NA(),RTD(\"cqg.rtd\",,\"StudyData\", \"Close(\"&$AV$2&\") When Barix(\"&$AV$2&\",reference:=StartOfSession)=\"&A75&\"\", \"Bar\", \"\", \"Close\",\"5\",\"0\",\"All\",,,\"False\",\"T\",\"EveryTick\"))","v":{"$error":"#N/A"}},null,{"$f":"IF(D75=0,NA(),RTD(\"cqg.rtd\",,\"StudyData\", \"Close(\"&$AX$2&\") When Barix(\"&$AX$2&\",reference:=StartOfSession)=\"&A75&\"\", \"Bar\", \"\", \"Close\",\"5\",\"0\",\"All\",,,\"False\",\"T\",\"EveryTick\"))","v":{"$error":"#N/A"}},null,{"$f":"IF(D75=0,NA(),RTD(\"cqg.rtd\",,\"StudyData\", \"Close(\"&$AZ$2&\") When Barix(\"&$AZ$2&\",reference:=StartOfSession)=\"&A75&\"\", \"Bar\", \"\", \"Close\",\"5\",\"0\",\"All\",,,\"False\",\"T\",\"EveryTick\"))","v":{"$error":"#N/A"}},null,{"$f":"IF(D75=0,NA(),RTD(\"cqg.rtd\",,\"StudyData\", \"Close(\"&$BB$2&\") When Barix(\"&$BB$2&\",reference:=StartOfSession)=\"&A75&\"\", \"Bar\", \"\", \"Close\",\"5\",\"0\",\"All\",,,\"False\",\"T\",\"EveryTick\"))","v":{"$error":"#N/A"}},null,{"$f":"IF(D75=0,NA(),RTD(\"cqg.rtd\",,\"StudyData\", \"Close(\"&$BD$2&\") When Barix(\"&$BD$2&\",reference:=StartOfSession)=\"&A75&\"\", \"Bar\", \"\", \"Close\",\"5\",\"0\",\"All\",,,\"False\",\"T\",\"EveryTick\"))","v":{"$error":"#N/A"}},null,{"$f":"IF(D75=0,NA(),RTD(\"cqg.rtd\",,\"StudyData\", \"Close(\"&$BF$2&\") When Barix(\"&$BF$2&\",reference:=StartOfSession)=\"&A75&\"\", \"Bar\", \"\", \"Close\",\"5\",\"0\",\"All\",,,\"False\",\"T\",\"EveryTick\"))","v":{"$error":"#N/A"}},null,{"$f":"IF(D75=0,NA(),RTD(\"cqg.rtd\",,\"StudyData\", \"Close(\"&$BH$2&\") When Barix(\"&$BH$2&\",reference:=StartOfSession)=\"&A75&\"\", \"Bar\", \"\", \"Close\",\"5\",\"0\",\"All\",,,\"False\",\"T\",\"EveryTick\"))","v":{"$error":"#N/A"}},null,{"$f":"IF(D75=0,NA(),RTD(\"cqg.rtd\",,\"StudyData\", \"Close(\"&$BJ$2&\") When Barix(\"&$BJ$2&\",reference:=StartOfSession)=\"&A75&\"\", \"Bar\", \"\", \"Close\",\"5\",\"0\",\"All\",,,\"False\",\"T\",\"EveryTick\"))","v":{"$error":"#N/A"}},null,{"$f":"IF(D75=0,NA(),RTD(\"cqg.rtd\",,\"StudyData\", \"Close(\"&$BL$2&\") When Barix(\"&$BL$2&\",reference:=StartOfSession)=\"&A75&\"\", \"Bar\", \"\", \"Close\",\"5\",\"0\",\"All\",,,\"False\",\"T\",\"EveryTick\"))","v":{"$error":"#N/A"}},null,{"$f":"IF(D75=0,NA(),RTD(\"cqg.rtd\",,\"StudyData\", \"Close(\"&$BN$2&\") When Barix(\"&$BN$2&\",reference:=StartOfSession)=\"&A75&\"\", \"Bar\", \"\", \"Close\",\"5\",\"0\",\"All\",,,\"False\",\"T\",\"EveryTick\"))","v":{"$error":"#N/A"}},null,{"$f":"IF(D75=0,NA(),RTD(\"cqg.rtd\",,\"StudyData\", \"Close(\"&$BP$2&\") When Barix(\"&$BP$2&\",reference:=StartOfSession)=\"&A75&\"\", \"Bar\", \"\", \"Close\",\"5\",\"0\",\"All\",,,\"False\",\"T\",\"EveryTick\"))","v":{"$error":"#N/A"}},null,{"$f":"IF(D75=0,NA(),RTD(\"cqg.rtd\",,\"StudyData\", \"Close(\"&$BR$2&\") When Barix(\"&$BR$2&\",reference:=StartOfSession)=\"&A75&\"\", \"Bar\", \"\", \"Close\",\"5\",\"0\",\"All\",,,\"False\",\"T\",\"EveryTick\"))","v":{"$error":"#N/A"}},null,{"$f":"IF(D75=0,NA(),RTD(\"cqg.rtd\",,\"StudyData\", \"Close(\"&$BT$2&\") When Barix(\"&$BT$2&\",reference:=StartOfSession)=\"&A75&\"\", \"Bar\", \"\", \"Close\",\"5\",\"0\",\"All\",,,\"False\",\"T\",\"EveryTick\"))","v":{"$error":"#N/A"}},null,{"$f":"IF(D75=0,NA(),RTD(\"cqg.rtd\",,\"StudyData\", \"Close(\"&$BV$2&\") When Barix(\"&$BV$2&\",reference:=StartOfSession)=\"&A75&\"\", \"Bar\", \"\", \"Close\",\"5\",\"0\",\"All\",,,\"False\",\"T\",\"EveryTick\"))","v":{"$error":"#N/A"}},null,{"$f":"IF(D75=0,NA(),RTD(\"cqg.rtd\",,\"StudyData\", \"Close(\"&$BX$2&\") When Barix(\"&$BX$2&\",reference:=StartOfSession)=\"&A75&\"\", \"Bar\", \"\", \"Close\",\"5\",\"0\",\"All\",,,\"False\",\"T\",\"EveryTick\"))","v":{"$error":"#N/A"}},null,{"$f":"IF(D75=0,NA(),RTD(\"cqg.rtd\",,\"StudyData\", \"Close(\"&$BZ$2&\") When Barix(\"&$BZ$2&\",reference:=StartOfSession)=\"&A75&\"\", \"Bar\", \"\", \"Close\",\"5\",\"0\",\"All\",,,\"False\",\"T\",\"EveryTick\"))","v":{"$error":"#N/A"}}]
[72,{"$f":"IF(D76=0,NA(),RTD(\"cqg.rtd\",,\"StudyData\", \"Close(\"&$B$2&\") When Barix(\"&$B$2&\",reference:=StartOfSession)=\"&A76&\"\", \"Bar\", \"\", \"Close\",\"5\",\"0\",\"All\",,,\"False\",\"T\",\"EveryTick\"))","v":{"$error":"#N/A"}},"14:30:00",0,null,{"$f":"IF(D76=0,NA(),RTD(\"cqg.rtd\",,\"StudyData\", \"Close(\"&$F$2&\") When Barix(\"&$F$2&\",reference:=StartOfSession)=\"&A76&\"\", \"Bar\", \"\", \"Close\",\"5\",\"0\",\"All\",,,\"False\",\"T\",\"EveryTick\"))","v":{"$error":"#N/A"}},null,{"$f":"IF(D76=0,NA(),RTD(\"cqg.rtd\",,\"StudyData\", \"Close(\"&$H$2&\") When Barix(\"&$H$2&\",reference:=StartOfSession)=\"&A76&\"\", \"Bar\", \"\", \"Close\",\"5\",\"0\",\"All\",,,\"False\",\"T\",\"EveryTick\"))","v":{"$error":"#N/A"}},null,{"$f":"IF(D76=0,NA(),RTD(\"cqg.rtd\",,\"StudyData\", \"Close(\"&$J$2&\") When Barix(\"&$J$2&\",reference:=StartOfSession)=\"&A76&\"\", \"Bar\", \"\", \"Close\",\"5\",\"0\",\"All\",,,\"False\",\"T\",\"EveryTick\"))","v":{"$error":"#N/A"}},null,{"$f":"IF(D76=0,NA(),RTD(\"cqg.rtd\",,\"StudyData\", \"Close(\"&$L$2&\") When Barix(\"&$L$2&\",reference:=StartOfSession)=\"&A76&\"\", \"Bar\", \"\", \"Close\",\"5\",\"0\",\"All\",,,\"False\",\"T\",\"EveryTick\"))","v":{"$error":"#N/A"}},null,{"$f":"IF(D76=0,NA(),RTD(\"cqg.rtd\",,\"StudyData\", \"Close(\"&$N$2&\") When Barix(\"&$N$2&\",reference:=StartOfSession)=\"&A76&\"\", \"Bar\", \"\", \"Close\",\"5\",\"0\",\"All\",,,\"False\",\"T\",\"EveryTick\"))","v":{"$error":"#N/A"}},null,{"$f":"IF(D76=0,NA(),RTD(\"cqg.rtd\",,\"StudyData\", \"Close(\"&$P$2&\") When Barix(\"&$P$2&\",reference:=StartOfSession)=\"&A76&\"\", \"Bar\", \"\", \"Close\",\"5\",\"0\",\"All\",,,\"False\",\"T\",\"EveryTick\"))","v":{"$error":"#N/A"}},null,{"$f":"IF(D76=0,NA(),RTD(\"cqg.rtd\",,\"StudyData\", \"Close(\"&$R$2&\") When Barix(\"&$R$2&\",reference:=StartOfSession)=\"&A76&\"\", \"Bar\", \"\", \"Close\",\"5\",\"0\",\"All\",,,\"False\",\"T\",\"EveryTick\"))","v":{"$error":"#N/A"}},null,{"$f":"IF(D76=0,NA(),RTD(\"cqg.rtd\",,\"StudyData\", \"Close(\"&$T$2&\") When Barix(\"&$T$2&\",reference:=StartOfSession)=\"&A76&\"\", \"Bar\", \"\", \"Close\",\"5\",\"0\",\"All\",,,\"False\",\"T\",\"EveryTick\"))","v":{"$error":"#N/A"}},null,{"$f":"IF(D76=0,NA(),RTD(\"cqg.rtd\",,\"StudyData\", \"Close(\"&$V$2&\") When Barix(\"&$V$2&\",reference:=StartOfSession)=\"&A76&\"\", \"Bar\", \"\", \"Close\",\"5\",\"0\",\"All\",,,\"False\",\"T\",\"EveryTick\"))","v":{"$error":"#N/A"}},null,{"$f":"IF(D76=0,NA(),RTD(\"cqg.rtd\",,\"StudyData\", \"Close(\"&$X$2&\") When Barix(\"&$X$2&\",reference:=StartOfSession)=\"&A76&\"\", \"Bar\", \"\", \"Close\",\"5\",\"0\",\"All\",,,\"False\",\"T\",\"EveryTick\"))","v":{"$error":"#N/A"}},null,{"$f":"IF(D76=0,NA(),RTD(\"cqg.rtd\",,\"StudyData\", \"Close(\"&$Z$2&\") When Barix(\"&$Z$2&\",reference:=StartOfSession)=\"&A76&\"\", \"Bar\", \"\", \"Close\",\"5\",\"0\",\"All\",,,\"False\",\"T\",\"EveryTick\"))","v":{"$error":"#N/A"}},null,{"$f":"IF(D76=0,NA(),RTD(\"cqg.rtd\",,\"StudyData\", \"Close(\"&$AB$2&\") When Barix(\"&$AB$2&\",reference:=StartOfSession)=\"&A76&\"\", \"Bar\", \"\", \"Close\",\"5\",\"0\",\"All\",,,\"False\",\"T\",\"EveryTick\"))","v":{"$error":"#N/A"}},null,{"$f":"IF(D76=0,NA(),RTD(\"cqg.rtd\",,\"StudyData\", \"Close(\"&$AD$2&\") When Barix(\"&$AD$2&\",reference:=StartOfSession)=\"&A76&\"\", \"Bar\", \"\", \"Close\",\"5\",\"0\",\"All\",,,\"False\",\"T\",\"EveryTick\"))","v":{"$error":"#N/A"}},null,{"$f":"IF(D76=0,NA(),RTD(\"cqg.rtd\",,\"StudyData\", \"Close(\"&$AF$2&\") When Barix(\"&$AF$2&\",reference:=StartOfSession)=\"&A76&\"\", \"Bar\", \"\", \"Close\",\"5\",\"0\",\"All\",,,\"False\",\"T\",\"EveryTick\"))","v":{"$error":"#N/A"}},null,{"$f":"IF(D76=0,NA(),RTD(\"cqg.rtd\",,\"StudyData\", \"Close(\"&$AH$2&\") When Barix(\"&$AH$2&\",reference:=StartOfSession)=\"&A76&\"\", \"Bar\", \"\", \"Close\",\"5\",\"0\",\"All\",,,\"False\",\"T\",\"EveryTick\"))","v":{"$error":"#N/A"}},null,{"$f":"IF(D76=0,NA(),RTD(\"cqg.rtd\",,\"StudyData\", \"Close(\"&$AJ$2&\") When Barix(\"&$AJ$2&\",reference:=StartOfSession)=\"&A76&\"\", \"Bar\", \"\", \"Close\",\"5\",\"0\",\"All\",,,\"False\",\"T\",\"EveryTick\"))","v":{"$error":"#N/A"}},null,{"$f":"IF(D76=0,NA(),RTD(\"cqg.rtd\",,\"StudyData\", \"Close(\"&$AL$2&\") When Barix(\"&$AL$2&\",reference:=StartOfSession)=\"&A76&\"\", \"Bar\", \"\", \"Close\",\"5\",\"0\",\"All\",,,\"False\",\"T\",\"EveryTick\"))","v":{"$error":"#N/A"}},null,{"$f":"IF(D76=0,NA(),RTD(\"cqg.rtd\",,\"StudyData\", \"Close(\"&$AN$2&\") When Barix(\"&$AN$2&\",reference:=StartOfSession)=\"&A76&\"\", \"Bar\", \"\", \"Close\",\"5\",\"0\",\"All\",,,\"False\",\"T\",\"EveryTick\"))","v":{"$error":"#N/A"}},null,{"$f":"IF(D76=0,NA(),RTD(\"cqg.rtd\",,\"StudyData\", \"Close(\"&$AN$2&\") When Barix(\"&$AN$2&\",reference:=StartOfSession)=\"&A76&\"\", \"Bar\", \"\", \"Close\",\"5\",\"0\",\"All\",,,\"False\",\"T\",\"EveryTick\"))","v":{"$error":"#N/A"}},null,{"$f":"IF(D76=0,NA(),RTD(\"cqg.rtd\",,\"StudyData\", \"Close(\"&$AR$2&\") When Barix(\"&$AR$2&\",reference:=StartOfSession)=\"&A76&\"\", \"Bar\", \"\", \"Close\",\"5\",\"0\",\"All\",,,\"False\",\"T\",\"EveryTick\"))","v":{"$error":"#N/A"}},null,{"$f":"IF(D76=0,NA(),RTD(\"cqg.rtd\",,\"StudyData\", \"Close(\"&$AT$2&\") When Barix(\"&$AT$2&\",reference:=StartOfSession)=\"&A76&\"\", \"Bar\", \"\", \"Close\",\"5\",\"0\",\"All\",,,\"False\",\"T\",\"EveryTick\"))","v":{"$error":"#N/A"}},null,{"$f":"IF(D76=0,NA(),RTD(\"cqg.rtd\",,\"StudyData\", \"Close(\"&$AV$2&\") When Barix(\"&$AV$2&\",reference:=StartOfSession)=\"&A76&\"\", \"Bar\", \"\", \"Close\",\"5\",\"0\",\"All\",,,\"False\",\"T\",\"EveryTick\"))","v":{"$error":"#N/A"}},null,{"$f":"IF(D76=0,NA(),RTD(\"cqg.rtd\",,\"StudyData\", \"Close(\"&$AX$2&\") When Barix(\"&$AX$2&\",reference:=StartOfSession)=\"&A76&\"\", \"Bar\", \"\", \"Close\",\"5\",\"0\",\"All\",,,\"False\",\"T\",\"EveryTick\"))","v":{"$error":"#N/A"}},null,{"$f":"IF(D76=0,NA(),RTD(\"cqg.rtd\",,\"StudyData\", \"Close(\"&$AZ$2&\") When Barix(\"&$AZ$2&\",reference:=StartOfSession)=\"&A76&\"\", \"Bar\", \"\", \"Close\",\"5\",\"0\",\"All\",,,\"False\",\"T\",\"EveryTick\"))","v":{"$error":"#N/A"}},null,{"$f":"IF(D76=0,NA(),RTD(\"cqg.rtd\",,\"StudyData\", \"Close(\"&$BB$2&\") When Barix(\"&$BB$2&\",reference:=StartOfSession)=\"&A76&\"\", \"Bar\", \"\", \"Close\",\"5\",\"0\",\"All\",,,\"False\",\"T\",\"EveryTick\"))","v":{"$error":"#N/A"}},null,{"$f":"IF(D76=0,NA(),RTD(\"cqg.rtd\",,\"StudyData\", \"Close(\"&$BD$2&\") When Barix(\"&$BD$2&\",reference:=StartOfSession)=\"&A76&\"\", \"Bar\", \"\", \"Close\",\"5\",\"0\",\"All\",,,\"False\",\"T\",\"EveryTick\"))","v":{"$error":"#N/A"}},null,{"$f":"IF(D76=0,NA(),RTD(\"cqg.rtd\",,\"StudyData\", \"Close(\"&$BF$2&\") When Barix(\"&$BF$2&\",reference:=StartOfSession)=\"&A76&\"\", \"Bar\", \"\", \"Close\",\"5\",\"0\",\"All\",,,\"False\",\"T\",\"EveryTick\"))","v":{"$error":"#N/A"}},null,{"$f":"IF(D76=0,NA(),RTD(\"cqg.rtd\",,\"StudyData\", \"Close(\"&$BH$2&\") When Barix(\"&$BH$2&\",reference:=StartOfSession)=\"&A76&\"\", \"Bar\", \"\", \"Close\",\"5\",\"0\",\"All\",,,\"False\",\"T\",\"EveryTick\"))","v":{"$error":"#N/A"}},null,{"$f":"IF(D76=0,NA(),RTD(\"cqg.rtd\",,\"StudyData\", \"Close(\"&$BJ$2&\") When Barix(\"&$BJ$2&\",reference:=StartOfSession)=\"&A76&\"\", \"Bar\", \"\", \"Close\",\"5\",\"0\",\"All\",,,\"False\",\"T\",\"EveryTick\"))","v":{"$error":"#N/A"}},null,{"$f":"IF(D76=0,NA(),RTD(\"cqg.rtd\",,\"StudyData\", \"Close(\"&$BL$2&\") When Barix(\"&$BL$2&\",reference:=StartOfSession)=\"&A76&\"\", \"Bar\", \"\", \"Close\",\"5\",\"0\",\"All\",,,\"False\",\"T\",\"EveryTick\"))","v":{"$error":"#N/A"}},null,{"$f":"IF(D76=0,NA(),RTD(\"cqg.rtd\",,\"StudyData\", \"Close(\"&$BN$2&\") When Barix(\"&$BN$2&\",reference:=StartOfSession)=\"&A76&\"\", \"Bar\", \"\", \"Close\",\"5\",\"0\",\"All\",,,\"False\",\"T\",\"EveryTick\"))","v":{"$error":"#N/A"}},null,{"$f":"IF(D76=0,NA(),RTD(\"cqg.rtd\",,\"StudyData\", \"Close(\"&$BP$2&\") When Barix(\"&$BP$2&\",reference:=StartOfSession)=\"&A76&\"\", \"Bar\", \"\", \"Close\",\"5\",\"0\",\"All\",,,\"False\",\"T\",\"EveryTick\"))","v":{"$error":"#N/A"}},null,{"$f":"IF(D76=0,NA(),RTD(\"cqg.rtd\",,\"StudyData\", \"Close(\"&$BR$2&\") When Barix(\"&$BR$2&\",reference:=StartOfSession)=\"&A76&\"\", \"Bar\", \"\", \"Close\",\"5\",\"0\",\"All\",,,\"False\",\"T\",\"EveryTick\"))","v":{"$error":"#N/A"}},null,{"$f":"IF(D76=0,NA(),RTD(\"cqg.rtd\",,\"StudyData\", \"Close(\"&$BT$2&\") When Barix(\"&$BT$2&\",reference:=StartOfSession)=\"&A76&\"\", \"Bar\", \"\", \"Close\",\"5\",\"0\",\"All\",,,\"False\",\"T\",\"EveryTick\"))","v":{"$error":"#N/A"}},null,{"$f":"IF(D76=0,NA(),RTD(\"cqg.rtd\",,\"StudyData\", \"Close(\"&$BV$2&\") When Barix(\"&$BV$2&\",reference:=StartOfSession)=\"&A76&\"\", \"Bar\", \"\", \"Close\",\"5\",\"0\",\"All\",,,\"False\",\"T\",\"EveryTick\"))","v":{"$error":"#N/A"}},null,{"$f":"IF(D76=0,NA(),RTD(\"cqg.rtd\",,\"StudyData\", \"Close(\"&$BX$2&\") When Barix(\"&$BX$2&\",reference:=StartOfSession)=\"&A76&\"\", \"Bar\", \"\", \"Close\",\"5\",\"0\",\"All\",,,\"False\",\"T\",\"EveryTick\"))","v":{"$error":"#N/A"}},null,{"$f":"IF(D76=0,NA(),RTD(\"cqg.rtd\",,\"StudyData\", \"Close(\"&$BZ$2&\") When Barix(\"&$BZ$2&\",reference:=StartOfSession)=\"&A76&\"\", \"Bar\", \"\", \"Close\",\"5\",\"0\",\"All\",,,\"False\",\"T\",\"EveryTick\"))","v":{"$error":"#N/A"}}]
[73,{"$f":"IF(D77=0,NA(),RTD(\"cqg.rtd\",,\"StudyData\", \"Close(\"&$B$2&\") When Barix(\"&$B$2&\",reference:=StartOfSession)=\"&A77&\"\", \"Bar\", \"\", \"Close\",\"5\",\"0\",\"All\",,,\"False\",\"T\",\"EveryTick\"))","v":{"$error":"#N/A"}},"14:35:00",0,null,{"$f":"IF(D77=0,NA(),RTD(\"cqg.rtd\",,\"StudyData\", \"Close(\"&$F$2&\") When Barix(\"&$F$2&\",reference:=StartOfSession)=\"&A77&\"\", \"Bar\", \"\", \"Close\",\"5\",\"0\",\"All\",,,\"False\",\"T\",\"EveryTick\"))","v":{"$error":"#N/A"}},null,{"$f":"IF(D77=0,NA(),RTD(\"cqg.rtd\",,\"StudyData\", \"Close(\"&$H$2&\") When Barix(\"&$H$2&\",reference:=StartOfSession)=\"&A77&\"\", \"Bar\", \"\", \"Close\",\"5\",\"0\",\"All\",,,\"False\",\"T\",\"EveryTick\"))","v":{"$error":"#N/A"}},null,{"$f":"IF(D77=0,NA(),RTD(\"cqg.rtd\",,\"StudyData\", \"Close(\"&$J$2&\") When Barix(\"&$J$2&\",reference:=StartOfSession)=\"&A77&\"\", \"Bar\", \"\", \"Close\",\"5\",\"0\",\"All\",,,\"False\",\"T\",\"EveryTick\"))","v":{"$error":"#N/A"}},null,{"$f":"IF(D77=0,NA(),RTD(\"cqg.rtd\",,\"StudyData\", \"Close(\"&$L$2&\") When Barix(\"&$L$2&\",reference:=StartOfSession)=\"&A77&\"\", \"Bar\", \"\", \"Close\",\"5\",\"0\",\"All\",,,\"False\",\"T\",\"EveryTick\"))","v":{"$error":"#N/A"}},null,{"$f":"IF(D77=0,NA(),RTD(\"cqg.rtd\",,\"StudyData\", \"Close(\"&$N$2&\") When Barix(\"&$N$2&\",reference:=StartOfSession)=\"&A77&\"\", \"Bar\", \"\", \"Close\",\"5\",\"0\",\"All\",,,\"False\",\"T\",\"EveryTick\"))","v":{"$error":"#N/A"}},null,{"$f":"IF(D77=0,NA(),RTD(\"cqg.rtd\",,\"StudyData\", \"Close(\"&$P$2&\") When Barix(\"&$P$2&\",reference:=StartOfSession)=\"&A77&\"\", \"Bar\", \"\", \"Close\",\"5\",\"0\",\"All\",,,\"False\",\"T\",\"EveryTick\"))","v":{"$error":"#N/A"}},null,{"$f":"IF(D77=0,NA(),RTD(\"cqg.rtd\",,\"StudyData\", \"Close(\"&$R$2&\") When Barix(\"&$R$2&\",reference:=StartOfSession)=\"&A77&\"\", \"Bar\", \"\", \"Close\",\"5\",\"0\",\"All\",,,\"False\",\"T\",\"EveryTick\"))","v":{"$error":"#N/A"}},null,{"$f":"IF(D77=0,NA(),RTD(\"cqg.rtd\",,\"StudyData\", \"Close(\"&$T$2&\") When Barix(\"&$T$2&\",reference:=StartOfSession)=\"&A77&\"\", \"Bar\", \"\", \"Close\",\"5\",\"0\",\"All\",,,\"False\",\"T\",\"EveryTick\"))","v":{"$error":"#N/A"}},null,{"$f":"IF(D77=0,NA(),RTD(\"cqg.rtd\",,\"StudyData\", \"Close(\"&$V$2&\") When Barix(\"&$V$2&\",reference:=StartOfSession)=\"&A77&\"\", \"Bar\", \"\", \"Close\",\"5\",\"0\",\"All\",,,\"False\",\"T\",\"EveryTick\"))","v":{"$error":"#N/A"}},null,{"$f":"IF(D77=0,NA(),RTD(\"cqg.rtd\",,\"StudyData\", \"Close(\"&$X$2&\") When Barix(\"&$X$2&\",reference:=StartOfSession)=\"&A77&\"\", \"Bar\", \"\", \"Close\",\"5\",\"0\",\"All\",,,\"False\",\"T\",\"EveryTick\"))","v":{"$error":"#N/A"}},null,{"$f":"IF(D77=0,NA(),RTD(\"cqg.rtd\",,\"StudyData\", \"Close(\"&$Z$2&\") When Barix(\"&$Z$2&\",reference:=StartOfSession)=\"&A77&\"\", \"Bar\", \"\", \"Close\",\"5\",\"0\",\"All\",,,\"False\",\"T\",\"EveryTick\"))","v":{"$error":"#N/A"}},null,{"$f":"IF(D77=0,NA(),RTD(\"cqg.rtd\",,\"StudyData\", \"Close(\"&$AB$2&\") When Barix(\"&$AB$2&\",reference:=StartOfSession)=\"&A77&\"\", \"Bar\", \"\", \"Close\",\"5\",\"0\",\"All\",,,\"False\",\"T\",\"EveryTick\"))","v":{"$error":"#N/A"}},null,{"$f":"IF(D77=0,NA(),RTD(\"cqg.rtd\",,\"StudyData\", \"Close(\"&$AD$2&\") When Barix(\"&$AD$2&\",reference:=StartOfSession)=\"&A77&\"\", \"Bar\", \"\", \"Close\",\"5\",\"0\",\"All\",,,\"False\",\"T\",\"EveryTick\"))","v":{"$error":"#N/A"}},null,{"$f":"IF(D77=0,NA(),RTD(\"cqg.rtd\",,\"StudyData\", \"Close(\"&$AF$2&\") When Barix(\"&$AF$2&\",reference:=StartOfSession)=\"&A77&\"\", \"Bar\", \"\", \"Close\",\"5\",\"0\",\"All\",,,\"False\",\"T\",\"EveryTick\"))","v":{"$error":"#N/A"}},null,{"$f":"IF(D77=0,NA(),RTD(\"cqg.rtd\",,\"StudyData\", \"Close(\"&$AH$2&\") When Barix(\"&$AH$2&\",reference:=StartOfSession)=\"&A77&\"\", \"Bar\", \"\", \"Close\",\"5\",\"0\",\"All\",,,\"False\",\"T\",\"EveryTick\"))","v":{"$error":"#N/A"}},null,{"$f":"IF(D77=0,NA(),RTD(\"cqg.rtd\",,\"StudyData\", \"Close(\"&$AJ$2&\") When Barix(\"&$AJ$2&\",reference:=StartOfSession)=\"&A77&\"\", \"Bar\", \"\", \"Close\",\"5\",\"0\",\"All\",,,\"False\",\"T\",\"EveryTick\"))","v":{"$error":"#N/A"}},null,{"$f":"IF(D77=0,NA(),RTD(\"cqg.rtd\",,\"StudyData\", \"Close(\"&$AL$2&\") When Barix(\"&$AL$2&\",reference:=StartOfSession)=\"&A77&\"\", \"Bar\", \"\", \"Close\",\"5\",\"0\",\"All\",,,\"False\",\"T\",\"EveryTick\"))","v":{"$error":"#N/A"}},null,{"$f":"IF(D77=0,NA(),RTD(\"cqg.rtd\",,\"StudyData\", \"Close(\"&$AN$2&\") When Barix(\"&$AN$2&\",reference:=StartOfSession)=\"&A77&\"\", \"Bar\", \"\", \"Close\",\"5\",\"0\",\"All\",,,\"False\",\"T\",\"EveryTick\"))","v":{"$error":"#N/A"}},null,{"$f":"IF(D77=0,NA(),RTD(\"cqg.rtd\",,\"StudyData\", \"Close(\"&$AN$2&\") When Barix(\"&$AN$2&\",reference:=StartOfSession)=\"&A77&\"\", \"Bar\", \"\", \"Close\",\"5\",\"0\",\"All\",,,\"False\",\"T\",\"EveryTick\"))","v":{"$error":"#N/A"}},null,{"$f":"IF(D77=0,NA(),RTD(\"cqg.rtd\",,\"StudyData\", \"Close(\"&$AR$2&\") When Barix(\"&$AR$2&\",reference:=StartOfSession)=\"&A77&\"\", \"Bar\", \"\", \"Close\",\"5\",\"0\",\"All\",,,\"False\",\"T\",\"EveryTick\"))","v":{"$error":"#N/A"}},null,{"$f":"IF(D77=0,NA(),RTD(\"cqg.rtd\",,\"StudyData\", \"Close(\"&$AT$2&\") When Barix(\"&$AT$2&\",reference:=StartOfSession)=\"&A77&\"\", \"Bar\", \"\", \"Close\",\"5\",\"0\",\"All\",,,\"False\",\"T\",\"EveryTick\"))","v":{"$error":"#N/A"}},null,{"$f":"IF(D77=0,NA(),RTD(\"cqg.rtd\",,\"StudyData\", \"Close(\"&$AV$2&\") When Barix(\"&$AV$2&\",reference:=StartOfSession)=\"&A77&\"\", \"Bar\", \"\", \"Close\",\"5\",\"0\",\"All\",,,\"False\",\"T\",\"EveryTick\"))","v":{"$error":"#N/A"}},null,{"$f":"IF(D77=0,NA(),RTD(\"cqg.rtd\",,\"StudyData\", \"Close(\"&$AX$2&\") When Barix(\"&$AX$2&\",reference:=StartOfSession)=\"&A77&\"\", \"Bar\", \"\", \"Close\",\"5\",\"0\",\"All\",,,\"False\",\"T\",\"EveryTick\"))","v":{"$error":"#N/A"}},null,{"$f":"IF(D77=0,NA(),RTD(\"cqg.rtd\",,\"StudyData\", \"Close(\"&$AZ$2&\") When Barix(\"&$AZ$2&\",reference:=StartOfSession)=\"&A77&\"\", \"Bar\", \"\", \"Close\",\"5\",\"0\",\"All\",,,\"False\",\"T\",\"EveryTick\"))","v":{"$error":"#N/A"}},null,{"$f":"IF(D77=0,NA(),RTD(\"cqg.rtd\",,\"StudyData\", \"Close(\"&$BB$2&\") When Barix(\"&$BB$2&\",reference:=StartOfSession)=\"&A77&\"\", \"Bar\", \"\", \"Close\",\"5\",\"0\",\"All\",,,\"False\",\"T\",\"EveryTick\"))","v":{"$error":"#N/A"}},null,{"$f":"IF(D77=0,NA(),RTD(\"cqg.rtd\",,\"StudyData\", \"Close(\"&$BD$2&\") When Barix(\"&$BD$2&\",reference:=StartOfSession)=\"&A77&\"\", \"Bar\", \"\", \"Close\",\"5\",\"0\",\"All\",,,\"False\",\"T\",\"EveryTick\"))","v":{"$error":"#N/A"}},null,{"$f":"IF(D77=0,NA(),RTD(\"cqg.rtd\",,\"StudyData\", \"Close(\"&$BF$2&\") When Barix(\"&$BF$2&\",reference:=StartOfSession)=\"&A77&\"\", \"Bar\", \"\", \"Close\",\"5\",\"0\",\"All\",,,\"False\",\"T\",\"EveryTick\"))","v":{"$error":"#N/A"}},null,{"$f":"IF(D77=0,NA(),RTD(\"cqg.rtd\",,\"StudyData\", \"Close(\"&$BH$2&\") When Barix(\"&$BH$2&\",reference:=StartOfSession)=\"&A77&\"\", \"Bar\", \"\", \"Close\",\"5\",\"0\",\"All\",,,\"False\",\"T\",\"EveryTick\"))","v":{"$error":"#N/A"}},null,{"$f":"IF(D77=0,NA(),RTD(\"cqg.rtd\",,\"StudyData\", \"Close(\"&$BJ$2&\") When Barix(\"&$BJ$2&\",reference:=StartOfSession)=\"&A77&\"\", \"Bar\", \"\", \"Close\",\"5\",\"0\",\"All\",,,\"False\",\"T\",\"EveryTick\"))","v":{"$error":"#N/A"}},null,{"$f":"IF(D77=0,NA(),RTD(\"cqg.rtd\",,\"StudyData\", \"Close(\"&$BL$2&\") When Barix(\"&$BL$2&\",reference:=StartOfSession)=\"&A77&\"\", \"Bar\", \"\", \"Close\",\"5\",\"0\",\"All\",,,\"False\",\"T\",\"EveryTick\"))","v":{"$error":"#N/A"}},null,{"$f":"IF(D77=0,NA(),RTD(\"cqg.rtd\",,\"StudyData\", \"Close(\"&$BN$2&\") When Barix(\"&$BN$2&\",reference:=StartOfSession)=\"&A77&\"\", \"Bar\", \"\", \"Close\",\"5\",\"0\",\"All\",,,\"False\",\"T\",\"EveryTick\"))","v":{"$error":"#N/A"}},null,{"$f":"IF(D77=0,NA(),RTD(\"cqg.rtd\",,\"StudyData\", \"Close(\"&$BP$2&\") When Barix(\"&$BP$2&\",reference:=StartOfSession)=\"&A77&\"\", \"Bar\", \"\", \"Close\",\"5\",\"0\",\"All\",,,\"False\",\"T\",\"EveryTick\"))","v":{"$error":"#N/A"}},null,{"$f":"IF(D77=0,NA(),RTD(\"cqg.rtd\",,\"StudyData\", \"Close(\"&$BR$2&\") When Barix(\"&$BR$2&\",reference:=StartOfSession)=\"&A77&\"\", \"Bar\", \"\", \"Close\",\"5\",\"0\",\"All\",,,\"False\",\"T\",\"EveryTick\"))","v":{"$error":"#N/A"}},null,{"$f":"IF(D77=0,NA(),RTD(\"cqg.rtd\",,\"StudyData\", \"Close(\"&$BT$2&\") When Barix(\"&$BT$2&\",reference:=StartOfSession)=\"&A77&\"\", \"Bar\", \"\", \"Close\",\"5\",\"0\",\"All\",,,\"False\",\"T\",\"EveryTick\"))","v":{"$error":"#N/A"}},null,{"$f":"IF(D77=0,NA(),RTD(\"cqg.rtd\",,\"StudyData\", \"Close(\"&$BV$2&\") When Barix(\"&$BV$2&\",reference:=StartOfSession)=\"&A77&\"\", \"Bar\", \"\", \"Close\",\"5\",\"0\",\"All\",,,\"False\",\"T\",\"EveryTick\"))","v":{"$error":"#N/A"}},null,{"$f":"IF(D77=0,NA(),RTD(\"cqg.rtd\",,\"StudyData\", \"Close(\"&$BX$2&\") When Barix(\"&$BX$2&\",reference:=StartOfSession)=\"&A77&\"\", \"Bar\", \"\", \"Close\",\"5\",\"0\",\"All\",,,\"False\",\"T\",\"EveryTick\"))","v":{"$error":"#N/A"}},null,{"$f":"IF(D77=0,NA(),RTD(\"cqg.rtd\",,\"StudyData\", \"Close(\"&$BZ$2&\") When Barix(\"&$BZ$2&\",reference:=StartOfSession)=\"&A77&\"\", \"Bar\", \"\", \"Close\",\"5\",\"0\",\"All\",,,\"False\",\"T\",\"EveryTick\"))","v":{"$error":"#N/A"}}]
[74,{"$f":"IF(D78=0,NA(),RTD(\"cqg.rtd\",,\"StudyData\", \"Close(\"&$B$2&\") When Barix(\"&$B$2&\",reference:=StartOfSession)=\"&A78&\"\", \"Bar\", \"\", \"Close\",\"5\",\"0\",\"All\",,,\"False\",\"T\",\"EveryTick\"))","v":{"$error":"#N/A"}},"14:40:00",0,null,{"$f":"IF(D78=0,NA(),RTD(\"cqg.rtd\",,\"StudyData\", \"Close(\"&$F$2&\") When Barix(\"&$F$2&\",reference:=StartOfSession)=\"&A78&\"\", \"Bar\", \"\", \"Close\",\"5\",\"0\",\"All\",,,\"False\",\"T\",\"EveryTick\"))","v":{"$error":"#N/A"}},null,{"$f":"IF(D78=0,NA(),RTD(\"cqg.rtd\",,\"StudyData\", \"Close(\"&$H$2&\") When Barix(\"&$H$2&\",reference:=StartOfSession)=\"&A78&\"\", \"Bar\", \"\", \"Close\",\"5\",\"0\",\"All\",,,\"False\",\"T\",\"EveryTick\"))","v":{"$error":"#N/A"}},null,{"$f":"IF(D78=0,NA(),RTD(\"cqg.rtd\",,\"StudyData\", \"Close(\"&$J$2&\") When Barix(\"&$J$2&\",reference:=StartOfSession)=\"&A78&\"\", \"Bar\", \"\", \"Close\",\"5\",\"0\",\"All\",,,\"False\",\"T\",\"EveryTick\"))","v":{"$error":"#N/A"}},null,{"$f":"IF(D78=0,NA(),RTD(\"cqg.rtd\",,\"StudyData\", \"Close(\"&$L$2&\") When Barix(\"&$L$2&\",reference:=StartOfSession)=\"&A78&\"\", \"Bar\", \"\", \"Close\",\"5\",\"0\",\"All\",,,\"False\",\"T\",\"EveryTick\"))","v":{"$error":"#N/A"}},null,{"$f":"IF(D78=0,NA(),RTD(\"cqg.rtd\",,\"StudyData\", \"Close(\"&$N$2&\") When Barix(\"&$N$2&\",reference:=StartOfSession)=\"&A78&\"\", \"Bar\", \"\", \"Close\",\"5\",\"0\",\"All\",,,\"False\",\"T\",\"EveryTick\"))","v":{"$error":"#N/A"}},null,{"$f":"IF(D78=0,NA(),RTD(\"cqg.rtd\",,\"StudyData\", \"Close(\"&$P$2&\") When Barix(\"&$P$2&\",reference:=StartOfSession)=\"&A78&\"\", \"Bar\", \"\", \"Close\",\"5\",\"0\",\"All\",,,\"False\",\"T\",\"EveryTick\"))","v":{"$error":"#N/A"}},null,{"$f":"IF(D78=0,NA(),RTD(\"cqg.rtd\",,\"StudyData\", \"Close(\"&$R$2&\") When Barix(\"&$R$2&\",reference:=StartOfSession)=\"&A78&\"\", \"Bar\", \"\", \"Close\",\"5\",\"0\",\"All\",,,\"False\",\"T\",\"EveryTick\"))","v":{"$error":"#N/A"}},null,{"$f":"IF(D78=0,NA(),RTD(\"cqg.rtd\",,\"StudyData\", \"Close(\"&$T$2&\") When Barix(\"&$T$2&\",reference:=StartOfSession)=\"&A78&\"\", \"Bar\", \"\", \"Close\",\"5\",\"0\",\"All\",,,\"False\",\"T\",\"EveryTick\"))","v":{"$error":"#N/A"}},null,{"$f":"IF(D78=0,NA(),RTD(\"cqg.rtd\",,\"StudyData\", \"Close(\"&$V$2&\") When Barix(\"&$V$2&\",reference:=StartOfSession)=\"&A78&\"\", \"Bar\", \"\", \"Close\",\"5\",\"0\",\"All\",,,\"False\",\"T\",\"EveryTick\"))","v":{"$error":"#N/A"}},null,{"$f":"IF(D78=0,NA(),RTD(\"cqg.rtd\",,\"StudyData\", \"Close(\"&$X$2&\") When Barix(\"&$X$2&\",reference:=StartOfSession)=\"&A78&\"\", \"Bar\", \"\", \"Close\",\"5\",\"0\",\"All\",,,\"False\",\"T\",\"EveryTick\"))","v":{"$error":"#N/A"}},null,{"$f":"IF(D78=0,NA(),RTD(\"cqg.rtd\",,\"StudyData\", \"Close(\"&$Z$2&\") When Barix(\"&$Z$2&\",reference:=StartOfSession)=\"&A78&\"\", \"Bar\", \"\", \"Close\",\"5\",\"0\",\"All\",,,\"False\",\"T\",\"EveryTick\"))","v":{"$error":"#N/A"}},null,{"$f":"IF(D78=0,NA(),RTD(\"cqg.rtd\",,\"StudyData\", \"Close(\"&$AB$2&\") When Barix(\"&$AB$2&\",reference:=StartOfSession)=\"&A78&\"\", \"Bar\", \"\", \"Close\",\"5\",\"0\",\"All\",,,\"False\",\"T\",\"EveryTick\"))","v":{"$error":"#N/A"}},null,{"$f":"IF(D78=0,NA(),RTD(\"cqg.rtd\",,\"StudyData\", \"Close(\"&$AD$2&\") When Barix(\"&$AD$2&\",reference:=StartOfSession)=\"&A78&\"\", \"Bar\", \"\", \"Close\",\"5\",\"0\",\"All\",,,\"False\",\"T\",\"EveryTick\"))","v":{"$error":"#N/A"}},null,{"$f":"IF(D78=0,NA(),RTD(\"cqg.rtd\",,\"StudyData\", \"Close(\"&$AF$2&\") When Barix(\"&$AF$2&\",reference:=StartOfSession)=\"&A78&\"\", \"Bar\", \"\", \"Close\",\"5\",\"0\",\"All\",,,\"False\",\"T\",\"EveryTick\"))","v":{"$error":"#N/A"}},null,{"$f":"IF(D78=0,NA(),RTD(\"cqg.rtd\",,\"StudyData\", \"Close(\"&$AH$2&\") When Barix(\"&$AH$2&\",reference:=StartOfSession)=\"&A78&\"\", \"Bar\", \"\", \"Close\",\"5\",\"0\",\"All\",,,\"False\",\"T\",\"EveryTick\"))","v":{"$error":"#N/A"}},null,{"$f":"IF(D78=0,NA(),RTD(\"cqg.rtd\",,\"StudyData\", \"Close(\"&$AJ$2&\") When Barix(\"&$AJ$2&\",reference:=StartOfSession)=\"&A78&\"\", \"Bar\", \"\", \"Close\",\"5\",\"0\",\"All\",,,\"False\",\"T\",\"EveryTick\"))","v":{"$error":"#N/A"}},null,{"$f":"IF(D78=0,NA(),RTD(\"cqg.rtd\",,\"StudyData\", \"Close(\"&$AL$2&\") When Barix(\"&$AL$2&\",reference:=StartOfSession)=\"&A78&\"\", \"Bar\", \"\", \"Close\",\"5\",\"0\",\"All\",,,\"False\",\"T\",\"EveryTick\"))","v":{"$error":"#N/A"}},null,{"$f":"IF(D78=0,NA(),RTD(\"cqg.rtd\",,\"StudyData\", \"Close(\"&$AN$2&\") When Barix(\"&$AN$2&\",reference:=StartOfSession)=\"&A78&\"\", \"Bar\", \"\", \"Close\",\"5\",\"0\",\"All\",,,\"False\",\"T\",\"EveryTick\"))","v":{"$error":"#N/A"}},null,{"$f":"IF(D78=0,NA(),RTD(\"cqg.rtd\",,\"StudyData\", \"Close(\"&$AN$2&\") When Barix(\"&$AN$2&\",reference:=StartOfSession)=\"&A78&\"\", \"Bar\", \"\", \"Close\",\"5\",\"0\",\"All\",,,\"False\",\"T\",\"EveryTick\"))","v":{"$error":"#N/A"}},null,{"$f":"IF(D78=0,NA(),RTD(\"cqg.rtd\",,\"StudyData\", \"Close(\"&$AR$2&\") When Barix(\"&$AR$2&\",reference:=StartOfSession)=\"&A78&\"\", \"Bar\", \"\", \"Close\",\"5\",\"0\",\"All\",,,\"False\",\"T\",\"EveryTick\"))","v":{"$error":"#N/A"}},null,{"$f":"IF(D78=0,NA(),RTD(\"cqg.rtd\",,\"StudyData\", \"Close(\"&$AT$2&\") When Barix(\"&$AT$2&\",reference:=StartOfSession)=\"&A78&\"\", \"Bar\", \"\", \"Close\",\"5\",\"0\",\"All\",,,\"False\",\"T\",\"EveryTick\"))","v":{"$error":"#N/A"}},null,{"$f":"IF(D78=0,NA(),RTD(\"cqg.rtd\",,\"StudyData\", \"Close(\"&$AV$2&\") When Barix(\"&$AV$2&\",reference:=StartOfSession)=\"&A78&\"\", \"Bar\", \"\", \"Close\",\"5\",\"0\",\"All\",,,\"False\",\"T\",\"EveryTick\"))","v":{"$error":"#N/A"}},null,{"$f":"IF(D78=0,NA(),RTD(\"cqg.rtd\",,\"StudyData\", \"Close(\"&$AX$2&\") When Barix(\"&$AX$2&\",reference:=StartOfSession)=\"&A78&\"\", \"Bar\", \"\", \"Close\",\"5\",\"0\",\"All\",,,\"False\",\"T\",\"EveryTick\"))","v":{"$error":"#N/A"}},null,{"$f":"IF(D78=0,NA(),RTD(\"cqg.rtd\",,\"StudyData\", \"Close(\"&$AZ$2&\") When Barix(\"&$AZ$2&\",reference:=StartOfSession)=\"&A78&\"\", \"Bar\", \"\", \"Close\",\"5\",\"0\",\"All\",,,\"False\",\"T\",\"EveryTick\"))","v":{"$error":"#N/A"}},null,{"$f":"IF(D78=0,NA(),RTD(\"cqg.rtd\",,\"StudyData\", \"Close(\"&$BB$2&\") When Barix(\"&$BB$2&\",reference:=StartOfSession)=\"&A78&\"\", \"Bar\", \"\", \"Close\",\"5\",\"0\",\"All\",,,\"False\",\"T\",\"EveryTick\"))","v":{"$error":"#N/A"}},null,{"$f":"IF(D78=0,NA(),RTD(\"cqg.rtd\",,\"StudyData\", \"Close(\"&$BD$2&\") When Barix(\"&$BD$2&\",reference:=StartOfSession)=\"&A78&\"\", \"Bar\", \"\", \"Close\",\"5\",\"0\",\"All\",,,\"False\",\"T\",\"EveryTick\"))","v":{"$error":"#N/A"}},null,{"$f":"IF(D78=0,NA(),RTD(\"cqg.rtd\",,\"StudyData\", \"Close(\"&$BF$2&\") When Barix(\"&$BF$2&\",reference:=StartOfSession)=\"&A78&\"\", \"Bar\", \"\", \"Close\",\"5\",\"0\",\"All\",,,\"False\",\"T\",\"EveryTick\"))","v":{"$error":"#N/A"}},null,{"$f":"IF(D78=0,NA(),RTD(\"cqg.rtd\",,\"StudyData\", \"Close(\"&$BH$2&\") When Barix(\"&$BH$2&\",reference:=StartOfSession)=\"&A78&\"\", \"Bar\", \"\", \"Close\",\"5\",\"0\",\"All\",,,\"False\",\"T\",\"EveryTick\"))","v":{"$error":"#N/A"}},null,{"$f":"IF(D78=0,NA(),RTD(\"cqg.rtd\",,\"StudyData\", \"Close(\"&$BJ$2&\") When Barix(\"&$BJ$2&\",reference:=StartOfSession)=\"&A78&\"\", \"Bar\", \"\", \"Close\",\"5\",\"0\",\"All\",,,\"False\",\"T\",\"EveryTick\"))","v":{"$error":"#N/A"}},null,{"$f":"IF(D78=0,NA(),RTD(\"cqg.rtd\",,\"StudyData\", \"Close(\"&$BL$2&\") When Barix(\"&$BL$2&\",reference:=StartOfSession)=\"&A78&\"\", \"Bar\", \"\", \"Close\",\"5\",\"0\",\"All\",,,\"False\",\"T\",\"EveryTick\"))","v":{"$error":"#N/A"}},null,{"$f":"IF(D78=0,NA(),RTD(\"cqg.rtd\",,\"StudyData\", \"Close(\"&$BN$2&\") When Barix(\"&$BN$2&\",reference:=StartOfSession)=\"&A78&\"\", \"Bar\", \"\", \"Close\",\"5\",\"0\",\"All\",,,\"False\",\"T\",\"EveryTick\"))","v":{"$error":"#N/A"}},null,{"$f":"IF(D78=0,NA(),RTD(\"cqg.rtd\",,\"StudyData\", \"Close(\"&$BP$2&\") When Barix(\"&$BP$2&\",reference:=StartOfSession)=\"&A78&\"\", \"Bar\", \"\", \"Close\",\"5\",\"0\",\"All\",,,\"False\",\"T\",\"EveryTick\"))","v":{"$error":"#N/A"}},null,{"$f":"IF(D78=0,NA(),RTD(\"cqg.rtd\",,\"StudyData\", \"Close(\"&$BR$2&\") When Barix(\"&$BR$2&\",reference:=StartOfSession)=\"&A78&\"\", \"Bar\", \"\", \"Close\",\"5\",\"0\",\"All\",,,\"False\",\"T\",\"EveryTick\"))","v":{"$error":"#N/A"}},null,{"$f":"IF(D78=0,NA(),RTD(\"cqg.rtd\",,\"StudyData\", \"Close(\"&$BT$2&\") When Barix(\"&$BT$2&\",reference:=StartOfSession)=\"&A78&\"\", \"Bar\", \"\", \"Close\",\"5\",\"0\",\"All\",,,\"False\",\"T\",\"EveryTick\"))","v":{"$error":"#N/A"}},null,{"$f":"IF(D78=0,NA(),RTD(\"cqg.rtd\",,\"StudyData\", \"Close(\"&$BV$2&\") When Barix(\"&$BV$2&\",reference:=StartOfSession)=\"&A78&\"\", \"Bar\", \"\", \"Close\",\"5\",\"0\",\"All\",,,\"False\",\"T\",\"EveryTick\"))","v":{"$error":"#N/A"}},null,{"$f":"IF(D78=0,NA(),RTD(\"cqg.rtd\",,\"StudyData\", \"Close(\"&$BX$2&\") When Barix(\"&$BX$2&\",reference:=StartOfSession)=\"&A78&\"\", \"Bar\", \"\", \"Close\",\"5\",\"0\",\"All\",,,\"False\",\"T\",\"EveryTick\"))","v":{"$error":"#N/A"}},null,{"$f":"IF(D78=0,NA(),RTD(\"cqg.rtd\",,\"StudyData\", \"Close(\"&$BZ$2&\") When Barix(\"&$BZ$2&\",reference:=StartOfSession)=\"&A78&\"\", \"Bar\", \"\", \"Close\",\"5\",\"0\",\"All\",,,\"False\",\"T\",\"EveryTick\"))","v":{"$error":"#N/A"}}]
[75,{"$f":"IF(D79=0,NA(),RTD(\"cqg.rtd\",,\"StudyData\", \"Close(\"&$B$2&\") When Barix(\"&$B$2&\",reference:=StartOfSession)=\"&A79&\"\", \"Bar\", \"\", \"Close\",\"5\",\"0\",\"All\",,,\"False\",\"T\",\"EveryTick\"))","v":{"$error":"#N/A"}},"14:45:00",0,null,{"$f":"IF(D79=0,NA(),RTD(\"cqg.rtd\",,\"StudyData\", \"Close(\"&$F$2&\") When Barix(\"&$F$2&\",reference:=StartOfSession)=\"&A79&\"\", \"Bar\", \"\", \"Close\",\"5\",\"0\",\"All\",,,\"False\",\"T\",\"EveryTick\"))","v":{"$error":"#N/A"}},null,{"$f":"IF(D79=0,NA(),RTD(\"cqg.rtd\",,\"StudyData\", \"Close(\"&$H$2&\") When Barix(\"&$H$2&\",reference:=StartOfSession)=\"&A79&\"\", \"Bar\", \"\", \"Close\",\"5\",\"0\",\"All\",,,\"False\",\"T\",\"EveryTick\"))","v":{"$error":"#N/A"}},null,{"$f":"IF(D79=0,NA(),RTD(\"cqg.rtd\",,\"StudyData\", \"Close(\"&$J$2&\") When Barix(\"&$J$2&\",reference:=StartOfSession)=\"&A79&\"\", \"Bar\", \"\", \"Close\",\"5\",\"0\",\"All\",,,\"False\",\"T\",\"EveryTick\"))","v":{"$error":"#N/A"}},null,{"$f":"IF(D79=0,NA(),RTD(\"cqg.rtd\",,\"StudyData\", \"Close(\"&$L$2&\") When Barix(\"&$L$2&\",reference:=StartOfSession)=\"&A79&\"\", \"Bar\", \"\", \"Close\",\"5\",\"0\",\"All\",,,\"False\",\"T\",\"EveryTick\"))","v":{"$error":"#N/A"}},null,{"$f":"IF(D79=0,NA(),RTD(\"cqg.rtd\",,\"StudyData\", \"Close(\"&$N$2&\") When Barix(\"&$N$2&\",reference:=StartOfSession)=\"&A79&\"\", \"Bar\", \"\", \"Close\",\"5\",\"0\",\"All\",,,\"False\",\"T\",\"EveryTick\"))","v":{"$error":"#N/A"}},null,{"$f":"IF(D79=0,NA(),RTD(\"cqg.rtd\",,\"StudyData\", \"Close(\"&$P$2&\") When Barix(\"&$P$2&\",reference:=StartOfSession)=\"&A79&\"\", \"Bar\", \"\", \"Close\",\"5\",\"0\",\"All\",,,\"False\",\"T\",\"EveryTick\"))","v":{"$error":"#N/A"}},null,{"$f":"IF(D79=0,NA(),RTD(\"cqg.rtd\",,\"StudyData\", \"Close(\"&$R$2&\") When Barix(\"&$R$2&\",reference:=StartOfSession)=\"&A79&\"\", \"Bar\", \"\", \"Close\",\"5\",\"0\",\"All\",,,\"False\",\"T\",\"EveryTick\"))","v":{"$error":"#N/A"}},null,{"$f":"IF(D79=0,NA(),RTD(\"cqg.rtd\",,\"StudyData\", \"Close(\"&$T$2&\") When Barix(\"&$T$2&\",reference:=StartOfSession)=\"&A79&\"\", \"Bar\", \"\", \"Close\",\"5\",\"0\",\"All\",,,\"False\",\"T\",\"EveryTick\"))","v":{"$error":"#N/A"}},null,{"$f":"IF(D79=0,NA(),RTD(\"cqg.rtd\",,\"StudyData\", \"Close(\"&$V$2&\") When Barix(\"&$V$2&\",reference:=StartOfSession)=\"&A79&\"\", \"Bar\", \"\", \"Close\",\"5\",\"0\",\"All\",,,\"False\",\"T\",\"EveryTick\"))","v":{"$error":"#N/A"}},null,{"$f":"IF(D79=0,NA(),RTD(\"cqg.rtd\",,\"StudyData\", \"Close(\"&$X$2&\") When Barix(\"&$X$2&\",reference:=StartOfSession)=\"&A79&\"\", \"Bar\", \"\", \"Close\",\"5\",\"0\",\"All\",,,\"False\",\"T\",\"EveryTick\"))","v":{"$error":"#N/A"}},null,{"$f":"IF(D79=0,NA(),RTD(\"cqg.rtd\",,\"StudyData\", \"Close(\"&$Z$2&\") When Barix(\"&$Z$2&\",reference:=StartOfSession)=\"&A79&\"\", \"Bar\", \"\", \"Close\",\"5\",\"0\",\"All\",,,\"False\",\"T\",\"EveryTick\"))","v":{"$error":"#N/A"}},null,{"$f":"IF(D79=0,NA(),RTD(\"cqg.rtd\",,\"StudyData\", \"Close(\"&$AB$2&\") When Barix(\"&$AB$2&\",reference:=StartOfSession)=\"&A79&\"\", \"Bar\", \"\", \"Close\",\"5\",\"0\",\"All\",,,\"False\",\"T\",\"EveryTick\"))","v":{"$error":"#N/A"}},null,{"$f":"IF(D79=0,NA(),RTD(\"cqg.rtd\",,\"StudyData\", \"Close(\"&$AD$2&\") When Barix(\"&$AD$2&\",reference:=StartOfSession)=\"&A79&\"\", \"Bar\", \"\", \"Close\",\"5\",\"0\",\"All\",,,\"False\",\"T\",\"EveryTick\"))","v":{"$error":"#N/A"}},null,{"$f":"IF(D79=0,NA(),RTD(\"cqg.rtd\",,\"StudyData\", \"Close(\"&$AF$2&\") When Barix(\"&$AF$2&\",reference:=StartOfSession)=\"&A79&\"\", \"Bar\", \"\", \"Close\",\"5\",\"0\",\"All\",,,\"False\",\"T\",\"EveryTick\"))","v":{"$error":"#N/A"}},null,{"$f":"IF(D79=0,NA(),RTD(\"cqg.rtd\",,\"StudyData\", \"Close(\"&$AH$2&\") When Barix(\"&$AH$2&\",reference:=StartOfSession)=\"&A79&\"\", \"Bar\", \"\", \"Close\",\"5\",\"0\",\"All\",,,\"False\",\"T\",\"EveryTick\"))","v":{"$error":"#N/A"}},null,{"$f":"IF(D79=0,NA(),RTD(\"cqg.rtd\",,\"StudyData\", \"Close(\"&$AJ$2&\") When Barix(\"&$AJ$2&\",reference:=StartOfSession)=\"&A79&\"\", \"Bar\", \"\", \"Close\",\"5\",\"0\",\"All\",,,\"False\",\"T\",\"EveryTick\"))","v":{"$error":"#N/A"}},null,{"$f":"IF(D79=0,NA(),RTD(\"cqg.rtd\",,\"StudyData\", \"Close(\"&$AL$2&\") When Barix(\"&$AL$2&\",reference:=StartOfSession)=\"&A79&\"\", \"Bar\", \"\", \"Close\",\"5\",\"0\",\"All\",,,\"False\",\"T\",\"EveryTick\"))","v":{"$error":"#N/A"}},null,{"$f":"IF(D79=0,NA(),RTD(\"cqg.rtd\",,\"StudyData\", \"Close(\"&$AN$2&\") When Barix(\"&$AN$2&\",reference:=StartOfSession)=\"&A79&\"\", \"Bar\", \"\", \"Close\",\"5\",\"0\",\"All\",,,\"False\",\"T\",\"EveryTick\"))","v":{"$error":"#N/A"}},null,{"$f":"IF(D79=0,NA(),RTD(\"cqg.rtd\",,\"StudyData\", \"Close(\"&$AN$2&\") When Barix(\"&$AN$2&\",reference:=StartOfSession)=\"&A79&\"\", \"Bar\", \"\", \"Close\",\"5\",\"0\",\"All\",,,\"False\",\"T\",\"EveryTick\"))","v":{"$error":"#N/A"}},null,{"$f":"IF(D79=0,NA(),RTD(\"cqg.rtd\",,\"StudyData\", \"Close(\"&$AR$2&\") When Barix(\"&$AR$2&\",reference:=StartOfSession)=\"&A79&\"\", \"Bar\", \"\", \"Close\",\"5\",\"0\",\"All\",,,\"False\",\"T\",\"EveryTick\"))","v":{"$error":"#N/A"}},null,{"$f":"IF(D79=0,NA(),RTD(\"cqg.rtd\",,\"StudyData\", \"Close(\"&$AT$2&\") When Barix(\"&$AT$2&\",reference:=StartOfSession)=\"&A79&\"\", \"Bar\", \"\", \"Close\",\"5\",\"0\",\"All\",,,\"False\",\"T\",\"EveryTick\"))","v":{"$error":"#N/A"}},null,{"$f":"IF(D79=0,NA(),RTD(\"cqg.rtd\",,\"StudyData\", \"Close(\"&$AV$2&\") When Barix(\"&$AV$2&\",reference:=StartOfSession)=\"&A79&\"\", \"Bar\", \"\", \"Close\",\"5\",\"0\",\"All\",,,\"False\",\"T\",\"EveryTick\"))","v":{"$error":"#N/A"}},null,{"$f":"IF(D79=0,NA(),RTD(\"cqg.rtd\",,\"StudyData\", \"Close(\"&$AX$2&\") When Barix(\"&$AX$2&\",reference:=StartOfSession)=\"&A79&\"\", \"Bar\", \"\", \"Close\",\"5\",\"0\",\"All\",,,\"False\",\"T\",\"EveryTick\"))","v":{"$error":"#N/A"}},null,{"$f":"IF(D79=0,NA(),RTD(\"cqg.rtd\",,\"StudyData\", \"Close(\"&$AZ$2&\") When Barix(\"&$AZ$2&\",reference:=StartOfSession)=\"&A79&\"\", \"Bar\", \"\", \"Close\",\"5\",\"0\",\"All\",,,\"False\",\"T\",\"EveryTick\"))","v":{"$error":"#N/A"}},null,{"$f":"IF(D79=0,NA(),RTD(\"cqg.rtd\",,\"StudyData\", \"Close(\"&$BB$2&\") When Barix(\"&$BB$2&\",reference:=StartOfSession)=\"&A79&\"\", \"Bar\", \"\", \"Close\",\"5\",\"0\",\"All\",,,\"False\",\"T\",\"EveryTick\"))","v":{"$error":"#N/A"}},null,{"$f":"IF(D79=0,NA(),RTD(\"cqg.rtd\",,\"StudyData\", \"Close(\"&$BD$2&\") When Barix(\"&$BD$2&\",reference:=StartOfSession)=\"&A79&\"\", \"Bar\", \"\", \"Close\",\"5\",\"0\",\"All\",,,\"False\",\"T\",\"EveryTick\"))","v":{"$error":"#N/A"}},null,{"$f":"IF(D79=0,NA(),RTD(\"cqg.rtd\",,\"StudyData\", \"Close(\"&$BF$2&\") When Barix(\"&$BF$2&\",reference:=StartOfSession)=\"&A79&\"\", \"Bar\", \"\", \"Close\",\"5\",\"0\",\"All\",,,\"False\",\"T\",\"EveryTick\"))","v":{"$error":"#N/A"}},null,{"$f":"IF(D79=0,NA(),RTD(\"cqg.rtd\",,\"StudyData\", \"Close(\"&$BH$2&\") When Barix(\"&$BH$2&\",reference:=StartOfSession)=\"&A79&\"\", \"Bar\", \"\", \"Close\",\"5\",\"0\",\"All\",,,\"False\",\"T\",\"EveryTick\"))","v":{"$error":"#N/A"}},null,{"$f":"IF(D79=0,NA(),RTD(\"cqg.rtd\",,\"StudyData\", \"Close(\"&$BJ$2&\") When Barix(\"&$BJ$2&\",reference:=StartOfSession)=\"&A79&\"\", \"Bar\", \"\", \"Close\",\"5\",\"0\",\"All\",,,\"False\",\"T\",\"EveryTick\"))","v":{"$error":"#N/A"}},null,{"$f":"IF(D79=0,NA(),RTD(\"cqg.rtd\",,\"StudyData\", \"Close(\"&$BL$2&\") When Barix(\"&$BL$2&\",reference:=StartOfSession)=\"&A79&\"\", \"Bar\", \"\", \"Close\",\"5\",\"0\",\"All\",,,\"False\",\"T\",\"EveryTick\"))","v":{"$error":"#N/A"}},null,{"$f":"IF(D79=0,NA(),RTD(\"cqg.rtd\",,\"StudyData\", \"Close(\"&$BN$2&\") When Barix(\"&$BN$2&\",reference:=StartOfSession)=\"&A79&\"\", \"Bar\", \"\", \"Close\",\"5\",\"0\",\"All\",,,\"False\",\"T\",\"EveryTick\"))","v":{"$error":"#N/A"}},null,{"$f":"IF(D79=0,NA(),RTD(\"cqg.rtd\",,\"StudyData\", \"Close(\"&$BP$2&\") When Barix(\"&$BP$2&\",reference:=StartOfSession)=\"&A79&\"\", \"Bar\", \"\", \"Close\",\"5\",\"0\",\"All\",,,\"False\",\"T\",\"EveryTick\"))","v":{"$error":"#N/A"}},null,{"$f":"IF(D79=0,NA(),RTD(\"cqg.rtd\",,\"StudyData\", \"Close(\"&$BR$2&\") When Barix(\"&$BR$2&\",reference:=StartOfSession)=\"&A79&\"\", \"Bar\", \"\", \"Close\",\"5\",\"0\",\"All\",,,\"False\",\"T\",\"EveryTick\"))","v":{"$error":"#N/A"}},null,{"$f":"IF(D79=0,NA(),RTD(\"cqg.rtd\",,\"StudyData\", \"Close(\"&$BT$2&\") When Barix(\"&$BT$2&\",reference:=StartOfSession)=\"&A79&\"\", \"Bar\", \"\", \"Close\",\"5\",\"0\",\"All\",,,\"False\",\"T\",\"EveryTick\"))","v":{"$error":"#N/A"}},null,{"$f":"IF(D79=0,NA(),RTD(\"cqg.rtd\",,\"StudyData\", \"Close(\"&$BV$2&\") When Barix(\"&$BV$2&\",reference:=StartOfSession)=\"&A79&\"\", \"Bar\", \"\", \"Close\",\"5\",\"0\",\"All\",,,\"False\",\"T\",\"EveryTick\"))","v":{"$error":"#N/A"}},null,{"$f":"IF(D79=0,NA(),RTD(\"cqg.rtd\",,\"StudyData\", \"Close(\"&$BX$2&\") When Barix(\"&$BX$2&\",reference:=StartOfSession)=\"&A79&\"\", \"Bar\", \"\", \"Close\",\"5\",\"0\",\"All\",,,\"False\",\"T\",\"EveryTick\"))","v":{"$error":"#N/A"}},null,{"$f":"IF(D79=0,NA(),RTD(\"cqg.rtd\",,\"StudyData\", \"Close(\"&$BZ$2&\") When Barix(\"&$BZ$2&\",reference:=StartOfSession)=\"&A79&\"\", \"Bar\", \"\", \"Close\",\"5\",\"0\",\"All\",,,\"False\",\"T\",\"EveryTick\"))","v":{"$error":"#N/A"}}]
[76,{"$f":"IF(D80=0,NA(),RTD(\"cqg.rtd\",,\"StudyData\", \"Close(\"&$B$2&\") When Barix(\"&$B$2&\",reference:=StartOfSession)=\"&A80&\"\", \"Bar\", \"\", \"Close\",\"5\",\"0\",\"All\",,,\"False\",\"T\",\"EveryTick\"))","v":{"$error":"#N/A"}},"14:50:00",0,null,{"$f":"IF(D80=0,NA(),RTD(\"cqg.rtd\",,\"StudyData\", \"Close(\"&$F$2&\") When Barix(\"&$F$2&\",reference:=StartOfSession)=\"&A80&\"\", \"Bar\", \"\", \"Close\",\"5\",\"0\",\"All\",,,\"False\",\"T\",\"EveryTick\"))","v":{"$error":"#N/A"}},null,{"$f":"IF(D80=0,NA(),RTD(\"cqg.rtd\",,\"StudyData\", \"Close(\"&$H$2&\") When Barix(\"&$H$2&\",reference:=StartOfSession)=\"&A80&\"\", \"Bar\", \"\", \"Close\",\"5\",\"0\",\"All\",,,\"False\",\"T\",\"EveryTick\"))","v":{"$error":"#N/A"}},null,{"$f":"IF(D80=0,NA(),RTD(\"cqg.rtd\",,\"StudyData\", \"Close(\"&$J$2&\") When Barix(\"&$J$2&\",reference:=StartOfSession)=\"&A80&\"\", \"Bar\", \"\", \"Close\",\"5\",\"0\",\"All\",,,\"False\",\"T\",\"EveryTick\"))","v":{"$error":"#N/A"}},null,{"$f":"IF(D80=0,NA(),RTD(\"cqg.rtd\",,\"StudyData\", \"Close(\"&$L$2&\") When Barix(\"&$L$2&\",reference:=StartOfSession)=\"&A80&\"\", \"Bar\", \"\", \"Close\",\"5\",\"0\",\"All\",,,\"False\",\"T\",\"EveryTick\"))","v":{"$error":"#N/A"}},null,{"$f":"IF(D80=0,NA(),RTD(\"cqg.rtd\",,\"StudyData\", \"Close(\"&$N$2&\") When Barix(\"&$N$2&\",reference:=StartOfSession)=\"&A80&\"\", \"Bar\", \"\", \"Close\",\"5\",\"0\",\"All\",,,\"False\",\"T\",\"EveryTick\"))","v":{"$error":"#N/A"}},null,{"$f":"IF(D80=0,NA(),RTD(\"cqg.rtd\",,\"StudyData\", \"Close(\"&$P$2&\") When Barix(\"&$P$2&\",reference:=StartOfSession)=\"&A80&\"\", \"Bar\", \"\", \"Close\",\"5\",\"0\",\"All\",,,\"False\",\"T\",\"EveryTick\"))","v":{"$error":"#N/A"}},null,{"$f":"IF(D80=0,NA(),RTD(\"cqg.rtd\",,\"StudyData\", \"Close(\"&$R$2&\") When Barix(\"&$R$2&\",reference:=StartOfSession)=\"&A80&\"\", \"Bar\", \"\", \"Close\",\"5\",\"0\",\"All\",,,\"False\",\"T\",\"EveryTick\"))","v":{"$error":"#N/A"}},null,{"$f":"IF(D80=0,NA(),RTD(\"cqg.rtd\",,\"StudyData\", \"Close(\"&$T$2&\") When Barix(\"&$T$2&\",reference:=StartOfSession)=\"&A80&\"\", \"Bar\", \"\", \"Close\",\"5\",\"0\",\"All\",,,\"False\",\"T\",\"EveryTick\"))","v":{"$error":"#N/A"}},null,{"$f":"IF(D80=0,NA(),RTD(\"cqg.rtd\",,\"StudyData\", \"Close(\"&$V$2&\") When Barix(\"&$V$2&\",reference:=StartOfSession)=\"&A80&\"\", \"Bar\", \"\", \"Close\",\"5\",\"0\",\"All\",,,\"False\",\"T\",\"EveryTick\"))","v":{"$error":"#N/A"}},null,{"$f":"IF(D80=0,NA(),RTD(\"cqg.rtd\",,\"StudyData\", \"Close(\"&$X$2&\") When Barix(\"&$X$2&\",reference:=StartOfSession)=\"&A80&\"\", \"Bar\", \"\", \"Close\",\"5\",\"0\",\"All\",,,\"False\",\"T\",\"EveryTick\"))","v":{"$error":"#N/A"}},null,{"$f":"IF(D80=0,NA(),RTD(\"cqg.rtd\",,\"StudyData\", \"Close(\"&$Z$2&\") When Barix(\"&$Z$2&\",reference:=StartOfSession)=\"&A80&\"\", \"Bar\", \"\", \"Close\",\"5\",\"0\",\"All\",,,\"False\",\"T\",\"EveryTick\"))","v":{"$error":"#N/A"}},null,{"$f":"IF(D80=0,NA(),RTD(\"cqg.rtd\",,\"StudyData\", \"Close(\"&$AB$2&\") When Barix(\"&$AB$2&\",reference:=StartOfSession)=\"&A80&\"\", \"Bar\", \"\", \"Close\",\"5\",\"0\",\"All\",,,\"False\",\"T\",\"EveryTick\"))","v":{"$error":"#N/A"}},null,{"$f":"IF(D80=0,NA(),RTD(\"cqg.rtd\",,\"StudyData\", \"Close(\"&$AD$2&\") When Barix(\"&$AD$2&\",reference:=StartOfSession)=\"&A80&\"\", \"Bar\", \"\", \"Close\",\"5\",\"0\",\"All\",,,\"False\",\"T\",\"EveryTick\"))","v":{"$error":"#N/A"}},null,{"$f":"IF(D80=0,NA(),RTD(\"cqg.rtd\",,\"StudyData\", \"Close(\"&$AF$2&\") When Barix(\"&$AF$2&\",reference:=StartOfSession)=\"&A80&\"\", \"Bar\", \"\", \"Close\",\"5\",\"0\",\"All\",,,\"False\",\"T\",\"EveryTick\"))","v":{"$error":"#N/A"}},null,{"$f":"IF(D80=0,NA(),RTD(\"cqg.rtd\",,\"StudyData\", \"Close(\"&$AH$2&\") When Barix(\"&$AH$2&\",reference:=StartOfSession)=\"&A80&\"\", \"Bar\", \"\", \"Close\",\"5\",\"0\",\"All\",,,\"False\",\"T\",\"EveryTick\"))","v":{"$error":"#N/A"}},null,{"$f":"IF(D80=0,NA(),RTD(\"cqg.rtd\",,\"StudyData\", \"Close(\"&$AJ$2&\") When Barix(\"&$AJ$2&\",reference:=StartOfSession)=\"&A80&\"\", \"Bar\", \"\", \"Close\",\"5\",\"0\",\"All\",,,\"False\",\"T\",\"EveryTick\"))","v":{"$error":"#N/A"}},null,{"$f":"IF(D80=0,NA(),RTD(\"cqg.rtd\",,\"StudyData\", \"Close(\"&$AL$2&\") When Barix(\"&$AL$2&\",reference:=StartOfSession)=\"&A80&\"\", \"Bar\", \"\", \"Close\",\"5\",\"0\",\"All\",,,\"False\",\"T\",\"EveryTick\"))","v":{"$error":"#N/A"}},null,{"$f":"IF(D80=0,NA(),RTD(\"cqg.rtd\",,\"StudyData\", \"Close(\"&$AN$2&\") When Barix(\"&$AN$2&\",reference:=StartOfSession)=\"&A80&\"\", \"Bar\", \"\", \"Close\",\"5\",\"0\",\"All\",,,\"False\",\"T\",\"EveryTick\"))","v":{"$error":"#N/A"}},null,{"$f":"IF(D80=0,NA(),RTD(\"cqg.rtd\",,\"StudyData\", \"Close(\"&$AN$2&\") When Barix(\"&$AN$2&\",reference:=StartOfSession)=\"&A80&\"\", \"Bar\", \"\", \"Close\",\"5\",\"0\",\"All\",,,\"False\",\"T\",\"EveryTick\"))","v":{"$error":"#N/A"}},null,{"$f":"IF(D80=0,NA(),RTD(\"cqg.rtd\",,\"StudyData\", \"Close(\"&$AR$2&\") When Barix(\"&$AR$2&\",reference:=StartOfSession)=\"&A80&\"\", \"Bar\", \"\", \"Close\",\"5\",\"0\",\"All\",,,\"False\",\"T\",\"EveryTick\"))","v":{"$error":"#N/A"}},null,{"$f":"IF(D80=0,NA(),RTD(\"cqg.rtd\",,\"StudyData\", \"Close(\"&$AT$2&\") When Barix(\"&$AT$2&\",reference:=StartOfSession)=\"&A80&\"\", \"Bar\", \"\", \"Close\",\"5\",\"0\",\"All\",,,\"False\",\"T\",\"EveryTick\"))","v":{"$error":"#N/A"}},null,{"$f":"IF(D80=0,NA(),RTD(\"cqg.rtd\",,\"StudyData\", \"Close(\"&$AV$2&\") When Barix(\"&$AV$2&\",reference:=StartOfSession)=\"&A80&\"\", \"Bar\", \"\", \"Close\",\"5\",\"0\",\"All\",,,\"False\",\"T\",\"EveryTick\"))","v":{"$error":"#N/A"}},null,{"$f":"IF(D80=0,NA(),RTD(\"cqg.rtd\",,\"StudyData\", \"Close(\"&$AX$2&\") When Barix(\"&$AX$2&\",reference:=StartOfSession)=\"&A80&\"\", \"Bar\", \"\", \"Close\",\"5\",\"0\",\"All\",,,\"False\",\"T\",\"EveryTick\"))","v":{"$error":"#N/A"}},null,{"$f":"IF(D80=0,NA(),RTD(\"cqg.rtd\",,\"StudyData\", \"Close(\"&$AZ$2&\") When Barix(\"&$AZ$2&\",reference:=StartOfSession)=\"&A80&\"\", \"Bar\", \"\", \"Close\",\"5\",\"0\",\"All\",,,\"False\",\"T\",\"EveryTick\"))","v":{"$error":"#N/A"}},null,{"$f":"IF(D80=0,NA(),RTD(\"cqg.rtd\",,\"StudyData\", \"Close(\"&$BB$2&\") When Barix(\"&$BB$2&\",reference:=StartOfSession)=\"&A80&\"\", \"Bar\", \"\", \"Close\",\"5\",\"0\",\"All\",,,\"False\",\"T\",\"EveryTick\"))","v":{"$error":"#N/A"}},null,{"$f":"IF(D80=0,NA(),RTD(\"cqg.rtd\",,\"StudyData\", \"Close(\"&$BD$2&\") When Barix(\"&$BD$2&\",reference:=StartOfSession)=\"&A80&\"\", \"Bar\", \"\", \"Close\",\"5\",\"0\",\"All\",,,\"False\",\"T\",\"EveryTick\"))","v":{"$error":"#N/A"}},null,{"$f":"IF(D80=0,NA(),RTD(\"cqg.rtd\",,\"StudyData\", \"Close(\"&$BF$2&\") When Barix(\"&$BF$2&\",reference:=StartOfSession)=\"&A80&\"\", \"Bar\", \"\", \"Close\",\"5\",\"0\",\"All\",,,\"False\",\"T\",\"EveryTick\"))","v":{"$error":"#N/A"}},null,{"$f":"IF(D80=0,NA(),RTD(\"cqg.rtd\",,\"StudyData\", \"Close(\"&$BH$2&\") When Barix(\"&$BH$2&\",reference:=StartOfSession)=\"&A80&\"\", \"Bar\", \"\", \"Close\",\"5\",\"0\",\"All\",,,\"False\",\"T\",\"EveryTick\"))","v":{"$error":"#N/A"}},null,{"$f":"IF(D80=0,NA(),RTD(\"cqg.rtd\",,\"StudyData\", \"Close(\"&$BJ$2&\") When Barix(\"&$BJ$2&\",reference:=StartOfSession)=\"&A80&\"\", \"Bar\", \"\", \"Close\",\"5\",\"0\",\"All\",,,\"False\",\"T\",\"EveryTick\"))","v":{"$error":"#N/A"}},null,{"$f":"IF(D80=0,NA(),RTD(\"cqg.rtd\",,\"StudyData\", \"Close(\"&$BL$2&\") When Barix(\"&$BL$2&\",reference:=StartOfSession)=\"&A80&\"\", \"Bar\", \"\", \"Close\",\"5\",\"0\",\"All\",,,\"False\",\"T\",\"EveryTick\"))","v":{"$error":"#N/A"}},null,{"$f":"IF(D80=0,NA(),RTD(\"cqg.rtd\",,\"StudyData\", \"Close(\"&$BN$2&\") When Barix(\"&$BN$2&\",reference:=StartOfSession)=\"&A80&\"\", \"Bar\", \"\", \"Close\",\"5\",\"0\",\"All\",,,\"False\",\"T\",\"EveryTick\"))","v":{"$error":"#N/A"}},null,{"$f":"IF(D80=0,NA(),RTD(\"cqg.rtd\",,\"StudyData\", \"Close(\"&$BP$2&\") When Barix(\"&$BP$2&\",reference:=StartOfSession)=\"&A80&\"\", \"Bar\", \"\", \"Close\",\"5\",\"0\",\"All\",,,\"False\",\"T\",\"EveryTick\"))","v":{"$error":"#N/A"}},null,{"$f":"IF(D80=0,NA(),RTD(\"cqg.rtd\",,\"StudyData\", \"Close(\"&$BR$2&\") When Barix(\"&$BR$2&\",reference:=StartOfSession)=\"&A80&\"\", \"Bar\", \"\", \"Close\",\"5\",\"0\",\"All\",,,\"False\",\"T\",\"EveryTick\"))","v":{"$error":"#N/A"}},null,{"$f":"IF(D80=0,NA(),RTD(\"cqg.rtd\",,\"StudyData\", \"Close(\"&$BT$2&\") When Barix(\"&$BT$2&\",reference:=StartOfSession)=\"&A80&\"\", \"Bar\", \"\", \"Close\",\"5\",\"0\",\"All\",,,\"False\",\"T\",\"EveryTick\"))","v":{"$error":"#N/A"}},null,{"$f":"IF(D80=0,NA(),RTD(\"cqg.rtd\",,\"StudyData\", \"Close(\"&$BV$2&\") When Barix(\"&$BV$2&\",reference:=StartOfSession)=\"&A80&\"\", \"Bar\", \"\", \"Close\",\"5\",\"0\",\"All\",,,\"False\",\"T\",\"EveryTick\"))","v":{"$error":"#N/A"}},null,{"$f":"IF(D80=0,NA(),RTD(\"cqg.rtd\",,\"StudyData\", \"Close(\"&$BX$2&\") When Barix(\"&$BX$2&\",reference:=StartOfSession)=\"&A80&\"\", \"Bar\", \"\", \"Close\",\"5\",\"0\",\"All\",,,\"False\",\"T\",\"EveryTick\"))","v":{"$error":"#N/A"}},null,{"$f":"IF(D80=0,NA(),RTD(\"cqg.rtd\",,\"StudyData\", \"Close(\"&$BZ$2&\") When Barix(\"&$BZ$2&\",reference:=StartOfSession)=\"&A80&\"\", \"Bar\", \"\", \"Close\",\"5\",\"0\",\"All\",,,\"False\",\"T\",\"EveryTick\"))","v":{"$error":"#N/A"}}]
[77,{"$f":"IF(D81=0,NA(),RTD(\"cqg.rtd\",,\"StudyData\", \"Close(\"&$B$2&\") When Barix(\"&$B$2&\",reference:=StartOfSession)=\"&A81&\"\", \"Bar\", \"\", \"Close\",\"5\",\"0\",\"All\",,,\"False\",\"T\",\"EveryTick\"))","v":{"$error":"#N/A"}},"14:55:00",0,null,{"$f":"IF(D81=0,NA(),RTD(\"cqg.rtd\",,\"StudyData\", \"Close(\"&$F$2&\") When Barix(\"&$F$2&\",reference:=StartOfSession)=\"&A81&\"\", \"Bar\", \"\", \"Close\",\"5\",\"0\",\"All\",,,\"False\",\"T\",\"EveryTick\"))","v":{"$error":"#N/A"}},null,{"$f":"IF(D81=0,NA(),RTD(\"cqg.rtd\",,\"StudyData\", \"Close(\"&$H$2&\") When Barix(\"&$H$2&\",reference:=StartOfSession)=\"&A81&\"\", \"Bar\", \"\", \"Close\",\"5\",\"0\",\"All\",,,\"False\",\"T\",\"EveryTick\"))","v":{"$error":"#N/A"}},null,{"$f":"IF(D81=0,NA(),RTD(\"cqg.rtd\",,\"StudyData\", \"Close(\"&$J$2&\") When Barix(\"&$J$2&\",reference:=StartOfSession)=\"&A81&\"\", \"Bar\", \"\", \"Close\",\"5\",\"0\",\"All\",,,\"False\",\"T\",\"EveryTick\"))","v":{"$error":"#N/A"}},null,{"$f":"IF(D81=0,NA(),RTD(\"cqg.rtd\",,\"StudyData\", \"Close(\"&$L$2&\") When Barix(\"&$L$2&\",reference:=StartOfSession)=\"&A81&\"\", \"Bar\", \"\", \"Close\",\"5\",\"0\",\"All\",,,\"False\",\"T\",\"EveryTick\"))","v":{"$error":"#N/A"}},null,{"$f":"IF(D81=0,NA(),RTD(\"cqg.rtd\",,\"StudyData\", \"Close(\"&$N$2&\") When Barix(\"&$N$2&\",reference:=StartOfSession)=\"&A81&\"\", \"Bar\", \"\", \"Close\",\"5\",\"0\",\"All\",,,\"False\",\"T\",\"EveryTick\"))","v":{"$error":"#N/A"}},null,{"$f":"IF(D81=0,NA(),RTD(\"cqg.rtd\",,\"StudyData\", \"Close(\"&$P$2&\") When Barix(\"&$P$2&\",reference:=StartOfSession)=\"&A81&\"\", \"Bar\", \"\", \"Close\",\"5\",\"0\",\"All\",,,\"False\",\"T\",\"EveryTick\"))","v":{"$error":"#N/A"}},null,{"$f":"IF(D81=0,NA(),RTD(\"cqg.rtd\",,\"StudyData\", \"Close(\"&$R$2&\") When Barix(\"&$R$2&\",reference:=StartOfSession)=\"&A81&\"\", \"Bar\", \"\", \"Close\",\"5\",\"0\",\"All\",,,\"False\",\"T\",\"EveryTick\"))","v":{"$error":"#N/A"}},null,{"$f":"IF(D81=0,NA(),RTD(\"cqg.rtd\",,\"StudyData\", \"Close(\"&$T$2&\") When Barix(\"&$T$2&\",reference:=StartOfSession)=\"&A81&\"\", \"Bar\", \"\", \"Close\",\"5\",\"0\",\"All\",,,\"False\",\"T\",\"EveryTick\"))","v":{"$error":"#N/A"}},null,{"$f":"IF(D81=0,NA(),RTD(\"cqg.rtd\",,\"StudyData\", \"Close(\"&$V$2&\") When Barix(\"&$V$2&\",reference:=StartOfSession)=\"&A81&\"\", \"Bar\", \"\", \"Close\",\"5\",\"0\",\"All\",,,\"False\",\"T\",\"EveryTick\"))","v":{"$error":"#N/A"}},null,{"$f":"IF(D81=0,NA(),RTD(\"cqg.rtd\",,\"StudyData\", \"Close(\"&$X$2&\") When Barix(\"&$X$2&\",reference:=StartOfSession)=\"&A81&\"\", \"Bar\", \"\", \"Close\",\"5\",\"0\",\"All\",,,\"False\",\"T\",\"EveryTick\"))","v":{"$error":"#N/A"}},null,{"$f":"IF(D81=0,NA(),RTD(\"cqg.rtd\",,\"StudyData\", \"Close(\"&$Z$2&\") When Barix(\"&$Z$2&\",reference:=StartOfSession)=\"&A81&\"\", \"Bar\", \"\", \"Close\",\"5\",\"0\",\"All\",,,\"False\",\"T\",\"EveryTick\"))","v":{"$error":"#N/A"}},null,{"$f":"IF(D81=0,NA(),RTD(\"cqg.rtd\",,\"StudyData\", \"Close(\"&$AB$2&\") When Barix(\"&$AB$2&\",reference:=StartOfSession)=\"&A81&\"\", \"Bar\", \"\", \"Close\",\"5\",\"0\",\"All\",,,\"False\",\"T\",\"EveryTick\"))","v":{"$error":"#N/A"}},null,{"$f":"IF(D81=0,NA(),RTD(\"cqg.rtd\",,\"StudyData\", \"Close(\"&$AD$2&\") When Barix(\"&$AD$2&\",reference:=StartOfSession)=\"&A81&\"\", \"Bar\", \"\", \"Close\",\"5\",\"0\",\"All\",,,\"False\",\"T\",\"EveryTick\"))","v":{"$error":"#N/A"}},null,{"$f":"IF(D81=0,NA(),RTD(\"cqg.rtd\",,\"StudyData\", \"Close(\"&$AF$2&\") When Barix(\"&$AF$2&\",reference:=StartOfSession)=\"&A81&\"\", \"Bar\", \"\", \"Close\",\"5\",\"0\",\"All\",,,\"False\",\"T\",\"EveryTick\"))","v":{"$error":"#N/A"}},null,{"$f":"IF(D81=0,NA(),RTD(\"cqg.rtd\",,\"StudyData\", \"Close(\"&$AH$2&\") When Barix(\"&$AH$2&\",reference:=StartOfSession)=\"&A81&\"\", \"Bar\", \"\", \"Close\",\"5\",\"0\",\"All\",,,\"False\",\"T\",\"EveryTick\"))","v":{"$error":"#N/A"}},null,{"$f":"IF(D81=0,NA(),RTD(\"cqg.rtd\",,\"StudyData\", \"Close(\"&$AJ$2&\") When Barix(\"&$AJ$2&\",reference:=StartOfSession)=\"&A81&\"\", \"Bar\", \"\", \"Close\",\"5\",\"0\",\"All\",,,\"False\",\"T\",\"EveryTick\"))","v":{"$error":"#N/A"}},null,{"$f":"IF(D81=0,NA(),RTD(\"cqg.rtd\",,\"StudyData\", \"Close(\"&$AL$2&\") When Barix(\"&$AL$2&\",reference:=StartOfSession)=\"&A81&\"\", \"Bar\", \"\", \"Close\",\"5\",\"0\",\"All\",,,\"False\",\"T\",\"EveryTick\"))","v":{"$error":"#N/A"}},null,{"$f":"IF(D81=0,NA(),RTD(\"cqg.rtd\",,\"StudyData\", \"Close(\"&$AN$2&\") When Barix(\"&$AN$2&\",reference:=StartOfSession)=\"&A81&\"\", \"Bar\", \"\", \"Close\",\"5\",\"0\",\"All\",,,\"False\",\"T\",\"EveryTick\"))","v":{"$error":"#N/A"}},null,{"$f":"IF(D81=0,NA(),RTD(\"cqg.rtd\",,\"StudyData\", \"Close(\"&$AN$2&\") When Barix(\"&$AN$2&\",reference:=StartOfSession)=\"&A81&\"\", \"Bar\", \"\", \"Close\",\"5\",\"0\",\"All\",,,\"False\",\"T\",\"EveryTick\"))","v":{"$error":"#N/A"}},null,{"$f":"IF(D81=0,NA(),RTD(\"cqg.rtd\",,\"StudyData\", \"Close(\"&$AR$2&\") When Barix(\"&$AR$2&\",reference:=StartOfSession)=\"&A81&\"\", \"Bar\", \"\", \"Close\",\"5\",\"0\",\"All\",,,\"False\",\"T\",\"EveryTick\"))","v":{"$error":"#N/A"}},null,{"$f":"IF(D81=0,NA(),RTD(\"cqg.rtd\",,\"StudyData\", \"Close(\"&$AT$2&\") When Barix(\"&$AT$2&\",reference:=StartOfSession)=\"&A81&\"\", \"Bar\", \"\", \"Close\",\"5\",\"0\",\"All\",,,\"False\",\"T\",\"EveryTick\"))","v":{"$error":"#N/A"}},null,{"$f":"IF(D81=0,NA(),RTD(\"cqg.rtd\",,\"StudyData\", \"Close(\"&$AV$2&\") When Barix(\"&$AV$2&\",reference:=StartOfSession)=\"&A81&\"\", \"Bar\", \"\", \"Close\",\"5\",\"0\",\"All\",,,\"False\",\"T\",\"EveryTick\"))","v":{"$error":"#N/A"}},null,{"$f":"IF(D81=0,NA(),RTD(\"cqg.rtd\",,\"StudyData\", \"Close(\"&$AX$2&\") When Barix(\"&$AX$2&\",reference:=StartOfSession)=\"&A81&\"\", \"Bar\", \"\", \"Close\",\"5\",\"0\",\"All\",,,\"False\",\"T\",\"EveryTick\"))","v":{"$error":"#N/A"}},null,{"$f":"IF(D81=0,NA(),RTD(\"cqg.rtd\",,\"StudyData\", \"Close(\"&$AZ$2&\") When Barix(\"&$AZ$2&\",reference:=StartOfSession)=\"&A81&\"\", \"Bar\", \"\", \"Close\",\"5\",\"0\",\"All\",,,\"False\",\"T\",\"EveryTick\"))","v":{"$error":"#N/A"}},null,{"$f":"IF(D81=0,NA(),RTD(\"cqg.rtd\",,\"StudyData\", \"Close(\"&$BB$2&\") When Barix(\"&$BB$2&\",reference:=StartOfSession)=\"&A81&\"\", \"Bar\", \"\", \"Close\",\"5\",\"0\",\"All\",,,\"False\",\"T\",\"EveryTick\"))","v":{"$error":"#N/A"}},null,{"$f":"IF(D81=0,NA(),RTD(\"cqg.rtd\",,\"StudyData\", \"Close(\"&$BD$2&\") When Barix(\"&$BD$2&\",reference:=StartOfSession)=\"&A81&\"\", \"Bar\", \"\", \"Close\",\"5\",\"0\",\"All\",,,\"False\",\"T\",\"EveryTick\"))","v":{"$error":"#N/A"}},null,{"$f":"IF(D81=0,NA(),RTD(\"cqg.rtd\",,\"StudyData\", \"Close(\"&$BF$2&\") When Barix(\"&$BF$2&\",reference:=StartOfSession)=\"&A81&\"\", \"Bar\", \"\", \"Close\",\"5\",\"0\",\"All\",,,\"False\",\"T\",\"EveryTick\"))","v":{"$error":"#N/A"}},null,{"$f":"IF(D81=0,NA(),RTD(\"cqg.rtd\",,\"StudyData\", \"Close(\"&$BH$2&\") When Barix(\"&$BH$2&\",reference:=StartOfSession)=\"&A81&\"\", \"Bar\", \"\", \"Close\",\"5\",\"0\",\"All\",,,\"False\",\"T\",\"EveryTick\"))","v":{"$error":"#N/A"}},null,{"$f":"IF(D81=0,NA(),RTD(\"cqg.rtd\",,\"StudyData\", \"Close(\"&$BJ$2&\") When Barix(\"&$BJ$2&\",reference:=StartOfSession)=\"&A81&\"\", \"Bar\", \"\", \"Close\",\"5\",\"0\",\"All\",,,\"False\",\"T\",\"EveryTick\"))","v":{"$error":"#N/A"}},null,{"$f":"IF(D81=0,NA(),RTD(\"cqg.rtd\",,\"StudyData\", \"Close(\"&$BL$2&\") When Barix(\"&$BL$2&\",reference:=StartOfSession)=\"&A81&\"\", \"Bar\", \"\", \"Close\",\"5\",\"0\",\"All\",,,\"False\",\"T\",\"EveryTick\"))","v":{"$error":"#N/A"}},null,{"$f":"IF(D81=0,NA(),RTD(\"cqg.rtd\",,\"StudyData\", \"Close(\"&$BN$2&\") When Barix(\"&$BN$2&\",reference:=StartOfSession)=\"&A81&\"\", \"Bar\", \"\", \"Close\",\"5\",\"0\",\"All\",,,\"False\",\"T\",\"EveryTick\"))","v":{"$error":"#N/A"}},null,{"$f":"IF(D81=0,NA(),RTD(\"cqg.rtd\",,\"StudyData\", \"Close(\"&$BP$2&\") When Barix(\"&$BP$2&\",reference:=StartOfSession)=\"&A81&\"\", \"Bar\", \"\", \"Close\",\"5\",\"0\",\"All\",,,\"False\",\"T\",\"EveryTick\"))","v":{"$error":"#N/A"}},null,{"$f":"IF(D81=0,NA(),RTD(\"cqg.rtd\",,\"StudyData\", \"Close(\"&$BR$2&\") When Barix(\"&$BR$2&\",reference:=StartOfSession)=\"&A81&\"\", \"Bar\", \"\", \"Close\",\"5\",\"0\",\"All\",,,\"False\",\"T\",\"EveryTick\"))","v":{"$error":"#N/A"}},null,{"$f":"IF(D81=0,NA(),RTD(\"cqg.rtd\",,\"StudyData\", \"Close(\"&$BT$2&\") When Barix(\"&$BT$2&\",reference:=StartOfSession)=\"&A81&\"\", \"Bar\", \"\", \"Close\",\"5\",\"0\",\"All\",,,\"False\",\"T\",\"EveryTick\"))","v":{"$error":"#N/A"}},null,{"$f":"IF(D81=0,NA(),RTD(\"cqg.rtd\",,\"StudyData\", \"Close(\"&$BV$2&\") When Barix(\"&$BV$2&\",reference:=StartOfSession)=\"&A81&\"\", \"Bar\", \"\", \"Close\",\"5\",\"0\",\"All\",,,\"False\",\"T\",\"EveryTick\"))","v":{"$error":"#N/A"}},null,{"$f":"IF(D81=0,NA(),RTD(\"cqg.rtd\",,\"StudyData\", \"Close(\"&$BX$2&\") When Barix(\"&$BX$2&\",reference:=StartOfSession)=\"&A81&\"\", \"Bar\", \"\", \"Close\",\"5\",\"0\",\"All\",,,\"False\",\"T\",\"EveryTick\"))","v":{"$error":"#N/A"}},null,{"$f":"IF(D81=0,NA(),RTD(\"cqg.rtd\",,\"StudyData\", \"Close(\"&$BZ$2&\") When Barix(\"&$BZ$2&\",reference:=StartOfSession)=\"&A81&\"\", \"Bar\", \"\", \"Close\",\"5\",\"0\",\"All\",,,\"False\",\"T\",\"EveryTick\"))","v":{"$error":"#N/A"}}]

{"sheet":"Sheet4","index":3,"n_rows":589,"n_cols":16,"rows_kept":589,"cut":false,"hidden":true,"merged":[]}
[null,"DATE","TIME","OPEN","HIGH","LOW","CLOSE","Date","Time",null,"Chart","Symbol","Continuation","Decimal=T, Tick=D","CustomSessionName","Type All or PrimaryOnly"]
[0,{"$f":" RTD(\"cqg.rtd\",,\"StudyData\", $L$2, \"FG\", \"\", \"Time\", $K$2,$A2, $P$2, \"\", \"\",\"False\")","v":"2021-05-18"},{"$f":" RTD(\"cqg.rtd\",,\"StudyData\", $L$2, \"FG\", \"\", \"Time\", $K$2, $A2,$P$2,$O$2, \"\",\"False\")","v":44334},{"$f":" RTD(\"cqg.rtd\",,\"StudyData\", $L$2, \"FG\", \"\", \"Open\", $K$2, $A2, $P$2,$O$2,,$M$2,$N$2)","v":58.65},{"$f":" RTD(\"cqg.rtd\",,\"StudyData\", $L$2, \"FG\", \"\", \"High\", $K$2, $A2, $P$2,$O$2,,$M$2,$N$2)","v":58.67},{"$f":" RTD(\"cqg.rtd\",,\"StudyData\", $L$2, \"FG\", \"\", \"Low\", $K$2, $A2, $P$2,$O$2,,$M$2,$N$2)","v":58.27},{"$f":" RTD(\"cqg.rtd\",,\"StudyData\", $L$2, \"FG\", \"\", \"Close\", $K$2, $A2, $P$2,$O$2,,$M$2,$N$2)","v":58.64},{"$f":"B2","v":"2021-05-18"},{"$f":"B2","v":44334},{"$f":"IF(OR($K$2=\"D\",$K$2=\"W\",$K$2=\",'M\"),TEXT(H2,\"MM/DD/YY\"),TEXT(I2,\"HH:MM\"))","v":"05/18/21"},{"$f":"MainDisplay!S31","v":"D"},{"$f":"MainDisplay!R31","v":"S.HAIL"},true,"T",null,"ALL"]
[{"$f":"A2-1","v":-1},{"$f":" RTD(\"cqg.rtd\",,\"StudyData\", $L$2, \"FG\", \"\", \"Time\", $K$2,$A3, $P$2, \"\", \"\",\"False\")","v":"2021-05-17"},{"$f":" RTD(\"cqg.rtd\",,\"StudyData\", $L$2, \"FG\", \"\", \"Time\", $K$2, $A3,$P$2,$O$2, \"\",\"False\")","v":44333},{"$f":" RTD(\"cqg.rtd\",,\"StudyData\", $L$2, \"FG\", \"\", \"Open\", $K$2, $A3, $P$2,$O$2,,$M$2,$N$2)","v":57.8},{"$f":" RTD(\"cqg.rtd\",,\"StudyData\", $L$2, \"FG\", \"\", \"High\", $K$2, $A3, $P$2,$O$2,,$M$2,$N$2)","v":58.45},{"$f":" RTD(\"cqg.rtd\",,\"StudyData\", $L$2, \"FG\", \"\", \"Low\", $K$2, $A3, $P$2,$O$2,,$M$2,$N$2)","v":57.4},{"$f":" RTD(\"cqg.rtd\",,\"StudyData\", $L$2, \"FG\", \"\", \"Close\", $K$2, $A3, $P$2,$O$2,,$M$2,$N$2)","v":58.27},{"$f":"B3","v":"2021-05-17"},{"$f":"B3","v":44333},{"$f":"IF(OR($K$2=\"D\",$K$2=\"W\",$K$2=\",'M\"),TEXT(H3,\"MM/DD/YY\"),TEXT(I3,\"HH:MM\"))","v":"05/17/21"}]
[{"$f":"A3-1","v":-2},{"$f":" RTD(\"cqg.rtd\",,\"StudyData\", $L$2, \"FG\", \"\", \"Time\", $K$2,$A4, $P$2, \"\", \"\",\"False\")","v":"2021-05-14"},{"$f":" RTD(\"cqg.rtd\",,\"StudyData\", $L$2, \"FG\", \"\", \"Time\", $K$2, $A4,$P$2,$O$2, \"\",\"False\")","v":44330},{"$f":" RTD(\"cqg.rtd\",,\"StudyData\", $L$2, \"FG\", \"\", \"Open\", $K$2, $A4, $P$2,$O$2,,$M$2,$N$2)","v":56.87},{"$f":" RTD(\"cqg.rtd\",,\"StudyData\", $L$2, \"FG\", \"\", \"High\", $K$2, $A4, $P$2,$O$2,,$M$2,$N$2)","v":58.24},{"$f":" RTD(\"cqg.rtd\",,\"StudyData\", $L$2, \"FG\", \"\", \"Low\", $K$2, $A4, $P$2,$O$2,,$M$2,$N$2)","v":56.84},{"$f":" RTD(\"cqg.rtd\",,\"StudyData\", $L$2, \"FG\", \"\", \"Close\", $K$2, $A4, $P$2,$O$2,,$M$2,$N$2)","v":58.12},"2021-05-14",44330,"05/14/21","Tick Size:",{"$f":"RTD(\"cqg.rtd\", ,\"ContractData\", \"Tsize(\"&L2&\")\", \"LastQuoteToday\",,\"T\")","v":0.01}]
[-3,{"$f":" RTD(\"cqg.rtd\",,\"StudyData\", $L$2, \"FG\", \"\", \"Time\", $K$2,$A5, $P$2, \"\", \"\",\"False\")","v":"2021-05-13"},{"$f":" RTD(\"cqg.rtd\",,\"StudyData\", $L$2, \"FG\", \"\", \"Time\", $K$2, $A5,$P$2,$O$2, \"\",\"False\")","v":44329},{"$f":" RTD(\"cqg.rtd\",,\"StudyData\", $L$2, \"FG\", \"\", \"Open\", $K$2, $A5, $P$2,$O$2,,$M$2,$N$2)","v":56.25},{"$f":" RTD(\"cqg.rtd\",,\"StudyData\", $L$2, \"FG\", \"\", \"High\", $K$2, $A5, $P$2,$O$2,,$M$2,$N$2)","v":57.28},{"$f":" RTD(\"cqg.rtd\",,\"StudyData\", $L$2, \"FG\", \"\", \"Low\", $K$2, $A5, $P$2,$O$2,,$M$2,$N$2)","v":55.45},{"$f":" RTD(\"cqg.rtd\",,\"StudyData\", $L$2, \"FG\", \"\", \"Close\", $K$2, $A5, $P$2,$O$2,,$M$2,$N$2)","v":56.19},"2021-05-13",44329,"05/13/21","Tick Value:",{"$f":"RTD(\"cqg.rtd\", ,\"ContractData\", \"PriceToDollar(Tsize(\"&L2&\"))\", \"LastQuoteToday\",,\"T\")","v":0.01}]
[-4,{"$f":" RTD(\"cqg.rtd\",,\"StudyData\", $L$2, \"FG\", \"\", \"Time\", $K$2,$A6, $P$2, \"\", \"\",\"False\")","v":"2021-05-12"},{"$f":" RTD(\"cqg.rtd\",,\"StudyData\", $L$2, \"FG\", \"\", \"Time\", $K$2, $A6,$P$2,$O$2, \"\",\"False\")","v":44328},{"$f":" RTD(\"cqg.rtd\",,\"StudyData\", $L$2, \"FG\", \"\", \"Open\", $K$2, $A6, $P$2,$O$2,,$M$2,$N$2)","v":57.04},{"$f":" RTD(\"cqg.rtd\",,\"StudyData\", $L$2, \"FG\", \"\", \"High\", $K$2, $A6, $P$2,$O$2,,$M$2,$N$2)","v":57.66},{"$f":" RTD(\"cqg.rtd\",,\"StudyData\", $L$2, \"FG\", \"\", \"Low\", $K$2, $A6, $P$2,$O$2,,$M$2,$N$2)","v":55.76},{"$f":" RTD(\"cqg.rtd\",,\"StudyData\", $L$2, \"FG\", \"\", \"Close\", $K$2, $A6, $P$2,$O$2,,$M$2,$N$2)","v":55.84},"2021-05-12",44328,"05/12/21",null,null,null,{"$f":"MAX(E2:E45)+8*L4","v":65.23}]
[-5,{"$f":" RTD(\"cqg.rtd\",,\"StudyData\", $L$2, \"FG\", \"\", \"Time\", $K$2,$A7, $P$2, \"\", \"\",\"False\")","v":"2021-05-11"},{"$f":" RTD(\"cqg.rtd\",,\"StudyData\", $L$2, \"FG\", \"\", \"Time\", $K$2, $A7,$P$2,$O$2, \"\",\"False\")","v":44327},{"$f":" RTD(\"cqg.rtd\",,\"StudyData\", $L$2, \"FG\", \"\", \"Open\", $K$2, $A7, $P$2,$O$2,,$M$2,$N$2)","v":56.11},{"$f":" RTD(\"cqg.rtd\",,\"StudyData\", $L$2, \"FG\", \"\", \"High\", $K$2, $A7, $P$2,$O$2,,$M$2,$N$2)","v":57.99},{"$f":" RTD(\"cqg.rtd\",,\"StudyData\", $L$2, \"FG\", \"\", \"Low\", $K$2, $A7, $P$2,$O$2,,$M$2,$N$2)","v":55.8},{"$f":" RTD(\"cqg.rtd\",,\"StudyData\", $L$2, \"FG\", \"\", \"Close\", $K$2, $A7, $P$2,$O$2,,$M$2,$N$2)","v":57.79},"2021-05-11",44327,"05/11/21",null,null,null,{"$f":"MIN(F2:F45)-8*L4","v":55.370000000000005}]
[-6,{"$f":" RTD(\"cqg.rtd\",,\"StudyData\", $L$2, \"FG\", \"\", \"Time\", $K$2,$A8, $P$2, \"\", \"\",\"False\")","v":"2021-05-10"},{"$f":" RTD(\"cqg.rtd\",,\"StudyData\", $L$2, \"FG\", \"\", \"Time\", $K$2, $A8,$P$2,$O$2, \"\",\"False\")","v":44326},{"$f":" RTD(\"cqg.rtd\",,\"StudyData\", $L$2, \"FG\", \"\", \"Open\", $K$2, $A8, $P$2,$O$2,,$M$2,$N$2)","v":59.49},{"$f":" RTD(\"cqg.rtd\",,\"StudyData\", $L$2, \"FG\", \"\", \"High\", $K$2, $A8, $P$2,$O$2,,$M$2,$N$2)","v":59.5},{"$f":" RTD(\"cqg.rtd\",,\"StudyData\", $L$2, \"FG\", \"\", \"Low\", $K$2, $A8, $P$2,$O$2,,$M$2,$N$2)","v":57.81},{"$f":" RTD(\"cqg.rtd\",,\"StudyData\", $L$2, \"FG\", \"\", \"Close\", $K$2, $A8, $P$2,$O$2,,$M$2,$N$2)","v":57.81},"2021-05-10",44326,"05/10/21"]
[-7,{"$f":" RTD(\"cqg.rtd\",,\"StudyData\", $L$2, \"FG\", \"\", \"Time\", $K$2,$A9, $P$2, \"\", \"\",\"False\")","v":"2021-05-07"},{"$f":" RTD(\"cqg.rtd\",,\"StudyData\", $L$2, \"FG\", \"\", \"Time\", $K$2, $A9,$P$2,$O$2, \"\",\"False\")","v":44323},{"$f":" RTD(\"cqg.rtd\",,\"StudyData\", $L$2, \"FG\", \"\", \"Open\", $K$2, $A9, $P$2,$O$2,,$M$2,$N$2)","v":58.81},{"$f":" RTD(\"cqg.rtd\",,\"StudyData\", $L$2, \"FG\", \"\", \"High\", $K$2, $A9, $P$2,$O$2,,$M$2,$N$2)","v":59.8},{"$f":" RTD(\"cqg.rtd\",,\"StudyData\", $L$2, \"FG\", \"\", \"Low\", $K$2, $A9, $P$2,$O$2,,$M$2,$N$2)","v":58.6},{"$f":" RTD(\"cqg.rtd\",,\"StudyData\", $L$2, \"FG\", \"\", \"Close\", $K$2, $A9, $P$2,$O$2,,$M$2,$N$2)","v":59.62},"2021-05-07",44323,"05/07/21"]
[-8,{"$f":" RTD(\"cqg.rtd\",,\"StudyData\", $L$2, \"FG\", \"\", \"Time\", $K$2,$A10, $P$2, \"\", \"\",\"False\")","v":"2021-05-06"},{"$f":" RTD(\"cqg.rtd\",,\"StudyData\", $L$2, \"FG\", \"\", \"Time\", $K$2, $A10,$P$2,$O$2, \"\",\"False\")","v":44322},{"$f":" RTD(\"cqg.rtd\",,\"StudyData\", $L$2, \"FG\", \"\", \"Open\", $K$2, $A10, $P$2,$O$2,,$M$2,$N$2)","v":58.67},{"$f":" RTD(\"cqg.rtd\",,\"StudyData\", $L$2, \"FG\", \"\", \"High\", $K$2, $A10, $P$2,$O$2,,$M$2,$N$2)","v":58.87},{"$f":" RTD(\"cqg.rtd\",,\"StudyData\", $L$2, \"FG\", \"\", \"Low\", $K$2, $A10, $P$2,$O$2,,$M$2,$N$2)","v":57.76},{"$f":" RTD(\"cqg.rtd\",,\"StudyData\", $L$2, \"FG\", \"\", \"Close\", $K$2, $A10, $P$2,$O$2,,$M$2,$N$2)","v":58.64},"2021-05-06",44322,"05/06/21"]
[-9,{"$f":" RTD(\"cqg.rtd\",,\"StudyData\", $L$2, \"FG\", \"\", \"Time\", $K$2,$A11, $P$2, \"\", \"\",\"False\")","v":"2021-05-05"},{"$f":" RTD(\"cqg.rtd\",,\"StudyData\", $L$2, \"FG\", \"\", \"Time\", $K$2, $A11,$P$2,$O$2, \"\",\"False\")","v":44321},{"$f":" RTD(\"cqg.rtd\",,\"StudyData\", $L$2, \"FG\", \"\", \"Open\", $K$2, $A11, $P$2,$O$2,,$M$2,$N$2)","v":59.27},{"$f":" RTD(\"cqg.rtd\",,\"StudyData\", $L$2, \"FG\", \"\", \"High\", $K$2, $A11, $P$2,$O$2,,$M$2,$N$2)","v":59.48},{"$f":" RTD(\"cqg.rtd\",,\"StudyData\", $L$2, \"FG\", \"\", \"Low\", $K$2, $A11, $P$2,$O$2,,$M$2,$N$2)","v":58.6},{"$f":" RTD(\"cqg.rtd\",,\"StudyData\", $L$2, \"FG\", \"\", \"Close\", $K$2, $A11, $P$2,$O$2,,$M$2,$N$2)","v":58.82},"2021-05-05",44321,"05/05/21"]
[-10,{"$f":" RTD(\"cqg.rtd\",,\"StudyData\", $L$2, \"FG\", \"\", \"Time\", $K$2,$A12, $P$2, \"\", \"\",\"False\")","v":"2021-05-04"},{"$f":" RTD(\"cqg.rtd\",,\"StudyData\", $L$2, \"FG\", \"\", \"Time\", $K$2, $A12,$P$2,$O$2, \"\",\"False\")","v":44320},{"$f":" RTD(\"cqg.rtd\",,\"StudyData\", $L$2, \"FG\", \"\", \"Open\", $K$2, $A12, $P$2,$O$2,,$M$2,$N$2)","v":59.34},{"$f":" RTD(\"cqg.rtd\",,\"StudyData\", $L$2, \"FG\", \"\", \"High\", $K$2, $A12, $P$2,$O$2,,$M$2,$N$2)","v":59.34},{"$f":" RTD(\"cqg.rtd\",,\"StudyData\", $L$2, \"FG\", \"\", \"Low\", $K$2, $A12, $P$2,$O$2,,$M$2,$N$2)","v":57.77},{"$f":" RTD(\"cqg.rtd\",,\"StudyData\", $L$2, \"FG\", \"\", \"Close\", $K$2, $A12, $P$2,$O$2,,$M$2,$N$2)","v":58.64},"2021-05-04",44320,"05/04/21"]
[-11,{"$f":" RTD(\"cqg.rtd\",,\"StudyData\", $L$2, \"FG\", \"\", \"Time\", $K$2,$A13, $P$2, \"\", \"\",\"False\")","v":"2021-05-03"},{"$f":" RTD(\"cqg.rtd\",,\"StudyData\", $L$2, \"FG\", \"\", \"Time\", $K$2, $A13,$P$2,$O$2, \"\",\"False\")","v":44319},{"$f":" RTD(\"cqg.rtd\",,\"StudyData\", $L$2, \"FG\", \"\", \"Open\", $K$2, $A13, $P$2,$O$2,,$M$2,$N$2)","v":61.06},{"$f":" RTD(\"cqg.rtd\",,\"StudyData\", $L$2, \"FG\", \"\", \"High\", $K$2, $A13, $P$2,$O$2,,$M$2,$N$2)","v":61.06},{"$f":" RTD(\"cqg.rtd\",,\"StudyData\", $L$2, \"FG\", \"\", \"Low\", $K$2, $A13, $P$2,$O$2,,$M$2,$N$2)","v":59.98},{"$f":" RTD(\"cqg.rtd\",,\"StudyData\", $L$2, \"FG\", \"\", \"Close\", $K$2, $A13, $P$2,$O$2,,$M$2,$N$2)","v":60.14},"2021-05-03",44319,"05/03/21"]
[-12,{"$f":" RTD(\"cqg.rtd\",,\"StudyData\", $L$2, \"FG\", \"\", \"Time\", $K$2,$A14, $P$2, \"\", \"\",\"False\")","v":"2021-04-30"},{"$f":" RTD(\"cqg.rtd\",,\"StudyData\", $L$2, \"FG\", \"\", \"Time\", $K$2, $A14,$P$2,$O$2, \"\",\"False\")","v":44316},{"$f":" RTD(\"cqg.rtd\",,\"StudyData\", $L$2, \"FG\", \"\", \"Open\", $K$2, $A14, $P$2,$O$2,,$M$2,$N$2)","v":60.88},{"$f":" RTD(\"cqg.rtd\",,\"StudyData\", $L$2, \"FG\", \"\", \"High\", $K$2, $A14, $P$2,$O$2,,$M$2,$N$2)","v":61.36},{"$f":" RTD(\"cqg.rtd\",,\"StudyData\", $L$2, \"FG\", \"\", \"Low\", $K$2, $A14, $P$2,$O$2,,$M$2,$N$2)","v":60.34},{"$f":" RTD(\"cqg.rtd\",,\"StudyData\", $L$2, \"FG\", \"\", \"Close\", $K$2, $A14, $P$2,$O$2,,$M$2,$N$2)","v":60.48},"2021-04-30",44316,"04/30/21"]
[-13,{"$f":" RTD(\"cqg.rtd\",,\"StudyData\", $L$2, \"FG\", \"\", \"Time\", $K$2,$A15, $P$2, \"\", \"\",\"False\")","v":"2021-04-29"},{"$f":" RTD(\"cqg.rtd\",,\"StudyData\", $L$2, \"FG\", \"\", \"Time\", $K$2, $A15,$P$2,$O$2, \"\",\"False\")","v":44315},{"$f":" RTD(\"cqg.rtd\",,\"StudyData\", $L$2, \"FG\", \"\", \"Open\", $K$2, $A15, $P$2,$O$2,,$M$2,$N$2)","v":62.89},{"$f":" RTD(\"cqg.rtd\",,\"StudyData\", $L$2, \"FG\", \"\", \"High\", $K$2, $A15, $P$2,$O$2,,$M$2,$N$2)","v":62.89},{"$f":" RTD(\"cqg.rtd\",,\"StudyData\", $L$2, \"FG\", \"\", \"Low\", $K$2, $A15, $P$2,$O$2,,$M$2,$N$2)","v":60.88},{"$f":" RTD(\"cqg.rtd\",,\"StudyData\", $L$2, \"FG\", \"\", \"Close\", $K$2, $A15, $P$2,$O$2,,$M$2,$N$2)","v":61.51},"2021-04-29",44315,"04/29/21"]
[-14,{"$f":" RTD(\"cqg.rtd\",,\"StudyData\", $L$2, \"FG\", \"\", \"Time\", $K$2,$A16, $P$2, \"\", \"\",\"False\")","v":"2021-04-28"},{"$f":" RTD(\"cqg.rtd\",,\"StudyData\", $L$2, \"FG\", \"\", \"Time\", $K$2, $A16,$P$2,$O$2, \"\",\"False\")","v":44314},{"$f":" RTD(\"cqg.rtd\",,\"StudyData\", $L$2, \"FG\", \"\", \"Open\", $K$2, $A16, $P$2,$O$2,,$M$2,$N$2)","v":62.51},{"$f":" RTD(\"cqg.rtd\",,\"StudyData\", $L$2, \"FG\", \"\", \"High\", $K$2, $A16, $P$2,$O$2,,$M$2,$N$2)","v":62.73},{"$f":" RTD(\"cqg.rtd\",,\"StudyData\", $L$2, \"FG\", \"\", \"Low\", $K$2, $A16, $P$2,$O$2,,$M$2,$N$2)","v":62.14},{"$f":" RTD(\"cqg.rtd\",,\"StudyData\", $L$2, \"FG\", \"\", \"Close\", $K$2, $A16, $P$2,$O$2,,$M$2,$N$2)","v":62.56},"2021-04-28",44314,"04/28/21"]
[-15,{"$f":" RTD(\"cqg.rtd\",,\"StudyData\", $L$2, \"FG\", \"\", \"Time\", $K$2,$A17, $P$2, \"\", \"\",\"False\")","v":"2021-04-27"},{"$f":" RTD(\"cqg.rtd\",,\"StudyData\", $L$2, \"FG\", \"\", \"Time\", $K$2, $A17,$P$2,$O$2, \"\",\"False\")","v":44313},{"$f":" RTD(\"cqg.rtd\",,\"StudyData\", $L$2, \"FG\", \"\", \"Open\", $K$2, $A17, $P$2,$O$2,,$M$2,$N$2)","v":62.98},{"$f":" RTD(\"cqg.rtd\",,\"StudyData\", $L$2, \"FG\", \"\", \"High\", $K$2, $A17, $P$2,$O$2,,$M$2,$N$2)","v":63},{"$f":" RTD(\"cqg.rtd\",,\"StudyData\", $L$2, \"FG\", \"\", \"Low\", $K$2, $A17, $P$2,$O$2,,$M$2,$N$2)","v":62.35},{"$f":" RTD(\"cqg.rtd\",,\"StudyData\", $L$2, \"FG\", \"\", \"Close\", $K$2, $A17, $P$2,$O$2,,$M$2,$N$2)","v":62.71},"2021-04-27",44313,"04/27/21"]
[-16,{"$f":" RTD(\"cqg.rtd\",,\"StudyData\", $L$2, \"FG\", \"\", \"Time\", $K$2,$A18, $P$2, \"\", \"\",\"False\")","v":"2021-04-26"},{"$f":" RTD(\"cqg.rtd\",,\"StudyData\", $L$2, \"FG\", \"\", \"Time\", $K$2, $A18,$P$2,$O$2, \"\",\"False\")","v":44312},{"$f":" RTD(\"cqg.rtd\",,\"StudyData\", $L$2, \"FG\", \"\", \"Open\", $K$2, $A18, $P$2,$O$2,,$M$2,$N$2)","v":62.41},{"$f":" RTD(\"cqg.rtd\",,\"StudyData\", $L$2, \"FG\", \"\", \"High\", $K$2, $A18, $P$2,$O$2,,$M$2,$N$2)","v":62.88},{"$f":" RTD(\"cqg.rtd\",,\"StudyData\", $L$2, \"FG\", \"\", \"Low\", $K$2, $A18, $P$2,$O$2,,$M$2,$N$2)","v":62.31},{"$f":" RTD(\"cqg.rtd\",,\"StudyData\", $L$2, \"FG\", \"\", \"Close\", $K$2, $A18, $P$2,$O$2,,$M$2,$N$2)","v":62.72},"2021-04-26",44312,"04/26/21"]
[-17,{"$f":" RTD(\"cqg.rtd\",,\"StudyData\", $L$2, \"FG\", \"\", \"Time\", $K$2,$A19, $P$2, \"\", \"\",\"False\")","v":"2021-04-23"},{"$f":" RTD(\"cqg.rtd\",,\"StudyData\", $L$2, \"FG\", \"\", \"Time\", $K$2, $A19,$P$2,$O$2, \"\",\"False\")","v":44309},{"$f":" RTD(\"cqg.rtd\",,\"StudyData\", $L$2, \"FG\", \"\", \"Open\", $K$2, $A19, $P$2,$O$2,,$M$2,$N$2)","v":60.64},{"$f":" RTD(\"cqg.rtd\",,\"StudyData\", $L$2, \"FG\", \"\", \"High\", $K$2, $A19, $P$2,$O$2,,$M$2,$N$2)","v":62.21},{"$f":" RTD(\"cqg.rtd\",,\"StudyData\", $L$2, \"FG\", \"\", \"Low\", $K$2, $A19, $P$2,$O$2,,$M$2,$N$2)","v":60.58},{"$f":" RTD(\"cqg.rtd\",,\"StudyData\", $L$2, \"FG\", \"\", \"Close\", $K$2, $A19, $P$2,$O$2,,$M$2,$N$2)","v":62.06},"2021-04-23",44309,"04/23/21"]
[-18,{"$f":" RTD(\"cqg.rtd\",,\"StudyData\", $L$2, \"FG\", \"\", \"Time\", $K$2,$A20, $P$2, \"\", \"\",\"False\")","v":"2021-04-22"},{"$f":" RTD(\"cqg.rtd\",,\"StudyData\", $L$2, \"FG\", \"\", \"Time\", $K$2, $A20,$P$2,$O$2, \"\",\"False\")","v":44308},{"$f":" RTD(\"cqg.rtd\",,\"StudyData\", $L$2, \"FG\", \"\", \"Open\", $K$2, $A20, $P$2,$O$2,,$M$2,$N$2)","v":60.94},{"$f":" RTD(\"cqg.rtd\",,\"StudyData\", $L$2, \"FG\", \"\", \"High\", $K$2, $A20, $P$2,$O$2,,$M$2,$N$2)","v":61.35},{"$f":" RTD(\"cqg.rtd\",,\"StudyData\", $L$2, \"FG\", \"\", \"Low\", $K$2, $A20, $P$2,$O$2,,$M$2,$N$2)","v":59.93},{"$f":" RTD(\"cqg.rtd\",,\"StudyData\", $L$2, \"FG\", \"\", \"Close\", $K$2, $A20, $P$2,$O$2,,$M$2,$N$2)","v":60.18},"2021-04-22",44308,"04/22/21"]
[-19,{"$f":" RTD(\"cqg.rtd\",,\"StudyData\", $L$2, \"FG\", \"\", \"Time\", $K$2,$A21, $P$2, \"\", \"\",\"False\")","v":"2021-04-21"},{"$f":" RTD(\"cqg.rtd\",,\"StudyData\", $L$2, \"FG\", \"\", \"Time\", $K$2, $A21,$P$2,$O$2, \"\",\"False\")","v":44307},{"$f":" RTD(\"cqg.rtd\",,\"StudyData\", $L$2, \"FG\", \"\", \"Open\", $K$2, $A21, $P$2,$O$2,,$M$2,$N$2)","v":58.24},{"$f":" RTD(\"cqg.rtd\",,\"StudyData\", $L$2, \"FG\", \"\", \"High\", $K$2, $A21, $P$2,$O$2,,$M$2,$N$2)","v":60.37},{"$f":" RTD(\"cqg.rtd\",,\"StudyData\", $L$2, \"FG\", \"\", \"Low\", $K$2, $A21, $P$2,$O$2,,$M$2,$N$2)","v":57.88},{"$f":" RTD(\"cqg.rtd\",,\"StudyData\", $L$2, \"FG\", \"\", \"Close\", $K$2, $A21, $P$2,$O$2,,$M$2,$N$2)","v":60.37},"2021-04-21",44307,"04/21/21"]
[-20,{"$f":" RTD(\"cqg.rtd\",,\"StudyData\", $L$2, \"FG\", \"\", \"Time\", $K$2,$A22, $P$2, \"\", \"\",\"False\")","v":"2021-04-20"},{"$f":" RTD(\"cqg.rtd\",,\"StudyData\", $L$2, \"FG\", \"\", \"Time\", $K$2, $A22,$P$2,$O$2, \"\",\"False\")","v":44306},{"$f":" RTD(\"cqg.rtd\",,\"StudyData\", $L$2, \"FG\", \"\", \"Open\", $K$2, $A22, $P$2,$O$2,,$M$2,$N$2)","v":59.67},{"$f":" RTD(\"cqg.rtd\",,\"StudyData\", $L$2, \"FG\", \"\", \"High\", $K$2, $A22, $P$2,$O$2,,$M$2,$N$2)","v":59.8},{"$f":" RTD(\"cqg.rtd\",,\"StudyData\", $L$2, \"FG\", \"\", \"Low\", $K$2, $A22, $P$2,$O$2,,$M$2,$N$2)","v":58.21},{"$f":" RTD(\"cqg.rtd\",,\"StudyData\", $L$2, \"FG\", \"\", \"Close\", $K$2, $A22, $P$2,$O$2,,$M$2,$N$2)","v":58.58},"2021-04-20",44306,"04/20/21"]
[-21,{"$f":" RTD(\"cqg.rtd\",,\"StudyData\", $L$2, \"FG\", \"\", \"Time\", $K$2,$A23, $P$2, \"\", \"\",\"False\")","v":"2021-04-19"},{"$f":" RTD(\"cqg.rtd\",,\"StudyData\", $L$2, \"FG\", \"\", \"Time\", $K$2, $A23,$P$2,$O$2, \"\",\"False\")","v":44305},{"$f":" RTD(\"cqg.rtd\",,\"StudyData\", $L$2, \"FG\", \"\", \"Open\", $K$2, $A23, $P$2,$O$2,,$M$2,$N$2)","v":61.03},{"$f":" RTD(\"cqg.rtd\",,\"StudyData\", $L$2, \"FG\", \"\", \"High\", $K$2, $A23, $P$2,$O$2,,$M$2,$N$2)","v":61.03},{"$f":" RTD(\"cqg.rtd\",,\"StudyData\", $L$2, \"FG\", \"\", \"Low\", $K$2, $A23, $P$2,$O$2,,$M$2,$N$2)","v":59.68},{"$f":" RTD(\"cqg.rtd\",,\"StudyData\", $L$2, \"FG\", \"\", \"Close\", $K$2, $A23, $P$2,$O$2,,$M$2,$N$2)","v":60.17},"2021-04-19",44305,"04/19/21"]
[-22,{"$f":" RTD(\"cqg.rtd\",,\"StudyData\", $L$2, \"FG\", \"\", \"Time\", $K$2,$A24, $P$2, \"\", \"\",\"False\")","v":"2021-04-16"},{"$f":" RTD(\"cqg.rtd\",,\"StudyData\", $L$2, \"FG\", \"\", \"Time\", $K$2, $A24,$P$2,$O$2, \"\",\"False\")","v":44302},{"$f":" RTD(\"cqg.rtd\",,\"StudyData\", $L$2, \"FG\", \"\", \"Open\", $K$2, $A24, $P$2,$O$2,,$M$2,$N$2)","v":60.81},{"$f":" RTD(\"cqg.rtd\",,\"StudyData\", $L$2, \"FG\", \"\", \"High\", $K$2, $A24, $P$2,$O$2,,$M$2,$N$2)","v":61.38},{"$f":" RTD(\"cqg.rtd\",,\"StudyData\", $L$2, \"FG\", \"\", \"Low\", $K$2, $A24, $P$2,$O$2,,$M$2,$N$2)","v":60.61},{"$f":" RTD(\"cqg.rtd\",,\"StudyData\", $L$2, \"FG\", \"\", \"Close\", $K$2, $A24, $P$2,$O$2,,$M$2,$N$2)","v":61.13},"2021-04-16",44302,"04/16/21"]
[-23,{"$f":" RTD(\"cqg.rtd\",,\"StudyData\", $L$2, \"FG\", \"\", \"Time\", $K$2,$A25, $P$2, \"\", \"\",\"False\")","v":"2021-04-15"},{"$f":" RTD(\"cqg.rtd\",,\"StudyData\", $L$2, \"FG\", \"\", \"Time\", $K$2, $A25,$P$2,$O$2, \"\",\"False\")","v":44301},{"$f":" RTD(\"cqg.rtd\",,\"StudyData\", $L$2, \"FG\", \"\", \"Open\", $K$2, $A25, $P$2,$O$2,,$M$2,$N$2)","v":61.53},{"$f":" RTD(\"cqg.rtd\",,\"StudyData\", $L$2, \"FG\", \"\", \"High\", $K$2, $A25, $P$2,$O$2,,$M$2,$N$2)","v":61.53},{"$f":" RTD(\"cqg.rtd\",,\"StudyData\", $L$2, \"FG\", \"\", \"Low\", $K$2, $A25, $P$2,$O$2,,$M$2,$N$2)","v":60.2},{"$f":" RTD(\"cqg.rtd\",,\"StudyData\", $L$2, \"FG\", \"\", \"Close\", $K$2, $A25, $P$2,$O$2,,$M$2,$N$2)","v":60.78},"2021-04-15",44301,"04/15/21"]
[-24,{"$f":" RTD(\"cqg.rtd\",,\"StudyData\", $L$2, \"FG\", \"\", \"Time\", $K$2,$A26, $P$2, \"\", \"\",\"False\")","v":"2021-04-14"},{"$f":" RTD(\"cqg.rtd\",,\"StudyData\", $L$2, \"FG\", \"\", \"Time\", $K$2, $A26,$P$2,$O$2, \"\",\"False\")","v":44300},{"$f":" RTD(\"cqg.rtd\",,\"StudyData\", $L$2, \"FG\", \"\", \"Open\", $K$2, $A26, $P$2,$O$2,,$M$2,$N$2)","v":61.31},{"$f":" RTD(\"cqg.rtd\",,\"StudyData\", $L$2, \"FG\", \"\", \"High\", $K$2, $A26, $P$2,$O$2,,$M$2,$N$2)","v":62.15},{"$f":" RTD(\"cqg.rtd\",,\"StudyData\", $L$2, \"FG\", \"\", \"Low\", $K$2, $A26, $P$2,$O$2,,$M$2,$N$2)","v":61},{"$f":" RTD(\"cqg.rtd\",,\"StudyData\", $L$2, \"FG\", \"\", \"Close\", $K$2, $A26, $P$2,$O$2,,$M$2,$N$2)","v":61.13},"2021-04-14",44300,"04/14/21"]
[-25,{"$f":" RTD(\"cqg.rtd\",,\"StudyData\", $L$2, \"FG\", \"\", \"Time\", $K$2,$A27, $P$2, \"\", \"\",\"False\")","v":"2021-04-13"},{"$f":" RTD(\"cqg.rtd\",,\"StudyData\", $L$2, \"FG\", \"\", \"Time\", $K$2, $A27,$P$2,$O$2, \"\",\"False\")","v":44299},{"$f":" RTD(\"cqg.rtd\",,\"StudyData\", $L$2, \"FG\", \"\", \"Open\", $K$2, $A27, $P$2,$O$2,,$M$2,$N$2)","v":61.18},{"$f":" RTD(\"cqg.rtd\",,\"StudyData\", $L$2, \"FG\", \"\", \"High\", $K$2, $A27, $P$2,$O$2,,$M$2,$N$2)","v":61.35},{"$f":" RTD(\"cqg.rtd\",,\"StudyData\", $L$2, \"FG\", \"\", \"Low\", $K$2, $A27, $P$2,$O$2,,$M$2,$N$2)","v":60.42},{"$f":" RTD(\"cqg.rtd\",,\"StudyData\", $L$2, \"FG\", \"\", \"Close\", $K$2, $A27, $P$2,$O$2,,$M$2,$N$2)","v":61.17},"2021-04-13",44299,"04/13/21"]
[-26,{"$f":" RTD(\"cqg.rtd\",,\"StudyData\", $L$2, \"FG\", \"\", \"Time\", $K$2,$A28, $P$2, \"\", \"\",\"False\")","v":"2021-04-12"},{"$f":" RTD(\"cqg.rtd\",,\"StudyData\", $L$2, \"FG\", \"\", \"Time\", $K$2, $A28,$P$2,$O$2, \"\",\"False\")","v":44298},{"$f":" RTD(\"cqg.rtd\",,\"StudyData\", $L$2, \"FG\", \"\", \"Open\", $K$2, $A28, $P$2,$O$2,,$M$2,$N$2)","v":61.81},{"$f":" RTD(\"cqg.rtd\",,\"StudyData\", $L$2, \"FG\", \"\", \"High\", $K$2, $A28, $P$2,$O$2,,$M$2,$N$2)","v":61.97},{"$f":" RTD(\"cqg.rtd\",,\"StudyData\", $L$2, \"FG\", \"\", \"Low\", $K$2, $A28, $P$2,$O$2,,$M$2,$N$2)","v":60.83},{"$f":" RTD(\"cqg.rtd\",,\"StudyData\", $L$2, \"FG\", \"\", \"Close\", $K$2, $A28, $P$2,$O$2,,$M$2,$N$2)","v":61.11},"2021-04-12",44298,"04/12/21"]
[-27,{"$f":" RTD(\"cqg.rtd\",,\"StudyData\", $L$2, \"FG\", \"\", \"Time\", $K$2,$A29, $P$2, \"\", \"\",\"False\")","v":"2021-04-09"},{"$f":" RTD(\"cqg.rtd\",,\"StudyData\", $L$2, \"FG\", \"\", \"Time\", $K$2, $A29,$P$2,$O$2, \"\",\"False\")","v":44295},{"$f":" RTD(\"cqg.rtd\",,\"StudyData\", $L$2, \"FG\", \"\", \"Open\", $K$2, $A29, $P$2,$O$2,,$M$2,$N$2)","v":61.93},{"$f":" RTD(\"cqg.rtd\",,\"StudyData\", $L$2, \"FG\", \"\", \"High\", $K$2, $A29, $P$2,$O$2,,$M$2,$N$2)","v":62.01},{"$f":" RTD(\"cqg.rtd\",,\"StudyData\", $L$2, \"FG\", \"\", \"Low\", $K$2, $A29, $P$2,$O$2,,$M$2,$N$2)","v":61.56},{"$f":" RTD(\"cqg.rtd\",,\"StudyData\", $L$2, \"FG\", \"\", \"Close\", $K$2, $A29, $P$2,$O$2,,$M$2,$N$2)","v":61.97},"2021-04-09",44295,"04/09/21"]
[-28,{"$f":" RTD(\"cqg.rtd\",,\"StudyData\", $L$2, \"FG\", \"\", \"Time\", $K$2,$A30, $P$2, \"\", \"\",\"False\")","v":"2021-04-08"},{"$f":" RTD(\"cqg.rtd\",,\"StudyData\", $L$2, \"FG\", \"\", \"Time\", $K$2, $A30,$P$2,$O$2, \"\",\"False\")","v":44294},{"$f":" RTD(\"cqg.rtd\",,\"StudyData\", $L$2, \"FG\", \"\", \"Open\", $K$2, $A30, $P$2,$O$2,,$M$2,$N$2)","v":61.76},{"$f":" RTD(\"cqg.rtd\",,\"StudyData\", $L$2, \"FG\", \"\", \"High\", $K$2, $A30, $P$2,$O$2,,$M$2,$N$2)","v":62.26},{"$f":" RTD(\"cqg.rtd\",,\"StudyData\", $L$2, \"FG\", \"\", \"Low\", $K$2, $A30, $P$2,$O$2,,$M$2,$N$2)","v":61.25},{"$f":" RTD(\"cqg.rtd\",,\"StudyData\", $L$2, \"FG\", \"\", \"Close\", $K$2, $A30, $P$2,$O$2,,$M$2,$N$2)","v":62.08},"2021-04-08",44294,"04/08/21"]
[-29,{"$f":" RTD(\"cqg.rtd\",,\"StudyData\", $L$2, \"FG\", \"\", \"Time\", $K$2,$A31, $P$2, \"\", \"\",\"False\")","v":"2021-04-07"},{"$f":" RTD(\"cqg.rtd\",,\"StudyData\", $L$2, \"FG\", \"\", \"Time\", $K$2, $A31,$P$2,$O$2, \"\",\"False\")","v":44293},{"$f":" RTD(\"cqg.rtd\",,\"StudyData\", $L$2, \"FG\", \"\", \"Open\", $K$2, $A31, $P$2,$O$2,,$M$2,$N$2)","v":62.54},{"$f":" RTD(\"cqg.rtd\",,\"StudyData\", $L$2, \"FG\", \"\", \"High\", $K$2, $A31, $P$2,$O$2,,$M$2,$N$2)","v":62.54},{"$f":" RTD(\"cqg.rtd\",,\"StudyData\", $L$2, \"FG\", \"\", \"Low\", $K$2, $A31, $P$2,$O$2,,$M$2,$N$2)","v":61.2},{"$f":" RTD(\"cqg.rtd\",,\"StudyData\", $L$2, \"FG\", \"\", \"Close\", $K$2, $A31, $P$2,$O$2,,$M$2,$N$2)","v":61.3},"2021-04-07",44293,"04/07/21"]
[-30,{"$f":" RTD(\"cqg.rtd\",,\"StudyData\", $L$2, \"FG\", \"\", \"Time\", $K$2,$A32, $P$2, \"\", \"\",\"False\")","v":"2021-04-06"},{"$f":" RTD(\"cqg.rtd\",,\"StudyData\", $L$2, \"FG\", \"\", \"Time\", $K$2, $A32,$P$2,$O$2, \"\",\"False\")","v":44292},{"$f":" RTD(\"cqg.rtd\",,\"StudyData\", $L$2, \"FG\", \"\", \"Open\", $K$2, $A32, $P$2,$O$2,,$M$2,$N$2)","v":62.82},{"$f":" RTD(\"cqg.rtd\",,\"StudyData\", $L$2, \"FG\", \"\", \"High\", $K$2, $A32, $P$2,$O$2,,$M$2,$N$2)","v":63.08},{"$f":" RTD(\"cqg.rtd\",,\"StudyData\", $L$2, \"FG\", \"\", \"Low\", $K$2, $A32, $P$2,$O$2,,$M$2,$N$2)","v":62.51},{"$f":" RTD(\"cqg.rtd\",,\"StudyData\", $L$2, \"FG\", \"\", \"Close\", $K$2, $A32, $P$2,$O$2,,$M$2,$N$2)","v":62.62},"2021-04-06",44292,"04/06/21"]
[-31,{"$f":" RTD(\"cqg.rtd\",,\"StudyData\", $L$2, \"FG\", \"\", \"Time\", $K$2,$A33, $P$2, \"\", \"\",\"False\")","v":"2021-04-05"},{"$f":" RTD(\"cqg.rtd\",,\"StudyData\", $L$2, \"FG\", \"\", \"Time\", $K$2, $A33,$P$2,$O$2, \"\",\"False\")","v":44291},{"$f":" RTD(\"cqg.rtd\",,\"StudyData\", $L$2, \"FG\", \"\", \"Open\", $K$2, $A33, $P$2,$O$2,,$M$2,$N$2)","v":63.07},{"$f":" RTD(\"cqg.rtd\",,\"StudyData\", $L$2, \"FG\", \"\", \"High\", $K$2, $A33, $P$2,$O$2,,$M$2,$N$2)","v":63.07},{"$f":" RTD(\"cqg.rtd\",,\"StudyData\", $L$2, \"FG\", \"\", \"Low\", $K$2, $A33, $P$2,$O$2,,$M$2,$N$2)","v":62.02},{"$f":" RTD(\"cqg.rtd\",,\"StudyData\", $L$2, \"FG\", \"\", \"Close\", $K$2, $A33, $P$2,$O$2,,$M$2,$N$2)","v":62.93},"2021-04-05",44291,"04/05/21"]
[-32,{"$f":" RTD(\"cqg.rtd\",,\"StudyData\", $L$2, \"FG\", \"\", \"Time\", $K$2,$A34, $P$2, \"\", \"\",\"False\")","v":"2021-04-01"},{"$f":" RTD(\"cqg.rtd\",,\"StudyData\", $L$2, \"FG\", \"\", \"Time\", $K$2, $A34,$P$2,$O$2, \"\",\"False\")","v":44287},{"$f":" RTD(\"cqg.rtd\",,\"StudyData\", $L$2, \"FG\", \"\", \"Open\", $K$2, $A34, $P$2,$O$2,,$M$2,$N$2)","v":62.34},{"$f":" RTD(\"cqg.rtd\",,\"StudyData\", $L$2, \"FG\", \"\", \"High\", $K$2, $A34, $P$2,$O$2,,$M$2,$N$2)","v":62.34},{"$f":" RTD(\"cqg.rtd\",,\"StudyData\", $L$2, \"FG\", \"\", \"Low\", $K$2, $A34, $P$2,$O$2,,$M$2,$N$2)","v":61.61},{"$f":" RTD(\"cqg.rtd\",,\"StudyData\", $L$2, \"FG\", \"\", \"Close\", $K$2, $A34, $P$2,$O$2,,$M$2,$N$2)","v":62.07},"2021-04-01",44287,"04/01/21"]
[-33,{"$f":" RTD(\"cqg.rtd\",,\"StudyData\", $L$2, \"FG\", \"\", \"Time\", $K$2,$A35, $P$2, \"\", \"\",\"False\")","v":"2021-03-31"},{"$f":" RTD(\"cqg.rtd\",,\"StudyData\", $L$2, \"FG\", \"\", \"Time\", $K$2, $A35,$P$2,$O$2, \"\",\"False\")","v":44286},{"$f":" RTD(\"cqg.rtd\",,\"StudyData\", $L$2, \"FG\", \"\", \"Open\", $K$2, $A35, $P$2,$O$2,,$M$2,$N$2)","v":60.9},{"$f":" RTD(\"cqg.rtd\",,\"StudyData\", $L$2, \"FG\", \"\", \"High\", $K$2, $A35, $P$2,$O$2,,$M$2,$N$2)","v":61.37},{"$f":" RTD(\"cqg.rtd\",,\"StudyData\", $L$2, \"FG\", \"\", \"Low\", $K$2, $A35, $P$2,$O$2,,$M$2,$N$2)","v":60.43},{"$f":" RTD(\"cqg.rtd\",,\"StudyData\", $L$2, \"FG\", \"\", \"Close\", $K$2, $A35, $P$2,$O$2,,$M$2,$N$2)","v":61.02},"2021-03-31",44286,"03/31/21"]
[-34,{"$f":" RTD(\"cqg.rtd\",,\"StudyData\", $L$2, \"FG\", \"\", \"Time\", $K$2,$A36, $P$2, \"\", \"\",\"False\")","v":"2021-03-30"},{"$f":" RTD(\"cqg.rtd\",,\"StudyData\", $L$2, \"FG\", \"\", \"Time\", $K$2, $A36,$P$2,$O$2, \"\",\"False\")","v":44285},{"$f":" RTD(\"cqg.rtd\",,\"StudyData\", $L$2, \"FG\", \"\", \"Open\", $K$2, $A36, $P$2,$O$2,,$M$2,$N$2)","v":58.25},{"$f":" RTD(\"cqg.rtd\",,\"StudyData\", $L$2, \"FG\", \"\", \"High\", $K$2, $A36, $P$2,$O$2,,$M$2,$N$2)","v":60.14},{"$f":" RTD(\"cqg.rtd\",,\"StudyData\", $L$2, \"FG\", \"\", \"Low\", $K$2, $A36, $P$2,$O$2,,$M$2,$N$2)","v":58.22},{"$f":" RTD(\"cqg.rtd\",,\"StudyData\", $L$2, \"FG\", \"\", \"Close\", $K$2, $A36, $P$2,$O$2,,$M$2,$N$2)","v":60.08},"2021-03-30",44285,"03/30/21"]
[-35,{"$f":" RTD(\"cqg.rtd\",,\"StudyData\", $L$2, \"FG\", \"\", \"Time\", $K$2,$A37, $P$2, \"\", \"\",\"False\")","v":"2021-03-29"},{"$f":" RTD(\"cqg.rtd\",,\"StudyData\", $L$2, \"FG\", \"\", \"Time\", $K$2, $A37,$P$2,$O$2, \"\",\"False\")","v":44284},{"$f":" RTD(\"cqg.rtd\",,\"StudyData\", $L$2, \"FG\", \"\", \"Open\", $K$2, $A37, $P$2,$O$2,,$M$2,$N$2)","v":59.45},{"$f":" RTD(\"cqg.rtd\",,\"StudyData\", $L$2, \"FG\", \"\", \"High\", $K$2, $A37, $P$2,$O$2,,$M$2,$N$2)","v":59.83},{"$f":" RTD(\"cqg.rtd\",,\"StudyData\", $L$2, \"FG\", \"\", \"Low\", $K$2, $A37, $P$2,$O$2,,$M$2,$N$2)","v":58.34},{"$f":" RTD(\"cqg.rtd\",,\"StudyData\", $L$2, \"FG\", \"\", \"Close\", $K$2, $A37, $P$2,$O$2,,$M$2,$N$2)","v":58.65},"2021-03-29",44284,"03/29/21"]
[-36,{"$f":" RTD(\"cqg.rtd\",,\"StudyData\", $L$2, \"FG\", \"\", \"Time\", $K$2,$A38, $P$2, \"\", \"\",\"False\")","v":"2021-03-26"},{"$f":" RTD(\"cqg.rtd\",,\"StudyData\", $L$2, \"FG\", \"\", \"Time\", $K$2, $A38,$P$2,$O$2, \"\",\"False\")","v":44281},{"$f":" RTD(\"cqg.rtd\",,\"StudyData\", $L$2, \"FG\", \"\", \"Open\", $K$2, $A38, $P$2,$O$2,,$M$2,$N$2)","v":59.27},{"$f":" RTD(\"cqg.rtd\",,\"StudyData\", $L$2, \"FG\", \"\", \"High\", $K$2, $A38, $P$2,$O$2,,$M$2,$N$2)","v":59.95},{"$f":" RTD(\"cqg.rtd\",,\"StudyData\", $L$2, \"FG\", \"\", \"Low\", $K$2, $A38, $P$2,$O$2,,$M$2,$N$2)","v":58.3},{"$f":" RTD(\"cqg.rtd\",,\"StudyData\", $L$2, \"FG\", \"\", \"Close\", $K$2, $A38, $P$2,$O$2,,$M$2,$N$2)","v":59.9},"2021-03-26",44281,"03/26/21"]
[-37,{"$f":" RTD(\"cqg.rtd\",,\"StudyData\", $L$2, \"FG\", \"\", \"Time\", $K$2,$A39, $P$2, \"\", \"\",\"False\")","v":"2021-03-25"},{"$f":" RTD(\"cqg.rtd\",,\"StudyData\", $L$2, \"FG\", \"\", \"Time\", $K$2, $A39,$P$2,$O$2, \"\",\"False\")","v":44280},{"$f":" RTD(\"cqg.rtd\",,\"StudyData\", $L$2, \"FG\", \"\", \"Open\", $K$2, $A39, $P$2,$O$2,,$M$2,$N$2)","v":57.12},{"$f":" RTD(\"cqg.rtd\",,\"StudyData\", $L$2, \"FG\", \"\", \"High\", $K$2, $A39, $P$2,$O$2,,$M$2,$N$2)","v":59.21},{"$f":" RTD(\"cqg.rtd\",,\"StudyData\", $L$2, \"FG\", \"\", \"Low\", $K$2, $A39, $P$2,$O$2,,$M$2,$N$2)","v":56.85},{"$f":" RTD(\"cqg.rtd\",,\"StudyData\", $L$2, \"FG\", \"\", \"Close\", $K$2, $A39, $P$2,$O$2,,$M$2,$N$2)","v":59.08},"2021-03-25",44280,"03/25/21"]
[-38,{"$f":" RTD(\"cqg.rtd\",,\"StudyData\", $L$2, \"FG\", \"\", \"Time\", $K$2,$A40, $P$2, \"\", \"\",\"False\")","v":"2021-03-24"},{"$f":" RTD(\"cqg.rtd\",,\"StudyData\", $L$2, \"FG\", \"\", \"Time\", $K$2, $A40,$P$2,$O$2, \"\",\"False\")","v":44279},{"$f":" RTD(\"cqg.rtd\",,\"StudyData\", $L$2, \"FG\", \"\", \"Open\", $K$2, $A40, $P$2,$O$2,,$M$2,$N$2)","v":60.81},{"$f":" RTD(\"cqg.rtd\",,\"StudyData\", $L$2, \"FG\", \"\", \"High\", $K$2, $A40, $P$2,$O$2,,$M$2,$N$2)","v":60.81},{"$f":" RTD(\"cqg.rtd\",,\"StudyData\", $L$2, \"FG\", \"\", \"Low\", $K$2, $A40, $P$2,$O$2,,$M$2,$N$2)","v":58.37},{"$f":" RTD(\"cqg.rtd\",,\"StudyData\", $L$2, \"FG\", \"\", \"Close\", $K$2, $A40, $P$2,$O$2,,$M$2,$N$2)","v":58.39},"2021-03-24",44279,"03/24/21"]
[-39,{"$f":" RTD(\"cqg.rtd\",,\"StudyData\", $L$2, \"FG\", \"\", \"Time\", $K$2,$A41, $P$2, \"\", \"\",\"False\")","v":"2021-03-23"},{"$f":" RTD(\"cqg.rtd\",,\"StudyData\", $L$2, \"FG\", \"\", \"Time\", $K$2, $A41,$P$2,$O$2, \"\",\"False\")","v":44278},{"$f":" RTD(\"cqg.rtd\",,\"StudyData\", $L$2, \"FG\", \"\", \"Open\", $K$2, $A41, $P$2,$O$2,,$M$2,$N$2)","v":62.27},{"$f":" RTD(\"cqg.rtd\",,\"StudyData\", $L$2, \"FG\", \"\", \"High\", $K$2, $A41, $P$2,$O$2,,$M$2,$N$2)","v":62.27},{"$f":" RTD(\"cqg.rtd\",,\"StudyData\", $L$2, \"FG\", \"\", \"Low\", $K$2, $A41, $P$2,$O$2,,$M$2,$N$2)","v":59.97},{"$f":" RTD(\"cqg.rtd\",,\"StudyData\", $L$2, \"FG\", \"\", \"Close\", $K$2, $A41, $P$2,$O$2,,$M$2,$N$2)","v":60.28},"2021-03-23",44278,"03/23/21"]
[-40,{"$f":" RTD(\"cqg.rtd\",,\"StudyData\", $L$2, \"FG\", \"\", \"Time\", $K$2,$A42, $P$2, \"\", \"\",\"False\")","v":"2021-03-22"},{"$f":" RTD(\"cqg.rtd\",,\"StudyData\", $L$2, \"FG\", \"\", \"Time\", $K$2, $A42,$P$2,$O$2, \"\",\"False\")","v":44277},{"$f":" RTD(\"cqg.rtd\",,\"StudyData\", $L$2, \"FG\", \"\", \"Open\", $K$2, $A42, $P$2,$O$2,,$M$2,$N$2)","v":63.27},{"$f":" RTD(\"cqg.rtd\",,\"StudyData\", $L$2, \"FG\", \"\", \"High\", $K$2, $A42, $P$2,$O$2,,$M$2,$N$2)","v":63.64},{"$f":" RTD(\"cqg.rtd\",,\"StudyData\", $L$2, \"FG\", \"\", \"Low\", $K$2, $A42, $P$2,$O$2,,$M$2,$N$2)","v":62.48},{"$f":" RTD(\"cqg.rtd\",,\"StudyData\", $L$2, \"FG\", \"\", \"Close\", $K$2, $A42, $P$2,$O$2,,$M$2,$N$2)","v":62.95},"2021-03-22",44277,"03/22/21"]
[-41,{"$f":" RTD(\"cqg.rtd\",,\"StudyData\", $L$2, \"FG\", \"\", \"Time\", $K$2,$A43, $P$2, \"\", \"\",\"False\")","v":"2021-03-19"},{"$f":" RTD(\"cqg.rtd\",,\"StudyData\", $L$2, \"FG\", \"\", \"Time\", $K$2, $A43,$P$2,$O$2, \"\",\"False\")","v":44274},{"$f":" RTD(\"cqg.rtd\",,\"StudyData\", $L$2, \"FG\", \"\", \"Open\", $K$2, $A43, $P$2,$O$2,,$M$2,$N$2)","v":62.69},{"$f":" RTD(\"cqg.rtd\",,\"StudyData\", $L$2, \"FG\", \"\", \"High\", $K$2, $A43, $P$2,$O$2,,$M$2,$N$2)","v":63.69},{"$f":" RTD(\"cqg.rtd\",,\"StudyData\", $L$2, \"FG\", \"\", \"Low\", $K$2, $A43, $P$2,$O$2,,$M$2,$N$2)","v":61.86},{"$f":" RTD(\"cqg.rtd\",,\"StudyData\", $L$2, \"FG\", \"\", \"Close\", $K$2, $A43, $P$2,$O$2,,$M$2,$N$2)","v":63.46},"2021-03-19",44274,"03/19/21"]
[-42,{"$f":" RTD(\"cqg.rtd\",,\"StudyData\", $L$2, \"FG\", \"\", \"Time\", $K$2,$A44, $P$2, \"\", \"\",\"False\")","v":"2021-03-18"},{"$f":" RTD(\"cqg.rtd\",,\"StudyData\", $L$2, \"FG\", \"\", \"Time\", $K$2, $A44,$P$2,$O$2, \"\",\"False\")","v":44273},{"$f":" RTD(\"cqg.rtd\",,\"StudyData\", $L$2, \"FG\", \"\", \"Open\", $K$2, $A44, $P$2,$O$2,,$M$2,$N$2)","v":64.709999999999994},{"$f":" RTD(\"cqg.rtd\",,\"StudyData\", $L$2, \"FG\", \"\", \"High\", $K$2, $A44, $P$2,$O$2,,$M$2,$N$2)","v":64.86},{"$f":" RTD(\"cqg.rtd\",,\"StudyData\", $L$2, \"FG\", \"\", \"Low\", $K$2, $A44, $P$2,$O$2,,$M$2,$N$2)","v":62.71},{"$f":" RTD(\"cqg.rtd\",,\"StudyData\", $L$2, \"FG\", \"\", \"Close\", $K$2, $A44, $P$2,$O$2,,$M$2,$N$2)","v":62.92},"2021-03-18",44273,"03/18/21"]
[-43,{"$f":" RTD(\"cqg.rtd\",,\"StudyData\", $L$2, \"FG\", \"\", \"Time\", $K$2,$A45, $P$2, \"\", \"\",\"False\")","v":"2021-03-17"},{"$f":" RTD(\"cqg.rtd\",,\"StudyData\", $L$2, \"FG\", \"\", \"Time\", $K$2, $A45,$P$2,$O$2, \"\",\"False\")","v":44272},{"$f":" RTD(\"cqg.rtd\",,\"StudyData\", $L$2, \"FG\", \"\", \"Open\", $K$2, $A45, $P$2,$O$2,,$M$2,$N$2)","v":63.06},{"$f":" RTD(\"cqg.rtd\",,\"StudyData\", $L$2, \"FG\", \"\", \"High\", $K$2, $A45, $P$2,$O$2,,$M$2,$N$2)","v":65.150000000000006},{"$f":" RTD(\"cqg.rtd\",,\"StudyData\", $L$2, \"FG\", \"\", \"Low\", $K$2, $A45, $P$2,$O$2,,$M$2,$N$2)","v":62.52},{"$f":" RTD(\"cqg.rtd\",,\"StudyData\", $L$2, \"FG\", \"\", \"Close\", $K$2, $A45, $P$2,$O$2,,$M$2,$N$2)","v":65.069999999999993},"2021-03-17",44272,"03/17/21"]
[-44,{"$f":" RTD(\"cqg.rtd\",,\"StudyData\", $L$2, \"FG\", \"\", \"Time\", $K$2,$A46, $P$2, \"\", \"\",\"False\")","v":"2021-03-16"},{"$f":" RTD(\"cqg.rtd\",,\"StudyData\", $L$2, \"FG\", \"\", \"Time\", $K$2, $A46,$P$2,$O$2, \"\",\"False\")","v":44271},{"$f":" RTD(\"cqg.rtd\",,\"StudyData\", $L$2, \"FG\", \"\", \"Open\", $K$2, $A46, $P$2,$O$2,,$M$2,$N$2)","v":65.819999999999993},{"$f":" RTD(\"cqg.rtd\",,\"StudyData\", $L$2, \"FG\", \"\", \"High\", $K$2, $A46, $P$2,$O$2,,$M$2,$N$2)","v":65.819999999999993},{"$f":" RTD(\"cqg.rtd\",,\"StudyData\", $L$2, \"FG\", \"\", \"Low\", $K$2, $A46, $P$2,$O$2,,$M$2,$N$2)","v":63.5},{"$f":" RTD(\"cqg.rtd\",,\"StudyData\", $L$2, \"FG\", \"\", \"Close\", $K$2, $A46, $P$2,$O$2,,$M$2,$N$2)","v":64.08},"2021-03-16",44271,"03/16/21"]
[-45,{"$f":" RTD(\"cqg.rtd\",,\"StudyData\", $L$2, \"FG\", \"\", \"Time\", $K$2,$A47, $P$2, \"\", \"\",\"False\")","v":"2021-03-15"},{"$f":" RTD(\"cqg.rtd\",,\"StudyData\", $L$2, \"FG\", \"\", \"Time\", $K$2, $A47,$P$2,$O$2, \"\",\"False\")","v":44270},{"$f":" RTD(\"cqg.rtd\",,\"StudyData\", $L$2, \"FG\", \"\", \"Open\", $K$2, $A47, $P$2,$O$2,,$M$2,$N$2)","v":65.59},{"$f":" RTD(\"cqg.rtd\",,\"StudyData\", $L$2, \"FG\", \"\", \"High\", $K$2, $A47, $P$2,$O$2,,$M$2,$N$2)","v":65.8},{"$f":" RTD(\"cqg.rtd\",,\"StudyData\", $L$2, \"FG\", \"\", \"Low\", $K$2, $A47, $P$2,$O$2,,$M$2,$N$2)","v":64.790000000000006},{"$f":" RTD(\"cqg.rtd\",,\"StudyData\", $L$2, \"FG\", \"\", \"Close\", $K$2, $A47, $P$2,$O$2,,$M$2,$N$2)","v":65.78},"2021-03-15",44270,"03/15/21"]
[-46,{"$f":" RTD(\"cqg.rtd\",,\"StudyData\", $L$2, \"FG\", \"\", \"Time\", $K$2,$A48, $P$2, \"\", \"\",\"False\")","v":"2021-03-12"},{"$f":" RTD(\"cqg.rtd\",,\"StudyData\", $L$2, \"FG\", \"\", \"Time\", $K$2, $A48,$P$2,$O$2, \"\",\"False\")","v":44267},{"$f":" RTD(\"cqg.rtd\",,\"StudyData\", $L$2, \"FG\", \"\", \"Open\", $K$2, $A48, $P$2,$O$2,,$M$2,$N$2)","v":63.91},{"$f":" RTD(\"cqg.rtd\",,\"StudyData\", $L$2, \"FG\", \"\", \"High\", $K$2, $A48, $P$2,$O$2,,$M$2,$N$2)","v":65.31},{"$f":" RTD(\"cqg.rtd\",,\"StudyData\", $L$2, \"FG\", \"\", \"Low\", $K$2, $A48, $P$2,$O$2,,$M$2,$N$2)","v":63.37},{"$f":" RTD(\"cqg.rtd\",,\"StudyData\", $L$2, \"FG\", \"\", \"Close\", $K$2, $A48, $P$2,$O$2,,$M$2,$N$2)","v":65.27},"2021-03-12",44267,"03/12/21"]
[-47,{"$f":" RTD(\"cqg.rtd\",,\"StudyData\", $L$2, \"FG\", \"\", \"Time\", $K$2,$A49, $P$2, \"\", \"\",\"False\")","v":"2021-03-11"},{"$f":" RTD(\"cqg.rtd\",,\"StudyData\", $L$2, \"FG\", \"\", \"Time\", $K$2, $A49,$P$2,$O$2, \"\",\"False\")","v":44266},{"$f":" RTD(\"cqg.rtd\",,\"StudyData\", $L$2, \"FG\", \"\", \"Open\", $K$2, $A49, $P$2,$O$2,,$M$2,$N$2)","v":63.87},{"$f":" RTD(\"cqg.rtd\",,\"StudyData\", $L$2, \"FG\", \"\", \"High\", $K$2, $A49, $P$2,$O$2,,$M$2,$N$2)","v":64.819999999999993},{"$f":" RTD(\"cqg.rtd\",,\"StudyData\", $L$2, \"FG\", \"\", \"Low\", $K$2, $A49, $P$2,$O$2,,$M$2,$N$2)","v":63.54},{"$f":" RTD(\"cqg.rtd\",,\"StudyData\", $L$2, \"FG\", \"\", \"Close\", $K$2, $A49, $P$2,$O$2,,$M$2,$N$2)","v":64.81},"2021-03-11",44266,"03/11/21"]
[-48,{"$f":" RTD(\"cqg.rtd\",,\"StudyData\", $L$2, \"FG\", \"\", \"Time\", $K$2,$A50, $P$2, \"\", \"\",\"False\")","v":"2021-03-10"},{"$f":" RTD(\"cqg.rtd\",,\"StudyData\", $L$2, \"FG\", \"\", \"Time\", $K$2, $A50,$P$2,$O$2, \"\",\"False\")","v":44265},{"$f":" RTD(\"cqg.rtd\",,\"StudyData\", $L$2, \"FG\", \"\", \"Open\", $K$2, $A50, $P$2,$O$2,,$M$2,$N$2)","v":63.19},{"$f":" RTD(\"cqg.rtd\",,\"StudyData\", $L$2, \"FG\", \"\", \"High\", $K$2, $A50, $P$2,$O$2,,$M$2,$N$2)","v":63.82},{"$f":" RTD(\"cqg.rtd\",,\"StudyData\", $L$2, \"FG\", \"\", \"Low\", $K$2, $A50, $P$2,$O$2,,$M$2,$N$2)","v":61.86},{"$f":" RTD(\"cqg.rtd\",,\"StudyData\", $L$2, \"FG\", \"\", \"Close\", $K$2, $A50, $P$2,$O$2,,$M$2,$N$2)","v":62.49},"2021-03-10",44265,"03/10/21"]
[-49,{"$f":" RTD(\"cqg.rtd\",,\"StudyData\", $L$2, \"FG\", \"\", \"Time\", $K$2,$A51, $P$2, \"\", \"\",\"False\")","v":"2021-03-09"},{"$f":" RTD(\"cqg.rtd\",,\"StudyData\", $L$2, \"FG\", \"\", \"Time\", $K$2, $A51,$P$2,$O$2, \"\",\"False\")","v":44264},{"$f":" RTD(\"cqg.rtd\",,\"StudyData\", $L$2, \"FG\", \"\", \"Open\", $K$2, $A51, $P$2,$O$2,,$M$2,$N$2)","v":60.5},{"$f":" RTD(\"cqg.rtd\",,\"StudyData\", $L$2, \"FG\", \"\", \"High\", $K$2, $A51, $P$2,$O$2,,$M$2,$N$2)","v":62.24},{"$f":" RTD(\"cqg.rtd\",,\"StudyData\", $L$2, \"FG\", \"\", \"Low\", $K$2, $A51, $P$2,$O$2,,$M$2,$N$2)","v":60.17},{"$f":" RTD(\"cqg.rtd\",,\"StudyData\", $L$2, \"FG\", \"\", \"Close\", $K$2, $A51, $P$2,$O$2,,$M$2,$N$2)","v":61.86},"2021-03-09",44264,"03/09/21"]
[-50,{"$f":" RTD(\"cqg.rtd\",,\"StudyData\", $L$2, \"FG\", \"\", \"Time\", $K$2,$A52, $P$2, \"\", \"\",\"False\")","v":"2021-03-08"},{"$f":" RTD(\"cqg.rtd\",,\"StudyData\", $L$2, \"FG\", \"\", \"Time\", $K$2, $A52,$P$2,$O$2, \"\",\"False\")","v":44263},{"$f":" RTD(\"cqg.rtd\",,\"StudyData\", $L$2, \"FG\", \"\", \"Open\", $K$2, $A52, $P$2,$O$2,,$M$2,$N$2)","v":59.48},{"$f":" RTD(\"cqg.rtd\",,\"StudyData\", $L$2, \"FG\", \"\", \"High\", $K$2, $A52, $P$2,$O$2,,$M$2,$N$2)","v":60.78},{"$f":" RTD(\"cqg.rtd\",,\"StudyData\", $L$2, \"FG\", \"\", \"Low\", $K$2, $A52, $P$2,$O$2,,$M$2,$N$2)","v":59.03},{"$f":" RTD(\"cqg.rtd\",,\"StudyData\", $L$2, \"FG\", \"\", \"Close\", $K$2, $A52, $P$2,$O$2,,$M$2,$N$2)","v":59.1},"2021-03-08",44263,"03/08/21"]
[-51,{"$f":" RTD(\"cqg.rtd\",,\"StudyData\", $L$2, \"FG\", \"\", \"Time\", $K$2,$A53, $P$2, \"\", \"\",\"False\")","v":"2021-03-05"},{"$f":" RTD(\"cqg.rtd\",,\"StudyData\", $L$2, \"FG\", \"\", \"Time\", $K$2, $A53,$P$2,$O$2, \"\",\"False\")","v":44260},{"$f":" RTD(\"cqg.rtd\",,\"StudyData\", $L$2, \"FG\", \"\", \"Open\", $K$2, $A53, $P$2,$O$2,,$M$2,$N$2)","v":59.42},{"$f":" RTD(\"cqg.rtd\",,\"StudyData\", $L$2, \"FG\", \"\", \"High\", $K$2, $A53, $P$2,$O$2,,$M$2,$N$2)","v":59.71},{"$f":" RTD(\"cqg.rtd\",,\"StudyData\", $L$2, \"FG\", \"\", \"Low\", $K$2, $A53, $P$2,$O$2,,$M$2,$N$2)","v":55.48},{"$f":" RTD(\"cqg.rtd\",,\"StudyData\", $L$2, \"FG\", \"\", \"Close\", $K$2, $A53, $P$2,$O$2,,$M$2,$N$2)","v":59.65},"2021-03-05",44260,"03/05/21"]
[-52,{"$f":" RTD(\"cqg.rtd\",,\"StudyData\", $L$2, \"FG\", \"\", \"Time\", $K$2,$A54, $P$2, \"\", \"\",\"False\")","v":"2021-03-04"},{"$f":" RTD(\"cqg.rtd\",,\"StudyData\", $L$2, \"FG\", \"\", \"Time\", $K$2, $A54,$P$2,$O$2, \"\",\"False\")","v":44259},{"$f":" RTD(\"cqg.rtd\",,\"StudyData\", $L$2, \"FG\", \"\", \"Open\", $K$2, $A54, $P$2,$O$2,,$M$2,$N$2)","v":60.87},{"$f":" RTD(\"cqg.rtd\",,\"StudyData\", $L$2, \"FG\", \"\", \"High\", $K$2, $A54, $P$2,$O$2,,$M$2,$N$2)","v":61.8},{"$f":" RTD(\"cqg.rtd\",,\"StudyData\", $L$2, \"FG\", \"\", \"Low\", $K$2, $A54, $P$2,$O$2,,$M$2,$N$2)","v":57.2},{"$f":" RTD(\"cqg.rtd\",,\"StudyData\", $L$2, \"FG\", \"\", \"Close\", $K$2, $A54, $P$2,$O$2,,$M$2,$N$2)","v":58.79},"2021-03-04",44259,"03/04/21"]
[-53,{"$f":" RTD(\"cqg.rtd\",,\"StudyData\", $L$2, \"FG\", \"\", \"Time\", $K$2,$A55, $P$2, \"\", \"\",\"False\")","v":"2021-03-03"},{"$f":" RTD(\"cqg.rtd\",,\"StudyData\", $L$2, \"FG\", \"\", \"Time\", $K$2, $A55,$P$2,$O$2, \"\",\"False\")","v":44258},{"$f":" RTD(\"cqg.rtd\",,\"StudyData\", $L$2, \"FG\", \"\", \"Open\", $K$2, $A55, $P$2,$O$2,,$M$2,$N$2)","v":63.28},{"$f":" RTD(\"cqg.rtd\",,\"StudyData\", $L$2, \"FG\", \"\", \"High\", $K$2, $A55, $P$2,$O$2,,$M$2,$N$2)","v":63.79},{"$f":" RTD(\"cqg.rtd\",,\"StudyData\", $L$2, \"FG\", \"\", \"Low\", $K$2, $A55, $P$2,$O$2,,$M$2,$N$2)","v":61.49},{"$f":" RTD(\"cqg.rtd\",,\"StudyData\", $L$2, \"FG\", \"\", \"Close\", $K$2, $A55, $P$2,$O$2,,$M$2,$N$2)","v":61.5},"2021-03-03",44258,"03/03/21"]
[-54,{"$f":" RTD(\"cqg.rtd\",,\"StudyData\", $L$2, \"FG\", \"\", \"Time\", $K$2,$A56, $P$2, \"\", \"\",\"False\")","v":"2021-03-02"},{"$f":" RTD(\"cqg.rtd\",,\"StudyData\", $L$2, \"FG\", \"\", \"Time\", $K$2, $A56,$P$2,$O$2, \"\",\"False\")","v":44257},{"$f":" RTD(\"cqg.rtd\",,\"StudyData\", $L$2, \"FG\", \"\", \"Open\", $K$2, $A56, $P$2,$O$2,,$M$2,$N$2)","v":64.23},{"$f":" RTD(\"cqg.rtd\",,\"StudyData\", $L$2, \"FG\", \"\", \"High\", $K$2, $A56, $P$2,$O$2,,$M$2,$N$2)","v":64.260000000000005},{"$f":" RTD(\"cqg.rtd\",,\"StudyData\", $L$2, \"FG\", \"\", \"Low\", $K$2, $A56, $P$2,$O$2,,$M$2,$N$2)","v":62.92},{"$f":" RTD(\"cqg.rtd\",,\"StudyData\", $L$2, \"FG\", \"\", \"Close\", $K$2, $A56, $P$2,$O$2,,$M$2,$N$2)","v":62.99},"2021-03-02",44257,"03/02/21"]
[-55,{"$f":" RTD(\"cqg.rtd\",,\"StudyData\", $L$2, \"FG\", \"\", \"Time\", $K$2,$A57, $P$2, \"\", \"\",\"False\")","v":"2021-03-01"},{"$f":" RTD(\"cqg.rtd\",,\"StudyData\", $L$2, \"FG\", \"\", \"Time\", $K$2, $A57,$P$2,$O$2, \"\",\"False\")","v":44256},{"$f":" RTD(\"cqg.rtd\",,\"StudyData\", $L$2, \"FG\", \"\", \"Open\", $K$2, $A57, $P$2,$O$2,,$M$2,$N$2)","v":63.58},{"$f":" RTD(\"cqg.rtd\",,\"StudyData\", $L$2, \"FG\", \"\", \"High\", $K$2, $A57, $P$2,$O$2,,$M$2,$N$2)","v":64.239999999999995},{"$f":" RTD(\"cqg.rtd\",,\"StudyData\", $L$2, \"FG\", \"\", \"Low\", $K$2, $A57, $P$2,$O$2,,$M$2,$N$2)","v":62.92},{"$f":" RTD(\"cqg.rtd\",,\"StudyData\", $L$2, \"FG\", \"\", \"Close\", $K$2, $A57, $P$2,$O$2,,$M$2,$N$2)","v":64.09},"2021-03-01",44256,"03/01/21"]
[-56,{"$f":" RTD(\"cqg.rtd\",,\"StudyData\", $L$2, \"FG\", \"\", \"Time\", $K$2,$A58, $P$2, \"\", \"\",\"False\")","v":"2021-02-26"},{"$f":" RTD(\"cqg.rtd\",,\"StudyData\", $L$2, \"FG\", \"\", \"Time\", $K$2, $A58,$P$2,$O$2, \"\",\"False\")","v":44253},{"$f":" RTD(\"cqg.rtd\",,\"StudyData\", $L$2, \"FG\", \"\", \"Open\", $K$2, $A58, $P$2,$O$2,,$M$2,$N$2)","v":61.55},{"$f":" RTD(\"cqg.rtd\",,\"StudyData\", $L$2, \"FG\", \"\", \"High\", $K$2, $A58, $P$2,$O$2,,$M$2,$N$2)","v":62.34},{"$f":" RTD(\"cqg.rtd\",,\"StudyData\", $L$2, \"FG\", \"\", \"Low\", $K$2, $A58, $P$2,$O$2,,$M$2,$N$2)","v":60.22},{"$f":" RTD(\"cqg.rtd\",,\"StudyData\", $L$2, \"FG\", \"\", \"Close\", $K$2, $A58, $P$2,$O$2,,$M$2,$N$2)","v":61.74},"2021-02-26",44253,"02/26/21"]
[-57,{"$f":" RTD(\"cqg.rtd\",,\"StudyData\", $L$2, \"FG\", \"\", \"Time\", $K$2,$A59, $P$2, \"\", \"\",\"False\")","v":"2021-02-25"},{"$f":" RTD(\"cqg.rtd\",,\"StudyData\", $L$2, \"FG\", \"\", \"Time\", $K$2, $A59,$P$2,$O$2, \"\",\"False\")","v":44252},{"$f":" RTD(\"cqg.rtd\",,\"StudyData\", $L$2, \"FG\", \"\", \"Open\", $K$2, $A59, $P$2,$O$2,,$M$2,$N$2)","v":64.27},{"$f":" RTD(\"cqg.rtd\",,\"StudyData\", $L$2, \"FG\", \"\", \"High\", $K$2, $A59, $P$2,$O$2,,$M$2,$N$2)","v":64.569999999999993},{"$f":" RTD(\"cqg.rtd\",,\"StudyData\", $L$2, \"FG\", \"\", \"Low\", $K$2, $A59, $P$2,$O$2,,$M$2,$N$2)","v":61.19},{"$f":" RTD(\"cqg.rtd\",,\"StudyData\", $L$2, \"FG\", \"\", \"Close\", $K$2, $A59, $P$2,$O$2,,$M$2,$N$2)","v":61.56},"2021-02-25",44252,"02/25/21"]
[-58,{"$f":" RTD(\"cqg.rtd\",,\"StudyData\", $L$2, \"FG\", \"\", \"Time\", $K$2,$A60, $P$2, \"\", \"\",\"False\")","v":"2021-02-24"},{"$f":" RTD(\"cqg.rtd\",,\"StudyData\", $L$2, \"FG\", \"\", \"Time\", $K$2, $A60,$P$2,$O$2, \"\",\"False\")","v":44251},{"$f":" RTD(\"cqg.rtd\",,\"StudyData\", $L$2, \"FG\", \"\", \"Open\", $K$2, $A60, $P$2,$O$2,,$M$2,$N$2)","v":62.98},{"$f":" RTD(\"cqg.rtd\",,\"StudyData\", $L$2, \"FG\", \"\", \"High\", $K$2, $A60, $P$2,$O$2,,$M$2,$N$2)","v":64.739999999999995},{"$f":" RTD(\"cqg.rtd\",,\"StudyData\", $L$2, \"FG\", \"\", \"Low\", $K$2, $A60, $P$2,$O$2,,$M$2,$N$2)","v":62.34},{"$f":" RTD(\"cqg.rtd\",,\"StudyData\", $L$2, \"FG\", \"\", \"Close\", $K$2, $A60, $P$2,$O$2,,$M$2,$N$2)","v":64.680000000000007},"2021-02-24",44251,"02/24/21"]
[-59,{"$f":" RTD(\"cqg.rtd\",,\"StudyData\", $L$2, \"FG\", \"\", \"Time\", $K$2,$A61, $P$2, \"\", \"\",\"False\")","v":"2021-02-23"},{"$f":" RTD(\"cqg.rtd\",,\"StudyData\", $L$2, \"FG\", \"\", \"Time\", $K$2, $A61,$P$2,$O$2, \"\",\"False\")","v":44250},{"$f":" RTD(\"cqg.rtd\",,\"StudyData\", $L$2, \"FG\", \"\", \"Open\", $K$2, $A61, $P$2,$O$2,,$M$2,$N$2)","v":62.22},{"$f":" RTD(\"cqg.rtd\",,\"StudyData\", $L$2, \"FG\", \"\", \"High\", $K$2, $A61, $P$2,$O$2,,$M$2,$N$2)","v":63.12},{"$f":" RTD(\"cqg.rtd\",,\"StudyData\", $L$2, \"FG\", \"\", \"Low\", $K$2, $A61, $P$2,$O$2,,$M$2,$N$2)","v":59.52},{"$f":" RTD(\"cqg.rtd\",,\"StudyData\", $L$2, \"FG\", \"\", \"Close\", $K$2, $A61, $P$2,$O$2,,$M$2,$N$2)","v":62.79},"2021-02-23",44250,"02/23/21"]
[-60,{"$f":" RTD(\"cqg.rtd\",,\"StudyData\", $L$2, \"FG\", \"\", \"Time\", $K$2,$A62, $P$2, \"\", \"\",\"False\")","v":"2021-02-22"},{"$f":" RTD(\"cqg.rtd\",,\"StudyData\", $L$2, \"FG\", \"\", \"Time\", $K$2, $A62,$P$2,$O$2, \"\",\"False\")","v":44249},{"$f":" RTD(\"cqg.rtd\",,\"StudyData\", $L$2, \"FG\", \"\", \"Open\", $K$2, $A62, $P$2,$O$2,,$M$2,$N$2)","v":65.61},{"$f":" RTD(\"cqg.rtd\",,\"StudyData\", $L$2, \"FG\", \"\", \"High\", $K$2, $A62, $P$2,$O$2,,$M$2,$N$2)","v":66.319999999999993},{"$f":" RTD(\"cqg.rtd\",,\"StudyData\", $L$2, \"FG\", \"\", \"Low\", $K$2, $A62, $P$2,$O$2,,$M$2,$N$2)","v":64.5},{"$f":" RTD(\"cqg.rtd\",,\"StudyData\", $L$2, \"FG\", \"\", \"Close\", $K$2, $A62, $P$2,$O$2,,$M$2,$N$2)","v":64.67},"2021-02-22",44249,"02/22/21"]
[-61,{"$f":" RTD(\"cqg.rtd\",,\"StudyData\", $L$2, \"FG\", \"\", \"Time\", $K$2,$A63, $P$2, \"\", \"\",\"False\")","v":"2021-02-19"},{"$f":" RTD(\"cqg.rtd\",,\"StudyData\", $L$2, \"FG\", \"\", \"Time\", $K$2, $A63,$P$2,$O$2, \"\",\"False\")","v":44246},{"$f":" RTD(\"cqg.rtd\",,\"StudyData\", $L$2, \"FG\", \"\", \"Open\", $K$2, $A63, $P$2,$O$2,,$M$2,$N$2)","v":65.83},{"$f":" RTD(\"cqg.rtd\",,\"StudyData\", $L$2, \"FG\", \"\", \"High\", $K$2, $A63, $P$2,$O$2,,$M$2,$N$2)","v":66.98},{"$f":" RTD(\"cqg.rtd\",,\"StudyData\", $L$2, \"FG\", \"\", \"Low\", $K$2, $A63, $P$2,$O$2,,$M$2,$N$2)","v":65.77},{"$f":" RTD(\"cqg.rtd\",,\"StudyData\", $L$2, \"FG\", \"\", \"Close\", $K$2, $A63, $P$2,$O$2,,$M$2,$N$2)","v":66.53},"2021-02-19",44246,"02/19/21"]
[-62,{"$f":" RTD(\"cqg.rtd\",,\"StudyData\", $L$2, \"FG\", \"\", \"Time\", $K$2,$A64, $P$2, \"\", \"\",\"False\")","v":"2021-02-18"},{"$f":" RTD(\"cqg.rtd\",,\"StudyData\", $L$2, \"FG\", \"\", \"Time\", $K$2, $A64,$P$2,$O$2, \"\",\"False\")","v":44245},{"$f":" RTD(\"cqg.rtd\",,\"StudyData\", $L$2, \"FG\", \"\", \"Open\", $K$2, $A64, $P$2,$O$2,,$M$2,$N$2)","v":66.5},{"$f":" RTD(\"cqg.rtd\",,\"StudyData\", $L$2, \"FG\", \"\", \"High\", $K$2, $A64, $P$2,$O$2,,$M$2,$N$2)","v":66.599999999999994},{"$f":" RTD(\"cqg.rtd\",,\"StudyData\", $L$2, \"FG\", \"\", \"Low\", $K$2, $A64, $P$2,$O$2,,$M$2,$N$2)","v":64.209999999999994},{"$f":" RTD(\"cqg.rtd\",,\"StudyData\", $L$2, \"FG\", \"\", \"Close\", $K$2, $A64, $P$2,$O$2,,$M$2,$N$2)","v":64.349999999999994},"2021-02-18",44245,"02/18/21"]
[-63,{"$f":" RTD(\"cqg.rtd\",,\"StudyData\", $L$2, \"FG\", \"\", \"Time\", $K$2,$A65, $P$2, \"\", \"\",\"False\")","v":"2021-02-17"},{"$f":" RTD(\"cqg.rtd\",,\"StudyData\", $L$2, \"FG\", \"\", \"Time\", $K$2, $A65,$P$2,$O$2, \"\",\"False\")","v":44244},{"$f":" RTD(\"cqg.rtd\",,\"StudyData\", $L$2, \"FG\", \"\", \"Open\", $K$2, $A65, $P$2,$O$2,,$M$2,$N$2)","v":68.489999999999995},{"$f":" RTD(\"cqg.rtd\",,\"StudyData\", $L$2, \"FG\", \"\", \"High\", $K$2, $A65, $P$2,$O$2,,$M$2,$N$2)","v":68.989999999999995},{"$f":" RTD(\"cqg.rtd\",,\"StudyData\", $L$2, \"FG\", \"\", \"Low\", $K$2, $A65, $P$2,$O$2,,$M$2,$N$2)","v":66.81},{"$f":" RTD(\"cqg.rtd\",,\"StudyData\", $L$2, \"FG\", \"\", \"Close\", $K$2, $A65, $P$2,$O$2,,$M$2,$N$2)","v":68.03},"2021-02-17",44244,"02/17/21"]
[-64,{"$f":" RTD(\"cqg.rtd\",,\"StudyData\", $L$2, \"FG\", \"\", \"Time\", $K$2,$A66, $P$2, \"\", \"\",\"False\")","v":"2021-02-16"},{"$f":" RTD(\"cqg.rtd\",,\"StudyData\", $L$2, \"FG\", \"\", \"Time\", $K$2, $A66,$P$2,$O$2, \"\",\"False\")","v":44243},{"$f":" RTD(\"cqg.rtd\",,\"StudyData\", $L$2, \"FG\", \"\", \"Open\", $K$2, $A66, $P$2,$O$2,,$M$2,$N$2)","v":70.88},{"$f":" RTD(\"cqg.rtd\",,\"StudyData\", $L$2, \"FG\", \"\", \"High\", $K$2, $A66, $P$2,$O$2,,$M$2,$N$2)","v":70.94},{"$f":" RTD(\"cqg.rtd\",,\"StudyData\", $L$2, \"FG\", \"\", \"Low\", $K$2, $A66, $P$2,$O$2,,$M$2,$N$2)","v":69.05},{"$f":" RTD(\"cqg.rtd\",,\"StudyData\", $L$2, \"FG\", \"\", \"Close\", $K$2, $A66, $P$2,$O$2,,$M$2,$N$2)","v":69.53},"2021-02-16",44243,"02/16/21"]
[-65,{"$f":" RTD(\"cqg.rtd\",,\"StudyData\", $L$2, \"FG\", \"\", \"Time\", $K$2,$A67, $P$2, \"\", \"\",\"False\")","v":"2021-02-12"},{"$f":" RTD(\"cqg.rtd\",,\"StudyData\", $L$2, \"FG\", \"\", \"Time\", $K$2, $A67,$P$2,$O$2, \"\",\"False\")","v":44239},{"$f":" RTD(\"cqg.rtd\",,\"StudyData\", $L$2, \"FG\", \"\", \"Open\", $K$2, $A67, $P$2,$O$2,,$M$2,$N$2)","v":69.56},{"$f":" RTD(\"cqg.rtd\",,\"StudyData\", $L$2, \"FG\", \"\", \"High\", $K$2, $A67, $P$2,$O$2,,$M$2,$N$2)","v":69.91},{"$f":" RTD(\"cqg.rtd\",,\"StudyData\", $L$2, \"FG\", \"\", \"Low\", $K$2, $A67, $P$2,$O$2,,$M$2,$N$2)","v":68.510000000000005},{"$f":" RTD(\"cqg.rtd\",,\"StudyData\", $L$2, \"FG\", \"\", \"Close\", $K$2, $A67, $P$2,$O$2,,$M$2,$N$2)","v":69.78},{"$f":"B67","v":"2021-02-12"},{"$f":"B67","v":44239},{"$f":"IF(OR($K$2=\"D\",$K$2=\"W\",$K$2=\",'M\"),TEXT(H67,\"MM/DD/YY\"),TEXT(I67,\"HH:MM\"))","v":"02/12/21"}]
[{"$f":"A67-1","v":-66},{"$f":" RTD(\"cqg.rtd\",,\"StudyData\", $L$2, \"FG\", \"\", \"Time\", $K$2,$A68, $P$2, \"\", \"\",\"False\")","v":"2021-02-11"},{"$f":" RTD(\"cqg.rtd\",,\"StudyData\", $L$2, \"FG\", \"\", \"Time\", $K$2, $A68,$P$2,$O$2, \"\",\"False\")","v":44238},{"$f":" RTD(\"cqg.rtd\",,\"StudyData\", $L$2, \"FG\", \"\", \"Open\", $K$2, $A68, $P$2,$O$2,,$M$2,$N$2)","v":70.06},{"$f":" RTD(\"cqg.rtd\",,\"StudyData\", $L$2, \"FG\", \"\", \"High\", $K$2, $A68, $P$2,$O$2,,$M$2,$N$2)","v":70.38},{"$f":" RTD(\"cqg.rtd\",,\"StudyData\", $L$2, \"FG\", \"\", \"Low\", $K$2, $A68, $P$2,$O$2,,$M$2,$N$2)","v":67.97},{"$f":" RTD(\"cqg.rtd\",,\"StudyData\", $L$2, \"FG\", \"\", \"Close\", $K$2, $A68, $P$2,$O$2,,$M$2,$N$2)","v":69.56},"2021-02-11",44238,"02/11/21"]
[-67,{"$f":" RTD(\"cqg.rtd\",,\"StudyData\", $L$2, \"FG\", \"\", \"Time\", $K$2,$A69, $P$2, \"\", \"\",\"False\")","v":"2021-02-10"},{"$f":" RTD(\"cqg.rtd\",,\"StudyData\", $L$2, \"FG\", \"\", \"Time\", $K$2, $A69,$P$2,$O$2, \"\",\"False\")","v":44237},{"$f":" RTD(\"cqg.rtd\",,\"StudyData\", $L$2, \"FG\", \"\", \"Open\", $K$2, $A69, $P$2,$O$2,,$M$2,$N$2)","v":71.14},{"$f":" RTD(\"cqg.rtd\",,\"StudyData\", $L$2, \"FG\", \"\", \"High\", $K$2, $A69, $P$2,$O$2,,$M$2,$N$2)","v":71.430000000000007},{"$f":" RTD(\"cqg.rtd\",,\"StudyData\", $L$2, \"FG\", \"\", \"Low\", $K$2, $A69, $P$2,$O$2,,$M$2,$N$2)","v":68.75},{"$f":" RTD(\"cqg.rtd\",,\"StudyData\", $L$2, \"FG\", \"\", \"Close\", $K$2, $A69, $P$2,$O$2,,$M$2,$N$2)","v":69.89},"2021-02-10",44237,"02/10/21"]
[-68,{"$f":" RTD(\"cqg.rtd\",,\"StudyData\", $L$2, \"FG\", \"\", \"Time\", $K$2,$A70, $P$2, \"\", \"\",\"False\")","v":"2021-02-09"},{"$f":" RTD(\"cqg.rtd\",,\"StudyData\", $L$2, \"FG\", \"\", \"Time\", $K$2, $A70,$P$2,$O$2, \"\",\"False\")","v":44236},{"$f":" RTD(\"cqg.rtd\",,\"StudyData\", $L$2, \"FG\", \"\", \"Open\", $K$2, $A70, $P$2,$O$2,,$M$2,$N$2)","v":69},{"$f":" RTD(\"cqg.rtd\",,\"StudyData\", $L$2, \"FG\", \"\", \"High\", $K$2, $A70, $P$2,$O$2,,$M$2,$N$2)","v":70.22},{"$f":" RTD(\"cqg.rtd\",,\"StudyData\", $L$2, \"FG\", \"\", \"Low\", $K$2, $A70, $P$2,$O$2,,$M$2,$N$2)","v":68.28},{"$f":" RTD(\"cqg.rtd\",,\"StudyData\", $L$2, \"FG\", \"\", \"Close\", $K$2, $A70, $P$2,$O$2,,$M$2,$N$2)","v":70.22},"2021-02-09",44236,"02/09/21"]
[-69,{"$f":" RTD(\"cqg.rtd\",,\"StudyData\", $L$2, \"FG\", \"\", \"Time\", $K$2,$A71, $P$2, \"\", \"\",\"False\")","v":"2021-02-08"},{"$f":" RTD(\"cqg.rtd\",,\"StudyData\", $L$2, \"FG\", \"\", \"Time\", $K$2, $A71,$P$2,$O$2, \"\",\"False\")","v":44235},{"$f":" RTD(\"cqg.rtd\",,\"StudyData\", $L$2, \"FG\", \"\", \"Open\", $K$2, $A71, $P$2,$O$2,,$M$2,$N$2)","v":67.930000000000007},{"$f":" RTD(\"cqg.rtd\",,\"StudyData\", $L$2, \"FG\", \"\", \"High\", $K$2, $A71, $P$2,$O$2,,$M$2,$N$2)","v":68.930000000000007},{"$f":" RTD(\"cqg.rtd\",,\"StudyData\", $L$2, \"FG\", \"\", \"Low\", $K$2, $A71, $P$2,$O$2,,$M$2,$N$2)","v":67.8},{"$f":" RTD(\"cqg.rtd\",,\"StudyData\", $L$2, \"FG\", \"\", \"Close\", $K$2, $A71, $P$2,$O$2,,$M$2,$N$2)","v":68.930000000000007},"2021-02-08",44235,"02/08/21"]
[-70,{"$f":" RTD(\"cqg.rtd\",,\"StudyData\", $L$2, \"FG\", \"\", \"Time\", $K$2,$A72, $P$2, \"\", \"\",\"False\")","v":"2021-02-05"},{"$f":" RTD(\"cqg.rtd\",,\"StudyData\", $L$2, \"FG\", \"\", \"Time\", $K$2, $A72,$P$2,$O$2, \"\",\"False\")","v":44232},{"$f":" RTD(\"cqg.rtd\",,\"StudyData\", $L$2, \"FG\", \"\", \"Open\", $K$2, $A72, $P$2,$O$2,,$M$2,$N$2)","v":67.72},{"$f":" RTD(\"cqg.rtd\",,\"StudyData\", $L$2, \"FG\", \"\", \"High\", $K$2, $A72, $P$2,$O$2,,$M$2,$N$2)","v":67.72},{"$f":" RTD(\"cqg.rtd\",,\"StudyData\", $L$2, \"FG\", \"\", \"Low\", $K$2, $A72, $P$2,$O$2,,$M$2,$N$2)","v":66.41},{"$f":" RTD(\"cqg.rtd\",,\"StudyData\", $L$2, \"FG\", \"\", \"Close\", $K$2, $A72, $P$2,$O$2,,$M$2,$N$2)","v":67.17},"2021-02-05",44232,"02/05/21"]
[-71,{"$f":" RTD(\"cqg.rtd\",,\"StudyData\", $L$2, \"FG\", \"\", \"Time\", $K$2,$A73, $P$2, \"\", \"\",\"False\")","v":"2021-02-04"},{"$f":" RTD(\"cqg.rtd\",,\"StudyData\", $L$2, \"FG\", \"\", \"Time\", $K$2, $A73,$P$2,$O$2, \"\",\"False\")","v":44231},{"$f":" RTD(\"cqg.rtd\",,\"StudyData\", $L$2, \"FG\", \"\", \"Open\", $K$2, $A73, $P$2,$O$2,,$M$2,$N$2)","v":66.989999999999995},{"$f":" RTD(\"cqg.rtd\",,\"StudyData\", $L$2, \"FG\", \"\", \"High\", $K$2, $A73, $P$2,$O$2,,$M$2,$N$2)","v":67.08},{"$f":" RTD(\"cqg.rtd\",,\"StudyData\", $L$2, \"FG\", \"\", \"Low\", $K$2, $A73, $P$2,$O$2,,$M$2,$N$2)","v":66.12},{"$f":" RTD(\"cqg.rtd\",,\"StudyData\", $L$2, \"FG\", \"\", \"Close\", $K$2, $A73, $P$2,$O$2,,$M$2,$N$2)","v":67.08},"2021-02-04",44231,"02/04/21"]
[-72,{"$f":" RTD(\"cqg.rtd\",,\"StudyData\", $L$2, \"FG\", \"\", \"Time\", $K$2,$A74, $P$2, \"\", \"\",\"False\")","v":"2021-02-03"},{"$f":" RTD(\"cqg.rtd\",,\"StudyData\", $L$2, \"FG\", \"\", \"Time\", $K$2, $A74,$P$2,$O$2, \"\",\"False\")","v":44230},{"$f":" RTD(\"cqg.rtd\",,\"StudyData\", $L$2, \"FG\", \"\", \"Open\", $K$2, $A74, $P$2,$O$2,,$M$2,$N$2)","v":65.52},{"$f":" RTD(\"cqg.rtd\",,\"StudyData\", $L$2, \"FG\", \"\", \"High\", $K$2, $A74, $P$2,$O$2,,$M$2,$N$2)","v":66.08},{"$f":" RTD(\"cqg.rtd\",,\"StudyData\", $L$2, \"FG\", \"\", \"Low\", $K$2, $A74, $P$2,$O$2,,$M$2,$N$2)","v":65.14},{"$f":" RTD(\"cqg.rtd\",,\"StudyData\", $L$2, \"FG\", \"\", \"Close\", $K$2, $A74, $P$2,$O$2,,$M$2,$N$2)","v":65.8},"2021-02-03",44230,"02/03/21"]
[-73,{"$f":" RTD(\"cqg.rtd\",,\"StudyData\", $L$2, \"FG\", \"\", \"Time\", $K$2,$A75, $P$2, \"\", \"\",\"False\")","v":"2021-02-02"},{"$f":" RTD(\"cqg.rtd\",,\"StudyData\", $L$2, \"FG\", \"\", \"Time\", $K$2, $A75,$P$2,$O$2, \"\",\"False\")","v":44229},{"$f":" RTD(\"cqg.rtd\",,\"StudyData\", $L$2, \"FG\", \"\", \"Open\", $K$2, $A75, $P$2,$O$2,,$M$2,$N$2)","v":64.12},{"$f":" RTD(\"cqg.rtd\",,\"StudyData\", $L$2, \"FG\", \"\", \"High\", $K$2, $A75, $P$2,$O$2,,$M$2,$N$2)","v":64.12},{"$f":" RTD(\"cqg.rtd\",,\"StudyData\", $L$2, \"FG\", \"\", \"Low\", $K$2, $A75, $P$2,$O$2,,$M$2,$N$2)","v":64.12},{"$f":" RTD(\"cqg.rtd\",,\"StudyData\", $L$2, \"FG\", \"\", \"Close\", $K$2, $A75, $P$2,$O$2,,$M$2,$N$2)","v":64.12},"2021-02-02",44229,"02/02/21"]
[-74,{"$f":" RTD(\"cqg.rtd\",,\"StudyData\", $L$2, \"FG\", \"\", \"Time\", $K$2,$A76, $P$2, \"\", \"\",\"False\")","v":"2021-02-01"},{"$f":" RTD(\"cqg.rtd\",,\"StudyData\", $L$2, \"FG\", \"\", \"Time\", $K$2, $A76,$P$2,$O$2, \"\",\"False\")","v":44228},{"$f":" RTD(\"cqg.rtd\",,\"StudyData\", $L$2, \"FG\", \"\", \"Open\", $K$2, $A76, $P$2,$O$2,,$M$2,$N$2)","v":62.14},{"$f":" RTD(\"cqg.rtd\",,\"StudyData\", $L$2, \"FG\", \"\", \"High\", $K$2, $A76, $P$2,$O$2,,$M$2,$N$2)","v":64.25},{"$f":" RTD(\"cqg.rtd\",,\"StudyData\", $L$2, \"FG\", \"\", \"Low\", $K$2, $A76, $P$2,$O$2,,$M$2,$N$2)","v":61.81},{"$f":" RTD(\"cqg.rtd\",,\"StudyData\", $L$2, \"FG\", \"\", \"Close\", $K$2, $A76, $P$2,$O$2,,$M$2,$N$2)","v":64.12},"2021-02-01",44228,"02/01/21"]
[-75,{"$f":" RTD(\"cqg.rtd\",,\"StudyData\", $L$2, \"FG\", \"\", \"Time\", $K$2,$A77, $P$2, \"\", \"\",\"False\")","v":"2021-01-29"},{"$f":" RTD(\"cqg.rtd\",,\"StudyData\", $L$2, \"FG\", \"\", \"Time\", $K$2, $A77,$P$2,$O$2, \"\",\"False\")","v":44225},{"$f":" RTD(\"cqg.rtd\",,\"StudyData\", $L$2, \"FG\", \"\", \"Open\", $K$2, $A77, $P$2,$O$2,,$M$2,$N$2)","v":63},{"$f":" RTD(\"cqg.rtd\",,\"StudyData\", $L$2, \"FG\", \"\", \"High\", $K$2, $A77, $P$2,$O$2,,$M$2,$N$2)","v":63.62},{"$f":" RTD(\"cqg.rtd\",,\"StudyData\", $L$2, \"FG\", \"\", \"Low\", $K$2, $A77, $P$2,$O$2,,$M$2,$N$2)","v":61.15},{"$f":" RTD(\"cqg.rtd\",,\"StudyData\", $L$2, \"FG\", \"\", \"Close\", $K$2, $A77, $P$2,$O$2,,$M$2,$N$2)","v":61.72},"2021-01-29",44225,"01/29/21"]
[-76,{"$f":" RTD(\"cqg.rtd\",,\"StudyData\", $L$2, \"FG\", \"\", \"Time\", $K$2,$A78, $P$2, \"\", \"\",\"False\")","v":"2021-01-28"},{"$f":" RTD(\"cqg.rtd\",,\"StudyData\", $L$2, \"FG\", \"\", \"Time\", $K$2, $A78,$P$2,$O$2, \"\",\"False\")","v":44224},{"$f":" RTD(\"cqg.rtd\",,\"StudyData\", $L$2, \"FG\", \"\", \"Open\", $K$2, $A78, $P$2,$O$2,,$M$2,$N$2)","v":63.94},{"$f":" RTD(\"cqg.rtd\",,\"StudyData\", $L$2, \"FG\", \"\", \"High\", $K$2, $A78, $P$2,$O$2,,$M$2,$N$2)","v":64.28},{"$f":" RTD(\"cqg.rtd\",,\"StudyData\", $L$2, \"FG\", \"\", \"Low\", $K$2, $A78, $P$2,$O$2,,$M$2,$N$2)","v":62.5},{"$f":" RTD(\"cqg.rtd\",,\"StudyData\", $L$2, \"FG\", \"\", \"Close\", $K$2, $A78, $P$2,$O$2,,$M$2,$N$2)","v":63.43},"2021-01-28",44224,"01/28/21"]
[-77,{"$f":" RTD(\"cqg.rtd\",,\"StudyData\", $L$2, \"FG\", \"\", \"Time\", $K$2,$A79, $P$2, \"\", \"\",\"False\")","v":"2021-01-27"},{"$f":" RTD(\"cqg.rtd\",,\"StudyData\", $L$2, \"FG\", \"\", \"Time\", $K$2, $A79,$P$2,$O$2, \"\",\"False\")","v":44223},{"$f":" RTD(\"cqg.rtd\",,\"StudyData\", $L$2, \"FG\", \"\", \"Open\", $K$2, $A79, $P$2,$O$2,,$M$2,$N$2)","v":64.08},{"$f":" RTD(\"cqg.rtd\",,\"StudyData\", $L$2, \"FG\", \"\", \"High\", $K$2, $A79, $P$2,$O$2,,$M$2,$N$2)","v":65.069999999999993},{"$f":" RTD(\"cqg.rtd\",,\"StudyData\", $L$2, \"FG\", \"\", \"Low\", $K$2, $A79, $P$2,$O$2,,$M$2,$N$2)","v":62.5},{"$f":" RTD(\"cqg.rtd\",,\"StudyData\", $L$2, \"FG\", \"\", \"Close\", $K$2, $A79, $P$2,$O$2,,$M$2,$N$2)","v":63.14},"2021-01-27",44223,"01/27/21"]
[-78,{"$f":" RTD(\"cqg.rtd\",,\"StudyData\", $L$2, \"FG\", \"\", \"Time\", $K$2,$A80, $P$2, \"\", \"\",\"False\")","v":"2021-01-26"},{"$f":" RTD(\"cqg.rtd\",,\"StudyData\", $L$2, \"FG\", \"\", \"Time\", $K$2, $A80,$P$2,$O$2, \"\",\"False\")","v":44222},{"$f":" RTD(\"cqg.rtd\",,\"StudyData\", $L$2, \"FG\", \"\", \"Open\", $K$2, $A80, $P$2,$O$2,,$M$2,$N$2)","v":65.489999999999995},{"$f":" RTD(\"cqg.rtd\",,\"StudyData\", $L$2, \"FG\", \"\", \"High\", $K$2, $A80, $P$2,$O$2,,$M$2,$N$2)","v":66.180000000000007},{"$f":" RTD(\"cqg.rtd\",,\"StudyData\", $L$2, \"FG\", \"\", \"Low\", $K$2, $A80, $P$2,$O$2,,$M$2,$N$2)","v":65.040000000000006},{"$f":" RTD(\"cqg.rtd\",,\"StudyData\", $L$2, \"FG\", \"\", \"Close\", $K$2, $A80, $P$2,$O$2,,$M$2,$N$2)","v":66.13},"2021-01-26",44222,"01/26/21"]
[-79,{"$f":" RTD(\"cqg.rtd\",,\"StudyData\", $L$2, \"FG\", \"\", \"Time\", $K$2,$A81, $P$2, \"\", \"\",\"False\")","v":"2021-01-25"},{"$f":" RTD(\"cqg.rtd\",,\"StudyData\", $L$2, \"FG\", \"\", \"Time\", $K$2, $A81,$P$2,$O$2, \"\",\"False\")","v":44221},{"$f":" RTD(\"cqg.rtd\",,\"StudyData\", $L$2, \"FG\", \"\", \"Open\", $K$2, $A81, $P$2,$O$2,,$M$2,$N$2)","v":65.900000000000006},{"$f":" RTD(\"cqg.rtd\",,\"StudyData\", $L$2, \"FG\", \"\", \"High\", $K$2, $A81, $P$2,$O$2,,$M$2,$N$2)","v":66.55},{"$f":" RTD(\"cqg.rtd\",,\"StudyData\", $L$2, \"FG\", \"\", \"Low\", $K$2, $A81, $P$2,$O$2,,$M$2,$N$2)","v":63.05},{"$f":" RTD(\"cqg.rtd\",,\"StudyData\", $L$2, \"FG\", \"\", \"Close\", $K$2, $A81, $P$2,$O$2,,$M$2,$N$2)","v":64.7},"2021-01-25",44221,"01/25/21"]
[-80,{"$f":" RTD(\"cqg.rtd\",,\"StudyData\", $L$2, \"FG\", \"\", \"Time\", $K$2,$A82, $P$2, \"\", \"\",\"False\")","v":"2021-01-22"},{"$f":" RTD(\"cqg.rtd\",,\"StudyData\", $L$2, \"FG\", \"\", \"Time\", $K$2, $A82,$P$2,$O$2, \"\",\"False\")","v":44218},{"$f":" RTD(\"cqg.rtd\",,\"StudyData\", $L$2, \"FG\", \"\", \"Open\", $K$2, $A82, $P$2,$O$2,,$M$2,$N$2)","v":64.900000000000006},{"$f":" RTD(\"cqg.rtd\",,\"StudyData\", $L$2, \"FG\", \"\", \"High\", $K$2, $A82, $P$2,$O$2,,$M$2,$N$2)","v":65.64},{"$f":" RTD(\"cqg.rtd\",,\"StudyData\", $L$2, \"FG\", \"\", \"Low\", $K$2, $A82, $P$2,$O$2,,$M$2,$N$2)","v":64.36},{"$f":" RTD(\"cqg.rtd\",,\"StudyData\", $L$2, \"FG\", \"\", \"Close\", $K$2, $A82, $P$2,$O$2,,$M$2,$N$2)","v":65.55},"2021-01-22",44218,"01/22/21"]
[-81,{"$f":" RTD(\"cqg.rtd\",,\"StudyData\", $L$2, \"FG\", \"\", \"Time\", $K$2,$A83, $P$2, \"\", \"\",\"False\")","v":"2021-01-21"},{"$f":" RTD(\"cqg.rtd\",,\"StudyData\", $L$2, \"FG\", \"\", \"Time\", $K$2, $A83,$P$2,$O$2, \"\",\"False\")","v":44217},{"$f":" RTD(\"cqg.rtd\",,\"StudyData\", $L$2, \"FG\", \"\", \"Open\", $K$2, $A83, $P$2,$O$2,,$M$2,$N$2)","v":65.23},{"$f":" RTD(\"cqg.rtd\",,\"StudyData\", $L$2, \"FG\", \"\", \"High\", $K$2, $A83, $P$2,$O$2,,$M$2,$N$2)","v":65.930000000000007},{"$f":" RTD(\"cqg.rtd\",,\"StudyData\", $L$2, \"FG\", \"\", \"Low\", $K$2, $A83, $P$2,$O$2,,$M$2,$N$2)","v":64.39},{"$f":" RTD(\"cqg.rtd\",,\"StudyData\", $L$2, \"FG\", \"\", \"Close\", $K$2, $A83, $P$2,$O$2,,$M$2,$N$2)","v":65.790000000000006},"2021-01-21",44217,"01/21/21"]
[-82,{"$f":" RTD(\"cqg.rtd\",,\"StudyData\", $L$2, \"FG\", \"\", \"Time\", $K$2,$A84, $P$2, \"\", \"\",\"False\")","v":"2021-01-20"},{"$f":" RTD(\"cqg.rtd\",,\"StudyData\", $L$2, \"FG\", \"\", \"Time\", $K$2, $A84,$P$2,$O$2, \"\",\"False\")","v":44216},{"$f":" RTD(\"cqg.rtd\",,\"StudyData\", $L$2, \"FG\", \"\", \"Open\", $K$2, $A84, $P$2,$O$2,,$M$2,$N$2)","v":65.290000000000006},{"$f":" RTD(\"cqg.rtd\",,\"StudyData\", $L$2, \"FG\", \"\", \"High\", $K$2, $A84, $P$2,$O$2,,$M$2,$N$2)","v":65.53},{"$f":" RTD(\"cqg.rtd\",,\"StudyData\", $L$2, \"FG\", \"\", \"Low\", $K$2, $A84, $P$2,$O$2,,$M$2,$N$2)","v":63.8},{"$f":" RTD(\"cqg.rtd\",,\"StudyData\", $L$2, \"FG\", \"\", \"Close\", $K$2, $A84, $P$2,$O$2,,$M$2,$N$2)","v":65.23},"2021-01-20",44216,"01/20/21"]
[-83,{"$f":" RTD(\"cqg.rtd\",,\"StudyData\", $L$2, \"FG\", \"\", \"Time\", $K$2,$A85, $P$2, \"\", \"\",\"False\")","v":"2021-01-19"},{"$f":" RTD(\"cqg.rtd\",,\"StudyData\", $L$2, \"FG\", \"\", \"Time\", $K$2, $A85,$P$2,$O$2, \"\",\"False\")","v":44215},{"$f":" RTD(\"cqg.rtd\",,\"StudyData\", $L$2, \"FG\", \"\", \"Open\", $K$2, $A85, $P$2,$O$2,,$M$2,$N$2)","v":63},{"$f":" RTD(\"cqg.rtd\",,\"StudyData\", $L$2, \"FG\", \"\", \"High\", $K$2, $A85, $P$2,$O$2,,$M$2,$N$2)","v":63.96},{"$f":" RTD(\"cqg.rtd\",,\"StudyData\", $L$2, \"FG\", \"\", \"Low\", $K$2, $A85, $P$2,$O$2,,$M$2,$N$2)","v":62.5},{"$f":" RTD(\"cqg.rtd\",,\"StudyData\", $L$2, \"FG\", \"\", \"Close\", $K$2, $A85, $P$2,$O$2,,$M$2,$N$2)","v":63.95},"2021-01-19",44215,"01/19/21"]
[-84,{"$f":" RTD(\"cqg.rtd\",,\"StudyData\", $L$2, \"FG\", \"\", \"Time\", $K$2,$A86, $P$2, \"\", \"\",\"False\")","v":"2021-01-15"},{"$f":" RTD(\"cqg.rtd\",,\"StudyData\", $L$2, \"FG\", \"\", \"Time\", $K$2, $A86,$P$2,$O$2, \"\",\"False\")","v":44211},{"$f":" RTD(\"cqg.rtd\",,\"StudyData\", $L$2, \"FG\", \"\", \"Open\", $K$2, $A86, $P$2,$O$2,,$M$2,$N$2)","v":63.6},{"$f":" RTD(\"cqg.rtd\",,\"StudyData\", $L$2, \"FG\", \"\", \"High\", $K$2, $A86, $P$2,$O$2,,$M$2,$N$2)","v":63.85},{"$f":" RTD(\"cqg.rtd\",,\"StudyData\", $L$2, \"FG\", \"\", \"Low\", $K$2, $A86, $P$2,$O$2,,$M$2,$N$2)","v":60.7},{"$f":" RTD(\"cqg.rtd\",,\"StudyData\", $L$2, \"FG\", \"\", \"Close\", $K$2, $A86, $P$2,$O$2,,$M$2,$N$2)","v":61.55},"2021-01-15",44211,"01/15/21"]
[-85,{"$f":" RTD(\"cqg.rtd\",,\"StudyData\", $L$2, \"FG\", \"\", \"Time\", $K$2,$A87, $P$2, \"\", \"\",\"False\")","v":"2021-01-14"},{"$f":" RTD(\"cqg.rtd\",,\"StudyData\", $L$2, \"FG\", \"\", \"Time\", $K$2, $A87,$P$2,$O$2, \"\",\"False\")","v":44210},{"$f":" RTD(\"cqg.rtd\",,\"StudyData\", $L$2, \"FG\", \"\", \"Open\", $K$2, $A87, $P$2,$O$2,,$M$2,$N$2)","v":63},{"$f":" RTD(\"cqg.rtd\",,\"StudyData\", $L$2, \"FG\", \"\", \"High\", $K$2, $A87, $P$2,$O$2,,$M$2,$N$2)","v":64.03},{"$f":" RTD(\"cqg.rtd\",,\"StudyData\", $L$2, \"FG\", \"\", \"Low\", $K$2, $A87, $P$2,$O$2,,$M$2,$N$2)","v":62.7},{"$f":" RTD(\"cqg.rtd\",,\"StudyData\", $L$2, \"FG\", \"\", \"Close\", $K$2, $A87, $P$2,$O$2,,$M$2,$N$2)","v":63.47},"2021-01-14",44210,"01/14/21"]
[-86,{"$f":" RTD(\"cqg.rtd\",,\"StudyData\", $L$2, \"FG\", \"\", \"Time\", $K$2,$A88, $P$2, \"\", \"\",\"False\")","v":"2021-01-13"},{"$f":" RTD(\"cqg.rtd\",,\"StudyData\", $L$2, \"FG\", \"\", \"Time\", $K$2, $A88,$P$2,$O$2, \"\",\"False\")","v":44209},{"$f":" RTD(\"cqg.rtd\",,\"StudyData\", $L$2, \"FG\", \"\", \"Open\", $K$2, $A88, $P$2,$O$2,,$M$2,$N$2)","v":64},{"$f":" RTD(\"cqg.rtd\",,\"StudyData\", $L$2, \"FG\", \"\", \"High\", $K$2, $A88, $P$2,$O$2,,$M$2,$N$2)","v":64},{"$f":" RTD(\"cqg.rtd\",,\"StudyData\", $L$2, \"FG\", \"\", \"Low\", $K$2, $A88, $P$2,$O$2,,$M$2,$N$2)","v":62.16},{"$f":" RTD(\"cqg.rtd\",,\"StudyData\", $L$2, \"FG\", \"\", \"Close\", $K$2, $A88, $P$2,$O$2,,$M$2,$N$2)","v":62.43},"2021-01-13",44209,"01/13/21"]
[-87,{"$f":" RTD(\"cqg.rtd\",,\"StudyData\", $L$2, \"FG\", \"\", \"Time\", $K$2,$A89, $P$2, \"\", \"\",\"False\")","v":"2021-01-12"},{"$f":" RTD(\"cqg.rtd\",,\"StudyData\", $L$2, \"FG\", \"\", \"Time\", $K$2, $A89,$P$2,$O$2, \"\",\"False\")","v":44208},{"$f":" RTD(\"cqg.rtd\",,\"StudyData\", $L$2, \"FG\", \"\", \"Open\", $K$2, $A89, $P$2,$O$2,,$M$2,$N$2)","v":61.74},{"$f":" RTD(\"cqg.rtd\",,\"StudyData\", $L$2, \"FG\", \"\", \"High\", $K$2, $A89, $P$2,$O$2,,$M$2,$N$2)","v":62.74},{"$f":" RTD(\"cqg.rtd\",,\"StudyData\", $L$2, \"FG\", \"\", \"Low\", $K$2, $A89, $P$2,$O$2,,$M$2,$N$2)","v":61.72},{"$f":" RTD(\"cqg.rtd\",,\"StudyData\", $L$2, \"FG\", \"\", \"Close\", $K$2, $A89, $P$2,$O$2,,$M$2,$N$2)","v":62.69},"2021-01-12",44208,"01/12/21"]
[-88,{"$f":" RTD(\"cqg.rtd\",,\"StudyData\", $L$2, \"FG\", \"\", \"Time\", $K$2,$A90, $P$2, \"\", \"\",\"False\")","v":"2021-01-11"},{"$f":" RTD(\"cqg.rtd\",,\"StudyData\", $L$2, \"FG\", \"\", \"Time\", $K$2, $A90,$P$2,$O$2, \"\",\"False\")","v":44207},{"$f":" RTD(\"cqg.rtd\",,\"StudyData\", $L$2, \"FG\", \"\", \"Open\", $K$2, $A90, $P$2,$O$2,,$M$2,$N$2)","v":59.79},{"$f":" RTD(\"cqg.rtd\",,\"StudyData\", $L$2, \"FG\", \"\", \"High\", $K$2, $A90, $P$2,$O$2,,$M$2,$N$2)","v":60.81},{"$f":" RTD(\"cqg.rtd\",,\"StudyData\", $L$2, \"FG\", \"\", \"Low\", $K$2, $A90, $P$2,$O$2,,$M$2,$N$2)","v":59.11},{"$f":" RTD(\"cqg.rtd\",,\"StudyData\", $L$2, \"FG\", \"\", \"Close\", $K$2, $A90, $P$2,$O$2,,$M$2,$N$2)","v":60.61},"2021-01-11",44207,"01/11/21"]
[-89,{"$f":" RTD(\"cqg.rtd\",,\"StudyData\", $L$2, \"FG\", \"\", \"Time\", $K$2,$A91, $P$2, \"\", \"\",\"False\")","v":"2021-01-08"},{"$f":" RTD(\"cqg.rtd\",,\"StudyData\", $L$2, \"FG\", \"\", \"Time\", $K$2, $A91,$P$2,$O$2, \"\",\"False\")","v":44204},{"$f":" RTD(\"cqg.rtd\",,\"StudyData\", $L$2, \"FG\", \"\", \"Open\", $K$2, $A91, $P$2,$O$2,,$M$2,$N$2)","v":61.43},{"$f":" RTD(\"cqg.rtd\",,\"StudyData\", $L$2, \"FG\", \"\", \"High\", $K$2, $A91, $P$2,$O$2,,$M$2,$N$2)","v":61.43},{"$f":" RTD(\"cqg.rtd\",,\"StudyData\", $L$2, \"FG\", \"\", \"Low\", $K$2, $A91, $P$2,$O$2,,$M$2,$N$2)","v":59.25},{"$f":" RTD(\"cqg.rtd\",,\"StudyData\", $L$2, \"FG\", \"\", \"Close\", $K$2, $A91, $P$2,$O$2,,$M$2,$N$2)","v":60.3},"2021-01-08",44204,"01/08/21"]
[-90,{"$f":" RTD(\"cqg.rtd\",,\"StudyData\", $L$2, \"FG\", \"\", \"Time\", $K$2,$A92, $P$2, \"\", \"\",\"False\")","v":"2021-01-07"},{"$f":" RTD(\"cqg.rtd\",,\"StudyData\", $L$2, \"FG\", \"\", \"Time\", $K$2, $A92,$P$2,$O$2, \"\",\"False\")","v":44203},{"$f":" RTD(\"cqg.rtd\",,\"StudyData\", $L$2, \"FG\", \"\", \"Open\", $K$2, $A92, $P$2,$O$2,,$M$2,$N$2)","v":59},{"$f":" RTD(\"cqg.rtd\",,\"StudyData\", $L$2, \"FG\", \"\", \"High\", $K$2, $A92, $P$2,$O$2,,$M$2,$N$2)","v":60.12},{"$f":" RTD(\"cqg.rtd\",,\"StudyData\", $L$2, \"FG\", \"\", \"Low\", $K$2, $A92, $P$2,$O$2,,$M$2,$N$2)","v":58.11},{"$f":" RTD(\"cqg.rtd\",,\"StudyData\", $L$2, \"FG\", \"\", \"Close\", $K$2, $A92, $P$2,$O$2,,$M$2,$N$2)","v":60.04},"2021-01-07",44203,"01/07/21"]
[-91,{"$f":" RTD(\"cqg.rtd\",,\"StudyData\", $L$2, \"FG\", \"\", \"Time\", $K$2,$A93, $P$2, \"\", \"\",\"False\")","v":"2021-01-06"},{"$f":" RTD(\"cqg.rtd\",,\"StudyData\", $L$2, \"FG\", \"\", \"Time\", $K$2, $A93,$P$2,$O$2, \"\",\"False\")","v":44202},{"$f":" RTD(\"cqg.rtd\",,\"StudyData\", $L$2, \"FG\", \"\", \"Open\", $K$2, $A93, $P$2,$O$2,,$M$2,$N$2)","v":57.08},{"$f":" RTD(\"cqg.rtd\",,\"StudyData\", $L$2, \"FG\", \"\", \"High\", $K$2, $A93, $P$2,$O$2,,$M$2,$N$2)","v":57.78},{"$f":" RTD(\"cqg.rtd\",,\"StudyData\", $L$2, \"FG\", \"\", \"Low\", $K$2, $A93, $P$2,$O$2,,$M$2,$N$2)","v":56.24},{"$f":" RTD(\"cqg.rtd\",,\"StudyData\", $L$2, \"FG\", \"\", \"Close\", $K$2, $A93, $P$2,$O$2,,$M$2,$N$2)","v":56.77},"2021-01-06",44202,"01/06/21"]
[-92,{"$f":" RTD(\"cqg.rtd\",,\"StudyData\", $L$2, \"FG\", \"\", \"Time\", $K$2,$A94, $P$2, \"\", \"\",\"False\")","v":"2021-01-05"},{"$f":" RTD(\"cqg.rtd\",,\"StudyData\", $L$2, \"FG\", \"\", \"Time\", $K$2, $A94,$P$2,$O$2, \"\",\"False\")","v":44201},{"$f":" RTD(\"cqg.rtd\",,\"StudyData\", $L$2, \"FG\", \"\", \"Open\", $K$2, $A94, $P$2,$O$2,,$M$2,$N$2)","v":54.63},{"$f":" RTD(\"cqg.rtd\",,\"StudyData\", $L$2, \"FG\", \"\", \"High\", $K$2, $A94, $P$2,$O$2,,$M$2,$N$2)","v":55.74},{"$f":" RTD(\"cqg.rtd\",,\"StudyData\", $L$2, \"FG\", \"\", \"Low\", $K$2, $A94, $P$2,$O$2,,$M$2,$N$2)","v":54.35},{"$f":" RTD(\"cqg.rtd\",,\"StudyData\", $L$2, \"FG\", \"\", \"Close\", $K$2, $A94, $P$2,$O$2,,$M$2,$N$2)","v":55.65},"2021-01-05",44201,"01/05/21"]
[-93,{"$f":" RTD(\"cqg.rtd\",,\"StudyData\", $L$2, \"FG\", \"\", \"Time\", $K$2,$A95, $P$2, \"\", \"\",\"False\")","v":"2021-01-04"},{"$f":" RTD(\"cqg.rtd\",,\"StudyData\", $L$2, \"FG\", \"\", \"Time\", $K$2, $A95,$P$2,$O$2, \"\",\"False\")","v":44200},{"$f":" RTD(\"cqg.rtd\",,\"StudyData\", $L$2, \"FG\", \"\", \"Open\", $K$2, $A95, $P$2,$O$2,,$M$2,$N$2)","v":55.6},{"$f":" RTD(\"cqg.rtd\",,\"StudyData\", $L$2, \"FG\", \"\", \"High\", $K$2, $A95, $P$2,$O$2,,$M$2,$N$2)","v":55.78},{"$f":" RTD(\"cqg.rtd\",,\"StudyData\", $L$2, \"FG\", \"\", \"Low\", $K$2, $A95, $P$2,$O$2,,$M$2,$N$2)","v":53.8},{"$f":" RTD(\"cqg.rtd\",,\"StudyData\", $L$2, \"FG\", \"\", \"Close\", $K$2, $A95, $P$2,$O$2,,$M$2,$N$2)","v":54.39},"2021-01-04",44200,"01/04/21"]
[-94,{"$f":" RTD(\"cqg.rtd\",,\"StudyData\", $L$2, \"FG\", \"\", \"Time\", $K$2,$A96, $P$2, \"\", \"\",\"False\")","v":"2020-12-31"},{"$f":" RTD(\"cqg.rtd\",,\"StudyData\", $L$2, \"FG\", \"\", \"Time\", $K$2, $A96,$P$2,$O$2, \"\",\"False\")","v":44196},{"$f":" RTD(\"cqg.rtd\",,\"StudyData\", $L$2, \"FG\", \"\", \"Open\", $K$2, $A96, $P$2,$O$2,,$M$2,$N$2)","v":55.47},{"$f":" RTD(\"cqg.rtd\",,\"StudyData\", $L$2, \"FG\", \"\", \"High\", $K$2, $A96, $P$2,$O$2,,$M$2,$N$2)","v":55.47},{"$f":" RTD(\"cqg.rtd\",,\"StudyData\", $L$2, \"FG\", \"\", \"Low\", $K$2, $A96, $P$2,$O$2,,$M$2,$N$2)","v":54.67},{"$f":" RTD(\"cqg.rtd\",,\"StudyData\", $L$2, \"FG\", \"\", \"Close\", $K$2, $A96, $P$2,$O$2,,$M$2,$N$2)","v":54.86},"2020-12-31",44196,"12/31/20"]
[-95,{"$f":" RTD(\"cqg.rtd\",,\"StudyData\", $L$2, \"FG\", \"\", \"Time\", $K$2,$A97, $P$2, \"\", \"\",\"False\")","v":"2020-12-30"},{"$f":" RTD(\"cqg.rtd\",,\"StudyData\", $L$2, \"FG\", \"\", \"Time\", $K$2, $A97,$P$2,$O$2, \"\",\"False\")","v":44195},{"$f":" RTD(\"cqg.rtd\",,\"StudyData\", $L$2, \"FG\", \"\", \"Open\", $K$2, $A97, $P$2,$O$2,,$M$2,$N$2)","v":54.25},{"$f":" RTD(\"cqg.rtd\",,\"StudyData\", $L$2, \"FG\", \"\", \"High\", $K$2, $A97, $P$2,$O$2,,$M$2,$N$2)","v":55.25},{"$f":" RTD(\"cqg.rtd\",,\"StudyData\", $L$2, \"FG\", \"\", \"Low\", $K$2, $A97, $P$2,$O$2,,$M$2,$N$2)","v":54.25},{"$f":" RTD(\"cqg.rtd\",,\"StudyData\", $L$2, \"FG\", \"\", \"Close\", $K$2, $A97, $P$2,$O$2,,$M$2,$N$2)","v":55.25},"2020-12-30",44195,"12/30/20"]
[-96,{"$f":" RTD(\"cqg.rtd\",,\"StudyData\", $L$2, \"FG\", \"\", \"Time\", $K$2,$A98, $P$2, \"\", \"\",\"False\")","v":"2020-12-29"},{"$f":" RTD(\"cqg.rtd\",,\"StudyData\", $L$2, \"FG\", \"\", \"Time\", $K$2, $A98,$P$2,$O$2, \"\",\"False\")","v":44194},{"$f":" RTD(\"cqg.rtd\",,\"StudyData\", $L$2, \"FG\", \"\", \"Open\", $K$2, $A98, $P$2,$O$2,,$M$2,$N$2)","v":55.29},{"$f":" RTD(\"cqg.rtd\",,\"StudyData\", $L$2, \"FG\", \"\", \"High\", $K$2, $A98, $P$2,$O$2,,$M$2,$N$2)","v":55.29},{"$f":" RTD(\"cqg.rtd\",,\"StudyData\", $L$2, \"FG\", \"\", \"Low\", $K$2, $A98, $P$2,$O$2,,$M$2,$N$2)","v":53.57},{"$f":" RTD(\"cqg.rtd\",,\"StudyData\", $L$2, \"FG\", \"\", \"Close\", $K$2, $A98, $P$2,$O$2,,$M$2,$N$2)","v":53.95},"2020-12-29",44194,"12/29/20"]
[-97,{"$f":" RTD(\"cqg.rtd\",,\"StudyData\", $L$2, \"FG\", \"\", \"Time\", $K$2,$A99, $P$2, \"\", \"\",\"False\")","v":"2020-12-28"},{"$f":" RTD(\"cqg.rtd\",,\"StudyData\", $L$2, \"FG\", \"\", \"Time\", $K$2, $A99,$P$2,$O$2, \"\",\"False\")","v":44193},{"$f":" RTD(\"cqg.rtd\",,\"StudyData\", $L$2, \"FG\", \"\", \"Open\", $K$2, $A99, $P$2,$O$2,,$M$2,$N$2)","v":56.12},{"$f":" RTD(\"cqg.rtd\",,\"StudyData\", $L$2, \"FG\", \"\", \"High\", $K$2, $A99, $P$2,$O$2,,$M$2,$N$2)","v":56.16},{"$f":" RTD(\"cqg.rtd\",,\"StudyData\", $L$2, \"FG\", \"\", \"Low\", $K$2, $A99, $P$2,$O$2,,$M$2,$N$2)","v":54.7},{"$f":" RTD(\"cqg.rtd\",,\"StudyData\", $L$2, \"FG\", \"\", \"Close\", $K$2, $A99, $P$2,$O$2,,$M$2,$N$2)","v":54.72},"2020-12-28",44193,"12/28/20"]
[-98,{"$f":" RTD(\"cqg.rtd\",,\"StudyData\", $L$2, \"FG\", \"\", \"Time\", $K$2,$A100, $P$2, \"\", \"\",\"False\")","v":"2020-12-24"},{"$f":" RTD(\"cqg.rtd\",,\"StudyData\", $L$2, \"FG\", \"\", \"Time\", $K$2, $A100,$P$2,$O$2, \"\",\"False\")","v":44189},{"$f":" RTD(\"cqg.rtd\",,\"StudyData\", $L$2, \"FG\", \"\", \"Open\", $K$2, $A100, $P$2,$O$2,,$M$2,$N$2)","v":55.51},{"$f":" RTD(\"cqg.rtd\",,\"StudyData\", $L$2, \"FG\", \"\", \"High\", $K$2, $A100, $P$2,$O$2,,$M$2,$N$2)","v":55.51},{"$f":" RTD(\"cqg.rtd\",,\"StudyData\", $L$2, \"FG\", \"\", \"Low\", $K$2, $A100, $P$2,$O$2,,$M$2,$N$2)","v":54.7},{"$f":" RTD(\"cqg.rtd\",,\"StudyData\", $L$2, \"FG\", \"\", \"Close\", $K$2, $A100, $P$2,$O$2,,$M$2,$N$2)","v":54.95},"2020-12-24",44189,"12/24/20"]
[-99,{"$f":" RTD(\"cqg.rtd\",,\"StudyData\", $L$2, \"FG\", \"\", \"Time\", $K$2,$A101, $P$2, \"\", \"\",\"False\")","v":"2020-12-23"},{"$f":" RTD(\"cqg.rtd\",,\"StudyData\", $L$2, \"FG\", \"\", \"Time\", $K$2, $A101,$P$2,$O$2, \"\",\"False\")","v":44188},{"$f":" RTD(\"cqg.rtd\",,\"StudyData\", $L$2, \"FG\", \"\", \"Open\", $K$2, $A101, $P$2,$O$2,,$M$2,$N$2)","v":55.67},{"$f":" RTD(\"cqg.rtd\",,\"StudyData\", $L$2, \"FG\", \"\", \"High\", $K$2, $A101, $P$2,$O$2,,$M$2,$N$2)","v":55.89},{"$f":" RTD(\"cqg.rtd\",,\"StudyData\", $L$2, \"FG\", \"\", \"Low\", $K$2, $A101, $P$2,$O$2,,$M$2,$N$2)","v":54.99},{"$f":" RTD(\"cqg.rtd\",,\"StudyData\", $L$2, \"FG\", \"\", \"Close\", $K$2, $A101, $P$2,$O$2,,$M$2,$N$2)","v":55.42},"2020-12-23",44188,"12/23/20"]
[-100,{"$f":" RTD(\"cqg.rtd\",,\"StudyData\", $L$2, \"FG\", \"\", \"Time\", $K$2,$A102, $P$2, \"\", \"\",\"False\")","v":"2020-12-22"},{"$f":" RTD(\"cqg.rtd\",,\"StudyData\", $L$2, \"FG\", \"\", \"Time\", $K$2, $A102,$P$2,$O$2, \"\",\"False\")","v":44187},{"$f":" RTD(\"cqg.rtd\",,\"StudyData\", $L$2, \"FG\", \"\", \"Open\", $K$2, $A102, $P$2,$O$2,,$M$2,$N$2)","v":54.66},{"$f":" RTD(\"cqg.rtd\",,\"StudyData\", $L$2, \"FG\", \"\", \"High\", $K$2, $A102, $P$2,$O$2,,$M$2,$N$2)","v":54.87},{"$f":" RTD(\"cqg.rtd\",,\"StudyData\", $L$2, \"FG\", \"\", \"Low\", $K$2, $A102, $P$2,$O$2,,$M$2,$N$2)","v":53.7},{"$f":" RTD(\"cqg.rtd\",,\"StudyData\", $L$2, \"FG\", \"\", \"Close\", $K$2, $A102, $P$2,$O$2,,$M$2,$N$2)","v":54.87},"2020-12-22",44187,"12/22/20"]
[-101,{"$f":" RTD(\"cqg.rtd\",,\"StudyData\", $L$2, \"FG\", \"\", \"Time\", $K$2,$A103, $P$2, \"\", \"\",\"False\")","v":"2020-12-21"},{"$f":" RTD(\"cqg.rtd\",,\"StudyData\", $L$2, \"FG\", \"\", \"Time\", $K$2, $A103,$P$2,$O$2, \"\",\"False\")","v":44186},{"$f":" RTD(\"cqg.rtd\",,\"StudyData\", $L$2, \"FG\", \"\", \"Open\", $K$2, $A103, $P$2,$O$2,,$M$2,$N$2)","v":53.78},{"$f":" RTD(\"cqg.rtd\",,\"StudyData\", $L$2, \"FG\", \"\", \"High\", $K$2, $A103, $P$2,$O$2,,$M$2,$N$2)","v":53.78},{"$f":" RTD(\"cqg.rtd\",,\"StudyData\", $L$2, \"FG\", \"\", \"Low\", $K$2, $A103, $P$2,$O$2,,$M$2,$N$2)","v":52.24},{"$f":" RTD(\"cqg.rtd\",,\"StudyData\", $L$2, \"FG\", \"\", \"Close\", $K$2, $A103, $P$2,$O$2,,$M$2,$N$2)","v":53.5},"2020-12-21",44186,"12/21/20"]
[-102,{"$f":" RTD(\"cqg.rtd\",,\"StudyData\", $L$2, \"FG\", \"\", \"Time\", $K$2,$A104, $P$2, \"\", \"\",\"False\")","v":"2020-12-18"},{"$f":" RTD(\"cqg.rtd\",,\"StudyData\", $L$2, \"FG\", \"\", \"Time\", $K$2, $A104,$P$2,$O$2, \"\",\"False\")","v":44183},{"$f":" RTD(\"cqg.rtd\",,\"StudyData\", $L$2, \"FG\", \"\", \"Open\", $K$2, $A104, $P$2,$O$2,,$M$2,$N$2)","v":53.42},{"$f":" RTD(\"cqg.rtd\",,\"StudyData\", $L$2, \"FG\", \"\", \"High\", $K$2, $A104, $P$2,$O$2,,$M$2,$N$2)","v":53.95},{"$f":" RTD(\"cqg.rtd\",,\"StudyData\", $L$2, \"FG\", \"\", \"Low\", $K$2, $A104, $P$2,$O$2,,$M$2,$N$2)","v":53.03},{"$f":" RTD(\"cqg.rtd\",,\"StudyData\", $L$2, \"FG\", \"\", \"Close\", $K$2, $A104, $P$2,$O$2,,$M$2,$N$2)","v":53.33},"2020-12-18",44183,"12/18/20"]
[-103,{"$f":" RTD(\"cqg.rtd\",,\"StudyData\", $L$2, \"FG\", \"\", \"Time\", $K$2,$A105, $P$2, \"\", \"\",\"False\")","v":"2020-12-17"},{"$f":" RTD(\"cqg.rtd\",,\"StudyData\", $L$2, \"FG\", \"\", \"Time\", $K$2, $A105,$P$2,$O$2, \"\",\"False\")","v":44182},{"$f":" RTD(\"cqg.rtd\",,\"StudyData\", $L$2, \"FG\", \"\", \"Open\", $K$2, $A105, $P$2,$O$2,,$M$2,$N$2)","v":53.3},{"$f":" RTD(\"cqg.rtd\",,\"StudyData\", $L$2, \"FG\", \"\", \"High\", $K$2, $A105, $P$2,$O$2,,$M$2,$N$2)","v":53.3},{"$f":" RTD(\"cqg.rtd\",,\"StudyData\", $L$2, \"FG\", \"\", \"Low\", $K$2, $A105, $P$2,$O$2,,$M$2,$N$2)","v":52.61},{"$f":" RTD(\"cqg.rtd\",,\"StudyData\", $L$2, \"FG\", \"\", \"Close\", $K$2, $A105, $P$2,$O$2,,$M$2,$N$2)","v":53.26},"2020-12-17",44182,"12/17/20"]
[-104,{"$f":" RTD(\"cqg.rtd\",,\"StudyData\", $L$2, \"FG\", \"\", \"Time\", $K$2,$A106, $P$2, \"\", \"\",\"False\")","v":"2020-12-16"},{"$f":" RTD(\"cqg.rtd\",,\"StudyData\", $L$2, \"FG\", \"\", \"Time\", $K$2, $A106,$P$2,$O$2, \"\",\"False\")","v":44181},{"$f":" RTD(\"cqg.rtd\",,\"StudyData\", $L$2, \"FG\", \"\", \"Open\", $K$2, $A106, $P$2,$O$2,,$M$2,$N$2)","v":53.22},{"$f":" RTD(\"cqg.rtd\",,\"StudyData\", $L$2, \"FG\", \"\", \"High\", $K$2, $A106, $P$2,$O$2,,$M$2,$N$2)","v":53.22},{"$f":" RTD(\"cqg.rtd\",,\"StudyData\", $L$2, \"FG\", \"\", \"Low\", $K$2, $A106, $P$2,$O$2,,$M$2,$N$2)","v":52.07},{"$f":" RTD(\"cqg.rtd\",,\"StudyData\", $L$2, \"FG\", \"\", \"Close\", $K$2, $A106, $P$2,$O$2,,$M$2,$N$2)","v":52.62},"2020-12-16",44181,"12/16/20"]
[-105,{"$f":" RTD(\"cqg.rtd\",,\"StudyData\", $L$2, \"FG\", \"\", \"Time\", $K$2,$A107, $P$2, \"\", \"\",\"False\")","v":"2020-12-15"},{"$f":" RTD(\"cqg.rtd\",,\"StudyData\", $L$2, \"FG\", \"\", \"Time\", $K$2, $A107,$P$2,$O$2, \"\",\"False\")","v":44180},{"$f":" RTD(\"cqg.rtd\",,\"StudyData\", $L$2, \"FG\", \"\", \"Open\", $K$2, $A107, $P$2,$O$2,,$M$2,$N$2)","v":51.88},{"$f":" RTD(\"cqg.rtd\",,\"StudyData\", $L$2, \"FG\", \"\", \"High\", $K$2, $A107, $P$2,$O$2,,$M$2,$N$2)","v":52.64},{"$f":" RTD(\"cqg.rtd\",,\"StudyData\", $L$2, \"FG\", \"\", \"Low\", $K$2, $A107, $P$2,$O$2,,$M$2,$N$2)","v":51.7},{"$f":" RTD(\"cqg.rtd\",,\"StudyData\", $L$2, \"FG\", \"\", \"Close\", $K$2, $A107, $P$2,$O$2,,$M$2,$N$2)","v":52.61},"2020-12-15",44180,"12/15/20"]
[-106,{"$f":" RTD(\"cqg.rtd\",,\"StudyData\", $L$2, \"FG\", \"\", \"Time\", $K$2,$A108, $P$2, \"\", \"\",\"False\")","v":"2020-12-14"},{"$f":" RTD(\"cqg.rtd\",,\"StudyData\", $L$2, \"FG\", \"\", \"Time\", $K$2, $A108,$P$2,$O$2, \"\",\"False\")","v":44179},{"$f":" RTD(\"cqg.rtd\",,\"StudyData\", $L$2, \"FG\", \"\", \"Open\", $K$2, $A108, $P$2,$O$2,,$M$2,$N$2)","v":51.94},{"$f":" RTD(\"cqg.rtd\",,\"StudyData\", $L$2, \"FG\", \"\", \"High\", $K$2, $A108, $P$2,$O$2,,$M$2,$N$2)","v":51.94},{"$f":" RTD(\"cqg.rtd\",,\"StudyData\", $L$2, \"FG\", \"\", \"Low\", $K$2, $A108, $P$2,$O$2,,$M$2,$N$2)","v":50.94},{"$f":" RTD(\"cqg.rtd\",,\"StudyData\", $L$2, \"FG\", \"\", \"Close\", $K$2, $A108, $P$2,$O$2,,$M$2,$N$2)","v":50.99},"2020-12-14",44179,"12/14/20"]
[-107,{"$f":" RTD(\"cqg.rtd\",,\"StudyData\", $L$2, \"FG\", \"\", \"Time\", $K$2,$A109, $P$2, \"\", \"\",\"False\")","v":"2020-12-11"},{"$f":" RTD(\"cqg.rtd\",,\"StudyData\", $L$2, \"FG\", \"\", \"Time\", $K$2, $A109,$P$2,$O$2, \"\",\"False\")","v":44176},{"$f":" RTD(\"cqg.rtd\",,\"StudyData\", $L$2, \"FG\", \"\", \"Open\", $K$2, $A109, $P$2,$O$2,,$M$2,$N$2)","v":50.96},{"$f":" RTD(\"cqg.rtd\",,\"StudyData\", $L$2, \"FG\", \"\", \"High\", $K$2, $A109, $P$2,$O$2,,$M$2,$N$2)","v":51.73},{"$f":" RTD(\"cqg.rtd\",,\"StudyData\", $L$2, \"FG\", \"\", \"Low\", $K$2, $A109, $P$2,$O$2,,$M$2,$N$2)","v":50.69},{"$f":" RTD(\"cqg.rtd\",,\"StudyData\", $L$2, \"FG\", \"\", \"Close\", $K$2, $A109, $P$2,$O$2,,$M$2,$N$2)","v":51.13},"2020-12-11",44176,"12/11/20"]
[-108,{"$f":" RTD(\"cqg.rtd\",,\"StudyData\", $L$2, \"FG\", \"\", \"Time\", $K$2,$A110, $P$2, \"\", \"\",\"False\")","v":"2020-12-10"},{"$f":" RTD(\"cqg.rtd\",,\"StudyData\", $L$2, \"FG\", \"\", \"Time\", $K$2, $A110,$P$2,$O$2, \"\",\"False\")","v":44175},{"$f":" RTD(\"cqg.rtd\",,\"StudyData\", $L$2, \"FG\", \"\", \"Open\", $K$2, $A110, $P$2,$O$2,,$M$2,$N$2)","v":51},{"$f":" RTD(\"cqg.rtd\",,\"StudyData\", $L$2, \"FG\", \"\", \"High\", $K$2, $A110, $P$2,$O$2,,$M$2,$N$2)","v":51.91},{"$f":" RTD(\"cqg.rtd\",,\"StudyData\", $L$2, \"FG\", \"\", \"Low\", $K$2, $A110, $P$2,$O$2,,$M$2,$N$2)","v":50.83},{"$f":" RTD(\"cqg.rtd\",,\"StudyData\", $L$2, \"FG\", \"\", \"Close\", $K$2, $A110, $P$2,$O$2,,$M$2,$N$2)","v":51.88},"2020-12-10",44175,"12/10/20"]
[-109,{"$f":" RTD(\"cqg.rtd\",,\"StudyData\", $L$2, \"FG\", \"\", \"Time\", $K$2,$A111, $P$2, \"\", \"\",\"False\")","v":"2020-12-09"},{"$f":" RTD(\"cqg.rtd\",,\"StudyData\", $L$2, \"FG\", \"\", \"Time\", $K$2, $A111,$P$2,$O$2, \"\",\"False\")","v":44174},{"$f":" RTD(\"cqg.rtd\",,\"StudyData\", $L$2, \"FG\", \"\", \"Open\", $K$2, $A111, $P$2,$O$2,,$M$2,$N$2)","v":53.09},{"$f":" RTD(\"cqg.rtd\",,\"StudyData\", $L$2, \"FG\", \"\", \"High\", $K$2, $A111, $P$2,$O$2,,$M$2,$N$2)","v":53.18},{"$f":" RTD(\"cqg.rtd\",,\"StudyData\", $L$2, \"FG\", \"\", \"Low\", $K$2, $A111, $P$2,$O$2,,$M$2,$N$2)","v":51.04},{"$f":" RTD(\"cqg.rtd\",,\"StudyData\", $L$2, \"FG\", \"\", \"Close\", $K$2, $A111, $P$2,$O$2,,$M$2,$N$2)","v":51.72},"2020-12-09",44174,"12/09/20"]
[-110,{"$f":" RTD(\"cqg.rtd\",,\"StudyData\", $L$2, \"FG\", \"\", \"Time\", $K$2,$A112, $P$2, \"\", \"\",\"False\")","v":"2020-12-08"},{"$f":" RTD(\"cqg.rtd\",,\"StudyData\", $L$2, \"FG\", \"\", \"Time\", $K$2, $A112,$P$2,$O$2, \"\",\"False\")","v":44173},{"$f":" RTD(\"cqg.rtd\",,\"StudyData\", $L$2, \"FG\", \"\", \"Open\", $K$2, $A112, $P$2,$O$2,,$M$2,$N$2)","v":52.01},{"$f":" RTD(\"cqg.rtd\",,\"StudyData\", $L$2, \"FG\", \"\", \"High\", $K$2, $A112, $P$2,$O$2,,$M$2,$N$2)","v":52.81},{"$f":" RTD(\"cqg.rtd\",,\"StudyData\", $L$2, \"FG\", \"\", \"Low\", $K$2, $A112, $P$2,$O$2,,$M$2,$N$2)","v":51.78},{"$f":" RTD(\"cqg.rtd\",,\"StudyData\", $L$2, \"FG\", \"\", \"Close\", $K$2, $A112, $P$2,$O$2,,$M$2,$N$2)","v":52.63},"2020-12-08",44173,"12/08/20"]
[-111,{"$f":" RTD(\"cqg.rtd\",,\"StudyData\", $L$2, \"FG\", \"\", \"Time\", $K$2,$A113, $P$2, \"\", \"\",\"False\")","v":"2020-12-07"},{"$f":" RTD(\"cqg.rtd\",,\"StudyData\", $L$2, \"FG\", \"\", \"Time\", $K$2, $A113,$P$2,$O$2, \"\",\"False\")","v":44172},{"$f":" RTD(\"cqg.rtd\",,\"StudyData\", $L$2, \"FG\", \"\", \"Open\", $K$2, $A113, $P$2,$O$2,,$M$2,$N$2)","v":51.95},{"$f":" RTD(\"cqg.rtd\",,\"StudyData\", $L$2, \"FG\", \"\", \"High\", $K$2, $A113, $P$2,$O$2,,$M$2,$N$2)","v":52.02},{"$f":" RTD(\"cqg.rtd\",,\"StudyData\", $L$2, \"FG\", \"\", \"Low\", $K$2, $A113, $P$2,$O$2,,$M$2,$N$2)","v":51.4},{"$f":" RTD(\"cqg.rtd\",,\"StudyData\", $L$2, \"FG\", \"\", \"Close\", $K$2, $A113, $P$2,$O$2,,$M$2,$N$2)","v":51.76},"2020-12-07",44172,"12/07/20"]
[-112,{"$f":" RTD(\"cqg.rtd\",,\"StudyData\", $L$2, \"FG\", \"\", \"Time\", $K$2,$A114, $P$2, \"\", \"\",\"False\")","v":"2020-12-04"},{"$f":" RTD(\"cqg.rtd\",,\"StudyData\", $L$2, \"FG\", \"\", \"Time\", $K$2, $A114,$P$2,$O$2, \"\",\"False\")","v":44169},{"$f":" RTD(\"cqg.rtd\",,\"StudyData\", $L$2, \"FG\", \"\", \"Open\", $K$2, $A114, $P$2,$O$2,,$M$2,$N$2)","v":51.2},{"$f":" RTD(\"cqg.rtd\",,\"StudyData\", $L$2, \"FG\", \"\", \"High\", $K$2, $A114, $P$2,$O$2,,$M$2,$N$2)","v":51.67},{"$f":" RTD(\"cqg.rtd\",,\"StudyData\", $L$2, \"FG\", \"\", \"Low\", $K$2, $A114, $P$2,$O$2,,$M$2,$N$2)","v":50.51},{"$f":" RTD(\"cqg.rtd\",,\"StudyData\", $L$2, \"FG\", \"\", \"Close\", $K$2, $A114, $P$2,$O$2,,$M$2,$N$2)","v":51.64},"2020-12-04",44169,"12/04/20"]
[-113,{"$f":" RTD(\"cqg.rtd\",,\"StudyData\", $L$2, \"FG\", \"\", \"Time\", $K$2,$A115, $P$2, \"\", \"\",\"False\")","v":"2020-12-03"},{"$f":" RTD(\"cqg.rtd\",,\"StudyData\", $L$2, \"FG\", \"\", \"Time\", $K$2, $A115,$P$2,$O$2, \"\",\"False\")","v":44168},{"$f":" RTD(\"cqg.rtd\",,\"StudyData\", $L$2, \"FG\", \"\", \"Open\", $K$2, $A115, $P$2,$O$2,,$M$2,$N$2)","v":50.86},{"$f":" RTD(\"cqg.rtd\",,\"StudyData\", $L$2, \"FG\", \"\", \"High\", $K$2, $A115, $P$2,$O$2,,$M$2,$N$2)","v":51.45},{"$f":" RTD(\"cqg.rtd\",,\"StudyData\", $L$2, \"FG\", \"\", \"Low\", $K$2, $A115, $P$2,$O$2,,$M$2,$N$2)","v":50.5},{"$f":" RTD(\"cqg.rtd\",,\"StudyData\", $L$2, \"FG\", \"\", \"Close\", $K$2, $A115, $P$2,$O$2,,$M$2,$N$2)","v":50.66},"2020-12-03",44168,"12/03/20"]
[-114,{"$f":" RTD(\"cqg.rtd\",,\"StudyData\", $L$2, \"FG\", \"\", \"Time\", $K$2,$A116, $P$2, \"\", \"\",\"False\")","v":"2020-12-02"},{"$f":" RTD(\"cqg.rtd\",,\"StudyData\", $L$2, \"FG\", \"\", \"Time\", $K$2, $A116,$P$2,$O$2, \"\",\"False\")","v":44167},{"$f":" RTD(\"cqg.rtd\",,\"StudyData\", $L$2, \"FG\", \"\", \"Open\", $K$2, $A116, $P$2,$O$2,,$M$2,$N$2)","v":50},{"$f":" RTD(\"cqg.rtd\",,\"StudyData\", $L$2, \"FG\", \"\", \"High\", $K$2, $A116, $P$2,$O$2,,$M$2,$N$2)","v":50.7},{"$f":" RTD(\"cqg.rtd\",,\"StudyData\", $L$2, \"FG\", \"\", \"Low\", $K$2, $A116, $P$2,$O$2,,$M$2,$N$2)","v":48.18},{"$f":" RTD(\"cqg.rtd\",,\"StudyData\", $L$2, \"FG\", \"\", \"Close\", $K$2, $A116, $P$2,$O$2,,$M$2,$N$2)","v":50.65},"2020-12-02",44167,"12/02/20"]
[-115,{"$f":" RTD(\"cqg.rtd\",,\"StudyData\", $L$2, \"FG\", \"\", \"Time\", $K$2,$A117, $P$2, \"\", \"\",\"False\")","v":"2020-12-01"},{"$f":" RTD(\"cqg.rtd\",,\"StudyData\", $L$2, \"FG\", \"\", \"Time\", $K$2, $A117,$P$2,$O$2, \"\",\"False\")","v":44166},{"$f":" RTD(\"cqg.rtd\",,\"StudyData\", $L$2, \"FG\", \"\", \"Open\", $K$2, $A117, $P$2,$O$2,,$M$2,$N$2)","v":51.76},{"$f":" RTD(\"cqg.rtd\",,\"StudyData\", $L$2, \"FG\", \"\", \"High\", $K$2, $A117, $P$2,$O$2,,$M$2,$N$2)","v":51.78},{"$f":" RTD(\"cqg.rtd\",,\"StudyData\", $L$2, \"FG\", \"\", \"Low\", $K$2, $A117, $P$2,$O$2,,$M$2,$N$2)","v":50.35},{"$f":" RTD(\"cqg.rtd\",,\"StudyData\", $L$2, \"FG\", \"\", \"Close\", $K$2, $A117, $P$2,$O$2,,$M$2,$N$2)","v":50.55},"2020-12-01",44166,"12/01/20"]
[-116,{"$f":" RTD(\"cqg.rtd\",,\"StudyData\", $L$2, \"FG\", \"\", \"Time\", $K$2,$A118, $P$2, \"\", \"\",\"False\")","v":"2020-11-30"},{"$f":" RTD(\"cqg.rtd\",,\"StudyData\", $L$2, \"FG\", \"\", \"Time\", $K$2, $A118,$P$2,$O$2, \"\",\"False\")","v":44165},{"$f":" RTD(\"cqg.rtd\",,\"StudyData\", $L$2, \"FG\", \"\", \"Open\", $K$2, $A118, $P$2,$O$2,,$M$2,$N$2)","v":52.38},{"$f":" RTD(\"cqg.rtd\",,\"StudyData\", $L$2, \"FG\", \"\", \"High\", $K$2, $A118, $P$2,$O$2,,$M$2,$N$2)","v":52.38},{"$f":" RTD(\"cqg.rtd\",,\"StudyData\", $L$2, \"FG\", \"\", \"Low\", $K$2, $A118, $P$2,$O$2,,$M$2,$N$2)","v":49.9},{"$f":" RTD(\"cqg.rtd\",,\"StudyData\", $L$2, \"FG\", \"\", \"Close\", $K$2, $A118, $P$2,$O$2,,$M$2,$N$2)","v":50.82},"2020-11-30",44165,"11/30/20"]
[-117,{"$f":" RTD(\"cqg.rtd\",,\"StudyData\", $L$2, \"FG\", \"\", \"Time\", $K$2,$A119, $P$2, \"\", \"\",\"False\")","v":"2020-11-27"},{"$f":" RTD(\"cqg.rtd\",,\"StudyData\", $L$2, \"FG\", \"\", \"Time\", $K$2, $A119,$P$2,$O$2, \"\",\"False\")","v":44162},{"$f":" RTD(\"cqg.rtd\",,\"StudyData\", $L$2, \"FG\", \"\", \"Open\", $K$2, $A119, $P$2,$O$2,,$M$2,$N$2)","v":52.44},{"$f":" RTD(\"cqg.rtd\",,\"StudyData\", $L$2, \"FG\", \"\", \"High\", $K$2, $A119, $P$2,$O$2,,$M$2,$N$2)","v":52.53},{"$f":" RTD(\"cqg.rtd\",,\"StudyData\", $L$2, \"FG\", \"\", \"Low\", $K$2, $A119, $P$2,$O$2,,$M$2,$N$2)","v":51.79},{"$f":" RTD(\"cqg.rtd\",,\"StudyData\", $L$2, \"FG\", \"\", \"Close\", $K$2, $A119, $P$2,$O$2,,$M$2,$N$2)","v":52.02},"2020-11-27",44162,"11/27/20"]
[-118,{"$f":" RTD(\"cqg.rtd\",,\"StudyData\", $L$2, \"FG\", \"\", \"Time\", $K$2,$A120, $P$2, \"\", \"\",\"False\")","v":"2020-11-25"},{"$f":" RTD(\"cqg.rtd\",,\"StudyData\", $L$2, \"FG\", \"\", \"Time\", $K$2, $A120,$P$2,$O$2, \"\",\"False\")","v":44160},{"$f":" RTD(\"cqg.rtd\",,\"StudyData\", $L$2, \"FG\", \"\", \"Open\", $K$2, $A120, $P$2,$O$2,,$M$2,$N$2)","v":52.04},{"$f":" RTD(\"cqg.rtd\",,\"StudyData\", $L$2, \"FG\", \"\", \"High\", $K$2, $A120, $P$2,$O$2,,$M$2,$N$2)","v":52.28},{"$f":" RTD(\"cqg.rtd\",,\"StudyData\", $L$2, \"FG\", \"\", \"Low\", $K$2, $A120, $P$2,$O$2,,$M$2,$N$2)","v":50.69},{"$f":" RTD(\"cqg.rtd\",,\"StudyData\", $L$2, \"FG\", \"\", \"Close\", $K$2, $A120, $P$2,$O$2,,$M$2,$N$2)","v":51.76},"2020-11-25",44160,"11/25/20"]
[-119,{"$f":" RTD(\"cqg.rtd\",,\"StudyData\", $L$2, \"FG\", \"\", \"Time\", $K$2,$A121, $P$2, \"\", \"\",\"False\")","v":"2020-11-24"},{"$f":" RTD(\"cqg.rtd\",,\"StudyData\", $L$2, \"FG\", \"\", \"Time\", $K$2, $A121,$P$2,$O$2, \"\",\"False\")","v":44159},{"$f":" RTD(\"cqg.rtd\",,\"StudyData\", $L$2, \"FG\", \"\", \"Open\", $K$2, $A121, $P$2,$O$2,,$M$2,$N$2)","v":52.84},{"$f":" RTD(\"cqg.rtd\",,\"StudyData\", $L$2, \"FG\", \"\", \"High\", $K$2, $A121, $P$2,$O$2,,$M$2,$N$2)","v":53.19},{"$f":" RTD(\"cqg.rtd\",,\"StudyData\", $L$2, \"FG\", \"\", \"Low\", $K$2, $A121, $P$2,$O$2,,$M$2,$N$2)","v":50.81},{"$f":" RTD(\"cqg.rtd\",,\"StudyData\", $L$2, \"FG\", \"\", \"Close\", $K$2, $A121, $P$2,$O$2,,$M$2,$N$2)","v":52.28},"2020-11-24",44159,"11/24/20"]
[-120,{"$f":" RTD(\"cqg.rtd\",,\"StudyData\", $L$2, \"FG\", \"\", \"Time\", $K$2,$A122, $P$2, \"\", \"\",\"False\")","v":"2020-11-23"},{"$f":" RTD(\"cqg.rtd\",,\"StudyData\", $L$2, \"FG\", \"\", \"Time\", $K$2, $A122,$P$2,$O$2, \"\",\"False\")","v":44158},{"$f":" RTD(\"cqg.rtd\",,\"StudyData\", $L$2, \"FG\", \"\", \"Open\", $K$2, $A122, $P$2,$O$2,,$M$2,$N$2)","v":49.81},{"$f":" RTD(\"cqg.rtd\",,\"StudyData\", $L$2, \"FG\", \"\", \"High\", $K$2, $A122, $P$2,$O$2,,$M$2,$N$2)","v":51.41},{"$f":" RTD(\"cqg.rtd\",,\"StudyData\", $L$2, \"FG\", \"\", \"Low\", $K$2, $A122, $P$2,$O$2,,$M$2,$N$2)","v":49.81},{"$f":" RTD(\"cqg.rtd\",,\"StudyData\", $L$2, \"FG\", \"\", \"Close\", $K$2, $A122, $P$2,$O$2,,$M$2,$N$2)","v":51.38},"2020-11-23",44158,"11/23/20"]
[-121,{"$f":" RTD(\"cqg.rtd\",,\"StudyData\", $L$2, \"FG\", \"\", \"Time\", $K$2,$A123, $P$2, \"\", \"\",\"False\")","v":"2020-11-20"},{"$f":" RTD(\"cqg.rtd\",,\"StudyData\", $L$2, \"FG\", \"\", \"Time\", $K$2, $A123,$P$2,$O$2, \"\",\"False\")","v":44155},{"$f":" RTD(\"cqg.rtd\",,\"StudyData\", $L$2, \"FG\", \"\", \"Open\", $K$2, $A123, $P$2,$O$2,,$M$2,$N$2)","v":49},{"$f":" RTD(\"cqg.rtd\",,\"StudyData\", $L$2, \"FG\", \"\", \"High\", $K$2, $A123, $P$2,$O$2,,$M$2,$N$2)","v":49.21},{"$f":" RTD(\"cqg.rtd\",,\"StudyData\", $L$2, \"FG\", \"\", \"Low\", $K$2, $A123, $P$2,$O$2,,$M$2,$N$2)","v":48.74},{"$f":" RTD(\"cqg.rtd\",,\"StudyData\", $L$2, \"FG\", \"\", \"Close\", $K$2, $A123, $P$2,$O$2,,$M$2,$N$2)","v":48.93},"2020-11-20",44155,"11/20/20"]
[-122,{"$f":" RTD(\"cqg.rtd\",,\"StudyData\", $L$2, \"FG\", \"\", \"Time\", $K$2,$A124, $P$2, \"\", \"\",\"False\")","v":"2020-11-19"},{"$f":" RTD(\"cqg.rtd\",,\"StudyData\", $L$2, \"FG\", \"\", \"Time\", $K$2, $A124,$P$2,$O$2, \"\",\"False\")","v":44154},{"$f":" RTD(\"cqg.rtd\",,\"StudyData\", $L$2, \"FG\", \"\", \"Open\", $K$2, $A124, $P$2,$O$2,,$M$2,$N$2)","v":48.01},{"$f":" RTD(\"cqg.rtd\",,\"StudyData\", $L$2, \"FG\", \"\", \"High\", $K$2, $A124, $P$2,$O$2,,$M$2,$N$2)","v":49.15},{"$f":" RTD(\"cqg.rtd\",,\"StudyData\", $L$2, \"FG\", \"\", \"Low\", $K$2, $A124, $P$2,$O$2,,$M$2,$N$2)","v":47.79},{"$f":" RTD(\"cqg.rtd\",,\"StudyData\", $L$2, \"FG\", \"\", \"Close\", $K$2, $A124, $P$2,$O$2,,$M$2,$N$2)","v":48.66},"2020-11-19",44154,"11/19/20"]
[-123,{"$f":" RTD(\"cqg.rtd\",,\"StudyData\", $L$2, \"FG\", \"\", \"Time\", $K$2,$A125, $P$2, \"\", \"\",\"False\")","v":"2020-11-18"},{"$f":" RTD(\"cqg.rtd\",,\"StudyData\", $L$2, \"FG\", \"\", \"Time\", $K$2, $A125,$P$2,$O$2, \"\",\"False\")","v":44153},{"$f":" RTD(\"cqg.rtd\",,\"StudyData\", $L$2, \"FG\", \"\", \"Open\", $K$2, $A125, $P$2,$O$2,,$M$2,$N$2)","v":48.29},{"$f":" RTD(\"cqg.rtd\",,\"StudyData\", $L$2, \"FG\", \"\", \"High\", $K$2, $A125, $P$2,$O$2,,$M$2,$N$2)","v":49.89},{"$f":" RTD(\"cqg.rtd\",,\"StudyData\", $L$2, \"FG\", \"\", \"Low\", $K$2, $A125, $P$2,$O$2,,$M$2,$N$2)","v":47.64},{"$f":" RTD(\"cqg.rtd\",,\"StudyData\", $L$2, \"FG\", \"\", \"Close\", $K$2, $A125, $P$2,$O$2,,$M$2,$N$2)","v":47.88},"2020-11-18",44153,"11/18/20"]
[-124,{"$f":" RTD(\"cqg.rtd\",,\"StudyData\", $L$2, \"FG\", \"\", \"Time\", $K$2,$A126, $P$2, \"\", \"\",\"False\")","v":"2020-11-17"},{"$f":" RTD(\"cqg.rtd\",,\"StudyData\", $L$2, \"FG\", \"\", \"Time\", $K$2, $A126,$P$2,$O$2, \"\",\"False\")","v":44152},{"$f":" RTD(\"cqg.rtd\",,\"StudyData\", $L$2, \"FG\", \"\", \"Open\", $K$2, $A126, $P$2,$O$2,,$M$2,$N$2)","v":48.39},{"$f":" RTD(\"cqg.rtd\",,\"StudyData\", $L$2, \"FG\", \"\", \"High\", $K$2, $A126, $P$2,$O$2,,$M$2,$N$2)","v":49.99},{"$f":" RTD(\"cqg.rtd\",,\"StudyData\", $L$2, \"FG\", \"\", \"Low\", $K$2, $A126, $P$2,$O$2,,$M$2,$N$2)","v":47.05},{"$f":" RTD(\"cqg.rtd\",,\"StudyData\", $L$2, \"FG\", \"\", \"Close\", $K$2, $A126, $P$2,$O$2,,$M$2,$N$2)","v":47.82},"2020-11-17",44152,"11/17/20"]
[-125,{"$f":" RTD(\"cqg.rtd\",,\"StudyData\", $L$2, \"FG\", \"\", \"Time\", $K$2,$A127, $P$2, \"\", \"\",\"False\")","v":"2020-11-16"},{"$f":" RTD(\"cqg.rtd\",,\"StudyData\", $L$2, \"FG\", \"\", \"Time\", $K$2, $A127,$P$2,$O$2, \"\",\"False\")","v":44151},{"$f":" RTD(\"cqg.rtd\",,\"StudyData\", $L$2, \"FG\", \"\", \"Open\", $K$2, $A127, $P$2,$O$2,,$M$2,$N$2)","v":47.94},{"$f":" RTD(\"cqg.rtd\",,\"StudyData\", $L$2, \"FG\", \"\", \"High\", $K$2, $A127, $P$2,$O$2,,$M$2,$N$2)","v":47.96},{"$f":" RTD(\"cqg.rtd\",,\"StudyData\", $L$2, \"FG\", \"\", \"Low\", $K$2, $A127, $P$2,$O$2,,$M$2,$N$2)","v":47},{"$f":" RTD(\"cqg.rtd\",,\"StudyData\", $L$2, \"FG\", \"\", \"Close\", $K$2, $A127, $P$2,$O$2,,$M$2,$N$2)","v":47.77},"2020-11-16",44151,"11/16/20"]
[-126,{"$f":" RTD(\"cqg.rtd\",,\"StudyData\", $L$2, \"FG\", \"\", \"Time\", $K$2,$A128, $P$2, \"\", \"\",\"False\")","v":"2020-11-13"},{"$f":" RTD(\"cqg.rtd\",,\"StudyData\", $L$2, \"FG\", \"\", \"Time\", $K$2, $A128,$P$2,$O$2, \"\",\"False\")","v":44148},{"$f":" RTD(\"cqg.rtd\",,\"StudyData\", $L$2, \"FG\", \"\", \"Open\", $K$2, $A128, $P$2,$O$2,,$M$2,$N$2)","v":46.87},{"$f":" RTD(\"cqg.rtd\",,\"StudyData\", $L$2, \"FG\", \"\", \"High\", $K$2, $A128, $P$2,$O$2,,$M$2,$N$2)","v":47.84},{"$f":" RTD(\"cqg.rtd\",,\"StudyData\", $L$2, \"FG\", \"\", \"Low\", $K$2, $A128, $P$2,$O$2,,$M$2,$N$2)","v":45.6},{"$f":" RTD(\"cqg.rtd\",,\"StudyData\", $L$2, \"FG\", \"\", \"Close\", $K$2, $A128, $P$2,$O$2,,$M$2,$N$2)","v":46.38},"2020-11-13",44148,"11/13/20"]
[-127,{"$f":" RTD(\"cqg.rtd\",,\"StudyData\", $L$2, \"FG\", \"\", \"Time\", $K$2,$A129, $P$2, \"\", \"\",\"False\")","v":"2020-11-12"},{"$f":" RTD(\"cqg.rtd\",,\"StudyData\", $L$2, \"FG\", \"\", \"Time\", $K$2, $A129,$P$2,$O$2, \"\",\"False\")","v":44147},{"$f":" RTD(\"cqg.rtd\",,\"StudyData\", $L$2, \"FG\", \"\", \"Open\", $K$2, $A129, $P$2,$O$2,,$M$2,$N$2)","v":46.22},{"$f":" RTD(\"cqg.rtd\",,\"StudyData\", $L$2, \"FG\", \"\", \"High\", $K$2, $A129, $P$2,$O$2,,$M$2,$N$2)","v":46.9},{"$f":" RTD(\"cqg.rtd\",,\"StudyData\", $L$2, \"FG\", \"\", \"Low\", $K$2, $A129, $P$2,$O$2,,$M$2,$N$2)","v":45.5},{"$f":" RTD(\"cqg.rtd\",,\"StudyData\", $L$2, \"FG\", \"\", \"Close\", $K$2, $A129, $P$2,$O$2,,$M$2,$N$2)","v":46.28},"2020-11-12",44147,"11/12/20"]
[-128,{"$f":" RTD(\"cqg.rtd\",,\"StudyData\", $L$2, \"FG\", \"\", \"Time\", $K$2,$A130, $P$2, \"\", \"\",\"False\")","v":"2020-11-11"},{"$f":" RTD(\"cqg.rtd\",,\"StudyData\", $L$2, \"FG\", \"\", \"Time\", $K$2, $A130,$P$2,$O$2, \"\",\"False\")","v":44146},{"$f":" RTD(\"cqg.rtd\",,\"StudyData\", $L$2, \"FG\", \"\", \"Open\", $K$2, $A130, $P$2,$O$2,,$M$2,$N$2)","v":45.87},{"$f":" RTD(\"cqg.rtd\",,\"StudyData\", $L$2, \"FG\", \"\", \"High\", $K$2, $A130, $P$2,$O$2,,$M$2,$N$2)","v":46.02},{"$f":" RTD(\"cqg.rtd\",,\"StudyData\", $L$2, \"FG\", \"\", \"Low\", $K$2, $A130, $P$2,$O$2,,$M$2,$N$2)","v":45.38},{"$f":" RTD(\"cqg.rtd\",,\"StudyData\", $L$2, \"FG\", \"\", \"Close\", $K$2, $A130, $P$2,$O$2,,$M$2,$N$2)","v":45.97},"2020-11-11",44146,"11/11/20"]
[-129,{"$f":" RTD(\"cqg.rtd\",,\"StudyData\", $L$2, \"FG\", \"\", \"Time\", $K$2,$A131, $P$2, \"\", \"\",\"False\")","v":"2020-11-10"},{"$f":" RTD(\"cqg.rtd\",,\"StudyData\", $L$2, \"FG\", \"\", \"Time\", $K$2, $A131,$P$2,$O$2, \"\",\"False\")","v":44145},{"$f":" RTD(\"cqg.rtd\",,\"StudyData\", $L$2, \"FG\", \"\", \"Open\", $K$2, $A131, $P$2,$O$2,,$M$2,$N$2)","v":45.78},{"$f":" RTD(\"cqg.rtd\",,\"StudyData\", $L$2, \"FG\", \"\", \"High\", $K$2, $A131, $P$2,$O$2,,$M$2,$N$2)","v":45.88},{"$f":" RTD(\"cqg.rtd\",,\"StudyData\", $L$2, \"FG\", \"\", \"Low\", $K$2, $A131, $P$2,$O$2,,$M$2,$N$2)","v":44.39},{"$f":" RTD(\"cqg.rtd\",,\"StudyData\", $L$2, \"FG\", \"\", \"Close\", $K$2, $A131, $P$2,$O$2,,$M$2,$N$2)","v":45.31},{"$f":"B131","v":"2020-11-10"},{"$f":"B131","v":44145},{"$f":"IF(OR($K$2=\"D\",$K$2=\"W\",$K$2=\",'M\"),TEXT(H131,\"MM/DD/YY\"),TEXT(I131,\"HH:MM\"))","v":"11/10/20"}]
[{"$f":"A131-1","v":-130},{"$f":" RTD(\"cqg.rtd\",,\"StudyData\", $L$2, \"FG\", \"\", \"Time\", $K$2,$A132, $P$2, \"\", \"\",\"False\")","v":"2020-11-09"},{"$f":" RTD(\"cqg.rtd\",,\"StudyData\", $L$2, \"FG\", \"\", \"Time\", $K$2, $A132,$P$2,$O$2, \"\",\"False\")","v":44144},{"$f":" RTD(\"cqg.rtd\",,\"StudyData\", $L$2, \"FG\", \"\", \"Open\", $K$2, $A132, $P$2,$O$2,,$M$2,$N$2)","v":46.94},{"$f":" RTD(\"cqg.rtd\",,\"StudyData\", $L$2, \"FG\", \"\", \"High\", $K$2, $A132, $P$2,$O$2,,$M$2,$N$2)","v":46.94},{"$f":" RTD(\"cqg.rtd\",,\"StudyData\", $L$2, \"FG\", \"\", \"Low\", $K$2, $A132, $P$2,$O$2,,$M$2,$N$2)","v":45.38},{"$f":" RTD(\"cqg.rtd\",,\"StudyData\", $L$2, \"FG\", \"\", \"Close\", $K$2, $A132, $P$2,$O$2,,$M$2,$N$2)","v":45.47},"2020-11-09",44144,"11/09/20"]
[-131,{"$f":" RTD(\"cqg.rtd\",,\"StudyData\", $L$2, \"FG\", \"\", \"Time\", $K$2,$A133, $P$2, \"\", \"\",\"False\")","v":"2020-11-06"},{"$f":" RTD(\"cqg.rtd\",,\"StudyData\", $L$2, \"FG\", \"\", \"Time\", $K$2, $A133,$P$2,$O$2, \"\",\"False\")","v":44141},{"$f":" RTD(\"cqg.rtd\",,\"StudyData\", $L$2, \"FG\", \"\", \"Open\", $K$2, $A133, $P$2,$O$2,,$M$2,$N$2)","v":43.97},{"$f":" RTD(\"cqg.rtd\",,\"StudyData\", $L$2, \"FG\", \"\", \"High\", $K$2, $A133, $P$2,$O$2,,$M$2,$N$2)","v":43.97},{"$f":" RTD(\"cqg.rtd\",,\"StudyData\", $L$2, \"FG\", \"\", \"Low\", $K$2, $A133, $P$2,$O$2,,$M$2,$N$2)","v":43},{"$f":" RTD(\"cqg.rtd\",,\"StudyData\", $L$2, \"FG\", \"\", \"Close\", $K$2, $A133, $P$2,$O$2,,$M$2,$N$2)","v":43.47},"2020-11-06",44141,"11/06/20"]
[-132,{"$f":" RTD(\"cqg.rtd\",,\"StudyData\", $L$2, \"FG\", \"\", \"Time\", $K$2,$A134, $P$2, \"\", \"\",\"False\")","v":"2020-11-05"},{"$f":" RTD(\"cqg.rtd\",,\"StudyData\", $L$2, \"FG\", \"\", \"Time\", $K$2, $A134,$P$2,$O$2, \"\",\"False\")","v":44140},{"$f":" RTD(\"cqg.rtd\",,\"StudyData\", $L$2, \"FG\", \"\", \"Open\", $K$2, $A134, $P$2,$O$2,,$M$2,$N$2)","v":42.54},{"$f":" RTD(\"cqg.rtd\",,\"StudyData\", $L$2, \"FG\", \"\", \"High\", $K$2, $A134, $P$2,$O$2,,$M$2,$N$2)","v":43.62},{"$f":" RTD(\"cqg.rtd\",,\"StudyData\", $L$2, \"FG\", \"\", \"Low\", $K$2, $A134, $P$2,$O$2,,$M$2,$N$2)","v":42.18},{"$f":" RTD(\"cqg.rtd\",,\"StudyData\", $L$2, \"FG\", \"\", \"Close\", $K$2, $A134, $P$2,$O$2,,$M$2,$N$2)","v":43.53},"2020-11-05",44140,"11/05/20"]
[-133,{"$f":" RTD(\"cqg.rtd\",,\"StudyData\", $L$2, \"FG\", \"\", \"Time\", $K$2,$A135, $P$2, \"\", \"\",\"False\")","v":"2020-11-04"},{"$f":" RTD(\"cqg.rtd\",,\"StudyData\", $L$2, \"FG\", \"\", \"Time\", $K$2, $A135,$P$2,$O$2, \"\",\"False\")","v":44139},{"$f":" RTD(\"cqg.rtd\",,\"StudyData\", $L$2, \"FG\", \"\", \"Open\", $K$2, $A135, $P$2,$O$2,,$M$2,$N$2)","v":44.19},{"$f":" RTD(\"cqg.rtd\",,\"StudyData\", $L$2, \"FG\", \"\", \"High\", $K$2, $A135, $P$2,$O$2,,$M$2,$N$2)","v":44.19},{"$f":" RTD(\"cqg.rtd\",,\"StudyData\", $L$2, \"FG\", \"\", \"Low\", $K$2, $A135, $P$2,$O$2,,$M$2,$N$2)","v":40.94},{"$f":" RTD(\"cqg.rtd\",,\"StudyData\", $L$2, \"FG\", \"\", \"Close\", $K$2, $A135, $P$2,$O$2,,$M$2,$N$2)","v":41.29},"2020-11-04",44139,"11/04/20"]
[-134,{"$f":" RTD(\"cqg.rtd\",,\"StudyData\", $L$2, \"FG\", \"\", \"Time\", $K$2,$A136, $P$2, \"\", \"\",\"False\")","v":"2020-11-03"},{"$f":" RTD(\"cqg.rtd\",,\"StudyData\", $L$2, \"FG\", \"\", \"Time\", $K$2, $A136,$P$2,$O$2, \"\",\"False\")","v":44138},{"$f":" RTD(\"cqg.rtd\",,\"StudyData\", $L$2, \"FG\", \"\", \"Open\", $K$2, $A136, $P$2,$O$2,,$M$2,$N$2)","v":40.67},{"$f":" RTD(\"cqg.rtd\",,\"StudyData\", $L$2, \"FG\", \"\", \"High\", $K$2, $A136, $P$2,$O$2,,$M$2,$N$2)","v":41.33},{"$f":" RTD(\"cqg.rtd\",,\"StudyData\", $L$2, \"FG\", \"\", \"Low\", $K$2, $A136, $P$2,$O$2,,$M$2,$N$2)","v":40.130000000000003},{"$f":" RTD(\"cqg.rtd\",,\"StudyData\", $L$2, \"FG\", \"\", \"Close\", $K$2, $A136, $P$2,$O$2,,$M$2,$N$2)","v":41.22},"2020-11-03",44138,"11/03/20"]
[-135,{"$f":" RTD(\"cqg.rtd\",,\"StudyData\", $L$2, \"FG\", \"\", \"Time\", $K$2,$A137, $P$2, \"\", \"\",\"False\")","v":"2020-11-02"},{"$f":" RTD(\"cqg.rtd\",,\"StudyData\", $L$2, \"FG\", \"\", \"Time\", $K$2, $A137,$P$2,$O$2, \"\",\"False\")","v":44137},{"$f":" RTD(\"cqg.rtd\",,\"StudyData\", $L$2, \"FG\", \"\", \"Open\", $K$2, $A137, $P$2,$O$2,,$M$2,$N$2)","v":38.67},{"$f":" RTD(\"cqg.rtd\",,\"StudyData\", $L$2, \"FG\", \"\", \"High\", $K$2, $A137, $P$2,$O$2,,$M$2,$N$2)","v":40.08},{"$f":" RTD(\"cqg.rtd\",,\"StudyData\", $L$2, \"FG\", \"\", \"Low\", $K$2, $A137, $P$2,$O$2,,$M$2,$N$2)","v":38.67},{"$f":" RTD(\"cqg.rtd\",,\"StudyData\", $L$2, \"FG\", \"\", \"Close\", $K$2, $A137, $P$2,$O$2,,$M$2,$N$2)","v":39.74},"2020-11-02",44137,"11/02/20"]
[-136,{"$f":" RTD(\"cqg.rtd\",,\"StudyData\", $L$2, \"FG\", \"\", \"Time\", $K$2,$A138, $P$2, \"\", \"\",\"False\")","v":"2020-10-30"},{"$f":" RTD(\"cqg.rtd\",,\"StudyData\", $L$2, \"FG\", \"\", \"Time\", $K$2, $A138,$P$2,$O$2, \"\",\"False\")","v":44134},{"$f":" RTD(\"cqg.rtd\",,\"StudyData\", $L$2, \"FG\", \"\", \"Open\", $K$2, $A138, $P$2,$O$2,,$M$2,$N$2)","v":39.200000000000003},{"$f":" RTD(\"cqg.rtd\",,\"StudyData\", $L$2, \"FG\", \"\", \"High\", $K$2, $A138, $P$2,$O$2,,$M$2,$N$2)","v":39.22},{"$f":" RTD(\"cqg.rtd\",,\"StudyData\", $L$2, \"FG\", \"\", \"Low\", $K$2, $A138, $P$2,$O$2,,$M$2,$N$2)","v":38.18},{"$f":" RTD(\"cqg.rtd\",,\"StudyData\", $L$2, \"FG\", \"\", \"Close\", $K$2, $A138, $P$2,$O$2,,$M$2,$N$2)","v":38.520000000000003},"2020-10-30",44134,"10/30/20"]
[-137,{"$f":" RTD(\"cqg.rtd\",,\"StudyData\", $L$2, \"FG\", \"\", \"Time\", $K$2,$A139, $P$2, \"\", \"\",\"False\")","v":"2020-10-29"},{"$f":" RTD(\"cqg.rtd\",,\"StudyData\", $L$2, \"FG\", \"\", \"Time\", $K$2, $A139,$P$2,$O$2, \"\",\"False\")","v":44133},{"$f":" RTD(\"cqg.rtd\",,\"StudyData\", $L$2, \"FG\", \"\", \"Open\", $K$2, $A139, $P$2,$O$2,,$M$2,$N$2)","v":38.72},{"$f":" RTD(\"cqg.rtd\",,\"StudyData\", $L$2, \"FG\", \"\", \"High\", $K$2, $A139, $P$2,$O$2,,$M$2,$N$2)","v":39.65},{"$f":" RTD(\"cqg.rtd\",,\"StudyData\", $L$2, \"FG\", \"\", \"Low\", $K$2, $A139, $P$2,$O$2,,$M$2,$N$2)","v":38.64},{"$f":" RTD(\"cqg.rtd\",,\"StudyData\", $L$2, \"FG\", \"\", \"Close\", $K$2, $A139, $P$2,$O$2,,$M$2,$N$2)","v":39.51},"2020-10-29",44133,"10/29/20"]
[-138,{"$f":" RTD(\"cqg.rtd\",,\"StudyData\", $L$2, \"FG\", \"\", \"Time\", $K$2,$A140, $P$2, \"\", \"\",\"False\")","v":"2020-10-28"},{"$f":" RTD(\"cqg.rtd\",,\"StudyData\", $L$2, \"FG\", \"\", \"Time\", $K$2, $A140,$P$2,$O$2, \"\",\"False\")","v":44132},{"$f":" RTD(\"cqg.rtd\",,\"StudyData\", $L$2, \"FG\", \"\", \"Open\", $K$2, $A140, $P$2,$O$2,,$M$2,$N$2)","v":39.119999999999997},{"$f":" RTD(\"cqg.rtd\",,\"StudyData\", $L$2, \"FG\", \"\", \"High\", $K$2, $A140, $P$2,$O$2,,$M$2,$N$2)","v":39.119999999999997},{"$f":" RTD(\"cqg.rtd\",,\"StudyData\", $L$2, \"FG\", \"\", \"Low\", $K$2, $A140, $P$2,$O$2,,$M$2,$N$2)","v":38.17},{"$f":" RTD(\"cqg.rtd\",,\"StudyData\", $L$2, \"FG\", \"\", \"Close\", $K$2, $A140, $P$2,$O$2,,$M$2,$N$2)","v":38.31},"2020-10-28",44132,"10/28/20"]
[-139,{"$f":" RTD(\"cqg.rtd\",,\"StudyData\", $L$2, \"FG\", \"\", \"Time\", $K$2,$A141, $P$2, \"\", \"\",\"False\")","v":"2020-10-27"},{"$f":" RTD(\"cqg.rtd\",,\"StudyData\", $L$2, \"FG\", \"\", \"Time\", $K$2, $A141,$P$2,$O$2, \"\",\"False\")","v":44131},{"$f":" RTD(\"cqg.rtd\",,\"StudyData\", $L$2, \"FG\", \"\", \"Open\", $K$2, $A141, $P$2,$O$2,,$M$2,$N$2)","v":40.28},{"$f":" RTD(\"cqg.rtd\",,\"StudyData\", $L$2, \"FG\", \"\", \"High\", $K$2, $A141, $P$2,$O$2,,$M$2,$N$2)","v":40.28},{"$f":" RTD(\"cqg.rtd\",,\"StudyData\", $L$2, \"FG\", \"\", \"Low\", $K$2, $A141, $P$2,$O$2,,$M$2,$N$2)","v":39.43},{"$f":" RTD(\"cqg.rtd\",,\"StudyData\", $L$2, \"FG\", \"\", \"Close\", $K$2, $A141, $P$2,$O$2,,$M$2,$N$2)","v":39.49},"2020-10-27",44131,"10/27/20"]
[-140,{"$f":" RTD(\"cqg.rtd\",,\"StudyData\", $L$2, \"FG\", \"\", \"Time\", $K$2,$A142, $P$2, \"\", \"\",\"False\")","v":"2020-10-26"},{"$f":" RTD(\"cqg.rtd\",,\"StudyData\", $L$2, \"FG\", \"\", \"Time\", $K$2, $A142,$P$2,$O$2, \"\",\"False\")","v":44130},{"$f":" RTD(\"cqg.rtd\",,\"StudyData\", $L$2, \"FG\", \"\", \"Open\", $K$2, $A142, $P$2,$O$2,,$M$2,$N$2)","v":40.549999999999997},{"$f":" RTD(\"cqg.rtd\",,\"StudyData\", $L$2, \"FG\", \"\", \"High\", $K$2, $A142, $P$2,$O$2,,$M$2,$N$2)","v":40.549999999999997},{"$f":" RTD(\"cqg.rtd\",,\"StudyData\", $L$2, \"FG\", \"\", \"Low\", $K$2, $A142, $P$2,$O$2,,$M$2,$N$2)","v":39.19},{"$f":" RTD(\"cqg.rtd\",,\"StudyData\", $L$2, \"FG\", \"\", \"Close\", $K$2, $A142, $P$2,$O$2,,$M$2,$N$2)","v":39.729999999999997},"2020-10-26",44130,"10/26/20"]
[-141,{"$f":" RTD(\"cqg.rtd\",,\"StudyData\", $L$2, \"FG\", \"\", \"Time\", $K$2,$A143, $P$2, \"\", \"\",\"False\")","v":"2020-10-23"},{"$f":" RTD(\"cqg.rtd\",,\"StudyData\", $L$2, \"FG\", \"\", \"Time\", $K$2, $A143,$P$2,$O$2, \"\",\"False\")","v":44127},{"$f":" RTD(\"cqg.rtd\",,\"StudyData\", $L$2, \"FG\", \"\", \"Open\", $K$2, $A143, $P$2,$O$2,,$M$2,$N$2)","v":41.18},{"$f":" RTD(\"cqg.rtd\",,\"StudyData\", $L$2, \"FG\", \"\", \"High\", $K$2, $A143, $P$2,$O$2,,$M$2,$N$2)","v":41.18},{"$f":" RTD(\"cqg.rtd\",,\"StudyData\", $L$2, \"FG\", \"\", \"Low\", $K$2, $A143, $P$2,$O$2,,$M$2,$N$2)","v":40.659999999999997},{"$f":" RTD(\"cqg.rtd\",,\"StudyData\", $L$2, \"FG\", \"\", \"Close\", $K$2, $A143, $P$2,$O$2,,$M$2,$N$2)","v":40.99},"2020-10-23",44127,"10/23/20"]
[-142,{"$f":" RTD(\"cqg.rtd\",,\"StudyData\", $L$2, \"FG\", \"\", \"Time\", $K$2,$A144, $P$2, \"\", \"\",\"False\")","v":"2020-10-22"},{"$f":" RTD(\"cqg.rtd\",,\"StudyData\", $L$2, \"FG\", \"\", \"Time\", $K$2, $A144,$P$2,$O$2, \"\",\"False\")","v":44126},{"$f":" RTD(\"cqg.rtd\",,\"StudyData\", $L$2, \"FG\", \"\", \"Open\", $K$2, $A144, $P$2,$O$2,,$M$2,$N$2)","v":40.64},{"$f":" RTD(\"cqg.rtd\",,\"StudyData\", $L$2, \"FG\", \"\", \"High\", $K$2, $A144, $P$2,$O$2,,$M$2,$N$2)","v":40.93},{"$f":" RTD(\"cqg.rtd\",,\"StudyData\", $L$2, \"FG\", \"\", \"Low\", $K$2, $A144, $P$2,$O$2,,$M$2,$N$2)","v":40.15},{"$f":" RTD(\"cqg.rtd\",,\"StudyData\", $L$2, \"FG\", \"\", \"Close\", $K$2, $A144, $P$2,$O$2,,$M$2,$N$2)","v":40.86},"2020-10-22",44126,"10/22/20"]
[-143,{"$f":" RTD(\"cqg.rtd\",,\"StudyData\", $L$2, \"FG\", \"\", \"Time\", $K$2,$A145, $P$2, \"\", \"\",\"False\")","v":"2020-10-21"},{"$f":" RTD(\"cqg.rtd\",,\"StudyData\", $L$2, \"FG\", \"\", \"Time\", $K$2, $A145,$P$2,$O$2, \"\",\"False\")","v":44125},{"$f":" RTD(\"cqg.rtd\",,\"StudyData\", $L$2, \"FG\", \"\", \"Open\", $K$2, $A145, $P$2,$O$2,,$M$2,$N$2)","v":41.01},{"$f":" RTD(\"cqg.rtd\",,\"StudyData\", $L$2, \"FG\", \"\", \"High\", $K$2, $A145, $P$2,$O$2,,$M$2,$N$2)","v":41.01},{"$f":" RTD(\"cqg.rtd\",,\"StudyData\", $L$2, \"FG\", \"\", \"Low\", $K$2, $A145, $P$2,$O$2,,$M$2,$N$2)","v":40.35},{"$f":" RTD(\"cqg.rtd\",,\"StudyData\", $L$2, \"FG\", \"\", \"Close\", $K$2, $A145, $P$2,$O$2,,$M$2,$N$2)","v":40.369999999999997},"2020-10-21",44125,"10/21/20"]
[-144,{"$f":" RTD(\"cqg.rtd\",,\"StudyData\", $L$2, \"FG\", \"\", \"Time\", $K$2,$A146, $P$2, \"\", \"\",\"False\")","v":"2020-10-20"},{"$f":" RTD(\"cqg.rtd\",,\"StudyData\", $L$2, \"FG\", \"\", \"Time\", $K$2, $A146,$P$2,$O$2, \"\",\"False\")","v":44124},{"$f":" RTD(\"cqg.rtd\",,\"StudyData\", $L$2, \"FG\", \"\", \"Open\", $K$2, $A146, $P$2,$O$2,,$M$2,$N$2)","v":41.22},{"$f":" RTD(\"cqg.rtd\",,\"StudyData\", $L$2, \"FG\", \"\", \"High\", $K$2, $A146, $P$2,$O$2,,$M$2,$N$2)","v":41.37},{"$f":" RTD(\"cqg.rtd\",,\"StudyData\", $L$2, \"FG\", \"\", \"Low\", $K$2, $A146, $P$2,$O$2,,$M$2,$N$2)","v":40.78},{"$f":" RTD(\"cqg.rtd\",,\"StudyData\", $L$2, \"FG\", \"\", \"Close\", $K$2, $A146, $P$2,$O$2,,$M$2,$N$2)","v":40.880000000000003},"2020-10-20",44124,"10/20/20"]
[-145,{"$f":" RTD(\"cqg.rtd\",,\"StudyData\", $L$2, \"FG\", \"\", \"Time\", $K$2,$A147, $P$2, \"\", \"\",\"False\")","v":"2020-10-19"},{"$f":" RTD(\"cqg.rtd\",,\"StudyData\", $L$2, \"FG\", \"\", \"Time\", $K$2, $A147,$P$2,$O$2, \"\",\"False\")","v":44123},{"$f":" RTD(\"cqg.rtd\",,\"StudyData\", $L$2, \"FG\", \"\", \"Open\", $K$2, $A147, $P$2,$O$2,,$M$2,$N$2)","v":41.63},{"$f":" RTD(\"cqg.rtd\",,\"StudyData\", $L$2, \"FG\", \"\", \"High\", $K$2, $A147, $P$2,$O$2,,$M$2,$N$2)","v":41.91},{"$f":" RTD(\"cqg.rtd\",,\"StudyData\", $L$2, \"FG\", \"\", \"Low\", $K$2, $A147, $P$2,$O$2,,$M$2,$N$2)","v":40.72},{"$f":" RTD(\"cqg.rtd\",,\"StudyData\", $L$2, \"FG\", \"\", \"Close\", $K$2, $A147, $P$2,$O$2,,$M$2,$N$2)","v":40.72},"2020-10-19",44123,"10/19/20"]
[-146,{"$f":" RTD(\"cqg.rtd\",,\"StudyData\", $L$2, \"FG\", \"\", \"Time\", $K$2,$A148, $P$2, \"\", \"\",\"False\")","v":"2020-10-16"},{"$f":" RTD(\"cqg.rtd\",,\"StudyData\", $L$2, \"FG\", \"\", \"Time\", $K$2, $A148,$P$2,$O$2, \"\",\"False\")","v":44120},{"$f":" RTD(\"cqg.rtd\",,\"StudyData\", $L$2, \"FG\", \"\", \"Open\", $K$2, $A148, $P$2,$O$2,,$M$2,$N$2)","v":41.53},{"$f":" RTD(\"cqg.rtd\",,\"StudyData\", $L$2, \"FG\", \"\", \"High\", $K$2, $A148, $P$2,$O$2,,$M$2,$N$2)","v":41.95},{"$f":" RTD(\"cqg.rtd\",,\"StudyData\", $L$2, \"FG\", \"\", \"Low\", $K$2, $A148, $P$2,$O$2,,$M$2,$N$2)","v":41.14},{"$f":" RTD(\"cqg.rtd\",,\"StudyData\", $L$2, \"FG\", \"\", \"Close\", $K$2, $A148, $P$2,$O$2,,$M$2,$N$2)","v":41.16},"2020-10-16",44120,"10/16/20"]
[-147,{"$f":" RTD(\"cqg.rtd\",,\"StudyData\", $L$2, \"FG\", \"\", \"Time\", $K$2,$A149, $P$2, \"\", \"\",\"False\")","v":"2020-10-15"},{"$f":" RTD(\"cqg.rtd\",,\"StudyData\", $L$2, \"FG\", \"\", \"Time\", $K$2, $A149,$P$2,$O$2, \"\",\"False\")","v":44119},{"$f":" RTD(\"cqg.rtd\",,\"StudyData\", $L$2, \"FG\", \"\", \"Open\", $K$2, $A149, $P$2,$O$2,,$M$2,$N$2)","v":40.799999999999997},{"$f":" RTD(\"cqg.rtd\",,\"StudyData\", $L$2, \"FG\", \"\", \"High\", $K$2, $A149, $P$2,$O$2,,$M$2,$N$2)","v":41.18},{"$f":" RTD(\"cqg.rtd\",,\"StudyData\", $L$2, \"FG\", \"\", \"Low\", $K$2, $A149, $P$2,$O$2,,$M$2,$N$2)","v":40.21},{"$f":" RTD(\"cqg.rtd\",,\"StudyData\", $L$2, \"FG\", \"\", \"Close\", $K$2, $A149, $P$2,$O$2,,$M$2,$N$2)","v":41.14},"2020-10-15",44119,"10/15/20"]
[-148,{"$f":" RTD(\"cqg.rtd\",,\"StudyData\", $L$2, \"FG\", \"\", \"Time\", $K$2,$A150, $P$2, \"\", \"\",\"False\")","v":"2020-10-14"},{"$f":" RTD(\"cqg.rtd\",,\"StudyData\", $L$2, \"FG\", \"\", \"Time\", $K$2, $A150,$P$2,$O$2, \"\",\"False\")","v":44118},{"$f":" RTD(\"cqg.rtd\",,\"StudyData\", $L$2, \"FG\", \"\", \"Open\", $K$2, $A150, $P$2,$O$2,,$M$2,$N$2)","v":40.5},{"$f":" RTD(\"cqg.rtd\",,\"StudyData\", $L$2, \"FG\", \"\", \"High\", $K$2, $A150, $P$2,$O$2,,$M$2,$N$2)","v":41.27},{"$f":" RTD(\"cqg.rtd\",,\"StudyData\", $L$2, \"FG\", \"\", \"Low\", $K$2, $A150, $P$2,$O$2,,$M$2,$N$2)","v":40.5},{"$f":" RTD(\"cqg.rtd\",,\"StudyData\", $L$2, \"FG\", \"\", \"Close\", $K$2, $A150, $P$2,$O$2,,$M$2,$N$2)","v":40.950000000000003},"2020-10-14",44118,"10/14/20"]
[-149,{"$f":" RTD(\"cqg.rtd\",,\"StudyData\", $L$2, \"FG\", \"\", \"Time\", $K$2,$A151, $P$2, \"\", \"\",\"False\")","v":"2020-10-13"},{"$f":" RTD(\"cqg.rtd\",,\"StudyData\", $L$2, \"FG\", \"\", \"Time\", $K$2, $A151,$P$2,$O$2, \"\",\"False\")","v":44117},{"$f":" RTD(\"cqg.rtd\",,\"StudyData\", $L$2, \"FG\", \"\", \"Open\", $K$2, $A151, $P$2,$O$2,,$M$2,$N$2)","v":41.22},{"$f":" RTD(\"cqg.rtd\",,\"StudyData\", $L$2, \"FG\", \"\", \"High\", $K$2, $A151, $P$2,$O$2,,$M$2,$N$2)","v":41.22},{"$f":" RTD(\"cqg.rtd\",,\"StudyData\", $L$2, \"FG\", \"\", \"Low\", $K$2, $A151, $P$2,$O$2,,$M$2,$N$2)","v":40.32},{"$f":" RTD(\"cqg.rtd\",,\"StudyData\", $L$2, \"FG\", \"\", \"Close\", $K$2, $A151, $P$2,$O$2,,$M$2,$N$2)","v":40.5},"2020-10-13",44117,"10/13/20"]
[-150,{"$f":" RTD(\"cqg.rtd\",,\"StudyData\", $L$2, \"FG\", \"\", \"Time\", $K$2,$A152, $P$2, \"\", \"\",\"False\")","v":"2020-10-12"},{"$f":" RTD(\"cqg.rtd\",,\"StudyData\", $L$2, \"FG\", \"\", \"Time\", $K$2, $A152,$P$2,$O$2, \"\",\"False\")","v":44116},{"$f":" RTD(\"cqg.rtd\",,\"StudyData\", $L$2, \"FG\", \"\", \"Open\", $K$2, $A152, $P$2,$O$2,,$M$2,$N$2)","v":41.78},{"$f":" RTD(\"cqg.rtd\",,\"StudyData\", $L$2, \"FG\", \"\", \"High\", $K$2, $A152, $P$2,$O$2,,$M$2,$N$2)","v":41.98},{"$f":" RTD(\"cqg.rtd\",,\"StudyData\", $L$2, \"FG\", \"\", \"Low\", $K$2, $A152, $P$2,$O$2,,$M$2,$N$2)","v":41.05},{"$f":" RTD(\"cqg.rtd\",,\"StudyData\", $L$2, \"FG\", \"\", \"Close\", $K$2, $A152, $P$2,$O$2,,$M$2,$N$2)","v":41.08},"2020-10-12",44116,"10/12/20"]
[-151,{"$f":" RTD(\"cqg.rtd\",,\"StudyData\", $L$2, \"FG\", \"\", \"Time\", $K$2,$A153, $P$2, \"\", \"\",\"False\")","v":"2020-10-09"},{"$f":" RTD(\"cqg.rtd\",,\"StudyData\", $L$2, \"FG\", \"\", \"Time\", $K$2, $A153,$P$2,$O$2, \"\",\"False\")","v":44113},{"$f":" RTD(\"cqg.rtd\",,\"StudyData\", $L$2, \"FG\", \"\", \"Open\", $K$2, $A153, $P$2,$O$2,,$M$2,$N$2)","v":41.34},{"$f":" RTD(\"cqg.rtd\",,\"StudyData\", $L$2, \"FG\", \"\", \"High\", $K$2, $A153, $P$2,$O$2,,$M$2,$N$2)","v":41.34},{"$f":" RTD(\"cqg.rtd\",,\"StudyData\", $L$2, \"FG\", \"\", \"Low\", $K$2, $A153, $P$2,$O$2,,$M$2,$N$2)","v":40.5},{"$f":" RTD(\"cqg.rtd\",,\"StudyData\", $L$2, \"FG\", \"\", \"Close\", $K$2, $A153, $P$2,$O$2,,$M$2,$N$2)","v":41.01},"2020-10-09",44113,"10/09/20"]
[-152,{"$f":" RTD(\"cqg.rtd\",,\"StudyData\", $L$2, \"FG\", \"\", \"Time\", $K$2,$A154, $P$2, \"\", \"\",\"False\")","v":"2020-10-08"},{"$f":" RTD(\"cqg.rtd\",,\"StudyData\", $L$2, \"FG\", \"\", \"Time\", $K$2, $A154,$P$2,$O$2, \"\",\"False\")","v":44112},{"$f":" RTD(\"cqg.rtd\",,\"StudyData\", $L$2, \"FG\", \"\", \"Open\", $K$2, $A154, $P$2,$O$2,,$M$2,$N$2)","v":40.880000000000003},{"$f":" RTD(\"cqg.rtd\",,\"StudyData\", $L$2, \"FG\", \"\", \"High\", $K$2, $A154, $P$2,$O$2,,$M$2,$N$2)","v":41.14},{"$f":" RTD(\"cqg.rtd\",,\"StudyData\", $L$2, \"FG\", \"\", \"Low\", $K$2, $A154, $P$2,$O$2,,$M$2,$N$2)","v":40.22},{"$f":" RTD(\"cqg.rtd\",,\"StudyData\", $L$2, \"FG\", \"\", \"Close\", $K$2, $A154, $P$2,$O$2,,$M$2,$N$2)","v":40.39},"2020-10-08",44112,"10/08/20"]
[-153,{"$f":" RTD(\"cqg.rtd\",,\"StudyData\", $L$2, \"FG\", \"\", \"Time\", $K$2,$A155, $P$2, \"\", \"\",\"False\")","v":"2020-10-07"},{"$f":" RTD(\"cqg.rtd\",,\"StudyData\", $L$2, \"FG\", \"\", \"Time\", $K$2, $A155,$P$2,$O$2, \"\",\"False\")","v":44111},{"$f":" RTD(\"cqg.rtd\",,\"StudyData\", $L$2, \"FG\", \"\", \"Open\", $K$2, $A155, $P$2,$O$2,,$M$2,$N$2)","v":39.450000000000003},{"$f":" RTD(\"cqg.rtd\",,\"StudyData\", $L$2, \"FG\", \"\", \"High\", $K$2, $A155, $P$2,$O$2,,$M$2,$N$2)","v":40.35},{"$f":" RTD(\"cqg.rtd\",,\"StudyData\", $L$2, \"FG\", \"\", \"Low\", $K$2, $A155, $P$2,$O$2,,$M$2,$N$2)","v":39.450000000000003},{"$f":" RTD(\"cqg.rtd\",,\"StudyData\", $L$2, \"FG\", \"\", \"Close\", $K$2, $A155, $P$2,$O$2,,$M$2,$N$2)","v":40.29},"2020-10-07",44111,"10/07/20"]
[-154,{"$f":" RTD(\"cqg.rtd\",,\"StudyData\", $L$2, \"FG\", \"\", \"Time\", $K$2,$A156, $P$2, \"\", \"\",\"False\")","v":"2020-10-06"},{"$f":" RTD(\"cqg.rtd\",,\"StudyData\", $L$2, \"FG\", \"\", \"Time\", $K$2, $A156,$P$2,$O$2, \"\",\"False\")","v":44110},{"$f":" RTD(\"cqg.rtd\",,\"StudyData\", $L$2, \"FG\", \"\", \"Open\", $K$2, $A156, $P$2,$O$2,,$M$2,$N$2)","v":39.49},{"$f":" RTD(\"cqg.rtd\",,\"StudyData\", $L$2, \"FG\", \"\", \"High\", $K$2, $A156, $P$2,$O$2,,$M$2,$N$2)","v":40.15},{"$f":" RTD(\"cqg.rtd\",,\"StudyData\", $L$2, \"FG\", \"\", \"Low\", $K$2, $A156, $P$2,$O$2,,$M$2,$N$2)","v":38.909999999999997},{"$f":" RTD(\"cqg.rtd\",,\"StudyData\", $L$2, \"FG\", \"\", \"Close\", $K$2, $A156, $P$2,$O$2,,$M$2,$N$2)","v":38.92},"2020-10-06",44110,"10/06/20"]
[-155,{"$f":" RTD(\"cqg.rtd\",,\"StudyData\", $L$2, \"FG\", \"\", \"Time\", $K$2,$A157, $P$2, \"\", \"\",\"False\")","v":"2020-10-05"},{"$f":" RTD(\"cqg.rtd\",,\"StudyData\", $L$2, \"FG\", \"\", \"Time\", $K$2, $A157,$P$2,$O$2, \"\",\"False\")","v":44109},{"$f":" RTD(\"cqg.rtd\",,\"StudyData\", $L$2, \"FG\", \"\", \"Open\", $K$2, $A157, $P$2,$O$2,,$M$2,$N$2)","v":38.1},{"$f":" RTD(\"cqg.rtd\",,\"StudyData\", $L$2, \"FG\", \"\", \"High\", $K$2, $A157, $P$2,$O$2,,$M$2,$N$2)","v":39.18},{"$f":" RTD(\"cqg.rtd\",,\"StudyData\", $L$2, \"FG\", \"\", \"Low\", $K$2, $A157, $P$2,$O$2,,$M$2,$N$2)","v":38.1},{"$f":" RTD(\"cqg.rtd\",,\"StudyData\", $L$2, \"FG\", \"\", \"Close\", $K$2, $A157, $P$2,$O$2,,$M$2,$N$2)","v":39.159999999999997},"2020-10-05",44109,"10/05/20"]
[-156,{"$f":" RTD(\"cqg.rtd\",,\"StudyData\", $L$2, \"FG\", \"\", \"Time\", $K$2,$A158, $P$2, \"\", \"\",\"False\")","v":"2020-10-02"},{"$f":" RTD(\"cqg.rtd\",,\"StudyData\", $L$2, \"FG\", \"\", \"Time\", $K$2, $A158,$P$2,$O$2, \"\",\"False\")","v":44106},{"$f":" RTD(\"cqg.rtd\",,\"StudyData\", $L$2, \"FG\", \"\", \"Open\", $K$2, $A158, $P$2,$O$2,,$M$2,$N$2)","v":37.770000000000003},{"$f":" RTD(\"cqg.rtd\",,\"StudyData\", $L$2, \"FG\", \"\", \"High\", $K$2, $A158, $P$2,$O$2,,$M$2,$N$2)","v":38.159999999999997},{"$f":" RTD(\"cqg.rtd\",,\"StudyData\", $L$2, \"FG\", \"\", \"Low\", $K$2, $A158, $P$2,$O$2,,$M$2,$N$2)","v":37.130000000000003},{"$f":" RTD(\"cqg.rtd\",,\"StudyData\", $L$2, \"FG\", \"\", \"Close\", $K$2, $A158, $P$2,$O$2,,$M$2,$N$2)","v":38},"2020-10-02",44106,"10/02/20"]
[-157,{"$f":" RTD(\"cqg.rtd\",,\"StudyData\", $L$2, \"FG\", \"\", \"Time\", $K$2,$A159, $P$2, \"\", \"\",\"False\")","v":"2020-10-01"},{"$f":" RTD(\"cqg.rtd\",,\"StudyData\", $L$2, \"FG\", \"\", \"Time\", $K$2, $A159,$P$2,$O$2, \"\",\"False\")","v":44105},{"$f":" RTD(\"cqg.rtd\",,\"StudyData\", $L$2, \"FG\", \"\", \"Open\", $K$2, $A159, $P$2,$O$2,,$M$2,$N$2)","v":38.1},{"$f":" RTD(\"cqg.rtd\",,\"StudyData\", $L$2, \"FG\", \"\", \"High\", $K$2, $A159, $P$2,$O$2,,$M$2,$N$2)","v":38.26},{"$f":" RTD(\"cqg.rtd\",,\"StudyData\", $L$2, \"FG\", \"\", \"Low\", $K$2, $A159, $P$2,$O$2,,$M$2,$N$2)","v":37.74},{"$f":" RTD(\"cqg.rtd\",,\"StudyData\", $L$2, \"FG\", \"\", \"Close\", $K$2, $A159, $P$2,$O$2,,$M$2,$N$2)","v":38.26},"2020-10-01",44105,"10/01/20"]
[-158,{"$f":" RTD(\"cqg.rtd\",,\"StudyData\", $L$2, \"FG\", \"\", \"Time\", $K$2,$A160, $P$2, \"\", \"\",\"False\")","v":"2020-09-30"},{"$f":" RTD(\"cqg.rtd\",,\"StudyData\", $L$2, \"FG\", \"\", \"Time\", $K$2, $A160,$P$2,$O$2, \"\",\"False\")","v":44104},{"$f":" RTD(\"cqg.rtd\",,\"StudyData\", $L$2, \"FG\", \"\", \"Open\", $K$2, $A160, $P$2,$O$2,,$M$2,$N$2)","v":37.619999999999997},{"$f":" RTD(\"cqg.rtd\",,\"StudyData\", $L$2, \"FG\", \"\", \"High\", $K$2, $A160, $P$2,$O$2,,$M$2,$N$2)","v":37.99},{"$f":" RTD(\"cqg.rtd\",,\"StudyData\", $L$2, \"FG\", \"\", \"Low\", $K$2, $A160, $P$2,$O$2,,$M$2,$N$2)","v":37.11},{"$f":" RTD(\"cqg.rtd\",,\"StudyData\", $L$2, \"FG\", \"\", \"Close\", $K$2, $A160, $P$2,$O$2,,$M$2,$N$2)","v":37.479999999999997},"2020-09-30",44104,"09/30/20"]
[-159,{"$f":" RTD(\"cqg.rtd\",,\"StudyData\", $L$2, \"FG\", \"\", \"Time\", $K$2,$A161, $P$2, \"\", \"\",\"False\")","v":"2020-09-29"},{"$f":" RTD(\"cqg.rtd\",,\"StudyData\", $L$2, \"FG\", \"\", \"Time\", $K$2, $A161,$P$2,$O$2, \"\",\"False\")","v":44103},{"$f":" RTD(\"cqg.rtd\",,\"StudyData\", $L$2, \"FG\", \"\", \"Open\", $K$2, $A161, $P$2,$O$2,,$M$2,$N$2)","v":37.51},{"$f":" RTD(\"cqg.rtd\",,\"StudyData\", $L$2, \"FG\", \"\", \"High\", $K$2, $A161, $P$2,$O$2,,$M$2,$N$2)","v":39.14},{"$f":" RTD(\"cqg.rtd\",,\"StudyData\", $L$2, \"FG\", \"\", \"Low\", $K$2, $A161, $P$2,$O$2,,$M$2,$N$2)","v":36.950000000000003},{"$f":" RTD(\"cqg.rtd\",,\"StudyData\", $L$2, \"FG\", \"\", \"Close\", $K$2, $A161, $P$2,$O$2,,$M$2,$N$2)","v":37.29},"2020-09-29",44103,"09/29/20"]
[-160,{"$f":" RTD(\"cqg.rtd\",,\"StudyData\", $L$2, \"FG\", \"\", \"Time\", $K$2,$A162, $P$2, \"\", \"\",\"False\")","v":"2020-09-28"},{"$f":" RTD(\"cqg.rtd\",,\"StudyData\", $L$2, \"FG\", \"\", \"Time\", $K$2, $A162,$P$2,$O$2, \"\",\"False\")","v":44102},{"$f":" RTD(\"cqg.rtd\",,\"StudyData\", $L$2, \"FG\", \"\", \"Open\", $K$2, $A162, $P$2,$O$2,,$M$2,$N$2)","v":36.659999999999997},{"$f":" RTD(\"cqg.rtd\",,\"StudyData\", $L$2, \"FG\", \"\", \"High\", $K$2, $A162, $P$2,$O$2,,$M$2,$N$2)","v":37.28},{"$f":" RTD(\"cqg.rtd\",,\"StudyData\", $L$2, \"FG\", \"\", \"Low\", $K$2, $A162, $P$2,$O$2,,$M$2,$N$2)","v":36.659999999999997},{"$f":" RTD(\"cqg.rtd\",,\"StudyData\", $L$2, \"FG\", \"\", \"Close\", $K$2, $A162, $P$2,$O$2,,$M$2,$N$2)","v":37.159999999999997},"2020-09-28",44102,"09/28/20"]
[-161,{"$f":" RTD(\"cqg.rtd\",,\"StudyData\", $L$2, \"FG\", \"\", \"Time\", $K$2,$A163, $P$2, \"\", \"\",\"False\")","v":"2020-09-25"},{"$f":" RTD(\"cqg.rtd\",,\"StudyData\", $L$2, \"FG\", \"\", \"Time\", $K$2, $A163,$P$2,$O$2, \"\",\"False\")","v":44099},{"$f":" RTD(\"cqg.rtd\",,\"StudyData\", $L$2, \"FG\", \"\", \"Open\", $K$2, $A163, $P$2,$O$2,,$M$2,$N$2)","v":34.619999999999997},{"$f":" RTD(\"cqg.rtd\",,\"StudyData\", $L$2, \"FG\", \"\", \"High\", $K$2, $A163, $P$2,$O$2,,$M$2,$N$2)","v":35.67},{"$f":" RTD(\"cqg.rtd\",,\"StudyData\", $L$2, \"FG\", \"\", \"Low\", $K$2, $A163, $P$2,$O$2,,$M$2,$N$2)","v":34.619999999999997},{"$f":" RTD(\"cqg.rtd\",,\"StudyData\", $L$2, \"FG\", \"\", \"Close\", $K$2, $A163, $P$2,$O$2,,$M$2,$N$2)","v":35.61},"2020-09-25",44099,"09/25/20"]
[-162,{"$f":" RTD(\"cqg.rtd\",,\"StudyData\", $L$2, \"FG\", \"\", \"Time\", $K$2,$A164, $P$2, \"\", \"\",\"False\")","v":"2020-09-24"},{"$f":" RTD(\"cqg.rtd\",,\"StudyData\", $L$2, \"FG\", \"\", \"Time\", $K$2, $A164,$P$2,$O$2, \"\",\"False\")","v":44098},{"$f":" RTD(\"cqg.rtd\",,\"StudyData\", $L$2, \"FG\", \"\", \"Open\", $K$2, $A164, $P$2,$O$2,,$M$2,$N$2)","v":34.979999999999997},{"$f":" RTD(\"cqg.rtd\",,\"StudyData\", $L$2, \"FG\", \"\", \"High\", $K$2, $A164, $P$2,$O$2,,$M$2,$N$2)","v":35.54},{"$f":" RTD(\"cqg.rtd\",,\"StudyData\", $L$2, \"FG\", \"\", \"Low\", $K$2, $A164, $P$2,$O$2,,$M$2,$N$2)","v":33.76},{"$f":" RTD(\"cqg.rtd\",,\"StudyData\", $L$2, \"FG\", \"\", \"Close\", $K$2, $A164, $P$2,$O$2,,$M$2,$N$2)","v":34.97},"2020-09-24",44098,"09/24/20"]
[-163,{"$f":" RTD(\"cqg.rtd\",,\"StudyData\", $L$2, \"FG\", \"\", \"Time\", $K$2,$A165, $P$2, \"\", \"\",\"False\")","v":"2020-09-23"},{"$f":" RTD(\"cqg.rtd\",,\"StudyData\", $L$2, \"FG\", \"\", \"Time\", $K$2, $A165,$P$2,$O$2, \"\",\"False\")","v":44097},{"$f":" RTD(\"cqg.rtd\",,\"StudyData\", $L$2, \"FG\", \"\", \"Open\", $K$2, $A165, $P$2,$O$2,,$M$2,$N$2)","v":36.57},{"$f":" RTD(\"cqg.rtd\",,\"StudyData\", $L$2, \"FG\", \"\", \"High\", $K$2, $A165, $P$2,$O$2,,$M$2,$N$2)","v":36.67},{"$f":" RTD(\"cqg.rtd\",,\"StudyData\", $L$2, \"FG\", \"\", \"Low\", $K$2, $A165, $P$2,$O$2,,$M$2,$N$2)","v":35.21},{"$f":" RTD(\"cqg.rtd\",,\"StudyData\", $L$2, \"FG\", \"\", \"Close\", $K$2, $A165, $P$2,$O$2,,$M$2,$N$2)","v":35.229999999999997},"2020-09-23",44097,"09/23/20"]
[-164,{"$f":" RTD(\"cqg.rtd\",,\"StudyData\", $L$2, \"FG\", \"\", \"Time\", $K$2,$A166, $P$2, \"\", \"\",\"False\")","v":"2020-09-22"},{"$f":" RTD(\"cqg.rtd\",,\"StudyData\", $L$2, \"FG\", \"\", \"Time\", $K$2, $A166,$P$2,$O$2, \"\",\"False\")","v":44096},{"$f":" RTD(\"cqg.rtd\",,\"StudyData\", $L$2, \"FG\", \"\", \"Open\", $K$2, $A166, $P$2,$O$2,,$M$2,$N$2)","v":38.770000000000003},{"$f":" RTD(\"cqg.rtd\",,\"StudyData\", $L$2, \"FG\", \"\", \"High\", $K$2, $A166, $P$2,$O$2,,$M$2,$N$2)","v":38.770000000000003},{"$f":" RTD(\"cqg.rtd\",,\"StudyData\", $L$2, \"FG\", \"\", \"Low\", $K$2, $A166, $P$2,$O$2,,$M$2,$N$2)","v":36.270000000000003},{"$f":" RTD(\"cqg.rtd\",,\"StudyData\", $L$2, \"FG\", \"\", \"Close\", $K$2, $A166, $P$2,$O$2,,$M$2,$N$2)","v":36.67},"2020-09-22",44096,"09/22/20"]
[-165,{"$f":" RTD(\"cqg.rtd\",,\"StudyData\", $L$2, \"FG\", \"\", \"Time\", $K$2,$A167, $P$2, \"\", \"\",\"False\")","v":"2020-09-21"},{"$f":" RTD(\"cqg.rtd\",,\"StudyData\", $L$2, \"FG\", \"\", \"Time\", $K$2, $A167,$P$2,$O$2, \"\",\"False\")","v":44095},{"$f":" RTD(\"cqg.rtd\",,\"StudyData\", $L$2, \"FG\", \"\", \"Open\", $K$2, $A167, $P$2,$O$2,,$M$2,$N$2)","v":37.450000000000003},{"$f":" RTD(\"cqg.rtd\",,\"StudyData\", $L$2, \"FG\", \"\", \"High\", $K$2, $A167, $P$2,$O$2,,$M$2,$N$2)","v":37.450000000000003},{"$f":" RTD(\"cqg.rtd\",,\"StudyData\", $L$2, \"FG\", \"\", \"Low\", $K$2, $A167, $P$2,$O$2,,$M$2,$N$2)","v":36.21},{"$f":" RTD(\"cqg.rtd\",,\"StudyData\", $L$2, \"FG\", \"\", \"Close\", $K$2, $A167, $P$2,$O$2,,$M$2,$N$2)","v":37.049999999999997},"2020-09-21",44095,"09/21/20"]
[-166,{"$f":" RTD(\"cqg.rtd\",,\"StudyData\", $L$2, \"FG\", \"\", \"Time\", $K$2,$A168, $P$2, \"\", \"\",\"False\")","v":"2020-09-18"},{"$f":" RTD(\"cqg.rtd\",,\"StudyData\", $L$2, \"FG\", \"\", \"Time\", $K$2, $A168,$P$2,$O$2, \"\",\"False\")","v":44092},{"$f":" RTD(\"cqg.rtd\",,\"StudyData\", $L$2, \"FG\", \"\", \"Open\", $K$2, $A168, $P$2,$O$2,,$M$2,$N$2)","v":38.29},{"$f":" RTD(\"cqg.rtd\",,\"StudyData\", $L$2, \"FG\", \"\", \"High\", $K$2, $A168, $P$2,$O$2,,$M$2,$N$2)","v":38.49},{"$f":" RTD(\"cqg.rtd\",,\"StudyData\", $L$2, \"FG\", \"\", \"Low\", $K$2, $A168, $P$2,$O$2,,$M$2,$N$2)","v":37.799999999999997},{"$f":" RTD(\"cqg.rtd\",,\"StudyData\", $L$2, \"FG\", \"\", \"Close\", $K$2, $A168, $P$2,$O$2,,$M$2,$N$2)","v":38.25},"2020-09-18",44092,"09/18/20"]
[-167,{"$f":" RTD(\"cqg.rtd\",,\"StudyData\", $L$2, \"FG\", \"\", \"Time\", $K$2,$A169, $P$2, \"\", \"\",\"False\")","v":"2020-09-17"},{"$f":" RTD(\"cqg.rtd\",,\"StudyData\", $L$2, \"FG\", \"\", \"Time\", $K$2, $A169,$P$2,$O$2, \"\",\"False\")","v":44091},{"$f":" RTD(\"cqg.rtd\",,\"StudyData\", $L$2, \"FG\", \"\", \"Open\", $K$2, $A169, $P$2,$O$2,,$M$2,$N$2)","v":37.549999999999997},{"$f":" RTD(\"cqg.rtd\",,\"StudyData\", $L$2, \"FG\", \"\", \"High\", $K$2, $A169, $P$2,$O$2,,$M$2,$N$2)","v":38.299999999999997},{"$f":" RTD(\"cqg.rtd\",,\"StudyData\", $L$2, \"FG\", \"\", \"Low\", $K$2, $A169, $P$2,$O$2,,$M$2,$N$2)","v":36.97},{"$f":" RTD(\"cqg.rtd\",,\"StudyData\", $L$2, \"FG\", \"\", \"Close\", $K$2, $A169, $P$2,$O$2,,$M$2,$N$2)","v":38.090000000000003},"2020-09-17",44091,"09/17/20"]
[-168,{"$f":" RTD(\"cqg.rtd\",,\"StudyData\", $L$2, \"FG\", \"\", \"Time\", $K$2,$A170, $P$2, \"\", \"\",\"False\")","v":"2020-09-16"},{"$f":" RTD(\"cqg.rtd\",,\"StudyData\", $L$2, \"FG\", \"\", \"Time\", $K$2, $A170,$P$2,$O$2, \"\",\"False\")","v":44090},{"$f":" RTD(\"cqg.rtd\",,\"StudyData\", $L$2, \"FG\", \"\", \"Open\", $K$2, $A170, $P$2,$O$2,,$M$2,$N$2)","v":38.81},{"$f":" RTD(\"cqg.rtd\",,\"StudyData\", $L$2, \"FG\", \"\", \"High\", $K$2, $A170, $P$2,$O$2,,$M$2,$N$2)","v":38.89},{"$f":" RTD(\"cqg.rtd\",,\"StudyData\", $L$2, \"FG\", \"\", \"Low\", $K$2, $A170, $P$2,$O$2,,$M$2,$N$2)","v":38.28},{"$f":" RTD(\"cqg.rtd\",,\"StudyData\", $L$2, \"FG\", \"\", \"Close\", $K$2, $A170, $P$2,$O$2,,$M$2,$N$2)","v":38.28},"2020-09-16",44090,"09/16/20"]
[-169,{"$f":" RTD(\"cqg.rtd\",,\"StudyData\", $L$2, \"FG\", \"\", \"Time\", $K$2,$A171, $P$2, \"\", \"\",\"False\")","v":"2020-09-15"},{"$f":" RTD(\"cqg.rtd\",,\"StudyData\", $L$2, \"FG\", \"\", \"Time\", $K$2, $A171,$P$2,$O$2, \"\",\"False\")","v":44089},{"$f":" RTD(\"cqg.rtd\",,\"StudyData\", $L$2, \"FG\", \"\", \"Open\", $K$2, $A171, $P$2,$O$2,,$M$2,$N$2)","v":38.42},{"$f":" RTD(\"cqg.rtd\",,\"StudyData\", $L$2, \"FG\", \"\", \"High\", $K$2, $A171, $P$2,$O$2,,$M$2,$N$2)","v":38.78},{"$f":" RTD(\"cqg.rtd\",,\"StudyData\", $L$2, \"FG\", \"\", \"Low\", $K$2, $A171, $P$2,$O$2,,$M$2,$N$2)","v":38.36},{"$f":" RTD(\"cqg.rtd\",,\"StudyData\", $L$2, \"FG\", \"\", \"Close\", $K$2, $A171, $P$2,$O$2,,$M$2,$N$2)","v":38.409999999999997},"2020-09-15",44089,"09/15/20"]
[-170,{"$f":" RTD(\"cqg.rtd\",,\"StudyData\", $L$2, \"FG\", \"\", \"Time\", $K$2,$A172, $P$2, \"\", \"\",\"False\")","v":"2020-09-14"},{"$f":" RTD(\"cqg.rtd\",,\"StudyData\", $L$2, \"FG\", \"\", \"Time\", $K$2, $A172,$P$2,$O$2, \"\",\"False\")","v":44088},{"$f":" RTD(\"cqg.rtd\",,\"StudyData\", $L$2, \"FG\", \"\", \"Open\", $K$2, $A172, $P$2,$O$2,,$M$2,$N$2)","v":37.880000000000003},{"$f":" RTD(\"cqg.rtd\",,\"StudyData\", $L$2, \"FG\", \"\", \"High\", $K$2, $A172, $P$2,$O$2,,$M$2,$N$2)","v":38.21},{"$f":" RTD(\"cqg.rtd\",,\"StudyData\", $L$2, \"FG\", \"\", \"Low\", $K$2, $A172, $P$2,$O$2,,$M$2,$N$2)","v":37.299999999999997},{"$f":" RTD(\"cqg.rtd\",,\"StudyData\", $L$2, \"FG\", \"\", \"Close\", $K$2, $A172, $P$2,$O$2,,$M$2,$N$2)","v":38.200000000000003},"2020-09-14",44088,"09/14/20"]
[-171,{"$f":" RTD(\"cqg.rtd\",,\"StudyData\", $L$2, \"FG\", \"\", \"Time\", $K$2,$A173, $P$2, \"\", \"\",\"False\")","v":"2020-09-11"},{"$f":" RTD(\"cqg.rtd\",,\"StudyData\", $L$2, \"FG\", \"\", \"Time\", $K$2, $A173,$P$2,$O$2, \"\",\"False\")","v":44085},{"$f":" RTD(\"cqg.rtd\",,\"StudyData\", $L$2, \"FG\", \"\", \"Open\", $K$2, $A173, $P$2,$O$2,,$M$2,$N$2)","v":36.92},{"$f":" RTD(\"cqg.rtd\",,\"StudyData\", $L$2, \"FG\", \"\", \"High\", $K$2, $A173, $P$2,$O$2,,$M$2,$N$2)","v":37.119999999999997},{"$f":" RTD(\"cqg.rtd\",,\"StudyData\", $L$2, \"FG\", \"\", \"Low\", $K$2, $A173, $P$2,$O$2,,$M$2,$N$2)","v":36.6},{"$f":" RTD(\"cqg.rtd\",,\"StudyData\", $L$2, \"FG\", \"\", \"Close\", $K$2, $A173, $P$2,$O$2,,$M$2,$N$2)","v":37},"2020-09-11",44085,"09/11/20"]
[-172,{"$f":" RTD(\"cqg.rtd\",,\"StudyData\", $L$2, \"FG\", \"\", \"Time\", $K$2,$A174, $P$2, \"\", \"\",\"False\")","v":"2020-09-10"},{"$f":" RTD(\"cqg.rtd\",,\"StudyData\", $L$2, \"FG\", \"\", \"Time\", $K$2, $A174,$P$2,$O$2, \"\",\"False\")","v":44084},{"$f":" RTD(\"cqg.rtd\",,\"StudyData\", $L$2, \"FG\", \"\", \"Open\", $K$2, $A174, $P$2,$O$2,,$M$2,$N$2)","v":37.799999999999997},{"$f":" RTD(\"cqg.rtd\",,\"StudyData\", $L$2, \"FG\", \"\", \"High\", $K$2, $A174, $P$2,$O$2,,$M$2,$N$2)","v":37.869999999999997},{"$f":" RTD(\"cqg.rtd\",,\"StudyData\", $L$2, \"FG\", \"\", \"Low\", $K$2, $A174, $P$2,$O$2,,$M$2,$N$2)","v":36.64},{"$f":" RTD(\"cqg.rtd\",,\"StudyData\", $L$2, \"FG\", \"\", \"Close\", $K$2, $A174, $P$2,$O$2,,$M$2,$N$2)","v":36.76},"2020-09-10",44084,"09/10/20"]
[-173,{"$f":" RTD(\"cqg.rtd\",,\"StudyData\", $L$2, \"FG\", \"\", \"Time\", $K$2,$A175, $P$2, \"\", \"\",\"False\")","v":"2020-09-09"},{"$f":" RTD(\"cqg.rtd\",,\"StudyData\", $L$2, \"FG\", \"\", \"Time\", $K$2, $A175,$P$2,$O$2, \"\",\"False\")","v":44083},{"$f":" RTD(\"cqg.rtd\",,\"StudyData\", $L$2, \"FG\", \"\", \"Open\", $K$2, $A175, $P$2,$O$2,,$M$2,$N$2)","v":36.729999999999997},{"$f":" RTD(\"cqg.rtd\",,\"StudyData\", $L$2, \"FG\", \"\", \"High\", $K$2, $A175, $P$2,$O$2,,$M$2,$N$2)","v":37.380000000000003},{"$f":" RTD(\"cqg.rtd\",,\"StudyData\", $L$2, \"FG\", \"\", \"Low\", $K$2, $A175, $P$2,$O$2,,$M$2,$N$2)","v":36.729999999999997},{"$f":" RTD(\"cqg.rtd\",,\"StudyData\", $L$2, \"FG\", \"\", \"Close\", $K$2, $A175, $P$2,$O$2,,$M$2,$N$2)","v":37.35},"2020-09-09",44083,"09/09/20"]
[-174,{"$f":" RTD(\"cqg.rtd\",,\"StudyData\", $L$2, \"FG\", \"\", \"Time\", $K$2,$A176, $P$2, \"\", \"\",\"False\")","v":"2020-09-08"},{"$f":" RTD(\"cqg.rtd\",,\"StudyData\", $L$2, \"FG\", \"\", \"Time\", $K$2, $A176,$P$2,$O$2, \"\",\"False\")","v":44082},{"$f":" RTD(\"cqg.rtd\",,\"StudyData\", $L$2, \"FG\", \"\", \"Open\", $K$2, $A176, $P$2,$O$2,,$M$2,$N$2)","v":35.97},{"$f":" RTD(\"cqg.rtd\",,\"StudyData\", $L$2, \"FG\", \"\", \"High\", $K$2, $A176, $P$2,$O$2,,$M$2,$N$2)","v":37.159999999999997},{"$f":" RTD(\"cqg.rtd\",,\"StudyData\", $L$2, \"FG\", \"\", \"Low\", $K$2, $A176, $P$2,$O$2,,$M$2,$N$2)","v":35.909999999999997},{"$f":" RTD(\"cqg.rtd\",,\"StudyData\", $L$2, \"FG\", \"\", \"Close\", $K$2, $A176, $P$2,$O$2,,$M$2,$N$2)","v":36.31},"2020-09-08",44082,"09/08/20"]
[-175,{"$f":" RTD(\"cqg.rtd\",,\"StudyData\", $L$2, \"FG\", \"\", \"Time\", $K$2,$A177, $P$2, \"\", \"\",\"False\")","v":"2020-09-04"},{"$f":" RTD(\"cqg.rtd\",,\"StudyData\", $L$2, \"FG\", \"\", \"Time\", $K$2, $A177,$P$2,$O$2, \"\",\"False\")","v":44078},{"$f":" RTD(\"cqg.rtd\",,\"StudyData\", $L$2, \"FG\", \"\", \"Open\", $K$2, $A177, $P$2,$O$2,,$M$2,$N$2)","v":36.86},{"$f":" RTD(\"cqg.rtd\",,\"StudyData\", $L$2, \"FG\", \"\", \"High\", $K$2, $A177, $P$2,$O$2,,$M$2,$N$2)","v":37.53},{"$f":" RTD(\"cqg.rtd\",,\"StudyData\", $L$2, \"FG\", \"\", \"Low\", $K$2, $A177, $P$2,$O$2,,$M$2,$N$2)","v":35.700000000000003},{"$f":" RTD(\"cqg.rtd\",,\"StudyData\", $L$2, \"FG\", \"\", \"Close\", $K$2, $A177, $P$2,$O$2,,$M$2,$N$2)","v":37.21},"2020-09-04",44078,"09/04/20"]
[-176,{"$f":" RTD(\"cqg.rtd\",,\"StudyData\", $L$2, \"FG\", \"\", \"Time\", $K$2,$A178, $P$2, \"\", \"\",\"False\")","v":"2020-09-03"},{"$f":" RTD(\"cqg.rtd\",,\"StudyData\", $L$2, \"FG\", \"\", \"Time\", $K$2, $A178,$P$2,$O$2, \"\",\"False\")","v":44077},{"$f":" RTD(\"cqg.rtd\",,\"StudyData\", $L$2, \"FG\", \"\", \"Open\", $K$2, $A178, $P$2,$O$2,,$M$2,$N$2)","v":38.46},{"$f":" RTD(\"cqg.rtd\",,\"StudyData\", $L$2, \"FG\", \"\", \"High\", $K$2, $A178, $P$2,$O$2,,$M$2,$N$2)","v":38.46},{"$f":" RTD(\"cqg.rtd\",,\"StudyData\", $L$2, \"FG\", \"\", \"Low\", $K$2, $A178, $P$2,$O$2,,$M$2,$N$2)","v":36.79},{"$f":" RTD(\"cqg.rtd\",,\"StudyData\", $L$2, \"FG\", \"\", \"Close\", $K$2, $A178, $P$2,$O$2,,$M$2,$N$2)","v":36.880000000000003},"2020-09-03",44077,"09/03/20"]
[-177,{"$f":" RTD(\"cqg.rtd\",,\"StudyData\", $L$2, \"FG\", \"\", \"Time\", $K$2,$A179, $P$2, \"\", \"\",\"False\")","v":"2020-09-02"},{"$f":" RTD(\"cqg.rtd\",,\"StudyData\", $L$2, \"FG\", \"\", \"Time\", $K$2, $A179,$P$2,$O$2, \"\",\"False\")","v":44076},{"$f":" RTD(\"cqg.rtd\",,\"StudyData\", $L$2, \"FG\", \"\", \"Open\", $K$2, $A179, $P$2,$O$2,,$M$2,$N$2)","v":39.119999999999997},{"$f":" RTD(\"cqg.rtd\",,\"StudyData\", $L$2, \"FG\", \"\", \"High\", $K$2, $A179, $P$2,$O$2,,$M$2,$N$2)","v":39.119999999999997},{"$f":" RTD(\"cqg.rtd\",,\"StudyData\", $L$2, \"FG\", \"\", \"Low\", $K$2, $A179, $P$2,$O$2,,$M$2,$N$2)","v":38.11},{"$f":" RTD(\"cqg.rtd\",,\"StudyData\", $L$2, \"FG\", \"\", \"Close\", $K$2, $A179, $P$2,$O$2,,$M$2,$N$2)","v":38.840000000000003},"2020-09-02",44076,"09/02/20"]
[-178,{"$f":" RTD(\"cqg.rtd\",,\"StudyData\", $L$2, \"FG\", \"\", \"Time\", $K$2,$A180, $P$2, \"\", \"\",\"False\")","v":"2020-09-01"},{"$f":" RTD(\"cqg.rtd\",,\"StudyData\", $L$2, \"FG\", \"\", \"Time\", $K$2, $A180,$P$2,$O$2, \"\",\"False\")","v":44075},{"$f":" RTD(\"cqg.rtd\",,\"StudyData\", $L$2, \"FG\", \"\", \"Open\", $K$2, $A180, $P$2,$O$2,,$M$2,$N$2)","v":38.04},{"$f":" RTD(\"cqg.rtd\",,\"StudyData\", $L$2, \"FG\", \"\", \"High\", $K$2, $A180, $P$2,$O$2,,$M$2,$N$2)","v":38.65},{"$f":" RTD(\"cqg.rtd\",,\"StudyData\", $L$2, \"FG\", \"\", \"Low\", $K$2, $A180, $P$2,$O$2,,$M$2,$N$2)","v":37.68},{"$f":" RTD(\"cqg.rtd\",,\"StudyData\", $L$2, \"FG\", \"\", \"Close\", $K$2, $A180, $P$2,$O$2,,$M$2,$N$2)","v":38.65},"2020-09-01",44075,"09/01/20"]
[-179,{"$f":" RTD(\"cqg.rtd\",,\"StudyData\", $L$2, \"FG\", \"\", \"Time\", $K$2,$A181, $P$2, \"\", \"\",\"False\")","v":"2020-08-31"},{"$f":" RTD(\"cqg.rtd\",,\"StudyData\", $L$2, \"FG\", \"\", \"Time\", $K$2, $A181,$P$2,$O$2, \"\",\"False\")","v":44074},{"$f":" RTD(\"cqg.rtd\",,\"StudyData\", $L$2, \"FG\", \"\", \"Open\", $K$2, $A181, $P$2,$O$2,,$M$2,$N$2)","v":37.299999999999997},{"$f":" RTD(\"cqg.rtd\",,\"StudyData\", $L$2, \"FG\", \"\", \"High\", $K$2, $A181, $P$2,$O$2,,$M$2,$N$2)","v":38.159999999999997},{"$f":" RTD(\"cqg.rtd\",,\"StudyData\", $L$2, \"FG\", \"\", \"Low\", $K$2, $A181, $P$2,$O$2,,$M$2,$N$2)","v":37.299999999999997},{"$f":" RTD(\"cqg.rtd\",,\"StudyData\", $L$2, \"FG\", \"\", \"Close\", $K$2, $A181, $P$2,$O$2,,$M$2,$N$2)","v":37.9},"2020-08-31",44074,"08/31/20"]
[-180,{"$f":" RTD(\"cqg.rtd\",,\"StudyData\", $L$2, \"FG\", \"\", \"Time\", $K$2,$A182, $P$2, \"\", \"\",\"False\")","v":"2020-08-28"},{"$f":" RTD(\"cqg.rtd\",,\"StudyData\", $L$2, \"FG\", \"\", \"Time\", $K$2, $A182,$P$2,$O$2, \"\",\"False\")","v":44071},{"$f":" RTD(\"cqg.rtd\",,\"StudyData\", $L$2, \"FG\", \"\", \"Open\", $K$2, $A182, $P$2,$O$2,,$M$2,$N$2)","v":37.770000000000003},{"$f":" RTD(\"cqg.rtd\",,\"StudyData\", $L$2, \"FG\", \"\", \"High\", $K$2, $A182, $P$2,$O$2,,$M$2,$N$2)","v":37.81},{"$f":" RTD(\"cqg.rtd\",,\"StudyData\", $L$2, \"FG\", \"\", \"Low\", $K$2, $A182, $P$2,$O$2,,$M$2,$N$2)","v":37.47},{"$f":" RTD(\"cqg.rtd\",,\"StudyData\", $L$2, \"FG\", \"\", \"Close\", $K$2, $A182, $P$2,$O$2,,$M$2,$N$2)","v":37.729999999999997},"2020-08-28",44071,"08/28/20"]
[-181,{"$f":" RTD(\"cqg.rtd\",,\"StudyData\", $L$2, \"FG\", \"\", \"Time\", $K$2,$A183, $P$2, \"\", \"\",\"False\")","v":"2020-08-27"},{"$f":" RTD(\"cqg.rtd\",,\"StudyData\", $L$2, \"FG\", \"\", \"Time\", $K$2, $A183,$P$2,$O$2, \"\",\"False\")","v":44070},{"$f":" RTD(\"cqg.rtd\",,\"StudyData\", $L$2, \"FG\", \"\", \"Open\", $K$2, $A183, $P$2,$O$2,,$M$2,$N$2)","v":37.799999999999997},{"$f":" RTD(\"cqg.rtd\",,\"StudyData\", $L$2, \"FG\", \"\", \"High\", $K$2, $A183, $P$2,$O$2,,$M$2,$N$2)","v":37.799999999999997},{"$f":" RTD(\"cqg.rtd\",,\"StudyData\", $L$2, \"FG\", \"\", \"Low\", $K$2, $A183, $P$2,$O$2,,$M$2,$N$2)","v":37.200000000000003},{"$f":" RTD(\"cqg.rtd\",,\"StudyData\", $L$2, \"FG\", \"\", \"Close\", $K$2, $A183, $P$2,$O$2,,$M$2,$N$2)","v":37.380000000000003},"2020-08-27",44070,"08/27/20"]
[-182,{"$f":" RTD(\"cqg.rtd\",,\"StudyData\", $L$2, \"FG\", \"\", \"Time\", $K$2,$A184, $P$2, \"\", \"\",\"False\")","v":"2020-08-26"},{"$f":" RTD(\"cqg.rtd\",,\"StudyData\", $L$2, \"FG\", \"\", \"Time\", $K$2, $A184,$P$2,$O$2, \"\",\"False\")","v":44069},{"$f":" RTD(\"cqg.rtd\",,\"StudyData\", $L$2, \"FG\", \"\", \"Open\", $K$2, $A184, $P$2,$O$2,,$M$2,$N$2)","v":37.54},{"$f":" RTD(\"cqg.rtd\",,\"StudyData\", $L$2, \"FG\", \"\", \"High\", $K$2, $A184, $P$2,$O$2,,$M$2,$N$2)","v":37.54},{"$f":" RTD(\"cqg.rtd\",,\"StudyData\", $L$2, \"FG\", \"\", \"Low\", $K$2, $A184, $P$2,$O$2,,$M$2,$N$2)","v":37.54},{"$f":" RTD(\"cqg.rtd\",,\"StudyData\", $L$2, \"FG\", \"\", \"Close\", $K$2, $A184, $P$2,$O$2,,$M$2,$N$2)","v":37.54},"2020-08-26",44069,"08/26/20"]
[-183,{"$f":" RTD(\"cqg.rtd\",,\"StudyData\", $L$2, \"FG\", \"\", \"Time\", $K$2,$A185, $P$2, \"\", \"\",\"False\")","v":"2020-08-25"},{"$f":" RTD(\"cqg.rtd\",,\"StudyData\", $L$2, \"FG\", \"\", \"Time\", $K$2, $A185,$P$2,$O$2, \"\",\"False\")","v":44068},{"$f":" RTD(\"cqg.rtd\",,\"StudyData\", $L$2, \"FG\", \"\", \"Open\", $K$2, $A185, $P$2,$O$2,,$M$2,$N$2)","v":36.17},{"$f":" RTD(\"cqg.rtd\",,\"StudyData\", $L$2, \"FG\", \"\", \"High\", $K$2, $A185, $P$2,$O$2,,$M$2,$N$2)","v":36.17},{"$f":" RTD(\"cqg.rtd\",,\"StudyData\", $L$2, \"FG\", \"\", \"Low\", $K$2, $A185, $P$2,$O$2,,$M$2,$N$2)","v":36.17},{"$f":" RTD(\"cqg.rtd\",,\"StudyData\", $L$2, \"FG\", \"\", \"Close\", $K$2, $A185, $P$2,$O$2,,$M$2,$N$2)","v":36.17},"2020-08-25",44068,"08/25/20"]
[-184,{"$f":" RTD(\"cqg.rtd\",,\"StudyData\", $L$2, \"FG\", \"\", \"Time\", $K$2,$A186, $P$2, \"\", \"\",\"False\")","v":"2020-08-24"},{"$f":" RTD(\"cqg.rtd\",,\"StudyData\", $L$2, \"FG\", \"\", \"Time\", $K$2, $A186,$P$2,$O$2, \"\",\"False\")","v":44067},{"$f":" RTD(\"cqg.rtd\",,\"StudyData\", $L$2, \"FG\", \"\", \"Open\", $K$2, $A186, $P$2,$O$2,,$M$2,$N$2)","v":36.17},{"$f":" RTD(\"cqg.rtd\",,\"StudyData\", $L$2, \"FG\", \"\", \"High\", $K$2, $A186, $P$2,$O$2,,$M$2,$N$2)","v":36.17},{"$f":" RTD(\"cqg.rtd\",,\"StudyData\", $L$2, \"FG\", \"\", \"Low\", $K$2, $A186, $P$2,$O$2,,$M$2,$N$2)","v":36.17},{"$f":" RTD(\"cqg.rtd\",,\"StudyData\", $L$2, \"FG\", \"\", \"Close\", $K$2, $A186, $P$2,$O$2,,$M$2,$N$2)","v":36.17},"2020-08-24",44067,"08/24/20"]
[-185,{"$f":" RTD(\"cqg.rtd\",,\"StudyData\", $L$2, \"FG\", \"\", \"Time\", $K$2,$A187, $P$2, \"\", \"\",\"False\")","v":"2020-08-21"},{"$f":" RTD(\"cqg.rtd\",,\"StudyData\", $L$2, \"FG\", \"\", \"Time\", $K$2, $A187,$P$2,$O$2, \"\",\"False\")","v":44064},{"$f":" RTD(\"cqg.rtd\",,\"StudyData\", $L$2, \"FG\", \"\", \"Open\", $K$2, $A187, $P$2,$O$2,,$M$2,$N$2)","v":36.17},{"$f":" RTD(\"cqg.rtd\",,\"StudyData\", $L$2, \"FG\", \"\", \"High\", $K$2, $A187, $P$2,$O$2,,$M$2,$N$2)","v":36.17},{"$f":" RTD(\"cqg.rtd\",,\"StudyData\", $L$2, \"FG\", \"\", \"Low\", $K$2, $A187, $P$2,$O$2,,$M$2,$N$2)","v":36.17},{"$f":" RTD(\"cqg.rtd\",,\"StudyData\", $L$2, \"FG\", \"\", \"Close\", $K$2, $A187, $P$2,$O$2,,$M$2,$N$2)","v":36.17},"2020-08-21",44064,"08/21/20"]
[-186,{"$f":" RTD(\"cqg.rtd\",,\"StudyData\", $L$2, \"FG\", \"\", \"Time\", $K$2,$A188, $P$2, \"\", \"\",\"False\")","v":"2020-08-20"},{"$f":" RTD(\"cqg.rtd\",,\"StudyData\", $L$2, \"FG\", \"\", \"Time\", $K$2, $A188,$P$2,$O$2, \"\",\"False\")","v":44063},{"$f":" RTD(\"cqg.rtd\",,\"StudyData\", $L$2, \"FG\", \"\", \"Open\", $K$2, $A188, $P$2,$O$2,,$M$2,$N$2)","v":36.17},{"$f":" RTD(\"cqg.rtd\",,\"StudyData\", $L$2, \"FG\", \"\", \"High\", $K$2, $A188, $P$2,$O$2,,$M$2,$N$2)","v":36.17},{"$f":" RTD(\"cqg.rtd\",,\"StudyData\", $L$2, \"FG\", \"\", \"Low\", $K$2, $A188, $P$2,$O$2,,$M$2,$N$2)","v":36.17},{"$f":" RTD(\"cqg.rtd\",,\"StudyData\", $L$2, \"FG\", \"\", \"Close\", $K$2, $A188, $P$2,$O$2,,$M$2,$N$2)","v":36.17},"2020-08-20",44063,"08/20/20"]
[-187,{"$f":" RTD(\"cqg.rtd\",,\"StudyData\", $L$2, \"FG\", \"\", \"Time\", $K$2,$A189, $P$2, \"\", \"\",\"False\")","v":"2020-08-19"},{"$f":" RTD(\"cqg.rtd\",,\"StudyData\", $L$2, \"FG\", \"\", \"Time\", $K$2, $A189,$P$2,$O$2, \"\",\"False\")","v":44062},{"$f":" RTD(\"cqg.rtd\",,\"StudyData\", $L$2, \"FG\", \"\", \"Open\", $K$2, $A189, $P$2,$O$2,,$M$2,$N$2)","v":36.17},{"$f":" RTD(\"cqg.rtd\",,\"StudyData\", $L$2, \"FG\", \"\", \"High\", $K$2, $A189, $P$2,$O$2,,$M$2,$N$2)","v":36.17},{"$f":" RTD(\"cqg.rtd\",,\"StudyData\", $L$2, \"FG\", \"\", \"Low\", $K$2, $A189, $P$2,$O$2,,$M$2,$N$2)","v":36.17},{"$f":" RTD(\"cqg.rtd\",,\"StudyData\", $L$2, \"FG\", \"\", \"Close\", $K$2, $A189, $P$2,$O$2,,$M$2,$N$2)","v":36.17},"2020-08-19",44062,"08/19/20"]
[-188,{"$f":" RTD(\"cqg.rtd\",,\"StudyData\", $L$2, \"FG\", \"\", \"Time\", $K$2,$A190, $P$2, \"\", \"\",\"False\")","v":"2020-08-18"},{"$f":" RTD(\"cqg.rtd\",,\"StudyData\", $L$2, \"FG\", \"\", \"Time\", $K$2, $A190,$P$2,$O$2, \"\",\"False\")","v":44061},{"$f":" RTD(\"cqg.rtd\",,\"StudyData\", $L$2, \"FG\", \"\", \"Open\", $K$2, $A190, $P$2,$O$2,,$M$2,$N$2)","v":36.43},{"$f":" RTD(\"cqg.rtd\",,\"StudyData\", $L$2, \"FG\", \"\", \"High\", $K$2, $A190, $P$2,$O$2,,$M$2,$N$2)","v":36.43},{"$f":" RTD(\"cqg.rtd\",,\"StudyData\", $L$2, \"FG\", \"\", \"Low\", $K$2, $A190, $P$2,$O$2,,$M$2,$N$2)","v":36.020000000000003},{"$f":" RTD(\"cqg.rtd\",,\"StudyData\", $L$2, \"FG\", \"\", \"Close\", $K$2, $A190, $P$2,$O$2,,$M$2,$N$2)","v":36.17},"2020-08-18",44061,"08/18/20"]
[-189,{"$f":" RTD(\"cqg.rtd\",,\"StudyData\", $L$2, \"FG\", \"\", \"Time\", $K$2,$A191, $P$2, \"\", \"\",\"False\")","v":"2020-08-17"},{"$f":" RTD(\"cqg.rtd\",,\"StudyData\", $L$2, \"FG\", \"\", \"Time\", $K$2, $A191,$P$2,$O$2, \"\",\"False\")","v":44060},{"$f":" RTD(\"cqg.rtd\",,\"StudyData\", $L$2, \"FG\", \"\", \"Open\", $K$2, $A191, $P$2,$O$2,,$M$2,$N$2)","v":35.880000000000003},{"$f":" RTD(\"cqg.rtd\",,\"StudyData\", $L$2, \"FG\", \"\", \"High\", $K$2, $A191, $P$2,$O$2,,$M$2,$N$2)","v":36.200000000000003},{"$f":" RTD(\"cqg.rtd\",,\"StudyData\", $L$2, \"FG\", \"\", \"Low\", $K$2, $A191, $P$2,$O$2,,$M$2,$N$2)","v":35.82},{"$f":" RTD(\"cqg.rtd\",,\"StudyData\", $L$2, \"FG\", \"\", \"Close\", $K$2, $A191, $P$2,$O$2,,$M$2,$N$2)","v":36.15},"2020-08-17",44060,"08/17/20"]
[-190,{"$f":" RTD(\"cqg.rtd\",,\"StudyData\", $L$2, \"FG\", \"\", \"Time\", $K$2,$A192, $P$2, \"\", \"\",\"False\")","v":"2020-08-14"},{"$f":" RTD(\"cqg.rtd\",,\"StudyData\", $L$2, \"FG\", \"\", \"Time\", $K$2, $A192,$P$2,$O$2, \"\",\"False\")","v":44057},{"$f":" RTD(\"cqg.rtd\",,\"StudyData\", $L$2, \"FG\", \"\", \"Open\", $K$2, $A192, $P$2,$O$2,,$M$2,$N$2)","v":35.74},{"$f":" RTD(\"cqg.rtd\",,\"StudyData\", $L$2, \"FG\", \"\", \"High\", $K$2, $A192, $P$2,$O$2,,$M$2,$N$2)","v":35.74},{"$f":" RTD(\"cqg.rtd\",,\"StudyData\", $L$2, \"FG\", \"\", \"Low\", $K$2, $A192, $P$2,$O$2,,$M$2,$N$2)","v":35.47},{"$f":" RTD(\"cqg.rtd\",,\"StudyData\", $L$2, \"FG\", \"\", \"Close\", $K$2, $A192, $P$2,$O$2,,$M$2,$N$2)","v":35.71},"2020-08-14",44057,"08/14/20"]
[-191,{"$f":" RTD(\"cqg.rtd\",,\"StudyData\", $L$2, \"FG\", \"\", \"Time\", $K$2,$A193, $P$2, \"\", \"\",\"False\")","v":"2020-08-13"},{"$f":" RTD(\"cqg.rtd\",,\"StudyData\", $L$2, \"FG\", \"\", \"Time\", $K$2, $A193,$P$2,$O$2, \"\",\"False\")","v":44056},{"$f":" RTD(\"cqg.rtd\",,\"StudyData\", $L$2, \"FG\", \"\", \"Open\", $K$2, $A193, $P$2,$O$2,,$M$2,$N$2)","v":36},{"$f":" RTD(\"cqg.rtd\",,\"StudyData\", $L$2, \"FG\", \"\", \"High\", $K$2, $A193, $P$2,$O$2,,$M$2,$N$2)","v":36.07},{"$f":" RTD(\"cqg.rtd\",,\"StudyData\", $L$2, \"FG\", \"\", \"Low\", $K$2, $A193, $P$2,$O$2,,$M$2,$N$2)","v":35.450000000000003},{"$f":" RTD(\"cqg.rtd\",,\"StudyData\", $L$2, \"FG\", \"\", \"Close\", $K$2, $A193, $P$2,$O$2,,$M$2,$N$2)","v":35.75},"2020-08-13",44056,"08/13/20"]
[-192,{"$f":" RTD(\"cqg.rtd\",,\"StudyData\", $L$2, \"FG\", \"\", \"Time\", $K$2,$A194, $P$2, \"\", \"\",\"False\")","v":"2020-08-12"},{"$f":" RTD(\"cqg.rtd\",,\"StudyData\", $L$2, \"FG\", \"\", \"Time\", $K$2, $A194,$P$2,$O$2, \"\",\"False\")","v":44055},{"$f":" RTD(\"cqg.rtd\",,\"StudyData\", $L$2, \"FG\", \"\", \"Open\", $K$2, $A194, $P$2,$O$2,,$M$2,$N$2)","v":36.04},{"$f":" RTD(\"cqg.rtd\",,\"StudyData\", $L$2, \"FG\", \"\", \"High\", $K$2, $A194, $P$2,$O$2,,$M$2,$N$2)","v":36.04},{"$f":" RTD(\"cqg.rtd\",,\"StudyData\", $L$2, \"FG\", \"\", \"Low\", $K$2, $A194, $P$2,$O$2,,$M$2,$N$2)","v":35.56},{"$f":" RTD(\"cqg.rtd\",,\"StudyData\", $L$2, \"FG\", \"\", \"Close\", $K$2, $A194, $P$2,$O$2,,$M$2,$N$2)","v":35.880000000000003},"2020-08-12",44055,"08/12/20"]
[-193,{"$f":" RTD(\"cqg.rtd\",,\"StudyData\", $L$2, \"FG\", \"\", \"Time\", $K$2,$A195, $P$2, \"\", \"\",\"False\")","v":"2020-08-11"},{"$f":" RTD(\"cqg.rtd\",,\"StudyData\", $L$2, \"FG\", \"\", \"Time\", $K$2, $A195,$P$2,$O$2, \"\",\"False\")","v":44054},{"$f":" RTD(\"cqg.rtd\",,\"StudyData\", $L$2, \"FG\", \"\", \"Open\", $K$2, $A195, $P$2,$O$2,,$M$2,$N$2)","v":35.56},{"$f":" RTD(\"cqg.rtd\",,\"StudyData\", $L$2, \"FG\", \"\", \"High\", $K$2, $A195, $P$2,$O$2,,$M$2,$N$2)","v":36.200000000000003},{"$f":" RTD(\"cqg.rtd\",,\"StudyData\", $L$2, \"FG\", \"\", \"Low\", $K$2, $A195, $P$2,$O$2,,$M$2,$N$2)","v":35.5},{"$f":" RTD(\"cqg.rtd\",,\"StudyData\", $L$2, \"FG\", \"\", \"Close\", $K$2, $A195, $P$2,$O$2,,$M$2,$N$2)","v":35.54},{"$f":"B195","v":"2020-08-11"},{"$f":"B195","v":44054},{"$f":"IF(OR($K$2=\"D\",$K$2=\"W\",$K$2=\",'M\"),TEXT(H195,\"MM/DD/YY\"),TEXT(I195,\"HH:MM\"))","v":"08/11/20"}]
[{"$f":"A195-1","v":-194},{"$f":" RTD(\"cqg.rtd\",,\"StudyData\", $L$2, \"FG\", \"\", \"Time\", $K$2,$A196, $P$2, \"\", \"\",\"False\")","v":"2020-08-10"},{"$f":" RTD(\"cqg.rtd\",,\"StudyData\", $L$2, \"FG\", \"\", \"Time\", $K$2, $A196,$P$2,$O$2, \"\",\"False\")","v":44053},{"$f":" RTD(\"cqg.rtd\",,\"StudyData\", $L$2, \"FG\", \"\", \"Open\", $K$2, $A196, $P$2,$O$2,,$M$2,$N$2)","v":35.159999999999997},{"$f":" RTD(\"cqg.rtd\",,\"StudyData\", $L$2, \"FG\", \"\", \"High\", $K$2, $A196, $P$2,$O$2,,$M$2,$N$2)","v":35.65},{"$f":" RTD(\"cqg.rtd\",,\"StudyData\", $L$2, \"FG\", \"\", \"Low\", $K$2, $A196, $P$2,$O$2,,$M$2,$N$2)","v":35.159999999999997},{"$f":" RTD(\"cqg.rtd\",,\"StudyData\", $L$2, \"FG\", \"\", \"Close\", $K$2, $A196, $P$2,$O$2,,$M$2,$N$2)","v":35.6},"2020-08-10",44053,"08/10/20"]
[-195,{"$f":" RTD(\"cqg.rtd\",,\"StudyData\", $L$2, \"FG\", \"\", \"Time\", $K$2,$A197, $P$2, \"\", \"\",\"False\")","v":"2020-08-07"},{"$f":" RTD(\"cqg.rtd\",,\"StudyData\", $L$2, \"FG\", \"\", \"Time\", $K$2, $A197,$P$2,$O$2, \"\",\"False\")","v":44050},{"$f":" RTD(\"cqg.rtd\",,\"StudyData\", $L$2, \"FG\", \"\", \"Open\", $K$2, $A197, $P$2,$O$2,,$M$2,$N$2)","v":34.75},{"$f":" RTD(\"cqg.rtd\",,\"StudyData\", $L$2, \"FG\", \"\", \"High\", $K$2, $A197, $P$2,$O$2,,$M$2,$N$2)","v":34.93},{"$f":" RTD(\"cqg.rtd\",,\"StudyData\", $L$2, \"FG\", \"\", \"Low\", $K$2, $A197, $P$2,$O$2,,$M$2,$N$2)","v":34.56},{"$f":" RTD(\"cqg.rtd\",,\"StudyData\", $L$2, \"FG\", \"\", \"Close\", $K$2, $A197, $P$2,$O$2,,$M$2,$N$2)","v":34.9},"2020-08-07",44050,"08/07/20"]
[-196,{"$f":" RTD(\"cqg.rtd\",,\"StudyData\", $L$2, \"FG\", \"\", \"Time\", $K$2,$A198, $P$2, \"\", \"\",\"False\")","v":"2020-08-06"},{"$f":" RTD(\"cqg.rtd\",,\"StudyData\", $L$2, \"FG\", \"\", \"Time\", $K$2, $A198,$P$2,$O$2, \"\",\"False\")","v":44049},{"$f":" RTD(\"cqg.rtd\",,\"StudyData\", $L$2, \"FG\", \"\", \"Open\", $K$2, $A198, $P$2,$O$2,,$M$2,$N$2)","v":34.97},{"$f":" RTD(\"cqg.rtd\",,\"StudyData\", $L$2, \"FG\", \"\", \"High\", $K$2, $A198, $P$2,$O$2,,$M$2,$N$2)","v":35.15},{"$f":" RTD(\"cqg.rtd\",,\"StudyData\", $L$2, \"FG\", \"\", \"Low\", $K$2, $A198, $P$2,$O$2,,$M$2,$N$2)","v":34.909999999999997},{"$f":" RTD(\"cqg.rtd\",,\"StudyData\", $L$2, \"FG\", \"\", \"Close\", $K$2, $A198, $P$2,$O$2,,$M$2,$N$2)","v":34.97},"2020-08-06",44049,"08/06/20"]
[-197,{"$f":" RTD(\"cqg.rtd\",,\"StudyData\", $L$2, \"FG\", \"\", \"Time\", $K$2,$A199, $P$2, \"\", \"\",\"False\")","v":"2020-08-05"},{"$f":" RTD(\"cqg.rtd\",,\"StudyData\", $L$2, \"FG\", \"\", \"Time\", $K$2, $A199,$P$2,$O$2, \"\",\"False\")","v":44048},{"$f":" RTD(\"cqg.rtd\",,\"StudyData\", $L$2, \"FG\", \"\", \"Open\", $K$2, $A199, $P$2,$O$2,,$M$2,$N$2)","v":34.520000000000003},{"$f":" RTD(\"cqg.rtd\",,\"StudyData\", $L$2, \"FG\", \"\", \"High\", $K$2, $A199, $P$2,$O$2,,$M$2,$N$2)","v":34.840000000000003},{"$f":" RTD(\"cqg.rtd\",,\"StudyData\", $L$2, \"FG\", \"\", \"Low\", $K$2, $A199, $P$2,$O$2,,$M$2,$N$2)","v":34.409999999999997},{"$f":" RTD(\"cqg.rtd\",,\"StudyData\", $L$2, \"FG\", \"\", \"Close\", $K$2, $A199, $P$2,$O$2,,$M$2,$N$2)","v":34.82},"2020-08-05",44048,"08/05/20"]
[-198,{"$f":" RTD(\"cqg.rtd\",,\"StudyData\", $L$2, \"FG\", \"\", \"Time\", $K$2,$A200, $P$2, \"\", \"\",\"False\")","v":"2020-08-04"},{"$f":" RTD(\"cqg.rtd\",,\"StudyData\", $L$2, \"FG\", \"\", \"Time\", $K$2, $A200,$P$2,$O$2, \"\",\"False\")","v":44047},{"$f":" RTD(\"cqg.rtd\",,\"StudyData\", $L$2, \"FG\", \"\", \"Open\", $K$2, $A200, $P$2,$O$2,,$M$2,$N$2)","v":34.18},{"$f":" RTD(\"cqg.rtd\",,\"StudyData\", $L$2, \"FG\", \"\", \"High\", $K$2, $A200, $P$2,$O$2,,$M$2,$N$2)","v":34.29},{"$f":" RTD(\"cqg.rtd\",,\"StudyData\", $L$2, \"FG\", \"\", \"Low\", $K$2, $A200, $P$2,$O$2,,$M$2,$N$2)","v":33.93},{"$f":" RTD(\"cqg.rtd\",,\"StudyData\", $L$2, \"FG\", \"\", \"Close\", $K$2, $A200, $P$2,$O$2,,$M$2,$N$2)","v":34.21},"2020-08-04",44047,"08/04/20"]
[-199,{"$f":" RTD(\"cqg.rtd\",,\"StudyData\", $L$2, \"FG\", \"\", \"Time\", $K$2,$A201, $P$2, \"\", \"\",\"False\")","v":"2020-08-03"},{"$f":" RTD(\"cqg.rtd\",,\"StudyData\", $L$2, \"FG\", \"\", \"Time\", $K$2, $A201,$P$2,$O$2, \"\",\"False\")","v":44046},{"$f":" RTD(\"cqg.rtd\",,\"StudyData\", $L$2, \"FG\", \"\", \"Open\", $K$2, $A201, $P$2,$O$2,,$M$2,$N$2)","v":32.83},{"$f":" RTD(\"cqg.rtd\",,\"StudyData\", $L$2, \"FG\", \"\", \"High\", $K$2, $A201, $P$2,$O$2,,$M$2,$N$2)","v":34.04},{"$f":" RTD(\"cqg.rtd\",,\"StudyData\", $L$2, \"FG\", \"\", \"Low\", $K$2, $A201, $P$2,$O$2,,$M$2,$N$2)","v":32.83},{"$f":" RTD(\"cqg.rtd\",,\"StudyData\", $L$2, \"FG\", \"\", \"Close\", $K$2, $A201, $P$2,$O$2,,$M$2,$N$2)","v":34.04},"2020-08-03",44046,"08/03/20"]
[-200,{"$f":" RTD(\"cqg.rtd\",,\"StudyData\", $L$2, \"FG\", \"\", \"Time\", $K$2,$A202, $P$2, \"\", \"\",\"False\")","v":"2020-07-31"},{"$f":" RTD(\"cqg.rtd\",,\"StudyData\", $L$2, \"FG\", \"\", \"Time\", $K$2, $A202,$P$2,$O$2, \"\",\"False\")","v":44043},{"$f":" RTD(\"cqg.rtd\",,\"StudyData\", $L$2, \"FG\", \"\", \"Open\", $K$2, $A202, $P$2,$O$2,,$M$2,$N$2)","v":33.590000000000003},{"$f":" RTD(\"cqg.rtd\",,\"StudyData\", $L$2, \"FG\", \"\", \"High\", $K$2, $A202, $P$2,$O$2,,$M$2,$N$2)","v":33.590000000000003},{"$f":" RTD(\"cqg.rtd\",,\"StudyData\", $L$2, \"FG\", \"\", \"Low\", $K$2, $A202, $P$2,$O$2,,$M$2,$N$2)","v":32.340000000000003},{"$f":" RTD(\"cqg.rtd\",,\"StudyData\", $L$2, \"FG\", \"\", \"Close\", $K$2, $A202, $P$2,$O$2,,$M$2,$N$2)","v":32.72},"2020-07-31",44043,"07/31/20"]
[-201,{"$f":" RTD(\"cqg.rtd\",,\"StudyData\", $L$2, \"FG\", \"\", \"Time\", $K$2,$A203, $P$2, \"\", \"\",\"False\")","v":"2020-07-30"},{"$f":" RTD(\"cqg.rtd\",,\"StudyData\", $L$2, \"FG\", \"\", \"Time\", $K$2, $A203,$P$2,$O$2, \"\",\"False\")","v":44042},{"$f":" RTD(\"cqg.rtd\",,\"StudyData\", $L$2, \"FG\", \"\", \"Open\", $K$2, $A203, $P$2,$O$2,,$M$2,$N$2)","v":33.5},{"$f":" RTD(\"cqg.rtd\",,\"StudyData\", $L$2, \"FG\", \"\", \"High\", $K$2, $A203, $P$2,$O$2,,$M$2,$N$2)","v":33.5},{"$f":" RTD(\"cqg.rtd\",,\"StudyData\", $L$2, \"FG\", \"\", \"Low\", $K$2, $A203, $P$2,$O$2,,$M$2,$N$2)","v":33.090000000000003},{"$f":" RTD(\"cqg.rtd\",,\"StudyData\", $L$2, \"FG\", \"\", \"Close\", $K$2, $A203, $P$2,$O$2,,$M$2,$N$2)","v":33.33},"2020-07-30",44042,"07/30/20"]
[-202,{"$f":" RTD(\"cqg.rtd\",,\"StudyData\", $L$2, \"FG\", \"\", \"Time\", $K$2,$A204, $P$2, \"\", \"\",\"False\")","v":"2020-07-29"},{"$f":" RTD(\"cqg.rtd\",,\"StudyData\", $L$2, \"FG\", \"\", \"Time\", $K$2, $A204,$P$2,$O$2, \"\",\"False\")","v":44041},{"$f":" RTD(\"cqg.rtd\",,\"StudyData\", $L$2, \"FG\", \"\", \"Open\", $K$2, $A204, $P$2,$O$2,,$M$2,$N$2)","v":33.75},{"$f":" RTD(\"cqg.rtd\",,\"StudyData\", $L$2, \"FG\", \"\", \"High\", $K$2, $A204, $P$2,$O$2,,$M$2,$N$2)","v":34.06},{"$f":" RTD(\"cqg.rtd\",,\"StudyData\", $L$2, \"FG\", \"\", \"Low\", $K$2, $A204, $P$2,$O$2,,$M$2,$N$2)","v":33.75},{"$f":" RTD(\"cqg.rtd\",,\"StudyData\", $L$2, \"FG\", \"\", \"Close\", $K$2, $A204, $P$2,$O$2,,$M$2,$N$2)","v":33.96},"2020-07-29",44041,"07/29/20"]
[-203,{"$f":" RTD(\"cqg.rtd\",,\"StudyData\", $L$2, \"FG\", \"\", \"Time\", $K$2,$A205, $P$2, \"\", \"\",\"False\")","v":"2020-07-28"},{"$f":" RTD(\"cqg.rtd\",,\"StudyData\", $L$2, \"FG\", \"\", \"Time\", $K$2, $A205,$P$2,$O$2, \"\",\"False\")","v":44040},{"$f":" RTD(\"cqg.rtd\",,\"StudyData\", $L$2, \"FG\", \"\", \"Open\", $K$2, $A205, $P$2,$O$2,,$M$2,$N$2)","v":33.770000000000003},{"$f":" RTD(\"cqg.rtd\",,\"StudyData\", $L$2, \"FG\", \"\", \"High\", $K$2, $A205, $P$2,$O$2,,$M$2,$N$2)","v":33.770000000000003},{"$f":" RTD(\"cqg.rtd\",,\"StudyData\", $L$2, \"FG\", \"\", \"Low\", $K$2, $A205, $P$2,$O$2,,$M$2,$N$2)","v":33.5},{"$f":" RTD(\"cqg.rtd\",,\"StudyData\", $L$2, \"FG\", \"\", \"Close\", $K$2, $A205, $P$2,$O$2,,$M$2,$N$2)","v":33.5},"2020-07-28",44040,"07/28/20"]
[-204,{"$f":" RTD(\"cqg.rtd\",,\"StudyData\", $L$2, \"FG\", \"\", \"Time\", $K$2,$A206, $P$2, \"\", \"\",\"False\")","v":"2020-07-27"},{"$f":" RTD(\"cqg.rtd\",,\"StudyData\", $L$2, \"FG\", \"\", \"Time\", $K$2, $A206,$P$2,$O$2, \"\",\"False\")","v":44039},{"$f":" RTD(\"cqg.rtd\",,\"StudyData\", $L$2, \"FG\", \"\", \"Open\", $K$2, $A206, $P$2,$O$2,,$M$2,$N$2)","v":33.11},{"$f":" RTD(\"cqg.rtd\",,\"StudyData\", $L$2, \"FG\", \"\", \"High\", $K$2, $A206, $P$2,$O$2,,$M$2,$N$2)","v":33.79},{"$f":" RTD(\"cqg.rtd\",,\"StudyData\", $L$2, \"FG\", \"\", \"Low\", $K$2, $A206, $P$2,$O$2,,$M$2,$N$2)","v":33.11},{"$f":" RTD(\"cqg.rtd\",,\"StudyData\", $L$2, \"FG\", \"\", \"Close\", $K$2, $A206, $P$2,$O$2,,$M$2,$N$2)","v":33.79},"2020-07-27",44039,"07/27/20"]
[-205,{"$f":" RTD(\"cqg.rtd\",,\"StudyData\", $L$2, \"FG\", \"\", \"Time\", $K$2,$A207, $P$2, \"\", \"\",\"False\")","v":"2020-07-24"},{"$f":" RTD(\"cqg.rtd\",,\"StudyData\", $L$2, \"FG\", \"\", \"Time\", $K$2, $A207,$P$2,$O$2, \"\",\"False\")","v":44036},{"$f":" RTD(\"cqg.rtd\",,\"StudyData\", $L$2, \"FG\", \"\", \"Open\", $K$2, $A207, $P$2,$O$2,,$M$2,$N$2)","v":33.25},{"$f":" RTD(\"cqg.rtd\",,\"StudyData\", $L$2, \"FG\", \"\", \"High\", $K$2, $A207, $P$2,$O$2,,$M$2,$N$2)","v":33.520000000000003},{"$f":" RTD(\"cqg.rtd\",,\"StudyData\", $L$2, \"FG\", \"\", \"Low\", $K$2, $A207, $P$2,$O$2,,$M$2,$N$2)","v":32.99},{"$f":" RTD(\"cqg.rtd\",,\"StudyData\", $L$2, \"FG\", \"\", \"Close\", $K$2, $A207, $P$2,$O$2,,$M$2,$N$2)","v":33.28},"2020-07-24",44036,"07/24/20"]
[-206,{"$f":" RTD(\"cqg.rtd\",,\"StudyData\", $L$2, \"FG\", \"\", \"Time\", $K$2,$A208, $P$2, \"\", \"\",\"False\")","v":"2020-07-23"},{"$f":" RTD(\"cqg.rtd\",,\"StudyData\", $L$2, \"FG\", \"\", \"Time\", $K$2, $A208,$P$2,$O$2, \"\",\"False\")","v":44035},{"$f":" RTD(\"cqg.rtd\",,\"StudyData\", $L$2, \"FG\", \"\", \"Open\", $K$2, $A208, $P$2,$O$2,,$M$2,$N$2)","v":34.54},{"$f":" RTD(\"cqg.rtd\",,\"StudyData\", $L$2, \"FG\", \"\", \"High\", $K$2, $A208, $P$2,$O$2,,$M$2,$N$2)","v":34.56},{"$f":" RTD(\"cqg.rtd\",,\"StudyData\", $L$2, \"FG\", \"\", \"Low\", $K$2, $A208, $P$2,$O$2,,$M$2,$N$2)","v":33.880000000000003},{"$f":" RTD(\"cqg.rtd\",,\"StudyData\", $L$2, \"FG\", \"\", \"Close\", $K$2, $A208, $P$2,$O$2,,$M$2,$N$2)","v":33.96},"2020-07-23",44035,"07/23/20"]
[-207,{"$f":" RTD(\"cqg.rtd\",,\"StudyData\", $L$2, \"FG\", \"\", \"Time\", $K$2,$A209, $P$2, \"\", \"\",\"False\")","v":"2020-07-22"},{"$f":" RTD(\"cqg.rtd\",,\"StudyData\", $L$2, \"FG\", \"\", \"Time\", $K$2, $A209,$P$2,$O$2, \"\",\"False\")","v":44034},{"$f":" RTD(\"cqg.rtd\",,\"StudyData\", $L$2, \"FG\", \"\", \"Open\", $K$2, $A209, $P$2,$O$2,,$M$2,$N$2)","v":34.11},{"$f":" RTD(\"cqg.rtd\",,\"StudyData\", $L$2, \"FG\", \"\", \"High\", $K$2, $A209, $P$2,$O$2,,$M$2,$N$2)","v":34.270000000000003},{"$f":" RTD(\"cqg.rtd\",,\"StudyData\", $L$2, \"FG\", \"\", \"Low\", $K$2, $A209, $P$2,$O$2,,$M$2,$N$2)","v":34.11},{"$f":" RTD(\"cqg.rtd\",,\"StudyData\", $L$2, \"FG\", \"\", \"Close\", $K$2, $A209, $P$2,$O$2,,$M$2,$N$2)","v":34.270000000000003},"2020-07-22",44034,"07/22/20"]
[-208,{"$f":" RTD(\"cqg.rtd\",,\"StudyData\", $L$2, \"FG\", \"\", \"Time\", $K$2,$A210, $P$2, \"\", \"\",\"False\")","v":"2020-07-21"},{"$f":" RTD(\"cqg.rtd\",,\"StudyData\", $L$2, \"FG\", \"\", \"Time\", $K$2, $A210,$P$2,$O$2, \"\",\"False\")","v":44033},{"$f":" RTD(\"cqg.rtd\",,\"StudyData\", $L$2, \"FG\", \"\", \"Open\", $K$2, $A210, $P$2,$O$2,,$M$2,$N$2)","v":34.54},{"$f":" RTD(\"cqg.rtd\",,\"StudyData\", $L$2, \"FG\", \"\", \"High\", $K$2, $A210, $P$2,$O$2,,$M$2,$N$2)","v":34.54},{"$f":" RTD(\"cqg.rtd\",,\"StudyData\", $L$2, \"FG\", \"\", \"Low\", $K$2, $A210, $P$2,$O$2,,$M$2,$N$2)","v":34.11},{"$f":" RTD(\"cqg.rtd\",,\"StudyData\", $L$2, \"FG\", \"\", \"Close\", $K$2, $A210, $P$2,$O$2,,$M$2,$N$2)","v":34.11},"2020-07-21",44033,"07/21/20"]
[-209,{"$f":" RTD(\"cqg.rtd\",,\"StudyData\", $L$2, \"FG\", \"\", \"Time\", $K$2,$A211, $P$2, \"\", \"\",\"False\")","v":"2020-07-20"},{"$f":" RTD(\"cqg.rtd\",,\"StudyData\", $L$2, \"FG\", \"\", \"Time\", $K$2, $A211,$P$2,$O$2, \"\",\"False\")","v":44032},{"$f":" RTD(\"cqg.rtd\",,\"StudyData\", $L$2, \"FG\", \"\", \"Open\", $K$2, $A211, $P$2,$O$2,,$M$2,$N$2)","v":33.9},{"$f":" RTD(\"cqg.rtd\",,\"StudyData\", $L$2, \"FG\", \"\", \"High\", $K$2, $A211, $P$2,$O$2,,$M$2,$N$2)","v":34.090000000000003},{"$f":" RTD(\"cqg.rtd\",,\"StudyData\", $L$2, \"FG\", \"\", \"Low\", $K$2, $A211, $P$2,$O$2,,$M$2,$N$2)","v":33.47},{"$f":" RTD(\"cqg.rtd\",,\"StudyData\", $L$2, \"FG\", \"\", \"Close\", $K$2, $A211, $P$2,$O$2,,$M$2,$N$2)","v":34.06},"2020-07-20",44032,"07/20/20"]
[-210,{"$f":" RTD(\"cqg.rtd\",,\"StudyData\", $L$2, \"FG\", \"\", \"Time\", $K$2,$A212, $P$2, \"\", \"\",\"False\")","v":"2020-07-17"},{"$f":" RTD(\"cqg.rtd\",,\"StudyData\", $L$2, \"FG\", \"\", \"Time\", $K$2, $A212,$P$2,$O$2, \"\",\"False\")","v":44029},{"$f":" RTD(\"cqg.rtd\",,\"StudyData\", $L$2, \"FG\", \"\", \"Open\", $K$2, $A212, $P$2,$O$2,,$M$2,$N$2)","v":33.83},{"$f":" RTD(\"cqg.rtd\",,\"StudyData\", $L$2, \"FG\", \"\", \"High\", $K$2, $A212, $P$2,$O$2,,$M$2,$N$2)","v":33.83},{"$f":" RTD(\"cqg.rtd\",,\"StudyData\", $L$2, \"FG\", \"\", \"Low\", $K$2, $A212, $P$2,$O$2,,$M$2,$N$2)","v":33.25},{"$f":" RTD(\"cqg.rtd\",,\"StudyData\", $L$2, \"FG\", \"\", \"Close\", $K$2, $A212, $P$2,$O$2,,$M$2,$N$2)","v":33.619999999999997},"2020-07-17",44029,"07/17/20"]
[-211,{"$f":" RTD(\"cqg.rtd\",,\"StudyData\", $L$2, \"FG\", \"\", \"Time\", $K$2,$A213, $P$2, \"\", \"\",\"False\")","v":"2020-07-16"},{"$f":" RTD(\"cqg.rtd\",,\"StudyData\", $L$2, \"FG\", \"\", \"Time\", $K$2, $A213,$P$2,$O$2, \"\",\"False\")","v":44028},{"$f":" RTD(\"cqg.rtd\",,\"StudyData\", $L$2, \"FG\", \"\", \"Open\", $K$2, $A213, $P$2,$O$2,,$M$2,$N$2)","v":34.590000000000003},{"$f":" RTD(\"cqg.rtd\",,\"StudyData\", $L$2, \"FG\", \"\", \"High\", $K$2, $A213, $P$2,$O$2,,$M$2,$N$2)","v":34.590000000000003},{"$f":" RTD(\"cqg.rtd\",,\"StudyData\", $L$2, \"FG\", \"\", \"Low\", $K$2, $A213, $P$2,$O$2,,$M$2,$N$2)","v":33.65},{"$f":" RTD(\"cqg.rtd\",,\"StudyData\", $L$2, \"FG\", \"\", \"Close\", $K$2, $A213, $P$2,$O$2,,$M$2,$N$2)","v":33.85},"2020-07-16",44028,"07/16/20"]
[-212,{"$f":" RTD(\"cqg.rtd\",,\"StudyData\", $L$2, \"FG\", \"\", \"Time\", $K$2,$A214, $P$2, \"\", \"\",\"False\")","v":"2020-07-15"},{"$f":" RTD(\"cqg.rtd\",,\"StudyData\", $L$2, \"FG\", \"\", \"Time\", $K$2, $A214,$P$2,$O$2, \"\",\"False\")","v":44027},{"$f":" RTD(\"cqg.rtd\",,\"StudyData\", $L$2, \"FG\", \"\", \"Open\", $K$2, $A214, $P$2,$O$2,,$M$2,$N$2)","v":34.31},{"$f":" RTD(\"cqg.rtd\",,\"StudyData\", $L$2, \"FG\", \"\", \"High\", $K$2, $A214, $P$2,$O$2,,$M$2,$N$2)","v":34.31},{"$f":" RTD(\"cqg.rtd\",,\"StudyData\", $L$2, \"FG\", \"\", \"Low\", $K$2, $A214, $P$2,$O$2,,$M$2,$N$2)","v":33.5},{"$f":" RTD(\"cqg.rtd\",,\"StudyData\", $L$2, \"FG\", \"\", \"Close\", $K$2, $A214, $P$2,$O$2,,$M$2,$N$2)","v":34.270000000000003},"2020-07-15",44027,"07/15/20"]
[-213,{"$f":" RTD(\"cqg.rtd\",,\"StudyData\", $L$2, \"FG\", \"\", \"Time\", $K$2,$A215, $P$2, \"\", \"\",\"False\")","v":"2020-07-14"},{"$f":" RTD(\"cqg.rtd\",,\"StudyData\", $L$2, \"FG\", \"\", \"Time\", $K$2, $A215,$P$2,$O$2, \"\",\"False\")","v":44026},{"$f":" RTD(\"cqg.rtd\",,\"StudyData\", $L$2, \"FG\", \"\", \"Open\", $K$2, $A215, $P$2,$O$2,,$M$2,$N$2)","v":32.65},{"$f":" RTD(\"cqg.rtd\",,\"StudyData\", $L$2, \"FG\", \"\", \"High\", $K$2, $A215, $P$2,$O$2,,$M$2,$N$2)","v":33.43},{"$f":" RTD(\"cqg.rtd\",,\"StudyData\", $L$2, \"FG\", \"\", \"Low\", $K$2, $A215, $P$2,$O$2,,$M$2,$N$2)","v":32.32},{"$f":" RTD(\"cqg.rtd\",,\"StudyData\", $L$2, \"FG\", \"\", \"Close\", $K$2, $A215, $P$2,$O$2,,$M$2,$N$2)","v":33.340000000000003},"2020-07-14",44026,"07/14/20"]
[-214,{"$f":" RTD(\"cqg.rtd\",,\"StudyData\", $L$2, \"FG\", \"\", \"Time\", $K$2,$A216, $P$2, \"\", \"\",\"False\")","v":"2020-07-13"},{"$f":" RTD(\"cqg.rtd\",,\"StudyData\", $L$2, \"FG\", \"\", \"Time\", $K$2, $A216,$P$2,$O$2, \"\",\"False\")","v":44025},{"$f":" RTD(\"cqg.rtd\",,\"StudyData\", $L$2, \"FG\", \"\", \"Open\", $K$2, $A216, $P$2,$O$2,,$M$2,$N$2)","v":34.08},{"$f":" RTD(\"cqg.rtd\",,\"StudyData\", $L$2, \"FG\", \"\", \"High\", $K$2, $A216, $P$2,$O$2,,$M$2,$N$2)","v":34.08},{"$f":" RTD(\"cqg.rtd\",,\"StudyData\", $L$2, \"FG\", \"\", \"Low\", $K$2, $A216, $P$2,$O$2,,$M$2,$N$2)","v":32.54},{"$f":" RTD(\"cqg.rtd\",,\"StudyData\", $L$2, \"FG\", \"\", \"Close\", $K$2, $A216, $P$2,$O$2,,$M$2,$N$2)","v":32.54},"2020-07-13",44025,"07/13/20"]
[-215,{"$f":" RTD(\"cqg.rtd\",,\"StudyData\", $L$2, \"FG\", \"\", \"Time\", $K$2,$A217, $P$2, \"\", \"\",\"False\")","v":"2020-07-10"},{"$f":" RTD(\"cqg.rtd\",,\"StudyData\", $L$2, \"FG\", \"\", \"Time\", $K$2, $A217,$P$2,$O$2, \"\",\"False\")","v":44022},{"$f":" RTD(\"cqg.rtd\",,\"StudyData\", $L$2, \"FG\", \"\", \"Open\", $K$2, $A217, $P$2,$O$2,,$M$2,$N$2)","v":32.75},{"$f":" RTD(\"cqg.rtd\",,\"StudyData\", $L$2, \"FG\", \"\", \"High\", $K$2, $A217, $P$2,$O$2,,$M$2,$N$2)","v":33.409999999999997},{"$f":" RTD(\"cqg.rtd\",,\"StudyData\", $L$2, \"FG\", \"\", \"Low\", $K$2, $A217, $P$2,$O$2,,$M$2,$N$2)","v":32.5},{"$f":" RTD(\"cqg.rtd\",,\"StudyData\", $L$2, \"FG\", \"\", \"Close\", $K$2, $A217, $P$2,$O$2,,$M$2,$N$2)","v":33.409999999999997},"2020-07-10",44022,"07/10/20"]
[-216,{"$f":" RTD(\"cqg.rtd\",,\"StudyData\", $L$2, \"FG\", \"\", \"Time\", $K$2,$A218, $P$2, \"\", \"\",\"False\")","v":"2020-07-09"},{"$f":" RTD(\"cqg.rtd\",,\"StudyData\", $L$2, \"FG\", \"\", \"Time\", $K$2, $A218,$P$2,$O$2, \"\",\"False\")","v":44021},{"$f":" RTD(\"cqg.rtd\",,\"StudyData\", $L$2, \"FG\", \"\", \"Open\", $K$2, $A218, $P$2,$O$2,,$M$2,$N$2)","v":33.5},{"$f":" RTD(\"cqg.rtd\",,\"StudyData\", $L$2, \"FG\", \"\", \"High\", $K$2, $A218, $P$2,$O$2,,$M$2,$N$2)","v":33.5},{"$f":" RTD(\"cqg.rtd\",,\"StudyData\", $L$2, \"FG\", \"\", \"Low\", $K$2, $A218, $P$2,$O$2,,$M$2,$N$2)","v":31.63},{"$f":" RTD(\"cqg.rtd\",,\"StudyData\", $L$2, \"FG\", \"\", \"Close\", $K$2, $A218, $P$2,$O$2,,$M$2,$N$2)","v":32.619999999999997},"2020-07-09",44021,"07/09/20"]
[-217,{"$f":" RTD(\"cqg.rtd\",,\"StudyData\", $L$2, \"FG\", \"\", \"Time\", $K$2,$A219, $P$2, \"\", \"\",\"False\")","v":"2020-07-08"},{"$f":" RTD(\"cqg.rtd\",,\"StudyData\", $L$2, \"FG\", \"\", \"Time\", $K$2, $A219,$P$2,$O$2, \"\",\"False\")","v":44020},{"$f":" RTD(\"cqg.rtd\",,\"StudyData\", $L$2, \"FG\", \"\", \"Open\", $K$2, $A219, $P$2,$O$2,,$M$2,$N$2)","v":35.590000000000003},{"$f":" RTD(\"cqg.rtd\",,\"StudyData\", $L$2, \"FG\", \"\", \"High\", $K$2, $A219, $P$2,$O$2,,$M$2,$N$2)","v":35.590000000000003},{"$f":" RTD(\"cqg.rtd\",,\"StudyData\", $L$2, \"FG\", \"\", \"Low\", $K$2, $A219, $P$2,$O$2,,$M$2,$N$2)","v":32.520000000000003},{"$f":" RTD(\"cqg.rtd\",,\"StudyData\", $L$2, \"FG\", \"\", \"Close\", $K$2, $A219, $P$2,$O$2,,$M$2,$N$2)","v":32.950000000000003},"2020-07-08",44020,"07/08/20"]
[-218,{"$f":" RTD(\"cqg.rtd\",,\"StudyData\", $L$2, \"FG\", \"\", \"Time\", $K$2,$A220, $P$2, \"\", \"\",\"False\")","v":"2020-07-07"},{"$f":" RTD(\"cqg.rtd\",,\"StudyData\", $L$2, \"FG\", \"\", \"Time\", $K$2, $A220,$P$2,$O$2, \"\",\"False\")","v":44019},{"$f":" RTD(\"cqg.rtd\",,\"StudyData\", $L$2, \"FG\", \"\", \"Open\", $K$2, $A220, $P$2,$O$2,,$M$2,$N$2)","v":35.54},{"$f":" RTD(\"cqg.rtd\",,\"StudyData\", $L$2, \"FG\", \"\", \"High\", $K$2, $A220, $P$2,$O$2,,$M$2,$N$2)","v":35.54},{"$f":" RTD(\"cqg.rtd\",,\"StudyData\", $L$2, \"FG\", \"\", \"Low\", $K$2, $A220, $P$2,$O$2,,$M$2,$N$2)","v":32.619999999999997},{"$f":" RTD(\"cqg.rtd\",,\"StudyData\", $L$2, \"FG\", \"\", \"Close\", $K$2, $A220, $P$2,$O$2,,$M$2,$N$2)","v":32.81},"2020-07-07",44019,"07/07/20"]
[-219,{"$f":" RTD(\"cqg.rtd\",,\"StudyData\", $L$2, \"FG\", \"\", \"Time\", $K$2,$A221, $P$2, \"\", \"\",\"False\")","v":"2020-07-06"},{"$f":" RTD(\"cqg.rtd\",,\"StudyData\", $L$2, \"FG\", \"\", \"Time\", $K$2, $A221,$P$2,$O$2, \"\",\"False\")","v":44018},{"$f":" RTD(\"cqg.rtd\",,\"StudyData\", $L$2, \"FG\", \"\", \"Open\", $K$2, $A221, $P$2,$O$2,,$M$2,$N$2)","v":33.97},{"$f":" RTD(\"cqg.rtd\",,\"StudyData\", $L$2, \"FG\", \"\", \"High\", $K$2, $A221, $P$2,$O$2,,$M$2,$N$2)","v":34.590000000000003},{"$f":" RTD(\"cqg.rtd\",,\"StudyData\", $L$2, \"FG\", \"\", \"Low\", $K$2, $A221, $P$2,$O$2,,$M$2,$N$2)","v":33.090000000000003},{"$f":" RTD(\"cqg.rtd\",,\"StudyData\", $L$2, \"FG\", \"\", \"Close\", $K$2, $A221, $P$2,$O$2,,$M$2,$N$2)","v":33.380000000000003},"2020-07-06",44018,"07/06/20"]
[-220,{"$f":" RTD(\"cqg.rtd\",,\"StudyData\", $L$2, \"FG\", \"\", \"Time\", $K$2,$A222, $P$2, \"\", \"\",\"False\")","v":"2020-07-02"},{"$f":" RTD(\"cqg.rtd\",,\"StudyData\", $L$2, \"FG\", \"\", \"Time\", $K$2, $A222,$P$2,$O$2, \"\",\"False\")","v":44014},{"$f":" RTD(\"cqg.rtd\",,\"StudyData\", $L$2, \"FG\", \"\", \"Open\", $K$2, $A222, $P$2,$O$2,,$M$2,$N$2)","v":32.270000000000003},{"$f":" RTD(\"cqg.rtd\",,\"StudyData\", $L$2, \"FG\", \"\", \"High\", $K$2, $A222, $P$2,$O$2,,$M$2,$N$2)","v":33.33},{"$f":" RTD(\"cqg.rtd\",,\"StudyData\", $L$2, \"FG\", \"\", \"Low\", $K$2, $A222, $P$2,$O$2,,$M$2,$N$2)","v":32.25},{"$f":" RTD(\"cqg.rtd\",,\"StudyData\", $L$2, \"FG\", \"\", \"Close\", $K$2, $A222, $P$2,$O$2,,$M$2,$N$2)","v":32.299999999999997},"2020-07-02",44014,"07/02/20"]
[-221,{"$f":" RTD(\"cqg.rtd\",,\"StudyData\", $L$2, \"FG\", \"\", \"Time\", $K$2,$A223, $P$2, \"\", \"\",\"False\")","v":"2020-07-01"},{"$f":" RTD(\"cqg.rtd\",,\"StudyData\", $L$2, \"FG\", \"\", \"Time\", $K$2, $A223,$P$2,$O$2, \"\",\"False\")","v":44013},{"$f":" RTD(\"cqg.rtd\",,\"StudyData\", $L$2, \"FG\", \"\", \"Open\", $K$2, $A223, $P$2,$O$2,,$M$2,$N$2)","v":31.79},{"$f":" RTD(\"cqg.rtd\",,\"StudyData\", $L$2, \"FG\", \"\", \"High\", $K$2, $A223, $P$2,$O$2,,$M$2,$N$2)","v":31.79},{"$f":" RTD(\"cqg.rtd\",,\"StudyData\", $L$2, \"FG\", \"\", \"Low\", $K$2, $A223, $P$2,$O$2,,$M$2,$N$2)","v":31.27},{"$f":" RTD(\"cqg.rtd\",,\"StudyData\", $L$2, \"FG\", \"\", \"Close\", $K$2, $A223, $P$2,$O$2,,$M$2,$N$2)","v":31.42},"2020-07-01",44013,"07/01/20"]
[-222,{"$f":" RTD(\"cqg.rtd\",,\"StudyData\", $L$2, \"FG\", \"\", \"Time\", $K$2,$A224, $P$2, \"\", \"\",\"False\")","v":"2020-06-30"},{"$f":" RTD(\"cqg.rtd\",,\"StudyData\", $L$2, \"FG\", \"\", \"Time\", $K$2, $A224,$P$2,$O$2, \"\",\"False\")","v":44012},{"$f":" RTD(\"cqg.rtd\",,\"StudyData\", $L$2, \"FG\", \"\", \"Open\", $K$2, $A224, $P$2,$O$2,,$M$2,$N$2)","v":30.99},{"$f":" RTD(\"cqg.rtd\",,\"StudyData\", $L$2, \"FG\", \"\", \"High\", $K$2, $A224, $P$2,$O$2,,$M$2,$N$2)","v":31.75},{"$f":" RTD(\"cqg.rtd\",,\"StudyData\", $L$2, \"FG\", \"\", \"Low\", $K$2, $A224, $P$2,$O$2,,$M$2,$N$2)","v":30.99},{"$f":" RTD(\"cqg.rtd\",,\"StudyData\", $L$2, \"FG\", \"\", \"Close\", $K$2, $A224, $P$2,$O$2,,$M$2,$N$2)","v":31.55},"2020-06-30",44012,"06/30/20"]
[-223,{"$f":" RTD(\"cqg.rtd\",,\"StudyData\", $L$2, \"FG\", \"\", \"Time\", $K$2,$A225, $P$2, \"\", \"\",\"False\")","v":"2020-06-29"},{"$f":" RTD(\"cqg.rtd\",,\"StudyData\", $L$2, \"FG\", \"\", \"Time\", $K$2, $A225,$P$2,$O$2, \"\",\"False\")","v":44011},{"$f":" RTD(\"cqg.rtd\",,\"StudyData\", $L$2, \"FG\", \"\", \"Open\", $K$2, $A225, $P$2,$O$2,,$M$2,$N$2)","v":29.82},{"$f":" RTD(\"cqg.rtd\",,\"StudyData\", $L$2, \"FG\", \"\", \"High\", $K$2, $A225, $P$2,$O$2,,$M$2,$N$2)","v":31},{"$f":" RTD(\"cqg.rtd\",,\"StudyData\", $L$2, \"FG\", \"\", \"Low\", $K$2, $A225, $P$2,$O$2,,$M$2,$N$2)","v":29.82},{"$f":" RTD(\"cqg.rtd\",,\"StudyData\", $L$2, \"FG\", \"\", \"Close\", $K$2, $A225, $P$2,$O$2,,$M$2,$N$2)","v":30.88},"2020-06-29",44011,"06/29/20"]
[-224,{"$f":" RTD(\"cqg.rtd\",,\"StudyData\", $L$2, \"FG\", \"\", \"Time\", $K$2,$A226, $P$2, \"\", \"\",\"False\")","v":"2020-06-26"},{"$f":" RTD(\"cqg.rtd\",,\"StudyData\", $L$2, \"FG\", \"\", \"Time\", $K$2, $A226,$P$2,$O$2, \"\",\"False\")","v":44008},{"$f":" RTD(\"cqg.rtd\",,\"StudyData\", $L$2, \"FG\", \"\", \"Open\", $K$2, $A226, $P$2,$O$2,,$M$2,$N$2)","v":29.84},{"$f":" RTD(\"cqg.rtd\",,\"StudyData\", $L$2, \"FG\", \"\", \"High\", $K$2, $A226, $P$2,$O$2,,$M$2,$N$2)","v":29.84},{"$f":" RTD(\"cqg.rtd\",,\"StudyData\", $L$2, \"FG\", \"\", \"Low\", $K$2, $A226, $P$2,$O$2,,$M$2,$N$2)","v":29.25},{"$f":" RTD(\"cqg.rtd\",,\"StudyData\", $L$2, \"FG\", \"\", \"Close\", $K$2, $A226, $P$2,$O$2,,$M$2,$N$2)","v":29.44},"2020-06-26",44008,"06/26/20"]
[-225,{"$f":" RTD(\"cqg.rtd\",,\"StudyData\", $L$2, \"FG\", \"\", \"Time\", $K$2,$A227, $P$2, \"\", \"\",\"False\")","v":"2020-06-25"},{"$f":" RTD(\"cqg.rtd\",,\"StudyData\", $L$2, \"FG\", \"\", \"Time\", $K$2, $A227,$P$2,$O$2, \"\",\"False\")","v":44007},{"$f":" RTD(\"cqg.rtd\",,\"StudyData\", $L$2, \"FG\", \"\", \"Open\", $K$2, $A227, $P$2,$O$2,,$M$2,$N$2)","v":29.58},{"$f":" RTD(\"cqg.rtd\",,\"StudyData\", $L$2, \"FG\", \"\", \"High\", $K$2, $A227, $P$2,$O$2,,$M$2,$N$2)","v":30.15},{"$f":" RTD(\"cqg.rtd\",,\"StudyData\", $L$2, \"FG\", \"\", \"Low\", $K$2, $A227, $P$2,$O$2,,$M$2,$N$2)","v":29.55},{"$f":" RTD(\"cqg.rtd\",,\"StudyData\", $L$2, \"FG\", \"\", \"Close\", $K$2, $A227, $P$2,$O$2,,$M$2,$N$2)","v":30.15},"2020-06-25",44007,"06/25/20"]
[-226,{"$f":" RTD(\"cqg.rtd\",,\"StudyData\", $L$2, \"FG\", \"\", \"Time\", $K$2,$A228, $P$2, \"\", \"\",\"False\")","v":"2020-06-24"},{"$f":" RTD(\"cqg.rtd\",,\"StudyData\", $L$2, \"FG\", \"\", \"Time\", $K$2, $A228,$P$2,$O$2, \"\",\"False\")","v":44006},{"$f":" RTD(\"cqg.rtd\",,\"StudyData\", $L$2, \"FG\", \"\", \"Open\", $K$2, $A228, $P$2,$O$2,,$M$2,$N$2)","v":30.51},{"$f":" RTD(\"cqg.rtd\",,\"StudyData\", $L$2, \"FG\", \"\", \"High\", $K$2, $A228, $P$2,$O$2,,$M$2,$N$2)","v":30.67},{"$f":" RTD(\"cqg.rtd\",,\"StudyData\", $L$2, \"FG\", \"\", \"Low\", $K$2, $A228, $P$2,$O$2,,$M$2,$N$2)","v":29.84},{"$f":" RTD(\"cqg.rtd\",,\"StudyData\", $L$2, \"FG\", \"\", \"Close\", $K$2, $A228, $P$2,$O$2,,$M$2,$N$2)","v":29.84},"2020-06-24",44006,"06/24/20"]
[-227,{"$f":" RTD(\"cqg.rtd\",,\"StudyData\", $L$2, \"FG\", \"\", \"Time\", $K$2,$A229, $P$2, \"\", \"\",\"False\")","v":"2020-06-23"},{"$f":" RTD(\"cqg.rtd\",,\"StudyData\", $L$2, \"FG\", \"\", \"Time\", $K$2, $A229,$P$2,$O$2, \"\",\"False\")","v":44005},{"$f":" RTD(\"cqg.rtd\",,\"StudyData\", $L$2, \"FG\", \"\", \"Open\", $K$2, $A229, $P$2,$O$2,,$M$2,$N$2)","v":30.98},{"$f":" RTD(\"cqg.rtd\",,\"StudyData\", $L$2, \"FG\", \"\", \"High\", $K$2, $A229, $P$2,$O$2,,$M$2,$N$2)","v":30.98},{"$f":" RTD(\"cqg.rtd\",,\"StudyData\", $L$2, \"FG\", \"\", \"Low\", $K$2, $A229, $P$2,$O$2,,$M$2,$N$2)","v":30.49},{"$f":" RTD(\"cqg.rtd\",,\"StudyData\", $L$2, \"FG\", \"\", \"Close\", $K$2, $A229, $P$2,$O$2,,$M$2,$N$2)","v":30.83},"2020-06-23",44005,"06/23/20"]
[-228,{"$f":" RTD(\"cqg.rtd\",,\"StudyData\", $L$2, \"FG\", \"\", \"Time\", $K$2,$A230, $P$2, \"\", \"\",\"False\")","v":"2020-06-22"},{"$f":" RTD(\"cqg.rtd\",,\"StudyData\", $L$2, \"FG\", \"\", \"Time\", $K$2, $A230,$P$2,$O$2, \"\",\"False\")","v":44004},{"$f":" RTD(\"cqg.rtd\",,\"StudyData\", $L$2, \"FG\", \"\", \"Open\", $K$2, $A230, $P$2,$O$2,,$M$2,$N$2)","v":30.37},{"$f":" RTD(\"cqg.rtd\",,\"StudyData\", $L$2, \"FG\", \"\", \"High\", $K$2, $A230, $P$2,$O$2,,$M$2,$N$2)","v":30.37},{"$f":" RTD(\"cqg.rtd\",,\"StudyData\", $L$2, \"FG\", \"\", \"Low\", $K$2, $A230, $P$2,$O$2,,$M$2,$N$2)","v":30.27},{"$f":" RTD(\"cqg.rtd\",,\"StudyData\", $L$2, \"FG\", \"\", \"Close\", $K$2, $A230, $P$2,$O$2,,$M$2,$N$2)","v":30.27},"2020-06-22",44004,"06/22/20"]
[-229,{"$f":" RTD(\"cqg.rtd\",,\"StudyData\", $L$2, \"FG\", \"\", \"Time\", $K$2,$A231, $P$2, \"\", \"\",\"False\")","v":"2020-06-19"},{"$f":" RTD(\"cqg.rtd\",,\"StudyData\", $L$2, \"FG\", \"\", \"Time\", $K$2, $A231,$P$2,$O$2, \"\",\"False\")","v":44001},{"$f":" RTD(\"cqg.rtd\",,\"StudyData\", $L$2, \"FG\", \"\", \"Open\", $K$2, $A231, $P$2,$O$2,,$M$2,$N$2)","v":33},{"$f":" RTD(\"cqg.rtd\",,\"StudyData\", $L$2, \"FG\", \"\", \"High\", $K$2, $A231, $P$2,$O$2,,$M$2,$N$2)","v":33},{"$f":" RTD(\"cqg.rtd\",,\"StudyData\", $L$2, \"FG\", \"\", \"Low\", $K$2, $A231, $P$2,$O$2,,$M$2,$N$2)","v":30.09},{"$f":" RTD(\"cqg.rtd\",,\"StudyData\", $L$2, \"FG\", \"\", \"Close\", $K$2, $A231, $P$2,$O$2,,$M$2,$N$2)","v":30.18},"2020-06-19",44001,"06/19/20"]
[-230,{"$f":" RTD(\"cqg.rtd\",,\"StudyData\", $L$2, \"FG\", \"\", \"Time\", $K$2,$A232, $P$2, \"\", \"\",\"False\")","v":"2020-06-18"},{"$f":" RTD(\"cqg.rtd\",,\"StudyData\", $L$2, \"FG\", \"\", \"Time\", $K$2, $A232,$P$2,$O$2, \"\",\"False\")","v":44000},{"$f":" RTD(\"cqg.rtd\",,\"StudyData\", $L$2, \"FG\", \"\", \"Open\", $K$2, $A232, $P$2,$O$2,,$M$2,$N$2)","v":29.92},{"$f":" RTD(\"cqg.rtd\",,\"StudyData\", $L$2, \"FG\", \"\", \"High\", $K$2, $A232, $P$2,$O$2,,$M$2,$N$2)","v":30.11},{"$f":" RTD(\"cqg.rtd\",,\"StudyData\", $L$2, \"FG\", \"\", \"Low\", $K$2, $A232, $P$2,$O$2,,$M$2,$N$2)","v":29.79},{"$f":" RTD(\"cqg.rtd\",,\"StudyData\", $L$2, \"FG\", \"\", \"Close\", $K$2, $A232, $P$2,$O$2,,$M$2,$N$2)","v":30.11},"2020-06-18",44000,"06/18/20"]
[-231,{"$f":" RTD(\"cqg.rtd\",,\"StudyData\", $L$2, \"FG\", \"\", \"Time\", $K$2,$A233, $P$2, \"\", \"\",\"False\")","v":"2020-06-17"},{"$f":" RTD(\"cqg.rtd\",,\"StudyData\", $L$2, \"FG\", \"\", \"Time\", $K$2, $A233,$P$2,$O$2, \"\",\"False\")","v":43999},{"$f":" RTD(\"cqg.rtd\",,\"StudyData\", $L$2, \"FG\", \"\", \"Open\", $K$2, $A233, $P$2,$O$2,,$M$2,$N$2)","v":30.54},{"$f":" RTD(\"cqg.rtd\",,\"StudyData\", $L$2, \"FG\", \"\", \"High\", $K$2, $A233, $P$2,$O$2,,$M$2,$N$2)","v":30.54},{"$f":" RTD(\"cqg.rtd\",,\"StudyData\", $L$2, \"FG\", \"\", \"Low\", $K$2, $A233, $P$2,$O$2,,$M$2,$N$2)","v":29.88},{"$f":" RTD(\"cqg.rtd\",,\"StudyData\", $L$2, \"FG\", \"\", \"Close\", $K$2, $A233, $P$2,$O$2,,$M$2,$N$2)","v":29.88},"2020-06-17",43999,"06/17/20"]
[-232,{"$f":" RTD(\"cqg.rtd\",,\"StudyData\", $L$2, \"FG\", \"\", \"Time\", $K$2,$A234, $P$2, \"\", \"\",\"False\")","v":"2020-06-16"},{"$f":" RTD(\"cqg.rtd\",,\"StudyData\", $L$2, \"FG\", \"\", \"Time\", $K$2, $A234,$P$2,$O$2, \"\",\"False\")","v":43998},{"$f":" RTD(\"cqg.rtd\",,\"StudyData\", $L$2, \"FG\", \"\", \"Open\", $K$2, $A234, $P$2,$O$2,,$M$2,$N$2)","v":30.85},{"$f":" RTD(\"cqg.rtd\",,\"StudyData\", $L$2, \"FG\", \"\", \"High\", $K$2, $A234, $P$2,$O$2,,$M$2,$N$2)","v":30.85},{"$f":" RTD(\"cqg.rtd\",,\"StudyData\", $L$2, \"FG\", \"\", \"Low\", $K$2, $A234, $P$2,$O$2,,$M$2,$N$2)","v":30.28},{"$f":" RTD(\"cqg.rtd\",,\"StudyData\", $L$2, \"FG\", \"\", \"Close\", $K$2, $A234, $P$2,$O$2,,$M$2,$N$2)","v":30.28},"2020-06-16",43998,"06/16/20"]
[-233,{"$f":" RTD(\"cqg.rtd\",,\"StudyData\", $L$2, \"FG\", \"\", \"Time\", $K$2,$A235, $P$2, \"\", \"\",\"False\")","v":"2020-06-15"},{"$f":" RTD(\"cqg.rtd\",,\"StudyData\", $L$2, \"FG\", \"\", \"Time\", $K$2, $A235,$P$2,$O$2, \"\",\"False\")","v":43997},{"$f":" RTD(\"cqg.rtd\",,\"StudyData\", $L$2, \"FG\", \"\", \"Open\", $K$2, $A235, $P$2,$O$2,,$M$2,$N$2)","v":28.35},{"$f":" RTD(\"cqg.rtd\",,\"StudyData\", $L$2, \"FG\", \"\", \"High\", $K$2, $A235, $P$2,$O$2,,$M$2,$N$2)","v":29.74},{"$f":" RTD(\"cqg.rtd\",,\"StudyData\", $L$2, \"FG\", \"\", \"Low\", $K$2, $A235, $P$2,$O$2,,$M$2,$N$2)","v":28.35},{"$f":" RTD(\"cqg.rtd\",,\"StudyData\", $L$2, \"FG\", \"\", \"Close\", $K$2, $A235, $P$2,$O$2,,$M$2,$N$2)","v":29.74},"2020-06-15",43997,"06/15/20"]
[-234,{"$f":" RTD(\"cqg.rtd\",,\"StudyData\", $L$2, \"FG\", \"\", \"Time\", $K$2,$A236, $P$2, \"\", \"\",\"False\")","v":"2020-06-12"},{"$f":" RTD(\"cqg.rtd\",,\"StudyData\", $L$2, \"FG\", \"\", \"Time\", $K$2, $A236,$P$2,$O$2, \"\",\"False\")","v":43994},{"$f":" RTD(\"cqg.rtd\",,\"StudyData\", $L$2, \"FG\", \"\", \"Open\", $K$2, $A236, $P$2,$O$2,,$M$2,$N$2)","v":29.49},{"$f":" RTD(\"cqg.rtd\",,\"StudyData\", $L$2, \"FG\", \"\", \"High\", $K$2, $A236, $P$2,$O$2,,$M$2,$N$2)","v":29.49},{"$f":" RTD(\"cqg.rtd\",,\"StudyData\", $L$2, \"FG\", \"\", \"Low\", $K$2, $A236, $P$2,$O$2,,$M$2,$N$2)","v":28.4},{"$f":" RTD(\"cqg.rtd\",,\"StudyData\", $L$2, \"FG\", \"\", \"Close\", $K$2, $A236, $P$2,$O$2,,$M$2,$N$2)","v":29.07},"2020-06-12",43994,"06/12/20"]
[-235,{"$f":" RTD(\"cqg.rtd\",,\"StudyData\", $L$2, \"FG\", \"\", \"Time\", $K$2,$A237, $P$2, \"\", \"\",\"False\")","v":"2020-06-11"},{"$f":" RTD(\"cqg.rtd\",,\"StudyData\", $L$2, \"FG\", \"\", \"Time\", $K$2, $A237,$P$2,$O$2, \"\",\"False\")","v":43993},{"$f":" RTD(\"cqg.rtd\",,\"StudyData\", $L$2, \"FG\", \"\", \"Open\", $K$2, $A237, $P$2,$O$2,,$M$2,$N$2)","v":29.59},{"$f":" RTD(\"cqg.rtd\",,\"StudyData\", $L$2, \"FG\", \"\", \"High\", $K$2, $A237, $P$2,$O$2,,$M$2,$N$2)","v":30.33},{"$f":" RTD(\"cqg.rtd\",,\"StudyData\", $L$2, \"FG\", \"\", \"Low\", $K$2, $A237, $P$2,$O$2,,$M$2,$N$2)","v":28},{"$f":" RTD(\"cqg.rtd\",,\"StudyData\", $L$2, \"FG\", \"\", \"Close\", $K$2, $A237, $P$2,$O$2,,$M$2,$N$2)","v":28},"2020-06-11",43993,"06/11/20"]
[-236,{"$f":" RTD(\"cqg.rtd\",,\"StudyData\", $L$2, \"FG\", \"\", \"Time\", $K$2,$A238, $P$2, \"\", \"\",\"False\")","v":"2020-06-10"},{"$f":" RTD(\"cqg.rtd\",,\"StudyData\", $L$2, \"FG\", \"\", \"Time\", $K$2, $A238,$P$2,$O$2, \"\",\"False\")","v":43992},{"$f":" RTD(\"cqg.rtd\",,\"StudyData\", $L$2, \"FG\", \"\", \"Open\", $K$2, $A238, $P$2,$O$2,,$M$2,$N$2)","v":30.75},{"$f":" RTD(\"cqg.rtd\",,\"StudyData\", $L$2, \"FG\", \"\", \"High\", $K$2, $A238, $P$2,$O$2,,$M$2,$N$2)","v":31.09},{"$f":" RTD(\"cqg.rtd\",,\"StudyData\", $L$2, \"FG\", \"\", \"Low\", $K$2, $A238, $P$2,$O$2,,$M$2,$N$2)","v":30.75},{"$f":" RTD(\"cqg.rtd\",,\"StudyData\", $L$2, \"FG\", \"\", \"Close\", $K$2, $A238, $P$2,$O$2,,$M$2,$N$2)","v":30.76},"2020-06-10",43992,"06/10/20"]
[-237,{"$f":" RTD(\"cqg.rtd\",,\"StudyData\", $L$2, \"FG\", \"\", \"Time\", $K$2,$A239, $P$2, \"\", \"\",\"False\")","v":"2020-06-09"},{"$f":" RTD(\"cqg.rtd\",,\"StudyData\", $L$2, \"FG\", \"\", \"Time\", $K$2, $A239,$P$2,$O$2, \"\",\"False\")","v":43991},{"$f":" RTD(\"cqg.rtd\",,\"StudyData\", $L$2, \"FG\", \"\", \"Open\", $K$2, $A239, $P$2,$O$2,,$M$2,$N$2)","v":30.87},{"$f":" RTD(\"cqg.rtd\",,\"StudyData\", $L$2, \"FG\", \"\", \"High\", $K$2, $A239, $P$2,$O$2,,$M$2,$N$2)","v":31.02},{"$f":" RTD(\"cqg.rtd\",,\"StudyData\", $L$2, \"FG\", \"\", \"Low\", $K$2, $A239, $P$2,$O$2,,$M$2,$N$2)","v":30.48},{"$f":" RTD(\"cqg.rtd\",,\"StudyData\", $L$2, \"FG\", \"\", \"Close\", $K$2, $A239, $P$2,$O$2,,$M$2,$N$2)","v":30.77},"2020-06-09",43991,"06/09/20"]
[-238,{"$f":" RTD(\"cqg.rtd\",,\"StudyData\", $L$2, \"FG\", \"\", \"Time\", $K$2,$A240, $P$2, \"\", \"\",\"False\")","v":"2020-06-08"},{"$f":" RTD(\"cqg.rtd\",,\"StudyData\", $L$2, \"FG\", \"\", \"Time\", $K$2, $A240,$P$2,$O$2, \"\",\"False\")","v":43990},{"$f":" RTD(\"cqg.rtd\",,\"StudyData\", $L$2, \"FG\", \"\", \"Open\", $K$2, $A240, $P$2,$O$2,,$M$2,$N$2)","v":31.24},{"$f":" RTD(\"cqg.rtd\",,\"StudyData\", $L$2, \"FG\", \"\", \"High\", $K$2, $A240, $P$2,$O$2,,$M$2,$N$2)","v":31.24},{"$f":" RTD(\"cqg.rtd\",,\"StudyData\", $L$2, \"FG\", \"\", \"Low\", $K$2, $A240, $P$2,$O$2,,$M$2,$N$2)","v":30.9},{"$f":" RTD(\"cqg.rtd\",,\"StudyData\", $L$2, \"FG\", \"\", \"Close\", $K$2, $A240, $P$2,$O$2,,$M$2,$N$2)","v":31.19},"2020-06-08",43990,"06/08/20"]
[-239,{"$f":" RTD(\"cqg.rtd\",,\"StudyData\", $L$2, \"FG\", \"\", \"Time\", $K$2,$A241, $P$2, \"\", \"\",\"False\")","v":"2020-06-05"},{"$f":" RTD(\"cqg.rtd\",,\"StudyData\", $L$2, \"FG\", \"\", \"Time\", $K$2, $A241,$P$2,$O$2, \"\",\"False\")","v":43987},{"$f":" RTD(\"cqg.rtd\",,\"StudyData\", $L$2, \"FG\", \"\", \"Open\", $K$2, $A241, $P$2,$O$2,,$M$2,$N$2)","v":30.62},{"$f":" RTD(\"cqg.rtd\",,\"StudyData\", $L$2, \"FG\", \"\", \"High\", $K$2, $A241, $P$2,$O$2,,$M$2,$N$2)","v":30.8},{"$f":" RTD(\"cqg.rtd\",,\"StudyData\", $L$2, \"FG\", \"\", \"Low\", $K$2, $A241, $P$2,$O$2,,$M$2,$N$2)","v":30.39},{"$f":" RTD(\"cqg.rtd\",,\"StudyData\", $L$2, \"FG\", \"\", \"Close\", $K$2, $A241, $P$2,$O$2,,$M$2,$N$2)","v":30.39},"2020-06-05",43987,"06/05/20"]
[-240,{"$f":" RTD(\"cqg.rtd\",,\"StudyData\", $L$2, \"FG\", \"\", \"Time\", $K$2,$A242, $P$2, \"\", \"\",\"False\")","v":"2020-06-04"},{"$f":" RTD(\"cqg.rtd\",,\"StudyData\", $L$2, \"FG\", \"\", \"Time\", $K$2, $A242,$P$2,$O$2, \"\",\"False\")","v":43986},{"$f":" RTD(\"cqg.rtd\",,\"StudyData\", $L$2, \"FG\", \"\", \"Open\", $K$2, $A242, $P$2,$O$2,,$M$2,$N$2)","v":29.55},{"$f":" RTD(\"cqg.rtd\",,\"StudyData\", $L$2, \"FG\", \"\", \"High\", $K$2, $A242, $P$2,$O$2,,$M$2,$N$2)","v":29.55},{"$f":" RTD(\"cqg.rtd\",,\"StudyData\", $L$2, \"FG\", \"\", \"Low\", $K$2, $A242, $P$2,$O$2,,$M$2,$N$2)","v":29.29},{"$f":" RTD(\"cqg.rtd\",,\"StudyData\", $L$2, \"FG\", \"\", \"Close\", $K$2, $A242, $P$2,$O$2,,$M$2,$N$2)","v":29.53},"2020-06-04",43986,"06/04/20"]
[-241,{"$f":" RTD(\"cqg.rtd\",,\"StudyData\", $L$2, \"FG\", \"\", \"Time\", $K$2,$A243, $P$2, \"\", \"\",\"False\")","v":"2020-06-03"},{"$f":" RTD(\"cqg.rtd\",,\"StudyData\", $L$2, \"FG\", \"\", \"Time\", $K$2, $A243,$P$2,$O$2, \"\",\"False\")","v":43985},{"$f":" RTD(\"cqg.rtd\",,\"StudyData\", $L$2, \"FG\", \"\", \"Open\", $K$2, $A243, $P$2,$O$2,,$M$2,$N$2)","v":28.96},{"$f":" RTD(\"cqg.rtd\",,\"StudyData\", $L$2, \"FG\", \"\", \"High\", $K$2, $A243, $P$2,$O$2,,$M$2,$N$2)","v":29.21},{"$f":" RTD(\"cqg.rtd\",,\"StudyData\", $L$2, \"FG\", \"\", \"Low\", $K$2, $A243, $P$2,$O$2,,$M$2,$N$2)","v":28.96},{"$f":" RTD(\"cqg.rtd\",,\"StudyData\", $L$2, \"FG\", \"\", \"Close\", $K$2, $A243, $P$2,$O$2,,$M$2,$N$2)","v":29.1},"2020-06-03",43985,"06/03/20"]
[-242,{"$f":" RTD(\"cqg.rtd\",,\"StudyData\", $L$2, \"FG\", \"\", \"Time\", $K$2,$A244, $P$2, \"\", \"\",\"False\")","v":"2020-06-02"},{"$f":" RTD(\"cqg.rtd\",,\"StudyData\", $L$2, \"FG\", \"\", \"Time\", $K$2, $A244,$P$2,$O$2, \"\",\"False\")","v":43984},{"$f":" RTD(\"cqg.rtd\",,\"StudyData\", $L$2, \"FG\", \"\", \"Open\", $K$2, $A244, $P$2,$O$2,,$M$2,$N$2)","v":27.65},{"$f":" RTD(\"cqg.rtd\",,\"StudyData\", $L$2, \"FG\", \"\", \"High\", $K$2, $A244, $P$2,$O$2,,$M$2,$N$2)","v":27.65},{"$f":" RTD(\"cqg.rtd\",,\"StudyData\", $L$2, \"FG\", \"\", \"Low\", $K$2, $A244, $P$2,$O$2,,$M$2,$N$2)","v":27.65},{"$f":" RTD(\"cqg.rtd\",,\"StudyData\", $L$2, \"FG\", \"\", \"Close\", $K$2, $A244, $P$2,$O$2,,$M$2,$N$2)","v":27.65},"2020-06-02",43984,"06/02/20"]
[-243,{"$f":" RTD(\"cqg.rtd\",,\"StudyData\", $L$2, \"FG\", \"\", \"Time\", $K$2,$A245, $P$2, \"\", \"\",\"False\")","v":"2020-06-01"},{"$f":" RTD(\"cqg.rtd\",,\"StudyData\", $L$2, \"FG\", \"\", \"Time\", $K$2, $A245,$P$2,$O$2, \"\",\"False\")","v":43983},{"$f":" RTD(\"cqg.rtd\",,\"StudyData\", $L$2, \"FG\", \"\", \"Open\", $K$2, $A245, $P$2,$O$2,,$M$2,$N$2)","v":27.1},{"$f":" RTD(\"cqg.rtd\",,\"StudyData\", $L$2, \"FG\", \"\", \"High\", $K$2, $A245, $P$2,$O$2,,$M$2,$N$2)","v":27.66},{"$f":" RTD(\"cqg.rtd\",,\"StudyData\", $L$2, \"FG\", \"\", \"Low\", $K$2, $A245, $P$2,$O$2,,$M$2,$N$2)","v":27.1},{"$f":" RTD(\"cqg.rtd\",,\"StudyData\", $L$2, \"FG\", \"\", \"Close\", $K$2, $A245, $P$2,$O$2,,$M$2,$N$2)","v":27.65},"2020-06-01",43983,"06/01/20"]
[-244,{"$f":" RTD(\"cqg.rtd\",,\"StudyData\", $L$2, \"FG\", \"\", \"Time\", $K$2,$A246, $P$2, \"\", \"\",\"False\")","v":"2020-05-29"},{"$f":" RTD(\"cqg.rtd\",,\"StudyData\", $L$2, \"FG\", \"\", \"Time\", $K$2, $A246,$P$2,$O$2, \"\",\"False\")","v":43980},{"$f":" RTD(\"cqg.rtd\",,\"StudyData\", $L$2, \"FG\", \"\", \"Open\", $K$2, $A246, $P$2,$O$2,,$M$2,$N$2)","v":26.48},{"$f":" RTD(\"cqg.rtd\",,\"StudyData\", $L$2, \"FG\", \"\", \"High\", $K$2, $A246, $P$2,$O$2,,$M$2,$N$2)","v":26.79},{"$f":" RTD(\"cqg.rtd\",,\"StudyData\", $L$2, \"FG\", \"\", \"Low\", $K$2, $A246, $P$2,$O$2,,$M$2,$N$2)","v":26.2},{"$f":" RTD(\"cqg.rtd\",,\"StudyData\", $L$2, \"FG\", \"\", \"Close\", $K$2, $A246, $P$2,$O$2,,$M$2,$N$2)","v":26.79},"2020-05-29",43980,"05/29/20"]
[-245,{"$f":" RTD(\"cqg.rtd\",,\"StudyData\", $L$2, \"FG\", \"\", \"Time\", $K$2,$A247, $P$2, \"\", \"\",\"False\")","v":"2020-05-28"},{"$f":" RTD(\"cqg.rtd\",,\"StudyData\", $L$2, \"FG\", \"\", \"Time\", $K$2, $A247,$P$2,$O$2, \"\",\"False\")","v":43979},{"$f":" RTD(\"cqg.rtd\",,\"StudyData\", $L$2, \"FG\", \"\", \"Open\", $K$2, $A247, $P$2,$O$2,,$M$2,$N$2)","v":27.28},{"$f":" RTD(\"cqg.rtd\",,\"StudyData\", $L$2, \"FG\", \"\", \"High\", $K$2, $A247, $P$2,$O$2,,$M$2,$N$2)","v":27.3},{"$f":" RTD(\"cqg.rtd\",,\"StudyData\", $L$2, \"FG\", \"\", \"Low\", $K$2, $A247, $P$2,$O$2,,$M$2,$N$2)","v":26.69},{"$f":" RTD(\"cqg.rtd\",,\"StudyData\", $L$2, \"FG\", \"\", \"Close\", $K$2, $A247, $P$2,$O$2,,$M$2,$N$2)","v":26.69},"2020-05-28",43979,"05/28/20"]
[-246,{"$f":" RTD(\"cqg.rtd\",,\"StudyData\", $L$2, \"FG\", \"\", \"Time\", $K$2,$A248, $P$2, \"\", \"\",\"False\")","v":"2020-05-27"},{"$f":" RTD(\"cqg.rtd\",,\"StudyData\", $L$2, \"FG\", \"\", \"Time\", $K$2, $A248,$P$2,$O$2, \"\",\"False\")","v":43978},{"$f":" RTD(\"cqg.rtd\",,\"StudyData\", $L$2, \"FG\", \"\", \"Open\", $K$2, $A248, $P$2,$O$2,,$M$2,$N$2)","v":26.83},{"$f":" RTD(\"cqg.rtd\",,\"StudyData\", $L$2, \"FG\", \"\", \"High\", $K$2, $A248, $P$2,$O$2,,$M$2,$N$2)","v":27.36},{"$f":" RTD(\"cqg.rtd\",,\"StudyData\", $L$2, \"FG\", \"\", \"Low\", $K$2, $A248, $P$2,$O$2,,$M$2,$N$2)","v":26.83},{"$f":" RTD(\"cqg.rtd\",,\"StudyData\", $L$2, \"FG\", \"\", \"Close\", $K$2, $A248, $P$2,$O$2,,$M$2,$N$2)","v":27.36},"2020-05-27",43978,"05/27/20"]
[-247,{"$f":" RTD(\"cqg.rtd\",,\"StudyData\", $L$2, \"FG\", \"\", \"Time\", $K$2,$A249, $P$2, \"\", \"\",\"False\")","v":"2020-05-26"},{"$f":" RTD(\"cqg.rtd\",,\"StudyData\", $L$2, \"FG\", \"\", \"Time\", $K$2, $A249,$P$2,$O$2, \"\",\"False\")","v":43977},{"$f":" RTD(\"cqg.rtd\",,\"StudyData\", $L$2, \"FG\", \"\", \"Open\", $K$2, $A249, $P$2,$O$2,,$M$2,$N$2)","v":26.45},{"$f":" RTD(\"cqg.rtd\",,\"StudyData\", $L$2, \"FG\", \"\", \"High\", $K$2, $A249, $P$2,$O$2,,$M$2,$N$2)","v":26.93},{"$f":" RTD(\"cqg.rtd\",,\"StudyData\", $L$2, \"FG\", \"\", \"Low\", $K$2, $A249, $P$2,$O$2,,$M$2,$N$2)","v":26.45},{"$f":" RTD(\"cqg.rtd\",,\"StudyData\", $L$2, \"FG\", \"\", \"Close\", $K$2, $A249, $P$2,$O$2,,$M$2,$N$2)","v":26.7},"2020-05-26",43977,"05/26/20"]
[-248,{"$f":" RTD(\"cqg.rtd\",,\"StudyData\", $L$2, \"FG\", \"\", \"Time\", $K$2,$A250, $P$2, \"\", \"\",\"False\")","v":"2020-05-22"},{"$f":" RTD(\"cqg.rtd\",,\"StudyData\", $L$2, \"FG\", \"\", \"Time\", $K$2, $A250,$P$2,$O$2, \"\",\"False\")","v":43973},{"$f":" RTD(\"cqg.rtd\",,\"StudyData\", $L$2, \"FG\", \"\", \"Open\", $K$2, $A250, $P$2,$O$2,,$M$2,$N$2)","v":25.64},{"$f":" RTD(\"cqg.rtd\",,\"StudyData\", $L$2, \"FG\", \"\", \"High\", $K$2, $A250, $P$2,$O$2,,$M$2,$N$2)","v":25.64},{"$f":" RTD(\"cqg.rtd\",,\"StudyData\", $L$2, \"FG\", \"\", \"Low\", $K$2, $A250, $P$2,$O$2,,$M$2,$N$2)","v":25.64},{"$f":" RTD(\"cqg.rtd\",,\"StudyData\", $L$2, \"FG\", \"\", \"Close\", $K$2, $A250, $P$2,$O$2,,$M$2,$N$2)","v":25.64},"2020-05-22",43973,"05/22/20"]
[-249,{"$f":" RTD(\"cqg.rtd\",,\"StudyData\", $L$2, \"FG\", \"\", \"Time\", $K$2,$A251, $P$2, \"\", \"\",\"False\")","v":"2020-05-21"},{"$f":" RTD(\"cqg.rtd\",,\"StudyData\", $L$2, \"FG\", \"\", \"Time\", $K$2, $A251,$P$2,$O$2, \"\",\"False\")","v":43972},{"$f":" RTD(\"cqg.rtd\",,\"StudyData\", $L$2, \"FG\", \"\", \"Open\", $K$2, $A251, $P$2,$O$2,,$M$2,$N$2)","v":25.96},{"$f":" RTD(\"cqg.rtd\",,\"StudyData\", $L$2, \"FG\", \"\", \"High\", $K$2, $A251, $P$2,$O$2,,$M$2,$N$2)","v":25.96},{"$f":" RTD(\"cqg.rtd\",,\"StudyData\", $L$2, \"FG\", \"\", \"Low\", $K$2, $A251, $P$2,$O$2,,$M$2,$N$2)","v":25.5},{"$f":" RTD(\"cqg.rtd\",,\"StudyData\", $L$2, \"FG\", \"\", \"Close\", $K$2, $A251, $P$2,$O$2,,$M$2,$N$2)","v":25.75},"2020-05-21",43972,"05/21/20"]
[-250,{"$f":" RTD(\"cqg.rtd\",,\"StudyData\", $L$2, \"FG\", \"\", \"Time\", $K$2,$A252, $P$2, \"\", \"\",\"False\")","v":"2020-05-20"},{"$f":" RTD(\"cqg.rtd\",,\"StudyData\", $L$2, \"FG\", \"\", \"Time\", $K$2, $A252,$P$2,$O$2, \"\",\"False\")","v":43971},{"$f":" RTD(\"cqg.rtd\",,\"StudyData\", $L$2, \"FG\", \"\", \"Open\", $K$2, $A252, $P$2,$O$2,,$M$2,$N$2)","v":26},{"$f":" RTD(\"cqg.rtd\",,\"StudyData\", $L$2, \"FG\", \"\", \"High\", $K$2, $A252, $P$2,$O$2,,$M$2,$N$2)","v":26.15},{"$f":" RTD(\"cqg.rtd\",,\"StudyData\", $L$2, \"FG\", \"\", \"Low\", $K$2, $A252, $P$2,$O$2,,$M$2,$N$2)","v":25.92},{"$f":" RTD(\"cqg.rtd\",,\"StudyData\", $L$2, \"FG\", \"\", \"Close\", $K$2, $A252, $P$2,$O$2,,$M$2,$N$2)","v":25.92},"2020-05-20",43971,"05/20/20"]
[-251,{"$f":" RTD(\"cqg.rtd\",,\"StudyData\", $L$2, \"FG\", \"\", \"Time\", $K$2,$A253, $P$2, \"\", \"\",\"False\")","v":"2020-05-19"},{"$f":" RTD(\"cqg.rtd\",,\"StudyData\", $L$2, \"FG\", \"\", \"Time\", $K$2, $A253,$P$2,$O$2, \"\",\"False\")","v":43970},{"$f":" RTD(\"cqg.rtd\",,\"StudyData\", $L$2, \"FG\", \"\", \"Open\", $K$2, $A253, $P$2,$O$2,,$M$2,$N$2)","v":25.43},{"$f":" RTD(\"cqg.rtd\",,\"StudyData\", $L$2, \"FG\", \"\", \"High\", $K$2, $A253, $P$2,$O$2,,$M$2,$N$2)","v":25.9},{"$f":" RTD(\"cqg.rtd\",,\"StudyData\", $L$2, \"FG\", \"\", \"Low\", $K$2, $A253, $P$2,$O$2,,$M$2,$N$2)","v":25.42},{"$f":" RTD(\"cqg.rtd\",,\"StudyData\", $L$2, \"FG\", \"\", \"Close\", $K$2, $A253, $P$2,$O$2,,$M$2,$N$2)","v":25.42},"2020-05-19",43970,"05/19/20"]
[-252,{"$f":" RTD(\"cqg.rtd\",,\"StudyData\", $L$2, \"FG\", \"\", \"Time\", $K$2,$A254, $P$2, \"\", \"\",\"False\")","v":"2020-05-18"},{"$f":" RTD(\"cqg.rtd\",,\"StudyData\", $L$2, \"FG\", \"\", \"Time\", $K$2, $A254,$P$2,$O$2, \"\",\"False\")","v":43969},{"$f":" RTD(\"cqg.rtd\",,\"StudyData\", $L$2, \"FG\", \"\", \"Open\", $K$2, $A254, $P$2,$O$2,,$M$2,$N$2)","v":25.29},{"$f":" RTD(\"cqg.rtd\",,\"StudyData\", $L$2, \"FG\", \"\", \"High\", $K$2, $A254, $P$2,$O$2,,$M$2,$N$2)","v":25.57},{"$f":" RTD(\"cqg.rtd\",,\"StudyData\", $L$2, \"FG\", \"\", \"Low\", $K$2, $A254, $P$2,$O$2,,$M$2,$N$2)","v":25.26},{"$f":" RTD(\"cqg.rtd\",,\"StudyData\", $L$2, \"FG\", \"\", \"Close\", $K$2, $A254, $P$2,$O$2,,$M$2,$N$2)","v":25.57},"2020-05-18",43969,"05/18/20"]
[-253,{"$f":" RTD(\"cqg.rtd\",,\"StudyData\", $L$2, \"FG\", \"\", \"Time\", $K$2,$A255, $P$2, \"\", \"\",\"False\")","v":"2020-05-15"},{"$f":" RTD(\"cqg.rtd\",,\"StudyData\", $L$2, \"FG\", \"\", \"Time\", $K$2, $A255,$P$2,$O$2, \"\",\"False\")","v":43966},{"$f":" RTD(\"cqg.rtd\",,\"StudyData\", $L$2, \"FG\", \"\", \"Open\", $K$2, $A255, $P$2,$O$2,,$M$2,$N$2)","v":23.95},{"$f":" RTD(\"cqg.rtd\",,\"StudyData\", $L$2, \"FG\", \"\", \"High\", $K$2, $A255, $P$2,$O$2,,$M$2,$N$2)","v":24.12},{"$f":" RTD(\"cqg.rtd\",,\"StudyData\", $L$2, \"FG\", \"\", \"Low\", $K$2, $A255, $P$2,$O$2,,$M$2,$N$2)","v":23.92},{"$f":" RTD(\"cqg.rtd\",,\"StudyData\", $L$2, \"FG\", \"\", \"Close\", $K$2, $A255, $P$2,$O$2,,$M$2,$N$2)","v":24.12},"2020-05-15",43966,"05/15/20"]
[-254,{"$f":" RTD(\"cqg.rtd\",,\"StudyData\", $L$2, \"FG\", \"\", \"Time\", $K$2,$A256, $P$2, \"\", \"\",\"False\")","v":"2020-05-14"},{"$f":" RTD(\"cqg.rtd\",,\"StudyData\", $L$2, \"FG\", \"\", \"Time\", $K$2, $A256,$P$2,$O$2, \"\",\"False\")","v":43965},{"$f":" RTD(\"cqg.rtd\",,\"StudyData\", $L$2, \"FG\", \"\", \"Open\", $K$2, $A256, $P$2,$O$2,,$M$2,$N$2)","v":23.63},{"$f":" RTD(\"cqg.rtd\",,\"StudyData\", $L$2, \"FG\", \"\", \"High\", $K$2, $A256, $P$2,$O$2,,$M$2,$N$2)","v":24.04},{"$f":" RTD(\"cqg.rtd\",,\"StudyData\", $L$2, \"FG\", \"\", \"Low\", $K$2, $A256, $P$2,$O$2,,$M$2,$N$2)","v":23.63},{"$f":" RTD(\"cqg.rtd\",,\"StudyData\", $L$2, \"FG\", \"\", \"Close\", $K$2, $A256, $P$2,$O$2,,$M$2,$N$2)","v":24.04},"2020-05-14",43965,"05/14/20"]
[-255,{"$f":" RTD(\"cqg.rtd\",,\"StudyData\", $L$2, \"FG\", \"\", \"Time\", $K$2,$A257, $P$2, \"\", \"\",\"False\")","v":"2020-05-13"},{"$f":" RTD(\"cqg.rtd\",,\"StudyData\", $L$2, \"FG\", \"\", \"Time\", $K$2, $A257,$P$2,$O$2, \"\",\"False\")","v":43964},{"$f":" RTD(\"cqg.rtd\",,\"StudyData\", $L$2, \"FG\", \"\", \"Open\", $K$2, $A257, $P$2,$O$2,,$M$2,$N$2)","v":24.49},{"$f":" RTD(\"cqg.rtd\",,\"StudyData\", $L$2, \"FG\", \"\", \"High\", $K$2, $A257, $P$2,$O$2,,$M$2,$N$2)","v":24.52},{"$f":" RTD(\"cqg.rtd\",,\"StudyData\", $L$2, \"FG\", \"\", \"Low\", $K$2, $A257, $P$2,$O$2,,$M$2,$N$2)","v":23.57},{"$f":" RTD(\"cqg.rtd\",,\"StudyData\", $L$2, \"FG\", \"\", \"Close\", $K$2, $A257, $P$2,$O$2,,$M$2,$N$2)","v":23.73},"2020-05-13",43964,"05/13/20"]
[-256,{"$f":" RTD(\"cqg.rtd\",,\"StudyData\", $L$2, \"FG\", \"\", \"Time\", $K$2,$A258, $P$2, \"\", \"\",\"False\")","v":"2020-05-12"},{"$f":" RTD(\"cqg.rtd\",,\"StudyData\", $L$2, \"FG\", \"\", \"Time\", $K$2, $A258,$P$2,$O$2, \"\",\"False\")","v":43963},{"$f":" RTD(\"cqg.rtd\",,\"StudyData\", $L$2, \"FG\", \"\", \"Open\", $K$2, $A258, $P$2,$O$2,,$M$2,$N$2)","v":25.25},{"$f":" RTD(\"cqg.rtd\",,\"StudyData\", $L$2, \"FG\", \"\", \"High\", $K$2, $A258, $P$2,$O$2,,$M$2,$N$2)","v":25.38},{"$f":" RTD(\"cqg.rtd\",,\"StudyData\", $L$2, \"FG\", \"\", \"Low\", $K$2, $A258, $P$2,$O$2,,$M$2,$N$2)","v":24.71},{"$f":" RTD(\"cqg.rtd\",,\"StudyData\", $L$2, \"FG\", \"\", \"Close\", $K$2, $A258, $P$2,$O$2,,$M$2,$N$2)","v":24.71},"2020-05-12",43963,"05/12/20"]
[-257,{"$f":" RTD(\"cqg.rtd\",,\"StudyData\", $L$2, \"FG\", \"\", \"Time\", $K$2,$A259, $P$2, \"\", \"\",\"False\")","v":"2020-05-11"},{"$f":" RTD(\"cqg.rtd\",,\"StudyData\", $L$2, \"FG\", \"\", \"Time\", $K$2, $A259,$P$2,$O$2, \"\",\"False\")","v":43962},{"$f":" RTD(\"cqg.rtd\",,\"StudyData\", $L$2, \"FG\", \"\", \"Open\", $K$2, $A259, $P$2,$O$2,,$M$2,$N$2)","v":25.12},{"$f":" RTD(\"cqg.rtd\",,\"StudyData\", $L$2, \"FG\", \"\", \"High\", $K$2, $A259, $P$2,$O$2,,$M$2,$N$2)","v":25.5},{"$f":" RTD(\"cqg.rtd\",,\"StudyData\", $L$2, \"FG\", \"\", \"Low\", $K$2, $A259, $P$2,$O$2,,$M$2,$N$2)","v":25.08},{"$f":" RTD(\"cqg.rtd\",,\"StudyData\", $L$2, \"FG\", \"\", \"Close\", $K$2, $A259, $P$2,$O$2,,$M$2,$N$2)","v":25.4},{"$f":"B259","v":"2020-05-11"},{"$f":"B259","v":43962},{"$f":"IF(OR($K$2=\"D\",$K$2=\"W\",$K$2=\",'M\"),TEXT(H259,\"MM/DD/YY\"),TEXT(I259,\"HH:MM\"))","v":"05/11/20"}]
[{"$f":"A259-1","v":-258},{"$f":" RTD(\"cqg.rtd\",,\"StudyData\", $L$2, \"FG\", \"\", \"Time\", $K$2,$A260, $P$2, \"\", \"\",\"False\")","v":"2020-05-08"},{"$f":" RTD(\"cqg.rtd\",,\"StudyData\", $L$2, \"FG\", \"\", \"Time\", $K$2, $A260,$P$2,$O$2, \"\",\"False\")","v":43959},{"$f":" RTD(\"cqg.rtd\",,\"StudyData\", $L$2, \"FG\", \"\", \"Open\", $K$2, $A260, $P$2,$O$2,,$M$2,$N$2)","v":25.41},{"$f":" RTD(\"cqg.rtd\",,\"StudyData\", $L$2, \"FG\", \"\", \"High\", $K$2, $A260, $P$2,$O$2,,$M$2,$N$2)","v":25.76},{"$f":" RTD(\"cqg.rtd\",,\"StudyData\", $L$2, \"FG\", \"\", \"Low\", $K$2, $A260, $P$2,$O$2,,$M$2,$N$2)","v":25.41},{"$f":" RTD(\"cqg.rtd\",,\"StudyData\", $L$2, \"FG\", \"\", \"Close\", $K$2, $A260, $P$2,$O$2,,$M$2,$N$2)","v":25.76},"2020-05-08",43959,"05/08/20"]
[-259,{"$f":" RTD(\"cqg.rtd\",,\"StudyData\", $L$2, \"FG\", \"\", \"Time\", $K$2,$A261, $P$2, \"\", \"\",\"False\")","v":"2020-05-07"},{"$f":" RTD(\"cqg.rtd\",,\"StudyData\", $L$2, \"FG\", \"\", \"Time\", $K$2, $A261,$P$2,$O$2, \"\",\"False\")","v":43958},{"$f":" RTD(\"cqg.rtd\",,\"StudyData\", $L$2, \"FG\", \"\", \"Open\", $K$2, $A261, $P$2,$O$2,,$M$2,$N$2)","v":24.69},{"$f":" RTD(\"cqg.rtd\",,\"StudyData\", $L$2, \"FG\", \"\", \"High\", $K$2, $A261, $P$2,$O$2,,$M$2,$N$2)","v":24.85},{"$f":" RTD(\"cqg.rtd\",,\"StudyData\", $L$2, \"FG\", \"\", \"Low\", $K$2, $A261, $P$2,$O$2,,$M$2,$N$2)","v":24.69},{"$f":" RTD(\"cqg.rtd\",,\"StudyData\", $L$2, \"FG\", \"\", \"Close\", $K$2, $A261, $P$2,$O$2,,$M$2,$N$2)","v":24.69},"2020-05-07",43958,"05/07/20"]
[-260,{"$f":" RTD(\"cqg.rtd\",,\"StudyData\", $L$2, \"FG\", \"\", \"Time\", $K$2,$A262, $P$2, \"\", \"\",\"False\")","v":"2020-05-06"},{"$f":" RTD(\"cqg.rtd\",,\"StudyData\", $L$2, \"FG\", \"\", \"Time\", $K$2, $A262,$P$2,$O$2, \"\",\"False\")","v":43957},{"$f":" RTD(\"cqg.rtd\",,\"StudyData\", $L$2, \"FG\", \"\", \"Open\", $K$2, $A262, $P$2,$O$2,,$M$2,$N$2)","v":24.28},{"$f":" RTD(\"cqg.rtd\",,\"StudyData\", $L$2, \"FG\", \"\", \"High\", $K$2, $A262, $P$2,$O$2,,$M$2,$N$2)","v":24.75},{"$f":" RTD(\"cqg.rtd\",,\"StudyData\", $L$2, \"FG\", \"\", \"Low\", $K$2, $A262, $P$2,$O$2,,$M$2,$N$2)","v":24.26},{"$f":" RTD(\"cqg.rtd\",,\"StudyData\", $L$2, \"FG\", \"\", \"Close\", $K$2, $A262, $P$2,$O$2,,$M$2,$N$2)","v":24.27},"2020-05-06",43957,"05/06/20"]
[-261,{"$f":" RTD(\"cqg.rtd\",,\"StudyData\", $L$2, \"FG\", \"\", \"Time\", $K$2,$A263, $P$2, \"\", \"\",\"False\")","v":"2020-05-05"},{"$f":" RTD(\"cqg.rtd\",,\"StudyData\", $L$2, \"FG\", \"\", \"Time\", $K$2, $A263,$P$2,$O$2, \"\",\"False\")","v":43956},{"$f":" RTD(\"cqg.rtd\",,\"StudyData\", $L$2, \"FG\", \"\", \"Open\", $K$2, $A263, $P$2,$O$2,,$M$2,$N$2)","v":24.6},{"$f":" RTD(\"cqg.rtd\",,\"StudyData\", $L$2, \"FG\", \"\", \"High\", $K$2, $A263, $P$2,$O$2,,$M$2,$N$2)","v":24.6},{"$f":" RTD(\"cqg.rtd\",,\"StudyData\", $L$2, \"FG\", \"\", \"Low\", $K$2, $A263, $P$2,$O$2,,$M$2,$N$2)","v":24.08},{"$f":" RTD(\"cqg.rtd\",,\"StudyData\", $L$2, \"FG\", \"\", \"Close\", $K$2, $A263, $P$2,$O$2,,$M$2,$N$2)","v":24.08},"2020-05-05",43956,"05/05/20"]
[-262,{"$f":" RTD(\"cqg.rtd\",,\"StudyData\", $L$2, \"FG\", \"\", \"Time\", $K$2,$A264, $P$2, \"\", \"\",\"False\")","v":"2020-05-04"},{"$f":" RTD(\"cqg.rtd\",,\"StudyData\", $L$2, \"FG\", \"\", \"Time\", $K$2, $A264,$P$2,$O$2, \"\",\"False\")","v":43955},{"$f":" RTD(\"cqg.rtd\",,\"StudyData\", $L$2, \"FG\", \"\", \"Open\", $K$2, $A264, $P$2,$O$2,,$M$2,$N$2)","v":23.68},{"$f":" RTD(\"cqg.rtd\",,\"StudyData\", $L$2, \"FG\", \"\", \"High\", $K$2, $A264, $P$2,$O$2,,$M$2,$N$2)","v":23.9},{"$f":" RTD(\"cqg.rtd\",,\"StudyData\", $L$2, \"FG\", \"\", \"Low\", $K$2, $A264, $P$2,$O$2,,$M$2,$N$2)","v":23.62},{"$f":" RTD(\"cqg.rtd\",,\"StudyData\", $L$2, \"FG\", \"\", \"Close\", $K$2, $A264, $P$2,$O$2,,$M$2,$N$2)","v":23.9},"2020-05-04",43955,"05/04/20"]
[-263,{"$f":" RTD(\"cqg.rtd\",,\"StudyData\", $L$2, \"FG\", \"\", \"Time\", $K$2,$A265, $P$2, \"\", \"\",\"False\")","v":"2020-05-01"},{"$f":" RTD(\"cqg.rtd\",,\"StudyData\", $L$2, \"FG\", \"\", \"Time\", $K$2, $A265,$P$2,$O$2, \"\",\"False\")","v":43952},{"$f":" RTD(\"cqg.rtd\",,\"StudyData\", $L$2, \"FG\", \"\", \"Open\", $K$2, $A265, $P$2,$O$2,,$M$2,$N$2)","v":24.78},{"$f":" RTD(\"cqg.rtd\",,\"StudyData\", $L$2, \"FG\", \"\", \"High\", $K$2, $A265, $P$2,$O$2,,$M$2,$N$2)","v":24.78},{"$f":" RTD(\"cqg.rtd\",,\"StudyData\", $L$2, \"FG\", \"\", \"Low\", $K$2, $A265, $P$2,$O$2,,$M$2,$N$2)","v":23.76},{"$f":" RTD(\"cqg.rtd\",,\"StudyData\", $L$2, \"FG\", \"\", \"Close\", $K$2, $A265, $P$2,$O$2,,$M$2,$N$2)","v":23.77},"2020-05-01",43952,"05/01/20"]
[-264,{"$f":" RTD(\"cqg.rtd\",,\"StudyData\", $L$2, \"FG\", \"\", \"Time\", $K$2,$A266, $P$2, \"\", \"\",\"False\")","v":"2020-04-30"},{"$f":" RTD(\"cqg.rtd\",,\"StudyData\", $L$2, \"FG\", \"\", \"Time\", $K$2, $A266,$P$2,$O$2, \"\",\"False\")","v":43951},{"$f":" RTD(\"cqg.rtd\",,\"StudyData\", $L$2, \"FG\", \"\", \"Open\", $K$2, $A266, $P$2,$O$2,,$M$2,$N$2)","v":25},{"$f":" RTD(\"cqg.rtd\",,\"StudyData\", $L$2, \"FG\", \"\", \"High\", $K$2, $A266, $P$2,$O$2,,$M$2,$N$2)","v":25.02},{"$f":" RTD(\"cqg.rtd\",,\"StudyData\", $L$2, \"FG\", \"\", \"Low\", $K$2, $A266, $P$2,$O$2,,$M$2,$N$2)","v":24.95},{"$f":" RTD(\"cqg.rtd\",,\"StudyData\", $L$2, \"FG\", \"\", \"Close\", $K$2, $A266, $P$2,$O$2,,$M$2,$N$2)","v":25.02},"2020-04-30",43951,"04/30/20"]
[-265,{"$f":" RTD(\"cqg.rtd\",,\"StudyData\", $L$2, \"FG\", \"\", \"Time\", $K$2,$A267, $P$2, \"\", \"\",\"False\")","v":"2020-04-29"},{"$f":" RTD(\"cqg.rtd\",,\"StudyData\", $L$2, \"FG\", \"\", \"Time\", $K$2, $A267,$P$2,$O$2, \"\",\"False\")","v":43950},{"$f":" RTD(\"cqg.rtd\",,\"StudyData\", $L$2, \"FG\", \"\", \"Open\", $K$2, $A267, $P$2,$O$2,,$M$2,$N$2)","v":26},{"$f":" RTD(\"cqg.rtd\",,\"StudyData\", $L$2, \"FG\", \"\", \"High\", $K$2, $A267, $P$2,$O$2,,$M$2,$N$2)","v":26},{"$f":" RTD(\"cqg.rtd\",,\"StudyData\", $L$2, \"FG\", \"\", \"Low\", $K$2, $A267, $P$2,$O$2,,$M$2,$N$2)","v":25.85},{"$f":" RTD(\"cqg.rtd\",,\"StudyData\", $L$2, \"FG\", \"\", \"Close\", $K$2, $A267, $P$2,$O$2,,$M$2,$N$2)","v":25.85},"2020-04-29",43950,"04/29/20"]
[-266,{"$f":" RTD(\"cqg.rtd\",,\"StudyData\", $L$2, \"FG\", \"\", \"Time\", $K$2,$A268, $P$2, \"\", \"\",\"False\")","v":"2020-04-28"},{"$f":" RTD(\"cqg.rtd\",,\"StudyData\", $L$2, \"FG\", \"\", \"Time\", $K$2, $A268,$P$2,$O$2, \"\",\"False\")","v":43949},{"$f":" RTD(\"cqg.rtd\",,\"StudyData\", $L$2, \"FG\", \"\", \"Open\", $K$2, $A268, $P$2,$O$2,,$M$2,$N$2)","v":25.17},{"$f":" RTD(\"cqg.rtd\",,\"StudyData\", $L$2, \"FG\", \"\", \"High\", $K$2, $A268, $P$2,$O$2,,$M$2,$N$2)","v":25.17},{"$f":" RTD(\"cqg.rtd\",,\"StudyData\", $L$2, \"FG\", \"\", \"Low\", $K$2, $A268, $P$2,$O$2,,$M$2,$N$2)","v":24.71},{"$f":" RTD(\"cqg.rtd\",,\"StudyData\", $L$2, \"FG\", \"\", \"Close\", $K$2, $A268, $P$2,$O$2,,$M$2,$N$2)","v":24.71},"2020-04-28",43949,"04/28/20"]
[-267,{"$f":" RTD(\"cqg.rtd\",,\"StudyData\", $L$2, \"FG\", \"\", \"Time\", $K$2,$A269, $P$2, \"\", \"\",\"False\")","v":"2020-04-27"},{"$f":" RTD(\"cqg.rtd\",,\"StudyData\", $L$2, \"FG\", \"\", \"Time\", $K$2, $A269,$P$2,$O$2, \"\",\"False\")","v":43948},{"$f":" RTD(\"cqg.rtd\",,\"StudyData\", $L$2, \"FG\", \"\", \"Open\", $K$2, $A269, $P$2,$O$2,,$M$2,$N$2)","v":24.13},{"$f":" RTD(\"cqg.rtd\",,\"StudyData\", $L$2, \"FG\", \"\", \"High\", $K$2, $A269, $P$2,$O$2,,$M$2,$N$2)","v":24.44},{"$f":" RTD(\"cqg.rtd\",,\"StudyData\", $L$2, \"FG\", \"\", \"Low\", $K$2, $A269, $P$2,$O$2,,$M$2,$N$2)","v":24.13},{"$f":" RTD(\"cqg.rtd\",,\"StudyData\", $L$2, \"FG\", \"\", \"Close\", $K$2, $A269, $P$2,$O$2,,$M$2,$N$2)","v":24.44},"2020-04-27",43948,"04/27/20"]
[-268,{"$f":" RTD(\"cqg.rtd\",,\"StudyData\", $L$2, \"FG\", \"\", \"Time\", $K$2,$A270, $P$2, \"\", \"\",\"False\")","v":"2020-04-24"},{"$f":" RTD(\"cqg.rtd\",,\"StudyData\", $L$2, \"FG\", \"\", \"Time\", $K$2, $A270,$P$2,$O$2, \"\",\"False\")","v":43945},{"$f":" RTD(\"cqg.rtd\",,\"StudyData\", $L$2, \"FG\", \"\", \"Open\", $K$2, $A270, $P$2,$O$2,,$M$2,$N$2)","v":22.95},{"$f":" RTD(\"cqg.rtd\",,\"StudyData\", $L$2, \"FG\", \"\", \"High\", $K$2, $A270, $P$2,$O$2,,$M$2,$N$2)","v":23.4},{"$f":" RTD(\"cqg.rtd\",,\"StudyData\", $L$2, \"FG\", \"\", \"Low\", $K$2, $A270, $P$2,$O$2,,$M$2,$N$2)","v":22.95},{"$f":" RTD(\"cqg.rtd\",,\"StudyData\", $L$2, \"FG\", \"\", \"Close\", $K$2, $A270, $P$2,$O$2,,$M$2,$N$2)","v":23.39},"2020-04-24",43945,"04/24/20"]
[-269,{"$f":" RTD(\"cqg.rtd\",,\"StudyData\", $L$2, \"FG\", \"\", \"Time\", $K$2,$A271, $P$2, \"\", \"\",\"False\")","v":"2020-04-23"},{"$f":" RTD(\"cqg.rtd\",,\"StudyData\", $L$2, \"FG\", \"\", \"Time\", $K$2, $A271,$P$2,$O$2, \"\",\"False\")","v":43944},{"$f":" RTD(\"cqg.rtd\",,\"StudyData\", $L$2, \"FG\", \"\", \"Open\", $K$2, $A271, $P$2,$O$2,,$M$2,$N$2)","v":22.8},{"$f":" RTD(\"cqg.rtd\",,\"StudyData\", $L$2, \"FG\", \"\", \"High\", $K$2, $A271, $P$2,$O$2,,$M$2,$N$2)","v":22.8},{"$f":" RTD(\"cqg.rtd\",,\"StudyData\", $L$2, \"FG\", \"\", \"Low\", $K$2, $A271, $P$2,$O$2,,$M$2,$N$2)","v":22.8},{"$f":" RTD(\"cqg.rtd\",,\"StudyData\", $L$2, \"FG\", \"\", \"Close\", $K$2, $A271, $P$2,$O$2,,$M$2,$N$2)","v":22.8},"2020-04-23",43944,"04/23/20"]
[-270,{"$f":" RTD(\"cqg.rtd\",,\"StudyData\", $L$2, \"FG\", \"\", \"Time\", $K$2,$A272, $P$2, \"\", \"\",\"False\")","v":"2020-04-22"},{"$f":" RTD(\"cqg.rtd\",,\"StudyData\", $L$2, \"FG\", \"\", \"Time\", $K$2, $A272,$P$2,$O$2, \"\",\"False\")","v":43943},{"$f":" RTD(\"cqg.rtd\",,\"StudyData\", $L$2, \"FG\", \"\", \"Open\", $K$2, $A272, $P$2,$O$2,,$M$2,$N$2)","v":22.71},{"$f":" RTD(\"cqg.rtd\",,\"StudyData\", $L$2, \"FG\", \"\", \"High\", $K$2, $A272, $P$2,$O$2,,$M$2,$N$2)","v":22.9},{"$f":" RTD(\"cqg.rtd\",,\"StudyData\", $L$2, \"FG\", \"\", \"Low\", $K$2, $A272, $P$2,$O$2,,$M$2,$N$2)","v":22.71},{"$f":" RTD(\"cqg.rtd\",,\"StudyData\", $L$2, \"FG\", \"\", \"Close\", $K$2, $A272, $P$2,$O$2,,$M$2,$N$2)","v":22.8},"2020-04-22",43943,"04/22/20"]
[-271,{"$f":" RTD(\"cqg.rtd\",,\"StudyData\", $L$2, \"FG\", \"\", \"Time\", $K$2,$A273, $P$2, \"\", \"\",\"False\")","v":"2020-04-21"},{"$f":" RTD(\"cqg.rtd\",,\"StudyData\", $L$2, \"FG\", \"\", \"Time\", $K$2, $A273,$P$2,$O$2, \"\",\"False\")","v":43942},{"$f":" RTD(\"cqg.rtd\",,\"StudyData\", $L$2, \"FG\", \"\", \"Open\", $K$2, $A273, $P$2,$O$2,,$M$2,$N$2)","v":22.5},{"$f":" RTD(\"cqg.rtd\",,\"StudyData\", $L$2, \"FG\", \"\", \"High\", $K$2, $A273, $P$2,$O$2,,$M$2,$N$2)","v":22.5},{"$f":" RTD(\"cqg.rtd\",,\"StudyData\", $L$2, \"FG\", \"\", \"Low\", $K$2, $A273, $P$2,$O$2,,$M$2,$N$2)","v":22.25},{"$f":" RTD(\"cqg.rtd\",,\"StudyData\", $L$2, \"FG\", \"\", \"Close\", $K$2, $A273, $P$2,$O$2,,$M$2,$N$2)","v":22.25},"2020-04-21",43942,"04/21/20"]
[-272,{"$f":" RTD(\"cqg.rtd\",,\"StudyData\", $L$2, \"FG\", \"\", \"Time\", $K$2,$A274, $P$2, \"\", \"\",\"False\")","v":"2020-04-20"},{"$f":" RTD(\"cqg.rtd\",,\"StudyData\", $L$2, \"FG\", \"\", \"Time\", $K$2, $A274,$P$2,$O$2, \"\",\"False\")","v":43941},{"$f":" RTD(\"cqg.rtd\",,\"StudyData\", $L$2, \"FG\", \"\", \"Open\", $K$2, $A274, $P$2,$O$2,,$M$2,$N$2)","v":23.5},{"$f":" RTD(\"cqg.rtd\",,\"StudyData\", $L$2, \"FG\", \"\", \"High\", $K$2, $A274, $P$2,$O$2,,$M$2,$N$2)","v":23.6},{"$f":" RTD(\"cqg.rtd\",,\"StudyData\", $L$2, \"FG\", \"\", \"Low\", $K$2, $A274, $P$2,$O$2,,$M$2,$N$2)","v":23},{"$f":" RTD(\"cqg.rtd\",,\"StudyData\", $L$2, \"FG\", \"\", \"Close\", $K$2, $A274, $P$2,$O$2,,$M$2,$N$2)","v":23.07},"2020-04-20",43941,"04/20/20"]
[-273,{"$f":" RTD(\"cqg.rtd\",,\"StudyData\", $L$2, \"FG\", \"\", \"Time\", $K$2,$A275, $P$2, \"\", \"\",\"False\")","v":"2020-04-17"},{"$f":" RTD(\"cqg.rtd\",,\"StudyData\", $L$2, \"FG\", \"\", \"Time\", $K$2, $A275,$P$2,$O$2, \"\",\"False\")","v":43938},{"$f":" RTD(\"cqg.rtd\",,\"StudyData\", $L$2, \"FG\", \"\", \"Open\", $K$2, $A275, $P$2,$O$2,,$M$2,$N$2)","v":23.27},{"$f":" RTD(\"cqg.rtd\",,\"StudyData\", $L$2, \"FG\", \"\", \"High\", $K$2, $A275, $P$2,$O$2,,$M$2,$N$2)","v":23.46},{"$f":" RTD(\"cqg.rtd\",,\"StudyData\", $L$2, \"FG\", \"\", \"Low\", $K$2, $A275, $P$2,$O$2,,$M$2,$N$2)","v":23.27},{"$f":" RTD(\"cqg.rtd\",,\"StudyData\", $L$2, \"FG\", \"\", \"Close\", $K$2, $A275, $P$2,$O$2,,$M$2,$N$2)","v":23.46},"2020-04-17",43938,"04/17/20"]
[-274,{"$f":" RTD(\"cqg.rtd\",,\"StudyData\", $L$2, \"FG\", \"\", \"Time\", $K$2,$A276, $P$2, \"\", \"\",\"False\")","v":"2020-04-16"},{"$f":" RTD(\"cqg.rtd\",,\"StudyData\", $L$2, \"FG\", \"\", \"Time\", $K$2, $A276,$P$2,$O$2, \"\",\"False\")","v":43937},{"$f":" RTD(\"cqg.rtd\",,\"StudyData\", $L$2, \"FG\", \"\", \"Open\", $K$2, $A276, $P$2,$O$2,,$M$2,$N$2)","v":22.7},{"$f":" RTD(\"cqg.rtd\",,\"StudyData\", $L$2, \"FG\", \"\", \"High\", $K$2, $A276, $P$2,$O$2,,$M$2,$N$2)","v":22.7},{"$f":" RTD(\"cqg.rtd\",,\"StudyData\", $L$2, \"FG\", \"\", \"Low\", $K$2, $A276, $P$2,$O$2,,$M$2,$N$2)","v":22.46},{"$f":" RTD(\"cqg.rtd\",,\"StudyData\", $L$2, \"FG\", \"\", \"Close\", $K$2, $A276, $P$2,$O$2,,$M$2,$N$2)","v":22.7},"2020-04-16",43937,"04/16/20"]
[-275,{"$f":" RTD(\"cqg.rtd\",,\"StudyData\", $L$2, \"FG\", \"\", \"Time\", $K$2,$A277, $P$2, \"\", \"\",\"False\")","v":"2020-04-15"},{"$f":" RTD(\"cqg.rtd\",,\"StudyData\", $L$2, \"FG\", \"\", \"Time\", $K$2, $A277,$P$2,$O$2, \"\",\"False\")","v":43936},{"$f":" RTD(\"cqg.rtd\",,\"StudyData\", $L$2, \"FG\", \"\", \"Open\", $K$2, $A277, $P$2,$O$2,,$M$2,$N$2)","v":23.13},{"$f":" RTD(\"cqg.rtd\",,\"StudyData\", $L$2, \"FG\", \"\", \"High\", $K$2, $A277, $P$2,$O$2,,$M$2,$N$2)","v":23.13},{"$f":" RTD(\"cqg.rtd\",,\"StudyData\", $L$2, \"FG\", \"\", \"Low\", $K$2, $A277, $P$2,$O$2,,$M$2,$N$2)","v":22.49},{"$f":" RTD(\"cqg.rtd\",,\"StudyData\", $L$2, \"FG\", \"\", \"Close\", $K$2, $A277, $P$2,$O$2,,$M$2,$N$2)","v":22.67},"2020-04-15",43936,"04/15/20"]
[-276,{"$f":" RTD(\"cqg.rtd\",,\"StudyData\", $L$2, \"FG\", \"\", \"Time\", $K$2,$A278, $P$2, \"\", \"\",\"False\")","v":"2020-04-14"},{"$f":" RTD(\"cqg.rtd\",,\"StudyData\", $L$2, \"FG\", \"\", \"Time\", $K$2, $A278,$P$2,$O$2, \"\",\"False\")","v":43935},{"$f":" RTD(\"cqg.rtd\",,\"StudyData\", $L$2, \"FG\", \"\", \"Open\", $K$2, $A278, $P$2,$O$2,,$M$2,$N$2)","v":23.53},{"$f":" RTD(\"cqg.rtd\",,\"StudyData\", $L$2, \"FG\", \"\", \"High\", $K$2, $A278, $P$2,$O$2,,$M$2,$N$2)","v":23.61},{"$f":" RTD(\"cqg.rtd\",,\"StudyData\", $L$2, \"FG\", \"\", \"Low\", $K$2, $A278, $P$2,$O$2,,$M$2,$N$2)","v":23.29},{"$f":" RTD(\"cqg.rtd\",,\"StudyData\", $L$2, \"FG\", \"\", \"Close\", $K$2, $A278, $P$2,$O$2,,$M$2,$N$2)","v":23.41},"2020-04-14",43935,"04/14/20"]
[-277,{"$f":" RTD(\"cqg.rtd\",,\"StudyData\", $L$2, \"FG\", \"\", \"Time\", $K$2,$A279, $P$2, \"\", \"\",\"False\")","v":"2020-04-13"},{"$f":" RTD(\"cqg.rtd\",,\"StudyData\", $L$2, \"FG\", \"\", \"Time\", $K$2, $A279,$P$2,$O$2, \"\",\"False\")","v":43934},{"$f":" RTD(\"cqg.rtd\",,\"StudyData\", $L$2, \"FG\", \"\", \"Open\", $K$2, $A279, $P$2,$O$2,,$M$2,$N$2)","v":22.82},{"$f":" RTD(\"cqg.rtd\",,\"StudyData\", $L$2, \"FG\", \"\", \"High\", $K$2, $A279, $P$2,$O$2,,$M$2,$N$2)","v":22.82},{"$f":" RTD(\"cqg.rtd\",,\"StudyData\", $L$2, \"FG\", \"\", \"Low\", $K$2, $A279, $P$2,$O$2,,$M$2,$N$2)","v":22.32},{"$f":" RTD(\"cqg.rtd\",,\"StudyData\", $L$2, \"FG\", \"\", \"Close\", $K$2, $A279, $P$2,$O$2,,$M$2,$N$2)","v":22.75},"2020-04-13",43934,"04/13/20"]
[-278,{"$f":" RTD(\"cqg.rtd\",,\"StudyData\", $L$2, \"FG\", \"\", \"Time\", $K$2,$A280, $P$2, \"\", \"\",\"False\")","v":"2020-04-09"},{"$f":" RTD(\"cqg.rtd\",,\"StudyData\", $L$2, \"FG\", \"\", \"Time\", $K$2, $A280,$P$2,$O$2, \"\",\"False\")","v":43930},{"$f":" RTD(\"cqg.rtd\",,\"StudyData\", $L$2, \"FG\", \"\", \"Open\", $K$2, $A280, $P$2,$O$2,,$M$2,$N$2)","v":23.12},{"$f":" RTD(\"cqg.rtd\",,\"StudyData\", $L$2, \"FG\", \"\", \"High\", $K$2, $A280, $P$2,$O$2,,$M$2,$N$2)","v":23.15},{"$f":" RTD(\"cqg.rtd\",,\"StudyData\", $L$2, \"FG\", \"\", \"Low\", $K$2, $A280, $P$2,$O$2,,$M$2,$N$2)","v":22.5},{"$f":" RTD(\"cqg.rtd\",,\"StudyData\", $L$2, \"FG\", \"\", \"Close\", $K$2, $A280, $P$2,$O$2,,$M$2,$N$2)","v":22.71},"2020-04-09",43930,"04/09/20"]
[-279,{"$f":" RTD(\"cqg.rtd\",,\"StudyData\", $L$2, \"FG\", \"\", \"Time\", $K$2,$A281, $P$2, \"\", \"\",\"False\")","v":"2020-04-08"},{"$f":" RTD(\"cqg.rtd\",,\"StudyData\", $L$2, \"FG\", \"\", \"Time\", $K$2, $A281,$P$2,$O$2, \"\",\"False\")","v":43929},{"$f":" RTD(\"cqg.rtd\",,\"StudyData\", $L$2, \"FG\", \"\", \"Open\", $K$2, $A281, $P$2,$O$2,,$M$2,$N$2)","v":21.61},{"$f":" RTD(\"cqg.rtd\",,\"StudyData\", $L$2, \"FG\", \"\", \"High\", $K$2, $A281, $P$2,$O$2,,$M$2,$N$2)","v":22.24},{"$f":" RTD(\"cqg.rtd\",,\"StudyData\", $L$2, \"FG\", \"\", \"Low\", $K$2, $A281, $P$2,$O$2,,$M$2,$N$2)","v":21.53},{"$f":" RTD(\"cqg.rtd\",,\"StudyData\", $L$2, \"FG\", \"\", \"Close\", $K$2, $A281, $P$2,$O$2,,$M$2,$N$2)","v":22.24},"2020-04-08",43929,"04/08/20"]
[-280,{"$f":" RTD(\"cqg.rtd\",,\"StudyData\", $L$2, \"FG\", \"\", \"Time\", $K$2,$A282, $P$2, \"\", \"\",\"False\")","v":"2020-04-07"},{"$f":" RTD(\"cqg.rtd\",,\"StudyData\", $L$2, \"FG\", \"\", \"Time\", $K$2, $A282,$P$2,$O$2, \"\",\"False\")","v":43928},{"$f":" RTD(\"cqg.rtd\",,\"StudyData\", $L$2, \"FG\", \"\", \"Open\", $K$2, $A282, $P$2,$O$2,,$M$2,$N$2)","v":21.94},{"$f":" RTD(\"cqg.rtd\",,\"StudyData\", $L$2, \"FG\", \"\", \"High\", $K$2, $A282, $P$2,$O$2,,$M$2,$N$2)","v":21.95},{"$f":" RTD(\"cqg.rtd\",,\"StudyData\", $L$2, \"FG\", \"\", \"Low\", $K$2, $A282, $P$2,$O$2,,$M$2,$N$2)","v":21.18},{"$f":" RTD(\"cqg.rtd\",,\"StudyData\", $L$2, \"FG\", \"\", \"Close\", $K$2, $A282, $P$2,$O$2,,$M$2,$N$2)","v":21.28},"2020-04-07",43928,"04/07/20"]
[-281,{"$f":" RTD(\"cqg.rtd\",,\"StudyData\", $L$2, \"FG\", \"\", \"Time\", $K$2,$A283, $P$2, \"\", \"\",\"False\")","v":"2020-04-06"},{"$f":" RTD(\"cqg.rtd\",,\"StudyData\", $L$2, \"FG\", \"\", \"Time\", $K$2, $A283,$P$2,$O$2, \"\",\"False\")","v":43927},{"$f":" RTD(\"cqg.rtd\",,\"StudyData\", $L$2, \"FG\", \"\", \"Open\", $K$2, $A283, $P$2,$O$2,,$M$2,$N$2)","v":20.079999999999998},{"$f":" RTD(\"cqg.rtd\",,\"StudyData\", $L$2, \"FG\", \"\", \"High\", $K$2, $A283, $P$2,$O$2,,$M$2,$N$2)","v":20.91},{"$f":" RTD(\"cqg.rtd\",,\"StudyData\", $L$2, \"FG\", \"\", \"Low\", $K$2, $A283, $P$2,$O$2,,$M$2,$N$2)","v":20.079999999999998},{"$f":" RTD(\"cqg.rtd\",,\"StudyData\", $L$2, \"FG\", \"\", \"Close\", $K$2, $A283, $P$2,$O$2,,$M$2,$N$2)","v":20.79},"2020-04-06",43927,"04/06/20"]
[-282,{"$f":" RTD(\"cqg.rtd\",,\"StudyData\", $L$2, \"FG\", \"\", \"Time\", $K$2,$A284, $P$2, \"\", \"\",\"False\")","v":"2020-04-03"},{"$f":" RTD(\"cqg.rtd\",,\"StudyData\", $L$2, \"FG\", \"\", \"Time\", $K$2, $A284,$P$2,$O$2, \"\",\"False\")","v":43924},{"$f":" RTD(\"cqg.rtd\",,\"StudyData\", $L$2, \"FG\", \"\", \"Open\", $K$2, $A284, $P$2,$O$2,,$M$2,$N$2)","v":19.11},{"$f":" RTD(\"cqg.rtd\",,\"StudyData\", $L$2, \"FG\", \"\", \"High\", $K$2, $A284, $P$2,$O$2,,$M$2,$N$2)","v":19.48},{"$f":" RTD(\"cqg.rtd\",,\"StudyData\", $L$2, \"FG\", \"\", \"Low\", $K$2, $A284, $P$2,$O$2,,$M$2,$N$2)","v":18.75},{"$f":" RTD(\"cqg.rtd\",,\"StudyData\", $L$2, \"FG\", \"\", \"Close\", $K$2, $A284, $P$2,$O$2,,$M$2,$N$2)","v":19.04},"2020-04-03",43924,"04/03/20"]
[-283,{"$f":" RTD(\"cqg.rtd\",,\"StudyData\", $L$2, \"FG\", \"\", \"Time\", $K$2,$A285, $P$2, \"\", \"\",\"False\")","v":"2020-04-02"},{"$f":" RTD(\"cqg.rtd\",,\"StudyData\", $L$2, \"FG\", \"\", \"Time\", $K$2, $A285,$P$2,$O$2, \"\",\"False\")","v":43923},{"$f":" RTD(\"cqg.rtd\",,\"StudyData\", $L$2, \"FG\", \"\", \"Open\", $K$2, $A285, $P$2,$O$2,,$M$2,$N$2)","v":19.260000000000002},{"$f":" RTD(\"cqg.rtd\",,\"StudyData\", $L$2, \"FG\", \"\", \"High\", $K$2, $A285, $P$2,$O$2,,$M$2,$N$2)","v":19.43},{"$f":" RTD(\"cqg.rtd\",,\"StudyData\", $L$2, \"FG\", \"\", \"Low\", $K$2, $A285, $P$2,$O$2,,$M$2,$N$2)","v":19.260000000000002},{"$f":" RTD(\"cqg.rtd\",,\"StudyData\", $L$2, \"FG\", \"\", \"Close\", $K$2, $A285, $P$2,$O$2,,$M$2,$N$2)","v":19.43},"2020-04-02",43923,"04/02/20"]
[-284,{"$f":" RTD(\"cqg.rtd\",,\"StudyData\", $L$2, \"FG\", \"\", \"Time\", $K$2,$A286, $P$2, \"\", \"\",\"False\")","v":"2020-04-01"},{"$f":" RTD(\"cqg.rtd\",,\"StudyData\", $L$2, \"FG\", \"\", \"Time\", $K$2, $A286,$P$2,$O$2, \"\",\"False\")","v":43922},{"$f":" RTD(\"cqg.rtd\",,\"StudyData\", $L$2, \"FG\", \"\", \"Open\", $K$2, $A286, $P$2,$O$2,,$M$2,$N$2)","v":20.29},{"$f":" RTD(\"cqg.rtd\",,\"StudyData\", $L$2, \"FG\", \"\", \"High\", $K$2, $A286, $P$2,$O$2,,$M$2,$N$2)","v":20.29},{"$f":" RTD(\"cqg.rtd\",,\"StudyData\", $L$2, \"FG\", \"\", \"Low\", $K$2, $A286, $P$2,$O$2,,$M$2,$N$2)","v":19.47},{"$f":" RTD(\"cqg.rtd\",,\"StudyData\", $L$2, \"FG\", \"\", \"Close\", $K$2, $A286, $P$2,$O$2,,$M$2,$N$2)","v":19.47},"2020-04-01",43922,"04/01/20"]
[-285,{"$f":" RTD(\"cqg.rtd\",,\"StudyData\", $L$2, \"FG\", \"\", \"Time\", $K$2,$A287, $P$2, \"\", \"\",\"False\")","v":"2020-03-31"},{"$f":" RTD(\"cqg.rtd\",,\"StudyData\", $L$2, \"FG\", \"\", \"Time\", $K$2, $A287,$P$2,$O$2, \"\",\"False\")","v":43921},{"$f":" RTD(\"cqg.rtd\",,\"StudyData\", $L$2, \"FG\", \"\", \"Open\", $K$2, $A287, $P$2,$O$2,,$M$2,$N$2)","v":21.32},{"$f":" RTD(\"cqg.rtd\",,\"StudyData\", $L$2, \"FG\", \"\", \"High\", $K$2, $A287, $P$2,$O$2,,$M$2,$N$2)","v":21.39},{"$f":" RTD(\"cqg.rtd\",,\"StudyData\", $L$2, \"FG\", \"\", \"Low\", $K$2, $A287, $P$2,$O$2,,$M$2,$N$2)","v":20.84},{"$f":" RTD(\"cqg.rtd\",,\"StudyData\", $L$2, \"FG\", \"\", \"Close\", $K$2, $A287, $P$2,$O$2,,$M$2,$N$2)","v":20.84},"2020-03-31",43921,"03/31/20"]
[-286,{"$f":" RTD(\"cqg.rtd\",,\"StudyData\", $L$2, \"FG\", \"\", \"Time\", $K$2,$A288, $P$2, \"\", \"\",\"False\")","v":"2020-03-30"},{"$f":" RTD(\"cqg.rtd\",,\"StudyData\", $L$2, \"FG\", \"\", \"Time\", $K$2, $A288,$P$2,$O$2, \"\",\"False\")","v":43920},{"$f":" RTD(\"cqg.rtd\",,\"StudyData\", $L$2, \"FG\", \"\", \"Open\", $K$2, $A288, $P$2,$O$2,,$M$2,$N$2)","v":20.9},{"$f":" RTD(\"cqg.rtd\",,\"StudyData\", $L$2, \"FG\", \"\", \"High\", $K$2, $A288, $P$2,$O$2,,$M$2,$N$2)","v":20.97},{"$f":" RTD(\"cqg.rtd\",,\"StudyData\", $L$2, \"FG\", \"\", \"Low\", $K$2, $A288, $P$2,$O$2,,$M$2,$N$2)","v":20.21},{"$f":" RTD(\"cqg.rtd\",,\"StudyData\", $L$2, \"FG\", \"\", \"Close\", $K$2, $A288, $P$2,$O$2,,$M$2,$N$2)","v":20.97},"2020-03-30",43920,"03/30/20"]
[-287,{"$f":" RTD(\"cqg.rtd\",,\"StudyData\", $L$2, \"FG\", \"\", \"Time\", $K$2,$A289, $P$2, \"\", \"\",\"False\")","v":"2020-03-27"},{"$f":" RTD(\"cqg.rtd\",,\"StudyData\", $L$2, \"FG\", \"\", \"Time\", $K$2, $A289,$P$2,$O$2, \"\",\"False\")","v":43917},{"$f":" RTD(\"cqg.rtd\",,\"StudyData\", $L$2, \"FG\", \"\", \"Open\", $K$2, $A289, $P$2,$O$2,,$M$2,$N$2)","v":21.21},{"$f":" RTD(\"cqg.rtd\",,\"StudyData\", $L$2, \"FG\", \"\", \"High\", $K$2, $A289, $P$2,$O$2,,$M$2,$N$2)","v":21.21},{"$f":" RTD(\"cqg.rtd\",,\"StudyData\", $L$2, \"FG\", \"\", \"Low\", $K$2, $A289, $P$2,$O$2,,$M$2,$N$2)","v":20.65},{"$f":" RTD(\"cqg.rtd\",,\"StudyData\", $L$2, \"FG\", \"\", \"Close\", $K$2, $A289, $P$2,$O$2,,$M$2,$N$2)","v":21.01},"2020-03-27",43917,"03/27/20"]
[-288,{"$f":" RTD(\"cqg.rtd\",,\"StudyData\", $L$2, \"FG\", \"\", \"Time\", $K$2,$A290, $P$2, \"\", \"\",\"False\")","v":"2020-03-26"},{"$f":" RTD(\"cqg.rtd\",,\"StudyData\", $L$2, \"FG\", \"\", \"Time\", $K$2, $A290,$P$2,$O$2, \"\",\"False\")","v":43916},{"$f":" RTD(\"cqg.rtd\",,\"StudyData\", $L$2, \"FG\", \"\", \"Open\", $K$2, $A290, $P$2,$O$2,,$M$2,$N$2)","v":21.45},{"$f":" RTD(\"cqg.rtd\",,\"StudyData\", $L$2, \"FG\", \"\", \"High\", $K$2, $A290, $P$2,$O$2,,$M$2,$N$2)","v":21.95},{"$f":" RTD(\"cqg.rtd\",,\"StudyData\", $L$2, \"FG\", \"\", \"Low\", $K$2, $A290, $P$2,$O$2,,$M$2,$N$2)","v":21.45},{"$f":" RTD(\"cqg.rtd\",,\"StudyData\", $L$2, \"FG\", \"\", \"Close\", $K$2, $A290, $P$2,$O$2,,$M$2,$N$2)","v":21.94},"2020-03-26",43916,"03/26/20"]
[-289,{"$f":" RTD(\"cqg.rtd\",,\"StudyData\", $L$2, \"FG\", \"\", \"Time\", $K$2,$A291, $P$2, \"\", \"\",\"False\")","v":"2020-03-25"},{"$f":" RTD(\"cqg.rtd\",,\"StudyData\", $L$2, \"FG\", \"\", \"Time\", $K$2, $A291,$P$2,$O$2, \"\",\"False\")","v":43915},{"$f":" RTD(\"cqg.rtd\",,\"StudyData\", $L$2, \"FG\", \"\", \"Open\", $K$2, $A291, $P$2,$O$2,,$M$2,$N$2)","v":21.01},{"$f":" RTD(\"cqg.rtd\",,\"StudyData\", $L$2, \"FG\", \"\", \"High\", $K$2, $A291, $P$2,$O$2,,$M$2,$N$2)","v":21.75},{"$f":" RTD(\"cqg.rtd\",,\"StudyData\", $L$2, \"FG\", \"\", \"Low\", $K$2, $A291, $P$2,$O$2,,$M$2,$N$2)","v":21.01},{"$f":" RTD(\"cqg.rtd\",,\"StudyData\", $L$2, \"FG\", \"\", \"Close\", $K$2, $A291, $P$2,$O$2,,$M$2,$N$2)","v":21.33},"2020-03-25",43915,"03/25/20"]
[-290,{"$f":" RTD(\"cqg.rtd\",,\"StudyData\", $L$2, \"FG\", \"\", \"Time\", $K$2,$A292, $P$2, \"\", \"\",\"False\")","v":"2020-03-24"},{"$f":" RTD(\"cqg.rtd\",,\"StudyData\", $L$2, \"FG\", \"\", \"Time\", $K$2, $A292,$P$2,$O$2, \"\",\"False\")","v":43914},{"$f":" RTD(\"cqg.rtd\",,\"StudyData\", $L$2, \"FG\", \"\", \"Open\", $K$2, $A292, $P$2,$O$2,,$M$2,$N$2)","v":19.54},{"$f":" RTD(\"cqg.rtd\",,\"StudyData\", $L$2, \"FG\", \"\", \"High\", $K$2, $A292, $P$2,$O$2,,$M$2,$N$2)","v":20.58},{"$f":" RTD(\"cqg.rtd\",,\"StudyData\", $L$2, \"FG\", \"\", \"Low\", $K$2, $A292, $P$2,$O$2,,$M$2,$N$2)","v":19.54},{"$f":" RTD(\"cqg.rtd\",,\"StudyData\", $L$2, \"FG\", \"\", \"Close\", $K$2, $A292, $P$2,$O$2,,$M$2,$N$2)","v":20.58},"2020-03-24",43914,"03/24/20"]
[-291,{"$f":" RTD(\"cqg.rtd\",,\"StudyData\", $L$2, \"FG\", \"\", \"Time\", $K$2,$A293, $P$2, \"\", \"\",\"False\")","v":"2020-03-23"},{"$f":" RTD(\"cqg.rtd\",,\"StudyData\", $L$2, \"FG\", \"\", \"Time\", $K$2, $A293,$P$2,$O$2, \"\",\"False\")","v":43913},{"$f":" RTD(\"cqg.rtd\",,\"StudyData\", $L$2, \"FG\", \"\", \"Open\", $K$2, $A293, $P$2,$O$2,,$M$2,$N$2)","v":18.7},{"$f":" RTD(\"cqg.rtd\",,\"StudyData\", $L$2, \"FG\", \"\", \"High\", $K$2, $A293, $P$2,$O$2,,$M$2,$N$2)","v":18.7},{"$f":" RTD(\"cqg.rtd\",,\"StudyData\", $L$2, \"FG\", \"\", \"Low\", $K$2, $A293, $P$2,$O$2,,$M$2,$N$2)","v":17.850000000000001},{"$f":" RTD(\"cqg.rtd\",,\"StudyData\", $L$2, \"FG\", \"\", \"Close\", $K$2, $A293, $P$2,$O$2,,$M$2,$N$2)","v":18.53},"2020-03-23",43913,"03/23/20"]
[-292,{"$f":" RTD(\"cqg.rtd\",,\"StudyData\", $L$2, \"FG\", \"\", \"Time\", $K$2,$A294, $P$2, \"\", \"\",\"False\")","v":"2020-03-20"},{"$f":" RTD(\"cqg.rtd\",,\"StudyData\", $L$2, \"FG\", \"\", \"Time\", $K$2, $A294,$P$2,$O$2, \"\",\"False\")","v":43910},{"$f":" RTD(\"cqg.rtd\",,\"StudyData\", $L$2, \"FG\", \"\", \"Open\", $K$2, $A294, $P$2,$O$2,,$M$2,$N$2)","v":19.68},{"$f":" RTD(\"cqg.rtd\",,\"StudyData\", $L$2, \"FG\", \"\", \"High\", $K$2, $A294, $P$2,$O$2,,$M$2,$N$2)","v":19.77},{"$f":" RTD(\"cqg.rtd\",,\"StudyData\", $L$2, \"FG\", \"\", \"Low\", $K$2, $A294, $P$2,$O$2,,$M$2,$N$2)","v":18.59},{"$f":" RTD(\"cqg.rtd\",,\"StudyData\", $L$2, \"FG\", \"\", \"Close\", $K$2, $A294, $P$2,$O$2,,$M$2,$N$2)","v":18.59},"2020-03-20",43910,"03/20/20"]
[-293,{"$f":" RTD(\"cqg.rtd\",,\"StudyData\", $L$2, \"FG\", \"\", \"Time\", $K$2,$A295, $P$2, \"\", \"\",\"False\")","v":"2020-03-19"},{"$f":" RTD(\"cqg.rtd\",,\"StudyData\", $L$2, \"FG\", \"\", \"Time\", $K$2, $A295,$P$2,$O$2, \"\",\"False\")","v":43909},{"$f":" RTD(\"cqg.rtd\",,\"StudyData\", $L$2, \"FG\", \"\", \"Open\", $K$2, $A295, $P$2,$O$2,,$M$2,$N$2)","v":18.36},{"$f":" RTD(\"cqg.rtd\",,\"StudyData\", $L$2, \"FG\", \"\", \"High\", $K$2, $A295, $P$2,$O$2,,$M$2,$N$2)","v":18.73},{"$f":" RTD(\"cqg.rtd\",,\"StudyData\", $L$2, \"FG\", \"\", \"Low\", $K$2, $A295, $P$2,$O$2,,$M$2,$N$2)","v":18.36},{"$f":" RTD(\"cqg.rtd\",,\"StudyData\", $L$2, \"FG\", \"\", \"Close\", $K$2, $A295, $P$2,$O$2,,$M$2,$N$2)","v":18.73},"2020-03-19",43909,"03/19/20"]
[-294,{"$f":" RTD(\"cqg.rtd\",,\"StudyData\", $L$2, \"FG\", \"\", \"Time\", $K$2,$A296, $P$2, \"\", \"\",\"False\")","v":"2020-03-18"},{"$f":" RTD(\"cqg.rtd\",,\"StudyData\", $L$2, \"FG\", \"\", \"Time\", $K$2, $A296,$P$2,$O$2, \"\",\"False\")","v":43908},{"$f":" RTD(\"cqg.rtd\",,\"StudyData\", $L$2, \"FG\", \"\", \"Open\", $K$2, $A296, $P$2,$O$2,,$M$2,$N$2)","v":18.079999999999998},{"$f":" RTD(\"cqg.rtd\",,\"StudyData\", $L$2, \"FG\", \"\", \"High\", $K$2, $A296, $P$2,$O$2,,$M$2,$N$2)","v":18.3},{"$f":" RTD(\"cqg.rtd\",,\"StudyData\", $L$2, \"FG\", \"\", \"Low\", $K$2, $A296, $P$2,$O$2,,$M$2,$N$2)","v":15.7},{"$f":" RTD(\"cqg.rtd\",,\"StudyData\", $L$2, \"FG\", \"\", \"Close\", $K$2, $A296, $P$2,$O$2,,$M$2,$N$2)","v":17.41},"2020-03-18",43908,"03/18/20"]
[-295,{"$f":" RTD(\"cqg.rtd\",,\"StudyData\", $L$2, \"FG\", \"\", \"Time\", $K$2,$A297, $P$2, \"\", \"\",\"False\")","v":"2020-03-17"},{"$f":" RTD(\"cqg.rtd\",,\"StudyData\", $L$2, \"FG\", \"\", \"Time\", $K$2, $A297,$P$2,$O$2, \"\",\"False\")","v":43907},{"$f":" RTD(\"cqg.rtd\",,\"StudyData\", $L$2, \"FG\", \"\", \"Open\", $K$2, $A297, $P$2,$O$2,,$M$2,$N$2)","v":19.34},{"$f":" RTD(\"cqg.rtd\",,\"StudyData\", $L$2, \"FG\", \"\", \"High\", $K$2, $A297, $P$2,$O$2,,$M$2,$N$2)","v":19.77},{"$f":" RTD(\"cqg.rtd\",,\"StudyData\", $L$2, \"FG\", \"\", \"Low\", $K$2, $A297, $P$2,$O$2,,$M$2,$N$2)","v":19.34},{"$f":" RTD(\"cqg.rtd\",,\"StudyData\", $L$2, \"FG\", \"\", \"Close\", $K$2, $A297, $P$2,$O$2,,$M$2,$N$2)","v":19.75},"2020-03-17",43907,"03/17/20"]
[-296,{"$f":" RTD(\"cqg.rtd\",,\"StudyData\", $L$2, \"FG\", \"\", \"Time\", $K$2,$A298, $P$2, \"\", \"\",\"False\")","v":"2020-03-16"},{"$f":" RTD(\"cqg.rtd\",,\"StudyData\", $L$2, \"FG\", \"\", \"Time\", $K$2, $A298,$P$2,$O$2, \"\",\"False\")","v":43906},{"$f":" RTD(\"cqg.rtd\",,\"StudyData\", $L$2, \"FG\", \"\", \"Open\", $K$2, $A298, $P$2,$O$2,,$M$2,$N$2)","v":20.57},{"$f":" RTD(\"cqg.rtd\",,\"StudyData\", $L$2, \"FG\", \"\", \"High\", $K$2, $A298, $P$2,$O$2,,$M$2,$N$2)","v":20.87},{"$f":" RTD(\"cqg.rtd\",,\"StudyData\", $L$2, \"FG\", \"\", \"Low\", $K$2, $A298, $P$2,$O$2,,$M$2,$N$2)","v":18.88},{"$f":" RTD(\"cqg.rtd\",,\"StudyData\", $L$2, \"FG\", \"\", \"Close\", $K$2, $A298, $P$2,$O$2,,$M$2,$N$2)","v":19.510000000000002},"2020-03-16",43906,"03/16/20"]
[-297,{"$f":" RTD(\"cqg.rtd\",,\"StudyData\", $L$2, \"FG\", \"\", \"Time\", $K$2,$A299, $P$2, \"\", \"\",\"False\")","v":"2020-03-13"},{"$f":" RTD(\"cqg.rtd\",,\"StudyData\", $L$2, \"FG\", \"\", \"Time\", $K$2, $A299,$P$2,$O$2, \"\",\"False\")","v":43903},{"$f":" RTD(\"cqg.rtd\",,\"StudyData\", $L$2, \"FG\", \"\", \"Open\", $K$2, $A299, $P$2,$O$2,,$M$2,$N$2)","v":22.04},{"$f":" RTD(\"cqg.rtd\",,\"StudyData\", $L$2, \"FG\", \"\", \"High\", $K$2, $A299, $P$2,$O$2,,$M$2,$N$2)","v":22.2},{"$f":" RTD(\"cqg.rtd\",,\"StudyData\", $L$2, \"FG\", \"\", \"Low\", $K$2, $A299, $P$2,$O$2,,$M$2,$N$2)","v":21.26},{"$f":" RTD(\"cqg.rtd\",,\"StudyData\", $L$2, \"FG\", \"\", \"Close\", $K$2, $A299, $P$2,$O$2,,$M$2,$N$2)","v":22.2},"2020-03-13",43903,"03/13/20"]
[-298,{"$f":" RTD(\"cqg.rtd\",,\"StudyData\", $L$2, \"FG\", \"\", \"Time\", $K$2,$A300, $P$2, \"\", \"\",\"False\")","v":"2020-03-12"},{"$f":" RTD(\"cqg.rtd\",,\"StudyData\", $L$2, \"FG\", \"\", \"Time\", $K$2, $A300,$P$2,$O$2, \"\",\"False\")","v":43902},{"$f":" RTD(\"cqg.rtd\",,\"StudyData\", $L$2, \"FG\", \"\", \"Open\", $K$2, $A300, $P$2,$O$2,,$M$2,$N$2)","v":21.54},{"$f":" RTD(\"cqg.rtd\",,\"StudyData\", $L$2, \"FG\", \"\", \"High\", $K$2, $A300, $P$2,$O$2,,$M$2,$N$2)","v":22.16},{"$f":" RTD(\"cqg.rtd\",,\"StudyData\", $L$2, \"FG\", \"\", \"Low\", $K$2, $A300, $P$2,$O$2,,$M$2,$N$2)","v":21.24},{"$f":" RTD(\"cqg.rtd\",,\"StudyData\", $L$2, \"FG\", \"\", \"Close\", $K$2, $A300, $P$2,$O$2,,$M$2,$N$2)","v":21.24},"2020-03-12",43902,"03/12/20"]
[-299,{"$f":" RTD(\"cqg.rtd\",,\"StudyData\", $L$2, \"FG\", \"\", \"Time\", $K$2,$A301, $P$2, \"\", \"\",\"False\")","v":"2020-03-11"},{"$f":" RTD(\"cqg.rtd\",,\"StudyData\", $L$2, \"FG\", \"\", \"Time\", $K$2, $A301,$P$2,$O$2, \"\",\"False\")","v":43901},{"$f":" RTD(\"cqg.rtd\",,\"StudyData\", $L$2, \"FG\", \"\", \"Open\", $K$2, $A301, $P$2,$O$2,,$M$2,$N$2)","v":24.37},{"$f":" RTD(\"cqg.rtd\",,\"StudyData\", $L$2, \"FG\", \"\", \"High\", $K$2, $A301, $P$2,$O$2,,$M$2,$N$2)","v":24.37},{"$f":" RTD(\"cqg.rtd\",,\"StudyData\", $L$2, \"FG\", \"\", \"Low\", $K$2, $A301, $P$2,$O$2,,$M$2,$N$2)","v":23.88},{"$f":" RTD(\"cqg.rtd\",,\"StudyData\", $L$2, \"FG\", \"\", \"Close\", $K$2, $A301, $P$2,$O$2,,$M$2,$N$2)","v":23.88},"2020-03-11",43901,"03/11/20"]
[-300,{"$f":" RTD(\"cqg.rtd\",,\"StudyData\", $L$2, \"FG\", \"\", \"Time\", $K$2,$A302, $P$2, \"\", \"\",\"False\")","v":"2020-03-10"},{"$f":" RTD(\"cqg.rtd\",,\"StudyData\", $L$2, \"FG\", \"\", \"Time\", $K$2, $A302,$P$2,$O$2, \"\",\"False\")","v":43900},{"$f":" RTD(\"cqg.rtd\",,\"StudyData\", $L$2, \"FG\", \"\", \"Open\", $K$2, $A302, $P$2,$O$2,,$M$2,$N$2)","v":25.21},{"$f":" RTD(\"cqg.rtd\",,\"StudyData\", $L$2, \"FG\", \"\", \"High\", $K$2, $A302, $P$2,$O$2,,$M$2,$N$2)","v":25.29},{"$f":" RTD(\"cqg.rtd\",,\"StudyData\", $L$2, \"FG\", \"\", \"Low\", $K$2, $A302, $P$2,$O$2,,$M$2,$N$2)","v":24.13},{"$f":" RTD(\"cqg.rtd\",,\"StudyData\", $L$2, \"FG\", \"\", \"Close\", $K$2, $A302, $P$2,$O$2,,$M$2,$N$2)","v":25.29}]
[-301,{"$f":" RTD(\"cqg.rtd\",,\"StudyData\", $L$2, \"FG\", \"\", \"Time\", $K$2,$A303, $P$2, \"\", \"\",\"False\")","v":""},{"$f":" RTD(\"cqg.rtd\",,\"StudyData\", $L$2, \"FG\", \"\", \"Time\", $K$2, $A303,$P$2,$O$2, \"\",\"False\")","v":""},{"$f":" RTD(\"cqg.rtd\",,\"StudyData\", $L$2, \"FG\", \"\", \"Open\", $K$2, $A303, $P$2,$O$2,,$M$2,$N$2)","v":""},{"$f":" RTD(\"cqg.rtd\",,\"StudyData\", $L$2, \"FG\", \"\", \"High\", $K$2, $A303, $P$2,$O$2,,$M$2,$N$2)","v":""},{"$f":" RTD(\"cqg.rtd\",,\"StudyData\", $L$2, \"FG\", \"\", \"Low\", $K$2, $A303, $P$2,$O$2,,$M$2,$N$2)","v":""},{"$f":" RTD(\"cqg.rtd\",,\"StudyData\", $L$2, \"FG\", \"\", \"Close\", $K$2, $A303, $P$2,$O$2,,$M$2,$N$2)","v":""}]
[-302,{"$f":" RTD(\"cqg.rtd\",,\"StudyData\", $L$2, \"FG\", \"\", \"Time\", $K$2,$A304, $P$2, \"\", \"\",\"False\")","v":""},{"$f":" RTD(\"cqg.rtd\",,\"StudyData\", $L$2, \"FG\", \"\", \"Time\", $K$2, $A304,$P$2,$O$2, \"\",\"False\")","v":""},{"$f":" RTD(\"cqg.rtd\",,\"StudyData\", $L$2, \"FG\", \"\", \"Open\", $K$2, $A304, $P$2,$O$2,,$M$2,$N$2)","v":""},{"$f":" RTD(\"cqg.rtd\",,\"StudyData\", $L$2, \"FG\", \"\", \"High\", $K$2, $A304, $P$2,$O$2,,$M$2,$N$2)","v":""},{"$f":" RTD(\"cqg.rtd\",,\"StudyData\", $L$2, \"FG\", \"\", \"Low\", $K$2, $A304, $P$2,$O$2,,$M$2,$N$2)","v":""},{"$f":" RTD(\"cqg.rtd\",,\"StudyData\", $L$2, \"FG\", \"\", \"Close\", $K$2, $A304, $P$2,$O$2,,$M$2,$N$2)","v":""}]
[-303,{"$f":" RTD(\"cqg.rtd\",,\"StudyData\", $L$2, \"FG\", \"\", \"Time\", $K$2,$A305, $P$2, \"\", \"\",\"False\")","v":""},{"$f":" RTD(\"cqg.rtd\",,\"StudyData\", $L$2, \"FG\", \"\", \"Time\", $K$2, $A305,$P$2,$O$2, \"\",\"False\")","v":""},{"$f":" RTD(\"cqg.rtd\",,\"StudyData\", $L$2, \"FG\", \"\", \"Open\", $K$2, $A305, $P$2,$O$2,,$M$2,$N$2)","v":""},{"$f":" RTD(\"cqg.rtd\",,\"StudyData\", $L$2, \"FG\", \"\", \"High\", $K$2, $A305, $P$2,$O$2,,$M$2,$N$2)","v":""},{"$f":" RTD(\"cqg.rtd\",,\"StudyData\", $L$2, \"FG\", \"\", \"Low\", $K$2, $A305, $P$2,$O$2,,$M$2,$N$2)","v":""},{"$f":" RTD(\"cqg.rtd\",,\"StudyData\", $L$2, \"FG\", \"\", \"Close\", $K$2, $A305, $P$2,$O$2,,$M$2,$N$2)","v":""}]
[-304,{"$f":" RTD(\"cqg.rtd\",,\"StudyData\", $L$2, \"FG\", \"\", \"Time\", $K$2,$A306, $P$2, \"\", \"\",\"False\")","v":""},{"$f":" RTD(\"cqg.rtd\",,\"StudyData\", $L$2, \"FG\", \"\", \"Time\", $K$2, $A306,$P$2,$O$2, \"\",\"False\")","v":""},{"$f":" RTD(\"cqg.rtd\",,\"StudyData\", $L$2, \"FG\", \"\", \"Open\", $K$2, $A306, $P$2,$O$2,,$M$2,$N$2)","v":""},{"$f":" RTD(\"cqg.rtd\",,\"StudyData\", $L$2, \"FG\", \"\", \"High\", $K$2, $A306, $P$2,$O$2,,$M$2,$N$2)","v":""},{"$f":" RTD(\"cqg.rtd\",,\"StudyData\", $L$2, \"FG\", \"\", \"Low\", $K$2, $A306, $P$2,$O$2,,$M$2,$N$2)","v":""},{"$f":" RTD(\"cqg.rtd\",,\"StudyData\", $L$2, \"FG\", \"\", \"Close\", $K$2, $A306, $P$2,$O$2,,$M$2,$N$2)","v":""}]
[-305,{"$f":" RTD(\"cqg.rtd\",,\"StudyData\", $L$2, \"FG\", \"\", \"Time\", $K$2,$A307, $P$2, \"\", \"\",\"False\")","v":""},{"$f":" RTD(\"cqg.rtd\",,\"StudyData\", $L$2, \"FG\", \"\", \"Time\", $K$2, $A307,$P$2,$O$2, \"\",\"False\")","v":""},{"$f":" RTD(\"cqg.rtd\",,\"StudyData\", $L$2, \"FG\", \"\", \"Open\", $K$2, $A307, $P$2,$O$2,,$M$2,$N$2)","v":""},{"$f":" RTD(\"cqg.rtd\",,\"StudyData\", $L$2, \"FG\", \"\", \"High\", $K$2, $A307, $P$2,$O$2,,$M$2,$N$2)","v":""},{"$f":" RTD(\"cqg.rtd\",,\"StudyData\", $L$2, \"FG\", \"\", \"Low\", $K$2, $A307, $P$2,$O$2,,$M$2,$N$2)","v":""},{"$f":" RTD(\"cqg.rtd\",,\"StudyData\", $L$2, \"FG\", \"\", \"Close\", $K$2, $A307, $P$2,$O$2,,$M$2,$N$2)","v":""}]
[-306,{"$f":" RTD(\"cqg.rtd\",,\"StudyData\", $L$2, \"FG\", \"\", \"Time\", $K$2,$A308, $P$2, \"\", \"\",\"False\")","v":""},{"$f":" RTD(\"cqg.rtd\",,\"StudyData\", $L$2, \"FG\", \"\", \"Time\", $K$2, $A308,$P$2,$O$2, \"\",\"False\")","v":""},{"$f":" RTD(\"cqg.rtd\",,\"StudyData\", $L$2, \"FG\", \"\", \"Open\", $K$2, $A308, $P$2,$O$2,,$M$2,$N$2)","v":""},{"$f":" RTD(\"cqg.rtd\",,\"StudyData\", $L$2, \"FG\", \"\", \"High\", $K$2, $A308, $P$2,$O$2,,$M$2,$N$2)","v":""},{"$f":" RTD(\"cqg.rtd\",,\"StudyData\", $L$2, \"FG\", \"\", \"Low\", $K$2, $A308, $P$2,$O$2,,$M$2,$N$2)","v":""},{"$f":" RTD(\"cqg.rtd\",,\"StudyData\", $L$2, \"FG\", \"\", \"Close\", $K$2, $A308, $P$2,$O$2,,$M$2,$N$2)","v":""}]
[-307,{"$f":" RTD(\"cqg.rtd\",,\"StudyData\", $L$2, \"FG\", \"\", \"Time\", $K$2,$A309, $P$2, \"\", \"\",\"False\")","v":""},{"$f":" RTD(\"cqg.rtd\",,\"StudyData\", $L$2, \"FG\", \"\", \"Time\", $K$2, $A309,$P$2,$O$2, \"\",\"False\")","v":""},{"$f":" RTD(\"cqg.rtd\",,\"StudyData\", $L$2, \"FG\", \"\", \"Open\", $K$2, $A309, $P$2,$O$2,,$M$2,$N$2)","v":""},{"$f":" RTD(\"cqg.rtd\",,\"StudyData\", $L$2, \"FG\", \"\", \"High\", $K$2, $A309, $P$2,$O$2,,$M$2,$N$2)","v":""},{"$f":" RTD(\"cqg.rtd\",,\"StudyData\", $L$2, \"FG\", \"\", \"Low\", $K$2, $A309, $P$2,$O$2,,$M$2,$N$2)","v":""},{"$f":" RTD(\"cqg.rtd\",,\"StudyData\", $L$2, \"FG\", \"\", \"Close\", $K$2, $A309, $P$2,$O$2,,$M$2,$N$2)","v":""}]
[-308,{"$f":" RTD(\"cqg.rtd\",,\"StudyData\", $L$2, \"FG\", \"\", \"Time\", $K$2,$A310, $P$2, \"\", \"\",\"False\")","v":""},{"$f":" RTD(\"cqg.rtd\",,\"StudyData\", $L$2, \"FG\", \"\", \"Time\", $K$2, $A310,$P$2,$O$2, \"\",\"False\")","v":""},{"$f":" RTD(\"cqg.rtd\",,\"StudyData\", $L$2, \"FG\", \"\", \"Open\", $K$2, $A310, $P$2,$O$2,,$M$2,$N$2)","v":""},{"$f":" RTD(\"cqg.rtd\",,\"StudyData\", $L$2, \"FG\", \"\", \"High\", $K$2, $A310, $P$2,$O$2,,$M$2,$N$2)","v":""},{"$f":" RTD(\"cqg.rtd\",,\"StudyData\", $L$2, \"FG\", \"\", \"Low\", $K$2, $A310, $P$2,$O$2,,$M$2,$N$2)","v":""},{"$f":" RTD(\"cqg.rtd\",,\"StudyData\", $L$2, \"FG\", \"\", \"Close\", $K$2, $A310, $P$2,$O$2,,$M$2,$N$2)","v":""}]
[-309,{"$f":" RTD(\"cqg.rtd\",,\"StudyData\", $L$2, \"FG\", \"\", \"Time\", $K$2,$A311, $P$2, \"\", \"\",\"False\")","v":""},{"$f":" RTD(\"cqg.rtd\",,\"StudyData\", $L$2, \"FG\", \"\", \"Time\", $K$2, $A311,$P$2,$O$2, \"\",\"False\")","v":""},{"$f":" RTD(\"cqg.rtd\",,\"StudyData\", $L$2, \"FG\", \"\", \"Open\", $K$2, $A311, $P$2,$O$2,,$M$2,$N$2)","v":""},{"$f":" RTD(\"cqg.rtd\",,\"StudyData\", $L$2, \"FG\", \"\", \"High\", $K$2, $A311, $P$2,$O$2,,$M$2,$N$2)","v":""},{"$f":" RTD(\"cqg.rtd\",,\"StudyData\", $L$2, \"FG\", \"\", \"Low\", $K$2, $A311, $P$2,$O$2,,$M$2,$N$2)","v":""},{"$f":" RTD(\"cqg.rtd\",,\"StudyData\", $L$2, \"FG\", \"\", \"Close\", $K$2, $A311, $P$2,$O$2,,$M$2,$N$2)","v":""}]
[-310,{"$f":" RTD(\"cqg.rtd\",,\"StudyData\", $L$2, \"FG\", \"\", \"Time\", $K$2,$A312, $P$2, \"\", \"\",\"False\")","v":""},{"$f":" RTD(\"cqg.rtd\",,\"StudyData\", $L$2, \"FG\", \"\", \"Time\", $K$2, $A312,$P$2,$O$2, \"\",\"False\")","v":""},{"$f":" RTD(\"cqg.rtd\",,\"StudyData\", $L$2, \"FG\", \"\", \"Open\", $K$2, $A312, $P$2,$O$2,,$M$2,$N$2)","v":""},{"$f":" RTD(\"cqg.rtd\",,\"StudyData\", $L$2, \"FG\", \"\", \"High\", $K$2, $A312, $P$2,$O$2,,$M$2,$N$2)","v":""},{"$f":" RTD(\"cqg.rtd\",,\"StudyData\", $L$2, \"FG\", \"\", \"Low\", $K$2, $A312, $P$2,$O$2,,$M$2,$N$2)","v":""},{"$f":" RTD(\"cqg.rtd\",,\"StudyData\", $L$2, \"FG\", \"\", \"Close\", $K$2, $A312, $P$2,$O$2,,$M$2,$N$2)","v":""}]
[-311,{"$f":" RTD(\"cqg.rtd\",,\"StudyData\", $L$2, \"FG\", \"\", \"Time\", $K$2,$A313, $P$2, \"\", \"\",\"False\")","v":""},{"$f":" RTD(\"cqg.rtd\",,\"StudyData\", $L$2, \"FG\", \"\", \"Time\", $K$2, $A313,$P$2,$O$2, \"\",\"False\")","v":""},{"$f":" RTD(\"cqg.rtd\",,\"StudyData\", $L$2, \"FG\", \"\", \"Open\", $K$2, $A313, $P$2,$O$2,,$M$2,$N$2)","v":""},{"$f":" RTD(\"cqg.rtd\",,\"StudyData\", $L$2, \"FG\", \"\", \"High\", $K$2, $A313, $P$2,$O$2,,$M$2,$N$2)","v":""},{"$f":" RTD(\"cqg.rtd\",,\"StudyData\", $L$2, \"FG\", \"\", \"Low\", $K$2, $A313, $P$2,$O$2,,$M$2,$N$2)","v":""},{"$f":" RTD(\"cqg.rtd\",,\"StudyData\", $L$2, \"FG\", \"\", \"Close\", $K$2, $A313, $P$2,$O$2,,$M$2,$N$2)","v":""}]
[-312,{"$f":" RTD(\"cqg.rtd\",,\"StudyData\", $L$2, \"FG\", \"\", \"Time\", $K$2,$A314, $P$2, \"\", \"\",\"False\")","v":""},{"$f":" RTD(\"cqg.rtd\",,\"StudyData\", $L$2, \"FG\", \"\", \"Time\", $K$2, $A314,$P$2,$O$2, \"\",\"False\")","v":""},{"$f":" RTD(\"cqg.rtd\",,\"StudyData\", $L$2, \"FG\", \"\", \"Open\", $K$2, $A314, $P$2,$O$2,,$M$2,$N$2)","v":""},{"$f":" RTD(\"cqg.rtd\",,\"StudyData\", $L$2, \"FG\", \"\", \"High\", $K$2, $A314, $P$2,$O$2,,$M$2,$N$2)","v":""},{"$f":" RTD(\"cqg.rtd\",,\"StudyData\", $L$2, \"FG\", \"\", \"Low\", $K$2, $A314, $P$2,$O$2,,$M$2,$N$2)","v":""},{"$f":" RTD(\"cqg.rtd\",,\"StudyData\", $L$2, \"FG\", \"\", \"Close\", $K$2, $A314, $P$2,$O$2,,$M$2,$N$2)","v":""}]
[-313,{"$f":" RTD(\"cqg.rtd\",,\"StudyData\", $L$2, \"FG\", \"\", \"Time\", $K$2,$A315, $P$2, \"\", \"\",\"False\")","v":""},{"$f":" RTD(\"cqg.rtd\",,\"StudyData\", $L$2, \"FG\", \"\", \"Time\", $K$2, $A315,$P$2,$O$2, \"\",\"False\")","v":""},{"$f":" RTD(\"cqg.rtd\",,\"StudyData\", $L$2, \"FG\", \"\", \"Open\", $K$2, $A315, $P$2,$O$2,,$M$2,$N$2)","v":""},{"$f":" RTD(\"cqg.rtd\",,\"StudyData\", $L$2, \"FG\", \"\", \"High\", $K$2, $A315, $P$2,$O$2,,$M$2,$N$2)","v":""},{"$f":" RTD(\"cqg.rtd\",,\"StudyData\", $L$2, \"FG\", \"\", \"Low\", $K$2, $A315, $P$2,$O$2,,$M$2,$N$2)","v":""},{"$f":" RTD(\"cqg.rtd\",,\"StudyData\", $L$2, \"FG\", \"\", \"Close\", $K$2, $A315, $P$2,$O$2,,$M$2,$N$2)","v":""}]
[-314,{"$f":" RTD(\"cqg.rtd\",,\"StudyData\", $L$2, \"FG\", \"\", \"Time\", $K$2,$A316, $P$2, \"\", \"\",\"False\")","v":""},{"$f":" RTD(\"cqg.rtd\",,\"StudyData\", $L$2, \"FG\", \"\", \"Time\", $K$2, $A316,$P$2,$O$2, \"\",\"False\")","v":""},{"$f":" RTD(\"cqg.rtd\",,\"StudyData\", $L$2, \"FG\", \"\", \"Open\", $K$2, $A316, $P$2,$O$2,,$M$2,$N$2)","v":""},{"$f":" RTD(\"cqg.rtd\",,\"StudyData\", $L$2, \"FG\", \"\", \"High\", $K$2, $A316, $P$2,$O$2,,$M$2,$N$2)","v":""},{"$f":" RTD(\"cqg.rtd\",,\"StudyData\", $L$2, \"FG\", \"\", \"Low\", $K$2, $A316, $P$2,$O$2,,$M$2,$N$2)","v":""},{"$f":" RTD(\"cqg.rtd\",,\"StudyData\", $L$2, \"FG\", \"\", \"Close\", $K$2, $A316, $P$2,$O$2,,$M$2,$N$2)","v":""}]
[-315,{"$f":" RTD(\"cqg.rtd\",,\"StudyData\", $L$2, \"FG\", \"\", \"Time\", $K$2,$A317, $P$2, \"\", \"\",\"False\")","v":""},{"$f":" RTD(\"cqg.rtd\",,\"StudyData\", $L$2, \"FG\", \"\", \"Time\", $K$2, $A317,$P$2,$O$2, \"\",\"False\")","v":""},{"$f":" RTD(\"cqg.rtd\",,\"StudyData\", $L$2, \"FG\", \"\", \"Open\", $K$2, $A317, $P$2,$O$2,,$M$2,$N$2)","v":""},{"$f":" RTD(\"cqg.rtd\",,\"StudyData\", $L$2, \"FG\", \"\", \"High\", $K$2, $A317, $P$2,$O$2,,$M$2,$N$2)","v":""},{"$f":" RTD(\"cqg.rtd\",,\"StudyData\", $L$2, \"FG\", \"\", \"Low\", $K$2, $A317, $P$2,$O$2,,$M$2,$N$2)","v":""},{"$f":" RTD(\"cqg.rtd\",,\"StudyData\", $L$2, \"FG\", \"\", \"Close\", $K$2, $A317, $P$2,$O$2,,$M$2,$N$2)","v":""}]
[-316,{"$f":" RTD(\"cqg.rtd\",,\"StudyData\", $L$2, \"FG\", \"\", \"Time\", $K$2,$A318, $P$2, \"\", \"\",\"False\")","v":""},{"$f":" RTD(\"cqg.rtd\",,\"StudyData\", $L$2, \"FG\", \"\", \"Time\", $K$2, $A318,$P$2,$O$2, \"\",\"False\")","v":""},{"$f":" RTD(\"cqg.rtd\",,\"StudyData\", $L$2, \"FG\", \"\", \"Open\", $K$2, $A318, $P$2,$O$2,,$M$2,$N$2)","v":""},{"$f":" RTD(\"cqg.rtd\",,\"StudyData\", $L$2, \"FG\", \"\", \"High\", $K$2, $A318, $P$2,$O$2,,$M$2,$N$2)","v":""},{"$f":" RTD(\"cqg.rtd\",,\"StudyData\", $L$2, \"FG\", \"\", \"Low\", $K$2, $A318, $P$2,$O$2,,$M$2,$N$2)","v":""},{"$f":" RTD(\"cqg.rtd\",,\"StudyData\", $L$2, \"FG\", \"\", \"Close\", $K$2, $A318, $P$2,$O$2,,$M$2,$N$2)","v":""}]
[-317,{"$f":" RTD(\"cqg.rtd\",,\"StudyData\", $L$2, \"FG\", \"\", \"Time\", $K$2,$A319, $P$2, \"\", \"\",\"False\")","v":""},{"$f":" RTD(\"cqg.rtd\",,\"StudyData\", $L$2, \"FG\", \"\", \"Time\", $K$2, $A319,$P$2,$O$2, \"\",\"False\")","v":""},{"$f":" RTD(\"cqg.rtd\",,\"StudyData\", $L$2, \"FG\", \"\", \"Open\", $K$2, $A319, $P$2,$O$2,,$M$2,$N$2)","v":""},{"$f":" RTD(\"cqg.rtd\",,\"StudyData\", $L$2, \"FG\", \"\", \"High\", $K$2, $A319, $P$2,$O$2,,$M$2,$N$2)","v":""},{"$f":" RTD(\"cqg.rtd\",,\"StudyData\", $L$2, \"FG\", \"\", \"Low\", $K$2, $A319, $P$2,$O$2,,$M$2,$N$2)","v":""},{"$f":" RTD(\"cqg.rtd\",,\"StudyData\", $L$2, \"FG\", \"\", \"Close\", $K$2, $A319, $P$2,$O$2,,$M$2,$N$2)","v":""}]
[-318,{"$f":" RTD(\"cqg.rtd\",,\"StudyData\", $L$2, \"FG\", \"\", \"Time\", $K$2,$A320, $P$2, \"\", \"\",\"False\")","v":""},{"$f":" RTD(\"cqg.rtd\",,\"StudyData\", $L$2, \"FG\", \"\", \"Time\", $K$2, $A320,$P$2,$O$2, \"\",\"False\")","v":""},{"$f":" RTD(\"cqg.rtd\",,\"StudyData\", $L$2, \"FG\", \"\", \"Open\", $K$2, $A320, $P$2,$O$2,,$M$2,$N$2)","v":""},{"$f":" RTD(\"cqg.rtd\",,\"StudyData\", $L$2, \"FG\", \"\", \"High\", $K$2, $A320, $P$2,$O$2,,$M$2,$N$2)","v":""},{"$f":" RTD(\"cqg.rtd\",,\"StudyData\", $L$2, \"FG\", \"\", \"Low\", $K$2, $A320, $P$2,$O$2,,$M$2,$N$2)","v":""},{"$f":" RTD(\"cqg.rtd\",,\"StudyData\", $L$2, \"FG\", \"\", \"Close\", $K$2, $A320, $P$2,$O$2,,$M$2,$N$2)","v":""}]
[-319,{"$f":" RTD(\"cqg.rtd\",,\"StudyData\", $L$2, \"FG\", \"\", \"Time\", $K$2,$A321, $P$2, \"\", \"\",\"False\")","v":""},{"$f":" RTD(\"cqg.rtd\",,\"StudyData\", $L$2, \"FG\", \"\", \"Time\", $K$2, $A321,$P$2,$O$2, \"\",\"False\")","v":""},{"$f":" RTD(\"cqg.rtd\",,\"StudyData\", $L$2, \"FG\", \"\", \"Open\", $K$2, $A321, $P$2,$O$2,,$M$2,$N$2)","v":""},{"$f":" RTD(\"cqg.rtd\",,\"StudyData\", $L$2, \"FG\", \"\", \"High\", $K$2, $A321, $P$2,$O$2,,$M$2,$N$2)","v":""},{"$f":" RTD(\"cqg.rtd\",,\"StudyData\", $L$2, \"FG\", \"\", \"Low\", $K$2, $A321, $P$2,$O$2,,$M$2,$N$2)","v":""},{"$f":" RTD(\"cqg.rtd\",,\"StudyData\", $L$2, \"FG\", \"\", \"Close\", $K$2, $A321, $P$2,$O$2,,$M$2,$N$2)","v":""}]
[-320,{"$f":" RTD(\"cqg.rtd\",,\"StudyData\", $L$2, \"FG\", \"\", \"Time\", $K$2,$A322, $P$2, \"\", \"\",\"False\")","v":""},{"$f":" RTD(\"cqg.rtd\",,\"StudyData\", $L$2, \"FG\", \"\", \"Time\", $K$2, $A322,$P$2,$O$2, \"\",\"False\")","v":""},{"$f":" RTD(\"cqg.rtd\",,\"StudyData\", $L$2, \"FG\", \"\", \"Open\", $K$2, $A322, $P$2,$O$2,,$M$2,$N$2)","v":""},{"$f":" RTD(\"cqg.rtd\",,\"StudyData\", $L$2, \"FG\", \"\", \"High\", $K$2, $A322, $P$2,$O$2,,$M$2,$N$2)","v":""},{"$f":" RTD(\"cqg.rtd\",,\"StudyData\", $L$2, \"FG\", \"\", \"Low\", $K$2, $A322, $P$2,$O$2,,$M$2,$N$2)","v":""},{"$f":" RTD(\"cqg.rtd\",,\"StudyData\", $L$2, \"FG\", \"\", \"Close\", $K$2, $A322, $P$2,$O$2,,$M$2,$N$2)","v":""}]
[-321,{"$f":" RTD(\"cqg.rtd\",,\"StudyData\", $L$2, \"FG\", \"\", \"Time\", $K$2,$A323, $P$2, \"\", \"\",\"False\")","v":""},{"$f":" RTD(\"cqg.rtd\",,\"StudyData\", $L$2, \"FG\", \"\", \"Time\", $K$2, $A323,$P$2,$O$2, \"\",\"False\")","v":""},{"$f":" RTD(\"cqg.rtd\",,\"StudyData\", $L$2, \"FG\", \"\", \"Open\", $K$2, $A323, $P$2,$O$2,,$M$2,$N$2)","v":""},{"$f":" RTD(\"cqg.rtd\",,\"StudyData\", $L$2, \"FG\", \"\", \"High\", $K$2, $A323, $P$2,$O$2,,$M$2,$N$2)","v":""},{"$f":" RTD(\"cqg.rtd\",,\"StudyData\", $L$2, \"FG\", \"\", \"Low\", $K$2, $A323, $P$2,$O$2,,$M$2,$N$2)","v":""},{"$f":" RTD(\"cqg.rtd\",,\"StudyData\", $L$2, \"FG\", \"\", \"Close\", $K$2, $A323, $P$2,$O$2,,$M$2,$N$2)","v":""}]
[{"$f":"A323-1","v":-322},{"$f":" RTD(\"cqg.rtd\",,\"StudyData\", $L$2, \"FG\", \"\", \"Time\", $K$2,$A324, $P$2, \"\", \"\",\"False\")","v":""},{"$f":" RTD(\"cqg.rtd\",,\"StudyData\", $L$2, \"FG\", \"\", \"Time\", $K$2, $A324,$P$2,$O$2, \"\",\"False\")","v":""},{"$f":" RTD(\"cqg.rtd\",,\"StudyData\", $L$2, \"FG\", \"\", \"Open\", $K$2, $A324, $P$2,$O$2,,$M$2,$N$2)","v":""},{"$f":" RTD(\"cqg.rtd\",,\"StudyData\", $L$2, \"FG\", \"\", \"High\", $K$2, $A324, $P$2,$O$2,,$M$2,$N$2)","v":""},{"$f":" RTD(\"cqg.rtd\",,\"StudyData\", $L$2, \"FG\", \"\", \"Low\", $K$2, $A324, $P$2,$O$2,,$M$2,$N$2)","v":""},{"$f":" RTD(\"cqg.rtd\",,\"StudyData\", $L$2, \"FG\", \"\", \"Close\", $K$2, $A324, $P$2,$O$2,,$M$2,$N$2)","v":""}]
[-323,{"$f":" RTD(\"cqg.rtd\",,\"StudyData\", $L$2, \"FG\", \"\", \"Time\", $K$2,$A325, $P$2, \"\", \"\",\"False\")","v":""},{"$f":" RTD(\"cqg.rtd\",,\"StudyData\", $L$2, \"FG\", \"\", \"Time\", $K$2, $A325,$P$2,$O$2, \"\",\"False\")","v":""},{"$f":" RTD(\"cqg.rtd\",,\"StudyData\", $L$2, \"FG\", \"\", \"Open\", $K$2, $A325, $P$2,$O$2,,$M$2,$N$2)","v":""},{"$f":" RTD(\"cqg.rtd\",,\"StudyData\", $L$2, \"FG\", \"\", \"High\", $K$2, $A325, $P$2,$O$2,,$M$2,$N$2)","v":""},{"$f":" RTD(\"cqg.rtd\",,\"StudyData\", $L$2, \"FG\", \"\", \"Low\", $K$2, $A325, $P$2,$O$2,,$M$2,$N$2)","v":""},{"$f":" RTD(\"cqg.rtd\",,\"StudyData\", $L$2, \"FG\", \"\", \"Close\", $K$2, $A325, $P$2,$O$2,,$M$2,$N$2)","v":""}]
[-324,{"$f":" RTD(\"cqg.rtd\",,\"StudyData\", $L$2, \"FG\", \"\", \"Time\", $K$2,$A326, $P$2, \"\", \"\",\"False\")","v":""},{"$f":" RTD(\"cqg.rtd\",,\"StudyData\", $L$2, \"FG\", \"\", \"Time\", $K$2, $A326,$P$2,$O$2, \"\",\"False\")","v":""},{"$f":" RTD(\"cqg.rtd\",,\"StudyData\", $L$2, \"FG\", \"\", \"Open\", $K$2, $A326, $P$2,$O$2,,$M$2,$N$2)","v":""},{"$f":" RTD(\"cqg.rtd\",,\"StudyData\", $L$2, \"FG\", \"\", \"High\", $K$2, $A326, $P$2,$O$2,,$M$2,$N$2)","v":""},{"$f":" RTD(\"cqg.rtd\",,\"StudyData\", $L$2, \"FG\", \"\", \"Low\", $K$2, $A326, $P$2,$O$2,,$M$2,$N$2)","v":""},{"$f":" RTD(\"cqg.rtd\",,\"StudyData\", $L$2, \"FG\", \"\", \"Close\", $K$2, $A326, $P$2,$O$2,,$M$2,$N$2)","v":""}]
[-325,{"$f":" RTD(\"cqg.rtd\",,\"StudyData\", $L$2, \"FG\", \"\", \"Time\", $K$2,$A327, $P$2, \"\", \"\",\"False\")","v":""},{"$f":" RTD(\"cqg.rtd\",,\"StudyData\", $L$2, \"FG\", \"\", \"Time\", $K$2, $A327,$P$2,$O$2, \"\",\"False\")","v":""},{"$f":" RTD(\"cqg.rtd\",,\"StudyData\", $L$2, \"FG\", \"\", \"Open\", $K$2, $A327, $P$2,$O$2,,$M$2,$N$2)","v":""},{"$f":" RTD(\"cqg.rtd\",,\"StudyData\", $L$2, \"FG\", \"\", \"High\", $K$2, $A327, $P$2,$O$2,,$M$2,$N$2)","v":""},{"$f":" RTD(\"cqg.rtd\",,\"StudyData\", $L$2, \"FG\", \"\", \"Low\", $K$2, $A327, $P$2,$O$2,,$M$2,$N$2)","v":""},{"$f":" RTD(\"cqg.rtd\",,\"StudyData\", $L$2, \"FG\", \"\", \"Close\", $K$2, $A327, $P$2,$O$2,,$M$2,$N$2)","v":""}]
[-326,{"$f":" RTD(\"cqg.rtd\",,\"StudyData\", $L$2, \"FG\", \"\", \"Time\", $K$2,$A328, $P$2, \"\", \"\",\"False\")","v":""},{"$f":" RTD(\"cqg.rtd\",,\"StudyData\", $L$2, \"FG\", \"\", \"Time\", $K$2, $A328,$P$2,$O$2, \"\",\"False\")","v":""},{"$f":" RTD(\"cqg.rtd\",,\"StudyData\", $L$2, \"FG\", \"\", \"Open\", $K$2, $A328, $P$2,$O$2,,$M$2,$N$2)","v":""},{"$f":" RTD(\"cqg.rtd\",,\"StudyData\", $L$2, \"FG\", \"\", \"High\", $K$2, $A328, $P$2,$O$2,,$M$2,$N$2)","v":""},{"$f":" RTD(\"cqg.rtd\",,\"StudyData\", $L$2, \"FG\", \"\", \"Low\", $K$2, $A328, $P$2,$O$2,,$M$2,$N$2)","v":""},{"$f":" RTD(\"cqg.rtd\",,\"StudyData\", $L$2, \"FG\", \"\", \"Close\", $K$2, $A328, $P$2,$O$2,,$M$2,$N$2)","v":""}]
[-327,{"$f":" RTD(\"cqg.rtd\",,\"StudyData\", $L$2, \"FG\", \"\", \"Time\", $K$2,$A329, $P$2, \"\", \"\",\"False\")","v":""},{"$f":" RTD(\"cqg.rtd\",,\"StudyData\", $L$2, \"FG\", \"\", \"Time\", $K$2, $A329,$P$2,$O$2, \"\",\"False\")","v":""},{"$f":" RTD(\"cqg.rtd\",,\"StudyData\", $L$2, \"FG\", \"\", \"Open\", $K$2, $A329, $P$2,$O$2,,$M$2,$N$2)","v":""},{"$f":" RTD(\"cqg.rtd\",,\"StudyData\", $L$2, \"FG\", \"\", \"High\", $K$2, $A329, $P$2,$O$2,,$M$2,$N$2)","v":""},{"$f":" RTD(\"cqg.rtd\",,\"StudyData\", $L$2, \"FG\", \"\", \"Low\", $K$2, $A329, $P$2,$O$2,,$M$2,$N$2)","v":""},{"$f":" RTD(\"cqg.rtd\",,\"StudyData\", $L$2, \"FG\", \"\", \"Close\", $K$2, $A329, $P$2,$O$2,,$M$2,$N$2)","v":""}]
[-328,{"$f":" RTD(\"cqg.rtd\",,\"StudyData\", $L$2, \"FG\", \"\", \"Time\", $K$2,$A330, $P$2, \"\", \"\",\"False\")","v":""},{"$f":" RTD(\"cqg.rtd\",,\"StudyData\", $L$2, \"FG\", \"\", \"Time\", $K$2, $A330,$P$2,$O$2, \"\",\"False\")","v":""},{"$f":" RTD(\"cqg.rtd\",,\"StudyData\", $L$2, \"FG\", \"\", \"Open\", $K$2, $A330, $P$2,$O$2,,$M$2,$N$2)","v":""},{"$f":" RTD(\"cqg.rtd\",,\"StudyData\", $L$2, \"FG\", \"\", \"High\", $K$2, $A330, $P$2,$O$2,,$M$2,$N$2)","v":""},{"$f":" RTD(\"cqg.rtd\",,\"StudyData\", $L$2, \"FG\", \"\", \"Low\", $K$2, $A330, $P$2,$O$2,,$M$2,$N$2)","v":""},{"$f":" RTD(\"cqg.rtd\",,\"StudyData\", $L$2, \"FG\", \"\", \"Close\", $K$2, $A330, $P$2,$O$2,,$M$2,$N$2)","v":""}]
[-329,{"$f":" RTD(\"cqg.rtd\",,\"StudyData\", $L$2, \"FG\", \"\", \"Time\", $K$2,$A331, $P$2, \"\", \"\",\"False\")","v":""},{"$f":" RTD(\"cqg.rtd\",,\"StudyData\", $L$2, \"FG\", \"\", \"Time\", $K$2, $A331,$P$2,$O$2, \"\",\"False\")","v":""},{"$f":" RTD(\"cqg.rtd\",,\"StudyData\", $L$2, \"FG\", \"\", \"Open\", $K$2, $A331, $P$2,$O$2,,$M$2,$N$2)","v":""},{"$f":" RTD(\"cqg.rtd\",,\"StudyData\", $L$2, \"FG\", \"\", \"High\", $K$2, $A331, $P$2,$O$2,,$M$2,$N$2)","v":""},{"$f":" RTD(\"cqg.rtd\",,\"StudyData\", $L$2, \"FG\", \"\", \"Low\", $K$2, $A331, $P$2,$O$2,,$M$2,$N$2)","v":""},{"$f":" RTD(\"cqg.rtd\",,\"StudyData\", $L$2, \"FG\", \"\", \"Close\", $K$2, $A331, $P$2,$O$2,,$M$2,$N$2)","v":""}]
[-330,{"$f":" RTD(\"cqg.rtd\",,\"StudyData\", $L$2, \"FG\", \"\", \"Time\", $K$2,$A332, $P$2, \"\", \"\",\"False\")","v":""},{"$f":" RTD(\"cqg.rtd\",,\"StudyData\", $L$2, \"FG\", \"\", \"Time\", $K$2, $A332,$P$2,$O$2, \"\",\"False\")","v":""},{"$f":" RTD(\"cqg.rtd\",,\"StudyData\", $L$2, \"FG\", \"\", \"Open\", $K$2, $A332, $P$2,$O$2,,$M$2,$N$2)","v":""},{"$f":" RTD(\"cqg.rtd\",,\"StudyData\", $L$2, \"FG\", \"\", \"High\", $K$2, $A332, $P$2,$O$2,,$M$2,$N$2)","v":""},{"$f":" RTD(\"cqg.rtd\",,\"StudyData\", $L$2, \"FG\", \"\", \"Low\", $K$2, $A332, $P$2,$O$2,,$M$2,$N$2)","v":""},{"$f":" RTD(\"cqg.rtd\",,\"StudyData\", $L$2, \"FG\", \"\", \"Close\", $K$2, $A332, $P$2,$O$2,,$M$2,$N$2)","v":""}]
[-331,{"$f":" RTD(\"cqg.rtd\",,\"StudyData\", $L$2, \"FG\", \"\", \"Time\", $K$2,$A333, $P$2, \"\", \"\",\"False\")","v":""},{"$f":" RTD(\"cqg.rtd\",,\"StudyData\", $L$2, \"FG\", \"\", \"Time\", $K$2, $A333,$P$2,$O$2, \"\",\"False\")","v":""},{"$f":" RTD(\"cqg.rtd\",,\"StudyData\", $L$2, \"FG\", \"\", \"Open\", $K$2, $A333, $P$2,$O$2,,$M$2,$N$2)","v":""},{"$f":" RTD(\"cqg.rtd\",,\"StudyData\", $L$2, \"FG\", \"\", \"High\", $K$2, $A333, $P$2,$O$2,,$M$2,$N$2)","v":""},{"$f":" RTD(\"cqg.rtd\",,\"StudyData\", $L$2, \"FG\", \"\", \"Low\", $K$2, $A333, $P$2,$O$2,,$M$2,$N$2)","v":""},{"$f":" RTD(\"cqg.rtd\",,\"StudyData\", $L$2, \"FG\", \"\", \"Close\", $K$2, $A333, $P$2,$O$2,,$M$2,$N$2)","v":""}]
[-332,{"$f":" RTD(\"cqg.rtd\",,\"StudyData\", $L$2, \"FG\", \"\", \"Time\", $K$2,$A334, $P$2, \"\", \"\",\"False\")","v":""},{"$f":" RTD(\"cqg.rtd\",,\"StudyData\", $L$2, \"FG\", \"\", \"Time\", $K$2, $A334,$P$2,$O$2, \"\",\"False\")","v":""},{"$f":" RTD(\"cqg.rtd\",,\"StudyData\", $L$2, \"FG\", \"\", \"Open\", $K$2, $A334, $P$2,$O$2,,$M$2,$N$2)","v":""},{"$f":" RTD(\"cqg.rtd\",,\"StudyData\", $L$2, \"FG\", \"\", \"High\", $K$2, $A334, $P$2,$O$2,,$M$2,$N$2)","v":""},{"$f":" RTD(\"cqg.rtd\",,\"StudyData\", $L$2, \"FG\", \"\", \"Low\", $K$2, $A334, $P$2,$O$2,,$M$2,$N$2)","v":""},{"$f":" RTD(\"cqg.rtd\",,\"StudyData\", $L$2, \"FG\", \"\", \"Close\", $K$2, $A334, $P$2,$O$2,,$M$2,$N$2)","v":""}]
[-333,{"$f":" RTD(\"cqg.rtd\",,\"StudyData\", $L$2, \"FG\", \"\", \"Time\", $K$2,$A335, $P$2, \"\", \"\",\"False\")","v":""},{"$f":" RTD(\"cqg.rtd\",,\"StudyData\", $L$2, \"FG\", \"\", \"Time\", $K$2, $A335,$P$2,$O$2, \"\",\"False\")","v":""},{"$f":" RTD(\"cqg.rtd\",,\"StudyData\", $L$2, \"FG\", \"\", \"Open\", $K$2, $A335, $P$2,$O$2,,$M$2,$N$2)","v":""},{"$f":" RTD(\"cqg.rtd\",,\"StudyData\", $L$2, \"FG\", \"\", \"High\", $K$2, $A335, $P$2,$O$2,,$M$2,$N$2)","v":""},{"$f":" RTD(\"cqg.rtd\",,\"StudyData\", $L$2, \"FG\", \"\", \"Low\", $K$2, $A335, $P$2,$O$2,,$M$2,$N$2)","v":""},{"$f":" RTD(\"cqg.rtd\",,\"StudyData\", $L$2, \"FG\", \"\", \"Close\", $K$2, $A335, $P$2,$O$2,,$M$2,$N$2)","v":""}]
[-334,{"$f":" RTD(\"cqg.rtd\",,\"StudyData\", $L$2, \"FG\", \"\", \"Time\", $K$2,$A336, $P$2, \"\", \"\",\"False\")","v":""},{"$f":" RTD(\"cqg.rtd\",,\"StudyData\", $L$2, \"FG\", \"\", \"Time\", $K$2, $A336,$P$2,$O$2, \"\",\"False\")","v":""},{"$f":" RTD(\"cqg.rtd\",,\"StudyData\", $L$2, \"FG\", \"\", \"Open\", $K$2, $A336, $P$2,$O$2,,$M$2,$N$2)","v":""},{"$f":" RTD(\"cqg.rtd\",,\"StudyData\", $L$2, \"FG\", \"\", \"High\", $K$2, $A336, $P$2,$O$2,,$M$2,$N$2)","v":""},{"$f":" RTD(\"cqg.rtd\",,\"StudyData\", $L$2, \"FG\", \"\", \"Low\", $K$2, $A336, $P$2,$O$2,,$M$2,$N$2)","v":""},{"$f":" RTD(\"cqg.rtd\",,\"StudyData\", $L$2, \"FG\", \"\", \"Close\", $K$2, $A336, $P$2,$O$2,,$M$2,$N$2)","v":""}]
[-335,{"$f":" RTD(\"cqg.rtd\",,\"StudyData\", $L$2, \"FG\", \"\", \"Time\", $K$2,$A337, $P$2, \"\", \"\",\"False\")","v":""},{"$f":" RTD(\"cqg.rtd\",,\"StudyData\", $L$2, \"FG\", \"\", \"Time\", $K$2, $A337,$P$2,$O$2, \"\",\"False\")","v":""},{"$f":" RTD(\"cqg.rtd\",,\"StudyData\", $L$2, \"FG\", \"\", \"Open\", $K$2, $A337, $P$2,$O$2,,$M$2,$N$2)","v":""},{"$f":" RTD(\"cqg.rtd\",,\"StudyData\", $L$2, \"FG\", \"\", \"High\", $K$2, $A337, $P$2,$O$2,,$M$2,$N$2)","v":""},{"$f":" RTD(\"cqg.rtd\",,\"StudyData\", $L$2, \"FG\", \"\", \"Low\", $K$2, $A337, $P$2,$O$2,,$M$2,$N$2)","v":""},{"$f":" RTD(\"cqg.rtd\",,\"StudyData\", $L$2, \"FG\", \"\", \"Close\", $K$2, $A337, $P$2,$O$2,,$M$2,$N$2)","v":""}]
[-336,{"$f":" RTD(\"cqg.rtd\",,\"StudyData\", $L$2, \"FG\", \"\", \"Time\", $K$2,$A338, $P$2, \"\", \"\",\"False\")","v":""},{"$f":" RTD(\"cqg.rtd\",,\"StudyData\", $L$2, \"FG\", \"\", \"Time\", $K$2, $A338,$P$2,$O$2, \"\",\"False\")","v":""},{"$f":" RTD(\"cqg.rtd\",,\"StudyData\", $L$2, \"FG\", \"\", \"Open\", $K$2, $A338, $P$2,$O$2,,$M$2,$N$2)","v":""},{"$f":" RTD(\"cqg.rtd\",,\"StudyData\", $L$2, \"FG\", \"\", \"High\", $K$2, $A338, $P$2,$O$2,,$M$2,$N$2)","v":""},{"$f":" RTD(\"cqg.rtd\",,\"StudyData\", $L$2, \"FG\", \"\", \"Low\", $K$2, $A338, $P$2,$O$2,,$M$2,$N$2)","v":""},{"$f":" RTD(\"cqg.rtd\",,\"StudyData\", $L$2, \"FG\", \"\", \"Close\", $K$2, $A338, $P$2,$O$2,,$M$2,$N$2)","v":""}]
[-337,{"$f":" RTD(\"cqg.rtd\",,\"StudyData\", $L$2, \"FG\", \"\", \"Time\", $K$2,$A339, $P$2, \"\", \"\",\"False\")","v":""},{"$f":" RTD(\"cqg.rtd\",,\"StudyData\", $L$2, \"FG\", \"\", \"Time\", $K$2, $A339,$P$2,$O$2, \"\",\"False\")","v":""},{"$f":" RTD(\"cqg.rtd\",,\"StudyData\", $L$2, \"FG\", \"\", \"Open\", $K$2, $A339, $P$2,$O$2,,$M$2,$N$2)","v":""},{"$f":" RTD(\"cqg.rtd\",,\"StudyData\", $L$2, \"FG\", \"\", \"High\", $K$2, $A339, $P$2,$O$2,,$M$2,$N$2)","v":""},{"$f":" RTD(\"cqg.rtd\",,\"StudyData\", $L$2, \"FG\", \"\", \"Low\", $K$2, $A339, $P$2,$O$2,,$M$2,$N$2)","v":""},{"$f":" RTD(\"cqg.rtd\",,\"StudyData\", $L$2, \"FG\", \"\", \"Close\", $K$2, $A339, $P$2,$O$2,,$M$2,$N$2)","v":""}]
[-338,{"$f":" RTD(\"cqg.rtd\",,\"StudyData\", $L$2, \"FG\", \"\", \"Time\", $K$2,$A340, $P$2, \"\", \"\",\"False\")","v":""},{"$f":" RTD(\"cqg.rtd\",,\"StudyData\", $L$2, \"FG\", \"\", \"Time\", $K$2, $A340,$P$2,$O$2, \"\",\"False\")","v":""},{"$f":" RTD(\"cqg.rtd\",,\"StudyData\", $L$2, \"FG\", \"\", \"Open\", $K$2, $A340, $P$2,$O$2,,$M$2,$N$2)","v":""},{"$f":" RTD(\"cqg.rtd\",,\"StudyData\", $L$2, \"FG\", \"\", \"High\", $K$2, $A340, $P$2,$O$2,,$M$2,$N$2)","v":""},{"$f":" RTD(\"cqg.rtd\",,\"StudyData\", $L$2, \"FG\", \"\", \"Low\", $K$2, $A340, $P$2,$O$2,,$M$2,$N$2)","v":""},{"$f":" RTD(\"cqg.rtd\",,\"StudyData\", $L$2, \"FG\", \"\", \"Close\", $K$2, $A340, $P$2,$O$2,,$M$2,$N$2)","v":""}]
[-339,{"$f":" RTD(\"cqg.rtd\",,\"StudyData\", $L$2, \"FG\", \"\", \"Time\", $K$2,$A341, $P$2, \"\", \"\",\"False\")","v":""},{"$f":" RTD(\"cqg.rtd\",,\"StudyData\", $L$2, \"FG\", \"\", \"Time\", $K$2, $A341,$P$2,$O$2, \"\",\"False\")","v":""},{"$f":" RTD(\"cqg.rtd\",,\"StudyData\", $L$2, \"FG\", \"\", \"Open\", $K$2, $A341, $P$2,$O$2,,$M$2,$N$2)","v":""},{"$f":" RTD(\"cqg.rtd\",,\"StudyData\", $L$2, \"FG\", \"\", \"High\", $K$2, $A341, $P$2,$O$2,,$M$2,$N$2)","v":""},{"$f":" RTD(\"cqg.rtd\",,\"StudyData\", $L$2, \"FG\", \"\", \"Low\", $K$2, $A341, $P$2,$O$2,,$M$2,$N$2)","v":""},{"$f":" RTD(\"cqg.rtd\",,\"StudyData\", $L$2, \"FG\", \"\", \"Close\", $K$2, $A341, $P$2,$O$2,,$M$2,$N$2)","v":""}]
[-340,{"$f":" RTD(\"cqg.rtd\",,\"StudyData\", $L$2, \"FG\", \"\", \"Time\", $K$2,$A342, $P$2, \"\", \"\",\"False\")","v":""},{"$f":" RTD(\"cqg.rtd\",,\"StudyData\", $L$2, \"FG\", \"\", \"Time\", $K$2, $A342,$P$2,$O$2, \"\",\"False\")","v":""},{"$f":" RTD(\"cqg.rtd\",,\"StudyData\", $L$2, \"FG\", \"\", \"Open\", $K$2, $A342, $P$2,$O$2,,$M$2,$N$2)","v":""},{"$f":" RTD(\"cqg.rtd\",,\"StudyData\", $L$2, \"FG\", \"\", \"High\", $K$2, $A342, $P$2,$O$2,,$M$2,$N$2)","v":""},{"$f":" RTD(\"cqg.rtd\",,\"StudyData\", $L$2, \"FG\", \"\", \"Low\", $K$2, $A342, $P$2,$O$2,,$M$2,$N$2)","v":""},{"$f":" RTD(\"cqg.rtd\",,\"StudyData\", $L$2, \"FG\", \"\", \"Close\", $K$2, $A342, $P$2,$O$2,,$M$2,$N$2)","v":""}]
[-341,{"$f":" RTD(\"cqg.rtd\",,\"StudyData\", $L$2, \"FG\", \"\", \"Time\", $K$2,$A343, $P$2, \"\", \"\",\"False\")","v":""},{"$f":" RTD(\"cqg.rtd\",,\"StudyData\", $L$2, \"FG\", \"\", \"Time\", $K$2, $A343,$P$2,$O$2, \"\",\"False\")","v":""},{"$f":" RTD(\"cqg.rtd\",,\"StudyData\", $L$2, \"FG\", \"\", \"Open\", $K$2, $A343, $P$2,$O$2,,$M$2,$N$2)","v":""},{"$f":" RTD(\"cqg.rtd\",,\"StudyData\", $L$2, \"FG\", \"\", \"High\", $K$2, $A343, $P$2,$O$2,,$M$2,$N$2)","v":""},{"$f":" RTD(\"cqg.rtd\",,\"StudyData\", $L$2, \"FG\", \"\", \"Low\", $K$2, $A343, $P$2,$O$2,,$M$2,$N$2)","v":""},{"$f":" RTD(\"cqg.rtd\",,\"StudyData\", $L$2, \"FG\", \"\", \"Close\", $K$2, $A343, $P$2,$O$2,,$M$2,$N$2)","v":""}]
[-342,{"$f":" RTD(\"cqg.rtd\",,\"StudyData\", $L$2, \"FG\", \"\", \"Time\", $K$2,$A344, $P$2, \"\", \"\",\"False\")","v":""},{"$f":" RTD(\"cqg.rtd\",,\"StudyData\", $L$2, \"FG\", \"\", \"Time\", $K$2, $A344,$P$2,$O$2, \"\",\"False\")","v":""},{"$f":" RTD(\"cqg.rtd\",,\"StudyData\", $L$2, \"FG\", \"\", \"Open\", $K$2, $A344, $P$2,$O$2,,$M$2,$N$2)","v":""},{"$f":" RTD(\"cqg.rtd\",,\"StudyData\", $L$2, \"FG\", \"\", \"High\", $K$2, $A344, $P$2,$O$2,,$M$2,$N$2)","v":""},{"$f":" RTD(\"cqg.rtd\",,\"StudyData\", $L$2, \"FG\", \"\", \"Low\", $K$2, $A344, $P$2,$O$2,,$M$2,$N$2)","v":""},{"$f":" RTD(\"cqg.rtd\",,\"StudyData\", $L$2, \"FG\", \"\", \"Close\", $K$2, $A344, $P$2,$O$2,,$M$2,$N$2)","v":""}]
[-343,{"$f":" RTD(\"cqg.rtd\",,\"StudyData\", $L$2, \"FG\", \"\", \"Time\", $K$2,$A345, $P$2, \"\", \"\",\"False\")","v":""},{"$f":" RTD(\"cqg.rtd\",,\"StudyData\", $L$2, \"FG\", \"\", \"Time\", $K$2, $A345,$P$2,$O$2, \"\",\"False\")","v":""},{"$f":" RTD(\"cqg.rtd\",,\"StudyData\", $L$2, \"FG\", \"\", \"Open\", $K$2, $A345, $P$2,$O$2,,$M$2,$N$2)","v":""},{"$f":" RTD(\"cqg.rtd\",,\"StudyData\", $L$2, \"FG\", \"\", \"High\", $K$2, $A345, $P$2,$O$2,,$M$2,$N$2)","v":""},{"$f":" RTD(\"cqg.rtd\",,\"StudyData\", $L$2, \"FG\", \"\", \"Low\", $K$2, $A345, $P$2,$O$2,,$M$2,$N$2)","v":""},{"$f":" RTD(\"cqg.rtd\",,\"StudyData\", $L$2, \"FG\", \"\", \"Close\", $K$2, $A345, $P$2,$O$2,,$M$2,$N$2)","v":""}]
[-344,{"$f":" RTD(\"cqg.rtd\",,\"StudyData\", $L$2, \"FG\", \"\", \"Time\", $K$2,$A346, $P$2, \"\", \"\",\"False\")","v":""},{"$f":" RTD(\"cqg.rtd\",,\"StudyData\", $L$2, \"FG\", \"\", \"Time\", $K$2, $A346,$P$2,$O$2, \"\",\"False\")","v":""},{"$f":" RTD(\"cqg.rtd\",,\"StudyData\", $L$2, \"FG\", \"\", \"Open\", $K$2, $A346, $P$2,$O$2,,$M$2,$N$2)","v":""},{"$f":" RTD(\"cqg.rtd\",,\"StudyData\", $L$2, \"FG\", \"\", \"High\", $K$2, $A346, $P$2,$O$2,,$M$2,$N$2)","v":""},{"$f":" RTD(\"cqg.rtd\",,\"StudyData\", $L$2, \"FG\", \"\", \"Low\", $K$2, $A346, $P$2,$O$2,,$M$2,$N$2)","v":""},{"$f":" RTD(\"cqg.rtd\",,\"StudyData\", $L$2, \"FG\", \"\", \"Close\", $K$2, $A346, $P$2,$O$2,,$M$2,$N$2)","v":""}]
[-345,{"$f":" RTD(\"cqg.rtd\",,\"StudyData\", $L$2, \"FG\", \"\", \"Time\", $K$2,$A347, $P$2, \"\", \"\",\"False\")","v":""},{"$f":" RTD(\"cqg.rtd\",,\"StudyData\", $L$2, \"FG\", \"\", \"Time\", $K$2, $A347,$P$2,$O$2, \"\",\"False\")","v":""},{"$f":" RTD(\"cqg.rtd\",,\"StudyData\", $L$2, \"FG\", \"\", \"Open\", $K$2, $A347, $P$2,$O$2,,$M$2,$N$2)","v":""},{"$f":" RTD(\"cqg.rtd\",,\"StudyData\", $L$2, \"FG\", \"\", \"High\", $K$2, $A347, $P$2,$O$2,,$M$2,$N$2)","v":""},{"$f":" RTD(\"cqg.rtd\",,\"StudyData\", $L$2, \"FG\", \"\", \"Low\", $K$2, $A347, $P$2,$O$2,,$M$2,$N$2)","v":""},{"$f":" RTD(\"cqg.rtd\",,\"StudyData\", $L$2, \"FG\", \"\", \"Close\", $K$2, $A347, $P$2,$O$2,,$M$2,$N$2)","v":""}]
[-346,{"$f":" RTD(\"cqg.rtd\",,\"StudyData\", $L$2, \"FG\", \"\", \"Time\", $K$2,$A348, $P$2, \"\", \"\",\"False\")","v":""},{"$f":" RTD(\"cqg.rtd\",,\"StudyData\", $L$2, \"FG\", \"\", \"Time\", $K$2, $A348,$P$2,$O$2, \"\",\"False\")","v":""},{"$f":" RTD(\"cqg.rtd\",,\"StudyData\", $L$2, \"FG\", \"\", \"Open\", $K$2, $A348, $P$2,$O$2,,$M$2,$N$2)","v":""},{"$f":" RTD(\"cqg.rtd\",,\"StudyData\", $L$2, \"FG\", \"\", \"High\", $K$2, $A348, $P$2,$O$2,,$M$2,$N$2)","v":""},{"$f":" RTD(\"cqg.rtd\",,\"StudyData\", $L$2, \"FG\", \"\", \"Low\", $K$2, $A348, $P$2,$O$2,,$M$2,$N$2)","v":""},{"$f":" RTD(\"cqg.rtd\",,\"StudyData\", $L$2, \"FG\", \"\", \"Close\", $K$2, $A348, $P$2,$O$2,,$M$2,$N$2)","v":""}]
[-347,{"$f":" RTD(\"cqg.rtd\",,\"StudyData\", $L$2, \"FG\", \"\", \"Time\", $K$2,$A349, $P$2, \"\", \"\",\"False\")","v":""},{"$f":" RTD(\"cqg.rtd\",,\"StudyData\", $L$2, \"FG\", \"\", \"Time\", $K$2, $A349,$P$2,$O$2, \"\",\"False\")","v":""},{"$f":" RTD(\"cqg.rtd\",,\"StudyData\", $L$2, \"FG\", \"\", \"Open\", $K$2, $A349, $P$2,$O$2,,$M$2,$N$2)","v":""},{"$f":" RTD(\"cqg.rtd\",,\"StudyData\", $L$2, \"FG\", \"\", \"High\", $K$2, $A349, $P$2,$O$2,,$M$2,$N$2)","v":""},{"$f":" RTD(\"cqg.rtd\",,\"StudyData\", $L$2, \"FG\", \"\", \"Low\", $K$2, $A349, $P$2,$O$2,,$M$2,$N$2)","v":""},{"$f":" RTD(\"cqg.rtd\",,\"StudyData\", $L$2, \"FG\", \"\", \"Close\", $K$2, $A349, $P$2,$O$2,,$M$2,$N$2)","v":""}]
[-348,{"$f":" RTD(\"cqg.rtd\",,\"StudyData\", $L$2, \"FG\", \"\", \"Time\", $K$2,$A350, $P$2, \"\", \"\",\"False\")","v":""},{"$f":" RTD(\"cqg.rtd\",,\"StudyData\", $L$2, \"FG\", \"\", \"Time\", $K$2, $A350,$P$2,$O$2, \"\",\"False\")","v":""},{"$f":" RTD(\"cqg.rtd\",,\"StudyData\", $L$2, \"FG\", \"\", \"Open\", $K$2, $A350, $P$2,$O$2,,$M$2,$N$2)","v":""},{"$f":" RTD(\"cqg.rtd\",,\"StudyData\", $L$2, \"FG\", \"\", \"High\", $K$2, $A350, $P$2,$O$2,,$M$2,$N$2)","v":""},{"$f":" RTD(\"cqg.rtd\",,\"StudyData\", $L$2, \"FG\", \"\", \"Low\", $K$2, $A350, $P$2,$O$2,,$M$2,$N$2)","v":""},{"$f":" RTD(\"cqg.rtd\",,\"StudyData\", $L$2, \"FG\", \"\", \"Close\", $K$2, $A350, $P$2,$O$2,,$M$2,$N$2)","v":""}]
[-349,{"$f":" RTD(\"cqg.rtd\",,\"StudyData\", $L$2, \"FG\", \"\", \"Time\", $K$2,$A351, $P$2, \"\", \"\",\"False\")","v":""},{"$f":" RTD(\"cqg.rtd\",,\"StudyData\", $L$2, \"FG\", \"\", \"Time\", $K$2, $A351,$P$2,$O$2, \"\",\"False\")","v":""},{"$f":" RTD(\"cqg.rtd\",,\"StudyData\", $L$2, \"FG\", \"\", \"Open\", $K$2, $A351, $P$2,$O$2,,$M$2,$N$2)","v":""},{"$f":" RTD(\"cqg.rtd\",,\"StudyData\", $L$2, \"FG\", \"\", \"High\", $K$2, $A351, $P$2,$O$2,,$M$2,$N$2)","v":""},{"$f":" RTD(\"cqg.rtd\",,\"StudyData\", $L$2, \"FG\", \"\", \"Low\", $K$2, $A351, $P$2,$O$2,,$M$2,$N$2)","v":""},{"$f":" RTD(\"cqg.rtd\",,\"StudyData\", $L$2, \"FG\", \"\", \"Close\", $K$2, $A351, $P$2,$O$2,,$M$2,$N$2)","v":""}]
[-350,{"$f":" RTD(\"cqg.rtd\",,\"StudyData\", $L$2, \"FG\", \"\", \"Time\", $K$2,$A352, $P$2, \"\", \"\",\"False\")","v":""},{"$f":" RTD(\"cqg.rtd\",,\"StudyData\", $L$2, \"FG\", \"\", \"Time\", $K$2, $A352,$P$2,$O$2, \"\",\"False\")","v":""},{"$f":" RTD(\"cqg.rtd\",,\"StudyData\", $L$2, \"FG\", \"\", \"Open\", $K$2, $A352, $P$2,$O$2,,$M$2,$N$2)","v":""},{"$f":" RTD(\"cqg.rtd\",,\"StudyData\", $L$2, \"FG\", \"\", \"High\", $K$2, $A352, $P$2,$O$2,,$M$2,$N$2)","v":""},{"$f":" RTD(\"cqg.rtd\",,\"StudyData\", $L$2, \"FG\", \"\", \"Low\", $K$2, $A352, $P$2,$O$2,,$M$2,$N$2)","v":""},{"$f":" RTD(\"cqg.rtd\",,\"StudyData\", $L$2, \"FG\", \"\", \"Close\", $K$2, $A352, $P$2,$O$2,,$M$2,$N$2)","v":""}]
[-351,{"$f":" RTD(\"cqg.rtd\",,\"StudyData\", $L$2, \"FG\", \"\", \"Time\", $K$2,$A353, $P$2, \"\", \"\",\"False\")","v":""},{"$f":" RTD(\"cqg.rtd\",,\"StudyData\", $L$2, \"FG\", \"\", \"Time\", $K$2, $A353,$P$2,$O$2, \"\",\"False\")","v":""},{"$f":" RTD(\"cqg.rtd\",,\"StudyData\", $L$2, \"FG\", \"\", \"Open\", $K$2, $A353, $P$2,$O$2,,$M$2,$N$2)","v":""},{"$f":" RTD(\"cqg.rtd\",,\"StudyData\", $L$2, \"FG\", \"\", \"High\", $K$2, $A353, $P$2,$O$2,,$M$2,$N$2)","v":""},{"$f":" RTD(\"cqg.rtd\",,\"StudyData\", $L$2, \"FG\", \"\", \"Low\", $K$2, $A353, $P$2,$O$2,,$M$2,$N$2)","v":""},{"$f":" RTD(\"cqg.rtd\",,\"StudyData\", $L$2, \"FG\", \"\", \"Close\", $K$2, $A353, $P$2,$O$2,,$M$2,$N$2)","v":""}]
[-352,{"$f":" RTD(\"cqg.rtd\",,\"StudyData\", $L$2, \"FG\", \"\", \"Time\", $K$2,$A354, $P$2, \"\", \"\",\"False\")","v":""},{"$f":" RTD(\"cqg.rtd\",,\"StudyData\", $L$2, \"FG\", \"\", \"Time\", $K$2, $A354,$P$2,$O$2, \"\",\"False\")","v":""},{"$f":" RTD(\"cqg.rtd\",,\"StudyData\", $L$2, \"FG\", \"\", \"Open\", $K$2, $A354, $P$2,$O$2,,$M$2,$N$2)","v":""},{"$f":" RTD(\"cqg.rtd\",,\"StudyData\", $L$2, \"FG\", \"\", \"High\", $K$2, $A354, $P$2,$O$2,,$M$2,$N$2)","v":""},{"$f":" RTD(\"cqg.rtd\",,\"StudyData\", $L$2, \"FG\", \"\", \"Low\", $K$2, $A354, $P$2,$O$2,,$M$2,$N$2)","v":""},{"$f":" RTD(\"cqg.rtd\",,\"StudyData\", $L$2, \"FG\", \"\", \"Close\", $K$2, $A354, $P$2,$O$2,,$M$2,$N$2)","v":""}]
[-353,{"$f":" RTD(\"cqg.rtd\",,\"StudyData\", $L$2, \"FG\", \"\", \"Time\", $K$2,$A355, $P$2, \"\", \"\",\"False\")","v":""},{"$f":" RTD(\"cqg.rtd\",,\"StudyData\", $L$2, \"FG\", \"\", \"Time\", $K$2, $A355,$P$2,$O$2, \"\",\"False\")","v":""},{"$f":" RTD(\"cqg.rtd\",,\"StudyData\", $L$2, \"FG\", \"\", \"Open\", $K$2, $A355, $P$2,$O$2,,$M$2,$N$2)","v":""},{"$f":" RTD(\"cqg.rtd\",,\"StudyData\", $L$2, \"FG\", \"\", \"High\", $K$2, $A355, $P$2,$O$2,,$M$2,$N$2)","v":""},{"$f":" RTD(\"cqg.rtd\",,\"StudyData\", $L$2, \"FG\", \"\", \"Low\", $K$2, $A355, $P$2,$O$2,,$M$2,$N$2)","v":""},{"$f":" RTD(\"cqg.rtd\",,\"StudyData\", $L$2, \"FG\", \"\", \"Close\", $K$2, $A355, $P$2,$O$2,,$M$2,$N$2)","v":""}]
[-354,{"$f":" RTD(\"cqg.rtd\",,\"StudyData\", $L$2, \"FG\", \"\", \"Time\", $K$2,$A356, $P$2, \"\", \"\",\"False\")","v":""},{"$f":" RTD(\"cqg.rtd\",,\"StudyData\", $L$2, \"FG\", \"\", \"Time\", $K$2, $A356,$P$2,$O$2, \"\",\"False\")","v":""},{"$f":" RTD(\"cqg.rtd\",,\"StudyData\", $L$2, \"FG\", \"\", \"Open\", $K$2, $A356, $P$2,$O$2,,$M$2,$N$2)","v":""},{"$f":" RTD(\"cqg.rtd\",,\"StudyData\", $L$2, \"FG\", \"\", \"High\", $K$2, $A356, $P$2,$O$2,,$M$2,$N$2)","v":""},{"$f":" RTD(\"cqg.rtd\",,\"StudyData\", $L$2, \"FG\", \"\", \"Low\", $K$2, $A356, $P$2,$O$2,,$M$2,$N$2)","v":""},{"$f":" RTD(\"cqg.rtd\",,\"StudyData\", $L$2, \"FG\", \"\", \"Close\", $K$2, $A356, $P$2,$O$2,,$M$2,$N$2)","v":""}]
[-355,{"$f":" RTD(\"cqg.rtd\",,\"StudyData\", $L$2, \"FG\", \"\", \"Time\", $K$2,$A357, $P$2, \"\", \"\",\"False\")","v":""},{"$f":" RTD(\"cqg.rtd\",,\"StudyData\", $L$2, \"FG\", \"\", \"Time\", $K$2, $A357,$P$2,$O$2, \"\",\"False\")","v":""},{"$f":" RTD(\"cqg.rtd\",,\"StudyData\", $L$2, \"FG\", \"\", \"Open\", $K$2, $A357, $P$2,$O$2,,$M$2,$N$2)","v":""},{"$f":" RTD(\"cqg.rtd\",,\"StudyData\", $L$2, \"FG\", \"\", \"High\", $K$2, $A357, $P$2,$O$2,,$M$2,$N$2)","v":""},{"$f":" RTD(\"cqg.rtd\",,\"StudyData\", $L$2, \"FG\", \"\", \"Low\", $K$2, $A357, $P$2,$O$2,,$M$2,$N$2)","v":""},{"$f":" RTD(\"cqg.rtd\",,\"StudyData\", $L$2, \"FG\", \"\", \"Close\", $K$2, $A357, $P$2,$O$2,,$M$2,$N$2)","v":""}]
[-356,{"$f":" RTD(\"cqg.rtd\",,\"StudyData\", $L$2, \"FG\", \"\", \"Time\", $K$2,$A358, $P$2, \"\", \"\",\"False\")","v":""},{"$f":" RTD(\"cqg.rtd\",,\"StudyData\", $L$2, \"FG\", \"\", \"Time\", $K$2, $A358,$P$2,$O$2, \"\",\"False\")","v":""},{"$f":" RTD(\"cqg.rtd\",,\"StudyData\", $L$2, \"FG\", \"\", \"Open\", $K$2, $A358, $P$2,$O$2,,$M$2,$N$2)","v":""},{"$f":" RTD(\"cqg.rtd\",,\"StudyData\", $L$2, \"FG\", \"\", \"High\", $K$2, $A358, $P$2,$O$2,,$M$2,$N$2)","v":""},{"$f":" RTD(\"cqg.rtd\",,\"StudyData\", $L$2, \"FG\", \"\", \"Low\", $K$2, $A358, $P$2,$O$2,,$M$2,$N$2)","v":""},{"$f":" RTD(\"cqg.rtd\",,\"StudyData\", $L$2, \"FG\", \"\", \"Close\", $K$2, $A358, $P$2,$O$2,,$M$2,$N$2)","v":""}]
[-357,{"$f":" RTD(\"cqg.rtd\",,\"StudyData\", $L$2, \"FG\", \"\", \"Time\", $K$2,$A359, $P$2, \"\", \"\",\"False\")","v":""},{"$f":" RTD(\"cqg.rtd\",,\"StudyData\", $L$2, \"FG\", \"\", \"Time\", $K$2, $A359,$P$2,$O$2, \"\",\"False\")","v":""},{"$f":" RTD(\"cqg.rtd\",,\"StudyData\", $L$2, \"FG\", \"\", \"Open\", $K$2, $A359, $P$2,$O$2,,$M$2,$N$2)","v":""},{"$f":" RTD(\"cqg.rtd\",,\"StudyData\", $L$2, \"FG\", \"\", \"High\", $K$2, $A359, $P$2,$O$2,,$M$2,$N$2)","v":""},{"$f":" RTD(\"cqg.rtd\",,\"StudyData\", $L$2, \"FG\", \"\", \"Low\", $K$2, $A359, $P$2,$O$2,,$M$2,$N$2)","v":""},{"$f":" RTD(\"cqg.rtd\",,\"StudyData\", $L$2, \"FG\", \"\", \"Close\", $K$2, $A359, $P$2,$O$2,,$M$2,$N$2)","v":""}]
[-358,{"$f":" RTD(\"cqg.rtd\",,\"StudyData\", $L$2, \"FG\", \"\", \"Time\", $K$2,$A360, $P$2, \"\", \"\",\"False\")","v":""},{"$f":" RTD(\"cqg.rtd\",,\"StudyData\", $L$2, \"FG\", \"\", \"Time\", $K$2, $A360,$P$2,$O$2, \"\",\"False\")","v":""},{"$f":" RTD(\"cqg.rtd\",,\"StudyData\", $L$2, \"FG\", \"\", \"Open\", $K$2, $A360, $P$2,$O$2,,$M$2,$N$2)","v":""},{"$f":" RTD(\"cqg.rtd\",,\"StudyData\", $L$2, \"FG\", \"\", \"High\", $K$2, $A360, $P$2,$O$2,,$M$2,$N$2)","v":""},{"$f":" RTD(\"cqg.rtd\",,\"StudyData\", $L$2, \"FG\", \"\", \"Low\", $K$2, $A360, $P$2,$O$2,,$M$2,$N$2)","v":""},{"$f":" RTD(\"cqg.rtd\",,\"StudyData\", $L$2, \"FG\", \"\", \"Close\", $K$2, $A360, $P$2,$O$2,,$M$2,$N$2)","v":""}]
[-359,{"$f":" RTD(\"cqg.rtd\",,\"StudyData\", $L$2, \"FG\", \"\", \"Time\", $K$2,$A361, $P$2, \"\", \"\",\"False\")","v":""},{"$f":" RTD(\"cqg.rtd\",,\"StudyData\", $L$2, \"FG\", \"\", \"Time\", $K$2, $A361,$P$2,$O$2, \"\",\"False\")","v":""},{"$f":" RTD(\"cqg.rtd\",,\"StudyData\", $L$2, \"FG\", \"\", \"Open\", $K$2, $A361, $P$2,$O$2,,$M$2,$N$2)","v":""},{"$f":" RTD(\"cqg.rtd\",,\"StudyData\", $L$2, \"FG\", \"\", \"High\", $K$2, $A361, $P$2,$O$2,,$M$2,$N$2)","v":""},{"$f":" RTD(\"cqg.rtd\",,\"StudyData\", $L$2, \"FG\", \"\", \"Low\", $K$2, $A361, $P$2,$O$2,,$M$2,$N$2)","v":""},{"$f":" RTD(\"cqg.rtd\",,\"StudyData\", $L$2, \"FG\", \"\", \"Close\", $K$2, $A361, $P$2,$O$2,,$M$2,$N$2)","v":""}]
[-360,{"$f":" RTD(\"cqg.rtd\",,\"StudyData\", $L$2, \"FG\", \"\", \"Time\", $K$2,$A362, $P$2, \"\", \"\",\"False\")","v":""},{"$f":" RTD(\"cqg.rtd\",,\"StudyData\", $L$2, \"FG\", \"\", \"Time\", $K$2, $A362,$P$2,$O$2, \"\",\"False\")","v":""},{"$f":" RTD(\"cqg.rtd\",,\"StudyData\", $L$2, \"FG\", \"\", \"Open\", $K$2, $A362, $P$2,$O$2,,$M$2,$N$2)","v":""},{"$f":" RTD(\"cqg.rtd\",,\"StudyData\", $L$2, \"FG\", \"\", \"High\", $K$2, $A362, $P$2,$O$2,,$M$2,$N$2)","v":""},{"$f":" RTD(\"cqg.rtd\",,\"StudyData\", $L$2, \"FG\", \"\", \"Low\", $K$2, $A362, $P$2,$O$2,,$M$2,$N$2)","v":""},{"$f":" RTD(\"cqg.rtd\",,\"StudyData\", $L$2, \"FG\", \"\", \"Close\", $K$2, $A362, $P$2,$O$2,,$M$2,$N$2)","v":""}]
[-361,{"$f":" RTD(\"cqg.rtd\",,\"StudyData\", $L$2, \"FG\", \"\", \"Time\", $K$2,$A363, $P$2, \"\", \"\",\"False\")","v":""},{"$f":" RTD(\"cqg.rtd\",,\"StudyData\", $L$2, \"FG\", \"\", \"Time\", $K$2, $A363,$P$2,$O$2, \"\",\"False\")","v":""},{"$f":" RTD(\"cqg.rtd\",,\"StudyData\", $L$2, \"FG\", \"\", \"Open\", $K$2, $A363, $P$2,$O$2,,$M$2,$N$2)","v":""},{"$f":" RTD(\"cqg.rtd\",,\"StudyData\", $L$2, \"FG\", \"\", \"High\", $K$2, $A363, $P$2,$O$2,,$M$2,$N$2)","v":""},{"$f":" RTD(\"cqg.rtd\",,\"StudyData\", $L$2, \"FG\", \"\", \"Low\", $K$2, $A363, $P$2,$O$2,,$M$2,$N$2)","v":""},{"$f":" RTD(\"cqg.rtd\",,\"StudyData\", $L$2, \"FG\", \"\", \"Close\", $K$2, $A363, $P$2,$O$2,,$M$2,$N$2)","v":""}]
[-362,{"$f":" RTD(\"cqg.rtd\",,\"StudyData\", $L$2, \"FG\", \"\", \"Time\", $K$2,$A364, $P$2, \"\", \"\",\"False\")","v":""},{"$f":" RTD(\"cqg.rtd\",,\"StudyData\", $L$2, \"FG\", \"\", \"Time\", $K$2, $A364,$P$2,$O$2, \"\",\"False\")","v":""},{"$f":" RTD(\"cqg.rtd\",,\"StudyData\", $L$2, \"FG\", \"\", \"Open\", $K$2, $A364, $P$2,$O$2,,$M$2,$N$2)","v":""},{"$f":" RTD(\"cqg.rtd\",,\"StudyData\", $L$2, \"FG\", \"\", \"High\", $K$2, $A364, $P$2,$O$2,,$M$2,$N$2)","v":""},{"$f":" RTD(\"cqg.rtd\",,\"StudyData\", $L$2, \"FG\", \"\", \"Low\", $K$2, $A364, $P$2,$O$2,,$M$2,$N$2)","v":""},{"$f":" RTD(\"cqg.rtd\",,\"StudyData\", $L$2, \"FG\", \"\", \"Close\", $K$2, $A364, $P$2,$O$2,,$M$2,$N$2)","v":""}]
[-363,{"$f":" RTD(\"cqg.rtd\",,\"StudyData\", $L$2, \"FG\", \"\", \"Time\", $K$2,$A365, $P$2, \"\", \"\",\"False\")","v":""},{"$f":" RTD(\"cqg.rtd\",,\"StudyData\", $L$2, \"FG\", \"\", \"Time\", $K$2, $A365,$P$2,$O$2, \"\",\"False\")","v":""},{"$f":" RTD(\"cqg.rtd\",,\"StudyData\", $L$2, \"FG\", \"\", \"Open\", $K$2, $A365, $P$2,$O$2,,$M$2,$N$2)","v":""},{"$f":" RTD(\"cqg.rtd\",,\"StudyData\", $L$2, \"FG\", \"\", \"High\", $K$2, $A365, $P$2,$O$2,,$M$2,$N$2)","v":""},{"$f":" RTD(\"cqg.rtd\",,\"StudyData\", $L$2, \"FG\", \"\", \"Low\", $K$2, $A365, $P$2,$O$2,,$M$2,$N$2)","v":""},{"$f":" RTD(\"cqg.rtd\",,\"StudyData\", $L$2, \"FG\", \"\", \"Close\", $K$2, $A365, $P$2,$O$2,,$M$2,$N$2)","v":""}]
[-364,{"$f":" RTD(\"cqg.rtd\",,\"StudyData\", $L$2, \"FG\", \"\", \"Time\", $K$2,$A366, $P$2, \"\", \"\",\"False\")","v":""},{"$f":" RTD(\"cqg.rtd\",,\"StudyData\", $L$2, \"FG\", \"\", \"Time\", $K$2, $A366,$P$2,$O$2, \"\",\"False\")","v":""},{"$f":" RTD(\"cqg.rtd\",,\"StudyData\", $L$2, \"FG\", \"\", \"Open\", $K$2, $A366, $P$2,$O$2,,$M$2,$N$2)","v":""},{"$f":" RTD(\"cqg.rtd\",,\"StudyData\", $L$2, \"FG\", \"\", \"High\", $K$2, $A366, $P$2,$O$2,,$M$2,$N$2)","v":""},{"$f":" RTD(\"cqg.rtd\",,\"StudyData\", $L$2, \"FG\", \"\", \"Low\", $K$2, $A366, $P$2,$O$2,,$M$2,$N$2)","v":""},{"$f":" RTD(\"cqg.rtd\",,\"StudyData\", $L$2, \"FG\", \"\", \"Close\", $K$2, $A366, $P$2,$O$2,,$M$2,$N$2)","v":""}]
[-365,{"$f":" RTD(\"cqg.rtd\",,\"StudyData\", $L$2, \"FG\", \"\", \"Time\", $K$2,$A367, $P$2, \"\", \"\",\"False\")","v":""},{"$f":" RTD(\"cqg.rtd\",,\"StudyData\", $L$2, \"FG\", \"\", \"Time\", $K$2, $A367,$P$2,$O$2, \"\",\"False\")","v":""},{"$f":" RTD(\"cqg.rtd\",,\"StudyData\", $L$2, \"FG\", \"\", \"Open\", $K$2, $A367, $P$2,$O$2,,$M$2,$N$2)","v":""},{"$f":" RTD(\"cqg.rtd\",,\"StudyData\", $L$2, \"FG\", \"\", \"High\", $K$2, $A367, $P$2,$O$2,,$M$2,$N$2)","v":""},{"$f":" RTD(\"cqg.rtd\",,\"StudyData\", $L$2, \"FG\", \"\", \"Low\", $K$2, $A367, $P$2,$O$2,,$M$2,$N$2)","v":""},{"$f":" RTD(\"cqg.rtd\",,\"StudyData\", $L$2, \"FG\", \"\", \"Close\", $K$2, $A367, $P$2,$O$2,,$M$2,$N$2)","v":""}]
[-366,{"$f":" RTD(\"cqg.rtd\",,\"StudyData\", $L$2, \"FG\", \"\", \"Time\", $K$2,$A368, $P$2, \"\", \"\",\"False\")","v":""},{"$f":" RTD(\"cqg.rtd\",,\"StudyData\", $L$2, \"FG\", \"\", \"Time\", $K$2, $A368,$P$2,$O$2, \"\",\"False\")","v":""},{"$f":" RTD(\"cqg.rtd\",,\"StudyData\", $L$2, \"FG\", \"\", \"Open\", $K$2, $A368, $P$2,$O$2,,$M$2,$N$2)","v":""},{"$f":" RTD(\"cqg.rtd\",,\"StudyData\", $L$2, \"FG\", \"\", \"High\", $K$2, $A368, $P$2,$O$2,,$M$2,$N$2)","v":""},{"$f":" RTD(\"cqg.rtd\",,\"StudyData\", $L$2, \"FG\", \"\", \"Low\", $K$2, $A368, $P$2,$O$2,,$M$2,$N$2)","v":""},{"$f":" RTD(\"cqg.rtd\",,\"StudyData\", $L$2, \"FG\", \"\", \"Close\", $K$2, $A368, $P$2,$O$2,,$M$2,$N$2)","v":""}]
[-367,{"$f":" RTD(\"cqg.rtd\",,\"StudyData\", $L$2, \"FG\", \"\", \"Time\", $K$2,$A369, $P$2, \"\", \"\",\"False\")","v":""},{"$f":" RTD(\"cqg.rtd\",,\"StudyData\", $L$2, \"FG\", \"\", \"Time\", $K$2, $A369,$P$2,$O$2, \"\",\"False\")","v":""},{"$f":" RTD(\"cqg.rtd\",,\"StudyData\", $L$2, \"FG\", \"\", \"Open\", $K$2, $A369, $P$2,$O$2,,$M$2,$N$2)","v":""},{"$f":" RTD(\"cqg.rtd\",,\"StudyData\", $L$2, \"FG\", \"\", \"High\", $K$2, $A369, $P$2,$O$2,,$M$2,$N$2)","v":""},{"$f":" RTD(\"cqg.rtd\",,\"StudyData\", $L$2, \"FG\", \"\", \"Low\", $K$2, $A369, $P$2,$O$2,,$M$2,$N$2)","v":""},{"$f":" RTD(\"cqg.rtd\",,\"StudyData\", $L$2, \"FG\", \"\", \"Close\", $K$2, $A369, $P$2,$O$2,,$M$2,$N$2)","v":""}]
[-368,{"$f":" RTD(\"cqg.rtd\",,\"StudyData\", $L$2, \"FG\", \"\", \"Time\", $K$2,$A370, $P$2, \"\", \"\",\"False\")","v":""},{"$f":" RTD(\"cqg.rtd\",,\"StudyData\", $L$2, \"FG\", \"\", \"Time\", $K$2, $A370,$P$2,$O$2, \"\",\"False\")","v":""},{"$f":" RTD(\"cqg.rtd\",,\"StudyData\", $L$2, \"FG\", \"\", \"Open\", $K$2, $A370, $P$2,$O$2,,$M$2,$N$2)","v":""},{"$f":" RTD(\"cqg.rtd\",,\"StudyData\", $L$2, \"FG\", \"\", \"High\", $K$2, $A370, $P$2,$O$2,,$M$2,$N$2)","v":""},{"$f":" RTD(\"cqg.rtd\",,\"StudyData\", $L$2, \"FG\", \"\", \"Low\", $K$2, $A370, $P$2,$O$2,,$M$2,$N$2)","v":""},{"$f":" RTD(\"cqg.rtd\",,\"StudyData\", $L$2, \"FG\", \"\", \"Close\", $K$2, $A370, $P$2,$O$2,,$M$2,$N$2)","v":""}]
[-369,{"$f":" RTD(\"cqg.rtd\",,\"StudyData\", $L$2, \"FG\", \"\", \"Time\", $K$2,$A371, $P$2, \"\", \"\",\"False\")","v":""},{"$f":" RTD(\"cqg.rtd\",,\"StudyData\", $L$2, \"FG\", \"\", \"Time\", $K$2, $A371,$P$2,$O$2, \"\",\"False\")","v":""},{"$f":" RTD(\"cqg.rtd\",,\"StudyData\", $L$2, \"FG\", \"\", \"Open\", $K$2, $A371, $P$2,$O$2,,$M$2,$N$2)","v":""},{"$f":" RTD(\"cqg.rtd\",,\"StudyData\", $L$2, \"FG\", \"\", \"High\", $K$2, $A371, $P$2,$O$2,,$M$2,$N$2)","v":""},{"$f":" RTD(\"cqg.rtd\",,\"StudyData\", $L$2, \"FG\", \"\", \"Low\", $K$2, $A371, $P$2,$O$2,,$M$2,$N$2)","v":""},{"$f":" RTD(\"cqg.rtd\",,\"StudyData\", $L$2, \"FG\", \"\", \"Close\", $K$2, $A371, $P$2,$O$2,,$M$2,$N$2)","v":""}]
[-370,{"$f":" RTD(\"cqg.rtd\",,\"StudyData\", $L$2, \"FG\", \"\", \"Time\", $K$2,$A372, $P$2, \"\", \"\",\"False\")","v":""},{"$f":" RTD(\"cqg.rtd\",,\"StudyData\", $L$2, \"FG\", \"\", \"Time\", $K$2, $A372,$P$2,$O$2, \"\",\"False\")","v":""},{"$f":" RTD(\"cqg.rtd\",,\"StudyData\", $L$2, \"FG\", \"\", \"Open\", $K$2, $A372, $P$2,$O$2,,$M$2,$N$2)","v":""},{"$f":" RTD(\"cqg.rtd\",,\"StudyData\", $L$2, \"FG\", \"\", \"High\", $K$2, $A372, $P$2,$O$2,,$M$2,$N$2)","v":""},{"$f":" RTD(\"cqg.rtd\",,\"StudyData\", $L$2, \"FG\", \"\", \"Low\", $K$2, $A372, $P$2,$O$2,,$M$2,$N$2)","v":""},{"$f":" RTD(\"cqg.rtd\",,\"StudyData\", $L$2, \"FG\", \"\", \"Close\", $K$2, $A372, $P$2,$O$2,,$M$2,$N$2)","v":""}]
[-371,{"$f":" RTD(\"cqg.rtd\",,\"StudyData\", $L$2, \"FG\", \"\", \"Time\", $K$2,$A373, $P$2, \"\", \"\",\"False\")","v":""},{"$f":" RTD(\"cqg.rtd\",,\"StudyData\", $L$2, \"FG\", \"\", \"Time\", $K$2, $A373,$P$2,$O$2, \"\",\"False\")","v":""},{"$f":" RTD(\"cqg.rtd\",,\"StudyData\", $L$2, \"FG\", \"\", \"Open\", $K$2, $A373, $P$2,$O$2,,$M$2,$N$2)","v":""},{"$f":" RTD(\"cqg.rtd\",,\"StudyData\", $L$2, \"FG\", \"\", \"High\", $K$2, $A373, $P$2,$O$2,,$M$2,$N$2)","v":""},{"$f":" RTD(\"cqg.rtd\",,\"StudyData\", $L$2, \"FG\", \"\", \"Low\", $K$2, $A373, $P$2,$O$2,,$M$2,$N$2)","v":""},{"$f":" RTD(\"cqg.rtd\",,\"StudyData\", $L$2, \"FG\", \"\", \"Close\", $K$2, $A373, $P$2,$O$2,,$M$2,$N$2)","v":""}]
[-372,{"$f":" RTD(\"cqg.rtd\",,\"StudyData\", $L$2, \"FG\", \"\", \"Time\", $K$2,$A374, $P$2, \"\", \"\",\"False\")","v":""},{"$f":" RTD(\"cqg.rtd\",,\"StudyData\", $L$2, \"FG\", \"\", \"Time\", $K$2, $A374,$P$2,$O$2, \"\",\"False\")","v":""},{"$f":" RTD(\"cqg.rtd\",,\"StudyData\", $L$2, \"FG\", \"\", \"Open\", $K$2, $A374, $P$2,$O$2,,$M$2,$N$2)","v":""},{"$f":" RTD(\"cqg.rtd\",,\"StudyData\", $L$2, \"FG\", \"\", \"High\", $K$2, $A374, $P$2,$O$2,,$M$2,$N$2)","v":""},{"$f":" RTD(\"cqg.rtd\",,\"StudyData\", $L$2, \"FG\", \"\", \"Low\", $K$2, $A374, $P$2,$O$2,,$M$2,$N$2)","v":""},{"$f":" RTD(\"cqg.rtd\",,\"StudyData\", $L$2, \"FG\", \"\", \"Close\", $K$2, $A374, $P$2,$O$2,,$M$2,$N$2)","v":""}]
[-373,{"$f":" RTD(\"cqg.rtd\",,\"StudyData\", $L$2, \"FG\", \"\", \"Time\", $K$2,$A375, $P$2, \"\", \"\",\"False\")","v":""},{"$f":" RTD(\"cqg.rtd\",,\"StudyData\", $L$2, \"FG\", \"\", \"Time\", $K$2, $A375,$P$2,$O$2, \"\",\"False\")","v":""},{"$f":" RTD(\"cqg.rtd\",,\"StudyData\", $L$2, \"FG\", \"\", \"Open\", $K$2, $A375, $P$2,$O$2,,$M$2,$N$2)","v":""},{"$f":" RTD(\"cqg.rtd\",,\"StudyData\", $L$2, \"FG\", \"\", \"High\", $K$2, $A375, $P$2,$O$2,,$M$2,$N$2)","v":""},{"$f":" RTD(\"cqg.rtd\",,\"StudyData\", $L$2, \"FG\", \"\", \"Low\", $K$2, $A375, $P$2,$O$2,,$M$2,$N$2)","v":""},{"$f":" RTD(\"cqg.rtd\",,\"StudyData\", $L$2, \"FG\", \"\", \"Close\", $K$2, $A375, $P$2,$O$2,,$M$2,$N$2)","v":""}]
[-374,{"$f":" RTD(\"cqg.rtd\",,\"StudyData\", $L$2, \"FG\", \"\", \"Time\", $K$2,$A376, $P$2, \"\", \"\",\"False\")","v":""},{"$f":" RTD(\"cqg.rtd\",,\"StudyData\", $L$2, \"FG\", \"\", \"Time\", $K$2, $A376,$P$2,$O$2, \"\",\"False\")","v":""},{"$f":" RTD(\"cqg.rtd\",,\"StudyData\", $L$2, \"FG\", \"\", \"Open\", $K$2, $A376, $P$2,$O$2,,$M$2,$N$2)","v":""},{"$f":" RTD(\"cqg.rtd\",,\"StudyData\", $L$2, \"FG\", \"\", \"High\", $K$2, $A376, $P$2,$O$2,,$M$2,$N$2)","v":""},{"$f":" RTD(\"cqg.rtd\",,\"StudyData\", $L$2, \"FG\", \"\", \"Low\", $K$2, $A376, $P$2,$O$2,,$M$2,$N$2)","v":""},{"$f":" RTD(\"cqg.rtd\",,\"StudyData\", $L$2, \"FG\", \"\", \"Close\", $K$2, $A376, $P$2,$O$2,,$M$2,$N$2)","v":""}]
[-375,{"$f":" RTD(\"cqg.rtd\",,\"StudyData\", $L$2, \"FG\", \"\", \"Time\", $K$2,$A377, $P$2, \"\", \"\",\"False\")","v":""},{"$f":" RTD(\"cqg.rtd\",,\"StudyData\", $L$2, \"FG\", \"\", \"Time\", $K$2, $A377,$P$2,$O$2, \"\",\"False\")","v":""},{"$f":" RTD(\"cqg.rtd\",,\"StudyData\", $L$2, \"FG\", \"\", \"Open\", $K$2, $A377, $P$2,$O$2,,$M$2,$N$2)","v":""},{"$f":" RTD(\"cqg.rtd\",,\"StudyData\", $L$2, \"FG\", \"\", \"High\", $K$2, $A377, $P$2,$O$2,,$M$2,$N$2)","v":""},{"$f":" RTD(\"cqg.rtd\",,\"StudyData\", $L$2, \"FG\", \"\", \"Low\", $K$2, $A377, $P$2,$O$2,,$M$2,$N$2)","v":""},{"$f":" RTD(\"cqg.rtd\",,\"StudyData\", $L$2, \"FG\", \"\", \"Close\", $K$2, $A377, $P$2,$O$2,,$M$2,$N$2)","v":""}]
[-376,{"$f":" RTD(\"cqg.rtd\",,\"StudyData\", $L$2, \"FG\", \"\", \"Time\", $K$2,$A378, $P$2, \"\", \"\",\"False\")","v":""},{"$f":" RTD(\"cqg.rtd\",,\"StudyData\", $L$2, \"FG\", \"\", \"Time\", $K$2, $A378,$P$2,$O$2, \"\",\"False\")","v":""},{"$f":" RTD(\"cqg.rtd\",,\"StudyData\", $L$2, \"FG\", \"\", \"Open\", $K$2, $A378, $P$2,$O$2,,$M$2,$N$2)","v":""},{"$f":" RTD(\"cqg.rtd\",,\"StudyData\", $L$2, \"FG\", \"\", \"High\", $K$2, $A378, $P$2,$O$2,,$M$2,$N$2)","v":""},{"$f":" RTD(\"cqg.rtd\",,\"StudyData\", $L$2, \"FG\", \"\", \"Low\", $K$2, $A378, $P$2,$O$2,,$M$2,$N$2)","v":""},{"$f":" RTD(\"cqg.rtd\",,\"StudyData\", $L$2, \"FG\", \"\", \"Close\", $K$2, $A378, $P$2,$O$2,,$M$2,$N$2)","v":""}]
[-377,{"$f":" RTD(\"cqg.rtd\",,\"StudyData\", $L$2, \"FG\", \"\", \"Time\", $K$2,$A379, $P$2, \"\", \"\",\"False\")","v":""},{"$f":" RTD(\"cqg.rtd\",,\"StudyData\", $L$2, \"FG\", \"\", \"Time\", $K$2, $A379,$P$2,$O$2, \"\",\"False\")","v":""},{"$f":" RTD(\"cqg.rtd\",,\"StudyData\", $L$2, \"FG\", \"\", \"Open\", $K$2, $A379, $P$2,$O$2,,$M$2,$N$2)","v":""},{"$f":" RTD(\"cqg.rtd\",,\"StudyData\", $L$2, \"FG\", \"\", \"High\", $K$2, $A379, $P$2,$O$2,,$M$2,$N$2)","v":""},{"$f":" RTD(\"cqg.rtd\",,\"StudyData\", $L$2, \"FG\", \"\", \"Low\", $K$2, $A379, $P$2,$O$2,,$M$2,$N$2)","v":""},{"$f":" RTD(\"cqg.rtd\",,\"StudyData\", $L$2, \"FG\", \"\", \"Close\", $K$2, $A379, $P$2,$O$2,,$M$2,$N$2)","v":""}]
[-378,{"$f":" RTD(\"cqg.rtd\",,\"StudyData\", $L$2, \"FG\", \"\", \"Time\", $K$2,$A380, $P$2, \"\", \"\",\"False\")","v":""},{"$f":" RTD(\"cqg.rtd\",,\"StudyData\", $L$2, \"FG\", \"\", \"Time\", $K$2, $A380,$P$2,$O$2, \"\",\"False\")","v":""},{"$f":" RTD(\"cqg.rtd\",,\"StudyData\", $L$2, \"FG\", \"\", \"Open\", $K$2, $A380, $P$2,$O$2,,$M$2,$N$2)","v":""},{"$f":" RTD(\"cqg.rtd\",,\"StudyData\", $L$2, \"FG\", \"\", \"High\", $K$2, $A380, $P$2,$O$2,,$M$2,$N$2)","v":""},{"$f":" RTD(\"cqg.rtd\",,\"StudyData\", $L$2, \"FG\", \"\", \"Low\", $K$2, $A380, $P$2,$O$2,,$M$2,$N$2)","v":""},{"$f":" RTD(\"cqg.rtd\",,\"StudyData\", $L$2, \"FG\", \"\", \"Close\", $K$2, $A380, $P$2,$O$2,,$M$2,$N$2)","v":""}]
[-379,{"$f":" RTD(\"cqg.rtd\",,\"StudyData\", $L$2, \"FG\", \"\", \"Time\", $K$2,$A381, $P$2, \"\", \"\",\"False\")","v":""},{"$f":" RTD(\"cqg.rtd\",,\"StudyData\", $L$2, \"FG\", \"\", \"Time\", $K$2, $A381,$P$2,$O$2, \"\",\"False\")","v":""},{"$f":" RTD(\"cqg.rtd\",,\"StudyData\", $L$2, \"FG\", \"\", \"Open\", $K$2, $A381, $P$2,$O$2,,$M$2,$N$2)","v":""},{"$f":" RTD(\"cqg.rtd\",,\"StudyData\", $L$2, \"FG\", \"\", \"High\", $K$2, $A381, $P$2,$O$2,,$M$2,$N$2)","v":""},{"$f":" RTD(\"cqg.rtd\",,\"StudyData\", $L$2, \"FG\", \"\", \"Low\", $K$2, $A381, $P$2,$O$2,,$M$2,$N$2)","v":""},{"$f":" RTD(\"cqg.rtd\",,\"StudyData\", $L$2, \"FG\", \"\", \"Close\", $K$2, $A381, $P$2,$O$2,,$M$2,$N$2)","v":""}]
[-380,{"$f":" RTD(\"cqg.rtd\",,\"StudyData\", $L$2, \"FG\", \"\", \"Time\", $K$2,$A382, $P$2, \"\", \"\",\"False\")","v":""},{"$f":" RTD(\"cqg.rtd\",,\"StudyData\", $L$2, \"FG\", \"\", \"Time\", $K$2, $A382,$P$2,$O$2, \"\",\"False\")","v":""},{"$f":" RTD(\"cqg.rtd\",,\"StudyData\", $L$2, \"FG\", \"\", \"Open\", $K$2, $A382, $P$2,$O$2,,$M$2,$N$2)","v":""},{"$f":" RTD(\"cqg.rtd\",,\"StudyData\", $L$2, \"FG\", \"\", \"High\", $K$2, $A382, $P$2,$O$2,,$M$2,$N$2)","v":""},{"$f":" RTD(\"cqg.rtd\",,\"StudyData\", $L$2, \"FG\", \"\", \"Low\", $K$2, $A382, $P$2,$O$2,,$M$2,$N$2)","v":""},{"$f":" RTD(\"cqg.rtd\",,\"StudyData\", $L$2, \"FG\", \"\", \"Close\", $K$2, $A382, $P$2,$O$2,,$M$2,$N$2)","v":""}]
[-381,{"$f":" RTD(\"cqg.rtd\",,\"StudyData\", $L$2, \"FG\", \"\", \"Time\", $K$2,$A383, $P$2, \"\", \"\",\"False\")","v":""},{"$f":" RTD(\"cqg.rtd\",,\"StudyData\", $L$2, \"FG\", \"\", \"Time\", $K$2, $A383,$P$2,$O$2, \"\",\"False\")","v":""},{"$f":" RTD(\"cqg.rtd\",,\"StudyData\", $L$2, \"FG\", \"\", \"Open\", $K$2, $A383, $P$2,$O$2,,$M$2,$N$2)","v":""},{"$f":" RTD(\"cqg.rtd\",,\"StudyData\", $L$2, \"FG\", \"\", \"High\", $K$2, $A383, $P$2,$O$2,,$M$2,$N$2)","v":""},{"$f":" RTD(\"cqg.rtd\",,\"StudyData\", $L$2, \"FG\", \"\", \"Low\", $K$2, $A383, $P$2,$O$2,,$M$2,$N$2)","v":""},{"$f":" RTD(\"cqg.rtd\",,\"StudyData\", $L$2, \"FG\", \"\", \"Close\", $K$2, $A383, $P$2,$O$2,,$M$2,$N$2)","v":""}]
[-382,{"$f":" RTD(\"cqg.rtd\",,\"StudyData\", $L$2, \"FG\", \"\", \"Time\", $K$2,$A384, $P$2, \"\", \"\",\"False\")","v":""},{"$f":" RTD(\"cqg.rtd\",,\"StudyData\", $L$2, \"FG\", \"\", \"Time\", $K$2, $A384,$P$2,$O$2, \"\",\"False\")","v":""},{"$f":" RTD(\"cqg.rtd\",,\"StudyData\", $L$2, \"FG\", \"\", \"Open\", $K$2, $A384, $P$2,$O$2,,$M$2,$N$2)","v":""},{"$f":" RTD(\"cqg.rtd\",,\"StudyData\", $L$2, \"FG\", \"\", \"High\", $K$2, $A384, $P$2,$O$2,,$M$2,$N$2)","v":""},{"$f":" RTD(\"cqg.rtd\",,\"StudyData\", $L$2, \"FG\", \"\", \"Low\", $K$2, $A384, $P$2,$O$2,,$M$2,$N$2)","v":""},{"$f":" RTD(\"cqg.rtd\",,\"StudyData\", $L$2, \"FG\", \"\", \"Close\", $K$2, $A384, $P$2,$O$2,,$M$2,$N$2)","v":""}]
[-383,{"$f":" RTD(\"cqg.rtd\",,\"StudyData\", $L$2, \"FG\", \"\", \"Time\", $K$2,$A385, $P$2, \"\", \"\",\"False\")","v":""},{"$f":" RTD(\"cqg.rtd\",,\"StudyData\", $L$2, \"FG\", \"\", \"Time\", $K$2, $A385,$P$2,$O$2, \"\",\"False\")","v":""},{"$f":" RTD(\"cqg.rtd\",,\"StudyData\", $L$2, \"FG\", \"\", \"Open\", $K$2, $A385, $P$2,$O$2,,$M$2,$N$2)","v":""},{"$f":" RTD(\"cqg.rtd\",,\"StudyData\", $L$2, \"FG\", \"\", \"High\", $K$2, $A385, $P$2,$O$2,,$M$2,$N$2)","v":""},{"$f":" RTD(\"cqg.rtd\",,\"StudyData\", $L$2, \"FG\", \"\", \"Low\", $K$2, $A385, $P$2,$O$2,,$M$2,$N$2)","v":""},{"$f":" RTD(\"cqg.rtd\",,\"StudyData\", $L$2, \"FG\", \"\", \"Close\", $K$2, $A385, $P$2,$O$2,,$M$2,$N$2)","v":""}]
[-384,{"$f":" RTD(\"cqg.rtd\",,\"StudyData\", $L$2, \"FG\", \"\", \"Time\", $K$2,$A386, $P$2, \"\", \"\",\"False\")","v":""},{"$f":" RTD(\"cqg.rtd\",,\"StudyData\", $L$2, \"FG\", \"\", \"Time\", $K$2, $A386,$P$2,$O$2, \"\",\"False\")","v":""},{"$f":" RTD(\"cqg.rtd\",,\"StudyData\", $L$2, \"FG\", \"\", \"Open\", $K$2, $A386, $P$2,$O$2,,$M$2,$N$2)","v":""},{"$f":" RTD(\"cqg.rtd\",,\"StudyData\", $L$2, \"FG\", \"\", \"High\", $K$2, $A386, $P$2,$O$2,,$M$2,$N$2)","v":""},{"$f":" RTD(\"cqg.rtd\",,\"StudyData\", $L$2, \"FG\", \"\", \"Low\", $K$2, $A386, $P$2,$O$2,,$M$2,$N$2)","v":""},{"$f":" RTD(\"cqg.rtd\",,\"StudyData\", $L$2, \"FG\", \"\", \"Close\", $K$2, $A386, $P$2,$O$2,,$M$2,$N$2)","v":""}]
[-385,{"$f":" RTD(\"cqg.rtd\",,\"StudyData\", $L$2, \"FG\", \"\", \"Time\", $K$2,$A387, $P$2, \"\", \"\",\"False\")","v":""},{"$f":" RTD(\"cqg.rtd\",,\"StudyData\", $L$2, \"FG\", \"\", \"Time\", $K$2, $A387,$P$2,$O$2, \"\",\"False\")","v":""},{"$f":" RTD(\"cqg.rtd\",,\"StudyData\", $L$2, \"FG\", \"\", \"Open\", $K$2, $A387, $P$2,$O$2,,$M$2,$N$2)","v":""},{"$f":" RTD(\"cqg.rtd\",,\"StudyData\", $L$2, \"FG\", \"\", \"High\", $K$2, $A387, $P$2,$O$2,,$M$2,$N$2)","v":""},{"$f":" RTD(\"cqg.rtd\",,\"StudyData\", $L$2, \"FG\", \"\", \"Low\", $K$2, $A387, $P$2,$O$2,,$M$2,$N$2)","v":""},{"$f":" RTD(\"cqg.rtd\",,\"StudyData\", $L$2, \"FG\", \"\", \"Close\", $K$2, $A387, $P$2,$O$2,,$M$2,$N$2)","v":""}]
[{"$f":"A387-1","v":-386},{"$f":" RTD(\"cqg.rtd\",,\"StudyData\", $L$2, \"FG\", \"\", \"Time\", $K$2,$A388, $P$2, \"\", \"\",\"False\")","v":""},{"$f":" RTD(\"cqg.rtd\",,\"StudyData\", $L$2, \"FG\", \"\", \"Time\", $K$2, $A388,$P$2,$O$2, \"\",\"False\")","v":""},{"$f":" RTD(\"cqg.rtd\",,\"StudyData\", $L$2, \"FG\", \"\", \"Open\", $K$2, $A388, $P$2,$O$2,,$M$2,$N$2)","v":""},{"$f":" RTD(\"cqg.rtd\",,\"StudyData\", $L$2, \"FG\", \"\", \"High\", $K$2, $A388, $P$2,$O$2,,$M$2,$N$2)","v":""},{"$f":" RTD(\"cqg.rtd\",,\"StudyData\", $L$2, \"FG\", \"\", \"Low\", $K$2, $A388, $P$2,$O$2,,$M$2,$N$2)","v":""},{"$f":" RTD(\"cqg.rtd\",,\"StudyData\", $L$2, \"FG\", \"\", \"Close\", $K$2, $A388, $P$2,$O$2,,$M$2,$N$2)","v":""}]
[-387,{"$f":" RTD(\"cqg.rtd\",,\"StudyData\", $L$2, \"FG\", \"\", \"Time\", $K$2,$A389, $P$2, \"\", \"\",\"False\")","v":""},{"$f":" RTD(\"cqg.rtd\",,\"StudyData\", $L$2, \"FG\", \"\", \"Time\", $K$2, $A389,$P$2,$O$2, \"\",\"False\")","v":""},{"$f":" RTD(\"cqg.rtd\",,\"StudyData\", $L$2, \"FG\", \"\", \"Open\", $K$2, $A389, $P$2,$O$2,,$M$2,$N$2)","v":""},{"$f":" RTD(\"cqg.rtd\",,\"StudyData\", $L$2, \"FG\", \"\", \"High\", $K$2, $A389, $P$2,$O$2,,$M$2,$N$2)","v":""},{"$f":" RTD(\"cqg.rtd\",,\"StudyData\", $L$2, \"FG\", \"\", \"Low\", $K$2, $A389, $P$2,$O$2,,$M$2,$N$2)","v":""},{"$f":" RTD(\"cqg.rtd\",,\"StudyData\", $L$2, \"FG\", \"\", \"Close\", $K$2, $A389, $P$2,$O$2,,$M$2,$N$2)","v":""}]
[-388,{"$f":" RTD(\"cqg.rtd\",,\"StudyData\", $L$2, \"FG\", \"\", \"Time\", $K$2,$A390, $P$2, \"\", \"\",\"False\")","v":""},{"$f":" RTD(\"cqg.rtd\",,\"StudyData\", $L$2, \"FG\", \"\", \"Time\", $K$2, $A390,$P$2,$O$2, \"\",\"False\")","v":""},{"$f":" RTD(\"cqg.rtd\",,\"StudyData\", $L$2, \"FG\", \"\", \"Open\", $K$2, $A390, $P$2,$O$2,,$M$2,$N$2)","v":""},{"$f":" RTD(\"cqg.rtd\",,\"StudyData\", $L$2, \"FG\", \"\", \"High\", $K$2, $A390, $P$2,$O$2,,$M$2,$N$2)","v":""},{"$f":" RTD(\"cqg.rtd\",,\"StudyData\", $L$2, \"FG\", \"\", \"Low\", $K$2, $A390, $P$2,$O$2,,$M$2,$N$2)","v":""},{"$f":" RTD(\"cqg.rtd\",,\"StudyData\", $L$2, \"FG\", \"\", \"Close\", $K$2, $A390, $P$2,$O$2,,$M$2,$N$2)","v":""}]
[-389,{"$f":" RTD(\"cqg.rtd\",,\"StudyData\", $L$2, \"FG\", \"\", \"Time\", $K$2,$A391, $P$2, \"\", \"\",\"False\")","v":""},{"$f":" RTD(\"cqg.rtd\",,\"StudyData\", $L$2, \"FG\", \"\", \"Time\", $K$2, $A391,$P$2,$O$2, \"\",\"False\")","v":""},{"$f":" RTD(\"cqg.rtd\",,\"StudyData\", $L$2, \"FG\", \"\", \"Open\", $K$2, $A391, $P$2,$O$2,,$M$2,$N$2)","v":""},{"$f":" RTD(\"cqg.rtd\",,\"StudyData\", $L$2, \"FG\", \"\", \"High\", $K$2, $A391, $P$2,$O$2,,$M$2,$N$2)","v":""},{"$f":" RTD(\"cqg.rtd\",,\"StudyData\", $L$2, \"FG\", \"\", \"Low\", $K$2, $A391, $P$2,$O$2,,$M$2,$N$2)","v":""},{"$f":" RTD(\"cqg.rtd\",,\"StudyData\", $L$2, \"FG\", \"\", \"Close\", $K$2, $A391, $P$2,$O$2,,$M$2,$N$2)","v":""}]
[-390,{"$f":" RTD(\"cqg.rtd\",,\"StudyData\", $L$2, \"FG\", \"\", \"Time\", $K$2,$A392, $P$2, \"\", \"\",\"False\")","v":""},{"$f":" RTD(\"cqg.rtd\",,\"StudyData\", $L$2, \"FG\", \"\", \"Time\", $K$2, $A392,$P$2,$O$2, \"\",\"False\")","v":""},{"$f":" RTD(\"cqg.rtd\",,\"StudyData\", $L$2, \"FG\", \"\", \"Open\", $K$2, $A392, $P$2,$O$2,,$M$2,$N$2)","v":""},{"$f":" RTD(\"cqg.rtd\",,\"StudyData\", $L$2, \"FG\", \"\", \"High\", $K$2, $A392, $P$2,$O$2,,$M$2,$N$2)","v":""},{"$f":" RTD(\"cqg.rtd\",,\"StudyData\", $L$2, \"FG\", \"\", \"Low\", $K$2, $A392, $P$2,$O$2,,$M$2,$N$2)","v":""},{"$f":" RTD(\"cqg.rtd\",,\"StudyData\", $L$2, \"FG\", \"\", \"Close\", $K$2, $A392, $P$2,$O$2,,$M$2,$N$2)","v":""}]
[-391,{"$f":" RTD(\"cqg.rtd\",,\"StudyData\", $L$2, \"FG\", \"\", \"Time\", $K$2,$A393, $P$2, \"\", \"\",\"False\")","v":""},{"$f":" RTD(\"cqg.rtd\",,\"StudyData\", $L$2, \"FG\", \"\", \"Time\", $K$2, $A393,$P$2,$O$2, \"\",\"False\")","v":""},{"$f":" RTD(\"cqg.rtd\",,\"StudyData\", $L$2, \"FG\", \"\", \"Open\", $K$2, $A393, $P$2,$O$2,,$M$2,$N$2)","v":""},{"$f":" RTD(\"cqg.rtd\",,\"StudyData\", $L$2, \"FG\", \"\", \"High\", $K$2, $A393, $P$2,$O$2,,$M$2,$N$2)","v":""},{"$f":" RTD(\"cqg.rtd\",,\"StudyData\", $L$2, \"FG\", \"\", \"Low\", $K$2, $A393, $P$2,$O$2,,$M$2,$N$2)","v":""},{"$f":" RTD(\"cqg.rtd\",,\"StudyData\", $L$2, \"FG\", \"\", \"Close\", $K$2, $A393, $P$2,$O$2,,$M$2,$N$2)","v":""}]
[-392,{"$f":" RTD(\"cqg.rtd\",,\"StudyData\", $L$2, \"FG\", \"\", \"Time\", $K$2,$A394, $P$2, \"\", \"\",\"False\")","v":""},{"$f":" RTD(\"cqg.rtd\",,\"StudyData\", $L$2, \"FG\", \"\", \"Time\", $K$2, $A394,$P$2,$O$2, \"\",\"False\")","v":""},{"$f":" RTD(\"cqg.rtd\",,\"StudyData\", $L$2, \"FG\", \"\", \"Open\", $K$2, $A394, $P$2,$O$2,,$M$2,$N$2)","v":""},{"$f":" RTD(\"cqg.rtd\",,\"StudyData\", $L$2, \"FG\", \"\", \"High\", $K$2, $A394, $P$2,$O$2,,$M$2,$N$2)","v":""},{"$f":" RTD(\"cqg.rtd\",,\"StudyData\", $L$2, \"FG\", \"\", \"Low\", $K$2, $A394, $P$2,$O$2,,$M$2,$N$2)","v":""},{"$f":" RTD(\"cqg.rtd\",,\"StudyData\", $L$2, \"FG\", \"\", \"Close\", $K$2, $A394, $P$2,$O$2,,$M$2,$N$2)","v":""}]
[-393,{"$f":" RTD(\"cqg.rtd\",,\"StudyData\", $L$2, \"FG\", \"\", \"Time\", $K$2,$A395, $P$2, \"\", \"\",\"False\")","v":""},{"$f":" RTD(\"cqg.rtd\",,\"StudyData\", $L$2, \"FG\", \"\", \"Time\", $K$2, $A395,$P$2,$O$2, \"\",\"False\")","v":""},{"$f":" RTD(\"cqg.rtd\",,\"StudyData\", $L$2, \"FG\", \"\", \"Open\", $K$2, $A395, $P$2,$O$2,,$M$2,$N$2)","v":""},{"$f":" RTD(\"cqg.rtd\",,\"StudyData\", $L$2, \"FG\", \"\", \"High\", $K$2, $A395, $P$2,$O$2,,$M$2,$N$2)","v":""},{"$f":" RTD(\"cqg.rtd\",,\"StudyData\", $L$2, \"FG\", \"\", \"Low\", $K$2, $A395, $P$2,$O$2,,$M$2,$N$2)","v":""},{"$f":" RTD(\"cqg.rtd\",,\"StudyData\", $L$2, \"FG\", \"\", \"Close\", $K$2, $A395, $P$2,$O$2,,$M$2,$N$2)","v":""}]
[-394,{"$f":" RTD(\"cqg.rtd\",,\"StudyData\", $L$2, \"FG\", \"\", \"Time\", $K$2,$A396, $P$2, \"\", \"\",\"False\")","v":""},{"$f":" RTD(\"cqg.rtd\",,\"StudyData\", $L$2, \"FG\", \"\", \"Time\", $K$2, $A396,$P$2,$O$2, \"\",\"False\")","v":""},{"$f":" RTD(\"cqg.rtd\",,\"StudyData\", $L$2, \"FG\", \"\", \"Open\", $K$2, $A396, $P$2,$O$2,,$M$2,$N$2)","v":""},{"$f":" RTD(\"cqg.rtd\",,\"StudyData\", $L$2, \"FG\", \"\", \"High\", $K$2, $A396, $P$2,$O$2,,$M$2,$N$2)","v":""},{"$f":" RTD(\"cqg.rtd\",,\"StudyData\", $L$2, \"FG\", \"\", \"Low\", $K$2, $A396, $P$2,$O$2,,$M$2,$N$2)","v":""},{"$f":" RTD(\"cqg.rtd\",,\"StudyData\", $L$2, \"FG\", \"\", \"Close\", $K$2, $A396, $P$2,$O$2,,$M$2,$N$2)","v":""}]
[-395,{"$f":" RTD(\"cqg.rtd\",,\"StudyData\", $L$2, \"FG\", \"\", \"Time\", $K$2,$A397, $P$2, \"\", \"\",\"False\")","v":""},{"$f":" RTD(\"cqg.rtd\",,\"StudyData\", $L$2, \"FG\", \"\", \"Time\", $K$2, $A397,$P$2,$O$2, \"\",\"False\")","v":""},{"$f":" RTD(\"cqg.rtd\",,\"StudyData\", $L$2, \"FG\", \"\", \"Open\", $K$2, $A397, $P$2,$O$2,,$M$2,$N$2)","v":""},{"$f":" RTD(\"cqg.rtd\",,\"StudyData\", $L$2, \"FG\", \"\", \"High\", $K$2, $A397, $P$2,$O$2,,$M$2,$N$2)","v":""},{"$f":" RTD(\"cqg.rtd\",,\"StudyData\", $L$2, \"FG\", \"\", \"Low\", $K$2, $A397, $P$2,$O$2,,$M$2,$N$2)","v":""},{"$f":" RTD(\"cqg.rtd\",,\"StudyData\", $L$2, \"FG\", \"\", \"Close\", $K$2, $A397, $P$2,$O$2,,$M$2,$N$2)","v":""}]
[-396,{"$f":" RTD(\"cqg.rtd\",,\"StudyData\", $L$2, \"FG\", \"\", \"Time\", $K$2,$A398, $P$2, \"\", \"\",\"False\")","v":""},{"$f":" RTD(\"cqg.rtd\",,\"StudyData\", $L$2, \"FG\", \"\", \"Time\", $K$2, $A398,$P$2,$O$2, \"\",\"False\")","v":""},{"$f":" RTD(\"cqg.rtd\",,\"StudyData\", $L$2, \"FG\", \"\", \"Open\", $K$2, $A398, $P$2,$O$2,,$M$2,$N$2)","v":""},{"$f":" RTD(\"cqg.rtd\",,\"StudyData\", $L$2, \"FG\", \"\", \"High\", $K$2, $A398, $P$2,$O$2,,$M$2,$N$2)","v":""},{"$f":" RTD(\"cqg.rtd\",,\"StudyData\", $L$2, \"FG\", \"\", \"Low\", $K$2, $A398, $P$2,$O$2,,$M$2,$N$2)","v":""},{"$f":" RTD(\"cqg.rtd\",,\"StudyData\", $L$2, \"FG\", \"\", \"Close\", $K$2, $A398, $P$2,$O$2,,$M$2,$N$2)","v":""}]
[-397,{"$f":" RTD(\"cqg.rtd\",,\"StudyData\", $L$2, \"FG\", \"\", \"Time\", $K$2,$A399, $P$2, \"\", \"\",\"False\")","v":""},{"$f":" RTD(\"cqg.rtd\",,\"StudyData\", $L$2, \"FG\", \"\", \"Time\", $K$2, $A399,$P$2,$O$2, \"\",\"False\")","v":""},{"$f":" RTD(\"cqg.rtd\",,\"StudyData\", $L$2, \"FG\", \"\", \"Open\", $K$2, $A399, $P$2,$O$2,,$M$2,$N$2)","v":""},{"$f":" RTD(\"cqg.rtd\",,\"StudyData\", $L$2, \"FG\", \"\", \"High\", $K$2, $A399, $P$2,$O$2,,$M$2,$N$2)","v":""},{"$f":" RTD(\"cqg.rtd\",,\"StudyData\", $L$2, \"FG\", \"\", \"Low\", $K$2, $A399, $P$2,$O$2,,$M$2,$N$2)","v":""},{"$f":" RTD(\"cqg.rtd\",,\"StudyData\", $L$2, \"FG\", \"\", \"Close\", $K$2, $A399, $P$2,$O$2,,$M$2,$N$2)","v":""}]
[-398,{"$f":" RTD(\"cqg.rtd\",,\"StudyData\", $L$2, \"FG\", \"\", \"Time\", $K$2,$A400, $P$2, \"\", \"\",\"False\")","v":""},{"$f":" RTD(\"cqg.rtd\",,\"StudyData\", $L$2, \"FG\", \"\", \"Time\", $K$2, $A400,$P$2,$O$2, \"\",\"False\")","v":""},{"$f":" RTD(\"cqg.rtd\",,\"StudyData\", $L$2, \"FG\", \"\", \"Open\", $K$2, $A400, $P$2,$O$2,,$M$2,$N$2)","v":""},{"$f":" RTD(\"cqg.rtd\",,\"StudyData\", $L$2, \"FG\", \"\", \"High\", $K$2, $A400, $P$2,$O$2,,$M$2,$N$2)","v":""},{"$f":" RTD(\"cqg.rtd\",,\"StudyData\", $L$2, \"FG\", \"\", \"Low\", $K$2, $A400, $P$2,$O$2,,$M$2,$N$2)","v":""},{"$f":" RTD(\"cqg.rtd\",,\"StudyData\", $L$2, \"FG\", \"\", \"Close\", $K$2, $A400, $P$2,$O$2,,$M$2,$N$2)","v":""}]
[-399,{"$f":" RTD(\"cqg.rtd\",,\"StudyData\", $L$2, \"FG\", \"\", \"Time\", $K$2,$A401, $P$2, \"\", \"\",\"False\")","v":""},{"$f":" RTD(\"cqg.rtd\",,\"StudyData\", $L$2, \"FG\", \"\", \"Time\", $K$2, $A401,$P$2,$O$2, \"\",\"False\")","v":""},{"$f":" RTD(\"cqg.rtd\",,\"StudyData\", $L$2, \"FG\", \"\", \"Open\", $K$2, $A401, $P$2,$O$2,,$M$2,$N$2)","v":""},{"$f":" RTD(\"cqg.rtd\",,\"StudyData\", $L$2, \"FG\", \"\", \"High\", $K$2, $A401, $P$2,$O$2,,$M$2,$N$2)","v":""},{"$f":" RTD(\"cqg.rtd\",,\"StudyData\", $L$2, \"FG\", \"\", \"Low\", $K$2, $A401, $P$2,$O$2,,$M$2,$N$2)","v":""},{"$f":" RTD(\"cqg.rtd\",,\"StudyData\", $L$2, \"FG\", \"\", \"Close\", $K$2, $A401, $P$2,$O$2,,$M$2,$N$2)","v":""}]
[-400,{"$f":" RTD(\"cqg.rtd\",,\"StudyData\", $L$2, \"FG\", \"\", \"Time\", $K$2,$A402, $P$2, \"\", \"\",\"False\")","v":""},{"$f":" RTD(\"cqg.rtd\",,\"StudyData\", $L$2, \"FG\", \"\", \"Time\", $K$2, $A402,$P$2,$O$2, \"\",\"False\")","v":""},{"$f":" RTD(\"cqg.rtd\",,\"StudyData\", $L$2, \"FG\", \"\", \"Open\", $K$2, $A402, $P$2,$O$2,,$M$2,$N$2)","v":""},{"$f":" RTD(\"cqg.rtd\",,\"StudyData\", $L$2, \"FG\", \"\", \"High\", $K$2, $A402, $P$2,$O$2,,$M$2,$N$2)","v":""},{"$f":" RTD(\"cqg.rtd\",,\"StudyData\", $L$2, \"FG\", \"\", \"Low\", $K$2, $A402, $P$2,$O$2,,$M$2,$N$2)","v":""},{"$f":" RTD(\"cqg.rtd\",,\"StudyData\", $L$2, \"FG\", \"\", \"Close\", $K$2, $A402, $P$2,$O$2,,$M$2,$N$2)","v":""}]
[-401,{"$f":" RTD(\"cqg.rtd\",,\"StudyData\", $L$2, \"FG\", \"\", \"Time\", $K$2,$A403, $P$2, \"\", \"\",\"False\")","v":""},{"$f":" RTD(\"cqg.rtd\",,\"StudyData\", $L$2, \"FG\", \"\", \"Time\", $K$2, $A403,$P$2,$O$2, \"\",\"False\")","v":""},{"$f":" RTD(\"cqg.rtd\",,\"StudyData\", $L$2, \"FG\", \"\", \"Open\", $K$2, $A403, $P$2,$O$2,,$M$2,$N$2)","v":""},{"$f":" RTD(\"cqg.rtd\",,\"StudyData\", $L$2, \"FG\", \"\", \"High\", $K$2, $A403, $P$2,$O$2,,$M$2,$N$2)","v":""},{"$f":" RTD(\"cqg.rtd\",,\"StudyData\", $L$2, \"FG\", \"\", \"Low\", $K$2, $A403, $P$2,$O$2,,$M$2,$N$2)","v":""},{"$f":" RTD(\"cqg.rtd\",,\"StudyData\", $L$2, \"FG\", \"\", \"Close\", $K$2, $A403, $P$2,$O$2,,$M$2,$N$2)","v":""}]
[-402,{"$f":" RTD(\"cqg.rtd\",,\"StudyData\", $L$2, \"FG\", \"\", \"Time\", $K$2,$A404, $P$2, \"\", \"\",\"False\")","v":""},{"$f":" RTD(\"cqg.rtd\",,\"StudyData\", $L$2, \"FG\", \"\", \"Time\", $K$2, $A404,$P$2,$O$2, \"\",\"False\")","v":""},{"$f":" RTD(\"cqg.rtd\",,\"StudyData\", $L$2, \"FG\", \"\", \"Open\", $K$2, $A404, $P$2,$O$2,,$M$2,$N$2)","v":""},{"$f":" RTD(\"cqg.rtd\",,\"StudyData\", $L$2, \"FG\", \"\", \"High\", $K$2, $A404, $P$2,$O$2,,$M$2,$N$2)","v":""},{"$f":" RTD(\"cqg.rtd\",,\"StudyData\", $L$2, \"FG\", \"\", \"Low\", $K$2, $A404, $P$2,$O$2,,$M$2,$N$2)","v":""},{"$f":" RTD(\"cqg.rtd\",,\"StudyData\", $L$2, \"FG\", \"\", \"Close\", $K$2, $A404, $P$2,$O$2,,$M$2,$N$2)","v":""}]
[-403,{"$f":" RTD(\"cqg.rtd\",,\"StudyData\", $L$2, \"FG\", \"\", \"Time\", $K$2,$A405, $P$2, \"\", \"\",\"False\")","v":""},{"$f":" RTD(\"cqg.rtd\",,\"StudyData\", $L$2, \"FG\", \"\", \"Time\", $K$2, $A405,$P$2,$O$2, \"\",\"False\")","v":""},{"$f":" RTD(\"cqg.rtd\",,\"StudyData\", $L$2, \"FG\", \"\", \"Open\", $K$2, $A405, $P$2,$O$2,,$M$2,$N$2)","v":""},{"$f":" RTD(\"cqg.rtd\",,\"StudyData\", $L$2, \"FG\", \"\", \"High\", $K$2, $A405, $P$2,$O$2,,$M$2,$N$2)","v":""},{"$f":" RTD(\"cqg.rtd\",,\"StudyData\", $L$2, \"FG\", \"\", \"Low\", $K$2, $A405, $P$2,$O$2,,$M$2,$N$2)","v":""},{"$f":" RTD(\"cqg.rtd\",,\"StudyData\", $L$2, \"FG\", \"\", \"Close\", $K$2, $A405, $P$2,$O$2,,$M$2,$N$2)","v":""}]
[-404,{"$f":" RTD(\"cqg.rtd\",,\"StudyData\", $L$2, \"FG\", \"\", \"Time\", $K$2,$A406, $P$2, \"\", \"\",\"False\")","v":""},{"$f":" RTD(\"cqg.rtd\",,\"StudyData\", $L$2, \"FG\", \"\", \"Time\", $K$2, $A406,$P$2,$O$2, \"\",\"False\")","v":""},{"$f":" RTD(\"cqg.rtd\",,\"StudyData\", $L$2, \"FG\", \"\", \"Open\", $K$2, $A406, $P$2,$O$2,,$M$2,$N$2)","v":""},{"$f":" RTD(\"cqg.rtd\",,\"StudyData\", $L$2, \"FG\", \"\", \"High\", $K$2, $A406, $P$2,$O$2,,$M$2,$N$2)","v":""},{"$f":" RTD(\"cqg.rtd\",,\"StudyData\", $L$2, \"FG\", \"\", \"Low\", $K$2, $A406, $P$2,$O$2,,$M$2,$N$2)","v":""},{"$f":" RTD(\"cqg.rtd\",,\"StudyData\", $L$2, \"FG\", \"\", \"Close\", $K$2, $A406, $P$2,$O$2,,$M$2,$N$2)","v":""}]
[-405,{"$f":" RTD(\"cqg.rtd\",,\"StudyData\", $L$2, \"FG\", \"\", \"Time\", $K$2,$A407, $P$2, \"\", \"\",\"False\")","v":""},{"$f":" RTD(\"cqg.rtd\",,\"StudyData\", $L$2, \"FG\", \"\", \"Time\", $K$2, $A407,$P$2,$O$2, \"\",\"False\")","v":""},{"$f":" RTD(\"cqg.rtd\",,\"StudyData\", $L$2, \"FG\", \"\", \"Open\", $K$2, $A407, $P$2,$O$2,,$M$2,$N$2)","v":""},{"$f":" RTD(\"cqg.rtd\",,\"StudyData\", $L$2, \"FG\", \"\", \"High\", $K$2, $A407, $P$2,$O$2,,$M$2,$N$2)","v":""},{"$f":" RTD(\"cqg.rtd\",,\"StudyData\", $L$2, \"FG\", \"\", \"Low\", $K$2, $A407, $P$2,$O$2,,$M$2,$N$2)","v":""},{"$f":" RTD(\"cqg.rtd\",,\"StudyData\", $L$2, \"FG\", \"\", \"Close\", $K$2, $A407, $P$2,$O$2,,$M$2,$N$2)","v":""}]
[-406,{"$f":" RTD(\"cqg.rtd\",,\"StudyData\", $L$2, \"FG\", \"\", \"Time\", $K$2,$A408, $P$2, \"\", \"\",\"False\")","v":""},{"$f":" RTD(\"cqg.rtd\",,\"StudyData\", $L$2, \"FG\", \"\", \"Time\", $K$2, $A408,$P$2,$O$2, \"\",\"False\")","v":""},{"$f":" RTD(\"cqg.rtd\",,\"StudyData\", $L$2, \"FG\", \"\", \"Open\", $K$2, $A408, $P$2,$O$2,,$M$2,$N$2)","v":""},{"$f":" RTD(\"cqg.rtd\",,\"StudyData\", $L$2, \"FG\", \"\", \"High\", $K$2, $A408, $P$2,$O$2,,$M$2,$N$2)","v":""},{"$f":" RTD(\"cqg.rtd\",,\"StudyData\", $L$2, \"FG\", \"\", \"Low\", $K$2, $A408, $P$2,$O$2,,$M$2,$N$2)","v":""},{"$f":" RTD(\"cqg.rtd\",,\"StudyData\", $L$2, \"FG\", \"\", \"Close\", $K$2, $A408, $P$2,$O$2,,$M$2,$N$2)","v":""}]
[-407,{"$f":" RTD(\"cqg.rtd\",,\"StudyData\", $L$2, \"FG\", \"\", \"Time\", $K$2,$A409, $P$2, \"\", \"\",\"False\")","v":""},{"$f":" RTD(\"cqg.rtd\",,\"StudyData\", $L$2, \"FG\", \"\", \"Time\", $K$2, $A409,$P$2,$O$2, \"\",\"False\")","v":""},{"$f":" RTD(\"cqg.rtd\",,\"StudyData\", $L$2, \"FG\", \"\", \"Open\", $K$2, $A409, $P$2,$O$2,,$M$2,$N$2)","v":""},{"$f":" RTD(\"cqg.rtd\",,\"StudyData\", $L$2, \"FG\", \"\", \"High\", $K$2, $A409, $P$2,$O$2,,$M$2,$N$2)","v":""},{"$f":" RTD(\"cqg.rtd\",,\"StudyData\", $L$2, \"FG\", \"\", \"Low\", $K$2, $A409, $P$2,$O$2,,$M$2,$N$2)","v":""},{"$f":" RTD(\"cqg.rtd\",,\"StudyData\", $L$2, \"FG\", \"\", \"Close\", $K$2, $A409, $P$2,$O$2,,$M$2,$N$2)","v":""}]
[-408,{"$f":" RTD(\"cqg.rtd\",,\"StudyData\", $L$2, \"FG\", \"\", \"Time\", $K$2,$A410, $P$2, \"\", \"\",\"False\")","v":""},{"$f":" RTD(\"cqg.rtd\",,\"StudyData\", $L$2, \"FG\", \"\", \"Time\", $K$2, $A410,$P$2,$O$2, \"\",\"False\")","v":""},{"$f":" RTD(\"cqg.rtd\",,\"StudyData\", $L$2, \"FG\", \"\", \"Open\", $K$2, $A410, $P$2,$O$2,,$M$2,$N$2)","v":""},{"$f":" RTD(\"cqg.rtd\",,\"StudyData\", $L$2, \"FG\", \"\", \"High\", $K$2, $A410, $P$2,$O$2,,$M$2,$N$2)","v":""},{"$f":" RTD(\"cqg.rtd\",,\"StudyData\", $L$2, \"FG\", \"\", \"Low\", $K$2, $A410, $P$2,$O$2,,$M$2,$N$2)","v":""},{"$f":" RTD(\"cqg.rtd\",,\"StudyData\", $L$2, \"FG\", \"\", \"Close\", $K$2, $A410, $P$2,$O$2,,$M$2,$N$2)","v":""}]
[-409,{"$f":" RTD(\"cqg.rtd\",,\"StudyData\", $L$2, \"FG\", \"\", \"Time\", $K$2,$A411, $P$2, \"\", \"\",\"False\")","v":""},{"$f":" RTD(\"cqg.rtd\",,\"StudyData\", $L$2, \"FG\", \"\", \"Time\", $K$2, $A411,$P$2,$O$2, \"\",\"False\")","v":""},{"$f":" RTD(\"cqg.rtd\",,\"StudyData\", $L$2, \"FG\", \"\", \"Open\", $K$2, $A411, $P$2,$O$2,,$M$2,$N$2)","v":""},{"$f":" RTD(\"cqg.rtd\",,\"StudyData\", $L$2, \"FG\", \"\", \"High\", $K$2, $A411, $P$2,$O$2,,$M$2,$N$2)","v":""},{"$f":" RTD(\"cqg.rtd\",,\"StudyData\", $L$2, \"FG\", \"\", \"Low\", $K$2, $A411, $P$2,$O$2,,$M$2,$N$2)","v":""},{"$f":" RTD(\"cqg.rtd\",,\"StudyData\", $L$2, \"FG\", \"\", \"Close\", $K$2, $A411, $P$2,$O$2,,$M$2,$N$2)","v":""}]
[-410,{"$f":" RTD(\"cqg.rtd\",,\"StudyData\", $L$2, \"FG\", \"\", \"Time\", $K$2,$A412, $P$2, \"\", \"\",\"False\")","v":""},{"$f":" RTD(\"cqg.rtd\",,\"StudyData\", $L$2, \"FG\", \"\", \"Time\", $K$2, $A412,$P$2,$O$2, \"\",\"False\")","v":""},{"$f":" RTD(\"cqg.rtd\",,\"StudyData\", $L$2, \"FG\", \"\", \"Open\", $K$2, $A412, $P$2,$O$2,,$M$2,$N$2)","v":""},{"$f":" RTD(\"cqg.rtd\",,\"StudyData\", $L$2, \"FG\", \"\", \"High\", $K$2, $A412, $P$2,$O$2,,$M$2,$N$2)","v":""},{"$f":" RTD(\"cqg.rtd\",,\"StudyData\", $L$2, \"FG\", \"\", \"Low\", $K$2, $A412, $P$2,$O$2,,$M$2,$N$2)","v":""},{"$f":" RTD(\"cqg.rtd\",,\"StudyData\", $L$2, \"FG\", \"\", \"Close\", $K$2, $A412, $P$2,$O$2,,$M$2,$N$2)","v":""}]
[-411,{"$f":" RTD(\"cqg.rtd\",,\"StudyData\", $L$2, \"FG\", \"\", \"Time\", $K$2,$A413, $P$2, \"\", \"\",\"False\")","v":""},{"$f":" RTD(\"cqg.rtd\",,\"StudyData\", $L$2, \"FG\", \"\", \"Time\", $K$2, $A413,$P$2,$O$2, \"\",\"False\")","v":""},{"$f":" RTD(\"cqg.rtd\",,\"StudyData\", $L$2, \"FG\", \"\", \"Open\", $K$2, $A413, $P$2,$O$2,,$M$2,$N$2)","v":""},{"$f":" RTD(\"cqg.rtd\",,\"StudyData\", $L$2, \"FG\", \"\", \"High\", $K$2, $A413, $P$2,$O$2,,$M$2,$N$2)","v":""},{"$f":" RTD(\"cqg.rtd\",,\"StudyData\", $L$2, \"FG\", \"\", \"Low\", $K$2, $A413, $P$2,$O$2,,$M$2,$N$2)","v":""},{"$f":" RTD(\"cqg.rtd\",,\"StudyData\", $L$2, \"FG\", \"\", \"Close\", $K$2, $A413, $P$2,$O$2,,$M$2,$N$2)","v":""}]
[-412,{"$f":" RTD(\"cqg.rtd\",,\"StudyData\", $L$2, \"FG\", \"\", \"Time\", $K$2,$A414, $P$2, \"\", \"\",\"False\")","v":""},{"$f":" RTD(\"cqg.rtd\",,\"StudyData\", $L$2, \"FG\", \"\", \"Time\", $K$2, $A414,$P$2,$O$2, \"\",\"False\")","v":""},{"$f":" RTD(\"cqg.rtd\",,\"StudyData\", $L$2, \"FG\", \"\", \"Open\", $K$2, $A414, $P$2,$O$2,,$M$2,$N$2)","v":""},{"$f":" RTD(\"cqg.rtd\",,\"StudyData\", $L$2, \"FG\", \"\", \"High\", $K$2, $A414, $P$2,$O$2,,$M$2,$N$2)","v":""},{"$f":" RTD(\"cqg.rtd\",,\"StudyData\", $L$2, \"FG\", \"\", \"Low\", $K$2, $A414, $P$2,$O$2,,$M$2,$N$2)","v":""},{"$f":" RTD(\"cqg.rtd\",,\"StudyData\", $L$2, \"FG\", \"\", \"Close\", $K$2, $A414, $P$2,$O$2,,$M$2,$N$2)","v":""}]
[-413,{"$f":" RTD(\"cqg.rtd\",,\"StudyData\", $L$2, \"FG\", \"\", \"Time\", $K$2,$A415, $P$2, \"\", \"\",\"False\")","v":""},{"$f":" RTD(\"cqg.rtd\",,\"StudyData\", $L$2, \"FG\", \"\", \"Time\", $K$2, $A415,$P$2,$O$2, \"\",\"False\")","v":""},{"$f":" RTD(\"cqg.rtd\",,\"StudyData\", $L$2, \"FG\", \"\", \"Open\", $K$2, $A415, $P$2,$O$2,,$M$2,$N$2)","v":""},{"$f":" RTD(\"cqg.rtd\",,\"StudyData\", $L$2, \"FG\", \"\", \"High\", $K$2, $A415, $P$2,$O$2,,$M$2,$N$2)","v":""},{"$f":" RTD(\"cqg.rtd\",,\"StudyData\", $L$2, \"FG\", \"\", \"Low\", $K$2, $A415, $P$2,$O$2,,$M$2,$N$2)","v":""},{"$f":" RTD(\"cqg.rtd\",,\"StudyData\", $L$2, \"FG\", \"\", \"Close\", $K$2, $A415, $P$2,$O$2,,$M$2,$N$2)","v":""}]
[-414,{"$f":" RTD(\"cqg.rtd\",,\"StudyData\", $L$2, \"FG\", \"\", \"Time\", $K$2,$A416, $P$2, \"\", \"\",\"False\")","v":""},{"$f":" RTD(\"cqg.rtd\",,\"StudyData\", $L$2, \"FG\", \"\", \"Time\", $K$2, $A416,$P$2,$O$2, \"\",\"False\")","v":""},{"$f":" RTD(\"cqg.rtd\",,\"StudyData\", $L$2, \"FG\", \"\", \"Open\", $K$2, $A416, $P$2,$O$2,,$M$2,$N$2)","v":""},{"$f":" RTD(\"cqg.rtd\",,\"StudyData\", $L$2, \"FG\", \"\", \"High\", $K$2, $A416, $P$2,$O$2,,$M$2,$N$2)","v":""},{"$f":" RTD(\"cqg.rtd\",,\"StudyData\", $L$2, \"FG\", \"\", \"Low\", $K$2, $A416, $P$2,$O$2,,$M$2,$N$2)","v":""},{"$f":" RTD(\"cqg.rtd\",,\"StudyData\", $L$2, \"FG\", \"\", \"Close\", $K$2, $A416, $P$2,$O$2,,$M$2,$N$2)","v":""}]
[-415,{"$f":" RTD(\"cqg.rtd\",,\"StudyData\", $L$2, \"FG\", \"\", \"Time\", $K$2,$A417, $P$2, \"\", \"\",\"False\")","v":""},{"$f":" RTD(\"cqg.rtd\",,\"StudyData\", $L$2, \"FG\", \"\", \"Time\", $K$2, $A417,$P$2,$O$2, \"\",\"False\")","v":""},{"$f":" RTD(\"cqg.rtd\",,\"StudyData\", $L$2, \"FG\", \"\", \"Open\", $K$2, $A417, $P$2,$O$2,,$M$2,$N$2)","v":""},{"$f":" RTD(\"cqg.rtd\",,\"StudyData\", $L$2, \"FG\", \"\", \"High\", $K$2, $A417, $P$2,$O$2,,$M$2,$N$2)","v":""},{"$f":" RTD(\"cqg.rtd\",,\"StudyData\", $L$2, \"FG\", \"\", \"Low\", $K$2, $A417, $P$2,$O$2,,$M$2,$N$2)","v":""},{"$f":" RTD(\"cqg.rtd\",,\"StudyData\", $L$2, \"FG\", \"\", \"Close\", $K$2, $A417, $P$2,$O$2,,$M$2,$N$2)","v":""}]
[-416,{"$f":" RTD(\"cqg.rtd\",,\"StudyData\", $L$2, \"FG\", \"\", \"Time\", $K$2,$A418, $P$2, \"\", \"\",\"False\")","v":""},{"$f":" RTD(\"cqg.rtd\",,\"StudyData\", $L$2, \"FG\", \"\", \"Time\", $K$2, $A418,$P$2,$O$2, \"\",\"False\")","v":""},{"$f":" RTD(\"cqg.rtd\",,\"StudyData\", $L$2, \"FG\", \"\", \"Open\", $K$2, $A418, $P$2,$O$2,,$M$2,$N$2)","v":""},{"$f":" RTD(\"cqg.rtd\",,\"StudyData\", $L$2, \"FG\", \"\", \"High\", $K$2, $A418, $P$2,$O$2,,$M$2,$N$2)","v":""},{"$f":" RTD(\"cqg.rtd\",,\"StudyData\", $L$2, \"FG\", \"\", \"Low\", $K$2, $A418, $P$2,$O$2,,$M$2,$N$2)","v":""},{"$f":" RTD(\"cqg.rtd\",,\"StudyData\", $L$2, \"FG\", \"\", \"Close\", $K$2, $A418, $P$2,$O$2,,$M$2,$N$2)","v":""}]
[-417,{"$f":" RTD(\"cqg.rtd\",,\"StudyData\", $L$2, \"FG\", \"\", \"Time\", $K$2,$A419, $P$2, \"\", \"\",\"False\")","v":""},{"$f":" RTD(\"cqg.rtd\",,\"StudyData\", $L$2, \"FG\", \"\", \"Time\", $K$2, $A419,$P$2,$O$2, \"\",\"False\")","v":""},{"$f":" RTD(\"cqg.rtd\",,\"StudyData\", $L$2, \"FG\", \"\", \"Open\", $K$2, $A419, $P$2,$O$2,,$M$2,$N$2)","v":""},{"$f":" RTD(\"cqg.rtd\",,\"StudyData\", $L$2, \"FG\", \"\", \"High\", $K$2, $A419, $P$2,$O$2,,$M$2,$N$2)","v":""},{"$f":" RTD(\"cqg.rtd\",,\"StudyData\", $L$2, \"FG\", \"\", \"Low\", $K$2, $A419, $P$2,$O$2,,$M$2,$N$2)","v":""},{"$f":" RTD(\"cqg.rtd\",,\"StudyData\", $L$2, \"FG\", \"\", \"Close\", $K$2, $A419, $P$2,$O$2,,$M$2,$N$2)","v":""}]
[-418,{"$f":" RTD(\"cqg.rtd\",,\"StudyData\", $L$2, \"FG\", \"\", \"Time\", $K$2,$A420, $P$2, \"\", \"\",\"False\")","v":""},{"$f":" RTD(\"cqg.rtd\",,\"StudyData\", $L$2, \"FG\", \"\", \"Time\", $K$2, $A420,$P$2,$O$2, \"\",\"False\")","v":""},{"$f":" RTD(\"cqg.rtd\",,\"StudyData\", $L$2, \"FG\", \"\", \"Open\", $K$2, $A420, $P$2,$O$2,,$M$2,$N$2)","v":""},{"$f":" RTD(\"cqg.rtd\",,\"StudyData\", $L$2, \"FG\", \"\", \"High\", $K$2, $A420, $P$2,$O$2,,$M$2,$N$2)","v":""},{"$f":" RTD(\"cqg.rtd\",,\"StudyData\", $L$2, \"FG\", \"\", \"Low\", $K$2, $A420, $P$2,$O$2,,$M$2,$N$2)","v":""},{"$f":" RTD(\"cqg.rtd\",,\"StudyData\", $L$2, \"FG\", \"\", \"Close\", $K$2, $A420, $P$2,$O$2,,$M$2,$N$2)","v":""}]
[-419,{"$f":" RTD(\"cqg.rtd\",,\"StudyData\", $L$2, \"FG\", \"\", \"Time\", $K$2,$A421, $P$2, \"\", \"\",\"False\")","v":""},{"$f":" RTD(\"cqg.rtd\",,\"StudyData\", $L$2, \"FG\", \"\", \"Time\", $K$2, $A421,$P$2,$O$2, \"\",\"False\")","v":""},{"$f":" RTD(\"cqg.rtd\",,\"StudyData\", $L$2, \"FG\", \"\", \"Open\", $K$2, $A421, $P$2,$O$2,,$M$2,$N$2)","v":""},{"$f":" RTD(\"cqg.rtd\",,\"StudyData\", $L$2, \"FG\", \"\", \"High\", $K$2, $A421, $P$2,$O$2,,$M$2,$N$2)","v":""},{"$f":" RTD(\"cqg.rtd\",,\"StudyData\", $L$2, \"FG\", \"\", \"Low\", $K$2, $A421, $P$2,$O$2,,$M$2,$N$2)","v":""},{"$f":" RTD(\"cqg.rtd\",,\"StudyData\", $L$2, \"FG\", \"\", \"Close\", $K$2, $A421, $P$2,$O$2,,$M$2,$N$2)","v":""}]
[-420,{"$f":" RTD(\"cqg.rtd\",,\"StudyData\", $L$2, \"FG\", \"\", \"Time\", $K$2,$A422, $P$2, \"\", \"\",\"False\")","v":""},{"$f":" RTD(\"cqg.rtd\",,\"StudyData\", $L$2, \"FG\", \"\", \"Time\", $K$2, $A422,$P$2,$O$2, \"\",\"False\")","v":""},{"$f":" RTD(\"cqg.rtd\",,\"StudyData\", $L$2, \"FG\", \"\", \"Open\", $K$2, $A422, $P$2,$O$2,,$M$2,$N$2)","v":""},{"$f":" RTD(\"cqg.rtd\",,\"StudyData\", $L$2, \"FG\", \"\", \"High\", $K$2, $A422, $P$2,$O$2,,$M$2,$N$2)","v":""},{"$f":" RTD(\"cqg.rtd\",,\"StudyData\", $L$2, \"FG\", \"\", \"Low\", $K$2, $A422, $P$2,$O$2,,$M$2,$N$2)","v":""},{"$f":" RTD(\"cqg.rtd\",,\"StudyData\", $L$2, \"FG\", \"\", \"Close\", $K$2, $A422, $P$2,$O$2,,$M$2,$N$2)","v":""}]
[-421,{"$f":" RTD(\"cqg.rtd\",,\"StudyData\", $L$2, \"FG\", \"\", \"Time\", $K$2,$A423, $P$2, \"\", \"\",\"False\")","v":""},{"$f":" RTD(\"cqg.rtd\",,\"StudyData\", $L$2, \"FG\", \"\", \"Time\", $K$2, $A423,$P$2,$O$2, \"\",\"False\")","v":""},{"$f":" RTD(\"cqg.rtd\",,\"StudyData\", $L$2, \"FG\", \"\", \"Open\", $K$2, $A423, $P$2,$O$2,,$M$2,$N$2)","v":""},{"$f":" RTD(\"cqg.rtd\",,\"StudyData\", $L$2, \"FG\", \"\", \"High\", $K$2, $A423, $P$2,$O$2,,$M$2,$N$2)","v":""},{"$f":" RTD(\"cqg.rtd\",,\"StudyData\", $L$2, \"FG\", \"\", \"Low\", $K$2, $A423, $P$2,$O$2,,$M$2,$N$2)","v":""},{"$f":" RTD(\"cqg.rtd\",,\"StudyData\", $L$2, \"FG\", \"\", \"Close\", $K$2, $A423, $P$2,$O$2,,$M$2,$N$2)","v":""}]
[-422,{"$f":" RTD(\"cqg.rtd\",,\"StudyData\", $L$2, \"FG\", \"\", \"Time\", $K$2,$A424, $P$2, \"\", \"\",\"False\")","v":""},{"$f":" RTD(\"cqg.rtd\",,\"StudyData\", $L$2, \"FG\", \"\", \"Time\", $K$2, $A424,$P$2,$O$2, \"\",\"False\")","v":""},{"$f":" RTD(\"cqg.rtd\",,\"StudyData\", $L$2, \"FG\", \"\", \"Open\", $K$2, $A424, $P$2,$O$2,,$M$2,$N$2)","v":""},{"$f":" RTD(\"cqg.rtd\",,\"StudyData\", $L$2, \"FG\", \"\", \"High\", $K$2, $A424, $P$2,$O$2,,$M$2,$N$2)","v":""},{"$f":" RTD(\"cqg.rtd\",,\"StudyData\", $L$2, \"FG\", \"\", \"Low\", $K$2, $A424, $P$2,$O$2,,$M$2,$N$2)","v":""},{"$f":" RTD(\"cqg.rtd\",,\"StudyData\", $L$2, \"FG\", \"\", \"Close\", $K$2, $A424, $P$2,$O$2,,$M$2,$N$2)","v":""}]
[-423,{"$f":" RTD(\"cqg.rtd\",,\"StudyData\", $L$2, \"FG\", \"\", \"Time\", $K$2,$A425, $P$2, \"\", \"\",\"False\")","v":""},{"$f":" RTD(\"cqg.rtd\",,\"StudyData\", $L$2, \"FG\", \"\", \"Time\", $K$2, $A425,$P$2,$O$2, \"\",\"False\")","v":""},{"$f":" RTD(\"cqg.rtd\",,\"StudyData\", $L$2, \"FG\", \"\", \"Open\", $K$2, $A425, $P$2,$O$2,,$M$2,$N$2)","v":""},{"$f":" RTD(\"cqg.rtd\",,\"StudyData\", $L$2, \"FG\", \"\", \"High\", $K$2, $A425, $P$2,$O$2,,$M$2,$N$2)","v":""},{"$f":" RTD(\"cqg.rtd\",,\"StudyData\", $L$2, \"FG\", \"\", \"Low\", $K$2, $A425, $P$2,$O$2,,$M$2,$N$2)","v":""},{"$f":" RTD(\"cqg.rtd\",,\"StudyData\", $L$2, \"FG\", \"\", \"Close\", $K$2, $A425, $P$2,$O$2,,$M$2,$N$2)","v":""}]
[-424,{"$f":" RTD(\"cqg.rtd\",,\"StudyData\", $L$2, \"FG\", \"\", \"Time\", $K$2,$A426, $P$2, \"\", \"\",\"False\")","v":""},{"$f":" RTD(\"cqg.rtd\",,\"StudyData\", $L$2, \"FG\", \"\", \"Time\", $K$2, $A426,$P$2,$O$2, \"\",\"False\")","v":""},{"$f":" RTD(\"cqg.rtd\",,\"StudyData\", $L$2, \"FG\", \"\", \"Open\", $K$2, $A426, $P$2,$O$2,,$M$2,$N$2)","v":""},{"$f":" RTD(\"cqg.rtd\",,\"StudyData\", $L$2, \"FG\", \"\", \"High\", $K$2, $A426, $P$2,$O$2,,$M$2,$N$2)","v":""},{"$f":" RTD(\"cqg.rtd\",,\"StudyData\", $L$2, \"FG\", \"\", \"Low\", $K$2, $A426, $P$2,$O$2,,$M$2,$N$2)","v":""},{"$f":" RTD(\"cqg.rtd\",,\"StudyData\", $L$2, \"FG\", \"\", \"Close\", $K$2, $A426, $P$2,$O$2,,$M$2,$N$2)","v":""}]
[-425,{"$f":" RTD(\"cqg.rtd\",,\"StudyData\", $L$2, \"FG\", \"\", \"Time\", $K$2,$A427, $P$2, \"\", \"\",\"False\")","v":""},{"$f":" RTD(\"cqg.rtd\",,\"StudyData\", $L$2, \"FG\", \"\", \"Time\", $K$2, $A427,$P$2,$O$2, \"\",\"False\")","v":""},{"$f":" RTD(\"cqg.rtd\",,\"StudyData\", $L$2, \"FG\", \"\", \"Open\", $K$2, $A427, $P$2,$O$2,,$M$2,$N$2)","v":""},{"$f":" RTD(\"cqg.rtd\",,\"StudyData\", $L$2, \"FG\", \"\", \"High\", $K$2, $A427, $P$2,$O$2,,$M$2,$N$2)","v":""},{"$f":" RTD(\"cqg.rtd\",,\"StudyData\", $L$2, \"FG\", \"\", \"Low\", $K$2, $A427, $P$2,$O$2,,$M$2,$N$2)","v":""},{"$f":" RTD(\"cqg.rtd\",,\"StudyData\", $L$2, \"FG\", \"\", \"Close\", $K$2, $A427, $P$2,$O$2,,$M$2,$N$2)","v":""}]
[-426,{"$f":" RTD(\"cqg.rtd\",,\"StudyData\", $L$2, \"FG\", \"\", \"Time\", $K$2,$A428, $P$2, \"\", \"\",\"False\")","v":""},{"$f":" RTD(\"cqg.rtd\",,\"StudyData\", $L$2, \"FG\", \"\", \"Time\", $K$2, $A428,$P$2,$O$2, \"\",\"False\")","v":""},{"$f":" RTD(\"cqg.rtd\",,\"StudyData\", $L$2, \"FG\", \"\", \"Open\", $K$2, $A428, $P$2,$O$2,,$M$2,$N$2)","v":""},{"$f":" RTD(\"cqg.rtd\",,\"StudyData\", $L$2, \"FG\", \"\", \"High\", $K$2, $A428, $P$2,$O$2,,$M$2,$N$2)","v":""},{"$f":" RTD(\"cqg.rtd\",,\"StudyData\", $L$2, \"FG\", \"\", \"Low\", $K$2, $A428, $P$2,$O$2,,$M$2,$N$2)","v":""},{"$f":" RTD(\"cqg.rtd\",,\"StudyData\", $L$2, \"FG\", \"\", \"Close\", $K$2, $A428, $P$2,$O$2,,$M$2,$N$2)","v":""}]
[-427,{"$f":" RTD(\"cqg.rtd\",,\"StudyData\", $L$2, \"FG\", \"\", \"Time\", $K$2,$A429, $P$2, \"\", \"\",\"False\")","v":""},{"$f":" RTD(\"cqg.rtd\",,\"StudyData\", $L$2, \"FG\", \"\", \"Time\", $K$2, $A429,$P$2,$O$2, \"\",\"False\")","v":""},{"$f":" RTD(\"cqg.rtd\",,\"StudyData\", $L$2, \"FG\", \"\", \"Open\", $K$2, $A429, $P$2,$O$2,,$M$2,$N$2)","v":""},{"$f":" RTD(\"cqg.rtd\",,\"StudyData\", $L$2, \"FG\", \"\", \"High\", $K$2, $A429, $P$2,$O$2,,$M$2,$N$2)","v":""},{"$f":" RTD(\"cqg.rtd\",,\"StudyData\", $L$2, \"FG\", \"\", \"Low\", $K$2, $A429, $P$2,$O$2,,$M$2,$N$2)","v":""},{"$f":" RTD(\"cqg.rtd\",,\"StudyData\", $L$2, \"FG\", \"\", \"Close\", $K$2, $A429, $P$2,$O$2,,$M$2,$N$2)","v":""}]
[-428,{"$f":" RTD(\"cqg.rtd\",,\"StudyData\", $L$2, \"FG\", \"\", \"Time\", $K$2,$A430, $P$2, \"\", \"\",\"False\")","v":""},{"$f":" RTD(\"cqg.rtd\",,\"StudyData\", $L$2, \"FG\", \"\", \"Time\", $K$2, $A430,$P$2,$O$2, \"\",\"False\")","v":""},{"$f":" RTD(\"cqg.rtd\",,\"StudyData\", $L$2, \"FG\", \"\", \"Open\", $K$2, $A430, $P$2,$O$2,,$M$2,$N$2)","v":""},{"$f":" RTD(\"cqg.rtd\",,\"StudyData\", $L$2, \"FG\", \"\", \"High\", $K$2, $A430, $P$2,$O$2,,$M$2,$N$2)","v":""},{"$f":" RTD(\"cqg.rtd\",,\"StudyData\", $L$2, \"FG\", \"\", \"Low\", $K$2, $A430, $P$2,$O$2,,$M$2,$N$2)","v":""},{"$f":" RTD(\"cqg.rtd\",,\"StudyData\", $L$2, \"FG\", \"\", \"Close\", $K$2, $A430, $P$2,$O$2,,$M$2,$N$2)","v":""}]
[-429,{"$f":" RTD(\"cqg.rtd\",,\"StudyData\", $L$2, \"FG\", \"\", \"Time\", $K$2,$A431, $P$2, \"\", \"\",\"False\")","v":""},{"$f":" RTD(\"cqg.rtd\",,\"StudyData\", $L$2, \"FG\", \"\", \"Time\", $K$2, $A431,$P$2,$O$2, \"\",\"False\")","v":""},{"$f":" RTD(\"cqg.rtd\",,\"StudyData\", $L$2, \"FG\", \"\", \"Open\", $K$2, $A431, $P$2,$O$2,,$M$2,$N$2)","v":""},{"$f":" RTD(\"cqg.rtd\",,\"StudyData\", $L$2, \"FG\", \"\", \"High\", $K$2, $A431, $P$2,$O$2,,$M$2,$N$2)","v":""},{"$f":" RTD(\"cqg.rtd\",,\"StudyData\", $L$2, \"FG\", \"\", \"Low\", $K$2, $A431, $P$2,$O$2,,$M$2,$N$2)","v":""},{"$f":" RTD(\"cqg.rtd\",,\"StudyData\", $L$2, \"FG\", \"\", \"Close\", $K$2, $A431, $P$2,$O$2,,$M$2,$N$2)","v":""}]
[-430,{"$f":" RTD(\"cqg.rtd\",,\"StudyData\", $L$2, \"FG\", \"\", \"Time\", $K$2,$A432, $P$2, \"\", \"\",\"False\")","v":""},{"$f":" RTD(\"cqg.rtd\",,\"StudyData\", $L$2, \"FG\", \"\", \"Time\", $K$2, $A432,$P$2,$O$2, \"\",\"False\")","v":""},{"$f":" RTD(\"cqg.rtd\",,\"StudyData\", $L$2, \"FG\", \"\", \"Open\", $K$2, $A432, $P$2,$O$2,,$M$2,$N$2)","v":""},{"$f":" RTD(\"cqg.rtd\",,\"StudyData\", $L$2, \"FG\", \"\", \"High\", $K$2, $A432, $P$2,$O$2,,$M$2,$N$2)","v":""},{"$f":" RTD(\"cqg.rtd\",,\"StudyData\", $L$2, \"FG\", \"\", \"Low\", $K$2, $A432, $P$2,$O$2,,$M$2,$N$2)","v":""},{"$f":" RTD(\"cqg.rtd\",,\"StudyData\", $L$2, \"FG\", \"\", \"Close\", $K$2, $A432, $P$2,$O$2,,$M$2,$N$2)","v":""}]
[-431,{"$f":" RTD(\"cqg.rtd\",,\"StudyData\", $L$2, \"FG\", \"\", \"Time\", $K$2,$A433, $P$2, \"\", \"\",\"False\")","v":""},{"$f":" RTD(\"cqg.rtd\",,\"StudyData\", $L$2, \"FG\", \"\", \"Time\", $K$2, $A433,$P$2,$O$2, \"\",\"False\")","v":""},{"$f":" RTD(\"cqg.rtd\",,\"StudyData\", $L$2, \"FG\", \"\", \"Open\", $K$2, $A433, $P$2,$O$2,,$M$2,$N$2)","v":""},{"$f":" RTD(\"cqg.rtd\",,\"StudyData\", $L$2, \"FG\", \"\", \"High\", $K$2, $A433, $P$2,$O$2,,$M$2,$N$2)","v":""},{"$f":" RTD(\"cqg.rtd\",,\"StudyData\", $L$2, \"FG\", \"\", \"Low\", $K$2, $A433, $P$2,$O$2,,$M$2,$N$2)","v":""},{"$f":" RTD(\"cqg.rtd\",,\"StudyData\", $L$2, \"FG\", \"\", \"Close\", $K$2, $A433, $P$2,$O$2,,$M$2,$N$2)","v":""}]
[-432,{"$f":" RTD(\"cqg.rtd\",,\"StudyData\", $L$2, \"FG\", \"\", \"Time\", $K$2,$A434, $P$2, \"\", \"\",\"False\")","v":""},{"$f":" RTD(\"cqg.rtd\",,\"StudyData\", $L$2, \"FG\", \"\", \"Time\", $K$2, $A434,$P$2,$O$2, \"\",\"False\")","v":""},{"$f":" RTD(\"cqg.rtd\",,\"StudyData\", $L$2, \"FG\", \"\", \"Open\", $K$2, $A434, $P$2,$O$2,,$M$2,$N$2)","v":""},{"$f":" RTD(\"cqg.rtd\",,\"StudyData\", $L$2, \"FG\", \"\", \"High\", $K$2, $A434, $P$2,$O$2,,$M$2,$N$2)","v":""},{"$f":" RTD(\"cqg.rtd\",,\"StudyData\", $L$2, \"FG\", \"\", \"Low\", $K$2, $A434, $P$2,$O$2,,$M$2,$N$2)","v":""},{"$f":" RTD(\"cqg.rtd\",,\"StudyData\", $L$2, \"FG\", \"\", \"Close\", $K$2, $A434, $P$2,$O$2,,$M$2,$N$2)","v":""}]
[-433,{"$f":" RTD(\"cqg.rtd\",,\"StudyData\", $L$2, \"FG\", \"\", \"Time\", $K$2,$A435, $P$2, \"\", \"\",\"False\")","v":""},{"$f":" RTD(\"cqg.rtd\",,\"StudyData\", $L$2, \"FG\", \"\", \"Time\", $K$2, $A435,$P$2,$O$2, \"\",\"False\")","v":""},{"$f":" RTD(\"cqg.rtd\",,\"StudyData\", $L$2, \"FG\", \"\", \"Open\", $K$2, $A435, $P$2,$O$2,,$M$2,$N$2)","v":""},{"$f":" RTD(\"cqg.rtd\",,\"StudyData\", $L$2, \"FG\", \"\", \"High\", $K$2, $A435, $P$2,$O$2,,$M$2,$N$2)","v":""},{"$f":" RTD(\"cqg.rtd\",,\"StudyData\", $L$2, \"FG\", \"\", \"Low\", $K$2, $A435, $P$2,$O$2,,$M$2,$N$2)","v":""},{"$f":" RTD(\"cqg.rtd\",,\"StudyData\", $L$2, \"FG\", \"\", \"Close\", $K$2, $A435, $P$2,$O$2,,$M$2,$N$2)","v":""}]
[-434,{"$f":" RTD(\"cqg.rtd\",,\"StudyData\", $L$2, \"FG\", \"\", \"Time\", $K$2,$A436, $P$2, \"\", \"\",\"False\")","v":""},{"$f":" RTD(\"cqg.rtd\",,\"StudyData\", $L$2, \"FG\", \"\", \"Time\", $K$2, $A436,$P$2,$O$2, \"\",\"False\")","v":""},{"$f":" RTD(\"cqg.rtd\",,\"StudyData\", $L$2, \"FG\", \"\", \"Open\", $K$2, $A436, $P$2,$O$2,,$M$2,$N$2)","v":""},{"$f":" RTD(\"cqg.rtd\",,\"StudyData\", $L$2, \"FG\", \"\", \"High\", $K$2, $A436, $P$2,$O$2,,$M$2,$N$2)","v":""},{"$f":" RTD(\"cqg.rtd\",,\"StudyData\", $L$2, \"FG\", \"\", \"Low\", $K$2, $A436, $P$2,$O$2,,$M$2,$N$2)","v":""},{"$f":" RTD(\"cqg.rtd\",,\"StudyData\", $L$2, \"FG\", \"\", \"Close\", $K$2, $A436, $P$2,$O$2,,$M$2,$N$2)","v":""}]
[-435,{"$f":" RTD(\"cqg.rtd\",,\"StudyData\", $L$2, \"FG\", \"\", \"Time\", $K$2,$A437, $P$2, \"\", \"\",\"False\")","v":""},{"$f":" RTD(\"cqg.rtd\",,\"StudyData\", $L$2, \"FG\", \"\", \"Time\", $K$2, $A437,$P$2,$O$2, \"\",\"False\")","v":""},{"$f":" RTD(\"cqg.rtd\",,\"StudyData\", $L$2, \"FG\", \"\", \"Open\", $K$2, $A437, $P$2,$O$2,,$M$2,$N$2)","v":""},{"$f":" RTD(\"cqg.rtd\",,\"StudyData\", $L$2, \"FG\", \"\", \"High\", $K$2, $A437, $P$2,$O$2,,$M$2,$N$2)","v":""},{"$f":" RTD(\"cqg.rtd\",,\"StudyData\", $L$2, \"FG\", \"\", \"Low\", $K$2, $A437, $P$2,$O$2,,$M$2,$N$2)","v":""},{"$f":" RTD(\"cqg.rtd\",,\"StudyData\", $L$2, \"FG\", \"\", \"Close\", $K$2, $A437, $P$2,$O$2,,$M$2,$N$2)","v":""}]
[-436,{"$f":" RTD(\"cqg.rtd\",,\"StudyData\", $L$2, \"FG\", \"\", \"Time\", $K$2,$A438, $P$2, \"\", \"\",\"False\")","v":""},{"$f":" RTD(\"cqg.rtd\",,\"StudyData\", $L$2, \"FG\", \"\", \"Time\", $K$2, $A438,$P$2,$O$2, \"\",\"False\")","v":""},{"$f":" RTD(\"cqg.rtd\",,\"StudyData\", $L$2, \"FG\", \"\", \"Open\", $K$2, $A438, $P$2,$O$2,,$M$2,$N$2)","v":""},{"$f":" RTD(\"cqg.rtd\",,\"StudyData\", $L$2, \"FG\", \"\", \"High\", $K$2, $A438, $P$2,$O$2,,$M$2,$N$2)","v":""},{"$f":" RTD(\"cqg.rtd\",,\"StudyData\", $L$2, \"FG\", \"\", \"Low\", $K$2, $A438, $P$2,$O$2,,$M$2,$N$2)","v":""},{"$f":" RTD(\"cqg.rtd\",,\"StudyData\", $L$2, \"FG\", \"\", \"Close\", $K$2, $A438, $P$2,$O$2,,$M$2,$N$2)","v":""}]
[-437,{"$f":" RTD(\"cqg.rtd\",,\"StudyData\", $L$2, \"FG\", \"\", \"Time\", $K$2,$A439, $P$2, \"\", \"\",\"False\")","v":""},{"$f":" RTD(\"cqg.rtd\",,\"StudyData\", $L$2, \"FG\", \"\", \"Time\", $K$2, $A439,$P$2,$O$2, \"\",\"False\")","v":""},{"$f":" RTD(\"cqg.rtd\",,\"StudyData\", $L$2, \"FG\", \"\", \"Open\", $K$2, $A439, $P$2,$O$2,,$M$2,$N$2)","v":""},{"$f":" RTD(\"cqg.rtd\",,\"StudyData\", $L$2, \"FG\", \"\", \"High\", $K$2, $A439, $P$2,$O$2,,$M$2,$N$2)","v":""},{"$f":" RTD(\"cqg.rtd\",,\"StudyData\", $L$2, \"FG\", \"\", \"Low\", $K$2, $A439, $P$2,$O$2,,$M$2,$N$2)","v":""},{"$f":" RTD(\"cqg.rtd\",,\"StudyData\", $L$2, \"FG\", \"\", \"Close\", $K$2, $A439, $P$2,$O$2,,$M$2,$N$2)","v":""}]
[-438,{"$f":" RTD(\"cqg.rtd\",,\"StudyData\", $L$2, \"FG\", \"\", \"Time\", $K$2,$A440, $P$2, \"\", \"\",\"False\")","v":""},{"$f":" RTD(\"cqg.rtd\",,\"StudyData\", $L$2, \"FG\", \"\", \"Time\", $K$2, $A440,$P$2,$O$2, \"\",\"False\")","v":""},{"$f":" RTD(\"cqg.rtd\",,\"StudyData\", $L$2, \"FG\", \"\", \"Open\", $K$2, $A440, $P$2,$O$2,,$M$2,$N$2)","v":""},{"$f":" RTD(\"cqg.rtd\",,\"StudyData\", $L$2, \"FG\", \"\", \"High\", $K$2, $A440, $P$2,$O$2,,$M$2,$N$2)","v":""},{"$f":" RTD(\"cqg.rtd\",,\"StudyData\", $L$2, \"FG\", \"\", \"Low\", $K$2, $A440, $P$2,$O$2,,$M$2,$N$2)","v":""},{"$f":" RTD(\"cqg.rtd\",,\"StudyData\", $L$2, \"FG\", \"\", \"Close\", $K$2, $A440, $P$2,$O$2,,$M$2,$N$2)","v":""}]
[-439,{"$f":" RTD(\"cqg.rtd\",,\"StudyData\", $L$2, \"FG\", \"\", \"Time\", $K$2,$A441, $P$2, \"\", \"\",\"False\")","v":""},{"$f":" RTD(\"cqg.rtd\",,\"StudyData\", $L$2, \"FG\", \"\", \"Time\", $K$2, $A441,$P$2,$O$2, \"\",\"False\")","v":""},{"$f":" RTD(\"cqg.rtd\",,\"StudyData\", $L$2, \"FG\", \"\", \"Open\", $K$2, $A441, $P$2,$O$2,,$M$2,$N$2)","v":""},{"$f":" RTD(\"cqg.rtd\",,\"StudyData\", $L$2, \"FG\", \"\", \"High\", $K$2, $A441, $P$2,$O$2,,$M$2,$N$2)","v":""},{"$f":" RTD(\"cqg.rtd\",,\"StudyData\", $L$2, \"FG\", \"\", \"Low\", $K$2, $A441, $P$2,$O$2,,$M$2,$N$2)","v":""},{"$f":" RTD(\"cqg.rtd\",,\"StudyData\", $L$2, \"FG\", \"\", \"Close\", $K$2, $A441, $P$2,$O$2,,$M$2,$N$2)","v":""}]
[-440,{"$f":" RTD(\"cqg.rtd\",,\"StudyData\", $L$2, \"FG\", \"\", \"Time\", $K$2,$A442, $P$2, \"\", \"\",\"False\")","v":""},{"$f":" RTD(\"cqg.rtd\",,\"StudyData\", $L$2, \"FG\", \"\", \"Time\", $K$2, $A442,$P$2,$O$2, \"\",\"False\")","v":""},{"$f":" RTD(\"cqg.rtd\",,\"StudyData\", $L$2, \"FG\", \"\", \"Open\", $K$2, $A442, $P$2,$O$2,,$M$2,$N$2)","v":""},{"$f":" RTD(\"cqg.rtd\",,\"StudyData\", $L$2, \"FG\", \"\", \"High\", $K$2, $A442, $P$2,$O$2,,$M$2,$N$2)","v":""},{"$f":" RTD(\"cqg.rtd\",,\"StudyData\", $L$2, \"FG\", \"\", \"Low\", $K$2, $A442, $P$2,$O$2,,$M$2,$N$2)","v":""},{"$f":" RTD(\"cqg.rtd\",,\"StudyData\", $L$2, \"FG\", \"\", \"Close\", $K$2, $A442, $P$2,$O$2,,$M$2,$N$2)","v":""}]
[-441,{"$f":" RTD(\"cqg.rtd\",,\"StudyData\", $L$2, \"FG\", \"\", \"Time\", $K$2,$A443, $P$2, \"\", \"\",\"False\")","v":""},{"$f":" RTD(\"cqg.rtd\",,\"StudyData\", $L$2, \"FG\", \"\", \"Time\", $K$2, $A443,$P$2,$O$2, \"\",\"False\")","v":""},{"$f":" RTD(\"cqg.rtd\",,\"StudyData\", $L$2, \"FG\", \"\", \"Open\", $K$2, $A443, $P$2,$O$2,,$M$2,$N$2)","v":""},{"$f":" RTD(\"cqg.rtd\",,\"StudyData\", $L$2, \"FG\", \"\", \"High\", $K$2, $A443, $P$2,$O$2,,$M$2,$N$2)","v":""},{"$f":" RTD(\"cqg.rtd\",,\"StudyData\", $L$2, \"FG\", \"\", \"Low\", $K$2, $A443, $P$2,$O$2,,$M$2,$N$2)","v":""},{"$f":" RTD(\"cqg.rtd\",,\"StudyData\", $L$2, \"FG\", \"\", \"Close\", $K$2, $A443, $P$2,$O$2,,$M$2,$N$2)","v":""}]
[-442,{"$f":" RTD(\"cqg.rtd\",,\"StudyData\", $L$2, \"FG\", \"\", \"Time\", $K$2,$A444, $P$2, \"\", \"\",\"False\")","v":""},{"$f":" RTD(\"cqg.rtd\",,\"StudyData\", $L$2, \"FG\", \"\", \"Time\", $K$2, $A444,$P$2,$O$2, \"\",\"False\")","v":""},{"$f":" RTD(\"cqg.rtd\",,\"StudyData\", $L$2, \"FG\", \"\", \"Open\", $K$2, $A444, $P$2,$O$2,,$M$2,$N$2)","v":""},{"$f":" RTD(\"cqg.rtd\",,\"StudyData\", $L$2, \"FG\", \"\", \"High\", $K$2, $A444, $P$2,$O$2,,$M$2,$N$2)","v":""},{"$f":" RTD(\"cqg.rtd\",,\"StudyData\", $L$2, \"FG\", \"\", \"Low\", $K$2, $A444, $P$2,$O$2,,$M$2,$N$2)","v":""},{"$f":" RTD(\"cqg.rtd\",,\"StudyData\", $L$2, \"FG\", \"\", \"Close\", $K$2, $A444, $P$2,$O$2,,$M$2,$N$2)","v":""}]
[-443,{"$f":" RTD(\"cqg.rtd\",,\"StudyData\", $L$2, \"FG\", \"\", \"Time\", $K$2,$A445, $P$2, \"\", \"\",\"False\")","v":""},{"$f":" RTD(\"cqg.rtd\",,\"StudyData\", $L$2, \"FG\", \"\", \"Time\", $K$2, $A445,$P$2,$O$2, \"\",\"False\")","v":""},{"$f":" RTD(\"cqg.rtd\",,\"StudyData\", $L$2, \"FG\", \"\", \"Open\", $K$2, $A445, $P$2,$O$2,,$M$2,$N$2)","v":""},{"$f":" RTD(\"cqg.rtd\",,\"StudyData\", $L$2, \"FG\", \"\", \"High\", $K$2, $A445, $P$2,$O$2,,$M$2,$N$2)","v":""},{"$f":" RTD(\"cqg.rtd\",,\"StudyData\", $L$2, \"FG\", \"\", \"Low\", $K$2, $A445, $P$2,$O$2,,$M$2,$N$2)","v":""},{"$f":" RTD(\"cqg.rtd\",,\"StudyData\", $L$2, \"FG\", \"\", \"Close\", $K$2, $A445, $P$2,$O$2,,$M$2,$N$2)","v":""}]
[-444,{"$f":" RTD(\"cqg.rtd\",,\"StudyData\", $L$2, \"FG\", \"\", \"Time\", $K$2,$A446, $P$2, \"\", \"\",\"False\")","v":""},{"$f":" RTD(\"cqg.rtd\",,\"StudyData\", $L$2, \"FG\", \"\", \"Time\", $K$2, $A446,$P$2,$O$2, \"\",\"False\")","v":""},{"$f":" RTD(\"cqg.rtd\",,\"StudyData\", $L$2, \"FG\", \"\", \"Open\", $K$2, $A446, $P$2,$O$2,,$M$2,$N$2)","v":""},{"$f":" RTD(\"cqg.rtd\",,\"StudyData\", $L$2, \"FG\", \"\", \"High\", $K$2, $A446, $P$2,$O$2,,$M$2,$N$2)","v":""},{"$f":" RTD(\"cqg.rtd\",,\"StudyData\", $L$2, \"FG\", \"\", \"Low\", $K$2, $A446, $P$2,$O$2,,$M$2,$N$2)","v":""},{"$f":" RTD(\"cqg.rtd\",,\"StudyData\", $L$2, \"FG\", \"\", \"Close\", $K$2, $A446, $P$2,$O$2,,$M$2,$N$2)","v":""}]
[-445,{"$f":" RTD(\"cqg.rtd\",,\"StudyData\", $L$2, \"FG\", \"\", \"Time\", $K$2,$A447, $P$2, \"\", \"\",\"False\")","v":""},{"$f":" RTD(\"cqg.rtd\",,\"StudyData\", $L$2, \"FG\", \"\", \"Time\", $K$2, $A447,$P$2,$O$2, \"\",\"False\")","v":""},{"$f":" RTD(\"cqg.rtd\",,\"StudyData\", $L$2, \"FG\", \"\", \"Open\", $K$2, $A447, $P$2,$O$2,,$M$2,$N$2)","v":""},{"$f":" RTD(\"cqg.rtd\",,\"StudyData\", $L$2, \"FG\", \"\", \"High\", $K$2, $A447, $P$2,$O$2,,$M$2,$N$2)","v":""},{"$f":" RTD(\"cqg.rtd\",,\"StudyData\", $L$2, \"FG\", \"\", \"Low\", $K$2, $A447, $P$2,$O$2,,$M$2,$N$2)","v":""},{"$f":" RTD(\"cqg.rtd\",,\"StudyData\", $L$2, \"FG\", \"\", \"Close\", $K$2, $A447, $P$2,$O$2,,$M$2,$N$2)","v":""}]
[-446,{"$f":" RTD(\"cqg.rtd\",,\"StudyData\", $L$2, \"FG\", \"\", \"Time\", $K$2,$A448, $P$2, \"\", \"\",\"False\")","v":""},{"$f":" RTD(\"cqg.rtd\",,\"StudyData\", $L$2, \"FG\", \"\", \"Time\", $K$2, $A448,$P$2,$O$2, \"\",\"False\")","v":""},{"$f":" RTD(\"cqg.rtd\",,\"StudyData\", $L$2, \"FG\", \"\", \"Open\", $K$2, $A448, $P$2,$O$2,,$M$2,$N$2)","v":""},{"$f":" RTD(\"cqg.rtd\",,\"StudyData\", $L$2, \"FG\", \"\", \"High\", $K$2, $A448, $P$2,$O$2,,$M$2,$N$2)","v":""},{"$f":" RTD(\"cqg.rtd\",,\"StudyData\", $L$2, \"FG\", \"\", \"Low\", $K$2, $A448, $P$2,$O$2,,$M$2,$N$2)","v":""},{"$f":" RTD(\"cqg.rtd\",,\"StudyData\", $L$2, \"FG\", \"\", \"Close\", $K$2, $A448, $P$2,$O$2,,$M$2,$N$2)","v":""}]
[-447,{"$f":" RTD(\"cqg.rtd\",,\"StudyData\", $L$2, \"FG\", \"\", \"Time\", $K$2,$A449, $P$2, \"\", \"\",\"False\")","v":""},{"$f":" RTD(\"cqg.rtd\",,\"StudyData\", $L$2, \"FG\", \"\", \"Time\", $K$2, $A449,$P$2,$O$2, \"\",\"False\")","v":""},{"$f":" RTD(\"cqg.rtd\",,\"StudyData\", $L$2, \"FG\", \"\", \"Open\", $K$2, $A449, $P$2,$O$2,,$M$2,$N$2)","v":""},{"$f":" RTD(\"cqg.rtd\",,\"StudyData\", $L$2, \"FG\", \"\", \"High\", $K$2, $A449, $P$2,$O$2,,$M$2,$N$2)","v":""},{"$f":" RTD(\"cqg.rtd\",,\"StudyData\", $L$2, \"FG\", \"\", \"Low\", $K$2, $A449, $P$2,$O$2,,$M$2,$N$2)","v":""},{"$f":" RTD(\"cqg.rtd\",,\"StudyData\", $L$2, \"FG\", \"\", \"Close\", $K$2, $A449, $P$2,$O$2,,$M$2,$N$2)","v":""}]
[-448,{"$f":" RTD(\"cqg.rtd\",,\"StudyData\", $L$2, \"FG\", \"\", \"Time\", $K$2,$A450, $P$2, \"\", \"\",\"False\")","v":""},{"$f":" RTD(\"cqg.rtd\",,\"StudyData\", $L$2, \"FG\", \"\", \"Time\", $K$2, $A450,$P$2,$O$2, \"\",\"False\")","v":""},{"$f":" RTD(\"cqg.rtd\",,\"StudyData\", $L$2, \"FG\", \"\", \"Open\", $K$2, $A450, $P$2,$O$2,,$M$2,$N$2)","v":""},{"$f":" RTD(\"cqg.rtd\",,\"StudyData\", $L$2, \"FG\", \"\", \"High\", $K$2, $A450, $P$2,$O$2,,$M$2,$N$2)","v":""},{"$f":" RTD(\"cqg.rtd\",,\"StudyData\", $L$2, \"FG\", \"\", \"Low\", $K$2, $A450, $P$2,$O$2,,$M$2,$N$2)","v":""},{"$f":" RTD(\"cqg.rtd\",,\"StudyData\", $L$2, \"FG\", \"\", \"Close\", $K$2, $A450, $P$2,$O$2,,$M$2,$N$2)","v":""}]
[-449,{"$f":" RTD(\"cqg.rtd\",,\"StudyData\", $L$2, \"FG\", \"\", \"Time\", $K$2,$A451, $P$2, \"\", \"\",\"False\")","v":""},{"$f":" RTD(\"cqg.rtd\",,\"StudyData\", $L$2, \"FG\", \"\", \"Time\", $K$2, $A451,$P$2,$O$2, \"\",\"False\")","v":""},{"$f":" RTD(\"cqg.rtd\",,\"StudyData\", $L$2, \"FG\", \"\", \"Open\", $K$2, $A451, $P$2,$O$2,,$M$2,$N$2)","v":""},{"$f":" RTD(\"cqg.rtd\",,\"StudyData\", $L$2, \"FG\", \"\", \"High\", $K$2, $A451, $P$2,$O$2,,$M$2,$N$2)","v":""},{"$f":" RTD(\"cqg.rtd\",,\"StudyData\", $L$2, \"FG\", \"\", \"Low\", $K$2, $A451, $P$2,$O$2,,$M$2,$N$2)","v":""},{"$f":" RTD(\"cqg.rtd\",,\"StudyData\", $L$2, \"FG\", \"\", \"Close\", $K$2, $A451, $P$2,$O$2,,$M$2,$N$2)","v":""}]
[{"$f":"A451-1","v":-450},{"$f":" RTD(\"cqg.rtd\",,\"StudyData\", $L$2, \"FG\", \"\", \"Time\", $K$2,$A452, $P$2, \"\", \"\",\"False\")","v":""},{"$f":" RTD(\"cqg.rtd\",,\"StudyData\", $L$2, \"FG\", \"\", \"Time\", $K$2, $A452,$P$2,$O$2, \"\",\"False\")","v":""},{"$f":" RTD(\"cqg.rtd\",,\"StudyData\", $L$2, \"FG\", \"\", \"Open\", $K$2, $A452, $P$2,$O$2,,$M$2,$N$2)","v":""},{"$f":" RTD(\"cqg.rtd\",,\"StudyData\", $L$2, \"FG\", \"\", \"High\", $K$2, $A452, $P$2,$O$2,,$M$2,$N$2)","v":""},{"$f":" RTD(\"cqg.rtd\",,\"StudyData\", $L$2, \"FG\", \"\", \"Low\", $K$2, $A452, $P$2,$O$2,,$M$2,$N$2)","v":""},{"$f":" RTD(\"cqg.rtd\",,\"StudyData\", $L$2, \"FG\", \"\", \"Close\", $K$2, $A452, $P$2,$O$2,,$M$2,$N$2)","v":""}]
[-451,{"$f":" RTD(\"cqg.rtd\",,\"StudyData\", $L$2, \"FG\", \"\", \"Time\", $K$2,$A453, $P$2, \"\", \"\",\"False\")","v":""},{"$f":" RTD(\"cqg.rtd\",,\"StudyData\", $L$2, \"FG\", \"\", \"Time\", $K$2, $A453,$P$2,$O$2, \"\",\"False\")","v":""},{"$f":" RTD(\"cqg.rtd\",,\"StudyData\", $L$2, \"FG\", \"\", \"Open\", $K$2, $A453, $P$2,$O$2,,$M$2,$N$2)","v":""},{"$f":" RTD(\"cqg.rtd\",,\"StudyData\", $L$2, \"FG\", \"\", \"High\", $K$2, $A453, $P$2,$O$2,,$M$2,$N$2)","v":""},{"$f":" RTD(\"cqg.rtd\",,\"StudyData\", $L$2, \"FG\", \"\", \"Low\", $K$2, $A453, $P$2,$O$2,,$M$2,$N$2)","v":""},{"$f":" RTD(\"cqg.rtd\",,\"StudyData\", $L$2, \"FG\", \"\", \"Close\", $K$2, $A453, $P$2,$O$2,,$M$2,$N$2)","v":""}]
[-452,{"$f":" RTD(\"cqg.rtd\",,\"StudyData\", $L$2, \"FG\", \"\", \"Time\", $K$2,$A454, $P$2, \"\", \"\",\"False\")","v":""},{"$f":" RTD(\"cqg.rtd\",,\"StudyData\", $L$2, \"FG\", \"\", \"Time\", $K$2, $A454,$P$2,$O$2, \"\",\"False\")","v":""},{"$f":" RTD(\"cqg.rtd\",,\"StudyData\", $L$2, \"FG\", \"\", \"Open\", $K$2, $A454, $P$2,$O$2,,$M$2,$N$2)","v":""},{"$f":" RTD(\"cqg.rtd\",,\"StudyData\", $L$2, \"FG\", \"\", \"High\", $K$2, $A454, $P$2,$O$2,,$M$2,$N$2)","v":""},{"$f":" RTD(\"cqg.rtd\",,\"StudyData\", $L$2, \"FG\", \"\", \"Low\", $K$2, $A454, $P$2,$O$2,,$M$2,$N$2)","v":""},{"$f":" RTD(\"cqg.rtd\",,\"StudyData\", $L$2, \"FG\", \"\", \"Close\", $K$2, $A454, $P$2,$O$2,,$M$2,$N$2)","v":""}]
[-453,{"$f":" RTD(\"cqg.rtd\",,\"StudyData\", $L$2, \"FG\", \"\", \"Time\", $K$2,$A455, $P$2, \"\", \"\",\"False\")","v":""},{"$f":" RTD(\"cqg.rtd\",,\"StudyData\", $L$2, \"FG\", \"\", \"Time\", $K$2, $A455,$P$2,$O$2, \"\",\"False\")","v":""},{"$f":" RTD(\"cqg.rtd\",,\"StudyData\", $L$2, \"FG\", \"\", \"Open\", $K$2, $A455, $P$2,$O$2,,$M$2,$N$2)","v":""},{"$f":" RTD(\"cqg.rtd\",,\"StudyData\", $L$2, \"FG\", \"\", \"High\", $K$2, $A455, $P$2,$O$2,,$M$2,$N$2)","v":""},{"$f":" RTD(\"cqg.rtd\",,\"StudyData\", $L$2, \"FG\", \"\", \"Low\", $K$2, $A455, $P$2,$O$2,,$M$2,$N$2)","v":""},{"$f":" RTD(\"cqg.rtd\",,\"StudyData\", $L$2, \"FG\", \"\", \"Close\", $K$2, $A455, $P$2,$O$2,,$M$2,$N$2)","v":""}]
[-454,{"$f":" RTD(\"cqg.rtd\",,\"StudyData\", $L$2, \"FG\", \"\", \"Time\", $K$2,$A456, $P$2, \"\", \"\",\"False\")","v":""},{"$f":" RTD(\"cqg.rtd\",,\"StudyData\", $L$2, \"FG\", \"\", \"Time\", $K$2, $A456,$P$2,$O$2, \"\",\"False\")","v":""},{"$f":" RTD(\"cqg.rtd\",,\"StudyData\", $L$2, \"FG\", \"\", \"Open\", $K$2, $A456, $P$2,$O$2,,$M$2,$N$2)","v":""},{"$f":" RTD(\"cqg.rtd\",,\"StudyData\", $L$2, \"FG\", \"\", \"High\", $K$2, $A456, $P$2,$O$2,,$M$2,$N$2)","v":""},{"$f":" RTD(\"cqg.rtd\",,\"StudyData\", $L$2, \"FG\", \"\", \"Low\", $K$2, $A456, $P$2,$O$2,,$M$2,$N$2)","v":""},{"$f":" RTD(\"cqg.rtd\",,\"StudyData\", $L$2, \"FG\", \"\", \"Close\", $K$2, $A456, $P$2,$O$2,,$M$2,$N$2)","v":""}]
[-455,{"$f":" RTD(\"cqg.rtd\",,\"StudyData\", $L$2, \"FG\", \"\", \"Time\", $K$2,$A457, $P$2, \"\", \"\",\"False\")","v":""},{"$f":" RTD(\"cqg.rtd\",,\"StudyData\", $L$2, \"FG\", \"\", \"Time\", $K$2, $A457,$P$2,$O$2, \"\",\"False\")","v":""},{"$f":" RTD(\"cqg.rtd\",,\"StudyData\", $L$2, \"FG\", \"\", \"Open\", $K$2, $A457, $P$2,$O$2,,$M$2,$N$2)","v":""},{"$f":" RTD(\"cqg.rtd\",,\"StudyData\", $L$2, \"FG\", \"\", \"High\", $K$2, $A457, $P$2,$O$2,,$M$2,$N$2)","v":""},{"$f":" RTD(\"cqg.rtd\",,\"StudyData\", $L$2, \"FG\", \"\", \"Low\", $K$2, $A457, $P$2,$O$2,,$M$2,$N$2)","v":""},{"$f":" RTD(\"cqg.rtd\",,\"StudyData\", $L$2, \"FG\", \"\", \"Close\", $K$2, $A457, $P$2,$O$2,,$M$2,$N$2)","v":""}]
[-456,{"$f":" RTD(\"cqg.rtd\",,\"StudyData\", $L$2, \"FG\", \"\", \"Time\", $K$2,$A458, $P$2, \"\", \"\",\"False\")","v":""},{"$f":" RTD(\"cqg.rtd\",,\"StudyData\", $L$2, \"FG\", \"\", \"Time\", $K$2, $A458,$P$2,$O$2, \"\",\"False\")","v":""},{"$f":" RTD(\"cqg.rtd\",,\"StudyData\", $L$2, \"FG\", \"\", \"Open\", $K$2, $A458, $P$2,$O$2,,$M$2,$N$2)","v":""},{"$f":" RTD(\"cqg.rtd\",,\"StudyData\", $L$2, \"FG\", \"\", \"High\", $K$2, $A458, $P$2,$O$2,,$M$2,$N$2)","v":""},{"$f":" RTD(\"cqg.rtd\",,\"StudyData\", $L$2, \"FG\", \"\", \"Low\", $K$2, $A458, $P$2,$O$2,,$M$2,$N$2)","v":""},{"$f":" RTD(\"cqg.rtd\",,\"StudyData\", $L$2, \"FG\", \"\", \"Close\", $K$2, $A458, $P$2,$O$2,,$M$2,$N$2)","v":""}]
[-457,{"$f":" RTD(\"cqg.rtd\",,\"StudyData\", $L$2, \"FG\", \"\", \"Time\", $K$2,$A459, $P$2, \"\", \"\",\"False\")","v":""},{"$f":" RTD(\"cqg.rtd\",,\"StudyData\", $L$2, \"FG\", \"\", \"Time\", $K$2, $A459,$P$2,$O$2, \"\",\"False\")","v":""},{"$f":" RTD(\"cqg.rtd\",,\"StudyData\", $L$2, \"FG\", \"\", \"Open\", $K$2, $A459, $P$2,$O$2,,$M$2,$N$2)","v":""},{"$f":" RTD(\"cqg.rtd\",,\"StudyData\", $L$2, \"FG\", \"\", \"High\", $K$2, $A459, $P$2,$O$2,,$M$2,$N$2)","v":""},{"$f":" RTD(\"cqg.rtd\",,\"StudyData\", $L$2, \"FG\", \"\", \"Low\", $K$2, $A459, $P$2,$O$2,,$M$2,$N$2)","v":""},{"$f":" RTD(\"cqg.rtd\",,\"StudyData\", $L$2, \"FG\", \"\", \"Close\", $K$2, $A459, $P$2,$O$2,,$M$2,$N$2)","v":""}]
[-458,{"$f":" RTD(\"cqg.rtd\",,\"StudyData\", $L$2, \"FG\", \"\", \"Time\", $K$2,$A460, $P$2, \"\", \"\",\"False\")","v":""},{"$f":" RTD(\"cqg.rtd\",,\"StudyData\", $L$2, \"FG\", \"\", \"Time\", $K$2, $A460,$P$2,$O$2, \"\",\"False\")","v":""},{"$f":" RTD(\"cqg.rtd\",,\"StudyData\", $L$2, \"FG\", \"\", \"Open\", $K$2, $A460, $P$2,$O$2,,$M$2,$N$2)","v":""},{"$f":" RTD(\"cqg.rtd\",,\"StudyData\", $L$2, \"FG\", \"\", \"High\", $K$2, $A460, $P$2,$O$2,,$M$2,$N$2)","v":""},{"$f":" RTD(\"cqg.rtd\",,\"StudyData\", $L$2, \"FG\", \"\", \"Low\", $K$2, $A460, $P$2,$O$2,,$M$2,$N$2)","v":""},{"$f":" RTD(\"cqg.rtd\",,\"StudyData\", $L$2, \"FG\", \"\", \"Close\", $K$2, $A460, $P$2,$O$2,,$M$2,$N$2)","v":""}]
[-459,{"$f":" RTD(\"cqg.rtd\",,\"StudyData\", $L$2, \"FG\", \"\", \"Time\", $K$2,$A461, $P$2, \"\", \"\",\"False\")","v":""},{"$f":" RTD(\"cqg.rtd\",,\"StudyData\", $L$2, \"FG\", \"\", \"Time\", $K$2, $A461,$P$2,$O$2, \"\",\"False\")","v":""},{"$f":" RTD(\"cqg.rtd\",,\"StudyData\", $L$2, \"FG\", \"\", \"Open\", $K$2, $A461, $P$2,$O$2,,$M$2,$N$2)","v":""},{"$f":" RTD(\"cqg.rtd\",,\"StudyData\", $L$2, \"FG\", \"\", \"High\", $K$2, $A461, $P$2,$O$2,,$M$2,$N$2)","v":""},{"$f":" RTD(\"cqg.rtd\",,\"StudyData\", $L$2, \"FG\", \"\", \"Low\", $K$2, $A461, $P$2,$O$2,,$M$2,$N$2)","v":""},{"$f":" RTD(\"cqg.rtd\",,\"StudyData\", $L$2, \"FG\", \"\", \"Close\", $K$2, $A461, $P$2,$O$2,,$M$2,$N$2)","v":""}]
[-460,{"$f":" RTD(\"cqg.rtd\",,\"StudyData\", $L$2, \"FG\", \"\", \"Time\", $K$2,$A462, $P$2, \"\", \"\",\"False\")","v":""},{"$f":" RTD(\"cqg.rtd\",,\"StudyData\", $L$2, \"FG\", \"\", \"Time\", $K$2, $A462,$P$2,$O$2, \"\",\"False\")","v":""},{"$f":" RTD(\"cqg.rtd\",,\"StudyData\", $L$2, \"FG\", \"\", \"Open\", $K$2, $A462, $P$2,$O$2,,$M$2,$N$2)","v":""},{"$f":" RTD(\"cqg.rtd\",,\"StudyData\", $L$2, \"FG\", \"\", \"High\", $K$2, $A462, $P$2,$O$2,,$M$2,$N$2)","v":""},{"$f":" RTD(\"cqg.rtd\",,\"StudyData\", $L$2, \"FG\", \"\", \"Low\", $K$2, $A462, $P$2,$O$2,,$M$2,$N$2)","v":""},{"$f":" RTD(\"cqg.rtd\",,\"StudyData\", $L$2, \"FG\", \"\", \"Close\", $K$2, $A462, $P$2,$O$2,,$M$2,$N$2)","v":""}]
[-461,{"$f":" RTD(\"cqg.rtd\",,\"StudyData\", $L$2, \"FG\", \"\", \"Time\", $K$2,$A463, $P$2, \"\", \"\",\"False\")","v":""},{"$f":" RTD(\"cqg.rtd\",,\"StudyData\", $L$2, \"FG\", \"\", \"Time\", $K$2, $A463,$P$2,$O$2, \"\",\"False\")","v":""},{"$f":" RTD(\"cqg.rtd\",,\"StudyData\", $L$2, \"FG\", \"\", \"Open\", $K$2, $A463, $P$2,$O$2,,$M$2,$N$2)","v":""},{"$f":" RTD(\"cqg.rtd\",,\"StudyData\", $L$2, \"FG\", \"\", \"High\", $K$2, $A463, $P$2,$O$2,,$M$2,$N$2)","v":""},{"$f":" RTD(\"cqg.rtd\",,\"StudyData\", $L$2, \"FG\", \"\", \"Low\", $K$2, $A463, $P$2,$O$2,,$M$2,$N$2)","v":""},{"$f":" RTD(\"cqg.rtd\",,\"StudyData\", $L$2, \"FG\", \"\", \"Close\", $K$2, $A463, $P$2,$O$2,,$M$2,$N$2)","v":""}]
[-462,{"$f":" RTD(\"cqg.rtd\",,\"StudyData\", $L$2, \"FG\", \"\", \"Time\", $K$2,$A464, $P$2, \"\", \"\",\"False\")","v":""},{"$f":" RTD(\"cqg.rtd\",,\"StudyData\", $L$2, \"FG\", \"\", \"Time\", $K$2, $A464,$P$2,$O$2, \"\",\"False\")","v":""},{"$f":" RTD(\"cqg.rtd\",,\"StudyData\", $L$2, \"FG\", \"\", \"Open\", $K$2, $A464, $P$2,$O$2,,$M$2,$N$2)","v":""},{"$f":" RTD(\"cqg.rtd\",,\"StudyData\", $L$2, \"FG\", \"\", \"High\", $K$2, $A464, $P$2,$O$2,,$M$2,$N$2)","v":""},{"$f":" RTD(\"cqg.rtd\",,\"StudyData\", $L$2, \"FG\", \"\", \"Low\", $K$2, $A464, $P$2,$O$2,,$M$2,$N$2)","v":""},{"$f":" RTD(\"cqg.rtd\",,\"StudyData\", $L$2, \"FG\", \"\", \"Close\", $K$2, $A464, $P$2,$O$2,,$M$2,$N$2)","v":""}]
[-463,{"$f":" RTD(\"cqg.rtd\",,\"StudyData\", $L$2, \"FG\", \"\", \"Time\", $K$2,$A465, $P$2, \"\", \"\",\"False\")","v":""},{"$f":" RTD(\"cqg.rtd\",,\"StudyData\", $L$2, \"FG\", \"\", \"Time\", $K$2, $A465,$P$2,$O$2, \"\",\"False\")","v":""},{"$f":" RTD(\"cqg.rtd\",,\"StudyData\", $L$2, \"FG\", \"\", \"Open\", $K$2, $A465, $P$2,$O$2,,$M$2,$N$2)","v":""},{"$f":" RTD(\"cqg.rtd\",,\"StudyData\", $L$2, \"FG\", \"\", \"High\", $K$2, $A465, $P$2,$O$2,,$M$2,$N$2)","v":""},{"$f":" RTD(\"cqg.rtd\",,\"StudyData\", $L$2, \"FG\", \"\", \"Low\", $K$2, $A465, $P$2,$O$2,,$M$2,$N$2)","v":""},{"$f":" RTD(\"cqg.rtd\",,\"StudyData\", $L$2, \"FG\", \"\", \"Close\", $K$2, $A465, $P$2,$O$2,,$M$2,$N$2)","v":""}]
[-464,{"$f":" RTD(\"cqg.rtd\",,\"StudyData\", $L$2, \"FG\", \"\", \"Time\", $K$2,$A466, $P$2, \"\", \"\",\"False\")","v":""},{"$f":" RTD(\"cqg.rtd\",,\"StudyData\", $L$2, \"FG\", \"\", \"Time\", $K$2, $A466,$P$2,$O$2, \"\",\"False\")","v":""},{"$f":" RTD(\"cqg.rtd\",,\"StudyData\", $L$2, \"FG\", \"\", \"Open\", $K$2, $A466, $P$2,$O$2,,$M$2,$N$2)","v":""},{"$f":" RTD(\"cqg.rtd\",,\"StudyData\", $L$2, \"FG\", \"\", \"High\", $K$2, $A466, $P$2,$O$2,,$M$2,$N$2)","v":""},{"$f":" RTD(\"cqg.rtd\",,\"StudyData\", $L$2, \"FG\", \"\", \"Low\", $K$2, $A466, $P$2,$O$2,,$M$2,$N$2)","v":""},{"$f":" RTD(\"cqg.rtd\",,\"StudyData\", $L$2, \"FG\", \"\", \"Close\", $K$2, $A466, $P$2,$O$2,,$M$2,$N$2)","v":""}]
[-465,{"$f":" RTD(\"cqg.rtd\",,\"StudyData\", $L$2, \"FG\", \"\", \"Time\", $K$2,$A467, $P$2, \"\", \"\",\"False\")","v":""},{"$f":" RTD(\"cqg.rtd\",,\"StudyData\", $L$2, \"FG\", \"\", \"Time\", $K$2, $A467,$P$2,$O$2, \"\",\"False\")","v":""},{"$f":" RTD(\"cqg.rtd\",,\"StudyData\", $L$2, \"FG\", \"\", \"Open\", $K$2, $A467, $P$2,$O$2,,$M$2,$N$2)","v":""},{"$f":" RTD(\"cqg.rtd\",,\"StudyData\", $L$2, \"FG\", \"\", \"High\", $K$2, $A467, $P$2,$O$2,,$M$2,$N$2)","v":""},{"$f":" RTD(\"cqg.rtd\",,\"StudyData\", $L$2, \"FG\", \"\", \"Low\", $K$2, $A467, $P$2,$O$2,,$M$2,$N$2)","v":""},{"$f":" RTD(\"cqg.rtd\",,\"StudyData\", $L$2, \"FG\", \"\", \"Close\", $K$2, $A467, $P$2,$O$2,,$M$2,$N$2)","v":""}]
[-466,{"$f":" RTD(\"cqg.rtd\",,\"StudyData\", $L$2, \"FG\", \"\", \"Time\", $K$2,$A468, $P$2, \"\", \"\",\"False\")","v":""},{"$f":" RTD(\"cqg.rtd\",,\"StudyData\", $L$2, \"FG\", \"\", \"Time\", $K$2, $A468,$P$2,$O$2, \"\",\"False\")","v":""},{"$f":" RTD(\"cqg.rtd\",,\"StudyData\", $L$2, \"FG\", \"\", \"Open\", $K$2, $A468, $P$2,$O$2,,$M$2,$N$2)","v":""},{"$f":" RTD(\"cqg.rtd\",,\"StudyData\", $L$2, \"FG\", \"\", \"High\", $K$2, $A468, $P$2,$O$2,,$M$2,$N$2)","v":""},{"$f":" RTD(\"cqg.rtd\",,\"StudyData\", $L$2, \"FG\", \"\", \"Low\", $K$2, $A468, $P$2,$O$2,,$M$2,$N$2)","v":""},{"$f":" RTD(\"cqg.rtd\",,\"StudyData\", $L$2, \"FG\", \"\", \"Close\", $K$2, $A468, $P$2,$O$2,,$M$2,$N$2)","v":""}]
[-467,{"$f":" RTD(\"cqg.rtd\",,\"StudyData\", $L$2, \"FG\", \"\", \"Time\", $K$2,$A469, $P$2, \"\", \"\",\"False\")","v":""},{"$f":" RTD(\"cqg.rtd\",,\"StudyData\", $L$2, \"FG\", \"\", \"Time\", $K$2, $A469,$P$2,$O$2, \"\",\"False\")","v":""},{"$f":" RTD(\"cqg.rtd\",,\"StudyData\", $L$2, \"FG\", \"\", \"Open\", $K$2, $A469, $P$2,$O$2,,$M$2,$N$2)","v":""},{"$f":" RTD(\"cqg.rtd\",,\"StudyData\", $L$2, \"FG\", \"\", \"High\", $K$2, $A469, $P$2,$O$2,,$M$2,$N$2)","v":""},{"$f":" RTD(\"cqg.rtd\",,\"StudyData\", $L$2, \"FG\", \"\", \"Low\", $K$2, $A469, $P$2,$O$2,,$M$2,$N$2)","v":""},{"$f":" RTD(\"cqg.rtd\",,\"StudyData\", $L$2, \"FG\", \"\", \"Close\", $K$2, $A469, $P$2,$O$2,,$M$2,$N$2)","v":""}]
[-468,{"$f":" RTD(\"cqg.rtd\",,\"StudyData\", $L$2, \"FG\", \"\", \"Time\", $K$2,$A470, $P$2, \"\", \"\",\"False\")","v":""},{"$f":" RTD(\"cqg.rtd\",,\"StudyData\", $L$2, \"FG\", \"\", \"Time\", $K$2, $A470,$P$2,$O$2, \"\",\"False\")","v":""},{"$f":" RTD(\"cqg.rtd\",,\"StudyData\", $L$2, \"FG\", \"\", \"Open\", $K$2, $A470, $P$2,$O$2,,$M$2,$N$2)","v":""},{"$f":" RTD(\"cqg.rtd\",,\"StudyData\", $L$2, \"FG\", \"\", \"High\", $K$2, $A470, $P$2,$O$2,,$M$2,$N$2)","v":""},{"$f":" RTD(\"cqg.rtd\",,\"StudyData\", $L$2, \"FG\", \"\", \"Low\", $K$2, $A470, $P$2,$O$2,,$M$2,$N$2)","v":""},{"$f":" RTD(\"cqg.rtd\",,\"StudyData\", $L$2, \"FG\", \"\", \"Close\", $K$2, $A470, $P$2,$O$2,,$M$2,$N$2)","v":""}]
[-469,{"$f":" RTD(\"cqg.rtd\",,\"StudyData\", $L$2, \"FG\", \"\", \"Time\", $K$2,$A471, $P$2, \"\", \"\",\"False\")","v":""},{"$f":" RTD(\"cqg.rtd\",,\"StudyData\", $L$2, \"FG\", \"\", \"Time\", $K$2, $A471,$P$2,$O$2, \"\",\"False\")","v":""},{"$f":" RTD(\"cqg.rtd\",,\"StudyData\", $L$2, \"FG\", \"\", \"Open\", $K$2, $A471, $P$2,$O$2,,$M$2,$N$2)","v":""},{"$f":" RTD(\"cqg.rtd\",,\"StudyData\", $L$2, \"FG\", \"\", \"High\", $K$2, $A471, $P$2,$O$2,,$M$2,$N$2)","v":""},{"$f":" RTD(\"cqg.rtd\",,\"StudyData\", $L$2, \"FG\", \"\", \"Low\", $K$2, $A471, $P$2,$O$2,,$M$2,$N$2)","v":""},{"$f":" RTD(\"cqg.rtd\",,\"StudyData\", $L$2, \"FG\", \"\", \"Close\", $K$2, $A471, $P$2,$O$2,,$M$2,$N$2)","v":""}]
[-470,{"$f":" RTD(\"cqg.rtd\",,\"StudyData\", $L$2, \"FG\", \"\", \"Time\", $K$2,$A472, $P$2, \"\", \"\",\"False\")","v":""},{"$f":" RTD(\"cqg.rtd\",,\"StudyData\", $L$2, \"FG\", \"\", \"Time\", $K$2, $A472,$P$2,$O$2, \"\",\"False\")","v":""},{"$f":" RTD(\"cqg.rtd\",,\"StudyData\", $L$2, \"FG\", \"\", \"Open\", $K$2, $A472, $P$2,$O$2,,$M$2,$N$2)","v":""},{"$f":" RTD(\"cqg.rtd\",,\"StudyData\", $L$2, \"FG\", \"\", \"High\", $K$2, $A472, $P$2,$O$2,,$M$2,$N$2)","v":""},{"$f":" RTD(\"cqg.rtd\",,\"StudyData\", $L$2, \"FG\", \"\", \"Low\", $K$2, $A472, $P$2,$O$2,,$M$2,$N$2)","v":""},{"$f":" RTD(\"cqg.rtd\",,\"StudyData\", $L$2, \"FG\", \"\", \"Close\", $K$2, $A472, $P$2,$O$2,,$M$2,$N$2)","v":""}]
[-471,{"$f":" RTD(\"cqg.rtd\",,\"StudyData\", $L$2, \"FG\", \"\", \"Time\", $K$2,$A473, $P$2, \"\", \"\",\"False\")","v":""},{"$f":" RTD(\"cqg.rtd\",,\"StudyData\", $L$2, \"FG\", \"\", \"Time\", $K$2, $A473,$P$2,$O$2, \"\",\"False\")","v":""},{"$f":" RTD(\"cqg.rtd\",,\"StudyData\", $L$2, \"FG\", \"\", \"Open\", $K$2, $A473, $P$2,$O$2,,$M$2,$N$2)","v":""},{"$f":" RTD(\"cqg.rtd\",,\"StudyData\", $L$2, \"FG\", \"\", \"High\", $K$2, $A473, $P$2,$O$2,,$M$2,$N$2)","v":""},{"$f":" RTD(\"cqg.rtd\",,\"StudyData\", $L$2, \"FG\", \"\", \"Low\", $K$2, $A473, $P$2,$O$2,,$M$2,$N$2)","v":""},{"$f":" RTD(\"cqg.rtd\",,\"StudyData\", $L$2, \"FG\", \"\", \"Close\", $K$2, $A473, $P$2,$O$2,,$M$2,$N$2)","v":""}]
[-472,{"$f":" RTD(\"cqg.rtd\",,\"StudyData\", $L$2, \"FG\", \"\", \"Time\", $K$2,$A474, $P$2, \"\", \"\",\"False\")","v":""},{"$f":" RTD(\"cqg.rtd\",,\"StudyData\", $L$2, \"FG\", \"\", \"Time\", $K$2, $A474,$P$2,$O$2, \"\",\"False\")","v":""},{"$f":" RTD(\"cqg.rtd\",,\"StudyData\", $L$2, \"FG\", \"\", \"Open\", $K$2, $A474, $P$2,$O$2,,$M$2,$N$2)","v":""},{"$f":" RTD(\"cqg.rtd\",,\"StudyData\", $L$2, \"FG\", \"\", \"High\", $K$2, $A474, $P$2,$O$2,,$M$2,$N$2)","v":""},{"$f":" RTD(\"cqg.rtd\",,\"StudyData\", $L$2, \"FG\", \"\", \"Low\", $K$2, $A474, $P$2,$O$2,,$M$2,$N$2)","v":""},{"$f":" RTD(\"cqg.rtd\",,\"StudyData\", $L$2, \"FG\", \"\", \"Close\", $K$2, $A474, $P$2,$O$2,,$M$2,$N$2)","v":""}]
[-473,{"$f":" RTD(\"cqg.rtd\",,\"StudyData\", $L$2, \"FG\", \"\", \"Time\", $K$2,$A475, $P$2, \"\", \"\",\"False\")","v":""},{"$f":" RTD(\"cqg.rtd\",,\"StudyData\", $L$2, \"FG\", \"\", \"Time\", $K$2, $A475,$P$2,$O$2, \"\",\"False\")","v":""},{"$f":" RTD(\"cqg.rtd\",,\"StudyData\", $L$2, \"FG\", \"\", \"Open\", $K$2, $A475, $P$2,$O$2,,$M$2,$N$2)","v":""},{"$f":" RTD(\"cqg.rtd\",,\"StudyData\", $L$2, \"FG\", \"\", \"High\", $K$2, $A475, $P$2,$O$2,,$M$2,$N$2)","v":""},{"$f":" RTD(\"cqg.rtd\",,\"StudyData\", $L$2, \"FG\", \"\", \"Low\", $K$2, $A475, $P$2,$O$2,,$M$2,$N$2)","v":""},{"$f":" RTD(\"cqg.rtd\",,\"StudyData\", $L$2, \"FG\", \"\", \"Close\", $K$2, $A475, $P$2,$O$2,,$M$2,$N$2)","v":""}]
[-474,{"$f":" RTD(\"cqg.rtd\",,\"StudyData\", $L$2, \"FG\", \"\", \"Time\", $K$2,$A476, $P$2, \"\", \"\",\"False\")","v":""},{"$f":" RTD(\"cqg.rtd\",,\"StudyData\", $L$2, \"FG\", \"\", \"Time\", $K$2, $A476,$P$2,$O$2, \"\",\"False\")","v":""},{"$f":" RTD(\"cqg.rtd\",,\"StudyData\", $L$2, \"FG\", \"\", \"Open\", $K$2, $A476, $P$2,$O$2,,$M$2,$N$2)","v":""},{"$f":" RTD(\"cqg.rtd\",,\"StudyData\", $L$2, \"FG\", \"\", \"High\", $K$2, $A476, $P$2,$O$2,,$M$2,$N$2)","v":""},{"$f":" RTD(\"cqg.rtd\",,\"StudyData\", $L$2, \"FG\", \"\", \"Low\", $K$2, $A476, $P$2,$O$2,,$M$2,$N$2)","v":""},{"$f":" RTD(\"cqg.rtd\",,\"StudyData\", $L$2, \"FG\", \"\", \"Close\", $K$2, $A476, $P$2,$O$2,,$M$2,$N$2)","v":""}]
[-475,{"$f":" RTD(\"cqg.rtd\",,\"StudyData\", $L$2, \"FG\", \"\", \"Time\", $K$2,$A477, $P$2, \"\", \"\",\"False\")","v":""},{"$f":" RTD(\"cqg.rtd\",,\"StudyData\", $L$2, \"FG\", \"\", \"Time\", $K$2, $A477,$P$2,$O$2, \"\",\"False\")","v":""},{"$f":" RTD(\"cqg.rtd\",,\"StudyData\", $L$2, \"FG\", \"\", \"Open\", $K$2, $A477, $P$2,$O$2,,$M$2,$N$2)","v":""},{"$f":" RTD(\"cqg.rtd\",,\"StudyData\", $L$2, \"FG\", \"\", \"High\", $K$2, $A477, $P$2,$O$2,,$M$2,$N$2)","v":""},{"$f":" RTD(\"cqg.rtd\",,\"StudyData\", $L$2, \"FG\", \"\", \"Low\", $K$2, $A477, $P$2,$O$2,,$M$2,$N$2)","v":""},{"$f":" RTD(\"cqg.rtd\",,\"StudyData\", $L$2, \"FG\", \"\", \"Close\", $K$2, $A477, $P$2,$O$2,,$M$2,$N$2)","v":""}]
[-476,{"$f":" RTD(\"cqg.rtd\",,\"StudyData\", $L$2, \"FG\", \"\", \"Time\", $K$2,$A478, $P$2, \"\", \"\",\"False\")","v":""},{"$f":" RTD(\"cqg.rtd\",,\"StudyData\", $L$2, \"FG\", \"\", \"Time\", $K$2, $A478,$P$2,$O$2, \"\",\"False\")","v":""},{"$f":" RTD(\"cqg.rtd\",,\"StudyData\", $L$2, \"FG\", \"\", \"Open\", $K$2, $A478, $P$2,$O$2,,$M$2,$N$2)","v":""},{"$f":" RTD(\"cqg.rtd\",,\"StudyData\", $L$2, \"FG\", \"\", \"High\", $K$2, $A478, $P$2,$O$2,,$M$2,$N$2)","v":""},{"$f":" RTD(\"cqg.rtd\",,\"StudyData\", $L$2, \"FG\", \"\", \"Low\", $K$2, $A478, $P$2,$O$2,,$M$2,$N$2)","v":""},{"$f":" RTD(\"cqg.rtd\",,\"StudyData\", $L$2, \"FG\", \"\", \"Close\", $K$2, $A478, $P$2,$O$2,,$M$2,$N$2)","v":""}]
[-477,{"$f":" RTD(\"cqg.rtd\",,\"StudyData\", $L$2, \"FG\", \"\", \"Time\", $K$2,$A479, $P$2, \"\", \"\",\"False\")","v":""},{"$f":" RTD(\"cqg.rtd\",,\"StudyData\", $L$2, \"FG\", \"\", \"Time\", $K$2, $A479,$P$2,$O$2, \"\",\"False\")","v":""},{"$f":" RTD(\"cqg.rtd\",,\"StudyData\", $L$2, \"FG\", \"\", \"Open\", $K$2, $A479, $P$2,$O$2,,$M$2,$N$2)","v":""},{"$f":" RTD(\"cqg.rtd\",,\"StudyData\", $L$2, \"FG\", \"\", \"High\", $K$2, $A479, $P$2,$O$2,,$M$2,$N$2)","v":""},{"$f":" RTD(\"cqg.rtd\",,\"StudyData\", $L$2, \"FG\", \"\", \"Low\", $K$2, $A479, $P$2,$O$2,,$M$2,$N$2)","v":""},{"$f":" RTD(\"cqg.rtd\",,\"StudyData\", $L$2, \"FG\", \"\", \"Close\", $K$2, $A479, $P$2,$O$2,,$M$2,$N$2)","v":""}]
[-478,{"$f":" RTD(\"cqg.rtd\",,\"StudyData\", $L$2, \"FG\", \"\", \"Time\", $K$2,$A480, $P$2, \"\", \"\",\"False\")","v":""},{"$f":" RTD(\"cqg.rtd\",,\"StudyData\", $L$2, \"FG\", \"\", \"Time\", $K$2, $A480,$P$2,$O$2, \"\",\"False\")","v":""},{"$f":" RTD(\"cqg.rtd\",,\"StudyData\", $L$2, \"FG\", \"\", \"Open\", $K$2, $A480, $P$2,$O$2,,$M$2,$N$2)","v":""},{"$f":" RTD(\"cqg.rtd\",,\"StudyData\", $L$2, \"FG\", \"\", \"High\", $K$2, $A480, $P$2,$O$2,,$M$2,$N$2)","v":""},{"$f":" RTD(\"cqg.rtd\",,\"StudyData\", $L$2, \"FG\", \"\", \"Low\", $K$2, $A480, $P$2,$O$2,,$M$2,$N$2)","v":""},{"$f":" RTD(\"cqg.rtd\",,\"StudyData\", $L$2, \"FG\", \"\", \"Close\", $K$2, $A480, $P$2,$O$2,,$M$2,$N$2)","v":""}]
[-479,{"$f":" RTD(\"cqg.rtd\",,\"StudyData\", $L$2, \"FG\", \"\", \"Time\", $K$2,$A481, $P$2, \"\", \"\",\"False\")","v":""},{"$f":" RTD(\"cqg.rtd\",,\"StudyData\", $L$2, \"FG\", \"\", \"Time\", $K$2, $A481,$P$2,$O$2, \"\",\"False\")","v":""},{"$f":" RTD(\"cqg.rtd\",,\"StudyData\", $L$2, \"FG\", \"\", \"Open\", $K$2, $A481, $P$2,$O$2,,$M$2,$N$2)","v":""},{"$f":" RTD(\"cqg.rtd\",,\"StudyData\", $L$2, \"FG\", \"\", \"High\", $K$2, $A481, $P$2,$O$2,,$M$2,$N$2)","v":""},{"$f":" RTD(\"cqg.rtd\",,\"StudyData\", $L$2, \"FG\", \"\", \"Low\", $K$2, $A481, $P$2,$O$2,,$M$2,$N$2)","v":""},{"$f":" RTD(\"cqg.rtd\",,\"StudyData\", $L$2, \"FG\", \"\", \"Close\", $K$2, $A481, $P$2,$O$2,,$M$2,$N$2)","v":""}]
[-480,{"$f":" RTD(\"cqg.rtd\",,\"StudyData\", $L$2, \"FG\", \"\", \"Time\", $K$2,$A482, $P$2, \"\", \"\",\"False\")","v":""},{"$f":" RTD(\"cqg.rtd\",,\"StudyData\", $L$2, \"FG\", \"\", \"Time\", $K$2, $A482,$P$2,$O$2, \"\",\"False\")","v":""},{"$f":" RTD(\"cqg.rtd\",,\"StudyData\", $L$2, \"FG\", \"\", \"Open\", $K$2, $A482, $P$2,$O$2,,$M$2,$N$2)","v":""},{"$f":" RTD(\"cqg.rtd\",,\"StudyData\", $L$2, \"FG\", \"\", \"High\", $K$2, $A482, $P$2,$O$2,,$M$2,$N$2)","v":""},{"$f":" RTD(\"cqg.rtd\",,\"StudyData\", $L$2, \"FG\", \"\", \"Low\", $K$2, $A482, $P$2,$O$2,,$M$2,$N$2)","v":""},{"$f":" RTD(\"cqg.rtd\",,\"StudyData\", $L$2, \"FG\", \"\", \"Close\", $K$2, $A482, $P$2,$O$2,,$M$2,$N$2)","v":""}]
[-481,{"$f":" RTD(\"cqg.rtd\",,\"StudyData\", $L$2, \"FG\", \"\", \"Time\", $K$2,$A483, $P$2, \"\", \"\",\"False\")","v":""},{"$f":" RTD(\"cqg.rtd\",,\"StudyData\", $L$2, \"FG\", \"\", \"Time\", $K$2, $A483,$P$2,$O$2, \"\",\"False\")","v":""},{"$f":" RTD(\"cqg.rtd\",,\"StudyData\", $L$2, \"FG\", \"\", \"Open\", $K$2, $A483, $P$2,$O$2,,$M$2,$N$2)","v":""},{"$f":" RTD(\"cqg.rtd\",,\"StudyData\", $L$2, \"FG\", \"\", \"High\", $K$2, $A483, $P$2,$O$2,,$M$2,$N$2)","v":""},{"$f":" RTD(\"cqg.rtd\",,\"StudyData\", $L$2, \"FG\", \"\", \"Low\", $K$2, $A483, $P$2,$O$2,,$M$2,$N$2)","v":""},{"$f":" RTD(\"cqg.rtd\",,\"StudyData\", $L$2, \"FG\", \"\", \"Close\", $K$2, $A483, $P$2,$O$2,,$M$2,$N$2)","v":""}]
[-482,{"$f":" RTD(\"cqg.rtd\",,\"StudyData\", $L$2, \"FG\", \"\", \"Time\", $K$2,$A484, $P$2, \"\", \"\",\"False\")","v":""},{"$f":" RTD(\"cqg.rtd\",,\"StudyData\", $L$2, \"FG\", \"\", \"Time\", $K$2, $A484,$P$2,$O$2, \"\",\"False\")","v":""},{"$f":" RTD(\"cqg.rtd\",,\"StudyData\", $L$2, \"FG\", \"\", \"Open\", $K$2, $A484, $P$2,$O$2,,$M$2,$N$2)","v":""},{"$f":" RTD(\"cqg.rtd\",,\"StudyData\", $L$2, \"FG\", \"\", \"High\", $K$2, $A484, $P$2,$O$2,,$M$2,$N$2)","v":""},{"$f":" RTD(\"cqg.rtd\",,\"StudyData\", $L$2, \"FG\", \"\", \"Low\", $K$2, $A484, $P$2,$O$2,,$M$2,$N$2)","v":""},{"$f":" RTD(\"cqg.rtd\",,\"StudyData\", $L$2, \"FG\", \"\", \"Close\", $K$2, $A484, $P$2,$O$2,,$M$2,$N$2)","v":""}]
[-483,{"$f":" RTD(\"cqg.rtd\",,\"StudyData\", $L$2, \"FG\", \"\", \"Time\", $K$2,$A485, $P$2, \"\", \"\",\"False\")","v":""},{"$f":" RTD(\"cqg.rtd\",,\"StudyData\", $L$2, \"FG\", \"\", \"Time\", $K$2, $A485,$P$2,$O$2, \"\",\"False\")","v":""},{"$f":" RTD(\"cqg.rtd\",,\"StudyData\", $L$2, \"FG\", \"\", \"Open\", $K$2, $A485, $P$2,$O$2,,$M$2,$N$2)","v":""},{"$f":" RTD(\"cqg.rtd\",,\"StudyData\", $L$2, \"FG\", \"\", \"High\", $K$2, $A485, $P$2,$O$2,,$M$2,$N$2)","v":""},{"$f":" RTD(\"cqg.rtd\",,\"StudyData\", $L$2, \"FG\", \"\", \"Low\", $K$2, $A485, $P$2,$O$2,,$M$2,$N$2)","v":""},{"$f":" RTD(\"cqg.rtd\",,\"StudyData\", $L$2, \"FG\", \"\", \"Close\", $K$2, $A485, $P$2,$O$2,,$M$2,$N$2)","v":""}]
[-484,{"$f":" RTD(\"cqg.rtd\",,\"StudyData\", $L$2, \"FG\", \"\", \"Time\", $K$2,$A486, $P$2, \"\", \"\",\"False\")","v":""},{"$f":" RTD(\"cqg.rtd\",,\"StudyData\", $L$2, \"FG\", \"\", \"Time\", $K$2, $A486,$P$2,$O$2, \"\",\"False\")","v":""},{"$f":" RTD(\"cqg.rtd\",,\"StudyData\", $L$2, \"FG\", \"\", \"Open\", $K$2, $A486, $P$2,$O$2,,$M$2,$N$2)","v":""},{"$f":" RTD(\"cqg.rtd\",,\"StudyData\", $L$2, \"FG\", \"\", \"High\", $K$2, $A486, $P$2,$O$2,,$M$2,$N$2)","v":""},{"$f":" RTD(\"cqg.rtd\",,\"StudyData\", $L$2, \"FG\", \"\", \"Low\", $K$2, $A486, $P$2,$O$2,,$M$2,$N$2)","v":""},{"$f":" RTD(\"cqg.rtd\",,\"StudyData\", $L$2, \"FG\", \"\", \"Close\", $K$2, $A486, $P$2,$O$2,,$M$2,$N$2)","v":""}]
[-485,{"$f":" RTD(\"cqg.rtd\",,\"StudyData\", $L$2, \"FG\", \"\", \"Time\", $K$2,$A487, $P$2, \"\", \"\",\"False\")","v":""},{"$f":" RTD(\"cqg.rtd\",,\"StudyData\", $L$2, \"FG\", \"\", \"Time\", $K$2, $A487,$P$2,$O$2, \"\",\"False\")","v":""},{"$f":" RTD(\"cqg.rtd\",,\"StudyData\", $L$2, \"FG\", \"\", \"Open\", $K$2, $A487, $P$2,$O$2,,$M$2,$N$2)","v":""},{"$f":" RTD(\"cqg.rtd\",,\"StudyData\", $L$2, \"FG\", \"\", \"High\", $K$2, $A487, $P$2,$O$2,,$M$2,$N$2)","v":""},{"$f":" RTD(\"cqg.rtd\",,\"StudyData\", $L$2, \"FG\", \"\", \"Low\", $K$2, $A487, $P$2,$O$2,,$M$2,$N$2)","v":""},{"$f":" RTD(\"cqg.rtd\",,\"StudyData\", $L$2, \"FG\", \"\", \"Close\", $K$2, $A487, $P$2,$O$2,,$M$2,$N$2)","v":""}]
[-486,{"$f":" RTD(\"cqg.rtd\",,\"StudyData\", $L$2, \"FG\", \"\", \"Time\", $K$2,$A488, $P$2, \"\", \"\",\"False\")","v":""},{"$f":" RTD(\"cqg.rtd\",,\"StudyData\", $L$2, \"FG\", \"\", \"Time\", $K$2, $A488,$P$2,$O$2, \"\",\"False\")","v":""},{"$f":" RTD(\"cqg.rtd\",,\"StudyData\", $L$2, \"FG\", \"\", \"Open\", $K$2, $A488, $P$2,$O$2,,$M$2,$N$2)","v":""},{"$f":" RTD(\"cqg.rtd\",,\"StudyData\", $L$2, \"FG\", \"\", \"High\", $K$2, $A488, $P$2,$O$2,,$M$2,$N$2)","v":""},{"$f":" RTD(\"cqg.rtd\",,\"StudyData\", $L$2, \"FG\", \"\", \"Low\", $K$2, $A488, $P$2,$O$2,,$M$2,$N$2)","v":""},{"$f":" RTD(\"cqg.rtd\",,\"StudyData\", $L$2, \"FG\", \"\", \"Close\", $K$2, $A488, $P$2,$O$2,,$M$2,$N$2)","v":""}]
[-487,{"$f":" RTD(\"cqg.rtd\",,\"StudyData\", $L$2, \"FG\", \"\", \"Time\", $K$2,$A489, $P$2, \"\", \"\",\"False\")","v":""},{"$f":" RTD(\"cqg.rtd\",,\"StudyData\", $L$2, \"FG\", \"\", \"Time\", $K$2, $A489,$P$2,$O$2, \"\",\"False\")","v":""},{"$f":" RTD(\"cqg.rtd\",,\"StudyData\", $L$2, \"FG\", \"\", \"Open\", $K$2, $A489, $P$2,$O$2,,$M$2,$N$2)","v":""},{"$f":" RTD(\"cqg.rtd\",,\"StudyData\", $L$2, \"FG\", \"\", \"High\", $K$2, $A489, $P$2,$O$2,,$M$2,$N$2)","v":""},{"$f":" RTD(\"cqg.rtd\",,\"StudyData\", $L$2, \"FG\", \"\", \"Low\", $K$2, $A489, $P$2,$O$2,,$M$2,$N$2)","v":""},{"$f":" RTD(\"cqg.rtd\",,\"StudyData\", $L$2, \"FG\", \"\", \"Close\", $K$2, $A489, $P$2,$O$2,,$M$2,$N$2)","v":""}]
[-488,{"$f":" RTD(\"cqg.rtd\",,\"StudyData\", $L$2, \"FG\", \"\", \"Time\", $K$2,$A490, $P$2, \"\", \"\",\"False\")","v":""},{"$f":" RTD(\"cqg.rtd\",,\"StudyData\", $L$2, \"FG\", \"\", \"Time\", $K$2, $A490,$P$2,$O$2, \"\",\"False\")","v":""},{"$f":" RTD(\"cqg.rtd\",,\"StudyData\", $L$2, \"FG\", \"\", \"Open\", $K$2, $A490, $P$2,$O$2,,$M$2,$N$2)","v":""},{"$f":" RTD(\"cqg.rtd\",,\"StudyData\", $L$2, \"FG\", \"\", \"High\", $K$2, $A490, $P$2,$O$2,,$M$2,$N$2)","v":""},{"$f":" RTD(\"cqg.rtd\",,\"StudyData\", $L$2, \"FG\", \"\", \"Low\", $K$2, $A490, $P$2,$O$2,,$M$2,$N$2)","v":""},{"$f":" RTD(\"cqg.rtd\",,\"StudyData\", $L$2, \"FG\", \"\", \"Close\", $K$2, $A490, $P$2,$O$2,,$M$2,$N$2)","v":""}]
[-489,{"$f":" RTD(\"cqg.rtd\",,\"StudyData\", $L$2, \"FG\", \"\", \"Time\", $K$2,$A491, $P$2, \"\", \"\",\"False\")","v":""},{"$f":" RTD(\"cqg.rtd\",,\"StudyData\", $L$2, \"FG\", \"\", \"Time\", $K$2, $A491,$P$2,$O$2, \"\",\"False\")","v":""},{"$f":" RTD(\"cqg.rtd\",,\"StudyData\", $L$2, \"FG\", \"\", \"Open\", $K$2, $A491, $P$2,$O$2,,$M$2,$N$2)","v":""},{"$f":" RTD(\"cqg.rtd\",,\"StudyData\", $L$2, \"FG\", \"\", \"High\", $K$2, $A491, $P$2,$O$2,,$M$2,$N$2)","v":""},{"$f":" RTD(\"cqg.rtd\",,\"StudyData\", $L$2, \"FG\", \"\", \"Low\", $K$2, $A491, $P$2,$O$2,,$M$2,$N$2)","v":""},{"$f":" RTD(\"cqg.rtd\",,\"StudyData\", $L$2, \"FG\", \"\", \"Close\", $K$2, $A491, $P$2,$O$2,,$M$2,$N$2)","v":""}]
[-490,{"$f":" RTD(\"cqg.rtd\",,\"StudyData\", $L$2, \"FG\", \"\", \"Time\", $K$2,$A492, $P$2, \"\", \"\",\"False\")","v":""},{"$f":" RTD(\"cqg.rtd\",,\"StudyData\", $L$2, \"FG\", \"\", \"Time\", $K$2, $A492,$P$2,$O$2, \"\",\"False\")","v":""},{"$f":" RTD(\"cqg.rtd\",,\"StudyData\", $L$2, \"FG\", \"\", \"Open\", $K$2, $A492, $P$2,$O$2,,$M$2,$N$2)","v":""},{"$f":" RTD(\"cqg.rtd\",,\"StudyData\", $L$2, \"FG\", \"\", \"High\", $K$2, $A492, $P$2,$O$2,,$M$2,$N$2)","v":""},{"$f":" RTD(\"cqg.rtd\",,\"StudyData\", $L$2, \"FG\", \"\", \"Low\", $K$2, $A492, $P$2,$O$2,,$M$2,$N$2)","v":""},{"$f":" RTD(\"cqg.rtd\",,\"StudyData\", $L$2, \"FG\", \"\", \"Close\", $K$2, $A492, $P$2,$O$2,,$M$2,$N$2)","v":""}]
[-491,{"$f":" RTD(\"cqg.rtd\",,\"StudyData\", $L$2, \"FG\", \"\", \"Time\", $K$2,$A493, $P$2, \"\", \"\",\"False\")","v":""},{"$f":" RTD(\"cqg.rtd\",,\"StudyData\", $L$2, \"FG\", \"\", \"Time\", $K$2, $A493,$P$2,$O$2, \"\",\"False\")","v":""},{"$f":" RTD(\"cqg.rtd\",,\"StudyData\", $L$2, \"FG\", \"\", \"Open\", $K$2, $A493, $P$2,$O$2,,$M$2,$N$2)","v":""},{"$f":" RTD(\"cqg.rtd\",,\"StudyData\", $L$2, \"FG\", \"\", \"High\", $K$2, $A493, $P$2,$O$2,,$M$2,$N$2)","v":""},{"$f":" RTD(\"cqg.rtd\",,\"StudyData\", $L$2, \"FG\", \"\", \"Low\", $K$2, $A493, $P$2,$O$2,,$M$2,$N$2)","v":""},{"$f":" RTD(\"cqg.rtd\",,\"StudyData\", $L$2, \"FG\", \"\", \"Close\", $K$2, $A493, $P$2,$O$2,,$M$2,$N$2)","v":""}]
[-492,{"$f":" RTD(\"cqg.rtd\",,\"StudyData\", $L$2, \"FG\", \"\", \"Time\", $K$2,$A494, $P$2, \"\", \"\",\"False\")","v":""},{"$f":" RTD(\"cqg.rtd\",,\"StudyData\", $L$2, \"FG\", \"\", \"Time\", $K$2, $A494,$P$2,$O$2, \"\",\"False\")","v":""},{"$f":" RTD(\"cqg.rtd\",,\"StudyData\", $L$2, \"FG\", \"\", \"Open\", $K$2, $A494, $P$2,$O$2,,$M$2,$N$2)","v":""},{"$f":" RTD(\"cqg.rtd\",,\"StudyData\", $L$2, \"FG\", \"\", \"High\", $K$2, $A494, $P$2,$O$2,,$M$2,$N$2)","v":""},{"$f":" RTD(\"cqg.rtd\",,\"StudyData\", $L$2, \"FG\", \"\", \"Low\", $K$2, $A494, $P$2,$O$2,,$M$2,$N$2)","v":""},{"$f":" RTD(\"cqg.rtd\",,\"StudyData\", $L$2, \"FG\", \"\", \"Close\", $K$2, $A494, $P$2,$O$2,,$M$2,$N$2)","v":""}]
[-493,{"$f":" RTD(\"cqg.rtd\",,\"StudyData\", $L$2, \"FG\", \"\", \"Time\", $K$2,$A495, $P$2, \"\", \"\",\"False\")","v":""},{"$f":" RTD(\"cqg.rtd\",,\"StudyData\", $L$2, \"FG\", \"\", \"Time\", $K$2, $A495,$P$2,$O$2, \"\",\"False\")","v":""},{"$f":" RTD(\"cqg.rtd\",,\"StudyData\", $L$2, \"FG\", \"\", \"Open\", $K$2, $A495, $P$2,$O$2,,$M$2,$N$2)","v":""},{"$f":" RTD(\"cqg.rtd\",,\"StudyData\", $L$2, \"FG\", \"\", \"High\", $K$2, $A495, $P$2,$O$2,,$M$2,$N$2)","v":""},{"$f":" RTD(\"cqg.rtd\",,\"StudyData\", $L$2, \"FG\", \"\", \"Low\", $K$2, $A495, $P$2,$O$2,,$M$2,$N$2)","v":""},{"$f":" RTD(\"cqg.rtd\",,\"StudyData\", $L$2, \"FG\", \"\", \"Close\", $K$2, $A495, $P$2,$O$2,,$M$2,$N$2)","v":""}]
[-494,{"$f":" RTD(\"cqg.rtd\",,\"StudyData\", $L$2, \"FG\", \"\", \"Time\", $K$2,$A496, $P$2, \"\", \"\",\"False\")","v":""},{"$f":" RTD(\"cqg.rtd\",,\"StudyData\", $L$2, \"FG\", \"\", \"Time\", $K$2, $A496,$P$2,$O$2, \"\",\"False\")","v":""},{"$f":" RTD(\"cqg.rtd\",,\"StudyData\", $L$2, \"FG\", \"\", \"Open\", $K$2, $A496, $P$2,$O$2,,$M$2,$N$2)","v":""},{"$f":" RTD(\"cqg.rtd\",,\"StudyData\", $L$2, \"FG\", \"\", \"High\", $K$2, $A496, $P$2,$O$2,,$M$2,$N$2)","v":""},{"$f":" RTD(\"cqg.rtd\",,\"StudyData\", $L$2, \"FG\", \"\", \"Low\", $K$2, $A496, $P$2,$O$2,,$M$2,$N$2)","v":""},{"$f":" RTD(\"cqg.rtd\",,\"StudyData\", $L$2, \"FG\", \"\", \"Close\", $K$2, $A496, $P$2,$O$2,,$M$2,$N$2)","v":""}]
[-495,{"$f":" RTD(\"cqg.rtd\",,\"StudyData\", $L$2, \"FG\", \"\", \"Time\", $K$2,$A497, $P$2, \"\", \"\",\"False\")","v":""},{"$f":" RTD(\"cqg.rtd\",,\"StudyData\", $L$2, \"FG\", \"\", \"Time\", $K$2, $A497,$P$2,$O$2, \"\",\"False\")","v":""},{"$f":" RTD(\"cqg.rtd\",,\"StudyData\", $L$2, \"FG\", \"\", \"Open\", $K$2, $A497, $P$2,$O$2,,$M$2,$N$2)","v":""},{"$f":" RTD(\"cqg.rtd\",,\"StudyData\", $L$2, \"FG\", \"\", \"High\", $K$2, $A497, $P$2,$O$2,,$M$2,$N$2)","v":""},{"$f":" RTD(\"cqg.rtd\",,\"StudyData\", $L$2, \"FG\", \"\", \"Low\", $K$2, $A497, $P$2,$O$2,,$M$2,$N$2)","v":""},{"$f":" RTD(\"cqg.rtd\",,\"StudyData\", $L$2, \"FG\", \"\", \"Close\", $K$2, $A497, $P$2,$O$2,,$M$2,$N$2)","v":""}]
[-496,{"$f":" RTD(\"cqg.rtd\",,\"StudyData\", $L$2, \"FG\", \"\", \"Time\", $K$2,$A498, $P$2, \"\", \"\",\"False\")","v":""},{"$f":" RTD(\"cqg.rtd\",,\"StudyData\", $L$2, \"FG\", \"\", \"Time\", $K$2, $A498,$P$2,$O$2, \"\",\"False\")","v":""},{"$f":" RTD(\"cqg.rtd\",,\"StudyData\", $L$2, \"FG\", \"\", \"Open\", $K$2, $A498, $P$2,$O$2,,$M$2,$N$2)","v":""},{"$f":" RTD(\"cqg.rtd\",,\"StudyData\", $L$2, \"FG\", \"\", \"High\", $K$2, $A498, $P$2,$O$2,,$M$2,$N$2)","v":""},{"$f":" RTD(\"cqg.rtd\",,\"StudyData\", $L$2, \"FG\", \"\", \"Low\", $K$2, $A498, $P$2,$O$2,,$M$2,$N$2)","v":""},{"$f":" RTD(\"cqg.rtd\",,\"StudyData\", $L$2, \"FG\", \"\", \"Close\", $K$2, $A498, $P$2,$O$2,,$M$2,$N$2)","v":""}]
[-497,{"$f":" RTD(\"cqg.rtd\",,\"StudyData\", $L$2, \"FG\", \"\", \"Time\", $K$2,$A499, $P$2, \"\", \"\",\"False\")","v":""},{"$f":" RTD(\"cqg.rtd\",,\"StudyData\", $L$2, \"FG\", \"\", \"Time\", $K$2, $A499,$P$2,$O$2, \"\",\"False\")","v":""},{"$f":" RTD(\"cqg.rtd\",,\"StudyData\", $L$2, \"FG\", \"\", \"Open\", $K$2, $A499, $P$2,$O$2,,$M$2,$N$2)","v":""},{"$f":" RTD(\"cqg.rtd\",,\"StudyData\", $L$2, \"FG\", \"\", \"High\", $K$2, $A499, $P$2,$O$2,,$M$2,$N$2)","v":""},{"$f":" RTD(\"cqg.rtd\",,\"StudyData\", $L$2, \"FG\", \"\", \"Low\", $K$2, $A499, $P$2,$O$2,,$M$2,$N$2)","v":""},{"$f":" RTD(\"cqg.rtd\",,\"StudyData\", $L$2, \"FG\", \"\", \"Close\", $K$2, $A499, $P$2,$O$2,,$M$2,$N$2)","v":""}]
[-498,{"$f":" RTD(\"cqg.rtd\",,\"StudyData\", $L$2, \"FG\", \"\", \"Time\", $K$2,$A500, $P$2, \"\", \"\",\"False\")","v":""},{"$f":" RTD(\"cqg.rtd\",,\"StudyData\", $L$2, \"FG\", \"\", \"Time\", $K$2, $A500,$P$2,$O$2, \"\",\"False\")","v":""},{"$f":" RTD(\"cqg.rtd\",,\"StudyData\", $L$2, \"FG\", \"\", \"Open\", $K$2, $A500, $P$2,$O$2,,$M$2,$N$2)","v":""},{"$f":" RTD(\"cqg.rtd\",,\"StudyData\", $L$2, \"FG\", \"\", \"High\", $K$2, $A500, $P$2,$O$2,,$M$2,$N$2)","v":""},{"$f":" RTD(\"cqg.rtd\",,\"StudyData\", $L$2, \"FG\", \"\", \"Low\", $K$2, $A500, $P$2,$O$2,,$M$2,$N$2)","v":""},{"$f":" RTD(\"cqg.rtd\",,\"StudyData\", $L$2, \"FG\", \"\", \"Close\", $K$2, $A500, $P$2,$O$2,,$M$2,$N$2)","v":""}]
[-499,{"$f":" RTD(\"cqg.rtd\",,\"StudyData\", $L$2, \"FG\", \"\", \"Time\", $K$2,$A501, $P$2, \"\", \"\",\"False\")","v":""},{"$f":" RTD(\"cqg.rtd\",,\"StudyData\", $L$2, \"FG\", \"\", \"Time\", $K$2, $A501,$P$2,$O$2, \"\",\"False\")","v":""},{"$f":" RTD(\"cqg.rtd\",,\"StudyData\", $L$2, \"FG\", \"\", \"Open\", $K$2, $A501, $P$2,$O$2,,$M$2,$N$2)","v":""},{"$f":" RTD(\"cqg.rtd\",,\"StudyData\", $L$2, \"FG\", \"\", \"High\", $K$2, $A501, $P$2,$O$2,,$M$2,$N$2)","v":""},{"$f":" RTD(\"cqg.rtd\",,\"StudyData\", $L$2, \"FG\", \"\", \"Low\", $K$2, $A501, $P$2,$O$2,,$M$2,$N$2)","v":""},{"$f":" RTD(\"cqg.rtd\",,\"StudyData\", $L$2, \"FG\", \"\", \"Close\", $K$2, $A501, $P$2,$O$2,,$M$2,$N$2)","v":""}]
[-500,{"$f":" RTD(\"cqg.rtd\",,\"StudyData\", $L$2, \"FG\", \"\", \"Time\", $K$2,$A502, $P$2, \"\", \"\",\"False\")","v":""},{"$f":" RTD(\"cqg.rtd\",,\"StudyData\", $L$2, \"FG\", \"\", \"Time\", $K$2, $A502,$P$2,$O$2, \"\",\"False\")","v":""},{"$f":" RTD(\"cqg.rtd\",,\"StudyData\", $L$2, \"FG\", \"\", \"Open\", $K$2, $A502, $P$2,$O$2,,$M$2,$N$2)","v":""},{"$f":" RTD(\"cqg.rtd\",,\"StudyData\", $L$2, \"FG\", \"\", \"High\", $K$2, $A502, $P$2,$O$2,,$M$2,$N$2)","v":""},{"$f":" RTD(\"cqg.rtd\",,\"StudyData\", $L$2, \"FG\", \"\", \"Low\", $K$2, $A502, $P$2,$O$2,,$M$2,$N$2)","v":""},{"$f":" RTD(\"cqg.rtd\",,\"StudyData\", $L$2, \"FG\", \"\", \"Close\", $K$2, $A502, $P$2,$O$2,,$M$2,$N$2)","v":""}]
[-501,{"$f":" RTD(\"cqg.rtd\",,\"StudyData\", $L$2, \"FG\", \"\", \"Time\", $K$2,$A503, $P$2, \"\", \"\",\"False\")","v":""},{"$f":" RTD(\"cqg.rtd\",,\"StudyData\", $L$2, \"FG\", \"\", \"Time\", $K$2, $A503,$P$2,$O$2, \"\",\"False\")","v":""},{"$f":" RTD(\"cqg.rtd\",,\"StudyData\", $L$2, \"FG\", \"\", \"Open\", $K$2, $A503, $P$2,$O$2,,$M$2,$N$2)","v":""},{"$f":" RTD(\"cqg.rtd\",,\"StudyData\", $L$2, \"FG\", \"\", \"High\", $K$2, $A503, $P$2,$O$2,,$M$2,$N$2)","v":""},{"$f":" RTD(\"cqg.rtd\",,\"StudyData\", $L$2, \"FG\", \"\", \"Low\", $K$2, $A503, $P$2,$O$2,,$M$2,$N$2)","v":""},{"$f":" RTD(\"cqg.rtd\",,\"StudyData\", $L$2, \"FG\", \"\", \"Close\", $K$2, $A503, $P$2,$O$2,,$M$2,$N$2)","v":""}]
[-502,{"$f":" RTD(\"cqg.rtd\",,\"StudyData\", $L$2, \"FG\", \"\", \"Time\", $K$2,$A504, $P$2, \"\", \"\",\"False\")","v":""},{"$f":" RTD(\"cqg.rtd\",,\"StudyData\", $L$2, \"FG\", \"\", \"Time\", $K$2, $A504,$P$2,$O$2, \"\",\"False\")","v":""},{"$f":" RTD(\"cqg.rtd\",,\"StudyData\", $L$2, \"FG\", \"\", \"Open\", $K$2, $A504, $P$2,$O$2,,$M$2,$N$2)","v":""},{"$f":" RTD(\"cqg.rtd\",,\"StudyData\", $L$2, \"FG\", \"\", \"High\", $K$2, $A504, $P$2,$O$2,,$M$2,$N$2)","v":""},{"$f":" RTD(\"cqg.rtd\",,\"StudyData\", $L$2, \"FG\", \"\", \"Low\", $K$2, $A504, $P$2,$O$2,,$M$2,$N$2)","v":""},{"$f":" RTD(\"cqg.rtd\",,\"StudyData\", $L$2, \"FG\", \"\", \"Close\", $K$2, $A504, $P$2,$O$2,,$M$2,$N$2)","v":""}]
[-503,{"$f":" RTD(\"cqg.rtd\",,\"StudyData\", $L$2, \"FG\", \"\", \"Time\", $K$2,$A505, $P$2, \"\", \"\",\"False\")","v":""},{"$f":" RTD(\"cqg.rtd\",,\"StudyData\", $L$2, \"FG\", \"\", \"Time\", $K$2, $A505,$P$2,$O$2, \"\",\"False\")","v":""},{"$f":" RTD(\"cqg.rtd\",,\"StudyData\", $L$2, \"FG\", \"\", \"Open\", $K$2, $A505, $P$2,$O$2,,$M$2,$N$2)","v":""},{"$f":" RTD(\"cqg.rtd\",,\"StudyData\", $L$2, \"FG\", \"\", \"High\", $K$2, $A505, $P$2,$O$2,,$M$2,$N$2)","v":""},{"$f":" RTD(\"cqg.rtd\",,\"StudyData\", $L$2, \"FG\", \"\", \"Low\", $K$2, $A505, $P$2,$O$2,,$M$2,$N$2)","v":""},{"$f":" RTD(\"cqg.rtd\",,\"StudyData\", $L$2, \"FG\", \"\", \"Close\", $K$2, $A505, $P$2,$O$2,,$M$2,$N$2)","v":""}]
[-504,{"$f":" RTD(\"cqg.rtd\",,\"StudyData\", $L$2, \"FG\", \"\", \"Time\", $K$2,$A506, $P$2, \"\", \"\",\"False\")","v":""},{"$f":" RTD(\"cqg.rtd\",,\"StudyData\", $L$2, \"FG\", \"\", \"Time\", $K$2, $A506,$P$2,$O$2, \"\",\"False\")","v":""},{"$f":" RTD(\"cqg.rtd\",,\"StudyData\", $L$2, \"FG\", \"\", \"Open\", $K$2, $A506, $P$2,$O$2,,$M$2,$N$2)","v":""},{"$f":" RTD(\"cqg.rtd\",,\"StudyData\", $L$2, \"FG\", \"\", \"High\", $K$2, $A506, $P$2,$O$2,,$M$2,$N$2)","v":""},{"$f":" RTD(\"cqg.rtd\",,\"StudyData\", $L$2, \"FG\", \"\", \"Low\", $K$2, $A506, $P$2,$O$2,,$M$2,$N$2)","v":""},{"$f":" RTD(\"cqg.rtd\",,\"StudyData\", $L$2, \"FG\", \"\", \"Close\", $K$2, $A506, $P$2,$O$2,,$M$2,$N$2)","v":""}]
[-505,{"$f":" RTD(\"cqg.rtd\",,\"StudyData\", $L$2, \"FG\", \"\", \"Time\", $K$2,$A507, $P$2, \"\", \"\",\"False\")","v":""},{"$f":" RTD(\"cqg.rtd\",,\"StudyData\", $L$2, \"FG\", \"\", \"Time\", $K$2, $A507,$P$2,$O$2, \"\",\"False\")","v":""},{"$f":" RTD(\"cqg.rtd\",,\"StudyData\", $L$2, \"FG\", \"\", \"Open\", $K$2, $A507, $P$2,$O$2,,$M$2,$N$2)","v":""},{"$f":" RTD(\"cqg.rtd\",,\"StudyData\", $L$2, \"FG\", \"\", \"High\", $K$2, $A507, $P$2,$O$2,,$M$2,$N$2)","v":""},{"$f":" RTD(\"cqg.rtd\",,\"StudyData\", $L$2, \"FG\", \"\", \"Low\", $K$2, $A507, $P$2,$O$2,,$M$2,$N$2)","v":""},{"$f":" RTD(\"cqg.rtd\",,\"StudyData\", $L$2, \"FG\", \"\", \"Close\", $K$2, $A507, $P$2,$O$2,,$M$2,$N$2)","v":""}]
[-506,{"$f":" RTD(\"cqg.rtd\",,\"StudyData\", $L$2, \"FG\", \"\", \"Time\", $K$2,$A508, $P$2, \"\", \"\",\"False\")","v":""},{"$f":" RTD(\"cqg.rtd\",,\"StudyData\", $L$2, \"FG\", \"\", \"Time\", $K$2, $A508,$P$2,$O$2, \"\",\"False\")","v":""},{"$f":" RTD(\"cqg.rtd\",,\"StudyData\", $L$2, \"FG\", \"\", \"Open\", $K$2, $A508, $P$2,$O$2,,$M$2,$N$2)","v":""},{"$f":" RTD(\"cqg.rtd\",,\"StudyData\", $L$2, \"FG\", \"\", \"High\", $K$2, $A508, $P$2,$O$2,,$M$2,$N$2)","v":""},{"$f":" RTD(\"cqg.rtd\",,\"StudyData\", $L$2, \"FG\", \"\", \"Low\", $K$2, $A508, $P$2,$O$2,,$M$2,$N$2)","v":""},{"$f":" RTD(\"cqg.rtd\",,\"StudyData\", $L$2, \"FG\", \"\", \"Close\", $K$2, $A508, $P$2,$O$2,,$M$2,$N$2)","v":""}]
[-507,{"$f":" RTD(\"cqg.rtd\",,\"StudyData\", $L$2, \"FG\", \"\", \"Time\", $K$2,$A509, $P$2, \"\", \"\",\"False\")","v":""},{"$f":" RTD(\"cqg.rtd\",,\"StudyData\", $L$2, \"FG\", \"\", \"Time\", $K$2, $A509,$P$2,$O$2, \"\",\"False\")","v":""},{"$f":" RTD(\"cqg.rtd\",,\"StudyData\", $L$2, \"FG\", \"\", \"Open\", $K$2, $A509, $P$2,$O$2,,$M$2,$N$2)","v":""},{"$f":" RTD(\"cqg.rtd\",,\"StudyData\", $L$2, \"FG\", \"\", \"High\", $K$2, $A509, $P$2,$O$2,,$M$2,$N$2)","v":""},{"$f":" RTD(\"cqg.rtd\",,\"StudyData\", $L$2, \"FG\", \"\", \"Low\", $K$2, $A509, $P$2,$O$2,,$M$2,$N$2)","v":""},{"$f":" RTD(\"cqg.rtd\",,\"StudyData\", $L$2, \"FG\", \"\", \"Close\", $K$2, $A509, $P$2,$O$2,,$M$2,$N$2)","v":""}]
[-508,{"$f":" RTD(\"cqg.rtd\",,\"StudyData\", $L$2, \"FG\", \"\", \"Time\", $K$2,$A510, $P$2, \"\", \"\",\"False\")","v":""},{"$f":" RTD(\"cqg.rtd\",,\"StudyData\", $L$2, \"FG\", \"\", \"Time\", $K$2, $A510,$P$2,$O$2, \"\",\"False\")","v":""},{"$f":" RTD(\"cqg.rtd\",,\"StudyData\", $L$2, \"FG\", \"\", \"Open\", $K$2, $A510, $P$2,$O$2,,$M$2,$N$2)","v":""},{"$f":" RTD(\"cqg.rtd\",,\"StudyData\", $L$2, \"FG\", \"\", \"High\", $K$2, $A510, $P$2,$O$2,,$M$2,$N$2)","v":""},{"$f":" RTD(\"cqg.rtd\",,\"StudyData\", $L$2, \"FG\", \"\", \"Low\", $K$2, $A510, $P$2,$O$2,,$M$2,$N$2)","v":""},{"$f":" RTD(\"cqg.rtd\",,\"StudyData\", $L$2, \"FG\", \"\", \"Close\", $K$2, $A510, $P$2,$O$2,,$M$2,$N$2)","v":""}]
[-509,{"$f":" RTD(\"cqg.rtd\",,\"StudyData\", $L$2, \"FG\", \"\", \"Time\", $K$2,$A511, $P$2, \"\", \"\",\"False\")","v":""},{"$f":" RTD(\"cqg.rtd\",,\"StudyData\", $L$2, \"FG\", \"\", \"Time\", $K$2, $A511,$P$2,$O$2, \"\",\"False\")","v":""},{"$f":" RTD(\"cqg.rtd\",,\"StudyData\", $L$2, \"FG\", \"\", \"Open\", $K$2, $A511, $P$2,$O$2,,$M$2,$N$2)","v":""},{"$f":" RTD(\"cqg.rtd\",,\"StudyData\", $L$2, \"FG\", \"\", \"High\", $K$2, $A511, $P$2,$O$2,,$M$2,$N$2)","v":""},{"$f":" RTD(\"cqg.rtd\",,\"StudyData\", $L$2, \"FG\", \"\", \"Low\", $K$2, $A511, $P$2,$O$2,,$M$2,$N$2)","v":""},{"$f":" RTD(\"cqg.rtd\",,\"StudyData\", $L$2, \"FG\", \"\", \"Close\", $K$2, $A511, $P$2,$O$2,,$M$2,$N$2)","v":""}]
[-510,{"$f":" RTD(\"cqg.rtd\",,\"StudyData\", $L$2, \"FG\", \"\", \"Time\", $K$2,$A512, $P$2, \"\", \"\",\"False\")","v":""},{"$f":" RTD(\"cqg.rtd\",,\"StudyData\", $L$2, \"FG\", \"\", \"Time\", $K$2, $A512,$P$2,$O$2, \"\",\"False\")","v":""},{"$f":" RTD(\"cqg.rtd\",,\"StudyData\", $L$2, \"FG\", \"\", \"Open\", $K$2, $A512, $P$2,$O$2,,$M$2,$N$2)","v":""},{"$f":" RTD(\"cqg.rtd\",,\"StudyData\", $L$2, \"FG\", \"\", \"High\", $K$2, $A512, $P$2,$O$2,,$M$2,$N$2)","v":""},{"$f":" RTD(\"cqg.rtd\",,\"StudyData\", $L$2, \"FG\", \"\", \"Low\", $K$2, $A512, $P$2,$O$2,,$M$2,$N$2)","v":""},{"$f":" RTD(\"cqg.rtd\",,\"StudyData\", $L$2, \"FG\", \"\", \"Close\", $K$2, $A512, $P$2,$O$2,,$M$2,$N$2)","v":""}]
[-511,{"$f":" RTD(\"cqg.rtd\",,\"StudyData\", $L$2, \"FG\", \"\", \"Time\", $K$2,$A513, $P$2, \"\", \"\",\"False\")","v":""},{"$f":" RTD(\"cqg.rtd\",,\"StudyData\", $L$2, \"FG\", \"\", \"Time\", $K$2, $A513,$P$2,$O$2, \"\",\"False\")","v":""},{"$f":" RTD(\"cqg.rtd\",,\"StudyData\", $L$2, \"FG\", \"\", \"Open\", $K$2, $A513, $P$2,$O$2,,$M$2,$N$2)","v":""},{"$f":" RTD(\"cqg.rtd\",,\"StudyData\", $L$2, \"FG\", \"\", \"High\", $K$2, $A513, $P$2,$O$2,,$M$2,$N$2)","v":""},{"$f":" RTD(\"cqg.rtd\",,\"StudyData\", $L$2, \"FG\", \"\", \"Low\", $K$2, $A513, $P$2,$O$2,,$M$2,$N$2)","v":""},{"$f":" RTD(\"cqg.rtd\",,\"StudyData\", $L$2, \"FG\", \"\", \"Close\", $K$2, $A513, $P$2,$O$2,,$M$2,$N$2)","v":""}]
[-512,{"$f":" RTD(\"cqg.rtd\",,\"StudyData\", $L$2, \"FG\", \"\", \"Time\", $K$2,$A514, $P$2, \"\", \"\",\"False\")","v":""},{"$f":" RTD(\"cqg.rtd\",,\"StudyData\", $L$2, \"FG\", \"\", \"Time\", $K$2, $A514,$P$2,$O$2, \"\",\"False\")","v":""},{"$f":" RTD(\"cqg.rtd\",,\"StudyData\", $L$2, \"FG\", \"\", \"Open\", $K$2, $A514, $P$2,$O$2,,$M$2,$N$2)","v":""},{"$f":" RTD(\"cqg.rtd\",,\"StudyData\", $L$2, \"FG\", \"\", \"High\", $K$2, $A514, $P$2,$O$2,,$M$2,$N$2)","v":""},{"$f":" RTD(\"cqg.rtd\",,\"StudyData\", $L$2, \"FG\", \"\", \"Low\", $K$2, $A514, $P$2,$O$2,,$M$2,$N$2)","v":""},{"$f":" RTD(\"cqg.rtd\",,\"StudyData\", $L$2, \"FG\", \"\", \"Close\", $K$2, $A514, $P$2,$O$2,,$M$2,$N$2)","v":""}]
[-513,{"$f":" RTD(\"cqg.rtd\",,\"StudyData\", $L$2, \"FG\", \"\", \"Time\", $K$2,$A515, $P$2, \"\", \"\",\"False\")","v":""},{"$f":" RTD(\"cqg.rtd\",,\"StudyData\", $L$2, \"FG\", \"\", \"Time\", $K$2, $A515,$P$2,$O$2, \"\",\"False\")","v":""},{"$f":" RTD(\"cqg.rtd\",,\"StudyData\", $L$2, \"FG\", \"\", \"Open\", $K$2, $A515, $P$2,$O$2,,$M$2,$N$2)","v":""},{"$f":" RTD(\"cqg.rtd\",,\"StudyData\", $L$2, \"FG\", \"\", \"High\", $K$2, $A515, $P$2,$O$2,,$M$2,$N$2)","v":""},{"$f":" RTD(\"cqg.rtd\",,\"StudyData\", $L$2, \"FG\", \"\", \"Low\", $K$2, $A515, $P$2,$O$2,,$M$2,$N$2)","v":""},{"$f":" RTD(\"cqg.rtd\",,\"StudyData\", $L$2, \"FG\", \"\", \"Close\", $K$2, $A515, $P$2,$O$2,,$M$2,$N$2)","v":""}]
[{"$f":"A515-1","v":-514},{"$f":" RTD(\"cqg.rtd\",,\"StudyData\", $L$2, \"FG\", \"\", \"Time\", $K$2,$A516, $P$2, \"\", \"\",\"False\")","v":""},{"$f":" RTD(\"cqg.rtd\",,\"StudyData\", $L$2, \"FG\", \"\", \"Time\", $K$2, $A516,$P$2,$O$2, \"\",\"False\")","v":""},{"$f":" RTD(\"cqg.rtd\",,\"StudyData\", $L$2, \"FG\", \"\", \"Open\", $K$2, $A516, $P$2,$O$2,,$M$2,$N$2)","v":""},{"$f":" RTD(\"cqg.rtd\",,\"StudyData\", $L$2, \"FG\", \"\", \"High\", $K$2, $A516, $P$2,$O$2,,$M$2,$N$2)","v":""},{"$f":" RTD(\"cqg.rtd\",,\"StudyData\", $L$2, \"FG\", \"\", \"Low\", $K$2, $A516, $P$2,$O$2,,$M$2,$N$2)","v":""},{"$f":" RTD(\"cqg.rtd\",,\"StudyData\", $L$2, \"FG\", \"\", \"Close\", $K$2, $A516, $P$2,$O$2,,$M$2,$N$2)","v":""}]
[-515,{"$f":" RTD(\"cqg.rtd\",,\"StudyData\", $L$2, \"FG\", \"\", \"Time\", $K$2,$A517, $P$2, \"\", \"\",\"False\")","v":""},{"$f":" RTD(\"cqg.rtd\",,\"StudyData\", $L$2, \"FG\", \"\", \"Time\", $K$2, $A517,$P$2,$O$2, \"\",\"False\")","v":""},{"$f":" RTD(\"cqg.rtd\",,\"StudyData\", $L$2, \"FG\", \"\", \"Open\", $K$2, $A517, $P$2,$O$2,,$M$2,$N$2)","v":""},{"$f":" RTD(\"cqg.rtd\",,\"StudyData\", $L$2, \"FG\", \"\", \"High\", $K$2, $A517, $P$2,$O$2,,$M$2,$N$2)","v":""},{"$f":" RTD(\"cqg.rtd\",,\"StudyData\", $L$2, \"FG\", \"\", \"Low\", $K$2, $A517, $P$2,$O$2,,$M$2,$N$2)","v":""},{"$f":" RTD(\"cqg.rtd\",,\"StudyData\", $L$2, \"FG\", \"\", \"Close\", $K$2, $A517, $P$2,$O$2,,$M$2,$N$2)","v":""}]
[-516,{"$f":" RTD(\"cqg.rtd\",,\"StudyData\", $L$2, \"FG\", \"\", \"Time\", $K$2,$A518, $P$2, \"\", \"\",\"False\")","v":""},{"$f":" RTD(\"cqg.rtd\",,\"StudyData\", $L$2, \"FG\", \"\", \"Time\", $K$2, $A518,$P$2,$O$2, \"\",\"False\")","v":""},{"$f":" RTD(\"cqg.rtd\",,\"StudyData\", $L$2, \"FG\", \"\", \"Open\", $K$2, $A518, $P$2,$O$2,,$M$2,$N$2)","v":""},{"$f":" RTD(\"cqg.rtd\",,\"StudyData\", $L$2, \"FG\", \"\", \"High\", $K$2, $A518, $P$2,$O$2,,$M$2,$N$2)","v":""},{"$f":" RTD(\"cqg.rtd\",,\"StudyData\", $L$2, \"FG\", \"\", \"Low\", $K$2, $A518, $P$2,$O$2,,$M$2,$N$2)","v":""},{"$f":" RTD(\"cqg.rtd\",,\"StudyData\", $L$2, \"FG\", \"\", \"Close\", $K$2, $A518, $P$2,$O$2,,$M$2,$N$2)","v":""}]
[-517,{"$f":" RTD(\"cqg.rtd\",,\"StudyData\", $L$2, \"FG\", \"\", \"Time\", $K$2,$A519, $P$2, \"\", \"\",\"False\")","v":""},{"$f":" RTD(\"cqg.rtd\",,\"StudyData\", $L$2, \"FG\", \"\", \"Time\", $K$2, $A519,$P$2,$O$2, \"\",\"False\")","v":""},{"$f":" RTD(\"cqg.rtd\",,\"StudyData\", $L$2, \"FG\", \"\", \"Open\", $K$2, $A519, $P$2,$O$2,,$M$2,$N$2)","v":""},{"$f":" RTD(\"cqg.rtd\",,\"StudyData\", $L$2, \"FG\", \"\", \"High\", $K$2, $A519, $P$2,$O$2,,$M$2,$N$2)","v":""},{"$f":" RTD(\"cqg.rtd\",,\"StudyData\", $L$2, \"FG\", \"\", \"Low\", $K$2, $A519, $P$2,$O$2,,$M$2,$N$2)","v":""},{"$f":" RTD(\"cqg.rtd\",,\"StudyData\", $L$2, \"FG\", \"\", \"Close\", $K$2, $A519, $P$2,$O$2,,$M$2,$N$2)","v":""}]
[-518,{"$f":" RTD(\"cqg.rtd\",,\"StudyData\", $L$2, \"FG\", \"\", \"Time\", $K$2,$A520, $P$2, \"\", \"\",\"False\")","v":""},{"$f":" RTD(\"cqg.rtd\",,\"StudyData\", $L$2, \"FG\", \"\", \"Time\", $K$2, $A520,$P$2,$O$2, \"\",\"False\")","v":""},{"$f":" RTD(\"cqg.rtd\",,\"StudyData\", $L$2, \"FG\", \"\", \"Open\", $K$2, $A520, $P$2,$O$2,,$M$2,$N$2)","v":""},{"$f":" RTD(\"cqg.rtd\",,\"StudyData\", $L$2, \"FG\", \"\", \"High\", $K$2, $A520, $P$2,$O$2,,$M$2,$N$2)","v":""},{"$f":" RTD(\"cqg.rtd\",,\"StudyData\", $L$2, \"FG\", \"\", \"Low\", $K$2, $A520, $P$2,$O$2,,$M$2,$N$2)","v":""},{"$f":" RTD(\"cqg.rtd\",,\"StudyData\", $L$2, \"FG\", \"\", \"Close\", $K$2, $A520, $P$2,$O$2,,$M$2,$N$2)","v":""}]
[-519,{"$f":" RTD(\"cqg.rtd\",,\"StudyData\", $L$2, \"FG\", \"\", \"Time\", $K$2,$A521, $P$2, \"\", \"\",\"False\")","v":""},{"$f":" RTD(\"cqg.rtd\",,\"StudyData\", $L$2, \"FG\", \"\", \"Time\", $K$2, $A521,$P$2,$O$2, \"\",\"False\")","v":""},{"$f":" RTD(\"cqg.rtd\",,\"StudyData\", $L$2, \"FG\", \"\", \"Open\", $K$2, $A521, $P$2,$O$2,,$M$2,$N$2)","v":""},{"$f":" RTD(\"cqg.rtd\",,\"StudyData\", $L$2, \"FG\", \"\", \"High\", $K$2, $A521, $P$2,$O$2,,$M$2,$N$2)","v":""},{"$f":" RTD(\"cqg.rtd\",,\"StudyData\", $L$2, \"FG\", \"\", \"Low\", $K$2, $A521, $P$2,$O$2,,$M$2,$N$2)","v":""},{"$f":" RTD(\"cqg.rtd\",,\"StudyData\", $L$2, \"FG\", \"\", \"Close\", $K$2, $A521, $P$2,$O$2,,$M$2,$N$2)","v":""}]
[-520,{"$f":" RTD(\"cqg.rtd\",,\"StudyData\", $L$2, \"FG\", \"\", \"Time\", $K$2,$A522, $P$2, \"\", \"\",\"False\")","v":""},{"$f":" RTD(\"cqg.rtd\",,\"StudyData\", $L$2, \"FG\", \"\", \"Time\", $K$2, $A522,$P$2,$O$2, \"\",\"False\")","v":""},{"$f":" RTD(\"cqg.rtd\",,\"StudyData\", $L$2, \"FG\", \"\", \"Open\", $K$2, $A522, $P$2,$O$2,,$M$2,$N$2)","v":""},{"$f":" RTD(\"cqg.rtd\",,\"StudyData\", $L$2, \"FG\", \"\", \"High\", $K$2, $A522, $P$2,$O$2,,$M$2,$N$2)","v":""},{"$f":" RTD(\"cqg.rtd\",,\"StudyData\", $L$2, \"FG\", \"\", \"Low\", $K$2, $A522, $P$2,$O$2,,$M$2,$N$2)","v":""},{"$f":" RTD(\"cqg.rtd\",,\"StudyData\", $L$2, \"FG\", \"\", \"Close\", $K$2, $A522, $P$2,$O$2,,$M$2,$N$2)","v":""}]
[-521,{"$f":" RTD(\"cqg.rtd\",,\"StudyData\", $L$2, \"FG\", \"\", \"Time\", $K$2,$A523, $P$2, \"\", \"\",\"False\")","v":""},{"$f":" RTD(\"cqg.rtd\",,\"StudyData\", $L$2, \"FG\", \"\", \"Time\", $K$2, $A523,$P$2,$O$2, \"\",\"False\")","v":""},{"$f":" RTD(\"cqg.rtd\",,\"StudyData\", $L$2, \"FG\", \"\", \"Open\", $K$2, $A523, $P$2,$O$2,,$M$2,$N$2)","v":""},{"$f":" RTD(\"cqg.rtd\",,\"StudyData\", $L$2, \"FG\", \"\", \"High\", $K$2, $A523, $P$2,$O$2,,$M$2,$N$2)","v":""},{"$f":" RTD(\"cqg.rtd\",,\"StudyData\", $L$2, \"FG\", \"\", \"Low\", $K$2, $A523, $P$2,$O$2,,$M$2,$N$2)","v":""},{"$f":" RTD(\"cqg.rtd\",,\"StudyData\", $L$2, \"FG\", \"\", \"Close\", $K$2, $A523, $P$2,$O$2,,$M$2,$N$2)","v":""}]
[-522,{"$f":" RTD(\"cqg.rtd\",,\"StudyData\", $L$2, \"FG\", \"\", \"Time\", $K$2,$A524, $P$2, \"\", \"\",\"False\")","v":""},{"$f":" RTD(\"cqg.rtd\",,\"StudyData\", $L$2, \"FG\", \"\", \"Time\", $K$2, $A524,$P$2,$O$2, \"\",\"False\")","v":""},{"$f":" RTD(\"cqg.rtd\",,\"StudyData\", $L$2, \"FG\", \"\", \"Open\", $K$2, $A524, $P$2,$O$2,,$M$2,$N$2)","v":""},{"$f":" RTD(\"cqg.rtd\",,\"StudyData\", $L$2, \"FG\", \"\", \"High\", $K$2, $A524, $P$2,$O$2,,$M$2,$N$2)","v":""},{"$f":" RTD(\"cqg.rtd\",,\"StudyData\", $L$2, \"FG\", \"\", \"Low\", $K$2, $A524, $P$2,$O$2,,$M$2,$N$2)","v":""},{"$f":" RTD(\"cqg.rtd\",,\"StudyData\", $L$2, \"FG\", \"\", \"Close\", $K$2, $A524, $P$2,$O$2,,$M$2,$N$2)","v":""}]
[-523,{"$f":" RTD(\"cqg.rtd\",,\"StudyData\", $L$2, \"FG\", \"\", \"Time\", $K$2,$A525, $P$2, \"\", \"\",\"False\")","v":""},{"$f":" RTD(\"cqg.rtd\",,\"StudyData\", $L$2, \"FG\", \"\", \"Time\", $K$2, $A525,$P$2,$O$2, \"\",\"False\")","v":""},{"$f":" RTD(\"cqg.rtd\",,\"StudyData\", $L$2, \"FG\", \"\", \"Open\", $K$2, $A525, $P$2,$O$2,,$M$2,$N$2)","v":""},{"$f":" RTD(\"cqg.rtd\",,\"StudyData\", $L$2, \"FG\", \"\", \"High\", $K$2, $A525, $P$2,$O$2,,$M$2,$N$2)","v":""},{"$f":" RTD(\"cqg.rtd\",,\"StudyData\", $L$2, \"FG\", \"\", \"Low\", $K$2, $A525, $P$2,$O$2,,$M$2,$N$2)","v":""},{"$f":" RTD(\"cqg.rtd\",,\"StudyData\", $L$2, \"FG\", \"\", \"Close\", $K$2, $A525, $P$2,$O$2,,$M$2,$N$2)","v":""}]
[-524,{"$f":" RTD(\"cqg.rtd\",,\"StudyData\", $L$2, \"FG\", \"\", \"Time\", $K$2,$A526, $P$2, \"\", \"\",\"False\")","v":""},{"$f":" RTD(\"cqg.rtd\",,\"StudyData\", $L$2, \"FG\", \"\", \"Time\", $K$2, $A526,$P$2,$O$2, \"\",\"False\")","v":""},{"$f":" RTD(\"cqg.rtd\",,\"StudyData\", $L$2, \"FG\", \"\", \"Open\", $K$2, $A526, $P$2,$O$2,,$M$2,$N$2)","v":""},{"$f":" RTD(\"cqg.rtd\",,\"StudyData\", $L$2, \"FG\", \"\", \"High\", $K$2, $A526, $P$2,$O$2,,$M$2,$N$2)","v":""},{"$f":" RTD(\"cqg.rtd\",,\"StudyData\", $L$2, \"FG\", \"\", \"Low\", $K$2, $A526, $P$2,$O$2,,$M$2,$N$2)","v":""},{"$f":" RTD(\"cqg.rtd\",,\"StudyData\", $L$2, \"FG\", \"\", \"Close\", $K$2, $A526, $P$2,$O$2,,$M$2,$N$2)","v":""}]
[-525,{"$f":" RTD(\"cqg.rtd\",,\"StudyData\", $L$2, \"FG\", \"\", \"Time\", $K$2,$A527, $P$2, \"\", \"\",\"False\")","v":""},{"$f":" RTD(\"cqg.rtd\",,\"StudyData\", $L$2, \"FG\", \"\", \"Time\", $K$2, $A527,$P$2,$O$2, \"\",\"False\")","v":""},{"$f":" RTD(\"cqg.rtd\",,\"StudyData\", $L$2, \"FG\", \"\", \"Open\", $K$2, $A527, $P$2,$O$2,,$M$2,$N$2)","v":""},{"$f":" RTD(\"cqg.rtd\",,\"StudyData\", $L$2, \"FG\", \"\", \"High\", $K$2, $A527, $P$2,$O$2,,$M$2,$N$2)","v":""},{"$f":" RTD(\"cqg.rtd\",,\"StudyData\", $L$2, \"FG\", \"\", \"Low\", $K$2, $A527, $P$2,$O$2,,$M$2,$N$2)","v":""},{"$f":" RTD(\"cqg.rtd\",,\"StudyData\", $L$2, \"FG\", \"\", \"Close\", $K$2, $A527, $P$2,$O$2,,$M$2,$N$2)","v":""}]
[-526,{"$f":" RTD(\"cqg.rtd\",,\"StudyData\", $L$2, \"FG\", \"\", \"Time\", $K$2,$A528, $P$2, \"\", \"\",\"False\")","v":""},{"$f":" RTD(\"cqg.rtd\",,\"StudyData\", $L$2, \"FG\", \"\", \"Time\", $K$2, $A528,$P$2,$O$2, \"\",\"False\")","v":""},{"$f":" RTD(\"cqg.rtd\",,\"StudyData\", $L$2, \"FG\", \"\", \"Open\", $K$2, $A528, $P$2,$O$2,,$M$2,$N$2)","v":""},{"$f":" RTD(\"cqg.rtd\",,\"StudyData\", $L$2, \"FG\", \"\", \"High\", $K$2, $A528, $P$2,$O$2,,$M$2,$N$2)","v":""},{"$f":" RTD(\"cqg.rtd\",,\"StudyData\", $L$2, \"FG\", \"\", \"Low\", $K$2, $A528, $P$2,$O$2,,$M$2,$N$2)","v":""},{"$f":" RTD(\"cqg.rtd\",,\"StudyData\", $L$2, \"FG\", \"\", \"Close\", $K$2, $A528, $P$2,$O$2,,$M$2,$N$2)","v":""}]
[-527,{"$f":" RTD(\"cqg.rtd\",,\"StudyData\", $L$2, \"FG\", \"\", \"Time\", $K$2,$A529, $P$2, \"\", \"\",\"False\")","v":""},{"$f":" RTD(\"cqg.rtd\",,\"StudyData\", $L$2, \"FG\", \"\", \"Time\", $K$2, $A529,$P$2,$O$2, \"\",\"False\")","v":""},{"$f":" RTD(\"cqg.rtd\",,\"StudyData\", $L$2, \"FG\", \"\", \"Open\", $K$2, $A529, $P$2,$O$2,,$M$2,$N$2)","v":""},{"$f":" RTD(\"cqg.rtd\",,\"StudyData\", $L$2, \"FG\", \"\", \"High\", $K$2, $A529, $P$2,$O$2,,$M$2,$N$2)","v":""},{"$f":" RTD(\"cqg.rtd\",,\"StudyData\", $L$2, \"FG\", \"\", \"Low\", $K$2, $A529, $P$2,$O$2,,$M$2,$N$2)","v":""},{"$f":" RTD(\"cqg.rtd\",,\"StudyData\", $L$2, \"FG\", \"\", \"Close\", $K$2, $A529, $P$2,$O$2,,$M$2,$N$2)","v":""}]
[-528,{"$f":" RTD(\"cqg.rtd\",,\"StudyData\", $L$2, \"FG\", \"\", \"Time\", $K$2,$A530, $P$2, \"\", \"\",\"False\")","v":""},{"$f":" RTD(\"cqg.rtd\",,\"StudyData\", $L$2, \"FG\", \"\", \"Time\", $K$2, $A530,$P$2,$O$2, \"\",\"False\")","v":""},{"$f":" RTD(\"cqg.rtd\",,\"StudyData\", $L$2, \"FG\", \"\", \"Open\", $K$2, $A530, $P$2,$O$2,,$M$2,$N$2)","v":""},{"$f":" RTD(\"cqg.rtd\",,\"StudyData\", $L$2, \"FG\", \"\", \"High\", $K$2, $A530, $P$2,$O$2,,$M$2,$N$2)","v":""},{"$f":" RTD(\"cqg.rtd\",,\"StudyData\", $L$2, \"FG\", \"\", \"Low\", $K$2, $A530, $P$2,$O$2,,$M$2,$N$2)","v":""},{"$f":" RTD(\"cqg.rtd\",,\"StudyData\", $L$2, \"FG\", \"\", \"Close\", $K$2, $A530, $P$2,$O$2,,$M$2,$N$2)","v":""}]
[-529,{"$f":" RTD(\"cqg.rtd\",,\"StudyData\", $L$2, \"FG\", \"\", \"Time\", $K$2,$A531, $P$2, \"\", \"\",\"False\")","v":""},{"$f":" RTD(\"cqg.rtd\",,\"StudyData\", $L$2, \"FG\", \"\", \"Time\", $K$2, $A531,$P$2,$O$2, \"\",\"False\")","v":""},{"$f":" RTD(\"cqg.rtd\",,\"StudyData\", $L$2, \"FG\", \"\", \"Open\", $K$2, $A531, $P$2,$O$2,,$M$2,$N$2)","v":""},{"$f":" RTD(\"cqg.rtd\",,\"StudyData\", $L$2, \"FG\", \"\", \"High\", $K$2, $A531, $P$2,$O$2,,$M$2,$N$2)","v":""},{"$f":" RTD(\"cqg.rtd\",,\"StudyData\", $L$2, \"FG\", \"\", \"Low\", $K$2, $A531, $P$2,$O$2,,$M$2,$N$2)","v":""},{"$f":" RTD(\"cqg.rtd\",,\"StudyData\", $L$2, \"FG\", \"\", \"Close\", $K$2, $A531, $P$2,$O$2,,$M$2,$N$2)","v":""}]
[-530,{"$f":" RTD(\"cqg.rtd\",,\"StudyData\", $L$2, \"FG\", \"\", \"Time\", $K$2,$A532, $P$2, \"\", \"\",\"False\")","v":""},{"$f":" RTD(\"cqg.rtd\",,\"StudyData\", $L$2, \"FG\", \"\", \"Time\", $K$2, $A532,$P$2,$O$2, \"\",\"False\")","v":""},{"$f":" RTD(\"cqg.rtd\",,\"StudyData\", $L$2, \"FG\", \"\", \"Open\", $K$2, $A532, $P$2,$O$2,,$M$2,$N$2)","v":""},{"$f":" RTD(\"cqg.rtd\",,\"StudyData\", $L$2, \"FG\", \"\", \"High\", $K$2, $A532, $P$2,$O$2,,$M$2,$N$2)","v":""},{"$f":" RTD(\"cqg.rtd\",,\"StudyData\", $L$2, \"FG\", \"\", \"Low\", $K$2, $A532, $P$2,$O$2,,$M$2,$N$2)","v":""},{"$f":" RTD(\"cqg.rtd\",,\"StudyData\", $L$2, \"FG\", \"\", \"Close\", $K$2, $A532, $P$2,$O$2,,$M$2,$N$2)","v":""}]
[-531,{"$f":" RTD(\"cqg.rtd\",,\"StudyData\", $L$2, \"FG\", \"\", \"Time\", $K$2,$A533, $P$2, \"\", \"\",\"False\")","v":""},{"$f":" RTD(\"cqg.rtd\",,\"StudyData\", $L$2, \"FG\", \"\", \"Time\", $K$2, $A533,$P$2,$O$2, \"\",\"False\")","v":""},{"$f":" RTD(\"cqg.rtd\",,\"StudyData\", $L$2, \"FG\", \"\", \"Open\", $K$2, $A533, $P$2,$O$2,,$M$2,$N$2)","v":""},{"$f":" RTD(\"cqg.rtd\",,\"StudyData\", $L$2, \"FG\", \"\", \"High\", $K$2, $A533, $P$2,$O$2,,$M$2,$N$2)","v":""},{"$f":" RTD(\"cqg.rtd\",,\"StudyData\", $L$2, \"FG\", \"\", \"Low\", $K$2, $A533, $P$2,$O$2,,$M$2,$N$2)","v":""},{"$f":" RTD(\"cqg.rtd\",,\"StudyData\", $L$2, \"FG\", \"\", \"Close\", $K$2, $A533, $P$2,$O$2,,$M$2,$N$2)","v":""}]
[-532,{"$f":" RTD(\"cqg.rtd\",,\"StudyData\", $L$2, \"FG\", \"\", \"Time\", $K$2,$A534, $P$2, \"\", \"\",\"False\")","v":""},{"$f":" RTD(\"cqg.rtd\",,\"StudyData\", $L$2, \"FG\", \"\", \"Time\", $K$2, $A534,$P$2,$O$2, \"\",\"False\")","v":""},{"$f":" RTD(\"cqg.rtd\",,\"StudyData\", $L$2, \"FG\", \"\", \"Open\", $K$2, $A534, $P$2,$O$2,,$M$2,$N$2)","v":""},{"$f":" RTD(\"cqg.rtd\",,\"StudyData\", $L$2, \"FG\", \"\", \"High\", $K$2, $A534, $P$2,$O$2,,$M$2,$N$2)","v":""},{"$f":" RTD(\"cqg.rtd\",,\"StudyData\", $L$2, \"FG\", \"\", \"Low\", $K$2, $A534, $P$2,$O$2,,$M$2,$N$2)","v":""},{"$f":" RTD(\"cqg.rtd\",,\"StudyData\", $L$2, \"FG\", \"\", \"Close\", $K$2, $A534, $P$2,$O$2,,$M$2,$N$2)","v":""}]
[-533,{"$f":" RTD(\"cqg.rtd\",,\"StudyData\", $L$2, \"FG\", \"\", \"Time\", $K$2,$A535, $P$2, \"\", \"\",\"False\")","v":""},{"$f":" RTD(\"cqg.rtd\",,\"StudyData\", $L$2, \"FG\", \"\", \"Time\", $K$2, $A535,$P$2,$O$2, \"\",\"False\")","v":""},{"$f":" RTD(\"cqg.rtd\",,\"StudyData\", $L$2, \"FG\", \"\", \"Open\", $K$2, $A535, $P$2,$O$2,,$M$2,$N$2)","v":""},{"$f":" RTD(\"cqg.rtd\",,\"StudyData\", $L$2, \"FG\", \"\", \"High\", $K$2, $A535, $P$2,$O$2,,$M$2,$N$2)","v":""},{"$f":" RTD(\"cqg.rtd\",,\"StudyData\", $L$2, \"FG\", \"\", \"Low\", $K$2, $A535, $P$2,$O$2,,$M$2,$N$2)","v":""},{"$f":" RTD(\"cqg.rtd\",,\"StudyData\", $L$2, \"FG\", \"\", \"Close\", $K$2, $A535, $P$2,$O$2,,$M$2,$N$2)","v":""}]
[-534,{"$f":" RTD(\"cqg.rtd\",,\"StudyData\", $L$2, \"FG\", \"\", \"Time\", $K$2,$A536, $P$2, \"\", \"\",\"False\")","v":""},{"$f":" RTD(\"cqg.rtd\",,\"StudyData\", $L$2, \"FG\", \"\", \"Time\", $K$2, $A536,$P$2,$O$2, \"\",\"False\")","v":""},{"$f":" RTD(\"cqg.rtd\",,\"StudyData\", $L$2, \"FG\", \"\", \"Open\", $K$2, $A536, $P$2,$O$2,,$M$2,$N$2)","v":""},{"$f":" RTD(\"cqg.rtd\",,\"StudyData\", $L$2, \"FG\", \"\", \"High\", $K$2, $A536, $P$2,$O$2,,$M$2,$N$2)","v":""},{"$f":" RTD(\"cqg.rtd\",,\"StudyData\", $L$2, \"FG\", \"\", \"Low\", $K$2, $A536, $P$2,$O$2,,$M$2,$N$2)","v":""},{"$f":" RTD(\"cqg.rtd\",,\"StudyData\", $L$2, \"FG\", \"\", \"Close\", $K$2, $A536, $P$2,$O$2,,$M$2,$N$2)","v":""}]
[-535,{"$f":" RTD(\"cqg.rtd\",,\"StudyData\", $L$2, \"FG\", \"\", \"Time\", $K$2,$A537, $P$2, \"\", \"\",\"False\")","v":""},{"$f":" RTD(\"cqg.rtd\",,\"StudyData\", $L$2, \"FG\", \"\", \"Time\", $K$2, $A537,$P$2,$O$2, \"\",\"False\")","v":""},{"$f":" RTD(\"cqg.rtd\",,\"StudyData\", $L$2, \"FG\", \"\", \"Open\", $K$2, $A537, $P$2,$O$2,,$M$2,$N$2)","v":""},{"$f":" RTD(\"cqg.rtd\",,\"StudyData\", $L$2, \"FG\", \"\", \"High\", $K$2, $A537, $P$2,$O$2,,$M$2,$N$2)","v":""},{"$f":" RTD(\"cqg.rtd\",,\"StudyData\", $L$2, \"FG\", \"\", \"Low\", $K$2, $A537, $P$2,$O$2,,$M$2,$N$2)","v":""},{"$f":" RTD(\"cqg.rtd\",,\"StudyData\", $L$2, \"FG\", \"\", \"Close\", $K$2, $A537, $P$2,$O$2,,$M$2,$N$2)","v":""}]
[-536,{"$f":" RTD(\"cqg.rtd\",,\"StudyData\", $L$2, \"FG\", \"\", \"Time\", $K$2,$A538, $P$2, \"\", \"\",\"False\")","v":""},{"$f":" RTD(\"cqg.rtd\",,\"StudyData\", $L$2, \"FG\", \"\", \"Time\", $K$2, $A538,$P$2,$O$2, \"\",\"False\")","v":""},{"$f":" RTD(\"cqg.rtd\",,\"StudyData\", $L$2, \"FG\", \"\", \"Open\", $K$2, $A538, $P$2,$O$2,,$M$2,$N$2)","v":""},{"$f":" RTD(\"cqg.rtd\",,\"StudyData\", $L$2, \"FG\", \"\", \"High\", $K$2, $A538, $P$2,$O$2,,$M$2,$N$2)","v":""},{"$f":" RTD(\"cqg.rtd\",,\"StudyData\", $L$2, \"FG\", \"\", \"Low\", $K$2, $A538, $P$2,$O$2,,$M$2,$N$2)","v":""},{"$f":" RTD(\"cqg.rtd\",,\"StudyData\", $L$2, \"FG\", \"\", \"Close\", $K$2, $A538, $P$2,$O$2,,$M$2,$N$2)","v":""}]
[-537,{"$f":" RTD(\"cqg.rtd\",,\"StudyData\", $L$2, \"FG\", \"\", \"Time\", $K$2,$A539, $P$2, \"\", \"\",\"False\")","v":""},{"$f":" RTD(\"cqg.rtd\",,\"StudyData\", $L$2, \"FG\", \"\", \"Time\", $K$2, $A539,$P$2,$O$2, \"\",\"False\")","v":""},{"$f":" RTD(\"cqg.rtd\",,\"StudyData\", $L$2, \"FG\", \"\", \"Open\", $K$2, $A539, $P$2,$O$2,,$M$2,$N$2)","v":""},{"$f":" RTD(\"cqg.rtd\",,\"StudyData\", $L$2, \"FG\", \"\", \"High\", $K$2, $A539, $P$2,$O$2,,$M$2,$N$2)","v":""},{"$f":" RTD(\"cqg.rtd\",,\"StudyData\", $L$2, \"FG\", \"\", \"Low\", $K$2, $A539, $P$2,$O$2,,$M$2,$N$2)","v":""},{"$f":" RTD(\"cqg.rtd\",,\"StudyData\", $L$2, \"FG\", \"\", \"Close\", $K$2, $A539, $P$2,$O$2,,$M$2,$N$2)","v":""}]
[-538,{"$f":" RTD(\"cqg.rtd\",,\"StudyData\", $L$2, \"FG\", \"\", \"Time\", $K$2,$A540, $P$2, \"\", \"\",\"False\")","v":""},{"$f":" RTD(\"cqg.rtd\",,\"StudyData\", $L$2, \"FG\", \"\", \"Time\", $K$2, $A540,$P$2,$O$2, \"\",\"False\")","v":""},{"$f":" RTD(\"cqg.rtd\",,\"StudyData\", $L$2, \"FG\", \"\", \"Open\", $K$2, $A540, $P$2,$O$2,,$M$2,$N$2)","v":""},{"$f":" RTD(\"cqg.rtd\",,\"StudyData\", $L$2, \"FG\", \"\", \"High\", $K$2, $A540, $P$2,$O$2,,$M$2,$N$2)","v":""},{"$f":" RTD(\"cqg.rtd\",,\"StudyData\", $L$2, \"FG\", \"\", \"Low\", $K$2, $A540, $P$2,$O$2,,$M$2,$N$2)","v":""},{"$f":" RTD(\"cqg.rtd\",,\"StudyData\", $L$2, \"FG\", \"\", \"Close\", $K$2, $A540, $P$2,$O$2,,$M$2,$N$2)","v":""}]
[-539,{"$f":" RTD(\"cqg.rtd\",,\"StudyData\", $L$2, \"FG\", \"\", \"Time\", $K$2,$A541, $P$2, \"\", \"\",\"False\")","v":""},{"$f":" RTD(\"cqg.rtd\",,\"StudyData\", $L$2, \"FG\", \"\", \"Time\", $K$2, $A541,$P$2,$O$2, \"\",\"False\")","v":""},{"$f":" RTD(\"cqg.rtd\",,\"StudyData\", $L$2, \"FG\", \"\", \"Open\", $K$2, $A541, $P$2,$O$2,,$M$2,$N$2)","v":""},{"$f":" RTD(\"cqg.rtd\",,\"StudyData\", $L$2, \"FG\", \"\", \"High\", $K$2, $A541, $P$2,$O$2,,$M$2,$N$2)","v":""},{"$f":" RTD(\"cqg.rtd\",,\"StudyData\", $L$2, \"FG\", \"\", \"Low\", $K$2, $A541, $P$2,$O$2,,$M$2,$N$2)","v":""},{"$f":" RTD(\"cqg.rtd\",,\"StudyData\", $L$2, \"FG\", \"\", \"Close\", $K$2, $A541, $P$2,$O$2,,$M$2,$N$2)","v":""}]
[-540,{"$f":" RTD(\"cqg.rtd\",,\"StudyData\", $L$2, \"FG\", \"\", \"Time\", $K$2,$A542, $P$2, \"\", \"\",\"False\")","v":""},{"$f":" RTD(\"cqg.rtd\",,\"StudyData\", $L$2, \"FG\", \"\", \"Time\", $K$2, $A542,$P$2,$O$2, \"\",\"False\")","v":""},{"$f":" RTD(\"cqg.rtd\",,\"StudyData\", $L$2, \"FG\", \"\", \"Open\", $K$2, $A542, $P$2,$O$2,,$M$2,$N$2)","v":""},{"$f":" RTD(\"cqg.rtd\",,\"StudyData\", $L$2, \"FG\", \"\", \"High\", $K$2, $A542, $P$2,$O$2,,$M$2,$N$2)","v":""},{"$f":" RTD(\"cqg.rtd\",,\"StudyData\", $L$2, \"FG\", \"\", \"Low\", $K$2, $A542, $P$2,$O$2,,$M$2,$N$2)","v":""},{"$f":" RTD(\"cqg.rtd\",,\"StudyData\", $L$2, \"FG\", \"\", \"Close\", $K$2, $A542, $P$2,$O$2,,$M$2,$N$2)","v":""}]
[-541,{"$f":" RTD(\"cqg.rtd\",,\"StudyData\", $L$2, \"FG\", \"\", \"Time\", $K$2,$A543, $P$2, \"\", \"\",\"False\")","v":""},{"$f":" RTD(\"cqg.rtd\",,\"StudyData\", $L$2, \"FG\", \"\", \"Time\", $K$2, $A543,$P$2,$O$2, \"\",\"False\")","v":""},{"$f":" RTD(\"cqg.rtd\",,\"StudyData\", $L$2, \"FG\", \"\", \"Open\", $K$2, $A543, $P$2,$O$2,,$M$2,$N$2)","v":""},{"$f":" RTD(\"cqg.rtd\",,\"StudyData\", $L$2, \"FG\", \"\", \"High\", $K$2, $A543, $P$2,$O$2,,$M$2,$N$2)","v":""},{"$f":" RTD(\"cqg.rtd\",,\"StudyData\", $L$2, \"FG\", \"\", \"Low\", $K$2, $A543, $P$2,$O$2,,$M$2,$N$2)","v":""},{"$f":" RTD(\"cqg.rtd\",,\"StudyData\", $L$2, \"FG\", \"\", \"Close\", $K$2, $A543, $P$2,$O$2,,$M$2,$N$2)","v":""}]
[-542,{"$f":" RTD(\"cqg.rtd\",,\"StudyData\", $L$2, \"FG\", \"\", \"Time\", $K$2,$A544, $P$2, \"\", \"\",\"False\")","v":""},{"$f":" RTD(\"cqg.rtd\",,\"StudyData\", $L$2, \"FG\", \"\", \"Time\", $K$2, $A544,$P$2,$O$2, \"\",\"False\")","v":""},{"$f":" RTD(\"cqg.rtd\",,\"StudyData\", $L$2, \"FG\", \"\", \"Open\", $K$2, $A544, $P$2,$O$2,,$M$2,$N$2)","v":""},{"$f":" RTD(\"cqg.rtd\",,\"StudyData\", $L$2, \"FG\", \"\", \"High\", $K$2, $A544, $P$2,$O$2,,$M$2,$N$2)","v":""},{"$f":" RTD(\"cqg.rtd\",,\"StudyData\", $L$2, \"FG\", \"\", \"Low\", $K$2, $A544, $P$2,$O$2,,$M$2,$N$2)","v":""},{"$f":" RTD(\"cqg.rtd\",,\"StudyData\", $L$2, \"FG\", \"\", \"Close\", $K$2, $A544, $P$2,$O$2,,$M$2,$N$2)","v":""}]
[-543,{"$f":" RTD(\"cqg.rtd\",,\"StudyData\", $L$2, \"FG\", \"\", \"Time\", $K$2,$A545, $P$2, \"\", \"\",\"False\")","v":""},{"$f":" RTD(\"cqg.rtd\",,\"StudyData\", $L$2, \"FG\", \"\", \"Time\", $K$2, $A545,$P$2,$O$2, \"\",\"False\")","v":""},{"$f":" RTD(\"cqg.rtd\",,\"StudyData\", $L$2, \"FG\", \"\", \"Open\", $K$2, $A545, $P$2,$O$2,,$M$2,$N$2)","v":""},{"$f":" RTD(\"cqg.rtd\",,\"StudyData\", $L$2, \"FG\", \"\", \"High\", $K$2, $A545, $P$2,$O$2,,$M$2,$N$2)","v":""},{"$f":" RTD(\"cqg.rtd\",,\"StudyData\", $L$2, \"FG\", \"\", \"Low\", $K$2, $A545, $P$2,$O$2,,$M$2,$N$2)","v":""},{"$f":" RTD(\"cqg.rtd\",,\"StudyData\", $L$2, \"FG\", \"\", \"Close\", $K$2, $A545, $P$2,$O$2,,$M$2,$N$2)","v":""}]
[-544,{"$f":" RTD(\"cqg.rtd\",,\"StudyData\", $L$2, \"FG\", \"\", \"Time\", $K$2,$A546, $P$2, \"\", \"\",\"False\")","v":""},{"$f":" RTD(\"cqg.rtd\",,\"StudyData\", $L$2, \"FG\", \"\", \"Time\", $K$2, $A546,$P$2,$O$2, \"\",\"False\")","v":""},{"$f":" RTD(\"cqg.rtd\",,\"StudyData\", $L$2, \"FG\", \"\", \"Open\", $K$2, $A546, $P$2,$O$2,,$M$2,$N$2)","v":""},{"$f":" RTD(\"cqg.rtd\",,\"StudyData\", $L$2, \"FG\", \"\", \"High\", $K$2, $A546, $P$2,$O$2,,$M$2,$N$2)","v":""},{"$f":" RTD(\"cqg.rtd\",,\"StudyData\", $L$2, \"FG\", \"\", \"Low\", $K$2, $A546, $P$2,$O$2,,$M$2,$N$2)","v":""},{"$f":" RTD(\"cqg.rtd\",,\"StudyData\", $L$2, \"FG\", \"\", \"Close\", $K$2, $A546, $P$2,$O$2,,$M$2,$N$2)","v":""}]
[-545,{"$f":" RTD(\"cqg.rtd\",,\"StudyData\", $L$2, \"FG\", \"\", \"Time\", $K$2,$A547, $P$2, \"\", \"\",\"False\")","v":""},{"$f":" RTD(\"cqg.rtd\",,\"StudyData\", $L$2, \"FG\", \"\", \"Time\", $K$2, $A547,$P$2,$O$2, \"\",\"False\")","v":""},{"$f":" RTD(\"cqg.rtd\",,\"StudyData\", $L$2, \"FG\", \"\", \"Open\", $K$2, $A547, $P$2,$O$2,,$M$2,$N$2)","v":""},{"$f":" RTD(\"cqg.rtd\",,\"StudyData\", $L$2, \"FG\", \"\", \"High\", $K$2, $A547, $P$2,$O$2,,$M$2,$N$2)","v":""},{"$f":" RTD(\"cqg.rtd\",,\"StudyData\", $L$2, \"FG\", \"\", \"Low\", $K$2, $A547, $P$2,$O$2,,$M$2,$N$2)","v":""},{"$f":" RTD(\"cqg.rtd\",,\"StudyData\", $L$2, \"FG\", \"\", \"Close\", $K$2, $A547, $P$2,$O$2,,$M$2,$N$2)","v":""}]
[-546,{"$f":" RTD(\"cqg.rtd\",,\"StudyData\", $L$2, \"FG\", \"\", \"Time\", $K$2,$A548, $P$2, \"\", \"\",\"False\")","v":""},{"$f":" RTD(\"cqg.rtd\",,\"StudyData\", $L$2, \"FG\", \"\", \"Time\", $K$2, $A548,$P$2,$O$2, \"\",\"False\")","v":""},{"$f":" RTD(\"cqg.rtd\",,\"StudyData\", $L$2, \"FG\", \"\", \"Open\", $K$2, $A548, $P$2,$O$2,,$M$2,$N$2)","v":""},{"$f":" RTD(\"cqg.rtd\",,\"StudyData\", $L$2, \"FG\", \"\", \"High\", $K$2, $A548, $P$2,$O$2,,$M$2,$N$2)","v":""},{"$f":" RTD(\"cqg.rtd\",,\"StudyData\", $L$2, \"FG\", \"\", \"Low\", $K$2, $A548, $P$2,$O$2,,$M$2,$N$2)","v":""},{"$f":" RTD(\"cqg.rtd\",,\"StudyData\", $L$2, \"FG\", \"\", \"Close\", $K$2, $A548, $P$2,$O$2,,$M$2,$N$2)","v":""}]
[-547,{"$f":" RTD(\"cqg.rtd\",,\"StudyData\", $L$2, \"FG\", \"\", \"Time\", $K$2,$A549, $P$2, \"\", \"\",\"False\")","v":""},{"$f":" RTD(\"cqg.rtd\",,\"StudyData\", $L$2, \"FG\", \"\", \"Time\", $K$2, $A549,$P$2,$O$2, \"\",\"False\")","v":""},{"$f":" RTD(\"cqg.rtd\",,\"StudyData\", $L$2, \"FG\", \"\", \"Open\", $K$2, $A549, $P$2,$O$2,,$M$2,$N$2)","v":""},{"$f":" RTD(\"cqg.rtd\",,\"StudyData\", $L$2, \"FG\", \"\", \"High\", $K$2, $A549, $P$2,$O$2,,$M$2,$N$2)","v":""},{"$f":" RTD(\"cqg.rtd\",,\"StudyData\", $L$2, \"FG\", \"\", \"Low\", $K$2, $A549, $P$2,$O$2,,$M$2,$N$2)","v":""},{"$f":" RTD(\"cqg.rtd\",,\"StudyData\", $L$2, \"FG\", \"\", \"Close\", $K$2, $A549, $P$2,$O$2,,$M$2,$N$2)","v":""}]
[-548,{"$f":" RTD(\"cqg.rtd\",,\"StudyData\", $L$2, \"FG\", \"\", \"Time\", $K$2,$A550, $P$2, \"\", \"\",\"False\")","v":""},{"$f":" RTD(\"cqg.rtd\",,\"StudyData\", $L$2, \"FG\", \"\", \"Time\", $K$2, $A550,$P$2,$O$2, \"\",\"False\")","v":""},{"$f":" RTD(\"cqg.rtd\",,\"StudyData\", $L$2, \"FG\", \"\", \"Open\", $K$2, $A550, $P$2,$O$2,,$M$2,$N$2)","v":""},{"$f":" RTD(\"cqg.rtd\",,\"StudyData\", $L$2, \"FG\", \"\", \"High\", $K$2, $A550, $P$2,$O$2,,$M$2,$N$2)","v":""},{"$f":" RTD(\"cqg.rtd\",,\"StudyData\", $L$2, \"FG\", \"\", \"Low\", $K$2, $A550, $P$2,$O$2,,$M$2,$N$2)","v":""},{"$f":" RTD(\"cqg.rtd\",,\"StudyData\", $L$2, \"FG\", \"\", \"Close\", $K$2, $A550, $P$2,$O$2,,$M$2,$N$2)","v":""}]
[-549,{"$f":" RTD(\"cqg.rtd\",,\"StudyData\", $L$2, \"FG\", \"\", \"Time\", $K$2,$A551, $P$2, \"\", \"\",\"False\")","v":""},{"$f":" RTD(\"cqg.rtd\",,\"StudyData\", $L$2, \"FG\", \"\", \"Time\", $K$2, $A551,$P$2,$O$2, \"\",\"False\")","v":""},{"$f":" RTD(\"cqg.rtd\",,\"StudyData\", $L$2, \"FG\", \"\", \"Open\", $K$2, $A551, $P$2,$O$2,,$M$2,$N$2)","v":""},{"$f":" RTD(\"cqg.rtd\",,\"StudyData\", $L$2, \"FG\", \"\", \"High\", $K$2, $A551, $P$2,$O$2,,$M$2,$N$2)","v":""},{"$f":" RTD(\"cqg.rtd\",,\"StudyData\", $L$2, \"FG\", \"\", \"Low\", $K$2, $A551, $P$2,$O$2,,$M$2,$N$2)","v":""},{"$f":" RTD(\"cqg.rtd\",,\"StudyData\", $L$2, \"FG\", \"\", \"Close\", $K$2, $A551, $P$2,$O$2,,$M$2,$N$2)","v":""}]
[-550,{"$f":" RTD(\"cqg.rtd\",,\"StudyData\", $L$2, \"FG\", \"\", \"Time\", $K$2,$A552, $P$2, \"\", \"\",\"False\")","v":""},{"$f":" RTD(\"cqg.rtd\",,\"StudyData\", $L$2, \"FG\", \"\", \"Time\", $K$2, $A552,$P$2,$O$2, \"\",\"False\")","v":""},{"$f":" RTD(\"cqg.rtd\",,\"StudyData\", $L$2, \"FG\", \"\", \"Open\", $K$2, $A552, $P$2,$O$2,,$M$2,$N$2)","v":""},{"$f":" RTD(\"cqg.rtd\",,\"StudyData\", $L$2, \"FG\", \"\", \"High\", $K$2, $A552, $P$2,$O$2,,$M$2,$N$2)","v":""},{"$f":" RTD(\"cqg.rtd\",,\"StudyData\", $L$2, \"FG\", \"\", \"Low\", $K$2, $A552, $P$2,$O$2,,$M$2,$N$2)","v":""},{"$f":" RTD(\"cqg.rtd\",,\"StudyData\", $L$2, \"FG\", \"\", \"Close\", $K$2, $A552, $P$2,$O$2,,$M$2,$N$2)","v":""}]
[-551,{"$f":" RTD(\"cqg.rtd\",,\"StudyData\", $L$2, \"FG\", \"\", \"Time\", $K$2,$A553, $P$2, \"\", \"\",\"False\")","v":""},{"$f":" RTD(\"cqg.rtd\",,\"StudyData\", $L$2, \"FG\", \"\", \"Time\", $K$2, $A553,$P$2,$O$2, \"\",\"False\")","v":""},{"$f":" RTD(\"cqg.rtd\",,\"StudyData\", $L$2, \"FG\", \"\", \"Open\", $K$2, $A553, $P$2,$O$2,,$M$2,$N$2)","v":""},{"$f":" RTD(\"cqg.rtd\",,\"StudyData\", $L$2, \"FG\", \"\", \"High\", $K$2, $A553, $P$2,$O$2,,$M$2,$N$2)","v":""},{"$f":" RTD(\"cqg.rtd\",,\"StudyData\", $L$2, \"FG\", \"\", \"Low\", $K$2, $A553, $P$2,$O$2,,$M$2,$N$2)","v":""},{"$f":" RTD(\"cqg.rtd\",,\"StudyData\", $L$2, \"FG\", \"\", \"Close\", $K$2, $A553, $P$2,$O$2,,$M$2,$N$2)","v":""}]
[-552,{"$f":" RTD(\"cqg.rtd\",,\"StudyData\", $L$2, \"FG\", \"\", \"Time\", $K$2,$A554, $P$2, \"\", \"\",\"False\")","v":""},{"$f":" RTD(\"cqg.rtd\",,\"StudyData\", $L$2, \"FG\", \"\", \"Time\", $K$2, $A554,$P$2,$O$2, \"\",\"False\")","v":""},{"$f":" RTD(\"cqg.rtd\",,\"StudyData\", $L$2, \"FG\", \"\", \"Open\", $K$2, $A554, $P$2,$O$2,,$M$2,$N$2)","v":""},{"$f":" RTD(\"cqg.rtd\",,\"StudyData\", $L$2, \"FG\", \"\", \"High\", $K$2, $A554, $P$2,$O$2,,$M$2,$N$2)","v":""},{"$f":" RTD(\"cqg.rtd\",,\"StudyData\", $L$2, \"FG\", \"\", \"Low\", $K$2, $A554, $P$2,$O$2,,$M$2,$N$2)","v":""},{"$f":" RTD(\"cqg.rtd\",,\"StudyData\", $L$2, \"FG\", \"\", \"Close\", $K$2, $A554, $P$2,$O$2,,$M$2,$N$2)","v":""}]
[-553,{"$f":" RTD(\"cqg.rtd\",,\"StudyData\", $L$2, \"FG\", \"\", \"Time\", $K$2,$A555, $P$2, \"\", \"\",\"False\")","v":""},{"$f":" RTD(\"cqg.rtd\",,\"StudyData\", $L$2, \"FG\", \"\", \"Time\", $K$2, $A555,$P$2,$O$2, \"\",\"False\")","v":""},{"$f":" RTD(\"cqg.rtd\",,\"StudyData\", $L$2, \"FG\", \"\", \"Open\", $K$2, $A555, $P$2,$O$2,,$M$2,$N$2)","v":""},{"$f":" RTD(\"cqg.rtd\",,\"StudyData\", $L$2, \"FG\", \"\", \"High\", $K$2, $A555, $P$2,$O$2,,$M$2,$N$2)","v":""},{"$f":" RTD(\"cqg.rtd\",,\"StudyData\", $L$2, \"FG\", \"\", \"Low\", $K$2, $A555, $P$2,$O$2,,$M$2,$N$2)","v":""},{"$f":" RTD(\"cqg.rtd\",,\"StudyData\", $L$2, \"FG\", \"\", \"Close\", $K$2, $A555, $P$2,$O$2,,$M$2,$N$2)","v":""}]
[-554,{"$f":" RTD(\"cqg.rtd\",,\"StudyData\", $L$2, \"FG\", \"\", \"Time\", $K$2,$A556, $P$2, \"\", \"\",\"False\")","v":""},{"$f":" RTD(\"cqg.rtd\",,\"StudyData\", $L$2, \"FG\", \"\", \"Time\", $K$2, $A556,$P$2,$O$2, \"\",\"False\")","v":""},{"$f":" RTD(\"cqg.rtd\",,\"StudyData\", $L$2, \"FG\", \"\", \"Open\", $K$2, $A556, $P$2,$O$2,,$M$2,$N$2)","v":""},{"$f":" RTD(\"cqg.rtd\",,\"StudyData\", $L$2, \"FG\", \"\", \"High\", $K$2, $A556, $P$2,$O$2,,$M$2,$N$2)","v":""},{"$f":" RTD(\"cqg.rtd\",,\"StudyData\", $L$2, \"FG\", \"\", \"Low\", $K$2, $A556, $P$2,$O$2,,$M$2,$N$2)","v":""},{"$f":" RTD(\"cqg.rtd\",,\"StudyData\", $L$2, \"FG\", \"\", \"Close\", $K$2, $A556, $P$2,$O$2,,$M$2,$N$2)","v":""}]
[-555,{"$f":" RTD(\"cqg.rtd\",,\"StudyData\", $L$2, \"FG\", \"\", \"Time\", $K$2,$A557, $P$2, \"\", \"\",\"False\")","v":""},{"$f":" RTD(\"cqg.rtd\",,\"StudyData\", $L$2, \"FG\", \"\", \"Time\", $K$2, $A557,$P$2,$O$2, \"\",\"False\")","v":""},{"$f":" RTD(\"cqg.rtd\",,\"StudyData\", $L$2, \"FG\", \"\", \"Open\", $K$2, $A557, $P$2,$O$2,,$M$2,$N$2)","v":""},{"$f":" RTD(\"cqg.rtd\",,\"StudyData\", $L$2, \"FG\", \"\", \"High\", $K$2, $A557, $P$2,$O$2,,$M$2,$N$2)","v":""},{"$f":" RTD(\"cqg.rtd\",,\"StudyData\", $L$2, \"FG\", \"\", \"Low\", $K$2, $A557, $P$2,$O$2,,$M$2,$N$2)","v":""},{"$f":" RTD(\"cqg.rtd\",,\"StudyData\", $L$2, \"FG\", \"\", \"Close\", $K$2, $A557, $P$2,$O$2,,$M$2,$N$2)","v":""}]
[-556,{"$f":" RTD(\"cqg.rtd\",,\"StudyData\", $L$2, \"FG\", \"\", \"Time\", $K$2,$A558, $P$2, \"\", \"\",\"False\")","v":""},{"$f":" RTD(\"cqg.rtd\",,\"StudyData\", $L$2, \"FG\", \"\", \"Time\", $K$2, $A558,$P$2,$O$2, \"\",\"False\")","v":""},{"$f":" RTD(\"cqg.rtd\",,\"StudyData\", $L$2, \"FG\", \"\", \"Open\", $K$2, $A558, $P$2,$O$2,,$M$2,$N$2)","v":""},{"$f":" RTD(\"cqg.rtd\",,\"StudyData\", $L$2, \"FG\", \"\", \"High\", $K$2, $A558, $P$2,$O$2,,$M$2,$N$2)","v":""},{"$f":" RTD(\"cqg.rtd\",,\"StudyData\", $L$2, \"FG\", \"\", \"Low\", $K$2, $A558, $P$2,$O$2,,$M$2,$N$2)","v":""},{"$f":" RTD(\"cqg.rtd\",,\"StudyData\", $L$2, \"FG\", \"\", \"Close\", $K$2, $A558, $P$2,$O$2,,$M$2,$N$2)","v":""}]
[-557,{"$f":" RTD(\"cqg.rtd\",,\"StudyData\", $L$2, \"FG\", \"\", \"Time\", $K$2,$A559, $P$2, \"\", \"\",\"False\")","v":""},{"$f":" RTD(\"cqg.rtd\",,\"StudyData\", $L$2, \"FG\", \"\", \"Time\", $K$2, $A559,$P$2,$O$2, \"\",\"False\")","v":""},{"$f":" RTD(\"cqg.rtd\",,\"StudyData\", $L$2, \"FG\", \"\", \"Open\", $K$2, $A559, $P$2,$O$2,,$M$2,$N$2)","v":""},{"$f":" RTD(\"cqg.rtd\",,\"StudyData\", $L$2, \"FG\", \"\", \"High\", $K$2, $A559, $P$2,$O$2,,$M$2,$N$2)","v":""},{"$f":" RTD(\"cqg.rtd\",,\"StudyData\", $L$2, \"FG\", \"\", \"Low\", $K$2, $A559, $P$2,$O$2,,$M$2,$N$2)","v":""},{"$f":" RTD(\"cqg.rtd\",,\"StudyData\", $L$2, \"FG\", \"\", \"Close\", $K$2, $A559, $P$2,$O$2,,$M$2,$N$2)","v":""}]
[-558,{"$f":" RTD(\"cqg.rtd\",,\"StudyData\", $L$2, \"FG\", \"\", \"Time\", $K$2,$A560, $P$2, \"\", \"\",\"False\")","v":""},{"$f":" RTD(\"cqg.rtd\",,\"StudyData\", $L$2, \"FG\", \"\", \"Time\", $K$2, $A560,$P$2,$O$2, \"\",\"False\")","v":""},{"$f":" RTD(\"cqg.rtd\",,\"StudyData\", $L$2, \"FG\", \"\", \"Open\", $K$2, $A560, $P$2,$O$2,,$M$2,$N$2)","v":""},{"$f":" RTD(\"cqg.rtd\",,\"StudyData\", $L$2, \"FG\", \"\", \"High\", $K$2, $A560, $P$2,$O$2,,$M$2,$N$2)","v":""},{"$f":" RTD(\"cqg.rtd\",,\"StudyData\", $L$2, \"FG\", \"\", \"Low\", $K$2, $A560, $P$2,$O$2,,$M$2,$N$2)","v":""},{"$f":" RTD(\"cqg.rtd\",,\"StudyData\", $L$2, \"FG\", \"\", \"Close\", $K$2, $A560, $P$2,$O$2,,$M$2,$N$2)","v":""}]
[-559,{"$f":" RTD(\"cqg.rtd\",,\"StudyData\", $L$2, \"FG\", \"\", \"Time\", $K$2,$A561, $P$2, \"\", \"\",\"False\")","v":""},{"$f":" RTD(\"cqg.rtd\",,\"StudyData\", $L$2, \"FG\", \"\", \"Time\", $K$2, $A561,$P$2,$O$2, \"\",\"False\")","v":""},{"$f":" RTD(\"cqg.rtd\",,\"StudyData\", $L$2, \"FG\", \"\", \"Open\", $K$2, $A561, $P$2,$O$2,,$M$2,$N$2)","v":""},{"$f":" RTD(\"cqg.rtd\",,\"StudyData\", $L$2, \"FG\", \"\", \"High\", $K$2, $A561, $P$2,$O$2,,$M$2,$N$2)","v":""},{"$f":" RTD(\"cqg.rtd\",,\"StudyData\", $L$2, \"FG\", \"\", \"Low\", $K$2, $A561, $P$2,$O$2,,$M$2,$N$2)","v":""},{"$f":" RTD(\"cqg.rtd\",,\"StudyData\", $L$2, \"FG\", \"\", \"Close\", $K$2, $A561, $P$2,$O$2,,$M$2,$N$2)","v":""}]
[-560,{"$f":" RTD(\"cqg.rtd\",,\"StudyData\", $L$2, \"FG\", \"\", \"Time\", $K$2,$A562, $P$2, \"\", \"\",\"False\")","v":""},{"$f":" RTD(\"cqg.rtd\",,\"StudyData\", $L$2, \"FG\", \"\", \"Time\", $K$2, $A562,$P$2,$O$2, \"\",\"False\")","v":""},{"$f":" RTD(\"cqg.rtd\",,\"StudyData\", $L$2, \"FG\", \"\", \"Open\", $K$2, $A562, $P$2,$O$2,,$M$2,$N$2)","v":""},{"$f":" RTD(\"cqg.rtd\",,\"StudyData\", $L$2, \"FG\", \"\", \"High\", $K$2, $A562, $P$2,$O$2,,$M$2,$N$2)","v":""},{"$f":" RTD(\"cqg.rtd\",,\"StudyData\", $L$2, \"FG\", \"\", \"Low\", $K$2, $A562, $P$2,$O$2,,$M$2,$N$2)","v":""},{"$f":" RTD(\"cqg.rtd\",,\"StudyData\", $L$2, \"FG\", \"\", \"Close\", $K$2, $A562, $P$2,$O$2,,$M$2,$N$2)","v":""}]
[-561,{"$f":" RTD(\"cqg.rtd\",,\"StudyData\", $L$2, \"FG\", \"\", \"Time\", $K$2,$A563, $P$2, \"\", \"\",\"False\")","v":""},{"$f":" RTD(\"cqg.rtd\",,\"StudyData\", $L$2, \"FG\", \"\", \"Time\", $K$2, $A563,$P$2,$O$2, \"\",\"False\")","v":""},{"$f":" RTD(\"cqg.rtd\",,\"StudyData\", $L$2, \"FG\", \"\", \"Open\", $K$2, $A563, $P$2,$O$2,,$M$2,$N$2)","v":""},{"$f":" RTD(\"cqg.rtd\",,\"StudyData\", $L$2, \"FG\", \"\", \"High\", $K$2, $A563, $P$2,$O$2,,$M$2,$N$2)","v":""},{"$f":" RTD(\"cqg.rtd\",,\"StudyData\", $L$2, \"FG\", \"\", \"Low\", $K$2, $A563, $P$2,$O$2,,$M$2,$N$2)","v":""},{"$f":" RTD(\"cqg.rtd\",,\"StudyData\", $L$2, \"FG\", \"\", \"Close\", $K$2, $A563, $P$2,$O$2,,$M$2,$N$2)","v":""}]
[-562,{"$f":" RTD(\"cqg.rtd\",,\"StudyData\", $L$2, \"FG\", \"\", \"Time\", $K$2,$A564, $P$2, \"\", \"\",\"False\")","v":""},{"$f":" RTD(\"cqg.rtd\",,\"StudyData\", $L$2, \"FG\", \"\", \"Time\", $K$2, $A564,$P$2,$O$2, \"\",\"False\")","v":""},{"$f":" RTD(\"cqg.rtd\",,\"StudyData\", $L$2, \"FG\", \"\", \"Open\", $K$2, $A564, $P$2,$O$2,,$M$2,$N$2)","v":""},{"$f":" RTD(\"cqg.rtd\",,\"StudyData\", $L$2, \"FG\", \"\", \"High\", $K$2, $A564, $P$2,$O$2,,$M$2,$N$2)","v":""},{"$f":" RTD(\"cqg.rtd\",,\"StudyData\", $L$2, \"FG\", \"\", \"Low\", $K$2, $A564, $P$2,$O$2,,$M$2,$N$2)","v":""},{"$f":" RTD(\"cqg.rtd\",,\"StudyData\", $L$2, \"FG\", \"\", \"Close\", $K$2, $A564, $P$2,$O$2,,$M$2,$N$2)","v":""}]
[-563,{"$f":" RTD(\"cqg.rtd\",,\"StudyData\", $L$2, \"FG\", \"\", \"Time\", $K$2,$A565, $P$2, \"\", \"\",\"False\")","v":""},{"$f":" RTD(\"cqg.rtd\",,\"StudyData\", $L$2, \"FG\", \"\", \"Time\", $K$2, $A565,$P$2,$O$2, \"\",\"False\")","v":""},{"$f":" RTD(\"cqg.rtd\",,\"StudyData\", $L$2, \"FG\", \"\", \"Open\", $K$2, $A565, $P$2,$O$2,,$M$2,$N$2)","v":""},{"$f":" RTD(\"cqg.rtd\",,\"StudyData\", $L$2, \"FG\", \"\", \"High\", $K$2, $A565, $P$2,$O$2,,$M$2,$N$2)","v":""},{"$f":" RTD(\"cqg.rtd\",,\"StudyData\", $L$2, \"FG\", \"\", \"Low\", $K$2, $A565, $P$2,$O$2,,$M$2,$N$2)","v":""},{"$f":" RTD(\"cqg.rtd\",,\"StudyData\", $L$2, \"FG\", \"\", \"Close\", $K$2, $A565, $P$2,$O$2,,$M$2,$N$2)","v":""}]
[-564,{"$f":" RTD(\"cqg.rtd\",,\"StudyData\", $L$2, \"FG\", \"\", \"Time\", $K$2,$A566, $P$2, \"\", \"\",\"False\")","v":""},{"$f":" RTD(\"cqg.rtd\",,\"StudyData\", $L$2, \"FG\", \"\", \"Time\", $K$2, $A566,$P$2,$O$2, \"\",\"False\")","v":""},{"$f":" RTD(\"cqg.rtd\",,\"StudyData\", $L$2, \"FG\", \"\", \"Open\", $K$2, $A566, $P$2,$O$2,,$M$2,$N$2)","v":""},{"$f":" RTD(\"cqg.rtd\",,\"StudyData\", $L$2, \"FG\", \"\", \"High\", $K$2, $A566, $P$2,$O$2,,$M$2,$N$2)","v":""},{"$f":" RTD(\"cqg.rtd\",,\"StudyData\", $L$2, \"FG\", \"\", \"Low\", $K$2, $A566, $P$2,$O$2,,$M$2,$N$2)","v":""},{"$f":" RTD(\"cqg.rtd\",,\"StudyData\", $L$2, \"FG\", \"\", \"Close\", $K$2, $A566, $P$2,$O$2,,$M$2,$N$2)","v":""}]
[-565,{"$f":" RTD(\"cqg.rtd\",,\"StudyData\", $L$2, \"FG\", \"\", \"Time\", $K$2,$A567, $P$2, \"\", \"\",\"False\")","v":""},{"$f":" RTD(\"cqg.rtd\",,\"StudyData\", $L$2, \"FG\", \"\", \"Time\", $K$2, $A567,$P$2,$O$2, \"\",\"False\")","v":""},{"$f":" RTD(\"cqg.rtd\",,\"StudyData\", $L$2, \"FG\", \"\", \"Open\", $K$2, $A567, $P$2,$O$2,,$M$2,$N$2)","v":""},{"$f":" RTD(\"cqg.rtd\",,\"StudyData\", $L$2, \"FG\", \"\", \"High\", $K$2, $A567, $P$2,$O$2,,$M$2,$N$2)","v":""},{"$f":" RTD(\"cqg.rtd\",,\"StudyData\", $L$2, \"FG\", \"\", \"Low\", $K$2, $A567, $P$2,$O$2,,$M$2,$N$2)","v":""},{"$f":" RTD(\"cqg.rtd\",,\"StudyData\", $L$2, \"FG\", \"\", \"Close\", $K$2, $A567, $P$2,$O$2,,$M$2,$N$2)","v":""}]
[-566,{"$f":" RTD(\"cqg.rtd\",,\"StudyData\", $L$2, \"FG\", \"\", \"Time\", $K$2,$A568, $P$2, \"\", \"\",\"False\")","v":""},{"$f":" RTD(\"cqg.rtd\",,\"StudyData\", $L$2, \"FG\", \"\", \"Time\", $K$2, $A568,$P$2,$O$2, \"\",\"False\")","v":""},{"$f":" RTD(\"cqg.rtd\",,\"StudyData\", $L$2, \"FG\", \"\", \"Open\", $K$2, $A568, $P$2,$O$2,,$M$2,$N$2)","v":""},{"$f":" RTD(\"cqg.rtd\",,\"StudyData\", $L$2, \"FG\", \"\", \"High\", $K$2, $A568, $P$2,$O$2,,$M$2,$N$2)","v":""},{"$f":" RTD(\"cqg.rtd\",,\"StudyData\", $L$2, \"FG\", \"\", \"Low\", $K$2, $A568, $P$2,$O$2,,$M$2,$N$2)","v":""},{"$f":" RTD(\"cqg.rtd\",,\"StudyData\", $L$2, \"FG\", \"\", \"Close\", $K$2, $A568, $P$2,$O$2,,$M$2,$N$2)","v":""}]
[-567,{"$f":" RTD(\"cqg.rtd\",,\"StudyData\", $L$2, \"FG\", \"\", \"Time\", $K$2,$A569, $P$2, \"\", \"\",\"False\")","v":""},{"$f":" RTD(\"cqg.rtd\",,\"StudyData\", $L$2, \"FG\", \"\", \"Time\", $K$2, $A569,$P$2,$O$2, \"\",\"False\")","v":""},{"$f":" RTD(\"cqg.rtd\",,\"StudyData\", $L$2, \"FG\", \"\", \"Open\", $K$2, $A569, $P$2,$O$2,,$M$2,$N$2)","v":""},{"$f":" RTD(\"cqg.rtd\",,\"StudyData\", $L$2, \"FG\", \"\", \"High\", $K$2, $A569, $P$2,$O$2,,$M$2,$N$2)","v":""},{"$f":" RTD(\"cqg.rtd\",,\"StudyData\", $L$2, \"FG\", \"\", \"Low\", $K$2, $A569, $P$2,$O$2,,$M$2,$N$2)","v":""},{"$f":" RTD(\"cqg.rtd\",,\"StudyData\", $L$2, \"FG\", \"\", \"Close\", $K$2, $A569, $P$2,$O$2,,$M$2,$N$2)","v":""}]
[-568,{"$f":" RTD(\"cqg.rtd\",,\"StudyData\", $L$2, \"FG\", \"\", \"Time\", $K$2,$A570, $P$2, \"\", \"\",\"False\")","v":""},{"$f":" RTD(\"cqg.rtd\",,\"StudyData\", $L$2, \"FG\", \"\", \"Time\", $K$2, $A570,$P$2,$O$2, \"\",\"False\")","v":""},{"$f":" RTD(\"cqg.rtd\",,\"StudyData\", $L$2, \"FG\", \"\", \"Open\", $K$2, $A570, $P$2,$O$2,,$M$2,$N$2)","v":""},{"$f":" RTD(\"cqg.rtd\",,\"StudyData\", $L$2, \"FG\", \"\", \"High\", $K$2, $A570, $P$2,$O$2,,$M$2,$N$2)","v":""},{"$f":" RTD(\"cqg.rtd\",,\"StudyData\", $L$2, \"FG\", \"\", \"Low\", $K$2, $A570, $P$2,$O$2,,$M$2,$N$2)","v":""},{"$f":" RTD(\"cqg.rtd\",,\"StudyData\", $L$2, \"FG\", \"\", \"Close\", $K$2, $A570, $P$2,$O$2,,$M$2,$N$2)","v":""}]
[-569,{"$f":" RTD(\"cqg.rtd\",,\"StudyData\", $L$2, \"FG\", \"\", \"Time\", $K$2,$A571, $P$2, \"\", \"\",\"False\")","v":""},{"$f":" RTD(\"cqg.rtd\",,\"StudyData\", $L$2, \"FG\", \"\", \"Time\", $K$2, $A571,$P$2,$O$2, \"\",\"False\")","v":""},{"$f":" RTD(\"cqg.rtd\",,\"StudyData\", $L$2, \"FG\", \"\", \"Open\", $K$2, $A571, $P$2,$O$2,,$M$2,$N$2)","v":""},{"$f":" RTD(\"cqg.rtd\",,\"StudyData\", $L$2, \"FG\", \"\", \"High\", $K$2, $A571, $P$2,$O$2,,$M$2,$N$2)","v":""},{"$f":" RTD(\"cqg.rtd\",,\"StudyData\", $L$2, \"FG\", \"\", \"Low\", $K$2, $A571, $P$2,$O$2,,$M$2,$N$2)","v":""},{"$f":" RTD(\"cqg.rtd\",,\"StudyData\", $L$2, \"FG\", \"\", \"Close\", $K$2, $A571, $P$2,$O$2,,$M$2,$N$2)","v":""}]
[-570,{"$f":" RTD(\"cqg.rtd\",,\"StudyData\", $L$2, \"FG\", \"\", \"Time\", $K$2,$A572, $P$2, \"\", \"\",\"False\")","v":""},{"$f":" RTD(\"cqg.rtd\",,\"StudyData\", $L$2, \"FG\", \"\", \"Time\", $K$2, $A572,$P$2,$O$2, \"\",\"False\")","v":""},{"$f":" RTD(\"cqg.rtd\",,\"StudyData\", $L$2, \"FG\", \"\", \"Open\", $K$2, $A572, $P$2,$O$2,,$M$2,$N$2)","v":""},{"$f":" RTD(\"cqg.rtd\",,\"StudyData\", $L$2, \"FG\", \"\", \"High\", $K$2, $A572, $P$2,$O$2,,$M$2,$N$2)","v":""},{"$f":" RTD(\"cqg.rtd\",,\"StudyData\", $L$2, \"FG\", \"\", \"Low\", $K$2, $A572, $P$2,$O$2,,$M$2,$N$2)","v":""},{"$f":" RTD(\"cqg.rtd\",,\"StudyData\", $L$2, \"FG\", \"\", \"Close\", $K$2, $A572, $P$2,$O$2,,$M$2,$N$2)","v":""}]
[-571,{"$f":" RTD(\"cqg.rtd\",,\"StudyData\", $L$2, \"FG\", \"\", \"Time\", $K$2,$A573, $P$2, \"\", \"\",\"False\")","v":""},{"$f":" RTD(\"cqg.rtd\",,\"StudyData\", $L$2, \"FG\", \"\", \"Time\", $K$2, $A573,$P$2,$O$2, \"\",\"False\")","v":""},{"$f":" RTD(\"cqg.rtd\",,\"StudyData\", $L$2, \"FG\", \"\", \"Open\", $K$2, $A573, $P$2,$O$2,,$M$2,$N$2)","v":""},{"$f":" RTD(\"cqg.rtd\",,\"StudyData\", $L$2, \"FG\", \"\", \"High\", $K$2, $A573, $P$2,$O$2,,$M$2,$N$2)","v":""},{"$f":" RTD(\"cqg.rtd\",,\"StudyData\", $L$2, \"FG\", \"\", \"Low\", $K$2, $A573, $P$2,$O$2,,$M$2,$N$2)","v":""},{"$f":" RTD(\"cqg.rtd\",,\"StudyData\", $L$2, \"FG\", \"\", \"Close\", $K$2, $A573, $P$2,$O$2,,$M$2,$N$2)","v":""}]
[-572,{"$f":" RTD(\"cqg.rtd\",,\"StudyData\", $L$2, \"FG\", \"\", \"Time\", $K$2,$A574, $P$2, \"\", \"\",\"False\")","v":""},{"$f":" RTD(\"cqg.rtd\",,\"StudyData\", $L$2, \"FG\", \"\", \"Time\", $K$2, $A574,$P$2,$O$2, \"\",\"False\")","v":""},{"$f":" RTD(\"cqg.rtd\",,\"StudyData\", $L$2, \"FG\", \"\", \"Open\", $K$2, $A574, $P$2,$O$2,,$M$2,$N$2)","v":""},{"$f":" RTD(\"cqg.rtd\",,\"StudyData\", $L$2, \"FG\", \"\", \"High\", $K$2, $A574, $P$2,$O$2,,$M$2,$N$2)","v":""},{"$f":" RTD(\"cqg.rtd\",,\"StudyData\", $L$2, \"FG\", \"\", \"Low\", $K$2, $A574, $P$2,$O$2,,$M$2,$N$2)","v":""},{"$f":" RTD(\"cqg.rtd\",,\"StudyData\", $L$2, \"FG\", \"\", \"Close\", $K$2, $A574, $P$2,$O$2,,$M$2,$N$2)","v":""}]
[-573,{"$f":" RTD(\"cqg.rtd\",,\"StudyData\", $L$2, \"FG\", \"\", \"Time\", $K$2,$A575, $P$2, \"\", \"\",\"False\")","v":""},{"$f":" RTD(\"cqg.rtd\",,\"StudyData\", $L$2, \"FG\", \"\", \"Time\", $K$2, $A575,$P$2,$O$2, \"\",\"False\")","v":""},{"$f":" RTD(\"cqg.rtd\",,\"StudyData\", $L$2, \"FG\", \"\", \"Open\", $K$2, $A575, $P$2,$O$2,,$M$2,$N$2)","v":""},{"$f":" RTD(\"cqg.rtd\",,\"StudyData\", $L$2, \"FG\", \"\", \"High\", $K$2, $A575, $P$2,$O$2,,$M$2,$N$2)","v":""},{"$f":" RTD(\"cqg.rtd\",,\"StudyData\", $L$2, \"FG\", \"\", \"Low\", $K$2, $A575, $P$2,$O$2,,$M$2,$N$2)","v":""},{"$f":" RTD(\"cqg.rtd\",,\"StudyData\", $L$2, \"FG\", \"\", \"Close\", $K$2, $A575, $P$2,$O$2,,$M$2,$N$2)","v":""}]
[-574,{"$f":" RTD(\"cqg.rtd\",,\"StudyData\", $L$2, \"FG\", \"\", \"Time\", $K$2,$A576, $P$2, \"\", \"\",\"False\")","v":""},{"$f":" RTD(\"cqg.rtd\",,\"StudyData\", $L$2, \"FG\", \"\", \"Time\", $K$2, $A576,$P$2,$O$2, \"\",\"False\")","v":""},{"$f":" RTD(\"cqg.rtd\",,\"StudyData\", $L$2, \"FG\", \"\", \"Open\", $K$2, $A576, $P$2,$O$2,,$M$2,$N$2)","v":""},{"$f":" RTD(\"cqg.rtd\",,\"StudyData\", $L$2, \"FG\", \"\", \"High\", $K$2, $A576, $P$2,$O$2,,$M$2,$N$2)","v":""},{"$f":" RTD(\"cqg.rtd\",,\"StudyData\", $L$2, \"FG\", \"\", \"Low\", $K$2, $A576, $P$2,$O$2,,$M$2,$N$2)","v":""},{"$f":" RTD(\"cqg.rtd\",,\"StudyData\", $L$2, \"FG\", \"\", \"Close\", $K$2, $A576, $P$2,$O$2,,$M$2,$N$2)","v":""}]
[-575,{"$f":" RTD(\"cqg.rtd\",,\"StudyData\", $L$2, \"FG\", \"\", \"Time\", $K$2,$A577, $P$2, \"\", \"\",\"False\")","v":""},{"$f":" RTD(\"cqg.rtd\",,\"StudyData\", $L$2, \"FG\", \"\", \"Time\", $K$2, $A577,$P$2,$O$2, \"\",\"False\")","v":""},{"$f":" RTD(\"cqg.rtd\",,\"StudyData\", $L$2, \"FG\", \"\", \"Open\", $K$2, $A577, $P$2,$O$2,,$M$2,$N$2)","v":""},{"$f":" RTD(\"cqg.rtd\",,\"StudyData\", $L$2, \"FG\", \"\", \"High\", $K$2, $A577, $P$2,$O$2,,$M$2,$N$2)","v":""},{"$f":" RTD(\"cqg.rtd\",,\"StudyData\", $L$2, \"FG\", \"\", \"Low\", $K$2, $A577, $P$2,$O$2,,$M$2,$N$2)","v":""},{"$f":" RTD(\"cqg.rtd\",,\"StudyData\", $L$2, \"FG\", \"\", \"Close\", $K$2, $A577, $P$2,$O$2,,$M$2,$N$2)","v":""}]
[-576,{"$f":" RTD(\"cqg.rtd\",,\"StudyData\", $L$2, \"FG\", \"\", \"Time\", $K$2,$A578, $P$2, \"\", \"\",\"False\")","v":""},{"$f":" RTD(\"cqg.rtd\",,\"StudyData\", $L$2, \"FG\", \"\", \"Time\", $K$2, $A578,$P$2,$O$2, \"\",\"False\")","v":""},{"$f":" RTD(\"cqg.rtd\",,\"StudyData\", $L$2, \"FG\", \"\", \"Open\", $K$2, $A578, $P$2,$O$2,,$M$2,$N$2)","v":""},{"$f":" RTD(\"cqg.rtd\",,\"StudyData\", $L$2, \"FG\", \"\", \"High\", $K$2, $A578, $P$2,$O$2,,$M$2,$N$2)","v":""},{"$f":" RTD(\"cqg.rtd\",,\"StudyData\", $L$2, \"FG\", \"\", \"Low\", $K$2, $A578, $P$2,$O$2,,$M$2,$N$2)","v":""},{"$f":" RTD(\"cqg.rtd\",,\"StudyData\", $L$2, \"FG\", \"\", \"Close\", $K$2, $A578, $P$2,$O$2,,$M$2,$N$2)","v":""}]
[-577,{"$f":" RTD(\"cqg.rtd\",,\"StudyData\", $L$2, \"FG\", \"\", \"Time\", $K$2,$A579, $P$2, \"\", \"\",\"False\")","v":""},{"$f":" RTD(\"cqg.rtd\",,\"StudyData\", $L$2, \"FG\", \"\", \"Time\", $K$2, $A579,$P$2,$O$2, \"\",\"False\")","v":""},{"$f":" RTD(\"cqg.rtd\",,\"StudyData\", $L$2, \"FG\", \"\", \"Open\", $K$2, $A579, $P$2,$O$2,,$M$2,$N$2)","v":""},{"$f":" RTD(\"cqg.rtd\",,\"StudyData\", $L$2, \"FG\", \"\", \"High\", $K$2, $A579, $P$2,$O$2,,$M$2,$N$2)","v":""},{"$f":" RTD(\"cqg.rtd\",,\"StudyData\", $L$2, \"FG\", \"\", \"Low\", $K$2, $A579, $P$2,$O$2,,$M$2,$N$2)","v":""},{"$f":" RTD(\"cqg.rtd\",,\"StudyData\", $L$2, \"FG\", \"\", \"Close\", $K$2, $A579, $P$2,$O$2,,$M$2,$N$2)","v":""}]
[{"$f":"A579-1","v":-578},{"$f":" RTD(\"cqg.rtd\",,\"StudyData\", $L$2, \"FG\", \"\", \"Time\", $K$2,$A580, $P$2, \"\", \"\",\"False\")","v":""},{"$f":" RTD(\"cqg.rtd\",,\"StudyData\", $L$2, \"FG\", \"\", \"Time\", $K$2, $A580,$P$2,$O$2, \"\",\"False\")","v":""},{"$f":" RTD(\"cqg.rtd\",,\"StudyData\", $L$2, \"FG\", \"\", \"Open\", $K$2, $A580, $P$2,$O$2,,$M$2,$N$2)","v":""},{"$f":" RTD(\"cqg.rtd\",,\"StudyData\", $L$2, \"FG\", \"\", \"High\", $K$2, $A580, $P$2,$O$2,,$M$2,$N$2)","v":""},{"$f":" RTD(\"cqg.rtd\",,\"StudyData\", $L$2, \"FG\", \"\", \"Low\", $K$2, $A580, $P$2,$O$2,,$M$2,$N$2)","v":""},{"$f":" RTD(\"cqg.rtd\",,\"StudyData\", $L$2, \"FG\", \"\", \"Close\", $K$2, $A580, $P$2,$O$2,,$M$2,$N$2)","v":""}]
[-579,{"$f":" RTD(\"cqg.rtd\",,\"StudyData\", $L$2, \"FG\", \"\", \"Time\", $K$2,$A581, $P$2, \"\", \"\",\"False\")","v":""},{"$f":" RTD(\"cqg.rtd\",,\"StudyData\", $L$2, \"FG\", \"\", \"Time\", $K$2, $A581,$P$2,$O$2, \"\",\"False\")","v":""},{"$f":" RTD(\"cqg.rtd\",,\"StudyData\", $L$2, \"FG\", \"\", \"Open\", $K$2, $A581, $P$2,$O$2,,$M$2,$N$2)","v":""},{"$f":" RTD(\"cqg.rtd\",,\"StudyData\", $L$2, \"FG\", \"\", \"High\", $K$2, $A581, $P$2,$O$2,,$M$2,$N$2)","v":""},{"$f":" RTD(\"cqg.rtd\",,\"StudyData\", $L$2, \"FG\", \"\", \"Low\", $K$2, $A581, $P$2,$O$2,,$M$2,$N$2)","v":""},{"$f":" RTD(\"cqg.rtd\",,\"StudyData\", $L$2, \"FG\", \"\", \"Close\", $K$2, $A581, $P$2,$O$2,,$M$2,$N$2)","v":""}]
[-580,{"$f":" RTD(\"cqg.rtd\",,\"StudyData\", $L$2, \"FG\", \"\", \"Time\", $K$2,$A582, $P$2, \"\", \"\",\"False\")","v":""},{"$f":" RTD(\"cqg.rtd\",,\"StudyData\", $L$2, \"FG\", \"\", \"Time\", $K$2, $A582,$P$2,$O$2, \"\",\"False\")","v":""},{"$f":" RTD(\"cqg.rtd\",,\"StudyData\", $L$2, \"FG\", \"\", \"Open\", $K$2, $A582, $P$2,$O$2,,$M$2,$N$2)","v":""},{"$f":" RTD(\"cqg.rtd\",,\"StudyData\", $L$2, \"FG\", \"\", \"High\", $K$2, $A582, $P$2,$O$2,,$M$2,$N$2)","v":""},{"$f":" RTD(\"cqg.rtd\",,\"StudyData\", $L$2, \"FG\", \"\", \"Low\", $K$2, $A582, $P$2,$O$2,,$M$2,$N$2)","v":""},{"$f":" RTD(\"cqg.rtd\",,\"StudyData\", $L$2, \"FG\", \"\", \"Close\", $K$2, $A582, $P$2,$O$2,,$M$2,$N$2)","v":""}]
[-581,{"$f":" RTD(\"cqg.rtd\",,\"StudyData\", $L$2, \"FG\", \"\", \"Time\", $K$2,$A583, $P$2, \"\", \"\",\"False\")","v":""},{"$f":" RTD(\"cqg.rtd\",,\"StudyData\", $L$2, \"FG\", \"\", \"Time\", $K$2, $A583,$P$2,$O$2, \"\",\"False\")","v":""},{"$f":" RTD(\"cqg.rtd\",,\"StudyData\", $L$2, \"FG\", \"\", \"Open\", $K$2, $A583, $P$2,$O$2,,$M$2,$N$2)","v":""},{"$f":" RTD(\"cqg.rtd\",,\"StudyData\", $L$2, \"FG\", \"\", \"High\", $K$2, $A583, $P$2,$O$2,,$M$2,$N$2)","v":""},{"$f":" RTD(\"cqg.rtd\",,\"StudyData\", $L$2, \"FG\", \"\", \"Low\", $K$2, $A583, $P$2,$O$2,,$M$2,$N$2)","v":""},{"$f":" RTD(\"cqg.rtd\",,\"StudyData\", $L$2, \"FG\", \"\", \"Close\", $K$2, $A583, $P$2,$O$2,,$M$2,$N$2)","v":""}]
[-582,{"$f":" RTD(\"cqg.rtd\",,\"StudyData\", $L$2, \"FG\", \"\", \"Time\", $K$2,$A584, $P$2, \"\", \"\",\"False\")","v":""},{"$f":" RTD(\"cqg.rtd\",,\"StudyData\", $L$2, \"FG\", \"\", \"Time\", $K$2, $A584,$P$2,$O$2, \"\",\"False\")","v":""},{"$f":" RTD(\"cqg.rtd\",,\"StudyData\", $L$2, \"FG\", \"\", \"Open\", $K$2, $A584, $P$2,$O$2,,$M$2,$N$2)","v":""},{"$f":" RTD(\"cqg.rtd\",,\"StudyData\", $L$2, \"FG\", \"\", \"High\", $K$2, $A584, $P$2,$O$2,,$M$2,$N$2)","v":""},{"$f":" RTD(\"cqg.rtd\",,\"StudyData\", $L$2, \"FG\", \"\", \"Low\", $K$2, $A584, $P$2,$O$2,,$M$2,$N$2)","v":""},{"$f":" RTD(\"cqg.rtd\",,\"StudyData\", $L$2, \"FG\", \"\", \"Close\", $K$2, $A584, $P$2,$O$2,,$M$2,$N$2)","v":""}]
[-583,{"$f":" RTD(\"cqg.rtd\",,\"StudyData\", $L$2, \"FG\", \"\", \"Time\", $K$2,$A585, $P$2, \"\", \"\",\"False\")","v":""},{"$f":" RTD(\"cqg.rtd\",,\"StudyData\", $L$2, \"FG\", \"\", \"Time\", $K$2, $A585,$P$2,$O$2, \"\",\"False\")","v":""},{"$f":" RTD(\"cqg.rtd\",,\"StudyData\", $L$2, \"FG\", \"\", \"Open\", $K$2, $A585, $P$2,$O$2,,$M$2,$N$2)","v":""},{"$f":" RTD(\"cqg.rtd\",,\"StudyData\", $L$2, \"FG\", \"\", \"High\", $K$2, $A585, $P$2,$O$2,,$M$2,$N$2)","v":""},{"$f":" RTD(\"cqg.rtd\",,\"StudyData\", $L$2, \"FG\", \"\", \"Low\", $K$2, $A585, $P$2,$O$2,,$M$2,$N$2)","v":""},{"$f":" RTD(\"cqg.rtd\",,\"StudyData\", $L$2, \"FG\", \"\", \"Close\", $K$2, $A585, $P$2,$O$2,,$M$2,$N$2)","v":""}]
[-584,{"$f":" RTD(\"cqg.rtd\",,\"StudyData\", $L$2, \"FG\", \"\", \"Time\", $K$2,$A586, $P$2, \"\", \"\",\"False\")","v":""},{"$f":" RTD(\"cqg.rtd\",,\"StudyData\", $L$2, \"FG\", \"\", \"Time\", $K$2, $A586,$P$2,$O$2, \"\",\"False\")","v":""},{"$f":" RTD(\"cqg.rtd\",,\"StudyData\", $L$2, \"FG\", \"\", \"Open\", $K$2, $A586, $P$2,$O$2,,$M$2,$N$2)","v":""},{"$f":" RTD(\"cqg.rtd\",,\"StudyData\", $L$2, \"FG\", \"\", \"High\", $K$2, $A586, $P$2,$O$2,,$M$2,$N$2)","v":""},{"$f":" RTD(\"cqg.rtd\",,\"StudyData\", $L$2, \"FG\", \"\", \"Low\", $K$2, $A586, $P$2,$O$2,,$M$2,$N$2)","v":""},{"$f":" RTD(\"cqg.rtd\",,\"StudyData\", $L$2, \"FG\", \"\", \"Close\", $K$2, $A586, $P$2,$O$2,,$M$2,$N$2)","v":""}]
[-585,{"$f":" RTD(\"cqg.rtd\",,\"StudyData\", $L$2, \"FG\", \"\", \"Time\", $K$2,$A587, $P$2, \"\", \"\",\"False\")","v":""},{"$f":" RTD(\"cqg.rtd\",,\"StudyData\", $L$2, \"FG\", \"\", \"Time\", $K$2, $A587,$P$2,$O$2, \"\",\"False\")","v":""},{"$f":" RTD(\"cqg.rtd\",,\"StudyData\", $L$2, \"FG\", \"\", \"Open\", $K$2, $A587, $P$2,$O$2,,$M$2,$N$2)","v":""},{"$f":" RTD(\"cqg.rtd\",,\"StudyData\", $L$2, \"FG\", \"\", \"High\", $K$2, $A587, $P$2,$O$2,,$M$2,$N$2)","v":""},{"$f":" RTD(\"cqg.rtd\",,\"StudyData\", $L$2, \"FG\", \"\", \"Low\", $K$2, $A587, $P$2,$O$2,,$M$2,$N$2)","v":""},{"$f":" RTD(\"cqg.rtd\",,\"StudyData\", $L$2, \"FG\", \"\", \"Close\", $K$2, $A587, $P$2,$O$2,,$M$2,$N$2)","v":""}]
[-586,{"$f":" RTD(\"cqg.rtd\",,\"StudyData\", $L$2, \"FG\", \"\", \"Time\", $K$2,$A588, $P$2, \"\", \"\",\"False\")","v":""},{"$f":" RTD(\"cqg.rtd\",,\"StudyData\", $L$2, \"FG\", \"\", \"Time\", $K$2, $A588,$P$2,$O$2, \"\",\"False\")","v":""},{"$f":" RTD(\"cqg.rtd\",,\"StudyData\", $L$2, \"FG\", \"\", \"Open\", $K$2, $A588, $P$2,$O$2,,$M$2,$N$2)","v":""},{"$f":" RTD(\"cqg.rtd\",,\"StudyData\", $L$2, \"FG\", \"\", \"High\", $K$2, $A588, $P$2,$O$2,,$M$2,$N$2)","v":""},{"$f":" RTD(\"cqg.rtd\",,\"StudyData\", $L$2, \"FG\", \"\", \"Low\", $K$2, $A588, $P$2,$O$2,,$M$2,$N$2)","v":""},{"$f":" RTD(\"cqg.rtd\",,\"StudyData\", $L$2, \"FG\", \"\", \"Close\", $K$2, $A588, $P$2,$O$2,,$M$2,$N$2)","v":""}]
[-587,{"$f":" RTD(\"cqg.rtd\",,\"StudyData\", $L$2, \"FG\", \"\", \"Time\", $K$2,$A589, $P$2, \"\", \"\",\"False\")","v":""},{"$f":" RTD(\"cqg.rtd\",,\"StudyData\", $L$2, \"FG\", \"\", \"Time\", $K$2, $A589,$P$2,$O$2, \"\",\"False\")","v":""},{"$f":" RTD(\"cqg.rtd\",,\"StudyData\", $L$2, \"FG\", \"\", \"Open\", $K$2, $A589, $P$2,$O$2,,$M$2,$N$2)","v":""},{"$f":" RTD(\"cqg.rtd\",,\"StudyData\", $L$2, \"FG\", \"\", \"High\", $K$2, $A589, $P$2,$O$2,,$M$2,$N$2)","v":""},{"$f":" RTD(\"cqg.rtd\",,\"StudyData\", $L$2, \"FG\", \"\", \"Low\", $K$2, $A589, $P$2,$O$2,,$M$2,$N$2)","v":""},{"$f":" RTD(\"cqg.rtd\",,\"StudyData\", $L$2, \"FG\", \"\", \"Close\", $K$2, $A589, $P$2,$O$2,,$M$2,$N$2)","v":""}]

{"sheet":"Sheet2","index":4,"n_rows":59,"n_cols":16,"rows_kept":59,"cut":false,"hidden":true,"merged":[]}
[{"$f":"Sheet1!A1","v":"S.US.ADI"},{"$f":"Sheet1!B1","v":"Semiconductors"},{"$f":"IFERROR(RTD(\"cqg.rtd\", ,\"ContractData\",A1, \"PerCentNetLastTrade\",, \"T\")/100,\"\")","v":1.8230925050641458E-3},{"$f":"IFERROR(RANK(C1,$C$1:C$58,0)+COUNTIF($C$1:C1,C1)-1,\"\")","v":36},{"$f":"A1","v":"S.US.ADI"},{"$f":"IFERROR(RTD(\"cqg.rtd\", ,\"ContractData\",A1, \"LongDescription\",, \"T\"),\"\")","v":"Analog Devices Inc"},{"$f":"B1","v":"Semiconductors"},{"$f":"C1","v":1.8230925050641458E-3},1,{"$f":"IFERROR(VLOOKUP(I1,$D$1:$H$58,2,FALSE),\"\")","v":"S.US.NKLA"},{"$f":"IFERROR(VLOOKUP(I1,$D$1:$H$58,3,FALSE),\"\")","v":"Nikola Corporation"},{"$f":"IFERROR(VLOOKUP(I1,$D$1:$H$58,4,FALSE),\"\")","v":"Motorcycle Manufacturers"},{"$f":"IFERROR(VLOOKUP(I1,$D$1:$H$58,5,FALSE),\"\")","v":7.8703703703703706E-2},{"$f":"IFERROR(RIGHT(J1,LEN(J1)-5),\"\")","v":"NKLA"},{"$f":"MAX(M1:M15)","v":7.8703703703703706E-2},{"$f":"J1","v":"S.US.NKLA"}]
[{"$f":"Sheet1!A2","v":"S.US.ALSN"},{"$f":"Sheet1!B2","v":"Construction Machinery & Heavy Trucks"},{"$f":"IFERROR(RTD(\"cqg.rtd\", ,\"ContractData\",A2, \"PerCentNetLastTrade\",, \"T\")/100,\"\")","v":-4.8436811977102603E-3},{"$f":"IFERROR(RANK(C2,$C$1:C$58,0)+COUNTIF($C$1:C2,C2)-1,\"\")","v":49},{"$f":"A2","v":"S.US.ALSN"},{"$f":"IFERROR(RTD(\"cqg.rtd\", ,\"ContractData\",A2, \"LongDescription\",, \"T\"),\"\")","v":"Allison Transmission Holdings, Inc."},{"$f":"B2","v":"Construction Machinery & Heavy Trucks"},{"$f":"C2","v":-4.8436811977102603E-3},{"$f":"I1+1","v":2},"S.US.BLNK","Blink Charging Co.","Automotive Retail",6.1138211382113825E-2,{"$f":"IFERROR(RIGHT(J2,LEN(J2)-5),\"\")","v":"BLNK"},{"$f":"MIN(M1:M15)","v":1.7519536173430803E-2},{"$f":"J2","v":"S.US.BLNK"}]
[{"$f":"Sheet1!A3","v":"S.US.AMBA"},{"$f":"Sheet1!B3","v":"Semiconductors"},{"$f":"IFERROR(RTD(\"cqg.rtd\", ,\"ContractData\",A3, \"PerCentNetLastTrade\",, \"T\")/100,\"\")","v":1.2944248892926082E-2},{"$f":"IFERROR(RANK(C3,$C$1:C$58,0)+COUNTIF($C$1:C3,C3)-1,\"\")","v":21},"S.US.AMBA",{"$f":"IFERROR(RTD(\"cqg.rtd\", ,\"ContractData\",A3, \"LongDescription\",, \"T\"),\"\")","v":"Ambarella, Inc. Ordinary Shares"},"Semiconductors",1.2944248892926082E-2,{"$f":"I2+1","v":3},"S.US.LYFT","Lyft, Inc. Class A","Industrial Machinery",4.9084691209012273E-2,"LYFT",null,"S.US.LYFT"]
[{"$f":"Sheet1!A4","v":"S.US.ANSS"},{"$f":"Sheet1!B4","v":"Application Software"},{"$f":"IFERROR(RTD(\"cqg.rtd\", ,\"ContractData\",A4, \"PerCentNetLastTrade\",, \"T\")/100,\"\")","v":5.7591134078386211E-3},{"$f":"IFERROR(RANK(C4,$C$1:C$58,0)+COUNTIF($C$1:C4,C4)-1,\"\")","v":28},"S.US.ANSS",{"$f":"IFERROR(RTD(\"cqg.rtd\", ,\"ContractData\",A4, \"LongDescription\",, \"T\"),\"\")","v":"ANSYS Inc"},"Application Software",5.7591134078386211E-3,4,"S.US.UBER","Uber Technologies, Inc.","Trucking",3.9149652704693748E-2,"UBER",null,"S.US.UBER"]
[{"$f":"Sheet1!A5","v":"S.US.APTV"},{"$f":"Sheet1!B5","v":"Auto Parts & Equipment"},{"$f":"IFERROR(RTD(\"cqg.rtd\", ,\"ContractData\",A5, \"PerCentNetLastTrade\",, \"T\")/100,\"\")","v":2.5172612197928651E-3},{"$f":"IFERROR(RANK(C5,$C$1:C$58,0)+COUNTIF($C$1:C5,C5)-1,\"\")","v":34},"S.US.APTV",{"$f":"IFERROR(RTD(\"cqg.rtd\", ,\"ContractData\",A5, \"LongDescription\",, \"T\"),\"\")","v":"Aptiv PLC"},"Auto Parts & Equipment",2.5172612197928651E-3,5,"S.US.VNE","Veoneer, Inc.","Auto Parts & Equipment",3.2461677186654644E-2,"VNE",null,"S.US.VNE"]
[{"$f":"Sheet1!A6","v":"S.US.AXL"},{"$f":"Sheet1!B6","v":"Auto Parts & Equipment"},{"$f":"IFERROR(RTD(\"cqg.rtd\", ,\"ContractData\",A6, \"PerCentNetLastTrade\",, \"T\")/100,\"\")","v":2.0351526364477335E-2},{"$f":"IFERROR(RANK(C6,$C$1:C$58,0)+COUNTIF($C$1:C6,C6)-1,\"\")","v":9},"S.US.AXL",{"$f":"IFERROR(RTD(\"cqg.rtd\", ,\"ContractData\",A6, \"LongDescription\",, \"T\"),\"\")","v":"American Axle and Manufac"},"Auto Parts & Equipment",2.0351526364477335E-2,6,"S.US.F","Ford Motor Company","Automobile Manufacturers",2.4691358024691357E-2,"F",null,"S.US.F"]
[{"$f":"Sheet1!A7","v":"S.US.BIDU"},{"$f":"Sheet1!B7","v":"Interactive Media & Services"},{"$f":"IFERROR(RTD(\"cqg.rtd\", ,\"ContractData\",A7, \"PerCentNetLastTrade\",, \"T\")/100,\"\")","v":1.379492600422833E-2},{"$f":"IFERROR(RANK(C7,$C$1:C$58,0)+COUNTIF($C$1:C7,C7)-1,\"\")","v":19},"S.US.BIDU",{"$f":"IFERROR(RTD(\"cqg.rtd\", ,\"ContractData\",A7, \"LongDescription\",, \"T\"),\"\")","v":"Baidu Inc"},"Interactive Media & Services",1.379492600422833E-2,7,"S.US.PLUG","Plug Power, Inc.","Alternative Carriers",2.3656776263031275E-2,"PLUG",null,"S.US.PLUG"]
[{"$f":"Sheet1!A8","v":"S.US.BLDP"},{"$f":"Sheet1!B8","v":"Electrical Components & Equipment"},{"$f":"IFERROR(RTD(\"cqg.rtd\", ,\"ContractData\",A8, \"PerCentNetLastTrade\",, \"T\")/100,\"\")","v":2.0293911826452064E-2},{"$f":"IFERROR(RANK(C8,$C$1:C$58,0)+COUNTIF($C$1:C8,C8)-1,\"\")","v":10},"S.US.BLDP",{"$f":"IFERROR(RTD(\"cqg.rtd\", ,\"ContractData\",A8, \"LongDescription\",, \"T\"),\"\")","v":"Ballard Power System"},"Electrical Components & Equipment",2.0293911826452064E-2,8,"S.US.GILT","Gilat Satellite Ntks Ltd","Electronic Equipment & Instruments",2.1615472127417518E-2,"GILT",null,"S.US.GILT"]
[{"$f":"Sheet1!A9","v":"S.US.BLNK"},{"$f":"Sheet1!B9","v":"Automotive Retail"},{"$f":"IFERROR(RTD(\"cqg.rtd\", ,\"ContractData\",A9, \"PerCentNetLastTrade\",, \"T\")/100,\"\")","v":6.1138211382113825E-2},{"$f":"IFERROR(RANK(C9,$C$1:C$58,0)+COUNTIF($C$1:C9,C9)-1,\"\")","v":2},"S.US.BLNK",{"$f":"IFERROR(RTD(\"cqg.rtd\", ,\"ContractData\",A9, \"LongDescription\",, \"T\"),\"\")","v":"Blink Charging Co."},"Automotive Retail",6.1138211382113825E-2,9,"S.US.AXL","American Axle and Manufac","Auto Parts & Equipment",2.0351526364477335E-2,"AXL",null,"S.US.AXL"]
[{"$f":"Sheet1!A10","v":"S.US.BWA"},{"$f":"Sheet1!B10","v":"Auto Parts & Equipment"},{"$f":"IFERROR(RTD(\"cqg.rtd\", ,\"ContractData\",A10, \"PerCentNetLastTrade\",, \"T\")/100,\"\")","v":-4.2594385285575995E-3},{"$f":"IFERROR(RANK(C10,$C$1:C$58,0)+COUNTIF($C$1:C10,C10)-1,\"\")","v":47},"S.US.BWA",{"$f":"IFERROR(RTD(\"cqg.rtd\", ,\"ContractData\",A10, \"LongDescription\",, \"T\"),\"\")","v":"Borg Warner Inc"},"Auto Parts & Equipment",-4.2594385285575995E-3,10,"S.US.BLDP","Ballard Power System","Electrical Components & Equipment",2.0293911826452064E-2,"BLDP",null,"S.US.BLDP"]
[{"$f":"Sheet1!A11","v":"S.US.CAMP"},{"$f":"Sheet1!B11","v":"Communications Equipment"},{"$f":"IFERROR(RTD(\"cqg.rtd\", ,\"ContractData\",A11, \"PerCentNetLastTrade\",, \"T\")/100,\"\")","v":8.2335329341317372E-3},{"$f":"IFERROR(RANK(C11,$C$1:C$58,0)+COUNTIF($C$1:C11,C11)-1,\"\")","v":25},"S.US.CAMP",{"$f":"IFERROR(RTD(\"cqg.rtd\", ,\"ContractData\",A11, \"LongDescription\",, \"T\"),\"\")","v":"CalAmp Corp."},"Communications Equipment",8.2335329341317372E-3,11,"S.US.TTM","Tata Motors Limited","Automobile Manufacturers",2.0091324200913242E-2,"TTM",null,"S.US.TTM"]
[{"$f":"Sheet1!A12","v":"S.US.CAR"},{"$f":"Sheet1!B12","v":"Trucking"},{"$f":"IFERROR(RTD(\"cqg.rtd\", ,\"ContractData\",A12, \"PerCentNetLastTrade\",, \"T\")/100,\"\")","v":1.6354344122657582E-2},{"$f":"IFERROR(RANK(C12,$C$1:C$58,0)+COUNTIF($C$1:C12,C12)-1,\"\")","v":17},"S.US.CAR",{"$f":"IFERROR(RTD(\"cqg.rtd\", ,\"ContractData\",A12, \"LongDescription\",, \"T\"),\"\")","v":"AVIS Budget Group Inc"},"Trucking",1.6354344122657582E-2,12,"S.US.WKHS","Workhorse Group, Inc.","Auto Parts & Equipment",1.9393939393939394E-2,"WKHS",null,"S.US.WKHS"]
[{"$f":"Sheet1!A13","v":"S.US.CMI"},{"$f":"Sheet1!B13","v":"Construction Machinery & Heavy Trucks"},{"$f":"IFERROR(RTD(\"cqg.rtd\", ,\"ContractData\",A13, \"PerCentNetLastTrade\",, \"T\")/100,\"\")","v":-1.2541303694803245E-2},{"$f":"IFERROR(RANK(C13,$C$1:C$58,0)+COUNTIF($C$1:C13,C13)-1,\"\")","v":57},"S.US.CMI",{"$f":"IFERROR(RTD(\"cqg.rtd\", ,\"ContractData\",A13, \"LongDescription\",, \"T\"),\"\")","v":"Cummins Inc"},"Construction Machinery & Heavy Trucks",-1.2541303694803245E-2,13,"S.US.HMC","Honda Motor Co Ltd","Aerospace & Defence",1.9063545150501671E-2,"HMC",null,"S.US.HMC"]
[{"$f":"Sheet1!A14","v":"S.US.DAN"},{"$f":"Sheet1!B14","v":"Auto Parts & Equipment"},{"$f":"IFERROR(RTD(\"cqg.rtd\", ,\"ContractData\",A14, \"PerCentNetLastTrade\",, \"T\")/100,\"\")","v":4.3165467625899279E-3},{"$f":"IFERROR(RANK(C14,$C$1:C$58,0)+COUNTIF($C$1:C14,C14)-1,\"\")","v":30},"S.US.DAN",{"$f":"IFERROR(RTD(\"cqg.rtd\", ,\"ContractData\",A14, \"LongDescription\",, \"T\"),\"\")","v":"Dana Holding Corp"},"Auto Parts & Equipment",4.3165467625899279E-3,14,"S.US.NIU","Niu Technologies","Automobile Manufacturers",1.8370883882149046E-2,"NIU",null,"S.US.NIU"]
[{"$f":"Sheet1!A15","v":"S.US.F"},{"$f":"Sheet1!B15","v":"Automobile Manufacturers"},{"$f":"IFERROR(RTD(\"cqg.rtd\", ,\"ContractData\",A15, \"PerCentNetLastTrade\",, \"T\")/100,\"\")","v":2.4691358024691357E-2},{"$f":"IFERROR(RANK(C15,$C$1:C$58,0)+COUNTIF($C$1:C15,C15)-1,\"\")","v":6},"S.US.F",{"$f":"IFERROR(RTD(\"cqg.rtd\", ,\"ContractData\",A15, \"LongDescription\",, \"T\"),\"\")","v":"Ford Motor Company"},"Automobile Manufacturers",2.4691358024691357E-2,15,"S.US.TM","Toyota Motor Corporation ADR","Automobile Manufacturers",1.7519536173430803E-2,"TM",null,"S.US.TM"]
[{"$f":"Sheet1!A16","v":"S.US.GILT"},{"$f":"Sheet1!B16","v":"Electronic Equipment & Instruments"},{"$f":"IFERROR(RTD(\"cqg.rtd\", ,\"ContractData\",A16, \"PerCentNetLastTrade\",, \"T\")/100,\"\")","v":2.1615472127417518E-2},{"$f":"IFERROR(RANK(C16,$C$1:C$58,0)+COUNTIF($C$1:C16,C16)-1,\"\")","v":8},"S.US.GILT",{"$f":"IFERROR(RTD(\"cqg.rtd\", ,\"ContractData\",A16, \"LongDescription\",, \"T\"),\"\")","v":"Gilat Satellite Ntks Ltd"},"Electronic Equipment & Instruments",2.1615472127417518E-2,16,"S.US.YNDX","Yandex N.V.","Interactive Media & Services",1.7119522538087011E-2]
[{"$f":"Sheet1!A17","v":"S.US.GM"},{"$f":"Sheet1!B17","v":"Communications Equipment"},{"$f":"IFERROR(RTD(\"cqg.rtd\", ,\"ContractData\",A17, \"PerCentNetLastTrade\",, \"T\")/100,\"\")","v":1.142041399000714E-2},{"$f":"IFERROR(RANK(C17,$C$1:C$58,0)+COUNTIF($C$1:C17,C17)-1,\"\")","v":22},"S.US.GM",{"$f":"IFERROR(RTD(\"cqg.rtd\", ,\"ContractData\",A17, \"LongDescription\",, \"T\"),\"\")","v":"General Motors Company"},"Communications Equipment",1.142041399000714E-2,17,"S.US.CAR","AVIS Budget Group Inc","Trucking",1.6354344122657582E-2]
[{"$f":"Sheet1!A18","v":"S.US.HEI"},{"$f":"Sheet1!B18","v":"Automobile Manufacturers"},{"$f":"IFERROR(RTD(\"cqg.rtd\", ,\"ContractData\",A18, \"PerCentNetLastTrade\",, \"T\")/100,\"\")","v":-7.8481201883548839E-3},{"$f":"IFERROR(RANK(C18,$C$1:C$58,0)+COUNTIF($C$1:C18,C18)-1,\"\")","v":54},"S.US.HEI",{"$f":"IFERROR(RTD(\"cqg.rtd\", ,\"ContractData\",A18, \"LongDescription\",, \"T\"),\"\")","v":"HEICO CORP"},"Automobile Manufacturers",-7.8481201883548839E-3,18,"S.US.IX","ORIX Corporation","Semiconductors",1.4516700106219757E-2]
[{"$f":"Sheet1!A19","v":"S.US.HMC"},{"$f":"Sheet1!B19","v":"Aerospace & Defence"},{"$f":"IFERROR(RTD(\"cqg.rtd\", ,\"ContractData\",A19, \"PerCentNetLastTrade\",, \"T\")/100,\"\")","v":1.9063545150501671E-2},{"$f":"IFERROR(RANK(C19,$C$1:C$58,0)+COUNTIF($C$1:C19,C19)-1,\"\")","v":13},"S.US.HMC",{"$f":"IFERROR(RTD(\"cqg.rtd\", ,\"ContractData\",A19, \"LongDescription\",, \"T\"),\"\")","v":"Honda Motor Co Ltd"},"Aerospace & Defence",1.9063545150501671E-2,19,"S.US.BIDU","Baidu Inc","Interactive Media & Services",1.379492600422833E-2]
[{"$f":"Sheet1!A20","v":"S.US.HY"},{"$f":"Sheet1!B20","v":"Automobile Manufacturers"},{"$f":"IFERROR(RTD(\"cqg.rtd\", ,\"ContractData\",A20, \"PerCentNetLastTrade\",, \"T\")/100,\"\")","v":-7.5305115554401454E-3},{"$f":"IFERROR(RANK(C20,$C$1:C$58,0)+COUNTIF($C$1:C20,C20)-1,\"\")","v":53},"S.US.HY",{"$f":"IFERROR(RTD(\"cqg.rtd\", ,\"ContractData\",A20, \"LongDescription\",, \"T\"),\"\")","v":"Hyster-Yale Materials Handling, Inc."},"Automobile Manufacturers",-7.5305115554401454E-3,20,"S.US.NXPI","NXP Semiconductors N.V.","Semiconductors",1.3285908567841825E-2]
[{"$f":"Sheet1!A21","v":"S.US.INTC"},{"$f":"Sheet1!B21","v":"Industrial Machinery"},{"$f":"IFERROR(RTD(\"cqg.rtd\", ,\"ContractData\",A21, \"PerCentNetLastTrade\",, \"T\")/100,\"\")","v":6.3256822700162663E-3},{"$f":"IFERROR(RANK(C21,$C$1:C$58,0)+COUNTIF($C$1:C21,C21)-1,\"\")","v":26},"S.US.INTC",{"$f":"IFERROR(RTD(\"cqg.rtd\", ,\"ContractData\",A21, \"LongDescription\",, \"T\"),\"\")","v":"Intel Corporation"},"Industrial Machinery",6.3256822700162663E-3,21,"S.US.AMBA","Ambarella, Inc. Ordinary Shares","Semiconductors",1.2944248892926082E-2]
[{"$f":"Sheet1!A22","v":"S.US.IX"},{"$f":"Sheet1!B22","v":"Semiconductors"},{"$f":"IFERROR(RTD(\"cqg.rtd\", ,\"ContractData\",A22, \"PerCentNetLastTrade\",, \"T\")/100,\"\")","v":1.4516700106219757E-2},{"$f":"IFERROR(RANK(C22,$C$1:C$58,0)+COUNTIF($C$1:C22,C22)-1,\"\")","v":18},"S.US.IX",{"$f":"IFERROR(RTD(\"cqg.rtd\", ,\"ContractData\",A22, \"LongDescription\",, \"T\"),\"\")","v":"ORIX Corporation"},"Semiconductors",1.4516700106219757E-2,22,"S.US.GM","General Motors Company","Communications Equipment",1.142041399000714E-2]
[{"$f":"Sheet1!A23","v":"S.US.KNDI"},{"$f":"Sheet1!B23","v":"Other Diversified Financial Services"},{"$f":"IFERROR(RTD(\"cqg.rtd\", ,\"ContractData\",A23, \"PerCentNetLastTrade\",, \"T\")/100,\"\")","v":-9.8039215686274508E-3},{"$f":"IFERROR(RANK(C23,$C$1:C$58,0)+COUNTIF($C$1:C23,C23)-1,\"\")","v":56},"S.US.KNDI",{"$f":"IFERROR(RTD(\"cqg.rtd\", ,\"ContractData\",A23, \"LongDescription\",, \"T\"),\"\")","v":"Kandi Technologies Group Inc."},"Other Diversified Financial Services",-9.8039215686274508E-3,23,"S.US.XPER","Xperi Holding Corporation","Systems Software",9.1039770004791559E-3]
[{"$f":"Sheet1!A24","v":"S.US.LEA"},{"$f":"Sheet1!B24","v":"Auto Parts & Equipment"},{"$f":"IFERROR(RTD(\"cqg.rtd\", ,\"ContractData\",A24, \"PerCentNetLastTrade\",, \"T\")/100,\"\")","v":8.8108108108108114E-3},{"$f":"IFERROR(RANK(C24,$C$1:C$58,0)+COUNTIF($C$1:C24,C24)-1,\"\")","v":24},"S.US.LEA",{"$f":"IFERROR(RTD(\"cqg.rtd\", ,\"ContractData\",A24, \"LongDescription\",, \"T\"),\"\")","v":"Lear Corporation"},"Auto Parts & Equipment",8.8108108108108114E-3,24,"S.US.LEA","Lear Corporation","Auto Parts & Equipment",8.8108108108108114E-3]
[{"$f":"Sheet1!A25","v":"S.US.LXFR"},{"$f":"Sheet1!B25","v":"Auto Parts & Equipment"},{"$f":"IFERROR(RTD(\"cqg.rtd\", ,\"ContractData\",A25, \"PerCentNetLastTrade\",, \"T\")/100,\"\")","v":4.4883303411131061E-4},{"$f":"IFERROR(RANK(C25,$C$1:C$58,0)+COUNTIF($C$1:C25,C25)-1,\"\")","v":39},"S.US.LXFR",{"$f":"IFERROR(RTD(\"cqg.rtd\", ,\"ContractData\",A25, \"LongDescription\",, \"T\"),\"\")","v":"Luxfer Holdings Plc"},"Auto Parts & Equipment",4.4883303411131061E-4,25,"S.US.CAMP","CalAmp Corp.","Communications Equipment",8.2335329341317372E-3]
[{"$f":"Sheet1!A26","v":"S.US.LYFT"},{"$f":"Sheet1!B26","v":"Industrial Machinery"},{"$f":"IFERROR(RTD(\"cqg.rtd\", ,\"ContractData\",A26, \"PerCentNetLastTrade\",, \"T\")/100,\"\")","v":4.9084691209012273E-2},{"$f":"IFERROR(RANK(C26,$C$1:C$58,0)+COUNTIF($C$1:C26,C26)-1,\"\")","v":3},"S.US.LYFT",{"$f":"IFERROR(RTD(\"cqg.rtd\", ,\"ContractData\",A26, \"LongDescription\",, \"T\"),\"\")","v":"Lyft, Inc. Class A"},"Industrial Machinery",4.9084691209012273E-2,26,"S.US.INTC","Intel Corporation","Industrial Machinery",6.3256822700162663E-3]
[{"$f":"Sheet1!A27","v":"S.US.MOD"},{"$f":"Sheet1!B27","v":"Trucking"},{"$f":"IFERROR(RTD(\"cqg.rtd\", ,\"ContractData\",A27, \"PerCentNetLastTrade\",, \"T\")/100,\"\")","v":-4.7169811320754715E-3},{"$f":"IFERROR(RANK(C27,$C$1:C$58,0)+COUNTIF($C$1:C27,C27)-1,\"\")","v":48},"S.US.MOD",{"$f":"IFERROR(RTD(\"cqg.rtd\", ,\"ContractData\",A27, \"LongDescription\",, \"T\"),\"\")","v":"Modine Manufacturing Co"},"Trucking",-4.7169811320754715E-3,27,"S.US.ON","ON Semiconductor Corp","Semiconductors",5.9880239520958079E-3]
[{"$f":"Sheet1!A28","v":"S.US.MT"},{"$f":"Sheet1!B28","v":"Auto Parts & Equipment"},{"$f":"IFERROR(RTD(\"cqg.rtd\", ,\"ContractData\",A28, \"PerCentNetLastTrade\",, \"T\")/100,\"\")","v":2.1263669501822599E-3},{"$f":"IFERROR(RANK(C28,$C$1:C$58,0)+COUNTIF($C$1:C28,C28)-1,\"\")","v":35},"S.US.MT",{"$f":"IFERROR(RTD(\"cqg.rtd\", ,\"ContractData\",A28, \"LongDescription\",, \"T\"),\"\")","v":"Arcelor Mittal"},"Auto Parts & Equipment",2.1263669501822599E-3,28,"S.US.ANSS","ANSYS Inc","Application Software",5.7591134078386211E-3]
[{"$f":"Sheet1!A29","v":"S.US.MTOR"},{"$f":"Sheet1!B29","v":"Steel"},{"$f":"IFERROR(RTD(\"cqg.rtd\", ,\"ContractData\",A29, \"PerCentNetLastTrade\",, \"T\")/100,\"\")","v":-6.8571428571428568E-3},{"$f":"IFERROR(RANK(C29,$C$1:C$58,0)+COUNTIF($C$1:C29,C29)-1,\"\")","v":52},"S.US.MTOR",{"$f":"IFERROR(RTD(\"cqg.rtd\", ,\"ContractData\",A29, \"LongDescription\",, \"T\"),\"\")","v":"Meritor Inc."},"Steel",-6.8571428571428568E-3,29,"S.US.STM","STMicroelectronics N.V.","Automobile Manufacturers",5.6465273856578201E-3]
[{"$f":"Sheet1!A30","v":"S.US.NIO"},{"$f":"Sheet1!B30","v":"Construction Machinery & Heavy Trucks"},{"$f":"IFERROR(RTD(\"cqg.rtd\", ,\"ContractData\",A30, \"PerCentNetLastTrade\",, \"T\")/100,\"\")","v":-1.3013901212658975E-2},{"$f":"IFERROR(RANK(C30,$C$1:C$58,0)+COUNTIF($C$1:C30,C30)-1,\"\")","v":58},"S.US.NIO",{"$f":"IFERROR(RTD(\"cqg.rtd\", ,\"ContractData\",A30, \"LongDescription\",, \"T\"),\"\")","v":"NIO, Inc."},"Construction Machinery & Heavy Trucks",-1.3013901212658975E-2,30,"S.US.DAN","Dana Holding Corp","Auto Parts & Equipment",4.3165467625899279E-3]
[{"$f":"Sheet1!A31","v":"S.US.NIU"},{"$f":"Sheet1!B31","v":"Automobile Manufacturers"},{"$f":"IFERROR(RTD(\"cqg.rtd\", ,\"ContractData\",A31, \"PerCentNetLastTrade\",, \"T\")/100,\"\")","v":1.8370883882149046E-2},{"$f":"IFERROR(RANK(C31,$C$1:C$58,0)+COUNTIF($C$1:C31,C31)-1,\"\")","v":14},"S.US.NIU",{"$f":"IFERROR(RTD(\"cqg.rtd\", ,\"ContractData\",A31, \"LongDescription\",, \"T\"),\"\")","v":"Niu Technologies"},"Automobile Manufacturers",1.8370883882149046E-2,31,"S.US.VNT","Vontier Corporation","Electronic Equipment & Instruments",3.8089657193085265E-3]
[{"$f":"Sheet1!A32","v":"S.US.NKLA"},{"$f":"Sheet1!B32","v":"Motorcycle Manufacturers"},{"$f":"IFERROR(RTD(\"cqg.rtd\", ,\"ContractData\",A32, \"PerCentNetLastTrade\",, \"T\")/100,\"\")","v":7.8703703703703706E-2},{"$f":"IFERROR(RANK(C32,$C$1:C$58,0)+COUNTIF($C$1:C32,C32)-1,\"\")","v":1},"S.US.NKLA",{"$f":"IFERROR(RTD(\"cqg.rtd\", ,\"ContractData\",A32, \"LongDescription\",, \"T\"),\"\")","v":"Nikola Corporation"},"Motorcycle Manufacturers",7.8703703703703706E-2,32,"S.US.NVDA","NVIDIA Corp","Construction Machinery & Heavy Trucks",3.3355688115491865E-3]
[{"$f":"Sheet1!A33","v":"S.US.NVDA"},{"$f":"Sheet1!B33","v":"Construction Machinery & Heavy Trucks"},{"$f":"IFERROR(RTD(\"cqg.rtd\", ,\"ContractData\",A33, \"PerCentNetLastTrade\",, \"T\")/100,\"\")","v":3.3355688115491865E-3},{"$f":"IFERROR(RANK(C33,$C$1:C$58,0)+COUNTIF($C$1:C33,C33)-1,\"\")","v":32},"S.US.NVDA",{"$f":"IFERROR(RTD(\"cqg.rtd\", ,\"ContractData\",A33, \"LongDescription\",, \"T\"),\"\")","v":"NVIDIA Corp"},"Construction Machinery & Heavy Trucks",3.3355688115491865E-3,33,{"$f":"IFERROR(VLOOKUP(I33,$D$1:$H$58,2,FALSE),\"\")","v":"S.US.TDY"},{"$f":"IFERROR(VLOOKUP(I33,$D$1:$H$58,3,FALSE),\"\")","v":"Teledyne Technologies Inc"},{"$f":"IFERROR(VLOOKUP(I33,$D$1:$H$58,4,FALSE),\"\")","v":"Semiconductors"},{"$f":"IFERROR(VLOOKUP(I33,$D$1:$H$58,5,FALSE),\"\")","v":2.5463018568786184E-3}]
[{"$f":"Sheet1!A34","v":"S.US.NXPI"},{"$f":"Sheet1!B34","v":"Semiconductors"},{"$f":"IFERROR(RTD(\"cqg.rtd\", ,\"ContractData\",A34, \"PerCentNetLastTrade\",, \"T\")/100,\"\")","v":1.3285908567841825E-2},{"$f":"IFERROR(RANK(C34,$C$1:C$58,0)+COUNTIF($C$1:C34,C34)-1,\"\")","v":20},"S.US.NXPI",{"$f":"IFERROR(RTD(\"cqg.rtd\", ,\"ContractData\",A34, \"LongDescription\",, \"T\"),\"\")","v":"NXP Semiconductors N.V."},"Semiconductors",1.3285908567841825E-2,34,"S.US.APTV","Aptiv PLC","Auto Parts & Equipment",2.5172612197928651E-3]
[{"$f":"Sheet1!A35","v":"S.US.ON"},{"$f":"Sheet1!B35","v":"Semiconductors"},{"$f":"IFERROR(RTD(\"cqg.rtd\", ,\"ContractData\",A35, \"PerCentNetLastTrade\",, \"T\")/100,\"\")","v":5.9880239520958079E-3},{"$f":"IFERROR(RANK(C35,$C$1:C$58,0)+COUNTIF($C$1:C35,C35)-1,\"\")","v":27},"S.US.ON",{"$f":"IFERROR(RTD(\"cqg.rtd\", ,\"ContractData\",A35, \"LongDescription\",, \"T\"),\"\")","v":"ON Semiconductor Corp"},"Semiconductors",5.9880239520958079E-3,35,"S.US.MT","Arcelor Mittal","Auto Parts & Equipment",2.1263669501822599E-3]
[{"$f":"Sheet1!A36","v":"S.US.ORBC"},{"$f":"Sheet1!B36","v":"Semiconductors"},{"$f":"IFERROR(RTD(\"cqg.rtd\", ,\"ContractData\",A36, \"PerCentNetLastTrade\",, \"T\")/100,\"\")","v":-8.9285714285714283E-4},{"$f":"IFERROR(RANK(C36,$C$1:C$58,0)+COUNTIF($C$1:C36,C36)-1,\"\")","v":41},"S.US.ORBC",{"$f":"IFERROR(RTD(\"cqg.rtd\", ,\"ContractData\",A36, \"LongDescription\",, \"T\"),\"\")","v":"ORBCOMM Inc."},"Semiconductors",-8.9285714285714283E-4,36,"S.US.ADI","Analog Devices Inc","Semiconductors",1.8230925050641458E-3]
[{"$f":"Sheet1!A37","v":"S.US.PLUG"},{"$f":"Sheet1!B37","v":"Alternative Carriers"},{"$f":"IFERROR(RTD(\"cqg.rtd\", ,\"ContractData\",A37, \"PerCentNetLastTrade\",, \"T\")/100,\"\")","v":2.3656776263031275E-2},{"$f":"IFERROR(RANK(C37,$C$1:C$58,0)+COUNTIF($C$1:C37,C37)-1,\"\")","v":7},"S.US.PLUG",{"$f":"IFERROR(RTD(\"cqg.rtd\", ,\"ContractData\",A37, \"LongDescription\",, \"T\"),\"\")","v":"Plug Power, Inc."},"Alternative Carriers",2.3656776263031275E-2,37,"S.US.STLA","Stellantis N.V.","Electrical Components & Equipment",5.4347826086956522E-4]
[{"$f":"Sheet1!A38","v":"S.US.SANM"},{"$f":"Sheet1!B38","v":"Electrical Components & Equipment"},{"$f":"IFERROR(RTD(\"cqg.rtd\", ,\"ContractData\",A38, \"PerCentNetLastTrade\",, \"T\")/100,\"\")","v":4.7326076668244207E-4},{"$f":"IFERROR(RANK(C38,$C$1:C$58,0)+COUNTIF($C$1:C38,C38)-1,\"\")","v":38},"S.US.SANM",{"$f":"IFERROR(RTD(\"cqg.rtd\", ,\"ContractData\",A38, \"LongDescription\",, \"T\"),\"\")","v":"Sanmina Corp"},"Electrical Components & Equipment",4.7326076668244207E-4,38,"S.US.SANM","Sanmina Corp","Electrical Components & Equipment",4.7326076668244207E-4]
[{"$f":"Sheet1!A39","v":"S.US.SEDG"},{"$f":"Sheet1!B39","v":"Electronic Manufacturing Services"},{"$f":"IFERROR(RTD(\"cqg.rtd\", ,\"ContractData\",A39, \"PerCentNetLastTrade\",, \"T\")/100,\"\")","v":-3.7154258978945921E-3},{"$f":"IFERROR(RANK(C39,$C$1:C$58,0)+COUNTIF($C$1:C39,C39)-1,\"\")","v":46},"S.US.SEDG",{"$f":"IFERROR(RTD(\"cqg.rtd\", ,\"ContractData\",A39, \"LongDescription\",, \"T\"),\"\")","v":"SolarEdge Technologies, Inc."},"Electronic Manufacturing Services",-3.7154258978945921E-3,39,"S.US.LXFR","Luxfer Holdings Plc","Auto Parts & Equipment",4.4883303411131061E-4]
[{"$f":"Sheet1!A40","v":"S.US.ST"},{"$f":"Sheet1!B40","v":"Semiconductor Equipment"},{"$f":"IFERROR(RTD(\"cqg.rtd\", ,\"ContractData\",A40, \"PerCentNetLastTrade\",, \"T\")/100,\"\")","v":-2.4125452352231607E-3},{"$f":"IFERROR(RANK(C40,$C$1:C$58,0)+COUNTIF($C$1:C40,C40)-1,\"\")","v":44},"S.US.ST",{"$f":"IFERROR(RTD(\"cqg.rtd\", ,\"ContractData\",A40, \"LongDescription\",, \"T\"),\"\")","v":"Sensata Technologies Holding N.V."},"Semiconductor Equipment",-2.4125452352231607E-3,40,"S.US.TXT","Textron Inc","Aerospace & Defence",-1.464343242055938E-4]
[{"$f":"Sheet1!A41","v":"S.US.STLA"},{"$f":"Sheet1!B41","v":"Electrical Components & Equipment"},{"$f":"IFERROR(RTD(\"cqg.rtd\", ,\"ContractData\",A41, \"PerCentNetLastTrade\",, \"T\")/100,\"\")","v":5.4347826086956522E-4},{"$f":"IFERROR(RANK(C41,$C$1:C$58,0)+COUNTIF($C$1:C41,C41)-1,\"\")","v":37},"S.US.STLA",{"$f":"IFERROR(RTD(\"cqg.rtd\", ,\"ContractData\",A41, \"LongDescription\",, \"T\"),\"\")","v":"Stellantis N.V."},"Electrical Components & Equipment",5.4347826086956522E-4,41,"S.US.ORBC","ORBCOMM Inc.","Semiconductors",-8.9285714285714283E-4]
[{"$f":"Sheet1!A42","v":"S.US.STM"},{"$f":"Sheet1!B42","v":"Automobile Manufacturers"},{"$f":"IFERROR(RTD(\"cqg.rtd\", ,\"ContractData\",A42, \"PerCentNetLastTrade\",, \"T\")/100,\"\")","v":5.6465273856578201E-3},{"$f":"IFERROR(RANK(C42,$C$1:C$58,0)+COUNTIF($C$1:C42,C42)-1,\"\")","v":29},"S.US.STM",{"$f":"IFERROR(RTD(\"cqg.rtd\", ,\"ContractData\",A42, \"LongDescription\",, \"T\"),\"\")","v":"STMicroelectronics N.V."},"Automobile Manufacturers",5.6465273856578201E-3,42,"S.US.TXN","Texas Instruments Inc","Semiconductors",-1.7696178731405187E-3]
[{"$f":"Sheet1!A43","v":"S.US.TDY"},{"$f":"Sheet1!B43","v":"Semiconductors"},{"$f":"IFERROR(RTD(\"cqg.rtd\", ,\"ContractData\",A43, \"PerCentNetLastTrade\",, \"T\")/100,\"\")","v":2.5463018568786184E-3},{"$f":"IFERROR(RANK(C43,$C$1:C$58,0)+COUNTIF($C$1:C43,C43)-1,\"\")","v":33},"S.US.TDY",{"$f":"IFERROR(RTD(\"cqg.rtd\", ,\"ContractData\",A43, \"LongDescription\",, \"T\"),\"\")","v":"Teledyne Technologies Inc"},"Semiconductors",2.5463018568786184E-3,43,"S.US.THRM","Gentherm Inc","Auto Parts & Equipment",-1.9709981697874136E-3]
[{"$f":"Sheet1!A44","v":"S.US.THRM"},{"$f":"Sheet1!B44","v":"Auto Parts & Equipment"},{"$f":"IFERROR(RTD(\"cqg.rtd\", ,\"ContractData\",A44, \"PerCentNetLastTrade\",, \"T\")/100,\"\")","v":-1.9709981697874136E-3},{"$f":"IFERROR(RANK(C44,$C$1:C$58,0)+COUNTIF($C$1:C44,C44)-1,\"\")","v":43},"S.US.THRM",{"$f":"IFERROR(RTD(\"cqg.rtd\", ,\"ContractData\",A44, \"LongDescription\",, \"T\"),\"\")","v":"Gentherm Inc"},"Auto Parts & Equipment",-1.9709981697874136E-3,44,"S.US.ST","Sensata Technologies Holding N.V.","Semiconductor Equipment",-2.4125452352231607E-3,{"$f":"IFERROR(RIGHT(J44,LEN(J44)-5),\"\")","v":"ST"},null,{"$f":"J44","v":"S.US.ST"}]
[{"$f":"Sheet1!A45","v":"S.US.TM"},{"$f":"Sheet1!B45","v":"Automobile Manufacturers"},{"$f":"IFERROR(RTD(\"cqg.rtd\", ,\"ContractData\",A45, \"PerCentNetLastTrade\",, \"T\")/100,\"\")","v":1.7519536173430803E-2},{"$f":"IFERROR(RANK(C45,$C$1:C$58,0)+COUNTIF($C$1:C45,C45)-1,\"\")","v":15},"S.US.TM",{"$f":"IFERROR(RTD(\"cqg.rtd\", ,\"ContractData\",A45, \"LongDescription\",, \"T\"),\"\")","v":"Toyota Motor Corporation ADR"},"Automobile Manufacturers",1.7519536173430803E-2,45,"S.US.TSLA","Tesla, Inc.","Automobile Manufacturers",-2.8431253575576859E-3,{"$f":"IFERROR(RIGHT(J45,LEN(J45)-5),\"\")","v":"TSLA"},{"$f":"MAX(M45:M58)","v":-2.8431253575576859E-3},{"$f":"J45","v":"S.US.TSLA"}]
[{"$f":"Sheet1!A46","v":"S.US.TRMB"},{"$f":"Sheet1!B46","v":"Electronic Equipment & Instruments"},{"$f":"IFERROR(RTD(\"cqg.rtd\", ,\"ContractData\",A46, \"PerCentNetLastTrade\",, \"T\")/100,\"\")","v":-5.5096418732782371E-3},{"$f":"IFERROR(RANK(C46,$C$1:C$58,0)+COUNTIF($C$1:C46,C46)-1,\"\")","v":50},"S.US.TRMB",{"$f":"IFERROR(RTD(\"cqg.rtd\", ,\"ContractData\",A46, \"LongDescription\",, \"T\"),\"\")","v":"Trimble Inc."},"Electronic Equipment & Instruments",-5.5096418732782371E-3,46,"S.US.SEDG","SolarEdge Technologies, Inc.","Electronic Manufacturing Services",-3.7154258978945921E-3,{"$f":"IFERROR(RIGHT(J46,LEN(J46)-5),\"\")","v":"SEDG"},{"$f":"MIN(M45:M58)","v":-1.3013901212658975E-2},{"$f":"J46","v":"S.US.SEDG"}]
[{"$f":"Sheet1!A47","v":"S.US.TSLA"},{"$f":"Sheet1!B47","v":"Automobile Manufacturers"},{"$f":"IFERROR(RTD(\"cqg.rtd\", ,\"ContractData\",A47, \"PerCentNetLastTrade\",, \"T\")/100,\"\")","v":-2.8431253575576859E-3},{"$f":"IFERROR(RANK(C47,$C$1:C$58,0)+COUNTIF($C$1:C47,C47)-1,\"\")","v":45},"S.US.TSLA",{"$f":"IFERROR(RTD(\"cqg.rtd\", ,\"ContractData\",A47, \"LongDescription\",, \"T\"),\"\")","v":"Tesla, Inc."},"Automobile Manufacturers",-2.8431253575576859E-3,47,"S.US.BWA","Borg Warner Inc","Auto Parts & Equipment",-4.2594385285575995E-3,"BWA",null,"S.US.BWA"]
[{"$f":"Sheet1!A48","v":"S.US.TTM"},{"$f":"Sheet1!B48","v":"Automobile Manufacturers"},{"$f":"IFERROR(RTD(\"cqg.rtd\", ,\"ContractData\",A48, \"PerCentNetLastTrade\",, \"T\")/100,\"\")","v":2.0091324200913242E-2},{"$f":"IFERROR(RANK(C48,$C$1:C$58,0)+COUNTIF($C$1:C48,C48)-1,\"\")","v":11},"S.US.TTM",{"$f":"IFERROR(RTD(\"cqg.rtd\", ,\"ContractData\",A48, \"LongDescription\",, \"T\"),\"\")","v":"Tata Motors Limited"},"Automobile Manufacturers",2.0091324200913242E-2,48,"S.US.MOD","Modine Manufacturing Co","Trucking",-4.7169811320754715E-3,"MOD",null,"S.US.MOD"]
[{"$f":"Sheet1!A49","v":"S.US.TXN"},{"$f":"Sheet1!B49","v":"Semiconductors"},{"$f":"IFERROR(RTD(\"cqg.rtd\", ,\"ContractData\",A49, \"PerCentNetLastTrade\",, \"T\")/100,\"\")","v":-1.7696178731405187E-3},{"$f":"IFERROR(RANK(C49,$C$1:C$58,0)+COUNTIF($C$1:C49,C49)-1,\"\")","v":42},"S.US.TXN",{"$f":"IFERROR(RTD(\"cqg.rtd\", ,\"ContractData\",A49, \"LongDescription\",, \"T\"),\"\")","v":"Texas Instruments Inc"},"Semiconductors",-1.7696178731405187E-3,49,"S.US.ALSN","Allison Transmission Holdings, Inc.","Construction Machinery & Heavy Trucks",-4.8436811977102603E-3,"ALSN",null,"S.US.ALSN"]
[{"$f":"Sheet1!A50","v":"S.US.TXT"},{"$f":"Sheet1!B50","v":"Aerospace & Defence"},{"$f":"IFERROR(RTD(\"cqg.rtd\", ,\"ContractData\",A50, \"PerCentNetLastTrade\",, \"T\")/100,\"\")","v":-1.464343242055938E-4},{"$f":"IFERROR(RANK(C50,$C$1:C$58,0)+COUNTIF($C$1:C50,C50)-1,\"\")","v":40},"S.US.TXT",{"$f":"IFERROR(RTD(\"cqg.rtd\", ,\"ContractData\",A50, \"LongDescription\",, \"T\"),\"\")","v":"Textron Inc"},"Aerospace & Defence",-1.464343242055938E-4,50,"S.US.TRMB","Trimble Inc.","Electronic Equipment & Instruments",-5.5096418732782371E-3,"TRMB",null,"S.US.TRMB"]
[{"$f":"Sheet1!A51","v":"S.US.UAVS"},{"$f":"Sheet1!B51","v":"Agricultural & Farm Machinery"},{"$f":"IFERROR(RTD(\"cqg.rtd\", ,\"ContractData\",A51, \"PerCentNetLastTrade\",, \"T\")/100,\"\")","v":-6.7567567567567563E-3},{"$f":"IFERROR(RANK(C51,$C$1:C$58,0)+COUNTIF($C$1:C51,C51)-1,\"\")","v":51},"S.US.UAVS",{"$f":"IFERROR(RTD(\"cqg.rtd\", ,\"ContractData\",A51, \"LongDescription\",, \"T\"),\"\")","v":"AgEagle Aerial Systems Inc. "},"Agricultural & Farm Machinery",-6.7567567567567563E-3,51,"S.US.UAVS","AgEagle Aerial Systems Inc. ","Agricultural & Farm Machinery",-6.7567567567567563E-3,"UAVS",null,"S.US.UAVS"]
[{"$f":"Sheet1!A52","v":"S.US.UBER"},{"$f":"Sheet1!B52","v":"Trucking"},{"$f":"IFERROR(RTD(\"cqg.rtd\", ,\"ContractData\",A52, \"PerCentNetLastTrade\",, \"T\")/100,\"\")","v":3.9149652704693748E-2},{"$f":"IFERROR(RANK(C52,$C$1:C$58,0)+COUNTIF($C$1:C52,C52)-1,\"\")","v":4},"S.US.UBER",{"$f":"IFERROR(RTD(\"cqg.rtd\", ,\"ContractData\",A52, \"LongDescription\",, \"T\"),\"\")","v":"Uber Technologies, Inc."},"Trucking",3.9149652704693748E-2,52,"S.US.MTOR","Meritor Inc.","Steel",-6.8571428571428568E-3,"MTOR",null,"S.US.MTOR"]
[{"$f":"Sheet1!A53","v":"S.US.VC"},{"$f":"Sheet1!B53","v":"Auto Parts & Equipment"},{"$f":"IFERROR(RTD(\"cqg.rtd\", ,\"ContractData\",A53, \"PerCentNetLastTrade\",, \"T\")/100,\"\")","v":-9.7291611885353662E-3},{"$f":"IFERROR(RANK(C53,$C$1:C$58,0)+COUNTIF($C$1:C53,C53)-1,\"\")","v":55},"S.US.VC",{"$f":"IFERROR(RTD(\"cqg.rtd\", ,\"ContractData\",A53, \"LongDescription\",, \"T\"),\"\")","v":"Visteon Corporation"},"Auto Parts & Equipment",-9.7291611885353662E-3,53,"S.US.HY","Hyster-Yale Materials Handling, Inc.","Automobile Manufacturers",-7.5305115554401454E-3,"HY",null,"S.US.HY"]
[{"$f":"Sheet1!A54","v":"S.US.VNE"},{"$f":"Sheet1!B54","v":"Auto Parts & Equipment"},{"$f":"IFERROR(RTD(\"cqg.rtd\", ,\"ContractData\",A54, \"PerCentNetLastTrade\",, \"T\")/100,\"\")","v":3.2461677186654644E-2},{"$f":"IFERROR(RANK(C54,$C$1:C$58,0)+COUNTIF($C$1:C54,C54)-1,\"\")","v":5},"S.US.VNE",{"$f":"IFERROR(RTD(\"cqg.rtd\", ,\"ContractData\",A54, \"LongDescription\",, \"T\"),\"\")","v":"Veoneer, Inc."},"Auto Parts & Equipment",3.2461677186654644E-2,54,"S.US.HEI","HEICO CORP","Automobile Manufacturers",-7.8481201883548839E-3,"HEI",null,"S.US.HEI"]
[{"$f":"Sheet1!A55","v":"S.US.VNT"},{"$f":"Sheet1!B55","v":"Electronic Equipment & Instruments"},{"$f":"IFERROR(RTD(\"cqg.rtd\", ,\"ContractData\",A55, \"PerCentNetLastTrade\",, \"T\")/100,\"\")","v":3.8089657193085265E-3},{"$f":"IFERROR(RANK(C55,$C$1:C$58,0)+COUNTIF($C$1:C55,C55)-1,\"\")","v":31},"S.US.VNT",{"$f":"IFERROR(RTD(\"cqg.rtd\", ,\"ContractData\",A55, \"LongDescription\",, \"T\"),\"\")","v":"Vontier Corporation"},"Electronic Equipment & Instruments",3.8089657193085265E-3,55,"S.US.VC","Visteon Corporation","Auto Parts & Equipment",-9.7291611885353662E-3,"VC",null,"S.US.VC"]
[{"$f":"Sheet1!A56","v":"S.US.WKHS"},{"$f":"Sheet1!B56","v":"Auto Parts & Equipment"},{"$f":"IFERROR(RTD(\"cqg.rtd\", ,\"ContractData\",A56, \"PerCentNetLastTrade\",, \"T\")/100,\"\")","v":1.9393939393939394E-2},{"$f":"IFERROR(RANK(C56,$C$1:C$58,0)+COUNTIF($C$1:C56,C56)-1,\"\")","v":12},"S.US.WKHS",{"$f":"IFERROR(RTD(\"cqg.rtd\", ,\"ContractData\",A56, \"LongDescription\",, \"T\"),\"\")","v":"Workhorse Group, Inc."},"Auto Parts & Equipment",1.9393939393939394E-2,56,"S.US.KNDI","Kandi Technologies Group Inc.","Other Diversified Financial Services",-9.8039215686274508E-3,"KNDI",null,"S.US.KNDI"]
[{"$f":"Sheet1!A57","v":"S.US.XPER"},{"$f":"Sheet1!B57","v":"Systems Software"},{"$f":"IFERROR(RTD(\"cqg.rtd\", ,\"ContractData\",A57, \"PerCentNetLastTrade\",, \"T\")/100,\"\")","v":9.1039770004791559E-3},{"$f":"IFERROR(RANK(C57,$C$1:C$58,0)+COUNTIF($C$1:C57,C57)-1,\"\")","v":23},"S.US.XPER",{"$f":"IFERROR(RTD(\"cqg.rtd\", ,\"ContractData\",A57, \"LongDescription\",, \"T\"),\"\")","v":"Xperi Holding Corporation"},"Systems Software",9.1039770004791559E-3,57,"S.US.CMI","Cummins Inc","Construction Machinery & Heavy Trucks",-1.2541303694803245E-2,"CMI",null,"S.US.CMI"]
[{"$f":"Sheet1!A58","v":"S.US.YNDX"},{"$f":"Sheet1!B58","v":"Interactive Media & Services"},{"$f":"IFERROR(RTD(\"cqg.rtd\", ,\"ContractData\",A58, \"PerCentNetLastTrade\",, \"T\")/100,\"\")","v":1.7119522538087011E-2},{"$f":"IFERROR(RANK(C58,$C$1:C$58,0)+COUNTIF($C$1:C58,C58)-1,\"\")","v":16},"S.US.YNDX",{"$f":"IFERROR(RTD(\"cqg.rtd\", ,\"ContractData\",A58, \"LongDescription\",, \"T\"),\"\")","v":"Yandex N.V."},"Interactive Media & Services",1.7119522538087011E-2,58,"S.US.NIO","NIO, Inc.","Construction Machinery & Heavy Trucks",-1.3013901212658975E-2,"NIO",null,"S.US.NIO"]
[null,null,null,null,null,null,null,null,null,"","","","","",null,""]