{"text_format":"1","workbook":"xlsx","n_sheets":5,"sheets":["Main","Data","Ranked","Symbols","BarData"],"not_rendered":{"charts":2,"images":4,"macros":1,"external_links":0,"defined_names":0,"comments":0,"pivot_tables":0},"unopened":[],"bounds":{"document_bytes":16777216,"sheet_cells":100000,"rows_first":2000,"rows_last":500,"rows_between":2000,"halvings":0,"cell_chars":16384,"cell_head_chars":4096},"cells_cut":0,"cells_raw":0,"read":"whole","date_system":"1900"}

{"sheet":"Main","index":0,"n_rows":47,"n_cols":28,"rows_kept":47,"cut":false,"hidden":false,"merged":[[23,22,23,23],[24,24,24,25],[23,24,23,25],[4,7,4,10],[46,8,46,12],[43,9,43,12],[45,9,45,12],[4,1,4,2],[4,4,4,5],[45,2,45,5],[28,9,28,12],[29,9,29,12],[30,9,30,12],[31,9,31,12],[32,9,32,12],[33,9,33,12],[34,9,34,12],[35,9,35,12],[36,9,36,12],[37,9,37,12],[38,9,38,12],[39,9,39,12],[40,9,40,12],[44,9,44,12],[41,9,41,12],[42,9,42,12],[40,2,40,5],[41,2,41,5],[42,2,42,5],[43,2,43,5],[44,2,44,5],[35,2,35,5],[36,2,36,5],[37,2,37,5],[38,2,38,5],[39,2,39,5],[31,2,31,5],[32,2,32,5],[33,2,33,5],[34,2,34,5],[27,9,27,12],[5,1,5,6],[5,8,5,13],[28,2,28,5],[29,2,29,5],[25,2,25,5],[26,2,26,5],[27,2,27,5],[22,9,22,12],[23,9,23,12],[24,9,24,12],[25,9,25,12],[26,9,26,12],[22,2,22,5],[23,2,23,5],[24,2,24,5],[13,2,13,5],[14,2,14,5],[15,2,15,5],[7,9,7,12],[30,2,30,5],[20,9,20,12],[21,9,21,12],[20,2,20,5],[21,2,21,5],[18,9,18,12],[19,9,19,12],[18,2,18,5],[19,2,19,5],[1,22,3,25],[1,20,1,21],[6,16,6,19],[7,16,7,19],[8,16,8,19],[9,16,9,19],[10,16,10,19],[11,16,11,19],[12,16,12,19],[1,6,3,19],[10,9,10,12],[11,9,11,12],[16,2,16,5],[7,2,7,5],[8,2,8,5],[9,2,9,5],[10,2,10,5],[1,1,3,5],[6,9,6,12],[23,18,23,19],[8,9,8,12],[9,9,9,12],[12,9,12,12],[13,9,13,12],[14,9,14,12],[14,16,14,19],[17,2,17,5],[15,9,15,12],[16,9,16,12],[17,9,17,12],[6,2,6,5],[12,2,12,5],[11,2,11,5],[24,17,24,19],[4,16,4,19],[5,16,5,19],[15,16,15,19],[16,16,16,19],[17,16,17,19],[18,16,18,19],[19,16,19,19],[20,16,20,19],[21,16,21,19],[22,16,22,19],[24,14,24,16],[23,14,23,16],[13,16,13,19]]}
[]
[null,null,null,null,null,null,"CQG S&P 500 Index Internal Performance ",null,null,null,null,null,null,null,null,null,null,null,null,null,"Ribbon",null,{"$f":"RTD(\"cqg.rtd\", ,\"SystemInfo\", \"Linetime\")","v":44669.366064814814}]
[]
[]
[null,"Lookback Period: ",null,52,"Time Frame: ",null,"W","Number of Stocks Making New Highs:",null,null,null,{"$f":"Ranked!U2","v":20},"New Lows:",{"$f":"Ranked!V2","v":21},null,"Symbol","Description",null,null,null,"Last:","NC","%NC","Open","High","Low"]
[null,{"$f":"\"New \"&$D$5&\"-Bar High Symbols, Descriptions and Net % Daily Change\"","v":"New 52-Bar High Symbols, Descriptions and Net % Daily Change"},null,null,null,null,null,null,{"$f":"\"New \"&$D$5&\"-Bar Low Symbols, Descriptions and Net % Daily Change\"","v":"New 52-Bar Low Symbols, Descriptions and Net % Daily Change"},null,null,null,null,null,null,"DJI",{"$f":"IF(P6=\"\",\"\",RTD(\"cqg.rtd\", ,\"ContractData\",P6, \"LongDescription\",, \"T\"))","v":"DJ Industrial Average"},null,null,null,{"$f":"IF(P6=\"\",\"\",TEXT(RTD(\"cqg.rtd\",,\"ContractData\",P6,\"LastTradeToday\",,\"T\"),AB6))","v":"34577.3"},{"$f":"IF(P6=\"\",\"\",TEXT(RTD(\"cqg.rtd\", ,\"ContractData\", P6, \"NetLastTradeToday\",, \"T\"),AB6))","v":"126.1"},{"$f":"IFERROR(IF(P6=\"\",\"\",RTD(\"cqg.rtd\", ,\"ContractData\", P6, \"PerCentNetLastTrade\",, \"T\")/100),\"\")","v":3.6602498606724877E-3},{"$f":"IF(P6=\"\",\"\",TEXT(RTD(\"cqg.rtd\", ,\"ContractData\", P6, \"OPen\",, \"T\"),AB6))","v":"34411.4"},{"$f":"IF(P6=\"\",\"\",TEXT(RTD(\"cqg.rtd\", ,\"ContractData\", P6, \"HIgh\",, \"T\"),AB6))","v":"34613.1"},{"$f":"IF(P6=\"\",\"\",TEXT(RTD(\"cqg.rtd\", ,\"ContractData\", P6, \"LOw\",, \"T\"),AB6))","v":"34387.9"},{"$f":"IF(P6=\"\",\"\",IF(LEN(RTD(\"cqg.rtd\",,\"ContractData\",P6,\"TickSize\",,\"T\"))=1,0,LEN(RTD(\"cqg.rtd\",,\"ContractData\",P6,\"TickSize\",,\"T\"))-2))","v":1},{"$f":"IF(AA6=0,\"#\",IF(AA6=1,\"#.0\",IF(AA6=2,\"#.00\",IF(AA6=3,\"#.000\",IF(AA6=4,\"#.0000\",IF(AA6=5,\"#.00000\",IF(AA6=6,\"#.000000\",IF(AA6=7,\"#.0000000\"))))))))","v":"#.0"}]
[{"$f":"IF(OR(B7<>\"\",I7<>\"\"),1,0)","v":1},{"$f":"Ranked!G2","v":"S.US.CTRA"},{"$f":"IF(B7=\"\",\"\",RTD(\"cqg.rtd\", ,\"ContractData\",B7, \"LongDescription\",, \"T\"))","v":"Cottera Energy, Inc"},null,null,null,{"$f":"IFERROR(RTD(\"cqg.rtd\", ,\"ContractData\",B7, \"PerCentNetLastTrade\",, \"T\")/100,\"\")","v":3.3990482664853841E-2},null,{"$f":"Ranked!Q2","v":"S.US.CEG"},{"$f":"IF(I7=\"\",\"\",RTD(\"cqg.rtd\", ,\"ContractData\",I7, \"LongDescription\",, \"T\"))","v":"Constellation Energy Corporation"},null,null,null,{"$f":"IFERROR(RTD(\"cqg.rtd\", ,\"ContractData\",I7, \"PerCentNetLastTrade\",, \"T\")/100,\"\")","v":1.4388489208633093E-2},null,"SPY",{"$f":"IF(P7=\"\",\"\",RTD(\"cqg.rtd\", ,\"ContractData\",P7, \"LongDescription\",, \"T\"))","v":"SPDR S&P 500"},null,null,null,{"$f":"IF(P7=\"\",\"\",TEXT(RTD(\"cqg.rtd\",,\"ContractData\",P7,\"LastTradeToday\",,\"T\"),AB7))","v":"438.49"},{"$f":"IF(P7=\"\",\"\",TEXT(RTD(\"cqg.rtd\", ,\"ContractData\", P7, \"NetLastTradeToday\",, \"T\"),AB7))","v":".70"},{"$f":"IFERROR(IF(P7=\"\",\"\",RTD(\"cqg.rtd\", ,\"ContractData\", P7, \"PerCentNetLastTrade\",, \"T\")/100),\"\")","v":1.5989401311130907E-3},{"$f":"IF(P7=\"\",\"\",TEXT(RTD(\"cqg.rtd\", ,\"ContractData\", P7, \"OPen\",, \"T\"),AB7))","v":"436.81"},{"$f":"IF(P7=\"\",\"\",TEXT(RTD(\"cqg.rtd\", ,\"ContractData\", P7, \"HIgh\",, \"T\"),AB7))","v":"439.46"},{"$f":"IF(P7=\"\",\"\",TEXT(RTD(\"cqg.rtd\", ,\"ContractData\", P7, \"LOw\",, \"T\"),AB7))","v":"436.73"},{"$f":"IF(P7=\"\",\"\",IF(LEN(RTD(\"cqg.rtd\",,\"ContractData\",P7,\"TickSize\",,\"T\"))=1,0,LEN(RTD(\"cqg.rtd\",,\"ContractData\",P7,\"TickSize\",,\"T\"))-2))","v":2},{"$f":"IF(AA7=0,\"#\",IF(AA7=1,\"#.0\",IF(AA7=2,\"#.00\",IF(AA7=3,\"#.000\",IF(AA7=4,\"#.0000\",IF(AA7=5,\"#.00000\",IF(AA7=6,\"#.000000\",IF(AA7=7,\"#.0000000\"))))))))","v":"#.00"}]
[1,{"$f":"Ranked!G3","v":"S.US.HAL"},{"$f":"IF(B8=\"\",\"\",RTD(\"cqg.rtd\", ,\"ContractData\",B8, \"LongDescription\",, \"T\"))","v":"Halliburton Company"},null,null,null,{"$f":"IFERROR(RTD(\"cqg.rtd\", ,\"ContractData\",B8, \"PerCentNetLastTrade\",, \"T\")/100,\"\")","v":2.649656526005888E-2},null,{"$f":"Ranked!Q3","v":"S.US.ITW"},{"$f":"IF(I8=\"\",\"\",RTD(\"cqg.rtd\", ,\"ContractData\",I8, \"LongDescription\",, \"T\"))","v":"Illinois Tools Works Inc"},null,null,null,{"$f":"IFERROR(RTD(\"cqg.rtd\", ,\"ContractData\",I8, \"PerCentNetLastTrade\",, \"T\")/100,\"\")","v":8.1010852397207928E-3},null,"RSP",{"$f":"IF(P8=\"\",\"\",RTD(\"cqg.rtd\", ,\"ContractData\",P8, \"LongDescription\",, \"T\"))","v":"Invesco S&P 500 Equal Weight ETF"},null,null,null,{"$f":"IF(P8=\"\",\"\",TEXT(RTD(\"cqg.rtd\",,\"ContractData\",P8,\"LastTradeToday\",,\"T\"),AB8))","v":"155.77"},{"$f":"IF(P8=\"\",\"\",TEXT(RTD(\"cqg.rtd\", ,\"ContractData\", P8, \"NetLastTradeToday\",, \"T\"),AB8))","v":".24"},{"$f":"IFERROR(IF(P8=\"\",\"\",RTD(\"cqg.rtd\", ,\"ContractData\", P8, \"PerCentNetLastTrade\",, \"T\")/100),\"\")","v":1.5431106538931396E-3},{"$f":"IF(P8=\"\",\"\",TEXT(RTD(\"cqg.rtd\", ,\"ContractData\", P8, \"OPen\",, \"T\"),AB8))","v":"155.20"},{"$f":"IF(P8=\"\",\"\",TEXT(RTD(\"cqg.rtd\", ,\"ContractData\", P8, \"HIgh\",, \"T\"),AB8))","v":"156.04"},{"$f":"IF(P8=\"\",\"\",TEXT(RTD(\"cqg.rtd\", ,\"ContractData\", P8, \"LOw\",, \"T\"),AB8))","v":"155.19"},{"$f":"IF(P8=\"\",\"\",IF(LEN(RTD(\"cqg.rtd\",,\"ContractData\",P8,\"TickSize\",,\"T\"))=1,0,LEN(RTD(\"cqg.rtd\",,\"ContractData\",P8,\"TickSize\",,\"T\"))-2))","v":2},"#.00"]
[1,{"$f":"Ranked!G4","v":"S.US.APA"},{"$f":"IF(B9=\"\",\"\",RTD(\"cqg.rtd\", ,\"ContractData\",B9, \"LongDescription\",, \"T\"))","v":"APA Corporation"},null,null,null,{"$f":"IFERROR(RTD(\"cqg.rtd\", ,\"ContractData\",B9, \"PerCentNetLastTrade\",, \"T\")/100,\"\")","v":2.4496336996337E-2},null,{"$f":"Ranked!Q4","v":"S.US.TEL"},{"$f":"IF(I9=\"\",\"\",RTD(\"cqg.rtd\", ,\"ContractData\",I9, \"LongDescription\",, \"T\"))","v":"TE Connectivity Ltd."},null,null,null,{"$f":"IFERROR(RTD(\"cqg.rtd\", ,\"ContractData\",I9, \"PerCentNetLastTrade\",, \"T\")/100,\"\")","v":8.0244870946393123E-3},null,"NDX",{"$f":"IF(P9=\"\",\"\",RTD(\"cqg.rtd\", ,\"ContractData\",P9, \"LongDescription\",, \"T\"))","v":"NASDAQ-100 Index"},null,null,null,{"$f":"IF(P9=\"\",\"\",TEXT(RTD(\"cqg.rtd\",,\"ContractData\",P9,\"LastTradeToday\",,\"T\"),AB9))","v":"13866.65"},{"$f":"IF(P9=\"\",\"\",TEXT(RTD(\"cqg.rtd\", ,\"ContractData\", P9, \"NetLastTradeToday\",, \"T\"),AB9))","v":"-26.56"},{"$f":"IFERROR(IF(P9=\"\",\"\",RTD(\"cqg.rtd\", ,\"ContractData\", P9, \"PerCentNetLastTrade\",, \"T\")/100),\"\")","v":-1.911725224048294E-3},{"$f":"IF(P9=\"\",\"\",TEXT(RTD(\"cqg.rtd\", ,\"ContractData\", P9, \"OPen\",, \"T\"),AB9))","v":"13859.47"},{"$f":"IF(P9=\"\",\"\",TEXT(RTD(\"cqg.rtd\", ,\"ContractData\", P9, \"HIgh\",, \"T\"),AB9))","v":"13925.70"},{"$f":"IF(P9=\"\",\"\",TEXT(RTD(\"cqg.rtd\", ,\"ContractData\", P9, \"LOw\",, \"T\"),AB9))","v":"13859.47"},{"$f":"IF(P9=\"\",\"\",IF(LEN(RTD(\"cqg.rtd\",,\"ContractData\",P9,\"TickSize\",,\"T\"))=1,0,LEN(RTD(\"cqg.rtd\",,\"ContractData\",P9,\"TickSize\",,\"T\"))-2))","v":2},"#.00"]
[1,{"$f":"Ranked!G5","v":"S.US.MPC"},{"$f":"IF(B10=\"\",\"\",RTD(\"cqg.rtd\", ,\"ContractData\",B10, \"LongDescription\",, \"T\"))","v":"Marathon Petroleum Corporation"},null,null,null,{"$f":"IFERROR(RTD(\"cqg.rtd\", ,\"ContractData\",B10, \"PerCentNetLastTrade\",, \"T\")/100,\"\")","v":2.4426605504587154E-2},null,{"$f":"Ranked!Q5","v":"S.US.CARR"},{"$f":"IF(I10=\"\",\"\",RTD(\"cqg.rtd\", ,\"ContractData\",I10, \"LongDescription\",, \"T\"))","v":"Carrier Global Corporation"},null,null,null,{"$f":"IFERROR(RTD(\"cqg.rtd\", ,\"ContractData\",I10, \"PerCentNetLastTrade\",, \"T\")/100,\"\")","v":6.7829457364341084E-3},null,"S.MSFT",{"$f":"IF(P10=\"\",\"\",RTD(\"cqg.rtd\", ,\"ContractData\",P10, \"LongDescription\",, \"T\"))","v":"Microsoft Corporation"},null,null,null,{"$f":"IF(P10=\"\",\"\",TEXT(RTD(\"cqg.rtd\",,\"ContractData\",P10,\"LastTradeToday\",,\"T\"),AB10))","v":"279.04"},{"$f":"IF(P10=\"\",\"\",TEXT(RTD(\"cqg.rtd\", ,\"ContractData\", P10, \"NetLastTradeToday\",, \"T\"),AB10))","v":"-.79"},{"$f":"IFERROR(IF(P10=\"\",\"\",RTD(\"cqg.rtd\", ,\"ContractData\", P10, \"PerCentNetLastTrade\",, \"T\")/100),\"\")","v":-2.8231426223064003E-3},{"$f":"IF(P10=\"\",\"\",TEXT(RTD(\"cqg.rtd\", ,\"ContractData\", P10, \"OPen\",, \"T\"),AB10))","v":"278.91"},{"$f":"IF(P10=\"\",\"\",TEXT(RTD(\"cqg.rtd\", ,\"ContractData\", P10, \"HIgh\",, \"T\"),AB10))","v":"281.90"},{"$f":"IF(P10=\"\",\"\",TEXT(RTD(\"cqg.rtd\", ,\"ContractData\", P10, \"LOw\",, \"T\"),AB10))","v":"278.91"},{"$f":"IF(P10=\"\",\"\",IF(LEN(RTD(\"cqg.rtd\",,\"ContractData\",P10,\"TickSize\",,\"T\"))=1,0,LEN(RTD(\"cqg.rtd\",,\"ContractData\",P10,\"TickSize\",,\"T\"))-2))","v":2},"#.00"]
[1,{"$f":"Ranked!G6","v":"S.US.VLO"},{"$f":"IF(B11=\"\",\"\",RTD(\"cqg.rtd\", ,\"ContractData\",B11, \"LongDescription\",, \"T\"))","v":"Valero Energy Corp New"},null,null,null,{"$f":"IFERROR(RTD(\"cqg.rtd\", ,\"ContractData\",B11, \"PerCentNetLastTrade\",, \"T\")/100,\"\")","v":2.2506198741178714E-2},null,{"$f":"Ranked!Q6","v":"S.US.MAS"},{"$f":"IF(I11=\"\",\"\",RTD(\"cqg.rtd\", ,\"ContractData\",I11, \"LongDescription\",, \"T\"))","v":"Masco Corporation"},null,null,null,{"$f":"IFERROR(RTD(\"cqg.rtd\", ,\"ContractData\",I11, \"PerCentNetLastTrade\",, \"T\")/100,\"\")","v":3.8469325774448272E-3},null,"S.AMZN",{"$f":"IF(P11=\"\",\"\",RTD(\"cqg.rtd\", ,\"ContractData\",P11, \"LongDescription\",, \"T\"))","v":"Amazon.com Inc"},null,null,null,{"$f":"IF(P11=\"\",\"\",TEXT(RTD(\"cqg.rtd\",,\"ContractData\",P11,\"LastTradeToday\",,\"T\"),AB11))","v":"3031.91"},{"$f":"IF(P11=\"\",\"\",TEXT(RTD(\"cqg.rtd\", ,\"ContractData\", P11, \"NetLastTradeToday\",, \"T\"),AB11))","v":"-2.22"},{"$f":"IFERROR(IF(P11=\"\",\"\",RTD(\"cqg.rtd\", ,\"ContractData\", P11, \"PerCentNetLastTrade\",, \"T\")/100),\"\")","v":-7.3167596642200556E-4},{"$f":"IF(P11=\"\",\"\",TEXT(RTD(\"cqg.rtd\", ,\"ContractData\", P11, \"OPen\",, \"T\"),AB11))","v":"3030.47"},{"$f":"IF(P11=\"\",\"\",TEXT(RTD(\"cqg.rtd\", ,\"ContractData\", P11, \"HIgh\",, \"T\"),AB11))","v":"3069.00"},{"$f":"IF(P11=\"\",\"\",TEXT(RTD(\"cqg.rtd\", ,\"ContractData\", P11, \"LOw\",, \"T\"),AB11))","v":"3030.47"},{"$f":"IF(P11=\"\",\"\",IF(LEN(RTD(\"cqg.rtd\",,\"ContractData\",P11,\"TickSize\",,\"T\"))=1,0,LEN(RTD(\"cqg.rtd\",,\"ContractData\",P11,\"TickSize\",,\"T\"))-2))","v":2},"#.00"]
[1,{"$f":"Ranked!G7","v":"S.US.MRO"},{"$f":"IF(B12=\"\",\"\",RTD(\"cqg.rtd\", ,\"ContractData\",B12, \"LongDescription\",, \"T\"))","v":"Marathon Oil Corporation"},null,null,null,{"$f":"IFERROR(RTD(\"cqg.rtd\", ,\"ContractData\",B12, \"PerCentNetLastTrade\",, \"T\")/100,\"\")","v":2.2172115745960164E-2},null,{"$f":"Ranked!Q7","v":"S.US.AMAT"},{"$f":"IF(I12=\"\",\"\",RTD(\"cqg.rtd\", ,\"ContractData\",I12, \"LongDescription\",, \"T\"))","v":"Applied Materials Inc"},null,null,null,{"$f":"IFERROR(RTD(\"cqg.rtd\", ,\"ContractData\",I12, \"PerCentNetLastTrade\",, \"T\")/100,\"\")","v":3.6167960479887083E-3},null,"S.AAPL",{"$f":"IF(P12=\"\",\"\",RTD(\"cqg.rtd\", ,\"ContractData\",P12, \"LongDescription\",, \"T\"))","v":"Apple Inc"},null,null,null,{"$f":"IF(P12=\"\",\"\",TEXT(RTD(\"cqg.rtd\",,\"ContractData\",P12,\"LastTradeToday\",,\"T\"),AB12))","v":"164.93"},{"$f":"IF(P12=\"\",\"\",TEXT(RTD(\"cqg.rtd\", ,\"ContractData\", P12, \"NetLastTradeToday\",, \"T\"),AB12))","v":"-.36"},{"$f":"IFERROR(IF(P12=\"\",\"\",RTD(\"cqg.rtd\", ,\"ContractData\", P12, \"PerCentNetLastTrade\",, \"T\")/100),\"\")","v":-2.177990199044104E-3},{"$f":"IF(P12=\"\",\"\",TEXT(RTD(\"cqg.rtd\", ,\"ContractData\", P12, \"OPen\",, \"T\"),AB12))","v":"163.92"},{"$f":"IF(P12=\"\",\"\",TEXT(RTD(\"cqg.rtd\", ,\"ContractData\", P12, \"HIgh\",, \"T\"),AB12))","v":"165.73"},{"$f":"IF(P12=\"\",\"\",TEXT(RTD(\"cqg.rtd\", ,\"ContractData\", P12, \"LOw\",, \"T\"),AB12))","v":"163.57"},{"$f":"IF(P12=\"\",\"\",IF(LEN(RTD(\"cqg.rtd\",,\"ContractData\",P12,\"TickSize\",,\"T\"))=1,0,LEN(RTD(\"cqg.rtd\",,\"ContractData\",P12,\"TickSize\",,\"T\"))-2))","v":2},"#.00"]
[1,{"$f":"Ranked!G8","v":"S.US.OKE"},{"$f":"IF(B13=\"\",\"\",RTD(\"cqg.rtd\", ,\"ContractData\",B13, \"LongDescription\",, \"T\"))","v":"ONEOK Inc New"},null,null,null,{"$f":"IFERROR(RTD(\"cqg.rtd\", ,\"ContractData\",B13, \"PerCentNetLastTrade\",, \"T\")/100,\"\")","v":1.82328190743338E-2},null,{"$f":"Ranked!Q8","v":"S.US.SWKS"},{"$f":"IF(I13=\"\",\"\",RTD(\"cqg.rtd\", ,\"ContractData\",I13, \"LongDescription\",, \"T\"))","v":"Skyworks Solutions Inc"},null,null,null,{"$f":"IFERROR(RTD(\"cqg.rtd\", ,\"ContractData\",I13, \"PerCentNetLastTrade\",, \"T\")/100,\"\")","v":2.2933831648687675E-3},null,"S.GOOG",{"$f":"IF(P13=\"\",\"\",RTD(\"cqg.rtd\", ,\"ContractData\",P13, \"LongDescription\",, \"T\"))","v":"Alphabet, Inc. Class C"},null,null,null,{"$f":"IF(P13=\"\",\"\",TEXT(RTD(\"cqg.rtd\",,\"ContractData\",P13,\"LastTradeToday\",,\"T\"),AB13))","v":"2549.47"},{"$f":"IF(P13=\"\",\"\",TEXT(RTD(\"cqg.rtd\", ,\"ContractData\", P13, \"NetLastTradeToday\",, \"T\"),AB13))","v":"4.41"},{"$f":"IFERROR(IF(P13=\"\",\"\",RTD(\"cqg.rtd\", ,\"ContractData\", P13, \"PerCentNetLastTrade\",, \"T\")/100),\"\")","v":1.732768579129765E-3},{"$f":"IF(P13=\"\",\"\",TEXT(RTD(\"cqg.rtd\", ,\"ContractData\", P13, \"OPen\",, \"T\"),AB13))","v":"2548.20"},{"$f":"IF(P13=\"\",\"\",TEXT(RTD(\"cqg.rtd\", ,\"ContractData\", P13, \"HIgh\",, \"T\"),AB13))","v":"2566.59"},{"$f":"IF(P13=\"\",\"\",TEXT(RTD(\"cqg.rtd\", ,\"ContractData\", P13, \"LOw\",, \"T\"),AB13))","v":"2544.10"},{"$f":"IF(P13=\"\",\"\",IF(LEN(RTD(\"cqg.rtd\",,\"ContractData\",P13,\"TickSize\",,\"T\"))=1,0,LEN(RTD(\"cqg.rtd\",,\"ContractData\",P13,\"TickSize\",,\"T\"))-2))","v":2},"#.00"]
[1,{"$f":"Ranked!G9","v":"S.US.HES"},{"$f":"IF(B14=\"\",\"\",RTD(\"cqg.rtd\", ,\"ContractData\",B14, \"LongDescription\",, \"T\"))","v":"Hess Corporation"},null,null,null,{"$f":"IFERROR(RTD(\"cqg.rtd\", ,\"ContractData\",B14, \"PerCentNetLastTrade\",, \"T\")/100,\"\")","v":1.7259414225941423E-2},null,{"$f":"Ranked!Q9","v":"S.US.FBHS"},{"$f":"IF(I14=\"\",\"\",RTD(\"cqg.rtd\", ,\"ContractData\",I14, \"LongDescription\",, \"T\"))","v":"Fortune Brands Home & Security, Inc."},null,null,null,{"$f":"IFERROR(RTD(\"cqg.rtd\", ,\"ContractData\",I14, \"PerCentNetLastTrade\",, \"T\")/100,\"\")","v":1.7231476163124639E-3},null,"CLE",{"$f":"IF(P14=\"\",\"\",RTD(\"cqg.rtd\", ,\"ContractData\",P14, \"LongDescription\",, \"T\"))","v":"Crude Light (Globex), Jun 22"},null,null,null,{"$f":"IF(P14=\"\",\"\",TEXT(RTD(\"cqg.rtd\",,\"ContractData\",P14,\"LastTradeToday\",,\"T\"),AB14))","v":"107.91"},{"$f":"IF(P14=\"\",\"\",TEXT(RTD(\"cqg.rtd\", ,\"ContractData\", P14, \"NetLastTradeToday\",, \"T\"),AB14))","v":"1.53"},{"$f":"IFERROR(IF(P14=\"\",\"\",RTD(\"cqg.rtd\", ,\"ContractData\", P14, \"PerCentNetLastTrade\",, \"T\")/100),\"\")","v":1.4382402707275803E-2},{"$f":"IF(P14=\"\",\"\",TEXT(RTD(\"cqg.rtd\", ,\"ContractData\", P14, \"OPen\",, \"T\"),AB14))","v":"106.46"},{"$f":"IF(P14=\"\",\"\",TEXT(RTD(\"cqg.rtd\", ,\"ContractData\", P14, \"HIgh\",, \"T\"),AB14))","v":"108.07"},{"$f":"IF(P14=\"\",\"\",TEXT(RTD(\"cqg.rtd\", ,\"ContractData\", P14, \"LOw\",, \"T\"),AB14))","v":"105.43"},{"$f":"IF(P14=\"\",\"\",IF(LEN(RTD(\"cqg.rtd\",,\"ContractData\",P14,\"TickSize\",,\"T\"))=1,0,LEN(RTD(\"cqg.rtd\",,\"ContractData\",P14,\"TickSize\",,\"T\"))-2))","v":2},"#.00"]
[1,{"$f":"Ranked!G10","v":"S.US.DE"},{"$f":"IF(B15=\"\",\"\",RTD(\"cqg.rtd\", ,\"ContractData\",B15, \"LongDescription\",, \"T\"))","v":"Deere & Company"},null,null,null,{"$f":"IFERROR(RTD(\"cqg.rtd\", ,\"ContractData\",B15, \"PerCentNetLastTrade\",, \"T\")/100,\"\")","v":1.7080709788208356E-2},null,{"$f":"Ranked!Q10","v":"S.US.BEN"},{"$f":"IF(I15=\"\",\"\",RTD(\"cqg.rtd\", ,\"ContractData\",I15, \"LongDescription\",, \"T\"))","v":"Franklin Resources Inc"},null,null,null,{"$f":"IFERROR(RTD(\"cqg.rtd\", ,\"ContractData\",I15, \"PerCentNetLastTrade\",, \"T\")/100,\"\")","v":1.5643332029722332E-3},null,"GCE",{"$f":"IF(P15=\"\",\"\",RTD(\"cqg.rtd\", ,\"ContractData\",P15, \"LongDescription\",, \"T\"))","v":"Gold (Globex), Jun 22"},null,null,null,{"$f":"IF(P15=\"\",\"\",TEXT(RTD(\"cqg.rtd\",,\"ContractData\",P15,\"LastTradeToday\",,\"T\"),AB15))","v":"1994.1"},{"$f":"IF(P15=\"\",\"\",TEXT(RTD(\"cqg.rtd\", ,\"ContractData\", P15, \"NetLastTradeToday\",, \"T\"),AB15))","v":"19.2"},{"$f":"IFERROR(IF(P15=\"\",\"\",RTD(\"cqg.rtd\", ,\"ContractData\", P15, \"PerCentNetLastTrade\",, \"T\")/100),\"\")","v":9.7220112410754973E-3},{"$f":"IF(P15=\"\",\"\",TEXT(RTD(\"cqg.rtd\", ,\"ContractData\", P15, \"OPen\",, \"T\"),AB15))","v":"1978.5"},{"$f":"IF(P15=\"\",\"\",TEXT(RTD(\"cqg.rtd\", ,\"ContractData\", P15, \"HIgh\",, \"T\"),AB15))","v":"2003.0"},{"$f":"IF(P15=\"\",\"\",TEXT(RTD(\"cqg.rtd\", ,\"ContractData\", P15, \"LOw\",, \"T\"),AB15))","v":"1974.4"},{"$f":"IF(P15=\"\",\"\",IF(LEN(RTD(\"cqg.rtd\",,\"ContractData\",P15,\"TickSize\",,\"T\"))=1,0,LEN(RTD(\"cqg.rtd\",,\"ContractData\",P15,\"TickSize\",,\"T\"))-2))","v":1},"#.0"]
[1,{"$f":"Ranked!G11","v":"S.US.NUE"},{"$f":"IF(B16=\"\",\"\",RTD(\"cqg.rtd\", ,\"ContractData\",B16, \"LongDescription\",, \"T\"))","v":"Nucor Corp"},null,null,null,{"$f":"IFERROR(RTD(\"cqg.rtd\", ,\"ContractData\",B16, \"PerCentNetLastTrade\",, \"T\")/100,\"\")","v":1.6452939753205904E-2},null,{"$f":"Ranked!Q11","v":"S.US.LRCX"},{"$f":"IF(I16=\"\",\"\",RTD(\"cqg.rtd\", ,\"ContractData\",I16, \"LongDescription\",, \"T\"))","v":"LAM Research Corporation"},null,null,null,{"$f":"IFERROR(RTD(\"cqg.rtd\", ,\"ContractData\",I16, \"PerCentNetLastTrade\",, \"T\")/100,\"\")","v":-3.3540862855138548E-3},null,"EU6",{"$f":"IF(P16=\"\",\"\",RTD(\"cqg.rtd\", ,\"ContractData\",P16, \"LongDescription\",, \"T\"))","v":"Euro FX (Globex), Jun 22"},null,null,null,{"$f":"IF(P16=\"\",\"\",TEXT(RTD(\"cqg.rtd\",,\"ContractData\",P16,\"LastTradeToday\",,\"T\"),AB16))","v":"1.08245"},{"$f":"IF(P16=\"\",\"\",TEXT(RTD(\"cqg.rtd\", ,\"ContractData\", P16, \"NetLastTradeToday\",, \"T\"),AB16))","v":"-.00295"},{"$f":"IFERROR(IF(P16=\"\",\"\",RTD(\"cqg.rtd\", ,\"ContractData\", P16, \"PerCentNetLastTrade\",, \"T\")/100),\"\")","v":-2.7178920213746082E-3},{"$f":"IF(P16=\"\",\"\",TEXT(RTD(\"cqg.rtd\", ,\"ContractData\", P16, \"OPen\",, \"T\"),AB16))","v":"1.08315"},{"$f":"IF(P16=\"\",\"\",TEXT(RTD(\"cqg.rtd\", ,\"ContractData\", P16, \"HIgh\",, \"T\"),AB16))","v":"1.08465"},{"$f":"IF(P16=\"\",\"\",TEXT(RTD(\"cqg.rtd\", ,\"ContractData\", P16, \"LOw\",, \"T\"),AB16))","v":"1.08075"},{"$f":"IF(P16=\"\",\"\",IF(LEN(RTD(\"cqg.rtd\",,\"ContractData\",P16,\"TickSize\",,\"T\"))=1,0,LEN(RTD(\"cqg.rtd\",,\"ContractData\",P16,\"TickSize\",,\"T\"))-2))","v":5},"#.00000"]
[1,{"$f":"Ranked!G12","v":"S.US.MOS"},{"$f":"IF(B17=\"\",\"\",RTD(\"cqg.rtd\", ,\"ContractData\",B17, \"LongDescription\",, \"T\"))","v":"Mosaic Company"},null,null,null,{"$f":"IFERROR(RTD(\"cqg.rtd\", ,\"ContractData\",B17, \"PerCentNetLastTrade\",, \"T\")/100,\"\")","v":1.3675213675213675E-2},null,{"$f":"Ranked!Q12","v":"S.US.PNR"},{"$f":"IF(I17=\"\",\"\",RTD(\"cqg.rtd\", ,\"ContractData\",I17, \"LongDescription\",, \"T\"))","v":"Pentair Ltd."},null,null,null,{"$f":"IFERROR(RTD(\"cqg.rtd\", ,\"ContractData\",I17, \"PerCentNetLastTrade\",, \"T\")/100,\"\")","v":-5.7219149341979783E-3},null,"S.RYT",{"$f":"IF(P17=\"\",\"\",RTD(\"cqg.rtd\", ,\"ContractData\",P17, \"LongDescription\",, \"T\"))","v":"Invesco S&P 500 Eq Wt Technology ETF"},null,null,null,{"$f":"IF(P17=\"\",\"\",TEXT(RTD(\"cqg.rtd\",,\"ContractData\",P17,\"LastTradeToday\",,\"T\"),AB17))","v":"270.08"},{"$f":"IF(P17=\"\",\"\",TEXT(RTD(\"cqg.rtd\", ,\"ContractData\", P17, \"NetLastTradeToday\",, \"T\"),AB17))","v":"-.17"},{"$f":"IFERROR(IF(P17=\"\",\"\",RTD(\"cqg.rtd\", ,\"ContractData\", P17, \"PerCentNetLastTrade\",, \"T\")/100),\"\")","v":-6.2904717853839043E-4},{"$f":"IF(P17=\"\",\"\",TEXT(RTD(\"cqg.rtd\", ,\"ContractData\", P17, \"OPen\",, \"T\"),AB17))","v":"269.35"},{"$f":"IF(P17=\"\",\"\",TEXT(RTD(\"cqg.rtd\", ,\"ContractData\", P17, \"HIgh\",, \"T\"),AB17))","v":"270.08"},{"$f":"IF(P17=\"\",\"\",TEXT(RTD(\"cqg.rtd\", ,\"ContractData\", P17, \"LOw\",, \"T\"),AB17))","v":"268.95"},{"$f":"IF(P17=\"\",\"\",IF(LEN(RTD(\"cqg.rtd\",,\"ContractData\",P17,\"TickSize\",,\"T\"))=1,0,LEN(RTD(\"cqg.rtd\",,\"ContractData\",P17,\"TickSize\",,\"T\"))-2))","v":2},"#.00"]
[1,{"$f":"Ranked!G13","v":"S.US.NEM"},{"$f":"IF(B18=\"\",\"\",RTD(\"cqg.rtd\", ,\"ContractData\",B18, \"LongDescription\",, \"T\"))","v":"Newmont Goldcorp Corporation"},null,null,null,{"$f":"IFERROR(RTD(\"cqg.rtd\", ,\"ContractData\",B18, \"PerCentNetLastTrade\",, \"T\")/100,\"\")","v":1.0852896071723487E-2},null,{"$f":"Ranked!Q13","v":"S.US.OGN"},{"$f":"IF(I18=\"\",\"\",RTD(\"cqg.rtd\", ,\"ContractData\",I18, \"LongDescription\",, \"T\"))","v":"Organon & Co."},null,null,null,{"$f":"IFERROR(RTD(\"cqg.rtd\", ,\"ContractData\",I18, \"PerCentNetLastTrade\",, \"T\")/100,\"\")","v":-8.0229226361031511E-3},null,"S.IBM",{"$f":"IF(P18=\"\",\"\",RTD(\"cqg.rtd\", ,\"ContractData\",P18, \"LongDescription\",, \"T\"))","v":"International Business Machines"},null,null,null,{"$f":"IF(P18=\"\",\"\",TEXT(RTD(\"cqg.rtd\",,\"ContractData\",P18,\"LastTradeToday\",,\"T\"),AB18))","v":"127.02"},{"$f":"IF(P18=\"\",\"\",TEXT(RTD(\"cqg.rtd\", ,\"ContractData\", P18, \"NetLastTradeToday\",, \"T\"),AB18))","v":".46"},{"$f":"IFERROR(IF(P18=\"\",\"\",RTD(\"cqg.rtd\", ,\"ContractData\", P18, \"PerCentNetLastTrade\",, \"T\")/100),\"\")","v":3.634639696586599E-3},{"$f":"IF(P18=\"\",\"\",TEXT(RTD(\"cqg.rtd\", ,\"ContractData\", P18, \"OPen\",, \"T\"),AB18))","v":"126.60"},{"$f":"IF(P18=\"\",\"\",TEXT(RTD(\"cqg.rtd\", ,\"ContractData\", P18, \"HIgh\",, \"T\"),AB18))","v":"127.38"},{"$f":"IF(P18=\"\",\"\",TEXT(RTD(\"cqg.rtd\", ,\"ContractData\", P18, \"LOw\",, \"T\"),AB18))","v":"126.56"},{"$f":"IF(P18=\"\",\"\",IF(LEN(RTD(\"cqg.rtd\",,\"ContractData\",P18,\"TickSize\",,\"T\"))=1,0,LEN(RTD(\"cqg.rtd\",,\"ContractData\",P18,\"TickSize\",,\"T\"))-2))","v":2},"#.00"]
[1,{"$f":"Ranked!G14","v":"S.US.RTX"},{"$f":"IF(B19=\"\",\"\",RTD(\"cqg.rtd\", ,\"ContractData\",B19, \"LongDescription\",, \"T\"))","v":"Raytheon Technologies Corporation"},null,null,null,{"$f":"IFERROR(RTD(\"cqg.rtd\", ,\"ContractData\",B19, \"PerCentNetLastTrade\",, \"T\")/100,\"\")","v":1.0357725136664428E-2},null,{"$f":"Ranked!Q14","v":"S.US.KMX"},{"$f":"IF(I19=\"\",\"\",RTD(\"cqg.rtd\", ,\"ContractData\",I19, \"LongDescription\",, \"T\"))","v":"Carmax Inc"},null,null,null,{"$f":"IFERROR(RTD(\"cqg.rtd\", ,\"ContractData\",I19, \"PerCentNetLastTrade\",, \"T\")/100,\"\")","v":-8.2797690380215713E-3},null,"S.INTC",{"$f":"IF(P19=\"\",\"\",RTD(\"cqg.rtd\", ,\"ContractData\",P19, \"LongDescription\",, \"T\"))","v":"Intel Corporation"},null,null,null,{"$f":"IF(P19=\"\",\"\",TEXT(RTD(\"cqg.rtd\",,\"ContractData\",P19,\"LastTradeToday\",,\"T\"),AB19))","v":"45.94"},{"$f":"IF(P19=\"\",\"\",TEXT(RTD(\"cqg.rtd\", ,\"ContractData\", P19, \"NetLastTradeToday\",, \"T\"),AB19))","v":".28"},{"$f":"IFERROR(IF(P19=\"\",\"\",RTD(\"cqg.rtd\", ,\"ContractData\", P19, \"PerCentNetLastTrade\",, \"T\")/100),\"\")","v":6.1309393474928845E-3},{"$f":"IF(P19=\"\",\"\",TEXT(RTD(\"cqg.rtd\", ,\"ContractData\", P19, \"OPen\",, \"T\"),AB19))","v":"45.53"},{"$f":"IF(P19=\"\",\"\",TEXT(RTD(\"cqg.rtd\", ,\"ContractData\", P19, \"HIgh\",, \"T\"),AB19))","v":"46.08"},{"$f":"IF(P19=\"\",\"\",TEXT(RTD(\"cqg.rtd\", ,\"ContractData\", P19, \"LOw\",, \"T\"),AB19))","v":"45.52"},{"$f":"IF(P19=\"\",\"\",IF(LEN(RTD(\"cqg.rtd\",,\"ContractData\",P19,\"TickSize\",,\"T\"))=1,0,LEN(RTD(\"cqg.rtd\",,\"ContractData\",P19,\"TickSize\",,\"T\"))-2))","v":2},"#.00"]
[1,{"$f":"Ranked!G15","v":"S.US.PEG"},{"$f":"IF(B20=\"\",\"\",RTD(\"cqg.rtd\", ,\"ContractData\",B20, \"LongDescription\",, \"T\"))","v":"Pub Svc Entrpr Grp Inc"},null,null,null,{"$f":"IFERROR(RTD(\"cqg.rtd\", ,\"ContractData\",B20, \"PerCentNetLastTrade\",, \"T\")/100,\"\")","v":7.4175824175824181E-3},null,{"$f":"Ranked!Q15","v":"S.US.IPGP"},{"$f":"IF(I20=\"\",\"\",RTD(\"cqg.rtd\", ,\"ContractData\",I20, \"LongDescription\",, \"T\"))","v":"IPG Photonics Corporation"},null,null,null,{"$f":"IFERROR(RTD(\"cqg.rtd\", ,\"ContractData\",I20, \"PerCentNetLastTrade\",, \"T\")/100,\"\")","v":-1.1306403535820742E-2},null,"S.JNJ",{"$f":"IF(P20=\"\",\"\",RTD(\"cqg.rtd\", ,\"ContractData\",P20, \"LongDescription\",, \"T\"))","v":"Johnson & Johnson"},null,null,null,{"$f":"IF(P20=\"\",\"\",TEXT(RTD(\"cqg.rtd\",,\"ContractData\",P20,\"LastTradeToday\",,\"T\"),AB20))","v":"180.12"},{"$f":"IF(P20=\"\",\"\",TEXT(RTD(\"cqg.rtd\", ,\"ContractData\", P20, \"NetLastTradeToday\",, \"T\"),AB20))","v":".22"},{"$f":"IFERROR(IF(P20=\"\",\"\",RTD(\"cqg.rtd\", ,\"ContractData\", P20, \"PerCentNetLastTrade\",, \"T\")/100),\"\")","v":1.2229016120066704E-3},{"$f":"IF(P20=\"\",\"\",TEXT(RTD(\"cqg.rtd\", ,\"ContractData\", P20, \"OPen\",, \"T\"),AB20))","v":"179.73"},{"$f":"IF(P20=\"\",\"\",TEXT(RTD(\"cqg.rtd\", ,\"ContractData\", P20, \"HIgh\",, \"T\"),AB20))","v":"180.39"},{"$f":"IF(P20=\"\",\"\",TEXT(RTD(\"cqg.rtd\", ,\"ContractData\", P20, \"LOw\",, \"T\"),AB20))","v":"179.46"},{"$f":"IF(P20=\"\",\"\",IF(LEN(RTD(\"cqg.rtd\",,\"ContractData\",P20,\"TickSize\",,\"T\"))=1,0,LEN(RTD(\"cqg.rtd\",,\"ContractData\",P20,\"TickSize\",,\"T\"))-2))","v":2},"#.00"]
[1,{"$f":"Ranked!G16","v":"S.US.PKG"},{"$f":"IF(B21=\"\",\"\",RTD(\"cqg.rtd\", ,\"ContractData\",B21, \"LongDescription\",, \"T\"))","v":"Packaging Corp of America"},null,null,null,{"$f":"IFERROR(RTD(\"cqg.rtd\", ,\"ContractData\",B21, \"PerCentNetLastTrade\",, \"T\")/100,\"\")","v":6.931664826401669E-3},null,{"$f":"Ranked!Q16","v":"S.US.WBD"},{"$f":"IF(I21=\"\",\"\",RTD(\"cqg.rtd\", ,\"ContractData\",I21, \"LongDescription\",, \"T\"))","v":"Warner Bros. Discovery, Inc. Series A"},null,null,null,{"$f":"IFERROR(RTD(\"cqg.rtd\", ,\"ContractData\",I21, \"PerCentNetLastTrade\",, \"T\")/100,\"\")","v":-1.2459807073954984E-2},null,"S.JPM",{"$f":"IF(P21=\"\",\"\",RTD(\"cqg.rtd\", ,\"ContractData\",P21, \"LongDescription\",, \"T\"))","v":"JPMorgan Chase & Co."},null,null,null,{"$f":"IF(P21=\"\",\"\",TEXT(RTD(\"cqg.rtd\",,\"ContractData\",P21,\"LastTradeToday\",,\"T\"),AB21))","v":"127.86"},{"$f":"IF(P21=\"\",\"\",TEXT(RTD(\"cqg.rtd\", ,\"ContractData\", P21, \"NetLastTradeToday\",, \"T\"),AB21))","v":"1.76"},{"$f":"IFERROR(IF(P21=\"\",\"\",RTD(\"cqg.rtd\", ,\"ContractData\", P21, \"PerCentNetLastTrade\",, \"T\")/100),\"\")","v":1.3954963526799874E-2},{"$f":"IF(P21=\"\",\"\",TEXT(RTD(\"cqg.rtd\", ,\"ContractData\", P21, \"OPen\",, \"T\"),AB21))","v":"125.67"},{"$f":"IF(P21=\"\",\"\",TEXT(RTD(\"cqg.rtd\", ,\"ContractData\", P21, \"HIgh\",, \"T\"),AB21))","v":"128.18"},{"$f":"IF(P21=\"\",\"\",TEXT(RTD(\"cqg.rtd\", ,\"ContractData\", P21, \"LOw\",, \"T\"),AB21))","v":"125.54"},{"$f":"IF(P21=\"\",\"\",IF(LEN(RTD(\"cqg.rtd\",,\"ContractData\",P21,\"TickSize\",,\"T\"))=1,0,LEN(RTD(\"cqg.rtd\",,\"ContractData\",P21,\"TickSize\",,\"T\"))-2))","v":2},"#.00"]
[1,{"$f":"Ranked!G17","v":"S.US.SRE"},{"$f":"IF(B22=\"\",\"\",RTD(\"cqg.rtd\", ,\"ContractData\",B22, \"LongDescription\",, \"T\"))","v":"Sempra"},null,null,null,{"$f":"IFERROR(RTD(\"cqg.rtd\", ,\"ContractData\",B22, \"PerCentNetLastTrade\",, \"T\")/100,\"\")","v":6.8905109489051097E-3},null,{"$f":"Ranked!Q17","v":"S.US.GNRC"},{"$f":"IF(I22=\"\",\"\",RTD(\"cqg.rtd\", ,\"ContractData\",I22, \"LongDescription\",, \"T\"))","v":"Generac Holdings Inc."},null,null,null,{"$f":"IFERROR(RTD(\"cqg.rtd\", ,\"ContractData\",I22, \"PerCentNetLastTrade\",, \"T\")/100,\"\")","v":-1.2818981647358573E-2},null,"S.SPLV",{"$f":"IF(P22=\"\",\"\",RTD(\"cqg.rtd\", ,\"ContractData\",P22, \"LongDescription\",, \"T\"))","v":"PowerShares Exchange-Traded Fund Trust II"},null,null,null,{"$f":"IF(P22=\"\",\"\",TEXT(RTD(\"cqg.rtd\",,\"ContractData\",P22,\"LastTradeToday\",,\"T\"),AB22))","v":"68.35"},{"$f":"IF(P22=\"\",\"\",TEXT(RTD(\"cqg.rtd\", ,\"ContractData\", P22, \"NetLastTradeToday\",, \"T\"),AB22))","v":".09"},{"$f":"IFERROR(IF(P22=\"\",\"\",RTD(\"cqg.rtd\", ,\"ContractData\", P22, \"PerCentNetLastTrade\",, \"T\")/100),\"\")","v":1.3184881336067975E-3},{"$f":"IF(P22=\"\",\"\",TEXT(RTD(\"cqg.rtd\", ,\"ContractData\", P22, \"OPen\",, \"T\"),AB22))","v":"68.08"},{"$f":"IF(P22=\"\",\"\",TEXT(RTD(\"cqg.rtd\", ,\"ContractData\", P22, \"HIgh\",, \"T\"),AB22))","v":"68.39"},{"$f":"IF(P22=\"\",\"\",TEXT(RTD(\"cqg.rtd\", ,\"ContractData\", P22, \"LOw\",, \"T\"),AB22))","v":"68.07"},{"$f":"IF(P22=\"\",\"\",IF(LEN(RTD(\"cqg.rtd\",,\"ContractData\",P22,\"TickSize\",,\"T\"))=1,0,LEN(RTD(\"cqg.rtd\",,\"ContractData\",P22,\"TickSize\",,\"T\"))-2))","v":2},"#.00"]
[1,{"$f":"Ranked!G18","v":"S.US.WMB"},{"$f":"IF(B23=\"\",\"\",RTD(\"cqg.rtd\", ,\"ContractData\",B23, \"LongDescription\",, \"T\"))","v":"Williams Companies Inc"},null,null,null,{"$f":"IFERROR(RTD(\"cqg.rtd\", ,\"ContractData\",B23, \"PerCentNetLastTrade\",, \"T\")/100,\"\")","v":6.1936936936936937E-3},null,{"$f":"Ranked!Q18","v":"S.US.PTC"},{"$f":"IF(I23=\"\",\"\",RTD(\"cqg.rtd\", ,\"ContractData\",I23, \"LongDescription\",, \"T\"))","v":"PTC Inc"},null,null,null,{"$f":"IFERROR(RTD(\"cqg.rtd\", ,\"ContractData\",I23, \"PerCentNetLastTrade\",, \"T\")/100,\"\")","v":-1.7120859082159864E-2},null,"S.TSLA",{"$f":"IF(P23=\"\",\"\",RTD(\"cqg.rtd\", ,\"ContractData\",P23, \"LongDescription\",, \"T\"))","v":"Tesla, Inc."},null,null,null,{"$f":"IF(P23=\"\",\"\",TEXT(RTD(\"cqg.rtd\",,\"ContractData\",P23,\"LastTradeToday\",,\"T\"),AB23))","v":"983.50"},{"$f":"IF(P23=\"\",\"\",TEXT(RTD(\"cqg.rtd\", ,\"ContractData\", P23, \"NetLastTradeToday\",, \"T\"),AB23))","v":"-1.50"},{"$f":"IFERROR(IF(P23=\"\",\"\",RTD(\"cqg.rtd\", ,\"ContractData\", P23, \"PerCentNetLastTrade\",, \"T\")/100),\"\")","v":-1.5228426395939088E-3},{"$f":"IF(P23=\"\",\"\",TEXT(RTD(\"cqg.rtd\", ,\"ContractData\", P23, \"OPen\",, \"T\"),AB23))","v":"989.03"},{"$f":"IF(P23=\"\",\"\",TEXT(RTD(\"cqg.rtd\", ,\"ContractData\", P23, \"HIgh\",, \"T\"),AB23))","v":"996.00"},{"$f":"IF(P23=\"\",\"\",TEXT(RTD(\"cqg.rtd\", ,\"ContractData\", P23, \"LOw\",, \"T\"),AB23))","v":"978.14"},{"$f":"IF(P23=\"\",\"\",IF(LEN(RTD(\"cqg.rtd\",,\"ContractData\",P23,\"TickSize\",,\"T\"))=1,0,LEN(RTD(\"cqg.rtd\",,\"ContractData\",P23,\"TickSize\",,\"T\"))-2))","v":2},"#.00"]
[1,{"$f":"Ranked!G19","v":"S.US.GIS"},{"$f":"IF(B24=\"\",\"\",RTD(\"cqg.rtd\", ,\"ContractData\",B24, \"LongDescription\",, \"T\"))","v":"General Mills Inc"},null,null,null,{"$f":"IFERROR(RTD(\"cqg.rtd\", ,\"ContractData\",B24, \"PerCentNetLastTrade\",, \"T\")/100,\"\")","v":4.6531302876480539E-3},null,{"$f":"Ranked!Q19","v":"S.US.MKTX"},{"$f":"IF(I24=\"\",\"\",RTD(\"cqg.rtd\", ,\"ContractData\",I24, \"LongDescription\",, \"T\"))","v":"MarketAxcess Inc"},null,null,null,{"$f":"IFERROR(RTD(\"cqg.rtd\", ,\"ContractData\",I24, \"PerCentNetLastTrade\",, \"T\")/100,\"\")","v":-1.8459220192126577E-2},"Chart Symbol: ",null,null,"EP","Time Frame:  ",null,5,"Sessions: ","All",null,"NASDAQ closes in:"]
[1,{"$f":"Ranked!G20","v":"S.US.AIZ"},{"$f":"IF(B25=\"\",\"\",RTD(\"cqg.rtd\", ,\"ContractData\",B25, \"LongDescription\",, \"T\"))","v":"Assurant Inc"},null,null,null,{"$f":"IFERROR(RTD(\"cqg.rtd\", ,\"ContractData\",B25, \"PerCentNetLastTrade\",, \"T\")/100,\"\")","v":4.4374009508716325E-3},null,{"$f":"Ranked!Q20","v":"S.US.BK"},{"$f":"IF(I25=\"\",\"\",RTD(\"cqg.rtd\", ,\"ContractData\",I25, \"LongDescription\",, \"T\"))","v":"Bank of New York Co Inc"},null,null,null,{"$f":"IFERROR(RTD(\"cqg.rtd\", ,\"ContractData\",I25, \"PerCentNetLastTrade\",, \"T\")/100,\"\")","v":-2.2414886868259674E-2},"Description: ",null,null,{"$f":"RTD(\"cqg.rtd\", ,\"ContractData\",R24, \"LongDescription\",, \"T\")","v":"E-Mini S&P 500, Jun 22"},null,null,"Last: ",{"$f":"RTD(\"cqg.rtd\", ,\"ContractData\",R24, \"LastTradeToday\",, \"T\")","v":4393.75},"NC: ",{"$f":"RTD(\"cqg.rtd\", ,\"ContractData\",R24, \"NetChange\",, \"T\")","v":6.25},{"$f":"IF(0.625-MOD(W2,1)<0,\"Market is Closed\",0.625-MOD(W2,1))","v":0.25893518518569181}]
[1,{"$f":"Ranked!G21","v":"S.US.ETR"},{"$f":"IF(B26=\"\",\"\",RTD(\"cqg.rtd\", ,\"ContractData\",B26, \"LongDescription\",, \"T\"))","v":"Entergy Corporation"},null,null,null,{"$f":"IFERROR(RTD(\"cqg.rtd\", ,\"ContractData\",B26, \"PerCentNetLastTrade\",, \"T\")/100,\"\")","v":3.8647342995169081E-3},null,{"$f":"Ranked!Q21","v":"S.US.STT"},{"$f":"IF(I26=\"\",\"\",RTD(\"cqg.rtd\", ,\"ContractData\",I26, \"LongDescription\",, \"T\"))","v":"State Street Corp"},null,null,null,{"$f":"IFERROR(RTD(\"cqg.rtd\", ,\"ContractData\",I26, \"PerCentNetLastTrade\",, \"T\")/100,\"\")","v":-2.6117926394934706E-2}]
[1,{"$f":"Ranked!G22","v":""},{"$f":"IF(B27=\"\",\"\",RTD(\"cqg.rtd\", ,\"ContractData\",B27, \"LongDescription\",, \"T\"))","v":""},null,null,null,{"$f":"IFERROR(RTD(\"cqg.rtd\", ,\"ContractData\",B27, \"PerCentNetLastTrade\",, \"T\")/100,\"\")","v":""},null,{"$f":"Ranked!Q22","v":"S.US.EMBC"},{"$f":"IF(I27=\"\",\"\",RTD(\"cqg.rtd\", ,\"ContractData\",I27, \"LongDescription\",, \"T\"))","v":"Embecta Corp."},null,null,null,{"$f":"IFERROR(RTD(\"cqg.rtd\", ,\"ContractData\",I27, \"PerCentNetLastTrade\",, \"T\")/100,\"\")","v":-2.6195552848004872E-2}]
[0,{"$f":"Ranked!G23","v":""},{"$f":"IF(B28=\"\",\"\",RTD(\"cqg.rtd\", ,\"ContractData\",B28, \"LongDescription\",, \"T\"))","v":""},null,null,null,{"$f":"IFERROR(RTD(\"cqg.rtd\", ,\"ContractData\",B28, \"PerCentNetLastTrade\",, \"T\")/100,\"\")","v":""},null,{"$f":"Ranked!Q23","v":""},{"$f":"IF(I28=\"\",\"\",RTD(\"cqg.rtd\", ,\"ContractData\",I28, \"LongDescription\",, \"T\"))","v":""},null,null,null,{"$f":"IFERROR(RTD(\"cqg.rtd\", ,\"ContractData\",I28, \"PerCentNetLastTrade\",, \"T\")/100,\"\")","v":""}]
[0,{"$f":"Ranked!G24","v":""},{"$f":"IF(B29=\"\",\"\",RTD(\"cqg.rtd\", ,\"ContractData\",B29, \"LongDescription\",, \"T\"))","v":""},null,null,null,{"$f":"IFERROR(RTD(\"cqg.rtd\", ,\"ContractData\",B29, \"PerCentNetLastTrade\",, \"T\")/100,\"\")","v":""},null,{"$f":"Ranked!Q24","v":""},{"$f":"IF(I29=\"\",\"\",RTD(\"cqg.rtd\", ,\"ContractData\",I29, \"LongDescription\",, \"T\"))","v":""},null,null,null,{"$f":"IFERROR(RTD(\"cqg.rtd\", ,\"ContractData\",I29, \"PerCentNetLastTrade\",, \"T\")/100,\"\")","v":""}]
[0,{"$f":"Ranked!G25","v":""},{"$f":"IF(B30=\"\",\"\",RTD(\"cqg.rtd\", ,\"ContractData\",B30, \"LongDescription\",, \"T\"))","v":""},null,null,null,{"$f":"IFERROR(RTD(\"cqg.rtd\", ,\"ContractData\",B30, \"PerCentNetLastTrade\",, \"T\")/100,\"\")","v":""},null,{"$f":"Ranked!Q25","v":""},{"$f":"IF(I30=\"\",\"\",RTD(\"cqg.rtd\", ,\"ContractData\",I30, \"LongDescription\",, \"T\"))","v":""},null,null,null,{"$f":"IFERROR(RTD(\"cqg.rtd\", ,\"ContractData\",I30, \"PerCentNetLastTrade\",, \"T\")/100,\"\")","v":""}]
[0,{"$f":"Ranked!G26","v":""},{"$f":"IF(B31=\"\",\"\",RTD(\"cqg.rtd\", ,\"ContractData\",B31, \"LongDescription\",, \"T\"))","v":""},null,null,null,{"$f":"IFERROR(RTD(\"cqg.rtd\", ,\"ContractData\",B31, \"PerCentNetLastTrade\",, \"T\")/100,\"\")","v":""},null,{"$f":"Ranked!Q26","v":""},{"$f":"IF(I31=\"\",\"\",RTD(\"cqg.rtd\", ,\"ContractData\",I31, \"LongDescription\",, \"T\"))","v":""},null,null,null,{"$f":"IFERROR(RTD(\"cqg.rtd\", ,\"ContractData\",I31, \"PerCentNetLastTrade\",, \"T\")/100,\"\")","v":""}]
[0,{"$f":"Ranked!G27","v":""},{"$f":"IF(B32=\"\",\"\",RTD(\"cqg.rtd\", ,\"ContractData\",B32, \"LongDescription\",, \"T\"))","v":""},null,null,null,{"$f":"IFERROR(RTD(\"cqg.rtd\", ,\"ContractData\",B32, \"PerCentNetLastTrade\",, \"T\")/100,\"\")","v":""},null,{"$f":"Ranked!Q27","v":""},{"$f":"IF(I32=\"\",\"\",RTD(\"cqg.rtd\", ,\"ContractData\",I32, \"LongDescription\",, \"T\"))","v":""},null,null,null,{"$f":"IFERROR(RTD(\"cqg.rtd\", ,\"ContractData\",I32, \"PerCentNetLastTrade\",, \"T\")/100,\"\")","v":""}]
[0,{"$f":"Ranked!G28","v":""},{"$f":"IF(B33=\"\",\"\",RTD(\"cqg.rtd\", ,\"ContractData\",B33, \"LongDescription\",, \"T\"))","v":""},null,null,null,{"$f":"IFERROR(RTD(\"cqg.rtd\", ,\"ContractData\",B33, \"PerCentNetLastTrade\",, \"T\")/100,\"\")","v":""},null,{"$f":"Ranked!Q28","v":""},{"$f":"IF(I33=\"\",\"\",RTD(\"cqg.rtd\", ,\"ContractData\",I33, \"LongDescription\",, \"T\"))","v":""},null,null,null,{"$f":"IFERROR(RTD(\"cqg.rtd\", ,\"ContractData\",I33, \"PerCentNetLastTrade\",, \"T\")/100,\"\")","v":""}]
[0,{"$f":"Ranked!G29","v":""},{"$f":"IF(B34=\"\",\"\",RTD(\"cqg.rtd\", ,\"ContractData\",B34, \"LongDescription\",, \"T\"))","v":""},null,null,null,{"$f":"IFERROR(RTD(\"cqg.rtd\", ,\"ContractData\",B34, \"PerCentNetLastTrade\",, \"T\")/100,\"\")","v":""},null,{"$f":"Ranked!Q29","v":""},{"$f":"IF(I34=\"\",\"\",RTD(\"cqg.rtd\", ,\"ContractData\",I34, \"LongDescription\",, \"T\"))","v":""},null,null,null,{"$f":"IFERROR(RTD(\"cqg.rtd\", ,\"ContractData\",I34, \"PerCentNetLastTrade\",, \"T\")/100,\"\")","v":""}]
[0,{"$f":"Ranked!G30","v":""},{"$f":"IF(B35=\"\",\"\",RTD(\"cqg.rtd\", ,\"ContractData\",B35, \"LongDescription\",, \"T\"))","v":""},null,null,null,{"$f":"IFERROR(RTD(\"cqg.rtd\", ,\"ContractData\",B35, \"PerCentNetLastTrade\",, \"T\")/100,\"\")","v":""},null,{"$f":"Ranked!Q30","v":""},{"$f":"IF(I35=\"\",\"\",RTD(\"cqg.rtd\", ,\"ContractData\",I35, \"LongDescription\",, \"T\"))","v":""},null,null,null,{"$f":"IFERROR(RTD(\"cqg.rtd\", ,\"ContractData\",I35, \"PerCentNetLastTrade\",, \"T\")/100,\"\")","v":""}]
[0,{"$f":"Ranked!G31","v":""},{"$f":"IF(B36=\"\",\"\",RTD(\"cqg.rtd\", ,\"ContractData\",B36, \"LongDescription\",, \"T\"))","v":""},null,null,null,{"$f":"IFERROR(RTD(\"cqg.rtd\", ,\"ContractData\",B36, \"PerCentNetLastTrade\",, \"T\")/100,\"\")","v":""},null,{"$f":"Ranked!Q31","v":""},{"$f":"IF(I36=\"\",\"\",RTD(\"cqg.rtd\", ,\"ContractData\",I36, \"LongDescription\",, \"T\"))","v":""},null,null,null,{"$f":"IFERROR(RTD(\"cqg.rtd\", ,\"ContractData\",I36, \"PerCentNetLastTrade\",, \"T\")/100,\"\")","v":""}]
[0,{"$f":"Ranked!G32","v":""},{"$f":"IF(B37=\"\",\"\",RTD(\"cqg.rtd\", ,\"ContractData\",B37, \"LongDescription\",, \"T\"))","v":""},null,null,null,{"$f":"IFERROR(RTD(\"cqg.rtd\", ,\"ContractData\",B37, \"PerCentNetLastTrade\",, \"T\")/100,\"\")","v":""},null,{"$f":"Ranked!Q32","v":""},{"$f":"IF(I37=\"\",\"\",RTD(\"cqg.rtd\", ,\"ContractData\",I37, \"LongDescription\",, \"T\"))","v":""},null,null,null,{"$f":"IFERROR(RTD(\"cqg.rtd\", ,\"ContractData\",I37, \"PerCentNetLastTrade\",, \"T\")/100,\"\")","v":""}]
[0,{"$f":"Ranked!G33","v":""},{"$f":"IF(B38=\"\",\"\",RTD(\"cqg.rtd\", ,\"ContractData\",B38, \"LongDescription\",, \"T\"))","v":""},null,null,null,{"$f":"IFERROR(RTD(\"cqg.rtd\", ,\"ContractData\",B38, \"PerCentNetLastTrade\",, \"T\")/100,\"\")","v":""},null,{"$f":"Ranked!Q33","v":""},{"$f":"IF(I38=\"\",\"\",RTD(\"cqg.rtd\", ,\"ContractData\",I38, \"LongDescription\",, \"T\"))","v":""},null,null,null,{"$f":"IFERROR(RTD(\"cqg.rtd\", ,\"ContractData\",I38, \"PerCentNetLastTrade\",, \"T\")/100,\"\")","v":""}]
[0,{"$f":"Ranked!G34","v":""},{"$f":"IF(B39=\"\",\"\",RTD(\"cqg.rtd\", ,\"ContractData\",B39, \"LongDescription\",, \"T\"))","v":""},null,null,null,{"$f":"IFERROR(RTD(\"cqg.rtd\", ,\"ContractData\",B39, \"PerCentNetLastTrade\",, \"T\")/100,\"\")","v":""},null,{"$f":"Ranked!Q34","v":""},{"$f":"IF(I39=\"\",\"\",RTD(\"cqg.rtd\", ,\"ContractData\",I39, \"LongDescription\",, \"T\"))","v":""},null,null,null,{"$f":"IFERROR(RTD(\"cqg.rtd\", ,\"ContractData\",I39, \"PerCentNetLastTrade\",, \"T\")/100,\"\")","v":""}]
[0,{"$f":"Ranked!G35","v":""},{"$f":"IF(B40=\"\",\"\",RTD(\"cqg.rtd\", ,\"ContractData\",B40, \"LongDescription\",, \"T\"))","v":""},null,null,null,{"$f":"IFERROR(RTD(\"cqg.rtd\", ,\"ContractData\",B40, \"PerCentNetLastTrade\",, \"T\")/100,\"\")","v":""},null,{"$f":"Ranked!Q35","v":""},{"$f":"IF(I40=\"\",\"\",RTD(\"cqg.rtd\", ,\"ContractData\",I40, \"LongDescription\",, \"T\"))","v":""},null,null,null,{"$f":"IFERROR(RTD(\"cqg.rtd\", ,\"ContractData\",I40, \"PerCentNetLastTrade\",, \"T\")/100,\"\")","v":""}]
[0,{"$f":"Ranked!G36","v":""},{"$f":"IF(B41=\"\",\"\",RTD(\"cqg.rtd\", ,\"ContractData\",B41, \"LongDescription\",, \"T\"))","v":""},null,null,null,{"$f":"IFERROR(RTD(\"cqg.rtd\", ,\"ContractData\",B41, \"PerCentNetLastTrade\",, \"T\")/100,\"\")","v":""},null,{"$f":"Ranked!Q36","v":""},{"$f":"IF(I41=\"\",\"\",RTD(\"cqg.rtd\", ,\"ContractData\",I41, \"LongDescription\",, \"T\"))","v":""},null,null,null,{"$f":"IFERROR(RTD(\"cqg.rtd\", ,\"ContractData\",I41, \"PerCentNetLastTrade\",, \"T\")/100,\"\")","v":""}]
[0,{"$f":"Ranked!G37","v":""},{"$f":"IF(B42=\"\",\"\",RTD(\"cqg.rtd\", ,\"ContractData\",B42, \"LongDescription\",, \"T\"))","v":""},null,null,null,{"$f":"IFERROR(RTD(\"cqg.rtd\", ,\"ContractData\",B42, \"PerCentNetLastTrade\",, \"T\")/100,\"\")","v":""},null,{"$f":"Ranked!Q37","v":""},{"$f":"IF(I42=\"\",\"\",RTD(\"cqg.rtd\", ,\"ContractData\",I42, \"LongDescription\",, \"T\"))","v":""},null,null,null,{"$f":"IFERROR(RTD(\"cqg.rtd\", ,\"ContractData\",I42, \"PerCentNetLastTrade\",, \"T\")/100,\"\")","v":""}]
[0,{"$f":"Ranked!G38","v":""},{"$f":"IF(B43=\"\",\"\",RTD(\"cqg.rtd\", ,\"ContractData\",B43, \"LongDescription\",, \"T\"))","v":""},null,null,null,{"$f":"IFERROR(RTD(\"cqg.rtd\", ,\"ContractData\",B43, \"PerCentNetLastTrade\",, \"T\")/100,\"\")","v":""},null,{"$f":"Ranked!Q38","v":""},{"$f":"IF(I43=\"\",\"\",RTD(\"cqg.rtd\", ,\"ContractData\",I43, \"LongDescription\",, \"T\"))","v":""},null,null,null,{"$f":"IFERROR(RTD(\"cqg.rtd\", ,\"ContractData\",I43, \"PerCentNetLastTrade\",, \"T\")/100,\"\")","v":""}]
[0,{"$f":"Ranked!G39","v":""},{"$f":"IF(B44=\"\",\"\",RTD(\"cqg.rtd\", ,\"ContractData\",B44, \"LongDescription\",, \"T\"))","v":""},null,null,null,{"$f":"IFERROR(RTD(\"cqg.rtd\", ,\"ContractData\",B44, \"PerCentNetLastTrade\",, \"T\")/100,\"\")","v":""},null,{"$f":"Ranked!Q39","v":""},{"$f":"IF(I44=\"\",\"\",RTD(\"cqg.rtd\", ,\"ContractData\",I44, \"LongDescription\",, \"T\"))","v":""},null,null,null,{"$f":"IFERROR(RTD(\"cqg.rtd\", ,\"ContractData\",I44, \"PerCentNetLastTrade\",, \"T\")/100,\"\")","v":""}]
[0,{"$f":"Ranked!G40","v":""},{"$f":"IF(B45=\"\",\"\",RTD(\"cqg.rtd\", ,\"ContractData\",B45, \"LongDescription\",, \"T\"))","v":""},null,null,null,{"$f":"IFERROR(RTD(\"cqg.rtd\", ,\"ContractData\",B45, \"PerCentNetLastTrade\",, \"T\")/100,\"\")","v":""},null,{"$f":"Ranked!Q40","v":""},{"$f":"IF(I45=\"\",\"\",RTD(\"cqg.rtd\", ,\"ContractData\",I45, \"LongDescription\",, \"T\"))","v":""},null,null,null,{"$f":"IFERROR(RTD(\"cqg.rtd\", ,\"ContractData\",I45, \"PerCentNetLastTrade\",, \"T\")/100,\"\")","v":""}]
[0,{"$f":"Ranked!G41","v":""},{"$f":"IF(B46=\"\",\"\",RTD(\"cqg.rtd\", ,\"ContractData\",B46, \"LongDescription\",, \"T\"))","v":""},null,null,null,{"$f":"IFERROR(RTD(\"cqg.rtd\", ,\"ContractData\",B46, \"PerCentNetLastTrade\",, \"T\")/100,\"\")","v":""},null,{"$f":"Ranked!Q41","v":""},{"$f":"IF(I46=\"\",\"\",RTD(\"cqg.rtd\", ,\"ContractData\",I46, \"LongDescription\",, \"T\"))","v":""},null,null,null,{"$f":"IFERROR(RTD(\"cqg.rtd\", ,\"ContractData\",I46, \"PerCentNetLastTrade\",, \"T\")/100,\"\")","v":""}]
[null,null,"  Copyright © 2019",null,null,null,null,null,{"$f":"IF(OR(I46<>\"\",B46<>\"\"),\"Please check Ranked Tab for a full view\",\"\")","v":""},null,null,null,null,null,null,null,null,null,null,null,null,null,null,"Designed by Thom Hartle"]

{"sheet":"Data","index":1,"n_rows":507,"n_cols":20,"rows_kept":507,"cut":false,"hidden":true,"merged":[]}
["Symbol",{"$f":"Main!D5","v":52},{"$f":"Main!G5","v":"W"},null,null,null,null,0,0,null,null,null,null,null,null,null,null,null,"UP"]
[{"$f":"Symbols!A2","v":"S.US.A"},{"$f":"IFERROR(RTD(\"cqg.rtd\",,\"StudyData\",A2,\"Bar\",, \"High\",$C$1,\"0\",,,,,\"T\"),\"\")","v":126.75},{"$f":"IFERROR(RTD(\"cqg.rtd\",,\"StudyData\",A2,\"Bar\",, \"Low\",$C$1,\"0\",,,,,\"T\"),\"\")","v":126},{"$f":"IFERROR(RTD(\"cqg.rtd\",,\"StudyData\",\"HiLevel(\"&A2&\",Period1:=\"&$B$1&\",AllowGaps:=0,InputChoice1:=High,InputChoice3:=High)\",\"Bar\",, \"Close\",$C$1,\"-1\",,,,,\"T\"),\"\")","v":179.57},{"$f":"IFERROR(RTD(\"cqg.rtd\",,\"StudyData\",\"LoLevel(\"&A2&\",Period2:=\"&$B$1&\",AllowGaps:=0,InputChoice2:=Low,InputChoice4:=Low)\",\"Bar\",, \"Close\",$C$1,\"-1\",,,,,\"T\"),\"\")","v":123.06},{"$f":"IF(B2=\"\",0,IFERROR(IF(B2>D2,1,0),\"\"))","v":0},{"$f":"IF(C2=\"\",0,IFERROR(IF(C2<E2,1,0),\"\"))","v":0},{"$f":"IF(F2=1,INT(H1+1),H1+0.001)","v":1E-3},{"$f":"IF(G2=1,INT(I1+1),I1+0.001)","v":1E-3},{"$f":"A2","v":"S.US.A"},{"$f":"RTD(\"cqg.rtd\", ,\"ContractData\",A2, \"PerCentNetLastTrade\",, \"T\")/100","v":-3.4799114204365706E-3},{"$f":"RANK($K2,$K$2:K$506)+COUNTIF($K$2:K2,K2)-1","v":{"$error":"#VALUE!"}},{"$f":"J2","v":"S.US.A"},1,{"$f":"IFERROR(VLOOKUP(N2,$L$2:$M$506,2,FALSE),\"\")","v":""},{"$f":"RTD(\"cqg.rtd\", ,\"ContractData\",O2, \"PerCentNetLastTrade\",, \"T\")/100","v":{"$error":"#VALUE!"}},{"$f":"VLOOKUP(O2,$A$2:$H$506,8,FALSE)","v":{"$error":"#N/A"}},null,1,{"$f":"IFERROR(VLOOKUP(S2,$H$2:$J$506,3,FALSE),\"\")","v":"S.US.AIZ"}]
[{"$f":"Symbols!A3","v":"S.US.AAL"},{"$f":"IFERROR(RTD(\"cqg.rtd\",,\"StudyData\",A3,\"Bar\",, \"High\",$C$1,\"0\",,,,,\"T\"),\"\")","v":18.97},{"$f":"IFERROR(RTD(\"cqg.rtd\",,\"StudyData\",A3,\"Bar\",, \"Low\",$C$1,\"0\",,,,,\"T\"),\"\")","v":18.649999999999999},{"$f":"IFERROR(RTD(\"cqg.rtd\",,\"StudyData\",\"HiLevel(\"&A3&\",Period1:=\"&$B$1&\",AllowGaps:=0,InputChoice1:=High,InputChoice3:=High)\",\"Bar\",, \"Close\",$C$1,\"-1\",,,,,\"T\"),\"\")","v":26.04},{"$f":"IFERROR(RTD(\"cqg.rtd\",,\"StudyData\",\"LoLevel(\"&A3&\",Period2:=\"&$B$1&\",AllowGaps:=0,InputChoice2:=Low,InputChoice4:=Low)\",\"Bar\",, \"Close\",$C$1,\"-1\",,,,,\"T\"),\"\")","v":12.44},{"$f":"IF(B3=\"\",0,IFERROR(IF(B3>D3,1,0),\"\"))","v":0},{"$f":"IF(C3=\"\",0,IFERROR(IF(C3<E3,1,0),\"\"))","v":0},{"$f":"IF(F3=1,INT(H2+1),H2+0.001)","v":2E-3},2E-3,{"$f":"A3","v":"S.US.AAL"},{"$f":"RTD(\"cqg.rtd\", ,\"ContractData\",A3, \"PerCentNetLastTrade\",, \"T\")/100","v":-2.631578947368421E-3},{"$f":"RANK($K3,$K$2:K$506)+COUNTIF($K$2:K3,K3)-1","v":{"$error":"#VALUE!"}},{"$f":"J3","v":"S.US.AAL"},{"$f":"N2+1","v":2},"",{"$f":"RTD(\"cqg.rtd\", ,\"ContractData\",O3, \"PerCentNetLastTrade\",, \"T\")/100","v":{"$error":"#VALUE!"}},{"$error":"#N/A"},null,{"$f":"S2+1","v":2},"S.US.APA"]
[{"$f":"Symbols!A4","v":"S.US.AAP"},{"$f":"IFERROR(RTD(\"cqg.rtd\",,\"StudyData\",A4,\"Bar\",, \"High\",$C$1,\"0\",,,,,\"T\"),\"\")","v":220},{"$f":"IFERROR(RTD(\"cqg.rtd\",,\"StudyData\",A4,\"Bar\",, \"Low\",$C$1,\"0\",,,,,\"T\"),\"\")","v":217.38},{"$f":"IFERROR(RTD(\"cqg.rtd\",,\"StudyData\",\"HiLevel(\"&A4&\",Period1:=\"&$B$1&\",AllowGaps:=0,InputChoice1:=High,InputChoice3:=High)\",\"Bar\",, \"Close\",$C$1,\"-1\",,,,,\"T\"),\"\")","v":244.55},{"$f":"IFERROR(RTD(\"cqg.rtd\",,\"StudyData\",\"LoLevel(\"&A4&\",Period2:=\"&$B$1&\",AllowGaps:=0,InputChoice2:=Low,InputChoice4:=Low)\",\"Bar\",, \"Close\",$C$1,\"-1\",,,,,\"T\"),\"\")","v":187.16},{"$f":"IF(B4=\"\",0,IFERROR(IF(B4>D4,1,0),\"\"))","v":0},0,3.0000000000000001E-3,3.0000000000000001E-3,"S.US.AAP",{"$f":"RTD(\"cqg.rtd\", ,\"ContractData\",A4, \"PerCentNetLastTrade\",, \"T\")/100","v":6.0362173038229373E-3},{"$f":"RANK($K4,$K$2:K$506)+COUNTIF($K$2:K4,K4)-1","v":{"$error":"#VALUE!"}},{"$f":"J4","v":"S.US.AAP"},{"$f":"N3+1","v":3},"",{"$f":"RTD(\"cqg.rtd\", ,\"ContractData\",O4, \"PerCentNetLastTrade\",, \"T\")/100","v":{"$error":"#VALUE!"}},{"$error":"#N/A"},null,{"$f":"S3+1","v":3},"S.US.BF.B"]
[{"$f":"Symbols!A5","v":"S.US.AAPL"},{"$f":"IFERROR(RTD(\"cqg.rtd\",,\"StudyData\",A5,\"Bar\",, \"High\",$C$1,\"0\",,,,,\"T\"),\"\")","v":165.73},{"$f":"IFERROR(RTD(\"cqg.rtd\",,\"StudyData\",A5,\"Bar\",, \"Low\",$C$1,\"0\",,,,,\"T\"),\"\")","v":163.57},{"$f":"IFERROR(RTD(\"cqg.rtd\",,\"StudyData\",\"HiLevel(\"&A5&\",Period1:=\"&$B$1&\",AllowGaps:=0,InputChoice1:=High,InputChoice3:=High)\",\"Bar\",, \"Close\",$C$1,\"-1\",,,,,\"T\"),\"\")","v":182.94},{"$f":"IFERROR(RTD(\"cqg.rtd\",,\"StudyData\",\"LoLevel(\"&A5&\",Period2:=\"&$B$1&\",AllowGaps:=0,InputChoice2:=Low,InputChoice4:=Low)\",\"Bar\",, \"Close\",$C$1,\"-1\",,,,,\"T\"),\"\")","v":122.25},0,0,4.0000000000000001E-3,4.0000000000000001E-3,"S.US.AAPL",{"$f":"RTD(\"cqg.rtd\", ,\"ContractData\",A5, \"PerCentNetLastTrade\",, \"T\")/100","v":-2.177990199044104E-3},{"$f":"RANK($K5,$K$2:K$506)+COUNTIF($K$2:K5,K5)-1","v":{"$error":"#VALUE!"}},"S.US.AAPL",4,"",{"$f":"RTD(\"cqg.rtd\", ,\"ContractData\",O5, \"PerCentNetLastTrade\",, \"T\")/100","v":{"$error":"#VALUE!"}},{"$error":"#N/A"},null,4,"S.US.BRK.B"]
[{"$f":"Symbols!A6","v":"S.US.ABBV"},{"$f":"IFERROR(RTD(\"cqg.rtd\",,\"StudyData\",A6,\"Bar\",, \"High\",$C$1,\"0\",,,,,\"T\"),\"\")","v":162.79},{"$f":"IFERROR(RTD(\"cqg.rtd\",,\"StudyData\",A6,\"Bar\",, \"Low\",$C$1,\"0\",,,,,\"T\"),\"\")","v":160.86000000000001},{"$f":"IFERROR(RTD(\"cqg.rtd\",,\"StudyData\",\"HiLevel(\"&A6&\",Period1:=\"&$B$1&\",AllowGaps:=0,InputChoice1:=High,InputChoice3:=High)\",\"Bar\",, \"Close\",$C$1,\"-1\",,,,,\"T\"),\"\")","v":175.91},{"$f":"IFERROR(RTD(\"cqg.rtd\",,\"StudyData\",\"LoLevel(\"&A6&\",Period2:=\"&$B$1&\",AllowGaps:=0,InputChoice2:=Low,InputChoice4:=Low)\",\"Bar\",, \"Close\",$C$1,\"-1\",,,,,\"T\"),\"\")","v":105.56},0,0,5.0000000000000001E-3,5.0000000000000001E-3,"S.US.ABBV",{"$f":"RTD(\"cqg.rtd\", ,\"ContractData\",A6, \"PerCentNetLastTrade\",, \"T\")/100","v":-7.0235968208982816E-3},{"$f":"RANK($K6,$K$2:K$506)+COUNTIF($K$2:K6,K6)-1","v":{"$error":"#VALUE!"}},"S.US.ABBV",5,"",{"$f":"RTD(\"cqg.rtd\", ,\"ContractData\",O6, \"PerCentNetLastTrade\",, \"T\")/100","v":{"$error":"#VALUE!"}},{"$error":"#N/A"},null,5,"S.US.CTRA"]
[{"$f":"Symbols!A7","v":"S.US.ABC"},{"$f":"IFERROR(RTD(\"cqg.rtd\",,\"StudyData\",A7,\"Bar\",, \"High\",$C$1,\"0\",,,,,\"T\"),\"\")","v":162},{"$f":"IFERROR(RTD(\"cqg.rtd\",,\"StudyData\",A7,\"Bar\",, \"Low\",$C$1,\"0\",,,,,\"T\"),\"\")","v":160.34},{"$f":"IFERROR(RTD(\"cqg.rtd\",,\"StudyData\",\"HiLevel(\"&A7&\",Period1:=\"&$B$1&\",AllowGaps:=0,InputChoice1:=High,InputChoice3:=High)\",\"Bar\",, \"Close\",$C$1,\"-1\",,,,,\"T\"),\"\")","v":166.9},{"$f":"IFERROR(RTD(\"cqg.rtd\",,\"StudyData\",\"LoLevel(\"&A7&\",Period2:=\"&$B$1&\",AllowGaps:=0,InputChoice2:=Low,InputChoice4:=Low)\",\"Bar\",, \"Close\",$C$1,\"-1\",,,,,\"T\"),\"\")","v":111.34},0,0,6.0000000000000001E-3,6.0000000000000001E-3,"S.US.ABC",{"$f":"RTD(\"cqg.rtd\", ,\"ContractData\",A7, \"PerCentNetLastTrade\",, \"T\")/100","v":3.4737299174989146E-3},{"$f":"RANK($K7,$K$2:K$506)+COUNTIF($K$2:K7,K7)-1","v":{"$error":"#VALUE!"}},"S.US.ABC",6,"",{"$f":"RTD(\"cqg.rtd\", ,\"ContractData\",O7, \"PerCentNetLastTrade\",, \"T\")/100","v":{"$error":"#VALUE!"}},{"$error":"#N/A"},null,6,"S.US.DE"]
[{"$f":"Symbols!A8","v":"S.US.ABMD"},{"$f":"IFERROR(RTD(\"cqg.rtd\",,\"StudyData\",A8,\"Bar\",, \"High\",$C$1,\"0\",,,,,\"T\"),\"\")","v":307.24},{"$f":"IFERROR(RTD(\"cqg.rtd\",,\"StudyData\",A8,\"Bar\",, \"Low\",$C$1,\"0\",,,,,\"T\"),\"\")","v":303.70999999999998},{"$f":"IFERROR(RTD(\"cqg.rtd\",,\"StudyData\",\"HiLevel(\"&A8&\",Period1:=\"&$B$1&\",AllowGaps:=0,InputChoice1:=High,InputChoice3:=High)\",\"Bar\",, \"Close\",$C$1,\"-1\",,,,,\"T\"),\"\")","v":379.29},{"$f":"IFERROR(RTD(\"cqg.rtd\",,\"StudyData\",\"LoLevel(\"&A8&\",Period2:=\"&$B$1&\",AllowGaps:=0,InputChoice2:=Low,InputChoice4:=Low)\",\"Bar\",, \"Close\",$C$1,\"-1\",,,,,\"T\"),\"\")","v":261.27},0,0,7.0000000000000001E-3,7.0000000000000001E-3,"S.US.ABMD",{"$f":"RTD(\"cqg.rtd\", ,\"ContractData\",A8, \"PerCentNetLastTrade\",, \"T\")/100","v":-2.6463669628855203E-3},{"$f":"RANK($K8,$K$2:K$506)+COUNTIF($K$2:K8,K8)-1","v":{"$error":"#VALUE!"}},"S.US.ABMD",7,"",{"$f":"RTD(\"cqg.rtd\", ,\"ContractData\",O8, \"PerCentNetLastTrade\",, \"T\")/100","v":{"$error":"#VALUE!"}},{"$error":"#N/A"},null,7,"S.US.ETR"]
[{"$f":"Symbols!A9","v":"S.US.ABT"},{"$f":"IFERROR(RTD(\"cqg.rtd\",,\"StudyData\",A9,\"Bar\",, \"High\",$C$1,\"0\",,,,,\"T\"),\"\")","v":118.33},{"$f":"IFERROR(RTD(\"cqg.rtd\",,\"StudyData\",A9,\"Bar\",, \"Low\",$C$1,\"0\",,,,,\"T\"),\"\")","v":117.02},{"$f":"IFERROR(RTD(\"cqg.rtd\",,\"StudyData\",\"HiLevel(\"&A9&\",Period1:=\"&$B$1&\",AllowGaps:=0,InputChoice1:=High,InputChoice3:=High)\",\"Bar\",, \"Close\",$C$1,\"-1\",,,,,\"T\"),\"\")","v":142.6},{"$f":"IFERROR(RTD(\"cqg.rtd\",,\"StudyData\",\"LoLevel(\"&A9&\",Period2:=\"&$B$1&\",AllowGaps:=0,InputChoice2:=Low,InputChoice4:=Low)\",\"Bar\",, \"Close\",$C$1,\"-1\",,,,,\"T\"),\"\")","v":105.36},0,0,8.0000000000000002E-3,8.0000000000000002E-3,"S.US.ABT",{"$f":"RTD(\"cqg.rtd\", ,\"ContractData\",A9, \"PerCentNetLastTrade\",, \"T\")/100","v":-5.0981391791995925E-4},{"$f":"RANK($K9,$K$2:K$506)+COUNTIF($K$2:K9,K9)-1","v":{"$error":"#VALUE!"}},"S.US.ABT",8,"",{"$f":"RTD(\"cqg.rtd\", ,\"ContractData\",O9, \"PerCentNetLastTrade\",, \"T\")/100","v":{"$error":"#VALUE!"}},{"$error":"#N/A"},null,8,"S.US.GIS"]
[{"$f":"Symbols!A10","v":"S.US.ACN"},{"$f":"IFERROR(RTD(\"cqg.rtd\",,\"StudyData\",A10,\"Bar\",, \"High\",$C$1,\"0\",,,,,\"T\"),\"\")","v":321},{"$f":"IFERROR(RTD(\"cqg.rtd\",,\"StudyData\",A10,\"Bar\",, \"Low\",$C$1,\"0\",,,,,\"T\"),\"\")","v":318.47000000000003},{"$f":"IFERROR(RTD(\"cqg.rtd\",,\"StudyData\",\"HiLevel(\"&A10&\",Period1:=\"&$B$1&\",AllowGaps:=0,InputChoice1:=High,InputChoice3:=High)\",\"Bar\",, \"Close\",$C$1,\"-1\",,,,,\"T\"),\"\")","v":417.37},{"$f":"IFERROR(RTD(\"cqg.rtd\",,\"StudyData\",\"LoLevel(\"&A10&\",Period2:=\"&$B$1&\",AllowGaps:=0,InputChoice2:=Low,InputChoice4:=Low)\",\"Bar\",, \"Close\",$C$1,\"-1\",,,,,\"T\"),\"\")","v":276.88},0,0,9.0000000000000011E-3,9.0000000000000011E-3,"S.US.ACN",{"$f":"RTD(\"cqg.rtd\", ,\"ContractData\",A10, \"PerCentNetLastTrade\",, \"T\")/100","v":-1.8468087770369677E-3},{"$f":"RANK($K10,$K$2:K$506)+COUNTIF($K$2:K10,K10)-1","v":{"$error":"#VALUE!"}},"S.US.ACN",9,"",{"$f":"RTD(\"cqg.rtd\", ,\"ContractData\",O10, \"PerCentNetLastTrade\",, \"T\")/100","v":{"$error":"#VALUE!"}},{"$error":"#N/A"},null,9,"S.US.HAL"]
[{"$f":"Symbols!A11","v":"S.US.ADBE"},{"$f":"IFERROR(RTD(\"cqg.rtd\",,\"StudyData\",A11,\"Bar\",, \"High\",$C$1,\"0\",,,,,\"T\"),\"\")","v":423.4},{"$f":"IFERROR(RTD(\"cqg.rtd\",,\"StudyData\",A11,\"Bar\",, \"Low\",$C$1,\"0\",,,,,\"T\"),\"\")","v":418.73},{"$f":"IFERROR(RTD(\"cqg.rtd\",,\"StudyData\",\"HiLevel(\"&A11&\",Period1:=\"&$B$1&\",AllowGaps:=0,InputChoice1:=High,InputChoice3:=High)\",\"Bar\",, \"Close\",$C$1,\"-1\",,,,,\"T\"),\"\")","v":699.54},{"$f":"IFERROR(RTD(\"cqg.rtd\",,\"StudyData\",\"LoLevel(\"&A11&\",Period2:=\"&$B$1&\",AllowGaps:=0,InputChoice2:=Low,InputChoice4:=Low)\",\"Bar\",, \"Close\",$C$1,\"-1\",,,,,\"T\"),\"\")","v":407.94},0,0,1.0000000000000002E-2,1.0000000000000002E-2,"S.US.ADBE",{"$f":"RTD(\"cqg.rtd\", ,\"ContractData\",A11, \"PerCentNetLastTrade\",, \"T\")/100","v":-2.2119684140424318E-3},{"$f":"RANK($K11,$K$2:K$506)+COUNTIF($K$2:K11,K11)-1","v":{"$error":"#VALUE!"}},"S.US.ADBE",10,"",{"$f":"RTD(\"cqg.rtd\", ,\"ContractData\",O11, \"PerCentNetLastTrade\",, \"T\")/100","v":{"$error":"#VALUE!"}},{"$error":"#N/A"},null,10,"S.US.HES"]
[{"$f":"Symbols!A12","v":"S.US.ADI"},{"$f":"IFERROR(RTD(\"cqg.rtd\",,\"StudyData\",A12,\"Bar\",, \"High\",$C$1,\"0\",,,,,\"T\"),\"\")","v":158.41},{"$f":"IFERROR(RTD(\"cqg.rtd\",,\"StudyData\",A12,\"Bar\",, \"Low\",$C$1,\"0\",,,,,\"T\"),\"\")","v":156.16999999999999},{"$f":"IFERROR(RTD(\"cqg.rtd\",,\"StudyData\",\"HiLevel(\"&A12&\",Period1:=\"&$B$1&\",AllowGaps:=0,InputChoice1:=High,InputChoice3:=High)\",\"Bar\",, \"Close\",$C$1,\"-1\",,,,,\"T\"),\"\")","v":191.95},{"$f":"IFERROR(RTD(\"cqg.rtd\",,\"StudyData\",\"LoLevel(\"&A12&\",Period2:=\"&$B$1&\",AllowGaps:=0,InputChoice2:=Low,InputChoice4:=Low)\",\"Bar\",, \"Close\",$C$1,\"-1\",,,,,\"T\"),\"\")","v":143.81},0,0,1.1000000000000003E-2,1.1000000000000003E-2,"S.US.ADI",{"$f":"RTD(\"cqg.rtd\", ,\"ContractData\",A12, \"PerCentNetLastTrade\",, \"T\")/100","v":8.3067092651757189E-3},{"$f":"RANK($K12,$K$2:K$506)+COUNTIF($K$2:K12,K12)-1","v":{"$error":"#VALUE!"}},"S.US.ADI",11,"",{"$f":"RTD(\"cqg.rtd\", ,\"ContractData\",O12, \"PerCentNetLastTrade\",, \"T\")/100","v":{"$error":"#VALUE!"}},{"$error":"#N/A"},null,11,"S.US.MOS"]
[{"$f":"Symbols!A13","v":"S.US.ADM"},{"$f":"IFERROR(RTD(\"cqg.rtd\",,\"StudyData\",A13,\"Bar\",, \"High\",$C$1,\"0\",,,,,\"T\"),\"\")","v":97.15},{"$f":"IFERROR(RTD(\"cqg.rtd\",,\"StudyData\",A13,\"Bar\",, \"Low\",$C$1,\"0\",,,,,\"T\"),\"\")","v":95.31},{"$f":"IFERROR(RTD(\"cqg.rtd\",,\"StudyData\",\"HiLevel(\"&A13&\",Period1:=\"&$B$1&\",AllowGaps:=0,InputChoice1:=High,InputChoice3:=High)\",\"Bar\",, \"Close\",$C$1,\"-1\",,,,,\"T\"),\"\")","v":97.64},{"$f":"IFERROR(RTD(\"cqg.rtd\",,\"StudyData\",\"LoLevel(\"&A13&\",Period2:=\"&$B$1&\",AllowGaps:=0,InputChoice2:=Low,InputChoice4:=Low)\",\"Bar\",, \"Close\",$C$1,\"-1\",,,,,\"T\"),\"\")","v":56.91},0,0,1.2000000000000004E-2,1.2000000000000004E-2,"S.US.ADM",{"$f":"RTD(\"cqg.rtd\", ,\"ContractData\",A13, \"PerCentNetLastTrade\",, \"T\")/100","v":1.7542049324115157E-3},{"$f":"RANK($K13,$K$2:K$506)+COUNTIF($K$2:K13,K13)-1","v":{"$error":"#VALUE!"}},"S.US.ADM",12,"",{"$f":"RTD(\"cqg.rtd\", ,\"ContractData\",O13, \"PerCentNetLastTrade\",, \"T\")/100","v":{"$error":"#VALUE!"}},{"$error":"#N/A"},null,12,"S.US.MPC"]
[{"$f":"Symbols!A14","v":"S.US.ADP"},{"$f":"IFERROR(RTD(\"cqg.rtd\",,\"StudyData\",A14,\"Bar\",, \"High\",$C$1,\"0\",,,,,\"T\"),\"\")","v":229.78},{"$f":"IFERROR(RTD(\"cqg.rtd\",,\"StudyData\",A14,\"Bar\",, \"Low\",$C$1,\"0\",,,,,\"T\"),\"\")","v":228},{"$f":"IFERROR(RTD(\"cqg.rtd\",,\"StudyData\",\"HiLevel(\"&A14&\",Period1:=\"&$B$1&\",AllowGaps:=0,InputChoice1:=High,InputChoice3:=High)\",\"Bar\",, \"Close\",$C$1,\"-1\",,,,,\"T\"),\"\")","v":248.96},{"$f":"IFERROR(RTD(\"cqg.rtd\",,\"StudyData\",\"LoLevel(\"&A14&\",Period2:=\"&$B$1&\",AllowGaps:=0,InputChoice2:=Low,InputChoice4:=Low)\",\"Bar\",, \"Close\",$C$1,\"-1\",,,,,\"T\"),\"\")","v":184.85},0,0,1.3000000000000005E-2,1.3000000000000005E-2,"S.US.ADP",{"$f":"RTD(\"cqg.rtd\", ,\"ContractData\",A14, \"PerCentNetLastTrade\",, \"T\")/100","v":-7.8534031413612568E-4},{"$f":"RANK($K14,$K$2:K$506)+COUNTIF($K$2:K14,K14)-1","v":{"$error":"#VALUE!"}},"S.US.ADP",13,"",{"$f":"RTD(\"cqg.rtd\", ,\"ContractData\",O14, \"PerCentNetLastTrade\",, \"T\")/100","v":{"$error":"#VALUE!"}},{"$error":"#N/A"},null,13,"S.US.MRO"]
[{"$f":"Symbols!A15","v":"S.US.ADSK"},{"$f":"IFERROR(RTD(\"cqg.rtd\",,\"StudyData\",A15,\"Bar\",, \"High\",$C$1,\"0\",,,,,\"T\"),\"\")","v":196.35},{"$f":"IFERROR(RTD(\"cqg.rtd\",,\"StudyData\",A15,\"Bar\",, \"Low\",$C$1,\"0\",,,,,\"T\"),\"\")","v":193.8},{"$f":"IFERROR(RTD(\"cqg.rtd\",,\"StudyData\",\"HiLevel(\"&A15&\",Period1:=\"&$B$1&\",AllowGaps:=0,InputChoice1:=High,InputChoice3:=High)\",\"Bar\",, \"Close\",$C$1,\"-1\",,,,,\"T\"),\"\")","v":344.39},{"$f":"IFERROR(RTD(\"cqg.rtd\",,\"StudyData\",\"LoLevel(\"&A15&\",Period2:=\"&$B$1&\",AllowGaps:=0,InputChoice2:=Low,InputChoice4:=Low)\",\"Bar\",, \"Close\",$C$1,\"-1\",,,,,\"T\"),\"\")","v":186.29},0,0,1.4000000000000005E-2,1.4000000000000005E-2,"S.US.ADSK",{"$f":"RTD(\"cqg.rtd\", ,\"ContractData\",A15, \"PerCentNetLastTrade\",, \"T\")/100","v":-1.4537691251969704E-2},{"$f":"RANK($K15,$K$2:K$506)+COUNTIF($K$2:K15,K15)-1","v":{"$error":"#VALUE!"}},"S.US.ADSK",14,"",{"$f":"RTD(\"cqg.rtd\", ,\"ContractData\",O15, \"PerCentNetLastTrade\",, \"T\")/100","v":{"$error":"#VALUE!"}},{"$error":"#N/A"},null,14,"S.US.NEM"]
[{"$f":"Symbols!A16","v":"S.US.AEE"},{"$f":"IFERROR(RTD(\"cqg.rtd\",,\"StudyData\",A16,\"Bar\",, \"High\",$C$1,\"0\",,,,,\"T\"),\"\")","v":97},{"$f":"IFERROR(RTD(\"cqg.rtd\",,\"StudyData\",A16,\"Bar\",, \"Low\",$C$1,\"0\",,,,,\"T\"),\"\")","v":96.22},{"$f":"IFERROR(RTD(\"cqg.rtd\",,\"StudyData\",\"HiLevel(\"&A16&\",Period1:=\"&$B$1&\",AllowGaps:=0,InputChoice1:=High,InputChoice3:=High)\",\"Bar\",, \"Close\",$C$1,\"-1\",,,,,\"T\"),\"\")","v":97.61},{"$f":"IFERROR(RTD(\"cqg.rtd\",,\"StudyData\",\"LoLevel(\"&A16&\",Period2:=\"&$B$1&\",AllowGaps:=0,InputChoice2:=Low,InputChoice4:=Low)\",\"Bar\",, \"Close\",$C$1,\"-1\",,,,,\"T\"),\"\")","v":79.349999999999994},0,0,1.5000000000000006E-2,1.5000000000000006E-2,"S.US.AEE",{"$f":"RTD(\"cqg.rtd\", ,\"ContractData\",A16, \"PerCentNetLastTrade\",, \"T\")/100","v":6.7532467532467532E-3},{"$f":"RANK($K16,$K$2:K$506)+COUNTIF($K$2:K16,K16)-1","v":{"$error":"#VALUE!"}},"S.US.AEE",15,"",{"$f":"RTD(\"cqg.rtd\", ,\"ContractData\",O16, \"PerCentNetLastTrade\",, \"T\")/100","v":{"$error":"#VALUE!"}},{"$error":"#N/A"},null,15,"S.US.NUE"]
[{"$f":"Symbols!A17","v":"S.US.AEP"},{"$f":"IFERROR(RTD(\"cqg.rtd\",,\"StudyData\",A17,\"Bar\",, \"High\",$C$1,\"0\",,,,,\"T\"),\"\")","v":102.56},{"$f":"IFERROR(RTD(\"cqg.rtd\",,\"StudyData\",A17,\"Bar\",, \"Low\",$C$1,\"0\",,,,,\"T\"),\"\")","v":102.14},{"$f":"IFERROR(RTD(\"cqg.rtd\",,\"StudyData\",\"HiLevel(\"&A17&\",Period1:=\"&$B$1&\",AllowGaps:=0,InputChoice1:=High,InputChoice3:=High)\",\"Bar\",, \"Close\",$C$1,\"-1\",,,,,\"T\"),\"\")","v":104.81},{"$f":"IFERROR(RTD(\"cqg.rtd\",,\"StudyData\",\"LoLevel(\"&A17&\",Period2:=\"&$B$1&\",AllowGaps:=0,InputChoice2:=Low,InputChoice4:=Low)\",\"Bar\",, \"Close\",$C$1,\"-1\",,,,,\"T\"),\"\")","v":80.22},0,0,1.6000000000000007E-2,1.6000000000000007E-2,"S.US.AEP",{"$f":"RTD(\"cqg.rtd\", ,\"ContractData\",A17, \"PerCentNetLastTrade\",, \"T\")/100","v":4.0180321442571543E-3},{"$f":"RANK($K17,$K$2:K$506)+COUNTIF($K$2:K17,K17)-1","v":{"$error":"#VALUE!"}},"S.US.AEP",16,"",{"$f":"RTD(\"cqg.rtd\", ,\"ContractData\",O17, \"PerCentNetLastTrade\",, \"T\")/100","v":{"$error":"#VALUE!"}},{"$error":"#N/A"},null,16,"S.US.OKE"]
[{"$f":"Symbols!A18","v":"S.US.AES"},{"$f":"IFERROR(RTD(\"cqg.rtd\",,\"StudyData\",A18,\"Bar\",, \"High\",$C$1,\"0\",,,,,\"T\"),\"\")","v":24.58},{"$f":"IFERROR(RTD(\"cqg.rtd\",,\"StudyData\",A18,\"Bar\",, \"Low\",$C$1,\"0\",,,,,\"T\"),\"\")","v":24.35},{"$f":"IFERROR(RTD(\"cqg.rtd\",,\"StudyData\",\"HiLevel(\"&A18&\",Period1:=\"&$B$1&\",AllowGaps:=0,InputChoice1:=High,InputChoice3:=High)\",\"Bar\",, \"Close\",$C$1,\"-1\",,,,,\"T\"),\"\")","v":28.86},{"$f":"IFERROR(RTD(\"cqg.rtd\",,\"StudyData\",\"LoLevel(\"&A18&\",Period2:=\"&$B$1&\",AllowGaps:=0,InputChoice2:=Low,InputChoice4:=Low)\",\"Bar\",, \"Close\",$C$1,\"-1\",,,,,\"T\"),\"\")","v":19.760000000000002},0,0,1.7000000000000008E-2,1.7000000000000008E-2,"S.US.AES",{"$f":"RTD(\"cqg.rtd\", ,\"ContractData\",A18, \"PerCentNetLastTrade\",, \"T\")/100","v":-1.2290045063498565E-3},{"$f":"RANK($K18,$K$2:K$506)+COUNTIF($K$2:K18,K18)-1","v":{"$error":"#VALUE!"}},"S.US.AES",17,"",{"$f":"RTD(\"cqg.rtd\", ,\"ContractData\",O18, \"PerCentNetLastTrade\",, \"T\")/100","v":{"$error":"#VALUE!"}},{"$error":"#N/A"},null,17,"S.US.PEG"]
[{"$f":"Symbols!A19","v":"S.US.AFL"},{"$f":"IFERROR(RTD(\"cqg.rtd\",,\"StudyData\",A19,\"Bar\",, \"High\",$C$1,\"0\",,,,,\"T\"),\"\")","v":65.819999999999993},{"$f":"IFERROR(RTD(\"cqg.rtd\",,\"StudyData\",A19,\"Bar\",, \"Low\",$C$1,\"0\",,,,,\"T\"),\"\")","v":65.11},{"$f":"IFERROR(RTD(\"cqg.rtd\",,\"StudyData\",\"HiLevel(\"&A19&\",Period1:=\"&$B$1&\",AllowGaps:=0,InputChoice1:=High,InputChoice3:=High)\",\"Bar\",, \"Close\",$C$1,\"-1\",,,,,\"T\"),\"\")","v":66.97},{"$f":"IFERROR(RTD(\"cqg.rtd\",,\"StudyData\",\"LoLevel(\"&A19&\",Period2:=\"&$B$1&\",AllowGaps:=0,InputChoice2:=Low,InputChoice4:=Low)\",\"Bar\",, \"Close\",$C$1,\"-1\",,,,,\"T\"),\"\")","v":51.28},0,0,1.8000000000000009E-2,1.8000000000000009E-2,"S.US.AFL",{"$f":"RTD(\"cqg.rtd\", ,\"ContractData\",A19, \"PerCentNetLastTrade\",, \"T\")/100","v":6.4288994336445734E-3},{"$f":"RANK($K19,$K$2:K$506)+COUNTIF($K$2:K19,K19)-1","v":{"$error":"#VALUE!"}},"S.US.AFL",18,"",{"$f":"RTD(\"cqg.rtd\", ,\"ContractData\",O19, \"PerCentNetLastTrade\",, \"T\")/100","v":{"$error":"#VALUE!"}},{"$error":"#N/A"},null,18,"S.US.PKG"]
[{"$f":"Symbols!A20","v":"S.US.AIG"},{"$f":"IFERROR(RTD(\"cqg.rtd\",,\"StudyData\",A20,\"Bar\",, \"High\",$C$1,\"0\",,,,,\"T\"),\"\")","v":63.71},{"$f":"IFERROR(RTD(\"cqg.rtd\",,\"StudyData\",A20,\"Bar\",, \"Low\",$C$1,\"0\",,,,,\"T\"),\"\")","v":62.71},{"$f":"IFERROR(RTD(\"cqg.rtd\",,\"StudyData\",\"HiLevel(\"&A20&\",Period1:=\"&$B$1&\",AllowGaps:=0,InputChoice1:=High,InputChoice3:=High)\",\"Bar\",, \"Close\",$C$1,\"-1\",,,,,\"T\"),\"\")","v":64.900000000000006},{"$f":"IFERROR(RTD(\"cqg.rtd\",,\"StudyData\",\"LoLevel(\"&A20&\",Period2:=\"&$B$1&\",AllowGaps:=0,InputChoice2:=Low,InputChoice4:=Low)\",\"Bar\",, \"Close\",$C$1,\"-1\",,,,,\"T\"),\"\")","v":44.54},0,0,1.900000000000001E-2,1.900000000000001E-2,"S.US.AIG",{"$f":"RTD(\"cqg.rtd\", ,\"ContractData\",A20, \"PerCentNetLastTrade\",, \"T\")/100","v":1.0471204188481676E-2},{"$f":"RANK($K20,$K$2:K$506)+COUNTIF($K$2:K20,K20)-1","v":{"$error":"#VALUE!"}},"S.US.AIG",19,"",{"$f":"RTD(\"cqg.rtd\", ,\"ContractData\",O20, \"PerCentNetLastTrade\",, \"T\")/100","v":{"$error":"#VALUE!"}},{"$error":"#N/A"},null,19,"S.US.RTX"]
[{"$f":"Symbols!A21","v":"S.US.AIZ"},{"$f":"IFERROR(RTD(\"cqg.rtd\",,\"StudyData\",A21,\"Bar\",, \"High\",$C$1,\"0\",,,,,\"T\"),\"\")","v":190.87},{"$f":"IFERROR(RTD(\"cqg.rtd\",,\"StudyData\",A21,\"Bar\",, \"Low\",$C$1,\"0\",,,,,\"T\"),\"\")","v":188.74},{"$f":"IFERROR(RTD(\"cqg.rtd\",,\"StudyData\",\"HiLevel(\"&A21&\",Period1:=\"&$B$1&\",AllowGaps:=0,InputChoice1:=High,InputChoice3:=High)\",\"Bar\",, \"Close\",$C$1,\"-1\",,,,,\"T\"),\"\")","v":190.19},{"$f":"IFERROR(RTD(\"cqg.rtd\",,\"StudyData\",\"LoLevel(\"&A21&\",Period2:=\"&$B$1&\",AllowGaps:=0,InputChoice2:=Low,InputChoice4:=Low)\",\"Bar\",, \"Close\",$C$1,\"-1\",,,,,\"T\"),\"\")","v":144.18},1,0,1,2.0000000000000011E-2,"S.US.AIZ",{"$f":"RTD(\"cqg.rtd\", ,\"ContractData\",A21, \"PerCentNetLastTrade\",, \"T\")/100","v":4.4374009508716325E-3},{"$f":"RANK($K21,$K$2:K$506)+COUNTIF($K$2:K21,K21)-1","v":{"$error":"#VALUE!"}},"S.US.AIZ",20,"",{"$f":"RTD(\"cqg.rtd\", ,\"ContractData\",O21, \"PerCentNetLastTrade\",, \"T\")/100","v":{"$error":"#VALUE!"}},{"$error":"#N/A"},null,20,"S.US.SRE"]
[{"$f":"Symbols!A22","v":"S.US.AJG"},{"$f":"IFERROR(RTD(\"cqg.rtd\",,\"StudyData\",A22,\"Bar\",, \"High\",$C$1,\"0\",,,,,\"T\"),\"\")","v":181.52},{"$f":"IFERROR(RTD(\"cqg.rtd\",,\"StudyData\",A22,\"Bar\",, \"Low\",$C$1,\"0\",,,,,\"T\"),\"\")","v":179.95},{"$f":"IFERROR(RTD(\"cqg.rtd\",,\"StudyData\",\"HiLevel(\"&A22&\",Period1:=\"&$B$1&\",AllowGaps:=0,InputChoice1:=High,InputChoice3:=High)\",\"Bar\",, \"Close\",$C$1,\"-1\",,,,,\"T\"),\"\")","v":184.92},{"$f":"IFERROR(RTD(\"cqg.rtd\",,\"StudyData\",\"LoLevel(\"&A22&\",Period2:=\"&$B$1&\",AllowGaps:=0,InputChoice2:=Low,InputChoice4:=Low)\",\"Bar\",, \"Close\",$C$1,\"-1\",,,,,\"T\"),\"\")","v":134.84},0,0,1.0009999999999999,2.1000000000000012E-2,"S.US.AJG",{"$f":"RTD(\"cqg.rtd\", ,\"ContractData\",A22, \"PerCentNetLastTrade\",, \"T\")/100","v":1.9932451137810751E-3},{"$f":"RANK($K22,$K$2:K$506)+COUNTIF($K$2:K22,K22)-1","v":{"$error":"#VALUE!"}},"S.US.AJG",21,"",{"$f":"RTD(\"cqg.rtd\", ,\"ContractData\",O22, \"PerCentNetLastTrade\",, \"T\")/100","v":{"$error":"#VALUE!"}},{"$error":"#N/A"},null,21,"S.US.VLO"]
[{"$f":"Symbols!A23","v":"S.US.AKAM"},{"$f":"IFERROR(RTD(\"cqg.rtd\",,\"StudyData\",A23,\"Bar\",, \"High\",$C$1,\"0\",,,,,\"T\"),\"\")","v":119.62},{"$f":"IFERROR(RTD(\"cqg.rtd\",,\"StudyData\",A23,\"Bar\",, \"Low\",$C$1,\"0\",,,,,\"T\"),\"\")","v":118.69},{"$f":"IFERROR(RTD(\"cqg.rtd\",,\"StudyData\",\"HiLevel(\"&A23&\",Period1:=\"&$B$1&\",AllowGaps:=0,InputChoice1:=High,InputChoice3:=High)\",\"Bar\",, \"Close\",$C$1,\"-1\",,,,,\"T\"),\"\")","v":122.01},{"$f":"IFERROR(RTD(\"cqg.rtd\",,\"StudyData\",\"LoLevel(\"&A23&\",Period2:=\"&$B$1&\",AllowGaps:=0,InputChoice2:=Low,InputChoice4:=Low)\",\"Bar\",, \"Close\",$C$1,\"-1\",,,,,\"T\"),\"\")","v":96.86},0,0,1.0019999999999998,2.2000000000000013E-2,"S.US.AKAM",{"$f":"RTD(\"cqg.rtd\", ,\"ContractData\",A23, \"PerCentNetLastTrade\",, \"T\")/100","v":-2.1010168921758131E-3},{"$f":"RANK($K23,$K$2:K$506)+COUNTIF($K$2:K23,K23)-1","v":{"$error":"#VALUE!"}},"S.US.AKAM",22,"",{"$f":"RTD(\"cqg.rtd\", ,\"ContractData\",O23, \"PerCentNetLastTrade\",, \"T\")/100","v":{"$error":"#VALUE!"}},{"$error":"#N/A"},null,22,"S.US.WMB"]
[{"$f":"Symbols!A24","v":"S.US.ALB"},{"$f":"IFERROR(RTD(\"cqg.rtd\",,\"StudyData\",A24,\"Bar\",, \"High\",$C$1,\"0\",,,,,\"T\"),\"\")","v":213.43},{"$f":"IFERROR(RTD(\"cqg.rtd\",,\"StudyData\",A24,\"Bar\",, \"Low\",$C$1,\"0\",,,,,\"T\"),\"\")","v":210.61},{"$f":"IFERROR(RTD(\"cqg.rtd\",,\"StudyData\",\"HiLevel(\"&A24&\",Period1:=\"&$B$1&\",AllowGaps:=0,InputChoice1:=High,InputChoice3:=High)\",\"Bar\",, \"Close\",$C$1,\"-1\",,,,,\"T\"),\"\")","v":291.48},{"$f":"IFERROR(RTD(\"cqg.rtd\",,\"StudyData\",\"LoLevel(\"&A24&\",Period2:=\"&$B$1&\",AllowGaps:=0,InputChoice2:=Low,InputChoice4:=Low)\",\"Bar\",, \"Close\",$C$1,\"-1\",,,,,\"T\"),\"\")","v":146.52000000000001},0,0,1.0029999999999997,2.3000000000000013E-2,"S.US.ALB",{"$f":"RTD(\"cqg.rtd\", ,\"ContractData\",A24, \"PerCentNetLastTrade\",, \"T\")/100","v":3.271847882782493E-3},{"$f":"RANK($K24,$K$2:K$506)+COUNTIF($K$2:K24,K24)-1","v":{"$error":"#VALUE!"}},"S.US.ALB",23,"",{"$f":"RTD(\"cqg.rtd\", ,\"ContractData\",O24, \"PerCentNetLastTrade\",, \"T\")/100","v":{"$error":"#VALUE!"}},{"$error":"#N/A"},null,23,""]
[{"$f":"Symbols!A25","v":"S.US.ALGN"},{"$f":"IFERROR(RTD(\"cqg.rtd\",,\"StudyData\",A25,\"Bar\",, \"High\",$C$1,\"0\",,,,,\"T\"),\"\")","v":408.99},{"$f":"IFERROR(RTD(\"cqg.rtd\",,\"StudyData\",A25,\"Bar\",, \"Low\",$C$1,\"0\",,,,,\"T\"),\"\")","v":402.5},{"$f":"IFERROR(RTD(\"cqg.rtd\",,\"StudyData\",\"HiLevel(\"&A25&\",Period1:=\"&$B$1&\",AllowGaps:=0,InputChoice1:=High,InputChoice3:=High)\",\"Bar\",, \"Close\",$C$1,\"-1\",,,,,\"T\"),\"\")","v":737.45},{"$f":"IFERROR(RTD(\"cqg.rtd\",,\"StudyData\",\"LoLevel(\"&A25&\",Period2:=\"&$B$1&\",AllowGaps:=0,InputChoice2:=Low,InputChoice4:=Low)\",\"Bar\",, \"Close\",$C$1,\"-1\",,,,,\"T\"),\"\")","v":372.62},0,0,1.0039999999999996,2.4000000000000014E-2,"S.US.ALGN",{"$f":"RTD(\"cqg.rtd\", ,\"ContractData\",A25, \"PerCentNetLastTrade\",, \"T\")/100","v":-1.7861500170806698E-2},{"$f":"RANK($K25,$K$2:K$506)+COUNTIF($K$2:K25,K25)-1","v":{"$error":"#VALUE!"}},"S.US.ALGN",24,"",{"$f":"RTD(\"cqg.rtd\", ,\"ContractData\",O25, \"PerCentNetLastTrade\",, \"T\")/100","v":{"$error":"#VALUE!"}},{"$error":"#N/A"},null,24,""]
[{"$f":"Symbols!A26","v":"S.US.ALK"},{"$f":"IFERROR(RTD(\"cqg.rtd\",,\"StudyData\",A26,\"Bar\",, \"High\",$C$1,\"0\",,,,,\"T\"),\"\")","v":57.2},{"$f":"IFERROR(RTD(\"cqg.rtd\",,\"StudyData\",A26,\"Bar\",, \"Low\",$C$1,\"0\",,,,,\"T\"),\"\")","v":56.27},{"$f":"IFERROR(RTD(\"cqg.rtd\",,\"StudyData\",\"HiLevel(\"&A26&\",Period1:=\"&$B$1&\",AllowGaps:=0,InputChoice1:=High,InputChoice3:=High)\",\"Bar\",, \"Close\",$C$1,\"-1\",,,,,\"T\"),\"\")","v":72.92},{"$f":"IFERROR(RTD(\"cqg.rtd\",,\"StudyData\",\"LoLevel(\"&A26&\",Period2:=\"&$B$1&\",AllowGaps:=0,InputChoice2:=Low,InputChoice4:=Low)\",\"Bar\",, \"Close\",$C$1,\"-1\",,,,,\"T\"),\"\")","v":43.46},0,0,1.0049999999999994,2.5000000000000015E-2,"S.US.ALK",{"$f":"RTD(\"cqg.rtd\", ,\"ContractData\",A26, \"PerCentNetLastTrade\",, \"T\")/100","v":5.2530204867798987E-4},{"$f":"RANK($K26,$K$2:K$506)+COUNTIF($K$2:K26,K26)-1","v":{"$error":"#VALUE!"}},"S.US.ALK",25,"",{"$f":"RTD(\"cqg.rtd\", ,\"ContractData\",O26, \"PerCentNetLastTrade\",, \"T\")/100","v":{"$error":"#VALUE!"}},{"$error":"#N/A"},null,25,""]
[{"$f":"Symbols!A27","v":"S.US.ALL"},{"$f":"IFERROR(RTD(\"cqg.rtd\",,\"StudyData\",A27,\"Bar\",, \"High\",$C$1,\"0\",,,,,\"T\"),\"\")","v":141.04},{"$f":"IFERROR(RTD(\"cqg.rtd\",,\"StudyData\",A27,\"Bar\",, \"Low\",$C$1,\"0\",,,,,\"T\"),\"\")","v":139.88999999999999},{"$f":"IFERROR(RTD(\"cqg.rtd\",,\"StudyData\",\"HiLevel(\"&A27&\",Period1:=\"&$B$1&\",AllowGaps:=0,InputChoice1:=High,InputChoice3:=High)\",\"Bar\",, \"Close\",$C$1,\"-1\",,,,,\"T\"),\"\")","v":144.41},{"$f":"IFERROR(RTD(\"cqg.rtd\",,\"StudyData\",\"LoLevel(\"&A27&\",Period2:=\"&$B$1&\",AllowGaps:=0,InputChoice2:=Low,InputChoice4:=Low)\",\"Bar\",, \"Close\",$C$1,\"-1\",,,,,\"T\"),\"\")","v":106.11},0,0,1.0059999999999993,2.6000000000000016E-2,"S.US.ALL",{"$f":"RTD(\"cqg.rtd\", ,\"ContractData\",A27, \"PerCentNetLastTrade\",, \"T\")/100","v":-2.6919807310852935E-3},{"$f":"RANK($K27,$K$2:K$506)+COUNTIF($K$2:K27,K27)-1","v":{"$error":"#VALUE!"}},"S.US.ALL",26,"",{"$f":"RTD(\"cqg.rtd\", ,\"ContractData\",O27, \"PerCentNetLastTrade\",, \"T\")/100","v":{"$error":"#VALUE!"}},{"$error":"#N/A"},null,26,""]
[{"$f":"Symbols!A28","v":"S.US.ALLE"},{"$f":"IFERROR(RTD(\"cqg.rtd\",,\"StudyData\",A28,\"Bar\",, \"High\",$C$1,\"0\",,,,,\"T\"),\"\")","v":108.16},{"$f":"IFERROR(RTD(\"cqg.rtd\",,\"StudyData\",A28,\"Bar\",, \"Low\",$C$1,\"0\",,,,,\"T\"),\"\")","v":106.89},{"$f":"IFERROR(RTD(\"cqg.rtd\",,\"StudyData\",\"HiLevel(\"&A28&\",Period1:=\"&$B$1&\",AllowGaps:=0,InputChoice1:=High,InputChoice3:=High)\",\"Bar\",, \"Close\",$C$1,\"-1\",,,,,\"T\"),\"\")","v":148.69},{"$f":"IFERROR(RTD(\"cqg.rtd\",,\"StudyData\",\"LoLevel(\"&A28&\",Period2:=\"&$B$1&\",AllowGaps:=0,InputChoice2:=Low,InputChoice4:=Low)\",\"Bar\",, \"Close\",$C$1,\"-1\",,,,,\"T\"),\"\")","v":105.06},0,0,1.0069999999999992,2.7000000000000017E-2,"S.US.ALLE",{"$f":"RTD(\"cqg.rtd\", ,\"ContractData\",A28, \"PerCentNetLastTrade\",, \"T\")/100","v":6.5158707995904312E-3},{"$f":"RANK($K28,$K$2:K$506)+COUNTIF($K$2:K28,K28)-1","v":{"$error":"#VALUE!"}},"S.US.ALLE",27,"",{"$f":"RTD(\"cqg.rtd\", ,\"ContractData\",O28, \"PerCentNetLastTrade\",, \"T\")/100","v":{"$error":"#VALUE!"}},{"$error":"#N/A"},null,27,""]
[{"$f":"Symbols!A29","v":"S.US.AMAT"},{"$f":"IFERROR(RTD(\"cqg.rtd\",,\"StudyData\",A29,\"Bar\",, \"High\",$C$1,\"0\",,,,,\"T\"),\"\")","v":114.8},{"$f":"IFERROR(RTD(\"cqg.rtd\",,\"StudyData\",A29,\"Bar\",, \"Low\",$C$1,\"0\",,,,,\"T\"),\"\")","v":112.34},{"$f":"IFERROR(RTD(\"cqg.rtd\",,\"StudyData\",\"HiLevel(\"&A29&\",Period1:=\"&$B$1&\",AllowGaps:=0,InputChoice1:=High,InputChoice3:=High)\",\"Bar\",, \"Close\",$C$1,\"-1\",,,,,\"T\"),\"\")","v":167.06},{"$f":"IFERROR(RTD(\"cqg.rtd\",,\"StudyData\",\"LoLevel(\"&A29&\",Period2:=\"&$B$1&\",AllowGaps:=0,InputChoice2:=Low,InputChoice4:=Low)\",\"Bar\",, \"Close\",$C$1,\"-1\",,,,,\"T\"),\"\")","v":113.25},0,1,1.0079999999999991,1,"S.US.AMAT",{"$f":"RTD(\"cqg.rtd\", ,\"ContractData\",A29, \"PerCentNetLastTrade\",, \"T\")/100","v":3.6167960479887083E-3},{"$f":"RANK($K29,$K$2:K$506)+COUNTIF($K$2:K29,K29)-1","v":{"$error":"#VALUE!"}},"S.US.AMAT",28,"",{"$f":"RTD(\"cqg.rtd\", ,\"ContractData\",O29, \"PerCentNetLastTrade\",, \"T\")/100","v":{"$error":"#VALUE!"}},{"$error":"#N/A"},null,28,""]
[{"$f":"Symbols!A30","v":"S.US.AMCR"},{"$f":"IFERROR(RTD(\"cqg.rtd\",,\"StudyData\",A30,\"Bar\",, \"High\",$C$1,\"0\",,,,,\"T\"),\"\")","v":11.71},{"$f":"IFERROR(RTD(\"cqg.rtd\",,\"StudyData\",A30,\"Bar\",, \"Low\",$C$1,\"0\",,,,,\"T\"),\"\")","v":11.62},{"$f":"IFERROR(RTD(\"cqg.rtd\",,\"StudyData\",\"HiLevel(\"&A30&\",Period1:=\"&$B$1&\",AllowGaps:=0,InputChoice1:=High,InputChoice3:=High)\",\"Bar\",, \"Close\",$C$1,\"-1\",,,,,\"T\"),\"\")","v":12.92},{"$f":"IFERROR(RTD(\"cqg.rtd\",,\"StudyData\",\"LoLevel(\"&A30&\",Period2:=\"&$B$1&\",AllowGaps:=0,InputChoice2:=Low,InputChoice4:=Low)\",\"Bar\",, \"Close\",$C$1,\"-1\",,,,,\"T\"),\"\")","v":10.66},0,0,1.008999999999999,1.0009999999999999,"S.US.AMCR",{"$f":"RTD(\"cqg.rtd\", ,\"ContractData\",A30, \"PerCentNetLastTrade\",, \"T\")/100","v":1.7137960582690659E-3},{"$f":"RANK($K30,$K$2:K$506)+COUNTIF($K$2:K30,K30)-1","v":{"$error":"#VALUE!"}},"S.US.AMCR",29,"",{"$f":"RTD(\"cqg.rtd\", ,\"ContractData\",O30, \"PerCentNetLastTrade\",, \"T\")/100","v":{"$error":"#VALUE!"}},{"$error":"#N/A"},null,29,""]
[{"$f":"Symbols!A31","v":"S.US.AMD"},{"$f":"IFERROR(RTD(\"cqg.rtd\",,\"StudyData\",A31,\"Bar\",, \"High\",$C$1,\"0\",,,,,\"T\"),\"\")","v":94.07},{"$f":"IFERROR(RTD(\"cqg.rtd\",,\"StudyData\",A31,\"Bar\",, \"Low\",$C$1,\"0\",,,,,\"T\"),\"\")","v":92},{"$f":"IFERROR(RTD(\"cqg.rtd\",,\"StudyData\",\"HiLevel(\"&A31&\",Period1:=\"&$B$1&\",AllowGaps:=0,InputChoice1:=High,InputChoice3:=High)\",\"Bar\",, \"Close\",$C$1,\"-1\",,,,,\"T\"),\"\")","v":164.45},{"$f":"IFERROR(RTD(\"cqg.rtd\",,\"StudyData\",\"LoLevel(\"&A31&\",Period2:=\"&$B$1&\",AllowGaps:=0,InputChoice2:=Low,InputChoice4:=Low)\",\"Bar\",, \"Close\",$C$1,\"-1\",,,,,\"T\"),\"\")","v":72.5},0,0,1.0099999999999989,1.0019999999999998,"S.US.AMD",{"$f":"RTD(\"cqg.rtd\", ,\"ContractData\",A31, \"PerCentNetLastTrade\",, \"T\")/100","v":-7.3071136900924143E-3},{"$f":"RANK($K31,$K$2:K$506)+COUNTIF($K$2:K31,K31)-1","v":{"$error":"#VALUE!"}},"S.US.AMD",30,"",{"$f":"RTD(\"cqg.rtd\", ,\"ContractData\",O31, \"PerCentNetLastTrade\",, \"T\")/100","v":{"$error":"#VALUE!"}},{"$error":"#N/A"},null,30,""]
[{"$f":"Symbols!A32","v":"S.US.AME"},{"$f":"IFERROR(RTD(\"cqg.rtd\",,\"StudyData\",A32,\"Bar\",, \"High\",$C$1,\"0\",,,,,\"T\"),\"\")","v":128.33000000000001},{"$f":"IFERROR(RTD(\"cqg.rtd\",,\"StudyData\",A32,\"Bar\",, \"Low\",$C$1,\"0\",,,,,\"T\"),\"\")","v":127.06},{"$f":"IFERROR(RTD(\"cqg.rtd\",,\"StudyData\",\"HiLevel(\"&A32&\",Period1:=\"&$B$1&\",AllowGaps:=0,InputChoice1:=High,InputChoice3:=High)\",\"Bar\",, \"Close\",$C$1,\"-1\",,,,,\"T\"),\"\")","v":148.07},{"$f":"IFERROR(RTD(\"cqg.rtd\",,\"StudyData\",\"LoLevel(\"&A32&\",Period2:=\"&$B$1&\",AllowGaps:=0,InputChoice2:=Low,InputChoice4:=Low)\",\"Bar\",, \"Close\",$C$1,\"-1\",,,,,\"T\"),\"\")","v":121.8},0,0,1.0109999999999988,1.0029999999999997,"S.US.AME",{"$f":"RTD(\"cqg.rtd\", ,\"ContractData\",A32, \"PerCentNetLastTrade\",, \"T\")/100","v":7.7134986225895321E-3},{"$f":"RANK($K32,$K$2:K$506)+COUNTIF($K$2:K32,K32)-1","v":{"$error":"#VALUE!"}},"S.US.AME",31,"",{"$f":"RTD(\"cqg.rtd\", ,\"ContractData\",O32, \"PerCentNetLastTrade\",, \"T\")/100","v":{"$error":"#VALUE!"}},{"$error":"#N/A"},null,31,""]
[{"$f":"Symbols!A33","v":"S.US.AMGN"},{"$f":"IFERROR(RTD(\"cqg.rtd\",,\"StudyData\",A33,\"Bar\",, \"High\",$C$1,\"0\",,,,,\"T\"),\"\")","v":255.39},{"$f":"IFERROR(RTD(\"cqg.rtd\",,\"StudyData\",A33,\"Bar\",, \"Low\",$C$1,\"0\",,,,,\"T\"),\"\")","v":252.49},{"$f":"IFERROR(RTD(\"cqg.rtd\",,\"StudyData\",\"HiLevel(\"&A33&\",Period1:=\"&$B$1&\",AllowGaps:=0,InputChoice1:=High,InputChoice3:=High)\",\"Bar\",, \"Close\",$C$1,\"-1\",,,,,\"T\"),\"\")","v":261},{"$f":"IFERROR(RTD(\"cqg.rtd\",,\"StudyData\",\"LoLevel(\"&A33&\",Period2:=\"&$B$1&\",AllowGaps:=0,InputChoice2:=Low,InputChoice4:=Low)\",\"Bar\",, \"Close\",$C$1,\"-1\",,,,,\"T\"),\"\")","v":198.64},0,0,1.0119999999999987,1.0039999999999996,"S.US.AMGN",{"$f":"RTD(\"cqg.rtd\", ,\"ContractData\",A33, \"PerCentNetLastTrade\",, \"T\")/100","v":2.7950555074403587E-3},{"$f":"RANK($K33,$K$2:K$506)+COUNTIF($K$2:K33,K33)-1","v":{"$error":"#VALUE!"}},"S.US.AMGN",32,"",{"$f":"RTD(\"cqg.rtd\", ,\"ContractData\",O33, \"PerCentNetLastTrade\",, \"T\")/100","v":{"$error":"#VALUE!"}},{"$error":"#N/A"},null,32,""]
[{"$f":"Symbols!A34","v":"S.US.AMP"},{"$f":"IFERROR(RTD(\"cqg.rtd\",,\"StudyData\",A34,\"Bar\",, \"High\",$C$1,\"0\",,,,,\"T\"),\"\")","v":291.33999999999997},{"$f":"IFERROR(RTD(\"cqg.rtd\",,\"StudyData\",A34,\"Bar\",, \"Low\",$C$1,\"0\",,,,,\"T\"),\"\")","v":288.7},{"$f":"IFERROR(RTD(\"cqg.rtd\",,\"StudyData\",\"HiLevel(\"&A34&\",Period1:=\"&$B$1&\",AllowGaps:=0,InputChoice1:=High,InputChoice3:=High)\",\"Bar\",, \"Close\",$C$1,\"-1\",,,,,\"T\"),\"\")","v":332.37},{"$f":"IFERROR(RTD(\"cqg.rtd\",,\"StudyData\",\"LoLevel(\"&A34&\",Period2:=\"&$B$1&\",AllowGaps:=0,InputChoice2:=Low,InputChoice4:=Low)\",\"Bar\",, \"Close\",$C$1,\"-1\",,,,,\"T\"),\"\")","v":236.35},0,0,1.0129999999999986,1.0049999999999994,"S.US.AMP",{"$f":"RTD(\"cqg.rtd\", ,\"ContractData\",A34, \"PerCentNetLastTrade\",, \"T\")/100","v":1.7198087572661918E-3},{"$f":"RANK($K34,$K$2:K$506)+COUNTIF($K$2:K34,K34)-1","v":{"$error":"#VALUE!"}},"S.US.AMP",33,"",{"$f":"RTD(\"cqg.rtd\", ,\"ContractData\",O34, \"PerCentNetLastTrade\",, \"T\")/100","v":{"$error":"#VALUE!"}},{"$error":"#N/A"},null,33,""]
[{"$f":"Symbols!A35","v":"S.US.AMT"},{"$f":"IFERROR(RTD(\"cqg.rtd\",,\"StudyData\",A35,\"Bar\",, \"High\",$C$1,\"0\",,,,,\"T\"),\"\")","v":256.82},{"$f":"IFERROR(RTD(\"cqg.rtd\",,\"StudyData\",A35,\"Bar\",, \"Low\",$C$1,\"0\",,,,,\"T\"),\"\")","v":253.6},{"$f":"IFERROR(RTD(\"cqg.rtd\",,\"StudyData\",\"HiLevel(\"&A35&\",Period1:=\"&$B$1&\",AllowGaps:=0,InputChoice1:=High,InputChoice3:=High)\",\"Bar\",, \"Close\",$C$1,\"-1\",,,,,\"T\"),\"\")","v":303.72000000000003},{"$f":"IFERROR(RTD(\"cqg.rtd\",,\"StudyData\",\"LoLevel(\"&A35&\",Period2:=\"&$B$1&\",AllowGaps:=0,InputChoice2:=Low,InputChoice4:=Low)\",\"Bar\",, \"Close\",$C$1,\"-1\",,,,,\"T\"),\"\")","v":220},0,0,1.0139999999999985,1.0059999999999993,"S.US.AMT",{"$f":"RTD(\"cqg.rtd\", ,\"ContractData\",A35, \"PerCentNetLastTrade\",, \"T\")/100","v":1.9175080222274398E-3},{"$f":"RANK($K35,$K$2:K$506)+COUNTIF($K$2:K35,K35)-1","v":{"$error":"#VALUE!"}},"S.US.AMT",34,"",{"$f":"RTD(\"cqg.rtd\", ,\"ContractData\",O35, \"PerCentNetLastTrade\",, \"T\")/100","v":{"$error":"#VALUE!"}},{"$error":"#N/A"},null,34,""]
[{"$f":"Symbols!A36","v":"S.US.AMZN"},{"$f":"IFERROR(RTD(\"cqg.rtd\",,\"StudyData\",A36,\"Bar\",, \"High\",$C$1,\"0\",,,,,\"T\"),\"\")","v":3069},{"$f":"IFERROR(RTD(\"cqg.rtd\",,\"StudyData\",A36,\"Bar\",, \"Low\",$C$1,\"0\",,,,,\"T\"),\"\")","v":3030.47},{"$f":"IFERROR(RTD(\"cqg.rtd\",,\"StudyData\",\"HiLevel(\"&A36&\",Period1:=\"&$B$1&\",AllowGaps:=0,InputChoice1:=High,InputChoice3:=High)\",\"Bar\",, \"Close\",$C$1,\"-1\",,,,,\"T\"),\"\")","v":3773.07},{"$f":"IFERROR(RTD(\"cqg.rtd\",,\"StudyData\",\"LoLevel(\"&A36&\",Period2:=\"&$B$1&\",AllowGaps:=0,InputChoice2:=Low,InputChoice4:=Low)\",\"Bar\",, \"Close\",$C$1,\"-1\",,,,,\"T\"),\"\")","v":2671.45},0,0,1.0149999999999983,1.0069999999999992,"S.US.AMZN",{"$f":"RTD(\"cqg.rtd\", ,\"ContractData\",A36, \"PerCentNetLastTrade\",, \"T\")/100","v":-7.3167596642200556E-4},{"$f":"RANK($K36,$K$2:K$506)+COUNTIF($K$2:K36,K36)-1","v":{"$error":"#VALUE!"}},"S.US.AMZN",35,"",{"$f":"RTD(\"cqg.rtd\", ,\"ContractData\",O36, \"PerCentNetLastTrade\",, \"T\")/100","v":{"$error":"#VALUE!"}},{"$error":"#N/A"},null,35,""]
[{"$f":"Symbols!A37","v":"S.US.ANET"},{"$f":"IFERROR(RTD(\"cqg.rtd\",,\"StudyData\",A37,\"Bar\",, \"High\",$C$1,\"0\",,,,,\"T\"),\"\")","v":126.61},{"$f":"IFERROR(RTD(\"cqg.rtd\",,\"StudyData\",A37,\"Bar\",, \"Low\",$C$1,\"0\",,,,,\"T\"),\"\")","v":125.32},{"$f":"IFERROR(RTD(\"cqg.rtd\",,\"StudyData\",\"HiLevel(\"&A37&\",Period1:=\"&$B$1&\",AllowGaps:=0,InputChoice1:=High,InputChoice3:=High)\",\"Bar\",, \"Close\",$C$1,\"-1\",,,,,\"T\"),\"\")","v":148.57},{"$f":"IFERROR(RTD(\"cqg.rtd\",,\"StudyData\",\"LoLevel(\"&A37&\",Period2:=\"&$B$1&\",AllowGaps:=0,InputChoice2:=Low,InputChoice4:=Low)\",\"Bar\",, \"Close\",$C$1,\"-1\",,,,,\"T\"),\"\")","v":75.650000000000006},0,0,1.0159999999999982,1.0079999999999991,"S.US.ANET",{"$f":"RTD(\"cqg.rtd\", ,\"ContractData\",A37, \"PerCentNetLastTrade\",, \"T\")/100","v":-9.0061621109179969E-3},{"$f":"RANK($K37,$K$2:K$506)+COUNTIF($K$2:K37,K37)-1","v":{"$error":"#VALUE!"}},"S.US.ANET",36,"",{"$f":"RTD(\"cqg.rtd\", ,\"ContractData\",O37, \"PerCentNetLastTrade\",, \"T\")/100","v":{"$error":"#VALUE!"}},{"$error":"#N/A"},null,36,""]
[{"$f":"Symbols!A38","v":"S.US.ANSS"},{"$f":"IFERROR(RTD(\"cqg.rtd\",,\"StudyData\",A38,\"Bar\",, \"High\",$C$1,\"0\",,,,,\"T\"),\"\")","v":281.74},{"$f":"IFERROR(RTD(\"cqg.rtd\",,\"StudyData\",A38,\"Bar\",, \"Low\",$C$1,\"0\",,,,,\"T\"),\"\")","v":278.85000000000002},{"$f":"IFERROR(RTD(\"cqg.rtd\",,\"StudyData\",\"HiLevel(\"&A38&\",Period1:=\"&$B$1&\",AllowGaps:=0,InputChoice1:=High,InputChoice3:=High)\",\"Bar\",, \"Close\",$C$1,\"-1\",,,,,\"T\"),\"\")","v":413.89},{"$f":"IFERROR(RTD(\"cqg.rtd\",,\"StudyData\",\"LoLevel(\"&A38&\",Period2:=\"&$B$1&\",AllowGaps:=0,InputChoice2:=Low,InputChoice4:=Low)\",\"Bar\",, \"Close\",$C$1,\"-1\",,,,,\"T\"),\"\")","v":278.22000000000003},0,0,1.0169999999999981,1.008999999999999,"S.US.ANSS",{"$f":"RTD(\"cqg.rtd\", ,\"ContractData\",A38, \"PerCentNetLastTrade\",, \"T\")/100","v":-1.1830127864555662E-2},{"$f":"RANK($K38,$K$2:K$506)+COUNTIF($K$2:K38,K38)-1","v":{"$error":"#VALUE!"}},"S.US.ANSS",37,"",{"$f":"RTD(\"cqg.rtd\", ,\"ContractData\",O38, \"PerCentNetLastTrade\",, \"T\")/100","v":{"$error":"#VALUE!"}},{"$error":"#N/A"},null,37,""]
[{"$f":"Symbols!A39","v":"S.US.ANTM"},{"$f":"IFERROR(RTD(\"cqg.rtd\",,\"StudyData\",A39,\"Bar\",, \"High\",$C$1,\"0\",,,,,\"T\"),\"\")","v":519.34},{"$f":"IFERROR(RTD(\"cqg.rtd\",,\"StudyData\",A39,\"Bar\",, \"Low\",$C$1,\"0\",,,,,\"T\"),\"\")","v":513.78},{"$f":"IFERROR(RTD(\"cqg.rtd\",,\"StudyData\",\"HiLevel(\"&A39&\",Period1:=\"&$B$1&\",AllowGaps:=0,InputChoice1:=High,InputChoice3:=High)\",\"Bar\",, \"Close\",$C$1,\"-1\",,,,,\"T\"),\"\")","v":526.62},{"$f":"IFERROR(RTD(\"cqg.rtd\",,\"StudyData\",\"LoLevel(\"&A39&\",Period2:=\"&$B$1&\",AllowGaps:=0,InputChoice2:=Low,InputChoice4:=Low)\",\"Bar\",, \"Close\",$C$1,\"-1\",,,,,\"T\"),\"\")","v":355.43},0,0,1.017999999999998,1.0099999999999989,"S.US.ANTM",{"$f":"RTD(\"cqg.rtd\", ,\"ContractData\",A39, \"PerCentNetLastTrade\",, \"T\")/100","v":1.993342622697012E-3},{"$f":"RANK($K39,$K$2:K$506)+COUNTIF($K$2:K39,K39)-1","v":{"$error":"#VALUE!"}},"S.US.ANTM",38,"",{"$f":"RTD(\"cqg.rtd\", ,\"ContractData\",O39, \"PerCentNetLastTrade\",, \"T\")/100","v":{"$error":"#VALUE!"}},{"$error":"#N/A"},null,38,""]
[{"$f":"Symbols!A40","v":"S.US.AON"},{"$f":"IFERROR(RTD(\"cqg.rtd\",,\"StudyData\",A40,\"Bar\",, \"High\",$C$1,\"0\",,,,,\"T\"),\"\")","v":331.8},{"$f":"IFERROR(RTD(\"cqg.rtd\",,\"StudyData\",A40,\"Bar\",, \"Low\",$C$1,\"0\",,,,,\"T\"),\"\")","v":326.93},{"$f":"IFERROR(RTD(\"cqg.rtd\",,\"StudyData\",\"HiLevel(\"&A40&\",Period1:=\"&$B$1&\",AllowGaps:=0,InputChoice1:=High,InputChoice3:=High)\",\"Bar\",, \"Close\",$C$1,\"-1\",,,,,\"T\"),\"\")","v":336.41},{"$f":"IFERROR(RTD(\"cqg.rtd\",,\"StudyData\",\"LoLevel(\"&A40&\",Period2:=\"&$B$1&\",AllowGaps:=0,InputChoice2:=Low,InputChoice4:=Low)\",\"Bar\",, \"Close\",$C$1,\"-1\",,,,,\"T\"),\"\")","v":223.19},0,0,1.0189999999999979,1.0109999999999988,"S.US.AON",{"$f":"RTD(\"cqg.rtd\", ,\"ContractData\",A40, \"PerCentNetLastTrade\",, \"T\")/100","v":8.4079692926338871E-3},{"$f":"RANK($K40,$K$2:K$506)+COUNTIF($K$2:K40,K40)-1","v":{"$error":"#VALUE!"}},"S.US.AON",39,"",{"$f":"RTD(\"cqg.rtd\", ,\"ContractData\",O40, \"PerCentNetLastTrade\",, \"T\")/100","v":{"$error":"#VALUE!"}},{"$error":"#N/A"},null,39,""]
[{"$f":"Symbols!A41","v":"S.US.AOS"},{"$f":"IFERROR(RTD(\"cqg.rtd\",,\"StudyData\",A41,\"Bar\",, \"High\",$C$1,\"0\",,,,,\"T\"),\"\")","v":64.489999999999995},{"$f":"IFERROR(RTD(\"cqg.rtd\",,\"StudyData\",A41,\"Bar\",, \"Low\",$C$1,\"0\",,,,,\"T\"),\"\")","v":63.53},{"$f":"IFERROR(RTD(\"cqg.rtd\",,\"StudyData\",\"HiLevel(\"&A41&\",Period1:=\"&$B$1&\",AllowGaps:=0,InputChoice1:=High,InputChoice3:=High)\",\"Bar\",, \"Close\",$C$1,\"-1\",,,,,\"T\"),\"\")","v":86.73},{"$f":"IFERROR(RTD(\"cqg.rtd\",,\"StudyData\",\"LoLevel(\"&A41&\",Period2:=\"&$B$1&\",AllowGaps:=0,InputChoice2:=Low,InputChoice4:=Low)\",\"Bar\",, \"Close\",$C$1,\"-1\",,,,,\"T\"),\"\")","v":60.39},0,0,1.0199999999999978,1.0119999999999987,"S.US.AOS",{"$f":"RTD(\"cqg.rtd\", ,\"ContractData\",A41, \"PerCentNetLastTrade\",, \"T\")/100","v":8.308512306004075E-3},{"$f":"RANK($K41,$K$2:K$506)+COUNTIF($K$2:K41,K41)-1","v":{"$error":"#VALUE!"}},"S.US.AOS",40,"",{"$f":"RTD(\"cqg.rtd\", ,\"ContractData\",O41, \"PerCentNetLastTrade\",, \"T\")/100","v":{"$error":"#VALUE!"}},{"$error":"#N/A"},null,40,""]
[{"$f":"Symbols!A42","v":"S.US.APA"},{"$f":"IFERROR(RTD(\"cqg.rtd\",,\"StudyData\",A42,\"Bar\",, \"High\",$C$1,\"0\",,,,,\"T\"),\"\")","v":44.99},{"$f":"IFERROR(RTD(\"cqg.rtd\",,\"StudyData\",A42,\"Bar\",, \"Low\",$C$1,\"0\",,,,,\"T\"),\"\")","v":43.78},{"$f":"IFERROR(RTD(\"cqg.rtd\",,\"StudyData\",\"HiLevel(\"&A42&\",Period1:=\"&$B$1&\",AllowGaps:=0,InputChoice1:=High,InputChoice3:=High)\",\"Bar\",, \"Close\",$C$1,\"-1\",,,,,\"T\"),\"\")","v":44.28},{"$f":"IFERROR(RTD(\"cqg.rtd\",,\"StudyData\",\"LoLevel(\"&A42&\",Period2:=\"&$B$1&\",AllowGaps:=0,InputChoice2:=Low,InputChoice4:=Low)\",\"Bar\",, \"Close\",$C$1,\"-1\",,,,,\"T\"),\"\")","v":15.54},1,0,2,1.0129999999999986,"S.US.APA",{"$f":"RTD(\"cqg.rtd\", ,\"ContractData\",A42, \"PerCentNetLastTrade\",, \"T\")/100","v":2.4496336996337E-2},{"$f":"RANK($K42,$K$2:K$506)+COUNTIF($K$2:K42,K42)-1","v":{"$error":"#VALUE!"}},"S.US.APA",41,"",{"$f":"RTD(\"cqg.rtd\", ,\"ContractData\",O42, \"PerCentNetLastTrade\",, \"T\")/100","v":{"$error":"#VALUE!"}},{"$error":"#N/A"},null,41,""]
[{"$f":"Symbols!A43","v":"S.US.APD"},{"$f":"IFERROR(RTD(\"cqg.rtd\",,\"StudyData\",A43,\"Bar\",, \"High\",$C$1,\"0\",,,,,\"T\"),\"\")","v":246.84},{"$f":"IFERROR(RTD(\"cqg.rtd\",,\"StudyData\",A43,\"Bar\",, \"Low\",$C$1,\"0\",,,,,\"T\"),\"\")","v":245.19},{"$f":"IFERROR(RTD(\"cqg.rtd\",,\"StudyData\",\"HiLevel(\"&A43&\",Period1:=\"&$B$1&\",AllowGaps:=0,InputChoice1:=High,InputChoice3:=High)\",\"Bar\",, \"Close\",$C$1,\"-1\",,,,,\"T\"),\"\")","v":316.39},{"$f":"IFERROR(RTD(\"cqg.rtd\",,\"StudyData\",\"LoLevel(\"&A43&\",Period2:=\"&$B$1&\",AllowGaps:=0,InputChoice2:=Low,InputChoice4:=Low)\",\"Bar\",, \"Close\",$C$1,\"-1\",,,,,\"T\"),\"\")","v":216.24},0,0,2.0009999999999999,1.0139999999999985,"S.US.APD",{"$f":"RTD(\"cqg.rtd\", ,\"ContractData\",A43, \"PerCentNetLastTrade\",, \"T\")/100","v":-3.1599416626154593E-3},{"$f":"RANK($K43,$K$2:K$506)+COUNTIF($K$2:K43,K43)-1","v":{"$error":"#VALUE!"}},"S.US.APD",42,"",{"$f":"RTD(\"cqg.rtd\", ,\"ContractData\",O43, \"PerCentNetLastTrade\",, \"T\")/100","v":{"$error":"#VALUE!"}},{"$error":"#N/A"},null,42,""]
[{"$f":"Symbols!A44","v":"S.US.APH"},{"$f":"IFERROR(RTD(\"cqg.rtd\",,\"StudyData\",A44,\"Bar\",, \"High\",$C$1,\"0\",,,,,\"T\"),\"\")","v":71.03},{"$f":"IFERROR(RTD(\"cqg.rtd\",,\"StudyData\",A44,\"Bar\",, \"Low\",$C$1,\"0\",,,,,\"T\"),\"\")","v":70.040000000000006},{"$f":"IFERROR(RTD(\"cqg.rtd\",,\"StudyData\",\"HiLevel(\"&A44&\",Period1:=\"&$B$1&\",AllowGaps:=0,InputChoice1:=High,InputChoice3:=High)\",\"Bar\",, \"Close\",$C$1,\"-1\",,,,,\"T\"),\"\")","v":88.44},{"$f":"IFERROR(RTD(\"cqg.rtd\",,\"StudyData\",\"LoLevel(\"&A44&\",Period2:=\"&$B$1&\",AllowGaps:=0,InputChoice2:=Low,InputChoice4:=Low)\",\"Bar\",, \"Close\",$C$1,\"-1\",,,,,\"T\"),\"\")","v":64.13},0,0,2.0019999999999998,1.0149999999999983,"S.US.APH",{"$f":"RTD(\"cqg.rtd\", ,\"ContractData\",A44, \"PerCentNetLastTrade\",, \"T\")/100","v":6.3938618925831201E-3},{"$f":"RANK($K44,$K$2:K$506)+COUNTIF($K$2:K44,K44)-1","v":{"$error":"#VALUE!"}},"S.US.APH",43,"",{"$f":"RTD(\"cqg.rtd\", ,\"ContractData\",O44, \"PerCentNetLastTrade\",, \"T\")/100","v":{"$error":"#VALUE!"}},{"$error":"#N/A"},null,43,""]
[{"$f":"Symbols!A45","v":"S.US.APTV"},{"$f":"IFERROR(RTD(\"cqg.rtd\",,\"StudyData\",A45,\"Bar\",, \"High\",$C$1,\"0\",,,,,\"T\"),\"\")","v":106.75},{"$f":"IFERROR(RTD(\"cqg.rtd\",,\"StudyData\",A45,\"Bar\",, \"Low\",$C$1,\"0\",,,,,\"T\"),\"\")","v":103.21},{"$f":"IFERROR(RTD(\"cqg.rtd\",,\"StudyData\",\"HiLevel(\"&A45&\",Period1:=\"&$B$1&\",AllowGaps:=0,InputChoice1:=High,InputChoice3:=High)\",\"Bar\",, \"Close\",$C$1,\"-1\",,,,,\"T\"),\"\")","v":180.81},{"$f":"IFERROR(RTD(\"cqg.rtd\",,\"StudyData\",\"LoLevel(\"&A45&\",Period2:=\"&$B$1&\",AllowGaps:=0,InputChoice2:=Low,InputChoice4:=Low)\",\"Bar\",, \"Close\",$C$1,\"-1\",,,,,\"T\"),\"\")","v":94.75},0,0,2.0029999999999997,1.0159999999999982,"S.US.APTV",{"$f":"RTD(\"cqg.rtd\", ,\"ContractData\",A45, \"PerCentNetLastTrade\",, \"T\")/100","v":-2.3997767649520975E-2},{"$f":"RANK($K45,$K$2:K$506)+COUNTIF($K$2:K45,K45)-1","v":{"$error":"#VALUE!"}},"S.US.APTV",44,"",{"$f":"RTD(\"cqg.rtd\", ,\"ContractData\",O45, \"PerCentNetLastTrade\",, \"T\")/100","v":{"$error":"#VALUE!"}},{"$error":"#N/A"},null,44,""]
[{"$f":"Symbols!A46","v":"S.US.ARE"},{"$f":"IFERROR(RTD(\"cqg.rtd\",,\"StudyData\",A46,\"Bar\",, \"High\",$C$1,\"0\",,,,,\"T\"),\"\")","v":196.99},{"$f":"IFERROR(RTD(\"cqg.rtd\",,\"StudyData\",A46,\"Bar\",, \"Low\",$C$1,\"0\",,,,,\"T\"),\"\")","v":196.02},{"$f":"IFERROR(RTD(\"cqg.rtd\",,\"StudyData\",\"HiLevel(\"&A46&\",Period1:=\"&$B$1&\",AllowGaps:=0,InputChoice1:=High,InputChoice3:=High)\",\"Bar\",, \"Close\",$C$1,\"-1\",,,,,\"T\"),\"\")","v":224.95},{"$f":"IFERROR(RTD(\"cqg.rtd\",,\"StudyData\",\"LoLevel(\"&A46&\",Period2:=\"&$B$1&\",AllowGaps:=0,InputChoice2:=Low,InputChoice4:=Low)\",\"Bar\",, \"Close\",$C$1,\"-1\",,,,,\"T\"),\"\")","v":171.5},0,0,2.0039999999999996,1.0169999999999981,"S.US.ARE",{"$f":"RTD(\"cqg.rtd\", ,\"ContractData\",A46, \"PerCentNetLastTrade\",, \"T\")/100","v":-8.1557753083902535E-4},{"$f":"RANK($K46,$K$2:K$506)+COUNTIF($K$2:K46,K46)-1","v":{"$error":"#VALUE!"}},"S.US.ARE",45,"",{"$f":"RTD(\"cqg.rtd\", ,\"ContractData\",O46, \"PerCentNetLastTrade\",, \"T\")/100","v":{"$error":"#VALUE!"}},{"$error":"#N/A"},null,45,""]
[{"$f":"Symbols!A47","v":"S.US.ATO"},{"$f":"IFERROR(RTD(\"cqg.rtd\",,\"StudyData\",A47,\"Bar\",, \"High\",$C$1,\"0\",,,,,\"T\"),\"\")","v":121.82},{"$f":"IFERROR(RTD(\"cqg.rtd\",,\"StudyData\",A47,\"Bar\",, \"Low\",$C$1,\"0\",,,,,\"T\"),\"\")","v":119.66},{"$f":"IFERROR(RTD(\"cqg.rtd\",,\"StudyData\",\"HiLevel(\"&A47&\",Period1:=\"&$B$1&\",AllowGaps:=0,InputChoice1:=High,InputChoice3:=High)\",\"Bar\",, \"Close\",$C$1,\"-1\",,,,,\"T\"),\"\")","v":122.5},{"$f":"IFERROR(RTD(\"cqg.rtd\",,\"StudyData\",\"LoLevel(\"&A47&\",Period2:=\"&$B$1&\",AllowGaps:=0,InputChoice2:=Low,InputChoice4:=Low)\",\"Bar\",, \"Close\",$C$1,\"-1\",,,,,\"T\"),\"\")","v":85.8},0,0,2.0049999999999994,1.017999999999998,"S.US.ATO",{"$f":"RTD(\"cqg.rtd\", ,\"ContractData\",A47, \"PerCentNetLastTrade\",, \"T\")/100","v":1.1023885084349422E-2},{"$f":"RANK($K47,$K$2:K$506)+COUNTIF($K$2:K47,K47)-1","v":{"$error":"#VALUE!"}},"S.US.ATO",46,"",{"$f":"RTD(\"cqg.rtd\", ,\"ContractData\",O47, \"PerCentNetLastTrade\",, \"T\")/100","v":{"$error":"#VALUE!"}},{"$error":"#N/A"},null,46,""]
[{"$f":"Symbols!A48","v":"S.US.ATVI"},{"$f":"IFERROR(RTD(\"cqg.rtd\",,\"StudyData\",A48,\"Bar\",, \"High\",$C$1,\"0\",,,,,\"T\"),\"\")","v":79.040000000000006},{"$f":"IFERROR(RTD(\"cqg.rtd\",,\"StudyData\",A48,\"Bar\",, \"Low\",$C$1,\"0\",,,,,\"T\"),\"\")","v":78.72},{"$f":"IFERROR(RTD(\"cqg.rtd\",,\"StudyData\",\"HiLevel(\"&A48&\",Period1:=\"&$B$1&\",AllowGaps:=0,InputChoice1:=High,InputChoice3:=High)\",\"Bar\",, \"Close\",$C$1,\"-1\",,,,,\"T\"),\"\")","v":99.45},{"$f":"IFERROR(RTD(\"cqg.rtd\",,\"StudyData\",\"LoLevel(\"&A48&\",Period2:=\"&$B$1&\",AllowGaps:=0,InputChoice2:=Low,InputChoice4:=Low)\",\"Bar\",, \"Close\",$C$1,\"-1\",,,,,\"T\"),\"\")","v":56.4},0,0,2.0059999999999993,1.0189999999999979,"S.US.ATVI",{"$f":"RTD(\"cqg.rtd\", ,\"ContractData\",A48, \"PerCentNetLastTrade\",, \"T\")/100","v":-2.533890789306981E-4},{"$f":"RANK($K48,$K$2:K$506)+COUNTIF($K$2:K48,K48)-1","v":{"$error":"#VALUE!"}},"S.US.ATVI",47,"",{"$f":"RTD(\"cqg.rtd\", ,\"ContractData\",O48, \"PerCentNetLastTrade\",, \"T\")/100","v":{"$error":"#VALUE!"}},{"$error":"#N/A"},null,47,""]
[{"$f":"Symbols!A49","v":"S.US.AVB"},{"$f":"IFERROR(RTD(\"cqg.rtd\",,\"StudyData\",A49,\"Bar\",, \"High\",$C$1,\"0\",,,,,\"T\"),\"\")","v":248.49},{"$f":"IFERROR(RTD(\"cqg.rtd\",,\"StudyData\",A49,\"Bar\",, \"Low\",$C$1,\"0\",,,,,\"T\"),\"\")","v":246.54},{"$f":"IFERROR(RTD(\"cqg.rtd\",,\"StudyData\",\"HiLevel(\"&A49&\",Period1:=\"&$B$1&\",AllowGaps:=0,InputChoice1:=High,InputChoice3:=High)\",\"Bar\",, \"Close\",$C$1,\"-1\",,,,,\"T\"),\"\")","v":259.05},{"$f":"IFERROR(RTD(\"cqg.rtd\",,\"StudyData\",\"LoLevel(\"&A49&\",Period2:=\"&$B$1&\",AllowGaps:=0,InputChoice2:=Low,InputChoice4:=Low)\",\"Bar\",, \"Close\",$C$1,\"-1\",,,,,\"T\"),\"\")","v":186.61},0,0,2.0069999999999992,1.0199999999999978,"S.US.AVB",{"$f":"RTD(\"cqg.rtd\", ,\"ContractData\",A49, \"PerCentNetLastTrade\",, \"T\")/100","v":4.7443331576172906E-3},{"$f":"RANK($K49,$K$2:K$506)+COUNTIF($K$2:K49,K49)-1","v":{"$error":"#VALUE!"}},"S.US.AVB",48,"",{"$f":"RTD(\"cqg.rtd\", ,\"ContractData\",O49, \"PerCentNetLastTrade\",, \"T\")/100","v":{"$error":"#VALUE!"}},{"$error":"#N/A"},null,48,""]
[{"$f":"Symbols!A50","v":"S.US.AVGO"},{"$f":"IFERROR(RTD(\"cqg.rtd\",,\"StudyData\",A50,\"Bar\",, \"High\",$C$1,\"0\",,,,,\"T\"),\"\")","v":582},{"$f":"IFERROR(RTD(\"cqg.rtd\",,\"StudyData\",A50,\"Bar\",, \"Low\",$C$1,\"0\",,,,,\"T\"),\"\")","v":572.85},{"$f":"IFERROR(RTD(\"cqg.rtd\",,\"StudyData\",\"HiLevel(\"&A50&\",Period1:=\"&$B$1&\",AllowGaps:=0,InputChoice1:=High,InputChoice3:=High)\",\"Bar\",, \"Close\",$C$1,\"-1\",,,,,\"T\"),\"\")","v":677.76},{"$f":"IFERROR(RTD(\"cqg.rtd\",,\"StudyData\",\"LoLevel(\"&A50&\",Period2:=\"&$B$1&\",AllowGaps:=0,InputChoice2:=Low,InputChoice4:=Low)\",\"Bar\",, \"Close\",$C$1,\"-1\",,,,,\"T\"),\"\")","v":419.14},0,0,2.0079999999999991,1.0209999999999977,"S.US.AVGO",{"$f":"RTD(\"cqg.rtd\", ,\"ContractData\",A50, \"PerCentNetLastTrade\",, \"T\")/100","v":1.0786790973250851E-2},{"$f":"RANK($K50,$K$2:K$506)+COUNTIF($K$2:K50,K50)-1","v":{"$error":"#VALUE!"}},"S.US.AVGO",49,"",{"$f":"RTD(\"cqg.rtd\", ,\"ContractData\",O50, \"PerCentNetLastTrade\",, \"T\")/100","v":{"$error":"#VALUE!"}},{"$error":"#N/A"},null,49,""]
[{"$f":"Symbols!A51","v":"S.US.AVY"},{"$f":"IFERROR(RTD(\"cqg.rtd\",,\"StudyData\",A51,\"Bar\",, \"High\",$C$1,\"0\",,,,,\"T\"),\"\")","v":167.53},{"$f":"IFERROR(RTD(\"cqg.rtd\",,\"StudyData\",A51,\"Bar\",, \"Low\",$C$1,\"0\",,,,,\"T\"),\"\")","v":165.07},{"$f":"IFERROR(RTD(\"cqg.rtd\",,\"StudyData\",\"HiLevel(\"&A51&\",Period1:=\"&$B$1&\",AllowGaps:=0,InputChoice1:=High,InputChoice3:=High)\",\"Bar\",, \"Close\",$C$1,\"-1\",,,,,\"T\"),\"\")","v":229.24},{"$f":"IFERROR(RTD(\"cqg.rtd\",,\"StudyData\",\"LoLevel(\"&A51&\",Period2:=\"&$B$1&\",AllowGaps:=0,InputChoice2:=Low,InputChoice4:=Low)\",\"Bar\",, \"Close\",$C$1,\"-1\",,,,,\"T\"),\"\")","v":156.51},0,0,2.008999999999999,1.0219999999999976,"S.US.AVY",{"$f":"RTD(\"cqg.rtd\", ,\"ContractData\",A51, \"PerCentNetLastTrade\",, \"T\")/100","v":-2.5226740344765452E-3},{"$f":"RANK($K51,$K$2:K$506)+COUNTIF($K$2:K51,K51)-1","v":{"$error":"#VALUE!"}},"S.US.AVY",50,"",{"$f":"RTD(\"cqg.rtd\", ,\"ContractData\",O51, \"PerCentNetLastTrade\",, \"T\")/100","v":{"$error":"#VALUE!"}},{"$error":"#N/A"},null,50,""]
[{"$f":"Symbols!A52","v":"S.US.AWK"},{"$f":"IFERROR(RTD(\"cqg.rtd\",,\"StudyData\",A52,\"Bar\",, \"High\",$C$1,\"0\",,,,,\"T\"),\"\")","v":167.14},{"$f":"IFERROR(RTD(\"cqg.rtd\",,\"StudyData\",A52,\"Bar\",, \"Low\",$C$1,\"0\",,,,,\"T\"),\"\")","v":166.1},{"$f":"IFERROR(RTD(\"cqg.rtd\",,\"StudyData\",\"HiLevel(\"&A52&\",Period1:=\"&$B$1&\",AllowGaps:=0,InputChoice1:=High,InputChoice3:=High)\",\"Bar\",, \"Close\",$C$1,\"-1\",,,,,\"T\"),\"\")","v":189.65},{"$f":"IFERROR(RTD(\"cqg.rtd\",,\"StudyData\",\"LoLevel(\"&A52&\",Period2:=\"&$B$1&\",AllowGaps:=0,InputChoice2:=Low,InputChoice4:=Low)\",\"Bar\",, \"Close\",$C$1,\"-1\",,,,,\"T\"),\"\")","v":144.19999999999999},0,0,2.0099999999999989,1.0229999999999975,"S.US.AWK",{"$f":"RTD(\"cqg.rtd\", ,\"ContractData\",A52, \"PerCentNetLastTrade\",, \"T\")/100","v":3.3100625902744343E-3},{"$f":"RANK($K52,$K$2:K$506)+COUNTIF($K$2:K52,K52)-1","v":{"$error":"#VALUE!"}},"S.US.AWK",51,"",{"$f":"RTD(\"cqg.rtd\", ,\"ContractData\",O52, \"PerCentNetLastTrade\",, \"T\")/100","v":{"$error":"#VALUE!"}},{"$error":"#N/A"},null,51,""]
[{"$f":"Symbols!A53","v":"S.US.AXP"},{"$f":"IFERROR(RTD(\"cqg.rtd\",,\"StudyData\",A53,\"Bar\",, \"High\",$C$1,\"0\",,,,,\"T\"),\"\")","v":183.95},{"$f":"IFERROR(RTD(\"cqg.rtd\",,\"StudyData\",A53,\"Bar\",, \"Low\",$C$1,\"0\",,,,,\"T\"),\"\")","v":181},{"$f":"IFERROR(RTD(\"cqg.rtd\",,\"StudyData\",\"HiLevel(\"&A53&\",Period1:=\"&$B$1&\",AllowGaps:=0,InputChoice1:=High,InputChoice3:=High)\",\"Bar\",, \"Close\",$C$1,\"-1\",,,,,\"T\"),\"\")","v":199.55},{"$f":"IFERROR(RTD(\"cqg.rtd\",,\"StudyData\",\"LoLevel(\"&A53&\",Period2:=\"&$B$1&\",AllowGaps:=0,InputChoice2:=Low,InputChoice4:=Low)\",\"Bar\",, \"Close\",$C$1,\"-1\",,,,,\"T\"),\"\")","v":140.68},0,0,2.0109999999999988,1.0239999999999974,"S.US.AXP",{"$f":"RTD(\"cqg.rtd\", ,\"ContractData\",A53, \"PerCentNetLastTrade\",, \"T\")/100","v":1.4075954956944137E-2},{"$f":"RANK($K53,$K$2:K$506)+COUNTIF($K$2:K53,K53)-1","v":{"$error":"#VALUE!"}},"S.US.AXP",52,"",{"$f":"RTD(\"cqg.rtd\", ,\"ContractData\",O53, \"PerCentNetLastTrade\",, \"T\")/100","v":{"$error":"#VALUE!"}},{"$error":"#N/A"},null,52,""]
[{"$f":"Symbols!A54","v":"S.US.AZO"},{"$f":"IFERROR(RTD(\"cqg.rtd\",,\"StudyData\",A54,\"Bar\",, \"High\",$C$1,\"0\",,,,,\"T\"),\"\")","v":2168.1},{"$f":"IFERROR(RTD(\"cqg.rtd\",,\"StudyData\",A54,\"Bar\",, \"Low\",$C$1,\"0\",,,,,\"T\"),\"\")","v":2149.73},{"$f":"IFERROR(RTD(\"cqg.rtd\",,\"StudyData\",\"HiLevel(\"&A54&\",Period1:=\"&$B$1&\",AllowGaps:=0,InputChoice1:=High,InputChoice3:=High)\",\"Bar\",, \"Close\",$C$1,\"-1\",,,,,\"T\"),\"\")","v":2221.56},{"$f":"IFERROR(RTD(\"cqg.rtd\",,\"StudyData\",\"LoLevel(\"&A54&\",Period2:=\"&$B$1&\",AllowGaps:=0,InputChoice2:=Low,InputChoice4:=Low)\",\"Bar\",, \"Close\",$C$1,\"-1\",,,,,\"T\"),\"\")","v":1367.96},0,0,2.0119999999999987,1.0249999999999972,"S.US.AZO",{"$f":"RTD(\"cqg.rtd\", ,\"ContractData\",A54, \"PerCentNetLastTrade\",, \"T\")/100","v":1.1641873787304813E-3},{"$f":"RANK($K54,$K$2:K$506)+COUNTIF($K$2:K54,K54)-1","v":{"$error":"#VALUE!"}},"S.US.AZO",53,"",{"$f":"RTD(\"cqg.rtd\", ,\"ContractData\",O54, \"PerCentNetLastTrade\",, \"T\")/100","v":{"$error":"#VALUE!"}},{"$error":"#N/A"},null,53,""]
[{"$f":"Symbols!A55","v":"S.US.BA"},{"$f":"IFERROR(RTD(\"cqg.rtd\",,\"StudyData\",A55,\"Bar\",, \"High\",$C$1,\"0\",,,,,\"T\"),\"\")","v":182.46},{"$f":"IFERROR(RTD(\"cqg.rtd\",,\"StudyData\",A55,\"Bar\",, \"Low\",$C$1,\"0\",,,,,\"T\"),\"\")","v":180.01},{"$f":"IFERROR(RTD(\"cqg.rtd\",,\"StudyData\",\"HiLevel(\"&A55&\",Period1:=\"&$B$1&\",AllowGaps:=0,InputChoice1:=High,InputChoice3:=High)\",\"Bar\",, \"Close\",$C$1,\"-1\",,,,,\"T\"),\"\")","v":258.39},{"$f":"IFERROR(RTD(\"cqg.rtd\",,\"StudyData\",\"LoLevel(\"&A55&\",Period2:=\"&$B$1&\",AllowGaps:=0,InputChoice2:=Low,InputChoice4:=Low)\",\"Bar\",, \"Close\",$C$1,\"-1\",,,,,\"T\"),\"\")","v":167.58},0,0,2.0129999999999986,1.0259999999999971,"S.US.BA",{"$f":"RTD(\"cqg.rtd\", ,\"ContractData\",A55, \"PerCentNetLastTrade\",, \"T\")/100","v":-5.1665384192590971E-3},{"$f":"RANK($K55,$K$2:K$506)+COUNTIF($K$2:K55,K55)-1","v":{"$error":"#VALUE!"}},"S.US.BA",54,"",{"$f":"RTD(\"cqg.rtd\", ,\"ContractData\",O55, \"PerCentNetLastTrade\",, \"T\")/100","v":{"$error":"#VALUE!"}},{"$error":"#N/A"},null,54,""]
[{"$f":"Symbols!A56","v":"S.US.BAC"},{"$f":"IFERROR(RTD(\"cqg.rtd\",,\"StudyData\",A56,\"Bar\",, \"High\",$C$1,\"0\",,,,,\"T\"),\"\")","v":38.61},{"$f":"IFERROR(RTD(\"cqg.rtd\",,\"StudyData\",A56,\"Bar\",, \"Low\",$C$1,\"0\",,,,,\"T\"),\"\")","v":37.22},{"$f":"IFERROR(RTD(\"cqg.rtd\",,\"StudyData\",\"HiLevel(\"&A56&\",Period1:=\"&$B$1&\",AllowGaps:=0,InputChoice1:=High,InputChoice3:=High)\",\"Bar\",, \"Close\",$C$1,\"-1\",,,,,\"T\"),\"\")","v":50.11},{"$f":"IFERROR(RTD(\"cqg.rtd\",,\"StudyData\",\"LoLevel(\"&A56&\",Period2:=\"&$B$1&\",AllowGaps:=0,InputChoice2:=Low,InputChoice4:=Low)\",\"Bar\",, \"Close\",$C$1,\"-1\",,,,,\"T\"),\"\")","v":36.51},0,0,2.0139999999999985,1.026999999999997,"S.US.BAC",{"$f":"RTD(\"cqg.rtd\", ,\"ContractData\",A56, \"PerCentNetLastTrade\",, \"T\")/100","v":2.6350811817939846E-2},{"$f":"RANK($K56,$K$2:K$506)+COUNTIF($K$2:K56,K56)-1","v":{"$error":"#VALUE!"}},"S.US.BAC",55,"",{"$f":"RTD(\"cqg.rtd\", ,\"ContractData\",O56, \"PerCentNetLastTrade\",, \"T\")/100","v":{"$error":"#VALUE!"}},{"$error":"#N/A"},null,55,""]
[{"$f":"Symbols!A57","v":"S.US.BAX"},{"$f":"IFERROR(RTD(\"cqg.rtd\",,\"StudyData\",A57,\"Bar\",, \"High\",$C$1,\"0\",,,,,\"T\"),\"\")","v":76.37},{"$f":"IFERROR(RTD(\"cqg.rtd\",,\"StudyData\",A57,\"Bar\",, \"Low\",$C$1,\"0\",,,,,\"T\"),\"\")","v":75.94},{"$f":"IFERROR(RTD(\"cqg.rtd\",,\"StudyData\",\"HiLevel(\"&A57&\",Period1:=\"&$B$1&\",AllowGaps:=0,InputChoice1:=High,InputChoice3:=High)\",\"Bar\",, \"Close\",$C$1,\"-1\",,,,,\"T\"),\"\")","v":89.7},{"$f":"IFERROR(RTD(\"cqg.rtd\",,\"StudyData\",\"LoLevel(\"&A57&\",Period2:=\"&$B$1&\",AllowGaps:=0,InputChoice2:=Low,InputChoice4:=Low)\",\"Bar\",, \"Close\",$C$1,\"-1\",,,,,\"T\"),\"\")","v":73.12},0,0,2.0149999999999983,1.0279999999999969,"S.US.BAX",{"$f":"RTD(\"cqg.rtd\", ,\"ContractData\",A57, \"PerCentNetLastTrade\",, \"T\")/100","v":-5.3636839351125067E-3},{"$f":"RANK($K57,$K$2:K$506)+COUNTIF($K$2:K57,K57)-1","v":{"$error":"#VALUE!"}},"S.US.BAX",56,"",{"$f":"RTD(\"cqg.rtd\", ,\"ContractData\",O57, \"PerCentNetLastTrade\",, \"T\")/100","v":{"$error":"#VALUE!"}},{"$error":"#N/A"},null,56,""]
[{"$f":"Symbols!A58","v":"S.US.BBWI"},{"$f":"IFERROR(RTD(\"cqg.rtd\",,\"StudyData\",A58,\"Bar\",, \"High\",$C$1,\"0\",,,,,\"T\"),\"\")","v":52.98},{"$f":"IFERROR(RTD(\"cqg.rtd\",,\"StudyData\",A58,\"Bar\",, \"Low\",$C$1,\"0\",,,,,\"T\"),\"\")","v":52.09},{"$f":"IFERROR(RTD(\"cqg.rtd\",,\"StudyData\",\"HiLevel(\"&A58&\",Period1:=\"&$B$1&\",AllowGaps:=0,InputChoice1:=High,InputChoice3:=High)\",\"Bar\",, \"Close\",$C$1,\"-1\",,,,,\"T\"),\"\")","v":82},{"$f":"IFERROR(RTD(\"cqg.rtd\",,\"StudyData\",\"LoLevel(\"&A58&\",Period2:=\"&$B$1&\",AllowGaps:=0,InputChoice2:=Low,InputChoice4:=Low)\",\"Bar\",, \"Close\",$C$1,\"-1\",,,,,\"T\"),\"\")","v":44.17},0,0,2.0159999999999982,1.0289999999999968,"S.US.BBWI",{"$f":"RTD(\"cqg.rtd\", ,\"ContractData\",A58, \"PerCentNetLastTrade\",, \"T\")/100","v":9.3887717953630972E-3},{"$f":"RANK($K58,$K$2:K$506)+COUNTIF($K$2:K58,K58)-1","v":{"$error":"#VALUE!"}},"S.US.BBWI",57,"",{"$f":"RTD(\"cqg.rtd\", ,\"ContractData\",O58, \"PerCentNetLastTrade\",, \"T\")/100","v":{"$error":"#VALUE!"}},{"$error":"#N/A"},null,57,""]
[{"$f":"Symbols!A59","v":"S.US.BBY"},{"$f":"IFERROR(RTD(\"cqg.rtd\",,\"StudyData\",A59,\"Bar\",, \"High\",$C$1,\"0\",,,,,\"T\"),\"\")","v":94.51},{"$f":"IFERROR(RTD(\"cqg.rtd\",,\"StudyData\",A59,\"Bar\",, \"Low\",$C$1,\"0\",,,,,\"T\"),\"\")","v":92.76},{"$f":"IFERROR(RTD(\"cqg.rtd\",,\"StudyData\",\"HiLevel(\"&A59&\",Period1:=\"&$B$1&\",AllowGaps:=0,InputChoice1:=High,InputChoice3:=High)\",\"Bar\",, \"Close\",$C$1,\"-1\",,,,,\"T\"),\"\")","v":141.97},{"$f":"IFERROR(RTD(\"cqg.rtd\",,\"StudyData\",\"LoLevel(\"&A59&\",Period2:=\"&$B$1&\",AllowGaps:=0,InputChoice2:=Low,InputChoice4:=Low)\",\"Bar\",, \"Close\",$C$1,\"-1\",,,,,\"T\"),\"\")","v":85.58},0,0,2.0169999999999981,1.0299999999999967,"S.US.BBY",{"$f":"RTD(\"cqg.rtd\", ,\"ContractData\",A59, \"PerCentNetLastTrade\",, \"T\")/100","v":-9.3776641091219085E-3},{"$f":"RANK($K59,$K$2:K$506)+COUNTIF($K$2:K59,K59)-1","v":{"$error":"#VALUE!"}},"S.US.BBY",58,"",{"$f":"RTD(\"cqg.rtd\", ,\"ContractData\",O59, \"PerCentNetLastTrade\",, \"T\")/100","v":{"$error":"#VALUE!"}},{"$error":"#N/A"},null,58,""]
[{"$f":"Symbols!A60","v":"S.US.BDX"},{"$f":"IFERROR(RTD(\"cqg.rtd\",,\"StudyData\",A60,\"Bar\",, \"High\",$C$1,\"0\",,,,,\"T\"),\"\")","v":272.17},{"$f":"IFERROR(RTD(\"cqg.rtd\",,\"StudyData\",A60,\"Bar\",, \"Low\",$C$1,\"0\",,,,,\"T\"),\"\")","v":270.68},{"$f":"IFERROR(RTD(\"cqg.rtd\",,\"StudyData\",\"HiLevel(\"&A60&\",Period1:=\"&$B$1&\",AllowGaps:=0,InputChoice1:=High,InputChoice3:=High)\",\"Bar\",, \"Close\",$C$1,\"-1\",,,,,\"T\"),\"\")","v":280.62},{"$f":"IFERROR(RTD(\"cqg.rtd\",,\"StudyData\",\"LoLevel(\"&A60&\",Period2:=\"&$B$1&\",AllowGaps:=0,InputChoice2:=Low,InputChoice4:=Low)\",\"Bar\",, \"Close\",$C$1,\"-1\",,,,,\"T\"),\"\")","v":235.13},0,0,2.017999999999998,1.0309999999999966,"S.US.BDX",{"$f":"RTD(\"cqg.rtd\", ,\"ContractData\",A60, \"PerCentNetLastTrade\",, \"T\")/100","v":-3.6808009422850414E-3},{"$f":"RANK($K60,$K$2:K$506)+COUNTIF($K$2:K60,K60)-1","v":{"$error":"#VALUE!"}},"S.US.BDX",59,"",{"$f":"RTD(\"cqg.rtd\", ,\"ContractData\",O60, \"PerCentNetLastTrade\",, \"T\")/100","v":{"$error":"#VALUE!"}},{"$error":"#N/A"},null,59,""]
[{"$f":"Symbols!A61","v":"S.US.BEN"},{"$f":"IFERROR(RTD(\"cqg.rtd\",,\"StudyData\",A61,\"Bar\",, \"High\",$C$1,\"0\",,,,,\"T\"),\"\")","v":25.65},{"$f":"IFERROR(RTD(\"cqg.rtd\",,\"StudyData\",A61,\"Bar\",, \"Low\",$C$1,\"0\",,,,,\"T\"),\"\")","v":25.38},{"$f":"IFERROR(RTD(\"cqg.rtd\",,\"StudyData\",\"HiLevel(\"&A61&\",Period1:=\"&$B$1&\",AllowGaps:=0,InputChoice1:=High,InputChoice3:=High)\",\"Bar\",, \"Close\",$C$1,\"-1\",,,,,\"T\"),\"\")","v":38.270000000000003},{"$f":"IFERROR(RTD(\"cqg.rtd\",,\"StudyData\",\"LoLevel(\"&A61&\",Period2:=\"&$B$1&\",AllowGaps:=0,InputChoice2:=Low,InputChoice4:=Low)\",\"Bar\",, \"Close\",$C$1,\"-1\",,,,,\"T\"),\"\")","v":25.45},0,1,2.0189999999999979,2,"S.US.BEN",{"$f":"RTD(\"cqg.rtd\", ,\"ContractData\",A61, \"PerCentNetLastTrade\",, \"T\")/100","v":1.5643332029722332E-3},{"$f":"RANK($K61,$K$2:K$506)+COUNTIF($K$2:K61,K61)-1","v":{"$error":"#VALUE!"}},"S.US.BEN",60,"",{"$f":"RTD(\"cqg.rtd\", ,\"ContractData\",O61, \"PerCentNetLastTrade\",, \"T\")/100","v":{"$error":"#VALUE!"}},{"$error":"#N/A"},null,60,""]
[{"$f":"Symbols!A62","v":"S.US.BF.B"},{"$f":"IFERROR(RTD(\"cqg.rtd\",,\"StudyData\",A62,\"Bar\",, \"High\",$C$1,\"0\",,,,,\"T\"),\"\")","v":"777: Bars Message -> Not found: S.US.BF.B : Bar on Bar,S.US.BF.B"},{"$f":"IFERROR(RTD(\"cqg.rtd\",,\"StudyData\",A62,\"Bar\",, \"Low\",$C$1,\"0\",,,,,\"T\"),\"\")","v":"777: Bars Message -> Not found: S.US.BF.B : Bar on Bar,S.US.BF.B"},{"$f":"IFERROR(RTD(\"cqg.rtd\",,\"StudyData\",\"HiLevel(\"&A62&\",Period1:=\"&$B$1&\",AllowGaps:=0,InputChoice1:=High,InputChoice3:=High)\",\"Bar\",, \"Close\",$C$1,\"-1\",,,,,\"T\"),\"\")","v":"777: Bars Message -> Not found: S.US.BF.B : Bar on Bar,HiLevel(S.US.BF.B,Period1:=52,AllowGaps:=0,InputChoice1:=High,InputChoice3:=High)"},{"$f":"IFERROR(RTD(\"cqg.rtd\",,\"StudyData\",\"LoLevel(\"&A62&\",Period2:=\"&$B$1&\",AllowGaps:=0,InputChoice2:=Low,InputChoice4:=Low)\",\"Bar\",, \"Close\",$C$1,\"-1\",,,,,\"T\"),\"\")","v":"777: Bars Message -> Not found: S.US.BF.B : Bar on Bar,LoLevel(S.US.BF.B,Period2:=52,AllowGaps:=0,InputChoice2:=Low,InputChoice4:=Low)"},1,0,3,2.0009999999999999,"S.US.BF.B",{"$f":"RTD(\"cqg.rtd\", ,\"ContractData\",A62, \"PerCentNetLastTrade\",, \"T\")/100","v":{"$error":"#VALUE!"}},{"$f":"RANK($K62,$K$2:K$506)+COUNTIF($K$2:K62,K62)-1","v":{"$error":"#VALUE!"}},"S.US.BF.B",61,"",{"$f":"RTD(\"cqg.rtd\", ,\"ContractData\",O62, \"PerCentNetLastTrade\",, \"T\")/100","v":{"$error":"#VALUE!"}},{"$error":"#N/A"},null,61,""]
[{"$f":"Symbols!A63","v":"S.US.BIIB"},{"$f":"IFERROR(RTD(\"cqg.rtd\",,\"StudyData\",A63,\"Bar\",, \"High\",$C$1,\"0\",,,,,\"T\"),\"\")","v":217.66},{"$f":"IFERROR(RTD(\"cqg.rtd\",,\"StudyData\",A63,\"Bar\",, \"Low\",$C$1,\"0\",,,,,\"T\"),\"\")","v":214.88},{"$f":"IFERROR(RTD(\"cqg.rtd\",,\"StudyData\",\"HiLevel(\"&A63&\",Period1:=\"&$B$1&\",AllowGaps:=0,InputChoice1:=High,InputChoice3:=High)\",\"Bar\",, \"Close\",$C$1,\"-1\",,,,,\"T\"),\"\")","v":468.55},{"$f":"IFERROR(RTD(\"cqg.rtd\",,\"StudyData\",\"LoLevel(\"&A63&\",Period2:=\"&$B$1&\",AllowGaps:=0,InputChoice2:=Low,InputChoice4:=Low)\",\"Bar\",, \"Close\",$C$1,\"-1\",,,,,\"T\"),\"\")","v":192.67},0,0,3.0009999999999999,2.0019999999999998,"S.US.BIIB",{"$f":"RTD(\"cqg.rtd\", ,\"ContractData\",A63, \"PerCentNetLastTrade\",, \"T\")/100","v":1.0962126558456832E-2},{"$f":"RANK($K63,$K$2:K$506)+COUNTIF($K$2:K63,K63)-1","v":{"$error":"#VALUE!"}},"S.US.BIIB",62,"",{"$f":"RTD(\"cqg.rtd\", ,\"ContractData\",O63, \"PerCentNetLastTrade\",, \"T\")/100","v":{"$error":"#VALUE!"}},{"$error":"#N/A"},null,62,""]
[{"$f":"Symbols!A64","v":"S.US.BIO"},{"$f":"IFERROR(RTD(\"cqg.rtd\",,\"StudyData\",A64,\"Bar\",, \"High\",$C$1,\"0\",,,,,\"T\"),\"\")","v":544.94000000000005},{"$f":"IFERROR(RTD(\"cqg.rtd\",,\"StudyData\",A64,\"Bar\",, \"Low\",$C$1,\"0\",,,,,\"T\"),\"\")","v":542.65},{"$f":"IFERROR(RTD(\"cqg.rtd\",,\"StudyData\",\"HiLevel(\"&A64&\",Period1:=\"&$B$1&\",AllowGaps:=0,InputChoice1:=High,InputChoice3:=High)\",\"Bar\",, \"Close\",$C$1,\"-1\",,,,,\"T\"),\"\")","v":832.7},{"$f":"IFERROR(RTD(\"cqg.rtd\",,\"StudyData\",\"LoLevel(\"&A64&\",Period2:=\"&$B$1&\",AllowGaps:=0,InputChoice2:=Low,InputChoice4:=Low)\",\"Bar\",, \"Close\",$C$1,\"-1\",,,,,\"T\"),\"\")","v":524.19000000000005},0,0,3.0019999999999998,2.0029999999999997,"S.US.BIO",{"$f":"RTD(\"cqg.rtd\", ,\"ContractData\",A64, \"PerCentNetLastTrade\",, \"T\")/100","v":-5.9286013973257447E-3},{"$f":"RANK($K64,$K$2:K$506)+COUNTIF($K$2:K64,K64)-1","v":{"$error":"#VALUE!"}},"S.US.BIO",63,"",{"$f":"RTD(\"cqg.rtd\", ,\"ContractData\",O64, \"PerCentNetLastTrade\",, \"T\")/100","v":{"$error":"#VALUE!"}},{"$error":"#N/A"},null,63,""]
[{"$f":"Symbols!A65","v":"S.US.BK"},{"$f":"IFERROR(RTD(\"cqg.rtd\",,\"StudyData\",A65,\"Bar\",, \"High\",$C$1,\"0\",,,,,\"T\"),\"\")","v":46.66},{"$f":"IFERROR(RTD(\"cqg.rtd\",,\"StudyData\",A65,\"Bar\",, \"Low\",$C$1,\"0\",,,,,\"T\"),\"\")","v":44.98},{"$f":"IFERROR(RTD(\"cqg.rtd\",,\"StudyData\",\"HiLevel(\"&A65&\",Period1:=\"&$B$1&\",AllowGaps:=0,InputChoice1:=High,InputChoice3:=High)\",\"Bar\",, \"Close\",$C$1,\"-1\",,,,,\"T\"),\"\")","v":64.63},{"$f":"IFERROR(RTD(\"cqg.rtd\",,\"StudyData\",\"LoLevel(\"&A65&\",Period2:=\"&$B$1&\",AllowGaps:=0,InputChoice2:=Low,InputChoice4:=Low)\",\"Bar\",, \"Close\",$C$1,\"-1\",,,,,\"T\"),\"\")","v":46.13},0,1,3.0029999999999997,3,"S.US.BK",{"$f":"RTD(\"cqg.rtd\", ,\"ContractData\",A65, \"PerCentNetLastTrade\",, \"T\")/100","v":-2.2414886868259674E-2},{"$f":"RANK($K65,$K$2:K$506)+COUNTIF($K$2:K65,K65)-1","v":{"$error":"#VALUE!"}},"S.US.BK",64,"",{"$f":"RTD(\"cqg.rtd\", ,\"ContractData\",O65, \"PerCentNetLastTrade\",, \"T\")/100","v":{"$error":"#VALUE!"}},{"$error":"#N/A"},null,64,""]
[{"$f":"Symbols!A66","v":"S.US.BKNG"},{"$f":"IFERROR(RTD(\"cqg.rtd\",,\"StudyData\",A66,\"Bar\",, \"High\",$C$1,\"0\",,,,,\"T\"),\"\")","v":2224.96},{"$f":"IFERROR(RTD(\"cqg.rtd\",,\"StudyData\",A66,\"Bar\",, \"Low\",$C$1,\"0\",,,,,\"T\"),\"\")","v":2205.13},{"$f":"IFERROR(RTD(\"cqg.rtd\",,\"StudyData\",\"HiLevel(\"&A66&\",Period1:=\"&$B$1&\",AllowGaps:=0,InputChoice1:=High,InputChoice3:=High)\",\"Bar\",, \"Close\",$C$1,\"-1\",,,,,\"T\"),\"\")","v":2715.66},{"$f":"IFERROR(RTD(\"cqg.rtd\",,\"StudyData\",\"LoLevel(\"&A66&\",Period2:=\"&$B$1&\",AllowGaps:=0,InputChoice2:=Low,InputChoice4:=Low)\",\"Bar\",, \"Close\",$C$1,\"-1\",,,,,\"T\"),\"\")","v":1796.45},0,0,3.0039999999999996,3.0009999999999999,"S.US.BKNG",{"$f":"RTD(\"cqg.rtd\", ,\"ContractData\",A66, \"PerCentNetLastTrade\",, \"T\")/100","v":-9.0962559882188671E-3},{"$f":"RANK($K66,$K$2:K$506)+COUNTIF($K$2:K66,K66)-1","v":{"$error":"#VALUE!"}},"S.US.BKNG",65,{"$f":"IFERROR(VLOOKUP(N66,$L$2:$M$506,2,FALSE),\"\")","v":""},{"$f":"RTD(\"cqg.rtd\", ,\"ContractData\",O66, \"PerCentNetLastTrade\",, \"T\")/100","v":{"$error":"#VALUE!"}},{"$f":"VLOOKUP(O66,$A$2:$H$506,8,FALSE)","v":{"$error":"#N/A"}},null,65,{"$f":"IFERROR(VLOOKUP(S66,$H$2:$J$506,3,FALSE),\"\")","v":""}]
[{"$f":"Symbols!A67","v":"S.US.BKR"},{"$f":"IFERROR(RTD(\"cqg.rtd\",,\"StudyData\",A67,\"Bar\",, \"High\",$C$1,\"0\",,,,,\"T\"),\"\")","v":37.9},{"$f":"IFERROR(RTD(\"cqg.rtd\",,\"StudyData\",A67,\"Bar\",, \"Low\",$C$1,\"0\",,,,,\"T\"),\"\")","v":37.22},{"$f":"IFERROR(RTD(\"cqg.rtd\",,\"StudyData\",\"HiLevel(\"&A67&\",Period1:=\"&$B$1&\",AllowGaps:=0,InputChoice1:=High,InputChoice3:=High)\",\"Bar\",, \"Close\",$C$1,\"-1\",,,,,\"T\"),\"\")","v":39.78},{"$f":"IFERROR(RTD(\"cqg.rtd\",,\"StudyData\",\"LoLevel(\"&A67&\",Period2:=\"&$B$1&\",AllowGaps:=0,InputChoice2:=Low,InputChoice4:=Low)\",\"Bar\",, \"Close\",$C$1,\"-1\",,,,,\"T\"),\"\")","v":18.75},{"$f":"IF(B67=\"\",0,IFERROR(IF(B67>D67,1,0),\"\"))","v":0},{"$f":"IF(C67=\"\",0,IFERROR(IF(C67<E67,1,0),\"\"))","v":0},{"$f":"IF(F67=1,INT(H66+1),H66+0.001)","v":3.0049999999999994},3.0019999999999998,{"$f":"A67","v":"S.US.BKR"},{"$f":"RTD(\"cqg.rtd\", ,\"ContractData\",A67, \"PerCentNetLastTrade\",, \"T\")/100","v":1.0726736390453205E-2},{"$f":"RANK($K67,$K$2:K$506)+COUNTIF($K$2:K67,K67)-1","v":{"$error":"#VALUE!"}},"S.US.BKR",66,"",{"$f":"RTD(\"cqg.rtd\", ,\"ContractData\",O67, \"PerCentNetLastTrade\",, \"T\")/100","v":{"$error":"#VALUE!"}},{"$error":"#N/A"},null,66,""]
[{"$f":"Symbols!A68","v":"S.US.BLK"},{"$f":"IFERROR(RTD(\"cqg.rtd\",,\"StudyData\",A68,\"Bar\",, \"High\",$C$1,\"0\",,,,,\"T\"),\"\")","v":691.49},{"$f":"IFERROR(RTD(\"cqg.rtd\",,\"StudyData\",A68,\"Bar\",, \"Low\",$C$1,\"0\",,,,,\"T\"),\"\")","v":687},{"$f":"IFERROR(RTD(\"cqg.rtd\",,\"StudyData\",\"HiLevel(\"&A68&\",Period1:=\"&$B$1&\",AllowGaps:=0,InputChoice1:=High,InputChoice3:=High)\",\"Bar\",, \"Close\",$C$1,\"-1\",,,,,\"T\"),\"\")","v":973.16},{"$f":"IFERROR(RTD(\"cqg.rtd\",,\"StudyData\",\"LoLevel(\"&A68&\",Period2:=\"&$B$1&\",AllowGaps:=0,InputChoice2:=Low,InputChoice4:=Low)\",\"Bar\",, \"Close\",$C$1,\"-1\",,,,,\"T\"),\"\")","v":660.15},0,0,3.0059999999999993,3.0029999999999997,"S.US.BLK",{"$f":"RTD(\"cqg.rtd\", ,\"ContractData\",A68, \"PerCentNetLastTrade\",, \"T\")/100","v":1.2060973306014502E-3},{"$f":"RANK($K68,$K$2:K$506)+COUNTIF($K$2:K68,K68)-1","v":{"$error":"#VALUE!"}},{"$f":"J68","v":"S.US.BLK"},{"$f":"N67+1","v":67},"",{"$f":"RTD(\"cqg.rtd\", ,\"ContractData\",O68, \"PerCentNetLastTrade\",, \"T\")/100","v":{"$error":"#VALUE!"}},{"$error":"#N/A"},null,{"$f":"S67+1","v":67},""]
[{"$f":"Symbols!A69","v":"S.US.BLL"},{"$f":"IFERROR(RTD(\"cqg.rtd\",,\"StudyData\",A69,\"Bar\",, \"High\",$C$1,\"0\",,,,,\"T\"),\"\")","v":87.69},{"$f":"IFERROR(RTD(\"cqg.rtd\",,\"StudyData\",A69,\"Bar\",, \"Low\",$C$1,\"0\",,,,,\"T\"),\"\")","v":86.85},{"$f":"IFERROR(RTD(\"cqg.rtd\",,\"StudyData\",\"HiLevel(\"&A69&\",Period1:=\"&$B$1&\",AllowGaps:=0,InputChoice1:=High,InputChoice3:=High)\",\"Bar\",, \"Close\",$C$1,\"-1\",,,,,\"T\"),\"\")","v":98.09},{"$f":"IFERROR(RTD(\"cqg.rtd\",,\"StudyData\",\"LoLevel(\"&A69&\",Period2:=\"&$B$1&\",AllowGaps:=0,InputChoice2:=Low,InputChoice4:=Low)\",\"Bar\",, \"Close\",$C$1,\"-1\",,,,,\"T\"),\"\")","v":77.95},0,0,3.0069999999999992,3.0039999999999996,"S.US.BLL",{"$f":"RTD(\"cqg.rtd\", ,\"ContractData\",A69, \"PerCentNetLastTrade\",, \"T\")/100","v":3.4423407917383818E-4},{"$f":"RANK($K69,$K$2:K$506)+COUNTIF($K$2:K69,K69)-1","v":{"$error":"#VALUE!"}},"S.US.BLL",68,"",{"$f":"RTD(\"cqg.rtd\", ,\"ContractData\",O69, \"PerCentNetLastTrade\",, \"T\")/100","v":{"$error":"#VALUE!"}},{"$error":"#N/A"},null,68,""]
[{"$f":"Symbols!A70","v":"S.US.BMY"},{"$f":"IFERROR(RTD(\"cqg.rtd\",,\"StudyData\",A70,\"Bar\",, \"High\",$C$1,\"0\",,,,,\"T\"),\"\")","v":77.150000000000006},{"$f":"IFERROR(RTD(\"cqg.rtd\",,\"StudyData\",A70,\"Bar\",, \"Low\",$C$1,\"0\",,,,,\"T\"),\"\")","v":76.63},{"$f":"IFERROR(RTD(\"cqg.rtd\",,\"StudyData\",\"HiLevel(\"&A70&\",Period1:=\"&$B$1&\",AllowGaps:=0,InputChoice1:=High,InputChoice3:=High)\",\"Bar\",, \"Close\",$C$1,\"-1\",,,,,\"T\"),\"\")","v":78.13},{"$f":"IFERROR(RTD(\"cqg.rtd\",,\"StudyData\",\"LoLevel(\"&A70&\",Period2:=\"&$B$1&\",AllowGaps:=0,InputChoice2:=Low,InputChoice4:=Low)\",\"Bar\",, \"Close\",$C$1,\"-1\",,,,,\"T\"),\"\")","v":53.22},0,0,3.0079999999999991,3.0049999999999994,"S.US.BMY",{"$f":"RTD(\"cqg.rtd\", ,\"ContractData\",A70, \"PerCentNetLastTrade\",, \"T\")/100","v":-6.4507805444458778E-3},{"$f":"RANK($K70,$K$2:K$506)+COUNTIF($K$2:K70,K70)-1","v":{"$error":"#VALUE!"}},"S.US.BMY",69,"",{"$f":"RTD(\"cqg.rtd\", ,\"ContractData\",O70, \"PerCentNetLastTrade\",, \"T\")/100","v":{"$error":"#VALUE!"}},{"$error":"#N/A"},null,69,""]
[{"$f":"Symbols!A71","v":"S.US.BR"},{"$f":"IFERROR(RTD(\"cqg.rtd\",,\"StudyData\",A71,\"Bar\",, \"High\",$C$1,\"0\",,,,,\"T\"),\"\")","v":153.63999999999999},{"$f":"IFERROR(RTD(\"cqg.rtd\",,\"StudyData\",A71,\"Bar\",, \"Low\",$C$1,\"0\",,,,,\"T\"),\"\")","v":152.49},{"$f":"IFERROR(RTD(\"cqg.rtd\",,\"StudyData\",\"HiLevel(\"&A71&\",Period1:=\"&$B$1&\",AllowGaps:=0,InputChoice1:=High,InputChoice3:=High)\",\"Bar\",, \"Close\",$C$1,\"-1\",,,,,\"T\"),\"\")","v":185.4},{"$f":"IFERROR(RTD(\"cqg.rtd\",,\"StudyData\",\"LoLevel(\"&A71&\",Period2:=\"&$B$1&\",AllowGaps:=0,InputChoice2:=Low,InputChoice4:=Low)\",\"Bar\",, \"Close\",$C$1,\"-1\",,,,,\"T\"),\"\")","v":137.57},0,0,3.008999999999999,3.0059999999999993,"S.US.BR",{"$f":"RTD(\"cqg.rtd\", ,\"ContractData\",A71, \"PerCentNetLastTrade\",, \"T\")/100","v":-5.2110474205315264E-4},{"$f":"RANK($K71,$K$2:K$506)+COUNTIF($K$2:K71,K71)-1","v":{"$error":"#VALUE!"}},"S.US.BR",70,"",{"$f":"RTD(\"cqg.rtd\", ,\"ContractData\",O71, \"PerCentNetLastTrade\",, \"T\")/100","v":{"$error":"#VALUE!"}},{"$error":"#N/A"},null,70,""]
[{"$f":"Symbols!A72","v":"S.US.BRK.B"},{"$f":"IFERROR(RTD(\"cqg.rtd\",,\"StudyData\",A72,\"Bar\",, \"High\",$C$1,\"0\",,,,,\"T\"),\"\")","v":"777: Bars Message -> Not found: S.US.BRK.B : Bar on Bar,S.US.BRK.B"},{"$f":"IFERROR(RTD(\"cqg.rtd\",,\"StudyData\",A72,\"Bar\",, \"Low\",$C$1,\"0\",,,,,\"T\"),\"\")","v":"777: Bars Message -> Not found: S.US.BRK.B : Bar on Bar,S.US.BRK.B"},{"$f":"IFERROR(RTD(\"cqg.rtd\",,\"StudyData\",\"HiLevel(\"&A72&\",Period1:=\"&$B$1&\",AllowGaps:=0,InputChoice1:=High,InputChoice3:=High)\",\"Bar\",, \"Close\",$C$1,\"-1\",,,,,\"T\"),\"\")","v":"777: Bars Message -> Not found: S.US.BRK.B : Bar on Bar,HiLevel(S.US.BRK.B,Period1:=52,AllowGaps:=0,InputChoice1:=High,InputChoice3:=High)"},{"$f":"IFERROR(RTD(\"cqg.rtd\",,\"StudyData\",\"LoLevel(\"&A72&\",Period2:=\"&$B$1&\",AllowGaps:=0,InputChoice2:=Low,InputChoice4:=Low)\",\"Bar\",, \"Close\",$C$1,\"-1\",,,,,\"T\"),\"\")","v":"777: Bars Message -> Not found: S.US.BRK.B : Bar on Bar,LoLevel(S.US.BRK.B,Period2:=52,AllowGaps:=0,InputChoice2:=Low,InputChoice4:=Low)"},1,0,4,3.0069999999999992,"S.US.BRK.B",{"$f":"RTD(\"cqg.rtd\", ,\"ContractData\",A72, \"PerCentNetLastTrade\",, \"T\")/100","v":{"$error":"#VALUE!"}},{"$f":"RANK($K72,$K$2:K$506)+COUNTIF($K$2:K72,K72)-1","v":{"$error":"#VALUE!"}},"S.US.BRK.B",71,"",{"$f":"RTD(\"cqg.rtd\", ,\"ContractData\",O72, \"PerCentNetLastTrade\",, \"T\")/100","v":{"$error":"#VALUE!"}},{"$error":"#N/A"},null,71,""]
[{"$f":"Symbols!A73","v":"S.US.BRO"},{"$f":"IFERROR(RTD(\"cqg.rtd\",,\"StudyData\",A73,\"Bar\",, \"High\",$C$1,\"0\",,,,,\"T\"),\"\")","v":71.08},{"$f":"IFERROR(RTD(\"cqg.rtd\",,\"StudyData\",A73,\"Bar\",, \"Low\",$C$1,\"0\",,,,,\"T\"),\"\")","v":70.430000000000007},{"$f":"IFERROR(RTD(\"cqg.rtd\",,\"StudyData\",\"HiLevel(\"&A73&\",Period1:=\"&$B$1&\",AllowGaps:=0,InputChoice1:=High,InputChoice3:=High)\",\"Bar\",, \"Close\",$C$1,\"-1\",,,,,\"T\"),\"\")","v":74},{"$f":"IFERROR(RTD(\"cqg.rtd\",,\"StudyData\",\"LoLevel(\"&A73&\",Period2:=\"&$B$1&\",AllowGaps:=0,InputChoice2:=Low,InputChoice4:=Low)\",\"Bar\",, \"Close\",$C$1,\"-1\",,,,,\"T\"),\"\")","v":49.15},0,0,4.0010000000000003,3.0079999999999991,"S.US.BRO",{"$f":"RTD(\"cqg.rtd\", ,\"ContractData\",A73, \"PerCentNetLastTrade\",, \"T\")/100","v":-6.7358967162503515E-3},{"$f":"RANK($K73,$K$2:K$506)+COUNTIF($K$2:K73,K73)-1","v":{"$error":"#VALUE!"}},"S.US.BRO",72,"",{"$f":"RTD(\"cqg.rtd\", ,\"ContractData\",O73, \"PerCentNetLastTrade\",, \"T\")/100","v":{"$error":"#VALUE!"}},{"$error":"#N/A"},null,72,""]
[{"$f":"Symbols!A74","v":"S.US.BSX"},{"$f":"IFERROR(RTD(\"cqg.rtd\",,\"StudyData\",A74,\"Bar\",, \"High\",$C$1,\"0\",,,,,\"T\"),\"\")","v":44.56},{"$f":"IFERROR(RTD(\"cqg.rtd\",,\"StudyData\",A74,\"Bar\",, \"Low\",$C$1,\"0\",,,,,\"T\"),\"\")","v":44.13},{"$f":"IFERROR(RTD(\"cqg.rtd\",,\"StudyData\",\"HiLevel(\"&A74&\",Period1:=\"&$B$1&\",AllowGaps:=0,InputChoice1:=High,InputChoice3:=High)\",\"Bar\",, \"Close\",$C$1,\"-1\",,,,,\"T\"),\"\")","v":46.28},{"$f":"IFERROR(RTD(\"cqg.rtd\",,\"StudyData\",\"LoLevel(\"&A74&\",Period2:=\"&$B$1&\",AllowGaps:=0,InputChoice2:=Low,InputChoice4:=Low)\",\"Bar\",, \"Close\",$C$1,\"-1\",,,,,\"T\"),\"\")","v":37.96},0,0,4.0020000000000007,3.008999999999999,"S.US.BSX",{"$f":"RTD(\"cqg.rtd\", ,\"ContractData\",A74, \"PerCentNetLastTrade\",, \"T\")/100","v":-2.2598870056497175E-4},{"$f":"RANK($K74,$K$2:K$506)+COUNTIF($K$2:K74,K74)-1","v":{"$error":"#VALUE!"}},"S.US.BSX",73,"",{"$f":"RTD(\"cqg.rtd\", ,\"ContractData\",O74, \"PerCentNetLastTrade\",, \"T\")/100","v":{"$error":"#VALUE!"}},{"$error":"#N/A"},null,73,""]
[{"$f":"Symbols!A75","v":"S.US.BWA"},{"$f":"IFERROR(RTD(\"cqg.rtd\",,\"StudyData\",A75,\"Bar\",, \"High\",$C$1,\"0\",,,,,\"T\"),\"\")","v":37.31},{"$f":"IFERROR(RTD(\"cqg.rtd\",,\"StudyData\",A75,\"Bar\",, \"Low\",$C$1,\"0\",,,,,\"T\"),\"\")","v":36.76},{"$f":"IFERROR(RTD(\"cqg.rtd\",,\"StudyData\",\"HiLevel(\"&A75&\",Period1:=\"&$B$1&\",AllowGaps:=0,InputChoice1:=High,InputChoice3:=High)\",\"Bar\",, \"Close\",$C$1,\"-1\",,,,,\"T\"),\"\")","v":55.55},{"$f":"IFERROR(RTD(\"cqg.rtd\",,\"StudyData\",\"LoLevel(\"&A75&\",Period2:=\"&$B$1&\",AllowGaps:=0,InputChoice2:=Low,InputChoice4:=Low)\",\"Bar\",, \"Close\",$C$1,\"-1\",,,,,\"T\"),\"\")","v":34.85},0,0,4.003000000000001,3.0099999999999989,"S.US.BWA",{"$f":"RTD(\"cqg.rtd\", ,\"ContractData\",A75, \"PerCentNetLastTrade\",, \"T\")/100","v":-2.7019724398811131E-4},{"$f":"RANK($K75,$K$2:K$506)+COUNTIF($K$2:K75,K75)-1","v":{"$error":"#VALUE!"}},"S.US.BWA",74,"",{"$f":"RTD(\"cqg.rtd\", ,\"ContractData\",O75, \"PerCentNetLastTrade\",, \"T\")/100","v":{"$error":"#VALUE!"}},{"$error":"#N/A"},null,74,""]
[{"$f":"Symbols!A76","v":"S.US.BXP"},{"$f":"IFERROR(RTD(\"cqg.rtd\",,\"StudyData\",A76,\"Bar\",, \"High\",$C$1,\"0\",,,,,\"T\"),\"\")","v":125.59},{"$f":"IFERROR(RTD(\"cqg.rtd\",,\"StudyData\",A76,\"Bar\",, \"Low\",$C$1,\"0\",,,,,\"T\"),\"\")","v":124.83},{"$f":"IFERROR(RTD(\"cqg.rtd\",,\"StudyData\",\"HiLevel(\"&A76&\",Period1:=\"&$B$1&\",AllowGaps:=0,InputChoice1:=High,InputChoice3:=High)\",\"Bar\",, \"Close\",$C$1,\"-1\",,,,,\"T\"),\"\")","v":133.11000000000001},{"$f":"IFERROR(RTD(\"cqg.rtd\",,\"StudyData\",\"LoLevel(\"&A76&\",Period2:=\"&$B$1&\",AllowGaps:=0,InputChoice2:=Low,InputChoice4:=Low)\",\"Bar\",, \"Close\",$C$1,\"-1\",,,,,\"T\"),\"\")","v":103.2},0,0,4.0040000000000013,3.0109999999999988,"S.US.BXP",{"$f":"RTD(\"cqg.rtd\", ,\"ContractData\",A76, \"PerCentNetLastTrade\",, \"T\")/100","v":4.1736897022232921E-3},{"$f":"RANK($K76,$K$2:K$506)+COUNTIF($K$2:K76,K76)-1","v":{"$error":"#VALUE!"}},"S.US.BXP",75,"",{"$f":"RTD(\"cqg.rtd\", ,\"ContractData\",O76, \"PerCentNetLastTrade\",, \"T\")/100","v":{"$error":"#VALUE!"}},{"$error":"#N/A"},null,75,""]
[{"$f":"Symbols!A77","v":"S.US.C"},{"$f":"IFERROR(RTD(\"cqg.rtd\",,\"StudyData\",A77,\"Bar\",, \"High\",$C$1,\"0\",,,,,\"T\"),\"\")","v":52.01},{"$f":"IFERROR(RTD(\"cqg.rtd\",,\"StudyData\",A77,\"Bar\",, \"Low\",$C$1,\"0\",,,,,\"T\"),\"\")","v":50.78},{"$f":"IFERROR(RTD(\"cqg.rtd\",,\"StudyData\",\"HiLevel(\"&A77&\",Period1:=\"&$B$1&\",AllowGaps:=0,InputChoice1:=High,InputChoice3:=High)\",\"Bar\",, \"Close\",$C$1,\"-1\",,,,,\"T\"),\"\")","v":80.290000000000006},{"$f":"IFERROR(RTD(\"cqg.rtd\",,\"StudyData\",\"LoLevel(\"&A77&\",Period2:=\"&$B$1&\",AllowGaps:=0,InputChoice2:=Low,InputChoice4:=Low)\",\"Bar\",, \"Close\",$C$1,\"-1\",,,,,\"T\"),\"\")","v":49.04},0,0,4.0050000000000017,3.0119999999999987,"S.US.C",{"$f":"RTD(\"cqg.rtd\", ,\"ContractData\",A77, \"PerCentNetLastTrade\",, \"T\")/100","v":1.9242096995876694E-2},{"$f":"RANK($K77,$K$2:K$506)+COUNTIF($K$2:K77,K77)-1","v":{"$error":"#VALUE!"}},"S.US.C",76,"",{"$f":"RTD(\"cqg.rtd\", ,\"ContractData\",O77, \"PerCentNetLastTrade\",, \"T\")/100","v":{"$error":"#VALUE!"}},{"$error":"#N/A"},null,76,""]
[{"$f":"Symbols!A78","v":"S.US.CAG"},{"$f":"IFERROR(RTD(\"cqg.rtd\",,\"StudyData\",A78,\"Bar\",, \"High\",$C$1,\"0\",,,,,\"T\"),\"\")","v":35.69},{"$f":"IFERROR(RTD(\"cqg.rtd\",,\"StudyData\",A78,\"Bar\",, \"Low\",$C$1,\"0\",,,,,\"T\"),\"\")","v":35.49},{"$f":"IFERROR(RTD(\"cqg.rtd\",,\"StudyData\",\"HiLevel(\"&A78&\",Period1:=\"&$B$1&\",AllowGaps:=0,InputChoice1:=High,InputChoice3:=High)\",\"Bar\",, \"Close\",$C$1,\"-1\",,,,,\"T\"),\"\")","v":39.090000000000003},{"$f":"IFERROR(RTD(\"cqg.rtd\",,\"StudyData\",\"LoLevel(\"&A78&\",Period2:=\"&$B$1&\",AllowGaps:=0,InputChoice2:=Low,InputChoice4:=Low)\",\"Bar\",, \"Close\",$C$1,\"-1\",,,,,\"T\"),\"\")","v":30.06},0,0,4.006000000000002,3.0129999999999986,"S.US.CAG",{"$f":"RTD(\"cqg.rtd\", ,\"ContractData\",A78, \"PerCentNetLastTrade\",, \"T\")/100","v":-2.8074115665356543E-4},{"$f":"RANK($K78,$K$2:K$506)+COUNTIF($K$2:K78,K78)-1","v":{"$error":"#VALUE!"}},"S.US.CAG",77,"",{"$f":"RTD(\"cqg.rtd\", ,\"ContractData\",O78, \"PerCentNetLastTrade\",, \"T\")/100","v":{"$error":"#VALUE!"}},{"$error":"#N/A"},null,77,""]
[{"$f":"Symbols!A79","v":"S.US.CAH"},{"$f":"IFERROR(RTD(\"cqg.rtd\",,\"StudyData\",A79,\"Bar\",, \"High\",$C$1,\"0\",,,,,\"T\"),\"\")","v":63.67},{"$f":"IFERROR(RTD(\"cqg.rtd\",,\"StudyData\",A79,\"Bar\",, \"Low\",$C$1,\"0\",,,,,\"T\"),\"\")","v":62.55},{"$f":"IFERROR(RTD(\"cqg.rtd\",,\"StudyData\",\"HiLevel(\"&A79&\",Period1:=\"&$B$1&\",AllowGaps:=0,InputChoice1:=High,InputChoice3:=High)\",\"Bar\",, \"Close\",$C$1,\"-1\",,,,,\"T\"),\"\")","v":64.12},{"$f":"IFERROR(RTD(\"cqg.rtd\",,\"StudyData\",\"LoLevel(\"&A79&\",Period2:=\"&$B$1&\",AllowGaps:=0,InputChoice2:=Low,InputChoice4:=Low)\",\"Bar\",, \"Close\",$C$1,\"-1\",,,,,\"T\"),\"\")","v":45.85},0,0,4.0070000000000023,3.0139999999999985,"S.US.CAH",{"$f":"RTD(\"cqg.rtd\", ,\"ContractData\",A79, \"PerCentNetLastTrade\",, \"T\")/100","v":7.7827191867852604E-3},{"$f":"RANK($K79,$K$2:K$506)+COUNTIF($K$2:K79,K79)-1","v":{"$error":"#VALUE!"}},"S.US.CAH",78,"",{"$f":"RTD(\"cqg.rtd\", ,\"ContractData\",O79, \"PerCentNetLastTrade\",, \"T\")/100","v":{"$error":"#VALUE!"}},{"$error":"#N/A"},null,78,""]
[{"$f":"Symbols!A80","v":"S.US.CARR"},{"$f":"IFERROR(RTD(\"cqg.rtd\",,\"StudyData\",A80,\"Bar\",, \"High\",$C$1,\"0\",,,,,\"T\"),\"\")","v":41.75},{"$f":"IFERROR(RTD(\"cqg.rtd\",,\"StudyData\",A80,\"Bar\",, \"Low\",$C$1,\"0\",,,,,\"T\"),\"\")","v":41.13},{"$f":"IFERROR(RTD(\"cqg.rtd\",,\"StudyData\",\"HiLevel(\"&A80&\",Period1:=\"&$B$1&\",AllowGaps:=0,InputChoice1:=High,InputChoice3:=High)\",\"Bar\",, \"Close\",$C$1,\"-1\",,,,,\"T\"),\"\")","v":58.89},{"$f":"IFERROR(RTD(\"cqg.rtd\",,\"StudyData\",\"LoLevel(\"&A80&\",Period2:=\"&$B$1&\",AllowGaps:=0,InputChoice2:=Low,InputChoice4:=Low)\",\"Bar\",, \"Close\",$C$1,\"-1\",,,,,\"T\"),\"\")","v":41.27},0,1,4.0080000000000027,4,"S.US.CARR",{"$f":"RTD(\"cqg.rtd\", ,\"ContractData\",A80, \"PerCentNetLastTrade\",, \"T\")/100","v":6.7829457364341084E-3},{"$f":"RANK($K80,$K$2:K$506)+COUNTIF($K$2:K80,K80)-1","v":{"$error":"#VALUE!"}},"S.US.CARR",79,"",{"$f":"RTD(\"cqg.rtd\", ,\"ContractData\",O80, \"PerCentNetLastTrade\",, \"T\")/100","v":{"$error":"#VALUE!"}},{"$error":"#N/A"},null,79,""]
[{"$f":"Symbols!A81","v":"S.US.CAT"},{"$f":"IFERROR(RTD(\"cqg.rtd\",,\"StudyData\",A81,\"Bar\",, \"High\",$C$1,\"0\",,,,,\"T\"),\"\")","v":233.26},{"$f":"IFERROR(RTD(\"cqg.rtd\",,\"StudyData\",A81,\"Bar\",, \"Low\",$C$1,\"0\",,,,,\"T\"),\"\")","v":228},{"$f":"IFERROR(RTD(\"cqg.rtd\",,\"StudyData\",\"HiLevel(\"&A81&\",Period1:=\"&$B$1&\",AllowGaps:=0,InputChoice1:=High,InputChoice3:=High)\",\"Bar\",, \"Close\",$C$1,\"-1\",,,,,\"T\"),\"\")","v":246.69},{"$f":"IFERROR(RTD(\"cqg.rtd\",,\"StudyData\",\"LoLevel(\"&A81&\",Period2:=\"&$B$1&\",AllowGaps:=0,InputChoice2:=Low,InputChoice4:=Low)\",\"Bar\",, \"Close\",$C$1,\"-1\",,,,,\"T\"),\"\")","v":179.67},0,0,4.009000000000003,4.0010000000000003,"S.US.CAT",{"$f":"RTD(\"cqg.rtd\", ,\"ContractData\",A81, \"PerCentNetLastTrade\",, \"T\")/100","v":2.2299284491462183E-2},{"$f":"RANK($K81,$K$2:K$506)+COUNTIF($K$2:K81,K81)-1","v":{"$error":"#VALUE!"}},"S.US.CAT",80,"",{"$f":"RTD(\"cqg.rtd\", ,\"ContractData\",O81, \"PerCentNetLastTrade\",, \"T\")/100","v":{"$error":"#VALUE!"}},{"$error":"#N/A"},null,80,""]
[{"$f":"Symbols!A82","v":"S.US.CB"},{"$f":"IFERROR(RTD(\"cqg.rtd\",,\"StudyData\",A82,\"Bar\",, \"High\",$C$1,\"0\",,,,,\"T\"),\"\")","v":212.16},{"$f":"IFERROR(RTD(\"cqg.rtd\",,\"StudyData\",A82,\"Bar\",, \"Low\",$C$1,\"0\",,,,,\"T\"),\"\")","v":209.42},{"$f":"IFERROR(RTD(\"cqg.rtd\",,\"StudyData\",\"HiLevel(\"&A82&\",Period1:=\"&$B$1&\",AllowGaps:=0,InputChoice1:=High,InputChoice3:=High)\",\"Bar\",, \"Close\",$C$1,\"-1\",,,,,\"T\"),\"\")","v":218.98},{"$f":"IFERROR(RTD(\"cqg.rtd\",,\"StudyData\",\"LoLevel(\"&A82&\",Period2:=\"&$B$1&\",AllowGaps:=0,InputChoice2:=Low,InputChoice4:=Low)\",\"Bar\",, \"Close\",$C$1,\"-1\",,,,,\"T\"),\"\")","v":155.78},0,0,4.0100000000000033,4.0020000000000007,"S.US.CB",{"$f":"RTD(\"cqg.rtd\", ,\"ContractData\",A82, \"PerCentNetLastTrade\",, \"T\")/100","v":6.8877066311989355E-3},{"$f":"RANK($K82,$K$2:K$506)+COUNTIF($K$2:K82,K82)-1","v":{"$error":"#VALUE!"}},"S.US.CB",81,"",{"$f":"RTD(\"cqg.rtd\", ,\"ContractData\",O82, \"PerCentNetLastTrade\",, \"T\")/100","v":{"$error":"#VALUE!"}},{"$error":"#N/A"},null,81,""]
[{"$f":"Symbols!A83","v":"S.US.CBOE"},{"$f":"IFERROR(RTD(\"cqg.rtd\",,\"StudyData\",A83,\"Bar\",, \"High\",$C$1,\"0\",,,,,\"T\"),\"\")","v":119.93},{"$f":"IFERROR(RTD(\"cqg.rtd\",,\"StudyData\",A83,\"Bar\",, \"Low\",$C$1,\"0\",,,,,\"T\"),\"\")","v":117.8},{"$f":"IFERROR(RTD(\"cqg.rtd\",,\"StudyData\",\"HiLevel(\"&A83&\",Period1:=\"&$B$1&\",AllowGaps:=0,InputChoice1:=High,InputChoice3:=High)\",\"Bar\",, \"Close\",$C$1,\"-1\",,,,,\"T\"),\"\")","v":138.99},{"$f":"IFERROR(RTD(\"cqg.rtd\",,\"StudyData\",\"LoLevel(\"&A83&\",Period2:=\"&$B$1&\",AllowGaps:=0,InputChoice2:=Low,InputChoice4:=Low)\",\"Bar\",, \"Close\",$C$1,\"-1\",,,,,\"T\"),\"\")","v":100.53},0,0,4.0110000000000037,4.003000000000001,"S.US.CBOE",{"$f":"RTD(\"cqg.rtd\", ,\"ContractData\",A83, \"PerCentNetLastTrade\",, \"T\")/100","v":1.2358305633682776E-2},{"$f":"RANK($K83,$K$2:K$506)+COUNTIF($K$2:K83,K83)-1","v":{"$error":"#VALUE!"}},"S.US.CBOE",82,"",{"$f":"RTD(\"cqg.rtd\", ,\"ContractData\",O83, \"PerCentNetLastTrade\",, \"T\")/100","v":{"$error":"#VALUE!"}},{"$error":"#N/A"},null,82,""]
[{"$f":"Symbols!A84","v":"S.US.CBRE"},{"$f":"IFERROR(RTD(\"cqg.rtd\",,\"StudyData\",A84,\"Bar\",, \"High\",$C$1,\"0\",,,,,\"T\"),\"\")","v":86.37},{"$f":"IFERROR(RTD(\"cqg.rtd\",,\"StudyData\",A84,\"Bar\",, \"Low\",$C$1,\"0\",,,,,\"T\"),\"\")","v":85.42},{"$f":"IFERROR(RTD(\"cqg.rtd\",,\"StudyData\",\"HiLevel(\"&A84&\",Period1:=\"&$B$1&\",AllowGaps:=0,InputChoice1:=High,InputChoice3:=High)\",\"Bar\",, \"Close\",$C$1,\"-1\",,,,,\"T\"),\"\")","v":111},{"$f":"IFERROR(RTD(\"cqg.rtd\",,\"StudyData\",\"LoLevel(\"&A84&\",Period2:=\"&$B$1&\",AllowGaps:=0,InputChoice2:=Low,InputChoice4:=Low)\",\"Bar\",, \"Close\",$C$1,\"-1\",,,,,\"T\"),\"\")","v":79.84},0,0,4.012000000000004,4.0040000000000013,"S.US.CBRE",{"$f":"RTD(\"cqg.rtd\", ,\"ContractData\",A84, \"PerCentNetLastTrade\",, \"T\")/100","v":1.8700327255726976E-3},{"$f":"RANK($K84,$K$2:K$506)+COUNTIF($K$2:K84,K84)-1","v":{"$error":"#VALUE!"}},"S.US.CBRE",83,"",{"$f":"RTD(\"cqg.rtd\", ,\"ContractData\",O84, \"PerCentNetLastTrade\",, \"T\")/100","v":{"$error":"#VALUE!"}},{"$error":"#N/A"},null,83,""]
[{"$f":"Symbols!A85","v":"S.US.CCI"},{"$f":"IFERROR(RTD(\"cqg.rtd\",,\"StudyData\",A85,\"Bar\",, \"High\",$C$1,\"0\",,,,,\"T\"),\"\")","v":193.03},{"$f":"IFERROR(RTD(\"cqg.rtd\",,\"StudyData\",A85,\"Bar\",, \"Low\",$C$1,\"0\",,,,,\"T\"),\"\")","v":192.15},{"$f":"IFERROR(RTD(\"cqg.rtd\",,\"StudyData\",\"HiLevel(\"&A85&\",Period1:=\"&$B$1&\",AllowGaps:=0,InputChoice1:=High,InputChoice3:=High)\",\"Bar\",, \"Close\",$C$1,\"-1\",,,,,\"T\"),\"\")","v":209.86},{"$f":"IFERROR(RTD(\"cqg.rtd\",,\"StudyData\",\"LoLevel(\"&A85&\",Period2:=\"&$B$1&\",AllowGaps:=0,InputChoice2:=Low,InputChoice4:=Low)\",\"Bar\",, \"Close\",$C$1,\"-1\",,,,,\"T\"),\"\")","v":157.16},0,0,4.0130000000000043,4.0050000000000017,"S.US.CCI",{"$f":"RTD(\"cqg.rtd\", ,\"ContractData\",A85, \"PerCentNetLastTrade\",, \"T\")/100","v":-2.4911770811708533E-3},{"$f":"RANK($K85,$K$2:K$506)+COUNTIF($K$2:K85,K85)-1","v":{"$error":"#VALUE!"}},"S.US.CCI",84,"",{"$f":"RTD(\"cqg.rtd\", ,\"ContractData\",O85, \"PerCentNetLastTrade\",, \"T\")/100","v":{"$error":"#VALUE!"}},{"$error":"#N/A"},null,84,""]
[{"$f":"Symbols!A86","v":"S.US.CCL"},{"$f":"IFERROR(RTD(\"cqg.rtd\",,\"StudyData\",A86,\"Bar\",, \"High\",$C$1,\"0\",,,,,\"T\"),\"\")","v":19.440000000000001},{"$f":"IFERROR(RTD(\"cqg.rtd\",,\"StudyData\",A86,\"Bar\",, \"Low\",$C$1,\"0\",,,,,\"T\"),\"\")","v":19.13},{"$f":"IFERROR(RTD(\"cqg.rtd\",,\"StudyData\",\"HiLevel(\"&A86&\",Period1:=\"&$B$1&\",AllowGaps:=0,InputChoice1:=High,InputChoice3:=High)\",\"Bar\",, \"Close\",$C$1,\"-1\",,,,,\"T\"),\"\")","v":31.52},{"$f":"IFERROR(RTD(\"cqg.rtd\",,\"StudyData\",\"LoLevel(\"&A86&\",Period2:=\"&$B$1&\",AllowGaps:=0,InputChoice2:=Low,InputChoice4:=Low)\",\"Bar\",, \"Close\",$C$1,\"-1\",,,,,\"T\"),\"\")","v":14.94},0,0,4.0140000000000047,4.006000000000002,"S.US.CCL",{"$f":"RTD(\"cqg.rtd\", ,\"ContractData\",A86, \"PerCentNetLastTrade\",, \"T\")/100","v":-1.1247443762781187E-2},{"$f":"RANK($K86,$K$2:K$506)+COUNTIF($K$2:K86,K86)-1","v":{"$error":"#VALUE!"}},"S.US.CCL",85,"",{"$f":"RTD(\"cqg.rtd\", ,\"ContractData\",O86, \"PerCentNetLastTrade\",, \"T\")/100","v":{"$error":"#VALUE!"}},{"$error":"#N/A"},null,85,""]
[{"$f":"Symbols!A87","v":"S.US.CDAY"},{"$f":"IFERROR(RTD(\"cqg.rtd\",,\"StudyData\",A87,\"Bar\",, \"High\",$C$1,\"0\",,,,,\"T\"),\"\")","v":60.35},{"$f":"IFERROR(RTD(\"cqg.rtd\",,\"StudyData\",A87,\"Bar\",, \"Low\",$C$1,\"0\",,,,,\"T\"),\"\")","v":59.22},{"$f":"IFERROR(RTD(\"cqg.rtd\",,\"StudyData\",\"HiLevel(\"&A87&\",Period1:=\"&$B$1&\",AllowGaps:=0,InputChoice1:=High,InputChoice3:=High)\",\"Bar\",, \"Close\",$C$1,\"-1\",,,,,\"T\"),\"\")","v":130.37},{"$f":"IFERROR(RTD(\"cqg.rtd\",,\"StudyData\",\"LoLevel(\"&A87&\",Period2:=\"&$B$1&\",AllowGaps:=0,InputChoice2:=Low,InputChoice4:=Low)\",\"Bar\",, \"Close\",$C$1,\"-1\",,,,,\"T\"),\"\")","v":58.58},0,0,4.015000000000005,4.0070000000000023,"S.US.CDAY",{"$f":"RTD(\"cqg.rtd\", ,\"ContractData\",A87, \"PerCentNetLastTrade\",, \"T\")/100","v":-2.0946726043212932E-2},{"$f":"RANK($K87,$K$2:K$506)+COUNTIF($K$2:K87,K87)-1","v":{"$error":"#VALUE!"}},"S.US.CDAY",86,"",{"$f":"RTD(\"cqg.rtd\", ,\"ContractData\",O87, \"PerCentNetLastTrade\",, \"T\")/100","v":{"$error":"#VALUE!"}},{"$error":"#N/A"},null,86,""]
[{"$f":"Symbols!A88","v":"S.US.CDNS"},{"$f":"IFERROR(RTD(\"cqg.rtd\",,\"StudyData\",A88,\"Bar\",, \"High\",$C$1,\"0\",,,,,\"T\"),\"\")","v":150.52000000000001},{"$f":"IFERROR(RTD(\"cqg.rtd\",,\"StudyData\",A88,\"Bar\",, \"Low\",$C$1,\"0\",,,,,\"T\"),\"\")","v":148.51},{"$f":"IFERROR(RTD(\"cqg.rtd\",,\"StudyData\",\"HiLevel(\"&A88&\",Period1:=\"&$B$1&\",AllowGaps:=0,InputChoice1:=High,InputChoice3:=High)\",\"Bar\",, \"Close\",$C$1,\"-1\",,,,,\"T\"),\"\")","v":192.7},{"$f":"IFERROR(RTD(\"cqg.rtd\",,\"StudyData\",\"LoLevel(\"&A88&\",Period2:=\"&$B$1&\",AllowGaps:=0,InputChoice2:=Low,InputChoice4:=Low)\",\"Bar\",, \"Close\",$C$1,\"-1\",,,,,\"T\"),\"\")","v":118.11},0,0,4.0160000000000053,4.0080000000000027,"S.US.CDNS",{"$f":"RTD(\"cqg.rtd\", ,\"ContractData\",A88, \"PerCentNetLastTrade\",, \"T\")/100","v":-5.6742323097463288E-3},{"$f":"RANK($K88,$K$2:K$506)+COUNTIF($K$2:K88,K88)-1","v":{"$error":"#VALUE!"}},"S.US.CDNS",87,"",{"$f":"RTD(\"cqg.rtd\", ,\"ContractData\",O88, \"PerCentNetLastTrade\",, \"T\")/100","v":{"$error":"#VALUE!"}},{"$error":"#N/A"},null,87,""]
[{"$f":"Symbols!A89","v":"S.US.CDW"},{"$f":"IFERROR(RTD(\"cqg.rtd\",,\"StudyData\",A89,\"Bar\",, \"High\",$C$1,\"0\",,,,,\"T\"),\"\")","v":174.75},{"$f":"IFERROR(RTD(\"cqg.rtd\",,\"StudyData\",A89,\"Bar\",, \"Low\",$C$1,\"0\",,,,,\"T\"),\"\")","v":172.66},{"$f":"IFERROR(RTD(\"cqg.rtd\",,\"StudyData\",\"HiLevel(\"&A89&\",Period1:=\"&$B$1&\",AllowGaps:=0,InputChoice1:=High,InputChoice3:=High)\",\"Bar\",, \"Close\",$C$1,\"-1\",,,,,\"T\"),\"\")","v":208.7},{"$f":"IFERROR(RTD(\"cqg.rtd\",,\"StudyData\",\"LoLevel(\"&A89&\",Period2:=\"&$B$1&\",AllowGaps:=0,InputChoice2:=Low,InputChoice4:=Low)\",\"Bar\",, \"Close\",$C$1,\"-1\",,,,,\"T\"),\"\")","v":162.47},0,0,4.0170000000000057,4.009000000000003,"S.US.CDW",{"$f":"RTD(\"cqg.rtd\", ,\"ContractData\",A89, \"PerCentNetLastTrade\",, \"T\")/100","v":5.2032144302480198E-3},{"$f":"RANK($K89,$K$2:K$506)+COUNTIF($K$2:K89,K89)-1","v":{"$error":"#VALUE!"}},"S.US.CDW",88,"",{"$f":"RTD(\"cqg.rtd\", ,\"ContractData\",O89, \"PerCentNetLastTrade\",, \"T\")/100","v":{"$error":"#VALUE!"}},{"$error":"#N/A"},null,88,""]
[{"$f":"Symbols!A90","v":"S.US.CE"},{"$f":"IFERROR(RTD(\"cqg.rtd\",,\"StudyData\",A90,\"Bar\",, \"High\",$C$1,\"0\",,,,,\"T\"),\"\")","v":146.59},{"$f":"IFERROR(RTD(\"cqg.rtd\",,\"StudyData\",A90,\"Bar\",, \"Low\",$C$1,\"0\",,,,,\"T\"),\"\")","v":145.25},{"$f":"IFERROR(RTD(\"cqg.rtd\",,\"StudyData\",\"HiLevel(\"&A90&\",Period1:=\"&$B$1&\",AllowGaps:=0,InputChoice1:=High,InputChoice3:=High)\",\"Bar\",, \"Close\",$C$1,\"-1\",,,,,\"T\"),\"\")","v":176.5},{"$f":"IFERROR(RTD(\"cqg.rtd\",,\"StudyData\",\"LoLevel(\"&A90&\",Period2:=\"&$B$1&\",AllowGaps:=0,InputChoice2:=Low,InputChoice4:=Low)\",\"Bar\",, \"Close\",$C$1,\"-1\",,,,,\"T\"),\"\")","v":132.26},0,0,4.018000000000006,4.0100000000000033,"S.US.CE",{"$f":"RTD(\"cqg.rtd\", ,\"ContractData\",A90, \"PerCentNetLastTrade\",, \"T\")/100","v":5.1663566852655505E-3},{"$f":"RANK($K90,$K$2:K$506)+COUNTIF($K$2:K90,K90)-1","v":{"$error":"#VALUE!"}},"S.US.CE",89,"",{"$f":"RTD(\"cqg.rtd\", ,\"ContractData\",O90, \"PerCentNetLastTrade\",, \"T\")/100","v":{"$error":"#VALUE!"}},{"$error":"#N/A"},null,89,""]
[{"$f":"Symbols!A91","v":"S.US.CEG"},{"$f":"IFERROR(RTD(\"cqg.rtd\",,\"StudyData\",A91,\"Bar\",, \"High\",$C$1,\"0\",,,,,\"T\"),\"\")","v":63.71},{"$f":"IFERROR(RTD(\"cqg.rtd\",,\"StudyData\",A91,\"Bar\",, \"Low\",$C$1,\"0\",,,,,\"T\"),\"\")","v":62.29},{"$f":"IFERROR(RTD(\"cqg.rtd\",,\"StudyData\",\"HiLevel(\"&A91&\",Period1:=\"&$B$1&\",AllowGaps:=0,InputChoice1:=High,InputChoice3:=High)\",\"Bar\",, \"Close\",$C$1,\"-1\",,,,,\"T\"),\"\")","v":""},{"$f":"IFERROR(RTD(\"cqg.rtd\",,\"StudyData\",\"LoLevel(\"&A91&\",Period2:=\"&$B$1&\",AllowGaps:=0,InputChoice2:=Low,InputChoice4:=Low)\",\"Bar\",, \"Close\",$C$1,\"-1\",,,,,\"T\"),\"\")","v":""},0,1,4.0190000000000063,5,"S.US.CEG",{"$f":"RTD(\"cqg.rtd\", ,\"ContractData\",A91, \"PerCentNetLastTrade\",, \"T\")/100","v":1.4388489208633093E-2},{"$f":"RANK($K91,$K$2:K$506)+COUNTIF($K$2:K91,K91)-1","v":{"$error":"#VALUE!"}},"S.US.CEG",90,"",{"$f":"RTD(\"cqg.rtd\", ,\"ContractData\",O91, \"PerCentNetLastTrade\",, \"T\")/100","v":{"$error":"#VALUE!"}},{"$error":"#N/A"},null,90,""]
[{"$f":"Symbols!A92","v":"S.US.CERN"},{"$f":"IFERROR(RTD(\"cqg.rtd\",,\"StudyData\",A92,\"Bar\",, \"High\",$C$1,\"0\",,,,,\"T\"),\"\")","v":93.36},{"$f":"IFERROR(RTD(\"cqg.rtd\",,\"StudyData\",A92,\"Bar\",, \"Low\",$C$1,\"0\",,,,,\"T\"),\"\")","v":93.21},{"$f":"IFERROR(RTD(\"cqg.rtd\",,\"StudyData\",\"HiLevel(\"&A92&\",Period1:=\"&$B$1&\",AllowGaps:=0,InputChoice1:=High,InputChoice3:=High)\",\"Bar\",, \"Close\",$C$1,\"-1\",,,,,\"T\"),\"\")","v":93.87},{"$f":"IFERROR(RTD(\"cqg.rtd\",,\"StudyData\",\"LoLevel(\"&A92&\",Period2:=\"&$B$1&\",AllowGaps:=0,InputChoice2:=Low,InputChoice4:=Low)\",\"Bar\",, \"Close\",$C$1,\"-1\",,,,,\"T\"),\"\")","v":69.08},0,0,4.0200000000000067,5.0010000000000003,"S.US.CERN",{"$f":"RTD(\"cqg.rtd\", ,\"ContractData\",A92, \"PerCentNetLastTrade\",, \"T\")/100","v":-6.4308681672025714E-4},{"$f":"RANK($K92,$K$2:K$506)+COUNTIF($K$2:K92,K92)-1","v":{"$error":"#VALUE!"}},"S.US.CERN",91,"",{"$f":"RTD(\"cqg.rtd\", ,\"ContractData\",O92, \"PerCentNetLastTrade\",, \"T\")/100","v":{"$error":"#VALUE!"}},{"$error":"#N/A"},null,91,""]
[{"$f":"Symbols!A93","v":"S.US.CF"},{"$f":"IFERROR(RTD(\"cqg.rtd\",,\"StudyData\",A93,\"Bar\",, \"High\",$C$1,\"0\",,,,,\"T\"),\"\")","v":109.45},{"$f":"IFERROR(RTD(\"cqg.rtd\",,\"StudyData\",A93,\"Bar\",, \"Low\",$C$1,\"0\",,,,,\"T\"),\"\")","v":106.66},{"$f":"IFERROR(RTD(\"cqg.rtd\",,\"StudyData\",\"HiLevel(\"&A93&\",Period1:=\"&$B$1&\",AllowGaps:=0,InputChoice1:=High,InputChoice3:=High)\",\"Bar\",, \"Close\",$C$1,\"-1\",,,,,\"T\"),\"\")","v":113.48},{"$f":"IFERROR(RTD(\"cqg.rtd\",,\"StudyData\",\"LoLevel(\"&A93&\",Period2:=\"&$B$1&\",AllowGaps:=0,InputChoice2:=Low,InputChoice4:=Low)\",\"Bar\",, \"Close\",$C$1,\"-1\",,,,,\"T\"),\"\")","v":43.18},0,0,4.021000000000007,5.0020000000000007,"S.US.CF",{"$f":"RTD(\"cqg.rtd\", ,\"ContractData\",A93, \"PerCentNetLastTrade\",, \"T\")/100","v":8.2095747624757864E-3},{"$f":"RANK($K93,$K$2:K$506)+COUNTIF($K$2:K93,K93)-1","v":{"$error":"#VALUE!"}},"S.US.CF",92,"",{"$f":"RTD(\"cqg.rtd\", ,\"ContractData\",O93, \"PerCentNetLastTrade\",, \"T\")/100","v":{"$error":"#VALUE!"}},{"$error":"#N/A"},null,92,""]
[{"$f":"Symbols!A94","v":"S.US.CFG"},{"$f":"IFERROR(RTD(\"cqg.rtd\",,\"StudyData\",A94,\"Bar\",, \"High\",$C$1,\"0\",,,,,\"T\"),\"\")","v":41.19},{"$f":"IFERROR(RTD(\"cqg.rtd\",,\"StudyData\",A94,\"Bar\",, \"Low\",$C$1,\"0\",,,,,\"T\"),\"\")","v":40.6},{"$f":"IFERROR(RTD(\"cqg.rtd\",,\"StudyData\",\"HiLevel(\"&A94&\",Period1:=\"&$B$1&\",AllowGaps:=0,InputChoice1:=High,InputChoice3:=High)\",\"Bar\",, \"Close\",$C$1,\"-1\",,,,,\"T\"),\"\")","v":57},{"$f":"IFERROR(RTD(\"cqg.rtd\",,\"StudyData\",\"LoLevel(\"&A94&\",Period2:=\"&$B$1&\",AllowGaps:=0,InputChoice2:=Low,InputChoice4:=Low)\",\"Bar\",, \"Close\",$C$1,\"-1\",,,,,\"T\"),\"\")","v":39.549999999999997},0,0,4.0220000000000073,5.003000000000001,"S.US.CFG",{"$f":"RTD(\"cqg.rtd\", ,\"ContractData\",A94, \"PerCentNetLastTrade\",, \"T\")/100","v":4.4042084658673843E-3},{"$f":"RANK($K94,$K$2:K$506)+COUNTIF($K$2:K94,K94)-1","v":{"$error":"#VALUE!"}},"S.US.CFG",93,"",{"$f":"RTD(\"cqg.rtd\", ,\"ContractData\",O94, \"PerCentNetLastTrade\",, \"T\")/100","v":{"$error":"#VALUE!"}},{"$error":"#N/A"},null,93,""]
[{"$f":"Symbols!A95","v":"S.US.CHD"},{"$f":"IFERROR(RTD(\"cqg.rtd\",,\"StudyData\",A95,\"Bar\",, \"High\",$C$1,\"0\",,,,,\"T\"),\"\")","v":102.73},{"$f":"IFERROR(RTD(\"cqg.rtd\",,\"StudyData\",A95,\"Bar\",, \"Low\",$C$1,\"0\",,,,,\"T\"),\"\")","v":102.06},{"$f":"IFERROR(RTD(\"cqg.rtd\",,\"StudyData\",\"HiLevel(\"&A95&\",Period1:=\"&$B$1&\",AllowGaps:=0,InputChoice1:=High,InputChoice3:=High)\",\"Bar\",, \"Close\",$C$1,\"-1\",,,,,\"T\"),\"\")","v":105.15},{"$f":"IFERROR(RTD(\"cqg.rtd\",,\"StudyData\",\"LoLevel(\"&A95&\",Period2:=\"&$B$1&\",AllowGaps:=0,InputChoice2:=Low,InputChoice4:=Low)\",\"Bar\",, \"Close\",$C$1,\"-1\",,,,,\"T\"),\"\")","v":80.760000000000005},0,0,4.0230000000000077,5.0040000000000013,"S.US.CHD",{"$f":"RTD(\"cqg.rtd\", ,\"ContractData\",A95, \"PerCentNetLastTrade\",, \"T\")/100","v":9.7418412079883096E-5},{"$f":"RANK($K95,$K$2:K$506)+COUNTIF($K$2:K95,K95)-1","v":{"$error":"#VALUE!"}},"S.US.CHD",94,"",{"$f":"RTD(\"cqg.rtd\", ,\"ContractData\",O95, \"PerCentNetLastTrade\",, \"T\")/100","v":{"$error":"#VALUE!"}},{"$error":"#N/A"},null,94,""]
[{"$f":"Symbols!A96","v":"S.US.CHRW"},{"$f":"IFERROR(RTD(\"cqg.rtd\",,\"StudyData\",A96,\"Bar\",, \"High\",$C$1,\"0\",,,,,\"T\"),\"\")","v":103.94},{"$f":"IFERROR(RTD(\"cqg.rtd\",,\"StudyData\",A96,\"Bar\",, \"Low\",$C$1,\"0\",,,,,\"T\"),\"\")","v":102.52},{"$f":"IFERROR(RTD(\"cqg.rtd\",,\"StudyData\",\"HiLevel(\"&A96&\",Period1:=\"&$B$1&\",AllowGaps:=0,InputChoice1:=High,InputChoice3:=High)\",\"Bar\",, \"Close\",$C$1,\"-1\",,,,,\"T\"),\"\")","v":112.15},{"$f":"IFERROR(RTD(\"cqg.rtd\",,\"StudyData\",\"LoLevel(\"&A96&\",Period2:=\"&$B$1&\",AllowGaps:=0,InputChoice2:=Low,InputChoice4:=Low)\",\"Bar\",, \"Close\",$C$1,\"-1\",,,,,\"T\"),\"\")","v":84.67},0,0,4.024000000000008,5.0050000000000017,"S.US.CHRW",{"$f":"RTD(\"cqg.rtd\", ,\"ContractData\",A96, \"PerCentNetLastTrade\",, \"T\")/100","v":-6.7776917118512782E-3},{"$f":"RANK($K96,$K$2:K$506)+COUNTIF($K$2:K96,K96)-1","v":{"$error":"#VALUE!"}},"S.US.CHRW",95,"",{"$f":"RTD(\"cqg.rtd\", ,\"ContractData\",O96, \"PerCentNetLastTrade\",, \"T\")/100","v":{"$error":"#VALUE!"}},{"$error":"#N/A"},null,95,""]
[{"$f":"Symbols!A97","v":"S.US.CHTR"},{"$f":"IFERROR(RTD(\"cqg.rtd\",,\"StudyData\",A97,\"Bar\",, \"High\",$C$1,\"0\",,,,,\"T\"),\"\")","v":556.91999999999996},{"$f":"IFERROR(RTD(\"cqg.rtd\",,\"StudyData\",A97,\"Bar\",, \"Low\",$C$1,\"0\",,,,,\"T\"),\"\")","v":552.28},{"$f":"IFERROR(RTD(\"cqg.rtd\",,\"StudyData\",\"HiLevel(\"&A97&\",Period1:=\"&$B$1&\",AllowGaps:=0,InputChoice1:=High,InputChoice3:=High)\",\"Bar\",, \"Close\",$C$1,\"-1\",,,,,\"T\"),\"\")","v":825.62},{"$f":"IFERROR(RTD(\"cqg.rtd\",,\"StudyData\",\"LoLevel(\"&A97&\",Period2:=\"&$B$1&\",AllowGaps:=0,InputChoice2:=Low,InputChoice4:=Low)\",\"Bar\",, \"Close\",$C$1,\"-1\",,,,,\"T\"),\"\")","v":542.82000000000005},0,0,4.0250000000000083,5.006000000000002,"S.US.CHTR",{"$f":"RTD(\"cqg.rtd\", ,\"ContractData\",A97, \"PerCentNetLastTrade\",, \"T\")/100","v":-3.727580494129511E-3},{"$f":"RANK($K97,$K$2:K$506)+COUNTIF($K$2:K97,K97)-1","v":{"$error":"#VALUE!"}},"S.US.CHTR",96,"",{"$f":"RTD(\"cqg.rtd\", ,\"ContractData\",O97, \"PerCentNetLastTrade\",, \"T\")/100","v":{"$error":"#VALUE!"}},{"$error":"#N/A"},null,96,""]
[{"$f":"Symbols!A98","v":"S.US.CI"},{"$f":"IFERROR(RTD(\"cqg.rtd\",,\"StudyData\",A98,\"Bar\",, \"High\",$C$1,\"0\",,,,,\"T\"),\"\")","v":261.52999999999997},{"$f":"IFERROR(RTD(\"cqg.rtd\",,\"StudyData\",A98,\"Bar\",, \"Low\",$C$1,\"0\",,,,,\"T\"),\"\")","v":257.92},{"$f":"IFERROR(RTD(\"cqg.rtd\",,\"StudyData\",\"HiLevel(\"&A98&\",Period1:=\"&$B$1&\",AllowGaps:=0,InputChoice1:=High,InputChoice3:=High)\",\"Bar\",, \"Close\",$C$1,\"-1\",,,,,\"T\"),\"\")","v":272.81},{"$f":"IFERROR(RTD(\"cqg.rtd\",,\"StudyData\",\"LoLevel(\"&A98&\",Period2:=\"&$B$1&\",AllowGaps:=0,InputChoice2:=Low,InputChoice4:=Low)\",\"Bar\",, \"Close\",$C$1,\"-1\",,,,,\"T\"),\"\")","v":191.74},0,0,4.0260000000000087,5.0070000000000023,"S.US.CI",{"$f":"RTD(\"cqg.rtd\", ,\"ContractData\",A98, \"PerCentNetLastTrade\",, \"T\")/100","v":7.1756490876123602E-3},{"$f":"RANK($K98,$K$2:K$506)+COUNTIF($K$2:K98,K98)-1","v":{"$error":"#VALUE!"}},"S.US.CI",97,"",{"$f":"RTD(\"cqg.rtd\", ,\"ContractData\",O98, \"PerCentNetLastTrade\",, \"T\")/100","v":{"$error":"#VALUE!"}},{"$error":"#N/A"},null,97,""]
[{"$f":"Symbols!A99","v":"S.US.CINF"},{"$f":"IFERROR(RTD(\"cqg.rtd\",,\"StudyData\",A99,\"Bar\",, \"High\",$C$1,\"0\",,,,,\"T\"),\"\")","v":138.74},{"$f":"IFERROR(RTD(\"cqg.rtd\",,\"StudyData\",A99,\"Bar\",, \"Low\",$C$1,\"0\",,,,,\"T\"),\"\")","v":137.33000000000001},{"$f":"IFERROR(RTD(\"cqg.rtd\",,\"StudyData\",\"HiLevel(\"&A99&\",Period1:=\"&$B$1&\",AllowGaps:=0,InputChoice1:=High,InputChoice3:=High)\",\"Bar\",, \"Close\",$C$1,\"-1\",,,,,\"T\"),\"\")","v":139.81},{"$f":"IFERROR(RTD(\"cqg.rtd\",,\"StudyData\",\"LoLevel(\"&A99&\",Period2:=\"&$B$1&\",AllowGaps:=0,InputChoice2:=Low,InputChoice4:=Low)\",\"Bar\",, \"Close\",$C$1,\"-1\",,,,,\"T\"),\"\")","v":105.64},0,0,4.027000000000009,5.0080000000000027,"S.US.CINF",{"$f":"RTD(\"cqg.rtd\", ,\"ContractData\",A99, \"PerCentNetLastTrade\",, \"T\")/100","v":2.6051089080251829E-3},{"$f":"RANK($K99,$K$2:K$506)+COUNTIF($K$2:K99,K99)-1","v":{"$error":"#VALUE!"}},"S.US.CINF",98,"",{"$f":"RTD(\"cqg.rtd\", ,\"ContractData\",O99, \"PerCentNetLastTrade\",, \"T\")/100","v":{"$error":"#VALUE!"}},{"$error":"#N/A"},null,98,""]
[{"$f":"Symbols!A100","v":"S.US.CL"},{"$f":"IFERROR(RTD(\"cqg.rtd\",,\"StudyData\",A100,\"Bar\",, \"High\",$C$1,\"0\",,,,,\"T\"),\"\")","v":81.180000000000007},{"$f":"IFERROR(RTD(\"cqg.rtd\",,\"StudyData\",A100,\"Bar\",, \"Low\",$C$1,\"0\",,,,,\"T\"),\"\")","v":80.86},{"$f":"IFERROR(RTD(\"cqg.rtd\",,\"StudyData\",\"HiLevel(\"&A100&\",Period1:=\"&$B$1&\",AllowGaps:=0,InputChoice1:=High,InputChoice3:=High)\",\"Bar\",, \"Close\",$C$1,\"-1\",,,,,\"T\"),\"\")","v":85.61},{"$f":"IFERROR(RTD(\"cqg.rtd\",,\"StudyData\",\"LoLevel(\"&A100&\",Period2:=\"&$B$1&\",AllowGaps:=0,InputChoice2:=Low,InputChoice4:=Low)\",\"Bar\",, \"Close\",$C$1,\"-1\",,,,,\"T\"),\"\")","v":72.2},0,0,4.0280000000000094,5.009000000000003,"S.US.CL",{"$f":"RTD(\"cqg.rtd\", ,\"ContractData\",A100, \"PerCentNetLastTrade\",, \"T\")/100","v":9.8838645910551029E-4},{"$f":"RANK($K100,$K$2:K$506)+COUNTIF($K$2:K100,K100)-1","v":{"$error":"#VALUE!"}},"S.US.CL",99,"",{"$f":"RTD(\"cqg.rtd\", ,\"ContractData\",O100, \"PerCentNetLastTrade\",, \"T\")/100","v":{"$error":"#VALUE!"}},{"$error":"#N/A"},null,99,""]
[{"$f":"Symbols!A101","v":"S.US.CLX"},{"$f":"IFERROR(RTD(\"cqg.rtd\",,\"StudyData\",A101,\"Bar\",, \"High\",$C$1,\"0\",,,,,\"T\"),\"\")","v":146.05000000000001},{"$f":"IFERROR(RTD(\"cqg.rtd\",,\"StudyData\",A101,\"Bar\",, \"Low\",$C$1,\"0\",,,,,\"T\"),\"\")","v":144.75},{"$f":"IFERROR(RTD(\"cqg.rtd\",,\"StudyData\",\"HiLevel(\"&A101&\",Period1:=\"&$B$1&\",AllowGaps:=0,InputChoice1:=High,InputChoice3:=High)\",\"Bar\",, \"Close\",$C$1,\"-1\",,,,,\"T\"),\"\")","v":196.65},{"$f":"IFERROR(RTD(\"cqg.rtd\",,\"StudyData\",\"LoLevel(\"&A101&\",Period2:=\"&$B$1&\",AllowGaps:=0,InputChoice2:=Low,InputChoice4:=Low)\",\"Bar\",, \"Close\",$C$1,\"-1\",,,,,\"T\"),\"\")","v":127.02},0,0,4.0290000000000097,5.0100000000000033,"S.US.CLX",{"$f":"RTD(\"cqg.rtd\", ,\"ContractData\",A101, \"PerCentNetLastTrade\",, \"T\")/100","v":2.9539053376382495E-3},{"$f":"RANK($K101,$K$2:K$506)+COUNTIF($K$2:K101,K101)-1","v":{"$error":"#VALUE!"}},"S.US.CLX",100,"",{"$f":"RTD(\"cqg.rtd\", ,\"ContractData\",O101, \"PerCentNetLastTrade\",, \"T\")/100","v":{"$error":"#VALUE!"}},{"$error":"#N/A"},null,100,""]
[{"$f":"Symbols!A102","v":"S.US.CMA"},{"$f":"IFERROR(RTD(\"cqg.rtd\",,\"StudyData\",A102,\"Bar\",, \"High\",$C$1,\"0\",,,,,\"T\"),\"\")","v":89.14},{"$f":"IFERROR(RTD(\"cqg.rtd\",,\"StudyData\",A102,\"Bar\",, \"Low\",$C$1,\"0\",,,,,\"T\"),\"\")","v":87.94},{"$f":"IFERROR(RTD(\"cqg.rtd\",,\"StudyData\",\"HiLevel(\"&A102&\",Period1:=\"&$B$1&\",AllowGaps:=0,InputChoice1:=High,InputChoice3:=High)\",\"Bar\",, \"Close\",$C$1,\"-1\",,,,,\"T\"),\"\")","v":102.09},{"$f":"IFERROR(RTD(\"cqg.rtd\",,\"StudyData\",\"LoLevel(\"&A102&\",Period2:=\"&$B$1&\",AllowGaps:=0,InputChoice2:=Low,InputChoice4:=Low)\",\"Bar\",, \"Close\",$C$1,\"-1\",,,,,\"T\"),\"\")","v":63.07},0,0,4.03000000000001,5.0110000000000037,"S.US.CMA",{"$f":"RTD(\"cqg.rtd\", ,\"ContractData\",A102, \"PerCentNetLastTrade\",, \"T\")/100","v":6.6764739164874957E-3},{"$f":"RANK($K102,$K$2:K$506)+COUNTIF($K$2:K102,K102)-1","v":{"$error":"#VALUE!"}},"S.US.CMA",101,"",{"$f":"RTD(\"cqg.rtd\", ,\"ContractData\",O102, \"PerCentNetLastTrade\",, \"T\")/100","v":{"$error":"#VALUE!"}},{"$error":"#N/A"},null,101,""]
[{"$f":"Symbols!A103","v":"S.US.CMCSA"},{"$f":"IFERROR(RTD(\"cqg.rtd\",,\"StudyData\",A103,\"Bar\",, \"High\",$C$1,\"0\",,,,,\"T\"),\"\")","v":48},{"$f":"IFERROR(RTD(\"cqg.rtd\",,\"StudyData\",A103,\"Bar\",, \"Low\",$C$1,\"0\",,,,,\"T\"),\"\")","v":47.49},{"$f":"IFERROR(RTD(\"cqg.rtd\",,\"StudyData\",\"HiLevel(\"&A103&\",Period1:=\"&$B$1&\",AllowGaps:=0,InputChoice1:=High,InputChoice3:=High)\",\"Bar\",, \"Close\",$C$1,\"-1\",,,,,\"T\"),\"\")","v":61.8},{"$f":"IFERROR(RTD(\"cqg.rtd\",,\"StudyData\",\"LoLevel(\"&A103&\",Period2:=\"&$B$1&\",AllowGaps:=0,InputChoice2:=Low,InputChoice4:=Low)\",\"Bar\",, \"Close\",$C$1,\"-1\",,,,,\"T\"),\"\")","v":44.27},0,0,4.0310000000000104,5.012000000000004,"S.US.CMCSA",{"$f":"RTD(\"cqg.rtd\", ,\"ContractData\",A103, \"PerCentNetLastTrade\",, \"T\")/100","v":7.9865489701555267E-3},{"$f":"RANK($K103,$K$2:K$506)+COUNTIF($K$2:K103,K103)-1","v":{"$error":"#VALUE!"}},"S.US.CMCSA",102,"",{"$f":"RTD(\"cqg.rtd\", ,\"ContractData\",O103, \"PerCentNetLastTrade\",, \"T\")/100","v":{"$error":"#VALUE!"}},{"$error":"#N/A"},null,102,""]
[{"$f":"Symbols!A104","v":"S.US.CME"},{"$f":"IFERROR(RTD(\"cqg.rtd\",,\"StudyData\",A104,\"Bar\",, \"High\",$C$1,\"0\",,,,,\"T\"),\"\")","v":238.82},{"$f":"IFERROR(RTD(\"cqg.rtd\",,\"StudyData\",A104,\"Bar\",, \"Low\",$C$1,\"0\",,,,,\"T\"),\"\")","v":237.16},{"$f":"IFERROR(RTD(\"cqg.rtd\",,\"StudyData\",\"HiLevel(\"&A104&\",Period1:=\"&$B$1&\",AllowGaps:=0,InputChoice1:=High,InputChoice3:=High)\",\"Bar\",, \"Close\",$C$1,\"-1\",,,,,\"T\"),\"\")","v":256.94},{"$f":"IFERROR(RTD(\"cqg.rtd\",,\"StudyData\",\"LoLevel(\"&A104&\",Period2:=\"&$B$1&\",AllowGaps:=0,InputChoice2:=Low,InputChoice4:=Low)\",\"Bar\",, \"Close\",$C$1,\"-1\",,,,,\"T\"),\"\")","v":185.79},0,0,4.0320000000000107,5.0130000000000043,"S.US.CME",{"$f":"RTD(\"cqg.rtd\", ,\"ContractData\",A104, \"PerCentNetLastTrade\",, \"T\")/100","v":4.2497685769586806E-3},{"$f":"RANK($K104,$K$2:K$506)+COUNTIF($K$2:K104,K104)-1","v":{"$error":"#VALUE!"}},"S.US.CME",103,"",{"$f":"RTD(\"cqg.rtd\", ,\"ContractData\",O104, \"PerCentNetLastTrade\",, \"T\")/100","v":{"$error":"#VALUE!"}},{"$error":"#N/A"},null,103,""]
[{"$f":"Symbols!A105","v":"S.US.CMG"},{"$f":"IFERROR(RTD(\"cqg.rtd\",,\"StudyData\",A105,\"Bar\",, \"High\",$C$1,\"0\",,,,,\"T\"),\"\")","v":1605.44},{"$f":"IFERROR(RTD(\"cqg.rtd\",,\"StudyData\",A105,\"Bar\",, \"Low\",$C$1,\"0\",,,,,\"T\"),\"\")","v":1591},{"$f":"IFERROR(RTD(\"cqg.rtd\",,\"StudyData\",\"HiLevel(\"&A105&\",Period1:=\"&$B$1&\",AllowGaps:=0,InputChoice1:=High,InputChoice3:=High)\",\"Bar\",, \"Close\",$C$1,\"-1\",,,,,\"T\"),\"\")","v":1958.54},{"$f":"IFERROR(RTD(\"cqg.rtd\",,\"StudyData\",\"LoLevel(\"&A105&\",Period2:=\"&$B$1&\",AllowGaps:=0,InputChoice2:=Low,InputChoice4:=Low)\",\"Bar\",, \"Close\",$C$1,\"-1\",,,,,\"T\"),\"\")","v":1277.4100000000001},{"$f":"IF(B105=\"\",0,IFERROR(IF(B105>D105,1,0),\"\"))","v":0},{"$f":"IF(C105=\"\",0,IFERROR(IF(C105<E105,1,0),\"\"))","v":0},{"$f":"IF(F105=1,INT(H104+1),H104+0.001)","v":4.033000000000011},{"$f":"IF(G105=1,INT(I104+1),I104+0.001)","v":5.0140000000000047},{"$f":"A105","v":"S.US.CMG"},{"$f":"RTD(\"cqg.rtd\", ,\"ContractData\",A105, \"PerCentNetLastTrade\",, \"T\")/100","v":-6.3873450725749599E-3},{"$f":"RANK($K105,$K$2:K$506)+COUNTIF($K$2:K105,K105)-1","v":{"$error":"#VALUE!"}},"S.US.CMG",104,"",{"$f":"RTD(\"cqg.rtd\", ,\"ContractData\",O105, \"PerCentNetLastTrade\",, \"T\")/100","v":{"$error":"#VALUE!"}},{"$error":"#N/A"},null,104,""]
[{"$f":"Symbols!A106","v":"S.US.CMI"},{"$f":"IFERROR(RTD(\"cqg.rtd\",,\"StudyData\",A106,\"Bar\",, \"High\",$C$1,\"0\",,,,,\"T\"),\"\")","v":198.1},{"$f":"IFERROR(RTD(\"cqg.rtd\",,\"StudyData\",A106,\"Bar\",, \"Low\",$C$1,\"0\",,,,,\"T\"),\"\")","v":195.64},{"$f":"IFERROR(RTD(\"cqg.rtd\",,\"StudyData\",\"HiLevel(\"&A106&\",Period1:=\"&$B$1&\",AllowGaps:=0,InputChoice1:=High,InputChoice3:=High)\",\"Bar\",, \"Close\",$C$1,\"-1\",,,,,\"T\"),\"\")","v":273.64999999999998},{"$f":"IFERROR(RTD(\"cqg.rtd\",,\"StudyData\",\"LoLevel(\"&A106&\",Period2:=\"&$B$1&\",AllowGaps:=0,InputChoice2:=Low,InputChoice4:=Low)\",\"Bar\",, \"Close\",$C$1,\"-1\",,,,,\"T\"),\"\")","v":189.5},0,0,4.0340000000000114,5.015000000000005,"S.US.CMI",{"$f":"RTD(\"cqg.rtd\", ,\"ContractData\",A106, \"PerCentNetLastTrade\",, \"T\")/100","v":8.2678370929876489E-3},{"$f":"RANK($K106,$K$2:K$506)+COUNTIF($K$2:K106,K106)-1","v":{"$error":"#VALUE!"}},"S.US.CMI",105,"",{"$f":"RTD(\"cqg.rtd\", ,\"ContractData\",O106, \"PerCentNetLastTrade\",, \"T\")/100","v":{"$error":"#VALUE!"}},{"$error":"#N/A"},null,105,""]
[{"$f":"Symbols!A107","v":"S.US.CMS"},{"$f":"IFERROR(RTD(\"cqg.rtd\",,\"StudyData\",A107,\"Bar\",, \"High\",$C$1,\"0\",,,,,\"T\"),\"\")","v":72.180000000000007},{"$f":"IFERROR(RTD(\"cqg.rtd\",,\"StudyData\",A107,\"Bar\",, \"Low\",$C$1,\"0\",,,,,\"T\"),\"\")","v":71.69},{"$f":"IFERROR(RTD(\"cqg.rtd\",,\"StudyData\",\"HiLevel(\"&A107&\",Period1:=\"&$B$1&\",AllowGaps:=0,InputChoice1:=High,InputChoice3:=High)\",\"Bar\",, \"Close\",$C$1,\"-1\",,,,,\"T\"),\"\")","v":73.64},{"$f":"IFERROR(RTD(\"cqg.rtd\",,\"StudyData\",\"LoLevel(\"&A107&\",Period2:=\"&$B$1&\",AllowGaps:=0,InputChoice2:=Low,InputChoice4:=Low)\",\"Bar\",, \"Close\",$C$1,\"-1\",,,,,\"T\"),\"\")","v":57.92},0,0,4.0350000000000117,5.0160000000000053,"S.US.CMS",{"$f":"RTD(\"cqg.rtd\", ,\"ContractData\",A107, \"PerCentNetLastTrade\",, \"T\")/100","v":6.4290705800139755E-3},{"$f":"RANK($K107,$K$2:K$506)+COUNTIF($K$2:K107,K107)-1","v":{"$error":"#VALUE!"}},"S.US.CMS",106,"",{"$f":"RTD(\"cqg.rtd\", ,\"ContractData\",O107, \"PerCentNetLastTrade\",, \"T\")/100","v":{"$error":"#VALUE!"}},{"$error":"#N/A"},null,106,""]
[{"$f":"Symbols!A108","v":"S.US.CNC"},{"$f":"IFERROR(RTD(\"cqg.rtd\",,\"StudyData\",A108,\"Bar\",, \"High\",$C$1,\"0\",,,,,\"T\"),\"\")","v":86.75},{"$f":"IFERROR(RTD(\"cqg.rtd\",,\"StudyData\",A108,\"Bar\",, \"Low\",$C$1,\"0\",,,,,\"T\"),\"\")","v":86.37},{"$f":"IFERROR(RTD(\"cqg.rtd\",,\"StudyData\",\"HiLevel(\"&A108&\",Period1:=\"&$B$1&\",AllowGaps:=0,InputChoice1:=High,InputChoice3:=High)\",\"Bar\",, \"Close\",$C$1,\"-1\",,,,,\"T\"),\"\")","v":89.79},{"$f":"IFERROR(RTD(\"cqg.rtd\",,\"StudyData\",\"LoLevel(\"&A108&\",Period2:=\"&$B$1&\",AllowGaps:=0,InputChoice2:=Low,InputChoice4:=Low)\",\"Bar\",, \"Close\",$C$1,\"-1\",,,,,\"T\"),\"\")","v":59.33},0,0,4.036000000000012,5.0170000000000057,"S.US.CNC",{"$f":"RTD(\"cqg.rtd\", ,\"ContractData\",A108, \"PerCentNetLastTrade\",, \"T\")/100","v":3.4666050381326557E-4},{"$f":"RANK($K108,$K$2:K$506)+COUNTIF($K$2:K108,K108)-1","v":{"$error":"#VALUE!"}},"S.US.CNC",107,"",{"$f":"RTD(\"cqg.rtd\", ,\"ContractData\",O108, \"PerCentNetLastTrade\",, \"T\")/100","v":{"$error":"#VALUE!"}},{"$error":"#N/A"},null,107,""]
[{"$f":"Symbols!A109","v":"S.US.CNP"},{"$f":"IFERROR(RTD(\"cqg.rtd\",,\"StudyData\",A109,\"Bar\",, \"High\",$C$1,\"0\",,,,,\"T\"),\"\")","v":32.64},{"$f":"IFERROR(RTD(\"cqg.rtd\",,\"StudyData\",A109,\"Bar\",, \"Low\",$C$1,\"0\",,,,,\"T\"),\"\")","v":32.46},{"$f":"IFERROR(RTD(\"cqg.rtd\",,\"StudyData\",\"HiLevel(\"&A109&\",Period1:=\"&$B$1&\",AllowGaps:=0,InputChoice1:=High,InputChoice3:=High)\",\"Bar\",, \"Close\",$C$1,\"-1\",,,,,\"T\"),\"\")","v":32.71},{"$f":"IFERROR(RTD(\"cqg.rtd\",,\"StudyData\",\"LoLevel(\"&A109&\",Period2:=\"&$B$1&\",AllowGaps:=0,InputChoice2:=Low,InputChoice4:=Low)\",\"Bar\",, \"Close\",$C$1,\"-1\",,,,,\"T\"),\"\")","v":23.58},0,0,4.0370000000000124,5.018000000000006,"S.US.CNP",{"$f":"RTD(\"cqg.rtd\", ,\"ContractData\",A109, \"PerCentNetLastTrade\",, \"T\")/100","v":7.4074074074074068E-3},{"$f":"RANK($K109,$K$2:K$506)+COUNTIF($K$2:K109,K109)-1","v":{"$error":"#VALUE!"}},"S.US.CNP",108,"",{"$f":"RTD(\"cqg.rtd\", ,\"ContractData\",O109, \"PerCentNetLastTrade\",, \"T\")/100","v":{"$error":"#VALUE!"}},{"$error":"#N/A"},null,108,""]
[{"$f":"Symbols!A110","v":"S.US.COF"},{"$f":"IFERROR(RTD(\"cqg.rtd\",,\"StudyData\",A110,\"Bar\",, \"High\",$C$1,\"0\",,,,,\"T\"),\"\")","v":135.58000000000001},{"$f":"IFERROR(RTD(\"cqg.rtd\",,\"StudyData\",A110,\"Bar\",, \"Low\",$C$1,\"0\",,,,,\"T\"),\"\")","v":132},{"$f":"IFERROR(RTD(\"cqg.rtd\",,\"StudyData\",\"HiLevel(\"&A110&\",Period1:=\"&$B$1&\",AllowGaps:=0,InputChoice1:=High,InputChoice3:=High)\",\"Bar\",, \"Close\",$C$1,\"-1\",,,,,\"T\"),\"\")","v":177.95},{"$f":"IFERROR(RTD(\"cqg.rtd\",,\"StudyData\",\"LoLevel(\"&A110&\",Period2:=\"&$B$1&\",AllowGaps:=0,InputChoice2:=Low,InputChoice4:=Low)\",\"Bar\",, \"Close\",$C$1,\"-1\",,,,,\"T\"),\"\")","v":122.43},0,0,4.0380000000000127,5.0190000000000063,"S.US.COF",{"$f":"RTD(\"cqg.rtd\", ,\"ContractData\",A110, \"PerCentNetLastTrade\",, \"T\")/100","v":2.2550720265480054E-2},{"$f":"RANK($K110,$K$2:K$506)+COUNTIF($K$2:K110,K110)-1","v":{"$error":"#VALUE!"}},"S.US.COF",109,"",{"$f":"RTD(\"cqg.rtd\", ,\"ContractData\",O110, \"PerCentNetLastTrade\",, \"T\")/100","v":{"$error":"#VALUE!"}},{"$error":"#N/A"},null,109,""]
[{"$f":"Symbols!A111","v":"S.US.COO"},{"$f":"IFERROR(RTD(\"cqg.rtd\",,\"StudyData\",A111,\"Bar\",, \"High\",$C$1,\"0\",,,,,\"T\"),\"\")","v":399.17},{"$f":"IFERROR(RTD(\"cqg.rtd\",,\"StudyData\",A111,\"Bar\",, \"Low\",$C$1,\"0\",,,,,\"T\"),\"\")","v":396.8},{"$f":"IFERROR(RTD(\"cqg.rtd\",,\"StudyData\",\"HiLevel(\"&A111&\",Period1:=\"&$B$1&\",AllowGaps:=0,InputChoice1:=High,InputChoice3:=High)\",\"Bar\",, \"Close\",$C$1,\"-1\",,,,,\"T\"),\"\")","v":463.59},{"$f":"IFERROR(RTD(\"cqg.rtd\",,\"StudyData\",\"LoLevel(\"&A111&\",Period2:=\"&$B$1&\",AllowGaps:=0,InputChoice2:=Low,InputChoice4:=Low)\",\"Bar\",, \"Close\",$C$1,\"-1\",,,,,\"T\"),\"\")","v":368.78},0,0,4.039000000000013,5.0200000000000067,"S.US.COO",{"$f":"RTD(\"cqg.rtd\", ,\"ContractData\",A111, \"PerCentNetLastTrade\",, \"T\")/100","v":-5.6553726039737752E-3},{"$f":"RANK($K111,$K$2:K$506)+COUNTIF($K$2:K111,K111)-1","v":{"$error":"#VALUE!"}},"S.US.COO",110,"",{"$f":"RTD(\"cqg.rtd\", ,\"ContractData\",O111, \"PerCentNetLastTrade\",, \"T\")/100","v":{"$error":"#VALUE!"}},{"$error":"#N/A"},null,110,""]
[{"$f":"Symbols!A112","v":"S.US.COP"},{"$f":"IFERROR(RTD(\"cqg.rtd\",,\"StudyData\",A112,\"Bar\",, \"High\",$C$1,\"0\",,,,,\"T\"),\"\")","v":103.8},{"$f":"IFERROR(RTD(\"cqg.rtd\",,\"StudyData\",A112,\"Bar\",, \"Low\",$C$1,\"0\",,,,,\"T\"),\"\")","v":101.7},{"$f":"IFERROR(RTD(\"cqg.rtd\",,\"StudyData\",\"HiLevel(\"&A112&\",Period1:=\"&$B$1&\",AllowGaps:=0,InputChoice1:=High,InputChoice3:=High)\",\"Bar\",, \"Close\",$C$1,\"-1\",,,,,\"T\"),\"\")","v":107.52},{"$f":"IFERROR(RTD(\"cqg.rtd\",,\"StudyData\",\"LoLevel(\"&A112&\",Period2:=\"&$B$1&\",AllowGaps:=0,InputChoice2:=Low,InputChoice4:=Low)\",\"Bar\",, \"Close\",$C$1,\"-1\",,,,,\"T\"),\"\")","v":47.85},0,0,4.0400000000000134,5.021000000000007,"S.US.COP",{"$f":"RTD(\"cqg.rtd\", ,\"ContractData\",A112, \"PerCentNetLastTrade\",, \"T\")/100","v":2.140672782874618E-2},{"$f":"RANK($K112,$K$2:K$506)+COUNTIF($K$2:K112,K112)-1","v":{"$error":"#VALUE!"}},"S.US.COP",111,"",{"$f":"RTD(\"cqg.rtd\", ,\"ContractData\",O112, \"PerCentNetLastTrade\",, \"T\")/100","v":{"$error":"#VALUE!"}},{"$error":"#N/A"},null,111,""]
[{"$f":"Symbols!A113","v":"S.US.COST"},{"$f":"IFERROR(RTD(\"cqg.rtd\",,\"StudyData\",A113,\"Bar\",, \"High\",$C$1,\"0\",,,,,\"T\"),\"\")","v":590.86},{"$f":"IFERROR(RTD(\"cqg.rtd\",,\"StudyData\",A113,\"Bar\",, \"Low\",$C$1,\"0\",,,,,\"T\"),\"\")","v":585.38},{"$f":"IFERROR(RTD(\"cqg.rtd\",,\"StudyData\",\"HiLevel(\"&A113&\",Period1:=\"&$B$1&\",AllowGaps:=0,InputChoice1:=High,InputChoice3:=High)\",\"Bar\",, \"Close\",$C$1,\"-1\",,,,,\"T\"),\"\")","v":612.27},{"$f":"IFERROR(RTD(\"cqg.rtd\",,\"StudyData\",\"LoLevel(\"&A113&\",Period2:=\"&$B$1&\",AllowGaps:=0,InputChoice2:=Low,InputChoice4:=Low)\",\"Bar\",, \"Close\",$C$1,\"-1\",,,,,\"T\"),\"\")","v":365.29},0,0,4.0410000000000137,5.0220000000000073,"S.US.COST",{"$f":"RTD(\"cqg.rtd\", ,\"ContractData\",A113, \"PerCentNetLastTrade\",, \"T\")/100","v":-1.8631751892816614E-4},{"$f":"RANK($K113,$K$2:K$506)+COUNTIF($K$2:K113,K113)-1","v":{"$error":"#VALUE!"}},"S.US.COST",112,"",{"$f":"RTD(\"cqg.rtd\", ,\"ContractData\",O113, \"PerCentNetLastTrade\",, \"T\")/100","v":{"$error":"#VALUE!"}},{"$error":"#N/A"},null,112,""]
[{"$f":"Symbols!A114","v":"S.US.CPB"},{"$f":"IFERROR(RTD(\"cqg.rtd\",,\"StudyData\",A114,\"Bar\",, \"High\",$C$1,\"0\",,,,,\"T\"),\"\")","v":46.29},{"$f":"IFERROR(RTD(\"cqg.rtd\",,\"StudyData\",A114,\"Bar\",, \"Low\",$C$1,\"0\",,,,,\"T\"),\"\")","v":46.08},{"$f":"IFERROR(RTD(\"cqg.rtd\",,\"StudyData\",\"HiLevel(\"&A114&\",Period1:=\"&$B$1&\",AllowGaps:=0,InputChoice1:=High,InputChoice3:=High)\",\"Bar\",, \"Close\",$C$1,\"-1\",,,,,\"T\"),\"\")","v":50.83},{"$f":"IFERROR(RTD(\"cqg.rtd\",,\"StudyData\",\"LoLevel(\"&A114&\",Period2:=\"&$B$1&\",AllowGaps:=0,InputChoice2:=Low,InputChoice4:=Low)\",\"Bar\",, \"Close\",$C$1,\"-1\",,,,,\"T\"),\"\")","v":39.76},0,0,4.042000000000014,5.0230000000000077,"S.US.CPB",{"$f":"RTD(\"cqg.rtd\", ,\"ContractData\",A114, \"PerCentNetLastTrade\",, \"T\")/100","v":-2.1645021645021645E-4},{"$f":"RANK($K114,$K$2:K$506)+COUNTIF($K$2:K114,K114)-1","v":{"$error":"#VALUE!"}},"S.US.CPB",113,"",{"$f":"RTD(\"cqg.rtd\", ,\"ContractData\",O114, \"PerCentNetLastTrade\",, \"T\")/100","v":{"$error":"#VALUE!"}},{"$error":"#N/A"},null,113,""]
[{"$f":"Symbols!A115","v":"S.US.CPRT"},{"$f":"IFERROR(RTD(\"cqg.rtd\",,\"StudyData\",A115,\"Bar\",, \"High\",$C$1,\"0\",,,,,\"T\"),\"\")","v":117.34},{"$f":"IFERROR(RTD(\"cqg.rtd\",,\"StudyData\",A115,\"Bar\",, \"Low\",$C$1,\"0\",,,,,\"T\"),\"\")","v":116.53},{"$f":"IFERROR(RTD(\"cqg.rtd\",,\"StudyData\",\"HiLevel(\"&A115&\",Period1:=\"&$B$1&\",AllowGaps:=0,InputChoice1:=High,InputChoice3:=High)\",\"Bar\",, \"Close\",$C$1,\"-1\",,,,,\"T\"),\"\")","v":161.12},{"$f":"IFERROR(RTD(\"cqg.rtd\",,\"StudyData\",\"LoLevel(\"&A115&\",Period2:=\"&$B$1&\",AllowGaps:=0,InputChoice2:=Low,InputChoice4:=Low)\",\"Bar\",, \"Close\",$C$1,\"-1\",,,,,\"T\"),\"\")","v":106.37},0,0,4.0430000000000144,5.024000000000008,"S.US.CPRT",{"$f":"RTD(\"cqg.rtd\", ,\"ContractData\",A115, \"PerCentNetLastTrade\",, \"T\")/100","v":-3.8468114207556845E-3},{"$f":"RANK($K115,$K$2:K$506)+COUNTIF($K$2:K115,K115)-1","v":{"$error":"#VALUE!"}},"S.US.CPRT",114,"",{"$f":"RTD(\"cqg.rtd\", ,\"ContractData\",O115, \"PerCentNetLastTrade\",, \"T\")/100","v":{"$error":"#VALUE!"}},{"$error":"#N/A"},null,114,""]
[{"$f":"Symbols!A116","v":"S.US.CPT"},{"$f":"IFERROR(RTD(\"cqg.rtd\",,\"StudyData\",A116,\"Bar\",, \"High\",$C$1,\"0\",,,,,\"T\"),\"\")","v":165.38},{"$f":"IFERROR(RTD(\"cqg.rtd\",,\"StudyData\",A116,\"Bar\",, \"Low\",$C$1,\"0\",,,,,\"T\"),\"\")","v":164.28},{"$f":"IFERROR(RTD(\"cqg.rtd\",,\"StudyData\",\"HiLevel(\"&A116&\",Period1:=\"&$B$1&\",AllowGaps:=0,InputChoice1:=High,InputChoice3:=High)\",\"Bar\",, \"Close\",$C$1,\"-1\",,,,,\"T\"),\"\")","v":180.37},{"$f":"IFERROR(RTD(\"cqg.rtd\",,\"StudyData\",\"LoLevel(\"&A116&\",Period2:=\"&$B$1&\",AllowGaps:=0,InputChoice2:=Low,InputChoice4:=Low)\",\"Bar\",, \"Close\",$C$1,\"-1\",,,,,\"T\"),\"\")","v":115.77},0,0,4.0440000000000147,5.0250000000000083,"S.US.CPT",{"$f":"RTD(\"cqg.rtd\", ,\"ContractData\",A116, \"PerCentNetLastTrade\",, \"T\")/100","v":-4.2522172275543676E-4},{"$f":"RANK($K116,$K$2:K$506)+COUNTIF($K$2:K116,K116)-1","v":{"$error":"#VALUE!"}},"S.US.CPT",115,"",{"$f":"RTD(\"cqg.rtd\", ,\"ContractData\",O116, \"PerCentNetLastTrade\",, \"T\")/100","v":{"$error":"#VALUE!"}},{"$error":"#N/A"},null,115,""]
[{"$f":"Symbols!A117","v":"S.US.CRL"},{"$f":"IFERROR(RTD(\"cqg.rtd\",,\"StudyData\",A117,\"Bar\",, \"High\",$C$1,\"0\",,,,,\"T\"),\"\")","v":284.88},{"$f":"IFERROR(RTD(\"cqg.rtd\",,\"StudyData\",A117,\"Bar\",, \"Low\",$C$1,\"0\",,,,,\"T\"),\"\")","v":282.52999999999997},{"$f":"IFERROR(RTD(\"cqg.rtd\",,\"StudyData\",\"HiLevel(\"&A117&\",Period1:=\"&$B$1&\",AllowGaps:=0,InputChoice1:=High,InputChoice3:=High)\",\"Bar\",, \"Close\",$C$1,\"-1\",,,,,\"T\"),\"\")","v":460.21},{"$f":"IFERROR(RTD(\"cqg.rtd\",,\"StudyData\",\"LoLevel(\"&A117&\",Period2:=\"&$B$1&\",AllowGaps:=0,InputChoice2:=Low,InputChoice4:=Low)\",\"Bar\",, \"Close\",$C$1,\"-1\",,,,,\"T\"),\"\")","v":251.3},0,0,4.045000000000015,5.0260000000000087,"S.US.CRL",{"$f":"RTD(\"cqg.rtd\", ,\"ContractData\",A117, \"PerCentNetLastTrade\",, \"T\")/100","v":-4.2159997189333517E-4},{"$f":"RANK($K117,$K$2:K$506)+COUNTIF($K$2:K117,K117)-1","v":{"$error":"#VALUE!"}},"S.US.CRL",116,"",{"$f":"RTD(\"cqg.rtd\", ,\"ContractData\",O117, \"PerCentNetLastTrade\",, \"T\")/100","v":{"$error":"#VALUE!"}},{"$error":"#N/A"},null,116,""]
[{"$f":"Symbols!A118","v":"S.US.CRM"},{"$f":"IFERROR(RTD(\"cqg.rtd\",,\"StudyData\",A118,\"Bar\",, \"High\",$C$1,\"0\",,,,,\"T\"),\"\")","v":189.23},{"$f":"IFERROR(RTD(\"cqg.rtd\",,\"StudyData\",A118,\"Bar\",, \"Low\",$C$1,\"0\",,,,,\"T\"),\"\")","v":187.16},{"$f":"IFERROR(RTD(\"cqg.rtd\",,\"StudyData\",\"HiLevel(\"&A118&\",Period1:=\"&$B$1&\",AllowGaps:=0,InputChoice1:=High,InputChoice3:=High)\",\"Bar\",, \"Close\",$C$1,\"-1\",,,,,\"T\"),\"\")","v":311.75},{"$f":"IFERROR(RTD(\"cqg.rtd\",,\"StudyData\",\"LoLevel(\"&A118&\",Period2:=\"&$B$1&\",AllowGaps:=0,InputChoice2:=Low,InputChoice4:=Low)\",\"Bar\",, \"Close\",$C$1,\"-1\",,,,,\"T\"),\"\")","v":184.44},0,0,4.0460000000000154,5.027000000000009,"S.US.CRM",{"$f":"RTD(\"cqg.rtd\", ,\"ContractData\",A118, \"PerCentNetLastTrade\",, \"T\")/100","v":-1.1403832954965418E-2},{"$f":"RANK($K118,$K$2:K$506)+COUNTIF($K$2:K118,K118)-1","v":{"$error":"#VALUE!"}},"S.US.CRM",117,"",{"$f":"RTD(\"cqg.rtd\", ,\"ContractData\",O118, \"PerCentNetLastTrade\",, \"T\")/100","v":{"$error":"#VALUE!"}},{"$error":"#N/A"},null,117,""]
[{"$f":"Symbols!A119","v":"S.US.CSCO"},{"$f":"IFERROR(RTD(\"cqg.rtd\",,\"StudyData\",A119,\"Bar\",, \"High\",$C$1,\"0\",,,,,\"T\"),\"\")","v":51.43},{"$f":"IFERROR(RTD(\"cqg.rtd\",,\"StudyData\",A119,\"Bar\",, \"Low\",$C$1,\"0\",,,,,\"T\"),\"\")","v":50.8},{"$f":"IFERROR(RTD(\"cqg.rtd\",,\"StudyData\",\"HiLevel(\"&A119&\",Period1:=\"&$B$1&\",AllowGaps:=0,InputChoice1:=High,InputChoice3:=High)\",\"Bar\",, \"Close\",$C$1,\"-1\",,,,,\"T\"),\"\")","v":64.28},{"$f":"IFERROR(RTD(\"cqg.rtd\",,\"StudyData\",\"LoLevel(\"&A119&\",Period2:=\"&$B$1&\",AllowGaps:=0,InputChoice2:=Low,InputChoice4:=Low)\",\"Bar\",, \"Close\",$C$1,\"-1\",,,,,\"T\"),\"\")","v":50.1},0,0,4.0470000000000157,5.0280000000000094,"S.US.CSCO",{"$f":"RTD(\"cqg.rtd\", ,\"ContractData\",A119, \"PerCentNetLastTrade\",, \"T\")/100","v":2.1496970881375809E-3},{"$f":"RANK($K119,$K$2:K$506)+COUNTIF($K$2:K119,K119)-1","v":{"$error":"#VALUE!"}},"S.US.CSCO",118,"",{"$f":"RTD(\"cqg.rtd\", ,\"ContractData\",O119, \"PerCentNetLastTrade\",, \"T\")/100","v":{"$error":"#VALUE!"}},{"$error":"#N/A"},null,118,""]
[{"$f":"Symbols!A120","v":"S.US.CSX"},{"$f":"IFERROR(RTD(\"cqg.rtd\",,\"StudyData\",A120,\"Bar\",, \"High\",$C$1,\"0\",,,,,\"T\"),\"\")","v":35.19},{"$f":"IFERROR(RTD(\"cqg.rtd\",,\"StudyData\",A120,\"Bar\",, \"Low\",$C$1,\"0\",,,,,\"T\"),\"\")","v":34.700000000000003},{"$f":"IFERROR(RTD(\"cqg.rtd\",,\"StudyData\",\"HiLevel(\"&A120&\",Period1:=\"&$B$1&\",AllowGaps:=0,InputChoice1:=High,InputChoice3:=High)\",\"Bar\",, \"Close\",$C$1,\"-1\",,,,,\"T\"),\"\")","v":38.630000000000003},{"$f":"IFERROR(RTD(\"cqg.rtd\",,\"StudyData\",\"LoLevel(\"&A120&\",Period2:=\"&$B$1&\",AllowGaps:=0,InputChoice2:=Low,InputChoice4:=Low)\",\"Bar\",, \"Close\",$C$1,\"-1\",,,,,\"T\"),\"\")","v":29.48},0,0,4.048000000000016,5.0290000000000097,"S.US.CSX",{"$f":"RTD(\"cqg.rtd\", ,\"ContractData\",A120, \"PerCentNetLastTrade\",, \"T\")/100","v":1.4261266400456361E-3},{"$f":"RANK($K120,$K$2:K$506)+COUNTIF($K$2:K120,K120)-1","v":{"$error":"#VALUE!"}},"S.US.CSX",119,"",{"$f":"RTD(\"cqg.rtd\", ,\"ContractData\",O120, \"PerCentNetLastTrade\",, \"T\")/100","v":{"$error":"#VALUE!"}},{"$error":"#N/A"},null,119,""]
[{"$f":"Symbols!A121","v":"S.US.CTAS"},{"$f":"IFERROR(RTD(\"cqg.rtd\",,\"StudyData\",A121,\"Bar\",, \"High\",$C$1,\"0\",,,,,\"T\"),\"\")","v":416.32},{"$f":"IFERROR(RTD(\"cqg.rtd\",,\"StudyData\",A121,\"Bar\",, \"Low\",$C$1,\"0\",,,,,\"T\"),\"\")","v":411.73},{"$f":"IFERROR(RTD(\"cqg.rtd\",,\"StudyData\",\"HiLevel(\"&A121&\",Period1:=\"&$B$1&\",AllowGaps:=0,InputChoice1:=High,InputChoice3:=High)\",\"Bar\",, \"Close\",$C$1,\"-1\",,,,,\"T\"),\"\")","v":461.44},{"$f":"IFERROR(RTD(\"cqg.rtd\",,\"StudyData\",\"LoLevel(\"&A121&\",Period2:=\"&$B$1&\",AllowGaps:=0,InputChoice2:=Low,InputChoice4:=Low)\",\"Bar\",, \"Close\",$C$1,\"-1\",,,,,\"T\"),\"\")","v":338},0,0,4.0490000000000164,5.03000000000001,"S.US.CTAS",{"$f":"RTD(\"cqg.rtd\", ,\"ContractData\",A121, \"PerCentNetLastTrade\",, \"T\")/100","v":6.4060724732274525E-3},{"$f":"RANK($K121,$K$2:K$506)+COUNTIF($K$2:K121,K121)-1","v":{"$error":"#VALUE!"}},"S.US.CTAS",120,"",{"$f":"RTD(\"cqg.rtd\", ,\"ContractData\",O121, \"PerCentNetLastTrade\",, \"T\")/100","v":{"$error":"#VALUE!"}},{"$error":"#N/A"},null,120,""]
[{"$f":"Symbols!A122","v":"S.US.CTLT"},{"$f":"IFERROR(RTD(\"cqg.rtd\",,\"StudyData\",A122,\"Bar\",, \"High\",$C$1,\"0\",,,,,\"T\"),\"\")","v":97.68},{"$f":"IFERROR(RTD(\"cqg.rtd\",,\"StudyData\",A122,\"Bar\",, \"Low\",$C$1,\"0\",,,,,\"T\"),\"\")","v":96.45},{"$f":"IFERROR(RTD(\"cqg.rtd\",,\"StudyData\",\"HiLevel(\"&A122&\",Period1:=\"&$B$1&\",AllowGaps:=0,InputChoice1:=High,InputChoice3:=High)\",\"Bar\",, \"Close\",$C$1,\"-1\",,,,,\"T\"),\"\")","v":142.63999999999999},{"$f":"IFERROR(RTD(\"cqg.rtd\",,\"StudyData\",\"LoLevel(\"&A122&\",Period2:=\"&$B$1&\",AllowGaps:=0,InputChoice2:=Low,InputChoice4:=Low)\",\"Bar\",, \"Close\",$C$1,\"-1\",,,,,\"T\"),\"\")","v":91.17},0,0,4.0500000000000167,5.0310000000000104,"S.US.CTLT",{"$f":"RTD(\"cqg.rtd\", ,\"ContractData\",A122, \"PerCentNetLastTrade\",, \"T\")/100","v":-8.939580764488286E-3},{"$f":"RANK($K122,$K$2:K$506)+COUNTIF($K$2:K122,K122)-1","v":{"$error":"#VALUE!"}},"S.US.CTLT",121,"",{"$f":"RTD(\"cqg.rtd\", ,\"ContractData\",O122, \"PerCentNetLastTrade\",, \"T\")/100","v":{"$error":"#VALUE!"}},{"$error":"#N/A"},null,121,""]
[{"$f":"Symbols!A123","v":"S.US.CTRA"},{"$f":"IFERROR(RTD(\"cqg.rtd\",,\"StudyData\",A123,\"Bar\",, \"High\",$C$1,\"0\",,,,,\"T\"),\"\")","v":30.47},{"$f":"IFERROR(RTD(\"cqg.rtd\",,\"StudyData\",A123,\"Bar\",, \"Low\",$C$1,\"0\",,,,,\"T\"),\"\")","v":29.74},{"$f":"IFERROR(RTD(\"cqg.rtd\",,\"StudyData\",\"HiLevel(\"&A123&\",Period1:=\"&$B$1&\",AllowGaps:=0,InputChoice1:=High,InputChoice3:=High)\",\"Bar\",, \"Close\",$C$1,\"-1\",,,,,\"T\"),\"\")","v":29.63},{"$f":"IFERROR(RTD(\"cqg.rtd\",,\"StudyData\",\"LoLevel(\"&A123&\",Period2:=\"&$B$1&\",AllowGaps:=0,InputChoice2:=Low,InputChoice4:=Low)\",\"Bar\",, \"Close\",$C$1,\"-1\",,,,,\"T\"),\"\")","v":14.28},1,0,5,5.0320000000000107,"S.US.CTRA",{"$f":"RTD(\"cqg.rtd\", ,\"ContractData\",A123, \"PerCentNetLastTrade\",, \"T\")/100","v":3.3990482664853841E-2},{"$f":"RANK($K123,$K$2:K$506)+COUNTIF($K$2:K123,K123)-1","v":{"$error":"#VALUE!"}},"S.US.CTRA",122,"",{"$f":"RTD(\"cqg.rtd\", ,\"ContractData\",O123, \"PerCentNetLastTrade\",, \"T\")/100","v":{"$error":"#VALUE!"}},{"$error":"#N/A"},null,122,""]
[{"$f":"Symbols!A124","v":"S.US.CTSH"},{"$f":"IFERROR(RTD(\"cqg.rtd\",,\"StudyData\",A124,\"Bar\",, \"High\",$C$1,\"0\",,,,,\"T\"),\"\")","v":85.42},{"$f":"IFERROR(RTD(\"cqg.rtd\",,\"StudyData\",A124,\"Bar\",, \"Low\",$C$1,\"0\",,,,,\"T\"),\"\")","v":84.55},{"$f":"IFERROR(RTD(\"cqg.rtd\",,\"StudyData\",\"HiLevel(\"&A124&\",Period1:=\"&$B$1&\",AllowGaps:=0,InputChoice1:=High,InputChoice3:=High)\",\"Bar\",, \"Close\",$C$1,\"-1\",,,,,\"T\"),\"\")","v":93.46},{"$f":"IFERROR(RTD(\"cqg.rtd\",,\"StudyData\",\"LoLevel(\"&A124&\",Period2:=\"&$B$1&\",AllowGaps:=0,InputChoice2:=Low,InputChoice4:=Low)\",\"Bar\",, \"Close\",$C$1,\"-1\",,,,,\"T\"),\"\")","v":66.19},0,0,5.0010000000000003,5.033000000000011,"S.US.CTSH",{"$f":"RTD(\"cqg.rtd\", ,\"ContractData\",A124, \"PerCentNetLastTrade\",, \"T\")/100","v":2.242152466367713E-3},{"$f":"RANK($K124,$K$2:K$506)+COUNTIF($K$2:K124,K124)-1","v":{"$error":"#VALUE!"}},"S.US.CTSH",123,"",{"$f":"RTD(\"cqg.rtd\", ,\"ContractData\",O124, \"PerCentNetLastTrade\",, \"T\")/100","v":{"$error":"#VALUE!"}},{"$error":"#N/A"},null,123,""]
[{"$f":"Symbols!A125","v":"S.US.CTVA"},{"$f":"IFERROR(RTD(\"cqg.rtd\",,\"StudyData\",A125,\"Bar\",, \"High\",$C$1,\"0\",,,,,\"T\"),\"\")","v":61.5},{"$f":"IFERROR(RTD(\"cqg.rtd\",,\"StudyData\",A125,\"Bar\",, \"Low\",$C$1,\"0\",,,,,\"T\"),\"\")","v":60.81},{"$f":"IFERROR(RTD(\"cqg.rtd\",,\"StudyData\",\"HiLevel(\"&A125&\",Period1:=\"&$B$1&\",AllowGaps:=0,InputChoice1:=High,InputChoice3:=High)\",\"Bar\",, \"Close\",$C$1,\"-1\",,,,,\"T\"),\"\")","v":61.74},{"$f":"IFERROR(RTD(\"cqg.rtd\",,\"StudyData\",\"LoLevel(\"&A125&\",Period2:=\"&$B$1&\",AllowGaps:=0,InputChoice2:=Low,InputChoice4:=Low)\",\"Bar\",, \"Close\",$C$1,\"-1\",,,,,\"T\"),\"\")","v":40.6},0,0,5.0020000000000007,5.0340000000000114,"S.US.CTVA",{"$f":"RTD(\"cqg.rtd\", ,\"ContractData\",A125, \"PerCentNetLastTrade\",, \"T\")/100","v":3.7698737911817737E-3},{"$f":"RANK($K125,$K$2:K$506)+COUNTIF($K$2:K125,K125)-1","v":{"$error":"#VALUE!"}},"S.US.CTVA",124,"",{"$f":"RTD(\"cqg.rtd\", ,\"ContractData\",O125, \"PerCentNetLastTrade\",, \"T\")/100","v":{"$error":"#VALUE!"}},{"$error":"#N/A"},null,124,""]
[{"$f":"Symbols!A126","v":"S.US.CTXS"},{"$f":"IFERROR(RTD(\"cqg.rtd\",,\"StudyData\",A126,\"Bar\",, \"High\",$C$1,\"0\",,,,,\"T\"),\"\")","v":102.19},{"$f":"IFERROR(RTD(\"cqg.rtd\",,\"StudyData\",A126,\"Bar\",, \"Low\",$C$1,\"0\",,,,,\"T\"),\"\")","v":102},{"$f":"IFERROR(RTD(\"cqg.rtd\",,\"StudyData\",\"HiLevel(\"&A126&\",Period1:=\"&$B$1&\",AllowGaps:=0,InputChoice1:=High,InputChoice3:=High)\",\"Bar\",, \"Close\",$C$1,\"-1\",,,,,\"T\"),\"\")","v":144.47},{"$f":"IFERROR(RTD(\"cqg.rtd\",,\"StudyData\",\"LoLevel(\"&A126&\",Period2:=\"&$B$1&\",AllowGaps:=0,InputChoice2:=Low,InputChoice4:=Low)\",\"Bar\",, \"Close\",$C$1,\"-1\",,,,,\"T\"),\"\")","v":78.069999999999993},0,0,5.003000000000001,5.0350000000000117,"S.US.CTXS",{"$f":"RTD(\"cqg.rtd\", ,\"ContractData\",A126, \"PerCentNetLastTrade\",, \"T\")/100","v":-2.3474178403755869E-3},{"$f":"RANK($K126,$K$2:K$506)+COUNTIF($K$2:K126,K126)-1","v":{"$error":"#VALUE!"}},"S.US.CTXS",125,"",{"$f":"RTD(\"cqg.rtd\", ,\"ContractData\",O126, \"PerCentNetLastTrade\",, \"T\")/100","v":{"$error":"#VALUE!"}},{"$error":"#N/A"},null,125,""]
[{"$f":"Symbols!A127","v":"S.US.CVS"},{"$f":"IFERROR(RTD(\"cqg.rtd\",,\"StudyData\",A127,\"Bar\",, \"High\",$C$1,\"0\",,,,,\"T\"),\"\")","v":104.49},{"$f":"IFERROR(RTD(\"cqg.rtd\",,\"StudyData\",A127,\"Bar\",, \"Low\",$C$1,\"0\",,,,,\"T\"),\"\")","v":103.08},{"$f":"IFERROR(RTD(\"cqg.rtd\",,\"StudyData\",\"HiLevel(\"&A127&\",Period1:=\"&$B$1&\",AllowGaps:=0,InputChoice1:=High,InputChoice3:=High)\",\"Bar\",, \"Close\",$C$1,\"-1\",,,,,\"T\"),\"\")","v":111.25},{"$f":"IFERROR(RTD(\"cqg.rtd\",,\"StudyData\",\"LoLevel(\"&A127&\",Period2:=\"&$B$1&\",AllowGaps:=0,InputChoice2:=Low,InputChoice4:=Low)\",\"Bar\",, \"Close\",$C$1,\"-1\",,,,,\"T\"),\"\")","v":74.97},0,0,5.0040000000000013,5.036000000000012,"S.US.CVS",{"$f":"RTD(\"cqg.rtd\", ,\"ContractData\",A127, \"PerCentNetLastTrade\",, \"T\")/100","v":4.5331790123456792E-3},{"$f":"RANK($K127,$K$2:K$506)+COUNTIF($K$2:K127,K127)-1","v":{"$error":"#VALUE!"}},"S.US.CVS",126,"",{"$f":"RTD(\"cqg.rtd\", ,\"ContractData\",O127, \"PerCentNetLastTrade\",, \"T\")/100","v":{"$error":"#VALUE!"}},{"$error":"#N/A"},null,126,""]
[{"$f":"Symbols!A128","v":"S.US.CVX"},{"$f":"IFERROR(RTD(\"cqg.rtd\",,\"StudyData\",A128,\"Bar\",, \"High\",$C$1,\"0\",,,,,\"T\"),\"\")","v":173.79},{"$f":"IFERROR(RTD(\"cqg.rtd\",,\"StudyData\",A128,\"Bar\",, \"Low\",$C$1,\"0\",,,,,\"T\"),\"\")","v":171.87},{"$f":"IFERROR(RTD(\"cqg.rtd\",,\"StudyData\",\"HiLevel(\"&A128&\",Period1:=\"&$B$1&\",AllowGaps:=0,InputChoice1:=High,InputChoice3:=High)\",\"Bar\",, \"Close\",$C$1,\"-1\",,,,,\"T\"),\"\")","v":174.76},{"$f":"IFERROR(RTD(\"cqg.rtd\",,\"StudyData\",\"LoLevel(\"&A128&\",Period2:=\"&$B$1&\",AllowGaps:=0,InputChoice2:=Low,InputChoice4:=Low)\",\"Bar\",, \"Close\",$C$1,\"-1\",,,,,\"T\"),\"\")","v":92.86},0,0,5.0050000000000017,5.0370000000000124,"S.US.CVX",{"$f":"RTD(\"cqg.rtd\", ,\"ContractData\",A128, \"PerCentNetLastTrade\",, \"T\")/100","v":1.1713969345532958E-2},{"$f":"RANK($K128,$K$2:K$506)+COUNTIF($K$2:K128,K128)-1","v":{"$error":"#VALUE!"}},"S.US.CVX",127,"",{"$f":"RTD(\"cqg.rtd\", ,\"ContractData\",O128, \"PerCentNetLastTrade\",, \"T\")/100","v":{"$error":"#VALUE!"}},{"$error":"#N/A"},null,127,""]
[{"$f":"Symbols!A129","v":"S.US.CZR"},{"$f":"IFERROR(RTD(\"cqg.rtd\",,\"StudyData\",A129,\"Bar\",, \"High\",$C$1,\"0\",,,,,\"T\"),\"\")","v":69.08},{"$f":"IFERROR(RTD(\"cqg.rtd\",,\"StudyData\",A129,\"Bar\",, \"Low\",$C$1,\"0\",,,,,\"T\"),\"\")","v":68},{"$f":"IFERROR(RTD(\"cqg.rtd\",,\"StudyData\",\"HiLevel(\"&A129&\",Period1:=\"&$B$1&\",AllowGaps:=0,InputChoice1:=High,InputChoice3:=High)\",\"Bar\",, \"Close\",$C$1,\"-1\",,,,,\"T\"),\"\")","v":119.81},{"$f":"IFERROR(RTD(\"cqg.rtd\",,\"StudyData\",\"LoLevel(\"&A129&\",Period2:=\"&$B$1&\",AllowGaps:=0,InputChoice2:=Low,InputChoice4:=Low)\",\"Bar\",, \"Close\",$C$1,\"-1\",,,,,\"T\"),\"\")","v":66.81},0,0,5.006000000000002,5.0380000000000127,"S.US.CZR",{"$f":"RTD(\"cqg.rtd\", ,\"ContractData\",A129, \"PerCentNetLastTrade\",, \"T\")/100","v":-5.8072009291521487E-3},{"$f":"RANK($K129,$K$2:K$506)+COUNTIF($K$2:K129,K129)-1","v":{"$error":"#VALUE!"}},"S.US.CZR",128,"",{"$f":"RTD(\"cqg.rtd\", ,\"ContractData\",O129, \"PerCentNetLastTrade\",, \"T\")/100","v":{"$error":"#VALUE!"}},{"$error":"#N/A"},null,128,""]
[{"$f":"Symbols!A130","v":"S.US.D"},{"$f":"IFERROR(RTD(\"cqg.rtd\",,\"StudyData\",A130,\"Bar\",, \"High\",$C$1,\"0\",,,,,\"T\"),\"\")","v":88.04},{"$f":"IFERROR(RTD(\"cqg.rtd\",,\"StudyData\",A130,\"Bar\",, \"Low\",$C$1,\"0\",,,,,\"T\"),\"\")","v":87.5},{"$f":"IFERROR(RTD(\"cqg.rtd\",,\"StudyData\",\"HiLevel(\"&A130&\",Period1:=\"&$B$1&\",AllowGaps:=0,InputChoice1:=High,InputChoice3:=High)\",\"Bar\",, \"Close\",$C$1,\"-1\",,,,,\"T\"),\"\")","v":88.78},{"$f":"IFERROR(RTD(\"cqg.rtd\",,\"StudyData\",\"LoLevel(\"&A130&\",Period2:=\"&$B$1&\",AllowGaps:=0,InputChoice2:=Low,InputChoice4:=Low)\",\"Bar\",, \"Close\",$C$1,\"-1\",,,,,\"T\"),\"\")","v":70.37},0,0,5.0070000000000023,5.039000000000013,"S.US.D",{"$f":"RTD(\"cqg.rtd\", ,\"ContractData\",A130, \"PerCentNetLastTrade\",, \"T\")/100","v":5.6064073226544621E-3},{"$f":"RANK($K130,$K$2:K$506)+COUNTIF($K$2:K130,K130)-1","v":{"$error":"#VALUE!"}},"S.US.D",129,{"$f":"IFERROR(VLOOKUP(N130,$L$2:$M$506,2,FALSE),\"\")","v":""},{"$f":"RTD(\"cqg.rtd\", ,\"ContractData\",O130, \"PerCentNetLastTrade\",, \"T\")/100","v":{"$error":"#VALUE!"}},{"$f":"VLOOKUP(O130,$A$2:$H$506,8,FALSE)","v":{"$error":"#N/A"}},null,129,{"$f":"IFERROR(VLOOKUP(S130,$H$2:$J$506,3,FALSE),\"\")","v":""}]
[{"$f":"Symbols!A131","v":"S.US.DAL"},{"$f":"IFERROR(RTD(\"cqg.rtd\",,\"StudyData\",A131,\"Bar\",, \"High\",$C$1,\"0\",,,,,\"T\"),\"\")","v":42.82},{"$f":"IFERROR(RTD(\"cqg.rtd\",,\"StudyData\",A131,\"Bar\",, \"Low\",$C$1,\"0\",,,,,\"T\"),\"\")","v":41.85},{"$f":"IFERROR(RTD(\"cqg.rtd\",,\"StudyData\",\"HiLevel(\"&A131&\",Period1:=\"&$B$1&\",AllowGaps:=0,InputChoice1:=High,InputChoice3:=High)\",\"Bar\",, \"Close\",$C$1,\"-1\",,,,,\"T\"),\"\")","v":48.54},{"$f":"IFERROR(RTD(\"cqg.rtd\",,\"StudyData\",\"LoLevel(\"&A131&\",Period2:=\"&$B$1&\",AllowGaps:=0,InputChoice2:=Low,InputChoice4:=Low)\",\"Bar\",, \"Close\",$C$1,\"-1\",,,,,\"T\"),\"\")","v":29.75},0,0,5.0080000000000027,5.0400000000000134,"S.US.DAL",{"$f":"RTD(\"cqg.rtd\", ,\"ContractData\",A131, \"PerCentNetLastTrade\",, \"T\")/100","v":1.0859301227573181E-2},{"$f":"RANK($K131,$K$2:K$506)+COUNTIF($K$2:K131,K131)-1","v":{"$error":"#VALUE!"}},"S.US.DAL",130,"",{"$f":"RTD(\"cqg.rtd\", ,\"ContractData\",O131, \"PerCentNetLastTrade\",, \"T\")/100","v":{"$error":"#VALUE!"}},{"$error":"#N/A"},null,130,""]
[{"$f":"Symbols!A132","v":"S.US.DD"},{"$f":"IFERROR(RTD(\"cqg.rtd\",,\"StudyData\",A132,\"Bar\",, \"High\",$C$1,\"0\",,,,,\"T\"),\"\")","v":69.25},{"$f":"IFERROR(RTD(\"cqg.rtd\",,\"StudyData\",A132,\"Bar\",, \"Low\",$C$1,\"0\",,,,,\"T\"),\"\")","v":68.42},{"$f":"IFERROR(RTD(\"cqg.rtd\",,\"StudyData\",\"HiLevel(\"&A132&\",Period1:=\"&$B$1&\",AllowGaps:=0,InputChoice1:=High,InputChoice3:=High)\",\"Bar\",, \"Close\",$C$1,\"-1\",,,,,\"T\"),\"\")","v":86.28},{"$f":"IFERROR(RTD(\"cqg.rtd\",,\"StudyData\",\"LoLevel(\"&A132&\",Period2:=\"&$B$1&\",AllowGaps:=0,InputChoice2:=Low,InputChoice4:=Low)\",\"Bar\",, \"Close\",$C$1,\"-1\",,,,,\"T\"),\"\")","v":66.37},0,0,5.009000000000003,5.0410000000000137,"S.US.DD",{"$f":"RTD(\"cqg.rtd\", ,\"ContractData\",A132, \"PerCentNetLastTrade\",, \"T\")/100","v":-2.7656477438136829E-3},{"$f":"RANK($K132,$K$2:K$506)+COUNTIF($K$2:K132,K132)-1","v":{"$error":"#VALUE!"}},{"$f":"J132","v":"S.US.DD"},{"$f":"N131+1","v":131},"",{"$f":"RTD(\"cqg.rtd\", ,\"ContractData\",O132, \"PerCentNetLastTrade\",, \"T\")/100","v":{"$error":"#VALUE!"}},{"$error":"#N/A"},null,{"$f":"S131+1","v":131},""]
[{"$f":"Symbols!A133","v":"S.US.DE"},{"$f":"IFERROR(RTD(\"cqg.rtd\",,\"StudyData\",A133,\"Bar\",, \"High\",$C$1,\"0\",,,,,\"T\"),\"\")","v":444.83},{"$f":"IFERROR(RTD(\"cqg.rtd\",,\"StudyData\",A133,\"Bar\",, \"Low\",$C$1,\"0\",,,,,\"T\"),\"\")","v":432.24},{"$f":"IFERROR(RTD(\"cqg.rtd\",,\"StudyData\",\"HiLevel(\"&A133&\",Period1:=\"&$B$1&\",AllowGaps:=0,InputChoice1:=High,InputChoice3:=High)\",\"Bar\",, \"Close\",$C$1,\"-1\",,,,,\"T\"),\"\")","v":439.4},{"$f":"IFERROR(RTD(\"cqg.rtd\",,\"StudyData\",\"LoLevel(\"&A133&\",Period2:=\"&$B$1&\",AllowGaps:=0,InputChoice2:=Low,InputChoice4:=Low)\",\"Bar\",, \"Close\",$C$1,\"-1\",,,,,\"T\"),\"\")","v":320.5},1,0,6,5.042000000000014,"S.US.DE",{"$f":"RTD(\"cqg.rtd\", ,\"ContractData\",A133, \"PerCentNetLastTrade\",, \"T\")/100","v":1.7080709788208356E-2},{"$f":"RANK($K133,$K$2:K$506)+COUNTIF($K$2:K133,K133)-1","v":{"$error":"#VALUE!"}},"S.US.DE",132,"",{"$f":"RTD(\"cqg.rtd\", ,\"ContractData\",O133, \"PerCentNetLastTrade\",, \"T\")/100","v":{"$error":"#VALUE!"}},{"$error":"#N/A"},null,132,""]
[{"$f":"Symbols!A134","v":"S.US.DFS"},{"$f":"IFERROR(RTD(\"cqg.rtd\",,\"StudyData\",A134,\"Bar\",, \"High\",$C$1,\"0\",,,,,\"T\"),\"\")","v":114.56},{"$f":"IFERROR(RTD(\"cqg.rtd\",,\"StudyData\",A134,\"Bar\",, \"Low\",$C$1,\"0\",,,,,\"T\"),\"\")","v":112.03},{"$f":"IFERROR(RTD(\"cqg.rtd\",,\"StudyData\",\"HiLevel(\"&A134&\",Period1:=\"&$B$1&\",AllowGaps:=0,InputChoice1:=High,InputChoice3:=High)\",\"Bar\",, \"Close\",$C$1,\"-1\",,,,,\"T\"),\"\")","v":135.69},{"$f":"IFERROR(RTD(\"cqg.rtd\",,\"StudyData\",\"LoLevel(\"&A134&\",Period2:=\"&$B$1&\",AllowGaps:=0,InputChoice2:=Low,InputChoice4:=Low)\",\"Bar\",, \"Close\",$C$1,\"-1\",,,,,\"T\"),\"\")","v":94.91},0,0,6.0010000000000003,5.0430000000000144,"S.US.DFS",{"$f":"RTD(\"cqg.rtd\", ,\"ContractData\",A134, \"PerCentNetLastTrade\",, \"T\")/100","v":2.1215903013014795E-2},{"$f":"RANK($K134,$K$2:K$506)+COUNTIF($K$2:K134,K134)-1","v":{"$error":"#VALUE!"}},"S.US.DFS",133,"",{"$f":"RTD(\"cqg.rtd\", ,\"ContractData\",O134, \"PerCentNetLastTrade\",, \"T\")/100","v":{"$error":"#VALUE!"}},{"$error":"#N/A"},null,133,""]
[{"$f":"Symbols!A135","v":"S.US.DG"},{"$f":"IFERROR(RTD(\"cqg.rtd\",,\"StudyData\",A135,\"Bar\",, \"High\",$C$1,\"0\",,,,,\"T\"),\"\")","v":249.44},{"$f":"IFERROR(RTD(\"cqg.rtd\",,\"StudyData\",A135,\"Bar\",, \"Low\",$C$1,\"0\",,,,,\"T\"),\"\")","v":246.27},{"$f":"IFERROR(RTD(\"cqg.rtd\",,\"StudyData\",\"HiLevel(\"&A135&\",Period1:=\"&$B$1&\",AllowGaps:=0,InputChoice1:=High,InputChoice3:=High)\",\"Bar\",, \"Close\",$C$1,\"-1\",,,,,\"T\"),\"\")","v":250.3},{"$f":"IFERROR(RTD(\"cqg.rtd\",,\"StudyData\",\"LoLevel(\"&A135&\",Period2:=\"&$B$1&\",AllowGaps:=0,InputChoice2:=Low,InputChoice4:=Low)\",\"Bar\",, \"Close\",$C$1,\"-1\",,,,,\"T\"),\"\")","v":185.15},0,0,6.0020000000000007,5.0440000000000147,"S.US.DG",{"$f":"RTD(\"cqg.rtd\", ,\"ContractData\",A135, \"PerCentNetLastTrade\",, \"T\")/100","v":5.6276882260722751E-4},{"$f":"RANK($K135,$K$2:K$506)+COUNTIF($K$2:K135,K135)-1","v":{"$error":"#VALUE!"}},"S.US.DG",134,"",{"$f":"RTD(\"cqg.rtd\", ,\"ContractData\",O135, \"PerCentNetLastTrade\",, \"T\")/100","v":{"$error":"#VALUE!"}},{"$error":"#N/A"},null,134,""]
[{"$f":"Symbols!A136","v":"S.US.DGX"},{"$f":"IFERROR(RTD(\"cqg.rtd\",,\"StudyData\",A136,\"Bar\",, \"High\",$C$1,\"0\",,,,,\"T\"),\"\")","v":136.4},{"$f":"IFERROR(RTD(\"cqg.rtd\",,\"StudyData\",A136,\"Bar\",, \"Low\",$C$1,\"0\",,,,,\"T\"),\"\")","v":135.6},{"$f":"IFERROR(RTD(\"cqg.rtd\",,\"StudyData\",\"HiLevel(\"&A136&\",Period1:=\"&$B$1&\",AllowGaps:=0,InputChoice1:=High,InputChoice3:=High)\",\"Bar\",, \"Close\",$C$1,\"-1\",,,,,\"T\"),\"\")","v":174.16},{"$f":"IFERROR(RTD(\"cqg.rtd\",,\"StudyData\",\"LoLevel(\"&A136&\",Period2:=\"&$B$1&\",AllowGaps:=0,InputChoice2:=Low,InputChoice4:=Low)\",\"Bar\",, \"Close\",$C$1,\"-1\",,,,,\"T\"),\"\")","v":125.77},0,0,6.003000000000001,5.045000000000015,"S.US.DGX",{"$f":"RTD(\"cqg.rtd\", ,\"ContractData\",A136, \"PerCentNetLastTrade\",, \"T\")/100","v":2.6486168334314301E-3},{"$f":"RANK($K136,$K$2:K$506)+COUNTIF($K$2:K136,K136)-1","v":{"$error":"#VALUE!"}},"S.US.DGX",135,"",{"$f":"RTD(\"cqg.rtd\", ,\"ContractData\",O136, \"PerCentNetLastTrade\",, \"T\")/100","v":{"$error":"#VALUE!"}},{"$error":"#N/A"},null,135,""]
[{"$f":"Symbols!A137","v":"S.US.DHI"},{"$f":"IFERROR(RTD(\"cqg.rtd\",,\"StudyData\",A137,\"Bar\",, \"High\",$C$1,\"0\",,,,,\"T\"),\"\")","v":73.33},{"$f":"IFERROR(RTD(\"cqg.rtd\",,\"StudyData\",A137,\"Bar\",, \"Low\",$C$1,\"0\",,,,,\"T\"),\"\")","v":71.31},{"$f":"IFERROR(RTD(\"cqg.rtd\",,\"StudyData\",\"HiLevel(\"&A137&\",Period1:=\"&$B$1&\",AllowGaps:=0,InputChoice1:=High,InputChoice3:=High)\",\"Bar\",, \"Close\",$C$1,\"-1\",,,,,\"T\"),\"\")","v":110.45},{"$f":"IFERROR(RTD(\"cqg.rtd\",,\"StudyData\",\"LoLevel(\"&A137&\",Period2:=\"&$B$1&\",AllowGaps:=0,InputChoice2:=Low,InputChoice4:=Low)\",\"Bar\",, \"Close\",$C$1,\"-1\",,,,,\"T\"),\"\")","v":68.790000000000006},0,0,6.0040000000000013,5.0460000000000154,"S.US.DHI",{"$f":"RTD(\"cqg.rtd\", ,\"ContractData\",A137, \"PerCentNetLastTrade\",, \"T\")/100","v":-1.1032960970900566E-3},{"$f":"RANK($K137,$K$2:K$506)+COUNTIF($K$2:K137,K137)-1","v":{"$error":"#VALUE!"}},"S.US.DHI",136,"",{"$f":"RTD(\"cqg.rtd\", ,\"ContractData\",O137, \"PerCentNetLastTrade\",, \"T\")/100","v":{"$error":"#VALUE!"}},{"$error":"#N/A"},null,136,""]
[{"$f":"Symbols!A138","v":"S.US.DHR"},{"$f":"IFERROR(RTD(\"cqg.rtd\",,\"StudyData\",A138,\"Bar\",, \"High\",$C$1,\"0\",,,,,\"T\"),\"\")","v":276.79000000000002},{"$f":"IFERROR(RTD(\"cqg.rtd\",,\"StudyData\",A138,\"Bar\",, \"Low\",$C$1,\"0\",,,,,\"T\"),\"\")","v":274.48},{"$f":"IFERROR(RTD(\"cqg.rtd\",,\"StudyData\",\"HiLevel(\"&A138&\",Period1:=\"&$B$1&\",AllowGaps:=0,InputChoice1:=High,InputChoice3:=High)\",\"Bar\",, \"Close\",$C$1,\"-1\",,,,,\"T\"),\"\")","v":333.96},{"$f":"IFERROR(RTD(\"cqg.rtd\",,\"StudyData\",\"LoLevel(\"&A138&\",Period2:=\"&$B$1&\",AllowGaps:=0,InputChoice2:=Low,InputChoice4:=Low)\",\"Bar\",, \"Close\",$C$1,\"-1\",,,,,\"T\"),\"\")","v":238.32},0,0,6.0050000000000017,5.0470000000000157,"S.US.DHR",{"$f":"RTD(\"cqg.rtd\", ,\"ContractData\",A138, \"PerCentNetLastTrade\",, \"T\")/100","v":-6.2820420246949239E-3},{"$f":"RANK($K138,$K$2:K$506)+COUNTIF($K$2:K138,K138)-1","v":{"$error":"#VALUE!"}},"S.US.DHR",137,"",{"$f":"RTD(\"cqg.rtd\", ,\"ContractData\",O138, \"PerCentNetLastTrade\",, \"T\")/100","v":{"$error":"#VALUE!"}},{"$error":"#N/A"},null,137,""]
[{"$f":"Symbols!A139","v":"S.US.DIS"},{"$f":"IFERROR(RTD(\"cqg.rtd\",,\"StudyData\",A139,\"Bar\",, \"High\",$C$1,\"0\",,,,,\"T\"),\"\")","v":130.22},{"$f":"IFERROR(RTD(\"cqg.rtd\",,\"StudyData\",A139,\"Bar\",, \"Low\",$C$1,\"0\",,,,,\"T\"),\"\")","v":129.19},{"$f":"IFERROR(RTD(\"cqg.rtd\",,\"StudyData\",\"HiLevel(\"&A139&\",Period1:=\"&$B$1&\",AllowGaps:=0,InputChoice1:=High,InputChoice3:=High)\",\"Bar\",, \"Close\",$C$1,\"-1\",,,,,\"T\"),\"\")","v":190.33},{"$f":"IFERROR(RTD(\"cqg.rtd\",,\"StudyData\",\"LoLevel(\"&A139&\",Period2:=\"&$B$1&\",AllowGaps:=0,InputChoice2:=Low,InputChoice4:=Low)\",\"Bar\",, \"Close\",$C$1,\"-1\",,,,,\"T\"),\"\")","v":128.38},0,0,6.006000000000002,5.048000000000016,"S.US.DIS",{"$f":"RTD(\"cqg.rtd\", ,\"ContractData\",A139, \"PerCentNetLastTrade\",, \"T\")/100","v":-8.1244730589407517E-3},{"$f":"RANK($K139,$K$2:K$506)+COUNTIF($K$2:K139,K139)-1","v":{"$error":"#VALUE!"}},"S.US.DIS",138,"",{"$f":"RTD(\"cqg.rtd\", ,\"ContractData\",O139, \"PerCentNetLastTrade\",, \"T\")/100","v":{"$error":"#VALUE!"}},{"$error":"#N/A"},null,138,""]
[{"$f":"Symbols!A140","v":"S.US.DISH"},{"$f":"IFERROR(RTD(\"cqg.rtd\",,\"StudyData\",A140,\"Bar\",, \"High\",$C$1,\"0\",,,,,\"T\"),\"\")","v":33.74},{"$f":"IFERROR(RTD(\"cqg.rtd\",,\"StudyData\",A140,\"Bar\",, \"Low\",$C$1,\"0\",,,,,\"T\"),\"\")","v":32.869999999999997},{"$f":"IFERROR(RTD(\"cqg.rtd\",,\"StudyData\",\"HiLevel(\"&A140&\",Period1:=\"&$B$1&\",AllowGaps:=0,InputChoice1:=High,InputChoice3:=High)\",\"Bar\",, \"Close\",$C$1,\"-1\",,,,,\"T\"),\"\")","v":47.05},{"$f":"IFERROR(RTD(\"cqg.rtd\",,\"StudyData\",\"LoLevel(\"&A140&\",Period2:=\"&$B$1&\",AllowGaps:=0,InputChoice2:=Low,InputChoice4:=Low)\",\"Bar\",, \"Close\",$C$1,\"-1\",,,,,\"T\"),\"\")","v":25.84},0,0,6.0070000000000023,5.0490000000000164,"S.US.DISH",{"$f":"RTD(\"cqg.rtd\", ,\"ContractData\",A140, \"PerCentNetLastTrade\",, \"T\")/100","v":7.5323892738776745E-3},{"$f":"RANK($K140,$K$2:K$506)+COUNTIF($K$2:K140,K140)-1","v":{"$error":"#VALUE!"}},"S.US.DISH",139,"",{"$f":"RTD(\"cqg.rtd\", ,\"ContractData\",O140, \"PerCentNetLastTrade\",, \"T\")/100","v":{"$error":"#VALUE!"}},{"$error":"#N/A"},null,139,""]
[{"$f":"Symbols!A141","v":"S.US.DLR"},{"$f":"IFERROR(RTD(\"cqg.rtd\",,\"StudyData\",A141,\"Bar\",, \"High\",$C$1,\"0\",,,,,\"T\"),\"\")","v":145.74},{"$f":"IFERROR(RTD(\"cqg.rtd\",,\"StudyData\",A141,\"Bar\",, \"Low\",$C$1,\"0\",,,,,\"T\"),\"\")","v":144.84},{"$f":"IFERROR(RTD(\"cqg.rtd\",,\"StudyData\",\"HiLevel(\"&A141&\",Period1:=\"&$B$1&\",AllowGaps:=0,InputChoice1:=High,InputChoice3:=High)\",\"Bar\",, \"Close\",$C$1,\"-1\",,,,,\"T\"),\"\")","v":178.22},{"$f":"IFERROR(RTD(\"cqg.rtd\",,\"StudyData\",\"LoLevel(\"&A141&\",Period2:=\"&$B$1&\",AllowGaps:=0,InputChoice2:=Low,InputChoice4:=Low)\",\"Bar\",, \"Close\",$C$1,\"-1\",,,,,\"T\"),\"\")","v":130.1},0,0,6.0080000000000027,5.0500000000000167,"S.US.DLR",{"$f":"RTD(\"cqg.rtd\", ,\"ContractData\",A141, \"PerCentNetLastTrade\",, \"T\")/100","v":-1.3791201213625708E-4},{"$f":"RANK($K141,$K$2:K$506)+COUNTIF($K$2:K141,K141)-1","v":{"$error":"#VALUE!"}},"S.US.DLR",140,"",{"$f":"RTD(\"cqg.rtd\", ,\"ContractData\",O141, \"PerCentNetLastTrade\",, \"T\")/100","v":{"$error":"#VALUE!"}},{"$error":"#N/A"},null,140,""]
[{"$f":"Symbols!A142","v":"S.US.DLTR"},{"$f":"IFERROR(RTD(\"cqg.rtd\",,\"StudyData\",A142,\"Bar\",, \"High\",$C$1,\"0\",,,,,\"T\"),\"\")","v":173.69},{"$f":"IFERROR(RTD(\"cqg.rtd\",,\"StudyData\",A142,\"Bar\",, \"Low\",$C$1,\"0\",,,,,\"T\"),\"\")","v":172.45},{"$f":"IFERROR(RTD(\"cqg.rtd\",,\"StudyData\",\"HiLevel(\"&A142&\",Period1:=\"&$B$1&\",AllowGaps:=0,InputChoice1:=High,InputChoice3:=High)\",\"Bar\",, \"Close\",$C$1,\"-1\",,,,,\"T\"),\"\")","v":174.3},{"$f":"IFERROR(RTD(\"cqg.rtd\",,\"StudyData\",\"LoLevel(\"&A142&\",Period2:=\"&$B$1&\",AllowGaps:=0,InputChoice2:=Low,InputChoice4:=Low)\",\"Bar\",, \"Close\",$C$1,\"-1\",,,,,\"T\"),\"\")","v":84.26},0,0,6.009000000000003,5.051000000000017,"S.US.DLTR",{"$f":"RTD(\"cqg.rtd\", ,\"ContractData\",A142, \"PerCentNetLastTrade\",, \"T\")/100","v":2.3114706732158337E-3},{"$f":"RANK($K142,$K$2:K$506)+COUNTIF($K$2:K142,K142)-1","v":{"$error":"#VALUE!"}},"S.US.DLTR",141,"",{"$f":"RTD(\"cqg.rtd\", ,\"ContractData\",O142, \"PerCentNetLastTrade\",, \"T\")/100","v":{"$error":"#VALUE!"}},{"$error":"#N/A"},null,141,""]
[{"$f":"Symbols!A143","v":"S.US.DOV"},{"$f":"IFERROR(RTD(\"cqg.rtd\",,\"StudyData\",A143,\"Bar\",, \"High\",$C$1,\"0\",,,,,\"T\"),\"\")","v":148.19},{"$f":"IFERROR(RTD(\"cqg.rtd\",,\"StudyData\",A143,\"Bar\",, \"Low\",$C$1,\"0\",,,,,\"T\"),\"\")","v":145.96},{"$f":"IFERROR(RTD(\"cqg.rtd\",,\"StudyData\",\"HiLevel(\"&A143&\",Period1:=\"&$B$1&\",AllowGaps:=0,InputChoice1:=High,InputChoice3:=High)\",\"Bar\",, \"Close\",$C$1,\"-1\",,,,,\"T\"),\"\")","v":184.04},{"$f":"IFERROR(RTD(\"cqg.rtd\",,\"StudyData\",\"LoLevel(\"&A143&\",Period2:=\"&$B$1&\",AllowGaps:=0,InputChoice2:=Low,InputChoice4:=Low)\",\"Bar\",, \"Close\",$C$1,\"-1\",,,,,\"T\"),\"\")","v":138.87},0,0,6.0100000000000033,5.0520000000000174,"S.US.DOV",{"$f":"RTD(\"cqg.rtd\", ,\"ContractData\",A143, \"PerCentNetLastTrade\",, \"T\")/100","v":1.0109980189903682E-2},{"$f":"RANK($K143,$K$2:K$506)+COUNTIF($K$2:K143,K143)-1","v":{"$error":"#VALUE!"}},"S.US.DOV",142,"",{"$f":"RTD(\"cqg.rtd\", ,\"ContractData\",O143, \"PerCentNetLastTrade\",, \"T\")/100","v":{"$error":"#VALUE!"}},{"$error":"#N/A"},null,142,""]
[{"$f":"Symbols!A144","v":"S.US.DOW"},{"$f":"IFERROR(RTD(\"cqg.rtd\",,\"StudyData\",A144,\"Bar\",, \"High\",$C$1,\"0\",,,,,\"T\"),\"\")","v":66.260000000000005},{"$f":"IFERROR(RTD(\"cqg.rtd\",,\"StudyData\",A144,\"Bar\",, \"Low\",$C$1,\"0\",,,,,\"T\"),\"\")","v":65.3},{"$f":"IFERROR(RTD(\"cqg.rtd\",,\"StudyData\",\"HiLevel(\"&A144&\",Period1:=\"&$B$1&\",AllowGaps:=0,InputChoice1:=High,InputChoice3:=High)\",\"Bar\",, \"Close\",$C$1,\"-1\",,,,,\"T\"),\"\")","v":71.38},{"$f":"IFERROR(RTD(\"cqg.rtd\",,\"StudyData\",\"LoLevel(\"&A144&\",Period2:=\"&$B$1&\",AllowGaps:=0,InputChoice2:=Low,InputChoice4:=Low)\",\"Bar\",, \"Close\",$C$1,\"-1\",,,,,\"T\"),\"\")","v":52.07},0,0,6.0110000000000037,5.0530000000000177,"S.US.DOW",{"$f":"RTD(\"cqg.rtd\", ,\"ContractData\",A144, \"PerCentNetLastTrade\",, \"T\")/100","v":7.6347533974652614E-3},{"$f":"RANK($K144,$K$2:K$506)+COUNTIF($K$2:K144,K144)-1","v":{"$error":"#VALUE!"}},"S.US.DOW",143,"",{"$f":"RTD(\"cqg.rtd\", ,\"ContractData\",O144, \"PerCentNetLastTrade\",, \"T\")/100","v":{"$error":"#VALUE!"}},{"$error":"#N/A"},null,143,""]
[{"$f":"Symbols!A145","v":"S.US.DPZ"},{"$f":"IFERROR(RTD(\"cqg.rtd\",,\"StudyData\",A145,\"Bar\",, \"High\",$C$1,\"0\",,,,,\"T\"),\"\")","v":388.12},{"$f":"IFERROR(RTD(\"cqg.rtd\",,\"StudyData\",A145,\"Bar\",, \"Low\",$C$1,\"0\",,,,,\"T\"),\"\")","v":384.07},{"$f":"IFERROR(RTD(\"cqg.rtd\",,\"StudyData\",\"HiLevel(\"&A145&\",Period1:=\"&$B$1&\",AllowGaps:=0,InputChoice1:=High,InputChoice3:=High)\",\"Bar\",, \"Close\",$C$1,\"-1\",,,,,\"T\"),\"\")","v":567.57000000000005},{"$f":"IFERROR(RTD(\"cqg.rtd\",,\"StudyData\",\"LoLevel(\"&A145&\",Period2:=\"&$B$1&\",AllowGaps:=0,InputChoice2:=Low,InputChoice4:=Low)\",\"Bar\",, \"Close\",$C$1,\"-1\",,,,,\"T\"),\"\")","v":378.46},0,0,6.012000000000004,5.054000000000018,"S.US.DPZ",{"$f":"RTD(\"cqg.rtd\", ,\"ContractData\",A145, \"PerCentNetLastTrade\",, \"T\")/100","v":-5.5521123850841856E-3},{"$f":"RANK($K145,$K$2:K$506)+COUNTIF($K$2:K145,K145)-1","v":{"$error":"#VALUE!"}},"S.US.DPZ",144,"",{"$f":"RTD(\"cqg.rtd\", ,\"ContractData\",O145, \"PerCentNetLastTrade\",, \"T\")/100","v":{"$error":"#VALUE!"}},{"$error":"#N/A"},null,144,""]
[{"$f":"Symbols!A146","v":"S.US.DRE"},{"$f":"IFERROR(RTD(\"cqg.rtd\",,\"StudyData\",A146,\"Bar\",, \"High\",$C$1,\"0\",,,,,\"T\"),\"\")","v":58.69},{"$f":"IFERROR(RTD(\"cqg.rtd\",,\"StudyData\",A146,\"Bar\",, \"Low\",$C$1,\"0\",,,,,\"T\"),\"\")","v":58.31},{"$f":"IFERROR(RTD(\"cqg.rtd\",,\"StudyData\",\"HiLevel(\"&A146&\",Period1:=\"&$B$1&\",AllowGaps:=0,InputChoice1:=High,InputChoice3:=High)\",\"Bar\",, \"Close\",$C$1,\"-1\",,,,,\"T\"),\"\")","v":66.22},{"$f":"IFERROR(RTD(\"cqg.rtd\",,\"StudyData\",\"LoLevel(\"&A146&\",Period2:=\"&$B$1&\",AllowGaps:=0,InputChoice2:=Low,InputChoice4:=Low)\",\"Bar\",, \"Close\",$C$1,\"-1\",,,,,\"T\"),\"\")","v":44.13},0,0,6.0130000000000043,5.0550000000000184,"S.US.DRE",{"$f":"RTD(\"cqg.rtd\", ,\"ContractData\",A146, \"PerCentNetLastTrade\",, \"T\")/100","v":5.3218884120171672E-3},{"$f":"RANK($K146,$K$2:K$506)+COUNTIF($K$2:K146,K146)-1","v":{"$error":"#VALUE!"}},"S.US.DRE",145,"",{"$f":"RTD(\"cqg.rtd\", ,\"ContractData\",O146, \"PerCentNetLastTrade\",, \"T\")/100","v":{"$error":"#VALUE!"}},{"$error":"#N/A"},null,145,""]
[{"$f":"Symbols!A147","v":"S.US.DRI"},{"$f":"IFERROR(RTD(\"cqg.rtd\",,\"StudyData\",A147,\"Bar\",, \"High\",$C$1,\"0\",,,,,\"T\"),\"\")","v":131.69999999999999},{"$f":"IFERROR(RTD(\"cqg.rtd\",,\"StudyData\",A147,\"Bar\",, \"Low\",$C$1,\"0\",,,,,\"T\"),\"\")","v":130.24},{"$f":"IFERROR(RTD(\"cqg.rtd\",,\"StudyData\",\"HiLevel(\"&A147&\",Period1:=\"&$B$1&\",AllowGaps:=0,InputChoice1:=High,InputChoice3:=High)\",\"Bar\",, \"Close\",$C$1,\"-1\",,,,,\"T\"),\"\")","v":164.27},{"$f":"IFERROR(RTD(\"cqg.rtd\",,\"StudyData\",\"LoLevel(\"&A147&\",Period2:=\"&$B$1&\",AllowGaps:=0,InputChoice2:=Low,InputChoice4:=Low)\",\"Bar\",, \"Close\",$C$1,\"-1\",,,,,\"T\"),\"\")","v":116.03},0,0,6.0140000000000047,5.0560000000000187,"S.US.DRI",{"$f":"RTD(\"cqg.rtd\", ,\"ContractData\",A147, \"PerCentNetLastTrade\",, \"T\")/100","v":-1.521491061240015E-3},{"$f":"RANK($K147,$K$2:K$506)+COUNTIF($K$2:K147,K147)-1","v":{"$error":"#VALUE!"}},"S.US.DRI",146,"",{"$f":"RTD(\"cqg.rtd\", ,\"ContractData\",O147, \"PerCentNetLastTrade\",, \"T\")/100","v":{"$error":"#VALUE!"}},{"$error":"#N/A"},null,146,""]
[{"$f":"Symbols!A148","v":"S.US.DTE"},{"$f":"IFERROR(RTD(\"cqg.rtd\",,\"StudyData\",A148,\"Bar\",, \"High\",$C$1,\"0\",,,,,\"T\"),\"\")","v":138.03},{"$f":"IFERROR(RTD(\"cqg.rtd\",,\"StudyData\",A148,\"Bar\",, \"Low\",$C$1,\"0\",,,,,\"T\"),\"\")","v":137.37},{"$f":"IFERROR(RTD(\"cqg.rtd\",,\"StudyData\",\"HiLevel(\"&A148&\",Period1:=\"&$B$1&\",AllowGaps:=0,InputChoice1:=High,InputChoice3:=High)\",\"Bar\",, \"Close\",$C$1,\"-1\",,,,,\"T\"),\"\")","v":138.51},{"$f":"IFERROR(RTD(\"cqg.rtd\",,\"StudyData\",\"LoLevel(\"&A148&\",Period2:=\"&$B$1&\",AllowGaps:=0,InputChoice2:=Low,InputChoice4:=Low)\",\"Bar\",, \"Close\",$C$1,\"-1\",,,,,\"T\"),\"\")","v":108.22},0,0,6.015000000000005,5.057000000000019,"S.US.DTE",{"$f":"RTD(\"cqg.rtd\", ,\"ContractData\",A148, \"PerCentNetLastTrade\",, \"T\")/100","v":5.0302544288109638E-3},{"$f":"RANK($K148,$K$2:K$506)+COUNTIF($K$2:K148,K148)-1","v":{"$error":"#VALUE!"}},"S.US.DTE",147,"",{"$f":"RTD(\"cqg.rtd\", ,\"ContractData\",O148, \"PerCentNetLastTrade\",, \"T\")/100","v":{"$error":"#VALUE!"}},{"$error":"#N/A"},null,147,""]
[{"$f":"Symbols!A149","v":"S.US.DUK"},{"$f":"IFERROR(RTD(\"cqg.rtd\",,\"StudyData\",A149,\"Bar\",, \"High\",$C$1,\"0\",,,,,\"T\"),\"\")","v":115.82},{"$f":"IFERROR(RTD(\"cqg.rtd\",,\"StudyData\",A149,\"Bar\",, \"Low\",$C$1,\"0\",,,,,\"T\"),\"\")","v":115.16},{"$f":"IFERROR(RTD(\"cqg.rtd\",,\"StudyData\",\"HiLevel(\"&A149&\",Period1:=\"&$B$1&\",AllowGaps:=0,InputChoice1:=High,InputChoice3:=High)\",\"Bar\",, \"Close\",$C$1,\"-1\",,,,,\"T\"),\"\")","v":115.96},{"$f":"IFERROR(RTD(\"cqg.rtd\",,\"StudyData\",\"LoLevel(\"&A149&\",Period2:=\"&$B$1&\",AllowGaps:=0,InputChoice2:=Low,InputChoice4:=Low)\",\"Bar\",, \"Close\",$C$1,\"-1\",,,,,\"T\"),\"\")","v":95.48},0,0,6.0160000000000053,5.0580000000000194,"S.US.DUK",{"$f":"RTD(\"cqg.rtd\", ,\"ContractData\",A149, \"PerCentNetLastTrade\",, \"T\")/100","v":5.6595559425337396E-3},{"$f":"RANK($K149,$K$2:K$506)+COUNTIF($K$2:K149,K149)-1","v":{"$error":"#VALUE!"}},"S.US.DUK",148,"",{"$f":"RTD(\"cqg.rtd\", ,\"ContractData\",O149, \"PerCentNetLastTrade\",, \"T\")/100","v":{"$error":"#VALUE!"}},{"$error":"#N/A"},null,148,""]
[{"$f":"Symbols!A150","v":"S.US.DVA"},{"$f":"IFERROR(RTD(\"cqg.rtd\",,\"StudyData\",A150,\"Bar\",, \"High\",$C$1,\"0\",,,,,\"T\"),\"\")","v":121.98},{"$f":"IFERROR(RTD(\"cqg.rtd\",,\"StudyData\",A150,\"Bar\",, \"Low\",$C$1,\"0\",,,,,\"T\"),\"\")","v":120.34},{"$f":"IFERROR(RTD(\"cqg.rtd\",,\"StudyData\",\"HiLevel(\"&A150&\",Period1:=\"&$B$1&\",AllowGaps:=0,InputChoice1:=High,InputChoice3:=High)\",\"Bar\",, \"Close\",$C$1,\"-1\",,,,,\"T\"),\"\")","v":136.47999999999999},{"$f":"IFERROR(RTD(\"cqg.rtd\",,\"StudyData\",\"LoLevel(\"&A150&\",Period2:=\"&$B$1&\",AllowGaps:=0,InputChoice2:=Low,InputChoice4:=Low)\",\"Bar\",, \"Close\",$C$1,\"-1\",,,,,\"T\"),\"\")","v":94.38},0,0,6.0170000000000057,5.0590000000000197,"S.US.DVA",{"$f":"RTD(\"cqg.rtd\", ,\"ContractData\",A150, \"PerCentNetLastTrade\",, \"T\")/100","v":4.1992589543021815E-3},{"$f":"RANK($K150,$K$2:K$506)+COUNTIF($K$2:K150,K150)-1","v":{"$error":"#VALUE!"}},"S.US.DVA",149,"",{"$f":"RTD(\"cqg.rtd\", ,\"ContractData\",O150, \"PerCentNetLastTrade\",, \"T\")/100","v":{"$error":"#VALUE!"}},{"$error":"#N/A"},null,149,""]
[{"$f":"Symbols!A151","v":"S.US.DVN"},{"$f":"IFERROR(RTD(\"cqg.rtd\",,\"StudyData\",A151,\"Bar\",, \"High\",$C$1,\"0\",,,,,\"T\"),\"\")","v":64.239999999999995},{"$f":"IFERROR(RTD(\"cqg.rtd\",,\"StudyData\",A151,\"Bar\",, \"Low\",$C$1,\"0\",,,,,\"T\"),\"\")","v":62.65},{"$f":"IFERROR(RTD(\"cqg.rtd\",,\"StudyData\",\"HiLevel(\"&A151&\",Period1:=\"&$B$1&\",AllowGaps:=0,InputChoice1:=High,InputChoice3:=High)\",\"Bar\",, \"Close\",$C$1,\"-1\",,,,,\"T\"),\"\")","v":64.290000000000006},{"$f":"IFERROR(RTD(\"cqg.rtd\",,\"StudyData\",\"LoLevel(\"&A151&\",Period2:=\"&$B$1&\",AllowGaps:=0,InputChoice2:=Low,InputChoice4:=Low)\",\"Bar\",, \"Close\",$C$1,\"-1\",,,,,\"T\"),\"\")","v":20.14},0,0,6.018000000000006,5.06000000000002,"S.US.DVN",{"$f":"RTD(\"cqg.rtd\", ,\"ContractData\",A151, \"PerCentNetLastTrade\",, \"T\")/100","v":2.0300511508951406E-2},{"$f":"RANK($K151,$K$2:K$506)+COUNTIF($K$2:K151,K151)-1","v":{"$error":"#VALUE!"}},"S.US.DVN",150,"",{"$f":"RTD(\"cqg.rtd\", ,\"ContractData\",O151, \"PerCentNetLastTrade\",, \"T\")/100","v":{"$error":"#VALUE!"}},{"$error":"#N/A"},null,150,""]
[{"$f":"Symbols!A152","v":"S.US.DXC"},{"$f":"IFERROR(RTD(\"cqg.rtd\",,\"StudyData\",A152,\"Bar\",, \"High\",$C$1,\"0\",,,,,\"T\"),\"\")","v":31.64},{"$f":"IFERROR(RTD(\"cqg.rtd\",,\"StudyData\",A152,\"Bar\",, \"Low\",$C$1,\"0\",,,,,\"T\"),\"\")","v":31.03},{"$f":"IFERROR(RTD(\"cqg.rtd\",,\"StudyData\",\"HiLevel(\"&A152&\",Period1:=\"&$B$1&\",AllowGaps:=0,InputChoice1:=High,InputChoice3:=High)\",\"Bar\",, \"Close\",$C$1,\"-1\",,,,,\"T\"),\"\")","v":44.18},{"$f":"IFERROR(RTD(\"cqg.rtd\",,\"StudyData\",\"LoLevel(\"&A152&\",Period2:=\"&$B$1&\",AllowGaps:=0,InputChoice2:=Low,InputChoice4:=Low)\",\"Bar\",, \"Close\",$C$1,\"-1\",,,,,\"T\"),\"\")","v":28.56},0,0,6.0190000000000063,5.0610000000000204,"S.US.DXC",{"$f":"RTD(\"cqg.rtd\", ,\"ContractData\",A152, \"PerCentNetLastTrade\",, \"T\")/100","v":6.0799999999999995E-3},{"$f":"RANK($K152,$K$2:K$506)+COUNTIF($K$2:K152,K152)-1","v":{"$error":"#VALUE!"}},"S.US.DXC",151,"",{"$f":"RTD(\"cqg.rtd\", ,\"ContractData\",O152, \"PerCentNetLastTrade\",, \"T\")/100","v":{"$error":"#VALUE!"}},{"$error":"#N/A"},null,151,""]
[{"$f":"Symbols!A153","v":"S.US.DXCM"},{"$f":"IFERROR(RTD(\"cqg.rtd\",,\"StudyData\",A153,\"Bar\",, \"High\",$C$1,\"0\",,,,,\"T\"),\"\")","v":491.99},{"$f":"IFERROR(RTD(\"cqg.rtd\",,\"StudyData\",A153,\"Bar\",, \"Low\",$C$1,\"0\",,,,,\"T\"),\"\")","v":482.02},{"$f":"IFERROR(RTD(\"cqg.rtd\",,\"StudyData\",\"HiLevel(\"&A153&\",Period1:=\"&$B$1&\",AllowGaps:=0,InputChoice1:=High,InputChoice3:=High)\",\"Bar\",, \"Close\",$C$1,\"-1\",,,,,\"T\"),\"\")","v":659.45},{"$f":"IFERROR(RTD(\"cqg.rtd\",,\"StudyData\",\"LoLevel(\"&A153&\",Period2:=\"&$B$1&\",AllowGaps:=0,InputChoice2:=Low,InputChoice4:=Low)\",\"Bar\",, \"Close\",$C$1,\"-1\",,,,,\"T\"),\"\")","v":318.45},0,0,6.0200000000000067,5.0620000000000207,"S.US.DXCM",{"$f":"RTD(\"cqg.rtd\", ,\"ContractData\",A153, \"PerCentNetLastTrade\",, \"T\")/100","v":-1.9609436914510982E-2},{"$f":"RANK($K153,$K$2:K$506)+COUNTIF($K$2:K153,K153)-1","v":{"$error":"#VALUE!"}},"S.US.DXCM",152,"",{"$f":"RTD(\"cqg.rtd\", ,\"ContractData\",O153, \"PerCentNetLastTrade\",, \"T\")/100","v":{"$error":"#VALUE!"}},{"$error":"#N/A"},null,152,""]
[{"$f":"Symbols!A154","v":"S.US.EA"},{"$f":"IFERROR(RTD(\"cqg.rtd\",,\"StudyData\",A154,\"Bar\",, \"High\",$C$1,\"0\",,,,,\"T\"),\"\")","v":123.34},{"$f":"IFERROR(RTD(\"cqg.rtd\",,\"StudyData\",A154,\"Bar\",, \"Low\",$C$1,\"0\",,,,,\"T\"),\"\")","v":122.34},{"$f":"IFERROR(RTD(\"cqg.rtd\",,\"StudyData\",\"HiLevel(\"&A154&\",Period1:=\"&$B$1&\",AllowGaps:=0,InputChoice1:=High,InputChoice3:=High)\",\"Bar\",, \"Close\",$C$1,\"-1\",,,,,\"T\"),\"\")","v":148.93},{"$f":"IFERROR(RTD(\"cqg.rtd\",,\"StudyData\",\"LoLevel(\"&A154&\",Period2:=\"&$B$1&\",AllowGaps:=0,InputChoice2:=Low,InputChoice4:=Low)\",\"Bar\",, \"Close\",$C$1,\"-1\",,,,,\"T\"),\"\")","v":117.58},0,0,6.021000000000007,5.063000000000021,"S.US.EA",{"$f":"RTD(\"cqg.rtd\", ,\"ContractData\",A154, \"PerCentNetLastTrade\",, \"T\")/100","v":3.2626427406199016E-4},{"$f":"RANK($K154,$K$2:K$506)+COUNTIF($K$2:K154,K154)-1","v":{"$error":"#VALUE!"}},"S.US.EA",153,"",{"$f":"RTD(\"cqg.rtd\", ,\"ContractData\",O154, \"PerCentNetLastTrade\",, \"T\")/100","v":{"$error":"#VALUE!"}},{"$error":"#N/A"},null,153,""]
[{"$f":"Symbols!A155","v":"S.US.EBAY"},{"$f":"IFERROR(RTD(\"cqg.rtd\",,\"StudyData\",A155,\"Bar\",, \"High\",$C$1,\"0\",,,,,\"T\"),\"\")","v":54.36},{"$f":"IFERROR(RTD(\"cqg.rtd\",,\"StudyData\",A155,\"Bar\",, \"Low\",$C$1,\"0\",,,,,\"T\"),\"\")","v":53.72},{"$f":"IFERROR(RTD(\"cqg.rtd\",,\"StudyData\",\"HiLevel(\"&A155&\",Period1:=\"&$B$1&\",AllowGaps:=0,InputChoice1:=High,InputChoice3:=High)\",\"Bar\",, \"Close\",$C$1,\"-1\",,,,,\"T\"),\"\")","v":81.19},{"$f":"IFERROR(RTD(\"cqg.rtd\",,\"StudyData\",\"LoLevel(\"&A155&\",Period2:=\"&$B$1&\",AllowGaps:=0,InputChoice2:=Low,InputChoice4:=Low)\",\"Bar\",, \"Close\",$C$1,\"-1\",,,,,\"T\"),\"\")","v":49.53},0,0,6.0220000000000073,5.0640000000000214,"S.US.EBAY",{"$f":"RTD(\"cqg.rtd\", ,\"ContractData\",A155, \"PerCentNetLastTrade\",, \"T\")/100","v":-6.8328716528162515E-3},{"$f":"RANK($K155,$K$2:K$506)+COUNTIF($K$2:K155,K155)-1","v":{"$error":"#VALUE!"}},"S.US.EBAY",154,"",{"$f":"RTD(\"cqg.rtd\", ,\"ContractData\",O155, \"PerCentNetLastTrade\",, \"T\")/100","v":{"$error":"#VALUE!"}},{"$error":"#N/A"},null,154,""]
[{"$f":"Symbols!A156","v":"S.US.ECL"},{"$f":"IFERROR(RTD(\"cqg.rtd\",,\"StudyData\",A156,\"Bar\",, \"High\",$C$1,\"0\",,,,,\"T\"),\"\")","v":177.56},{"$f":"IFERROR(RTD(\"cqg.rtd\",,\"StudyData\",A156,\"Bar\",, \"Low\",$C$1,\"0\",,,,,\"T\"),\"\")","v":175.12},{"$f":"IFERROR(RTD(\"cqg.rtd\",,\"StudyData\",\"HiLevel(\"&A156&\",Period1:=\"&$B$1&\",AllowGaps:=0,InputChoice1:=High,InputChoice3:=High)\",\"Bar\",, \"Close\",$C$1,\"-1\",,,,,\"T\"),\"\")","v":238.93},{"$f":"IFERROR(RTD(\"cqg.rtd\",,\"StudyData\",\"LoLevel(\"&A156&\",Period2:=\"&$B$1&\",AllowGaps:=0,InputChoice2:=Low,InputChoice4:=Low)\",\"Bar\",, \"Close\",$C$1,\"-1\",,,,,\"T\"),\"\")","v":154.84},0,0,6.0230000000000077,5.0650000000000217,"S.US.ECL",{"$f":"RTD(\"cqg.rtd\", ,\"ContractData\",A156, \"PerCentNetLastTrade\",, \"T\")/100","v":6.2287655719139303E-4},{"$f":"RANK($K156,$K$2:K$506)+COUNTIF($K$2:K156,K156)-1","v":{"$error":"#VALUE!"}},"S.US.ECL",155,"",{"$f":"RTD(\"cqg.rtd\", ,\"ContractData\",O156, \"PerCentNetLastTrade\",, \"T\")/100","v":{"$error":"#VALUE!"}},{"$error":"#N/A"},null,155,""]
[{"$f":"Symbols!A157","v":"S.US.ED"},{"$f":"IFERROR(RTD(\"cqg.rtd\",,\"StudyData\",A157,\"Bar\",, \"High\",$C$1,\"0\",,,,,\"T\"),\"\")","v":98.61},{"$f":"IFERROR(RTD(\"cqg.rtd\",,\"StudyData\",A157,\"Bar\",, \"Low\",$C$1,\"0\",,,,,\"T\"),\"\")","v":98.25},{"$f":"IFERROR(RTD(\"cqg.rtd\",,\"StudyData\",\"HiLevel(\"&A157&\",Period1:=\"&$B$1&\",AllowGaps:=0,InputChoice1:=High,InputChoice3:=High)\",\"Bar\",, \"Close\",$C$1,\"-1\",,,,,\"T\"),\"\")","v":98.65},{"$f":"IFERROR(RTD(\"cqg.rtd\",,\"StudyData\",\"LoLevel(\"&A157&\",Period2:=\"&$B$1&\",AllowGaps:=0,InputChoice2:=Low,InputChoice4:=Low)\",\"Bar\",, \"Close\",$C$1,\"-1\",,,,,\"T\"),\"\")","v":71.17},0,0,6.024000000000008,5.066000000000022,"S.US.ED",{"$f":"RTD(\"cqg.rtd\", ,\"ContractData\",A157, \"PerCentNetLastTrade\",, \"T\")/100","v":4.2844027338569826E-3},{"$f":"RANK($K157,$K$2:K$506)+COUNTIF($K$2:K157,K157)-1","v":{"$error":"#VALUE!"}},"S.US.ED",156,"",{"$f":"RTD(\"cqg.rtd\", ,\"ContractData\",O157, \"PerCentNetLastTrade\",, \"T\")/100","v":{"$error":"#VALUE!"}},{"$error":"#N/A"},null,156,""]
[{"$f":"Symbols!A158","v":"S.US.EFX"},{"$f":"IFERROR(RTD(\"cqg.rtd\",,\"StudyData\",A158,\"Bar\",, \"High\",$C$1,\"0\",,,,,\"T\"),\"\")","v":218.44},{"$f":"IFERROR(RTD(\"cqg.rtd\",,\"StudyData\",A158,\"Bar\",, \"Low\",$C$1,\"0\",,,,,\"T\"),\"\")","v":215},{"$f":"IFERROR(RTD(\"cqg.rtd\",,\"StudyData\",\"HiLevel(\"&A158&\",Period1:=\"&$B$1&\",AllowGaps:=0,InputChoice1:=High,InputChoice3:=High)\",\"Bar\",, \"Close\",$C$1,\"-1\",,,,,\"T\"),\"\")","v":300.11},{"$f":"IFERROR(RTD(\"cqg.rtd\",,\"StudyData\",\"LoLevel(\"&A158&\",Period2:=\"&$B$1&\",AllowGaps:=0,InputChoice2:=Low,InputChoice4:=Low)\",\"Bar\",, \"Close\",$C$1,\"-1\",,,,,\"T\"),\"\")","v":188.5},0,0,6.0250000000000083,5.0670000000000224,"S.US.EFX",{"$f":"RTD(\"cqg.rtd\", ,\"ContractData\",A158, \"PerCentNetLastTrade\",, \"T\")/100","v":5.4995840650707084E-3},{"$f":"RANK($K158,$K$2:K$506)+COUNTIF($K$2:K158,K158)-1","v":{"$error":"#VALUE!"}},"S.US.EFX",157,"",{"$f":"RTD(\"cqg.rtd\", ,\"ContractData\",O158, \"PerCentNetLastTrade\",, \"T\")/100","v":{"$error":"#VALUE!"}},{"$error":"#N/A"},null,157,""]
[{"$f":"Symbols!A159","v":"S.US.EIX"},{"$f":"IFERROR(RTD(\"cqg.rtd\",,\"StudyData\",A159,\"Bar\",, \"High\",$C$1,\"0\",,,,,\"T\"),\"\")","v":72.44},{"$f":"IFERROR(RTD(\"cqg.rtd\",,\"StudyData\",A159,\"Bar\",, \"Low\",$C$1,\"0\",,,,,\"T\"),\"\")","v":71.94},{"$f":"IFERROR(RTD(\"cqg.rtd\",,\"StudyData\",\"HiLevel(\"&A159&\",Period1:=\"&$B$1&\",AllowGaps:=0,InputChoice1:=High,InputChoice3:=High)\",\"Bar\",, \"Close\",$C$1,\"-1\",,,,,\"T\"),\"\")","v":72.64},{"$f":"IFERROR(RTD(\"cqg.rtd\",,\"StudyData\",\"LoLevel(\"&A159&\",Period2:=\"&$B$1&\",AllowGaps:=0,InputChoice2:=Low,InputChoice4:=Low)\",\"Bar\",, \"Close\",$C$1,\"-1\",,,,,\"T\"),\"\")","v":54.14},0,0,6.0260000000000087,5.0680000000000227,"S.US.EIX",{"$f":"RTD(\"cqg.rtd\", ,\"ContractData\",A159, \"PerCentNetLastTrade\",, \"T\")/100","v":7.5167037861915368E-3},{"$f":"RANK($K159,$K$2:K$506)+COUNTIF($K$2:K159,K159)-1","v":{"$error":"#VALUE!"}},"S.US.EIX",158,"",{"$f":"RTD(\"cqg.rtd\", ,\"ContractData\",O159, \"PerCentNetLastTrade\",, \"T\")/100","v":{"$error":"#VALUE!"}},{"$error":"#N/A"},null,158,""]
[{"$f":"Symbols!A160","v":"S.US.EL"},{"$f":"IFERROR(RTD(\"cqg.rtd\",,\"StudyData\",A160,\"Bar\",, \"High\",$C$1,\"0\",,,,,\"T\"),\"\")","v":264.69},{"$f":"IFERROR(RTD(\"cqg.rtd\",,\"StudyData\",A160,\"Bar\",, \"Low\",$C$1,\"0\",,,,,\"T\"),\"\")","v":262.66000000000003},{"$f":"IFERROR(RTD(\"cqg.rtd\",,\"StudyData\",\"HiLevel(\"&A160&\",Period1:=\"&$B$1&\",AllowGaps:=0,InputChoice1:=High,InputChoice3:=High)\",\"Bar\",, \"Close\",$C$1,\"-1\",,,,,\"T\"),\"\")","v":374.2},{"$f":"IFERROR(RTD(\"cqg.rtd\",,\"StudyData\",\"LoLevel(\"&A160&\",Period2:=\"&$B$1&\",AllowGaps:=0,InputChoice2:=Low,InputChoice4:=Low)\",\"Bar\",, \"Close\",$C$1,\"-1\",,,,,\"T\"),\"\")","v":248.42},0,0,6.027000000000009,5.069000000000023,"S.US.EL",{"$f":"RTD(\"cqg.rtd\", ,\"ContractData\",A160, \"PerCentNetLastTrade\",, \"T\")/100","v":-2.2738469700989122E-3},{"$f":"RANK($K160,$K$2:K$506)+COUNTIF($K$2:K160,K160)-1","v":{"$error":"#VALUE!"}},"S.US.EL",159,"",{"$f":"RTD(\"cqg.rtd\", ,\"ContractData\",O160, \"PerCentNetLastTrade\",, \"T\")/100","v":{"$error":"#VALUE!"}},{"$error":"#N/A"},null,159,""]
[{"$f":"Symbols!A161","v":"S.US.EMBC"},{"$f":"IFERROR(RTD(\"cqg.rtd\",,\"StudyData\",A161,\"Bar\",, \"High\",$C$1,\"0\",,,,,\"T\"),\"\")","v":32.64},{"$f":"IFERROR(RTD(\"cqg.rtd\",,\"StudyData\",A161,\"Bar\",, \"Low\",$C$1,\"0\",,,,,\"T\"),\"\")","v":31.69},{"$f":"IFERROR(RTD(\"cqg.rtd\",,\"StudyData\",\"HiLevel(\"&A161&\",Period1:=\"&$B$1&\",AllowGaps:=0,InputChoice1:=High,InputChoice3:=High)\",\"Bar\",, \"Close\",$C$1,\"-1\",,,,,\"T\"),\"\")","v":""},{"$f":"IFERROR(RTD(\"cqg.rtd\",,\"StudyData\",\"LoLevel(\"&A161&\",Period2:=\"&$B$1&\",AllowGaps:=0,InputChoice2:=Low,InputChoice4:=Low)\",\"Bar\",, \"Close\",$C$1,\"-1\",,,,,\"T\"),\"\")","v":""},0,1,6.0280000000000094,6,"S.US.EMBC",{"$f":"RTD(\"cqg.rtd\", ,\"ContractData\",A161, \"PerCentNetLastTrade\",, \"T\")/100","v":-2.6195552848004872E-2},{"$f":"RANK($K161,$K$2:K$506)+COUNTIF($K$2:K161,K161)-1","v":{"$error":"#VALUE!"}},"S.US.EMBC",160,"",{"$f":"RTD(\"cqg.rtd\", ,\"ContractData\",O161, \"PerCentNetLastTrade\",, \"T\")/100","v":{"$error":"#VALUE!"}},{"$error":"#N/A"},null,160,""]
[{"$f":"Symbols!A162","v":"S.US.EMN"},{"$f":"IFERROR(RTD(\"cqg.rtd\",,\"StudyData\",A162,\"Bar\",, \"High\",$C$1,\"0\",,,,,\"T\"),\"\")","v":109.19},{"$f":"IFERROR(RTD(\"cqg.rtd\",,\"StudyData\",A162,\"Bar\",, \"Low\",$C$1,\"0\",,,,,\"T\"),\"\")","v":107.91},{"$f":"IFERROR(RTD(\"cqg.rtd\",,\"StudyData\",\"HiLevel(\"&A162&\",Period1:=\"&$B$1&\",AllowGaps:=0,InputChoice1:=High,InputChoice3:=High)\",\"Bar\",, \"Close\",$C$1,\"-1\",,,,,\"T\"),\"\")","v":130.47},{"$f":"IFERROR(RTD(\"cqg.rtd\",,\"StudyData\",\"LoLevel(\"&A162&\",Period2:=\"&$B$1&\",AllowGaps:=0,InputChoice2:=Low,InputChoice4:=Low)\",\"Bar\",, \"Close\",$C$1,\"-1\",,,,,\"T\"),\"\")","v":98.24},0,0,6.0290000000000097,6.0010000000000003,"S.US.EMN",{"$f":"RTD(\"cqg.rtd\", ,\"ContractData\",A162, \"PerCentNetLastTrade\",, \"T\")/100","v":4.9115003243443613E-3},{"$f":"RANK($K162,$K$2:K$506)+COUNTIF($K$2:K162,K162)-1","v":{"$error":"#VALUE!"}},"S.US.EMN",161,"",{"$f":"RTD(\"cqg.rtd\", ,\"ContractData\",O162, \"PerCentNetLastTrade\",, \"T\")/100","v":{"$error":"#VALUE!"}},{"$error":"#N/A"},null,161,""]
[{"$f":"Symbols!A163","v":"S.US.EMR"},{"$f":"IFERROR(RTD(\"cqg.rtd\",,\"StudyData\",A163,\"Bar\",, \"High\",$C$1,\"0\",,,,,\"T\"),\"\")","v":93.8},{"$f":"IFERROR(RTD(\"cqg.rtd\",,\"StudyData\",A163,\"Bar\",, \"Low\",$C$1,\"0\",,,,,\"T\"),\"\")","v":92.63},{"$f":"IFERROR(RTD(\"cqg.rtd\",,\"StudyData\",\"HiLevel(\"&A163&\",Period1:=\"&$B$1&\",AllowGaps:=0,InputChoice1:=High,InputChoice3:=High)\",\"Bar\",, \"Close\",$C$1,\"-1\",,,,,\"T\"),\"\")","v":105.99},{"$f":"IFERROR(RTD(\"cqg.rtd\",,\"StudyData\",\"LoLevel(\"&A163&\",Period2:=\"&$B$1&\",AllowGaps:=0,InputChoice2:=Low,InputChoice4:=Low)\",\"Bar\",, \"Close\",$C$1,\"-1\",,,,,\"T\"),\"\")","v":86.72},0,0,6.03000000000001,6.0020000000000007,"S.US.EMR",{"$f":"RTD(\"cqg.rtd\", ,\"ContractData\",A163, \"PerCentNetLastTrade\",, \"T\")/100","v":9.3689424940771055E-3},{"$f":"RANK($K163,$K$2:K$506)+COUNTIF($K$2:K163,K163)-1","v":{"$error":"#VALUE!"}},"S.US.EMR",162,"",{"$f":"RTD(\"cqg.rtd\", ,\"ContractData\",O163, \"PerCentNetLastTrade\",, \"T\")/100","v":{"$error":"#VALUE!"}},{"$error":"#N/A"},null,162,""]
[{"$f":"Symbols!A164","v":"S.US.ENPH"},{"$f":"IFERROR(RTD(\"cqg.rtd\",,\"StudyData\",A164,\"Bar\",, \"High\",$C$1,\"0\",,,,,\"T\"),\"\")","v":192.19},{"$f":"IFERROR(RTD(\"cqg.rtd\",,\"StudyData\",A164,\"Bar\",, \"Low\",$C$1,\"0\",,,,,\"T\"),\"\")","v":188.24},{"$f":"IFERROR(RTD(\"cqg.rtd\",,\"StudyData\",\"HiLevel(\"&A164&\",Period1:=\"&$B$1&\",AllowGaps:=0,InputChoice1:=High,InputChoice3:=High)\",\"Bar\",, \"Close\",$C$1,\"-1\",,,,,\"T\"),\"\")","v":282.45999999999998},{"$f":"IFERROR(RTD(\"cqg.rtd\",,\"StudyData\",\"LoLevel(\"&A164&\",Period2:=\"&$B$1&\",AllowGaps:=0,InputChoice2:=Low,InputChoice4:=Low)\",\"Bar\",, \"Close\",$C$1,\"-1\",,,,,\"T\"),\"\")","v":108.88},0,0,6.0310000000000104,6.003000000000001,"S.US.ENPH",{"$f":"RTD(\"cqg.rtd\", ,\"ContractData\",A164, \"PerCentNetLastTrade\",, \"T\")/100","v":-1.0025720434622853E-2},{"$f":"RANK($K164,$K$2:K$506)+COUNTIF($K$2:K164,K164)-1","v":{"$error":"#VALUE!"}},"S.US.ENPH",163,"",{"$f":"RTD(\"cqg.rtd\", ,\"ContractData\",O164, \"PerCentNetLastTrade\",, \"T\")/100","v":{"$error":"#VALUE!"}},{"$error":"#N/A"},null,163,""]
[{"$f":"Symbols!A165","v":"S.US.EOG"},{"$f":"IFERROR(RTD(\"cqg.rtd\",,\"StudyData\",A165,\"Bar\",, \"High\",$C$1,\"0\",,,,,\"T\"),\"\")","v":125.22},{"$f":"IFERROR(RTD(\"cqg.rtd\",,\"StudyData\",A165,\"Bar\",, \"Low\",$C$1,\"0\",,,,,\"T\"),\"\")","v":123.2},{"$f":"IFERROR(RTD(\"cqg.rtd\",,\"StudyData\",\"HiLevel(\"&A165&\",Period1:=\"&$B$1&\",AllowGaps:=0,InputChoice1:=High,InputChoice3:=High)\",\"Bar\",, \"Close\",$C$1,\"-1\",,,,,\"T\"),\"\")","v":127.94},{"$f":"IFERROR(RTD(\"cqg.rtd\",,\"StudyData\",\"LoLevel(\"&A165&\",Period2:=\"&$B$1&\",AllowGaps:=0,InputChoice2:=Low,InputChoice4:=Low)\",\"Bar\",, \"Close\",$C$1,\"-1\",,,,,\"T\"),\"\")","v":62.81},0,0,6.0320000000000107,6.0040000000000013,"S.US.EOG",{"$f":"RTD(\"cqg.rtd\", ,\"ContractData\",A165, \"PerCentNetLastTrade\",, \"T\")/100","v":1.4153245485602732E-2},{"$f":"RANK($K165,$K$2:K$506)+COUNTIF($K$2:K165,K165)-1","v":{"$error":"#VALUE!"}},"S.US.EOG",164,"",{"$f":"RTD(\"cqg.rtd\", ,\"ContractData\",O165, \"PerCentNetLastTrade\",, \"T\")/100","v":{"$error":"#VALUE!"}},{"$error":"#N/A"},null,164,""]
[{"$f":"Symbols!A166","v":"S.US.EPAM"},{"$f":"IFERROR(RTD(\"cqg.rtd\",,\"StudyData\",A166,\"Bar\",, \"High\",$C$1,\"0\",,,,,\"T\"),\"\")","v":290.20999999999998},{"$f":"IFERROR(RTD(\"cqg.rtd\",,\"StudyData\",A166,\"Bar\",, \"Low\",$C$1,\"0\",,,,,\"T\"),\"\")","v":286},{"$f":"IFERROR(RTD(\"cqg.rtd\",,\"StudyData\",\"HiLevel(\"&A166&\",Period1:=\"&$B$1&\",AllowGaps:=0,InputChoice1:=High,InputChoice3:=High)\",\"Bar\",, \"Close\",$C$1,\"-1\",,,,,\"T\"),\"\")","v":725.4},{"$f":"IFERROR(RTD(\"cqg.rtd\",,\"StudyData\",\"LoLevel(\"&A166&\",Period2:=\"&$B$1&\",AllowGaps:=0,InputChoice2:=Low,InputChoice4:=Low)\",\"Bar\",, \"Close\",$C$1,\"-1\",,,,,\"T\"),\"\")","v":168.59},0,0,6.033000000000011,6.0050000000000017,"S.US.EPAM",{"$f":"RTD(\"cqg.rtd\", ,\"ContractData\",A166, \"PerCentNetLastTrade\",, \"T\")/100","v":-1.2411225263738536E-2},{"$f":"RANK($K166,$K$2:K$506)+COUNTIF($K$2:K166,K166)-1","v":{"$error":"#VALUE!"}},"S.US.EPAM",165,"",{"$f":"RTD(\"cqg.rtd\", ,\"ContractData\",O166, \"PerCentNetLastTrade\",, \"T\")/100","v":{"$error":"#VALUE!"}},{"$error":"#N/A"},null,165,""]
[{"$f":"Symbols!A167","v":"S.US.EQIX"},{"$f":"IFERROR(RTD(\"cqg.rtd\",,\"StudyData\",A167,\"Bar\",, \"High\",$C$1,\"0\",,,,,\"T\"),\"\")","v":738.82},{"$f":"IFERROR(RTD(\"cqg.rtd\",,\"StudyData\",A167,\"Bar\",, \"Low\",$C$1,\"0\",,,,,\"T\"),\"\")","v":732.22},{"$f":"IFERROR(RTD(\"cqg.rtd\",,\"StudyData\",\"HiLevel(\"&A167&\",Period1:=\"&$B$1&\",AllowGaps:=0,InputChoice1:=High,InputChoice3:=High)\",\"Bar\",, \"Close\",$C$1,\"-1\",,,,,\"T\"),\"\")","v":885.26},{"$f":"IFERROR(RTD(\"cqg.rtd\",,\"StudyData\",\"LoLevel(\"&A167&\",Period2:=\"&$B$1&\",AllowGaps:=0,InputChoice2:=Low,InputChoice4:=Low)\",\"Bar\",, \"Close\",$C$1,\"-1\",,,,,\"T\"),\"\")","v":662.26},0,0,6.0340000000000114,6.006000000000002,"S.US.EQIX",{"$f":"RTD(\"cqg.rtd\", ,\"ContractData\",A167, \"PerCentNetLastTrade\",, \"T\")/100","v":-4.1075023121701758E-3},{"$f":"RANK($K167,$K$2:K$506)+COUNTIF($K$2:K167,K167)-1","v":{"$error":"#VALUE!"}},"S.US.EQIX",166,"",{"$f":"RTD(\"cqg.rtd\", ,\"ContractData\",O167, \"PerCentNetLastTrade\",, \"T\")/100","v":{"$error":"#VALUE!"}},{"$error":"#N/A"},null,166,""]
[{"$f":"Symbols!A168","v":"S.US.EQR"},{"$f":"IFERROR(RTD(\"cqg.rtd\",,\"StudyData\",A168,\"Bar\",, \"High\",$C$1,\"0\",,,,,\"T\"),\"\")","v":91.14},{"$f":"IFERROR(RTD(\"cqg.rtd\",,\"StudyData\",A168,\"Bar\",, \"Low\",$C$1,\"0\",,,,,\"T\"),\"\")","v":90.6},{"$f":"IFERROR(RTD(\"cqg.rtd\",,\"StudyData\",\"HiLevel(\"&A168&\",Period1:=\"&$B$1&\",AllowGaps:=0,InputChoice1:=High,InputChoice3:=High)\",\"Bar\",, \"Close\",$C$1,\"-1\",,,,,\"T\"),\"\")","v":93.03},{"$f":"IFERROR(RTD(\"cqg.rtd\",,\"StudyData\",\"LoLevel(\"&A168&\",Period2:=\"&$B$1&\",AllowGaps:=0,InputChoice2:=Low,InputChoice4:=Low)\",\"Bar\",, \"Close\",$C$1,\"-1\",,,,,\"T\"),\"\")","v":70.98},0,0,6.0350000000000117,6.0070000000000023,"S.US.EQR",{"$f":"RTD(\"cqg.rtd\", ,\"ContractData\",A168, \"PerCentNetLastTrade\",, \"T\")/100","v":5.7503041026208115E-3},{"$f":"RANK($K168,$K$2:K$506)+COUNTIF($K$2:K168,K168)-1","v":{"$error":"#VALUE!"}},"S.US.EQR",167,"",{"$f":"RTD(\"cqg.rtd\", ,\"ContractData\",O168, \"PerCentNetLastTrade\",, \"T\")/100","v":{"$error":"#VALUE!"}},{"$error":"#N/A"},null,167,""]
[{"$f":"Symbols!A169","v":"S.US.ES"},{"$f":"IFERROR(RTD(\"cqg.rtd\",,\"StudyData\",A169,\"Bar\",, \"High\",$C$1,\"0\",,,,,\"T\"),\"\")","v":93.14},{"$f":"IFERROR(RTD(\"cqg.rtd\",,\"StudyData\",A169,\"Bar\",, \"Low\",$C$1,\"0\",,,,,\"T\"),\"\")","v":92.61},{"$f":"IFERROR(RTD(\"cqg.rtd\",,\"StudyData\",\"HiLevel(\"&A169&\",Period1:=\"&$B$1&\",AllowGaps:=0,InputChoice1:=High,InputChoice3:=High)\",\"Bar\",, \"Close\",$C$1,\"-1\",,,,,\"T\"),\"\")","v":93.33},{"$f":"IFERROR(RTD(\"cqg.rtd\",,\"StudyData\",\"LoLevel(\"&A169&\",Period2:=\"&$B$1&\",AllowGaps:=0,InputChoice2:=Low,InputChoice4:=Low)\",\"Bar\",, \"Close\",$C$1,\"-1\",,,,,\"T\"),\"\")","v":78.44},{"$f":"IF(B169=\"\",0,IFERROR(IF(B169>D169,1,0),\"\"))","v":0},{"$f":"IF(C169=\"\",0,IFERROR(IF(C169<E169,1,0),\"\"))","v":0},{"$f":"IF(F169=1,INT(H168+1),H168+0.001)","v":6.036000000000012},{"$f":"IF(G169=1,INT(I168+1),I168+0.001)","v":6.0080000000000027},{"$f":"A169","v":"S.US.ES"},{"$f":"RTD(\"cqg.rtd\", ,\"ContractData\",A169, \"PerCentNetLastTrade\",, \"T\")/100","v":3.5637149028077751E-3},{"$f":"RANK($K169,$K$2:K$506)+COUNTIF($K$2:K169,K169)-1","v":{"$error":"#VALUE!"}},"S.US.ES",168,"",{"$f":"RTD(\"cqg.rtd\", ,\"ContractData\",O169, \"PerCentNetLastTrade\",, \"T\")/100","v":{"$error":"#VALUE!"}},{"$error":"#N/A"},null,168,""]
[{"$f":"Symbols!A170","v":"S.US.ESS"},{"$f":"IFERROR(RTD(\"cqg.rtd\",,\"StudyData\",A170,\"Bar\",, \"High\",$C$1,\"0\",,,,,\"T\"),\"\")","v":346.53},{"$f":"IFERROR(RTD(\"cqg.rtd\",,\"StudyData\",A170,\"Bar\",, \"Low\",$C$1,\"0\",,,,,\"T\"),\"\")","v":345.34},{"$f":"IFERROR(RTD(\"cqg.rtd\",,\"StudyData\",\"HiLevel(\"&A170&\",Period1:=\"&$B$1&\",AllowGaps:=0,InputChoice1:=High,InputChoice3:=High)\",\"Bar\",, \"Close\",$C$1,\"-1\",,,,,\"T\"),\"\")","v":359.49},{"$f":"IFERROR(RTD(\"cqg.rtd\",,\"StudyData\",\"LoLevel(\"&A170&\",Period2:=\"&$B$1&\",AllowGaps:=0,InputChoice2:=Low,InputChoice4:=Low)\",\"Bar\",, \"Close\",$C$1,\"-1\",,,,,\"T\"),\"\")","v":278.3},0,0,6.0370000000000124,6.009000000000003,"S.US.ESS",{"$f":"RTD(\"cqg.rtd\", ,\"ContractData\",A170, \"PerCentNetLastTrade\",, \"T\")/100","v":2.952157679951376E-3},{"$f":"RANK($K170,$K$2:K$506)+COUNTIF($K$2:K170,K170)-1","v":{"$error":"#VALUE!"}},"S.US.ESS",169,"",{"$f":"RTD(\"cqg.rtd\", ,\"ContractData\",O170, \"PerCentNetLastTrade\",, \"T\")/100","v":{"$error":"#VALUE!"}},{"$error":"#N/A"},null,169,""]
[{"$f":"Symbols!A171","v":"S.US.ETN"},{"$f":"IFERROR(RTD(\"cqg.rtd\",,\"StudyData\",A171,\"Bar\",, \"High\",$C$1,\"0\",,,,,\"T\"),\"\")","v":141.74},{"$f":"IFERROR(RTD(\"cqg.rtd\",,\"StudyData\",A171,\"Bar\",, \"Low\",$C$1,\"0\",,,,,\"T\"),\"\")","v":139.6},{"$f":"IFERROR(RTD(\"cqg.rtd\",,\"StudyData\",\"HiLevel(\"&A171&\",Period1:=\"&$B$1&\",AllowGaps:=0,InputChoice1:=High,InputChoice3:=High)\",\"Bar\",, \"Close\",$C$1,\"-1\",,,,,\"T\"),\"\")","v":175.72},{"$f":"IFERROR(RTD(\"cqg.rtd\",,\"StudyData\",\"LoLevel(\"&A171&\",Period2:=\"&$B$1&\",AllowGaps:=0,InputChoice2:=Low,InputChoice4:=Low)\",\"Bar\",, \"Close\",$C$1,\"-1\",,,,,\"T\"),\"\")","v":137.56},0,0,6.0380000000000127,6.0100000000000033,"S.US.ETN",{"$f":"RTD(\"cqg.rtd\", ,\"ContractData\",A171, \"PerCentNetLastTrade\",, \"T\")/100","v":9.0057894360660428E-3},{"$f":"RANK($K171,$K$2:K$506)+COUNTIF($K$2:K171,K171)-1","v":{"$error":"#VALUE!"}},"S.US.ETN",170,"",{"$f":"RTD(\"cqg.rtd\", ,\"ContractData\",O171, \"PerCentNetLastTrade\",, \"T\")/100","v":{"$error":"#VALUE!"}},{"$error":"#N/A"},null,170,""]
[{"$f":"Symbols!A172","v":"S.US.ETR"},{"$f":"IFERROR(RTD(\"cqg.rtd\",,\"StudyData\",A172,\"Bar\",, \"High\",$C$1,\"0\",,,,,\"T\"),\"\")","v":124.85},{"$f":"IFERROR(RTD(\"cqg.rtd\",,\"StudyData\",A172,\"Bar\",, \"Low\",$C$1,\"0\",,,,,\"T\"),\"\")","v":124.25},{"$f":"IFERROR(RTD(\"cqg.rtd\",,\"StudyData\",\"HiLevel(\"&A172&\",Period1:=\"&$B$1&\",AllowGaps:=0,InputChoice1:=High,InputChoice3:=High)\",\"Bar\",, \"Close\",$C$1,\"-1\",,,,,\"T\"),\"\")","v":124.76},{"$f":"IFERROR(RTD(\"cqg.rtd\",,\"StudyData\",\"LoLevel(\"&A172&\",Period2:=\"&$B$1&\",AllowGaps:=0,InputChoice2:=Low,InputChoice4:=Low)\",\"Bar\",, \"Close\",$C$1,\"-1\",,,,,\"T\"),\"\")","v":98.49},1,0,7,6.0110000000000037,"S.US.ETR",{"$f":"RTD(\"cqg.rtd\", ,\"ContractData\",A172, \"PerCentNetLastTrade\",, \"T\")/100","v":3.8647342995169081E-3},{"$f":"RANK($K172,$K$2:K$506)+COUNTIF($K$2:K172,K172)-1","v":{"$error":"#VALUE!"}},"S.US.ETR",171,"",{"$f":"RTD(\"cqg.rtd\", ,\"ContractData\",O172, \"PerCentNetLastTrade\",, \"T\")/100","v":{"$error":"#VALUE!"}},{"$error":"#N/A"},null,171,""]
[{"$f":"Symbols!A173","v":"S.US.ETSY"},{"$f":"IFERROR(RTD(\"cqg.rtd\",,\"StudyData\",A173,\"Bar\",, \"High\",$C$1,\"0\",,,,,\"T\"),\"\")","v":115.5},{"$f":"IFERROR(RTD(\"cqg.rtd\",,\"StudyData\",A173,\"Bar\",, \"Low\",$C$1,\"0\",,,,,\"T\"),\"\")","v":109.53},{"$f":"IFERROR(RTD(\"cqg.rtd\",,\"StudyData\",\"HiLevel(\"&A173&\",Period1:=\"&$B$1&\",AllowGaps:=0,InputChoice1:=High,InputChoice3:=High)\",\"Bar\",, \"Close\",$C$1,\"-1\",,,,,\"T\"),\"\")","v":307.75},{"$f":"IFERROR(RTD(\"cqg.rtd\",,\"StudyData\",\"LoLevel(\"&A173&\",Period2:=\"&$B$1&\",AllowGaps:=0,InputChoice2:=Low,InputChoice4:=Low)\",\"Bar\",, \"Close\",$C$1,\"-1\",,,,,\"T\"),\"\")","v":109.38},0,0,7.0010000000000003,6.012000000000004,"S.US.ETSY",{"$f":"RTD(\"cqg.rtd\", ,\"ContractData\",A173, \"PerCentNetLastTrade\",, \"T\")/100","v":-5.3199758182917355E-2},{"$f":"RANK($K173,$K$2:K$506)+COUNTIF($K$2:K173,K173)-1","v":{"$error":"#VALUE!"}},"S.US.ETSY",172,"",{"$f":"RTD(\"cqg.rtd\", ,\"ContractData\",O173, \"PerCentNetLastTrade\",, \"T\")/100","v":{"$error":"#VALUE!"}},{"$error":"#N/A"},null,172,""]
[{"$f":"Symbols!A174","v":"S.US.EVRG"},{"$f":"IFERROR(RTD(\"cqg.rtd\",,\"StudyData\",A174,\"Bar\",, \"High\",$C$1,\"0\",,,,,\"T\"),\"\")","v":71.290000000000006},{"$f":"IFERROR(RTD(\"cqg.rtd\",,\"StudyData\",A174,\"Bar\",, \"Low\",$C$1,\"0\",,,,,\"T\"),\"\")","v":70.78},{"$f":"IFERROR(RTD(\"cqg.rtd\",,\"StudyData\",\"HiLevel(\"&A174&\",Period1:=\"&$B$1&\",AllowGaps:=0,InputChoice1:=High,InputChoice3:=High)\",\"Bar\",, \"Close\",$C$1,\"-1\",,,,,\"T\"),\"\")","v":71.48},{"$f":"IFERROR(RTD(\"cqg.rtd\",,\"StudyData\",\"LoLevel(\"&A174&\",Period2:=\"&$B$1&\",AllowGaps:=0,InputChoice2:=Low,InputChoice4:=Low)\",\"Bar\",, \"Close\",$C$1,\"-1\",,,,,\"T\"),\"\")","v":59.46},0,0,7.0020000000000007,6.0130000000000043,"S.US.EVRG",{"$f":"RTD(\"cqg.rtd\", ,\"ContractData\",A174, \"PerCentNetLastTrade\",, \"T\")/100","v":6.7787035729416746E-3},{"$f":"RANK($K174,$K$2:K$506)+COUNTIF($K$2:K174,K174)-1","v":{"$error":"#VALUE!"}},"S.US.EVRG",173,"",{"$f":"RTD(\"cqg.rtd\", ,\"ContractData\",O174, \"PerCentNetLastTrade\",, \"T\")/100","v":{"$error":"#VALUE!"}},{"$error":"#N/A"},null,173,""]
[{"$f":"Symbols!A175","v":"S.US.EW"},{"$f":"IFERROR(RTD(\"cqg.rtd\",,\"StudyData\",A175,\"Bar\",, \"High\",$C$1,\"0\",,,,,\"T\"),\"\")","v":120.66},{"$f":"IFERROR(RTD(\"cqg.rtd\",,\"StudyData\",A175,\"Bar\",, \"Low\",$C$1,\"0\",,,,,\"T\"),\"\")","v":119.35},{"$f":"IFERROR(RTD(\"cqg.rtd\",,\"StudyData\",\"HiLevel(\"&A175&\",Period1:=\"&$B$1&\",AllowGaps:=0,InputChoice1:=High,InputChoice3:=High)\",\"Bar\",, \"Close\",$C$1,\"-1\",,,,,\"T\"),\"\")","v":131.72999999999999},{"$f":"IFERROR(RTD(\"cqg.rtd\",,\"StudyData\",\"LoLevel(\"&A175&\",Period2:=\"&$B$1&\",AllowGaps:=0,InputChoice2:=Low,InputChoice4:=Low)\",\"Bar\",, \"Close\",$C$1,\"-1\",,,,,\"T\"),\"\")","v":87.32},0,0,7.003000000000001,6.0140000000000047,"S.US.EW",{"$f":"RTD(\"cqg.rtd\", ,\"ContractData\",A175, \"PerCentNetLastTrade\",, \"T\")/100","v":-2.9995000833194468E-3},{"$f":"RANK($K175,$K$2:K$506)+COUNTIF($K$2:K175,K175)-1","v":{"$error":"#VALUE!"}},"S.US.EW",174,"",{"$f":"RTD(\"cqg.rtd\", ,\"ContractData\",O175, \"PerCentNetLastTrade\",, \"T\")/100","v":{"$error":"#VALUE!"}},{"$error":"#N/A"},null,174,""]
[{"$f":"Symbols!A176","v":"S.US.EXC"},{"$f":"IFERROR(RTD(\"cqg.rtd\",,\"StudyData\",A176,\"Bar\",, \"High\",$C$1,\"0\",,,,,\"T\"),\"\")","v":49.25},{"$f":"IFERROR(RTD(\"cqg.rtd\",,\"StudyData\",A176,\"Bar\",, \"Low\",$C$1,\"0\",,,,,\"T\"),\"\")","v":49},{"$f":"IFERROR(RTD(\"cqg.rtd\",,\"StudyData\",\"HiLevel(\"&A176&\",Period1:=\"&$B$1&\",AllowGaps:=0,InputChoice1:=High,InputChoice3:=High)\",\"Bar\",, \"Close\",$C$1,\"-1\",,,,,\"T\"),\"\")","v":50.29},{"$f":"IFERROR(RTD(\"cqg.rtd\",,\"StudyData\",\"LoLevel(\"&A176&\",Period2:=\"&$B$1&\",AllowGaps:=0,InputChoice2:=Low,InputChoice4:=Low)\",\"Bar\",, \"Close\",$C$1,\"-1\",,,,,\"T\"),\"\")","v":30.52},0,0,7.0040000000000013,6.015000000000005,"S.US.EXC",{"$f":"RTD(\"cqg.rtd\", ,\"ContractData\",A176, \"PerCentNetLastTrade\",, \"T\")/100","v":2.651437895166225E-3},{"$f":"RANK($K176,$K$2:K$506)+COUNTIF($K$2:K176,K176)-1","v":{"$error":"#VALUE!"}},"S.US.EXC",175,"",{"$f":"RTD(\"cqg.rtd\", ,\"ContractData\",O176, \"PerCentNetLastTrade\",, \"T\")/100","v":{"$error":"#VALUE!"}},{"$error":"#N/A"},null,175,""]
[{"$f":"Symbols!A177","v":"S.US.EXPD"},{"$f":"IFERROR(RTD(\"cqg.rtd\",,\"StudyData\",A177,\"Bar\",, \"High\",$C$1,\"0\",,,,,\"T\"),\"\")","v":97.02},{"$f":"IFERROR(RTD(\"cqg.rtd\",,\"StudyData\",A177,\"Bar\",, \"Low\",$C$1,\"0\",,,,,\"T\"),\"\")","v":96.2},{"$f":"IFERROR(RTD(\"cqg.rtd\",,\"StudyData\",\"HiLevel(\"&A177&\",Period1:=\"&$B$1&\",AllowGaps:=0,InputChoice1:=High,InputChoice3:=High)\",\"Bar\",, \"Close\",$C$1,\"-1\",,,,,\"T\"),\"\")","v":137.80000000000001},{"$f":"IFERROR(RTD(\"cqg.rtd\",,\"StudyData\",\"LoLevel(\"&A177&\",Period2:=\"&$B$1&\",AllowGaps:=0,InputChoice2:=Low,InputChoice4:=Low)\",\"Bar\",, \"Close\",$C$1,\"-1\",,,,,\"T\"),\"\")","v":94.95},0,0,7.0050000000000017,6.0160000000000053,"S.US.EXPD",{"$f":"RTD(\"cqg.rtd\", ,\"ContractData\",A177, \"PerCentNetLastTrade\",, \"T\")/100","v":-2.0684662322887577E-4},{"$f":"RANK($K177,$K$2:K$506)+COUNTIF($K$2:K177,K177)-1","v":{"$error":"#VALUE!"}},"S.US.EXPD",176,"",{"$f":"RTD(\"cqg.rtd\", ,\"ContractData\",O177, \"PerCentNetLastTrade\",, \"T\")/100","v":{"$error":"#VALUE!"}},{"$error":"#N/A"},null,176,""]
[{"$f":"Symbols!A178","v":"S.US.EXPE"},{"$f":"IFERROR(RTD(\"cqg.rtd\",,\"StudyData\",A178,\"Bar\",, \"High\",$C$1,\"0\",,,,,\"T\"),\"\")","v":191.68},{"$f":"IFERROR(RTD(\"cqg.rtd\",,\"StudyData\",A178,\"Bar\",, \"Low\",$C$1,\"0\",,,,,\"T\"),\"\")","v":189.62},{"$f":"IFERROR(RTD(\"cqg.rtd\",,\"StudyData\",\"HiLevel(\"&A178&\",Period1:=\"&$B$1&\",AllowGaps:=0,InputChoice1:=High,InputChoice3:=High)\",\"Bar\",, \"Close\",$C$1,\"-1\",,,,,\"T\"),\"\")","v":217.72},{"$f":"IFERROR(RTD(\"cqg.rtd\",,\"StudyData\",\"LoLevel(\"&A178&\",Period2:=\"&$B$1&\",AllowGaps:=0,InputChoice2:=Low,InputChoice4:=Low)\",\"Bar\",, \"Close\",$C$1,\"-1\",,,,,\"T\"),\"\")","v":136.77000000000001},0,0,7.006000000000002,6.0170000000000057,"S.US.EXPE",{"$f":"RTD(\"cqg.rtd\", ,\"ContractData\",A178, \"PerCentNetLastTrade\",, \"T\")/100","v":-4.9595405899243014E-3},{"$f":"RANK($K178,$K$2:K$506)+COUNTIF($K$2:K178,K178)-1","v":{"$error":"#VALUE!"}},"S.US.EXPE",177,"",{"$f":"RTD(\"cqg.rtd\", ,\"ContractData\",O178, \"PerCentNetLastTrade\",, \"T\")/100","v":{"$error":"#VALUE!"}},{"$error":"#N/A"},null,177,""]
[{"$f":"Symbols!A179","v":"S.US.EXR"},{"$f":"IFERROR(RTD(\"cqg.rtd\",,\"StudyData\",A179,\"Bar\",, \"High\",$C$1,\"0\",,,,,\"T\"),\"\")","v":213.65},{"$f":"IFERROR(RTD(\"cqg.rtd\",,\"StudyData\",A179,\"Bar\",, \"Low\",$C$1,\"0\",,,,,\"T\"),\"\")","v":212},{"$f":"IFERROR(RTD(\"cqg.rtd\",,\"StudyData\",\"HiLevel(\"&A179&\",Period1:=\"&$B$1&\",AllowGaps:=0,InputChoice1:=High,InputChoice3:=High)\",\"Bar\",, \"Close\",$C$1,\"-1\",,,,,\"T\"),\"\")","v":228.83},{"$f":"IFERROR(RTD(\"cqg.rtd\",,\"StudyData\",\"LoLevel(\"&A179&\",Period2:=\"&$B$1&\",AllowGaps:=0,InputChoice2:=Low,InputChoice4:=Low)\",\"Bar\",, \"Close\",$C$1,\"-1\",,,,,\"T\"),\"\")","v":141.66999999999999},0,0,7.0070000000000023,6.018000000000006,"S.US.EXR",{"$f":"RTD(\"cqg.rtd\", ,\"ContractData\",A179, \"PerCentNetLastTrade\",, \"T\")/100","v":3.9990590449306045E-3},{"$f":"RANK($K179,$K$2:K$506)+COUNTIF($K$2:K179,K179)-1","v":{"$error":"#VALUE!"}},"S.US.EXR",178,"",{"$f":"RTD(\"cqg.rtd\", ,\"ContractData\",O179, \"PerCentNetLastTrade\",, \"T\")/100","v":{"$error":"#VALUE!"}},{"$error":"#N/A"},null,178,""]
[{"$f":"Symbols!A180","v":"S.US.F"},{"$f":"IFERROR(RTD(\"cqg.rtd\",,\"StudyData\",A180,\"Bar\",, \"High\",$C$1,\"0\",,,,,\"T\"),\"\")","v":15.55},{"$f":"IFERROR(RTD(\"cqg.rtd\",,\"StudyData\",A180,\"Bar\",, \"Low\",$C$1,\"0\",,,,,\"T\"),\"\")","v":15.37},{"$f":"IFERROR(RTD(\"cqg.rtd\",,\"StudyData\",\"HiLevel(\"&A180&\",Period1:=\"&$B$1&\",AllowGaps:=0,InputChoice1:=High,InputChoice3:=High)\",\"Bar\",, \"Close\",$C$1,\"-1\",,,,,\"T\"),\"\")","v":25.87},{"$f":"IFERROR(RTD(\"cqg.rtd\",,\"StudyData\",\"LoLevel(\"&A180&\",Period2:=\"&$B$1&\",AllowGaps:=0,InputChoice2:=Low,InputChoice4:=Low)\",\"Bar\",, \"Close\",$C$1,\"-1\",,,,,\"T\"),\"\")","v":11.14},0,0,7.0080000000000027,6.0190000000000063,"S.US.F",{"$f":"RTD(\"cqg.rtd\", ,\"ContractData\",A180, \"PerCentNetLastTrade\",, \"T\")/100","v":-6.4599483204134359E-4},{"$f":"RANK($K180,$K$2:K$506)+COUNTIF($K$2:K180,K180)-1","v":{"$error":"#VALUE!"}},"S.US.F",179,"",{"$f":"RTD(\"cqg.rtd\", ,\"ContractData\",O180, \"PerCentNetLastTrade\",, \"T\")/100","v":{"$error":"#VALUE!"}},{"$error":"#N/A"},null,179,""]
[{"$f":"Symbols!A181","v":"S.US.FANG"},{"$f":"IFERROR(RTD(\"cqg.rtd\",,\"StudyData\",A181,\"Bar\",, \"High\",$C$1,\"0\",,,,,\"T\"),\"\")","v":141.05000000000001},{"$f":"IFERROR(RTD(\"cqg.rtd\",,\"StudyData\",A181,\"Bar\",, \"Low\",$C$1,\"0\",,,,,\"T\"),\"\")","v":138.05000000000001},{"$f":"IFERROR(RTD(\"cqg.rtd\",,\"StudyData\",\"HiLevel(\"&A181&\",Period1:=\"&$B$1&\",AllowGaps:=0,InputChoice1:=High,InputChoice3:=High)\",\"Bar\",, \"Close\",$C$1,\"-1\",,,,,\"T\"),\"\")","v":147.99},{"$f":"IFERROR(RTD(\"cqg.rtd\",,\"StudyData\",\"LoLevel(\"&A181&\",Period2:=\"&$B$1&\",AllowGaps:=0,InputChoice2:=Low,InputChoice4:=Low)\",\"Bar\",, \"Close\",$C$1,\"-1\",,,,,\"T\"),\"\")","v":65.930000000000007},0,0,7.009000000000003,6.0200000000000067,"S.US.FANG",{"$f":"RTD(\"cqg.rtd\", ,\"ContractData\",A181, \"PerCentNetLastTrade\",, \"T\")/100","v":1.0835018780699219E-2},{"$f":"RANK($K181,$K$2:K$506)+COUNTIF($K$2:K181,K181)-1","v":{"$error":"#VALUE!"}},"S.US.FANG",180,"",{"$f":"RTD(\"cqg.rtd\", ,\"ContractData\",O181, \"PerCentNetLastTrade\",, \"T\")/100","v":{"$error":"#VALUE!"}},{"$error":"#N/A"},null,180,""]
[{"$f":"Symbols!A182","v":"S.US.FAST"},{"$f":"IFERROR(RTD(\"cqg.rtd\",,\"StudyData\",A182,\"Bar\",, \"High\",$C$1,\"0\",,,,,\"T\"),\"\")","v":56.1},{"$f":"IFERROR(RTD(\"cqg.rtd\",,\"StudyData\",A182,\"Bar\",, \"Low\",$C$1,\"0\",,,,,\"T\"),\"\")","v":55.74},{"$f":"IFERROR(RTD(\"cqg.rtd\",,\"StudyData\",\"HiLevel(\"&A182&\",Period1:=\"&$B$1&\",AllowGaps:=0,InputChoice1:=High,InputChoice3:=High)\",\"Bar\",, \"Close\",$C$1,\"-1\",,,,,\"T\"),\"\")","v":64.739999999999995},{"$f":"IFERROR(RTD(\"cqg.rtd\",,\"StudyData\",\"LoLevel(\"&A182&\",Period2:=\"&$B$1&\",AllowGaps:=0,InputChoice2:=Low,InputChoice4:=Low)\",\"Bar\",, \"Close\",$C$1,\"-1\",,,,,\"T\"),\"\")","v":48.84},0,0,7.0100000000000033,6.021000000000007,"S.US.FAST",{"$f":"RTD(\"cqg.rtd\", ,\"ContractData\",A182, \"PerCentNetLastTrade\",, \"T\")/100","v":-3.2137118371719335E-3},{"$f":"RANK($K182,$K$2:K$506)+COUNTIF($K$2:K182,K182)-1","v":{"$error":"#VALUE!"}},"S.US.FAST",181,"",{"$f":"RTD(\"cqg.rtd\", ,\"ContractData\",O182, \"PerCentNetLastTrade\",, \"T\")/100","v":{"$error":"#VALUE!"}},{"$error":"#N/A"},null,181,""]
[{"$f":"Symbols!A183","v":"S.US.FB"},{"$f":"IFERROR(RTD(\"cqg.rtd\",,\"StudyData\",A183,\"Bar\",, \"High\",$C$1,\"0\",,,,,\"T\"),\"\")","v":211.4},{"$f":"IFERROR(RTD(\"cqg.rtd\",,\"StudyData\",A183,\"Bar\",, \"Low\",$C$1,\"0\",,,,,\"T\"),\"\")","v":209.35},{"$f":"IFERROR(RTD(\"cqg.rtd\",,\"StudyData\",\"HiLevel(\"&A183&\",Period1:=\"&$B$1&\",AllowGaps:=0,InputChoice1:=High,InputChoice3:=High)\",\"Bar\",, \"Close\",$C$1,\"-1\",,,,,\"T\"),\"\")","v":384.33},{"$f":"IFERROR(RTD(\"cqg.rtd\",,\"StudyData\",\"LoLevel(\"&A183&\",Period2:=\"&$B$1&\",AllowGaps:=0,InputChoice2:=Low,InputChoice4:=Low)\",\"Bar\",, \"Close\",$C$1,\"-1\",,,,,\"T\"),\"\")","v":185.82},0,0,7.0110000000000037,6.0220000000000073,"S.US.FB",{"$f":"RTD(\"cqg.rtd\", ,\"ContractData\",A183, \"PerCentNetLastTrade\",, \"T\")/100","v":2.8546959748786756E-4},{"$f":"RANK($K183,$K$2:K$506)+COUNTIF($K$2:K183,K183)-1","v":{"$error":"#VALUE!"}},"S.US.FB",182,"",{"$f":"RTD(\"cqg.rtd\", ,\"ContractData\",O183, \"PerCentNetLastTrade\",, \"T\")/100","v":{"$error":"#VALUE!"}},{"$error":"#N/A"},null,182,""]
[{"$f":"Symbols!A184","v":"S.US.FBHS"},{"$f":"IFERROR(RTD(\"cqg.rtd\",,\"StudyData\",A184,\"Bar\",, \"High\",$C$1,\"0\",,,,,\"T\"),\"\")","v":70.349999999999994},{"$f":"IFERROR(RTD(\"cqg.rtd\",,\"StudyData\",A184,\"Bar\",, \"Low\",$C$1,\"0\",,,,,\"T\"),\"\")","v":69.3},{"$f":"IFERROR(RTD(\"cqg.rtd\",,\"StudyData\",\"HiLevel(\"&A184&\",Period1:=\"&$B$1&\",AllowGaps:=0,InputChoice1:=High,InputChoice3:=High)\",\"Bar\",, \"Close\",$C$1,\"-1\",,,,,\"T\"),\"\")","v":114},{"$f":"IFERROR(RTD(\"cqg.rtd\",,\"StudyData\",\"LoLevel(\"&A184&\",Period2:=\"&$B$1&\",AllowGaps:=0,InputChoice2:=Low,InputChoice4:=Low)\",\"Bar\",, \"Close\",$C$1,\"-1\",,,,,\"T\"),\"\")","v":69.59},0,1,7.012000000000004,7,"S.US.FBHS",{"$f":"RTD(\"cqg.rtd\", ,\"ContractData\",A184, \"PerCentNetLastTrade\",, \"T\")/100","v":1.7231476163124639E-3},{"$f":"RANK($K184,$K$2:K$506)+COUNTIF($K$2:K184,K184)-1","v":{"$error":"#VALUE!"}},"S.US.FBHS",183,"",{"$f":"RTD(\"cqg.rtd\", ,\"ContractData\",O184, \"PerCentNetLastTrade\",, \"T\")/100","v":{"$error":"#VALUE!"}},{"$error":"#N/A"},null,183,""]
[{"$f":"Symbols!A185","v":"S.US.FCX"},{"$f":"IFERROR(RTD(\"cqg.rtd\",,\"StudyData\",A185,\"Bar\",, \"High\",$C$1,\"0\",,,,,\"T\"),\"\")","v":50.11},{"$f":"IFERROR(RTD(\"cqg.rtd\",,\"StudyData\",A185,\"Bar\",, \"Low\",$C$1,\"0\",,,,,\"T\"),\"\")","v":49.41},{"$f":"IFERROR(RTD(\"cqg.rtd\",,\"StudyData\",\"HiLevel(\"&A185&\",Period1:=\"&$B$1&\",AllowGaps:=0,InputChoice1:=High,InputChoice3:=High)\",\"Bar\",, \"Close\",$C$1,\"-1\",,,,,\"T\"),\"\")","v":51.99},{"$f":"IFERROR(RTD(\"cqg.rtd\",,\"StudyData\",\"LoLevel(\"&A185&\",Period2:=\"&$B$1&\",AllowGaps:=0,InputChoice2:=Low,InputChoice4:=Low)\",\"Bar\",, \"Close\",$C$1,\"-1\",,,,,\"T\"),\"\")","v":30.02},0,0,7.0130000000000043,7.0010000000000003,"S.US.FCX",{"$f":"RTD(\"cqg.rtd\", ,\"ContractData\",A185, \"PerCentNetLastTrade\",, \"T\")/100","v":1.5856881479975604E-2},{"$f":"RANK($K185,$K$2:K$506)+COUNTIF($K$2:K185,K185)-1","v":{"$error":"#VALUE!"}},"S.US.FCX",184,"",{"$f":"RTD(\"cqg.rtd\", ,\"ContractData\",O185, \"PerCentNetLastTrade\",, \"T\")/100","v":{"$error":"#VALUE!"}},{"$error":"#N/A"},null,184,""]
[{"$f":"Symbols!A186","v":"S.US.FDS"},{"$f":"IFERROR(RTD(\"cqg.rtd\",,\"StudyData\",A186,\"Bar\",, \"High\",$C$1,\"0\",,,,,\"T\"),\"\")","v":422.25},{"$f":"IFERROR(RTD(\"cqg.rtd\",,\"StudyData\",A186,\"Bar\",, \"Low\",$C$1,\"0\",,,,,\"T\"),\"\")","v":420.19},{"$f":"IFERROR(RTD(\"cqg.rtd\",,\"StudyData\",\"HiLevel(\"&A186&\",Period1:=\"&$B$1&\",AllowGaps:=0,InputChoice1:=High,InputChoice3:=High)\",\"Bar\",, \"Close\",$C$1,\"-1\",,,,,\"T\"),\"\")","v":495.39},{"$f":"IFERROR(RTD(\"cqg.rtd\",,\"StudyData\",\"LoLevel(\"&A186&\",Period2:=\"&$B$1&\",AllowGaps:=0,InputChoice2:=Low,InputChoice4:=Low)\",\"Bar\",, \"Close\",$C$1,\"-1\",,,,,\"T\"),\"\")","v":316.37},0,0,7.0140000000000047,7.0020000000000007,"S.US.FDS",{"$f":"RTD(\"cqg.rtd\", ,\"ContractData\",A186, \"PerCentNetLastTrade\",, \"T\")/100","v":7.8464940437977023E-4},{"$f":"RANK($K186,$K$2:K$506)+COUNTIF($K$2:K186,K186)-1","v":{"$error":"#VALUE!"}},"S.US.FDS",185,"",{"$f":"RTD(\"cqg.rtd\", ,\"ContractData\",O186, \"PerCentNetLastTrade\",, \"T\")/100","v":{"$error":"#VALUE!"}},{"$error":"#N/A"},null,185,""]
[{"$f":"Symbols!A187","v":"S.US.FDX"},{"$f":"IFERROR(RTD(\"cqg.rtd\",,\"StudyData\",A187,\"Bar\",, \"High\",$C$1,\"0\",,,,,\"T\"),\"\")","v":206.98},{"$f":"IFERROR(RTD(\"cqg.rtd\",,\"StudyData\",A187,\"Bar\",, \"Low\",$C$1,\"0\",,,,,\"T\"),\"\")","v":205.31},{"$f":"IFERROR(RTD(\"cqg.rtd\",,\"StudyData\",\"HiLevel(\"&A187&\",Period1:=\"&$B$1&\",AllowGaps:=0,InputChoice1:=High,InputChoice3:=High)\",\"Bar\",, \"Close\",$C$1,\"-1\",,,,,\"T\"),\"\")","v":319.89999999999998},{"$f":"IFERROR(RTD(\"cqg.rtd\",,\"StudyData\",\"LoLevel(\"&A187&\",Period2:=\"&$B$1&\",AllowGaps:=0,InputChoice2:=Low,InputChoice4:=Low)\",\"Bar\",, \"Close\",$C$1,\"-1\",,,,,\"T\"),\"\")","v":199.03},0,0,7.015000000000005,7.003000000000001,"S.US.FDX",{"$f":"RTD(\"cqg.rtd\", ,\"ContractData\",A187, \"PerCentNetLastTrade\",, \"T\")/100","v":1.3123359580052493E-3},{"$f":"RANK($K187,$K$2:K$506)+COUNTIF($K$2:K187,K187)-1","v":{"$error":"#VALUE!"}},"S.US.FDX",186,"",{"$f":"RTD(\"cqg.rtd\", ,\"ContractData\",O187, \"PerCentNetLastTrade\",, \"T\")/100","v":{"$error":"#VALUE!"}},{"$error":"#N/A"},null,186,""]
[{"$f":"Symbols!A188","v":"S.US.FE"},{"$f":"IFERROR(RTD(\"cqg.rtd\",,\"StudyData\",A188,\"Bar\",, \"High\",$C$1,\"0\",,,,,\"T\"),\"\")","v":47.6},{"$f":"IFERROR(RTD(\"cqg.rtd\",,\"StudyData\",A188,\"Bar\",, \"Low\",$C$1,\"0\",,,,,\"T\"),\"\")","v":47.14},{"$f":"IFERROR(RTD(\"cqg.rtd\",,\"StudyData\",\"HiLevel(\"&A188&\",Period1:=\"&$B$1&\",AllowGaps:=0,InputChoice1:=High,InputChoice3:=High)\",\"Bar\",, \"Close\",$C$1,\"-1\",,,,,\"T\"),\"\")","v":47.99},{"$f":"IFERROR(RTD(\"cqg.rtd\",,\"StudyData\",\"LoLevel(\"&A188&\",Period2:=\"&$B$1&\",AllowGaps:=0,InputChoice2:=Low,InputChoice4:=Low)\",\"Bar\",, \"Close\",$C$1,\"-1\",,,,,\"T\"),\"\")","v":35.42},0,0,7.0160000000000053,7.0040000000000013,"S.US.FE",{"$f":"RTD(\"cqg.rtd\", ,\"ContractData\",A188, \"PerCentNetLastTrade\",, \"T\")/100","v":2.5316455696202532E-3},{"$f":"RANK($K188,$K$2:K$506)+COUNTIF($K$2:K188,K188)-1","v":{"$error":"#VALUE!"}},"S.US.FE",187,"",{"$f":"RTD(\"cqg.rtd\", ,\"ContractData\",O188, \"PerCentNetLastTrade\",, \"T\")/100","v":{"$error":"#VALUE!"}},{"$error":"#N/A"},null,187,""]
[{"$f":"Symbols!A189","v":"S.US.FFIV"},{"$f":"IFERROR(RTD(\"cqg.rtd\",,\"StudyData\",A189,\"Bar\",, \"High\",$C$1,\"0\",,,,,\"T\"),\"\")","v":200.19},{"$f":"IFERROR(RTD(\"cqg.rtd\",,\"StudyData\",A189,\"Bar\",, \"Low\",$C$1,\"0\",,,,,\"T\"),\"\")","v":198.17},{"$f":"IFERROR(RTD(\"cqg.rtd\",,\"StudyData\",\"HiLevel(\"&A189&\",Period1:=\"&$B$1&\",AllowGaps:=0,InputChoice1:=High,InputChoice3:=High)\",\"Bar\",, \"Close\",$C$1,\"-1\",,,,,\"T\"),\"\")","v":249},{"$f":"IFERROR(RTD(\"cqg.rtd\",,\"StudyData\",\"LoLevel(\"&A189&\",Period2:=\"&$B$1&\",AllowGaps:=0,InputChoice2:=Low,InputChoice4:=Low)\",\"Bar\",, \"Close\",$C$1,\"-1\",,,,,\"T\"),\"\")","v":174.34},0,0,7.0170000000000057,7.0050000000000017,"S.US.FFIV",{"$f":"RTD(\"cqg.rtd\", ,\"ContractData\",A189, \"PerCentNetLastTrade\",, \"T\")/100","v":-2.3555355084448454E-3},{"$f":"RANK($K189,$K$2:K$506)+COUNTIF($K$2:K189,K189)-1","v":{"$error":"#VALUE!"}},"S.US.FFIV",188,"",{"$f":"RTD(\"cqg.rtd\", ,\"ContractData\",O189, \"PerCentNetLastTrade\",, \"T\")/100","v":{"$error":"#VALUE!"}},{"$error":"#N/A"},null,188,""]
[{"$f":"Symbols!A190","v":"S.US.FIS"},{"$f":"IFERROR(RTD(\"cqg.rtd\",,\"StudyData\",A190,\"Bar\",, \"High\",$C$1,\"0\",,,,,\"T\"),\"\")","v":103.48},{"$f":"IFERROR(RTD(\"cqg.rtd\",,\"StudyData\",A190,\"Bar\",, \"Low\",$C$1,\"0\",,,,,\"T\"),\"\")","v":101.7},{"$f":"IFERROR(RTD(\"cqg.rtd\",,\"StudyData\",\"HiLevel(\"&A190&\",Period1:=\"&$B$1&\",AllowGaps:=0,InputChoice1:=High,InputChoice3:=High)\",\"Bar\",, \"Close\",$C$1,\"-1\",,,,,\"T\"),\"\")","v":155.96},{"$f":"IFERROR(RTD(\"cqg.rtd\",,\"StudyData\",\"LoLevel(\"&A190&\",Period2:=\"&$B$1&\",AllowGaps:=0,InputChoice2:=Low,InputChoice4:=Low)\",\"Bar\",, \"Close\",$C$1,\"-1\",,,,,\"T\"),\"\")","v":85},0,0,7.018000000000006,7.006000000000002,"S.US.FIS",{"$f":"RTD(\"cqg.rtd\", ,\"ContractData\",A190, \"PerCentNetLastTrade\",, \"T\")/100","v":8.979990239141044E-3},{"$f":"RANK($K190,$K$2:K$506)+COUNTIF($K$2:K190,K190)-1","v":{"$error":"#VALUE!"}},"S.US.FIS",189,"",{"$f":"RTD(\"cqg.rtd\", ,\"ContractData\",O190, \"PerCentNetLastTrade\",, \"T\")/100","v":{"$error":"#VALUE!"}},{"$error":"#N/A"},null,189,""]
[{"$f":"Symbols!A191","v":"S.US.FISV"},{"$f":"IFERROR(RTD(\"cqg.rtd\",,\"StudyData\",A191,\"Bar\",, \"High\",$C$1,\"0\",,,,,\"T\"),\"\")","v":100.72},{"$f":"IFERROR(RTD(\"cqg.rtd\",,\"StudyData\",A191,\"Bar\",, \"Low\",$C$1,\"0\",,,,,\"T\"),\"\")","v":99.14},{"$f":"IFERROR(RTD(\"cqg.rtd\",,\"StudyData\",\"HiLevel(\"&A191&\",Period1:=\"&$B$1&\",AllowGaps:=0,InputChoice1:=High,InputChoice3:=High)\",\"Bar\",, \"Close\",$C$1,\"-1\",,,,,\"T\"),\"\")","v":127.34},{"$f":"IFERROR(RTD(\"cqg.rtd\",,\"StudyData\",\"LoLevel(\"&A191&\",Period2:=\"&$B$1&\",AllowGaps:=0,InputChoice2:=Low,InputChoice4:=Low)\",\"Bar\",, \"Close\",$C$1,\"-1\",,,,,\"T\"),\"\")","v":89.91},0,0,7.0190000000000063,7.0070000000000023,"S.US.FISV",{"$f":"RTD(\"cqg.rtd\", ,\"ContractData\",A191, \"PerCentNetLastTrade\",, \"T\")/100","v":6.4211899267583028E-3},{"$f":"RANK($K191,$K$2:K$506)+COUNTIF($K$2:K191,K191)-1","v":{"$error":"#VALUE!"}},"S.US.FISV",190,"",{"$f":"RTD(\"cqg.rtd\", ,\"ContractData\",O191, \"PerCentNetLastTrade\",, \"T\")/100","v":{"$error":"#VALUE!"}},{"$error":"#N/A"},null,190,""]
[{"$f":"Symbols!A192","v":"S.US.FITB"},{"$f":"IFERROR(RTD(\"cqg.rtd\",,\"StudyData\",A192,\"Bar\",, \"High\",$C$1,\"0\",,,,,\"T\"),\"\")","v":39.39},{"$f":"IFERROR(RTD(\"cqg.rtd\",,\"StudyData\",A192,\"Bar\",, \"Low\",$C$1,\"0\",,,,,\"T\"),\"\")","v":38.82},{"$f":"IFERROR(RTD(\"cqg.rtd\",,\"StudyData\",\"HiLevel(\"&A192&\",Period1:=\"&$B$1&\",AllowGaps:=0,InputChoice1:=High,InputChoice3:=High)\",\"Bar\",, \"Close\",$C$1,\"-1\",,,,,\"T\"),\"\")","v":50.64},{"$f":"IFERROR(RTD(\"cqg.rtd\",,\"StudyData\",\"LoLevel(\"&A192&\",Period2:=\"&$B$1&\",AllowGaps:=0,InputChoice2:=Low,InputChoice4:=Low)\",\"Bar\",, \"Close\",$C$1,\"-1\",,,,,\"T\"),\"\")","v":34.35},0,0,7.0200000000000067,7.0080000000000027,"S.US.FITB",{"$f":"RTD(\"cqg.rtd\", ,\"ContractData\",A192, \"PerCentNetLastTrade\",, \"T\")/100","v":6.1522686490643429E-3},{"$f":"RANK($K192,$K$2:K$506)+COUNTIF($K$2:K192,K192)-1","v":{"$error":"#VALUE!"}},"S.US.FITB",191,"",{"$f":"RTD(\"cqg.rtd\", ,\"ContractData\",O192, \"PerCentNetLastTrade\",, \"T\")/100","v":{"$error":"#VALUE!"}},{"$error":"#N/A"},null,191,""]
[{"$f":"Symbols!A193","v":"S.US.FLT"},{"$f":"IFERROR(RTD(\"cqg.rtd\",,\"StudyData\",A193,\"Bar\",, \"High\",$C$1,\"0\",,,,,\"T\"),\"\")","v":260.8},{"$f":"IFERROR(RTD(\"cqg.rtd\",,\"StudyData\",A193,\"Bar\",, \"Low\",$C$1,\"0\",,,,,\"T\"),\"\")","v":257.83},{"$f":"IFERROR(RTD(\"cqg.rtd\",,\"StudyData\",\"HiLevel(\"&A193&\",Period1:=\"&$B$1&\",AllowGaps:=0,InputChoice1:=High,InputChoice3:=High)\",\"Bar\",, \"Close\",$C$1,\"-1\",,,,,\"T\"),\"\")","v":295.36},{"$f":"IFERROR(RTD(\"cqg.rtd\",,\"StudyData\",\"LoLevel(\"&A193&\",Period2:=\"&$B$1&\",AllowGaps:=0,InputChoice2:=Low,InputChoice4:=Low)\",\"Bar\",, \"Close\",$C$1,\"-1\",,,,,\"T\"),\"\")","v":200.78},0,0,7.021000000000007,7.009000000000003,"S.US.FLT",{"$f":"RTD(\"cqg.rtd\", ,\"ContractData\",A193, \"PerCentNetLastTrade\",, \"T\")/100","v":5.5282792747516143E-3},{"$f":"RANK($K193,$K$2:K$506)+COUNTIF($K$2:K193,K193)-1","v":{"$error":"#VALUE!"}},"S.US.FLT",192,"",{"$f":"RTD(\"cqg.rtd\", ,\"ContractData\",O193, \"PerCentNetLastTrade\",, \"T\")/100","v":{"$error":"#VALUE!"}},{"$error":"#N/A"},null,192,""]
[{"$f":"Symbols!A194","v":"S.US.FMC"},{"$f":"IFERROR(RTD(\"cqg.rtd\",,\"StudyData\",A194,\"Bar\",, \"High\",$C$1,\"0\",,,,,\"T\"),\"\")","v":138.41},{"$f":"IFERROR(RTD(\"cqg.rtd\",,\"StudyData\",A194,\"Bar\",, \"Low\",$C$1,\"0\",,,,,\"T\"),\"\")","v":137.33000000000001},{"$f":"IFERROR(RTD(\"cqg.rtd\",,\"StudyData\",\"HiLevel(\"&A194&\",Period1:=\"&$B$1&\",AllowGaps:=0,InputChoice1:=High,InputChoice3:=High)\",\"Bar\",, \"Close\",$C$1,\"-1\",,,,,\"T\"),\"\")","v":139.09},{"$f":"IFERROR(RTD(\"cqg.rtd\",,\"StudyData\",\"LoLevel(\"&A194&\",Period2:=\"&$B$1&\",AllowGaps:=0,InputChoice2:=Low,InputChoice4:=Low)\",\"Bar\",, \"Close\",$C$1,\"-1\",,,,,\"T\"),\"\")","v":87.27},0,0,7.0220000000000073,7.0100000000000033,"S.US.FMC",{"$f":"RTD(\"cqg.rtd\", ,\"ContractData\",A194, \"PerCentNetLastTrade\",, \"T\")/100","v":1.0746399590613348E-2},{"$f":"RANK($K194,$K$2:K$506)+COUNTIF($K$2:K194,K194)-1","v":{"$error":"#VALUE!"}},"S.US.FMC",193,{"$f":"IFERROR(VLOOKUP(N194,$L$2:$M$506,2,FALSE),\"\")","v":""},{"$f":"RTD(\"cqg.rtd\", ,\"ContractData\",O194, \"PerCentNetLastTrade\",, \"T\")/100","v":{"$error":"#VALUE!"}},{"$f":"VLOOKUP(O194,$A$2:$H$506,8,FALSE)","v":{"$error":"#N/A"}},null,193,{"$f":"IFERROR(VLOOKUP(S194,$H$2:$J$506,3,FALSE),\"\")","v":""}]
[{"$f":"Symbols!A195","v":"S.US.FOX"},{"$f":"IFERROR(RTD(\"cqg.rtd\",,\"StudyData\",A195,\"Bar\",, \"High\",$C$1,\"0\",,,,,\"T\"),\"\")","v":36.17},{"$f":"IFERROR(RTD(\"cqg.rtd\",,\"StudyData\",A195,\"Bar\",, \"Low\",$C$1,\"0\",,,,,\"T\"),\"\")","v":35.75},{"$f":"IFERROR(RTD(\"cqg.rtd\",,\"StudyData\",\"HiLevel(\"&A195&\",Period1:=\"&$B$1&\",AllowGaps:=0,InputChoice1:=High,InputChoice3:=High)\",\"Bar\",, \"Close\",$C$1,\"-1\",,,,,\"T\"),\"\")","v":40.909999999999997},{"$f":"IFERROR(RTD(\"cqg.rtd\",,\"StudyData\",\"LoLevel(\"&A195&\",Period2:=\"&$B$1&\",AllowGaps:=0,InputChoice2:=Low,InputChoice4:=Low)\",\"Bar\",, \"Close\",$C$1,\"-1\",,,,,\"T\"),\"\")","v":31.87},0,0,7.0230000000000077,7.0110000000000037,"S.US.FOX",{"$f":"RTD(\"cqg.rtd\", ,\"ContractData\",A195, \"PerCentNetLastTrade\",, \"T\")/100","v":8.368200836820083E-3},{"$f":"RANK($K195,$K$2:K$506)+COUNTIF($K$2:K195,K195)-1","v":{"$error":"#VALUE!"}},"S.US.FOX",194,"",{"$f":"RTD(\"cqg.rtd\", ,\"ContractData\",O195, \"PerCentNetLastTrade\",, \"T\")/100","v":{"$error":"#VALUE!"}},{"$error":"#N/A"},null,194,""]
[{"$f":"Symbols!A196","v":"S.US.FOXA"},{"$f":"IFERROR(RTD(\"cqg.rtd\",,\"StudyData\",A196,\"Bar\",, \"High\",$C$1,\"0\",,,,,\"T\"),\"\")","v":39.409999999999997},{"$f":"IFERROR(RTD(\"cqg.rtd\",,\"StudyData\",A196,\"Bar\",, \"Low\",$C$1,\"0\",,,,,\"T\"),\"\")","v":38.97},{"$f":"IFERROR(RTD(\"cqg.rtd\",,\"StudyData\",\"HiLevel(\"&A196&\",Period1:=\"&$B$1&\",AllowGaps:=0,InputChoice1:=High,InputChoice3:=High)\",\"Bar\",, \"Close\",$C$1,\"-1\",,,,,\"T\"),\"\")","v":44.95},{"$f":"IFERROR(RTD(\"cqg.rtd\",,\"StudyData\",\"LoLevel(\"&A196&\",Period2:=\"&$B$1&\",AllowGaps:=0,InputChoice2:=Low,InputChoice4:=Low)\",\"Bar\",, \"Close\",$C$1,\"-1\",,,,,\"T\"),\"\")","v":34.159999999999997},0,0,7.024000000000008,7.012000000000004,"S.US.FOXA",{"$f":"RTD(\"cqg.rtd\", ,\"ContractData\",A196, \"PerCentNetLastTrade\",, \"T\")/100","v":5.6237218813905933E-3},{"$f":"RANK($K196,$K$2:K$506)+COUNTIF($K$2:K196,K196)-1","v":{"$error":"#VALUE!"}},{"$f":"J196","v":"S.US.FOXA"},{"$f":"N195+1","v":195},"",{"$f":"RTD(\"cqg.rtd\", ,\"ContractData\",O196, \"PerCentNetLastTrade\",, \"T\")/100","v":{"$error":"#VALUE!"}},{"$error":"#N/A"},null,{"$f":"S195+1","v":195},""]
[{"$f":"Symbols!A197","v":"S.US.FRC"},{"$f":"IFERROR(RTD(\"cqg.rtd\",,\"StudyData\",A197,\"Bar\",, \"High\",$C$1,\"0\",,,,,\"T\"),\"\")","v":160.94},{"$f":"IFERROR(RTD(\"cqg.rtd\",,\"StudyData\",A197,\"Bar\",, \"Low\",$C$1,\"0\",,,,,\"T\"),\"\")","v":159.06},{"$f":"IFERROR(RTD(\"cqg.rtd\",,\"StudyData\",\"HiLevel(\"&A197&\",Period1:=\"&$B$1&\",AllowGaps:=0,InputChoice1:=High,InputChoice3:=High)\",\"Bar\",, \"Close\",$C$1,\"-1\",,,,,\"T\"),\"\")","v":222.86},{"$f":"IFERROR(RTD(\"cqg.rtd\",,\"StudyData\",\"LoLevel(\"&A197&\",Period2:=\"&$B$1&\",AllowGaps:=0,InputChoice2:=Low,InputChoice4:=Low)\",\"Bar\",, \"Close\",$C$1,\"-1\",,,,,\"T\"),\"\")","v":150},0,0,7.0250000000000083,7.0130000000000043,"S.US.FRC",{"$f":"RTD(\"cqg.rtd\", ,\"ContractData\",A197, \"PerCentNetLastTrade\",, \"T\")/100","v":-2.4883359253499225E-3},{"$f":"RANK($K197,$K$2:K$506)+COUNTIF($K$2:K197,K197)-1","v":{"$error":"#VALUE!"}},"S.US.FRC",196,"",{"$f":"RTD(\"cqg.rtd\", ,\"ContractData\",O197, \"PerCentNetLastTrade\",, \"T\")/100","v":{"$error":"#VALUE!"}},{"$error":"#N/A"},null,196,""]
[{"$f":"Symbols!A198","v":"S.US.FRT"},{"$f":"IFERROR(RTD(\"cqg.rtd\",,\"StudyData\",A198,\"Bar\",, \"High\",$C$1,\"0\",,,,,\"T\"),\"\")","v":124.31},{"$f":"IFERROR(RTD(\"cqg.rtd\",,\"StudyData\",A198,\"Bar\",, \"Low\",$C$1,\"0\",,,,,\"T\"),\"\")","v":123.14},{"$f":"IFERROR(RTD(\"cqg.rtd\",,\"StudyData\",\"HiLevel(\"&A198&\",Period1:=\"&$B$1&\",AllowGaps:=0,InputChoice1:=High,InputChoice3:=High)\",\"Bar\",, \"Close\",$C$1,\"-1\",,,,,\"T\"),\"\")","v":140.51},{"$f":"IFERROR(RTD(\"cqg.rtd\",,\"StudyData\",\"LoLevel(\"&A198&\",Period2:=\"&$B$1&\",AllowGaps:=0,InputChoice2:=Low,InputChoice4:=Low)\",\"Bar\",, \"Close\",$C$1,\"-1\",,,,,\"T\"),\"\")","v":105.62},0,0,7.0260000000000087,7.0140000000000047,"S.US.FRT",{"$f":"RTD(\"cqg.rtd\", ,\"ContractData\",A198, \"PerCentNetLastTrade\",, \"T\")/100","v":5.2734058088593216E-3},{"$f":"RANK($K198,$K$2:K$506)+COUNTIF($K$2:K198,K198)-1","v":{"$error":"#VALUE!"}},"S.US.FRT",197,"",{"$f":"RTD(\"cqg.rtd\", ,\"ContractData\",O198, \"PerCentNetLastTrade\",, \"T\")/100","v":{"$error":"#VALUE!"}},{"$error":"#N/A"},null,197,""]
[{"$f":"Symbols!A199","v":"S.US.FTNT"},{"$f":"IFERROR(RTD(\"cqg.rtd\",,\"StudyData\",A199,\"Bar\",, \"High\",$C$1,\"0\",,,,,\"T\"),\"\")","v":331.67},{"$f":"IFERROR(RTD(\"cqg.rtd\",,\"StudyData\",A199,\"Bar\",, \"Low\",$C$1,\"0\",,,,,\"T\"),\"\")","v":327.26},{"$f":"IFERROR(RTD(\"cqg.rtd\",,\"StudyData\",\"HiLevel(\"&A199&\",Period1:=\"&$B$1&\",AllowGaps:=0,InputChoice1:=High,InputChoice3:=High)\",\"Bar\",, \"Close\",$C$1,\"-1\",,,,,\"T\"),\"\")","v":371.77},{"$f":"IFERROR(RTD(\"cqg.rtd\",,\"StudyData\",\"LoLevel(\"&A199&\",Period2:=\"&$B$1&\",AllowGaps:=0,InputChoice2:=Low,InputChoice4:=Low)\",\"Bar\",, \"Close\",$C$1,\"-1\",,,,,\"T\"),\"\")","v":192.78},0,0,7.027000000000009,7.015000000000005,"S.US.FTNT",{"$f":"RTD(\"cqg.rtd\", ,\"ContractData\",A199, \"PerCentNetLastTrade\",, \"T\")/100","v":-1.2720038582107547E-2},{"$f":"RANK($K199,$K$2:K$506)+COUNTIF($K$2:K199,K199)-1","v":{"$error":"#VALUE!"}},"S.US.FTNT",198,"",{"$f":"RTD(\"cqg.rtd\", ,\"ContractData\",O199, \"PerCentNetLastTrade\",, \"T\")/100","v":{"$error":"#VALUE!"}},{"$error":"#N/A"},null,198,""]
[{"$f":"Symbols!A200","v":"S.US.FTV"},{"$f":"IFERROR(RTD(\"cqg.rtd\",,\"StudyData\",A200,\"Bar\",, \"High\",$C$1,\"0\",,,,,\"T\"),\"\")","v":58.37},{"$f":"IFERROR(RTD(\"cqg.rtd\",,\"StudyData\",A200,\"Bar\",, \"Low\",$C$1,\"0\",,,,,\"T\"),\"\")","v":57.74},{"$f":"IFERROR(RTD(\"cqg.rtd\",,\"StudyData\",\"HiLevel(\"&A200&\",Period1:=\"&$B$1&\",AllowGaps:=0,InputChoice1:=High,InputChoice3:=High)\",\"Bar\",, \"Close\",$C$1,\"-1\",,,,,\"T\"),\"\")","v":79.87},{"$f":"IFERROR(RTD(\"cqg.rtd\",,\"StudyData\",\"LoLevel(\"&A200&\",Period2:=\"&$B$1&\",AllowGaps:=0,InputChoice2:=Low,InputChoice4:=Low)\",\"Bar\",, \"Close\",$C$1,\"-1\",,,,,\"T\"),\"\")","v":56.06},0,0,7.0280000000000094,7.0160000000000053,"S.US.FTV",{"$f":"RTD(\"cqg.rtd\", ,\"ContractData\",A200, \"PerCentNetLastTrade\",, \"T\")/100","v":-2.062564455139223E-3},{"$f":"RANK($K200,$K$2:K$506)+COUNTIF($K$2:K200,K200)-1","v":{"$error":"#VALUE!"}},"S.US.FTV",199,"",{"$f":"RTD(\"cqg.rtd\", ,\"ContractData\",O200, \"PerCentNetLastTrade\",, \"T\")/100","v":{"$error":"#VALUE!"}},{"$error":"#N/A"},null,199,""]
[{"$f":"Symbols!A201","v":"S.US.GD"},{"$f":"IFERROR(RTD(\"cqg.rtd\",,\"StudyData\",A201,\"Bar\",, \"High\",$C$1,\"0\",,,,,\"T\"),\"\")","v":248.73},{"$f":"IFERROR(RTD(\"cqg.rtd\",,\"StudyData\",A201,\"Bar\",, \"Low\",$C$1,\"0\",,,,,\"T\"),\"\")","v":243.42},{"$f":"IFERROR(RTD(\"cqg.rtd\",,\"StudyData\",\"HiLevel(\"&A201&\",Period1:=\"&$B$1&\",AllowGaps:=0,InputChoice1:=High,InputChoice3:=High)\",\"Bar\",, \"Close\",$C$1,\"-1\",,,,,\"T\"),\"\")","v":254.99},{"$f":"IFERROR(RTD(\"cqg.rtd\",,\"StudyData\",\"LoLevel(\"&A201&\",Period2:=\"&$B$1&\",AllowGaps:=0,InputChoice2:=Low,InputChoice4:=Low)\",\"Bar\",, \"Close\",$C$1,\"-1\",,,,,\"T\"),\"\")","v":182.66},0,0,7.0290000000000097,7.0170000000000057,"S.US.GD",{"$f":"RTD(\"cqg.rtd\", ,\"ContractData\",A201, \"PerCentNetLastTrade\",, \"T\")/100","v":1.5877574464593421E-2},{"$f":"RANK($K201,$K$2:K$506)+COUNTIF($K$2:K201,K201)-1","v":{"$error":"#VALUE!"}},"S.US.GD",200,"",{"$f":"RTD(\"cqg.rtd\", ,\"ContractData\",O201, \"PerCentNetLastTrade\",, \"T\")/100","v":{"$error":"#VALUE!"}},{"$error":"#N/A"},null,200,""]
[{"$f":"Symbols!A202","v":"S.US.GE"},{"$f":"IFERROR(RTD(\"cqg.rtd\",,\"StudyData\",A202,\"Bar\",, \"High\",$C$1,\"0\",,,,,\"T\"),\"\")","v":91.24},{"$f":"IFERROR(RTD(\"cqg.rtd\",,\"StudyData\",A202,\"Bar\",, \"Low\",$C$1,\"0\",,,,,\"T\"),\"\")","v":90.39},{"$f":"IFERROR(RTD(\"cqg.rtd\",,\"StudyData\",\"HiLevel(\"&A202&\",Period1:=\"&$B$1&\",AllowGaps:=0,InputChoice1:=High,InputChoice3:=High)\",\"Bar\",, \"Close\",$C$1,\"-1\",,,,,\"T\"),\"\")","v":116.16},{"$f":"IFERROR(RTD(\"cqg.rtd\",,\"StudyData\",\"LoLevel(\"&A202&\",Period2:=\"&$B$1&\",AllowGaps:=0,InputChoice2:=Low,InputChoice4:=Low)\",\"Bar\",, \"Close\",$C$1,\"-1\",,,,,\"T\"),\"\")","v":85.29},0,0,7.03000000000001,7.018000000000006,"S.US.GE",{"$f":"RTD(\"cqg.rtd\", ,\"ContractData\",A202, \"PerCentNetLastTrade\",, \"T\")/100","v":4.0735439832654411E-3},{"$f":"RANK($K202,$K$2:K$506)+COUNTIF($K$2:K202,K202)-1","v":{"$error":"#VALUE!"}},"S.US.GE",201,"",{"$f":"RTD(\"cqg.rtd\", ,\"ContractData\",O202, \"PerCentNetLastTrade\",, \"T\")/100","v":{"$error":"#VALUE!"}},{"$error":"#N/A"},null,201,""]
[{"$f":"Symbols!A203","v":"S.US.GILD"},{"$f":"IFERROR(RTD(\"cqg.rtd\",,\"StudyData\",A203,\"Bar\",, \"High\",$C$1,\"0\",,,,,\"T\"),\"\")","v":62.19},{"$f":"IFERROR(RTD(\"cqg.rtd\",,\"StudyData\",A203,\"Bar\",, \"Low\",$C$1,\"0\",,,,,\"T\"),\"\")","v":61.66},{"$f":"IFERROR(RTD(\"cqg.rtd\",,\"StudyData\",\"HiLevel(\"&A203&\",Period1:=\"&$B$1&\",AllowGaps:=0,InputChoice1:=High,InputChoice3:=High)\",\"Bar\",, \"Close\",$C$1,\"-1\",,,,,\"T\"),\"\")","v":74.12},{"$f":"IFERROR(RTD(\"cqg.rtd\",,\"StudyData\",\"LoLevel(\"&A203&\",Period2:=\"&$B$1&\",AllowGaps:=0,InputChoice2:=Low,InputChoice4:=Low)\",\"Bar\",, \"Close\",$C$1,\"-1\",,,,,\"T\"),\"\")","v":57.18},0,0,7.0310000000000104,7.0190000000000063,"S.US.GILD",{"$f":"RTD(\"cqg.rtd\", ,\"ContractData\",A203, \"PerCentNetLastTrade\",, \"T\")/100","v":2.9116790682626979E-3},{"$f":"RANK($K203,$K$2:K$506)+COUNTIF($K$2:K203,K203)-1","v":{"$error":"#VALUE!"}},"S.US.GILD",202,"",{"$f":"RTD(\"cqg.rtd\", ,\"ContractData\",O203, \"PerCentNetLastTrade\",, \"T\")/100","v":{"$error":"#VALUE!"}},{"$error":"#N/A"},null,202,""]
[{"$f":"Symbols!A204","v":"S.US.GIS"},{"$f":"IFERROR(RTD(\"cqg.rtd\",,\"StudyData\",A204,\"Bar\",, \"High\",$C$1,\"0\",,,,,\"T\"),\"\")","v":71.3},{"$f":"IFERROR(RTD(\"cqg.rtd\",,\"StudyData\",A204,\"Bar\",, \"Low\",$C$1,\"0\",,,,,\"T\"),\"\")","v":70.849999999999994},{"$f":"IFERROR(RTD(\"cqg.rtd\",,\"StudyData\",\"HiLevel(\"&A204&\",Period1:=\"&$B$1&\",AllowGaps:=0,InputChoice1:=High,InputChoice3:=High)\",\"Bar\",, \"Close\",$C$1,\"-1\",,,,,\"T\"),\"\")","v":71.239999999999995},{"$f":"IFERROR(RTD(\"cqg.rtd\",,\"StudyData\",\"LoLevel(\"&A204&\",Period2:=\"&$B$1&\",AllowGaps:=0,InputChoice2:=Low,InputChoice4:=Low)\",\"Bar\",, \"Close\",$C$1,\"-1\",,,,,\"T\"),\"\")","v":56.67},1,0,8,7.0200000000000067,"S.US.GIS",{"$f":"RTD(\"cqg.rtd\", ,\"ContractData\",A204, \"PerCentNetLastTrade\",, \"T\")/100","v":4.6531302876480539E-3},{"$f":"RANK($K204,$K$2:K$506)+COUNTIF($K$2:K204,K204)-1","v":{"$error":"#VALUE!"}},"S.US.GIS",203,"",{"$f":"RTD(\"cqg.rtd\", ,\"ContractData\",O204, \"PerCentNetLastTrade\",, \"T\")/100","v":{"$error":"#VALUE!"}},{"$error":"#N/A"},null,203,""]
[{"$f":"Symbols!A205","v":"S.US.GL"},{"$f":"IFERROR(RTD(\"cqg.rtd\",,\"StudyData\",A205,\"Bar\",, \"High\",$C$1,\"0\",,,,,\"T\"),\"\")","v":103.35},{"$f":"IFERROR(RTD(\"cqg.rtd\",,\"StudyData\",A205,\"Bar\",, \"Low\",$C$1,\"0\",,,,,\"T\"),\"\")","v":102.22},{"$f":"IFERROR(RTD(\"cqg.rtd\",,\"StudyData\",\"HiLevel(\"&A205&\",Period1:=\"&$B$1&\",AllowGaps:=0,InputChoice1:=High,InputChoice3:=High)\",\"Bar\",, \"Close\",$C$1,\"-1\",,,,,\"T\"),\"\")","v":108.6},{"$f":"IFERROR(RTD(\"cqg.rtd\",,\"StudyData\",\"LoLevel(\"&A205&\",Period2:=\"&$B$1&\",AllowGaps:=0,InputChoice2:=Low,InputChoice4:=Low)\",\"Bar\",, \"Close\",$C$1,\"-1\",,,,,\"T\"),\"\")","v":85.25},0,0,8.0009999999999994,7.021000000000007,"S.US.GL",{"$f":"RTD(\"cqg.rtd\", ,\"ContractData\",A205, \"PerCentNetLastTrade\",, \"T\")/100","v":4.0804430195278346E-3},{"$f":"RANK($K205,$K$2:K$506)+COUNTIF($K$2:K205,K205)-1","v":{"$error":"#VALUE!"}},"S.US.GL",204,"",{"$f":"RTD(\"cqg.rtd\", ,\"ContractData\",O205, \"PerCentNetLastTrade\",, \"T\")/100","v":{"$error":"#VALUE!"}},{"$error":"#N/A"},null,204,""]
[{"$f":"Symbols!A206","v":"S.US.GLW"},{"$f":"IFERROR(RTD(\"cqg.rtd\",,\"StudyData\",A206,\"Bar\",, \"High\",$C$1,\"0\",,,,,\"T\"),\"\")","v":34.11},{"$f":"IFERROR(RTD(\"cqg.rtd\",,\"StudyData\",A206,\"Bar\",, \"Low\",$C$1,\"0\",,,,,\"T\"),\"\")","v":33.69},{"$f":"IFERROR(RTD(\"cqg.rtd\",,\"StudyData\",\"HiLevel(\"&A206&\",Period1:=\"&$B$1&\",AllowGaps:=0,InputChoice1:=High,InputChoice3:=High)\",\"Bar\",, \"Close\",$C$1,\"-1\",,,,,\"T\"),\"\")","v":46.82},{"$f":"IFERROR(RTD(\"cqg.rtd\",,\"StudyData\",\"LoLevel(\"&A206&\",Period2:=\"&$B$1&\",AllowGaps:=0,InputChoice2:=Low,InputChoice4:=Low)\",\"Bar\",, \"Close\",$C$1,\"-1\",,,,,\"T\"),\"\")","v":33.51},0,0,8.0019999999999989,7.0220000000000073,"S.US.GLW",{"$f":"RTD(\"cqg.rtd\", ,\"ContractData\",A206, \"PerCentNetLastTrade\",, \"T\")/100","v":5.0460077174235675E-3},{"$f":"RANK($K206,$K$2:K$506)+COUNTIF($K$2:K206,K206)-1","v":{"$error":"#VALUE!"}},"S.US.GLW",205,"",{"$f":"RTD(\"cqg.rtd\", ,\"ContractData\",O206, \"PerCentNetLastTrade\",, \"T\")/100","v":{"$error":"#VALUE!"}},{"$error":"#N/A"},null,205,""]
[{"$f":"Symbols!A207","v":"S.US.GM"},{"$f":"IFERROR(RTD(\"cqg.rtd\",,\"StudyData\",A207,\"Bar\",, \"High\",$C$1,\"0\",,,,,\"T\"),\"\")","v":40.56},{"$f":"IFERROR(RTD(\"cqg.rtd\",,\"StudyData\",A207,\"Bar\",, \"Low\",$C$1,\"0\",,,,,\"T\"),\"\")","v":39.950000000000003},{"$f":"IFERROR(RTD(\"cqg.rtd\",,\"StudyData\",\"HiLevel(\"&A207&\",Period1:=\"&$B$1&\",AllowGaps:=0,InputChoice1:=High,InputChoice3:=High)\",\"Bar\",, \"Close\",$C$1,\"-1\",,,,,\"T\"),\"\")","v":67.209999999999994},{"$f":"IFERROR(RTD(\"cqg.rtd\",,\"StudyData\",\"LoLevel(\"&A207&\",Period2:=\"&$B$1&\",AllowGaps:=0,InputChoice2:=Low,InputChoice4:=Low)\",\"Bar\",, \"Close\",$C$1,\"-1\",,,,,\"T\"),\"\")","v":37.6},0,0,8.0029999999999983,7.0230000000000077,"S.US.GM",{"$f":"RTD(\"cqg.rtd\", ,\"ContractData\",A207, \"PerCentNetLastTrade\",, \"T\")/100","v":5.9805631696984796E-3},{"$f":"RANK($K207,$K$2:K$506)+COUNTIF($K$2:K207,K207)-1","v":{"$error":"#VALUE!"}},"S.US.GM",206,"",{"$f":"RTD(\"cqg.rtd\", ,\"ContractData\",O207, \"PerCentNetLastTrade\",, \"T\")/100","v":{"$error":"#VALUE!"}},{"$error":"#N/A"},null,206,""]
[{"$f":"Symbols!A208","v":"S.US.GNRC"},{"$f":"IFERROR(RTD(\"cqg.rtd\",,\"StudyData\",A208,\"Bar\",, \"High\",$C$1,\"0\",,,,,\"T\"),\"\")","v":250.71},{"$f":"IFERROR(RTD(\"cqg.rtd\",,\"StudyData\",A208,\"Bar\",, \"Low\",$C$1,\"0\",,,,,\"T\"),\"\")","v":246.71},{"$f":"IFERROR(RTD(\"cqg.rtd\",,\"StudyData\",\"HiLevel(\"&A208&\",Period1:=\"&$B$1&\",AllowGaps:=0,InputChoice1:=High,InputChoice3:=High)\",\"Bar\",, \"Close\",$C$1,\"-1\",,,,,\"T\"),\"\")","v":524.30999999999995},{"$f":"IFERROR(RTD(\"cqg.rtd\",,\"StudyData\",\"LoLevel(\"&A208&\",Period2:=\"&$B$1&\",AllowGaps:=0,InputChoice2:=Low,InputChoice4:=Low)\",\"Bar\",, \"Close\",$C$1,\"-1\",,,,,\"T\"),\"\")","v":250.06},0,1,8.0039999999999978,8,"S.US.GNRC",{"$f":"RTD(\"cqg.rtd\", ,\"ContractData\",A208, \"PerCentNetLastTrade\",, \"T\")/100","v":-1.2818981647358573E-2},{"$f":"RANK($K208,$K$2:K$506)+COUNTIF($K$2:K208,K208)-1","v":{"$error":"#VALUE!"}},"S.US.GNRC",207,"",{"$f":"RTD(\"cqg.rtd\", ,\"ContractData\",O208, \"PerCentNetLastTrade\",, \"T\")/100","v":{"$error":"#VALUE!"}},{"$error":"#N/A"},null,207,""]
[{"$f":"Symbols!A209","v":"S.US.GOOG"},{"$f":"IFERROR(RTD(\"cqg.rtd\",,\"StudyData\",A209,\"Bar\",, \"High\",$C$1,\"0\",,,,,\"T\"),\"\")","v":2566.59},{"$f":"IFERROR(RTD(\"cqg.rtd\",,\"StudyData\",A209,\"Bar\",, \"Low\",$C$1,\"0\",,,,,\"T\"),\"\")","v":2544.1},{"$f":"IFERROR(RTD(\"cqg.rtd\",,\"StudyData\",\"HiLevel(\"&A209&\",Period1:=\"&$B$1&\",AllowGaps:=0,InputChoice1:=High,InputChoice3:=High)\",\"Bar\",, \"Close\",$C$1,\"-1\",,,,,\"T\"),\"\")","v":3042},{"$f":"IFERROR(RTD(\"cqg.rtd\",,\"StudyData\",\"LoLevel(\"&A209&\",Period2:=\"&$B$1&\",AllowGaps:=0,InputChoice2:=Low,InputChoice4:=Low)\",\"Bar\",, \"Close\",$C$1,\"-1\",,,,,\"T\"),\"\")","v":2230.0500000000002},0,0,8.0049999999999972,8.0009999999999994,"S.US.GOOG",{"$f":"RTD(\"cqg.rtd\", ,\"ContractData\",A209, \"PerCentNetLastTrade\",, \"T\")/100","v":1.732768579129765E-3},{"$f":"RANK($K209,$K$2:K$506)+COUNTIF($K$2:K209,K209)-1","v":{"$error":"#VALUE!"}},"S.US.GOOG",208,"",{"$f":"RTD(\"cqg.rtd\", ,\"ContractData\",O209, \"PerCentNetLastTrade\",, \"T\")/100","v":{"$error":"#VALUE!"}},{"$error":"#N/A"},null,208,""]
[{"$f":"Symbols!A210","v":"S.US.GOOGL"},{"$f":"IFERROR(RTD(\"cqg.rtd\",,\"StudyData\",A210,\"Bar\",, \"High\",$C$1,\"0\",,,,,\"T\"),\"\")","v":2555.5500000000002},{"$f":"IFERROR(RTD(\"cqg.rtd\",,\"StudyData\",A210,\"Bar\",, \"Low\",$C$1,\"0\",,,,,\"T\"),\"\")","v":2534.67},{"$f":"IFERROR(RTD(\"cqg.rtd\",,\"StudyData\",\"HiLevel(\"&A210&\",Period1:=\"&$B$1&\",AllowGaps:=0,InputChoice1:=High,InputChoice3:=High)\",\"Bar\",, \"Close\",$C$1,\"-1\",,,,,\"T\"),\"\")","v":3030.93},{"$f":"IFERROR(RTD(\"cqg.rtd\",,\"StudyData\",\"LoLevel(\"&A210&\",Period2:=\"&$B$1&\",AllowGaps:=0,InputChoice2:=Low,InputChoice4:=Low)\",\"Bar\",, \"Close\",$C$1,\"-1\",,,,,\"T\"),\"\")","v":2193.62},0,0,8.0059999999999967,8.0019999999999989,"S.US.GOOGL",{"$f":"RTD(\"cqg.rtd\", ,\"ContractData\",A210, \"PerCentNetLastTrade\",, \"T\")/100","v":1.0849838238775349E-3},{"$f":"RANK($K210,$K$2:K$506)+COUNTIF($K$2:K210,K210)-1","v":{"$error":"#VALUE!"}},"S.US.GOOGL",209,"",{"$f":"RTD(\"cqg.rtd\", ,\"ContractData\",O210, \"PerCentNetLastTrade\",, \"T\")/100","v":{"$error":"#VALUE!"}},{"$error":"#N/A"},null,209,""]
[{"$f":"Symbols!A211","v":"S.US.GPC"},{"$f":"IFERROR(RTD(\"cqg.rtd\",,\"StudyData\",A211,\"Bar\",, \"High\",$C$1,\"0\",,,,,\"T\"),\"\")","v":131.91},{"$f":"IFERROR(RTD(\"cqg.rtd\",,\"StudyData\",A211,\"Bar\",, \"Low\",$C$1,\"0\",,,,,\"T\"),\"\")","v":130.31},{"$f":"IFERROR(RTD(\"cqg.rtd\",,\"StudyData\",\"HiLevel(\"&A211&\",Period1:=\"&$B$1&\",AllowGaps:=0,InputChoice1:=High,InputChoice3:=High)\",\"Bar\",, \"Close\",$C$1,\"-1\",,,,,\"T\"),\"\")","v":142.97},{"$f":"IFERROR(RTD(\"cqg.rtd\",,\"StudyData\",\"LoLevel(\"&A211&\",Period2:=\"&$B$1&\",AllowGaps:=0,InputChoice2:=Low,InputChoice4:=Low)\",\"Bar\",, \"Close\",$C$1,\"-1\",,,,,\"T\"),\"\")","v":115.63},0,0,8.0069999999999961,8.0029999999999983,"S.US.GPC",{"$f":"RTD(\"cqg.rtd\", ,\"ContractData\",A211, \"PerCentNetLastTrade\",, \"T\")/100","v":4.3531388422178097E-3},{"$f":"RANK($K211,$K$2:K$506)+COUNTIF($K$2:K211,K211)-1","v":{"$error":"#VALUE!"}},"S.US.GPC",210,"",{"$f":"RTD(\"cqg.rtd\", ,\"ContractData\",O211, \"PerCentNetLastTrade\",, \"T\")/100","v":{"$error":"#VALUE!"}},{"$error":"#N/A"},null,210,""]
[{"$f":"Symbols!A212","v":"S.US.GPN"},{"$f":"IFERROR(RTD(\"cqg.rtd\",,\"StudyData\",A212,\"Bar\",, \"High\",$C$1,\"0\",,,,,\"T\"),\"\")","v":142.11000000000001},{"$f":"IFERROR(RTD(\"cqg.rtd\",,\"StudyData\",A212,\"Bar\",, \"Low\",$C$1,\"0\",,,,,\"T\"),\"\")","v":139.94},{"$f":"IFERROR(RTD(\"cqg.rtd\",,\"StudyData\",\"HiLevel(\"&A212&\",Period1:=\"&$B$1&\",AllowGaps:=0,InputChoice1:=High,InputChoice3:=High)\",\"Bar\",, \"Close\",$C$1,\"-1\",,,,,\"T\"),\"\")","v":220.81},{"$f":"IFERROR(RTD(\"cqg.rtd\",,\"StudyData\",\"LoLevel(\"&A212&\",Period2:=\"&$B$1&\",AllowGaps:=0,InputChoice2:=Low,InputChoice4:=Low)\",\"Bar\",, \"Close\",$C$1,\"-1\",,,,,\"T\"),\"\")","v":116.74},0,0,8.0079999999999956,8.0039999999999978,"S.US.GPN",{"$f":"RTD(\"cqg.rtd\", ,\"ContractData\",A212, \"PerCentNetLastTrade\",, \"T\")/100","v":1.5076813147552697E-2},{"$f":"RANK($K212,$K$2:K$506)+COUNTIF($K$2:K212,K212)-1","v":{"$error":"#VALUE!"}},"S.US.GPN",211,"",{"$f":"RTD(\"cqg.rtd\", ,\"ContractData\",O212, \"PerCentNetLastTrade\",, \"T\")/100","v":{"$error":"#VALUE!"}},{"$error":"#N/A"},null,211,""]
[{"$f":"Symbols!A213","v":"S.US.GRMN"},{"$f":"IFERROR(RTD(\"cqg.rtd\",,\"StudyData\",A213,\"Bar\",, \"High\",$C$1,\"0\",,,,,\"T\"),\"\")","v":111.44},{"$f":"IFERROR(RTD(\"cqg.rtd\",,\"StudyData\",A213,\"Bar\",, \"Low\",$C$1,\"0\",,,,,\"T\"),\"\")","v":110.59},{"$f":"IFERROR(RTD(\"cqg.rtd\",,\"StudyData\",\"HiLevel(\"&A213&\",Period1:=\"&$B$1&\",AllowGaps:=0,InputChoice1:=High,InputChoice3:=High)\",\"Bar\",, \"Close\",$C$1,\"-1\",,,,,\"T\"),\"\")","v":178.8},{"$f":"IFERROR(RTD(\"cqg.rtd\",,\"StudyData\",\"LoLevel(\"&A213&\",Period2:=\"&$B$1&\",AllowGaps:=0,InputChoice2:=Low,InputChoice4:=Low)\",\"Bar\",, \"Close\",$C$1,\"-1\",,,,,\"T\"),\"\")","v":106.66},0,0,8.008999999999995,8.0049999999999972,"S.US.GRMN",{"$f":"RTD(\"cqg.rtd\", ,\"ContractData\",A213, \"PerCentNetLastTrade\",, \"T\")/100","v":-4.7614769562483155E-3},{"$f":"RANK($K213,$K$2:K$506)+COUNTIF($K$2:K213,K213)-1","v":{"$error":"#VALUE!"}},"S.US.GRMN",212,"",{"$f":"RTD(\"cqg.rtd\", ,\"ContractData\",O213, \"PerCentNetLastTrade\",, \"T\")/100","v":{"$error":"#VALUE!"}},{"$error":"#N/A"},null,212,""]
[{"$f":"Symbols!A214","v":"S.US.GS"},{"$f":"IFERROR(RTD(\"cqg.rtd\",,\"StudyData\",A214,\"Bar\",, \"High\",$C$1,\"0\",,,,,\"T\"),\"\")","v":327.68},{"$f":"IFERROR(RTD(\"cqg.rtd\",,\"StudyData\",A214,\"Bar\",, \"Low\",$C$1,\"0\",,,,,\"T\"),\"\")","v":320.64999999999998},{"$f":"IFERROR(RTD(\"cqg.rtd\",,\"StudyData\",\"HiLevel(\"&A214&\",Period1:=\"&$B$1&\",AllowGaps:=0,InputChoice1:=High,InputChoice3:=High)\",\"Bar\",, \"Close\",$C$1,\"-1\",,,,,\"T\"),\"\")","v":426.15},{"$f":"IFERROR(RTD(\"cqg.rtd\",,\"StudyData\",\"LoLevel(\"&A214&\",Period2:=\"&$B$1&\",AllowGaps:=0,InputChoice2:=Low,InputChoice4:=Low)\",\"Bar\",, \"Close\",$C$1,\"-1\",,,,,\"T\"),\"\")","v":308.2},0,0,8.0099999999999945,8.0059999999999967,"S.US.GS",{"$f":"RTD(\"cqg.rtd\", ,\"ContractData\",A214, \"PerCentNetLastTrade\",, \"T\")/100","v":9.575923392612859E-3},{"$f":"RANK($K214,$K$2:K$506)+COUNTIF($K$2:K214,K214)-1","v":{"$error":"#VALUE!"}},"S.US.GS",213,"",{"$f":"RTD(\"cqg.rtd\", ,\"ContractData\",O214, \"PerCentNetLastTrade\",, \"T\")/100","v":{"$error":"#VALUE!"}},{"$error":"#N/A"},null,213,""]
[{"$f":"Symbols!A215","v":"S.US.GWW"},{"$f":"IFERROR(RTD(\"cqg.rtd\",,\"StudyData\",A215,\"Bar\",, \"High\",$C$1,\"0\",,,,,\"T\"),\"\")","v":494.93},{"$f":"IFERROR(RTD(\"cqg.rtd\",,\"StudyData\",A215,\"Bar\",, \"Low\",$C$1,\"0\",,,,,\"T\"),\"\")","v":488.62},{"$f":"IFERROR(RTD(\"cqg.rtd\",,\"StudyData\",\"HiLevel(\"&A215&\",Period1:=\"&$B$1&\",AllowGaps:=0,InputChoice1:=High,InputChoice3:=High)\",\"Bar\",, \"Close\",$C$1,\"-1\",,,,,\"T\"),\"\")","v":529.91},{"$f":"IFERROR(RTD(\"cqg.rtd\",,\"StudyData\",\"LoLevel(\"&A215&\",Period2:=\"&$B$1&\",AllowGaps:=0,InputChoice2:=Low,InputChoice4:=Low)\",\"Bar\",, \"Close\",$C$1,\"-1\",,,,,\"T\"),\"\")","v":391.16},0,0,8.0109999999999939,8.0069999999999961,"S.US.GWW",{"$f":"RTD(\"cqg.rtd\", ,\"ContractData\",A215, \"PerCentNetLastTrade\",, \"T\")/100","v":3.5813849378344832E-3},{"$f":"RANK($K215,$K$2:K$506)+COUNTIF($K$2:K215,K215)-1","v":{"$error":"#VALUE!"}},"S.US.GWW",214,"",{"$f":"RTD(\"cqg.rtd\", ,\"ContractData\",O215, \"PerCentNetLastTrade\",, \"T\")/100","v":{"$error":"#VALUE!"}},{"$error":"#N/A"},null,214,""]
[{"$f":"Symbols!A216","v":"S.US.HAL"},{"$f":"IFERROR(RTD(\"cqg.rtd\",,\"StudyData\",A216,\"Bar\",, \"High\",$C$1,\"0\",,,,,\"T\"),\"\")","v":42.01},{"$f":"IFERROR(RTD(\"cqg.rtd\",,\"StudyData\",A216,\"Bar\",, \"Low\",$C$1,\"0\",,,,,\"T\"),\"\")","v":40.81},{"$f":"IFERROR(RTD(\"cqg.rtd\",,\"StudyData\",\"HiLevel(\"&A216&\",Period1:=\"&$B$1&\",AllowGaps:=0,InputChoice1:=High,InputChoice3:=High)\",\"Bar\",, \"Close\",$C$1,\"-1\",,,,,\"T\"),\"\")","v":41.02},{"$f":"IFERROR(RTD(\"cqg.rtd\",,\"StudyData\",\"LoLevel(\"&A216&\",Period2:=\"&$B$1&\",AllowGaps:=0,InputChoice2:=Low,InputChoice4:=Low)\",\"Bar\",, \"Close\",$C$1,\"-1\",,,,,\"T\"),\"\")","v":17.809999999999999},1,0,9,8.0079999999999956,"S.US.HAL",{"$f":"RTD(\"cqg.rtd\", ,\"ContractData\",A216, \"PerCentNetLastTrade\",, \"T\")/100","v":2.649656526005888E-2},{"$f":"RANK($K216,$K$2:K$506)+COUNTIF($K$2:K216,K216)-1","v":{"$error":"#VALUE!"}},"S.US.HAL",215,"",{"$f":"RTD(\"cqg.rtd\", ,\"ContractData\",O216, \"PerCentNetLastTrade\",, \"T\")/100","v":{"$error":"#VALUE!"}},{"$error":"#N/A"},null,215,""]
[{"$f":"Symbols!A217","v":"S.US.HAS"},{"$f":"IFERROR(RTD(\"cqg.rtd\",,\"StudyData\",A217,\"Bar\",, \"High\",$C$1,\"0\",,,,,\"T\"),\"\")","v":85.25},{"$f":"IFERROR(RTD(\"cqg.rtd\",,\"StudyData\",A217,\"Bar\",, \"Low\",$C$1,\"0\",,,,,\"T\"),\"\")","v":84.41},{"$f":"IFERROR(RTD(\"cqg.rtd\",,\"StudyData\",\"HiLevel(\"&A217&\",Period1:=\"&$B$1&\",AllowGaps:=0,InputChoice1:=High,InputChoice3:=High)\",\"Bar\",, \"Close\",$C$1,\"-1\",,,,,\"T\"),\"\")","v":105.73},{"$f":"IFERROR(RTD(\"cqg.rtd\",,\"StudyData\",\"LoLevel(\"&A217&\",Period2:=\"&$B$1&\",AllowGaps:=0,InputChoice2:=Low,InputChoice4:=Low)\",\"Bar\",, \"Close\",$C$1,\"-1\",,,,,\"T\"),\"\")","v":81.16},0,0,9.0009999999999994,8.008999999999995,"S.US.HAS",{"$f":"RTD(\"cqg.rtd\", ,\"ContractData\",A217, \"PerCentNetLastTrade\",, \"T\")/100","v":-9.5048110772119228E-3},{"$f":"RANK($K217,$K$2:K$506)+COUNTIF($K$2:K217,K217)-1","v":{"$error":"#VALUE!"}},"S.US.HAS",216,"",{"$f":"RTD(\"cqg.rtd\", ,\"ContractData\",O217, \"PerCentNetLastTrade\",, \"T\")/100","v":{"$error":"#VALUE!"}},{"$error":"#N/A"},null,216,""]
[{"$f":"Symbols!A218","v":"S.US.HBAN"},{"$f":"IFERROR(RTD(\"cqg.rtd\",,\"StudyData\",A218,\"Bar\",, \"High\",$C$1,\"0\",,,,,\"T\"),\"\")","v":13.49},{"$f":"IFERROR(RTD(\"cqg.rtd\",,\"StudyData\",A218,\"Bar\",, \"Low\",$C$1,\"0\",,,,,\"T\"),\"\")","v":13.27},{"$f":"IFERROR(RTD(\"cqg.rtd\",,\"StudyData\",\"HiLevel(\"&A218&\",Period1:=\"&$B$1&\",AllowGaps:=0,InputChoice1:=High,InputChoice3:=High)\",\"Bar\",, \"Close\",$C$1,\"-1\",,,,,\"T\"),\"\")","v":17.79},{"$f":"IFERROR(RTD(\"cqg.rtd\",,\"StudyData\",\"LoLevel(\"&A218&\",Period2:=\"&$B$1&\",AllowGaps:=0,InputChoice2:=Low,InputChoice4:=Low)\",\"Bar\",, \"Close\",$C$1,\"-1\",,,,,\"T\"),\"\")","v":13.01},0,0,9.0019999999999989,8.0099999999999945,"S.US.HBAN",{"$f":"RTD(\"cqg.rtd\", ,\"ContractData\",A218, \"PerCentNetLastTrade\",, \"T\")/100","v":9.730538922155689E-3},{"$f":"RANK($K218,$K$2:K$506)+COUNTIF($K$2:K218,K218)-1","v":{"$error":"#VALUE!"}},"S.US.HBAN",217,"",{"$f":"RTD(\"cqg.rtd\", ,\"ContractData\",O218, \"PerCentNetLastTrade\",, \"T\")/100","v":{"$error":"#VALUE!"}},{"$error":"#N/A"},null,217,""]
[{"$f":"Symbols!A219","v":"S.US.HCA"},{"$f":"IFERROR(RTD(\"cqg.rtd\",,\"StudyData\",A219,\"Bar\",, \"High\",$C$1,\"0\",,,,,\"T\"),\"\")","v":262.86},{"$f":"IFERROR(RTD(\"cqg.rtd\",,\"StudyData\",A219,\"Bar\",, \"Low\",$C$1,\"0\",,,,,\"T\"),\"\")","v":259.16000000000003},{"$f":"IFERROR(RTD(\"cqg.rtd\",,\"StudyData\",\"HiLevel(\"&A219&\",Period1:=\"&$B$1&\",AllowGaps:=0,InputChoice1:=High,InputChoice3:=High)\",\"Bar\",, \"Close\",$C$1,\"-1\",,,,,\"T\"),\"\")","v":272.26},{"$f":"IFERROR(RTD(\"cqg.rtd\",,\"StudyData\",\"LoLevel(\"&A219&\",Period2:=\"&$B$1&\",AllowGaps:=0,InputChoice2:=Low,InputChoice4:=Low)\",\"Bar\",, \"Close\",$C$1,\"-1\",,,,,\"T\"),\"\")","v":192.2},0,0,9.0029999999999983,8.0109999999999939,"S.US.HCA",{"$f":"RTD(\"cqg.rtd\", ,\"ContractData\",A219, \"PerCentNetLastTrade\",, \"T\")/100","v":1.6478884034643979E-3},{"$f":"RANK($K219,$K$2:K$506)+COUNTIF($K$2:K219,K219)-1","v":{"$error":"#VALUE!"}},"S.US.HCA",218,"",{"$f":"RTD(\"cqg.rtd\", ,\"ContractData\",O219, \"PerCentNetLastTrade\",, \"T\")/100","v":{"$error":"#VALUE!"}},{"$error":"#N/A"},null,218,""]
[{"$f":"Symbols!A220","v":"S.US.HD"},{"$f":"IFERROR(RTD(\"cqg.rtd\",,\"StudyData\",A220,\"Bar\",, \"High\",$C$1,\"0\",,,,,\"T\"),\"\")","v":306.29000000000002},{"$f":"IFERROR(RTD(\"cqg.rtd\",,\"StudyData\",A220,\"Bar\",, \"Low\",$C$1,\"0\",,,,,\"T\"),\"\")","v":301.48},{"$f":"IFERROR(RTD(\"cqg.rtd\",,\"StudyData\",\"HiLevel(\"&A220&\",Period1:=\"&$B$1&\",AllowGaps:=0,InputChoice1:=High,InputChoice3:=High)\",\"Bar\",, \"Close\",$C$1,\"-1\",,,,,\"T\"),\"\")","v":420.61},{"$f":"IFERROR(RTD(\"cqg.rtd\",,\"StudyData\",\"LoLevel(\"&A220&\",Period2:=\"&$B$1&\",AllowGaps:=0,InputChoice2:=Low,InputChoice4:=Low)\",\"Bar\",, \"Close\",$C$1,\"-1\",,,,,\"T\"),\"\")","v":293.58999999999997},0,0,9.0039999999999978,8.0119999999999933,"S.US.HD",{"$f":"RTD(\"cqg.rtd\", ,\"ContractData\",A220, \"PerCentNetLastTrade\",, \"T\")/100","v":-7.191645868908446E-3},{"$f":"RANK($K220,$K$2:K$506)+COUNTIF($K$2:K220,K220)-1","v":{"$error":"#VALUE!"}},"S.US.HD",219,"",{"$f":"RTD(\"cqg.rtd\", ,\"ContractData\",O220, \"PerCentNetLastTrade\",, \"T\")/100","v":{"$error":"#VALUE!"}},{"$error":"#N/A"},null,219,""]
[{"$f":"Symbols!A221","v":"S.US.HES"},{"$f":"IFERROR(RTD(\"cqg.rtd\",,\"StudyData\",A221,\"Bar\",, \"High\",$C$1,\"0\",,,,,\"T\"),\"\")","v":116.87},{"$f":"IFERROR(RTD(\"cqg.rtd\",,\"StudyData\",A221,\"Bar\",, \"Low\",$C$1,\"0\",,,,,\"T\"),\"\")","v":114.95},{"$f":"IFERROR(RTD(\"cqg.rtd\",,\"StudyData\",\"HiLevel(\"&A221&\",Period1:=\"&$B$1&\",AllowGaps:=0,InputChoice1:=High,InputChoice3:=High)\",\"Bar\",, \"Close\",$C$1,\"-1\",,,,,\"T\"),\"\")","v":116.33},{"$f":"IFERROR(RTD(\"cqg.rtd\",,\"StudyData\",\"LoLevel(\"&A221&\",Period2:=\"&$B$1&\",AllowGaps:=0,InputChoice2:=Low,InputChoice4:=Low)\",\"Bar\",, \"Close\",$C$1,\"-1\",,,,,\"T\"),\"\")","v":61.93},1,0,10,8.0129999999999928,"S.US.HES",{"$f":"RTD(\"cqg.rtd\", ,\"ContractData\",A221, \"PerCentNetLastTrade\",, \"T\")/100","v":1.7259414225941423E-2},{"$f":"RANK($K221,$K$2:K$506)+COUNTIF($K$2:K221,K221)-1","v":{"$error":"#VALUE!"}},"S.US.HES",220,"",{"$f":"RTD(\"cqg.rtd\", ,\"ContractData\",O221, \"PerCentNetLastTrade\",, \"T\")/100","v":{"$error":"#VALUE!"}},{"$error":"#N/A"},null,220,""]
[{"$f":"Symbols!A222","v":"S.US.HIG"},{"$f":"IFERROR(RTD(\"cqg.rtd\",,\"StudyData\",A222,\"Bar\",, \"High\",$C$1,\"0\",,,,,\"T\"),\"\")","v":75.69},{"$f":"IFERROR(RTD(\"cqg.rtd\",,\"StudyData\",A222,\"Bar\",, \"Low\",$C$1,\"0\",,,,,\"T\"),\"\")","v":74.569999999999993},{"$f":"IFERROR(RTD(\"cqg.rtd\",,\"StudyData\",\"HiLevel(\"&A222&\",Period1:=\"&$B$1&\",AllowGaps:=0,InputChoice1:=High,InputChoice3:=High)\",\"Bar\",, \"Close\",$C$1,\"-1\",,,,,\"T\"),\"\")","v":78.17},{"$f":"IFERROR(RTD(\"cqg.rtd\",,\"StudyData\",\"LoLevel(\"&A222&\",Period2:=\"&$B$1&\",AllowGaps:=0,InputChoice2:=Low,InputChoice4:=Low)\",\"Bar\",, \"Close\",$C$1,\"-1\",,,,,\"T\"),\"\")","v":59.86},0,0,10.000999999999999,8.0139999999999922,"S.US.HIG",{"$f":"RTD(\"cqg.rtd\", ,\"ContractData\",A222, \"PerCentNetLastTrade\",, \"T\")/100","v":9.8732488325550365E-3},{"$f":"RANK($K222,$K$2:K$506)+COUNTIF($K$2:K222,K222)-1","v":{"$error":"#VALUE!"}},"S.US.HIG",221,"",{"$f":"RTD(\"cqg.rtd\", ,\"ContractData\",O222, \"PerCentNetLastTrade\",, \"T\")/100","v":{"$error":"#VALUE!"}},{"$error":"#N/A"},null,221,""]
[{"$f":"Symbols!A223","v":"S.US.HII"},{"$f":"IFERROR(RTD(\"cqg.rtd\",,\"StudyData\",A223,\"Bar\",, \"High\",$C$1,\"0\",,,,,\"T\"),\"\")","v":224.48},{"$f":"IFERROR(RTD(\"cqg.rtd\",,\"StudyData\",A223,\"Bar\",, \"Low\",$C$1,\"0\",,,,,\"T\"),\"\")","v":220.83},{"$f":"IFERROR(RTD(\"cqg.rtd\",,\"StudyData\",\"HiLevel(\"&A223&\",Period1:=\"&$B$1&\",AllowGaps:=0,InputChoice1:=High,InputChoice3:=High)\",\"Bar\",, \"Close\",$C$1,\"-1\",,,,,\"T\"),\"\")","v":228.66},{"$f":"IFERROR(RTD(\"cqg.rtd\",,\"StudyData\",\"LoLevel(\"&A223&\",Period2:=\"&$B$1&\",AllowGaps:=0,InputChoice2:=Low,InputChoice4:=Low)\",\"Bar\",, \"Close\",$C$1,\"-1\",,,,,\"T\"),\"\")","v":175.5},0,0,10.001999999999999,8.0149999999999917,"S.US.HII",{"$f":"RTD(\"cqg.rtd\", ,\"ContractData\",A223, \"PerCentNetLastTrade\",, \"T\")/100","v":6.6915165940629627E-3},{"$f":"RANK($K223,$K$2:K$506)+COUNTIF($K$2:K223,K223)-1","v":{"$error":"#VALUE!"}},"S.US.HII",222,"",{"$f":"RTD(\"cqg.rtd\", ,\"ContractData\",O223, \"PerCentNetLastTrade\",, \"T\")/100","v":{"$error":"#VALUE!"}},{"$error":"#N/A"},null,222,""]
[{"$f":"Symbols!A224","v":"S.US.HLT"},{"$f":"IFERROR(RTD(\"cqg.rtd\",,\"StudyData\",A224,\"Bar\",, \"High\",$C$1,\"0\",,,,,\"T\"),\"\")","v":157.30000000000001},{"$f":"IFERROR(RTD(\"cqg.rtd\",,\"StudyData\",A224,\"Bar\",, \"Low\",$C$1,\"0\",,,,,\"T\"),\"\")","v":155.06},{"$f":"IFERROR(RTD(\"cqg.rtd\",,\"StudyData\",\"HiLevel(\"&A224&\",Period1:=\"&$B$1&\",AllowGaps:=0,InputChoice1:=High,InputChoice3:=High)\",\"Bar\",, \"Close\",$C$1,\"-1\",,,,,\"T\"),\"\")","v":160.96},{"$f":"IFERROR(RTD(\"cqg.rtd\",,\"StudyData\",\"LoLevel(\"&A224&\",Period2:=\"&$B$1&\",AllowGaps:=0,InputChoice2:=Low,InputChoice4:=Low)\",\"Bar\",, \"Close\",$C$1,\"-1\",,,,,\"T\"),\"\")","v":114.7},0,0,10.002999999999998,8.0159999999999911,"S.US.HLT",{"$f":"RTD(\"cqg.rtd\", ,\"ContractData\",A224, \"PerCentNetLastTrade\",, \"T\")/100","v":9.3842396194883659E-3},{"$f":"RANK($K224,$K$2:K$506)+COUNTIF($K$2:K224,K224)-1","v":{"$error":"#VALUE!"}},"S.US.HLT",223,"",{"$f":"RTD(\"cqg.rtd\", ,\"ContractData\",O224, \"PerCentNetLastTrade\",, \"T\")/100","v":{"$error":"#VALUE!"}},{"$error":"#N/A"},null,223,""]
[{"$f":"Symbols!A225","v":"S.US.HOLX"},{"$f":"IFERROR(RTD(\"cqg.rtd\",,\"StudyData\",A225,\"Bar\",, \"High\",$C$1,\"0\",,,,,\"T\"),\"\")","v":76.400000000000006},{"$f":"IFERROR(RTD(\"cqg.rtd\",,\"StudyData\",A225,\"Bar\",, \"Low\",$C$1,\"0\",,,,,\"T\"),\"\")","v":75.66},{"$f":"IFERROR(RTD(\"cqg.rtd\",,\"StudyData\",\"HiLevel(\"&A225&\",Period1:=\"&$B$1&\",AllowGaps:=0,InputChoice1:=High,InputChoice3:=High)\",\"Bar\",, \"Close\",$C$1,\"-1\",,,,,\"T\"),\"\")","v":81.040000000000006},{"$f":"IFERROR(RTD(\"cqg.rtd\",,\"StudyData\",\"LoLevel(\"&A225&\",Period2:=\"&$B$1&\",AllowGaps:=0,InputChoice2:=Low,InputChoice4:=Low)\",\"Bar\",, \"Close\",$C$1,\"-1\",,,,,\"T\"),\"\")","v":60.1},0,0,10.003999999999998,8.0169999999999906,"S.US.HOLX",{"$f":"RTD(\"cqg.rtd\", ,\"ContractData\",A225, \"PerCentNetLastTrade\",, \"T\")/100","v":-8.7776758810428398E-3},{"$f":"RANK($K225,$K$2:K$506)+COUNTIF($K$2:K225,K225)-1","v":{"$error":"#VALUE!"}},"S.US.HOLX",224,"",{"$f":"RTD(\"cqg.rtd\", ,\"ContractData\",O225, \"PerCentNetLastTrade\",, \"T\")/100","v":{"$error":"#VALUE!"}},{"$error":"#N/A"},null,224,""]
[{"$f":"Symbols!A226","v":"S.US.HON"},{"$f":"IFERROR(RTD(\"cqg.rtd\",,\"StudyData\",A226,\"Bar\",, \"High\",$C$1,\"0\",,,,,\"T\"),\"\")","v":195.88},{"$f":"IFERROR(RTD(\"cqg.rtd\",,\"StudyData\",A226,\"Bar\",, \"Low\",$C$1,\"0\",,,,,\"T\"),\"\")","v":194.29},{"$f":"IFERROR(RTD(\"cqg.rtd\",,\"StudyData\",\"HiLevel(\"&A226&\",Period1:=\"&$B$1&\",AllowGaps:=0,InputChoice1:=High,InputChoice3:=High)\",\"Bar\",, \"Close\",$C$1,\"-1\",,,,,\"T\"),\"\")","v":236.86},{"$f":"IFERROR(RTD(\"cqg.rtd\",,\"StudyData\",\"LoLevel(\"&A226&\",Period2:=\"&$B$1&\",AllowGaps:=0,InputChoice2:=Low,InputChoice4:=Low)\",\"Bar\",, \"Close\",$C$1,\"-1\",,,,,\"T\"),\"\")","v":174.42},0,0,10.004999999999997,8.01799999999999,"S.US.HON",{"$f":"RTD(\"cqg.rtd\", ,\"ContractData\",A226, \"PerCentNetLastTrade\",, \"T\")/100","v":3.0739279676212923E-4},{"$f":"RANK($K226,$K$2:K$506)+COUNTIF($K$2:K226,K226)-1","v":{"$error":"#VALUE!"}},"S.US.HON",225,"",{"$f":"RTD(\"cqg.rtd\", ,\"ContractData\",O226, \"PerCentNetLastTrade\",, \"T\")/100","v":{"$error":"#VALUE!"}},{"$error":"#N/A"},null,225,""]
[{"$f":"Symbols!A227","v":"S.US.HPE"},{"$f":"IFERROR(RTD(\"cqg.rtd\",,\"StudyData\",A227,\"Bar\",, \"High\",$C$1,\"0\",,,,,\"T\"),\"\")","v":15.63},{"$f":"IFERROR(RTD(\"cqg.rtd\",,\"StudyData\",A227,\"Bar\",, \"Low\",$C$1,\"0\",,,,,\"T\"),\"\")","v":15.4},{"$f":"IFERROR(RTD(\"cqg.rtd\",,\"StudyData\",\"HiLevel(\"&A227&\",Period1:=\"&$B$1&\",AllowGaps:=0,InputChoice1:=High,InputChoice3:=High)\",\"Bar\",, \"Close\",$C$1,\"-1\",,,,,\"T\"),\"\")","v":17.760000000000002},{"$f":"IFERROR(RTD(\"cqg.rtd\",,\"StudyData\",\"LoLevel(\"&A227&\",Period2:=\"&$B$1&\",AllowGaps:=0,InputChoice2:=Low,InputChoice4:=Low)\",\"Bar\",, \"Close\",$C$1,\"-1\",,,,,\"T\"),\"\")","v":12.99},0,0,10.005999999999997,8.0189999999999895,"S.US.HPE",{"$f":"RTD(\"cqg.rtd\", ,\"ContractData\",A227, \"PerCentNetLastTrade\",, \"T\")/100","v":1.3003901170351105E-2},{"$f":"RANK($K227,$K$2:K$506)+COUNTIF($K$2:K227,K227)-1","v":{"$error":"#VALUE!"}},"S.US.HPE",226,"",{"$f":"RTD(\"cqg.rtd\", ,\"ContractData\",O227, \"PerCentNetLastTrade\",, \"T\")/100","v":{"$error":"#VALUE!"}},{"$error":"#N/A"},null,226,""]
[{"$f":"Symbols!A228","v":"S.US.HPQ"},{"$f":"IFERROR(RTD(\"cqg.rtd\",,\"StudyData\",A228,\"Bar\",, \"High\",$C$1,\"0\",,,,,\"T\"),\"\")","v":38.25},{"$f":"IFERROR(RTD(\"cqg.rtd\",,\"StudyData\",A228,\"Bar\",, \"Low\",$C$1,\"0\",,,,,\"T\"),\"\")","v":37.53},{"$f":"IFERROR(RTD(\"cqg.rtd\",,\"StudyData\",\"HiLevel(\"&A228&\",Period1:=\"&$B$1&\",AllowGaps:=0,InputChoice1:=High,InputChoice3:=High)\",\"Bar\",, \"Close\",$C$1,\"-1\",,,,,\"T\"),\"\")","v":41.47},{"$f":"IFERROR(RTD(\"cqg.rtd\",,\"StudyData\",\"LoLevel(\"&A228&\",Period2:=\"&$B$1&\",AllowGaps:=0,InputChoice2:=Low,InputChoice4:=Low)\",\"Bar\",, \"Close\",$C$1,\"-1\",,,,,\"T\"),\"\")","v":26.11},0,0,10.006999999999996,8.0199999999999889,"S.US.HPQ",{"$f":"RTD(\"cqg.rtd\", ,\"ContractData\",A228, \"PerCentNetLastTrade\",, \"T\")/100","v":1.4678409394182013E-2},{"$f":"RANK($K228,$K$2:K$506)+COUNTIF($K$2:K228,K228)-1","v":{"$error":"#VALUE!"}},"S.US.HPQ",227,"",{"$f":"RTD(\"cqg.rtd\", ,\"ContractData\",O228, \"PerCentNetLastTrade\",, \"T\")/100","v":{"$error":"#VALUE!"}},{"$error":"#N/A"},null,227,""]
[{"$f":"Symbols!A229","v":"S.US.HRL"},{"$f":"IFERROR(RTD(\"cqg.rtd\",,\"StudyData\",A229,\"Bar\",, \"High\",$C$1,\"0\",,,,,\"T\"),\"\")","v":53.64},{"$f":"IFERROR(RTD(\"cqg.rtd\",,\"StudyData\",A229,\"Bar\",, \"Low\",$C$1,\"0\",,,,,\"T\"),\"\")","v":53.31},{"$f":"IFERROR(RTD(\"cqg.rtd\",,\"StudyData\",\"HiLevel(\"&A229&\",Period1:=\"&$B$1&\",AllowGaps:=0,InputChoice1:=High,InputChoice3:=High)\",\"Bar\",, \"Close\",$C$1,\"-1\",,,,,\"T\"),\"\")","v":53.84},{"$f":"IFERROR(RTD(\"cqg.rtd\",,\"StudyData\",\"LoLevel(\"&A229&\",Period2:=\"&$B$1&\",AllowGaps:=0,InputChoice2:=Low,InputChoice4:=Low)\",\"Bar\",, \"Close\",$C$1,\"-1\",,,,,\"T\"),\"\")","v":40.479999999999997},0,0,10.007999999999996,8.0209999999999884,"S.US.HRL",{"$f":"RTD(\"cqg.rtd\", ,\"ContractData\",A229, \"PerCentNetLastTrade\",, \"T\")/100","v":1.8716077110237696E-4},{"$f":"RANK($K229,$K$2:K$506)+COUNTIF($K$2:K229,K229)-1","v":{"$error":"#VALUE!"}},"S.US.HRL",228,"",{"$f":"RTD(\"cqg.rtd\", ,\"ContractData\",O229, \"PerCentNetLastTrade\",, \"T\")/100","v":{"$error":"#VALUE!"}},{"$error":"#N/A"},null,228,""]
[{"$f":"Symbols!A230","v":"S.US.HSIC"},{"$f":"IFERROR(RTD(\"cqg.rtd\",,\"StudyData\",A230,\"Bar\",, \"High\",$C$1,\"0\",,,,,\"T\"),\"\")","v":91.83},{"$f":"IFERROR(RTD(\"cqg.rtd\",,\"StudyData\",A230,\"Bar\",, \"Low\",$C$1,\"0\",,,,,\"T\"),\"\")","v":90.8},{"$f":"IFERROR(RTD(\"cqg.rtd\",,\"StudyData\",\"HiLevel(\"&A230&\",Period1:=\"&$B$1&\",AllowGaps:=0,InputChoice1:=High,InputChoice3:=High)\",\"Bar\",, \"Close\",$C$1,\"-1\",,,,,\"T\"),\"\")","v":92.68},{"$f":"IFERROR(RTD(\"cqg.rtd\",,\"StudyData\",\"LoLevel(\"&A230&\",Period2:=\"&$B$1&\",AllowGaps:=0,InputChoice2:=Low,InputChoice4:=Low)\",\"Bar\",, \"Close\",$C$1,\"-1\",,,,,\"T\"),\"\")","v":70.010000000000005},0,0,10.008999999999995,8.0219999999999878,"S.US.HSIC",{"$f":"RTD(\"cqg.rtd\", ,\"ContractData\",A230, \"PerCentNetLastTrade\",, \"T\")/100","v":2.0796847635726795E-3},{"$f":"RANK($K230,$K$2:K$506)+COUNTIF($K$2:K230,K230)-1","v":{"$error":"#VALUE!"}},"S.US.HSIC",229,"",{"$f":"RTD(\"cqg.rtd\", ,\"ContractData\",O230, \"PerCentNetLastTrade\",, \"T\")/100","v":{"$error":"#VALUE!"}},{"$error":"#N/A"},null,229,""]
[{"$f":"Symbols!A231","v":"S.US.HST"},{"$f":"IFERROR(RTD(\"cqg.rtd\",,\"StudyData\",A231,\"Bar\",, \"High\",$C$1,\"0\",,,,,\"T\"),\"\")","v":19.73},{"$f":"IFERROR(RTD(\"cqg.rtd\",,\"StudyData\",A231,\"Bar\",, \"Low\",$C$1,\"0\",,,,,\"T\"),\"\")","v":19.41},{"$f":"IFERROR(RTD(\"cqg.rtd\",,\"StudyData\",\"HiLevel(\"&A231&\",Period1:=\"&$B$1&\",AllowGaps:=0,InputChoice1:=High,InputChoice3:=High)\",\"Bar\",, \"Close\",$C$1,\"-1\",,,,,\"T\"),\"\")","v":20.239999999999998},{"$f":"IFERROR(RTD(\"cqg.rtd\",,\"StudyData\",\"LoLevel(\"&A231&\",Period2:=\"&$B$1&\",AllowGaps:=0,InputChoice2:=Low,InputChoice4:=Low)\",\"Bar\",, \"Close\",$C$1,\"-1\",,,,,\"T\"),\"\")","v":14.67},0,0,10.009999999999994,8.0229999999999873,"S.US.HST",{"$f":"RTD(\"cqg.rtd\", ,\"ContractData\",A231, \"PerCentNetLastTrade\",, \"T\")/100","v":2.5536261491317671E-3},{"$f":"RANK($K231,$K$2:K$506)+COUNTIF($K$2:K231,K231)-1","v":{"$error":"#VALUE!"}},"S.US.HST",230,"",{"$f":"RTD(\"cqg.rtd\", ,\"ContractData\",O231, \"PerCentNetLastTrade\",, \"T\")/100","v":{"$error":"#VALUE!"}},{"$error":"#N/A"},null,230,""]
[{"$f":"Symbols!A232","v":"S.US.HSY"},{"$f":"IFERROR(RTD(\"cqg.rtd\",,\"StudyData\",A232,\"Bar\",, \"High\",$C$1,\"0\",,,,,\"T\"),\"\")","v":227.12},{"$f":"IFERROR(RTD(\"cqg.rtd\",,\"StudyData\",A232,\"Bar\",, \"Low\",$C$1,\"0\",,,,,\"T\"),\"\")","v":225.5},{"$f":"IFERROR(RTD(\"cqg.rtd\",,\"StudyData\",\"HiLevel(\"&A232&\",Period1:=\"&$B$1&\",AllowGaps:=0,InputChoice1:=High,InputChoice3:=High)\",\"Bar\",, \"Close\",$C$1,\"-1\",,,,,\"T\"),\"\")","v":228.46},{"$f":"IFERROR(RTD(\"cqg.rtd\",,\"StudyData\",\"LoLevel(\"&A232&\",Period2:=\"&$B$1&\",AllowGaps:=0,InputChoice2:=Low,InputChoice4:=Low)\",\"Bar\",, \"Close\",$C$1,\"-1\",,,,,\"T\"),\"\")","v":157.94},0,0,10.010999999999994,8.0239999999999867,"S.US.HSY",{"$f":"RTD(\"cqg.rtd\", ,\"ContractData\",A232, \"PerCentNetLastTrade\",, \"T\")/100","v":3.8056465173909194E-3},{"$f":"RANK($K232,$K$2:K$506)+COUNTIF($K$2:K232,K232)-1","v":{"$error":"#VALUE!"}},"S.US.HSY",231,"",{"$f":"RTD(\"cqg.rtd\", ,\"ContractData\",O232, \"PerCentNetLastTrade\",, \"T\")/100","v":{"$error":"#VALUE!"}},{"$error":"#N/A"},null,231,""]
[{"$f":"Symbols!A233","v":"S.US.HUM"},{"$f":"IFERROR(RTD(\"cqg.rtd\",,\"StudyData\",A233,\"Bar\",, \"High\",$C$1,\"0\",,,,,\"T\"),\"\")","v":464.29},{"$f":"IFERROR(RTD(\"cqg.rtd\",,\"StudyData\",A233,\"Bar\",, \"Low\",$C$1,\"0\",,,,,\"T\"),\"\")","v":459.01},{"$f":"IFERROR(RTD(\"cqg.rtd\",,\"StudyData\",\"HiLevel(\"&A233&\",Period1:=\"&$B$1&\",AllowGaps:=0,InputChoice1:=High,InputChoice3:=High)\",\"Bar\",, \"Close\",$C$1,\"-1\",,,,,\"T\"),\"\")","v":475.44},{"$f":"IFERROR(RTD(\"cqg.rtd\",,\"StudyData\",\"LoLevel(\"&A233&\",Period2:=\"&$B$1&\",AllowGaps:=0,InputChoice2:=Low,InputChoice4:=Low)\",\"Bar\",, \"Close\",$C$1,\"-1\",,,,,\"T\"),\"\")","v":351.2},{"$f":"IF(B233=\"\",0,IFERROR(IF(B233>D233,1,0),\"\"))","v":0},{"$f":"IF(C233=\"\",0,IFERROR(IF(C233<E233,1,0),\"\"))","v":0},{"$f":"IF(F233=1,INT(H232+1),H232+0.001)","v":10.011999999999993},{"$f":"IF(G233=1,INT(I232+1),I232+0.001)","v":8.0249999999999861},{"$f":"A233","v":"S.US.HUM"},{"$f":"RTD(\"cqg.rtd\", ,\"ContractData\",A233, \"PerCentNetLastTrade\",, \"T\")/100","v":4.8636442591627584E-3},{"$f":"RANK($K233,$K$2:K$506)+COUNTIF($K$2:K233,K233)-1","v":{"$error":"#VALUE!"}},"S.US.HUM",232,"",{"$f":"RTD(\"cqg.rtd\", ,\"ContractData\",O233, \"PerCentNetLastTrade\",, \"T\")/100","v":{"$error":"#VALUE!"}},{"$error":"#N/A"},null,232,""]
[{"$f":"Symbols!A234","v":"S.US.HWM"},{"$f":"IFERROR(RTD(\"cqg.rtd\",,\"StudyData\",A234,\"Bar\",, \"High\",$C$1,\"0\",,,,,\"T\"),\"\")","v":35.869999999999997},{"$f":"IFERROR(RTD(\"cqg.rtd\",,\"StudyData\",A234,\"Bar\",, \"Low\",$C$1,\"0\",,,,,\"T\"),\"\")","v":35.369999999999997},{"$f":"IFERROR(RTD(\"cqg.rtd\",,\"StudyData\",\"HiLevel(\"&A234&\",Period1:=\"&$B$1&\",AllowGaps:=0,InputChoice1:=High,InputChoice3:=High)\",\"Bar\",, \"Close\",$C$1,\"-1\",,,,,\"T\"),\"\")","v":37.659999999999997},{"$f":"IFERROR(RTD(\"cqg.rtd\",,\"StudyData\",\"LoLevel(\"&A234&\",Period2:=\"&$B$1&\",AllowGaps:=0,InputChoice2:=Low,InputChoice4:=Low)\",\"Bar\",, \"Close\",$C$1,\"-1\",,,,,\"T\"),\"\")","v":27.41},0,0,10.012999999999993,8.0259999999999856,"S.US.HWM",{"$f":"RTD(\"cqg.rtd\", ,\"ContractData\",A234, \"PerCentNetLastTrade\",, \"T\")/100","v":1.0992108229988726E-2},{"$f":"RANK($K234,$K$2:K$506)+COUNTIF($K$2:K234,K234)-1","v":{"$error":"#VALUE!"}},"S.US.HWM",233,"",{"$f":"RTD(\"cqg.rtd\", ,\"ContractData\",O234, \"PerCentNetLastTrade\",, \"T\")/100","v":{"$error":"#VALUE!"}},{"$error":"#N/A"},null,233,""]
[{"$f":"Symbols!A235","v":"S.US.IBM"},{"$f":"IFERROR(RTD(\"cqg.rtd\",,\"StudyData\",A235,\"Bar\",, \"High\",$C$1,\"0\",,,,,\"T\"),\"\")","v":127.38},{"$f":"IFERROR(RTD(\"cqg.rtd\",,\"StudyData\",A235,\"Bar\",, \"Low\",$C$1,\"0\",,,,,\"T\"),\"\")","v":126.56},{"$f":"IFERROR(RTD(\"cqg.rtd\",,\"StudyData\",\"HiLevel(\"&A235&\",Period1:=\"&$B$1&\",AllowGaps:=0,InputChoice1:=High,InputChoice3:=High)\",\"Bar\",, \"Close\",$C$1,\"-1\",,,,,\"T\"),\"\")","v":152.84},{"$f":"IFERROR(RTD(\"cqg.rtd\",,\"StudyData\",\"LoLevel(\"&A235&\",Period2:=\"&$B$1&\",AllowGaps:=0,InputChoice2:=Low,InputChoice4:=Low)\",\"Bar\",, \"Close\",$C$1,\"-1\",,,,,\"T\"),\"\")","v":114.56},0,0,10.013999999999992,8.026999999999985,"S.US.IBM",{"$f":"RTD(\"cqg.rtd\", ,\"ContractData\",A235, \"PerCentNetLastTrade\",, \"T\")/100","v":3.634639696586599E-3},{"$f":"RANK($K235,$K$2:K$506)+COUNTIF($K$2:K235,K235)-1","v":{"$error":"#VALUE!"}},"S.US.IBM",234,"",{"$f":"RTD(\"cqg.rtd\", ,\"ContractData\",O235, \"PerCentNetLastTrade\",, \"T\")/100","v":{"$error":"#VALUE!"}},{"$error":"#N/A"},null,234,""]
[{"$f":"Symbols!A236","v":"S.US.ICE"},{"$f":"IFERROR(RTD(\"cqg.rtd\",,\"StudyData\",A236,\"Bar\",, \"High\",$C$1,\"0\",,,,,\"T\"),\"\")","v":124.59},{"$f":"IFERROR(RTD(\"cqg.rtd\",,\"StudyData\",A236,\"Bar\",, \"Low\",$C$1,\"0\",,,,,\"T\"),\"\")","v":123.87},{"$f":"IFERROR(RTD(\"cqg.rtd\",,\"StudyData\",\"HiLevel(\"&A236&\",Period1:=\"&$B$1&\",AllowGaps:=0,InputChoice1:=High,InputChoice3:=High)\",\"Bar\",, \"Close\",$C$1,\"-1\",,,,,\"T\"),\"\")","v":139.79},{"$f":"IFERROR(RTD(\"cqg.rtd\",,\"StudyData\",\"LoLevel(\"&A236&\",Period2:=\"&$B$1&\",AllowGaps:=0,InputChoice2:=Low,InputChoice4:=Low)\",\"Bar\",, \"Close\",$C$1,\"-1\",,,,,\"T\"),\"\")","v":109.04},0,0,10.014999999999992,8.0279999999999845,"S.US.ICE",{"$f":"RTD(\"cqg.rtd\", ,\"ContractData\",A236, \"PerCentNetLastTrade\",, \"T\")/100","v":-4.1757006343852883E-3},{"$f":"RANK($K236,$K$2:K$506)+COUNTIF($K$2:K236,K236)-1","v":{"$error":"#VALUE!"}},"S.US.ICE",235,"",{"$f":"RTD(\"cqg.rtd\", ,\"ContractData\",O236, \"PerCentNetLastTrade\",, \"T\")/100","v":{"$error":"#VALUE!"}},{"$error":"#N/A"},null,235,""]
[{"$f":"Symbols!A237","v":"S.US.IDXX"},{"$f":"IFERROR(RTD(\"cqg.rtd\",,\"StudyData\",A237,\"Bar\",, \"High\",$C$1,\"0\",,,,,\"T\"),\"\")","v":495.53},{"$f":"IFERROR(RTD(\"cqg.rtd\",,\"StudyData\",A237,\"Bar\",, \"Low\",$C$1,\"0\",,,,,\"T\"),\"\")","v":490.4},{"$f":"IFERROR(RTD(\"cqg.rtd\",,\"StudyData\",\"HiLevel(\"&A237&\",Period1:=\"&$B$1&\",AllowGaps:=0,InputChoice1:=High,InputChoice3:=High)\",\"Bar\",, \"Close\",$C$1,\"-1\",,,,,\"T\"),\"\")","v":706.95},{"$f":"IFERROR(RTD(\"cqg.rtd\",,\"StudyData\",\"LoLevel(\"&A237&\",Period2:=\"&$B$1&\",AllowGaps:=0,InputChoice2:=Low,InputChoice4:=Low)\",\"Bar\",, \"Close\",$C$1,\"-1\",,,,,\"T\"),\"\")","v":460.36},0,0,10.015999999999991,8.0289999999999839,"S.US.IDXX",{"$f":"RTD(\"cqg.rtd\", ,\"ContractData\",A237, \"PerCentNetLastTrade\",, \"T\")/100","v":-8.1726317484600835E-3},{"$f":"RANK($K237,$K$2:K$506)+COUNTIF($K$2:K237,K237)-1","v":{"$error":"#VALUE!"}},"S.US.IDXX",236,"",{"$f":"RTD(\"cqg.rtd\", ,\"ContractData\",O237, \"PerCentNetLastTrade\",, \"T\")/100","v":{"$error":"#VALUE!"}},{"$error":"#N/A"},null,236,""]
[{"$f":"Symbols!A238","v":"S.US.IEX"},{"$f":"IFERROR(RTD(\"cqg.rtd\",,\"StudyData\",A238,\"Bar\",, \"High\",$C$1,\"0\",,,,,\"T\"),\"\")","v":191.76},{"$f":"IFERROR(RTD(\"cqg.rtd\",,\"StudyData\",A238,\"Bar\",, \"Low\",$C$1,\"0\",,,,,\"T\"),\"\")","v":188.53},{"$f":"IFERROR(RTD(\"cqg.rtd\",,\"StudyData\",\"HiLevel(\"&A238&\",Period1:=\"&$B$1&\",AllowGaps:=0,InputChoice1:=High,InputChoice3:=High)\",\"Bar\",, \"Close\",$C$1,\"-1\",,,,,\"T\"),\"\")","v":240.33},{"$f":"IFERROR(RTD(\"cqg.rtd\",,\"StudyData\",\"LoLevel(\"&A238&\",Period2:=\"&$B$1&\",AllowGaps:=0,InputChoice2:=Low,InputChoice4:=Low)\",\"Bar\",, \"Close\",$C$1,\"-1\",,,,,\"T\"),\"\")","v":181.66},0,0,10.016999999999991,8.0299999999999834,"S.US.IEX",{"$f":"RTD(\"cqg.rtd\", ,\"ContractData\",A238, \"PerCentNetLastTrade\",, \"T\")/100","v":2.7287993282955497E-3},{"$f":"RANK($K238,$K$2:K$506)+COUNTIF($K$2:K238,K238)-1","v":{"$error":"#VALUE!"}},"S.US.IEX",237,"",{"$f":"RTD(\"cqg.rtd\", ,\"ContractData\",O238, \"PerCentNetLastTrade\",, \"T\")/100","v":{"$error":"#VALUE!"}},{"$error":"#N/A"},null,237,""]
[{"$f":"Symbols!A239","v":"S.US.IFF"},{"$f":"IFERROR(RTD(\"cqg.rtd\",,\"StudyData\",A239,\"Bar\",, \"High\",$C$1,\"0\",,,,,\"T\"),\"\")","v":125.7},{"$f":"IFERROR(RTD(\"cqg.rtd\",,\"StudyData\",A239,\"Bar\",, \"Low\",$C$1,\"0\",,,,,\"T\"),\"\")","v":124.31},{"$f":"IFERROR(RTD(\"cqg.rtd\",,\"StudyData\",\"HiLevel(\"&A239&\",Period1:=\"&$B$1&\",AllowGaps:=0,InputChoice1:=High,InputChoice3:=High)\",\"Bar\",, \"Close\",$C$1,\"-1\",,,,,\"T\"),\"\")","v":157.08000000000001},{"$f":"IFERROR(RTD(\"cqg.rtd\",,\"StudyData\",\"LoLevel(\"&A239&\",Period2:=\"&$B$1&\",AllowGaps:=0,InputChoice2:=Low,InputChoice4:=Low)\",\"Bar\",, \"Close\",$C$1,\"-1\",,,,,\"T\"),\"\")","v":113.4},0,0,10.01799999999999,8.0309999999999828,"S.US.IFF",{"$f":"RTD(\"cqg.rtd\", ,\"ContractData\",A239, \"PerCentNetLastTrade\",, \"T\")/100","v":-8.2117515745834327E-3},{"$f":"RANK($K239,$K$2:K$506)+COUNTIF($K$2:K239,K239)-1","v":{"$error":"#VALUE!"}},"S.US.IFF",238,"",{"$f":"RTD(\"cqg.rtd\", ,\"ContractData\",O239, \"PerCentNetLastTrade\",, \"T\")/100","v":{"$error":"#VALUE!"}},{"$error":"#N/A"},null,238,""]
[{"$f":"Symbols!A240","v":"S.US.ILMN"},{"$f":"IFERROR(RTD(\"cqg.rtd\",,\"StudyData\",A240,\"Bar\",, \"High\",$C$1,\"0\",,,,,\"T\"),\"\")","v":336.78},{"$f":"IFERROR(RTD(\"cqg.rtd\",,\"StudyData\",A240,\"Bar\",, \"Low\",$C$1,\"0\",,,,,\"T\"),\"\")","v":334.14},{"$f":"IFERROR(RTD(\"cqg.rtd\",,\"StudyData\",\"HiLevel(\"&A240&\",Period1:=\"&$B$1&\",AllowGaps:=0,InputChoice1:=High,InputChoice3:=High)\",\"Bar\",, \"Close\",$C$1,\"-1\",,,,,\"T\"),\"\")","v":526},{"$f":"IFERROR(RTD(\"cqg.rtd\",,\"StudyData\",\"LoLevel(\"&A240&\",Period2:=\"&$B$1&\",AllowGaps:=0,InputChoice2:=Low,InputChoice4:=Low)\",\"Bar\",, \"Close\",$C$1,\"-1\",,,,,\"T\"),\"\")","v":302.79000000000002},0,0,10.018999999999989,8.0319999999999823,"S.US.ILMN",{"$f":"RTD(\"cqg.rtd\", ,\"ContractData\",A240, \"PerCentNetLastTrade\",, \"T\")/100","v":-6.9838628191030939E-3},{"$f":"RANK($K240,$K$2:K$506)+COUNTIF($K$2:K240,K240)-1","v":{"$error":"#VALUE!"}},"S.US.ILMN",239,"",{"$f":"RTD(\"cqg.rtd\", ,\"ContractData\",O240, \"PerCentNetLastTrade\",, \"T\")/100","v":{"$error":"#VALUE!"}},{"$error":"#N/A"},null,239,""]
[{"$f":"Symbols!A241","v":"S.US.INCY"},{"$f":"IFERROR(RTD(\"cqg.rtd\",,\"StudyData\",A241,\"Bar\",, \"High\",$C$1,\"0\",,,,,\"T\"),\"\")","v":81.7},{"$f":"IFERROR(RTD(\"cqg.rtd\",,\"StudyData\",A241,\"Bar\",, \"Low\",$C$1,\"0\",,,,,\"T\"),\"\")","v":81},{"$f":"IFERROR(RTD(\"cqg.rtd\",,\"StudyData\",\"HiLevel(\"&A241&\",Period1:=\"&$B$1&\",AllowGaps:=0,InputChoice1:=High,InputChoice3:=High)\",\"Bar\",, \"Close\",$C$1,\"-1\",,,,,\"T\"),\"\")","v":88.26},{"$f":"IFERROR(RTD(\"cqg.rtd\",,\"StudyData\",\"LoLevel(\"&A241&\",Period2:=\"&$B$1&\",AllowGaps:=0,InputChoice2:=Low,InputChoice4:=Low)\",\"Bar\",, \"Close\",$C$1,\"-1\",,,,,\"T\"),\"\")","v":61.91},0,0,10.019999999999989,8.0329999999999817,"S.US.INCY",{"$f":"RTD(\"cqg.rtd\", ,\"ContractData\",A241, \"PerCentNetLastTrade\",, \"T\")/100","v":-7.8297039393197942E-3},{"$f":"RANK($K241,$K$2:K$506)+COUNTIF($K$2:K241,K241)-1","v":{"$error":"#VALUE!"}},"S.US.INCY",240,"",{"$f":"RTD(\"cqg.rtd\", ,\"ContractData\",O241, \"PerCentNetLastTrade\",, \"T\")/100","v":{"$error":"#VALUE!"}},{"$error":"#N/A"},null,240,""]
[{"$f":"Symbols!A242","v":"S.US.INTC"},{"$f":"IFERROR(RTD(\"cqg.rtd\",,\"StudyData\",A242,\"Bar\",, \"High\",$C$1,\"0\",,,,,\"T\"),\"\")","v":46.08},{"$f":"IFERROR(RTD(\"cqg.rtd\",,\"StudyData\",A242,\"Bar\",, \"Low\",$C$1,\"0\",,,,,\"T\"),\"\")","v":45.52},{"$f":"IFERROR(RTD(\"cqg.rtd\",,\"StudyData\",\"HiLevel(\"&A242&\",Period1:=\"&$B$1&\",AllowGaps:=0,InputChoice1:=High,InputChoice3:=High)\",\"Bar\",, \"Close\",$C$1,\"-1\",,,,,\"T\"),\"\")","v":64.739999999999995},{"$f":"IFERROR(RTD(\"cqg.rtd\",,\"StudyData\",\"LoLevel(\"&A242&\",Period2:=\"&$B$1&\",AllowGaps:=0,InputChoice2:=Low,InputChoice4:=Low)\",\"Bar\",, \"Close\",$C$1,\"-1\",,,,,\"T\"),\"\")","v":43.62},0,0,10.020999999999988,8.0339999999999812,"S.US.INTC",{"$f":"RTD(\"cqg.rtd\", ,\"ContractData\",A242, \"PerCentNetLastTrade\",, \"T\")/100","v":6.1309393474928845E-3},{"$f":"RANK($K242,$K$2:K$506)+COUNTIF($K$2:K242,K242)-1","v":{"$error":"#VALUE!"}},"S.US.INTC",241,"",{"$f":"RTD(\"cqg.rtd\", ,\"ContractData\",O242, \"PerCentNetLastTrade\",, \"T\")/100","v":{"$error":"#VALUE!"}},{"$error":"#N/A"},null,241,""]
[{"$f":"Symbols!A243","v":"S.US.INTU"},{"$f":"IFERROR(RTD(\"cqg.rtd\",,\"StudyData\",A243,\"Bar\",, \"High\",$C$1,\"0\",,,,,\"T\"),\"\")","v":468},{"$f":"IFERROR(RTD(\"cqg.rtd\",,\"StudyData\",A243,\"Bar\",, \"Low\",$C$1,\"0\",,,,,\"T\"),\"\")","v":460.6},{"$f":"IFERROR(RTD(\"cqg.rtd\",,\"StudyData\",\"HiLevel(\"&A243&\",Period1:=\"&$B$1&\",AllowGaps:=0,InputChoice1:=High,InputChoice3:=High)\",\"Bar\",, \"Close\",$C$1,\"-1\",,,,,\"T\"),\"\")","v":716.86},{"$f":"IFERROR(RTD(\"cqg.rtd\",,\"StudyData\",\"LoLevel(\"&A243&\",Period2:=\"&$B$1&\",AllowGaps:=0,InputChoice2:=Low,InputChoice4:=Low)\",\"Bar\",, \"Close\",$C$1,\"-1\",,,,,\"T\"),\"\")","v":385.66},0,0,10.021999999999988,8.0349999999999806,"S.US.INTU",{"$f":"RTD(\"cqg.rtd\", ,\"ContractData\",A243, \"PerCentNetLastTrade\",, \"T\")/100","v":-3.3540452796112746E-3},{"$f":"RANK($K243,$K$2:K$506)+COUNTIF($K$2:K243,K243)-1","v":{"$error":"#VALUE!"}},"S.US.INTU",242,"",{"$f":"RTD(\"cqg.rtd\", ,\"ContractData\",O243, \"PerCentNetLastTrade\",, \"T\")/100","v":{"$error":"#VALUE!"}},{"$error":"#N/A"},null,242,""]
[{"$f":"Symbols!A244","v":"S.US.IP"},{"$f":"IFERROR(RTD(\"cqg.rtd\",,\"StudyData\",A244,\"Bar\",, \"High\",$C$1,\"0\",,,,,\"T\"),\"\")","v":47.79},{"$f":"IFERROR(RTD(\"cqg.rtd\",,\"StudyData\",A244,\"Bar\",, \"Low\",$C$1,\"0\",,,,,\"T\"),\"\")","v":47.16},{"$f":"IFERROR(RTD(\"cqg.rtd\",,\"StudyData\",\"HiLevel(\"&A244&\",Period1:=\"&$B$1&\",AllowGaps:=0,InputChoice1:=High,InputChoice3:=High)\",\"Bar\",, \"Close\",$C$1,\"-1\",,,,,\"T\"),\"\")","v":65.27},{"$f":"IFERROR(RTD(\"cqg.rtd\",,\"StudyData\",\"LoLevel(\"&A244&\",Period2:=\"&$B$1&\",AllowGaps:=0,InputChoice2:=Low,InputChoice4:=Low)\",\"Bar\",, \"Close\",$C$1,\"-1\",,,,,\"T\"),\"\")","v":40.450000000000003},0,0,10.022999999999987,8.03599999999998,"S.US.IP",{"$f":"RTD(\"cqg.rtd\", ,\"ContractData\",A244, \"PerCentNetLastTrade\",, \"T\")/100","v":5.2709255745308882E-3},{"$f":"RANK($K244,$K$2:K$506)+COUNTIF($K$2:K244,K244)-1","v":{"$error":"#VALUE!"}},"S.US.IP",243,"",{"$f":"RTD(\"cqg.rtd\", ,\"ContractData\",O244, \"PerCentNetLastTrade\",, \"T\")/100","v":{"$error":"#VALUE!"}},{"$error":"#N/A"},null,243,""]
[{"$f":"Symbols!A245","v":"S.US.IPG"},{"$f":"IFERROR(RTD(\"cqg.rtd\",,\"StudyData\",A245,\"Bar\",, \"High\",$C$1,\"0\",,,,,\"T\"),\"\")","v":34.85},{"$f":"IFERROR(RTD(\"cqg.rtd\",,\"StudyData\",A245,\"Bar\",, \"Low\",$C$1,\"0\",,,,,\"T\"),\"\")","v":34.28},{"$f":"IFERROR(RTD(\"cqg.rtd\",,\"StudyData\",\"HiLevel(\"&A245&\",Period1:=\"&$B$1&\",AllowGaps:=0,InputChoice1:=High,InputChoice3:=High)\",\"Bar\",, \"Close\",$C$1,\"-1\",,,,,\"T\"),\"\")","v":39.979999999999997},{"$f":"IFERROR(RTD(\"cqg.rtd\",,\"StudyData\",\"LoLevel(\"&A245&\",Period2:=\"&$B$1&\",AllowGaps:=0,InputChoice2:=Low,InputChoice4:=Low)\",\"Bar\",, \"Close\",$C$1,\"-1\",,,,,\"T\"),\"\")","v":29.38},0,0,10.023999999999987,8.0369999999999795,"S.US.IPG",{"$f":"RTD(\"cqg.rtd\", ,\"ContractData\",A245, \"PerCentNetLastTrade\",, \"T\")/100","v":4.059147579008408E-3},{"$f":"RANK($K245,$K$2:K$506)+COUNTIF($K$2:K245,K245)-1","v":{"$error":"#VALUE!"}},"S.US.IPG",244,"",{"$f":"RTD(\"cqg.rtd\", ,\"ContractData\",O245, \"PerCentNetLastTrade\",, \"T\")/100","v":{"$error":"#VALUE!"}},{"$error":"#N/A"},null,244,""]
[{"$f":"Symbols!A246","v":"S.US.IPGP"},{"$f":"IFERROR(RTD(\"cqg.rtd\",,\"StudyData\",A246,\"Bar\",, \"High\",$C$1,\"0\",,,,,\"T\"),\"\")","v":97.55},{"$f":"IFERROR(RTD(\"cqg.rtd\",,\"StudyData\",A246,\"Bar\",, \"Low\",$C$1,\"0\",,,,,\"T\"),\"\")","v":96.19},{"$f":"IFERROR(RTD(\"cqg.rtd\",,\"StudyData\",\"HiLevel(\"&A246&\",Period1:=\"&$B$1&\",AllowGaps:=0,InputChoice1:=High,InputChoice3:=High)\",\"Bar\",, \"Close\",$C$1,\"-1\",,,,,\"T\"),\"\")","v":234.06},{"$f":"IFERROR(RTD(\"cqg.rtd\",,\"StudyData\",\"LoLevel(\"&A246&\",Period2:=\"&$B$1&\",AllowGaps:=0,InputChoice2:=Low,InputChoice4:=Low)\",\"Bar\",, \"Close\",$C$1,\"-1\",,,,,\"T\"),\"\")","v":97.25},0,1,10.024999999999986,9,"S.US.IPGP",{"$f":"RTD(\"cqg.rtd\", ,\"ContractData\",A246, \"PerCentNetLastTrade\",, \"T\")/100","v":-1.1306403535820742E-2},{"$f":"RANK($K246,$K$2:K$506)+COUNTIF($K$2:K246,K246)-1","v":{"$error":"#VALUE!"}},"S.US.IPGP",245,"",{"$f":"RTD(\"cqg.rtd\", ,\"ContractData\",O246, \"PerCentNetLastTrade\",, \"T\")/100","v":{"$error":"#VALUE!"}},{"$error":"#N/A"},null,245,""]
[{"$f":"Symbols!A247","v":"S.US.IQV"},{"$f":"IFERROR(RTD(\"cqg.rtd\",,\"StudyData\",A247,\"Bar\",, \"High\",$C$1,\"0\",,,,,\"T\"),\"\")","v":239.16},{"$f":"IFERROR(RTD(\"cqg.rtd\",,\"StudyData\",A247,\"Bar\",, \"Low\",$C$1,\"0\",,,,,\"T\"),\"\")","v":237.54},{"$f":"IFERROR(RTD(\"cqg.rtd\",,\"StudyData\",\"HiLevel(\"&A247&\",Period1:=\"&$B$1&\",AllowGaps:=0,InputChoice1:=High,InputChoice3:=High)\",\"Bar\",, \"Close\",$C$1,\"-1\",,,,,\"T\"),\"\")","v":285.61},{"$f":"IFERROR(RTD(\"cqg.rtd\",,\"StudyData\",\"LoLevel(\"&A247&\",Period2:=\"&$B$1&\",AllowGaps:=0,InputChoice2:=Low,InputChoice4:=Low)\",\"Bar\",, \"Close\",$C$1,\"-1\",,,,,\"T\"),\"\")","v":208.61},0,0,10.025999999999986,9.0009999999999994,"S.US.IQV",{"$f":"RTD(\"cqg.rtd\", ,\"ContractData\",A247, \"PerCentNetLastTrade\",, \"T\")/100","v":2.5159342502515932E-4},{"$f":"RANK($K247,$K$2:K$506)+COUNTIF($K$2:K247,K247)-1","v":{"$error":"#VALUE!"}},"S.US.IQV",246,"",{"$f":"RTD(\"cqg.rtd\", ,\"ContractData\",O247, \"PerCentNetLastTrade\",, \"T\")/100","v":{"$error":"#VALUE!"}},{"$error":"#N/A"},null,246,""]
[{"$f":"Symbols!A248","v":"S.US.IR"},{"$f":"IFERROR(RTD(\"cqg.rtd\",,\"StudyData\",A248,\"Bar\",, \"High\",$C$1,\"0\",,,,,\"T\"),\"\")","v":46.55},{"$f":"IFERROR(RTD(\"cqg.rtd\",,\"StudyData\",A248,\"Bar\",, \"Low\",$C$1,\"0\",,,,,\"T\"),\"\")","v":45.93},{"$f":"IFERROR(RTD(\"cqg.rtd\",,\"StudyData\",\"HiLevel(\"&A248&\",Period1:=\"&$B$1&\",AllowGaps:=0,InputChoice1:=High,InputChoice3:=High)\",\"Bar\",, \"Close\",$C$1,\"-1\",,,,,\"T\"),\"\")","v":62.64},{"$f":"IFERROR(RTD(\"cqg.rtd\",,\"StudyData\",\"LoLevel(\"&A248&\",Period2:=\"&$B$1&\",AllowGaps:=0,InputChoice2:=Low,InputChoice4:=Low)\",\"Bar\",, \"Close\",$C$1,\"-1\",,,,,\"T\"),\"\")","v":44.85},0,0,10.026999999999985,9.0019999999999989,"S.US.IR",{"$f":"RTD(\"cqg.rtd\", ,\"ContractData\",A248, \"PerCentNetLastTrade\",, \"T\")/100","v":1.507321274763135E-3},{"$f":"RANK($K248,$K$2:K$506)+COUNTIF($K$2:K248,K248)-1","v":{"$error":"#VALUE!"}},"S.US.IR",247,"",{"$f":"RTD(\"cqg.rtd\", ,\"ContractData\",O248, \"PerCentNetLastTrade\",, \"T\")/100","v":{"$error":"#VALUE!"}},{"$error":"#N/A"},null,247,""]
[{"$f":"Symbols!A249","v":"S.US.IRM"},{"$f":"IFERROR(RTD(\"cqg.rtd\",,\"StudyData\",A249,\"Bar\",, \"High\",$C$1,\"0\",,,,,\"T\"),\"\")","v":56.18},{"$f":"IFERROR(RTD(\"cqg.rtd\",,\"StudyData\",A249,\"Bar\",, \"Low\",$C$1,\"0\",,,,,\"T\"),\"\")","v":55.42},{"$f":"IFERROR(RTD(\"cqg.rtd\",,\"StudyData\",\"HiLevel(\"&A249&\",Period1:=\"&$B$1&\",AllowGaps:=0,InputChoice1:=High,InputChoice3:=High)\",\"Bar\",, \"Close\",$C$1,\"-1\",,,,,\"T\"),\"\")","v":56.82},{"$f":"IFERROR(RTD(\"cqg.rtd\",,\"StudyData\",\"LoLevel(\"&A249&\",Period2:=\"&$B$1&\",AllowGaps:=0,InputChoice2:=Low,InputChoice4:=Low)\",\"Bar\",, \"Close\",$C$1,\"-1\",,,,,\"T\"),\"\")","v":37.93},0,0,10.027999999999984,9.0029999999999983,"S.US.IRM",{"$f":"RTD(\"cqg.rtd\", ,\"ContractData\",A249, \"PerCentNetLastTrade\",, \"T\")/100","v":1.1187297004691447E-2},{"$f":"RANK($K249,$K$2:K$506)+COUNTIF($K$2:K249,K249)-1","v":{"$error":"#VALUE!"}},"S.US.IRM",248,"",{"$f":"RTD(\"cqg.rtd\", ,\"ContractData\",O249, \"PerCentNetLastTrade\",, \"T\")/100","v":{"$error":"#VALUE!"}},{"$error":"#N/A"},null,248,""]
[{"$f":"Symbols!A250","v":"S.US.ISRG"},{"$f":"IFERROR(RTD(\"cqg.rtd\",,\"StudyData\",A250,\"Bar\",, \"High\",$C$1,\"0\",,,,,\"T\"),\"\")","v":280.27999999999997},{"$f":"IFERROR(RTD(\"cqg.rtd\",,\"StudyData\",A250,\"Bar\",, \"Low\",$C$1,\"0\",,,,,\"T\"),\"\")","v":275.99},{"$f":"IFERROR(RTD(\"cqg.rtd\",,\"StudyData\",\"HiLevel(\"&A250&\",Period1:=\"&$B$1&\",AllowGaps:=0,InputChoice1:=High,InputChoice3:=High)\",\"Bar\",, \"Close\",$C$1,\"-1\",,,,,\"T\"),\"\")","v":369.69},{"$f":"IFERROR(RTD(\"cqg.rtd\",,\"StudyData\",\"LoLevel(\"&A250&\",Period2:=\"&$B$1&\",AllowGaps:=0,InputChoice2:=Low,InputChoice4:=Low)\",\"Bar\",, \"Close\",$C$1,\"-1\",,,,,\"T\"),\"\")","v":254.2},0,0,10.028999999999984,9.0039999999999978,"S.US.ISRG",{"$f":"RTD(\"cqg.rtd\", ,\"ContractData\",A250, \"PerCentNetLastTrade\",, \"T\")/100","v":-1.2441902037897747E-2},{"$f":"RANK($K250,$K$2:K$506)+COUNTIF($K$2:K250,K250)-1","v":{"$error":"#VALUE!"}},"S.US.ISRG",249,"",{"$f":"RTD(\"cqg.rtd\", ,\"ContractData\",O250, \"PerCentNetLastTrade\",, \"T\")/100","v":{"$error":"#VALUE!"}},{"$error":"#N/A"},null,249,""]
[{"$f":"Symbols!A251","v":"S.US.IT"},{"$f":"IFERROR(RTD(\"cqg.rtd\",,\"StudyData\",A251,\"Bar\",, \"High\",$C$1,\"0\",,,,,\"T\"),\"\")","v":299.77},{"$f":"IFERROR(RTD(\"cqg.rtd\",,\"StudyData\",A251,\"Bar\",, \"Low\",$C$1,\"0\",,,,,\"T\"),\"\")","v":297.56},{"$f":"IFERROR(RTD(\"cqg.rtd\",,\"StudyData\",\"HiLevel(\"&A251&\",Period1:=\"&$B$1&\",AllowGaps:=0,InputChoice1:=High,InputChoice3:=High)\",\"Bar\",, \"Close\",$C$1,\"-1\",,,,,\"T\"),\"\")","v":368.99},{"$f":"IFERROR(RTD(\"cqg.rtd\",,\"StudyData\",\"LoLevel(\"&A251&\",Period2:=\"&$B$1&\",AllowGaps:=0,InputChoice2:=Low,InputChoice4:=Low)\",\"Bar\",, \"Close\",$C$1,\"-1\",,,,,\"T\"),\"\")","v":189.45},0,0,10.029999999999983,9.0049999999999972,"S.US.IT",{"$f":"RTD(\"cqg.rtd\", ,\"ContractData\",A251, \"PerCentNetLastTrade\",, \"T\")/100","v":8.7219054008721899E-4},{"$f":"RANK($K251,$K$2:K$506)+COUNTIF($K$2:K251,K251)-1","v":{"$error":"#VALUE!"}},"S.US.IT",250,"",{"$f":"RTD(\"cqg.rtd\", ,\"ContractData\",O251, \"PerCentNetLastTrade\",, \"T\")/100","v":{"$error":"#VALUE!"}},{"$error":"#N/A"},null,250,""]
[{"$f":"Symbols!A252","v":"S.US.ITW"},{"$f":"IFERROR(RTD(\"cqg.rtd\",,\"StudyData\",A252,\"Bar\",, \"High\",$C$1,\"0\",,,,,\"T\"),\"\")","v":198.32},{"$f":"IFERROR(RTD(\"cqg.rtd\",,\"StudyData\",A252,\"Bar\",, \"Low\",$C$1,\"0\",,,,,\"T\"),\"\")","v":195.25},{"$f":"IFERROR(RTD(\"cqg.rtd\",,\"StudyData\",\"HiLevel(\"&A252&\",Period1:=\"&$B$1&\",AllowGaps:=0,InputChoice1:=High,InputChoice3:=High)\",\"Bar\",, \"Close\",$C$1,\"-1\",,,,,\"T\"),\"\")","v":249.81},{"$f":"IFERROR(RTD(\"cqg.rtd\",,\"StudyData\",\"LoLevel(\"&A252&\",Period2:=\"&$B$1&\",AllowGaps:=0,InputChoice2:=Low,InputChoice4:=Low)\",\"Bar\",, \"Close\",$C$1,\"-1\",,,,,\"T\"),\"\")","v":196},0,1,10.030999999999983,10,"S.US.ITW",{"$f":"RTD(\"cqg.rtd\", ,\"ContractData\",A252, \"PerCentNetLastTrade\",, \"T\")/100","v":8.1010852397207928E-3},{"$f":"RANK($K252,$K$2:K$506)+COUNTIF($K$2:K252,K252)-1","v":{"$error":"#VALUE!"}},"S.US.ITW",251,"",{"$f":"RTD(\"cqg.rtd\", ,\"ContractData\",O252, \"PerCentNetLastTrade\",, \"T\")/100","v":{"$error":"#VALUE!"}},{"$error":"#N/A"},null,251,""]
[{"$f":"Symbols!A253","v":"S.US.IVZ"},{"$f":"IFERROR(RTD(\"cqg.rtd\",,\"StudyData\",A253,\"Bar\",, \"High\",$C$1,\"0\",,,,,\"T\"),\"\")","v":21.12},{"$f":"IFERROR(RTD(\"cqg.rtd\",,\"StudyData\",A253,\"Bar\",, \"Low\",$C$1,\"0\",,,,,\"T\"),\"\")","v":20.85},{"$f":"IFERROR(RTD(\"cqg.rtd\",,\"StudyData\",\"HiLevel(\"&A253&\",Period1:=\"&$B$1&\",AllowGaps:=0,InputChoice1:=High,InputChoice3:=High)\",\"Bar\",, \"Close\",$C$1,\"-1\",,,,,\"T\"),\"\")","v":29.71},{"$f":"IFERROR(RTD(\"cqg.rtd\",,\"StudyData\",\"LoLevel(\"&A253&\",Period2:=\"&$B$1&\",AllowGaps:=0,InputChoice2:=Low,InputChoice4:=Low)\",\"Bar\",, \"Close\",$C$1,\"-1\",,,,,\"T\"),\"\")","v":18.420000000000002},0,0,10.031999999999982,10.000999999999999,"S.US.IVZ",{"$f":"RTD(\"cqg.rtd\", ,\"ContractData\",A253, \"PerCentNetLastTrade\",, \"T\")/100","v":3.3333333333333331E-3},{"$f":"RANK($K253,$K$2:K$506)+COUNTIF($K$2:K253,K253)-1","v":{"$error":"#VALUE!"}},"S.US.IVZ",252,"",{"$f":"RTD(\"cqg.rtd\", ,\"ContractData\",O253, \"PerCentNetLastTrade\",, \"T\")/100","v":{"$error":"#VALUE!"}},{"$error":"#N/A"},null,252,""]
[{"$f":"Symbols!A254","v":"S.US.J"},{"$f":"IFERROR(RTD(\"cqg.rtd\",,\"StudyData\",A254,\"Bar\",, \"High\",$C$1,\"0\",,,,,\"T\"),\"\")","v":144.43},{"$f":"IFERROR(RTD(\"cqg.rtd\",,\"StudyData\",A254,\"Bar\",, \"Low\",$C$1,\"0\",,,,,\"T\"),\"\")","v":143.05000000000001},{"$f":"IFERROR(RTD(\"cqg.rtd\",,\"StudyData\",\"HiLevel(\"&A254&\",Period1:=\"&$B$1&\",AllowGaps:=0,InputChoice1:=High,InputChoice3:=High)\",\"Bar\",, \"Close\",$C$1,\"-1\",,,,,\"T\"),\"\")","v":149.55000000000001},{"$f":"IFERROR(RTD(\"cqg.rtd\",,\"StudyData\",\"LoLevel(\"&A254&\",Period2:=\"&$B$1&\",AllowGaps:=0,InputChoice2:=Low,InputChoice4:=Low)\",\"Bar\",, \"Close\",$C$1,\"-1\",,,,,\"T\"),\"\")","v":114.11},0,0,10.032999999999982,10.001999999999999,"S.US.J",{"$f":"RTD(\"cqg.rtd\", ,\"ContractData\",A254, \"PerCentNetLastTrade\",, \"T\")/100","v":-2.4194663348541408E-3},{"$f":"RANK($K254,$K$2:K$506)+COUNTIF($K$2:K254,K254)-1","v":{"$error":"#VALUE!"}},"S.US.J",253,"",{"$f":"RTD(\"cqg.rtd\", ,\"ContractData\",O254, \"PerCentNetLastTrade\",, \"T\")/100","v":{"$error":"#VALUE!"}},{"$error":"#N/A"},null,253,""]
[{"$f":"Symbols!A255","v":"S.US.JBHT"},{"$f":"IFERROR(RTD(\"cqg.rtd\",,\"StudyData\",A255,\"Bar\",, \"High\",$C$1,\"0\",,,,,\"T\"),\"\")","v":174.81},{"$f":"IFERROR(RTD(\"cqg.rtd\",,\"StudyData\",A255,\"Bar\",, \"Low\",$C$1,\"0\",,,,,\"T\"),\"\")","v":171.27},{"$f":"IFERROR(RTD(\"cqg.rtd\",,\"StudyData\",\"HiLevel(\"&A255&\",Period1:=\"&$B$1&\",AllowGaps:=0,InputChoice1:=High,InputChoice3:=High)\",\"Bar\",, \"Close\",$C$1,\"-1\",,,,,\"T\"),\"\")","v":218.18},{"$f":"IFERROR(RTD(\"cqg.rtd\",,\"StudyData\",\"LoLevel(\"&A255&\",Period2:=\"&$B$1&\",AllowGaps:=0,InputChoice2:=Low,InputChoice4:=Low)\",\"Bar\",, \"Close\",$C$1,\"-1\",,,,,\"T\"),\"\")","v":155.11000000000001},0,0,10.033999999999981,10.002999999999998,"S.US.JBHT",{"$f":"RTD(\"cqg.rtd\", ,\"ContractData\",A255, \"PerCentNetLastTrade\",, \"T\")/100","v":8.1971978373350379E-3},{"$f":"RANK($K255,$K$2:K$506)+COUNTIF($K$2:K255,K255)-1","v":{"$error":"#VALUE!"}},"S.US.JBHT",254,"",{"$f":"RTD(\"cqg.rtd\", ,\"ContractData\",O255, \"PerCentNetLastTrade\",, \"T\")/100","v":{"$error":"#VALUE!"}},{"$error":"#N/A"},null,254,""]
[{"$f":"Symbols!A256","v":"S.US.JCI"},{"$f":"IFERROR(RTD(\"cqg.rtd\",,\"StudyData\",A256,\"Bar\",, \"High\",$C$1,\"0\",,,,,\"T\"),\"\")","v":62.28},{"$f":"IFERROR(RTD(\"cqg.rtd\",,\"StudyData\",A256,\"Bar\",, \"Low\",$C$1,\"0\",,,,,\"T\"),\"\")","v":61.45},{"$f":"IFERROR(RTD(\"cqg.rtd\",,\"StudyData\",\"HiLevel(\"&A256&\",Period1:=\"&$B$1&\",AllowGaps:=0,InputChoice1:=High,InputChoice3:=High)\",\"Bar\",, \"Close\",$C$1,\"-1\",,,,,\"T\"),\"\")","v":81.77},{"$f":"IFERROR(RTD(\"cqg.rtd\",,\"StudyData\",\"LoLevel(\"&A256&\",Period2:=\"&$B$1&\",AllowGaps:=0,InputChoice2:=Low,InputChoice4:=Low)\",\"Bar\",, \"Close\",$C$1,\"-1\",,,,,\"T\"),\"\")","v":59.82},0,0,10.034999999999981,10.003999999999998,"S.US.JCI",{"$f":"RTD(\"cqg.rtd\", ,\"ContractData\",A256, \"PerCentNetLastTrade\",, \"T\")/100","v":1.1701608971233544E-2},{"$f":"RANK($K256,$K$2:K$506)+COUNTIF($K$2:K256,K256)-1","v":{"$error":"#VALUE!"}},"S.US.JCI",255,"",{"$f":"RTD(\"cqg.rtd\", ,\"ContractData\",O256, \"PerCentNetLastTrade\",, \"T\")/100","v":{"$error":"#VALUE!"}},{"$error":"#N/A"},null,255,""]
[{"$f":"Symbols!A257","v":"S.US.JKHY"},{"$f":"IFERROR(RTD(\"cqg.rtd\",,\"StudyData\",A257,\"Bar\",, \"High\",$C$1,\"0\",,,,,\"T\"),\"\")","v":201.99},{"$f":"IFERROR(RTD(\"cqg.rtd\",,\"StudyData\",A257,\"Bar\",, \"Low\",$C$1,\"0\",,,,,\"T\"),\"\")","v":200.07},{"$f":"IFERROR(RTD(\"cqg.rtd\",,\"StudyData\",\"HiLevel(\"&A257&\",Period1:=\"&$B$1&\",AllowGaps:=0,InputChoice1:=High,InputChoice3:=High)\",\"Bar\",, \"Close\",$C$1,\"-1\",,,,,\"T\"),\"\")","v":205.37},{"$f":"IFERROR(RTD(\"cqg.rtd\",,\"StudyData\",\"LoLevel(\"&A257&\",Period2:=\"&$B$1&\",AllowGaps:=0,InputChoice2:=Low,InputChoice4:=Low)\",\"Bar\",, \"Close\",$C$1,\"-1\",,,,,\"T\"),\"\")","v":147.5},0,0,10.03599999999998,10.004999999999997,"S.US.JKHY",{"$f":"RTD(\"cqg.rtd\", ,\"ContractData\",A257, \"PerCentNetLastTrade\",, \"T\")/100","v":5.1872911367150474E-3},{"$f":"RANK($K257,$K$2:K$506)+COUNTIF($K$2:K257,K257)-1","v":{"$error":"#VALUE!"}},"S.US.JKHY",256,"",{"$f":"RTD(\"cqg.rtd\", ,\"ContractData\",O257, \"PerCentNetLastTrade\",, \"T\")/100","v":{"$error":"#VALUE!"}},{"$error":"#N/A"},null,256,""]
[{"$f":"Symbols!A258","v":"S.US.JNJ"},{"$f":"IFERROR(RTD(\"cqg.rtd\",,\"StudyData\",A258,\"Bar\",, \"High\",$C$1,\"0\",,,,,\"T\"),\"\")","v":180.39},{"$f":"IFERROR(RTD(\"cqg.rtd\",,\"StudyData\",A258,\"Bar\",, \"Low\",$C$1,\"0\",,,,,\"T\"),\"\")","v":179.46},{"$f":"IFERROR(RTD(\"cqg.rtd\",,\"StudyData\",\"HiLevel(\"&A258&\",Period1:=\"&$B$1&\",AllowGaps:=0,InputChoice1:=High,InputChoice3:=High)\",\"Bar\",, \"Close\",$C$1,\"-1\",,,,,\"T\"),\"\")","v":184.2},{"$f":"IFERROR(RTD(\"cqg.rtd\",,\"StudyData\",\"LoLevel(\"&A258&\",Period2:=\"&$B$1&\",AllowGaps:=0,InputChoice2:=Low,InputChoice4:=Low)\",\"Bar\",, \"Close\",$C$1,\"-1\",,,,,\"T\"),\"\")","v":155.72},0,0,10.036999999999979,10.005999999999997,"S.US.JNJ",{"$f":"RTD(\"cqg.rtd\", ,\"ContractData\",A258, \"PerCentNetLastTrade\",, \"T\")/100","v":1.2229016120066704E-3},{"$f":"RANK($K258,$K$2:K$506)+COUNTIF($K$2:K258,K258)-1","v":{"$error":"#VALUE!"}},"S.US.JNJ",257,{"$f":"IFERROR(VLOOKUP(N258,$L$2:$M$506,2,FALSE),\"\")","v":""},{"$f":"RTD(\"cqg.rtd\", ,\"ContractData\",O258, \"PerCentNetLastTrade\",, \"T\")/100","v":{"$error":"#VALUE!"}},{"$f":"VLOOKUP(O258,$A$2:$H$506,8,FALSE)","v":{"$error":"#N/A"}},null,257,{"$f":"IFERROR(VLOOKUP(S258,$H$2:$J$506,3,FALSE),\"\")","v":""}]
[{"$f":"Symbols!A259","v":"S.US.JNPR"},{"$f":"IFERROR(RTD(\"cqg.rtd\",,\"StudyData\",A259,\"Bar\",, \"High\",$C$1,\"0\",,,,,\"T\"),\"\")","v":35.270000000000003},{"$f":"IFERROR(RTD(\"cqg.rtd\",,\"StudyData\",A259,\"Bar\",, \"Low\",$C$1,\"0\",,,,,\"T\"),\"\")","v":34.93},{"$f":"IFERROR(RTD(\"cqg.rtd\",,\"StudyData\",\"HiLevel(\"&A259&\",Period1:=\"&$B$1&\",AllowGaps:=0,InputChoice1:=High,InputChoice3:=High)\",\"Bar\",, \"Close\",$C$1,\"-1\",,,,,\"T\"),\"\")","v":38.14},{"$f":"IFERROR(RTD(\"cqg.rtd\",,\"StudyData\",\"LoLevel(\"&A259&\",Period2:=\"&$B$1&\",AllowGaps:=0,InputChoice2:=Low,InputChoice4:=Low)\",\"Bar\",, \"Close\",$C$1,\"-1\",,,,,\"T\"),\"\")","v":24.93},0,0,10.037999999999979,10.006999999999996,"S.US.JNPR",{"$f":"RTD(\"cqg.rtd\", ,\"ContractData\",A259, \"PerCentNetLastTrade\",, \"T\")/100","v":1.9925989183034441E-3},{"$f":"RANK($K259,$K$2:K$506)+COUNTIF($K$2:K259,K259)-1","v":{"$error":"#VALUE!"}},"S.US.JNPR",258,"",{"$f":"RTD(\"cqg.rtd\", ,\"ContractData\",O259, \"PerCentNetLastTrade\",, \"T\")/100","v":{"$error":"#VALUE!"}},{"$error":"#N/A"},null,258,""]
[{"$f":"Symbols!A260","v":"S.US.JPM"},{"$f":"IFERROR(RTD(\"cqg.rtd\",,\"StudyData\",A260,\"Bar\",, \"High\",$C$1,\"0\",,,,,\"T\"),\"\")","v":128.18},{"$f":"IFERROR(RTD(\"cqg.rtd\",,\"StudyData\",A260,\"Bar\",, \"Low\",$C$1,\"0\",,,,,\"T\"),\"\")","v":125.54},{"$f":"IFERROR(RTD(\"cqg.rtd\",,\"StudyData\",\"HiLevel(\"&A260&\",Period1:=\"&$B$1&\",AllowGaps:=0,InputChoice1:=High,InputChoice3:=High)\",\"Bar\",, \"Close\",$C$1,\"-1\",,,,,\"T\"),\"\")","v":172.96},{"$f":"IFERROR(RTD(\"cqg.rtd\",,\"StudyData\",\"LoLevel(\"&A260&\",Period2:=\"&$B$1&\",AllowGaps:=0,InputChoice2:=Low,InputChoice4:=Low)\",\"Bar\",, \"Close\",$C$1,\"-1\",,,,,\"T\"),\"\")","v":125.02},0,0,10.038999999999978,10.007999999999996,"S.US.JPM",{"$f":"RTD(\"cqg.rtd\", ,\"ContractData\",A260, \"PerCentNetLastTrade\",, \"T\")/100","v":1.3954963526799874E-2},{"$f":"RANK($K260,$K$2:K$506)+COUNTIF($K$2:K260,K260)-1","v":{"$error":"#VALUE!"}},{"$f":"J260","v":"S.US.JPM"},{"$f":"N259+1","v":259},"",{"$f":"RTD(\"cqg.rtd\", ,\"ContractData\",O260, \"PerCentNetLastTrade\",, \"T\")/100","v":{"$error":"#VALUE!"}},{"$error":"#N/A"},null,{"$f":"S259+1","v":259},""]
[{"$f":"Symbols!A261","v":"S.US.K"},{"$f":"IFERROR(RTD(\"cqg.rtd\",,\"StudyData\",A261,\"Bar\",, \"High\",$C$1,\"0\",,,,,\"T\"),\"\")","v":68.19},{"$f":"IFERROR(RTD(\"cqg.rtd\",,\"StudyData\",A261,\"Bar\",, \"Low\",$C$1,\"0\",,,,,\"T\"),\"\")","v":67.87},{"$f":"IFERROR(RTD(\"cqg.rtd\",,\"StudyData\",\"HiLevel(\"&A261&\",Period1:=\"&$B$1&\",AllowGaps:=0,InputChoice1:=High,InputChoice3:=High)\",\"Bar\",, \"Close\",$C$1,\"-1\",,,,,\"T\"),\"\")","v":68.599999999999994},{"$f":"IFERROR(RTD(\"cqg.rtd\",,\"StudyData\",\"LoLevel(\"&A261&\",Period2:=\"&$B$1&\",AllowGaps:=0,InputChoice2:=Low,InputChoice4:=Low)\",\"Bar\",, \"Close\",$C$1,\"-1\",,,,,\"T\"),\"\")","v":59.54},0,0,10.039999999999978,10.008999999999995,"S.US.K",{"$f":"RTD(\"cqg.rtd\", ,\"ContractData\",A261, \"PerCentNetLastTrade\",, \"T\")/100","v":2.9463759575721858E-3},{"$f":"RANK($K261,$K$2:K$506)+COUNTIF($K$2:K261,K261)-1","v":{"$error":"#VALUE!"}},"S.US.K",260,"",{"$f":"RTD(\"cqg.rtd\", ,\"ContractData\",O261, \"PerCentNetLastTrade\",, \"T\")/100","v":{"$error":"#VALUE!"}},{"$error":"#N/A"},null,260,""]
[{"$f":"Symbols!A262","v":"S.US.KEY"},{"$f":"IFERROR(RTD(\"cqg.rtd\",,\"StudyData\",A262,\"Bar\",, \"High\",$C$1,\"0\",,,,,\"T\"),\"\")","v":20.78},{"$f":"IFERROR(RTD(\"cqg.rtd\",,\"StudyData\",A262,\"Bar\",, \"Low\",$C$1,\"0\",,,,,\"T\"),\"\")","v":20.41},{"$f":"IFERROR(RTD(\"cqg.rtd\",,\"StudyData\",\"HiLevel(\"&A262&\",Period1:=\"&$B$1&\",AllowGaps:=0,InputChoice1:=High,InputChoice3:=High)\",\"Bar\",, \"Close\",$C$1,\"-1\",,,,,\"T\"),\"\")","v":27.17},{"$f":"IFERROR(RTD(\"cqg.rtd\",,\"StudyData\",\"LoLevel(\"&A262&\",Period2:=\"&$B$1&\",AllowGaps:=0,InputChoice2:=Low,InputChoice4:=Low)\",\"Bar\",, \"Close\",$C$1,\"-1\",,,,,\"T\"),\"\")","v":17.899999999999999},0,0,10.040999999999977,10.009999999999994,"S.US.KEY",{"$f":"RTD(\"cqg.rtd\", ,\"ContractData\",A262, \"PerCentNetLastTrade\",, \"T\")/100","v":1.3671875E-2},{"$f":"RANK($K262,$K$2:K$506)+COUNTIF($K$2:K262,K262)-1","v":{"$error":"#VALUE!"}},"S.US.KEY",261,"",{"$f":"RTD(\"cqg.rtd\", ,\"ContractData\",O262, \"PerCentNetLastTrade\",, \"T\")/100","v":{"$error":"#VALUE!"}},{"$error":"#N/A"},null,261,""]
[{"$f":"Symbols!A263","v":"S.US.KEYS"},{"$f":"IFERROR(RTD(\"cqg.rtd\",,\"StudyData\",A263,\"Bar\",, \"High\",$C$1,\"0\",,,,,\"T\"),\"\")","v":144.86000000000001},{"$f":"IFERROR(RTD(\"cqg.rtd\",,\"StudyData\",A263,\"Bar\",, \"Low\",$C$1,\"0\",,,,,\"T\"),\"\")","v":143.49},{"$f":"IFERROR(RTD(\"cqg.rtd\",,\"StudyData\",\"HiLevel(\"&A263&\",Period1:=\"&$B$1&\",AllowGaps:=0,InputChoice1:=High,InputChoice3:=High)\",\"Bar\",, \"Close\",$C$1,\"-1\",,,,,\"T\"),\"\")","v":209.08},{"$f":"IFERROR(RTD(\"cqg.rtd\",,\"StudyData\",\"LoLevel(\"&A263&\",Period2:=\"&$B$1&\",AllowGaps:=0,InputChoice2:=Low,InputChoice4:=Low)\",\"Bar\",, \"Close\",$C$1,\"-1\",,,,,\"T\"),\"\")","v":134.65},0,0,10.041999999999977,10.010999999999994,"S.US.KEYS",{"$f":"RTD(\"cqg.rtd\", ,\"ContractData\",A263, \"PerCentNetLastTrade\",, \"T\")/100","v":3.4739109289237826E-4},{"$f":"RANK($K263,$K$2:K$506)+COUNTIF($K$2:K263,K263)-1","v":{"$error":"#VALUE!"}},"S.US.KEYS",262,"",{"$f":"RTD(\"cqg.rtd\", ,\"ContractData\",O263, \"PerCentNetLastTrade\",, \"T\")/100","v":{"$error":"#VALUE!"}},{"$error":"#N/A"},null,262,""]
[{"$f":"Symbols!A264","v":"S.US.KHC"},{"$f":"IFERROR(RTD(\"cqg.rtd\",,\"StudyData\",A264,\"Bar\",, \"High\",$C$1,\"0\",,,,,\"T\"),\"\")","v":42.39},{"$f":"IFERROR(RTD(\"cqg.rtd\",,\"StudyData\",A264,\"Bar\",, \"Low\",$C$1,\"0\",,,,,\"T\"),\"\")","v":41.98},{"$f":"IFERROR(RTD(\"cqg.rtd\",,\"StudyData\",\"HiLevel(\"&A264&\",Period1:=\"&$B$1&\",AllowGaps:=0,InputChoice1:=High,InputChoice3:=High)\",\"Bar\",, \"Close\",$C$1,\"-1\",,,,,\"T\"),\"\")","v":44.95},{"$f":"IFERROR(RTD(\"cqg.rtd\",,\"StudyData\",\"LoLevel(\"&A264&\",Period2:=\"&$B$1&\",AllowGaps:=0,InputChoice2:=Low,InputChoice4:=Low)\",\"Bar\",, \"Close\",$C$1,\"-1\",,,,,\"T\"),\"\")","v":32.78},0,0,10.042999999999976,10.011999999999993,"S.US.KHC",{"$f":"RTD(\"cqg.rtd\", ,\"ContractData\",A264, \"PerCentNetLastTrade\",, \"T\")/100","v":-3.3104752896665878E-3},{"$f":"RANK($K264,$K$2:K$506)+COUNTIF($K$2:K264,K264)-1","v":{"$error":"#VALUE!"}},"S.US.KHC",263,"",{"$f":"RTD(\"cqg.rtd\", ,\"ContractData\",O264, \"PerCentNetLastTrade\",, \"T\")/100","v":{"$error":"#VALUE!"}},{"$error":"#N/A"},null,263,""]
[{"$f":"Symbols!A265","v":"S.US.KIM"},{"$f":"IFERROR(RTD(\"cqg.rtd\",,\"StudyData\",A265,\"Bar\",, \"High\",$C$1,\"0\",,,,,\"T\"),\"\")","v":25.31},{"$f":"IFERROR(RTD(\"cqg.rtd\",,\"StudyData\",A265,\"Bar\",, \"Low\",$C$1,\"0\",,,,,\"T\"),\"\")","v":25.06},{"$f":"IFERROR(RTD(\"cqg.rtd\",,\"StudyData\",\"HiLevel(\"&A265&\",Period1:=\"&$B$1&\",AllowGaps:=0,InputChoice1:=High,InputChoice3:=High)\",\"Bar\",, \"Close\",$C$1,\"-1\",,,,,\"T\"),\"\")","v":25.62},{"$f":"IFERROR(RTD(\"cqg.rtd\",,\"StudyData\",\"LoLevel(\"&A265&\",Period2:=\"&$B$1&\",AllowGaps:=0,InputChoice2:=Low,InputChoice4:=Low)\",\"Bar\",, \"Close\",$C$1,\"-1\",,,,,\"T\"),\"\")","v":19.21},0,0,10.043999999999976,10.012999999999993,"S.US.KIM",{"$f":"RTD(\"cqg.rtd\", ,\"ContractData\",A265, \"PerCentNetLastTrade\",, \"T\")/100","v":4.7751691205730204E-3},{"$f":"RANK($K265,$K$2:K$506)+COUNTIF($K$2:K265,K265)-1","v":{"$error":"#VALUE!"}},"S.US.KIM",264,"",{"$f":"RTD(\"cqg.rtd\", ,\"ContractData\",O265, \"PerCentNetLastTrade\",, \"T\")/100","v":{"$error":"#VALUE!"}},{"$error":"#N/A"},null,264,""]
[{"$f":"Symbols!A266","v":"S.US.KLAC"},{"$f":"IFERROR(RTD(\"cqg.rtd\",,\"StudyData\",A266,\"Bar\",, \"High\",$C$1,\"0\",,,,,\"T\"),\"\")","v":324.36},{"$f":"IFERROR(RTD(\"cqg.rtd\",,\"StudyData\",A266,\"Bar\",, \"Low\",$C$1,\"0\",,,,,\"T\"),\"\")","v":319.39999999999998},{"$f":"IFERROR(RTD(\"cqg.rtd\",,\"StudyData\",\"HiLevel(\"&A266&\",Period1:=\"&$B$1&\",AllowGaps:=0,InputChoice1:=High,InputChoice3:=High)\",\"Bar\",, \"Close\",$C$1,\"-1\",,,,,\"T\"),\"\")","v":457.12},{"$f":"IFERROR(RTD(\"cqg.rtd\",,\"StudyData\",\"LoLevel(\"&A266&\",Period2:=\"&$B$1&\",AllowGaps:=0,InputChoice2:=Low,InputChoice4:=Low)\",\"Bar\",, \"Close\",$C$1,\"-1\",,,,,\"T\"),\"\")","v":285.89},0,0,10.044999999999975,10.013999999999992,"S.US.KLAC",{"$f":"RTD(\"cqg.rtd\", ,\"ContractData\",A266, \"PerCentNetLastTrade\",, \"T\")/100","v":1.2131392310563644E-3},{"$f":"RANK($K266,$K$2:K$506)+COUNTIF($K$2:K266,K266)-1","v":{"$error":"#VALUE!"}},"S.US.KLAC",265,"",{"$f":"RTD(\"cqg.rtd\", ,\"ContractData\",O266, \"PerCentNetLastTrade\",, \"T\")/100","v":{"$error":"#VALUE!"}},{"$error":"#N/A"},null,265,""]
[{"$f":"Symbols!A267","v":"S.US.KMB"},{"$f":"IFERROR(RTD(\"cqg.rtd\",,\"StudyData\",A267,\"Bar\",, \"High\",$C$1,\"0\",,,,,\"T\"),\"\")","v":126.61},{"$f":"IFERROR(RTD(\"cqg.rtd\",,\"StudyData\",A267,\"Bar\",, \"Low\",$C$1,\"0\",,,,,\"T\"),\"\")","v":126.03},{"$f":"IFERROR(RTD(\"cqg.rtd\",,\"StudyData\",\"HiLevel(\"&A267&\",Period1:=\"&$B$1&\",AllowGaps:=0,InputChoice1:=High,InputChoice3:=High)\",\"Bar\",, \"Close\",$C$1,\"-1\",,,,,\"T\"),\"\")","v":145.79},{"$f":"IFERROR(RTD(\"cqg.rtd\",,\"StudyData\",\"LoLevel(\"&A267&\",Period2:=\"&$B$1&\",AllowGaps:=0,InputChoice2:=Low,InputChoice4:=Low)\",\"Bar\",, \"Close\",$C$1,\"-1\",,,,,\"T\"),\"\")","v":117.32},0,0,10.045999999999975,10.014999999999992,"S.US.KMB",{"$f":"RTD(\"cqg.rtd\", ,\"ContractData\",A267, \"PerCentNetLastTrade\",, \"T\")/100","v":5.5370985603543741E-4},{"$f":"RANK($K267,$K$2:K$506)+COUNTIF($K$2:K267,K267)-1","v":{"$error":"#VALUE!"}},"S.US.KMB",266,"",{"$f":"RTD(\"cqg.rtd\", ,\"ContractData\",O267, \"PerCentNetLastTrade\",, \"T\")/100","v":{"$error":"#VALUE!"}},{"$error":"#N/A"},null,266,""]
[{"$f":"Symbols!A268","v":"S.US.KMI"},{"$f":"IFERROR(RTD(\"cqg.rtd\",,\"StudyData\",A268,\"Bar\",, \"High\",$C$1,\"0\",,,,,\"T\"),\"\")","v":19.55},{"$f":"IFERROR(RTD(\"cqg.rtd\",,\"StudyData\",A268,\"Bar\",, \"Low\",$C$1,\"0\",,,,,\"T\"),\"\")","v":19.350000000000001},{"$f":"IFERROR(RTD(\"cqg.rtd\",,\"StudyData\",\"HiLevel(\"&A268&\",Period1:=\"&$B$1&\",AllowGaps:=0,InputChoice1:=High,InputChoice3:=High)\",\"Bar\",, \"Close\",$C$1,\"-1\",,,,,\"T\"),\"\")","v":19.59},{"$f":"IFERROR(RTD(\"cqg.rtd\",,\"StudyData\",\"LoLevel(\"&A268&\",Period2:=\"&$B$1&\",AllowGaps:=0,InputChoice2:=Low,InputChoice4:=Low)\",\"Bar\",, \"Close\",$C$1,\"-1\",,,,,\"T\"),\"\")","v":15.01},0,0,10.046999999999974,10.015999999999991,"S.US.KMI",{"$f":"RTD(\"cqg.rtd\", ,\"ContractData\",A268, \"PerCentNetLastTrade\",, \"T\")/100","v":8.2601961796592675E-3},{"$f":"RANK($K268,$K$2:K$506)+COUNTIF($K$2:K268,K268)-1","v":{"$error":"#VALUE!"}},"S.US.KMI",267,"",{"$f":"RTD(\"cqg.rtd\", ,\"ContractData\",O268, \"PerCentNetLastTrade\",, \"T\")/100","v":{"$error":"#VALUE!"}},{"$error":"#N/A"},null,267,""]
[{"$f":"Symbols!A269","v":"S.US.KMX"},{"$f":"IFERROR(RTD(\"cqg.rtd\",,\"StudyData\",A269,\"Bar\",, \"High\",$C$1,\"0\",,,,,\"T\"),\"\")","v":92.35},{"$f":"IFERROR(RTD(\"cqg.rtd\",,\"StudyData\",A269,\"Bar\",, \"Low\",$C$1,\"0\",,,,,\"T\"),\"\")","v":90.44},{"$f":"IFERROR(RTD(\"cqg.rtd\",,\"StudyData\",\"HiLevel(\"&A269&\",Period1:=\"&$B$1&\",AllowGaps:=0,InputChoice1:=High,InputChoice3:=High)\",\"Bar\",, \"Close\",$C$1,\"-1\",,,,,\"T\"),\"\")","v":155.97999999999999},{"$f":"IFERROR(RTD(\"cqg.rtd\",,\"StudyData\",\"LoLevel(\"&A269&\",Period2:=\"&$B$1&\",AllowGaps:=0,InputChoice2:=Low,InputChoice4:=Low)\",\"Bar\",, \"Close\",$C$1,\"-1\",,,,,\"T\"),\"\")","v":90.55},0,1,10.047999999999973,11,"S.US.KMX",{"$f":"RTD(\"cqg.rtd\", ,\"ContractData\",A269, \"PerCentNetLastTrade\",, \"T\")/100","v":-8.2797690380215713E-3},{"$f":"RANK($K269,$K$2:K$506)+COUNTIF($K$2:K269,K269)-1","v":{"$error":"#VALUE!"}},"S.US.KMX",268,"",{"$f":"RTD(\"cqg.rtd\", ,\"ContractData\",O269, \"PerCentNetLastTrade\",, \"T\")/100","v":{"$error":"#VALUE!"}},{"$error":"#N/A"},null,268,""]
[{"$f":"Symbols!A270","v":"S.US.KO"},{"$f":"IFERROR(RTD(\"cqg.rtd\",,\"StudyData\",A270,\"Bar\",, \"High\",$C$1,\"0\",,,,,\"T\"),\"\")","v":65.16},{"$f":"IFERROR(RTD(\"cqg.rtd\",,\"StudyData\",A270,\"Bar\",, \"Low\",$C$1,\"0\",,,,,\"T\"),\"\")","v":64.739999999999995},{"$f":"IFERROR(RTD(\"cqg.rtd\",,\"StudyData\",\"HiLevel(\"&A270&\",Period1:=\"&$B$1&\",AllowGaps:=0,InputChoice1:=High,InputChoice3:=High)\",\"Bar\",, \"Close\",$C$1,\"-1\",,,,,\"T\"),\"\")","v":65.569999999999993},{"$f":"IFERROR(RTD(\"cqg.rtd\",,\"StudyData\",\"LoLevel(\"&A270&\",Period2:=\"&$B$1&\",AllowGaps:=0,InputChoice2:=Low,InputChoice4:=Low)\",\"Bar\",, \"Close\",$C$1,\"-1\",,,,,\"T\"),\"\")","v":52.28},0,0,10.048999999999973,11.000999999999999,"S.US.KO",{"$f":"RTD(\"cqg.rtd\", ,\"ContractData\",A270, \"PerCentNetLastTrade\",, \"T\")/100","v":1.0765918179021839E-3},{"$f":"RANK($K270,$K$2:K$506)+COUNTIF($K$2:K270,K270)-1","v":{"$error":"#VALUE!"}},"S.US.KO",269,"",{"$f":"RTD(\"cqg.rtd\", ,\"ContractData\",O270, \"PerCentNetLastTrade\",, \"T\")/100","v":{"$error":"#VALUE!"}},{"$error":"#N/A"},null,269,""]
[{"$f":"Symbols!A271","v":"S.US.KR"},{"$f":"IFERROR(RTD(\"cqg.rtd\",,\"StudyData\",A271,\"Bar\",, \"High\",$C$1,\"0\",,,,,\"T\"),\"\")","v":58.59},{"$f":"IFERROR(RTD(\"cqg.rtd\",,\"StudyData\",A271,\"Bar\",, \"Low\",$C$1,\"0\",,,,,\"T\"),\"\")","v":57.91},{"$f":"IFERROR(RTD(\"cqg.rtd\",,\"StudyData\",\"HiLevel(\"&A271&\",Period1:=\"&$B$1&\",AllowGaps:=0,InputChoice1:=High,InputChoice3:=High)\",\"Bar\",, \"Close\",$C$1,\"-1\",,,,,\"T\"),\"\")","v":62.78},{"$f":"IFERROR(RTD(\"cqg.rtd\",,\"StudyData\",\"LoLevel(\"&A271&\",Period2:=\"&$B$1&\",AllowGaps:=0,InputChoice2:=Low,InputChoice4:=Low)\",\"Bar\",, \"Close\",$C$1,\"-1\",,,,,\"T\"),\"\")","v":35.6},0,0,10.049999999999972,11.001999999999999,"S.US.KR",{"$f":"RTD(\"cqg.rtd\", ,\"ContractData\",A271, \"PerCentNetLastTrade\",, \"T\")/100","v":-8.5733882030178334E-4},{"$f":"RANK($K271,$K$2:K$506)+COUNTIF($K$2:K271,K271)-1","v":{"$error":"#VALUE!"}},"S.US.KR",270,"",{"$f":"RTD(\"cqg.rtd\", ,\"ContractData\",O271, \"PerCentNetLastTrade\",, \"T\")/100","v":{"$error":"#VALUE!"}},{"$error":"#N/A"},null,270,""]
[{"$f":"Symbols!A272","v":"S.US.L"},{"$f":"IFERROR(RTD(\"cqg.rtd\",,\"StudyData\",A272,\"Bar\",, \"High\",$C$1,\"0\",,,,,\"T\"),\"\")","v":65.61},{"$f":"IFERROR(RTD(\"cqg.rtd\",,\"StudyData\",A272,\"Bar\",, \"Low\",$C$1,\"0\",,,,,\"T\"),\"\")","v":64.78},{"$f":"IFERROR(RTD(\"cqg.rtd\",,\"StudyData\",\"HiLevel(\"&A272&\",Period1:=\"&$B$1&\",AllowGaps:=0,InputChoice1:=High,InputChoice3:=High)\",\"Bar\",, \"Close\",$C$1,\"-1\",,,,,\"T\"),\"\")","v":66},{"$f":"IFERROR(RTD(\"cqg.rtd\",,\"StudyData\",\"LoLevel(\"&A272&\",Period2:=\"&$B$1&\",AllowGaps:=0,InputChoice2:=Low,InputChoice4:=Low)\",\"Bar\",, \"Close\",$C$1,\"-1\",,,,,\"T\"),\"\")","v":51.35},0,0,10.050999999999972,11.002999999999998,"S.US.L",{"$f":"RTD(\"cqg.rtd\", ,\"ContractData\",A272, \"PerCentNetLastTrade\",, \"T\")/100","v":6.1396776669224865E-3},{"$f":"RANK($K272,$K$2:K$506)+COUNTIF($K$2:K272,K272)-1","v":{"$error":"#VALUE!"}},"S.US.L",271,"",{"$f":"RTD(\"cqg.rtd\", ,\"ContractData\",O272, \"PerCentNetLastTrade\",, \"T\")/100","v":{"$error":"#VALUE!"}},{"$error":"#N/A"},null,271,""]
[{"$f":"Symbols!A273","v":"S.US.LDOS"},{"$f":"IFERROR(RTD(\"cqg.rtd\",,\"StudyData\",A273,\"Bar\",, \"High\",$C$1,\"0\",,,,,\"T\"),\"\")","v":110.2},{"$f":"IFERROR(RTD(\"cqg.rtd\",,\"StudyData\",A273,\"Bar\",, \"Low\",$C$1,\"0\",,,,,\"T\"),\"\")","v":108.43},{"$f":"IFERROR(RTD(\"cqg.rtd\",,\"StudyData\",\"HiLevel(\"&A273&\",Period1:=\"&$B$1&\",AllowGaps:=0,InputChoice1:=High,InputChoice3:=High)\",\"Bar\",, \"Close\",$C$1,\"-1\",,,,,\"T\"),\"\")","v":110.65},{"$f":"IFERROR(RTD(\"cqg.rtd\",,\"StudyData\",\"LoLevel(\"&A273&\",Period2:=\"&$B$1&\",AllowGaps:=0,InputChoice2:=Low,InputChoice4:=Low)\",\"Bar\",, \"Close\",$C$1,\"-1\",,,,,\"T\"),\"\")","v":81.069999999999993},0,0,10.051999999999971,11.003999999999998,"S.US.LDOS",{"$f":"RTD(\"cqg.rtd\", ,\"ContractData\",A273, \"PerCentNetLastTrade\",, \"T\")/100","v":1.0269576379974325E-2},{"$f":"RANK($K273,$K$2:K$506)+COUNTIF($K$2:K273,K273)-1","v":{"$error":"#VALUE!"}},"S.US.LDOS",272,"",{"$f":"RTD(\"cqg.rtd\", ,\"ContractData\",O273, \"PerCentNetLastTrade\",, \"T\")/100","v":{"$error":"#VALUE!"}},{"$error":"#N/A"},null,272,""]
[{"$f":"Symbols!A274","v":"S.US.LEN"},{"$f":"IFERROR(RTD(\"cqg.rtd\",,\"StudyData\",A274,\"Bar\",, \"High\",$C$1,\"0\",,,,,\"T\"),\"\")","v":77.59},{"$f":"IFERROR(RTD(\"cqg.rtd\",,\"StudyData\",A274,\"Bar\",, \"Low\",$C$1,\"0\",,,,,\"T\"),\"\")","v":75.95},{"$f":"IFERROR(RTD(\"cqg.rtd\",,\"StudyData\",\"HiLevel(\"&A274&\",Period1:=\"&$B$1&\",AllowGaps:=0,InputChoice1:=High,InputChoice3:=High)\",\"Bar\",, \"Close\",$C$1,\"-1\",,,,,\"T\"),\"\")","v":117.54},{"$f":"IFERROR(RTD(\"cqg.rtd\",,\"StudyData\",\"LoLevel(\"&A274&\",Period2:=\"&$B$1&\",AllowGaps:=0,InputChoice2:=Low,InputChoice4:=Low)\",\"Bar\",, \"Close\",$C$1,\"-1\",,,,,\"T\"),\"\")","v":73.010000000000005},0,0,10.052999999999971,11.004999999999997,"S.US.LEN",{"$f":"RTD(\"cqg.rtd\", ,\"ContractData\",A274, \"PerCentNetLastTrade\",, \"T\")/100","v":1.4328513742347272E-3},{"$f":"RANK($K274,$K$2:K$506)+COUNTIF($K$2:K274,K274)-1","v":{"$error":"#VALUE!"}},"S.US.LEN",273,"",{"$f":"RTD(\"cqg.rtd\", ,\"ContractData\",O274, \"PerCentNetLastTrade\",, \"T\")/100","v":{"$error":"#VALUE!"}},{"$error":"#N/A"},null,273,""]
[{"$f":"Symbols!A275","v":"S.US.LH"},{"$f":"IFERROR(RTD(\"cqg.rtd\",,\"StudyData\",A275,\"Bar\",, \"High\",$C$1,\"0\",,,,,\"T\"),\"\")","v":270.87},{"$f":"IFERROR(RTD(\"cqg.rtd\",,\"StudyData\",A275,\"Bar\",, \"Low\",$C$1,\"0\",,,,,\"T\"),\"\")","v":268.68},{"$f":"IFERROR(RTD(\"cqg.rtd\",,\"StudyData\",\"HiLevel(\"&A275&\",Period1:=\"&$B$1&\",AllowGaps:=0,InputChoice1:=High,InputChoice3:=High)\",\"Bar\",, \"Close\",$C$1,\"-1\",,,,,\"T\"),\"\")","v":317.17},{"$f":"IFERROR(RTD(\"cqg.rtd\",,\"StudyData\",\"LoLevel(\"&A275&\",Period2:=\"&$B$1&\",AllowGaps:=0,InputChoice2:=Low,InputChoice4:=Low)\",\"Bar\",, \"Close\",$C$1,\"-1\",,,,,\"T\"),\"\")","v":255.85},0,0,10.05399999999997,11.005999999999997,"S.US.LH",{"$f":"RTD(\"cqg.rtd\", ,\"ContractData\",A275, \"PerCentNetLastTrade\",, \"T\")/100","v":5.5753791257805527E-3},{"$f":"RANK($K275,$K$2:K$506)+COUNTIF($K$2:K275,K275)-1","v":{"$error":"#VALUE!"}},"S.US.LH",274,"",{"$f":"RTD(\"cqg.rtd\", ,\"ContractData\",O275, \"PerCentNetLastTrade\",, \"T\")/100","v":{"$error":"#VALUE!"}},{"$error":"#N/A"},null,274,""]
[{"$f":"Symbols!A276","v":"S.US.LHX"},{"$f":"IFERROR(RTD(\"cqg.rtd\",,\"StudyData\",A276,\"Bar\",, \"High\",$C$1,\"0\",,,,,\"T\"),\"\")","v":261.49},{"$f":"IFERROR(RTD(\"cqg.rtd\",,\"StudyData\",A276,\"Bar\",, \"Low\",$C$1,\"0\",,,,,\"T\"),\"\")","v":257.49},{"$f":"IFERROR(RTD(\"cqg.rtd\",,\"StudyData\",\"HiLevel(\"&A276&\",Period1:=\"&$B$1&\",AllowGaps:=0,InputChoice1:=High,InputChoice3:=High)\",\"Bar\",, \"Close\",$C$1,\"-1\",,,,,\"T\"),\"\")","v":279.70999999999998},{"$f":"IFERROR(RTD(\"cqg.rtd\",,\"StudyData\",\"LoLevel(\"&A276&\",Period2:=\"&$B$1&\",AllowGaps:=0,InputChoice2:=Low,InputChoice4:=Low)\",\"Bar\",, \"Close\",$C$1,\"-1\",,,,,\"T\"),\"\")","v":200.7},0,0,10.05499999999997,11.006999999999996,"S.US.LHX",{"$f":"RTD(\"cqg.rtd\", ,\"ContractData\",A276, \"PerCentNetLastTrade\",, \"T\")/100","v":1.4063167709102211E-2},{"$f":"RANK($K276,$K$2:K$506)+COUNTIF($K$2:K276,K276)-1","v":{"$error":"#VALUE!"}},"S.US.LHX",275,"",{"$f":"RTD(\"cqg.rtd\", ,\"ContractData\",O276, \"PerCentNetLastTrade\",, \"T\")/100","v":{"$error":"#VALUE!"}},{"$error":"#N/A"},null,275,""]
[{"$f":"Symbols!A277","v":"S.US.LIN"},{"$f":"IFERROR(RTD(\"cqg.rtd\",,\"StudyData\",A277,\"Bar\",, \"High\",$C$1,\"0\",,,,,\"T\"),\"\")","v":319.89999999999998},{"$f":"IFERROR(RTD(\"cqg.rtd\",,\"StudyData\",A277,\"Bar\",, \"Low\",$C$1,\"0\",,,,,\"T\"),\"\")","v":318.49},{"$f":"IFERROR(RTD(\"cqg.rtd\",,\"StudyData\",\"HiLevel(\"&A277&\",Period1:=\"&$B$1&\",AllowGaps:=0,InputChoice1:=High,InputChoice3:=High)\",\"Bar\",, \"Close\",$C$1,\"-1\",,,,,\"T\"),\"\")","v":352.18},{"$f":"IFERROR(RTD(\"cqg.rtd\",,\"StudyData\",\"LoLevel(\"&A277&\",Period2:=\"&$B$1&\",AllowGaps:=0,InputChoice2:=Low,InputChoice4:=Low)\",\"Bar\",, \"Close\",$C$1,\"-1\",,,,,\"T\"),\"\")","v":267.51},0,0,10.055999999999969,11.007999999999996,"S.US.LIN",{"$f":"RTD(\"cqg.rtd\", ,\"ContractData\",A277, \"PerCentNetLastTrade\",, \"T\")/100","v":1.82092176315459E-3},{"$f":"RANK($K277,$K$2:K$506)+COUNTIF($K$2:K277,K277)-1","v":{"$error":"#VALUE!"}},"S.US.LIN",276,"",{"$f":"RTD(\"cqg.rtd\", ,\"ContractData\",O277, \"PerCentNetLastTrade\",, \"T\")/100","v":{"$error":"#VALUE!"}},{"$error":"#N/A"},null,276,""]
[{"$f":"Symbols!A278","v":"S.US.LKQ"},{"$f":"IFERROR(RTD(\"cqg.rtd\",,\"StudyData\",A278,\"Bar\",, \"High\",$C$1,\"0\",,,,,\"T\"),\"\")","v":47.43},{"$f":"IFERROR(RTD(\"cqg.rtd\",,\"StudyData\",A278,\"Bar\",, \"Low\",$C$1,\"0\",,,,,\"T\"),\"\")","v":46.83},{"$f":"IFERROR(RTD(\"cqg.rtd\",,\"StudyData\",\"HiLevel(\"&A278&\",Period1:=\"&$B$1&\",AllowGaps:=0,InputChoice1:=High,InputChoice3:=High)\",\"Bar\",, \"Close\",$C$1,\"-1\",,,,,\"T\"),\"\")","v":60.42},{"$f":"IFERROR(RTD(\"cqg.rtd\",,\"StudyData\",\"LoLevel(\"&A278&\",Period2:=\"&$B$1&\",AllowGaps:=0,InputChoice2:=Low,InputChoice4:=Low)\",\"Bar\",, \"Close\",$C$1,\"-1\",,,,,\"T\"),\"\")","v":42.36},0,0,10.056999999999968,11.008999999999995,"S.US.LKQ",{"$f":"RTD(\"cqg.rtd\", ,\"ContractData\",A278, \"PerCentNetLastTrade\",, \"T\")/100","v":5.9574468085106377E-3},{"$f":"RANK($K278,$K$2:K$506)+COUNTIF($K$2:K278,K278)-1","v":{"$error":"#VALUE!"}},"S.US.LKQ",277,"",{"$f":"RTD(\"cqg.rtd\", ,\"ContractData\",O278, \"PerCentNetLastTrade\",, \"T\")/100","v":{"$error":"#VALUE!"}},{"$error":"#N/A"},null,277,""]
[{"$f":"Symbols!A279","v":"S.US.LLY"},{"$f":"IFERROR(RTD(\"cqg.rtd\",,\"StudyData\",A279,\"Bar\",, \"High\",$C$1,\"0\",,,,,\"T\"),\"\")","v":302.06},{"$f":"IFERROR(RTD(\"cqg.rtd\",,\"StudyData\",A279,\"Bar\",, \"Low\",$C$1,\"0\",,,,,\"T\"),\"\")","v":300.5},{"$f":"IFERROR(RTD(\"cqg.rtd\",,\"StudyData\",\"HiLevel(\"&A279&\",Period1:=\"&$B$1&\",AllowGaps:=0,InputChoice1:=High,InputChoice3:=High)\",\"Bar\",, \"Close\",$C$1,\"-1\",,,,,\"T\"),\"\")","v":314},{"$f":"IFERROR(RTD(\"cqg.rtd\",,\"StudyData\",\"LoLevel(\"&A279&\",Period2:=\"&$B$1&\",AllowGaps:=0,InputChoice2:=Low,InputChoice4:=Low)\",\"Bar\",, \"Close\",$C$1,\"-1\",,,,,\"T\"),\"\")","v":178.57},0,0,10.057999999999968,11.009999999999994,"S.US.LLY",{"$f":"RTD(\"cqg.rtd\", ,\"ContractData\",A279, \"PerCentNetLastTrade\",, \"T\")/100","v":-3.5778175313059034E-3},{"$f":"RANK($K279,$K$2:K$506)+COUNTIF($K$2:K279,K279)-1","v":{"$error":"#VALUE!"}},"S.US.LLY",278,"",{"$f":"RTD(\"cqg.rtd\", ,\"ContractData\",O279, \"PerCentNetLastTrade\",, \"T\")/100","v":{"$error":"#VALUE!"}},{"$error":"#N/A"},null,278,""]
[{"$f":"Symbols!A280","v":"S.US.LMT"},{"$f":"IFERROR(RTD(\"cqg.rtd\",,\"StudyData\",A280,\"Bar\",, \"High\",$C$1,\"0\",,,,,\"T\"),\"\")","v":471.96},{"$f":"IFERROR(RTD(\"cqg.rtd\",,\"StudyData\",A280,\"Bar\",, \"Low\",$C$1,\"0\",,,,,\"T\"),\"\")","v":464.57},{"$f":"IFERROR(RTD(\"cqg.rtd\",,\"StudyData\",\"HiLevel(\"&A280&\",Period1:=\"&$B$1&\",AllowGaps:=0,InputChoice1:=High,InputChoice3:=High)\",\"Bar\",, \"Close\",$C$1,\"-1\",,,,,\"T\"),\"\")","v":479.99},{"$f":"IFERROR(RTD(\"cqg.rtd\",,\"StudyData\",\"LoLevel(\"&A280&\",Period2:=\"&$B$1&\",AllowGaps:=0,InputChoice2:=Low,InputChoice4:=Low)\",\"Bar\",, \"Close\",$C$1,\"-1\",,,,,\"T\"),\"\")","v":324.22000000000003},0,0,10.058999999999967,11.010999999999994,"S.US.LMT",{"$f":"RTD(\"cqg.rtd\", ,\"ContractData\",A280, \"PerCentNetLastTrade\",, \"T\")/100","v":7.7406662960270278E-3},{"$f":"RANK($K280,$K$2:K$506)+COUNTIF($K$2:K280,K280)-1","v":{"$error":"#VALUE!"}},"S.US.LMT",279,"",{"$f":"RTD(\"cqg.rtd\", ,\"ContractData\",O280, \"PerCentNetLastTrade\",, \"T\")/100","v":{"$error":"#VALUE!"}},{"$error":"#N/A"},null,279,""]
[{"$f":"Symbols!A281","v":"S.US.LNC"},{"$f":"IFERROR(RTD(\"cqg.rtd\",,\"StudyData\",A281,\"Bar\",, \"High\",$C$1,\"0\",,,,,\"T\"),\"\")","v":65.44},{"$f":"IFERROR(RTD(\"cqg.rtd\",,\"StudyData\",A281,\"Bar\",, \"Low\",$C$1,\"0\",,,,,\"T\"),\"\")","v":64.510000000000005},{"$f":"IFERROR(RTD(\"cqg.rtd\",,\"StudyData\",\"HiLevel(\"&A281&\",Period1:=\"&$B$1&\",AllowGaps:=0,InputChoice1:=High,InputChoice3:=High)\",\"Bar\",, \"Close\",$C$1,\"-1\",,,,,\"T\"),\"\")","v":77.569999999999993},{"$f":"IFERROR(RTD(\"cqg.rtd\",,\"StudyData\",\"LoLevel(\"&A281&\",Period2:=\"&$B$1&\",AllowGaps:=0,InputChoice2:=Low,InputChoice4:=Low)\",\"Bar\",, \"Close\",$C$1,\"-1\",,,,,\"T\"),\"\")","v":56.41},0,0,10.059999999999967,11.011999999999993,"S.US.LNC",{"$f":"RTD(\"cqg.rtd\", ,\"ContractData\",A281, \"PerCentNetLastTrade\",, \"T\")/100","v":6.3154651879235978E-3},{"$f":"RANK($K281,$K$2:K$506)+COUNTIF($K$2:K281,K281)-1","v":{"$error":"#VALUE!"}},"S.US.LNC",280,"",{"$f":"RTD(\"cqg.rtd\", ,\"ContractData\",O281, \"PerCentNetLastTrade\",, \"T\")/100","v":{"$error":"#VALUE!"}},{"$error":"#N/A"},null,280,""]
[{"$f":"Symbols!A282","v":"S.US.LNT"},{"$f":"IFERROR(RTD(\"cqg.rtd\",,\"StudyData\",A282,\"Bar\",, \"High\",$C$1,\"0\",,,,,\"T\"),\"\")","v":63.91},{"$f":"IFERROR(RTD(\"cqg.rtd\",,\"StudyData\",A282,\"Bar\",, \"Low\",$C$1,\"0\",,,,,\"T\"),\"\")","v":63.3},{"$f":"IFERROR(RTD(\"cqg.rtd\",,\"StudyData\",\"HiLevel(\"&A282&\",Period1:=\"&$B$1&\",AllowGaps:=0,InputChoice1:=High,InputChoice3:=High)\",\"Bar\",, \"Close\",$C$1,\"-1\",,,,,\"T\"),\"\")","v":65.37},{"$f":"IFERROR(RTD(\"cqg.rtd\",,\"StudyData\",\"LoLevel(\"&A282&\",Period2:=\"&$B$1&\",AllowGaps:=0,InputChoice2:=Low,InputChoice4:=Low)\",\"Bar\",, \"Close\",$C$1,\"-1\",,,,,\"T\"),\"\")","v":54.46},0,0,10.060999999999966,11.012999999999993,"S.US.LNT",{"$f":"RTD(\"cqg.rtd\", ,\"ContractData\",A282, \"PerCentNetLastTrade\",, \"T\")/100","v":7.0989115002366302E-3},{"$f":"RANK($K282,$K$2:K$506)+COUNTIF($K$2:K282,K282)-1","v":{"$error":"#VALUE!"}},"S.US.LNT",281,"",{"$f":"RTD(\"cqg.rtd\", ,\"ContractData\",O282, \"PerCentNetLastTrade\",, \"T\")/100","v":{"$error":"#VALUE!"}},{"$error":"#N/A"},null,281,""]
[{"$f":"Symbols!A283","v":"S.US.LOW"},{"$f":"IFERROR(RTD(\"cqg.rtd\",,\"StudyData\",A283,\"Bar\",, \"High\",$C$1,\"0\",,,,,\"T\"),\"\")","v":202},{"$f":"IFERROR(RTD(\"cqg.rtd\",,\"StudyData\",A283,\"Bar\",, \"Low\",$C$1,\"0\",,,,,\"T\"),\"\")","v":199.46},{"$f":"IFERROR(RTD(\"cqg.rtd\",,\"StudyData\",\"HiLevel(\"&A283&\",Period1:=\"&$B$1&\",AllowGaps:=0,InputChoice1:=High,InputChoice3:=High)\",\"Bar\",, \"Close\",$C$1,\"-1\",,,,,\"T\"),\"\")","v":263.31},{"$f":"IFERROR(RTD(\"cqg.rtd\",,\"StudyData\",\"LoLevel(\"&A283&\",Period2:=\"&$B$1&\",AllowGaps:=0,InputChoice2:=Low,InputChoice4:=Low)\",\"Bar\",, \"Close\",$C$1,\"-1\",,,,,\"T\"),\"\")","v":182.08},0,0,10.061999999999966,11.013999999999992,"S.US.LOW",{"$f":"RTD(\"cqg.rtd\", ,\"ContractData\",A283, \"PerCentNetLastTrade\",, \"T\")/100","v":-7.8994435612082664E-3},{"$f":"RANK($K283,$K$2:K$506)+COUNTIF($K$2:K283,K283)-1","v":{"$error":"#VALUE!"}},"S.US.LOW",282,"",{"$f":"RTD(\"cqg.rtd\", ,\"ContractData\",O283, \"PerCentNetLastTrade\",, \"T\")/100","v":{"$error":"#VALUE!"}},{"$error":"#N/A"},null,282,""]
[{"$f":"Symbols!A284","v":"S.US.LRCX"},{"$f":"IFERROR(RTD(\"cqg.rtd\",,\"StudyData\",A284,\"Bar\",, \"High\",$C$1,\"0\",,,,,\"T\"),\"\")","v":458.78},{"$f":"IFERROR(RTD(\"cqg.rtd\",,\"StudyData\",A284,\"Bar\",, \"Low\",$C$1,\"0\",,,,,\"T\"),\"\")","v":451},{"$f":"IFERROR(RTD(\"cqg.rtd\",,\"StudyData\",\"HiLevel(\"&A284&\",Period1:=\"&$B$1&\",AllowGaps:=0,InputChoice1:=High,InputChoice3:=High)\",\"Bar\",, \"Close\",$C$1,\"-1\",,,,,\"T\"),\"\")","v":731.84},{"$f":"IFERROR(RTD(\"cqg.rtd\",,\"StudyData\",\"LoLevel(\"&A284&\",Period2:=\"&$B$1&\",AllowGaps:=0,InputChoice2:=Low,InputChoice4:=Low)\",\"Bar\",, \"Close\",$C$1,\"-1\",,,,,\"T\"),\"\")","v":455.84},0,1,10.062999999999965,12,"S.US.LRCX",{"$f":"RTD(\"cqg.rtd\", ,\"ContractData\",A284, \"PerCentNetLastTrade\",, \"T\")/100","v":-3.3540862855138548E-3},{"$f":"RANK($K284,$K$2:K$506)+COUNTIF($K$2:K284,K284)-1","v":{"$error":"#VALUE!"}},"S.US.LRCX",283,"",{"$f":"RTD(\"cqg.rtd\", ,\"ContractData\",O284, \"PerCentNetLastTrade\",, \"T\")/100","v":{"$error":"#VALUE!"}},{"$error":"#N/A"},null,283,""]
[{"$f":"Symbols!A285","v":"S.US.LUMN"},{"$f":"IFERROR(RTD(\"cqg.rtd\",,\"StudyData\",A285,\"Bar\",, \"High\",$C$1,\"0\",,,,,\"T\"),\"\")","v":11.53},{"$f":"IFERROR(RTD(\"cqg.rtd\",,\"StudyData\",A285,\"Bar\",, \"Low\",$C$1,\"0\",,,,,\"T\"),\"\")","v":11.43},{"$f":"IFERROR(RTD(\"cqg.rtd\",,\"StudyData\",\"HiLevel(\"&A285&\",Period1:=\"&$B$1&\",AllowGaps:=0,InputChoice1:=High,InputChoice3:=High)\",\"Bar\",, \"Close\",$C$1,\"-1\",,,,,\"T\"),\"\")","v":15.45},{"$f":"IFERROR(RTD(\"cqg.rtd\",,\"StudyData\",\"LoLevel(\"&A285&\",Period2:=\"&$B$1&\",AllowGaps:=0,InputChoice2:=Low,InputChoice4:=Low)\",\"Bar\",, \"Close\",$C$1,\"-1\",,,,,\"T\"),\"\")","v":9.31},0,0,10.063999999999965,12.000999999999999,"S.US.LUMN",{"$f":"RTD(\"cqg.rtd\", ,\"ContractData\",A285, \"PerCentNetLastTrade\",, \"T\")/100","v":1.7436791630340018E-3},{"$f":"RANK($K285,$K$2:K$506)+COUNTIF($K$2:K285,K285)-1","v":{"$error":"#VALUE!"}},"S.US.LUMN",284,"",{"$f":"RTD(\"cqg.rtd\", ,\"ContractData\",O285, \"PerCentNetLastTrade\",, \"T\")/100","v":{"$error":"#VALUE!"}},{"$error":"#N/A"},null,284,""]
[{"$f":"Symbols!A286","v":"S.US.LUV"},{"$f":"IFERROR(RTD(\"cqg.rtd\",,\"StudyData\",A286,\"Bar\",, \"High\",$C$1,\"0\",,,,,\"T\"),\"\")","v":46.8},{"$f":"IFERROR(RTD(\"cqg.rtd\",,\"StudyData\",A286,\"Bar\",, \"Low\",$C$1,\"0\",,,,,\"T\"),\"\")","v":46.2},{"$f":"IFERROR(RTD(\"cqg.rtd\",,\"StudyData\",\"HiLevel(\"&A286&\",Period1:=\"&$B$1&\",AllowGaps:=0,InputChoice1:=High,InputChoice3:=High)\",\"Bar\",, \"Close\",$C$1,\"-1\",,,,,\"T\"),\"\")","v":63.7},{"$f":"IFERROR(RTD(\"cqg.rtd\",,\"StudyData\",\"LoLevel(\"&A286&\",Period2:=\"&$B$1&\",AllowGaps:=0,InputChoice2:=Low,InputChoice4:=Low)\",\"Bar\",, \"Close\",$C$1,\"-1\",,,,,\"T\"),\"\")","v":36.75},0,0,10.064999999999964,12.001999999999999,"S.US.LUV",{"$f":"RTD(\"cqg.rtd\", ,\"ContractData\",A286, \"PerCentNetLastTrade\",, \"T\")/100","v":-6.4157399486740806E-4},{"$f":"RANK($K286,$K$2:K$506)+COUNTIF($K$2:K286,K286)-1","v":{"$error":"#VALUE!"}},"S.US.LUV",285,"",{"$f":"RTD(\"cqg.rtd\", ,\"ContractData\",O286, \"PerCentNetLastTrade\",, \"T\")/100","v":{"$error":"#VALUE!"}},{"$error":"#N/A"},null,285,""]
[{"$f":"Symbols!A287","v":"S.US.LVS"},{"$f":"IFERROR(RTD(\"cqg.rtd\",,\"StudyData\",A287,\"Bar\",, \"High\",$C$1,\"0\",,,,,\"T\"),\"\")","v":36.950000000000003},{"$f":"IFERROR(RTD(\"cqg.rtd\",,\"StudyData\",A287,\"Bar\",, \"Low\",$C$1,\"0\",,,,,\"T\"),\"\")","v":36.42},{"$f":"IFERROR(RTD(\"cqg.rtd\",,\"StudyData\",\"HiLevel(\"&A287&\",Period1:=\"&$B$1&\",AllowGaps:=0,InputChoice1:=High,InputChoice3:=High)\",\"Bar\",, \"Close\",$C$1,\"-1\",,,,,\"T\"),\"\")","v":62.85},{"$f":"IFERROR(RTD(\"cqg.rtd\",,\"StudyData\",\"LoLevel(\"&A287&\",Period2:=\"&$B$1&\",AllowGaps:=0,InputChoice2:=Low,InputChoice4:=Low)\",\"Bar\",, \"Close\",$C$1,\"-1\",,,,,\"T\"),\"\")","v":31.25},0,0,10.065999999999963,12.002999999999998,"S.US.LVS",{"$f":"RTD(\"cqg.rtd\", ,\"ContractData\",A287, \"PerCentNetLastTrade\",, \"T\")/100","v":-1.406926406926407E-2},{"$f":"RANK($K287,$K$2:K$506)+COUNTIF($K$2:K287,K287)-1","v":{"$error":"#VALUE!"}},"S.US.LVS",286,"",{"$f":"RTD(\"cqg.rtd\", ,\"ContractData\",O287, \"PerCentNetLastTrade\",, \"T\")/100","v":{"$error":"#VALUE!"}},{"$error":"#N/A"},null,286,""]
[{"$f":"Symbols!A288","v":"S.US.LW"},{"$f":"IFERROR(RTD(\"cqg.rtd\",,\"StudyData\",A288,\"Bar\",, \"High\",$C$1,\"0\",,,,,\"T\"),\"\")","v":68.89},{"$f":"IFERROR(RTD(\"cqg.rtd\",,\"StudyData\",A288,\"Bar\",, \"Low\",$C$1,\"0\",,,,,\"T\"),\"\")","v":68.08},{"$f":"IFERROR(RTD(\"cqg.rtd\",,\"StudyData\",\"HiLevel(\"&A288&\",Period1:=\"&$B$1&\",AllowGaps:=0,InputChoice1:=High,InputChoice3:=High)\",\"Bar\",, \"Close\",$C$1,\"-1\",,,,,\"T\"),\"\")","v":85.72},{"$f":"IFERROR(RTD(\"cqg.rtd\",,\"StudyData\",\"LoLevel(\"&A288&\",Period2:=\"&$B$1&\",AllowGaps:=0,InputChoice2:=Low,InputChoice4:=Low)\",\"Bar\",, \"Close\",$C$1,\"-1\",,,,,\"T\"),\"\")","v":49.71},0,0,10.066999999999963,12.003999999999998,"S.US.LW",{"$f":"RTD(\"cqg.rtd\", ,\"ContractData\",A288, \"PerCentNetLastTrade\",, \"T\")/100","v":-1.7464706738466015E-3},{"$f":"RANK($K288,$K$2:K$506)+COUNTIF($K$2:K288,K288)-1","v":{"$error":"#VALUE!"}},"S.US.LW",287,"",{"$f":"RTD(\"cqg.rtd\", ,\"ContractData\",O288, \"PerCentNetLastTrade\",, \"T\")/100","v":{"$error":"#VALUE!"}},{"$error":"#N/A"},null,287,""]
[{"$f":"Symbols!A289","v":"S.US.LYB"},{"$f":"IFERROR(RTD(\"cqg.rtd\",,\"StudyData\",A289,\"Bar\",, \"High\",$C$1,\"0\",,,,,\"T\"),\"\")","v":108.44},{"$f":"IFERROR(RTD(\"cqg.rtd\",,\"StudyData\",A289,\"Bar\",, \"Low\",$C$1,\"0\",,,,,\"T\"),\"\")","v":107.36},{"$f":"IFERROR(RTD(\"cqg.rtd\",,\"StudyData\",\"HiLevel(\"&A289&\",Period1:=\"&$B$1&\",AllowGaps:=0,InputChoice1:=High,InputChoice3:=High)\",\"Bar\",, \"Close\",$C$1,\"-1\",,,,,\"T\"),\"\")","v":118.01},{"$f":"IFERROR(RTD(\"cqg.rtd\",,\"StudyData\",\"LoLevel(\"&A289&\",Period2:=\"&$B$1&\",AllowGaps:=0,InputChoice2:=Low,InputChoice4:=Low)\",\"Bar\",, \"Close\",$C$1,\"-1\",,,,,\"T\"),\"\")","v":84.17},0,0,10.067999999999962,12.004999999999997,"S.US.LYB",{"$f":"RTD(\"cqg.rtd\", ,\"ContractData\",A289, \"PerCentNetLastTrade\",, \"T\")/100","v":3.9970254694181072E-3},{"$f":"RANK($K289,$K$2:K$506)+COUNTIF($K$2:K289,K289)-1","v":{"$error":"#VALUE!"}},"S.US.LYB",288,"",{"$f":"RTD(\"cqg.rtd\", ,\"ContractData\",O289, \"PerCentNetLastTrade\",, \"T\")/100","v":{"$error":"#VALUE!"}},{"$error":"#N/A"},null,288,""]
[{"$f":"Symbols!A290","v":"S.US.LYV"},{"$f":"IFERROR(RTD(\"cqg.rtd\",,\"StudyData\",A290,\"Bar\",, \"High\",$C$1,\"0\",,,,,\"T\"),\"\")","v":111.29},{"$f":"IFERROR(RTD(\"cqg.rtd\",,\"StudyData\",A290,\"Bar\",, \"Low\",$C$1,\"0\",,,,,\"T\"),\"\")","v":110.32},{"$f":"IFERROR(RTD(\"cqg.rtd\",,\"StudyData\",\"HiLevel(\"&A290&\",Period1:=\"&$B$1&\",AllowGaps:=0,InputChoice1:=High,InputChoice3:=High)\",\"Bar\",, \"Close\",$C$1,\"-1\",,,,,\"T\"),\"\")","v":127.75},{"$f":"IFERROR(RTD(\"cqg.rtd\",,\"StudyData\",\"LoLevel(\"&A290&\",Period2:=\"&$B$1&\",AllowGaps:=0,InputChoice2:=Low,InputChoice4:=Low)\",\"Bar\",, \"Close\",$C$1,\"-1\",,,,,\"T\"),\"\")","v":74.010000000000005},0,0,10.068999999999962,12.005999999999997,"S.US.LYV",{"$f":"RTD(\"cqg.rtd\", ,\"ContractData\",A290, \"PerCentNetLastTrade\",, \"T\")/100","v":-5.2106728955170246E-3},{"$f":"RANK($K290,$K$2:K$506)+COUNTIF($K$2:K290,K290)-1","v":{"$error":"#VALUE!"}},"S.US.LYV",289,"",{"$f":"RTD(\"cqg.rtd\", ,\"ContractData\",O290, \"PerCentNetLastTrade\",, \"T\")/100","v":{"$error":"#VALUE!"}},{"$error":"#N/A"},null,289,""]
[{"$f":"Symbols!A291","v":"S.US.MA"},{"$f":"IFERROR(RTD(\"cqg.rtd\",,\"StudyData\",A291,\"Bar\",, \"High\",$C$1,\"0\",,,,,\"T\"),\"\")","v":359.68},{"$f":"IFERROR(RTD(\"cqg.rtd\",,\"StudyData\",A291,\"Bar\",, \"Low\",$C$1,\"0\",,,,,\"T\"),\"\")","v":353.61},{"$f":"IFERROR(RTD(\"cqg.rtd\",,\"StudyData\",\"HiLevel(\"&A291&\",Period1:=\"&$B$1&\",AllowGaps:=0,InputChoice1:=High,InputChoice3:=High)\",\"Bar\",, \"Close\",$C$1,\"-1\",,,,,\"T\"),\"\")","v":401.5},{"$f":"IFERROR(RTD(\"cqg.rtd\",,\"StudyData\",\"LoLevel(\"&A291&\",Period2:=\"&$B$1&\",AllowGaps:=0,InputChoice2:=Low,InputChoice4:=Low)\",\"Bar\",, \"Close\",$C$1,\"-1\",,,,,\"T\"),\"\")","v":305.60000000000002},0,0,10.069999999999961,12.006999999999996,"S.US.MA",{"$f":"RTD(\"cqg.rtd\", ,\"ContractData\",A291, \"PerCentNetLastTrade\",, \"T\")/100","v":2.4313900843999777E-3},{"$f":"RANK($K291,$K$2:K$506)+COUNTIF($K$2:K291,K291)-1","v":{"$error":"#VALUE!"}},"S.US.MA",290,"",{"$f":"RTD(\"cqg.rtd\", ,\"ContractData\",O291, \"PerCentNetLastTrade\",, \"T\")/100","v":{"$error":"#VALUE!"}},{"$error":"#N/A"},null,290,""]
[{"$f":"Symbols!A292","v":"S.US.MAA"},{"$f":"IFERROR(RTD(\"cqg.rtd\",,\"StudyData\",A292,\"Bar\",, \"High\",$C$1,\"0\",,,,,\"T\"),\"\")","v":206.14},{"$f":"IFERROR(RTD(\"cqg.rtd\",,\"StudyData\",A292,\"Bar\",, \"Low\",$C$1,\"0\",,,,,\"T\"),\"\")","v":205.02},{"$f":"IFERROR(RTD(\"cqg.rtd\",,\"StudyData\",\"HiLevel(\"&A292&\",Period1:=\"&$B$1&\",AllowGaps:=0,InputChoice1:=High,InputChoice3:=High)\",\"Bar\",, \"Close\",$C$1,\"-1\",,,,,\"T\"),\"\")","v":231.63},{"$f":"IFERROR(RTD(\"cqg.rtd\",,\"StudyData\",\"LoLevel(\"&A292&\",Period2:=\"&$B$1&\",AllowGaps:=0,InputChoice2:=Low,InputChoice4:=Low)\",\"Bar\",, \"Close\",$C$1,\"-1\",,,,,\"T\"),\"\")","v":150.22999999999999},0,0,10.070999999999961,12.007999999999996,"S.US.MAA",{"$f":"RTD(\"cqg.rtd\", ,\"ContractData\",A292, \"PerCentNetLastTrade\",, \"T\")/100","v":1.1685086907833877E-3},{"$f":"RANK($K292,$K$2:K$506)+COUNTIF($K$2:K292,K292)-1","v":{"$error":"#VALUE!"}},"S.US.MAA",291,"",{"$f":"RTD(\"cqg.rtd\", ,\"ContractData\",O292, \"PerCentNetLastTrade\",, \"T\")/100","v":{"$error":"#VALUE!"}},{"$error":"#N/A"},null,291,""]
[{"$f":"Symbols!A293","v":"S.US.MAR"},{"$f":"IFERROR(RTD(\"cqg.rtd\",,\"StudyData\",A293,\"Bar\",, \"High\",$C$1,\"0\",,,,,\"T\"),\"\")","v":182.56},{"$f":"IFERROR(RTD(\"cqg.rtd\",,\"StudyData\",A293,\"Bar\",, \"Low\",$C$1,\"0\",,,,,\"T\"),\"\")","v":179.23},{"$f":"IFERROR(RTD(\"cqg.rtd\",,\"StudyData\",\"HiLevel(\"&A293&\",Period1:=\"&$B$1&\",AllowGaps:=0,InputChoice1:=High,InputChoice3:=High)\",\"Bar\",, \"Close\",$C$1,\"-1\",,,,,\"T\"),\"\")","v":184.99},{"$f":"IFERROR(RTD(\"cqg.rtd\",,\"StudyData\",\"LoLevel(\"&A293&\",Period2:=\"&$B$1&\",AllowGaps:=0,InputChoice2:=Low,InputChoice4:=Low)\",\"Bar\",, \"Close\",$C$1,\"-1\",,,,,\"T\"),\"\")","v":127.23},0,0,10.07199999999996,12.008999999999995,"S.US.MAR",{"$f":"RTD(\"cqg.rtd\", ,\"ContractData\",A293, \"PerCentNetLastTrade\",, \"T\")/100","v":1.0913522796520969E-2},{"$f":"RANK($K293,$K$2:K$506)+COUNTIF($K$2:K293,K293)-1","v":{"$error":"#VALUE!"}},"S.US.MAR",292,"",{"$f":"RTD(\"cqg.rtd\", ,\"ContractData\",O293, \"PerCentNetLastTrade\",, \"T\")/100","v":{"$error":"#VALUE!"}},{"$error":"#N/A"},null,292,""]
[{"$f":"Symbols!A294","v":"S.US.MAS"},{"$f":"IFERROR(RTD(\"cqg.rtd\",,\"StudyData\",A294,\"Bar\",, \"High\",$C$1,\"0\",,,,,\"T\"),\"\")","v":49.9},{"$f":"IFERROR(RTD(\"cqg.rtd\",,\"StudyData\",A294,\"Bar\",, \"Low\",$C$1,\"0\",,,,,\"T\"),\"\")","v":49.25},{"$f":"IFERROR(RTD(\"cqg.rtd\",,\"StudyData\",\"HiLevel(\"&A294&\",Period1:=\"&$B$1&\",AllowGaps:=0,InputChoice1:=High,InputChoice3:=High)\",\"Bar\",, \"Close\",$C$1,\"-1\",,,,,\"T\"),\"\")","v":71.05},{"$f":"IFERROR(RTD(\"cqg.rtd\",,\"StudyData\",\"LoLevel(\"&A294&\",Period2:=\"&$B$1&\",AllowGaps:=0,InputChoice2:=Low,InputChoice4:=Low)\",\"Bar\",, \"Close\",$C$1,\"-1\",,,,,\"T\"),\"\")","v":49.36},0,1,10.07299999999996,13,"S.US.MAS",{"$f":"RTD(\"cqg.rtd\", ,\"ContractData\",A294, \"PerCentNetLastTrade\",, \"T\")/100","v":3.8469325774448272E-3},{"$f":"RANK($K294,$K$2:K$506)+COUNTIF($K$2:K294,K294)-1","v":{"$error":"#VALUE!"}},"S.US.MAS",293,"",{"$f":"RTD(\"cqg.rtd\", ,\"ContractData\",O294, \"PerCentNetLastTrade\",, \"T\")/100","v":{"$error":"#VALUE!"}},{"$error":"#N/A"},null,293,""]
[{"$f":"Symbols!A295","v":"S.US.MCD"},{"$f":"IFERROR(RTD(\"cqg.rtd\",,\"StudyData\",A295,\"Bar\",, \"High\",$C$1,\"0\",,,,,\"T\"),\"\")","v":252.49},{"$f":"IFERROR(RTD(\"cqg.rtd\",,\"StudyData\",A295,\"Bar\",, \"Low\",$C$1,\"0\",,,,,\"T\"),\"\")","v":249.13},{"$f":"IFERROR(RTD(\"cqg.rtd\",,\"StudyData\",\"HiLevel(\"&A295&\",Period1:=\"&$B$1&\",AllowGaps:=0,InputChoice1:=High,InputChoice3:=High)\",\"Bar\",, \"Close\",$C$1,\"-1\",,,,,\"T\"),\"\")","v":271.14999999999998},{"$f":"IFERROR(RTD(\"cqg.rtd\",,\"StudyData\",\"LoLevel(\"&A295&\",Period2:=\"&$B$1&\",AllowGaps:=0,InputChoice2:=Low,InputChoice4:=Low)\",\"Bar\",, \"Close\",$C$1,\"-1\",,,,,\"T\"),\"\")","v":217.67},0,0,10.073999999999959,13.000999999999999,"S.US.MCD",{"$f":"RTD(\"cqg.rtd\", ,\"ContractData\",A295, \"PerCentNetLastTrade\",, \"T\")/100","v":5.3890064268891456E-3},{"$f":"RANK($K295,$K$2:K$506)+COUNTIF($K$2:K295,K295)-1","v":{"$error":"#VALUE!"}},"S.US.MCD",294,"",{"$f":"RTD(\"cqg.rtd\", ,\"ContractData\",O295, \"PerCentNetLastTrade\",, \"T\")/100","v":{"$error":"#VALUE!"}},{"$error":"#N/A"},null,294,""]
[{"$f":"Symbols!A296","v":"S.US.MCHP"},{"$f":"IFERROR(RTD(\"cqg.rtd\",,\"StudyData\",A296,\"Bar\",, \"High\",$C$1,\"0\",,,,,\"T\"),\"\")","v":66.400000000000006},{"$f":"IFERROR(RTD(\"cqg.rtd\",,\"StudyData\",A296,\"Bar\",, \"Low\",$C$1,\"0\",,,,,\"T\"),\"\")","v":65},{"$f":"IFERROR(RTD(\"cqg.rtd\",,\"StudyData\",\"HiLevel(\"&A296&\",Period1:=\"&$B$1&\",AllowGaps:=0,InputChoice1:=High,InputChoice3:=High)\",\"Bar\",, \"Close\",$C$1,\"-1\",,,,,\"T\"),\"\")","v":90},{"$f":"IFERROR(RTD(\"cqg.rtd\",,\"StudyData\",\"LoLevel(\"&A296&\",Period2:=\"&$B$1&\",AllowGaps:=0,InputChoice2:=Low,InputChoice4:=Low)\",\"Bar\",, \"Close\",$C$1,\"-1\",,,,,\"T\"),\"\")","v":64.260000000000005},0,0,10.074999999999958,13.001999999999999,"S.US.MCHP",{"$f":"RTD(\"cqg.rtd\", ,\"ContractData\",A296, \"PerCentNetLastTrade\",, \"T\")/100","v":8.7396504139834411E-3},{"$f":"RANK($K296,$K$2:K$506)+COUNTIF($K$2:K296,K296)-1","v":{"$error":"#VALUE!"}},"S.US.MCHP",295,"",{"$f":"RTD(\"cqg.rtd\", ,\"ContractData\",O296, \"PerCentNetLastTrade\",, \"T\")/100","v":{"$error":"#VALUE!"}},{"$error":"#N/A"},null,295,""]
[{"$f":"Symbols!A297","v":"S.US.MCK"},{"$f":"IFERROR(RTD(\"cqg.rtd\",,\"StudyData\",A297,\"Bar\",, \"High\",$C$1,\"0\",,,,,\"T\"),\"\")","v":327.13},{"$f":"IFERROR(RTD(\"cqg.rtd\",,\"StudyData\",A297,\"Bar\",, \"Low\",$C$1,\"0\",,,,,\"T\"),\"\")","v":322.79000000000002},{"$f":"IFERROR(RTD(\"cqg.rtd\",,\"StudyData\",\"HiLevel(\"&A297&\",Period1:=\"&$B$1&\",AllowGaps:=0,InputChoice1:=High,InputChoice3:=High)\",\"Bar\",, \"Close\",$C$1,\"-1\",,,,,\"T\"),\"\")","v":329.39},{"$f":"IFERROR(RTD(\"cqg.rtd\",,\"StudyData\",\"LoLevel(\"&A297&\",Period2:=\"&$B$1&\",AllowGaps:=0,InputChoice2:=Low,InputChoice4:=Low)\",\"Bar\",, \"Close\",$C$1,\"-1\",,,,,\"T\"),\"\")","v":180.41},{"$f":"IF(B297=\"\",0,IFERROR(IF(B297>D297,1,0),\"\"))","v":0},{"$f":"IF(C297=\"\",0,IFERROR(IF(C297<E297,1,0),\"\"))","v":0},{"$f":"IF(F297=1,INT(H296+1),H296+0.001)","v":10.075999999999958},{"$f":"IF(G297=1,INT(I296+1),I296+0.001)","v":13.002999999999998},{"$f":"A297","v":"S.US.MCK"},{"$f":"RTD(\"cqg.rtd\", ,\"ContractData\",A297, \"PerCentNetLastTrade\",, \"T\")/100","v":1.0332559938128382E-2},{"$f":"RANK($K297,$K$2:K$506)+COUNTIF($K$2:K297,K297)-1","v":{"$error":"#VALUE!"}},"S.US.MCK",296,"",{"$f":"RTD(\"cqg.rtd\", ,\"ContractData\",O297, \"PerCentNetLastTrade\",, \"T\")/100","v":{"$error":"#VALUE!"}},{"$error":"#N/A"},null,296,""]
[{"$f":"Symbols!A298","v":"S.US.MCO"},{"$f":"IFERROR(RTD(\"cqg.rtd\",,\"StudyData\",A298,\"Bar\",, \"High\",$C$1,\"0\",,,,,\"T\"),\"\")","v":330},{"$f":"IFERROR(RTD(\"cqg.rtd\",,\"StudyData\",A298,\"Bar\",, \"Low\",$C$1,\"0\",,,,,\"T\"),\"\")","v":326.41000000000003},{"$f":"IFERROR(RTD(\"cqg.rtd\",,\"StudyData\",\"HiLevel(\"&A298&\",Period1:=\"&$B$1&\",AllowGaps:=0,InputChoice1:=High,InputChoice3:=High)\",\"Bar\",, \"Close\",$C$1,\"-1\",,,,,\"T\"),\"\")","v":407.94},{"$f":"IFERROR(RTD(\"cqg.rtd\",,\"StudyData\",\"LoLevel(\"&A298&\",Period2:=\"&$B$1&\",AllowGaps:=0,InputChoice2:=Low,InputChoice4:=Low)\",\"Bar\",, \"Close\",$C$1,\"-1\",,,,,\"T\"),\"\")","v":299.68},0,0,10.076999999999957,13.003999999999998,"S.US.MCO",{"$f":"RTD(\"cqg.rtd\", ,\"ContractData\",A298, \"PerCentNetLastTrade\",, \"T\")/100","v":3.1668696711327649E-3},{"$f":"RANK($K298,$K$2:K$506)+COUNTIF($K$2:K298,K298)-1","v":{"$error":"#VALUE!"}},"S.US.MCO",297,"",{"$f":"RTD(\"cqg.rtd\", ,\"ContractData\",O298, \"PerCentNetLastTrade\",, \"T\")/100","v":{"$error":"#VALUE!"}},{"$error":"#N/A"},null,297,""]
[{"$f":"Symbols!A299","v":"S.US.MDLZ"},{"$f":"IFERROR(RTD(\"cqg.rtd\",,\"StudyData\",A299,\"Bar\",, \"High\",$C$1,\"0\",,,,,\"T\"),\"\")","v":64.02},{"$f":"IFERROR(RTD(\"cqg.rtd\",,\"StudyData\",A299,\"Bar\",, \"Low\",$C$1,\"0\",,,,,\"T\"),\"\")","v":63.45},{"$f":"IFERROR(RTD(\"cqg.rtd\",,\"StudyData\",\"HiLevel(\"&A299&\",Period1:=\"&$B$1&\",AllowGaps:=0,InputChoice1:=High,InputChoice3:=High)\",\"Bar\",, \"Close\",$C$1,\"-1\",,,,,\"T\"),\"\")","v":69.47},{"$f":"IFERROR(RTD(\"cqg.rtd\",,\"StudyData\",\"LoLevel(\"&A299&\",Period2:=\"&$B$1&\",AllowGaps:=0,InputChoice2:=Low,InputChoice4:=Low)\",\"Bar\",, \"Close\",$C$1,\"-1\",,,,,\"T\"),\"\")","v":57.62},0,0,10.077999999999957,13.004999999999997,"S.US.MDLZ",{"$f":"RTD(\"cqg.rtd\", ,\"ContractData\",A299, \"PerCentNetLastTrade\",, \"T\")/100","v":-1.5693659761456371E-3},{"$f":"RANK($K299,$K$2:K$506)+COUNTIF($K$2:K299,K299)-1","v":{"$error":"#VALUE!"}},"S.US.MDLZ",298,"",{"$f":"RTD(\"cqg.rtd\", ,\"ContractData\",O299, \"PerCentNetLastTrade\",, \"T\")/100","v":{"$error":"#VALUE!"}},{"$error":"#N/A"},null,298,""]
[{"$f":"Symbols!A300","v":"S.US.MDT"},{"$f":"IFERROR(RTD(\"cqg.rtd\",,\"StudyData\",A300,\"Bar\",, \"High\",$C$1,\"0\",,,,,\"T\"),\"\")","v":109.25},{"$f":"IFERROR(RTD(\"cqg.rtd\",,\"StudyData\",A300,\"Bar\",, \"Low\",$C$1,\"0\",,,,,\"T\"),\"\")","v":108.52},{"$f":"IFERROR(RTD(\"cqg.rtd\",,\"StudyData\",\"HiLevel(\"&A300&\",Period1:=\"&$B$1&\",AllowGaps:=0,InputChoice1:=High,InputChoice3:=High)\",\"Bar\",, \"Close\",$C$1,\"-1\",,,,,\"T\"),\"\")","v":135.88999999999999},{"$f":"IFERROR(RTD(\"cqg.rtd\",,\"StudyData\",\"LoLevel(\"&A300&\",Period2:=\"&$B$1&\",AllowGaps:=0,InputChoice2:=Low,InputChoice4:=Low)\",\"Bar\",, \"Close\",$C$1,\"-1\",,,,,\"T\"),\"\")","v":98.37},0,0,10.078999999999956,13.005999999999997,"S.US.MDT",{"$f":"RTD(\"cqg.rtd\", ,\"ContractData\",A300, \"PerCentNetLastTrade\",, \"T\")/100","v":-5.5035773252614197E-4},{"$f":"RANK($K300,$K$2:K$506)+COUNTIF($K$2:K300,K300)-1","v":{"$error":"#VALUE!"}},"S.US.MDT",299,"",{"$f":"RTD(\"cqg.rtd\", ,\"ContractData\",O300, \"PerCentNetLastTrade\",, \"T\")/100","v":{"$error":"#VALUE!"}},{"$error":"#N/A"},null,299,""]
[{"$f":"Symbols!A301","v":"S.US.MET"},{"$f":"IFERROR(RTD(\"cqg.rtd\",,\"StudyData\",A301,\"Bar\",, \"High\",$C$1,\"0\",,,,,\"T\"),\"\")","v":71.290000000000006},{"$f":"IFERROR(RTD(\"cqg.rtd\",,\"StudyData\",A301,\"Bar\",, \"Low\",$C$1,\"0\",,,,,\"T\"),\"\")","v":70.150000000000006},{"$f":"IFERROR(RTD(\"cqg.rtd\",,\"StudyData\",\"HiLevel(\"&A301&\",Period1:=\"&$B$1&\",AllowGaps:=0,InputChoice1:=High,InputChoice3:=High)\",\"Bar\",, \"Close\",$C$1,\"-1\",,,,,\"T\"),\"\")","v":72.55},{"$f":"IFERROR(RTD(\"cqg.rtd\",,\"StudyData\",\"LoLevel(\"&A301&\",Period2:=\"&$B$1&\",AllowGaps:=0,InputChoice2:=Low,InputChoice4:=Low)\",\"Bar\",, \"Close\",$C$1,\"-1\",,,,,\"T\"),\"\")","v":55.21},0,0,10.079999999999956,13.006999999999996,"S.US.MET",{"$f":"RTD(\"cqg.rtd\", ,\"ContractData\",A301, \"PerCentNetLastTrade\",, \"T\")/100","v":8.069082672706682E-3},{"$f":"RANK($K301,$K$2:K$506)+COUNTIF($K$2:K301,K301)-1","v":{"$error":"#VALUE!"}},"S.US.MET",300,"",{"$f":"RTD(\"cqg.rtd\", ,\"ContractData\",O301, \"PerCentNetLastTrade\",, \"T\")/100","v":{"$error":"#VALUE!"}},{"$error":"#N/A"},null,300,""]
[{"$f":"Symbols!A302","v":"S.US.MGM"},{"$f":"IFERROR(RTD(\"cqg.rtd\",,\"StudyData\",A302,\"Bar\",, \"High\",$C$1,\"0\",,,,,\"T\"),\"\")","v":41.6},{"$f":"IFERROR(RTD(\"cqg.rtd\",,\"StudyData\",A302,\"Bar\",, \"Low\",$C$1,\"0\",,,,,\"T\"),\"\")","v":41.09},{"$f":"IFERROR(RTD(\"cqg.rtd\",,\"StudyData\",\"HiLevel(\"&A302&\",Period1:=\"&$B$1&\",AllowGaps:=0,InputChoice1:=High,InputChoice3:=High)\",\"Bar\",, \"Close\",$C$1,\"-1\",,,,,\"T\"),\"\")","v":51.17},{"$f":"IFERROR(RTD(\"cqg.rtd\",,\"StudyData\",\"LoLevel(\"&A302&\",Period2:=\"&$B$1&\",AllowGaps:=0,InputChoice2:=Low,InputChoice4:=Low)\",\"Bar\",, \"Close\",$C$1,\"-1\",,,,,\"T\"),\"\")","v":35.72},0,0,10.080999999999955,13.007999999999996,"S.US.MGM",{"$f":"RTD(\"cqg.rtd\", ,\"ContractData\",A302, \"PerCentNetLastTrade\",, \"T\")/100","v":-1.4423076923076922E-3},{"$f":"RANK($K302,$K$2:K$506)+COUNTIF($K$2:K302,K302)-1","v":{"$error":"#VALUE!"}},"S.US.MGM",301,"",{"$f":"RTD(\"cqg.rtd\", ,\"ContractData\",O302, \"PerCentNetLastTrade\",, \"T\")/100","v":{"$error":"#VALUE!"}},{"$error":"#N/A"},null,301,""]
[{"$f":"Symbols!A303","v":"S.US.MHK"},{"$f":"IFERROR(RTD(\"cqg.rtd\",,\"StudyData\",A303,\"Bar\",, \"High\",$C$1,\"0\",,,,,\"T\"),\"\")","v":125.08},{"$f":"IFERROR(RTD(\"cqg.rtd\",,\"StudyData\",A303,\"Bar\",, \"Low\",$C$1,\"0\",,,,,\"T\"),\"\")","v":123.37},{"$f":"IFERROR(RTD(\"cqg.rtd\",,\"StudyData\",\"HiLevel(\"&A303&\",Period1:=\"&$B$1&\",AllowGaps:=0,InputChoice1:=High,InputChoice3:=High)\",\"Bar\",, \"Close\",$C$1,\"-1\",,,,,\"T\"),\"\")","v":231.8},{"$f":"IFERROR(RTD(\"cqg.rtd\",,\"StudyData\",\"LoLevel(\"&A303&\",Period2:=\"&$B$1&\",AllowGaps:=0,InputChoice2:=Low,InputChoice4:=Low)\",\"Bar\",, \"Close\",$C$1,\"-1\",,,,,\"T\"),\"\")","v":117.56},0,0,10.081999999999955,13.008999999999995,"S.US.MHK",{"$f":"RTD(\"cqg.rtd\", ,\"ContractData\",A303, \"PerCentNetLastTrade\",, \"T\")/100","v":3.1525341524533184E-3},{"$f":"RANK($K303,$K$2:K$506)+COUNTIF($K$2:K303,K303)-1","v":{"$error":"#VALUE!"}},"S.US.MHK",302,"",{"$f":"RTD(\"cqg.rtd\", ,\"ContractData\",O303, \"PerCentNetLastTrade\",, \"T\")/100","v":{"$error":"#VALUE!"}},{"$error":"#N/A"},null,302,""]
[{"$f":"Symbols!A304","v":"S.US.MKC"},{"$f":"IFERROR(RTD(\"cqg.rtd\",,\"StudyData\",A304,\"Bar\",, \"High\",$C$1,\"0\",,,,,\"T\"),\"\")","v":102},{"$f":"IFERROR(RTD(\"cqg.rtd\",,\"StudyData\",A304,\"Bar\",, \"Low\",$C$1,\"0\",,,,,\"T\"),\"\")","v":101.39},{"$f":"IFERROR(RTD(\"cqg.rtd\",,\"StudyData\",\"HiLevel(\"&A304&\",Period1:=\"&$B$1&\",AllowGaps:=0,InputChoice1:=High,InputChoice3:=High)\",\"Bar\",, \"Close\",$C$1,\"-1\",,,,,\"T\"),\"\")","v":107.35},{"$f":"IFERROR(RTD(\"cqg.rtd\",,\"StudyData\",\"LoLevel(\"&A304&\",Period2:=\"&$B$1&\",AllowGaps:=0,InputChoice2:=Low,InputChoice4:=Low)\",\"Bar\",, \"Close\",$C$1,\"-1\",,,,,\"T\"),\"\")","v":77.849999999999994},0,0,10.082999999999954,13.009999999999994,"S.US.MKC",{"$f":"RTD(\"cqg.rtd\", ,\"ContractData\",A304, \"PerCentNetLastTrade\",, \"T\")/100","v":-2.9536280397755242E-4},{"$f":"RANK($K304,$K$2:K$506)+COUNTIF($K$2:K304,K304)-1","v":{"$error":"#VALUE!"}},"S.US.MKC",303,"",{"$f":"RTD(\"cqg.rtd\", ,\"ContractData\",O304, \"PerCentNetLastTrade\",, \"T\")/100","v":{"$error":"#VALUE!"}},{"$error":"#N/A"},null,303,""]
[{"$f":"Symbols!A305","v":"S.US.MKTX"},{"$f":"IFERROR(RTD(\"cqg.rtd\",,\"StudyData\",A305,\"Bar\",, \"High\",$C$1,\"0\",,,,,\"T\"),\"\")","v":265.43},{"$f":"IFERROR(RTD(\"cqg.rtd\",,\"StudyData\",A305,\"Bar\",, \"Low\",$C$1,\"0\",,,,,\"T\"),\"\")","v":258.01},{"$f":"IFERROR(RTD(\"cqg.rtd\",,\"StudyData\",\"HiLevel(\"&A305&\",Period1:=\"&$B$1&\",AllowGaps:=0,InputChoice1:=High,InputChoice3:=High)\",\"Bar\",, \"Close\",$C$1,\"-1\",,,,,\"T\"),\"\")","v":540.46},{"$f":"IFERROR(RTD(\"cqg.rtd\",,\"StudyData\",\"LoLevel(\"&A305&\",Period2:=\"&$B$1&\",AllowGaps:=0,InputChoice2:=Low,InputChoice4:=Low)\",\"Bar\",, \"Close\",$C$1,\"-1\",,,,,\"T\"),\"\")","v":265.3},0,1,10.083999999999953,14,"S.US.MKTX",{"$f":"RTD(\"cqg.rtd\", ,\"ContractData\",A305, \"PerCentNetLastTrade\",, \"T\")/100","v":-1.8459220192126577E-2},{"$f":"RANK($K305,$K$2:K$506)+COUNTIF($K$2:K305,K305)-1","v":{"$error":"#VALUE!"}},"S.US.MKTX",304,"",{"$f":"RTD(\"cqg.rtd\", ,\"ContractData\",O305, \"PerCentNetLastTrade\",, \"T\")/100","v":{"$error":"#VALUE!"}},{"$error":"#N/A"},null,304,""]
[{"$f":"Symbols!A306","v":"S.US.MLM"},{"$f":"IFERROR(RTD(\"cqg.rtd\",,\"StudyData\",A306,\"Bar\",, \"High\",$C$1,\"0\",,,,,\"T\"),\"\")","v":367.07},{"$f":"IFERROR(RTD(\"cqg.rtd\",,\"StudyData\",A306,\"Bar\",, \"Low\",$C$1,\"0\",,,,,\"T\"),\"\")","v":364.42},{"$f":"IFERROR(RTD(\"cqg.rtd\",,\"StudyData\",\"HiLevel(\"&A306&\",Period1:=\"&$B$1&\",AllowGaps:=0,InputChoice1:=High,InputChoice3:=High)\",\"Bar\",, \"Close\",$C$1,\"-1\",,,,,\"T\"),\"\")","v":446.46},{"$f":"IFERROR(RTD(\"cqg.rtd\",,\"StudyData\",\"LoLevel(\"&A306&\",Period2:=\"&$B$1&\",AllowGaps:=0,InputChoice2:=Low,InputChoice4:=Low)\",\"Bar\",, \"Close\",$C$1,\"-1\",,,,,\"T\"),\"\")","v":329.69},0,0,10.084999999999953,14.000999999999999,"S.US.MLM",{"$f":"RTD(\"cqg.rtd\", ,\"ContractData\",A306, \"PerCentNetLastTrade\",, \"T\")/100","v":6.1674250315223948E-3},{"$f":"RANK($K306,$K$2:K$506)+COUNTIF($K$2:K306,K306)-1","v":{"$error":"#VALUE!"}},"S.US.MLM",305,"",{"$f":"RTD(\"cqg.rtd\", ,\"ContractData\",O306, \"PerCentNetLastTrade\",, \"T\")/100","v":{"$error":"#VALUE!"}},{"$error":"#N/A"},null,305,""]
[{"$f":"Symbols!A307","v":"S.US.MMC"},{"$f":"IFERROR(RTD(\"cqg.rtd\",,\"StudyData\",A307,\"Bar\",, \"High\",$C$1,\"0\",,,,,\"T\"),\"\")","v":170.89},{"$f":"IFERROR(RTD(\"cqg.rtd\",,\"StudyData\",A307,\"Bar\",, \"Low\",$C$1,\"0\",,,,,\"T\"),\"\")","v":169.31},{"$f":"IFERROR(RTD(\"cqg.rtd\",,\"StudyData\",\"HiLevel(\"&A307&\",Period1:=\"&$B$1&\",AllowGaps:=0,InputChoice1:=High,InputChoice3:=High)\",\"Bar\",, \"Close\",$C$1,\"-1\",,,,,\"T\"),\"\")","v":175.12},{"$f":"IFERROR(RTD(\"cqg.rtd\",,\"StudyData\",\"LoLevel(\"&A307&\",Period2:=\"&$B$1&\",AllowGaps:=0,InputChoice2:=Low,InputChoice4:=Low)\",\"Bar\",, \"Close\",$C$1,\"-1\",,,,,\"T\"),\"\")","v":126.53},0,0,10.085999999999952,14.001999999999999,"S.US.MMC",{"$f":"RTD(\"cqg.rtd\", ,\"ContractData\",A307, \"PerCentNetLastTrade\",, \"T\")/100","v":3.0042412818096138E-3},{"$f":"RANK($K307,$K$2:K$506)+COUNTIF($K$2:K307,K307)-1","v":{"$error":"#VALUE!"}},"S.US.MMC",306,"",{"$f":"RTD(\"cqg.rtd\", ,\"ContractData\",O307, \"PerCentNetLastTrade\",, \"T\")/100","v":{"$error":"#VALUE!"}},{"$error":"#N/A"},null,306,""]
[{"$f":"Symbols!A308","v":"S.US.MMM"},{"$f":"IFERROR(RTD(\"cqg.rtd\",,\"StudyData\",A308,\"Bar\",, \"High\",$C$1,\"0\",,,,,\"T\"),\"\")","v":148.33000000000001},{"$f":"IFERROR(RTD(\"cqg.rtd\",,\"StudyData\",A308,\"Bar\",, \"Low\",$C$1,\"0\",,,,,\"T\"),\"\")","v":147.25},{"$f":"IFERROR(RTD(\"cqg.rtd\",,\"StudyData\",\"HiLevel(\"&A308&\",Period1:=\"&$B$1&\",AllowGaps:=0,InputChoice1:=High,InputChoice3:=High)\",\"Bar\",, \"Close\",$C$1,\"-1\",,,,,\"T\"),\"\")","v":208.95},{"$f":"IFERROR(RTD(\"cqg.rtd\",,\"StudyData\",\"LoLevel(\"&A308&\",Period2:=\"&$B$1&\",AllowGaps:=0,InputChoice2:=Low,InputChoice4:=Low)\",\"Bar\",, \"Close\",$C$1,\"-1\",,,,,\"T\"),\"\")","v":139.74},0,0,10.086999999999952,14.002999999999998,"S.US.MMM",{"$f":"RTD(\"cqg.rtd\", ,\"ContractData\",A308, \"PerCentNetLastTrade\",, \"T\")/100","v":3.7997014520287694E-3},{"$f":"RANK($K308,$K$2:K$506)+COUNTIF($K$2:K308,K308)-1","v":{"$error":"#VALUE!"}},"S.US.MMM",307,"",{"$f":"RTD(\"cqg.rtd\", ,\"ContractData\",O308, \"PerCentNetLastTrade\",, \"T\")/100","v":{"$error":"#VALUE!"}},{"$error":"#N/A"},null,307,""]
[{"$f":"Symbols!A309","v":"S.US.MNST"},{"$f":"IFERROR(RTD(\"cqg.rtd\",,\"StudyData\",A309,\"Bar\",, \"High\",$C$1,\"0\",,,,,\"T\"),\"\")","v":82.65},{"$f":"IFERROR(RTD(\"cqg.rtd\",,\"StudyData\",A309,\"Bar\",, \"Low\",$C$1,\"0\",,,,,\"T\"),\"\")","v":82.06},{"$f":"IFERROR(RTD(\"cqg.rtd\",,\"StudyData\",\"HiLevel(\"&A309&\",Period1:=\"&$B$1&\",AllowGaps:=0,InputChoice1:=High,InputChoice3:=High)\",\"Bar\",, \"Close\",$C$1,\"-1\",,,,,\"T\"),\"\")","v":99.89},{"$f":"IFERROR(RTD(\"cqg.rtd\",,\"StudyData\",\"LoLevel(\"&A309&\",Period2:=\"&$B$1&\",AllowGaps:=0,InputChoice2:=Low,InputChoice4:=Low)\",\"Bar\",, \"Close\",$C$1,\"-1\",,,,,\"T\"),\"\")","v":71.77},0,0,10.087999999999951,14.003999999999998,"S.US.MNST",{"$f":"RTD(\"cqg.rtd\", ,\"ContractData\",A309, \"PerCentNetLastTrade\",, \"T\")/100","v":-3.753481050974694E-3},{"$f":"RANK($K309,$K$2:K$506)+COUNTIF($K$2:K309,K309)-1","v":{"$error":"#VALUE!"}},"S.US.MNST",308,"",{"$f":"RTD(\"cqg.rtd\", ,\"ContractData\",O309, \"PerCentNetLastTrade\",, \"T\")/100","v":{"$error":"#VALUE!"}},{"$error":"#N/A"},null,308,""]
[{"$f":"Symbols!A310","v":"S.US.MO"},{"$f":"IFERROR(RTD(\"cqg.rtd\",,\"StudyData\",A310,\"Bar\",, \"High\",$C$1,\"0\",,,,,\"T\"),\"\")","v":55.17},{"$f":"IFERROR(RTD(\"cqg.rtd\",,\"StudyData\",A310,\"Bar\",, \"Low\",$C$1,\"0\",,,,,\"T\"),\"\")","v":54.81},{"$f":"IFERROR(RTD(\"cqg.rtd\",,\"StudyData\",\"HiLevel(\"&A310&\",Period1:=\"&$B$1&\",AllowGaps:=0,InputChoice1:=High,InputChoice3:=High)\",\"Bar\",, \"Close\",$C$1,\"-1\",,,,,\"T\"),\"\")","v":55.33},{"$f":"IFERROR(RTD(\"cqg.rtd\",,\"StudyData\",\"LoLevel(\"&A310&\",Period2:=\"&$B$1&\",AllowGaps:=0,InputChoice2:=Low,InputChoice4:=Low)\",\"Bar\",, \"Close\",$C$1,\"-1\",,,,,\"T\"),\"\")","v":42.53},0,0,10.088999999999951,14.004999999999997,"S.US.MO",{"$f":"RTD(\"cqg.rtd\", ,\"ContractData\",A310, \"PerCentNetLastTrade\",, \"T\")/100","v":2.1826118588577663E-3},{"$f":"RANK($K310,$K$2:K$506)+COUNTIF($K$2:K310,K310)-1","v":{"$error":"#VALUE!"}},"S.US.MO",309,"",{"$f":"RTD(\"cqg.rtd\", ,\"ContractData\",O310, \"PerCentNetLastTrade\",, \"T\")/100","v":{"$error":"#VALUE!"}},{"$error":"#N/A"},null,309,""]
[{"$f":"Symbols!A311","v":"S.US.MOH"},{"$f":"IFERROR(RTD(\"cqg.rtd\",,\"StudyData\",A311,\"Bar\",, \"High\",$C$1,\"0\",,,,,\"T\"),\"\")","v":336.21},{"$f":"IFERROR(RTD(\"cqg.rtd\",,\"StudyData\",A311,\"Bar\",, \"Low\",$C$1,\"0\",,,,,\"T\"),\"\")","v":335.86},{"$f":"IFERROR(RTD(\"cqg.rtd\",,\"StudyData\",\"HiLevel(\"&A311&\",Period1:=\"&$B$1&\",AllowGaps:=0,InputChoice1:=High,InputChoice3:=High)\",\"Bar\",, \"Close\",$C$1,\"-1\",,,,,\"T\"),\"\")","v":347.62},{"$f":"IFERROR(RTD(\"cqg.rtd\",,\"StudyData\",\"LoLevel(\"&A311&\",Period2:=\"&$B$1&\",AllowGaps:=0,InputChoice2:=Low,InputChoice4:=Low)\",\"Bar\",, \"Close\",$C$1,\"-1\",,,,,\"T\"),\"\")","v":239.2},0,0,10.08999999999995,14.005999999999997,"S.US.MOH",{"$f":"RTD(\"cqg.rtd\", ,\"ContractData\",A311, \"PerCentNetLastTrade\",, \"T\")/100","v":8.9301661010894801E-5},{"$f":"RANK($K311,$K$2:K$506)+COUNTIF($K$2:K311,K311)-1","v":{"$error":"#VALUE!"}},"S.US.MOH",310,"",{"$f":"RTD(\"cqg.rtd\", ,\"ContractData\",O311, \"PerCentNetLastTrade\",, \"T\")/100","v":{"$error":"#VALUE!"}},{"$error":"#N/A"},null,310,""]
[{"$f":"Symbols!A312","v":"S.US.MOS"},{"$f":"IFERROR(RTD(\"cqg.rtd\",,\"StudyData\",A312,\"Bar\",, \"High\",$C$1,\"0\",,,,,\"T\"),\"\")","v":77.42},{"$f":"IFERROR(RTD(\"cqg.rtd\",,\"StudyData\",A312,\"Bar\",, \"Low\",$C$1,\"0\",,,,,\"T\"),\"\")","v":75.22},{"$f":"IFERROR(RTD(\"cqg.rtd\",,\"StudyData\",\"HiLevel(\"&A312&\",Period1:=\"&$B$1&\",AllowGaps:=0,InputChoice1:=High,InputChoice3:=High)\",\"Bar\",, \"Close\",$C$1,\"-1\",,,,,\"T\"),\"\")","v":77.05},{"$f":"IFERROR(RTD(\"cqg.rtd\",,\"StudyData\",\"LoLevel(\"&A312&\",Period2:=\"&$B$1&\",AllowGaps:=0,InputChoice2:=Low,InputChoice4:=Low)\",\"Bar\",, \"Close\",$C$1,\"-1\",,,,,\"T\"),\"\")","v":28.26},1,0,11,14.006999999999996,"S.US.MOS",{"$f":"RTD(\"cqg.rtd\", ,\"ContractData\",A312, \"PerCentNetLastTrade\",, \"T\")/100","v":1.3675213675213675E-2},{"$f":"RANK($K312,$K$2:K$506)+COUNTIF($K$2:K312,K312)-1","v":{"$error":"#VALUE!"}},"S.US.MOS",311,"",{"$f":"RTD(\"cqg.rtd\", ,\"ContractData\",O312, \"PerCentNetLastTrade\",, \"T\")/100","v":{"$error":"#VALUE!"}},{"$error":"#N/A"},null,311,""]
[{"$f":"Symbols!A313","v":"S.US.MPC"},{"$f":"IFERROR(RTD(\"cqg.rtd\",,\"StudyData\",A313,\"Bar\",, \"High\",$C$1,\"0\",,,,,\"T\"),\"\")","v":89.33},{"$f":"IFERROR(RTD(\"cqg.rtd\",,\"StudyData\",A313,\"Bar\",, \"Low\",$C$1,\"0\",,,,,\"T\"),\"\")","v":88.03},{"$f":"IFERROR(RTD(\"cqg.rtd\",,\"StudyData\",\"HiLevel(\"&A313&\",Period1:=\"&$B$1&\",AllowGaps:=0,InputChoice1:=High,InputChoice3:=High)\",\"Bar\",, \"Close\",$C$1,\"-1\",,,,,\"T\"),\"\")","v":88.32},{"$f":"IFERROR(RTD(\"cqg.rtd\",,\"StudyData\",\"LoLevel(\"&A313&\",Period2:=\"&$B$1&\",AllowGaps:=0,InputChoice2:=Low,InputChoice4:=Low)\",\"Bar\",, \"Close\",$C$1,\"-1\",,,,,\"T\"),\"\")","v":50.19},1,0,12,14.007999999999996,"S.US.MPC",{"$f":"RTD(\"cqg.rtd\", ,\"ContractData\",A313, \"PerCentNetLastTrade\",, \"T\")/100","v":2.4426605504587154E-2},{"$f":"RANK($K313,$K$2:K$506)+COUNTIF($K$2:K313,K313)-1","v":{"$error":"#VALUE!"}},"S.US.MPC",312,"",{"$f":"RTD(\"cqg.rtd\", ,\"ContractData\",O313, \"PerCentNetLastTrade\",, \"T\")/100","v":{"$error":"#VALUE!"}},{"$error":"#N/A"},null,312,""]
[{"$f":"Symbols!A314","v":"S.US.MPWR"},{"$f":"IFERROR(RTD(\"cqg.rtd\",,\"StudyData\",A314,\"Bar\",, \"High\",$C$1,\"0\",,,,,\"T\"),\"\")","v":413.35},{"$f":"IFERROR(RTD(\"cqg.rtd\",,\"StudyData\",A314,\"Bar\",, \"Low\",$C$1,\"0\",,,,,\"T\"),\"\")","v":407.72},{"$f":"IFERROR(RTD(\"cqg.rtd\",,\"StudyData\",\"HiLevel(\"&A314&\",Period1:=\"&$B$1&\",AllowGaps:=0,InputChoice1:=High,InputChoice3:=High)\",\"Bar\",, \"Close\",$C$1,\"-1\",,,,,\"T\"),\"\")","v":580},{"$f":"IFERROR(RTD(\"cqg.rtd\",,\"StudyData\",\"LoLevel(\"&A314&\",Period2:=\"&$B$1&\",AllowGaps:=0,InputChoice2:=Low,InputChoice4:=Low)\",\"Bar\",, \"Close\",$C$1,\"-1\",,,,,\"T\"),\"\")","v":301.52999999999997},0,0,12.000999999999999,14.008999999999995,"S.US.MPWR",{"$f":"RTD(\"cqg.rtd\", ,\"ContractData\",A314, \"PerCentNetLastTrade\",, \"T\")/100","v":2.1495920660511017E-3},{"$f":"RANK($K314,$K$2:K$506)+COUNTIF($K$2:K314,K314)-1","v":{"$error":"#VALUE!"}},"S.US.MPWR",313,"",{"$f":"RTD(\"cqg.rtd\", ,\"ContractData\",O314, \"PerCentNetLastTrade\",, \"T\")/100","v":{"$error":"#VALUE!"}},{"$error":"#N/A"},null,313,""]
[{"$f":"Symbols!A315","v":"S.US.MRK"},{"$f":"IFERROR(RTD(\"cqg.rtd\",,\"StudyData\",A315,\"Bar\",, \"High\",$C$1,\"0\",,,,,\"T\"),\"\")","v":87.45},{"$f":"IFERROR(RTD(\"cqg.rtd\",,\"StudyData\",A315,\"Bar\",, \"Low\",$C$1,\"0\",,,,,\"T\"),\"\")","v":86.41},{"$f":"IFERROR(RTD(\"cqg.rtd\",,\"StudyData\",\"HiLevel(\"&A315&\",Period1:=\"&$B$1&\",AllowGaps:=0,InputChoice1:=High,InputChoice3:=High)\",\"Bar\",, \"Close\",$C$1,\"-1\",,,,,\"T\"),\"\")","v":91.4},{"$f":"IFERROR(RTD(\"cqg.rtd\",,\"StudyData\",\"LoLevel(\"&A315&\",Period2:=\"&$B$1&\",AllowGaps:=0,InputChoice2:=Low,InputChoice4:=Low)\",\"Bar\",, \"Close\",$C$1,\"-1\",,,,,\"T\"),\"\")","v":70.89},0,0,12.001999999999999,14.009999999999994,"S.US.MRK",{"$f":"RTD(\"cqg.rtd\", ,\"ContractData\",A315, \"PerCentNetLastTrade\",, \"T\")/100","v":4.2572776435392933E-3},{"$f":"RANK($K315,$K$2:K$506)+COUNTIF($K$2:K315,K315)-1","v":{"$error":"#VALUE!"}},"S.US.MRK",314,"",{"$f":"RTD(\"cqg.rtd\", ,\"ContractData\",O315, \"PerCentNetLastTrade\",, \"T\")/100","v":{"$error":"#VALUE!"}},{"$error":"#N/A"},null,314,""]
[{"$f":"Symbols!A316","v":"S.US.MRNA"},{"$f":"IFERROR(RTD(\"cqg.rtd\",,\"StudyData\",A316,\"Bar\",, \"High\",$C$1,\"0\",,,,,\"T\"),\"\")","v":165.88},{"$f":"IFERROR(RTD(\"cqg.rtd\",,\"StudyData\",A316,\"Bar\",, \"Low\",$C$1,\"0\",,,,,\"T\"),\"\")","v":157.81},{"$f":"IFERROR(RTD(\"cqg.rtd\",,\"StudyData\",\"HiLevel(\"&A316&\",Period1:=\"&$B$1&\",AllowGaps:=0,InputChoice1:=High,InputChoice3:=High)\",\"Bar\",, \"Close\",$C$1,\"-1\",,,,,\"T\"),\"\")","v":497.49},{"$f":"IFERROR(RTD(\"cqg.rtd\",,\"StudyData\",\"LoLevel(\"&A316&\",Period2:=\"&$B$1&\",AllowGaps:=0,InputChoice2:=Low,InputChoice4:=Low)\",\"Bar\",, \"Close\",$C$1,\"-1\",,,,,\"T\"),\"\")","v":122.01},0,0,12.002999999999998,14.010999999999994,"S.US.MRNA",{"$f":"RTD(\"cqg.rtd\", ,\"ContractData\",A316, \"PerCentNetLastTrade\",, \"T\")/100","v":-4.2177775092150586E-2},{"$f":"RANK($K316,$K$2:K$506)+COUNTIF($K$2:K316,K316)-1","v":{"$error":"#VALUE!"}},"S.US.MRNA",315,"",{"$f":"RTD(\"cqg.rtd\", ,\"ContractData\",O316, \"PerCentNetLastTrade\",, \"T\")/100","v":{"$error":"#VALUE!"}},{"$error":"#N/A"},null,315,""]
[{"$f":"Symbols!A317","v":"S.US.MRO"},{"$f":"IFERROR(RTD(\"cqg.rtd\",,\"StudyData\",A317,\"Bar\",, \"High\",$C$1,\"0\",,,,,\"T\"),\"\")","v":27.36},{"$f":"IFERROR(RTD(\"cqg.rtd\",,\"StudyData\",A317,\"Bar\",, \"Low\",$C$1,\"0\",,,,,\"T\"),\"\")","v":26.7},{"$f":"IFERROR(RTD(\"cqg.rtd\",,\"StudyData\",\"HiLevel(\"&A317&\",Period1:=\"&$B$1&\",AllowGaps:=0,InputChoice1:=High,InputChoice3:=High)\",\"Bar\",, \"Close\",$C$1,\"-1\",,,,,\"T\"),\"\")","v":26.95},{"$f":"IFERROR(RTD(\"cqg.rtd\",,\"StudyData\",\"LoLevel(\"&A317&\",Period2:=\"&$B$1&\",AllowGaps:=0,InputChoice2:=Low,InputChoice4:=Low)\",\"Bar\",, \"Close\",$C$1,\"-1\",,,,,\"T\"),\"\")","v":9.6999999999999993},1,0,13,14.011999999999993,"S.US.MRO",{"$f":"RTD(\"cqg.rtd\", ,\"ContractData\",A317, \"PerCentNetLastTrade\",, \"T\")/100","v":2.2172115745960164E-2},{"$f":"RANK($K317,$K$2:K$506)+COUNTIF($K$2:K317,K317)-1","v":{"$error":"#VALUE!"}},"S.US.MRO",316,"",{"$f":"RTD(\"cqg.rtd\", ,\"ContractData\",O317, \"PerCentNetLastTrade\",, \"T\")/100","v":{"$error":"#VALUE!"}},{"$error":"#N/A"},null,316,""]
[{"$f":"Symbols!A318","v":"S.US.MS"},{"$f":"IFERROR(RTD(\"cqg.rtd\",,\"StudyData\",A318,\"Bar\",, \"High\",$C$1,\"0\",,,,,\"T\"),\"\")","v":86.64},{"$f":"IFERROR(RTD(\"cqg.rtd\",,\"StudyData\",A318,\"Bar\",, \"Low\",$C$1,\"0\",,,,,\"T\"),\"\")","v":84.32},{"$f":"IFERROR(RTD(\"cqg.rtd\",,\"StudyData\",\"HiLevel(\"&A318&\",Period1:=\"&$B$1&\",AllowGaps:=0,InputChoice1:=High,InputChoice3:=High)\",\"Bar\",, \"Close\",$C$1,\"-1\",,,,,\"T\"),\"\")","v":109.73},{"$f":"IFERROR(RTD(\"cqg.rtd\",,\"StudyData\",\"LoLevel(\"&A318&\",Period2:=\"&$B$1&\",AllowGaps:=0,InputChoice2:=Low,InputChoice4:=Low)\",\"Bar\",, \"Close\",$C$1,\"-1\",,,,,\"T\"),\"\")","v":76.25},0,0,13.000999999999999,14.012999999999993,"S.US.MS",{"$f":"RTD(\"cqg.rtd\", ,\"ContractData\",A318, \"PerCentNetLastTrade\",, \"T\")/100","v":1.9938650306748466E-2},{"$f":"RANK($K318,$K$2:K$506)+COUNTIF($K$2:K318,K318)-1","v":{"$error":"#VALUE!"}},"S.US.MS",317,"",{"$f":"RTD(\"cqg.rtd\", ,\"ContractData\",O318, \"PerCentNetLastTrade\",, \"T\")/100","v":{"$error":"#VALUE!"}},{"$error":"#N/A"},null,317,""]
[{"$f":"Symbols!A319","v":"S.US.MSCI"},{"$f":"IFERROR(RTD(\"cqg.rtd\",,\"StudyData\",A319,\"Bar\",, \"High\",$C$1,\"0\",,,,,\"T\"),\"\")","v":482.86},{"$f":"IFERROR(RTD(\"cqg.rtd\",,\"StudyData\",A319,\"Bar\",, \"Low\",$C$1,\"0\",,,,,\"T\"),\"\")","v":480.32},{"$f":"IFERROR(RTD(\"cqg.rtd\",,\"StudyData\",\"HiLevel(\"&A319&\",Period1:=\"&$B$1&\",AllowGaps:=0,InputChoice1:=High,InputChoice3:=High)\",\"Bar\",, \"Close\",$C$1,\"-1\",,,,,\"T\"),\"\")","v":679.85},{"$f":"IFERROR(RTD(\"cqg.rtd\",,\"StudyData\",\"LoLevel(\"&A319&\",Period2:=\"&$B$1&\",AllowGaps:=0,InputChoice2:=Low,InputChoice4:=Low)\",\"Bar\",, \"Close\",$C$1,\"-1\",,,,,\"T\"),\"\")","v":443},0,0,13.001999999999999,14.013999999999992,"S.US.MSCI",{"$f":"RTD(\"cqg.rtd\", ,\"ContractData\",A319, \"PerCentNetLastTrade\",, \"T\")/100","v":-2.6310337683861612E-3},{"$f":"RANK($K319,$K$2:K$506)+COUNTIF($K$2:K319,K319)-1","v":{"$error":"#VALUE!"}},"S.US.MSCI",318,"",{"$f":"RTD(\"cqg.rtd\", ,\"ContractData\",O319, \"PerCentNetLastTrade\",, \"T\")/100","v":{"$error":"#VALUE!"}},{"$error":"#N/A"},null,318,""]
[{"$f":"Symbols!A320","v":"S.US.MSFT"},{"$f":"IFERROR(RTD(\"cqg.rtd\",,\"StudyData\",A320,\"Bar\",, \"High\",$C$1,\"0\",,,,,\"T\"),\"\")","v":281.89999999999998},{"$f":"IFERROR(RTD(\"cqg.rtd\",,\"StudyData\",A320,\"Bar\",, \"Low\",$C$1,\"0\",,,,,\"T\"),\"\")","v":278.91000000000003},{"$f":"IFERROR(RTD(\"cqg.rtd\",,\"StudyData\",\"HiLevel(\"&A320&\",Period1:=\"&$B$1&\",AllowGaps:=0,InputChoice1:=High,InputChoice3:=High)\",\"Bar\",, \"Close\",$C$1,\"-1\",,,,,\"T\"),\"\")","v":349.67},{"$f":"IFERROR(RTD(\"cqg.rtd\",,\"StudyData\",\"LoLevel(\"&A320&\",Period2:=\"&$B$1&\",AllowGaps:=0,InputChoice2:=Low,InputChoice4:=Low)\",\"Bar\",, \"Close\",$C$1,\"-1\",,,,,\"T\"),\"\")","v":238.07},0,0,13.002999999999998,14.014999999999992,"S.US.MSFT",{"$f":"RTD(\"cqg.rtd\", ,\"ContractData\",A320, \"PerCentNetLastTrade\",, \"T\")/100","v":-2.8231426223064003E-3},{"$f":"RANK($K320,$K$2:K$506)+COUNTIF($K$2:K320,K320)-1","v":{"$error":"#VALUE!"}},"S.US.MSFT",319,"",{"$f":"RTD(\"cqg.rtd\", ,\"ContractData\",O320, \"PerCentNetLastTrade\",, \"T\")/100","v":{"$error":"#VALUE!"}},{"$error":"#N/A"},null,319,""]
[{"$f":"Symbols!A321","v":"S.US.MSI"},{"$f":"IFERROR(RTD(\"cqg.rtd\",,\"StudyData\",A321,\"Bar\",, \"High\",$C$1,\"0\",,,,,\"T\"),\"\")","v":233.94},{"$f":"IFERROR(RTD(\"cqg.rtd\",,\"StudyData\",A321,\"Bar\",, \"Low\",$C$1,\"0\",,,,,\"T\"),\"\")","v":231.53},{"$f":"IFERROR(RTD(\"cqg.rtd\",,\"StudyData\",\"HiLevel(\"&A321&\",Period1:=\"&$B$1&\",AllowGaps:=0,InputChoice1:=High,InputChoice3:=High)\",\"Bar\",, \"Close\",$C$1,\"-1\",,,,,\"T\"),\"\")","v":273.64},{"$f":"IFERROR(RTD(\"cqg.rtd\",,\"StudyData\",\"LoLevel(\"&A321&\",Period2:=\"&$B$1&\",AllowGaps:=0,InputChoice2:=Low,InputChoice4:=Low)\",\"Bar\",, \"Close\",$C$1,\"-1\",,,,,\"T\"),\"\")","v":184.54},0,0,13.003999999999998,14.015999999999991,"S.US.MSI",{"$f":"RTD(\"cqg.rtd\", ,\"ContractData\",A321, \"PerCentNetLastTrade\",, \"T\")/100","v":-2.5730091341824265E-4},{"$f":"RANK($K321,$K$2:K$506)+COUNTIF($K$2:K321,K321)-1","v":{"$error":"#VALUE!"}},"S.US.MSI",320,"",{"$f":"RTD(\"cqg.rtd\", ,\"ContractData\",O321, \"PerCentNetLastTrade\",, \"T\")/100","v":{"$error":"#VALUE!"}},{"$error":"#N/A"},null,320,""]
[{"$f":"Symbols!A322","v":"S.US.MTB"},{"$f":"IFERROR(RTD(\"cqg.rtd\",,\"StudyData\",A322,\"Bar\",, \"High\",$C$1,\"0\",,,,,\"T\"),\"\")","v":160},{"$f":"IFERROR(RTD(\"cqg.rtd\",,\"StudyData\",A322,\"Bar\",, \"Low\",$C$1,\"0\",,,,,\"T\"),\"\")","v":158.37},{"$f":"IFERROR(RTD(\"cqg.rtd\",,\"StudyData\",\"HiLevel(\"&A322&\",Period1:=\"&$B$1&\",AllowGaps:=0,InputChoice1:=High,InputChoice3:=High)\",\"Bar\",, \"Close\",$C$1,\"-1\",,,,,\"T\"),\"\")","v":186.95},{"$f":"IFERROR(RTD(\"cqg.rtd\",,\"StudyData\",\"LoLevel(\"&A322&\",Period2:=\"&$B$1&\",AllowGaps:=0,InputChoice2:=Low,InputChoice4:=Low)\",\"Bar\",, \"Close\",$C$1,\"-1\",,,,,\"T\"),\"\")","v":128.46},0,0,13.004999999999997,14.016999999999991,"S.US.MTB",{"$f":"RTD(\"cqg.rtd\", ,\"ContractData\",A322, \"PerCentNetLastTrade\",, \"T\")/100","v":2.3188769115066433E-3},{"$f":"RANK($K322,$K$2:K$506)+COUNTIF($K$2:K322,K322)-1","v":{"$error":"#VALUE!"}},"S.US.MTB",321,{"$f":"IFERROR(VLOOKUP(N322,$L$2:$M$506,2,FALSE),\"\")","v":""},{"$f":"RTD(\"cqg.rtd\", ,\"ContractData\",O322, \"PerCentNetLastTrade\",, \"T\")/100","v":{"$error":"#VALUE!"}},{"$f":"VLOOKUP(O322,$A$2:$H$506,8,FALSE)","v":{"$error":"#N/A"}},null,321,{"$f":"IFERROR(VLOOKUP(S322,$H$2:$J$506,3,FALSE),\"\")","v":""}]
[{"$f":"Symbols!A323","v":"S.US.MTCH"},{"$f":"IFERROR(RTD(\"cqg.rtd\",,\"StudyData\",A323,\"Bar\",, \"High\",$C$1,\"0\",,,,,\"T\"),\"\")","v":91.3},{"$f":"IFERROR(RTD(\"cqg.rtd\",,\"StudyData\",A323,\"Bar\",, \"Low\",$C$1,\"0\",,,,,\"T\"),\"\")","v":89.41},{"$f":"IFERROR(RTD(\"cqg.rtd\",,\"StudyData\",\"HiLevel(\"&A323&\",Period1:=\"&$B$1&\",AllowGaps:=0,InputChoice1:=High,InputChoice3:=High)\",\"Bar\",, \"Close\",$C$1,\"-1\",,,,,\"T\"),\"\")","v":182},{"$f":"IFERROR(RTD(\"cqg.rtd\",,\"StudyData\",\"LoLevel(\"&A323&\",Period2:=\"&$B$1&\",AllowGaps:=0,InputChoice2:=Low,InputChoice4:=Low)\",\"Bar\",, \"Close\",$C$1,\"-1\",,,,,\"T\"),\"\")","v":84.2},0,0,13.005999999999997,14.01799999999999,"S.US.MTCH",{"$f":"RTD(\"cqg.rtd\", ,\"ContractData\",A323, \"PerCentNetLastTrade\",, \"T\")/100","v":-2.6492942453854505E-2},{"$f":"RANK($K323,$K$2:K$506)+COUNTIF($K$2:K323,K323)-1","v":{"$error":"#VALUE!"}},"S.US.MTCH",322,"",{"$f":"RTD(\"cqg.rtd\", ,\"ContractData\",O323, \"PerCentNetLastTrade\",, \"T\")/100","v":{"$error":"#VALUE!"}},{"$error":"#N/A"},null,322,""]
[{"$f":"Symbols!A324","v":"S.US.MTD"},{"$f":"IFERROR(RTD(\"cqg.rtd\",,\"StudyData\",A324,\"Bar\",, \"High\",$C$1,\"0\",,,,,\"T\"),\"\")","v":1315.43},{"$f":"IFERROR(RTD(\"cqg.rtd\",,\"StudyData\",A324,\"Bar\",, \"Low\",$C$1,\"0\",,,,,\"T\"),\"\")","v":1307.6199999999999},{"$f":"IFERROR(RTD(\"cqg.rtd\",,\"StudyData\",\"HiLevel(\"&A324&\",Period1:=\"&$B$1&\",AllowGaps:=0,InputChoice1:=High,InputChoice3:=High)\",\"Bar\",, \"Close\",$C$1,\"-1\",,,,,\"T\"),\"\")","v":1714.75},{"$f":"IFERROR(RTD(\"cqg.rtd\",,\"StudyData\",\"LoLevel(\"&A324&\",Period2:=\"&$B$1&\",AllowGaps:=0,InputChoice2:=Low,InputChoice4:=Low)\",\"Bar\",, \"Close\",$C$1,\"-1\",,,,,\"T\"),\"\")","v":1225.56},0,0,13.006999999999996,14.018999999999989,"S.US.MTD",{"$f":"RTD(\"cqg.rtd\", ,\"ContractData\",A324, \"PerCentNetLastTrade\",, \"T\")/100","v":-2.2224582056494433E-3},{"$f":"RANK($K324,$K$2:K$506)+COUNTIF($K$2:K324,K324)-1","v":{"$error":"#VALUE!"}},{"$f":"J324","v":"S.US.MTD"},{"$f":"N323+1","v":323},"",{"$f":"RTD(\"cqg.rtd\", ,\"ContractData\",O324, \"PerCentNetLastTrade\",, \"T\")/100","v":{"$error":"#VALUE!"}},{"$error":"#N/A"},null,{"$f":"S323+1","v":323},""]
[{"$f":"Symbols!A325","v":"S.US.MU"},{"$f":"IFERROR(RTD(\"cqg.rtd\",,\"StudyData\",A325,\"Bar\",, \"High\",$C$1,\"0\",,,,,\"T\"),\"\")","v":71.02},{"$f":"IFERROR(RTD(\"cqg.rtd\",,\"StudyData\",A325,\"Bar\",, \"Low\",$C$1,\"0\",,,,,\"T\"),\"\")","v":70.05},{"$f":"IFERROR(RTD(\"cqg.rtd\",,\"StudyData\",\"HiLevel(\"&A325&\",Period1:=\"&$B$1&\",AllowGaps:=0,InputChoice1:=High,InputChoice3:=High)\",\"Bar\",, \"Close\",$C$1,\"-1\",,,,,\"T\"),\"\")","v":98.45},{"$f":"IFERROR(RTD(\"cqg.rtd\",,\"StudyData\",\"LoLevel(\"&A325&\",Period2:=\"&$B$1&\",AllowGaps:=0,InputChoice2:=Low,InputChoice4:=Low)\",\"Bar\",, \"Close\",$C$1,\"-1\",,,,,\"T\"),\"\")","v":65.67},0,0,13.007999999999996,14.019999999999989,"S.US.MU",{"$f":"RTD(\"cqg.rtd\", ,\"ContractData\",A325, \"PerCentNetLastTrade\",, \"T\")/100","v":6.5592471125053477E-3},{"$f":"RANK($K325,$K$2:K$506)+COUNTIF($K$2:K325,K325)-1","v":{"$error":"#VALUE!"}},"S.US.MU",324,"",{"$f":"RTD(\"cqg.rtd\", ,\"ContractData\",O325, \"PerCentNetLastTrade\",, \"T\")/100","v":{"$error":"#VALUE!"}},{"$error":"#N/A"},null,324,""]
[{"$f":"Symbols!A326","v":"S.US.NCLH"},{"$f":"IFERROR(RTD(\"cqg.rtd\",,\"StudyData\",A326,\"Bar\",, \"High\",$C$1,\"0\",,,,,\"T\"),\"\")","v":21.48},{"$f":"IFERROR(RTD(\"cqg.rtd\",,\"StudyData\",A326,\"Bar\",, \"Low\",$C$1,\"0\",,,,,\"T\"),\"\")","v":21.2},{"$f":"IFERROR(RTD(\"cqg.rtd\",,\"StudyData\",\"HiLevel(\"&A326&\",Period1:=\"&$B$1&\",AllowGaps:=0,InputChoice1:=High,InputChoice3:=High)\",\"Bar\",, \"Close\",$C$1,\"-1\",,,,,\"T\"),\"\")","v":33.950000000000003},{"$f":"IFERROR(RTD(\"cqg.rtd\",,\"StudyData\",\"LoLevel(\"&A326&\",Period2:=\"&$B$1&\",AllowGaps:=0,InputChoice2:=Low,InputChoice4:=Low)\",\"Bar\",, \"Close\",$C$1,\"-1\",,,,,\"T\"),\"\")","v":14.9},0,0,13.008999999999995,14.020999999999988,"S.US.NCLH",{"$f":"RTD(\"cqg.rtd\", ,\"ContractData\",A326, \"PerCentNetLastTrade\",, \"T\")/100","v":-1.0628465804066543E-2},{"$f":"RANK($K326,$K$2:K$506)+COUNTIF($K$2:K326,K326)-1","v":{"$error":"#VALUE!"}},"S.US.NCLH",325,"",{"$f":"RTD(\"cqg.rtd\", ,\"ContractData\",O326, \"PerCentNetLastTrade\",, \"T\")/100","v":{"$error":"#VALUE!"}},{"$error":"#N/A"},null,325,""]
[{"$f":"Symbols!A327","v":"S.US.NDAQ"},{"$f":"IFERROR(RTD(\"cqg.rtd\",,\"StudyData\",A327,\"Bar\",, \"High\",$C$1,\"0\",,,,,\"T\"),\"\")","v":178.67},{"$f":"IFERROR(RTD(\"cqg.rtd\",,\"StudyData\",A327,\"Bar\",, \"Low\",$C$1,\"0\",,,,,\"T\"),\"\")","v":177.42},{"$f":"IFERROR(RTD(\"cqg.rtd\",,\"StudyData\",\"HiLevel(\"&A327&\",Period1:=\"&$B$1&\",AllowGaps:=0,InputChoice1:=High,InputChoice3:=High)\",\"Bar\",, \"Close\",$C$1,\"-1\",,,,,\"T\"),\"\")","v":214.95},{"$f":"IFERROR(RTD(\"cqg.rtd\",,\"StudyData\",\"LoLevel(\"&A327&\",Period2:=\"&$B$1&\",AllowGaps:=0,InputChoice2:=Low,InputChoice4:=Low)\",\"Bar\",, \"Close\",$C$1,\"-1\",,,,,\"T\"),\"\")","v":156.72},0,0,13.009999999999994,14.021999999999988,"S.US.NDAQ",{"$f":"RTD(\"cqg.rtd\", ,\"ContractData\",A327, \"PerCentNetLastTrade\",, \"T\")/100","v":-3.0243629235508262E-3},{"$f":"RANK($K327,$K$2:K$506)+COUNTIF($K$2:K327,K327)-1","v":{"$error":"#VALUE!"}},"S.US.NDAQ",326,"",{"$f":"RTD(\"cqg.rtd\", ,\"ContractData\",O327, \"PerCentNetLastTrade\",, \"T\")/100","v":{"$error":"#VALUE!"}},{"$error":"#N/A"},null,326,""]
[{"$f":"Symbols!A328","v":"S.US.NDSN"},{"$f":"IFERROR(RTD(\"cqg.rtd\",,\"StudyData\",A328,\"Bar\",, \"High\",$C$1,\"0\",,,,,\"T\"),\"\")","v":216.15},{"$f":"IFERROR(RTD(\"cqg.rtd\",,\"StudyData\",A328,\"Bar\",, \"Low\",$C$1,\"0\",,,,,\"T\"),\"\")","v":214.39},{"$f":"IFERROR(RTD(\"cqg.rtd\",,\"StudyData\",\"HiLevel(\"&A328&\",Period1:=\"&$B$1&\",AllowGaps:=0,InputChoice1:=High,InputChoice3:=High)\",\"Bar\",, \"Close\",$C$1,\"-1\",,,,,\"T\"),\"\")","v":272.27999999999997},{"$f":"IFERROR(RTD(\"cqg.rtd\",,\"StudyData\",\"LoLevel(\"&A328&\",Period2:=\"&$B$1&\",AllowGaps:=0,InputChoice2:=Low,InputChoice4:=Low)\",\"Bar\",, \"Close\",$C$1,\"-1\",,,,,\"T\"),\"\")","v":197.2},0,0,13.010999999999994,14.022999999999987,"S.US.NDSN",{"$f":"RTD(\"cqg.rtd\", ,\"ContractData\",A328, \"PerCentNetLastTrade\",, \"T\")/100","v":2.468100959299618E-3},{"$f":"RANK($K328,$K$2:K$506)+COUNTIF($K$2:K328,K328)-1","v":{"$error":"#VALUE!"}},"S.US.NDSN",327,"",{"$f":"RTD(\"cqg.rtd\", ,\"ContractData\",O328, \"PerCentNetLastTrade\",, \"T\")/100","v":{"$error":"#VALUE!"}},{"$error":"#N/A"},null,327,""]
[{"$f":"Symbols!A329","v":"S.US.NEE"},{"$f":"IFERROR(RTD(\"cqg.rtd\",,\"StudyData\",A329,\"Bar\",, \"High\",$C$1,\"0\",,,,,\"T\"),\"\")","v":83.61},{"$f":"IFERROR(RTD(\"cqg.rtd\",,\"StudyData\",A329,\"Bar\",, \"Low\",$C$1,\"0\",,,,,\"T\"),\"\")","v":82.86},{"$f":"IFERROR(RTD(\"cqg.rtd\",,\"StudyData\",\"HiLevel(\"&A329&\",Period1:=\"&$B$1&\",AllowGaps:=0,InputChoice1:=High,InputChoice3:=High)\",\"Bar\",, \"Close\",$C$1,\"-1\",,,,,\"T\"),\"\")","v":93.73},{"$f":"IFERROR(RTD(\"cqg.rtd\",,\"StudyData\",\"LoLevel(\"&A329&\",Period2:=\"&$B$1&\",AllowGaps:=0,InputChoice2:=Low,InputChoice4:=Low)\",\"Bar\",, \"Close\",$C$1,\"-1\",,,,,\"T\"),\"\")","v":69.790000000000006},0,0,13.011999999999993,14.023999999999987,"S.US.NEE",{"$f":"RTD(\"cqg.rtd\", ,\"ContractData\",A329, \"PerCentNetLastTrade\",, \"T\")/100","v":6.2794348508634227E-3},{"$f":"RANK($K329,$K$2:K$506)+COUNTIF($K$2:K329,K329)-1","v":{"$error":"#VALUE!"}},"S.US.NEE",328,"",{"$f":"RTD(\"cqg.rtd\", ,\"ContractData\",O329, \"PerCentNetLastTrade\",, \"T\")/100","v":{"$error":"#VALUE!"}},{"$error":"#N/A"},null,328,""]
[{"$f":"Symbols!A330","v":"S.US.NEM"},{"$f":"IFERROR(RTD(\"cqg.rtd\",,\"StudyData\",A330,\"Bar\",, \"High\",$C$1,\"0\",,,,,\"T\"),\"\")","v":86.25},{"$f":"IFERROR(RTD(\"cqg.rtd\",,\"StudyData\",A330,\"Bar\",, \"Low\",$C$1,\"0\",,,,,\"T\"),\"\")","v":85.34},{"$f":"IFERROR(RTD(\"cqg.rtd\",,\"StudyData\",\"HiLevel(\"&A330&\",Period1:=\"&$B$1&\",AllowGaps:=0,InputChoice1:=High,InputChoice3:=High)\",\"Bar\",, \"Close\",$C$1,\"-1\",,,,,\"T\"),\"\")","v":85.29},{"$f":"IFERROR(RTD(\"cqg.rtd\",,\"StudyData\",\"LoLevel(\"&A330&\",Period2:=\"&$B$1&\",AllowGaps:=0,InputChoice2:=Low,InputChoice4:=Low)\",\"Bar\",, \"Close\",$C$1,\"-1\",,,,,\"T\"),\"\")","v":52.6},1,0,14,14.024999999999986,"S.US.NEM",{"$f":"RTD(\"cqg.rtd\", ,\"ContractData\",A330, \"PerCentNetLastTrade\",, \"T\")/100","v":1.0852896071723487E-2},{"$f":"RANK($K330,$K$2:K$506)+COUNTIF($K$2:K330,K330)-1","v":{"$error":"#VALUE!"}},"S.US.NEM",329,"",{"$f":"RTD(\"cqg.rtd\", ,\"ContractData\",O330, \"PerCentNetLastTrade\",, \"T\")/100","v":{"$error":"#VALUE!"}},{"$error":"#N/A"},null,329,""]
[{"$f":"Symbols!A331","v":"S.US.NFLX"},{"$f":"IFERROR(RTD(\"cqg.rtd\",,\"StudyData\",A331,\"Bar\",, \"High\",$C$1,\"0\",,,,,\"T\"),\"\")","v":342.36},{"$f":"IFERROR(RTD(\"cqg.rtd\",,\"StudyData\",A331,\"Bar\",, \"Low\",$C$1,\"0\",,,,,\"T\"),\"\")","v":336},{"$f":"IFERROR(RTD(\"cqg.rtd\",,\"StudyData\",\"HiLevel(\"&A331&\",Period1:=\"&$B$1&\",AllowGaps:=0,InputChoice1:=High,InputChoice3:=High)\",\"Bar\",, \"Close\",$C$1,\"-1\",,,,,\"T\"),\"\")","v":700.98},{"$f":"IFERROR(RTD(\"cqg.rtd\",,\"StudyData\",\"LoLevel(\"&A331&\",Period2:=\"&$B$1&\",AllowGaps:=0,InputChoice2:=Low,InputChoice4:=Low)\",\"Bar\",, \"Close\",$C$1,\"-1\",,,,,\"T\"),\"\")","v":329.82},0,0,14.000999999999999,14.025999999999986,"S.US.NFLX",{"$f":"RTD(\"cqg.rtd\", ,\"ContractData\",A331, \"PerCentNetLastTrade\",, \"T\")/100","v":-1.4364025444845075E-2},{"$f":"RANK($K331,$K$2:K$506)+COUNTIF($K$2:K331,K331)-1","v":{"$error":"#VALUE!"}},"S.US.NFLX",330,"",{"$f":"RTD(\"cqg.rtd\", ,\"ContractData\",O331, \"PerCentNetLastTrade\",, \"T\")/100","v":{"$error":"#VALUE!"}},{"$error":"#N/A"},null,330,""]
[{"$f":"Symbols!A332","v":"S.US.NI"},{"$f":"IFERROR(RTD(\"cqg.rtd\",,\"StudyData\",A332,\"Bar\",, \"High\",$C$1,\"0\",,,,,\"T\"),\"\")","v":32.04},{"$f":"IFERROR(RTD(\"cqg.rtd\",,\"StudyData\",A332,\"Bar\",, \"Low\",$C$1,\"0\",,,,,\"T\"),\"\")","v":31.81},{"$f":"IFERROR(RTD(\"cqg.rtd\",,\"StudyData\",\"HiLevel(\"&A332&\",Period1:=\"&$B$1&\",AllowGaps:=0,InputChoice1:=High,InputChoice3:=High)\",\"Bar\",, \"Close\",$C$1,\"-1\",,,,,\"T\"),\"\")","v":32.58},{"$f":"IFERROR(RTD(\"cqg.rtd\",,\"StudyData\",\"LoLevel(\"&A332&\",Period2:=\"&$B$1&\",AllowGaps:=0,InputChoice2:=Low,InputChoice4:=Low)\",\"Bar\",, \"Close\",$C$1,\"-1\",,,,,\"T\"),\"\")","v":23.65},0,0,14.001999999999999,14.026999999999985,"S.US.NI",{"$f":"RTD(\"cqg.rtd\", ,\"ContractData\",A332, \"PerCentNetLastTrade\",, \"T\")/100","v":8.1889763779527565E-3},{"$f":"RANK($K332,$K$2:K$506)+COUNTIF($K$2:K332,K332)-1","v":{"$error":"#VALUE!"}},"S.US.NI",331,"",{"$f":"RTD(\"cqg.rtd\", ,\"ContractData\",O332, \"PerCentNetLastTrade\",, \"T\")/100","v":{"$error":"#VALUE!"}},{"$error":"#N/A"},null,331,""]
[{"$f":"Symbols!A333","v":"S.US.NKE"},{"$f":"IFERROR(RTD(\"cqg.rtd\",,\"StudyData\",A333,\"Bar\",, \"High\",$C$1,\"0\",,,,,\"T\"),\"\")","v":133.36000000000001},{"$f":"IFERROR(RTD(\"cqg.rtd\",,\"StudyData\",A333,\"Bar\",, \"Low\",$C$1,\"0\",,,,,\"T\"),\"\")","v":131.28},{"$f":"IFERROR(RTD(\"cqg.rtd\",,\"StudyData\",\"HiLevel(\"&A333&\",Period1:=\"&$B$1&\",AllowGaps:=0,InputChoice1:=High,InputChoice3:=High)\",\"Bar\",, \"Close\",$C$1,\"-1\",,,,,\"T\"),\"\")","v":179.1},{"$f":"IFERROR(RTD(\"cqg.rtd\",,\"StudyData\",\"LoLevel(\"&A333&\",Period2:=\"&$B$1&\",AllowGaps:=0,InputChoice2:=Low,InputChoice4:=Low)\",\"Bar\",, \"Close\",$C$1,\"-1\",,,,,\"T\"),\"\")","v":116.75},0,0,14.002999999999998,14.027999999999984,"S.US.NKE",{"$f":"RTD(\"cqg.rtd\", ,\"ContractData\",A333, \"PerCentNetLastTrade\",, \"T\")/100","v":-1.5285478795144613E-2},{"$f":"RANK($K333,$K$2:K$506)+COUNTIF($K$2:K333,K333)-1","v":{"$error":"#VALUE!"}},"S.US.NKE",332,"",{"$f":"RTD(\"cqg.rtd\", ,\"ContractData\",O333, \"PerCentNetLastTrade\",, \"T\")/100","v":{"$error":"#VALUE!"}},{"$error":"#N/A"},null,332,""]
[{"$f":"Symbols!A334","v":"S.US.NLOK"},{"$f":"IFERROR(RTD(\"cqg.rtd\",,\"StudyData\",A334,\"Bar\",, \"High\",$C$1,\"0\",,,,,\"T\"),\"\")","v":26.72},{"$f":"IFERROR(RTD(\"cqg.rtd\",,\"StudyData\",A334,\"Bar\",, \"Low\",$C$1,\"0\",,,,,\"T\"),\"\")","v":26.58},{"$f":"IFERROR(RTD(\"cqg.rtd\",,\"StudyData\",\"HiLevel(\"&A334&\",Period1:=\"&$B$1&\",AllowGaps:=0,InputChoice1:=High,InputChoice3:=High)\",\"Bar\",, \"Close\",$C$1,\"-1\",,,,,\"T\"),\"\")","v":30.91},{"$f":"IFERROR(RTD(\"cqg.rtd\",,\"StudyData\",\"LoLevel(\"&A334&\",Period2:=\"&$B$1&\",AllowGaps:=0,InputChoice2:=Low,InputChoice4:=Low)\",\"Bar\",, \"Close\",$C$1,\"-1\",,,,,\"T\"),\"\")","v":20.74},0,0,14.003999999999998,14.028999999999984,"S.US.NLOK",{"$f":"RTD(\"cqg.rtd\", ,\"ContractData\",A334, \"PerCentNetLastTrade\",, \"T\")/100","v":0},{"$f":"RANK($K334,$K$2:K$506)+COUNTIF($K$2:K334,K334)-1","v":{"$error":"#VALUE!"}},"S.US.NLOK",333,"",{"$f":"RTD(\"cqg.rtd\", ,\"ContractData\",O334, \"PerCentNetLastTrade\",, \"T\")/100","v":{"$error":"#VALUE!"}},{"$error":"#N/A"},null,333,""]
[{"$f":"Symbols!A335","v":"S.US.NLSN"},{"$f":"IFERROR(RTD(\"cqg.rtd\",,\"StudyData\",A335,\"Bar\",, \"High\",$C$1,\"0\",,,,,\"T\"),\"\")","v":27.42},{"$f":"IFERROR(RTD(\"cqg.rtd\",,\"StudyData\",A335,\"Bar\",, \"Low\",$C$1,\"0\",,,,,\"T\"),\"\")","v":27.3},{"$f":"IFERROR(RTD(\"cqg.rtd\",,\"StudyData\",\"HiLevel(\"&A335&\",Period1:=\"&$B$1&\",AllowGaps:=0,InputChoice1:=High,InputChoice3:=High)\",\"Bar\",, \"Close\",$C$1,\"-1\",,,,,\"T\"),\"\")","v":28.42},{"$f":"IFERROR(RTD(\"cqg.rtd\",,\"StudyData\",\"LoLevel(\"&A335&\",Period2:=\"&$B$1&\",AllowGaps:=0,InputChoice2:=Low,InputChoice4:=Low)\",\"Bar\",, \"Close\",$C$1,\"-1\",,,,,\"T\"),\"\")","v":16.02},0,0,14.004999999999997,14.029999999999983,"S.US.NLSN",{"$f":"RTD(\"cqg.rtd\", ,\"ContractData\",A335, \"PerCentNetLastTrade\",, \"T\")/100","v":-1.0948905109489052E-3},{"$f":"RANK($K335,$K$2:K$506)+COUNTIF($K$2:K335,K335)-1","v":{"$error":"#VALUE!"}},"S.US.NLSN",334,"",{"$f":"RTD(\"cqg.rtd\", ,\"ContractData\",O335, \"PerCentNetLastTrade\",, \"T\")/100","v":{"$error":"#VALUE!"}},{"$error":"#N/A"},null,334,""]
[{"$f":"Symbols!A336","v":"S.US.NOC"},{"$f":"IFERROR(RTD(\"cqg.rtd\",,\"StudyData\",A336,\"Bar\",, \"High\",$C$1,\"0\",,,,,\"T\"),\"\")","v":473.37},{"$f":"IFERROR(RTD(\"cqg.rtd\",,\"StudyData\",A336,\"Bar\",, \"Low\",$C$1,\"0\",,,,,\"T\"),\"\")","v":464.26},{"$f":"IFERROR(RTD(\"cqg.rtd\",,\"StudyData\",\"HiLevel(\"&A336&\",Period1:=\"&$B$1&\",AllowGaps:=0,InputChoice1:=High,InputChoice3:=High)\",\"Bar\",, \"Close\",$C$1,\"-1\",,,,,\"T\"),\"\")","v":490.82},{"$f":"IFERROR(RTD(\"cqg.rtd\",,\"StudyData\",\"LoLevel(\"&A336&\",Period2:=\"&$B$1&\",AllowGaps:=0,InputChoice2:=Low,InputChoice4:=Low)\",\"Bar\",, \"Close\",$C$1,\"-1\",,,,,\"T\"),\"\")","v":336.02},0,0,14.005999999999997,14.030999999999983,"S.US.NOC",{"$f":"RTD(\"cqg.rtd\", ,\"ContractData\",A336, \"PerCentNetLastTrade\",, \"T\")/100","v":1.1922089041095891E-2},{"$f":"RANK($K336,$K$2:K$506)+COUNTIF($K$2:K336,K336)-1","v":{"$error":"#VALUE!"}},"S.US.NOC",335,"",{"$f":"RTD(\"cqg.rtd\", ,\"ContractData\",O336, \"PerCentNetLastTrade\",, \"T\")/100","v":{"$error":"#VALUE!"}},{"$error":"#N/A"},null,335,""]
[{"$f":"Symbols!A337","v":"S.US.NOW"},{"$f":"IFERROR(RTD(\"cqg.rtd\",,\"StudyData\",A337,\"Bar\",, \"High\",$C$1,\"0\",,,,,\"T\"),\"\")","v":506.67},{"$f":"IFERROR(RTD(\"cqg.rtd\",,\"StudyData\",A337,\"Bar\",, \"Low\",$C$1,\"0\",,,,,\"T\"),\"\")","v":500},{"$f":"IFERROR(RTD(\"cqg.rtd\",,\"StudyData\",\"HiLevel(\"&A337&\",Period1:=\"&$B$1&\",AllowGaps:=0,InputChoice1:=High,InputChoice3:=High)\",\"Bar\",, \"Close\",$C$1,\"-1\",,,,,\"T\"),\"\")","v":707.6},{"$f":"IFERROR(RTD(\"cqg.rtd\",,\"StudyData\",\"LoLevel(\"&A337&\",Period2:=\"&$B$1&\",AllowGaps:=0,InputChoice2:=Low,InputChoice4:=Low)\",\"Bar\",, \"Close\",$C$1,\"-1\",,,,,\"T\"),\"\")","v":448.27},0,0,14.006999999999996,14.031999999999982,"S.US.NOW",{"$f":"RTD(\"cqg.rtd\", ,\"ContractData\",A337, \"PerCentNetLastTrade\",, \"T\")/100","v":-1.3442926694656339E-2},{"$f":"RANK($K337,$K$2:K$506)+COUNTIF($K$2:K337,K337)-1","v":{"$error":"#VALUE!"}},"S.US.NOW",336,"",{"$f":"RTD(\"cqg.rtd\", ,\"ContractData\",O337, \"PerCentNetLastTrade\",, \"T\")/100","v":{"$error":"#VALUE!"}},{"$error":"#N/A"},null,336,""]
[{"$f":"Symbols!A338","v":"S.US.NRG"},{"$f":"IFERROR(RTD(\"cqg.rtd\",,\"StudyData\",A338,\"Bar\",, \"High\",$C$1,\"0\",,,,,\"T\"),\"\")","v":39.6},{"$f":"IFERROR(RTD(\"cqg.rtd\",,\"StudyData\",A338,\"Bar\",, \"Low\",$C$1,\"0\",,,,,\"T\"),\"\")","v":39.24},{"$f":"IFERROR(RTD(\"cqg.rtd\",,\"StudyData\",\"HiLevel(\"&A338&\",Period1:=\"&$B$1&\",AllowGaps:=0,InputChoice1:=High,InputChoice3:=High)\",\"Bar\",, \"Close\",$C$1,\"-1\",,,,,\"T\"),\"\")","v":46.1},{"$f":"IFERROR(RTD(\"cqg.rtd\",,\"StudyData\",\"LoLevel(\"&A338&\",Period2:=\"&$B$1&\",AllowGaps:=0,InputChoice2:=Low,InputChoice4:=Low)\",\"Bar\",, \"Close\",$C$1,\"-1\",,,,,\"T\"),\"\")","v":31.94},0,0,14.007999999999996,14.032999999999982,"S.US.NRG",{"$f":"RTD(\"cqg.rtd\", ,\"ContractData\",A338, \"PerCentNetLastTrade\",, \"T\")/100","v":8.930849706557796E-3},{"$f":"RANK($K338,$K$2:K$506)+COUNTIF($K$2:K338,K338)-1","v":{"$error":"#VALUE!"}},"S.US.NRG",337,"",{"$f":"RTD(\"cqg.rtd\", ,\"ContractData\",O338, \"PerCentNetLastTrade\",, \"T\")/100","v":{"$error":"#VALUE!"}},{"$error":"#N/A"},null,337,""]
[{"$f":"Symbols!A339","v":"S.US.NSC"},{"$f":"IFERROR(RTD(\"cqg.rtd\",,\"StudyData\",A339,\"Bar\",, \"High\",$C$1,\"0\",,,,,\"T\"),\"\")","v":265.18},{"$f":"IFERROR(RTD(\"cqg.rtd\",,\"StudyData\",A339,\"Bar\",, \"Low\",$C$1,\"0\",,,,,\"T\"),\"\")","v":261.99},{"$f":"IFERROR(RTD(\"cqg.rtd\",,\"StudyData\",\"HiLevel(\"&A339&\",Period1:=\"&$B$1&\",AllowGaps:=0,InputChoice1:=High,InputChoice3:=High)\",\"Bar\",, \"Close\",$C$1,\"-1\",,,,,\"T\"),\"\")","v":299.19},{"$f":"IFERROR(RTD(\"cqg.rtd\",,\"StudyData\",\"LoLevel(\"&A339&\",Period2:=\"&$B$1&\",AllowGaps:=0,InputChoice2:=Low,InputChoice4:=Low)\",\"Bar\",, \"Close\",$C$1,\"-1\",,,,,\"T\"),\"\")","v":238.62},0,0,14.008999999999995,14.033999999999981,"S.US.NSC",{"$f":"RTD(\"cqg.rtd\", ,\"ContractData\",A339, \"PerCentNetLastTrade\",, \"T\")/100","v":8.058997947236371E-3},{"$f":"RANK($K339,$K$2:K$506)+COUNTIF($K$2:K339,K339)-1","v":{"$error":"#VALUE!"}},"S.US.NSC",338,"",{"$f":"RTD(\"cqg.rtd\", ,\"ContractData\",O339, \"PerCentNetLastTrade\",, \"T\")/100","v":{"$error":"#VALUE!"}},{"$error":"#N/A"},null,338,""]
[{"$f":"Symbols!A340","v":"S.US.NTAP"},{"$f":"IFERROR(RTD(\"cqg.rtd\",,\"StudyData\",A340,\"Bar\",, \"High\",$C$1,\"0\",,,,,\"T\"),\"\")","v":76.150000000000006},{"$f":"IFERROR(RTD(\"cqg.rtd\",,\"StudyData\",A340,\"Bar\",, \"Low\",$C$1,\"0\",,,,,\"T\"),\"\")","v":75.45},{"$f":"IFERROR(RTD(\"cqg.rtd\",,\"StudyData\",\"HiLevel(\"&A340&\",Period1:=\"&$B$1&\",AllowGaps:=0,InputChoice1:=High,InputChoice3:=High)\",\"Bar\",, \"Close\",$C$1,\"-1\",,,,,\"T\"),\"\")","v":96.82},{"$f":"IFERROR(RTD(\"cqg.rtd\",,\"StudyData\",\"LoLevel(\"&A340&\",Period2:=\"&$B$1&\",AllowGaps:=0,InputChoice2:=Low,InputChoice4:=Low)\",\"Bar\",, \"Close\",$C$1,\"-1\",,,,,\"T\"),\"\")","v":72.040000000000006},0,0,14.009999999999994,14.034999999999981,"S.US.NTAP",{"$f":"RTD(\"cqg.rtd\", ,\"ContractData\",A340, \"PerCentNetLastTrade\",, \"T\")/100","v":2.5165562913907285E-3},{"$f":"RANK($K340,$K$2:K$506)+COUNTIF($K$2:K340,K340)-1","v":{"$error":"#VALUE!"}},"S.US.NTAP",339,"",{"$f":"RTD(\"cqg.rtd\", ,\"ContractData\",O340, \"PerCentNetLastTrade\",, \"T\")/100","v":{"$error":"#VALUE!"}},{"$error":"#N/A"},null,339,""]
[{"$f":"Symbols!A341","v":"S.US.NTRS"},{"$f":"IFERROR(RTD(\"cqg.rtd\",,\"StudyData\",A341,\"Bar\",, \"High\",$C$1,\"0\",,,,,\"T\"),\"\")","v":111.3},{"$f":"IFERROR(RTD(\"cqg.rtd\",,\"StudyData\",A341,\"Bar\",, \"Low\",$C$1,\"0\",,,,,\"T\"),\"\")","v":109.71},{"$f":"IFERROR(RTD(\"cqg.rtd\",,\"StudyData\",\"HiLevel(\"&A341&\",Period1:=\"&$B$1&\",AllowGaps:=0,InputChoice1:=High,InputChoice3:=High)\",\"Bar\",, \"Close\",$C$1,\"-1\",,,,,\"T\"),\"\")","v":135.15},{"$f":"IFERROR(RTD(\"cqg.rtd\",,\"StudyData\",\"LoLevel(\"&A341&\",Period2:=\"&$B$1&\",AllowGaps:=0,InputChoice2:=Low,InputChoice4:=Low)\",\"Bar\",, \"Close\",$C$1,\"-1\",,,,,\"T\"),\"\")","v":102.39},0,0,14.010999999999994,14.03599999999998,"S.US.NTRS",{"$f":"RTD(\"cqg.rtd\", ,\"ContractData\",A341, \"PerCentNetLastTrade\",, \"T\")/100","v":1.9839480566326991E-3},{"$f":"RANK($K341,$K$2:K$506)+COUNTIF($K$2:K341,K341)-1","v":{"$error":"#VALUE!"}},"S.US.NTRS",340,"",{"$f":"RTD(\"cqg.rtd\", ,\"ContractData\",O341, \"PerCentNetLastTrade\",, \"T\")/100","v":{"$error":"#VALUE!"}},{"$error":"#N/A"},null,340,""]
[{"$f":"Symbols!A342","v":"S.US.NUE"},{"$f":"IFERROR(RTD(\"cqg.rtd\",,\"StudyData\",A342,\"Bar\",, \"High\",$C$1,\"0\",,,,,\"T\"),\"\")","v":168.52},{"$f":"IFERROR(RTD(\"cqg.rtd\",,\"StudyData\",A342,\"Bar\",, \"Low\",$C$1,\"0\",,,,,\"T\"),\"\")","v":165.67},{"$f":"IFERROR(RTD(\"cqg.rtd\",,\"StudyData\",\"HiLevel(\"&A342&\",Period1:=\"&$B$1&\",AllowGaps:=0,InputChoice1:=High,InputChoice3:=High)\",\"Bar\",, \"Close\",$C$1,\"-1\",,,,,\"T\"),\"\")","v":166.84},{"$f":"IFERROR(RTD(\"cqg.rtd\",,\"StudyData\",\"LoLevel(\"&A342&\",Period2:=\"&$B$1&\",AllowGaps:=0,InputChoice2:=Low,InputChoice4:=Low)\",\"Bar\",, \"Close\",$C$1,\"-1\",,,,,\"T\"),\"\")","v":75.599999999999994},1,0,15,14.036999999999979,"S.US.NUE",{"$f":"RTD(\"cqg.rtd\", ,\"ContractData\",A342, \"PerCentNetLastTrade\",, \"T\")/100","v":1.6452939753205904E-2},{"$f":"RANK($K342,$K$2:K$506)+COUNTIF($K$2:K342,K342)-1","v":{"$error":"#VALUE!"}},"S.US.NUE",341,"",{"$f":"RTD(\"cqg.rtd\", ,\"ContractData\",O342, \"PerCentNetLastTrade\",, \"T\")/100","v":{"$error":"#VALUE!"}},{"$error":"#N/A"},null,341,""]
[{"$f":"Symbols!A343","v":"S.US.NVDA"},{"$f":"IFERROR(RTD(\"cqg.rtd\",,\"StudyData\",A343,\"Bar\",, \"High\",$C$1,\"0\",,,,,\"T\"),\"\")","v":215.6},{"$f":"IFERROR(RTD(\"cqg.rtd\",,\"StudyData\",A343,\"Bar\",, \"Low\",$C$1,\"0\",,,,,\"T\"),\"\")","v":211.9},{"$f":"IFERROR(RTD(\"cqg.rtd\",,\"StudyData\",\"HiLevel(\"&A343&\",Period1:=\"&$B$1&\",AllowGaps:=0,InputChoice1:=High,InputChoice3:=High)\",\"Bar\",, \"Close\",$C$1,\"-1\",,,,,\"T\"),\"\")","v":346.47},{"$f":"IFERROR(RTD(\"cqg.rtd\",,\"StudyData\",\"LoLevel(\"&A343&\",Period2:=\"&$B$1&\",AllowGaps:=0,InputChoice2:=Low,InputChoice4:=Low)\",\"Bar\",, \"Close\",$C$1,\"-1\",,,,,\"T\"),\"\")","v":134.59},0,0,15.000999999999999,14.037999999999979,"S.US.NVDA",{"$f":"RTD(\"cqg.rtd\", ,\"ContractData\",A343, \"PerCentNetLastTrade\",, \"T\")/100","v":1.5993978737416502E-3},{"$f":"RANK($K343,$K$2:K$506)+COUNTIF($K$2:K343,K343)-1","v":{"$error":"#VALUE!"}},"S.US.NVDA",342,"",{"$f":"RTD(\"cqg.rtd\", ,\"ContractData\",O343, \"PerCentNetLastTrade\",, \"T\")/100","v":{"$error":"#VALUE!"}},{"$error":"#N/A"},null,342,""]
[{"$f":"Symbols!A344","v":"S.US.NVR"},{"$f":"IFERROR(RTD(\"cqg.rtd\",,\"StudyData\",A344,\"Bar\",, \"High\",$C$1,\"0\",,,,,\"T\"),\"\")","v":4374.96},{"$f":"IFERROR(RTD(\"cqg.rtd\",,\"StudyData\",A344,\"Bar\",, \"Low\",$C$1,\"0\",,,,,\"T\"),\"\")","v":4308.5200000000004},{"$f":"IFERROR(RTD(\"cqg.rtd\",,\"StudyData\",\"HiLevel(\"&A344&\",Period1:=\"&$B$1&\",AllowGaps:=0,InputChoice1:=High,InputChoice3:=High)\",\"Bar\",, \"Close\",$C$1,\"-1\",,,,,\"T\"),\"\")","v":5982.44},{"$f":"IFERROR(RTD(\"cqg.rtd\",,\"StudyData\",\"LoLevel(\"&A344&\",Period2:=\"&$B$1&\",AllowGaps:=0,InputChoice2:=Low,InputChoice4:=Low)\",\"Bar\",, \"Close\",$C$1,\"-1\",,,,,\"T\"),\"\")","v":4250.01},0,0,15.001999999999999,14.038999999999978,"S.US.NVR",{"$f":"RTD(\"cqg.rtd\", ,\"ContractData\",A344, \"PerCentNetLastTrade\",, \"T\")/100","v":6.5391135868248969E-3},{"$f":"RANK($K344,$K$2:K$506)+COUNTIF($K$2:K344,K344)-1","v":{"$error":"#VALUE!"}},"S.US.NVR",343,"",{"$f":"RTD(\"cqg.rtd\", ,\"ContractData\",O344, \"PerCentNetLastTrade\",, \"T\")/100","v":{"$error":"#VALUE!"}},{"$error":"#N/A"},null,343,""]
[{"$f":"Symbols!A345","v":"S.US.NWL"},{"$f":"IFERROR(RTD(\"cqg.rtd\",,\"StudyData\",A345,\"Bar\",, \"High\",$C$1,\"0\",,,,,\"T\"),\"\")","v":22.64},{"$f":"IFERROR(RTD(\"cqg.rtd\",,\"StudyData\",A345,\"Bar\",, \"Low\",$C$1,\"0\",,,,,\"T\"),\"\")","v":22.26},{"$f":"IFERROR(RTD(\"cqg.rtd\",,\"StudyData\",\"HiLevel(\"&A345&\",Period1:=\"&$B$1&\",AllowGaps:=0,InputChoice1:=High,InputChoice3:=High)\",\"Bar\",, \"Close\",$C$1,\"-1\",,,,,\"T\"),\"\")","v":30.1},{"$f":"IFERROR(RTD(\"cqg.rtd\",,\"StudyData\",\"LoLevel(\"&A345&\",Period2:=\"&$B$1&\",AllowGaps:=0,InputChoice2:=Low,InputChoice4:=Low)\",\"Bar\",, \"Close\",$C$1,\"-1\",,,,,\"T\"),\"\")","v":20.36},0,0,15.002999999999998,14.039999999999978,"S.US.NWL",{"$f":"RTD(\"cqg.rtd\", ,\"ContractData\",A345, \"PerCentNetLastTrade\",, \"T\")/100","v":2.6773761713520749E-3},{"$f":"RANK($K345,$K$2:K$506)+COUNTIF($K$2:K345,K345)-1","v":{"$error":"#VALUE!"}},"S.US.NWL",344,"",{"$f":"RTD(\"cqg.rtd\", ,\"ContractData\",O345, \"PerCentNetLastTrade\",, \"T\")/100","v":{"$error":"#VALUE!"}},{"$error":"#N/A"},null,344,""]
[{"$f":"Symbols!A346","v":"S.US.NWS"},{"$f":"IFERROR(RTD(\"cqg.rtd\",,\"StudyData\",A346,\"Bar\",, \"High\",$C$1,\"0\",,,,,\"T\"),\"\")","v":21.7},{"$f":"IFERROR(RTD(\"cqg.rtd\",,\"StudyData\",A346,\"Bar\",, \"Low\",$C$1,\"0\",,,,,\"T\"),\"\")","v":21.44},{"$f":"IFERROR(RTD(\"cqg.rtd\",,\"StudyData\",\"HiLevel(\"&A346&\",Period1:=\"&$B$1&\",AllowGaps:=0,InputChoice1:=High,InputChoice3:=High)\",\"Bar\",, \"Close\",$C$1,\"-1\",,,,,\"T\"),\"\")","v":26.21},{"$f":"IFERROR(RTD(\"cqg.rtd\",,\"StudyData\",\"LoLevel(\"&A346&\",Period2:=\"&$B$1&\",AllowGaps:=0,InputChoice2:=Low,InputChoice4:=Low)\",\"Bar\",, \"Close\",$C$1,\"-1\",,,,,\"T\"),\"\")","v":20.329999999999998},0,0,15.003999999999998,14.040999999999977,"S.US.NWS",{"$f":"RTD(\"cqg.rtd\", ,\"ContractData\",A346, \"PerCentNetLastTrade\",, \"T\")/100","v":8.8454376163873364E-3},{"$f":"RANK($K346,$K$2:K$506)+COUNTIF($K$2:K346,K346)-1","v":{"$error":"#VALUE!"}},"S.US.NWS",345,"",{"$f":"RTD(\"cqg.rtd\", ,\"ContractData\",O346, \"PerCentNetLastTrade\",, \"T\")/100","v":{"$error":"#VALUE!"}},{"$error":"#N/A"},null,345,""]
[{"$f":"Symbols!A347","v":"S.US.NWSA"},{"$f":"IFERROR(RTD(\"cqg.rtd\",,\"StudyData\",A347,\"Bar\",, \"High\",$C$1,\"0\",,,,,\"T\"),\"\")","v":21.33},{"$f":"IFERROR(RTD(\"cqg.rtd\",,\"StudyData\",A347,\"Bar\",, \"Low\",$C$1,\"0\",,,,,\"T\"),\"\")","v":21.08},{"$f":"IFERROR(RTD(\"cqg.rtd\",,\"StudyData\",\"HiLevel(\"&A347&\",Period1:=\"&$B$1&\",AllowGaps:=0,InputChoice1:=High,InputChoice3:=High)\",\"Bar\",, \"Close\",$C$1,\"-1\",,,,,\"T\"),\"\")","v":27.96},{"$f":"IFERROR(RTD(\"cqg.rtd\",,\"StudyData\",\"LoLevel(\"&A347&\",Period2:=\"&$B$1&\",AllowGaps:=0,InputChoice2:=Low,InputChoice4:=Low)\",\"Bar\",, \"Close\",$C$1,\"-1\",,,,,\"T\"),\"\")","v":20.04},0,0,15.004999999999997,14.041999999999977,"S.US.NWSA",{"$f":"RTD(\"cqg.rtd\", ,\"ContractData\",A347, \"PerCentNetLastTrade\",, \"T\")/100","v":4.7236655644780348E-3},{"$f":"RANK($K347,$K$2:K$506)+COUNTIF($K$2:K347,K347)-1","v":{"$error":"#VALUE!"}},"S.US.NWSA",346,"",{"$f":"RTD(\"cqg.rtd\", ,\"ContractData\",O347, \"PerCentNetLastTrade\",, \"T\")/100","v":{"$error":"#VALUE!"}},{"$error":"#N/A"},null,346,""]
[{"$f":"Symbols!A348","v":"S.US.NXPI"},{"$f":"IFERROR(RTD(\"cqg.rtd\",,\"StudyData\",A348,\"Bar\",, \"High\",$C$1,\"0\",,,,,\"T\"),\"\")","v":172.95},{"$f":"IFERROR(RTD(\"cqg.rtd\",,\"StudyData\",A348,\"Bar\",, \"Low\",$C$1,\"0\",,,,,\"T\"),\"\")","v":169.15},{"$f":"IFERROR(RTD(\"cqg.rtd\",,\"StudyData\",\"HiLevel(\"&A348&\",Period1:=\"&$B$1&\",AllowGaps:=0,InputChoice1:=High,InputChoice3:=High)\",\"Bar\",, \"Close\",$C$1,\"-1\",,,,,\"T\"),\"\")","v":239.91},{"$f":"IFERROR(RTD(\"cqg.rtd\",,\"StudyData\",\"LoLevel(\"&A348&\",Period2:=\"&$B$1&\",AllowGaps:=0,InputChoice2:=Low,InputChoice4:=Low)\",\"Bar\",, \"Close\",$C$1,\"-1\",,,,,\"T\"),\"\")","v":164.75},0,0,15.005999999999997,14.042999999999976,"S.US.NXPI",{"$f":"RTD(\"cqg.rtd\", ,\"ContractData\",A348, \"PerCentNetLastTrade\",, \"T\")/100","v":9.5294117647058817E-3},{"$f":"RANK($K348,$K$2:K$506)+COUNTIF($K$2:K348,K348)-1","v":{"$error":"#VALUE!"}},"S.US.NXPI",347,"",{"$f":"RTD(\"cqg.rtd\", ,\"ContractData\",O348, \"PerCentNetLastTrade\",, \"T\")/100","v":{"$error":"#VALUE!"}},{"$error":"#N/A"},null,347,""]
[{"$f":"Symbols!A349","v":"S.US.O"},{"$f":"IFERROR(RTD(\"cqg.rtd\",,\"StudyData\",A349,\"Bar\",, \"High\",$C$1,\"0\",,,,,\"T\"),\"\")","v":73.05},{"$f":"IFERROR(RTD(\"cqg.rtd\",,\"StudyData\",A349,\"Bar\",, \"Low\",$C$1,\"0\",,,,,\"T\"),\"\")","v":72.569999999999993},{"$f":"IFERROR(RTD(\"cqg.rtd\",,\"StudyData\",\"HiLevel(\"&A349&\",Period1:=\"&$B$1&\",AllowGaps:=0,InputChoice1:=High,InputChoice3:=High)\",\"Bar\",, \"Close\",$C$1,\"-1\",,,,,\"T\"),\"\")","v":74.599999999999994},{"$f":"IFERROR(RTD(\"cqg.rtd\",,\"StudyData\",\"LoLevel(\"&A349&\",Period2:=\"&$B$1&\",AllowGaps:=0,InputChoice2:=Low,InputChoice4:=Low)\",\"Bar\",, \"Close\",$C$1,\"-1\",,,,,\"T\"),\"\")","v":63.9},0,0,15.006999999999996,14.043999999999976,"S.US.O",{"$f":"RTD(\"cqg.rtd\", ,\"ContractData\",A349, \"PerCentNetLastTrade\",, \"T\")/100","v":4.1316623054675665E-3},{"$f":"RANK($K349,$K$2:K$506)+COUNTIF($K$2:K349,K349)-1","v":{"$error":"#VALUE!"}},"S.US.O",348,"",{"$f":"RTD(\"cqg.rtd\", ,\"ContractData\",O349, \"PerCentNetLastTrade\",, \"T\")/100","v":{"$error":"#VALUE!"}},{"$error":"#N/A"},null,348,""]
[{"$f":"Symbols!A350","v":"S.US.ODFL"},{"$f":"IFERROR(RTD(\"cqg.rtd\",,\"StudyData\",A350,\"Bar\",, \"High\",$C$1,\"0\",,,,,\"T\"),\"\")","v":267.39},{"$f":"IFERROR(RTD(\"cqg.rtd\",,\"StudyData\",A350,\"Bar\",, \"Low\",$C$1,\"0\",,,,,\"T\"),\"\")","v":263.35000000000002},{"$f":"IFERROR(RTD(\"cqg.rtd\",,\"StudyData\",\"HiLevel(\"&A350&\",Period1:=\"&$B$1&\",AllowGaps:=0,InputChoice1:=High,InputChoice3:=High)\",\"Bar\",, \"Close\",$C$1,\"-1\",,,,,\"T\"),\"\")","v":373.58},{"$f":"IFERROR(RTD(\"cqg.rtd\",,\"StudyData\",\"LoLevel(\"&A350&\",Period2:=\"&$B$1&\",AllowGaps:=0,InputChoice2:=Low,InputChoice4:=Low)\",\"Bar\",, \"Close\",$C$1,\"-1\",,,,,\"T\"),\"\")","v":245.09},0,0,15.007999999999996,14.044999999999975,"S.US.ODFL",{"$f":"RTD(\"cqg.rtd\", ,\"ContractData\",A350, \"PerCentNetLastTrade\",, \"T\")/100","v":3.1728045325779036E-3},{"$f":"RANK($K350,$K$2:K$506)+COUNTIF($K$2:K350,K350)-1","v":{"$error":"#VALUE!"}},"S.US.ODFL",349,"",{"$f":"RTD(\"cqg.rtd\", ,\"ContractData\",O350, \"PerCentNetLastTrade\",, \"T\")/100","v":{"$error":"#VALUE!"}},{"$error":"#N/A"},null,349,""]
[{"$f":"Symbols!A351","v":"S.US.OGN"},{"$f":"IFERROR(RTD(\"cqg.rtd\",,\"StudyData\",A351,\"Bar\",, \"High\",$C$1,\"0\",,,,,\"T\"),\"\")","v":34.83},{"$f":"IFERROR(RTD(\"cqg.rtd\",,\"StudyData\",A351,\"Bar\",, \"Low\",$C$1,\"0\",,,,,\"T\"),\"\")","v":34.520000000000003},{"$f":"IFERROR(RTD(\"cqg.rtd\",,\"StudyData\",\"HiLevel(\"&A351&\",Period1:=\"&$B$1&\",AllowGaps:=0,InputChoice1:=High,InputChoice3:=High)\",\"Bar\",, \"Close\",$C$1,\"-1\",,,,,\"T\"),\"\")","v":""},{"$f":"IFERROR(RTD(\"cqg.rtd\",,\"StudyData\",\"LoLevel(\"&A351&\",Period2:=\"&$B$1&\",AllowGaps:=0,InputChoice2:=Low,InputChoice4:=Low)\",\"Bar\",, \"Close\",$C$1,\"-1\",,,,,\"T\"),\"\")","v":""},0,1,15.008999999999995,15,"S.US.OGN",{"$f":"RTD(\"cqg.rtd\", ,\"ContractData\",A351, \"PerCentNetLastTrade\",, \"T\")/100","v":-8.0229226361031511E-3},{"$f":"RANK($K351,$K$2:K$506)+COUNTIF($K$2:K351,K351)-1","v":{"$error":"#VALUE!"}},"S.US.OGN",350,"",{"$f":"RTD(\"cqg.rtd\", ,\"ContractData\",O351, \"PerCentNetLastTrade\",, \"T\")/100","v":{"$error":"#VALUE!"}},{"$error":"#N/A"},null,350,""]
[{"$f":"Symbols!A352","v":"S.US.OKE"},{"$f":"IFERROR(RTD(\"cqg.rtd\",,\"StudyData\",A352,\"Bar\",, \"High\",$C$1,\"0\",,,,,\"T\"),\"\")","v":72.709999999999994},{"$f":"IFERROR(RTD(\"cqg.rtd\",,\"StudyData\",A352,\"Bar\",, \"Low\",$C$1,\"0\",,,,,\"T\"),\"\")","v":71.260000000000005},{"$f":"IFERROR(RTD(\"cqg.rtd\",,\"StudyData\",\"HiLevel(\"&A352&\",Period1:=\"&$B$1&\",AllowGaps:=0,InputChoice1:=High,InputChoice3:=High)\",\"Bar\",, \"Close\",$C$1,\"-1\",,,,,\"T\"),\"\")","v":72.37},{"$f":"IFERROR(RTD(\"cqg.rtd\",,\"StudyData\",\"LoLevel(\"&A352&\",Period2:=\"&$B$1&\",AllowGaps:=0,InputChoice2:=Low,InputChoice4:=Low)\",\"Bar\",, \"Close\",$C$1,\"-1\",,,,,\"T\"),\"\")","v":48.51},1,0,16,15.000999999999999,"S.US.OKE",{"$f":"RTD(\"cqg.rtd\", ,\"ContractData\",A352, \"PerCentNetLastTrade\",, \"T\")/100","v":1.82328190743338E-2},{"$f":"RANK($K352,$K$2:K$506)+COUNTIF($K$2:K352,K352)-1","v":{"$error":"#VALUE!"}},"S.US.OKE",351,"",{"$f":"RTD(\"cqg.rtd\", ,\"ContractData\",O352, \"PerCentNetLastTrade\",, \"T\")/100","v":{"$error":"#VALUE!"}},{"$error":"#N/A"},null,351,""]
[{"$f":"Symbols!A353","v":"S.US.OMC"},{"$f":"IFERROR(RTD(\"cqg.rtd\",,\"StudyData\",A353,\"Bar\",, \"High\",$C$1,\"0\",,,,,\"T\"),\"\")","v":79.209999999999994},{"$f":"IFERROR(RTD(\"cqg.rtd\",,\"StudyData\",A353,\"Bar\",, \"Low\",$C$1,\"0\",,,,,\"T\"),\"\")","v":78.44},{"$f":"IFERROR(RTD(\"cqg.rtd\",,\"StudyData\",\"HiLevel(\"&A353&\",Period1:=\"&$B$1&\",AllowGaps:=0,InputChoice1:=High,InputChoice3:=High)\",\"Bar\",, \"Close\",$C$1,\"-1\",,,,,\"T\"),\"\")","v":91.61},{"$f":"IFERROR(RTD(\"cqg.rtd\",,\"StudyData\",\"LoLevel(\"&A353&\",Period2:=\"&$B$1&\",AllowGaps:=0,InputChoice2:=Low,InputChoice4:=Low)\",\"Bar\",, \"Close\",$C$1,\"-1\",,,,,\"T\"),\"\")","v":65.760000000000005},0,0,16.001000000000001,15.001999999999999,"S.US.OMC",{"$f":"RTD(\"cqg.rtd\", ,\"ContractData\",A353, \"PerCentNetLastTrade\",, \"T\")/100","v":5.5915618248824506E-3},{"$f":"RANK($K353,$K$2:K$506)+COUNTIF($K$2:K353,K353)-1","v":{"$error":"#VALUE!"}},"S.US.OMC",352,"",{"$f":"RTD(\"cqg.rtd\", ,\"ContractData\",O353, \"PerCentNetLastTrade\",, \"T\")/100","v":{"$error":"#VALUE!"}},{"$error":"#N/A"},null,352,""]
[{"$f":"Symbols!A354","v":"S.US.ORCL"},{"$f":"IFERROR(RTD(\"cqg.rtd\",,\"StudyData\",A354,\"Bar\",, \"High\",$C$1,\"0\",,,,,\"T\"),\"\")","v":79.98},{"$f":"IFERROR(RTD(\"cqg.rtd\",,\"StudyData\",A354,\"Bar\",, \"Low\",$C$1,\"0\",,,,,\"T\"),\"\")","v":79.02},{"$f":"IFERROR(RTD(\"cqg.rtd\",,\"StudyData\",\"HiLevel(\"&A354&\",Period1:=\"&$B$1&\",AllowGaps:=0,InputChoice1:=High,InputChoice3:=High)\",\"Bar\",, \"Close\",$C$1,\"-1\",,,,,\"T\"),\"\")","v":106.34},{"$f":"IFERROR(RTD(\"cqg.rtd\",,\"StudyData\",\"LoLevel(\"&A354&\",Period2:=\"&$B$1&\",AllowGaps:=0,InputChoice2:=Low,InputChoice4:=Low)\",\"Bar\",, \"Close\",$C$1,\"-1\",,,,,\"T\"),\"\")","v":70.23},0,0,16.002000000000002,15.002999999999998,"S.US.ORCL",{"$f":"RTD(\"cqg.rtd\", ,\"ContractData\",A354, \"PerCentNetLastTrade\",, \"T\")/100","v":-1.2586532410320955E-3},{"$f":"RANK($K354,$K$2:K$506)+COUNTIF($K$2:K354,K354)-1","v":{"$error":"#VALUE!"}},"S.US.ORCL",353,"",{"$f":"RTD(\"cqg.rtd\", ,\"ContractData\",O354, \"PerCentNetLastTrade\",, \"T\")/100","v":{"$error":"#VALUE!"}},{"$error":"#N/A"},null,353,""]
[{"$f":"Symbols!A355","v":"S.US.ORLY"},{"$f":"IFERROR(RTD(\"cqg.rtd\",,\"StudyData\",A355,\"Bar\",, \"High\",$C$1,\"0\",,,,,\"T\"),\"\")","v":717.59},{"$f":"IFERROR(RTD(\"cqg.rtd\",,\"StudyData\",A355,\"Bar\",, \"Low\",$C$1,\"0\",,,,,\"T\"),\"\")","v":709.91},{"$f":"IFERROR(RTD(\"cqg.rtd\",,\"StudyData\",\"HiLevel(\"&A355&\",Period1:=\"&$B$1&\",AllowGaps:=0,InputChoice1:=High,InputChoice3:=High)\",\"Bar\",, \"Close\",$C$1,\"-1\",,,,,\"T\"),\"\")","v":747},{"$f":"IFERROR(RTD(\"cqg.rtd\",,\"StudyData\",\"LoLevel(\"&A355&\",Period2:=\"&$B$1&\",AllowGaps:=0,InputChoice2:=Low,InputChoice4:=Low)\",\"Bar\",, \"Close\",$C$1,\"-1\",,,,,\"T\"),\"\")","v":519.32000000000005},0,0,16.003000000000004,15.003999999999998,"S.US.ORLY",{"$f":"RTD(\"cqg.rtd\", ,\"ContractData\",A355, \"PerCentNetLastTrade\",, \"T\")/100","v":3.8942119123662241E-3},{"$f":"RANK($K355,$K$2:K$506)+COUNTIF($K$2:K355,K355)-1","v":{"$error":"#VALUE!"}},"S.US.ORLY",354,"",{"$f":"RTD(\"cqg.rtd\", ,\"ContractData\",O355, \"PerCentNetLastTrade\",, \"T\")/100","v":{"$error":"#VALUE!"}},{"$error":"#N/A"},null,354,""]
[{"$f":"Symbols!A356","v":"S.US.OTIS"},{"$f":"IFERROR(RTD(\"cqg.rtd\",,\"StudyData\",A356,\"Bar\",, \"High\",$C$1,\"0\",,,,,\"T\"),\"\")","v":75.069999999999993},{"$f":"IFERROR(RTD(\"cqg.rtd\",,\"StudyData\",A356,\"Bar\",, \"Low\",$C$1,\"0\",,,,,\"T\"),\"\")","v":74.69},{"$f":"IFERROR(RTD(\"cqg.rtd\",,\"StudyData\",\"HiLevel(\"&A356&\",Period1:=\"&$B$1&\",AllowGaps:=0,InputChoice1:=High,InputChoice3:=High)\",\"Bar\",, \"Close\",$C$1,\"-1\",,,,,\"T\"),\"\")","v":92.84},{"$f":"IFERROR(RTD(\"cqg.rtd\",,\"StudyData\",\"LoLevel(\"&A356&\",Period2:=\"&$B$1&\",AllowGaps:=0,InputChoice2:=Low,InputChoice4:=Low)\",\"Bar\",, \"Close\",$C$1,\"-1\",,,,,\"T\"),\"\")","v":69.83},0,0,16.004000000000005,15.004999999999997,"S.US.OTIS",{"$f":"RTD(\"cqg.rtd\", ,\"ContractData\",A356, \"PerCentNetLastTrade\",, \"T\")/100","v":-1.3377926421404682E-4},{"$f":"RANK($K356,$K$2:K$506)+COUNTIF($K$2:K356,K356)-1","v":{"$error":"#VALUE!"}},"S.US.OTIS",355,"",{"$f":"RTD(\"cqg.rtd\", ,\"ContractData\",O356, \"PerCentNetLastTrade\",, \"T\")/100","v":{"$error":"#VALUE!"}},{"$error":"#N/A"},null,355,""]
[{"$f":"Symbols!A357","v":"S.US.OXY"},{"$f":"IFERROR(RTD(\"cqg.rtd\",,\"StudyData\",A357,\"Bar\",, \"High\",$C$1,\"0\",,,,,\"T\"),\"\")","v":62.47},{"$f":"IFERROR(RTD(\"cqg.rtd\",,\"StudyData\",A357,\"Bar\",, \"Low\",$C$1,\"0\",,,,,\"T\"),\"\")","v":59.93},{"$f":"IFERROR(RTD(\"cqg.rtd\",,\"StudyData\",\"HiLevel(\"&A357&\",Period1:=\"&$B$1&\",AllowGaps:=0,InputChoice1:=High,InputChoice3:=High)\",\"Bar\",, \"Close\",$C$1,\"-1\",,,,,\"T\"),\"\")","v":63.24},{"$f":"IFERROR(RTD(\"cqg.rtd\",,\"StudyData\",\"LoLevel(\"&A357&\",Period2:=\"&$B$1&\",AllowGaps:=0,InputChoice2:=Low,InputChoice4:=Low)\",\"Bar\",, \"Close\",$C$1,\"-1\",,,,,\"T\"),\"\")","v":21.62},0,0,16.005000000000006,15.005999999999997,"S.US.OXY",{"$f":"RTD(\"cqg.rtd\", ,\"ContractData\",A357, \"PerCentNetLastTrade\",, \"T\")/100","v":4.7522750252780591E-2},{"$f":"RANK($K357,$K$2:K$506)+COUNTIF($K$2:K357,K357)-1","v":{"$error":"#VALUE!"}},"S.US.OXY",356,"",{"$f":"RTD(\"cqg.rtd\", ,\"ContractData\",O357, \"PerCentNetLastTrade\",, \"T\")/100","v":{"$error":"#VALUE!"}},{"$error":"#N/A"},null,356,""]
[{"$f":"Symbols!A358","v":"S.US.PARA"},{"$f":"IFERROR(RTD(\"cqg.rtd\",,\"StudyData\",A358,\"Bar\",, \"High\",$C$1,\"0\",,,,,\"T\"),\"\")","v":36.53},{"$f":"IFERROR(RTD(\"cqg.rtd\",,\"StudyData\",A358,\"Bar\",, \"Low\",$C$1,\"0\",,,,,\"T\"),\"\")","v":36.08},{"$f":"IFERROR(RTD(\"cqg.rtd\",,\"StudyData\",\"HiLevel(\"&A358&\",Period1:=\"&$B$1&\",AllowGaps:=0,InputChoice1:=High,InputChoice3:=High)\",\"Bar\",, \"Close\",$C$1,\"-1\",,,,,\"T\"),\"\")","v":47.45},{"$f":"IFERROR(RTD(\"cqg.rtd\",,\"StudyData\",\"LoLevel(\"&A358&\",Period2:=\"&$B$1&\",AllowGaps:=0,InputChoice2:=Low,InputChoice4:=Low)\",\"Bar\",, \"Close\",$C$1,\"-1\",,,,,\"T\"),\"\")","v":27.25},0,0,16.006000000000007,15.006999999999996,"S.US.PARA",{"$f":"RTD(\"cqg.rtd\", ,\"ContractData\",A358, \"PerCentNetLastTrade\",, \"T\")/100","v":1.3732491073880802E-3},{"$f":"RANK($K358,$K$2:K$506)+COUNTIF($K$2:K358,K358)-1","v":{"$error":"#VALUE!"}},"S.US.PARA",357,"",{"$f":"RTD(\"cqg.rtd\", ,\"ContractData\",O358, \"PerCentNetLastTrade\",, \"T\")/100","v":{"$error":"#VALUE!"}},{"$error":"#N/A"},null,357,""]
[{"$f":"Symbols!A359","v":"S.US.PAYC"},{"$f":"IFERROR(RTD(\"cqg.rtd\",,\"StudyData\",A359,\"Bar\",, \"High\",$C$1,\"0\",,,,,\"T\"),\"\")","v":317.27},{"$f":"IFERROR(RTD(\"cqg.rtd\",,\"StudyData\",A359,\"Bar\",, \"Low\",$C$1,\"0\",,,,,\"T\"),\"\")","v":303.55},{"$f":"IFERROR(RTD(\"cqg.rtd\",,\"StudyData\",\"HiLevel(\"&A359&\",Period1:=\"&$B$1&\",AllowGaps:=0,InputChoice1:=High,InputChoice3:=High)\",\"Bar\",, \"Close\",$C$1,\"-1\",,,,,\"T\"),\"\")","v":558.97},{"$f":"IFERROR(RTD(\"cqg.rtd\",,\"StudyData\",\"LoLevel(\"&A359&\",Period2:=\"&$B$1&\",AllowGaps:=0,InputChoice2:=Low,InputChoice4:=Low)\",\"Bar\",, \"Close\",$C$1,\"-1\",,,,,\"T\"),\"\")","v":283.91000000000003},0,0,16.007000000000009,15.007999999999996,"S.US.PAYC",{"$f":"RTD(\"cqg.rtd\", ,\"ContractData\",A359, \"PerCentNetLastTrade\",, \"T\")/100","v":-4.7814378757515028E-2},{"$f":"RANK($K359,$K$2:K$506)+COUNTIF($K$2:K359,K359)-1","v":{"$error":"#VALUE!"}},"S.US.PAYC",358,"",{"$f":"RTD(\"cqg.rtd\", ,\"ContractData\",O359, \"PerCentNetLastTrade\",, \"T\")/100","v":{"$error":"#VALUE!"}},{"$error":"#N/A"},null,358,""]
[{"$f":"Symbols!A360","v":"S.US.PAYX"},{"$f":"IFERROR(RTD(\"cqg.rtd\",,\"StudyData\",A360,\"Bar\",, \"High\",$C$1,\"0\",,,,,\"T\"),\"\")","v":137.19},{"$f":"IFERROR(RTD(\"cqg.rtd\",,\"StudyData\",A360,\"Bar\",, \"Low\",$C$1,\"0\",,,,,\"T\"),\"\")","v":135.91},{"$f":"IFERROR(RTD(\"cqg.rtd\",,\"StudyData\",\"HiLevel(\"&A360&\",Period1:=\"&$B$1&\",AllowGaps:=0,InputChoice1:=High,InputChoice3:=High)\",\"Bar\",, \"Close\",$C$1,\"-1\",,,,,\"T\"),\"\")","v":141.91999999999999},{"$f":"IFERROR(RTD(\"cqg.rtd\",,\"StudyData\",\"LoLevel(\"&A360&\",Period2:=\"&$B$1&\",AllowGaps:=0,InputChoice2:=Low,InputChoice4:=Low)\",\"Bar\",, \"Close\",$C$1,\"-1\",,,,,\"T\"),\"\")","v":95.91},0,0,16.00800000000001,15.008999999999995,"S.US.PAYX",{"$f":"RTD(\"cqg.rtd\", ,\"ContractData\",A360, \"PerCentNetLastTrade\",, \"T\")/100","v":1.6094813080693539E-3},{"$f":"RANK($K360,$K$2:K$506)+COUNTIF($K$2:K360,K360)-1","v":{"$error":"#VALUE!"}},"S.US.PAYX",359,"",{"$f":"RTD(\"cqg.rtd\", ,\"ContractData\",O360, \"PerCentNetLastTrade\",, \"T\")/100","v":{"$error":"#VALUE!"}},{"$error":"#N/A"},null,359,""]
[{"$f":"Symbols!A361","v":"S.US.PCAR"},{"$f":"IFERROR(RTD(\"cqg.rtd\",,\"StudyData\",A361,\"Bar\",, \"High\",$C$1,\"0\",,,,,\"T\"),\"\")","v":84},{"$f":"IFERROR(RTD(\"cqg.rtd\",,\"StudyData\",A361,\"Bar\",, \"Low\",$C$1,\"0\",,,,,\"T\"),\"\")","v":83.14},{"$f":"IFERROR(RTD(\"cqg.rtd\",,\"StudyData\",\"HiLevel(\"&A361&\",Period1:=\"&$B$1&\",AllowGaps:=0,InputChoice1:=High,InputChoice3:=High)\",\"Bar\",, \"Close\",$C$1,\"-1\",,,,,\"T\"),\"\")","v":97.56},{"$f":"IFERROR(RTD(\"cqg.rtd\",,\"StudyData\",\"LoLevel(\"&A361&\",Period2:=\"&$B$1&\",AllowGaps:=0,InputChoice2:=Low,InputChoice4:=Low)\",\"Bar\",, \"Close\",$C$1,\"-1\",,,,,\"T\"),\"\")","v":77.959999999999994},{"$f":"IF(B361=\"\",0,IFERROR(IF(B361>D361,1,0),\"\"))","v":0},{"$f":"IF(C361=\"\",0,IFERROR(IF(C361<E361,1,0),\"\"))","v":0},{"$f":"IF(F361=1,INT(H360+1),H360+0.001)","v":16.009000000000011},{"$f":"IF(G361=1,INT(I360+1),I360+0.001)","v":15.009999999999994},{"$f":"A361","v":"S.US.PCAR"},{"$f":"RTD(\"cqg.rtd\", ,\"ContractData\",A361, \"PerCentNetLastTrade\",, \"T\")/100","v":-1.1946004061641382E-3},{"$f":"RANK($K361,$K$2:K$506)+COUNTIF($K$2:K361,K361)-1","v":{"$error":"#VALUE!"}},"S.US.PCAR",360,"",{"$f":"RTD(\"cqg.rtd\", ,\"ContractData\",O361, \"PerCentNetLastTrade\",, \"T\")/100","v":{"$error":"#VALUE!"}},{"$error":"#N/A"},null,360,""]
[{"$f":"Symbols!A362","v":"S.US.PEAK"},{"$f":"IFERROR(RTD(\"cqg.rtd\",,\"StudyData\",A362,\"Bar\",, \"High\",$C$1,\"0\",,,,,\"T\"),\"\")","v":35.03},{"$f":"IFERROR(RTD(\"cqg.rtd\",,\"StudyData\",A362,\"Bar\",, \"Low\",$C$1,\"0\",,,,,\"T\"),\"\")","v":34.89},{"$f":"IFERROR(RTD(\"cqg.rtd\",,\"StudyData\",\"HiLevel(\"&A362&\",Period1:=\"&$B$1&\",AllowGaps:=0,InputChoice1:=High,InputChoice3:=High)\",\"Bar\",, \"Close\",$C$1,\"-1\",,,,,\"T\"),\"\")","v":37.69},{"$f":"IFERROR(RTD(\"cqg.rtd\",,\"StudyData\",\"LoLevel(\"&A362&\",Period2:=\"&$B$1&\",AllowGaps:=0,InputChoice2:=Low,InputChoice4:=Low)\",\"Bar\",, \"Close\",$C$1,\"-1\",,,,,\"T\"),\"\")","v":30.15},0,0,16.010000000000012,15.010999999999994,"S.US.PEAK",{"$f":"RTD(\"cqg.rtd\", ,\"ContractData\",A362, \"PerCentNetLastTrade\",, \"T\")/100","v":-3.4256351698544107E-3},{"$f":"RANK($K362,$K$2:K$506)+COUNTIF($K$2:K362,K362)-1","v":{"$error":"#VALUE!"}},"S.US.PEAK",361,"",{"$f":"RTD(\"cqg.rtd\", ,\"ContractData\",O362, \"PerCentNetLastTrade\",, \"T\")/100","v":{"$error":"#VALUE!"}},{"$error":"#N/A"},null,361,""]
[{"$f":"Symbols!A363","v":"S.US.PEG"},{"$f":"IFERROR(RTD(\"cqg.rtd\",,\"StudyData\",A363,\"Bar\",, \"High\",$C$1,\"0\",,,,,\"T\"),\"\")","v":73.39},{"$f":"IFERROR(RTD(\"cqg.rtd\",,\"StudyData\",A363,\"Bar\",, \"Low\",$C$1,\"0\",,,,,\"T\"),\"\")","v":72.98},{"$f":"IFERROR(RTD(\"cqg.rtd\",,\"StudyData\",\"HiLevel(\"&A363&\",Period1:=\"&$B$1&\",AllowGaps:=0,InputChoice1:=High,InputChoice3:=High)\",\"Bar\",, \"Close\",$C$1,\"-1\",,,,,\"T\"),\"\")","v":73.290000000000006},{"$f":"IFERROR(RTD(\"cqg.rtd\",,\"StudyData\",\"LoLevel(\"&A363&\",Period2:=\"&$B$1&\",AllowGaps:=0,InputChoice2:=Low,InputChoice4:=Low)\",\"Bar\",, \"Close\",$C$1,\"-1\",,,,,\"T\"),\"\")","v":58.96},1,0,17,15.011999999999993,"S.US.PEG",{"$f":"RTD(\"cqg.rtd\", ,\"ContractData\",A363, \"PerCentNetLastTrade\",, \"T\")/100","v":7.4175824175824181E-3},{"$f":"RANK($K363,$K$2:K$506)+COUNTIF($K$2:K363,K363)-1","v":{"$error":"#VALUE!"}},"S.US.PEG",362,"",{"$f":"RTD(\"cqg.rtd\", ,\"ContractData\",O363, \"PerCentNetLastTrade\",, \"T\")/100","v":{"$error":"#VALUE!"}},{"$error":"#N/A"},null,362,""]
[{"$f":"Symbols!A364","v":"S.US.PENN"},{"$f":"IFERROR(RTD(\"cqg.rtd\",,\"StudyData\",A364,\"Bar\",, \"High\",$C$1,\"0\",,,,,\"T\"),\"\")","v":37.200000000000003},{"$f":"IFERROR(RTD(\"cqg.rtd\",,\"StudyData\",A364,\"Bar\",, \"Low\",$C$1,\"0\",,,,,\"T\"),\"\")","v":36.549999999999997},{"$f":"IFERROR(RTD(\"cqg.rtd\",,\"StudyData\",\"HiLevel(\"&A364&\",Period1:=\"&$B$1&\",AllowGaps:=0,InputChoice1:=High,InputChoice3:=High)\",\"Bar\",, \"Close\",$C$1,\"-1\",,,,,\"T\"),\"\")","v":99.71},{"$f":"IFERROR(RTD(\"cqg.rtd\",,\"StudyData\",\"LoLevel(\"&A364&\",Period2:=\"&$B$1&\",AllowGaps:=0,InputChoice2:=Low,InputChoice4:=Low)\",\"Bar\",, \"Close\",$C$1,\"-1\",,,,,\"T\"),\"\")","v":35.9},0,0,17.001000000000001,15.012999999999993,"S.US.PENN",{"$f":"RTD(\"cqg.rtd\", ,\"ContractData\",A364, \"PerCentNetLastTrade\",, \"T\")/100","v":-1.7976925140863968E-2},{"$f":"RANK($K364,$K$2:K$506)+COUNTIF($K$2:K364,K364)-1","v":{"$error":"#VALUE!"}},"S.US.PENN",363,"",{"$f":"RTD(\"cqg.rtd\", ,\"ContractData\",O364, \"PerCentNetLastTrade\",, \"T\")/100","v":{"$error":"#VALUE!"}},{"$error":"#N/A"},null,363,""]
[{"$f":"Symbols!A365","v":"S.US.PEP"},{"$f":"IFERROR(RTD(\"cqg.rtd\",,\"StudyData\",A365,\"Bar\",, \"High\",$C$1,\"0\",,,,,\"T\"),\"\")","v":172.31},{"$f":"IFERROR(RTD(\"cqg.rtd\",,\"StudyData\",A365,\"Bar\",, \"Low\",$C$1,\"0\",,,,,\"T\"),\"\")","v":171.22},{"$f":"IFERROR(RTD(\"cqg.rtd\",,\"StudyData\",\"HiLevel(\"&A365&\",Period1:=\"&$B$1&\",AllowGaps:=0,InputChoice1:=High,InputChoice3:=High)\",\"Bar\",, \"Close\",$C$1,\"-1\",,,,,\"T\"),\"\")","v":177.24},{"$f":"IFERROR(RTD(\"cqg.rtd\",,\"StudyData\",\"LoLevel(\"&A365&\",Period2:=\"&$B$1&\",AllowGaps:=0,InputChoice2:=Low,InputChoice4:=Low)\",\"Bar\",, \"Close\",$C$1,\"-1\",,,,,\"T\"),\"\")","v":141.72},0,0,17.002000000000002,15.013999999999992,"S.US.PEP",{"$f":"RTD(\"cqg.rtd\", ,\"ContractData\",A365, \"PerCentNetLastTrade\",, \"T\")/100","v":1.3961605584642235E-3},{"$f":"RANK($K365,$K$2:K$506)+COUNTIF($K$2:K365,K365)-1","v":{"$error":"#VALUE!"}},"S.US.PEP",364,"",{"$f":"RTD(\"cqg.rtd\", ,\"ContractData\",O365, \"PerCentNetLastTrade\",, \"T\")/100","v":{"$error":"#VALUE!"}},{"$error":"#N/A"},null,364,""]
[{"$f":"Symbols!A366","v":"S.US.PFE"},{"$f":"IFERROR(RTD(\"cqg.rtd\",,\"StudyData\",A366,\"Bar\",, \"High\",$C$1,\"0\",,,,,\"T\"),\"\")","v":53.11},{"$f":"IFERROR(RTD(\"cqg.rtd\",,\"StudyData\",A366,\"Bar\",, \"Low\",$C$1,\"0\",,,,,\"T\"),\"\")","v":52.6},{"$f":"IFERROR(RTD(\"cqg.rtd\",,\"StudyData\",\"HiLevel(\"&A366&\",Period1:=\"&$B$1&\",AllowGaps:=0,InputChoice1:=High,InputChoice3:=High)\",\"Bar\",, \"Close\",$C$1,\"-1\",,,,,\"T\"),\"\")","v":61.71},{"$f":"IFERROR(RTD(\"cqg.rtd\",,\"StudyData\",\"LoLevel(\"&A366&\",Period2:=\"&$B$1&\",AllowGaps:=0,InputChoice2:=Low,InputChoice4:=Low)\",\"Bar\",, \"Close\",$C$1,\"-1\",,,,,\"T\"),\"\")","v":37.96},0,0,17.003000000000004,15.014999999999992,"S.US.PFE",{"$f":"RTD(\"cqg.rtd\", ,\"ContractData\",A366, \"PerCentNetLastTrade\",, \"T\")/100","v":-2.6355421686746986E-3},{"$f":"RANK($K366,$K$2:K$506)+COUNTIF($K$2:K366,K366)-1","v":{"$error":"#VALUE!"}},"S.US.PFE",365,"",{"$f":"RTD(\"cqg.rtd\", ,\"ContractData\",O366, \"PerCentNetLastTrade\",, \"T\")/100","v":{"$error":"#VALUE!"}},{"$error":"#N/A"},null,365,""]
[{"$f":"Symbols!A367","v":"S.US.PFG"},{"$f":"IFERROR(RTD(\"cqg.rtd\",,\"StudyData\",A367,\"Bar\",, \"High\",$C$1,\"0\",,,,,\"T\"),\"\")","v":74.39},{"$f":"IFERROR(RTD(\"cqg.rtd\",,\"StudyData\",A367,\"Bar\",, \"Low\",$C$1,\"0\",,,,,\"T\"),\"\")","v":73.47},{"$f":"IFERROR(RTD(\"cqg.rtd\",,\"StudyData\",\"HiLevel(\"&A367&\",Period1:=\"&$B$1&\",AllowGaps:=0,InputChoice1:=High,InputChoice3:=High)\",\"Bar\",, \"Close\",$C$1,\"-1\",,,,,\"T\"),\"\")","v":80.36},{"$f":"IFERROR(RTD(\"cqg.rtd\",,\"StudyData\",\"LoLevel(\"&A367&\",Period2:=\"&$B$1&\",AllowGaps:=0,InputChoice2:=Low,InputChoice4:=Low)\",\"Bar\",, \"Close\",$C$1,\"-1\",,,,,\"T\"),\"\")","v":58.66},0,0,17.004000000000005,15.015999999999991,"S.US.PFG",{"$f":"RTD(\"cqg.rtd\", ,\"ContractData\",A367, \"PerCentNetLastTrade\",, \"T\")/100","v":5.4090601757944556E-3},{"$f":"RANK($K367,$K$2:K$506)+COUNTIF($K$2:K367,K367)-1","v":{"$error":"#VALUE!"}},"S.US.PFG",366,"",{"$f":"RTD(\"cqg.rtd\", ,\"ContractData\",O367, \"PerCentNetLastTrade\",, \"T\")/100","v":{"$error":"#VALUE!"}},{"$error":"#N/A"},null,366,""]
[{"$f":"Symbols!A368","v":"S.US.PG"},{"$f":"IFERROR(RTD(\"cqg.rtd\",,\"StudyData\",A368,\"Bar\",, \"High\",$C$1,\"0\",,,,,\"T\"),\"\")","v":158.97999999999999},{"$f":"IFERROR(RTD(\"cqg.rtd\",,\"StudyData\",A368,\"Bar\",, \"Low\",$C$1,\"0\",,,,,\"T\"),\"\")","v":158.4},{"$f":"IFERROR(RTD(\"cqg.rtd\",,\"StudyData\",\"HiLevel(\"&A368&\",Period1:=\"&$B$1&\",AllowGaps:=0,InputChoice1:=High,InputChoice3:=High)\",\"Bar\",, \"Close\",$C$1,\"-1\",,,,,\"T\"),\"\")","v":165.35},{"$f":"IFERROR(RTD(\"cqg.rtd\",,\"StudyData\",\"LoLevel(\"&A368&\",Period2:=\"&$B$1&\",AllowGaps:=0,InputChoice2:=Low,InputChoice4:=Low)\",\"Bar\",, \"Close\",$C$1,\"-1\",,,,,\"T\"),\"\")","v":130.29},0,0,17.005000000000006,15.016999999999991,"S.US.PG",{"$f":"RTD(\"cqg.rtd\", ,\"ContractData\",A368, \"PerCentNetLastTrade\",, \"T\")/100","v":8.1982720565050137E-4},{"$f":"RANK($K368,$K$2:K$506)+COUNTIF($K$2:K368,K368)-1","v":{"$error":"#VALUE!"}},"S.US.PG",367,"",{"$f":"RTD(\"cqg.rtd\", ,\"ContractData\",O368, \"PerCentNetLastTrade\",, \"T\")/100","v":{"$error":"#VALUE!"}},{"$error":"#N/A"},null,367,""]
[{"$f":"Symbols!A369","v":"S.US.PGR"},{"$f":"IFERROR(RTD(\"cqg.rtd\",,\"StudyData\",A369,\"Bar\",, \"High\",$C$1,\"0\",,,,,\"T\"),\"\")","v":110.76},{"$f":"IFERROR(RTD(\"cqg.rtd\",,\"StudyData\",A369,\"Bar\",, \"Low\",$C$1,\"0\",,,,,\"T\"),\"\")","v":108.9},{"$f":"IFERROR(RTD(\"cqg.rtd\",,\"StudyData\",\"HiLevel(\"&A369&\",Period1:=\"&$B$1&\",AllowGaps:=0,InputChoice1:=High,InputChoice3:=High)\",\"Bar\",, \"Close\",$C$1,\"-1\",,,,,\"T\"),\"\")","v":120.17},{"$f":"IFERROR(RTD(\"cqg.rtd\",,\"StudyData\",\"LoLevel(\"&A369&\",Period2:=\"&$B$1&\",AllowGaps:=0,InputChoice2:=Low,InputChoice4:=Low)\",\"Bar\",, \"Close\",$C$1,\"-1\",,,,,\"T\"),\"\")","v":89.35},0,0,17.006000000000007,15.01799999999999,"S.US.PGR",{"$f":"RTD(\"cqg.rtd\", ,\"ContractData\",A369, \"PerCentNetLastTrade\",, \"T\")/100","v":-2.2477923468022479E-2},{"$f":"RANK($K369,$K$2:K$506)+COUNTIF($K$2:K369,K369)-1","v":{"$error":"#VALUE!"}},"S.US.PGR",368,"",{"$f":"RTD(\"cqg.rtd\", ,\"ContractData\",O369, \"PerCentNetLastTrade\",, \"T\")/100","v":{"$error":"#VALUE!"}},{"$error":"#N/A"},null,368,""]
[{"$f":"Symbols!A370","v":"S.US.PH"},{"$f":"IFERROR(RTD(\"cqg.rtd\",,\"StudyData\",A370,\"Bar\",, \"High\",$C$1,\"0\",,,,,\"T\"),\"\")","v":275.2},{"$f":"IFERROR(RTD(\"cqg.rtd\",,\"StudyData\",A370,\"Bar\",, \"Low\",$C$1,\"0\",,,,,\"T\"),\"\")","v":272.45},{"$f":"IFERROR(RTD(\"cqg.rtd\",,\"StudyData\",\"HiLevel(\"&A370&\",Period1:=\"&$B$1&\",AllowGaps:=0,InputChoice1:=High,InputChoice3:=High)\",\"Bar\",, \"Close\",$C$1,\"-1\",,,,,\"T\"),\"\")","v":340},{"$f":"IFERROR(RTD(\"cqg.rtd\",,\"StudyData\",\"LoLevel(\"&A370&\",Period2:=\"&$B$1&\",AllowGaps:=0,InputChoice2:=Low,InputChoice4:=Low)\",\"Bar\",, \"Close\",$C$1,\"-1\",,,,,\"T\"),\"\")","v":266.94},0,0,17.007000000000009,15.018999999999989,"S.US.PH",{"$f":"RTD(\"cqg.rtd\", ,\"ContractData\",A370, \"PerCentNetLastTrade\",, \"T\")/100","v":1.0954102311315588E-3},{"$f":"RANK($K370,$K$2:K$506)+COUNTIF($K$2:K370,K370)-1","v":{"$error":"#VALUE!"}},"S.US.PH",369,"",{"$f":"RTD(\"cqg.rtd\", ,\"ContractData\",O370, \"PerCentNetLastTrade\",, \"T\")/100","v":{"$error":"#VALUE!"}},{"$error":"#N/A"},null,369,""]
[{"$f":"Symbols!A371","v":"S.US.PHM"},{"$f":"IFERROR(RTD(\"cqg.rtd\",,\"StudyData\",A371,\"Bar\",, \"High\",$C$1,\"0\",,,,,\"T\"),\"\")","v":42.8},{"$f":"IFERROR(RTD(\"cqg.rtd\",,\"StudyData\",A371,\"Bar\",, \"Low\",$C$1,\"0\",,,,,\"T\"),\"\")","v":41.69},{"$f":"IFERROR(RTD(\"cqg.rtd\",,\"StudyData\",\"HiLevel(\"&A371&\",Period1:=\"&$B$1&\",AllowGaps:=0,InputChoice1:=High,InputChoice3:=High)\",\"Bar\",, \"Close\",$C$1,\"-1\",,,,,\"T\"),\"\")","v":63.9},{"$f":"IFERROR(RTD(\"cqg.rtd\",,\"StudyData\",\"LoLevel(\"&A371&\",Period2:=\"&$B$1&\",AllowGaps:=0,InputChoice2:=Low,InputChoice4:=Low)\",\"Bar\",, \"Close\",$C$1,\"-1\",,,,,\"T\"),\"\")","v":39.61},0,0,17.00800000000001,15.019999999999989,"S.US.PHM",{"$f":"RTD(\"cqg.rtd\", ,\"ContractData\",A371, \"PerCentNetLastTrade\",, \"T\")/100","v":3.7905709547500594E-3},{"$f":"RANK($K371,$K$2:K$506)+COUNTIF($K$2:K371,K371)-1","v":{"$error":"#VALUE!"}},"S.US.PHM",370,"",{"$f":"RTD(\"cqg.rtd\", ,\"ContractData\",O371, \"PerCentNetLastTrade\",, \"T\")/100","v":{"$error":"#VALUE!"}},{"$error":"#N/A"},null,370,""]
[{"$f":"Symbols!A372","v":"S.US.PKG"},{"$f":"IFERROR(RTD(\"cqg.rtd\",,\"StudyData\",A372,\"Bar\",, \"High\",$C$1,\"0\",,,,,\"T\"),\"\")","v":164.31},{"$f":"IFERROR(RTD(\"cqg.rtd\",,\"StudyData\",A372,\"Bar\",, \"Low\",$C$1,\"0\",,,,,\"T\"),\"\")","v":162.81},{"$f":"IFERROR(RTD(\"cqg.rtd\",,\"StudyData\",\"HiLevel(\"&A372&\",Period1:=\"&$B$1&\",AllowGaps:=0,InputChoice1:=High,InputChoice3:=High)\",\"Bar\",, \"Close\",$C$1,\"-1\",,,,,\"T\"),\"\")","v":164.27},{"$f":"IFERROR(RTD(\"cqg.rtd\",,\"StudyData\",\"LoLevel(\"&A372&\",Period2:=\"&$B$1&\",AllowGaps:=0,InputChoice2:=Low,InputChoice4:=Low)\",\"Bar\",, \"Close\",$C$1,\"-1\",,,,,\"T\"),\"\")","v":124.78},1,0,18,15.020999999999988,"S.US.PKG",{"$f":"RTD(\"cqg.rtd\", ,\"ContractData\",A372, \"PerCentNetLastTrade\",, \"T\")/100","v":6.931664826401669E-3},{"$f":"RANK($K372,$K$2:K$506)+COUNTIF($K$2:K372,K372)-1","v":{"$error":"#VALUE!"}},"S.US.PKG",371,"",{"$f":"RTD(\"cqg.rtd\", ,\"ContractData\",O372, \"PerCentNetLastTrade\",, \"T\")/100","v":{"$error":"#VALUE!"}},{"$error":"#N/A"},null,371,""]
[{"$f":"Symbols!A373","v":"S.US.PKI"},{"$f":"IFERROR(RTD(\"cqg.rtd\",,\"StudyData\",A373,\"Bar\",, \"High\",$C$1,\"0\",,,,,\"T\"),\"\")","v":161.85},{"$f":"IFERROR(RTD(\"cqg.rtd\",,\"StudyData\",A373,\"Bar\",, \"Low\",$C$1,\"0\",,,,,\"T\"),\"\")","v":161.02000000000001},{"$f":"IFERROR(RTD(\"cqg.rtd\",,\"StudyData\",\"HiLevel(\"&A373&\",Period1:=\"&$B$1&\",AllowGaps:=0,InputChoice1:=High,InputChoice3:=High)\",\"Bar\",, \"Close\",$C$1,\"-1\",,,,,\"T\"),\"\")","v":203.16},{"$f":"IFERROR(RTD(\"cqg.rtd\",,\"StudyData\",\"LoLevel(\"&A373&\",Period2:=\"&$B$1&\",AllowGaps:=0,InputChoice2:=Low,InputChoice4:=Low)\",\"Bar\",, \"Close\",$C$1,\"-1\",,,,,\"T\"),\"\")","v":126.75},0,0,18.001000000000001,15.021999999999988,"S.US.PKI",{"$f":"RTD(\"cqg.rtd\", ,\"ContractData\",A373, \"PerCentNetLastTrade\",, \"T\")/100","v":-2.4780076818238135E-3},{"$f":"RANK($K373,$K$2:K$506)+COUNTIF($K$2:K373,K373)-1","v":{"$error":"#VALUE!"}},"S.US.PKI",372,"",{"$f":"RTD(\"cqg.rtd\", ,\"ContractData\",O373, \"PerCentNetLastTrade\",, \"T\")/100","v":{"$error":"#VALUE!"}},{"$error":"#N/A"},null,372,""]
[{"$f":"Symbols!A374","v":"S.US.PLD"},{"$f":"IFERROR(RTD(\"cqg.rtd\",,\"StudyData\",A374,\"Bar\",, \"High\",$C$1,\"0\",,,,,\"T\"),\"\")","v":164.08},{"$f":"IFERROR(RTD(\"cqg.rtd\",,\"StudyData\",A374,\"Bar\",, \"Low\",$C$1,\"0\",,,,,\"T\"),\"\")","v":162.57},{"$f":"IFERROR(RTD(\"cqg.rtd\",,\"StudyData\",\"HiLevel(\"&A374&\",Period1:=\"&$B$1&\",AllowGaps:=0,InputChoice1:=High,InputChoice3:=High)\",\"Bar\",, \"Close\",$C$1,\"-1\",,,,,\"T\"),\"\")","v":170.66},{"$f":"IFERROR(RTD(\"cqg.rtd\",,\"StudyData\",\"LoLevel(\"&A374&\",Period2:=\"&$B$1&\",AllowGaps:=0,InputChoice2:=Low,InputChoice4:=Low)\",\"Bar\",, \"Close\",$C$1,\"-1\",,,,,\"T\"),\"\")","v":110.69},0,0,18.002000000000002,15.022999999999987,"S.US.PLD",{"$f":"RTD(\"cqg.rtd\", ,\"ContractData\",A374, \"PerCentNetLastTrade\",, \"T\")/100","v":4.9170251997541483E-3},{"$f":"RANK($K374,$K$2:K$506)+COUNTIF($K$2:K374,K374)-1","v":{"$error":"#VALUE!"}},"S.US.PLD",373,"",{"$f":"RTD(\"cqg.rtd\", ,\"ContractData\",O374, \"PerCentNetLastTrade\",, \"T\")/100","v":{"$error":"#VALUE!"}},{"$error":"#N/A"},null,373,""]
[{"$f":"Symbols!A375","v":"S.US.PM"},{"$f":"IFERROR(RTD(\"cqg.rtd\",,\"StudyData\",A375,\"Bar\",, \"High\",$C$1,\"0\",,,,,\"T\"),\"\")","v":102.05},{"$f":"IFERROR(RTD(\"cqg.rtd\",,\"StudyData\",A375,\"Bar\",, \"Low\",$C$1,\"0\",,,,,\"T\"),\"\")","v":101.33},{"$f":"IFERROR(RTD(\"cqg.rtd\",,\"StudyData\",\"HiLevel(\"&A375&\",Period1:=\"&$B$1&\",AllowGaps:=0,InputChoice1:=High,InputChoice3:=High)\",\"Bar\",, \"Close\",$C$1,\"-1\",,,,,\"T\"),\"\")","v":112.48},{"$f":"IFERROR(RTD(\"cqg.rtd\",,\"StudyData\",\"LoLevel(\"&A375&\",Period2:=\"&$B$1&\",AllowGaps:=0,InputChoice2:=Low,InputChoice4:=Low)\",\"Bar\",, \"Close\",$C$1,\"-1\",,,,,\"T\"),\"\")","v":85.64},0,0,18.003000000000004,15.023999999999987,"S.US.PM",{"$f":"RTD(\"cqg.rtd\", ,\"ContractData\",A375, \"PerCentNetLastTrade\",, \"T\")/100","v":-9.826078412105728E-5},{"$f":"RANK($K375,$K$2:K$506)+COUNTIF($K$2:K375,K375)-1","v":{"$error":"#VALUE!"}},"S.US.PM",374,"",{"$f":"RTD(\"cqg.rtd\", ,\"ContractData\",O375, \"PerCentNetLastTrade\",, \"T\")/100","v":{"$error":"#VALUE!"}},{"$error":"#N/A"},null,374,""]
[{"$f":"Symbols!A376","v":"S.US.PNC"},{"$f":"IFERROR(RTD(\"cqg.rtd\",,\"StudyData\",A376,\"Bar\",, \"High\",$C$1,\"0\",,,,,\"T\"),\"\")","v":177.3},{"$f":"IFERROR(RTD(\"cqg.rtd\",,\"StudyData\",A376,\"Bar\",, \"Low\",$C$1,\"0\",,,,,\"T\"),\"\")","v":173.95},{"$f":"IFERROR(RTD(\"cqg.rtd\",,\"StudyData\",\"HiLevel(\"&A376&\",Period1:=\"&$B$1&\",AllowGaps:=0,InputChoice1:=High,InputChoice3:=High)\",\"Bar\",, \"Close\",$C$1,\"-1\",,,,,\"T\"),\"\")","v":228.14},{"$f":"IFERROR(RTD(\"cqg.rtd\",,\"StudyData\",\"LoLevel(\"&A376&\",Period2:=\"&$B$1&\",AllowGaps:=0,InputChoice2:=Low,InputChoice4:=Low)\",\"Bar\",, \"Close\",$C$1,\"-1\",,,,,\"T\"),\"\")","v":170.13},0,0,18.004000000000005,15.024999999999986,"S.US.PNC",{"$f":"RTD(\"cqg.rtd\", ,\"ContractData\",A376, \"PerCentNetLastTrade\",, \"T\")/100","v":1.24E-2},{"$f":"RANK($K376,$K$2:K$506)+COUNTIF($K$2:K376,K376)-1","v":{"$error":"#VALUE!"}},"S.US.PNC",375,"",{"$f":"RTD(\"cqg.rtd\", ,\"ContractData\",O376, \"PerCentNetLastTrade\",, \"T\")/100","v":{"$error":"#VALUE!"}},{"$error":"#N/A"},null,375,""]
[{"$f":"Symbols!A377","v":"S.US.PNR"},{"$f":"IFERROR(RTD(\"cqg.rtd\",,\"StudyData\",A377,\"Bar\",, \"High\",$C$1,\"0\",,,,,\"T\"),\"\")","v":52.45},{"$f":"IFERROR(RTD(\"cqg.rtd\",,\"StudyData\",A377,\"Bar\",, \"Low\",$C$1,\"0\",,,,,\"T\"),\"\")","v":51.87},{"$f":"IFERROR(RTD(\"cqg.rtd\",,\"StudyData\",\"HiLevel(\"&A377&\",Period1:=\"&$B$1&\",AllowGaps:=0,InputChoice1:=High,InputChoice3:=High)\",\"Bar\",, \"Close\",$C$1,\"-1\",,,,,\"T\"),\"\")","v":80.400000000000006},{"$f":"IFERROR(RTD(\"cqg.rtd\",,\"StudyData\",\"LoLevel(\"&A377&\",Period2:=\"&$B$1&\",AllowGaps:=0,InputChoice2:=Low,InputChoice4:=Low)\",\"Bar\",, \"Close\",$C$1,\"-1\",,,,,\"T\"),\"\")","v":52.12},0,1,18.005000000000006,16,"S.US.PNR",{"$f":"RTD(\"cqg.rtd\", ,\"ContractData\",A377, \"PerCentNetLastTrade\",, \"T\")/100","v":-5.7219149341979783E-3},{"$f":"RANK($K377,$K$2:K$506)+COUNTIF($K$2:K377,K377)-1","v":{"$error":"#VALUE!"}},"S.US.PNR",376,"",{"$f":"RTD(\"cqg.rtd\", ,\"ContractData\",O377, \"PerCentNetLastTrade\",, \"T\")/100","v":{"$error":"#VALUE!"}},{"$error":"#N/A"},null,376,""]
[{"$f":"Symbols!A378","v":"S.US.PNW"},{"$f":"IFERROR(RTD(\"cqg.rtd\",,\"StudyData\",A378,\"Bar\",, \"High\",$C$1,\"0\",,,,,\"T\"),\"\")","v":78.11},{"$f":"IFERROR(RTD(\"cqg.rtd\",,\"StudyData\",A378,\"Bar\",, \"Low\",$C$1,\"0\",,,,,\"T\"),\"\")","v":77.5},{"$f":"IFERROR(RTD(\"cqg.rtd\",,\"StudyData\",\"HiLevel(\"&A378&\",Period1:=\"&$B$1&\",AllowGaps:=0,InputChoice1:=High,InputChoice3:=High)\",\"Bar\",, \"Close\",$C$1,\"-1\",,,,,\"T\"),\"\")","v":88.54},{"$f":"IFERROR(RTD(\"cqg.rtd\",,\"StudyData\",\"LoLevel(\"&A378&\",Period2:=\"&$B$1&\",AllowGaps:=0,InputChoice2:=Low,InputChoice4:=Low)\",\"Bar\",, \"Close\",$C$1,\"-1\",,,,,\"T\"),\"\")","v":62.78},0,0,18.006000000000007,16.001000000000001,"S.US.PNW",{"$f":"RTD(\"cqg.rtd\", ,\"ContractData\",A378, \"PerCentNetLastTrade\",, \"T\")/100","v":5.5455248903791589E-3},{"$f":"RANK($K378,$K$2:K$506)+COUNTIF($K$2:K378,K378)-1","v":{"$error":"#VALUE!"}},"S.US.PNW",377,"",{"$f":"RTD(\"cqg.rtd\", ,\"ContractData\",O378, \"PerCentNetLastTrade\",, \"T\")/100","v":{"$error":"#VALUE!"}},{"$error":"#N/A"},null,377,""]
[{"$f":"Symbols!A379","v":"S.US.POOL"},{"$f":"IFERROR(RTD(\"cqg.rtd\",,\"StudyData\",A379,\"Bar\",, \"High\",$C$1,\"0\",,,,,\"T\"),\"\")","v":416.56},{"$f":"IFERROR(RTD(\"cqg.rtd\",,\"StudyData\",A379,\"Bar\",, \"Low\",$C$1,\"0\",,,,,\"T\"),\"\")","v":410.71},{"$f":"IFERROR(RTD(\"cqg.rtd\",,\"StudyData\",\"HiLevel(\"&A379&\",Period1:=\"&$B$1&\",AllowGaps:=0,InputChoice1:=High,InputChoice3:=High)\",\"Bar\",, \"Close\",$C$1,\"-1\",,,,,\"T\"),\"\")","v":582.26},{"$f":"IFERROR(RTD(\"cqg.rtd\",,\"StudyData\",\"LoLevel(\"&A379&\",Period2:=\"&$B$1&\",AllowGaps:=0,InputChoice2:=Low,InputChoice4:=Low)\",\"Bar\",, \"Close\",$C$1,\"-1\",,,,,\"T\"),\"\")","v":380.69},0,0,18.007000000000009,16.002000000000002,"S.US.POOL",{"$f":"RTD(\"cqg.rtd\", ,\"ContractData\",A379, \"PerCentNetLastTrade\",, \"T\")/100","v":-8.0906148867313926E-3},{"$f":"RANK($K379,$K$2:K$506)+COUNTIF($K$2:K379,K379)-1","v":{"$error":"#VALUE!"}},"S.US.POOL",378,"",{"$f":"RTD(\"cqg.rtd\", ,\"ContractData\",O379, \"PerCentNetLastTrade\",, \"T\")/100","v":{"$error":"#VALUE!"}},{"$error":"#N/A"},null,378,""]
[{"$f":"Symbols!A380","v":"S.US.PPG"},{"$f":"IFERROR(RTD(\"cqg.rtd\",,\"StudyData\",A380,\"Bar\",, \"High\",$C$1,\"0\",,,,,\"T\"),\"\")","v":128.43},{"$f":"IFERROR(RTD(\"cqg.rtd\",,\"StudyData\",A380,\"Bar\",, \"Low\",$C$1,\"0\",,,,,\"T\"),\"\")","v":127.15},{"$f":"IFERROR(RTD(\"cqg.rtd\",,\"StudyData\",\"HiLevel(\"&A380&\",Period1:=\"&$B$1&\",AllowGaps:=0,InputChoice1:=High,InputChoice3:=High)\",\"Bar\",, \"Close\",$C$1,\"-1\",,,,,\"T\"),\"\")","v":182.97},{"$f":"IFERROR(RTD(\"cqg.rtd\",,\"StudyData\",\"LoLevel(\"&A380&\",Period2:=\"&$B$1&\",AllowGaps:=0,InputChoice2:=Low,InputChoice4:=Low)\",\"Bar\",, \"Close\",$C$1,\"-1\",,,,,\"T\"),\"\")","v":111.32},0,0,18.00800000000001,16.003000000000004,"S.US.PPG",{"$f":"RTD(\"cqg.rtd\", ,\"ContractData\",A380, \"PerCentNetLastTrade\",, \"T\")/100","v":-8.1078974039136206E-3},{"$f":"RANK($K380,$K$2:K$506)+COUNTIF($K$2:K380,K380)-1","v":{"$error":"#VALUE!"}},"S.US.PPG",379,"",{"$f":"RTD(\"cqg.rtd\", ,\"ContractData\",O380, \"PerCentNetLastTrade\",, \"T\")/100","v":{"$error":"#VALUE!"}},{"$error":"#N/A"},null,379,""]
[{"$f":"Symbols!A381","v":"S.US.PPL"},{"$f":"IFERROR(RTD(\"cqg.rtd\",,\"StudyData\",A381,\"Bar\",, \"High\",$C$1,\"0\",,,,,\"T\"),\"\")","v":29.46},{"$f":"IFERROR(RTD(\"cqg.rtd\",,\"StudyData\",A381,\"Bar\",, \"Low\",$C$1,\"0\",,,,,\"T\"),\"\")","v":29.21},{"$f":"IFERROR(RTD(\"cqg.rtd\",,\"StudyData\",\"HiLevel(\"&A381&\",Period1:=\"&$B$1&\",AllowGaps:=0,InputChoice1:=High,InputChoice3:=High)\",\"Bar\",, \"Close\",$C$1,\"-1\",,,,,\"T\"),\"\")","v":30.71},{"$f":"IFERROR(RTD(\"cqg.rtd\",,\"StudyData\",\"LoLevel(\"&A381&\",Period2:=\"&$B$1&\",AllowGaps:=0,InputChoice2:=Low,InputChoice4:=Low)\",\"Bar\",, \"Close\",$C$1,\"-1\",,,,,\"T\"),\"\")","v":25.26},0,0,18.009000000000011,16.004000000000005,"S.US.PPL",{"$f":"RTD(\"cqg.rtd\", ,\"ContractData\",A381, \"PerCentNetLastTrade\",, \"T\")/100","v":8.21917808219178E-3},{"$f":"RANK($K381,$K$2:K$506)+COUNTIF($K$2:K381,K381)-1","v":{"$error":"#VALUE!"}},"S.US.PPL",380,"",{"$f":"RTD(\"cqg.rtd\", ,\"ContractData\",O381, \"PerCentNetLastTrade\",, \"T\")/100","v":{"$error":"#VALUE!"}},{"$error":"#N/A"},null,380,""]
[{"$f":"Symbols!A382","v":"S.US.PRU"},{"$f":"IFERROR(RTD(\"cqg.rtd\",,\"StudyData\",A382,\"Bar\",, \"High\",$C$1,\"0\",,,,,\"T\"),\"\")","v":118.11},{"$f":"IFERROR(RTD(\"cqg.rtd\",,\"StudyData\",A382,\"Bar\",, \"Low\",$C$1,\"0\",,,,,\"T\"),\"\")","v":116.49},{"$f":"IFERROR(RTD(\"cqg.rtd\",,\"StudyData\",\"HiLevel(\"&A382&\",Period1:=\"&$B$1&\",AllowGaps:=0,InputChoice1:=High,InputChoice3:=High)\",\"Bar\",, \"Close\",$C$1,\"-1\",,,,,\"T\"),\"\")","v":124.22},{"$f":"IFERROR(RTD(\"cqg.rtd\",,\"StudyData\",\"LoLevel(\"&A382&\",Period2:=\"&$B$1&\",AllowGaps:=0,InputChoice2:=Low,InputChoice4:=Low)\",\"Bar\",, \"Close\",$C$1,\"-1\",,,,,\"T\"),\"\")","v":94.51},0,0,18.010000000000012,16.005000000000006,"S.US.PRU",{"$f":"RTD(\"cqg.rtd\", ,\"ContractData\",A382, \"PerCentNetLastTrade\",, \"T\")/100","v":7.2500852951211192E-3},{"$f":"RANK($K382,$K$2:K$506)+COUNTIF($K$2:K382,K382)-1","v":{"$error":"#VALUE!"}},"S.US.PRU",381,"",{"$f":"RTD(\"cqg.rtd\", ,\"ContractData\",O382, \"PerCentNetLastTrade\",, \"T\")/100","v":{"$error":"#VALUE!"}},{"$error":"#N/A"},null,381,""]
[{"$f":"Symbols!A383","v":"S.US.PSA"},{"$f":"IFERROR(RTD(\"cqg.rtd\",,\"StudyData\",A383,\"Bar\",, \"High\",$C$1,\"0\",,,,,\"T\"),\"\")","v":410.14},{"$f":"IFERROR(RTD(\"cqg.rtd\",,\"StudyData\",A383,\"Bar\",, \"Low\",$C$1,\"0\",,,,,\"T\"),\"\")","v":408.53},{"$f":"IFERROR(RTD(\"cqg.rtd\",,\"StudyData\",\"HiLevel(\"&A383&\",Period1:=\"&$B$1&\",AllowGaps:=0,InputChoice1:=High,InputChoice3:=High)\",\"Bar\",, \"Close\",$C$1,\"-1\",,,,,\"T\"),\"\")","v":411.89},{"$f":"IFERROR(RTD(\"cqg.rtd\",,\"StudyData\",\"LoLevel(\"&A383&\",Period2:=\"&$B$1&\",AllowGaps:=0,InputChoice2:=Low,InputChoice4:=Low)\",\"Bar\",, \"Close\",$C$1,\"-1\",,,,,\"T\"),\"\")","v":265.58999999999997},0,0,18.011000000000013,16.006000000000007,"S.US.PSA",{"$f":"RTD(\"cqg.rtd\", ,\"ContractData\",A383, \"PerCentNetLastTrade\",, \"T\")/100","v":3.9902080783353732E-3},{"$f":"RANK($K383,$K$2:K$506)+COUNTIF($K$2:K383,K383)-1","v":{"$error":"#VALUE!"}},"S.US.PSA",382,"",{"$f":"RTD(\"cqg.rtd\", ,\"ContractData\",O383, \"PerCentNetLastTrade\",, \"T\")/100","v":{"$error":"#VALUE!"}},{"$error":"#N/A"},null,382,""]
[{"$f":"Symbols!A384","v":"S.US.PSX"},{"$f":"IFERROR(RTD(\"cqg.rtd\",,\"StudyData\",A384,\"Bar\",, \"High\",$C$1,\"0\",,,,,\"T\"),\"\")","v":84.02},{"$f":"IFERROR(RTD(\"cqg.rtd\",,\"StudyData\",A384,\"Bar\",, \"Low\",$C$1,\"0\",,,,,\"T\"),\"\")","v":82.61},{"$f":"IFERROR(RTD(\"cqg.rtd\",,\"StudyData\",\"HiLevel(\"&A384&\",Period1:=\"&$B$1&\",AllowGaps:=0,InputChoice1:=High,InputChoice3:=High)\",\"Bar\",, \"Close\",$C$1,\"-1\",,,,,\"T\"),\"\")","v":94.34},{"$f":"IFERROR(RTD(\"cqg.rtd\",,\"StudyData\",\"LoLevel(\"&A384&\",Period2:=\"&$B$1&\",AllowGaps:=0,InputChoice2:=Low,InputChoice4:=Low)\",\"Bar\",, \"Close\",$C$1,\"-1\",,,,,\"T\"),\"\")","v":63.19},0,0,18.012000000000015,16.007000000000009,"S.US.PSX",{"$f":"RTD(\"cqg.rtd\", ,\"ContractData\",A384, \"PerCentNetLastTrade\",, \"T\")/100","v":1.3639106819553411E-2},{"$f":"RANK($K384,$K$2:K$506)+COUNTIF($K$2:K384,K384)-1","v":{"$error":"#VALUE!"}},"S.US.PSX",383,"",{"$f":"RTD(\"cqg.rtd\", ,\"ContractData\",O384, \"PerCentNetLastTrade\",, \"T\")/100","v":{"$error":"#VALUE!"}},{"$error":"#N/A"},null,383,""]
[{"$f":"Symbols!A385","v":"S.US.PTC"},{"$f":"IFERROR(RTD(\"cqg.rtd\",,\"StudyData\",A385,\"Bar\",, \"High\",$C$1,\"0\",,,,,\"T\"),\"\")","v":98.83},{"$f":"IFERROR(RTD(\"cqg.rtd\",,\"StudyData\",A385,\"Bar\",, \"Low\",$C$1,\"0\",,,,,\"T\"),\"\")","v":97.02},{"$f":"IFERROR(RTD(\"cqg.rtd\",,\"StudyData\",\"HiLevel(\"&A385&\",Period1:=\"&$B$1&\",AllowGaps:=0,InputChoice1:=High,InputChoice3:=High)\",\"Bar\",, \"Close\",$C$1,\"-1\",,,,,\"T\"),\"\")","v":153.72999999999999},{"$f":"IFERROR(RTD(\"cqg.rtd\",,\"StudyData\",\"LoLevel(\"&A385&\",Period2:=\"&$B$1&\",AllowGaps:=0,InputChoice2:=Low,InputChoice4:=Low)\",\"Bar\",, \"Close\",$C$1,\"-1\",,,,,\"T\"),\"\")","v":98.6},0,1,18.013000000000016,17,"S.US.PTC",{"$f":"RTD(\"cqg.rtd\", ,\"ContractData\",A385, \"PerCentNetLastTrade\",, \"T\")/100","v":-1.7120859082159864E-2},{"$f":"RANK($K385,$K$2:K$506)+COUNTIF($K$2:K385,K385)-1","v":{"$error":"#VALUE!"}},"S.US.PTC",384,"",{"$f":"RTD(\"cqg.rtd\", ,\"ContractData\",O385, \"PerCentNetLastTrade\",, \"T\")/100","v":{"$error":"#VALUE!"}},{"$error":"#N/A"},null,384,""]
[{"$f":"Symbols!A386","v":"S.US.PVH"},{"$f":"IFERROR(RTD(\"cqg.rtd\",,\"StudyData\",A386,\"Bar\",, \"High\",$C$1,\"0\",,,,,\"T\"),\"\")","v":80.900000000000006},{"$f":"IFERROR(RTD(\"cqg.rtd\",,\"StudyData\",A386,\"Bar\",, \"Low\",$C$1,\"0\",,,,,\"T\"),\"\")","v":79.25},{"$f":"IFERROR(RTD(\"cqg.rtd\",,\"StudyData\",\"HiLevel(\"&A386&\",Period1:=\"&$B$1&\",AllowGaps:=0,InputChoice1:=High,InputChoice3:=High)\",\"Bar\",, \"Close\",$C$1,\"-1\",,,,,\"T\"),\"\")","v":125.42},{"$f":"IFERROR(RTD(\"cqg.rtd\",,\"StudyData\",\"LoLevel(\"&A386&\",Period2:=\"&$B$1&\",AllowGaps:=0,InputChoice2:=Low,InputChoice4:=Low)\",\"Bar\",, \"Close\",$C$1,\"-1\",,,,,\"T\"),\"\")","v":66.099999999999994},0,0,18.014000000000017,17.001000000000001,"S.US.PVH",{"$f":"RTD(\"cqg.rtd\", ,\"ContractData\",A386, \"PerCentNetLastTrade\",, \"T\")/100","v":5.2936728006049913E-3},{"$f":"RANK($K386,$K$2:K$506)+COUNTIF($K$2:K386,K386)-1","v":{"$error":"#VALUE!"}},"S.US.PVH",385,{"$f":"IFERROR(VLOOKUP(N386,$L$2:$M$506,2,FALSE),\"\")","v":""},{"$f":"RTD(\"cqg.rtd\", ,\"ContractData\",O386, \"PerCentNetLastTrade\",, \"T\")/100","v":{"$error":"#VALUE!"}},{"$f":"VLOOKUP(O386,$A$2:$H$506,8,FALSE)","v":{"$error":"#N/A"}},null,385,{"$f":"IFERROR(VLOOKUP(S386,$H$2:$J$506,3,FALSE),\"\")","v":""}]
[{"$f":"Symbols!A387","v":"S.US.PWR"},{"$f":"IFERROR(RTD(\"cqg.rtd\",,\"StudyData\",A387,\"Bar\",, \"High\",$C$1,\"0\",,,,,\"T\"),\"\")","v":136.63999999999999},{"$f":"IFERROR(RTD(\"cqg.rtd\",,\"StudyData\",A387,\"Bar\",, \"Low\",$C$1,\"0\",,,,,\"T\"),\"\")","v":134.81},{"$f":"IFERROR(RTD(\"cqg.rtd\",,\"StudyData\",\"HiLevel(\"&A387&\",Period1:=\"&$B$1&\",AllowGaps:=0,InputChoice1:=High,InputChoice3:=High)\",\"Bar\",, \"Close\",$C$1,\"-1\",,,,,\"T\"),\"\")","v":137.72},{"$f":"IFERROR(RTD(\"cqg.rtd\",,\"StudyData\",\"LoLevel(\"&A387&\",Period2:=\"&$B$1&\",AllowGaps:=0,InputChoice2:=Low,InputChoice4:=Low)\",\"Bar\",, \"Close\",$C$1,\"-1\",,,,,\"T\"),\"\")","v":84.4},0,0,18.015000000000018,17.002000000000002,"S.US.PWR",{"$f":"RTD(\"cqg.rtd\", ,\"ContractData\",A387, \"PerCentNetLastTrade\",, \"T\")/100","v":1.0137635045138376E-2},{"$f":"RANK($K387,$K$2:K$506)+COUNTIF($K$2:K387,K387)-1","v":{"$error":"#VALUE!"}},"S.US.PWR",386,"",{"$f":"RTD(\"cqg.rtd\", ,\"ContractData\",O387, \"PerCentNetLastTrade\",, \"T\")/100","v":{"$error":"#VALUE!"}},{"$error":"#N/A"},null,386,""]
[{"$f":"Symbols!A388","v":"S.US.PXD"},{"$f":"IFERROR(RTD(\"cqg.rtd\",,\"StudyData\",A388,\"Bar\",, \"High\",$C$1,\"0\",,,,,\"T\"),\"\")","v":257.74},{"$f":"IFERROR(RTD(\"cqg.rtd\",,\"StudyData\",A388,\"Bar\",, \"Low\",$C$1,\"0\",,,,,\"T\"),\"\")","v":252.61},{"$f":"IFERROR(RTD(\"cqg.rtd\",,\"StudyData\",\"HiLevel(\"&A388&\",Period1:=\"&$B$1&\",AllowGaps:=0,InputChoice1:=High,InputChoice3:=High)\",\"Bar\",, \"Close\",$C$1,\"-1\",,,,,\"T\"),\"\")","v":260},{"$f":"IFERROR(RTD(\"cqg.rtd\",,\"StudyData\",\"LoLevel(\"&A388&\",Period2:=\"&$B$1&\",AllowGaps:=0,InputChoice2:=Low,InputChoice4:=Low)\",\"Bar\",, \"Close\",$C$1,\"-1\",,,,,\"T\"),\"\")","v":133.72999999999999},0,0,18.01600000000002,17.003000000000004,"S.US.PXD",{"$f":"RTD(\"cqg.rtd\", ,\"ContractData\",A388, \"PerCentNetLastTrade\",, \"T\")/100","v":7.4975466143277726E-3},{"$f":"RANK($K388,$K$2:K$506)+COUNTIF($K$2:K388,K388)-1","v":{"$error":"#VALUE!"}},{"$f":"J388","v":"S.US.PXD"},{"$f":"N387+1","v":387},"",{"$f":"RTD(\"cqg.rtd\", ,\"ContractData\",O388, \"PerCentNetLastTrade\",, \"T\")/100","v":{"$error":"#VALUE!"}},{"$error":"#N/A"},null,{"$f":"S387+1","v":387},""]
[{"$f":"Symbols!A389","v":"S.US.PYPL"},{"$f":"IFERROR(RTD(\"cqg.rtd\",,\"StudyData\",A389,\"Bar\",, \"High\",$C$1,\"0\",,,,,\"T\"),\"\")","v":102.86},{"$f":"IFERROR(RTD(\"cqg.rtd\",,\"StudyData\",A389,\"Bar\",, \"Low\",$C$1,\"0\",,,,,\"T\"),\"\")","v":101.25},{"$f":"IFERROR(RTD(\"cqg.rtd\",,\"StudyData\",\"HiLevel(\"&A389&\",Period1:=\"&$B$1&\",AllowGaps:=0,InputChoice1:=High,InputChoice3:=High)\",\"Bar\",, \"Close\",$C$1,\"-1\",,,,,\"T\"),\"\")","v":310.16000000000003},{"$f":"IFERROR(RTD(\"cqg.rtd\",,\"StudyData\",\"LoLevel(\"&A389&\",Period2:=\"&$B$1&\",AllowGaps:=0,InputChoice2:=Low,InputChoice4:=Low)\",\"Bar\",, \"Close\",$C$1,\"-1\",,,,,\"T\"),\"\")","v":92.25},0,0,18.017000000000021,17.004000000000005,"S.US.PYPL",{"$f":"RTD(\"cqg.rtd\", ,\"ContractData\",A389, \"PerCentNetLastTrade\",, \"T\")/100","v":-9.6764734630045927E-3},{"$f":"RANK($K389,$K$2:K$506)+COUNTIF($K$2:K389,K389)-1","v":{"$error":"#VALUE!"}},"S.US.PYPL",388,"",{"$f":"RTD(\"cqg.rtd\", ,\"ContractData\",O389, \"PerCentNetLastTrade\",, \"T\")/100","v":{"$error":"#VALUE!"}},{"$error":"#N/A"},null,388,""]
[{"$f":"Symbols!A390","v":"S.US.QCOM"},{"$f":"IFERROR(RTD(\"cqg.rtd\",,\"StudyData\",A390,\"Bar\",, \"High\",$C$1,\"0\",,,,,\"T\"),\"\")","v":138.71},{"$f":"IFERROR(RTD(\"cqg.rtd\",,\"StudyData\",A390,\"Bar\",, \"Low\",$C$1,\"0\",,,,,\"T\"),\"\")","v":135.56},{"$f":"IFERROR(RTD(\"cqg.rtd\",,\"StudyData\",\"HiLevel(\"&A390&\",Period1:=\"&$B$1&\",AllowGaps:=0,InputChoice1:=High,InputChoice3:=High)\",\"Bar\",, \"Close\",$C$1,\"-1\",,,,,\"T\"),\"\")","v":193.58},{"$f":"IFERROR(RTD(\"cqg.rtd\",,\"StudyData\",\"LoLevel(\"&A390&\",Period2:=\"&$B$1&\",AllowGaps:=0,InputChoice2:=Low,InputChoice4:=Low)\",\"Bar\",, \"Close\",$C$1,\"-1\",,,,,\"T\"),\"\")","v":122.16},0,0,18.018000000000022,17.005000000000006,"S.US.QCOM",{"$f":"RTD(\"cqg.rtd\", ,\"ContractData\",A390, \"PerCentNetLastTrade\",, \"T\")/100","v":6.7197428967935135E-3},{"$f":"RANK($K390,$K$2:K$506)+COUNTIF($K$2:K390,K390)-1","v":{"$error":"#VALUE!"}},"S.US.QCOM",389,"",{"$f":"RTD(\"cqg.rtd\", ,\"ContractData\",O390, \"PerCentNetLastTrade\",, \"T\")/100","v":{"$error":"#VALUE!"}},{"$error":"#N/A"},null,389,""]
[{"$f":"Symbols!A391","v":"S.US.QRVO"},{"$f":"IFERROR(RTD(\"cqg.rtd\",,\"StudyData\",A391,\"Bar\",, \"High\",$C$1,\"0\",,,,,\"T\"),\"\")","v":114.83},{"$f":"IFERROR(RTD(\"cqg.rtd\",,\"StudyData\",A391,\"Bar\",, \"Low\",$C$1,\"0\",,,,,\"T\"),\"\")","v":112.12},{"$f":"IFERROR(RTD(\"cqg.rtd\",,\"StudyData\",\"HiLevel(\"&A391&\",Period1:=\"&$B$1&\",AllowGaps:=0,InputChoice1:=High,InputChoice3:=High)\",\"Bar\",, \"Close\",$C$1,\"-1\",,,,,\"T\"),\"\")","v":201.68},{"$f":"IFERROR(RTD(\"cqg.rtd\",,\"StudyData\",\"LoLevel(\"&A391&\",Period2:=\"&$B$1&\",AllowGaps:=0,InputChoice2:=Low,InputChoice4:=Low)\",\"Bar\",, \"Close\",$C$1,\"-1\",,,,,\"T\"),\"\")","v":111.74},0,0,18.019000000000023,17.006000000000007,"S.US.QRVO",{"$f":"RTD(\"cqg.rtd\", ,\"ContractData\",A391, \"PerCentNetLastTrade\",, \"T\")/100","v":4.7627447521608754E-3},{"$f":"RANK($K391,$K$2:K$506)+COUNTIF($K$2:K391,K391)-1","v":{"$error":"#VALUE!"}},"S.US.QRVO",390,"",{"$f":"RTD(\"cqg.rtd\", ,\"ContractData\",O391, \"PerCentNetLastTrade\",, \"T\")/100","v":{"$error":"#VALUE!"}},{"$error":"#N/A"},null,390,""]
[{"$f":"Symbols!A392","v":"S.US.RCL"},{"$f":"IFERROR(RTD(\"cqg.rtd\",,\"StudyData\",A392,\"Bar\",, \"High\",$C$1,\"0\",,,,,\"T\"),\"\")","v":82.5},{"$f":"IFERROR(RTD(\"cqg.rtd\",,\"StudyData\",A392,\"Bar\",, \"Low\",$C$1,\"0\",,,,,\"T\"),\"\")","v":81.5},{"$f":"IFERROR(RTD(\"cqg.rtd\",,\"StudyData\",\"HiLevel(\"&A392&\",Period1:=\"&$B$1&\",AllowGaps:=0,InputChoice1:=High,InputChoice3:=High)\",\"Bar\",, \"Close\",$C$1,\"-1\",,,,,\"T\"),\"\")","v":98.27},{"$f":"IFERROR(RTD(\"cqg.rtd\",,\"StudyData\",\"LoLevel(\"&A392&\",Period2:=\"&$B$1&\",AllowGaps:=0,InputChoice2:=Low,InputChoice4:=Low)\",\"Bar\",, \"Close\",$C$1,\"-1\",,,,,\"T\"),\"\")","v":61.45},0,0,18.020000000000024,17.007000000000009,"S.US.RCL",{"$f":"RTD(\"cqg.rtd\", ,\"ContractData\",A392, \"PerCentNetLastTrade\",, \"T\")/100","v":-3.9961249697263264E-3},{"$f":"RANK($K392,$K$2:K$506)+COUNTIF($K$2:K392,K392)-1","v":{"$error":"#VALUE!"}},"S.US.RCL",391,"",{"$f":"RTD(\"cqg.rtd\", ,\"ContractData\",O392, \"PerCentNetLastTrade\",, \"T\")/100","v":{"$error":"#VALUE!"}},{"$error":"#N/A"},null,391,""]
[{"$f":"Symbols!A393","v":"S.US.RE"},{"$f":"IFERROR(RTD(\"cqg.rtd\",,\"StudyData\",A393,\"Bar\",, \"High\",$C$1,\"0\",,,,,\"T\"),\"\")","v":291.04000000000002},{"$f":"IFERROR(RTD(\"cqg.rtd\",,\"StudyData\",A393,\"Bar\",, \"Low\",$C$1,\"0\",,,,,\"T\"),\"\")","v":289.33999999999997},{"$f":"IFERROR(RTD(\"cqg.rtd\",,\"StudyData\",\"HiLevel(\"&A393&\",Period1:=\"&$B$1&\",AllowGaps:=0,InputChoice1:=High,InputChoice3:=High)\",\"Bar\",, \"Close\",$C$1,\"-1\",,,,,\"T\"),\"\")","v":308.2},{"$f":"IFERROR(RTD(\"cqg.rtd\",,\"StudyData\",\"LoLevel(\"&A393&\",Period2:=\"&$B$1&\",AllowGaps:=0,InputChoice2:=Low,InputChoice4:=Low)\",\"Bar\",, \"Close\",$C$1,\"-1\",,,,,\"T\"),\"\")","v":234.87},0,0,18.021000000000026,17.00800000000001,"S.US.RE",{"$f":"RTD(\"cqg.rtd\", ,\"ContractData\",A393, \"PerCentNetLastTrade\",, \"T\")/100","v":-8.2596276284544173E-4},{"$f":"RANK($K393,$K$2:K$506)+COUNTIF($K$2:K393,K393)-1","v":{"$error":"#VALUE!"}},"S.US.RE",392,"",{"$f":"RTD(\"cqg.rtd\", ,\"ContractData\",O393, \"PerCentNetLastTrade\",, \"T\")/100","v":{"$error":"#VALUE!"}},{"$error":"#N/A"},null,392,""]
[{"$f":"Symbols!A394","v":"S.US.REG"},{"$f":"IFERROR(RTD(\"cqg.rtd\",,\"StudyData\",A394,\"Bar\",, \"High\",$C$1,\"0\",,,,,\"T\"),\"\")","v":71.099999999999994},{"$f":"IFERROR(RTD(\"cqg.rtd\",,\"StudyData\",A394,\"Bar\",, \"Low\",$C$1,\"0\",,,,,\"T\"),\"\")","v":70.22},{"$f":"IFERROR(RTD(\"cqg.rtd\",,\"StudyData\",\"HiLevel(\"&A394&\",Period1:=\"&$B$1&\",AllowGaps:=0,InputChoice1:=High,InputChoice3:=High)\",\"Bar\",, \"Close\",$C$1,\"-1\",,,,,\"T\"),\"\")","v":78.78},{"$f":"IFERROR(RTD(\"cqg.rtd\",,\"StudyData\",\"LoLevel(\"&A394&\",Period2:=\"&$B$1&\",AllowGaps:=0,InputChoice2:=Low,InputChoice4:=Low)\",\"Bar\",, \"Close\",$C$1,\"-1\",,,,,\"T\"),\"\")","v":58.73},0,0,18.022000000000027,17.009000000000011,"S.US.REG",{"$f":"RTD(\"cqg.rtd\", ,\"ContractData\",A394, \"PerCentNetLastTrade\",, \"T\")/100","v":4.5338622839331258E-3},{"$f":"RANK($K394,$K$2:K$506)+COUNTIF($K$2:K394,K394)-1","v":{"$error":"#VALUE!"}},"S.US.REG",393,"",{"$f":"RTD(\"cqg.rtd\", ,\"ContractData\",O394, \"PerCentNetLastTrade\",, \"T\")/100","v":{"$error":"#VALUE!"}},{"$error":"#N/A"},null,393,""]
[{"$f":"Symbols!A395","v":"S.US.REGN"},{"$f":"IFERROR(RTD(\"cqg.rtd\",,\"StudyData\",A395,\"Bar\",, \"High\",$C$1,\"0\",,,,,\"T\"),\"\")","v":732},{"$f":"IFERROR(RTD(\"cqg.rtd\",,\"StudyData\",A395,\"Bar\",, \"Low\",$C$1,\"0\",,,,,\"T\"),\"\")","v":726.38},{"$f":"IFERROR(RTD(\"cqg.rtd\",,\"StudyData\",\"HiLevel(\"&A395&\",Period1:=\"&$B$1&\",AllowGaps:=0,InputChoice1:=High,InputChoice3:=High)\",\"Bar\",, \"Close\",$C$1,\"-1\",,,,,\"T\"),\"\")","v":747.42},{"$f":"IFERROR(RTD(\"cqg.rtd\",,\"StudyData\",\"LoLevel(\"&A395&\",Period2:=\"&$B$1&\",AllowGaps:=0,InputChoice2:=Low,InputChoice4:=Low)\",\"Bar\",, \"Close\",$C$1,\"-1\",,,,,\"T\"),\"\")","v":478.4},0,0,18.023000000000028,17.010000000000012,"S.US.REGN",{"$f":"RTD(\"cqg.rtd\", ,\"ContractData\",A395, \"PerCentNetLastTrade\",, \"T\")/100","v":-5.907069384191427E-3},{"$f":"RANK($K395,$K$2:K$506)+COUNTIF($K$2:K395,K395)-1","v":{"$error":"#VALUE!"}},"S.US.REGN",394,"",{"$f":"RTD(\"cqg.rtd\", ,\"ContractData\",O395, \"PerCentNetLastTrade\",, \"T\")/100","v":{"$error":"#VALUE!"}},{"$error":"#N/A"},null,394,""]
[{"$f":"Symbols!A396","v":"S.US.RF"},{"$f":"IFERROR(RTD(\"cqg.rtd\",,\"StudyData\",A396,\"Bar\",, \"High\",$C$1,\"0\",,,,,\"T\"),\"\")","v":20.9},{"$f":"IFERROR(RTD(\"cqg.rtd\",,\"StudyData\",A396,\"Bar\",, \"Low\",$C$1,\"0\",,,,,\"T\"),\"\")","v":20.6},{"$f":"IFERROR(RTD(\"cqg.rtd\",,\"StudyData\",\"HiLevel(\"&A396&\",Period1:=\"&$B$1&\",AllowGaps:=0,InputChoice1:=High,InputChoice3:=High)\",\"Bar\",, \"Close\",$C$1,\"-1\",,,,,\"T\"),\"\")","v":25.57},{"$f":"IFERROR(RTD(\"cqg.rtd\",,\"StudyData\",\"LoLevel(\"&A396&\",Period2:=\"&$B$1&\",AllowGaps:=0,InputChoice2:=Low,InputChoice4:=Low)\",\"Bar\",, \"Close\",$C$1,\"-1\",,,,,\"T\"),\"\")","v":18.02},0,0,18.024000000000029,17.011000000000013,"S.US.RF",{"$f":"RTD(\"cqg.rtd\", ,\"ContractData\",A396, \"PerCentNetLastTrade\",, \"T\")/100","v":7.2358900144717797E-3},{"$f":"RANK($K396,$K$2:K$506)+COUNTIF($K$2:K396,K396)-1","v":{"$error":"#VALUE!"}},"S.US.RF",395,"",{"$f":"RTD(\"cqg.rtd\", ,\"ContractData\",O396, \"PerCentNetLastTrade\",, \"T\")/100","v":{"$error":"#VALUE!"}},{"$error":"#N/A"},null,395,""]
[{"$f":"Symbols!A397","v":"S.US.RHI"},{"$f":"IFERROR(RTD(\"cqg.rtd\",,\"StudyData\",A397,\"Bar\",, \"High\",$C$1,\"0\",,,,,\"T\"),\"\")","v":108},{"$f":"IFERROR(RTD(\"cqg.rtd\",,\"StudyData\",A397,\"Bar\",, \"Low\",$C$1,\"0\",,,,,\"T\"),\"\")","v":107.14},{"$f":"IFERROR(RTD(\"cqg.rtd\",,\"StudyData\",\"HiLevel(\"&A397&\",Period1:=\"&$B$1&\",AllowGaps:=0,InputChoice1:=High,InputChoice3:=High)\",\"Bar\",, \"Close\",$C$1,\"-1\",,,,,\"T\"),\"\")","v":125.77},{"$f":"IFERROR(RTD(\"cqg.rtd\",,\"StudyData\",\"LoLevel(\"&A397&\",Period2:=\"&$B$1&\",AllowGaps:=0,InputChoice2:=Low,InputChoice4:=Low)\",\"Bar\",, \"Close\",$C$1,\"-1\",,,,,\"T\"),\"\")","v":80.94},0,0,18.025000000000031,17.012000000000015,"S.US.RHI",{"$f":"RTD(\"cqg.rtd\", ,\"ContractData\",A397, \"PerCentNetLastTrade\",, \"T\")/100","v":-7.6455416359616805E-3},{"$f":"RANK($K397,$K$2:K$506)+COUNTIF($K$2:K397,K397)-1","v":{"$error":"#VALUE!"}},"S.US.RHI",396,"",{"$f":"RTD(\"cqg.rtd\", ,\"ContractData\",O397, \"PerCentNetLastTrade\",, \"T\")/100","v":{"$error":"#VALUE!"}},{"$error":"#N/A"},null,396,""]
[{"$f":"Symbols!A398","v":"S.US.RJF"},{"$f":"IFERROR(RTD(\"cqg.rtd\",,\"StudyData\",A398,\"Bar\",, \"High\",$C$1,\"0\",,,,,\"T\"),\"\")","v":111.4},{"$f":"IFERROR(RTD(\"cqg.rtd\",,\"StudyData\",A398,\"Bar\",, \"Low\",$C$1,\"0\",,,,,\"T\"),\"\")","v":110.25},{"$f":"IFERROR(RTD(\"cqg.rtd\",,\"StudyData\",\"HiLevel(\"&A398&\",Period1:=\"&$B$1&\",AllowGaps:=0,InputChoice1:=High,InputChoice3:=High)\",\"Bar\",, \"Close\",$C$1,\"-1\",,,,,\"T\"),\"\")","v":143.13999999999999},{"$f":"IFERROR(RTD(\"cqg.rtd\",,\"StudyData\",\"LoLevel(\"&A398&\",Period2:=\"&$B$1&\",AllowGaps:=0,InputChoice2:=Low,InputChoice4:=Low)\",\"Bar\",, \"Close\",$C$1,\"-1\",,,,,\"T\"),\"\")","v":86.51},0,0,18.026000000000032,17.013000000000016,"S.US.RJF",{"$f":"RTD(\"cqg.rtd\", ,\"ContractData\",A398, \"PerCentNetLastTrade\",, \"T\")/100","v":-5.3667262969588547E-3},{"$f":"RANK($K398,$K$2:K$506)+COUNTIF($K$2:K398,K398)-1","v":{"$error":"#VALUE!"}},"S.US.RJF",397,"",{"$f":"RTD(\"cqg.rtd\", ,\"ContractData\",O398, \"PerCentNetLastTrade\",, \"T\")/100","v":{"$error":"#VALUE!"}},{"$error":"#N/A"},null,397,""]
[{"$f":"Symbols!A399","v":"S.US.RL"},{"$f":"IFERROR(RTD(\"cqg.rtd\",,\"StudyData\",A399,\"Bar\",, \"High\",$C$1,\"0\",,,,,\"T\"),\"\")","v":109.29},{"$f":"IFERROR(RTD(\"cqg.rtd\",,\"StudyData\",A399,\"Bar\",, \"Low\",$C$1,\"0\",,,,,\"T\"),\"\")","v":108.09},{"$f":"IFERROR(RTD(\"cqg.rtd\",,\"StudyData\",\"HiLevel(\"&A399&\",Period1:=\"&$B$1&\",AllowGaps:=0,InputChoice1:=High,InputChoice3:=High)\",\"Bar\",, \"Close\",$C$1,\"-1\",,,,,\"T\"),\"\")","v":142.06},{"$f":"IFERROR(RTD(\"cqg.rtd\",,\"StudyData\",\"LoLevel(\"&A399&\",Period2:=\"&$B$1&\",AllowGaps:=0,InputChoice2:=Low,InputChoice4:=Low)\",\"Bar\",, \"Close\",$C$1,\"-1\",,,,,\"T\"),\"\")","v":100.44},0,0,18.027000000000033,17.014000000000017,"S.US.RL",{"$f":"RTD(\"cqg.rtd\", ,\"ContractData\",A399, \"PerCentNetLastTrade\",, \"T\")/100","v":-1.9351271654994471E-3},{"$f":"RANK($K399,$K$2:K$506)+COUNTIF($K$2:K399,K399)-1","v":{"$error":"#VALUE!"}},"S.US.RL",398,"",{"$f":"RTD(\"cqg.rtd\", ,\"ContractData\",O399, \"PerCentNetLastTrade\",, \"T\")/100","v":{"$error":"#VALUE!"}},{"$error":"#N/A"},null,398,""]
[{"$f":"Symbols!A400","v":"S.US.RMD"},{"$f":"IFERROR(RTD(\"cqg.rtd\",,\"StudyData\",A400,\"Bar\",, \"High\",$C$1,\"0\",,,,,\"T\"),\"\")","v":234.14},{"$f":"IFERROR(RTD(\"cqg.rtd\",,\"StudyData\",A400,\"Bar\",, \"Low\",$C$1,\"0\",,,,,\"T\"),\"\")","v":231.97},{"$f":"IFERROR(RTD(\"cqg.rtd\",,\"StudyData\",\"HiLevel(\"&A400&\",Period1:=\"&$B$1&\",AllowGaps:=0,InputChoice1:=High,InputChoice3:=High)\",\"Bar\",, \"Close\",$C$1,\"-1\",,,,,\"T\"),\"\")","v":301.33999999999997},{"$f":"IFERROR(RTD(\"cqg.rtd\",,\"StudyData\",\"LoLevel(\"&A400&\",Period2:=\"&$B$1&\",AllowGaps:=0,InputChoice2:=Low,InputChoice4:=Low)\",\"Bar\",, \"Close\",$C$1,\"-1\",,,,,\"T\"),\"\")","v":187.09},0,0,18.028000000000034,17.015000000000018,"S.US.RMD",{"$f":"RTD(\"cqg.rtd\", ,\"ContractData\",A400, \"PerCentNetLastTrade\",, \"T\")/100","v":-7.8561974296571455E-3},{"$f":"RANK($K400,$K$2:K$506)+COUNTIF($K$2:K400,K400)-1","v":{"$error":"#VALUE!"}},"S.US.RMD",399,"",{"$f":"RTD(\"cqg.rtd\", ,\"ContractData\",O400, \"PerCentNetLastTrade\",, \"T\")/100","v":{"$error":"#VALUE!"}},{"$error":"#N/A"},null,399,""]
[{"$f":"Symbols!A401","v":"S.US.ROK"},{"$f":"IFERROR(RTD(\"cqg.rtd\",,\"StudyData\",A401,\"Bar\",, \"High\",$C$1,\"0\",,,,,\"T\"),\"\")","v":264.98},{"$f":"IFERROR(RTD(\"cqg.rtd\",,\"StudyData\",A401,\"Bar\",, \"Low\",$C$1,\"0\",,,,,\"T\"),\"\")","v":260.88},{"$f":"IFERROR(RTD(\"cqg.rtd\",,\"StudyData\",\"HiLevel(\"&A401&\",Period1:=\"&$B$1&\",AllowGaps:=0,InputChoice1:=High,InputChoice3:=High)\",\"Bar\",, \"Close\",$C$1,\"-1\",,,,,\"T\"),\"\")","v":354.99},{"$f":"IFERROR(RTD(\"cqg.rtd\",,\"StudyData\",\"LoLevel(\"&A401&\",Period2:=\"&$B$1&\",AllowGaps:=0,InputChoice2:=Low,InputChoice4:=Low)\",\"Bar\",, \"Close\",$C$1,\"-1\",,,,,\"T\"),\"\")","v":250.65},0,0,18.029000000000035,17.01600000000002,"S.US.ROK",{"$f":"RTD(\"cqg.rtd\", ,\"ContractData\",A401, \"PerCentNetLastTrade\",, \"T\")/100","v":7.6817243751433166E-3},{"$f":"RANK($K401,$K$2:K$506)+COUNTIF($K$2:K401,K401)-1","v":{"$error":"#VALUE!"}},"S.US.ROK",400,"",{"$f":"RTD(\"cqg.rtd\", ,\"ContractData\",O401, \"PerCentNetLastTrade\",, \"T\")/100","v":{"$error":"#VALUE!"}},{"$error":"#N/A"},null,400,""]
[{"$f":"Symbols!A402","v":"S.US.ROL"},{"$f":"IFERROR(RTD(\"cqg.rtd\",,\"StudyData\",A402,\"Bar\",, \"High\",$C$1,\"0\",,,,,\"T\"),\"\")","v":35.020000000000003},{"$f":"IFERROR(RTD(\"cqg.rtd\",,\"StudyData\",A402,\"Bar\",, \"Low\",$C$1,\"0\",,,,,\"T\"),\"\")","v":34.76},{"$f":"IFERROR(RTD(\"cqg.rtd\",,\"StudyData\",\"HiLevel(\"&A402&\",Period1:=\"&$B$1&\",AllowGaps:=0,InputChoice1:=High,InputChoice3:=High)\",\"Bar\",, \"Close\",$C$1,\"-1\",,,,,\"T\"),\"\")","v":40.11},{"$f":"IFERROR(RTD(\"cqg.rtd\",,\"StudyData\",\"LoLevel(\"&A402&\",Period2:=\"&$B$1&\",AllowGaps:=0,InputChoice2:=Low,InputChoice4:=Low)\",\"Bar\",, \"Close\",$C$1,\"-1\",,,,,\"T\"),\"\")","v":28.5},0,0,18.030000000000037,17.017000000000021,"S.US.ROL",{"$f":"RTD(\"cqg.rtd\", ,\"ContractData\",A402, \"PerCentNetLastTrade\",, \"T\")/100","v":-4.0114613180515755E-3},{"$f":"RANK($K402,$K$2:K$506)+COUNTIF($K$2:K402,K402)-1","v":{"$error":"#VALUE!"}},"S.US.ROL",401,"",{"$f":"RTD(\"cqg.rtd\", ,\"ContractData\",O402, \"PerCentNetLastTrade\",, \"T\")/100","v":{"$error":"#VALUE!"}},{"$error":"#N/A"},null,401,""]
[{"$f":"Symbols!A403","v":"S.US.ROP"},{"$f":"IFERROR(RTD(\"cqg.rtd\",,\"StudyData\",A403,\"Bar\",, \"High\",$C$1,\"0\",,,,,\"T\"),\"\")","v":462},{"$f":"IFERROR(RTD(\"cqg.rtd\",,\"StudyData\",A403,\"Bar\",, \"Low\",$C$1,\"0\",,,,,\"T\"),\"\")","v":458.16},{"$f":"IFERROR(RTD(\"cqg.rtd\",,\"StudyData\",\"HiLevel(\"&A403&\",Period1:=\"&$B$1&\",AllowGaps:=0,InputChoice1:=High,InputChoice3:=High)\",\"Bar\",, \"Close\",$C$1,\"-1\",,,,,\"T\"),\"\")","v":505},{"$f":"IFERROR(RTD(\"cqg.rtd\",,\"StudyData\",\"LoLevel(\"&A403&\",Period2:=\"&$B$1&\",AllowGaps:=0,InputChoice2:=Low,InputChoice4:=Low)\",\"Bar\",, \"Close\",$C$1,\"-1\",,,,,\"T\"),\"\")","v":417.54},0,0,18.031000000000038,17.018000000000022,"S.US.ROP",{"$f":"RTD(\"cqg.rtd\", ,\"ContractData\",A403, \"PerCentNetLastTrade\",, \"T\")/100","v":1.3010668748373666E-4},{"$f":"RANK($K403,$K$2:K$506)+COUNTIF($K$2:K403,K403)-1","v":{"$error":"#VALUE!"}},"S.US.ROP",402,"",{"$f":"RTD(\"cqg.rtd\", ,\"ContractData\",O403, \"PerCentNetLastTrade\",, \"T\")/100","v":{"$error":"#VALUE!"}},{"$error":"#N/A"},null,402,""]
[{"$f":"Symbols!A404","v":"S.US.ROST"},{"$f":"IFERROR(RTD(\"cqg.rtd\",,\"StudyData\",A404,\"Bar\",, \"High\",$C$1,\"0\",,,,,\"T\"),\"\")","v":103.94},{"$f":"IFERROR(RTD(\"cqg.rtd\",,\"StudyData\",A404,\"Bar\",, \"Low\",$C$1,\"0\",,,,,\"T\"),\"\")","v":102.3},{"$f":"IFERROR(RTD(\"cqg.rtd\",,\"StudyData\",\"HiLevel(\"&A404&\",Period1:=\"&$B$1&\",AllowGaps:=0,InputChoice1:=High,InputChoice3:=High)\",\"Bar\",, \"Close\",$C$1,\"-1\",,,,,\"T\"),\"\")","v":134.21},{"$f":"IFERROR(RTD(\"cqg.rtd\",,\"StudyData\",\"LoLevel(\"&A404&\",Period2:=\"&$B$1&\",AllowGaps:=0,InputChoice2:=Low,InputChoice4:=Low)\",\"Bar\",, \"Close\",$C$1,\"-1\",,,,,\"T\"),\"\")","v":84.44},0,0,18.032000000000039,17.019000000000023,"S.US.ROST",{"$f":"RTD(\"cqg.rtd\", ,\"ContractData\",A404, \"PerCentNetLastTrade\",, \"T\")/100","v":5.1416375630578192E-3},{"$f":"RANK($K404,$K$2:K$506)+COUNTIF($K$2:K404,K404)-1","v":{"$error":"#VALUE!"}},"S.US.ROST",403,"",{"$f":"RTD(\"cqg.rtd\", ,\"ContractData\",O404, \"PerCentNetLastTrade\",, \"T\")/100","v":{"$error":"#VALUE!"}},{"$error":"#N/A"},null,403,""]
[{"$f":"Symbols!A405","v":"S.US.RSG"},{"$f":"IFERROR(RTD(\"cqg.rtd\",,\"StudyData\",A405,\"Bar\",, \"High\",$C$1,\"0\",,,,,\"T\"),\"\")","v":133.71},{"$f":"IFERROR(RTD(\"cqg.rtd\",,\"StudyData\",A405,\"Bar\",, \"Low\",$C$1,\"0\",,,,,\"T\"),\"\")","v":132.22999999999999},{"$f":"IFERROR(RTD(\"cqg.rtd\",,\"StudyData\",\"HiLevel(\"&A405&\",Period1:=\"&$B$1&\",AllowGaps:=0,InputChoice1:=High,InputChoice3:=High)\",\"Bar\",, \"Close\",$C$1,\"-1\",,,,,\"T\"),\"\")","v":145.97999999999999},{"$f":"IFERROR(RTD(\"cqg.rtd\",,\"StudyData\",\"LoLevel(\"&A405&\",Period2:=\"&$B$1&\",AllowGaps:=0,InputChoice2:=Low,InputChoice4:=Low)\",\"Bar\",, \"Close\",$C$1,\"-1\",,,,,\"T\"),\"\")","v":103.56},0,0,18.03300000000004,17.020000000000024,"S.US.RSG",{"$f":"RTD(\"cqg.rtd\", ,\"ContractData\",A405, \"PerCentNetLastTrade\",, \"T\")/100","v":6.2542385652927437E-3},{"$f":"RANK($K405,$K$2:K$506)+COUNTIF($K$2:K405,K405)-1","v":{"$error":"#VALUE!"}},"S.US.RSG",404,"",{"$f":"RTD(\"cqg.rtd\", ,\"ContractData\",O405, \"PerCentNetLastTrade\",, \"T\")/100","v":{"$error":"#VALUE!"}},{"$error":"#N/A"},null,404,""]
[{"$f":"Symbols!A406","v":"S.US.RTX"},{"$f":"IFERROR(RTD(\"cqg.rtd\",,\"StudyData\",A406,\"Bar\",, \"High\",$C$1,\"0\",,,,,\"T\"),\"\")","v":105.46},{"$f":"IFERROR(RTD(\"cqg.rtd\",,\"StudyData\",A406,\"Bar\",, \"Low\",$C$1,\"0\",,,,,\"T\"),\"\")","v":104.04},{"$f":"IFERROR(RTD(\"cqg.rtd\",,\"StudyData\",\"HiLevel(\"&A406&\",Period1:=\"&$B$1&\",AllowGaps:=0,InputChoice1:=High,InputChoice3:=High)\",\"Bar\",, \"Close\",$C$1,\"-1\",,,,,\"T\"),\"\")","v":104.98},{"$f":"IFERROR(RTD(\"cqg.rtd\",,\"StudyData\",\"LoLevel(\"&A406&\",Period2:=\"&$B$1&\",AllowGaps:=0,InputChoice2:=Low,InputChoice4:=Low)\",\"Bar\",, \"Close\",$C$1,\"-1\",,,,,\"T\"),\"\")","v":76.069999999999993},1,0,19,17.021000000000026,"S.US.RTX",{"$f":"RTD(\"cqg.rtd\", ,\"ContractData\",A406, \"PerCentNetLastTrade\",, \"T\")/100","v":1.0357725136664428E-2},{"$f":"RANK($K406,$K$2:K$506)+COUNTIF($K$2:K406,K406)-1","v":{"$error":"#VALUE!"}},"S.US.RTX",405,"",{"$f":"RTD(\"cqg.rtd\", ,\"ContractData\",O406, \"PerCentNetLastTrade\",, \"T\")/100","v":{"$error":"#VALUE!"}},{"$error":"#N/A"},null,405,""]
[{"$f":"Symbols!A407","v":"S.US.SBAC"},{"$f":"IFERROR(RTD(\"cqg.rtd\",,\"StudyData\",A407,\"Bar\",, \"High\",$C$1,\"0\",,,,,\"T\"),\"\")","v":358.05},{"$f":"IFERROR(RTD(\"cqg.rtd\",,\"StudyData\",A407,\"Bar\",, \"Low\",$C$1,\"0\",,,,,\"T\"),\"\")","v":356.64},{"$f":"IFERROR(RTD(\"cqg.rtd\",,\"StudyData\",\"HiLevel(\"&A407&\",Period1:=\"&$B$1&\",AllowGaps:=0,InputChoice1:=High,InputChoice3:=High)\",\"Bar\",, \"Close\",$C$1,\"-1\",,,,,\"T\"),\"\")","v":391.15},{"$f":"IFERROR(RTD(\"cqg.rtd\",,\"StudyData\",\"LoLevel(\"&A407&\",Period2:=\"&$B$1&\",AllowGaps:=0,InputChoice2:=Low,InputChoice4:=Low)\",\"Bar\",, \"Close\",$C$1,\"-1\",,,,,\"T\"),\"\")","v":281.45},0,0,19.001000000000001,17.022000000000027,"S.US.SBAC",{"$f":"RTD(\"cqg.rtd\", ,\"ContractData\",A407, \"PerCentNetLastTrade\",, \"T\")/100","v":6.5845010974168493E-3},{"$f":"RANK($K407,$K$2:K$506)+COUNTIF($K$2:K407,K407)-1","v":{"$error":"#VALUE!"}},"S.US.SBAC",406,"",{"$f":"RTD(\"cqg.rtd\", ,\"ContractData\",O407, \"PerCentNetLastTrade\",, \"T\")/100","v":{"$error":"#VALUE!"}},{"$error":"#N/A"},null,406,""]
[{"$f":"Symbols!A408","v":"S.US.SBNY"},{"$f":"IFERROR(RTD(\"cqg.rtd\",,\"StudyData\",A408,\"Bar\",, \"High\",$C$1,\"0\",,,,,\"T\"),\"\")","v":267.61},{"$f":"IFERROR(RTD(\"cqg.rtd\",,\"StudyData\",A408,\"Bar\",, \"Low\",$C$1,\"0\",,,,,\"T\"),\"\")","v":263.08999999999997},{"$f":"IFERROR(RTD(\"cqg.rtd\",,\"StudyData\",\"HiLevel(\"&A408&\",Period1:=\"&$B$1&\",AllowGaps:=0,InputChoice1:=High,InputChoice3:=High)\",\"Bar\",, \"Close\",$C$1,\"-1\",,,,,\"T\"),\"\")","v":374.76},{"$f":"IFERROR(RTD(\"cqg.rtd\",,\"StudyData\",\"LoLevel(\"&A408&\",Period2:=\"&$B$1&\",AllowGaps:=0,InputChoice2:=Low,InputChoice4:=Low)\",\"Bar\",, \"Close\",$C$1,\"-1\",,,,,\"T\"),\"\")","v":216},0,0,19.002000000000002,17.023000000000028,"S.US.SBNY",{"$f":"RTD(\"cqg.rtd\", ,\"ContractData\",A408, \"PerCentNetLastTrade\",, \"T\")/100","v":-3.3846038133202966E-4},{"$f":"RANK($K408,$K$2:K$506)+COUNTIF($K$2:K408,K408)-1","v":{"$error":"#VALUE!"}},"S.US.SBNY",407,"",{"$f":"RTD(\"cqg.rtd\", ,\"ContractData\",O408, \"PerCentNetLastTrade\",, \"T\")/100","v":{"$error":"#VALUE!"}},{"$error":"#N/A"},null,407,""]
[{"$f":"Symbols!A409","v":"S.US.SBUX"},{"$f":"IFERROR(RTD(\"cqg.rtd\",,\"StudyData\",A409,\"Bar\",, \"High\",$C$1,\"0\",,,,,\"T\"),\"\")","v":79.7},{"$f":"IFERROR(RTD(\"cqg.rtd\",,\"StudyData\",A409,\"Bar\",, \"Low\",$C$1,\"0\",,,,,\"T\"),\"\")","v":78.959999999999994},{"$f":"IFERROR(RTD(\"cqg.rtd\",,\"StudyData\",\"HiLevel(\"&A409&\",Period1:=\"&$B$1&\",AllowGaps:=0,InputChoice1:=High,InputChoice3:=High)\",\"Bar\",, \"Close\",$C$1,\"-1\",,,,,\"T\"),\"\")","v":126.32},{"$f":"IFERROR(RTD(\"cqg.rtd\",,\"StudyData\",\"LoLevel(\"&A409&\",Period2:=\"&$B$1&\",AllowGaps:=0,InputChoice2:=Low,InputChoice4:=Low)\",\"Bar\",, \"Close\",$C$1,\"-1\",,,,,\"T\"),\"\")","v":78.92},0,0,19.003000000000004,17.024000000000029,"S.US.SBUX",{"$f":"RTD(\"cqg.rtd\", ,\"ContractData\",A409, \"PerCentNetLastTrade\",, \"T\")/100","v":-3.3962264150943396E-3},{"$f":"RANK($K409,$K$2:K$506)+COUNTIF($K$2:K409,K409)-1","v":{"$error":"#VALUE!"}},"S.US.SBUX",408,"",{"$f":"RTD(\"cqg.rtd\", ,\"ContractData\",O409, \"PerCentNetLastTrade\",, \"T\")/100","v":{"$error":"#VALUE!"}},{"$error":"#N/A"},null,408,""]
[{"$f":"Symbols!A410","v":"S.US.SCHW"},{"$f":"IFERROR(RTD(\"cqg.rtd\",,\"StudyData\",A410,\"Bar\",, \"High\",$C$1,\"0\",,,,,\"T\"),\"\")","v":77},{"$f":"IFERROR(RTD(\"cqg.rtd\",,\"StudyData\",A410,\"Bar\",, \"Low\",$C$1,\"0\",,,,,\"T\"),\"\")","v":74.37},{"$f":"IFERROR(RTD(\"cqg.rtd\",,\"StudyData\",\"HiLevel(\"&A410&\",Period1:=\"&$B$1&\",AllowGaps:=0,InputChoice1:=High,InputChoice3:=High)\",\"Bar\",, \"Close\",$C$1,\"-1\",,,,,\"T\"),\"\")","v":96.24},{"$f":"IFERROR(RTD(\"cqg.rtd\",,\"StudyData\",\"LoLevel(\"&A410&\",Period2:=\"&$B$1&\",AllowGaps:=0,InputChoice2:=Low,InputChoice4:=Low)\",\"Bar\",, \"Close\",$C$1,\"-1\",,,,,\"T\"),\"\")","v":63.46},0,0,19.004000000000005,17.025000000000031,"S.US.SCHW",{"$f":"RTD(\"cqg.rtd\", ,\"ContractData\",A410, \"PerCentNetLastTrade\",, \"T\")/100","v":-9.3051359516616305E-2},{"$f":"RANK($K410,$K$2:K$506)+COUNTIF($K$2:K410,K410)-1","v":{"$error":"#VALUE!"}},"S.US.SCHW",409,"",{"$f":"RTD(\"cqg.rtd\", ,\"ContractData\",O410, \"PerCentNetLastTrade\",, \"T\")/100","v":{"$error":"#VALUE!"}},{"$error":"#N/A"},null,409,""]
[{"$f":"Symbols!A411","v":"S.US.SEDG"},{"$f":"IFERROR(RTD(\"cqg.rtd\",,\"StudyData\",A411,\"Bar\",, \"High\",$C$1,\"0\",,,,,\"T\"),\"\")","v":302.05},{"$f":"IFERROR(RTD(\"cqg.rtd\",,\"StudyData\",A411,\"Bar\",, \"Low\",$C$1,\"0\",,,,,\"T\"),\"\")","v":296.33999999999997},{"$f":"IFERROR(RTD(\"cqg.rtd\",,\"StudyData\",\"HiLevel(\"&A411&\",Period1:=\"&$B$1&\",AllowGaps:=0,InputChoice1:=High,InputChoice3:=High)\",\"Bar\",, \"Close\",$C$1,\"-1\",,,,,\"T\"),\"\")","v":389.71},{"$f":"IFERROR(RTD(\"cqg.rtd\",,\"StudyData\",\"LoLevel(\"&A411&\",Period2:=\"&$B$1&\",AllowGaps:=0,InputChoice2:=Low,InputChoice4:=Low)\",\"Bar\",, \"Close\",$C$1,\"-1\",,,,,\"T\"),\"\")","v":199.33},0,0,19.005000000000006,17.026000000000032,"S.US.SEDG",{"$f":"RTD(\"cqg.rtd\", ,\"ContractData\",A411, \"PerCentNetLastTrade\",, \"T\")/100","v":-4.2573006053349301E-3},{"$f":"RANK($K411,$K$2:K$506)+COUNTIF($K$2:K411,K411)-1","v":{"$error":"#VALUE!"}},"S.US.SEDG",410,"",{"$f":"RTD(\"cqg.rtd\", ,\"ContractData\",O411, \"PerCentNetLastTrade\",, \"T\")/100","v":{"$error":"#VALUE!"}},{"$error":"#N/A"},null,410,""]
[{"$f":"Symbols!A412","v":"S.US.SEE"},{"$f":"IFERROR(RTD(\"cqg.rtd\",,\"StudyData\",A412,\"Bar\",, \"High\",$C$1,\"0\",,,,,\"T\"),\"\")","v":67.48},{"$f":"IFERROR(RTD(\"cqg.rtd\",,\"StudyData\",A412,\"Bar\",, \"Low\",$C$1,\"0\",,,,,\"T\"),\"\")","v":66.900000000000006},{"$f":"IFERROR(RTD(\"cqg.rtd\",,\"StudyData\",\"HiLevel(\"&A412&\",Period1:=\"&$B$1&\",AllowGaps:=0,InputChoice1:=High,InputChoice3:=High)\",\"Bar\",, \"Close\",$C$1,\"-1\",,,,,\"T\"),\"\")","v":70.72},{"$f":"IFERROR(RTD(\"cqg.rtd\",,\"StudyData\",\"LoLevel(\"&A412&\",Period2:=\"&$B$1&\",AllowGaps:=0,InputChoice2:=Low,InputChoice4:=Low)\",\"Bar\",, \"Close\",$C$1,\"-1\",,,,,\"T\"),\"\")","v":47.67},0,0,19.006000000000007,17.027000000000033,"S.US.SEE",{"$f":"RTD(\"cqg.rtd\", ,\"ContractData\",A412, \"PerCentNetLastTrade\",, \"T\")/100","v":-2.9664787896766538E-3},{"$f":"RANK($K412,$K$2:K$506)+COUNTIF($K$2:K412,K412)-1","v":{"$error":"#VALUE!"}},"S.US.SEE",411,"",{"$f":"RTD(\"cqg.rtd\", ,\"ContractData\",O412, \"PerCentNetLastTrade\",, \"T\")/100","v":{"$error":"#VALUE!"}},{"$error":"#N/A"},null,411,""]
[{"$f":"Symbols!A413","v":"S.US.SHW"},{"$f":"IFERROR(RTD(\"cqg.rtd\",,\"StudyData\",A413,\"Bar\",, \"High\",$C$1,\"0\",,,,,\"T\"),\"\")","v":252.58},{"$f":"IFERROR(RTD(\"cqg.rtd\",,\"StudyData\",A413,\"Bar\",, \"Low\",$C$1,\"0\",,,,,\"T\"),\"\")","v":249.76},{"$f":"IFERROR(RTD(\"cqg.rtd\",,\"StudyData\",\"HiLevel(\"&A413&\",Period1:=\"&$B$1&\",AllowGaps:=0,InputChoice1:=High,InputChoice3:=High)\",\"Bar\",, \"Close\",$C$1,\"-1\",,,,,\"T\"),\"\")","v":354.15},{"$f":"IFERROR(RTD(\"cqg.rtd\",,\"StudyData\",\"LoLevel(\"&A413&\",Period2:=\"&$B$1&\",AllowGaps:=0,InputChoice2:=Low,InputChoice4:=Low)\",\"Bar\",, \"Close\",$C$1,\"-1\",,,,,\"T\"),\"\")","v":233.32},0,0,19.007000000000009,17.028000000000034,"S.US.SHW",{"$f":"RTD(\"cqg.rtd\", ,\"ContractData\",A413, \"PerCentNetLastTrade\",, \"T\")/100","v":-7.710557532621589E-3},{"$f":"RANK($K413,$K$2:K$506)+COUNTIF($K$2:K413,K413)-1","v":{"$error":"#VALUE!"}},"S.US.SHW",412,"",{"$f":"RTD(\"cqg.rtd\", ,\"ContractData\",O413, \"PerCentNetLastTrade\",, \"T\")/100","v":{"$error":"#VALUE!"}},{"$error":"#N/A"},null,412,""]
[{"$f":"Symbols!A414","v":"S.US.SIVB"},{"$f":"IFERROR(RTD(\"cqg.rtd\",,\"StudyData\",A414,\"Bar\",, \"High\",$C$1,\"0\",,,,,\"T\"),\"\")","v":507.23},{"$f":"IFERROR(RTD(\"cqg.rtd\",,\"StudyData\",A414,\"Bar\",, \"Low\",$C$1,\"0\",,,,,\"T\"),\"\")","v":503.37},{"$f":"IFERROR(RTD(\"cqg.rtd\",,\"StudyData\",\"HiLevel(\"&A414&\",Period1:=\"&$B$1&\",AllowGaps:=0,InputChoice1:=High,InputChoice3:=High)\",\"Bar\",, \"Close\",$C$1,\"-1\",,,,,\"T\"),\"\")","v":763.22},{"$f":"IFERROR(RTD(\"cqg.rtd\",,\"StudyData\",\"LoLevel(\"&A414&\",Period2:=\"&$B$1&\",AllowGaps:=0,InputChoice2:=Low,InputChoice4:=Low)\",\"Bar\",, \"Close\",$C$1,\"-1\",,,,,\"T\"),\"\")","v":486.74},0,0,19.00800000000001,17.029000000000035,"S.US.SIVB",{"$f":"RTD(\"cqg.rtd\", ,\"ContractData\",A414, \"PerCentNetLastTrade\",, \"T\")/100","v":-4.1809647773439042E-3},{"$f":"RANK($K414,$K$2:K$506)+COUNTIF($K$2:K414,K414)-1","v":{"$error":"#VALUE!"}},"S.US.SIVB",413,"",{"$f":"RTD(\"cqg.rtd\", ,\"ContractData\",O414, \"PerCentNetLastTrade\",, \"T\")/100","v":{"$error":"#VALUE!"}},{"$error":"#N/A"},null,413,""]
[{"$f":"Symbols!A415","v":"S.US.SJM"},{"$f":"IFERROR(RTD(\"cqg.rtd\",,\"StudyData\",A415,\"Bar\",, \"High\",$C$1,\"0\",,,,,\"T\"),\"\")","v":140.34},{"$f":"IFERROR(RTD(\"cqg.rtd\",,\"StudyData\",A415,\"Bar\",, \"Low\",$C$1,\"0\",,,,,\"T\"),\"\")","v":139.37},{"$f":"IFERROR(RTD(\"cqg.rtd\",,\"StudyData\",\"HiLevel(\"&A415&\",Period1:=\"&$B$1&\",AllowGaps:=0,InputChoice1:=High,InputChoice3:=High)\",\"Bar\",, \"Close\",$C$1,\"-1\",,,,,\"T\"),\"\")","v":145.82},{"$f":"IFERROR(RTD(\"cqg.rtd\",,\"StudyData\",\"LoLevel(\"&A415&\",Period2:=\"&$B$1&\",AllowGaps:=0,InputChoice2:=Low,InputChoice4:=Low)\",\"Bar\",, \"Close\",$C$1,\"-1\",,,,,\"T\"),\"\")","v":118.55},0,0,19.009000000000011,17.030000000000037,"S.US.SJM",{"$f":"RTD(\"cqg.rtd\", ,\"ContractData\",A415, \"PerCentNetLastTrade\",, \"T\")/100","v":5.0110959982819104E-4},{"$f":"RANK($K415,$K$2:K$506)+COUNTIF($K$2:K415,K415)-1","v":{"$error":"#VALUE!"}},"S.US.SJM",414,"",{"$f":"RTD(\"cqg.rtd\", ,\"ContractData\",O415, \"PerCentNetLastTrade\",, \"T\")/100","v":{"$error":"#VALUE!"}},{"$error":"#N/A"},null,414,""]
[{"$f":"Symbols!A416","v":"S.US.SLB"},{"$f":"IFERROR(RTD(\"cqg.rtd\",,\"StudyData\",A416,\"Bar\",, \"High\",$C$1,\"0\",,,,,\"T\"),\"\")","v":44.31},{"$f":"IFERROR(RTD(\"cqg.rtd\",,\"StudyData\",A416,\"Bar\",, \"Low\",$C$1,\"0\",,,,,\"T\"),\"\")","v":43.32},{"$f":"IFERROR(RTD(\"cqg.rtd\",,\"StudyData\",\"HiLevel(\"&A416&\",Period1:=\"&$B$1&\",AllowGaps:=0,InputChoice1:=High,InputChoice3:=High)\",\"Bar\",, \"Close\",$C$1,\"-1\",,,,,\"T\"),\"\")","v":46.27},{"$f":"IFERROR(RTD(\"cqg.rtd\",,\"StudyData\",\"LoLevel(\"&A416&\",Period2:=\"&$B$1&\",AllowGaps:=0,InputChoice2:=Low,InputChoice4:=Low)\",\"Bar\",, \"Close\",$C$1,\"-1\",,,,,\"T\"),\"\")","v":24.52},0,0,19.010000000000012,17.031000000000038,"S.US.SLB",{"$f":"RTD(\"cqg.rtd\", ,\"ContractData\",A416, \"PerCentNetLastTrade\",, \"T\")/100","v":2.1965317919075144E-2},{"$f":"RANK($K416,$K$2:K$506)+COUNTIF($K$2:K416,K416)-1","v":{"$error":"#VALUE!"}},"S.US.SLB",415,"",{"$f":"RTD(\"cqg.rtd\", ,\"ContractData\",O416, \"PerCentNetLastTrade\",, \"T\")/100","v":{"$error":"#VALUE!"}},{"$error":"#N/A"},null,415,""]
[{"$f":"Symbols!A417","v":"S.US.SNA"},{"$f":"IFERROR(RTD(\"cqg.rtd\",,\"StudyData\",A417,\"Bar\",, \"High\",$C$1,\"0\",,,,,\"T\"),\"\")","v":213.59},{"$f":"IFERROR(RTD(\"cqg.rtd\",,\"StudyData\",A417,\"Bar\",, \"Low\",$C$1,\"0\",,,,,\"T\"),\"\")","v":209.98},{"$f":"IFERROR(RTD(\"cqg.rtd\",,\"StudyData\",\"HiLevel(\"&A417&\",Period1:=\"&$B$1&\",AllowGaps:=0,InputChoice1:=High,InputChoice3:=High)\",\"Bar\",, \"Close\",$C$1,\"-1\",,,,,\"T\"),\"\")","v":259.99},{"$f":"IFERROR(RTD(\"cqg.rtd\",,\"StudyData\",\"LoLevel(\"&A417&\",Period2:=\"&$B$1&\",AllowGaps:=0,InputChoice2:=Low,InputChoice4:=Low)\",\"Bar\",, \"Close\",$C$1,\"-1\",,,,,\"T\"),\"\")","v":197.75},0,0,19.011000000000013,17.032000000000039,"S.US.SNA",{"$f":"RTD(\"cqg.rtd\", ,\"ContractData\",A417, \"PerCentNetLastTrade\",, \"T\")/100","v":1.1507861337374503E-2},{"$f":"RANK($K417,$K$2:K$506)+COUNTIF($K$2:K417,K417)-1","v":{"$error":"#VALUE!"}},"S.US.SNA",416,"",{"$f":"RTD(\"cqg.rtd\", ,\"ContractData\",O417, \"PerCentNetLastTrade\",, \"T\")/100","v":{"$error":"#VALUE!"}},{"$error":"#N/A"},null,416,""]
[{"$f":"Symbols!A418","v":"S.US.SNPS"},{"$f":"IFERROR(RTD(\"cqg.rtd\",,\"StudyData\",A418,\"Bar\",, \"High\",$C$1,\"0\",,,,,\"T\"),\"\")","v":296.54000000000002},{"$f":"IFERROR(RTD(\"cqg.rtd\",,\"StudyData\",A418,\"Bar\",, \"Low\",$C$1,\"0\",,,,,\"T\"),\"\")","v":293.01},{"$f":"IFERROR(RTD(\"cqg.rtd\",,\"StudyData\",\"HiLevel(\"&A418&\",Period1:=\"&$B$1&\",AllowGaps:=0,InputChoice1:=High,InputChoice3:=High)\",\"Bar\",, \"Close\",$C$1,\"-1\",,,,,\"T\"),\"\")","v":377.6},{"$f":"IFERROR(RTD(\"cqg.rtd\",,\"StudyData\",\"LoLevel(\"&A418&\",Period2:=\"&$B$1&\",AllowGaps:=0,InputChoice2:=Low,InputChoice4:=Low)\",\"Bar\",, \"Close\",$C$1,\"-1\",,,,,\"T\"),\"\")","v":225.02},0,0,19.012000000000015,17.03300000000004,"S.US.SNPS",{"$f":"RTD(\"cqg.rtd\", ,\"ContractData\",A418, \"PerCentNetLastTrade\",, \"T\")/100","v":-5.7672083319198018E-3},{"$f":"RANK($K418,$K$2:K$506)+COUNTIF($K$2:K418,K418)-1","v":{"$error":"#VALUE!"}},"S.US.SNPS",417,"",{"$f":"RTD(\"cqg.rtd\", ,\"ContractData\",O418, \"PerCentNetLastTrade\",, \"T\")/100","v":{"$error":"#VALUE!"}},{"$error":"#N/A"},null,417,""]
[{"$f":"Symbols!A419","v":"S.US.SO"},{"$f":"IFERROR(RTD(\"cqg.rtd\",,\"StudyData\",A419,\"Bar\",, \"High\",$C$1,\"0\",,,,,\"T\"),\"\")","v":76.569999999999993},{"$f":"IFERROR(RTD(\"cqg.rtd\",,\"StudyData\",A419,\"Bar\",, \"Low\",$C$1,\"0\",,,,,\"T\"),\"\")","v":75.989999999999995},{"$f":"IFERROR(RTD(\"cqg.rtd\",,\"StudyData\",\"HiLevel(\"&A419&\",Period1:=\"&$B$1&\",AllowGaps:=0,InputChoice1:=High,InputChoice3:=High)\",\"Bar\",, \"Close\",$C$1,\"-1\",,,,,\"T\"),\"\")","v":76.87},{"$f":"IFERROR(RTD(\"cqg.rtd\",,\"StudyData\",\"LoLevel(\"&A419&\",Period2:=\"&$B$1&\",AllowGaps:=0,InputChoice2:=Low,InputChoice4:=Low)\",\"Bar\",, \"Close\",$C$1,\"-1\",,,,,\"T\"),\"\")","v":60.11},0,0,19.013000000000016,17.034000000000042,"S.US.SO",{"$f":"RTD(\"cqg.rtd\", ,\"ContractData\",A419, \"PerCentNetLastTrade\",, \"T\")/100","v":4.2110804053164894E-3},{"$f":"RANK($K419,$K$2:K$506)+COUNTIF($K$2:K419,K419)-1","v":{"$error":"#VALUE!"}},"S.US.SO",418,"",{"$f":"RTD(\"cqg.rtd\", ,\"ContractData\",O419, \"PerCentNetLastTrade\",, \"T\")/100","v":{"$error":"#VALUE!"}},{"$error":"#N/A"},null,418,""]
[{"$f":"Symbols!A420","v":"S.US.SPG"},{"$f":"IFERROR(RTD(\"cqg.rtd\",,\"StudyData\",A420,\"Bar\",, \"High\",$C$1,\"0\",,,,,\"T\"),\"\")","v":128.31},{"$f":"IFERROR(RTD(\"cqg.rtd\",,\"StudyData\",A420,\"Bar\",, \"Low\",$C$1,\"0\",,,,,\"T\"),\"\")","v":127.3},{"$f":"IFERROR(RTD(\"cqg.rtd\",,\"StudyData\",\"HiLevel(\"&A420&\",Period1:=\"&$B$1&\",AllowGaps:=0,InputChoice1:=High,InputChoice3:=High)\",\"Bar\",, \"Close\",$C$1,\"-1\",,,,,\"T\"),\"\")","v":171.12},{"$f":"IFERROR(RTD(\"cqg.rtd\",,\"StudyData\",\"LoLevel(\"&A420&\",Period2:=\"&$B$1&\",AllowGaps:=0,InputChoice2:=Low,InputChoice4:=Low)\",\"Bar\",, \"Close\",$C$1,\"-1\",,,,,\"T\"),\"\")","v":112.61},0,0,19.014000000000017,17.035000000000043,"S.US.SPG",{"$f":"RTD(\"cqg.rtd\", ,\"ContractData\",A420, \"PerCentNetLastTrade\",, \"T\")/100","v":-9.383797309978105E-4},{"$f":"RANK($K420,$K$2:K$506)+COUNTIF($K$2:K420,K420)-1","v":{"$error":"#VALUE!"}},"S.US.SPG",419,"",{"$f":"RTD(\"cqg.rtd\", ,\"ContractData\",O420, \"PerCentNetLastTrade\",, \"T\")/100","v":{"$error":"#VALUE!"}},{"$error":"#N/A"},null,419,""]
[{"$f":"Symbols!A421","v":"S.US.SPGI"},{"$f":"IFERROR(RTD(\"cqg.rtd\",,\"StudyData\",A421,\"Bar\",, \"High\",$C$1,\"0\",,,,,\"T\"),\"\")","v":390.73},{"$f":"IFERROR(RTD(\"cqg.rtd\",,\"StudyData\",A421,\"Bar\",, \"Low\",$C$1,\"0\",,,,,\"T\"),\"\")","v":385.87},{"$f":"IFERROR(RTD(\"cqg.rtd\",,\"StudyData\",\"HiLevel(\"&A421&\",Period1:=\"&$B$1&\",AllowGaps:=0,InputChoice1:=High,InputChoice3:=High)\",\"Bar\",, \"Close\",$C$1,\"-1\",,,,,\"T\"),\"\")","v":484.21},{"$f":"IFERROR(RTD(\"cqg.rtd\",,\"StudyData\",\"LoLevel(\"&A421&\",Period2:=\"&$B$1&\",AllowGaps:=0,InputChoice2:=Low,InputChoice4:=Low)\",\"Bar\",, \"Close\",$C$1,\"-1\",,,,,\"T\"),\"\")","v":363.54},0,0,19.015000000000018,17.036000000000044,"S.US.SPGI",{"$f":"RTD(\"cqg.rtd\", ,\"ContractData\",A421, \"PerCentNetLastTrade\",, \"T\")/100","v":3.5088624577517481E-3},{"$f":"RANK($K421,$K$2:K$506)+COUNTIF($K$2:K421,K421)-1","v":{"$error":"#VALUE!"}},"S.US.SPGI",420,"",{"$f":"RTD(\"cqg.rtd\", ,\"ContractData\",O421, \"PerCentNetLastTrade\",, \"T\")/100","v":{"$error":"#VALUE!"}},{"$error":"#N/A"},null,420,""]
[{"$f":"Symbols!A422","v":"S.US.SRE"},{"$f":"IFERROR(RTD(\"cqg.rtd\",,\"StudyData\",A422,\"Bar\",, \"High\",$C$1,\"0\",,,,,\"T\"),\"\")","v":172.84},{"$f":"IFERROR(RTD(\"cqg.rtd\",,\"StudyData\",A422,\"Bar\",, \"Low\",$C$1,\"0\",,,,,\"T\"),\"\")","v":171.93},{"$f":"IFERROR(RTD(\"cqg.rtd\",,\"StudyData\",\"HiLevel(\"&A422&\",Period1:=\"&$B$1&\",AllowGaps:=0,InputChoice1:=High,InputChoice3:=High)\",\"Bar\",, \"Close\",$C$1,\"-1\",,,,,\"T\"),\"\")","v":172.38},{"$f":"IFERROR(RTD(\"cqg.rtd\",,\"StudyData\",\"LoLevel(\"&A422&\",Period2:=\"&$B$1&\",AllowGaps:=0,InputChoice2:=Low,InputChoice4:=Low)\",\"Bar\",, \"Close\",$C$1,\"-1\",,,,,\"T\"),\"\")","v":119.56},1,0,20,17.037000000000045,"S.US.SRE",{"$f":"RTD(\"cqg.rtd\", ,\"ContractData\",A422, \"PerCentNetLastTrade\",, \"T\")/100","v":6.8905109489051097E-3},{"$f":"RANK($K422,$K$2:K$506)+COUNTIF($K$2:K422,K422)-1","v":{"$error":"#VALUE!"}},"S.US.SRE",421,"",{"$f":"RTD(\"cqg.rtd\", ,\"ContractData\",O422, \"PerCentNetLastTrade\",, \"T\")/100","v":{"$error":"#VALUE!"}},{"$error":"#N/A"},null,421,""]
[{"$f":"Symbols!A423","v":"S.US.STE"},{"$f":"IFERROR(RTD(\"cqg.rtd\",,\"StudyData\",A423,\"Bar\",, \"High\",$C$1,\"0\",,,,,\"T\"),\"\")","v":245.15},{"$f":"IFERROR(RTD(\"cqg.rtd\",,\"StudyData\",A423,\"Bar\",, \"Low\",$C$1,\"0\",,,,,\"T\"),\"\")","v":243.25},{"$f":"IFERROR(RTD(\"cqg.rtd\",,\"StudyData\",\"HiLevel(\"&A423&\",Period1:=\"&$B$1&\",AllowGaps:=0,InputChoice1:=High,InputChoice3:=High)\",\"Bar\",, \"Close\",$C$1,\"-1\",,,,,\"T\"),\"\")","v":251.69},{"$f":"IFERROR(RTD(\"cqg.rtd\",,\"StudyData\",\"LoLevel(\"&A423&\",Period2:=\"&$B$1&\",AllowGaps:=0,InputChoice2:=Low,InputChoice4:=Low)\",\"Bar\",, \"Close\",$C$1,\"-1\",,,,,\"T\"),\"\")","v":188.1},0,0,20.001000000000001,17.038000000000046,"S.US.STE",{"$f":"RTD(\"cqg.rtd\", ,\"ContractData\",A423, \"PerCentNetLastTrade\",, \"T\")/100","v":-1.7180724862963265E-3},{"$f":"RANK($K423,$K$2:K$506)+COUNTIF($K$2:K423,K423)-1","v":{"$error":"#VALUE!"}},"S.US.STE",422,"",{"$f":"RTD(\"cqg.rtd\", ,\"ContractData\",O423, \"PerCentNetLastTrade\",, \"T\")/100","v":{"$error":"#VALUE!"}},{"$error":"#N/A"},null,422,""]
[{"$f":"Symbols!A424","v":"S.US.STT"},{"$f":"IFERROR(RTD(\"cqg.rtd\",,\"StudyData\",A424,\"Bar\",, \"High\",$C$1,\"0\",,,,,\"T\"),\"\")","v":74.8},{"$f":"IFERROR(RTD(\"cqg.rtd\",,\"StudyData\",A424,\"Bar\",, \"Low\",$C$1,\"0\",,,,,\"T\"),\"\")","v":73.25},{"$f":"IFERROR(RTD(\"cqg.rtd\",,\"StudyData\",\"HiLevel(\"&A424&\",Period1:=\"&$B$1&\",AllowGaps:=0,InputChoice1:=High,InputChoice3:=High)\",\"Bar\",, \"Close\",$C$1,\"-1\",,,,,\"T\"),\"\")","v":104.87},{"$f":"IFERROR(RTD(\"cqg.rtd\",,\"StudyData\",\"LoLevel(\"&A424&\",Period2:=\"&$B$1&\",AllowGaps:=0,InputChoice2:=Low,InputChoice4:=Low)\",\"Bar\",, \"Close\",$C$1,\"-1\",,,,,\"T\"),\"\")","v":75.650000000000006},0,1,20.002000000000002,18,"S.US.STT",{"$f":"RTD(\"cqg.rtd\", ,\"ContractData\",A424, \"PerCentNetLastTrade\",, \"T\")/100","v":-2.6117926394934706E-2},{"$f":"RANK($K424,$K$2:K$506)+COUNTIF($K$2:K424,K424)-1","v":{"$error":"#VALUE!"}},"S.US.STT",423,"",{"$f":"RTD(\"cqg.rtd\", ,\"ContractData\",O424, \"PerCentNetLastTrade\",, \"T\")/100","v":{"$error":"#VALUE!"}},{"$error":"#N/A"},null,423,""]
[{"$f":"Symbols!A425","v":"S.US.STX"},{"$f":"IFERROR(RTD(\"cqg.rtd\",,\"StudyData\",A425,\"Bar\",, \"High\",$C$1,\"0\",,,,,\"T\"),\"\")","v":82},{"$f":"IFERROR(RTD(\"cqg.rtd\",,\"StudyData\",A425,\"Bar\",, \"Low\",$C$1,\"0\",,,,,\"T\"),\"\")","v":81.33},{"$f":"IFERROR(RTD(\"cqg.rtd\",,\"StudyData\",\"HiLevel(\"&A425&\",Period1:=\"&$B$1&\",AllowGaps:=0,InputChoice1:=High,InputChoice3:=High)\",\"Bar\",, \"Close\",$C$1,\"-1\",,,,,\"T\"),\"\")","v":117.67},{"$f":"IFERROR(RTD(\"cqg.rtd\",,\"StudyData\",\"LoLevel(\"&A425&\",Period2:=\"&$B$1&\",AllowGaps:=0,InputChoice2:=Low,InputChoice4:=Low)\",\"Bar\",, \"Close\",$C$1,\"-1\",,,,,\"T\"),\"\")","v":78.2},{"$f":"IF(B425=\"\",0,IFERROR(IF(B425>D425,1,0),\"\"))","v":0},{"$f":"IF(C425=\"\",0,IFERROR(IF(C425<E425,1,0),\"\"))","v":0},{"$f":"IF(F425=1,INT(H424+1),H424+0.001)","v":20.003000000000004},{"$f":"IF(G425=1,INT(I424+1),I424+0.001)","v":18.001000000000001},{"$f":"A425","v":"S.US.STX"},{"$f":"RTD(\"cqg.rtd\", ,\"ContractData\",A425, \"PerCentNetLastTrade\",, \"T\")/100","v":3.8078860090897926E-3},{"$f":"RANK($K425,$K$2:K$506)+COUNTIF($K$2:K425,K425)-1","v":{"$error":"#VALUE!"}},"S.US.STX",424,"",{"$f":"RTD(\"cqg.rtd\", ,\"ContractData\",O425, \"PerCentNetLastTrade\",, \"T\")/100","v":{"$error":"#VALUE!"}},{"$error":"#N/A"},null,424,""]
[{"$f":"Symbols!A426","v":"S.US.STZ"},{"$f":"IFERROR(RTD(\"cqg.rtd\",,\"StudyData\",A426,\"Bar\",, \"High\",$C$1,\"0\",,,,,\"T\"),\"\")","v":254.8},{"$f":"IFERROR(RTD(\"cqg.rtd\",,\"StudyData\",A426,\"Bar\",, \"Low\",$C$1,\"0\",,,,,\"T\"),\"\")","v":251.19},{"$f":"IFERROR(RTD(\"cqg.rtd\",,\"StudyData\",\"HiLevel(\"&A426&\",Period1:=\"&$B$1&\",AllowGaps:=0,InputChoice1:=High,InputChoice3:=High)\",\"Bar\",, \"Close\",$C$1,\"-1\",,,,,\"T\"),\"\")","v":257.99},{"$f":"IFERROR(RTD(\"cqg.rtd\",,\"StudyData\",\"LoLevel(\"&A426&\",Period2:=\"&$B$1&\",AllowGaps:=0,InputChoice2:=Low,InputChoice4:=Low)\",\"Bar\",, \"Close\",$C$1,\"-1\",,,,,\"T\"),\"\")","v":207.35},0,0,20.004000000000005,18.002000000000002,"S.US.STZ",{"$f":"RTD(\"cqg.rtd\", ,\"ContractData\",A426, \"PerCentNetLastTrade\",, \"T\")/100","v":1.2131095378251531E-2},{"$f":"RANK($K426,$K$2:K$506)+COUNTIF($K$2:K426,K426)-1","v":{"$error":"#VALUE!"}},"S.US.STZ",425,"",{"$f":"RTD(\"cqg.rtd\", ,\"ContractData\",O426, \"PerCentNetLastTrade\",, \"T\")/100","v":{"$error":"#VALUE!"}},{"$error":"#N/A"},null,425,""]
[{"$f":"Symbols!A427","v":"S.US.SWK"},{"$f":"IFERROR(RTD(\"cqg.rtd\",,\"StudyData\",A427,\"Bar\",, \"High\",$C$1,\"0\",,,,,\"T\"),\"\")","v":140.84},{"$f":"IFERROR(RTD(\"cqg.rtd\",,\"StudyData\",A427,\"Bar\",, \"Low\",$C$1,\"0\",,,,,\"T\"),\"\")","v":139.44},{"$f":"IFERROR(RTD(\"cqg.rtd\",,\"StudyData\",\"HiLevel(\"&A427&\",Period1:=\"&$B$1&\",AllowGaps:=0,InputChoice1:=High,InputChoice3:=High)\",\"Bar\",, \"Close\",$C$1,\"-1\",,,,,\"T\"),\"\")","v":225},{"$f":"IFERROR(RTD(\"cqg.rtd\",,\"StudyData\",\"LoLevel(\"&A427&\",Period2:=\"&$B$1&\",AllowGaps:=0,InputChoice2:=Low,InputChoice4:=Low)\",\"Bar\",, \"Close\",$C$1,\"-1\",,,,,\"T\"),\"\")","v":136.61000000000001},0,0,20.005000000000006,18.003000000000004,"S.US.SWK",{"$f":"RTD(\"cqg.rtd\", ,\"ContractData\",A427, \"PerCentNetLastTrade\",, \"T\")/100","v":-4.9885974914481187E-4},{"$f":"RANK($K427,$K$2:K$506)+COUNTIF($K$2:K427,K427)-1","v":{"$error":"#VALUE!"}},"S.US.SWK",426,"",{"$f":"RTD(\"cqg.rtd\", ,\"ContractData\",O427, \"PerCentNetLastTrade\",, \"T\")/100","v":{"$error":"#VALUE!"}},{"$error":"#N/A"},null,426,""]
[{"$f":"Symbols!A428","v":"S.US.SWKS"},{"$f":"IFERROR(RTD(\"cqg.rtd\",,\"StudyData\",A428,\"Bar\",, \"High\",$C$1,\"0\",,,,,\"T\"),\"\")","v":119.52},{"$f":"IFERROR(RTD(\"cqg.rtd\",,\"StudyData\",A428,\"Bar\",, \"Low\",$C$1,\"0\",,,,,\"T\"),\"\")","v":117.16},{"$f":"IFERROR(RTD(\"cqg.rtd\",,\"StudyData\",\"HiLevel(\"&A428&\",Period1:=\"&$B$1&\",AllowGaps:=0,InputChoice1:=High,InputChoice3:=High)\",\"Bar\",, \"Close\",$C$1,\"-1\",,,,,\"T\"),\"\")","v":204},{"$f":"IFERROR(RTD(\"cqg.rtd\",,\"StudyData\",\"LoLevel(\"&A428&\",Period2:=\"&$B$1&\",AllowGaps:=0,InputChoice2:=Low,InputChoice4:=Low)\",\"Bar\",, \"Close\",$C$1,\"-1\",,,,,\"T\"),\"\")","v":117.65},0,1,20.006000000000007,19,"S.US.SWKS",{"$f":"RTD(\"cqg.rtd\", ,\"ContractData\",A428, \"PerCentNetLastTrade\",, \"T\")/100","v":2.2933831648687675E-3},{"$f":"RANK($K428,$K$2:K$506)+COUNTIF($K$2:K428,K428)-1","v":{"$error":"#VALUE!"}},"S.US.SWKS",427,"",{"$f":"RTD(\"cqg.rtd\", ,\"ContractData\",O428, \"PerCentNetLastTrade\",, \"T\")/100","v":{"$error":"#VALUE!"}},{"$error":"#N/A"},null,427,""]
[{"$f":"Symbols!A429","v":"S.US.SYF"},{"$f":"IFERROR(RTD(\"cqg.rtd\",,\"StudyData\",A429,\"Bar\",, \"High\",$C$1,\"0\",,,,,\"T\"),\"\")","v":39.869999999999997},{"$f":"IFERROR(RTD(\"cqg.rtd\",,\"StudyData\",A429,\"Bar\",, \"Low\",$C$1,\"0\",,,,,\"T\"),\"\")","v":37.799999999999997},{"$f":"IFERROR(RTD(\"cqg.rtd\",,\"StudyData\",\"HiLevel(\"&A429&\",Period1:=\"&$B$1&\",AllowGaps:=0,InputChoice1:=High,InputChoice3:=High)\",\"Bar\",, \"Close\",$C$1,\"-1\",,,,,\"T\"),\"\")","v":52.49},{"$f":"IFERROR(RTD(\"cqg.rtd\",,\"StudyData\",\"LoLevel(\"&A429&\",Period2:=\"&$B$1&\",AllowGaps:=0,InputChoice2:=Low,InputChoice4:=Low)\",\"Bar\",, \"Close\",$C$1,\"-1\",,,,,\"T\"),\"\")","v":33.75},0,0,20.007000000000009,19.001000000000001,"S.US.SYF",{"$f":"RTD(\"cqg.rtd\", ,\"ContractData\",A429, \"PerCentNetLastTrade\",, \"T\")/100","v":5.5968169761273209E-2},{"$f":"RANK($K429,$K$2:K$506)+COUNTIF($K$2:K429,K429)-1","v":{"$error":"#VALUE!"}},"S.US.SYF",428,"",{"$f":"RTD(\"cqg.rtd\", ,\"ContractData\",O429, \"PerCentNetLastTrade\",, \"T\")/100","v":{"$error":"#VALUE!"}},{"$error":"#N/A"},null,428,""]
[{"$f":"Symbols!A430","v":"S.US.SYK"},{"$f":"IFERROR(RTD(\"cqg.rtd\",,\"StudyData\",A430,\"Bar\",, \"High\",$C$1,\"0\",,,,,\"T\"),\"\")","v":262.63},{"$f":"IFERROR(RTD(\"cqg.rtd\",,\"StudyData\",A430,\"Bar\",, \"Low\",$C$1,\"0\",,,,,\"T\"),\"\")","v":260.42},{"$f":"IFERROR(RTD(\"cqg.rtd\",,\"StudyData\",\"HiLevel(\"&A430&\",Period1:=\"&$B$1&\",AllowGaps:=0,InputChoice1:=High,InputChoice3:=High)\",\"Bar\",, \"Close\",$C$1,\"-1\",,,,,\"T\"),\"\")","v":281.16000000000003},{"$f":"IFERROR(RTD(\"cqg.rtd\",,\"StudyData\",\"LoLevel(\"&A430&\",Period2:=\"&$B$1&\",AllowGaps:=0,InputChoice2:=Low,InputChoice4:=Low)\",\"Bar\",, \"Close\",$C$1,\"-1\",,,,,\"T\"),\"\")","v":236.09},0,0,20.00800000000001,19.002000000000002,"S.US.SYK",{"$f":"RTD(\"cqg.rtd\", ,\"ContractData\",A430, \"PerCentNetLastTrade\",, \"T\")/100","v":-8.0244554833779134E-4},{"$f":"RANK($K430,$K$2:K$506)+COUNTIF($K$2:K430,K430)-1","v":{"$error":"#VALUE!"}},"S.US.SYK",429,"",{"$f":"RTD(\"cqg.rtd\", ,\"ContractData\",O430, \"PerCentNetLastTrade\",, \"T\")/100","v":{"$error":"#VALUE!"}},{"$error":"#N/A"},null,429,""]
[{"$f":"Symbols!A431","v":"S.US.SYY"},{"$f":"IFERROR(RTD(\"cqg.rtd\",,\"StudyData\",A431,\"Bar\",, \"High\",$C$1,\"0\",,,,,\"T\"),\"\")","v":86.19},{"$f":"IFERROR(RTD(\"cqg.rtd\",,\"StudyData\",A431,\"Bar\",, \"Low\",$C$1,\"0\",,,,,\"T\"),\"\")","v":85.01},{"$f":"IFERROR(RTD(\"cqg.rtd\",,\"StudyData\",\"HiLevel(\"&A431&\",Period1:=\"&$B$1&\",AllowGaps:=0,InputChoice1:=High,InputChoice3:=High)\",\"Bar\",, \"Close\",$C$1,\"-1\",,,,,\"T\"),\"\")","v":89.22},{"$f":"IFERROR(RTD(\"cqg.rtd\",,\"StudyData\",\"LoLevel(\"&A431&\",Period2:=\"&$B$1&\",AllowGaps:=0,InputChoice2:=Low,InputChoice4:=Low)\",\"Bar\",, \"Close\",$C$1,\"-1\",,,,,\"T\"),\"\")","v":68.05},0,0,20.009000000000011,19.003000000000004,"S.US.SYY",{"$f":"RTD(\"cqg.rtd\", ,\"ContractData\",A431, \"PerCentNetLastTrade\",, \"T\")/100","v":-3.7092848035238206E-3},{"$f":"RANK($K431,$K$2:K$506)+COUNTIF($K$2:K431,K431)-1","v":{"$error":"#VALUE!"}},"S.US.SYY",430,"",{"$f":"RTD(\"cqg.rtd\", ,\"ContractData\",O431, \"PerCentNetLastTrade\",, \"T\")/100","v":{"$error":"#VALUE!"}},{"$error":"#N/A"},null,430,""]
[{"$f":"Symbols!A432","v":"S.US.T"},{"$f":"IFERROR(RTD(\"cqg.rtd\",,\"StudyData\",A432,\"Bar\",, \"High\",$C$1,\"0\",,,,,\"T\"),\"\")","v":19.57},{"$f":"IFERROR(RTD(\"cqg.rtd\",,\"StudyData\",A432,\"Bar\",, \"Low\",$C$1,\"0\",,,,,\"T\"),\"\")","v":19.39},{"$f":"IFERROR(RTD(\"cqg.rtd\",,\"StudyData\",\"HiLevel(\"&A432&\",Period1:=\"&$B$1&\",AllowGaps:=0,InputChoice1:=High,InputChoice3:=High)\",\"Bar\",, \"Close\",$C$1,\"-1\",,,,,\"T\"),\"\")","v":25.58},{"$f":"IFERROR(RTD(\"cqg.rtd\",,\"StudyData\",\"LoLevel(\"&A432&\",Period2:=\"&$B$1&\",AllowGaps:=0,InputChoice2:=Low,InputChoice4:=Low)\",\"Bar\",, \"Close\",$C$1,\"-1\",,,,,\"T\"),\"\")","v":16.63},0,0,20.010000000000012,19.004000000000005,"S.US.T",{"$f":"RTD(\"cqg.rtd\", ,\"ContractData\",A432, \"PerCentNetLastTrade\",, \"T\")/100","v":-5.1177072671443195E-4},{"$f":"RANK($K432,$K$2:K$506)+COUNTIF($K$2:K432,K432)-1","v":{"$error":"#VALUE!"}},"S.US.T",431,"",{"$f":"RTD(\"cqg.rtd\", ,\"ContractData\",O432, \"PerCentNetLastTrade\",, \"T\")/100","v":{"$error":"#VALUE!"}},{"$error":"#N/A"},null,431,""]
[{"$f":"Symbols!A433","v":"S.US.TAP"},{"$f":"IFERROR(RTD(\"cqg.rtd\",,\"StudyData\",A433,\"Bar\",, \"High\",$C$1,\"0\",,,,,\"T\"),\"\")","v":56.27},{"$f":"IFERROR(RTD(\"cqg.rtd\",,\"StudyData\",A433,\"Bar\",, \"Low\",$C$1,\"0\",,,,,\"T\"),\"\")","v":55.34},{"$f":"IFERROR(RTD(\"cqg.rtd\",,\"StudyData\",\"HiLevel(\"&A433&\",Period1:=\"&$B$1&\",AllowGaps:=0,InputChoice1:=High,InputChoice3:=High)\",\"Bar\",, \"Close\",$C$1,\"-1\",,,,,\"T\"),\"\")","v":61.48},{"$f":"IFERROR(RTD(\"cqg.rtd\",,\"StudyData\",\"LoLevel(\"&A433&\",Period2:=\"&$B$1&\",AllowGaps:=0,InputChoice2:=Low,InputChoice4:=Low)\",\"Bar\",, \"Close\",$C$1,\"-1\",,,,,\"T\"),\"\")","v":42.46},0,0,20.011000000000013,19.005000000000006,"S.US.TAP",{"$f":"RTD(\"cqg.rtd\", ,\"ContractData\",A433, \"PerCentNetLastTrade\",, \"T\")/100","v":1.1149073907570582E-2},{"$f":"RANK($K433,$K$2:K$506)+COUNTIF($K$2:K433,K433)-1","v":{"$error":"#VALUE!"}},"S.US.TAP",432,"",{"$f":"RTD(\"cqg.rtd\", ,\"ContractData\",O433, \"PerCentNetLastTrade\",, \"T\")/100","v":{"$error":"#VALUE!"}},{"$error":"#N/A"},null,432,""]
[{"$f":"Symbols!A434","v":"S.US.TDG"},{"$f":"IFERROR(RTD(\"cqg.rtd\",,\"StudyData\",A434,\"Bar\",, \"High\",$C$1,\"0\",,,,,\"T\"),\"\")","v":639.12},{"$f":"IFERROR(RTD(\"cqg.rtd\",,\"StudyData\",A434,\"Bar\",, \"Low\",$C$1,\"0\",,,,,\"T\"),\"\")","v":637.66},{"$f":"IFERROR(RTD(\"cqg.rtd\",,\"StudyData\",\"HiLevel(\"&A434&\",Period1:=\"&$B$1&\",AllowGaps:=0,InputChoice1:=High,InputChoice3:=High)\",\"Bar\",, \"Close\",$C$1,\"-1\",,,,,\"T\"),\"\")","v":688.03},{"$f":"IFERROR(RTD(\"cqg.rtd\",,\"StudyData\",\"LoLevel(\"&A434&\",Period2:=\"&$B$1&\",AllowGaps:=0,InputChoice2:=Low,InputChoice4:=Low)\",\"Bar\",, \"Close\",$C$1,\"-1\",,,,,\"T\"),\"\")","v":552.71},0,0,20.012000000000015,19.006000000000007,"S.US.TDG",{"$f":"RTD(\"cqg.rtd\", ,\"ContractData\",A434, \"PerCentNetLastTrade\",, \"T\")/100","v":3.4456834983084828E-4},{"$f":"RANK($K434,$K$2:K$506)+COUNTIF($K$2:K434,K434)-1","v":{"$error":"#VALUE!"}},"S.US.TDG",433,"",{"$f":"RTD(\"cqg.rtd\", ,\"ContractData\",O434, \"PerCentNetLastTrade\",, \"T\")/100","v":{"$error":"#VALUE!"}},{"$error":"#N/A"},null,433,""]
[{"$f":"Symbols!A435","v":"S.US.TDY"},{"$f":"IFERROR(RTD(\"cqg.rtd\",,\"StudyData\",A435,\"Bar\",, \"High\",$C$1,\"0\",,,,,\"T\"),\"\")","v":481.54},{"$f":"IFERROR(RTD(\"cqg.rtd\",,\"StudyData\",A435,\"Bar\",, \"Low\",$C$1,\"0\",,,,,\"T\"),\"\")","v":477.79},{"$f":"IFERROR(RTD(\"cqg.rtd\",,\"StudyData\",\"HiLevel(\"&A435&\",Period1:=\"&$B$1&\",AllowGaps:=0,InputChoice1:=High,InputChoice3:=High)\",\"Bar\",, \"Close\",$C$1,\"-1\",,,,,\"T\"),\"\")","v":490.75},{"$f":"IFERROR(RTD(\"cqg.rtd\",,\"StudyData\",\"LoLevel(\"&A435&\",Period2:=\"&$B$1&\",AllowGaps:=0,InputChoice2:=Low,InputChoice4:=Low)\",\"Bar\",, \"Close\",$C$1,\"-1\",,,,,\"T\"),\"\")","v":391.28},0,0,20.013000000000016,19.007000000000009,"S.US.TDY",{"$f":"RTD(\"cqg.rtd\", ,\"ContractData\",A435, \"PerCentNetLastTrade\",, \"T\")/100","v":-1.1036148592370482E-3},{"$f":"RANK($K435,$K$2:K$506)+COUNTIF($K$2:K435,K435)-1","v":{"$error":"#VALUE!"}},"S.US.TDY",434,"",{"$f":"RTD(\"cqg.rtd\", ,\"ContractData\",O435, \"PerCentNetLastTrade\",, \"T\")/100","v":{"$error":"#VALUE!"}},{"$error":"#N/A"},null,434,""]
[{"$f":"Symbols!A436","v":"S.US.TECH"},{"$f":"IFERROR(RTD(\"cqg.rtd\",,\"StudyData\",A436,\"Bar\",, \"High\",$C$1,\"0\",,,,,\"T\"),\"\")","v":416.52},{"$f":"IFERROR(RTD(\"cqg.rtd\",,\"StudyData\",A436,\"Bar\",, \"Low\",$C$1,\"0\",,,,,\"T\"),\"\")","v":411.59},{"$f":"IFERROR(RTD(\"cqg.rtd\",,\"StudyData\",\"HiLevel(\"&A436&\",Period1:=\"&$B$1&\",AllowGaps:=0,InputChoice1:=High,InputChoice3:=High)\",\"Bar\",, \"Close\",$C$1,\"-1\",,,,,\"T\"),\"\")","v":543.85},{"$f":"IFERROR(RTD(\"cqg.rtd\",,\"StudyData\",\"LoLevel(\"&A436&\",Period2:=\"&$B$1&\",AllowGaps:=0,InputChoice2:=Low,InputChoice4:=Low)\",\"Bar\",, \"Close\",$C$1,\"-1\",,,,,\"T\"),\"\")","v":347.88},0,0,20.014000000000017,19.00800000000001,"S.US.TECH",{"$f":"RTD(\"cqg.rtd\", ,\"ContractData\",A436, \"PerCentNetLastTrade\",, \"T\")/100","v":-1.552334481438959E-2},{"$f":"RANK($K436,$K$2:K$506)+COUNTIF($K$2:K436,K436)-1","v":{"$error":"#VALUE!"}},"S.US.TECH",435,"",{"$f":"RTD(\"cqg.rtd\", ,\"ContractData\",O436, \"PerCentNetLastTrade\",, \"T\")/100","v":{"$error":"#VALUE!"}},{"$error":"#N/A"},null,435,""]
[{"$f":"Symbols!A437","v":"S.US.TEL"},{"$f":"IFERROR(RTD(\"cqg.rtd\",,\"StudyData\",A437,\"Bar\",, \"High\",$C$1,\"0\",,,,,\"T\"),\"\")","v":121.96},{"$f":"IFERROR(RTD(\"cqg.rtd\",,\"StudyData\",A437,\"Bar\",, \"Low\",$C$1,\"0\",,,,,\"T\"),\"\")","v":120.73},{"$f":"IFERROR(RTD(\"cqg.rtd\",,\"StudyData\",\"HiLevel(\"&A437&\",Period1:=\"&$B$1&\",AllowGaps:=0,InputChoice1:=High,InputChoice3:=High)\",\"Bar\",, \"Close\",$C$1,\"-1\",,,,,\"T\"),\"\")","v":166.44},{"$f":"IFERROR(RTD(\"cqg.rtd\",,\"StudyData\",\"LoLevel(\"&A437&\",Period2:=\"&$B$1&\",AllowGaps:=0,InputChoice2:=Low,InputChoice4:=Low)\",\"Bar\",, \"Close\",$C$1,\"-1\",,,,,\"T\"),\"\")","v":120.75},0,1,20.015000000000018,20,"S.US.TEL",{"$f":"RTD(\"cqg.rtd\", ,\"ContractData\",A437, \"PerCentNetLastTrade\",, \"T\")/100","v":8.0244870946393123E-3},{"$f":"RANK($K437,$K$2:K$506)+COUNTIF($K$2:K437,K437)-1","v":{"$error":"#VALUE!"}},"S.US.TEL",436,"",{"$f":"RTD(\"cqg.rtd\", ,\"ContractData\",O437, \"PerCentNetLastTrade\",, \"T\")/100","v":{"$error":"#VALUE!"}},{"$error":"#N/A"},null,436,""]
[{"$f":"Symbols!A438","v":"S.US.TER"},{"$f":"IFERROR(RTD(\"cqg.rtd\",,\"StudyData\",A438,\"Bar\",, \"High\",$C$1,\"0\",,,,,\"T\"),\"\")","v":107.7},{"$f":"IFERROR(RTD(\"cqg.rtd\",,\"StudyData\",A438,\"Bar\",, \"Low\",$C$1,\"0\",,,,,\"T\"),\"\")","v":105.39},{"$f":"IFERROR(RTD(\"cqg.rtd\",,\"StudyData\",\"HiLevel(\"&A438&\",Period1:=\"&$B$1&\",AllowGaps:=0,InputChoice1:=High,InputChoice3:=High)\",\"Bar\",, \"Close\",$C$1,\"-1\",,,,,\"T\"),\"\")","v":168.91},{"$f":"IFERROR(RTD(\"cqg.rtd\",,\"StudyData\",\"LoLevel(\"&A438&\",Period2:=\"&$B$1&\",AllowGaps:=0,InputChoice2:=Low,InputChoice4:=Low)\",\"Bar\",, \"Close\",$C$1,\"-1\",,,,,\"T\"),\"\")","v":102.51},0,0,20.01600000000002,20.001000000000001,"S.US.TER",{"$f":"RTD(\"cqg.rtd\", ,\"ContractData\",A438, \"PerCentNetLastTrade\",, \"T\")/100","v":-1.8864365214110547E-4},{"$f":"RANK($K438,$K$2:K$506)+COUNTIF($K$2:K438,K438)-1","v":{"$error":"#VALUE!"}},"S.US.TER",437,"",{"$f":"RTD(\"cqg.rtd\", ,\"ContractData\",O438, \"PerCentNetLastTrade\",, \"T\")/100","v":{"$error":"#VALUE!"}},{"$error":"#N/A"},null,437,""]
[{"$f":"Symbols!A439","v":"S.US.TFC"},{"$f":"IFERROR(RTD(\"cqg.rtd\",,\"StudyData\",A439,\"Bar\",, \"High\",$C$1,\"0\",,,,,\"T\"),\"\")","v":52.94},{"$f":"IFERROR(RTD(\"cqg.rtd\",,\"StudyData\",A439,\"Bar\",, \"Low\",$C$1,\"0\",,,,,\"T\"),\"\")","v":51.96},{"$f":"IFERROR(RTD(\"cqg.rtd\",,\"StudyData\",\"HiLevel(\"&A439&\",Period1:=\"&$B$1&\",AllowGaps:=0,InputChoice1:=High,InputChoice3:=High)\",\"Bar\",, \"Close\",$C$1,\"-1\",,,,,\"T\"),\"\")","v":68.95},{"$f":"IFERROR(RTD(\"cqg.rtd\",,\"StudyData\",\"LoLevel(\"&A439&\",Period2:=\"&$B$1&\",AllowGaps:=0,InputChoice2:=Low,InputChoice4:=Low)\",\"Bar\",, \"Close\",$C$1,\"-1\",,,,,\"T\"),\"\")","v":51.66},0,0,20.017000000000021,20.002000000000002,"S.US.TFC",{"$f":"RTD(\"cqg.rtd\", ,\"ContractData\",A439, \"PerCentNetLastTrade\",, \"T\")/100","v":1.3041810510164939E-2},{"$f":"RANK($K439,$K$2:K$506)+COUNTIF($K$2:K439,K439)-1","v":{"$error":"#VALUE!"}},"S.US.TFC",438,"",{"$f":"RTD(\"cqg.rtd\", ,\"ContractData\",O439, \"PerCentNetLastTrade\",, \"T\")/100","v":{"$error":"#VALUE!"}},{"$error":"#N/A"},null,438,""]
[{"$f":"Symbols!A440","v":"S.US.TFX"},{"$f":"IFERROR(RTD(\"cqg.rtd\",,\"StudyData\",A440,\"Bar\",, \"High\",$C$1,\"0\",,,,,\"T\"),\"\")","v":336.5},{"$f":"IFERROR(RTD(\"cqg.rtd\",,\"StudyData\",A440,\"Bar\",, \"Low\",$C$1,\"0\",,,,,\"T\"),\"\")","v":332.98},{"$f":"IFERROR(RTD(\"cqg.rtd\",,\"StudyData\",\"HiLevel(\"&A440&\",Period1:=\"&$B$1&\",AllowGaps:=0,InputChoice1:=High,InputChoice3:=High)\",\"Bar\",, \"Close\",$C$1,\"-1\",,,,,\"T\"),\"\")","v":449.37},{"$f":"IFERROR(RTD(\"cqg.rtd\",,\"StudyData\",\"LoLevel(\"&A440&\",Period2:=\"&$B$1&\",AllowGaps:=0,InputChoice2:=Low,InputChoice4:=Low)\",\"Bar\",, \"Close\",$C$1,\"-1\",,,,,\"T\"),\"\")","v":289},0,0,20.018000000000022,20.003000000000004,"S.US.TFX",{"$f":"RTD(\"cqg.rtd\", ,\"ContractData\",A440, \"PerCentNetLastTrade\",, \"T\")/100","v":-8.9715406095894484E-3},{"$f":"RANK($K440,$K$2:K$506)+COUNTIF($K$2:K440,K440)-1","v":{"$error":"#VALUE!"}},"S.US.TFX",439,"",{"$f":"RTD(\"cqg.rtd\", ,\"ContractData\",O440, \"PerCentNetLastTrade\",, \"T\")/100","v":{"$error":"#VALUE!"}},{"$error":"#N/A"},null,439,""]
[{"$f":"Symbols!A441","v":"S.US.TGT"},{"$f":"IFERROR(RTD(\"cqg.rtd\",,\"StudyData\",A441,\"Bar\",, \"High\",$C$1,\"0\",,,,,\"T\"),\"\")","v":239.91},{"$f":"IFERROR(RTD(\"cqg.rtd\",,\"StudyData\",A441,\"Bar\",, \"Low\",$C$1,\"0\",,,,,\"T\"),\"\")","v":235.08},{"$f":"IFERROR(RTD(\"cqg.rtd\",,\"StudyData\",\"HiLevel(\"&A441&\",Period1:=\"&$B$1&\",AllowGaps:=0,InputChoice1:=High,InputChoice3:=High)\",\"Bar\",, \"Close\",$C$1,\"-1\",,,,,\"T\"),\"\")","v":268.98},{"$f":"IFERROR(RTD(\"cqg.rtd\",,\"StudyData\",\"LoLevel(\"&A441&\",Period2:=\"&$B$1&\",AllowGaps:=0,InputChoice2:=Low,InputChoice4:=Low)\",\"Bar\",, \"Close\",$C$1,\"-1\",,,,,\"T\"),\"\")","v":184},0,0,20.019000000000023,20.004000000000005,"S.US.TGT",{"$f":"RTD(\"cqg.rtd\", ,\"ContractData\",A441, \"PerCentNetLastTrade\",, \"T\")/100","v":8.2630691399662743E-3},{"$f":"RANK($K441,$K$2:K$506)+COUNTIF($K$2:K441,K441)-1","v":{"$error":"#VALUE!"}},"S.US.TGT",440,"",{"$f":"RTD(\"cqg.rtd\", ,\"ContractData\",O441, \"PerCentNetLastTrade\",, \"T\")/100","v":{"$error":"#VALUE!"}},{"$error":"#N/A"},null,440,""]
[{"$f":"Symbols!A442","v":"S.US.TJX"},{"$f":"IFERROR(RTD(\"cqg.rtd\",,\"StudyData\",A442,\"Bar\",, \"High\",$C$1,\"0\",,,,,\"T\"),\"\")","v":63.04},{"$f":"IFERROR(RTD(\"cqg.rtd\",,\"StudyData\",A442,\"Bar\",, \"Low\",$C$1,\"0\",,,,,\"T\"),\"\")","v":62.32},{"$f":"IFERROR(RTD(\"cqg.rtd\",,\"StudyData\",\"HiLevel(\"&A442&\",Period1:=\"&$B$1&\",AllowGaps:=0,InputChoice1:=High,InputChoice3:=High)\",\"Bar\",, \"Close\",$C$1,\"-1\",,,,,\"T\"),\"\")","v":77.349999999999994},{"$f":"IFERROR(RTD(\"cqg.rtd\",,\"StudyData\",\"LoLevel(\"&A442&\",Period2:=\"&$B$1&\",AllowGaps:=0,InputChoice2:=Low,InputChoice4:=Low)\",\"Bar\",, \"Close\",$C$1,\"-1\",,,,,\"T\"),\"\")","v":57.92},0,0,20.020000000000024,20.005000000000006,"S.US.TJX",{"$f":"RTD(\"cqg.rtd\", ,\"ContractData\",A442, \"PerCentNetLastTrade\",, \"T\")/100","v":-9.567852017222134E-4},{"$f":"RANK($K442,$K$2:K$506)+COUNTIF($K$2:K442,K442)-1","v":{"$error":"#VALUE!"}},"S.US.TJX",441,"",{"$f":"RTD(\"cqg.rtd\", ,\"ContractData\",O442, \"PerCentNetLastTrade\",, \"T\")/100","v":{"$error":"#VALUE!"}},{"$error":"#N/A"},null,441,""]
[{"$f":"Symbols!A443","v":"S.US.TMO"},{"$f":"IFERROR(RTD(\"cqg.rtd\",,\"StudyData\",A443,\"Bar\",, \"High\",$C$1,\"0\",,,,,\"T\"),\"\")","v":570.84},{"$f":"IFERROR(RTD(\"cqg.rtd\",,\"StudyData\",A443,\"Bar\",, \"Low\",$C$1,\"0\",,,,,\"T\"),\"\")","v":567.20000000000005},{"$f":"IFERROR(RTD(\"cqg.rtd\",,\"StudyData\",\"HiLevel(\"&A443&\",Period1:=\"&$B$1&\",AllowGaps:=0,InputChoice1:=High,InputChoice3:=High)\",\"Bar\",, \"Close\",$C$1,\"-1\",,,,,\"T\"),\"\")","v":672.34},{"$f":"IFERROR(RTD(\"cqg.rtd\",,\"StudyData\",\"LoLevel(\"&A443&\",Period2:=\"&$B$1&\",AllowGaps:=0,InputChoice2:=Low,InputChoice4:=Low)\",\"Bar\",, \"Close\",$C$1,\"-1\",,,,,\"T\"),\"\")","v":438.72},0,0,20.021000000000026,20.006000000000007,"S.US.TMO",{"$f":"RTD(\"cqg.rtd\", ,\"ContractData\",A443, \"PerCentNetLastTrade\",, \"T\")/100","v":-7.5584461240991389E-4},{"$f":"RANK($K443,$K$2:K$506)+COUNTIF($K$2:K443,K443)-1","v":{"$error":"#VALUE!"}},"S.US.TMO",442,"",{"$f":"RTD(\"cqg.rtd\", ,\"ContractData\",O443, \"PerCentNetLastTrade\",, \"T\")/100","v":{"$error":"#VALUE!"}},{"$error":"#N/A"},null,442,""]
[{"$f":"Symbols!A444","v":"S.US.TMUS"},{"$f":"IFERROR(RTD(\"cqg.rtd\",,\"StudyData\",A444,\"Bar\",, \"High\",$C$1,\"0\",,,,,\"T\"),\"\")","v":132.94999999999999},{"$f":"IFERROR(RTD(\"cqg.rtd\",,\"StudyData\",A444,\"Bar\",, \"Low\",$C$1,\"0\",,,,,\"T\"),\"\")","v":132.07},{"$f":"IFERROR(RTD(\"cqg.rtd\",,\"StudyData\",\"HiLevel(\"&A444&\",Period1:=\"&$B$1&\",AllowGaps:=0,InputChoice1:=High,InputChoice3:=High)\",\"Bar\",, \"Close\",$C$1,\"-1\",,,,,\"T\"),\"\")","v":150.19999999999999},{"$f":"IFERROR(RTD(\"cqg.rtd\",,\"StudyData\",\"LoLevel(\"&A444&\",Period2:=\"&$B$1&\",AllowGaps:=0,InputChoice2:=Low,InputChoice4:=Low)\",\"Bar\",, \"Close\",$C$1,\"-1\",,,,,\"T\"),\"\")","v":101.51},0,0,20.022000000000027,20.007000000000009,"S.US.TMUS",{"$f":"RTD(\"cqg.rtd\", ,\"ContractData\",A444, \"PerCentNetLastTrade\",, \"T\")/100","v":-4.4374247894103493E-3},{"$f":"RANK($K444,$K$2:K$506)+COUNTIF($K$2:K444,K444)-1","v":{"$error":"#VALUE!"}},"S.US.TMUS",443,"",{"$f":"RTD(\"cqg.rtd\", ,\"ContractData\",O444, \"PerCentNetLastTrade\",, \"T\")/100","v":{"$error":"#VALUE!"}},{"$error":"#N/A"},null,443,""]
[{"$f":"Symbols!A445","v":"S.US.TPR"},{"$f":"IFERROR(RTD(\"cqg.rtd\",,\"StudyData\",A445,\"Bar\",, \"High\",$C$1,\"0\",,,,,\"T\"),\"\")","v":34.28},{"$f":"IFERROR(RTD(\"cqg.rtd\",,\"StudyData\",A445,\"Bar\",, \"Low\",$C$1,\"0\",,,,,\"T\"),\"\")","v":33.89},{"$f":"IFERROR(RTD(\"cqg.rtd\",,\"StudyData\",\"HiLevel(\"&A445&\",Period1:=\"&$B$1&\",AllowGaps:=0,InputChoice1:=High,InputChoice3:=High)\",\"Bar\",, \"Close\",$C$1,\"-1\",,,,,\"T\"),\"\")","v":49.66},{"$f":"IFERROR(RTD(\"cqg.rtd\",,\"StudyData\",\"LoLevel(\"&A445&\",Period2:=\"&$B$1&\",AllowGaps:=0,InputChoice2:=Low,InputChoice4:=Low)\",\"Bar\",, \"Close\",$C$1,\"-1\",,,,,\"T\"),\"\")","v":31.7},0,0,20.023000000000028,20.00800000000001,"S.US.TPR",{"$f":"RTD(\"cqg.rtd\", ,\"ContractData\",A445, \"PerCentNetLastTrade\",, \"T\")/100","v":8.0023710729104931E-3},{"$f":"RANK($K445,$K$2:K$506)+COUNTIF($K$2:K445,K445)-1","v":{"$error":"#VALUE!"}},"S.US.TPR",444,"",{"$f":"RTD(\"cqg.rtd\", ,\"ContractData\",O445, \"PerCentNetLastTrade\",, \"T\")/100","v":{"$error":"#VALUE!"}},{"$error":"#N/A"},null,444,""]
[{"$f":"Symbols!A446","v":"S.US.TRMB"},{"$f":"IFERROR(RTD(\"cqg.rtd\",,\"StudyData\",A446,\"Bar\",, \"High\",$C$1,\"0\",,,,,\"T\"),\"\")","v":67.66},{"$f":"IFERROR(RTD(\"cqg.rtd\",,\"StudyData\",A446,\"Bar\",, \"Low\",$C$1,\"0\",,,,,\"T\"),\"\")","v":66.92},{"$f":"IFERROR(RTD(\"cqg.rtd\",,\"StudyData\",\"HiLevel(\"&A446&\",Period1:=\"&$B$1&\",AllowGaps:=0,InputChoice1:=High,InputChoice3:=High)\",\"Bar\",, \"Close\",$C$1,\"-1\",,,,,\"T\"),\"\")","v":96.48},{"$f":"IFERROR(RTD(\"cqg.rtd\",,\"StudyData\",\"LoLevel(\"&A446&\",Period2:=\"&$B$1&\",AllowGaps:=0,InputChoice2:=Low,InputChoice4:=Low)\",\"Bar\",, \"Close\",$C$1,\"-1\",,,,,\"T\"),\"\")","v":62.32},0,0,20.024000000000029,20.009000000000011,"S.US.TRMB",{"$f":"RTD(\"cqg.rtd\", ,\"ContractData\",A446, \"PerCentNetLastTrade\",, \"T\")/100","v":-6.5214169260412033E-3},{"$f":"RANK($K446,$K$2:K$506)+COUNTIF($K$2:K446,K446)-1","v":{"$error":"#VALUE!"}},"S.US.TRMB",445,"",{"$f":"RTD(\"cqg.rtd\", ,\"ContractData\",O446, \"PerCentNetLastTrade\",, \"T\")/100","v":{"$error":"#VALUE!"}},{"$error":"#N/A"},null,445,""]
[{"$f":"Symbols!A447","v":"S.US.TROW"},{"$f":"IFERROR(RTD(\"cqg.rtd\",,\"StudyData\",A447,\"Bar\",, \"High\",$C$1,\"0\",,,,,\"T\"),\"\")","v":139.25},{"$f":"IFERROR(RTD(\"cqg.rtd\",,\"StudyData\",A447,\"Bar\",, \"Low\",$C$1,\"0\",,,,,\"T\"),\"\")","v":138.02000000000001},{"$f":"IFERROR(RTD(\"cqg.rtd\",,\"StudyData\",\"HiLevel(\"&A447&\",Period1:=\"&$B$1&\",AllowGaps:=0,InputChoice1:=High,InputChoice3:=High)\",\"Bar\",, \"Close\",$C$1,\"-1\",,,,,\"T\"),\"\")","v":224.55},{"$f":"IFERROR(RTD(\"cqg.rtd\",,\"StudyData\",\"LoLevel(\"&A447&\",Period2:=\"&$B$1&\",AllowGaps:=0,InputChoice2:=Low,InputChoice4:=Low)\",\"Bar\",, \"Close\",$C$1,\"-1\",,,,,\"T\"),\"\")","v":133.07},0,0,20.025000000000031,20.010000000000012,"S.US.TROW",{"$f":"RTD(\"cqg.rtd\", ,\"ContractData\",A447, \"PerCentNetLastTrade\",, \"T\")/100","v":-1.5831894070236039E-3},{"$f":"RANK($K447,$K$2:K$506)+COUNTIF($K$2:K447,K447)-1","v":{"$error":"#VALUE!"}},"S.US.TROW",446,"",{"$f":"RTD(\"cqg.rtd\", ,\"ContractData\",O447, \"PerCentNetLastTrade\",, \"T\")/100","v":{"$error":"#VALUE!"}},{"$error":"#N/A"},null,446,""]
[{"$f":"Symbols!A448","v":"S.US.TRV"},{"$f":"IFERROR(RTD(\"cqg.rtd\",,\"StudyData\",A448,\"Bar\",, \"High\",$C$1,\"0\",,,,,\"T\"),\"\")","v":185.85},{"$f":"IFERROR(RTD(\"cqg.rtd\",,\"StudyData\",A448,\"Bar\",, \"Low\",$C$1,\"0\",,,,,\"T\"),\"\")","v":184.25},{"$f":"IFERROR(RTD(\"cqg.rtd\",,\"StudyData\",\"HiLevel(\"&A448&\",Period1:=\"&$B$1&\",AllowGaps:=0,InputChoice1:=High,InputChoice3:=High)\",\"Bar\",, \"Close\",$C$1,\"-1\",,,,,\"T\"),\"\")","v":187.98},{"$f":"IFERROR(RTD(\"cqg.rtd\",,\"StudyData\",\"LoLevel(\"&A448&\",Period2:=\"&$B$1&\",AllowGaps:=0,InputChoice2:=Low,InputChoice4:=Low)\",\"Bar\",, \"Close\",$C$1,\"-1\",,,,,\"T\"),\"\")","v":144.44},0,0,20.026000000000032,20.011000000000013,"S.US.TRV",{"$f":"RTD(\"cqg.rtd\", ,\"ContractData\",A448, \"PerCentNetLastTrade\",, \"T\")/100","v":7.327399044724273E-3},{"$f":"RANK($K448,$K$2:K$506)+COUNTIF($K$2:K448,K448)-1","v":{"$error":"#VALUE!"}},"S.US.TRV",447,"",{"$f":"RTD(\"cqg.rtd\", ,\"ContractData\",O448, \"PerCentNetLastTrade\",, \"T\")/100","v":{"$error":"#VALUE!"}},{"$error":"#N/A"},null,447,""]
[{"$f":"Symbols!A449","v":"S.US.TSCO"},{"$f":"IFERROR(RTD(\"cqg.rtd\",,\"StudyData\",A449,\"Bar\",, \"High\",$C$1,\"0\",,,,,\"T\"),\"\")","v":227.63},{"$f":"IFERROR(RTD(\"cqg.rtd\",,\"StudyData\",A449,\"Bar\",, \"Low\",$C$1,\"0\",,,,,\"T\"),\"\")","v":218.56},{"$f":"IFERROR(RTD(\"cqg.rtd\",,\"StudyData\",\"HiLevel(\"&A449&\",Period1:=\"&$B$1&\",AllowGaps:=0,InputChoice1:=High,InputChoice3:=High)\",\"Bar\",, \"Close\",$C$1,\"-1\",,,,,\"T\"),\"\")","v":241.54},{"$f":"IFERROR(RTD(\"cqg.rtd\",,\"StudyData\",\"LoLevel(\"&A449&\",Period2:=\"&$B$1&\",AllowGaps:=0,InputChoice2:=Low,InputChoice4:=Low)\",\"Bar\",, \"Close\",$C$1,\"-1\",,,,,\"T\"),\"\")","v":170.82},0,0,20.027000000000033,20.012000000000015,"S.US.TSCO",{"$f":"RTD(\"cqg.rtd\", ,\"ContractData\",A449, \"PerCentNetLastTrade\",, \"T\")/100","v":-3.9959689786618763E-2},{"$f":"RANK($K449,$K$2:K$506)+COUNTIF($K$2:K449,K449)-1","v":{"$error":"#VALUE!"}},"S.US.TSCO",448,"",{"$f":"RTD(\"cqg.rtd\", ,\"ContractData\",O449, \"PerCentNetLastTrade\",, \"T\")/100","v":{"$error":"#VALUE!"}},{"$error":"#N/A"},null,448,""]
[{"$f":"Symbols!A450","v":"S.US.TSLA"},{"$f":"IFERROR(RTD(\"cqg.rtd\",,\"StudyData\",A450,\"Bar\",, \"High\",$C$1,\"0\",,,,,\"T\"),\"\")","v":996},{"$f":"IFERROR(RTD(\"cqg.rtd\",,\"StudyData\",A450,\"Bar\",, \"Low\",$C$1,\"0\",,,,,\"T\"),\"\")","v":978.14},{"$f":"IFERROR(RTD(\"cqg.rtd\",,\"StudyData\",\"HiLevel(\"&A450&\",Period1:=\"&$B$1&\",AllowGaps:=0,InputChoice1:=High,InputChoice3:=High)\",\"Bar\",, \"Close\",$C$1,\"-1\",,,,,\"T\"),\"\")","v":1243.49},{"$f":"IFERROR(RTD(\"cqg.rtd\",,\"StudyData\",\"LoLevel(\"&A450&\",Period2:=\"&$B$1&\",AllowGaps:=0,InputChoice2:=Low,InputChoice4:=Low)\",\"Bar\",, \"Close\",$C$1,\"-1\",,,,,\"T\"),\"\")","v":546.98},0,0,20.028000000000034,20.013000000000016,"S.US.TSLA",{"$f":"RTD(\"cqg.rtd\", ,\"ContractData\",A450, \"PerCentNetLastTrade\",, \"T\")/100","v":-1.5228426395939088E-3},{"$f":"RANK($K450,$K$2:K$506)+COUNTIF($K$2:K450,K450)-1","v":{"$error":"#VALUE!"}},"S.US.TSLA",449,{"$f":"IFERROR(VLOOKUP(N450,$L$2:$M$506,2,FALSE),\"\")","v":""},{"$f":"RTD(\"cqg.rtd\", ,\"ContractData\",O450, \"PerCentNetLastTrade\",, \"T\")/100","v":{"$error":"#VALUE!"}},{"$f":"VLOOKUP(O450,$A$2:$H$506,8,FALSE)","v":{"$error":"#N/A"}},null,449,{"$f":"IFERROR(VLOOKUP(S450,$H$2:$J$506,3,FALSE),\"\")","v":""}]
[{"$f":"Symbols!A451","v":"S.US.TSN"},{"$f":"IFERROR(RTD(\"cqg.rtd\",,\"StudyData\",A451,\"Bar\",, \"High\",$C$1,\"0\",,,,,\"T\"),\"\")","v":96.29},{"$f":"IFERROR(RTD(\"cqg.rtd\",,\"StudyData\",A451,\"Bar\",, \"Low\",$C$1,\"0\",,,,,\"T\"),\"\")","v":95.28},{"$f":"IFERROR(RTD(\"cqg.rtd\",,\"StudyData\",\"HiLevel(\"&A451&\",Period1:=\"&$B$1&\",AllowGaps:=0,InputChoice1:=High,InputChoice3:=High)\",\"Bar\",, \"Close\",$C$1,\"-1\",,,,,\"T\"),\"\")","v":100.72},{"$f":"IFERROR(RTD(\"cqg.rtd\",,\"StudyData\",\"LoLevel(\"&A451&\",Period2:=\"&$B$1&\",AllowGaps:=0,InputChoice2:=Low,InputChoice4:=Low)\",\"Bar\",, \"Close\",$C$1,\"-1\",,,,,\"T\"),\"\")","v":69.88},0,0,20.029000000000035,20.014000000000017,"S.US.TSN",{"$f":"RTD(\"cqg.rtd\", ,\"ContractData\",A451, \"PerCentNetLastTrade\",, \"T\")/100","v":8.4861183865898374E-3},{"$f":"RANK($K451,$K$2:K$506)+COUNTIF($K$2:K451,K451)-1","v":{"$error":"#VALUE!"}},"S.US.TSN",450,"",{"$f":"RTD(\"cqg.rtd\", ,\"ContractData\",O451, \"PerCentNetLastTrade\",, \"T\")/100","v":{"$error":"#VALUE!"}},{"$error":"#N/A"},null,450,""]
[{"$f":"Symbols!A452","v":"S.US.TT"},{"$f":"IFERROR(RTD(\"cqg.rtd\",,\"StudyData\",A452,\"Bar\",, \"High\",$C$1,\"0\",,,,,\"T\"),\"\")","v":148.9},{"$f":"IFERROR(RTD(\"cqg.rtd\",,\"StudyData\",A452,\"Bar\",, \"Low\",$C$1,\"0\",,,,,\"T\"),\"\")","v":147.6},{"$f":"IFERROR(RTD(\"cqg.rtd\",,\"StudyData\",\"HiLevel(\"&A452&\",Period1:=\"&$B$1&\",AllowGaps:=0,InputChoice1:=High,InputChoice3:=High)\",\"Bar\",, \"Close\",$C$1,\"-1\",,,,,\"T\"),\"\")","v":207.06},{"$f":"IFERROR(RTD(\"cqg.rtd\",,\"StudyData\",\"LoLevel(\"&A452&\",Period2:=\"&$B$1&\",AllowGaps:=0,InputChoice2:=Low,InputChoice4:=Low)\",\"Bar\",, \"Close\",$C$1,\"-1\",,,,,\"T\"),\"\")","v":142.53},0,0,20.030000000000037,20.015000000000018,"S.US.TT",{"$f":"RTD(\"cqg.rtd\", ,\"ContractData\",A452, \"PerCentNetLastTrade\",, \"T\")/100","v":-8.1053698074974676E-4},{"$f":"RANK($K452,$K$2:K$506)+COUNTIF($K$2:K452,K452)-1","v":{"$error":"#VALUE!"}},{"$f":"J452","v":"S.US.TT"},{"$f":"N451+1","v":451},"",{"$f":"RTD(\"cqg.rtd\", ,\"ContractData\",O452, \"PerCentNetLastTrade\",, \"T\")/100","v":{"$error":"#VALUE!"}},{"$error":"#N/A"},null,{"$f":"S451+1","v":451},""]
[{"$f":"Symbols!A453","v":"S.US.TTWO"},{"$f":"IFERROR(RTD(\"cqg.rtd\",,\"StudyData\",A453,\"Bar\",, \"High\",$C$1,\"0\",,,,,\"T\"),\"\")","v":137.55000000000001},{"$f":"IFERROR(RTD(\"cqg.rtd\",,\"StudyData\",A453,\"Bar\",, \"Low\",$C$1,\"0\",,,,,\"T\"),\"\")","v":136.44},{"$f":"IFERROR(RTD(\"cqg.rtd\",,\"StudyData\",\"HiLevel(\"&A453&\",Period1:=\"&$B$1&\",AllowGaps:=0,InputChoice1:=High,InputChoice3:=High)\",\"Bar\",, \"Close\",$C$1,\"-1\",,,,,\"T\"),\"\")","v":195.82},{"$f":"IFERROR(RTD(\"cqg.rtd\",,\"StudyData\",\"LoLevel(\"&A453&\",Period2:=\"&$B$1&\",AllowGaps:=0,InputChoice2:=Low,InputChoice4:=Low)\",\"Bar\",, \"Close\",$C$1,\"-1\",,,,,\"T\"),\"\")","v":133.54},0,0,20.031000000000038,20.01600000000002,"S.US.TTWO",{"$f":"RTD(\"cqg.rtd\", ,\"ContractData\",A453, \"PerCentNetLastTrade\",, \"T\")/100","v":-1.0872716729486809E-2},{"$f":"RANK($K453,$K$2:K$506)+COUNTIF($K$2:K453,K453)-1","v":{"$error":"#VALUE!"}},"S.US.TTWO",452,"",{"$f":"RTD(\"cqg.rtd\", ,\"ContractData\",O453, \"PerCentNetLastTrade\",, \"T\")/100","v":{"$error":"#VALUE!"}},{"$error":"#N/A"},null,452,""]
[{"$f":"Symbols!A454","v":"S.US.TWTR"},{"$f":"IFERROR(RTD(\"cqg.rtd\",,\"StudyData\",A454,\"Bar\",, \"High\",$C$1,\"0\",,,,,\"T\"),\"\")","v":46.44},{"$f":"IFERROR(RTD(\"cqg.rtd\",,\"StudyData\",A454,\"Bar\",, \"Low\",$C$1,\"0\",,,,,\"T\"),\"\")","v":44.45},{"$f":"IFERROR(RTD(\"cqg.rtd\",,\"StudyData\",\"HiLevel(\"&A454&\",Period1:=\"&$B$1&\",AllowGaps:=0,InputChoice1:=High,InputChoice3:=High)\",\"Bar\",, \"Close\",$C$1,\"-1\",,,,,\"T\"),\"\")","v":73.34},{"$f":"IFERROR(RTD(\"cqg.rtd\",,\"StudyData\",\"LoLevel(\"&A454&\",Period2:=\"&$B$1&\",AllowGaps:=0,InputChoice2:=Low,InputChoice4:=Low)\",\"Bar\",, \"Close\",$C$1,\"-1\",,,,,\"T\"),\"\")","v":31.3},0,0,20.032000000000039,20.017000000000021,"S.US.TWTR",{"$f":"RTD(\"cqg.rtd\", ,\"ContractData\",A454, \"PerCentNetLastTrade\",, \"T\")/100","v":-1.0869565217391304E-2},{"$f":"RANK($K454,$K$2:K$506)+COUNTIF($K$2:K454,K454)-1","v":{"$error":"#VALUE!"}},"S.US.TWTR",453,"",{"$f":"RTD(\"cqg.rtd\", ,\"ContractData\",O454, \"PerCentNetLastTrade\",, \"T\")/100","v":{"$error":"#VALUE!"}},{"$error":"#N/A"},null,453,""]
[{"$f":"Symbols!A455","v":"S.US.TXN"},{"$f":"IFERROR(RTD(\"cqg.rtd\",,\"StudyData\",A455,\"Bar\",, \"High\",$C$1,\"0\",,,,,\"T\"),\"\")","v":175.67},{"$f":"IFERROR(RTD(\"cqg.rtd\",,\"StudyData\",A455,\"Bar\",, \"Low\",$C$1,\"0\",,,,,\"T\"),\"\")","v":173},{"$f":"IFERROR(RTD(\"cqg.rtd\",,\"StudyData\",\"HiLevel(\"&A455&\",Period1:=\"&$B$1&\",AllowGaps:=0,InputChoice1:=High,InputChoice3:=High)\",\"Bar\",, \"Close\",$C$1,\"-1\",,,,,\"T\"),\"\")","v":202.26},{"$f":"IFERROR(RTD(\"cqg.rtd\",,\"StudyData\",\"LoLevel(\"&A455&\",Period2:=\"&$B$1&\",AllowGaps:=0,InputChoice2:=Low,InputChoice4:=Low)\",\"Bar\",, \"Close\",$C$1,\"-1\",,,,,\"T\"),\"\")","v":161.04},0,0,20.03300000000004,20.018000000000022,"S.US.TXN",{"$f":"RTD(\"cqg.rtd\", ,\"ContractData\",A455, \"PerCentNetLastTrade\",, \"T\")/100","v":8.0041460324772537E-3},{"$f":"RANK($K455,$K$2:K$506)+COUNTIF($K$2:K455,K455)-1","v":{"$error":"#VALUE!"}},"S.US.TXN",454,"",{"$f":"RTD(\"cqg.rtd\", ,\"ContractData\",O455, \"PerCentNetLastTrade\",, \"T\")/100","v":{"$error":"#VALUE!"}},{"$error":"#N/A"},null,454,""]
[{"$f":"Symbols!A456","v":"S.US.TXT"},{"$f":"IFERROR(RTD(\"cqg.rtd\",,\"StudyData\",A456,\"Bar\",, \"High\",$C$1,\"0\",,,,,\"T\"),\"\")","v":69.62},{"$f":"IFERROR(RTD(\"cqg.rtd\",,\"StudyData\",A456,\"Bar\",, \"Low\",$C$1,\"0\",,,,,\"T\"),\"\")","v":68.5},{"$f":"IFERROR(RTD(\"cqg.rtd\",,\"StudyData\",\"HiLevel(\"&A456&\",Period1:=\"&$B$1&\",AllowGaps:=0,InputChoice1:=High,InputChoice3:=High)\",\"Bar\",, \"Close\",$C$1,\"-1\",,,,,\"T\"),\"\")","v":79.45},{"$f":"IFERROR(RTD(\"cqg.rtd\",,\"StudyData\",\"LoLevel(\"&A456&\",Period2:=\"&$B$1&\",AllowGaps:=0,InputChoice2:=Low,InputChoice4:=Low)\",\"Bar\",, \"Close\",$C$1,\"-1\",,,,,\"T\"),\"\")","v":57.32},0,0,20.034000000000042,20.019000000000023,"S.US.TXT",{"$f":"RTD(\"cqg.rtd\", ,\"ContractData\",A456, \"PerCentNetLastTrade\",, \"T\")/100","v":1.3983976693372178E-2},{"$f":"RANK($K456,$K$2:K$506)+COUNTIF($K$2:K456,K456)-1","v":{"$error":"#VALUE!"}},"S.US.TXT",455,"",{"$f":"RTD(\"cqg.rtd\", ,\"ContractData\",O456, \"PerCentNetLastTrade\",, \"T\")/100","v":{"$error":"#VALUE!"}},{"$error":"#N/A"},null,455,""]
[{"$f":"Symbols!A457","v":"S.US.TYL"},{"$f":"IFERROR(RTD(\"cqg.rtd\",,\"StudyData\",A457,\"Bar\",, \"High\",$C$1,\"0\",,,,,\"T\"),\"\")","v":408.37},{"$f":"IFERROR(RTD(\"cqg.rtd\",,\"StudyData\",A457,\"Bar\",, \"Low\",$C$1,\"0\",,,,,\"T\"),\"\")","v":402.26},{"$f":"IFERROR(RTD(\"cqg.rtd\",,\"StudyData\",\"HiLevel(\"&A457&\",Period1:=\"&$B$1&\",AllowGaps:=0,InputChoice1:=High,InputChoice3:=High)\",\"Bar\",, \"Close\",$C$1,\"-1\",,,,,\"T\"),\"\")","v":557.54999999999995},{"$f":"IFERROR(RTD(\"cqg.rtd\",,\"StudyData\",\"LoLevel(\"&A457&\",Period2:=\"&$B$1&\",AllowGaps:=0,InputChoice2:=Low,InputChoice4:=Low)\",\"Bar\",, \"Close\",$C$1,\"-1\",,,,,\"T\"),\"\")","v":384.38},0,0,20.035000000000043,20.020000000000024,"S.US.TYL",{"$f":"RTD(\"cqg.rtd\", ,\"ContractData\",A457, \"PerCentNetLastTrade\",, \"T\")/100","v":-6.0272213027690634E-3},{"$f":"RANK($K457,$K$2:K$506)+COUNTIF($K$2:K457,K457)-1","v":{"$error":"#VALUE!"}},"S.US.TYL",456,"",{"$f":"RTD(\"cqg.rtd\", ,\"ContractData\",O457, \"PerCentNetLastTrade\",, \"T\")/100","v":{"$error":"#VALUE!"}},{"$error":"#N/A"},null,456,""]
[{"$f":"Symbols!A458","v":"S.US.UA"},{"$f":"IFERROR(RTD(\"cqg.rtd\",,\"StudyData\",A458,\"Bar\",, \"High\",$C$1,\"0\",,,,,\"T\"),\"\")","v":14.96},{"$f":"IFERROR(RTD(\"cqg.rtd\",,\"StudyData\",A458,\"Bar\",, \"Low\",$C$1,\"0\",,,,,\"T\"),\"\")","v":14.71},{"$f":"IFERROR(RTD(\"cqg.rtd\",,\"StudyData\",\"HiLevel(\"&A458&\",Period1:=\"&$B$1&\",AllowGaps:=0,InputChoice1:=High,InputChoice3:=High)\",\"Bar\",, \"Close\",$C$1,\"-1\",,,,,\"T\"),\"\")","v":22.99},{"$f":"IFERROR(RTD(\"cqg.rtd\",,\"StudyData\",\"LoLevel(\"&A458&\",Period2:=\"&$B$1&\",AllowGaps:=0,InputChoice2:=Low,InputChoice4:=Low)\",\"Bar\",, \"Close\",$C$1,\"-1\",,,,,\"T\"),\"\")","v":12.61},0,0,20.036000000000044,20.021000000000026,"S.US.UA",{"$f":"RTD(\"cqg.rtd\", ,\"ContractData\",A458, \"PerCentNetLastTrade\",, \"T\")/100","v":-7.3924731182795703E-3},{"$f":"RANK($K458,$K$2:K$506)+COUNTIF($K$2:K458,K458)-1","v":{"$error":"#VALUE!"}},"S.US.UA",457,"",{"$f":"RTD(\"cqg.rtd\", ,\"ContractData\",O458, \"PerCentNetLastTrade\",, \"T\")/100","v":{"$error":"#VALUE!"}},{"$error":"#N/A"},null,457,""]
[{"$f":"Symbols!A459","v":"S.US.UAA"},{"$f":"IFERROR(RTD(\"cqg.rtd\",,\"StudyData\",A459,\"Bar\",, \"High\",$C$1,\"0\",,,,,\"T\"),\"\")","v":16.149999999999999},{"$f":"IFERROR(RTD(\"cqg.rtd\",,\"StudyData\",A459,\"Bar\",, \"Low\",$C$1,\"0\",,,,,\"T\"),\"\")","v":15.88},{"$f":"IFERROR(RTD(\"cqg.rtd\",,\"StudyData\",\"HiLevel(\"&A459&\",Period1:=\"&$B$1&\",AllowGaps:=0,InputChoice1:=High,InputChoice3:=High)\",\"Bar\",, \"Close\",$C$1,\"-1\",,,,,\"T\"),\"\")","v":27.28},{"$f":"IFERROR(RTD(\"cqg.rtd\",,\"StudyData\",\"LoLevel(\"&A459&\",Period2:=\"&$B$1&\",AllowGaps:=0,InputChoice2:=Low,InputChoice4:=Low)\",\"Bar\",, \"Close\",$C$1,\"-1\",,,,,\"T\"),\"\")","v":13.7},0,0,20.037000000000045,20.022000000000027,"S.US.UAA",{"$f":"RTD(\"cqg.rtd\", ,\"ContractData\",A459, \"PerCentNetLastTrade\",, \"T\")/100","v":-7.4719800747198003E-3},{"$f":"RANK($K459,$K$2:K$506)+COUNTIF($K$2:K459,K459)-1","v":{"$error":"#VALUE!"}},"S.US.UAA",458,"",{"$f":"RTD(\"cqg.rtd\", ,\"ContractData\",O459, \"PerCentNetLastTrade\",, \"T\")/100","v":{"$error":"#VALUE!"}},{"$error":"#N/A"},null,458,""]
[{"$f":"Symbols!A460","v":"S.US.UAL"},{"$f":"IFERROR(RTD(\"cqg.rtd\",,\"StudyData\",A460,\"Bar\",, \"High\",$C$1,\"0\",,,,,\"T\"),\"\")","v":44.27},{"$f":"IFERROR(RTD(\"cqg.rtd\",,\"StudyData\",A460,\"Bar\",, \"Low\",$C$1,\"0\",,,,,\"T\"),\"\")","v":43.46},{"$f":"IFERROR(RTD(\"cqg.rtd\",,\"StudyData\",\"HiLevel(\"&A460&\",Period1:=\"&$B$1&\",AllowGaps:=0,InputChoice1:=High,InputChoice3:=High)\",\"Bar\",, \"Close\",$C$1,\"-1\",,,,,\"T\"),\"\")","v":60.58},{"$f":"IFERROR(RTD(\"cqg.rtd\",,\"StudyData\",\"LoLevel(\"&A460&\",Period2:=\"&$B$1&\",AllowGaps:=0,InputChoice2:=Low,InputChoice4:=Low)\",\"Bar\",, \"Close\",$C$1,\"-1\",,,,,\"T\"),\"\")","v":30.54},0,0,20.038000000000046,20.023000000000028,"S.US.UAL",{"$f":"RTD(\"cqg.rtd\", ,\"ContractData\",A460, \"PerCentNetLastTrade\",, \"T\")/100","v":-2.2158209616662972E-2},{"$f":"RANK($K460,$K$2:K$506)+COUNTIF($K$2:K460,K460)-1","v":{"$error":"#VALUE!"}},"S.US.UAL",459,"",{"$f":"RTD(\"cqg.rtd\", ,\"ContractData\",O460, \"PerCentNetLastTrade\",, \"T\")/100","v":{"$error":"#VALUE!"}},{"$error":"#N/A"},null,459,""]
[{"$f":"Symbols!A461","v":"S.US.UDR"},{"$f":"IFERROR(RTD(\"cqg.rtd\",,\"StudyData\",A461,\"Bar\",, \"High\",$C$1,\"0\",,,,,\"T\"),\"\")","v":57.9},{"$f":"IFERROR(RTD(\"cqg.rtd\",,\"StudyData\",A461,\"Bar\",, \"Low\",$C$1,\"0\",,,,,\"T\"),\"\")","v":57.46},{"$f":"IFERROR(RTD(\"cqg.rtd\",,\"StudyData\",\"HiLevel(\"&A461&\",Period1:=\"&$B$1&\",AllowGaps:=0,InputChoice1:=High,InputChoice3:=High)\",\"Bar\",, \"Close\",$C$1,\"-1\",,,,,\"T\"),\"\")","v":61.06},{"$f":"IFERROR(RTD(\"cqg.rtd\",,\"StudyData\",\"LoLevel(\"&A461&\",Period2:=\"&$B$1&\",AllowGaps:=0,InputChoice2:=Low,InputChoice4:=Low)\",\"Bar\",, \"Close\",$C$1,\"-1\",,,,,\"T\"),\"\")","v":44.68},0,0,20.039000000000048,20.024000000000029,"S.US.UDR",{"$f":"RTD(\"cqg.rtd\", ,\"ContractData\",A461, \"PerCentNetLastTrade\",, \"T\")/100","v":3.6470996873914554E-3},{"$f":"RANK($K461,$K$2:K$506)+COUNTIF($K$2:K461,K461)-1","v":{"$error":"#VALUE!"}},"S.US.UDR",460,"",{"$f":"RTD(\"cqg.rtd\", ,\"ContractData\",O461, \"PerCentNetLastTrade\",, \"T\")/100","v":{"$error":"#VALUE!"}},{"$error":"#N/A"},null,460,""]
[{"$f":"Symbols!A462","v":"S.US.UHS"},{"$f":"IFERROR(RTD(\"cqg.rtd\",,\"StudyData\",A462,\"Bar\",, \"High\",$C$1,\"0\",,,,,\"T\"),\"\")","v":152},{"$f":"IFERROR(RTD(\"cqg.rtd\",,\"StudyData\",A462,\"Bar\",, \"Low\",$C$1,\"0\",,,,,\"T\"),\"\")","v":150},{"$f":"IFERROR(RTD(\"cqg.rtd\",,\"StudyData\",\"HiLevel(\"&A462&\",Period1:=\"&$B$1&\",AllowGaps:=0,InputChoice1:=High,InputChoice3:=High)\",\"Bar\",, \"Close\",$C$1,\"-1\",,,,,\"T\"),\"\")","v":165},{"$f":"IFERROR(RTD(\"cqg.rtd\",,\"StudyData\",\"LoLevel(\"&A462&\",Period2:=\"&$B$1&\",AllowGaps:=0,InputChoice2:=Low,InputChoice4:=Low)\",\"Bar\",, \"Close\",$C$1,\"-1\",,,,,\"T\"),\"\")","v":116.23},0,0,20.040000000000049,20.025000000000031,"S.US.UHS",{"$f":"RTD(\"cqg.rtd\", ,\"ContractData\",A462, \"PerCentNetLastTrade\",, \"T\")/100","v":5.6900886595209746E-3},{"$f":"RANK($K462,$K$2:K$506)+COUNTIF($K$2:K462,K462)-1","v":{"$error":"#VALUE!"}},"S.US.UHS",461,"",{"$f":"RTD(\"cqg.rtd\", ,\"ContractData\",O462, \"PerCentNetLastTrade\",, \"T\")/100","v":{"$error":"#VALUE!"}},{"$error":"#N/A"},null,461,""]
[{"$f":"Symbols!A463","v":"S.US.ULTA"},{"$f":"IFERROR(RTD(\"cqg.rtd\",,\"StudyData\",A463,\"Bar\",, \"High\",$C$1,\"0\",,,,,\"T\"),\"\")","v":418.46},{"$f":"IFERROR(RTD(\"cqg.rtd\",,\"StudyData\",A463,\"Bar\",, \"Low\",$C$1,\"0\",,,,,\"T\"),\"\")","v":413.02},{"$f":"IFERROR(RTD(\"cqg.rtd\",,\"StudyData\",\"HiLevel(\"&A463&\",Period1:=\"&$B$1&\",AllowGaps:=0,InputChoice1:=High,InputChoice3:=High)\",\"Bar\",, \"Close\",$C$1,\"-1\",,,,,\"T\"),\"\")","v":422.43},{"$f":"IFERROR(RTD(\"cqg.rtd\",,\"StudyData\",\"LoLevel(\"&A463&\",Period2:=\"&$B$1&\",AllowGaps:=0,InputChoice2:=Low,InputChoice4:=Low)\",\"Bar\",, \"Close\",$C$1,\"-1\",,,,,\"T\"),\"\")","v":299.77},0,0,20.04100000000005,20.026000000000032,"S.US.ULTA",{"$f":"RTD(\"cqg.rtd\", ,\"ContractData\",A463, \"PerCentNetLastTrade\",, \"T\")/100","v":-3.5606880789125469E-3},{"$f":"RANK($K463,$K$2:K$506)+COUNTIF($K$2:K463,K463)-1","v":{"$error":"#VALUE!"}},"S.US.ULTA",462,"",{"$f":"RTD(\"cqg.rtd\", ,\"ContractData\",O463, \"PerCentNetLastTrade\",, \"T\")/100","v":{"$error":"#VALUE!"}},{"$error":"#N/A"},null,462,""]
[{"$f":"Symbols!A464","v":"S.US.UNH"},{"$f":"IFERROR(RTD(\"cqg.rtd\",,\"StudyData\",A464,\"Bar\",, \"High\",$C$1,\"0\",,,,,\"T\"),\"\")","v":541},{"$f":"IFERROR(RTD(\"cqg.rtd\",,\"StudyData\",A464,\"Bar\",, \"Low\",$C$1,\"0\",,,,,\"T\"),\"\")","v":536.47},{"$f":"IFERROR(RTD(\"cqg.rtd\",,\"StudyData\",\"HiLevel(\"&A464&\",Period1:=\"&$B$1&\",AllowGaps:=0,InputChoice1:=High,InputChoice3:=High)\",\"Bar\",, \"Close\",$C$1,\"-1\",,,,,\"T\"),\"\")","v":553.29},{"$f":"IFERROR(RTD(\"cqg.rtd\",,\"StudyData\",\"LoLevel(\"&A464&\",Period2:=\"&$B$1&\",AllowGaps:=0,InputChoice2:=Low,InputChoice4:=Low)\",\"Bar\",, \"Close\",$C$1,\"-1\",,,,,\"T\"),\"\")","v":383.12},0,0,20.042000000000051,20.027000000000033,"S.US.UNH",{"$f":"RTD(\"cqg.rtd\", ,\"ContractData\",A464, \"PerCentNetLastTrade\",, \"T\")/100","v":9.7602931827530763E-3},{"$f":"RANK($K464,$K$2:K$506)+COUNTIF($K$2:K464,K464)-1","v":{"$error":"#VALUE!"}},"S.US.UNH",463,"",{"$f":"RTD(\"cqg.rtd\", ,\"ContractData\",O464, \"PerCentNetLastTrade\",, \"T\")/100","v":{"$error":"#VALUE!"}},{"$error":"#N/A"},null,463,""]
[{"$f":"Symbols!A465","v":"S.US.UNP"},{"$f":"IFERROR(RTD(\"cqg.rtd\",,\"StudyData\",A465,\"Bar\",, \"High\",$C$1,\"0\",,,,,\"T\"),\"\")","v":246.83},{"$f":"IFERROR(RTD(\"cqg.rtd\",,\"StudyData\",A465,\"Bar\",, \"Low\",$C$1,\"0\",,,,,\"T\"),\"\")","v":245},{"$f":"IFERROR(RTD(\"cqg.rtd\",,\"StudyData\",\"HiLevel(\"&A465&\",Period1:=\"&$B$1&\",AllowGaps:=0,InputChoice1:=High,InputChoice3:=High)\",\"Bar\",, \"Close\",$C$1,\"-1\",,,,,\"T\"),\"\")","v":278.94},{"$f":"IFERROR(RTD(\"cqg.rtd\",,\"StudyData\",\"LoLevel(\"&A465&\",Period2:=\"&$B$1&\",AllowGaps:=0,InputChoice2:=Low,InputChoice4:=Low)\",\"Bar\",, \"Close\",$C$1,\"-1\",,,,,\"T\"),\"\")","v":195.67},0,0,20.043000000000053,20.028000000000034,"S.US.UNP",{"$f":"RTD(\"cqg.rtd\", ,\"ContractData\",A465, \"PerCentNetLastTrade\",, \"T\")/100","v":1.705860850493481E-3},{"$f":"RANK($K465,$K$2:K$506)+COUNTIF($K$2:K465,K465)-1","v":{"$error":"#VALUE!"}},"S.US.UNP",464,"",{"$f":"RTD(\"cqg.rtd\", ,\"ContractData\",O465, \"PerCentNetLastTrade\",, \"T\")/100","v":{"$error":"#VALUE!"}},{"$error":"#N/A"},null,464,""]
[{"$f":"Symbols!A466","v":"S.US.UPS"},{"$f":"IFERROR(RTD(\"cqg.rtd\",,\"StudyData\",A466,\"Bar\",, \"High\",$C$1,\"0\",,,,,\"T\"),\"\")","v":188.8},{"$f":"IFERROR(RTD(\"cqg.rtd\",,\"StudyData\",A466,\"Bar\",, \"Low\",$C$1,\"0\",,,,,\"T\"),\"\")","v":187.51},{"$f":"IFERROR(RTD(\"cqg.rtd\",,\"StudyData\",\"HiLevel(\"&A466&\",Period1:=\"&$B$1&\",AllowGaps:=0,InputChoice1:=High,InputChoice3:=High)\",\"Bar\",, \"Close\",$C$1,\"-1\",,,,,\"T\"),\"\")","v":233.72},{"$f":"IFERROR(RTD(\"cqg.rtd\",,\"StudyData\",\"LoLevel(\"&A466&\",Period2:=\"&$B$1&\",AllowGaps:=0,InputChoice2:=Low,InputChoice4:=Low)\",\"Bar\",, \"Close\",$C$1,\"-1\",,,,,\"T\"),\"\")","v":174.7},0,0,20.044000000000054,20.029000000000035,"S.US.UPS",{"$f":"RTD(\"cqg.rtd\", ,\"ContractData\",A466, \"PerCentNetLastTrade\",, \"T\")/100","v":-5.3185831294543137E-5},{"$f":"RANK($K466,$K$2:K$506)+COUNTIF($K$2:K466,K466)-1","v":{"$error":"#VALUE!"}},"S.US.UPS",465,"",{"$f":"RTD(\"cqg.rtd\", ,\"ContractData\",O466, \"PerCentNetLastTrade\",, \"T\")/100","v":{"$error":"#VALUE!"}},{"$error":"#N/A"},null,465,""]
[{"$f":"Symbols!A467","v":"S.US.URI"},{"$f":"IFERROR(RTD(\"cqg.rtd\",,\"StudyData\",A467,\"Bar\",, \"High\",$C$1,\"0\",,,,,\"T\"),\"\")","v":338.66},{"$f":"IFERROR(RTD(\"cqg.rtd\",,\"StudyData\",A467,\"Bar\",, \"Low\",$C$1,\"0\",,,,,\"T\"),\"\")","v":330},{"$f":"IFERROR(RTD(\"cqg.rtd\",,\"StudyData\",\"HiLevel(\"&A467&\",Period1:=\"&$B$1&\",AllowGaps:=0,InputChoice1:=High,InputChoice3:=High)\",\"Bar\",, \"Close\",$C$1,\"-1\",,,,,\"T\"),\"\")","v":414.99},{"$f":"IFERROR(RTD(\"cqg.rtd\",,\"StudyData\",\"LoLevel(\"&A467&\",Period2:=\"&$B$1&\",AllowGaps:=0,InputChoice2:=Low,InputChoice4:=Low)\",\"Bar\",, \"Close\",$C$1,\"-1\",,,,,\"T\"),\"\")","v":285.58999999999997},0,0,20.045000000000055,20.030000000000037,"S.US.URI",{"$f":"RTD(\"cqg.rtd\", ,\"ContractData\",A467, \"PerCentNetLastTrade\",, \"T\")/100","v":2.0509257860875346E-2},{"$f":"RANK($K467,$K$2:K$506)+COUNTIF($K$2:K467,K467)-1","v":{"$error":"#VALUE!"}},"S.US.URI",466,"",{"$f":"RTD(\"cqg.rtd\", ,\"ContractData\",O467, \"PerCentNetLastTrade\",, \"T\")/100","v":{"$error":"#VALUE!"}},{"$error":"#N/A"},null,466,""]
[{"$f":"Symbols!A468","v":"S.US.USB"},{"$f":"IFERROR(RTD(\"cqg.rtd\",,\"StudyData\",A468,\"Bar\",, \"High\",$C$1,\"0\",,,,,\"T\"),\"\")","v":53.61},{"$f":"IFERROR(RTD(\"cqg.rtd\",,\"StudyData\",A468,\"Bar\",, \"Low\",$C$1,\"0\",,,,,\"T\"),\"\")","v":52.44},{"$f":"IFERROR(RTD(\"cqg.rtd\",,\"StudyData\",\"HiLevel(\"&A468&\",Period1:=\"&$B$1&\",AllowGaps:=0,InputChoice1:=High,InputChoice3:=High)\",\"Bar\",, \"Close\",$C$1,\"-1\",,,,,\"T\"),\"\")","v":63.57},{"$f":"IFERROR(RTD(\"cqg.rtd\",,\"StudyData\",\"LoLevel(\"&A468&\",Period2:=\"&$B$1&\",AllowGaps:=0,InputChoice2:=Low,InputChoice4:=Low)\",\"Bar\",, \"Close\",$C$1,\"-1\",,,,,\"T\"),\"\")","v":49.78},0,0,20.046000000000056,20.031000000000038,"S.US.USB",{"$f":"RTD(\"cqg.rtd\", ,\"ContractData\",A468, \"PerCentNetLastTrade\",, \"T\")/100","v":1.707455890722823E-2},{"$f":"RANK($K468,$K$2:K$506)+COUNTIF($K$2:K468,K468)-1","v":{"$error":"#VALUE!"}},"S.US.USB",467,"",{"$f":"RTD(\"cqg.rtd\", ,\"ContractData\",O468, \"PerCentNetLastTrade\",, \"T\")/100","v":{"$error":"#VALUE!"}},{"$error":"#N/A"},null,467,""]
[{"$f":"Symbols!A469","v":"S.US.V"},{"$f":"IFERROR(RTD(\"cqg.rtd\",,\"StudyData\",A469,\"Bar\",, \"High\",$C$1,\"0\",,,,,\"T\"),\"\")","v":214.81},{"$f":"IFERROR(RTD(\"cqg.rtd\",,\"StudyData\",A469,\"Bar\",, \"Low\",$C$1,\"0\",,,,,\"T\"),\"\")","v":211.52},{"$f":"IFERROR(RTD(\"cqg.rtd\",,\"StudyData\",\"HiLevel(\"&A469&\",Period1:=\"&$B$1&\",AllowGaps:=0,InputChoice1:=High,InputChoice3:=High)\",\"Bar\",, \"Close\",$C$1,\"-1\",,,,,\"T\"),\"\")","v":252.67},{"$f":"IFERROR(RTD(\"cqg.rtd\",,\"StudyData\",\"LoLevel(\"&A469&\",Period2:=\"&$B$1&\",AllowGaps:=0,InputChoice2:=Low,InputChoice4:=Low)\",\"Bar\",, \"Close\",$C$1,\"-1\",,,,,\"T\"),\"\")","v":186.67},0,0,20.047000000000057,20.032000000000039,"S.US.V",{"$f":"RTD(\"cqg.rtd\", ,\"ContractData\",A469, \"PerCentNetLastTrade\",, \"T\")/100","v":8.4120494384134596E-3},{"$f":"RANK($K469,$K$2:K$506)+COUNTIF($K$2:K469,K469)-1","v":{"$error":"#VALUE!"}},"S.US.V",468,"",{"$f":"RTD(\"cqg.rtd\", ,\"ContractData\",O469, \"PerCentNetLastTrade\",, \"T\")/100","v":{"$error":"#VALUE!"}},{"$error":"#N/A"},null,468,""]
[{"$f":"Symbols!A470","v":"S.US.VFC"},{"$f":"IFERROR(RTD(\"cqg.rtd\",,\"StudyData\",A470,\"Bar\",, \"High\",$C$1,\"0\",,,,,\"T\"),\"\")","v":56.29},{"$f":"IFERROR(RTD(\"cqg.rtd\",,\"StudyData\",A470,\"Bar\",, \"Low\",$C$1,\"0\",,,,,\"T\"),\"\")","v":55.66},{"$f":"IFERROR(RTD(\"cqg.rtd\",,\"StudyData\",\"HiLevel(\"&A470&\",Period1:=\"&$B$1&\",AllowGaps:=0,InputChoice1:=High,InputChoice3:=High)\",\"Bar\",, \"Close\",$C$1,\"-1\",,,,,\"T\"),\"\")","v":90.79},{"$f":"IFERROR(RTD(\"cqg.rtd\",,\"StudyData\",\"LoLevel(\"&A470&\",Period2:=\"&$B$1&\",AllowGaps:=0,InputChoice2:=Low,InputChoice4:=Low)\",\"Bar\",, \"Close\",$C$1,\"-1\",,,,,\"T\"),\"\")","v":51.02},0,0,20.048000000000059,20.03300000000004,"S.US.VFC",{"$f":"RTD(\"cqg.rtd\", ,\"ContractData\",A470, \"PerCentNetLastTrade\",, \"T\")/100","v":-6.7615658362989326E-3},{"$f":"RANK($K470,$K$2:K$506)+COUNTIF($K$2:K470,K470)-1","v":{"$error":"#VALUE!"}},"S.US.VFC",469,"",{"$f":"RTD(\"cqg.rtd\", ,\"ContractData\",O470, \"PerCentNetLastTrade\",, \"T\")/100","v":{"$error":"#VALUE!"}},{"$error":"#N/A"},null,469,""]
[{"$f":"Symbols!A471","v":"S.US.VLO"},{"$f":"IFERROR(RTD(\"cqg.rtd\",,\"StudyData\",A471,\"Bar\",, \"High\",$C$1,\"0\",,,,,\"T\"),\"\")","v":107.3},{"$f":"IFERROR(RTD(\"cqg.rtd\",,\"StudyData\",A471,\"Bar\",, \"Low\",$C$1,\"0\",,,,,\"T\"),\"\")","v":105.26},{"$f":"IFERROR(RTD(\"cqg.rtd\",,\"StudyData\",\"HiLevel(\"&A471&\",Period1:=\"&$B$1&\",AllowGaps:=0,InputChoice1:=High,InputChoice3:=High)\",\"Bar\",, \"Close\",$C$1,\"-1\",,,,,\"T\"),\"\")","v":105.45},{"$f":"IFERROR(RTD(\"cqg.rtd\",,\"StudyData\",\"LoLevel(\"&A471&\",Period2:=\"&$B$1&\",AllowGaps:=0,InputChoice2:=Low,InputChoice4:=Low)\",\"Bar\",, \"Close\",$C$1,\"-1\",,,,,\"T\"),\"\")","v":58.85},1,0,21,20.034000000000042,"S.US.VLO",{"$f":"RTD(\"cqg.rtd\", ,\"ContractData\",A471, \"PerCentNetLastTrade\",, \"T\")/100","v":2.2506198741178714E-2},{"$f":"RANK($K471,$K$2:K$506)+COUNTIF($K$2:K471,K471)-1","v":{"$error":"#VALUE!"}},"S.US.VLO",470,"",{"$f":"RTD(\"cqg.rtd\", ,\"ContractData\",O471, \"PerCentNetLastTrade\",, \"T\")/100","v":{"$error":"#VALUE!"}},{"$error":"#N/A"},null,470,""]
[{"$f":"Symbols!A472","v":"S.US.VMC"},{"$f":"IFERROR(RTD(\"cqg.rtd\",,\"StudyData\",A472,\"Bar\",, \"High\",$C$1,\"0\",,,,,\"T\"),\"\")","v":176.22},{"$f":"IFERROR(RTD(\"cqg.rtd\",,\"StudyData\",A472,\"Bar\",, \"Low\",$C$1,\"0\",,,,,\"T\"),\"\")","v":174.3},{"$f":"IFERROR(RTD(\"cqg.rtd\",,\"StudyData\",\"HiLevel(\"&A472&\",Period1:=\"&$B$1&\",AllowGaps:=0,InputChoice1:=High,InputChoice3:=High)\",\"Bar\",, \"Close\",$C$1,\"-1\",,,,,\"T\"),\"\")","v":213.65},{"$f":"IFERROR(RTD(\"cqg.rtd\",,\"StudyData\",\"LoLevel(\"&A472&\",Period2:=\"&$B$1&\",AllowGaps:=0,InputChoice2:=Low,InputChoice4:=Low)\",\"Bar\",, \"Close\",$C$1,\"-1\",,,,,\"T\"),\"\")","v":163},0,0,21.001000000000001,20.035000000000043,"S.US.VMC",{"$f":"RTD(\"cqg.rtd\", ,\"ContractData\",A472, \"PerCentNetLastTrade\",, \"T\")/100","v":3.9480460033186476E-3},{"$f":"RANK($K472,$K$2:K$506)+COUNTIF($K$2:K472,K472)-1","v":{"$error":"#VALUE!"}},"S.US.VMC",471,"",{"$f":"RTD(\"cqg.rtd\", ,\"ContractData\",O472, \"PerCentNetLastTrade\",, \"T\")/100","v":{"$error":"#VALUE!"}},{"$error":"#N/A"},null,471,""]
[{"$f":"Symbols!A473","v":"S.US.VNO"},{"$f":"IFERROR(RTD(\"cqg.rtd\",,\"StudyData\",A473,\"Bar\",, \"High\",$C$1,\"0\",,,,,\"T\"),\"\")","v":41.57},{"$f":"IFERROR(RTD(\"cqg.rtd\",,\"StudyData\",A473,\"Bar\",, \"Low\",$C$1,\"0\",,,,,\"T\"),\"\")","v":41.26},{"$f":"IFERROR(RTD(\"cqg.rtd\",,\"StudyData\",\"HiLevel(\"&A473&\",Period1:=\"&$B$1&\",AllowGaps:=0,InputChoice1:=High,InputChoice3:=High)\",\"Bar\",, \"Close\",$C$1,\"-1\",,,,,\"T\"),\"\")","v":50.91},{"$f":"IFERROR(RTD(\"cqg.rtd\",,\"StudyData\",\"LoLevel(\"&A473&\",Period2:=\"&$B$1&\",AllowGaps:=0,InputChoice2:=Low,InputChoice4:=Low)\",\"Bar\",, \"Close\",$C$1,\"-1\",,,,,\"T\"),\"\")","v":38},0,0,21.002000000000002,20.036000000000044,"S.US.VNO",{"$f":"RTD(\"cqg.rtd\", ,\"ContractData\",A473, \"PerCentNetLastTrade\",, \"T\")/100","v":2.655721873491067E-3},{"$f":"RANK($K473,$K$2:K$506)+COUNTIF($K$2:K473,K473)-1","v":{"$error":"#VALUE!"}},"S.US.VNO",472,"",{"$f":"RTD(\"cqg.rtd\", ,\"ContractData\",O473, \"PerCentNetLastTrade\",, \"T\")/100","v":{"$error":"#VALUE!"}},{"$error":"#N/A"},null,472,""]
[{"$f":"Symbols!A474","v":"S.US.VRSK"},{"$f":"IFERROR(RTD(\"cqg.rtd\",,\"StudyData\",A474,\"Bar\",, \"High\",$C$1,\"0\",,,,,\"T\"),\"\")","v":213.76},{"$f":"IFERROR(RTD(\"cqg.rtd\",,\"StudyData\",A474,\"Bar\",, \"Low\",$C$1,\"0\",,,,,\"T\"),\"\")","v":211.26},{"$f":"IFERROR(RTD(\"cqg.rtd\",,\"StudyData\",\"HiLevel(\"&A474&\",Period1:=\"&$B$1&\",AllowGaps:=0,InputChoice1:=High,InputChoice3:=High)\",\"Bar\",, \"Close\",$C$1,\"-1\",,,,,\"T\"),\"\")","v":231.57},{"$f":"IFERROR(RTD(\"cqg.rtd\",,\"StudyData\",\"LoLevel(\"&A474&\",Period2:=\"&$B$1&\",AllowGaps:=0,InputChoice2:=Low,InputChoice4:=Low)\",\"Bar\",, \"Close\",$C$1,\"-1\",,,,,\"T\"),\"\")","v":167.37},0,0,21.003000000000004,20.037000000000045,"S.US.VRSK",{"$f":"RTD(\"cqg.rtd\", ,\"ContractData\",A474, \"PerCentNetLastTrade\",, \"T\")/100","v":-3.1879981247069857E-3},{"$f":"RANK($K474,$K$2:K$506)+COUNTIF($K$2:K474,K474)-1","v":{"$error":"#VALUE!"}},"S.US.VRSK",473,"",{"$f":"RTD(\"cqg.rtd\", ,\"ContractData\",O474, \"PerCentNetLastTrade\",, \"T\")/100","v":{"$error":"#VALUE!"}},{"$error":"#N/A"},null,473,""]
[{"$f":"Symbols!A475","v":"S.US.VRSN"},{"$f":"IFERROR(RTD(\"cqg.rtd\",,\"StudyData\",A475,\"Bar\",, \"High\",$C$1,\"0\",,,,,\"T\"),\"\")","v":216.1},{"$f":"IFERROR(RTD(\"cqg.rtd\",,\"StudyData\",A475,\"Bar\",, \"Low\",$C$1,\"0\",,,,,\"T\"),\"\")","v":214.75},{"$f":"IFERROR(RTD(\"cqg.rtd\",,\"StudyData\",\"HiLevel(\"&A475&\",Period1:=\"&$B$1&\",AllowGaps:=0,InputChoice1:=High,InputChoice3:=High)\",\"Bar\",, \"Close\",$C$1,\"-1\",,,,,\"T\"),\"\")","v":257.02999999999997},{"$f":"IFERROR(RTD(\"cqg.rtd\",,\"StudyData\",\"LoLevel(\"&A475&\",Period2:=\"&$B$1&\",AllowGaps:=0,InputChoice2:=Low,InputChoice4:=Low)\",\"Bar\",, \"Close\",$C$1,\"-1\",,,,,\"T\"),\"\")","v":198.53},0,0,21.004000000000005,20.038000000000046,"S.US.VRSN",{"$f":"RTD(\"cqg.rtd\", ,\"ContractData\",A475, \"PerCentNetLastTrade\",, \"T\")/100","v":-2.4605385329619315E-3},{"$f":"RANK($K475,$K$2:K$506)+COUNTIF($K$2:K475,K475)-1","v":{"$error":"#VALUE!"}},"S.US.VRSN",474,"",{"$f":"RTD(\"cqg.rtd\", ,\"ContractData\",O475, \"PerCentNetLastTrade\",, \"T\")/100","v":{"$error":"#VALUE!"}},{"$error":"#N/A"},null,474,""]
[{"$f":"Symbols!A476","v":"S.US.VRTX"},{"$f":"IFERROR(RTD(\"cqg.rtd\",,\"StudyData\",A476,\"Bar\",, \"High\",$C$1,\"0\",,,,,\"T\"),\"\")","v":287.86},{"$f":"IFERROR(RTD(\"cqg.rtd\",,\"StudyData\",A476,\"Bar\",, \"Low\",$C$1,\"0\",,,,,\"T\"),\"\")","v":286.27999999999997},{"$f":"IFERROR(RTD(\"cqg.rtd\",,\"StudyData\",\"HiLevel(\"&A476&\",Period1:=\"&$B$1&\",AllowGaps:=0,InputChoice1:=High,InputChoice3:=High)\",\"Bar\",, \"Close\",$C$1,\"-1\",,,,,\"T\"),\"\")","v":292.75},{"$f":"IFERROR(RTD(\"cqg.rtd\",,\"StudyData\",\"LoLevel(\"&A476&\",Period2:=\"&$B$1&\",AllowGaps:=0,InputChoice2:=Low,InputChoice4:=Low)\",\"Bar\",, \"Close\",$C$1,\"-1\",,,,,\"T\"),\"\")","v":176.36},0,0,21.005000000000006,20.039000000000048,"S.US.VRTX",{"$f":"RTD(\"cqg.rtd\", ,\"ContractData\",A476, \"PerCentNetLastTrade\",, \"T\")/100","v":-5.1046984060839672E-3},{"$f":"RANK($K476,$K$2:K$506)+COUNTIF($K$2:K476,K476)-1","v":{"$error":"#VALUE!"}},"S.US.VRTX",475,"",{"$f":"RTD(\"cqg.rtd\", ,\"ContractData\",O476, \"PerCentNetLastTrade\",, \"T\")/100","v":{"$error":"#VALUE!"}},{"$error":"#N/A"},null,475,""]
[{"$f":"Symbols!A477","v":"S.US.VTR"},{"$f":"IFERROR(RTD(\"cqg.rtd\",,\"StudyData\",A477,\"Bar\",, \"High\",$C$1,\"0\",,,,,\"T\"),\"\")","v":60.99},{"$f":"IFERROR(RTD(\"cqg.rtd\",,\"StudyData\",A477,\"Bar\",, \"Low\",$C$1,\"0\",,,,,\"T\"),\"\")","v":60.45},{"$f":"IFERROR(RTD(\"cqg.rtd\",,\"StudyData\",\"HiLevel(\"&A477&\",Period1:=\"&$B$1&\",AllowGaps:=0,InputChoice1:=High,InputChoice3:=High)\",\"Bar\",, \"Close\",$C$1,\"-1\",,,,,\"T\"),\"\")","v":64.02},{"$f":"IFERROR(RTD(\"cqg.rtd\",,\"StudyData\",\"LoLevel(\"&A477&\",Period2:=\"&$B$1&\",AllowGaps:=0,InputChoice2:=Low,InputChoice4:=Low)\",\"Bar\",, \"Close\",$C$1,\"-1\",,,,,\"T\"),\"\")","v":45.44},0,0,21.006000000000007,20.040000000000049,"S.US.VTR",{"$f":"RTD(\"cqg.rtd\", ,\"ContractData\",A477, \"PerCentNetLastTrade\",, \"T\")/100","v":3.1316960606560078E-3},{"$f":"RANK($K477,$K$2:K$506)+COUNTIF($K$2:K477,K477)-1","v":{"$error":"#VALUE!"}},"S.US.VTR",476,"",{"$f":"RTD(\"cqg.rtd\", ,\"ContractData\",O477, \"PerCentNetLastTrade\",, \"T\")/100","v":{"$error":"#VALUE!"}},{"$error":"#N/A"},null,476,""]
[{"$f":"Symbols!A478","v":"S.US.VTRS"},{"$f":"IFERROR(RTD(\"cqg.rtd\",,\"StudyData\",A478,\"Bar\",, \"High\",$C$1,\"0\",,,,,\"T\"),\"\")","v":10.98},{"$f":"IFERROR(RTD(\"cqg.rtd\",,\"StudyData\",A478,\"Bar\",, \"Low\",$C$1,\"0\",,,,,\"T\"),\"\")","v":10.84},{"$f":"IFERROR(RTD(\"cqg.rtd\",,\"StudyData\",\"HiLevel(\"&A478&\",Period1:=\"&$B$1&\",AllowGaps:=0,InputChoice1:=High,InputChoice3:=High)\",\"Bar\",, \"Close\",$C$1,\"-1\",,,,,\"T\"),\"\")","v":16.29},{"$f":"IFERROR(RTD(\"cqg.rtd\",,\"StudyData\",\"LoLevel(\"&A478&\",Period2:=\"&$B$1&\",AllowGaps:=0,InputChoice2:=Low,InputChoice4:=Low)\",\"Bar\",, \"Close\",$C$1,\"-1\",,,,,\"T\"),\"\")","v":9.66},0,0,21.007000000000009,20.04100000000005,"S.US.VTRS",{"$f":"RTD(\"cqg.rtd\", ,\"ContractData\",A478, \"PerCentNetLastTrade\",, \"T\")/100","v":-1.0948905109489052E-2},{"$f":"RANK($K478,$K$2:K$506)+COUNTIF($K$2:K478,K478)-1","v":{"$error":"#VALUE!"}},"S.US.VTRS",477,"",{"$f":"RTD(\"cqg.rtd\", ,\"ContractData\",O478, \"PerCentNetLastTrade\",, \"T\")/100","v":{"$error":"#VALUE!"}},{"$error":"#N/A"},null,477,""]
[{"$f":"Symbols!A479","v":"S.US.VZ"},{"$f":"IFERROR(RTD(\"cqg.rtd\",,\"StudyData\",A479,\"Bar\",, \"High\",$C$1,\"0\",,,,,\"T\"),\"\")","v":54.28},{"$f":"IFERROR(RTD(\"cqg.rtd\",,\"StudyData\",A479,\"Bar\",, \"Low\",$C$1,\"0\",,,,,\"T\"),\"\")","v":53.73},{"$f":"IFERROR(RTD(\"cqg.rtd\",,\"StudyData\",\"HiLevel(\"&A479&\",Period1:=\"&$B$1&\",AllowGaps:=0,InputChoice1:=High,InputChoice3:=High)\",\"Bar\",, \"Close\",$C$1,\"-1\",,,,,\"T\"),\"\")","v":59.85},{"$f":"IFERROR(RTD(\"cqg.rtd\",,\"StudyData\",\"LoLevel(\"&A479&\",Period2:=\"&$B$1&\",AllowGaps:=0,InputChoice2:=Low,InputChoice4:=Low)\",\"Bar\",, \"Close\",$C$1,\"-1\",,,,,\"T\"),\"\")","v":49.68},0,0,21.00800000000001,20.042000000000051,"S.US.VZ",{"$f":"RTD(\"cqg.rtd\", ,\"ContractData\",A479, \"PerCentNetLastTrade\",, \"T\")/100","v":6.6877206018948546E-3},{"$f":"RANK($K479,$K$2:K$506)+COUNTIF($K$2:K479,K479)-1","v":{"$error":"#VALUE!"}},"S.US.VZ",478,"",{"$f":"RTD(\"cqg.rtd\", ,\"ContractData\",O479, \"PerCentNetLastTrade\",, \"T\")/100","v":{"$error":"#VALUE!"}},{"$error":"#N/A"},null,478,""]
[{"$f":"Symbols!A480","v":"S.US.WAB"},{"$f":"IFERROR(RTD(\"cqg.rtd\",,\"StudyData\",A480,\"Bar\",, \"High\",$C$1,\"0\",,,,,\"T\"),\"\")","v":90.02},{"$f":"IFERROR(RTD(\"cqg.rtd\",,\"StudyData\",A480,\"Bar\",, \"Low\",$C$1,\"0\",,,,,\"T\"),\"\")","v":88.82},{"$f":"IFERROR(RTD(\"cqg.rtd\",,\"StudyData\",\"HiLevel(\"&A480&\",Period1:=\"&$B$1&\",AllowGaps:=0,InputChoice1:=High,InputChoice3:=High)\",\"Bar\",, \"Close\",$C$1,\"-1\",,,,,\"T\"),\"\")","v":100.04},{"$f":"IFERROR(RTD(\"cqg.rtd\",,\"StudyData\",\"LoLevel(\"&A480&\",Period2:=\"&$B$1&\",AllowGaps:=0,InputChoice2:=Low,InputChoice4:=Low)\",\"Bar\",, \"Close\",$C$1,\"-1\",,,,,\"T\"),\"\")","v":76.3},0,0,21.009000000000011,20.043000000000053,"S.US.WAB",{"$f":"RTD(\"cqg.rtd\", ,\"ContractData\",A480, \"PerCentNetLastTrade\",, \"T\")/100","v":8.074464505999775E-3},{"$f":"RANK($K480,$K$2:K$506)+COUNTIF($K$2:K480,K480)-1","v":{"$error":"#VALUE!"}},"S.US.WAB",479,"",{"$f":"RTD(\"cqg.rtd\", ,\"ContractData\",O480, \"PerCentNetLastTrade\",, \"T\")/100","v":{"$error":"#VALUE!"}},{"$error":"#N/A"},null,479,""]
[{"$f":"Symbols!A481","v":"S.US.WAT"},{"$f":"IFERROR(RTD(\"cqg.rtd\",,\"StudyData\",A481,\"Bar\",, \"High\",$C$1,\"0\",,,,,\"T\"),\"\")","v":295.85000000000002},{"$f":"IFERROR(RTD(\"cqg.rtd\",,\"StudyData\",A481,\"Bar\",, \"Low\",$C$1,\"0\",,,,,\"T\"),\"\")","v":293.83},{"$f":"IFERROR(RTD(\"cqg.rtd\",,\"StudyData\",\"HiLevel(\"&A481&\",Period1:=\"&$B$1&\",AllowGaps:=0,InputChoice1:=High,InputChoice3:=High)\",\"Bar\",, \"Close\",$C$1,\"-1\",,,,,\"T\"),\"\")","v":428.22},{"$f":"IFERROR(RTD(\"cqg.rtd\",,\"StudyData\",\"LoLevel(\"&A481&\",Period2:=\"&$B$1&\",AllowGaps:=0,InputChoice2:=Low,InputChoice4:=Low)\",\"Bar\",, \"Close\",$C$1,\"-1\",,,,,\"T\"),\"\")","v":292.24},0,0,21.010000000000012,20.044000000000054,"S.US.WAT",{"$f":"RTD(\"cqg.rtd\", ,\"ContractData\",A481, \"PerCentNetLastTrade\",, \"T\")/100","v":-2.1666271708588643E-3},{"$f":"RANK($K481,$K$2:K$506)+COUNTIF($K$2:K481,K481)-1","v":{"$error":"#VALUE!"}},"S.US.WAT",480,"",{"$f":"RTD(\"cqg.rtd\", ,\"ContractData\",O481, \"PerCentNetLastTrade\",, \"T\")/100","v":{"$error":"#VALUE!"}},{"$error":"#N/A"},null,480,""]
[{"$f":"Symbols!A482","v":"S.US.WBA"},{"$f":"IFERROR(RTD(\"cqg.rtd\",,\"StudyData\",A482,\"Bar\",, \"High\",$C$1,\"0\",,,,,\"T\"),\"\")","v":44.97},{"$f":"IFERROR(RTD(\"cqg.rtd\",,\"StudyData\",A482,\"Bar\",, \"Low\",$C$1,\"0\",,,,,\"T\"),\"\")","v":44.68},{"$f":"IFERROR(RTD(\"cqg.rtd\",,\"StudyData\",\"HiLevel(\"&A482&\",Period1:=\"&$B$1&\",AllowGaps:=0,InputChoice1:=High,InputChoice3:=High)\",\"Bar\",, \"Close\",$C$1,\"-1\",,,,,\"T\"),\"\")","v":55.96},{"$f":"IFERROR(RTD(\"cqg.rtd\",,\"StudyData\",\"LoLevel(\"&A482&\",Period2:=\"&$B$1&\",AllowGaps:=0,InputChoice2:=Low,InputChoice4:=Low)\",\"Bar\",, \"Close\",$C$1,\"-1\",,,,,\"T\"),\"\")","v":42.9},0,0,21.011000000000013,20.045000000000055,"S.US.WBA",{"$f":"RTD(\"cqg.rtd\", ,\"ContractData\",A482, \"PerCentNetLastTrade\",, \"T\")/100","v":1.1158223610801159E-3},{"$f":"RANK($K482,$K$2:K$506)+COUNTIF($K$2:K482,K482)-1","v":{"$error":"#VALUE!"}},"S.US.WBA",481,"",{"$f":"RTD(\"cqg.rtd\", ,\"ContractData\",O482, \"PerCentNetLastTrade\",, \"T\")/100","v":{"$error":"#VALUE!"}},{"$error":"#N/A"},null,481,""]
[{"$f":"Symbols!A483","v":"S.US.WBD"},{"$f":"IFERROR(RTD(\"cqg.rtd\",,\"StudyData\",A483,\"Bar\",, \"High\",$C$1,\"0\",,,,,\"T\"),\"\")","v":24.8},{"$f":"IFERROR(RTD(\"cqg.rtd\",,\"StudyData\",A483,\"Bar\",, \"Low\",$C$1,\"0\",,,,,\"T\"),\"\")","v":24.35},{"$f":"IFERROR(RTD(\"cqg.rtd\",,\"StudyData\",\"HiLevel(\"&A483&\",Period1:=\"&$B$1&\",AllowGaps:=0,InputChoice1:=High,InputChoice3:=High)\",\"Bar\",, \"Close\",$C$1,\"-1\",,,,,\"T\"),\"\")","v":""},{"$f":"IFERROR(RTD(\"cqg.rtd\",,\"StudyData\",\"LoLevel(\"&A483&\",Period2:=\"&$B$1&\",AllowGaps:=0,InputChoice2:=Low,InputChoice4:=Low)\",\"Bar\",, \"Close\",$C$1,\"-1\",,,,,\"T\"),\"\")","v":""},0,1,21.012000000000015,21,"S.US.WBD",{"$f":"RTD(\"cqg.rtd\", ,\"ContractData\",A483, \"PerCentNetLastTrade\",, \"T\")/100","v":-1.2459807073954984E-2},{"$f":"RANK($K483,$K$2:K$506)+COUNTIF($K$2:K483,K483)-1","v":{"$error":"#VALUE!"}},"S.US.WBD",482,"",{"$f":"RTD(\"cqg.rtd\", ,\"ContractData\",O483, \"PerCentNetLastTrade\",, \"T\")/100","v":{"$error":"#VALUE!"}},{"$error":"#N/A"},null,482,""]
[{"$f":"Symbols!A484","v":"S.US.WDC"},{"$f":"IFERROR(RTD(\"cqg.rtd\",,\"StudyData\",A484,\"Bar\",, \"High\",$C$1,\"0\",,,,,\"T\"),\"\")","v":46.62},{"$f":"IFERROR(RTD(\"cqg.rtd\",,\"StudyData\",A484,\"Bar\",, \"Low\",$C$1,\"0\",,,,,\"T\"),\"\")","v":46.06},{"$f":"IFERROR(RTD(\"cqg.rtd\",,\"StudyData\",\"HiLevel(\"&A484&\",Period1:=\"&$B$1&\",AllowGaps:=0,InputChoice1:=High,InputChoice3:=High)\",\"Bar\",, \"Close\",$C$1,\"-1\",,,,,\"T\"),\"\")","v":78.19},{"$f":"IFERROR(RTD(\"cqg.rtd\",,\"StudyData\",\"LoLevel(\"&A484&\",Period2:=\"&$B$1&\",AllowGaps:=0,InputChoice2:=Low,InputChoice4:=Low)\",\"Bar\",, \"Close\",$C$1,\"-1\",,,,,\"T\"),\"\")","v":43.85},0,0,21.013000000000016,21.001000000000001,"S.US.WDC",{"$f":"RTD(\"cqg.rtd\", ,\"ContractData\",A484, \"PerCentNetLastTrade\",, \"T\")/100","v":-5.1791109192921882E-3},{"$f":"RANK($K484,$K$2:K$506)+COUNTIF($K$2:K484,K484)-1","v":{"$error":"#VALUE!"}},"S.US.WDC",483,"",{"$f":"RTD(\"cqg.rtd\", ,\"ContractData\",O484, \"PerCentNetLastTrade\",, \"T\")/100","v":{"$error":"#VALUE!"}},{"$error":"#N/A"},null,483,""]
[{"$f":"Symbols!A485","v":"S.US.WEC"},{"$f":"IFERROR(RTD(\"cqg.rtd\",,\"StudyData\",A485,\"Bar\",, \"High\",$C$1,\"0\",,,,,\"T\"),\"\")","v":104.01},{"$f":"IFERROR(RTD(\"cqg.rtd\",,\"StudyData\",A485,\"Bar\",, \"Low\",$C$1,\"0\",,,,,\"T\"),\"\")","v":103.14},{"$f":"IFERROR(RTD(\"cqg.rtd\",,\"StudyData\",\"HiLevel(\"&A485&\",Period1:=\"&$B$1&\",AllowGaps:=0,InputChoice1:=High,InputChoice3:=High)\",\"Bar\",, \"Close\",$C$1,\"-1\",,,,,\"T\"),\"\")","v":105.43},{"$f":"IFERROR(RTD(\"cqg.rtd\",,\"StudyData\",\"LoLevel(\"&A485&\",Period2:=\"&$B$1&\",AllowGaps:=0,InputChoice2:=Low,InputChoice4:=Low)\",\"Bar\",, \"Close\",$C$1,\"-1\",,,,,\"T\"),\"\")","v":86.84},0,0,21.014000000000017,21.002000000000002,"S.US.WEC",{"$f":"RTD(\"cqg.rtd\", ,\"ContractData\",A485, \"PerCentNetLastTrade\",, \"T\")/100","v":5.1361566043221238E-3},{"$f":"RANK($K485,$K$2:K$506)+COUNTIF($K$2:K485,K485)-1","v":{"$error":"#VALUE!"}},"S.US.WEC",484,"",{"$f":"RTD(\"cqg.rtd\", ,\"ContractData\",O485, \"PerCentNetLastTrade\",, \"T\")/100","v":{"$error":"#VALUE!"}},{"$error":"#N/A"},null,484,""]
[{"$f":"Symbols!A486","v":"S.US.WELL"},{"$f":"IFERROR(RTD(\"cqg.rtd\",,\"StudyData\",A486,\"Bar\",, \"High\",$C$1,\"0\",,,,,\"T\"),\"\")","v":96.31},{"$f":"IFERROR(RTD(\"cqg.rtd\",,\"StudyData\",A486,\"Bar\",, \"Low\",$C$1,\"0\",,,,,\"T\"),\"\")","v":95.57},{"$f":"IFERROR(RTD(\"cqg.rtd\",,\"StudyData\",\"HiLevel(\"&A486&\",Period1:=\"&$B$1&\",AllowGaps:=0,InputChoice1:=High,InputChoice3:=High)\",\"Bar\",, \"Close\",$C$1,\"-1\",,,,,\"T\"),\"\")","v":99.43},{"$f":"IFERROR(RTD(\"cqg.rtd\",,\"StudyData\",\"LoLevel(\"&A486&\",Period2:=\"&$B$1&\",AllowGaps:=0,InputChoice2:=Low,InputChoice4:=Low)\",\"Bar\",, \"Close\",$C$1,\"-1\",,,,,\"T\"),\"\")","v":70.739999999999995},0,0,21.015000000000018,21.003000000000004,"S.US.WELL",{"$f":"RTD(\"cqg.rtd\", ,\"ContractData\",A486, \"PerCentNetLastTrade\",, \"T\")/100","v":2.4992189940643548E-3},{"$f":"RANK($K486,$K$2:K$506)+COUNTIF($K$2:K486,K486)-1","v":{"$error":"#VALUE!"}},"S.US.WELL",485,"",{"$f":"RTD(\"cqg.rtd\", ,\"ContractData\",O486, \"PerCentNetLastTrade\",, \"T\")/100","v":{"$error":"#VALUE!"}},{"$error":"#N/A"},null,485,""]
[{"$f":"Symbols!A487","v":"S.US.WFC"},{"$f":"IFERROR(RTD(\"cqg.rtd\",,\"StudyData\",A487,\"Bar\",, \"High\",$C$1,\"0\",,,,,\"T\"),\"\")","v":46.97},{"$f":"IFERROR(RTD(\"cqg.rtd\",,\"StudyData\",A487,\"Bar\",, \"Low\",$C$1,\"0\",,,,,\"T\"),\"\")","v":46.14},{"$f":"IFERROR(RTD(\"cqg.rtd\",,\"StudyData\",\"HiLevel(\"&A487&\",Period1:=\"&$B$1&\",AllowGaps:=0,InputChoice1:=High,InputChoice3:=High)\",\"Bar\",, \"Close\",$C$1,\"-1\",,,,,\"T\"),\"\")","v":60.3},{"$f":"IFERROR(RTD(\"cqg.rtd\",,\"StudyData\",\"LoLevel(\"&A487&\",Period2:=\"&$B$1&\",AllowGaps:=0,InputChoice2:=Low,InputChoice4:=Low)\",\"Bar\",, \"Close\",$C$1,\"-1\",,,,,\"T\"),\"\")","v":41.47},0,0,21.01600000000002,21.004000000000005,"S.US.WFC",{"$f":"RTD(\"cqg.rtd\", ,\"ContractData\",A487, \"PerCentNetLastTrade\",, \"T\")/100","v":1.186623516720604E-2},{"$f":"RANK($K487,$K$2:K$506)+COUNTIF($K$2:K487,K487)-1","v":{"$error":"#VALUE!"}},"S.US.WFC",486,"",{"$f":"RTD(\"cqg.rtd\", ,\"ContractData\",O487, \"PerCentNetLastTrade\",, \"T\")/100","v":{"$error":"#VALUE!"}},{"$error":"#N/A"},null,486,""]
[{"$f":"Symbols!A488","v":"S.US.WHR"},{"$f":"IFERROR(RTD(\"cqg.rtd\",,\"StudyData\",A488,\"Bar\",, \"High\",$C$1,\"0\",,,,,\"T\"),\"\")","v":172.03},{"$f":"IFERROR(RTD(\"cqg.rtd\",,\"StudyData\",A488,\"Bar\",, \"Low\",$C$1,\"0\",,,,,\"T\"),\"\")","v":169.68},{"$f":"IFERROR(RTD(\"cqg.rtd\",,\"StudyData\",\"HiLevel(\"&A488&\",Period1:=\"&$B$1&\",AllowGaps:=0,InputChoice1:=High,InputChoice3:=High)\",\"Bar\",, \"Close\",$C$1,\"-1\",,,,,\"T\"),\"\")","v":257.68},{"$f":"IFERROR(RTD(\"cqg.rtd\",,\"StudyData\",\"LoLevel(\"&A488&\",Period2:=\"&$B$1&\",AllowGaps:=0,InputChoice2:=Low,InputChoice4:=Low)\",\"Bar\",, \"Close\",$C$1,\"-1\",,,,,\"T\"),\"\")","v":164.52},0,0,21.017000000000021,21.005000000000006,"S.US.WHR",{"$f":"RTD(\"cqg.rtd\", ,\"ContractData\",A488, \"PerCentNetLastTrade\",, \"T\")/100","v":3.6352975666959835E-3},{"$f":"RANK($K488,$K$2:K$506)+COUNTIF($K$2:K488,K488)-1","v":{"$error":"#VALUE!"}},"S.US.WHR",487,"",{"$f":"RTD(\"cqg.rtd\", ,\"ContractData\",O488, \"PerCentNetLastTrade\",, \"T\")/100","v":{"$error":"#VALUE!"}},{"$error":"#N/A"},null,487,""]
[{"$f":"Symbols!A489","v":"S.US.WM"},{"$f":"IFERROR(RTD(\"cqg.rtd\",,\"StudyData\",A489,\"Bar\",, \"High\",$C$1,\"0\",,,,,\"T\"),\"\")","v":160.03},{"$f":"IFERROR(RTD(\"cqg.rtd\",,\"StudyData\",A489,\"Bar\",, \"Low\",$C$1,\"0\",,,,,\"T\"),\"\")","v":158.63999999999999},{"$f":"IFERROR(RTD(\"cqg.rtd\",,\"StudyData\",\"HiLevel(\"&A489&\",Period1:=\"&$B$1&\",AllowGaps:=0,InputChoice1:=High,InputChoice3:=High)\",\"Bar\",, \"Close\",$C$1,\"-1\",,,,,\"T\"),\"\")","v":168.03},{"$f":"IFERROR(RTD(\"cqg.rtd\",,\"StudyData\",\"LoLevel(\"&A489&\",Period2:=\"&$B$1&\",AllowGaps:=0,InputChoice2:=Low,InputChoice4:=Low)\",\"Bar\",, \"Close\",$C$1,\"-1\",,,,,\"T\"),\"\")","v":133.80000000000001},{"$f":"IF(B489=\"\",0,IFERROR(IF(B489>D489,1,0),\"\"))","v":0},{"$f":"IF(C489=\"\",0,IFERROR(IF(C489<E489,1,0),\"\"))","v":0},{"$f":"IF(F489=1,INT(H488+1),H488+0.001)","v":21.018000000000022},{"$f":"IF(G489=1,INT(I488+1),I488+0.001)","v":21.006000000000007},{"$f":"A489","v":"S.US.WM"},{"$f":"RTD(\"cqg.rtd\", ,\"ContractData\",A489, \"PerCentNetLastTrade\",, \"T\")/100","v":3.5813018346318171E-3},{"$f":"RANK($K489,$K$2:K$506)+COUNTIF($K$2:K489,K489)-1","v":{"$error":"#VALUE!"}},"S.US.WM",488,"",{"$f":"RTD(\"cqg.rtd\", ,\"ContractData\",O489, \"PerCentNetLastTrade\",, \"T\")/100","v":{"$error":"#VALUE!"}},{"$error":"#N/A"},null,488,""]
[{"$f":"Symbols!A490","v":"S.US.WMB"},{"$f":"IFERROR(RTD(\"cqg.rtd\",,\"StudyData\",A490,\"Bar\",, \"High\",$C$1,\"0\",,,,,\"T\"),\"\")","v":35.82},{"$f":"IFERROR(RTD(\"cqg.rtd\",,\"StudyData\",A490,\"Bar\",, \"Low\",$C$1,\"0\",,,,,\"T\"),\"\")","v":35.369999999999997},{"$f":"IFERROR(RTD(\"cqg.rtd\",,\"StudyData\",\"HiLevel(\"&A490&\",Period1:=\"&$B$1&\",AllowGaps:=0,InputChoice1:=High,InputChoice3:=High)\",\"Bar\",, \"Close\",$C$1,\"-1\",,,,,\"T\"),\"\")","v":35.799999999999997},{"$f":"IFERROR(RTD(\"cqg.rtd\",,\"StudyData\",\"LoLevel(\"&A490&\",Period2:=\"&$B$1&\",AllowGaps:=0,InputChoice2:=Low,InputChoice4:=Low)\",\"Bar\",, \"Close\",$C$1,\"-1\",,,,,\"T\"),\"\")","v":23.21},1,0,22,21.007000000000009,"S.US.WMB",{"$f":"RTD(\"cqg.rtd\", ,\"ContractData\",A490, \"PerCentNetLastTrade\",, \"T\")/100","v":6.1936936936936937E-3},{"$f":"RANK($K490,$K$2:K$506)+COUNTIF($K$2:K490,K490)-1","v":{"$error":"#VALUE!"}},"S.US.WMB",489,"",{"$f":"RTD(\"cqg.rtd\", ,\"ContractData\",O490, \"PerCentNetLastTrade\",, \"T\")/100","v":{"$error":"#VALUE!"}},{"$error":"#N/A"},null,489,""]
[{"$f":"Symbols!A491","v":"S.US.WMT"},{"$f":"IFERROR(RTD(\"cqg.rtd\",,\"StudyData\",A491,\"Bar\",, \"High\",$C$1,\"0\",,,,,\"T\"),\"\")","v":157.75},{"$f":"IFERROR(RTD(\"cqg.rtd\",,\"StudyData\",A491,\"Bar\",, \"Low\",$C$1,\"0\",,,,,\"T\"),\"\")","v":156.71},{"$f":"IFERROR(RTD(\"cqg.rtd\",,\"StudyData\",\"HiLevel(\"&A491&\",Period1:=\"&$B$1&\",AllowGaps:=0,InputChoice1:=High,InputChoice3:=High)\",\"Bar\",, \"Close\",$C$1,\"-1\",,,,,\"T\"),\"\")","v":158.41},{"$f":"IFERROR(RTD(\"cqg.rtd\",,\"StudyData\",\"LoLevel(\"&A491&\",Period2:=\"&$B$1&\",AllowGaps:=0,InputChoice2:=Low,InputChoice4:=Low)\",\"Bar\",, \"Close\",$C$1,\"-1\",,,,,\"T\"),\"\")","v":132.01},0,0,22.001000000000001,21.00800000000001,"S.US.WMT",{"$f":"RTD(\"cqg.rtd\", ,\"ContractData\",A491, \"PerCentNetLastTrade\",, \"T\")/100","v":3.819709702062643E-3},{"$f":"RANK($K491,$K$2:K$506)+COUNTIF($K$2:K491,K491)-1","v":{"$error":"#VALUE!"}},"S.US.WMT",490,"",{"$f":"RTD(\"cqg.rtd\", ,\"ContractData\",O491, \"PerCentNetLastTrade\",, \"T\")/100","v":{"$error":"#VALUE!"}},{"$error":"#N/A"},null,490,""]
[{"$f":"Symbols!A492","v":"S.US.WRB"},{"$f":"IFERROR(RTD(\"cqg.rtd\",,\"StudyData\",A492,\"Bar\",, \"High\",$C$1,\"0\",,,,,\"T\"),\"\")","v":68.36},{"$f":"IFERROR(RTD(\"cqg.rtd\",,\"StudyData\",A492,\"Bar\",, \"Low\",$C$1,\"0\",,,,,\"T\"),\"\")","v":67.61},{"$f":"IFERROR(RTD(\"cqg.rtd\",,\"StudyData\",\"HiLevel(\"&A492&\",Period1:=\"&$B$1&\",AllowGaps:=0,InputChoice1:=High,InputChoice3:=High)\",\"Bar\",, \"Close\",$C$1,\"-1\",,,,,\"T\"),\"\")","v":99.68},{"$f":"IFERROR(RTD(\"cqg.rtd\",,\"StudyData\",\"LoLevel(\"&A492&\",Period2:=\"&$B$1&\",AllowGaps:=0,InputChoice2:=Low,InputChoice4:=Low)\",\"Bar\",, \"Close\",$C$1,\"-1\",,,,,\"T\"),\"\")","v":64.5},0,0,22.002000000000002,21.009000000000011,"S.US.WRB",{"$f":"RTD(\"cqg.rtd\", ,\"ContractData\",A492, \"PerCentNetLastTrade\",, \"T\")/100","v":5.863383172090296E-4},{"$f":"RANK($K492,$K$2:K$506)+COUNTIF($K$2:K492,K492)-1","v":{"$error":"#VALUE!"}},"S.US.WRB",491,"",{"$f":"RTD(\"cqg.rtd\", ,\"ContractData\",O492, \"PerCentNetLastTrade\",, \"T\")/100","v":{"$error":"#VALUE!"}},{"$error":"#N/A"},null,491,""]
[{"$f":"Symbols!A493","v":"S.US.WRK"},{"$f":"IFERROR(RTD(\"cqg.rtd\",,\"StudyData\",A493,\"Bar\",, \"High\",$C$1,\"0\",,,,,\"T\"),\"\")","v":50.78},{"$f":"IFERROR(RTD(\"cqg.rtd\",,\"StudyData\",A493,\"Bar\",, \"Low\",$C$1,\"0\",,,,,\"T\"),\"\")","v":50.05},{"$f":"IFERROR(RTD(\"cqg.rtd\",,\"StudyData\",\"HiLevel(\"&A493&\",Period1:=\"&$B$1&\",AllowGaps:=0,InputChoice1:=High,InputChoice3:=High)\",\"Bar\",, \"Close\",$C$1,\"-1\",,,,,\"T\"),\"\")","v":62.03},{"$f":"IFERROR(RTD(\"cqg.rtd\",,\"StudyData\",\"LoLevel(\"&A493&\",Period2:=\"&$B$1&\",AllowGaps:=0,InputChoice2:=Low,InputChoice4:=Low)\",\"Bar\",, \"Close\",$C$1,\"-1\",,,,,\"T\"),\"\")","v":40.78},0,0,22.003000000000004,21.010000000000012,"S.US.WRK",{"$f":"RTD(\"cqg.rtd\", ,\"ContractData\",A493, \"PerCentNetLastTrade\",, \"T\")/100","v":1.4420188263568995E-2},{"$f":"RANK($K493,$K$2:K$506)+COUNTIF($K$2:K493,K493)-1","v":{"$error":"#VALUE!"}},"S.US.WRK",492,"",{"$f":"RTD(\"cqg.rtd\", ,\"ContractData\",O493, \"PerCentNetLastTrade\",, \"T\")/100","v":{"$error":"#VALUE!"}},{"$error":"#N/A"},null,492,""]
[{"$f":"Symbols!A494","v":"S.US.WST"},{"$f":"IFERROR(RTD(\"cqg.rtd\",,\"StudyData\",A494,\"Bar\",, \"High\",$C$1,\"0\",,,,,\"T\"),\"\")","v":382.83},{"$f":"IFERROR(RTD(\"cqg.rtd\",,\"StudyData\",A494,\"Bar\",, \"Low\",$C$1,\"0\",,,,,\"T\"),\"\")","v":380.03},{"$f":"IFERROR(RTD(\"cqg.rtd\",,\"StudyData\",\"HiLevel(\"&A494&\",Period1:=\"&$B$1&\",AllowGaps:=0,InputChoice1:=High,InputChoice3:=High)\",\"Bar\",, \"Close\",$C$1,\"-1\",,,,,\"T\"),\"\")","v":475.35},{"$f":"IFERROR(RTD(\"cqg.rtd\",,\"StudyData\",\"LoLevel(\"&A494&\",Period2:=\"&$B$1&\",AllowGaps:=0,InputChoice2:=Low,InputChoice4:=Low)\",\"Bar\",, \"Close\",$C$1,\"-1\",,,,,\"T\"),\"\")","v":311.77},0,0,22.004000000000005,21.011000000000013,"S.US.WST",{"$f":"RTD(\"cqg.rtd\", ,\"ContractData\",A494, \"PerCentNetLastTrade\",, \"T\")/100","v":-2.1509889302764808E-3},{"$f":"RANK($K494,$K$2:K$506)+COUNTIF($K$2:K494,K494)-1","v":{"$error":"#VALUE!"}},"S.US.WST",493,"",{"$f":"RTD(\"cqg.rtd\", ,\"ContractData\",O494, \"PerCentNetLastTrade\",, \"T\")/100","v":{"$error":"#VALUE!"}},{"$error":"#N/A"},null,493,""]
[{"$f":"Symbols!A495","v":"S.US.WTW"},{"$f":"IFERROR(RTD(\"cqg.rtd\",,\"StudyData\",A495,\"Bar\",, \"High\",$C$1,\"0\",,,,,\"T\"),\"\")","v":235.37},{"$f":"IFERROR(RTD(\"cqg.rtd\",,\"StudyData\",A495,\"Bar\",, \"Low\",$C$1,\"0\",,,,,\"T\"),\"\")","v":232.96},{"$f":"IFERROR(RTD(\"cqg.rtd\",,\"StudyData\",\"HiLevel(\"&A495&\",Period1:=\"&$B$1&\",AllowGaps:=0,InputChoice1:=High,InputChoice3:=High)\",\"Bar\",, \"Close\",$C$1,\"-1\",,,,,\"T\"),\"\")","v":271.87},{"$f":"IFERROR(RTD(\"cqg.rtd\",,\"StudyData\",\"LoLevel(\"&A495&\",Period2:=\"&$B$1&\",AllowGaps:=0,InputChoice2:=Low,InputChoice4:=Low)\",\"Bar\",, \"Close\",$C$1,\"-1\",,,,,\"T\"),\"\")","v":199.78},0,0,22.005000000000006,21.012000000000015,"S.US.WTW",{"$f":"RTD(\"cqg.rtd\", ,\"ContractData\",A495, \"PerCentNetLastTrade\",, \"T\")/100","v":8.1144565449498191E-4},{"$f":"RANK($K495,$K$2:K$506)+COUNTIF($K$2:K495,K495)-1","v":{"$error":"#VALUE!"}},"S.US.WTW",494,"",{"$f":"RTD(\"cqg.rtd\", ,\"ContractData\",O495, \"PerCentNetLastTrade\",, \"T\")/100","v":{"$error":"#VALUE!"}},{"$error":"#N/A"},null,494,""]
[{"$f":"Symbols!A496","v":"S.US.WY"},{"$f":"IFERROR(RTD(\"cqg.rtd\",,\"StudyData\",A496,\"Bar\",, \"High\",$C$1,\"0\",,,,,\"T\"),\"\")","v":40.04},{"$f":"IFERROR(RTD(\"cqg.rtd\",,\"StudyData\",A496,\"Bar\",, \"Low\",$C$1,\"0\",,,,,\"T\"),\"\")","v":39.35},{"$f":"IFERROR(RTD(\"cqg.rtd\",,\"StudyData\",\"HiLevel(\"&A496&\",Period1:=\"&$B$1&\",AllowGaps:=0,InputChoice1:=High,InputChoice3:=High)\",\"Bar\",, \"Close\",$C$1,\"-1\",,,,,\"T\"),\"\")","v":43.04},{"$f":"IFERROR(RTD(\"cqg.rtd\",,\"StudyData\",\"LoLevel(\"&A496&\",Period2:=\"&$B$1&\",AllowGaps:=0,InputChoice2:=Low,InputChoice4:=Low)\",\"Bar\",, \"Close\",$C$1,\"-1\",,,,,\"T\"),\"\")","v":32.64},0,0,22.006000000000007,21.013000000000016,"S.US.WY",{"$f":"RTD(\"cqg.rtd\", ,\"ContractData\",A496, \"PerCentNetLastTrade\",, \"T\")/100","v":1.5037593984962405E-3},{"$f":"RANK($K496,$K$2:K$506)+COUNTIF($K$2:K496,K496)-1","v":{"$error":"#VALUE!"}},"S.US.WY",495,"",{"$f":"RTD(\"cqg.rtd\", ,\"ContractData\",O496, \"PerCentNetLastTrade\",, \"T\")/100","v":{"$error":"#VALUE!"}},{"$error":"#N/A"},null,495,""]
[{"$f":"Symbols!A497","v":"S.US.WYNN"},{"$f":"IFERROR(RTD(\"cqg.rtd\",,\"StudyData\",A497,\"Bar\",, \"High\",$C$1,\"0\",,,,,\"T\"),\"\")","v":73.77},{"$f":"IFERROR(RTD(\"cqg.rtd\",,\"StudyData\",A497,\"Bar\",, \"Low\",$C$1,\"0\",,,,,\"T\"),\"\")","v":72.25},{"$f":"IFERROR(RTD(\"cqg.rtd\",,\"StudyData\",\"HiLevel(\"&A497&\",Period1:=\"&$B$1&\",AllowGaps:=0,InputChoice1:=High,InputChoice3:=High)\",\"Bar\",, \"Close\",$C$1,\"-1\",,,,,\"T\"),\"\")","v":136.83000000000001},{"$f":"IFERROR(RTD(\"cqg.rtd\",,\"StudyData\",\"LoLevel(\"&A497&\",Period2:=\"&$B$1&\",AllowGaps:=0,InputChoice2:=Low,InputChoice4:=Low)\",\"Bar\",, \"Close\",$C$1,\"-1\",,,,,\"T\"),\"\")","v":66.33},0,0,22.007000000000009,21.014000000000017,"S.US.WYNN",{"$f":"RTD(\"cqg.rtd\", ,\"ContractData\",A497, \"PerCentNetLastTrade\",, \"T\")/100","v":-2.1900770582668653E-2},{"$f":"RANK($K497,$K$2:K$506)+COUNTIF($K$2:K497,K497)-1","v":{"$error":"#VALUE!"}},"S.US.WYNN",496,"",{"$f":"RTD(\"cqg.rtd\", ,\"ContractData\",O497, \"PerCentNetLastTrade\",, \"T\")/100","v":{"$error":"#VALUE!"}},{"$error":"#N/A"},null,496,""]
[{"$f":"Symbols!A498","v":"S.US.XEL"},{"$f":"IFERROR(RTD(\"cqg.rtd\",,\"StudyData\",A498,\"Bar\",, \"High\",$C$1,\"0\",,,,,\"T\"),\"\")","v":74.8},{"$f":"IFERROR(RTD(\"cqg.rtd\",,\"StudyData\",A498,\"Bar\",, \"Low\",$C$1,\"0\",,,,,\"T\"),\"\")","v":74.430000000000007},{"$f":"IFERROR(RTD(\"cqg.rtd\",,\"StudyData\",\"HiLevel(\"&A498&\",Period1:=\"&$B$1&\",AllowGaps:=0,InputChoice1:=High,InputChoice3:=High)\",\"Bar\",, \"Close\",$C$1,\"-1\",,,,,\"T\"),\"\")","v":75.52},{"$f":"IFERROR(RTD(\"cqg.rtd\",,\"StudyData\",\"LoLevel(\"&A498&\",Period2:=\"&$B$1&\",AllowGaps:=0,InputChoice2:=Low,InputChoice4:=Low)\",\"Bar\",, \"Close\",$C$1,\"-1\",,,,,\"T\"),\"\")","v":61.15},0,0,22.00800000000001,21.015000000000018,"S.US.XEL",{"$f":"RTD(\"cqg.rtd\", ,\"ContractData\",A498, \"PerCentNetLastTrade\",, \"T\")/100","v":2.555824589722895E-3},{"$f":"RANK($K498,$K$2:K$506)+COUNTIF($K$2:K498,K498)-1","v":{"$error":"#VALUE!"}},"S.US.XEL",497,"",{"$f":"RTD(\"cqg.rtd\", ,\"ContractData\",O498, \"PerCentNetLastTrade\",, \"T\")/100","v":{"$error":"#VALUE!"}},{"$error":"#N/A"},null,497,""]
[{"$f":"Symbols!A499","v":"S.US.XOM"},{"$f":"IFERROR(RTD(\"cqg.rtd\",,\"StudyData\",A499,\"Bar\",, \"High\",$C$1,\"0\",,,,,\"T\"),\"\")","v":88.89},{"$f":"IFERROR(RTD(\"cqg.rtd\",,\"StudyData\",A499,\"Bar\",, \"Low\",$C$1,\"0\",,,,,\"T\"),\"\")","v":87.88},{"$f":"IFERROR(RTD(\"cqg.rtd\",,\"StudyData\",\"HiLevel(\"&A499&\",Period1:=\"&$B$1&\",AllowGaps:=0,InputChoice1:=High,InputChoice3:=High)\",\"Bar\",, \"Close\",$C$1,\"-1\",,,,,\"T\"),\"\")","v":91.5},{"$f":"IFERROR(RTD(\"cqg.rtd\",,\"StudyData\",\"LoLevel(\"&A499&\",Period2:=\"&$B$1&\",AllowGaps:=0,InputChoice2:=Low,InputChoice4:=Low)\",\"Bar\",, \"Close\",$C$1,\"-1\",,,,,\"T\"),\"\")","v":52.1},0,0,22.009000000000011,21.01600000000002,"S.US.XOM",{"$f":"RTD(\"cqg.rtd\", ,\"ContractData\",A499, \"PerCentNetLastTrade\",, \"T\")/100","v":9.6777866332688148E-3},{"$f":"RANK($K499,$K$2:K$506)+COUNTIF($K$2:K499,K499)-1","v":{"$error":"#VALUE!"}},"S.US.XOM",498,"",{"$f":"RTD(\"cqg.rtd\", ,\"ContractData\",O499, \"PerCentNetLastTrade\",, \"T\")/100","v":{"$error":"#VALUE!"}},{"$error":"#N/A"},null,498,""]
[{"$f":"Symbols!A500","v":"S.US.XRAY"},{"$f":"IFERROR(RTD(\"cqg.rtd\",,\"StudyData\",A500,\"Bar\",, \"High\",$C$1,\"0\",,,,,\"T\"),\"\")","v":49.38},{"$f":"IFERROR(RTD(\"cqg.rtd\",,\"StudyData\",A500,\"Bar\",, \"Low\",$C$1,\"0\",,,,,\"T\"),\"\")","v":48.98},{"$f":"IFERROR(RTD(\"cqg.rtd\",,\"StudyData\",\"HiLevel(\"&A500&\",Period1:=\"&$B$1&\",AllowGaps:=0,InputChoice1:=High,InputChoice3:=High)\",\"Bar\",, \"Close\",$C$1,\"-1\",,,,,\"T\"),\"\")","v":69.540000000000006},{"$f":"IFERROR(RTD(\"cqg.rtd\",,\"StudyData\",\"LoLevel(\"&A500&\",Period2:=\"&$B$1&\",AllowGaps:=0,InputChoice2:=Low,InputChoice4:=Low)\",\"Bar\",, \"Close\",$C$1,\"-1\",,,,,\"T\"),\"\")","v":47.06},0,0,22.010000000000012,21.017000000000021,"S.US.XRAY",{"$f":"RTD(\"cqg.rtd\", ,\"ContractData\",A500, \"PerCentNetLastTrade\",, \"T\")/100","v":3.2606480538006927E-3},{"$f":"RANK($K500,$K$2:K$506)+COUNTIF($K$2:K500,K500)-1","v":{"$error":"#VALUE!"}},"S.US.XRAY",499,"",{"$f":"RTD(\"cqg.rtd\", ,\"ContractData\",O500, \"PerCentNetLastTrade\",, \"T\")/100","v":{"$error":"#VALUE!"}},{"$error":"#N/A"},null,499,""]
[{"$f":"Symbols!A501","v":"S.US.XYL"},{"$f":"IFERROR(RTD(\"cqg.rtd\",,\"StudyData\",A501,\"Bar\",, \"High\",$C$1,\"0\",,,,,\"T\"),\"\")","v":84.32},{"$f":"IFERROR(RTD(\"cqg.rtd\",,\"StudyData\",A501,\"Bar\",, \"Low\",$C$1,\"0\",,,,,\"T\"),\"\")","v":83.28},{"$f":"IFERROR(RTD(\"cqg.rtd\",,\"StudyData\",\"HiLevel(\"&A501&\",Period1:=\"&$B$1&\",AllowGaps:=0,InputChoice1:=High,InputChoice3:=High)\",\"Bar\",, \"Close\",$C$1,\"-1\",,,,,\"T\"),\"\")","v":138.78},{"$f":"IFERROR(RTD(\"cqg.rtd\",,\"StudyData\",\"LoLevel(\"&A501&\",Period2:=\"&$B$1&\",AllowGaps:=0,InputChoice2:=Low,InputChoice4:=Low)\",\"Bar\",, \"Close\",$C$1,\"-1\",,,,,\"T\"),\"\")","v":82.03},0,0,22.011000000000013,21.018000000000022,"S.US.XYL",{"$f":"RTD(\"cqg.rtd\", ,\"ContractData\",A501, \"PerCentNetLastTrade\",, \"T\")/100","v":-6.0613263608271925E-3},{"$f":"RANK($K501,$K$2:K$506)+COUNTIF($K$2:K501,K501)-1","v":{"$error":"#VALUE!"}},"S.US.XYL",500,"",{"$f":"RTD(\"cqg.rtd\", ,\"ContractData\",O501, \"PerCentNetLastTrade\",, \"T\")/100","v":{"$error":"#VALUE!"}},{"$error":"#N/A"},null,500,""]
[{"$f":"Symbols!A502","v":"S.US.YUM"},{"$f":"IFERROR(RTD(\"cqg.rtd\",,\"StudyData\",A502,\"Bar\",, \"High\",$C$1,\"0\",,,,,\"T\"),\"\")","v":123.68},{"$f":"IFERROR(RTD(\"cqg.rtd\",,\"StudyData\",A502,\"Bar\",, \"Low\",$C$1,\"0\",,,,,\"T\"),\"\")","v":122.22},{"$f":"IFERROR(RTD(\"cqg.rtd\",,\"StudyData\",\"HiLevel(\"&A502&\",Period1:=\"&$B$1&\",AllowGaps:=0,InputChoice1:=High,InputChoice3:=High)\",\"Bar\",, \"Close\",$C$1,\"-1\",,,,,\"T\"),\"\")","v":139.85},{"$f":"IFERROR(RTD(\"cqg.rtd\",,\"StudyData\",\"LoLevel(\"&A502&\",Period2:=\"&$B$1&\",AllowGaps:=0,InputChoice2:=Low,InputChoice4:=Low)\",\"Bar\",, \"Close\",$C$1,\"-1\",,,,,\"T\"),\"\")","v":111.63},0,0,22.012000000000015,21.019000000000023,"S.US.YUM",{"$f":"RTD(\"cqg.rtd\", ,\"ContractData\",A502, \"PerCentNetLastTrade\",, \"T\")/100","v":2.8462226559323412E-3},{"$f":"RANK($K502,$K$2:K$506)+COUNTIF($K$2:K502,K502)-1","v":{"$error":"#VALUE!"}},"S.US.YUM",501,"",{"$f":"RTD(\"cqg.rtd\", ,\"ContractData\",O502, \"PerCentNetLastTrade\",, \"T\")/100","v":{"$error":"#VALUE!"}},{"$error":"#N/A"},null,501,""]
[{"$f":"Symbols!A503","v":"S.US.ZBH"},{"$f":"IFERROR(RTD(\"cqg.rtd\",,\"StudyData\",A503,\"Bar\",, \"High\",$C$1,\"0\",,,,,\"T\"),\"\")","v":127.18},{"$f":"IFERROR(RTD(\"cqg.rtd\",,\"StudyData\",A503,\"Bar\",, \"Low\",$C$1,\"0\",,,,,\"T\"),\"\")","v":125.01},{"$f":"IFERROR(RTD(\"cqg.rtd\",,\"StudyData\",\"HiLevel(\"&A503&\",Period1:=\"&$B$1&\",AllowGaps:=0,InputChoice1:=High,InputChoice3:=High)\",\"Bar\",, \"Close\",$C$1,\"-1\",,,,,\"T\"),\"\")","v":180.36},{"$f":"IFERROR(RTD(\"cqg.rtd\",,\"StudyData\",\"LoLevel(\"&A503&\",Period2:=\"&$B$1&\",AllowGaps:=0,InputChoice2:=Low,InputChoice4:=Low)\",\"Bar\",, \"Close\",$C$1,\"-1\",,,,,\"T\"),\"\")","v":108.47},0,0,22.013000000000016,21.020000000000024,"S.US.ZBH",{"$f":"RTD(\"cqg.rtd\", ,\"ContractData\",A503, \"PerCentNetLastTrade\",, \"T\")/100","v":4.2063492063492067E-3},{"$f":"RANK($K503,$K$2:K$506)+COUNTIF($K$2:K503,K503)-1","v":{"$error":"#VALUE!"}},"S.US.ZBH",502,"",{"$f":"RTD(\"cqg.rtd\", ,\"ContractData\",O503, \"PerCentNetLastTrade\",, \"T\")/100","v":{"$error":"#VALUE!"}},{"$error":"#N/A"},null,502,""]
[{"$f":"Symbols!A504","v":"S.US.ZBRA"},{"$f":"IFERROR(RTD(\"cqg.rtd\",,\"StudyData\",A504,\"Bar\",, \"High\",$C$1,\"0\",,,,,\"T\"),\"\")","v":395.01},{"$f":"IFERROR(RTD(\"cqg.rtd\",,\"StudyData\",A504,\"Bar\",, \"Low\",$C$1,\"0\",,,,,\"T\"),\"\")","v":390.38},{"$f":"IFERROR(RTD(\"cqg.rtd\",,\"StudyData\",\"HiLevel(\"&A504&\",Period1:=\"&$B$1&\",AllowGaps:=0,InputChoice1:=High,InputChoice3:=High)\",\"Bar\",, \"Close\",$C$1,\"-1\",,,,,\"T\"),\"\")","v":615},{"$f":"IFERROR(RTD(\"cqg.rtd\",,\"StudyData\",\"LoLevel(\"&A504&\",Period2:=\"&$B$1&\",AllowGaps:=0,InputChoice2:=Low,InputChoice4:=Low)\",\"Bar\",, \"Close\",$C$1,\"-1\",,,,,\"T\"),\"\")","v":375.63},0,0,22.014000000000017,21.021000000000026,"S.US.ZBRA",{"$f":"RTD(\"cqg.rtd\", ,\"ContractData\",A504, \"PerCentNetLastTrade\",, \"T\")/100","v":-4.1150172729120102E-3},{"$f":"RANK($K504,$K$2:K$506)+COUNTIF($K$2:K504,K504)-1","v":{"$error":"#VALUE!"}},"S.US.ZBRA",503,"",{"$f":"RTD(\"cqg.rtd\", ,\"ContractData\",O504, \"PerCentNetLastTrade\",, \"T\")/100","v":{"$error":"#VALUE!"}},{"$error":"#N/A"},null,503,""]
[{"$f":"Symbols!A505","v":"S.US.ZION"},{"$f":"IFERROR(RTD(\"cqg.rtd\",,\"StudyData\",A505,\"Bar\",, \"High\",$C$1,\"0\",,,,,\"T\"),\"\")","v":63.82},{"$f":"IFERROR(RTD(\"cqg.rtd\",,\"StudyData\",A505,\"Bar\",, \"Low\",$C$1,\"0\",,,,,\"T\"),\"\")","v":62.87},{"$f":"IFERROR(RTD(\"cqg.rtd\",,\"StudyData\",\"HiLevel(\"&A505&\",Period1:=\"&$B$1&\",AllowGaps:=0,InputChoice1:=High,InputChoice3:=High)\",\"Bar\",, \"Close\",$C$1,\"-1\",,,,,\"T\"),\"\")","v":75.44},{"$f":"IFERROR(RTD(\"cqg.rtd\",,\"StudyData\",\"LoLevel(\"&A505&\",Period2:=\"&$B$1&\",AllowGaps:=0,InputChoice2:=Low,InputChoice4:=Low)\",\"Bar\",, \"Close\",$C$1,\"-1\",,,,,\"T\"),\"\")","v":47.06},0,0,22.015000000000018,21.022000000000027,"S.US.ZION",{"$f":"RTD(\"cqg.rtd\", ,\"ContractData\",A505, \"PerCentNetLastTrade\",, \"T\")/100","v":1.4462809917355372E-2},{"$f":"RANK($K505,$K$2:K$506)+COUNTIF($K$2:K505,K505)-1","v":{"$error":"#VALUE!"}},"S.US.ZION",504,"",{"$f":"RTD(\"cqg.rtd\", ,\"ContractData\",O505, \"PerCentNetLastTrade\",, \"T\")/100","v":{"$error":"#VALUE!"}},{"$error":"#N/A"},null,504,""]
[{"$f":"Symbols!A506","v":"S.US.ZTS"},{"$f":"IFERROR(RTD(\"cqg.rtd\",,\"StudyData\",A506,\"Bar\",, \"High\",$C$1,\"0\",,,,,\"T\"),\"\")","v":187.22},{"$f":"IFERROR(RTD(\"cqg.rtd\",,\"StudyData\",A506,\"Bar\",, \"Low\",$C$1,\"0\",,,,,\"T\"),\"\")","v":186.07},{"$f":"IFERROR(RTD(\"cqg.rtd\",,\"StudyData\",\"HiLevel(\"&A506&\",Period1:=\"&$B$1&\",AllowGaps:=0,InputChoice1:=High,InputChoice3:=High)\",\"Bar\",, \"Close\",$C$1,\"-1\",,,,,\"T\"),\"\")","v":249.27},{"$f":"IFERROR(RTD(\"cqg.rtd\",,\"StudyData\",\"LoLevel(\"&A506&\",Period2:=\"&$B$1&\",AllowGaps:=0,InputChoice2:=Low,InputChoice4:=Low)\",\"Bar\",, \"Close\",$C$1,\"-1\",,,,,\"T\"),\"\")","v":165.27},0,0,22.01600000000002,21.023000000000028,"S.US.ZTS",{"$f":"RTD(\"cqg.rtd\", ,\"ContractData\",A506, \"PerCentNetLastTrade\",, \"T\")/100","v":-6.2466631073144685E-3},{"$f":"RANK($K506,$K$2:K$506)+COUNTIF($K$2:K506,K506)-1","v":{"$error":"#VALUE!"}},"S.US.ZTS",505,"",{"$f":"RTD(\"cqg.rtd\", ,\"ContractData\",O506, \"PerCentNetLastTrade\",, \"T\")/100","v":{"$error":"#VALUE!"}},{"$error":"#N/A"},null,505,""]
[null,null,null,null,null,null,null,null,null,null,null,null,null,null,null,null,null,null,null,{"$f":"IFERROR(VLOOKUP(S506,$H$2:$J$506,3,FALSE),\"\")","v":""}]

{"sheet":"Ranked","index":2,"n_rows":508,"n_cols":22,"rows_kept":508,"cut":false,"hidden":false,"merged":[]}
[]
[1,{"$f":"IFERROR(VLOOKUP(A2,Data!$H$2:$J$507,3,FALSE),\"\")","v":"S.US.AIZ"},{"$f":"IFERROR(RTD(\"cqg.rtd\", ,\"ContractData\",B2, \"PerCentNetLastTrade\",, \"T\")/100,\"\")","v":4.4374009508716325E-3},{"$f":"IFERROR(RANK($C2,$C$2:C$507)+COUNTIF($C$2:C2,C2)-1,\"\")","v":19},{"$f":"IF(B2=\"\",\"\",B2)","v":"S.US.AIZ"},1,{"$f":"IFERROR(VLOOKUP(F2,$D$2:$E$507,2,FALSE),\"\")","v":"S.US.CTRA"},{"$f":"IF(G2=\"\",\"\",RTD(\"cqg.rtd\", ,\"ContractData\",G2, \"LongDescription\",, \"T\"))","v":"Cottera Energy, Inc"},{"$f":"IFERROR(RTD(\"cqg.rtd\", ,\"ContractData\",G2, \"PerCentNetLastTrade\",, \"T\")/100,\"\")","v":3.3990482664853841E-2},{"$f":"IF(I2<>\"\",1,0)","v":1},1,{"$f":"IFERROR(VLOOKUP(A2,Data!$I$2:$J$507,2,FALSE),\"\")","v":"S.US.AMAT"},{"$f":"IFERROR(RTD(\"cqg.rtd\", ,\"ContractData\",L2, \"PerCentNetLastTrade\",, \"T\")/100,\"\")","v":3.6167960479887083E-3},{"$f":"IFERROR(RANK($M2,$M$2:M$507)+COUNTIF($M$2:M2,M2)-1,\"\")","v":6},{"$f":"IF(L2=\"\",\"\",L2)","v":"S.US.AMAT"},1,{"$f":"IFERROR(VLOOKUP(P2,$N$2:$O$507,2,FALSE),\"\")","v":"S.US.CEG"},{"$f":"IF(Q2=\"\",\"\",RTD(\"cqg.rtd\", ,\"ContractData\",Q2, \"LongDescription\",, \"T\"))","v":"Constellation Energy Corporation"},{"$f":"IFERROR(RTD(\"cqg.rtd\", ,\"ContractData\",Q2, \"PerCentNetLastTrade\",, \"T\")/100,\"\")","v":1.4388489208633093E-2},{"$f":"IF(S2<>\"\",1,0)","v":1},{"$f":"COUNTIF(J2:J508,\"1\")","v":20},{"$f":"COUNTIF(T2:T508,\"1\")","v":21}]
[{"$f":"A2+1","v":2},{"$f":"IFERROR(VLOOKUP(A3,Data!$H$2:$J$507,3,FALSE),\"\")","v":"S.US.APA"},{"$f":"IFERROR(RTD(\"cqg.rtd\", ,\"ContractData\",B3, \"PerCentNetLastTrade\",, \"T\")/100,\"\")","v":2.4496336996337E-2},{"$f":"IFERROR(RANK($C3,$C$2:C$507)+COUNTIF($C$2:C3,C3)-1,\"\")","v":3},{"$f":"IF(B3=\"\",\"\",B3)","v":"S.US.APA"},{"$f":"F2+1","v":2},{"$f":"IFERROR(VLOOKUP(F3,$D$2:$E$507,2,FALSE),\"\")","v":"S.US.HAL"},{"$f":"IF(G3=\"\",\"\",RTD(\"cqg.rtd\", ,\"ContractData\",G3, \"LongDescription\",, \"T\"))","v":"Halliburton Company"},{"$f":"IFERROR(RTD(\"cqg.rtd\", ,\"ContractData\",G3, \"PerCentNetLastTrade\",, \"T\")/100,\"\")","v":2.649656526005888E-2},{"$f":"IF(I3<>\"\",1,0)","v":1},{"$f":"K2+1","v":2},{"$f":"IFERROR(VLOOKUP(A3,Data!$I$2:$J$507,2,FALSE),\"\")","v":"S.US.BEN"},{"$f":"IFERROR(RTD(\"cqg.rtd\", ,\"ContractData\",L3, \"PerCentNetLastTrade\",, \"T\")/100,\"\")","v":1.5643332029722332E-3},{"$f":"IFERROR(RANK($M3,$M$2:M$507)+COUNTIF($M$2:M3,M3)-1,\"\")","v":9},{"$f":"IF(L3=\"\",\"\",L3)","v":"S.US.BEN"},{"$f":"P2+1","v":2},{"$f":"IFERROR(VLOOKUP(P3,$N$2:$O$507,2,FALSE),\"\")","v":"S.US.ITW"},{"$f":"IF(Q3=\"\",\"\",RTD(\"cqg.rtd\", ,\"ContractData\",Q3, \"LongDescription\",, \"T\"))","v":"Illinois Tools Works Inc"},{"$f":"IFERROR(RTD(\"cqg.rtd\", ,\"ContractData\",Q3, \"PerCentNetLastTrade\",, \"T\")/100,\"\")","v":8.1010852397207928E-3},{"$f":"IF(S3<>\"\",1,0)","v":1}]
[{"$f":"A3+1","v":3},{"$f":"IFERROR(VLOOKUP(A4,Data!$H$2:$J$507,3,FALSE),\"\")","v":"S.US.BF.B"},{"$f":"IFERROR(RTD(\"cqg.rtd\", ,\"ContractData\",B4, \"PerCentNetLastTrade\",, \"T\")/100,\"\")","v":""},{"$f":"IFERROR(RANK($C4,$C$2:C$507)+COUNTIF($C$2:C4,C4)-1,\"\")","v":""},"S.US.BF.B",{"$f":"F3+1","v":3},"S.US.APA",{"$f":"IF(G4=\"\",\"\",RTD(\"cqg.rtd\", ,\"ContractData\",G4, \"LongDescription\",, \"T\"))","v":"APA Corporation"},{"$f":"IFERROR(RTD(\"cqg.rtd\", ,\"ContractData\",G4, \"PerCentNetLastTrade\",, \"T\")/100,\"\")","v":2.4496336996337E-2},1,{"$f":"K3+1","v":3},{"$f":"IFERROR(VLOOKUP(A4,Data!$I$2:$J$507,2,FALSE),\"\")","v":"S.US.BK"},{"$f":"IFERROR(RTD(\"cqg.rtd\", ,\"ContractData\",L4, \"PerCentNetLastTrade\",, \"T\")/100,\"\")","v":-2.2414886868259674E-2},{"$f":"IFERROR(RANK($M4,$M$2:M$507)+COUNTIF($M$2:M4,M4)-1,\"\")","v":19},"S.US.BK",{"$f":"P3+1","v":3},"S.US.TEL",{"$f":"IF(Q4=\"\",\"\",RTD(\"cqg.rtd\", ,\"ContractData\",Q4, \"LongDescription\",, \"T\"))","v":"TE Connectivity Ltd."},{"$f":"IFERROR(RTD(\"cqg.rtd\", ,\"ContractData\",Q4, \"PerCentNetLastTrade\",, \"T\")/100,\"\")","v":8.0244870946393123E-3},1]
[4,{"$f":"IFERROR(VLOOKUP(A5,Data!$H$2:$J$507,3,FALSE),\"\")","v":"S.US.BRK.B"},{"$f":"IFERROR(RTD(\"cqg.rtd\", ,\"ContractData\",B5, \"PerCentNetLastTrade\",, \"T\")/100,\"\")","v":""},{"$f":"IFERROR(RANK($C5,$C$2:C$507)+COUNTIF($C$2:C5,C5)-1,\"\")","v":""},"S.US.BRK.B",4,"S.US.MPC",{"$f":"IF(G5=\"\",\"\",RTD(\"cqg.rtd\", ,\"ContractData\",G5, \"LongDescription\",, \"T\"))","v":"Marathon Petroleum Corporation"},{"$f":"IFERROR(RTD(\"cqg.rtd\", ,\"ContractData\",G5, \"PerCentNetLastTrade\",, \"T\")/100,\"\")","v":2.4426605504587154E-2},1,4,{"$f":"IFERROR(VLOOKUP(A5,Data!$I$2:$J$507,2,FALSE),\"\")","v":"S.US.CARR"},{"$f":"IFERROR(RTD(\"cqg.rtd\", ,\"ContractData\",L5, \"PerCentNetLastTrade\",, \"T\")/100,\"\")","v":6.7829457364341084E-3},{"$f":"IFERROR(RANK($M5,$M$2:M$507)+COUNTIF($M$2:M5,M5)-1,\"\")","v":4},"S.US.CARR",4,"S.US.CARR",{"$f":"IF(Q5=\"\",\"\",RTD(\"cqg.rtd\", ,\"ContractData\",Q5, \"LongDescription\",, \"T\"))","v":"Carrier Global Corporation"},{"$f":"IFERROR(RTD(\"cqg.rtd\", ,\"ContractData\",Q5, \"PerCentNetLastTrade\",, \"T\")/100,\"\")","v":6.7829457364341084E-3},1]
[5,{"$f":"IFERROR(VLOOKUP(A6,Data!$H$2:$J$507,3,FALSE),\"\")","v":"S.US.CTRA"},{"$f":"IFERROR(RTD(\"cqg.rtd\", ,\"ContractData\",B6, \"PerCentNetLastTrade\",, \"T\")/100,\"\")","v":3.3990482664853841E-2},{"$f":"IFERROR(RANK($C6,$C$2:C$507)+COUNTIF($C$2:C6,C6)-1,\"\")","v":1},"S.US.CTRA",5,"S.US.VLO",{"$f":"IF(G6=\"\",\"\",RTD(\"cqg.rtd\", ,\"ContractData\",G6, \"LongDescription\",, \"T\"))","v":"Valero Energy Corp New"},{"$f":"IFERROR(RTD(\"cqg.rtd\", ,\"ContractData\",G6, \"PerCentNetLastTrade\",, \"T\")/100,\"\")","v":2.2506198741178714E-2},1,5,{"$f":"IFERROR(VLOOKUP(A6,Data!$I$2:$J$507,2,FALSE),\"\")","v":"S.US.CEG"},{"$f":"IFERROR(RTD(\"cqg.rtd\", ,\"ContractData\",L6, \"PerCentNetLastTrade\",, \"T\")/100,\"\")","v":1.4388489208633093E-2},{"$f":"IFERROR(RANK($M6,$M$2:M$507)+COUNTIF($M$2:M6,M6)-1,\"\")","v":1},"S.US.CEG",5,"S.US.MAS",{"$f":"IF(Q6=\"\",\"\",RTD(\"cqg.rtd\", ,\"ContractData\",Q6, \"LongDescription\",, \"T\"))","v":"Masco Corporation"},{"$f":"IFERROR(RTD(\"cqg.rtd\", ,\"ContractData\",Q6, \"PerCentNetLastTrade\",, \"T\")/100,\"\")","v":3.8469325774448272E-3},1]
[6,{"$f":"IFERROR(VLOOKUP(A7,Data!$H$2:$J$507,3,FALSE),\"\")","v":"S.US.DE"},{"$f":"IFERROR(RTD(\"cqg.rtd\", ,\"ContractData\",B7, \"PerCentNetLastTrade\",, \"T\")/100,\"\")","v":1.7080709788208356E-2},{"$f":"IFERROR(RANK($C7,$C$2:C$507)+COUNTIF($C$2:C7,C7)-1,\"\")","v":9},"S.US.DE",6,"S.US.MRO",{"$f":"IF(G7=\"\",\"\",RTD(\"cqg.rtd\", ,\"ContractData\",G7, \"LongDescription\",, \"T\"))","v":"Marathon Oil Corporation"},{"$f":"IFERROR(RTD(\"cqg.rtd\", ,\"ContractData\",G7, \"PerCentNetLastTrade\",, \"T\")/100,\"\")","v":2.2172115745960164E-2},1,6,{"$f":"IFERROR(VLOOKUP(A7,Data!$I$2:$J$507,2,FALSE),\"\")","v":"S.US.EMBC"},{"$f":"IFERROR(RTD(\"cqg.rtd\", ,\"ContractData\",L7, \"PerCentNetLastTrade\",, \"T\")/100,\"\")","v":-2.6195552848004872E-2},{"$f":"IFERROR(RANK($M7,$M$2:M$507)+COUNTIF($M$2:M7,M7)-1,\"\")","v":21},"S.US.EMBC",6,"S.US.AMAT",{"$f":"IF(Q7=\"\",\"\",RTD(\"cqg.rtd\", ,\"ContractData\",Q7, \"LongDescription\",, \"T\"))","v":"Applied Materials Inc"},{"$f":"IFERROR(RTD(\"cqg.rtd\", ,\"ContractData\",Q7, \"PerCentNetLastTrade\",, \"T\")/100,\"\")","v":3.6167960479887083E-3},1]
[7,{"$f":"IFERROR(VLOOKUP(A8,Data!$H$2:$J$507,3,FALSE),\"\")","v":"S.US.ETR"},{"$f":"IFERROR(RTD(\"cqg.rtd\", ,\"ContractData\",B8, \"PerCentNetLastTrade\",, \"T\")/100,\"\")","v":3.8647342995169081E-3},{"$f":"IFERROR(RANK($C8,$C$2:C$507)+COUNTIF($C$2:C8,C8)-1,\"\")","v":20},"S.US.ETR",7,"S.US.OKE",{"$f":"IF(G8=\"\",\"\",RTD(\"cqg.rtd\", ,\"ContractData\",G8, \"LongDescription\",, \"T\"))","v":"ONEOK Inc New"},{"$f":"IFERROR(RTD(\"cqg.rtd\", ,\"ContractData\",G8, \"PerCentNetLastTrade\",, \"T\")/100,\"\")","v":1.82328190743338E-2},1,7,{"$f":"IFERROR(VLOOKUP(A8,Data!$I$2:$J$507,2,FALSE),\"\")","v":"S.US.FBHS"},{"$f":"IFERROR(RTD(\"cqg.rtd\", ,\"ContractData\",L8, \"PerCentNetLastTrade\",, \"T\")/100,\"\")","v":1.7231476163124639E-3},{"$f":"IFERROR(RANK($M8,$M$2:M$507)+COUNTIF($M$2:M8,M8)-1,\"\")","v":8},"S.US.FBHS",7,"S.US.SWKS",{"$f":"IF(Q8=\"\",\"\",RTD(\"cqg.rtd\", ,\"ContractData\",Q8, \"LongDescription\",, \"T\"))","v":"Skyworks Solutions Inc"},{"$f":"IFERROR(RTD(\"cqg.rtd\", ,\"ContractData\",Q8, \"PerCentNetLastTrade\",, \"T\")/100,\"\")","v":2.2933831648687675E-3},1]
[8,{"$f":"IFERROR(VLOOKUP(A9,Data!$H$2:$J$507,3,FALSE),\"\")","v":"S.US.GIS"},{"$f":"IFERROR(RTD(\"cqg.rtd\", ,\"ContractData\",B9, \"PerCentNetLastTrade\",, \"T\")/100,\"\")","v":4.6531302876480539E-3},{"$f":"IFERROR(RANK($C9,$C$2:C$507)+COUNTIF($C$2:C9,C9)-1,\"\")","v":18},"S.US.GIS",8,"S.US.HES",{"$f":"IF(G9=\"\",\"\",RTD(\"cqg.rtd\", ,\"ContractData\",G9, \"LongDescription\",, \"T\"))","v":"Hess Corporation"},{"$f":"IFERROR(RTD(\"cqg.rtd\", ,\"ContractData\",G9, \"PerCentNetLastTrade\",, \"T\")/100,\"\")","v":1.7259414225941423E-2},1,8,{"$f":"IFERROR(VLOOKUP(A9,Data!$I$2:$J$507,2,FALSE),\"\")","v":"S.US.GNRC"},{"$f":"IFERROR(RTD(\"cqg.rtd\", ,\"ContractData\",L9, \"PerCentNetLastTrade\",, \"T\")/100,\"\")","v":-1.2818981647358573E-2},{"$f":"IFERROR(RANK($M9,$M$2:M$507)+COUNTIF($M$2:M9,M9)-1,\"\")","v":16},"S.US.GNRC",8,"S.US.FBHS",{"$f":"IF(Q9=\"\",\"\",RTD(\"cqg.rtd\", ,\"ContractData\",Q9, \"LongDescription\",, \"T\"))","v":"Fortune Brands Home & Security, Inc."},{"$f":"IFERROR(RTD(\"cqg.rtd\", ,\"ContractData\",Q9, \"PerCentNetLastTrade\",, \"T\")/100,\"\")","v":1.7231476163124639E-3},1]
[9,{"$f":"IFERROR(VLOOKUP(A10,Data!$H$2:$J$507,3,FALSE),\"\")","v":"S.US.HAL"},{"$f":"IFERROR(RTD(\"cqg.rtd\", ,\"ContractData\",B10, \"PerCentNetLastTrade\",, \"T\")/100,\"\")","v":2.649656526005888E-2},{"$f":"IFERROR(RANK($C10,$C$2:C$507)+COUNTIF($C$2:C10,C10)-1,\"\")","v":2},"S.US.HAL",9,"S.US.DE",{"$f":"IF(G10=\"\",\"\",RTD(\"cqg.rtd\", ,\"ContractData\",G10, \"LongDescription\",, \"T\"))","v":"Deere & Company"},{"$f":"IFERROR(RTD(\"cqg.rtd\", ,\"ContractData\",G10, \"PerCentNetLastTrade\",, \"T\")/100,\"\")","v":1.7080709788208356E-2},1,9,{"$f":"IFERROR(VLOOKUP(A10,Data!$I$2:$J$507,2,FALSE),\"\")","v":"S.US.IPGP"},{"$f":"IFERROR(RTD(\"cqg.rtd\", ,\"ContractData\",L10, \"PerCentNetLastTrade\",, \"T\")/100,\"\")","v":-1.1306403535820742E-2},{"$f":"IFERROR(RANK($M10,$M$2:M$507)+COUNTIF($M$2:M10,M10)-1,\"\")","v":14},"S.US.IPGP",9,"S.US.BEN",{"$f":"IF(Q10=\"\",\"\",RTD(\"cqg.rtd\", ,\"ContractData\",Q10, \"LongDescription\",, \"T\"))","v":"Franklin Resources Inc"},{"$f":"IFERROR(RTD(\"cqg.rtd\", ,\"ContractData\",Q10, \"PerCentNetLastTrade\",, \"T\")/100,\"\")","v":1.5643332029722332E-3},1]
[10,{"$f":"IFERROR(VLOOKUP(A11,Data!$H$2:$J$507,3,FALSE),\"\")","v":"S.US.HES"},{"$f":"IFERROR(RTD(\"cqg.rtd\", ,\"ContractData\",B11, \"PerCentNetLastTrade\",, \"T\")/100,\"\")","v":1.7259414225941423E-2},{"$f":"IFERROR(RANK($C11,$C$2:C$507)+COUNTIF($C$2:C11,C11)-1,\"\")","v":8},"S.US.HES",10,"S.US.NUE",{"$f":"IF(G11=\"\",\"\",RTD(\"cqg.rtd\", ,\"ContractData\",G11, \"LongDescription\",, \"T\"))","v":"Nucor Corp"},{"$f":"IFERROR(RTD(\"cqg.rtd\", ,\"ContractData\",G11, \"PerCentNetLastTrade\",, \"T\")/100,\"\")","v":1.6452939753205904E-2},1,10,{"$f":"IFERROR(VLOOKUP(A11,Data!$I$2:$J$507,2,FALSE),\"\")","v":"S.US.ITW"},{"$f":"IFERROR(RTD(\"cqg.rtd\", ,\"ContractData\",L11, \"PerCentNetLastTrade\",, \"T\")/100,\"\")","v":8.1010852397207928E-3},{"$f":"IFERROR(RANK($M11,$M$2:M$507)+COUNTIF($M$2:M11,M11)-1,\"\")","v":2},"S.US.ITW",10,"S.US.LRCX",{"$f":"IF(Q11=\"\",\"\",RTD(\"cqg.rtd\", ,\"ContractData\",Q11, \"LongDescription\",, \"T\"))","v":"LAM Research Corporation"},{"$f":"IFERROR(RTD(\"cqg.rtd\", ,\"ContractData\",Q11, \"PerCentNetLastTrade\",, \"T\")/100,\"\")","v":-3.3540862855138548E-3},1]
[11,{"$f":"IFERROR(VLOOKUP(A12,Data!$H$2:$J$507,3,FALSE),\"\")","v":"S.US.MOS"},{"$f":"IFERROR(RTD(\"cqg.rtd\", ,\"ContractData\",B12, \"PerCentNetLastTrade\",, \"T\")/100,\"\")","v":1.3675213675213675E-2},{"$f":"IFERROR(RANK($C12,$C$2:C$507)+COUNTIF($C$2:C12,C12)-1,\"\")","v":11},"S.US.MOS",11,"S.US.MOS",{"$f":"IF(G12=\"\",\"\",RTD(\"cqg.rtd\", ,\"ContractData\",G12, \"LongDescription\",, \"T\"))","v":"Mosaic Company"},{"$f":"IFERROR(RTD(\"cqg.rtd\", ,\"ContractData\",G12, \"PerCentNetLastTrade\",, \"T\")/100,\"\")","v":1.3675213675213675E-2},1,11,{"$f":"IFERROR(VLOOKUP(A12,Data!$I$2:$J$507,2,FALSE),\"\")","v":"S.US.KMX"},{"$f":"IFERROR(RTD(\"cqg.rtd\", ,\"ContractData\",L12, \"PerCentNetLastTrade\",, \"T\")/100,\"\")","v":-8.2797690380215713E-3},{"$f":"IFERROR(RANK($M12,$M$2:M$507)+COUNTIF($M$2:M12,M12)-1,\"\")","v":13},"S.US.KMX",11,"S.US.PNR",{"$f":"IF(Q12=\"\",\"\",RTD(\"cqg.rtd\", ,\"ContractData\",Q12, \"LongDescription\",, \"T\"))","v":"Pentair Ltd."},{"$f":"IFERROR(RTD(\"cqg.rtd\", ,\"ContractData\",Q12, \"PerCentNetLastTrade\",, \"T\")/100,\"\")","v":-5.7219149341979783E-3},1]
[12,{"$f":"IFERROR(VLOOKUP(A13,Data!$H$2:$J$507,3,FALSE),\"\")","v":"S.US.MPC"},{"$f":"IFERROR(RTD(\"cqg.rtd\", ,\"ContractData\",B13, \"PerCentNetLastTrade\",, \"T\")/100,\"\")","v":2.4426605504587154E-2},{"$f":"IFERROR(RANK($C13,$C$2:C$507)+COUNTIF($C$2:C13,C13)-1,\"\")","v":4},"S.US.MPC",12,"S.US.NEM",{"$f":"IF(G13=\"\",\"\",RTD(\"cqg.rtd\", ,\"ContractData\",G13, \"LongDescription\",, \"T\"))","v":"Newmont Goldcorp Corporation"},{"$f":"IFERROR(RTD(\"cqg.rtd\", ,\"ContractData\",G13, \"PerCentNetLastTrade\",, \"T\")/100,\"\")","v":1.0852896071723487E-2},1,12,{"$f":"IFERROR(VLOOKUP(A13,Data!$I$2:$J$507,2,FALSE),\"\")","v":"S.US.LRCX"},{"$f":"IFERROR(RTD(\"cqg.rtd\", ,\"ContractData\",L13, \"PerCentNetLastTrade\",, \"T\")/100,\"\")","v":-3.3540862855138548E-3},{"$f":"IFERROR(RANK($M13,$M$2:M$507)+COUNTIF($M$2:M13,M13)-1,\"\")","v":10},"S.US.LRCX",12,"S.US.OGN",{"$f":"IF(Q13=\"\",\"\",RTD(\"cqg.rtd\", ,\"ContractData\",Q13, \"LongDescription\",, \"T\"))","v":"Organon & Co."},{"$f":"IFERROR(RTD(\"cqg.rtd\", ,\"ContractData\",Q13, \"PerCentNetLastTrade\",, \"T\")/100,\"\")","v":-8.0229226361031511E-3},1]
[13,{"$f":"IFERROR(VLOOKUP(A14,Data!$H$2:$J$507,3,FALSE),\"\")","v":"S.US.MRO"},{"$f":"IFERROR(RTD(\"cqg.rtd\", ,\"ContractData\",B14, \"PerCentNetLastTrade\",, \"T\")/100,\"\")","v":2.2172115745960164E-2},{"$f":"IFERROR(RANK($C14,$C$2:C$507)+COUNTIF($C$2:C14,C14)-1,\"\")","v":6},"S.US.MRO",13,"S.US.RTX",{"$f":"IF(G14=\"\",\"\",RTD(\"cqg.rtd\", ,\"ContractData\",G14, \"LongDescription\",, \"T\"))","v":"Raytheon Technologies Corporation"},{"$f":"IFERROR(RTD(\"cqg.rtd\", ,\"ContractData\",G14, \"PerCentNetLastTrade\",, \"T\")/100,\"\")","v":1.0357725136664428E-2},1,13,{"$f":"IFERROR(VLOOKUP(A14,Data!$I$2:$J$507,2,FALSE),\"\")","v":"S.US.MAS"},{"$f":"IFERROR(RTD(\"cqg.rtd\", ,\"ContractData\",L14, \"PerCentNetLastTrade\",, \"T\")/100,\"\")","v":3.8469325774448272E-3},{"$f":"IFERROR(RANK($M14,$M$2:M$507)+COUNTIF($M$2:M14,M14)-1,\"\")","v":5},"S.US.MAS",13,"S.US.KMX",{"$f":"IF(Q14=\"\",\"\",RTD(\"cqg.rtd\", ,\"ContractData\",Q14, \"LongDescription\",, \"T\"))","v":"Carmax Inc"},{"$f":"IFERROR(RTD(\"cqg.rtd\", ,\"ContractData\",Q14, \"PerCentNetLastTrade\",, \"T\")/100,\"\")","v":-8.2797690380215713E-3},1]
[14,{"$f":"IFERROR(VLOOKUP(A15,Data!$H$2:$J$507,3,FALSE),\"\")","v":"S.US.NEM"},{"$f":"IFERROR(RTD(\"cqg.rtd\", ,\"ContractData\",B15, \"PerCentNetLastTrade\",, \"T\")/100,\"\")","v":1.0852896071723487E-2},{"$f":"IFERROR(RANK($C15,$C$2:C$507)+COUNTIF($C$2:C15,C15)-1,\"\")","v":12},"S.US.NEM",14,"S.US.PEG",{"$f":"IF(G15=\"\",\"\",RTD(\"cqg.rtd\", ,\"ContractData\",G15, \"LongDescription\",, \"T\"))","v":"Pub Svc Entrpr Grp Inc"},{"$f":"IFERROR(RTD(\"cqg.rtd\", ,\"ContractData\",G15, \"PerCentNetLastTrade\",, \"T\")/100,\"\")","v":7.4175824175824181E-3},1,14,{"$f":"IFERROR(VLOOKUP(A15,Data!$I$2:$J$507,2,FALSE),\"\")","v":"S.US.MKTX"},{"$f":"IFERROR(RTD(\"cqg.rtd\", ,\"ContractData\",L15, \"PerCentNetLastTrade\",, \"T\")/100,\"\")","v":-1.8459220192126577E-2},{"$f":"IFERROR(RANK($M15,$M$2:M$507)+COUNTIF($M$2:M15,M15)-1,\"\")","v":18},"S.US.MKTX",14,"S.US.IPGP",{"$f":"IF(Q15=\"\",\"\",RTD(\"cqg.rtd\", ,\"ContractData\",Q15, \"LongDescription\",, \"T\"))","v":"IPG Photonics Corporation"},{"$f":"IFERROR(RTD(\"cqg.rtd\", ,\"ContractData\",Q15, \"PerCentNetLastTrade\",, \"T\")/100,\"\")","v":-1.1306403535820742E-2},1]
[15,{"$f":"IFERROR(VLOOKUP(A16,Data!$H$2:$J$507,3,FALSE),\"\")","v":"S.US.NUE"},{"$f":"IFERROR(RTD(\"cqg.rtd\", ,\"ContractData\",B16, \"PerCentNetLastTrade\",, \"T\")/100,\"\")","v":1.6452939753205904E-2},{"$f":"IFERROR(RANK($C16,$C$2:C$507)+COUNTIF($C$2:C16,C16)-1,\"\")","v":10},"S.US.NUE",15,"S.US.PKG",{"$f":"IF(G16=\"\",\"\",RTD(\"cqg.rtd\", ,\"ContractData\",G16, \"LongDescription\",, \"T\"))","v":"Packaging Corp of America"},{"$f":"IFERROR(RTD(\"cqg.rtd\", ,\"ContractData\",G16, \"PerCentNetLastTrade\",, \"T\")/100,\"\")","v":6.931664826401669E-3},1,15,{"$f":"IFERROR(VLOOKUP(A16,Data!$I$2:$J$507,2,FALSE),\"\")","v":"S.US.OGN"},{"$f":"IFERROR(RTD(\"cqg.rtd\", ,\"ContractData\",L16, \"PerCentNetLastTrade\",, \"T\")/100,\"\")","v":-8.0229226361031511E-3},{"$f":"IFERROR(RANK($M16,$M$2:M$507)+COUNTIF($M$2:M16,M16)-1,\"\")","v":12},"S.US.OGN",15,"S.US.WBD",{"$f":"IF(Q16=\"\",\"\",RTD(\"cqg.rtd\", ,\"ContractData\",Q16, \"LongDescription\",, \"T\"))","v":"Warner Bros. Discovery, Inc. Series A"},{"$f":"IFERROR(RTD(\"cqg.rtd\", ,\"ContractData\",Q16, \"PerCentNetLastTrade\",, \"T\")/100,\"\")","v":-1.2459807073954984E-2},1]
[16,{"$f":"IFERROR(VLOOKUP(A17,Data!$H$2:$J$507,3,FALSE),\"\")","v":"S.US.OKE"},{"$f":"IFERROR(RTD(\"cqg.rtd\", ,\"ContractData\",B17, \"PerCentNetLastTrade\",, \"T\")/100,\"\")","v":1.82328190743338E-2},{"$f":"IFERROR(RANK($C17,$C$2:C$507)+COUNTIF($C$2:C17,C17)-1,\"\")","v":7},"S.US.OKE",16,"S.US.SRE",{"$f":"IF(G17=\"\",\"\",RTD(\"cqg.rtd\", ,\"ContractData\",G17, \"LongDescription\",, \"T\"))","v":"Sempra"},{"$f":"IFERROR(RTD(\"cqg.rtd\", ,\"ContractData\",G17, \"PerCentNetLastTrade\",, \"T\")/100,\"\")","v":6.8905109489051097E-3},1,16,{"$f":"IFERROR(VLOOKUP(A17,Data!$I$2:$J$507,2,FALSE),\"\")","v":"S.US.PNR"},{"$f":"IFERROR(RTD(\"cqg.rtd\", ,\"ContractData\",L17, \"PerCentNetLastTrade\",, \"T\")/100,\"\")","v":-5.7219149341979783E-3},{"$f":"IFERROR(RANK($M17,$M$2:M$507)+COUNTIF($M$2:M17,M17)-1,\"\")","v":11},"S.US.PNR",16,"S.US.GNRC",{"$f":"IF(Q17=\"\",\"\",RTD(\"cqg.rtd\", ,\"ContractData\",Q17, \"LongDescription\",, \"T\"))","v":"Generac Holdings Inc."},{"$f":"IFERROR(RTD(\"cqg.rtd\", ,\"ContractData\",Q17, \"PerCentNetLastTrade\",, \"T\")/100,\"\")","v":-1.2818981647358573E-2},1]
[17,{"$f":"IFERROR(VLOOKUP(A18,Data!$H$2:$J$507,3,FALSE),\"\")","v":"S.US.PEG"},{"$f":"IFERROR(RTD(\"cqg.rtd\", ,\"ContractData\",B18, \"PerCentNetLastTrade\",, \"T\")/100,\"\")","v":7.4175824175824181E-3},{"$f":"IFERROR(RANK($C18,$C$2:C$507)+COUNTIF($C$2:C18,C18)-1,\"\")","v":14},"S.US.PEG",17,"S.US.WMB",{"$f":"IF(G18=\"\",\"\",RTD(\"cqg.rtd\", ,\"ContractData\",G18, \"LongDescription\",, \"T\"))","v":"Williams Companies Inc"},{"$f":"IFERROR(RTD(\"cqg.rtd\", ,\"ContractData\",G18, \"PerCentNetLastTrade\",, \"T\")/100,\"\")","v":6.1936936936936937E-3},1,17,{"$f":"IFERROR(VLOOKUP(A18,Data!$I$2:$J$507,2,FALSE),\"\")","v":"S.US.PTC"},{"$f":"IFERROR(RTD(\"cqg.rtd\", ,\"ContractData\",L18, \"PerCentNetLastTrade\",, \"T\")/100,\"\")","v":-1.7120859082159864E-2},{"$f":"IFERROR(RANK($M18,$M$2:M$507)+COUNTIF($M$2:M18,M18)-1,\"\")","v":17},"S.US.PTC",17,"S.US.PTC",{"$f":"IF(Q18=\"\",\"\",RTD(\"cqg.rtd\", ,\"ContractData\",Q18, \"LongDescription\",, \"T\"))","v":"PTC Inc"},{"$f":"IFERROR(RTD(\"cqg.rtd\", ,\"ContractData\",Q18, \"PerCentNetLastTrade\",, \"T\")/100,\"\")","v":-1.7120859082159864E-2},1]
[18,{"$f":"IFERROR(VLOOKUP(A19,Data!$H$2:$J$507,3,FALSE),\"\")","v":"S.US.PKG"},{"$f":"IFERROR(RTD(\"cqg.rtd\", ,\"ContractData\",B19, \"PerCentNetLastTrade\",, \"T\")/100,\"\")","v":6.931664826401669E-3},{"$f":"IFERROR(RANK($C19,$C$2:C$507)+COUNTIF($C$2:C19,C19)-1,\"\")","v":15},"S.US.PKG",18,"S.US.GIS",{"$f":"IF(G19=\"\",\"\",RTD(\"cqg.rtd\", ,\"ContractData\",G19, \"LongDescription\",, \"T\"))","v":"General Mills Inc"},{"$f":"IFERROR(RTD(\"cqg.rtd\", ,\"ContractData\",G19, \"PerCentNetLastTrade\",, \"T\")/100,\"\")","v":4.6531302876480539E-3},1,18,{"$f":"IFERROR(VLOOKUP(A19,Data!$I$2:$J$507,2,FALSE),\"\")","v":"S.US.STT"},{"$f":"IFERROR(RTD(\"cqg.rtd\", ,\"ContractData\",L19, \"PerCentNetLastTrade\",, \"T\")/100,\"\")","v":-2.6117926394934706E-2},{"$f":"IFERROR(RANK($M19,$M$2:M$507)+COUNTIF($M$2:M19,M19)-1,\"\")","v":20},"S.US.STT",18,"S.US.MKTX",{"$f":"IF(Q19=\"\",\"\",RTD(\"cqg.rtd\", ,\"ContractData\",Q19, \"LongDescription\",, \"T\"))","v":"MarketAxcess Inc"},{"$f":"IFERROR(RTD(\"cqg.rtd\", ,\"ContractData\",Q19, \"PerCentNetLastTrade\",, \"T\")/100,\"\")","v":-1.8459220192126577E-2},1]
[19,{"$f":"IFERROR(VLOOKUP(A20,Data!$H$2:$J$507,3,FALSE),\"\")","v":"S.US.RTX"},{"$f":"IFERROR(RTD(\"cqg.rtd\", ,\"ContractData\",B20, \"PerCentNetLastTrade\",, \"T\")/100,\"\")","v":1.0357725136664428E-2},{"$f":"IFERROR(RANK($C20,$C$2:C$507)+COUNTIF($C$2:C20,C20)-1,\"\")","v":13},"S.US.RTX",19,"S.US.AIZ",{"$f":"IF(G20=\"\",\"\",RTD(\"cqg.rtd\", ,\"ContractData\",G20, \"LongDescription\",, \"T\"))","v":"Assurant Inc"},{"$f":"IFERROR(RTD(\"cqg.rtd\", ,\"ContractData\",G20, \"PerCentNetLastTrade\",, \"T\")/100,\"\")","v":4.4374009508716325E-3},1,19,{"$f":"IFERROR(VLOOKUP(A20,Data!$I$2:$J$507,2,FALSE),\"\")","v":"S.US.SWKS"},{"$f":"IFERROR(RTD(\"cqg.rtd\", ,\"ContractData\",L20, \"PerCentNetLastTrade\",, \"T\")/100,\"\")","v":2.2933831648687675E-3},{"$f":"IFERROR(RANK($M20,$M$2:M$507)+COUNTIF($M$2:M20,M20)-1,\"\")","v":7},"S.US.SWKS",19,"S.US.BK",{"$f":"IF(Q20=\"\",\"\",RTD(\"cqg.rtd\", ,\"ContractData\",Q20, \"LongDescription\",, \"T\"))","v":"Bank of New York Co Inc"},{"$f":"IFERROR(RTD(\"cqg.rtd\", ,\"ContractData\",Q20, \"PerCentNetLastTrade\",, \"T\")/100,\"\")","v":-2.2414886868259674E-2},1]
[20,{"$f":"IFERROR(VLOOKUP(A21,Data!$H$2:$J$507,3,FALSE),\"\")","v":"S.US.SRE"},{"$f":"IFERROR(RTD(\"cqg.rtd\", ,\"ContractData\",B21, \"PerCentNetLastTrade\",, \"T\")/100,\"\")","v":6.8905109489051097E-3},{"$f":"IFERROR(RANK($C21,$C$2:C$507)+COUNTIF($C$2:C21,C21)-1,\"\")","v":16},"S.US.SRE",20,"S.US.ETR",{"$f":"IF(G21=\"\",\"\",RTD(\"cqg.rtd\", ,\"ContractData\",G21, \"LongDescription\",, \"T\"))","v":"Entergy Corporation"},{"$f":"IFERROR(RTD(\"cqg.rtd\", ,\"ContractData\",G21, \"PerCentNetLastTrade\",, \"T\")/100,\"\")","v":3.8647342995169081E-3},1,20,{"$f":"IFERROR(VLOOKUP(A21,Data!$I$2:$J$507,2,FALSE),\"\")","v":"S.US.TEL"},{"$f":"IFERROR(RTD(\"cqg.rtd\", ,\"ContractData\",L21, \"PerCentNetLastTrade\",, \"T\")/100,\"\")","v":8.0244870946393123E-3},{"$f":"IFERROR(RANK($M21,$M$2:M$507)+COUNTIF($M$2:M21,M21)-1,\"\")","v":3},"S.US.TEL",20,"S.US.STT",{"$f":"IF(Q21=\"\",\"\",RTD(\"cqg.rtd\", ,\"ContractData\",Q21, \"LongDescription\",, \"T\"))","v":"State Street Corp"},{"$f":"IFERROR(RTD(\"cqg.rtd\", ,\"ContractData\",Q21, \"PerCentNetLastTrade\",, \"T\")/100,\"\")","v":-2.6117926394934706E-2},1]
[21,{"$f":"IFERROR(VLOOKUP(A22,Data!$H$2:$J$507,3,FALSE),\"\")","v":"S.US.VLO"},{"$f":"IFERROR(RTD(\"cqg.rtd\", ,\"ContractData\",B22, \"PerCentNetLastTrade\",, \"T\")/100,\"\")","v":2.2506198741178714E-2},{"$f":"IFERROR(RANK($C22,$C$2:C$507)+COUNTIF($C$2:C22,C22)-1,\"\")","v":5},"S.US.VLO",21,"",{"$f":"IF(G22=\"\",\"\",RTD(\"cqg.rtd\", ,\"ContractData\",G22, \"LongDescription\",, \"T\"))","v":""},{"$f":"IFERROR(RTD(\"cqg.rtd\", ,\"ContractData\",G22, \"PerCentNetLastTrade\",, \"T\")/100,\"\")","v":""},0,21,{"$f":"IFERROR(VLOOKUP(A22,Data!$I$2:$J$507,2,FALSE),\"\")","v":"S.US.WBD"},{"$f":"IFERROR(RTD(\"cqg.rtd\", ,\"ContractData\",L22, \"PerCentNetLastTrade\",, \"T\")/100,\"\")","v":-1.2459807073954984E-2},{"$f":"IFERROR(RANK($M22,$M$2:M$507)+COUNTIF($M$2:M22,M22)-1,\"\")","v":15},"S.US.WBD",21,"S.US.EMBC",{"$f":"IF(Q22=\"\",\"\",RTD(\"cqg.rtd\", ,\"ContractData\",Q22, \"LongDescription\",, \"T\"))","v":"Embecta Corp."},{"$f":"IFERROR(RTD(\"cqg.rtd\", ,\"ContractData\",Q22, \"PerCentNetLastTrade\",, \"T\")/100,\"\")","v":-2.6195552848004872E-2},1]
[22,{"$f":"IFERROR(VLOOKUP(A23,Data!$H$2:$J$507,3,FALSE),\"\")","v":"S.US.WMB"},{"$f":"IFERROR(RTD(\"cqg.rtd\", ,\"ContractData\",B23, \"PerCentNetLastTrade\",, \"T\")/100,\"\")","v":6.1936936936936937E-3},{"$f":"IFERROR(RANK($C23,$C$2:C$507)+COUNTIF($C$2:C23,C23)-1,\"\")","v":17},"S.US.WMB",22,"",{"$f":"IF(G23=\"\",\"\",RTD(\"cqg.rtd\", ,\"ContractData\",G23, \"LongDescription\",, \"T\"))","v":""},{"$f":"IFERROR(RTD(\"cqg.rtd\", ,\"ContractData\",G23, \"PerCentNetLastTrade\",, \"T\")/100,\"\")","v":""},0,22,{"$f":"IFERROR(VLOOKUP(A23,Data!$I$2:$J$507,2,FALSE),\"\")","v":""},{"$f":"IFERROR(RTD(\"cqg.rtd\", ,\"ContractData\",L23, \"PerCentNetLastTrade\",, \"T\")/100,\"\")","v":""},{"$f":"IFERROR(RANK($M23,$M$2:M$507)+COUNTIF($M$2:M23,M23)-1,\"\")","v":""},"",22,"",{"$f":"IF(Q23=\"\",\"\",RTD(\"cqg.rtd\", ,\"ContractData\",Q23, \"LongDescription\",, \"T\"))","v":""},{"$f":"IFERROR(RTD(\"cqg.rtd\", ,\"ContractData\",Q23, \"PerCentNetLastTrade\",, \"T\")/100,\"\")","v":""},0]
[23,{"$f":"IFERROR(VLOOKUP(A24,Data!$H$2:$J$507,3,FALSE),\"\")","v":""},{"$f":"IFERROR(RTD(\"cqg.rtd\", ,\"ContractData\",B24, \"PerCentNetLastTrade\",, \"T\")/100,\"\")","v":""},{"$f":"IFERROR(RANK($C24,$C$2:C$507)+COUNTIF($C$2:C24,C24)-1,\"\")","v":""},"",23,"",{"$f":"IF(G24=\"\",\"\",RTD(\"cqg.rtd\", ,\"ContractData\",G24, \"LongDescription\",, \"T\"))","v":""},{"$f":"IFERROR(RTD(\"cqg.rtd\", ,\"ContractData\",G24, \"PerCentNetLastTrade\",, \"T\")/100,\"\")","v":""},0,23,{"$f":"IFERROR(VLOOKUP(A24,Data!$I$2:$J$507,2,FALSE),\"\")","v":""},{"$f":"IFERROR(RTD(\"cqg.rtd\", ,\"ContractData\",L24, \"PerCentNetLastTrade\",, \"T\")/100,\"\")","v":""},{"$f":"IFERROR(RANK($M24,$M$2:M$507)+COUNTIF($M$2:M24,M24)-1,\"\")","v":""},"",23,"",{"$f":"IF(Q24=\"\",\"\",RTD(\"cqg.rtd\", ,\"ContractData\",Q24, \"LongDescription\",, \"T\"))","v":""},{"$f":"IFERROR(RTD(\"cqg.rtd\", ,\"ContractData\",Q24, \"PerCentNetLastTrade\",, \"T\")/100,\"\")","v":""},0]
[24,{"$f":"IFERROR(VLOOKUP(A25,Data!$H$2:$J$507,3,FALSE),\"\")","v":""},{"$f":"IFERROR(RTD(\"cqg.rtd\", ,\"ContractData\",B25, \"PerCentNetLastTrade\",, \"T\")/100,\"\")","v":""},{"$f":"IFERROR(RANK($C25,$C$2:C$507)+COUNTIF($C$2:C25,C25)-1,\"\")","v":""},"",24,"",{"$f":"IF(G25=\"\",\"\",RTD(\"cqg.rtd\", ,\"ContractData\",G25, \"LongDescription\",, \"T\"))","v":""},{"$f":"IFERROR(RTD(\"cqg.rtd\", ,\"ContractData\",G25, \"PerCentNetLastTrade\",, \"T\")/100,\"\")","v":""},0,24,{"$f":"IFERROR(VLOOKUP(A25,Data!$I$2:$J$507,2,FALSE),\"\")","v":""},{"$f":"IFERROR(RTD(\"cqg.rtd\", ,\"ContractData\",L25, \"PerCentNetLastTrade\",, \"T\")/100,\"\")","v":""},{"$f":"IFERROR(RANK($M25,$M$2:M$507)+COUNTIF($M$2:M25,M25)-1,\"\")","v":""},"",24,"",{"$f":"IF(Q25=\"\",\"\",RTD(\"cqg.rtd\", ,\"ContractData\",Q25, \"LongDescription\",, \"T\"))","v":""},{"$f":"IFERROR(RTD(\"cqg.rtd\", ,\"ContractData\",Q25, \"PerCentNetLastTrade\",, \"T\")/100,\"\")","v":""},0]
[25,{"$f":"IFERROR(VLOOKUP(A26,Data!$H$2:$J$507,3,FALSE),\"\")","v":""},{"$f":"IFERROR(RTD(\"cqg.rtd\", ,\"ContractData\",B26, \"PerCentNetLastTrade\",, \"T\")/100,\"\")","v":""},{"$f":"IFERROR(RANK($C26,$C$2:C$507)+COUNTIF($C$2:C26,C26)-1,\"\")","v":""},"",25,"",{"$f":"IF(G26=\"\",\"\",RTD(\"cqg.rtd\", ,\"ContractData\",G26, \"LongDescription\",, \"T\"))","v":""},{"$f":"IFERROR(RTD(\"cqg.rtd\", ,\"ContractData\",G26, \"PerCentNetLastTrade\",, \"T\")/100,\"\")","v":""},0,25,{"$f":"IFERROR(VLOOKUP(A26,Data!$I$2:$J$507,2,FALSE),\"\")","v":""},{"$f":"IFERROR(RTD(\"cqg.rtd\", ,\"ContractData\",L26, \"PerCentNetLastTrade\",, \"T\")/100,\"\")","v":""},{"$f":"IFERROR(RANK($M26,$M$2:M$507)+COUNTIF($M$2:M26,M26)-1,\"\")","v":""},"",25,"",{"$f":"IF(Q26=\"\",\"\",RTD(\"cqg.rtd\", ,\"ContractData\",Q26, \"LongDescription\",, \"T\"))","v":""},{"$f":"IFERROR(RTD(\"cqg.rtd\", ,\"ContractData\",Q26, \"PerCentNetLastTrade\",, \"T\")/100,\"\")","v":""},0]
[26,{"$f":"IFERROR(VLOOKUP(A27,Data!$H$2:$J$507,3,FALSE),\"\")","v":""},{"$f":"IFERROR(RTD(\"cqg.rtd\", ,\"ContractData\",B27, \"PerCentNetLastTrade\",, \"T\")/100,\"\")","v":""},{"$f":"IFERROR(RANK($C27,$C$2:C$507)+COUNTIF($C$2:C27,C27)-1,\"\")","v":""},"",26,"",{"$f":"IF(G27=\"\",\"\",RTD(\"cqg.rtd\", ,\"ContractData\",G27, \"LongDescription\",, \"T\"))","v":""},{"$f":"IFERROR(RTD(\"cqg.rtd\", ,\"ContractData\",G27, \"PerCentNetLastTrade\",, \"T\")/100,\"\")","v":""},0,26,{"$f":"IFERROR(VLOOKUP(A27,Data!$I$2:$J$507,2,FALSE),\"\")","v":""},{"$f":"IFERROR(RTD(\"cqg.rtd\", ,\"ContractData\",L27, \"PerCentNetLastTrade\",, \"T\")/100,\"\")","v":""},{"$f":"IFERROR(RANK($M27,$M$2:M$507)+COUNTIF($M$2:M27,M27)-1,\"\")","v":""},"",26,"",{"$f":"IF(Q27=\"\",\"\",RTD(\"cqg.rtd\", ,\"ContractData\",Q27, \"LongDescription\",, \"T\"))","v":""},{"$f":"IFERROR(RTD(\"cqg.rtd\", ,\"ContractData\",Q27, \"PerCentNetLastTrade\",, \"T\")/100,\"\")","v":""},0]
[27,{"$f":"IFERROR(VLOOKUP(A28,Data!$H$2:$J$507,3,FALSE),\"\")","v":""},{"$f":"IFERROR(RTD(\"cqg.rtd\", ,\"ContractData\",B28, \"PerCentNetLastTrade\",, \"T\")/100,\"\")","v":""},{"$f":"IFERROR(RANK($C28,$C$2:C$507)+COUNTIF($C$2:C28,C28)-1,\"\")","v":""},"",27,"",{"$f":"IF(G28=\"\",\"\",RTD(\"cqg.rtd\", ,\"ContractData\",G28, \"LongDescription\",, \"T\"))","v":""},{"$f":"IFERROR(RTD(\"cqg.rtd\", ,\"ContractData\",G28, \"PerCentNetLastTrade\",, \"T\")/100,\"\")","v":""},0,27,{"$f":"IFERROR(VLOOKUP(A28,Data!$I$2:$J$507,2,FALSE),\"\")","v":""},{"$f":"IFERROR(RTD(\"cqg.rtd\", ,\"ContractData\",L28, \"PerCentNetLastTrade\",, \"T\")/100,\"\")","v":""},{"$f":"IFERROR(RANK($M28,$M$2:M$507)+COUNTIF($M$2:M28,M28)-1,\"\")","v":""},"",27,"",{"$f":"IF(Q28=\"\",\"\",RTD(\"cqg.rtd\", ,\"ContractData\",Q28, \"LongDescription\",, \"T\"))","v":""},{"$f":"IFERROR(RTD(\"cqg.rtd\", ,\"ContractData\",Q28, \"PerCentNetLastTrade\",, \"T\")/100,\"\")","v":""},0]
[28,{"$f":"IFERROR(VLOOKUP(A29,Data!$H$2:$J$507,3,FALSE),\"\")","v":""},{"$f":"IFERROR(RTD(\"cqg.rtd\", ,\"ContractData\",B29, \"PerCentNetLastTrade\",, \"T\")/100,\"\")","v":""},{"$f":"IFERROR(RANK($C29,$C$2:C$507)+COUNTIF($C$2:C29,C29)-1,\"\")","v":""},"",28,"",{"$f":"IF(G29=\"\",\"\",RTD(\"cqg.rtd\", ,\"ContractData\",G29, \"LongDescription\",, \"T\"))","v":""},{"$f":"IFERROR(RTD(\"cqg.rtd\", ,\"ContractData\",G29, \"PerCentNetLastTrade\",, \"T\")/100,\"\")","v":""},0,28,{"$f":"IFERROR(VLOOKUP(A29,Data!$I$2:$J$507,2,FALSE),\"\")","v":""},{"$f":"IFERROR(RTD(\"cqg.rtd\", ,\"ContractData\",L29, \"PerCentNetLastTrade\",, \"T\")/100,\"\")","v":""},{"$f":"IFERROR(RANK($M29,$M$2:M$507)+COUNTIF($M$2:M29,M29)-1,\"\")","v":""},"",28,"",{"$f":"IF(Q29=\"\",\"\",RTD(\"cqg.rtd\", ,\"ContractData\",Q29, \"LongDescription\",, \"T\"))","v":""},{"$f":"IFERROR(RTD(\"cqg.rtd\", ,\"ContractData\",Q29, \"PerCentNetLastTrade\",, \"T\")/100,\"\")","v":""},0]
[29,{"$f":"IFERROR(VLOOKUP(A30,Data!$H$2:$J$507,3,FALSE),\"\")","v":""},{"$f":"IFERROR(RTD(\"cqg.rtd\", ,\"ContractData\",B30, \"PerCentNetLastTrade\",, \"T\")/100,\"\")","v":""},{"$f":"IFERROR(RANK($C30,$C$2:C$507)+COUNTIF($C$2:C30,C30)-1,\"\")","v":""},"",29,"",{"$f":"IF(G30=\"\",\"\",RTD(\"cqg.rtd\", ,\"ContractData\",G30, \"LongDescription\",, \"T\"))","v":""},{"$f":"IFERROR(RTD(\"cqg.rtd\", ,\"ContractData\",G30, \"PerCentNetLastTrade\",, \"T\")/100,\"\")","v":""},0,29,{"$f":"IFERROR(VLOOKUP(A30,Data!$I$2:$J$507,2,FALSE),\"\")","v":""},{"$f":"IFERROR(RTD(\"cqg.rtd\", ,\"ContractData\",L30, \"PerCentNetLastTrade\",, \"T\")/100,\"\")","v":""},{"$f":"IFERROR(RANK($M30,$M$2:M$507)+COUNTIF($M$2:M30,M30)-1,\"\")","v":""},"",29,"",{"$f":"IF(Q30=\"\",\"\",RTD(\"cqg.rtd\", ,\"ContractData\",Q30, \"LongDescription\",, \"T\"))","v":""},{"$f":"IFERROR(RTD(\"cqg.rtd\", ,\"ContractData\",Q30, \"PerCentNetLastTrade\",, \"T\")/100,\"\")","v":""},0]
[30,{"$f":"IFERROR(VLOOKUP(A31,Data!$H$2:$J$507,3,FALSE),\"\")","v":""},{"$f":"IFERROR(RTD(\"cqg.rtd\", ,\"ContractData\",B31, \"PerCentNetLastTrade\",, \"T\")/100,\"\")","v":""},{"$f":"IFERROR(RANK($C31,$C$2:C$507)+COUNTIF($C$2:C31,C31)-1,\"\")","v":""},"",30,"",{"$f":"IF(G31=\"\",\"\",RTD(\"cqg.rtd\", ,\"ContractData\",G31, \"LongDescription\",, \"T\"))","v":""},{"$f":"IFERROR(RTD(\"cqg.rtd\", ,\"ContractData\",G31, \"PerCentNetLastTrade\",, \"T\")/100,\"\")","v":""},0,30,{"$f":"IFERROR(VLOOKUP(A31,Data!$I$2:$J$507,2,FALSE),\"\")","v":""},{"$f":"IFERROR(RTD(\"cqg.rtd\", ,\"ContractData\",L31, \"PerCentNetLastTrade\",, \"T\")/100,\"\")","v":""},{"$f":"IFERROR(RANK($M31,$M$2:M$507)+COUNTIF($M$2:M31,M31)-1,\"\")","v":""},"",30,"",{"$f":"IF(Q31=\"\",\"\",RTD(\"cqg.rtd\", ,\"ContractData\",Q31, \"LongDescription\",, \"T\"))","v":""},{"$f":"IFERROR(RTD(\"cqg.rtd\", ,\"ContractData\",Q31, \"PerCentNetLastTrade\",, \"T\")/100,\"\")","v":""},0]
[31,{"$f":"IFERROR(VLOOKUP(A32,Data!$H$2:$J$507,3,FALSE),\"\")","v":""},{"$f":"IFERROR(RTD(\"cqg.rtd\", ,\"ContractData\",B32, \"PerCentNetLastTrade\",, \"T\")/100,\"\")","v":""},{"$f":"IFERROR(RANK($C32,$C$2:C$507)+COUNTIF($C$2:C32,C32)-1,\"\")","v":""},"",31,"",{"$f":"IF(G32=\"\",\"\",RTD(\"cqg.rtd\", ,\"ContractData\",G32, \"LongDescription\",, \"T\"))","v":""},{"$f":"IFERROR(RTD(\"cqg.rtd\", ,\"ContractData\",G32, \"PerCentNetLastTrade\",, \"T\")/100,\"\")","v":""},0,31,{"$f":"IFERROR(VLOOKUP(A32,Data!$I$2:$J$507,2,FALSE),\"\")","v":""},{"$f":"IFERROR(RTD(\"cqg.rtd\", ,\"ContractData\",L32, \"PerCentNetLastTrade\",, \"T\")/100,\"\")","v":""},{"$f":"IFERROR(RANK($M32,$M$2:M$507)+COUNTIF($M$2:M32,M32)-1,\"\")","v":""},"",31,"",{"$f":"IF(Q32=\"\",\"\",RTD(\"cqg.rtd\", ,\"ContractData\",Q32, \"LongDescription\",, \"T\"))","v":""},{"$f":"IFERROR(RTD(\"cqg.rtd\", ,\"ContractData\",Q32, \"PerCentNetLastTrade\",, \"T\")/100,\"\")","v":""},0]
[32,{"$f":"IFERROR(VLOOKUP(A33,Data!$H$2:$J$507,3,FALSE),\"\")","v":""},{"$f":"IFERROR(RTD(\"cqg.rtd\", ,\"ContractData\",B33, \"PerCentNetLastTrade\",, \"T\")/100,\"\")","v":""},{"$f":"IFERROR(RANK($C33,$C$2:C$507)+COUNTIF($C$2:C33,C33)-1,\"\")","v":""},"",32,"",{"$f":"IF(G33=\"\",\"\",RTD(\"cqg.rtd\", ,\"ContractData\",G33, \"LongDescription\",, \"T\"))","v":""},{"$f":"IFERROR(RTD(\"cqg.rtd\", ,\"ContractData\",G33, \"PerCentNetLastTrade\",, \"T\")/100,\"\")","v":""},0,32,{"$f":"IFERROR(VLOOKUP(A33,Data!$I$2:$J$507,2,FALSE),\"\")","v":""},{"$f":"IFERROR(RTD(\"cqg.rtd\", ,\"ContractData\",L33, \"PerCentNetLastTrade\",, \"T\")/100,\"\")","v":""},{"$f":"IFERROR(RANK($M33,$M$2:M$507)+COUNTIF($M$2:M33,M33)-1,\"\")","v":""},"",32,"",{"$f":"IF(Q33=\"\",\"\",RTD(\"cqg.rtd\", ,\"ContractData\",Q33, \"LongDescription\",, \"T\"))","v":""},{"$f":"IFERROR(RTD(\"cqg.rtd\", ,\"ContractData\",Q33, \"PerCentNetLastTrade\",, \"T\")/100,\"\")","v":""},0]
[33,{"$f":"IFERROR(VLOOKUP(A34,Data!$H$2:$J$507,3,FALSE),\"\")","v":""},{"$f":"IFERROR(RTD(\"cqg.rtd\", ,\"ContractData\",B34, \"PerCentNetLastTrade\",, \"T\")/100,\"\")","v":""},{"$f":"IFERROR(RANK($C34,$C$2:C$507)+COUNTIF($C$2:C34,C34)-1,\"\")","v":""},"",33,"",{"$f":"IF(G34=\"\",\"\",RTD(\"cqg.rtd\", ,\"ContractData\",G34, \"LongDescription\",, \"T\"))","v":""},{"$f":"IFERROR(RTD(\"cqg.rtd\", ,\"ContractData\",G34, \"PerCentNetLastTrade\",, \"T\")/100,\"\")","v":""},0,33,{"$f":"IFERROR(VLOOKUP(A34,Data!$I$2:$J$507,2,FALSE),\"\")","v":""},{"$f":"IFERROR(RTD(\"cqg.rtd\", ,\"ContractData\",L34, \"PerCentNetLastTrade\",, \"T\")/100,\"\")","v":""},{"$f":"IFERROR(RANK($M34,$M$2:M$507)+COUNTIF($M$2:M34,M34)-1,\"\")","v":""},"",33,"",{"$f":"IF(Q34=\"\",\"\",RTD(\"cqg.rtd\", ,\"ContractData\",Q34, \"LongDescription\",, \"T\"))","v":""},{"$f":"IFERROR(RTD(\"cqg.rtd\", ,\"ContractData\",Q34, \"PerCentNetLastTrade\",, \"T\")/100,\"\")","v":""},0]
[34,{"$f":"IFERROR(VLOOKUP(A35,Data!$H$2:$J$507,3,FALSE),\"\")","v":""},{"$f":"IFERROR(RTD(\"cqg.rtd\", ,\"ContractData\",B35, \"PerCentNetLastTrade\",, \"T\")/100,\"\")","v":""},{"$f":"IFERROR(RANK($C35,$C$2:C$507)+COUNTIF($C$2:C35,C35)-1,\"\")","v":""},"",34,"",{"$f":"IF(G35=\"\",\"\",RTD(\"cqg.rtd\", ,\"ContractData\",G35, \"LongDescription\",, \"T\"))","v":""},{"$f":"IFERROR(RTD(\"cqg.rtd\", ,\"ContractData\",G35, \"PerCentNetLastTrade\",, \"T\")/100,\"\")","v":""},0,34,{"$f":"IFERROR(VLOOKUP(A35,Data!$I$2:$J$507,2,FALSE),\"\")","v":""},{"$f":"IFERROR(RTD(\"cqg.rtd\", ,\"ContractData\",L35, \"PerCentNetLastTrade\",, \"T\")/100,\"\")","v":""},{"$f":"IFERROR(RANK($M35,$M$2:M$507)+COUNTIF($M$2:M35,M35)-1,\"\")","v":""},"",34,"",{"$f":"IF(Q35=\"\",\"\",RTD(\"cqg.rtd\", ,\"ContractData\",Q35, \"LongDescription\",, \"T\"))","v":""},{"$f":"IFERROR(RTD(\"cqg.rtd\", ,\"ContractData\",Q35, \"PerCentNetLastTrade\",, \"T\")/100,\"\")","v":""},0]
[35,{"$f":"IFERROR(VLOOKUP(A36,Data!$H$2:$J$507,3,FALSE),\"\")","v":""},{"$f":"IFERROR(RTD(\"cqg.rtd\", ,\"ContractData\",B36, \"PerCentNetLastTrade\",, \"T\")/100,\"\")","v":""},{"$f":"IFERROR(RANK($C36,$C$2:C$507)+COUNTIF($C$2:C36,C36)-1,\"\")","v":""},"",35,"",{"$f":"IF(G36=\"\",\"\",RTD(\"cqg.rtd\", ,\"ContractData\",G36, \"LongDescription\",, \"T\"))","v":""},{"$f":"IFERROR(RTD(\"cqg.rtd\", ,\"ContractData\",G36, \"PerCentNetLastTrade\",, \"T\")/100,\"\")","v":""},0,35,{"$f":"IFERROR(VLOOKUP(A36,Data!$I$2:$J$507,2,FALSE),\"\")","v":""},{"$f":"IFERROR(RTD(\"cqg.rtd\", ,\"ContractData\",L36, \"PerCentNetLastTrade\",, \"T\")/100,\"\")","v":""},{"$f":"IFERROR(RANK($M36,$M$2:M$507)+COUNTIF($M$2:M36,M36)-1,\"\")","v":""},"",35,"",{"$f":"IF(Q36=\"\",\"\",RTD(\"cqg.rtd\", ,\"ContractData\",Q36, \"LongDescription\",, \"T\"))","v":""},{"$f":"IFERROR(RTD(\"cqg.rtd\", ,\"ContractData\",Q36, \"PerCentNetLastTrade\",, \"T\")/100,\"\")","v":""},0]
[36,{"$f":"IFERROR(VLOOKUP(A37,Data!$H$2:$J$507,3,FALSE),\"\")","v":""},{"$f":"IFERROR(RTD(\"cqg.rtd\", ,\"ContractData\",B37, \"PerCentNetLastTrade\",, \"T\")/100,\"\")","v":""},{"$f":"IFERROR(RANK($C37,$C$2:C$507)+COUNTIF($C$2:C37,C37)-1,\"\")","v":""},"",36,"",{"$f":"IF(G37=\"\",\"\",RTD(\"cqg.rtd\", ,\"ContractData\",G37, \"LongDescription\",, \"T\"))","v":""},{"$f":"IFERROR(RTD(\"cqg.rtd\", ,\"ContractData\",G37, \"PerCentNetLastTrade\",, \"T\")/100,\"\")","v":""},0,36,{"$f":"IFERROR(VLOOKUP(A37,Data!$I$2:$J$507,2,FALSE),\"\")","v":""},{"$f":"IFERROR(RTD(\"cqg.rtd\", ,\"ContractData\",L37, \"PerCentNetLastTrade\",, \"T\")/100,\"\")","v":""},{"$f":"IFERROR(RANK($M37,$M$2:M$507)+COUNTIF($M$2:M37,M37)-1,\"\")","v":""},"",36,"",{"$f":"IF(Q37=\"\",\"\",RTD(\"cqg.rtd\", ,\"ContractData\",Q37, \"LongDescription\",, \"T\"))","v":""},{"$f":"IFERROR(RTD(\"cqg.rtd\", ,\"ContractData\",Q37, \"PerCentNetLastTrade\",, \"T\")/100,\"\")","v":""},0]
[37,{"$f":"IFERROR(VLOOKUP(A38,Data!$H$2:$J$507,3,FALSE),\"\")","v":""},{"$f":"IFERROR(RTD(\"cqg.rtd\", ,\"ContractData\",B38, \"PerCentNetLastTrade\",, \"T\")/100,\"\")","v":""},{"$f":"IFERROR(RANK($C38,$C$2:C$507)+COUNTIF($C$2:C38,C38)-1,\"\")","v":""},"",37,"",{"$f":"IF(G38=\"\",\"\",RTD(\"cqg.rtd\", ,\"ContractData\",G38, \"LongDescription\",, \"T\"))","v":""},{"$f":"IFERROR(RTD(\"cqg.rtd\", ,\"ContractData\",G38, \"PerCentNetLastTrade\",, \"T\")/100,\"\")","v":""},0,37,{"$f":"IFERROR(VLOOKUP(A38,Data!$I$2:$J$507,2,FALSE),\"\")","v":""},{"$f":"IFERROR(RTD(\"cqg.rtd\", ,\"ContractData\",L38, \"PerCentNetLastTrade\",, \"T\")/100,\"\")","v":""},{"$f":"IFERROR(RANK($M38,$M$2:M$507)+COUNTIF($M$2:M38,M38)-1,\"\")","v":""},"",37,"",{"$f":"IF(Q38=\"\",\"\",RTD(\"cqg.rtd\", ,\"ContractData\",Q38, \"LongDescription\",, \"T\"))","v":""},{"$f":"IFERROR(RTD(\"cqg.rtd\", ,\"ContractData\",Q38, \"PerCentNetLastTrade\",, \"T\")/100,\"\")","v":""},0]
[38,{"$f":"IFERROR(VLOOKUP(A39,Data!$H$2:$J$507,3,FALSE),\"\")","v":""},{"$f":"IFERROR(RTD(\"cqg.rtd\", ,\"ContractData\",B39, \"PerCentNetLastTrade\",, \"T\")/100,\"\")","v":""},{"$f":"IFERROR(RANK($C39,$C$2:C$507)+COUNTIF($C$2:C39,C39)-1,\"\")","v":""},"",38,"",{"$f":"IF(G39=\"\",\"\",RTD(\"cqg.rtd\", ,\"ContractData\",G39, \"LongDescription\",, \"T\"))","v":""},{"$f":"IFERROR(RTD(\"cqg.rtd\", ,\"ContractData\",G39, \"PerCentNetLastTrade\",, \"T\")/100,\"\")","v":""},{"$f":"IF(I39<>\"\",1,0)","v":0},38,{"$f":"IFERROR(VLOOKUP(A39,Data!$I$2:$J$507,2,FALSE),\"\")","v":""},{"$f":"IFERROR(RTD(\"cqg.rtd\", ,\"ContractData\",L39, \"PerCentNetLastTrade\",, \"T\")/100,\"\")","v":""},{"$f":"IFERROR(RANK($M39,$M$2:M$507)+COUNTIF($M$2:M39,M39)-1,\"\")","v":""},"",38,"",{"$f":"IF(Q39=\"\",\"\",RTD(\"cqg.rtd\", ,\"ContractData\",Q39, \"LongDescription\",, \"T\"))","v":""},{"$f":"IFERROR(RTD(\"cqg.rtd\", ,\"ContractData\",Q39, \"PerCentNetLastTrade\",, \"T\")/100,\"\")","v":""},0]
[39,{"$f":"IFERROR(VLOOKUP(A40,Data!$H$2:$J$507,3,FALSE),\"\")","v":""},{"$f":"IFERROR(RTD(\"cqg.rtd\", ,\"ContractData\",B40, \"PerCentNetLastTrade\",, \"T\")/100,\"\")","v":""},{"$f":"IFERROR(RANK($C40,$C$2:C$507)+COUNTIF($C$2:C40,C40)-1,\"\")","v":""},"",39,"",{"$f":"IF(G40=\"\",\"\",RTD(\"cqg.rtd\", ,\"ContractData\",G40, \"LongDescription\",, \"T\"))","v":""},{"$f":"IFERROR(RTD(\"cqg.rtd\", ,\"ContractData\",G40, \"PerCentNetLastTrade\",, \"T\")/100,\"\")","v":""},0,39,{"$f":"IFERROR(VLOOKUP(A40,Data!$I$2:$J$507,2,FALSE),\"\")","v":""},{"$f":"IFERROR(RTD(\"cqg.rtd\", ,\"ContractData\",L40, \"PerCentNetLastTrade\",, \"T\")/100,\"\")","v":""},{"$f":"IFERROR(RANK($M40,$M$2:M$507)+COUNTIF($M$2:M40,M40)-1,\"\")","v":""},"",39,"",{"$f":"IF(Q40=\"\",\"\",RTD(\"cqg.rtd\", ,\"ContractData\",Q40, \"LongDescription\",, \"T\"))","v":""},{"$f":"IFERROR(RTD(\"cqg.rtd\", ,\"ContractData\",Q40, \"PerCentNetLastTrade\",, \"T\")/100,\"\")","v":""},0]
[40,{"$f":"IFERROR(VLOOKUP(A41,Data!$H$2:$J$507,3,FALSE),\"\")","v":""},{"$f":"IFERROR(RTD(\"cqg.rtd\", ,\"ContractData\",B41, \"PerCentNetLastTrade\",, \"T\")/100,\"\")","v":""},{"$f":"IFERROR(RANK($C41,$C$2:C$507)+COUNTIF($C$2:C41,C41)-1,\"\")","v":""},"",40,"",{"$f":"IF(G41=\"\",\"\",RTD(\"cqg.rtd\", ,\"ContractData\",G41, \"LongDescription\",, \"T\"))","v":""},{"$f":"IFERROR(RTD(\"cqg.rtd\", ,\"ContractData\",G41, \"PerCentNetLastTrade\",, \"T\")/100,\"\")","v":""},0,40,{"$f":"IFERROR(VLOOKUP(A41,Data!$I$2:$J$507,2,FALSE),\"\")","v":""},{"$f":"IFERROR(RTD(\"cqg.rtd\", ,\"ContractData\",L41, \"PerCentNetLastTrade\",, \"T\")/100,\"\")","v":""},{"$f":"IFERROR(RANK($M41,$M$2:M$507)+COUNTIF($M$2:M41,M41)-1,\"\")","v":""},"",40,"",{"$f":"IF(Q41=\"\",\"\",RTD(\"cqg.rtd\", ,\"ContractData\",Q41, \"LongDescription\",, \"T\"))","v":""},{"$f":"IFERROR(RTD(\"cqg.rtd\", ,\"ContractData\",Q41, \"PerCentNetLastTrade\",, \"T\")/100,\"\")","v":""},0]
[41,{"$f":"IFERROR(VLOOKUP(A42,Data!$H$2:$J$507,3,FALSE),\"\")","v":""},{"$f":"IFERROR(RTD(\"cqg.rtd\", ,\"ContractData\",B42, \"PerCentNetLastTrade\",, \"T\")/100,\"\")","v":""},{"$f":"IFERROR(RANK($C42,$C$2:C$507)+COUNTIF($C$2:C42,C42)-1,\"\")","v":""},"",41,"",{"$f":"IF(G42=\"\",\"\",RTD(\"cqg.rtd\", ,\"ContractData\",G42, \"LongDescription\",, \"T\"))","v":""},{"$f":"IFERROR(RTD(\"cqg.rtd\", ,\"ContractData\",G42, \"PerCentNetLastTrade\",, \"T\")/100,\"\")","v":""},0,41,{"$f":"IFERROR(VLOOKUP(A42,Data!$I$2:$J$507,2,FALSE),\"\")","v":""},{"$f":"IFERROR(RTD(\"cqg.rtd\", ,\"ContractData\",L42, \"PerCentNetLastTrade\",, \"T\")/100,\"\")","v":""},{"$f":"IFERROR(RANK($M42,$M$2:M$507)+COUNTIF($M$2:M42,M42)-1,\"\")","v":""},"",41,"",{"$f":"IF(Q42=\"\",\"\",RTD(\"cqg.rtd\", ,\"ContractData\",Q42, \"LongDescription\",, \"T\"))","v":""},{"$f":"IFERROR(RTD(\"cqg.rtd\", ,\"ContractData\",Q42, \"PerCentNetLastTrade\",, \"T\")/100,\"\")","v":""},0]
[42,{"$f":"IFERROR(VLOOKUP(A43,Data!$H$2:$J$507,3,FALSE),\"\")","v":""},{"$f":"IFERROR(RTD(\"cqg.rtd\", ,\"ContractData\",B43, \"PerCentNetLastTrade\",, \"T\")/100,\"\")","v":""},{"$f":"IFERROR(RANK($C43,$C$2:C$507)+COUNTIF($C$2:C43,C43)-1,\"\")","v":""},"",42,"",{"$f":"IF(G43=\"\",\"\",RTD(\"cqg.rtd\", ,\"ContractData\",G43, \"LongDescription\",, \"T\"))","v":""},{"$f":"IFERROR(RTD(\"cqg.rtd\", ,\"ContractData\",G43, \"PerCentNetLastTrade\",, \"T\")/100,\"\")","v":""},0,42,{"$f":"IFERROR(VLOOKUP(A43,Data!$I$2:$J$507,2,FALSE),\"\")","v":""},{"$f":"IFERROR(RTD(\"cqg.rtd\", ,\"ContractData\",L43, \"PerCentNetLastTrade\",, \"T\")/100,\"\")","v":""},{"$f":"IFERROR(RANK($M43,$M$2:M$507)+COUNTIF($M$2:M43,M43)-1,\"\")","v":""},"",42,"",{"$f":"IF(Q43=\"\",\"\",RTD(\"cqg.rtd\", ,\"ContractData\",Q43, \"LongDescription\",, \"T\"))","v":""},{"$f":"IFERROR(RTD(\"cqg.rtd\", ,\"ContractData\",Q43, \"PerCentNetLastTrade\",, \"T\")/100,\"\")","v":""},0]
[43,{"$f":"IFERROR(VLOOKUP(A44,Data!$H$2:$J$507,3,FALSE),\"\")","v":""},{"$f":"IFERROR(RTD(\"cqg.rtd\", ,\"ContractData\",B44, \"PerCentNetLastTrade\",, \"T\")/100,\"\")","v":""},{"$f":"IFERROR(RANK($C44,$C$2:C$507)+COUNTIF($C$2:C44,C44)-1,\"\")","v":""},"",43,"",{"$f":"IF(G44=\"\",\"\",RTD(\"cqg.rtd\", ,\"ContractData\",G44, \"LongDescription\",, \"T\"))","v":""},{"$f":"IFERROR(RTD(\"cqg.rtd\", ,\"ContractData\",G44, \"PerCentNetLastTrade\",, \"T\")/100,\"\")","v":""},0,43,{"$f":"IFERROR(VLOOKUP(A44,Data!$I$2:$J$507,2,FALSE),\"\")","v":""},{"$f":"IFERROR(RTD(\"cqg.rtd\", ,\"ContractData\",L44, \"PerCentNetLastTrade\",, \"T\")/100,\"\")","v":""},{"$f":"IFERROR(RANK($M44,$M$2:M$507)+COUNTIF($M$2:M44,M44)-1,\"\")","v":""},"",43,"",{"$f":"IF(Q44=\"\",\"\",RTD(\"cqg.rtd\", ,\"ContractData\",Q44, \"LongDescription\",, \"T\"))","v":""},{"$f":"IFERROR(RTD(\"cqg.rtd\", ,\"ContractData\",Q44, \"PerCentNetLastTrade\",, \"T\")/100,\"\")","v":""},0]
[44,{"$f":"IFERROR(VLOOKUP(A45,Data!$H$2:$J$507,3,FALSE),\"\")","v":""},{"$f":"IFERROR(RTD(\"cqg.rtd\", ,\"ContractData\",B45, \"PerCentNetLastTrade\",, \"T\")/100,\"\")","v":""},{"$f":"IFERROR(RANK($C45,$C$2:C$507)+COUNTIF($C$2:C45,C45)-1,\"\")","v":""},"",44,"",{"$f":"IF(G45=\"\",\"\",RTD(\"cqg.rtd\", ,\"ContractData\",G45, \"LongDescription\",, \"T\"))","v":""},{"$f":"IFERROR(RTD(\"cqg.rtd\", ,\"ContractData\",G45, \"PerCentNetLastTrade\",, \"T\")/100,\"\")","v":""},0,44,{"$f":"IFERROR(VLOOKUP(A45,Data!$I$2:$J$507,2,FALSE),\"\")","v":""},{"$f":"IFERROR(RTD(\"cqg.rtd\", ,\"ContractData\",L45, \"PerCentNetLastTrade\",, \"T\")/100,\"\")","v":""},{"$f":"IFERROR(RANK($M45,$M$2:M$507)+COUNTIF($M$2:M45,M45)-1,\"\")","v":""},"",44,"",{"$f":"IF(Q45=\"\",\"\",RTD(\"cqg.rtd\", ,\"ContractData\",Q45, \"LongDescription\",, \"T\"))","v":""},{"$f":"IFERROR(RTD(\"cqg.rtd\", ,\"ContractData\",Q45, \"PerCentNetLastTrade\",, \"T\")/100,\"\")","v":""},0]
[45,{"$f":"IFERROR(VLOOKUP(A46,Data!$H$2:$J$507,3,FALSE),\"\")","v":""},{"$f":"IFERROR(RTD(\"cqg.rtd\", ,\"ContractData\",B46, \"PerCentNetLastTrade\",, \"T\")/100,\"\")","v":""},{"$f":"IFERROR(RANK($C46,$C$2:C$507)+COUNTIF($C$2:C46,C46)-1,\"\")","v":""},"",45,"",{"$f":"IF(G46=\"\",\"\",RTD(\"cqg.rtd\", ,\"ContractData\",G46, \"LongDescription\",, \"T\"))","v":""},{"$f":"IFERROR(RTD(\"cqg.rtd\", ,\"ContractData\",G46, \"PerCentNetLastTrade\",, \"T\")/100,\"\")","v":""},0,45,{"$f":"IFERROR(VLOOKUP(A46,Data!$I$2:$J$507,2,FALSE),\"\")","v":""},{"$f":"IFERROR(RTD(\"cqg.rtd\", ,\"ContractData\",L46, \"PerCentNetLastTrade\",, \"T\")/100,\"\")","v":""},{"$f":"IFERROR(RANK($M46,$M$2:M$507)+COUNTIF($M$2:M46,M46)-1,\"\")","v":""},"",45,"",{"$f":"IF(Q46=\"\",\"\",RTD(\"cqg.rtd\", ,\"ContractData\",Q46, \"LongDescription\",, \"T\"))","v":""},{"$f":"IFERROR(RTD(\"cqg.rtd\", ,\"ContractData\",Q46, \"PerCentNetLastTrade\",, \"T\")/100,\"\")","v":""},0]
[46,{"$f":"IFERROR(VLOOKUP(A47,Data!$H$2:$J$507,3,FALSE),\"\")","v":""},{"$f":"IFERROR(RTD(\"cqg.rtd\", ,\"ContractData\",B47, \"PerCentNetLastTrade\",, \"T\")/100,\"\")","v":""},{"$f":"IFERROR(RANK($C47,$C$2:C$507)+COUNTIF($C$2:C47,C47)-1,\"\")","v":""},"",46,"",{"$f":"IF(G47=\"\",\"\",RTD(\"cqg.rtd\", ,\"ContractData\",G47, \"LongDescription\",, \"T\"))","v":""},{"$f":"IFERROR(RTD(\"cqg.rtd\", ,\"ContractData\",G47, \"PerCentNetLastTrade\",, \"T\")/100,\"\")","v":""},0,46,{"$f":"IFERROR(VLOOKUP(A47,Data!$I$2:$J$507,2,FALSE),\"\")","v":""},{"$f":"IFERROR(RTD(\"cqg.rtd\", ,\"ContractData\",L47, \"PerCentNetLastTrade\",, \"T\")/100,\"\")","v":""},{"$f":"IFERROR(RANK($M47,$M$2:M$507)+COUNTIF($M$2:M47,M47)-1,\"\")","v":""},"",46,"",{"$f":"IF(Q47=\"\",\"\",RTD(\"cqg.rtd\", ,\"ContractData\",Q47, \"LongDescription\",, \"T\"))","v":""},{"$f":"IFERROR(RTD(\"cqg.rtd\", ,\"ContractData\",Q47, \"PerCentNetLastTrade\",, \"T\")/100,\"\")","v":""},0]
[47,{"$f":"IFERROR(VLOOKUP(A48,Data!$H$2:$J$507,3,FALSE),\"\")","v":""},{"$f":"IFERROR(RTD(\"cqg.rtd\", ,\"ContractData\",B48, \"PerCentNetLastTrade\",, \"T\")/100,\"\")","v":""},{"$f":"IFERROR(RANK($C48,$C$2:C$507)+COUNTIF($C$2:C48,C48)-1,\"\")","v":""},"",47,"",{"$f":"IF(G48=\"\",\"\",RTD(\"cqg.rtd\", ,\"ContractData\",G48, \"LongDescription\",, \"T\"))","v":""},{"$f":"IFERROR(RTD(\"cqg.rtd\", ,\"ContractData\",G48, \"PerCentNetLastTrade\",, \"T\")/100,\"\")","v":""},0,47,{"$f":"IFERROR(VLOOKUP(A48,Data!$I$2:$J$507,2,FALSE),\"\")","v":""},{"$f":"IFERROR(RTD(\"cqg.rtd\", ,\"ContractData\",L48, \"PerCentNetLastTrade\",, \"T\")/100,\"\")","v":""},{"$f":"IFERROR(RANK($M48,$M$2:M$507)+COUNTIF($M$2:M48,M48)-1,\"\")","v":""},"",47,"",{"$f":"IF(Q48=\"\",\"\",RTD(\"cqg.rtd\", ,\"ContractData\",Q48, \"LongDescription\",, \"T\"))","v":""},{"$f":"IFERROR(RTD(\"cqg.rtd\", ,\"ContractData\",Q48, \"PerCentNetLastTrade\",, \"T\")/100,\"\")","v":""},0]
[48,{"$f":"IFERROR(VLOOKUP(A49,Data!$H$2:$J$507,3,FALSE),\"\")","v":""},{"$f":"IFERROR(RTD(\"cqg.rtd\", ,\"ContractData\",B49, \"PerCentNetLastTrade\",, \"T\")/100,\"\")","v":""},{"$f":"IFERROR(RANK($C49,$C$2:C$507)+COUNTIF($C$2:C49,C49)-1,\"\")","v":""},"",48,"",{"$f":"IF(G49=\"\",\"\",RTD(\"cqg.rtd\", ,\"ContractData\",G49, \"LongDescription\",, \"T\"))","v":""},{"$f":"IFERROR(RTD(\"cqg.rtd\", ,\"ContractData\",G49, \"PerCentNetLastTrade\",, \"T\")/100,\"\")","v":""},0,48,{"$f":"IFERROR(VLOOKUP(A49,Data!$I$2:$J$507,2,FALSE),\"\")","v":""},{"$f":"IFERROR(RTD(\"cqg.rtd\", ,\"ContractData\",L49, \"PerCentNetLastTrade\",, \"T\")/100,\"\")","v":""},{"$f":"IFERROR(RANK($M49,$M$2:M$507)+COUNTIF($M$2:M49,M49)-1,\"\")","v":""},"",48,"",{"$f":"IF(Q49=\"\",\"\",RTD(\"cqg.rtd\", ,\"ContractData\",Q49, \"LongDescription\",, \"T\"))","v":""},{"$f":"IFERROR(RTD(\"cqg.rtd\", ,\"ContractData\",Q49, \"PerCentNetLastTrade\",, \"T\")/100,\"\")","v":""},0]
[49,{"$f":"IFERROR(VLOOKUP(A50,Data!$H$2:$J$507,3,FALSE),\"\")","v":""},{"$f":"IFERROR(RTD(\"cqg.rtd\", ,\"ContractData\",B50, \"PerCentNetLastTrade\",, \"T\")/100,\"\")","v":""},{"$f":"IFERROR(RANK($C50,$C$2:C$507)+COUNTIF($C$2:C50,C50)-1,\"\")","v":""},"",49,"",{"$f":"IF(G50=\"\",\"\",RTD(\"cqg.rtd\", ,\"ContractData\",G50, \"LongDescription\",, \"T\"))","v":""},{"$f":"IFERROR(RTD(\"cqg.rtd\", ,\"ContractData\",G50, \"PerCentNetLastTrade\",, \"T\")/100,\"\")","v":""},0,49,{"$f":"IFERROR(VLOOKUP(A50,Data!$I$2:$J$507,2,FALSE),\"\")","v":""},{"$f":"IFERROR(RTD(\"cqg.rtd\", ,\"ContractData\",L50, \"PerCentNetLastTrade\",, \"T\")/100,\"\")","v":""},{"$f":"IFERROR(RANK($M50,$M$2:M$507)+COUNTIF($M$2:M50,M50)-1,\"\")","v":""},"",49,"",{"$f":"IF(Q50=\"\",\"\",RTD(\"cqg.rtd\", ,\"ContractData\",Q50, \"LongDescription\",, \"T\"))","v":""},{"$f":"IFERROR(RTD(\"cqg.rtd\", ,\"ContractData\",Q50, \"PerCentNetLastTrade\",, \"T\")/100,\"\")","v":""},0]
[50,{"$f":"IFERROR(VLOOKUP(A51,Data!$H$2:$J$507,3,FALSE),\"\")","v":""},{"$f":"IFERROR(RTD(\"cqg.rtd\", ,\"ContractData\",B51, \"PerCentNetLastTrade\",, \"T\")/100,\"\")","v":""},{"$f":"IFERROR(RANK($C51,$C$2:C$507)+COUNTIF($C$2:C51,C51)-1,\"\")","v":""},"",50,"",{"$f":"IF(G51=\"\",\"\",RTD(\"cqg.rtd\", ,\"ContractData\",G51, \"LongDescription\",, \"T\"))","v":""},{"$f":"IFERROR(RTD(\"cqg.rtd\", ,\"ContractData\",G51, \"PerCentNetLastTrade\",, \"T\")/100,\"\")","v":""},0,50,{"$f":"IFERROR(VLOOKUP(A51,Data!$I$2:$J$507,2,FALSE),\"\")","v":""},{"$f":"IFERROR(RTD(\"cqg.rtd\", ,\"ContractData\",L51, \"PerCentNetLastTrade\",, \"T\")/100,\"\")","v":""},{"$f":"IFERROR(RANK($M51,$M$2:M$507)+COUNTIF($M$2:M51,M51)-1,\"\")","v":""},"",50,"",{"$f":"IF(Q51=\"\",\"\",RTD(\"cqg.rtd\", ,\"ContractData\",Q51, \"LongDescription\",, \"T\"))","v":""},{"$f":"IFERROR(RTD(\"cqg.rtd\", ,\"ContractData\",Q51, \"PerCentNetLastTrade\",, \"T\")/100,\"\")","v":""},0]
[51,{"$f":"IFERROR(VLOOKUP(A52,Data!$H$2:$J$507,3,FALSE),\"\")","v":""},{"$f":"IFERROR(RTD(\"cqg.rtd\", ,\"ContractData\",B52, \"PerCentNetLastTrade\",, \"T\")/100,\"\")","v":""},{"$f":"IFERROR(RANK($C52,$C$2:C$507)+COUNTIF($C$2:C52,C52)-1,\"\")","v":""},"",51,"",{"$f":"IF(G52=\"\",\"\",RTD(\"cqg.rtd\", ,\"ContractData\",G52, \"LongDescription\",, \"T\"))","v":""},{"$f":"IFERROR(RTD(\"cqg.rtd\", ,\"ContractData\",G52, \"PerCentNetLastTrade\",, \"T\")/100,\"\")","v":""},0,51,{"$f":"IFERROR(VLOOKUP(A52,Data!$I$2:$J$507,2,FALSE),\"\")","v":""},{"$f":"IFERROR(RTD(\"cqg.rtd\", ,\"ContractData\",L52, \"PerCentNetLastTrade\",, \"T\")/100,\"\")","v":""},{"$f":"IFERROR(RANK($M52,$M$2:M$507)+COUNTIF($M$2:M52,M52)-1,\"\")","v":""},"",51,"",{"$f":"IF(Q52=\"\",\"\",RTD(\"cqg.rtd\", ,\"ContractData\",Q52, \"LongDescription\",, \"T\"))","v":""},{"$f":"IFERROR(RTD(\"cqg.rtd\", ,\"ContractData\",Q52, \"PerCentNetLastTrade\",, \"T\")/100,\"\")","v":""},0]
[52,{"$f":"IFERROR(VLOOKUP(A53,Data!$H$2:$J$507,3,FALSE),\"\")","v":""},{"$f":"IFERROR(RTD(\"cqg.rtd\", ,\"ContractData\",B53, \"PerCentNetLastTrade\",, \"T\")/100,\"\")","v":""},{"$f":"IFERROR(RANK($C53,$C$2:C$507)+COUNTIF($C$2:C53,C53)-1,\"\")","v":""},"",52,"",{"$f":"IF(G53=\"\",\"\",RTD(\"cqg.rtd\", ,\"ContractData\",G53, \"LongDescription\",, \"T\"))","v":""},{"$f":"IFERROR(RTD(\"cqg.rtd\", ,\"ContractData\",G53, \"PerCentNetLastTrade\",, \"T\")/100,\"\")","v":""},0,52,{"$f":"IFERROR(VLOOKUP(A53,Data!$I$2:$J$507,2,FALSE),\"\")","v":""},{"$f":"IFERROR(RTD(\"cqg.rtd\", ,\"ContractData\",L53, \"PerCentNetLastTrade\",, \"T\")/100,\"\")","v":""},{"$f":"IFERROR(RANK($M53,$M$2:M$507)+COUNTIF($M$2:M53,M53)-1,\"\")","v":""},"",52,"",{"$f":"IF(Q53=\"\",\"\",RTD(\"cqg.rtd\", ,\"ContractData\",Q53, \"LongDescription\",, \"T\"))","v":""},{"$f":"IFERROR(RTD(\"cqg.rtd\", ,\"ContractData\",Q53, \"PerCentNetLastTrade\",, \"T\")/100,\"\")","v":""},0]
[53,{"$f":"IFERROR(VLOOKUP(A54,Data!$H$2:$J$507,3,FALSE),\"\")","v":""},{"$f":"IFERROR(RTD(\"cqg.rtd\", ,\"ContractData\",B54, \"PerCentNetLastTrade\",, \"T\")/100,\"\")","v":""},{"$f":"IFERROR(RANK($C54,$C$2:C$507)+COUNTIF($C$2:C54,C54)-1,\"\")","v":""},"",53,"",{"$f":"IF(G54=\"\",\"\",RTD(\"cqg.rtd\", ,\"ContractData\",G54, \"LongDescription\",, \"T\"))","v":""},{"$f":"IFERROR(RTD(\"cqg.rtd\", ,\"ContractData\",G54, \"PerCentNetLastTrade\",, \"T\")/100,\"\")","v":""},0,53,{"$f":"IFERROR(VLOOKUP(A54,Data!$I$2:$J$507,2,FALSE),\"\")","v":""},{"$f":"IFERROR(RTD(\"cqg.rtd\", ,\"ContractData\",L54, \"PerCentNetLastTrade\",, \"T\")/100,\"\")","v":""},{"$f":"IFERROR(RANK($M54,$M$2:M$507)+COUNTIF($M$2:M54,M54)-1,\"\")","v":""},"",53,"",{"$f":"IF(Q54=\"\",\"\",RTD(\"cqg.rtd\", ,\"ContractData\",Q54, \"LongDescription\",, \"T\"))","v":""},{"$f":"IFERROR(RTD(\"cqg.rtd\", ,\"ContractData\",Q54, \"PerCentNetLastTrade\",, \"T\")/100,\"\")","v":""},0]
[54,{"$f":"IFERROR(VLOOKUP(A55,Data!$H$2:$J$507,3,FALSE),\"\")","v":""},{"$f":"IFERROR(RTD(\"cqg.rtd\", ,\"ContractData\",B55, \"PerCentNetLastTrade\",, \"T\")/100,\"\")","v":""},{"$f":"IFERROR(RANK($C55,$C$2:C$507)+COUNTIF($C$2:C55,C55)-1,\"\")","v":""},"",54,"",{"$f":"IF(G55=\"\",\"\",RTD(\"cqg.rtd\", ,\"ContractData\",G55, \"LongDescription\",, \"T\"))","v":""},{"$f":"IFERROR(RTD(\"cqg.rtd\", ,\"ContractData\",G55, \"PerCentNetLastTrade\",, \"T\")/100,\"\")","v":""},0,54,{"$f":"IFERROR(VLOOKUP(A55,Data!$I$2:$J$507,2,FALSE),\"\")","v":""},{"$f":"IFERROR(RTD(\"cqg.rtd\", ,\"ContractData\",L55, \"PerCentNetLastTrade\",, \"T\")/100,\"\")","v":""},{"$f":"IFERROR(RANK($M55,$M$2:M$507)+COUNTIF($M$2:M55,M55)-1,\"\")","v":""},"",54,"",{"$f":"IF(Q55=\"\",\"\",RTD(\"cqg.rtd\", ,\"ContractData\",Q55, \"LongDescription\",, \"T\"))","v":""},{"$f":"IFERROR(RTD(\"cqg.rtd\", ,\"ContractData\",Q55, \"PerCentNetLastTrade\",, \"T\")/100,\"\")","v":""},0]
[55,{"$f":"IFERROR(VLOOKUP(A56,Data!$H$2:$J$507,3,FALSE),\"\")","v":""},{"$f":"IFERROR(RTD(\"cqg.rtd\", ,\"ContractData\",B56, \"PerCentNetLastTrade\",, \"T\")/100,\"\")","v":""},{"$f":"IFERROR(RANK($C56,$C$2:C$507)+COUNTIF($C$2:C56,C56)-1,\"\")","v":""},{"$f":"IF(B56=\"\",\"\",B56)","v":""},55,"",{"$f":"IF(G56=\"\",\"\",RTD(\"cqg.rtd\", ,\"ContractData\",G56, \"LongDescription\",, \"T\"))","v":""},{"$f":"IFERROR(RTD(\"cqg.rtd\", ,\"ContractData\",G56, \"PerCentNetLastTrade\",, \"T\")/100,\"\")","v":""},0,55,{"$f":"IFERROR(VLOOKUP(A56,Data!$I$2:$J$507,2,FALSE),\"\")","v":""},{"$f":"IFERROR(RTD(\"cqg.rtd\", ,\"ContractData\",L56, \"PerCentNetLastTrade\",, \"T\")/100,\"\")","v":""},{"$f":"IFERROR(RANK($M56,$M$2:M$507)+COUNTIF($M$2:M56,M56)-1,\"\")","v":""},"",55,"",{"$f":"IF(Q56=\"\",\"\",RTD(\"cqg.rtd\", ,\"ContractData\",Q56, \"LongDescription\",, \"T\"))","v":""},{"$f":"IFERROR(RTD(\"cqg.rtd\", ,\"ContractData\",Q56, \"PerCentNetLastTrade\",, \"T\")/100,\"\")","v":""},0]
[56,{"$f":"IFERROR(VLOOKUP(A57,Data!$H$2:$J$507,3,FALSE),\"\")","v":""},{"$f":"IFERROR(RTD(\"cqg.rtd\", ,\"ContractData\",B57, \"PerCentNetLastTrade\",, \"T\")/100,\"\")","v":""},{"$f":"IFERROR(RANK($C57,$C$2:C$507)+COUNTIF($C$2:C57,C57)-1,\"\")","v":""},"",56,"",{"$f":"IF(G57=\"\",\"\",RTD(\"cqg.rtd\", ,\"ContractData\",G57, \"LongDescription\",, \"T\"))","v":""},{"$f":"IFERROR(RTD(\"cqg.rtd\", ,\"ContractData\",G57, \"PerCentNetLastTrade\",, \"T\")/100,\"\")","v":""},0,56,{"$f":"IFERROR(VLOOKUP(A57,Data!$I$2:$J$507,2,FALSE),\"\")","v":""},{"$f":"IFERROR(RTD(\"cqg.rtd\", ,\"ContractData\",L57, \"PerCentNetLastTrade\",, \"T\")/100,\"\")","v":""},{"$f":"IFERROR(RANK($M57,$M$2:M$507)+COUNTIF($M$2:M57,M57)-1,\"\")","v":""},"",56,"",{"$f":"IF(Q57=\"\",\"\",RTD(\"cqg.rtd\", ,\"ContractData\",Q57, \"LongDescription\",, \"T\"))","v":""},{"$f":"IFERROR(RTD(\"cqg.rtd\", ,\"ContractData\",Q57, \"PerCentNetLastTrade\",, \"T\")/100,\"\")","v":""},0]
[57,{"$f":"IFERROR(VLOOKUP(A58,Data!$H$2:$J$507,3,FALSE),\"\")","v":""},{"$f":"IFERROR(RTD(\"cqg.rtd\", ,\"ContractData\",B58, \"PerCentNetLastTrade\",, \"T\")/100,\"\")","v":""},{"$f":"IFERROR(RANK($C58,$C$2:C$507)+COUNTIF($C$2:C58,C58)-1,\"\")","v":""},"",57,"",{"$f":"IF(G58=\"\",\"\",RTD(\"cqg.rtd\", ,\"ContractData\",G58, \"LongDescription\",, \"T\"))","v":""},{"$f":"IFERROR(RTD(\"cqg.rtd\", ,\"ContractData\",G58, \"PerCentNetLastTrade\",, \"T\")/100,\"\")","v":""},0,57,{"$f":"IFERROR(VLOOKUP(A58,Data!$I$2:$J$507,2,FALSE),\"\")","v":""},{"$f":"IFERROR(RTD(\"cqg.rtd\", ,\"ContractData\",L58, \"PerCentNetLastTrade\",, \"T\")/100,\"\")","v":""},{"$f":"IFERROR(RANK($M58,$M$2:M$507)+COUNTIF($M$2:M58,M58)-1,\"\")","v":""},"",57,"",{"$f":"IF(Q58=\"\",\"\",RTD(\"cqg.rtd\", ,\"ContractData\",Q58, \"LongDescription\",, \"T\"))","v":""},{"$f":"IFERROR(RTD(\"cqg.rtd\", ,\"ContractData\",Q58, \"PerCentNetLastTrade\",, \"T\")/100,\"\")","v":""},0]
[58,{"$f":"IFERROR(VLOOKUP(A59,Data!$H$2:$J$507,3,FALSE),\"\")","v":""},{"$f":"IFERROR(RTD(\"cqg.rtd\", ,\"ContractData\",B59, \"PerCentNetLastTrade\",, \"T\")/100,\"\")","v":""},{"$f":"IFERROR(RANK($C59,$C$2:C$507)+COUNTIF($C$2:C59,C59)-1,\"\")","v":""},"",58,"",{"$f":"IF(G59=\"\",\"\",RTD(\"cqg.rtd\", ,\"ContractData\",G59, \"LongDescription\",, \"T\"))","v":""},{"$f":"IFERROR(RTD(\"cqg.rtd\", ,\"ContractData\",G59, \"PerCentNetLastTrade\",, \"T\")/100,\"\")","v":""},0,58,{"$f":"IFERROR(VLOOKUP(A59,Data!$I$2:$J$507,2,FALSE),\"\")","v":""},{"$f":"IFERROR(RTD(\"cqg.rtd\", ,\"ContractData\",L59, \"PerCentNetLastTrade\",, \"T\")/100,\"\")","v":""},{"$f":"IFERROR(RANK($M59,$M$2:M$507)+COUNTIF($M$2:M59,M59)-1,\"\")","v":""},"",58,"",{"$f":"IF(Q59=\"\",\"\",RTD(\"cqg.rtd\", ,\"ContractData\",Q59, \"LongDescription\",, \"T\"))","v":""},{"$f":"IFERROR(RTD(\"cqg.rtd\", ,\"ContractData\",Q59, \"PerCentNetLastTrade\",, \"T\")/100,\"\")","v":""},0]
[59,{"$f":"IFERROR(VLOOKUP(A60,Data!$H$2:$J$507,3,FALSE),\"\")","v":""},{"$f":"IFERROR(RTD(\"cqg.rtd\", ,\"ContractData\",B60, \"PerCentNetLastTrade\",, \"T\")/100,\"\")","v":""},{"$f":"IFERROR(RANK($C60,$C$2:C$507)+COUNTIF($C$2:C60,C60)-1,\"\")","v":""},"",59,"",{"$f":"IF(G60=\"\",\"\",RTD(\"cqg.rtd\", ,\"ContractData\",G60, \"LongDescription\",, \"T\"))","v":""},{"$f":"IFERROR(RTD(\"cqg.rtd\", ,\"ContractData\",G60, \"PerCentNetLastTrade\",, \"T\")/100,\"\")","v":""},0,59,{"$f":"IFERROR(VLOOKUP(A60,Data!$I$2:$J$507,2,FALSE),\"\")","v":""},{"$f":"IFERROR(RTD(\"cqg.rtd\", ,\"ContractData\",L60, \"PerCentNetLastTrade\",, \"T\")/100,\"\")","v":""},{"$f":"IFERROR(RANK($M60,$M$2:M$507)+COUNTIF($M$2:M60,M60)-1,\"\")","v":""},"",59,"",{"$f":"IF(Q60=\"\",\"\",RTD(\"cqg.rtd\", ,\"ContractData\",Q60, \"LongDescription\",, \"T\"))","v":""},{"$f":"IFERROR(RTD(\"cqg.rtd\", ,\"ContractData\",Q60, \"PerCentNetLastTrade\",, \"T\")/100,\"\")","v":""},0]
[60,{"$f":"IFERROR(VLOOKUP(A61,Data!$H$2:$J$507,3,FALSE),\"\")","v":""},{"$f":"IFERROR(RTD(\"cqg.rtd\", ,\"ContractData\",B61, \"PerCentNetLastTrade\",, \"T\")/100,\"\")","v":""},{"$f":"IFERROR(RANK($C61,$C$2:C$507)+COUNTIF($C$2:C61,C61)-1,\"\")","v":""},"",60,"",{"$f":"IF(G61=\"\",\"\",RTD(\"cqg.rtd\", ,\"ContractData\",G61, \"LongDescription\",, \"T\"))","v":""},{"$f":"IFERROR(RTD(\"cqg.rtd\", ,\"ContractData\",G61, \"PerCentNetLastTrade\",, \"T\")/100,\"\")","v":""},0,60,{"$f":"IFERROR(VLOOKUP(A61,Data!$I$2:$J$507,2,FALSE),\"\")","v":""},{"$f":"IFERROR(RTD(\"cqg.rtd\", ,\"ContractData\",L61, \"PerCentNetLastTrade\",, \"T\")/100,\"\")","v":""},{"$f":"IFERROR(RANK($M61,$M$2:M$507)+COUNTIF($M$2:M61,M61)-1,\"\")","v":""},"",60,"",{"$f":"IF(Q61=\"\",\"\",RTD(\"cqg.rtd\", ,\"ContractData\",Q61, \"LongDescription\",, \"T\"))","v":""},{"$f":"IFERROR(RTD(\"cqg.rtd\", ,\"ContractData\",Q61, \"PerCentNetLastTrade\",, \"T\")/100,\"\")","v":""},0]
[61,{"$f":"IFERROR(VLOOKUP(A62,Data!$H$2:$J$507,3,FALSE),\"\")","v":""},{"$f":"IFERROR(RTD(\"cqg.rtd\", ,\"ContractData\",B62, \"PerCentNetLastTrade\",, \"T\")/100,\"\")","v":""},{"$f":"IFERROR(RANK($C62,$C$2:C$507)+COUNTIF($C$2:C62,C62)-1,\"\")","v":""},"",61,"",{"$f":"IF(G62=\"\",\"\",RTD(\"cqg.rtd\", ,\"ContractData\",G62, \"LongDescription\",, \"T\"))","v":""},{"$f":"IFERROR(RTD(\"cqg.rtd\", ,\"ContractData\",G62, \"PerCentNetLastTrade\",, \"T\")/100,\"\")","v":""},0,61,{"$f":"IFERROR(VLOOKUP(A62,Data!$I$2:$J$507,2,FALSE),\"\")","v":""},{"$f":"IFERROR(RTD(\"cqg.rtd\", ,\"ContractData\",L62, \"PerCentNetLastTrade\",, \"T\")/100,\"\")","v":""},{"$f":"IFERROR(RANK($M62,$M$2:M$507)+COUNTIF($M$2:M62,M62)-1,\"\")","v":""},"",61,"",{"$f":"IF(Q62=\"\",\"\",RTD(\"cqg.rtd\", ,\"ContractData\",Q62, \"LongDescription\",, \"T\"))","v":""},{"$f":"IFERROR(RTD(\"cqg.rtd\", ,\"ContractData\",Q62, \"PerCentNetLastTrade\",, \"T\")/100,\"\")","v":""},0]
[62,{"$f":"IFERROR(VLOOKUP(A63,Data!$H$2:$J$507,3,FALSE),\"\")","v":""},{"$f":"IFERROR(RTD(\"cqg.rtd\", ,\"ContractData\",B63, \"PerCentNetLastTrade\",, \"T\")/100,\"\")","v":""},{"$f":"IFERROR(RANK($C63,$C$2:C$507)+COUNTIF($C$2:C63,C63)-1,\"\")","v":""},"",62,"",{"$f":"IF(G63=\"\",\"\",RTD(\"cqg.rtd\", ,\"ContractData\",G63, \"LongDescription\",, \"T\"))","v":""},{"$f":"IFERROR(RTD(\"cqg.rtd\", ,\"ContractData\",G63, \"PerCentNetLastTrade\",, \"T\")/100,\"\")","v":""},0,62,{"$f":"IFERROR(VLOOKUP(A63,Data!$I$2:$J$507,2,FALSE),\"\")","v":""},{"$f":"IFERROR(RTD(\"cqg.rtd\", ,\"ContractData\",L63, \"PerCentNetLastTrade\",, \"T\")/100,\"\")","v":""},{"$f":"IFERROR(RANK($M63,$M$2:M$507)+COUNTIF($M$2:M63,M63)-1,\"\")","v":""},"",62,"",{"$f":"IF(Q63=\"\",\"\",RTD(\"cqg.rtd\", ,\"ContractData\",Q63, \"LongDescription\",, \"T\"))","v":""},{"$f":"IFERROR(RTD(\"cqg.rtd\", ,\"ContractData\",Q63, \"PerCentNetLastTrade\",, \"T\")/100,\"\")","v":""},0]
[63,{"$f":"IFERROR(VLOOKUP(A64,Data!$H$2:$J$507,3,FALSE),\"\")","v":""},{"$f":"IFERROR(RTD(\"cqg.rtd\", ,\"ContractData\",B64, \"PerCentNetLastTrade\",, \"T\")/100,\"\")","v":""},{"$f":"IFERROR(RANK($C64,$C$2:C$507)+COUNTIF($C$2:C64,C64)-1,\"\")","v":""},"",63,"",{"$f":"IF(G64=\"\",\"\",RTD(\"cqg.rtd\", ,\"ContractData\",G64, \"LongDescription\",, \"T\"))","v":""},{"$f":"IFERROR(RTD(\"cqg.rtd\", ,\"ContractData\",G64, \"PerCentNetLastTrade\",, \"T\")/100,\"\")","v":""},0,63,{"$f":"IFERROR(VLOOKUP(A64,Data!$I$2:$J$507,2,FALSE),\"\")","v":""},{"$f":"IFERROR(RTD(\"cqg.rtd\", ,\"ContractData\",L64, \"PerCentNetLastTrade\",, \"T\")/100,\"\")","v":""},{"$f":"IFERROR(RANK($M64,$M$2:M$507)+COUNTIF($M$2:M64,M64)-1,\"\")","v":""},"",63,"",{"$f":"IF(Q64=\"\",\"\",RTD(\"cqg.rtd\", ,\"ContractData\",Q64, \"LongDescription\",, \"T\"))","v":""},{"$f":"IFERROR(RTD(\"cqg.rtd\", ,\"ContractData\",Q64, \"PerCentNetLastTrade\",, \"T\")/100,\"\")","v":""},0]
[64,{"$f":"IFERROR(VLOOKUP(A65,Data!$H$2:$J$507,3,FALSE),\"\")","v":""},{"$f":"IFERROR(RTD(\"cqg.rtd\", ,\"ContractData\",B65, \"PerCentNetLastTrade\",, \"T\")/100,\"\")","v":""},{"$f":"IFERROR(RANK($C65,$C$2:C$507)+COUNTIF($C$2:C65,C65)-1,\"\")","v":""},"",64,"",{"$f":"IF(G65=\"\",\"\",RTD(\"cqg.rtd\", ,\"ContractData\",G65, \"LongDescription\",, \"T\"))","v":""},{"$f":"IFERROR(RTD(\"cqg.rtd\", ,\"ContractData\",G65, \"PerCentNetLastTrade\",, \"T\")/100,\"\")","v":""},0,64,{"$f":"IFERROR(VLOOKUP(A65,Data!$I$2:$J$507,2,FALSE),\"\")","v":""},{"$f":"IFERROR(RTD(\"cqg.rtd\", ,\"ContractData\",L65, \"PerCentNetLastTrade\",, \"T\")/100,\"\")","v":""},{"$f":"IFERROR(RANK($M65,$M$2:M$507)+COUNTIF($M$2:M65,M65)-1,\"\")","v":""},"",64,"",{"$f":"IF(Q65=\"\",\"\",RTD(\"cqg.rtd\", ,\"ContractData\",Q65, \"LongDescription\",, \"T\"))","v":""},{"$f":"IFERROR(RTD(\"cqg.rtd\", ,\"ContractData\",Q65, \"PerCentNetLastTrade\",, \"T\")/100,\"\")","v":""},0]
[65,{"$f":"IFERROR(VLOOKUP(A66,Data!$H$2:$J$507,3,FALSE),\"\")","v":""},{"$f":"IFERROR(RTD(\"cqg.rtd\", ,\"ContractData\",B66, \"PerCentNetLastTrade\",, \"T\")/100,\"\")","v":""},{"$f":"IFERROR(RANK($C66,$C$2:C$507)+COUNTIF($C$2:C66,C66)-1,\"\")","v":""},"",65,"",{"$f":"IF(G66=\"\",\"\",RTD(\"cqg.rtd\", ,\"ContractData\",G66, \"LongDescription\",, \"T\"))","v":""},{"$f":"IFERROR(RTD(\"cqg.rtd\", ,\"ContractData\",G66, \"PerCentNetLastTrade\",, \"T\")/100,\"\")","v":""},0,65,{"$f":"IFERROR(VLOOKUP(A66,Data!$I$2:$J$507,2,FALSE),\"\")","v":""},{"$f":"IFERROR(RTD(\"cqg.rtd\", ,\"ContractData\",L66, \"PerCentNetLastTrade\",, \"T\")/100,\"\")","v":""},{"$f":"IFERROR(RANK($M66,$M$2:M$507)+COUNTIF($M$2:M66,M66)-1,\"\")","v":""},"",65,"",{"$f":"IF(Q66=\"\",\"\",RTD(\"cqg.rtd\", ,\"ContractData\",Q66, \"LongDescription\",, \"T\"))","v":""},{"$f":"IFERROR(RTD(\"cqg.rtd\", ,\"ContractData\",Q66, \"PerCentNetLastTrade\",, \"T\")/100,\"\")","v":""},0]
[66,{"$f":"IFERROR(VLOOKUP(A67,Data!$H$2:$J$507,3,FALSE),\"\")","v":""},{"$f":"IFERROR(RTD(\"cqg.rtd\", ,\"ContractData\",B67, \"PerCentNetLastTrade\",, \"T\")/100,\"\")","v":""},{"$f":"IFERROR(RANK($C67,$C$2:C$507)+COUNTIF($C$2:C67,C67)-1,\"\")","v":""},"",66,{"$f":"IFERROR(VLOOKUP(F67,$D$2:$E$507,2,FALSE),\"\")","v":""},{"$f":"IF(G67=\"\",\"\",RTD(\"cqg.rtd\", ,\"ContractData\",G67, \"LongDescription\",, \"T\"))","v":""},{"$f":"IFERROR(RTD(\"cqg.rtd\", ,\"ContractData\",G67, \"PerCentNetLastTrade\",, \"T\")/100,\"\")","v":""},0,66,{"$f":"IFERROR(VLOOKUP(A67,Data!$I$2:$J$507,2,FALSE),\"\")","v":""},{"$f":"IFERROR(RTD(\"cqg.rtd\", ,\"ContractData\",L67, \"PerCentNetLastTrade\",, \"T\")/100,\"\")","v":""},{"$f":"IFERROR(RANK($M67,$M$2:M$507)+COUNTIF($M$2:M67,M67)-1,\"\")","v":""},{"$f":"IF(L67=\"\",\"\",L67)","v":""},66,{"$f":"IFERROR(VLOOKUP(P67,$N$2:$O$507,2,FALSE),\"\")","v":""},{"$f":"IF(Q67=\"\",\"\",RTD(\"cqg.rtd\", ,\"ContractData\",Q67, \"LongDescription\",, \"T\"))","v":""},{"$f":"IFERROR(RTD(\"cqg.rtd\", ,\"ContractData\",Q67, \"PerCentNetLastTrade\",, \"T\")/100,\"\")","v":""},{"$f":"IF(S67<>\"\",1,0)","v":0}]
[{"$f":"A67+1","v":67},{"$f":"IFERROR(VLOOKUP(A68,Data!$H$2:$J$507,3,FALSE),\"\")","v":""},{"$f":"IFERROR(RTD(\"cqg.rtd\", ,\"ContractData\",B68, \"PerCentNetLastTrade\",, \"T\")/100,\"\")","v":""},{"$f":"IFERROR(RANK($C68,$C$2:C$507)+COUNTIF($C$2:C68,C68)-1,\"\")","v":""},"",{"$f":"F67+1","v":67},"",{"$f":"IF(G68=\"\",\"\",RTD(\"cqg.rtd\", ,\"ContractData\",G68, \"LongDescription\",, \"T\"))","v":""},{"$f":"IFERROR(RTD(\"cqg.rtd\", ,\"ContractData\",G68, \"PerCentNetLastTrade\",, \"T\")/100,\"\")","v":""},0,{"$f":"K67+1","v":67},{"$f":"IFERROR(VLOOKUP(A68,Data!$I$2:$J$507,2,FALSE),\"\")","v":""},{"$f":"IFERROR(RTD(\"cqg.rtd\", ,\"ContractData\",L68, \"PerCentNetLastTrade\",, \"T\")/100,\"\")","v":""},{"$f":"IFERROR(RANK($M68,$M$2:M$507)+COUNTIF($M$2:M68,M68)-1,\"\")","v":""},"",{"$f":"P67+1","v":67},"",{"$f":"IF(Q68=\"\",\"\",RTD(\"cqg.rtd\", ,\"ContractData\",Q68, \"LongDescription\",, \"T\"))","v":""},{"$f":"IFERROR(RTD(\"cqg.rtd\", ,\"ContractData\",Q68, \"PerCentNetLastTrade\",, \"T\")/100,\"\")","v":""},0]
[68,{"$f":"IFERROR(VLOOKUP(A69,Data!$H$2:$J$507,3,FALSE),\"\")","v":""},{"$f":"IFERROR(RTD(\"cqg.rtd\", ,\"ContractData\",B69, \"PerCentNetLastTrade\",, \"T\")/100,\"\")","v":""},{"$f":"IFERROR(RANK($C69,$C$2:C$507)+COUNTIF($C$2:C69,C69)-1,\"\")","v":""},"",68,"",{"$f":"IF(G69=\"\",\"\",RTD(\"cqg.rtd\", ,\"ContractData\",G69, \"LongDescription\",, \"T\"))","v":""},{"$f":"IFERROR(RTD(\"cqg.rtd\", ,\"ContractData\",G69, \"PerCentNetLastTrade\",, \"T\")/100,\"\")","v":""},0,68,{"$f":"IFERROR(VLOOKUP(A69,Data!$I$2:$J$507,2,FALSE),\"\")","v":""},{"$f":"IFERROR(RTD(\"cqg.rtd\", ,\"ContractData\",L69, \"PerCentNetLastTrade\",, \"T\")/100,\"\")","v":""},{"$f":"IFERROR(RANK($M69,$M$2:M$507)+COUNTIF($M$2:M69,M69)-1,\"\")","v":""},"",68,"",{"$f":"IF(Q69=\"\",\"\",RTD(\"cqg.rtd\", ,\"ContractData\",Q69, \"LongDescription\",, \"T\"))","v":""},{"$f":"IFERROR(RTD(\"cqg.rtd\", ,\"ContractData\",Q69, \"PerCentNetLastTrade\",, \"T\")/100,\"\")","v":""},0]
[69,{"$f":"IFERROR(VLOOKUP(A70,Data!$H$2:$J$507,3,FALSE),\"\")","v":""},{"$f":"IFERROR(RTD(\"cqg.rtd\", ,\"ContractData\",B70, \"PerCentNetLastTrade\",, \"T\")/100,\"\")","v":""},{"$f":"IFERROR(RANK($C70,$C$2:C$507)+COUNTIF($C$2:C70,C70)-1,\"\")","v":""},"",69,"",{"$f":"IF(G70=\"\",\"\",RTD(\"cqg.rtd\", ,\"ContractData\",G70, \"LongDescription\",, \"T\"))","v":""},{"$f":"IFERROR(RTD(\"cqg.rtd\", ,\"ContractData\",G70, \"PerCentNetLastTrade\",, \"T\")/100,\"\")","v":""},0,69,{"$f":"IFERROR(VLOOKUP(A70,Data!$I$2:$J$507,2,FALSE),\"\")","v":""},{"$f":"IFERROR(RTD(\"cqg.rtd\", ,\"ContractData\",L70, \"PerCentNetLastTrade\",, \"T\")/100,\"\")","v":""},{"$f":"IFERROR(RANK($M70,$M$2:M$507)+COUNTIF($M$2:M70,M70)-1,\"\")","v":""},"",69,"",{"$f":"IF(Q70=\"\",\"\",RTD(\"cqg.rtd\", ,\"ContractData\",Q70, \"LongDescription\",, \"T\"))","v":""},{"$f":"IFERROR(RTD(\"cqg.rtd\", ,\"ContractData\",Q70, \"PerCentNetLastTrade\",, \"T\")/100,\"\")","v":""},0]
[70,{"$f":"IFERROR(VLOOKUP(A71,Data!$H$2:$J$507,3,FALSE),\"\")","v":""},{"$f":"IFERROR(RTD(\"cqg.rtd\", ,\"ContractData\",B71, \"PerCentNetLastTrade\",, \"T\")/100,\"\")","v":""},{"$f":"IFERROR(RANK($C71,$C$2:C$507)+COUNTIF($C$2:C71,C71)-1,\"\")","v":""},"",70,"",{"$f":"IF(G71=\"\",\"\",RTD(\"cqg.rtd\", ,\"ContractData\",G71, \"LongDescription\",, \"T\"))","v":""},{"$f":"IFERROR(RTD(\"cqg.rtd\", ,\"ContractData\",G71, \"PerCentNetLastTrade\",, \"T\")/100,\"\")","v":""},0,70,{"$f":"IFERROR(VLOOKUP(A71,Data!$I$2:$J$507,2,FALSE),\"\")","v":""},{"$f":"IFERROR(RTD(\"cqg.rtd\", ,\"ContractData\",L71, \"PerCentNetLastTrade\",, \"T\")/100,\"\")","v":""},{"$f":"IFERROR(RANK($M71,$M$2:M$507)+COUNTIF($M$2:M71,M71)-1,\"\")","v":""},"",70,"",{"$f":"IF(Q71=\"\",\"\",RTD(\"cqg.rtd\", ,\"ContractData\",Q71, \"LongDescription\",, \"T\"))","v":""},{"$f":"IFERROR(RTD(\"cqg.rtd\", ,\"ContractData\",Q71, \"PerCentNetLastTrade\",, \"T\")/100,\"\")","v":""},0]
[71,{"$f":"IFERROR(VLOOKUP(A72,Data!$H$2:$J$507,3,FALSE),\"\")","v":""},{"$f":"IFERROR(RTD(\"cqg.rtd\", ,\"ContractData\",B72, \"PerCentNetLastTrade\",, \"T\")/100,\"\")","v":""},{"$f":"IFERROR(RANK($C72,$C$2:C$507)+COUNTIF($C$2:C72,C72)-1,\"\")","v":""},"",71,"",{"$f":"IF(G72=\"\",\"\",RTD(\"cqg.rtd\", ,\"ContractData\",G72, \"LongDescription\",, \"T\"))","v":""},{"$f":"IFERROR(RTD(\"cqg.rtd\", ,\"ContractData\",G72, \"PerCentNetLastTrade\",, \"T\")/100,\"\")","v":""},0,71,{"$f":"IFERROR(VLOOKUP(A72,Data!$I$2:$J$507,2,FALSE),\"\")","v":""},{"$f":"IFERROR(RTD(\"cqg.rtd\", ,\"ContractData\",L72, \"PerCentNetLastTrade\",, \"T\")/100,\"\")","v":""},{"$f":"IFERROR(RANK($M72,$M$2:M$507)+COUNTIF($M$2:M72,M72)-1,\"\")","v":""},"",71,"",{"$f":"IF(Q72=\"\",\"\",RTD(\"cqg.rtd\", ,\"ContractData\",Q72, \"LongDescription\",, \"T\"))","v":""},{"$f":"IFERROR(RTD(\"cqg.rtd\", ,\"ContractData\",Q72, \"PerCentNetLastTrade\",, \"T\")/100,\"\")","v":""},0]
[72,{"$f":"IFERROR(VLOOKUP(A73,Data!$H$2:$J$507,3,FALSE),\"\")","v":""},{"$f":"IFERROR(RTD(\"cqg.rtd\", ,\"ContractData\",B73, \"PerCentNetLastTrade\",, \"T\")/100,\"\")","v":""},{"$f":"IFERROR(RANK($C73,$C$2:C$507)+COUNTIF($C$2:C73,C73)-1,\"\")","v":""},"",72,"",{"$f":"IF(G73=\"\",\"\",RTD(\"cqg.rtd\", ,\"ContractData\",G73, \"LongDescription\",, \"T\"))","v":""},{"$f":"IFERROR(RTD(\"cqg.rtd\", ,\"ContractData\",G73, \"PerCentNetLastTrade\",, \"T\")/100,\"\")","v":""},0,72,{"$f":"IFERROR(VLOOKUP(A73,Data!$I$2:$J$507,2,FALSE),\"\")","v":""},{"$f":"IFERROR(RTD(\"cqg.rtd\", ,\"ContractData\",L73, \"PerCentNetLastTrade\",, \"T\")/100,\"\")","v":""},{"$f":"IFERROR(RANK($M73,$M$2:M$507)+COUNTIF($M$2:M73,M73)-1,\"\")","v":""},"",72,"",{"$f":"IF(Q73=\"\",\"\",RTD(\"cqg.rtd\", ,\"ContractData\",Q73, \"LongDescription\",, \"T\"))","v":""},{"$f":"IFERROR(RTD(\"cqg.rtd\", ,\"ContractData\",Q73, \"PerCentNetLastTrade\",, \"T\")/100,\"\")","v":""},0]
[73,{"$f":"IFERROR(VLOOKUP(A74,Data!$H$2:$J$507,3,FALSE),\"\")","v":""},{"$f":"IFERROR(RTD(\"cqg.rtd\", ,\"ContractData\",B74, \"PerCentNetLastTrade\",, \"T\")/100,\"\")","v":""},{"$f":"IFERROR(RANK($C74,$C$2:C$507)+COUNTIF($C$2:C74,C74)-1,\"\")","v":""},"",73,"",{"$f":"IF(G74=\"\",\"\",RTD(\"cqg.rtd\", ,\"ContractData\",G74, \"LongDescription\",, \"T\"))","v":""},{"$f":"IFERROR(RTD(\"cqg.rtd\", ,\"ContractData\",G74, \"PerCentNetLastTrade\",, \"T\")/100,\"\")","v":""},0,73,{"$f":"IFERROR(VLOOKUP(A74,Data!$I$2:$J$507,2,FALSE),\"\")","v":""},{"$f":"IFERROR(RTD(\"cqg.rtd\", ,\"ContractData\",L74, \"PerCentNetLastTrade\",, \"T\")/100,\"\")","v":""},{"$f":"IFERROR(RANK($M74,$M$2:M$507)+COUNTIF($M$2:M74,M74)-1,\"\")","v":""},"",73,"",{"$f":"IF(Q74=\"\",\"\",RTD(\"cqg.rtd\", ,\"ContractData\",Q74, \"LongDescription\",, \"T\"))","v":""},{"$f":"IFERROR(RTD(\"cqg.rtd\", ,\"ContractData\",Q74, \"PerCentNetLastTrade\",, \"T\")/100,\"\")","v":""},0]
[74,{"$f":"IFERROR(VLOOKUP(A75,Data!$H$2:$J$507,3,FALSE),\"\")","v":""},{"$f":"IFERROR(RTD(\"cqg.rtd\", ,\"ContractData\",B75, \"PerCentNetLastTrade\",, \"T\")/100,\"\")","v":""},{"$f":"IFERROR(RANK($C75,$C$2:C$507)+COUNTIF($C$2:C75,C75)-1,\"\")","v":""},"",74,"",{"$f":"IF(G75=\"\",\"\",RTD(\"cqg.rtd\", ,\"ContractData\",G75, \"LongDescription\",, \"T\"))","v":""},{"$f":"IFERROR(RTD(\"cqg.rtd\", ,\"ContractData\",G75, \"PerCentNetLastTrade\",, \"T\")/100,\"\")","v":""},0,74,{"$f":"IFERROR(VLOOKUP(A75,Data!$I$2:$J$507,2,FALSE),\"\")","v":""},{"$f":"IFERROR(RTD(\"cqg.rtd\", ,\"ContractData\",L75, \"PerCentNetLastTrade\",, \"T\")/100,\"\")","v":""},{"$f":"IFERROR(RANK($M75,$M$2:M$507)+COUNTIF($M$2:M75,M75)-1,\"\")","v":""},"",74,"",{"$f":"IF(Q75=\"\",\"\",RTD(\"cqg.rtd\", ,\"ContractData\",Q75, \"LongDescription\",, \"T\"))","v":""},{"$f":"IFERROR(RTD(\"cqg.rtd\", ,\"ContractData\",Q75, \"PerCentNetLastTrade\",, \"T\")/100,\"\")","v":""},0]
[75,{"$f":"IFERROR(VLOOKUP(A76,Data!$H$2:$J$507,3,FALSE),\"\")","v":""},{"$f":"IFERROR(RTD(\"cqg.rtd\", ,\"ContractData\",B76, \"PerCentNetLastTrade\",, \"T\")/100,\"\")","v":""},{"$f":"IFERROR(RANK($C76,$C$2:C$507)+COUNTIF($C$2:C76,C76)-1,\"\")","v":""},"",75,"",{"$f":"IF(G76=\"\",\"\",RTD(\"cqg.rtd\", ,\"ContractData\",G76, \"LongDescription\",, \"T\"))","v":""},{"$f":"IFERROR(RTD(\"cqg.rtd\", ,\"ContractData\",G76, \"PerCentNetLastTrade\",, \"T\")/100,\"\")","v":""},0,75,{"$f":"IFERROR(VLOOKUP(A76,Data!$I$2:$J$507,2,FALSE),\"\")","v":""},{"$f":"IFERROR(RTD(\"cqg.rtd\", ,\"ContractData\",L76, \"PerCentNetLastTrade\",, \"T\")/100,\"\")","v":""},{"$f":"IFERROR(RANK($M76,$M$2:M$507)+COUNTIF($M$2:M76,M76)-1,\"\")","v":""},"",75,"",{"$f":"IF(Q76=\"\",\"\",RTD(\"cqg.rtd\", ,\"ContractData\",Q76, \"LongDescription\",, \"T\"))","v":""},{"$f":"IFERROR(RTD(\"cqg.rtd\", ,\"ContractData\",Q76, \"PerCentNetLastTrade\",, \"T\")/100,\"\")","v":""},0]
[76,{"$f":"IFERROR(VLOOKUP(A77,Data!$H$2:$J$507,3,FALSE),\"\")","v":""},{"$f":"IFERROR(RTD(\"cqg.rtd\", ,\"ContractData\",B77, \"PerCentNetLastTrade\",, \"T\")/100,\"\")","v":""},{"$f":"IFERROR(RANK($C77,$C$2:C$507)+COUNTIF($C$2:C77,C77)-1,\"\")","v":""},"",76,"",{"$f":"IF(G77=\"\",\"\",RTD(\"cqg.rtd\", ,\"ContractData\",G77, \"LongDescription\",, \"T\"))","v":""},{"$f":"IFERROR(RTD(\"cqg.rtd\", ,\"ContractData\",G77, \"PerCentNetLastTrade\",, \"T\")/100,\"\")","v":""},0,76,{"$f":"IFERROR(VLOOKUP(A77,Data!$I$2:$J$507,2,FALSE),\"\")","v":""},{"$f":"IFERROR(RTD(\"cqg.rtd\", ,\"ContractData\",L77, \"PerCentNetLastTrade\",, \"T\")/100,\"\")","v":""},{"$f":"IFERROR(RANK($M77,$M$2:M$507)+COUNTIF($M$2:M77,M77)-1,\"\")","v":""},"",76,"",{"$f":"IF(Q77=\"\",\"\",RTD(\"cqg.rtd\", ,\"ContractData\",Q77, \"LongDescription\",, \"T\"))","v":""},{"$f":"IFERROR(RTD(\"cqg.rtd\", ,\"ContractData\",Q77, \"PerCentNetLastTrade\",, \"T\")/100,\"\")","v":""},0]
[77,{"$f":"IFERROR(VLOOKUP(A78,Data!$H$2:$J$507,3,FALSE),\"\")","v":""},{"$f":"IFERROR(RTD(\"cqg.rtd\", ,\"ContractData\",B78, \"PerCentNetLastTrade\",, \"T\")/100,\"\")","v":""},{"$f":"IFERROR(RANK($C78,$C$2:C$507)+COUNTIF($C$2:C78,C78)-1,\"\")","v":""},"",77,"",{"$f":"IF(G78=\"\",\"\",RTD(\"cqg.rtd\", ,\"ContractData\",G78, \"LongDescription\",, \"T\"))","v":""},{"$f":"IFERROR(RTD(\"cqg.rtd\", ,\"ContractData\",G78, \"PerCentNetLastTrade\",, \"T\")/100,\"\")","v":""},0,77,{"$f":"IFERROR(VLOOKUP(A78,Data!$I$2:$J$507,2,FALSE),\"\")","v":""},{"$f":"IFERROR(RTD(\"cqg.rtd\", ,\"ContractData\",L78, \"PerCentNetLastTrade\",, \"T\")/100,\"\")","v":""},{"$f":"IFERROR(RANK($M78,$M$2:M$507)+COUNTIF($M$2:M78,M78)-1,\"\")","v":""},"",77,"",{"$f":"IF(Q78=\"\",\"\",RTD(\"cqg.rtd\", ,\"ContractData\",Q78, \"LongDescription\",, \"T\"))","v":""},{"$f":"IFERROR(RTD(\"cqg.rtd\", ,\"ContractData\",Q78, \"PerCentNetLastTrade\",, \"T\")/100,\"\")","v":""},0]
[78,{"$f":"IFERROR(VLOOKUP(A79,Data!$H$2:$J$507,3,FALSE),\"\")","v":""},{"$f":"IFERROR(RTD(\"cqg.rtd\", ,\"ContractData\",B79, \"PerCentNetLastTrade\",, \"T\")/100,\"\")","v":""},{"$f":"IFERROR(RANK($C79,$C$2:C$507)+COUNTIF($C$2:C79,C79)-1,\"\")","v":""},"",78,"",{"$f":"IF(G79=\"\",\"\",RTD(\"cqg.rtd\", ,\"ContractData\",G79, \"LongDescription\",, \"T\"))","v":""},{"$f":"IFERROR(RTD(\"cqg.rtd\", ,\"ContractData\",G79, \"PerCentNetLastTrade\",, \"T\")/100,\"\")","v":""},0,78,{"$f":"IFERROR(VLOOKUP(A79,Data!$I$2:$J$507,2,FALSE),\"\")","v":""},{"$f":"IFERROR(RTD(\"cqg.rtd\", ,\"ContractData\",L79, \"PerCentNetLastTrade\",, \"T\")/100,\"\")","v":""},{"$f":"IFERROR(RANK($M79,$M$2:M$507)+COUNTIF($M$2:M79,M79)-1,\"\")","v":""},"",78,"",{"$f":"IF(Q79=\"\",\"\",RTD(\"cqg.rtd\", ,\"ContractData\",Q79, \"LongDescription\",, \"T\"))","v":""},{"$f":"IFERROR(RTD(\"cqg.rtd\", ,\"ContractData\",Q79, \"PerCentNetLastTrade\",, \"T\")/100,\"\")","v":""},0]
[79,{"$f":"IFERROR(VLOOKUP(A80,Data!$H$2:$J$507,3,FALSE),\"\")","v":""},{"$f":"IFERROR(RTD(\"cqg.rtd\", ,\"ContractData\",B80, \"PerCentNetLastTrade\",, \"T\")/100,\"\")","v":""},{"$f":"IFERROR(RANK($C80,$C$2:C$507)+COUNTIF($C$2:C80,C80)-1,\"\")","v":""},"",79,"",{"$f":"IF(G80=\"\",\"\",RTD(\"cqg.rtd\", ,\"ContractData\",G80, \"LongDescription\",, \"T\"))","v":""},{"$f":"IFERROR(RTD(\"cqg.rtd\", ,\"ContractData\",G80, \"PerCentNetLastTrade\",, \"T\")/100,\"\")","v":""},0,79,{"$f":"IFERROR(VLOOKUP(A80,Data!$I$2:$J$507,2,FALSE),\"\")","v":""},{"$f":"IFERROR(RTD(\"cqg.rtd\", ,\"ContractData\",L80, \"PerCentNetLastTrade\",, \"T\")/100,\"\")","v":""},{"$f":"IFERROR(RANK($M80,$M$2:M$507)+COUNTIF($M$2:M80,M80)-1,\"\")","v":""},"",79,"",{"$f":"IF(Q80=\"\",\"\",RTD(\"cqg.rtd\", ,\"ContractData\",Q80, \"LongDescription\",, \"T\"))","v":""},{"$f":"IFERROR(RTD(\"cqg.rtd\", ,\"ContractData\",Q80, \"PerCentNetLastTrade\",, \"T\")/100,\"\")","v":""},0]
[80,{"$f":"IFERROR(VLOOKUP(A81,Data!$H$2:$J$507,3,FALSE),\"\")","v":""},{"$f":"IFERROR(RTD(\"cqg.rtd\", ,\"ContractData\",B81, \"PerCentNetLastTrade\",, \"T\")/100,\"\")","v":""},{"$f":"IFERROR(RANK($C81,$C$2:C$507)+COUNTIF($C$2:C81,C81)-1,\"\")","v":""},"",80,"",{"$f":"IF(G81=\"\",\"\",RTD(\"cqg.rtd\", ,\"ContractData\",G81, \"LongDescription\",, \"T\"))","v":""},{"$f":"IFERROR(RTD(\"cqg.rtd\", ,\"ContractData\",G81, \"PerCentNetLastTrade\",, \"T\")/100,\"\")","v":""},0,80,{"$f":"IFERROR(VLOOKUP(A81,Data!$I$2:$J$507,2,FALSE),\"\")","v":""},{"$f":"IFERROR(RTD(\"cqg.rtd\", ,\"ContractData\",L81, \"PerCentNetLastTrade\",, \"T\")/100,\"\")","v":""},{"$f":"IFERROR(RANK($M81,$M$2:M$507)+COUNTIF($M$2:M81,M81)-1,\"\")","v":""},"",80,"",{"$f":"IF(Q81=\"\",\"\",RTD(\"cqg.rtd\", ,\"ContractData\",Q81, \"LongDescription\",, \"T\"))","v":""},{"$f":"IFERROR(RTD(\"cqg.rtd\", ,\"ContractData\",Q81, \"PerCentNetLastTrade\",, \"T\")/100,\"\")","v":""},0]
[81,{"$f":"IFERROR(VLOOKUP(A82,Data!$H$2:$J$507,3,FALSE),\"\")","v":""},{"$f":"IFERROR(RTD(\"cqg.rtd\", ,\"ContractData\",B82, \"PerCentNetLastTrade\",, \"T\")/100,\"\")","v":""},{"$f":"IFERROR(RANK($C82,$C$2:C$507)+COUNTIF($C$2:C82,C82)-1,\"\")","v":""},"",81,"",{"$f":"IF(G82=\"\",\"\",RTD(\"cqg.rtd\", ,\"ContractData\",G82, \"LongDescription\",, \"T\"))","v":""},{"$f":"IFERROR(RTD(\"cqg.rtd\", ,\"ContractData\",G82, \"PerCentNetLastTrade\",, \"T\")/100,\"\")","v":""},0,81,{"$f":"IFERROR(VLOOKUP(A82,Data!$I$2:$J$507,2,FALSE),\"\")","v":""},{"$f":"IFERROR(RTD(\"cqg.rtd\", ,\"ContractData\",L82, \"PerCentNetLastTrade\",, \"T\")/100,\"\")","v":""},{"$f":"IFERROR(RANK($M82,$M$2:M$507)+COUNTIF($M$2:M82,M82)-1,\"\")","v":""},"",81,"",{"$f":"IF(Q82=\"\",\"\",RTD(\"cqg.rtd\", ,\"ContractData\",Q82, \"LongDescription\",, \"T\"))","v":""},{"$f":"IFERROR(RTD(\"cqg.rtd\", ,\"ContractData\",Q82, \"PerCentNetLastTrade\",, \"T\")/100,\"\")","v":""},0]
[82,{"$f":"IFERROR(VLOOKUP(A83,Data!$H$2:$J$507,3,FALSE),\"\")","v":""},{"$f":"IFERROR(RTD(\"cqg.rtd\", ,\"ContractData\",B83, \"PerCentNetLastTrade\",, \"T\")/100,\"\")","v":""},{"$f":"IFERROR(RANK($C83,$C$2:C$507)+COUNTIF($C$2:C83,C83)-1,\"\")","v":""},"",82,"",{"$f":"IF(G83=\"\",\"\",RTD(\"cqg.rtd\", ,\"ContractData\",G83, \"LongDescription\",, \"T\"))","v":""},{"$f":"IFERROR(RTD(\"cqg.rtd\", ,\"ContractData\",G83, \"PerCentNetLastTrade\",, \"T\")/100,\"\")","v":""},0,82,{"$f":"IFERROR(VLOOKUP(A83,Data!$I$2:$J$507,2,FALSE),\"\")","v":""},{"$f":"IFERROR(RTD(\"cqg.rtd\", ,\"ContractData\",L83, \"PerCentNetLastTrade\",, \"T\")/100,\"\")","v":""},{"$f":"IFERROR(RANK($M83,$M$2:M$507)+COUNTIF($M$2:M83,M83)-1,\"\")","v":""},"",82,"",{"$f":"IF(Q83=\"\",\"\",RTD(\"cqg.rtd\", ,\"ContractData\",Q83, \"LongDescription\",, \"T\"))","v":""},{"$f":"IFERROR(RTD(\"cqg.rtd\", ,\"ContractData\",Q83, \"PerCentNetLastTrade\",, \"T\")/100,\"\")","v":""},0]
[83,{"$f":"IFERROR(VLOOKUP(A84,Data!$H$2:$J$507,3,FALSE),\"\")","v":""},{"$f":"IFERROR(RTD(\"cqg.rtd\", ,\"ContractData\",B84, \"PerCentNetLastTrade\",, \"T\")/100,\"\")","v":""},{"$f":"IFERROR(RANK($C84,$C$2:C$507)+COUNTIF($C$2:C84,C84)-1,\"\")","v":""},"",83,"",{"$f":"IF(G84=\"\",\"\",RTD(\"cqg.rtd\", ,\"ContractData\",G84, \"LongDescription\",, \"T\"))","v":""},{"$f":"IFERROR(RTD(\"cqg.rtd\", ,\"ContractData\",G84, \"PerCentNetLastTrade\",, \"T\")/100,\"\")","v":""},0,83,{"$f":"IFERROR(VLOOKUP(A84,Data!$I$2:$J$507,2,FALSE),\"\")","v":""},{"$f":"IFERROR(RTD(\"cqg.rtd\", ,\"ContractData\",L84, \"PerCentNetLastTrade\",, \"T\")/100,\"\")","v":""},{"$f":"IFERROR(RANK($M84,$M$2:M$507)+COUNTIF($M$2:M84,M84)-1,\"\")","v":""},"",83,"",{"$f":"IF(Q84=\"\",\"\",RTD(\"cqg.rtd\", ,\"ContractData\",Q84, \"LongDescription\",, \"T\"))","v":""},{"$f":"IFERROR(RTD(\"cqg.rtd\", ,\"ContractData\",Q84, \"PerCentNetLastTrade\",, \"T\")/100,\"\")","v":""},0]
[84,{"$f":"IFERROR(VLOOKUP(A85,Data!$H$2:$J$507,3,FALSE),\"\")","v":""},{"$f":"IFERROR(RTD(\"cqg.rtd\", ,\"ContractData\",B85, \"PerCentNetLastTrade\",, \"T\")/100,\"\")","v":""},{"$f":"IFERROR(RANK($C85,$C$2:C$507)+COUNTIF($C$2:C85,C85)-1,\"\")","v":""},"",84,"",{"$f":"IF(G85=\"\",\"\",RTD(\"cqg.rtd\", ,\"ContractData\",G85, \"LongDescription\",, \"T\"))","v":""},{"$f":"IFERROR(RTD(\"cqg.rtd\", ,\"ContractData\",G85, \"PerCentNetLastTrade\",, \"T\")/100,\"\")","v":""},0,84,{"$f":"IFERROR(VLOOKUP(A85,Data!$I$2:$J$507,2,FALSE),\"\")","v":""},{"$f":"IFERROR(RTD(\"cqg.rtd\", ,\"ContractData\",L85, \"PerCentNetLastTrade\",, \"T\")/100,\"\")","v":""},{"$f":"IFERROR(RANK($M85,$M$2:M$507)+COUNTIF($M$2:M85,M85)-1,\"\")","v":""},"",84,"",{"$f":"IF(Q85=\"\",\"\",RTD(\"cqg.rtd\", ,\"ContractData\",Q85, \"LongDescription\",, \"T\"))","v":""},{"$f":"IFERROR(RTD(\"cqg.rtd\", ,\"ContractData\",Q85, \"PerCentNetLastTrade\",, \"T\")/100,\"\")","v":""},0]
[85,{"$f":"IFERROR(VLOOKUP(A86,Data!$H$2:$J$507,3,FALSE),\"\")","v":""},{"$f":"IFERROR(RTD(\"cqg.rtd\", ,\"ContractData\",B86, \"PerCentNetLastTrade\",, \"T\")/100,\"\")","v":""},{"$f":"IFERROR(RANK($C86,$C$2:C$507)+COUNTIF($C$2:C86,C86)-1,\"\")","v":""},"",85,"",{"$f":"IF(G86=\"\",\"\",RTD(\"cqg.rtd\", ,\"ContractData\",G86, \"LongDescription\",, \"T\"))","v":""},{"$f":"IFERROR(RTD(\"cqg.rtd\", ,\"ContractData\",G86, \"PerCentNetLastTrade\",, \"T\")/100,\"\")","v":""},0,85,{"$f":"IFERROR(VLOOKUP(A86,Data!$I$2:$J$507,2,FALSE),\"\")","v":""},{"$f":"IFERROR(RTD(\"cqg.rtd\", ,\"ContractData\",L86, \"PerCentNetLastTrade\",, \"T\")/100,\"\")","v":""},{"$f":"IFERROR(RANK($M86,$M$2:M$507)+COUNTIF($M$2:M86,M86)-1,\"\")","v":""},"",85,"",{"$f":"IF(Q86=\"\",\"\",RTD(\"cqg.rtd\", ,\"ContractData\",Q86, \"LongDescription\",, \"T\"))","v":""},{"$f":"IFERROR(RTD(\"cqg.rtd\", ,\"ContractData\",Q86, \"PerCentNetLastTrade\",, \"T\")/100,\"\")","v":""},0]
[86,{"$f":"IFERROR(VLOOKUP(A87,Data!$H$2:$J$507,3,FALSE),\"\")","v":""},{"$f":"IFERROR(RTD(\"cqg.rtd\", ,\"ContractData\",B87, \"PerCentNetLastTrade\",, \"T\")/100,\"\")","v":""},{"$f":"IFERROR(RANK($C87,$C$2:C$507)+COUNTIF($C$2:C87,C87)-1,\"\")","v":""},"",86,"",{"$f":"IF(G87=\"\",\"\",RTD(\"cqg.rtd\", ,\"ContractData\",G87, \"LongDescription\",, \"T\"))","v":""},{"$f":"IFERROR(RTD(\"cqg.rtd\", ,\"ContractData\",G87, \"PerCentNetLastTrade\",, \"T\")/100,\"\")","v":""},0,86,{"$f":"IFERROR(VLOOKUP(A87,Data!$I$2:$J$507,2,FALSE),\"\")","v":""},{"$f":"IFERROR(RTD(\"cqg.rtd\", ,\"ContractData\",L87, \"PerCentNetLastTrade\",, \"T\")/100,\"\")","v":""},{"$f":"IFERROR(RANK($M87,$M$2:M$507)+COUNTIF($M$2:M87,M87)-1,\"\")","v":""},"",86,"",{"$f":"IF(Q87=\"\",\"\",RTD(\"cqg.rtd\", ,\"ContractData\",Q87, \"LongDescription\",, \"T\"))","v":""},{"$f":"IFERROR(RTD(\"cqg.rtd\", ,\"ContractData\",Q87, \"PerCentNetLastTrade\",, \"T\")/100,\"\")","v":""},0]
[87,{"$f":"IFERROR(VLOOKUP(A88,Data!$H$2:$J$507,3,FALSE),\"\")","v":""},{"$f":"IFERROR(RTD(\"cqg.rtd\", ,\"ContractData\",B88, \"PerCentNetLastTrade\",, \"T\")/100,\"\")","v":""},{"$f":"IFERROR(RANK($C88,$C$2:C$507)+COUNTIF($C$2:C88,C88)-1,\"\")","v":""},"",87,"",{"$f":"IF(G88=\"\",\"\",RTD(\"cqg.rtd\", ,\"ContractData\",G88, \"LongDescription\",, \"T\"))","v":""},{"$f":"IFERROR(RTD(\"cqg.rtd\", ,\"ContractData\",G88, \"PerCentNetLastTrade\",, \"T\")/100,\"\")","v":""},0,87,{"$f":"IFERROR(VLOOKUP(A88,Data!$I$2:$J$507,2,FALSE),\"\")","v":""},{"$f":"IFERROR(RTD(\"cqg.rtd\", ,\"ContractData\",L88, \"PerCentNetLastTrade\",, \"T\")/100,\"\")","v":""},{"$f":"IFERROR(RANK($M88,$M$2:M$507)+COUNTIF($M$2:M88,M88)-1,\"\")","v":""},"",87,"",{"$f":"IF(Q88=\"\",\"\",RTD(\"cqg.rtd\", ,\"ContractData\",Q88, \"LongDescription\",, \"T\"))","v":""},{"$f":"IFERROR(RTD(\"cqg.rtd\", ,\"ContractData\",Q88, \"PerCentNetLastTrade\",, \"T\")/100,\"\")","v":""},0]
[88,{"$f":"IFERROR(VLOOKUP(A89,Data!$H$2:$J$507,3,FALSE),\"\")","v":""},{"$f":"IFERROR(RTD(\"cqg.rtd\", ,\"ContractData\",B89, \"PerCentNetLastTrade\",, \"T\")/100,\"\")","v":""},{"$f":"IFERROR(RANK($C89,$C$2:C$507)+COUNTIF($C$2:C89,C89)-1,\"\")","v":""},"",88,"",{"$f":"IF(G89=\"\",\"\",RTD(\"cqg.rtd\", ,\"ContractData\",G89, \"LongDescription\",, \"T\"))","v":""},{"$f":"IFERROR(RTD(\"cqg.rtd\", ,\"ContractData\",G89, \"PerCentNetLastTrade\",, \"T\")/100,\"\")","v":""},0,88,{"$f":"IFERROR(VLOOKUP(A89,Data!$I$2:$J$507,2,FALSE),\"\")","v":""},{"$f":"IFERROR(RTD(\"cqg.rtd\", ,\"ContractData\",L89, \"PerCentNetLastTrade\",, \"T\")/100,\"\")","v":""},{"$f":"IFERROR(RANK($M89,$M$2:M$507)+COUNTIF($M$2:M89,M89)-1,\"\")","v":""},"",88,"",{"$f":"IF(Q89=\"\",\"\",RTD(\"cqg.rtd\", ,\"ContractData\",Q89, \"LongDescription\",, \"T\"))","v":""},{"$f":"IFERROR(RTD(\"cqg.rtd\", ,\"ContractData\",Q89, \"PerCentNetLastTrade\",, \"T\")/100,\"\")","v":""},0]
[89,{"$f":"IFERROR(VLOOKUP(A90,Data!$H$2:$J$507,3,FALSE),\"\")","v":""},{"$f":"IFERROR(RTD(\"cqg.rtd\", ,\"ContractData\",B90, \"PerCentNetLastTrade\",, \"T\")/100,\"\")","v":""},{"$f":"IFERROR(RANK($C90,$C$2:C$507)+COUNTIF($C$2:C90,C90)-1,\"\")","v":""},"",89,"",{"$f":"IF(G90=\"\",\"\",RTD(\"cqg.rtd\", ,\"ContractData\",G90, \"LongDescription\",, \"T\"))","v":""},{"$f":"IFERROR(RTD(\"cqg.rtd\", ,\"ContractData\",G90, \"PerCentNetLastTrade\",, \"T\")/100,\"\")","v":""},0,89,{"$f":"IFERROR(VLOOKUP(A90,Data!$I$2:$J$507,2,FALSE),\"\")","v":""},{"$f":"IFERROR(RTD(\"cqg.rtd\", ,\"ContractData\",L90, \"PerCentNetLastTrade\",, \"T\")/100,\"\")","v":""},{"$f":"IFERROR(RANK($M90,$M$2:M$507)+COUNTIF($M$2:M90,M90)-1,\"\")","v":""},"",89,"",{"$f":"IF(Q90=\"\",\"\",RTD(\"cqg.rtd\", ,\"ContractData\",Q90, \"LongDescription\",, \"T\"))","v":""},{"$f":"IFERROR(RTD(\"cqg.rtd\", ,\"ContractData\",Q90, \"PerCentNetLastTrade\",, \"T\")/100,\"\")","v":""},0]
[90,{"$f":"IFERROR(VLOOKUP(A91,Data!$H$2:$J$507,3,FALSE),\"\")","v":""},{"$f":"IFERROR(RTD(\"cqg.rtd\", ,\"ContractData\",B91, \"PerCentNetLastTrade\",, \"T\")/100,\"\")","v":""},{"$f":"IFERROR(RANK($C91,$C$2:C$507)+COUNTIF($C$2:C91,C91)-1,\"\")","v":""},"",90,"",{"$f":"IF(G91=\"\",\"\",RTD(\"cqg.rtd\", ,\"ContractData\",G91, \"LongDescription\",, \"T\"))","v":""},{"$f":"IFERROR(RTD(\"cqg.rtd\", ,\"ContractData\",G91, \"PerCentNetLastTrade\",, \"T\")/100,\"\")","v":""},0,90,{"$f":"IFERROR(VLOOKUP(A91,Data!$I$2:$J$507,2,FALSE),\"\")","v":""},{"$f":"IFERROR(RTD(\"cqg.rtd\", ,\"ContractData\",L91, \"PerCentNetLastTrade\",, \"T\")/100,\"\")","v":""},{"$f":"IFERROR(RANK($M91,$M$2:M$507)+COUNTIF($M$2:M91,M91)-1,\"\")","v":""},"",90,"",{"$f":"IF(Q91=\"\",\"\",RTD(\"cqg.rtd\", ,\"ContractData\",Q91, \"LongDescription\",, \"T\"))","v":""},{"$f":"IFERROR(RTD(\"cqg.rtd\", ,\"ContractData\",Q91, \"PerCentNetLastTrade\",, \"T\")/100,\"\")","v":""},0]
[91,{"$f":"IFERROR(VLOOKUP(A92,Data!$H$2:$J$507,3,FALSE),\"\")","v":""},{"$f":"IFERROR(RTD(\"cqg.rtd\", ,\"ContractData\",B92, \"PerCentNetLastTrade\",, \"T\")/100,\"\")","v":""},{"$f":"IFERROR(RANK($C92,$C$2:C$507)+COUNTIF($C$2:C92,C92)-1,\"\")","v":""},"",91,"",{"$f":"IF(G92=\"\",\"\",RTD(\"cqg.rtd\", ,\"ContractData\",G92, \"LongDescription\",, \"T\"))","v":""},{"$f":"IFERROR(RTD(\"cqg.rtd\", ,\"ContractData\",G92, \"PerCentNetLastTrade\",, \"T\")/100,\"\")","v":""},0,91,{"$f":"IFERROR(VLOOKUP(A92,Data!$I$2:$J$507,2,FALSE),\"\")","v":""},{"$f":"IFERROR(RTD(\"cqg.rtd\", ,\"ContractData\",L92, \"PerCentNetLastTrade\",, \"T\")/100,\"\")","v":""},{"$f":"IFERROR(RANK($M92,$M$2:M$507)+COUNTIF($M$2:M92,M92)-1,\"\")","v":""},"",91,"",{"$f":"IF(Q92=\"\",\"\",RTD(\"cqg.rtd\", ,\"ContractData\",Q92, \"LongDescription\",, \"T\"))","v":""},{"$f":"IFERROR(RTD(\"cqg.rtd\", ,\"ContractData\",Q92, \"PerCentNetLastTrade\",, \"T\")/100,\"\")","v":""},0]
[92,{"$f":"IFERROR(VLOOKUP(A93,Data!$H$2:$J$507,3,FALSE),\"\")","v":""},{"$f":"IFERROR(RTD(\"cqg.rtd\", ,\"ContractData\",B93, \"PerCentNetLastTrade\",, \"T\")/100,\"\")","v":""},{"$f":"IFERROR(RANK($C93,$C$2:C$507)+COUNTIF($C$2:C93,C93)-1,\"\")","v":""},"",92,"",{"$f":"IF(G93=\"\",\"\",RTD(\"cqg.rtd\", ,\"ContractData\",G93, \"LongDescription\",, \"T\"))","v":""},{"$f":"IFERROR(RTD(\"cqg.rtd\", ,\"ContractData\",G93, \"PerCentNetLastTrade\",, \"T\")/100,\"\")","v":""},0,92,{"$f":"IFERROR(VLOOKUP(A93,Data!$I$2:$J$507,2,FALSE),\"\")","v":""},{"$f":"IFERROR(RTD(\"cqg.rtd\", ,\"ContractData\",L93, \"PerCentNetLastTrade\",, \"T\")/100,\"\")","v":""},{"$f":"IFERROR(RANK($M93,$M$2:M$507)+COUNTIF($M$2:M93,M93)-1,\"\")","v":""},"",92,"",{"$f":"IF(Q93=\"\",\"\",RTD(\"cqg.rtd\", ,\"ContractData\",Q93, \"LongDescription\",, \"T\"))","v":""},{"$f":"IFERROR(RTD(\"cqg.rtd\", ,\"ContractData\",Q93, \"PerCentNetLastTrade\",, \"T\")/100,\"\")","v":""},0]
[93,{"$f":"IFERROR(VLOOKUP(A94,Data!$H$2:$J$507,3,FALSE),\"\")","v":""},{"$f":"IFERROR(RTD(\"cqg.rtd\", ,\"ContractData\",B94, \"PerCentNetLastTrade\",, \"T\")/100,\"\")","v":""},{"$f":"IFERROR(RANK($C94,$C$2:C$507)+COUNTIF($C$2:C94,C94)-1,\"\")","v":""},"",93,"",{"$f":"IF(G94=\"\",\"\",RTD(\"cqg.rtd\", ,\"ContractData\",G94, \"LongDescription\",, \"T\"))","v":""},{"$f":"IFERROR(RTD(\"cqg.rtd\", ,\"ContractData\",G94, \"PerCentNetLastTrade\",, \"T\")/100,\"\")","v":""},0,93,{"$f":"IFERROR(VLOOKUP(A94,Data!$I$2:$J$507,2,FALSE),\"\")","v":""},{"$f":"IFERROR(RTD(\"cqg.rtd\", ,\"ContractData\",L94, \"PerCentNetLastTrade\",, \"T\")/100,\"\")","v":""},{"$f":"IFERROR(RANK($M94,$M$2:M$507)+COUNTIF($M$2:M94,M94)-1,\"\")","v":""},"",93,"",{"$f":"IF(Q94=\"\",\"\",RTD(\"cqg.rtd\", ,\"ContractData\",Q94, \"LongDescription\",, \"T\"))","v":""},{"$f":"IFERROR(RTD(\"cqg.rtd\", ,\"ContractData\",Q94, \"PerCentNetLastTrade\",, \"T\")/100,\"\")","v":""},0]
[94,{"$f":"IFERROR(VLOOKUP(A95,Data!$H$2:$J$507,3,FALSE),\"\")","v":""},{"$f":"IFERROR(RTD(\"cqg.rtd\", ,\"ContractData\",B95, \"PerCentNetLastTrade\",, \"T\")/100,\"\")","v":""},{"$f":"IFERROR(RANK($C95,$C$2:C$507)+COUNTIF($C$2:C95,C95)-1,\"\")","v":""},"",94,"",{"$f":"IF(G95=\"\",\"\",RTD(\"cqg.rtd\", ,\"ContractData\",G95, \"LongDescription\",, \"T\"))","v":""},{"$f":"IFERROR(RTD(\"cqg.rtd\", ,\"ContractData\",G95, \"PerCentNetLastTrade\",, \"T\")/100,\"\")","v":""},0,94,{"$f":"IFERROR(VLOOKUP(A95,Data!$I$2:$J$507,2,FALSE),\"\")","v":""},{"$f":"IFERROR(RTD(\"cqg.rtd\", ,\"ContractData\",L95, \"PerCentNetLastTrade\",, \"T\")/100,\"\")","v":""},{"$f":"IFERROR(RANK($M95,$M$2:M$507)+COUNTIF($M$2:M95,M95)-1,\"\")","v":""},"",94,"",{"$f":"IF(Q95=\"\",\"\",RTD(\"cqg.rtd\", ,\"ContractData\",Q95, \"LongDescription\",, \"T\"))","v":""},{"$f":"IFERROR(RTD(\"cqg.rtd\", ,\"ContractData\",Q95, \"PerCentNetLastTrade\",, \"T\")/100,\"\")","v":""},0]
[95,{"$f":"IFERROR(VLOOKUP(A96,Data!$H$2:$J$507,3,FALSE),\"\")","v":""},{"$f":"IFERROR(RTD(\"cqg.rtd\", ,\"ContractData\",B96, \"PerCentNetLastTrade\",, \"T\")/100,\"\")","v":""},{"$f":"IFERROR(RANK($C96,$C$2:C$507)+COUNTIF($C$2:C96,C96)-1,\"\")","v":""},"",95,"",{"$f":"IF(G96=\"\",\"\",RTD(\"cqg.rtd\", ,\"ContractData\",G96, \"LongDescription\",, \"T\"))","v":""},{"$f":"IFERROR(RTD(\"cqg.rtd\", ,\"ContractData\",G96, \"PerCentNetLastTrade\",, \"T\")/100,\"\")","v":""},0,95,{"$f":"IFERROR(VLOOKUP(A96,Data!$I$2:$J$507,2,FALSE),\"\")","v":""},{"$f":"IFERROR(RTD(\"cqg.rtd\", ,\"ContractData\",L96, \"PerCentNetLastTrade\",, \"T\")/100,\"\")","v":""},{"$f":"IFERROR(RANK($M96,$M$2:M$507)+COUNTIF($M$2:M96,M96)-1,\"\")","v":""},"",95,"",{"$f":"IF(Q96=\"\",\"\",RTD(\"cqg.rtd\", ,\"ContractData\",Q96, \"LongDescription\",, \"T\"))","v":""},{"$f":"IFERROR(RTD(\"cqg.rtd\", ,\"ContractData\",Q96, \"PerCentNetLastTrade\",, \"T\")/100,\"\")","v":""},0]
[96,{"$f":"IFERROR(VLOOKUP(A97,Data!$H$2:$J$507,3,FALSE),\"\")","v":""},{"$f":"IFERROR(RTD(\"cqg.rtd\", ,\"ContractData\",B97, \"PerCentNetLastTrade\",, \"T\")/100,\"\")","v":""},{"$f":"IFERROR(RANK($C97,$C$2:C$507)+COUNTIF($C$2:C97,C97)-1,\"\")","v":""},"",96,"",{"$f":"IF(G97=\"\",\"\",RTD(\"cqg.rtd\", ,\"ContractData\",G97, \"LongDescription\",, \"T\"))","v":""},{"$f":"IFERROR(RTD(\"cqg.rtd\", ,\"ContractData\",G97, \"PerCentNetLastTrade\",, \"T\")/100,\"\")","v":""},0,96,{"$f":"IFERROR(VLOOKUP(A97,Data!$I$2:$J$507,2,FALSE),\"\")","v":""},{"$f":"IFERROR(RTD(\"cqg.rtd\", ,\"ContractData\",L97, \"PerCentNetLastTrade\",, \"T\")/100,\"\")","v":""},{"$f":"IFERROR(RANK($M97,$M$2:M$507)+COUNTIF($M$2:M97,M97)-1,\"\")","v":""},"",96,"",{"$f":"IF(Q97=\"\",\"\",RTD(\"cqg.rtd\", ,\"ContractData\",Q97, \"LongDescription\",, \"T\"))","v":""},{"$f":"IFERROR(RTD(\"cqg.rtd\", ,\"ContractData\",Q97, \"PerCentNetLastTrade\",, \"T\")/100,\"\")","v":""},0]
[97,{"$f":"IFERROR(VLOOKUP(A98,Data!$H$2:$J$507,3,FALSE),\"\")","v":""},{"$f":"IFERROR(RTD(\"cqg.rtd\", ,\"ContractData\",B98, \"PerCentNetLastTrade\",, \"T\")/100,\"\")","v":""},{"$f":"IFERROR(RANK($C98,$C$2:C$507)+COUNTIF($C$2:C98,C98)-1,\"\")","v":""},"",97,"",{"$f":"IF(G98=\"\",\"\",RTD(\"cqg.rtd\", ,\"ContractData\",G98, \"LongDescription\",, \"T\"))","v":""},{"$f":"IFERROR(RTD(\"cqg.rtd\", ,\"ContractData\",G98, \"PerCentNetLastTrade\",, \"T\")/100,\"\")","v":""},0,97,{"$f":"IFERROR(VLOOKUP(A98,Data!$I$2:$J$507,2,FALSE),\"\")","v":""},{"$f":"IFERROR(RTD(\"cqg.rtd\", ,\"ContractData\",L98, \"PerCentNetLastTrade\",, \"T\")/100,\"\")","v":""},{"$f":"IFERROR(RANK($M98,$M$2:M$507)+COUNTIF($M$2:M98,M98)-1,\"\")","v":""},"",97,"",{"$f":"IF(Q98=\"\",\"\",RTD(\"cqg.rtd\", ,\"ContractData\",Q98, \"LongDescription\",, \"T\"))","v":""},{"$f":"IFERROR(RTD(\"cqg.rtd\", ,\"ContractData\",Q98, \"PerCentNetLastTrade\",, \"T\")/100,\"\")","v":""},0]
[98,{"$f":"IFERROR(VLOOKUP(A99,Data!$H$2:$J$507,3,FALSE),\"\")","v":""},{"$f":"IFERROR(RTD(\"cqg.rtd\", ,\"ContractData\",B99, \"PerCentNetLastTrade\",, \"T\")/100,\"\")","v":""},{"$f":"IFERROR(RANK($C99,$C$2:C$507)+COUNTIF($C$2:C99,C99)-1,\"\")","v":""},"",98,"",{"$f":"IF(G99=\"\",\"\",RTD(\"cqg.rtd\", ,\"ContractData\",G99, \"LongDescription\",, \"T\"))","v":""},{"$f":"IFERROR(RTD(\"cqg.rtd\", ,\"ContractData\",G99, \"PerCentNetLastTrade\",, \"T\")/100,\"\")","v":""},0,98,{"$f":"IFERROR(VLOOKUP(A99,Data!$I$2:$J$507,2,FALSE),\"\")","v":""},{"$f":"IFERROR(RTD(\"cqg.rtd\", ,\"ContractData\",L99, \"PerCentNetLastTrade\",, \"T\")/100,\"\")","v":""},{"$f":"IFERROR(RANK($M99,$M$2:M$507)+COUNTIF($M$2:M99,M99)-1,\"\")","v":""},"",98,"",{"$f":"IF(Q99=\"\",\"\",RTD(\"cqg.rtd\", ,\"ContractData\",Q99, \"LongDescription\",, \"T\"))","v":""},{"$f":"IFERROR(RTD(\"cqg.rtd\", ,\"ContractData\",Q99, \"PerCentNetLastTrade\",, \"T\")/100,\"\")","v":""},0]
[99,{"$f":"IFERROR(VLOOKUP(A100,Data!$H$2:$J$507,3,FALSE),\"\")","v":""},{"$f":"IFERROR(RTD(\"cqg.rtd\", ,\"ContractData\",B100, \"PerCentNetLastTrade\",, \"T\")/100,\"\")","v":""},{"$f":"IFERROR(RANK($C100,$C$2:C$507)+COUNTIF($C$2:C100,C100)-1,\"\")","v":""},"",99,"",{"$f":"IF(G100=\"\",\"\",RTD(\"cqg.rtd\", ,\"ContractData\",G100, \"LongDescription\",, \"T\"))","v":""},{"$f":"IFERROR(RTD(\"cqg.rtd\", ,\"ContractData\",G100, \"PerCentNetLastTrade\",, \"T\")/100,\"\")","v":""},0,99,{"$f":"IFERROR(VLOOKUP(A100,Data!$I$2:$J$507,2,FALSE),\"\")","v":""},{"$f":"IFERROR(RTD(\"cqg.rtd\", ,\"ContractData\",L100, \"PerCentNetLastTrade\",, \"T\")/100,\"\")","v":""},{"$f":"IFERROR(RANK($M100,$M$2:M$507)+COUNTIF($M$2:M100,M100)-1,\"\")","v":""},"",99,"",{"$f":"IF(Q100=\"\",\"\",RTD(\"cqg.rtd\", ,\"ContractData\",Q100, \"LongDescription\",, \"T\"))","v":""},{"$f":"IFERROR(RTD(\"cqg.rtd\", ,\"ContractData\",Q100, \"PerCentNetLastTrade\",, \"T\")/100,\"\")","v":""},0]
[100,{"$f":"IFERROR(VLOOKUP(A101,Data!$H$2:$J$507,3,FALSE),\"\")","v":""},{"$f":"IFERROR(RTD(\"cqg.rtd\", ,\"ContractData\",B101, \"PerCentNetLastTrade\",, \"T\")/100,\"\")","v":""},{"$f":"IFERROR(RANK($C101,$C$2:C$507)+COUNTIF($C$2:C101,C101)-1,\"\")","v":""},"",100,"",{"$f":"IF(G101=\"\",\"\",RTD(\"cqg.rtd\", ,\"ContractData\",G101, \"LongDescription\",, \"T\"))","v":""},{"$f":"IFERROR(RTD(\"cqg.rtd\", ,\"ContractData\",G101, \"PerCentNetLastTrade\",, \"T\")/100,\"\")","v":""},0,100,{"$f":"IFERROR(VLOOKUP(A101,Data!$I$2:$J$507,2,FALSE),\"\")","v":""},{"$f":"IFERROR(RTD(\"cqg.rtd\", ,\"ContractData\",L101, \"PerCentNetLastTrade\",, \"T\")/100,\"\")","v":""},{"$f":"IFERROR(RANK($M101,$M$2:M$507)+COUNTIF($M$2:M101,M101)-1,\"\")","v":""},"",100,"",{"$f":"IF(Q101=\"\",\"\",RTD(\"cqg.rtd\", ,\"ContractData\",Q101, \"LongDescription\",, \"T\"))","v":""},{"$f":"IFERROR(RTD(\"cqg.rtd\", ,\"ContractData\",Q101, \"PerCentNetLastTrade\",, \"T\")/100,\"\")","v":""},0]
[101,{"$f":"IFERROR(VLOOKUP(A102,Data!$H$2:$J$507,3,FALSE),\"\")","v":""},{"$f":"IFERROR(RTD(\"cqg.rtd\", ,\"ContractData\",B102, \"PerCentNetLastTrade\",, \"T\")/100,\"\")","v":""},{"$f":"IFERROR(RANK($C102,$C$2:C$507)+COUNTIF($C$2:C102,C102)-1,\"\")","v":""},"",101,"",{"$f":"IF(G102=\"\",\"\",RTD(\"cqg.rtd\", ,\"ContractData\",G102, \"LongDescription\",, \"T\"))","v":""},{"$f":"IFERROR(RTD(\"cqg.rtd\", ,\"ContractData\",G102, \"PerCentNetLastTrade\",, \"T\")/100,\"\")","v":""},0,101,{"$f":"IFERROR(VLOOKUP(A102,Data!$I$2:$J$507,2,FALSE),\"\")","v":""},{"$f":"IFERROR(RTD(\"cqg.rtd\", ,\"ContractData\",L102, \"PerCentNetLastTrade\",, \"T\")/100,\"\")","v":""},{"$f":"IFERROR(RANK($M102,$M$2:M$507)+COUNTIF($M$2:M102,M102)-1,\"\")","v":""},{"$f":"IF(L102=\"\",\"\",L102)","v":""},101,"",{"$f":"IF(Q102=\"\",\"\",RTD(\"cqg.rtd\", ,\"ContractData\",Q102, \"LongDescription\",, \"T\"))","v":""},{"$f":"IFERROR(RTD(\"cqg.rtd\", ,\"ContractData\",Q102, \"PerCentNetLastTrade\",, \"T\")/100,\"\")","v":""},0]
[102,{"$f":"IFERROR(VLOOKUP(A103,Data!$H$2:$J$507,3,FALSE),\"\")","v":""},{"$f":"IFERROR(RTD(\"cqg.rtd\", ,\"ContractData\",B103, \"PerCentNetLastTrade\",, \"T\")/100,\"\")","v":""},{"$f":"IFERROR(RANK($C103,$C$2:C$507)+COUNTIF($C$2:C103,C103)-1,\"\")","v":""},"",102,"",{"$f":"IF(G103=\"\",\"\",RTD(\"cqg.rtd\", ,\"ContractData\",G103, \"LongDescription\",, \"T\"))","v":""},{"$f":"IFERROR(RTD(\"cqg.rtd\", ,\"ContractData\",G103, \"PerCentNetLastTrade\",, \"T\")/100,\"\")","v":""},{"$f":"IF(I103<>\"\",1,0)","v":0},102,{"$f":"IFERROR(VLOOKUP(A103,Data!$I$2:$J$507,2,FALSE),\"\")","v":""},{"$f":"IFERROR(RTD(\"cqg.rtd\", ,\"ContractData\",L103, \"PerCentNetLastTrade\",, \"T\")/100,\"\")","v":""},{"$f":"IFERROR(RANK($M103,$M$2:M$507)+COUNTIF($M$2:M103,M103)-1,\"\")","v":""},"",102,"",{"$f":"IF(Q103=\"\",\"\",RTD(\"cqg.rtd\", ,\"ContractData\",Q103, \"LongDescription\",, \"T\"))","v":""},{"$f":"IFERROR(RTD(\"cqg.rtd\", ,\"ContractData\",Q103, \"PerCentNetLastTrade\",, \"T\")/100,\"\")","v":""},0]
[103,{"$f":"IFERROR(VLOOKUP(A104,Data!$H$2:$J$507,3,FALSE),\"\")","v":""},{"$f":"IFERROR(RTD(\"cqg.rtd\", ,\"ContractData\",B104, \"PerCentNetLastTrade\",, \"T\")/100,\"\")","v":""},{"$f":"IFERROR(RANK($C104,$C$2:C$507)+COUNTIF($C$2:C104,C104)-1,\"\")","v":""},"",103,"",{"$f":"IF(G104=\"\",\"\",RTD(\"cqg.rtd\", ,\"ContractData\",G104, \"LongDescription\",, \"T\"))","v":""},{"$f":"IFERROR(RTD(\"cqg.rtd\", ,\"ContractData\",G104, \"PerCentNetLastTrade\",, \"T\")/100,\"\")","v":""},0,103,{"$f":"IFERROR(VLOOKUP(A104,Data!$I$2:$J$507,2,FALSE),\"\")","v":""},{"$f":"IFERROR(RTD(\"cqg.rtd\", ,\"ContractData\",L104, \"PerCentNetLastTrade\",, \"T\")/100,\"\")","v":""},{"$f":"IFERROR(RANK($M104,$M$2:M$507)+COUNTIF($M$2:M104,M104)-1,\"\")","v":""},"",103,"",{"$f":"IF(Q104=\"\",\"\",RTD(\"cqg.rtd\", ,\"ContractData\",Q104, \"LongDescription\",, \"T\"))","v":""},{"$f":"IFERROR(RTD(\"cqg.rtd\", ,\"ContractData\",Q104, \"PerCentNetLastTrade\",, \"T\")/100,\"\")","v":""},0]
[104,{"$f":"IFERROR(VLOOKUP(A105,Data!$H$2:$J$507,3,FALSE),\"\")","v":""},{"$f":"IFERROR(RTD(\"cqg.rtd\", ,\"ContractData\",B105, \"PerCentNetLastTrade\",, \"T\")/100,\"\")","v":""},{"$f":"IFERROR(RANK($C105,$C$2:C$507)+COUNTIF($C$2:C105,C105)-1,\"\")","v":""},"",104,"",{"$f":"IF(G105=\"\",\"\",RTD(\"cqg.rtd\", ,\"ContractData\",G105, \"LongDescription\",, \"T\"))","v":""},{"$f":"IFERROR(RTD(\"cqg.rtd\", ,\"ContractData\",G105, \"PerCentNetLastTrade\",, \"T\")/100,\"\")","v":""},0,104,{"$f":"IFERROR(VLOOKUP(A105,Data!$I$2:$J$507,2,FALSE),\"\")","v":""},{"$f":"IFERROR(RTD(\"cqg.rtd\", ,\"ContractData\",L105, \"PerCentNetLastTrade\",, \"T\")/100,\"\")","v":""},{"$f":"IFERROR(RANK($M105,$M$2:M$507)+COUNTIF($M$2:M105,M105)-1,\"\")","v":""},"",104,"",{"$f":"IF(Q105=\"\",\"\",RTD(\"cqg.rtd\", ,\"ContractData\",Q105, \"LongDescription\",, \"T\"))","v":""},{"$f":"IFERROR(RTD(\"cqg.rtd\", ,\"ContractData\",Q105, \"PerCentNetLastTrade\",, \"T\")/100,\"\")","v":""},0]
[105,{"$f":"IFERROR(VLOOKUP(A106,Data!$H$2:$J$507,3,FALSE),\"\")","v":""},{"$f":"IFERROR(RTD(\"cqg.rtd\", ,\"ContractData\",B106, \"PerCentNetLastTrade\",, \"T\")/100,\"\")","v":""},{"$f":"IFERROR(RANK($C106,$C$2:C$507)+COUNTIF($C$2:C106,C106)-1,\"\")","v":""},"",105,"",{"$f":"IF(G106=\"\",\"\",RTD(\"cqg.rtd\", ,\"ContractData\",G106, \"LongDescription\",, \"T\"))","v":""},{"$f":"IFERROR(RTD(\"cqg.rtd\", ,\"ContractData\",G106, \"PerCentNetLastTrade\",, \"T\")/100,\"\")","v":""},0,105,{"$f":"IFERROR(VLOOKUP(A106,Data!$I$2:$J$507,2,FALSE),\"\")","v":""},{"$f":"IFERROR(RTD(\"cqg.rtd\", ,\"ContractData\",L106, \"PerCentNetLastTrade\",, \"T\")/100,\"\")","v":""},{"$f":"IFERROR(RANK($M106,$M$2:M$507)+COUNTIF($M$2:M106,M106)-1,\"\")","v":""},"",105,"",{"$f":"IF(Q106=\"\",\"\",RTD(\"cqg.rtd\", ,\"ContractData\",Q106, \"LongDescription\",, \"T\"))","v":""},{"$f":"IFERROR(RTD(\"cqg.rtd\", ,\"ContractData\",Q106, \"PerCentNetLastTrade\",, \"T\")/100,\"\")","v":""},0]
[106,{"$f":"IFERROR(VLOOKUP(A107,Data!$H$2:$J$507,3,FALSE),\"\")","v":""},{"$f":"IFERROR(RTD(\"cqg.rtd\", ,\"ContractData\",B107, \"PerCentNetLastTrade\",, \"T\")/100,\"\")","v":""},{"$f":"IFERROR(RANK($C107,$C$2:C$507)+COUNTIF($C$2:C107,C107)-1,\"\")","v":""},"",106,"",{"$f":"IF(G107=\"\",\"\",RTD(\"cqg.rtd\", ,\"ContractData\",G107, \"LongDescription\",, \"T\"))","v":""},{"$f":"IFERROR(RTD(\"cqg.rtd\", ,\"ContractData\",G107, \"PerCentNetLastTrade\",, \"T\")/100,\"\")","v":""},0,106,{"$f":"IFERROR(VLOOKUP(A107,Data!$I$2:$J$507,2,FALSE),\"\")","v":""},{"$f":"IFERROR(RTD(\"cqg.rtd\", ,\"ContractData\",L107, \"PerCentNetLastTrade\",, \"T\")/100,\"\")","v":""},{"$f":"IFERROR(RANK($M107,$M$2:M$507)+COUNTIF($M$2:M107,M107)-1,\"\")","v":""},"",106,"",{"$f":"IF(Q107=\"\",\"\",RTD(\"cqg.rtd\", ,\"ContractData\",Q107, \"LongDescription\",, \"T\"))","v":""},{"$f":"IFERROR(RTD(\"cqg.rtd\", ,\"ContractData\",Q107, \"PerCentNetLastTrade\",, \"T\")/100,\"\")","v":""},0]
[107,{"$f":"IFERROR(VLOOKUP(A108,Data!$H$2:$J$507,3,FALSE),\"\")","v":""},{"$f":"IFERROR(RTD(\"cqg.rtd\", ,\"ContractData\",B108, \"PerCentNetLastTrade\",, \"T\")/100,\"\")","v":""},{"$f":"IFERROR(RANK($C108,$C$2:C$507)+COUNTIF($C$2:C108,C108)-1,\"\")","v":""},"",107,"",{"$f":"IF(G108=\"\",\"\",RTD(\"cqg.rtd\", ,\"ContractData\",G108, \"LongDescription\",, \"T\"))","v":""},{"$f":"IFERROR(RTD(\"cqg.rtd\", ,\"ContractData\",G108, \"PerCentNetLastTrade\",, \"T\")/100,\"\")","v":""},0,107,{"$f":"IFERROR(VLOOKUP(A108,Data!$I$2:$J$507,2,FALSE),\"\")","v":""},{"$f":"IFERROR(RTD(\"cqg.rtd\", ,\"ContractData\",L108, \"PerCentNetLastTrade\",, \"T\")/100,\"\")","v":""},{"$f":"IFERROR(RANK($M108,$M$2:M$507)+COUNTIF($M$2:M108,M108)-1,\"\")","v":""},"",107,"",{"$f":"IF(Q108=\"\",\"\",RTD(\"cqg.rtd\", ,\"ContractData\",Q108, \"LongDescription\",, \"T\"))","v":""},{"$f":"IFERROR(RTD(\"cqg.rtd\", ,\"ContractData\",Q108, \"PerCentNetLastTrade\",, \"T\")/100,\"\")","v":""},0]
[108,{"$f":"IFERROR(VLOOKUP(A109,Data!$H$2:$J$507,3,FALSE),\"\")","v":""},{"$f":"IFERROR(RTD(\"cqg.rtd\", ,\"ContractData\",B109, \"PerCentNetLastTrade\",, \"T\")/100,\"\")","v":""},{"$f":"IFERROR(RANK($C109,$C$2:C$507)+COUNTIF($C$2:C109,C109)-1,\"\")","v":""},"",108,"",{"$f":"IF(G109=\"\",\"\",RTD(\"cqg.rtd\", ,\"ContractData\",G109, \"LongDescription\",, \"T\"))","v":""},{"$f":"IFERROR(RTD(\"cqg.rtd\", ,\"ContractData\",G109, \"PerCentNetLastTrade\",, \"T\")/100,\"\")","v":""},0,108,{"$f":"IFERROR(VLOOKUP(A109,Data!$I$2:$J$507,2,FALSE),\"\")","v":""},{"$f":"IFERROR(RTD(\"cqg.rtd\", ,\"ContractData\",L109, \"PerCentNetLastTrade\",, \"T\")/100,\"\")","v":""},{"$f":"IFERROR(RANK($M109,$M$2:M$507)+COUNTIF($M$2:M109,M109)-1,\"\")","v":""},"",108,"",{"$f":"IF(Q109=\"\",\"\",RTD(\"cqg.rtd\", ,\"ContractData\",Q109, \"LongDescription\",, \"T\"))","v":""},{"$f":"IFERROR(RTD(\"cqg.rtd\", ,\"ContractData\",Q109, \"PerCentNetLastTrade\",, \"T\")/100,\"\")","v":""},0]
[109,{"$f":"IFERROR(VLOOKUP(A110,Data!$H$2:$J$507,3,FALSE),\"\")","v":""},{"$f":"IFERROR(RTD(\"cqg.rtd\", ,\"ContractData\",B110, \"PerCentNetLastTrade\",, \"T\")/100,\"\")","v":""},{"$f":"IFERROR(RANK($C110,$C$2:C$507)+COUNTIF($C$2:C110,C110)-1,\"\")","v":""},"",109,"",{"$f":"IF(G110=\"\",\"\",RTD(\"cqg.rtd\", ,\"ContractData\",G110, \"LongDescription\",, \"T\"))","v":""},{"$f":"IFERROR(RTD(\"cqg.rtd\", ,\"ContractData\",G110, \"PerCentNetLastTrade\",, \"T\")/100,\"\")","v":""},0,109,{"$f":"IFERROR(VLOOKUP(A110,Data!$I$2:$J$507,2,FALSE),\"\")","v":""},{"$f":"IFERROR(RTD(\"cqg.rtd\", ,\"ContractData\",L110, \"PerCentNetLastTrade\",, \"T\")/100,\"\")","v":""},{"$f":"IFERROR(RANK($M110,$M$2:M$507)+COUNTIF($M$2:M110,M110)-1,\"\")","v":""},"",109,"",{"$f":"IF(Q110=\"\",\"\",RTD(\"cqg.rtd\", ,\"ContractData\",Q110, \"LongDescription\",, \"T\"))","v":""},{"$f":"IFERROR(RTD(\"cqg.rtd\", ,\"ContractData\",Q110, \"PerCentNetLastTrade\",, \"T\")/100,\"\")","v":""},0]
[110,{"$f":"IFERROR(VLOOKUP(A111,Data!$H$2:$J$507,3,FALSE),\"\")","v":""},{"$f":"IFERROR(RTD(\"cqg.rtd\", ,\"ContractData\",B111, \"PerCentNetLastTrade\",, \"T\")/100,\"\")","v":""},{"$f":"IFERROR(RANK($C111,$C$2:C$507)+COUNTIF($C$2:C111,C111)-1,\"\")","v":""},"",110,"",{"$f":"IF(G111=\"\",\"\",RTD(\"cqg.rtd\", ,\"ContractData\",G111, \"LongDescription\",, \"T\"))","v":""},{"$f":"IFERROR(RTD(\"cqg.rtd\", ,\"ContractData\",G111, \"PerCentNetLastTrade\",, \"T\")/100,\"\")","v":""},0,110,{"$f":"IFERROR(VLOOKUP(A111,Data!$I$2:$J$507,2,FALSE),\"\")","v":""},{"$f":"IFERROR(RTD(\"cqg.rtd\", ,\"ContractData\",L111, \"PerCentNetLastTrade\",, \"T\")/100,\"\")","v":""},{"$f":"IFERROR(RANK($M111,$M$2:M$507)+COUNTIF($M$2:M111,M111)-1,\"\")","v":""},"",110,"",{"$f":"IF(Q111=\"\",\"\",RTD(\"cqg.rtd\", ,\"ContractData\",Q111, \"LongDescription\",, \"T\"))","v":""},{"$f":"IFERROR(RTD(\"cqg.rtd\", ,\"ContractData\",Q111, \"PerCentNetLastTrade\",, \"T\")/100,\"\")","v":""},0]
[111,{"$f":"IFERROR(VLOOKUP(A112,Data!$H$2:$J$507,3,FALSE),\"\")","v":""},{"$f":"IFERROR(RTD(\"cqg.rtd\", ,\"ContractData\",B112, \"PerCentNetLastTrade\",, \"T\")/100,\"\")","v":""},{"$f":"IFERROR(RANK($C112,$C$2:C$507)+COUNTIF($C$2:C112,C112)-1,\"\")","v":""},"",111,"",{"$f":"IF(G112=\"\",\"\",RTD(\"cqg.rtd\", ,\"ContractData\",G112, \"LongDescription\",, \"T\"))","v":""},{"$f":"IFERROR(RTD(\"cqg.rtd\", ,\"ContractData\",G112, \"PerCentNetLastTrade\",, \"T\")/100,\"\")","v":""},0,111,{"$f":"IFERROR(VLOOKUP(A112,Data!$I$2:$J$507,2,FALSE),\"\")","v":""},{"$f":"IFERROR(RTD(\"cqg.rtd\", ,\"ContractData\",L112, \"PerCentNetLastTrade\",, \"T\")/100,\"\")","v":""},{"$f":"IFERROR(RANK($M112,$M$2:M$507)+COUNTIF($M$2:M112,M112)-1,\"\")","v":""},"",111,"",{"$f":"IF(Q112=\"\",\"\",RTD(\"cqg.rtd\", ,\"ContractData\",Q112, \"LongDescription\",, \"T\"))","v":""},{"$f":"IFERROR(RTD(\"cqg.rtd\", ,\"ContractData\",Q112, \"PerCentNetLastTrade\",, \"T\")/100,\"\")","v":""},0]
[112,{"$f":"IFERROR(VLOOKUP(A113,Data!$H$2:$J$507,3,FALSE),\"\")","v":""},{"$f":"IFERROR(RTD(\"cqg.rtd\", ,\"ContractData\",B113, \"PerCentNetLastTrade\",, \"T\")/100,\"\")","v":""},{"$f":"IFERROR(RANK($C113,$C$2:C$507)+COUNTIF($C$2:C113,C113)-1,\"\")","v":""},"",112,"",{"$f":"IF(G113=\"\",\"\",RTD(\"cqg.rtd\", ,\"ContractData\",G113, \"LongDescription\",, \"T\"))","v":""},{"$f":"IFERROR(RTD(\"cqg.rtd\", ,\"ContractData\",G113, \"PerCentNetLastTrade\",, \"T\")/100,\"\")","v":""},0,112,{"$f":"IFERROR(VLOOKUP(A113,Data!$I$2:$J$507,2,FALSE),\"\")","v":""},{"$f":"IFERROR(RTD(\"cqg.rtd\", ,\"ContractData\",L113, \"PerCentNetLastTrade\",, \"T\")/100,\"\")","v":""},{"$f":"IFERROR(RANK($M113,$M$2:M$507)+COUNTIF($M$2:M113,M113)-1,\"\")","v":""},"",112,"",{"$f":"IF(Q113=\"\",\"\",RTD(\"cqg.rtd\", ,\"ContractData\",Q113, \"LongDescription\",, \"T\"))","v":""},{"$f":"IFERROR(RTD(\"cqg.rtd\", ,\"ContractData\",Q113, \"PerCentNetLastTrade\",, \"T\")/100,\"\")","v":""},0]
[113,{"$f":"IFERROR(VLOOKUP(A114,Data!$H$2:$J$507,3,FALSE),\"\")","v":""},{"$f":"IFERROR(RTD(\"cqg.rtd\", ,\"ContractData\",B114, \"PerCentNetLastTrade\",, \"T\")/100,\"\")","v":""},{"$f":"IFERROR(RANK($C114,$C$2:C$507)+COUNTIF($C$2:C114,C114)-1,\"\")","v":""},"",113,"",{"$f":"IF(G114=\"\",\"\",RTD(\"cqg.rtd\", ,\"ContractData\",G114, \"LongDescription\",, \"T\"))","v":""},{"$f":"IFERROR(RTD(\"cqg.rtd\", ,\"ContractData\",G114, \"PerCentNetLastTrade\",, \"T\")/100,\"\")","v":""},0,113,{"$f":"IFERROR(VLOOKUP(A114,Data!$I$2:$J$507,2,FALSE),\"\")","v":""},{"$f":"IFERROR(RTD(\"cqg.rtd\", ,\"ContractData\",L114, \"PerCentNetLastTrade\",, \"T\")/100,\"\")","v":""},{"$f":"IFERROR(RANK($M114,$M$2:M$507)+COUNTIF($M$2:M114,M114)-1,\"\")","v":""},"",113,"",{"$f":"IF(Q114=\"\",\"\",RTD(\"cqg.rtd\", ,\"ContractData\",Q114, \"LongDescription\",, \"T\"))","v":""},{"$f":"IFERROR(RTD(\"cqg.rtd\", ,\"ContractData\",Q114, \"PerCentNetLastTrade\",, \"T\")/100,\"\")","v":""},0]
[114,{"$f":"IFERROR(VLOOKUP(A115,Data!$H$2:$J$507,3,FALSE),\"\")","v":""},{"$f":"IFERROR(RTD(\"cqg.rtd\", ,\"ContractData\",B115, \"PerCentNetLastTrade\",, \"T\")/100,\"\")","v":""},{"$f":"IFERROR(RANK($C115,$C$2:C$507)+COUNTIF($C$2:C115,C115)-1,\"\")","v":""},"",114,"",{"$f":"IF(G115=\"\",\"\",RTD(\"cqg.rtd\", ,\"ContractData\",G115, \"LongDescription\",, \"T\"))","v":""},{"$f":"IFERROR(RTD(\"cqg.rtd\", ,\"ContractData\",G115, \"PerCentNetLastTrade\",, \"T\")/100,\"\")","v":""},0,114,{"$f":"IFERROR(VLOOKUP(A115,Data!$I$2:$J$507,2,FALSE),\"\")","v":""},{"$f":"IFERROR(RTD(\"cqg.rtd\", ,\"ContractData\",L115, \"PerCentNetLastTrade\",, \"T\")/100,\"\")","v":""},{"$f":"IFERROR(RANK($M115,$M$2:M$507)+COUNTIF($M$2:M115,M115)-1,\"\")","v":""},"",114,"",{"$f":"IF(Q115=\"\",\"\",RTD(\"cqg.rtd\", ,\"ContractData\",Q115, \"LongDescription\",, \"T\"))","v":""},{"$f":"IFERROR(RTD(\"cqg.rtd\", ,\"ContractData\",Q115, \"PerCentNetLastTrade\",, \"T\")/100,\"\")","v":""},0]
[115,{"$f":"IFERROR(VLOOKUP(A116,Data!$H$2:$J$507,3,FALSE),\"\")","v":""},{"$f":"IFERROR(RTD(\"cqg.rtd\", ,\"ContractData\",B116, \"PerCentNetLastTrade\",, \"T\")/100,\"\")","v":""},{"$f":"IFERROR(RANK($C116,$C$2:C$507)+COUNTIF($C$2:C116,C116)-1,\"\")","v":""},"",115,"",{"$f":"IF(G116=\"\",\"\",RTD(\"cqg.rtd\", ,\"ContractData\",G116, \"LongDescription\",, \"T\"))","v":""},{"$f":"IFERROR(RTD(\"cqg.rtd\", ,\"ContractData\",G116, \"PerCentNetLastTrade\",, \"T\")/100,\"\")","v":""},0,115,{"$f":"IFERROR(VLOOKUP(A116,Data!$I$2:$J$507,2,FALSE),\"\")","v":""},{"$f":"IFERROR(RTD(\"cqg.rtd\", ,\"ContractData\",L116, \"PerCentNetLastTrade\",, \"T\")/100,\"\")","v":""},{"$f":"IFERROR(RANK($M116,$M$2:M$507)+COUNTIF($M$2:M116,M116)-1,\"\")","v":""},"",115,"",{"$f":"IF(Q116=\"\",\"\",RTD(\"cqg.rtd\", ,\"ContractData\",Q116, \"LongDescription\",, \"T\"))","v":""},{"$f":"IFERROR(RTD(\"cqg.rtd\", ,\"ContractData\",Q116, \"PerCentNetLastTrade\",, \"T\")/100,\"\")","v":""},0]
[116,{"$f":"IFERROR(VLOOKUP(A117,Data!$H$2:$J$507,3,FALSE),\"\")","v":""},{"$f":"IFERROR(RTD(\"cqg.rtd\", ,\"ContractData\",B117, \"PerCentNetLastTrade\",, \"T\")/100,\"\")","v":""},{"$f":"IFERROR(RANK($C117,$C$2:C$507)+COUNTIF($C$2:C117,C117)-1,\"\")","v":""},"",116,"",{"$f":"IF(G117=\"\",\"\",RTD(\"cqg.rtd\", ,\"ContractData\",G117, \"LongDescription\",, \"T\"))","v":""},{"$f":"IFERROR(RTD(\"cqg.rtd\", ,\"ContractData\",G117, \"PerCentNetLastTrade\",, \"T\")/100,\"\")","v":""},0,116,{"$f":"IFERROR(VLOOKUP(A117,Data!$I$2:$J$507,2,FALSE),\"\")","v":""},{"$f":"IFERROR(RTD(\"cqg.rtd\", ,\"ContractData\",L117, \"PerCentNetLastTrade\",, \"T\")/100,\"\")","v":""},{"$f":"IFERROR(RANK($M117,$M$2:M$507)+COUNTIF($M$2:M117,M117)-1,\"\")","v":""},"",116,"",{"$f":"IF(Q117=\"\",\"\",RTD(\"cqg.rtd\", ,\"ContractData\",Q117, \"LongDescription\",, \"T\"))","v":""},{"$f":"IFERROR(RTD(\"cqg.rtd\", ,\"ContractData\",Q117, \"PerCentNetLastTrade\",, \"T\")/100,\"\")","v":""},0]
[117,{"$f":"IFERROR(VLOOKUP(A118,Data!$H$2:$J$507,3,FALSE),\"\")","v":""},{"$f":"IFERROR(RTD(\"cqg.rtd\", ,\"ContractData\",B118, \"PerCentNetLastTrade\",, \"T\")/100,\"\")","v":""},{"$f":"IFERROR(RANK($C118,$C$2:C$507)+COUNTIF($C$2:C118,C118)-1,\"\")","v":""},"",117,"",{"$f":"IF(G118=\"\",\"\",RTD(\"cqg.rtd\", ,\"ContractData\",G118, \"LongDescription\",, \"T\"))","v":""},{"$f":"IFERROR(RTD(\"cqg.rtd\", ,\"ContractData\",G118, \"PerCentNetLastTrade\",, \"T\")/100,\"\")","v":""},0,117,{"$f":"IFERROR(VLOOKUP(A118,Data!$I$2:$J$507,2,FALSE),\"\")","v":""},{"$f":"IFERROR(RTD(\"cqg.rtd\", ,\"ContractData\",L118, \"PerCentNetLastTrade\",, \"T\")/100,\"\")","v":""},{"$f":"IFERROR(RANK($M118,$M$2:M$507)+COUNTIF($M$2:M118,M118)-1,\"\")","v":""},"",117,"",{"$f":"IF(Q118=\"\",\"\",RTD(\"cqg.rtd\", ,\"ContractData\",Q118, \"LongDescription\",, \"T\"))","v":""},{"$f":"IFERROR(RTD(\"cqg.rtd\", ,\"ContractData\",Q118, \"PerCentNetLastTrade\",, \"T\")/100,\"\")","v":""},0]
[118,{"$f":"IFERROR(VLOOKUP(A119,Data!$H$2:$J$507,3,FALSE),\"\")","v":""},{"$f":"IFERROR(RTD(\"cqg.rtd\", ,\"ContractData\",B119, \"PerCentNetLastTrade\",, \"T\")/100,\"\")","v":""},{"$f":"IFERROR(RANK($C119,$C$2:C$507)+COUNTIF($C$2:C119,C119)-1,\"\")","v":""},"",118,"",{"$f":"IF(G119=\"\",\"\",RTD(\"cqg.rtd\", ,\"ContractData\",G119, \"LongDescription\",, \"T\"))","v":""},{"$f":"IFERROR(RTD(\"cqg.rtd\", ,\"ContractData\",G119, \"PerCentNetLastTrade\",, \"T\")/100,\"\")","v":""},0,118,{"$f":"IFERROR(VLOOKUP(A119,Data!$I$2:$J$507,2,FALSE),\"\")","v":""},{"$f":"IFERROR(RTD(\"cqg.rtd\", ,\"ContractData\",L119, \"PerCentNetLastTrade\",, \"T\")/100,\"\")","v":""},{"$f":"IFERROR(RANK($M119,$M$2:M$507)+COUNTIF($M$2:M119,M119)-1,\"\")","v":""},"",118,"",{"$f":"IF(Q119=\"\",\"\",RTD(\"cqg.rtd\", ,\"ContractData\",Q119, \"LongDescription\",, \"T\"))","v":""},{"$f":"IFERROR(RTD(\"cqg.rtd\", ,\"ContractData\",Q119, \"PerCentNetLastTrade\",, \"T\")/100,\"\")","v":""},0]
[119,{"$f":"IFERROR(VLOOKUP(A120,Data!$H$2:$J$507,3,FALSE),\"\")","v":""},{"$f":"IFERROR(RTD(\"cqg.rtd\", ,\"ContractData\",B120, \"PerCentNetLastTrade\",, \"T\")/100,\"\")","v":""},{"$f":"IFERROR(RANK($C120,$C$2:C$507)+COUNTIF($C$2:C120,C120)-1,\"\")","v":""},{"$f":"IF(B120=\"\",\"\",B120)","v":""},119,"",{"$f":"IF(G120=\"\",\"\",RTD(\"cqg.rtd\", ,\"ContractData\",G120, \"LongDescription\",, \"T\"))","v":""},{"$f":"IFERROR(RTD(\"cqg.rtd\", ,\"ContractData\",G120, \"PerCentNetLastTrade\",, \"T\")/100,\"\")","v":""},0,119,{"$f":"IFERROR(VLOOKUP(A120,Data!$I$2:$J$507,2,FALSE),\"\")","v":""},{"$f":"IFERROR(RTD(\"cqg.rtd\", ,\"ContractData\",L120, \"PerCentNetLastTrade\",, \"T\")/100,\"\")","v":""},{"$f":"IFERROR(RANK($M120,$M$2:M$507)+COUNTIF($M$2:M120,M120)-1,\"\")","v":""},"",119,"",{"$f":"IF(Q120=\"\",\"\",RTD(\"cqg.rtd\", ,\"ContractData\",Q120, \"LongDescription\",, \"T\"))","v":""},{"$f":"IFERROR(RTD(\"cqg.rtd\", ,\"ContractData\",Q120, \"PerCentNetLastTrade\",, \"T\")/100,\"\")","v":""},0]
[120,{"$f":"IFERROR(VLOOKUP(A121,Data!$H$2:$J$507,3,FALSE),\"\")","v":""},{"$f":"IFERROR(RTD(\"cqg.rtd\", ,\"ContractData\",B121, \"PerCentNetLastTrade\",, \"T\")/100,\"\")","v":""},{"$f":"IFERROR(RANK($C121,$C$2:C$507)+COUNTIF($C$2:C121,C121)-1,\"\")","v":""},"",120,"",{"$f":"IF(G121=\"\",\"\",RTD(\"cqg.rtd\", ,\"ContractData\",G121, \"LongDescription\",, \"T\"))","v":""},{"$f":"IFERROR(RTD(\"cqg.rtd\", ,\"ContractData\",G121, \"PerCentNetLastTrade\",, \"T\")/100,\"\")","v":""},0,120,{"$f":"IFERROR(VLOOKUP(A121,Data!$I$2:$J$507,2,FALSE),\"\")","v":""},{"$f":"IFERROR(RTD(\"cqg.rtd\", ,\"ContractData\",L121, \"PerCentNetLastTrade\",, \"T\")/100,\"\")","v":""},{"$f":"IFERROR(RANK($M121,$M$2:M$507)+COUNTIF($M$2:M121,M121)-1,\"\")","v":""},"",120,"",{"$f":"IF(Q121=\"\",\"\",RTD(\"cqg.rtd\", ,\"ContractData\",Q121, \"LongDescription\",, \"T\"))","v":""},{"$f":"IFERROR(RTD(\"cqg.rtd\", ,\"ContractData\",Q121, \"PerCentNetLastTrade\",, \"T\")/100,\"\")","v":""},0]
[121,{"$f":"IFERROR(VLOOKUP(A122,Data!$H$2:$J$507,3,FALSE),\"\")","v":""},{"$f":"IFERROR(RTD(\"cqg.rtd\", ,\"ContractData\",B122, \"PerCentNetLastTrade\",, \"T\")/100,\"\")","v":""},{"$f":"IFERROR(RANK($C122,$C$2:C$507)+COUNTIF($C$2:C122,C122)-1,\"\")","v":""},"",121,"",{"$f":"IF(G122=\"\",\"\",RTD(\"cqg.rtd\", ,\"ContractData\",G122, \"LongDescription\",, \"T\"))","v":""},{"$f":"IFERROR(RTD(\"cqg.rtd\", ,\"ContractData\",G122, \"PerCentNetLastTrade\",, \"T\")/100,\"\")","v":""},0,121,{"$f":"IFERROR(VLOOKUP(A122,Data!$I$2:$J$507,2,FALSE),\"\")","v":""},{"$f":"IFERROR(RTD(\"cqg.rtd\", ,\"ContractData\",L122, \"PerCentNetLastTrade\",, \"T\")/100,\"\")","v":""},{"$f":"IFERROR(RANK($M122,$M$2:M$507)+COUNTIF($M$2:M122,M122)-1,\"\")","v":""},"",121,"",{"$f":"IF(Q122=\"\",\"\",RTD(\"cqg.rtd\", ,\"ContractData\",Q122, \"LongDescription\",, \"T\"))","v":""},{"$f":"IFERROR(RTD(\"cqg.rtd\", ,\"ContractData\",Q122, \"PerCentNetLastTrade\",, \"T\")/100,\"\")","v":""},0]
[122,{"$f":"IFERROR(VLOOKUP(A123,Data!$H$2:$J$507,3,FALSE),\"\")","v":""},{"$f":"IFERROR(RTD(\"cqg.rtd\", ,\"ContractData\",B123, \"PerCentNetLastTrade\",, \"T\")/100,\"\")","v":""},{"$f":"IFERROR(RANK($C123,$C$2:C$507)+COUNTIF($C$2:C123,C123)-1,\"\")","v":""},"",122,"",{"$f":"IF(G123=\"\",\"\",RTD(\"cqg.rtd\", ,\"ContractData\",G123, \"LongDescription\",, \"T\"))","v":""},{"$f":"IFERROR(RTD(\"cqg.rtd\", ,\"ContractData\",G123, \"PerCentNetLastTrade\",, \"T\")/100,\"\")","v":""},0,122,{"$f":"IFERROR(VLOOKUP(A123,Data!$I$2:$J$507,2,FALSE),\"\")","v":""},{"$f":"IFERROR(RTD(\"cqg.rtd\", ,\"ContractData\",L123, \"PerCentNetLastTrade\",, \"T\")/100,\"\")","v":""},{"$f":"IFERROR(RANK($M123,$M$2:M$507)+COUNTIF($M$2:M123,M123)-1,\"\")","v":""},"",122,"",{"$f":"IF(Q123=\"\",\"\",RTD(\"cqg.rtd\", ,\"ContractData\",Q123, \"LongDescription\",, \"T\"))","v":""},{"$f":"IFERROR(RTD(\"cqg.rtd\", ,\"ContractData\",Q123, \"PerCentNetLastTrade\",, \"T\")/100,\"\")","v":""},0]
[123,{"$f":"IFERROR(VLOOKUP(A124,Data!$H$2:$J$507,3,FALSE),\"\")","v":""},{"$f":"IFERROR(RTD(\"cqg.rtd\", ,\"ContractData\",B124, \"PerCentNetLastTrade\",, \"T\")/100,\"\")","v":""},{"$f":"IFERROR(RANK($C124,$C$2:C$507)+COUNTIF($C$2:C124,C124)-1,\"\")","v":""},"",123,"",{"$f":"IF(G124=\"\",\"\",RTD(\"cqg.rtd\", ,\"ContractData\",G124, \"LongDescription\",, \"T\"))","v":""},{"$f":"IFERROR(RTD(\"cqg.rtd\", ,\"ContractData\",G124, \"PerCentNetLastTrade\",, \"T\")/100,\"\")","v":""},0,123,{"$f":"IFERROR(VLOOKUP(A124,Data!$I$2:$J$507,2,FALSE),\"\")","v":""},{"$f":"IFERROR(RTD(\"cqg.rtd\", ,\"ContractData\",L124, \"PerCentNetLastTrade\",, \"T\")/100,\"\")","v":""},{"$f":"IFERROR(RANK($M124,$M$2:M$507)+COUNTIF($M$2:M124,M124)-1,\"\")","v":""},"",123,"",{"$f":"IF(Q124=\"\",\"\",RTD(\"cqg.rtd\", ,\"ContractData\",Q124, \"LongDescription\",, \"T\"))","v":""},{"$f":"IFERROR(RTD(\"cqg.rtd\", ,\"ContractData\",Q124, \"PerCentNetLastTrade\",, \"T\")/100,\"\")","v":""},0]
[124,{"$f":"IFERROR(VLOOKUP(A125,Data!$H$2:$J$507,3,FALSE),\"\")","v":""},{"$f":"IFERROR(RTD(\"cqg.rtd\", ,\"ContractData\",B125, \"PerCentNetLastTrade\",, \"T\")/100,\"\")","v":""},{"$f":"IFERROR(RANK($C125,$C$2:C$507)+COUNTIF($C$2:C125,C125)-1,\"\")","v":""},"",124,"",{"$f":"IF(G125=\"\",\"\",RTD(\"cqg.rtd\", ,\"ContractData\",G125, \"LongDescription\",, \"T\"))","v":""},{"$f":"IFERROR(RTD(\"cqg.rtd\", ,\"ContractData\",G125, \"PerCentNetLastTrade\",, \"T\")/100,\"\")","v":""},0,124,{"$f":"IFERROR(VLOOKUP(A125,Data!$I$2:$J$507,2,FALSE),\"\")","v":""},{"$f":"IFERROR(RTD(\"cqg.rtd\", ,\"ContractData\",L125, \"PerCentNetLastTrade\",, \"T\")/100,\"\")","v":""},{"$f":"IFERROR(RANK($M125,$M$2:M$507)+COUNTIF($M$2:M125,M125)-1,\"\")","v":""},"",124,"",{"$f":"IF(Q125=\"\",\"\",RTD(\"cqg.rtd\", ,\"ContractData\",Q125, \"LongDescription\",, \"T\"))","v":""},{"$f":"IFERROR(RTD(\"cqg.rtd\", ,\"ContractData\",Q125, \"PerCentNetLastTrade\",, \"T\")/100,\"\")","v":""},0]
[125,{"$f":"IFERROR(VLOOKUP(A126,Data!$H$2:$J$507,3,FALSE),\"\")","v":""},{"$f":"IFERROR(RTD(\"cqg.rtd\", ,\"ContractData\",B126, \"PerCentNetLastTrade\",, \"T\")/100,\"\")","v":""},{"$f":"IFERROR(RANK($C126,$C$2:C$507)+COUNTIF($C$2:C126,C126)-1,\"\")","v":""},"",125,"",{"$f":"IF(G126=\"\",\"\",RTD(\"cqg.rtd\", ,\"ContractData\",G126, \"LongDescription\",, \"T\"))","v":""},{"$f":"IFERROR(RTD(\"cqg.rtd\", ,\"ContractData\",G126, \"PerCentNetLastTrade\",, \"T\")/100,\"\")","v":""},0,125,{"$f":"IFERROR(VLOOKUP(A126,Data!$I$2:$J$507,2,FALSE),\"\")","v":""},{"$f":"IFERROR(RTD(\"cqg.rtd\", ,\"ContractData\",L126, \"PerCentNetLastTrade\",, \"T\")/100,\"\")","v":""},{"$f":"IFERROR(RANK($M126,$M$2:M$507)+COUNTIF($M$2:M126,M126)-1,\"\")","v":""},"",125,"",{"$f":"IF(Q126=\"\",\"\",RTD(\"cqg.rtd\", ,\"ContractData\",Q126, \"LongDescription\",, \"T\"))","v":""},{"$f":"IFERROR(RTD(\"cqg.rtd\", ,\"ContractData\",Q126, \"PerCentNetLastTrade\",, \"T\")/100,\"\")","v":""},0]
[126,{"$f":"IFERROR(VLOOKUP(A127,Data!$H$2:$J$507,3,FALSE),\"\")","v":""},{"$f":"IFERROR(RTD(\"cqg.rtd\", ,\"ContractData\",B127, \"PerCentNetLastTrade\",, \"T\")/100,\"\")","v":""},{"$f":"IFERROR(RANK($C127,$C$2:C$507)+COUNTIF($C$2:C127,C127)-1,\"\")","v":""},"",126,"",{"$f":"IF(G127=\"\",\"\",RTD(\"cqg.rtd\", ,\"ContractData\",G127, \"LongDescription\",, \"T\"))","v":""},{"$f":"IFERROR(RTD(\"cqg.rtd\", ,\"ContractData\",G127, \"PerCentNetLastTrade\",, \"T\")/100,\"\")","v":""},0,126,{"$f":"IFERROR(VLOOKUP(A127,Data!$I$2:$J$507,2,FALSE),\"\")","v":""},{"$f":"IFERROR(RTD(\"cqg.rtd\", ,\"ContractData\",L127, \"PerCentNetLastTrade\",, \"T\")/100,\"\")","v":""},{"$f":"IFERROR(RANK($M127,$M$2:M$507)+COUNTIF($M$2:M127,M127)-1,\"\")","v":""},"",126,"",{"$f":"IF(Q127=\"\",\"\",RTD(\"cqg.rtd\", ,\"ContractData\",Q127, \"LongDescription\",, \"T\"))","v":""},{"$f":"IFERROR(RTD(\"cqg.rtd\", ,\"ContractData\",Q127, \"PerCentNetLastTrade\",, \"T\")/100,\"\")","v":""},0]
[127,{"$f":"IFERROR(VLOOKUP(A128,Data!$H$2:$J$507,3,FALSE),\"\")","v":""},{"$f":"IFERROR(RTD(\"cqg.rtd\", ,\"ContractData\",B128, \"PerCentNetLastTrade\",, \"T\")/100,\"\")","v":""},{"$f":"IFERROR(RANK($C128,$C$2:C$507)+COUNTIF($C$2:C128,C128)-1,\"\")","v":""},"",127,"",{"$f":"IF(G128=\"\",\"\",RTD(\"cqg.rtd\", ,\"ContractData\",G128, \"LongDescription\",, \"T\"))","v":""},{"$f":"IFERROR(RTD(\"cqg.rtd\", ,\"ContractData\",G128, \"PerCentNetLastTrade\",, \"T\")/100,\"\")","v":""},0,127,{"$f":"IFERROR(VLOOKUP(A128,Data!$I$2:$J$507,2,FALSE),\"\")","v":""},{"$f":"IFERROR(RTD(\"cqg.rtd\", ,\"ContractData\",L128, \"PerCentNetLastTrade\",, \"T\")/100,\"\")","v":""},{"$f":"IFERROR(RANK($M128,$M$2:M$507)+COUNTIF($M$2:M128,M128)-1,\"\")","v":""},"",127,"",{"$f":"IF(Q128=\"\",\"\",RTD(\"cqg.rtd\", ,\"ContractData\",Q128, \"LongDescription\",, \"T\"))","v":""},{"$f":"IFERROR(RTD(\"cqg.rtd\", ,\"ContractData\",Q128, \"PerCentNetLastTrade\",, \"T\")/100,\"\")","v":""},0]
[128,{"$f":"IFERROR(VLOOKUP(A129,Data!$H$2:$J$507,3,FALSE),\"\")","v":""},{"$f":"IFERROR(RTD(\"cqg.rtd\", ,\"ContractData\",B129, \"PerCentNetLastTrade\",, \"T\")/100,\"\")","v":""},{"$f":"IFERROR(RANK($C129,$C$2:C$507)+COUNTIF($C$2:C129,C129)-1,\"\")","v":""},"",128,"",{"$f":"IF(G129=\"\",\"\",RTD(\"cqg.rtd\", ,\"ContractData\",G129, \"LongDescription\",, \"T\"))","v":""},{"$f":"IFERROR(RTD(\"cqg.rtd\", ,\"ContractData\",G129, \"PerCentNetLastTrade\",, \"T\")/100,\"\")","v":""},0,128,{"$f":"IFERROR(VLOOKUP(A129,Data!$I$2:$J$507,2,FALSE),\"\")","v":""},{"$f":"IFERROR(RTD(\"cqg.rtd\", ,\"ContractData\",L129, \"PerCentNetLastTrade\",, \"T\")/100,\"\")","v":""},{"$f":"IFERROR(RANK($M129,$M$2:M$507)+COUNTIF($M$2:M129,M129)-1,\"\")","v":""},"",128,"",{"$f":"IF(Q129=\"\",\"\",RTD(\"cqg.rtd\", ,\"ContractData\",Q129, \"LongDescription\",, \"T\"))","v":""},{"$f":"IFERROR(RTD(\"cqg.rtd\", ,\"ContractData\",Q129, \"PerCentNetLastTrade\",, \"T\")/100,\"\")","v":""},0]
[129,{"$f":"IFERROR(VLOOKUP(A130,Data!$H$2:$J$507,3,FALSE),\"\")","v":""},{"$f":"IFERROR(RTD(\"cqg.rtd\", ,\"ContractData\",B130, \"PerCentNetLastTrade\",, \"T\")/100,\"\")","v":""},{"$f":"IFERROR(RANK($C130,$C$2:C$507)+COUNTIF($C$2:C130,C130)-1,\"\")","v":""},"",129,"",{"$f":"IF(G130=\"\",\"\",RTD(\"cqg.rtd\", ,\"ContractData\",G130, \"LongDescription\",, \"T\"))","v":""},{"$f":"IFERROR(RTD(\"cqg.rtd\", ,\"ContractData\",G130, \"PerCentNetLastTrade\",, \"T\")/100,\"\")","v":""},0,129,{"$f":"IFERROR(VLOOKUP(A130,Data!$I$2:$J$507,2,FALSE),\"\")","v":""},{"$f":"IFERROR(RTD(\"cqg.rtd\", ,\"ContractData\",L130, \"PerCentNetLastTrade\",, \"T\")/100,\"\")","v":""},{"$f":"IFERROR(RANK($M130,$M$2:M$507)+COUNTIF($M$2:M130,M130)-1,\"\")","v":""},"",129,"",{"$f":"IF(Q130=\"\",\"\",RTD(\"cqg.rtd\", ,\"ContractData\",Q130, \"LongDescription\",, \"T\"))","v":""},{"$f":"IFERROR(RTD(\"cqg.rtd\", ,\"ContractData\",Q130, \"PerCentNetLastTrade\",, \"T\")/100,\"\")","v":""},0]
[130,{"$f":"IFERROR(VLOOKUP(A131,Data!$H$2:$J$507,3,FALSE),\"\")","v":""},{"$f":"IFERROR(RTD(\"cqg.rtd\", ,\"ContractData\",B131, \"PerCentNetLastTrade\",, \"T\")/100,\"\")","v":""},{"$f":"IFERROR(RANK($C131,$C$2:C$507)+COUNTIF($C$2:C131,C131)-1,\"\")","v":""},"",130,{"$f":"IFERROR(VLOOKUP(F131,$D$2:$E$507,2,FALSE),\"\")","v":""},{"$f":"IF(G131=\"\",\"\",RTD(\"cqg.rtd\", ,\"ContractData\",G131, \"LongDescription\",, \"T\"))","v":""},{"$f":"IFERROR(RTD(\"cqg.rtd\", ,\"ContractData\",G131, \"PerCentNetLastTrade\",, \"T\")/100,\"\")","v":""},0,130,{"$f":"IFERROR(VLOOKUP(A131,Data!$I$2:$J$507,2,FALSE),\"\")","v":""},{"$f":"IFERROR(RTD(\"cqg.rtd\", ,\"ContractData\",L131, \"PerCentNetLastTrade\",, \"T\")/100,\"\")","v":""},{"$f":"IFERROR(RANK($M131,$M$2:M$507)+COUNTIF($M$2:M131,M131)-1,\"\")","v":""},"",130,{"$f":"IFERROR(VLOOKUP(P131,$N$2:$O$507,2,FALSE),\"\")","v":""},{"$f":"IF(Q131=\"\",\"\",RTD(\"cqg.rtd\", ,\"ContractData\",Q131, \"LongDescription\",, \"T\"))","v":""},{"$f":"IFERROR(RTD(\"cqg.rtd\", ,\"ContractData\",Q131, \"PerCentNetLastTrade\",, \"T\")/100,\"\")","v":""},{"$f":"IF(S131<>\"\",1,0)","v":0}]
[{"$f":"A131+1","v":131},{"$f":"IFERROR(VLOOKUP(A132,Data!$H$2:$J$507,3,FALSE),\"\")","v":""},{"$f":"IFERROR(RTD(\"cqg.rtd\", ,\"ContractData\",B132, \"PerCentNetLastTrade\",, \"T\")/100,\"\")","v":""},{"$f":"IFERROR(RANK($C132,$C$2:C$507)+COUNTIF($C$2:C132,C132)-1,\"\")","v":""},"",{"$f":"F131+1","v":131},"",{"$f":"IF(G132=\"\",\"\",RTD(\"cqg.rtd\", ,\"ContractData\",G132, \"LongDescription\",, \"T\"))","v":""},{"$f":"IFERROR(RTD(\"cqg.rtd\", ,\"ContractData\",G132, \"PerCentNetLastTrade\",, \"T\")/100,\"\")","v":""},0,{"$f":"K131+1","v":131},{"$f":"IFERROR(VLOOKUP(A132,Data!$I$2:$J$507,2,FALSE),\"\")","v":""},{"$f":"IFERROR(RTD(\"cqg.rtd\", ,\"ContractData\",L132, \"PerCentNetLastTrade\",, \"T\")/100,\"\")","v":""},{"$f":"IFERROR(RANK($M132,$M$2:M$507)+COUNTIF($M$2:M132,M132)-1,\"\")","v":""},"",{"$f":"P131+1","v":131},"",{"$f":"IF(Q132=\"\",\"\",RTD(\"cqg.rtd\", ,\"ContractData\",Q132, \"LongDescription\",, \"T\"))","v":""},{"$f":"IFERROR(RTD(\"cqg.rtd\", ,\"ContractData\",Q132, \"PerCentNetLastTrade\",, \"T\")/100,\"\")","v":""},0]
[132,{"$f":"IFERROR(VLOOKUP(A133,Data!$H$2:$J$507,3,FALSE),\"\")","v":""},{"$f":"IFERROR(RTD(\"cqg.rtd\", ,\"ContractData\",B133, \"PerCentNetLastTrade\",, \"T\")/100,\"\")","v":""},{"$f":"IFERROR(RANK($C133,$C$2:C$507)+COUNTIF($C$2:C133,C133)-1,\"\")","v":""},"",132,"",{"$f":"IF(G133=\"\",\"\",RTD(\"cqg.rtd\", ,\"ContractData\",G133, \"LongDescription\",, \"T\"))","v":""},{"$f":"IFERROR(RTD(\"cqg.rtd\", ,\"ContractData\",G133, \"PerCentNetLastTrade\",, \"T\")/100,\"\")","v":""},0,132,{"$f":"IFERROR(VLOOKUP(A133,Data!$I$2:$J$507,2,FALSE),\"\")","v":""},{"$f":"IFERROR(RTD(\"cqg.rtd\", ,\"ContractData\",L133, \"PerCentNetLastTrade\",, \"T\")/100,\"\")","v":""},{"$f":"IFERROR(RANK($M133,$M$2:M$507)+COUNTIF($M$2:M133,M133)-1,\"\")","v":""},"",132,"",{"$f":"IF(Q133=\"\",\"\",RTD(\"cqg.rtd\", ,\"ContractData\",Q133, \"LongDescription\",, \"T\"))","v":""},{"$f":"IFERROR(RTD(\"cqg.rtd\", ,\"ContractData\",Q133, \"PerCentNetLastTrade\",, \"T\")/100,\"\")","v":""},0]
[133,{"$f":"IFERROR(VLOOKUP(A134,Data!$H$2:$J$507,3,FALSE),\"\")","v":""},{"$f":"IFERROR(RTD(\"cqg.rtd\", ,\"ContractData\",B134, \"PerCentNetLastTrade\",, \"T\")/100,\"\")","v":""},{"$f":"IFERROR(RANK($C134,$C$2:C$507)+COUNTIF($C$2:C134,C134)-1,\"\")","v":""},"",133,"",{"$f":"IF(G134=\"\",\"\",RTD(\"cqg.rtd\", ,\"ContractData\",G134, \"LongDescription\",, \"T\"))","v":""},{"$f":"IFERROR(RTD(\"cqg.rtd\", ,\"ContractData\",G134, \"PerCentNetLastTrade\",, \"T\")/100,\"\")","v":""},0,133,{"$f":"IFERROR(VLOOKUP(A134,Data!$I$2:$J$507,2,FALSE),\"\")","v":""},{"$f":"IFERROR(RTD(\"cqg.rtd\", ,\"ContractData\",L134, \"PerCentNetLastTrade\",, \"T\")/100,\"\")","v":""},{"$f":"IFERROR(RANK($M134,$M$2:M$507)+COUNTIF($M$2:M134,M134)-1,\"\")","v":""},"",133,"",{"$f":"IF(Q134=\"\",\"\",RTD(\"cqg.rtd\", ,\"ContractData\",Q134, \"LongDescription\",, \"T\"))","v":""},{"$f":"IFERROR(RTD(\"cqg.rtd\", ,\"ContractData\",Q134, \"PerCentNetLastTrade\",, \"T\")/100,\"\")","v":""},0]
[134,{"$f":"IFERROR(VLOOKUP(A135,Data!$H$2:$J$507,3,FALSE),\"\")","v":""},{"$f":"IFERROR(RTD(\"cqg.rtd\", ,\"ContractData\",B135, \"PerCentNetLastTrade\",, \"T\")/100,\"\")","v":""},{"$f":"IFERROR(RANK($C135,$C$2:C$507)+COUNTIF($C$2:C135,C135)-1,\"\")","v":""},"",134,"",{"$f":"IF(G135=\"\",\"\",RTD(\"cqg.rtd\", ,\"ContractData\",G135, \"LongDescription\",, \"T\"))","v":""},{"$f":"IFERROR(RTD(\"cqg.rtd\", ,\"ContractData\",G135, \"PerCentNetLastTrade\",, \"T\")/100,\"\")","v":""},0,134,{"$f":"IFERROR(VLOOKUP(A135,Data!$I$2:$J$507,2,FALSE),\"\")","v":""},{"$f":"IFERROR(RTD(\"cqg.rtd\", ,\"ContractData\",L135, \"PerCentNetLastTrade\",, \"T\")/100,\"\")","v":""},{"$f":"IFERROR(RANK($M135,$M$2:M$507)+COUNTIF($M$2:M135,M135)-1,\"\")","v":""},"",134,"",{"$f":"IF(Q135=\"\",\"\",RTD(\"cqg.rtd\", ,\"ContractData\",Q135, \"LongDescription\",, \"T\"))","v":""},{"$f":"IFERROR(RTD(\"cqg.rtd\", ,\"ContractData\",Q135, \"PerCentNetLastTrade\",, \"T\")/100,\"\")","v":""},0]
[135,{"$f":"IFERROR(VLOOKUP(A136,Data!$H$2:$J$507,3,FALSE),\"\")","v":""},{"$f":"IFERROR(RTD(\"cqg.rtd\", ,\"ContractData\",B136, \"PerCentNetLastTrade\",, \"T\")/100,\"\")","v":""},{"$f":"IFERROR(RANK($C136,$C$2:C$507)+COUNTIF($C$2:C136,C136)-1,\"\")","v":""},"",135,"",{"$f":"IF(G136=\"\",\"\",RTD(\"cqg.rtd\", ,\"ContractData\",G136, \"LongDescription\",, \"T\"))","v":""},{"$f":"IFERROR(RTD(\"cqg.rtd\", ,\"ContractData\",G136, \"PerCentNetLastTrade\",, \"T\")/100,\"\")","v":""},0,135,{"$f":"IFERROR(VLOOKUP(A136,Data!$I$2:$J$507,2,FALSE),\"\")","v":""},{"$f":"IFERROR(RTD(\"cqg.rtd\", ,\"ContractData\",L136, \"PerCentNetLastTrade\",, \"T\")/100,\"\")","v":""},{"$f":"IFERROR(RANK($M136,$M$2:M$507)+COUNTIF($M$2:M136,M136)-1,\"\")","v":""},"",135,"",{"$f":"IF(Q136=\"\",\"\",RTD(\"cqg.rtd\", ,\"ContractData\",Q136, \"LongDescription\",, \"T\"))","v":""},{"$f":"IFERROR(RTD(\"cqg.rtd\", ,\"ContractData\",Q136, \"PerCentNetLastTrade\",, \"T\")/100,\"\")","v":""},0]
[136,{"$f":"IFERROR(VLOOKUP(A137,Data!$H$2:$J$507,3,FALSE),\"\")","v":""},{"$f":"IFERROR(RTD(\"cqg.rtd\", ,\"ContractData\",B137, \"PerCentNetLastTrade\",, \"T\")/100,\"\")","v":""},{"$f":"IFERROR(RANK($C137,$C$2:C$507)+COUNTIF($C$2:C137,C137)-1,\"\")","v":""},"",136,"",{"$f":"IF(G137=\"\",\"\",RTD(\"cqg.rtd\", ,\"ContractData\",G137, \"LongDescription\",, \"T\"))","v":""},{"$f":"IFERROR(RTD(\"cqg.rtd\", ,\"ContractData\",G137, \"PerCentNetLastTrade\",, \"T\")/100,\"\")","v":""},0,136,{"$f":"IFERROR(VLOOKUP(A137,Data!$I$2:$J$507,2,FALSE),\"\")","v":""},{"$f":"IFERROR(RTD(\"cqg.rtd\", ,\"ContractData\",L137, \"PerCentNetLastTrade\",, \"T\")/100,\"\")","v":""},{"$f":"IFERROR(RANK($M137,$M$2:M$507)+COUNTIF($M$2:M137,M137)-1,\"\")","v":""},"",136,"",{"$f":"IF(Q137=\"\",\"\",RTD(\"cqg.rtd\", ,\"ContractData\",Q137, \"LongDescription\",, \"T\"))","v":""},{"$f":"IFERROR(RTD(\"cqg.rtd\", ,\"ContractData\",Q137, \"PerCentNetLastTrade\",, \"T\")/100,\"\")","v":""},0]
[137,{"$f":"IFERROR(VLOOKUP(A138,Data!$H$2:$J$507,3,FALSE),\"\")","v":""},{"$f":"IFERROR(RTD(\"cqg.rtd\", ,\"ContractData\",B138, \"PerCentNetLastTrade\",, \"T\")/100,\"\")","v":""},{"$f":"IFERROR(RANK($C138,$C$2:C$507)+COUNTIF($C$2:C138,C138)-1,\"\")","v":""},"",137,"",{"$f":"IF(G138=\"\",\"\",RTD(\"cqg.rtd\", ,\"ContractData\",G138, \"LongDescription\",, \"T\"))","v":""},{"$f":"IFERROR(RTD(\"cqg.rtd\", ,\"ContractData\",G138, \"PerCentNetLastTrade\",, \"T\")/100,\"\")","v":""},0,137,{"$f":"IFERROR(VLOOKUP(A138,Data!$I$2:$J$507,2,FALSE),\"\")","v":""},{"$f":"IFERROR(RTD(\"cqg.rtd\", ,\"ContractData\",L138, \"PerCentNetLastTrade\",, \"T\")/100,\"\")","v":""},{"$f":"IFERROR(RANK($M138,$M$2:M$507)+COUNTIF($M$2:M138,M138)-1,\"\")","v":""},"",137,"",{"$f":"IF(Q138=\"\",\"\",RTD(\"cqg.rtd\", ,\"ContractData\",Q138, \"LongDescription\",, \"T\"))","v":""},{"$f":"IFERROR(RTD(\"cqg.rtd\", ,\"ContractData\",Q138, \"PerCentNetLastTrade\",, \"T\")/100,\"\")","v":""},0]
[138,{"$f":"IFERROR(VLOOKUP(A139,Data!$H$2:$J$507,3,FALSE),\"\")","v":""},{"$f":"IFERROR(RTD(\"cqg.rtd\", ,\"ContractData\",B139, \"PerCentNetLastTrade\",, \"T\")/100,\"\")","v":""},{"$f":"IFERROR(RANK($C139,$C$2:C$507)+COUNTIF($C$2:C139,C139)-1,\"\")","v":""},"",138,"",{"$f":"IF(G139=\"\",\"\",RTD(\"cqg.rtd\", ,\"ContractData\",G139, \"LongDescription\",, \"T\"))","v":""},{"$f":"IFERROR(RTD(\"cqg.rtd\", ,\"ContractData\",G139, \"PerCentNetLastTrade\",, \"T\")/100,\"\")","v":""},0,138,{"$f":"IFERROR(VLOOKUP(A139,Data!$I$2:$J$507,2,FALSE),\"\")","v":""},{"$f":"IFERROR(RTD(\"cqg.rtd\", ,\"ContractData\",L139, \"PerCentNetLastTrade\",, \"T\")/100,\"\")","v":""},{"$f":"IFERROR(RANK($M139,$M$2:M$507)+COUNTIF($M$2:M139,M139)-1,\"\")","v":""},"",138,"",{"$f":"IF(Q139=\"\",\"\",RTD(\"cqg.rtd\", ,\"ContractData\",Q139, \"LongDescription\",, \"T\"))","v":""},{"$f":"IFERROR(RTD(\"cqg.rtd\", ,\"ContractData\",Q139, \"PerCentNetLastTrade\",, \"T\")/100,\"\")","v":""},0]
[139,{"$f":"IFERROR(VLOOKUP(A140,Data!$H$2:$J$507,3,FALSE),\"\")","v":""},{"$f":"IFERROR(RTD(\"cqg.rtd\", ,\"ContractData\",B140, \"PerCentNetLastTrade\",, \"T\")/100,\"\")","v":""},{"$f":"IFERROR(RANK($C140,$C$2:C$507)+COUNTIF($C$2:C140,C140)-1,\"\")","v":""},"",139,"",{"$f":"IF(G140=\"\",\"\",RTD(\"cqg.rtd\", ,\"ContractData\",G140, \"LongDescription\",, \"T\"))","v":""},{"$f":"IFERROR(RTD(\"cqg.rtd\", ,\"ContractData\",G140, \"PerCentNetLastTrade\",, \"T\")/100,\"\")","v":""},0,139,{"$f":"IFERROR(VLOOKUP(A140,Data!$I$2:$J$507,2,FALSE),\"\")","v":""},{"$f":"IFERROR(RTD(\"cqg.rtd\", ,\"ContractData\",L140, \"PerCentNetLastTrade\",, \"T\")/100,\"\")","v":""},{"$f":"IFERROR(RANK($M140,$M$2:M$507)+COUNTIF($M$2:M140,M140)-1,\"\")","v":""},"",139,"",{"$f":"IF(Q140=\"\",\"\",RTD(\"cqg.rtd\", ,\"ContractData\",Q140, \"LongDescription\",, \"T\"))","v":""},{"$f":"IFERROR(RTD(\"cqg.rtd\", ,\"ContractData\",Q140, \"PerCentNetLastTrade\",, \"T\")/100,\"\")","v":""},0]
[140,{"$f":"IFERROR(VLOOKUP(A141,Data!$H$2:$J$507,3,FALSE),\"\")","v":""},{"$f":"IFERROR(RTD(\"cqg.rtd\", ,\"ContractData\",B141, \"PerCentNetLastTrade\",, \"T\")/100,\"\")","v":""},{"$f":"IFERROR(RANK($C141,$C$2:C$507)+COUNTIF($C$2:C141,C141)-1,\"\")","v":""},"",140,"",{"$f":"IF(G141=\"\",\"\",RTD(\"cqg.rtd\", ,\"ContractData\",G141, \"LongDescription\",, \"T\"))","v":""},{"$f":"IFERROR(RTD(\"cqg.rtd\", ,\"ContractData\",G141, \"PerCentNetLastTrade\",, \"T\")/100,\"\")","v":""},0,140,{"$f":"IFERROR(VLOOKUP(A141,Data!$I$2:$J$507,2,FALSE),\"\")","v":""},{"$f":"IFERROR(RTD(\"cqg.rtd\", ,\"ContractData\",L141, \"PerCentNetLastTrade\",, \"T\")/100,\"\")","v":""},{"$f":"IFERROR(RANK($M141,$M$2:M$507)+COUNTIF($M$2:M141,M141)-1,\"\")","v":""},"",140,"",{"$f":"IF(Q141=\"\",\"\",RTD(\"cqg.rtd\", ,\"ContractData\",Q141, \"LongDescription\",, \"T\"))","v":""},{"$f":"IFERROR(RTD(\"cqg.rtd\", ,\"ContractData\",Q141, \"PerCentNetLastTrade\",, \"T\")/100,\"\")","v":""},0]
[141,{"$f":"IFERROR(VLOOKUP(A142,Data!$H$2:$J$507,3,FALSE),\"\")","v":""},{"$f":"IFERROR(RTD(\"cqg.rtd\", ,\"ContractData\",B142, \"PerCentNetLastTrade\",, \"T\")/100,\"\")","v":""},{"$f":"IFERROR(RANK($C142,$C$2:C$507)+COUNTIF($C$2:C142,C142)-1,\"\")","v":""},"",141,"",{"$f":"IF(G142=\"\",\"\",RTD(\"cqg.rtd\", ,\"ContractData\",G142, \"LongDescription\",, \"T\"))","v":""},{"$f":"IFERROR(RTD(\"cqg.rtd\", ,\"ContractData\",G142, \"PerCentNetLastTrade\",, \"T\")/100,\"\")","v":""},0,141,{"$f":"IFERROR(VLOOKUP(A142,Data!$I$2:$J$507,2,FALSE),\"\")","v":""},{"$f":"IFERROR(RTD(\"cqg.rtd\", ,\"ContractData\",L142, \"PerCentNetLastTrade\",, \"T\")/100,\"\")","v":""},{"$f":"IFERROR(RANK($M142,$M$2:M$507)+COUNTIF($M$2:M142,M142)-1,\"\")","v":""},"",141,"",{"$f":"IF(Q142=\"\",\"\",RTD(\"cqg.rtd\", ,\"ContractData\",Q142, \"LongDescription\",, \"T\"))","v":""},{"$f":"IFERROR(RTD(\"cqg.rtd\", ,\"ContractData\",Q142, \"PerCentNetLastTrade\",, \"T\")/100,\"\")","v":""},0]
[142,{"$f":"IFERROR(VLOOKUP(A143,Data!$H$2:$J$507,3,FALSE),\"\")","v":""},{"$f":"IFERROR(RTD(\"cqg.rtd\", ,\"ContractData\",B143, \"PerCentNetLastTrade\",, \"T\")/100,\"\")","v":""},{"$f":"IFERROR(RANK($C143,$C$2:C$507)+COUNTIF($C$2:C143,C143)-1,\"\")","v":""},"",142,"",{"$f":"IF(G143=\"\",\"\",RTD(\"cqg.rtd\", ,\"ContractData\",G143, \"LongDescription\",, \"T\"))","v":""},{"$f":"IFERROR(RTD(\"cqg.rtd\", ,\"ContractData\",G143, \"PerCentNetLastTrade\",, \"T\")/100,\"\")","v":""},0,142,{"$f":"IFERROR(VLOOKUP(A143,Data!$I$2:$J$507,2,FALSE),\"\")","v":""},{"$f":"IFERROR(RTD(\"cqg.rtd\", ,\"ContractData\",L143, \"PerCentNetLastTrade\",, \"T\")/100,\"\")","v":""},{"$f":"IFERROR(RANK($M143,$M$2:M$507)+COUNTIF($M$2:M143,M143)-1,\"\")","v":""},"",142,"",{"$f":"IF(Q143=\"\",\"\",RTD(\"cqg.rtd\", ,\"ContractData\",Q143, \"LongDescription\",, \"T\"))","v":""},{"$f":"IFERROR(RTD(\"cqg.rtd\", ,\"ContractData\",Q143, \"PerCentNetLastTrade\",, \"T\")/100,\"\")","v":""},0]
[143,{"$f":"IFERROR(VLOOKUP(A144,Data!$H$2:$J$507,3,FALSE),\"\")","v":""},{"$f":"IFERROR(RTD(\"cqg.rtd\", ,\"ContractData\",B144, \"PerCentNetLastTrade\",, \"T\")/100,\"\")","v":""},{"$f":"IFERROR(RANK($C144,$C$2:C$507)+COUNTIF($C$2:C144,C144)-1,\"\")","v":""},"",143,"",{"$f":"IF(G144=\"\",\"\",RTD(\"cqg.rtd\", ,\"ContractData\",G144, \"LongDescription\",, \"T\"))","v":""},{"$f":"IFERROR(RTD(\"cqg.rtd\", ,\"ContractData\",G144, \"PerCentNetLastTrade\",, \"T\")/100,\"\")","v":""},0,143,{"$f":"IFERROR(VLOOKUP(A144,Data!$I$2:$J$507,2,FALSE),\"\")","v":""},{"$f":"IFERROR(RTD(\"cqg.rtd\", ,\"ContractData\",L144, \"PerCentNetLastTrade\",, \"T\")/100,\"\")","v":""},{"$f":"IFERROR(RANK($M144,$M$2:M$507)+COUNTIF($M$2:M144,M144)-1,\"\")","v":""},"",143,"",{"$f":"IF(Q144=\"\",\"\",RTD(\"cqg.rtd\", ,\"ContractData\",Q144, \"LongDescription\",, \"T\"))","v":""},{"$f":"IFERROR(RTD(\"cqg.rtd\", ,\"ContractData\",Q144, \"PerCentNetLastTrade\",, \"T\")/100,\"\")","v":""},0]
[144,{"$f":"IFERROR(VLOOKUP(A145,Data!$H$2:$J$507,3,FALSE),\"\")","v":""},{"$f":"IFERROR(RTD(\"cqg.rtd\", ,\"ContractData\",B145, \"PerCentNetLastTrade\",, \"T\")/100,\"\")","v":""},{"$f":"IFERROR(RANK($C145,$C$2:C$507)+COUNTIF($C$2:C145,C145)-1,\"\")","v":""},"",144,"",{"$f":"IF(G145=\"\",\"\",RTD(\"cqg.rtd\", ,\"ContractData\",G145, \"LongDescription\",, \"T\"))","v":""},{"$f":"IFERROR(RTD(\"cqg.rtd\", ,\"ContractData\",G145, \"PerCentNetLastTrade\",, \"T\")/100,\"\")","v":""},0,144,{"$f":"IFERROR(VLOOKUP(A145,Data!$I$2:$J$507,2,FALSE),\"\")","v":""},{"$f":"IFERROR(RTD(\"cqg.rtd\", ,\"ContractData\",L145, \"PerCentNetLastTrade\",, \"T\")/100,\"\")","v":""},{"$f":"IFERROR(RANK($M145,$M$2:M$507)+COUNTIF($M$2:M145,M145)-1,\"\")","v":""},"",144,"",{"$f":"IF(Q145=\"\",\"\",RTD(\"cqg.rtd\", ,\"ContractData\",Q145, \"LongDescription\",, \"T\"))","v":""},{"$f":"IFERROR(RTD(\"cqg.rtd\", ,\"ContractData\",Q145, \"PerCentNetLastTrade\",, \"T\")/100,\"\")","v":""},0]
[145,{"$f":"IFERROR(VLOOKUP(A146,Data!$H$2:$J$507,3,FALSE),\"\")","v":""},{"$f":"IFERROR(RTD(\"cqg.rtd\", ,\"ContractData\",B146, \"PerCentNetLastTrade\",, \"T\")/100,\"\")","v":""},{"$f":"IFERROR(RANK($C146,$C$2:C$507)+COUNTIF($C$2:C146,C146)-1,\"\")","v":""},"",145,"",{"$f":"IF(G146=\"\",\"\",RTD(\"cqg.rtd\", ,\"ContractData\",G146, \"LongDescription\",, \"T\"))","v":""},{"$f":"IFERROR(RTD(\"cqg.rtd\", ,\"ContractData\",G146, \"PerCentNetLastTrade\",, \"T\")/100,\"\")","v":""},0,145,{"$f":"IFERROR(VLOOKUP(A146,Data!$I$2:$J$507,2,FALSE),\"\")","v":""},{"$f":"IFERROR(RTD(\"cqg.rtd\", ,\"ContractData\",L146, \"PerCentNetLastTrade\",, \"T\")/100,\"\")","v":""},{"$f":"IFERROR(RANK($M146,$M$2:M$507)+COUNTIF($M$2:M146,M146)-1,\"\")","v":""},"",145,"",{"$f":"IF(Q146=\"\",\"\",RTD(\"cqg.rtd\", ,\"ContractData\",Q146, \"LongDescription\",, \"T\"))","v":""},{"$f":"IFERROR(RTD(\"cqg.rtd\", ,\"ContractData\",Q146, \"PerCentNetLastTrade\",, \"T\")/100,\"\")","v":""},0]
[146,{"$f":"IFERROR(VLOOKUP(A147,Data!$H$2:$J$507,3,FALSE),\"\")","v":""},{"$f":"IFERROR(RTD(\"cqg.rtd\", ,\"ContractData\",B147, \"PerCentNetLastTrade\",, \"T\")/100,\"\")","v":""},{"$f":"IFERROR(RANK($C147,$C$2:C$507)+COUNTIF($C$2:C147,C147)-1,\"\")","v":""},"",146,"",{"$f":"IF(G147=\"\",\"\",RTD(\"cqg.rtd\", ,\"ContractData\",G147, \"LongDescription\",, \"T\"))","v":""},{"$f":"IFERROR(RTD(\"cqg.rtd\", ,\"ContractData\",G147, \"PerCentNetLastTrade\",, \"T\")/100,\"\")","v":""},0,146,{"$f":"IFERROR(VLOOKUP(A147,Data!$I$2:$J$507,2,FALSE),\"\")","v":""},{"$f":"IFERROR(RTD(\"cqg.rtd\", ,\"ContractData\",L147, \"PerCentNetLastTrade\",, \"T\")/100,\"\")","v":""},{"$f":"IFERROR(RANK($M147,$M$2:M$507)+COUNTIF($M$2:M147,M147)-1,\"\")","v":""},"",146,"",{"$f":"IF(Q147=\"\",\"\",RTD(\"cqg.rtd\", ,\"ContractData\",Q147, \"LongDescription\",, \"T\"))","v":""},{"$f":"IFERROR(RTD(\"cqg.rtd\", ,\"ContractData\",Q147, \"PerCentNetLastTrade\",, \"T\")/100,\"\")","v":""},0]
[147,{"$f":"IFERROR(VLOOKUP(A148,Data!$H$2:$J$507,3,FALSE),\"\")","v":""},{"$f":"IFERROR(RTD(\"cqg.rtd\", ,\"ContractData\",B148, \"PerCentNetLastTrade\",, \"T\")/100,\"\")","v":""},{"$f":"IFERROR(RANK($C148,$C$2:C$507)+COUNTIF($C$2:C148,C148)-1,\"\")","v":""},"",147,"",{"$f":"IF(G148=\"\",\"\",RTD(\"cqg.rtd\", ,\"ContractData\",G148, \"LongDescription\",, \"T\"))","v":""},{"$f":"IFERROR(RTD(\"cqg.rtd\", ,\"ContractData\",G148, \"PerCentNetLastTrade\",, \"T\")/100,\"\")","v":""},0,147,{"$f":"IFERROR(VLOOKUP(A148,Data!$I$2:$J$507,2,FALSE),\"\")","v":""},{"$f":"IFERROR(RTD(\"cqg.rtd\", ,\"ContractData\",L148, \"PerCentNetLastTrade\",, \"T\")/100,\"\")","v":""},{"$f":"IFERROR(RANK($M148,$M$2:M$507)+COUNTIF($M$2:M148,M148)-1,\"\")","v":""},"",147,"",{"$f":"IF(Q148=\"\",\"\",RTD(\"cqg.rtd\", ,\"ContractData\",Q148, \"LongDescription\",, \"T\"))","v":""},{"$f":"IFERROR(RTD(\"cqg.rtd\", ,\"ContractData\",Q148, \"PerCentNetLastTrade\",, \"T\")/100,\"\")","v":""},0]
[148,{"$f":"IFERROR(VLOOKUP(A149,Data!$H$2:$J$507,3,FALSE),\"\")","v":""},{"$f":"IFERROR(RTD(\"cqg.rtd\", ,\"ContractData\",B149, \"PerCentNetLastTrade\",, \"T\")/100,\"\")","v":""},{"$f":"IFERROR(RANK($C149,$C$2:C$507)+COUNTIF($C$2:C149,C149)-1,\"\")","v":""},"",148,"",{"$f":"IF(G149=\"\",\"\",RTD(\"cqg.rtd\", ,\"ContractData\",G149, \"LongDescription\",, \"T\"))","v":""},{"$f":"IFERROR(RTD(\"cqg.rtd\", ,\"ContractData\",G149, \"PerCentNetLastTrade\",, \"T\")/100,\"\")","v":""},0,148,{"$f":"IFERROR(VLOOKUP(A149,Data!$I$2:$J$507,2,FALSE),\"\")","v":""},{"$f":"IFERROR(RTD(\"cqg.rtd\", ,\"ContractData\",L149, \"PerCentNetLastTrade\",, \"T\")/100,\"\")","v":""},{"$f":"IFERROR(RANK($M149,$M$2:M$507)+COUNTIF($M$2:M149,M149)-1,\"\")","v":""},"",148,"",{"$f":"IF(Q149=\"\",\"\",RTD(\"cqg.rtd\", ,\"ContractData\",Q149, \"LongDescription\",, \"T\"))","v":""},{"$f":"IFERROR(RTD(\"cqg.rtd\", ,\"ContractData\",Q149, \"PerCentNetLastTrade\",, \"T\")/100,\"\")","v":""},0]
[149,{"$f":"IFERROR(VLOOKUP(A150,Data!$H$2:$J$507,3,FALSE),\"\")","v":""},{"$f":"IFERROR(RTD(\"cqg.rtd\", ,\"ContractData\",B150, \"PerCentNetLastTrade\",, \"T\")/100,\"\")","v":""},{"$f":"IFERROR(RANK($C150,$C$2:C$507)+COUNTIF($C$2:C150,C150)-1,\"\")","v":""},"",149,"",{"$f":"IF(G150=\"\",\"\",RTD(\"cqg.rtd\", ,\"ContractData\",G150, \"LongDescription\",, \"T\"))","v":""},{"$f":"IFERROR(RTD(\"cqg.rtd\", ,\"ContractData\",G150, \"PerCentNetLastTrade\",, \"T\")/100,\"\")","v":""},0,149,{"$f":"IFERROR(VLOOKUP(A150,Data!$I$2:$J$507,2,FALSE),\"\")","v":""},{"$f":"IFERROR(RTD(\"cqg.rtd\", ,\"ContractData\",L150, \"PerCentNetLastTrade\",, \"T\")/100,\"\")","v":""},{"$f":"IFERROR(RANK($M150,$M$2:M$507)+COUNTIF($M$2:M150,M150)-1,\"\")","v":""},"",149,"",{"$f":"IF(Q150=\"\",\"\",RTD(\"cqg.rtd\", ,\"ContractData\",Q150, \"LongDescription\",, \"T\"))","v":""},{"$f":"IFERROR(RTD(\"cqg.rtd\", ,\"ContractData\",Q150, \"PerCentNetLastTrade\",, \"T\")/100,\"\")","v":""},0]
[150,{"$f":"IFERROR(VLOOKUP(A151,Data!$H$2:$J$507,3,FALSE),\"\")","v":""},{"$f":"IFERROR(RTD(\"cqg.rtd\", ,\"ContractData\",B151, \"PerCentNetLastTrade\",, \"T\")/100,\"\")","v":""},{"$f":"IFERROR(RANK($C151,$C$2:C$507)+COUNTIF($C$2:C151,C151)-1,\"\")","v":""},"",150,"",{"$f":"IF(G151=\"\",\"\",RTD(\"cqg.rtd\", ,\"ContractData\",G151, \"LongDescription\",, \"T\"))","v":""},{"$f":"IFERROR(RTD(\"cqg.rtd\", ,\"ContractData\",G151, \"PerCentNetLastTrade\",, \"T\")/100,\"\")","v":""},0,150,{"$f":"IFERROR(VLOOKUP(A151,Data!$I$2:$J$507,2,FALSE),\"\")","v":""},{"$f":"IFERROR(RTD(\"cqg.rtd\", ,\"ContractData\",L151, \"PerCentNetLastTrade\",, \"T\")/100,\"\")","v":""},{"$f":"IFERROR(RANK($M151,$M$2:M$507)+COUNTIF($M$2:M151,M151)-1,\"\")","v":""},"",150,"",{"$f":"IF(Q151=\"\",\"\",RTD(\"cqg.rtd\", ,\"ContractData\",Q151, \"LongDescription\",, \"T\"))","v":""},{"$f":"IFERROR(RTD(\"cqg.rtd\", ,\"ContractData\",Q151, \"PerCentNetLastTrade\",, \"T\")/100,\"\")","v":""},0]
[151,{"$f":"IFERROR(VLOOKUP(A152,Data!$H$2:$J$507,3,FALSE),\"\")","v":""},{"$f":"IFERROR(RTD(\"cqg.rtd\", ,\"ContractData\",B152, \"PerCentNetLastTrade\",, \"T\")/100,\"\")","v":""},{"$f":"IFERROR(RANK($C152,$C$2:C$507)+COUNTIF($C$2:C152,C152)-1,\"\")","v":""},"",151,"",{"$f":"IF(G152=\"\",\"\",RTD(\"cqg.rtd\", ,\"ContractData\",G152, \"LongDescription\",, \"T\"))","v":""},{"$f":"IFERROR(RTD(\"cqg.rtd\", ,\"ContractData\",G152, \"PerCentNetLastTrade\",, \"T\")/100,\"\")","v":""},0,151,{"$f":"IFERROR(VLOOKUP(A152,Data!$I$2:$J$507,2,FALSE),\"\")","v":""},{"$f":"IFERROR(RTD(\"cqg.rtd\", ,\"ContractData\",L152, \"PerCentNetLastTrade\",, \"T\")/100,\"\")","v":""},{"$f":"IFERROR(RANK($M152,$M$2:M$507)+COUNTIF($M$2:M152,M152)-1,\"\")","v":""},"",151,"",{"$f":"IF(Q152=\"\",\"\",RTD(\"cqg.rtd\", ,\"ContractData\",Q152, \"LongDescription\",, \"T\"))","v":""},{"$f":"IFERROR(RTD(\"cqg.rtd\", ,\"ContractData\",Q152, \"PerCentNetLastTrade\",, \"T\")/100,\"\")","v":""},0]
[152,{"$f":"IFERROR(VLOOKUP(A153,Data!$H$2:$J$507,3,FALSE),\"\")","v":""},{"$f":"IFERROR(RTD(\"cqg.rtd\", ,\"ContractData\",B153, \"PerCentNetLastTrade\",, \"T\")/100,\"\")","v":""},{"$f":"IFERROR(RANK($C153,$C$2:C$507)+COUNTIF($C$2:C153,C153)-1,\"\")","v":""},"",152,"",{"$f":"IF(G153=\"\",\"\",RTD(\"cqg.rtd\", ,\"ContractData\",G153, \"LongDescription\",, \"T\"))","v":""},{"$f":"IFERROR(RTD(\"cqg.rtd\", ,\"ContractData\",G153, \"PerCentNetLastTrade\",, \"T\")/100,\"\")","v":""},0,152,{"$f":"IFERROR(VLOOKUP(A153,Data!$I$2:$J$507,2,FALSE),\"\")","v":""},{"$f":"IFERROR(RTD(\"cqg.rtd\", ,\"ContractData\",L153, \"PerCentNetLastTrade\",, \"T\")/100,\"\")","v":""},{"$f":"IFERROR(RANK($M153,$M$2:M$507)+COUNTIF($M$2:M153,M153)-1,\"\")","v":""},"",152,"",{"$f":"IF(Q153=\"\",\"\",RTD(\"cqg.rtd\", ,\"ContractData\",Q153, \"LongDescription\",, \"T\"))","v":""},{"$f":"IFERROR(RTD(\"cqg.rtd\", ,\"ContractData\",Q153, \"PerCentNetLastTrade\",, \"T\")/100,\"\")","v":""},0]
[153,{"$f":"IFERROR(VLOOKUP(A154,Data!$H$2:$J$507,3,FALSE),\"\")","v":""},{"$f":"IFERROR(RTD(\"cqg.rtd\", ,\"ContractData\",B154, \"PerCentNetLastTrade\",, \"T\")/100,\"\")","v":""},{"$f":"IFERROR(RANK($C154,$C$2:C$507)+COUNTIF($C$2:C154,C154)-1,\"\")","v":""},"",153,"",{"$f":"IF(G154=\"\",\"\",RTD(\"cqg.rtd\", ,\"ContractData\",G154, \"LongDescription\",, \"T\"))","v":""},{"$f":"IFERROR(RTD(\"cqg.rtd\", ,\"ContractData\",G154, \"PerCentNetLastTrade\",, \"T\")/100,\"\")","v":""},0,153,{"$f":"IFERROR(VLOOKUP(A154,Data!$I$2:$J$507,2,FALSE),\"\")","v":""},{"$f":"IFERROR(RTD(\"cqg.rtd\", ,\"ContractData\",L154, \"PerCentNetLastTrade\",, \"T\")/100,\"\")","v":""},{"$f":"IFERROR(RANK($M154,$M$2:M$507)+COUNTIF($M$2:M154,M154)-1,\"\")","v":""},"",153,"",{"$f":"IF(Q154=\"\",\"\",RTD(\"cqg.rtd\", ,\"ContractData\",Q154, \"LongDescription\",, \"T\"))","v":""},{"$f":"IFERROR(RTD(\"cqg.rtd\", ,\"ContractData\",Q154, \"PerCentNetLastTrade\",, \"T\")/100,\"\")","v":""},0]
[154,{"$f":"IFERROR(VLOOKUP(A155,Data!$H$2:$J$507,3,FALSE),\"\")","v":""},{"$f":"IFERROR(RTD(\"cqg.rtd\", ,\"ContractData\",B155, \"PerCentNetLastTrade\",, \"T\")/100,\"\")","v":""},{"$f":"IFERROR(RANK($C155,$C$2:C$507)+COUNTIF($C$2:C155,C155)-1,\"\")","v":""},"",154,"",{"$f":"IF(G155=\"\",\"\",RTD(\"cqg.rtd\", ,\"ContractData\",G155, \"LongDescription\",, \"T\"))","v":""},{"$f":"IFERROR(RTD(\"cqg.rtd\", ,\"ContractData\",G155, \"PerCentNetLastTrade\",, \"T\")/100,\"\")","v":""},0,154,{"$f":"IFERROR(VLOOKUP(A155,Data!$I$2:$J$507,2,FALSE),\"\")","v":""},{"$f":"IFERROR(RTD(\"cqg.rtd\", ,\"ContractData\",L155, \"PerCentNetLastTrade\",, \"T\")/100,\"\")","v":""},{"$f":"IFERROR(RANK($M155,$M$2:M$507)+COUNTIF($M$2:M155,M155)-1,\"\")","v":""},"",154,"",{"$f":"IF(Q155=\"\",\"\",RTD(\"cqg.rtd\", ,\"ContractData\",Q155, \"LongDescription\",, \"T\"))","v":""},{"$f":"IFERROR(RTD(\"cqg.rtd\", ,\"ContractData\",Q155, \"PerCentNetLastTrade\",, \"T\")/100,\"\")","v":""},0]
[155,{"$f":"IFERROR(VLOOKUP(A156,Data!$H$2:$J$507,3,FALSE),\"\")","v":""},{"$f":"IFERROR(RTD(\"cqg.rtd\", ,\"ContractData\",B156, \"PerCentNetLastTrade\",, \"T\")/100,\"\")","v":""},{"$f":"IFERROR(RANK($C156,$C$2:C$507)+COUNTIF($C$2:C156,C156)-1,\"\")","v":""},"",155,"",{"$f":"IF(G156=\"\",\"\",RTD(\"cqg.rtd\", ,\"ContractData\",G156, \"LongDescription\",, \"T\"))","v":""},{"$f":"IFERROR(RTD(\"cqg.rtd\", ,\"ContractData\",G156, \"PerCentNetLastTrade\",, \"T\")/100,\"\")","v":""},0,155,{"$f":"IFERROR(VLOOKUP(A156,Data!$I$2:$J$507,2,FALSE),\"\")","v":""},{"$f":"IFERROR(RTD(\"cqg.rtd\", ,\"ContractData\",L156, \"PerCentNetLastTrade\",, \"T\")/100,\"\")","v":""},{"$f":"IFERROR(RANK($M156,$M$2:M$507)+COUNTIF($M$2:M156,M156)-1,\"\")","v":""},"",155,"",{"$f":"IF(Q156=\"\",\"\",RTD(\"cqg.rtd\", ,\"ContractData\",Q156, \"LongDescription\",, \"T\"))","v":""},{"$f":"IFERROR(RTD(\"cqg.rtd\", ,\"ContractData\",Q156, \"PerCentNetLastTrade\",, \"T\")/100,\"\")","v":""},0]
[156,{"$f":"IFERROR(VLOOKUP(A157,Data!$H$2:$J$507,3,FALSE),\"\")","v":""},{"$f":"IFERROR(RTD(\"cqg.rtd\", ,\"ContractData\",B157, \"PerCentNetLastTrade\",, \"T\")/100,\"\")","v":""},{"$f":"IFERROR(RANK($C157,$C$2:C$507)+COUNTIF($C$2:C157,C157)-1,\"\")","v":""},"",156,"",{"$f":"IF(G157=\"\",\"\",RTD(\"cqg.rtd\", ,\"ContractData\",G157, \"LongDescription\",, \"T\"))","v":""},{"$f":"IFERROR(RTD(\"cqg.rtd\", ,\"ContractData\",G157, \"PerCentNetLastTrade\",, \"T\")/100,\"\")","v":""},0,156,{"$f":"IFERROR(VLOOKUP(A157,Data!$I$2:$J$507,2,FALSE),\"\")","v":""},{"$f":"IFERROR(RTD(\"cqg.rtd\", ,\"ContractData\",L157, \"PerCentNetLastTrade\",, \"T\")/100,\"\")","v":""},{"$f":"IFERROR(RANK($M157,$M$2:M$507)+COUNTIF($M$2:M157,M157)-1,\"\")","v":""},"",156,"",{"$f":"IF(Q157=\"\",\"\",RTD(\"cqg.rtd\", ,\"ContractData\",Q157, \"LongDescription\",, \"T\"))","v":""},{"$f":"IFERROR(RTD(\"cqg.rtd\", ,\"ContractData\",Q157, \"PerCentNetLastTrade\",, \"T\")/100,\"\")","v":""},0]
[157,{"$f":"IFERROR(VLOOKUP(A158,Data!$H$2:$J$507,3,FALSE),\"\")","v":""},{"$f":"IFERROR(RTD(\"cqg.rtd\", ,\"ContractData\",B158, \"PerCentNetLastTrade\",, \"T\")/100,\"\")","v":""},{"$f":"IFERROR(RANK($C158,$C$2:C$507)+COUNTIF($C$2:C158,C158)-1,\"\")","v":""},"",157,"",{"$f":"IF(G158=\"\",\"\",RTD(\"cqg.rtd\", ,\"ContractData\",G158, \"LongDescription\",, \"T\"))","v":""},{"$f":"IFERROR(RTD(\"cqg.rtd\", ,\"ContractData\",G158, \"PerCentNetLastTrade\",, \"T\")/100,\"\")","v":""},0,157,{"$f":"IFERROR(VLOOKUP(A158,Data!$I$2:$J$507,2,FALSE),\"\")","v":""},{"$f":"IFERROR(RTD(\"cqg.rtd\", ,\"ContractData\",L158, \"PerCentNetLastTrade\",, \"T\")/100,\"\")","v":""},{"$f":"IFERROR(RANK($M158,$M$2:M$507)+COUNTIF($M$2:M158,M158)-1,\"\")","v":""},"",157,"",{"$f":"IF(Q158=\"\",\"\",RTD(\"cqg.rtd\", ,\"ContractData\",Q158, \"LongDescription\",, \"T\"))","v":""},{"$f":"IFERROR(RTD(\"cqg.rtd\", ,\"ContractData\",Q158, \"PerCentNetLastTrade\",, \"T\")/100,\"\")","v":""},0]
[158,{"$f":"IFERROR(VLOOKUP(A159,Data!$H$2:$J$507,3,FALSE),\"\")","v":""},{"$f":"IFERROR(RTD(\"cqg.rtd\", ,\"ContractData\",B159, \"PerCentNetLastTrade\",, \"T\")/100,\"\")","v":""},{"$f":"IFERROR(RANK($C159,$C$2:C$507)+COUNTIF($C$2:C159,C159)-1,\"\")","v":""},"",158,"",{"$f":"IF(G159=\"\",\"\",RTD(\"cqg.rtd\", ,\"ContractData\",G159, \"LongDescription\",, \"T\"))","v":""},{"$f":"IFERROR(RTD(\"cqg.rtd\", ,\"ContractData\",G159, \"PerCentNetLastTrade\",, \"T\")/100,\"\")","v":""},0,158,{"$f":"IFERROR(VLOOKUP(A159,Data!$I$2:$J$507,2,FALSE),\"\")","v":""},{"$f":"IFERROR(RTD(\"cqg.rtd\", ,\"ContractData\",L159, \"PerCentNetLastTrade\",, \"T\")/100,\"\")","v":""},{"$f":"IFERROR(RANK($M159,$M$2:M$507)+COUNTIF($M$2:M159,M159)-1,\"\")","v":""},"",158,"",{"$f":"IF(Q159=\"\",\"\",RTD(\"cqg.rtd\", ,\"ContractData\",Q159, \"LongDescription\",, \"T\"))","v":""},{"$f":"IFERROR(RTD(\"cqg.rtd\", ,\"ContractData\",Q159, \"PerCentNetLastTrade\",, \"T\")/100,\"\")","v":""},0]
[159,{"$f":"IFERROR(VLOOKUP(A160,Data!$H$2:$J$507,3,FALSE),\"\")","v":""},{"$f":"IFERROR(RTD(\"cqg.rtd\", ,\"ContractData\",B160, \"PerCentNetLastTrade\",, \"T\")/100,\"\")","v":""},{"$f":"IFERROR(RANK($C160,$C$2:C$507)+COUNTIF($C$2:C160,C160)-1,\"\")","v":""},"",159,"",{"$f":"IF(G160=\"\",\"\",RTD(\"cqg.rtd\", ,\"ContractData\",G160, \"LongDescription\",, \"T\"))","v":""},{"$f":"IFERROR(RTD(\"cqg.rtd\", ,\"ContractData\",G160, \"PerCentNetLastTrade\",, \"T\")/100,\"\")","v":""},0,159,{"$f":"IFERROR(VLOOKUP(A160,Data!$I$2:$J$507,2,FALSE),\"\")","v":""},{"$f":"IFERROR(RTD(\"cqg.rtd\", ,\"ContractData\",L160, \"PerCentNetLastTrade\",, \"T\")/100,\"\")","v":""},{"$f":"IFERROR(RANK($M160,$M$2:M$507)+COUNTIF($M$2:M160,M160)-1,\"\")","v":""},"",159,"",{"$f":"IF(Q160=\"\",\"\",RTD(\"cqg.rtd\", ,\"ContractData\",Q160, \"LongDescription\",, \"T\"))","v":""},{"$f":"IFERROR(RTD(\"cqg.rtd\", ,\"ContractData\",Q160, \"PerCentNetLastTrade\",, \"T\")/100,\"\")","v":""},0]
[160,{"$f":"IFERROR(VLOOKUP(A161,Data!$H$2:$J$507,3,FALSE),\"\")","v":""},{"$f":"IFERROR(RTD(\"cqg.rtd\", ,\"ContractData\",B161, \"PerCentNetLastTrade\",, \"T\")/100,\"\")","v":""},{"$f":"IFERROR(RANK($C161,$C$2:C$507)+COUNTIF($C$2:C161,C161)-1,\"\")","v":""},"",160,"",{"$f":"IF(G161=\"\",\"\",RTD(\"cqg.rtd\", ,\"ContractData\",G161, \"LongDescription\",, \"T\"))","v":""},{"$f":"IFERROR(RTD(\"cqg.rtd\", ,\"ContractData\",G161, \"PerCentNetLastTrade\",, \"T\")/100,\"\")","v":""},0,160,{"$f":"IFERROR(VLOOKUP(A161,Data!$I$2:$J$507,2,FALSE),\"\")","v":""},{"$f":"IFERROR(RTD(\"cqg.rtd\", ,\"ContractData\",L161, \"PerCentNetLastTrade\",, \"T\")/100,\"\")","v":""},{"$f":"IFERROR(RANK($M161,$M$2:M$507)+COUNTIF($M$2:M161,M161)-1,\"\")","v":""},"",160,"",{"$f":"IF(Q161=\"\",\"\",RTD(\"cqg.rtd\", ,\"ContractData\",Q161, \"LongDescription\",, \"T\"))","v":""},{"$f":"IFERROR(RTD(\"cqg.rtd\", ,\"ContractData\",Q161, \"PerCentNetLastTrade\",, \"T\")/100,\"\")","v":""},0]
[161,{"$f":"IFERROR(VLOOKUP(A162,Data!$H$2:$J$507,3,FALSE),\"\")","v":""},{"$f":"IFERROR(RTD(\"cqg.rtd\", ,\"ContractData\",B162, \"PerCentNetLastTrade\",, \"T\")/100,\"\")","v":""},{"$f":"IFERROR(RANK($C162,$C$2:C$507)+COUNTIF($C$2:C162,C162)-1,\"\")","v":""},"",161,"",{"$f":"IF(G162=\"\",\"\",RTD(\"cqg.rtd\", ,\"ContractData\",G162, \"LongDescription\",, \"T\"))","v":""},{"$f":"IFERROR(RTD(\"cqg.rtd\", ,\"ContractData\",G162, \"PerCentNetLastTrade\",, \"T\")/100,\"\")","v":""},0,161,{"$f":"IFERROR(VLOOKUP(A162,Data!$I$2:$J$507,2,FALSE),\"\")","v":""},{"$f":"IFERROR(RTD(\"cqg.rtd\", ,\"ContractData\",L162, \"PerCentNetLastTrade\",, \"T\")/100,\"\")","v":""},{"$f":"IFERROR(RANK($M162,$M$2:M$507)+COUNTIF($M$2:M162,M162)-1,\"\")","v":""},"",161,"",{"$f":"IF(Q162=\"\",\"\",RTD(\"cqg.rtd\", ,\"ContractData\",Q162, \"LongDescription\",, \"T\"))","v":""},{"$f":"IFERROR(RTD(\"cqg.rtd\", ,\"ContractData\",Q162, \"PerCentNetLastTrade\",, \"T\")/100,\"\")","v":""},0]
[162,{"$f":"IFERROR(VLOOKUP(A163,Data!$H$2:$J$507,3,FALSE),\"\")","v":""},{"$f":"IFERROR(RTD(\"cqg.rtd\", ,\"ContractData\",B163, \"PerCentNetLastTrade\",, \"T\")/100,\"\")","v":""},{"$f":"IFERROR(RANK($C163,$C$2:C$507)+COUNTIF($C$2:C163,C163)-1,\"\")","v":""},"",162,"",{"$f":"IF(G163=\"\",\"\",RTD(\"cqg.rtd\", ,\"ContractData\",G163, \"LongDescription\",, \"T\"))","v":""},{"$f":"IFERROR(RTD(\"cqg.rtd\", ,\"ContractData\",G163, \"PerCentNetLastTrade\",, \"T\")/100,\"\")","v":""},0,162,{"$f":"IFERROR(VLOOKUP(A163,Data!$I$2:$J$507,2,FALSE),\"\")","v":""},{"$f":"IFERROR(RTD(\"cqg.rtd\", ,\"ContractData\",L163, \"PerCentNetLastTrade\",, \"T\")/100,\"\")","v":""},{"$f":"IFERROR(RANK($M163,$M$2:M$507)+COUNTIF($M$2:M163,M163)-1,\"\")","v":""},"",162,"",{"$f":"IF(Q163=\"\",\"\",RTD(\"cqg.rtd\", ,\"ContractData\",Q163, \"LongDescription\",, \"T\"))","v":""},{"$f":"IFERROR(RTD(\"cqg.rtd\", ,\"ContractData\",Q163, \"PerCentNetLastTrade\",, \"T\")/100,\"\")","v":""},0]
[163,{"$f":"IFERROR(VLOOKUP(A164,Data!$H$2:$J$507,3,FALSE),\"\")","v":""},{"$f":"IFERROR(RTD(\"cqg.rtd\", ,\"ContractData\",B164, \"PerCentNetLastTrade\",, \"T\")/100,\"\")","v":""},{"$f":"IFERROR(RANK($C164,$C$2:C$507)+COUNTIF($C$2:C164,C164)-1,\"\")","v":""},"",163,"",{"$f":"IF(G164=\"\",\"\",RTD(\"cqg.rtd\", ,\"ContractData\",G164, \"LongDescription\",, \"T\"))","v":""},{"$f":"IFERROR(RTD(\"cqg.rtd\", ,\"ContractData\",G164, \"PerCentNetLastTrade\",, \"T\")/100,\"\")","v":""},0,163,{"$f":"IFERROR(VLOOKUP(A164,Data!$I$2:$J$507,2,FALSE),\"\")","v":""},{"$f":"IFERROR(RTD(\"cqg.rtd\", ,\"ContractData\",L164, \"PerCentNetLastTrade\",, \"T\")/100,\"\")","v":""},{"$f":"IFERROR(RANK($M164,$M$2:M$507)+COUNTIF($M$2:M164,M164)-1,\"\")","v":""},"",163,"",{"$f":"IF(Q164=\"\",\"\",RTD(\"cqg.rtd\", ,\"ContractData\",Q164, \"LongDescription\",, \"T\"))","v":""},{"$f":"IFERROR(RTD(\"cqg.rtd\", ,\"ContractData\",Q164, \"PerCentNetLastTrade\",, \"T\")/100,\"\")","v":""},0]
[164,{"$f":"IFERROR(VLOOKUP(A165,Data!$H$2:$J$507,3,FALSE),\"\")","v":""},{"$f":"IFERROR(RTD(\"cqg.rtd\", ,\"ContractData\",B165, \"PerCentNetLastTrade\",, \"T\")/100,\"\")","v":""},{"$f":"IFERROR(RANK($C165,$C$2:C$507)+COUNTIF($C$2:C165,C165)-1,\"\")","v":""},"",164,"",{"$f":"IF(G165=\"\",\"\",RTD(\"cqg.rtd\", ,\"ContractData\",G165, \"LongDescription\",, \"T\"))","v":""},{"$f":"IFERROR(RTD(\"cqg.rtd\", ,\"ContractData\",G165, \"PerCentNetLastTrade\",, \"T\")/100,\"\")","v":""},0,164,{"$f":"IFERROR(VLOOKUP(A165,Data!$I$2:$J$507,2,FALSE),\"\")","v":""},{"$f":"IFERROR(RTD(\"cqg.rtd\", ,\"ContractData\",L165, \"PerCentNetLastTrade\",, \"T\")/100,\"\")","v":""},{"$f":"IFERROR(RANK($M165,$M$2:M$507)+COUNTIF($M$2:M165,M165)-1,\"\")","v":""},"",164,"",{"$f":"IF(Q165=\"\",\"\",RTD(\"cqg.rtd\", ,\"ContractData\",Q165, \"LongDescription\",, \"T\"))","v":""},{"$f":"IFERROR(RTD(\"cqg.rtd\", ,\"ContractData\",Q165, \"PerCentNetLastTrade\",, \"T\")/100,\"\")","v":""},0]
[165,{"$f":"IFERROR(VLOOKUP(A166,Data!$H$2:$J$507,3,FALSE),\"\")","v":""},{"$f":"IFERROR(RTD(\"cqg.rtd\", ,\"ContractData\",B166, \"PerCentNetLastTrade\",, \"T\")/100,\"\")","v":""},{"$f":"IFERROR(RANK($C166,$C$2:C$507)+COUNTIF($C$2:C166,C166)-1,\"\")","v":""},"",165,"",{"$f":"IF(G166=\"\",\"\",RTD(\"cqg.rtd\", ,\"ContractData\",G166, \"LongDescription\",, \"T\"))","v":""},{"$f":"IFERROR(RTD(\"cqg.rtd\", ,\"ContractData\",G166, \"PerCentNetLastTrade\",, \"T\")/100,\"\")","v":""},0,165,{"$f":"IFERROR(VLOOKUP(A166,Data!$I$2:$J$507,2,FALSE),\"\")","v":""},{"$f":"IFERROR(RTD(\"cqg.rtd\", ,\"ContractData\",L166, \"PerCentNetLastTrade\",, \"T\")/100,\"\")","v":""},{"$f":"IFERROR(RANK($M166,$M$2:M$507)+COUNTIF($M$2:M166,M166)-1,\"\")","v":""},{"$f":"IF(L166=\"\",\"\",L166)","v":""},165,"",{"$f":"IF(Q166=\"\",\"\",RTD(\"cqg.rtd\", ,\"ContractData\",Q166, \"LongDescription\",, \"T\"))","v":""},{"$f":"IFERROR(RTD(\"cqg.rtd\", ,\"ContractData\",Q166, \"PerCentNetLastTrade\",, \"T\")/100,\"\")","v":""},0]
[166,{"$f":"IFERROR(VLOOKUP(A167,Data!$H$2:$J$507,3,FALSE),\"\")","v":""},{"$f":"IFERROR(RTD(\"cqg.rtd\", ,\"ContractData\",B167, \"PerCentNetLastTrade\",, \"T\")/100,\"\")","v":""},{"$f":"IFERROR(RANK($C167,$C$2:C$507)+COUNTIF($C$2:C167,C167)-1,\"\")","v":""},"",166,"",{"$f":"IF(G167=\"\",\"\",RTD(\"cqg.rtd\", ,\"ContractData\",G167, \"LongDescription\",, \"T\"))","v":""},{"$f":"IFERROR(RTD(\"cqg.rtd\", ,\"ContractData\",G167, \"PerCentNetLastTrade\",, \"T\")/100,\"\")","v":""},{"$f":"IF(I167<>\"\",1,0)","v":0},166,{"$f":"IFERROR(VLOOKUP(A167,Data!$I$2:$J$507,2,FALSE),\"\")","v":""},{"$f":"IFERROR(RTD(\"cqg.rtd\", ,\"ContractData\",L167, \"PerCentNetLastTrade\",, \"T\")/100,\"\")","v":""},{"$f":"IFERROR(RANK($M167,$M$2:M$507)+COUNTIF($M$2:M167,M167)-1,\"\")","v":""},"",166,"",{"$f":"IF(Q167=\"\",\"\",RTD(\"cqg.rtd\", ,\"ContractData\",Q167, \"LongDescription\",, \"T\"))","v":""},{"$f":"IFERROR(RTD(\"cqg.rtd\", ,\"ContractData\",Q167, \"PerCentNetLastTrade\",, \"T\")/100,\"\")","v":""},0]
[167,{"$f":"IFERROR(VLOOKUP(A168,Data!$H$2:$J$507,3,FALSE),\"\")","v":""},{"$f":"IFERROR(RTD(\"cqg.rtd\", ,\"ContractData\",B168, \"PerCentNetLastTrade\",, \"T\")/100,\"\")","v":""},{"$f":"IFERROR(RANK($C168,$C$2:C$507)+COUNTIF($C$2:C168,C168)-1,\"\")","v":""},"",167,"",{"$f":"IF(G168=\"\",\"\",RTD(\"cqg.rtd\", ,\"ContractData\",G168, \"LongDescription\",, \"T\"))","v":""},{"$f":"IFERROR(RTD(\"cqg.rtd\", ,\"ContractData\",G168, \"PerCentNetLastTrade\",, \"T\")/100,\"\")","v":""},0,167,{"$f":"IFERROR(VLOOKUP(A168,Data!$I$2:$J$507,2,FALSE),\"\")","v":""},{"$f":"IFERROR(RTD(\"cqg.rtd\", ,\"ContractData\",L168, \"PerCentNetLastTrade\",, \"T\")/100,\"\")","v":""},{"$f":"IFERROR(RANK($M168,$M$2:M$507)+COUNTIF($M$2:M168,M168)-1,\"\")","v":""},"",167,"",{"$f":"IF(Q168=\"\",\"\",RTD(\"cqg.rtd\", ,\"ContractData\",Q168, \"LongDescription\",, \"T\"))","v":""},{"$f":"IFERROR(RTD(\"cqg.rtd\", ,\"ContractData\",Q168, \"PerCentNetLastTrade\",, \"T\")/100,\"\")","v":""},0]
[168,{"$f":"IFERROR(VLOOKUP(A169,Data!$H$2:$J$507,3,FALSE),\"\")","v":""},{"$f":"IFERROR(RTD(\"cqg.rtd\", ,\"ContractData\",B169, \"PerCentNetLastTrade\",, \"T\")/100,\"\")","v":""},{"$f":"IFERROR(RANK($C169,$C$2:C$507)+COUNTIF($C$2:C169,C169)-1,\"\")","v":""},"",168,"",{"$f":"IF(G169=\"\",\"\",RTD(\"cqg.rtd\", ,\"ContractData\",G169, \"LongDescription\",, \"T\"))","v":""},{"$f":"IFERROR(RTD(\"cqg.rtd\", ,\"ContractData\",G169, \"PerCentNetLastTrade\",, \"T\")/100,\"\")","v":""},0,168,{"$f":"IFERROR(VLOOKUP(A169,Data!$I$2:$J$507,2,FALSE),\"\")","v":""},{"$f":"IFERROR(RTD(\"cqg.rtd\", ,\"ContractData\",L169, \"PerCentNetLastTrade\",, \"T\")/100,\"\")","v":""},{"$f":"IFERROR(RANK($M169,$M$2:M$507)+COUNTIF($M$2:M169,M169)-1,\"\")","v":""},"",168,"",{"$f":"IF(Q169=\"\",\"\",RTD(\"cqg.rtd\", ,\"ContractData\",Q169, \"LongDescription\",, \"T\"))","v":""},{"$f":"IFERROR(RTD(\"cqg.rtd\", ,\"ContractData\",Q169, \"PerCentNetLastTrade\",, \"T\")/100,\"\")","v":""},0]
[169,{"$f":"IFERROR(VLOOKUP(A170,Data!$H$2:$J$507,3,FALSE),\"\")","v":""},{"$f":"IFERROR(RTD(\"cqg.rtd\", ,\"ContractData\",B170, \"PerCentNetLastTrade\",, \"T\")/100,\"\")","v":""},{"$f":"IFERROR(RANK($C170,$C$2:C$507)+COUNTIF($C$2:C170,C170)-1,\"\")","v":""},"",169,"",{"$f":"IF(G170=\"\",\"\",RTD(\"cqg.rtd\", ,\"ContractData\",G170, \"LongDescription\",, \"T\"))","v":""},{"$f":"IFERROR(RTD(\"cqg.rtd\", ,\"ContractData\",G170, \"PerCentNetLastTrade\",, \"T\")/100,\"\")","v":""},0,169,{"$f":"IFERROR(VLOOKUP(A170,Data!$I$2:$J$507,2,FALSE),\"\")","v":""},{"$f":"IFERROR(RTD(\"cqg.rtd\", ,\"ContractData\",L170, \"PerCentNetLastTrade\",, \"T\")/100,\"\")","v":""},{"$f":"IFERROR(RANK($M170,$M$2:M$507)+COUNTIF($M$2:M170,M170)-1,\"\")","v":""},"",169,"",{"$f":"IF(Q170=\"\",\"\",RTD(\"cqg.rtd\", ,\"ContractData\",Q170, \"LongDescription\",, \"T\"))","v":""},{"$f":"IFERROR(RTD(\"cqg.rtd\", ,\"ContractData\",Q170, \"PerCentNetLastTrade\",, \"T\")/100,\"\")","v":""},0]
[170,{"$f":"IFERROR(VLOOKUP(A171,Data!$H$2:$J$507,3,FALSE),\"\")","v":""},{"$f":"IFERROR(RTD(\"cqg.rtd\", ,\"ContractData\",B171, \"PerCentNetLastTrade\",, \"T\")/100,\"\")","v":""},{"$f":"IFERROR(RANK($C171,$C$2:C$507)+COUNTIF($C$2:C171,C171)-1,\"\")","v":""},"",170,"",{"$f":"IF(G171=\"\",\"\",RTD(\"cqg.rtd\", ,\"ContractData\",G171, \"LongDescription\",, \"T\"))","v":""},{"$f":"IFERROR(RTD(\"cqg.rtd\", ,\"ContractData\",G171, \"PerCentNetLastTrade\",, \"T\")/100,\"\")","v":""},0,170,{"$f":"IFERROR(VLOOKUP(A171,Data!$I$2:$J$507,2,FALSE),\"\")","v":""},{"$f":"IFERROR(RTD(\"cqg.rtd\", ,\"ContractData\",L171, \"PerCentNetLastTrade\",, \"T\")/100,\"\")","v":""},{"$f":"IFERROR(RANK($M171,$M$2:M$507)+COUNTIF($M$2:M171,M171)-1,\"\")","v":""},"",170,"",{"$f":"IF(Q171=\"\",\"\",RTD(\"cqg.rtd\", ,\"ContractData\",Q171, \"LongDescription\",, \"T\"))","v":""},{"$f":"IFERROR(RTD(\"cqg.rtd\", ,\"ContractData\",Q171, \"PerCentNetLastTrade\",, \"T\")/100,\"\")","v":""},0]
[171,{"$f":"IFERROR(VLOOKUP(A172,Data!$H$2:$J$507,3,FALSE),\"\")","v":""},{"$f":"IFERROR(RTD(\"cqg.rtd\", ,\"ContractData\",B172, \"PerCentNetLastTrade\",, \"T\")/100,\"\")","v":""},{"$f":"IFERROR(RANK($C172,$C$2:C$507)+COUNTIF($C$2:C172,C172)-1,\"\")","v":""},"",171,"",{"$f":"IF(G172=\"\",\"\",RTD(\"cqg.rtd\", ,\"ContractData\",G172, \"LongDescription\",, \"T\"))","v":""},{"$f":"IFERROR(RTD(\"cqg.rtd\", ,\"ContractData\",G172, \"PerCentNetLastTrade\",, \"T\")/100,\"\")","v":""},0,171,{"$f":"IFERROR(VLOOKUP(A172,Data!$I$2:$J$507,2,FALSE),\"\")","v":""},{"$f":"IFERROR(RTD(\"cqg.rtd\", ,\"ContractData\",L172, \"PerCentNetLastTrade\",, \"T\")/100,\"\")","v":""},{"$f":"IFERROR(RANK($M172,$M$2:M$507)+COUNTIF($M$2:M172,M172)-1,\"\")","v":""},"",171,"",{"$f":"IF(Q172=\"\",\"\",RTD(\"cqg.rtd\", ,\"ContractData\",Q172, \"LongDescription\",, \"T\"))","v":""},{"$f":"IFERROR(RTD(\"cqg.rtd\", ,\"ContractData\",Q172, \"PerCentNetLastTrade\",, \"T\")/100,\"\")","v":""},0]
[172,{"$f":"IFERROR(VLOOKUP(A173,Data!$H$2:$J$507,3,FALSE),\"\")","v":""},{"$f":"IFERROR(RTD(\"cqg.rtd\", ,\"ContractData\",B173, \"PerCentNetLastTrade\",, \"T\")/100,\"\")","v":""},{"$f":"IFERROR(RANK($C173,$C$2:C$507)+COUNTIF($C$2:C173,C173)-1,\"\")","v":""},"",172,"",{"$f":"IF(G173=\"\",\"\",RTD(\"cqg.rtd\", ,\"ContractData\",G173, \"LongDescription\",, \"T\"))","v":""},{"$f":"IFERROR(RTD(\"cqg.rtd\", ,\"ContractData\",G173, \"PerCentNetLastTrade\",, \"T\")/100,\"\")","v":""},0,172,{"$f":"IFERROR(VLOOKUP(A173,Data!$I$2:$J$507,2,FALSE),\"\")","v":""},{"$f":"IFERROR(RTD(\"cqg.rtd\", ,\"ContractData\",L173, \"PerCentNetLastTrade\",, \"T\")/100,\"\")","v":""},{"$f":"IFERROR(RANK($M173,$M$2:M$507)+COUNTIF($M$2:M173,M173)-1,\"\")","v":""},"",172,"",{"$f":"IF(Q173=\"\",\"\",RTD(\"cqg.rtd\", ,\"ContractData\",Q173, \"LongDescription\",, \"T\"))","v":""},{"$f":"IFERROR(RTD(\"cqg.rtd\", ,\"ContractData\",Q173, \"PerCentNetLastTrade\",, \"T\")/100,\"\")","v":""},0]
[173,{"$f":"IFERROR(VLOOKUP(A174,Data!$H$2:$J$507,3,FALSE),\"\")","v":""},{"$f":"IFERROR(RTD(\"cqg.rtd\", ,\"ContractData\",B174, \"PerCentNetLastTrade\",, \"T\")/100,\"\")","v":""},{"$f":"IFERROR(RANK($C174,$C$2:C$507)+COUNTIF($C$2:C174,C174)-1,\"\")","v":""},"",173,"",{"$f":"IF(G174=\"\",\"\",RTD(\"cqg.rtd\", ,\"ContractData\",G174, \"LongDescription\",, \"T\"))","v":""},{"$f":"IFERROR(RTD(\"cqg.rtd\", ,\"ContractData\",G174, \"PerCentNetLastTrade\",, \"T\")/100,\"\")","v":""},0,173,{"$f":"IFERROR(VLOOKUP(A174,Data!$I$2:$J$507,2,FALSE),\"\")","v":""},{"$f":"IFERROR(RTD(\"cqg.rtd\", ,\"ContractData\",L174, \"PerCentNetLastTrade\",, \"T\")/100,\"\")","v":""},{"$f":"IFERROR(RANK($M174,$M$2:M$507)+COUNTIF($M$2:M174,M174)-1,\"\")","v":""},"",173,"",{"$f":"IF(Q174=\"\",\"\",RTD(\"cqg.rtd\", ,\"ContractData\",Q174, \"LongDescription\",, \"T\"))","v":""},{"$f":"IFERROR(RTD(\"cqg.rtd\", ,\"ContractData\",Q174, \"PerCentNetLastTrade\",, \"T\")/100,\"\")","v":""},0]
[174,{"$f":"IFERROR(VLOOKUP(A175,Data!$H$2:$J$507,3,FALSE),\"\")","v":""},{"$f":"IFERROR(RTD(\"cqg.rtd\", ,\"ContractData\",B175, \"PerCentNetLastTrade\",, \"T\")/100,\"\")","v":""},{"$f":"IFERROR(RANK($C175,$C$2:C$507)+COUNTIF($C$2:C175,C175)-1,\"\")","v":""},"",174,"",{"$f":"IF(G175=\"\",\"\",RTD(\"cqg.rtd\", ,\"ContractData\",G175, \"LongDescription\",, \"T\"))","v":""},{"$f":"IFERROR(RTD(\"cqg.rtd\", ,\"ContractData\",G175, \"PerCentNetLastTrade\",, \"T\")/100,\"\")","v":""},0,174,{"$f":"IFERROR(VLOOKUP(A175,Data!$I$2:$J$507,2,FALSE),\"\")","v":""},{"$f":"IFERROR(RTD(\"cqg.rtd\", ,\"ContractData\",L175, \"PerCentNetLastTrade\",, \"T\")/100,\"\")","v":""},{"$f":"IFERROR(RANK($M175,$M$2:M$507)+COUNTIF($M$2:M175,M175)-1,\"\")","v":""},"",174,"",{"$f":"IF(Q175=\"\",\"\",RTD(\"cqg.rtd\", ,\"ContractData\",Q175, \"LongDescription\",, \"T\"))","v":""},{"$f":"IFERROR(RTD(\"cqg.rtd\", ,\"ContractData\",Q175, \"PerCentNetLastTrade\",, \"T\")/100,\"\")","v":""},0]
[175,{"$f":"IFERROR(VLOOKUP(A176,Data!$H$2:$J$507,3,FALSE),\"\")","v":""},{"$f":"IFERROR(RTD(\"cqg.rtd\", ,\"ContractData\",B176, \"PerCentNetLastTrade\",, \"T\")/100,\"\")","v":""},{"$f":"IFERROR(RANK($C176,$C$2:C$507)+COUNTIF($C$2:C176,C176)-1,\"\")","v":""},"",175,"",{"$f":"IF(G176=\"\",\"\",RTD(\"cqg.rtd\", ,\"ContractData\",G176, \"LongDescription\",, \"T\"))","v":""},{"$f":"IFERROR(RTD(\"cqg.rtd\", ,\"ContractData\",G176, \"PerCentNetLastTrade\",, \"T\")/100,\"\")","v":""},0,175,{"$f":"IFERROR(VLOOKUP(A176,Data!$I$2:$J$507,2,FALSE),\"\")","v":""},{"$f":"IFERROR(RTD(\"cqg.rtd\", ,\"ContractData\",L176, \"PerCentNetLastTrade\",, \"T\")/100,\"\")","v":""},{"$f":"IFERROR(RANK($M176,$M$2:M$507)+COUNTIF($M$2:M176,M176)-1,\"\")","v":""},"",175,"",{"$f":"IF(Q176=\"\",\"\",RTD(\"cqg.rtd\", ,\"ContractData\",Q176, \"LongDescription\",, \"T\"))","v":""},{"$f":"IFERROR(RTD(\"cqg.rtd\", ,\"ContractData\",Q176, \"PerCentNetLastTrade\",, \"T\")/100,\"\")","v":""},0]
[176,{"$f":"IFERROR(VLOOKUP(A177,Data!$H$2:$J$507,3,FALSE),\"\")","v":""},{"$f":"IFERROR(RTD(\"cqg.rtd\", ,\"ContractData\",B177, \"PerCentNetLastTrade\",, \"T\")/100,\"\")","v":""},{"$f":"IFERROR(RANK($C177,$C$2:C$507)+COUNTIF($C$2:C177,C177)-1,\"\")","v":""},"",176,"",{"$f":"IF(G177=\"\",\"\",RTD(\"cqg.rtd\", ,\"ContractData\",G177, \"LongDescription\",, \"T\"))","v":""},{"$f":"IFERROR(RTD(\"cqg.rtd\", ,\"ContractData\",G177, \"PerCentNetLastTrade\",, \"T\")/100,\"\")","v":""},0,176,{"$f":"IFERROR(VLOOKUP(A177,Data!$I$2:$J$507,2,FALSE),\"\")","v":""},{"$f":"IFERROR(RTD(\"cqg.rtd\", ,\"ContractData\",L177, \"PerCentNetLastTrade\",, \"T\")/100,\"\")","v":""},{"$f":"IFERROR(RANK($M177,$M$2:M$507)+COUNTIF($M$2:M177,M177)-1,\"\")","v":""},"",176,"",{"$f":"IF(Q177=\"\",\"\",RTD(\"cqg.rtd\", ,\"ContractData\",Q177, \"LongDescription\",, \"T\"))","v":""},{"$f":"IFERROR(RTD(\"cqg.rtd\", ,\"ContractData\",Q177, \"PerCentNetLastTrade\",, \"T\")/100,\"\")","v":""},0]
[177,{"$f":"IFERROR(VLOOKUP(A178,Data!$H$2:$J$507,3,FALSE),\"\")","v":""},{"$f":"IFERROR(RTD(\"cqg.rtd\", ,\"ContractData\",B178, \"PerCentNetLastTrade\",, \"T\")/100,\"\")","v":""},{"$f":"IFERROR(RANK($C178,$C$2:C$507)+COUNTIF($C$2:C178,C178)-1,\"\")","v":""},"",177,"",{"$f":"IF(G178=\"\",\"\",RTD(\"cqg.rtd\", ,\"ContractData\",G178, \"LongDescription\",, \"T\"))","v":""},{"$f":"IFERROR(RTD(\"cqg.rtd\", ,\"ContractData\",G178, \"PerCentNetLastTrade\",, \"T\")/100,\"\")","v":""},0,177,{"$f":"IFERROR(VLOOKUP(A178,Data!$I$2:$J$507,2,FALSE),\"\")","v":""},{"$f":"IFERROR(RTD(\"cqg.rtd\", ,\"ContractData\",L178, \"PerCentNetLastTrade\",, \"T\")/100,\"\")","v":""},{"$f":"IFERROR(RANK($M178,$M$2:M$507)+COUNTIF($M$2:M178,M178)-1,\"\")","v":""},"",177,"",{"$f":"IF(Q178=\"\",\"\",RTD(\"cqg.rtd\", ,\"ContractData\",Q178, \"LongDescription\",, \"T\"))","v":""},{"$f":"IFERROR(RTD(\"cqg.rtd\", ,\"ContractData\",Q178, \"PerCentNetLastTrade\",, \"T\")/100,\"\")","v":""},0]
[178,{"$f":"IFERROR(VLOOKUP(A179,Data!$H$2:$J$507,3,FALSE),\"\")","v":""},{"$f":"IFERROR(RTD(\"cqg.rtd\", ,\"ContractData\",B179, \"PerCentNetLastTrade\",, \"T\")/100,\"\")","v":""},{"$f":"IFERROR(RANK($C179,$C$2:C$507)+COUNTIF($C$2:C179,C179)-1,\"\")","v":""},"",178,"",{"$f":"IF(G179=\"\",\"\",RTD(\"cqg.rtd\", ,\"ContractData\",G179, \"LongDescription\",, \"T\"))","v":""},{"$f":"IFERROR(RTD(\"cqg.rtd\", ,\"ContractData\",G179, \"PerCentNetLastTrade\",, \"T\")/100,\"\")","v":""},0,178,{"$f":"IFERROR(VLOOKUP(A179,Data!$I$2:$J$507,2,FALSE),\"\")","v":""},{"$f":"IFERROR(RTD(\"cqg.rtd\", ,\"ContractData\",L179, \"PerCentNetLastTrade\",, \"T\")/100,\"\")","v":""},{"$f":"IFERROR(RANK($M179,$M$2:M$507)+COUNTIF($M$2:M179,M179)-1,\"\")","v":""},"",178,"",{"$f":"IF(Q179=\"\",\"\",RTD(\"cqg.rtd\", ,\"ContractData\",Q179, \"LongDescription\",, \"T\"))","v":""},{"$f":"IFERROR(RTD(\"cqg.rtd\", ,\"ContractData\",Q179, \"PerCentNetLastTrade\",, \"T\")/100,\"\")","v":""},0]
[179,{"$f":"IFERROR(VLOOKUP(A180,Data!$H$2:$J$507,3,FALSE),\"\")","v":""},{"$f":"IFERROR(RTD(\"cqg.rtd\", ,\"ContractData\",B180, \"PerCentNetLastTrade\",, \"T\")/100,\"\")","v":""},{"$f":"IFERROR(RANK($C180,$C$2:C$507)+COUNTIF($C$2:C180,C180)-1,\"\")","v":""},"",179,"",{"$f":"IF(G180=\"\",\"\",RTD(\"cqg.rtd\", ,\"ContractData\",G180, \"LongDescription\",, \"T\"))","v":""},{"$f":"IFERROR(RTD(\"cqg.rtd\", ,\"ContractData\",G180, \"PerCentNetLastTrade\",, \"T\")/100,\"\")","v":""},0,179,{"$f":"IFERROR(VLOOKUP(A180,Data!$I$2:$J$507,2,FALSE),\"\")","v":""},{"$f":"IFERROR(RTD(\"cqg.rtd\", ,\"ContractData\",L180, \"PerCentNetLastTrade\",, \"T\")/100,\"\")","v":""},{"$f":"IFERROR(RANK($M180,$M$2:M$507)+COUNTIF($M$2:M180,M180)-1,\"\")","v":""},"",179,"",{"$f":"IF(Q180=\"\",\"\",RTD(\"cqg.rtd\", ,\"ContractData\",Q180, \"LongDescription\",, \"T\"))","v":""},{"$f":"IFERROR(RTD(\"cqg.rtd\", ,\"ContractData\",Q180, \"PerCentNetLastTrade\",, \"T\")/100,\"\")","v":""},0]
[180,{"$f":"IFERROR(VLOOKUP(A181,Data!$H$2:$J$507,3,FALSE),\"\")","v":""},{"$f":"IFERROR(RTD(\"cqg.rtd\", ,\"ContractData\",B181, \"PerCentNetLastTrade\",, \"T\")/100,\"\")","v":""},{"$f":"IFERROR(RANK($C181,$C$2:C$507)+COUNTIF($C$2:C181,C181)-1,\"\")","v":""},"",180,"",{"$f":"IF(G181=\"\",\"\",RTD(\"cqg.rtd\", ,\"ContractData\",G181, \"LongDescription\",, \"T\"))","v":""},{"$f":"IFERROR(RTD(\"cqg.rtd\", ,\"ContractData\",G181, \"PerCentNetLastTrade\",, \"T\")/100,\"\")","v":""},0,180,{"$f":"IFERROR(VLOOKUP(A181,Data!$I$2:$J$507,2,FALSE),\"\")","v":""},{"$f":"IFERROR(RTD(\"cqg.rtd\", ,\"ContractData\",L181, \"PerCentNetLastTrade\",, \"T\")/100,\"\")","v":""},{"$f":"IFERROR(RANK($M181,$M$2:M$507)+COUNTIF($M$2:M181,M181)-1,\"\")","v":""},"",180,"",{"$f":"IF(Q181=\"\",\"\",RTD(\"cqg.rtd\", ,\"ContractData\",Q181, \"LongDescription\",, \"T\"))","v":""},{"$f":"IFERROR(RTD(\"cqg.rtd\", ,\"ContractData\",Q181, \"PerCentNetLastTrade\",, \"T\")/100,\"\")","v":""},0]
[181,{"$f":"IFERROR(VLOOKUP(A182,Data!$H$2:$J$507,3,FALSE),\"\")","v":""},{"$f":"IFERROR(RTD(\"cqg.rtd\", ,\"ContractData\",B182, \"PerCentNetLastTrade\",, \"T\")/100,\"\")","v":""},{"$f":"IFERROR(RANK($C182,$C$2:C$507)+COUNTIF($C$2:C182,C182)-1,\"\")","v":""},"",181,"",{"$f":"IF(G182=\"\",\"\",RTD(\"cqg.rtd\", ,\"ContractData\",G182, \"LongDescription\",, \"T\"))","v":""},{"$f":"IFERROR(RTD(\"cqg.rtd\", ,\"ContractData\",G182, \"PerCentNetLastTrade\",, \"T\")/100,\"\")","v":""},0,181,{"$f":"IFERROR(VLOOKUP(A182,Data!$I$2:$J$507,2,FALSE),\"\")","v":""},{"$f":"IFERROR(RTD(\"cqg.rtd\", ,\"ContractData\",L182, \"PerCentNetLastTrade\",, \"T\")/100,\"\")","v":""},{"$f":"IFERROR(RANK($M182,$M$2:M$507)+COUNTIF($M$2:M182,M182)-1,\"\")","v":""},"",181,"",{"$f":"IF(Q182=\"\",\"\",RTD(\"cqg.rtd\", ,\"ContractData\",Q182, \"LongDescription\",, \"T\"))","v":""},{"$f":"IFERROR(RTD(\"cqg.rtd\", ,\"ContractData\",Q182, \"PerCentNetLastTrade\",, \"T\")/100,\"\")","v":""},0]
[182,{"$f":"IFERROR(VLOOKUP(A183,Data!$H$2:$J$507,3,FALSE),\"\")","v":""},{"$f":"IFERROR(RTD(\"cqg.rtd\", ,\"ContractData\",B183, \"PerCentNetLastTrade\",, \"T\")/100,\"\")","v":""},{"$f":"IFERROR(RANK($C183,$C$2:C$507)+COUNTIF($C$2:C183,C183)-1,\"\")","v":""},"",182,"",{"$f":"IF(G183=\"\",\"\",RTD(\"cqg.rtd\", ,\"ContractData\",G183, \"LongDescription\",, \"T\"))","v":""},{"$f":"IFERROR(RTD(\"cqg.rtd\", ,\"ContractData\",G183, \"PerCentNetLastTrade\",, \"T\")/100,\"\")","v":""},0,182,{"$f":"IFERROR(VLOOKUP(A183,Data!$I$2:$J$507,2,FALSE),\"\")","v":""},{"$f":"IFERROR(RTD(\"cqg.rtd\", ,\"ContractData\",L183, \"PerCentNetLastTrade\",, \"T\")/100,\"\")","v":""},{"$f":"IFERROR(RANK($M183,$M$2:M$507)+COUNTIF($M$2:M183,M183)-1,\"\")","v":""},"",182,"",{"$f":"IF(Q183=\"\",\"\",RTD(\"cqg.rtd\", ,\"ContractData\",Q183, \"LongDescription\",, \"T\"))","v":""},{"$f":"IFERROR(RTD(\"cqg.rtd\", ,\"ContractData\",Q183, \"PerCentNetLastTrade\",, \"T\")/100,\"\")","v":""},0]
[183,{"$f":"IFERROR(VLOOKUP(A184,Data!$H$2:$J$507,3,FALSE),\"\")","v":""},{"$f":"IFERROR(RTD(\"cqg.rtd\", ,\"ContractData\",B184, \"PerCentNetLastTrade\",, \"T\")/100,\"\")","v":""},{"$f":"IFERROR(RANK($C184,$C$2:C$507)+COUNTIF($C$2:C184,C184)-1,\"\")","v":""},{"$f":"IF(B184=\"\",\"\",B184)","v":""},183,"",{"$f":"IF(G184=\"\",\"\",RTD(\"cqg.rtd\", ,\"ContractData\",G184, \"LongDescription\",, \"T\"))","v":""},{"$f":"IFERROR(RTD(\"cqg.rtd\", ,\"ContractData\",G184, \"PerCentNetLastTrade\",, \"T\")/100,\"\")","v":""},0,183,{"$f":"IFERROR(VLOOKUP(A184,Data!$I$2:$J$507,2,FALSE),\"\")","v":""},{"$f":"IFERROR(RTD(\"cqg.rtd\", ,\"ContractData\",L184, \"PerCentNetLastTrade\",, \"T\")/100,\"\")","v":""},{"$f":"IFERROR(RANK($M184,$M$2:M$507)+COUNTIF($M$2:M184,M184)-1,\"\")","v":""},"",183,"",{"$f":"IF(Q184=\"\",\"\",RTD(\"cqg.rtd\", ,\"ContractData\",Q184, \"LongDescription\",, \"T\"))","v":""},{"$f":"IFERROR(RTD(\"cqg.rtd\", ,\"ContractData\",Q184, \"PerCentNetLastTrade\",, \"T\")/100,\"\")","v":""},0]
[184,{"$f":"IFERROR(VLOOKUP(A185,Data!$H$2:$J$507,3,FALSE),\"\")","v":""},{"$f":"IFERROR(RTD(\"cqg.rtd\", ,\"ContractData\",B185, \"PerCentNetLastTrade\",, \"T\")/100,\"\")","v":""},{"$f":"IFERROR(RANK($C185,$C$2:C$507)+COUNTIF($C$2:C185,C185)-1,\"\")","v":""},"",184,"",{"$f":"IF(G185=\"\",\"\",RTD(\"cqg.rtd\", ,\"ContractData\",G185, \"LongDescription\",, \"T\"))","v":""},{"$f":"IFERROR(RTD(\"cqg.rtd\", ,\"ContractData\",G185, \"PerCentNetLastTrade\",, \"T\")/100,\"\")","v":""},0,184,{"$f":"IFERROR(VLOOKUP(A185,Data!$I$2:$J$507,2,FALSE),\"\")","v":""},{"$f":"IFERROR(RTD(\"cqg.rtd\", ,\"ContractData\",L185, \"PerCentNetLastTrade\",, \"T\")/100,\"\")","v":""},{"$f":"IFERROR(RANK($M185,$M$2:M$507)+COUNTIF($M$2:M185,M185)-1,\"\")","v":""},"",184,"",{"$f":"IF(Q185=\"\",\"\",RTD(\"cqg.rtd\", ,\"ContractData\",Q185, \"LongDescription\",, \"T\"))","v":""},{"$f":"IFERROR(RTD(\"cqg.rtd\", ,\"ContractData\",Q185, \"PerCentNetLastTrade\",, \"T\")/100,\"\")","v":""},0]
[185,{"$f":"IFERROR(VLOOKUP(A186,Data!$H$2:$J$507,3,FALSE),\"\")","v":""},{"$f":"IFERROR(RTD(\"cqg.rtd\", ,\"ContractData\",B186, \"PerCentNetLastTrade\",, \"T\")/100,\"\")","v":""},{"$f":"IFERROR(RANK($C186,$C$2:C$507)+COUNTIF($C$2:C186,C186)-1,\"\")","v":""},"",185,"",{"$f":"IF(G186=\"\",\"\",RTD(\"cqg.rtd\", ,\"ContractData\",G186, \"LongDescription\",, \"T\"))","v":""},{"$f":"IFERROR(RTD(\"cqg.rtd\", ,\"ContractData\",G186, \"PerCentNetLastTrade\",, \"T\")/100,\"\")","v":""},0,185,{"$f":"IFERROR(VLOOKUP(A186,Data!$I$2:$J$507,2,FALSE),\"\")","v":""},{"$f":"IFERROR(RTD(\"cqg.rtd\", ,\"ContractData\",L186, \"PerCentNetLastTrade\",, \"T\")/100,\"\")","v":""},{"$f":"IFERROR(RANK($M186,$M$2:M$507)+COUNTIF($M$2:M186,M186)-1,\"\")","v":""},"",185,"",{"$f":"IF(Q186=\"\",\"\",RTD(\"cqg.rtd\", ,\"ContractData\",Q186, \"LongDescription\",, \"T\"))","v":""},{"$f":"IFERROR(RTD(\"cqg.rtd\", ,\"ContractData\",Q186, \"PerCentNetLastTrade\",, \"T\")/100,\"\")","v":""},0]
[186,{"$f":"IFERROR(VLOOKUP(A187,Data!$H$2:$J$507,3,FALSE),\"\")","v":""},{"$f":"IFERROR(RTD(\"cqg.rtd\", ,\"ContractData\",B187, \"PerCentNetLastTrade\",, \"T\")/100,\"\")","v":""},{"$f":"IFERROR(RANK($C187,$C$2:C$507)+COUNTIF($C$2:C187,C187)-1,\"\")","v":""},"",186,"",{"$f":"IF(G187=\"\",\"\",RTD(\"cqg.rtd\", ,\"ContractData\",G187, \"LongDescription\",, \"T\"))","v":""},{"$f":"IFERROR(RTD(\"cqg.rtd\", ,\"ContractData\",G187, \"PerCentNetLastTrade\",, \"T\")/100,\"\")","v":""},0,186,{"$f":"IFERROR(VLOOKUP(A187,Data!$I$2:$J$507,2,FALSE),\"\")","v":""},{"$f":"IFERROR(RTD(\"cqg.rtd\", ,\"ContractData\",L187, \"PerCentNetLastTrade\",, \"T\")/100,\"\")","v":""},{"$f":"IFERROR(RANK($M187,$M$2:M$507)+COUNTIF($M$2:M187,M187)-1,\"\")","v":""},"",186,"",{"$f":"IF(Q187=\"\",\"\",RTD(\"cqg.rtd\", ,\"ContractData\",Q187, \"LongDescription\",, \"T\"))","v":""},{"$f":"IFERROR(RTD(\"cqg.rtd\", ,\"ContractData\",Q187, \"PerCentNetLastTrade\",, \"T\")/100,\"\")","v":""},0]
[187,{"$f":"IFERROR(VLOOKUP(A188,Data!$H$2:$J$507,3,FALSE),\"\")","v":""},{"$f":"IFERROR(RTD(\"cqg.rtd\", ,\"ContractData\",B188, \"PerCentNetLastTrade\",, \"T\")/100,\"\")","v":""},{"$f":"IFERROR(RANK($C188,$C$2:C$507)+COUNTIF($C$2:C188,C188)-1,\"\")","v":""},"",187,"",{"$f":"IF(G188=\"\",\"\",RTD(\"cqg.rtd\", ,\"ContractData\",G188, \"LongDescription\",, \"T\"))","v":""},{"$f":"IFERROR(RTD(\"cqg.rtd\", ,\"ContractData\",G188, \"PerCentNetLastTrade\",, \"T\")/100,\"\")","v":""},0,187,{"$f":"IFERROR(VLOOKUP(A188,Data!$I$2:$J$507,2,FALSE),\"\")","v":""},{"$f":"IFERROR(RTD(\"cqg.rtd\", ,\"ContractData\",L188, \"PerCentNetLastTrade\",, \"T\")/100,\"\")","v":""},{"$f":"IFERROR(RANK($M188,$M$2:M$507)+COUNTIF($M$2:M188,M188)-1,\"\")","v":""},"",187,"",{"$f":"IF(Q188=\"\",\"\",RTD(\"cqg.rtd\", ,\"ContractData\",Q188, \"LongDescription\",, \"T\"))","v":""},{"$f":"IFERROR(RTD(\"cqg.rtd\", ,\"ContractData\",Q188, \"PerCentNetLastTrade\",, \"T\")/100,\"\")","v":""},0]
[188,{"$f":"IFERROR(VLOOKUP(A189,Data!$H$2:$J$507,3,FALSE),\"\")","v":""},{"$f":"IFERROR(RTD(\"cqg.rtd\", ,\"ContractData\",B189, \"PerCentNetLastTrade\",, \"T\")/100,\"\")","v":""},{"$f":"IFERROR(RANK($C189,$C$2:C$507)+COUNTIF($C$2:C189,C189)-1,\"\")","v":""},"",188,"",{"$f":"IF(G189=\"\",\"\",RTD(\"cqg.rtd\", ,\"ContractData\",G189, \"LongDescription\",, \"T\"))","v":""},{"$f":"IFERROR(RTD(\"cqg.rtd\", ,\"ContractData\",G189, \"PerCentNetLastTrade\",, \"T\")/100,\"\")","v":""},0,188,{"$f":"IFERROR(VLOOKUP(A189,Data!$I$2:$J$507,2,FALSE),\"\")","v":""},{"$f":"IFERROR(RTD(\"cqg.rtd\", ,\"ContractData\",L189, \"PerCentNetLastTrade\",, \"T\")/100,\"\")","v":""},{"$f":"IFERROR(RANK($M189,$M$2:M$507)+COUNTIF($M$2:M189,M189)-1,\"\")","v":""},"",188,"",{"$f":"IF(Q189=\"\",\"\",RTD(\"cqg.rtd\", ,\"ContractData\",Q189, \"LongDescription\",, \"T\"))","v":""},{"$f":"IFERROR(RTD(\"cqg.rtd\", ,\"ContractData\",Q189, \"PerCentNetLastTrade\",, \"T\")/100,\"\")","v":""},0]
[189,{"$f":"IFERROR(VLOOKUP(A190,Data!$H$2:$J$507,3,FALSE),\"\")","v":""},{"$f":"IFERROR(RTD(\"cqg.rtd\", ,\"ContractData\",B190, \"PerCentNetLastTrade\",, \"T\")/100,\"\")","v":""},{"$f":"IFERROR(RANK($C190,$C$2:C$507)+COUNTIF($C$2:C190,C190)-1,\"\")","v":""},"",189,"",{"$f":"IF(G190=\"\",\"\",RTD(\"cqg.rtd\", ,\"ContractData\",G190, \"LongDescription\",, \"T\"))","v":""},{"$f":"IFERROR(RTD(\"cqg.rtd\", ,\"ContractData\",G190, \"PerCentNetLastTrade\",, \"T\")/100,\"\")","v":""},0,189,{"$f":"IFERROR(VLOOKUP(A190,Data!$I$2:$J$507,2,FALSE),\"\")","v":""},{"$f":"IFERROR(RTD(\"cqg.rtd\", ,\"ContractData\",L190, \"PerCentNetLastTrade\",, \"T\")/100,\"\")","v":""},{"$f":"IFERROR(RANK($M190,$M$2:M$507)+COUNTIF($M$2:M190,M190)-1,\"\")","v":""},"",189,"",{"$f":"IF(Q190=\"\",\"\",RTD(\"cqg.rtd\", ,\"ContractData\",Q190, \"LongDescription\",, \"T\"))","v":""},{"$f":"IFERROR(RTD(\"cqg.rtd\", ,\"ContractData\",Q190, \"PerCentNetLastTrade\",, \"T\")/100,\"\")","v":""},0]
[190,{"$f":"IFERROR(VLOOKUP(A191,Data!$H$2:$J$507,3,FALSE),\"\")","v":""},{"$f":"IFERROR(RTD(\"cqg.rtd\", ,\"ContractData\",B191, \"PerCentNetLastTrade\",, \"T\")/100,\"\")","v":""},{"$f":"IFERROR(RANK($C191,$C$2:C$507)+COUNTIF($C$2:C191,C191)-1,\"\")","v":""},"",190,"",{"$f":"IF(G191=\"\",\"\",RTD(\"cqg.rtd\", ,\"ContractData\",G191, \"LongDescription\",, \"T\"))","v":""},{"$f":"IFERROR(RTD(\"cqg.rtd\", ,\"ContractData\",G191, \"PerCentNetLastTrade\",, \"T\")/100,\"\")","v":""},0,190,{"$f":"IFERROR(VLOOKUP(A191,Data!$I$2:$J$507,2,FALSE),\"\")","v":""},{"$f":"IFERROR(RTD(\"cqg.rtd\", ,\"ContractData\",L191, \"PerCentNetLastTrade\",, \"T\")/100,\"\")","v":""},{"$f":"IFERROR(RANK($M191,$M$2:M$507)+COUNTIF($M$2:M191,M191)-1,\"\")","v":""},"",190,"",{"$f":"IF(Q191=\"\",\"\",RTD(\"cqg.rtd\", ,\"ContractData\",Q191, \"LongDescription\",, \"T\"))","v":""},{"$f":"IFERROR(RTD(\"cqg.rtd\", ,\"ContractData\",Q191, \"PerCentNetLastTrade\",, \"T\")/100,\"\")","v":""},0]
[191,{"$f":"IFERROR(VLOOKUP(A192,Data!$H$2:$J$507,3,FALSE),\"\")","v":""},{"$f":"IFERROR(RTD(\"cqg.rtd\", ,\"ContractData\",B192, \"PerCentNetLastTrade\",, \"T\")/100,\"\")","v":""},{"$f":"IFERROR(RANK($C192,$C$2:C$507)+COUNTIF($C$2:C192,C192)-1,\"\")","v":""},"",191,"",{"$f":"IF(G192=\"\",\"\",RTD(\"cqg.rtd\", ,\"ContractData\",G192, \"LongDescription\",, \"T\"))","v":""},{"$f":"IFERROR(RTD(\"cqg.rtd\", ,\"ContractData\",G192, \"PerCentNetLastTrade\",, \"T\")/100,\"\")","v":""},0,191,{"$f":"IFERROR(VLOOKUP(A192,Data!$I$2:$J$507,2,FALSE),\"\")","v":""},{"$f":"IFERROR(RTD(\"cqg.rtd\", ,\"ContractData\",L192, \"PerCentNetLastTrade\",, \"T\")/100,\"\")","v":""},{"$f":"IFERROR(RANK($M192,$M$2:M$507)+COUNTIF($M$2:M192,M192)-1,\"\")","v":""},"",191,"",{"$f":"IF(Q192=\"\",\"\",RTD(\"cqg.rtd\", ,\"ContractData\",Q192, \"LongDescription\",, \"T\"))","v":""},{"$f":"IFERROR(RTD(\"cqg.rtd\", ,\"ContractData\",Q192, \"PerCentNetLastTrade\",, \"T\")/100,\"\")","v":""},0]
[192,{"$f":"IFERROR(VLOOKUP(A193,Data!$H$2:$J$507,3,FALSE),\"\")","v":""},{"$f":"IFERROR(RTD(\"cqg.rtd\", ,\"ContractData\",B193, \"PerCentNetLastTrade\",, \"T\")/100,\"\")","v":""},{"$f":"IFERROR(RANK($C193,$C$2:C$507)+COUNTIF($C$2:C193,C193)-1,\"\")","v":""},"",192,"",{"$f":"IF(G193=\"\",\"\",RTD(\"cqg.rtd\", ,\"ContractData\",G193, \"LongDescription\",, \"T\"))","v":""},{"$f":"IFERROR(RTD(\"cqg.rtd\", ,\"ContractData\",G193, \"PerCentNetLastTrade\",, \"T\")/100,\"\")","v":""},0,192,{"$f":"IFERROR(VLOOKUP(A193,Data!$I$2:$J$507,2,FALSE),\"\")","v":""},{"$f":"IFERROR(RTD(\"cqg.rtd\", ,\"ContractData\",L193, \"PerCentNetLastTrade\",, \"T\")/100,\"\")","v":""},{"$f":"IFERROR(RANK($M193,$M$2:M$507)+COUNTIF($M$2:M193,M193)-1,\"\")","v":""},"",192,"",{"$f":"IF(Q193=\"\",\"\",RTD(\"cqg.rtd\", ,\"ContractData\",Q193, \"LongDescription\",, \"T\"))","v":""},{"$f":"IFERROR(RTD(\"cqg.rtd\", ,\"ContractData\",Q193, \"PerCentNetLastTrade\",, \"T\")/100,\"\")","v":""},0]
[193,{"$f":"IFERROR(VLOOKUP(A194,Data!$H$2:$J$507,3,FALSE),\"\")","v":""},{"$f":"IFERROR(RTD(\"cqg.rtd\", ,\"ContractData\",B194, \"PerCentNetLastTrade\",, \"T\")/100,\"\")","v":""},{"$f":"IFERROR(RANK($C194,$C$2:C$507)+COUNTIF($C$2:C194,C194)-1,\"\")","v":""},"",193,"",{"$f":"IF(G194=\"\",\"\",RTD(\"cqg.rtd\", ,\"ContractData\",G194, \"LongDescription\",, \"T\"))","v":""},{"$f":"IFERROR(RTD(\"cqg.rtd\", ,\"ContractData\",G194, \"PerCentNetLastTrade\",, \"T\")/100,\"\")","v":""},0,193,{"$f":"IFERROR(VLOOKUP(A194,Data!$I$2:$J$507,2,FALSE),\"\")","v":""},{"$f":"IFERROR(RTD(\"cqg.rtd\", ,\"ContractData\",L194, \"PerCentNetLastTrade\",, \"T\")/100,\"\")","v":""},{"$f":"IFERROR(RANK($M194,$M$2:M$507)+COUNTIF($M$2:M194,M194)-1,\"\")","v":""},"",193,"",{"$f":"IF(Q194=\"\",\"\",RTD(\"cqg.rtd\", ,\"ContractData\",Q194, \"LongDescription\",, \"T\"))","v":""},{"$f":"IFERROR(RTD(\"cqg.rtd\", ,\"ContractData\",Q194, \"PerCentNetLastTrade\",, \"T\")/100,\"\")","v":""},0]
[194,{"$f":"IFERROR(VLOOKUP(A195,Data!$H$2:$J$507,3,FALSE),\"\")","v":""},{"$f":"IFERROR(RTD(\"cqg.rtd\", ,\"ContractData\",B195, \"PerCentNetLastTrade\",, \"T\")/100,\"\")","v":""},{"$f":"IFERROR(RANK($C195,$C$2:C$507)+COUNTIF($C$2:C195,C195)-1,\"\")","v":""},"",194,{"$f":"IFERROR(VLOOKUP(F195,$D$2:$E$507,2,FALSE),\"\")","v":""},{"$f":"IF(G195=\"\",\"\",RTD(\"cqg.rtd\", ,\"ContractData\",G195, \"LongDescription\",, \"T\"))","v":""},{"$f":"IFERROR(RTD(\"cqg.rtd\", ,\"ContractData\",G195, \"PerCentNetLastTrade\",, \"T\")/100,\"\")","v":""},0,194,{"$f":"IFERROR(VLOOKUP(A195,Data!$I$2:$J$507,2,FALSE),\"\")","v":""},{"$f":"IFERROR(RTD(\"cqg.rtd\", ,\"ContractData\",L195, \"PerCentNetLastTrade\",, \"T\")/100,\"\")","v":""},{"$f":"IFERROR(RANK($M195,$M$2:M$507)+COUNTIF($M$2:M195,M195)-1,\"\")","v":""},"",194,{"$f":"IFERROR(VLOOKUP(P195,$N$2:$O$507,2,FALSE),\"\")","v":""},{"$f":"IF(Q195=\"\",\"\",RTD(\"cqg.rtd\", ,\"ContractData\",Q195, \"LongDescription\",, \"T\"))","v":""},{"$f":"IFERROR(RTD(\"cqg.rtd\", ,\"ContractData\",Q195, \"PerCentNetLastTrade\",, \"T\")/100,\"\")","v":""},{"$f":"IF(S195<>\"\",1,0)","v":0}]
[{"$f":"A195+1","v":195},{"$f":"IFERROR(VLOOKUP(A196,Data!$H$2:$J$507,3,FALSE),\"\")","v":""},{"$f":"IFERROR(RTD(\"cqg.rtd\", ,\"ContractData\",B196, \"PerCentNetLastTrade\",, \"T\")/100,\"\")","v":""},{"$f":"IFERROR(RANK($C196,$C$2:C$507)+COUNTIF($C$2:C196,C196)-1,\"\")","v":""},"",{"$f":"F195+1","v":195},"",{"$f":"IF(G196=\"\",\"\",RTD(\"cqg.rtd\", ,\"ContractData\",G196, \"LongDescription\",, \"T\"))","v":""},{"$f":"IFERROR(RTD(\"cqg.rtd\", ,\"ContractData\",G196, \"PerCentNetLastTrade\",, \"T\")/100,\"\")","v":""},0,{"$f":"K195+1","v":195},{"$f":"IFERROR(VLOOKUP(A196,Data!$I$2:$J$507,2,FALSE),\"\")","v":""},{"$f":"IFERROR(RTD(\"cqg.rtd\", ,\"ContractData\",L196, \"PerCentNetLastTrade\",, \"T\")/100,\"\")","v":""},{"$f":"IFERROR(RANK($M196,$M$2:M$507)+COUNTIF($M$2:M196,M196)-1,\"\")","v":""},"",{"$f":"P195+1","v":195},"",{"$f":"IF(Q196=\"\",\"\",RTD(\"cqg.rtd\", ,\"ContractData\",Q196, \"LongDescription\",, \"T\"))","v":""},{"$f":"IFERROR(RTD(\"cqg.rtd\", ,\"ContractData\",Q196, \"PerCentNetLastTrade\",, \"T\")/100,\"\")","v":""},0]
[196,{"$f":"IFERROR(VLOOKUP(A197,Data!$H$2:$J$507,3,FALSE),\"\")","v":""},{"$f":"IFERROR(RTD(\"cqg.rtd\", ,\"ContractData\",B197, \"PerCentNetLastTrade\",, \"T\")/100,\"\")","v":""},{"$f":"IFERROR(RANK($C197,$C$2:C$507)+COUNTIF($C$2:C197,C197)-1,\"\")","v":""},"",196,"",{"$f":"IF(G197=\"\",\"\",RTD(\"cqg.rtd\", ,\"ContractData\",G197, \"LongDescription\",, \"T\"))","v":""},{"$f":"IFERROR(RTD(\"cqg.rtd\", ,\"ContractData\",G197, \"PerCentNetLastTrade\",, \"T\")/100,\"\")","v":""},0,196,{"$f":"IFERROR(VLOOKUP(A197,Data!$I$2:$J$507,2,FALSE),\"\")","v":""},{"$f":"IFERROR(RTD(\"cqg.rtd\", ,\"ContractData\",L197, \"PerCentNetLastTrade\",, \"T\")/100,\"\")","v":""},{"$f":"IFERROR(RANK($M197,$M$2:M$507)+COUNTIF($M$2:M197,M197)-1,\"\")","v":""},"",196,"",{"$f":"IF(Q197=\"\",\"\",RTD(\"cqg.rtd\", ,\"ContractData\",Q197, \"LongDescription\",, \"T\"))","v":""},{"$f":"IFERROR(RTD(\"cqg.rtd\", ,\"ContractData\",Q197, \"PerCentNetLastTrade\",, \"T\")/100,\"\")","v":""},0]
[197,{"$f":"IFERROR(VLOOKUP(A198,Data!$H$2:$J$507,3,FALSE),\"\")","v":""},{"$f":"IFERROR(RTD(\"cqg.rtd\", ,\"ContractData\",B198, \"PerCentNetLastTrade\",, \"T\")/100,\"\")","v":""},{"$f":"IFERROR(RANK($C198,$C$2:C$507)+COUNTIF($C$2:C198,C198)-1,\"\")","v":""},"",197,"",{"$f":"IF(G198=\"\",\"\",RTD(\"cqg.rtd\", ,\"ContractData\",G198, \"LongDescription\",, \"T\"))","v":""},{"$f":"IFERROR(RTD(\"cqg.rtd\", ,\"ContractData\",G198, \"PerCentNetLastTrade\",, \"T\")/100,\"\")","v":""},0,197,{"$f":"IFERROR(VLOOKUP(A198,Data!$I$2:$J$507,2,FALSE),\"\")","v":""},{"$f":"IFERROR(RTD(\"cqg.rtd\", ,\"ContractData\",L198, \"PerCentNetLastTrade\",, \"T\")/100,\"\")","v":""},{"$f":"IFERROR(RANK($M198,$M$2:M$507)+COUNTIF($M$2:M198,M198)-1,\"\")","v":""},"",197,"",{"$f":"IF(Q198=\"\",\"\",RTD(\"cqg.rtd\", ,\"ContractData\",Q198, \"LongDescription\",, \"T\"))","v":""},{"$f":"IFERROR(RTD(\"cqg.rtd\", ,\"ContractData\",Q198, \"PerCentNetLastTrade\",, \"T\")/100,\"\")","v":""},0]
[198,{"$f":"IFERROR(VLOOKUP(A199,Data!$H$2:$J$507,3,FALSE),\"\")","v":""},{"$f":"IFERROR(RTD(\"cqg.rtd\", ,\"ContractData\",B199, \"PerCentNetLastTrade\",, \"T\")/100,\"\")","v":""},{"$f":"IFERROR(RANK($C199,$C$2:C$507)+COUNTIF($C$2:C199,C199)-1,\"\")","v":""},"",198,"",{"$f":"IF(G199=\"\",\"\",RTD(\"cqg.rtd\", ,\"ContractData\",G199, \"LongDescription\",, \"T\"))","v":""},{"$f":"IFERROR(RTD(\"cqg.rtd\", ,\"ContractData\",G199, \"PerCentNetLastTrade\",, \"T\")/100,\"\")","v":""},0,198,{"$f":"IFERROR(VLOOKUP(A199,Data!$I$2:$J$507,2,FALSE),\"\")","v":""},{"$f":"IFERROR(RTD(\"cqg.rtd\", ,\"ContractData\",L199, \"PerCentNetLastTrade\",, \"T\")/100,\"\")","v":""},{"$f":"IFERROR(RANK($M199,$M$2:M$507)+COUNTIF($M$2:M199,M199)-1,\"\")","v":""},"",198,"",{"$f":"IF(Q199=\"\",\"\",RTD(\"cqg.rtd\", ,\"ContractData\",Q199, \"LongDescription\",, \"T\"))","v":""},{"$f":"IFERROR(RTD(\"cqg.rtd\", ,\"ContractData\",Q199, \"PerCentNetLastTrade\",, \"T\")/100,\"\")","v":""},0]
[199,{"$f":"IFERROR(VLOOKUP(A200,Data!$H$2:$J$507,3,FALSE),\"\")","v":""},{"$f":"IFERROR(RTD(\"cqg.rtd\", ,\"ContractData\",B200, \"PerCentNetLastTrade\",, \"T\")/100,\"\")","v":""},{"$f":"IFERROR(RANK($C200,$C$2:C$507)+COUNTIF($C$2:C200,C200)-1,\"\")","v":""},"",199,"",{"$f":"IF(G200=\"\",\"\",RTD(\"cqg.rtd\", ,\"ContractData\",G200, \"LongDescription\",, \"T\"))","v":""},{"$f":"IFERROR(RTD(\"cqg.rtd\", ,\"ContractData\",G200, \"PerCentNetLastTrade\",, \"T\")/100,\"\")","v":""},0,199,{"$f":"IFERROR(VLOOKUP(A200,Data!$I$2:$J$507,2,FALSE),\"\")","v":""},{"$f":"IFERROR(RTD(\"cqg.rtd\", ,\"ContractData\",L200, \"PerCentNetLastTrade\",, \"T\")/100,\"\")","v":""},{"$f":"IFERROR(RANK($M200,$M$2:M$507)+COUNTIF($M$2:M200,M200)-1,\"\")","v":""},"",199,"",{"$f":"IF(Q200=\"\",\"\",RTD(\"cqg.rtd\", ,\"ContractData\",Q200, \"LongDescription\",, \"T\"))","v":""},{"$f":"IFERROR(RTD(\"cqg.rtd\", ,\"ContractData\",Q200, \"PerCentNetLastTrade\",, \"T\")/100,\"\")","v":""},0]
[200,{"$f":"IFERROR(VLOOKUP(A201,Data!$H$2:$J$507,3,FALSE),\"\")","v":""},{"$f":"IFERROR(RTD(\"cqg.rtd\", ,\"ContractData\",B201, \"PerCentNetLastTrade\",, \"T\")/100,\"\")","v":""},{"$f":"IFERROR(RANK($C201,$C$2:C$507)+COUNTIF($C$2:C201,C201)-1,\"\")","v":""},"",200,"",{"$f":"IF(G201=\"\",\"\",RTD(\"cqg.rtd\", ,\"ContractData\",G201, \"LongDescription\",, \"T\"))","v":""},{"$f":"IFERROR(RTD(\"cqg.rtd\", ,\"ContractData\",G201, \"PerCentNetLastTrade\",, \"T\")/100,\"\")","v":""},0,200,{"$f":"IFERROR(VLOOKUP(A201,Data!$I$2:$J$507,2,FALSE),\"\")","v":""},{"$f":"IFERROR(RTD(\"cqg.rtd\", ,\"ContractData\",L201, \"PerCentNetLastTrade\",, \"T\")/100,\"\")","v":""},{"$f":"IFERROR(RANK($M201,$M$2:M$507)+COUNTIF($M$2:M201,M201)-1,\"\")","v":""},"",200,"",{"$f":"IF(Q201=\"\",\"\",RTD(\"cqg.rtd\", ,\"ContractData\",Q201, \"LongDescription\",, \"T\"))","v":""},{"$f":"IFERROR(RTD(\"cqg.rtd\", ,\"ContractData\",Q201, \"PerCentNetLastTrade\",, \"T\")/100,\"\")","v":""},0]
[201,{"$f":"IFERROR(VLOOKUP(A202,Data!$H$2:$J$507,3,FALSE),\"\")","v":""},{"$f":"IFERROR(RTD(\"cqg.rtd\", ,\"ContractData\",B202, \"PerCentNetLastTrade\",, \"T\")/100,\"\")","v":""},{"$f":"IFERROR(RANK($C202,$C$2:C$507)+COUNTIF($C$2:C202,C202)-1,\"\")","v":""},"",201,"",{"$f":"IF(G202=\"\",\"\",RTD(\"cqg.rtd\", ,\"ContractData\",G202, \"LongDescription\",, \"T\"))","v":""},{"$f":"IFERROR(RTD(\"cqg.rtd\", ,\"ContractData\",G202, \"PerCentNetLastTrade\",, \"T\")/100,\"\")","v":""},0,201,{"$f":"IFERROR(VLOOKUP(A202,Data!$I$2:$J$507,2,FALSE),\"\")","v":""},{"$f":"IFERROR(RTD(\"cqg.rtd\", ,\"ContractData\",L202, \"PerCentNetLastTrade\",, \"T\")/100,\"\")","v":""},{"$f":"IFERROR(RANK($M202,$M$2:M$507)+COUNTIF($M$2:M202,M202)-1,\"\")","v":""},"",201,"",{"$f":"IF(Q202=\"\",\"\",RTD(\"cqg.rtd\", ,\"ContractData\",Q202, \"LongDescription\",, \"T\"))","v":""},{"$f":"IFERROR(RTD(\"cqg.rtd\", ,\"ContractData\",Q202, \"PerCentNetLastTrade\",, \"T\")/100,\"\")","v":""},0]
[202,{"$f":"IFERROR(VLOOKUP(A203,Data!$H$2:$J$507,3,FALSE),\"\")","v":""},{"$f":"IFERROR(RTD(\"cqg.rtd\", ,\"ContractData\",B203, \"PerCentNetLastTrade\",, \"T\")/100,\"\")","v":""},{"$f":"IFERROR(RANK($C203,$C$2:C$507)+COUNTIF($C$2:C203,C203)-1,\"\")","v":""},"",202,"",{"$f":"IF(G203=\"\",\"\",RTD(\"cqg.rtd\", ,\"ContractData\",G203, \"LongDescription\",, \"T\"))","v":""},{"$f":"IFERROR(RTD(\"cqg.rtd\", ,\"ContractData\",G203, \"PerCentNetLastTrade\",, \"T\")/100,\"\")","v":""},0,202,{"$f":"IFERROR(VLOOKUP(A203,Data!$I$2:$J$507,2,FALSE),\"\")","v":""},{"$f":"IFERROR(RTD(\"cqg.rtd\", ,\"ContractData\",L203, \"PerCentNetLastTrade\",, \"T\")/100,\"\")","v":""},{"$f":"IFERROR(RANK($M203,$M$2:M$507)+COUNTIF($M$2:M203,M203)-1,\"\")","v":""},"",202,"",{"$f":"IF(Q203=\"\",\"\",RTD(\"cqg.rtd\", ,\"ContractData\",Q203, \"LongDescription\",, \"T\"))","v":""},{"$f":"IFERROR(RTD(\"cqg.rtd\", ,\"ContractData\",Q203, \"PerCentNetLastTrade\",, \"T\")/100,\"\")","v":""},0]
[203,{"$f":"IFERROR(VLOOKUP(A204,Data!$H$2:$J$507,3,FALSE),\"\")","v":""},{"$f":"IFERROR(RTD(\"cqg.rtd\", ,\"ContractData\",B204, \"PerCentNetLastTrade\",, \"T\")/100,\"\")","v":""},{"$f":"IFERROR(RANK($C204,$C$2:C$507)+COUNTIF($C$2:C204,C204)-1,\"\")","v":""},"",203,"",{"$f":"IF(G204=\"\",\"\",RTD(\"cqg.rtd\", ,\"ContractData\",G204, \"LongDescription\",, \"T\"))","v":""},{"$f":"IFERROR(RTD(\"cqg.rtd\", ,\"ContractData\",G204, \"PerCentNetLastTrade\",, \"T\")/100,\"\")","v":""},0,203,{"$f":"IFERROR(VLOOKUP(A204,Data!$I$2:$J$507,2,FALSE),\"\")","v":""},{"$f":"IFERROR(RTD(\"cqg.rtd\", ,\"ContractData\",L204, \"PerCentNetLastTrade\",, \"T\")/100,\"\")","v":""},{"$f":"IFERROR(RANK($M204,$M$2:M$507)+COUNTIF($M$2:M204,M204)-1,\"\")","v":""},"",203,"",{"$f":"IF(Q204=\"\",\"\",RTD(\"cqg.rtd\", ,\"ContractData\",Q204, \"LongDescription\",, \"T\"))","v":""},{"$f":"IFERROR(RTD(\"cqg.rtd\", ,\"ContractData\",Q204, \"PerCentNetLastTrade\",, \"T\")/100,\"\")","v":""},0]
[204,{"$f":"IFERROR(VLOOKUP(A205,Data!$H$2:$J$507,3,FALSE),\"\")","v":""},{"$f":"IFERROR(RTD(\"cqg.rtd\", ,\"ContractData\",B205, \"PerCentNetLastTrade\",, \"T\")/100,\"\")","v":""},{"$f":"IFERROR(RANK($C205,$C$2:C$507)+COUNTIF($C$2:C205,C205)-1,\"\")","v":""},"",204,"",{"$f":"IF(G205=\"\",\"\",RTD(\"cqg.rtd\", ,\"ContractData\",G205, \"LongDescription\",, \"T\"))","v":""},{"$f":"IFERROR(RTD(\"cqg.rtd\", ,\"ContractData\",G205, \"PerCentNetLastTrade\",, \"T\")/100,\"\")","v":""},0,204,{"$f":"IFERROR(VLOOKUP(A205,Data!$I$2:$J$507,2,FALSE),\"\")","v":""},{"$f":"IFERROR(RTD(\"cqg.rtd\", ,\"ContractData\",L205, \"PerCentNetLastTrade\",, \"T\")/100,\"\")","v":""},{"$f":"IFERROR(RANK($M205,$M$2:M$507)+COUNTIF($M$2:M205,M205)-1,\"\")","v":""},"",204,"",{"$f":"IF(Q205=\"\",\"\",RTD(\"cqg.rtd\", ,\"ContractData\",Q205, \"LongDescription\",, \"T\"))","v":""},{"$f":"IFERROR(RTD(\"cqg.rtd\", ,\"ContractData\",Q205, \"PerCentNetLastTrade\",, \"T\")/100,\"\")","v":""},0]
[205,{"$f":"IFERROR(VLOOKUP(A206,Data!$H$2:$J$507,3,FALSE),\"\")","v":""},{"$f":"IFERROR(RTD(\"cqg.rtd\", ,\"ContractData\",B206, \"PerCentNetLastTrade\",, \"T\")/100,\"\")","v":""},{"$f":"IFERROR(RANK($C206,$C$2:C$507)+COUNTIF($C$2:C206,C206)-1,\"\")","v":""},"",205,"",{"$f":"IF(G206=\"\",\"\",RTD(\"cqg.rtd\", ,\"ContractData\",G206, \"LongDescription\",, \"T\"))","v":""},{"$f":"IFERROR(RTD(\"cqg.rtd\", ,\"ContractData\",G206, \"PerCentNetLastTrade\",, \"T\")/100,\"\")","v":""},0,205,{"$f":"IFERROR(VLOOKUP(A206,Data!$I$2:$J$507,2,FALSE),\"\")","v":""},{"$f":"IFERROR(RTD(\"cqg.rtd\", ,\"ContractData\",L206, \"PerCentNetLastTrade\",, \"T\")/100,\"\")","v":""},{"$f":"IFERROR(RANK($M206,$M$2:M$507)+COUNTIF($M$2:M206,M206)-1,\"\")","v":""},"",205,"",{"$f":"IF(Q206=\"\",\"\",RTD(\"cqg.rtd\", ,\"ContractData\",Q206, \"LongDescription\",, \"T\"))","v":""},{"$f":"IFERROR(RTD(\"cqg.rtd\", ,\"ContractData\",Q206, \"PerCentNetLastTrade\",, \"T\")/100,\"\")","v":""},0]
[206,{"$f":"IFERROR(VLOOKUP(A207,Data!$H$2:$J$507,3,FALSE),\"\")","v":""},{"$f":"IFERROR(RTD(\"cqg.rtd\", ,\"ContractData\",B207, \"PerCentNetLastTrade\",, \"T\")/100,\"\")","v":""},{"$f":"IFERROR(RANK($C207,$C$2:C$507)+COUNTIF($C$2:C207,C207)-1,\"\")","v":""},"",206,"",{"$f":"IF(G207=\"\",\"\",RTD(\"cqg.rtd\", ,\"ContractData\",G207, \"LongDescription\",, \"T\"))","v":""},{"$f":"IFERROR(RTD(\"cqg.rtd\", ,\"ContractData\",G207, \"PerCentNetLastTrade\",, \"T\")/100,\"\")","v":""},0,206,{"$f":"IFERROR(VLOOKUP(A207,Data!$I$2:$J$507,2,FALSE),\"\")","v":""},{"$f":"IFERROR(RTD(\"cqg.rtd\", ,\"ContractData\",L207, \"PerCentNetLastTrade\",, \"T\")/100,\"\")","v":""},{"$f":"IFERROR(RANK($M207,$M$2:M$507)+COUNTIF($M$2:M207,M207)-1,\"\")","v":""},"",206,"",{"$f":"IF(Q207=\"\",\"\",RTD(\"cqg.rtd\", ,\"ContractData\",Q207, \"LongDescription\",, \"T\"))","v":""},{"$f":"IFERROR(RTD(\"cqg.rtd\", ,\"ContractData\",Q207, \"PerCentNetLastTrade\",, \"T\")/100,\"\")","v":""},0]
[207,{"$f":"IFERROR(VLOOKUP(A208,Data!$H$2:$J$507,3,FALSE),\"\")","v":""},{"$f":"IFERROR(RTD(\"cqg.rtd\", ,\"ContractData\",B208, \"PerCentNetLastTrade\",, \"T\")/100,\"\")","v":""},{"$f":"IFERROR(RANK($C208,$C$2:C$507)+COUNTIF($C$2:C208,C208)-1,\"\")","v":""},"",207,"",{"$f":"IF(G208=\"\",\"\",RTD(\"cqg.rtd\", ,\"ContractData\",G208, \"LongDescription\",, \"T\"))","v":""},{"$f":"IFERROR(RTD(\"cqg.rtd\", ,\"ContractData\",G208, \"PerCentNetLastTrade\",, \"T\")/100,\"\")","v":""},0,207,{"$f":"IFERROR(VLOOKUP(A208,Data!$I$2:$J$507,2,FALSE),\"\")","v":""},{"$f":"IFERROR(RTD(\"cqg.rtd\", ,\"ContractData\",L208, \"PerCentNetLastTrade\",, \"T\")/100,\"\")","v":""},{"$f":"IFERROR(RANK($M208,$M$2:M$507)+COUNTIF($M$2:M208,M208)-1,\"\")","v":""},"",207,"",{"$f":"IF(Q208=\"\",\"\",RTD(\"cqg.rtd\", ,\"ContractData\",Q208, \"LongDescription\",, \"T\"))","v":""},{"$f":"IFERROR(RTD(\"cqg.rtd\", ,\"ContractData\",Q208, \"PerCentNetLastTrade\",, \"T\")/100,\"\")","v":""},0]
[208,{"$f":"IFERROR(VLOOKUP(A209,Data!$H$2:$J$507,3,FALSE),\"\")","v":""},{"$f":"IFERROR(RTD(\"cqg.rtd\", ,\"ContractData\",B209, \"PerCentNetLastTrade\",, \"T\")/100,\"\")","v":""},{"$f":"IFERROR(RANK($C209,$C$2:C$507)+COUNTIF($C$2:C209,C209)-1,\"\")","v":""},"",208,"",{"$f":"IF(G209=\"\",\"\",RTD(\"cqg.rtd\", ,\"ContractData\",G209, \"LongDescription\",, \"T\"))","v":""},{"$f":"IFERROR(RTD(\"cqg.rtd\", ,\"ContractData\",G209, \"PerCentNetLastTrade\",, \"T\")/100,\"\")","v":""},0,208,{"$f":"IFERROR(VLOOKUP(A209,Data!$I$2:$J$507,2,FALSE),\"\")","v":""},{"$f":"IFERROR(RTD(\"cqg.rtd\", ,\"ContractData\",L209, \"PerCentNetLastTrade\",, \"T\")/100,\"\")","v":""},{"$f":"IFERROR(RANK($M209,$M$2:M$507)+COUNTIF($M$2:M209,M209)-1,\"\")","v":""},"",208,"",{"$f":"IF(Q209=\"\",\"\",RTD(\"cqg.rtd\", ,\"ContractData\",Q209, \"LongDescription\",, \"T\"))","v":""},{"$f":"IFERROR(RTD(\"cqg.rtd\", ,\"ContractData\",Q209, \"PerCentNetLastTrade\",, \"T\")/100,\"\")","v":""},0]
[209,{"$f":"IFERROR(VLOOKUP(A210,Data!$H$2:$J$507,3,FALSE),\"\")","v":""},{"$f":"IFERROR(RTD(\"cqg.rtd\", ,\"ContractData\",B210, \"PerCentNetLastTrade\",, \"T\")/100,\"\")","v":""},{"$f":"IFERROR(RANK($C210,$C$2:C$507)+COUNTIF($C$2:C210,C210)-1,\"\")","v":""},"",209,"",{"$f":"IF(G210=\"\",\"\",RTD(\"cqg.rtd\", ,\"ContractData\",G210, \"LongDescription\",, \"T\"))","v":""},{"$f":"IFERROR(RTD(\"cqg.rtd\", ,\"ContractData\",G210, \"PerCentNetLastTrade\",, \"T\")/100,\"\")","v":""},0,209,{"$f":"IFERROR(VLOOKUP(A210,Data!$I$2:$J$507,2,FALSE),\"\")","v":""},{"$f":"IFERROR(RTD(\"cqg.rtd\", ,\"ContractData\",L210, \"PerCentNetLastTrade\",, \"T\")/100,\"\")","v":""},{"$f":"IFERROR(RANK($M210,$M$2:M$507)+COUNTIF($M$2:M210,M210)-1,\"\")","v":""},"",209,"",{"$f":"IF(Q210=\"\",\"\",RTD(\"cqg.rtd\", ,\"ContractData\",Q210, \"LongDescription\",, \"T\"))","v":""},{"$f":"IFERROR(RTD(\"cqg.rtd\", ,\"ContractData\",Q210, \"PerCentNetLastTrade\",, \"T\")/100,\"\")","v":""},0]
[210,{"$f":"IFERROR(VLOOKUP(A211,Data!$H$2:$J$507,3,FALSE),\"\")","v":""},{"$f":"IFERROR(RTD(\"cqg.rtd\", ,\"ContractData\",B211, \"PerCentNetLastTrade\",, \"T\")/100,\"\")","v":""},{"$f":"IFERROR(RANK($C211,$C$2:C$507)+COUNTIF($C$2:C211,C211)-1,\"\")","v":""},"",210,"",{"$f":"IF(G211=\"\",\"\",RTD(\"cqg.rtd\", ,\"ContractData\",G211, \"LongDescription\",, \"T\"))","v":""},{"$f":"IFERROR(RTD(\"cqg.rtd\", ,\"ContractData\",G211, \"PerCentNetLastTrade\",, \"T\")/100,\"\")","v":""},0,210,{"$f":"IFERROR(VLOOKUP(A211,Data!$I$2:$J$507,2,FALSE),\"\")","v":""},{"$f":"IFERROR(RTD(\"cqg.rtd\", ,\"ContractData\",L211, \"PerCentNetLastTrade\",, \"T\")/100,\"\")","v":""},{"$f":"IFERROR(RANK($M211,$M$2:M$507)+COUNTIF($M$2:M211,M211)-1,\"\")","v":""},"",210,"",{"$f":"IF(Q211=\"\",\"\",RTD(\"cqg.rtd\", ,\"ContractData\",Q211, \"LongDescription\",, \"T\"))","v":""},{"$f":"IFERROR(RTD(\"cqg.rtd\", ,\"ContractData\",Q211, \"PerCentNetLastTrade\",, \"T\")/100,\"\")","v":""},0]
[211,{"$f":"IFERROR(VLOOKUP(A212,Data!$H$2:$J$507,3,FALSE),\"\")","v":""},{"$f":"IFERROR(RTD(\"cqg.rtd\", ,\"ContractData\",B212, \"PerCentNetLastTrade\",, \"T\")/100,\"\")","v":""},{"$f":"IFERROR(RANK($C212,$C$2:C$507)+COUNTIF($C$2:C212,C212)-1,\"\")","v":""},"",211,"",{"$f":"IF(G212=\"\",\"\",RTD(\"cqg.rtd\", ,\"ContractData\",G212, \"LongDescription\",, \"T\"))","v":""},{"$f":"IFERROR(RTD(\"cqg.rtd\", ,\"ContractData\",G212, \"PerCentNetLastTrade\",, \"T\")/100,\"\")","v":""},0,211,{"$f":"IFERROR(VLOOKUP(A212,Data!$I$2:$J$507,2,FALSE),\"\")","v":""},{"$f":"IFERROR(RTD(\"cqg.rtd\", ,\"ContractData\",L212, \"PerCentNetLastTrade\",, \"T\")/100,\"\")","v":""},{"$f":"IFERROR(RANK($M212,$M$2:M$507)+COUNTIF($M$2:M212,M212)-1,\"\")","v":""},"",211,"",{"$f":"IF(Q212=\"\",\"\",RTD(\"cqg.rtd\", ,\"ContractData\",Q212, \"LongDescription\",, \"T\"))","v":""},{"$f":"IFERROR(RTD(\"cqg.rtd\", ,\"ContractData\",Q212, \"PerCentNetLastTrade\",, \"T\")/100,\"\")","v":""},0]
[212,{"$f":"IFERROR(VLOOKUP(A213,Data!$H$2:$J$507,3,FALSE),\"\")","v":""},{"$f":"IFERROR(RTD(\"cqg.rtd\", ,\"ContractData\",B213, \"PerCentNetLastTrade\",, \"T\")/100,\"\")","v":""},{"$f":"IFERROR(RANK($C213,$C$2:C$507)+COUNTIF($C$2:C213,C213)-1,\"\")","v":""},"",212,"",{"$f":"IF(G213=\"\",\"\",RTD(\"cqg.rtd\", ,\"ContractData\",G213, \"LongDescription\",, \"T\"))","v":""},{"$f":"IFERROR(RTD(\"cqg.rtd\", ,\"ContractData\",G213, \"PerCentNetLastTrade\",, \"T\")/100,\"\")","v":""},0,212,{"$f":"IFERROR(VLOOKUP(A213,Data!$I$2:$J$507,2,FALSE),\"\")","v":""},{"$f":"IFERROR(RTD(\"cqg.rtd\", ,\"ContractData\",L213, \"PerCentNetLastTrade\",, \"T\")/100,\"\")","v":""},{"$f":"IFERROR(RANK($M213,$M$2:M$507)+COUNTIF($M$2:M213,M213)-1,\"\")","v":""},"",212,"",{"$f":"IF(Q213=\"\",\"\",RTD(\"cqg.rtd\", ,\"ContractData\",Q213, \"LongDescription\",, \"T\"))","v":""},{"$f":"IFERROR(RTD(\"cqg.rtd\", ,\"ContractData\",Q213, \"PerCentNetLastTrade\",, \"T\")/100,\"\")","v":""},0]
[213,{"$f":"IFERROR(VLOOKUP(A214,Data!$H$2:$J$507,3,FALSE),\"\")","v":""},{"$f":"IFERROR(RTD(\"cqg.rtd\", ,\"ContractData\",B214, \"PerCentNetLastTrade\",, \"T\")/100,\"\")","v":""},{"$f":"IFERROR(RANK($C214,$C$2:C$507)+COUNTIF($C$2:C214,C214)-1,\"\")","v":""},"",213,"",{"$f":"IF(G214=\"\",\"\",RTD(\"cqg.rtd\", ,\"ContractData\",G214, \"LongDescription\",, \"T\"))","v":""},{"$f":"IFERROR(RTD(\"cqg.rtd\", ,\"ContractData\",G214, \"PerCentNetLastTrade\",, \"T\")/100,\"\")","v":""},0,213,{"$f":"IFERROR(VLOOKUP(A214,Data!$I$2:$J$507,2,FALSE),\"\")","v":""},{"$f":"IFERROR(RTD(\"cqg.rtd\", ,\"ContractData\",L214, \"PerCentNetLastTrade\",, \"T\")/100,\"\")","v":""},{"$f":"IFERROR(RANK($M214,$M$2:M$507)+COUNTIF($M$2:M214,M214)-1,\"\")","v":""},"",213,"",{"$f":"IF(Q214=\"\",\"\",RTD(\"cqg.rtd\", ,\"ContractData\",Q214, \"LongDescription\",, \"T\"))","v":""},{"$f":"IFERROR(RTD(\"cqg.rtd\", ,\"ContractData\",Q214, \"PerCentNetLastTrade\",, \"T\")/100,\"\")","v":""},0]
[214,{"$f":"IFERROR(VLOOKUP(A215,Data!$H$2:$J$507,3,FALSE),\"\")","v":""},{"$f":"IFERROR(RTD(\"cqg.rtd\", ,\"ContractData\",B215, \"PerCentNetLastTrade\",, \"T\")/100,\"\")","v":""},{"$f":"IFERROR(RANK($C215,$C$2:C$507)+COUNTIF($C$2:C215,C215)-1,\"\")","v":""},"",214,"",{"$f":"IF(G215=\"\",\"\",RTD(\"cqg.rtd\", ,\"ContractData\",G215, \"LongDescription\",, \"T\"))","v":""},{"$f":"IFERROR(RTD(\"cqg.rtd\", ,\"ContractData\",G215, \"PerCentNetLastTrade\",, \"T\")/100,\"\")","v":""},0,214,{"$f":"IFERROR(VLOOKUP(A215,Data!$I$2:$J$507,2,FALSE),\"\")","v":""},{"$f":"IFERROR(RTD(\"cqg.rtd\", ,\"ContractData\",L215, \"PerCentNetLastTrade\",, \"T\")/100,\"\")","v":""},{"$f":"IFERROR(RANK($M215,$M$2:M$507)+COUNTIF($M$2:M215,M215)-1,\"\")","v":""},"",214,"",{"$f":"IF(Q215=\"\",\"\",RTD(\"cqg.rtd\", ,\"ContractData\",Q215, \"LongDescription\",, \"T\"))","v":""},{"$f":"IFERROR(RTD(\"cqg.rtd\", ,\"ContractData\",Q215, \"PerCentNetLastTrade\",, \"T\")/100,\"\")","v":""},0]
[215,{"$f":"IFERROR(VLOOKUP(A216,Data!$H$2:$J$507,3,FALSE),\"\")","v":""},{"$f":"IFERROR(RTD(\"cqg.rtd\", ,\"ContractData\",B216, \"PerCentNetLastTrade\",, \"T\")/100,\"\")","v":""},{"$f":"IFERROR(RANK($C216,$C$2:C$507)+COUNTIF($C$2:C216,C216)-1,\"\")","v":""},"",215,"",{"$f":"IF(G216=\"\",\"\",RTD(\"cqg.rtd\", ,\"ContractData\",G216, \"LongDescription\",, \"T\"))","v":""},{"$f":"IFERROR(RTD(\"cqg.rtd\", ,\"ContractData\",G216, \"PerCentNetLastTrade\",, \"T\")/100,\"\")","v":""},0,215,{"$f":"IFERROR(VLOOKUP(A216,Data!$I$2:$J$507,2,FALSE),\"\")","v":""},{"$f":"IFERROR(RTD(\"cqg.rtd\", ,\"ContractData\",L216, \"PerCentNetLastTrade\",, \"T\")/100,\"\")","v":""},{"$f":"IFERROR(RANK($M216,$M$2:M$507)+COUNTIF($M$2:M216,M216)-1,\"\")","v":""},"",215,"",{"$f":"IF(Q216=\"\",\"\",RTD(\"cqg.rtd\", ,\"ContractData\",Q216, \"LongDescription\",, \"T\"))","v":""},{"$f":"IFERROR(RTD(\"cqg.rtd\", ,\"ContractData\",Q216, \"PerCentNetLastTrade\",, \"T\")/100,\"\")","v":""},0]
[216,{"$f":"IFERROR(VLOOKUP(A217,Data!$H$2:$J$507,3,FALSE),\"\")","v":""},{"$f":"IFERROR(RTD(\"cqg.rtd\", ,\"ContractData\",B217, \"PerCentNetLastTrade\",, \"T\")/100,\"\")","v":""},{"$f":"IFERROR(RANK($C217,$C$2:C$507)+COUNTIF($C$2:C217,C217)-1,\"\")","v":""},"",216,"",{"$f":"IF(G217=\"\",\"\",RTD(\"cqg.rtd\", ,\"ContractData\",G217, \"LongDescription\",, \"T\"))","v":""},{"$f":"IFERROR(RTD(\"cqg.rtd\", ,\"ContractData\",G217, \"PerCentNetLastTrade\",, \"T\")/100,\"\")","v":""},0,216,{"$f":"IFERROR(VLOOKUP(A217,Data!$I$2:$J$507,2,FALSE),\"\")","v":""},{"$f":"IFERROR(RTD(\"cqg.rtd\", ,\"ContractData\",L217, \"PerCentNetLastTrade\",, \"T\")/100,\"\")","v":""},{"$f":"IFERROR(RANK($M217,$M$2:M$507)+COUNTIF($M$2:M217,M217)-1,\"\")","v":""},"",216,"",{"$f":"IF(Q217=\"\",\"\",RTD(\"cqg.rtd\", ,\"ContractData\",Q217, \"LongDescription\",, \"T\"))","v":""},{"$f":"IFERROR(RTD(\"cqg.rtd\", ,\"ContractData\",Q217, \"PerCentNetLastTrade\",, \"T\")/100,\"\")","v":""},0]
[217,{"$f":"IFERROR(VLOOKUP(A218,Data!$H$2:$J$507,3,FALSE),\"\")","v":""},{"$f":"IFERROR(RTD(\"cqg.rtd\", ,\"ContractData\",B218, \"PerCentNetLastTrade\",, \"T\")/100,\"\")","v":""},{"$f":"IFERROR(RANK($C218,$C$2:C$507)+COUNTIF($C$2:C218,C218)-1,\"\")","v":""},"",217,"",{"$f":"IF(G218=\"\",\"\",RTD(\"cqg.rtd\", ,\"ContractData\",G218, \"LongDescription\",, \"T\"))","v":""},{"$f":"IFERROR(RTD(\"cqg.rtd\", ,\"ContractData\",G218, \"PerCentNetLastTrade\",, \"T\")/100,\"\")","v":""},0,217,{"$f":"IFERROR(VLOOKUP(A218,Data!$I$2:$J$507,2,FALSE),\"\")","v":""},{"$f":"IFERROR(RTD(\"cqg.rtd\", ,\"ContractData\",L218, \"PerCentNetLastTrade\",, \"T\")/100,\"\")","v":""},{"$f":"IFERROR(RANK($M218,$M$2:M$507)+COUNTIF($M$2:M218,M218)-1,\"\")","v":""},"",217,"",{"$f":"IF(Q218=\"\",\"\",RTD(\"cqg.rtd\", ,\"ContractData\",Q218, \"LongDescription\",, \"T\"))","v":""},{"$f":"IFERROR(RTD(\"cqg.rtd\", ,\"ContractData\",Q218, \"PerCentNetLastTrade\",, \"T\")/100,\"\")","v":""},0]
[218,{"$f":"IFERROR(VLOOKUP(A219,Data!$H$2:$J$507,3,FALSE),\"\")","v":""},{"$f":"IFERROR(RTD(\"cqg.rtd\", ,\"ContractData\",B219, \"PerCentNetLastTrade\",, \"T\")/100,\"\")","v":""},{"$f":"IFERROR(RANK($C219,$C$2:C$507)+COUNTIF($C$2:C219,C219)-1,\"\")","v":""},"",218,"",{"$f":"IF(G219=\"\",\"\",RTD(\"cqg.rtd\", ,\"ContractData\",G219, \"LongDescription\",, \"T\"))","v":""},{"$f":"IFERROR(RTD(\"cqg.rtd\", ,\"ContractData\",G219, \"PerCentNetLastTrade\",, \"T\")/100,\"\")","v":""},0,218,{"$f":"IFERROR(VLOOKUP(A219,Data!$I$2:$J$507,2,FALSE),\"\")","v":""},{"$f":"IFERROR(RTD(\"cqg.rtd\", ,\"ContractData\",L219, \"PerCentNetLastTrade\",, \"T\")/100,\"\")","v":""},{"$f":"IFERROR(RANK($M219,$M$2:M$507)+COUNTIF($M$2:M219,M219)-1,\"\")","v":""},"",218,"",{"$f":"IF(Q219=\"\",\"\",RTD(\"cqg.rtd\", ,\"ContractData\",Q219, \"LongDescription\",, \"T\"))","v":""},{"$f":"IFERROR(RTD(\"cqg.rtd\", ,\"ContractData\",Q219, \"PerCentNetLastTrade\",, \"T\")/100,\"\")","v":""},0]
[219,{"$f":"IFERROR(VLOOKUP(A220,Data!$H$2:$J$507,3,FALSE),\"\")","v":""},{"$f":"IFERROR(RTD(\"cqg.rtd\", ,\"ContractData\",B220, \"PerCentNetLastTrade\",, \"T\")/100,\"\")","v":""},{"$f":"IFERROR(RANK($C220,$C$2:C$507)+COUNTIF($C$2:C220,C220)-1,\"\")","v":""},"",219,"",{"$f":"IF(G220=\"\",\"\",RTD(\"cqg.rtd\", ,\"ContractData\",G220, \"LongDescription\",, \"T\"))","v":""},{"$f":"IFERROR(RTD(\"cqg.rtd\", ,\"ContractData\",G220, \"PerCentNetLastTrade\",, \"T\")/100,\"\")","v":""},0,219,{"$f":"IFERROR(VLOOKUP(A220,Data!$I$2:$J$507,2,FALSE),\"\")","v":""},{"$f":"IFERROR(RTD(\"cqg.rtd\", ,\"ContractData\",L220, \"PerCentNetLastTrade\",, \"T\")/100,\"\")","v":""},{"$f":"IFERROR(RANK($M220,$M$2:M$507)+COUNTIF($M$2:M220,M220)-1,\"\")","v":""},"",219,"",{"$f":"IF(Q220=\"\",\"\",RTD(\"cqg.rtd\", ,\"ContractData\",Q220, \"LongDescription\",, \"T\"))","v":""},{"$f":"IFERROR(RTD(\"cqg.rtd\", ,\"ContractData\",Q220, \"PerCentNetLastTrade\",, \"T\")/100,\"\")","v":""},0]
[220,{"$f":"IFERROR(VLOOKUP(A221,Data!$H$2:$J$507,3,FALSE),\"\")","v":""},{"$f":"IFERROR(RTD(\"cqg.rtd\", ,\"ContractData\",B221, \"PerCentNetLastTrade\",, \"T\")/100,\"\")","v":""},{"$f":"IFERROR(RANK($C221,$C$2:C$507)+COUNTIF($C$2:C221,C221)-1,\"\")","v":""},"",220,"",{"$f":"IF(G221=\"\",\"\",RTD(\"cqg.rtd\", ,\"ContractData\",G221, \"LongDescription\",, \"T\"))","v":""},{"$f":"IFERROR(RTD(\"cqg.rtd\", ,\"ContractData\",G221, \"PerCentNetLastTrade\",, \"T\")/100,\"\")","v":""},0,220,{"$f":"IFERROR(VLOOKUP(A221,Data!$I$2:$J$507,2,FALSE),\"\")","v":""},{"$f":"IFERROR(RTD(\"cqg.rtd\", ,\"ContractData\",L221, \"PerCentNetLastTrade\",, \"T\")/100,\"\")","v":""},{"$f":"IFERROR(RANK($M221,$M$2:M$507)+COUNTIF($M$2:M221,M221)-1,\"\")","v":""},"",220,"",{"$f":"IF(Q221=\"\",\"\",RTD(\"cqg.rtd\", ,\"ContractData\",Q221, \"LongDescription\",, \"T\"))","v":""},{"$f":"IFERROR(RTD(\"cqg.rtd\", ,\"ContractData\",Q221, \"PerCentNetLastTrade\",, \"T\")/100,\"\")","v":""},0]
[221,{"$f":"IFERROR(VLOOKUP(A222,Data!$H$2:$J$507,3,FALSE),\"\")","v":""},{"$f":"IFERROR(RTD(\"cqg.rtd\", ,\"ContractData\",B222, \"PerCentNetLastTrade\",, \"T\")/100,\"\")","v":""},{"$f":"IFERROR(RANK($C222,$C$2:C$507)+COUNTIF($C$2:C222,C222)-1,\"\")","v":""},"",221,"",{"$f":"IF(G222=\"\",\"\",RTD(\"cqg.rtd\", ,\"ContractData\",G222, \"LongDescription\",, \"T\"))","v":""},{"$f":"IFERROR(RTD(\"cqg.rtd\", ,\"ContractData\",G222, \"PerCentNetLastTrade\",, \"T\")/100,\"\")","v":""},0,221,{"$f":"IFERROR(VLOOKUP(A222,Data!$I$2:$J$507,2,FALSE),\"\")","v":""},{"$f":"IFERROR(RTD(\"cqg.rtd\", ,\"ContractData\",L222, \"PerCentNetLastTrade\",, \"T\")/100,\"\")","v":""},{"$f":"IFERROR(RANK($M222,$M$2:M$507)+COUNTIF($M$2:M222,M222)-1,\"\")","v":""},"",221,"",{"$f":"IF(Q222=\"\",\"\",RTD(\"cqg.rtd\", ,\"ContractData\",Q222, \"LongDescription\",, \"T\"))","v":""},{"$f":"IFERROR(RTD(\"cqg.rtd\", ,\"ContractData\",Q222, \"PerCentNetLastTrade\",, \"T\")/100,\"\")","v":""},0]
[222,{"$f":"IFERROR(VLOOKUP(A223,Data!$H$2:$J$507,3,FALSE),\"\")","v":""},{"$f":"IFERROR(RTD(\"cqg.rtd\", ,\"ContractData\",B223, \"PerCentNetLastTrade\",, \"T\")/100,\"\")","v":""},{"$f":"IFERROR(RANK($C223,$C$2:C$507)+COUNTIF($C$2:C223,C223)-1,\"\")","v":""},"",222,"",{"$f":"IF(G223=\"\",\"\",RTD(\"cqg.rtd\", ,\"ContractData\",G223, \"LongDescription\",, \"T\"))","v":""},{"$f":"IFERROR(RTD(\"cqg.rtd\", ,\"ContractData\",G223, \"PerCentNetLastTrade\",, \"T\")/100,\"\")","v":""},0,222,{"$f":"IFERROR(VLOOKUP(A223,Data!$I$2:$J$507,2,FALSE),\"\")","v":""},{"$f":"IFERROR(RTD(\"cqg.rtd\", ,\"ContractData\",L223, \"PerCentNetLastTrade\",, \"T\")/100,\"\")","v":""},{"$f":"IFERROR(RANK($M223,$M$2:M$507)+COUNTIF($M$2:M223,M223)-1,\"\")","v":""},"",222,"",{"$f":"IF(Q223=\"\",\"\",RTD(\"cqg.rtd\", ,\"ContractData\",Q223, \"LongDescription\",, \"T\"))","v":""},{"$f":"IFERROR(RTD(\"cqg.rtd\", ,\"ContractData\",Q223, \"PerCentNetLastTrade\",, \"T\")/100,\"\")","v":""},0]
[223,{"$f":"IFERROR(VLOOKUP(A224,Data!$H$2:$J$507,3,FALSE),\"\")","v":""},{"$f":"IFERROR(RTD(\"cqg.rtd\", ,\"ContractData\",B224, \"PerCentNetLastTrade\",, \"T\")/100,\"\")","v":""},{"$f":"IFERROR(RANK($C224,$C$2:C$507)+COUNTIF($C$2:C224,C224)-1,\"\")","v":""},"",223,"",{"$f":"IF(G224=\"\",\"\",RTD(\"cqg.rtd\", ,\"ContractData\",G224, \"LongDescription\",, \"T\"))","v":""},{"$f":"IFERROR(RTD(\"cqg.rtd\", ,\"ContractData\",G224, \"PerCentNetLastTrade\",, \"T\")/100,\"\")","v":""},0,223,{"$f":"IFERROR(VLOOKUP(A224,Data!$I$2:$J$507,2,FALSE),\"\")","v":""},{"$f":"IFERROR(RTD(\"cqg.rtd\", ,\"ContractData\",L224, \"PerCentNetLastTrade\",, \"T\")/100,\"\")","v":""},{"$f":"IFERROR(RANK($M224,$M$2:M$507)+COUNTIF($M$2:M224,M224)-1,\"\")","v":""},"",223,"",{"$f":"IF(Q224=\"\",\"\",RTD(\"cqg.rtd\", ,\"ContractData\",Q224, \"LongDescription\",, \"T\"))","v":""},{"$f":"IFERROR(RTD(\"cqg.rtd\", ,\"ContractData\",Q224, \"PerCentNetLastTrade\",, \"T\")/100,\"\")","v":""},0]
[224,{"$f":"IFERROR(VLOOKUP(A225,Data!$H$2:$J$507,3,FALSE),\"\")","v":""},{"$f":"IFERROR(RTD(\"cqg.rtd\", ,\"ContractData\",B225, \"PerCentNetLastTrade\",, \"T\")/100,\"\")","v":""},{"$f":"IFERROR(RANK($C225,$C$2:C$507)+COUNTIF($C$2:C225,C225)-1,\"\")","v":""},"",224,"",{"$f":"IF(G225=\"\",\"\",RTD(\"cqg.rtd\", ,\"ContractData\",G225, \"LongDescription\",, \"T\"))","v":""},{"$f":"IFERROR(RTD(\"cqg.rtd\", ,\"ContractData\",G225, \"PerCentNetLastTrade\",, \"T\")/100,\"\")","v":""},0,224,{"$f":"IFERROR(VLOOKUP(A225,Data!$I$2:$J$507,2,FALSE),\"\")","v":""},{"$f":"IFERROR(RTD(\"cqg.rtd\", ,\"ContractData\",L225, \"PerCentNetLastTrade\",, \"T\")/100,\"\")","v":""},{"$f":"IFERROR(RANK($M225,$M$2:M$507)+COUNTIF($M$2:M225,M225)-1,\"\")","v":""},"",224,"",{"$f":"IF(Q225=\"\",\"\",RTD(\"cqg.rtd\", ,\"ContractData\",Q225, \"LongDescription\",, \"T\"))","v":""},{"$f":"IFERROR(RTD(\"cqg.rtd\", ,\"ContractData\",Q225, \"PerCentNetLastTrade\",, \"T\")/100,\"\")","v":""},0]
[225,{"$f":"IFERROR(VLOOKUP(A226,Data!$H$2:$J$507,3,FALSE),\"\")","v":""},{"$f":"IFERROR(RTD(\"cqg.rtd\", ,\"ContractData\",B226, \"PerCentNetLastTrade\",, \"T\")/100,\"\")","v":""},{"$f":"IFERROR(RANK($C226,$C$2:C$507)+COUNTIF($C$2:C226,C226)-1,\"\")","v":""},"",225,"",{"$f":"IF(G226=\"\",\"\",RTD(\"cqg.rtd\", ,\"ContractData\",G226, \"LongDescription\",, \"T\"))","v":""},{"$f":"IFERROR(RTD(\"cqg.rtd\", ,\"ContractData\",G226, \"PerCentNetLastTrade\",, \"T\")/100,\"\")","v":""},0,225,{"$f":"IFERROR(VLOOKUP(A226,Data!$I$2:$J$507,2,FALSE),\"\")","v":""},{"$f":"IFERROR(RTD(\"cqg.rtd\", ,\"ContractData\",L226, \"PerCentNetLastTrade\",, \"T\")/100,\"\")","v":""},{"$f":"IFERROR(RANK($M226,$M$2:M$507)+COUNTIF($M$2:M226,M226)-1,\"\")","v":""},"",225,"",{"$f":"IF(Q226=\"\",\"\",RTD(\"cqg.rtd\", ,\"ContractData\",Q226, \"LongDescription\",, \"T\"))","v":""},{"$f":"IFERROR(RTD(\"cqg.rtd\", ,\"ContractData\",Q226, \"PerCentNetLastTrade\",, \"T\")/100,\"\")","v":""},0]
[226,{"$f":"IFERROR(VLOOKUP(A227,Data!$H$2:$J$507,3,FALSE),\"\")","v":""},{"$f":"IFERROR(RTD(\"cqg.rtd\", ,\"ContractData\",B227, \"PerCentNetLastTrade\",, \"T\")/100,\"\")","v":""},{"$f":"IFERROR(RANK($C227,$C$2:C$507)+COUNTIF($C$2:C227,C227)-1,\"\")","v":""},"",226,"",{"$f":"IF(G227=\"\",\"\",RTD(\"cqg.rtd\", ,\"ContractData\",G227, \"LongDescription\",, \"T\"))","v":""},{"$f":"IFERROR(RTD(\"cqg.rtd\", ,\"ContractData\",G227, \"PerCentNetLastTrade\",, \"T\")/100,\"\")","v":""},0,226,{"$f":"IFERROR(VLOOKUP(A227,Data!$I$2:$J$507,2,FALSE),\"\")","v":""},{"$f":"IFERROR(RTD(\"cqg.rtd\", ,\"ContractData\",L227, \"PerCentNetLastTrade\",, \"T\")/100,\"\")","v":""},{"$f":"IFERROR(RANK($M227,$M$2:M$507)+COUNTIF($M$2:M227,M227)-1,\"\")","v":""},"",226,"",{"$f":"IF(Q227=\"\",\"\",RTD(\"cqg.rtd\", ,\"ContractData\",Q227, \"LongDescription\",, \"T\"))","v":""},{"$f":"IFERROR(RTD(\"cqg.rtd\", ,\"ContractData\",Q227, \"PerCentNetLastTrade\",, \"T\")/100,\"\")","v":""},0]
[227,{"$f":"IFERROR(VLOOKUP(A228,Data!$H$2:$J$507,3,FALSE),\"\")","v":""},{"$f":"IFERROR(RTD(\"cqg.rtd\", ,\"ContractData\",B228, \"PerCentNetLastTrade\",, \"T\")/100,\"\")","v":""},{"$f":"IFERROR(RANK($C228,$C$2:C$507)+COUNTIF($C$2:C228,C228)-1,\"\")","v":""},"",227,"",{"$f":"IF(G228=\"\",\"\",RTD(\"cqg.rtd\", ,\"ContractData\",G228, \"LongDescription\",, \"T\"))","v":""},{"$f":"IFERROR(RTD(\"cqg.rtd\", ,\"ContractData\",G228, \"PerCentNetLastTrade\",, \"T\")/100,\"\")","v":""},0,227,{"$f":"IFERROR(VLOOKUP(A228,Data!$I$2:$J$507,2,FALSE),\"\")","v":""},{"$f":"IFERROR(RTD(\"cqg.rtd\", ,\"ContractData\",L228, \"PerCentNetLastTrade\",, \"T\")/100,\"\")","v":""},{"$f":"IFERROR(RANK($M228,$M$2:M$507)+COUNTIF($M$2:M228,M228)-1,\"\")","v":""},"",227,"",{"$f":"IF(Q228=\"\",\"\",RTD(\"cqg.rtd\", ,\"ContractData\",Q228, \"LongDescription\",, \"T\"))","v":""},{"$f":"IFERROR(RTD(\"cqg.rtd\", ,\"ContractData\",Q228, \"PerCentNetLastTrade\",, \"T\")/100,\"\")","v":""},0]
[228,{"$f":"IFERROR(VLOOKUP(A229,Data!$H$2:$J$507,3,FALSE),\"\")","v":""},{"$f":"IFERROR(RTD(\"cqg.rtd\", ,\"ContractData\",B229, \"PerCentNetLastTrade\",, \"T\")/100,\"\")","v":""},{"$f":"IFERROR(RANK($C229,$C$2:C$507)+COUNTIF($C$2:C229,C229)-1,\"\")","v":""},"",228,"",{"$f":"IF(G229=\"\",\"\",RTD(\"cqg.rtd\", ,\"ContractData\",G229, \"LongDescription\",, \"T\"))","v":""},{"$f":"IFERROR(RTD(\"cqg.rtd\", ,\"ContractData\",G229, \"PerCentNetLastTrade\",, \"T\")/100,\"\")","v":""},0,228,{"$f":"IFERROR(VLOOKUP(A229,Data!$I$2:$J$507,2,FALSE),\"\")","v":""},{"$f":"IFERROR(RTD(\"cqg.rtd\", ,\"ContractData\",L229, \"PerCentNetLastTrade\",, \"T\")/100,\"\")","v":""},{"$f":"IFERROR(RANK($M229,$M$2:M$507)+COUNTIF($M$2:M229,M229)-1,\"\")","v":""},"",228,"",{"$f":"IF(Q229=\"\",\"\",RTD(\"cqg.rtd\", ,\"ContractData\",Q229, \"LongDescription\",, \"T\"))","v":""},{"$f":"IFERROR(RTD(\"cqg.rtd\", ,\"ContractData\",Q229, \"PerCentNetLastTrade\",, \"T\")/100,\"\")","v":""},0]
[229,{"$f":"IFERROR(VLOOKUP(A230,Data!$H$2:$J$507,3,FALSE),\"\")","v":""},{"$f":"IFERROR(RTD(\"cqg.rtd\", ,\"ContractData\",B230, \"PerCentNetLastTrade\",, \"T\")/100,\"\")","v":""},{"$f":"IFERROR(RANK($C230,$C$2:C$507)+COUNTIF($C$2:C230,C230)-1,\"\")","v":""},"",229,"",{"$f":"IF(G230=\"\",\"\",RTD(\"cqg.rtd\", ,\"ContractData\",G230, \"LongDescription\",, \"T\"))","v":""},{"$f":"IFERROR(RTD(\"cqg.rtd\", ,\"ContractData\",G230, \"PerCentNetLastTrade\",, \"T\")/100,\"\")","v":""},0,229,{"$f":"IFERROR(VLOOKUP(A230,Data!$I$2:$J$507,2,FALSE),\"\")","v":""},{"$f":"IFERROR(RTD(\"cqg.rtd\", ,\"ContractData\",L230, \"PerCentNetLastTrade\",, \"T\")/100,\"\")","v":""},{"$f":"IFERROR(RANK($M230,$M$2:M$507)+COUNTIF($M$2:M230,M230)-1,\"\")","v":""},{"$f":"IF(L230=\"\",\"\",L230)","v":""},229,"",{"$f":"IF(Q230=\"\",\"\",RTD(\"cqg.rtd\", ,\"ContractData\",Q230, \"LongDescription\",, \"T\"))","v":""},{"$f":"IFERROR(RTD(\"cqg.rtd\", ,\"ContractData\",Q230, \"PerCentNetLastTrade\",, \"T\")/100,\"\")","v":""},0]
[230,{"$f":"IFERROR(VLOOKUP(A231,Data!$H$2:$J$507,3,FALSE),\"\")","v":""},{"$f":"IFERROR(RTD(\"cqg.rtd\", ,\"ContractData\",B231, \"PerCentNetLastTrade\",, \"T\")/100,\"\")","v":""},{"$f":"IFERROR(RANK($C231,$C$2:C$507)+COUNTIF($C$2:C231,C231)-1,\"\")","v":""},"",230,"",{"$f":"IF(G231=\"\",\"\",RTD(\"cqg.rtd\", ,\"ContractData\",G231, \"LongDescription\",, \"T\"))","v":""},{"$f":"IFERROR(RTD(\"cqg.rtd\", ,\"ContractData\",G231, \"PerCentNetLastTrade\",, \"T\")/100,\"\")","v":""},{"$f":"IF(I231<>\"\",1,0)","v":0},230,{"$f":"IFERROR(VLOOKUP(A231,Data!$I$2:$J$507,2,FALSE),\"\")","v":""},{"$f":"IFERROR(RTD(\"cqg.rtd\", ,\"ContractData\",L231, \"PerCentNetLastTrade\",, \"T\")/100,\"\")","v":""},{"$f":"IFERROR(RANK($M231,$M$2:M$507)+COUNTIF($M$2:M231,M231)-1,\"\")","v":""},"",230,"",{"$f":"IF(Q231=\"\",\"\",RTD(\"cqg.rtd\", ,\"ContractData\",Q231, \"LongDescription\",, \"T\"))","v":""},{"$f":"IFERROR(RTD(\"cqg.rtd\", ,\"ContractData\",Q231, \"PerCentNetLastTrade\",, \"T\")/100,\"\")","v":""},0]
[231,{"$f":"IFERROR(VLOOKUP(A232,Data!$H$2:$J$507,3,FALSE),\"\")","v":""},{"$f":"IFERROR(RTD(\"cqg.rtd\", ,\"ContractData\",B232, \"PerCentNetLastTrade\",, \"T\")/100,\"\")","v":""},{"$f":"IFERROR(RANK($C232,$C$2:C$507)+COUNTIF($C$2:C232,C232)-1,\"\")","v":""},"",231,"",{"$f":"IF(G232=\"\",\"\",RTD(\"cqg.rtd\", ,\"ContractData\",G232, \"LongDescription\",, \"T\"))","v":""},{"$f":"IFERROR(RTD(\"cqg.rtd\", ,\"ContractData\",G232, \"PerCentNetLastTrade\",, \"T\")/100,\"\")","v":""},0,231,{"$f":"IFERROR(VLOOKUP(A232,Data!$I$2:$J$507,2,FALSE),\"\")","v":""},{"$f":"IFERROR(RTD(\"cqg.rtd\", ,\"ContractData\",L232, \"PerCentNetLastTrade\",, \"T\")/100,\"\")","v":""},{"$f":"IFERROR(RANK($M232,$M$2:M$507)+COUNTIF($M$2:M232,M232)-1,\"\")","v":""},"",231,"",{"$f":"IF(Q232=\"\",\"\",RTD(\"cqg.rtd\", ,\"ContractData\",Q232, \"LongDescription\",, \"T\"))","v":""},{"$f":"IFERROR(RTD(\"cqg.rtd\", ,\"ContractData\",Q232, \"PerCentNetLastTrade\",, \"T\")/100,\"\")","v":""},0]
[232,{"$f":"IFERROR(VLOOKUP(A233,Data!$H$2:$J$507,3,FALSE),\"\")","v":""},{"$f":"IFERROR(RTD(\"cqg.rtd\", ,\"ContractData\",B233, \"PerCentNetLastTrade\",, \"T\")/100,\"\")","v":""},{"$f":"IFERROR(RANK($C233,$C$2:C$507)+COUNTIF($C$2:C233,C233)-1,\"\")","v":""},"",232,"",{"$f":"IF(G233=\"\",\"\",RTD(\"cqg.rtd\", ,\"ContractData\",G233, \"LongDescription\",, \"T\"))","v":""},{"$f":"IFERROR(RTD(\"cqg.rtd\", ,\"ContractData\",G233, \"PerCentNetLastTrade\",, \"T\")/100,\"\")","v":""},0,232,{"$f":"IFERROR(VLOOKUP(A233,Data!$I$2:$J$507,2,FALSE),\"\")","v":""},{"$f":"IFERROR(RTD(\"cqg.rtd\", ,\"ContractData\",L233, \"PerCentNetLastTrade\",, \"T\")/100,\"\")","v":""},{"$f":"IFERROR(RANK($M233,$M$2:M$507)+COUNTIF($M$2:M233,M233)-1,\"\")","v":""},"",232,"",{"$f":"IF(Q233=\"\",\"\",RTD(\"cqg.rtd\", ,\"ContractData\",Q233, \"LongDescription\",, \"T\"))","v":""},{"$f":"IFERROR(RTD(\"cqg.rtd\", ,\"ContractData\",Q233, \"PerCentNetLastTrade\",, \"T\")/100,\"\")","v":""},0]
[233,{"$f":"IFERROR(VLOOKUP(A234,Data!$H$2:$J$507,3,FALSE),\"\")","v":""},{"$f":"IFERROR(RTD(\"cqg.rtd\", ,\"ContractData\",B234, \"PerCentNetLastTrade\",, \"T\")/100,\"\")","v":""},{"$f":"IFERROR(RANK($C234,$C$2:C$507)+COUNTIF($C$2:C234,C234)-1,\"\")","v":""},"",233,"",{"$f":"IF(G234=\"\",\"\",RTD(\"cqg.rtd\", ,\"ContractData\",G234, \"LongDescription\",, \"T\"))","v":""},{"$f":"IFERROR(RTD(\"cqg.rtd\", ,\"ContractData\",G234, \"PerCentNetLastTrade\",, \"T\")/100,\"\")","v":""},0,233,{"$f":"IFERROR(VLOOKUP(A234,Data!$I$2:$J$507,2,FALSE),\"\")","v":""},{"$f":"IFERROR(RTD(\"cqg.rtd\", ,\"ContractData\",L234, \"PerCentNetLastTrade\",, \"T\")/100,\"\")","v":""},{"$f":"IFERROR(RANK($M234,$M$2:M$507)+COUNTIF($M$2:M234,M234)-1,\"\")","v":""},"",233,"",{"$f":"IF(Q234=\"\",\"\",RTD(\"cqg.rtd\", ,\"ContractData\",Q234, \"LongDescription\",, \"T\"))","v":""},{"$f":"IFERROR(RTD(\"cqg.rtd\", ,\"ContractData\",Q234, \"PerCentNetLastTrade\",, \"T\")/100,\"\")","v":""},0]
[234,{"$f":"IFERROR(VLOOKUP(A235,Data!$H$2:$J$507,3,FALSE),\"\")","v":""},{"$f":"IFERROR(RTD(\"cqg.rtd\", ,\"ContractData\",B235, \"PerCentNetLastTrade\",, \"T\")/100,\"\")","v":""},{"$f":"IFERROR(RANK($C235,$C$2:C$507)+COUNTIF($C$2:C235,C235)-1,\"\")","v":""},"",234,"",{"$f":"IF(G235=\"\",\"\",RTD(\"cqg.rtd\", ,\"ContractData\",G235, \"LongDescription\",, \"T\"))","v":""},{"$f":"IFERROR(RTD(\"cqg.rtd\", ,\"ContractData\",G235, \"PerCentNetLastTrade\",, \"T\")/100,\"\")","v":""},0,234,{"$f":"IFERROR(VLOOKUP(A235,Data!$I$2:$J$507,2,FALSE),\"\")","v":""},{"$f":"IFERROR(RTD(\"cqg.rtd\", ,\"ContractData\",L235, \"PerCentNetLastTrade\",, \"T\")/100,\"\")","v":""},{"$f":"IFERROR(RANK($M235,$M$2:M$507)+COUNTIF($M$2:M235,M235)-1,\"\")","v":""},"",234,"",{"$f":"IF(Q235=\"\",\"\",RTD(\"cqg.rtd\", ,\"ContractData\",Q235, \"LongDescription\",, \"T\"))","v":""},{"$f":"IFERROR(RTD(\"cqg.rtd\", ,\"ContractData\",Q235, \"PerCentNetLastTrade\",, \"T\")/100,\"\")","v":""},0]
[235,{"$f":"IFERROR(VLOOKUP(A236,Data!$H$2:$J$507,3,FALSE),\"\")","v":""},{"$f":"IFERROR(RTD(\"cqg.rtd\", ,\"ContractData\",B236, \"PerCentNetLastTrade\",, \"T\")/100,\"\")","v":""},{"$f":"IFERROR(RANK($C236,$C$2:C$507)+COUNTIF($C$2:C236,C236)-1,\"\")","v":""},"",235,"",{"$f":"IF(G236=\"\",\"\",RTD(\"cqg.rtd\", ,\"ContractData\",G236, \"LongDescription\",, \"T\"))","v":""},{"$f":"IFERROR(RTD(\"cqg.rtd\", ,\"ContractData\",G236, \"PerCentNetLastTrade\",, \"T\")/100,\"\")","v":""},0,235,{"$f":"IFERROR(VLOOKUP(A236,Data!$I$2:$J$507,2,FALSE),\"\")","v":""},{"$f":"IFERROR(RTD(\"cqg.rtd\", ,\"ContractData\",L236, \"PerCentNetLastTrade\",, \"T\")/100,\"\")","v":""},{"$f":"IFERROR(RANK($M236,$M$2:M$507)+COUNTIF($M$2:M236,M236)-1,\"\")","v":""},"",235,"",{"$f":"IF(Q236=\"\",\"\",RTD(\"cqg.rtd\", ,\"ContractData\",Q236, \"LongDescription\",, \"T\"))","v":""},{"$f":"IFERROR(RTD(\"cqg.rtd\", ,\"ContractData\",Q236, \"PerCentNetLastTrade\",, \"T\")/100,\"\")","v":""},0]
[236,{"$f":"IFERROR(VLOOKUP(A237,Data!$H$2:$J$507,3,FALSE),\"\")","v":""},{"$f":"IFERROR(RTD(\"cqg.rtd\", ,\"ContractData\",B237, \"PerCentNetLastTrade\",, \"T\")/100,\"\")","v":""},{"$f":"IFERROR(RANK($C237,$C$2:C$507)+COUNTIF($C$2:C237,C237)-1,\"\")","v":""},"",236,"",{"$f":"IF(G237=\"\",\"\",RTD(\"cqg.rtd\", ,\"ContractData\",G237, \"LongDescription\",, \"T\"))","v":""},{"$f":"IFERROR(RTD(\"cqg.rtd\", ,\"ContractData\",G237, \"PerCentNetLastTrade\",, \"T\")/100,\"\")","v":""},0,236,{"$f":"IFERROR(VLOOKUP(A237,Data!$I$2:$J$507,2,FALSE),\"\")","v":""},{"$f":"IFERROR(RTD(\"cqg.rtd\", ,\"ContractData\",L237, \"PerCentNetLastTrade\",, \"T\")/100,\"\")","v":""},{"$f":"IFERROR(RANK($M237,$M$2:M$507)+COUNTIF($M$2:M237,M237)-1,\"\")","v":""},"",236,"",{"$f":"IF(Q237=\"\",\"\",RTD(\"cqg.rtd\", ,\"ContractData\",Q237, \"LongDescription\",, \"T\"))","v":""},{"$f":"IFERROR(RTD(\"cqg.rtd\", ,\"ContractData\",Q237, \"PerCentNetLastTrade\",, \"T\")/100,\"\")","v":""},0]
[237,{"$f":"IFERROR(VLOOKUP(A238,Data!$H$2:$J$507,3,FALSE),\"\")","v":""},{"$f":"IFERROR(RTD(\"cqg.rtd\", ,\"ContractData\",B238, \"PerCentNetLastTrade\",, \"T\")/100,\"\")","v":""},{"$f":"IFERROR(RANK($C238,$C$2:C$507)+COUNTIF($C$2:C238,C238)-1,\"\")","v":""},"",237,"",{"$f":"IF(G238=\"\",\"\",RTD(\"cqg.rtd\", ,\"ContractData\",G238, \"LongDescription\",, \"T\"))","v":""},{"$f":"IFERROR(RTD(\"cqg.rtd\", ,\"ContractData\",G238, \"PerCentNetLastTrade\",, \"T\")/100,\"\")","v":""},0,237,{"$f":"IFERROR(VLOOKUP(A238,Data!$I$2:$J$507,2,FALSE),\"\")","v":""},{"$f":"IFERROR(RTD(\"cqg.rtd\", ,\"ContractData\",L238, \"PerCentNetLastTrade\",, \"T\")/100,\"\")","v":""},{"$f":"IFERROR(RANK($M238,$M$2:M$507)+COUNTIF($M$2:M238,M238)-1,\"\")","v":""},"",237,"",{"$f":"IF(Q238=\"\",\"\",RTD(\"cqg.rtd\", ,\"ContractData\",Q238, \"LongDescription\",, \"T\"))","v":""},{"$f":"IFERROR(RTD(\"cqg.rtd\", ,\"ContractData\",Q238, \"PerCentNetLastTrade\",, \"T\")/100,\"\")","v":""},0]
[238,{"$f":"IFERROR(VLOOKUP(A239,Data!$H$2:$J$507,3,FALSE),\"\")","v":""},{"$f":"IFERROR(RTD(\"cqg.rtd\", ,\"ContractData\",B239, \"PerCentNetLastTrade\",, \"T\")/100,\"\")","v":""},{"$f":"IFERROR(RANK($C239,$C$2:C$507)+COUNTIF($C$2:C239,C239)-1,\"\")","v":""},"",238,"",{"$f":"IF(G239=\"\",\"\",RTD(\"cqg.rtd\", ,\"ContractData\",G239, \"LongDescription\",, \"T\"))","v":""},{"$f":"IFERROR(RTD(\"cqg.rtd\", ,\"ContractData\",G239, \"PerCentNetLastTrade\",, \"T\")/100,\"\")","v":""},0,238,{"$f":"IFERROR(VLOOKUP(A239,Data!$I$2:$J$507,2,FALSE),\"\")","v":""},{"$f":"IFERROR(RTD(\"cqg.rtd\", ,\"ContractData\",L239, \"PerCentNetLastTrade\",, \"T\")/100,\"\")","v":""},{"$f":"IFERROR(RANK($M239,$M$2:M$507)+COUNTIF($M$2:M239,M239)-1,\"\")","v":""},"",238,"",{"$f":"IF(Q239=\"\",\"\",RTD(\"cqg.rtd\", ,\"ContractData\",Q239, \"LongDescription\",, \"T\"))","v":""},{"$f":"IFERROR(RTD(\"cqg.rtd\", ,\"ContractData\",Q239, \"PerCentNetLastTrade\",, \"T\")/100,\"\")","v":""},0]
[239,{"$f":"IFERROR(VLOOKUP(A240,Data!$H$2:$J$507,3,FALSE),\"\")","v":""},{"$f":"IFERROR(RTD(\"cqg.rtd\", ,\"ContractData\",B240, \"PerCentNetLastTrade\",, \"T\")/100,\"\")","v":""},{"$f":"IFERROR(RANK($C240,$C$2:C$507)+COUNTIF($C$2:C240,C240)-1,\"\")","v":""},"",239,"",{"$f":"IF(G240=\"\",\"\",RTD(\"cqg.rtd\", ,\"ContractData\",G240, \"LongDescription\",, \"T\"))","v":""},{"$f":"IFERROR(RTD(\"cqg.rtd\", ,\"ContractData\",G240, \"PerCentNetLastTrade\",, \"T\")/100,\"\")","v":""},0,239,{"$f":"IFERROR(VLOOKUP(A240,Data!$I$2:$J$507,2,FALSE),\"\")","v":""},{"$f":"IFERROR(RTD(\"cqg.rtd\", ,\"ContractData\",L240, \"PerCentNetLastTrade\",, \"T\")/100,\"\")","v":""},{"$f":"IFERROR(RANK($M240,$M$2:M$507)+COUNTIF($M$2:M240,M240)-1,\"\")","v":""},"",239,"",{"$f":"IF(Q240=\"\",\"\",RTD(\"cqg.rtd\", ,\"ContractData\",Q240, \"LongDescription\",, \"T\"))","v":""},{"$f":"IFERROR(RTD(\"cqg.rtd\", ,\"ContractData\",Q240, \"PerCentNetLastTrade\",, \"T\")/100,\"\")","v":""},0]
[240,{"$f":"IFERROR(VLOOKUP(A241,Data!$H$2:$J$507,3,FALSE),\"\")","v":""},{"$f":"IFERROR(RTD(\"cqg.rtd\", ,\"ContractData\",B241, \"PerCentNetLastTrade\",, \"T\")/100,\"\")","v":""},{"$f":"IFERROR(RANK($C241,$C$2:C$507)+COUNTIF($C$2:C241,C241)-1,\"\")","v":""},"",240,"",{"$f":"IF(G241=\"\",\"\",RTD(\"cqg.rtd\", ,\"ContractData\",G241, \"LongDescription\",, \"T\"))","v":""},{"$f":"IFERROR(RTD(\"cqg.rtd\", ,\"ContractData\",G241, \"PerCentNetLastTrade\",, \"T\")/100,\"\")","v":""},0,240,{"$f":"IFERROR(VLOOKUP(A241,Data!$I$2:$J$507,2,FALSE),\"\")","v":""},{"$f":"IFERROR(RTD(\"cqg.rtd\", ,\"ContractData\",L241, \"PerCentNetLastTrade\",, \"T\")/100,\"\")","v":""},{"$f":"IFERROR(RANK($M241,$M$2:M$507)+COUNTIF($M$2:M241,M241)-1,\"\")","v":""},"",240,"",{"$f":"IF(Q241=\"\",\"\",RTD(\"cqg.rtd\", ,\"ContractData\",Q241, \"LongDescription\",, \"T\"))","v":""},{"$f":"IFERROR(RTD(\"cqg.rtd\", ,\"ContractData\",Q241, \"PerCentNetLastTrade\",, \"T\")/100,\"\")","v":""},0]
[241,{"$f":"IFERROR(VLOOKUP(A242,Data!$H$2:$J$507,3,FALSE),\"\")","v":""},{"$f":"IFERROR(RTD(\"cqg.rtd\", ,\"ContractData\",B242, \"PerCentNetLastTrade\",, \"T\")/100,\"\")","v":""},{"$f":"IFERROR(RANK($C242,$C$2:C$507)+COUNTIF($C$2:C242,C242)-1,\"\")","v":""},"",241,"",{"$f":"IF(G242=\"\",\"\",RTD(\"cqg.rtd\", ,\"ContractData\",G242, \"LongDescription\",, \"T\"))","v":""},{"$f":"IFERROR(RTD(\"cqg.rtd\", ,\"ContractData\",G242, \"PerCentNetLastTrade\",, \"T\")/100,\"\")","v":""},0,241,{"$f":"IFERROR(VLOOKUP(A242,Data!$I$2:$J$507,2,FALSE),\"\")","v":""},{"$f":"IFERROR(RTD(\"cqg.rtd\", ,\"ContractData\",L242, \"PerCentNetLastTrade\",, \"T\")/100,\"\")","v":""},{"$f":"IFERROR(RANK($M242,$M$2:M$507)+COUNTIF($M$2:M242,M242)-1,\"\")","v":""},"",241,"",{"$f":"IF(Q242=\"\",\"\",RTD(\"cqg.rtd\", ,\"ContractData\",Q242, \"LongDescription\",, \"T\"))","v":""},{"$f":"IFERROR(RTD(\"cqg.rtd\", ,\"ContractData\",Q242, \"PerCentNetLastTrade\",, \"T\")/100,\"\")","v":""},0]
[242,{"$f":"IFERROR(VLOOKUP(A243,Data!$H$2:$J$507,3,FALSE),\"\")","v":""},{"$f":"IFERROR(RTD(\"cqg.rtd\", ,\"ContractData\",B243, \"PerCentNetLastTrade\",, \"T\")/100,\"\")","v":""},{"$f":"IFERROR(RANK($C243,$C$2:C$507)+COUNTIF($C$2:C243,C243)-1,\"\")","v":""},"",242,"",{"$f":"IF(G243=\"\",\"\",RTD(\"cqg.rtd\", ,\"ContractData\",G243, \"LongDescription\",, \"T\"))","v":""},{"$f":"IFERROR(RTD(\"cqg.rtd\", ,\"ContractData\",G243, \"PerCentNetLastTrade\",, \"T\")/100,\"\")","v":""},0,242,{"$f":"IFERROR(VLOOKUP(A243,Data!$I$2:$J$507,2,FALSE),\"\")","v":""},{"$f":"IFERROR(RTD(\"cqg.rtd\", ,\"ContractData\",L243, \"PerCentNetLastTrade\",, \"T\")/100,\"\")","v":""},{"$f":"IFERROR(RANK($M243,$M$2:M$507)+COUNTIF($M$2:M243,M243)-1,\"\")","v":""},"",242,"",{"$f":"IF(Q243=\"\",\"\",RTD(\"cqg.rtd\", ,\"ContractData\",Q243, \"LongDescription\",, \"T\"))","v":""},{"$f":"IFERROR(RTD(\"cqg.rtd\", ,\"ContractData\",Q243, \"PerCentNetLastTrade\",, \"T\")/100,\"\")","v":""},0]
[243,{"$f":"IFERROR(VLOOKUP(A244,Data!$H$2:$J$507,3,FALSE),\"\")","v":""},{"$f":"IFERROR(RTD(\"cqg.rtd\", ,\"ContractData\",B244, \"PerCentNetLastTrade\",, \"T\")/100,\"\")","v":""},{"$f":"IFERROR(RANK($C244,$C$2:C$507)+COUNTIF($C$2:C244,C244)-1,\"\")","v":""},"",243,"",{"$f":"IF(G244=\"\",\"\",RTD(\"cqg.rtd\", ,\"ContractData\",G244, \"LongDescription\",, \"T\"))","v":""},{"$f":"IFERROR(RTD(\"cqg.rtd\", ,\"ContractData\",G244, \"PerCentNetLastTrade\",, \"T\")/100,\"\")","v":""},0,243,{"$f":"IFERROR(VLOOKUP(A244,Data!$I$2:$J$507,2,FALSE),\"\")","v":""},{"$f":"IFERROR(RTD(\"cqg.rtd\", ,\"ContractData\",L244, \"PerCentNetLastTrade\",, \"T\")/100,\"\")","v":""},{"$f":"IFERROR(RANK($M244,$M$2:M$507)+COUNTIF($M$2:M244,M244)-1,\"\")","v":""},"",243,"",{"$f":"IF(Q244=\"\",\"\",RTD(\"cqg.rtd\", ,\"ContractData\",Q244, \"LongDescription\",, \"T\"))","v":""},{"$f":"IFERROR(RTD(\"cqg.rtd\", ,\"ContractData\",Q244, \"PerCentNetLastTrade\",, \"T\")/100,\"\")","v":""},0]
[244,{"$f":"IFERROR(VLOOKUP(A245,Data!$H$2:$J$507,3,FALSE),\"\")","v":""},{"$f":"IFERROR(RTD(\"cqg.rtd\", ,\"ContractData\",B245, \"PerCentNetLastTrade\",, \"T\")/100,\"\")","v":""},{"$f":"IFERROR(RANK($C245,$C$2:C$507)+COUNTIF($C$2:C245,C245)-1,\"\")","v":""},"",244,"",{"$f":"IF(G245=\"\",\"\",RTD(\"cqg.rtd\", ,\"ContractData\",G245, \"LongDescription\",, \"T\"))","v":""},{"$f":"IFERROR(RTD(\"cqg.rtd\", ,\"ContractData\",G245, \"PerCentNetLastTrade\",, \"T\")/100,\"\")","v":""},0,244,{"$f":"IFERROR(VLOOKUP(A245,Data!$I$2:$J$507,2,FALSE),\"\")","v":""},{"$f":"IFERROR(RTD(\"cqg.rtd\", ,\"ContractData\",L245, \"PerCentNetLastTrade\",, \"T\")/100,\"\")","v":""},{"$f":"IFERROR(RANK($M245,$M$2:M$507)+COUNTIF($M$2:M245,M245)-1,\"\")","v":""},"",244,"",{"$f":"IF(Q245=\"\",\"\",RTD(\"cqg.rtd\", ,\"ContractData\",Q245, \"LongDescription\",, \"T\"))","v":""},{"$f":"IFERROR(RTD(\"cqg.rtd\", ,\"ContractData\",Q245, \"PerCentNetLastTrade\",, \"T\")/100,\"\")","v":""},0]
[245,{"$f":"IFERROR(VLOOKUP(A246,Data!$H$2:$J$507,3,FALSE),\"\")","v":""},{"$f":"IFERROR(RTD(\"cqg.rtd\", ,\"ContractData\",B246, \"PerCentNetLastTrade\",, \"T\")/100,\"\")","v":""},{"$f":"IFERROR(RANK($C246,$C$2:C$507)+COUNTIF($C$2:C246,C246)-1,\"\")","v":""},"",245,"",{"$f":"IF(G246=\"\",\"\",RTD(\"cqg.rtd\", ,\"ContractData\",G246, \"LongDescription\",, \"T\"))","v":""},{"$f":"IFERROR(RTD(\"cqg.rtd\", ,\"ContractData\",G246, \"PerCentNetLastTrade\",, \"T\")/100,\"\")","v":""},0,245,{"$f":"IFERROR(VLOOKUP(A246,Data!$I$2:$J$507,2,FALSE),\"\")","v":""},{"$f":"IFERROR(RTD(\"cqg.rtd\", ,\"ContractData\",L246, \"PerCentNetLastTrade\",, \"T\")/100,\"\")","v":""},{"$f":"IFERROR(RANK($M246,$M$2:M$507)+COUNTIF($M$2:M246,M246)-1,\"\")","v":""},"",245,"",{"$f":"IF(Q246=\"\",\"\",RTD(\"cqg.rtd\", ,\"ContractData\",Q246, \"LongDescription\",, \"T\"))","v":""},{"$f":"IFERROR(RTD(\"cqg.rtd\", ,\"ContractData\",Q246, \"PerCentNetLastTrade\",, \"T\")/100,\"\")","v":""},0]
[246,{"$f":"IFERROR(VLOOKUP(A247,Data!$H$2:$J$507,3,FALSE),\"\")","v":""},{"$f":"IFERROR(RTD(\"cqg.rtd\", ,\"ContractData\",B247, \"PerCentNetLastTrade\",, \"T\")/100,\"\")","v":""},{"$f":"IFERROR(RANK($C247,$C$2:C$507)+COUNTIF($C$2:C247,C247)-1,\"\")","v":""},"",246,"",{"$f":"IF(G247=\"\",\"\",RTD(\"cqg.rtd\", ,\"ContractData\",G247, \"LongDescription\",, \"T\"))","v":""},{"$f":"IFERROR(RTD(\"cqg.rtd\", ,\"ContractData\",G247, \"PerCentNetLastTrade\",, \"T\")/100,\"\")","v":""},0,246,{"$f":"IFERROR(VLOOKUP(A247,Data!$I$2:$J$507,2,FALSE),\"\")","v":""},{"$f":"IFERROR(RTD(\"cqg.rtd\", ,\"ContractData\",L247, \"PerCentNetLastTrade\",, \"T\")/100,\"\")","v":""},{"$f":"IFERROR(RANK($M247,$M$2:M$507)+COUNTIF($M$2:M247,M247)-1,\"\")","v":""},"",246,"",{"$f":"IF(Q247=\"\",\"\",RTD(\"cqg.rtd\", ,\"ContractData\",Q247, \"LongDescription\",, \"T\"))","v":""},{"$f":"IFERROR(RTD(\"cqg.rtd\", ,\"ContractData\",Q247, \"PerCentNetLastTrade\",, \"T\")/100,\"\")","v":""},0]
[247,{"$f":"IFERROR(VLOOKUP(A248,Data!$H$2:$J$507,3,FALSE),\"\")","v":""},{"$f":"IFERROR(RTD(\"cqg.rtd\", ,\"ContractData\",B248, \"PerCentNetLastTrade\",, \"T\")/100,\"\")","v":""},{"$f":"IFERROR(RANK($C248,$C$2:C$507)+COUNTIF($C$2:C248,C248)-1,\"\")","v":""},{"$f":"IF(B248=\"\",\"\",B248)","v":""},247,"",{"$f":"IF(G248=\"\",\"\",RTD(\"cqg.rtd\", ,\"ContractData\",G248, \"LongDescription\",, \"T\"))","v":""},{"$f":"IFERROR(RTD(\"cqg.rtd\", ,\"ContractData\",G248, \"PerCentNetLastTrade\",, \"T\")/100,\"\")","v":""},0,247,{"$f":"IFERROR(VLOOKUP(A248,Data!$I$2:$J$507,2,FALSE),\"\")","v":""},{"$f":"IFERROR(RTD(\"cqg.rtd\", ,\"ContractData\",L248, \"PerCentNetLastTrade\",, \"T\")/100,\"\")","v":""},{"$f":"IFERROR(RANK($M248,$M$2:M$507)+COUNTIF($M$2:M248,M248)-1,\"\")","v":""},"",247,"",{"$f":"IF(Q248=\"\",\"\",RTD(\"cqg.rtd\", ,\"ContractData\",Q248, \"LongDescription\",, \"T\"))","v":""},{"$f":"IFERROR(RTD(\"cqg.rtd\", ,\"ContractData\",Q248, \"PerCentNetLastTrade\",, \"T\")/100,\"\")","v":""},0]
[248,{"$f":"IFERROR(VLOOKUP(A249,Data!$H$2:$J$507,3,FALSE),\"\")","v":""},{"$f":"IFERROR(RTD(\"cqg.rtd\", ,\"ContractData\",B249, \"PerCentNetLastTrade\",, \"T\")/100,\"\")","v":""},{"$f":"IFERROR(RANK($C249,$C$2:C$507)+COUNTIF($C$2:C249,C249)-1,\"\")","v":""},"",248,"",{"$f":"IF(G249=\"\",\"\",RTD(\"cqg.rtd\", ,\"ContractData\",G249, \"LongDescription\",, \"T\"))","v":""},{"$f":"IFERROR(RTD(\"cqg.rtd\", ,\"ContractData\",G249, \"PerCentNetLastTrade\",, \"T\")/100,\"\")","v":""},0,248,{"$f":"IFERROR(VLOOKUP(A249,Data!$I$2:$J$507,2,FALSE),\"\")","v":""},{"$f":"IFERROR(RTD(\"cqg.rtd\", ,\"ContractData\",L249, \"PerCentNetLastTrade\",, \"T\")/100,\"\")","v":""},{"$f":"IFERROR(RANK($M249,$M$2:M$507)+COUNTIF($M$2:M249,M249)-1,\"\")","v":""},"",248,"",{"$f":"IF(Q249=\"\",\"\",RTD(\"cqg.rtd\", ,\"ContractData\",Q249, \"LongDescription\",, \"T\"))","v":""},{"$f":"IFERROR(RTD(\"cqg.rtd\", ,\"ContractData\",Q249, \"PerCentNetLastTrade\",, \"T\")/100,\"\")","v":""},0]
[249,{"$f":"IFERROR(VLOOKUP(A250,Data!$H$2:$J$507,3,FALSE),\"\")","v":""},{"$f":"IFERROR(RTD(\"cqg.rtd\", ,\"ContractData\",B250, \"PerCentNetLastTrade\",, \"T\")/100,\"\")","v":""},{"$f":"IFERROR(RANK($C250,$C$2:C$507)+COUNTIF($C$2:C250,C250)-1,\"\")","v":""},"",249,"",{"$f":"IF(G250=\"\",\"\",RTD(\"cqg.rtd\", ,\"ContractData\",G250, \"LongDescription\",, \"T\"))","v":""},{"$f":"IFERROR(RTD(\"cqg.rtd\", ,\"ContractData\",G250, \"PerCentNetLastTrade\",, \"T\")/100,\"\")","v":""},0,249,{"$f":"IFERROR(VLOOKUP(A250,Data!$I$2:$J$507,2,FALSE),\"\")","v":""},{"$f":"IFERROR(RTD(\"cqg.rtd\", ,\"ContractData\",L250, \"PerCentNetLastTrade\",, \"T\")/100,\"\")","v":""},{"$f":"IFERROR(RANK($M250,$M$2:M$507)+COUNTIF($M$2:M250,M250)-1,\"\")","v":""},"",249,"",{"$f":"IF(Q250=\"\",\"\",RTD(\"cqg.rtd\", ,\"ContractData\",Q250, \"LongDescription\",, \"T\"))","v":""},{"$f":"IFERROR(RTD(\"cqg.rtd\", ,\"ContractData\",Q250, \"PerCentNetLastTrade\",, \"T\")/100,\"\")","v":""},0]
[250,{"$f":"IFERROR(VLOOKUP(A251,Data!$H$2:$J$507,3,FALSE),\"\")","v":""},{"$f":"IFERROR(RTD(\"cqg.rtd\", ,\"ContractData\",B251, \"PerCentNetLastTrade\",, \"T\")/100,\"\")","v":""},{"$f":"IFERROR(RANK($C251,$C$2:C$507)+COUNTIF($C$2:C251,C251)-1,\"\")","v":""},"",250,"",{"$f":"IF(G251=\"\",\"\",RTD(\"cqg.rtd\", ,\"ContractData\",G251, \"LongDescription\",, \"T\"))","v":""},{"$f":"IFERROR(RTD(\"cqg.rtd\", ,\"ContractData\",G251, \"PerCentNetLastTrade\",, \"T\")/100,\"\")","v":""},0,250,{"$f":"IFERROR(VLOOKUP(A251,Data!$I$2:$J$507,2,FALSE),\"\")","v":""},{"$f":"IFERROR(RTD(\"cqg.rtd\", ,\"ContractData\",L251, \"PerCentNetLastTrade\",, \"T\")/100,\"\")","v":""},{"$f":"IFERROR(RANK($M251,$M$2:M$507)+COUNTIF($M$2:M251,M251)-1,\"\")","v":""},"",250,"",{"$f":"IF(Q251=\"\",\"\",RTD(\"cqg.rtd\", ,\"ContractData\",Q251, \"LongDescription\",, \"T\"))","v":""},{"$f":"IFERROR(RTD(\"cqg.rtd\", ,\"ContractData\",Q251, \"PerCentNetLastTrade\",, \"T\")/100,\"\")","v":""},0]
[251,{"$f":"IFERROR(VLOOKUP(A252,Data!$H$2:$J$507,3,FALSE),\"\")","v":""},{"$f":"IFERROR(RTD(\"cqg.rtd\", ,\"ContractData\",B252, \"PerCentNetLastTrade\",, \"T\")/100,\"\")","v":""},{"$f":"IFERROR(RANK($C252,$C$2:C$507)+COUNTIF($C$2:C252,C252)-1,\"\")","v":""},"",251,"",{"$f":"IF(G252=\"\",\"\",RTD(\"cqg.rtd\", ,\"ContractData\",G252, \"LongDescription\",, \"T\"))","v":""},{"$f":"IFERROR(RTD(\"cqg.rtd\", ,\"ContractData\",G252, \"PerCentNetLastTrade\",, \"T\")/100,\"\")","v":""},0,251,{"$f":"IFERROR(VLOOKUP(A252,Data!$I$2:$J$507,2,FALSE),\"\")","v":""},{"$f":"IFERROR(RTD(\"cqg.rtd\", ,\"ContractData\",L252, \"PerCentNetLastTrade\",, \"T\")/100,\"\")","v":""},{"$f":"IFERROR(RANK($M252,$M$2:M$507)+COUNTIF($M$2:M252,M252)-1,\"\")","v":""},"",251,"",{"$f":"IF(Q252=\"\",\"\",RTD(\"cqg.rtd\", ,\"ContractData\",Q252, \"LongDescription\",, \"T\"))","v":""},{"$f":"IFERROR(RTD(\"cqg.rtd\", ,\"ContractData\",Q252, \"PerCentNetLastTrade\",, \"T\")/100,\"\")","v":""},0]
[252,{"$f":"IFERROR(VLOOKUP(A253,Data!$H$2:$J$507,3,FALSE),\"\")","v":""},{"$f":"IFERROR(RTD(\"cqg.rtd\", ,\"ContractData\",B253, \"PerCentNetLastTrade\",, \"T\")/100,\"\")","v":""},{"$f":"IFERROR(RANK($C253,$C$2:C$507)+COUNTIF($C$2:C253,C253)-1,\"\")","v":""},"",252,"",{"$f":"IF(G253=\"\",\"\",RTD(\"cqg.rtd\", ,\"ContractData\",G253, \"LongDescription\",, \"T\"))","v":""},{"$f":"IFERROR(RTD(\"cqg.rtd\", ,\"ContractData\",G253, \"PerCentNetLastTrade\",, \"T\")/100,\"\")","v":""},0,252,{"$f":"IFERROR(VLOOKUP(A253,Data!$I$2:$J$507,2,FALSE),\"\")","v":""},{"$f":"IFERROR(RTD(\"cqg.rtd\", ,\"ContractData\",L253, \"PerCentNetLastTrade\",, \"T\")/100,\"\")","v":""},{"$f":"IFERROR(RANK($M253,$M$2:M$507)+COUNTIF($M$2:M253,M253)-1,\"\")","v":""},"",252,"",{"$f":"IF(Q253=\"\",\"\",RTD(\"cqg.rtd\", ,\"ContractData\",Q253, \"LongDescription\",, \"T\"))","v":""},{"$f":"IFERROR(RTD(\"cqg.rtd\", ,\"ContractData\",Q253, \"PerCentNetLastTrade\",, \"T\")/100,\"\")","v":""},0]
[253,{"$f":"IFERROR(VLOOKUP(A254,Data!$H$2:$J$507,3,FALSE),\"\")","v":""},{"$f":"IFERROR(RTD(\"cqg.rtd\", ,\"ContractData\",B254, \"PerCentNetLastTrade\",, \"T\")/100,\"\")","v":""},{"$f":"IFERROR(RANK($C254,$C$2:C$507)+COUNTIF($C$2:C254,C254)-1,\"\")","v":""},"",253,"",{"$f":"IF(G254=\"\",\"\",RTD(\"cqg.rtd\", ,\"ContractData\",G254, \"LongDescription\",, \"T\"))","v":""},{"$f":"IFERROR(RTD(\"cqg.rtd\", ,\"ContractData\",G254, \"PerCentNetLastTrade\",, \"T\")/100,\"\")","v":""},0,253,{"$f":"IFERROR(VLOOKUP(A254,Data!$I$2:$J$507,2,FALSE),\"\")","v":""},{"$f":"IFERROR(RTD(\"cqg.rtd\", ,\"ContractData\",L254, \"PerCentNetLastTrade\",, \"T\")/100,\"\")","v":""},{"$f":"IFERROR(RANK($M254,$M$2:M$507)+COUNTIF($M$2:M254,M254)-1,\"\")","v":""},"",253,"",{"$f":"IF(Q254=\"\",\"\",RTD(\"cqg.rtd\", ,\"ContractData\",Q254, \"LongDescription\",, \"T\"))","v":""},{"$f":"IFERROR(RTD(\"cqg.rtd\", ,\"ContractData\",Q254, \"PerCentNetLastTrade\",, \"T\")/100,\"\")","v":""},0]
[254,{"$f":"IFERROR(VLOOKUP(A255,Data!$H$2:$J$507,3,FALSE),\"\")","v":""},{"$f":"IFERROR(RTD(\"cqg.rtd\", ,\"ContractData\",B255, \"PerCentNetLastTrade\",, \"T\")/100,\"\")","v":""},{"$f":"IFERROR(RANK($C255,$C$2:C$507)+COUNTIF($C$2:C255,C255)-1,\"\")","v":""},"",254,"",{"$f":"IF(G255=\"\",\"\",RTD(\"cqg.rtd\", ,\"ContractData\",G255, \"LongDescription\",, \"T\"))","v":""},{"$f":"IFERROR(RTD(\"cqg.rtd\", ,\"ContractData\",G255, \"PerCentNetLastTrade\",, \"T\")/100,\"\")","v":""},0,254,{"$f":"IFERROR(VLOOKUP(A255,Data!$I$2:$J$507,2,FALSE),\"\")","v":""},{"$f":"IFERROR(RTD(\"cqg.rtd\", ,\"ContractData\",L255, \"PerCentNetLastTrade\",, \"T\")/100,\"\")","v":""},{"$f":"IFERROR(RANK($M255,$M$2:M$507)+COUNTIF($M$2:M255,M255)-1,\"\")","v":""},"",254,"",{"$f":"IF(Q255=\"\",\"\",RTD(\"cqg.rtd\", ,\"ContractData\",Q255, \"LongDescription\",, \"T\"))","v":""},{"$f":"IFERROR(RTD(\"cqg.rtd\", ,\"ContractData\",Q255, \"PerCentNetLastTrade\",, \"T\")/100,\"\")","v":""},0]
[255,{"$f":"IFERROR(VLOOKUP(A256,Data!$H$2:$J$507,3,FALSE),\"\")","v":""},{"$f":"IFERROR(RTD(\"cqg.rtd\", ,\"ContractData\",B256, \"PerCentNetLastTrade\",, \"T\")/100,\"\")","v":""},{"$f":"IFERROR(RANK($C256,$C$2:C$507)+COUNTIF($C$2:C256,C256)-1,\"\")","v":""},"",255,"",{"$f":"IF(G256=\"\",\"\",RTD(\"cqg.rtd\", ,\"ContractData\",G256, \"LongDescription\",, \"T\"))","v":""},{"$f":"IFERROR(RTD(\"cqg.rtd\", ,\"ContractData\",G256, \"PerCentNetLastTrade\",, \"T\")/100,\"\")","v":""},0,255,{"$f":"IFERROR(VLOOKUP(A256,Data!$I$2:$J$507,2,FALSE),\"\")","v":""},{"$f":"IFERROR(RTD(\"cqg.rtd\", ,\"ContractData\",L256, \"PerCentNetLastTrade\",, \"T\")/100,\"\")","v":""},{"$f":"IFERROR(RANK($M256,$M$2:M$507)+COUNTIF($M$2:M256,M256)-1,\"\")","v":""},"",255,"",{"$f":"IF(Q256=\"\",\"\",RTD(\"cqg.rtd\", ,\"ContractData\",Q256, \"LongDescription\",, \"T\"))","v":""},{"$f":"IFERROR(RTD(\"cqg.rtd\", ,\"ContractData\",Q256, \"PerCentNetLastTrade\",, \"T\")/100,\"\")","v":""},0]
[256,{"$f":"IFERROR(VLOOKUP(A257,Data!$H$2:$J$507,3,FALSE),\"\")","v":""},{"$f":"IFERROR(RTD(\"cqg.rtd\", ,\"ContractData\",B257, \"PerCentNetLastTrade\",, \"T\")/100,\"\")","v":""},{"$f":"IFERROR(RANK($C257,$C$2:C$507)+COUNTIF($C$2:C257,C257)-1,\"\")","v":""},"",256,"",{"$f":"IF(G257=\"\",\"\",RTD(\"cqg.rtd\", ,\"ContractData\",G257, \"LongDescription\",, \"T\"))","v":""},{"$f":"IFERROR(RTD(\"cqg.rtd\", ,\"ContractData\",G257, \"PerCentNetLastTrade\",, \"T\")/100,\"\")","v":""},0,256,{"$f":"IFERROR(VLOOKUP(A257,Data!$I$2:$J$507,2,FALSE),\"\")","v":""},{"$f":"IFERROR(RTD(\"cqg.rtd\", ,\"ContractData\",L257, \"PerCentNetLastTrade\",, \"T\")/100,\"\")","v":""},{"$f":"IFERROR(RANK($M257,$M$2:M$507)+COUNTIF($M$2:M257,M257)-1,\"\")","v":""},"",256,"",{"$f":"IF(Q257=\"\",\"\",RTD(\"cqg.rtd\", ,\"ContractData\",Q257, \"LongDescription\",, \"T\"))","v":""},{"$f":"IFERROR(RTD(\"cqg.rtd\", ,\"ContractData\",Q257, \"PerCentNetLastTrade\",, \"T\")/100,\"\")","v":""},0]
[257,{"$f":"IFERROR(VLOOKUP(A258,Data!$H$2:$J$507,3,FALSE),\"\")","v":""},{"$f":"IFERROR(RTD(\"cqg.rtd\", ,\"ContractData\",B258, \"PerCentNetLastTrade\",, \"T\")/100,\"\")","v":""},{"$f":"IFERROR(RANK($C258,$C$2:C$507)+COUNTIF($C$2:C258,C258)-1,\"\")","v":""},"",257,"",{"$f":"IF(G258=\"\",\"\",RTD(\"cqg.rtd\", ,\"ContractData\",G258, \"LongDescription\",, \"T\"))","v":""},{"$f":"IFERROR(RTD(\"cqg.rtd\", ,\"ContractData\",G258, \"PerCentNetLastTrade\",, \"T\")/100,\"\")","v":""},0,257,{"$f":"IFERROR(VLOOKUP(A258,Data!$I$2:$J$507,2,FALSE),\"\")","v":""},{"$f":"IFERROR(RTD(\"cqg.rtd\", ,\"ContractData\",L258, \"PerCentNetLastTrade\",, \"T\")/100,\"\")","v":""},{"$f":"IFERROR(RANK($M258,$M$2:M$507)+COUNTIF($M$2:M258,M258)-1,\"\")","v":""},"",257,"",{"$f":"IF(Q258=\"\",\"\",RTD(\"cqg.rtd\", ,\"ContractData\",Q258, \"LongDescription\",, \"T\"))","v":""},{"$f":"IFERROR(RTD(\"cqg.rtd\", ,\"ContractData\",Q258, \"PerCentNetLastTrade\",, \"T\")/100,\"\")","v":""},0]
[258,{"$f":"IFERROR(VLOOKUP(A259,Data!$H$2:$J$507,3,FALSE),\"\")","v":""},{"$f":"IFERROR(RTD(\"cqg.rtd\", ,\"ContractData\",B259, \"PerCentNetLastTrade\",, \"T\")/100,\"\")","v":""},{"$f":"IFERROR(RANK($C259,$C$2:C$507)+COUNTIF($C$2:C259,C259)-1,\"\")","v":""},"",258,{"$f":"IFERROR(VLOOKUP(F259,$D$2:$E$507,2,FALSE),\"\")","v":""},{"$f":"IF(G259=\"\",\"\",RTD(\"cqg.rtd\", ,\"ContractData\",G259, \"LongDescription\",, \"T\"))","v":""},{"$f":"IFERROR(RTD(\"cqg.rtd\", ,\"ContractData\",G259, \"PerCentNetLastTrade\",, \"T\")/100,\"\")","v":""},0,258,{"$f":"IFERROR(VLOOKUP(A259,Data!$I$2:$J$507,2,FALSE),\"\")","v":""},{"$f":"IFERROR(RTD(\"cqg.rtd\", ,\"ContractData\",L259, \"PerCentNetLastTrade\",, \"T\")/100,\"\")","v":""},{"$f":"IFERROR(RANK($M259,$M$2:M$507)+COUNTIF($M$2:M259,M259)-1,\"\")","v":""},"",258,{"$f":"IFERROR(VLOOKUP(P259,$N$2:$O$507,2,FALSE),\"\")","v":""},{"$f":"IF(Q259=\"\",\"\",RTD(\"cqg.rtd\", ,\"ContractData\",Q259, \"LongDescription\",, \"T\"))","v":""},{"$f":"IFERROR(RTD(\"cqg.rtd\", ,\"ContractData\",Q259, \"PerCentNetLastTrade\",, \"T\")/100,\"\")","v":""},{"$f":"IF(S259<>\"\",1,0)","v":0}]
[{"$f":"A259+1","v":259},{"$f":"IFERROR(VLOOKUP(A260,Data!$H$2:$J$507,3,FALSE),\"\")","v":""},{"$f":"IFERROR(RTD(\"cqg.rtd\", ,\"ContractData\",B260, \"PerCentNetLastTrade\",, \"T\")/100,\"\")","v":""},{"$f":"IFERROR(RANK($C260,$C$2:C$507)+COUNTIF($C$2:C260,C260)-1,\"\")","v":""},"",{"$f":"F259+1","v":259},"",{"$f":"IF(G260=\"\",\"\",RTD(\"cqg.rtd\", ,\"ContractData\",G260, \"LongDescription\",, \"T\"))","v":""},{"$f":"IFERROR(RTD(\"cqg.rtd\", ,\"ContractData\",G260, \"PerCentNetLastTrade\",, \"T\")/100,\"\")","v":""},0,{"$f":"K259+1","v":259},{"$f":"IFERROR(VLOOKUP(A260,Data!$I$2:$J$507,2,FALSE),\"\")","v":""},{"$f":"IFERROR(RTD(\"cqg.rtd\", ,\"ContractData\",L260, \"PerCentNetLastTrade\",, \"T\")/100,\"\")","v":""},{"$f":"IFERROR(RANK($M260,$M$2:M$507)+COUNTIF($M$2:M260,M260)-1,\"\")","v":""},"",{"$f":"P259+1","v":259},"",{"$f":"IF(Q260=\"\",\"\",RTD(\"cqg.rtd\", ,\"ContractData\",Q260, \"LongDescription\",, \"T\"))","v":""},{"$f":"IFERROR(RTD(\"cqg.rtd\", ,\"ContractData\",Q260, \"PerCentNetLastTrade\",, \"T\")/100,\"\")","v":""},0]
[260,{"$f":"IFERROR(VLOOKUP(A261,Data!$H$2:$J$507,3,FALSE),\"\")","v":""},{"$f":"IFERROR(RTD(\"cqg.rtd\", ,\"ContractData\",B261, \"PerCentNetLastTrade\",, \"T\")/100,\"\")","v":""},{"$f":"IFERROR(RANK($C261,$C$2:C$507)+COUNTIF($C$2:C261,C261)-1,\"\")","v":""},"",260,"",{"$f":"IF(G261=\"\",\"\",RTD(\"cqg.rtd\", ,\"ContractData\",G261, \"LongDescription\",, \"T\"))","v":""},{"$f":"IFERROR(RTD(\"cqg.rtd\", ,\"ContractData\",G261, \"PerCentNetLastTrade\",, \"T\")/100,\"\")","v":""},0,260,{"$f":"IFERROR(VLOOKUP(A261,Data!$I$2:$J$507,2,FALSE),\"\")","v":""},{"$f":"IFERROR(RTD(\"cqg.rtd\", ,\"ContractData\",L261, \"PerCentNetLastTrade\",, \"T\")/100,\"\")","v":""},{"$f":"IFERROR(RANK($M261,$M$2:M$507)+COUNTIF($M$2:M261,M261)-1,\"\")","v":""},"",260,"",{"$f":"IF(Q261=\"\",\"\",RTD(\"cqg.rtd\", ,\"ContractData\",Q261, \"LongDescription\",, \"T\"))","v":""},{"$f":"IFERROR(RTD(\"cqg.rtd\", ,\"ContractData\",Q261, \"PerCentNetLastTrade\",, \"T\")/100,\"\")","v":""},0]
[261,{"$f":"IFERROR(VLOOKUP(A262,Data!$H$2:$J$507,3,FALSE),\"\")","v":""},{"$f":"IFERROR(RTD(\"cqg.rtd\", ,\"ContractData\",B262, \"PerCentNetLastTrade\",, \"T\")/100,\"\")","v":""},{"$f":"IFERROR(RANK($C262,$C$2:C$507)+COUNTIF($C$2:C262,C262)-1,\"\")","v":""},"",261,"",{"$f":"IF(G262=\"\",\"\",RTD(\"cqg.rtd\", ,\"ContractData\",G262, \"LongDescription\",, \"T\"))","v":""},{"$f":"IFERROR(RTD(\"cqg.rtd\", ,\"ContractData\",G262, \"PerCentNetLastTrade\",, \"T\")/100,\"\")","v":""},0,261,{"$f":"IFERROR(VLOOKUP(A262,Data!$I$2:$J$507,2,FALSE),\"\")","v":""},{"$f":"IFERROR(RTD(\"cqg.rtd\", ,\"ContractData\",L262, \"PerCentNetLastTrade\",, \"T\")/100,\"\")","v":""},{"$f":"IFERROR(RANK($M262,$M$2:M$507)+COUNTIF($M$2:M262,M262)-1,\"\")","v":""},"",261,"",{"$f":"IF(Q262=\"\",\"\",RTD(\"cqg.rtd\", ,\"ContractData\",Q262, \"LongDescription\",, \"T\"))","v":""},{"$f":"IFERROR(RTD(\"cqg.rtd\", ,\"ContractData\",Q262, \"PerCentNetLastTrade\",, \"T\")/100,\"\")","v":""},0]
[262,{"$f":"IFERROR(VLOOKUP(A263,Data!$H$2:$J$507,3,FALSE),\"\")","v":""},{"$f":"IFERROR(RTD(\"cqg.rtd\", ,\"ContractData\",B263, \"PerCentNetLastTrade\",, \"T\")/100,\"\")","v":""},{"$f":"IFERROR(RANK($C263,$C$2:C$507)+COUNTIF($C$2:C263,C263)-1,\"\")","v":""},"",262,"",{"$f":"IF(G263=\"\",\"\",RTD(\"cqg.rtd\", ,\"ContractData\",G263, \"LongDescription\",, \"T\"))","v":""},{"$f":"IFERROR(RTD(\"cqg.rtd\", ,\"ContractData\",G263, \"PerCentNetLastTrade\",, \"T\")/100,\"\")","v":""},0,262,{"$f":"IFERROR(VLOOKUP(A263,Data!$I$2:$J$507,2,FALSE),\"\")","v":""},{"$f":"IFERROR(RTD(\"cqg.rtd\", ,\"ContractData\",L263, \"PerCentNetLastTrade\",, \"T\")/100,\"\")","v":""},{"$f":"IFERROR(RANK($M263,$M$2:M$507)+COUNTIF($M$2:M263,M263)-1,\"\")","v":""},"",262,"",{"$f":"IF(Q263=\"\",\"\",RTD(\"cqg.rtd\", ,\"ContractData\",Q263, \"LongDescription\",, \"T\"))","v":""},{"$f":"IFERROR(RTD(\"cqg.rtd\", ,\"ContractData\",Q263, \"PerCentNetLastTrade\",, \"T\")/100,\"\")","v":""},0]
[263,{"$f":"IFERROR(VLOOKUP(A264,Data!$H$2:$J$507,3,FALSE),\"\")","v":""},{"$f":"IFERROR(RTD(\"cqg.rtd\", ,\"ContractData\",B264, \"PerCentNetLastTrade\",, \"T\")/100,\"\")","v":""},{"$f":"IFERROR(RANK($C264,$C$2:C$507)+COUNTIF($C$2:C264,C264)-1,\"\")","v":""},"",263,"",{"$f":"IF(G264=\"\",\"\",RTD(\"cqg.rtd\", ,\"ContractData\",G264, \"LongDescription\",, \"T\"))","v":""},{"$f":"IFERROR(RTD(\"cqg.rtd\", ,\"ContractData\",G264, \"PerCentNetLastTrade\",, \"T\")/100,\"\")","v":""},0,263,{"$f":"IFERROR(VLOOKUP(A264,Data!$I$2:$J$507,2,FALSE),\"\")","v":""},{"$f":"IFERROR(RTD(\"cqg.rtd\", ,\"ContractData\",L264, \"PerCentNetLastTrade\",, \"T\")/100,\"\")","v":""},{"$f":"IFERROR(RANK($M264,$M$2:M$507)+COUNTIF($M$2:M264,M264)-1,\"\")","v":""},"",263,"",{"$f":"IF(Q264=\"\",\"\",RTD(\"cqg.rtd\", ,\"ContractData\",Q264, \"LongDescription\",, \"T\"))","v":""},{"$f":"IFERROR(RTD(\"cqg.rtd\", ,\"ContractData\",Q264, \"PerCentNetLastTrade\",, \"T\")/100,\"\")","v":""},0]
[264,{"$f":"IFERROR(VLOOKUP(A265,Data!$H$2:$J$507,3,FALSE),\"\")","v":""},{"$f":"IFERROR(RTD(\"cqg.rtd\", ,\"ContractData\",B265, \"PerCentNetLastTrade\",, \"T\")/100,\"\")","v":""},{"$f":"IFERROR(RANK($C265,$C$2:C$507)+COUNTIF($C$2:C265,C265)-1,\"\")","v":""},"",264,"",{"$f":"IF(G265=\"\",\"\",RTD(\"cqg.rtd\", ,\"ContractData\",G265, \"LongDescription\",, \"T\"))","v":""},{"$f":"IFERROR(RTD(\"cqg.rtd\", ,\"ContractData\",G265, \"PerCentNetLastTrade\",, \"T\")/100,\"\")","v":""},0,264,{"$f":"IFERROR(VLOOKUP(A265,Data!$I$2:$J$507,2,FALSE),\"\")","v":""},{"$f":"IFERROR(RTD(\"cqg.rtd\", ,\"ContractData\",L265, \"PerCentNetLastTrade\",, \"T\")/100,\"\")","v":""},{"$f":"IFERROR(RANK($M265,$M$2:M$507)+COUNTIF($M$2:M265,M265)-1,\"\")","v":""},"",264,"",{"$f":"IF(Q265=\"\",\"\",RTD(\"cqg.rtd\", ,\"ContractData\",Q265, \"LongDescription\",, \"T\"))","v":""},{"$f":"IFERROR(RTD(\"cqg.rtd\", ,\"ContractData\",Q265, \"PerCentNetLastTrade\",, \"T\")/100,\"\")","v":""},0]
[265,{"$f":"IFERROR(VLOOKUP(A266,Data!$H$2:$J$507,3,FALSE),\"\")","v":""},{"$f":"IFERROR(RTD(\"cqg.rtd\", ,\"ContractData\",B266, \"PerCentNetLastTrade\",, \"T\")/100,\"\")","v":""},{"$f":"IFERROR(RANK($C266,$C$2:C$507)+COUNTIF($C$2:C266,C266)-1,\"\")","v":""},"",265,"",{"$f":"IF(G266=\"\",\"\",RTD(\"cqg.rtd\", ,\"ContractData\",G266, \"LongDescription\",, \"T\"))","v":""},{"$f":"IFERROR(RTD(\"cqg.rtd\", ,\"ContractData\",G266, \"PerCentNetLastTrade\",, \"T\")/100,\"\")","v":""},0,265,{"$f":"IFERROR(VLOOKUP(A266,Data!$I$2:$J$507,2,FALSE),\"\")","v":""},{"$f":"IFERROR(RTD(\"cqg.rtd\", ,\"ContractData\",L266, \"PerCentNetLastTrade\",, \"T\")/100,\"\")","v":""},{"$f":"IFERROR(RANK($M266,$M$2:M$507)+COUNTIF($M$2:M266,M266)-1,\"\")","v":""},"",265,"",{"$f":"IF(Q266=\"\",\"\",RTD(\"cqg.rtd\", ,\"ContractData\",Q266, \"LongDescription\",, \"T\"))","v":""},{"$f":"IFERROR(RTD(\"cqg.rtd\", ,\"ContractData\",Q266, \"PerCentNetLastTrade\",, \"T\")/100,\"\")","v":""},0]
[266,{"$f":"IFERROR(VLOOKUP(A267,Data!$H$2:$J$507,3,FALSE),\"\")","v":""},{"$f":"IFERROR(RTD(\"cqg.rtd\", ,\"ContractData\",B267, \"PerCentNetLastTrade\",, \"T\")/100,\"\")","v":""},{"$f":"IFERROR(RANK($C267,$C$2:C$507)+COUNTIF($C$2:C267,C267)-1,\"\")","v":""},"",266,"",{"$f":"IF(G267=\"\",\"\",RTD(\"cqg.rtd\", ,\"ContractData\",G267, \"LongDescription\",, \"T\"))","v":""},{"$f":"IFERROR(RTD(\"cqg.rtd\", ,\"ContractData\",G267, \"PerCentNetLastTrade\",, \"T\")/100,\"\")","v":""},0,266,{"$f":"IFERROR(VLOOKUP(A267,Data!$I$2:$J$507,2,FALSE),\"\")","v":""},{"$f":"IFERROR(RTD(\"cqg.rtd\", ,\"ContractData\",L267, \"PerCentNetLastTrade\",, \"T\")/100,\"\")","v":""},{"$f":"IFERROR(RANK($M267,$M$2:M$507)+COUNTIF($M$2:M267,M267)-1,\"\")","v":""},"",266,"",{"$f":"IF(Q267=\"\",\"\",RTD(\"cqg.rtd\", ,\"ContractData\",Q267, \"LongDescription\",, \"T\"))","v":""},{"$f":"IFERROR(RTD(\"cqg.rtd\", ,\"ContractData\",Q267, \"PerCentNetLastTrade\",, \"T\")/100,\"\")","v":""},0]
[267,{"$f":"IFERROR(VLOOKUP(A268,Data!$H$2:$J$507,3,FALSE),\"\")","v":""},{"$f":"IFERROR(RTD(\"cqg.rtd\", ,\"ContractData\",B268, \"PerCentNetLastTrade\",, \"T\")/100,\"\")","v":""},{"$f":"IFERROR(RANK($C268,$C$2:C$507)+COUNTIF($C$2:C268,C268)-1,\"\")","v":""},"",267,"",{"$f":"IF(G268=\"\",\"\",RTD(\"cqg.rtd\", ,\"ContractData\",G268, \"LongDescription\",, \"T\"))","v":""},{"$f":"IFERROR(RTD(\"cqg.rtd\", ,\"ContractData\",G268, \"PerCentNetLastTrade\",, \"T\")/100,\"\")","v":""},0,267,{"$f":"IFERROR(VLOOKUP(A268,Data!$I$2:$J$507,2,FALSE),\"\")","v":""},{"$f":"IFERROR(RTD(\"cqg.rtd\", ,\"ContractData\",L268, \"PerCentNetLastTrade\",, \"T\")/100,\"\")","v":""},{"$f":"IFERROR(RANK($M268,$M$2:M$507)+COUNTIF($M$2:M268,M268)-1,\"\")","v":""},"",267,"",{"$f":"IF(Q268=\"\",\"\",RTD(\"cqg.rtd\", ,\"ContractData\",Q268, \"LongDescription\",, \"T\"))","v":""},{"$f":"IFERROR(RTD(\"cqg.rtd\", ,\"ContractData\",Q268, \"PerCentNetLastTrade\",, \"T\")/100,\"\")","v":""},0]
[268,{"$f":"IFERROR(VLOOKUP(A269,Data!$H$2:$J$507,3,FALSE),\"\")","v":""},{"$f":"IFERROR(RTD(\"cqg.rtd\", ,\"ContractData\",B269, \"PerCentNetLastTrade\",, \"T\")/100,\"\")","v":""},{"$f":"IFERROR(RANK($C269,$C$2:C$507)+COUNTIF($C$2:C269,C269)-1,\"\")","v":""},"",268,"",{"$f":"IF(G269=\"\",\"\",RTD(\"cqg.rtd\", ,\"ContractData\",G269, \"LongDescription\",, \"T\"))","v":""},{"$f":"IFERROR(RTD(\"cqg.rtd\", ,\"ContractData\",G269, \"PerCentNetLastTrade\",, \"T\")/100,\"\")","v":""},0,268,{"$f":"IFERROR(VLOOKUP(A269,Data!$I$2:$J$507,2,FALSE),\"\")","v":""},{"$f":"IFERROR(RTD(\"cqg.rtd\", ,\"ContractData\",L269, \"PerCentNetLastTrade\",, \"T\")/100,\"\")","v":""},{"$f":"IFERROR(RANK($M269,$M$2:M$507)+COUNTIF($M$2:M269,M269)-1,\"\")","v":""},"",268,"",{"$f":"IF(Q269=\"\",\"\",RTD(\"cqg.rtd\", ,\"ContractData\",Q269, \"LongDescription\",, \"T\"))","v":""},{"$f":"IFERROR(RTD(\"cqg.rtd\", ,\"ContractData\",Q269, \"PerCentNetLastTrade\",, \"T\")/100,\"\")","v":""},0]
[269,{"$f":"IFERROR(VLOOKUP(A270,Data!$H$2:$J$507,3,FALSE),\"\")","v":""},{"$f":"IFERROR(RTD(\"cqg.rtd\", ,\"ContractData\",B270, \"PerCentNetLastTrade\",, \"T\")/100,\"\")","v":""},{"$f":"IFERROR(RANK($C270,$C$2:C$507)+COUNTIF($C$2:C270,C270)-1,\"\")","v":""},"",269,"",{"$f":"IF(G270=\"\",\"\",RTD(\"cqg.rtd\", ,\"ContractData\",G270, \"LongDescription\",, \"T\"))","v":""},{"$f":"IFERROR(RTD(\"cqg.rtd\", ,\"ContractData\",G270, \"PerCentNetLastTrade\",, \"T\")/100,\"\")","v":""},0,269,{"$f":"IFERROR(VLOOKUP(A270,Data!$I$2:$J$507,2,FALSE),\"\")","v":""},{"$f":"IFERROR(RTD(\"cqg.rtd\", ,\"ContractData\",L270, \"PerCentNetLastTrade\",, \"T\")/100,\"\")","v":""},{"$f":"IFERROR(RANK($M270,$M$2:M$507)+COUNTIF($M$2:M270,M270)-1,\"\")","v":""},"",269,"",{"$f":"IF(Q270=\"\",\"\",RTD(\"cqg.rtd\", ,\"ContractData\",Q270, \"LongDescription\",, \"T\"))","v":""},{"$f":"IFERROR(RTD(\"cqg.rtd\", ,\"ContractData\",Q270, \"PerCentNetLastTrade\",, \"T\")/100,\"\")","v":""},0]
[270,{"$f":"IFERROR(VLOOKUP(A271,Data!$H$2:$J$507,3,FALSE),\"\")","v":""},{"$f":"IFERROR(RTD(\"cqg.rtd\", ,\"ContractData\",B271, \"PerCentNetLastTrade\",, \"T\")/100,\"\")","v":""},{"$f":"IFERROR(RANK($C271,$C$2:C$507)+COUNTIF($C$2:C271,C271)-1,\"\")","v":""},"",270,"",{"$f":"IF(G271=\"\",\"\",RTD(\"cqg.rtd\", ,\"ContractData\",G271, \"LongDescription\",, \"T\"))","v":""},{"$f":"IFERROR(RTD(\"cqg.rtd\", ,\"ContractData\",G271, \"PerCentNetLastTrade\",, \"T\")/100,\"\")","v":""},0,270,{"$f":"IFERROR(VLOOKUP(A271,Data!$I$2:$J$507,2,FALSE),\"\")","v":""},{"$f":"IFERROR(RTD(\"cqg.rtd\", ,\"ContractData\",L271, \"PerCentNetLastTrade\",, \"T\")/100,\"\")","v":""},{"$f":"IFERROR(RANK($M271,$M$2:M$507)+COUNTIF($M$2:M271,M271)-1,\"\")","v":""},"",270,"",{"$f":"IF(Q271=\"\",\"\",RTD(\"cqg.rtd\", ,\"ContractData\",Q271, \"LongDescription\",, \"T\"))","v":""},{"$f":"IFERROR(RTD(\"cqg.rtd\", ,\"ContractData\",Q271, \"PerCentNetLastTrade\",, \"T\")/100,\"\")","v":""},0]
[271,{"$f":"IFERROR(VLOOKUP(A272,Data!$H$2:$J$507,3,FALSE),\"\")","v":""},{"$f":"IFERROR(RTD(\"cqg.rtd\", ,\"ContractData\",B272, \"PerCentNetLastTrade\",, \"T\")/100,\"\")","v":""},{"$f":"IFERROR(RANK($C272,$C$2:C$507)+COUNTIF($C$2:C272,C272)-1,\"\")","v":""},"",271,"",{"$f":"IF(G272=\"\",\"\",RTD(\"cqg.rtd\", ,\"ContractData\",G272, \"LongDescription\",, \"T\"))","v":""},{"$f":"IFERROR(RTD(\"cqg.rtd\", ,\"ContractData\",G272, \"PerCentNetLastTrade\",, \"T\")/100,\"\")","v":""},0,271,{"$f":"IFERROR(VLOOKUP(A272,Data!$I$2:$J$507,2,FALSE),\"\")","v":""},{"$f":"IFERROR(RTD(\"cqg.rtd\", ,\"ContractData\",L272, \"PerCentNetLastTrade\",, \"T\")/100,\"\")","v":""},{"$f":"IFERROR(RANK($M272,$M$2:M$507)+COUNTIF($M$2:M272,M272)-1,\"\")","v":""},"",271,"",{"$f":"IF(Q272=\"\",\"\",RTD(\"cqg.rtd\", ,\"ContractData\",Q272, \"LongDescription\",, \"T\"))","v":""},{"$f":"IFERROR(RTD(\"cqg.rtd\", ,\"ContractData\",Q272, \"PerCentNetLastTrade\",, \"T\")/100,\"\")","v":""},0]
[272,{"$f":"IFERROR(VLOOKUP(A273,Data!$H$2:$J$507,3,FALSE),\"\")","v":""},{"$f":"IFERROR(RTD(\"cqg.rtd\", ,\"ContractData\",B273, \"PerCentNetLastTrade\",, \"T\")/100,\"\")","v":""},{"$f":"IFERROR(RANK($C273,$C$2:C$507)+COUNTIF($C$2:C273,C273)-1,\"\")","v":""},"",272,"",{"$f":"IF(G273=\"\",\"\",RTD(\"cqg.rtd\", ,\"ContractData\",G273, \"LongDescription\",, \"T\"))","v":""},{"$f":"IFERROR(RTD(\"cqg.rtd\", ,\"ContractData\",G273, \"PerCentNetLastTrade\",, \"T\")/100,\"\")","v":""},0,272,{"$f":"IFERROR(VLOOKUP(A273,Data!$I$2:$J$507,2,FALSE),\"\")","v":""},{"$f":"IFERROR(RTD(\"cqg.rtd\", ,\"ContractData\",L273, \"PerCentNetLastTrade\",, \"T\")/100,\"\")","v":""},{"$f":"IFERROR(RANK($M273,$M$2:M$507)+COUNTIF($M$2:M273,M273)-1,\"\")","v":""},"",272,"",{"$f":"IF(Q273=\"\",\"\",RTD(\"cqg.rtd\", ,\"ContractData\",Q273, \"LongDescription\",, \"T\"))","v":""},{"$f":"IFERROR(RTD(\"cqg.rtd\", ,\"ContractData\",Q273, \"PerCentNetLastTrade\",, \"T\")/100,\"\")","v":""},0]
[273,{"$f":"IFERROR(VLOOKUP(A274,Data!$H$2:$J$507,3,FALSE),\"\")","v":""},{"$f":"IFERROR(RTD(\"cqg.rtd\", ,\"ContractData\",B274, \"PerCentNetLastTrade\",, \"T\")/100,\"\")","v":""},{"$f":"IFERROR(RANK($C274,$C$2:C$507)+COUNTIF($C$2:C274,C274)-1,\"\")","v":""},"",273,"",{"$f":"IF(G274=\"\",\"\",RTD(\"cqg.rtd\", ,\"ContractData\",G274, \"LongDescription\",, \"T\"))","v":""},{"$f":"IFERROR(RTD(\"cqg.rtd\", ,\"ContractData\",G274, \"PerCentNetLastTrade\",, \"T\")/100,\"\")","v":""},0,273,{"$f":"IFERROR(VLOOKUP(A274,Data!$I$2:$J$507,2,FALSE),\"\")","v":""},{"$f":"IFERROR(RTD(\"cqg.rtd\", ,\"ContractData\",L274, \"PerCentNetLastTrade\",, \"T\")/100,\"\")","v":""},{"$f":"IFERROR(RANK($M274,$M$2:M$507)+COUNTIF($M$2:M274,M274)-1,\"\")","v":""},"",273,"",{"$f":"IF(Q274=\"\",\"\",RTD(\"cqg.rtd\", ,\"ContractData\",Q274, \"LongDescription\",, \"T\"))","v":""},{"$f":"IFERROR(RTD(\"cqg.rtd\", ,\"ContractData\",Q274, \"PerCentNetLastTrade\",, \"T\")/100,\"\")","v":""},0]
[274,{"$f":"IFERROR(VLOOKUP(A275,Data!$H$2:$J$507,3,FALSE),\"\")","v":""},{"$f":"IFERROR(RTD(\"cqg.rtd\", ,\"ContractData\",B275, \"PerCentNetLastTrade\",, \"T\")/100,\"\")","v":""},{"$f":"IFERROR(RANK($C275,$C$2:C$507)+COUNTIF($C$2:C275,C275)-1,\"\")","v":""},"",274,"",{"$f":"IF(G275=\"\",\"\",RTD(\"cqg.rtd\", ,\"ContractData\",G275, \"LongDescription\",, \"T\"))","v":""},{"$f":"IFERROR(RTD(\"cqg.rtd\", ,\"ContractData\",G275, \"PerCentNetLastTrade\",, \"T\")/100,\"\")","v":""},0,274,{"$f":"IFERROR(VLOOKUP(A275,Data!$I$2:$J$507,2,FALSE),\"\")","v":""},{"$f":"IFERROR(RTD(\"cqg.rtd\", ,\"ContractData\",L275, \"PerCentNetLastTrade\",, \"T\")/100,\"\")","v":""},{"$f":"IFERROR(RANK($M275,$M$2:M$507)+COUNTIF($M$2:M275,M275)-1,\"\")","v":""},"",274,"",{"$f":"IF(Q275=\"\",\"\",RTD(\"cqg.rtd\", ,\"ContractData\",Q275, \"LongDescription\",, \"T\"))","v":""},{"$f":"IFERROR(RTD(\"cqg.rtd\", ,\"ContractData\",Q275, \"PerCentNetLastTrade\",, \"T\")/100,\"\")","v":""},0]
[275,{"$f":"IFERROR(VLOOKUP(A276,Data!$H$2:$J$507,3,FALSE),\"\")","v":""},{"$f":"IFERROR(RTD(\"cqg.rtd\", ,\"ContractData\",B276, \"PerCentNetLastTrade\",, \"T\")/100,\"\")","v":""},{"$f":"IFERROR(RANK($C276,$C$2:C$507)+COUNTIF($C$2:C276,C276)-1,\"\")","v":""},"",275,"",{"$f":"IF(G276=\"\",\"\",RTD(\"cqg.rtd\", ,\"ContractData\",G276, \"LongDescription\",, \"T\"))","v":""},{"$f":"IFERROR(RTD(\"cqg.rtd\", ,\"ContractData\",G276, \"PerCentNetLastTrade\",, \"T\")/100,\"\")","v":""},0,275,{"$f":"IFERROR(VLOOKUP(A276,Data!$I$2:$J$507,2,FALSE),\"\")","v":""},{"$f":"IFERROR(RTD(\"cqg.rtd\", ,\"ContractData\",L276, \"PerCentNetLastTrade\",, \"T\")/100,\"\")","v":""},{"$f":"IFERROR(RANK($M276,$M$2:M$507)+COUNTIF($M$2:M276,M276)-1,\"\")","v":""},"",275,"",{"$f":"IF(Q276=\"\",\"\",RTD(\"cqg.rtd\", ,\"ContractData\",Q276, \"LongDescription\",, \"T\"))","v":""},{"$f":"IFERROR(RTD(\"cqg.rtd\", ,\"ContractData\",Q276, \"PerCentNetLastTrade\",, \"T\")/100,\"\")","v":""},0]
[276,{"$f":"IFERROR(VLOOKUP(A277,Data!$H$2:$J$507,3,FALSE),\"\")","v":""},{"$f":"IFERROR(RTD(\"cqg.rtd\", ,\"ContractData\",B277, \"PerCentNetLastTrade\",, \"T\")/100,\"\")","v":""},{"$f":"IFERROR(RANK($C277,$C$2:C$507)+COUNTIF($C$2:C277,C277)-1,\"\")","v":""},"",276,"",{"$f":"IF(G277=\"\",\"\",RTD(\"cqg.rtd\", ,\"ContractData\",G277, \"LongDescription\",, \"T\"))","v":""},{"$f":"IFERROR(RTD(\"cqg.rtd\", ,\"ContractData\",G277, \"PerCentNetLastTrade\",, \"T\")/100,\"\")","v":""},0,276,{"$f":"IFERROR(VLOOKUP(A277,Data!$I$2:$J$507,2,FALSE),\"\")","v":""},{"$f":"IFERROR(RTD(\"cqg.rtd\", ,\"ContractData\",L277, \"PerCentNetLastTrade\",, \"T\")/100,\"\")","v":""},{"$f":"IFERROR(RANK($M277,$M$2:M$507)+COUNTIF($M$2:M277,M277)-1,\"\")","v":""},"",276,"",{"$f":"IF(Q277=\"\",\"\",RTD(\"cqg.rtd\", ,\"ContractData\",Q277, \"LongDescription\",, \"T\"))","v":""},{"$f":"IFERROR(RTD(\"cqg.rtd\", ,\"ContractData\",Q277, \"PerCentNetLastTrade\",, \"T\")/100,\"\")","v":""},0]
[277,{"$f":"IFERROR(VLOOKUP(A278,Data!$H$2:$J$507,3,FALSE),\"\")","v":""},{"$f":"IFERROR(RTD(\"cqg.rtd\", ,\"ContractData\",B278, \"PerCentNetLastTrade\",, \"T\")/100,\"\")","v":""},{"$f":"IFERROR(RANK($C278,$C$2:C$507)+COUNTIF($C$2:C278,C278)-1,\"\")","v":""},"",277,"",{"$f":"IF(G278=\"\",\"\",RTD(\"cqg.rtd\", ,\"ContractData\",G278, \"LongDescription\",, \"T\"))","v":""},{"$f":"IFERROR(RTD(\"cqg.rtd\", ,\"ContractData\",G278, \"PerCentNetLastTrade\",, \"T\")/100,\"\")","v":""},0,277,{"$f":"IFERROR(VLOOKUP(A278,Data!$I$2:$J$507,2,FALSE),\"\")","v":""},{"$f":"IFERROR(RTD(\"cqg.rtd\", ,\"ContractData\",L278, \"PerCentNetLastTrade\",, \"T\")/100,\"\")","v":""},{"$f":"IFERROR(RANK($M278,$M$2:M$507)+COUNTIF($M$2:M278,M278)-1,\"\")","v":""},"",277,"",{"$f":"IF(Q278=\"\",\"\",RTD(\"cqg.rtd\", ,\"ContractData\",Q278, \"LongDescription\",, \"T\"))","v":""},{"$f":"IFERROR(RTD(\"cqg.rtd\", ,\"ContractData\",Q278, \"PerCentNetLastTrade\",, \"T\")/100,\"\")","v":""},0]
[278,{"$f":"IFERROR(VLOOKUP(A279,Data!$H$2:$J$507,3,FALSE),\"\")","v":""},{"$f":"IFERROR(RTD(\"cqg.rtd\", ,\"ContractData\",B279, \"PerCentNetLastTrade\",, \"T\")/100,\"\")","v":""},{"$f":"IFERROR(RANK($C279,$C$2:C$507)+COUNTIF($C$2:C279,C279)-1,\"\")","v":""},"",278,"",{"$f":"IF(G279=\"\",\"\",RTD(\"cqg.rtd\", ,\"ContractData\",G279, \"LongDescription\",, \"T\"))","v":""},{"$f":"IFERROR(RTD(\"cqg.rtd\", ,\"ContractData\",G279, \"PerCentNetLastTrade\",, \"T\")/100,\"\")","v":""},0,278,{"$f":"IFERROR(VLOOKUP(A279,Data!$I$2:$J$507,2,FALSE),\"\")","v":""},{"$f":"IFERROR(RTD(\"cqg.rtd\", ,\"ContractData\",L279, \"PerCentNetLastTrade\",, \"T\")/100,\"\")","v":""},{"$f":"IFERROR(RANK($M279,$M$2:M$507)+COUNTIF($M$2:M279,M279)-1,\"\")","v":""},"",278,"",{"$f":"IF(Q279=\"\",\"\",RTD(\"cqg.rtd\", ,\"ContractData\",Q279, \"LongDescription\",, \"T\"))","v":""},{"$f":"IFERROR(RTD(\"cqg.rtd\", ,\"ContractData\",Q279, \"PerCentNetLastTrade\",, \"T\")/100,\"\")","v":""},0]
[279,{"$f":"IFERROR(VLOOKUP(A280,Data!$H$2:$J$507,3,FALSE),\"\")","v":""},{"$f":"IFERROR(RTD(\"cqg.rtd\", ,\"ContractData\",B280, \"PerCentNetLastTrade\",, \"T\")/100,\"\")","v":""},{"$f":"IFERROR(RANK($C280,$C$2:C$507)+COUNTIF($C$2:C280,C280)-1,\"\")","v":""},"",279,"",{"$f":"IF(G280=\"\",\"\",RTD(\"cqg.rtd\", ,\"ContractData\",G280, \"LongDescription\",, \"T\"))","v":""},{"$f":"IFERROR(RTD(\"cqg.rtd\", ,\"ContractData\",G280, \"PerCentNetLastTrade\",, \"T\")/100,\"\")","v":""},0,279,{"$f":"IFERROR(VLOOKUP(A280,Data!$I$2:$J$507,2,FALSE),\"\")","v":""},{"$f":"IFERROR(RTD(\"cqg.rtd\", ,\"ContractData\",L280, \"PerCentNetLastTrade\",, \"T\")/100,\"\")","v":""},{"$f":"IFERROR(RANK($M280,$M$2:M$507)+COUNTIF($M$2:M280,M280)-1,\"\")","v":""},"",279,"",{"$f":"IF(Q280=\"\",\"\",RTD(\"cqg.rtd\", ,\"ContractData\",Q280, \"LongDescription\",, \"T\"))","v":""},{"$f":"IFERROR(RTD(\"cqg.rtd\", ,\"ContractData\",Q280, \"PerCentNetLastTrade\",, \"T\")/100,\"\")","v":""},0]
[280,{"$f":"IFERROR(VLOOKUP(A281,Data!$H$2:$J$507,3,FALSE),\"\")","v":""},{"$f":"IFERROR(RTD(\"cqg.rtd\", ,\"ContractData\",B281, \"PerCentNetLastTrade\",, \"T\")/100,\"\")","v":""},{"$f":"IFERROR(RANK($C281,$C$2:C$507)+COUNTIF($C$2:C281,C281)-1,\"\")","v":""},"",280,"",{"$f":"IF(G281=\"\",\"\",RTD(\"cqg.rtd\", ,\"ContractData\",G281, \"LongDescription\",, \"T\"))","v":""},{"$f":"IFERROR(RTD(\"cqg.rtd\", ,\"ContractData\",G281, \"PerCentNetLastTrade\",, \"T\")/100,\"\")","v":""},0,280,{"$f":"IFERROR(VLOOKUP(A281,Data!$I$2:$J$507,2,FALSE),\"\")","v":""},{"$f":"IFERROR(RTD(\"cqg.rtd\", ,\"ContractData\",L281, \"PerCentNetLastTrade\",, \"T\")/100,\"\")","v":""},{"$f":"IFERROR(RANK($M281,$M$2:M$507)+COUNTIF($M$2:M281,M281)-1,\"\")","v":""},"",280,"",{"$f":"IF(Q281=\"\",\"\",RTD(\"cqg.rtd\", ,\"ContractData\",Q281, \"LongDescription\",, \"T\"))","v":""},{"$f":"IFERROR(RTD(\"cqg.rtd\", ,\"ContractData\",Q281, \"PerCentNetLastTrade\",, \"T\")/100,\"\")","v":""},0]
[281,{"$f":"IFERROR(VLOOKUP(A282,Data!$H$2:$J$507,3,FALSE),\"\")","v":""},{"$f":"IFERROR(RTD(\"cqg.rtd\", ,\"ContractData\",B282, \"PerCentNetLastTrade\",, \"T\")/100,\"\")","v":""},{"$f":"IFERROR(RANK($C282,$C$2:C$507)+COUNTIF($C$2:C282,C282)-1,\"\")","v":""},"",281,"",{"$f":"IF(G282=\"\",\"\",RTD(\"cqg.rtd\", ,\"ContractData\",G282, \"LongDescription\",, \"T\"))","v":""},{"$f":"IFERROR(RTD(\"cqg.rtd\", ,\"ContractData\",G282, \"PerCentNetLastTrade\",, \"T\")/100,\"\")","v":""},0,281,{"$f":"IFERROR(VLOOKUP(A282,Data!$I$2:$J$507,2,FALSE),\"\")","v":""},{"$f":"IFERROR(RTD(\"cqg.rtd\", ,\"ContractData\",L282, \"PerCentNetLastTrade\",, \"T\")/100,\"\")","v":""},{"$f":"IFERROR(RANK($M282,$M$2:M$507)+COUNTIF($M$2:M282,M282)-1,\"\")","v":""},"",281,"",{"$f":"IF(Q282=\"\",\"\",RTD(\"cqg.rtd\", ,\"ContractData\",Q282, \"LongDescription\",, \"T\"))","v":""},{"$f":"IFERROR(RTD(\"cqg.rtd\", ,\"ContractData\",Q282, \"PerCentNetLastTrade\",, \"T\")/100,\"\")","v":""},0]
[282,{"$f":"IFERROR(VLOOKUP(A283,Data!$H$2:$J$507,3,FALSE),\"\")","v":""},{"$f":"IFERROR(RTD(\"cqg.rtd\", ,\"ContractData\",B283, \"PerCentNetLastTrade\",, \"T\")/100,\"\")","v":""},{"$f":"IFERROR(RANK($C283,$C$2:C$507)+COUNTIF($C$2:C283,C283)-1,\"\")","v":""},"",282,"",{"$f":"IF(G283=\"\",\"\",RTD(\"cqg.rtd\", ,\"ContractData\",G283, \"LongDescription\",, \"T\"))","v":""},{"$f":"IFERROR(RTD(\"cqg.rtd\", ,\"ContractData\",G283, \"PerCentNetLastTrade\",, \"T\")/100,\"\")","v":""},0,282,{"$f":"IFERROR(VLOOKUP(A283,Data!$I$2:$J$507,2,FALSE),\"\")","v":""},{"$f":"IFERROR(RTD(\"cqg.rtd\", ,\"ContractData\",L283, \"PerCentNetLastTrade\",, \"T\")/100,\"\")","v":""},{"$f":"IFERROR(RANK($M283,$M$2:M$507)+COUNTIF($M$2:M283,M283)-1,\"\")","v":""},"",282,"",{"$f":"IF(Q283=\"\",\"\",RTD(\"cqg.rtd\", ,\"ContractData\",Q283, \"LongDescription\",, \"T\"))","v":""},{"$f":"IFERROR(RTD(\"cqg.rtd\", ,\"ContractData\",Q283, \"PerCentNetLastTrade\",, \"T\")/100,\"\")","v":""},0]
[283,{"$f":"IFERROR(VLOOKUP(A284,Data!$H$2:$J$507,3,FALSE),\"\")","v":""},{"$f":"IFERROR(RTD(\"cqg.rtd\", ,\"ContractData\",B284, \"PerCentNetLastTrade\",, \"T\")/100,\"\")","v":""},{"$f":"IFERROR(RANK($C284,$C$2:C$507)+COUNTIF($C$2:C284,C284)-1,\"\")","v":""},"",283,"",{"$f":"IF(G284=\"\",\"\",RTD(\"cqg.rtd\", ,\"ContractData\",G284, \"LongDescription\",, \"T\"))","v":""},{"$f":"IFERROR(RTD(\"cqg.rtd\", ,\"ContractData\",G284, \"PerCentNetLastTrade\",, \"T\")/100,\"\")","v":""},0,283,{"$f":"IFERROR(VLOOKUP(A284,Data!$I$2:$J$507,2,FALSE),\"\")","v":""},{"$f":"IFERROR(RTD(\"cqg.rtd\", ,\"ContractData\",L284, \"PerCentNetLastTrade\",, \"T\")/100,\"\")","v":""},{"$f":"IFERROR(RANK($M284,$M$2:M$507)+COUNTIF($M$2:M284,M284)-1,\"\")","v":""},"",283,"",{"$f":"IF(Q284=\"\",\"\",RTD(\"cqg.rtd\", ,\"ContractData\",Q284, \"LongDescription\",, \"T\"))","v":""},{"$f":"IFERROR(RTD(\"cqg.rtd\", ,\"ContractData\",Q284, \"PerCentNetLastTrade\",, \"T\")/100,\"\")","v":""},0]
[284,{"$f":"IFERROR(VLOOKUP(A285,Data!$H$2:$J$507,3,FALSE),\"\")","v":""},{"$f":"IFERROR(RTD(\"cqg.rtd\", ,\"ContractData\",B285, \"PerCentNetLastTrade\",, \"T\")/100,\"\")","v":""},{"$f":"IFERROR(RANK($C285,$C$2:C$507)+COUNTIF($C$2:C285,C285)-1,\"\")","v":""},"",284,"",{"$f":"IF(G285=\"\",\"\",RTD(\"cqg.rtd\", ,\"ContractData\",G285, \"LongDescription\",, \"T\"))","v":""},{"$f":"IFERROR(RTD(\"cqg.rtd\", ,\"ContractData\",G285, \"PerCentNetLastTrade\",, \"T\")/100,\"\")","v":""},0,284,{"$f":"IFERROR(VLOOKUP(A285,Data!$I$2:$J$507,2,FALSE),\"\")","v":""},{"$f":"IFERROR(RTD(\"cqg.rtd\", ,\"ContractData\",L285, \"PerCentNetLastTrade\",, \"T\")/100,\"\")","v":""},{"$f":"IFERROR(RANK($M285,$M$2:M$507)+COUNTIF($M$2:M285,M285)-1,\"\")","v":""},"",284,"",{"$f":"IF(Q285=\"\",\"\",RTD(\"cqg.rtd\", ,\"ContractData\",Q285, \"LongDescription\",, \"T\"))","v":""},{"$f":"IFERROR(RTD(\"cqg.rtd\", ,\"ContractData\",Q285, \"PerCentNetLastTrade\",, \"T\")/100,\"\")","v":""},0]
[285,{"$f":"IFERROR(VLOOKUP(A286,Data!$H$2:$J$507,3,FALSE),\"\")","v":""},{"$f":"IFERROR(RTD(\"cqg.rtd\", ,\"ContractData\",B286, \"PerCentNetLastTrade\",, \"T\")/100,\"\")","v":""},{"$f":"IFERROR(RANK($C286,$C$2:C$507)+COUNTIF($C$2:C286,C286)-1,\"\")","v":""},"",285,"",{"$f":"IF(G286=\"\",\"\",RTD(\"cqg.rtd\", ,\"ContractData\",G286, \"LongDescription\",, \"T\"))","v":""},{"$f":"IFERROR(RTD(\"cqg.rtd\", ,\"ContractData\",G286, \"PerCentNetLastTrade\",, \"T\")/100,\"\")","v":""},0,285,{"$f":"IFERROR(VLOOKUP(A286,Data!$I$2:$J$507,2,FALSE),\"\")","v":""},{"$f":"IFERROR(RTD(\"cqg.rtd\", ,\"ContractData\",L286, \"PerCentNetLastTrade\",, \"T\")/100,\"\")","v":""},{"$f":"IFERROR(RANK($M286,$M$2:M$507)+COUNTIF($M$2:M286,M286)-1,\"\")","v":""},"",285,"",{"$f":"IF(Q286=\"\",\"\",RTD(\"cqg.rtd\", ,\"ContractData\",Q286, \"LongDescription\",, \"T\"))","v":""},{"$f":"IFERROR(RTD(\"cqg.rtd\", ,\"ContractData\",Q286, \"PerCentNetLastTrade\",, \"T\")/100,\"\")","v":""},0]
[286,{"$f":"IFERROR(VLOOKUP(A287,Data!$H$2:$J$507,3,FALSE),\"\")","v":""},{"$f":"IFERROR(RTD(\"cqg.rtd\", ,\"ContractData\",B287, \"PerCentNetLastTrade\",, \"T\")/100,\"\")","v":""},{"$f":"IFERROR(RANK($C287,$C$2:C$507)+COUNTIF($C$2:C287,C287)-1,\"\")","v":""},"",286,"",{"$f":"IF(G287=\"\",\"\",RTD(\"cqg.rtd\", ,\"ContractData\",G287, \"LongDescription\",, \"T\"))","v":""},{"$f":"IFERROR(RTD(\"cqg.rtd\", ,\"ContractData\",G287, \"PerCentNetLastTrade\",, \"T\")/100,\"\")","v":""},0,286,{"$f":"IFERROR(VLOOKUP(A287,Data!$I$2:$J$507,2,FALSE),\"\")","v":""},{"$f":"IFERROR(RTD(\"cqg.rtd\", ,\"ContractData\",L287, \"PerCentNetLastTrade\",, \"T\")/100,\"\")","v":""},{"$f":"IFERROR(RANK($M287,$M$2:M$507)+COUNTIF($M$2:M287,M287)-1,\"\")","v":""},"",286,"",{"$f":"IF(Q287=\"\",\"\",RTD(\"cqg.rtd\", ,\"ContractData\",Q287, \"LongDescription\",, \"T\"))","v":""},{"$f":"IFERROR(RTD(\"cqg.rtd\", ,\"ContractData\",Q287, \"PerCentNetLastTrade\",, \"T\")/100,\"\")","v":""},0]
[287,{"$f":"IFERROR(VLOOKUP(A288,Data!$H$2:$J$507,3,FALSE),\"\")","v":""},{"$f":"IFERROR(RTD(\"cqg.rtd\", ,\"ContractData\",B288, \"PerCentNetLastTrade\",, \"T\")/100,\"\")","v":""},{"$f":"IFERROR(RANK($C288,$C$2:C$507)+COUNTIF($C$2:C288,C288)-1,\"\")","v":""},"",287,"",{"$f":"IF(G288=\"\",\"\",RTD(\"cqg.rtd\", ,\"ContractData\",G288, \"LongDescription\",, \"T\"))","v":""},{"$f":"IFERROR(RTD(\"cqg.rtd\", ,\"ContractData\",G288, \"PerCentNetLastTrade\",, \"T\")/100,\"\")","v":""},0,287,{"$f":"IFERROR(VLOOKUP(A288,Data!$I$2:$J$507,2,FALSE),\"\")","v":""},{"$f":"IFERROR(RTD(\"cqg.rtd\", ,\"ContractData\",L288, \"PerCentNetLastTrade\",, \"T\")/100,\"\")","v":""},{"$f":"IFERROR(RANK($M288,$M$2:M$507)+COUNTIF($M$2:M288,M288)-1,\"\")","v":""},"",287,"",{"$f":"IF(Q288=\"\",\"\",RTD(\"cqg.rtd\", ,\"ContractData\",Q288, \"LongDescription\",, \"T\"))","v":""},{"$f":"IFERROR(RTD(\"cqg.rtd\", ,\"ContractData\",Q288, \"PerCentNetLastTrade\",, \"T\")/100,\"\")","v":""},0]
[288,{"$f":"IFERROR(VLOOKUP(A289,Data!$H$2:$J$507,3,FALSE),\"\")","v":""},{"$f":"IFERROR(RTD(\"cqg.rtd\", ,\"ContractData\",B289, \"PerCentNetLastTrade\",, \"T\")/100,\"\")","v":""},{"$f":"IFERROR(RANK($C289,$C$2:C$507)+COUNTIF($C$2:C289,C289)-1,\"\")","v":""},"",288,"",{"$f":"IF(G289=\"\",\"\",RTD(\"cqg.rtd\", ,\"ContractData\",G289, \"LongDescription\",, \"T\"))","v":""},{"$f":"IFERROR(RTD(\"cqg.rtd\", ,\"ContractData\",G289, \"PerCentNetLastTrade\",, \"T\")/100,\"\")","v":""},0,288,{"$f":"IFERROR(VLOOKUP(A289,Data!$I$2:$J$507,2,FALSE),\"\")","v":""},{"$f":"IFERROR(RTD(\"cqg.rtd\", ,\"ContractData\",L289, \"PerCentNetLastTrade\",, \"T\")/100,\"\")","v":""},{"$f":"IFERROR(RANK($M289,$M$2:M$507)+COUNTIF($M$2:M289,M289)-1,\"\")","v":""},"",288,"",{"$f":"IF(Q289=\"\",\"\",RTD(\"cqg.rtd\", ,\"ContractData\",Q289, \"LongDescription\",, \"T\"))","v":""},{"$f":"IFERROR(RTD(\"cqg.rtd\", ,\"ContractData\",Q289, \"PerCentNetLastTrade\",, \"T\")/100,\"\")","v":""},0]
[289,{"$f":"IFERROR(VLOOKUP(A290,Data!$H$2:$J$507,3,FALSE),\"\")","v":""},{"$f":"IFERROR(RTD(\"cqg.rtd\", ,\"ContractData\",B290, \"PerCentNetLastTrade\",, \"T\")/100,\"\")","v":""},{"$f":"IFERROR(RANK($C290,$C$2:C$507)+COUNTIF($C$2:C290,C290)-1,\"\")","v":""},"",289,"",{"$f":"IF(G290=\"\",\"\",RTD(\"cqg.rtd\", ,\"ContractData\",G290, \"LongDescription\",, \"T\"))","v":""},{"$f":"IFERROR(RTD(\"cqg.rtd\", ,\"ContractData\",G290, \"PerCentNetLastTrade\",, \"T\")/100,\"\")","v":""},0,289,{"$f":"IFERROR(VLOOKUP(A290,Data!$I$2:$J$507,2,FALSE),\"\")","v":""},{"$f":"IFERROR(RTD(\"cqg.rtd\", ,\"ContractData\",L290, \"PerCentNetLastTrade\",, \"T\")/100,\"\")","v":""},{"$f":"IFERROR(RANK($M290,$M$2:M$507)+COUNTIF($M$2:M290,M290)-1,\"\")","v":""},"",289,"",{"$f":"IF(Q290=\"\",\"\",RTD(\"cqg.rtd\", ,\"ContractData\",Q290, \"LongDescription\",, \"T\"))","v":""},{"$f":"IFERROR(RTD(\"cqg.rtd\", ,\"ContractData\",Q290, \"PerCentNetLastTrade\",, \"T\")/100,\"\")","v":""},0]
[290,{"$f":"IFERROR(VLOOKUP(A291,Data!$H$2:$J$507,3,FALSE),\"\")","v":""},{"$f":"IFERROR(RTD(\"cqg.rtd\", ,\"ContractData\",B291, \"PerCentNetLastTrade\",, \"T\")/100,\"\")","v":""},{"$f":"IFERROR(RANK($C291,$C$2:C$507)+COUNTIF($C$2:C291,C291)-1,\"\")","v":""},"",290,"",{"$f":"IF(G291=\"\",\"\",RTD(\"cqg.rtd\", ,\"ContractData\",G291, \"LongDescription\",, \"T\"))","v":""},{"$f":"IFERROR(RTD(\"cqg.rtd\", ,\"ContractData\",G291, \"PerCentNetLastTrade\",, \"T\")/100,\"\")","v":""},0,290,{"$f":"IFERROR(VLOOKUP(A291,Data!$I$2:$J$507,2,FALSE),\"\")","v":""},{"$f":"IFERROR(RTD(\"cqg.rtd\", ,\"ContractData\",L291, \"PerCentNetLastTrade\",, \"T\")/100,\"\")","v":""},{"$f":"IFERROR(RANK($M291,$M$2:M$507)+COUNTIF($M$2:M291,M291)-1,\"\")","v":""},"",290,"",{"$f":"IF(Q291=\"\",\"\",RTD(\"cqg.rtd\", ,\"ContractData\",Q291, \"LongDescription\",, \"T\"))","v":""},{"$f":"IFERROR(RTD(\"cqg.rtd\", ,\"ContractData\",Q291, \"PerCentNetLastTrade\",, \"T\")/100,\"\")","v":""},0]
[291,{"$f":"IFERROR(VLOOKUP(A292,Data!$H$2:$J$507,3,FALSE),\"\")","v":""},{"$f":"IFERROR(RTD(\"cqg.rtd\", ,\"ContractData\",B292, \"PerCentNetLastTrade\",, \"T\")/100,\"\")","v":""},{"$f":"IFERROR(RANK($C292,$C$2:C$507)+COUNTIF($C$2:C292,C292)-1,\"\")","v":""},"",291,"",{"$f":"IF(G292=\"\",\"\",RTD(\"cqg.rtd\", ,\"ContractData\",G292, \"LongDescription\",, \"T\"))","v":""},{"$f":"IFERROR(RTD(\"cqg.rtd\", ,\"ContractData\",G292, \"PerCentNetLastTrade\",, \"T\")/100,\"\")","v":""},0,291,{"$f":"IFERROR(VLOOKUP(A292,Data!$I$2:$J$507,2,FALSE),\"\")","v":""},{"$f":"IFERROR(RTD(\"cqg.rtd\", ,\"ContractData\",L292, \"PerCentNetLastTrade\",, \"T\")/100,\"\")","v":""},{"$f":"IFERROR(RANK($M292,$M$2:M$507)+COUNTIF($M$2:M292,M292)-1,\"\")","v":""},"",291,"",{"$f":"IF(Q292=\"\",\"\",RTD(\"cqg.rtd\", ,\"ContractData\",Q292, \"LongDescription\",, \"T\"))","v":""},{"$f":"IFERROR(RTD(\"cqg.rtd\", ,\"ContractData\",Q292, \"PerCentNetLastTrade\",, \"T\")/100,\"\")","v":""},0]
[292,{"$f":"IFERROR(VLOOKUP(A293,Data!$H$2:$J$507,3,FALSE),\"\")","v":""},{"$f":"IFERROR(RTD(\"cqg.rtd\", ,\"ContractData\",B293, \"PerCentNetLastTrade\",, \"T\")/100,\"\")","v":""},{"$f":"IFERROR(RANK($C293,$C$2:C$507)+COUNTIF($C$2:C293,C293)-1,\"\")","v":""},"",292,"",{"$f":"IF(G293=\"\",\"\",RTD(\"cqg.rtd\", ,\"ContractData\",G293, \"LongDescription\",, \"T\"))","v":""},{"$f":"IFERROR(RTD(\"cqg.rtd\", ,\"ContractData\",G293, \"PerCentNetLastTrade\",, \"T\")/100,\"\")","v":""},0,292,{"$f":"IFERROR(VLOOKUP(A293,Data!$I$2:$J$507,2,FALSE),\"\")","v":""},{"$f":"IFERROR(RTD(\"cqg.rtd\", ,\"ContractData\",L293, \"PerCentNetLastTrade\",, \"T\")/100,\"\")","v":""},{"$f":"IFERROR(RANK($M293,$M$2:M$507)+COUNTIF($M$2:M293,M293)-1,\"\")","v":""},"",292,"",{"$f":"IF(Q293=\"\",\"\",RTD(\"cqg.rtd\", ,\"ContractData\",Q293, \"LongDescription\",, \"T\"))","v":""},{"$f":"IFERROR(RTD(\"cqg.rtd\", ,\"ContractData\",Q293, \"PerCentNetLastTrade\",, \"T\")/100,\"\")","v":""},0]
[293,{"$f":"IFERROR(VLOOKUP(A294,Data!$H$2:$J$507,3,FALSE),\"\")","v":""},{"$f":"IFERROR(RTD(\"cqg.rtd\", ,\"ContractData\",B294, \"PerCentNetLastTrade\",, \"T\")/100,\"\")","v":""},{"$f":"IFERROR(RANK($C294,$C$2:C$507)+COUNTIF($C$2:C294,C294)-1,\"\")","v":""},"",293,"",{"$f":"IF(G294=\"\",\"\",RTD(\"cqg.rtd\", ,\"ContractData\",G294, \"LongDescription\",, \"T\"))","v":""},{"$f":"IFERROR(RTD(\"cqg.rtd\", ,\"ContractData\",G294, \"PerCentNetLastTrade\",, \"T\")/100,\"\")","v":""},0,293,{"$f":"IFERROR(VLOOKUP(A294,Data!$I$2:$J$507,2,FALSE),\"\")","v":""},{"$f":"IFERROR(RTD(\"cqg.rtd\", ,\"ContractData\",L294, \"PerCentNetLastTrade\",, \"T\")/100,\"\")","v":""},{"$f":"IFERROR(RANK($M294,$M$2:M$507)+COUNTIF($M$2:M294,M294)-1,\"\")","v":""},{"$f":"IF(L294=\"\",\"\",L294)","v":""},293,"",{"$f":"IF(Q294=\"\",\"\",RTD(\"cqg.rtd\", ,\"ContractData\",Q294, \"LongDescription\",, \"T\"))","v":""},{"$f":"IFERROR(RTD(\"cqg.rtd\", ,\"ContractData\",Q294, \"PerCentNetLastTrade\",, \"T\")/100,\"\")","v":""},0]
[294,{"$f":"IFERROR(VLOOKUP(A295,Data!$H$2:$J$507,3,FALSE),\"\")","v":""},{"$f":"IFERROR(RTD(\"cqg.rtd\", ,\"ContractData\",B295, \"PerCentNetLastTrade\",, \"T\")/100,\"\")","v":""},{"$f":"IFERROR(RANK($C295,$C$2:C$507)+COUNTIF($C$2:C295,C295)-1,\"\")","v":""},"",294,"",{"$f":"IF(G295=\"\",\"\",RTD(\"cqg.rtd\", ,\"ContractData\",G295, \"LongDescription\",, \"T\"))","v":""},{"$f":"IFERROR(RTD(\"cqg.rtd\", ,\"ContractData\",G295, \"PerCentNetLastTrade\",, \"T\")/100,\"\")","v":""},{"$f":"IF(I295<>\"\",1,0)","v":0},294,{"$f":"IFERROR(VLOOKUP(A295,Data!$I$2:$J$507,2,FALSE),\"\")","v":""},{"$f":"IFERROR(RTD(\"cqg.rtd\", ,\"ContractData\",L295, \"PerCentNetLastTrade\",, \"T\")/100,\"\")","v":""},{"$f":"IFERROR(RANK($M295,$M$2:M$507)+COUNTIF($M$2:M295,M295)-1,\"\")","v":""},"",294,"",{"$f":"IF(Q295=\"\",\"\",RTD(\"cqg.rtd\", ,\"ContractData\",Q295, \"LongDescription\",, \"T\"))","v":""},{"$f":"IFERROR(RTD(\"cqg.rtd\", ,\"ContractData\",Q295, \"PerCentNetLastTrade\",, \"T\")/100,\"\")","v":""},0]
[295,{"$f":"IFERROR(VLOOKUP(A296,Data!$H$2:$J$507,3,FALSE),\"\")","v":""},{"$f":"IFERROR(RTD(\"cqg.rtd\", ,\"ContractData\",B296, \"PerCentNetLastTrade\",, \"T\")/100,\"\")","v":""},{"$f":"IFERROR(RANK($C296,$C$2:C$507)+COUNTIF($C$2:C296,C296)-1,\"\")","v":""},"",295,"",{"$f":"IF(G296=\"\",\"\",RTD(\"cqg.rtd\", ,\"ContractData\",G296, \"LongDescription\",, \"T\"))","v":""},{"$f":"IFERROR(RTD(\"cqg.rtd\", ,\"ContractData\",G296, \"PerCentNetLastTrade\",, \"T\")/100,\"\")","v":""},0,295,{"$f":"IFERROR(VLOOKUP(A296,Data!$I$2:$J$507,2,FALSE),\"\")","v":""},{"$f":"IFERROR(RTD(\"cqg.rtd\", ,\"ContractData\",L296, \"PerCentNetLastTrade\",, \"T\")/100,\"\")","v":""},{"$f":"IFERROR(RANK($M296,$M$2:M$507)+COUNTIF($M$2:M296,M296)-1,\"\")","v":""},"",295,"",{"$f":"IF(Q296=\"\",\"\",RTD(\"cqg.rtd\", ,\"ContractData\",Q296, \"LongDescription\",, \"T\"))","v":""},{"$f":"IFERROR(RTD(\"cqg.rtd\", ,\"ContractData\",Q296, \"PerCentNetLastTrade\",, \"T\")/100,\"\")","v":""},0]
[296,{"$f":"IFERROR(VLOOKUP(A297,Data!$H$2:$J$507,3,FALSE),\"\")","v":""},{"$f":"IFERROR(RTD(\"cqg.rtd\", ,\"ContractData\",B297, \"PerCentNetLastTrade\",, \"T\")/100,\"\")","v":""},{"$f":"IFERROR(RANK($C297,$C$2:C$507)+COUNTIF($C$2:C297,C297)-1,\"\")","v":""},"",296,"",{"$f":"IF(G297=\"\",\"\",RTD(\"cqg.rtd\", ,\"ContractData\",G297, \"LongDescription\",, \"T\"))","v":""},{"$f":"IFERROR(RTD(\"cqg.rtd\", ,\"ContractData\",G297, \"PerCentNetLastTrade\",, \"T\")/100,\"\")","v":""},0,296,{"$f":"IFERROR(VLOOKUP(A297,Data!$I$2:$J$507,2,FALSE),\"\")","v":""},{"$f":"IFERROR(RTD(\"cqg.rtd\", ,\"ContractData\",L297, \"PerCentNetLastTrade\",, \"T\")/100,\"\")","v":""},{"$f":"IFERROR(RANK($M297,$M$2:M$507)+COUNTIF($M$2:M297,M297)-1,\"\")","v":""},"",296,"",{"$f":"IF(Q297=\"\",\"\",RTD(\"cqg.rtd\", ,\"ContractData\",Q297, \"LongDescription\",, \"T\"))","v":""},{"$f":"IFERROR(RTD(\"cqg.rtd\", ,\"ContractData\",Q297, \"PerCentNetLastTrade\",, \"T\")/100,\"\")","v":""},0]
[297,{"$f":"IFERROR(VLOOKUP(A298,Data!$H$2:$J$507,3,FALSE),\"\")","v":""},{"$f":"IFERROR(RTD(\"cqg.rtd\", ,\"ContractData\",B298, \"PerCentNetLastTrade\",, \"T\")/100,\"\")","v":""},{"$f":"IFERROR(RANK($C298,$C$2:C$507)+COUNTIF($C$2:C298,C298)-1,\"\")","v":""},"",297,"",{"$f":"IF(G298=\"\",\"\",RTD(\"cqg.rtd\", ,\"ContractData\",G298, \"LongDescription\",, \"T\"))","v":""},{"$f":"IFERROR(RTD(\"cqg.rtd\", ,\"ContractData\",G298, \"PerCentNetLastTrade\",, \"T\")/100,\"\")","v":""},0,297,{"$f":"IFERROR(VLOOKUP(A298,Data!$I$2:$J$507,2,FALSE),\"\")","v":""},{"$f":"IFERROR(RTD(\"cqg.rtd\", ,\"ContractData\",L298, \"PerCentNetLastTrade\",, \"T\")/100,\"\")","v":""},{"$f":"IFERROR(RANK($M298,$M$2:M$507)+COUNTIF($M$2:M298,M298)-1,\"\")","v":""},"",297,"",{"$f":"IF(Q298=\"\",\"\",RTD(\"cqg.rtd\", ,\"ContractData\",Q298, \"LongDescription\",, \"T\"))","v":""},{"$f":"IFERROR(RTD(\"cqg.rtd\", ,\"ContractData\",Q298, \"PerCentNetLastTrade\",, \"T\")/100,\"\")","v":""},0]
[298,{"$f":"IFERROR(VLOOKUP(A299,Data!$H$2:$J$507,3,FALSE),\"\")","v":""},{"$f":"IFERROR(RTD(\"cqg.rtd\", ,\"ContractData\",B299, \"PerCentNetLastTrade\",, \"T\")/100,\"\")","v":""},{"$f":"IFERROR(RANK($C299,$C$2:C$507)+COUNTIF($C$2:C299,C299)-1,\"\")","v":""},"",298,"",{"$f":"IF(G299=\"\",\"\",RTD(\"cqg.rtd\", ,\"ContractData\",G299, \"LongDescription\",, \"T\"))","v":""},{"$f":"IFERROR(RTD(\"cqg.rtd\", ,\"ContractData\",G299, \"PerCentNetLastTrade\",, \"T\")/100,\"\")","v":""},0,298,{"$f":"IFERROR(VLOOKUP(A299,Data!$I$2:$J$507,2,FALSE),\"\")","v":""},{"$f":"IFERROR(RTD(\"cqg.rtd\", ,\"ContractData\",L299, \"PerCentNetLastTrade\",, \"T\")/100,\"\")","v":""},{"$f":"IFERROR(RANK($M299,$M$2:M$507)+COUNTIF($M$2:M299,M299)-1,\"\")","v":""},"",298,"",{"$f":"IF(Q299=\"\",\"\",RTD(\"cqg.rtd\", ,\"ContractData\",Q299, \"LongDescription\",, \"T\"))","v":""},{"$f":"IFERROR(RTD(\"cqg.rtd\", ,\"ContractData\",Q299, \"PerCentNetLastTrade\",, \"T\")/100,\"\")","v":""},0]
[299,{"$f":"IFERROR(VLOOKUP(A300,Data!$H$2:$J$507,3,FALSE),\"\")","v":""},{"$f":"IFERROR(RTD(\"cqg.rtd\", ,\"ContractData\",B300, \"PerCentNetLastTrade\",, \"T\")/100,\"\")","v":""},{"$f":"IFERROR(RANK($C300,$C$2:C$507)+COUNTIF($C$2:C300,C300)-1,\"\")","v":""},"",299,"",{"$f":"IF(G300=\"\",\"\",RTD(\"cqg.rtd\", ,\"ContractData\",G300, \"LongDescription\",, \"T\"))","v":""},{"$f":"IFERROR(RTD(\"cqg.rtd\", ,\"ContractData\",G300, \"PerCentNetLastTrade\",, \"T\")/100,\"\")","v":""},0,299,{"$f":"IFERROR(VLOOKUP(A300,Data!$I$2:$J$507,2,FALSE),\"\")","v":""},{"$f":"IFERROR(RTD(\"cqg.rtd\", ,\"ContractData\",L300, \"PerCentNetLastTrade\",, \"T\")/100,\"\")","v":""},{"$f":"IFERROR(RANK($M300,$M$2:M$507)+COUNTIF($M$2:M300,M300)-1,\"\")","v":""},"",299,"",{"$f":"IF(Q300=\"\",\"\",RTD(\"cqg.rtd\", ,\"ContractData\",Q300, \"LongDescription\",, \"T\"))","v":""},{"$f":"IFERROR(RTD(\"cqg.rtd\", ,\"ContractData\",Q300, \"PerCentNetLastTrade\",, \"T\")/100,\"\")","v":""},0]
[300,{"$f":"IFERROR(VLOOKUP(A301,Data!$H$2:$J$507,3,FALSE),\"\")","v":""},{"$f":"IFERROR(RTD(\"cqg.rtd\", ,\"ContractData\",B301, \"PerCentNetLastTrade\",, \"T\")/100,\"\")","v":""},{"$f":"IFERROR(RANK($C301,$C$2:C$507)+COUNTIF($C$2:C301,C301)-1,\"\")","v":""},"",300,"",{"$f":"IF(G301=\"\",\"\",RTD(\"cqg.rtd\", ,\"ContractData\",G301, \"LongDescription\",, \"T\"))","v":""},{"$f":"IFERROR(RTD(\"cqg.rtd\", ,\"ContractData\",G301, \"PerCentNetLastTrade\",, \"T\")/100,\"\")","v":""},0,300,{"$f":"IFERROR(VLOOKUP(A301,Data!$I$2:$J$507,2,FALSE),\"\")","v":""},{"$f":"IFERROR(RTD(\"cqg.rtd\", ,\"ContractData\",L301, \"PerCentNetLastTrade\",, \"T\")/100,\"\")","v":""},{"$f":"IFERROR(RANK($M301,$M$2:M$507)+COUNTIF($M$2:M301,M301)-1,\"\")","v":""},"",300,"",{"$f":"IF(Q301=\"\",\"\",RTD(\"cqg.rtd\", ,\"ContractData\",Q301, \"LongDescription\",, \"T\"))","v":""},{"$f":"IFERROR(RTD(\"cqg.rtd\", ,\"ContractData\",Q301, \"PerCentNetLastTrade\",, \"T\")/100,\"\")","v":""},0]
[301,{"$f":"IFERROR(VLOOKUP(A302,Data!$H$2:$J$507,3,FALSE),\"\")","v":""},{"$f":"IFERROR(RTD(\"cqg.rtd\", ,\"ContractData\",B302, \"PerCentNetLastTrade\",, \"T\")/100,\"\")","v":""},{"$f":"IFERROR(RANK($C302,$C$2:C$507)+COUNTIF($C$2:C302,C302)-1,\"\")","v":""},"",301,"",{"$f":"IF(G302=\"\",\"\",RTD(\"cqg.rtd\", ,\"ContractData\",G302, \"LongDescription\",, \"T\"))","v":""},{"$f":"IFERROR(RTD(\"cqg.rtd\", ,\"ContractData\",G302, \"PerCentNetLastTrade\",, \"T\")/100,\"\")","v":""},0,301,{"$f":"IFERROR(VLOOKUP(A302,Data!$I$2:$J$507,2,FALSE),\"\")","v":""},{"$f":"IFERROR(RTD(\"cqg.rtd\", ,\"ContractData\",L302, \"PerCentNetLastTrade\",, \"T\")/100,\"\")","v":""},{"$f":"IFERROR(RANK($M302,$M$2:M$507)+COUNTIF($M$2:M302,M302)-1,\"\")","v":""},"",301,"",{"$f":"IF(Q302=\"\",\"\",RTD(\"cqg.rtd\", ,\"ContractData\",Q302, \"LongDescription\",, \"T\"))","v":""},{"$f":"IFERROR(RTD(\"cqg.rtd\", ,\"ContractData\",Q302, \"PerCentNetLastTrade\",, \"T\")/100,\"\")","v":""},0]
[302,{"$f":"IFERROR(VLOOKUP(A303,Data!$H$2:$J$507,3,FALSE),\"\")","v":""},{"$f":"IFERROR(RTD(\"cqg.rtd\", ,\"ContractData\",B303, \"PerCentNetLastTrade\",, \"T\")/100,\"\")","v":""},{"$f":"IFERROR(RANK($C303,$C$2:C$507)+COUNTIF($C$2:C303,C303)-1,\"\")","v":""},"",302,"",{"$f":"IF(G303=\"\",\"\",RTD(\"cqg.rtd\", ,\"ContractData\",G303, \"LongDescription\",, \"T\"))","v":""},{"$f":"IFERROR(RTD(\"cqg.rtd\", ,\"ContractData\",G303, \"PerCentNetLastTrade\",, \"T\")/100,\"\")","v":""},0,302,{"$f":"IFERROR(VLOOKUP(A303,Data!$I$2:$J$507,2,FALSE),\"\")","v":""},{"$f":"IFERROR(RTD(\"cqg.rtd\", ,\"ContractData\",L303, \"PerCentNetLastTrade\",, \"T\")/100,\"\")","v":""},{"$f":"IFERROR(RANK($M303,$M$2:M$507)+COUNTIF($M$2:M303,M303)-1,\"\")","v":""},"",302,"",{"$f":"IF(Q303=\"\",\"\",RTD(\"cqg.rtd\", ,\"ContractData\",Q303, \"LongDescription\",, \"T\"))","v":""},{"$f":"IFERROR(RTD(\"cqg.rtd\", ,\"ContractData\",Q303, \"PerCentNetLastTrade\",, \"T\")/100,\"\")","v":""},0]
[303,{"$f":"IFERROR(VLOOKUP(A304,Data!$H$2:$J$507,3,FALSE),\"\")","v":""},{"$f":"IFERROR(RTD(\"cqg.rtd\", ,\"ContractData\",B304, \"PerCentNetLastTrade\",, \"T\")/100,\"\")","v":""},{"$f":"IFERROR(RANK($C304,$C$2:C$507)+COUNTIF($C$2:C304,C304)-1,\"\")","v":""},"",303,"",{"$f":"IF(G304=\"\",\"\",RTD(\"cqg.rtd\", ,\"ContractData\",G304, \"LongDescription\",, \"T\"))","v":""},{"$f":"IFERROR(RTD(\"cqg.rtd\", ,\"ContractData\",G304, \"PerCentNetLastTrade\",, \"T\")/100,\"\")","v":""},0,303,{"$f":"IFERROR(VLOOKUP(A304,Data!$I$2:$J$507,2,FALSE),\"\")","v":""},{"$f":"IFERROR(RTD(\"cqg.rtd\", ,\"ContractData\",L304, \"PerCentNetLastTrade\",, \"T\")/100,\"\")","v":""},{"$f":"IFERROR(RANK($M304,$M$2:M$507)+COUNTIF($M$2:M304,M304)-1,\"\")","v":""},"",303,"",{"$f":"IF(Q304=\"\",\"\",RTD(\"cqg.rtd\", ,\"ContractData\",Q304, \"LongDescription\",, \"T\"))","v":""},{"$f":"IFERROR(RTD(\"cqg.rtd\", ,\"ContractData\",Q304, \"PerCentNetLastTrade\",, \"T\")/100,\"\")","v":""},0]
[304,{"$f":"IFERROR(VLOOKUP(A305,Data!$H$2:$J$507,3,FALSE),\"\")","v":""},{"$f":"IFERROR(RTD(\"cqg.rtd\", ,\"ContractData\",B305, \"PerCentNetLastTrade\",, \"T\")/100,\"\")","v":""},{"$f":"IFERROR(RANK($C305,$C$2:C$507)+COUNTIF($C$2:C305,C305)-1,\"\")","v":""},"",304,"",{"$f":"IF(G305=\"\",\"\",RTD(\"cqg.rtd\", ,\"ContractData\",G305, \"LongDescription\",, \"T\"))","v":""},{"$f":"IFERROR(RTD(\"cqg.rtd\", ,\"ContractData\",G305, \"PerCentNetLastTrade\",, \"T\")/100,\"\")","v":""},0,304,{"$f":"IFERROR(VLOOKUP(A305,Data!$I$2:$J$507,2,FALSE),\"\")","v":""},{"$f":"IFERROR(RTD(\"cqg.rtd\", ,\"ContractData\",L305, \"PerCentNetLastTrade\",, \"T\")/100,\"\")","v":""},{"$f":"IFERROR(RANK($M305,$M$2:M$507)+COUNTIF($M$2:M305,M305)-1,\"\")","v":""},"",304,"",{"$f":"IF(Q305=\"\",\"\",RTD(\"cqg.rtd\", ,\"ContractData\",Q305, \"LongDescription\",, \"T\"))","v":""},{"$f":"IFERROR(RTD(\"cqg.rtd\", ,\"ContractData\",Q305, \"PerCentNetLastTrade\",, \"T\")/100,\"\")","v":""},0]
[305,{"$f":"IFERROR(VLOOKUP(A306,Data!$H$2:$J$507,3,FALSE),\"\")","v":""},{"$f":"IFERROR(RTD(\"cqg.rtd\", ,\"ContractData\",B306, \"PerCentNetLastTrade\",, \"T\")/100,\"\")","v":""},{"$f":"IFERROR(RANK($C306,$C$2:C$507)+COUNTIF($C$2:C306,C306)-1,\"\")","v":""},"",305,"",{"$f":"IF(G306=\"\",\"\",RTD(\"cqg.rtd\", ,\"ContractData\",G306, \"LongDescription\",, \"T\"))","v":""},{"$f":"IFERROR(RTD(\"cqg.rtd\", ,\"ContractData\",G306, \"PerCentNetLastTrade\",, \"T\")/100,\"\")","v":""},0,305,{"$f":"IFERROR(VLOOKUP(A306,Data!$I$2:$J$507,2,FALSE),\"\")","v":""},{"$f":"IFERROR(RTD(\"cqg.rtd\", ,\"ContractData\",L306, \"PerCentNetLastTrade\",, \"T\")/100,\"\")","v":""},{"$f":"IFERROR(RANK($M306,$M$2:M$507)+COUNTIF($M$2:M306,M306)-1,\"\")","v":""},"",305,"",{"$f":"IF(Q306=\"\",\"\",RTD(\"cqg.rtd\", ,\"ContractData\",Q306, \"LongDescription\",, \"T\"))","v":""},{"$f":"IFERROR(RTD(\"cqg.rtd\", ,\"ContractData\",Q306, \"PerCentNetLastTrade\",, \"T\")/100,\"\")","v":""},0]
[306,{"$f":"IFERROR(VLOOKUP(A307,Data!$H$2:$J$507,3,FALSE),\"\")","v":""},{"$f":"IFERROR(RTD(\"cqg.rtd\", ,\"ContractData\",B307, \"PerCentNetLastTrade\",, \"T\")/100,\"\")","v":""},{"$f":"IFERROR(RANK($C307,$C$2:C$507)+COUNTIF($C$2:C307,C307)-1,\"\")","v":""},"",306,"",{"$f":"IF(G307=\"\",\"\",RTD(\"cqg.rtd\", ,\"ContractData\",G307, \"LongDescription\",, \"T\"))","v":""},{"$f":"IFERROR(RTD(\"cqg.rtd\", ,\"ContractData\",G307, \"PerCentNetLastTrade\",, \"T\")/100,\"\")","v":""},0,306,{"$f":"IFERROR(VLOOKUP(A307,Data!$I$2:$J$507,2,FALSE),\"\")","v":""},{"$f":"IFERROR(RTD(\"cqg.rtd\", ,\"ContractData\",L307, \"PerCentNetLastTrade\",, \"T\")/100,\"\")","v":""},{"$f":"IFERROR(RANK($M307,$M$2:M$507)+COUNTIF($M$2:M307,M307)-1,\"\")","v":""},"",306,"",{"$f":"IF(Q307=\"\",\"\",RTD(\"cqg.rtd\", ,\"ContractData\",Q307, \"LongDescription\",, \"T\"))","v":""},{"$f":"IFERROR(RTD(\"cqg.rtd\", ,\"ContractData\",Q307, \"PerCentNetLastTrade\",, \"T\")/100,\"\")","v":""},0]
[307,{"$f":"IFERROR(VLOOKUP(A308,Data!$H$2:$J$507,3,FALSE),\"\")","v":""},{"$f":"IFERROR(RTD(\"cqg.rtd\", ,\"ContractData\",B308, \"PerCentNetLastTrade\",, \"T\")/100,\"\")","v":""},{"$f":"IFERROR(RANK($C308,$C$2:C$507)+COUNTIF($C$2:C308,C308)-1,\"\")","v":""},"",307,"",{"$f":"IF(G308=\"\",\"\",RTD(\"cqg.rtd\", ,\"ContractData\",G308, \"LongDescription\",, \"T\"))","v":""},{"$f":"IFERROR(RTD(\"cqg.rtd\", ,\"ContractData\",G308, \"PerCentNetLastTrade\",, \"T\")/100,\"\")","v":""},0,307,{"$f":"IFERROR(VLOOKUP(A308,Data!$I$2:$J$507,2,FALSE),\"\")","v":""},{"$f":"IFERROR(RTD(\"cqg.rtd\", ,\"ContractData\",L308, \"PerCentNetLastTrade\",, \"T\")/100,\"\")","v":""},{"$f":"IFERROR(RANK($M308,$M$2:M$507)+COUNTIF($M$2:M308,M308)-1,\"\")","v":""},"",307,"",{"$f":"IF(Q308=\"\",\"\",RTD(\"cqg.rtd\", ,\"ContractData\",Q308, \"LongDescription\",, \"T\"))","v":""},{"$f":"IFERROR(RTD(\"cqg.rtd\", ,\"ContractData\",Q308, \"PerCentNetLastTrade\",, \"T\")/100,\"\")","v":""},0]
[308,{"$f":"IFERROR(VLOOKUP(A309,Data!$H$2:$J$507,3,FALSE),\"\")","v":""},{"$f":"IFERROR(RTD(\"cqg.rtd\", ,\"ContractData\",B309, \"PerCentNetLastTrade\",, \"T\")/100,\"\")","v":""},{"$f":"IFERROR(RANK($C309,$C$2:C$507)+COUNTIF($C$2:C309,C309)-1,\"\")","v":""},"",308,"",{"$f":"IF(G309=\"\",\"\",RTD(\"cqg.rtd\", ,\"ContractData\",G309, \"LongDescription\",, \"T\"))","v":""},{"$f":"IFERROR(RTD(\"cqg.rtd\", ,\"ContractData\",G309, \"PerCentNetLastTrade\",, \"T\")/100,\"\")","v":""},0,308,{"$f":"IFERROR(VLOOKUP(A309,Data!$I$2:$J$507,2,FALSE),\"\")","v":""},{"$f":"IFERROR(RTD(\"cqg.rtd\", ,\"ContractData\",L309, \"PerCentNetLastTrade\",, \"T\")/100,\"\")","v":""},{"$f":"IFERROR(RANK($M309,$M$2:M$507)+COUNTIF($M$2:M309,M309)-1,\"\")","v":""},"",308,"",{"$f":"IF(Q309=\"\",\"\",RTD(\"cqg.rtd\", ,\"ContractData\",Q309, \"LongDescription\",, \"T\"))","v":""},{"$f":"IFERROR(RTD(\"cqg.rtd\", ,\"ContractData\",Q309, \"PerCentNetLastTrade\",, \"T\")/100,\"\")","v":""},0]
[309,{"$f":"IFERROR(VLOOKUP(A310,Data!$H$2:$J$507,3,FALSE),\"\")","v":""},{"$f":"IFERROR(RTD(\"cqg.rtd\", ,\"ContractData\",B310, \"PerCentNetLastTrade\",, \"T\")/100,\"\")","v":""},{"$f":"IFERROR(RANK($C310,$C$2:C$507)+COUNTIF($C$2:C310,C310)-1,\"\")","v":""},"",309,"",{"$f":"IF(G310=\"\",\"\",RTD(\"cqg.rtd\", ,\"ContractData\",G310, \"LongDescription\",, \"T\"))","v":""},{"$f":"IFERROR(RTD(\"cqg.rtd\", ,\"ContractData\",G310, \"PerCentNetLastTrade\",, \"T\")/100,\"\")","v":""},0,309,{"$f":"IFERROR(VLOOKUP(A310,Data!$I$2:$J$507,2,FALSE),\"\")","v":""},{"$f":"IFERROR(RTD(\"cqg.rtd\", ,\"ContractData\",L310, \"PerCentNetLastTrade\",, \"T\")/100,\"\")","v":""},{"$f":"IFERROR(RANK($M310,$M$2:M$507)+COUNTIF($M$2:M310,M310)-1,\"\")","v":""},"",309,"",{"$f":"IF(Q310=\"\",\"\",RTD(\"cqg.rtd\", ,\"ContractData\",Q310, \"LongDescription\",, \"T\"))","v":""},{"$f":"IFERROR(RTD(\"cqg.rtd\", ,\"ContractData\",Q310, \"PerCentNetLastTrade\",, \"T\")/100,\"\")","v":""},0]
[310,{"$f":"IFERROR(VLOOKUP(A311,Data!$H$2:$J$507,3,FALSE),\"\")","v":""},{"$f":"IFERROR(RTD(\"cqg.rtd\", ,\"ContractData\",B311, \"PerCentNetLastTrade\",, \"T\")/100,\"\")","v":""},{"$f":"IFERROR(RANK($C311,$C$2:C$507)+COUNTIF($C$2:C311,C311)-1,\"\")","v":""},"",310,"",{"$f":"IF(G311=\"\",\"\",RTD(\"cqg.rtd\", ,\"ContractData\",G311, \"LongDescription\",, \"T\"))","v":""},{"$f":"IFERROR(RTD(\"cqg.rtd\", ,\"ContractData\",G311, \"PerCentNetLastTrade\",, \"T\")/100,\"\")","v":""},0,310,{"$f":"IFERROR(VLOOKUP(A311,Data!$I$2:$J$507,2,FALSE),\"\")","v":""},{"$f":"IFERROR(RTD(\"cqg.rtd\", ,\"ContractData\",L311, \"PerCentNetLastTrade\",, \"T\")/100,\"\")","v":""},{"$f":"IFERROR(RANK($M311,$M$2:M$507)+COUNTIF($M$2:M311,M311)-1,\"\")","v":""},"",310,"",{"$f":"IF(Q311=\"\",\"\",RTD(\"cqg.rtd\", ,\"ContractData\",Q311, \"LongDescription\",, \"T\"))","v":""},{"$f":"IFERROR(RTD(\"cqg.rtd\", ,\"ContractData\",Q311, \"PerCentNetLastTrade\",, \"T\")/100,\"\")","v":""},0]
[311,{"$f":"IFERROR(VLOOKUP(A312,Data!$H$2:$J$507,3,FALSE),\"\")","v":""},{"$f":"IFERROR(RTD(\"cqg.rtd\", ,\"ContractData\",B312, \"PerCentNetLastTrade\",, \"T\")/100,\"\")","v":""},{"$f":"IFERROR(RANK($C312,$C$2:C$507)+COUNTIF($C$2:C312,C312)-1,\"\")","v":""},{"$f":"IF(B312=\"\",\"\",B312)","v":""},311,"",{"$f":"IF(G312=\"\",\"\",RTD(\"cqg.rtd\", ,\"ContractData\",G312, \"LongDescription\",, \"T\"))","v":""},{"$f":"IFERROR(RTD(\"cqg.rtd\", ,\"ContractData\",G312, \"PerCentNetLastTrade\",, \"T\")/100,\"\")","v":""},0,311,{"$f":"IFERROR(VLOOKUP(A312,Data!$I$2:$J$507,2,FALSE),\"\")","v":""},{"$f":"IFERROR(RTD(\"cqg.rtd\", ,\"ContractData\",L312, \"PerCentNetLastTrade\",, \"T\")/100,\"\")","v":""},{"$f":"IFERROR(RANK($M312,$M$2:M$507)+COUNTIF($M$2:M312,M312)-1,\"\")","v":""},"",311,"",{"$f":"IF(Q312=\"\",\"\",RTD(\"cqg.rtd\", ,\"ContractData\",Q312, \"LongDescription\",, \"T\"))","v":""},{"$f":"IFERROR(RTD(\"cqg.rtd\", ,\"ContractData\",Q312, \"PerCentNetLastTrade\",, \"T\")/100,\"\")","v":""},0]
[312,{"$f":"IFERROR(VLOOKUP(A313,Data!$H$2:$J$507,3,FALSE),\"\")","v":""},{"$f":"IFERROR(RTD(\"cqg.rtd\", ,\"ContractData\",B313, \"PerCentNetLastTrade\",, \"T\")/100,\"\")","v":""},{"$f":"IFERROR(RANK($C313,$C$2:C$507)+COUNTIF($C$2:C313,C313)-1,\"\")","v":""},"",312,"",{"$f":"IF(G313=\"\",\"\",RTD(\"cqg.rtd\", ,\"ContractData\",G313, \"LongDescription\",, \"T\"))","v":""},{"$f":"IFERROR(RTD(\"cqg.rtd\", ,\"ContractData\",G313, \"PerCentNetLastTrade\",, \"T\")/100,\"\")","v":""},0,312,{"$f":"IFERROR(VLOOKUP(A313,Data!$I$2:$J$507,2,FALSE),\"\")","v":""},{"$f":"IFERROR(RTD(\"cqg.rtd\", ,\"ContractData\",L313, \"PerCentNetLastTrade\",, \"T\")/100,\"\")","v":""},{"$f":"IFERROR(RANK($M313,$M$2:M$507)+COUNTIF($M$2:M313,M313)-1,\"\")","v":""},"",312,"",{"$f":"IF(Q313=\"\",\"\",RTD(\"cqg.rtd\", ,\"ContractData\",Q313, \"LongDescription\",, \"T\"))","v":""},{"$f":"IFERROR(RTD(\"cqg.rtd\", ,\"ContractData\",Q313, \"PerCentNetLastTrade\",, \"T\")/100,\"\")","v":""},0]
[313,{"$f":"IFERROR(VLOOKUP(A314,Data!$H$2:$J$507,3,FALSE),\"\")","v":""},{"$f":"IFERROR(RTD(\"cqg.rtd\", ,\"ContractData\",B314, \"PerCentNetLastTrade\",, \"T\")/100,\"\")","v":""},{"$f":"IFERROR(RANK($C314,$C$2:C$507)+COUNTIF($C$2:C314,C314)-1,\"\")","v":""},"",313,"",{"$f":"IF(G314=\"\",\"\",RTD(\"cqg.rtd\", ,\"ContractData\",G314, \"LongDescription\",, \"T\"))","v":""},{"$f":"IFERROR(RTD(\"cqg.rtd\", ,\"ContractData\",G314, \"PerCentNetLastTrade\",, \"T\")/100,\"\")","v":""},0,313,{"$f":"IFERROR(VLOOKUP(A314,Data!$I$2:$J$507,2,FALSE),\"\")","v":""},{"$f":"IFERROR(RTD(\"cqg.rtd\", ,\"ContractData\",L314, \"PerCentNetLastTrade\",, \"T\")/100,\"\")","v":""},{"$f":"IFERROR(RANK($M314,$M$2:M$507)+COUNTIF($M$2:M314,M314)-1,\"\")","v":""},"",313,"",{"$f":"IF(Q314=\"\",\"\",RTD(\"cqg.rtd\", ,\"ContractData\",Q314, \"LongDescription\",, \"T\"))","v":""},{"$f":"IFERROR(RTD(\"cqg.rtd\", ,\"ContractData\",Q314, \"PerCentNetLastTrade\",, \"T\")/100,\"\")","v":""},0]
[314,{"$f":"IFERROR(VLOOKUP(A315,Data!$H$2:$J$507,3,FALSE),\"\")","v":""},{"$f":"IFERROR(RTD(\"cqg.rtd\", ,\"ContractData\",B315, \"PerCentNetLastTrade\",, \"T\")/100,\"\")","v":""},{"$f":"IFERROR(RANK($C315,$C$2:C$507)+COUNTIF($C$2:C315,C315)-1,\"\")","v":""},"",314,"",{"$f":"IF(G315=\"\",\"\",RTD(\"cqg.rtd\", ,\"ContractData\",G315, \"LongDescription\",, \"T\"))","v":""},{"$f":"IFERROR(RTD(\"cqg.rtd\", ,\"ContractData\",G315, \"PerCentNetLastTrade\",, \"T\")/100,\"\")","v":""},0,314,{"$f":"IFERROR(VLOOKUP(A315,Data!$I$2:$J$507,2,FALSE),\"\")","v":""},{"$f":"IFERROR(RTD(\"cqg.rtd\", ,\"ContractData\",L315, \"PerCentNetLastTrade\",, \"T\")/100,\"\")","v":""},{"$f":"IFERROR(RANK($M315,$M$2:M$507)+COUNTIF($M$2:M315,M315)-1,\"\")","v":""},"",314,"",{"$f":"IF(Q315=\"\",\"\",RTD(\"cqg.rtd\", ,\"ContractData\",Q315, \"LongDescription\",, \"T\"))","v":""},{"$f":"IFERROR(RTD(\"cqg.rtd\", ,\"ContractData\",Q315, \"PerCentNetLastTrade\",, \"T\")/100,\"\")","v":""},0]
[315,{"$f":"IFERROR(VLOOKUP(A316,Data!$H$2:$J$507,3,FALSE),\"\")","v":""},{"$f":"IFERROR(RTD(\"cqg.rtd\", ,\"ContractData\",B316, \"PerCentNetLastTrade\",, \"T\")/100,\"\")","v":""},{"$f":"IFERROR(RANK($C316,$C$2:C$507)+COUNTIF($C$2:C316,C316)-1,\"\")","v":""},"",315,"",{"$f":"IF(G316=\"\",\"\",RTD(\"cqg.rtd\", ,\"ContractData\",G316, \"LongDescription\",, \"T\"))","v":""},{"$f":"IFERROR(RTD(\"cqg.rtd\", ,\"ContractData\",G316, \"PerCentNetLastTrade\",, \"T\")/100,\"\")","v":""},0,315,{"$f":"IFERROR(VLOOKUP(A316,Data!$I$2:$J$507,2,FALSE),\"\")","v":""},{"$f":"IFERROR(RTD(\"cqg.rtd\", ,\"ContractData\",L316, \"PerCentNetLastTrade\",, \"T\")/100,\"\")","v":""},{"$f":"IFERROR(RANK($M316,$M$2:M$507)+COUNTIF($M$2:M316,M316)-1,\"\")","v":""},"",315,"",{"$f":"IF(Q316=\"\",\"\",RTD(\"cqg.rtd\", ,\"ContractData\",Q316, \"LongDescription\",, \"T\"))","v":""},{"$f":"IFERROR(RTD(\"cqg.rtd\", ,\"ContractData\",Q316, \"PerCentNetLastTrade\",, \"T\")/100,\"\")","v":""},0]
[316,{"$f":"IFERROR(VLOOKUP(A317,Data!$H$2:$J$507,3,FALSE),\"\")","v":""},{"$f":"IFERROR(RTD(\"cqg.rtd\", ,\"ContractData\",B317, \"PerCentNetLastTrade\",, \"T\")/100,\"\")","v":""},{"$f":"IFERROR(RANK($C317,$C$2:C$507)+COUNTIF($C$2:C317,C317)-1,\"\")","v":""},"",316,"",{"$f":"IF(G317=\"\",\"\",RTD(\"cqg.rtd\", ,\"ContractData\",G317, \"LongDescription\",, \"T\"))","v":""},{"$f":"IFERROR(RTD(\"cqg.rtd\", ,\"ContractData\",G317, \"PerCentNetLastTrade\",, \"T\")/100,\"\")","v":""},0,316,{"$f":"IFERROR(VLOOKUP(A317,Data!$I$2:$J$507,2,FALSE),\"\")","v":""},{"$f":"IFERROR(RTD(\"cqg.rtd\", ,\"ContractData\",L317, \"PerCentNetLastTrade\",, \"T\")/100,\"\")","v":""},{"$f":"IFERROR(RANK($M317,$M$2:M$507)+COUNTIF($M$2:M317,M317)-1,\"\")","v":""},"",316,"",{"$f":"IF(Q317=\"\",\"\",RTD(\"cqg.rtd\", ,\"ContractData\",Q317, \"LongDescription\",, \"T\"))","v":""},{"$f":"IFERROR(RTD(\"cqg.rtd\", ,\"ContractData\",Q317, \"PerCentNetLastTrade\",, \"T\")/100,\"\")","v":""},0]
[317,{"$f":"IFERROR(VLOOKUP(A318,Data!$H$2:$J$507,3,FALSE),\"\")","v":""},{"$f":"IFERROR(RTD(\"cqg.rtd\", ,\"ContractData\",B318, \"PerCentNetLastTrade\",, \"T\")/100,\"\")","v":""},{"$f":"IFERROR(RANK($C318,$C$2:C$507)+COUNTIF($C$2:C318,C318)-1,\"\")","v":""},"",317,"",{"$f":"IF(G318=\"\",\"\",RTD(\"cqg.rtd\", ,\"ContractData\",G318, \"LongDescription\",, \"T\"))","v":""},{"$f":"IFERROR(RTD(\"cqg.rtd\", ,\"ContractData\",G318, \"PerCentNetLastTrade\",, \"T\")/100,\"\")","v":""},0,317,{"$f":"IFERROR(VLOOKUP(A318,Data!$I$2:$J$507,2,FALSE),\"\")","v":""},{"$f":"IFERROR(RTD(\"cqg.rtd\", ,\"ContractData\",L318, \"PerCentNetLastTrade\",, \"T\")/100,\"\")","v":""},{"$f":"IFERROR(RANK($M318,$M$2:M$507)+COUNTIF($M$2:M318,M318)-1,\"\")","v":""},"",317,"",{"$f":"IF(Q318=\"\",\"\",RTD(\"cqg.rtd\", ,\"ContractData\",Q318, \"LongDescription\",, \"T\"))","v":""},{"$f":"IFERROR(RTD(\"cqg.rtd\", ,\"ContractData\",Q318, \"PerCentNetLastTrade\",, \"T\")/100,\"\")","v":""},0]
[318,{"$f":"IFERROR(VLOOKUP(A319,Data!$H$2:$J$507,3,FALSE),\"\")","v":""},{"$f":"IFERROR(RTD(\"cqg.rtd\", ,\"ContractData\",B319, \"PerCentNetLastTrade\",, \"T\")/100,\"\")","v":""},{"$f":"IFERROR(RANK($C319,$C$2:C$507)+COUNTIF($C$2:C319,C319)-1,\"\")","v":""},"",318,"",{"$f":"IF(G319=\"\",\"\",RTD(\"cqg.rtd\", ,\"ContractData\",G319, \"LongDescription\",, \"T\"))","v":""},{"$f":"IFERROR(RTD(\"cqg.rtd\", ,\"ContractData\",G319, \"PerCentNetLastTrade\",, \"T\")/100,\"\")","v":""},0,318,{"$f":"IFERROR(VLOOKUP(A319,Data!$I$2:$J$507,2,FALSE),\"\")","v":""},{"$f":"IFERROR(RTD(\"cqg.rtd\", ,\"ContractData\",L319, \"PerCentNetLastTrade\",, \"T\")/100,\"\")","v":""},{"$f":"IFERROR(RANK($M319,$M$2:M$507)+COUNTIF($M$2:M319,M319)-1,\"\")","v":""},"",318,"",{"$f":"IF(Q319=\"\",\"\",RTD(\"cqg.rtd\", ,\"ContractData\",Q319, \"LongDescription\",, \"T\"))","v":""},{"$f":"IFERROR(RTD(\"cqg.rtd\", ,\"ContractData\",Q319, \"PerCentNetLastTrade\",, \"T\")/100,\"\")","v":""},0]
[319,{"$f":"IFERROR(VLOOKUP(A320,Data!$H$2:$J$507,3,FALSE),\"\")","v":""},{"$f":"IFERROR(RTD(\"cqg.rtd\", ,\"ContractData\",B320, \"PerCentNetLastTrade\",, \"T\")/100,\"\")","v":""},{"$f":"IFERROR(RANK($C320,$C$2:C$507)+COUNTIF($C$2:C320,C320)-1,\"\")","v":""},"",319,"",{"$f":"IF(G320=\"\",\"\",RTD(\"cqg.rtd\", ,\"ContractData\",G320, \"LongDescription\",, \"T\"))","v":""},{"$f":"IFERROR(RTD(\"cqg.rtd\", ,\"ContractData\",G320, \"PerCentNetLastTrade\",, \"T\")/100,\"\")","v":""},0,319,{"$f":"IFERROR(VLOOKUP(A320,Data!$I$2:$J$507,2,FALSE),\"\")","v":""},{"$f":"IFERROR(RTD(\"cqg.rtd\", ,\"ContractData\",L320, \"PerCentNetLastTrade\",, \"T\")/100,\"\")","v":""},{"$f":"IFERROR(RANK($M320,$M$2:M$507)+COUNTIF($M$2:M320,M320)-1,\"\")","v":""},"",319,"",{"$f":"IF(Q320=\"\",\"\",RTD(\"cqg.rtd\", ,\"ContractData\",Q320, \"LongDescription\",, \"T\"))","v":""},{"$f":"IFERROR(RTD(\"cqg.rtd\", ,\"ContractData\",Q320, \"PerCentNetLastTrade\",, \"T\")/100,\"\")","v":""},0]
[320,{"$f":"IFERROR(VLOOKUP(A321,Data!$H$2:$J$507,3,FALSE),\"\")","v":""},{"$f":"IFERROR(RTD(\"cqg.rtd\", ,\"ContractData\",B321, \"PerCentNetLastTrade\",, \"T\")/100,\"\")","v":""},{"$f":"IFERROR(RANK($C321,$C$2:C$507)+COUNTIF($C$2:C321,C321)-1,\"\")","v":""},"",320,"",{"$f":"IF(G321=\"\",\"\",RTD(\"cqg.rtd\", ,\"ContractData\",G321, \"LongDescription\",, \"T\"))","v":""},{"$f":"IFERROR(RTD(\"cqg.rtd\", ,\"ContractData\",G321, \"PerCentNetLastTrade\",, \"T\")/100,\"\")","v":""},0,320,{"$f":"IFERROR(VLOOKUP(A321,Data!$I$2:$J$507,2,FALSE),\"\")","v":""},{"$f":"IFERROR(RTD(\"cqg.rtd\", ,\"ContractData\",L321, \"PerCentNetLastTrade\",, \"T\")/100,\"\")","v":""},{"$f":"IFERROR(RANK($M321,$M$2:M$507)+COUNTIF($M$2:M321,M321)-1,\"\")","v":""},"",320,"",{"$f":"IF(Q321=\"\",\"\",RTD(\"cqg.rtd\", ,\"ContractData\",Q321, \"LongDescription\",, \"T\"))","v":""},{"$f":"IFERROR(RTD(\"cqg.rtd\", ,\"ContractData\",Q321, \"PerCentNetLastTrade\",, \"T\")/100,\"\")","v":""},0]
[321,{"$f":"IFERROR(VLOOKUP(A322,Data!$H$2:$J$507,3,FALSE),\"\")","v":""},{"$f":"IFERROR(RTD(\"cqg.rtd\", ,\"ContractData\",B322, \"PerCentNetLastTrade\",, \"T\")/100,\"\")","v":""},{"$f":"IFERROR(RANK($C322,$C$2:C$507)+COUNTIF($C$2:C322,C322)-1,\"\")","v":""},"",321,"",{"$f":"IF(G322=\"\",\"\",RTD(\"cqg.rtd\", ,\"ContractData\",G322, \"LongDescription\",, \"T\"))","v":""},{"$f":"IFERROR(RTD(\"cqg.rtd\", ,\"ContractData\",G322, \"PerCentNetLastTrade\",, \"T\")/100,\"\")","v":""},0,321,{"$f":"IFERROR(VLOOKUP(A322,Data!$I$2:$J$507,2,FALSE),\"\")","v":""},{"$f":"IFERROR(RTD(\"cqg.rtd\", ,\"ContractData\",L322, \"PerCentNetLastTrade\",, \"T\")/100,\"\")","v":""},{"$f":"IFERROR(RANK($M322,$M$2:M$507)+COUNTIF($M$2:M322,M322)-1,\"\")","v":""},"",321,"",{"$f":"IF(Q322=\"\",\"\",RTD(\"cqg.rtd\", ,\"ContractData\",Q322, \"LongDescription\",, \"T\"))","v":""},{"$f":"IFERROR(RTD(\"cqg.rtd\", ,\"ContractData\",Q322, \"PerCentNetLastTrade\",, \"T\")/100,\"\")","v":""},0]
[322,{"$f":"IFERROR(VLOOKUP(A323,Data!$H$2:$J$507,3,FALSE),\"\")","v":""},{"$f":"IFERROR(RTD(\"cqg.rtd\", ,\"ContractData\",B323, \"PerCentNetLastTrade\",, \"T\")/100,\"\")","v":""},{"$f":"IFERROR(RANK($C323,$C$2:C$507)+COUNTIF($C$2:C323,C323)-1,\"\")","v":""},"",322,{"$f":"IFERROR(VLOOKUP(F323,$D$2:$E$507,2,FALSE),\"\")","v":""},{"$f":"IF(G323=\"\",\"\",RTD(\"cqg.rtd\", ,\"ContractData\",G323, \"LongDescription\",, \"T\"))","v":""},{"$f":"IFERROR(RTD(\"cqg.rtd\", ,\"ContractData\",G323, \"PerCentNetLastTrade\",, \"T\")/100,\"\")","v":""},0,322,{"$f":"IFERROR(VLOOKUP(A323,Data!$I$2:$J$507,2,FALSE),\"\")","v":""},{"$f":"IFERROR(RTD(\"cqg.rtd\", ,\"ContractData\",L323, \"PerCentNetLastTrade\",, \"T\")/100,\"\")","v":""},{"$f":"IFERROR(RANK($M323,$M$2:M$507)+COUNTIF($M$2:M323,M323)-1,\"\")","v":""},"",322,{"$f":"IFERROR(VLOOKUP(P323,$N$2:$O$507,2,FALSE),\"\")","v":""},{"$f":"IF(Q323=\"\",\"\",RTD(\"cqg.rtd\", ,\"ContractData\",Q323, \"LongDescription\",, \"T\"))","v":""},{"$f":"IFERROR(RTD(\"cqg.rtd\", ,\"ContractData\",Q323, \"PerCentNetLastTrade\",, \"T\")/100,\"\")","v":""},{"$f":"IF(S323<>\"\",1,0)","v":0}]
[{"$f":"A323+1","v":323},{"$f":"IFERROR(VLOOKUP(A324,Data!$H$2:$J$507,3,FALSE),\"\")","v":""},{"$f":"IFERROR(RTD(\"cqg.rtd\", ,\"ContractData\",B324, \"PerCentNetLastTrade\",, \"T\")/100,\"\")","v":""},{"$f":"IFERROR(RANK($C324,$C$2:C$507)+COUNTIF($C$2:C324,C324)-1,\"\")","v":""},"",{"$f":"F323+1","v":323},"",{"$f":"IF(G324=\"\",\"\",RTD(\"cqg.rtd\", ,\"ContractData\",G324, \"LongDescription\",, \"T\"))","v":""},{"$f":"IFERROR(RTD(\"cqg.rtd\", ,\"ContractData\",G324, \"PerCentNetLastTrade\",, \"T\")/100,\"\")","v":""},0,{"$f":"K323+1","v":323},{"$f":"IFERROR(VLOOKUP(A324,Data!$I$2:$J$507,2,FALSE),\"\")","v":""},{"$f":"IFERROR(RTD(\"cqg.rtd\", ,\"ContractData\",L324, \"PerCentNetLastTrade\",, \"T\")/100,\"\")","v":""},{"$f":"IFERROR(RANK($M324,$M$2:M$507)+COUNTIF($M$2:M324,M324)-1,\"\")","v":""},"",{"$f":"P323+1","v":323},"",{"$f":"IF(Q324=\"\",\"\",RTD(\"cqg.rtd\", ,\"ContractData\",Q324, \"LongDescription\",, \"T\"))","v":""},{"$f":"IFERROR(RTD(\"cqg.rtd\", ,\"ContractData\",Q324, \"PerCentNetLastTrade\",, \"T\")/100,\"\")","v":""},0]
[324,{"$f":"IFERROR(VLOOKUP(A325,Data!$H$2:$J$507,3,FALSE),\"\")","v":""},{"$f":"IFERROR(RTD(\"cqg.rtd\", ,\"ContractData\",B325, \"PerCentNetLastTrade\",, \"T\")/100,\"\")","v":""},{"$f":"IFERROR(RANK($C325,$C$2:C$507)+COUNTIF($C$2:C325,C325)-1,\"\")","v":""},"",324,"",{"$f":"IF(G325=\"\",\"\",RTD(\"cqg.rtd\", ,\"ContractData\",G325, \"LongDescription\",, \"T\"))","v":""},{"$f":"IFERROR(RTD(\"cqg.rtd\", ,\"ContractData\",G325, \"PerCentNetLastTrade\",, \"T\")/100,\"\")","v":""},0,324,{"$f":"IFERROR(VLOOKUP(A325,Data!$I$2:$J$507,2,FALSE),\"\")","v":""},{"$f":"IFERROR(RTD(\"cqg.rtd\", ,\"ContractData\",L325, \"PerCentNetLastTrade\",, \"T\")/100,\"\")","v":""},{"$f":"IFERROR(RANK($M325,$M$2:M$507)+COUNTIF($M$2:M325,M325)-1,\"\")","v":""},"",324,"",{"$f":"IF(Q325=\"\",\"\",RTD(\"cqg.rtd\", ,\"ContractData\",Q325, \"LongDescription\",, \"T\"))","v":""},{"$f":"IFERROR(RTD(\"cqg.rtd\", ,\"ContractData\",Q325, \"PerCentNetLastTrade\",, \"T\")/100,\"\")","v":""},0]
[325,{"$f":"IFERROR(VLOOKUP(A326,Data!$H$2:$J$507,3,FALSE),\"\")","v":""},{"$f":"IFERROR(RTD(\"cqg.rtd\", ,\"ContractData\",B326, \"PerCentNetLastTrade\",, \"T\")/100,\"\")","v":""},{"$f":"IFERROR(RANK($C326,$C$2:C$507)+COUNTIF($C$2:C326,C326)-1,\"\")","v":""},"",325,"",{"$f":"IF(G326=\"\",\"\",RTD(\"cqg.rtd\", ,\"ContractData\",G326, \"LongDescription\",, \"T\"))","v":""},{"$f":"IFERROR(RTD(\"cqg.rtd\", ,\"ContractData\",G326, \"PerCentNetLastTrade\",, \"T\")/100,\"\")","v":""},0,325,{"$f":"IFERROR(VLOOKUP(A326,Data!$I$2:$J$507,2,FALSE),\"\")","v":""},{"$f":"IFERROR(RTD(\"cqg.rtd\", ,\"ContractData\",L326, \"PerCentNetLastTrade\",, \"T\")/100,\"\")","v":""},{"$f":"IFERROR(RANK($M326,$M$2:M$507)+COUNTIF($M$2:M326,M326)-1,\"\")","v":""},"",325,"",{"$f":"IF(Q326=\"\",\"\",RTD(\"cqg.rtd\", ,\"ContractData\",Q326, \"LongDescription\",, \"T\"))","v":""},{"$f":"IFERROR(RTD(\"cqg.rtd\", ,\"ContractData\",Q326, \"PerCentNetLastTrade\",, \"T\")/100,\"\")","v":""},0]
[326,{"$f":"IFERROR(VLOOKUP(A327,Data!$H$2:$J$507,3,FALSE),\"\")","v":""},{"$f":"IFERROR(RTD(\"cqg.rtd\", ,\"ContractData\",B327, \"PerCentNetLastTrade\",, \"T\")/100,\"\")","v":""},{"$f":"IFERROR(RANK($C327,$C$2:C$507)+COUNTIF($C$2:C327,C327)-1,\"\")","v":""},"",326,"",{"$f":"IF(G327=\"\",\"\",RTD(\"cqg.rtd\", ,\"ContractData\",G327, \"LongDescription\",, \"T\"))","v":""},{"$f":"IFERROR(RTD(\"cqg.rtd\", ,\"ContractData\",G327, \"PerCentNetLastTrade\",, \"T\")/100,\"\")","v":""},0,326,{"$f":"IFERROR(VLOOKUP(A327,Data!$I$2:$J$507,2,FALSE),\"\")","v":""},{"$f":"IFERROR(RTD(\"cqg.rtd\", ,\"ContractData\",L327, \"PerCentNetLastTrade\",, \"T\")/100,\"\")","v":""},{"$f":"IFERROR(RANK($M327,$M$2:M$507)+COUNTIF($M$2:M327,M327)-1,\"\")","v":""},"",326,"",{"$f":"IF(Q327=\"\",\"\",RTD(\"cqg.rtd\", ,\"ContractData\",Q327, \"LongDescription\",, \"T\"))","v":""},{"$f":"IFERROR(RTD(\"cqg.rtd\", ,\"ContractData\",Q327, \"PerCentNetLastTrade\",, \"T\")/100,\"\")","v":""},0]
[327,{"$f":"IFERROR(VLOOKUP(A328,Data!$H$2:$J$507,3,FALSE),\"\")","v":""},{"$f":"IFERROR(RTD(\"cqg.rtd\", ,\"ContractData\",B328, \"PerCentNetLastTrade\",, \"T\")/100,\"\")","v":""},{"$f":"IFERROR(RANK($C328,$C$2:C$507)+COUNTIF($C$2:C328,C328)-1,\"\")","v":""},"",327,"",{"$f":"IF(G328=\"\",\"\",RTD(\"cqg.rtd\", ,\"ContractData\",G328, \"LongDescription\",, \"T\"))","v":""},{"$f":"IFERROR(RTD(\"cqg.rtd\", ,\"ContractData\",G328, \"PerCentNetLastTrade\",, \"T\")/100,\"\")","v":""},0,327,{"$f":"IFERROR(VLOOKUP(A328,Data!$I$2:$J$507,2,FALSE),\"\")","v":""},{"$f":"IFERROR(RTD(\"cqg.rtd\", ,\"ContractData\",L328, \"PerCentNetLastTrade\",, \"T\")/100,\"\")","v":""},{"$f":"IFERROR(RANK($M328,$M$2:M$507)+COUNTIF($M$2:M328,M328)-1,\"\")","v":""},"",327,"",{"$f":"IF(Q328=\"\",\"\",RTD(\"cqg.rtd\", ,\"ContractData\",Q328, \"LongDescription\",, \"T\"))","v":""},{"$f":"IFERROR(RTD(\"cqg.rtd\", ,\"ContractData\",Q328, \"PerCentNetLastTrade\",, \"T\")/100,\"\")","v":""},0]
[328,{"$f":"IFERROR(VLOOKUP(A329,Data!$H$2:$J$507,3,FALSE),\"\")","v":""},{"$f":"IFERROR(RTD(\"cqg.rtd\", ,\"ContractData\",B329, \"PerCentNetLastTrade\",, \"T\")/100,\"\")","v":""},{"$f":"IFERROR(RANK($C329,$C$2:C$507)+COUNTIF($C$2:C329,C329)-1,\"\")","v":""},"",328,"",{"$f":"IF(G329=\"\",\"\",RTD(\"cqg.rtd\", ,\"ContractData\",G329, \"LongDescription\",, \"T\"))","v":""},{"$f":"IFERROR(RTD(\"cqg.rtd\", ,\"ContractData\",G329, \"PerCentNetLastTrade\",, \"T\")/100,\"\")","v":""},0,328,{"$f":"IFERROR(VLOOKUP(A329,Data!$I$2:$J$507,2,FALSE),\"\")","v":""},{"$f":"IFERROR(RTD(\"cqg.rtd\", ,\"ContractData\",L329, \"PerCentNetLastTrade\",, \"T\")/100,\"\")","v":""},{"$f":"IFERROR(RANK($M329,$M$2:M$507)+COUNTIF($M$2:M329,M329)-1,\"\")","v":""},"",328,"",{"$f":"IF(Q329=\"\",\"\",RTD(\"cqg.rtd\", ,\"ContractData\",Q329, \"LongDescription\",, \"T\"))","v":""},{"$f":"IFERROR(RTD(\"cqg.rtd\", ,\"ContractData\",Q329, \"PerCentNetLastTrade\",, \"T\")/100,\"\")","v":""},0]
[329,{"$f":"IFERROR(VLOOKUP(A330,Data!$H$2:$J$507,3,FALSE),\"\")","v":""},{"$f":"IFERROR(RTD(\"cqg.rtd\", ,\"ContractData\",B330, \"PerCentNetLastTrade\",, \"T\")/100,\"\")","v":""},{"$f":"IFERROR(RANK($C330,$C$2:C$507)+COUNTIF($C$2:C330,C330)-1,\"\")","v":""},"",329,"",{"$f":"IF(G330=\"\",\"\",RTD(\"cqg.rtd\", ,\"ContractData\",G330, \"LongDescription\",, \"T\"))","v":""},{"$f":"IFERROR(RTD(\"cqg.rtd\", ,\"ContractData\",G330, \"PerCentNetLastTrade\",, \"T\")/100,\"\")","v":""},0,329,{"$f":"IFERROR(VLOOKUP(A330,Data!$I$2:$J$507,2,FALSE),\"\")","v":""},{"$f":"IFERROR(RTD(\"cqg.rtd\", ,\"ContractData\",L330, \"PerCentNetLastTrade\",, \"T\")/100,\"\")","v":""},{"$f":"IFERROR(RANK($M330,$M$2:M$507)+COUNTIF($M$2:M330,M330)-1,\"\")","v":""},"",329,"",{"$f":"IF(Q330=\"\",\"\",RTD(\"cqg.rtd\", ,\"ContractData\",Q330, \"LongDescription\",, \"T\"))","v":""},{"$f":"IFERROR(RTD(\"cqg.rtd\", ,\"ContractData\",Q330, \"PerCentNetLastTrade\",, \"T\")/100,\"\")","v":""},0]
[330,{"$f":"IFERROR(VLOOKUP(A331,Data!$H$2:$J$507,3,FALSE),\"\")","v":""},{"$f":"IFERROR(RTD(\"cqg.rtd\", ,\"ContractData\",B331, \"PerCentNetLastTrade\",, \"T\")/100,\"\")","v":""},{"$f":"IFERROR(RANK($C331,$C$2:C$507)+COUNTIF($C$2:C331,C331)-1,\"\")","v":""},"",330,"",{"$f":"IF(G331=\"\",\"\",RTD(\"cqg.rtd\", ,\"ContractData\",G331, \"LongDescription\",, \"T\"))","v":""},{"$f":"IFERROR(RTD(\"cqg.rtd\", ,\"ContractData\",G331, \"PerCentNetLastTrade\",, \"T\")/100,\"\")","v":""},0,330,{"$f":"IFERROR(VLOOKUP(A331,Data!$I$2:$J$507,2,FALSE),\"\")","v":""},{"$f":"IFERROR(RTD(\"cqg.rtd\", ,\"ContractData\",L331, \"PerCentNetLastTrade\",, \"T\")/100,\"\")","v":""},{"$f":"IFERROR(RANK($M331,$M$2:M$507)+COUNTIF($M$2:M331,M331)-1,\"\")","v":""},"",330,"",{"$f":"IF(Q331=\"\",\"\",RTD(\"cqg.rtd\", ,\"ContractData\",Q331, \"LongDescription\",, \"T\"))","v":""},{"$f":"IFERROR(RTD(\"cqg.rtd\", ,\"ContractData\",Q331, \"PerCentNetLastTrade\",, \"T\")/100,\"\")","v":""},0]
[331,{"$f":"IFERROR(VLOOKUP(A332,Data!$H$2:$J$507,3,FALSE),\"\")","v":""},{"$f":"IFERROR(RTD(\"cqg.rtd\", ,\"ContractData\",B332, \"PerCentNetLastTrade\",, \"T\")/100,\"\")","v":""},{"$f":"IFERROR(RANK($C332,$C$2:C$507)+COUNTIF($C$2:C332,C332)-1,\"\")","v":""},"",331,"",{"$f":"IF(G332=\"\",\"\",RTD(\"cqg.rtd\", ,\"ContractData\",G332, \"LongDescription\",, \"T\"))","v":""},{"$f":"IFERROR(RTD(\"cqg.rtd\", ,\"ContractData\",G332, \"PerCentNetLastTrade\",, \"T\")/100,\"\")","v":""},0,331,{"$f":"IFERROR(VLOOKUP(A332,Data!$I$2:$J$507,2,FALSE),\"\")","v":""},{"$f":"IFERROR(RTD(\"cqg.rtd\", ,\"ContractData\",L332, \"PerCentNetLastTrade\",, \"T\")/100,\"\")","v":""},{"$f":"IFERROR(RANK($M332,$M$2:M$507)+COUNTIF($M$2:M332,M332)-1,\"\")","v":""},"",331,"",{"$f":"IF(Q332=\"\",\"\",RTD(\"cqg.rtd\", ,\"ContractData\",Q332, \"LongDescription\",, \"T\"))","v":""},{"$f":"IFERROR(RTD(\"cqg.rtd\", ,\"ContractData\",Q332, \"PerCentNetLastTrade\",, \"T\")/100,\"\")","v":""},0]
[332,{"$f":"IFERROR(VLOOKUP(A333,Data!$H$2:$J$507,3,FALSE),\"\")","v":""},{"$f":"IFERROR(RTD(\"cqg.rtd\", ,\"ContractData\",B333, \"PerCentNetLastTrade\",, \"T\")/100,\"\")","v":""},{"$f":"IFERROR(RANK($C333,$C$2:C$507)+COUNTIF($C$2:C333,C333)-1,\"\")","v":""},"",332,"",{"$f":"IF(G333=\"\",\"\",RTD(\"cqg.rtd\", ,\"ContractData\",G333, \"LongDescription\",, \"T\"))","v":""},{"$f":"IFERROR(RTD(\"cqg.rtd\", ,\"ContractData\",G333, \"PerCentNetLastTrade\",, \"T\")/100,\"\")","v":""},0,332,{"$f":"IFERROR(VLOOKUP(A333,Data!$I$2:$J$507,2,FALSE),\"\")","v":""},{"$f":"IFERROR(RTD(\"cqg.rtd\", ,\"ContractData\",L333, \"PerCentNetLastTrade\",, \"T\")/100,\"\")","v":""},{"$f":"IFERROR(RANK($M333,$M$2:M$507)+COUNTIF($M$2:M333,M333)-1,\"\")","v":""},"",332,"",{"$f":"IF(Q333=\"\",\"\",RTD(\"cqg.rtd\", ,\"ContractData\",Q333, \"LongDescription\",, \"T\"))","v":""},{"$f":"IFERROR(RTD(\"cqg.rtd\", ,\"ContractData\",Q333, \"PerCentNetLastTrade\",, \"T\")/100,\"\")","v":""},0]
[333,{"$f":"IFERROR(VLOOKUP(A334,Data!$H$2:$J$507,3,FALSE),\"\")","v":""},{"$f":"IFERROR(RTD(\"cqg.rtd\", ,\"ContractData\",B334, \"PerCentNetLastTrade\",, \"T\")/100,\"\")","v":""},{"$f":"IFERROR(RANK($C334,$C$2:C$507)+COUNTIF($C$2:C334,C334)-1,\"\")","v":""},"",333,"",{"$f":"IF(G334=\"\",\"\",RTD(\"cqg.rtd\", ,\"ContractData\",G334, \"LongDescription\",, \"T\"))","v":""},{"$f":"IFERROR(RTD(\"cqg.rtd\", ,\"ContractData\",G334, \"PerCentNetLastTrade\",, \"T\")/100,\"\")","v":""},0,333,{"$f":"IFERROR(VLOOKUP(A334,Data!$I$2:$J$507,2,FALSE),\"\")","v":""},{"$f":"IFERROR(RTD(\"cqg.rtd\", ,\"ContractData\",L334, \"PerCentNetLastTrade\",, \"T\")/100,\"\")","v":""},{"$f":"IFERROR(RANK($M334,$M$2:M$507)+COUNTIF($M$2:M334,M334)-1,\"\")","v":""},"",333,"",{"$f":"IF(Q334=\"\",\"\",RTD(\"cqg.rtd\", ,\"ContractData\",Q334, \"LongDescription\",, \"T\"))","v":""},{"$f":"IFERROR(RTD(\"cqg.rtd\", ,\"ContractData\",Q334, \"PerCentNetLastTrade\",, \"T\")/100,\"\")","v":""},0]
[334,{"$f":"IFERROR(VLOOKUP(A335,Data!$H$2:$J$507,3,FALSE),\"\")","v":""},{"$f":"IFERROR(RTD(\"cqg.rtd\", ,\"ContractData\",B335, \"PerCentNetLastTrade\",, \"T\")/100,\"\")","v":""},{"$f":"IFERROR(RANK($C335,$C$2:C$507)+COUNTIF($C$2:C335,C335)-1,\"\")","v":""},"",334,"",{"$f":"IF(G335=\"\",\"\",RTD(\"cqg.rtd\", ,\"ContractData\",G335, \"LongDescription\",, \"T\"))","v":""},{"$f":"IFERROR(RTD(\"cqg.rtd\", ,\"ContractData\",G335, \"PerCentNetLastTrade\",, \"T\")/100,\"\")","v":""},0,334,{"$f":"IFERROR(VLOOKUP(A335,Data!$I$2:$J$507,2,FALSE),\"\")","v":""},{"$f":"IFERROR(RTD(\"cqg.rtd\", ,\"ContractData\",L335, \"PerCentNetLastTrade\",, \"T\")/100,\"\")","v":""},{"$f":"IFERROR(RANK($M335,$M$2:M$507)+COUNTIF($M$2:M335,M335)-1,\"\")","v":""},"",334,"",{"$f":"IF(Q335=\"\",\"\",RTD(\"cqg.rtd\", ,\"ContractData\",Q335, \"LongDescription\",, \"T\"))","v":""},{"$f":"IFERROR(RTD(\"cqg.rtd\", ,\"ContractData\",Q335, \"PerCentNetLastTrade\",, \"T\")/100,\"\")","v":""},0]
[335,{"$f":"IFERROR(VLOOKUP(A336,Data!$H$2:$J$507,3,FALSE),\"\")","v":""},{"$f":"IFERROR(RTD(\"cqg.rtd\", ,\"ContractData\",B336, \"PerCentNetLastTrade\",, \"T\")/100,\"\")","v":""},{"$f":"IFERROR(RANK($C336,$C$2:C$507)+COUNTIF($C$2:C336,C336)-1,\"\")","v":""},"",335,"",{"$f":"IF(G336=\"\",\"\",RTD(\"cqg.rtd\", ,\"ContractData\",G336, \"LongDescription\",, \"T\"))","v":""},{"$f":"IFERROR(RTD(\"cqg.rtd\", ,\"ContractData\",G336, \"PerCentNetLastTrade\",, \"T\")/100,\"\")","v":""},0,335,{"$f":"IFERROR(VLOOKUP(A336,Data!$I$2:$J$507,2,FALSE),\"\")","v":""},{"$f":"IFERROR(RTD(\"cqg.rtd\", ,\"ContractData\",L336, \"PerCentNetLastTrade\",, \"T\")/100,\"\")","v":""},{"$f":"IFERROR(RANK($M336,$M$2:M$507)+COUNTIF($M$2:M336,M336)-1,\"\")","v":""},"",335,"",{"$f":"IF(Q336=\"\",\"\",RTD(\"cqg.rtd\", ,\"ContractData\",Q336, \"LongDescription\",, \"T\"))","v":""},{"$f":"IFERROR(RTD(\"cqg.rtd\", ,\"ContractData\",Q336, \"PerCentNetLastTrade\",, \"T\")/100,\"\")","v":""},0]
[336,{"$f":"IFERROR(VLOOKUP(A337,Data!$H$2:$J$507,3,FALSE),\"\")","v":""},{"$f":"IFERROR(RTD(\"cqg.rtd\", ,\"ContractData\",B337, \"PerCentNetLastTrade\",, \"T\")/100,\"\")","v":""},{"$f":"IFERROR(RANK($C337,$C$2:C$507)+COUNTIF($C$2:C337,C337)-1,\"\")","v":""},"",336,"",{"$f":"IF(G337=\"\",\"\",RTD(\"cqg.rtd\", ,\"ContractData\",G337, \"LongDescription\",, \"T\"))","v":""},{"$f":"IFERROR(RTD(\"cqg.rtd\", ,\"ContractData\",G337, \"PerCentNetLastTrade\",, \"T\")/100,\"\")","v":""},0,336,{"$f":"IFERROR(VLOOKUP(A337,Data!$I$2:$J$507,2,FALSE),\"\")","v":""},{"$f":"IFERROR(RTD(\"cqg.rtd\", ,\"ContractData\",L337, \"PerCentNetLastTrade\",, \"T\")/100,\"\")","v":""},{"$f":"IFERROR(RANK($M337,$M$2:M$507)+COUNTIF($M$2:M337,M337)-1,\"\")","v":""},"",336,"",{"$f":"IF(Q337=\"\",\"\",RTD(\"cqg.rtd\", ,\"ContractData\",Q337, \"LongDescription\",, \"T\"))","v":""},{"$f":"IFERROR(RTD(\"cqg.rtd\", ,\"ContractData\",Q337, \"PerCentNetLastTrade\",, \"T\")/100,\"\")","v":""},0]
[337,{"$f":"IFERROR(VLOOKUP(A338,Data!$H$2:$J$507,3,FALSE),\"\")","v":""},{"$f":"IFERROR(RTD(\"cqg.rtd\", ,\"ContractData\",B338, \"PerCentNetLastTrade\",, \"T\")/100,\"\")","v":""},{"$f":"IFERROR(RANK($C338,$C$2:C$507)+COUNTIF($C$2:C338,C338)-1,\"\")","v":""},"",337,"",{"$f":"IF(G338=\"\",\"\",RTD(\"cqg.rtd\", ,\"ContractData\",G338, \"LongDescription\",, \"T\"))","v":""},{"$f":"IFERROR(RTD(\"cqg.rtd\", ,\"ContractData\",G338, \"PerCentNetLastTrade\",, \"T\")/100,\"\")","v":""},0,337,{"$f":"IFERROR(VLOOKUP(A338,Data!$I$2:$J$507,2,FALSE),\"\")","v":""},{"$f":"IFERROR(RTD(\"cqg.rtd\", ,\"ContractData\",L338, \"PerCentNetLastTrade\",, \"T\")/100,\"\")","v":""},{"$f":"IFERROR(RANK($M338,$M$2:M$507)+COUNTIF($M$2:M338,M338)-1,\"\")","v":""},"",337,"",{"$f":"IF(Q338=\"\",\"\",RTD(\"cqg.rtd\", ,\"ContractData\",Q338, \"LongDescription\",, \"T\"))","v":""},{"$f":"IFERROR(RTD(\"cqg.rtd\", ,\"ContractData\",Q338, \"PerCentNetLastTrade\",, \"T\")/100,\"\")","v":""},0]
[338,{"$f":"IFERROR(VLOOKUP(A339,Data!$H$2:$J$507,3,FALSE),\"\")","v":""},{"$f":"IFERROR(RTD(\"cqg.rtd\", ,\"ContractData\",B339, \"PerCentNetLastTrade\",, \"T\")/100,\"\")","v":""},{"$f":"IFERROR(RANK($C339,$C$2:C$507)+COUNTIF($C$2:C339,C339)-1,\"\")","v":""},"",338,"",{"$f":"IF(G339=\"\",\"\",RTD(\"cqg.rtd\", ,\"ContractData\",G339, \"LongDescription\",, \"T\"))","v":""},{"$f":"IFERROR(RTD(\"cqg.rtd\", ,\"ContractData\",G339, \"PerCentNetLastTrade\",, \"T\")/100,\"\")","v":""},0,338,{"$f":"IFERROR(VLOOKUP(A339,Data!$I$2:$J$507,2,FALSE),\"\")","v":""},{"$f":"IFERROR(RTD(\"cqg.rtd\", ,\"ContractData\",L339, \"PerCentNetLastTrade\",, \"T\")/100,\"\")","v":""},{"$f":"IFERROR(RANK($M339,$M$2:M$507)+COUNTIF($M$2:M339,M339)-1,\"\")","v":""},"",338,"",{"$f":"IF(Q339=\"\",\"\",RTD(\"cqg.rtd\", ,\"ContractData\",Q339, \"LongDescription\",, \"T\"))","v":""},{"$f":"IFERROR(RTD(\"cqg.rtd\", ,\"ContractData\",Q339, \"PerCentNetLastTrade\",, \"T\")/100,\"\")","v":""},0]
[339,{"$f":"IFERROR(VLOOKUP(A340,Data!$H$2:$J$507,3,FALSE),\"\")","v":""},{"$f":"IFERROR(RTD(\"cqg.rtd\", ,\"ContractData\",B340, \"PerCentNetLastTrade\",, \"T\")/100,\"\")","v":""},{"$f":"IFERROR(RANK($C340,$C$2:C$507)+COUNTIF($C$2:C340,C340)-1,\"\")","v":""},"",339,"",{"$f":"IF(G340=\"\",\"\",RTD(\"cqg.rtd\", ,\"ContractData\",G340, \"LongDescription\",, \"T\"))","v":""},{"$f":"IFERROR(RTD(\"cqg.rtd\", ,\"ContractData\",G340, \"PerCentNetLastTrade\",, \"T\")/100,\"\")","v":""},0,339,{"$f":"IFERROR(VLOOKUP(A340,Data!$I$2:$J$507,2,FALSE),\"\")","v":""},{"$f":"IFERROR(RTD(\"cqg.rtd\", ,\"ContractData\",L340, \"PerCentNetLastTrade\",, \"T\")/100,\"\")","v":""},{"$f":"IFERROR(RANK($M340,$M$2:M$507)+COUNTIF($M$2:M340,M340)-1,\"\")","v":""},"",339,"",{"$f":"IF(Q340=\"\",\"\",RTD(\"cqg.rtd\", ,\"ContractData\",Q340, \"LongDescription\",, \"T\"))","v":""},{"$f":"IFERROR(RTD(\"cqg.rtd\", ,\"ContractData\",Q340, \"PerCentNetLastTrade\",, \"T\")/100,\"\")","v":""},0]
[340,{"$f":"IFERROR(VLOOKUP(A341,Data!$H$2:$J$507,3,FALSE),\"\")","v":""},{"$f":"IFERROR(RTD(\"cqg.rtd\", ,\"ContractData\",B341, \"PerCentNetLastTrade\",, \"T\")/100,\"\")","v":""},{"$f":"IFERROR(RANK($C341,$C$2:C$507)+COUNTIF($C$2:C341,C341)-1,\"\")","v":""},"",340,"",{"$f":"IF(G341=\"\",\"\",RTD(\"cqg.rtd\", ,\"ContractData\",G341, \"LongDescription\",, \"T\"))","v":""},{"$f":"IFERROR(RTD(\"cqg.rtd\", ,\"ContractData\",G341, \"PerCentNetLastTrade\",, \"T\")/100,\"\")","v":""},0,340,{"$f":"IFERROR(VLOOKUP(A341,Data!$I$2:$J$507,2,FALSE),\"\")","v":""},{"$f":"IFERROR(RTD(\"cqg.rtd\", ,\"ContractData\",L341, \"PerCentNetLastTrade\",, \"T\")/100,\"\")","v":""},{"$f":"IFERROR(RANK($M341,$M$2:M$507)+COUNTIF($M$2:M341,M341)-1,\"\")","v":""},"",340,"",{"$f":"IF(Q341=\"\",\"\",RTD(\"cqg.rtd\", ,\"ContractData\",Q341, \"LongDescription\",, \"T\"))","v":""},{"$f":"IFERROR(RTD(\"cqg.rtd\", ,\"ContractData\",Q341, \"PerCentNetLastTrade\",, \"T\")/100,\"\")","v":""},0]
[341,{"$f":"IFERROR(VLOOKUP(A342,Data!$H$2:$J$507,3,FALSE),\"\")","v":""},{"$f":"IFERROR(RTD(\"cqg.rtd\", ,\"ContractData\",B342, \"PerCentNetLastTrade\",, \"T\")/100,\"\")","v":""},{"$f":"IFERROR(RANK($C342,$C$2:C$507)+COUNTIF($C$2:C342,C342)-1,\"\")","v":""},"",341,"",{"$f":"IF(G342=\"\",\"\",RTD(\"cqg.rtd\", ,\"ContractData\",G342, \"LongDescription\",, \"T\"))","v":""},{"$f":"IFERROR(RTD(\"cqg.rtd\", ,\"ContractData\",G342, \"PerCentNetLastTrade\",, \"T\")/100,\"\")","v":""},0,341,{"$f":"IFERROR(VLOOKUP(A342,Data!$I$2:$J$507,2,FALSE),\"\")","v":""},{"$f":"IFERROR(RTD(\"cqg.rtd\", ,\"ContractData\",L342, \"PerCentNetLastTrade\",, \"T\")/100,\"\")","v":""},{"$f":"IFERROR(RANK($M342,$M$2:M$507)+COUNTIF($M$2:M342,M342)-1,\"\")","v":""},"",341,"",{"$f":"IF(Q342=\"\",\"\",RTD(\"cqg.rtd\", ,\"ContractData\",Q342, \"LongDescription\",, \"T\"))","v":""},{"$f":"IFERROR(RTD(\"cqg.rtd\", ,\"ContractData\",Q342, \"PerCentNetLastTrade\",, \"T\")/100,\"\")","v":""},0]
[342,{"$f":"IFERROR(VLOOKUP(A343,Data!$H$2:$J$507,3,FALSE),\"\")","v":""},{"$f":"IFERROR(RTD(\"cqg.rtd\", ,\"ContractData\",B343, \"PerCentNetLastTrade\",, \"T\")/100,\"\")","v":""},{"$f":"IFERROR(RANK($C343,$C$2:C$507)+COUNTIF($C$2:C343,C343)-1,\"\")","v":""},"",342,"",{"$f":"IF(G343=\"\",\"\",RTD(\"cqg.rtd\", ,\"ContractData\",G343, \"LongDescription\",, \"T\"))","v":""},{"$f":"IFERROR(RTD(\"cqg.rtd\", ,\"ContractData\",G343, \"PerCentNetLastTrade\",, \"T\")/100,\"\")","v":""},0,342,{"$f":"IFERROR(VLOOKUP(A343,Data!$I$2:$J$507,2,FALSE),\"\")","v":""},{"$f":"IFERROR(RTD(\"cqg.rtd\", ,\"ContractData\",L343, \"PerCentNetLastTrade\",, \"T\")/100,\"\")","v":""},{"$f":"IFERROR(RANK($M343,$M$2:M$507)+COUNTIF($M$2:M343,M343)-1,\"\")","v":""},"",342,"",{"$f":"IF(Q343=\"\",\"\",RTD(\"cqg.rtd\", ,\"ContractData\",Q343, \"LongDescription\",, \"T\"))","v":""},{"$f":"IFERROR(RTD(\"cqg.rtd\", ,\"ContractData\",Q343, \"PerCentNetLastTrade\",, \"T\")/100,\"\")","v":""},0]
[343,{"$f":"IFERROR(VLOOKUP(A344,Data!$H$2:$J$507,3,FALSE),\"\")","v":""},{"$f":"IFERROR(RTD(\"cqg.rtd\", ,\"ContractData\",B344, \"PerCentNetLastTrade\",, \"T\")/100,\"\")","v":""},{"$f":"IFERROR(RANK($C344,$C$2:C$507)+COUNTIF($C$2:C344,C344)-1,\"\")","v":""},"",343,"",{"$f":"IF(G344=\"\",\"\",RTD(\"cqg.rtd\", ,\"ContractData\",G344, \"LongDescription\",, \"T\"))","v":""},{"$f":"IFERROR(RTD(\"cqg.rtd\", ,\"ContractData\",G344, \"PerCentNetLastTrade\",, \"T\")/100,\"\")","v":""},0,343,{"$f":"IFERROR(VLOOKUP(A344,Data!$I$2:$J$507,2,FALSE),\"\")","v":""},{"$f":"IFERROR(RTD(\"cqg.rtd\", ,\"ContractData\",L344, \"PerCentNetLastTrade\",, \"T\")/100,\"\")","v":""},{"$f":"IFERROR(RANK($M344,$M$2:M$507)+COUNTIF($M$2:M344,M344)-1,\"\")","v":""},"",343,"",{"$f":"IF(Q344=\"\",\"\",RTD(\"cqg.rtd\", ,\"ContractData\",Q344, \"LongDescription\",, \"T\"))","v":""},{"$f":"IFERROR(RTD(\"cqg.rtd\", ,\"ContractData\",Q344, \"PerCentNetLastTrade\",, \"T\")/100,\"\")","v":""},0]
[344,{"$f":"IFERROR(VLOOKUP(A345,Data!$H$2:$J$507,3,FALSE),\"\")","v":""},{"$f":"IFERROR(RTD(\"cqg.rtd\", ,\"ContractData\",B345, \"PerCentNetLastTrade\",, \"T\")/100,\"\")","v":""},{"$f":"IFERROR(RANK($C345,$C$2:C$507)+COUNTIF($C$2:C345,C345)-1,\"\")","v":""},"",344,"",{"$f":"IF(G345=\"\",\"\",RTD(\"cqg.rtd\", ,\"ContractData\",G345, \"LongDescription\",, \"T\"))","v":""},{"$f":"IFERROR(RTD(\"cqg.rtd\", ,\"ContractData\",G345, \"PerCentNetLastTrade\",, \"T\")/100,\"\")","v":""},0,344,{"$f":"IFERROR(VLOOKUP(A345,Data!$I$2:$J$507,2,FALSE),\"\")","v":""},{"$f":"IFERROR(RTD(\"cqg.rtd\", ,\"ContractData\",L345, \"PerCentNetLastTrade\",, \"T\")/100,\"\")","v":""},{"$f":"IFERROR(RANK($M345,$M$2:M$507)+COUNTIF($M$2:M345,M345)-1,\"\")","v":""},"",344,"",{"$f":"IF(Q345=\"\",\"\",RTD(\"cqg.rtd\", ,\"ContractData\",Q345, \"LongDescription\",, \"T\"))","v":""},{"$f":"IFERROR(RTD(\"cqg.rtd\", ,\"ContractData\",Q345, \"PerCentNetLastTrade\",, \"T\")/100,\"\")","v":""},0]
[345,{"$f":"IFERROR(VLOOKUP(A346,Data!$H$2:$J$507,3,FALSE),\"\")","v":""},{"$f":"IFERROR(RTD(\"cqg.rtd\", ,\"ContractData\",B346, \"PerCentNetLastTrade\",, \"T\")/100,\"\")","v":""},{"$f":"IFERROR(RANK($C346,$C$2:C$507)+COUNTIF($C$2:C346,C346)-1,\"\")","v":""},"",345,"",{"$f":"IF(G346=\"\",\"\",RTD(\"cqg.rtd\", ,\"ContractData\",G346, \"LongDescription\",, \"T\"))","v":""},{"$f":"IFERROR(RTD(\"cqg.rtd\", ,\"ContractData\",G346, \"PerCentNetLastTrade\",, \"T\")/100,\"\")","v":""},0,345,{"$f":"IFERROR(VLOOKUP(A346,Data!$I$2:$J$507,2,FALSE),\"\")","v":""},{"$f":"IFERROR(RTD(\"cqg.rtd\", ,\"ContractData\",L346, \"PerCentNetLastTrade\",, \"T\")/100,\"\")","v":""},{"$f":"IFERROR(RANK($M346,$M$2:M$507)+COUNTIF($M$2:M346,M346)-1,\"\")","v":""},"",345,"",{"$f":"IF(Q346=\"\",\"\",RTD(\"cqg.rtd\", ,\"ContractData\",Q346, \"LongDescription\",, \"T\"))","v":""},{"$f":"IFERROR(RTD(\"cqg.rtd\", ,\"ContractData\",Q346, \"PerCentNetLastTrade\",, \"T\")/100,\"\")","v":""},0]
[346,{"$f":"IFERROR(VLOOKUP(A347,Data!$H$2:$J$507,3,FALSE),\"\")","v":""},{"$f":"IFERROR(RTD(\"cqg.rtd\", ,\"ContractData\",B347, \"PerCentNetLastTrade\",, \"T\")/100,\"\")","v":""},{"$f":"IFERROR(RANK($C347,$C$2:C$507)+COUNTIF($C$2:C347,C347)-1,\"\")","v":""},"",346,"",{"$f":"IF(G347=\"\",\"\",RTD(\"cqg.rtd\", ,\"ContractData\",G347, \"LongDescription\",, \"T\"))","v":""},{"$f":"IFERROR(RTD(\"cqg.rtd\", ,\"ContractData\",G347, \"PerCentNetLastTrade\",, \"T\")/100,\"\")","v":""},0,346,{"$f":"IFERROR(VLOOKUP(A347,Data!$I$2:$J$507,2,FALSE),\"\")","v":""},{"$f":"IFERROR(RTD(\"cqg.rtd\", ,\"ContractData\",L347, \"PerCentNetLastTrade\",, \"T\")/100,\"\")","v":""},{"$f":"IFERROR(RANK($M347,$M$2:M$507)+COUNTIF($M$2:M347,M347)-1,\"\")","v":""},"",346,"",{"$f":"IF(Q347=\"\",\"\",RTD(\"cqg.rtd\", ,\"ContractData\",Q347, \"LongDescription\",, \"T\"))","v":""},{"$f":"IFERROR(RTD(\"cqg.rtd\", ,\"ContractData\",Q347, \"PerCentNetLastTrade\",, \"T\")/100,\"\")","v":""},0]
[347,{"$f":"IFERROR(VLOOKUP(A348,Data!$H$2:$J$507,3,FALSE),\"\")","v":""},{"$f":"IFERROR(RTD(\"cqg.rtd\", ,\"ContractData\",B348, \"PerCentNetLastTrade\",, \"T\")/100,\"\")","v":""},{"$f":"IFERROR(RANK($C348,$C$2:C$507)+COUNTIF($C$2:C348,C348)-1,\"\")","v":""},"",347,"",{"$f":"IF(G348=\"\",\"\",RTD(\"cqg.rtd\", ,\"ContractData\",G348, \"LongDescription\",, \"T\"))","v":""},{"$f":"IFERROR(RTD(\"cqg.rtd\", ,\"ContractData\",G348, \"PerCentNetLastTrade\",, \"T\")/100,\"\")","v":""},0,347,{"$f":"IFERROR(VLOOKUP(A348,Data!$I$2:$J$507,2,FALSE),\"\")","v":""},{"$f":"IFERROR(RTD(\"cqg.rtd\", ,\"ContractData\",L348, \"PerCentNetLastTrade\",, \"T\")/100,\"\")","v":""},{"$f":"IFERROR(RANK($M348,$M$2:M$507)+COUNTIF($M$2:M348,M348)-1,\"\")","v":""},"",347,"",{"$f":"IF(Q348=\"\",\"\",RTD(\"cqg.rtd\", ,\"ContractData\",Q348, \"LongDescription\",, \"T\"))","v":""},{"$f":"IFERROR(RTD(\"cqg.rtd\", ,\"ContractData\",Q348, \"PerCentNetLastTrade\",, \"T\")/100,\"\")","v":""},0]
[348,{"$f":"IFERROR(VLOOKUP(A349,Data!$H$2:$J$507,3,FALSE),\"\")","v":""},{"$f":"IFERROR(RTD(\"cqg.rtd\", ,\"ContractData\",B349, \"PerCentNetLastTrade\",, \"T\")/100,\"\")","v":""},{"$f":"IFERROR(RANK($C349,$C$2:C$507)+COUNTIF($C$2:C349,C349)-1,\"\")","v":""},"",348,"",{"$f":"IF(G349=\"\",\"\",RTD(\"cqg.rtd\", ,\"ContractData\",G349, \"LongDescription\",, \"T\"))","v":""},{"$f":"IFERROR(RTD(\"cqg.rtd\", ,\"ContractData\",G349, \"PerCentNetLastTrade\",, \"T\")/100,\"\")","v":""},0,348,{"$f":"IFERROR(VLOOKUP(A349,Data!$I$2:$J$507,2,FALSE),\"\")","v":""},{"$f":"IFERROR(RTD(\"cqg.rtd\", ,\"ContractData\",L349, \"PerCentNetLastTrade\",, \"T\")/100,\"\")","v":""},{"$f":"IFERROR(RANK($M349,$M$2:M$507)+COUNTIF($M$2:M349,M349)-1,\"\")","v":""},"",348,"",{"$f":"IF(Q349=\"\",\"\",RTD(\"cqg.rtd\", ,\"ContractData\",Q349, \"LongDescription\",, \"T\"))","v":""},{"$f":"IFERROR(RTD(\"cqg.rtd\", ,\"ContractData\",Q349, \"PerCentNetLastTrade\",, \"T\")/100,\"\")","v":""},0]
[349,{"$f":"IFERROR(VLOOKUP(A350,Data!$H$2:$J$507,3,FALSE),\"\")","v":""},{"$f":"IFERROR(RTD(\"cqg.rtd\", ,\"ContractData\",B350, \"PerCentNetLastTrade\",, \"T\")/100,\"\")","v":""},{"$f":"IFERROR(RANK($C350,$C$2:C$507)+COUNTIF($C$2:C350,C350)-1,\"\")","v":""},"",349,"",{"$f":"IF(G350=\"\",\"\",RTD(\"cqg.rtd\", ,\"ContractData\",G350, \"LongDescription\",, \"T\"))","v":""},{"$f":"IFERROR(RTD(\"cqg.rtd\", ,\"ContractData\",G350, \"PerCentNetLastTrade\",, \"T\")/100,\"\")","v":""},0,349,{"$f":"IFERROR(VLOOKUP(A350,Data!$I$2:$J$507,2,FALSE),\"\")","v":""},{"$f":"IFERROR(RTD(\"cqg.rtd\", ,\"ContractData\",L350, \"PerCentNetLastTrade\",, \"T\")/100,\"\")","v":""},{"$f":"IFERROR(RANK($M350,$M$2:M$507)+COUNTIF($M$2:M350,M350)-1,\"\")","v":""},"",349,"",{"$f":"IF(Q350=\"\",\"\",RTD(\"cqg.rtd\", ,\"ContractData\",Q350, \"LongDescription\",, \"T\"))","v":""},{"$f":"IFERROR(RTD(\"cqg.rtd\", ,\"ContractData\",Q350, \"PerCentNetLastTrade\",, \"T\")/100,\"\")","v":""},0]
[350,{"$f":"IFERROR(VLOOKUP(A351,Data!$H$2:$J$507,3,FALSE),\"\")","v":""},{"$f":"IFERROR(RTD(\"cqg.rtd\", ,\"ContractData\",B351, \"PerCentNetLastTrade\",, \"T\")/100,\"\")","v":""},{"$f":"IFERROR(RANK($C351,$C$2:C$507)+COUNTIF($C$2:C351,C351)-1,\"\")","v":""},"",350,"",{"$f":"IF(G351=\"\",\"\",RTD(\"cqg.rtd\", ,\"ContractData\",G351, \"LongDescription\",, \"T\"))","v":""},{"$f":"IFERROR(RTD(\"cqg.rtd\", ,\"ContractData\",G351, \"PerCentNetLastTrade\",, \"T\")/100,\"\")","v":""},0,350,{"$f":"IFERROR(VLOOKUP(A351,Data!$I$2:$J$507,2,FALSE),\"\")","v":""},{"$f":"IFERROR(RTD(\"cqg.rtd\", ,\"ContractData\",L351, \"PerCentNetLastTrade\",, \"T\")/100,\"\")","v":""},{"$f":"IFERROR(RANK($M351,$M$2:M$507)+COUNTIF($M$2:M351,M351)-1,\"\")","v":""},"",350,"",{"$f":"IF(Q351=\"\",\"\",RTD(\"cqg.rtd\", ,\"ContractData\",Q351, \"LongDescription\",, \"T\"))","v":""},{"$f":"IFERROR(RTD(\"cqg.rtd\", ,\"ContractData\",Q351, \"PerCentNetLastTrade\",, \"T\")/100,\"\")","v":""},0]
[351,{"$f":"IFERROR(VLOOKUP(A352,Data!$H$2:$J$507,3,FALSE),\"\")","v":""},{"$f":"IFERROR(RTD(\"cqg.rtd\", ,\"ContractData\",B352, \"PerCentNetLastTrade\",, \"T\")/100,\"\")","v":""},{"$f":"IFERROR(RANK($C352,$C$2:C$507)+COUNTIF($C$2:C352,C352)-1,\"\")","v":""},"",351,"",{"$f":"IF(G352=\"\",\"\",RTD(\"cqg.rtd\", ,\"ContractData\",G352, \"LongDescription\",, \"T\"))","v":""},{"$f":"IFERROR(RTD(\"cqg.rtd\", ,\"ContractData\",G352, \"PerCentNetLastTrade\",, \"T\")/100,\"\")","v":""},0,351,{"$f":"IFERROR(VLOOKUP(A352,Data!$I$2:$J$507,2,FALSE),\"\")","v":""},{"$f":"IFERROR(RTD(\"cqg.rtd\", ,\"ContractData\",L352, \"PerCentNetLastTrade\",, \"T\")/100,\"\")","v":""},{"$f":"IFERROR(RANK($M352,$M$2:M$507)+COUNTIF($M$2:M352,M352)-1,\"\")","v":""},"",351,"",{"$f":"IF(Q352=\"\",\"\",RTD(\"cqg.rtd\", ,\"ContractData\",Q352, \"LongDescription\",, \"T\"))","v":""},{"$f":"IFERROR(RTD(\"cqg.rtd\", ,\"ContractData\",Q352, \"PerCentNetLastTrade\",, \"T\")/100,\"\")","v":""},0]
[352,{"$f":"IFERROR(VLOOKUP(A353,Data!$H$2:$J$507,3,FALSE),\"\")","v":""},{"$f":"IFERROR(RTD(\"cqg.rtd\", ,\"ContractData\",B353, \"PerCentNetLastTrade\",, \"T\")/100,\"\")","v":""},{"$f":"IFERROR(RANK($C353,$C$2:C$507)+COUNTIF($C$2:C353,C353)-1,\"\")","v":""},"",352,"",{"$f":"IF(G353=\"\",\"\",RTD(\"cqg.rtd\", ,\"ContractData\",G353, \"LongDescription\",, \"T\"))","v":""},{"$f":"IFERROR(RTD(\"cqg.rtd\", ,\"ContractData\",G353, \"PerCentNetLastTrade\",, \"T\")/100,\"\")","v":""},0,352,{"$f":"IFERROR(VLOOKUP(A353,Data!$I$2:$J$507,2,FALSE),\"\")","v":""},{"$f":"IFERROR(RTD(\"cqg.rtd\", ,\"ContractData\",L353, \"PerCentNetLastTrade\",, \"T\")/100,\"\")","v":""},{"$f":"IFERROR(RANK($M353,$M$2:M$507)+COUNTIF($M$2:M353,M353)-1,\"\")","v":""},"",352,"",{"$f":"IF(Q353=\"\",\"\",RTD(\"cqg.rtd\", ,\"ContractData\",Q353, \"LongDescription\",, \"T\"))","v":""},{"$f":"IFERROR(RTD(\"cqg.rtd\", ,\"ContractData\",Q353, \"PerCentNetLastTrade\",, \"T\")/100,\"\")","v":""},0]
[353,{"$f":"IFERROR(VLOOKUP(A354,Data!$H$2:$J$507,3,FALSE),\"\")","v":""},{"$f":"IFERROR(RTD(\"cqg.rtd\", ,\"ContractData\",B354, \"PerCentNetLastTrade\",, \"T\")/100,\"\")","v":""},{"$f":"IFERROR(RANK($C354,$C$2:C$507)+COUNTIF($C$2:C354,C354)-1,\"\")","v":""},"",353,"",{"$f":"IF(G354=\"\",\"\",RTD(\"cqg.rtd\", ,\"ContractData\",G354, \"LongDescription\",, \"T\"))","v":""},{"$f":"IFERROR(RTD(\"cqg.rtd\", ,\"ContractData\",G354, \"PerCentNetLastTrade\",, \"T\")/100,\"\")","v":""},0,353,{"$f":"IFERROR(VLOOKUP(A354,Data!$I$2:$J$507,2,FALSE),\"\")","v":""},{"$f":"IFERROR(RTD(\"cqg.rtd\", ,\"ContractData\",L354, \"PerCentNetLastTrade\",, \"T\")/100,\"\")","v":""},{"$f":"IFERROR(RANK($M354,$M$2:M$507)+COUNTIF($M$2:M354,M354)-1,\"\")","v":""},"",353,"",{"$f":"IF(Q354=\"\",\"\",RTD(\"cqg.rtd\", ,\"ContractData\",Q354, \"LongDescription\",, \"T\"))","v":""},{"$f":"IFERROR(RTD(\"cqg.rtd\", ,\"ContractData\",Q354, \"PerCentNetLastTrade\",, \"T\")/100,\"\")","v":""},0]
[354,{"$f":"IFERROR(VLOOKUP(A355,Data!$H$2:$J$507,3,FALSE),\"\")","v":""},{"$f":"IFERROR(RTD(\"cqg.rtd\", ,\"ContractData\",B355, \"PerCentNetLastTrade\",, \"T\")/100,\"\")","v":""},{"$f":"IFERROR(RANK($C355,$C$2:C$507)+COUNTIF($C$2:C355,C355)-1,\"\")","v":""},"",354,"",{"$f":"IF(G355=\"\",\"\",RTD(\"cqg.rtd\", ,\"ContractData\",G355, \"LongDescription\",, \"T\"))","v":""},{"$f":"IFERROR(RTD(\"cqg.rtd\", ,\"ContractData\",G355, \"PerCentNetLastTrade\",, \"T\")/100,\"\")","v":""},0,354,{"$f":"IFERROR(VLOOKUP(A355,Data!$I$2:$J$507,2,FALSE),\"\")","v":""},{"$f":"IFERROR(RTD(\"cqg.rtd\", ,\"ContractData\",L355, \"PerCentNetLastTrade\",, \"T\")/100,\"\")","v":""},{"$f":"IFERROR(RANK($M355,$M$2:M$507)+COUNTIF($M$2:M355,M355)-1,\"\")","v":""},"",354,"",{"$f":"IF(Q355=\"\",\"\",RTD(\"cqg.rtd\", ,\"ContractData\",Q355, \"LongDescription\",, \"T\"))","v":""},{"$f":"IFERROR(RTD(\"cqg.rtd\", ,\"ContractData\",Q355, \"PerCentNetLastTrade\",, \"T\")/100,\"\")","v":""},0]
[355,{"$f":"IFERROR(VLOOKUP(A356,Data!$H$2:$J$507,3,FALSE),\"\")","v":""},{"$f":"IFERROR(RTD(\"cqg.rtd\", ,\"ContractData\",B356, \"PerCentNetLastTrade\",, \"T\")/100,\"\")","v":""},{"$f":"IFERROR(RANK($C356,$C$2:C$507)+COUNTIF($C$2:C356,C356)-1,\"\")","v":""},"",355,"",{"$f":"IF(G356=\"\",\"\",RTD(\"cqg.rtd\", ,\"ContractData\",G356, \"LongDescription\",, \"T\"))","v":""},{"$f":"IFERROR(RTD(\"cqg.rtd\", ,\"ContractData\",G356, \"PerCentNetLastTrade\",, \"T\")/100,\"\")","v":""},0,355,{"$f":"IFERROR(VLOOKUP(A356,Data!$I$2:$J$507,2,FALSE),\"\")","v":""},{"$f":"IFERROR(RTD(\"cqg.rtd\", ,\"ContractData\",L356, \"PerCentNetLastTrade\",, \"T\")/100,\"\")","v":""},{"$f":"IFERROR(RANK($M356,$M$2:M$507)+COUNTIF($M$2:M356,M356)-1,\"\")","v":""},"",355,"",{"$f":"IF(Q356=\"\",\"\",RTD(\"cqg.rtd\", ,\"ContractData\",Q356, \"LongDescription\",, \"T\"))","v":""},{"$f":"IFERROR(RTD(\"cqg.rtd\", ,\"ContractData\",Q356, \"PerCentNetLastTrade\",, \"T\")/100,\"\")","v":""},0]
[356,{"$f":"IFERROR(VLOOKUP(A357,Data!$H$2:$J$507,3,FALSE),\"\")","v":""},{"$f":"IFERROR(RTD(\"cqg.rtd\", ,\"ContractData\",B357, \"PerCentNetLastTrade\",, \"T\")/100,\"\")","v":""},{"$f":"IFERROR(RANK($C357,$C$2:C$507)+COUNTIF($C$2:C357,C357)-1,\"\")","v":""},"",356,"",{"$f":"IF(G357=\"\",\"\",RTD(\"cqg.rtd\", ,\"ContractData\",G357, \"LongDescription\",, \"T\"))","v":""},{"$f":"IFERROR(RTD(\"cqg.rtd\", ,\"ContractData\",G357, \"PerCentNetLastTrade\",, \"T\")/100,\"\")","v":""},0,356,{"$f":"IFERROR(VLOOKUP(A357,Data!$I$2:$J$507,2,FALSE),\"\")","v":""},{"$f":"IFERROR(RTD(\"cqg.rtd\", ,\"ContractData\",L357, \"PerCentNetLastTrade\",, \"T\")/100,\"\")","v":""},{"$f":"IFERROR(RANK($M357,$M$2:M$507)+COUNTIF($M$2:M357,M357)-1,\"\")","v":""},"",356,"",{"$f":"IF(Q357=\"\",\"\",RTD(\"cqg.rtd\", ,\"ContractData\",Q357, \"LongDescription\",, \"T\"))","v":""},{"$f":"IFERROR(RTD(\"cqg.rtd\", ,\"ContractData\",Q357, \"PerCentNetLastTrade\",, \"T\")/100,\"\")","v":""},0]
[357,{"$f":"IFERROR(VLOOKUP(A358,Data!$H$2:$J$507,3,FALSE),\"\")","v":""},{"$f":"IFERROR(RTD(\"cqg.rtd\", ,\"ContractData\",B358, \"PerCentNetLastTrade\",, \"T\")/100,\"\")","v":""},{"$f":"IFERROR(RANK($C358,$C$2:C$507)+COUNTIF($C$2:C358,C358)-1,\"\")","v":""},"",357,"",{"$f":"IF(G358=\"\",\"\",RTD(\"cqg.rtd\", ,\"ContractData\",G358, \"LongDescription\",, \"T\"))","v":""},{"$f":"IFERROR(RTD(\"cqg.rtd\", ,\"ContractData\",G358, \"PerCentNetLastTrade\",, \"T\")/100,\"\")","v":""},0,357,{"$f":"IFERROR(VLOOKUP(A358,Data!$I$2:$J$507,2,FALSE),\"\")","v":""},{"$f":"IFERROR(RTD(\"cqg.rtd\", ,\"ContractData\",L358, \"PerCentNetLastTrade\",, \"T\")/100,\"\")","v":""},{"$f":"IFERROR(RANK($M358,$M$2:M$507)+COUNTIF($M$2:M358,M358)-1,\"\")","v":""},{"$f":"IF(L358=\"\",\"\",L358)","v":""},357,"",{"$f":"IF(Q358=\"\",\"\",RTD(\"cqg.rtd\", ,\"ContractData\",Q358, \"LongDescription\",, \"T\"))","v":""},{"$f":"IFERROR(RTD(\"cqg.rtd\", ,\"ContractData\",Q358, \"PerCentNetLastTrade\",, \"T\")/100,\"\")","v":""},0]
[358,{"$f":"IFERROR(VLOOKUP(A359,Data!$H$2:$J$507,3,FALSE),\"\")","v":""},{"$f":"IFERROR(RTD(\"cqg.rtd\", ,\"ContractData\",B359, \"PerCentNetLastTrade\",, \"T\")/100,\"\")","v":""},{"$f":"IFERROR(RANK($C359,$C$2:C$507)+COUNTIF($C$2:C359,C359)-1,\"\")","v":""},"",358,"",{"$f":"IF(G359=\"\",\"\",RTD(\"cqg.rtd\", ,\"ContractData\",G359, \"LongDescription\",, \"T\"))","v":""},{"$f":"IFERROR(RTD(\"cqg.rtd\", ,\"ContractData\",G359, \"PerCentNetLastTrade\",, \"T\")/100,\"\")","v":""},{"$f":"IF(I359<>\"\",1,0)","v":0},358,{"$f":"IFERROR(VLOOKUP(A359,Data!$I$2:$J$507,2,FALSE),\"\")","v":""},{"$f":"IFERROR(RTD(\"cqg.rtd\", ,\"ContractData\",L359, \"PerCentNetLastTrade\",, \"T\")/100,\"\")","v":""},{"$f":"IFERROR(RANK($M359,$M$2:M$507)+COUNTIF($M$2:M359,M359)-1,\"\")","v":""},"",358,"",{"$f":"IF(Q359=\"\",\"\",RTD(\"cqg.rtd\", ,\"ContractData\",Q359, \"LongDescription\",, \"T\"))","v":""},{"$f":"IFERROR(RTD(\"cqg.rtd\", ,\"ContractData\",Q359, \"PerCentNetLastTrade\",, \"T\")/100,\"\")","v":""},0]
[359,{"$f":"IFERROR(VLOOKUP(A360,Data!$H$2:$J$507,3,FALSE),\"\")","v":""},{"$f":"IFERROR(RTD(\"cqg.rtd\", ,\"ContractData\",B360, \"PerCentNetLastTrade\",, \"T\")/100,\"\")","v":""},{"$f":"IFERROR(RANK($C360,$C$2:C$507)+COUNTIF($C$2:C360,C360)-1,\"\")","v":""},"",359,"",{"$f":"IF(G360=\"\",\"\",RTD(\"cqg.rtd\", ,\"ContractData\",G360, \"LongDescription\",, \"T\"))","v":""},{"$f":"IFERROR(RTD(\"cqg.rtd\", ,\"ContractData\",G360, \"PerCentNetLastTrade\",, \"T\")/100,\"\")","v":""},0,359,{"$f":"IFERROR(VLOOKUP(A360,Data!$I$2:$J$507,2,FALSE),\"\")","v":""},{"$f":"IFERROR(RTD(\"cqg.rtd\", ,\"ContractData\",L360, \"PerCentNetLastTrade\",, \"T\")/100,\"\")","v":""},{"$f":"IFERROR(RANK($M360,$M$2:M$507)+COUNTIF($M$2:M360,M360)-1,\"\")","v":""},"",359,"",{"$f":"IF(Q360=\"\",\"\",RTD(\"cqg.rtd\", ,\"ContractData\",Q360, \"LongDescription\",, \"T\"))","v":""},{"$f":"IFERROR(RTD(\"cqg.rtd\", ,\"ContractData\",Q360, \"PerCentNetLastTrade\",, \"T\")/100,\"\")","v":""},0]
[360,{"$f":"IFERROR(VLOOKUP(A361,Data!$H$2:$J$507,3,FALSE),\"\")","v":""},{"$f":"IFERROR(RTD(\"cqg.rtd\", ,\"ContractData\",B361, \"PerCentNetLastTrade\",, \"T\")/100,\"\")","v":""},{"$f":"IFERROR(RANK($C361,$C$2:C$507)+COUNTIF($C$2:C361,C361)-1,\"\")","v":""},"",360,"",{"$f":"IF(G361=\"\",\"\",RTD(\"cqg.rtd\", ,\"ContractData\",G361, \"LongDescription\",, \"T\"))","v":""},{"$f":"IFERROR(RTD(\"cqg.rtd\", ,\"ContractData\",G361, \"PerCentNetLastTrade\",, \"T\")/100,\"\")","v":""},0,360,{"$f":"IFERROR(VLOOKUP(A361,Data!$I$2:$J$507,2,FALSE),\"\")","v":""},{"$f":"IFERROR(RTD(\"cqg.rtd\", ,\"ContractData\",L361, \"PerCentNetLastTrade\",, \"T\")/100,\"\")","v":""},{"$f":"IFERROR(RANK($M361,$M$2:M$507)+COUNTIF($M$2:M361,M361)-1,\"\")","v":""},"",360,"",{"$f":"IF(Q361=\"\",\"\",RTD(\"cqg.rtd\", ,\"ContractData\",Q361, \"LongDescription\",, \"T\"))","v":""},{"$f":"IFERROR(RTD(\"cqg.rtd\", ,\"ContractData\",Q361, \"PerCentNetLastTrade\",, \"T\")/100,\"\")","v":""},0]
[361,{"$f":"IFERROR(VLOOKUP(A362,Data!$H$2:$J$507,3,FALSE),\"\")","v":""},{"$f":"IFERROR(RTD(\"cqg.rtd\", ,\"ContractData\",B362, \"PerCentNetLastTrade\",, \"T\")/100,\"\")","v":""},{"$f":"IFERROR(RANK($C362,$C$2:C$507)+COUNTIF($C$2:C362,C362)-1,\"\")","v":""},"",361,"",{"$f":"IF(G362=\"\",\"\",RTD(\"cqg.rtd\", ,\"ContractData\",G362, \"LongDescription\",, \"T\"))","v":""},{"$f":"IFERROR(RTD(\"cqg.rtd\", ,\"ContractData\",G362, \"PerCentNetLastTrade\",, \"T\")/100,\"\")","v":""},0,361,{"$f":"IFERROR(VLOOKUP(A362,Data!$I$2:$J$507,2,FALSE),\"\")","v":""},{"$f":"IFERROR(RTD(\"cqg.rtd\", ,\"ContractData\",L362, \"PerCentNetLastTrade\",, \"T\")/100,\"\")","v":""},{"$f":"IFERROR(RANK($M362,$M$2:M$507)+COUNTIF($M$2:M362,M362)-1,\"\")","v":""},"",361,"",{"$f":"IF(Q362=\"\",\"\",RTD(\"cqg.rtd\", ,\"ContractData\",Q362, \"LongDescription\",, \"T\"))","v":""},{"$f":"IFERROR(RTD(\"cqg.rtd\", ,\"ContractData\",Q362, \"PerCentNetLastTrade\",, \"T\")/100,\"\")","v":""},0]
[362,{"$f":"IFERROR(VLOOKUP(A363,Data!$H$2:$J$507,3,FALSE),\"\")","v":""},{"$f":"IFERROR(RTD(\"cqg.rtd\", ,\"ContractData\",B363, \"PerCentNetLastTrade\",, \"T\")/100,\"\")","v":""},{"$f":"IFERROR(RANK($C363,$C$2:C$507)+COUNTIF($C$2:C363,C363)-1,\"\")","v":""},"",362,"",{"$f":"IF(G363=\"\",\"\",RTD(\"cqg.rtd\", ,\"ContractData\",G363, \"LongDescription\",, \"T\"))","v":""},{"$f":"IFERROR(RTD(\"cqg.rtd\", ,\"ContractData\",G363, \"PerCentNetLastTrade\",, \"T\")/100,\"\")","v":""},0,362,{"$f":"IFERROR(VLOOKUP(A363,Data!$I$2:$J$507,2,FALSE),\"\")","v":""},{"$f":"IFERROR(RTD(\"cqg.rtd\", ,\"ContractData\",L363, \"PerCentNetLastTrade\",, \"T\")/100,\"\")","v":""},{"$f":"IFERROR(RANK($M363,$M$2:M$507)+COUNTIF($M$2:M363,M363)-1,\"\")","v":""},"",362,"",{"$f":"IF(Q363=\"\",\"\",RTD(\"cqg.rtd\", ,\"ContractData\",Q363, \"LongDescription\",, \"T\"))","v":""},{"$f":"IFERROR(RTD(\"cqg.rtd\", ,\"ContractData\",Q363, \"PerCentNetLastTrade\",, \"T\")/100,\"\")","v":""},0]
[363,{"$f":"IFERROR(VLOOKUP(A364,Data!$H$2:$J$507,3,FALSE),\"\")","v":""},{"$f":"IFERROR(RTD(\"cqg.rtd\", ,\"ContractData\",B364, \"PerCentNetLastTrade\",, \"T\")/100,\"\")","v":""},{"$f":"IFERROR(RANK($C364,$C$2:C$507)+COUNTIF($C$2:C364,C364)-1,\"\")","v":""},"",363,"",{"$f":"IF(G364=\"\",\"\",RTD(\"cqg.rtd\", ,\"ContractData\",G364, \"LongDescription\",, \"T\"))","v":""},{"$f":"IFERROR(RTD(\"cqg.rtd\", ,\"ContractData\",G364, \"PerCentNetLastTrade\",, \"T\")/100,\"\")","v":""},0,363,{"$f":"IFERROR(VLOOKUP(A364,Data!$I$2:$J$507,2,FALSE),\"\")","v":""},{"$f":"IFERROR(RTD(\"cqg.rtd\", ,\"ContractData\",L364, \"PerCentNetLastTrade\",, \"T\")/100,\"\")","v":""},{"$f":"IFERROR(RANK($M364,$M$2:M$507)+COUNTIF($M$2:M364,M364)-1,\"\")","v":""},"",363,"",{"$f":"IF(Q364=\"\",\"\",RTD(\"cqg.rtd\", ,\"ContractData\",Q364, \"LongDescription\",, \"T\"))","v":""},{"$f":"IFERROR(RTD(\"cqg.rtd\", ,\"ContractData\",Q364, \"PerCentNetLastTrade\",, \"T\")/100,\"\")","v":""},0]
[364,{"$f":"IFERROR(VLOOKUP(A365,Data!$H$2:$J$507,3,FALSE),\"\")","v":""},{"$f":"IFERROR(RTD(\"cqg.rtd\", ,\"ContractData\",B365, \"PerCentNetLastTrade\",, \"T\")/100,\"\")","v":""},{"$f":"IFERROR(RANK($C365,$C$2:C$507)+COUNTIF($C$2:C365,C365)-1,\"\")","v":""},"",364,"",{"$f":"IF(G365=\"\",\"\",RTD(\"cqg.rtd\", ,\"ContractData\",G365, \"LongDescription\",, \"T\"))","v":""},{"$f":"IFERROR(RTD(\"cqg.rtd\", ,\"ContractData\",G365, \"PerCentNetLastTrade\",, \"T\")/100,\"\")","v":""},0,364,{"$f":"IFERROR(VLOOKUP(A365,Data!$I$2:$J$507,2,FALSE),\"\")","v":""},{"$f":"IFERROR(RTD(\"cqg.rtd\", ,\"ContractData\",L365, \"PerCentNetLastTrade\",, \"T\")/100,\"\")","v":""},{"$f":"IFERROR(RANK($M365,$M$2:M$507)+COUNTIF($M$2:M365,M365)-1,\"\")","v":""},"",364,"",{"$f":"IF(Q365=\"\",\"\",RTD(\"cqg.rtd\", ,\"ContractData\",Q365, \"LongDescription\",, \"T\"))","v":""},{"$f":"IFERROR(RTD(\"cqg.rtd\", ,\"ContractData\",Q365, \"PerCentNetLastTrade\",, \"T\")/100,\"\")","v":""},0]
[365,{"$f":"IFERROR(VLOOKUP(A366,Data!$H$2:$J$507,3,FALSE),\"\")","v":""},{"$f":"IFERROR(RTD(\"cqg.rtd\", ,\"ContractData\",B366, \"PerCentNetLastTrade\",, \"T\")/100,\"\")","v":""},{"$f":"IFERROR(RANK($C366,$C$2:C$507)+COUNTIF($C$2:C366,C366)-1,\"\")","v":""},"",365,"",{"$f":"IF(G366=\"\",\"\",RTD(\"cqg.rtd\", ,\"ContractData\",G366, \"LongDescription\",, \"T\"))","v":""},{"$f":"IFERROR(RTD(\"cqg.rtd\", ,\"ContractData\",G366, \"PerCentNetLastTrade\",, \"T\")/100,\"\")","v":""},0,365,{"$f":"IFERROR(VLOOKUP(A366,Data!$I$2:$J$507,2,FALSE),\"\")","v":""},{"$f":"IFERROR(RTD(\"cqg.rtd\", ,\"ContractData\",L366, \"PerCentNetLastTrade\",, \"T\")/100,\"\")","v":""},{"$f":"IFERROR(RANK($M366,$M$2:M$507)+COUNTIF($M$2:M366,M366)-1,\"\")","v":""},"",365,"",{"$f":"IF(Q366=\"\",\"\",RTD(\"cqg.rtd\", ,\"ContractData\",Q366, \"LongDescription\",, \"T\"))","v":""},{"$f":"IFERROR(RTD(\"cqg.rtd\", ,\"ContractData\",Q366, \"PerCentNetLastTrade\",, \"T\")/100,\"\")","v":""},0]
[366,{"$f":"IFERROR(VLOOKUP(A367,Data!$H$2:$J$507,3,FALSE),\"\")","v":""},{"$f":"IFERROR(RTD(\"cqg.rtd\", ,\"ContractData\",B367, \"PerCentNetLastTrade\",, \"T\")/100,\"\")","v":""},{"$f":"IFERROR(RANK($C367,$C$2:C$507)+COUNTIF($C$2:C367,C367)-1,\"\")","v":""},"",366,"",{"$f":"IF(G367=\"\",\"\",RTD(\"cqg.rtd\", ,\"ContractData\",G367, \"LongDescription\",, \"T\"))","v":""},{"$f":"IFERROR(RTD(\"cqg.rtd\", ,\"ContractData\",G367, \"PerCentNetLastTrade\",, \"T\")/100,\"\")","v":""},0,366,{"$f":"IFERROR(VLOOKUP(A367,Data!$I$2:$J$507,2,FALSE),\"\")","v":""},{"$f":"IFERROR(RTD(\"cqg.rtd\", ,\"ContractData\",L367, \"PerCentNetLastTrade\",, \"T\")/100,\"\")","v":""},{"$f":"IFERROR(RANK($M367,$M$2:M$507)+COUNTIF($M$2:M367,M367)-1,\"\")","v":""},"",366,"",{"$f":"IF(Q367=\"\",\"\",RTD(\"cqg.rtd\", ,\"ContractData\",Q367, \"LongDescription\",, \"T\"))","v":""},{"$f":"IFERROR(RTD(\"cqg.rtd\", ,\"ContractData\",Q367, \"PerCentNetLastTrade\",, \"T\")/100,\"\")","v":""},0]
[367,{"$f":"IFERROR(VLOOKUP(A368,Data!$H$2:$J$507,3,FALSE),\"\")","v":""},{"$f":"IFERROR(RTD(\"cqg.rtd\", ,\"ContractData\",B368, \"PerCentNetLastTrade\",, \"T\")/100,\"\")","v":""},{"$f":"IFERROR(RANK($C368,$C$2:C$507)+COUNTIF($C$2:C368,C368)-1,\"\")","v":""},"",367,"",{"$f":"IF(G368=\"\",\"\",RTD(\"cqg.rtd\", ,\"ContractData\",G368, \"LongDescription\",, \"T\"))","v":""},{"$f":"IFERROR(RTD(\"cqg.rtd\", ,\"ContractData\",G368, \"PerCentNetLastTrade\",, \"T\")/100,\"\")","v":""},0,367,{"$f":"IFERROR(VLOOKUP(A368,Data!$I$2:$J$507,2,FALSE),\"\")","v":""},{"$f":"IFERROR(RTD(\"cqg.rtd\", ,\"ContractData\",L368, \"PerCentNetLastTrade\",, \"T\")/100,\"\")","v":""},{"$f":"IFERROR(RANK($M368,$M$2:M$507)+COUNTIF($M$2:M368,M368)-1,\"\")","v":""},"",367,"",{"$f":"IF(Q368=\"\",\"\",RTD(\"cqg.rtd\", ,\"ContractData\",Q368, \"LongDescription\",, \"T\"))","v":""},{"$f":"IFERROR(RTD(\"cqg.rtd\", ,\"ContractData\",Q368, \"PerCentNetLastTrade\",, \"T\")/100,\"\")","v":""},0]
[368,{"$f":"IFERROR(VLOOKUP(A369,Data!$H$2:$J$507,3,FALSE),\"\")","v":""},{"$f":"IFERROR(RTD(\"cqg.rtd\", ,\"ContractData\",B369, \"PerCentNetLastTrade\",, \"T\")/100,\"\")","v":""},{"$f":"IFERROR(RANK($C369,$C$2:C$507)+COUNTIF($C$2:C369,C369)-1,\"\")","v":""},"",368,"",{"$f":"IF(G369=\"\",\"\",RTD(\"cqg.rtd\", ,\"ContractData\",G369, \"LongDescription\",, \"T\"))","v":""},{"$f":"IFERROR(RTD(\"cqg.rtd\", ,\"ContractData\",G369, \"PerCentNetLastTrade\",, \"T\")/100,\"\")","v":""},0,368,{"$f":"IFERROR(VLOOKUP(A369,Data!$I$2:$J$507,2,FALSE),\"\")","v":""},{"$f":"IFERROR(RTD(\"cqg.rtd\", ,\"ContractData\",L369, \"PerCentNetLastTrade\",, \"T\")/100,\"\")","v":""},{"$f":"IFERROR(RANK($M369,$M$2:M$507)+COUNTIF($M$2:M369,M369)-1,\"\")","v":""},"",368,"",{"$f":"IF(Q369=\"\",\"\",RTD(\"cqg.rtd\", ,\"ContractData\",Q369, \"LongDescription\",, \"T\"))","v":""},{"$f":"IFERROR(RTD(\"cqg.rtd\", ,\"ContractData\",Q369, \"PerCentNetLastTrade\",, \"T\")/100,\"\")","v":""},0]
[369,{"$f":"IFERROR(VLOOKUP(A370,Data!$H$2:$J$507,3,FALSE),\"\")","v":""},{"$f":"IFERROR(RTD(\"cqg.rtd\", ,\"ContractData\",B370, \"PerCentNetLastTrade\",, \"T\")/100,\"\")","v":""},{"$f":"IFERROR(RANK($C370,$C$2:C$507)+COUNTIF($C$2:C370,C370)-1,\"\")","v":""},"",369,"",{"$f":"IF(G370=\"\",\"\",RTD(\"cqg.rtd\", ,\"ContractData\",G370, \"LongDescription\",, \"T\"))","v":""},{"$f":"IFERROR(RTD(\"cqg.rtd\", ,\"ContractData\",G370, \"PerCentNetLastTrade\",, \"T\")/100,\"\")","v":""},0,369,{"$f":"IFERROR(VLOOKUP(A370,Data!$I$2:$J$507,2,FALSE),\"\")","v":""},{"$f":"IFERROR(RTD(\"cqg.rtd\", ,\"ContractData\",L370, \"PerCentNetLastTrade\",, \"T\")/100,\"\")","v":""},{"$f":"IFERROR(RANK($M370,$M$2:M$507)+COUNTIF($M$2:M370,M370)-1,\"\")","v":""},"",369,"",{"$f":"IF(Q370=\"\",\"\",RTD(\"cqg.rtd\", ,\"ContractData\",Q370, \"LongDescription\",, \"T\"))","v":""},{"$f":"IFERROR(RTD(\"cqg.rtd\", ,\"ContractData\",Q370, \"PerCentNetLastTrade\",, \"T\")/100,\"\")","v":""},0]
[370,{"$f":"IFERROR(VLOOKUP(A371,Data!$H$2:$J$507,3,FALSE),\"\")","v":""},{"$f":"IFERROR(RTD(\"cqg.rtd\", ,\"ContractData\",B371, \"PerCentNetLastTrade\",, \"T\")/100,\"\")","v":""},{"$f":"IFERROR(RANK($C371,$C$2:C$507)+COUNTIF($C$2:C371,C371)-1,\"\")","v":""},"",370,"",{"$f":"IF(G371=\"\",\"\",RTD(\"cqg.rtd\", ,\"ContractData\",G371, \"LongDescription\",, \"T\"))","v":""},{"$f":"IFERROR(RTD(\"cqg.rtd\", ,\"ContractData\",G371, \"PerCentNetLastTrade\",, \"T\")/100,\"\")","v":""},0,370,{"$f":"IFERROR(VLOOKUP(A371,Data!$I$2:$J$507,2,FALSE),\"\")","v":""},{"$f":"IFERROR(RTD(\"cqg.rtd\", ,\"ContractData\",L371, \"PerCentNetLastTrade\",, \"T\")/100,\"\")","v":""},{"$f":"IFERROR(RANK($M371,$M$2:M$507)+COUNTIF($M$2:M371,M371)-1,\"\")","v":""},"",370,"",{"$f":"IF(Q371=\"\",\"\",RTD(\"cqg.rtd\", ,\"ContractData\",Q371, \"LongDescription\",, \"T\"))","v":""},{"$f":"IFERROR(RTD(\"cqg.rtd\", ,\"ContractData\",Q371, \"PerCentNetLastTrade\",, \"T\")/100,\"\")","v":""},0]
[371,{"$f":"IFERROR(VLOOKUP(A372,Data!$H$2:$J$507,3,FALSE),\"\")","v":""},{"$f":"IFERROR(RTD(\"cqg.rtd\", ,\"ContractData\",B372, \"PerCentNetLastTrade\",, \"T\")/100,\"\")","v":""},{"$f":"IFERROR(RANK($C372,$C$2:C$507)+COUNTIF($C$2:C372,C372)-1,\"\")","v":""},"",371,"",{"$f":"IF(G372=\"\",\"\",RTD(\"cqg.rtd\", ,\"ContractData\",G372, \"LongDescription\",, \"T\"))","v":""},{"$f":"IFERROR(RTD(\"cqg.rtd\", ,\"ContractData\",G372, \"PerCentNetLastTrade\",, \"T\")/100,\"\")","v":""},0,371,{"$f":"IFERROR(VLOOKUP(A372,Data!$I$2:$J$507,2,FALSE),\"\")","v":""},{"$f":"IFERROR(RTD(\"cqg.rtd\", ,\"ContractData\",L372, \"PerCentNetLastTrade\",, \"T\")/100,\"\")","v":""},{"$f":"IFERROR(RANK($M372,$M$2:M$507)+COUNTIF($M$2:M372,M372)-1,\"\")","v":""},"",371,"",{"$f":"IF(Q372=\"\",\"\",RTD(\"cqg.rtd\", ,\"ContractData\",Q372, \"LongDescription\",, \"T\"))","v":""},{"$f":"IFERROR(RTD(\"cqg.rtd\", ,\"ContractData\",Q372, \"PerCentNetLastTrade\",, \"T\")/100,\"\")","v":""},0]
[372,{"$f":"IFERROR(VLOOKUP(A373,Data!$H$2:$J$507,3,FALSE),\"\")","v":""},{"$f":"IFERROR(RTD(\"cqg.rtd\", ,\"ContractData\",B373, \"PerCentNetLastTrade\",, \"T\")/100,\"\")","v":""},{"$f":"IFERROR(RANK($C373,$C$2:C$507)+COUNTIF($C$2:C373,C373)-1,\"\")","v":""},"",372,"",{"$f":"IF(G373=\"\",\"\",RTD(\"cqg.rtd\", ,\"ContractData\",G373, \"LongDescription\",, \"T\"))","v":""},{"$f":"IFERROR(RTD(\"cqg.rtd\", ,\"ContractData\",G373, \"PerCentNetLastTrade\",, \"T\")/100,\"\")","v":""},0,372,{"$f":"IFERROR(VLOOKUP(A373,Data!$I$2:$J$507,2,FALSE),\"\")","v":""},{"$f":"IFERROR(RTD(\"cqg.rtd\", ,\"ContractData\",L373, \"PerCentNetLastTrade\",, \"T\")/100,\"\")","v":""},{"$f":"IFERROR(RANK($M373,$M$2:M$507)+COUNTIF($M$2:M373,M373)-1,\"\")","v":""},"",372,"",{"$f":"IF(Q373=\"\",\"\",RTD(\"cqg.rtd\", ,\"ContractData\",Q373, \"LongDescription\",, \"T\"))","v":""},{"$f":"IFERROR(RTD(\"cqg.rtd\", ,\"ContractData\",Q373, \"PerCentNetLastTrade\",, \"T\")/100,\"\")","v":""},0]
[373,{"$f":"IFERROR(VLOOKUP(A374,Data!$H$2:$J$507,3,FALSE),\"\")","v":""},{"$f":"IFERROR(RTD(\"cqg.rtd\", ,\"ContractData\",B374, \"PerCentNetLastTrade\",, \"T\")/100,\"\")","v":""},{"$f":"IFERROR(RANK($C374,$C$2:C$507)+COUNTIF($C$2:C374,C374)-1,\"\")","v":""},"",373,"",{"$f":"IF(G374=\"\",\"\",RTD(\"cqg.rtd\", ,\"ContractData\",G374, \"LongDescription\",, \"T\"))","v":""},{"$f":"IFERROR(RTD(\"cqg.rtd\", ,\"ContractData\",G374, \"PerCentNetLastTrade\",, \"T\")/100,\"\")","v":""},0,373,{"$f":"IFERROR(VLOOKUP(A374,Data!$I$2:$J$507,2,FALSE),\"\")","v":""},{"$f":"IFERROR(RTD(\"cqg.rtd\", ,\"ContractData\",L374, \"PerCentNetLastTrade\",, \"T\")/100,\"\")","v":""},{"$f":"IFERROR(RANK($M374,$M$2:M$507)+COUNTIF($M$2:M374,M374)-1,\"\")","v":""},"",373,"",{"$f":"IF(Q374=\"\",\"\",RTD(\"cqg.rtd\", ,\"ContractData\",Q374, \"LongDescription\",, \"T\"))","v":""},{"$f":"IFERROR(RTD(\"cqg.rtd\", ,\"ContractData\",Q374, \"PerCentNetLastTrade\",, \"T\")/100,\"\")","v":""},0]
[374,{"$f":"IFERROR(VLOOKUP(A375,Data!$H$2:$J$507,3,FALSE),\"\")","v":""},{"$f":"IFERROR(RTD(\"cqg.rtd\", ,\"ContractData\",B375, \"PerCentNetLastTrade\",, \"T\")/100,\"\")","v":""},{"$f":"IFERROR(RANK($C375,$C$2:C$507)+COUNTIF($C$2:C375,C375)-1,\"\")","v":""},"",374,"",{"$f":"IF(G375=\"\",\"\",RTD(\"cqg.rtd\", ,\"ContractData\",G375, \"LongDescription\",, \"T\"))","v":""},{"$f":"IFERROR(RTD(\"cqg.rtd\", ,\"ContractData\",G375, \"PerCentNetLastTrade\",, \"T\")/100,\"\")","v":""},0,374,{"$f":"IFERROR(VLOOKUP(A375,Data!$I$2:$J$507,2,FALSE),\"\")","v":""},{"$f":"IFERROR(RTD(\"cqg.rtd\", ,\"ContractData\",L375, \"PerCentNetLastTrade\",, \"T\")/100,\"\")","v":""},{"$f":"IFERROR(RANK($M375,$M$2:M$507)+COUNTIF($M$2:M375,M375)-1,\"\")","v":""},"",374,"",{"$f":"IF(Q375=\"\",\"\",RTD(\"cqg.rtd\", ,\"ContractData\",Q375, \"LongDescription\",, \"T\"))","v":""},{"$f":"IFERROR(RTD(\"cqg.rtd\", ,\"ContractData\",Q375, \"PerCentNetLastTrade\",, \"T\")/100,\"\")","v":""},0]
[375,{"$f":"IFERROR(VLOOKUP(A376,Data!$H$2:$J$507,3,FALSE),\"\")","v":""},{"$f":"IFERROR(RTD(\"cqg.rtd\", ,\"ContractData\",B376, \"PerCentNetLastTrade\",, \"T\")/100,\"\")","v":""},{"$f":"IFERROR(RANK($C376,$C$2:C$507)+COUNTIF($C$2:C376,C376)-1,\"\")","v":""},{"$f":"IF(B376=\"\",\"\",B376)","v":""},375,"",{"$f":"IF(G376=\"\",\"\",RTD(\"cqg.rtd\", ,\"ContractData\",G376, \"LongDescription\",, \"T\"))","v":""},{"$f":"IFERROR(RTD(\"cqg.rtd\", ,\"ContractData\",G376, \"PerCentNetLastTrade\",, \"T\")/100,\"\")","v":""},0,375,{"$f":"IFERROR(VLOOKUP(A376,Data!$I$2:$J$507,2,FALSE),\"\")","v":""},{"$f":"IFERROR(RTD(\"cqg.rtd\", ,\"ContractData\",L376, \"PerCentNetLastTrade\",, \"T\")/100,\"\")","v":""},{"$f":"IFERROR(RANK($M376,$M$2:M$507)+COUNTIF($M$2:M376,M376)-1,\"\")","v":""},"",375,"",{"$f":"IF(Q376=\"\",\"\",RTD(\"cqg.rtd\", ,\"ContractData\",Q376, \"LongDescription\",, \"T\"))","v":""},{"$f":"IFERROR(RTD(\"cqg.rtd\", ,\"ContractData\",Q376, \"PerCentNetLastTrade\",, \"T\")/100,\"\")","v":""},0]
[376,{"$f":"IFERROR(VLOOKUP(A377,Data!$H$2:$J$507,3,FALSE),\"\")","v":""},{"$f":"IFERROR(RTD(\"cqg.rtd\", ,\"ContractData\",B377, \"PerCentNetLastTrade\",, \"T\")/100,\"\")","v":""},{"$f":"IFERROR(RANK($C377,$C$2:C$507)+COUNTIF($C$2:C377,C377)-1,\"\")","v":""},"",376,"",{"$f":"IF(G377=\"\",\"\",RTD(\"cqg.rtd\", ,\"ContractData\",G377, \"LongDescription\",, \"T\"))","v":""},{"$f":"IFERROR(RTD(\"cqg.rtd\", ,\"ContractData\",G377, \"PerCentNetLastTrade\",, \"T\")/100,\"\")","v":""},0,376,{"$f":"IFERROR(VLOOKUP(A377,Data!$I$2:$J$507,2,FALSE),\"\")","v":""},{"$f":"IFERROR(RTD(\"cqg.rtd\", ,\"ContractData\",L377, \"PerCentNetLastTrade\",, \"T\")/100,\"\")","v":""},{"$f":"IFERROR(RANK($M377,$M$2:M$507)+COUNTIF($M$2:M377,M377)-1,\"\")","v":""},"",376,"",{"$f":"IF(Q377=\"\",\"\",RTD(\"cqg.rtd\", ,\"ContractData\",Q377, \"LongDescription\",, \"T\"))","v":""},{"$f":"IFERROR(RTD(\"cqg.rtd\", ,\"ContractData\",Q377, \"PerCentNetLastTrade\",, \"T\")/100,\"\")","v":""},0]
[377,{"$f":"IFERROR(VLOOKUP(A378,Data!$H$2:$J$507,3,FALSE),\"\")","v":""},{"$f":"IFERROR(RTD(\"cqg.rtd\", ,\"ContractData\",B378, \"PerCentNetLastTrade\",, \"T\")/100,\"\")","v":""},{"$f":"IFERROR(RANK($C378,$C$2:C$507)+COUNTIF($C$2:C378,C378)-1,\"\")","v":""},"",377,"",{"$f":"IF(G378=\"\",\"\",RTD(\"cqg.rtd\", ,\"ContractData\",G378, \"LongDescription\",, \"T\"))","v":""},{"$f":"IFERROR(RTD(\"cqg.rtd\", ,\"ContractData\",G378, \"PerCentNetLastTrade\",, \"T\")/100,\"\")","v":""},0,377,{"$f":"IFERROR(VLOOKUP(A378,Data!$I$2:$J$507,2,FALSE),\"\")","v":""},{"$f":"IFERROR(RTD(\"cqg.rtd\", ,\"ContractData\",L378, \"PerCentNetLastTrade\",, \"T\")/100,\"\")","v":""},{"$f":"IFERROR(RANK($M378,$M$2:M$507)+COUNTIF($M$2:M378,M378)-1,\"\")","v":""},"",377,"",{"$f":"IF(Q378=\"\",\"\",RTD(\"cqg.rtd\", ,\"ContractData\",Q378, \"LongDescription\",, \"T\"))","v":""},{"$f":"IFERROR(RTD(\"cqg.rtd\", ,\"ContractData\",Q378, \"PerCentNetLastTrade\",, \"T\")/100,\"\")","v":""},0]
[378,{"$f":"IFERROR(VLOOKUP(A379,Data!$H$2:$J$507,3,FALSE),\"\")","v":""},{"$f":"IFERROR(RTD(\"cqg.rtd\", ,\"ContractData\",B379, \"PerCentNetLastTrade\",, \"T\")/100,\"\")","v":""},{"$f":"IFERROR(RANK($C379,$C$2:C$507)+COUNTIF($C$2:C379,C379)-1,\"\")","v":""},"",378,"",{"$f":"IF(G379=\"\",\"\",RTD(\"cqg.rtd\", ,\"ContractData\",G379, \"LongDescription\",, \"T\"))","v":""},{"$f":"IFERROR(RTD(\"cqg.rtd\", ,\"ContractData\",G379, \"PerCentNetLastTrade\",, \"T\")/100,\"\")","v":""},0,378,{"$f":"IFERROR(VLOOKUP(A379,Data!$I$2:$J$507,2,FALSE),\"\")","v":""},{"$f":"IFERROR(RTD(\"cqg.rtd\", ,\"ContractData\",L379, \"PerCentNetLastTrade\",, \"T\")/100,\"\")","v":""},{"$f":"IFERROR(RANK($M379,$M$2:M$507)+COUNTIF($M$2:M379,M379)-1,\"\")","v":""},"",378,"",{"$f":"IF(Q379=\"\",\"\",RTD(\"cqg.rtd\", ,\"ContractData\",Q379, \"LongDescription\",, \"T\"))","v":""},{"$f":"IFERROR(RTD(\"cqg.rtd\", ,\"ContractData\",Q379, \"PerCentNetLastTrade\",, \"T\")/100,\"\")","v":""},0]
[379,{"$f":"IFERROR(VLOOKUP(A380,Data!$H$2:$J$507,3,FALSE),\"\")","v":""},{"$f":"IFERROR(RTD(\"cqg.rtd\", ,\"ContractData\",B380, \"PerCentNetLastTrade\",, \"T\")/100,\"\")","v":""},{"$f":"IFERROR(RANK($C380,$C$2:C$507)+COUNTIF($C$2:C380,C380)-1,\"\")","v":""},"",379,"",{"$f":"IF(G380=\"\",\"\",RTD(\"cqg.rtd\", ,\"ContractData\",G380, \"LongDescription\",, \"T\"))","v":""},{"$f":"IFERROR(RTD(\"cqg.rtd\", ,\"ContractData\",G380, \"PerCentNetLastTrade\",, \"T\")/100,\"\")","v":""},0,379,{"$f":"IFERROR(VLOOKUP(A380,Data!$I$2:$J$507,2,FALSE),\"\")","v":""},{"$f":"IFERROR(RTD(\"cqg.rtd\", ,\"ContractData\",L380, \"PerCentNetLastTrade\",, \"T\")/100,\"\")","v":""},{"$f":"IFERROR(RANK($M380,$M$2:M$507)+COUNTIF($M$2:M380,M380)-1,\"\")","v":""},"",379,"",{"$f":"IF(Q380=\"\",\"\",RTD(\"cqg.rtd\", ,\"ContractData\",Q380, \"LongDescription\",, \"T\"))","v":""},{"$f":"IFERROR(RTD(\"cqg.rtd\", ,\"ContractData\",Q380, \"PerCentNetLastTrade\",, \"T\")/100,\"\")","v":""},0]
[380,{"$f":"IFERROR(VLOOKUP(A381,Data!$H$2:$J$507,3,FALSE),\"\")","v":""},{"$f":"IFERROR(RTD(\"cqg.rtd\", ,\"ContractData\",B381, \"PerCentNetLastTrade\",, \"T\")/100,\"\")","v":""},{"$f":"IFERROR(RANK($C381,$C$2:C$507)+COUNTIF($C$2:C381,C381)-1,\"\")","v":""},"",380,"",{"$f":"IF(G381=\"\",\"\",RTD(\"cqg.rtd\", ,\"ContractData\",G381, \"LongDescription\",, \"T\"))","v":""},{"$f":"IFERROR(RTD(\"cqg.rtd\", ,\"ContractData\",G381, \"PerCentNetLastTrade\",, \"T\")/100,\"\")","v":""},0,380,{"$f":"IFERROR(VLOOKUP(A381,Data!$I$2:$J$507,2,FALSE),\"\")","v":""},{"$f":"IFERROR(RTD(\"cqg.rtd\", ,\"ContractData\",L381, \"PerCentNetLastTrade\",, \"T\")/100,\"\")","v":""},{"$f":"IFERROR(RANK($M381,$M$2:M$507)+COUNTIF($M$2:M381,M381)-1,\"\")","v":""},"",380,"",{"$f":"IF(Q381=\"\",\"\",RTD(\"cqg.rtd\", ,\"ContractData\",Q381, \"LongDescription\",, \"T\"))","v":""},{"$f":"IFERROR(RTD(\"cqg.rtd\", ,\"ContractData\",Q381, \"PerCentNetLastTrade\",, \"T\")/100,\"\")","v":""},0]
[381,{"$f":"IFERROR(VLOOKUP(A382,Data!$H$2:$J$507,3,FALSE),\"\")","v":""},{"$f":"IFERROR(RTD(\"cqg.rtd\", ,\"ContractData\",B382, \"PerCentNetLastTrade\",, \"T\")/100,\"\")","v":""},{"$f":"IFERROR(RANK($C382,$C$2:C$507)+COUNTIF($C$2:C382,C382)-1,\"\")","v":""},"",381,"",{"$f":"IF(G382=\"\",\"\",RTD(\"cqg.rtd\", ,\"ContractData\",G382, \"LongDescription\",, \"T\"))","v":""},{"$f":"IFERROR(RTD(\"cqg.rtd\", ,\"ContractData\",G382, \"PerCentNetLastTrade\",, \"T\")/100,\"\")","v":""},0,381,{"$f":"IFERROR(VLOOKUP(A382,Data!$I$2:$J$507,2,FALSE),\"\")","v":""},{"$f":"IFERROR(RTD(\"cqg.rtd\", ,\"ContractData\",L382, \"PerCentNetLastTrade\",, \"T\")/100,\"\")","v":""},{"$f":"IFERROR(RANK($M382,$M$2:M$507)+COUNTIF($M$2:M382,M382)-1,\"\")","v":""},"",381,"",{"$f":"IF(Q382=\"\",\"\",RTD(\"cqg.rtd\", ,\"ContractData\",Q382, \"LongDescription\",, \"T\"))","v":""},{"$f":"IFERROR(RTD(\"cqg.rtd\", ,\"ContractData\",Q382, \"PerCentNetLastTrade\",, \"T\")/100,\"\")","v":""},0]
[382,{"$f":"IFERROR(VLOOKUP(A383,Data!$H$2:$J$507,3,FALSE),\"\")","v":""},{"$f":"IFERROR(RTD(\"cqg.rtd\", ,\"ContractData\",B383, \"PerCentNetLastTrade\",, \"T\")/100,\"\")","v":""},{"$f":"IFERROR(RANK($C383,$C$2:C$507)+COUNTIF($C$2:C383,C383)-1,\"\")","v":""},"",382,"",{"$f":"IF(G383=\"\",\"\",RTD(\"cqg.rtd\", ,\"ContractData\",G383, \"LongDescription\",, \"T\"))","v":""},{"$f":"IFERROR(RTD(\"cqg.rtd\", ,\"ContractData\",G383, \"PerCentNetLastTrade\",, \"T\")/100,\"\")","v":""},0,382,{"$f":"IFERROR(VLOOKUP(A383,Data!$I$2:$J$507,2,FALSE),\"\")","v":""},{"$f":"IFERROR(RTD(\"cqg.rtd\", ,\"ContractData\",L383, \"PerCentNetLastTrade\",, \"T\")/100,\"\")","v":""},{"$f":"IFERROR(RANK($M383,$M$2:M$507)+COUNTIF($M$2:M383,M383)-1,\"\")","v":""},"",382,"",{"$f":"IF(Q383=\"\",\"\",RTD(\"cqg.rtd\", ,\"ContractData\",Q383, \"LongDescription\",, \"T\"))","v":""},{"$f":"IFERROR(RTD(\"cqg.rtd\", ,\"ContractData\",Q383, \"PerCentNetLastTrade\",, \"T\")/100,\"\")","v":""},0]
[383,{"$f":"IFERROR(VLOOKUP(A384,Data!$H$2:$J$507,3,FALSE),\"\")","v":""},{"$f":"IFERROR(RTD(\"cqg.rtd\", ,\"ContractData\",B384, \"PerCentNetLastTrade\",, \"T\")/100,\"\")","v":""},{"$f":"IFERROR(RANK($C384,$C$2:C$507)+COUNTIF($C$2:C384,C384)-1,\"\")","v":""},"",383,"",{"$f":"IF(G384=\"\",\"\",RTD(\"cqg.rtd\", ,\"ContractData\",G384, \"LongDescription\",, \"T\"))","v":""},{"$f":"IFERROR(RTD(\"cqg.rtd\", ,\"ContractData\",G384, \"PerCentNetLastTrade\",, \"T\")/100,\"\")","v":""},0,383,{"$f":"IFERROR(VLOOKUP(A384,Data!$I$2:$J$507,2,FALSE),\"\")","v":""},{"$f":"IFERROR(RTD(\"cqg.rtd\", ,\"ContractData\",L384, \"PerCentNetLastTrade\",, \"T\")/100,\"\")","v":""},{"$f":"IFERROR(RANK($M384,$M$2:M$507)+COUNTIF($M$2:M384,M384)-1,\"\")","v":""},"",383,"",{"$f":"IF(Q384=\"\",\"\",RTD(\"cqg.rtd\", ,\"ContractData\",Q384, \"LongDescription\",, \"T\"))","v":""},{"$f":"IFERROR(RTD(\"cqg.rtd\", ,\"ContractData\",Q384, \"PerCentNetLastTrade\",, \"T\")/100,\"\")","v":""},0]
[384,{"$f":"IFERROR(VLOOKUP(A385,Data!$H$2:$J$507,3,FALSE),\"\")","v":""},{"$f":"IFERROR(RTD(\"cqg.rtd\", ,\"ContractData\",B385, \"PerCentNetLastTrade\",, \"T\")/100,\"\")","v":""},{"$f":"IFERROR(RANK($C385,$C$2:C$507)+COUNTIF($C$2:C385,C385)-1,\"\")","v":""},"",384,"",{"$f":"IF(G385=\"\",\"\",RTD(\"cqg.rtd\", ,\"ContractData\",G385, \"LongDescription\",, \"T\"))","v":""},{"$f":"IFERROR(RTD(\"cqg.rtd\", ,\"ContractData\",G385, \"PerCentNetLastTrade\",, \"T\")/100,\"\")","v":""},0,384,{"$f":"IFERROR(VLOOKUP(A385,Data!$I$2:$J$507,2,FALSE),\"\")","v":""},{"$f":"IFERROR(RTD(\"cqg.rtd\", ,\"ContractData\",L385, \"PerCentNetLastTrade\",, \"T\")/100,\"\")","v":""},{"$f":"IFERROR(RANK($M385,$M$2:M$507)+COUNTIF($M$2:M385,M385)-1,\"\")","v":""},"",384,"",{"$f":"IF(Q385=\"\",\"\",RTD(\"cqg.rtd\", ,\"ContractData\",Q385, \"LongDescription\",, \"T\"))","v":""},{"$f":"IFERROR(RTD(\"cqg.rtd\", ,\"ContractData\",Q385, \"PerCentNetLastTrade\",, \"T\")/100,\"\")","v":""},0]
[385,{"$f":"IFERROR(VLOOKUP(A386,Data!$H$2:$J$507,3,FALSE),\"\")","v":""},{"$f":"IFERROR(RTD(\"cqg.rtd\", ,\"ContractData\",B386, \"PerCentNetLastTrade\",, \"T\")/100,\"\")","v":""},{"$f":"IFERROR(RANK($C386,$C$2:C$507)+COUNTIF($C$2:C386,C386)-1,\"\")","v":""},"",385,"",{"$f":"IF(G386=\"\",\"\",RTD(\"cqg.rtd\", ,\"ContractData\",G386, \"LongDescription\",, \"T\"))","v":""},{"$f":"IFERROR(RTD(\"cqg.rtd\", ,\"ContractData\",G386, \"PerCentNetLastTrade\",, \"T\")/100,\"\")","v":""},0,385,{"$f":"IFERROR(VLOOKUP(A386,Data!$I$2:$J$507,2,FALSE),\"\")","v":""},{"$f":"IFERROR(RTD(\"cqg.rtd\", ,\"ContractData\",L386, \"PerCentNetLastTrade\",, \"T\")/100,\"\")","v":""},{"$f":"IFERROR(RANK($M386,$M$2:M$507)+COUNTIF($M$2:M386,M386)-1,\"\")","v":""},"",385,"",{"$f":"IF(Q386=\"\",\"\",RTD(\"cqg.rtd\", ,\"ContractData\",Q386, \"LongDescription\",, \"T\"))","v":""},{"$f":"IFERROR(RTD(\"cqg.rtd\", ,\"ContractData\",Q386, \"PerCentNetLastTrade\",, \"T\")/100,\"\")","v":""},0]
[386,{"$f":"IFERROR(VLOOKUP(A387,Data!$H$2:$J$507,3,FALSE),\"\")","v":""},{"$f":"IFERROR(RTD(\"cqg.rtd\", ,\"ContractData\",B387, \"PerCentNetLastTrade\",, \"T\")/100,\"\")","v":""},{"$f":"IFERROR(RANK($C387,$C$2:C$507)+COUNTIF($C$2:C387,C387)-1,\"\")","v":""},"",386,{"$f":"IFERROR(VLOOKUP(F387,$D$2:$E$507,2,FALSE),\"\")","v":""},{"$f":"IF(G387=\"\",\"\",RTD(\"cqg.rtd\", ,\"ContractData\",G387, \"LongDescription\",, \"T\"))","v":""},{"$f":"IFERROR(RTD(\"cqg.rtd\", ,\"ContractData\",G387, \"PerCentNetLastTrade\",, \"T\")/100,\"\")","v":""},0,386,{"$f":"IFERROR(VLOOKUP(A387,Data!$I$2:$J$507,2,FALSE),\"\")","v":""},{"$f":"IFERROR(RTD(\"cqg.rtd\", ,\"ContractData\",L387, \"PerCentNetLastTrade\",, \"T\")/100,\"\")","v":""},{"$f":"IFERROR(RANK($M387,$M$2:M$507)+COUNTIF($M$2:M387,M387)-1,\"\")","v":""},"",386,{"$f":"IFERROR(VLOOKUP(P387,$N$2:$O$507,2,FALSE),\"\")","v":""},{"$f":"IF(Q387=\"\",\"\",RTD(\"cqg.rtd\", ,\"ContractData\",Q387, \"LongDescription\",, \"T\"))","v":""},{"$f":"IFERROR(RTD(\"cqg.rtd\", ,\"ContractData\",Q387, \"PerCentNetLastTrade\",, \"T\")/100,\"\")","v":""},{"$f":"IF(S387<>\"\",1,0)","v":0}]
[{"$f":"A387+1","v":387},{"$f":"IFERROR(VLOOKUP(A388,Data!$H$2:$J$507,3,FALSE),\"\")","v":""},{"$f":"IFERROR(RTD(\"cqg.rtd\", ,\"ContractData\",B388, \"PerCentNetLastTrade\",, \"T\")/100,\"\")","v":""},{"$f":"IFERROR(RANK($C388,$C$2:C$507)+COUNTIF($C$2:C388,C388)-1,\"\")","v":""},"",{"$f":"F387+1","v":387},"",{"$f":"IF(G388=\"\",\"\",RTD(\"cqg.rtd\", ,\"ContractData\",G388, \"LongDescription\",, \"T\"))","v":""},{"$f":"IFERROR(RTD(\"cqg.rtd\", ,\"ContractData\",G388, \"PerCentNetLastTrade\",, \"T\")/100,\"\")","v":""},0,{"$f":"K387+1","v":387},{"$f":"IFERROR(VLOOKUP(A388,Data!$I$2:$J$507,2,FALSE),\"\")","v":""},{"$f":"IFERROR(RTD(\"cqg.rtd\", ,\"ContractData\",L388, \"PerCentNetLastTrade\",, \"T\")/100,\"\")","v":""},{"$f":"IFERROR(RANK($M388,$M$2:M$507)+COUNTIF($M$2:M388,M388)-1,\"\")","v":""},"",{"$f":"P387+1","v":387},"",{"$f":"IF(Q388=\"\",\"\",RTD(\"cqg.rtd\", ,\"ContractData\",Q388, \"LongDescription\",, \"T\"))","v":""},{"$f":"IFERROR(RTD(\"cqg.rtd\", ,\"ContractData\",Q388, \"PerCentNetLastTrade\",, \"T\")/100,\"\")","v":""},0]
[388,{"$f":"IFERROR(VLOOKUP(A389,Data!$H$2:$J$507,3,FALSE),\"\")","v":""},{"$f":"IFERROR(RTD(\"cqg.rtd\", ,\"ContractData\",B389, \"PerCentNetLastTrade\",, \"T\")/100,\"\")","v":""},{"$f":"IFERROR(RANK($C389,$C$2:C$507)+COUNTIF($C$2:C389,C389)-1,\"\")","v":""},"",388,"",{"$f":"IF(G389=\"\",\"\",RTD(\"cqg.rtd\", ,\"ContractData\",G389, \"LongDescription\",, \"T\"))","v":""},{"$f":"IFERROR(RTD(\"cqg.rtd\", ,\"ContractData\",G389, \"PerCentNetLastTrade\",, \"T\")/100,\"\")","v":""},0,388,{"$f":"IFERROR(VLOOKUP(A389,Data!$I$2:$J$507,2,FALSE),\"\")","v":""},{"$f":"IFERROR(RTD(\"cqg.rtd\", ,\"ContractData\",L389, \"PerCentNetLastTrade\",, \"T\")/100,\"\")","v":""},{"$f":"IFERROR(RANK($M389,$M$2:M$507)+COUNTIF($M$2:M389,M389)-1,\"\")","v":""},"",388,"",{"$f":"IF(Q389=\"\",\"\",RTD(\"cqg.rtd\", ,\"ContractData\",Q389, \"LongDescription\",, \"T\"))","v":""},{"$f":"IFERROR(RTD(\"cqg.rtd\", ,\"ContractData\",Q389, \"PerCentNetLastTrade\",, \"T\")/100,\"\")","v":""},0]
[389,{"$f":"IFERROR(VLOOKUP(A390,Data!$H$2:$J$507,3,FALSE),\"\")","v":""},{"$f":"IFERROR(RTD(\"cqg.rtd\", ,\"ContractData\",B390, \"PerCentNetLastTrade\",, \"T\")/100,\"\")","v":""},{"$f":"IFERROR(RANK($C390,$C$2:C$507)+COUNTIF($C$2:C390,C390)-1,\"\")","v":""},"",389,"",{"$f":"IF(G390=\"\",\"\",RTD(\"cqg.rtd\", ,\"ContractData\",G390, \"LongDescription\",, \"T\"))","v":""},{"$f":"IFERROR(RTD(\"cqg.rtd\", ,\"ContractData\",G390, \"PerCentNetLastTrade\",, \"T\")/100,\"\")","v":""},0,389,{"$f":"IFERROR(VLOOKUP(A390,Data!$I$2:$J$507,2,FALSE),\"\")","v":""},{"$f":"IFERROR(RTD(\"cqg.rtd\", ,\"ContractData\",L390, \"PerCentNetLastTrade\",, \"T\")/100,\"\")","v":""},{"$f":"IFERROR(RANK($M390,$M$2:M$507)+COUNTIF($M$2:M390,M390)-1,\"\")","v":""},"",389,"",{"$f":"IF(Q390=\"\",\"\",RTD(\"cqg.rtd\", ,\"ContractData\",Q390, \"LongDescription\",, \"T\"))","v":""},{"$f":"IFERROR(RTD(\"cqg.rtd\", ,\"ContractData\",Q390, \"PerCentNetLastTrade\",, \"T\")/100,\"\")","v":""},0]
[390,{"$f":"IFERROR(VLOOKUP(A391,Data!$H$2:$J$507,3,FALSE),\"\")","v":""},{"$f":"IFERROR(RTD(\"cqg.rtd\", ,\"ContractData\",B391, \"PerCentNetLastTrade\",, \"T\")/100,\"\")","v":""},{"$f":"IFERROR(RANK($C391,$C$2:C$507)+COUNTIF($C$2:C391,C391)-1,\"\")","v":""},"",390,"",{"$f":"IF(G391=\"\",\"\",RTD(\"cqg.rtd\", ,\"ContractData\",G391, \"LongDescription\",, \"T\"))","v":""},{"$f":"IFERROR(RTD(\"cqg.rtd\", ,\"ContractData\",G391, \"PerCentNetLastTrade\",, \"T\")/100,\"\")","v":""},0,390,{"$f":"IFERROR(VLOOKUP(A391,Data!$I$2:$J$507,2,FALSE),\"\")","v":""},{"$f":"IFERROR(RTD(\"cqg.rtd\", ,\"ContractData\",L391, \"PerCentNetLastTrade\",, \"T\")/100,\"\")","v":""},{"$f":"IFERROR(RANK($M391,$M$2:M$507)+COUNTIF($M$2:M391,M391)-1,\"\")","v":""},"",390,"",{"$f":"IF(Q391=\"\",\"\",RTD(\"cqg.rtd\", ,\"ContractData\",Q391, \"LongDescription\",, \"T\"))","v":""},{"$f":"IFERROR(RTD(\"cqg.rtd\", ,\"ContractData\",Q391, \"PerCentNetLastTrade\",, \"T\")/100,\"\")","v":""},0]
[391,{"$f":"IFERROR(VLOOKUP(A392,Data!$H$2:$J$507,3,FALSE),\"\")","v":""},{"$f":"IFERROR(RTD(\"cqg.rtd\", ,\"ContractData\",B392, \"PerCentNetLastTrade\",, \"T\")/100,\"\")","v":""},{"$f":"IFERROR(RANK($C392,$C$2:C$507)+COUNTIF($C$2:C392,C392)-1,\"\")","v":""},"",391,"",{"$f":"IF(G392=\"\",\"\",RTD(\"cqg.rtd\", ,\"ContractData\",G392, \"LongDescription\",, \"T\"))","v":""},{"$f":"IFERROR(RTD(\"cqg.rtd\", ,\"ContractData\",G392, \"PerCentNetLastTrade\",, \"T\")/100,\"\")","v":""},0,391,{"$f":"IFERROR(VLOOKUP(A392,Data!$I$2:$J$507,2,FALSE),\"\")","v":""},{"$f":"IFERROR(RTD(\"cqg.rtd\", ,\"ContractData\",L392, \"PerCentNetLastTrade\",, \"T\")/100,\"\")","v":""},{"$f":"IFERROR(RANK($M392,$M$2:M$507)+COUNTIF($M$2:M392,M392)-1,\"\")","v":""},"",391,"",{"$f":"IF(Q392=\"\",\"\",RTD(\"cqg.rtd\", ,\"ContractData\",Q392, \"LongDescription\",, \"T\"))","v":""},{"$f":"IFERROR(RTD(\"cqg.rtd\", ,\"ContractData\",Q392, \"PerCentNetLastTrade\",, \"T\")/100,\"\")","v":""},0]
[392,{"$f":"IFERROR(VLOOKUP(A393,Data!$H$2:$J$507,3,FALSE),\"\")","v":""},{"$f":"IFERROR(RTD(\"cqg.rtd\", ,\"ContractData\",B393, \"PerCentNetLastTrade\",, \"T\")/100,\"\")","v":""},{"$f":"IFERROR(RANK($C393,$C$2:C$507)+COUNTIF($C$2:C393,C393)-1,\"\")","v":""},"",392,"",{"$f":"IF(G393=\"\",\"\",RTD(\"cqg.rtd\", ,\"ContractData\",G393, \"LongDescription\",, \"T\"))","v":""},{"$f":"IFERROR(RTD(\"cqg.rtd\", ,\"ContractData\",G393, \"PerCentNetLastTrade\",, \"T\")/100,\"\")","v":""},0,392,{"$f":"IFERROR(VLOOKUP(A393,Data!$I$2:$J$507,2,FALSE),\"\")","v":""},{"$f":"IFERROR(RTD(\"cqg.rtd\", ,\"ContractData\",L393, \"PerCentNetLastTrade\",, \"T\")/100,\"\")","v":""},{"$f":"IFERROR(RANK($M393,$M$2:M$507)+COUNTIF($M$2:M393,M393)-1,\"\")","v":""},"",392,"",{"$f":"IF(Q393=\"\",\"\",RTD(\"cqg.rtd\", ,\"ContractData\",Q393, \"LongDescription\",, \"T\"))","v":""},{"$f":"IFERROR(RTD(\"cqg.rtd\", ,\"ContractData\",Q393, \"PerCentNetLastTrade\",, \"T\")/100,\"\")","v":""},0]
[393,{"$f":"IFERROR(VLOOKUP(A394,Data!$H$2:$J$507,3,FALSE),\"\")","v":""},{"$f":"IFERROR(RTD(\"cqg.rtd\", ,\"ContractData\",B394, \"PerCentNetLastTrade\",, \"T\")/100,\"\")","v":""},{"$f":"IFERROR(RANK($C394,$C$2:C$507)+COUNTIF($C$2:C394,C394)-1,\"\")","v":""},"",393,"",{"$f":"IF(G394=\"\",\"\",RTD(\"cqg.rtd\", ,\"ContractData\",G394, \"LongDescription\",, \"T\"))","v":""},{"$f":"IFERROR(RTD(\"cqg.rtd\", ,\"ContractData\",G394, \"PerCentNetLastTrade\",, \"T\")/100,\"\")","v":""},0,393,{"$f":"IFERROR(VLOOKUP(A394,Data!$I$2:$J$507,2,FALSE),\"\")","v":""},{"$f":"IFERROR(RTD(\"cqg.rtd\", ,\"ContractData\",L394, \"PerCentNetLastTrade\",, \"T\")/100,\"\")","v":""},{"$f":"IFERROR(RANK($M394,$M$2:M$507)+COUNTIF($M$2:M394,M394)-1,\"\")","v":""},"",393,"",{"$f":"IF(Q394=\"\",\"\",RTD(\"cqg.rtd\", ,\"ContractData\",Q394, \"LongDescription\",, \"T\"))","v":""},{"$f":"IFERROR(RTD(\"cqg.rtd\", ,\"ContractData\",Q394, \"PerCentNetLastTrade\",, \"T\")/100,\"\")","v":""},0]
[394,{"$f":"IFERROR(VLOOKUP(A395,Data!$H$2:$J$507,3,FALSE),\"\")","v":""},{"$f":"IFERROR(RTD(\"cqg.rtd\", ,\"ContractData\",B395, \"PerCentNetLastTrade\",, \"T\")/100,\"\")","v":""},{"$f":"IFERROR(RANK($C395,$C$2:C$507)+COUNTIF($C$2:C395,C395)-1,\"\")","v":""},"",394,"",{"$f":"IF(G395=\"\",\"\",RTD(\"cqg.rtd\", ,\"ContractData\",G395, \"LongDescription\",, \"T\"))","v":""},{"$f":"IFERROR(RTD(\"cqg.rtd\", ,\"ContractData\",G395, \"PerCentNetLastTrade\",, \"T\")/100,\"\")","v":""},0,394,{"$f":"IFERROR(VLOOKUP(A395,Data!$I$2:$J$507,2,FALSE),\"\")","v":""},{"$f":"IFERROR(RTD(\"cqg.rtd\", ,\"ContractData\",L395, \"PerCentNetLastTrade\",, \"T\")/100,\"\")","v":""},{"$f":"IFERROR(RANK($M395,$M$2:M$507)+COUNTIF($M$2:M395,M395)-1,\"\")","v":""},"",394,"",{"$f":"IF(Q395=\"\",\"\",RTD(\"cqg.rtd\", ,\"ContractData\",Q395, \"LongDescription\",, \"T\"))","v":""},{"$f":"IFERROR(RTD(\"cqg.rtd\", ,\"ContractData\",Q395, \"PerCentNetLastTrade\",, \"T\")/100,\"\")","v":""},0]
[395,{"$f":"IFERROR(VLOOKUP(A396,Data!$H$2:$J$507,3,FALSE),\"\")","v":""},{"$f":"IFERROR(RTD(\"cqg.rtd\", ,\"ContractData\",B396, \"PerCentNetLastTrade\",, \"T\")/100,\"\")","v":""},{"$f":"IFERROR(RANK($C396,$C$2:C$507)+COUNTIF($C$2:C396,C396)-1,\"\")","v":""},"",395,"",{"$f":"IF(G396=\"\",\"\",RTD(\"cqg.rtd\", ,\"ContractData\",G396, \"LongDescription\",, \"T\"))","v":""},{"$f":"IFERROR(RTD(\"cqg.rtd\", ,\"ContractData\",G396, \"PerCentNetLastTrade\",, \"T\")/100,\"\")","v":""},0,395,{"$f":"IFERROR(VLOOKUP(A396,Data!$I$2:$J$507,2,FALSE),\"\")","v":""},{"$f":"IFERROR(RTD(\"cqg.rtd\", ,\"ContractData\",L396, \"PerCentNetLastTrade\",, \"T\")/100,\"\")","v":""},{"$f":"IFERROR(RANK($M396,$M$2:M$507)+COUNTIF($M$2:M396,M396)-1,\"\")","v":""},"",395,"",{"$f":"IF(Q396=\"\",\"\",RTD(\"cqg.rtd\", ,\"ContractData\",Q396, \"LongDescription\",, \"T\"))","v":""},{"$f":"IFERROR(RTD(\"cqg.rtd\", ,\"ContractData\",Q396, \"PerCentNetLastTrade\",, \"T\")/100,\"\")","v":""},0]
[396,{"$f":"IFERROR(VLOOKUP(A397,Data!$H$2:$J$507,3,FALSE),\"\")","v":""},{"$f":"IFERROR(RTD(\"cqg.rtd\", ,\"ContractData\",B397, \"PerCentNetLastTrade\",, \"T\")/100,\"\")","v":""},{"$f":"IFERROR(RANK($C397,$C$2:C$507)+COUNTIF($C$2:C397,C397)-1,\"\")","v":""},"",396,"",{"$f":"IF(G397=\"\",\"\",RTD(\"cqg.rtd\", ,\"ContractData\",G397, \"LongDescription\",, \"T\"))","v":""},{"$f":"IFERROR(RTD(\"cqg.rtd\", ,\"ContractData\",G397, \"PerCentNetLastTrade\",, \"T\")/100,\"\")","v":""},0,396,{"$f":"IFERROR(VLOOKUP(A397,Data!$I$2:$J$507,2,FALSE),\"\")","v":""},{"$f":"IFERROR(RTD(\"cqg.rtd\", ,\"ContractData\",L397, \"PerCentNetLastTrade\",, \"T\")/100,\"\")","v":""},{"$f":"IFERROR(RANK($M397,$M$2:M$507)+COUNTIF($M$2:M397,M397)-1,\"\")","v":""},"",396,"",{"$f":"IF(Q397=\"\",\"\",RTD(\"cqg.rtd\", ,\"ContractData\",Q397, \"LongDescription\",, \"T\"))","v":""},{"$f":"IFERROR(RTD(\"cqg.rtd\", ,\"ContractData\",Q397, \"PerCentNetLastTrade\",, \"T\")/100,\"\")","v":""},0]
[397,{"$f":"IFERROR(VLOOKUP(A398,Data!$H$2:$J$507,3,FALSE),\"\")","v":""},{"$f":"IFERROR(RTD(\"cqg.rtd\", ,\"ContractData\",B398, \"PerCentNetLastTrade\",, \"T\")/100,\"\")","v":""},{"$f":"IFERROR(RANK($C398,$C$2:C$507)+COUNTIF($C$2:C398,C398)-1,\"\")","v":""},"",397,"",{"$f":"IF(G398=\"\",\"\",RTD(\"cqg.rtd\", ,\"ContractData\",G398, \"LongDescription\",, \"T\"))","v":""},{"$f":"IFERROR(RTD(\"cqg.rtd\", ,\"ContractData\",G398, \"PerCentNetLastTrade\",, \"T\")/100,\"\")","v":""},0,397,{"$f":"IFERROR(VLOOKUP(A398,Data!$I$2:$J$507,2,FALSE),\"\")","v":""},{"$f":"IFERROR(RTD(\"cqg.rtd\", ,\"ContractData\",L398, \"PerCentNetLastTrade\",, \"T\")/100,\"\")","v":""},{"$f":"IFERROR(RANK($M398,$M$2:M$507)+COUNTIF($M$2:M398,M398)-1,\"\")","v":""},"",397,"",{"$f":"IF(Q398=\"\",\"\",RTD(\"cqg.rtd\", ,\"ContractData\",Q398, \"LongDescription\",, \"T\"))","v":""},{"$f":"IFERROR(RTD(\"cqg.rtd\", ,\"ContractData\",Q398, \"PerCentNetLastTrade\",, \"T\")/100,\"\")","v":""},0]
[398,{"$f":"IFERROR(VLOOKUP(A399,Data!$H$2:$J$507,3,FALSE),\"\")","v":""},{"$f":"IFERROR(RTD(\"cqg.rtd\", ,\"ContractData\",B399, \"PerCentNetLastTrade\",, \"T\")/100,\"\")","v":""},{"$f":"IFERROR(RANK($C399,$C$2:C$507)+COUNTIF($C$2:C399,C399)-1,\"\")","v":""},"",398,"",{"$f":"IF(G399=\"\",\"\",RTD(\"cqg.rtd\", ,\"ContractData\",G399, \"LongDescription\",, \"T\"))","v":""},{"$f":"IFERROR(RTD(\"cqg.rtd\", ,\"ContractData\",G399, \"PerCentNetLastTrade\",, \"T\")/100,\"\")","v":""},0,398,{"$f":"IFERROR(VLOOKUP(A399,Data!$I$2:$J$507,2,FALSE),\"\")","v":""},{"$f":"IFERROR(RTD(\"cqg.rtd\", ,\"ContractData\",L399, \"PerCentNetLastTrade\",, \"T\")/100,\"\")","v":""},{"$f":"IFERROR(RANK($M399,$M$2:M$507)+COUNTIF($M$2:M399,M399)-1,\"\")","v":""},"",398,"",{"$f":"IF(Q399=\"\",\"\",RTD(\"cqg.rtd\", ,\"ContractData\",Q399, \"LongDescription\",, \"T\"))","v":""},{"$f":"IFERROR(RTD(\"cqg.rtd\", ,\"ContractData\",Q399, \"PerCentNetLastTrade\",, \"T\")/100,\"\")","v":""},0]
[399,{"$f":"IFERROR(VLOOKUP(A400,Data!$H$2:$J$507,3,FALSE),\"\")","v":""},{"$f":"IFERROR(RTD(\"cqg.rtd\", ,\"ContractData\",B400, \"PerCentNetLastTrade\",, \"T\")/100,\"\")","v":""},{"$f":"IFERROR(RANK($C400,$C$2:C$507)+COUNTIF($C$2:C400,C400)-1,\"\")","v":""},"",399,"",{"$f":"IF(G400=\"\",\"\",RTD(\"cqg.rtd\", ,\"ContractData\",G400, \"LongDescription\",, \"T\"))","v":""},{"$f":"IFERROR(RTD(\"cqg.rtd\", ,\"ContractData\",G400, \"PerCentNetLastTrade\",, \"T\")/100,\"\")","v":""},0,399,{"$f":"IFERROR(VLOOKUP(A400,Data!$I$2:$J$507,2,FALSE),\"\")","v":""},{"$f":"IFERROR(RTD(\"cqg.rtd\", ,\"ContractData\",L400, \"PerCentNetLastTrade\",, \"T\")/100,\"\")","v":""},{"$f":"IFERROR(RANK($M400,$M$2:M$507)+COUNTIF($M$2:M400,M400)-1,\"\")","v":""},"",399,"",{"$f":"IF(Q400=\"\",\"\",RTD(\"cqg.rtd\", ,\"ContractData\",Q400, \"LongDescription\",, \"T\"))","v":""},{"$f":"IFERROR(RTD(\"cqg.rtd\", ,\"ContractData\",Q400, \"PerCentNetLastTrade\",, \"T\")/100,\"\")","v":""},0]
[400,{"$f":"IFERROR(VLOOKUP(A401,Data!$H$2:$J$507,3,FALSE),\"\")","v":""},{"$f":"IFERROR(RTD(\"cqg.rtd\", ,\"ContractData\",B401, \"PerCentNetLastTrade\",, \"T\")/100,\"\")","v":""},{"$f":"IFERROR(RANK($C401,$C$2:C$507)+COUNTIF($C$2:C401,C401)-1,\"\")","v":""},"",400,"",{"$f":"IF(G401=\"\",\"\",RTD(\"cqg.rtd\", ,\"ContractData\",G401, \"LongDescription\",, \"T\"))","v":""},{"$f":"IFERROR(RTD(\"cqg.rtd\", ,\"ContractData\",G401, \"PerCentNetLastTrade\",, \"T\")/100,\"\")","v":""},0,400,{"$f":"IFERROR(VLOOKUP(A401,Data!$I$2:$J$507,2,FALSE),\"\")","v":""},{"$f":"IFERROR(RTD(\"cqg.rtd\", ,\"ContractData\",L401, \"PerCentNetLastTrade\",, \"T\")/100,\"\")","v":""},{"$f":"IFERROR(RANK($M401,$M$2:M$507)+COUNTIF($M$2:M401,M401)-1,\"\")","v":""},"",400,"",{"$f":"IF(Q401=\"\",\"\",RTD(\"cqg.rtd\", ,\"ContractData\",Q401, \"LongDescription\",, \"T\"))","v":""},{"$f":"IFERROR(RTD(\"cqg.rtd\", ,\"ContractData\",Q401, \"PerCentNetLastTrade\",, \"T\")/100,\"\")","v":""},0]
[401,{"$f":"IFERROR(VLOOKUP(A402,Data!$H$2:$J$507,3,FALSE),\"\")","v":""},{"$f":"IFERROR(RTD(\"cqg.rtd\", ,\"ContractData\",B402, \"PerCentNetLastTrade\",, \"T\")/100,\"\")","v":""},{"$f":"IFERROR(RANK($C402,$C$2:C$507)+COUNTIF($C$2:C402,C402)-1,\"\")","v":""},"",401,"",{"$f":"IF(G402=\"\",\"\",RTD(\"cqg.rtd\", ,\"ContractData\",G402, \"LongDescription\",, \"T\"))","v":""},{"$f":"IFERROR(RTD(\"cqg.rtd\", ,\"ContractData\",G402, \"PerCentNetLastTrade\",, \"T\")/100,\"\")","v":""},0,401,{"$f":"IFERROR(VLOOKUP(A402,Data!$I$2:$J$507,2,FALSE),\"\")","v":""},{"$f":"IFERROR(RTD(\"cqg.rtd\", ,\"ContractData\",L402, \"PerCentNetLastTrade\",, \"T\")/100,\"\")","v":""},{"$f":"IFERROR(RANK($M402,$M$2:M$507)+COUNTIF($M$2:M402,M402)-1,\"\")","v":""},"",401,"",{"$f":"IF(Q402=\"\",\"\",RTD(\"cqg.rtd\", ,\"ContractData\",Q402, \"LongDescription\",, \"T\"))","v":""},{"$f":"IFERROR(RTD(\"cqg.rtd\", ,\"ContractData\",Q402, \"PerCentNetLastTrade\",, \"T\")/100,\"\")","v":""},0]
[402,{"$f":"IFERROR(VLOOKUP(A403,Data!$H$2:$J$507,3,FALSE),\"\")","v":""},{"$f":"IFERROR(RTD(\"cqg.rtd\", ,\"ContractData\",B403, \"PerCentNetLastTrade\",, \"T\")/100,\"\")","v":""},{"$f":"IFERROR(RANK($C403,$C$2:C$507)+COUNTIF($C$2:C403,C403)-1,\"\")","v":""},"",402,"",{"$f":"IF(G403=\"\",\"\",RTD(\"cqg.rtd\", ,\"ContractData\",G403, \"LongDescription\",, \"T\"))","v":""},{"$f":"IFERROR(RTD(\"cqg.rtd\", ,\"ContractData\",G403, \"PerCentNetLastTrade\",, \"T\")/100,\"\")","v":""},0,402,{"$f":"IFERROR(VLOOKUP(A403,Data!$I$2:$J$507,2,FALSE),\"\")","v":""},{"$f":"IFERROR(RTD(\"cqg.rtd\", ,\"ContractData\",L403, \"PerCentNetLastTrade\",, \"T\")/100,\"\")","v":""},{"$f":"IFERROR(RANK($M403,$M$2:M$507)+COUNTIF($M$2:M403,M403)-1,\"\")","v":""},"",402,"",{"$f":"IF(Q403=\"\",\"\",RTD(\"cqg.rtd\", ,\"ContractData\",Q403, \"LongDescription\",, \"T\"))","v":""},{"$f":"IFERROR(RTD(\"cqg.rtd\", ,\"ContractData\",Q403, \"PerCentNetLastTrade\",, \"T\")/100,\"\")","v":""},0]
[403,{"$f":"IFERROR(VLOOKUP(A404,Data!$H$2:$J$507,3,FALSE),\"\")","v":""},{"$f":"IFERROR(RTD(\"cqg.rtd\", ,\"ContractData\",B404, \"PerCentNetLastTrade\",, \"T\")/100,\"\")","v":""},{"$f":"IFERROR(RANK($C404,$C$2:C$507)+COUNTIF($C$2:C404,C404)-1,\"\")","v":""},"",403,"",{"$f":"IF(G404=\"\",\"\",RTD(\"cqg.rtd\", ,\"ContractData\",G404, \"LongDescription\",, \"T\"))","v":""},{"$f":"IFERROR(RTD(\"cqg.rtd\", ,\"ContractData\",G404, \"PerCentNetLastTrade\",, \"T\")/100,\"\")","v":""},0,403,{"$f":"IFERROR(VLOOKUP(A404,Data!$I$2:$J$507,2,FALSE),\"\")","v":""},{"$f":"IFERROR(RTD(\"cqg.rtd\", ,\"ContractData\",L404, \"PerCentNetLastTrade\",, \"T\")/100,\"\")","v":""},{"$f":"IFERROR(RANK($M404,$M$2:M$507)+COUNTIF($M$2:M404,M404)-1,\"\")","v":""},"",403,"",{"$f":"IF(Q404=\"\",\"\",RTD(\"cqg.rtd\", ,\"ContractData\",Q404, \"LongDescription\",, \"T\"))","v":""},{"$f":"IFERROR(RTD(\"cqg.rtd\", ,\"ContractData\",Q404, \"PerCentNetLastTrade\",, \"T\")/100,\"\")","v":""},0]
[404,{"$f":"IFERROR(VLOOKUP(A405,Data!$H$2:$J$507,3,FALSE),\"\")","v":""},{"$f":"IFERROR(RTD(\"cqg.rtd\", ,\"ContractData\",B405, \"PerCentNetLastTrade\",, \"T\")/100,\"\")","v":""},{"$f":"IFERROR(RANK($C405,$C$2:C$507)+COUNTIF($C$2:C405,C405)-1,\"\")","v":""},"",404,"",{"$f":"IF(G405=\"\",\"\",RTD(\"cqg.rtd\", ,\"ContractData\",G405, \"LongDescription\",, \"T\"))","v":""},{"$f":"IFERROR(RTD(\"cqg.rtd\", ,\"ContractData\",G405, \"PerCentNetLastTrade\",, \"T\")/100,\"\")","v":""},0,404,{"$f":"IFERROR(VLOOKUP(A405,Data!$I$2:$J$507,2,FALSE),\"\")","v":""},{"$f":"IFERROR(RTD(\"cqg.rtd\", ,\"ContractData\",L405, \"PerCentNetLastTrade\",, \"T\")/100,\"\")","v":""},{"$f":"IFERROR(RANK($M405,$M$2:M$507)+COUNTIF($M$2:M405,M405)-1,\"\")","v":""},"",404,"",{"$f":"IF(Q405=\"\",\"\",RTD(\"cqg.rtd\", ,\"ContractData\",Q405, \"LongDescription\",, \"T\"))","v":""},{"$f":"IFERROR(RTD(\"cqg.rtd\", ,\"ContractData\",Q405, \"PerCentNetLastTrade\",, \"T\")/100,\"\")","v":""},0]
[405,{"$f":"IFERROR(VLOOKUP(A406,Data!$H$2:$J$507,3,FALSE),\"\")","v":""},{"$f":"IFERROR(RTD(\"cqg.rtd\", ,\"ContractData\",B406, \"PerCentNetLastTrade\",, \"T\")/100,\"\")","v":""},{"$f":"IFERROR(RANK($C406,$C$2:C$507)+COUNTIF($C$2:C406,C406)-1,\"\")","v":""},"",405,"",{"$f":"IF(G406=\"\",\"\",RTD(\"cqg.rtd\", ,\"ContractData\",G406, \"LongDescription\",, \"T\"))","v":""},{"$f":"IFERROR(RTD(\"cqg.rtd\", ,\"ContractData\",G406, \"PerCentNetLastTrade\",, \"T\")/100,\"\")","v":""},0,405,{"$f":"IFERROR(VLOOKUP(A406,Data!$I$2:$J$507,2,FALSE),\"\")","v":""},{"$f":"IFERROR(RTD(\"cqg.rtd\", ,\"ContractData\",L406, \"PerCentNetLastTrade\",, \"T\")/100,\"\")","v":""},{"$f":"IFERROR(RANK($M406,$M$2:M$507)+COUNTIF($M$2:M406,M406)-1,\"\")","v":""},"",405,"",{"$f":"IF(Q406=\"\",\"\",RTD(\"cqg.rtd\", ,\"ContractData\",Q406, \"LongDescription\",, \"T\"))","v":""},{"$f":"IFERROR(RTD(\"cqg.rtd\", ,\"ContractData\",Q406, \"PerCentNetLastTrade\",, \"T\")/100,\"\")","v":""},0]
[406,{"$f":"IFERROR(VLOOKUP(A407,Data!$H$2:$J$507,3,FALSE),\"\")","v":""},{"$f":"IFERROR(RTD(\"cqg.rtd\", ,\"ContractData\",B407, \"PerCentNetLastTrade\",, \"T\")/100,\"\")","v":""},{"$f":"IFERROR(RANK($C407,$C$2:C$507)+COUNTIF($C$2:C407,C407)-1,\"\")","v":""},"",406,"",{"$f":"IF(G407=\"\",\"\",RTD(\"cqg.rtd\", ,\"ContractData\",G407, \"LongDescription\",, \"T\"))","v":""},{"$f":"IFERROR(RTD(\"cqg.rtd\", ,\"ContractData\",G407, \"PerCentNetLastTrade\",, \"T\")/100,\"\")","v":""},0,406,{"$f":"IFERROR(VLOOKUP(A407,Data!$I$2:$J$507,2,FALSE),\"\")","v":""},{"$f":"IFERROR(RTD(\"cqg.rtd\", ,\"ContractData\",L407, \"PerCentNetLastTrade\",, \"T\")/100,\"\")","v":""},{"$f":"IFERROR(RANK($M407,$M$2:M$507)+COUNTIF($M$2:M407,M407)-1,\"\")","v":""},"",406,"",{"$f":"IF(Q407=\"\",\"\",RTD(\"cqg.rtd\", ,\"ContractData\",Q407, \"LongDescription\",, \"T\"))","v":""},{"$f":"IFERROR(RTD(\"cqg.rtd\", ,\"ContractData\",Q407, \"PerCentNetLastTrade\",, \"T\")/100,\"\")","v":""},0]
[407,{"$f":"IFERROR(VLOOKUP(A408,Data!$H$2:$J$507,3,FALSE),\"\")","v":""},{"$f":"IFERROR(RTD(\"cqg.rtd\", ,\"ContractData\",B408, \"PerCentNetLastTrade\",, \"T\")/100,\"\")","v":""},{"$f":"IFERROR(RANK($C408,$C$2:C$507)+COUNTIF($C$2:C408,C408)-1,\"\")","v":""},"",407,"",{"$f":"IF(G408=\"\",\"\",RTD(\"cqg.rtd\", ,\"ContractData\",G408, \"LongDescription\",, \"T\"))","v":""},{"$f":"IFERROR(RTD(\"cqg.rtd\", ,\"ContractData\",G408, \"PerCentNetLastTrade\",, \"T\")/100,\"\")","v":""},0,407,{"$f":"IFERROR(VLOOKUP(A408,Data!$I$2:$J$507,2,FALSE),\"\")","v":""},{"$f":"IFERROR(RTD(\"cqg.rtd\", ,\"ContractData\",L408, \"PerCentNetLastTrade\",, \"T\")/100,\"\")","v":""},{"$f":"IFERROR(RANK($M408,$M$2:M$507)+COUNTIF($M$2:M408,M408)-1,\"\")","v":""},"",407,"",{"$f":"IF(Q408=\"\",\"\",RTD(\"cqg.rtd\", ,\"ContractData\",Q408, \"LongDescription\",, \"T\"))","v":""},{"$f":"IFERROR(RTD(\"cqg.rtd\", ,\"ContractData\",Q408, \"PerCentNetLastTrade\",, \"T\")/100,\"\")","v":""},0]
[408,{"$f":"IFERROR(VLOOKUP(A409,Data!$H$2:$J$507,3,FALSE),\"\")","v":""},{"$f":"IFERROR(RTD(\"cqg.rtd\", ,\"ContractData\",B409, \"PerCentNetLastTrade\",, \"T\")/100,\"\")","v":""},{"$f":"IFERROR(RANK($C409,$C$2:C$507)+COUNTIF($C$2:C409,C409)-1,\"\")","v":""},"",408,"",{"$f":"IF(G409=\"\",\"\",RTD(\"cqg.rtd\", ,\"ContractData\",G409, \"LongDescription\",, \"T\"))","v":""},{"$f":"IFERROR(RTD(\"cqg.rtd\", ,\"ContractData\",G409, \"PerCentNetLastTrade\",, \"T\")/100,\"\")","v":""},0,408,{"$f":"IFERROR(VLOOKUP(A409,Data!$I$2:$J$507,2,FALSE),\"\")","v":""},{"$f":"IFERROR(RTD(\"cqg.rtd\", ,\"ContractData\",L409, \"PerCentNetLastTrade\",, \"T\")/100,\"\")","v":""},{"$f":"IFERROR(RANK($M409,$M$2:M$507)+COUNTIF($M$2:M409,M409)-1,\"\")","v":""},"",408,"",{"$f":"IF(Q409=\"\",\"\",RTD(\"cqg.rtd\", ,\"ContractData\",Q409, \"LongDescription\",, \"T\"))","v":""},{"$f":"IFERROR(RTD(\"cqg.rtd\", ,\"ContractData\",Q409, \"PerCentNetLastTrade\",, \"T\")/100,\"\")","v":""},0]
[409,{"$f":"IFERROR(VLOOKUP(A410,Data!$H$2:$J$507,3,FALSE),\"\")","v":""},{"$f":"IFERROR(RTD(\"cqg.rtd\", ,\"ContractData\",B410, \"PerCentNetLastTrade\",, \"T\")/100,\"\")","v":""},{"$f":"IFERROR(RANK($C410,$C$2:C$507)+COUNTIF($C$2:C410,C410)-1,\"\")","v":""},"",409,"",{"$f":"IF(G410=\"\",\"\",RTD(\"cqg.rtd\", ,\"ContractData\",G410, \"LongDescription\",, \"T\"))","v":""},{"$f":"IFERROR(RTD(\"cqg.rtd\", ,\"ContractData\",G410, \"PerCentNetLastTrade\",, \"T\")/100,\"\")","v":""},0,409,{"$f":"IFERROR(VLOOKUP(A410,Data!$I$2:$J$507,2,FALSE),\"\")","v":""},{"$f":"IFERROR(RTD(\"cqg.rtd\", ,\"ContractData\",L410, \"PerCentNetLastTrade\",, \"T\")/100,\"\")","v":""},{"$f":"IFERROR(RANK($M410,$M$2:M$507)+COUNTIF($M$2:M410,M410)-1,\"\")","v":""},"",409,"",{"$f":"IF(Q410=\"\",\"\",RTD(\"cqg.rtd\", ,\"ContractData\",Q410, \"LongDescription\",, \"T\"))","v":""},{"$f":"IFERROR(RTD(\"cqg.rtd\", ,\"ContractData\",Q410, \"PerCentNetLastTrade\",, \"T\")/100,\"\")","v":""},0]
[410,{"$f":"IFERROR(VLOOKUP(A411,Data!$H$2:$J$507,3,FALSE),\"\")","v":""},{"$f":"IFERROR(RTD(\"cqg.rtd\", ,\"ContractData\",B411, \"PerCentNetLastTrade\",, \"T\")/100,\"\")","v":""},{"$f":"IFERROR(RANK($C411,$C$2:C$507)+COUNTIF($C$2:C411,C411)-1,\"\")","v":""},"",410,"",{"$f":"IF(G411=\"\",\"\",RTD(\"cqg.rtd\", ,\"ContractData\",G411, \"LongDescription\",, \"T\"))","v":""},{"$f":"IFERROR(RTD(\"cqg.rtd\", ,\"ContractData\",G411, \"PerCentNetLastTrade\",, \"T\")/100,\"\")","v":""},0,410,{"$f":"IFERROR(VLOOKUP(A411,Data!$I$2:$J$507,2,FALSE),\"\")","v":""},{"$f":"IFERROR(RTD(\"cqg.rtd\", ,\"ContractData\",L411, \"PerCentNetLastTrade\",, \"T\")/100,\"\")","v":""},{"$f":"IFERROR(RANK($M411,$M$2:M$507)+COUNTIF($M$2:M411,M411)-1,\"\")","v":""},"",410,"",{"$f":"IF(Q411=\"\",\"\",RTD(\"cqg.rtd\", ,\"ContractData\",Q411, \"LongDescription\",, \"T\"))","v":""},{"$f":"IFERROR(RTD(\"cqg.rtd\", ,\"ContractData\",Q411, \"PerCentNetLastTrade\",, \"T\")/100,\"\")","v":""},0]
[411,{"$f":"IFERROR(VLOOKUP(A412,Data!$H$2:$J$507,3,FALSE),\"\")","v":""},{"$f":"IFERROR(RTD(\"cqg.rtd\", ,\"ContractData\",B412, \"PerCentNetLastTrade\",, \"T\")/100,\"\")","v":""},{"$f":"IFERROR(RANK($C412,$C$2:C$507)+COUNTIF($C$2:C412,C412)-1,\"\")","v":""},"",411,"",{"$f":"IF(G412=\"\",\"\",RTD(\"cqg.rtd\", ,\"ContractData\",G412, \"LongDescription\",, \"T\"))","v":""},{"$f":"IFERROR(RTD(\"cqg.rtd\", ,\"ContractData\",G412, \"PerCentNetLastTrade\",, \"T\")/100,\"\")","v":""},0,411,{"$f":"IFERROR(VLOOKUP(A412,Data!$I$2:$J$507,2,FALSE),\"\")","v":""},{"$f":"IFERROR(RTD(\"cqg.rtd\", ,\"ContractData\",L412, \"PerCentNetLastTrade\",, \"T\")/100,\"\")","v":""},{"$f":"IFERROR(RANK($M412,$M$2:M$507)+COUNTIF($M$2:M412,M412)-1,\"\")","v":""},"",411,"",{"$f":"IF(Q412=\"\",\"\",RTD(\"cqg.rtd\", ,\"ContractData\",Q412, \"LongDescription\",, \"T\"))","v":""},{"$f":"IFERROR(RTD(\"cqg.rtd\", ,\"ContractData\",Q412, \"PerCentNetLastTrade\",, \"T\")/100,\"\")","v":""},0]
[412,{"$f":"IFERROR(VLOOKUP(A413,Data!$H$2:$J$507,3,FALSE),\"\")","v":""},{"$f":"IFERROR(RTD(\"cqg.rtd\", ,\"ContractData\",B413, \"PerCentNetLastTrade\",, \"T\")/100,\"\")","v":""},{"$f":"IFERROR(RANK($C413,$C$2:C$507)+COUNTIF($C$2:C413,C413)-1,\"\")","v":""},"",412,"",{"$f":"IF(G413=\"\",\"\",RTD(\"cqg.rtd\", ,\"ContractData\",G413, \"LongDescription\",, \"T\"))","v":""},{"$f":"IFERROR(RTD(\"cqg.rtd\", ,\"ContractData\",G413, \"PerCentNetLastTrade\",, \"T\")/100,\"\")","v":""},0,412,{"$f":"IFERROR(VLOOKUP(A413,Data!$I$2:$J$507,2,FALSE),\"\")","v":""},{"$f":"IFERROR(RTD(\"cqg.rtd\", ,\"ContractData\",L413, \"PerCentNetLastTrade\",, \"T\")/100,\"\")","v":""},{"$f":"IFERROR(RANK($M413,$M$2:M$507)+COUNTIF($M$2:M413,M413)-1,\"\")","v":""},"",412,"",{"$f":"IF(Q413=\"\",\"\",RTD(\"cqg.rtd\", ,\"ContractData\",Q413, \"LongDescription\",, \"T\"))","v":""},{"$f":"IFERROR(RTD(\"cqg.rtd\", ,\"ContractData\",Q413, \"PerCentNetLastTrade\",, \"T\")/100,\"\")","v":""},0]
[413,{"$f":"IFERROR(VLOOKUP(A414,Data!$H$2:$J$507,3,FALSE),\"\")","v":""},{"$f":"IFERROR(RTD(\"cqg.rtd\", ,\"ContractData\",B414, \"PerCentNetLastTrade\",, \"T\")/100,\"\")","v":""},{"$f":"IFERROR(RANK($C414,$C$2:C$507)+COUNTIF($C$2:C414,C414)-1,\"\")","v":""},"",413,"",{"$f":"IF(G414=\"\",\"\",RTD(\"cqg.rtd\", ,\"ContractData\",G414, \"LongDescription\",, \"T\"))","v":""},{"$f":"IFERROR(RTD(\"cqg.rtd\", ,\"ContractData\",G414, \"PerCentNetLastTrade\",, \"T\")/100,\"\")","v":""},0,413,{"$f":"IFERROR(VLOOKUP(A414,Data!$I$2:$J$507,2,FALSE),\"\")","v":""},{"$f":"IFERROR(RTD(\"cqg.rtd\", ,\"ContractData\",L414, \"PerCentNetLastTrade\",, \"T\")/100,\"\")","v":""},{"$f":"IFERROR(RANK($M414,$M$2:M$507)+COUNTIF($M$2:M414,M414)-1,\"\")","v":""},"",413,"",{"$f":"IF(Q414=\"\",\"\",RTD(\"cqg.rtd\", ,\"ContractData\",Q414, \"LongDescription\",, \"T\"))","v":""},{"$f":"IFERROR(RTD(\"cqg.rtd\", ,\"ContractData\",Q414, \"PerCentNetLastTrade\",, \"T\")/100,\"\")","v":""},0]
[414,{"$f":"IFERROR(VLOOKUP(A415,Data!$H$2:$J$507,3,FALSE),\"\")","v":""},{"$f":"IFERROR(RTD(\"cqg.rtd\", ,\"ContractData\",B415, \"PerCentNetLastTrade\",, \"T\")/100,\"\")","v":""},{"$f":"IFERROR(RANK($C415,$C$2:C$507)+COUNTIF($C$2:C415,C415)-1,\"\")","v":""},"",414,"",{"$f":"IF(G415=\"\",\"\",RTD(\"cqg.rtd\", ,\"ContractData\",G415, \"LongDescription\",, \"T\"))","v":""},{"$f":"IFERROR(RTD(\"cqg.rtd\", ,\"ContractData\",G415, \"PerCentNetLastTrade\",, \"T\")/100,\"\")","v":""},0,414,{"$f":"IFERROR(VLOOKUP(A415,Data!$I$2:$J$507,2,FALSE),\"\")","v":""},{"$f":"IFERROR(RTD(\"cqg.rtd\", ,\"ContractData\",L415, \"PerCentNetLastTrade\",, \"T\")/100,\"\")","v":""},{"$f":"IFERROR(RANK($M415,$M$2:M$507)+COUNTIF($M$2:M415,M415)-1,\"\")","v":""},"",414,"",{"$f":"IF(Q415=\"\",\"\",RTD(\"cqg.rtd\", ,\"ContractData\",Q415, \"LongDescription\",, \"T\"))","v":""},{"$f":"IFERROR(RTD(\"cqg.rtd\", ,\"ContractData\",Q415, \"PerCentNetLastTrade\",, \"T\")/100,\"\")","v":""},0]
[415,{"$f":"IFERROR(VLOOKUP(A416,Data!$H$2:$J$507,3,FALSE),\"\")","v":""},{"$f":"IFERROR(RTD(\"cqg.rtd\", ,\"ContractData\",B416, \"PerCentNetLastTrade\",, \"T\")/100,\"\")","v":""},{"$f":"IFERROR(RANK($C416,$C$2:C$507)+COUNTIF($C$2:C416,C416)-1,\"\")","v":""},"",415,"",{"$f":"IF(G416=\"\",\"\",RTD(\"cqg.rtd\", ,\"ContractData\",G416, \"LongDescription\",, \"T\"))","v":""},{"$f":"IFERROR(RTD(\"cqg.rtd\", ,\"ContractData\",G416, \"PerCentNetLastTrade\",, \"T\")/100,\"\")","v":""},0,415,{"$f":"IFERROR(VLOOKUP(A416,Data!$I$2:$J$507,2,FALSE),\"\")","v":""},{"$f":"IFERROR(RTD(\"cqg.rtd\", ,\"ContractData\",L416, \"PerCentNetLastTrade\",, \"T\")/100,\"\")","v":""},{"$f":"IFERROR(RANK($M416,$M$2:M$507)+COUNTIF($M$2:M416,M416)-1,\"\")","v":""},"",415,"",{"$f":"IF(Q416=\"\",\"\",RTD(\"cqg.rtd\", ,\"ContractData\",Q416, \"LongDescription\",, \"T\"))","v":""},{"$f":"IFERROR(RTD(\"cqg.rtd\", ,\"ContractData\",Q416, \"PerCentNetLastTrade\",, \"T\")/100,\"\")","v":""},0]
[416,{"$f":"IFERROR(VLOOKUP(A417,Data!$H$2:$J$507,3,FALSE),\"\")","v":""},{"$f":"IFERROR(RTD(\"cqg.rtd\", ,\"ContractData\",B417, \"PerCentNetLastTrade\",, \"T\")/100,\"\")","v":""},{"$f":"IFERROR(RANK($C417,$C$2:C$507)+COUNTIF($C$2:C417,C417)-1,\"\")","v":""},"",416,"",{"$f":"IF(G417=\"\",\"\",RTD(\"cqg.rtd\", ,\"ContractData\",G417, \"LongDescription\",, \"T\"))","v":""},{"$f":"IFERROR(RTD(\"cqg.rtd\", ,\"ContractData\",G417, \"PerCentNetLastTrade\",, \"T\")/100,\"\")","v":""},0,416,{"$f":"IFERROR(VLOOKUP(A417,Data!$I$2:$J$507,2,FALSE),\"\")","v":""},{"$f":"IFERROR(RTD(\"cqg.rtd\", ,\"ContractData\",L417, \"PerCentNetLastTrade\",, \"T\")/100,\"\")","v":""},{"$f":"IFERROR(RANK($M417,$M$2:M$507)+COUNTIF($M$2:M417,M417)-1,\"\")","v":""},"",416,"",{"$f":"IF(Q417=\"\",\"\",RTD(\"cqg.rtd\", ,\"ContractData\",Q417, \"LongDescription\",, \"T\"))","v":""},{"$f":"IFERROR(RTD(\"cqg.rtd\", ,\"ContractData\",Q417, \"PerCentNetLastTrade\",, \"T\")/100,\"\")","v":""},0]
[417,{"$f":"IFERROR(VLOOKUP(A418,Data!$H$2:$J$507,3,FALSE),\"\")","v":""},{"$f":"IFERROR(RTD(\"cqg.rtd\", ,\"ContractData\",B418, \"PerCentNetLastTrade\",, \"T\")/100,\"\")","v":""},{"$f":"IFERROR(RANK($C418,$C$2:C$507)+COUNTIF($C$2:C418,C418)-1,\"\")","v":""},"",417,"",{"$f":"IF(G418=\"\",\"\",RTD(\"cqg.rtd\", ,\"ContractData\",G418, \"LongDescription\",, \"T\"))","v":""},{"$f":"IFERROR(RTD(\"cqg.rtd\", ,\"ContractData\",G418, \"PerCentNetLastTrade\",, \"T\")/100,\"\")","v":""},0,417,{"$f":"IFERROR(VLOOKUP(A418,Data!$I$2:$J$507,2,FALSE),\"\")","v":""},{"$f":"IFERROR(RTD(\"cqg.rtd\", ,\"ContractData\",L418, \"PerCentNetLastTrade\",, \"T\")/100,\"\")","v":""},{"$f":"IFERROR(RANK($M418,$M$2:M$507)+COUNTIF($M$2:M418,M418)-1,\"\")","v":""},"",417,"",{"$f":"IF(Q418=\"\",\"\",RTD(\"cqg.rtd\", ,\"ContractData\",Q418, \"LongDescription\",, \"T\"))","v":""},{"$f":"IFERROR(RTD(\"cqg.rtd\", ,\"ContractData\",Q418, \"PerCentNetLastTrade\",, \"T\")/100,\"\")","v":""},0]
[418,{"$f":"IFERROR(VLOOKUP(A419,Data!$H$2:$J$507,3,FALSE),\"\")","v":""},{"$f":"IFERROR(RTD(\"cqg.rtd\", ,\"ContractData\",B419, \"PerCentNetLastTrade\",, \"T\")/100,\"\")","v":""},{"$f":"IFERROR(RANK($C419,$C$2:C$507)+COUNTIF($C$2:C419,C419)-1,\"\")","v":""},"",418,"",{"$f":"IF(G419=\"\",\"\",RTD(\"cqg.rtd\", ,\"ContractData\",G419, \"LongDescription\",, \"T\"))","v":""},{"$f":"IFERROR(RTD(\"cqg.rtd\", ,\"ContractData\",G419, \"PerCentNetLastTrade\",, \"T\")/100,\"\")","v":""},0,418,{"$f":"IFERROR(VLOOKUP(A419,Data!$I$2:$J$507,2,FALSE),\"\")","v":""},{"$f":"IFERROR(RTD(\"cqg.rtd\", ,\"ContractData\",L419, \"PerCentNetLastTrade\",, \"T\")/100,\"\")","v":""},{"$f":"IFERROR(RANK($M419,$M$2:M$507)+COUNTIF($M$2:M419,M419)-1,\"\")","v":""},"",418,"",{"$f":"IF(Q419=\"\",\"\",RTD(\"cqg.rtd\", ,\"ContractData\",Q419, \"LongDescription\",, \"T\"))","v":""},{"$f":"IFERROR(RTD(\"cqg.rtd\", ,\"ContractData\",Q419, \"PerCentNetLastTrade\",, \"T\")/100,\"\")","v":""},0]
[419,{"$f":"IFERROR(VLOOKUP(A420,Data!$H$2:$J$507,3,FALSE),\"\")","v":""},{"$f":"IFERROR(RTD(\"cqg.rtd\", ,\"ContractData\",B420, \"PerCentNetLastTrade\",, \"T\")/100,\"\")","v":""},{"$f":"IFERROR(RANK($C420,$C$2:C$507)+COUNTIF($C$2:C420,C420)-1,\"\")","v":""},"",419,"",{"$f":"IF(G420=\"\",\"\",RTD(\"cqg.rtd\", ,\"ContractData\",G420, \"LongDescription\",, \"T\"))","v":""},{"$f":"IFERROR(RTD(\"cqg.rtd\", ,\"ContractData\",G420, \"PerCentNetLastTrade\",, \"T\")/100,\"\")","v":""},0,419,{"$f":"IFERROR(VLOOKUP(A420,Data!$I$2:$J$507,2,FALSE),\"\")","v":""},{"$f":"IFERROR(RTD(\"cqg.rtd\", ,\"ContractData\",L420, \"PerCentNetLastTrade\",, \"T\")/100,\"\")","v":""},{"$f":"IFERROR(RANK($M420,$M$2:M$507)+COUNTIF($M$2:M420,M420)-1,\"\")","v":""},"",419,"",{"$f":"IF(Q420=\"\",\"\",RTD(\"cqg.rtd\", ,\"ContractData\",Q420, \"LongDescription\",, \"T\"))","v":""},{"$f":"IFERROR(RTD(\"cqg.rtd\", ,\"ContractData\",Q420, \"PerCentNetLastTrade\",, \"T\")/100,\"\")","v":""},0]
[420,{"$f":"IFERROR(VLOOKUP(A421,Data!$H$2:$J$507,3,FALSE),\"\")","v":""},{"$f":"IFERROR(RTD(\"cqg.rtd\", ,\"ContractData\",B421, \"PerCentNetLastTrade\",, \"T\")/100,\"\")","v":""},{"$f":"IFERROR(RANK($C421,$C$2:C$507)+COUNTIF($C$2:C421,C421)-1,\"\")","v":""},"",420,"",{"$f":"IF(G421=\"\",\"\",RTD(\"cqg.rtd\", ,\"ContractData\",G421, \"LongDescription\",, \"T\"))","v":""},{"$f":"IFERROR(RTD(\"cqg.rtd\", ,\"ContractData\",G421, \"PerCentNetLastTrade\",, \"T\")/100,\"\")","v":""},0,420,{"$f":"IFERROR(VLOOKUP(A421,Data!$I$2:$J$507,2,FALSE),\"\")","v":""},{"$f":"IFERROR(RTD(\"cqg.rtd\", ,\"ContractData\",L421, \"PerCentNetLastTrade\",, \"T\")/100,\"\")","v":""},{"$f":"IFERROR(RANK($M421,$M$2:M$507)+COUNTIF($M$2:M421,M421)-1,\"\")","v":""},"",420,"",{"$f":"IF(Q421=\"\",\"\",RTD(\"cqg.rtd\", ,\"ContractData\",Q421, \"LongDescription\",, \"T\"))","v":""},{"$f":"IFERROR(RTD(\"cqg.rtd\", ,\"ContractData\",Q421, \"PerCentNetLastTrade\",, \"T\")/100,\"\")","v":""},0]
[421,{"$f":"IFERROR(VLOOKUP(A422,Data!$H$2:$J$507,3,FALSE),\"\")","v":""},{"$f":"IFERROR(RTD(\"cqg.rtd\", ,\"ContractData\",B422, \"PerCentNetLastTrade\",, \"T\")/100,\"\")","v":""},{"$f":"IFERROR(RANK($C422,$C$2:C$507)+COUNTIF($C$2:C422,C422)-1,\"\")","v":""},"",421,"",{"$f":"IF(G422=\"\",\"\",RTD(\"cqg.rtd\", ,\"ContractData\",G422, \"LongDescription\",, \"T\"))","v":""},{"$f":"IFERROR(RTD(\"cqg.rtd\", ,\"ContractData\",G422, \"PerCentNetLastTrade\",, \"T\")/100,\"\")","v":""},0,421,{"$f":"IFERROR(VLOOKUP(A422,Data!$I$2:$J$507,2,FALSE),\"\")","v":""},{"$f":"IFERROR(RTD(\"cqg.rtd\", ,\"ContractData\",L422, \"PerCentNetLastTrade\",, \"T\")/100,\"\")","v":""},{"$f":"IFERROR(RANK($M422,$M$2:M$507)+COUNTIF($M$2:M422,M422)-1,\"\")","v":""},{"$f":"IF(L422=\"\",\"\",L422)","v":""},421,"",{"$f":"IF(Q422=\"\",\"\",RTD(\"cqg.rtd\", ,\"ContractData\",Q422, \"LongDescription\",, \"T\"))","v":""},{"$f":"IFERROR(RTD(\"cqg.rtd\", ,\"ContractData\",Q422, \"PerCentNetLastTrade\",, \"T\")/100,\"\")","v":""},0]
[422,{"$f":"IFERROR(VLOOKUP(A423,Data!$H$2:$J$507,3,FALSE),\"\")","v":""},{"$f":"IFERROR(RTD(\"cqg.rtd\", ,\"ContractData\",B423, \"PerCentNetLastTrade\",, \"T\")/100,\"\")","v":""},{"$f":"IFERROR(RANK($C423,$C$2:C$507)+COUNTIF($C$2:C423,C423)-1,\"\")","v":""},"",422,"",{"$f":"IF(G423=\"\",\"\",RTD(\"cqg.rtd\", ,\"ContractData\",G423, \"LongDescription\",, \"T\"))","v":""},{"$f":"IFERROR(RTD(\"cqg.rtd\", ,\"ContractData\",G423, \"PerCentNetLastTrade\",, \"T\")/100,\"\")","v":""},{"$f":"IF(I423<>\"\",1,0)","v":0},422,{"$f":"IFERROR(VLOOKUP(A423,Data!$I$2:$J$507,2,FALSE),\"\")","v":""},{"$f":"IFERROR(RTD(\"cqg.rtd\", ,\"ContractData\",L423, \"PerCentNetLastTrade\",, \"T\")/100,\"\")","v":""},{"$f":"IFERROR(RANK($M423,$M$2:M$507)+COUNTIF($M$2:M423,M423)-1,\"\")","v":""},"",422,"",{"$f":"IF(Q423=\"\",\"\",RTD(\"cqg.rtd\", ,\"ContractData\",Q423, \"LongDescription\",, \"T\"))","v":""},{"$f":"IFERROR(RTD(\"cqg.rtd\", ,\"ContractData\",Q423, \"PerCentNetLastTrade\",, \"T\")/100,\"\")","v":""},0]
[423,{"$f":"IFERROR(VLOOKUP(A424,Data!$H$2:$J$507,3,FALSE),\"\")","v":""},{"$f":"IFERROR(RTD(\"cqg.rtd\", ,\"ContractData\",B424, \"PerCentNetLastTrade\",, \"T\")/100,\"\")","v":""},{"$f":"IFERROR(RANK($C424,$C$2:C$507)+COUNTIF($C$2:C424,C424)-1,\"\")","v":""},"",423,"",{"$f":"IF(G424=\"\",\"\",RTD(\"cqg.rtd\", ,\"ContractData\",G424, \"LongDescription\",, \"T\"))","v":""},{"$f":"IFERROR(RTD(\"cqg.rtd\", ,\"ContractData\",G424, \"PerCentNetLastTrade\",, \"T\")/100,\"\")","v":""},0,423,{"$f":"IFERROR(VLOOKUP(A424,Data!$I$2:$J$507,2,FALSE),\"\")","v":""},{"$f":"IFERROR(RTD(\"cqg.rtd\", ,\"ContractData\",L424, \"PerCentNetLastTrade\",, \"T\")/100,\"\")","v":""},{"$f":"IFERROR(RANK($M424,$M$2:M$507)+COUNTIF($M$2:M424,M424)-1,\"\")","v":""},"",423,"",{"$f":"IF(Q424=\"\",\"\",RTD(\"cqg.rtd\", ,\"ContractData\",Q424, \"LongDescription\",, \"T\"))","v":""},{"$f":"IFERROR(RTD(\"cqg.rtd\", ,\"ContractData\",Q424, \"PerCentNetLastTrade\",, \"T\")/100,\"\")","v":""},0]
[424,{"$f":"IFERROR(VLOOKUP(A425,Data!$H$2:$J$507,3,FALSE),\"\")","v":""},{"$f":"IFERROR(RTD(\"cqg.rtd\", ,\"ContractData\",B425, \"PerCentNetLastTrade\",, \"T\")/100,\"\")","v":""},{"$f":"IFERROR(RANK($C425,$C$2:C$507)+COUNTIF($C$2:C425,C425)-1,\"\")","v":""},"",424,"",{"$f":"IF(G425=\"\",\"\",RTD(\"cqg.rtd\", ,\"ContractData\",G425, \"LongDescription\",, \"T\"))","v":""},{"$f":"IFERROR(RTD(\"cqg.rtd\", ,\"ContractData\",G425, \"PerCentNetLastTrade\",, \"T\")/100,\"\")","v":""},0,424,{"$f":"IFERROR(VLOOKUP(A425,Data!$I$2:$J$507,2,FALSE),\"\")","v":""},{"$f":"IFERROR(RTD(\"cqg.rtd\", ,\"ContractData\",L425, \"PerCentNetLastTrade\",, \"T\")/100,\"\")","v":""},{"$f":"IFERROR(RANK($M425,$M$2:M$507)+COUNTIF($M$2:M425,M425)-1,\"\")","v":""},"",424,"",{"$f":"IF(Q425=\"\",\"\",RTD(\"cqg.rtd\", ,\"ContractData\",Q425, \"LongDescription\",, \"T\"))","v":""},{"$f":"IFERROR(RTD(\"cqg.rtd\", ,\"ContractData\",Q425, \"PerCentNetLastTrade\",, \"T\")/100,\"\")","v":""},0]
[425,{"$f":"IFERROR(VLOOKUP(A426,Data!$H$2:$J$507,3,FALSE),\"\")","v":""},{"$f":"IFERROR(RTD(\"cqg.rtd\", ,\"ContractData\",B426, \"PerCentNetLastTrade\",, \"T\")/100,\"\")","v":""},{"$f":"IFERROR(RANK($C426,$C$2:C$507)+COUNTIF($C$2:C426,C426)-1,\"\")","v":""},"",425,"",{"$f":"IF(G426=\"\",\"\",RTD(\"cqg.rtd\", ,\"ContractData\",G426, \"LongDescription\",, \"T\"))","v":""},{"$f":"IFERROR(RTD(\"cqg.rtd\", ,\"ContractData\",G426, \"PerCentNetLastTrade\",, \"T\")/100,\"\")","v":""},0,425,{"$f":"IFERROR(VLOOKUP(A426,Data!$I$2:$J$507,2,FALSE),\"\")","v":""},{"$f":"IFERROR(RTD(\"cqg.rtd\", ,\"ContractData\",L426, \"PerCentNetLastTrade\",, \"T\")/100,\"\")","v":""},{"$f":"IFERROR(RANK($M426,$M$2:M$507)+COUNTIF($M$2:M426,M426)-1,\"\")","v":""},"",425,"",{"$f":"IF(Q426=\"\",\"\",RTD(\"cqg.rtd\", ,\"ContractData\",Q426, \"LongDescription\",, \"T\"))","v":""},{"$f":"IFERROR(RTD(\"cqg.rtd\", ,\"ContractData\",Q426, \"PerCentNetLastTrade\",, \"T\")/100,\"\")","v":""},0]
[426,{"$f":"IFERROR(VLOOKUP(A427,Data!$H$2:$J$507,3,FALSE),\"\")","v":""},{"$f":"IFERROR(RTD(\"cqg.rtd\", ,\"ContractData\",B427, \"PerCentNetLastTrade\",, \"T\")/100,\"\")","v":""},{"$f":"IFERROR(RANK($C427,$C$2:C$507)+COUNTIF($C$2:C427,C427)-1,\"\")","v":""},"",426,"",{"$f":"IF(G427=\"\",\"\",RTD(\"cqg.rtd\", ,\"ContractData\",G427, \"LongDescription\",, \"T\"))","v":""},{"$f":"IFERROR(RTD(\"cqg.rtd\", ,\"ContractData\",G427, \"PerCentNetLastTrade\",, \"T\")/100,\"\")","v":""},0,426,{"$f":"IFERROR(VLOOKUP(A427,Data!$I$2:$J$507,2,FALSE),\"\")","v":""},{"$f":"IFERROR(RTD(\"cqg.rtd\", ,\"ContractData\",L427, \"PerCentNetLastTrade\",, \"T\")/100,\"\")","v":""},{"$f":"IFERROR(RANK($M427,$M$2:M$507)+COUNTIF($M$2:M427,M427)-1,\"\")","v":""},"",426,"",{"$f":"IF(Q427=\"\",\"\",RTD(\"cqg.rtd\", ,\"ContractData\",Q427, \"LongDescription\",, \"T\"))","v":""},{"$f":"IFERROR(RTD(\"cqg.rtd\", ,\"ContractData\",Q427, \"PerCentNetLastTrade\",, \"T\")/100,\"\")","v":""},0]
[427,{"$f":"IFERROR(VLOOKUP(A428,Data!$H$2:$J$507,3,FALSE),\"\")","v":""},{"$f":"IFERROR(RTD(\"cqg.rtd\", ,\"ContractData\",B428, \"PerCentNetLastTrade\",, \"T\")/100,\"\")","v":""},{"$f":"IFERROR(RANK($C428,$C$2:C$507)+COUNTIF($C$2:C428,C428)-1,\"\")","v":""},"",427,"",{"$f":"IF(G428=\"\",\"\",RTD(\"cqg.rtd\", ,\"ContractData\",G428, \"LongDescription\",, \"T\"))","v":""},{"$f":"IFERROR(RTD(\"cqg.rtd\", ,\"ContractData\",G428, \"PerCentNetLastTrade\",, \"T\")/100,\"\")","v":""},0,427,{"$f":"IFERROR(VLOOKUP(A428,Data!$I$2:$J$507,2,FALSE),\"\")","v":""},{"$f":"IFERROR(RTD(\"cqg.rtd\", ,\"ContractData\",L428, \"PerCentNetLastTrade\",, \"T\")/100,\"\")","v":""},{"$f":"IFERROR(RANK($M428,$M$2:M$507)+COUNTIF($M$2:M428,M428)-1,\"\")","v":""},"",427,"",{"$f":"IF(Q428=\"\",\"\",RTD(\"cqg.rtd\", ,\"ContractData\",Q428, \"LongDescription\",, \"T\"))","v":""},{"$f":"IFERROR(RTD(\"cqg.rtd\", ,\"ContractData\",Q428, \"PerCentNetLastTrade\",, \"T\")/100,\"\")","v":""},0]
[428,{"$f":"IFERROR(VLOOKUP(A429,Data!$H$2:$J$507,3,FALSE),\"\")","v":""},{"$f":"IFERROR(RTD(\"cqg.rtd\", ,\"ContractData\",B429, \"PerCentNetLastTrade\",, \"T\")/100,\"\")","v":""},{"$f":"IFERROR(RANK($C429,$C$2:C$507)+COUNTIF($C$2:C429,C429)-1,\"\")","v":""},"",428,"",{"$f":"IF(G429=\"\",\"\",RTD(\"cqg.rtd\", ,\"ContractData\",G429, \"LongDescription\",, \"T\"))","v":""},{"$f":"IFERROR(RTD(\"cqg.rtd\", ,\"ContractData\",G429, \"PerCentNetLastTrade\",, \"T\")/100,\"\")","v":""},0,428,{"$f":"IFERROR(VLOOKUP(A429,Data!$I$2:$J$507,2,FALSE),\"\")","v":""},{"$f":"IFERROR(RTD(\"cqg.rtd\", ,\"ContractData\",L429, \"PerCentNetLastTrade\",, \"T\")/100,\"\")","v":""},{"$f":"IFERROR(RANK($M429,$M$2:M$507)+COUNTIF($M$2:M429,M429)-1,\"\")","v":""},"",428,"",{"$f":"IF(Q429=\"\",\"\",RTD(\"cqg.rtd\", ,\"ContractData\",Q429, \"LongDescription\",, \"T\"))","v":""},{"$f":"IFERROR(RTD(\"cqg.rtd\", ,\"ContractData\",Q429, \"PerCentNetLastTrade\",, \"T\")/100,\"\")","v":""},0]
[429,{"$f":"IFERROR(VLOOKUP(A430,Data!$H$2:$J$507,3,FALSE),\"\")","v":""},{"$f":"IFERROR(RTD(\"cqg.rtd\", ,\"ContractData\",B430, \"PerCentNetLastTrade\",, \"T\")/100,\"\")","v":""},{"$f":"IFERROR(RANK($C430,$C$2:C$507)+COUNTIF($C$2:C430,C430)-1,\"\")","v":""},"",429,"",{"$f":"IF(G430=\"\",\"\",RTD(\"cqg.rtd\", ,\"ContractData\",G430, \"LongDescription\",, \"T\"))","v":""},{"$f":"IFERROR(RTD(\"cqg.rtd\", ,\"ContractData\",G430, \"PerCentNetLastTrade\",, \"T\")/100,\"\")","v":""},0,429,{"$f":"IFERROR(VLOOKUP(A430,Data!$I$2:$J$507,2,FALSE),\"\")","v":""},{"$f":"IFERROR(RTD(\"cqg.rtd\", ,\"ContractData\",L430, \"PerCentNetLastTrade\",, \"T\")/100,\"\")","v":""},{"$f":"IFERROR(RANK($M430,$M$2:M$507)+COUNTIF($M$2:M430,M430)-1,\"\")","v":""},"",429,"",{"$f":"IF(Q430=\"\",\"\",RTD(\"cqg.rtd\", ,\"ContractData\",Q430, \"LongDescription\",, \"T\"))","v":""},{"$f":"IFERROR(RTD(\"cqg.rtd\", ,\"ContractData\",Q430, \"PerCentNetLastTrade\",, \"T\")/100,\"\")","v":""},0]
[430,{"$f":"IFERROR(VLOOKUP(A431,Data!$H$2:$J$507,3,FALSE),\"\")","v":""},{"$f":"IFERROR(RTD(\"cqg.rtd\", ,\"ContractData\",B431, \"PerCentNetLastTrade\",, \"T\")/100,\"\")","v":""},{"$f":"IFERROR(RANK($C431,$C$2:C$507)+COUNTIF($C$2:C431,C431)-1,\"\")","v":""},"",430,"",{"$f":"IF(G431=\"\",\"\",RTD(\"cqg.rtd\", ,\"ContractData\",G431, \"LongDescription\",, \"T\"))","v":""},{"$f":"IFERROR(RTD(\"cqg.rtd\", ,\"ContractData\",G431, \"PerCentNetLastTrade\",, \"T\")/100,\"\")","v":""},0,430,{"$f":"IFERROR(VLOOKUP(A431,Data!$I$2:$J$507,2,FALSE),\"\")","v":""},{"$f":"IFERROR(RTD(\"cqg.rtd\", ,\"ContractData\",L431, \"PerCentNetLastTrade\",, \"T\")/100,\"\")","v":""},{"$f":"IFERROR(RANK($M431,$M$2:M$507)+COUNTIF($M$2:M431,M431)-1,\"\")","v":""},"",430,"",{"$f":"IF(Q431=\"\",\"\",RTD(\"cqg.rtd\", ,\"ContractData\",Q431, \"LongDescription\",, \"T\"))","v":""},{"$f":"IFERROR(RTD(\"cqg.rtd\", ,\"ContractData\",Q431, \"PerCentNetLastTrade\",, \"T\")/100,\"\")","v":""},0]
[431,{"$f":"IFERROR(VLOOKUP(A432,Data!$H$2:$J$507,3,FALSE),\"\")","v":""},{"$f":"IFERROR(RTD(\"cqg.rtd\", ,\"ContractData\",B432, \"PerCentNetLastTrade\",, \"T\")/100,\"\")","v":""},{"$f":"IFERROR(RANK($C432,$C$2:C$507)+COUNTIF($C$2:C432,C432)-1,\"\")","v":""},"",431,"",{"$f":"IF(G432=\"\",\"\",RTD(\"cqg.rtd\", ,\"ContractData\",G432, \"LongDescription\",, \"T\"))","v":""},{"$f":"IFERROR(RTD(\"cqg.rtd\", ,\"ContractData\",G432, \"PerCentNetLastTrade\",, \"T\")/100,\"\")","v":""},0,431,{"$f":"IFERROR(VLOOKUP(A432,Data!$I$2:$J$507,2,FALSE),\"\")","v":""},{"$f":"IFERROR(RTD(\"cqg.rtd\", ,\"ContractData\",L432, \"PerCentNetLastTrade\",, \"T\")/100,\"\")","v":""},{"$f":"IFERROR(RANK($M432,$M$2:M$507)+COUNTIF($M$2:M432,M432)-1,\"\")","v":""},"",431,"",{"$f":"IF(Q432=\"\",\"\",RTD(\"cqg.rtd\", ,\"ContractData\",Q432, \"LongDescription\",, \"T\"))","v":""},{"$f":"IFERROR(RTD(\"cqg.rtd\", ,\"ContractData\",Q432, \"PerCentNetLastTrade\",, \"T\")/100,\"\")","v":""},0]
[432,{"$f":"IFERROR(VLOOKUP(A433,Data!$H$2:$J$507,3,FALSE),\"\")","v":""},{"$f":"IFERROR(RTD(\"cqg.rtd\", ,\"ContractData\",B433, \"PerCentNetLastTrade\",, \"T\")/100,\"\")","v":""},{"$f":"IFERROR(RANK($C433,$C$2:C$507)+COUNTIF($C$2:C433,C433)-1,\"\")","v":""},"",432,"",{"$f":"IF(G433=\"\",\"\",RTD(\"cqg.rtd\", ,\"ContractData\",G433, \"LongDescription\",, \"T\"))","v":""},{"$f":"IFERROR(RTD(\"cqg.rtd\", ,\"ContractData\",G433, \"PerCentNetLastTrade\",, \"T\")/100,\"\")","v":""},0,432,{"$f":"IFERROR(VLOOKUP(A433,Data!$I$2:$J$507,2,FALSE),\"\")","v":""},{"$f":"IFERROR(RTD(\"cqg.rtd\", ,\"ContractData\",L433, \"PerCentNetLastTrade\",, \"T\")/100,\"\")","v":""},{"$f":"IFERROR(RANK($M433,$M$2:M$507)+COUNTIF($M$2:M433,M433)-1,\"\")","v":""},"",432,"",{"$f":"IF(Q433=\"\",\"\",RTD(\"cqg.rtd\", ,\"ContractData\",Q433, \"LongDescription\",, \"T\"))","v":""},{"$f":"IFERROR(RTD(\"cqg.rtd\", ,\"ContractData\",Q433, \"PerCentNetLastTrade\",, \"T\")/100,\"\")","v":""},0]
[433,{"$f":"IFERROR(VLOOKUP(A434,Data!$H$2:$J$507,3,FALSE),\"\")","v":""},{"$f":"IFERROR(RTD(\"cqg.rtd\", ,\"ContractData\",B434, \"PerCentNetLastTrade\",, \"T\")/100,\"\")","v":""},{"$f":"IFERROR(RANK($C434,$C$2:C$507)+COUNTIF($C$2:C434,C434)-1,\"\")","v":""},"",433,"",{"$f":"IF(G434=\"\",\"\",RTD(\"cqg.rtd\", ,\"ContractData\",G434, \"LongDescription\",, \"T\"))","v":""},{"$f":"IFERROR(RTD(\"cqg.rtd\", ,\"ContractData\",G434, \"PerCentNetLastTrade\",, \"T\")/100,\"\")","v":""},0,433,{"$f":"IFERROR(VLOOKUP(A434,Data!$I$2:$J$507,2,FALSE),\"\")","v":""},{"$f":"IFERROR(RTD(\"cqg.rtd\", ,\"ContractData\",L434, \"PerCentNetLastTrade\",, \"T\")/100,\"\")","v":""},{"$f":"IFERROR(RANK($M434,$M$2:M$507)+COUNTIF($M$2:M434,M434)-1,\"\")","v":""},"",433,"",{"$f":"IF(Q434=\"\",\"\",RTD(\"cqg.rtd\", ,\"ContractData\",Q434, \"LongDescription\",, \"T\"))","v":""},{"$f":"IFERROR(RTD(\"cqg.rtd\", ,\"ContractData\",Q434, \"PerCentNetLastTrade\",, \"T\")/100,\"\")","v":""},0]
[434,{"$f":"IFERROR(VLOOKUP(A435,Data!$H$2:$J$507,3,FALSE),\"\")","v":""},{"$f":"IFERROR(RTD(\"cqg.rtd\", ,\"ContractData\",B435, \"PerCentNetLastTrade\",, \"T\")/100,\"\")","v":""},{"$f":"IFERROR(RANK($C435,$C$2:C$507)+COUNTIF($C$2:C435,C435)-1,\"\")","v":""},"",434,"",{"$f":"IF(G435=\"\",\"\",RTD(\"cqg.rtd\", ,\"ContractData\",G435, \"LongDescription\",, \"T\"))","v":""},{"$f":"IFERROR(RTD(\"cqg.rtd\", ,\"ContractData\",G435, \"PerCentNetLastTrade\",, \"T\")/100,\"\")","v":""},0,434,{"$f":"IFERROR(VLOOKUP(A435,Data!$I$2:$J$507,2,FALSE),\"\")","v":""},{"$f":"IFERROR(RTD(\"cqg.rtd\", ,\"ContractData\",L435, \"PerCentNetLastTrade\",, \"T\")/100,\"\")","v":""},{"$f":"IFERROR(RANK($M435,$M$2:M$507)+COUNTIF($M$2:M435,M435)-1,\"\")","v":""},"",434,"",{"$f":"IF(Q435=\"\",\"\",RTD(\"cqg.rtd\", ,\"ContractData\",Q435, \"LongDescription\",, \"T\"))","v":""},{"$f":"IFERROR(RTD(\"cqg.rtd\", ,\"ContractData\",Q435, \"PerCentNetLastTrade\",, \"T\")/100,\"\")","v":""},0]
[435,{"$f":"IFERROR(VLOOKUP(A436,Data!$H$2:$J$507,3,FALSE),\"\")","v":""},{"$f":"IFERROR(RTD(\"cqg.rtd\", ,\"ContractData\",B436, \"PerCentNetLastTrade\",, \"T\")/100,\"\")","v":""},{"$f":"IFERROR(RANK($C436,$C$2:C$507)+COUNTIF($C$2:C436,C436)-1,\"\")","v":""},"",435,"",{"$f":"IF(G436=\"\",\"\",RTD(\"cqg.rtd\", ,\"ContractData\",G436, \"LongDescription\",, \"T\"))","v":""},{"$f":"IFERROR(RTD(\"cqg.rtd\", ,\"ContractData\",G436, \"PerCentNetLastTrade\",, \"T\")/100,\"\")","v":""},0,435,{"$f":"IFERROR(VLOOKUP(A436,Data!$I$2:$J$507,2,FALSE),\"\")","v":""},{"$f":"IFERROR(RTD(\"cqg.rtd\", ,\"ContractData\",L436, \"PerCentNetLastTrade\",, \"T\")/100,\"\")","v":""},{"$f":"IFERROR(RANK($M436,$M$2:M$507)+COUNTIF($M$2:M436,M436)-1,\"\")","v":""},"",435,"",{"$f":"IF(Q436=\"\",\"\",RTD(\"cqg.rtd\", ,\"ContractData\",Q436, \"LongDescription\",, \"T\"))","v":""},{"$f":"IFERROR(RTD(\"cqg.rtd\", ,\"ContractData\",Q436, \"PerCentNetLastTrade\",, \"T\")/100,\"\")","v":""},0]
[436,{"$f":"IFERROR(VLOOKUP(A437,Data!$H$2:$J$507,3,FALSE),\"\")","v":""},{"$f":"IFERROR(RTD(\"cqg.rtd\", ,\"ContractData\",B437, \"PerCentNetLastTrade\",, \"T\")/100,\"\")","v":""},{"$f":"IFERROR(RANK($C437,$C$2:C$507)+COUNTIF($C$2:C437,C437)-1,\"\")","v":""},"",436,"",{"$f":"IF(G437=\"\",\"\",RTD(\"cqg.rtd\", ,\"ContractData\",G437, \"LongDescription\",, \"T\"))","v":""},{"$f":"IFERROR(RTD(\"cqg.rtd\", ,\"ContractData\",G437, \"PerCentNetLastTrade\",, \"T\")/100,\"\")","v":""},0,436,{"$f":"IFERROR(VLOOKUP(A437,Data!$I$2:$J$507,2,FALSE),\"\")","v":""},{"$f":"IFERROR(RTD(\"cqg.rtd\", ,\"ContractData\",L437, \"PerCentNetLastTrade\",, \"T\")/100,\"\")","v":""},{"$f":"IFERROR(RANK($M437,$M$2:M$507)+COUNTIF($M$2:M437,M437)-1,\"\")","v":""},"",436,"",{"$f":"IF(Q437=\"\",\"\",RTD(\"cqg.rtd\", ,\"ContractData\",Q437, \"LongDescription\",, \"T\"))","v":""},{"$f":"IFERROR(RTD(\"cqg.rtd\", ,\"ContractData\",Q437, \"PerCentNetLastTrade\",, \"T\")/100,\"\")","v":""},0]
[437,{"$f":"IFERROR(VLOOKUP(A438,Data!$H$2:$J$507,3,FALSE),\"\")","v":""},{"$f":"IFERROR(RTD(\"cqg.rtd\", ,\"ContractData\",B438, \"PerCentNetLastTrade\",, \"T\")/100,\"\")","v":""},{"$f":"IFERROR(RANK($C438,$C$2:C$507)+COUNTIF($C$2:C438,C438)-1,\"\")","v":""},"",437,"",{"$f":"IF(G438=\"\",\"\",RTD(\"cqg.rtd\", ,\"ContractData\",G438, \"LongDescription\",, \"T\"))","v":""},{"$f":"IFERROR(RTD(\"cqg.rtd\", ,\"ContractData\",G438, \"PerCentNetLastTrade\",, \"T\")/100,\"\")","v":""},0,437,{"$f":"IFERROR(VLOOKUP(A438,Data!$I$2:$J$507,2,FALSE),\"\")","v":""},{"$f":"IFERROR(RTD(\"cqg.rtd\", ,\"ContractData\",L438, \"PerCentNetLastTrade\",, \"T\")/100,\"\")","v":""},{"$f":"IFERROR(RANK($M438,$M$2:M$507)+COUNTIF($M$2:M438,M438)-1,\"\")","v":""},"",437,"",{"$f":"IF(Q438=\"\",\"\",RTD(\"cqg.rtd\", ,\"ContractData\",Q438, \"LongDescription\",, \"T\"))","v":""},{"$f":"IFERROR(RTD(\"cqg.rtd\", ,\"ContractData\",Q438, \"PerCentNetLastTrade\",, \"T\")/100,\"\")","v":""},0]
[438,{"$f":"IFERROR(VLOOKUP(A439,Data!$H$2:$J$507,3,FALSE),\"\")","v":""},{"$f":"IFERROR(RTD(\"cqg.rtd\", ,\"ContractData\",B439, \"PerCentNetLastTrade\",, \"T\")/100,\"\")","v":""},{"$f":"IFERROR(RANK($C439,$C$2:C$507)+COUNTIF($C$2:C439,C439)-1,\"\")","v":""},"",438,"",{"$f":"IF(G439=\"\",\"\",RTD(\"cqg.rtd\", ,\"ContractData\",G439, \"LongDescription\",, \"T\"))","v":""},{"$f":"IFERROR(RTD(\"cqg.rtd\", ,\"ContractData\",G439, \"PerCentNetLastTrade\",, \"T\")/100,\"\")","v":""},0,438,{"$f":"IFERROR(VLOOKUP(A439,Data!$I$2:$J$507,2,FALSE),\"\")","v":""},{"$f":"IFERROR(RTD(\"cqg.rtd\", ,\"ContractData\",L439, \"PerCentNetLastTrade\",, \"T\")/100,\"\")","v":""},{"$f":"IFERROR(RANK($M439,$M$2:M$507)+COUNTIF($M$2:M439,M439)-1,\"\")","v":""},"",438,"",{"$f":"IF(Q439=\"\",\"\",RTD(\"cqg.rtd\", ,\"ContractData\",Q439, \"LongDescription\",, \"T\"))","v":""},{"$f":"IFERROR(RTD(\"cqg.rtd\", ,\"ContractData\",Q439, \"PerCentNetLastTrade\",, \"T\")/100,\"\")","v":""},0]
[439,{"$f":"IFERROR(VLOOKUP(A440,Data!$H$2:$J$507,3,FALSE),\"\")","v":""},{"$f":"IFERROR(RTD(\"cqg.rtd\", ,\"ContractData\",B440, \"PerCentNetLastTrade\",, \"T\")/100,\"\")","v":""},{"$f":"IFERROR(RANK($C440,$C$2:C$507)+COUNTIF($C$2:C440,C440)-1,\"\")","v":""},{"$f":"IF(B440=\"\",\"\",B440)","v":""},439,"",{"$f":"IF(G440=\"\",\"\",RTD(\"cqg.rtd\", ,\"ContractData\",G440, \"LongDescription\",, \"T\"))","v":""},{"$f":"IFERROR(RTD(\"cqg.rtd\", ,\"ContractData\",G440, \"PerCentNetLastTrade\",, \"T\")/100,\"\")","v":""},0,439,{"$f":"IFERROR(VLOOKUP(A440,Data!$I$2:$J$507,2,FALSE),\"\")","v":""},{"$f":"IFERROR(RTD(\"cqg.rtd\", ,\"ContractData\",L440, \"PerCentNetLastTrade\",, \"T\")/100,\"\")","v":""},{"$f":"IFERROR(RANK($M440,$M$2:M$507)+COUNTIF($M$2:M440,M440)-1,\"\")","v":""},"",439,"",{"$f":"IF(Q440=\"\",\"\",RTD(\"cqg.rtd\", ,\"ContractData\",Q440, \"LongDescription\",, \"T\"))","v":""},{"$f":"IFERROR(RTD(\"cqg.rtd\", ,\"ContractData\",Q440, \"PerCentNetLastTrade\",, \"T\")/100,\"\")","v":""},0]
[440,{"$f":"IFERROR(VLOOKUP(A441,Data!$H$2:$J$507,3,FALSE),\"\")","v":""},{"$f":"IFERROR(RTD(\"cqg.rtd\", ,\"ContractData\",B441, \"PerCentNetLastTrade\",, \"T\")/100,\"\")","v":""},{"$f":"IFERROR(RANK($C441,$C$2:C$507)+COUNTIF($C$2:C441,C441)-1,\"\")","v":""},"",440,"",{"$f":"IF(G441=\"\",\"\",RTD(\"cqg.rtd\", ,\"ContractData\",G441, \"LongDescription\",, \"T\"))","v":""},{"$f":"IFERROR(RTD(\"cqg.rtd\", ,\"ContractData\",G441, \"PerCentNetLastTrade\",, \"T\")/100,\"\")","v":""},0,440,{"$f":"IFERROR(VLOOKUP(A441,Data!$I$2:$J$507,2,FALSE),\"\")","v":""},{"$f":"IFERROR(RTD(\"cqg.rtd\", ,\"ContractData\",L441, \"PerCentNetLastTrade\",, \"T\")/100,\"\")","v":""},{"$f":"IFERROR(RANK($M441,$M$2:M$507)+COUNTIF($M$2:M441,M441)-1,\"\")","v":""},"",440,"",{"$f":"IF(Q441=\"\",\"\",RTD(\"cqg.rtd\", ,\"ContractData\",Q441, \"LongDescription\",, \"T\"))","v":""},{"$f":"IFERROR(RTD(\"cqg.rtd\", ,\"ContractData\",Q441, \"PerCentNetLastTrade\",, \"T\")/100,\"\")","v":""},0]
[441,{"$f":"IFERROR(VLOOKUP(A442,Data!$H$2:$J$507,3,FALSE),\"\")","v":""},{"$f":"IFERROR(RTD(\"cqg.rtd\", ,\"ContractData\",B442, \"PerCentNetLastTrade\",, \"T\")/100,\"\")","v":""},{"$f":"IFERROR(RANK($C442,$C$2:C$507)+COUNTIF($C$2:C442,C442)-1,\"\")","v":""},"",441,"",{"$f":"IF(G442=\"\",\"\",RTD(\"cqg.rtd\", ,\"ContractData\",G442, \"LongDescription\",, \"T\"))","v":""},{"$f":"IFERROR(RTD(\"cqg.rtd\", ,\"ContractData\",G442, \"PerCentNetLastTrade\",, \"T\")/100,\"\")","v":""},0,441,{"$f":"IFERROR(VLOOKUP(A442,Data!$I$2:$J$507,2,FALSE),\"\")","v":""},{"$f":"IFERROR(RTD(\"cqg.rtd\", ,\"ContractData\",L442, \"PerCentNetLastTrade\",, \"T\")/100,\"\")","v":""},{"$f":"IFERROR(RANK($M442,$M$2:M$507)+COUNTIF($M$2:M442,M442)-1,\"\")","v":""},"",441,"",{"$f":"IF(Q442=\"\",\"\",RTD(\"cqg.rtd\", ,\"ContractData\",Q442, \"LongDescription\",, \"T\"))","v":""},{"$f":"IFERROR(RTD(\"cqg.rtd\", ,\"ContractData\",Q442, \"PerCentNetLastTrade\",, \"T\")/100,\"\")","v":""},0]
[442,{"$f":"IFERROR(VLOOKUP(A443,Data!$H$2:$J$507,3,FALSE),\"\")","v":""},{"$f":"IFERROR(RTD(\"cqg.rtd\", ,\"ContractData\",B443, \"PerCentNetLastTrade\",, \"T\")/100,\"\")","v":""},{"$f":"IFERROR(RANK($C443,$C$2:C$507)+COUNTIF($C$2:C443,C443)-1,\"\")","v":""},"",442,"",{"$f":"IF(G443=\"\",\"\",RTD(\"cqg.rtd\", ,\"ContractData\",G443, \"LongDescription\",, \"T\"))","v":""},{"$f":"IFERROR(RTD(\"cqg.rtd\", ,\"ContractData\",G443, \"PerCentNetLastTrade\",, \"T\")/100,\"\")","v":""},0,442,{"$f":"IFERROR(VLOOKUP(A443,Data!$I$2:$J$507,2,FALSE),\"\")","v":""},{"$f":"IFERROR(RTD(\"cqg.rtd\", ,\"ContractData\",L443, \"PerCentNetLastTrade\",, \"T\")/100,\"\")","v":""},{"$f":"IFERROR(RANK($M443,$M$2:M$507)+COUNTIF($M$2:M443,M443)-1,\"\")","v":""},"",442,"",{"$f":"IF(Q443=\"\",\"\",RTD(\"cqg.rtd\", ,\"ContractData\",Q443, \"LongDescription\",, \"T\"))","v":""},{"$f":"IFERROR(RTD(\"cqg.rtd\", ,\"ContractData\",Q443, \"PerCentNetLastTrade\",, \"T\")/100,\"\")","v":""},0]
[443,{"$f":"IFERROR(VLOOKUP(A444,Data!$H$2:$J$507,3,FALSE),\"\")","v":""},{"$f":"IFERROR(RTD(\"cqg.rtd\", ,\"ContractData\",B444, \"PerCentNetLastTrade\",, \"T\")/100,\"\")","v":""},{"$f":"IFERROR(RANK($C444,$C$2:C$507)+COUNTIF($C$2:C444,C444)-1,\"\")","v":""},"",443,"",{"$f":"IF(G444=\"\",\"\",RTD(\"cqg.rtd\", ,\"ContractData\",G444, \"LongDescription\",, \"T\"))","v":""},{"$f":"IFERROR(RTD(\"cqg.rtd\", ,\"ContractData\",G444, \"PerCentNetLastTrade\",, \"T\")/100,\"\")","v":""},0,443,{"$f":"IFERROR(VLOOKUP(A444,Data!$I$2:$J$507,2,FALSE),\"\")","v":""},{"$f":"IFERROR(RTD(\"cqg.rtd\", ,\"ContractData\",L444, \"PerCentNetLastTrade\",, \"T\")/100,\"\")","v":""},{"$f":"IFERROR(RANK($M444,$M$2:M$507)+COUNTIF($M$2:M444,M444)-1,\"\")","v":""},"",443,"",{"$f":"IF(Q444=\"\",\"\",RTD(\"cqg.rtd\", ,\"ContractData\",Q444, \"LongDescription\",, \"T\"))","v":""},{"$f":"IFERROR(RTD(\"cqg.rtd\", ,\"ContractData\",Q444, \"PerCentNetLastTrade\",, \"T\")/100,\"\")","v":""},0]
[444,{"$f":"IFERROR(VLOOKUP(A445,Data!$H$2:$J$507,3,FALSE),\"\")","v":""},{"$f":"IFERROR(RTD(\"cqg.rtd\", ,\"ContractData\",B445, \"PerCentNetLastTrade\",, \"T\")/100,\"\")","v":""},{"$f":"IFERROR(RANK($C445,$C$2:C$507)+COUNTIF($C$2:C445,C445)-1,\"\")","v":""},"",444,"",{"$f":"IF(G445=\"\",\"\",RTD(\"cqg.rtd\", ,\"ContractData\",G445, \"LongDescription\",, \"T\"))","v":""},{"$f":"IFERROR(RTD(\"cqg.rtd\", ,\"ContractData\",G445, \"PerCentNetLastTrade\",, \"T\")/100,\"\")","v":""},0,444,{"$f":"IFERROR(VLOOKUP(A445,Data!$I$2:$J$507,2,FALSE),\"\")","v":""},{"$f":"IFERROR(RTD(\"cqg.rtd\", ,\"ContractData\",L445, \"PerCentNetLastTrade\",, \"T\")/100,\"\")","v":""},{"$f":"IFERROR(RANK($M445,$M$2:M$507)+COUNTIF($M$2:M445,M445)-1,\"\")","v":""},"",444,"",{"$f":"IF(Q445=\"\",\"\",RTD(\"cqg.rtd\", ,\"ContractData\",Q445, \"LongDescription\",, \"T\"))","v":""},{"$f":"IFERROR(RTD(\"cqg.rtd\", ,\"ContractData\",Q445, \"PerCentNetLastTrade\",, \"T\")/100,\"\")","v":""},0]
[445,{"$f":"IFERROR(VLOOKUP(A446,Data!$H$2:$J$507,3,FALSE),\"\")","v":""},{"$f":"IFERROR(RTD(\"cqg.rtd\", ,\"ContractData\",B446, \"PerCentNetLastTrade\",, \"T\")/100,\"\")","v":""},{"$f":"IFERROR(RANK($C446,$C$2:C$507)+COUNTIF($C$2:C446,C446)-1,\"\")","v":""},"",445,"",{"$f":"IF(G446=\"\",\"\",RTD(\"cqg.rtd\", ,\"ContractData\",G446, \"LongDescription\",, \"T\"))","v":""},{"$f":"IFERROR(RTD(\"cqg.rtd\", ,\"ContractData\",G446, \"PerCentNetLastTrade\",, \"T\")/100,\"\")","v":""},0,445,{"$f":"IFERROR(VLOOKUP(A446,Data!$I$2:$J$507,2,FALSE),\"\")","v":""},{"$f":"IFERROR(RTD(\"cqg.rtd\", ,\"ContractData\",L446, \"PerCentNetLastTrade\",, \"T\")/100,\"\")","v":""},{"$f":"IFERROR(RANK($M446,$M$2:M$507)+COUNTIF($M$2:M446,M446)-1,\"\")","v":""},"",445,"",{"$f":"IF(Q446=\"\",\"\",RTD(\"cqg.rtd\", ,\"ContractData\",Q446, \"LongDescription\",, \"T\"))","v":""},{"$f":"IFERROR(RTD(\"cqg.rtd\", ,\"ContractData\",Q446, \"PerCentNetLastTrade\",, \"T\")/100,\"\")","v":""},0]
[446,{"$f":"IFERROR(VLOOKUP(A447,Data!$H$2:$J$507,3,FALSE),\"\")","v":""},{"$f":"IFERROR(RTD(\"cqg.rtd\", ,\"ContractData\",B447, \"PerCentNetLastTrade\",, \"T\")/100,\"\")","v":""},{"$f":"IFERROR(RANK($C447,$C$2:C$507)+COUNTIF($C$2:C447,C447)-1,\"\")","v":""},"",446,"",{"$f":"IF(G447=\"\",\"\",RTD(\"cqg.rtd\", ,\"ContractData\",G447, \"LongDescription\",, \"T\"))","v":""},{"$f":"IFERROR(RTD(\"cqg.rtd\", ,\"ContractData\",G447, \"PerCentNetLastTrade\",, \"T\")/100,\"\")","v":""},0,446,{"$f":"IFERROR(VLOOKUP(A447,Data!$I$2:$J$507,2,FALSE),\"\")","v":""},{"$f":"IFERROR(RTD(\"cqg.rtd\", ,\"ContractData\",L447, \"PerCentNetLastTrade\",, \"T\")/100,\"\")","v":""},{"$f":"IFERROR(RANK($M447,$M$2:M$507)+COUNTIF($M$2:M447,M447)-1,\"\")","v":""},"",446,"",{"$f":"IF(Q447=\"\",\"\",RTD(\"cqg.rtd\", ,\"ContractData\",Q447, \"LongDescription\",, \"T\"))","v":""},{"$f":"IFERROR(RTD(\"cqg.rtd\", ,\"ContractData\",Q447, \"PerCentNetLastTrade\",, \"T\")/100,\"\")","v":""},0]
[447,{"$f":"IFERROR(VLOOKUP(A448,Data!$H$2:$J$507,3,FALSE),\"\")","v":""},{"$f":"IFERROR(RTD(\"cqg.rtd\", ,\"ContractData\",B448, \"PerCentNetLastTrade\",, \"T\")/100,\"\")","v":""},{"$f":"IFERROR(RANK($C448,$C$2:C$507)+COUNTIF($C$2:C448,C448)-1,\"\")","v":""},"",447,"",{"$f":"IF(G448=\"\",\"\",RTD(\"cqg.rtd\", ,\"ContractData\",G448, \"LongDescription\",, \"T\"))","v":""},{"$f":"IFERROR(RTD(\"cqg.rtd\", ,\"ContractData\",G448, \"PerCentNetLastTrade\",, \"T\")/100,\"\")","v":""},0,447,{"$f":"IFERROR(VLOOKUP(A448,Data!$I$2:$J$507,2,FALSE),\"\")","v":""},{"$f":"IFERROR(RTD(\"cqg.rtd\", ,\"ContractData\",L448, \"PerCentNetLastTrade\",, \"T\")/100,\"\")","v":""},{"$f":"IFERROR(RANK($M448,$M$2:M$507)+COUNTIF($M$2:M448,M448)-1,\"\")","v":""},"",447,"",{"$f":"IF(Q448=\"\",\"\",RTD(\"cqg.rtd\", ,\"ContractData\",Q448, \"LongDescription\",, \"T\"))","v":""},{"$f":"IFERROR(RTD(\"cqg.rtd\", ,\"ContractData\",Q448, \"PerCentNetLastTrade\",, \"T\")/100,\"\")","v":""},0]
[448,{"$f":"IFERROR(VLOOKUP(A449,Data!$H$2:$J$507,3,FALSE),\"\")","v":""},{"$f":"IFERROR(RTD(\"cqg.rtd\", ,\"ContractData\",B449, \"PerCentNetLastTrade\",, \"T\")/100,\"\")","v":""},{"$f":"IFERROR(RANK($C449,$C$2:C$507)+COUNTIF($C$2:C449,C449)-1,\"\")","v":""},"",448,"",{"$f":"IF(G449=\"\",\"\",RTD(\"cqg.rtd\", ,\"ContractData\",G449, \"LongDescription\",, \"T\"))","v":""},{"$f":"IFERROR(RTD(\"cqg.rtd\", ,\"ContractData\",G449, \"PerCentNetLastTrade\",, \"T\")/100,\"\")","v":""},0,448,{"$f":"IFERROR(VLOOKUP(A449,Data!$I$2:$J$507,2,FALSE),\"\")","v":""},{"$f":"IFERROR(RTD(\"cqg.rtd\", ,\"ContractData\",L449, \"PerCentNetLastTrade\",, \"T\")/100,\"\")","v":""},{"$f":"IFERROR(RANK($M449,$M$2:M$507)+COUNTIF($M$2:M449,M449)-1,\"\")","v":""},"",448,"",{"$f":"IF(Q449=\"\",\"\",RTD(\"cqg.rtd\", ,\"ContractData\",Q449, \"LongDescription\",, \"T\"))","v":""},{"$f":"IFERROR(RTD(\"cqg.rtd\", ,\"ContractData\",Q449, \"PerCentNetLastTrade\",, \"T\")/100,\"\")","v":""},0]
[449,{"$f":"IFERROR(VLOOKUP(A450,Data!$H$2:$J$507,3,FALSE),\"\")","v":""},{"$f":"IFERROR(RTD(\"cqg.rtd\", ,\"ContractData\",B450, \"PerCentNetLastTrade\",, \"T\")/100,\"\")","v":""},{"$f":"IFERROR(RANK($C450,$C$2:C$507)+COUNTIF($C$2:C450,C450)-1,\"\")","v":""},"",449,"",{"$f":"IF(G450=\"\",\"\",RTD(\"cqg.rtd\", ,\"ContractData\",G450, \"LongDescription\",, \"T\"))","v":""},{"$f":"IFERROR(RTD(\"cqg.rtd\", ,\"ContractData\",G450, \"PerCentNetLastTrade\",, \"T\")/100,\"\")","v":""},0,449,{"$f":"IFERROR(VLOOKUP(A450,Data!$I$2:$J$507,2,FALSE),\"\")","v":""},{"$f":"IFERROR(RTD(\"cqg.rtd\", ,\"ContractData\",L450, \"PerCentNetLastTrade\",, \"T\")/100,\"\")","v":""},{"$f":"IFERROR(RANK($M450,$M$2:M$507)+COUNTIF($M$2:M450,M450)-1,\"\")","v":""},"",449,"",{"$f":"IF(Q450=\"\",\"\",RTD(\"cqg.rtd\", ,\"ContractData\",Q450, \"LongDescription\",, \"T\"))","v":""},{"$f":"IFERROR(RTD(\"cqg.rtd\", ,\"ContractData\",Q450, \"PerCentNetLastTrade\",, \"T\")/100,\"\")","v":""},0]
[450,{"$f":"IFERROR(VLOOKUP(A451,Data!$H$2:$J$507,3,FALSE),\"\")","v":""},{"$f":"IFERROR(RTD(\"cqg.rtd\", ,\"ContractData\",B451, \"PerCentNetLastTrade\",, \"T\")/100,\"\")","v":""},{"$f":"IFERROR(RANK($C451,$C$2:C$507)+COUNTIF($C$2:C451,C451)-1,\"\")","v":""},"",450,{"$f":"IFERROR(VLOOKUP(F451,$D$2:$E$507,2,FALSE),\"\")","v":""},{"$f":"IF(G451=\"\",\"\",RTD(\"cqg.rtd\", ,\"ContractData\",G451, \"LongDescription\",, \"T\"))","v":""},{"$f":"IFERROR(RTD(\"cqg.rtd\", ,\"ContractData\",G451, \"PerCentNetLastTrade\",, \"T\")/100,\"\")","v":""},0,450,{"$f":"IFERROR(VLOOKUP(A451,Data!$I$2:$J$507,2,FALSE),\"\")","v":""},{"$f":"IFERROR(RTD(\"cqg.rtd\", ,\"ContractData\",L451, \"PerCentNetLastTrade\",, \"T\")/100,\"\")","v":""},{"$f":"IFERROR(RANK($M451,$M$2:M$507)+COUNTIF($M$2:M451,M451)-1,\"\")","v":""},"",450,{"$f":"IFERROR(VLOOKUP(P451,$N$2:$O$507,2,FALSE),\"\")","v":""},{"$f":"IF(Q451=\"\",\"\",RTD(\"cqg.rtd\", ,\"ContractData\",Q451, \"LongDescription\",, \"T\"))","v":""},{"$f":"IFERROR(RTD(\"cqg.rtd\", ,\"ContractData\",Q451, \"PerCentNetLastTrade\",, \"T\")/100,\"\")","v":""},{"$f":"IF(S451<>\"\",1,0)","v":0}]
[{"$f":"A451+1","v":451},{"$f":"IFERROR(VLOOKUP(A452,Data!$H$2:$J$507,3,FALSE),\"\")","v":""},{"$f":"IFERROR(RTD(\"cqg.rtd\", ,\"ContractData\",B452, \"PerCentNetLastTrade\",, \"T\")/100,\"\")","v":""},{"$f":"IFERROR(RANK($C452,$C$2:C$507)+COUNTIF($C$2:C452,C452)-1,\"\")","v":""},"",{"$f":"F451+1","v":451},"",{"$f":"IF(G452=\"\",\"\",RTD(\"cqg.rtd\", ,\"ContractData\",G452, \"LongDescription\",, \"T\"))","v":""},{"$f":"IFERROR(RTD(\"cqg.rtd\", ,\"ContractData\",G452, \"PerCentNetLastTrade\",, \"T\")/100,\"\")","v":""},0,{"$f":"K451+1","v":451},{"$f":"IFERROR(VLOOKUP(A452,Data!$I$2:$J$507,2,FALSE),\"\")","v":""},{"$f":"IFERROR(RTD(\"cqg.rtd\", ,\"ContractData\",L452, \"PerCentNetLastTrade\",, \"T\")/100,\"\")","v":""},{"$f":"IFERROR(RANK($M452,$M$2:M$507)+COUNTIF($M$2:M452,M452)-1,\"\")","v":""},"",{"$f":"P451+1","v":451},"",{"$f":"IF(Q452=\"\",\"\",RTD(\"cqg.rtd\", ,\"ContractData\",Q452, \"LongDescription\",, \"T\"))","v":""},{"$f":"IFERROR(RTD(\"cqg.rtd\", ,\"ContractData\",Q452, \"PerCentNetLastTrade\",, \"T\")/100,\"\")","v":""},0]
[452,{"$f":"IFERROR(VLOOKUP(A453,Data!$H$2:$J$507,3,FALSE),\"\")","v":""},{"$f":"IFERROR(RTD(\"cqg.rtd\", ,\"ContractData\",B453, \"PerCentNetLastTrade\",, \"T\")/100,\"\")","v":""},{"$f":"IFERROR(RANK($C453,$C$2:C$507)+COUNTIF($C$2:C453,C453)-1,\"\")","v":""},"",452,"",{"$f":"IF(G453=\"\",\"\",RTD(\"cqg.rtd\", ,\"ContractData\",G453, \"LongDescription\",, \"T\"))","v":""},{"$f":"IFERROR(RTD(\"cqg.rtd\", ,\"ContractData\",G453, \"PerCentNetLastTrade\",, \"T\")/100,\"\")","v":""},0,452,{"$f":"IFERROR(VLOOKUP(A453,Data!$I$2:$J$507,2,FALSE),\"\")","v":""},{"$f":"IFERROR(RTD(\"cqg.rtd\", ,\"ContractData\",L453, \"PerCentNetLastTrade\",, \"T\")/100,\"\")","v":""},{"$f":"IFERROR(RANK($M453,$M$2:M$507)+COUNTIF($M$2:M453,M453)-1,\"\")","v":""},"",452,"",{"$f":"IF(Q453=\"\",\"\",RTD(\"cqg.rtd\", ,\"ContractData\",Q453, \"LongDescription\",, \"T\"))","v":""},{"$f":"IFERROR(RTD(\"cqg.rtd\", ,\"ContractData\",Q453, \"PerCentNetLastTrade\",, \"T\")/100,\"\")","v":""},0]
[453,{"$f":"IFERROR(VLOOKUP(A454,Data!$H$2:$J$507,3,FALSE),\"\")","v":""},{"$f":"IFERROR(RTD(\"cqg.rtd\", ,\"ContractData\",B454, \"PerCentNetLastTrade\",, \"T\")/100,\"\")","v":""},{"$f":"IFERROR(RANK($C454,$C$2:C$507)+COUNTIF($C$2:C454,C454)-1,\"\")","v":""},"",453,"",{"$f":"IF(G454=\"\",\"\",RTD(\"cqg.rtd\", ,\"ContractData\",G454, \"LongDescription\",, \"T\"))","v":""},{"$f":"IFERROR(RTD(\"cqg.rtd\", ,\"ContractData\",G454, \"PerCentNetLastTrade\",, \"T\")/100,\"\")","v":""},0,453,{"$f":"IFERROR(VLOOKUP(A454,Data!$I$2:$J$507,2,FALSE),\"\")","v":""},{"$f":"IFERROR(RTD(\"cqg.rtd\", ,\"ContractData\",L454, \"PerCentNetLastTrade\",, \"T\")/100,\"\")","v":""},{"$f":"IFERROR(RANK($M454,$M$2:M$507)+COUNTIF($M$2:M454,M454)-1,\"\")","v":""},"",453,"",{"$f":"IF(Q454=\"\",\"\",RTD(\"cqg.rtd\", ,\"ContractData\",Q454, \"LongDescription\",, \"T\"))","v":""},{"$f":"IFERROR(RTD(\"cqg.rtd\", ,\"ContractData\",Q454, \"PerCentNetLastTrade\",, \"T\")/100,\"\")","v":""},0]
[454,{"$f":"IFERROR(VLOOKUP(A455,Data!$H$2:$J$507,3,FALSE),\"\")","v":""},{"$f":"IFERROR(RTD(\"cqg.rtd\", ,\"ContractData\",B455, \"PerCentNetLastTrade\",, \"T\")/100,\"\")","v":""},{"$f":"IFERROR(RANK($C455,$C$2:C$507)+COUNTIF($C$2:C455,C455)-1,\"\")","v":""},"",454,"",{"$f":"IF(G455=\"\",\"\",RTD(\"cqg.rtd\", ,\"ContractData\",G455, \"LongDescription\",, \"T\"))","v":""},{"$f":"IFERROR(RTD(\"cqg.rtd\", ,\"ContractData\",G455, \"PerCentNetLastTrade\",, \"T\")/100,\"\")","v":""},0,454,{"$f":"IFERROR(VLOOKUP(A455,Data!$I$2:$J$507,2,FALSE),\"\")","v":""},{"$f":"IFERROR(RTD(\"cqg.rtd\", ,\"ContractData\",L455, \"PerCentNetLastTrade\",, \"T\")/100,\"\")","v":""},{"$f":"IFERROR(RANK($M455,$M$2:M$507)+COUNTIF($M$2:M455,M455)-1,\"\")","v":""},"",454,"",{"$f":"IF(Q455=\"\",\"\",RTD(\"cqg.rtd\", ,\"ContractData\",Q455, \"LongDescription\",, \"T\"))","v":""},{"$f":"IFERROR(RTD(\"cqg.rtd\", ,\"ContractData\",Q455, \"PerCentNetLastTrade\",, \"T\")/100,\"\")","v":""},0]
[455,{"$f":"IFERROR(VLOOKUP(A456,Data!$H$2:$J$507,3,FALSE),\"\")","v":""},{"$f":"IFERROR(RTD(\"cqg.rtd\", ,\"ContractData\",B456, \"PerCentNetLastTrade\",, \"T\")/100,\"\")","v":""},{"$f":"IFERROR(RANK($C456,$C$2:C$507)+COUNTIF($C$2:C456,C456)-1,\"\")","v":""},"",455,"",{"$f":"IF(G456=\"\",\"\",RTD(\"cqg.rtd\", ,\"ContractData\",G456, \"LongDescription\",, \"T\"))","v":""},{"$f":"IFERROR(RTD(\"cqg.rtd\", ,\"ContractData\",G456, \"PerCentNetLastTrade\",, \"T\")/100,\"\")","v":""},0,455,{"$f":"IFERROR(VLOOKUP(A456,Data!$I$2:$J$507,2,FALSE),\"\")","v":""},{"$f":"IFERROR(RTD(\"cqg.rtd\", ,\"ContractData\",L456, \"PerCentNetLastTrade\",, \"T\")/100,\"\")","v":""},{"$f":"IFERROR(RANK($M456,$M$2:M$507)+COUNTIF($M$2:M456,M456)-1,\"\")","v":""},"",455,"",{"$f":"IF(Q456=\"\",\"\",RTD(\"cqg.rtd\", ,\"ContractData\",Q456, \"LongDescription\",, \"T\"))","v":""},{"$f":"IFERROR(RTD(\"cqg.rtd\", ,\"ContractData\",Q456, \"PerCentNetLastTrade\",, \"T\")/100,\"\")","v":""},0]
[456,{"$f":"IFERROR(VLOOKUP(A457,Data!$H$2:$J$507,3,FALSE),\"\")","v":""},{"$f":"IFERROR(RTD(\"cqg.rtd\", ,\"ContractData\",B457, \"PerCentNetLastTrade\",, \"T\")/100,\"\")","v":""},{"$f":"IFERROR(RANK($C457,$C$2:C$507)+COUNTIF($C$2:C457,C457)-1,\"\")","v":""},"",456,"",{"$f":"IF(G457=\"\",\"\",RTD(\"cqg.rtd\", ,\"ContractData\",G457, \"LongDescription\",, \"T\"))","v":""},{"$f":"IFERROR(RTD(\"cqg.rtd\", ,\"ContractData\",G457, \"PerCentNetLastTrade\",, \"T\")/100,\"\")","v":""},0,456,{"$f":"IFERROR(VLOOKUP(A457,Data!$I$2:$J$507,2,FALSE),\"\")","v":""},{"$f":"IFERROR(RTD(\"cqg.rtd\", ,\"ContractData\",L457, \"PerCentNetLastTrade\",, \"T\")/100,\"\")","v":""},{"$f":"IFERROR(RANK($M457,$M$2:M$507)+COUNTIF($M$2:M457,M457)-1,\"\")","v":""},"",456,"",{"$f":"IF(Q457=\"\",\"\",RTD(\"cqg.rtd\", ,\"ContractData\",Q457, \"LongDescription\",, \"T\"))","v":""},{"$f":"IFERROR(RTD(\"cqg.rtd\", ,\"ContractData\",Q457, \"PerCentNetLastTrade\",, \"T\")/100,\"\")","v":""},0]
[457,{"$f":"IFERROR(VLOOKUP(A458,Data!$H$2:$J$507,3,FALSE),\"\")","v":""},{"$f":"IFERROR(RTD(\"cqg.rtd\", ,\"ContractData\",B458, \"PerCentNetLastTrade\",, \"T\")/100,\"\")","v":""},{"$f":"IFERROR(RANK($C458,$C$2:C$507)+COUNTIF($C$2:C458,C458)-1,\"\")","v":""},"",457,"",{"$f":"IF(G458=\"\",\"\",RTD(\"cqg.rtd\", ,\"ContractData\",G458, \"LongDescription\",, \"T\"))","v":""},{"$f":"IFERROR(RTD(\"cqg.rtd\", ,\"ContractData\",G458, \"PerCentNetLastTrade\",, \"T\")/100,\"\")","v":""},0,457,{"$f":"IFERROR(VLOOKUP(A458,Data!$I$2:$J$507,2,FALSE),\"\")","v":""},{"$f":"IFERROR(RTD(\"cqg.rtd\", ,\"ContractData\",L458, \"PerCentNetLastTrade\",, \"T\")/100,\"\")","v":""},{"$f":"IFERROR(RANK($M458,$M$2:M$507)+COUNTIF($M$2:M458,M458)-1,\"\")","v":""},"",457,"",{"$f":"IF(Q458=\"\",\"\",RTD(\"cqg.rtd\", ,\"ContractData\",Q458, \"LongDescription\",, \"T\"))","v":""},{"$f":"IFERROR(RTD(\"cqg.rtd\", ,\"ContractData\",Q458, \"PerCentNetLastTrade\",, \"T\")/100,\"\")","v":""},0]
[458,{"$f":"IFERROR(VLOOKUP(A459,Data!$H$2:$J$507,3,FALSE),\"\")","v":""},{"$f":"IFERROR(RTD(\"cqg.rtd\", ,\"ContractData\",B459, \"PerCentNetLastTrade\",, \"T\")/100,\"\")","v":""},{"$f":"IFERROR(RANK($C459,$C$2:C$507)+COUNTIF($C$2:C459,C459)-1,\"\")","v":""},"",458,"",{"$f":"IF(G459=\"\",\"\",RTD(\"cqg.rtd\", ,\"ContractData\",G459, \"LongDescription\",, \"T\"))","v":""},{"$f":"IFERROR(RTD(\"cqg.rtd\", ,\"ContractData\",G459, \"PerCentNetLastTrade\",, \"T\")/100,\"\")","v":""},0,458,{"$f":"IFERROR(VLOOKUP(A459,Data!$I$2:$J$507,2,FALSE),\"\")","v":""},{"$f":"IFERROR(RTD(\"cqg.rtd\", ,\"ContractData\",L459, \"PerCentNetLastTrade\",, \"T\")/100,\"\")","v":""},{"$f":"IFERROR(RANK($M459,$M$2:M$507)+COUNTIF($M$2:M459,M459)-1,\"\")","v":""},"",458,"",{"$f":"IF(Q459=\"\",\"\",RTD(\"cqg.rtd\", ,\"ContractData\",Q459, \"LongDescription\",, \"T\"))","v":""},{"$f":"IFERROR(RTD(\"cqg.rtd\", ,\"ContractData\",Q459, \"PerCentNetLastTrade\",, \"T\")/100,\"\")","v":""},0]
[459,{"$f":"IFERROR(VLOOKUP(A460,Data!$H$2:$J$507,3,FALSE),\"\")","v":""},{"$f":"IFERROR(RTD(\"cqg.rtd\", ,\"ContractData\",B460, \"PerCentNetLastTrade\",, \"T\")/100,\"\")","v":""},{"$f":"IFERROR(RANK($C460,$C$2:C$507)+COUNTIF($C$2:C460,C460)-1,\"\")","v":""},"",459,"",{"$f":"IF(G460=\"\",\"\",RTD(\"cqg.rtd\", ,\"ContractData\",G460, \"LongDescription\",, \"T\"))","v":""},{"$f":"IFERROR(RTD(\"cqg.rtd\", ,\"ContractData\",G460, \"PerCentNetLastTrade\",, \"T\")/100,\"\")","v":""},0,459,{"$f":"IFERROR(VLOOKUP(A460,Data!$I$2:$J$507,2,FALSE),\"\")","v":""},{"$f":"IFERROR(RTD(\"cqg.rtd\", ,\"ContractData\",L460, \"PerCentNetLastTrade\",, \"T\")/100,\"\")","v":""},{"$f":"IFERROR(RANK($M460,$M$2:M$507)+COUNTIF($M$2:M460,M460)-1,\"\")","v":""},"",459,"",{"$f":"IF(Q460=\"\",\"\",RTD(\"cqg.rtd\", ,\"ContractData\",Q460, \"LongDescription\",, \"T\"))","v":""},{"$f":"IFERROR(RTD(\"cqg.rtd\", ,\"ContractData\",Q460, \"PerCentNetLastTrade\",, \"T\")/100,\"\")","v":""},0]
[460,{"$f":"IFERROR(VLOOKUP(A461,Data!$H$2:$J$507,3,FALSE),\"\")","v":""},{"$f":"IFERROR(RTD(\"cqg.rtd\", ,\"ContractData\",B461, \"PerCentNetLastTrade\",, \"T\")/100,\"\")","v":""},{"$f":"IFERROR(RANK($C461,$C$2:C$507)+COUNTIF($C$2:C461,C461)-1,\"\")","v":""},"",460,"",{"$f":"IF(G461=\"\",\"\",RTD(\"cqg.rtd\", ,\"ContractData\",G461, \"LongDescription\",, \"T\"))","v":""},{"$f":"IFERROR(RTD(\"cqg.rtd\", ,\"ContractData\",G461, \"PerCentNetLastTrade\",, \"T\")/100,\"\")","v":""},0,460,{"$f":"IFERROR(VLOOKUP(A461,Data!$I$2:$J$507,2,FALSE),\"\")","v":""},{"$f":"IFERROR(RTD(\"cqg.rtd\", ,\"ContractData\",L461, \"PerCentNetLastTrade\",, \"T\")/100,\"\")","v":""},{"$f":"IFERROR(RANK($M461,$M$2:M$507)+COUNTIF($M$2:M461,M461)-1,\"\")","v":""},"",460,"",{"$f":"IF(Q461=\"\",\"\",RTD(\"cqg.rtd\", ,\"ContractData\",Q461, \"LongDescription\",, \"T\"))","v":""},{"$f":"IFERROR(RTD(\"cqg.rtd\", ,\"ContractData\",Q461, \"PerCentNetLastTrade\",, \"T\")/100,\"\")","v":""},0]
[461,{"$f":"IFERROR(VLOOKUP(A462,Data!$H$2:$J$507,3,FALSE),\"\")","v":""},{"$f":"IFERROR(RTD(\"cqg.rtd\", ,\"ContractData\",B462, \"PerCentNetLastTrade\",, \"T\")/100,\"\")","v":""},{"$f":"IFERROR(RANK($C462,$C$2:C$507)+COUNTIF($C$2:C462,C462)-1,\"\")","v":""},"",461,"",{"$f":"IF(G462=\"\",\"\",RTD(\"cqg.rtd\", ,\"ContractData\",G462, \"LongDescription\",, \"T\"))","v":""},{"$f":"IFERROR(RTD(\"cqg.rtd\", ,\"ContractData\",G462, \"PerCentNetLastTrade\",, \"T\")/100,\"\")","v":""},0,461,{"$f":"IFERROR(VLOOKUP(A462,Data!$I$2:$J$507,2,FALSE),\"\")","v":""},{"$f":"IFERROR(RTD(\"cqg.rtd\", ,\"ContractData\",L462, \"PerCentNetLastTrade\",, \"T\")/100,\"\")","v":""},{"$f":"IFERROR(RANK($M462,$M$2:M$507)+COUNTIF($M$2:M462,M462)-1,\"\")","v":""},"",461,"",{"$f":"IF(Q462=\"\",\"\",RTD(\"cqg.rtd\", ,\"ContractData\",Q462, \"LongDescription\",, \"T\"))","v":""},{"$f":"IFERROR(RTD(\"cqg.rtd\", ,\"ContractData\",Q462, \"PerCentNetLastTrade\",, \"T\")/100,\"\")","v":""},0]
[462,{"$f":"IFERROR(VLOOKUP(A463,Data!$H$2:$J$507,3,FALSE),\"\")","v":""},{"$f":"IFERROR(RTD(\"cqg.rtd\", ,\"ContractData\",B463, \"PerCentNetLastTrade\",, \"T\")/100,\"\")","v":""},{"$f":"IFERROR(RANK($C463,$C$2:C$507)+COUNTIF($C$2:C463,C463)-1,\"\")","v":""},"",462,"",{"$f":"IF(G463=\"\",\"\",RTD(\"cqg.rtd\", ,\"ContractData\",G463, \"LongDescription\",, \"T\"))","v":""},{"$f":"IFERROR(RTD(\"cqg.rtd\", ,\"ContractData\",G463, \"PerCentNetLastTrade\",, \"T\")/100,\"\")","v":""},0,462,{"$f":"IFERROR(VLOOKUP(A463,Data!$I$2:$J$507,2,FALSE),\"\")","v":""},{"$f":"IFERROR(RTD(\"cqg.rtd\", ,\"ContractData\",L463, \"PerCentNetLastTrade\",, \"T\")/100,\"\")","v":""},{"$f":"IFERROR(RANK($M463,$M$2:M$507)+COUNTIF($M$2:M463,M463)-1,\"\")","v":""},"",462,"",{"$f":"IF(Q463=\"\",\"\",RTD(\"cqg.rtd\", ,\"ContractData\",Q463, \"LongDescription\",, \"T\"))","v":""},{"$f":"IFERROR(RTD(\"cqg.rtd\", ,\"ContractData\",Q463, \"PerCentNetLastTrade\",, \"T\")/100,\"\")","v":""},0]
[463,{"$f":"IFERROR(VLOOKUP(A464,Data!$H$2:$J$507,3,FALSE),\"\")","v":""},{"$f":"IFERROR(RTD(\"cqg.rtd\", ,\"ContractData\",B464, \"PerCentNetLastTrade\",, \"T\")/100,\"\")","v":""},{"$f":"IFERROR(RANK($C464,$C$2:C$507)+COUNTIF($C$2:C464,C464)-1,\"\")","v":""},"",463,"",{"$f":"IF(G464=\"\",\"\",RTD(\"cqg.rtd\", ,\"ContractData\",G464, \"LongDescription\",, \"T\"))","v":""},{"$f":"IFERROR(RTD(\"cqg.rtd\", ,\"ContractData\",G464, \"PerCentNetLastTrade\",, \"T\")/100,\"\")","v":""},0,463,{"$f":"IFERROR(VLOOKUP(A464,Data!$I$2:$J$507,2,FALSE),\"\")","v":""},{"$f":"IFERROR(RTD(\"cqg.rtd\", ,\"ContractData\",L464, \"PerCentNetLastTrade\",, \"T\")/100,\"\")","v":""},{"$f":"IFERROR(RANK($M464,$M$2:M$507)+COUNTIF($M$2:M464,M464)-1,\"\")","v":""},"",463,"",{"$f":"IF(Q464=\"\",\"\",RTD(\"cqg.rtd\", ,\"ContractData\",Q464, \"LongDescription\",, \"T\"))","v":""},{"$f":"IFERROR(RTD(\"cqg.rtd\", ,\"ContractData\",Q464, \"PerCentNetLastTrade\",, \"T\")/100,\"\")","v":""},0]
[464,{"$f":"IFERROR(VLOOKUP(A465,Data!$H$2:$J$507,3,FALSE),\"\")","v":""},{"$f":"IFERROR(RTD(\"cqg.rtd\", ,\"ContractData\",B465, \"PerCentNetLastTrade\",, \"T\")/100,\"\")","v":""},{"$f":"IFERROR(RANK($C465,$C$2:C$507)+COUNTIF($C$2:C465,C465)-1,\"\")","v":""},"",464,"",{"$f":"IF(G465=\"\",\"\",RTD(\"cqg.rtd\", ,\"ContractData\",G465, \"LongDescription\",, \"T\"))","v":""},{"$f":"IFERROR(RTD(\"cqg.rtd\", ,\"ContractData\",G465, \"PerCentNetLastTrade\",, \"T\")/100,\"\")","v":""},0,464,{"$f":"IFERROR(VLOOKUP(A465,Data!$I$2:$J$507,2,FALSE),\"\")","v":""},{"$f":"IFERROR(RTD(\"cqg.rtd\", ,\"ContractData\",L465, \"PerCentNetLastTrade\",, \"T\")/100,\"\")","v":""},{"$f":"IFERROR(RANK($M465,$M$2:M$507)+COUNTIF($M$2:M465,M465)-1,\"\")","v":""},"",464,"",{"$f":"IF(Q465=\"\",\"\",RTD(\"cqg.rtd\", ,\"ContractData\",Q465, \"LongDescription\",, \"T\"))","v":""},{"$f":"IFERROR(RTD(\"cqg.rtd\", ,\"ContractData\",Q465, \"PerCentNetLastTrade\",, \"T\")/100,\"\")","v":""},0]
[465,{"$f":"IFERROR(VLOOKUP(A466,Data!$H$2:$J$507,3,FALSE),\"\")","v":""},{"$f":"IFERROR(RTD(\"cqg.rtd\", ,\"ContractData\",B466, \"PerCentNetLastTrade\",, \"T\")/100,\"\")","v":""},{"$f":"IFERROR(RANK($C466,$C$2:C$507)+COUNTIF($C$2:C466,C466)-1,\"\")","v":""},"",465,"",{"$f":"IF(G466=\"\",\"\",RTD(\"cqg.rtd\", ,\"ContractData\",G466, \"LongDescription\",, \"T\"))","v":""},{"$f":"IFERROR(RTD(\"cqg.rtd\", ,\"ContractData\",G466, \"PerCentNetLastTrade\",, \"T\")/100,\"\")","v":""},0,465,{"$f":"IFERROR(VLOOKUP(A466,Data!$I$2:$J$507,2,FALSE),\"\")","v":""},{"$f":"IFERROR(RTD(\"cqg.rtd\", ,\"ContractData\",L466, \"PerCentNetLastTrade\",, \"T\")/100,\"\")","v":""},{"$f":"IFERROR(RANK($M466,$M$2:M$507)+COUNTIF($M$2:M466,M466)-1,\"\")","v":""},"",465,"",{"$f":"IF(Q466=\"\",\"\",RTD(\"cqg.rtd\", ,\"ContractData\",Q466, \"LongDescription\",, \"T\"))","v":""},{"$f":"IFERROR(RTD(\"cqg.rtd\", ,\"ContractData\",Q466, \"PerCentNetLastTrade\",, \"T\")/100,\"\")","v":""},0]
[466,{"$f":"IFERROR(VLOOKUP(A467,Data!$H$2:$J$507,3,FALSE),\"\")","v":""},{"$f":"IFERROR(RTD(\"cqg.rtd\", ,\"ContractData\",B467, \"PerCentNetLastTrade\",, \"T\")/100,\"\")","v":""},{"$f":"IFERROR(RANK($C467,$C$2:C$507)+COUNTIF($C$2:C467,C467)-1,\"\")","v":""},"",466,"",{"$f":"IF(G467=\"\",\"\",RTD(\"cqg.rtd\", ,\"ContractData\",G467, \"LongDescription\",, \"T\"))","v":""},{"$f":"IFERROR(RTD(\"cqg.rtd\", ,\"ContractData\",G467, \"PerCentNetLastTrade\",, \"T\")/100,\"\")","v":""},0,466,{"$f":"IFERROR(VLOOKUP(A467,Data!$I$2:$J$507,2,FALSE),\"\")","v":""},{"$f":"IFERROR(RTD(\"cqg.rtd\", ,\"ContractData\",L467, \"PerCentNetLastTrade\",, \"T\")/100,\"\")","v":""},{"$f":"IFERROR(RANK($M467,$M$2:M$507)+COUNTIF($M$2:M467,M467)-1,\"\")","v":""},"",466,"",{"$f":"IF(Q467=\"\",\"\",RTD(\"cqg.rtd\", ,\"ContractData\",Q467, \"LongDescription\",, \"T\"))","v":""},{"$f":"IFERROR(RTD(\"cqg.rtd\", ,\"ContractData\",Q467, \"PerCentNetLastTrade\",, \"T\")/100,\"\")","v":""},0]
[467,{"$f":"IFERROR(VLOOKUP(A468,Data!$H$2:$J$507,3,FALSE),\"\")","v":""},{"$f":"IFERROR(RTD(\"cqg.rtd\", ,\"ContractData\",B468, \"PerCentNetLastTrade\",, \"T\")/100,\"\")","v":""},{"$f":"IFERROR(RANK($C468,$C$2:C$507)+COUNTIF($C$2:C468,C468)-1,\"\")","v":""},"",467,"",{"$f":"IF(G468=\"\",\"\",RTD(\"cqg.rtd\", ,\"ContractData\",G468, \"LongDescription\",, \"T\"))","v":""},{"$f":"IFERROR(RTD(\"cqg.rtd\", ,\"ContractData\",G468, \"PerCentNetLastTrade\",, \"T\")/100,\"\")","v":""},0,467,{"$f":"IFERROR(VLOOKUP(A468,Data!$I$2:$J$507,2,FALSE),\"\")","v":""},{"$f":"IFERROR(RTD(\"cqg.rtd\", ,\"ContractData\",L468, \"PerCentNetLastTrade\",, \"T\")/100,\"\")","v":""},{"$f":"IFERROR(RANK($M468,$M$2:M$507)+COUNTIF($M$2:M468,M468)-1,\"\")","v":""},"",467,"",{"$f":"IF(Q468=\"\",\"\",RTD(\"cqg.rtd\", ,\"ContractData\",Q468, \"LongDescription\",, \"T\"))","v":""},{"$f":"IFERROR(RTD(\"cqg.rtd\", ,\"ContractData\",Q468, \"PerCentNetLastTrade\",, \"T\")/100,\"\")","v":""},0]
[468,{"$f":"IFERROR(VLOOKUP(A469,Data!$H$2:$J$507,3,FALSE),\"\")","v":""},{"$f":"IFERROR(RTD(\"cqg.rtd\", ,\"ContractData\",B469, \"PerCentNetLastTrade\",, \"T\")/100,\"\")","v":""},{"$f":"IFERROR(RANK($C469,$C$2:C$507)+COUNTIF($C$2:C469,C469)-1,\"\")","v":""},"",468,"",{"$f":"IF(G469=\"\",\"\",RTD(\"cqg.rtd\", ,\"ContractData\",G469, \"LongDescription\",, \"T\"))","v":""},{"$f":"IFERROR(RTD(\"cqg.rtd\", ,\"ContractData\",G469, \"PerCentNetLastTrade\",, \"T\")/100,\"\")","v":""},0,468,{"$f":"IFERROR(VLOOKUP(A469,Data!$I$2:$J$507,2,FALSE),\"\")","v":""},{"$f":"IFERROR(RTD(\"cqg.rtd\", ,\"ContractData\",L469, \"PerCentNetLastTrade\",, \"T\")/100,\"\")","v":""},{"$f":"IFERROR(RANK($M469,$M$2:M$507)+COUNTIF($M$2:M469,M469)-1,\"\")","v":""},"",468,"",{"$f":"IF(Q469=\"\",\"\",RTD(\"cqg.rtd\", ,\"ContractData\",Q469, \"LongDescription\",, \"T\"))","v":""},{"$f":"IFERROR(RTD(\"cqg.rtd\", ,\"ContractData\",Q469, \"PerCentNetLastTrade\",, \"T\")/100,\"\")","v":""},0]
[469,{"$f":"IFERROR(VLOOKUP(A470,Data!$H$2:$J$507,3,FALSE),\"\")","v":""},{"$f":"IFERROR(RTD(\"cqg.rtd\", ,\"ContractData\",B470, \"PerCentNetLastTrade\",, \"T\")/100,\"\")","v":""},{"$f":"IFERROR(RANK($C470,$C$2:C$507)+COUNTIF($C$2:C470,C470)-1,\"\")","v":""},"",469,"",{"$f":"IF(G470=\"\",\"\",RTD(\"cqg.rtd\", ,\"ContractData\",G470, \"LongDescription\",, \"T\"))","v":""},{"$f":"IFERROR(RTD(\"cqg.rtd\", ,\"ContractData\",G470, \"PerCentNetLastTrade\",, \"T\")/100,\"\")","v":""},0,469,{"$f":"IFERROR(VLOOKUP(A470,Data!$I$2:$J$507,2,FALSE),\"\")","v":""},{"$f":"IFERROR(RTD(\"cqg.rtd\", ,\"ContractData\",L470, \"PerCentNetLastTrade\",, \"T\")/100,\"\")","v":""},{"$f":"IFERROR(RANK($M470,$M$2:M$507)+COUNTIF($M$2:M470,M470)-1,\"\")","v":""},"",469,"",{"$f":"IF(Q470=\"\",\"\",RTD(\"cqg.rtd\", ,\"ContractData\",Q470, \"LongDescription\",, \"T\"))","v":""},{"$f":"IFERROR(RTD(\"cqg.rtd\", ,\"ContractData\",Q470, \"PerCentNetLastTrade\",, \"T\")/100,\"\")","v":""},0]
[470,{"$f":"IFERROR(VLOOKUP(A471,Data!$H$2:$J$507,3,FALSE),\"\")","v":""},{"$f":"IFERROR(RTD(\"cqg.rtd\", ,\"ContractData\",B471, \"PerCentNetLastTrade\",, \"T\")/100,\"\")","v":""},{"$f":"IFERROR(RANK($C471,$C$2:C$507)+COUNTIF($C$2:C471,C471)-1,\"\")","v":""},"",470,"",{"$f":"IF(G471=\"\",\"\",RTD(\"cqg.rtd\", ,\"ContractData\",G471, \"LongDescription\",, \"T\"))","v":""},{"$f":"IFERROR(RTD(\"cqg.rtd\", ,\"ContractData\",G471, \"PerCentNetLastTrade\",, \"T\")/100,\"\")","v":""},0,470,{"$f":"IFERROR(VLOOKUP(A471,Data!$I$2:$J$507,2,FALSE),\"\")","v":""},{"$f":"IFERROR(RTD(\"cqg.rtd\", ,\"ContractData\",L471, \"PerCentNetLastTrade\",, \"T\")/100,\"\")","v":""},{"$f":"IFERROR(RANK($M471,$M$2:M$507)+COUNTIF($M$2:M471,M471)-1,\"\")","v":""},"",470,"",{"$f":"IF(Q471=\"\",\"\",RTD(\"cqg.rtd\", ,\"ContractData\",Q471, \"LongDescription\",, \"T\"))","v":""},{"$f":"IFERROR(RTD(\"cqg.rtd\", ,\"ContractData\",Q471, \"PerCentNetLastTrade\",, \"T\")/100,\"\")","v":""},0]
[471,{"$f":"IFERROR(VLOOKUP(A472,Data!$H$2:$J$507,3,FALSE),\"\")","v":""},{"$f":"IFERROR(RTD(\"cqg.rtd\", ,\"ContractData\",B472, \"PerCentNetLastTrade\",, \"T\")/100,\"\")","v":""},{"$f":"IFERROR(RANK($C472,$C$2:C$507)+COUNTIF($C$2:C472,C472)-1,\"\")","v":""},"",471,"",{"$f":"IF(G472=\"\",\"\",RTD(\"cqg.rtd\", ,\"ContractData\",G472, \"LongDescription\",, \"T\"))","v":""},{"$f":"IFERROR(RTD(\"cqg.rtd\", ,\"ContractData\",G472, \"PerCentNetLastTrade\",, \"T\")/100,\"\")","v":""},0,471,{"$f":"IFERROR(VLOOKUP(A472,Data!$I$2:$J$507,2,FALSE),\"\")","v":""},{"$f":"IFERROR(RTD(\"cqg.rtd\", ,\"ContractData\",L472, \"PerCentNetLastTrade\",, \"T\")/100,\"\")","v":""},{"$f":"IFERROR(RANK($M472,$M$2:M$507)+COUNTIF($M$2:M472,M472)-1,\"\")","v":""},"",471,"",{"$f":"IF(Q472=\"\",\"\",RTD(\"cqg.rtd\", ,\"ContractData\",Q472, \"LongDescription\",, \"T\"))","v":""},{"$f":"IFERROR(RTD(\"cqg.rtd\", ,\"ContractData\",Q472, \"PerCentNetLastTrade\",, \"T\")/100,\"\")","v":""},0]
[472,{"$f":"IFERROR(VLOOKUP(A473,Data!$H$2:$J$507,3,FALSE),\"\")","v":""},{"$f":"IFERROR(RTD(\"cqg.rtd\", ,\"ContractData\",B473, \"PerCentNetLastTrade\",, \"T\")/100,\"\")","v":""},{"$f":"IFERROR(RANK($C473,$C$2:C$507)+COUNTIF($C$2:C473,C473)-1,\"\")","v":""},"",472,"",{"$f":"IF(G473=\"\",\"\",RTD(\"cqg.rtd\", ,\"ContractData\",G473, \"LongDescription\",, \"T\"))","v":""},{"$f":"IFERROR(RTD(\"cqg.rtd\", ,\"ContractData\",G473, \"PerCentNetLastTrade\",, \"T\")/100,\"\")","v":""},0,472,{"$f":"IFERROR(VLOOKUP(A473,Data!$I$2:$J$507,2,FALSE),\"\")","v":""},{"$f":"IFERROR(RTD(\"cqg.rtd\", ,\"ContractData\",L473, \"PerCentNetLastTrade\",, \"T\")/100,\"\")","v":""},{"$f":"IFERROR(RANK($M473,$M$2:M$507)+COUNTIF($M$2:M473,M473)-1,\"\")","v":""},"",472,"",{"$f":"IF(Q473=\"\",\"\",RTD(\"cqg.rtd\", ,\"ContractData\",Q473, \"LongDescription\",, \"T\"))","v":""},{"$f":"IFERROR(RTD(\"cqg.rtd\", ,\"ContractData\",Q473, \"PerCentNetLastTrade\",, \"T\")/100,\"\")","v":""},0]
[473,{"$f":"IFERROR(VLOOKUP(A474,Data!$H$2:$J$507,3,FALSE),\"\")","v":""},{"$f":"IFERROR(RTD(\"cqg.rtd\", ,\"ContractData\",B474, \"PerCentNetLastTrade\",, \"T\")/100,\"\")","v":""},{"$f":"IFERROR(RANK($C474,$C$2:C$507)+COUNTIF($C$2:C474,C474)-1,\"\")","v":""},"",473,"",{"$f":"IF(G474=\"\",\"\",RTD(\"cqg.rtd\", ,\"ContractData\",G474, \"LongDescription\",, \"T\"))","v":""},{"$f":"IFERROR(RTD(\"cqg.rtd\", ,\"ContractData\",G474, \"PerCentNetLastTrade\",, \"T\")/100,\"\")","v":""},0,473,{"$f":"IFERROR(VLOOKUP(A474,Data!$I$2:$J$507,2,FALSE),\"\")","v":""},{"$f":"IFERROR(RTD(\"cqg.rtd\", ,\"ContractData\",L474, \"PerCentNetLastTrade\",, \"T\")/100,\"\")","v":""},{"$f":"IFERROR(RANK($M474,$M$2:M$507)+COUNTIF($M$2:M474,M474)-1,\"\")","v":""},"",473,"",{"$f":"IF(Q474=\"\",\"\",RTD(\"cqg.rtd\", ,\"ContractData\",Q474, \"LongDescription\",, \"T\"))","v":""},{"$f":"IFERROR(RTD(\"cqg.rtd\", ,\"ContractData\",Q474, \"PerCentNetLastTrade\",, \"T\")/100,\"\")","v":""},0]
[474,{"$f":"IFERROR(VLOOKUP(A475,Data!$H$2:$J$507,3,FALSE),\"\")","v":""},{"$f":"IFERROR(RTD(\"cqg.rtd\", ,\"ContractData\",B475, \"PerCentNetLastTrade\",, \"T\")/100,\"\")","v":""},{"$f":"IFERROR(RANK($C475,$C$2:C$507)+COUNTIF($C$2:C475,C475)-1,\"\")","v":""},"",474,"",{"$f":"IF(G475=\"\",\"\",RTD(\"cqg.rtd\", ,\"ContractData\",G475, \"LongDescription\",, \"T\"))","v":""},{"$f":"IFERROR(RTD(\"cqg.rtd\", ,\"ContractData\",G475, \"PerCentNetLastTrade\",, \"T\")/100,\"\")","v":""},0,474,{"$f":"IFERROR(VLOOKUP(A475,Data!$I$2:$J$507,2,FALSE),\"\")","v":""},{"$f":"IFERROR(RTD(\"cqg.rtd\", ,\"ContractData\",L475, \"PerCentNetLastTrade\",, \"T\")/100,\"\")","v":""},{"$f":"IFERROR(RANK($M475,$M$2:M$507)+COUNTIF($M$2:M475,M475)-1,\"\")","v":""},"",474,"",{"$f":"IF(Q475=\"\",\"\",RTD(\"cqg.rtd\", ,\"ContractData\",Q475, \"LongDescription\",, \"T\"))","v":""},{"$f":"IFERROR(RTD(\"cqg.rtd\", ,\"ContractData\",Q475, \"PerCentNetLastTrade\",, \"T\")/100,\"\")","v":""},0]
[475,{"$f":"IFERROR(VLOOKUP(A476,Data!$H$2:$J$507,3,FALSE),\"\")","v":""},{"$f":"IFERROR(RTD(\"cqg.rtd\", ,\"ContractData\",B476, \"PerCentNetLastTrade\",, \"T\")/100,\"\")","v":""},{"$f":"IFERROR(RANK($C476,$C$2:C$507)+COUNTIF($C$2:C476,C476)-1,\"\")","v":""},"",475,"",{"$f":"IF(G476=\"\",\"\",RTD(\"cqg.rtd\", ,\"ContractData\",G476, \"LongDescription\",, \"T\"))","v":""},{"$f":"IFERROR(RTD(\"cqg.rtd\", ,\"ContractData\",G476, \"PerCentNetLastTrade\",, \"T\")/100,\"\")","v":""},0,475,{"$f":"IFERROR(VLOOKUP(A476,Data!$I$2:$J$507,2,FALSE),\"\")","v":""},{"$f":"IFERROR(RTD(\"cqg.rtd\", ,\"ContractData\",L476, \"PerCentNetLastTrade\",, \"T\")/100,\"\")","v":""},{"$f":"IFERROR(RANK($M476,$M$2:M$507)+COUNTIF($M$2:M476,M476)-1,\"\")","v":""},"",475,"",{"$f":"IF(Q476=\"\",\"\",RTD(\"cqg.rtd\", ,\"ContractData\",Q476, \"LongDescription\",, \"T\"))","v":""},{"$f":"IFERROR(RTD(\"cqg.rtd\", ,\"ContractData\",Q476, \"PerCentNetLastTrade\",, \"T\")/100,\"\")","v":""},0]
[476,{"$f":"IFERROR(VLOOKUP(A477,Data!$H$2:$J$507,3,FALSE),\"\")","v":""},{"$f":"IFERROR(RTD(\"cqg.rtd\", ,\"ContractData\",B477, \"PerCentNetLastTrade\",, \"T\")/100,\"\")","v":""},{"$f":"IFERROR(RANK($C477,$C$2:C$507)+COUNTIF($C$2:C477,C477)-1,\"\")","v":""},"",476,"",{"$f":"IF(G477=\"\",\"\",RTD(\"cqg.rtd\", ,\"ContractData\",G477, \"LongDescription\",, \"T\"))","v":""},{"$f":"IFERROR(RTD(\"cqg.rtd\", ,\"ContractData\",G477, \"PerCentNetLastTrade\",, \"T\")/100,\"\")","v":""},0,476,{"$f":"IFERROR(VLOOKUP(A477,Data!$I$2:$J$507,2,FALSE),\"\")","v":""},{"$f":"IFERROR(RTD(\"cqg.rtd\", ,\"ContractData\",L477, \"PerCentNetLastTrade\",, \"T\")/100,\"\")","v":""},{"$f":"IFERROR(RANK($M477,$M$2:M$507)+COUNTIF($M$2:M477,M477)-1,\"\")","v":""},"",476,"",{"$f":"IF(Q477=\"\",\"\",RTD(\"cqg.rtd\", ,\"ContractData\",Q477, \"LongDescription\",, \"T\"))","v":""},{"$f":"IFERROR(RTD(\"cqg.rtd\", ,\"ContractData\",Q477, \"PerCentNetLastTrade\",, \"T\")/100,\"\")","v":""},0]
[477,{"$f":"IFERROR(VLOOKUP(A478,Data!$H$2:$J$507,3,FALSE),\"\")","v":""},{"$f":"IFERROR(RTD(\"cqg.rtd\", ,\"ContractData\",B478, \"PerCentNetLastTrade\",, \"T\")/100,\"\")","v":""},{"$f":"IFERROR(RANK($C478,$C$2:C$507)+COUNTIF($C$2:C478,C478)-1,\"\")","v":""},"",477,"",{"$f":"IF(G478=\"\",\"\",RTD(\"cqg.rtd\", ,\"ContractData\",G478, \"LongDescription\",, \"T\"))","v":""},{"$f":"IFERROR(RTD(\"cqg.rtd\", ,\"ContractData\",G478, \"PerCentNetLastTrade\",, \"T\")/100,\"\")","v":""},0,477,{"$f":"IFERROR(VLOOKUP(A478,Data!$I$2:$J$507,2,FALSE),\"\")","v":""},{"$f":"IFERROR(RTD(\"cqg.rtd\", ,\"ContractData\",L478, \"PerCentNetLastTrade\",, \"T\")/100,\"\")","v":""},{"$f":"IFERROR(RANK($M478,$M$2:M$507)+COUNTIF($M$2:M478,M478)-1,\"\")","v":""},"",477,"",{"$f":"IF(Q478=\"\",\"\",RTD(\"cqg.rtd\", ,\"ContractData\",Q478, \"LongDescription\",, \"T\"))","v":""},{"$f":"IFERROR(RTD(\"cqg.rtd\", ,\"ContractData\",Q478, \"PerCentNetLastTrade\",, \"T\")/100,\"\")","v":""},0]
[478,{"$f":"IFERROR(VLOOKUP(A479,Data!$H$2:$J$507,3,FALSE),\"\")","v":""},{"$f":"IFERROR(RTD(\"cqg.rtd\", ,\"ContractData\",B479, \"PerCentNetLastTrade\",, \"T\")/100,\"\")","v":""},{"$f":"IFERROR(RANK($C479,$C$2:C$507)+COUNTIF($C$2:C479,C479)-1,\"\")","v":""},"",478,"",{"$f":"IF(G479=\"\",\"\",RTD(\"cqg.rtd\", ,\"ContractData\",G479, \"LongDescription\",, \"T\"))","v":""},{"$f":"IFERROR(RTD(\"cqg.rtd\", ,\"ContractData\",G479, \"PerCentNetLastTrade\",, \"T\")/100,\"\")","v":""},0,478,{"$f":"IFERROR(VLOOKUP(A479,Data!$I$2:$J$507,2,FALSE),\"\")","v":""},{"$f":"IFERROR(RTD(\"cqg.rtd\", ,\"ContractData\",L479, \"PerCentNetLastTrade\",, \"T\")/100,\"\")","v":""},{"$f":"IFERROR(RANK($M479,$M$2:M$507)+COUNTIF($M$2:M479,M479)-1,\"\")","v":""},"",478,"",{"$f":"IF(Q479=\"\",\"\",RTD(\"cqg.rtd\", ,\"ContractData\",Q479, \"LongDescription\",, \"T\"))","v":""},{"$f":"IFERROR(RTD(\"cqg.rtd\", ,\"ContractData\",Q479, \"PerCentNetLastTrade\",, \"T\")/100,\"\")","v":""},0]
[479,{"$f":"IFERROR(VLOOKUP(A480,Data!$H$2:$J$507,3,FALSE),\"\")","v":""},{"$f":"IFERROR(RTD(\"cqg.rtd\", ,\"ContractData\",B480, \"PerCentNetLastTrade\",, \"T\")/100,\"\")","v":""},{"$f":"IFERROR(RANK($C480,$C$2:C$507)+COUNTIF($C$2:C480,C480)-1,\"\")","v":""},"",479,"",{"$f":"IF(G480=\"\",\"\",RTD(\"cqg.rtd\", ,\"ContractData\",G480, \"LongDescription\",, \"T\"))","v":""},{"$f":"IFERROR(RTD(\"cqg.rtd\", ,\"ContractData\",G480, \"PerCentNetLastTrade\",, \"T\")/100,\"\")","v":""},0,479,{"$f":"IFERROR(VLOOKUP(A480,Data!$I$2:$J$507,2,FALSE),\"\")","v":""},{"$f":"IFERROR(RTD(\"cqg.rtd\", ,\"ContractData\",L480, \"PerCentNetLastTrade\",, \"T\")/100,\"\")","v":""},{"$f":"IFERROR(RANK($M480,$M$2:M$507)+COUNTIF($M$2:M480,M480)-1,\"\")","v":""},"",479,"",{"$f":"IF(Q480=\"\",\"\",RTD(\"cqg.rtd\", ,\"ContractData\",Q480, \"LongDescription\",, \"T\"))","v":""},{"$f":"IFERROR(RTD(\"cqg.rtd\", ,\"ContractData\",Q480, \"PerCentNetLastTrade\",, \"T\")/100,\"\")","v":""},0]
[480,{"$f":"IFERROR(VLOOKUP(A481,Data!$H$2:$J$507,3,FALSE),\"\")","v":""},{"$f":"IFERROR(RTD(\"cqg.rtd\", ,\"ContractData\",B481, \"PerCentNetLastTrade\",, \"T\")/100,\"\")","v":""},{"$f":"IFERROR(RANK($C481,$C$2:C$507)+COUNTIF($C$2:C481,C481)-1,\"\")","v":""},"",480,"",{"$f":"IF(G481=\"\",\"\",RTD(\"cqg.rtd\", ,\"ContractData\",G481, \"LongDescription\",, \"T\"))","v":""},{"$f":"IFERROR(RTD(\"cqg.rtd\", ,\"ContractData\",G481, \"PerCentNetLastTrade\",, \"T\")/100,\"\")","v":""},0,480,{"$f":"IFERROR(VLOOKUP(A481,Data!$I$2:$J$507,2,FALSE),\"\")","v":""},{"$f":"IFERROR(RTD(\"cqg.rtd\", ,\"ContractData\",L481, \"PerCentNetLastTrade\",, \"T\")/100,\"\")","v":""},{"$f":"IFERROR(RANK($M481,$M$2:M$507)+COUNTIF($M$2:M481,M481)-1,\"\")","v":""},"",480,"",{"$f":"IF(Q481=\"\",\"\",RTD(\"cqg.rtd\", ,\"ContractData\",Q481, \"LongDescription\",, \"T\"))","v":""},{"$f":"IFERROR(RTD(\"cqg.rtd\", ,\"ContractData\",Q481, \"PerCentNetLastTrade\",, \"T\")/100,\"\")","v":""},0]
[481,{"$f":"IFERROR(VLOOKUP(A482,Data!$H$2:$J$507,3,FALSE),\"\")","v":""},{"$f":"IFERROR(RTD(\"cqg.rtd\", ,\"ContractData\",B482, \"PerCentNetLastTrade\",, \"T\")/100,\"\")","v":""},{"$f":"IFERROR(RANK($C482,$C$2:C$507)+COUNTIF($C$2:C482,C482)-1,\"\")","v":""},"",481,"",{"$f":"IF(G482=\"\",\"\",RTD(\"cqg.rtd\", ,\"ContractData\",G482, \"LongDescription\",, \"T\"))","v":""},{"$f":"IFERROR(RTD(\"cqg.rtd\", ,\"ContractData\",G482, \"PerCentNetLastTrade\",, \"T\")/100,\"\")","v":""},0,481,{"$f":"IFERROR(VLOOKUP(A482,Data!$I$2:$J$507,2,FALSE),\"\")","v":""},{"$f":"IFERROR(RTD(\"cqg.rtd\", ,\"ContractData\",L482, \"PerCentNetLastTrade\",, \"T\")/100,\"\")","v":""},{"$f":"IFERROR(RANK($M482,$M$2:M$507)+COUNTIF($M$2:M482,M482)-1,\"\")","v":""},"",481,"",{"$f":"IF(Q482=\"\",\"\",RTD(\"cqg.rtd\", ,\"ContractData\",Q482, \"LongDescription\",, \"T\"))","v":""},{"$f":"IFERROR(RTD(\"cqg.rtd\", ,\"ContractData\",Q482, \"PerCentNetLastTrade\",, \"T\")/100,\"\")","v":""},0]
[482,{"$f":"IFERROR(VLOOKUP(A483,Data!$H$2:$J$507,3,FALSE),\"\")","v":""},{"$f":"IFERROR(RTD(\"cqg.rtd\", ,\"ContractData\",B483, \"PerCentNetLastTrade\",, \"T\")/100,\"\")","v":""},{"$f":"IFERROR(RANK($C483,$C$2:C$507)+COUNTIF($C$2:C483,C483)-1,\"\")","v":""},"",482,"",{"$f":"IF(G483=\"\",\"\",RTD(\"cqg.rtd\", ,\"ContractData\",G483, \"LongDescription\",, \"T\"))","v":""},{"$f":"IFERROR(RTD(\"cqg.rtd\", ,\"ContractData\",G483, \"PerCentNetLastTrade\",, \"T\")/100,\"\")","v":""},0,482,{"$f":"IFERROR(VLOOKUP(A483,Data!$I$2:$J$507,2,FALSE),\"\")","v":""},{"$f":"IFERROR(RTD(\"cqg.rtd\", ,\"ContractData\",L483, \"PerCentNetLastTrade\",, \"T\")/100,\"\")","v":""},{"$f":"IFERROR(RANK($M483,$M$2:M$507)+COUNTIF($M$2:M483,M483)-1,\"\")","v":""},"",482,"",{"$f":"IF(Q483=\"\",\"\",RTD(\"cqg.rtd\", ,\"ContractData\",Q483, \"LongDescription\",, \"T\"))","v":""},{"$f":"IFERROR(RTD(\"cqg.rtd\", ,\"ContractData\",Q483, \"PerCentNetLastTrade\",, \"T\")/100,\"\")","v":""},0]
[483,{"$f":"IFERROR(VLOOKUP(A484,Data!$H$2:$J$507,3,FALSE),\"\")","v":""},{"$f":"IFERROR(RTD(\"cqg.rtd\", ,\"ContractData\",B484, \"PerCentNetLastTrade\",, \"T\")/100,\"\")","v":""},{"$f":"IFERROR(RANK($C484,$C$2:C$507)+COUNTIF($C$2:C484,C484)-1,\"\")","v":""},"",483,"",{"$f":"IF(G484=\"\",\"\",RTD(\"cqg.rtd\", ,\"ContractData\",G484, \"LongDescription\",, \"T\"))","v":""},{"$f":"IFERROR(RTD(\"cqg.rtd\", ,\"ContractData\",G484, \"PerCentNetLastTrade\",, \"T\")/100,\"\")","v":""},0,483,{"$f":"IFERROR(VLOOKUP(A484,Data!$I$2:$J$507,2,FALSE),\"\")","v":""},{"$f":"IFERROR(RTD(\"cqg.rtd\", ,\"ContractData\",L484, \"PerCentNetLastTrade\",, \"T\")/100,\"\")","v":""},{"$f":"IFERROR(RANK($M484,$M$2:M$507)+COUNTIF($M$2:M484,M484)-1,\"\")","v":""},"",483,"",{"$f":"IF(Q484=\"\",\"\",RTD(\"cqg.rtd\", ,\"ContractData\",Q484, \"LongDescription\",, \"T\"))","v":""},{"$f":"IFERROR(RTD(\"cqg.rtd\", ,\"ContractData\",Q484, \"PerCentNetLastTrade\",, \"T\")/100,\"\")","v":""},0]
[484,{"$f":"IFERROR(VLOOKUP(A485,Data!$H$2:$J$507,3,FALSE),\"\")","v":""},{"$f":"IFERROR(RTD(\"cqg.rtd\", ,\"ContractData\",B485, \"PerCentNetLastTrade\",, \"T\")/100,\"\")","v":""},{"$f":"IFERROR(RANK($C485,$C$2:C$507)+COUNTIF($C$2:C485,C485)-1,\"\")","v":""},"",484,"",{"$f":"IF(G485=\"\",\"\",RTD(\"cqg.rtd\", ,\"ContractData\",G485, \"LongDescription\",, \"T\"))","v":""},{"$f":"IFERROR(RTD(\"cqg.rtd\", ,\"ContractData\",G485, \"PerCentNetLastTrade\",, \"T\")/100,\"\")","v":""},0,484,{"$f":"IFERROR(VLOOKUP(A485,Data!$I$2:$J$507,2,FALSE),\"\")","v":""},{"$f":"IFERROR(RTD(\"cqg.rtd\", ,\"ContractData\",L485, \"PerCentNetLastTrade\",, \"T\")/100,\"\")","v":""},{"$f":"IFERROR(RANK($M485,$M$2:M$507)+COUNTIF($M$2:M485,M485)-1,\"\")","v":""},"",484,"",{"$f":"IF(Q485=\"\",\"\",RTD(\"cqg.rtd\", ,\"ContractData\",Q485, \"LongDescription\",, \"T\"))","v":""},{"$f":"IFERROR(RTD(\"cqg.rtd\", ,\"ContractData\",Q485, \"PerCentNetLastTrade\",, \"T\")/100,\"\")","v":""},0]
[485,{"$f":"IFERROR(VLOOKUP(A486,Data!$H$2:$J$507,3,FALSE),\"\")","v":""},{"$f":"IFERROR(RTD(\"cqg.rtd\", ,\"ContractData\",B486, \"PerCentNetLastTrade\",, \"T\")/100,\"\")","v":""},{"$f":"IFERROR(RANK($C486,$C$2:C$507)+COUNTIF($C$2:C486,C486)-1,\"\")","v":""},"",485,"",{"$f":"IF(G486=\"\",\"\",RTD(\"cqg.rtd\", ,\"ContractData\",G486, \"LongDescription\",, \"T\"))","v":""},{"$f":"IFERROR(RTD(\"cqg.rtd\", ,\"ContractData\",G486, \"PerCentNetLastTrade\",, \"T\")/100,\"\")","v":""},0,485,{"$f":"IFERROR(VLOOKUP(A486,Data!$I$2:$J$507,2,FALSE),\"\")","v":""},{"$f":"IFERROR(RTD(\"cqg.rtd\", ,\"ContractData\",L486, \"PerCentNetLastTrade\",, \"T\")/100,\"\")","v":""},{"$f":"IFERROR(RANK($M486,$M$2:M$507)+COUNTIF($M$2:M486,M486)-1,\"\")","v":""},{"$f":"IF(L486=\"\",\"\",L486)","v":""},485,"",{"$f":"IF(Q486=\"\",\"\",RTD(\"cqg.rtd\", ,\"ContractData\",Q486, \"LongDescription\",, \"T\"))","v":""},{"$f":"IFERROR(RTD(\"cqg.rtd\", ,\"ContractData\",Q486, \"PerCentNetLastTrade\",, \"T\")/100,\"\")","v":""},0]
[486,{"$f":"IFERROR(VLOOKUP(A487,Data!$H$2:$J$507,3,FALSE),\"\")","v":""},{"$f":"IFERROR(RTD(\"cqg.rtd\", ,\"ContractData\",B487, \"PerCentNetLastTrade\",, \"T\")/100,\"\")","v":""},{"$f":"IFERROR(RANK($C487,$C$2:C$507)+COUNTIF($C$2:C487,C487)-1,\"\")","v":""},"",486,"",{"$f":"IF(G487=\"\",\"\",RTD(\"cqg.rtd\", ,\"ContractData\",G487, \"LongDescription\",, \"T\"))","v":""},{"$f":"IFERROR(RTD(\"cqg.rtd\", ,\"ContractData\",G487, \"PerCentNetLastTrade\",, \"T\")/100,\"\")","v":""},{"$f":"IF(I487<>\"\",1,0)","v":0},486,{"$f":"IFERROR(VLOOKUP(A487,Data!$I$2:$J$507,2,FALSE),\"\")","v":""},{"$f":"IFERROR(RTD(\"cqg.rtd\", ,\"ContractData\",L487, \"PerCentNetLastTrade\",, \"T\")/100,\"\")","v":""},{"$f":"IFERROR(RANK($M487,$M$2:M$507)+COUNTIF($M$2:M487,M487)-1,\"\")","v":""},"",486,"",{"$f":"IF(Q487=\"\",\"\",RTD(\"cqg.rtd\", ,\"ContractData\",Q487, \"LongDescription\",, \"T\"))","v":""},{"$f":"IFERROR(RTD(\"cqg.rtd\", ,\"ContractData\",Q487, \"PerCentNetLastTrade\",, \"T\")/100,\"\")","v":""},0]
[487,{"$f":"IFERROR(VLOOKUP(A488,Data!$H$2:$J$507,3,FALSE),\"\")","v":""},{"$f":"IFERROR(RTD(\"cqg.rtd\", ,\"ContractData\",B488, \"PerCentNetLastTrade\",, \"T\")/100,\"\")","v":""},{"$f":"IFERROR(RANK($C488,$C$2:C$507)+COUNTIF($C$2:C488,C488)-1,\"\")","v":""},"",487,"",{"$f":"IF(G488=\"\",\"\",RTD(\"cqg.rtd\", ,\"ContractData\",G488, \"LongDescription\",, \"T\"))","v":""},{"$f":"IFERROR(RTD(\"cqg.rtd\", ,\"ContractData\",G488, \"PerCentNetLastTrade\",, \"T\")/100,\"\")","v":""},0,487,{"$f":"IFERROR(VLOOKUP(A488,Data!$I$2:$J$507,2,FALSE),\"\")","v":""},{"$f":"IFERROR(RTD(\"cqg.rtd\", ,\"ContractData\",L488, \"PerCentNetLastTrade\",, \"T\")/100,\"\")","v":""},{"$f":"IFERROR(RANK($M488,$M$2:M$507)+COUNTIF($M$2:M488,M488)-1,\"\")","v":""},"",487,"",{"$f":"IF(Q488=\"\",\"\",RTD(\"cqg.rtd\", ,\"ContractData\",Q488, \"LongDescription\",, \"T\"))","v":""},{"$f":"IFERROR(RTD(\"cqg.rtd\", ,\"ContractData\",Q488, \"PerCentNetLastTrade\",, \"T\")/100,\"\")","v":""},0]
[488,{"$f":"IFERROR(VLOOKUP(A489,Data!$H$2:$J$507,3,FALSE),\"\")","v":""},{"$f":"IFERROR(RTD(\"cqg.rtd\", ,\"ContractData\",B489, \"PerCentNetLastTrade\",, \"T\")/100,\"\")","v":""},{"$f":"IFERROR(RANK($C489,$C$2:C$507)+COUNTIF($C$2:C489,C489)-1,\"\")","v":""},"",488,"",{"$f":"IF(G489=\"\",\"\",RTD(\"cqg.rtd\", ,\"ContractData\",G489, \"LongDescription\",, \"T\"))","v":""},{"$f":"IFERROR(RTD(\"cqg.rtd\", ,\"ContractData\",G489, \"PerCentNetLastTrade\",, \"T\")/100,\"\")","v":""},0,488,{"$f":"IFERROR(VLOOKUP(A489,Data!$I$2:$J$507,2,FALSE),\"\")","v":""},{"$f":"IFERROR(RTD(\"cqg.rtd\", ,\"ContractData\",L489, \"PerCentNetLastTrade\",, \"T\")/100,\"\")","v":""},{"$f":"IFERROR(RANK($M489,$M$2:M$507)+COUNTIF($M$2:M489,M489)-1,\"\")","v":""},"",488,"",{"$f":"IF(Q489=\"\",\"\",RTD(\"cqg.rtd\", ,\"ContractData\",Q489, \"LongDescription\",, \"T\"))","v":""},{"$f":"IFERROR(RTD(\"cqg.rtd\", ,\"ContractData\",Q489, \"PerCentNetLastTrade\",, \"T\")/100,\"\")","v":""},0]
[489,{"$f":"IFERROR(VLOOKUP(A490,Data!$H$2:$J$507,3,FALSE),\"\")","v":""},{"$f":"IFERROR(RTD(\"cqg.rtd\", ,\"ContractData\",B490, \"PerCentNetLastTrade\",, \"T\")/100,\"\")","v":""},{"$f":"IFERROR(RANK($C490,$C$2:C$507)+COUNTIF($C$2:C490,C490)-1,\"\")","v":""},"",489,"",{"$f":"IF(G490=\"\",\"\",RTD(\"cqg.rtd\", ,\"ContractData\",G490, \"LongDescription\",, \"T\"))","v":""},{"$f":"IFERROR(RTD(\"cqg.rtd\", ,\"ContractData\",G490, \"PerCentNetLastTrade\",, \"T\")/100,\"\")","v":""},0,489,{"$f":"IFERROR(VLOOKUP(A490,Data!$I$2:$J$507,2,FALSE),\"\")","v":""},{"$f":"IFERROR(RTD(\"cqg.rtd\", ,\"ContractData\",L490, \"PerCentNetLastTrade\",, \"T\")/100,\"\")","v":""},{"$f":"IFERROR(RANK($M490,$M$2:M$507)+COUNTIF($M$2:M490,M490)-1,\"\")","v":""},"",489,"",{"$f":"IF(Q490=\"\",\"\",RTD(\"cqg.rtd\", ,\"ContractData\",Q490, \"LongDescription\",, \"T\"))","v":""},{"$f":"IFERROR(RTD(\"cqg.rtd\", ,\"ContractData\",Q490, \"PerCentNetLastTrade\",, \"T\")/100,\"\")","v":""},0]
[490,{"$f":"IFERROR(VLOOKUP(A491,Data!$H$2:$J$507,3,FALSE),\"\")","v":""},{"$f":"IFERROR(RTD(\"cqg.rtd\", ,\"ContractData\",B491, \"PerCentNetLastTrade\",, \"T\")/100,\"\")","v":""},{"$f":"IFERROR(RANK($C491,$C$2:C$507)+COUNTIF($C$2:C491,C491)-1,\"\")","v":""},"",490,"",{"$f":"IF(G491=\"\",\"\",RTD(\"cqg.rtd\", ,\"ContractData\",G491, \"LongDescription\",, \"T\"))","v":""},{"$f":"IFERROR(RTD(\"cqg.rtd\", ,\"ContractData\",G491, \"PerCentNetLastTrade\",, \"T\")/100,\"\")","v":""},0,490,{"$f":"IFERROR(VLOOKUP(A491,Data!$I$2:$J$507,2,FALSE),\"\")","v":""},{"$f":"IFERROR(RTD(\"cqg.rtd\", ,\"ContractData\",L491, \"PerCentNetLastTrade\",, \"T\")/100,\"\")","v":""},{"$f":"IFERROR(RANK($M491,$M$2:M$507)+COUNTIF($M$2:M491,M491)-1,\"\")","v":""},"",490,"",{"$f":"IF(Q491=\"\",\"\",RTD(\"cqg.rtd\", ,\"ContractData\",Q491, \"LongDescription\",, \"T\"))","v":""},{"$f":"IFERROR(RTD(\"cqg.rtd\", ,\"ContractData\",Q491, \"PerCentNetLastTrade\",, \"T\")/100,\"\")","v":""},0]
[491,{"$f":"IFERROR(VLOOKUP(A492,Data!$H$2:$J$507,3,FALSE),\"\")","v":""},{"$f":"IFERROR(RTD(\"cqg.rtd\", ,\"ContractData\",B492, \"PerCentNetLastTrade\",, \"T\")/100,\"\")","v":""},{"$f":"IFERROR(RANK($C492,$C$2:C$507)+COUNTIF($C$2:C492,C492)-1,\"\")","v":""},"",491,"",{"$f":"IF(G492=\"\",\"\",RTD(\"cqg.rtd\", ,\"ContractData\",G492, \"LongDescription\",, \"T\"))","v":""},{"$f":"IFERROR(RTD(\"cqg.rtd\", ,\"ContractData\",G492, \"PerCentNetLastTrade\",, \"T\")/100,\"\")","v":""},0,491,{"$f":"IFERROR(VLOOKUP(A492,Data!$I$2:$J$507,2,FALSE),\"\")","v":""},{"$f":"IFERROR(RTD(\"cqg.rtd\", ,\"ContractData\",L492, \"PerCentNetLastTrade\",, \"T\")/100,\"\")","v":""},{"$f":"IFERROR(RANK($M492,$M$2:M$507)+COUNTIF($M$2:M492,M492)-1,\"\")","v":""},"",491,"",{"$f":"IF(Q492=\"\",\"\",RTD(\"cqg.rtd\", ,\"ContractData\",Q492, \"LongDescription\",, \"T\"))","v":""},{"$f":"IFERROR(RTD(\"cqg.rtd\", ,\"ContractData\",Q492, \"PerCentNetLastTrade\",, \"T\")/100,\"\")","v":""},0]
[492,{"$f":"IFERROR(VLOOKUP(A493,Data!$H$2:$J$507,3,FALSE),\"\")","v":""},{"$f":"IFERROR(RTD(\"cqg.rtd\", ,\"ContractData\",B493, \"PerCentNetLastTrade\",, \"T\")/100,\"\")","v":""},{"$f":"IFERROR(RANK($C493,$C$2:C$507)+COUNTIF($C$2:C493,C493)-1,\"\")","v":""},"",492,"",{"$f":"IF(G493=\"\",\"\",RTD(\"cqg.rtd\", ,\"ContractData\",G493, \"LongDescription\",, \"T\"))","v":""},{"$f":"IFERROR(RTD(\"cqg.rtd\", ,\"ContractData\",G493, \"PerCentNetLastTrade\",, \"T\")/100,\"\")","v":""},0,492,{"$f":"IFERROR(VLOOKUP(A493,Data!$I$2:$J$507,2,FALSE),\"\")","v":""},{"$f":"IFERROR(RTD(\"cqg.rtd\", ,\"ContractData\",L493, \"PerCentNetLastTrade\",, \"T\")/100,\"\")","v":""},{"$f":"IFERROR(RANK($M493,$M$2:M$507)+COUNTIF($M$2:M493,M493)-1,\"\")","v":""},"",492,"",{"$f":"IF(Q493=\"\",\"\",RTD(\"cqg.rtd\", ,\"ContractData\",Q493, \"LongDescription\",, \"T\"))","v":""},{"$f":"IFERROR(RTD(\"cqg.rtd\", ,\"ContractData\",Q493, \"PerCentNetLastTrade\",, \"T\")/100,\"\")","v":""},0]
[493,{"$f":"IFERROR(VLOOKUP(A494,Data!$H$2:$J$507,3,FALSE),\"\")","v":""},{"$f":"IFERROR(RTD(\"cqg.rtd\", ,\"ContractData\",B494, \"PerCentNetLastTrade\",, \"T\")/100,\"\")","v":""},{"$f":"IFERROR(RANK($C494,$C$2:C$507)+COUNTIF($C$2:C494,C494)-1,\"\")","v":""},"",493,"",{"$f":"IF(G494=\"\",\"\",RTD(\"cqg.rtd\", ,\"ContractData\",G494, \"LongDescription\",, \"T\"))","v":""},{"$f":"IFERROR(RTD(\"cqg.rtd\", ,\"ContractData\",G494, \"PerCentNetLastTrade\",, \"T\")/100,\"\")","v":""},0,493,{"$f":"IFERROR(VLOOKUP(A494,Data!$I$2:$J$507,2,FALSE),\"\")","v":""},{"$f":"IFERROR(RTD(\"cqg.rtd\", ,\"ContractData\",L494, \"PerCentNetLastTrade\",, \"T\")/100,\"\")","v":""},{"$f":"IFERROR(RANK($M494,$M$2:M$507)+COUNTIF($M$2:M494,M494)-1,\"\")","v":""},"",493,"",{"$f":"IF(Q494=\"\",\"\",RTD(\"cqg.rtd\", ,\"ContractData\",Q494, \"LongDescription\",, \"T\"))","v":""},{"$f":"IFERROR(RTD(\"cqg.rtd\", ,\"ContractData\",Q494, \"PerCentNetLastTrade\",, \"T\")/100,\"\")","v":""},0]
[494,{"$f":"IFERROR(VLOOKUP(A495,Data!$H$2:$J$507,3,FALSE),\"\")","v":""},{"$f":"IFERROR(RTD(\"cqg.rtd\", ,\"ContractData\",B495, \"PerCentNetLastTrade\",, \"T\")/100,\"\")","v":""},{"$f":"IFERROR(RANK($C495,$C$2:C$507)+COUNTIF($C$2:C495,C495)-1,\"\")","v":""},"",494,"",{"$f":"IF(G495=\"\",\"\",RTD(\"cqg.rtd\", ,\"ContractData\",G495, \"LongDescription\",, \"T\"))","v":""},{"$f":"IFERROR(RTD(\"cqg.rtd\", ,\"ContractData\",G495, \"PerCentNetLastTrade\",, \"T\")/100,\"\")","v":""},0,494,{"$f":"IFERROR(VLOOKUP(A495,Data!$I$2:$J$507,2,FALSE),\"\")","v":""},{"$f":"IFERROR(RTD(\"cqg.rtd\", ,\"ContractData\",L495, \"PerCentNetLastTrade\",, \"T\")/100,\"\")","v":""},{"$f":"IFERROR(RANK($M495,$M$2:M$507)+COUNTIF($M$2:M495,M495)-1,\"\")","v":""},"",494,"",{"$f":"IF(Q495=\"\",\"\",RTD(\"cqg.rtd\", ,\"ContractData\",Q495, \"LongDescription\",, \"T\"))","v":""},{"$f":"IFERROR(RTD(\"cqg.rtd\", ,\"ContractData\",Q495, \"PerCentNetLastTrade\",, \"T\")/100,\"\")","v":""},0]
[495,{"$f":"IFERROR(VLOOKUP(A496,Data!$H$2:$J$507,3,FALSE),\"\")","v":""},{"$f":"IFERROR(RTD(\"cqg.rtd\", ,\"ContractData\",B496, \"PerCentNetLastTrade\",, \"T\")/100,\"\")","v":""},{"$f":"IFERROR(RANK($C496,$C$2:C$507)+COUNTIF($C$2:C496,C496)-1,\"\")","v":""},"",495,"",{"$f":"IF(G496=\"\",\"\",RTD(\"cqg.rtd\", ,\"ContractData\",G496, \"LongDescription\",, \"T\"))","v":""},{"$f":"IFERROR(RTD(\"cqg.rtd\", ,\"ContractData\",G496, \"PerCentNetLastTrade\",, \"T\")/100,\"\")","v":""},0,495,{"$f":"IFERROR(VLOOKUP(A496,Data!$I$2:$J$507,2,FALSE),\"\")","v":""},{"$f":"IFERROR(RTD(\"cqg.rtd\", ,\"ContractData\",L496, \"PerCentNetLastTrade\",, \"T\")/100,\"\")","v":""},{"$f":"IFERROR(RANK($M496,$M$2:M$507)+COUNTIF($M$2:M496,M496)-1,\"\")","v":""},"",495,"",{"$f":"IF(Q496=\"\",\"\",RTD(\"cqg.rtd\", ,\"ContractData\",Q496, \"LongDescription\",, \"T\"))","v":""},{"$f":"IFERROR(RTD(\"cqg.rtd\", ,\"ContractData\",Q496, \"PerCentNetLastTrade\",, \"T\")/100,\"\")","v":""},0]
[496,{"$f":"IFERROR(VLOOKUP(A497,Data!$H$2:$J$507,3,FALSE),\"\")","v":""},{"$f":"IFERROR(RTD(\"cqg.rtd\", ,\"ContractData\",B497, \"PerCentNetLastTrade\",, \"T\")/100,\"\")","v":""},{"$f":"IFERROR(RANK($C497,$C$2:C$507)+COUNTIF($C$2:C497,C497)-1,\"\")","v":""},"",496,"",{"$f":"IF(G497=\"\",\"\",RTD(\"cqg.rtd\", ,\"ContractData\",G497, \"LongDescription\",, \"T\"))","v":""},{"$f":"IFERROR(RTD(\"cqg.rtd\", ,\"ContractData\",G497, \"PerCentNetLastTrade\",, \"T\")/100,\"\")","v":""},0,496,{"$f":"IFERROR(VLOOKUP(A497,Data!$I$2:$J$507,2,FALSE),\"\")","v":""},{"$f":"IFERROR(RTD(\"cqg.rtd\", ,\"ContractData\",L497, \"PerCentNetLastTrade\",, \"T\")/100,\"\")","v":""},{"$f":"IFERROR(RANK($M497,$M$2:M$507)+COUNTIF($M$2:M497,M497)-1,\"\")","v":""},"",496,"",{"$f":"IF(Q497=\"\",\"\",RTD(\"cqg.rtd\", ,\"ContractData\",Q497, \"LongDescription\",, \"T\"))","v":""},{"$f":"IFERROR(RTD(\"cqg.rtd\", ,\"ContractData\",Q497, \"PerCentNetLastTrade\",, \"T\")/100,\"\")","v":""},0]
[497,{"$f":"IFERROR(VLOOKUP(A498,Data!$H$2:$J$507,3,FALSE),\"\")","v":""},{"$f":"IFERROR(RTD(\"cqg.rtd\", ,\"ContractData\",B498, \"PerCentNetLastTrade\",, \"T\")/100,\"\")","v":""},{"$f":"IFERROR(RANK($C498,$C$2:C$507)+COUNTIF($C$2:C498,C498)-1,\"\")","v":""},"",497,"",{"$f":"IF(G498=\"\",\"\",RTD(\"cqg.rtd\", ,\"ContractData\",G498, \"LongDescription\",, \"T\"))","v":""},{"$f":"IFERROR(RTD(\"cqg.rtd\", ,\"ContractData\",G498, \"PerCentNetLastTrade\",, \"T\")/100,\"\")","v":""},0,497,{"$f":"IFERROR(VLOOKUP(A498,Data!$I$2:$J$507,2,FALSE),\"\")","v":""},{"$f":"IFERROR(RTD(\"cqg.rtd\", ,\"ContractData\",L498, \"PerCentNetLastTrade\",, \"T\")/100,\"\")","v":""},{"$f":"IFERROR(RANK($M498,$M$2:M$507)+COUNTIF($M$2:M498,M498)-1,\"\")","v":""},"",497,"",{"$f":"IF(Q498=\"\",\"\",RTD(\"cqg.rtd\", ,\"ContractData\",Q498, \"LongDescription\",, \"T\"))","v":""},{"$f":"IFERROR(RTD(\"cqg.rtd\", ,\"ContractData\",Q498, \"PerCentNetLastTrade\",, \"T\")/100,\"\")","v":""},0]
[498,{"$f":"IFERROR(VLOOKUP(A499,Data!$H$2:$J$507,3,FALSE),\"\")","v":""},{"$f":"IFERROR(RTD(\"cqg.rtd\", ,\"ContractData\",B499, \"PerCentNetLastTrade\",, \"T\")/100,\"\")","v":""},{"$f":"IFERROR(RANK($C499,$C$2:C$507)+COUNTIF($C$2:C499,C499)-1,\"\")","v":""},"",498,"",{"$f":"IF(G499=\"\",\"\",RTD(\"cqg.rtd\", ,\"ContractData\",G499, \"LongDescription\",, \"T\"))","v":""},{"$f":"IFERROR(RTD(\"cqg.rtd\", ,\"ContractData\",G499, \"PerCentNetLastTrade\",, \"T\")/100,\"\")","v":""},0,498,{"$f":"IFERROR(VLOOKUP(A499,Data!$I$2:$J$507,2,FALSE),\"\")","v":""},{"$f":"IFERROR(RTD(\"cqg.rtd\", ,\"ContractData\",L499, \"PerCentNetLastTrade\",, \"T\")/100,\"\")","v":""},{"$f":"IFERROR(RANK($M499,$M$2:M$507)+COUNTIF($M$2:M499,M499)-1,\"\")","v":""},"",498,"",{"$f":"IF(Q499=\"\",\"\",RTD(\"cqg.rtd\", ,\"ContractData\",Q499, \"LongDescription\",, \"T\"))","v":""},{"$f":"IFERROR(RTD(\"cqg.rtd\", ,\"ContractData\",Q499, \"PerCentNetLastTrade\",, \"T\")/100,\"\")","v":""},0]
[499,{"$f":"IFERROR(VLOOKUP(A500,Data!$H$2:$J$507,3,FALSE),\"\")","v":""},{"$f":"IFERROR(RTD(\"cqg.rtd\", ,\"ContractData\",B500, \"PerCentNetLastTrade\",, \"T\")/100,\"\")","v":""},{"$f":"IFERROR(RANK($C500,$C$2:C$507)+COUNTIF($C$2:C500,C500)-1,\"\")","v":""},"",499,"",{"$f":"IF(G500=\"\",\"\",RTD(\"cqg.rtd\", ,\"ContractData\",G500, \"LongDescription\",, \"T\"))","v":""},{"$f":"IFERROR(RTD(\"cqg.rtd\", ,\"ContractData\",G500, \"PerCentNetLastTrade\",, \"T\")/100,\"\")","v":""},0,499,{"$f":"IFERROR(VLOOKUP(A500,Data!$I$2:$J$507,2,FALSE),\"\")","v":""},{"$f":"IFERROR(RTD(\"cqg.rtd\", ,\"ContractData\",L500, \"PerCentNetLastTrade\",, \"T\")/100,\"\")","v":""},{"$f":"IFERROR(RANK($M500,$M$2:M$507)+COUNTIF($M$2:M500,M500)-1,\"\")","v":""},"",499,"",{"$f":"IF(Q500=\"\",\"\",RTD(\"cqg.rtd\", ,\"ContractData\",Q500, \"LongDescription\",, \"T\"))","v":""},{"$f":"IFERROR(RTD(\"cqg.rtd\", ,\"ContractData\",Q500, \"PerCentNetLastTrade\",, \"T\")/100,\"\")","v":""},0]
[500,{"$f":"IFERROR(VLOOKUP(A501,Data!$H$2:$J$507,3,FALSE),\"\")","v":""},{"$f":"IFERROR(RTD(\"cqg.rtd\", ,\"ContractData\",B501, \"PerCentNetLastTrade\",, \"T\")/100,\"\")","v":""},{"$f":"IFERROR(RANK($C501,$C$2:C$507)+COUNTIF($C$2:C501,C501)-1,\"\")","v":""},"",500,"",{"$f":"IF(G501=\"\",\"\",RTD(\"cqg.rtd\", ,\"ContractData\",G501, \"LongDescription\",, \"T\"))","v":""},{"$f":"IFERROR(RTD(\"cqg.rtd\", ,\"ContractData\",G501, \"PerCentNetLastTrade\",, \"T\")/100,\"\")","v":""},0,500,{"$f":"IFERROR(VLOOKUP(A501,Data!$I$2:$J$507,2,FALSE),\"\")","v":""},{"$f":"IFERROR(RTD(\"cqg.rtd\", ,\"ContractData\",L501, \"PerCentNetLastTrade\",, \"T\")/100,\"\")","v":""},{"$f":"IFERROR(RANK($M501,$M$2:M$507)+COUNTIF($M$2:M501,M501)-1,\"\")","v":""},"",500,"",{"$f":"IF(Q501=\"\",\"\",RTD(\"cqg.rtd\", ,\"ContractData\",Q501, \"LongDescription\",, \"T\"))","v":""},{"$f":"IFERROR(RTD(\"cqg.rtd\", ,\"ContractData\",Q501, \"PerCentNetLastTrade\",, \"T\")/100,\"\")","v":""},0]
[501,{"$f":"IFERROR(VLOOKUP(A502,Data!$H$2:$J$507,3,FALSE),\"\")","v":""},{"$f":"IFERROR(RTD(\"cqg.rtd\", ,\"ContractData\",B502, \"PerCentNetLastTrade\",, \"T\")/100,\"\")","v":""},{"$f":"IFERROR(RANK($C502,$C$2:C$507)+COUNTIF($C$2:C502,C502)-1,\"\")","v":""},"",501,"",{"$f":"IF(G502=\"\",\"\",RTD(\"cqg.rtd\", ,\"ContractData\",G502, \"LongDescription\",, \"T\"))","v":""},{"$f":"IFERROR(RTD(\"cqg.rtd\", ,\"ContractData\",G502, \"PerCentNetLastTrade\",, \"T\")/100,\"\")","v":""},0,501,{"$f":"IFERROR(VLOOKUP(A502,Data!$I$2:$J$507,2,FALSE),\"\")","v":""},{"$f":"IFERROR(RTD(\"cqg.rtd\", ,\"ContractData\",L502, \"PerCentNetLastTrade\",, \"T\")/100,\"\")","v":""},{"$f":"IFERROR(RANK($M502,$M$2:M$507)+COUNTIF($M$2:M502,M502)-1,\"\")","v":""},"",501,"",{"$f":"IF(Q502=\"\",\"\",RTD(\"cqg.rtd\", ,\"ContractData\",Q502, \"LongDescription\",, \"T\"))","v":""},{"$f":"IFERROR(RTD(\"cqg.rtd\", ,\"ContractData\",Q502, \"PerCentNetLastTrade\",, \"T\")/100,\"\")","v":""},0]
[502,{"$f":"IFERROR(VLOOKUP(A503,Data!$H$2:$J$507,3,FALSE),\"\")","v":""},{"$f":"IFERROR(RTD(\"cqg.rtd\", ,\"ContractData\",B503, \"PerCentNetLastTrade\",, \"T\")/100,\"\")","v":""},{"$f":"IFERROR(RANK($C503,$C$2:C$507)+COUNTIF($C$2:C503,C503)-1,\"\")","v":""},"",502,"",{"$f":"IF(G503=\"\",\"\",RTD(\"cqg.rtd\", ,\"ContractData\",G503, \"LongDescription\",, \"T\"))","v":""},{"$f":"IFERROR(RTD(\"cqg.rtd\", ,\"ContractData\",G503, \"PerCentNetLastTrade\",, \"T\")/100,\"\")","v":""},0,502,{"$f":"IFERROR(VLOOKUP(A503,Data!$I$2:$J$507,2,FALSE),\"\")","v":""},{"$f":"IFERROR(RTD(\"cqg.rtd\", ,\"ContractData\",L503, \"PerCentNetLastTrade\",, \"T\")/100,\"\")","v":""},{"$f":"IFERROR(RANK($M503,$M$2:M$507)+COUNTIF($M$2:M503,M503)-1,\"\")","v":""},"",502,"",{"$f":"IF(Q503=\"\",\"\",RTD(\"cqg.rtd\", ,\"ContractData\",Q503, \"LongDescription\",, \"T\"))","v":""},{"$f":"IFERROR(RTD(\"cqg.rtd\", ,\"ContractData\",Q503, \"PerCentNetLastTrade\",, \"T\")/100,\"\")","v":""},0]
[503,{"$f":"IFERROR(VLOOKUP(A504,Data!$H$2:$J$507,3,FALSE),\"\")","v":""},{"$f":"IFERROR(RTD(\"cqg.rtd\", ,\"ContractData\",B504, \"PerCentNetLastTrade\",, \"T\")/100,\"\")","v":""},{"$f":"IFERROR(RANK($C504,$C$2:C$507)+COUNTIF($C$2:C504,C504)-1,\"\")","v":""},{"$f":"IF(B504=\"\",\"\",B504)","v":""},503,"",{"$f":"IF(G504=\"\",\"\",RTD(\"cqg.rtd\", ,\"ContractData\",G504, \"LongDescription\",, \"T\"))","v":""},{"$f":"IFERROR(RTD(\"cqg.rtd\", ,\"ContractData\",G504, \"PerCentNetLastTrade\",, \"T\")/100,\"\")","v":""},0,503,{"$f":"IFERROR(VLOOKUP(A504,Data!$I$2:$J$507,2,FALSE),\"\")","v":""},{"$f":"IFERROR(RTD(\"cqg.rtd\", ,\"ContractData\",L504, \"PerCentNetLastTrade\",, \"T\")/100,\"\")","v":""},{"$f":"IFERROR(RANK($M504,$M$2:M$507)+COUNTIF($M$2:M504,M504)-1,\"\")","v":""},"",503,"",{"$f":"IF(Q504=\"\",\"\",RTD(\"cqg.rtd\", ,\"ContractData\",Q504, \"LongDescription\",, \"T\"))","v":""},{"$f":"IFERROR(RTD(\"cqg.rtd\", ,\"ContractData\",Q504, \"PerCentNetLastTrade\",, \"T\")/100,\"\")","v":""},0]
[504,{"$f":"IFERROR(VLOOKUP(A505,Data!$H$2:$J$507,3,FALSE),\"\")","v":""},{"$f":"IFERROR(RTD(\"cqg.rtd\", ,\"ContractData\",B505, \"PerCentNetLastTrade\",, \"T\")/100,\"\")","v":""},{"$f":"IFERROR(RANK($C505,$C$2:C$507)+COUNTIF($C$2:C505,C505)-1,\"\")","v":""},"",504,"",{"$f":"IF(G505=\"\",\"\",RTD(\"cqg.rtd\", ,\"ContractData\",G505, \"LongDescription\",, \"T\"))","v":""},{"$f":"IFERROR(RTD(\"cqg.rtd\", ,\"ContractData\",G505, \"PerCentNetLastTrade\",, \"T\")/100,\"\")","v":""},0,504,{"$f":"IFERROR(VLOOKUP(A505,Data!$I$2:$J$507,2,FALSE),\"\")","v":""},{"$f":"IFERROR(RTD(\"cqg.rtd\", ,\"ContractData\",L505, \"PerCentNetLastTrade\",, \"T\")/100,\"\")","v":""},{"$f":"IFERROR(RANK($M505,$M$2:M$507)+COUNTIF($M$2:M505,M505)-1,\"\")","v":""},"",504,"",{"$f":"IF(Q505=\"\",\"\",RTD(\"cqg.rtd\", ,\"ContractData\",Q505, \"LongDescription\",, \"T\"))","v":""},{"$f":"IFERROR(RTD(\"cqg.rtd\", ,\"ContractData\",Q505, \"PerCentNetLastTrade\",, \"T\")/100,\"\")","v":""},0]
[505,{"$f":"IFERROR(VLOOKUP(A506,Data!$H$2:$J$507,3,FALSE),\"\")","v":""},{"$f":"IFERROR(RTD(\"cqg.rtd\", ,\"ContractData\",B506, \"PerCentNetLastTrade\",, \"T\")/100,\"\")","v":""},{"$f":"IFERROR(RANK($C506,$C$2:C$507)+COUNTIF($C$2:C506,C506)-1,\"\")","v":""},"",505,"",{"$f":"IF(G506=\"\",\"\",RTD(\"cqg.rtd\", ,\"ContractData\",G506, \"LongDescription\",, \"T\"))","v":""},{"$f":"IFERROR(RTD(\"cqg.rtd\", ,\"ContractData\",G506, \"PerCentNetLastTrade\",, \"T\")/100,\"\")","v":""},0,505,{"$f":"IFERROR(VLOOKUP(A506,Data!$I$2:$J$507,2,FALSE),\"\")","v":""},{"$f":"IFERROR(RTD(\"cqg.rtd\", ,\"ContractData\",L506, \"PerCentNetLastTrade\",, \"T\")/100,\"\")","v":""},{"$f":"IFERROR(RANK($M506,$M$2:M$507)+COUNTIF($M$2:M506,M506)-1,\"\")","v":""},"",505,"",{"$f":"IF(Q506=\"\",\"\",RTD(\"cqg.rtd\", ,\"ContractData\",Q506, \"LongDescription\",, \"T\"))","v":""},{"$f":"IFERROR(RTD(\"cqg.rtd\", ,\"ContractData\",Q506, \"PerCentNetLastTrade\",, \"T\")/100,\"\")","v":""},0]
[506,{"$f":"IFERROR(VLOOKUP(A507,Data!$H$2:$J$507,3,FALSE),\"\")","v":""},{"$f":"IFERROR(RTD(\"cqg.rtd\", ,\"ContractData\",B507, \"PerCentNetLastTrade\",, \"T\")/100,\"\")","v":""},{"$f":"IFERROR(RANK($C507,$C$2:C$507)+COUNTIF($C$2:C507,C507)-1,\"\")","v":""},"",506,"",{"$f":"IF(G507=\"\",\"\",RTD(\"cqg.rtd\", ,\"ContractData\",G507, \"LongDescription\",, \"T\"))","v":""},{"$f":"IFERROR(RTD(\"cqg.rtd\", ,\"ContractData\",G507, \"PerCentNetLastTrade\",, \"T\")/100,\"\")","v":""},0,506,{"$f":"IFERROR(VLOOKUP(A507,Data!$I$2:$J$507,2,FALSE),\"\")","v":""},{"$f":"IFERROR(RTD(\"cqg.rtd\", ,\"ContractData\",L507, \"PerCentNetLastTrade\",, \"T\")/100,\"\")","v":""},{"$f":"IFERROR(RANK($M507,$M$2:M$507)+COUNTIF($M$2:M507,M507)-1,\"\")","v":""},"",506,"",{"$f":"IF(Q507=\"\",\"\",RTD(\"cqg.rtd\", ,\"ContractData\",Q507, \"LongDescription\",, \"T\"))","v":""},{"$f":"IFERROR(RTD(\"cqg.rtd\", ,\"ContractData\",Q507, \"PerCentNetLastTrade\",, \"T\")/100,\"\")","v":""},0]
[507,{"$f":"IFERROR(VLOOKUP(A508,Data!$H$2:$J$507,3,FALSE),\"\")","v":""},{"$f":"IFERROR(RTD(\"cqg.rtd\", ,\"ContractData\",B508, \"PerCentNetLastTrade\",, \"T\")/100,\"\")","v":""},{"$f":"IFERROR(RANK($C508,$C$2:C$507)+COUNTIF($C$2:C508,C508)-1,\"\")","v":""},"",507,"",{"$f":"IF(G508=\"\",\"\",RTD(\"cqg.rtd\", ,\"ContractData\",G508, \"LongDescription\",, \"T\"))","v":""},{"$f":"IFERROR(RTD(\"cqg.rtd\", ,\"ContractData\",G508, \"PerCentNetLastTrade\",, \"T\")/100,\"\")","v":""},0,507,{"$f":"IFERROR(VLOOKUP(A508,Data!$I$2:$J$507,2,FALSE),\"\")","v":""},{"$f":"IFERROR(RTD(\"cqg.rtd\", ,\"ContractData\",L508, \"PerCentNetLastTrade\",, \"T\")/100,\"\")","v":""},{"$f":"IFERROR(RANK($M508,$M$2:M$507)+COUNTIF($M$2:M508,M508)-1,\"\")","v":""},"",507,"",{"$f":"IF(Q508=\"\",\"\",RTD(\"cqg.rtd\", ,\"ContractData\",Q508, \"LongDescription\",, \"T\"))","v":""},{"$f":"IFERROR(RTD(\"cqg.rtd\", ,\"ContractData\",Q508, \"PerCentNetLastTrade\",, \"T\")/100,\"\")","v":""},0]

{"sheet":"Symbols","index":3,"n_rows":507,"n_cols":6,"rows_kept":507,"cut":false,"hidden":false,"merged":[[3,3,3,8],[17,3,17,6]]}
["Symbols","Long description",null,"Go to the web site to download the current list of holdings."]
["S.US.A",{"$f":"RTD(\"cqg.rtd\", ,\"ContractData\",A2, \"LongDescription\",, \"T\")","v":"Agilent Technologies"},null,"There is a link \"Download All Holdings\""]
["S.US.AAL",{"$f":"RTD(\"cqg.rtd\", ,\"ContractData\",A3, \"LongDescription\",, \"T\")","v":"American Airlines Group Inc."}]
["S.US.AAP",{"$f":"RTD(\"cqg.rtd\", ,\"ContractData\",A4, \"LongDescription\",, \"T\")","v":"Advance Auto Parts Inc"},null,"https://us.spdrs.com/en/etf/spdr-sp-500-etf-SPY"]
["S.US.AAPL",{"$f":"RTD(\"cqg.rtd\", ,\"ContractData\",A5, \"LongDescription\",, \"T\")","v":"Apple Inc"}]
["S.US.ABBV",{"$f":"RTD(\"cqg.rtd\", ,\"ContractData\",A6, \"LongDescription\",, \"T\")","v":"AbbVie Inc."},null,"Copy the symbols."]
["S.US.ABC",{"$f":"RTD(\"cqg.rtd\", ,\"ContractData\",A7, \"LongDescription\",, \"T\")","v":"AmerisourceBergen Corp"},null,"For example:"]
["S.US.ABMD",{"$f":"RTD(\"cqg.rtd\", ,\"ContractData\",A8, \"LongDescription\",, \"T\")","v":"ABIOMED Inc"},null,1,2,3]
["S.US.ABT",{"$f":"RTD(\"cqg.rtd\", ,\"ContractData\",A9, \"LongDescription\",, \"T\")","v":"Abbott Laboratories"},null,"A",{"$f":"\"S.US.\"&D9","v":"S.US.A"},"S.US.A"]
["S.US.ACN",{"$f":"RTD(\"cqg.rtd\", ,\"ContractData\",A10, \"LongDescription\",, \"T\")","v":"Accenture PLC Ireland"},null,"AAL",{"$f":"\"S.US.\"&D10","v":"S.US.AAL"},"S.US.AAL"]
["S.US.ADBE",{"$f":"RTD(\"cqg.rtd\", ,\"ContractData\",A11, \"LongDescription\",, \"T\")","v":"Adobe Inc."},null,"AAP",{"$f":"\"S.US.\"&D11","v":"S.US.AAP"},"S.US.AAP"]
["S.US.ADI",{"$f":"RTD(\"cqg.rtd\", ,\"ContractData\",A12, \"LongDescription\",, \"T\")","v":"Analog Devices Inc"}]
["S.US.ADM",{"$f":"RTD(\"cqg.rtd\", ,\"ContractData\",A13, \"LongDescription\",, \"T\")","v":"Archer-Daniels-Midland"},null,"1: Paste in the symbols in a blank sheet from the SPDR Holdings spreadsheet"]
["S.US.ADP",{"$f":"RTD(\"cqg.rtd\", ,\"ContractData\",A14, \"LongDescription\",, \"T\")","v":"Auto Data Processing Inc"},null,"2: In a seprate column merge with \"S.US. Use \" =\"S.US.\"&D9\" where cell D9 is the first symbol. In your spreadheet the cell reference maybe A1."]
["S.US.ADSK",{"$f":"RTD(\"cqg.rtd\", ,\"ContractData\",A15, \"LongDescription\",, \"T\")","v":"Autodesk Inc"},null,"3: Copy the merged symbols and paste as values in a separate column"]
["S.US.AEE",{"$f":"RTD(\"cqg.rtd\", ,\"ContractData\",A16, \"LongDescription\",, \"T\")","v":"Ameren Corp"},null,"4: Copy and paste into column A in this sheet starting with cell A2."]
["S.US.AEP",{"$f":"RTD(\"cqg.rtd\", ,\"ContractData\",A17, \"LongDescription\",, \"T\")","v":"American Electric Power Company, Inc."},null,"5: As of 2/15/2019, there are 506 symbols. If that changes, please contact your CQG representative."]
["S.US.AES",{"$f":"RTD(\"cqg.rtd\", ,\"ContractData\",A18, \"LongDescription\",, \"T\")","v":"AES Corp"}]
["S.US.AFL",{"$f":"RTD(\"cqg.rtd\", ,\"ContractData\",A19, \"LongDescription\",, \"T\")","v":"AFLAC Inc"}]
["S.US.AIG",{"$f":"RTD(\"cqg.rtd\", ,\"ContractData\",A20, \"LongDescription\",, \"T\")","v":"American Intl Group Inc"},null,"Once the symbols have been pasted in column A then column B will show the description."]
["S.US.AIZ",{"$f":"RTD(\"cqg.rtd\", ,\"ContractData\",A21, \"LongDescription\",, \"T\")","v":"Assurant Inc"},null,"If there are errors then the symbol needs to be verified in CQG. "]
["S.US.AJG",{"$f":"RTD(\"cqg.rtd\", ,\"ContractData\",A22, \"LongDescription\",, \"T\")","v":"Arthur J Gallagher Co"},null,"Return to the \"SPDR Holding\" spreadsheet and locate the company's name and search "]
["S.US.AKAM",{"$f":"RTD(\"cqg.rtd\", ,\"ContractData\",A23, \"LongDescription\",, \"T\")","v":"Akamai Tech Inc"},null,"the CQG Symbol finder for the CQG symbol using the name of the company."]
["S.US.ALB",{"$f":"RTD(\"cqg.rtd\", ,\"ContractData\",A24, \"LongDescription\",, \"T\")","v":"Albemarle Corporation"}]
["S.US.ALGN",{"$f":"RTD(\"cqg.rtd\", ,\"ContractData\",A25, \"LongDescription\",, \"T\")","v":"Align Technology Inc"}]
["S.US.ALK",{"$f":"RTD(\"cqg.rtd\", ,\"ContractData\",A26, \"LongDescription\",, \"T\")","v":"Alaska Air Group Inc"}]
["S.US.ALL",{"$f":"RTD(\"cqg.rtd\", ,\"ContractData\",A27, \"LongDescription\",, \"T\")","v":"Allstate Corporation"}]
["S.US.ALLE",{"$f":"RTD(\"cqg.rtd\", ,\"ContractData\",A28, \"LongDescription\",, \"T\")","v":"Allegion plc"}]
["S.US.AMAT",{"$f":"RTD(\"cqg.rtd\", ,\"ContractData\",A29, \"LongDescription\",, \"T\")","v":"Applied Materials Inc"}]
["S.US.AMCR",{"$f":"RTD(\"cqg.rtd\", ,\"ContractData\",A30, \"LongDescription\",, \"T\")","v":"Amcor PLC"}]
["S.US.AMD",{"$f":"RTD(\"cqg.rtd\", ,\"ContractData\",A31, \"LongDescription\",, \"T\")","v":"Advanced Micro Devices"}]
["S.US.AME",{"$f":"RTD(\"cqg.rtd\", ,\"ContractData\",A32, \"LongDescription\",, \"T\")","v":"Ametek Inc New"}]
["S.US.AMGN",{"$f":"RTD(\"cqg.rtd\", ,\"ContractData\",A33, \"LongDescription\",, \"T\")","v":"Amgen Inc"}]
["S.US.AMP",{"$f":"RTD(\"cqg.rtd\", ,\"ContractData\",A34, \"LongDescription\",, \"T\")","v":"Ameriprise Financial Inc"}]
["S.US.AMT",{"$f":"RTD(\"cqg.rtd\", ,\"ContractData\",A35, \"LongDescription\",, \"T\")","v":"American Tower Corp ClA"}]
["S.US.AMZN",{"$f":"RTD(\"cqg.rtd\", ,\"ContractData\",A36, \"LongDescription\",, \"T\")","v":"Amazon.com Inc"}]
["S.US.ANET",{"$f":"RTD(\"cqg.rtd\", ,\"ContractData\",A37, \"LongDescription\",, \"T\")","v":"Arista Networks, Inc."}]
["S.US.ANSS",{"$f":"RTD(\"cqg.rtd\", ,\"ContractData\",A38, \"LongDescription\",, \"T\")","v":"ANSYS Inc"}]
["S.US.ANTM",{"$f":"RTD(\"cqg.rtd\", ,\"ContractData\",A39, \"LongDescription\",, \"T\")","v":"Anthem, Inc."}]
["S.US.AON",{"$f":"RTD(\"cqg.rtd\", ,\"ContractData\",A40, \"LongDescription\",, \"T\")","v":"AON Corporation"}]
["S.US.AOS",{"$f":"RTD(\"cqg.rtd\", ,\"ContractData\",A41, \"LongDescription\",, \"T\")","v":"AO Smith Corp"}]
["S.US.APA",{"$f":"RTD(\"cqg.rtd\", ,\"ContractData\",A42, \"LongDescription\",, \"T\")","v":"APA Corporation"}]
["S.US.APD",{"$f":"RTD(\"cqg.rtd\", ,\"ContractData\",A43, \"LongDescription\",, \"T\")","v":"Air Products & Chems Inc"}]
["S.US.APH",{"$f":"RTD(\"cqg.rtd\", ,\"ContractData\",A44, \"LongDescription\",, \"T\")","v":"Amphenol"}]
["S.US.APTV",{"$f":"RTD(\"cqg.rtd\", ,\"ContractData\",A45, \"LongDescription\",, \"T\")","v":"Aptiv PLC"}]
["S.US.ARE",{"$f":"RTD(\"cqg.rtd\", ,\"ContractData\",A46, \"LongDescription\",, \"T\")","v":"Alexandria Real Estate Equities Inc"}]
["S.US.ATO",{"$f":"RTD(\"cqg.rtd\", ,\"ContractData\",A47, \"LongDescription\",, \"T\")","v":"Atmos Energy Corp"}]
["S.US.ATVI",{"$f":"RTD(\"cqg.rtd\", ,\"ContractData\",A48, \"LongDescription\",, \"T\")","v":"Activision Blizzard Inc"}]
["S.US.AVB",{"$f":"RTD(\"cqg.rtd\", ,\"ContractData\",A49, \"LongDescription\",, \"T\")","v":"AvalonBay Communities, Inc."}]
["S.US.AVGO",{"$f":"RTD(\"cqg.rtd\", ,\"ContractData\",A50, \"LongDescription\",, \"T\")","v":"Broadcom Inc."}]
["S.US.AVY",{"$f":"RTD(\"cqg.rtd\", ,\"ContractData\",A51, \"LongDescription\",, \"T\")","v":"Avery Dennison Corp"}]
["S.US.AWK",{"$f":"RTD(\"cqg.rtd\", ,\"ContractData\",A52, \"LongDescription\",, \"T\")","v":"American Water Works"}]
["S.US.AXP",{"$f":"RTD(\"cqg.rtd\", ,\"ContractData\",A53, \"LongDescription\",, \"T\")","v":"American Express Co"}]
["S.US.AZO",{"$f":"RTD(\"cqg.rtd\", ,\"ContractData\",A54, \"LongDescription\",, \"T\")","v":"Autozone Inc"}]
["S.US.BA",{"$f":"RTD(\"cqg.rtd\", ,\"ContractData\",A55, \"LongDescription\",, \"T\")","v":"Boeing Company"}]
["S.US.BAC",{"$f":"RTD(\"cqg.rtd\", ,\"ContractData\",A56, \"LongDescription\",, \"T\")","v":"Bank of America Corp"}]
["S.US.BAX",{"$f":"RTD(\"cqg.rtd\", ,\"ContractData\",A57, \"LongDescription\",, \"T\")","v":"Baxter International Inc"}]
["S.US.BBWI",{"$f":"RTD(\"cqg.rtd\", ,\"ContractData\",A58, \"LongDescription\",, \"T\")","v":"Bath & Body Works, Inc."}]
["S.US.BBY",{"$f":"RTD(\"cqg.rtd\", ,\"ContractData\",A59, \"LongDescription\",, \"T\")","v":"Best Buy Co Inc"}]
["S.US.BDX",{"$f":"RTD(\"cqg.rtd\", ,\"ContractData\",A60, \"LongDescription\",, \"T\")","v":"Becton Dickinson & Co"}]
["S.US.BEN",{"$f":"RTD(\"cqg.rtd\", ,\"ContractData\",A61, \"LongDescription\",, \"T\")","v":"Franklin Resources Inc"}]
["S.US.BF.B",{"$f":"RTD(\"cqg.rtd\", ,\"ContractData\",A62, \"LongDescription\",, \"T\")","v":"768: Current Message -> Not found: S.US.BF.B"}]
["S.US.BIIB",{"$f":"RTD(\"cqg.rtd\", ,\"ContractData\",A63, \"LongDescription\",, \"T\")","v":"Biogen Inc."}]
["S.US.BIO",{"$f":"RTD(\"cqg.rtd\", ,\"ContractData\",A64, \"LongDescription\",, \"T\")","v":"Bio-Rad Laboratories Inc"}]
["S.US.BK",{"$f":"RTD(\"cqg.rtd\", ,\"ContractData\",A65, \"LongDescription\",, \"T\")","v":"Bank of New York Co Inc"}]
["S.US.BKNG",{"$f":"RTD(\"cqg.rtd\", ,\"ContractData\",A66, \"LongDescription\",, \"T\")","v":"Booking Holdings Inc."}]
["S.US.BKR",{"$f":"RTD(\"cqg.rtd\", ,\"ContractData\",A67, \"LongDescription\",, \"T\")","v":"Baker Hughes Company"}]
["S.US.BLK",{"$f":"RTD(\"cqg.rtd\", ,\"ContractData\",A68, \"LongDescription\",, \"T\")","v":"BlackRock, Inc."}]
["S.US.BLL",{"$f":"RTD(\"cqg.rtd\", ,\"ContractData\",A69, \"LongDescription\",, \"T\")","v":"Ball Corp"}]
["S.US.BMY",{"$f":"RTD(\"cqg.rtd\", ,\"ContractData\",A70, \"LongDescription\",, \"T\")","v":"Bristol-Myers Squibb Co"}]
["S.US.BR",{"$f":"RTD(\"cqg.rtd\", ,\"ContractData\",A71, \"LongDescription\",, \"T\")","v":"Broadridge Financial Solutions"}]
["S.US.BRK.B",{"$f":"RTD(\"cqg.rtd\", ,\"ContractData\",A72, \"LongDescription\",, \"T\")","v":"768: Current Message -> Not found: S.US.BRK.B"}]
["S.US.BRO",{"$f":"RTD(\"cqg.rtd\", ,\"ContractData\",A73, \"LongDescription\",, \"T\")","v":"BROWN AND BROWN INC"}]
["S.US.BSX",{"$f":"RTD(\"cqg.rtd\", ,\"ContractData\",A74, \"LongDescription\",, \"T\")","v":"Boston Scientific Corp"}]
["S.US.BWA",{"$f":"RTD(\"cqg.rtd\", ,\"ContractData\",A75, \"LongDescription\",, \"T\")","v":"Borg Warner Inc"}]
["S.US.BXP",{"$f":"RTD(\"cqg.rtd\", ,\"ContractData\",A76, \"LongDescription\",, \"T\")","v":"Boston Properties Inc"}]
["S.US.C",{"$f":"RTD(\"cqg.rtd\", ,\"ContractData\",A77, \"LongDescription\",, \"T\")","v":"Citigroup Inc"}]
["S.US.CAG",{"$f":"RTD(\"cqg.rtd\", ,\"ContractData\",A78, \"LongDescription\",, \"T\")","v":"Conagra Brands, Inc."}]
["S.US.CAH",{"$f":"RTD(\"cqg.rtd\", ,\"ContractData\",A79, \"LongDescription\",, \"T\")","v":"Cardinal Health Inc"}]
["S.US.CARR",{"$f":"RTD(\"cqg.rtd\", ,\"ContractData\",A80, \"LongDescription\",, \"T\")","v":"Carrier Global Corporation"}]
["S.US.CAT",{"$f":"RTD(\"cqg.rtd\", ,\"ContractData\",A81, \"LongDescription\",, \"T\")","v":"Caterpillar Inc"}]
["S.US.CB",{"$f":"RTD(\"cqg.rtd\", ,\"ContractData\",A82, \"LongDescription\",, \"T\")","v":"Chubb Corporation"}]
["S.US.CBOE",{"$f":"RTD(\"cqg.rtd\", ,\"ContractData\",A83, \"LongDescription\",, \"T\")","v":"Cboe Global Markets, Inc."}]
["S.US.CBRE",{"$f":"RTD(\"cqg.rtd\", ,\"ContractData\",A84, \"LongDescription\",, \"T\")","v":"CBRE Group, Inc."}]
["S.US.CCI",{"$f":"RTD(\"cqg.rtd\", ,\"ContractData\",A85, \"LongDescription\",, \"T\")","v":"Crown Castle Intl"}]
["S.US.CCL",{"$f":"RTD(\"cqg.rtd\", ,\"ContractData\",A86, \"LongDescription\",, \"T\")","v":"Carnival Corp"}]
["S.US.CDAY",{"$f":"RTD(\"cqg.rtd\", ,\"ContractData\",A87, \"LongDescription\",, \"T\")","v":"Ceridian HCM Holding Inc. "}]
["S.US.CDNS",{"$f":"RTD(\"cqg.rtd\", ,\"ContractData\",A88, \"LongDescription\",, \"T\")","v":"Cadence Design Systems, Inc"}]
["S.US.CDW",{"$f":"RTD(\"cqg.rtd\", ,\"ContractData\",A89, \"LongDescription\",, \"T\")","v":"CDW Corporation"}]
["S.US.CE",{"$f":"RTD(\"cqg.rtd\", ,\"ContractData\",A90, \"LongDescription\",, \"T\")","v":"Celanese Corp"}]
["S.US.CEG",{"$f":"RTD(\"cqg.rtd\", ,\"ContractData\",A91, \"LongDescription\",, \"T\")","v":"Constellation Energy Corporation"}]
["S.US.CERN",{"$f":"RTD(\"cqg.rtd\", ,\"ContractData\",A92, \"LongDescription\",, \"T\")","v":"Cerner Corporation"}]
["S.US.CF",{"$f":"RTD(\"cqg.rtd\", ,\"ContractData\",A93, \"LongDescription\",, \"T\")","v":"CF Industries Holdings, Inc"}]
["S.US.CFG",{"$f":"RTD(\"cqg.rtd\", ,\"ContractData\",A94, \"LongDescription\",, \"T\")","v":"Citizens Financial Group, Inc."}]
["S.US.CHD",{"$f":"RTD(\"cqg.rtd\", ,\"ContractData\",A95, \"LongDescription\",, \"T\")","v":"Church/Dwight Co Inc"}]
["S.US.CHRW",{"$f":"RTD(\"cqg.rtd\", ,\"ContractData\",A96, \"LongDescription\",, \"T\")","v":"CH Robinson Worldwide Inc"}]
["S.US.CHTR",{"$f":"RTD(\"cqg.rtd\", ,\"ContractData\",A97, \"LongDescription\",, \"T\")","v":"Charter Communications, Inc. Class A"}]
["S.US.CI",{"$f":"RTD(\"cqg.rtd\", ,\"ContractData\",A98, \"LongDescription\",, \"T\")","v":"CIGNA Corporation"}]
["S.US.CINF",{"$f":"RTD(\"cqg.rtd\", ,\"ContractData\",A99, \"LongDescription\",, \"T\")","v":"Cincinnati Fincl Corp"}]
["S.US.CL",{"$f":"RTD(\"cqg.rtd\", ,\"ContractData\",A100, \"LongDescription\",, \"T\")","v":"Colgate-Palmolive Co"}]
["S.US.CLX",{"$f":"RTD(\"cqg.rtd\", ,\"ContractData\",A101, \"LongDescription\",, \"T\")","v":"Clorox Company"}]
["S.US.CMA",{"$f":"RTD(\"cqg.rtd\", ,\"ContractData\",A102, \"LongDescription\",, \"T\")","v":"Comerica Inc"}]
["S.US.CMCSA",{"$f":"RTD(\"cqg.rtd\", ,\"ContractData\",A103, \"LongDescription\",, \"T\")","v":"Comcast Corp ClsA"}]
["S.US.CME",{"$f":"RTD(\"cqg.rtd\", ,\"ContractData\",A104, \"LongDescription\",, \"T\")","v":"Chicago Merc Exch Holding Inc"}]
["S.US.CMG",{"$f":"RTD(\"cqg.rtd\", ,\"ContractData\",A105, \"LongDescription\",, \"T\")","v":"Chipotle Mexican Grill"}]
["S.US.CMI",{"$f":"RTD(\"cqg.rtd\", ,\"ContractData\",A106, \"LongDescription\",, \"T\")","v":"Cummins Inc"}]
["S.US.CMS",{"$f":"RTD(\"cqg.rtd\", ,\"ContractData\",A107, \"LongDescription\",, \"T\")","v":"CMS Energy Corporation"}]
["S.US.CNC",{"$f":"RTD(\"cqg.rtd\", ,\"ContractData\",A108, \"LongDescription\",, \"T\")","v":"Cenetene Corporation"}]
["S.US.CNP",{"$f":"RTD(\"cqg.rtd\", ,\"ContractData\",A109, \"LongDescription\",, \"T\")","v":"Centerpoint Energy Holding Co."}]
["S.US.COF",{"$f":"RTD(\"cqg.rtd\", ,\"ContractData\",A110, \"LongDescription\",, \"T\")","v":"Capital One Financl Corp"}]
["S.US.COO",{"$f":"RTD(\"cqg.rtd\", ,\"ContractData\",A111, \"LongDescription\",, \"T\")","v":"Cooper Companies Inc (The)"}]
["S.US.COP",{"$f":"RTD(\"cqg.rtd\", ,\"ContractData\",A112, \"LongDescription\",, \"T\")","v":"ConocoPhillips"}]
["S.US.COST",{"$f":"RTD(\"cqg.rtd\", ,\"ContractData\",A113, \"LongDescription\",, \"T\")","v":"Costco Wholesale Corp"}]
["S.US.CPB",{"$f":"RTD(\"cqg.rtd\", ,\"ContractData\",A114, \"LongDescription\",, \"T\")","v":"Campbell Soup Company"}]
["S.US.CPRT",{"$f":"RTD(\"cqg.rtd\", ,\"ContractData\",A115, \"LongDescription\",, \"T\")","v":"Copart Inc"}]
["S.US.CPT",{"$f":"RTD(\"cqg.rtd\", ,\"ContractData\",A116, \"LongDescription\",, \"T\")","v":"Camden Property Trust"}]
["S.US.CRL",{"$f":"RTD(\"cqg.rtd\", ,\"ContractData\",A117, \"LongDescription\",, \"T\")","v":"Charles River Labs Hldgs Inc"}]
["S.US.CRM",{"$f":"RTD(\"cqg.rtd\", ,\"ContractData\",A118, \"LongDescription\",, \"T\")","v":"Salesforce, Inc."}]
["S.US.CSCO",{"$f":"RTD(\"cqg.rtd\", ,\"ContractData\",A119, \"LongDescription\",, \"T\")","v":"Cisco Systems Inc"}]
["S.US.CSX",{"$f":"RTD(\"cqg.rtd\", ,\"ContractData\",A120, \"LongDescription\",, \"T\")","v":"CSX Corporation"}]
["S.US.CTAS",{"$f":"RTD(\"cqg.rtd\", ,\"ContractData\",A121, \"LongDescription\",, \"T\")","v":"Cintas Corp"}]
["S.US.CTLT",{"$f":"RTD(\"cqg.rtd\", ,\"ContractData\",A122, \"LongDescription\",, \"T\")","v":"Catalent, Inc."}]
["S.US.CTRA",{"$f":"RTD(\"cqg.rtd\", ,\"ContractData\",A123, \"LongDescription\",, \"T\")","v":"Cottera Energy, Inc"}]
["S.US.CTSH",{"$f":"RTD(\"cqg.rtd\", ,\"ContractData\",A124, \"LongDescription\",, \"T\")","v":"Cognizant Tech Solutions Corp"}]
["S.US.CTVA",{"$f":"RTD(\"cqg.rtd\", ,\"ContractData\",A125, \"LongDescription\",, \"T\")","v":"Corteva Inc"}]
["S.US.CTXS",{"$f":"RTD(\"cqg.rtd\", ,\"ContractData\",A126, \"LongDescription\",, \"T\")","v":"Citrix Systems Inc"}]
["S.US.CVS",{"$f":"RTD(\"cqg.rtd\", ,\"ContractData\",A127, \"LongDescription\",, \"T\")","v":"CVS Health Corporation"}]
["S.US.CVX",{"$f":"RTD(\"cqg.rtd\", ,\"ContractData\",A128, \"LongDescription\",, \"T\")","v":"Chevron Corp"}]
["S.US.CZR",{"$f":"RTD(\"cqg.rtd\", ,\"ContractData\",A129, \"LongDescription\",, \"T\")","v":"Caesars Entertainment, Inc."}]
["S.US.D",{"$f":"RTD(\"cqg.rtd\", ,\"ContractData\",A130, \"LongDescription\",, \"T\")","v":"Dominion Energy, Inc."}]
["S.US.DAL",{"$f":"RTD(\"cqg.rtd\", ,\"ContractData\",A131, \"LongDescription\",, \"T\")","v":"Delta Airlines, Inc."}]
["S.US.DD",{"$f":"RTD(\"cqg.rtd\", ,\"ContractData\",A132, \"LongDescription\",, \"T\")","v":"E.I. du Pont de Nemours and Co. (DuPont)"}]
["S.US.DE",{"$f":"RTD(\"cqg.rtd\", ,\"ContractData\",A133, \"LongDescription\",, \"T\")","v":"Deere & Company"}]
["S.US.DFS",{"$f":"RTD(\"cqg.rtd\", ,\"ContractData\",A134, \"LongDescription\",, \"T\")","v":"Discover Financial Services"}]
["S.US.DG",{"$f":"RTD(\"cqg.rtd\", ,\"ContractData\",A135, \"LongDescription\",, \"T\")","v":"Dollar General Corporation"}]
["S.US.DGX",{"$f":"RTD(\"cqg.rtd\", ,\"ContractData\",A136, \"LongDescription\",, \"T\")","v":"Quest Diagnostics Inc"}]
["S.US.DHI",{"$f":"RTD(\"cqg.rtd\", ,\"ContractData\",A137, \"LongDescription\",, \"T\")","v":"DR Horton Inc"}]
["S.US.DHR",{"$f":"RTD(\"cqg.rtd\", ,\"ContractData\",A138, \"LongDescription\",, \"T\")","v":"Danaher Corporation"}]
["S.US.DIS",{"$f":"RTD(\"cqg.rtd\", ,\"ContractData\",A139, \"LongDescription\",, \"T\")","v":"Disney (Walt) Company"}]
["S.US.DISH",{"$f":"RTD(\"cqg.rtd\", ,\"ContractData\",A140, \"LongDescription\",, \"T\")","v":"DISH Network Corp."}]
["S.US.DLR",{"$f":"RTD(\"cqg.rtd\", ,\"ContractData\",A141, \"LongDescription\",, \"T\")","v":"Digital Realty"}]
["S.US.DLTR",{"$f":"RTD(\"cqg.rtd\", ,\"ContractData\",A142, \"LongDescription\",, \"T\")","v":"Dollar Tree Stores"}]
["S.US.DOV",{"$f":"RTD(\"cqg.rtd\", ,\"ContractData\",A143, \"LongDescription\",, \"T\")","v":"Dover Corporation"}]
["S.US.DOW",{"$f":"RTD(\"cqg.rtd\", ,\"ContractData\",A144, \"LongDescription\",, \"T\")","v":"Dow Inc."}]
["S.US.DPZ",{"$f":"RTD(\"cqg.rtd\", ,\"ContractData\",A145, \"LongDescription\",, \"T\")","v":"Dominos Pizza, Inc."}]
["S.US.DRE",{"$f":"RTD(\"cqg.rtd\", ,\"ContractData\",A146, \"LongDescription\",, \"T\")","v":"Duke Realty Corp"}]
["S.US.DRI",{"$f":"RTD(\"cqg.rtd\", ,\"ContractData\",A147, \"LongDescription\",, \"T\")","v":"Darden Restaurants Inc"}]
["S.US.DTE",{"$f":"RTD(\"cqg.rtd\", ,\"ContractData\",A148, \"LongDescription\",, \"T\")","v":"DTE Energy Corp"}]
["S.US.DUK",{"$f":"RTD(\"cqg.rtd\", ,\"ContractData\",A149, \"LongDescription\",, \"T\")","v":"Duke Energy Corp"}]
["S.US.DVA",{"$f":"RTD(\"cqg.rtd\", ,\"ContractData\",A150, \"LongDescription\",, \"T\")","v":"DaVita Inc."}]
["S.US.DVN",{"$f":"RTD(\"cqg.rtd\", ,\"ContractData\",A151, \"LongDescription\",, \"T\")","v":"Devon Energy Corp"}]
["S.US.DXC",{"$f":"RTD(\"cqg.rtd\", ,\"ContractData\",A152, \"LongDescription\",, \"T\")","v":"DXC Technology Company"}]
["S.US.DXCM",{"$f":"RTD(\"cqg.rtd\", ,\"ContractData\",A153, \"LongDescription\",, \"T\")","v":"DexCom Inc"}]
["S.US.EA",{"$f":"RTD(\"cqg.rtd\", ,\"ContractData\",A154, \"LongDescription\",, \"T\")","v":"Electronic Arts"}]
["S.US.EBAY",{"$f":"RTD(\"cqg.rtd\", ,\"ContractData\",A155, \"LongDescription\",, \"T\")","v":"eBay Inc"}]
["S.US.ECL",{"$f":"RTD(\"cqg.rtd\", ,\"ContractData\",A156, \"LongDescription\",, \"T\")","v":"Ecolab Inc"}]
["S.US.ED",{"$f":"RTD(\"cqg.rtd\", ,\"ContractData\",A157, \"LongDescription\",, \"T\")","v":"Consol Edison Hldg Co"}]
["S.US.EFX",{"$f":"RTD(\"cqg.rtd\", ,\"ContractData\",A158, \"LongDescription\",, \"T\")","v":"Equifax Inc"}]
["S.US.EIX",{"$f":"RTD(\"cqg.rtd\", ,\"ContractData\",A159, \"LongDescription\",, \"T\")","v":"Edison International"}]
["S.US.EL",{"$f":"RTD(\"cqg.rtd\", ,\"ContractData\",A160, \"LongDescription\",, \"T\")","v":"Estee Lauder Companies"}]
["S.US.EMBC",{"$f":"RTD(\"cqg.rtd\", ,\"ContractData\",A161, \"LongDescription\",, \"T\")","v":"Embecta Corp."}]
["S.US.EMN",{"$f":"RTD(\"cqg.rtd\", ,\"ContractData\",A162, \"LongDescription\",, \"T\")","v":"Eastman Chemical Co"}]
["S.US.EMR",{"$f":"RTD(\"cqg.rtd\", ,\"ContractData\",A163, \"LongDescription\",, \"T\")","v":"Emerson Electric Co"}]
["S.US.ENPH",{"$f":"RTD(\"cqg.rtd\", ,\"ContractData\",A164, \"LongDescription\",, \"T\")","v":"Enphase Energy, Inc."}]
["S.US.EOG",{"$f":"RTD(\"cqg.rtd\", ,\"ContractData\",A165, \"LongDescription\",, \"T\")","v":"EOG Resources"}]
["S.US.EPAM",{"$f":"RTD(\"cqg.rtd\", ,\"ContractData\",A166, \"LongDescription\",, \"T\")","v":"EPAM Systems, Inc."}]
["S.US.EQIX",{"$f":"RTD(\"cqg.rtd\", ,\"ContractData\",A167, \"LongDescription\",, \"T\")","v":"Equinix Inc"}]
["S.US.EQR",{"$f":"RTD(\"cqg.rtd\", ,\"ContractData\",A168, \"LongDescription\",, \"T\")","v":"Equity Residential Properties Trust"}]
["S.US.ES",{"$f":"RTD(\"cqg.rtd\", ,\"ContractData\",A169, \"LongDescription\",, \"T\")","v":"Eversource Energy"}]
["S.US.ESS",{"$f":"RTD(\"cqg.rtd\", ,\"ContractData\",A170, \"LongDescription\",, \"T\")","v":"Essex Property Trust Inc"}]
["S.US.ETN",{"$f":"RTD(\"cqg.rtd\", ,\"ContractData\",A171, \"LongDescription\",, \"T\")","v":"Eaton Corporation"}]
["S.US.ETR",{"$f":"RTD(\"cqg.rtd\", ,\"ContractData\",A172, \"LongDescription\",, \"T\")","v":"Entergy Corporation"}]
["S.US.ETSY",{"$f":"RTD(\"cqg.rtd\", ,\"ContractData\",A173, \"LongDescription\",, \"T\")","v":"Etsy, Inc."}]
["S.US.EVRG",{"$f":"RTD(\"cqg.rtd\", ,\"ContractData\",A174, \"LongDescription\",, \"T\")","v":"Evergy, Inc."}]
["S.US.EW",{"$f":"RTD(\"cqg.rtd\", ,\"ContractData\",A175, \"LongDescription\",, \"T\")","v":"Edwards LifeSciences"}]
["S.US.EXC",{"$f":"RTD(\"cqg.rtd\", ,\"ContractData\",A176, \"LongDescription\",, \"T\")","v":"Exelon Corporation"}]
["S.US.EXPD",{"$f":"RTD(\"cqg.rtd\", ,\"ContractData\",A177, \"LongDescription\",, \"T\")","v":"Expeditors Intl of WA Inc"}]
["S.US.EXPE",{"$f":"RTD(\"cqg.rtd\", ,\"ContractData\",A178, \"LongDescription\",, \"T\")","v":"Expedia Group, Inc."}]
["S.US.EXR",{"$f":"RTD(\"cqg.rtd\", ,\"ContractData\",A179, \"LongDescription\",, \"T\")","v":"Extra Space Storage Inc"}]
["S.US.F",{"$f":"RTD(\"cqg.rtd\", ,\"ContractData\",A180, \"LongDescription\",, \"T\")","v":"Ford Motor Company"}]
["S.US.FANG",{"$f":"RTD(\"cqg.rtd\", ,\"ContractData\",A181, \"LongDescription\",, \"T\")","v":"Diamondback Energy, Inc."}]
["S.US.FAST",{"$f":"RTD(\"cqg.rtd\", ,\"ContractData\",A182, \"LongDescription\",, \"T\")","v":"Fastenal Co"}]
["S.US.FB",{"$f":"RTD(\"cqg.rtd\", ,\"ContractData\",A183, \"LongDescription\",, \"T\")","v":"Meta Platforms, Inc."}]
["S.US.FBHS",{"$f":"RTD(\"cqg.rtd\", ,\"ContractData\",A184, \"LongDescription\",, \"T\")","v":"Fortune Brands Home & Security, Inc."}]
["S.US.FCX",{"$f":"RTD(\"cqg.rtd\", ,\"ContractData\",A185, \"LongDescription\",, \"T\")","v":"Freeport-McMoRan Inc."}]
["S.US.FDS",{"$f":"RTD(\"cqg.rtd\", ,\"ContractData\",A186, \"LongDescription\",, \"T\")","v":"Factet Research"}]
["S.US.FDX",{"$f":"RTD(\"cqg.rtd\", ,\"ContractData\",A187, \"LongDescription\",, \"T\")","v":"FedEx Corp"}]
["S.US.FE",{"$f":"RTD(\"cqg.rtd\", ,\"ContractData\",A188, \"LongDescription\",, \"T\")","v":"FirstEnergy Corp"}]
["S.US.FFIV",{"$f":"RTD(\"cqg.rtd\", ,\"ContractData\",A189, \"LongDescription\",, \"T\")","v":"F5, Inc."}]
["S.US.FIS",{"$f":"RTD(\"cqg.rtd\", ,\"ContractData\",A190, \"LongDescription\",, \"T\")","v":"Fidelity National Info Services"}]
["S.US.FISV",{"$f":"RTD(\"cqg.rtd\", ,\"ContractData\",A191, \"LongDescription\",, \"T\")","v":"FISERV Inc"}]
["S.US.FITB",{"$f":"RTD(\"cqg.rtd\", ,\"ContractData\",A192, \"LongDescription\",, \"T\")","v":"Fifth Third Bancorp"}]
["S.US.FLT",{"$f":"RTD(\"cqg.rtd\", ,\"ContractData\",A193, \"LongDescription\",, \"T\")","v":"Fleetcor Technologies, Inc."}]
["S.US.FMC",{"$f":"RTD(\"cqg.rtd\", ,\"ContractData\",A194, \"LongDescription\",, \"T\")","v":"FMC Corporation"}]
["S.US.FOX",{"$f":"RTD(\"cqg.rtd\", ,\"ContractData\",A195, \"LongDescription\",, \"T\")","v":"Fox Corporation"}]
["S.US.FOXA",{"$f":"RTD(\"cqg.rtd\", ,\"ContractData\",A196, \"LongDescription\",, \"T\")","v":"Fox Corporation Class A"}]
["S.US.FRC",{"$f":"RTD(\"cqg.rtd\", ,\"ContractData\",A197, \"LongDescription\",, \"T\")","v":"First Republic Bank"}]
["S.US.FRT",{"$f":"RTD(\"cqg.rtd\", ,\"ContractData\",A198, \"LongDescription\",, \"T\")","v":"Federal Realty Invstmt Trst"}]
["S.US.FTNT",{"$f":"RTD(\"cqg.rtd\", ,\"ContractData\",A199, \"LongDescription\",, \"T\")","v":"Fortinet, Inc."}]
["S.US.FTV",{"$f":"RTD(\"cqg.rtd\", ,\"ContractData\",A200, \"LongDescription\",, \"T\")","v":"Fortive Corporation"}]
["S.US.GD",{"$f":"RTD(\"cqg.rtd\", ,\"ContractData\",A201, \"LongDescription\",, \"T\")","v":"General Dynamics Corp"}]
["S.US.GE",{"$f":"RTD(\"cqg.rtd\", ,\"ContractData\",A202, \"LongDescription\",, \"T\")","v":"General Electric Co"}]
["S.US.GILD",{"$f":"RTD(\"cqg.rtd\", ,\"ContractData\",A203, \"LongDescription\",, \"T\")","v":"Gilead Sciences Inc"}]
["S.US.GIS",{"$f":"RTD(\"cqg.rtd\", ,\"ContractData\",A204, \"LongDescription\",, \"T\")","v":"General Mills Inc"}]
["S.US.GL",{"$f":"RTD(\"cqg.rtd\", ,\"ContractData\",A205, \"LongDescription\",, \"T\")","v":"Globe Life Inc."}]
["S.US.GLW",{"$f":"RTD(\"cqg.rtd\", ,\"ContractData\",A206, \"LongDescription\",, \"T\")","v":"Corning Incorporated"}]
["S.US.GM",{"$f":"RTD(\"cqg.rtd\", ,\"ContractData\",A207, \"LongDescription\",, \"T\")","v":"General Motors Company"}]
["S.US.GNRC",{"$f":"RTD(\"cqg.rtd\", ,\"ContractData\",A208, \"LongDescription\",, \"T\")","v":"Generac Holdings Inc."}]
["S.US.GOOG",{"$f":"RTD(\"cqg.rtd\", ,\"ContractData\",A209, \"LongDescription\",, \"T\")","v":"Alphabet, Inc. Class C"}]
["S.US.GOOGL",{"$f":"RTD(\"cqg.rtd\", ,\"ContractData\",A210, \"LongDescription\",, \"T\")","v":"Alphabet, Inc. Class A"}]
["S.US.GPC",{"$f":"RTD(\"cqg.rtd\", ,\"ContractData\",A211, \"LongDescription\",, \"T\")","v":"Genuine Parts Company"}]
["S.US.GPN",{"$f":"RTD(\"cqg.rtd\", ,\"ContractData\",A212, \"LongDescription\",, \"T\")","v":"Global Payments"}]
["S.US.GRMN",{"$f":"RTD(\"cqg.rtd\", ,\"ContractData\",A213, \"LongDescription\",, \"T\")","v":"Garmin Ltd"}]
["S.US.GS",{"$f":"RTD(\"cqg.rtd\", ,\"ContractData\",A214, \"LongDescription\",, \"T\")","v":"Goldman Sachs Group"}]
["S.US.GWW",{"$f":"RTD(\"cqg.rtd\", ,\"ContractData\",A215, \"LongDescription\",, \"T\")","v":"Grainger (WW) Inc"}]
["S.US.HAL",{"$f":"RTD(\"cqg.rtd\", ,\"ContractData\",A216, \"LongDescription\",, \"T\")","v":"Halliburton Company"}]
["S.US.HAS",{"$f":"RTD(\"cqg.rtd\", ,\"ContractData\",A217, \"LongDescription\",, \"T\")","v":"Hasbro Inc"}]
["S.US.HBAN",{"$f":"RTD(\"cqg.rtd\", ,\"ContractData\",A218, \"LongDescription\",, \"T\")","v":"Huntington Bancshrs Inc"}]
["S.US.HCA",{"$f":"RTD(\"cqg.rtd\", ,\"ContractData\",A219, \"LongDescription\",, \"T\")","v":"HCA Holdings Inc."}]
["S.US.HD",{"$f":"RTD(\"cqg.rtd\", ,\"ContractData\",A220, \"LongDescription\",, \"T\")","v":"Home Depot, Inc."}]
["S.US.HES",{"$f":"RTD(\"cqg.rtd\", ,\"ContractData\",A221, \"LongDescription\",, \"T\")","v":"Hess Corporation"}]
["S.US.HIG",{"$f":"RTD(\"cqg.rtd\", ,\"ContractData\",A222, \"LongDescription\",, \"T\")","v":"The Hartford Fincl Svcs Grp"}]
["S.US.HII",{"$f":"RTD(\"cqg.rtd\", ,\"ContractData\",A223, \"LongDescription\",, \"T\")","v":"Huntington Ingalls Industries"}]
["S.US.HLT",{"$f":"RTD(\"cqg.rtd\", ,\"ContractData\",A224, \"LongDescription\",, \"T\")","v":"Hilton Inc."}]
["S.US.HOLX",{"$f":"RTD(\"cqg.rtd\", ,\"ContractData\",A225, \"LongDescription\",, \"T\")","v":"Hologic Inc"}]
["S.US.HON",{"$f":"RTD(\"cqg.rtd\", ,\"ContractData\",A226, \"LongDescription\",, \"T\")","v":"Honeywell Intl"}]
["S.US.HPE",{"$f":"RTD(\"cqg.rtd\", ,\"ContractData\",A227, \"LongDescription\",, \"T\")","v":"Hewlett Packard Enterprise Company"}]
["S.US.HPQ",{"$f":"RTD(\"cqg.rtd\", ,\"ContractData\",A228, \"LongDescription\",, \"T\")","v":"Hewlett-Packard Company"}]
["S.US.HRL",{"$f":"RTD(\"cqg.rtd\", ,\"ContractData\",A229, \"LongDescription\",, \"T\")","v":"Hormel Foods Corp"}]
["S.US.HSIC",{"$f":"RTD(\"cqg.rtd\", ,\"ContractData\",A230, \"LongDescription\",, \"T\")","v":"Henry Schein Inc"}]
["S.US.HST",{"$f":"RTD(\"cqg.rtd\", ,\"ContractData\",A231, \"LongDescription\",, \"T\")","v":"Host Hotels & Resorts Inc"}]
["S.US.HSY",{"$f":"RTD(\"cqg.rtd\", ,\"ContractData\",A232, \"LongDescription\",, \"T\")","v":"Hershey Foods Corp"}]
["S.US.HUM",{"$f":"RTD(\"cqg.rtd\", ,\"ContractData\",A233, \"LongDescription\",, \"T\")","v":"Humana Inc"}]
["S.US.HWM",{"$f":"RTD(\"cqg.rtd\", ,\"ContractData\",A234, \"LongDescription\",, \"T\")","v":"Howmet Aerospace Inc."}]
["S.US.IBM",{"$f":"RTD(\"cqg.rtd\", ,\"ContractData\",A235, \"LongDescription\",, \"T\")","v":"International Business Machines"}]
["S.US.ICE",{"$f":"RTD(\"cqg.rtd\", ,\"ContractData\",A236, \"LongDescription\",, \"T\")","v":"Intercontinental, Inc."}]
["S.US.IDXX",{"$f":"RTD(\"cqg.rtd\", ,\"ContractData\",A237, \"LongDescription\",, \"T\")","v":"IDEXX Laboratories Inc"}]
["S.US.IEX",{"$f":"RTD(\"cqg.rtd\", ,\"ContractData\",A238, \"LongDescription\",, \"T\")","v":"Idex Corp"}]
["S.US.IFF",{"$f":"RTD(\"cqg.rtd\", ,\"ContractData\",A239, \"LongDescription\",, \"T\")","v":"Intl Flvrs & Fragrances"}]
["S.US.ILMN",{"$f":"RTD(\"cqg.rtd\", ,\"ContractData\",A240, \"LongDescription\",, \"T\")","v":"Illumina Inc"}]
["S.US.INCY",{"$f":"RTD(\"cqg.rtd\", ,\"ContractData\",A241, \"LongDescription\",, \"T\")","v":"Incyte Corporation"}]
["S.US.INTC",{"$f":"RTD(\"cqg.rtd\", ,\"ContractData\",A242, \"LongDescription\",, \"T\")","v":"Intel Corporation"}]
["S.US.INTU",{"$f":"RTD(\"cqg.rtd\", ,\"ContractData\",A243, \"LongDescription\",, \"T\")","v":"Intuit Corp"}]
["S.US.IP",{"$f":"RTD(\"cqg.rtd\", ,\"ContractData\",A244, \"LongDescription\",, \"T\")","v":"International Paper Co"}]
["S.US.IPG",{"$f":"RTD(\"cqg.rtd\", ,\"ContractData\",A245, \"LongDescription\",, \"T\")","v":"Interpublic Grp of Cos"}]
["S.US.IPGP",{"$f":"RTD(\"cqg.rtd\", ,\"ContractData\",A246, \"LongDescription\",, \"T\")","v":"IPG Photonics Corporation"}]
["S.US.IQV",{"$f":"RTD(\"cqg.rtd\", ,\"ContractData\",A247, \"LongDescription\",, \"T\")","v":"IQVIA Holdings, Inc."}]
["S.US.IR",{"$f":"RTD(\"cqg.rtd\", ,\"ContractData\",A248, \"LongDescription\",, \"T\")","v":"Ingersoll Rand Inc."}]
["S.US.IRM",{"$f":"RTD(\"cqg.rtd\", ,\"ContractData\",A249, \"LongDescription\",, \"T\")","v":"Iron Mountain Inc"}]
["S.US.ISRG",{"$f":"RTD(\"cqg.rtd\", ,\"ContractData\",A250, \"LongDescription\",, \"T\")","v":"Intuitive Surgical Inc"}]
["S.US.IT",{"$f":"RTD(\"cqg.rtd\", ,\"ContractData\",A251, \"LongDescription\",, \"T\")","v":"Gartner Group"}]
["S.US.ITW",{"$f":"RTD(\"cqg.rtd\", ,\"ContractData\",A252, \"LongDescription\",, \"T\")","v":"Illinois Tools Works Inc"}]
["S.US.IVZ",{"$f":"RTD(\"cqg.rtd\", ,\"ContractData\",A253, \"LongDescription\",, \"T\")","v":"Invesco Ltd."}]
["S.US.J",{"$f":"RTD(\"cqg.rtd\", ,\"ContractData\",A254, \"LongDescription\",, \"T\")","v":"Jacobs Engineering Group, Inc."}]
["S.US.JBHT",{"$f":"RTD(\"cqg.rtd\", ,\"ContractData\",A255, \"LongDescription\",, \"T\")","v":"Hunt (JB) Transport Svcs"}]
["S.US.JCI",{"$f":"RTD(\"cqg.rtd\", ,\"ContractData\",A256, \"LongDescription\",, \"T\")","v":"Johnson Controls International plc"}]
["S.US.JKHY",{"$f":"RTD(\"cqg.rtd\", ,\"ContractData\",A257, \"LongDescription\",, \"T\")","v":"Jack Henry/Associates Inc"}]
["S.US.JNJ",{"$f":"RTD(\"cqg.rtd\", ,\"ContractData\",A258, \"LongDescription\",, \"T\")","v":"Johnson & Johnson"}]
["S.US.JNPR",{"$f":"RTD(\"cqg.rtd\", ,\"ContractData\",A259, \"LongDescription\",, \"T\")","v":"Juniper Networks, Inc."}]
["S.US.JPM",{"$f":"RTD(\"cqg.rtd\", ,\"ContractData\",A260, \"LongDescription\",, \"T\")","v":"JPMorgan Chase & Co."}]
["S.US.K",{"$f":"RTD(\"cqg.rtd\", ,\"ContractData\",A261, \"LongDescription\",, \"T\")","v":"Kellogg Company"}]
["S.US.KEY",{"$f":"RTD(\"cqg.rtd\", ,\"ContractData\",A262, \"LongDescription\",, \"T\")","v":"KeyCorp"}]
["S.US.KEYS",{"$f":"RTD(\"cqg.rtd\", ,\"ContractData\",A263, \"LongDescription\",, \"T\")","v":"Keysight Technologies Inc."}]
["S.US.KHC",{"$f":"RTD(\"cqg.rtd\", ,\"ContractData\",A264, \"LongDescription\",, \"T\")","v":"The Kraft Heinz Company"}]
["S.US.KIM",{"$f":"RTD(\"cqg.rtd\", ,\"ContractData\",A265, \"LongDescription\",, \"T\")","v":"Kimco Realty Corp"}]
["S.US.KLAC",{"$f":"RTD(\"cqg.rtd\", ,\"ContractData\",A266, \"LongDescription\",, \"T\")","v":"KLA Corporation"}]
["S.US.KMB",{"$f":"RTD(\"cqg.rtd\", ,\"ContractData\",A267, \"LongDescription\",, \"T\")","v":"Kimberly-Clark Corp"}]
["S.US.KMI",{"$f":"RTD(\"cqg.rtd\", ,\"ContractData\",A268, \"LongDescription\",, \"T\")","v":"Kinder Morgan, Inc."}]
["S.US.KMX",{"$f":"RTD(\"cqg.rtd\", ,\"ContractData\",A269, \"LongDescription\",, \"T\")","v":"Carmax Inc"}]
["S.US.KO",{"$f":"RTD(\"cqg.rtd\", ,\"ContractData\",A270, \"LongDescription\",, \"T\")","v":"Coca-Cola Company"}]
["S.US.KR",{"$f":"RTD(\"cqg.rtd\", ,\"ContractData\",A271, \"LongDescription\",, \"T\")","v":"Kroger Co (The)"}]
["S.US.L",{"$f":"RTD(\"cqg.rtd\", ,\"ContractData\",A272, \"LongDescription\",, \"T\")","v":"Loews Corporation"}]
["S.US.LDOS",{"$f":"RTD(\"cqg.rtd\", ,\"ContractData\",A273, \"LongDescription\",, \"T\")","v":"Leidos Holdings, Inc."}]
["S.US.LEN",{"$f":"RTD(\"cqg.rtd\", ,\"ContractData\",A274, \"LongDescription\",, \"T\")","v":"Lennar Corp"}]
["S.US.LH",{"$f":"RTD(\"cqg.rtd\", ,\"ContractData\",A275, \"LongDescription\",, \"T\")","v":"Laboratory Corp of Amer"}]
["S.US.LHX",{"$f":"RTD(\"cqg.rtd\", ,\"ContractData\",A276, \"LongDescription\",, \"T\")","v":"L3Harris Technologies, Inc."}]
["S.US.LIN",{"$f":"RTD(\"cqg.rtd\", ,\"ContractData\",A277, \"LongDescription\",, \"T\")","v":"Linde PLC"}]
["S.US.LKQ",{"$f":"RTD(\"cqg.rtd\", ,\"ContractData\",A278, \"LongDescription\",, \"T\")","v":"LKQ Corporation"}]
["S.US.LLY",{"$f":"RTD(\"cqg.rtd\", ,\"ContractData\",A279, \"LongDescription\",, \"T\")","v":"Lilly (Eli) & Company"}]
["S.US.LMT",{"$f":"RTD(\"cqg.rtd\", ,\"ContractData\",A280, \"LongDescription\",, \"T\")","v":"Lockheed Martin Corp"}]
["S.US.LNC",{"$f":"RTD(\"cqg.rtd\", ,\"ContractData\",A281, \"LongDescription\",, \"T\")","v":"Lincoln National Corp"}]
["S.US.LNT",{"$f":"RTD(\"cqg.rtd\", ,\"ContractData\",A282, \"LongDescription\",, \"T\")","v":"Alliant Energy Corp"}]
["S.US.LOW",{"$f":"RTD(\"cqg.rtd\", ,\"ContractData\",A283, \"LongDescription\",, \"T\")","v":"Lowes Companies Inc"}]
["S.US.LRCX",{"$f":"RTD(\"cqg.rtd\", ,\"ContractData\",A284, \"LongDescription\",, \"T\")","v":"LAM Research Corporation"}]
["S.US.LUMN",{"$f":"RTD(\"cqg.rtd\", ,\"ContractData\",A285, \"LongDescription\",, \"T\")","v":"CenturyLink, Inc."}]
["S.US.LUV",{"$f":"RTD(\"cqg.rtd\", ,\"ContractData\",A286, \"LongDescription\",, \"T\")","v":"Southwest Airlines Co"}]
["S.US.LVS",{"$f":"RTD(\"cqg.rtd\", ,\"ContractData\",A287, \"LongDescription\",, \"T\")","v":"Las Vegas Sands Corp"}]
["S.US.LW",{"$f":"RTD(\"cqg.rtd\", ,\"ContractData\",A288, \"LongDescription\",, \"T\")","v":"Lamb Weston Holdings, Inc."}]
["S.US.LYB",{"$f":"RTD(\"cqg.rtd\", ,\"ContractData\",A289, \"LongDescription\",, \"T\")","v":"LyondellBasell Industries NV Class A"}]
["S.US.LYV",{"$f":"RTD(\"cqg.rtd\", ,\"ContractData\",A290, \"LongDescription\",, \"T\")","v":"Live Nation Entertainment Inc"}]
["S.US.MA",{"$f":"RTD(\"cqg.rtd\", ,\"ContractData\",A291, \"LongDescription\",, \"T\")","v":"Mastercard Inc."}]
["S.US.MAA",{"$f":"RTD(\"cqg.rtd\", ,\"ContractData\",A292, \"LongDescription\",, \"T\")","v":"Mid-America Apt Communities Inc"}]
["S.US.MAR",{"$f":"RTD(\"cqg.rtd\", ,\"ContractData\",A293, \"LongDescription\",, \"T\")","v":"Marriot International, Inc."}]
["S.US.MAS",{"$f":"RTD(\"cqg.rtd\", ,\"ContractData\",A294, \"LongDescription\",, \"T\")","v":"Masco Corporation"}]
["S.US.MCD",{"$f":"RTD(\"cqg.rtd\", ,\"ContractData\",A295, \"LongDescription\",, \"T\")","v":"McDonald's Corporation"}]
["S.US.MCHP",{"$f":"RTD(\"cqg.rtd\", ,\"ContractData\",A296, \"LongDescription\",, \"T\")","v":"Microchip Technology Inc"}]
["S.US.MCK",{"$f":"RTD(\"cqg.rtd\", ,\"ContractData\",A297, \"LongDescription\",, \"T\")","v":"McKesson Corporation"}]
["S.US.MCO",{"$f":"RTD(\"cqg.rtd\", ,\"ContractData\",A298, \"LongDescription\",, \"T\")","v":"Moodys Corp"}]
["S.US.MDLZ",{"$f":"RTD(\"cqg.rtd\", ,\"ContractData\",A299, \"LongDescription\",, \"T\")","v":"Mondelez International, Inc."}]
["S.US.MDT",{"$f":"RTD(\"cqg.rtd\", ,\"ContractData\",A300, \"LongDescription\",, \"T\")","v":"Medtronic Inc"}]
["S.US.MET",{"$f":"RTD(\"cqg.rtd\", ,\"ContractData\",A301, \"LongDescription\",, \"T\")","v":"MetLife Inc"}]
["S.US.MGM",{"$f":"RTD(\"cqg.rtd\", ,\"ContractData\",A302, \"LongDescription\",, \"T\")","v":"MGM Resorts International"}]
["S.US.MHK",{"$f":"RTD(\"cqg.rtd\", ,\"ContractData\",A303, \"LongDescription\",, \"T\")","v":"Mohawk Industries Inc"}]
["S.US.MKC",{"$f":"RTD(\"cqg.rtd\", ,\"ContractData\",A304, \"LongDescription\",, \"T\")","v":"McCormick & Company Inc"}]
["S.US.MKTX",{"$f":"RTD(\"cqg.rtd\", ,\"ContractData\",A305, \"LongDescription\",, \"T\")","v":"MarketAxcess Inc"}]
["S.US.MLM",{"$f":"RTD(\"cqg.rtd\", ,\"ContractData\",A306, \"LongDescription\",, \"T\")","v":"Martin Marietta Materials Inc"}]
["S.US.MMC",{"$f":"RTD(\"cqg.rtd\", ,\"ContractData\",A307, \"LongDescription\",, \"T\")","v":"Marsh & McLennan Cos Inc"}]
["S.US.MMM",{"$f":"RTD(\"cqg.rtd\", ,\"ContractData\",A308, \"LongDescription\",, \"T\")","v":"3M Company"}]
["S.US.MNST",{"$f":"RTD(\"cqg.rtd\", ,\"ContractData\",A309, \"LongDescription\",, \"T\")","v":"Monster Beverage Corporation"}]
["S.US.MO",{"$f":"RTD(\"cqg.rtd\", ,\"ContractData\",A310, \"LongDescription\",, \"T\")","v":"Altria Group Inc"}]
["S.US.MOH",{"$f":"RTD(\"cqg.rtd\", ,\"ContractData\",A311, \"LongDescription\",, \"T\")","v":"Mohlina Heathcare Inc"}]
["S.US.MOS",{"$f":"RTD(\"cqg.rtd\", ,\"ContractData\",A312, \"LongDescription\",, \"T\")","v":"Mosaic Company"}]
["S.US.MPC",{"$f":"RTD(\"cqg.rtd\", ,\"ContractData\",A313, \"LongDescription\",, \"T\")","v":"Marathon Petroleum Corporation"}]
["S.US.MPWR",{"$f":"RTD(\"cqg.rtd\", ,\"ContractData\",A314, \"LongDescription\",, \"T\")","v":"Monolithic Power Systems Inc"}]
["S.US.MRK",{"$f":"RTD(\"cqg.rtd\", ,\"ContractData\",A315, \"LongDescription\",, \"T\")","v":"Merck & Co Inc"}]
["S.US.MRNA",{"$f":"RTD(\"cqg.rtd\", ,\"ContractData\",A316, \"LongDescription\",, \"T\")","v":"Moderna, Inc."}]
["S.US.MRO",{"$f":"RTD(\"cqg.rtd\", ,\"ContractData\",A317, \"LongDescription\",, \"T\")","v":"Marathon Oil Corporation"}]
["S.US.MS",{"$f":"RTD(\"cqg.rtd\", ,\"ContractData\",A318, \"LongDescription\",, \"T\")","v":"Morgan Stanley"}]
["S.US.MSCI",{"$f":"RTD(\"cqg.rtd\", ,\"ContractData\",A319, \"LongDescription\",, \"T\")","v":"MSCI, Inc."}]
["S.US.MSFT",{"$f":"RTD(\"cqg.rtd\", ,\"ContractData\",A320, \"LongDescription\",, \"T\")","v":"Microsoft Corporation"}]
["S.US.MSI",{"$f":"RTD(\"cqg.rtd\", ,\"ContractData\",A321, \"LongDescription\",, \"T\")","v":"Motorola Solutions, Inc."}]
["S.US.MTB",{"$f":"RTD(\"cqg.rtd\", ,\"ContractData\",A322, \"LongDescription\",, \"T\")","v":"M&T Bank Corp"}]
["S.US.MTCH",{"$f":"RTD(\"cqg.rtd\", ,\"ContractData\",A323, \"LongDescription\",, \"T\")","v":"Match Group, Inc."}]
["S.US.MTD",{"$f":"RTD(\"cqg.rtd\", ,\"ContractData\",A324, \"LongDescription\",, \"T\")","v":"Mettler-Toledo Internatl Inc"}]
["S.US.MU",{"$f":"RTD(\"cqg.rtd\", ,\"ContractData\",A325, \"LongDescription\",, \"T\")","v":"Micron Technology Inc"}]
["S.US.NCLH",{"$f":"RTD(\"cqg.rtd\", ,\"ContractData\",A326, \"LongDescription\",, \"T\")","v":"Norwegian Cruise Line"}]
["S.US.NDAQ",{"$f":"RTD(\"cqg.rtd\", ,\"ContractData\",A327, \"LongDescription\",, \"T\")","v":"Nasdaq, Inc."}]
["S.US.NDSN",{"$f":"RTD(\"cqg.rtd\", ,\"ContractData\",A328, \"LongDescription\",, \"T\")","v":"Nordson Corporation"}]
["S.US.NEE",{"$f":"RTD(\"cqg.rtd\", ,\"ContractData\",A329, \"LongDescription\",, \"T\")","v":"Nextera Energy, Inc."}]
["S.US.NEM",{"$f":"RTD(\"cqg.rtd\", ,\"ContractData\",A330, \"LongDescription\",, \"T\")","v":"Newmont Goldcorp Corporation"}]
["S.US.NFLX",{"$f":"RTD(\"cqg.rtd\", ,\"ContractData\",A331, \"LongDescription\",, \"T\")","v":"Netflix Inc"}]
["S.US.NI",{"$f":"RTD(\"cqg.rtd\", ,\"ContractData\",A332, \"LongDescription\",, \"T\")","v":"NiSource Inc"}]
["S.US.NKE",{"$f":"RTD(\"cqg.rtd\", ,\"ContractData\",A333, \"LongDescription\",, \"T\")","v":"NIKE Inc ClsB"}]
["S.US.NLOK",{"$f":"RTD(\"cqg.rtd\", ,\"ContractData\",A334, \"LongDescription\",, \"T\")","v":"NortonLifeLock Inc."}]
["S.US.NLSN",{"$f":"RTD(\"cqg.rtd\", ,\"ContractData\",A335, \"LongDescription\",, \"T\")","v":"Nielsen N.V."}]
["S.US.NOC",{"$f":"RTD(\"cqg.rtd\", ,\"ContractData\",A336, \"LongDescription\",, \"T\")","v":"Northrop Grumman Corporation"}]
["S.US.NOW",{"$f":"RTD(\"cqg.rtd\", ,\"ContractData\",A337, \"LongDescription\",, \"T\")","v":"ServiceNow, Inc."}]
["S.US.NRG",{"$f":"RTD(\"cqg.rtd\", ,\"ContractData\",A338, \"LongDescription\",, \"T\")","v":"NRG Energy Inc"}]
["S.US.NSC",{"$f":"RTD(\"cqg.rtd\", ,\"ContractData\",A339, \"LongDescription\",, \"T\")","v":"Norfolk Southern Corp"}]
["S.US.NTAP",{"$f":"RTD(\"cqg.rtd\", ,\"ContractData\",A340, \"LongDescription\",, \"T\")","v":"NetApp inc."}]
["S.US.NTRS",{"$f":"RTD(\"cqg.rtd\", ,\"ContractData\",A341, \"LongDescription\",, \"T\")","v":"Northern Trust Corp"}]
["S.US.NUE",{"$f":"RTD(\"cqg.rtd\", ,\"ContractData\",A342, \"LongDescription\",, \"T\")","v":"Nucor Corp"}]
["S.US.NVDA",{"$f":"RTD(\"cqg.rtd\", ,\"ContractData\",A343, \"LongDescription\",, \"T\")","v":"NVIDIA Corp"}]
["S.US.NVR",{"$f":"RTD(\"cqg.rtd\", ,\"ContractData\",A344, \"LongDescription\",, \"T\")","v":"NVR Inc"}]
["S.US.NWL",{"$f":"RTD(\"cqg.rtd\", ,\"ContractData\",A345, \"LongDescription\",, \"T\")","v":"Newell Brands Inc."}]
["S.US.NWS",{"$f":"RTD(\"cqg.rtd\", ,\"ContractData\",A346, \"LongDescription\",, \"T\")","v":"News Corporation Class B"}]
["S.US.NWSA",{"$f":"RTD(\"cqg.rtd\", ,\"ContractData\",A347, \"LongDescription\",, \"T\")","v":"News Corporation Class A"}]
["S.US.NXPI",{"$f":"RTD(\"cqg.rtd\", ,\"ContractData\",A348, \"LongDescription\",, \"T\")","v":"NXP Semiconductors N.V."}]
["S.US.O",{"$f":"RTD(\"cqg.rtd\", ,\"ContractData\",A349, \"LongDescription\",, \"T\")","v":"Realty Income Corp"}]
["S.US.ODFL",{"$f":"RTD(\"cqg.rtd\", ,\"ContractData\",A350, \"LongDescription\",, \"T\")","v":"Old Dominion Freight Line Inc"}]
["S.US.OGN",{"$f":"RTD(\"cqg.rtd\", ,\"ContractData\",A351, \"LongDescription\",, \"T\")","v":"Organon & Co."}]
["S.US.OKE",{"$f":"RTD(\"cqg.rtd\", ,\"ContractData\",A352, \"LongDescription\",, \"T\")","v":"ONEOK Inc New"}]
["S.US.OMC",{"$f":"RTD(\"cqg.rtd\", ,\"ContractData\",A353, \"LongDescription\",, \"T\")","v":"Omnicom Group Inc"}]
["S.US.ORCL",{"$f":"RTD(\"cqg.rtd\", ,\"ContractData\",A354, \"LongDescription\",, \"T\")","v":"Oracle Corporation"}]
["S.US.ORLY",{"$f":"RTD(\"cqg.rtd\", ,\"ContractData\",A355, \"LongDescription\",, \"T\")","v":"OReilly Automotive Inc"}]
["S.US.OTIS",{"$f":"RTD(\"cqg.rtd\", ,\"ContractData\",A356, \"LongDescription\",, \"T\")","v":"Otis Worldwide Corporation"}]
["S.US.OXY",{"$f":"RTD(\"cqg.rtd\", ,\"ContractData\",A357, \"LongDescription\",, \"T\")","v":"Occidental Petroleum"}]
["S.US.PARA",{"$f":"RTD(\"cqg.rtd\", ,\"ContractData\",A358, \"LongDescription\",, \"T\")","v":"Paramount Global Class B"}]
["S.US.PAYC",{"$f":"RTD(\"cqg.rtd\", ,\"ContractData\",A359, \"LongDescription\",, \"T\")","v":"Paycom Software, Inc."}]
["S.US.PAYX",{"$f":"RTD(\"cqg.rtd\", ,\"ContractData\",A360, \"LongDescription\",, \"T\")","v":"Paychex Inc"}]
["S.US.PCAR",{"$f":"RTD(\"cqg.rtd\", ,\"ContractData\",A361, \"LongDescription\",, \"T\")","v":"PACCAR Inc"}]
["S.US.PEAK",{"$f":"RTD(\"cqg.rtd\", ,\"ContractData\",A362, \"LongDescription\",, \"T\")","v":"Healthpeak Properties, Inc."}]
["S.US.PEG",{"$f":"RTD(\"cqg.rtd\", ,\"ContractData\",A363, \"LongDescription\",, \"T\")","v":"Pub Svc Entrpr Grp Inc"}]
["S.US.PENN",{"$f":"RTD(\"cqg.rtd\", ,\"ContractData\",A364, \"LongDescription\",, \"T\")","v":"Penn National Gaming Inc"}]
["S.US.PEP",{"$f":"RTD(\"cqg.rtd\", ,\"ContractData\",A365, \"LongDescription\",, \"T\")","v":"PepsiCo Inc"}]
["S.US.PFE",{"$f":"RTD(\"cqg.rtd\", ,\"ContractData\",A366, \"LongDescription\",, \"T\")","v":"Pfizer Inc"}]
["S.US.PFG",{"$f":"RTD(\"cqg.rtd\", ,\"ContractData\",A367, \"LongDescription\",, \"T\")","v":"Principal Financial Group"}]
["S.US.PG",{"$f":"RTD(\"cqg.rtd\", ,\"ContractData\",A368, \"LongDescription\",, \"T\")","v":"Procter & Gamble Co"}]
["S.US.PGR",{"$f":"RTD(\"cqg.rtd\", ,\"ContractData\",A369, \"LongDescription\",, \"T\")","v":"Progressive Corp"}]
["S.US.PH",{"$f":"RTD(\"cqg.rtd\", ,\"ContractData\",A370, \"LongDescription\",, \"T\")","v":"Parker-Hannifin Corp"}]
["S.US.PHM",{"$f":"RTD(\"cqg.rtd\", ,\"ContractData\",A371, \"LongDescription\",, \"T\")","v":"PulteGroup Inc"}]
["S.US.PKG",{"$f":"RTD(\"cqg.rtd\", ,\"ContractData\",A372, \"LongDescription\",, \"T\")","v":"Packaging Corp of America"}]
["S.US.PKI",{"$f":"RTD(\"cqg.rtd\", ,\"ContractData\",A373, \"LongDescription\",, \"T\")","v":"PerkinElmer Inc"}]
["S.US.PLD",{"$f":"RTD(\"cqg.rtd\", ,\"ContractData\",A374, \"LongDescription\",, \"T\")","v":"Prologis, Inc"}]
["S.US.PM",{"$f":"RTD(\"cqg.rtd\", ,\"ContractData\",A375, \"LongDescription\",, \"T\")","v":"Philip Morris International"}]
["S.US.PNC",{"$f":"RTD(\"cqg.rtd\", ,\"ContractData\",A376, \"LongDescription\",, \"T\")","v":"PNC Fincl Svcs Grp Inc"}]
["S.US.PNR",{"$f":"RTD(\"cqg.rtd\", ,\"ContractData\",A377, \"LongDescription\",, \"T\")","v":"Pentair Ltd."}]
["S.US.PNW",{"$f":"RTD(\"cqg.rtd\", ,\"ContractData\",A378, \"LongDescription\",, \"T\")","v":"Pinnacle West Captl Corp"}]
["S.US.POOL",{"$f":"RTD(\"cqg.rtd\", ,\"ContractData\",A379, \"LongDescription\",, \"T\")","v":"Pool Corporation"}]
["S.US.PPG",{"$f":"RTD(\"cqg.rtd\", ,\"ContractData\",A380, \"LongDescription\",, \"T\")","v":"PPG Industries Inc"}]
["S.US.PPL",{"$f":"RTD(\"cqg.rtd\", ,\"ContractData\",A381, \"LongDescription\",, \"T\")","v":"PPL Corp"}]
["S.US.PRU",{"$f":"RTD(\"cqg.rtd\", ,\"ContractData\",A382, \"LongDescription\",, \"T\")","v":"Prudential Financial Inc"}]
["S.US.PSA",{"$f":"RTD(\"cqg.rtd\", ,\"ContractData\",A383, \"LongDescription\",, \"T\")","v":"Public Storage Inc"}]
["S.US.PSX",{"$f":"RTD(\"cqg.rtd\", ,\"ContractData\",A384, \"LongDescription\",, \"T\")","v":"Phillips 66 Common Stock"}]
["S.US.PTC",{"$f":"RTD(\"cqg.rtd\", ,\"ContractData\",A385, \"LongDescription\",, \"T\")","v":"PTC Inc"}]
["S.US.PVH",{"$f":"RTD(\"cqg.rtd\", ,\"ContractData\",A386, \"LongDescription\",, \"T\")","v":"PVH Corp"}]
["S.US.PWR",{"$f":"RTD(\"cqg.rtd\", ,\"ContractData\",A387, \"LongDescription\",, \"T\")","v":"Quanta Services Inc"}]
["S.US.PXD",{"$f":"RTD(\"cqg.rtd\", ,\"ContractData\",A388, \"LongDescription\",, \"T\")","v":"Pioneer Natural Resources"}]
["S.US.PYPL",{"$f":"RTD(\"cqg.rtd\", ,\"ContractData\",A389, \"LongDescription\",, \"T\")","v":"PayPal Holdings, Inc."}]
["S.US.QCOM",{"$f":"RTD(\"cqg.rtd\", ,\"ContractData\",A390, \"LongDescription\",, \"T\")","v":"QUALCOMM Inc"}]
["S.US.QRVO",{"$f":"RTD(\"cqg.rtd\", ,\"ContractData\",A391, \"LongDescription\",, \"T\")","v":"Qorvo"}]
["S.US.RCL",{"$f":"RTD(\"cqg.rtd\", ,\"ContractData\",A392, \"LongDescription\",, \"T\")","v":"Royal Caribbean Group"}]
["S.US.RE",{"$f":"RTD(\"cqg.rtd\", ,\"ContractData\",A393, \"LongDescription\",, \"T\")","v":"Everest Reinsurance Holdings Inc"}]
["S.US.REG",{"$f":"RTD(\"cqg.rtd\", ,\"ContractData\",A394, \"LongDescription\",, \"T\")","v":"Regency Centers Corporation"}]
["S.US.REGN",{"$f":"RTD(\"cqg.rtd\", ,\"ContractData\",A395, \"LongDescription\",, \"T\")","v":"Regeneron Pharm Inc"}]
["S.US.RF",{"$f":"RTD(\"cqg.rtd\", ,\"ContractData\",A396, \"LongDescription\",, \"T\")","v":"Regions Financial Corp"}]
["S.US.RHI",{"$f":"RTD(\"cqg.rtd\", ,\"ContractData\",A397, \"LongDescription\",, \"T\")","v":"Robert Half Intl Inc"}]
["S.US.RJF",{"$f":"RTD(\"cqg.rtd\", ,\"ContractData\",A398, \"LongDescription\",, \"T\")","v":"Raymond James Fincl Inc"}]
["S.US.RL",{"$f":"RTD(\"cqg.rtd\", ,\"ContractData\",A399, \"LongDescription\",, \"T\")","v":"Ralph Lauren Corporation"}]
["S.US.RMD",{"$f":"RTD(\"cqg.rtd\", ,\"ContractData\",A400, \"LongDescription\",, \"T\")","v":"Resmed Inc"}]
["S.US.ROK",{"$f":"RTD(\"cqg.rtd\", ,\"ContractData\",A401, \"LongDescription\",, \"T\")","v":"Rockwell Automation Inc"}]
["S.US.ROL",{"$f":"RTD(\"cqg.rtd\", ,\"ContractData\",A402, \"LongDescription\",, \"T\")","v":"Rollins Inc"}]
["S.US.ROP",{"$f":"RTD(\"cqg.rtd\", ,\"ContractData\",A403, \"LongDescription\",, \"T\")","v":"Roper Technologies, Inc."}]
["S.US.ROST",{"$f":"RTD(\"cqg.rtd\", ,\"ContractData\",A404, \"LongDescription\",, \"T\")","v":"Ross Stores Inc"}]
["S.US.RSG",{"$f":"RTD(\"cqg.rtd\", ,\"ContractData\",A405, \"LongDescription\",, \"T\")","v":"Republic Services Inc ClA"}]
["S.US.RTX",{"$f":"RTD(\"cqg.rtd\", ,\"ContractData\",A406, \"LongDescription\",, \"T\")","v":"Raytheon Technologies Corporation"}]
["S.US.SBAC",{"$f":"RTD(\"cqg.rtd\", ,\"ContractData\",A407, \"LongDescription\",, \"T\")","v":"SBA Comms Corp"}]
["S.US.SBNY",{"$f":"RTD(\"cqg.rtd\", ,\"ContractData\",A408, \"LongDescription\",, \"T\")","v":"Signature Bank"}]
["S.US.SBUX",{"$f":"RTD(\"cqg.rtd\", ,\"ContractData\",A409, \"LongDescription\",, \"T\")","v":"Starbucks Corp"}]
["S.US.SCHW",{"$f":"RTD(\"cqg.rtd\", ,\"ContractData\",A410, \"LongDescription\",, \"T\")","v":"Charles Schwab Corp"}]
["S.US.SEDG",{"$f":"RTD(\"cqg.rtd\", ,\"ContractData\",A411, \"LongDescription\",, \"T\")","v":"SolarEdge Technologies, Inc."}]
["S.US.SEE",{"$f":"RTD(\"cqg.rtd\", ,\"ContractData\",A412, \"LongDescription\",, \"T\")","v":"Sealed Air Corp New"}]
["S.US.SHW",{"$f":"RTD(\"cqg.rtd\", ,\"ContractData\",A413, \"LongDescription\",, \"T\")","v":"Sherwin-Williams Co"}]
["S.US.SIVB",{"$f":"RTD(\"cqg.rtd\", ,\"ContractData\",A414, \"LongDescription\",, \"T\")","v":"SVB Financial Group"}]
["S.US.SJM",{"$f":"RTD(\"cqg.rtd\", ,\"ContractData\",A415, \"LongDescription\",, \"T\")","v":"SMUCKER JM CO"}]
["S.US.SLB",{"$f":"RTD(\"cqg.rtd\", ,\"ContractData\",A416, \"LongDescription\",, \"T\")","v":"Schlumberger Limited"}]
["S.US.SNA",{"$f":"RTD(\"cqg.rtd\", ,\"ContractData\",A417, \"LongDescription\",, \"T\")","v":"Snap-On Tools Corp"}]
["S.US.SNPS",{"$f":"RTD(\"cqg.rtd\", ,\"ContractData\",A418, \"LongDescription\",, \"T\")","v":"Synopsis"}]
["S.US.SO",{"$f":"RTD(\"cqg.rtd\", ,\"ContractData\",A419, \"LongDescription\",, \"T\")","v":"Southern Company"}]
["S.US.SPG",{"$f":"RTD(\"cqg.rtd\", ,\"ContractData\",A420, \"LongDescription\",, \"T\")","v":"Simon Property Grp"}]
["S.US.SPGI",{"$f":"RTD(\"cqg.rtd\", ,\"ContractData\",A421, \"LongDescription\",, \"T\")","v":"S&P Global Inc."}]
["S.US.SRE",{"$f":"RTD(\"cqg.rtd\", ,\"ContractData\",A422, \"LongDescription\",, \"T\")","v":"Sempra"}]
["S.US.STE",{"$f":"RTD(\"cqg.rtd\", ,\"ContractData\",A423, \"LongDescription\",, \"T\")","v":"STERIS plc"}]
["S.US.STT",{"$f":"RTD(\"cqg.rtd\", ,\"ContractData\",A424, \"LongDescription\",, \"T\")","v":"State Street Corp"}]
["S.US.STX",{"$f":"RTD(\"cqg.rtd\", ,\"ContractData\",A425, \"LongDescription\",, \"T\")","v":"Seagate Technology Holdings PLC"}]
["S.US.STZ",{"$f":"RTD(\"cqg.rtd\", ,\"ContractData\",A426, \"LongDescription\",, \"T\")","v":"Constellation Brands Inc"}]
["S.US.SWK",{"$f":"RTD(\"cqg.rtd\", ,\"ContractData\",A427, \"LongDescription\",, \"T\")","v":"Stanley Black and Decker Inc"}]
["S.US.SWKS",{"$f":"RTD(\"cqg.rtd\", ,\"ContractData\",A428, \"LongDescription\",, \"T\")","v":"Skyworks Solutions Inc"}]
["S.US.SYF",{"$f":"RTD(\"cqg.rtd\", ,\"ContractData\",A429, \"LongDescription\",, \"T\")","v":"Synchrony Financial"}]
["S.US.SYK",{"$f":"RTD(\"cqg.rtd\", ,\"ContractData\",A430, \"LongDescription\",, \"T\")","v":"Stryker Corp"}]
["S.US.SYY",{"$f":"RTD(\"cqg.rtd\", ,\"ContractData\",A431, \"LongDescription\",, \"T\")","v":"Sysco Corp"}]
["S.US.T",{"$f":"RTD(\"cqg.rtd\", ,\"ContractData\",A432, \"LongDescription\",, \"T\")","v":"AT&T Inc"}]
["S.US.TAP",{"$f":"RTD(\"cqg.rtd\", ,\"ContractData\",A433, \"LongDescription\",, \"T\")","v":"Molson Coors Beverage Company"}]
["S.US.TDG",{"$f":"RTD(\"cqg.rtd\", ,\"ContractData\",A434, \"LongDescription\",, \"T\")","v":"TransDigm Group"}]
["S.US.TDY",{"$f":"RTD(\"cqg.rtd\", ,\"ContractData\",A435, \"LongDescription\",, \"T\")","v":"Teledyne Technologies Inc"}]
["S.US.TECH",{"$f":"RTD(\"cqg.rtd\", ,\"ContractData\",A436, \"LongDescription\",, \"T\")","v":"Bio-Techne Corp"}]
["S.US.TEL",{"$f":"RTD(\"cqg.rtd\", ,\"ContractData\",A437, \"LongDescription\",, \"T\")","v":"TE Connectivity Ltd."}]
["S.US.TER",{"$f":"RTD(\"cqg.rtd\", ,\"ContractData\",A438, \"LongDescription\",, \"T\")","v":"Teradyne Inc"}]
["S.US.TFC",{"$f":"RTD(\"cqg.rtd\", ,\"ContractData\",A439, \"LongDescription\",, \"T\")","v":"Truist Financial Corporation"}]
["S.US.TFX",{"$f":"RTD(\"cqg.rtd\", ,\"ContractData\",A440, \"LongDescription\",, \"T\")","v":"Teleflex Inc"}]
["S.US.TGT",{"$f":"RTD(\"cqg.rtd\", ,\"ContractData\",A441, \"LongDescription\",, \"T\")","v":"Target Corp"}]
["S.US.TJX",{"$f":"RTD(\"cqg.rtd\", ,\"ContractData\",A442, \"LongDescription\",, \"T\")","v":"TJX Companies Inc"}]
["S.US.TMO",{"$f":"RTD(\"cqg.rtd\", ,\"ContractData\",A443, \"LongDescription\",, \"T\")","v":"Thermo Electron Corp"}]
["S.US.TMUS",{"$f":"RTD(\"cqg.rtd\", ,\"ContractData\",A444, \"LongDescription\",, \"T\")","v":"T-Mobile US, Inc."}]
["S.US.TPR",{"$f":"RTD(\"cqg.rtd\", ,\"ContractData\",A445, \"LongDescription\",, \"T\")","v":"Tapestry, Inc."}]
["S.US.TRMB",{"$f":"RTD(\"cqg.rtd\", ,\"ContractData\",A446, \"LongDescription\",, \"T\")","v":"Trimble Inc."}]
["S.US.TROW",{"$f":"RTD(\"cqg.rtd\", ,\"ContractData\",A447, \"LongDescription\",, \"T\")","v":"T Rowe Price Group Inc"}]
["S.US.TRV",{"$f":"RTD(\"cqg.rtd\", ,\"ContractData\",A448, \"LongDescription\",, \"T\")","v":"Travelers Companies, Inc"}]
["S.US.TSCO",{"$f":"RTD(\"cqg.rtd\", ,\"ContractData\",A449, \"LongDescription\",, \"T\")","v":"Tractor Supply Co"}]
["S.US.TSLA",{"$f":"RTD(\"cqg.rtd\", ,\"ContractData\",A450, \"LongDescription\",, \"T\")","v":"Tesla, Inc."}]
["S.US.TSN",{"$f":"RTD(\"cqg.rtd\", ,\"ContractData\",A451, \"LongDescription\",, \"T\")","v":"Tyson Foods Inc ClsA"}]
["S.US.TT",{"$f":"RTD(\"cqg.rtd\", ,\"ContractData\",A452, \"LongDescription\",, \"T\")","v":"Trane Technologies plc"}]
["S.US.TTWO",{"$f":"RTD(\"cqg.rtd\", ,\"ContractData\",A453, \"LongDescription\",, \"T\")","v":"Take-Two Interactive Software"}]
["S.US.TWTR",{"$f":"RTD(\"cqg.rtd\", ,\"ContractData\",A454, \"LongDescription\",, \"T\")","v":"Twitter, Inc."}]
["S.US.TXN",{"$f":"RTD(\"cqg.rtd\", ,\"ContractData\",A455, \"LongDescription\",, \"T\")","v":"Texas Instruments Inc"}]
["S.US.TXT",{"$f":"RTD(\"cqg.rtd\", ,\"ContractData\",A456, \"LongDescription\",, \"T\")","v":"Textron Inc"}]
["S.US.TYL",{"$f":"RTD(\"cqg.rtd\", ,\"ContractData\",A457, \"LongDescription\",, \"T\")","v":"TYLER TECHNOLOGIES INC"}]
["S.US.UA",{"$f":"RTD(\"cqg.rtd\", ,\"ContractData\",A458, \"LongDescription\",, \"T\")","v":"Under Armour Inc"}]
["S.US.UAA",{"$f":"RTD(\"cqg.rtd\", ,\"ContractData\",A459, \"LongDescription\",, \"T\")","v":"Under Armour Inc Class A"}]
["S.US.UAL",{"$f":"RTD(\"cqg.rtd\", ,\"ContractData\",A460, \"LongDescription\",, \"T\")","v":"UAL Continental Holdings, Inc."}]
["S.US.UDR",{"$f":"RTD(\"cqg.rtd\", ,\"ContractData\",A461, \"LongDescription\",, \"T\")","v":"United Dominion Realty Trust"}]
["S.US.UHS",{"$f":"RTD(\"cqg.rtd\", ,\"ContractData\",A462, \"LongDescription\",, \"T\")","v":"Universal Health Svcs ClsB"}]
["S.US.ULTA",{"$f":"RTD(\"cqg.rtd\", ,\"ContractData\",A463, \"LongDescription\",, \"T\")","v":"Ulta Salon Cosmetics & Fragrance Inc"}]
["S.US.UNH",{"$f":"RTD(\"cqg.rtd\", ,\"ContractData\",A464, \"LongDescription\",, \"T\")","v":"United Health Group Inc"}]
["S.US.UNP",{"$f":"RTD(\"cqg.rtd\", ,\"ContractData\",A465, \"LongDescription\",, \"T\")","v":"Union Pacific Corp"}]
["S.US.UPS",{"$f":"RTD(\"cqg.rtd\", ,\"ContractData\",A466, \"LongDescription\",, \"T\")","v":"United Parcel Svc"}]
["S.US.URI",{"$f":"RTD(\"cqg.rtd\", ,\"ContractData\",A467, \"LongDescription\",, \"T\")","v":"United Rentals Inc"}]
["S.US.USB",{"$f":"RTD(\"cqg.rtd\", ,\"ContractData\",A468, \"LongDescription\",, \"T\")","v":"U S Bancorp"}]
["S.US.V",{"$f":"RTD(\"cqg.rtd\", ,\"ContractData\",A469, \"LongDescription\",, \"T\")","v":"Visa Inc."}]
["S.US.VFC",{"$f":"RTD(\"cqg.rtd\", ,\"ContractData\",A470, \"LongDescription\",, \"T\")","v":"VF Corp"}]
["S.US.VLO",{"$f":"RTD(\"cqg.rtd\", ,\"ContractData\",A471, \"LongDescription\",, \"T\")","v":"Valero Energy Corp New"}]
["S.US.VMC",{"$f":"RTD(\"cqg.rtd\", ,\"ContractData\",A472, \"LongDescription\",, \"T\")","v":"Vulcan Material Co"}]
["S.US.VNO",{"$f":"RTD(\"cqg.rtd\", ,\"ContractData\",A473, \"LongDescription\",, \"T\")","v":"Vornado Realty Trust"}]
["S.US.VRSK",{"$f":"RTD(\"cqg.rtd\", ,\"ContractData\",A474, \"LongDescription\",, \"T\")","v":"Verisk Analytics, Inc."}]
["S.US.VRSN",{"$f":"RTD(\"cqg.rtd\", ,\"ContractData\",A475, \"LongDescription\",, \"T\")","v":"Verisign Inc"}]
["S.US.VRTX",{"$f":"RTD(\"cqg.rtd\", ,\"ContractData\",A476, \"LongDescription\",, \"T\")","v":"Vertex Pharmaceuticals Incorporated"}]
["S.US.VTR",{"$f":"RTD(\"cqg.rtd\", ,\"ContractData\",A477, \"LongDescription\",, \"T\")","v":"Ventas Inc"}]
["S.US.VTRS",{"$f":"RTD(\"cqg.rtd\", ,\"ContractData\",A478, \"LongDescription\",, \"T\")","v":"Viatris Inc."}]
["S.US.VZ",{"$f":"RTD(\"cqg.rtd\", ,\"ContractData\",A479, \"LongDescription\",, \"T\")","v":"Verizon Communications"}]
["S.US.WAB",{"$f":"RTD(\"cqg.rtd\", ,\"ContractData\",A480, \"LongDescription\",, \"T\")","v":"Westinghouse Air Brake Co"}]
["S.US.WAT",{"$f":"RTD(\"cqg.rtd\", ,\"ContractData\",A481, \"LongDescription\",, \"T\")","v":"Waters Corporation"}]
["S.US.WBA",{"$f":"RTD(\"cqg.rtd\", ,\"ContractData\",A482, \"LongDescription\",, \"T\")","v":"Walgreens Boots Alliance, Inc."}]
["S.US.WBD",{"$f":"RTD(\"cqg.rtd\", ,\"ContractData\",A483, \"LongDescription\",, \"T\")","v":"Warner Bros. Discovery, Inc. Series A"}]
["S.US.WDC",{"$f":"RTD(\"cqg.rtd\", ,\"ContractData\",A484, \"LongDescription\",, \"T\")","v":"Western Digital Corporation"}]
["S.US.WEC",{"$f":"RTD(\"cqg.rtd\", ,\"ContractData\",A485, \"LongDescription\",, \"T\")","v":"Wisconsin Energy Corp"}]
["S.US.WELL",{"$f":"RTD(\"cqg.rtd\", ,\"ContractData\",A486, \"LongDescription\",, \"T\")","v":"Welltower Inc."}]
["S.US.WFC",{"$f":"RTD(\"cqg.rtd\", ,\"ContractData\",A487, \"LongDescription\",, \"T\")","v":"Wells Fargo & Co New"}]
["S.US.WHR",{"$f":"RTD(\"cqg.rtd\", ,\"ContractData\",A488, \"LongDescription\",, \"T\")","v":"Whirlpool Corp"}]
["S.US.WM",{"$f":"RTD(\"cqg.rtd\", ,\"ContractData\",A489, \"LongDescription\",, \"T\")","v":"Waste Mgmt Inc New"}]
["S.US.WMB",{"$f":"RTD(\"cqg.rtd\", ,\"ContractData\",A490, \"LongDescription\",, \"T\")","v":"Williams Companies Inc"}]
["S.US.WMT",{"$f":"RTD(\"cqg.rtd\", ,\"ContractData\",A491, \"LongDescription\",, \"T\")","v":"Walmart Inc."}]
["S.US.WRB",{"$f":"RTD(\"cqg.rtd\", ,\"ContractData\",A492, \"LongDescription\",, \"T\")","v":"WR Berkley Corp"}]
["S.US.WRK",{"$f":"RTD(\"cqg.rtd\", ,\"ContractData\",A493, \"LongDescription\",, \"T\")","v":"WestRock Company"}]
["S.US.WST",{"$f":"RTD(\"cqg.rtd\", ,\"ContractData\",A494, \"LongDescription\",, \"T\")","v":"West Pharmaceuticals Svcs Inc"}]
["S.US.WTW",{"$f":"RTD(\"cqg.rtd\", ,\"ContractData\",A495, \"LongDescription\",, \"T\")","v":"Willis Towers Watson"}]
["S.US.WY",{"$f":"RTD(\"cqg.rtd\", ,\"ContractData\",A496, \"LongDescription\",, \"T\")","v":"Weyerhaeuser Company"}]
["S.US.WYNN",{"$f":"RTD(\"cqg.rtd\", ,\"ContractData\",A497, \"LongDescription\",, \"T\")","v":"Wynn Resorts Ltd"}]
["S.US.XEL",{"$f":"RTD(\"cqg.rtd\", ,\"ContractData\",A498, \"LongDescription\",, \"T\")","v":"Xcel Energy Inc"}]
["S.US.XOM",{"$f":"RTD(\"cqg.rtd\", ,\"ContractData\",A499, \"LongDescription\",, \"T\")","v":"Exxon Mobil Corp"}]
["S.US.XRAY",{"$f":"RTD(\"cqg.rtd\", ,\"ContractData\",A500, \"LongDescription\",, \"T\")","v":"DENTSPLY SIRONA Inc."}]
["S.US.XYL",{"$f":"RTD(\"cqg.rtd\", ,\"ContractData\",A501, \"LongDescription\",, \"T\")","v":"Xylem, Inc."}]
["S.US.YUM",{"$f":"RTD(\"cqg.rtd\", ,\"ContractData\",A502, \"LongDescription\",, \"T\")","v":"Yum Brands Inc"}]
["S.US.ZBH",{"$f":"RTD(\"cqg.rtd\", ,\"ContractData\",A503, \"LongDescription\",, \"T\")","v":"Zimmer Biomet Holdings, Inc"}]
["S.US.ZBRA",{"$f":"RTD(\"cqg.rtd\", ,\"ContractData\",A504, \"LongDescription\",, \"T\")","v":"Zebra Technologies Corp"}]
["S.US.ZION",{"$f":"RTD(\"cqg.rtd\", ,\"ContractData\",A505, \"LongDescription\",, \"T\")","v":"Zions Bancorp"}]
["S.US.ZTS",{"$f":"RTD(\"cqg.rtd\", ,\"ContractData\",A506, \"LongDescription\",, \"T\")","v":"Zoetis Inc"}]
[null,{"$f":"IF(A507=\"\",\"\",RTD(\"cqg.rtd\", ,\"ContractData\",A507, \"LongDescription\",, \"T\"))","v":""}]

{"sheet":"BarData","index":4,"n_rows":301,"n_cols":18,"rows_kept":301,"cut":false,"hidden":true,"merged":[]}
[{"$f":" RTD(\"cqg.rtd\",,\"StudyData\", $N$2, \"Bar\", \"\", \"Time\", $M$2, $F1,$R$2,$Q$2, \"\",\"False\")","v":44669.364583333336},{"$f":" IF(RTD(\"cqg.rtd\",,\"StudyData\", $N$2, \"Bar\", \"\", \"Open\", $M$2, $F1, $R$2,$Q$2,,$O$2,$P$2)=\"\",NA(),RTD(\"cqg.rtd\",,\"StudyData\", $N$2, \"Bar\", \"\", \"Open\", $M$2, $F1, $R$2,$Q$2,,$O$2,$P$2))","v":4399.5},{"$f":" IF(RTD(\"cqg.rtd\",,\"StudyData\", $N$2, \"Bar\", \"\", \"High\", $M$2, $F1, $R$2,$Q$2,,$O$2,$P$2)=\"\",NA(),RTD(\"cqg.rtd\",,\"StudyData\", $N$2, \"Bar\", \"\", \"High\", $M$2, $F1, $R$2,$Q$2,,$O$2,$P$2))","v":4400},{"$f":" IF(RTD(\"cqg.rtd\",,\"StudyData\", $N$2, \"Bar\", \"\", \"Low\", $M$2, $F1, $R$2,$Q$2,,$O$2,$P$2)=\"\",NA(),RTD(\"cqg.rtd\",,\"StudyData\", $N$2, \"Bar\", \"\", \"Low\", $M$2, $F1, $R$2,$Q$2,,$O$2,$P$2))","v":4392.75},{"$f":" IF(RTD(\"cqg.rtd\",,\"StudyData\", $N$2, \"Bar\", \"\", \"Close\", $M$2, $F1, $R$2,$Q$2,,$O$2,$P$2)=\"\",NA(),RTD(\"cqg.rtd\",,\"StudyData\", $N$2, \"Bar\", \"\", \"Close\", $M$2, $F1, $R$2,$Q$2,,$O$2,$P$2))","v":4393.75},0,null,{"$f":"A1","v":44669.364583333336},{"$f":"RTD(\"cqg.rtd\",,\"StudyData\",$N$2, \"Vol\", \"VolType=Auto,CoCType=Auto\", \"Vol\", $M$2, $F1, $R$2,$Q$2,,$O$2,$P$2)","v":9042},null,null,null,"Chart","Symbol","Continuation","Decimal=T, Tick=D","CustomSessionName","Type All or PrimaryOnly"]
[{"$f":" RTD(\"cqg.rtd\",,\"StudyData\", $N$2, \"Bar\", \"\", \"Time\", $M$2, $F2,$R$2,$Q$2, \"\",\"False\")","v":44669.361111111109},{"$f":" RTD(\"cqg.rtd\",,\"StudyData\", $N$2, \"Bar\", \"\", \"Open\", $M$2, $F2, $R$2,$Q$2,,$O$2,$P$2)","v":4395.25},{"$f":" RTD(\"cqg.rtd\",,\"StudyData\", $N$2, \"Bar\", \"\", \"High\", $M$2, $F2, $R$2,$Q$2,,$O$2,$P$2)","v":4403.25},{"$f":" RTD(\"cqg.rtd\",,\"StudyData\", $N$2, \"Bar\", \"\", \"Low\", $M$2, $F2, $R$2,$Q$2,,$O$2,$P$2)","v":4391},{"$f":" RTD(\"cqg.rtd\",,\"StudyData\", $N$2, \"Bar\", \"\", \"Close\", $M$2, $F2, $R$2,$Q$2,,$O$2,$P$2)","v":4399.5},{"$f":"F1-1","v":-1},null,{"$f":"A2","v":44669.361111111109},{"$f":"RTD(\"cqg.rtd\",,\"StudyData\",$N$2, \"Vol\", \"VolType=Auto,CoCType=Auto\", \"Vol\", $M$2, $F2, $R$2,$Q$2,,$O$2,$P$2)","v":23571},null,null,null,{"$f":"Main!U24","v":5},{"$f":"Main!R24","v":"EP"},true,"T",null,{"$f":"Main!W24","v":"All"}]
[{"$f":" RTD(\"cqg.rtd\",,\"StudyData\", $N$2, \"Bar\", \"\", \"Time\", $M$2, $F3,$R$2,$Q$2, \"\",\"False\")","v":44669.357638888891},{"$f":" RTD(\"cqg.rtd\",,\"StudyData\", $N$2, \"Bar\", \"\", \"Open\", $M$2, $F3, $R$2,$Q$2,,$O$2,$P$2)","v":4393.5},{"$f":" RTD(\"cqg.rtd\",,\"StudyData\", $N$2, \"Bar\", \"\", \"High\", $M$2, $F3, $R$2,$Q$2,,$O$2,$P$2)","v":4401.75},{"$f":" RTD(\"cqg.rtd\",,\"StudyData\", $N$2, \"Bar\", \"\", \"Low\", $M$2, $F3, $R$2,$Q$2,,$O$2,$P$2)","v":4392.5},{"$f":" RTD(\"cqg.rtd\",,\"StudyData\", $N$2, \"Bar\", \"\", \"Close\", $M$2, $F3, $R$2,$Q$2,,$O$2,$P$2)","v":4395.5},{"$f":"F2-1","v":-2},null,44669.357638888891,{"$f":"RTD(\"cqg.rtd\",,\"StudyData\",$N$2, \"Vol\", \"VolType=Auto,CoCType=Auto\", \"Vol\", $M$2, $F3, $R$2,$Q$2,,$O$2,$P$2)","v":23056}]
[{"$f":" RTD(\"cqg.rtd\",,\"StudyData\", $N$2, \"Bar\", \"\", \"Time\", $M$2, $F4,$R$2,$Q$2, \"\",\"False\")","v":44669.354166666664},{"$f":" RTD(\"cqg.rtd\",,\"StudyData\", $N$2, \"Bar\", \"\", \"Open\", $M$2, $F4, $R$2,$Q$2,,$O$2,$P$2)","v":4376.5},{"$f":" RTD(\"cqg.rtd\",,\"StudyData\", $N$2, \"Bar\", \"\", \"High\", $M$2, $F4, $R$2,$Q$2,,$O$2,$P$2)","v":4397.75},{"$f":" RTD(\"cqg.rtd\",,\"StudyData\", $N$2, \"Bar\", \"\", \"Low\", $M$2, $F4, $R$2,$Q$2,,$O$2,$P$2)","v":4376.25},{"$f":" RTD(\"cqg.rtd\",,\"StudyData\", $N$2, \"Bar\", \"\", \"Close\", $M$2, $F4, $R$2,$Q$2,,$O$2,$P$2)","v":4393.25},-3,null,44669.354166666664,{"$f":"RTD(\"cqg.rtd\",,\"StudyData\",$N$2, \"Vol\", \"VolType=Auto,CoCType=Auto\", \"Vol\", $M$2, $F4, $R$2,$Q$2,,$O$2,$P$2)","v":39253}]
[{"$f":" RTD(\"cqg.rtd\",,\"StudyData\", $N$2, \"Bar\", \"\", \"Time\", $M$2, $F5,$R$2,$Q$2, \"\",\"False\")","v":44669.350694444445},{"$f":" RTD(\"cqg.rtd\",,\"StudyData\", $N$2, \"Bar\", \"\", \"Open\", $M$2, $F5, $R$2,$Q$2,,$O$2,$P$2)","v":4379.75},{"$f":" RTD(\"cqg.rtd\",,\"StudyData\", $N$2, \"Bar\", \"\", \"High\", $M$2, $F5, $R$2,$Q$2,,$O$2,$P$2)","v":4379.75},{"$f":" RTD(\"cqg.rtd\",,\"StudyData\", $N$2, \"Bar\", \"\", \"Low\", $M$2, $F5, $R$2,$Q$2,,$O$2,$P$2)","v":4375.5},{"$f":" RTD(\"cqg.rtd\",,\"StudyData\", $N$2, \"Bar\", \"\", \"Close\", $M$2, $F5, $R$2,$Q$2,,$O$2,$P$2)","v":4376.25},-4,null,44669.350694444445,{"$f":"RTD(\"cqg.rtd\",,\"StudyData\",$N$2, \"Vol\", \"VolType=Auto,CoCType=Auto\", \"Vol\", $M$2, $F5, $R$2,$Q$2,,$O$2,$P$2)","v":3879}]
[{"$f":" RTD(\"cqg.rtd\",,\"StudyData\", $N$2, \"Bar\", \"\", \"Time\", $M$2, $F6,$R$2,$Q$2, \"\",\"False\")","v":44669.347222222219},{"$f":" RTD(\"cqg.rtd\",,\"StudyData\", $N$2, \"Bar\", \"\", \"Open\", $M$2, $F6, $R$2,$Q$2,,$O$2,$P$2)","v":4379},{"$f":" RTD(\"cqg.rtd\",,\"StudyData\", $N$2, \"Bar\", \"\", \"High\", $M$2, $F6, $R$2,$Q$2,,$O$2,$P$2)","v":4380},{"$f":" RTD(\"cqg.rtd\",,\"StudyData\", $N$2, \"Bar\", \"\", \"Low\", $M$2, $F6, $R$2,$Q$2,,$O$2,$P$2)","v":4378.5},{"$f":" RTD(\"cqg.rtd\",,\"StudyData\", $N$2, \"Bar\", \"\", \"Close\", $M$2, $F6, $R$2,$Q$2,,$O$2,$P$2)","v":4379.5},-5,null,44669.347222222219,{"$f":"RTD(\"cqg.rtd\",,\"StudyData\",$N$2, \"Vol\", \"VolType=Auto,CoCType=Auto\", \"Vol\", $M$2, $F6, $R$2,$Q$2,,$O$2,$P$2)","v":1021}]
[{"$f":" RTD(\"cqg.rtd\",,\"StudyData\", $N$2, \"Bar\", \"\", \"Time\", $M$2, $F7,$R$2,$Q$2, \"\",\"False\")","v":44669.34375},{"$f":" RTD(\"cqg.rtd\",,\"StudyData\", $N$2, \"Bar\", \"\", \"Open\", $M$2, $F7, $R$2,$Q$2,,$O$2,$P$2)","v":4379.75},{"$f":" RTD(\"cqg.rtd\",,\"StudyData\", $N$2, \"Bar\", \"\", \"High\", $M$2, $F7, $R$2,$Q$2,,$O$2,$P$2)","v":4381.25},{"$f":" RTD(\"cqg.rtd\",,\"StudyData\", $N$2, \"Bar\", \"\", \"Low\", $M$2, $F7, $R$2,$Q$2,,$O$2,$P$2)","v":4378.75},{"$f":" RTD(\"cqg.rtd\",,\"StudyData\", $N$2, \"Bar\", \"\", \"Close\", $M$2, $F7, $R$2,$Q$2,,$O$2,$P$2)","v":4379},-6,null,44669.34375,{"$f":"RTD(\"cqg.rtd\",,\"StudyData\",$N$2, \"Vol\", \"VolType=Auto,CoCType=Auto\", \"Vol\", $M$2, $F7, $R$2,$Q$2,,$O$2,$P$2)","v":1803}]
[{"$f":" RTD(\"cqg.rtd\",,\"StudyData\", $N$2, \"Bar\", \"\", \"Time\", $M$2, $F8,$R$2,$Q$2, \"\",\"False\")","v":44669.340277777781},{"$f":" RTD(\"cqg.rtd\",,\"StudyData\", $N$2, \"Bar\", \"\", \"Open\", $M$2, $F8, $R$2,$Q$2,,$O$2,$P$2)","v":4377.75},{"$f":" RTD(\"cqg.rtd\",,\"StudyData\", $N$2, \"Bar\", \"\", \"High\", $M$2, $F8, $R$2,$Q$2,,$O$2,$P$2)","v":4380},{"$f":" RTD(\"cqg.rtd\",,\"StudyData\", $N$2, \"Bar\", \"\", \"Low\", $M$2, $F8, $R$2,$Q$2,,$O$2,$P$2)","v":4377.25},{"$f":" RTD(\"cqg.rtd\",,\"StudyData\", $N$2, \"Bar\", \"\", \"Close\", $M$2, $F8, $R$2,$Q$2,,$O$2,$P$2)","v":4379.75},-7,null,44669.340277777781,{"$f":"RTD(\"cqg.rtd\",,\"StudyData\",$N$2, \"Vol\", \"VolType=Auto,CoCType=Auto\", \"Vol\", $M$2, $F8, $R$2,$Q$2,,$O$2,$P$2)","v":1408}]
[{"$f":" RTD(\"cqg.rtd\",,\"StudyData\", $N$2, \"Bar\", \"\", \"Time\", $M$2, $F9,$R$2,$Q$2, \"\",\"False\")","v":44669.336805555555},{"$f":" RTD(\"cqg.rtd\",,\"StudyData\", $N$2, \"Bar\", \"\", \"Open\", $M$2, $F9, $R$2,$Q$2,,$O$2,$P$2)","v":4378},{"$f":" RTD(\"cqg.rtd\",,\"StudyData\", $N$2, \"Bar\", \"\", \"High\", $M$2, $F9, $R$2,$Q$2,,$O$2,$P$2)","v":4378.5},{"$f":" RTD(\"cqg.rtd\",,\"StudyData\", $N$2, \"Bar\", \"\", \"Low\", $M$2, $F9, $R$2,$Q$2,,$O$2,$P$2)","v":4377},{"$f":" RTD(\"cqg.rtd\",,\"StudyData\", $N$2, \"Bar\", \"\", \"Close\", $M$2, $F9, $R$2,$Q$2,,$O$2,$P$2)","v":4377.75},-8,null,44669.336805555555,{"$f":"RTD(\"cqg.rtd\",,\"StudyData\",$N$2, \"Vol\", \"VolType=Auto,CoCType=Auto\", \"Vol\", $M$2, $F9, $R$2,$Q$2,,$O$2,$P$2)","v":1055}]
[{"$f":" RTD(\"cqg.rtd\",,\"StudyData\", $N$2, \"Bar\", \"\", \"Time\", $M$2, $F10,$R$2,$Q$2, \"\",\"False\")","v":44669.333333333336},{"$f":" RTD(\"cqg.rtd\",,\"StudyData\", $N$2, \"Bar\", \"\", \"Open\", $M$2, $F10, $R$2,$Q$2,,$O$2,$P$2)","v":4374},{"$f":" RTD(\"cqg.rtd\",,\"StudyData\", $N$2, \"Bar\", \"\", \"High\", $M$2, $F10, $R$2,$Q$2,,$O$2,$P$2)","v":4378.5},{"$f":" RTD(\"cqg.rtd\",,\"StudyData\", $N$2, \"Bar\", \"\", \"Low\", $M$2, $F10, $R$2,$Q$2,,$O$2,$P$2)","v":4372.5},{"$f":" RTD(\"cqg.rtd\",,\"StudyData\", $N$2, \"Bar\", \"\", \"Close\", $M$2, $F10, $R$2,$Q$2,,$O$2,$P$2)","v":4377.75},-9,null,44669.333333333336,{"$f":"RTD(\"cqg.rtd\",,\"StudyData\",$N$2, \"Vol\", \"VolType=Auto,CoCType=Auto\", \"Vol\", $M$2, $F10, $R$2,$Q$2,,$O$2,$P$2)","v":1752}]
[{"$f":" RTD(\"cqg.rtd\",,\"StudyData\", $N$2, \"Bar\", \"\", \"Time\", $M$2, $F11,$R$2,$Q$2, \"\",\"False\")","v":44669.329861111109},{"$f":" RTD(\"cqg.rtd\",,\"StudyData\", $N$2, \"Bar\", \"\", \"Open\", $M$2, $F11, $R$2,$Q$2,,$O$2,$P$2)","v":4374.25},{"$f":" RTD(\"cqg.rtd\",,\"StudyData\", $N$2, \"Bar\", \"\", \"High\", $M$2, $F11, $R$2,$Q$2,,$O$2,$P$2)","v":4376.75},{"$f":" RTD(\"cqg.rtd\",,\"StudyData\", $N$2, \"Bar\", \"\", \"Low\", $M$2, $F11, $R$2,$Q$2,,$O$2,$P$2)","v":4373.5},{"$f":" RTD(\"cqg.rtd\",,\"StudyData\", $N$2, \"Bar\", \"\", \"Close\", $M$2, $F11, $R$2,$Q$2,,$O$2,$P$2)","v":4374},-10,null,44669.329861111109,{"$f":"RTD(\"cqg.rtd\",,\"StudyData\",$N$2, \"Vol\", \"VolType=Auto,CoCType=Auto\", \"Vol\", $M$2, $F11, $R$2,$Q$2,,$O$2,$P$2)","v":1074}]
[{"$f":" RTD(\"cqg.rtd\",,\"StudyData\", $N$2, \"Bar\", \"\", \"Time\", $M$2, $F12,$R$2,$Q$2, \"\",\"False\")","v":44669.326388888891},{"$f":" RTD(\"cqg.rtd\",,\"StudyData\", $N$2, \"Bar\", \"\", \"Open\", $M$2, $F12, $R$2,$Q$2,,$O$2,$P$2)","v":4376.5},{"$f":" RTD(\"cqg.rtd\",,\"StudyData\", $N$2, \"Bar\", \"\", \"High\", $M$2, $F12, $R$2,$Q$2,,$O$2,$P$2)","v":4376.75},{"$f":" RTD(\"cqg.rtd\",,\"StudyData\", $N$2, \"Bar\", \"\", \"Low\", $M$2, $F12, $R$2,$Q$2,,$O$2,$P$2)","v":4373.75},{"$f":" RTD(\"cqg.rtd\",,\"StudyData\", $N$2, \"Bar\", \"\", \"Close\", $M$2, $F12, $R$2,$Q$2,,$O$2,$P$2)","v":4374.25},-11,null,44669.326388888891,{"$f":"RTD(\"cqg.rtd\",,\"StudyData\",$N$2, \"Vol\", \"VolType=Auto,CoCType=Auto\", \"Vol\", $M$2, $F12, $R$2,$Q$2,,$O$2,$P$2)","v":847}]
[{"$f":" RTD(\"cqg.rtd\",,\"StudyData\", $N$2, \"Bar\", \"\", \"Time\", $M$2, $F13,$R$2,$Q$2, \"\",\"False\")","v":44669.322916666664},{"$f":" RTD(\"cqg.rtd\",,\"StudyData\", $N$2, \"Bar\", \"\", \"Open\", $M$2, $F13, $R$2,$Q$2,,$O$2,$P$2)","v":4375.75},{"$f":" RTD(\"cqg.rtd\",,\"StudyData\", $N$2, \"Bar\", \"\", \"High\", $M$2, $F13, $R$2,$Q$2,,$O$2,$P$2)","v":4377},{"$f":" RTD(\"cqg.rtd\",,\"StudyData\", $N$2, \"Bar\", \"\", \"Low\", $M$2, $F13, $R$2,$Q$2,,$O$2,$P$2)","v":4375.25},{"$f":" RTD(\"cqg.rtd\",,\"StudyData\", $N$2, \"Bar\", \"\", \"Close\", $M$2, $F13, $R$2,$Q$2,,$O$2,$P$2)","v":4376.25},-12,null,44669.322916666664,{"$f":"RTD(\"cqg.rtd\",,\"StudyData\",$N$2, \"Vol\", \"VolType=Auto,CoCType=Auto\", \"Vol\", $M$2, $F13, $R$2,$Q$2,,$O$2,$P$2)","v":986}]
[{"$f":" RTD(\"cqg.rtd\",,\"StudyData\", $N$2, \"Bar\", \"\", \"Time\", $M$2, $F14,$R$2,$Q$2, \"\",\"False\")","v":44669.319444444445},{"$f":" RTD(\"cqg.rtd\",,\"StudyData\", $N$2, \"Bar\", \"\", \"Open\", $M$2, $F14, $R$2,$Q$2,,$O$2,$P$2)","v":4378},{"$f":" RTD(\"cqg.rtd\",,\"StudyData\", $N$2, \"Bar\", \"\", \"High\", $M$2, $F14, $R$2,$Q$2,,$O$2,$P$2)","v":4378.75},{"$f":" RTD(\"cqg.rtd\",,\"StudyData\", $N$2, \"Bar\", \"\", \"Low\", $M$2, $F14, $R$2,$Q$2,,$O$2,$P$2)","v":4375.5},{"$f":" RTD(\"cqg.rtd\",,\"StudyData\", $N$2, \"Bar\", \"\", \"Close\", $M$2, $F14, $R$2,$Q$2,,$O$2,$P$2)","v":4376},-13,null,44669.319444444445,{"$f":"RTD(\"cqg.rtd\",,\"StudyData\",$N$2, \"Vol\", \"VolType=Auto,CoCType=Auto\", \"Vol\", $M$2, $F14, $R$2,$Q$2,,$O$2,$P$2)","v":1430}]
[{"$f":" RTD(\"cqg.rtd\",,\"StudyData\", $N$2, \"Bar\", \"\", \"Time\", $M$2, $F15,$R$2,$Q$2, \"\",\"False\")","v":44669.315972222219},{"$f":" RTD(\"cqg.rtd\",,\"StudyData\", $N$2, \"Bar\", \"\", \"Open\", $M$2, $F15, $R$2,$Q$2,,$O$2,$P$2)","v":4375.25},{"$f":" RTD(\"cqg.rtd\",,\"StudyData\", $N$2, \"Bar\", \"\", \"High\", $M$2, $F15, $R$2,$Q$2,,$O$2,$P$2)","v":4379.5},{"$f":" RTD(\"cqg.rtd\",,\"StudyData\", $N$2, \"Bar\", \"\", \"Low\", $M$2, $F15, $R$2,$Q$2,,$O$2,$P$2)","v":4375.25},{"$f":" RTD(\"cqg.rtd\",,\"StudyData\", $N$2, \"Bar\", \"\", \"Close\", $M$2, $F15, $R$2,$Q$2,,$O$2,$P$2)","v":4378},-14,null,44669.315972222219,{"$f":"RTD(\"cqg.rtd\",,\"StudyData\",$N$2, \"Vol\", \"VolType=Auto,CoCType=Auto\", \"Vol\", $M$2, $F15, $R$2,$Q$2,,$O$2,$P$2)","v":2147}]
[{"$f":" RTD(\"cqg.rtd\",,\"StudyData\", $N$2, \"Bar\", \"\", \"Time\", $M$2, $F16,$R$2,$Q$2, \"\",\"False\")","v":44669.3125},{"$f":" RTD(\"cqg.rtd\",,\"StudyData\", $N$2, \"Bar\", \"\", \"Open\", $M$2, $F16, $R$2,$Q$2,,$O$2,$P$2)","v":4375.5},{"$f":" RTD(\"cqg.rtd\",,\"StudyData\", $N$2, \"Bar\", \"\", \"High\", $M$2, $F16, $R$2,$Q$2,,$O$2,$P$2)","v":4376.25},{"$f":" RTD(\"cqg.rtd\",,\"StudyData\", $N$2, \"Bar\", \"\", \"Low\", $M$2, $F16, $R$2,$Q$2,,$O$2,$P$2)","v":4373.75},{"$f":" RTD(\"cqg.rtd\",,\"StudyData\", $N$2, \"Bar\", \"\", \"Close\", $M$2, $F16, $R$2,$Q$2,,$O$2,$P$2)","v":4375},-15,null,44669.3125,{"$f":"RTD(\"cqg.rtd\",,\"StudyData\",$N$2, \"Vol\", \"VolType=Auto,CoCType=Auto\", \"Vol\", $M$2, $F16, $R$2,$Q$2,,$O$2,$P$2)","v":1298}]
[{"$f":" RTD(\"cqg.rtd\",,\"StudyData\", $N$2, \"Bar\", \"\", \"Time\", $M$2, $F17,$R$2,$Q$2, \"\",\"False\")","v":44669.309027777781},{"$f":" RTD(\"cqg.rtd\",,\"StudyData\", $N$2, \"Bar\", \"\", \"Open\", $M$2, $F17, $R$2,$Q$2,,$O$2,$P$2)","v":4374.5},{"$f":" RTD(\"cqg.rtd\",,\"StudyData\", $N$2, \"Bar\", \"\", \"High\", $M$2, $F17, $R$2,$Q$2,,$O$2,$P$2)","v":4376.25},{"$f":" RTD(\"cqg.rtd\",,\"StudyData\", $N$2, \"Bar\", \"\", \"Low\", $M$2, $F17, $R$2,$Q$2,,$O$2,$P$2)","v":4374},{"$f":" RTD(\"cqg.rtd\",,\"StudyData\", $N$2, \"Bar\", \"\", \"Close\", $M$2, $F17, $R$2,$Q$2,,$O$2,$P$2)","v":4375.75},-16,null,44669.309027777781,{"$f":"RTD(\"cqg.rtd\",,\"StudyData\",$N$2, \"Vol\", \"VolType=Auto,CoCType=Auto\", \"Vol\", $M$2, $F17, $R$2,$Q$2,,$O$2,$P$2)","v":882}]
[{"$f":" RTD(\"cqg.rtd\",,\"StudyData\", $N$2, \"Bar\", \"\", \"Time\", $M$2, $F18,$R$2,$Q$2, \"\",\"False\")","v":44669.305555555555},{"$f":" RTD(\"cqg.rtd\",,\"StudyData\", $N$2, \"Bar\", \"\", \"Open\", $M$2, $F18, $R$2,$Q$2,,$O$2,$P$2)","v":4373.25},{"$f":" RTD(\"cqg.rtd\",,\"StudyData\", $N$2, \"Bar\", \"\", \"High\", $M$2, $F18, $R$2,$Q$2,,$O$2,$P$2)","v":4375},{"$f":" RTD(\"cqg.rtd\",,\"StudyData\", $N$2, \"Bar\", \"\", \"Low\", $M$2, $F18, $R$2,$Q$2,,$O$2,$P$2)","v":4373.25},{"$f":" RTD(\"cqg.rtd\",,\"StudyData\", $N$2, \"Bar\", \"\", \"Close\", $M$2, $F18, $R$2,$Q$2,,$O$2,$P$2)","v":4374.5},-17,null,44669.305555555555,{"$f":"RTD(\"cqg.rtd\",,\"StudyData\",$N$2, \"Vol\", \"VolType=Auto,CoCType=Auto\", \"Vol\", $M$2, $F18, $R$2,$Q$2,,$O$2,$P$2)","v":663}]
[{"$f":" RTD(\"cqg.rtd\",,\"StudyData\", $N$2, \"Bar\", \"\", \"Time\", $M$2, $F19,$R$2,$Q$2, \"\",\"False\")","v":44669.302083333336},{"$f":" RTD(\"cqg.rtd\",,\"StudyData\", $N$2, \"Bar\", \"\", \"Open\", $M$2, $F19, $R$2,$Q$2,,$O$2,$P$2)","v":4372.75},{"$f":" RTD(\"cqg.rtd\",,\"StudyData\", $N$2, \"Bar\", \"\", \"High\", $M$2, $F19, $R$2,$Q$2,,$O$2,$P$2)","v":4374.25},{"$f":" RTD(\"cqg.rtd\",,\"StudyData\", $N$2, \"Bar\", \"\", \"Low\", $M$2, $F19, $R$2,$Q$2,,$O$2,$P$2)","v":4370.75},{"$f":" RTD(\"cqg.rtd\",,\"StudyData\", $N$2, \"Bar\", \"\", \"Close\", $M$2, $F19, $R$2,$Q$2,,$O$2,$P$2)","v":4373.5},-18,null,44669.302083333336,{"$f":"RTD(\"cqg.rtd\",,\"StudyData\",$N$2, \"Vol\", \"VolType=Auto,CoCType=Auto\", \"Vol\", $M$2, $F19, $R$2,$Q$2,,$O$2,$P$2)","v":1237}]
[{"$f":" RTD(\"cqg.rtd\",,\"StudyData\", $N$2, \"Bar\", \"\", \"Time\", $M$2, $F20,$R$2,$Q$2, \"\",\"False\")","v":44669.298611111109},{"$f":" RTD(\"cqg.rtd\",,\"StudyData\", $N$2, \"Bar\", \"\", \"Open\", $M$2, $F20, $R$2,$Q$2,,$O$2,$P$2)","v":4374.25},{"$f":" RTD(\"cqg.rtd\",,\"StudyData\", $N$2, \"Bar\", \"\", \"High\", $M$2, $F20, $R$2,$Q$2,,$O$2,$P$2)","v":4375},{"$f":" RTD(\"cqg.rtd\",,\"StudyData\", $N$2, \"Bar\", \"\", \"Low\", $M$2, $F20, $R$2,$Q$2,,$O$2,$P$2)","v":4371.75},{"$f":" RTD(\"cqg.rtd\",,\"StudyData\", $N$2, \"Bar\", \"\", \"Close\", $M$2, $F20, $R$2,$Q$2,,$O$2,$P$2)","v":4372.75},-19,null,44669.298611111109,{"$f":"RTD(\"cqg.rtd\",,\"StudyData\",$N$2, \"Vol\", \"VolType=Auto,CoCType=Auto\", \"Vol\", $M$2, $F20, $R$2,$Q$2,,$O$2,$P$2)","v":1290}]
[{"$f":" RTD(\"cqg.rtd\",,\"StudyData\", $N$2, \"Bar\", \"\", \"Time\", $M$2, $F21,$R$2,$Q$2, \"\",\"False\")","v":44669.295138888891},{"$f":" RTD(\"cqg.rtd\",,\"StudyData\", $N$2, \"Bar\", \"\", \"Open\", $M$2, $F21, $R$2,$Q$2,,$O$2,$P$2)","v":4375.5},{"$f":" RTD(\"cqg.rtd\",,\"StudyData\", $N$2, \"Bar\", \"\", \"High\", $M$2, $F21, $R$2,$Q$2,,$O$2,$P$2)","v":4377},{"$f":" RTD(\"cqg.rtd\",,\"StudyData\", $N$2, \"Bar\", \"\", \"Low\", $M$2, $F21, $R$2,$Q$2,,$O$2,$P$2)","v":4373},{"$f":" RTD(\"cqg.rtd\",,\"StudyData\", $N$2, \"Bar\", \"\", \"Close\", $M$2, $F21, $R$2,$Q$2,,$O$2,$P$2)","v":4374.25},-20,null,44669.295138888891,{"$f":"RTD(\"cqg.rtd\",,\"StudyData\",$N$2, \"Vol\", \"VolType=Auto,CoCType=Auto\", \"Vol\", $M$2, $F21, $R$2,$Q$2,,$O$2,$P$2)","v":1333}]
[{"$f":" RTD(\"cqg.rtd\",,\"StudyData\", $N$2, \"Bar\", \"\", \"Time\", $M$2, $F22,$R$2,$Q$2, \"\",\"False\")","v":44669.291666666664},{"$f":" RTD(\"cqg.rtd\",,\"StudyData\", $N$2, \"Bar\", \"\", \"Open\", $M$2, $F22, $R$2,$Q$2,,$O$2,$P$2)","v":4374.5},{"$f":" RTD(\"cqg.rtd\",,\"StudyData\", $N$2, \"Bar\", \"\", \"High\", $M$2, $F22, $R$2,$Q$2,,$O$2,$P$2)","v":4376.5},{"$f":" RTD(\"cqg.rtd\",,\"StudyData\", $N$2, \"Bar\", \"\", \"Low\", $M$2, $F22, $R$2,$Q$2,,$O$2,$P$2)","v":4373.75},{"$f":" RTD(\"cqg.rtd\",,\"StudyData\", $N$2, \"Bar\", \"\", \"Close\", $M$2, $F22, $R$2,$Q$2,,$O$2,$P$2)","v":4375.75},-21,null,44669.291666666664,{"$f":"RTD(\"cqg.rtd\",,\"StudyData\",$N$2, \"Vol\", \"VolType=Auto,CoCType=Auto\", \"Vol\", $M$2, $F22, $R$2,$Q$2,,$O$2,$P$2)","v":839}]
[{"$f":" RTD(\"cqg.rtd\",,\"StudyData\", $N$2, \"Bar\", \"\", \"Time\", $M$2, $F23,$R$2,$Q$2, \"\",\"False\")","v":44669.288194444445},{"$f":" RTD(\"cqg.rtd\",,\"StudyData\", $N$2, \"Bar\", \"\", \"Open\", $M$2, $F23, $R$2,$Q$2,,$O$2,$P$2)","v":4375.5},{"$f":" RTD(\"cqg.rtd\",,\"StudyData\", $N$2, \"Bar\", \"\", \"High\", $M$2, $F23, $R$2,$Q$2,,$O$2,$P$2)","v":4375.75},{"$f":" RTD(\"cqg.rtd\",,\"StudyData\", $N$2, \"Bar\", \"\", \"Low\", $M$2, $F23, $R$2,$Q$2,,$O$2,$P$2)","v":4373.5},{"$f":" RTD(\"cqg.rtd\",,\"StudyData\", $N$2, \"Bar\", \"\", \"Close\", $M$2, $F23, $R$2,$Q$2,,$O$2,$P$2)","v":4374.5},-22,null,44669.288194444445,{"$f":"RTD(\"cqg.rtd\",,\"StudyData\",$N$2, \"Vol\", \"VolType=Auto,CoCType=Auto\", \"Vol\", $M$2, $F23, $R$2,$Q$2,,$O$2,$P$2)","v":639}]
[{"$f":" RTD(\"cqg.rtd\",,\"StudyData\", $N$2, \"Bar\", \"\", \"Time\", $M$2, $F24,$R$2,$Q$2, \"\",\"False\")","v":44669.284722222219},{"$f":" RTD(\"cqg.rtd\",,\"StudyData\", $N$2, \"Bar\", \"\", \"Open\", $M$2, $F24, $R$2,$Q$2,,$O$2,$P$2)","v":4375.25},{"$f":" RTD(\"cqg.rtd\",,\"StudyData\", $N$2, \"Bar\", \"\", \"High\", $M$2, $F24, $R$2,$Q$2,,$O$2,$P$2)","v":4376},{"$f":" RTD(\"cqg.rtd\",,\"StudyData\", $N$2, \"Bar\", \"\", \"Low\", $M$2, $F24, $R$2,$Q$2,,$O$2,$P$2)","v":4374},{"$f":" RTD(\"cqg.rtd\",,\"StudyData\", $N$2, \"Bar\", \"\", \"Close\", $M$2, $F24, $R$2,$Q$2,,$O$2,$P$2)","v":4375.25},-23,null,44669.284722222219,{"$f":"RTD(\"cqg.rtd\",,\"StudyData\",$N$2, \"Vol\", \"VolType=Auto,CoCType=Auto\", \"Vol\", $M$2, $F24, $R$2,$Q$2,,$O$2,$P$2)","v":853}]
[{"$f":" RTD(\"cqg.rtd\",,\"StudyData\", $N$2, \"Bar\", \"\", \"Time\", $M$2, $F25,$R$2,$Q$2, \"\",\"False\")","v":44669.28125},{"$f":" RTD(\"cqg.rtd\",,\"StudyData\", $N$2, \"Bar\", \"\", \"Open\", $M$2, $F25, $R$2,$Q$2,,$O$2,$P$2)","v":4377.5},{"$f":" RTD(\"cqg.rtd\",,\"StudyData\", $N$2, \"Bar\", \"\", \"High\", $M$2, $F25, $R$2,$Q$2,,$O$2,$P$2)","v":4377.5},{"$f":" RTD(\"cqg.rtd\",,\"StudyData\", $N$2, \"Bar\", \"\", \"Low\", $M$2, $F25, $R$2,$Q$2,,$O$2,$P$2)","v":4375},{"$f":" RTD(\"cqg.rtd\",,\"StudyData\", $N$2, \"Bar\", \"\", \"Close\", $M$2, $F25, $R$2,$Q$2,,$O$2,$P$2)","v":4375.25},-24,null,44669.28125,{"$f":"RTD(\"cqg.rtd\",,\"StudyData\",$N$2, \"Vol\", \"VolType=Auto,CoCType=Auto\", \"Vol\", $M$2, $F25, $R$2,$Q$2,,$O$2,$P$2)","v":601}]
[{"$f":" RTD(\"cqg.rtd\",,\"StudyData\", $N$2, \"Bar\", \"\", \"Time\", $M$2, $F26,$R$2,$Q$2, \"\",\"False\")","v":44669.277777777781},{"$f":" RTD(\"cqg.rtd\",,\"StudyData\", $N$2, \"Bar\", \"\", \"Open\", $M$2, $F26, $R$2,$Q$2,,$O$2,$P$2)","v":4377},{"$f":" RTD(\"cqg.rtd\",,\"StudyData\", $N$2, \"Bar\", \"\", \"High\", $M$2, $F26, $R$2,$Q$2,,$O$2,$P$2)","v":4377.75},{"$f":" RTD(\"cqg.rtd\",,\"StudyData\", $N$2, \"Bar\", \"\", \"Low\", $M$2, $F26, $R$2,$Q$2,,$O$2,$P$2)","v":4375.25},{"$f":" RTD(\"cqg.rtd\",,\"StudyData\", $N$2, \"Bar\", \"\", \"Close\", $M$2, $F26, $R$2,$Q$2,,$O$2,$P$2)","v":4377.5},-25,null,44669.277777777781,{"$f":"RTD(\"cqg.rtd\",,\"StudyData\",$N$2, \"Vol\", \"VolType=Auto,CoCType=Auto\", \"Vol\", $M$2, $F26, $R$2,$Q$2,,$O$2,$P$2)","v":1070}]
[{"$f":" RTD(\"cqg.rtd\",,\"StudyData\", $N$2, \"Bar\", \"\", \"Time\", $M$2, $F27,$R$2,$Q$2, \"\",\"False\")","v":44669.274305555555},{"$f":" RTD(\"cqg.rtd\",,\"StudyData\", $N$2, \"Bar\", \"\", \"Open\", $M$2, $F27, $R$2,$Q$2,,$O$2,$P$2)","v":4379.25},{"$f":" RTD(\"cqg.rtd\",,\"StudyData\", $N$2, \"Bar\", \"\", \"High\", $M$2, $F27, $R$2,$Q$2,,$O$2,$P$2)","v":4379.25},{"$f":" RTD(\"cqg.rtd\",,\"StudyData\", $N$2, \"Bar\", \"\", \"Low\", $M$2, $F27, $R$2,$Q$2,,$O$2,$P$2)","v":4377},{"$f":" RTD(\"cqg.rtd\",,\"StudyData\", $N$2, \"Bar\", \"\", \"Close\", $M$2, $F27, $R$2,$Q$2,,$O$2,$P$2)","v":4377},-26,null,44669.274305555555,{"$f":"RTD(\"cqg.rtd\",,\"StudyData\",$N$2, \"Vol\", \"VolType=Auto,CoCType=Auto\", \"Vol\", $M$2, $F27, $R$2,$Q$2,,$O$2,$P$2)","v":709}]
[{"$f":" RTD(\"cqg.rtd\",,\"StudyData\", $N$2, \"Bar\", \"\", \"Time\", $M$2, $F28,$R$2,$Q$2, \"\",\"False\")","v":44669.270833333336},{"$f":" RTD(\"cqg.rtd\",,\"StudyData\", $N$2, \"Bar\", \"\", \"Open\", $M$2, $F28, $R$2,$Q$2,,$O$2,$P$2)","v":4379.5},{"$f":" RTD(\"cqg.rtd\",,\"StudyData\", $N$2, \"Bar\", \"\", \"High\", $M$2, $F28, $R$2,$Q$2,,$O$2,$P$2)","v":4380},{"$f":" RTD(\"cqg.rtd\",,\"StudyData\", $N$2, \"Bar\", \"\", \"Low\", $M$2, $F28, $R$2,$Q$2,,$O$2,$P$2)","v":4378.25},{"$f":" RTD(\"cqg.rtd\",,\"StudyData\", $N$2, \"Bar\", \"\", \"Close\", $M$2, $F28, $R$2,$Q$2,,$O$2,$P$2)","v":4379.5},-27,null,44669.270833333336,{"$f":"RTD(\"cqg.rtd\",,\"StudyData\",$N$2, \"Vol\", \"VolType=Auto,CoCType=Auto\", \"Vol\", $M$2, $F28, $R$2,$Q$2,,$O$2,$P$2)","v":513}]
[{"$f":" RTD(\"cqg.rtd\",,\"StudyData\", $N$2, \"Bar\", \"\", \"Time\", $M$2, $F29,$R$2,$Q$2, \"\",\"False\")","v":44669.267361111109},{"$f":" RTD(\"cqg.rtd\",,\"StudyData\", $N$2, \"Bar\", \"\", \"Open\", $M$2, $F29, $R$2,$Q$2,,$O$2,$P$2)","v":4379.5},{"$f":" RTD(\"cqg.rtd\",,\"StudyData\", $N$2, \"Bar\", \"\", \"High\", $M$2, $F29, $R$2,$Q$2,,$O$2,$P$2)","v":4380},{"$f":" RTD(\"cqg.rtd\",,\"StudyData\", $N$2, \"Bar\", \"\", \"Low\", $M$2, $F29, $R$2,$Q$2,,$O$2,$P$2)","v":4378.5},{"$f":" RTD(\"cqg.rtd\",,\"StudyData\", $N$2, \"Bar\", \"\", \"Close\", $M$2, $F29, $R$2,$Q$2,,$O$2,$P$2)","v":4379.25},-28,null,44669.267361111109,{"$f":"RTD(\"cqg.rtd\",,\"StudyData\",$N$2, \"Vol\", \"VolType=Auto,CoCType=Auto\", \"Vol\", $M$2, $F29, $R$2,$Q$2,,$O$2,$P$2)","v":555}]
[{"$f":" RTD(\"cqg.rtd\",,\"StudyData\", $N$2, \"Bar\", \"\", \"Time\", $M$2, $F30,$R$2,$Q$2, \"\",\"False\")","v":44669.263888888891},{"$f":" RTD(\"cqg.rtd\",,\"StudyData\", $N$2, \"Bar\", \"\", \"Open\", $M$2, $F30, $R$2,$Q$2,,$O$2,$P$2)","v":4381.25},{"$f":" RTD(\"cqg.rtd\",,\"StudyData\", $N$2, \"Bar\", \"\", \"High\", $M$2, $F30, $R$2,$Q$2,,$O$2,$P$2)","v":4381.75},{"$f":" RTD(\"cqg.rtd\",,\"StudyData\", $N$2, \"Bar\", \"\", \"Low\", $M$2, $F30, $R$2,$Q$2,,$O$2,$P$2)","v":4379.25},{"$f":" RTD(\"cqg.rtd\",,\"StudyData\", $N$2, \"Bar\", \"\", \"Close\", $M$2, $F30, $R$2,$Q$2,,$O$2,$P$2)","v":4379.75},-29,null,44669.263888888891,{"$f":"RTD(\"cqg.rtd\",,\"StudyData\",$N$2, \"Vol\", \"VolType=Auto,CoCType=Auto\", \"Vol\", $M$2, $F30, $R$2,$Q$2,,$O$2,$P$2)","v":1095}]
[{"$f":" RTD(\"cqg.rtd\",,\"StudyData\", $N$2, \"Bar\", \"\", \"Time\", $M$2, $F31,$R$2,$Q$2, \"\",\"False\")","v":44669.260416666664},{"$f":" RTD(\"cqg.rtd\",,\"StudyData\", $N$2, \"Bar\", \"\", \"Open\", $M$2, $F31, $R$2,$Q$2,,$O$2,$P$2)","v":4380.25},{"$f":" RTD(\"cqg.rtd\",,\"StudyData\", $N$2, \"Bar\", \"\", \"High\", $M$2, $F31, $R$2,$Q$2,,$O$2,$P$2)","v":4382},{"$f":" RTD(\"cqg.rtd\",,\"StudyData\", $N$2, \"Bar\", \"\", \"Low\", $M$2, $F31, $R$2,$Q$2,,$O$2,$P$2)","v":4379.5},{"$f":" RTD(\"cqg.rtd\",,\"StudyData\", $N$2, \"Bar\", \"\", \"Close\", $M$2, $F31, $R$2,$Q$2,,$O$2,$P$2)","v":4381.25},-30,null,44669.260416666664,{"$f":"RTD(\"cqg.rtd\",,\"StudyData\",$N$2, \"Vol\", \"VolType=Auto,CoCType=Auto\", \"Vol\", $M$2, $F31, $R$2,$Q$2,,$O$2,$P$2)","v":1369}]
[{"$f":" RTD(\"cqg.rtd\",,\"StudyData\", $N$2, \"Bar\", \"\", \"Time\", $M$2, $F32,$R$2,$Q$2, \"\",\"False\")","v":44669.256944444445},{"$f":" RTD(\"cqg.rtd\",,\"StudyData\", $N$2, \"Bar\", \"\", \"Open\", $M$2, $F32, $R$2,$Q$2,,$O$2,$P$2)","v":4375.75},{"$f":" RTD(\"cqg.rtd\",,\"StudyData\", $N$2, \"Bar\", \"\", \"High\", $M$2, $F32, $R$2,$Q$2,,$O$2,$P$2)","v":4381},{"$f":" RTD(\"cqg.rtd\",,\"StudyData\", $N$2, \"Bar\", \"\", \"Low\", $M$2, $F32, $R$2,$Q$2,,$O$2,$P$2)","v":4375.5},{"$f":" RTD(\"cqg.rtd\",,\"StudyData\", $N$2, \"Bar\", \"\", \"Close\", $M$2, $F32, $R$2,$Q$2,,$O$2,$P$2)","v":4380.25},-31,null,44669.256944444445,{"$f":"RTD(\"cqg.rtd\",,\"StudyData\",$N$2, \"Vol\", \"VolType=Auto,CoCType=Auto\", \"Vol\", $M$2, $F32, $R$2,$Q$2,,$O$2,$P$2)","v":2710}]
[{"$f":" RTD(\"cqg.rtd\",,\"StudyData\", $N$2, \"Bar\", \"\", \"Time\", $M$2, $F33,$R$2,$Q$2, \"\",\"False\")","v":44669.253472222219},{"$f":" RTD(\"cqg.rtd\",,\"StudyData\", $N$2, \"Bar\", \"\", \"Open\", $M$2, $F33, $R$2,$Q$2,,$O$2,$P$2)","v":4372.25},{"$f":" RTD(\"cqg.rtd\",,\"StudyData\", $N$2, \"Bar\", \"\", \"High\", $M$2, $F33, $R$2,$Q$2,,$O$2,$P$2)","v":4377.25},{"$f":" RTD(\"cqg.rtd\",,\"StudyData\", $N$2, \"Bar\", \"\", \"Low\", $M$2, $F33, $R$2,$Q$2,,$O$2,$P$2)","v":4372.25},{"$f":" RTD(\"cqg.rtd\",,\"StudyData\", $N$2, \"Bar\", \"\", \"Close\", $M$2, $F33, $R$2,$Q$2,,$O$2,$P$2)","v":4375.75},-32,null,44669.253472222219,{"$f":"RTD(\"cqg.rtd\",,\"StudyData\",$N$2, \"Vol\", \"VolType=Auto,CoCType=Auto\", \"Vol\", $M$2, $F33, $R$2,$Q$2,,$O$2,$P$2)","v":1674}]
[{"$f":" RTD(\"cqg.rtd\",,\"StudyData\", $N$2, \"Bar\", \"\", \"Time\", $M$2, $F34,$R$2,$Q$2, \"\",\"False\")","v":44669.25},{"$f":" RTD(\"cqg.rtd\",,\"StudyData\", $N$2, \"Bar\", \"\", \"Open\", $M$2, $F34, $R$2,$Q$2,,$O$2,$P$2)","v":4369},{"$f":" RTD(\"cqg.rtd\",,\"StudyData\", $N$2, \"Bar\", \"\", \"High\", $M$2, $F34, $R$2,$Q$2,,$O$2,$P$2)","v":4373},{"$f":" RTD(\"cqg.rtd\",,\"StudyData\", $N$2, \"Bar\", \"\", \"Low\", $M$2, $F34, $R$2,$Q$2,,$O$2,$P$2)","v":4369},{"$f":" RTD(\"cqg.rtd\",,\"StudyData\", $N$2, \"Bar\", \"\", \"Close\", $M$2, $F34, $R$2,$Q$2,,$O$2,$P$2)","v":4372.25},-33,null,44669.25,{"$f":"RTD(\"cqg.rtd\",,\"StudyData\",$N$2, \"Vol\", \"VolType=Auto,CoCType=Auto\", \"Vol\", $M$2, $F34, $R$2,$Q$2,,$O$2,$P$2)","v":934}]
[{"$f":" RTD(\"cqg.rtd\",,\"StudyData\", $N$2, \"Bar\", \"\", \"Time\", $M$2, $F35,$R$2,$Q$2, \"\",\"False\")","v":44669.246527777781},{"$f":" RTD(\"cqg.rtd\",,\"StudyData\", $N$2, \"Bar\", \"\", \"Open\", $M$2, $F35, $R$2,$Q$2,,$O$2,$P$2)","v":4369.5},{"$f":" RTD(\"cqg.rtd\",,\"StudyData\", $N$2, \"Bar\", \"\", \"High\", $M$2, $F35, $R$2,$Q$2,,$O$2,$P$2)","v":4370.25},{"$f":" RTD(\"cqg.rtd\",,\"StudyData\", $N$2, \"Bar\", \"\", \"Low\", $M$2, $F35, $R$2,$Q$2,,$O$2,$P$2)","v":4368.75},{"$f":" RTD(\"cqg.rtd\",,\"StudyData\", $N$2, \"Bar\", \"\", \"Close\", $M$2, $F35, $R$2,$Q$2,,$O$2,$P$2)","v":4368.75},-34,null,44669.246527777781,{"$f":"RTD(\"cqg.rtd\",,\"StudyData\",$N$2, \"Vol\", \"VolType=Auto,CoCType=Auto\", \"Vol\", $M$2, $F35, $R$2,$Q$2,,$O$2,$P$2)","v":369}]
[{"$f":" RTD(\"cqg.rtd\",,\"StudyData\", $N$2, \"Bar\", \"\", \"Time\", $M$2, $F36,$R$2,$Q$2, \"\",\"False\")","v":44669.243055555555},{"$f":" RTD(\"cqg.rtd\",,\"StudyData\", $N$2, \"Bar\", \"\", \"Open\", $M$2, $F36, $R$2,$Q$2,,$O$2,$P$2)","v":4369.75},{"$f":" RTD(\"cqg.rtd\",,\"StudyData\", $N$2, \"Bar\", \"\", \"High\", $M$2, $F36, $R$2,$Q$2,,$O$2,$P$2)","v":4370.5},{"$f":" RTD(\"cqg.rtd\",,\"StudyData\", $N$2, \"Bar\", \"\", \"Low\", $M$2, $F36, $R$2,$Q$2,,$O$2,$P$2)","v":4369.5},{"$f":" RTD(\"cqg.rtd\",,\"StudyData\", $N$2, \"Bar\", \"\", \"Close\", $M$2, $F36, $R$2,$Q$2,,$O$2,$P$2)","v":4369.75},-35,null,44669.243055555555,{"$f":"RTD(\"cqg.rtd\",,\"StudyData\",$N$2, \"Vol\", \"VolType=Auto,CoCType=Auto\", \"Vol\", $M$2, $F36, $R$2,$Q$2,,$O$2,$P$2)","v":227}]
[{"$f":" RTD(\"cqg.rtd\",,\"StudyData\", $N$2, \"Bar\", \"\", \"Time\", $M$2, $F37,$R$2,$Q$2, \"\",\"False\")","v":44669.239583333336},{"$f":" RTD(\"cqg.rtd\",,\"StudyData\", $N$2, \"Bar\", \"\", \"Open\", $M$2, $F37, $R$2,$Q$2,,$O$2,$P$2)","v":4369.75},{"$f":" RTD(\"cqg.rtd\",,\"StudyData\", $N$2, \"Bar\", \"\", \"High\", $M$2, $F37, $R$2,$Q$2,,$O$2,$P$2)","v":4370.5},{"$f":" RTD(\"cqg.rtd\",,\"StudyData\", $N$2, \"Bar\", \"\", \"Low\", $M$2, $F37, $R$2,$Q$2,,$O$2,$P$2)","v":4369.5},{"$f":" RTD(\"cqg.rtd\",,\"StudyData\", $N$2, \"Bar\", \"\", \"Close\", $M$2, $F37, $R$2,$Q$2,,$O$2,$P$2)","v":4369.5},-36,null,44669.239583333336,{"$f":"RTD(\"cqg.rtd\",,\"StudyData\",$N$2, \"Vol\", \"VolType=Auto,CoCType=Auto\", \"Vol\", $M$2, $F37, $R$2,$Q$2,,$O$2,$P$2)","v":324}]
[{"$f":" RTD(\"cqg.rtd\",,\"StudyData\", $N$2, \"Bar\", \"\", \"Time\", $M$2, $F38,$R$2,$Q$2, \"\",\"False\")","v":44669.236111111109},{"$f":" RTD(\"cqg.rtd\",,\"StudyData\", $N$2, \"Bar\", \"\", \"Open\", $M$2, $F38, $R$2,$Q$2,,$O$2,$P$2)","v":4368.75},{"$f":" RTD(\"cqg.rtd\",,\"StudyData\", $N$2, \"Bar\", \"\", \"High\", $M$2, $F38, $R$2,$Q$2,,$O$2,$P$2)","v":4370.75},{"$f":" RTD(\"cqg.rtd\",,\"StudyData\", $N$2, \"Bar\", \"\", \"Low\", $M$2, $F38, $R$2,$Q$2,,$O$2,$P$2)","v":4368.5},{"$f":" RTD(\"cqg.rtd\",,\"StudyData\", $N$2, \"Bar\", \"\", \"Close\", $M$2, $F38, $R$2,$Q$2,,$O$2,$P$2)","v":4369.5},-37,null,44669.236111111109,{"$f":"RTD(\"cqg.rtd\",,\"StudyData\",$N$2, \"Vol\", \"VolType=Auto,CoCType=Auto\", \"Vol\", $M$2, $F38, $R$2,$Q$2,,$O$2,$P$2)","v":316}]
[{"$f":" RTD(\"cqg.rtd\",,\"StudyData\", $N$2, \"Bar\", \"\", \"Time\", $M$2, $F39,$R$2,$Q$2, \"\",\"False\")","v":44669.232638888891},{"$f":" RTD(\"cqg.rtd\",,\"StudyData\", $N$2, \"Bar\", \"\", \"Open\", $M$2, $F39, $R$2,$Q$2,,$O$2,$P$2)","v":4369.75},{"$f":" RTD(\"cqg.rtd\",,\"StudyData\", $N$2, \"Bar\", \"\", \"High\", $M$2, $F39, $R$2,$Q$2,,$O$2,$P$2)","v":4369.75},{"$f":" RTD(\"cqg.rtd\",,\"StudyData\", $N$2, \"Bar\", \"\", \"Low\", $M$2, $F39, $R$2,$Q$2,,$O$2,$P$2)","v":4368.5},{"$f":" RTD(\"cqg.rtd\",,\"StudyData\", $N$2, \"Bar\", \"\", \"Close\", $M$2, $F39, $R$2,$Q$2,,$O$2,$P$2)","v":4368.75},-38,null,44669.232638888891,{"$f":"RTD(\"cqg.rtd\",,\"StudyData\",$N$2, \"Vol\", \"VolType=Auto,CoCType=Auto\", \"Vol\", $M$2, $F39, $R$2,$Q$2,,$O$2,$P$2)","v":174}]
[{"$f":" RTD(\"cqg.rtd\",,\"StudyData\", $N$2, \"Bar\", \"\", \"Time\", $M$2, $F40,$R$2,$Q$2, \"\",\"False\")","v":44669.229166666664},{"$f":" RTD(\"cqg.rtd\",,\"StudyData\", $N$2, \"Bar\", \"\", \"Open\", $M$2, $F40, $R$2,$Q$2,,$O$2,$P$2)","v":4370.75},{"$f":" RTD(\"cqg.rtd\",,\"StudyData\", $N$2, \"Bar\", \"\", \"High\", $M$2, $F40, $R$2,$Q$2,,$O$2,$P$2)","v":4370.75},{"$f":" RTD(\"cqg.rtd\",,\"StudyData\", $N$2, \"Bar\", \"\", \"Low\", $M$2, $F40, $R$2,$Q$2,,$O$2,$P$2)","v":4369},{"$f":" RTD(\"cqg.rtd\",,\"StudyData\", $N$2, \"Bar\", \"\", \"Close\", $M$2, $F40, $R$2,$Q$2,,$O$2,$P$2)","v":4369.25},-39,null,44669.229166666664,{"$f":"RTD(\"cqg.rtd\",,\"StudyData\",$N$2, \"Vol\", \"VolType=Auto,CoCType=Auto\", \"Vol\", $M$2, $F40, $R$2,$Q$2,,$O$2,$P$2)","v":285}]
[{"$f":" RTD(\"cqg.rtd\",,\"StudyData\", $N$2, \"Bar\", \"\", \"Time\", $M$2, $F41,$R$2,$Q$2, \"\",\"False\")","v":44669.225694444445},{"$f":" RTD(\"cqg.rtd\",,\"StudyData\", $N$2, \"Bar\", \"\", \"Open\", $M$2, $F41, $R$2,$Q$2,,$O$2,$P$2)","v":4366.75},{"$f":" RTD(\"cqg.rtd\",,\"StudyData\", $N$2, \"Bar\", \"\", \"High\", $M$2, $F41, $R$2,$Q$2,,$O$2,$P$2)","v":4371.25},{"$f":" RTD(\"cqg.rtd\",,\"StudyData\", $N$2, \"Bar\", \"\", \"Low\", $M$2, $F41, $R$2,$Q$2,,$O$2,$P$2)","v":4366.75},{"$f":" RTD(\"cqg.rtd\",,\"StudyData\", $N$2, \"Bar\", \"\", \"Close\", $M$2, $F41, $R$2,$Q$2,,$O$2,$P$2)","v":4370.5},-40,null,44669.225694444445,{"$f":"RTD(\"cqg.rtd\",,\"StudyData\",$N$2, \"Vol\", \"VolType=Auto,CoCType=Auto\", \"Vol\", $M$2, $F41, $R$2,$Q$2,,$O$2,$P$2)","v":1183}]
[{"$f":" RTD(\"cqg.rtd\",,\"StudyData\", $N$2, \"Bar\", \"\", \"Time\", $M$2, $F42,$R$2,$Q$2, \"\",\"False\")","v":44669.222222222219},{"$f":" RTD(\"cqg.rtd\",,\"StudyData\", $N$2, \"Bar\", \"\", \"Open\", $M$2, $F42, $R$2,$Q$2,,$O$2,$P$2)","v":4366.25},{"$f":" RTD(\"cqg.rtd\",,\"StudyData\", $N$2, \"Bar\", \"\", \"High\", $M$2, $F42, $R$2,$Q$2,,$O$2,$P$2)","v":4367.5},{"$f":" RTD(\"cqg.rtd\",,\"StudyData\", $N$2, \"Bar\", \"\", \"Low\", $M$2, $F42, $R$2,$Q$2,,$O$2,$P$2)","v":4366},{"$f":" RTD(\"cqg.rtd\",,\"StudyData\", $N$2, \"Bar\", \"\", \"Close\", $M$2, $F42, $R$2,$Q$2,,$O$2,$P$2)","v":4366.5},-41,null,44669.222222222219,{"$f":"RTD(\"cqg.rtd\",,\"StudyData\",$N$2, \"Vol\", \"VolType=Auto,CoCType=Auto\", \"Vol\", $M$2, $F42, $R$2,$Q$2,,$O$2,$P$2)","v":242}]
[{"$f":" RTD(\"cqg.rtd\",,\"StudyData\", $N$2, \"Bar\", \"\", \"Time\", $M$2, $F43,$R$2,$Q$2, \"\",\"False\")","v":44669.21875},{"$f":" RTD(\"cqg.rtd\",,\"StudyData\", $N$2, \"Bar\", \"\", \"Open\", $M$2, $F43, $R$2,$Q$2,,$O$2,$P$2)","v":4366.75},{"$f":" RTD(\"cqg.rtd\",,\"StudyData\", $N$2, \"Bar\", \"\", \"High\", $M$2, $F43, $R$2,$Q$2,,$O$2,$P$2)","v":4367.25},{"$f":" RTD(\"cqg.rtd\",,\"StudyData\", $N$2, \"Bar\", \"\", \"Low\", $M$2, $F43, $R$2,$Q$2,,$O$2,$P$2)","v":4366.5},{"$f":" RTD(\"cqg.rtd\",,\"StudyData\", $N$2, \"Bar\", \"\", \"Close\", $M$2, $F43, $R$2,$Q$2,,$O$2,$P$2)","v":4366.5},-42,null,44669.21875,{"$f":"RTD(\"cqg.rtd\",,\"StudyData\",$N$2, \"Vol\", \"VolType=Auto,CoCType=Auto\", \"Vol\", $M$2, $F43, $R$2,$Q$2,,$O$2,$P$2)","v":127},null,null,null,null,{"$f":"76+6","v":82}]
[{"$f":" RTD(\"cqg.rtd\",,\"StudyData\", $N$2, \"Bar\", \"\", \"Time\", $M$2, $F44,$R$2,$Q$2, \"\",\"False\")","v":44669.215277777781},{"$f":" RTD(\"cqg.rtd\",,\"StudyData\", $N$2, \"Bar\", \"\", \"Open\", $M$2, $F44, $R$2,$Q$2,,$O$2,$P$2)","v":4367},{"$f":" RTD(\"cqg.rtd\",,\"StudyData\", $N$2, \"Bar\", \"\", \"High\", $M$2, $F44, $R$2,$Q$2,,$O$2,$P$2)","v":4367.25},{"$f":" RTD(\"cqg.rtd\",,\"StudyData\", $N$2, \"Bar\", \"\", \"Low\", $M$2, $F44, $R$2,$Q$2,,$O$2,$P$2)","v":4366.5},{"$f":" RTD(\"cqg.rtd\",,\"StudyData\", $N$2, \"Bar\", \"\", \"Close\", $M$2, $F44, $R$2,$Q$2,,$O$2,$P$2)","v":4366.5},-43,null,44669.215277777781,{"$f":"RTD(\"cqg.rtd\",,\"StudyData\",$N$2, \"Vol\", \"VolType=Auto,CoCType=Auto\", \"Vol\", $M$2, $F44, $R$2,$Q$2,,$O$2,$P$2)","v":136},null,null,null,null,{"$f":"N43*5","v":410}]
[{"$f":" RTD(\"cqg.rtd\",,\"StudyData\", $N$2, \"Bar\", \"\", \"Time\", $M$2, $F45,$R$2,$Q$2, \"\",\"False\")","v":44669.211805555555},{"$f":" RTD(\"cqg.rtd\",,\"StudyData\", $N$2, \"Bar\", \"\", \"Open\", $M$2, $F45, $R$2,$Q$2,,$O$2,$P$2)","v":4366.25},{"$f":" RTD(\"cqg.rtd\",,\"StudyData\", $N$2, \"Bar\", \"\", \"High\", $M$2, $F45, $R$2,$Q$2,,$O$2,$P$2)","v":4367.5},{"$f":" RTD(\"cqg.rtd\",,\"StudyData\", $N$2, \"Bar\", \"\", \"Low\", $M$2, $F45, $R$2,$Q$2,,$O$2,$P$2)","v":4365.75},{"$f":" RTD(\"cqg.rtd\",,\"StudyData\", $N$2, \"Bar\", \"\", \"Close\", $M$2, $F45, $R$2,$Q$2,,$O$2,$P$2)","v":4367},-44,null,44669.211805555555,{"$f":"RTD(\"cqg.rtd\",,\"StudyData\",$N$2, \"Vol\", \"VolType=Auto,CoCType=Auto\", \"Vol\", $M$2, $F45, $R$2,$Q$2,,$O$2,$P$2)","v":241}]
[{"$f":" RTD(\"cqg.rtd\",,\"StudyData\", $N$2, \"Bar\", \"\", \"Time\", $M$2, $F46,$R$2,$Q$2, \"\",\"False\")","v":44669.208333333336},{"$f":" RTD(\"cqg.rtd\",,\"StudyData\", $N$2, \"Bar\", \"\", \"Open\", $M$2, $F46, $R$2,$Q$2,,$O$2,$P$2)","v":4364.75},{"$f":" RTD(\"cqg.rtd\",,\"StudyData\", $N$2, \"Bar\", \"\", \"High\", $M$2, $F46, $R$2,$Q$2,,$O$2,$P$2)","v":4366.75},{"$f":" RTD(\"cqg.rtd\",,\"StudyData\", $N$2, \"Bar\", \"\", \"Low\", $M$2, $F46, $R$2,$Q$2,,$O$2,$P$2)","v":4364.25},{"$f":" RTD(\"cqg.rtd\",,\"StudyData\", $N$2, \"Bar\", \"\", \"Close\", $M$2, $F46, $R$2,$Q$2,,$O$2,$P$2)","v":4366.5},-45,null,44669.208333333336,{"$f":"RTD(\"cqg.rtd\",,\"StudyData\",$N$2, \"Vol\", \"VolType=Auto,CoCType=Auto\", \"Vol\", $M$2, $F46, $R$2,$Q$2,,$O$2,$P$2)","v":327}]
[{"$f":" RTD(\"cqg.rtd\",,\"StudyData\", $N$2, \"Bar\", \"\", \"Time\", $M$2, $F47,$R$2,$Q$2, \"\",\"False\")","v":44669.204861111109},{"$f":" RTD(\"cqg.rtd\",,\"StudyData\", $N$2, \"Bar\", \"\", \"Open\", $M$2, $F47, $R$2,$Q$2,,$O$2,$P$2)","v":4364.5},{"$f":" RTD(\"cqg.rtd\",,\"StudyData\", $N$2, \"Bar\", \"\", \"High\", $M$2, $F47, $R$2,$Q$2,,$O$2,$P$2)","v":4365},{"$f":" RTD(\"cqg.rtd\",,\"StudyData\", $N$2, \"Bar\", \"\", \"Low\", $M$2, $F47, $R$2,$Q$2,,$O$2,$P$2)","v":4364},{"$f":" RTD(\"cqg.rtd\",,\"StudyData\", $N$2, \"Bar\", \"\", \"Close\", $M$2, $F47, $R$2,$Q$2,,$O$2,$P$2)","v":4365},-46,null,44669.204861111109,{"$f":"RTD(\"cqg.rtd\",,\"StudyData\",$N$2, \"Vol\", \"VolType=Auto,CoCType=Auto\", \"Vol\", $M$2, $F47, $R$2,$Q$2,,$O$2,$P$2)","v":97}]
[{"$f":" RTD(\"cqg.rtd\",,\"StudyData\", $N$2, \"Bar\", \"\", \"Time\", $M$2, $F48,$R$2,$Q$2, \"\",\"False\")","v":44669.201388888891},{"$f":" RTD(\"cqg.rtd\",,\"StudyData\", $N$2, \"Bar\", \"\", \"Open\", $M$2, $F48, $R$2,$Q$2,,$O$2,$P$2)","v":4364.5},{"$f":" RTD(\"cqg.rtd\",,\"StudyData\", $N$2, \"Bar\", \"\", \"High\", $M$2, $F48, $R$2,$Q$2,,$O$2,$P$2)","v":4364.75},{"$f":" RTD(\"cqg.rtd\",,\"StudyData\", $N$2, \"Bar\", \"\", \"Low\", $M$2, $F48, $R$2,$Q$2,,$O$2,$P$2)","v":4363.5},{"$f":" RTD(\"cqg.rtd\",,\"StudyData\", $N$2, \"Bar\", \"\", \"Close\", $M$2, $F48, $R$2,$Q$2,,$O$2,$P$2)","v":4364.75},-47,null,44669.201388888891,{"$f":"RTD(\"cqg.rtd\",,\"StudyData\",$N$2, \"Vol\", \"VolType=Auto,CoCType=Auto\", \"Vol\", $M$2, $F48, $R$2,$Q$2,,$O$2,$P$2)","v":140}]
[{"$f":" RTD(\"cqg.rtd\",,\"StudyData\", $N$2, \"Bar\", \"\", \"Time\", $M$2, $F49,$R$2,$Q$2, \"\",\"False\")","v":44669.197916666664},{"$f":" RTD(\"cqg.rtd\",,\"StudyData\", $N$2, \"Bar\", \"\", \"Open\", $M$2, $F49, $R$2,$Q$2,,$O$2,$P$2)","v":4364},{"$f":" RTD(\"cqg.rtd\",,\"StudyData\", $N$2, \"Bar\", \"\", \"High\", $M$2, $F49, $R$2,$Q$2,,$O$2,$P$2)","v":4364.75},{"$f":" RTD(\"cqg.rtd\",,\"StudyData\", $N$2, \"Bar\", \"\", \"Low\", $M$2, $F49, $R$2,$Q$2,,$O$2,$P$2)","v":4363.5},{"$f":" RTD(\"cqg.rtd\",,\"StudyData\", $N$2, \"Bar\", \"\", \"Close\", $M$2, $F49, $R$2,$Q$2,,$O$2,$P$2)","v":4364.5},-48,null,44669.197916666664,{"$f":"RTD(\"cqg.rtd\",,\"StudyData\",$N$2, \"Vol\", \"VolType=Auto,CoCType=Auto\", \"Vol\", $M$2, $F49, $R$2,$Q$2,,$O$2,$P$2)","v":246}]
[{"$f":" RTD(\"cqg.rtd\",,\"StudyData\", $N$2, \"Bar\", \"\", \"Time\", $M$2, $F50,$R$2,$Q$2, \"\",\"False\")","v":44669.194444444445},{"$f":" RTD(\"cqg.rtd\",,\"StudyData\", $N$2, \"Bar\", \"\", \"Open\", $M$2, $F50, $R$2,$Q$2,,$O$2,$P$2)","v":4364},{"$f":" RTD(\"cqg.rtd\",,\"StudyData\", $N$2, \"Bar\", \"\", \"High\", $M$2, $F50, $R$2,$Q$2,,$O$2,$P$2)","v":4365},{"$f":" RTD(\"cqg.rtd\",,\"StudyData\", $N$2, \"Bar\", \"\", \"Low\", $M$2, $F50, $R$2,$Q$2,,$O$2,$P$2)","v":4363.5},{"$f":" RTD(\"cqg.rtd\",,\"StudyData\", $N$2, \"Bar\", \"\", \"Close\", $M$2, $F50, $R$2,$Q$2,,$O$2,$P$2)","v":4364},-49,null,44669.194444444445,{"$f":"RTD(\"cqg.rtd\",,\"StudyData\",$N$2, \"Vol\", \"VolType=Auto,CoCType=Auto\", \"Vol\", $M$2, $F50, $R$2,$Q$2,,$O$2,$P$2)","v":216}]
[{"$f":" RTD(\"cqg.rtd\",,\"StudyData\", $N$2, \"Bar\", \"\", \"Time\", $M$2, $F51,$R$2,$Q$2, \"\",\"False\")","v":44669.190972222219},{"$f":" RTD(\"cqg.rtd\",,\"StudyData\", $N$2, \"Bar\", \"\", \"Open\", $M$2, $F51, $R$2,$Q$2,,$O$2,$P$2)","v":4364.25},{"$f":" RTD(\"cqg.rtd\",,\"StudyData\", $N$2, \"Bar\", \"\", \"High\", $M$2, $F51, $R$2,$Q$2,,$O$2,$P$2)","v":4365},{"$f":" RTD(\"cqg.rtd\",,\"StudyData\", $N$2, \"Bar\", \"\", \"Low\", $M$2, $F51, $R$2,$Q$2,,$O$2,$P$2)","v":4363.75},{"$f":" RTD(\"cqg.rtd\",,\"StudyData\", $N$2, \"Bar\", \"\", \"Close\", $M$2, $F51, $R$2,$Q$2,,$O$2,$P$2)","v":4364},-50,null,44669.190972222219,{"$f":"RTD(\"cqg.rtd\",,\"StudyData\",$N$2, \"Vol\", \"VolType=Auto,CoCType=Auto\", \"Vol\", $M$2, $F51, $R$2,$Q$2,,$O$2,$P$2)","v":251}]
[{"$f":" RTD(\"cqg.rtd\",,\"StudyData\", $N$2, \"Bar\", \"\", \"Time\", $M$2, $F52,$R$2,$Q$2, \"\",\"False\")","v":44669.1875},{"$f":" RTD(\"cqg.rtd\",,\"StudyData\", $N$2, \"Bar\", \"\", \"Open\", $M$2, $F52, $R$2,$Q$2,,$O$2,$P$2)","v":4363},{"$f":" RTD(\"cqg.rtd\",,\"StudyData\", $N$2, \"Bar\", \"\", \"High\", $M$2, $F52, $R$2,$Q$2,,$O$2,$P$2)","v":4364.5},{"$f":" RTD(\"cqg.rtd\",,\"StudyData\", $N$2, \"Bar\", \"\", \"Low\", $M$2, $F52, $R$2,$Q$2,,$O$2,$P$2)","v":4362.75},{"$f":" RTD(\"cqg.rtd\",,\"StudyData\", $N$2, \"Bar\", \"\", \"Close\", $M$2, $F52, $R$2,$Q$2,,$O$2,$P$2)","v":4364},-51,null,44669.1875,{"$f":"RTD(\"cqg.rtd\",,\"StudyData\",$N$2, \"Vol\", \"VolType=Auto,CoCType=Auto\", \"Vol\", $M$2, $F52, $R$2,$Q$2,,$O$2,$P$2)","v":304}]
[{"$f":" RTD(\"cqg.rtd\",,\"StudyData\", $N$2, \"Bar\", \"\", \"Time\", $M$2, $F53,$R$2,$Q$2, \"\",\"False\")","v":44669.184027777781},{"$f":" RTD(\"cqg.rtd\",,\"StudyData\", $N$2, \"Bar\", \"\", \"Open\", $M$2, $F53, $R$2,$Q$2,,$O$2,$P$2)","v":4362.5},{"$f":" RTD(\"cqg.rtd\",,\"StudyData\", $N$2, \"Bar\", \"\", \"High\", $M$2, $F53, $R$2,$Q$2,,$O$2,$P$2)","v":4364.25},{"$f":" RTD(\"cqg.rtd\",,\"StudyData\", $N$2, \"Bar\", \"\", \"Low\", $M$2, $F53, $R$2,$Q$2,,$O$2,$P$2)","v":4362},{"$f":" RTD(\"cqg.rtd\",,\"StudyData\", $N$2, \"Bar\", \"\", \"Close\", $M$2, $F53, $R$2,$Q$2,,$O$2,$P$2)","v":4363},-52,null,44669.184027777781,{"$f":"RTD(\"cqg.rtd\",,\"StudyData\",$N$2, \"Vol\", \"VolType=Auto,CoCType=Auto\", \"Vol\", $M$2, $F53, $R$2,$Q$2,,$O$2,$P$2)","v":407}]
[{"$f":" RTD(\"cqg.rtd\",,\"StudyData\", $N$2, \"Bar\", \"\", \"Time\", $M$2, $F54,$R$2,$Q$2, \"\",\"False\")","v":44669.180555555555},{"$f":" RTD(\"cqg.rtd\",,\"StudyData\", $N$2, \"Bar\", \"\", \"Open\", $M$2, $F54, $R$2,$Q$2,,$O$2,$P$2)","v":4367},{"$f":" RTD(\"cqg.rtd\",,\"StudyData\", $N$2, \"Bar\", \"\", \"High\", $M$2, $F54, $R$2,$Q$2,,$O$2,$P$2)","v":4367},{"$f":" RTD(\"cqg.rtd\",,\"StudyData\", $N$2, \"Bar\", \"\", \"Low\", $M$2, $F54, $R$2,$Q$2,,$O$2,$P$2)","v":4361},{"$f":" RTD(\"cqg.rtd\",,\"StudyData\", $N$2, \"Bar\", \"\", \"Close\", $M$2, $F54, $R$2,$Q$2,,$O$2,$P$2)","v":4362.25},-53,null,44669.180555555555,{"$f":"RTD(\"cqg.rtd\",,\"StudyData\",$N$2, \"Vol\", \"VolType=Auto,CoCType=Auto\", \"Vol\", $M$2, $F54, $R$2,$Q$2,,$O$2,$P$2)","v":1268}]
[{"$f":" RTD(\"cqg.rtd\",,\"StudyData\", $N$2, \"Bar\", \"\", \"Time\", $M$2, $F55,$R$2,$Q$2, \"\",\"False\")","v":44669.177083333336},{"$f":" RTD(\"cqg.rtd\",,\"StudyData\", $N$2, \"Bar\", \"\", \"Open\", $M$2, $F55, $R$2,$Q$2,,$O$2,$P$2)","v":4367.5},{"$f":" RTD(\"cqg.rtd\",,\"StudyData\", $N$2, \"Bar\", \"\", \"High\", $M$2, $F55, $R$2,$Q$2,,$O$2,$P$2)","v":4368.75},{"$f":" RTD(\"cqg.rtd\",,\"StudyData\", $N$2, \"Bar\", \"\", \"Low\", $M$2, $F55, $R$2,$Q$2,,$O$2,$P$2)","v":4367},{"$f":" RTD(\"cqg.rtd\",,\"StudyData\", $N$2, \"Bar\", \"\", \"Close\", $M$2, $F55, $R$2,$Q$2,,$O$2,$P$2)","v":4367},-54,null,44669.177083333336,{"$f":"RTD(\"cqg.rtd\",,\"StudyData\",$N$2, \"Vol\", \"VolType=Auto,CoCType=Auto\", \"Vol\", $M$2, $F55, $R$2,$Q$2,,$O$2,$P$2)","v":230}]
[{"$f":" RTD(\"cqg.rtd\",,\"StudyData\", $N$2, \"Bar\", \"\", \"Time\", $M$2, $F56,$R$2,$Q$2, \"\",\"False\")","v":44669.173611111109},{"$f":" RTD(\"cqg.rtd\",,\"StudyData\", $N$2, \"Bar\", \"\", \"Open\", $M$2, $F56, $R$2,$Q$2,,$O$2,$P$2)","v":4369.25},{"$f":" RTD(\"cqg.rtd\",,\"StudyData\", $N$2, \"Bar\", \"\", \"High\", $M$2, $F56, $R$2,$Q$2,,$O$2,$P$2)","v":4369.25},{"$f":" RTD(\"cqg.rtd\",,\"StudyData\", $N$2, \"Bar\", \"\", \"Low\", $M$2, $F56, $R$2,$Q$2,,$O$2,$P$2)","v":4367.5},{"$f":" RTD(\"cqg.rtd\",,\"StudyData\", $N$2, \"Bar\", \"\", \"Close\", $M$2, $F56, $R$2,$Q$2,,$O$2,$P$2)","v":4367.75},-55,null,44669.173611111109,{"$f":"RTD(\"cqg.rtd\",,\"StudyData\",$N$2, \"Vol\", \"VolType=Auto,CoCType=Auto\", \"Vol\", $M$2, $F56, $R$2,$Q$2,,$O$2,$P$2)","v":231}]
[{"$f":" RTD(\"cqg.rtd\",,\"StudyData\", $N$2, \"Bar\", \"\", \"Time\", $M$2, $F57,$R$2,$Q$2, \"\",\"False\")","v":44669.170138888891},{"$f":" RTD(\"cqg.rtd\",,\"StudyData\", $N$2, \"Bar\", \"\", \"Open\", $M$2, $F57, $R$2,$Q$2,,$O$2,$P$2)","v":4369.25},{"$f":" RTD(\"cqg.rtd\",,\"StudyData\", $N$2, \"Bar\", \"\", \"High\", $M$2, $F57, $R$2,$Q$2,,$O$2,$P$2)","v":4369.75},{"$f":" RTD(\"cqg.rtd\",,\"StudyData\", $N$2, \"Bar\", \"\", \"Low\", $M$2, $F57, $R$2,$Q$2,,$O$2,$P$2)","v":4368.5},{"$f":" RTD(\"cqg.rtd\",,\"StudyData\", $N$2, \"Bar\", \"\", \"Close\", $M$2, $F57, $R$2,$Q$2,,$O$2,$P$2)","v":4369},-56,null,44669.170138888891,{"$f":"RTD(\"cqg.rtd\",,\"StudyData\",$N$2, \"Vol\", \"VolType=Auto,CoCType=Auto\", \"Vol\", $M$2, $F57, $R$2,$Q$2,,$O$2,$P$2)","v":192}]
[{"$f":" RTD(\"cqg.rtd\",,\"StudyData\", $N$2, \"Bar\", \"\", \"Time\", $M$2, $F58,$R$2,$Q$2, \"\",\"False\")","v":44669.166666666664},{"$f":" RTD(\"cqg.rtd\",,\"StudyData\", $N$2, \"Bar\", \"\", \"Open\", $M$2, $F58, $R$2,$Q$2,,$O$2,$P$2)","v":4369.5},{"$f":" RTD(\"cqg.rtd\",,\"StudyData\", $N$2, \"Bar\", \"\", \"High\", $M$2, $F58, $R$2,$Q$2,,$O$2,$P$2)","v":4369.75},{"$f":" RTD(\"cqg.rtd\",,\"StudyData\", $N$2, \"Bar\", \"\", \"Low\", $M$2, $F58, $R$2,$Q$2,,$O$2,$P$2)","v":4368.25},{"$f":" RTD(\"cqg.rtd\",,\"StudyData\", $N$2, \"Bar\", \"\", \"Close\", $M$2, $F58, $R$2,$Q$2,,$O$2,$P$2)","v":4369},-57,null,44669.166666666664,{"$f":"RTD(\"cqg.rtd\",,\"StudyData\",$N$2, \"Vol\", \"VolType=Auto,CoCType=Auto\", \"Vol\", $M$2, $F58, $R$2,$Q$2,,$O$2,$P$2)","v":281}]
[{"$f":" RTD(\"cqg.rtd\",,\"StudyData\", $N$2, \"Bar\", \"\", \"Time\", $M$2, $F59,$R$2,$Q$2, \"\",\"False\")","v":44669.163194444445},{"$f":" RTD(\"cqg.rtd\",,\"StudyData\", $N$2, \"Bar\", \"\", \"Open\", $M$2, $F59, $R$2,$Q$2,,$O$2,$P$2)","v":4370},{"$f":" RTD(\"cqg.rtd\",,\"StudyData\", $N$2, \"Bar\", \"\", \"High\", $M$2, $F59, $R$2,$Q$2,,$O$2,$P$2)","v":4370.5},{"$f":" RTD(\"cqg.rtd\",,\"StudyData\", $N$2, \"Bar\", \"\", \"Low\", $M$2, $F59, $R$2,$Q$2,,$O$2,$P$2)","v":4369},{"$f":" RTD(\"cqg.rtd\",,\"StudyData\", $N$2, \"Bar\", \"\", \"Close\", $M$2, $F59, $R$2,$Q$2,,$O$2,$P$2)","v":4369.25},-58,null,44669.163194444445,{"$f":"RTD(\"cqg.rtd\",,\"StudyData\",$N$2, \"Vol\", \"VolType=Auto,CoCType=Auto\", \"Vol\", $M$2, $F59, $R$2,$Q$2,,$O$2,$P$2)","v":304}]
[{"$f":" RTD(\"cqg.rtd\",,\"StudyData\", $N$2, \"Bar\", \"\", \"Time\", $M$2, $F60,$R$2,$Q$2, \"\",\"False\")","v":44669.159722222219},{"$f":" RTD(\"cqg.rtd\",,\"StudyData\", $N$2, \"Bar\", \"\", \"Open\", $M$2, $F60, $R$2,$Q$2,,$O$2,$P$2)","v":4372},{"$f":" RTD(\"cqg.rtd\",,\"StudyData\", $N$2, \"Bar\", \"\", \"High\", $M$2, $F60, $R$2,$Q$2,,$O$2,$P$2)","v":4372.25},{"$f":" RTD(\"cqg.rtd\",,\"StudyData\", $N$2, \"Bar\", \"\", \"Low\", $M$2, $F60, $R$2,$Q$2,,$O$2,$P$2)","v":4370},{"$f":" RTD(\"cqg.rtd\",,\"StudyData\", $N$2, \"Bar\", \"\", \"Close\", $M$2, $F60, $R$2,$Q$2,,$O$2,$P$2)","v":4370},-59,null,44669.159722222219,{"$f":"RTD(\"cqg.rtd\",,\"StudyData\",$N$2, \"Vol\", \"VolType=Auto,CoCType=Auto\", \"Vol\", $M$2, $F60, $R$2,$Q$2,,$O$2,$P$2)","v":210}]
[{"$f":" RTD(\"cqg.rtd\",,\"StudyData\", $N$2, \"Bar\", \"\", \"Time\", $M$2, $F61,$R$2,$Q$2, \"\",\"False\")","v":44669.15625},{"$f":" RTD(\"cqg.rtd\",,\"StudyData\", $N$2, \"Bar\", \"\", \"Open\", $M$2, $F61, $R$2,$Q$2,,$O$2,$P$2)","v":4372},{"$f":" RTD(\"cqg.rtd\",,\"StudyData\", $N$2, \"Bar\", \"\", \"High\", $M$2, $F61, $R$2,$Q$2,,$O$2,$P$2)","v":4372.25},{"$f":" RTD(\"cqg.rtd\",,\"StudyData\", $N$2, \"Bar\", \"\", \"Low\", $M$2, $F61, $R$2,$Q$2,,$O$2,$P$2)","v":4371.5},{"$f":" RTD(\"cqg.rtd\",,\"StudyData\", $N$2, \"Bar\", \"\", \"Close\", $M$2, $F61, $R$2,$Q$2,,$O$2,$P$2)","v":4372},-60,null,44669.15625,{"$f":"RTD(\"cqg.rtd\",,\"StudyData\",$N$2, \"Vol\", \"VolType=Auto,CoCType=Auto\", \"Vol\", $M$2, $F61, $R$2,$Q$2,,$O$2,$P$2)","v":104}]
[{"$f":" RTD(\"cqg.rtd\",,\"StudyData\", $N$2, \"Bar\", \"\", \"Time\", $M$2, $F62,$R$2,$Q$2, \"\",\"False\")","v":44669.152777777781},{"$f":" RTD(\"cqg.rtd\",,\"StudyData\", $N$2, \"Bar\", \"\", \"Open\", $M$2, $F62, $R$2,$Q$2,,$O$2,$P$2)","v":4371.75},{"$f":" RTD(\"cqg.rtd\",,\"StudyData\", $N$2, \"Bar\", \"\", \"High\", $M$2, $F62, $R$2,$Q$2,,$O$2,$P$2)","v":4372},{"$f":" RTD(\"cqg.rtd\",,\"StudyData\", $N$2, \"Bar\", \"\", \"Low\", $M$2, $F62, $R$2,$Q$2,,$O$2,$P$2)","v":4371},{"$f":" RTD(\"cqg.rtd\",,\"StudyData\", $N$2, \"Bar\", \"\", \"Close\", $M$2, $F62, $R$2,$Q$2,,$O$2,$P$2)","v":4372},-61,null,44669.152777777781,{"$f":"RTD(\"cqg.rtd\",,\"StudyData\",$N$2, \"Vol\", \"VolType=Auto,CoCType=Auto\", \"Vol\", $M$2, $F62, $R$2,$Q$2,,$O$2,$P$2)","v":100}]
[{"$f":" RTD(\"cqg.rtd\",,\"StudyData\", $N$2, \"Bar\", \"\", \"Time\", $M$2, $F63,$R$2,$Q$2, \"\",\"False\")","v":44669.149305555555},{"$f":" RTD(\"cqg.rtd\",,\"StudyData\", $N$2, \"Bar\", \"\", \"Open\", $M$2, $F63, $R$2,$Q$2,,$O$2,$P$2)","v":4371.5},{"$f":" RTD(\"cqg.rtd\",,\"StudyData\", $N$2, \"Bar\", \"\", \"High\", $M$2, $F63, $R$2,$Q$2,,$O$2,$P$2)","v":4372.25},{"$f":" RTD(\"cqg.rtd\",,\"StudyData\", $N$2, \"Bar\", \"\", \"Low\", $M$2, $F63, $R$2,$Q$2,,$O$2,$P$2)","v":4371},{"$f":" RTD(\"cqg.rtd\",,\"StudyData\", $N$2, \"Bar\", \"\", \"Close\", $M$2, $F63, $R$2,$Q$2,,$O$2,$P$2)","v":4371.75},-62,null,44669.149305555555,{"$f":"RTD(\"cqg.rtd\",,\"StudyData\",$N$2, \"Vol\", \"VolType=Auto,CoCType=Auto\", \"Vol\", $M$2, $F63, $R$2,$Q$2,,$O$2,$P$2)","v":158}]
[{"$f":" RTD(\"cqg.rtd\",,\"StudyData\", $N$2, \"Bar\", \"\", \"Time\", $M$2, $F64,$R$2,$Q$2, \"\",\"False\")","v":44669.145833333336},{"$f":" RTD(\"cqg.rtd\",,\"StudyData\", $N$2, \"Bar\", \"\", \"Open\", $M$2, $F64, $R$2,$Q$2,,$O$2,$P$2)","v":4371.75},{"$f":" RTD(\"cqg.rtd\",,\"StudyData\", $N$2, \"Bar\", \"\", \"High\", $M$2, $F64, $R$2,$Q$2,,$O$2,$P$2)","v":4372.25},{"$f":" RTD(\"cqg.rtd\",,\"StudyData\", $N$2, \"Bar\", \"\", \"Low\", $M$2, $F64, $R$2,$Q$2,,$O$2,$P$2)","v":4371.25},{"$f":" RTD(\"cqg.rtd\",,\"StudyData\", $N$2, \"Bar\", \"\", \"Close\", $M$2, $F64, $R$2,$Q$2,,$O$2,$P$2)","v":4371.5},-63,null,44669.145833333336,{"$f":"RTD(\"cqg.rtd\",,\"StudyData\",$N$2, \"Vol\", \"VolType=Auto,CoCType=Auto\", \"Vol\", $M$2, $F64, $R$2,$Q$2,,$O$2,$P$2)","v":248}]
[{"$f":" RTD(\"cqg.rtd\",,\"StudyData\", $N$2, \"Bar\", \"\", \"Time\", $M$2, $F65,$R$2,$Q$2, \"\",\"False\")","v":44669.142361111109},{"$f":" RTD(\"cqg.rtd\",,\"StudyData\", $N$2, \"Bar\", \"\", \"Open\", $M$2, $F65, $R$2,$Q$2,,$O$2,$P$2)","v":4372},{"$f":" RTD(\"cqg.rtd\",,\"StudyData\", $N$2, \"Bar\", \"\", \"High\", $M$2, $F65, $R$2,$Q$2,,$O$2,$P$2)","v":4373},{"$f":" RTD(\"cqg.rtd\",,\"StudyData\", $N$2, \"Bar\", \"\", \"Low\", $M$2, $F65, $R$2,$Q$2,,$O$2,$P$2)","v":4372},{"$f":" RTD(\"cqg.rtd\",,\"StudyData\", $N$2, \"Bar\", \"\", \"Close\", $M$2, $F65, $R$2,$Q$2,,$O$2,$P$2)","v":4372},-64,null,44669.142361111109,{"$f":"RTD(\"cqg.rtd\",,\"StudyData\",$N$2, \"Vol\", \"VolType=Auto,CoCType=Auto\", \"Vol\", $M$2, $F65, $R$2,$Q$2,,$O$2,$P$2)","v":122}]
[{"$f":" RTD(\"cqg.rtd\",,\"StudyData\", $N$2, \"Bar\", \"\", \"Time\", $M$2, $F66,$R$2,$Q$2, \"\",\"False\")","v":44669.138888888891},{"$f":" RTD(\"cqg.rtd\",,\"StudyData\", $N$2, \"Bar\", \"\", \"Open\", $M$2, $F66, $R$2,$Q$2,,$O$2,$P$2)","v":4372.5},{"$f":" RTD(\"cqg.rtd\",,\"StudyData\", $N$2, \"Bar\", \"\", \"High\", $M$2, $F66, $R$2,$Q$2,,$O$2,$P$2)","v":4373.5},{"$f":" RTD(\"cqg.rtd\",,\"StudyData\", $N$2, \"Bar\", \"\", \"Low\", $M$2, $F66, $R$2,$Q$2,,$O$2,$P$2)","v":4371.75},{"$f":" RTD(\"cqg.rtd\",,\"StudyData\", $N$2, \"Bar\", \"\", \"Close\", $M$2, $F66, $R$2,$Q$2,,$O$2,$P$2)","v":4372},-65,null,{"$f":"A66","v":44669.138888888891},{"$f":"RTD(\"cqg.rtd\",,\"StudyData\",$N$2, \"Vol\", \"VolType=Auto,CoCType=Auto\", \"Vol\", $M$2, $F66, $R$2,$Q$2,,$O$2,$P$2)","v":293}]
[{"$f":" RTD(\"cqg.rtd\",,\"StudyData\", $N$2, \"Bar\", \"\", \"Time\", $M$2, $F67,$R$2,$Q$2, \"\",\"False\")","v":44669.135416666664},{"$f":" RTD(\"cqg.rtd\",,\"StudyData\", $N$2, \"Bar\", \"\", \"Open\", $M$2, $F67, $R$2,$Q$2,,$O$2,$P$2)","v":4370.75},{"$f":" RTD(\"cqg.rtd\",,\"StudyData\", $N$2, \"Bar\", \"\", \"High\", $M$2, $F67, $R$2,$Q$2,,$O$2,$P$2)","v":4372.75},{"$f":" RTD(\"cqg.rtd\",,\"StudyData\", $N$2, \"Bar\", \"\", \"Low\", $M$2, $F67, $R$2,$Q$2,,$O$2,$P$2)","v":4370.75},{"$f":" RTD(\"cqg.rtd\",,\"StudyData\", $N$2, \"Bar\", \"\", \"Close\", $M$2, $F67, $R$2,$Q$2,,$O$2,$P$2)","v":4372.5},{"$f":"F66-1","v":-66},null,44669.135416666664,{"$f":"RTD(\"cqg.rtd\",,\"StudyData\",$N$2, \"Vol\", \"VolType=Auto,CoCType=Auto\", \"Vol\", $M$2, $F67, $R$2,$Q$2,,$O$2,$P$2)","v":273}]
[{"$f":" RTD(\"cqg.rtd\",,\"StudyData\", $N$2, \"Bar\", \"\", \"Time\", $M$2, $F68,$R$2,$Q$2, \"\",\"False\")","v":44669.131944444445},{"$f":" RTD(\"cqg.rtd\",,\"StudyData\", $N$2, \"Bar\", \"\", \"Open\", $M$2, $F68, $R$2,$Q$2,,$O$2,$P$2)","v":4372},{"$f":" RTD(\"cqg.rtd\",,\"StudyData\", $N$2, \"Bar\", \"\", \"High\", $M$2, $F68, $R$2,$Q$2,,$O$2,$P$2)","v":4372},{"$f":" RTD(\"cqg.rtd\",,\"StudyData\", $N$2, \"Bar\", \"\", \"Low\", $M$2, $F68, $R$2,$Q$2,,$O$2,$P$2)","v":4370.5},{"$f":" RTD(\"cqg.rtd\",,\"StudyData\", $N$2, \"Bar\", \"\", \"Close\", $M$2, $F68, $R$2,$Q$2,,$O$2,$P$2)","v":4370.75},-67,null,44669.131944444445,{"$f":"RTD(\"cqg.rtd\",,\"StudyData\",$N$2, \"Vol\", \"VolType=Auto,CoCType=Auto\", \"Vol\", $M$2, $F68, $R$2,$Q$2,,$O$2,$P$2)","v":124}]
[{"$f":" RTD(\"cqg.rtd\",,\"StudyData\", $N$2, \"Bar\", \"\", \"Time\", $M$2, $F69,$R$2,$Q$2, \"\",\"False\")","v":44669.128472222219},{"$f":" RTD(\"cqg.rtd\",,\"StudyData\", $N$2, \"Bar\", \"\", \"Open\", $M$2, $F69, $R$2,$Q$2,,$O$2,$P$2)","v":4373.25},{"$f":" RTD(\"cqg.rtd\",,\"StudyData\", $N$2, \"Bar\", \"\", \"High\", $M$2, $F69, $R$2,$Q$2,,$O$2,$P$2)","v":4373.25},{"$f":" RTD(\"cqg.rtd\",,\"StudyData\", $N$2, \"Bar\", \"\", \"Low\", $M$2, $F69, $R$2,$Q$2,,$O$2,$P$2)","v":4370},{"$f":" RTD(\"cqg.rtd\",,\"StudyData\", $N$2, \"Bar\", \"\", \"Close\", $M$2, $F69, $R$2,$Q$2,,$O$2,$P$2)","v":4371.75},-68,null,44669.128472222219,{"$f":"RTD(\"cqg.rtd\",,\"StudyData\",$N$2, \"Vol\", \"VolType=Auto,CoCType=Auto\", \"Vol\", $M$2, $F69, $R$2,$Q$2,,$O$2,$P$2)","v":773}]
[{"$f":" RTD(\"cqg.rtd\",,\"StudyData\", $N$2, \"Bar\", \"\", \"Time\", $M$2, $F70,$R$2,$Q$2, \"\",\"False\")","v":44669.125},{"$f":" RTD(\"cqg.rtd\",,\"StudyData\", $N$2, \"Bar\", \"\", \"Open\", $M$2, $F70, $R$2,$Q$2,,$O$2,$P$2)","v":4365.75},{"$f":" RTD(\"cqg.rtd\",,\"StudyData\", $N$2, \"Bar\", \"\", \"High\", $M$2, $F70, $R$2,$Q$2,,$O$2,$P$2)","v":4373.75},{"$f":" RTD(\"cqg.rtd\",,\"StudyData\", $N$2, \"Bar\", \"\", \"Low\", $M$2, $F70, $R$2,$Q$2,,$O$2,$P$2)","v":4365.5},{"$f":" RTD(\"cqg.rtd\",,\"StudyData\", $N$2, \"Bar\", \"\", \"Close\", $M$2, $F70, $R$2,$Q$2,,$O$2,$P$2)","v":4373},-69,null,44669.125,{"$f":"RTD(\"cqg.rtd\",,\"StudyData\",$N$2, \"Vol\", \"VolType=Auto,CoCType=Auto\", \"Vol\", $M$2, $F70, $R$2,$Q$2,,$O$2,$P$2)","v":1665}]
[{"$f":" RTD(\"cqg.rtd\",,\"StudyData\", $N$2, \"Bar\", \"\", \"Time\", $M$2, $F71,$R$2,$Q$2, \"\",\"False\")","v":44669.121527777781},{"$f":" RTD(\"cqg.rtd\",,\"StudyData\", $N$2, \"Bar\", \"\", \"Open\", $M$2, $F71, $R$2,$Q$2,,$O$2,$P$2)","v":4365.75},{"$f":" RTD(\"cqg.rtd\",,\"StudyData\", $N$2, \"Bar\", \"\", \"High\", $M$2, $F71, $R$2,$Q$2,,$O$2,$P$2)","v":4366.75},{"$f":" RTD(\"cqg.rtd\",,\"StudyData\", $N$2, \"Bar\", \"\", \"Low\", $M$2, $F71, $R$2,$Q$2,,$O$2,$P$2)","v":4365.25},{"$f":" RTD(\"cqg.rtd\",,\"StudyData\", $N$2, \"Bar\", \"\", \"Close\", $M$2, $F71, $R$2,$Q$2,,$O$2,$P$2)","v":4365.75},-70,null,44669.121527777781,{"$f":"RTD(\"cqg.rtd\",,\"StudyData\",$N$2, \"Vol\", \"VolType=Auto,CoCType=Auto\", \"Vol\", $M$2, $F71, $R$2,$Q$2,,$O$2,$P$2)","v":358}]
[{"$f":" RTD(\"cqg.rtd\",,\"StudyData\", $N$2, \"Bar\", \"\", \"Time\", $M$2, $F72,$R$2,$Q$2, \"\",\"False\")","v":44669.118055555555},{"$f":" RTD(\"cqg.rtd\",,\"StudyData\", $N$2, \"Bar\", \"\", \"Open\", $M$2, $F72, $R$2,$Q$2,,$O$2,$P$2)","v":4365.25},{"$f":" RTD(\"cqg.rtd\",,\"StudyData\", $N$2, \"Bar\", \"\", \"High\", $M$2, $F72, $R$2,$Q$2,,$O$2,$P$2)","v":4366.5},{"$f":" RTD(\"cqg.rtd\",,\"StudyData\", $N$2, \"Bar\", \"\", \"Low\", $M$2, $F72, $R$2,$Q$2,,$O$2,$P$2)","v":4364.75},{"$f":" RTD(\"cqg.rtd\",,\"StudyData\", $N$2, \"Bar\", \"\", \"Close\", $M$2, $F72, $R$2,$Q$2,,$O$2,$P$2)","v":4366},-71,null,44669.118055555555,{"$f":"RTD(\"cqg.rtd\",,\"StudyData\",$N$2, \"Vol\", \"VolType=Auto,CoCType=Auto\", \"Vol\", $M$2, $F72, $R$2,$Q$2,,$O$2,$P$2)","v":210}]
[{"$f":" RTD(\"cqg.rtd\",,\"StudyData\", $N$2, \"Bar\", \"\", \"Time\", $M$2, $F73,$R$2,$Q$2, \"\",\"False\")","v":44669.114583333336},{"$f":" RTD(\"cqg.rtd\",,\"StudyData\", $N$2, \"Bar\", \"\", \"Open\", $M$2, $F73, $R$2,$Q$2,,$O$2,$P$2)","v":4363.75},{"$f":" RTD(\"cqg.rtd\",,\"StudyData\", $N$2, \"Bar\", \"\", \"High\", $M$2, $F73, $R$2,$Q$2,,$O$2,$P$2)","v":4365.75},{"$f":" RTD(\"cqg.rtd\",,\"StudyData\", $N$2, \"Bar\", \"\", \"Low\", $M$2, $F73, $R$2,$Q$2,,$O$2,$P$2)","v":4363.5},{"$f":" RTD(\"cqg.rtd\",,\"StudyData\", $N$2, \"Bar\", \"\", \"Close\", $M$2, $F73, $R$2,$Q$2,,$O$2,$P$2)","v":4365.25},-72,null,44669.114583333336,{"$f":"RTD(\"cqg.rtd\",,\"StudyData\",$N$2, \"Vol\", \"VolType=Auto,CoCType=Auto\", \"Vol\", $M$2, $F73, $R$2,$Q$2,,$O$2,$P$2)","v":184}]
[{"$f":" RTD(\"cqg.rtd\",,\"StudyData\", $N$2, \"Bar\", \"\", \"Time\", $M$2, $F74,$R$2,$Q$2, \"\",\"False\")","v":44669.111111111109},{"$f":" RTD(\"cqg.rtd\",,\"StudyData\", $N$2, \"Bar\", \"\", \"Open\", $M$2, $F74, $R$2,$Q$2,,$O$2,$P$2)","v":4364},{"$f":" RTD(\"cqg.rtd\",,\"StudyData\", $N$2, \"Bar\", \"\", \"High\", $M$2, $F74, $R$2,$Q$2,,$O$2,$P$2)","v":4365},{"$f":" RTD(\"cqg.rtd\",,\"StudyData\", $N$2, \"Bar\", \"\", \"Low\", $M$2, $F74, $R$2,$Q$2,,$O$2,$P$2)","v":4363},{"$f":" RTD(\"cqg.rtd\",,\"StudyData\", $N$2, \"Bar\", \"\", \"Close\", $M$2, $F74, $R$2,$Q$2,,$O$2,$P$2)","v":4363.75},-73,null,44669.111111111109,{"$f":"RTD(\"cqg.rtd\",,\"StudyData\",$N$2, \"Vol\", \"VolType=Auto,CoCType=Auto\", \"Vol\", $M$2, $F74, $R$2,$Q$2,,$O$2,$P$2)","v":274}]
[{"$f":" RTD(\"cqg.rtd\",,\"StudyData\", $N$2, \"Bar\", \"\", \"Time\", $M$2, $F75,$R$2,$Q$2, \"\",\"False\")","v":44669.107638888891},{"$f":" RTD(\"cqg.rtd\",,\"StudyData\", $N$2, \"Bar\", \"\", \"Open\", $M$2, $F75, $R$2,$Q$2,,$O$2,$P$2)","v":4366.25},{"$f":" RTD(\"cqg.rtd\",,\"StudyData\", $N$2, \"Bar\", \"\", \"High\", $M$2, $F75, $R$2,$Q$2,,$O$2,$P$2)","v":4367.25},{"$f":" RTD(\"cqg.rtd\",,\"StudyData\", $N$2, \"Bar\", \"\", \"Low\", $M$2, $F75, $R$2,$Q$2,,$O$2,$P$2)","v":4361.5},{"$f":" RTD(\"cqg.rtd\",,\"StudyData\", $N$2, \"Bar\", \"\", \"Close\", $M$2, $F75, $R$2,$Q$2,,$O$2,$P$2)","v":4364},-74,null,44669.107638888891,{"$f":"RTD(\"cqg.rtd\",,\"StudyData\",$N$2, \"Vol\", \"VolType=Auto,CoCType=Auto\", \"Vol\", $M$2, $F75, $R$2,$Q$2,,$O$2,$P$2)","v":1003}]
[{"$f":" RTD(\"cqg.rtd\",,\"StudyData\", $N$2, \"Bar\", \"\", \"Time\", $M$2, $F76,$R$2,$Q$2, \"\",\"False\")","v":44669.104166666664},{"$f":" RTD(\"cqg.rtd\",,\"StudyData\", $N$2, \"Bar\", \"\", \"Open\", $M$2, $F76, $R$2,$Q$2,,$O$2,$P$2)","v":4366},{"$f":" RTD(\"cqg.rtd\",,\"StudyData\", $N$2, \"Bar\", \"\", \"High\", $M$2, $F76, $R$2,$Q$2,,$O$2,$P$2)","v":4366.25},{"$f":" RTD(\"cqg.rtd\",,\"StudyData\", $N$2, \"Bar\", \"\", \"Low\", $M$2, $F76, $R$2,$Q$2,,$O$2,$P$2)","v":4364.75},{"$f":" RTD(\"cqg.rtd\",,\"StudyData\", $N$2, \"Bar\", \"\", \"Close\", $M$2, $F76, $R$2,$Q$2,,$O$2,$P$2)","v":4366},-75,null,44669.104166666664,{"$f":"RTD(\"cqg.rtd\",,\"StudyData\",$N$2, \"Vol\", \"VolType=Auto,CoCType=Auto\", \"Vol\", $M$2, $F76, $R$2,$Q$2,,$O$2,$P$2)","v":303}]
[{"$f":" RTD(\"cqg.rtd\",,\"StudyData\", $N$2, \"Bar\", \"\", \"Time\", $M$2, $F77,$R$2,$Q$2, \"\",\"False\")","v":44669.100694444445},{"$f":" RTD(\"cqg.rtd\",,\"StudyData\", $N$2, \"Bar\", \"\", \"Open\", $M$2, $F77, $R$2,$Q$2,,$O$2,$P$2)","v":4366.25},{"$f":" RTD(\"cqg.rtd\",,\"StudyData\", $N$2, \"Bar\", \"\", \"High\", $M$2, $F77, $R$2,$Q$2,,$O$2,$P$2)","v":4368},{"$f":" RTD(\"cqg.rtd\",,\"StudyData\", $N$2, \"Bar\", \"\", \"Low\", $M$2, $F77, $R$2,$Q$2,,$O$2,$P$2)","v":4366},{"$f":" RTD(\"cqg.rtd\",,\"StudyData\", $N$2, \"Bar\", \"\", \"Close\", $M$2, $F77, $R$2,$Q$2,,$O$2,$P$2)","v":4366.5},-76,null,44669.100694444445,{"$f":"RTD(\"cqg.rtd\",,\"StudyData\",$N$2, \"Vol\", \"VolType=Auto,CoCType=Auto\", \"Vol\", $M$2, $F77, $R$2,$Q$2,,$O$2,$P$2)","v":269}]
[{"$f":" RTD(\"cqg.rtd\",,\"StudyData\", $N$2, \"Bar\", \"\", \"Time\", $M$2, $F78,$R$2,$Q$2, \"\",\"False\")","v":44669.097222222219},{"$f":" RTD(\"cqg.rtd\",,\"StudyData\", $N$2, \"Bar\", \"\", \"Open\", $M$2, $F78, $R$2,$Q$2,,$O$2,$P$2)","v":4365.75},{"$f":" RTD(\"cqg.rtd\",,\"StudyData\", $N$2, \"Bar\", \"\", \"High\", $M$2, $F78, $R$2,$Q$2,,$O$2,$P$2)","v":4366.5},{"$f":" RTD(\"cqg.rtd\",,\"StudyData\", $N$2, \"Bar\", \"\", \"Low\", $M$2, $F78, $R$2,$Q$2,,$O$2,$P$2)","v":4365},{"$f":" RTD(\"cqg.rtd\",,\"StudyData\", $N$2, \"Bar\", \"\", \"Close\", $M$2, $F78, $R$2,$Q$2,,$O$2,$P$2)","v":4366.25},-77,null,44669.097222222219,{"$f":"RTD(\"cqg.rtd\",,\"StudyData\",$N$2, \"Vol\", \"VolType=Auto,CoCType=Auto\", \"Vol\", $M$2, $F78, $R$2,$Q$2,,$O$2,$P$2)","v":170}]
[{"$f":" RTD(\"cqg.rtd\",,\"StudyData\", $N$2, \"Bar\", \"\", \"Time\", $M$2, $F79,$R$2,$Q$2, \"\",\"False\")","v":44669.09375},{"$f":" RTD(\"cqg.rtd\",,\"StudyData\", $N$2, \"Bar\", \"\", \"Open\", $M$2, $F79, $R$2,$Q$2,,$O$2,$P$2)","v":4365.75},{"$f":" RTD(\"cqg.rtd\",,\"StudyData\", $N$2, \"Bar\", \"\", \"High\", $M$2, $F79, $R$2,$Q$2,,$O$2,$P$2)","v":4366.25},{"$f":" RTD(\"cqg.rtd\",,\"StudyData\", $N$2, \"Bar\", \"\", \"Low\", $M$2, $F79, $R$2,$Q$2,,$O$2,$P$2)","v":4365},{"$f":" RTD(\"cqg.rtd\",,\"StudyData\", $N$2, \"Bar\", \"\", \"Close\", $M$2, $F79, $R$2,$Q$2,,$O$2,$P$2)","v":4365.75},-78,null,44669.09375,{"$f":"RTD(\"cqg.rtd\",,\"StudyData\",$N$2, \"Vol\", \"VolType=Auto,CoCType=Auto\", \"Vol\", $M$2, $F79, $R$2,$Q$2,,$O$2,$P$2)","v":168}]
[{"$f":" RTD(\"cqg.rtd\",,\"StudyData\", $N$2, \"Bar\", \"\", \"Time\", $M$2, $F80,$R$2,$Q$2, \"\",\"False\")","v":44669.090277777781},{"$f":" RTD(\"cqg.rtd\",,\"StudyData\", $N$2, \"Bar\", \"\", \"Open\", $M$2, $F80, $R$2,$Q$2,,$O$2,$P$2)","v":4365.5},{"$f":" RTD(\"cqg.rtd\",,\"StudyData\", $N$2, \"Bar\", \"\", \"High\", $M$2, $F80, $R$2,$Q$2,,$O$2,$P$2)","v":4366.75},{"$f":" RTD(\"cqg.rtd\",,\"StudyData\", $N$2, \"Bar\", \"\", \"Low\", $M$2, $F80, $R$2,$Q$2,,$O$2,$P$2)","v":4365},{"$f":" RTD(\"cqg.rtd\",,\"StudyData\", $N$2, \"Bar\", \"\", \"Close\", $M$2, $F80, $R$2,$Q$2,,$O$2,$P$2)","v":4366},-79,null,44669.090277777781,{"$f":"RTD(\"cqg.rtd\",,\"StudyData\",$N$2, \"Vol\", \"VolType=Auto,CoCType=Auto\", \"Vol\", $M$2, $F80, $R$2,$Q$2,,$O$2,$P$2)","v":158}]
[{"$f":" RTD(\"cqg.rtd\",,\"StudyData\", $N$2, \"Bar\", \"\", \"Time\", $M$2, $F81,$R$2,$Q$2, \"\",\"False\")","v":44669.086805555555},{"$f":" RTD(\"cqg.rtd\",,\"StudyData\", $N$2, \"Bar\", \"\", \"Open\", $M$2, $F81, $R$2,$Q$2,,$O$2,$P$2)","v":4365.5},{"$f":" RTD(\"cqg.rtd\",,\"StudyData\", $N$2, \"Bar\", \"\", \"High\", $M$2, $F81, $R$2,$Q$2,,$O$2,$P$2)","v":4365.75},{"$f":" RTD(\"cqg.rtd\",,\"StudyData\", $N$2, \"Bar\", \"\", \"Low\", $M$2, $F81, $R$2,$Q$2,,$O$2,$P$2)","v":4365},{"$f":" RTD(\"cqg.rtd\",,\"StudyData\", $N$2, \"Bar\", \"\", \"Close\", $M$2, $F81, $R$2,$Q$2,,$O$2,$P$2)","v":4365.25},-80,null,44669.086805555555,{"$f":"RTD(\"cqg.rtd\",,\"StudyData\",$N$2, \"Vol\", \"VolType=Auto,CoCType=Auto\", \"Vol\", $M$2, $F81, $R$2,$Q$2,,$O$2,$P$2)","v":210}]
[{"$f":" RTD(\"cqg.rtd\",,\"StudyData\", $N$2, \"Bar\", \"\", \"Time\", $M$2, $F82,$R$2,$Q$2, \"\",\"False\")","v":44669.083333333336},{"$f":" RTD(\"cqg.rtd\",,\"StudyData\", $N$2, \"Bar\", \"\", \"Open\", $M$2, $F82, $R$2,$Q$2,,$O$2,$P$2)","v":4367.25},{"$f":" RTD(\"cqg.rtd\",,\"StudyData\", $N$2, \"Bar\", \"\", \"High\", $M$2, $F82, $R$2,$Q$2,,$O$2,$P$2)","v":4367.75},{"$f":" RTD(\"cqg.rtd\",,\"StudyData\", $N$2, \"Bar\", \"\", \"Low\", $M$2, $F82, $R$2,$Q$2,,$O$2,$P$2)","v":4364.75},{"$f":" RTD(\"cqg.rtd\",,\"StudyData\", $N$2, \"Bar\", \"\", \"Close\", $M$2, $F82, $R$2,$Q$2,,$O$2,$P$2)","v":4365.5},-81,null,44669.083333333336,{"$f":"RTD(\"cqg.rtd\",,\"StudyData\",$N$2, \"Vol\", \"VolType=Auto,CoCType=Auto\", \"Vol\", $M$2, $F82, $R$2,$Q$2,,$O$2,$P$2)","v":536}]
[{"$f":" RTD(\"cqg.rtd\",,\"StudyData\", $N$2, \"Bar\", \"\", \"Time\", $M$2, $F83,$R$2,$Q$2, \"\",\"False\")","v":44669.079861111109},{"$f":" RTD(\"cqg.rtd\",,\"StudyData\", $N$2, \"Bar\", \"\", \"Open\", $M$2, $F83, $R$2,$Q$2,,$O$2,$P$2)","v":4367.5},{"$f":" RTD(\"cqg.rtd\",,\"StudyData\", $N$2, \"Bar\", \"\", \"High\", $M$2, $F83, $R$2,$Q$2,,$O$2,$P$2)","v":4368.5},{"$f":" RTD(\"cqg.rtd\",,\"StudyData\", $N$2, \"Bar\", \"\", \"Low\", $M$2, $F83, $R$2,$Q$2,,$O$2,$P$2)","v":4367.25},{"$f":" RTD(\"cqg.rtd\",,\"StudyData\", $N$2, \"Bar\", \"\", \"Close\", $M$2, $F83, $R$2,$Q$2,,$O$2,$P$2)","v":4367.5},-82,null,44669.079861111109,{"$f":"RTD(\"cqg.rtd\",,\"StudyData\",$N$2, \"Vol\", \"VolType=Auto,CoCType=Auto\", \"Vol\", $M$2, $F83, $R$2,$Q$2,,$O$2,$P$2)","v":271}]
[{"$f":" RTD(\"cqg.rtd\",,\"StudyData\", $N$2, \"Bar\", \"\", \"Time\", $M$2, $F84,$R$2,$Q$2, \"\",\"False\")","v":44669.076388888891},{"$f":" RTD(\"cqg.rtd\",,\"StudyData\", $N$2, \"Bar\", \"\", \"Open\", $M$2, $F84, $R$2,$Q$2,,$O$2,$P$2)","v":4366.75},{"$f":" RTD(\"cqg.rtd\",,\"StudyData\", $N$2, \"Bar\", \"\", \"High\", $M$2, $F84, $R$2,$Q$2,,$O$2,$P$2)","v":4367.75},{"$f":" RTD(\"cqg.rtd\",,\"StudyData\", $N$2, \"Bar\", \"\", \"Low\", $M$2, $F84, $R$2,$Q$2,,$O$2,$P$2)","v":4366.25},{"$f":" RTD(\"cqg.rtd\",,\"StudyData\", $N$2, \"Bar\", \"\", \"Close\", $M$2, $F84, $R$2,$Q$2,,$O$2,$P$2)","v":4367.75},-83,null,44669.076388888891,{"$f":"RTD(\"cqg.rtd\",,\"StudyData\",$N$2, \"Vol\", \"VolType=Auto,CoCType=Auto\", \"Vol\", $M$2, $F84, $R$2,$Q$2,,$O$2,$P$2)","v":226}]
[{"$f":" RTD(\"cqg.rtd\",,\"StudyData\", $N$2, \"Bar\", \"\", \"Time\", $M$2, $F85,$R$2,$Q$2, \"\",\"False\")","v":44669.072916666664},{"$f":" RTD(\"cqg.rtd\",,\"StudyData\", $N$2, \"Bar\", \"\", \"Open\", $M$2, $F85, $R$2,$Q$2,,$O$2,$P$2)","v":4368.5},{"$f":" RTD(\"cqg.rtd\",,\"StudyData\", $N$2, \"Bar\", \"\", \"High\", $M$2, $F85, $R$2,$Q$2,,$O$2,$P$2)","v":4369.5},{"$f":" RTD(\"cqg.rtd\",,\"StudyData\", $N$2, \"Bar\", \"\", \"Low\", $M$2, $F85, $R$2,$Q$2,,$O$2,$P$2)","v":4365},{"$f":" RTD(\"cqg.rtd\",,\"StudyData\", $N$2, \"Bar\", \"\", \"Close\", $M$2, $F85, $R$2,$Q$2,,$O$2,$P$2)","v":4366.5},-84,null,44669.072916666664,{"$f":"RTD(\"cqg.rtd\",,\"StudyData\",$N$2, \"Vol\", \"VolType=Auto,CoCType=Auto\", \"Vol\", $M$2, $F85, $R$2,$Q$2,,$O$2,$P$2)","v":1571}]
[{"$f":" RTD(\"cqg.rtd\",,\"StudyData\", $N$2, \"Bar\", \"\", \"Time\", $M$2, $F86,$R$2,$Q$2, \"\",\"False\")","v":44669.069444444445},{"$f":" RTD(\"cqg.rtd\",,\"StudyData\", $N$2, \"Bar\", \"\", \"Open\", $M$2, $F86, $R$2,$Q$2,,$O$2,$P$2)","v":4370.75},{"$f":" RTD(\"cqg.rtd\",,\"StudyData\", $N$2, \"Bar\", \"\", \"High\", $M$2, $F86, $R$2,$Q$2,,$O$2,$P$2)","v":4370.75},{"$f":" RTD(\"cqg.rtd\",,\"StudyData\", $N$2, \"Bar\", \"\", \"Low\", $M$2, $F86, $R$2,$Q$2,,$O$2,$P$2)","v":4368},{"$f":" RTD(\"cqg.rtd\",,\"StudyData\", $N$2, \"Bar\", \"\", \"Close\", $M$2, $F86, $R$2,$Q$2,,$O$2,$P$2)","v":4368.25},-85,null,44669.069444444445,{"$f":"RTD(\"cqg.rtd\",,\"StudyData\",$N$2, \"Vol\", \"VolType=Auto,CoCType=Auto\", \"Vol\", $M$2, $F86, $R$2,$Q$2,,$O$2,$P$2)","v":335}]
[{"$f":" RTD(\"cqg.rtd\",,\"StudyData\", $N$2, \"Bar\", \"\", \"Time\", $M$2, $F87,$R$2,$Q$2, \"\",\"False\")","v":44669.065972222219},{"$f":" RTD(\"cqg.rtd\",,\"StudyData\", $N$2, \"Bar\", \"\", \"Open\", $M$2, $F87, $R$2,$Q$2,,$O$2,$P$2)","v":4368.25},{"$f":" RTD(\"cqg.rtd\",,\"StudyData\", $N$2, \"Bar\", \"\", \"High\", $M$2, $F87, $R$2,$Q$2,,$O$2,$P$2)","v":4370.75},{"$f":" RTD(\"cqg.rtd\",,\"StudyData\", $N$2, \"Bar\", \"\", \"Low\", $M$2, $F87, $R$2,$Q$2,,$O$2,$P$2)","v":4367.75},{"$f":" RTD(\"cqg.rtd\",,\"StudyData\", $N$2, \"Bar\", \"\", \"Close\", $M$2, $F87, $R$2,$Q$2,,$O$2,$P$2)","v":4370.75},-86,null,44669.065972222219,{"$f":"RTD(\"cqg.rtd\",,\"StudyData\",$N$2, \"Vol\", \"VolType=Auto,CoCType=Auto\", \"Vol\", $M$2, $F87, $R$2,$Q$2,,$O$2,$P$2)","v":639}]
[{"$f":" RTD(\"cqg.rtd\",,\"StudyData\", $N$2, \"Bar\", \"\", \"Time\", $M$2, $F88,$R$2,$Q$2, \"\",\"False\")","v":44669.0625},{"$f":" RTD(\"cqg.rtd\",,\"StudyData\", $N$2, \"Bar\", \"\", \"Open\", $M$2, $F88, $R$2,$Q$2,,$O$2,$P$2)","v":4368},{"$f":" RTD(\"cqg.rtd\",,\"StudyData\", $N$2, \"Bar\", \"\", \"High\", $M$2, $F88, $R$2,$Q$2,,$O$2,$P$2)","v":4369},{"$f":" RTD(\"cqg.rtd\",,\"StudyData\", $N$2, \"Bar\", \"\", \"Low\", $M$2, $F88, $R$2,$Q$2,,$O$2,$P$2)","v":4368},{"$f":" RTD(\"cqg.rtd\",,\"StudyData\", $N$2, \"Bar\", \"\", \"Close\", $M$2, $F88, $R$2,$Q$2,,$O$2,$P$2)","v":4368},-87,null,44669.0625,{"$f":"RTD(\"cqg.rtd\",,\"StudyData\",$N$2, \"Vol\", \"VolType=Auto,CoCType=Auto\", \"Vol\", $M$2, $F88, $R$2,$Q$2,,$O$2,$P$2)","v":336}]
[{"$f":" RTD(\"cqg.rtd\",,\"StudyData\", $N$2, \"Bar\", \"\", \"Time\", $M$2, $F89,$R$2,$Q$2, \"\",\"False\")","v":44669.059027777781},{"$f":" RTD(\"cqg.rtd\",,\"StudyData\", $N$2, \"Bar\", \"\", \"Open\", $M$2, $F89, $R$2,$Q$2,,$O$2,$P$2)","v":4367.5},{"$f":" RTD(\"cqg.rtd\",,\"StudyData\", $N$2, \"Bar\", \"\", \"High\", $M$2, $F89, $R$2,$Q$2,,$O$2,$P$2)","v":4368.25},{"$f":" RTD(\"cqg.rtd\",,\"StudyData\", $N$2, \"Bar\", \"\", \"Low\", $M$2, $F89, $R$2,$Q$2,,$O$2,$P$2)","v":4366.75},{"$f":" RTD(\"cqg.rtd\",,\"StudyData\", $N$2, \"Bar\", \"\", \"Close\", $M$2, $F89, $R$2,$Q$2,,$O$2,$P$2)","v":4368.25},-88,null,44669.059027777781,{"$f":"RTD(\"cqg.rtd\",,\"StudyData\",$N$2, \"Vol\", \"VolType=Auto,CoCType=Auto\", \"Vol\", $M$2, $F89, $R$2,$Q$2,,$O$2,$P$2)","v":353}]
[{"$f":" RTD(\"cqg.rtd\",,\"StudyData\", $N$2, \"Bar\", \"\", \"Time\", $M$2, $F90,$R$2,$Q$2, \"\",\"False\")","v":44669.055555555555},{"$f":" RTD(\"cqg.rtd\",,\"StudyData\", $N$2, \"Bar\", \"\", \"Open\", $M$2, $F90, $R$2,$Q$2,,$O$2,$P$2)","v":4367},{"$f":" RTD(\"cqg.rtd\",,\"StudyData\", $N$2, \"Bar\", \"\", \"High\", $M$2, $F90, $R$2,$Q$2,,$O$2,$P$2)","v":4368},{"$f":" RTD(\"cqg.rtd\",,\"StudyData\", $N$2, \"Bar\", \"\", \"Low\", $M$2, $F90, $R$2,$Q$2,,$O$2,$P$2)","v":4366.75},{"$f":" RTD(\"cqg.rtd\",,\"StudyData\", $N$2, \"Bar\", \"\", \"Close\", $M$2, $F90, $R$2,$Q$2,,$O$2,$P$2)","v":4367.5},-89,null,44669.055555555555,{"$f":"RTD(\"cqg.rtd\",,\"StudyData\",$N$2, \"Vol\", \"VolType=Auto,CoCType=Auto\", \"Vol\", $M$2, $F90, $R$2,$Q$2,,$O$2,$P$2)","v":291}]
[{"$f":" RTD(\"cqg.rtd\",,\"StudyData\", $N$2, \"Bar\", \"\", \"Time\", $M$2, $F91,$R$2,$Q$2, \"\",\"False\")","v":44669.052083333336},{"$f":" RTD(\"cqg.rtd\",,\"StudyData\", $N$2, \"Bar\", \"\", \"Open\", $M$2, $F91, $R$2,$Q$2,,$O$2,$P$2)","v":4368},{"$f":" RTD(\"cqg.rtd\",,\"StudyData\", $N$2, \"Bar\", \"\", \"High\", $M$2, $F91, $R$2,$Q$2,,$O$2,$P$2)","v":4368.25},{"$f":" RTD(\"cqg.rtd\",,\"StudyData\", $N$2, \"Bar\", \"\", \"Low\", $M$2, $F91, $R$2,$Q$2,,$O$2,$P$2)","v":4367},{"$f":" RTD(\"cqg.rtd\",,\"StudyData\", $N$2, \"Bar\", \"\", \"Close\", $M$2, $F91, $R$2,$Q$2,,$O$2,$P$2)","v":4367.25},-90,null,44669.052083333336,{"$f":"RTD(\"cqg.rtd\",,\"StudyData\",$N$2, \"Vol\", \"VolType=Auto,CoCType=Auto\", \"Vol\", $M$2, $F91, $R$2,$Q$2,,$O$2,$P$2)","v":331}]
[{"$f":" RTD(\"cqg.rtd\",,\"StudyData\", $N$2, \"Bar\", \"\", \"Time\", $M$2, $F92,$R$2,$Q$2, \"\",\"False\")","v":44669.048611111109},{"$f":" RTD(\"cqg.rtd\",,\"StudyData\", $N$2, \"Bar\", \"\", \"Open\", $M$2, $F92, $R$2,$Q$2,,$O$2,$P$2)","v":4369.5},{"$f":" RTD(\"cqg.rtd\",,\"StudyData\", $N$2, \"Bar\", \"\", \"High\", $M$2, $F92, $R$2,$Q$2,,$O$2,$P$2)","v":4369.5},{"$f":" RTD(\"cqg.rtd\",,\"StudyData\", $N$2, \"Bar\", \"\", \"Low\", $M$2, $F92, $R$2,$Q$2,,$O$2,$P$2)","v":4368},{"$f":" RTD(\"cqg.rtd\",,\"StudyData\", $N$2, \"Bar\", \"\", \"Close\", $M$2, $F92, $R$2,$Q$2,,$O$2,$P$2)","v":4368},-91,null,44669.048611111109,{"$f":"RTD(\"cqg.rtd\",,\"StudyData\",$N$2, \"Vol\", \"VolType=Auto,CoCType=Auto\", \"Vol\", $M$2, $F92, $R$2,$Q$2,,$O$2,$P$2)","v":269}]
[{"$f":" RTD(\"cqg.rtd\",,\"StudyData\", $N$2, \"Bar\", \"\", \"Time\", $M$2, $F93,$R$2,$Q$2, \"\",\"False\")","v":44669.045138888891},{"$f":" RTD(\"cqg.rtd\",,\"StudyData\", $N$2, \"Bar\", \"\", \"Open\", $M$2, $F93, $R$2,$Q$2,,$O$2,$P$2)","v":4369.25},{"$f":" RTD(\"cqg.rtd\",,\"StudyData\", $N$2, \"Bar\", \"\", \"High\", $M$2, $F93, $R$2,$Q$2,,$O$2,$P$2)","v":4370.5},{"$f":" RTD(\"cqg.rtd\",,\"StudyData\", $N$2, \"Bar\", \"\", \"Low\", $M$2, $F93, $R$2,$Q$2,,$O$2,$P$2)","v":4369.25},{"$f":" RTD(\"cqg.rtd\",,\"StudyData\", $N$2, \"Bar\", \"\", \"Close\", $M$2, $F93, $R$2,$Q$2,,$O$2,$P$2)","v":4369.5},-92,null,44669.045138888891,{"$f":"RTD(\"cqg.rtd\",,\"StudyData\",$N$2, \"Vol\", \"VolType=Auto,CoCType=Auto\", \"Vol\", $M$2, $F93, $R$2,$Q$2,,$O$2,$P$2)","v":465}]
[{"$f":" RTD(\"cqg.rtd\",,\"StudyData\", $N$2, \"Bar\", \"\", \"Time\", $M$2, $F94,$R$2,$Q$2, \"\",\"False\")","v":44669.041666666664},{"$f":" RTD(\"cqg.rtd\",,\"StudyData\", $N$2, \"Bar\", \"\", \"Open\", $M$2, $F94, $R$2,$Q$2,,$O$2,$P$2)","v":4368},{"$f":" RTD(\"cqg.rtd\",,\"StudyData\", $N$2, \"Bar\", \"\", \"High\", $M$2, $F94, $R$2,$Q$2,,$O$2,$P$2)","v":4370.25},{"$f":" RTD(\"cqg.rtd\",,\"StudyData\", $N$2, \"Bar\", \"\", \"Low\", $M$2, $F94, $R$2,$Q$2,,$O$2,$P$2)","v":4367.75},{"$f":" RTD(\"cqg.rtd\",,\"StudyData\", $N$2, \"Bar\", \"\", \"Close\", $M$2, $F94, $R$2,$Q$2,,$O$2,$P$2)","v":4369.25},-93,null,44669.041666666664,{"$f":"RTD(\"cqg.rtd\",,\"StudyData\",$N$2, \"Vol\", \"VolType=Auto,CoCType=Auto\", \"Vol\", $M$2, $F94, $R$2,$Q$2,,$O$2,$P$2)","v":646}]
[{"$f":" RTD(\"cqg.rtd\",,\"StudyData\", $N$2, \"Bar\", \"\", \"Time\", $M$2, $F95,$R$2,$Q$2, \"\",\"False\")","v":44669.038194444445},{"$f":" RTD(\"cqg.rtd\",,\"StudyData\", $N$2, \"Bar\", \"\", \"Open\", $M$2, $F95, $R$2,$Q$2,,$O$2,$P$2)","v":4367},{"$f":" RTD(\"cqg.rtd\",,\"StudyData\", $N$2, \"Bar\", \"\", \"High\", $M$2, $F95, $R$2,$Q$2,,$O$2,$P$2)","v":4368.75},{"$f":" RTD(\"cqg.rtd\",,\"StudyData\", $N$2, \"Bar\", \"\", \"Low\", $M$2, $F95, $R$2,$Q$2,,$O$2,$P$2)","v":4367},{"$f":" RTD(\"cqg.rtd\",,\"StudyData\", $N$2, \"Bar\", \"\", \"Close\", $M$2, $F95, $R$2,$Q$2,,$O$2,$P$2)","v":4367.75},-94,null,44669.038194444445,{"$f":"RTD(\"cqg.rtd\",,\"StudyData\",$N$2, \"Vol\", \"VolType=Auto,CoCType=Auto\", \"Vol\", $M$2, $F95, $R$2,$Q$2,,$O$2,$P$2)","v":684}]
[{"$f":" RTD(\"cqg.rtd\",,\"StudyData\", $N$2, \"Bar\", \"\", \"Time\", $M$2, $F96,$R$2,$Q$2, \"\",\"False\")","v":44669.034722222219},{"$f":" RTD(\"cqg.rtd\",,\"StudyData\", $N$2, \"Bar\", \"\", \"Open\", $M$2, $F96, $R$2,$Q$2,,$O$2,$P$2)","v":4364.25},{"$f":" RTD(\"cqg.rtd\",,\"StudyData\", $N$2, \"Bar\", \"\", \"High\", $M$2, $F96, $R$2,$Q$2,,$O$2,$P$2)","v":4367.5},{"$f":" RTD(\"cqg.rtd\",,\"StudyData\", $N$2, \"Bar\", \"\", \"Low\", $M$2, $F96, $R$2,$Q$2,,$O$2,$P$2)","v":4364.25},{"$f":" RTD(\"cqg.rtd\",,\"StudyData\", $N$2, \"Bar\", \"\", \"Close\", $M$2, $F96, $R$2,$Q$2,,$O$2,$P$2)","v":4367},-95,null,44669.034722222219,{"$f":"RTD(\"cqg.rtd\",,\"StudyData\",$N$2, \"Vol\", \"VolType=Auto,CoCType=Auto\", \"Vol\", $M$2, $F96, $R$2,$Q$2,,$O$2,$P$2)","v":816}]
[{"$f":" RTD(\"cqg.rtd\",,\"StudyData\", $N$2, \"Bar\", \"\", \"Time\", $M$2, $F97,$R$2,$Q$2, \"\",\"False\")","v":44669.03125},{"$f":" RTD(\"cqg.rtd\",,\"StudyData\", $N$2, \"Bar\", \"\", \"Open\", $M$2, $F97, $R$2,$Q$2,,$O$2,$P$2)","v":4363.25},{"$f":" RTD(\"cqg.rtd\",,\"StudyData\", $N$2, \"Bar\", \"\", \"High\", $M$2, $F97, $R$2,$Q$2,,$O$2,$P$2)","v":4364},{"$f":" RTD(\"cqg.rtd\",,\"StudyData\", $N$2, \"Bar\", \"\", \"Low\", $M$2, $F97, $R$2,$Q$2,,$O$2,$P$2)","v":4363.25},{"$f":" RTD(\"cqg.rtd\",,\"StudyData\", $N$2, \"Bar\", \"\", \"Close\", $M$2, $F97, $R$2,$Q$2,,$O$2,$P$2)","v":4364},-96,null,44669.03125,{"$f":"RTD(\"cqg.rtd\",,\"StudyData\",$N$2, \"Vol\", \"VolType=Auto,CoCType=Auto\", \"Vol\", $M$2, $F97, $R$2,$Q$2,,$O$2,$P$2)","v":204}]
[{"$f":" RTD(\"cqg.rtd\",,\"StudyData\", $N$2, \"Bar\", \"\", \"Time\", $M$2, $F98,$R$2,$Q$2, \"\",\"False\")","v":44669.027777777781},{"$f":" RTD(\"cqg.rtd\",,\"StudyData\", $N$2, \"Bar\", \"\", \"Open\", $M$2, $F98, $R$2,$Q$2,,$O$2,$P$2)","v":4363},{"$f":" RTD(\"cqg.rtd\",,\"StudyData\", $N$2, \"Bar\", \"\", \"High\", $M$2, $F98, $R$2,$Q$2,,$O$2,$P$2)","v":4364.25},{"$f":" RTD(\"cqg.rtd\",,\"StudyData\", $N$2, \"Bar\", \"\", \"Low\", $M$2, $F98, $R$2,$Q$2,,$O$2,$P$2)","v":4362.75},{"$f":" RTD(\"cqg.rtd\",,\"StudyData\", $N$2, \"Bar\", \"\", \"Close\", $M$2, $F98, $R$2,$Q$2,,$O$2,$P$2)","v":4363},-97,null,44669.027777777781,{"$f":"RTD(\"cqg.rtd\",,\"StudyData\",$N$2, \"Vol\", \"VolType=Auto,CoCType=Auto\", \"Vol\", $M$2, $F98, $R$2,$Q$2,,$O$2,$P$2)","v":296}]
[{"$f":" RTD(\"cqg.rtd\",,\"StudyData\", $N$2, \"Bar\", \"\", \"Time\", $M$2, $F99,$R$2,$Q$2, \"\",\"False\")","v":44669.024305555555},{"$f":" RTD(\"cqg.rtd\",,\"StudyData\", $N$2, \"Bar\", \"\", \"Open\", $M$2, $F99, $R$2,$Q$2,,$O$2,$P$2)","v":4363},{"$f":" RTD(\"cqg.rtd\",,\"StudyData\", $N$2, \"Bar\", \"\", \"High\", $M$2, $F99, $R$2,$Q$2,,$O$2,$P$2)","v":4363.5},{"$f":" RTD(\"cqg.rtd\",,\"StudyData\", $N$2, \"Bar\", \"\", \"Low\", $M$2, $F99, $R$2,$Q$2,,$O$2,$P$2)","v":4362.5},{"$f":" RTD(\"cqg.rtd\",,\"StudyData\", $N$2, \"Bar\", \"\", \"Close\", $M$2, $F99, $R$2,$Q$2,,$O$2,$P$2)","v":4363},-98,null,44669.024305555555,{"$f":"RTD(\"cqg.rtd\",,\"StudyData\",$N$2, \"Vol\", \"VolType=Auto,CoCType=Auto\", \"Vol\", $M$2, $F99, $R$2,$Q$2,,$O$2,$P$2)","v":202}]
[{"$f":" RTD(\"cqg.rtd\",,\"StudyData\", $N$2, \"Bar\", \"\", \"Time\", $M$2, $F100,$R$2,$Q$2, \"\",\"False\")","v":44669.020833333336},{"$f":" RTD(\"cqg.rtd\",,\"StudyData\", $N$2, \"Bar\", \"\", \"Open\", $M$2, $F100, $R$2,$Q$2,,$O$2,$P$2)","v":4363},{"$f":" RTD(\"cqg.rtd\",,\"StudyData\", $N$2, \"Bar\", \"\", \"High\", $M$2, $F100, $R$2,$Q$2,,$O$2,$P$2)","v":4364.75},{"$f":" RTD(\"cqg.rtd\",,\"StudyData\", $N$2, \"Bar\", \"\", \"Low\", $M$2, $F100, $R$2,$Q$2,,$O$2,$P$2)","v":4362.75},{"$f":" RTD(\"cqg.rtd\",,\"StudyData\", $N$2, \"Bar\", \"\", \"Close\", $M$2, $F100, $R$2,$Q$2,,$O$2,$P$2)","v":4363},-99,null,44669.020833333336,{"$f":"RTD(\"cqg.rtd\",,\"StudyData\",$N$2, \"Vol\", \"VolType=Auto,CoCType=Auto\", \"Vol\", $M$2, $F100, $R$2,$Q$2,,$O$2,$P$2)","v":342}]
[{"$f":" RTD(\"cqg.rtd\",,\"StudyData\", $N$2, \"Bar\", \"\", \"Time\", $M$2, $F101,$R$2,$Q$2, \"\",\"False\")","v":44669.017361111109},{"$f":" RTD(\"cqg.rtd\",,\"StudyData\", $N$2, \"Bar\", \"\", \"Open\", $M$2, $F101, $R$2,$Q$2,,$O$2,$P$2)","v":4363.25},{"$f":" RTD(\"cqg.rtd\",,\"StudyData\", $N$2, \"Bar\", \"\", \"High\", $M$2, $F101, $R$2,$Q$2,,$O$2,$P$2)","v":4363.25},{"$f":" RTD(\"cqg.rtd\",,\"StudyData\", $N$2, \"Bar\", \"\", \"Low\", $M$2, $F101, $R$2,$Q$2,,$O$2,$P$2)","v":4362.5},{"$f":" RTD(\"cqg.rtd\",,\"StudyData\", $N$2, \"Bar\", \"\", \"Close\", $M$2, $F101, $R$2,$Q$2,,$O$2,$P$2)","v":4363},-100,null,44669.017361111109,{"$f":"RTD(\"cqg.rtd\",,\"StudyData\",$N$2, \"Vol\", \"VolType=Auto,CoCType=Auto\", \"Vol\", $M$2, $F101, $R$2,$Q$2,,$O$2,$P$2)","v":248}]
[{"$f":" RTD(\"cqg.rtd\",,\"StudyData\", $N$2, \"Bar\", \"\", \"Time\", $M$2, $F102,$R$2,$Q$2, \"\",\"False\")","v":44669.013888888891},{"$f":" RTD(\"cqg.rtd\",,\"StudyData\", $N$2, \"Bar\", \"\", \"Open\", $M$2, $F102, $R$2,$Q$2,,$O$2,$P$2)","v":4363.5},{"$f":" RTD(\"cqg.rtd\",,\"StudyData\", $N$2, \"Bar\", \"\", \"High\", $M$2, $F102, $R$2,$Q$2,,$O$2,$P$2)","v":4363.5},{"$f":" RTD(\"cqg.rtd\",,\"StudyData\", $N$2, \"Bar\", \"\", \"Low\", $M$2, $F102, $R$2,$Q$2,,$O$2,$P$2)","v":4363},{"$f":" RTD(\"cqg.rtd\",,\"StudyData\", $N$2, \"Bar\", \"\", \"Close\", $M$2, $F102, $R$2,$Q$2,,$O$2,$P$2)","v":4363.25},-101,null,44669.013888888891,{"$f":"RTD(\"cqg.rtd\",,\"StudyData\",$N$2, \"Vol\", \"VolType=Auto,CoCType=Auto\", \"Vol\", $M$2, $F102, $R$2,$Q$2,,$O$2,$P$2)","v":186}]
[{"$f":" RTD(\"cqg.rtd\",,\"StudyData\", $N$2, \"Bar\", \"\", \"Time\", $M$2, $F103,$R$2,$Q$2, \"\",\"False\")","v":44669.010416666664},{"$f":" RTD(\"cqg.rtd\",,\"StudyData\", $N$2, \"Bar\", \"\", \"Open\", $M$2, $F103, $R$2,$Q$2,,$O$2,$P$2)","v":4364.75},{"$f":" RTD(\"cqg.rtd\",,\"StudyData\", $N$2, \"Bar\", \"\", \"High\", $M$2, $F103, $R$2,$Q$2,,$O$2,$P$2)","v":4365},{"$f":" RTD(\"cqg.rtd\",,\"StudyData\", $N$2, \"Bar\", \"\", \"Low\", $M$2, $F103, $R$2,$Q$2,,$O$2,$P$2)","v":4363},{"$f":" RTD(\"cqg.rtd\",,\"StudyData\", $N$2, \"Bar\", \"\", \"Close\", $M$2, $F103, $R$2,$Q$2,,$O$2,$P$2)","v":4363.5},-102,null,44669.010416666664,{"$f":"RTD(\"cqg.rtd\",,\"StudyData\",$N$2, \"Vol\", \"VolType=Auto,CoCType=Auto\", \"Vol\", $M$2, $F103, $R$2,$Q$2,,$O$2,$P$2)","v":257}]
[{"$f":" RTD(\"cqg.rtd\",,\"StudyData\", $N$2, \"Bar\", \"\", \"Time\", $M$2, $F104,$R$2,$Q$2, \"\",\"False\")","v":44669.006944444445},{"$f":" RTD(\"cqg.rtd\",,\"StudyData\", $N$2, \"Bar\", \"\", \"Open\", $M$2, $F104, $R$2,$Q$2,,$O$2,$P$2)","v":4365},{"$f":" RTD(\"cqg.rtd\",,\"StudyData\", $N$2, \"Bar\", \"\", \"High\", $M$2, $F104, $R$2,$Q$2,,$O$2,$P$2)","v":4365.5},{"$f":" RTD(\"cqg.rtd\",,\"StudyData\", $N$2, \"Bar\", \"\", \"Low\", $M$2, $F104, $R$2,$Q$2,,$O$2,$P$2)","v":4363.75},{"$f":" RTD(\"cqg.rtd\",,\"StudyData\", $N$2, \"Bar\", \"\", \"Close\", $M$2, $F104, $R$2,$Q$2,,$O$2,$P$2)","v":4364.75},-103,null,44669.006944444445,{"$f":"RTD(\"cqg.rtd\",,\"StudyData\",$N$2, \"Vol\", \"VolType=Auto,CoCType=Auto\", \"Vol\", $M$2, $F104, $R$2,$Q$2,,$O$2,$P$2)","v":294}]
[{"$f":" RTD(\"cqg.rtd\",,\"StudyData\", $N$2, \"Bar\", \"\", \"Time\", $M$2, $F105,$R$2,$Q$2, \"\",\"False\")","v":44669.003472222219},{"$f":" RTD(\"cqg.rtd\",,\"StudyData\", $N$2, \"Bar\", \"\", \"Open\", $M$2, $F105, $R$2,$Q$2,,$O$2,$P$2)","v":4363.75},{"$f":" RTD(\"cqg.rtd\",,\"StudyData\", $N$2, \"Bar\", \"\", \"High\", $M$2, $F105, $R$2,$Q$2,,$O$2,$P$2)","v":4366},{"$f":" RTD(\"cqg.rtd\",,\"StudyData\", $N$2, \"Bar\", \"\", \"Low\", $M$2, $F105, $R$2,$Q$2,,$O$2,$P$2)","v":4363.75},{"$f":" RTD(\"cqg.rtd\",,\"StudyData\", $N$2, \"Bar\", \"\", \"Close\", $M$2, $F105, $R$2,$Q$2,,$O$2,$P$2)","v":4364.75},-104,null,44669.003472222219,{"$f":"RTD(\"cqg.rtd\",,\"StudyData\",$N$2, \"Vol\", \"VolType=Auto,CoCType=Auto\", \"Vol\", $M$2, $F105, $R$2,$Q$2,,$O$2,$P$2)","v":430}]
[{"$f":" RTD(\"cqg.rtd\",,\"StudyData\", $N$2, \"Bar\", \"\", \"Time\", $M$2, $F106,$R$2,$Q$2, \"\",\"False\")","v":44669},{"$f":" RTD(\"cqg.rtd\",,\"StudyData\", $N$2, \"Bar\", \"\", \"Open\", $M$2, $F106, $R$2,$Q$2,,$O$2,$P$2)","v":4362.5},{"$f":" RTD(\"cqg.rtd\",,\"StudyData\", $N$2, \"Bar\", \"\", \"High\", $M$2, $F106, $R$2,$Q$2,,$O$2,$P$2)","v":4364.25},{"$f":" RTD(\"cqg.rtd\",,\"StudyData\", $N$2, \"Bar\", \"\", \"Low\", $M$2, $F106, $R$2,$Q$2,,$O$2,$P$2)","v":4362.25},{"$f":" RTD(\"cqg.rtd\",,\"StudyData\", $N$2, \"Bar\", \"\", \"Close\", $M$2, $F106, $R$2,$Q$2,,$O$2,$P$2)","v":4363.75},-105,null,44669,{"$f":"RTD(\"cqg.rtd\",,\"StudyData\",$N$2, \"Vol\", \"VolType=Auto,CoCType=Auto\", \"Vol\", $M$2, $F106, $R$2,$Q$2,,$O$2,$P$2)","v":459}]
[{"$f":" RTD(\"cqg.rtd\",,\"StudyData\", $N$2, \"Bar\", \"\", \"Time\", $M$2, $F107,$R$2,$Q$2, \"\",\"False\")","v":44668.996527777781},{"$f":" RTD(\"cqg.rtd\",,\"StudyData\", $N$2, \"Bar\", \"\", \"Open\", $M$2, $F107, $R$2,$Q$2,,$O$2,$P$2)","v":4362.5},{"$f":" RTD(\"cqg.rtd\",,\"StudyData\", $N$2, \"Bar\", \"\", \"High\", $M$2, $F107, $R$2,$Q$2,,$O$2,$P$2)","v":4363.5},{"$f":" RTD(\"cqg.rtd\",,\"StudyData\", $N$2, \"Bar\", \"\", \"Low\", $M$2, $F107, $R$2,$Q$2,,$O$2,$P$2)","v":4362.25},{"$f":" RTD(\"cqg.rtd\",,\"StudyData\", $N$2, \"Bar\", \"\", \"Close\", $M$2, $F107, $R$2,$Q$2,,$O$2,$P$2)","v":4362.25},-106,null,44668.996527777781,{"$f":"RTD(\"cqg.rtd\",,\"StudyData\",$N$2, \"Vol\", \"VolType=Auto,CoCType=Auto\", \"Vol\", $M$2, $F107, $R$2,$Q$2,,$O$2,$P$2)","v":233}]
[{"$f":" RTD(\"cqg.rtd\",,\"StudyData\", $N$2, \"Bar\", \"\", \"Time\", $M$2, $F108,$R$2,$Q$2, \"\",\"False\")","v":44668.993055555555},{"$f":" RTD(\"cqg.rtd\",,\"StudyData\", $N$2, \"Bar\", \"\", \"Open\", $M$2, $F108, $R$2,$Q$2,,$O$2,$P$2)","v":4362.5},{"$f":" RTD(\"cqg.rtd\",,\"StudyData\", $N$2, \"Bar\", \"\", \"High\", $M$2, $F108, $R$2,$Q$2,,$O$2,$P$2)","v":4362.75},{"$f":" RTD(\"cqg.rtd\",,\"StudyData\", $N$2, \"Bar\", \"\", \"Low\", $M$2, $F108, $R$2,$Q$2,,$O$2,$P$2)","v":4361.75},{"$f":" RTD(\"cqg.rtd\",,\"StudyData\", $N$2, \"Bar\", \"\", \"Close\", $M$2, $F108, $R$2,$Q$2,,$O$2,$P$2)","v":4362.5},-107,null,44668.993055555555,{"$f":"RTD(\"cqg.rtd\",,\"StudyData\",$N$2, \"Vol\", \"VolType=Auto,CoCType=Auto\", \"Vol\", $M$2, $F108, $R$2,$Q$2,,$O$2,$P$2)","v":238}]
[{"$f":" RTD(\"cqg.rtd\",,\"StudyData\", $N$2, \"Bar\", \"\", \"Time\", $M$2, $F109,$R$2,$Q$2, \"\",\"False\")","v":44668.989583333336},{"$f":" RTD(\"cqg.rtd\",,\"StudyData\", $N$2, \"Bar\", \"\", \"Open\", $M$2, $F109, $R$2,$Q$2,,$O$2,$P$2)","v":4363.5},{"$f":" RTD(\"cqg.rtd\",,\"StudyData\", $N$2, \"Bar\", \"\", \"High\", $M$2, $F109, $R$2,$Q$2,,$O$2,$P$2)","v":4363.75},{"$f":" RTD(\"cqg.rtd\",,\"StudyData\", $N$2, \"Bar\", \"\", \"Low\", $M$2, $F109, $R$2,$Q$2,,$O$2,$P$2)","v":4362.25},{"$f":" RTD(\"cqg.rtd\",,\"StudyData\", $N$2, \"Bar\", \"\", \"Close\", $M$2, $F109, $R$2,$Q$2,,$O$2,$P$2)","v":4362.5},-108,null,44668.989583333336,{"$f":"RTD(\"cqg.rtd\",,\"StudyData\",$N$2, \"Vol\", \"VolType=Auto,CoCType=Auto\", \"Vol\", $M$2, $F109, $R$2,$Q$2,,$O$2,$P$2)","v":406}]
[{"$f":" RTD(\"cqg.rtd\",,\"StudyData\", $N$2, \"Bar\", \"\", \"Time\", $M$2, $F110,$R$2,$Q$2, \"\",\"False\")","v":44668.986111111109},{"$f":" RTD(\"cqg.rtd\",,\"StudyData\", $N$2, \"Bar\", \"\", \"Open\", $M$2, $F110, $R$2,$Q$2,,$O$2,$P$2)","v":4363.5},{"$f":" RTD(\"cqg.rtd\",,\"StudyData\", $N$2, \"Bar\", \"\", \"High\", $M$2, $F110, $R$2,$Q$2,,$O$2,$P$2)","v":4363.75},{"$f":" RTD(\"cqg.rtd\",,\"StudyData\", $N$2, \"Bar\", \"\", \"Low\", $M$2, $F110, $R$2,$Q$2,,$O$2,$P$2)","v":4363},{"$f":" RTD(\"cqg.rtd\",,\"StudyData\", $N$2, \"Bar\", \"\", \"Close\", $M$2, $F110, $R$2,$Q$2,,$O$2,$P$2)","v":4363.5},-109,null,44668.986111111109,{"$f":"RTD(\"cqg.rtd\",,\"StudyData\",$N$2, \"Vol\", \"VolType=Auto,CoCType=Auto\", \"Vol\", $M$2, $F110, $R$2,$Q$2,,$O$2,$P$2)","v":206}]
[{"$f":" RTD(\"cqg.rtd\",,\"StudyData\", $N$2, \"Bar\", \"\", \"Time\", $M$2, $F111,$R$2,$Q$2, \"\",\"False\")","v":44668.982638888891},{"$f":" RTD(\"cqg.rtd\",,\"StudyData\", $N$2, \"Bar\", \"\", \"Open\", $M$2, $F111, $R$2,$Q$2,,$O$2,$P$2)","v":4363.25},{"$f":" RTD(\"cqg.rtd\",,\"StudyData\", $N$2, \"Bar\", \"\", \"High\", $M$2, $F111, $R$2,$Q$2,,$O$2,$P$2)","v":4363.5},{"$f":" RTD(\"cqg.rtd\",,\"StudyData\", $N$2, \"Bar\", \"\", \"Low\", $M$2, $F111, $R$2,$Q$2,,$O$2,$P$2)","v":4361.5},{"$f":" RTD(\"cqg.rtd\",,\"StudyData\", $N$2, \"Bar\", \"\", \"Close\", $M$2, $F111, $R$2,$Q$2,,$O$2,$P$2)","v":4363.25},-110,null,44668.982638888891,{"$f":"RTD(\"cqg.rtd\",,\"StudyData\",$N$2, \"Vol\", \"VolType=Auto,CoCType=Auto\", \"Vol\", $M$2, $F111, $R$2,$Q$2,,$O$2,$P$2)","v":900}]
[{"$f":" RTD(\"cqg.rtd\",,\"StudyData\", $N$2, \"Bar\", \"\", \"Time\", $M$2, $F112,$R$2,$Q$2, \"\",\"False\")","v":44668.979166666664},{"$f":" RTD(\"cqg.rtd\",,\"StudyData\", $N$2, \"Bar\", \"\", \"Open\", $M$2, $F112, $R$2,$Q$2,,$O$2,$P$2)","v":4366},{"$f":" RTD(\"cqg.rtd\",,\"StudyData\", $N$2, \"Bar\", \"\", \"High\", $M$2, $F112, $R$2,$Q$2,,$O$2,$P$2)","v":4366},{"$f":" RTD(\"cqg.rtd\",,\"StudyData\", $N$2, \"Bar\", \"\", \"Low\", $M$2, $F112, $R$2,$Q$2,,$O$2,$P$2)","v":4363},{"$f":" RTD(\"cqg.rtd\",,\"StudyData\", $N$2, \"Bar\", \"\", \"Close\", $M$2, $F112, $R$2,$Q$2,,$O$2,$P$2)","v":4363},-111,null,44668.979166666664,{"$f":"RTD(\"cqg.rtd\",,\"StudyData\",$N$2, \"Vol\", \"VolType=Auto,CoCType=Auto\", \"Vol\", $M$2, $F112, $R$2,$Q$2,,$O$2,$P$2)","v":692}]
[{"$f":" RTD(\"cqg.rtd\",,\"StudyData\", $N$2, \"Bar\", \"\", \"Time\", $M$2, $F113,$R$2,$Q$2, \"\",\"False\")","v":44668.975694444445},{"$f":" RTD(\"cqg.rtd\",,\"StudyData\", $N$2, \"Bar\", \"\", \"Open\", $M$2, $F113, $R$2,$Q$2,,$O$2,$P$2)","v":4365.75},{"$f":" RTD(\"cqg.rtd\",,\"StudyData\", $N$2, \"Bar\", \"\", \"High\", $M$2, $F113, $R$2,$Q$2,,$O$2,$P$2)","v":4366.25},{"$f":" RTD(\"cqg.rtd\",,\"StudyData\", $N$2, \"Bar\", \"\", \"Low\", $M$2, $F113, $R$2,$Q$2,,$O$2,$P$2)","v":4365.5},{"$f":" RTD(\"cqg.rtd\",,\"StudyData\", $N$2, \"Bar\", \"\", \"Close\", $M$2, $F113, $R$2,$Q$2,,$O$2,$P$2)","v":4365.75},-112,null,44668.975694444445,{"$f":"RTD(\"cqg.rtd\",,\"StudyData\",$N$2, \"Vol\", \"VolType=Auto,CoCType=Auto\", \"Vol\", $M$2, $F113, $R$2,$Q$2,,$O$2,$P$2)","v":280}]
[{"$f":" RTD(\"cqg.rtd\",,\"StudyData\", $N$2, \"Bar\", \"\", \"Time\", $M$2, $F114,$R$2,$Q$2, \"\",\"False\")","v":44668.972222222219},{"$f":" RTD(\"cqg.rtd\",,\"StudyData\", $N$2, \"Bar\", \"\", \"Open\", $M$2, $F114, $R$2,$Q$2,,$O$2,$P$2)","v":4366.25},{"$f":" RTD(\"cqg.rtd\",,\"StudyData\", $N$2, \"Bar\", \"\", \"High\", $M$2, $F114, $R$2,$Q$2,,$O$2,$P$2)","v":4366.25},{"$f":" RTD(\"cqg.rtd\",,\"StudyData\", $N$2, \"Bar\", \"\", \"Low\", $M$2, $F114, $R$2,$Q$2,,$O$2,$P$2)","v":4365.25},{"$f":" RTD(\"cqg.rtd\",,\"StudyData\", $N$2, \"Bar\", \"\", \"Close\", $M$2, $F114, $R$2,$Q$2,,$O$2,$P$2)","v":4365.75},-113,null,44668.972222222219,{"$f":"RTD(\"cqg.rtd\",,\"StudyData\",$N$2, \"Vol\", \"VolType=Auto,CoCType=Auto\", \"Vol\", $M$2, $F114, $R$2,$Q$2,,$O$2,$P$2)","v":213}]
[{"$f":" RTD(\"cqg.rtd\",,\"StudyData\", $N$2, \"Bar\", \"\", \"Time\", $M$2, $F115,$R$2,$Q$2, \"\",\"False\")","v":44668.96875},{"$f":" RTD(\"cqg.rtd\",,\"StudyData\", $N$2, \"Bar\", \"\", \"Open\", $M$2, $F115, $R$2,$Q$2,,$O$2,$P$2)","v":4366.75},{"$f":" RTD(\"cqg.rtd\",,\"StudyData\", $N$2, \"Bar\", \"\", \"High\", $M$2, $F115, $R$2,$Q$2,,$O$2,$P$2)","v":4366.75},{"$f":" RTD(\"cqg.rtd\",,\"StudyData\", $N$2, \"Bar\", \"\", \"Low\", $M$2, $F115, $R$2,$Q$2,,$O$2,$P$2)","v":4365.75},{"$f":" RTD(\"cqg.rtd\",,\"StudyData\", $N$2, \"Bar\", \"\", \"Close\", $M$2, $F115, $R$2,$Q$2,,$O$2,$P$2)","v":4366.25},-114,null,44668.96875,{"$f":"RTD(\"cqg.rtd\",,\"StudyData\",$N$2, \"Vol\", \"VolType=Auto,CoCType=Auto\", \"Vol\", $M$2, $F115, $R$2,$Q$2,,$O$2,$P$2)","v":181}]
[{"$f":" RTD(\"cqg.rtd\",,\"StudyData\", $N$2, \"Bar\", \"\", \"Time\", $M$2, $F116,$R$2,$Q$2, \"\",\"False\")","v":44668.965277777781},{"$f":" RTD(\"cqg.rtd\",,\"StudyData\", $N$2, \"Bar\", \"\", \"Open\", $M$2, $F116, $R$2,$Q$2,,$O$2,$P$2)","v":4366.25},{"$f":" RTD(\"cqg.rtd\",,\"StudyData\", $N$2, \"Bar\", \"\", \"High\", $M$2, $F116, $R$2,$Q$2,,$O$2,$P$2)","v":4366.75},{"$f":" RTD(\"cqg.rtd\",,\"StudyData\", $N$2, \"Bar\", \"\", \"Low\", $M$2, $F116, $R$2,$Q$2,,$O$2,$P$2)","v":4366},{"$f":" RTD(\"cqg.rtd\",,\"StudyData\", $N$2, \"Bar\", \"\", \"Close\", $M$2, $F116, $R$2,$Q$2,,$O$2,$P$2)","v":4366.75},-115,null,44668.965277777781,{"$f":"RTD(\"cqg.rtd\",,\"StudyData\",$N$2, \"Vol\", \"VolType=Auto,CoCType=Auto\", \"Vol\", $M$2, $F116, $R$2,$Q$2,,$O$2,$P$2)","v":142}]
[{"$f":" RTD(\"cqg.rtd\",,\"StudyData\", $N$2, \"Bar\", \"\", \"Time\", $M$2, $F117,$R$2,$Q$2, \"\",\"False\")","v":44668.961805555555},{"$f":" RTD(\"cqg.rtd\",,\"StudyData\", $N$2, \"Bar\", \"\", \"Open\", $M$2, $F117, $R$2,$Q$2,,$O$2,$P$2)","v":4366.5},{"$f":" RTD(\"cqg.rtd\",,\"StudyData\", $N$2, \"Bar\", \"\", \"High\", $M$2, $F117, $R$2,$Q$2,,$O$2,$P$2)","v":4366.75},{"$f":" RTD(\"cqg.rtd\",,\"StudyData\", $N$2, \"Bar\", \"\", \"Low\", $M$2, $F117, $R$2,$Q$2,,$O$2,$P$2)","v":4366},{"$f":" RTD(\"cqg.rtd\",,\"StudyData\", $N$2, \"Bar\", \"\", \"Close\", $M$2, $F117, $R$2,$Q$2,,$O$2,$P$2)","v":4366},-116,null,44668.961805555555,{"$f":"RTD(\"cqg.rtd\",,\"StudyData\",$N$2, \"Vol\", \"VolType=Auto,CoCType=Auto\", \"Vol\", $M$2, $F117, $R$2,$Q$2,,$O$2,$P$2)","v":224}]
[{"$f":" RTD(\"cqg.rtd\",,\"StudyData\", $N$2, \"Bar\", \"\", \"Time\", $M$2, $F118,$R$2,$Q$2, \"\",\"False\")","v":44668.958333333336},{"$f":" RTD(\"cqg.rtd\",,\"StudyData\", $N$2, \"Bar\", \"\", \"Open\", $M$2, $F118, $R$2,$Q$2,,$O$2,$P$2)","v":4366.25},{"$f":" RTD(\"cqg.rtd\",,\"StudyData\", $N$2, \"Bar\", \"\", \"High\", $M$2, $F118, $R$2,$Q$2,,$O$2,$P$2)","v":4367},{"$f":" RTD(\"cqg.rtd\",,\"StudyData\", $N$2, \"Bar\", \"\", \"Low\", $M$2, $F118, $R$2,$Q$2,,$O$2,$P$2)","v":4366},{"$f":" RTD(\"cqg.rtd\",,\"StudyData\", $N$2, \"Bar\", \"\", \"Close\", $M$2, $F118, $R$2,$Q$2,,$O$2,$P$2)","v":4366.5},-117,null,44668.958333333336,{"$f":"RTD(\"cqg.rtd\",,\"StudyData\",$N$2, \"Vol\", \"VolType=Auto,CoCType=Auto\", \"Vol\", $M$2, $F118, $R$2,$Q$2,,$O$2,$P$2)","v":325}]
[{"$f":" RTD(\"cqg.rtd\",,\"StudyData\", $N$2, \"Bar\", \"\", \"Time\", $M$2, $F119,$R$2,$Q$2, \"\",\"False\")","v":44668.954861111109},{"$f":" RTD(\"cqg.rtd\",,\"StudyData\", $N$2, \"Bar\", \"\", \"Open\", $M$2, $F119, $R$2,$Q$2,,$O$2,$P$2)","v":4366.75},{"$f":" RTD(\"cqg.rtd\",,\"StudyData\", $N$2, \"Bar\", \"\", \"High\", $M$2, $F119, $R$2,$Q$2,,$O$2,$P$2)","v":4367},{"$f":" RTD(\"cqg.rtd\",,\"StudyData\", $N$2, \"Bar\", \"\", \"Low\", $M$2, $F119, $R$2,$Q$2,,$O$2,$P$2)","v":4365.75},{"$f":" RTD(\"cqg.rtd\",,\"StudyData\", $N$2, \"Bar\", \"\", \"Close\", $M$2, $F119, $R$2,$Q$2,,$O$2,$P$2)","v":4366.25},-118,null,44668.954861111109,{"$f":"RTD(\"cqg.rtd\",,\"StudyData\",$N$2, \"Vol\", \"VolType=Auto,CoCType=Auto\", \"Vol\", $M$2, $F119, $R$2,$Q$2,,$O$2,$P$2)","v":303}]
[{"$f":" RTD(\"cqg.rtd\",,\"StudyData\", $N$2, \"Bar\", \"\", \"Time\", $M$2, $F120,$R$2,$Q$2, \"\",\"False\")","v":44668.951388888891},{"$f":" RTD(\"cqg.rtd\",,\"StudyData\", $N$2, \"Bar\", \"\", \"Open\", $M$2, $F120, $R$2,$Q$2,,$O$2,$P$2)","v":4365.25},{"$f":" RTD(\"cqg.rtd\",,\"StudyData\", $N$2, \"Bar\", \"\", \"High\", $M$2, $F120, $R$2,$Q$2,,$O$2,$P$2)","v":4367.25},{"$f":" RTD(\"cqg.rtd\",,\"StudyData\", $N$2, \"Bar\", \"\", \"Low\", $M$2, $F120, $R$2,$Q$2,,$O$2,$P$2)","v":4365.25},{"$f":" RTD(\"cqg.rtd\",,\"StudyData\", $N$2, \"Bar\", \"\", \"Close\", $M$2, $F120, $R$2,$Q$2,,$O$2,$P$2)","v":4367},-119,null,44668.951388888891,{"$f":"RTD(\"cqg.rtd\",,\"StudyData\",$N$2, \"Vol\", \"VolType=Auto,CoCType=Auto\", \"Vol\", $M$2, $F120, $R$2,$Q$2,,$O$2,$P$2)","v":368}]
[{"$f":" RTD(\"cqg.rtd\",,\"StudyData\", $N$2, \"Bar\", \"\", \"Time\", $M$2, $F121,$R$2,$Q$2, \"\",\"False\")","v":44668.947916666664},{"$f":" RTD(\"cqg.rtd\",,\"StudyData\", $N$2, \"Bar\", \"\", \"Open\", $M$2, $F121, $R$2,$Q$2,,$O$2,$P$2)","v":4365.75},{"$f":" RTD(\"cqg.rtd\",,\"StudyData\", $N$2, \"Bar\", \"\", \"High\", $M$2, $F121, $R$2,$Q$2,,$O$2,$P$2)","v":4366.25},{"$f":" RTD(\"cqg.rtd\",,\"StudyData\", $N$2, \"Bar\", \"\", \"Low\", $M$2, $F121, $R$2,$Q$2,,$O$2,$P$2)","v":4365.25},{"$f":" RTD(\"cqg.rtd\",,\"StudyData\", $N$2, \"Bar\", \"\", \"Close\", $M$2, $F121, $R$2,$Q$2,,$O$2,$P$2)","v":4365.25},-120,null,44668.947916666664,{"$f":"RTD(\"cqg.rtd\",,\"StudyData\",$N$2, \"Vol\", \"VolType=Auto,CoCType=Auto\", \"Vol\", $M$2, $F121, $R$2,$Q$2,,$O$2,$P$2)","v":394}]
[{"$f":" RTD(\"cqg.rtd\",,\"StudyData\", $N$2, \"Bar\", \"\", \"Time\", $M$2, $F122,$R$2,$Q$2, \"\",\"False\")","v":44668.944444444445},{"$f":" RTD(\"cqg.rtd\",,\"StudyData\", $N$2, \"Bar\", \"\", \"Open\", $M$2, $F122, $R$2,$Q$2,,$O$2,$P$2)","v":4364},{"$f":" RTD(\"cqg.rtd\",,\"StudyData\", $N$2, \"Bar\", \"\", \"High\", $M$2, $F122, $R$2,$Q$2,,$O$2,$P$2)","v":4366.5},{"$f":" RTD(\"cqg.rtd\",,\"StudyData\", $N$2, \"Bar\", \"\", \"Low\", $M$2, $F122, $R$2,$Q$2,,$O$2,$P$2)","v":4364},{"$f":" RTD(\"cqg.rtd\",,\"StudyData\", $N$2, \"Bar\", \"\", \"Close\", $M$2, $F122, $R$2,$Q$2,,$O$2,$P$2)","v":4365.75},-121,null,44668.944444444445,{"$f":"RTD(\"cqg.rtd\",,\"StudyData\",$N$2, \"Vol\", \"VolType=Auto,CoCType=Auto\", \"Vol\", $M$2, $F122, $R$2,$Q$2,,$O$2,$P$2)","v":791}]
[{"$f":" RTD(\"cqg.rtd\",,\"StudyData\", $N$2, \"Bar\", \"\", \"Time\", $M$2, $F123,$R$2,$Q$2, \"\",\"False\")","v":44668.940972222219},{"$f":" RTD(\"cqg.rtd\",,\"StudyData\", $N$2, \"Bar\", \"\", \"Open\", $M$2, $F123, $R$2,$Q$2,,$O$2,$P$2)","v":4362.75},{"$f":" RTD(\"cqg.rtd\",,\"StudyData\", $N$2, \"Bar\", \"\", \"High\", $M$2, $F123, $R$2,$Q$2,,$O$2,$P$2)","v":4364},{"$f":" RTD(\"cqg.rtd\",,\"StudyData\", $N$2, \"Bar\", \"\", \"Low\", $M$2, $F123, $R$2,$Q$2,,$O$2,$P$2)","v":4362.75},{"$f":" RTD(\"cqg.rtd\",,\"StudyData\", $N$2, \"Bar\", \"\", \"Close\", $M$2, $F123, $R$2,$Q$2,,$O$2,$P$2)","v":4364},-122,null,44668.940972222219,{"$f":"RTD(\"cqg.rtd\",,\"StudyData\",$N$2, \"Vol\", \"VolType=Auto,CoCType=Auto\", \"Vol\", $M$2, $F123, $R$2,$Q$2,,$O$2,$P$2)","v":294}]
[{"$f":" RTD(\"cqg.rtd\",,\"StudyData\", $N$2, \"Bar\", \"\", \"Time\", $M$2, $F124,$R$2,$Q$2, \"\",\"False\")","v":44668.9375},{"$f":" RTD(\"cqg.rtd\",,\"StudyData\", $N$2, \"Bar\", \"\", \"Open\", $M$2, $F124, $R$2,$Q$2,,$O$2,$P$2)","v":4362.25},{"$f":" RTD(\"cqg.rtd\",,\"StudyData\", $N$2, \"Bar\", \"\", \"High\", $M$2, $F124, $R$2,$Q$2,,$O$2,$P$2)","v":4362.75},{"$f":" RTD(\"cqg.rtd\",,\"StudyData\", $N$2, \"Bar\", \"\", \"Low\", $M$2, $F124, $R$2,$Q$2,,$O$2,$P$2)","v":4361.5},{"$f":" RTD(\"cqg.rtd\",,\"StudyData\", $N$2, \"Bar\", \"\", \"Close\", $M$2, $F124, $R$2,$Q$2,,$O$2,$P$2)","v":4362.75},-123,null,44668.9375,{"$f":"RTD(\"cqg.rtd\",,\"StudyData\",$N$2, \"Vol\", \"VolType=Auto,CoCType=Auto\", \"Vol\", $M$2, $F124, $R$2,$Q$2,,$O$2,$P$2)","v":379}]
[{"$f":" RTD(\"cqg.rtd\",,\"StudyData\", $N$2, \"Bar\", \"\", \"Time\", $M$2, $F125,$R$2,$Q$2, \"\",\"False\")","v":44668.934027777781},{"$f":" RTD(\"cqg.rtd\",,\"StudyData\", $N$2, \"Bar\", \"\", \"Open\", $M$2, $F125, $R$2,$Q$2,,$O$2,$P$2)","v":4361.75},{"$f":" RTD(\"cqg.rtd\",,\"StudyData\", $N$2, \"Bar\", \"\", \"High\", $M$2, $F125, $R$2,$Q$2,,$O$2,$P$2)","v":4362.25},{"$f":" RTD(\"cqg.rtd\",,\"StudyData\", $N$2, \"Bar\", \"\", \"Low\", $M$2, $F125, $R$2,$Q$2,,$O$2,$P$2)","v":4361.5},{"$f":" RTD(\"cqg.rtd\",,\"StudyData\", $N$2, \"Bar\", \"\", \"Close\", $M$2, $F125, $R$2,$Q$2,,$O$2,$P$2)","v":4362.25},-124,null,44668.934027777781,{"$f":"RTD(\"cqg.rtd\",,\"StudyData\",$N$2, \"Vol\", \"VolType=Auto,CoCType=Auto\", \"Vol\", $M$2, $F125, $R$2,$Q$2,,$O$2,$P$2)","v":274}]
[{"$f":" RTD(\"cqg.rtd\",,\"StudyData\", $N$2, \"Bar\", \"\", \"Time\", $M$2, $F126,$R$2,$Q$2, \"\",\"False\")","v":44668.930555555555},{"$f":" RTD(\"cqg.rtd\",,\"StudyData\", $N$2, \"Bar\", \"\", \"Open\", $M$2, $F126, $R$2,$Q$2,,$O$2,$P$2)","v":4361.75},{"$f":" RTD(\"cqg.rtd\",,\"StudyData\", $N$2, \"Bar\", \"\", \"High\", $M$2, $F126, $R$2,$Q$2,,$O$2,$P$2)","v":4362.25},{"$f":" RTD(\"cqg.rtd\",,\"StudyData\", $N$2, \"Bar\", \"\", \"Low\", $M$2, $F126, $R$2,$Q$2,,$O$2,$P$2)","v":4361.5},{"$f":" RTD(\"cqg.rtd\",,\"StudyData\", $N$2, \"Bar\", \"\", \"Close\", $M$2, $F126, $R$2,$Q$2,,$O$2,$P$2)","v":4361.75},-125,null,44668.930555555555,{"$f":"RTD(\"cqg.rtd\",,\"StudyData\",$N$2, \"Vol\", \"VolType=Auto,CoCType=Auto\", \"Vol\", $M$2, $F126, $R$2,$Q$2,,$O$2,$P$2)","v":256}]
[{"$f":" RTD(\"cqg.rtd\",,\"StudyData\", $N$2, \"Bar\", \"\", \"Time\", $M$2, $F127,$R$2,$Q$2, \"\",\"False\")","v":44668.927083333336},{"$f":" RTD(\"cqg.rtd\",,\"StudyData\", $N$2, \"Bar\", \"\", \"Open\", $M$2, $F127, $R$2,$Q$2,,$O$2,$P$2)","v":4362.25},{"$f":" RTD(\"cqg.rtd\",,\"StudyData\", $N$2, \"Bar\", \"\", \"High\", $M$2, $F127, $R$2,$Q$2,,$O$2,$P$2)","v":4363.25},{"$f":" RTD(\"cqg.rtd\",,\"StudyData\", $N$2, \"Bar\", \"\", \"Low\", $M$2, $F127, $R$2,$Q$2,,$O$2,$P$2)","v":4361.75},{"$f":" RTD(\"cqg.rtd\",,\"StudyData\", $N$2, \"Bar\", \"\", \"Close\", $M$2, $F127, $R$2,$Q$2,,$O$2,$P$2)","v":4361.75},-126,null,44668.927083333336,{"$f":"RTD(\"cqg.rtd\",,\"StudyData\",$N$2, \"Vol\", \"VolType=Auto,CoCType=Auto\", \"Vol\", $M$2, $F127, $R$2,$Q$2,,$O$2,$P$2)","v":235}]
[{"$f":" RTD(\"cqg.rtd\",,\"StudyData\", $N$2, \"Bar\", \"\", \"Time\", $M$2, $F128,$R$2,$Q$2, \"\",\"False\")","v":44668.923611111109},{"$f":" RTD(\"cqg.rtd\",,\"StudyData\", $N$2, \"Bar\", \"\", \"Open\", $M$2, $F128, $R$2,$Q$2,,$O$2,$P$2)","v":4362.5},{"$f":" RTD(\"cqg.rtd\",,\"StudyData\", $N$2, \"Bar\", \"\", \"High\", $M$2, $F128, $R$2,$Q$2,,$O$2,$P$2)","v":4363},{"$f":" RTD(\"cqg.rtd\",,\"StudyData\", $N$2, \"Bar\", \"\", \"Low\", $M$2, $F128, $R$2,$Q$2,,$O$2,$P$2)","v":4361.75},{"$f":" RTD(\"cqg.rtd\",,\"StudyData\", $N$2, \"Bar\", \"\", \"Close\", $M$2, $F128, $R$2,$Q$2,,$O$2,$P$2)","v":4362.5},-127,null,44668.923611111109,{"$f":"RTD(\"cqg.rtd\",,\"StudyData\",$N$2, \"Vol\", \"VolType=Auto,CoCType=Auto\", \"Vol\", $M$2, $F128, $R$2,$Q$2,,$O$2,$P$2)","v":271}]
[{"$f":" RTD(\"cqg.rtd\",,\"StudyData\", $N$2, \"Bar\", \"\", \"Time\", $M$2, $F129,$R$2,$Q$2, \"\",\"False\")","v":44668.920138888891},{"$f":" RTD(\"cqg.rtd\",,\"StudyData\", $N$2, \"Bar\", \"\", \"Open\", $M$2, $F129, $R$2,$Q$2,,$O$2,$P$2)","v":4363.5},{"$f":" RTD(\"cqg.rtd\",,\"StudyData\", $N$2, \"Bar\", \"\", \"High\", $M$2, $F129, $R$2,$Q$2,,$O$2,$P$2)","v":4363.75},{"$f":" RTD(\"cqg.rtd\",,\"StudyData\", $N$2, \"Bar\", \"\", \"Low\", $M$2, $F129, $R$2,$Q$2,,$O$2,$P$2)","v":4362.25},{"$f":" RTD(\"cqg.rtd\",,\"StudyData\", $N$2, \"Bar\", \"\", \"Close\", $M$2, $F129, $R$2,$Q$2,,$O$2,$P$2)","v":4362.75},-128,null,44668.920138888891,{"$f":"RTD(\"cqg.rtd\",,\"StudyData\",$N$2, \"Vol\", \"VolType=Auto,CoCType=Auto\", \"Vol\", $M$2, $F129, $R$2,$Q$2,,$O$2,$P$2)","v":218}]
[{"$f":" RTD(\"cqg.rtd\",,\"StudyData\", $N$2, \"Bar\", \"\", \"Time\", $M$2, $F130,$R$2,$Q$2, \"\",\"False\")","v":44668.916666666664},{"$f":" RTD(\"cqg.rtd\",,\"StudyData\", $N$2, \"Bar\", \"\", \"Open\", $M$2, $F130, $R$2,$Q$2,,$O$2,$P$2)","v":4364},{"$f":" RTD(\"cqg.rtd\",,\"StudyData\", $N$2, \"Bar\", \"\", \"High\", $M$2, $F130, $R$2,$Q$2,,$O$2,$P$2)","v":4364.5},{"$f":" RTD(\"cqg.rtd\",,\"StudyData\", $N$2, \"Bar\", \"\", \"Low\", $M$2, $F130, $R$2,$Q$2,,$O$2,$P$2)","v":4363},{"$f":" RTD(\"cqg.rtd\",,\"StudyData\", $N$2, \"Bar\", \"\", \"Close\", $M$2, $F130, $R$2,$Q$2,,$O$2,$P$2)","v":4363.5},-129,null,{"$f":"A130","v":44668.916666666664},{"$f":"RTD(\"cqg.rtd\",,\"StudyData\",$N$2, \"Vol\", \"VolType=Auto,CoCType=Auto\", \"Vol\", $M$2, $F130, $R$2,$Q$2,,$O$2,$P$2)","v":336}]
[{"$f":" RTD(\"cqg.rtd\",,\"StudyData\", $N$2, \"Bar\", \"\", \"Time\", $M$2, $F131,$R$2,$Q$2, \"\",\"False\")","v":44668.913194444445},{"$f":" RTD(\"cqg.rtd\",,\"StudyData\", $N$2, \"Bar\", \"\", \"Open\", $M$2, $F131, $R$2,$Q$2,,$O$2,$P$2)","v":4363.25},{"$f":" RTD(\"cqg.rtd\",,\"StudyData\", $N$2, \"Bar\", \"\", \"High\", $M$2, $F131, $R$2,$Q$2,,$O$2,$P$2)","v":4364.25},{"$f":" RTD(\"cqg.rtd\",,\"StudyData\", $N$2, \"Bar\", \"\", \"Low\", $M$2, $F131, $R$2,$Q$2,,$O$2,$P$2)","v":4363},{"$f":" RTD(\"cqg.rtd\",,\"StudyData\", $N$2, \"Bar\", \"\", \"Close\", $M$2, $F131, $R$2,$Q$2,,$O$2,$P$2)","v":4363.75},{"$f":"F130-1","v":-130},null,44668.913194444445,{"$f":"RTD(\"cqg.rtd\",,\"StudyData\",$N$2, \"Vol\", \"VolType=Auto,CoCType=Auto\", \"Vol\", $M$2, $F131, $R$2,$Q$2,,$O$2,$P$2)","v":417}]
[{"$f":" RTD(\"cqg.rtd\",,\"StudyData\", $N$2, \"Bar\", \"\", \"Time\", $M$2, $F132,$R$2,$Q$2, \"\",\"False\")","v":44668.909722222219},{"$f":" RTD(\"cqg.rtd\",,\"StudyData\", $N$2, \"Bar\", \"\", \"Open\", $M$2, $F132, $R$2,$Q$2,,$O$2,$P$2)","v":4362.25},{"$f":" RTD(\"cqg.rtd\",,\"StudyData\", $N$2, \"Bar\", \"\", \"High\", $M$2, $F132, $R$2,$Q$2,,$O$2,$P$2)","v":4363.5},{"$f":" RTD(\"cqg.rtd\",,\"StudyData\", $N$2, \"Bar\", \"\", \"Low\", $M$2, $F132, $R$2,$Q$2,,$O$2,$P$2)","v":4361.75},{"$f":" RTD(\"cqg.rtd\",,\"StudyData\", $N$2, \"Bar\", \"\", \"Close\", $M$2, $F132, $R$2,$Q$2,,$O$2,$P$2)","v":4363.25},-131,null,44668.909722222219,{"$f":"RTD(\"cqg.rtd\",,\"StudyData\",$N$2, \"Vol\", \"VolType=Auto,CoCType=Auto\", \"Vol\", $M$2, $F132, $R$2,$Q$2,,$O$2,$P$2)","v":281}]
[{"$f":" RTD(\"cqg.rtd\",,\"StudyData\", $N$2, \"Bar\", \"\", \"Time\", $M$2, $F133,$R$2,$Q$2, \"\",\"False\")","v":44668.90625},{"$f":" RTD(\"cqg.rtd\",,\"StudyData\", $N$2, \"Bar\", \"\", \"Open\", $M$2, $F133, $R$2,$Q$2,,$O$2,$P$2)","v":4362.25},{"$f":" RTD(\"cqg.rtd\",,\"StudyData\", $N$2, \"Bar\", \"\", \"High\", $M$2, $F133, $R$2,$Q$2,,$O$2,$P$2)","v":4362.5},{"$f":" RTD(\"cqg.rtd\",,\"StudyData\", $N$2, \"Bar\", \"\", \"Low\", $M$2, $F133, $R$2,$Q$2,,$O$2,$P$2)","v":4362},{"$f":" RTD(\"cqg.rtd\",,\"StudyData\", $N$2, \"Bar\", \"\", \"Close\", $M$2, $F133, $R$2,$Q$2,,$O$2,$P$2)","v":4362.25},-132,null,44668.90625,{"$f":"RTD(\"cqg.rtd\",,\"StudyData\",$N$2, \"Vol\", \"VolType=Auto,CoCType=Auto\", \"Vol\", $M$2, $F133, $R$2,$Q$2,,$O$2,$P$2)","v":154}]
[{"$f":" RTD(\"cqg.rtd\",,\"StudyData\", $N$2, \"Bar\", \"\", \"Time\", $M$2, $F134,$R$2,$Q$2, \"\",\"False\")","v":44668.902777777781},{"$f":" RTD(\"cqg.rtd\",,\"StudyData\", $N$2, \"Bar\", \"\", \"Open\", $M$2, $F134, $R$2,$Q$2,,$O$2,$P$2)","v":4362},{"$f":" RTD(\"cqg.rtd\",,\"StudyData\", $N$2, \"Bar\", \"\", \"High\", $M$2, $F134, $R$2,$Q$2,,$O$2,$P$2)","v":4362.5},{"$f":" RTD(\"cqg.rtd\",,\"StudyData\", $N$2, \"Bar\", \"\", \"Low\", $M$2, $F134, $R$2,$Q$2,,$O$2,$P$2)","v":4361.5},{"$f":" RTD(\"cqg.rtd\",,\"StudyData\", $N$2, \"Bar\", \"\", \"Close\", $M$2, $F134, $R$2,$Q$2,,$O$2,$P$2)","v":4362.25},-133,null,44668.902777777781,{"$f":"RTD(\"cqg.rtd\",,\"StudyData\",$N$2, \"Vol\", \"VolType=Auto,CoCType=Auto\", \"Vol\", $M$2, $F134, $R$2,$Q$2,,$O$2,$P$2)","v":239}]
[{"$f":" RTD(\"cqg.rtd\",,\"StudyData\", $N$2, \"Bar\", \"\", \"Time\", $M$2, $F135,$R$2,$Q$2, \"\",\"False\")","v":44668.899305555555},{"$f":" RTD(\"cqg.rtd\",,\"StudyData\", $N$2, \"Bar\", \"\", \"Open\", $M$2, $F135, $R$2,$Q$2,,$O$2,$P$2)","v":4362},{"$f":" RTD(\"cqg.rtd\",,\"StudyData\", $N$2, \"Bar\", \"\", \"High\", $M$2, $F135, $R$2,$Q$2,,$O$2,$P$2)","v":4362.5},{"$f":" RTD(\"cqg.rtd\",,\"StudyData\", $N$2, \"Bar\", \"\", \"Low\", $M$2, $F135, $R$2,$Q$2,,$O$2,$P$2)","v":4361.5},{"$f":" RTD(\"cqg.rtd\",,\"StudyData\", $N$2, \"Bar\", \"\", \"Close\", $M$2, $F135, $R$2,$Q$2,,$O$2,$P$2)","v":4362},-134,null,44668.899305555555,{"$f":"RTD(\"cqg.rtd\",,\"StudyData\",$N$2, \"Vol\", \"VolType=Auto,CoCType=Auto\", \"Vol\", $M$2, $F135, $R$2,$Q$2,,$O$2,$P$2)","v":249}]
[{"$f":" RTD(\"cqg.rtd\",,\"StudyData\", $N$2, \"Bar\", \"\", \"Time\", $M$2, $F136,$R$2,$Q$2, \"\",\"False\")","v":44668.895833333336},{"$f":" RTD(\"cqg.rtd\",,\"StudyData\", $N$2, \"Bar\", \"\", \"Open\", $M$2, $F136, $R$2,$Q$2,,$O$2,$P$2)","v":4362.75},{"$f":" RTD(\"cqg.rtd\",,\"StudyData\", $N$2, \"Bar\", \"\", \"High\", $M$2, $F136, $R$2,$Q$2,,$O$2,$P$2)","v":4363.75},{"$f":" RTD(\"cqg.rtd\",,\"StudyData\", $N$2, \"Bar\", \"\", \"Low\", $M$2, $F136, $R$2,$Q$2,,$O$2,$P$2)","v":4362},{"$f":" RTD(\"cqg.rtd\",,\"StudyData\", $N$2, \"Bar\", \"\", \"Close\", $M$2, $F136, $R$2,$Q$2,,$O$2,$P$2)","v":4362},-135,null,44668.895833333336,{"$f":"RTD(\"cqg.rtd\",,\"StudyData\",$N$2, \"Vol\", \"VolType=Auto,CoCType=Auto\", \"Vol\", $M$2, $F136, $R$2,$Q$2,,$O$2,$P$2)","v":279}]
[{"$f":" RTD(\"cqg.rtd\",,\"StudyData\", $N$2, \"Bar\", \"\", \"Time\", $M$2, $F137,$R$2,$Q$2, \"\",\"False\")","v":44668.892361111109},{"$f":" RTD(\"cqg.rtd\",,\"StudyData\", $N$2, \"Bar\", \"\", \"Open\", $M$2, $F137, $R$2,$Q$2,,$O$2,$P$2)","v":4362},{"$f":" RTD(\"cqg.rtd\",,\"StudyData\", $N$2, \"Bar\", \"\", \"High\", $M$2, $F137, $R$2,$Q$2,,$O$2,$P$2)","v":4363.5},{"$f":" RTD(\"cqg.rtd\",,\"StudyData\", $N$2, \"Bar\", \"\", \"Low\", $M$2, $F137, $R$2,$Q$2,,$O$2,$P$2)","v":4361.75},{"$f":" RTD(\"cqg.rtd\",,\"StudyData\", $N$2, \"Bar\", \"\", \"Close\", $M$2, $F137, $R$2,$Q$2,,$O$2,$P$2)","v":4363},-136,null,44668.892361111109,{"$f":"RTD(\"cqg.rtd\",,\"StudyData\",$N$2, \"Vol\", \"VolType=Auto,CoCType=Auto\", \"Vol\", $M$2, $F137, $R$2,$Q$2,,$O$2,$P$2)","v":309}]
[{"$f":" RTD(\"cqg.rtd\",,\"StudyData\", $N$2, \"Bar\", \"\", \"Time\", $M$2, $F138,$R$2,$Q$2, \"\",\"False\")","v":44668.888888888891},{"$f":" RTD(\"cqg.rtd\",,\"StudyData\", $N$2, \"Bar\", \"\", \"Open\", $M$2, $F138, $R$2,$Q$2,,$O$2,$P$2)","v":4361.5},{"$f":" RTD(\"cqg.rtd\",,\"StudyData\", $N$2, \"Bar\", \"\", \"High\", $M$2, $F138, $R$2,$Q$2,,$O$2,$P$2)","v":4362.5},{"$f":" RTD(\"cqg.rtd\",,\"StudyData\", $N$2, \"Bar\", \"\", \"Low\", $M$2, $F138, $R$2,$Q$2,,$O$2,$P$2)","v":4360.75},{"$f":" RTD(\"cqg.rtd\",,\"StudyData\", $N$2, \"Bar\", \"\", \"Close\", $M$2, $F138, $R$2,$Q$2,,$O$2,$P$2)","v":4362},-137,null,44668.888888888891,{"$f":"RTD(\"cqg.rtd\",,\"StudyData\",$N$2, \"Vol\", \"VolType=Auto,CoCType=Auto\", \"Vol\", $M$2, $F138, $R$2,$Q$2,,$O$2,$P$2)","v":428}]
[{"$f":" RTD(\"cqg.rtd\",,\"StudyData\", $N$2, \"Bar\", \"\", \"Time\", $M$2, $F139,$R$2,$Q$2, \"\",\"False\")","v":44668.885416666664},{"$f":" RTD(\"cqg.rtd\",,\"StudyData\", $N$2, \"Bar\", \"\", \"Open\", $M$2, $F139, $R$2,$Q$2,,$O$2,$P$2)","v":4363},{"$f":" RTD(\"cqg.rtd\",,\"StudyData\", $N$2, \"Bar\", \"\", \"High\", $M$2, $F139, $R$2,$Q$2,,$O$2,$P$2)","v":4363},{"$f":" RTD(\"cqg.rtd\",,\"StudyData\", $N$2, \"Bar\", \"\", \"Low\", $M$2, $F139, $R$2,$Q$2,,$O$2,$P$2)","v":4361.5},{"$f":" RTD(\"cqg.rtd\",,\"StudyData\", $N$2, \"Bar\", \"\", \"Close\", $M$2, $F139, $R$2,$Q$2,,$O$2,$P$2)","v":4361.5},-138,null,44668.885416666664,{"$f":"RTD(\"cqg.rtd\",,\"StudyData\",$N$2, \"Vol\", \"VolType=Auto,CoCType=Auto\", \"Vol\", $M$2, $F139, $R$2,$Q$2,,$O$2,$P$2)","v":355}]
[{"$f":" RTD(\"cqg.rtd\",,\"StudyData\", $N$2, \"Bar\", \"\", \"Time\", $M$2, $F140,$R$2,$Q$2, \"\",\"False\")","v":44668.881944444445},{"$f":" RTD(\"cqg.rtd\",,\"StudyData\", $N$2, \"Bar\", \"\", \"Open\", $M$2, $F140, $R$2,$Q$2,,$O$2,$P$2)","v":4364.5},{"$f":" RTD(\"cqg.rtd\",,\"StudyData\", $N$2, \"Bar\", \"\", \"High\", $M$2, $F140, $R$2,$Q$2,,$O$2,$P$2)","v":4364.75},{"$f":" RTD(\"cqg.rtd\",,\"StudyData\", $N$2, \"Bar\", \"\", \"Low\", $M$2, $F140, $R$2,$Q$2,,$O$2,$P$2)","v":4362.75},{"$f":" RTD(\"cqg.rtd\",,\"StudyData\", $N$2, \"Bar\", \"\", \"Close\", $M$2, $F140, $R$2,$Q$2,,$O$2,$P$2)","v":4363},-139,null,44668.881944444445,{"$f":"RTD(\"cqg.rtd\",,\"StudyData\",$N$2, \"Vol\", \"VolType=Auto,CoCType=Auto\", \"Vol\", $M$2, $F140, $R$2,$Q$2,,$O$2,$P$2)","v":320}]
[{"$f":" RTD(\"cqg.rtd\",,\"StudyData\", $N$2, \"Bar\", \"\", \"Time\", $M$2, $F141,$R$2,$Q$2, \"\",\"False\")","v":44668.878472222219},{"$f":" RTD(\"cqg.rtd\",,\"StudyData\", $N$2, \"Bar\", \"\", \"Open\", $M$2, $F141, $R$2,$Q$2,,$O$2,$P$2)","v":4364.5},{"$f":" RTD(\"cqg.rtd\",,\"StudyData\", $N$2, \"Bar\", \"\", \"High\", $M$2, $F141, $R$2,$Q$2,,$O$2,$P$2)","v":4365},{"$f":" RTD(\"cqg.rtd\",,\"StudyData\", $N$2, \"Bar\", \"\", \"Low\", $M$2, $F141, $R$2,$Q$2,,$O$2,$P$2)","v":4363.25},{"$f":" RTD(\"cqg.rtd\",,\"StudyData\", $N$2, \"Bar\", \"\", \"Close\", $M$2, $F141, $R$2,$Q$2,,$O$2,$P$2)","v":4364.5},-140,null,44668.878472222219,{"$f":"RTD(\"cqg.rtd\",,\"StudyData\",$N$2, \"Vol\", \"VolType=Auto,CoCType=Auto\", \"Vol\", $M$2, $F141, $R$2,$Q$2,,$O$2,$P$2)","v":446}]
[{"$f":" RTD(\"cqg.rtd\",,\"StudyData\", $N$2, \"Bar\", \"\", \"Time\", $M$2, $F142,$R$2,$Q$2, \"\",\"False\")","v":44668.875},{"$f":" RTD(\"cqg.rtd\",,\"StudyData\", $N$2, \"Bar\", \"\", \"Open\", $M$2, $F142, $R$2,$Q$2,,$O$2,$P$2)","v":4363},{"$f":" RTD(\"cqg.rtd\",,\"StudyData\", $N$2, \"Bar\", \"\", \"High\", $M$2, $F142, $R$2,$Q$2,,$O$2,$P$2)","v":4365},{"$f":" RTD(\"cqg.rtd\",,\"StudyData\", $N$2, \"Bar\", \"\", \"Low\", $M$2, $F142, $R$2,$Q$2,,$O$2,$P$2)","v":4363},{"$f":" RTD(\"cqg.rtd\",,\"StudyData\", $N$2, \"Bar\", \"\", \"Close\", $M$2, $F142, $R$2,$Q$2,,$O$2,$P$2)","v":4364.5},-141,null,44668.875,{"$f":"RTD(\"cqg.rtd\",,\"StudyData\",$N$2, \"Vol\", \"VolType=Auto,CoCType=Auto\", \"Vol\", $M$2, $F142, $R$2,$Q$2,,$O$2,$P$2)","v":372}]
[{"$f":" RTD(\"cqg.rtd\",,\"StudyData\", $N$2, \"Bar\", \"\", \"Time\", $M$2, $F143,$R$2,$Q$2, \"\",\"False\")","v":44668.871527777781},{"$f":" RTD(\"cqg.rtd\",,\"StudyData\", $N$2, \"Bar\", \"\", \"Open\", $M$2, $F143, $R$2,$Q$2,,$O$2,$P$2)","v":4362.75},{"$f":" RTD(\"cqg.rtd\",,\"StudyData\", $N$2, \"Bar\", \"\", \"High\", $M$2, $F143, $R$2,$Q$2,,$O$2,$P$2)","v":4363.5},{"$f":" RTD(\"cqg.rtd\",,\"StudyData\", $N$2, \"Bar\", \"\", \"Low\", $M$2, $F143, $R$2,$Q$2,,$O$2,$P$2)","v":4362.5},{"$f":" RTD(\"cqg.rtd\",,\"StudyData\", $N$2, \"Bar\", \"\", \"Close\", $M$2, $F143, $R$2,$Q$2,,$O$2,$P$2)","v":4363.25},-142,null,44668.871527777781,{"$f":"RTD(\"cqg.rtd\",,\"StudyData\",$N$2, \"Vol\", \"VolType=Auto,CoCType=Auto\", \"Vol\", $M$2, $F143, $R$2,$Q$2,,$O$2,$P$2)","v":393}]
[{"$f":" RTD(\"cqg.rtd\",,\"StudyData\", $N$2, \"Bar\", \"\", \"Time\", $M$2, $F144,$R$2,$Q$2, \"\",\"False\")","v":44668.868055555555},{"$f":" RTD(\"cqg.rtd\",,\"StudyData\", $N$2, \"Bar\", \"\", \"Open\", $M$2, $F144, $R$2,$Q$2,,$O$2,$P$2)","v":4364.5},{"$f":" RTD(\"cqg.rtd\",,\"StudyData\", $N$2, \"Bar\", \"\", \"High\", $M$2, $F144, $R$2,$Q$2,,$O$2,$P$2)","v":4364.75},{"$f":" RTD(\"cqg.rtd\",,\"StudyData\", $N$2, \"Bar\", \"\", \"Low\", $M$2, $F144, $R$2,$Q$2,,$O$2,$P$2)","v":4362.5},{"$f":" RTD(\"cqg.rtd\",,\"StudyData\", $N$2, \"Bar\", \"\", \"Close\", $M$2, $F144, $R$2,$Q$2,,$O$2,$P$2)","v":4362.5},-143,null,44668.868055555555,{"$f":"RTD(\"cqg.rtd\",,\"StudyData\",$N$2, \"Vol\", \"VolType=Auto,CoCType=Auto\", \"Vol\", $M$2, $F144, $R$2,$Q$2,,$O$2,$P$2)","v":670}]
[{"$f":" RTD(\"cqg.rtd\",,\"StudyData\", $N$2, \"Bar\", \"\", \"Time\", $M$2, $F145,$R$2,$Q$2, \"\",\"False\")","v":44668.864583333336},{"$f":" RTD(\"cqg.rtd\",,\"StudyData\", $N$2, \"Bar\", \"\", \"Open\", $M$2, $F145, $R$2,$Q$2,,$O$2,$P$2)","v":4364.25},{"$f":" RTD(\"cqg.rtd\",,\"StudyData\", $N$2, \"Bar\", \"\", \"High\", $M$2, $F145, $R$2,$Q$2,,$O$2,$P$2)","v":4365.25},{"$f":" RTD(\"cqg.rtd\",,\"StudyData\", $N$2, \"Bar\", \"\", \"Low\", $M$2, $F145, $R$2,$Q$2,,$O$2,$P$2)","v":4363.75},{"$f":" RTD(\"cqg.rtd\",,\"StudyData\", $N$2, \"Bar\", \"\", \"Close\", $M$2, $F145, $R$2,$Q$2,,$O$2,$P$2)","v":4364.5},-144,null,44668.864583333336,{"$f":"RTD(\"cqg.rtd\",,\"StudyData\",$N$2, \"Vol\", \"VolType=Auto,CoCType=Auto\", \"Vol\", $M$2, $F145, $R$2,$Q$2,,$O$2,$P$2)","v":416}]
[{"$f":" RTD(\"cqg.rtd\",,\"StudyData\", $N$2, \"Bar\", \"\", \"Time\", $M$2, $F146,$R$2,$Q$2, \"\",\"False\")","v":44668.861111111109},{"$f":" RTD(\"cqg.rtd\",,\"StudyData\", $N$2, \"Bar\", \"\", \"Open\", $M$2, $F146, $R$2,$Q$2,,$O$2,$P$2)","v":4364.5},{"$f":" RTD(\"cqg.rtd\",,\"StudyData\", $N$2, \"Bar\", \"\", \"High\", $M$2, $F146, $R$2,$Q$2,,$O$2,$P$2)","v":4365.5},{"$f":" RTD(\"cqg.rtd\",,\"StudyData\", $N$2, \"Bar\", \"\", \"Low\", $M$2, $F146, $R$2,$Q$2,,$O$2,$P$2)","v":4364},{"$f":" RTD(\"cqg.rtd\",,\"StudyData\", $N$2, \"Bar\", \"\", \"Close\", $M$2, $F146, $R$2,$Q$2,,$O$2,$P$2)","v":4364.25},-145,null,44668.861111111109,{"$f":"RTD(\"cqg.rtd\",,\"StudyData\",$N$2, \"Vol\", \"VolType=Auto,CoCType=Auto\", \"Vol\", $M$2, $F146, $R$2,$Q$2,,$O$2,$P$2)","v":688}]
[{"$f":" RTD(\"cqg.rtd\",,\"StudyData\", $N$2, \"Bar\", \"\", \"Time\", $M$2, $F147,$R$2,$Q$2, \"\",\"False\")","v":44668.857638888891},{"$f":" RTD(\"cqg.rtd\",,\"StudyData\", $N$2, \"Bar\", \"\", \"Open\", $M$2, $F147, $R$2,$Q$2,,$O$2,$P$2)","v":4363.25},{"$f":" RTD(\"cqg.rtd\",,\"StudyData\", $N$2, \"Bar\", \"\", \"High\", $M$2, $F147, $R$2,$Q$2,,$O$2,$P$2)","v":4365.5},{"$f":" RTD(\"cqg.rtd\",,\"StudyData\", $N$2, \"Bar\", \"\", \"Low\", $M$2, $F147, $R$2,$Q$2,,$O$2,$P$2)","v":4362.75},{"$f":" RTD(\"cqg.rtd\",,\"StudyData\", $N$2, \"Bar\", \"\", \"Close\", $M$2, $F147, $R$2,$Q$2,,$O$2,$P$2)","v":4364.5},-146,null,44668.857638888891,{"$f":"RTD(\"cqg.rtd\",,\"StudyData\",$N$2, \"Vol\", \"VolType=Auto,CoCType=Auto\", \"Vol\", $M$2, $F147, $R$2,$Q$2,,$O$2,$P$2)","v":1071}]
[{"$f":" RTD(\"cqg.rtd\",,\"StudyData\", $N$2, \"Bar\", \"\", \"Time\", $M$2, $F148,$R$2,$Q$2, \"\",\"False\")","v":44668.854166666664},{"$f":" RTD(\"cqg.rtd\",,\"StudyData\", $N$2, \"Bar\", \"\", \"Open\", $M$2, $F148, $R$2,$Q$2,,$O$2,$P$2)","v":4360},{"$f":" RTD(\"cqg.rtd\",,\"StudyData\", $N$2, \"Bar\", \"\", \"High\", $M$2, $F148, $R$2,$Q$2,,$O$2,$P$2)","v":4363.5},{"$f":" RTD(\"cqg.rtd\",,\"StudyData\", $N$2, \"Bar\", \"\", \"Low\", $M$2, $F148, $R$2,$Q$2,,$O$2,$P$2)","v":4359.5},{"$f":" RTD(\"cqg.rtd\",,\"StudyData\", $N$2, \"Bar\", \"\", \"Close\", $M$2, $F148, $R$2,$Q$2,,$O$2,$P$2)","v":4363.5},-147,null,44668.854166666664,{"$f":"RTD(\"cqg.rtd\",,\"StudyData\",$N$2, \"Vol\", \"VolType=Auto,CoCType=Auto\", \"Vol\", $M$2, $F148, $R$2,$Q$2,,$O$2,$P$2)","v":1599}]
[{"$f":" RTD(\"cqg.rtd\",,\"StudyData\", $N$2, \"Bar\", \"\", \"Time\", $M$2, $F149,$R$2,$Q$2, \"\",\"False\")","v":44668.850694444445},{"$f":" RTD(\"cqg.rtd\",,\"StudyData\", $N$2, \"Bar\", \"\", \"Open\", $M$2, $F149, $R$2,$Q$2,,$O$2,$P$2)","v":4359},{"$f":" RTD(\"cqg.rtd\",,\"StudyData\", $N$2, \"Bar\", \"\", \"High\", $M$2, $F149, $R$2,$Q$2,,$O$2,$P$2)","v":4360},{"$f":" RTD(\"cqg.rtd\",,\"StudyData\", $N$2, \"Bar\", \"\", \"Low\", $M$2, $F149, $R$2,$Q$2,,$O$2,$P$2)","v":4358.25},{"$f":" RTD(\"cqg.rtd\",,\"StudyData\", $N$2, \"Bar\", \"\", \"Close\", $M$2, $F149, $R$2,$Q$2,,$O$2,$P$2)","v":4360},-148,null,44668.850694444445,{"$f":"RTD(\"cqg.rtd\",,\"StudyData\",$N$2, \"Vol\", \"VolType=Auto,CoCType=Auto\", \"Vol\", $M$2, $F149, $R$2,$Q$2,,$O$2,$P$2)","v":641}]
[{"$f":" RTD(\"cqg.rtd\",,\"StudyData\", $N$2, \"Bar\", \"\", \"Time\", $M$2, $F150,$R$2,$Q$2, \"\",\"False\")","v":44668.847222222219},{"$f":" RTD(\"cqg.rtd\",,\"StudyData\", $N$2, \"Bar\", \"\", \"Open\", $M$2, $F150, $R$2,$Q$2,,$O$2,$P$2)","v":4358.5},{"$f":" RTD(\"cqg.rtd\",,\"StudyData\", $N$2, \"Bar\", \"\", \"High\", $M$2, $F150, $R$2,$Q$2,,$O$2,$P$2)","v":4359},{"$f":" RTD(\"cqg.rtd\",,\"StudyData\", $N$2, \"Bar\", \"\", \"Low\", $M$2, $F150, $R$2,$Q$2,,$O$2,$P$2)","v":4357.25},{"$f":" RTD(\"cqg.rtd\",,\"StudyData\", $N$2, \"Bar\", \"\", \"Close\", $M$2, $F150, $R$2,$Q$2,,$O$2,$P$2)","v":4359},-149,null,44668.847222222219,{"$f":"RTD(\"cqg.rtd\",,\"StudyData\",$N$2, \"Vol\", \"VolType=Auto,CoCType=Auto\", \"Vol\", $M$2, $F150, $R$2,$Q$2,,$O$2,$P$2)","v":746}]
[{"$f":" RTD(\"cqg.rtd\",,\"StudyData\", $N$2, \"Bar\", \"\", \"Time\", $M$2, $F151,$R$2,$Q$2, \"\",\"False\")","v":44668.84375},{"$f":" RTD(\"cqg.rtd\",,\"StudyData\", $N$2, \"Bar\", \"\", \"Open\", $M$2, $F151, $R$2,$Q$2,,$O$2,$P$2)","v":4359},{"$f":" RTD(\"cqg.rtd\",,\"StudyData\", $N$2, \"Bar\", \"\", \"High\", $M$2, $F151, $R$2,$Q$2,,$O$2,$P$2)","v":4360},{"$f":" RTD(\"cqg.rtd\",,\"StudyData\", $N$2, \"Bar\", \"\", \"Low\", $M$2, $F151, $R$2,$Q$2,,$O$2,$P$2)","v":4358.5},{"$f":" RTD(\"cqg.rtd\",,\"StudyData\", $N$2, \"Bar\", \"\", \"Close\", $M$2, $F151, $R$2,$Q$2,,$O$2,$P$2)","v":4358.5},-150,null,44668.84375,{"$f":"RTD(\"cqg.rtd\",,\"StudyData\",$N$2, \"Vol\", \"VolType=Auto,CoCType=Auto\", \"Vol\", $M$2, $F151, $R$2,$Q$2,,$O$2,$P$2)","v":518}]
[{"$f":" RTD(\"cqg.rtd\",,\"StudyData\", $N$2, \"Bar\", \"\", \"Time\", $M$2, $F152,$R$2,$Q$2, \"\",\"False\")","v":44668.840277777781},{"$f":" RTD(\"cqg.rtd\",,\"StudyData\", $N$2, \"Bar\", \"\", \"Open\", $M$2, $F152, $R$2,$Q$2,,$O$2,$P$2)","v":4360.25},{"$f":" RTD(\"cqg.rtd\",,\"StudyData\", $N$2, \"Bar\", \"\", \"High\", $M$2, $F152, $R$2,$Q$2,,$O$2,$P$2)","v":4360.5},{"$f":" RTD(\"cqg.rtd\",,\"StudyData\", $N$2, \"Bar\", \"\", \"Low\", $M$2, $F152, $R$2,$Q$2,,$O$2,$P$2)","v":4358.75},{"$f":" RTD(\"cqg.rtd\",,\"StudyData\", $N$2, \"Bar\", \"\", \"Close\", $M$2, $F152, $R$2,$Q$2,,$O$2,$P$2)","v":4359.25},-151,null,44668.840277777781,{"$f":"RTD(\"cqg.rtd\",,\"StudyData\",$N$2, \"Vol\", \"VolType=Auto,CoCType=Auto\", \"Vol\", $M$2, $F152, $R$2,$Q$2,,$O$2,$P$2)","v":522}]
[{"$f":" RTD(\"cqg.rtd\",,\"StudyData\", $N$2, \"Bar\", \"\", \"Time\", $M$2, $F153,$R$2,$Q$2, \"\",\"False\")","v":44668.836805555555},{"$f":" RTD(\"cqg.rtd\",,\"StudyData\", $N$2, \"Bar\", \"\", \"Open\", $M$2, $F153, $R$2,$Q$2,,$O$2,$P$2)","v":4358.75},{"$f":" RTD(\"cqg.rtd\",,\"StudyData\", $N$2, \"Bar\", \"\", \"High\", $M$2, $F153, $R$2,$Q$2,,$O$2,$P$2)","v":4360.5},{"$f":" RTD(\"cqg.rtd\",,\"StudyData\", $N$2, \"Bar\", \"\", \"Low\", $M$2, $F153, $R$2,$Q$2,,$O$2,$P$2)","v":4358.75},{"$f":" RTD(\"cqg.rtd\",,\"StudyData\", $N$2, \"Bar\", \"\", \"Close\", $M$2, $F153, $R$2,$Q$2,,$O$2,$P$2)","v":4360.25},-152,null,44668.836805555555,{"$f":"RTD(\"cqg.rtd\",,\"StudyData\",$N$2, \"Vol\", \"VolType=Auto,CoCType=Auto\", \"Vol\", $M$2, $F153, $R$2,$Q$2,,$O$2,$P$2)","v":473}]
[{"$f":" RTD(\"cqg.rtd\",,\"StudyData\", $N$2, \"Bar\", \"\", \"Time\", $M$2, $F154,$R$2,$Q$2, \"\",\"False\")","v":44668.833333333336},{"$f":" RTD(\"cqg.rtd\",,\"StudyData\", $N$2, \"Bar\", \"\", \"Open\", $M$2, $F154, $R$2,$Q$2,,$O$2,$P$2)","v":4359},{"$f":" RTD(\"cqg.rtd\",,\"StudyData\", $N$2, \"Bar\", \"\", \"High\", $M$2, $F154, $R$2,$Q$2,,$O$2,$P$2)","v":4360.75},{"$f":" RTD(\"cqg.rtd\",,\"StudyData\", $N$2, \"Bar\", \"\", \"Low\", $M$2, $F154, $R$2,$Q$2,,$O$2,$P$2)","v":4358.5},{"$f":" RTD(\"cqg.rtd\",,\"StudyData\", $N$2, \"Bar\", \"\", \"Close\", $M$2, $F154, $R$2,$Q$2,,$O$2,$P$2)","v":4358.75},-153,null,44668.833333333336,{"$f":"RTD(\"cqg.rtd\",,\"StudyData\",$N$2, \"Vol\", \"VolType=Auto,CoCType=Auto\", \"Vol\", $M$2, $F154, $R$2,$Q$2,,$O$2,$P$2)","v":815}]
[{"$f":" RTD(\"cqg.rtd\",,\"StudyData\", $N$2, \"Bar\", \"\", \"Time\", $M$2, $F155,$R$2,$Q$2, \"\",\"False\")","v":44668.829861111109},{"$f":" RTD(\"cqg.rtd\",,\"StudyData\", $N$2, \"Bar\", \"\", \"Open\", $M$2, $F155, $R$2,$Q$2,,$O$2,$P$2)","v":4360.5},{"$f":" RTD(\"cqg.rtd\",,\"StudyData\", $N$2, \"Bar\", \"\", \"High\", $M$2, $F155, $R$2,$Q$2,,$O$2,$P$2)","v":4361},{"$f":" RTD(\"cqg.rtd\",,\"StudyData\", $N$2, \"Bar\", \"\", \"Low\", $M$2, $F155, $R$2,$Q$2,,$O$2,$P$2)","v":4359},{"$f":" RTD(\"cqg.rtd\",,\"StudyData\", $N$2, \"Bar\", \"\", \"Close\", $M$2, $F155, $R$2,$Q$2,,$O$2,$P$2)","v":4359},-154,null,44668.829861111109,{"$f":"RTD(\"cqg.rtd\",,\"StudyData\",$N$2, \"Vol\", \"VolType=Auto,CoCType=Auto\", \"Vol\", $M$2, $F155, $R$2,$Q$2,,$O$2,$P$2)","v":514}]
[{"$f":" RTD(\"cqg.rtd\",,\"StudyData\", $N$2, \"Bar\", \"\", \"Time\", $M$2, $F156,$R$2,$Q$2, \"\",\"False\")","v":44668.826388888891},{"$f":" RTD(\"cqg.rtd\",,\"StudyData\", $N$2, \"Bar\", \"\", \"Open\", $M$2, $F156, $R$2,$Q$2,,$O$2,$P$2)","v":4358.25},{"$f":" RTD(\"cqg.rtd\",,\"StudyData\", $N$2, \"Bar\", \"\", \"High\", $M$2, $F156, $R$2,$Q$2,,$O$2,$P$2)","v":4361},{"$f":" RTD(\"cqg.rtd\",,\"StudyData\", $N$2, \"Bar\", \"\", \"Low\", $M$2, $F156, $R$2,$Q$2,,$O$2,$P$2)","v":4357.75},{"$f":" RTD(\"cqg.rtd\",,\"StudyData\", $N$2, \"Bar\", \"\", \"Close\", $M$2, $F156, $R$2,$Q$2,,$O$2,$P$2)","v":4360.5},-155,null,44668.826388888891,{"$f":"RTD(\"cqg.rtd\",,\"StudyData\",$N$2, \"Vol\", \"VolType=Auto,CoCType=Auto\", \"Vol\", $M$2, $F156, $R$2,$Q$2,,$O$2,$P$2)","v":1176}]
[{"$f":" RTD(\"cqg.rtd\",,\"StudyData\", $N$2, \"Bar\", \"\", \"Time\", $M$2, $F157,$R$2,$Q$2, \"\",\"False\")","v":44668.822916666664},{"$f":" RTD(\"cqg.rtd\",,\"StudyData\", $N$2, \"Bar\", \"\", \"Open\", $M$2, $F157, $R$2,$Q$2,,$O$2,$P$2)","v":4359},{"$f":" RTD(\"cqg.rtd\",,\"StudyData\", $N$2, \"Bar\", \"\", \"High\", $M$2, $F157, $R$2,$Q$2,,$O$2,$P$2)","v":4359},{"$f":" RTD(\"cqg.rtd\",,\"StudyData\", $N$2, \"Bar\", \"\", \"Low\", $M$2, $F157, $R$2,$Q$2,,$O$2,$P$2)","v":4357.25},{"$f":" RTD(\"cqg.rtd\",,\"StudyData\", $N$2, \"Bar\", \"\", \"Close\", $M$2, $F157, $R$2,$Q$2,,$O$2,$P$2)","v":4358.25},-156,null,44668.822916666664,{"$f":"RTD(\"cqg.rtd\",,\"StudyData\",$N$2, \"Vol\", \"VolType=Auto,CoCType=Auto\", \"Vol\", $M$2, $F157, $R$2,$Q$2,,$O$2,$P$2)","v":880}]
[{"$f":" RTD(\"cqg.rtd\",,\"StudyData\", $N$2, \"Bar\", \"\", \"Time\", $M$2, $F158,$R$2,$Q$2, \"\",\"False\")","v":44668.819444444445},{"$f":" RTD(\"cqg.rtd\",,\"StudyData\", $N$2, \"Bar\", \"\", \"Open\", $M$2, $F158, $R$2,$Q$2,,$O$2,$P$2)","v":4360.25},{"$f":" RTD(\"cqg.rtd\",,\"StudyData\", $N$2, \"Bar\", \"\", \"High\", $M$2, $F158, $R$2,$Q$2,,$O$2,$P$2)","v":4361.25},{"$f":" RTD(\"cqg.rtd\",,\"StudyData\", $N$2, \"Bar\", \"\", \"Low\", $M$2, $F158, $R$2,$Q$2,,$O$2,$P$2)","v":4358.25},{"$f":" RTD(\"cqg.rtd\",,\"StudyData\", $N$2, \"Bar\", \"\", \"Close\", $M$2, $F158, $R$2,$Q$2,,$O$2,$P$2)","v":4359},-157,null,44668.819444444445,{"$f":"RTD(\"cqg.rtd\",,\"StudyData\",$N$2, \"Vol\", \"VolType=Auto,CoCType=Auto\", \"Vol\", $M$2, $F158, $R$2,$Q$2,,$O$2,$P$2)","v":767}]
[{"$f":" RTD(\"cqg.rtd\",,\"StudyData\", $N$2, \"Bar\", \"\", \"Time\", $M$2, $F159,$R$2,$Q$2, \"\",\"False\")","v":44668.815972222219},{"$f":" RTD(\"cqg.rtd\",,\"StudyData\", $N$2, \"Bar\", \"\", \"Open\", $M$2, $F159, $R$2,$Q$2,,$O$2,$P$2)","v":4360},{"$f":" RTD(\"cqg.rtd\",,\"StudyData\", $N$2, \"Bar\", \"\", \"High\", $M$2, $F159, $R$2,$Q$2,,$O$2,$P$2)","v":4360.5},{"$f":" RTD(\"cqg.rtd\",,\"StudyData\", $N$2, \"Bar\", \"\", \"Low\", $M$2, $F159, $R$2,$Q$2,,$O$2,$P$2)","v":4358.75},{"$f":" RTD(\"cqg.rtd\",,\"StudyData\", $N$2, \"Bar\", \"\", \"Close\", $M$2, $F159, $R$2,$Q$2,,$O$2,$P$2)","v":4360.5},-158,null,44668.815972222219,{"$f":"RTD(\"cqg.rtd\",,\"StudyData\",$N$2, \"Vol\", \"VolType=Auto,CoCType=Auto\", \"Vol\", $M$2, $F159, $R$2,$Q$2,,$O$2,$P$2)","v":490}]
[{"$f":" RTD(\"cqg.rtd\",,\"StudyData\", $N$2, \"Bar\", \"\", \"Time\", $M$2, $F160,$R$2,$Q$2, \"\",\"False\")","v":44668.8125},{"$f":" RTD(\"cqg.rtd\",,\"StudyData\", $N$2, \"Bar\", \"\", \"Open\", $M$2, $F160, $R$2,$Q$2,,$O$2,$P$2)","v":4360.5},{"$f":" RTD(\"cqg.rtd\",,\"StudyData\", $N$2, \"Bar\", \"\", \"High\", $M$2, $F160, $R$2,$Q$2,,$O$2,$P$2)","v":4360.5},{"$f":" RTD(\"cqg.rtd\",,\"StudyData\", $N$2, \"Bar\", \"\", \"Low\", $M$2, $F160, $R$2,$Q$2,,$O$2,$P$2)","v":4358.75},{"$f":" RTD(\"cqg.rtd\",,\"StudyData\", $N$2, \"Bar\", \"\", \"Close\", $M$2, $F160, $R$2,$Q$2,,$O$2,$P$2)","v":4360},-159,null,44668.8125,{"$f":"RTD(\"cqg.rtd\",,\"StudyData\",$N$2, \"Vol\", \"VolType=Auto,CoCType=Auto\", \"Vol\", $M$2, $F160, $R$2,$Q$2,,$O$2,$P$2)","v":489}]
[{"$f":" RTD(\"cqg.rtd\",,\"StudyData\", $N$2, \"Bar\", \"\", \"Time\", $M$2, $F161,$R$2,$Q$2, \"\",\"False\")","v":44668.809027777781},{"$f":" RTD(\"cqg.rtd\",,\"StudyData\", $N$2, \"Bar\", \"\", \"Open\", $M$2, $F161, $R$2,$Q$2,,$O$2,$P$2)","v":4361.25},{"$f":" RTD(\"cqg.rtd\",,\"StudyData\", $N$2, \"Bar\", \"\", \"High\", $M$2, $F161, $R$2,$Q$2,,$O$2,$P$2)","v":4361.5},{"$f":" RTD(\"cqg.rtd\",,\"StudyData\", $N$2, \"Bar\", \"\", \"Low\", $M$2, $F161, $R$2,$Q$2,,$O$2,$P$2)","v":4359.5},{"$f":" RTD(\"cqg.rtd\",,\"StudyData\", $N$2, \"Bar\", \"\", \"Close\", $M$2, $F161, $R$2,$Q$2,,$O$2,$P$2)","v":4360.5},-160,null,44668.809027777781,{"$f":"RTD(\"cqg.rtd\",,\"StudyData\",$N$2, \"Vol\", \"VolType=Auto,CoCType=Auto\", \"Vol\", $M$2, $F161, $R$2,$Q$2,,$O$2,$P$2)","v":566}]
[{"$f":" RTD(\"cqg.rtd\",,\"StudyData\", $N$2, \"Bar\", \"\", \"Time\", $M$2, $F162,$R$2,$Q$2, \"\",\"False\")","v":44668.805555555555},{"$f":" RTD(\"cqg.rtd\",,\"StudyData\", $N$2, \"Bar\", \"\", \"Open\", $M$2, $F162, $R$2,$Q$2,,$O$2,$P$2)","v":4360.75},{"$f":" RTD(\"cqg.rtd\",,\"StudyData\", $N$2, \"Bar\", \"\", \"High\", $M$2, $F162, $R$2,$Q$2,,$O$2,$P$2)","v":4361.5},{"$f":" RTD(\"cqg.rtd\",,\"StudyData\", $N$2, \"Bar\", \"\", \"Low\", $M$2, $F162, $R$2,$Q$2,,$O$2,$P$2)","v":4360},{"$f":" RTD(\"cqg.rtd\",,\"StudyData\", $N$2, \"Bar\", \"\", \"Close\", $M$2, $F162, $R$2,$Q$2,,$O$2,$P$2)","v":4361},-161,null,44668.805555555555,{"$f":"RTD(\"cqg.rtd\",,\"StudyData\",$N$2, \"Vol\", \"VolType=Auto,CoCType=Auto\", \"Vol\", $M$2, $F162, $R$2,$Q$2,,$O$2,$P$2)","v":544}]
[{"$f":" RTD(\"cqg.rtd\",,\"StudyData\", $N$2, \"Bar\", \"\", \"Time\", $M$2, $F163,$R$2,$Q$2, \"\",\"False\")","v":44668.802083333336},{"$f":" RTD(\"cqg.rtd\",,\"StudyData\", $N$2, \"Bar\", \"\", \"Open\", $M$2, $F163, $R$2,$Q$2,,$O$2,$P$2)","v":4359.25},{"$f":" RTD(\"cqg.rtd\",,\"StudyData\", $N$2, \"Bar\", \"\", \"High\", $M$2, $F163, $R$2,$Q$2,,$O$2,$P$2)","v":4363.5},{"$f":" RTD(\"cqg.rtd\",,\"StudyData\", $N$2, \"Bar\", \"\", \"Low\", $M$2, $F163, $R$2,$Q$2,,$O$2,$P$2)","v":4359.25},{"$f":" RTD(\"cqg.rtd\",,\"StudyData\", $N$2, \"Bar\", \"\", \"Close\", $M$2, $F163, $R$2,$Q$2,,$O$2,$P$2)","v":4360.75},-162,null,44668.802083333336,{"$f":"RTD(\"cqg.rtd\",,\"StudyData\",$N$2, \"Vol\", \"VolType=Auto,CoCType=Auto\", \"Vol\", $M$2, $F163, $R$2,$Q$2,,$O$2,$P$2)","v":2257}]
[{"$f":" RTD(\"cqg.rtd\",,\"StudyData\", $N$2, \"Bar\", \"\", \"Time\", $M$2, $F164,$R$2,$Q$2, \"\",\"False\")","v":44668.798611111109},{"$f":" RTD(\"cqg.rtd\",,\"StudyData\", $N$2, \"Bar\", \"\", \"Open\", $M$2, $F164, $R$2,$Q$2,,$O$2,$P$2)","v":4359},{"$f":" RTD(\"cqg.rtd\",,\"StudyData\", $N$2, \"Bar\", \"\", \"High\", $M$2, $F164, $R$2,$Q$2,,$O$2,$P$2)","v":4360},{"$f":" RTD(\"cqg.rtd\",,\"StudyData\", $N$2, \"Bar\", \"\", \"Low\", $M$2, $F164, $R$2,$Q$2,,$O$2,$P$2)","v":4358.5},{"$f":" RTD(\"cqg.rtd\",,\"StudyData\", $N$2, \"Bar\", \"\", \"Close\", $M$2, $F164, $R$2,$Q$2,,$O$2,$P$2)","v":4359.25},-163,null,44668.798611111109,{"$f":"RTD(\"cqg.rtd\",,\"StudyData\",$N$2, \"Vol\", \"VolType=Auto,CoCType=Auto\", \"Vol\", $M$2, $F164, $R$2,$Q$2,,$O$2,$P$2)","v":567}]
[{"$f":" RTD(\"cqg.rtd\",,\"StudyData\", $N$2, \"Bar\", \"\", \"Time\", $M$2, $F165,$R$2,$Q$2, \"\",\"False\")","v":44668.795138888891},{"$f":" RTD(\"cqg.rtd\",,\"StudyData\", $N$2, \"Bar\", \"\", \"Open\", $M$2, $F165, $R$2,$Q$2,,$O$2,$P$2)","v":4358},{"$f":" RTD(\"cqg.rtd\",,\"StudyData\", $N$2, \"Bar\", \"\", \"High\", $M$2, $F165, $R$2,$Q$2,,$O$2,$P$2)","v":4359.5},{"$f":" RTD(\"cqg.rtd\",,\"StudyData\", $N$2, \"Bar\", \"\", \"Low\", $M$2, $F165, $R$2,$Q$2,,$O$2,$P$2)","v":4356.75},{"$f":" RTD(\"cqg.rtd\",,\"StudyData\", $N$2, \"Bar\", \"\", \"Close\", $M$2, $F165, $R$2,$Q$2,,$O$2,$P$2)","v":4358.75},-164,null,44668.795138888891,{"$f":"RTD(\"cqg.rtd\",,\"StudyData\",$N$2, \"Vol\", \"VolType=Auto,CoCType=Auto\", \"Vol\", $M$2, $F165, $R$2,$Q$2,,$O$2,$P$2)","v":1313}]
[{"$f":" RTD(\"cqg.rtd\",,\"StudyData\", $N$2, \"Bar\", \"\", \"Time\", $M$2, $F166,$R$2,$Q$2, \"\",\"False\")","v":44668.791666666664},{"$f":" RTD(\"cqg.rtd\",,\"StudyData\", $N$2, \"Bar\", \"\", \"Open\", $M$2, $F166, $R$2,$Q$2,,$O$2,$P$2)","v":4357.75},{"$f":" RTD(\"cqg.rtd\",,\"StudyData\", $N$2, \"Bar\", \"\", \"High\", $M$2, $F166, $R$2,$Q$2,,$O$2,$P$2)","v":4358.75},{"$f":" RTD(\"cqg.rtd\",,\"StudyData\", $N$2, \"Bar\", \"\", \"Low\", $M$2, $F166, $R$2,$Q$2,,$O$2,$P$2)","v":4355.5},{"$f":" RTD(\"cqg.rtd\",,\"StudyData\", $N$2, \"Bar\", \"\", \"Close\", $M$2, $F166, $R$2,$Q$2,,$O$2,$P$2)","v":4357.75},-165,null,44668.791666666664,{"$f":"RTD(\"cqg.rtd\",,\"StudyData\",$N$2, \"Vol\", \"VolType=Auto,CoCType=Auto\", \"Vol\", $M$2, $F166, $R$2,$Q$2,,$O$2,$P$2)","v":1649}]
[{"$f":" RTD(\"cqg.rtd\",,\"StudyData\", $N$2, \"Bar\", \"\", \"Time\", $M$2, $F167,$R$2,$Q$2, \"\",\"False\")","v":44668.788194444445},{"$f":" RTD(\"cqg.rtd\",,\"StudyData\", $N$2, \"Bar\", \"\", \"Open\", $M$2, $F167, $R$2,$Q$2,,$O$2,$P$2)","v":4356.75},{"$f":" RTD(\"cqg.rtd\",,\"StudyData\", $N$2, \"Bar\", \"\", \"High\", $M$2, $F167, $R$2,$Q$2,,$O$2,$P$2)","v":4359},{"$f":" RTD(\"cqg.rtd\",,\"StudyData\", $N$2, \"Bar\", \"\", \"Low\", $M$2, $F167, $R$2,$Q$2,,$O$2,$P$2)","v":4356.5},{"$f":" RTD(\"cqg.rtd\",,\"StudyData\", $N$2, \"Bar\", \"\", \"Close\", $M$2, $F167, $R$2,$Q$2,,$O$2,$P$2)","v":4357.5},-166,null,44668.788194444445,{"$f":"RTD(\"cqg.rtd\",,\"StudyData\",$N$2, \"Vol\", \"VolType=Auto,CoCType=Auto\", \"Vol\", $M$2, $F167, $R$2,$Q$2,,$O$2,$P$2)","v":908}]
[{"$f":" RTD(\"cqg.rtd\",,\"StudyData\", $N$2, \"Bar\", \"\", \"Time\", $M$2, $F168,$R$2,$Q$2, \"\",\"False\")","v":44668.784722222219},{"$f":" RTD(\"cqg.rtd\",,\"StudyData\", $N$2, \"Bar\", \"\", \"Open\", $M$2, $F168, $R$2,$Q$2,,$O$2,$P$2)","v":4358},{"$f":" RTD(\"cqg.rtd\",,\"StudyData\", $N$2, \"Bar\", \"\", \"High\", $M$2, $F168, $R$2,$Q$2,,$O$2,$P$2)","v":4359.25},{"$f":" RTD(\"cqg.rtd\",,\"StudyData\", $N$2, \"Bar\", \"\", \"Low\", $M$2, $F168, $R$2,$Q$2,,$O$2,$P$2)","v":4356.5},{"$f":" RTD(\"cqg.rtd\",,\"StudyData\", $N$2, \"Bar\", \"\", \"Close\", $M$2, $F168, $R$2,$Q$2,,$O$2,$P$2)","v":4356.75},-167,null,44668.784722222219,{"$f":"RTD(\"cqg.rtd\",,\"StudyData\",$N$2, \"Vol\", \"VolType=Auto,CoCType=Auto\", \"Vol\", $M$2, $F168, $R$2,$Q$2,,$O$2,$P$2)","v":787}]
[{"$f":" RTD(\"cqg.rtd\",,\"StudyData\", $N$2, \"Bar\", \"\", \"Time\", $M$2, $F169,$R$2,$Q$2, \"\",\"False\")","v":44668.78125},{"$f":" RTD(\"cqg.rtd\",,\"StudyData\", $N$2, \"Bar\", \"\", \"Open\", $M$2, $F169, $R$2,$Q$2,,$O$2,$P$2)","v":4360.25},{"$f":" RTD(\"cqg.rtd\",,\"StudyData\", $N$2, \"Bar\", \"\", \"High\", $M$2, $F169, $R$2,$Q$2,,$O$2,$P$2)","v":4361.25},{"$f":" RTD(\"cqg.rtd\",,\"StudyData\", $N$2, \"Bar\", \"\", \"Low\", $M$2, $F169, $R$2,$Q$2,,$O$2,$P$2)","v":4357.25},{"$f":" RTD(\"cqg.rtd\",,\"StudyData\", $N$2, \"Bar\", \"\", \"Close\", $M$2, $F169, $R$2,$Q$2,,$O$2,$P$2)","v":4358},-168,null,44668.78125,{"$f":"RTD(\"cqg.rtd\",,\"StudyData\",$N$2, \"Vol\", \"VolType=Auto,CoCType=Auto\", \"Vol\", $M$2, $F169, $R$2,$Q$2,,$O$2,$P$2)","v":2094}]
[{"$f":" RTD(\"cqg.rtd\",,\"StudyData\", $N$2, \"Bar\", \"\", \"Time\", $M$2, $F170,$R$2,$Q$2, \"\",\"False\")","v":44668.777777777781},{"$f":" RTD(\"cqg.rtd\",,\"StudyData\", $N$2, \"Bar\", \"\", \"Open\", $M$2, $F170, $R$2,$Q$2,,$O$2,$P$2)","v":4360.5},{"$f":" RTD(\"cqg.rtd\",,\"StudyData\", $N$2, \"Bar\", \"\", \"High\", $M$2, $F170, $R$2,$Q$2,,$O$2,$P$2)","v":4361.75},{"$f":" RTD(\"cqg.rtd\",,\"StudyData\", $N$2, \"Bar\", \"\", \"Low\", $M$2, $F170, $R$2,$Q$2,,$O$2,$P$2)","v":4359.5},{"$f":" RTD(\"cqg.rtd\",,\"StudyData\", $N$2, \"Bar\", \"\", \"Close\", $M$2, $F170, $R$2,$Q$2,,$O$2,$P$2)","v":4360.25},-169,null,44668.777777777781,{"$f":"RTD(\"cqg.rtd\",,\"StudyData\",$N$2, \"Vol\", \"VolType=Auto,CoCType=Auto\", \"Vol\", $M$2, $F170, $R$2,$Q$2,,$O$2,$P$2)","v":661}]
[{"$f":" RTD(\"cqg.rtd\",,\"StudyData\", $N$2, \"Bar\", \"\", \"Time\", $M$2, $F171,$R$2,$Q$2, \"\",\"False\")","v":44668.774305555555},{"$f":" RTD(\"cqg.rtd\",,\"StudyData\", $N$2, \"Bar\", \"\", \"Open\", $M$2, $F171, $R$2,$Q$2,,$O$2,$P$2)","v":4361.5},{"$f":" RTD(\"cqg.rtd\",,\"StudyData\", $N$2, \"Bar\", \"\", \"High\", $M$2, $F171, $R$2,$Q$2,,$O$2,$P$2)","v":4362},{"$f":" RTD(\"cqg.rtd\",,\"StudyData\", $N$2, \"Bar\", \"\", \"Low\", $M$2, $F171, $R$2,$Q$2,,$O$2,$P$2)","v":4360},{"$f":" RTD(\"cqg.rtd\",,\"StudyData\", $N$2, \"Bar\", \"\", \"Close\", $M$2, $F171, $R$2,$Q$2,,$O$2,$P$2)","v":4360.5},-170,null,44668.774305555555,{"$f":"RTD(\"cqg.rtd\",,\"StudyData\",$N$2, \"Vol\", \"VolType=Auto,CoCType=Auto\", \"Vol\", $M$2, $F171, $R$2,$Q$2,,$O$2,$P$2)","v":484}]
[{"$f":" RTD(\"cqg.rtd\",,\"StudyData\", $N$2, \"Bar\", \"\", \"Time\", $M$2, $F172,$R$2,$Q$2, \"\",\"False\")","v":44668.770833333336},{"$f":" RTD(\"cqg.rtd\",,\"StudyData\", $N$2, \"Bar\", \"\", \"Open\", $M$2, $F172, $R$2,$Q$2,,$O$2,$P$2)","v":4359.5},{"$f":" RTD(\"cqg.rtd\",,\"StudyData\", $N$2, \"Bar\", \"\", \"High\", $M$2, $F172, $R$2,$Q$2,,$O$2,$P$2)","v":4362},{"$f":" RTD(\"cqg.rtd\",,\"StudyData\", $N$2, \"Bar\", \"\", \"Low\", $M$2, $F172, $R$2,$Q$2,,$O$2,$P$2)","v":4359.25},{"$f":" RTD(\"cqg.rtd\",,\"StudyData\", $N$2, \"Bar\", \"\", \"Close\", $M$2, $F172, $R$2,$Q$2,,$O$2,$P$2)","v":4361.5},-171,null,44668.770833333336,{"$f":"RTD(\"cqg.rtd\",,\"StudyData\",$N$2, \"Vol\", \"VolType=Auto,CoCType=Auto\", \"Vol\", $M$2, $F172, $R$2,$Q$2,,$O$2,$P$2)","v":813}]
[{"$f":" RTD(\"cqg.rtd\",,\"StudyData\", $N$2, \"Bar\", \"\", \"Time\", $M$2, $F173,$R$2,$Q$2, \"\",\"False\")","v":44668.767361111109},{"$f":" RTD(\"cqg.rtd\",,\"StudyData\", $N$2, \"Bar\", \"\", \"Open\", $M$2, $F173, $R$2,$Q$2,,$O$2,$P$2)","v":4361},{"$f":" RTD(\"cqg.rtd\",,\"StudyData\", $N$2, \"Bar\", \"\", \"High\", $M$2, $F173, $R$2,$Q$2,,$O$2,$P$2)","v":4361},{"$f":" RTD(\"cqg.rtd\",,\"StudyData\", $N$2, \"Bar\", \"\", \"Low\", $M$2, $F173, $R$2,$Q$2,,$O$2,$P$2)","v":4359.25},{"$f":" RTD(\"cqg.rtd\",,\"StudyData\", $N$2, \"Bar\", \"\", \"Close\", $M$2, $F173, $R$2,$Q$2,,$O$2,$P$2)","v":4359.5},-172,null,44668.767361111109,{"$f":"RTD(\"cqg.rtd\",,\"StudyData\",$N$2, \"Vol\", \"VolType=Auto,CoCType=Auto\", \"Vol\", $M$2, $F173, $R$2,$Q$2,,$O$2,$P$2)","v":1054}]
[{"$f":" RTD(\"cqg.rtd\",,\"StudyData\", $N$2, \"Bar\", \"\", \"Time\", $M$2, $F174,$R$2,$Q$2, \"\",\"False\")","v":44668.763888888891},{"$f":" RTD(\"cqg.rtd\",,\"StudyData\", $N$2, \"Bar\", \"\", \"Open\", $M$2, $F174, $R$2,$Q$2,,$O$2,$P$2)","v":4363},{"$f":" RTD(\"cqg.rtd\",,\"StudyData\", $N$2, \"Bar\", \"\", \"High\", $M$2, $F174, $R$2,$Q$2,,$O$2,$P$2)","v":4363.5},{"$f":" RTD(\"cqg.rtd\",,\"StudyData\", $N$2, \"Bar\", \"\", \"Low\", $M$2, $F174, $R$2,$Q$2,,$O$2,$P$2)","v":4359.75},{"$f":" RTD(\"cqg.rtd\",,\"StudyData\", $N$2, \"Bar\", \"\", \"Close\", $M$2, $F174, $R$2,$Q$2,,$O$2,$P$2)","v":4361},-173,null,44668.763888888891,{"$f":"RTD(\"cqg.rtd\",,\"StudyData\",$N$2, \"Vol\", \"VolType=Auto,CoCType=Auto\", \"Vol\", $M$2, $F174, $R$2,$Q$2,,$O$2,$P$2)","v":1384}]
[{"$f":" RTD(\"cqg.rtd\",,\"StudyData\", $N$2, \"Bar\", \"\", \"Time\", $M$2, $F175,$R$2,$Q$2, \"\",\"False\")","v":44668.760416666664},{"$f":" RTD(\"cqg.rtd\",,\"StudyData\", $N$2, \"Bar\", \"\", \"Open\", $M$2, $F175, $R$2,$Q$2,,$O$2,$P$2)","v":4363.25},{"$f":" RTD(\"cqg.rtd\",,\"StudyData\", $N$2, \"Bar\", \"\", \"High\", $M$2, $F175, $R$2,$Q$2,,$O$2,$P$2)","v":4364.25},{"$f":" RTD(\"cqg.rtd\",,\"StudyData\", $N$2, \"Bar\", \"\", \"Low\", $M$2, $F175, $R$2,$Q$2,,$O$2,$P$2)","v":4362.25},{"$f":" RTD(\"cqg.rtd\",,\"StudyData\", $N$2, \"Bar\", \"\", \"Close\", $M$2, $F175, $R$2,$Q$2,,$O$2,$P$2)","v":4363},-174,null,44668.760416666664,{"$f":"RTD(\"cqg.rtd\",,\"StudyData\",$N$2, \"Vol\", \"VolType=Auto,CoCType=Auto\", \"Vol\", $M$2, $F175, $R$2,$Q$2,,$O$2,$P$2)","v":693}]
[{"$f":" RTD(\"cqg.rtd\",,\"StudyData\", $N$2, \"Bar\", \"\", \"Time\", $M$2, $F176,$R$2,$Q$2, \"\",\"False\")","v":44668.756944444445},{"$f":" RTD(\"cqg.rtd\",,\"StudyData\", $N$2, \"Bar\", \"\", \"Open\", $M$2, $F176, $R$2,$Q$2,,$O$2,$P$2)","v":4362.75},{"$f":" RTD(\"cqg.rtd\",,\"StudyData\", $N$2, \"Bar\", \"\", \"High\", $M$2, $F176, $R$2,$Q$2,,$O$2,$P$2)","v":4364.5},{"$f":" RTD(\"cqg.rtd\",,\"StudyData\", $N$2, \"Bar\", \"\", \"Low\", $M$2, $F176, $R$2,$Q$2,,$O$2,$P$2)","v":4361.75},{"$f":" RTD(\"cqg.rtd\",,\"StudyData\", $N$2, \"Bar\", \"\", \"Close\", $M$2, $F176, $R$2,$Q$2,,$O$2,$P$2)","v":4363},-175,null,44668.756944444445,{"$f":"RTD(\"cqg.rtd\",,\"StudyData\",$N$2, \"Vol\", \"VolType=Auto,CoCType=Auto\", \"Vol\", $M$2, $F176, $R$2,$Q$2,,$O$2,$P$2)","v":1447}]
[{"$f":" RTD(\"cqg.rtd\",,\"StudyData\", $N$2, \"Bar\", \"\", \"Time\", $M$2, $F177,$R$2,$Q$2, \"\",\"False\")","v":44668.753472222219},{"$f":" RTD(\"cqg.rtd\",,\"StudyData\", $N$2, \"Bar\", \"\", \"Open\", $M$2, $F177, $R$2,$Q$2,,$O$2,$P$2)","v":4370},{"$f":" RTD(\"cqg.rtd\",,\"StudyData\", $N$2, \"Bar\", \"\", \"High\", $M$2, $F177, $R$2,$Q$2,,$O$2,$P$2)","v":4370.75},{"$f":" RTD(\"cqg.rtd\",,\"StudyData\", $N$2, \"Bar\", \"\", \"Low\", $M$2, $F177, $R$2,$Q$2,,$O$2,$P$2)","v":4362.25},{"$f":" RTD(\"cqg.rtd\",,\"StudyData\", $N$2, \"Bar\", \"\", \"Close\", $M$2, $F177, $R$2,$Q$2,,$O$2,$P$2)","v":4362.75},-176,null,44668.753472222219,{"$f":"RTD(\"cqg.rtd\",,\"StudyData\",$N$2, \"Vol\", \"VolType=Auto,CoCType=Auto\", \"Vol\", $M$2, $F177, $R$2,$Q$2,,$O$2,$P$2)","v":3272}]
[{"$f":" RTD(\"cqg.rtd\",,\"StudyData\", $N$2, \"Bar\", \"\", \"Time\", $M$2, $F178,$R$2,$Q$2, \"\",\"False\")","v":44668.75},{"$f":" RTD(\"cqg.rtd\",,\"StudyData\", $N$2, \"Bar\", \"\", \"Open\", $M$2, $F178, $R$2,$Q$2,,$O$2,$P$2)","v":4372.25},{"$f":" RTD(\"cqg.rtd\",,\"StudyData\", $N$2, \"Bar\", \"\", \"High\", $M$2, $F178, $R$2,$Q$2,,$O$2,$P$2)","v":4373},{"$f":" RTD(\"cqg.rtd\",,\"StudyData\", $N$2, \"Bar\", \"\", \"Low\", $M$2, $F178, $R$2,$Q$2,,$O$2,$P$2)","v":4370},{"$f":" RTD(\"cqg.rtd\",,\"StudyData\", $N$2, \"Bar\", \"\", \"Close\", $M$2, $F178, $R$2,$Q$2,,$O$2,$P$2)","v":4370.25},-177,null,44668.75,{"$f":"RTD(\"cqg.rtd\",,\"StudyData\",$N$2, \"Vol\", \"VolType=Auto,CoCType=Auto\", \"Vol\", $M$2, $F178, $R$2,$Q$2,,$O$2,$P$2)","v":898}]
[{"$f":" RTD(\"cqg.rtd\",,\"StudyData\", $N$2, \"Bar\", \"\", \"Time\", $M$2, $F179,$R$2,$Q$2, \"\",\"False\")","v":44668.746527777781},{"$f":" RTD(\"cqg.rtd\",,\"StudyData\", $N$2, \"Bar\", \"\", \"Open\", $M$2, $F179, $R$2,$Q$2,,$O$2,$P$2)","v":4372.25},{"$f":" RTD(\"cqg.rtd\",,\"StudyData\", $N$2, \"Bar\", \"\", \"High\", $M$2, $F179, $R$2,$Q$2,,$O$2,$P$2)","v":4372.5},{"$f":" RTD(\"cqg.rtd\",,\"StudyData\", $N$2, \"Bar\", \"\", \"Low\", $M$2, $F179, $R$2,$Q$2,,$O$2,$P$2)","v":4371.25},{"$f":" RTD(\"cqg.rtd\",,\"StudyData\", $N$2, \"Bar\", \"\", \"Close\", $M$2, $F179, $R$2,$Q$2,,$O$2,$P$2)","v":4372.25},-178,null,44668.746527777781,{"$f":"RTD(\"cqg.rtd\",,\"StudyData\",$N$2, \"Vol\", \"VolType=Auto,CoCType=Auto\", \"Vol\", $M$2, $F179, $R$2,$Q$2,,$O$2,$P$2)","v":371}]
[{"$f":" RTD(\"cqg.rtd\",,\"StudyData\", $N$2, \"Bar\", \"\", \"Time\", $M$2, $F180,$R$2,$Q$2, \"\",\"False\")","v":44668.743055555555},{"$f":" RTD(\"cqg.rtd\",,\"StudyData\", $N$2, \"Bar\", \"\", \"Open\", $M$2, $F180, $R$2,$Q$2,,$O$2,$P$2)","v":4370},{"$f":" RTD(\"cqg.rtd\",,\"StudyData\", $N$2, \"Bar\", \"\", \"High\", $M$2, $F180, $R$2,$Q$2,,$O$2,$P$2)","v":4372.5},{"$f":" RTD(\"cqg.rtd\",,\"StudyData\", $N$2, \"Bar\", \"\", \"Low\", $M$2, $F180, $R$2,$Q$2,,$O$2,$P$2)","v":4369.75},{"$f":" RTD(\"cqg.rtd\",,\"StudyData\", $N$2, \"Bar\", \"\", \"Close\", $M$2, $F180, $R$2,$Q$2,,$O$2,$P$2)","v":4372.5},-179,null,44668.743055555555,{"$f":"RTD(\"cqg.rtd\",,\"StudyData\",$N$2, \"Vol\", \"VolType=Auto,CoCType=Auto\", \"Vol\", $M$2, $F180, $R$2,$Q$2,,$O$2,$P$2)","v":734}]
[{"$f":" RTD(\"cqg.rtd\",,\"StudyData\", $N$2, \"Bar\", \"\", \"Time\", $M$2, $F181,$R$2,$Q$2, \"\",\"False\")","v":44668.739583333336},{"$f":" RTD(\"cqg.rtd\",,\"StudyData\", $N$2, \"Bar\", \"\", \"Open\", $M$2, $F181, $R$2,$Q$2,,$O$2,$P$2)","v":4374.25},{"$f":" RTD(\"cqg.rtd\",,\"StudyData\", $N$2, \"Bar\", \"\", \"High\", $M$2, $F181, $R$2,$Q$2,,$O$2,$P$2)","v":4375},{"$f":" RTD(\"cqg.rtd\",,\"StudyData\", $N$2, \"Bar\", \"\", \"Low\", $M$2, $F181, $R$2,$Q$2,,$O$2,$P$2)","v":4369},{"$f":" RTD(\"cqg.rtd\",,\"StudyData\", $N$2, \"Bar\", \"\", \"Close\", $M$2, $F181, $R$2,$Q$2,,$O$2,$P$2)","v":4369.75},-180,null,44668.739583333336,{"$f":"RTD(\"cqg.rtd\",,\"StudyData\",$N$2, \"Vol\", \"VolType=Auto,CoCType=Auto\", \"Vol\", $M$2, $F181, $R$2,$Q$2,,$O$2,$P$2)","v":2406}]
[{"$f":" RTD(\"cqg.rtd\",,\"StudyData\", $N$2, \"Bar\", \"\", \"Time\", $M$2, $F182,$R$2,$Q$2, \"\",\"False\")","v":44668.736111111109},{"$f":" RTD(\"cqg.rtd\",,\"StudyData\", $N$2, \"Bar\", \"\", \"Open\", $M$2, $F182, $R$2,$Q$2,,$O$2,$P$2)","v":4373.75},{"$f":" RTD(\"cqg.rtd\",,\"StudyData\", $N$2, \"Bar\", \"\", \"High\", $M$2, $F182, $R$2,$Q$2,,$O$2,$P$2)","v":4374.75},{"$f":" RTD(\"cqg.rtd\",,\"StudyData\", $N$2, \"Bar\", \"\", \"Low\", $M$2, $F182, $R$2,$Q$2,,$O$2,$P$2)","v":4372},{"$f":" RTD(\"cqg.rtd\",,\"StudyData\", $N$2, \"Bar\", \"\", \"Close\", $M$2, $F182, $R$2,$Q$2,,$O$2,$P$2)","v":4374.25},-181,null,44668.736111111109,{"$f":"RTD(\"cqg.rtd\",,\"StudyData\",$N$2, \"Vol\", \"VolType=Auto,CoCType=Auto\", \"Vol\", $M$2, $F182, $R$2,$Q$2,,$O$2,$P$2)","v":1493}]
[{"$f":" RTD(\"cqg.rtd\",,\"StudyData\", $N$2, \"Bar\", \"\", \"Time\", $M$2, $F183,$R$2,$Q$2, \"\",\"False\")","v":44668.732638888891},{"$f":" RTD(\"cqg.rtd\",,\"StudyData\", $N$2, \"Bar\", \"\", \"Open\", $M$2, $F183, $R$2,$Q$2,,$O$2,$P$2)","v":4373.75},{"$f":" RTD(\"cqg.rtd\",,\"StudyData\", $N$2, \"Bar\", \"\", \"High\", $M$2, $F183, $R$2,$Q$2,,$O$2,$P$2)","v":4375.75},{"$f":" RTD(\"cqg.rtd\",,\"StudyData\", $N$2, \"Bar\", \"\", \"Low\", $M$2, $F183, $R$2,$Q$2,,$O$2,$P$2)","v":4373.25},{"$f":" RTD(\"cqg.rtd\",,\"StudyData\", $N$2, \"Bar\", \"\", \"Close\", $M$2, $F183, $R$2,$Q$2,,$O$2,$P$2)","v":4373.75},-182,null,44668.732638888891,{"$f":"RTD(\"cqg.rtd\",,\"StudyData\",$N$2, \"Vol\", \"VolType=Auto,CoCType=Auto\", \"Vol\", $M$2, $F183, $R$2,$Q$2,,$O$2,$P$2)","v":971}]
[{"$f":" RTD(\"cqg.rtd\",,\"StudyData\", $N$2, \"Bar\", \"\", \"Time\", $M$2, $F184,$R$2,$Q$2, \"\",\"False\")","v":44668.729166666664},{"$f":" RTD(\"cqg.rtd\",,\"StudyData\", $N$2, \"Bar\", \"\", \"Open\", $M$2, $F184, $R$2,$Q$2,,$O$2,$P$2)","v":4376.5},{"$f":" RTD(\"cqg.rtd\",,\"StudyData\", $N$2, \"Bar\", \"\", \"High\", $M$2, $F184, $R$2,$Q$2,,$O$2,$P$2)","v":4378.25},{"$f":" RTD(\"cqg.rtd\",,\"StudyData\", $N$2, \"Bar\", \"\", \"Low\", $M$2, $F184, $R$2,$Q$2,,$O$2,$P$2)","v":4373.5},{"$f":" RTD(\"cqg.rtd\",,\"StudyData\", $N$2, \"Bar\", \"\", \"Close\", $M$2, $F184, $R$2,$Q$2,,$O$2,$P$2)","v":4373.75},-183,null,44668.729166666664,{"$f":"RTD(\"cqg.rtd\",,\"StudyData\",$N$2, \"Vol\", \"VolType=Auto,CoCType=Auto\", \"Vol\", $M$2, $F184, $R$2,$Q$2,,$O$2,$P$2)","v":1337}]
[{"$f":" RTD(\"cqg.rtd\",,\"StudyData\", $N$2, \"Bar\", \"\", \"Time\", $M$2, $F185,$R$2,$Q$2, \"\",\"False\")","v":44668.725694444445},{"$f":" RTD(\"cqg.rtd\",,\"StudyData\", $N$2, \"Bar\", \"\", \"Open\", $M$2, $F185, $R$2,$Q$2,,$O$2,$P$2)","v":4376},{"$f":" RTD(\"cqg.rtd\",,\"StudyData\", $N$2, \"Bar\", \"\", \"High\", $M$2, $F185, $R$2,$Q$2,,$O$2,$P$2)","v":4378},{"$f":" RTD(\"cqg.rtd\",,\"StudyData\", $N$2, \"Bar\", \"\", \"Low\", $M$2, $F185, $R$2,$Q$2,,$O$2,$P$2)","v":4375.5},{"$f":" RTD(\"cqg.rtd\",,\"StudyData\", $N$2, \"Bar\", \"\", \"Close\", $M$2, $F185, $R$2,$Q$2,,$O$2,$P$2)","v":4376.25},-184,null,44668.725694444445,{"$f":"RTD(\"cqg.rtd\",,\"StudyData\",$N$2, \"Vol\", \"VolType=Auto,CoCType=Auto\", \"Vol\", $M$2, $F185, $R$2,$Q$2,,$O$2,$P$2)","v":810}]
[{"$f":" RTD(\"cqg.rtd\",,\"StudyData\", $N$2, \"Bar\", \"\", \"Time\", $M$2, $F186,$R$2,$Q$2, \"\",\"False\")","v":44668.722222222219},{"$f":" RTD(\"cqg.rtd\",,\"StudyData\", $N$2, \"Bar\", \"\", \"Open\", $M$2, $F186, $R$2,$Q$2,,$O$2,$P$2)","v":4381.5},{"$f":" RTD(\"cqg.rtd\",,\"StudyData\", $N$2, \"Bar\", \"\", \"High\", $M$2, $F186, $R$2,$Q$2,,$O$2,$P$2)","v":4381.5},{"$f":" RTD(\"cqg.rtd\",,\"StudyData\", $N$2, \"Bar\", \"\", \"Low\", $M$2, $F186, $R$2,$Q$2,,$O$2,$P$2)","v":4375.5},{"$f":" RTD(\"cqg.rtd\",,\"StudyData\", $N$2, \"Bar\", \"\", \"Close\", $M$2, $F186, $R$2,$Q$2,,$O$2,$P$2)","v":4376},-185,null,44668.722222222219,{"$f":"RTD(\"cqg.rtd\",,\"StudyData\",$N$2, \"Vol\", \"VolType=Auto,CoCType=Auto\", \"Vol\", $M$2, $F186, $R$2,$Q$2,,$O$2,$P$2)","v":1134}]
[{"$f":" RTD(\"cqg.rtd\",,\"StudyData\", $N$2, \"Bar\", \"\", \"Time\", $M$2, $F187,$R$2,$Q$2, \"\",\"False\")","v":44668.71875},{"$f":" RTD(\"cqg.rtd\",,\"StudyData\", $N$2, \"Bar\", \"\", \"Open\", $M$2, $F187, $R$2,$Q$2,,$O$2,$P$2)","v":4383},{"$f":" RTD(\"cqg.rtd\",,\"StudyData\", $N$2, \"Bar\", \"\", \"High\", $M$2, $F187, $R$2,$Q$2,,$O$2,$P$2)","v":4383.75},{"$f":" RTD(\"cqg.rtd\",,\"StudyData\", $N$2, \"Bar\", \"\", \"Low\", $M$2, $F187, $R$2,$Q$2,,$O$2,$P$2)","v":4380.75},{"$f":" RTD(\"cqg.rtd\",,\"StudyData\", $N$2, \"Bar\", \"\", \"Close\", $M$2, $F187, $R$2,$Q$2,,$O$2,$P$2)","v":4381.25},-186,null,44668.71875,{"$f":"RTD(\"cqg.rtd\",,\"StudyData\",$N$2, \"Vol\", \"VolType=Auto,CoCType=Auto\", \"Vol\", $M$2, $F187, $R$2,$Q$2,,$O$2,$P$2)","v":658}]
[{"$f":" RTD(\"cqg.rtd\",,\"StudyData\", $N$2, \"Bar\", \"\", \"Time\", $M$2, $F188,$R$2,$Q$2, \"\",\"False\")","v":44668.715277777781},{"$f":" RTD(\"cqg.rtd\",,\"StudyData\", $N$2, \"Bar\", \"\", \"Open\", $M$2, $F188, $R$2,$Q$2,,$O$2,$P$2)","v":4382.25},{"$f":" RTD(\"cqg.rtd\",,\"StudyData\", $N$2, \"Bar\", \"\", \"High\", $M$2, $F188, $R$2,$Q$2,,$O$2,$P$2)","v":4384},{"$f":" RTD(\"cqg.rtd\",,\"StudyData\", $N$2, \"Bar\", \"\", \"Low\", $M$2, $F188, $R$2,$Q$2,,$O$2,$P$2)","v":4380},{"$f":" RTD(\"cqg.rtd\",,\"StudyData\", $N$2, \"Bar\", \"\", \"Close\", $M$2, $F188, $R$2,$Q$2,,$O$2,$P$2)","v":4383},-187,null,44668.715277777781,{"$f":"RTD(\"cqg.rtd\",,\"StudyData\",$N$2, \"Vol\", \"VolType=Auto,CoCType=Auto\", \"Vol\", $M$2, $F188, $R$2,$Q$2,,$O$2,$P$2)","v":1028}]
[{"$f":" RTD(\"cqg.rtd\",,\"StudyData\", $N$2, \"Bar\", \"\", \"Time\", $M$2, $F189,$R$2,$Q$2, \"\",\"False\")","v":44668.711805555555},{"$f":" RTD(\"cqg.rtd\",,\"StudyData\", $N$2, \"Bar\", \"\", \"Open\", $M$2, $F189, $R$2,$Q$2,,$O$2,$P$2)","v":4378.5},{"$f":" RTD(\"cqg.rtd\",,\"StudyData\", $N$2, \"Bar\", \"\", \"High\", $M$2, $F189, $R$2,$Q$2,,$O$2,$P$2)","v":4384},{"$f":" RTD(\"cqg.rtd\",,\"StudyData\", $N$2, \"Bar\", \"\", \"Low\", $M$2, $F189, $R$2,$Q$2,,$O$2,$P$2)","v":4378},{"$f":" RTD(\"cqg.rtd\",,\"StudyData\", $N$2, \"Bar\", \"\", \"Close\", $M$2, $F189, $R$2,$Q$2,,$O$2,$P$2)","v":4382.25},-188,null,44668.711805555555,{"$f":"RTD(\"cqg.rtd\",,\"StudyData\",$N$2, \"Vol\", \"VolType=Auto,CoCType=Auto\", \"Vol\", $M$2, $F189, $R$2,$Q$2,,$O$2,$P$2)","v":1418}]
[{"$f":" RTD(\"cqg.rtd\",,\"StudyData\", $N$2, \"Bar\", \"\", \"Time\", $M$2, $F190,$R$2,$Q$2, \"\",\"False\")","v":44668.708333333336},{"$f":" RTD(\"cqg.rtd\",,\"StudyData\", $N$2, \"Bar\", \"\", \"Open\", $M$2, $F190, $R$2,$Q$2,,$O$2,$P$2)","v":4390},{"$f":" RTD(\"cqg.rtd\",,\"StudyData\", $N$2, \"Bar\", \"\", \"High\", $M$2, $F190, $R$2,$Q$2,,$O$2,$P$2)","v":4390},{"$f":" RTD(\"cqg.rtd\",,\"StudyData\", $N$2, \"Bar\", \"\", \"Low\", $M$2, $F190, $R$2,$Q$2,,$O$2,$P$2)","v":4372.75},{"$f":" RTD(\"cqg.rtd\",,\"StudyData\", $N$2, \"Bar\", \"\", \"Close\", $M$2, $F190, $R$2,$Q$2,,$O$2,$P$2)","v":4378.25},-189,null,44668.708333333336,{"$f":"RTD(\"cqg.rtd\",,\"StudyData\",$N$2, \"Vol\", \"VolType=Auto,CoCType=Auto\", \"Vol\", $M$2, $F190, $R$2,$Q$2,,$O$2,$P$2)","v":4598}]
[{"$f":" RTD(\"cqg.rtd\",,\"StudyData\", $N$2, \"Bar\", \"\", \"Time\", $M$2, $F191,$R$2,$Q$2, \"\",\"False\")","v":44665.663194444445},{"$f":" RTD(\"cqg.rtd\",,\"StudyData\", $N$2, \"Bar\", \"\", \"Open\", $M$2, $F191, $R$2,$Q$2,,$O$2,$P$2)","v":4388.75},{"$f":" RTD(\"cqg.rtd\",,\"StudyData\", $N$2, \"Bar\", \"\", \"High\", $M$2, $F191, $R$2,$Q$2,,$O$2,$P$2)","v":4389.5},{"$f":" RTD(\"cqg.rtd\",,\"StudyData\", $N$2, \"Bar\", \"\", \"Low\", $M$2, $F191, $R$2,$Q$2,,$O$2,$P$2)","v":4388.25},{"$f":" RTD(\"cqg.rtd\",,\"StudyData\", $N$2, \"Bar\", \"\", \"Close\", $M$2, $F191, $R$2,$Q$2,,$O$2,$P$2)","v":4389},-190,null,44665.663194444445,{"$f":"RTD(\"cqg.rtd\",,\"StudyData\",$N$2, \"Vol\", \"VolType=Auto,CoCType=Auto\", \"Vol\", $M$2, $F191, $R$2,$Q$2,,$O$2,$P$2)","v":988}]
[{"$f":" RTD(\"cqg.rtd\",,\"StudyData\", $N$2, \"Bar\", \"\", \"Time\", $M$2, $F192,$R$2,$Q$2, \"\",\"False\")","v":44665.659722222219},{"$f":" RTD(\"cqg.rtd\",,\"StudyData\", $N$2, \"Bar\", \"\", \"Open\", $M$2, $F192, $R$2,$Q$2,,$O$2,$P$2)","v":4388.75},{"$f":" RTD(\"cqg.rtd\",,\"StudyData\", $N$2, \"Bar\", \"\", \"High\", $M$2, $F192, $R$2,$Q$2,,$O$2,$P$2)","v":4389},{"$f":" RTD(\"cqg.rtd\",,\"StudyData\", $N$2, \"Bar\", \"\", \"Low\", $M$2, $F192, $R$2,$Q$2,,$O$2,$P$2)","v":4387.75},{"$f":" RTD(\"cqg.rtd\",,\"StudyData\", $N$2, \"Bar\", \"\", \"Close\", $M$2, $F192, $R$2,$Q$2,,$O$2,$P$2)","v":4388.5},-191,null,44665.659722222219,{"$f":"RTD(\"cqg.rtd\",,\"StudyData\",$N$2, \"Vol\", \"VolType=Auto,CoCType=Auto\", \"Vol\", $M$2, $F192, $R$2,$Q$2,,$O$2,$P$2)","v":660}]
[{"$f":" RTD(\"cqg.rtd\",,\"StudyData\", $N$2, \"Bar\", \"\", \"Time\", $M$2, $F193,$R$2,$Q$2, \"\",\"False\")","v":44665.65625},{"$f":" RTD(\"cqg.rtd\",,\"StudyData\", $N$2, \"Bar\", \"\", \"Open\", $M$2, $F193, $R$2,$Q$2,,$O$2,$P$2)","v":4386.25},{"$f":" RTD(\"cqg.rtd\",,\"StudyData\", $N$2, \"Bar\", \"\", \"High\", $M$2, $F193, $R$2,$Q$2,,$O$2,$P$2)","v":4389.75},{"$f":" RTD(\"cqg.rtd\",,\"StudyData\", $N$2, \"Bar\", \"\", \"Low\", $M$2, $F193, $R$2,$Q$2,,$O$2,$P$2)","v":4386},{"$f":" RTD(\"cqg.rtd\",,\"StudyData\", $N$2, \"Bar\", \"\", \"Close\", $M$2, $F193, $R$2,$Q$2,,$O$2,$P$2)","v":4388.75},-192,null,44665.65625,{"$f":"RTD(\"cqg.rtd\",,\"StudyData\",$N$2, \"Vol\", \"VolType=Auto,CoCType=Auto\", \"Vol\", $M$2, $F193, $R$2,$Q$2,,$O$2,$P$2)","v":1697}]
[{"$f":" RTD(\"cqg.rtd\",,\"StudyData\", $N$2, \"Bar\", \"\", \"Time\", $M$2, $F194,$R$2,$Q$2, \"\",\"False\")","v":44665.652777777781},{"$f":" RTD(\"cqg.rtd\",,\"StudyData\", $N$2, \"Bar\", \"\", \"Open\", $M$2, $F194, $R$2,$Q$2,,$O$2,$P$2)","v":4386},{"$f":" RTD(\"cqg.rtd\",,\"StudyData\", $N$2, \"Bar\", \"\", \"High\", $M$2, $F194, $R$2,$Q$2,,$O$2,$P$2)","v":4386.25},{"$f":" RTD(\"cqg.rtd\",,\"StudyData\", $N$2, \"Bar\", \"\", \"Low\", $M$2, $F194, $R$2,$Q$2,,$O$2,$P$2)","v":4385.5},{"$f":" RTD(\"cqg.rtd\",,\"StudyData\", $N$2, \"Bar\", \"\", \"Close\", $M$2, $F194, $R$2,$Q$2,,$O$2,$P$2)","v":4386},-193,null,{"$f":"A194","v":44665.652777777781},{"$f":"RTD(\"cqg.rtd\",,\"StudyData\",$N$2, \"Vol\", \"VolType=Auto,CoCType=Auto\", \"Vol\", $M$2, $F194, $R$2,$Q$2,,$O$2,$P$2)","v":879}]
[{"$f":" RTD(\"cqg.rtd\",,\"StudyData\", $N$2, \"Bar\", \"\", \"Time\", $M$2, $F195,$R$2,$Q$2, \"\",\"False\")","v":44665.649305555555},{"$f":" RTD(\"cqg.rtd\",,\"StudyData\", $N$2, \"Bar\", \"\", \"Open\", $M$2, $F195, $R$2,$Q$2,,$O$2,$P$2)","v":4386.5},{"$f":" RTD(\"cqg.rtd\",,\"StudyData\", $N$2, \"Bar\", \"\", \"High\", $M$2, $F195, $R$2,$Q$2,,$O$2,$P$2)","v":4386.5},{"$f":" RTD(\"cqg.rtd\",,\"StudyData\", $N$2, \"Bar\", \"\", \"Low\", $M$2, $F195, $R$2,$Q$2,,$O$2,$P$2)","v":4385.5},{"$f":" RTD(\"cqg.rtd\",,\"StudyData\", $N$2, \"Bar\", \"\", \"Close\", $M$2, $F195, $R$2,$Q$2,,$O$2,$P$2)","v":4386},{"$f":"F194-1","v":-194},null,44665.649305555555,{"$f":"RTD(\"cqg.rtd\",,\"StudyData\",$N$2, \"Vol\", \"VolType=Auto,CoCType=Auto\", \"Vol\", $M$2, $F195, $R$2,$Q$2,,$O$2,$P$2)","v":657}]
[{"$f":" RTD(\"cqg.rtd\",,\"StudyData\", $N$2, \"Bar\", \"\", \"Time\", $M$2, $F196,$R$2,$Q$2, \"\",\"False\")","v":44665.645833333336},{"$f":" RTD(\"cqg.rtd\",,\"StudyData\", $N$2, \"Bar\", \"\", \"Open\", $M$2, $F196, $R$2,$Q$2,,$O$2,$P$2)","v":4386.25},{"$f":" RTD(\"cqg.rtd\",,\"StudyData\", $N$2, \"Bar\", \"\", \"High\", $M$2, $F196, $R$2,$Q$2,,$O$2,$P$2)","v":4386.5},{"$f":" RTD(\"cqg.rtd\",,\"StudyData\", $N$2, \"Bar\", \"\", \"Low\", $M$2, $F196, $R$2,$Q$2,,$O$2,$P$2)","v":4385.5},{"$f":" RTD(\"cqg.rtd\",,\"StudyData\", $N$2, \"Bar\", \"\", \"Close\", $M$2, $F196, $R$2,$Q$2,,$O$2,$P$2)","v":4386.25},-195,null,44665.645833333336,{"$f":"RTD(\"cqg.rtd\",,\"StudyData\",$N$2, \"Vol\", \"VolType=Auto,CoCType=Auto\", \"Vol\", $M$2, $F196, $R$2,$Q$2,,$O$2,$P$2)","v":883}]
[{"$f":" RTD(\"cqg.rtd\",,\"StudyData\", $N$2, \"Bar\", \"\", \"Time\", $M$2, $F197,$R$2,$Q$2, \"\",\"False\")","v":44665.642361111109},{"$f":" RTD(\"cqg.rtd\",,\"StudyData\", $N$2, \"Bar\", \"\", \"Open\", $M$2, $F197, $R$2,$Q$2,,$O$2,$P$2)","v":4385.75},{"$f":" RTD(\"cqg.rtd\",,\"StudyData\", $N$2, \"Bar\", \"\", \"High\", $M$2, $F197, $R$2,$Q$2,,$O$2,$P$2)","v":4387},{"$f":" RTD(\"cqg.rtd\",,\"StudyData\", $N$2, \"Bar\", \"\", \"Low\", $M$2, $F197, $R$2,$Q$2,,$O$2,$P$2)","v":4385.5},{"$f":" RTD(\"cqg.rtd\",,\"StudyData\", $N$2, \"Bar\", \"\", \"Close\", $M$2, $F197, $R$2,$Q$2,,$O$2,$P$2)","v":4386},-196,null,44665.642361111109,{"$f":"RTD(\"cqg.rtd\",,\"StudyData\",$N$2, \"Vol\", \"VolType=Auto,CoCType=Auto\", \"Vol\", $M$2, $F197, $R$2,$Q$2,,$O$2,$P$2)","v":993}]
[{"$f":" RTD(\"cqg.rtd\",,\"StudyData\", $N$2, \"Bar\", \"\", \"Time\", $M$2, $F198,$R$2,$Q$2, \"\",\"False\")","v":44665.638888888891},{"$f":" RTD(\"cqg.rtd\",,\"StudyData\", $N$2, \"Bar\", \"\", \"Open\", $M$2, $F198, $R$2,$Q$2,,$O$2,$P$2)","v":4386},{"$f":" RTD(\"cqg.rtd\",,\"StudyData\", $N$2, \"Bar\", \"\", \"High\", $M$2, $F198, $R$2,$Q$2,,$O$2,$P$2)","v":4387.25},{"$f":" RTD(\"cqg.rtd\",,\"StudyData\", $N$2, \"Bar\", \"\", \"Low\", $M$2, $F198, $R$2,$Q$2,,$O$2,$P$2)","v":4385.5},{"$f":" RTD(\"cqg.rtd\",,\"StudyData\", $N$2, \"Bar\", \"\", \"Close\", $M$2, $F198, $R$2,$Q$2,,$O$2,$P$2)","v":4385.75},-197,null,44665.638888888891,{"$f":"RTD(\"cqg.rtd\",,\"StudyData\",$N$2, \"Vol\", \"VolType=Auto,CoCType=Auto\", \"Vol\", $M$2, $F198, $R$2,$Q$2,,$O$2,$P$2)","v":1595}]
[{"$f":" RTD(\"cqg.rtd\",,\"StudyData\", $N$2, \"Bar\", \"\", \"Time\", $M$2, $F199,$R$2,$Q$2, \"\",\"False\")","v":44665.635416666664},{"$f":" RTD(\"cqg.rtd\",,\"StudyData\", $N$2, \"Bar\", \"\", \"Open\", $M$2, $F199, $R$2,$Q$2,,$O$2,$P$2)","v":4385},{"$f":" RTD(\"cqg.rtd\",,\"StudyData\", $N$2, \"Bar\", \"\", \"High\", $M$2, $F199, $R$2,$Q$2,,$O$2,$P$2)","v":4386},{"$f":" RTD(\"cqg.rtd\",,\"StudyData\", $N$2, \"Bar\", \"\", \"Low\", $M$2, $F199, $R$2,$Q$2,,$O$2,$P$2)","v":4385},{"$f":" RTD(\"cqg.rtd\",,\"StudyData\", $N$2, \"Bar\", \"\", \"Close\", $M$2, $F199, $R$2,$Q$2,,$O$2,$P$2)","v":4386},-198,null,44665.635416666664,{"$f":"RTD(\"cqg.rtd\",,\"StudyData\",$N$2, \"Vol\", \"VolType=Auto,CoCType=Auto\", \"Vol\", $M$2, $F199, $R$2,$Q$2,,$O$2,$P$2)","v":2375}]
[{"$f":" RTD(\"cqg.rtd\",,\"StudyData\", $N$2, \"Bar\", \"\", \"Time\", $M$2, $F200,$R$2,$Q$2, \"\",\"False\")","v":44665.631944444445},{"$f":" RTD(\"cqg.rtd\",,\"StudyData\", $N$2, \"Bar\", \"\", \"Open\", $M$2, $F200, $R$2,$Q$2,,$O$2,$P$2)","v":4385.5},{"$f":" RTD(\"cqg.rtd\",,\"StudyData\", $N$2, \"Bar\", \"\", \"High\", $M$2, $F200, $R$2,$Q$2,,$O$2,$P$2)","v":4385.75},{"$f":" RTD(\"cqg.rtd\",,\"StudyData\", $N$2, \"Bar\", \"\", \"Low\", $M$2, $F200, $R$2,$Q$2,,$O$2,$P$2)","v":4385},{"$f":" RTD(\"cqg.rtd\",,\"StudyData\", $N$2, \"Bar\", \"\", \"Close\", $M$2, $F200, $R$2,$Q$2,,$O$2,$P$2)","v":4385},-199,null,44665.631944444445,{"$f":"RTD(\"cqg.rtd\",,\"StudyData\",$N$2, \"Vol\", \"VolType=Auto,CoCType=Auto\", \"Vol\", $M$2, $F200, $R$2,$Q$2,,$O$2,$P$2)","v":6369}]
[{"$f":" RTD(\"cqg.rtd\",,\"StudyData\", $N$2, \"Bar\", \"\", \"Time\", $M$2, $F201,$R$2,$Q$2, \"\",\"False\")","v":44665.628472222219},{"$f":" RTD(\"cqg.rtd\",,\"StudyData\", $N$2, \"Bar\", \"\", \"Open\", $M$2, $F201, $R$2,$Q$2,,$O$2,$P$2)","v":4385.5},{"$f":" RTD(\"cqg.rtd\",,\"StudyData\", $N$2, \"Bar\", \"\", \"High\", $M$2, $F201, $R$2,$Q$2,,$O$2,$P$2)","v":4386.5},{"$f":" RTD(\"cqg.rtd\",,\"StudyData\", $N$2, \"Bar\", \"\", \"Low\", $M$2, $F201, $R$2,$Q$2,,$O$2,$P$2)","v":4385},{"$f":" RTD(\"cqg.rtd\",,\"StudyData\", $N$2, \"Bar\", \"\", \"Close\", $M$2, $F201, $R$2,$Q$2,,$O$2,$P$2)","v":4385.75},-200,null,44665.628472222219,{"$f":"RTD(\"cqg.rtd\",,\"StudyData\",$N$2, \"Vol\", \"VolType=Auto,CoCType=Auto\", \"Vol\", $M$2, $F201, $R$2,$Q$2,,$O$2,$P$2)","v":11906}]
[{"$f":" RTD(\"cqg.rtd\",,\"StudyData\", $N$2, \"Bar\", \"\", \"Time\", $M$2, $F202,$R$2,$Q$2, \"\",\"False\")","v":44665.625},{"$f":" RTD(\"cqg.rtd\",,\"StudyData\", $N$2, \"Bar\", \"\", \"Open\", $M$2, $F202, $R$2,$Q$2,,$O$2,$P$2)","v":4387.25},{"$f":" RTD(\"cqg.rtd\",,\"StudyData\", $N$2, \"Bar\", \"\", \"High\", $M$2, $F202, $R$2,$Q$2,,$O$2,$P$2)","v":4389},{"$f":" RTD(\"cqg.rtd\",,\"StudyData\", $N$2, \"Bar\", \"\", \"Low\", $M$2, $F202, $R$2,$Q$2,,$O$2,$P$2)","v":4385},{"$f":" RTD(\"cqg.rtd\",,\"StudyData\", $N$2, \"Bar\", \"\", \"Close\", $M$2, $F202, $R$2,$Q$2,,$O$2,$P$2)","v":4385.25},-201,null,44665.625,{"$f":"RTD(\"cqg.rtd\",,\"StudyData\",$N$2, \"Vol\", \"VolType=Auto,CoCType=Auto\", \"Vol\", $M$2, $F202, $R$2,$Q$2,,$O$2,$P$2)","v":34126}]
[{"$f":" RTD(\"cqg.rtd\",,\"StudyData\", $N$2, \"Bar\", \"\", \"Time\", $M$2, $F203,$R$2,$Q$2, \"\",\"False\")","v":44665.621527777781},{"$f":" RTD(\"cqg.rtd\",,\"StudyData\", $N$2, \"Bar\", \"\", \"Open\", $M$2, $F203, $R$2,$Q$2,,$O$2,$P$2)","v":4392.5},{"$f":" RTD(\"cqg.rtd\",,\"StudyData\", $N$2, \"Bar\", \"\", \"High\", $M$2, $F203, $R$2,$Q$2,,$O$2,$P$2)","v":4394.75},{"$f":" RTD(\"cqg.rtd\",,\"StudyData\", $N$2, \"Bar\", \"\", \"Low\", $M$2, $F203, $R$2,$Q$2,,$O$2,$P$2)","v":4385.25},{"$f":" RTD(\"cqg.rtd\",,\"StudyData\", $N$2, \"Bar\", \"\", \"Close\", $M$2, $F203, $R$2,$Q$2,,$O$2,$P$2)","v":4387.5},-202,null,44665.621527777781,{"$f":"RTD(\"cqg.rtd\",,\"StudyData\",$N$2, \"Vol\", \"VolType=Auto,CoCType=Auto\", \"Vol\", $M$2, $F203, $R$2,$Q$2,,$O$2,$P$2)","v":79962}]
[{"$f":" RTD(\"cqg.rtd\",,\"StudyData\", $N$2, \"Bar\", \"\", \"Time\", $M$2, $F204,$R$2,$Q$2, \"\",\"False\")","v":44665.618055555555},{"$f":" RTD(\"cqg.rtd\",,\"StudyData\", $N$2, \"Bar\", \"\", \"Open\", $M$2, $F204, $R$2,$Q$2,,$O$2,$P$2)","v":4396.5},{"$f":" RTD(\"cqg.rtd\",,\"StudyData\", $N$2, \"Bar\", \"\", \"High\", $M$2, $F204, $R$2,$Q$2,,$O$2,$P$2)","v":4396.5},{"$f":" RTD(\"cqg.rtd\",,\"StudyData\", $N$2, \"Bar\", \"\", \"Low\", $M$2, $F204, $R$2,$Q$2,,$O$2,$P$2)","v":4389.5},{"$f":" RTD(\"cqg.rtd\",,\"StudyData\", $N$2, \"Bar\", \"\", \"Close\", $M$2, $F204, $R$2,$Q$2,,$O$2,$P$2)","v":4392.75},-203,null,44665.618055555555,{"$f":"RTD(\"cqg.rtd\",,\"StudyData\",$N$2, \"Vol\", \"VolType=Auto,CoCType=Auto\", \"Vol\", $M$2, $F204, $R$2,$Q$2,,$O$2,$P$2)","v":34189}]
[{"$f":" RTD(\"cqg.rtd\",,\"StudyData\", $N$2, \"Bar\", \"\", \"Time\", $M$2, $F205,$R$2,$Q$2, \"\",\"False\")","v":44665.614583333336},{"$f":" RTD(\"cqg.rtd\",,\"StudyData\", $N$2, \"Bar\", \"\", \"Open\", $M$2, $F205, $R$2,$Q$2,,$O$2,$P$2)","v":4399.75},{"$f":" RTD(\"cqg.rtd\",,\"StudyData\", $N$2, \"Bar\", \"\", \"High\", $M$2, $F205, $R$2,$Q$2,,$O$2,$P$2)","v":4401},{"$f":" RTD(\"cqg.rtd\",,\"StudyData\", $N$2, \"Bar\", \"\", \"Low\", $M$2, $F205, $R$2,$Q$2,,$O$2,$P$2)","v":4395},{"$f":" RTD(\"cqg.rtd\",,\"StudyData\", $N$2, \"Bar\", \"\", \"Close\", $M$2, $F205, $R$2,$Q$2,,$O$2,$P$2)","v":4396.5},-204,null,44665.614583333336,{"$f":"RTD(\"cqg.rtd\",,\"StudyData\",$N$2, \"Vol\", \"VolType=Auto,CoCType=Auto\", \"Vol\", $M$2, $F205, $R$2,$Q$2,,$O$2,$P$2)","v":16910}]
[{"$f":" RTD(\"cqg.rtd\",,\"StudyData\", $N$2, \"Bar\", \"\", \"Time\", $M$2, $F206,$R$2,$Q$2, \"\",\"False\")","v":44665.611111111109},{"$f":" RTD(\"cqg.rtd\",,\"StudyData\", $N$2, \"Bar\", \"\", \"Open\", $M$2, $F206, $R$2,$Q$2,,$O$2,$P$2)","v":4394.75},{"$f":" RTD(\"cqg.rtd\",,\"StudyData\", $N$2, \"Bar\", \"\", \"High\", $M$2, $F206, $R$2,$Q$2,,$O$2,$P$2)","v":4400.25},{"$f":" RTD(\"cqg.rtd\",,\"StudyData\", $N$2, \"Bar\", \"\", \"Low\", $M$2, $F206, $R$2,$Q$2,,$O$2,$P$2)","v":4393.75},{"$f":" RTD(\"cqg.rtd\",,\"StudyData\", $N$2, \"Bar\", \"\", \"Close\", $M$2, $F206, $R$2,$Q$2,,$O$2,$P$2)","v":4399.75},-205,null,44665.611111111109,{"$f":"RTD(\"cqg.rtd\",,\"StudyData\",$N$2, \"Vol\", \"VolType=Auto,CoCType=Auto\", \"Vol\", $M$2, $F206, $R$2,$Q$2,,$O$2,$P$2)","v":13554}]
[{"$f":" RTD(\"cqg.rtd\",,\"StudyData\", $N$2, \"Bar\", \"\", \"Time\", $M$2, $F207,$R$2,$Q$2, \"\",\"False\")","v":44665.607638888891},{"$f":" RTD(\"cqg.rtd\",,\"StudyData\", $N$2, \"Bar\", \"\", \"Open\", $M$2, $F207, $R$2,$Q$2,,$O$2,$P$2)","v":4395.5},{"$f":" RTD(\"cqg.rtd\",,\"StudyData\", $N$2, \"Bar\", \"\", \"High\", $M$2, $F207, $R$2,$Q$2,,$O$2,$P$2)","v":4398.25},{"$f":" RTD(\"cqg.rtd\",,\"StudyData\", $N$2, \"Bar\", \"\", \"Low\", $M$2, $F207, $R$2,$Q$2,,$O$2,$P$2)","v":4394},{"$f":" RTD(\"cqg.rtd\",,\"StudyData\", $N$2, \"Bar\", \"\", \"Close\", $M$2, $F207, $R$2,$Q$2,,$O$2,$P$2)","v":4394.75},-206,null,44665.607638888891,{"$f":"RTD(\"cqg.rtd\",,\"StudyData\",$N$2, \"Vol\", \"VolType=Auto,CoCType=Auto\", \"Vol\", $M$2, $F207, $R$2,$Q$2,,$O$2,$P$2)","v":14792}]
[{"$f":" RTD(\"cqg.rtd\",,\"StudyData\", $N$2, \"Bar\", \"\", \"Time\", $M$2, $F208,$R$2,$Q$2, \"\",\"False\")","v":44665.604166666664},{"$f":" RTD(\"cqg.rtd\",,\"StudyData\", $N$2, \"Bar\", \"\", \"Open\", $M$2, $F208, $R$2,$Q$2,,$O$2,$P$2)","v":4400.75},{"$f":" RTD(\"cqg.rtd\",,\"StudyData\", $N$2, \"Bar\", \"\", \"High\", $M$2, $F208, $R$2,$Q$2,,$O$2,$P$2)","v":4401.25},{"$f":" RTD(\"cqg.rtd\",,\"StudyData\", $N$2, \"Bar\", \"\", \"Low\", $M$2, $F208, $R$2,$Q$2,,$O$2,$P$2)","v":4395.25},{"$f":" RTD(\"cqg.rtd\",,\"StudyData\", $N$2, \"Bar\", \"\", \"Close\", $M$2, $F208, $R$2,$Q$2,,$O$2,$P$2)","v":4395.5},-207,null,44665.604166666664,{"$f":"RTD(\"cqg.rtd\",,\"StudyData\",$N$2, \"Vol\", \"VolType=Auto,CoCType=Auto\", \"Vol\", $M$2, $F208, $R$2,$Q$2,,$O$2,$P$2)","v":15979}]
[{"$f":" RTD(\"cqg.rtd\",,\"StudyData\", $N$2, \"Bar\", \"\", \"Time\", $M$2, $F209,$R$2,$Q$2, \"\",\"False\")","v":44665.600694444445},{"$f":" RTD(\"cqg.rtd\",,\"StudyData\", $N$2, \"Bar\", \"\", \"Open\", $M$2, $F209, $R$2,$Q$2,,$O$2,$P$2)","v":4404.5},{"$f":" RTD(\"cqg.rtd\",,\"StudyData\", $N$2, \"Bar\", \"\", \"High\", $M$2, $F209, $R$2,$Q$2,,$O$2,$P$2)","v":4404.5},{"$f":" RTD(\"cqg.rtd\",,\"StudyData\", $N$2, \"Bar\", \"\", \"Low\", $M$2, $F209, $R$2,$Q$2,,$O$2,$P$2)","v":4399.5},{"$f":" RTD(\"cqg.rtd\",,\"StudyData\", $N$2, \"Bar\", \"\", \"Close\", $M$2, $F209, $R$2,$Q$2,,$O$2,$P$2)","v":4401},-208,null,44665.600694444445,{"$f":"RTD(\"cqg.rtd\",,\"StudyData\",$N$2, \"Vol\", \"VolType=Auto,CoCType=Auto\", \"Vol\", $M$2, $F209, $R$2,$Q$2,,$O$2,$P$2)","v":12594}]
[{"$f":" RTD(\"cqg.rtd\",,\"StudyData\", $N$2, \"Bar\", \"\", \"Time\", $M$2, $F210,$R$2,$Q$2, \"\",\"False\")","v":44665.597222222219},{"$f":" RTD(\"cqg.rtd\",,\"StudyData\", $N$2, \"Bar\", \"\", \"Open\", $M$2, $F210, $R$2,$Q$2,,$O$2,$P$2)","v":4406.5},{"$f":" RTD(\"cqg.rtd\",,\"StudyData\", $N$2, \"Bar\", \"\", \"High\", $M$2, $F210, $R$2,$Q$2,,$O$2,$P$2)","v":4408.5},{"$f":" RTD(\"cqg.rtd\",,\"StudyData\", $N$2, \"Bar\", \"\", \"Low\", $M$2, $F210, $R$2,$Q$2,,$O$2,$P$2)","v":4403.25},{"$f":" RTD(\"cqg.rtd\",,\"StudyData\", $N$2, \"Bar\", \"\", \"Close\", $M$2, $F210, $R$2,$Q$2,,$O$2,$P$2)","v":4404.5},-209,null,44665.597222222219,{"$f":"RTD(\"cqg.rtd\",,\"StudyData\",$N$2, \"Vol\", \"VolType=Auto,CoCType=Auto\", \"Vol\", $M$2, $F210, $R$2,$Q$2,,$O$2,$P$2)","v":10599}]
[{"$f":" RTD(\"cqg.rtd\",,\"StudyData\", $N$2, \"Bar\", \"\", \"Time\", $M$2, $F211,$R$2,$Q$2, \"\",\"False\")","v":44665.59375},{"$f":" RTD(\"cqg.rtd\",,\"StudyData\", $N$2, \"Bar\", \"\", \"Open\", $M$2, $F211, $R$2,$Q$2,,$O$2,$P$2)","v":4400.25},{"$f":" RTD(\"cqg.rtd\",,\"StudyData\", $N$2, \"Bar\", \"\", \"High\", $M$2, $F211, $R$2,$Q$2,,$O$2,$P$2)","v":4408.25},{"$f":" RTD(\"cqg.rtd\",,\"StudyData\", $N$2, \"Bar\", \"\", \"Low\", $M$2, $F211, $R$2,$Q$2,,$O$2,$P$2)","v":4400.25},{"$f":" RTD(\"cqg.rtd\",,\"StudyData\", $N$2, \"Bar\", \"\", \"Close\", $M$2, $F211, $R$2,$Q$2,,$O$2,$P$2)","v":4406.75},-210,null,44665.59375,{"$f":"RTD(\"cqg.rtd\",,\"StudyData\",$N$2, \"Vol\", \"VolType=Auto,CoCType=Auto\", \"Vol\", $M$2, $F211, $R$2,$Q$2,,$O$2,$P$2)","v":16319}]
[{"$f":" RTD(\"cqg.rtd\",,\"StudyData\", $N$2, \"Bar\", \"\", \"Time\", $M$2, $F212,$R$2,$Q$2, \"\",\"False\")","v":44665.590277777781},{"$f":" RTD(\"cqg.rtd\",,\"StudyData\", $N$2, \"Bar\", \"\", \"Open\", $M$2, $F212, $R$2,$Q$2,,$O$2,$P$2)","v":4398},{"$f":" RTD(\"cqg.rtd\",,\"StudyData\", $N$2, \"Bar\", \"\", \"High\", $M$2, $F212, $R$2,$Q$2,,$O$2,$P$2)","v":4400.75},{"$f":" RTD(\"cqg.rtd\",,\"StudyData\", $N$2, \"Bar\", \"\", \"Low\", $M$2, $F212, $R$2,$Q$2,,$O$2,$P$2)","v":4397},{"$f":" RTD(\"cqg.rtd\",,\"StudyData\", $N$2, \"Bar\", \"\", \"Close\", $M$2, $F212, $R$2,$Q$2,,$O$2,$P$2)","v":4400.25},-211,null,44665.590277777781,{"$f":"RTD(\"cqg.rtd\",,\"StudyData\",$N$2, \"Vol\", \"VolType=Auto,CoCType=Auto\", \"Vol\", $M$2, $F212, $R$2,$Q$2,,$O$2,$P$2)","v":12365}]
[{"$f":" RTD(\"cqg.rtd\",,\"StudyData\", $N$2, \"Bar\", \"\", \"Time\", $M$2, $F213,$R$2,$Q$2, \"\",\"False\")","v":44665.586805555555},{"$f":" RTD(\"cqg.rtd\",,\"StudyData\", $N$2, \"Bar\", \"\", \"Open\", $M$2, $F213, $R$2,$Q$2,,$O$2,$P$2)","v":4403.5},{"$f":" RTD(\"cqg.rtd\",,\"StudyData\", $N$2, \"Bar\", \"\", \"High\", $M$2, $F213, $R$2,$Q$2,,$O$2,$P$2)","v":4404.75},{"$f":" RTD(\"cqg.rtd\",,\"StudyData\", $N$2, \"Bar\", \"\", \"Low\", $M$2, $F213, $R$2,$Q$2,,$O$2,$P$2)","v":4397.75},{"$f":" RTD(\"cqg.rtd\",,\"StudyData\", $N$2, \"Bar\", \"\", \"Close\", $M$2, $F213, $R$2,$Q$2,,$O$2,$P$2)","v":4398},-212,null,44665.586805555555,{"$f":"RTD(\"cqg.rtd\",,\"StudyData\",$N$2, \"Vol\", \"VolType=Auto,CoCType=Auto\", \"Vol\", $M$2, $F213, $R$2,$Q$2,,$O$2,$P$2)","v":11485}]
[{"$f":" RTD(\"cqg.rtd\",,\"StudyData\", $N$2, \"Bar\", \"\", \"Time\", $M$2, $F214,$R$2,$Q$2, \"\",\"False\")","v":44665.583333333336},{"$f":" RTD(\"cqg.rtd\",,\"StudyData\", $N$2, \"Bar\", \"\", \"Open\", $M$2, $F214, $R$2,$Q$2,,$O$2,$P$2)","v":4401.5},{"$f":" RTD(\"cqg.rtd\",,\"StudyData\", $N$2, \"Bar\", \"\", \"High\", $M$2, $F214, $R$2,$Q$2,,$O$2,$P$2)","v":4405.25},{"$f":" RTD(\"cqg.rtd\",,\"StudyData\", $N$2, \"Bar\", \"\", \"Low\", $M$2, $F214, $R$2,$Q$2,,$O$2,$P$2)","v":4400},{"$f":" RTD(\"cqg.rtd\",,\"StudyData\", $N$2, \"Bar\", \"\", \"Close\", $M$2, $F214, $R$2,$Q$2,,$O$2,$P$2)","v":4403.5},-213,null,44665.583333333336,{"$f":"RTD(\"cqg.rtd\",,\"StudyData\",$N$2, \"Vol\", \"VolType=Auto,CoCType=Auto\", \"Vol\", $M$2, $F214, $R$2,$Q$2,,$O$2,$P$2)","v":13327}]
[{"$f":" RTD(\"cqg.rtd\",,\"StudyData\", $N$2, \"Bar\", \"\", \"Time\", $M$2, $F215,$R$2,$Q$2, \"\",\"False\")","v":44665.579861111109},{"$f":" RTD(\"cqg.rtd\",,\"StudyData\", $N$2, \"Bar\", \"\", \"Open\", $M$2, $F215, $R$2,$Q$2,,$O$2,$P$2)","v":4405.75},{"$f":" RTD(\"cqg.rtd\",,\"StudyData\", $N$2, \"Bar\", \"\", \"High\", $M$2, $F215, $R$2,$Q$2,,$O$2,$P$2)","v":4405.75},{"$f":" RTD(\"cqg.rtd\",,\"StudyData\", $N$2, \"Bar\", \"\", \"Low\", $M$2, $F215, $R$2,$Q$2,,$O$2,$P$2)","v":4401.5},{"$f":" RTD(\"cqg.rtd\",,\"StudyData\", $N$2, \"Bar\", \"\", \"Close\", $M$2, $F215, $R$2,$Q$2,,$O$2,$P$2)","v":4401.75},-214,null,44665.579861111109,{"$f":"RTD(\"cqg.rtd\",,\"StudyData\",$N$2, \"Vol\", \"VolType=Auto,CoCType=Auto\", \"Vol\", $M$2, $F215, $R$2,$Q$2,,$O$2,$P$2)","v":12250}]
[{"$f":" RTD(\"cqg.rtd\",,\"StudyData\", $N$2, \"Bar\", \"\", \"Time\", $M$2, $F216,$R$2,$Q$2, \"\",\"False\")","v":44665.576388888891},{"$f":" RTD(\"cqg.rtd\",,\"StudyData\", $N$2, \"Bar\", \"\", \"Open\", $M$2, $F216, $R$2,$Q$2,,$O$2,$P$2)","v":4413.25},{"$f":" RTD(\"cqg.rtd\",,\"StudyData\", $N$2, \"Bar\", \"\", \"High\", $M$2, $F216, $R$2,$Q$2,,$O$2,$P$2)","v":4414},{"$f":" RTD(\"cqg.rtd\",,\"StudyData\", $N$2, \"Bar\", \"\", \"Low\", $M$2, $F216, $R$2,$Q$2,,$O$2,$P$2)","v":4404.25},{"$f":" RTD(\"cqg.rtd\",,\"StudyData\", $N$2, \"Bar\", \"\", \"Close\", $M$2, $F216, $R$2,$Q$2,,$O$2,$P$2)","v":4405.75},-215,null,44665.576388888891,{"$f":"RTD(\"cqg.rtd\",,\"StudyData\",$N$2, \"Vol\", \"VolType=Auto,CoCType=Auto\", \"Vol\", $M$2, $F216, $R$2,$Q$2,,$O$2,$P$2)","v":12514}]
[{"$f":" RTD(\"cqg.rtd\",,\"StudyData\", $N$2, \"Bar\", \"\", \"Time\", $M$2, $F217,$R$2,$Q$2, \"\",\"False\")","v":44665.572916666664},{"$f":" RTD(\"cqg.rtd\",,\"StudyData\", $N$2, \"Bar\", \"\", \"Open\", $M$2, $F217, $R$2,$Q$2,,$O$2,$P$2)","v":4413.5},{"$f":" RTD(\"cqg.rtd\",,\"StudyData\", $N$2, \"Bar\", \"\", \"High\", $M$2, $F217, $R$2,$Q$2,,$O$2,$P$2)","v":4415.25},{"$f":" RTD(\"cqg.rtd\",,\"StudyData\", $N$2, \"Bar\", \"\", \"Low\", $M$2, $F217, $R$2,$Q$2,,$O$2,$P$2)","v":4411.25},{"$f":" RTD(\"cqg.rtd\",,\"StudyData\", $N$2, \"Bar\", \"\", \"Close\", $M$2, $F217, $R$2,$Q$2,,$O$2,$P$2)","v":4413.25},-216,null,44665.572916666664,{"$f":"RTD(\"cqg.rtd\",,\"StudyData\",$N$2, \"Vol\", \"VolType=Auto,CoCType=Auto\", \"Vol\", $M$2, $F217, $R$2,$Q$2,,$O$2,$P$2)","v":5449}]
[{"$f":" RTD(\"cqg.rtd\",,\"StudyData\", $N$2, \"Bar\", \"\", \"Time\", $M$2, $F218,$R$2,$Q$2, \"\",\"False\")","v":44665.569444444445},{"$f":" RTD(\"cqg.rtd\",,\"StudyData\", $N$2, \"Bar\", \"\", \"Open\", $M$2, $F218, $R$2,$Q$2,,$O$2,$P$2)","v":4412},{"$f":" RTD(\"cqg.rtd\",,\"StudyData\", $N$2, \"Bar\", \"\", \"High\", $M$2, $F218, $R$2,$Q$2,,$O$2,$P$2)","v":4414.25},{"$f":" RTD(\"cqg.rtd\",,\"StudyData\", $N$2, \"Bar\", \"\", \"Low\", $M$2, $F218, $R$2,$Q$2,,$O$2,$P$2)","v":4411.75},{"$f":" RTD(\"cqg.rtd\",,\"StudyData\", $N$2, \"Bar\", \"\", \"Close\", $M$2, $F218, $R$2,$Q$2,,$O$2,$P$2)","v":4413.75},-217,null,44665.569444444445,{"$f":"RTD(\"cqg.rtd\",,\"StudyData\",$N$2, \"Vol\", \"VolType=Auto,CoCType=Auto\", \"Vol\", $M$2, $F218, $R$2,$Q$2,,$O$2,$P$2)","v":4138}]
[{"$f":" RTD(\"cqg.rtd\",,\"StudyData\", $N$2, \"Bar\", \"\", \"Time\", $M$2, $F219,$R$2,$Q$2, \"\",\"False\")","v":44665.565972222219},{"$f":" RTD(\"cqg.rtd\",,\"StudyData\", $N$2, \"Bar\", \"\", \"Open\", $M$2, $F219, $R$2,$Q$2,,$O$2,$P$2)","v":4413.5},{"$f":" RTD(\"cqg.rtd\",,\"StudyData\", $N$2, \"Bar\", \"\", \"High\", $M$2, $F219, $R$2,$Q$2,,$O$2,$P$2)","v":4414.75},{"$f":" RTD(\"cqg.rtd\",,\"StudyData\", $N$2, \"Bar\", \"\", \"Low\", $M$2, $F219, $R$2,$Q$2,,$O$2,$P$2)","v":4410.75},{"$f":" RTD(\"cqg.rtd\",,\"StudyData\", $N$2, \"Bar\", \"\", \"Close\", $M$2, $F219, $R$2,$Q$2,,$O$2,$P$2)","v":4412},-218,null,44665.565972222219,{"$f":"RTD(\"cqg.rtd\",,\"StudyData\",$N$2, \"Vol\", \"VolType=Auto,CoCType=Auto\", \"Vol\", $M$2, $F219, $R$2,$Q$2,,$O$2,$P$2)","v":5548}]
[{"$f":" RTD(\"cqg.rtd\",,\"StudyData\", $N$2, \"Bar\", \"\", \"Time\", $M$2, $F220,$R$2,$Q$2, \"\",\"False\")","v":44665.5625},{"$f":" RTD(\"cqg.rtd\",,\"StudyData\", $N$2, \"Bar\", \"\", \"Open\", $M$2, $F220, $R$2,$Q$2,,$O$2,$P$2)","v":4417.5},{"$f":" RTD(\"cqg.rtd\",,\"StudyData\", $N$2, \"Bar\", \"\", \"High\", $M$2, $F220, $R$2,$Q$2,,$O$2,$P$2)","v":4419.75},{"$f":" RTD(\"cqg.rtd\",,\"StudyData\", $N$2, \"Bar\", \"\", \"Low\", $M$2, $F220, $R$2,$Q$2,,$O$2,$P$2)","v":4412},{"$f":" RTD(\"cqg.rtd\",,\"StudyData\", $N$2, \"Bar\", \"\", \"Close\", $M$2, $F220, $R$2,$Q$2,,$O$2,$P$2)","v":4413.5},-219,null,44665.5625,{"$f":"RTD(\"cqg.rtd\",,\"StudyData\",$N$2, \"Vol\", \"VolType=Auto,CoCType=Auto\", \"Vol\", $M$2, $F220, $R$2,$Q$2,,$O$2,$P$2)","v":8597}]
[{"$f":" RTD(\"cqg.rtd\",,\"StudyData\", $N$2, \"Bar\", \"\", \"Time\", $M$2, $F221,$R$2,$Q$2, \"\",\"False\")","v":44665.559027777781},{"$f":" RTD(\"cqg.rtd\",,\"StudyData\", $N$2, \"Bar\", \"\", \"Open\", $M$2, $F221, $R$2,$Q$2,,$O$2,$P$2)","v":4414.5},{"$f":" RTD(\"cqg.rtd\",,\"StudyData\", $N$2, \"Bar\", \"\", \"High\", $M$2, $F221, $R$2,$Q$2,,$O$2,$P$2)","v":4419},{"$f":" RTD(\"cqg.rtd\",,\"StudyData\", $N$2, \"Bar\", \"\", \"Low\", $M$2, $F221, $R$2,$Q$2,,$O$2,$P$2)","v":4412.75},{"$f":" RTD(\"cqg.rtd\",,\"StudyData\", $N$2, \"Bar\", \"\", \"Close\", $M$2, $F221, $R$2,$Q$2,,$O$2,$P$2)","v":4417.5},-220,null,44665.559027777781,{"$f":"RTD(\"cqg.rtd\",,\"StudyData\",$N$2, \"Vol\", \"VolType=Auto,CoCType=Auto\", \"Vol\", $M$2, $F221, $R$2,$Q$2,,$O$2,$P$2)","v":5925}]
[{"$f":" RTD(\"cqg.rtd\",,\"StudyData\", $N$2, \"Bar\", \"\", \"Time\", $M$2, $F222,$R$2,$Q$2, \"\",\"False\")","v":44665.555555555555},{"$f":" RTD(\"cqg.rtd\",,\"StudyData\", $N$2, \"Bar\", \"\", \"Open\", $M$2, $F222, $R$2,$Q$2,,$O$2,$P$2)","v":4418.25},{"$f":" RTD(\"cqg.rtd\",,\"StudyData\", $N$2, \"Bar\", \"\", \"High\", $M$2, $F222, $R$2,$Q$2,,$O$2,$P$2)","v":4418.25},{"$f":" RTD(\"cqg.rtd\",,\"StudyData\", $N$2, \"Bar\", \"\", \"Low\", $M$2, $F222, $R$2,$Q$2,,$O$2,$P$2)","v":4413.25},{"$f":" RTD(\"cqg.rtd\",,\"StudyData\", $N$2, \"Bar\", \"\", \"Close\", $M$2, $F222, $R$2,$Q$2,,$O$2,$P$2)","v":4414.5},-221,null,44665.555555555555,{"$f":"RTD(\"cqg.rtd\",,\"StudyData\",$N$2, \"Vol\", \"VolType=Auto,CoCType=Auto\", \"Vol\", $M$2, $F222, $R$2,$Q$2,,$O$2,$P$2)","v":7670}]
[{"$f":" RTD(\"cqg.rtd\",,\"StudyData\", $N$2, \"Bar\", \"\", \"Time\", $M$2, $F223,$R$2,$Q$2, \"\",\"False\")","v":44665.552083333336},{"$f":" RTD(\"cqg.rtd\",,\"StudyData\", $N$2, \"Bar\", \"\", \"Open\", $M$2, $F223, $R$2,$Q$2,,$O$2,$P$2)","v":4422.75},{"$f":" RTD(\"cqg.rtd\",,\"StudyData\", $N$2, \"Bar\", \"\", \"High\", $M$2, $F223, $R$2,$Q$2,,$O$2,$P$2)","v":4424.5},{"$f":" RTD(\"cqg.rtd\",,\"StudyData\", $N$2, \"Bar\", \"\", \"Low\", $M$2, $F223, $R$2,$Q$2,,$O$2,$P$2)","v":4417.25},{"$f":" RTD(\"cqg.rtd\",,\"StudyData\", $N$2, \"Bar\", \"\", \"Close\", $M$2, $F223, $R$2,$Q$2,,$O$2,$P$2)","v":4418.25},-222,null,44665.552083333336,{"$f":"RTD(\"cqg.rtd\",,\"StudyData\",$N$2, \"Vol\", \"VolType=Auto,CoCType=Auto\", \"Vol\", $M$2, $F223, $R$2,$Q$2,,$O$2,$P$2)","v":7043}]
[{"$f":" RTD(\"cqg.rtd\",,\"StudyData\", $N$2, \"Bar\", \"\", \"Time\", $M$2, $F224,$R$2,$Q$2, \"\",\"False\")","v":44665.548611111109},{"$f":" RTD(\"cqg.rtd\",,\"StudyData\", $N$2, \"Bar\", \"\", \"Open\", $M$2, $F224, $R$2,$Q$2,,$O$2,$P$2)","v":4421.75},{"$f":" RTD(\"cqg.rtd\",,\"StudyData\", $N$2, \"Bar\", \"\", \"High\", $M$2, $F224, $R$2,$Q$2,,$O$2,$P$2)","v":4424},{"$f":" RTD(\"cqg.rtd\",,\"StudyData\", $N$2, \"Bar\", \"\", \"Low\", $M$2, $F224, $R$2,$Q$2,,$O$2,$P$2)","v":4420.5},{"$f":" RTD(\"cqg.rtd\",,\"StudyData\", $N$2, \"Bar\", \"\", \"Close\", $M$2, $F224, $R$2,$Q$2,,$O$2,$P$2)","v":4422.5},-223,null,44665.548611111109,{"$f":"RTD(\"cqg.rtd\",,\"StudyData\",$N$2, \"Vol\", \"VolType=Auto,CoCType=Auto\", \"Vol\", $M$2, $F224, $R$2,$Q$2,,$O$2,$P$2)","v":6611}]
[{"$f":" RTD(\"cqg.rtd\",,\"StudyData\", $N$2, \"Bar\", \"\", \"Time\", $M$2, $F225,$R$2,$Q$2, \"\",\"False\")","v":44665.545138888891},{"$f":" RTD(\"cqg.rtd\",,\"StudyData\", $N$2, \"Bar\", \"\", \"Open\", $M$2, $F225, $R$2,$Q$2,,$O$2,$P$2)","v":4425.25},{"$f":" RTD(\"cqg.rtd\",,\"StudyData\", $N$2, \"Bar\", \"\", \"High\", $M$2, $F225, $R$2,$Q$2,,$O$2,$P$2)","v":4426},{"$f":" RTD(\"cqg.rtd\",,\"StudyData\", $N$2, \"Bar\", \"\", \"Low\", $M$2, $F225, $R$2,$Q$2,,$O$2,$P$2)","v":4420.75},{"$f":" RTD(\"cqg.rtd\",,\"StudyData\", $N$2, \"Bar\", \"\", \"Close\", $M$2, $F225, $R$2,$Q$2,,$O$2,$P$2)","v":4421.75},-224,null,44665.545138888891,{"$f":"RTD(\"cqg.rtd\",,\"StudyData\",$N$2, \"Vol\", \"VolType=Auto,CoCType=Auto\", \"Vol\", $M$2, $F225, $R$2,$Q$2,,$O$2,$P$2)","v":9435}]
[{"$f":" RTD(\"cqg.rtd\",,\"StudyData\", $N$2, \"Bar\", \"\", \"Time\", $M$2, $F226,$R$2,$Q$2, \"\",\"False\")","v":44665.541666666664},{"$f":" RTD(\"cqg.rtd\",,\"StudyData\", $N$2, \"Bar\", \"\", \"Open\", $M$2, $F226, $R$2,$Q$2,,$O$2,$P$2)","v":4421.5},{"$f":" RTD(\"cqg.rtd\",,\"StudyData\", $N$2, \"Bar\", \"\", \"High\", $M$2, $F226, $R$2,$Q$2,,$O$2,$P$2)","v":4427.25},{"$f":" RTD(\"cqg.rtd\",,\"StudyData\", $N$2, \"Bar\", \"\", \"Low\", $M$2, $F226, $R$2,$Q$2,,$O$2,$P$2)","v":4420.75},{"$f":" RTD(\"cqg.rtd\",,\"StudyData\", $N$2, \"Bar\", \"\", \"Close\", $M$2, $F226, $R$2,$Q$2,,$O$2,$P$2)","v":4425.25},-225,null,44665.541666666664,{"$f":"RTD(\"cqg.rtd\",,\"StudyData\",$N$2, \"Vol\", \"VolType=Auto,CoCType=Auto\", \"Vol\", $M$2, $F226, $R$2,$Q$2,,$O$2,$P$2)","v":14298}]
[{"$f":" RTD(\"cqg.rtd\",,\"StudyData\", $N$2, \"Bar\", \"\", \"Time\", $M$2, $F227,$R$2,$Q$2, \"\",\"False\")","v":44665.538194444445},{"$f":" RTD(\"cqg.rtd\",,\"StudyData\", $N$2, \"Bar\", \"\", \"Open\", $M$2, $F227, $R$2,$Q$2,,$O$2,$P$2)","v":4416.5},{"$f":" RTD(\"cqg.rtd\",,\"StudyData\", $N$2, \"Bar\", \"\", \"High\", $M$2, $F227, $R$2,$Q$2,,$O$2,$P$2)","v":4421.75},{"$f":" RTD(\"cqg.rtd\",,\"StudyData\", $N$2, \"Bar\", \"\", \"Low\", $M$2, $F227, $R$2,$Q$2,,$O$2,$P$2)","v":4416},{"$f":" RTD(\"cqg.rtd\",,\"StudyData\", $N$2, \"Bar\", \"\", \"Close\", $M$2, $F227, $R$2,$Q$2,,$O$2,$P$2)","v":4421.5},-226,null,44665.538194444445,{"$f":"RTD(\"cqg.rtd\",,\"StudyData\",$N$2, \"Vol\", \"VolType=Auto,CoCType=Auto\", \"Vol\", $M$2, $F227, $R$2,$Q$2,,$O$2,$P$2)","v":7569}]
[{"$f":" RTD(\"cqg.rtd\",,\"StudyData\", $N$2, \"Bar\", \"\", \"Time\", $M$2, $F228,$R$2,$Q$2, \"\",\"False\")","v":44665.534722222219},{"$f":" RTD(\"cqg.rtd\",,\"StudyData\", $N$2, \"Bar\", \"\", \"Open\", $M$2, $F228, $R$2,$Q$2,,$O$2,$P$2)","v":4418},{"$f":" RTD(\"cqg.rtd\",,\"StudyData\", $N$2, \"Bar\", \"\", \"High\", $M$2, $F228, $R$2,$Q$2,,$O$2,$P$2)","v":4419.5},{"$f":" RTD(\"cqg.rtd\",,\"StudyData\", $N$2, \"Bar\", \"\", \"Low\", $M$2, $F228, $R$2,$Q$2,,$O$2,$P$2)","v":4415.75},{"$f":" RTD(\"cqg.rtd\",,\"StudyData\", $N$2, \"Bar\", \"\", \"Close\", $M$2, $F228, $R$2,$Q$2,,$O$2,$P$2)","v":4416.25},-227,null,44665.534722222219,{"$f":"RTD(\"cqg.rtd\",,\"StudyData\",$N$2, \"Vol\", \"VolType=Auto,CoCType=Auto\", \"Vol\", $M$2, $F228, $R$2,$Q$2,,$O$2,$P$2)","v":9028}]
[{"$f":" RTD(\"cqg.rtd\",,\"StudyData\", $N$2, \"Bar\", \"\", \"Time\", $M$2, $F229,$R$2,$Q$2, \"\",\"False\")","v":44665.53125},{"$f":" RTD(\"cqg.rtd\",,\"StudyData\", $N$2, \"Bar\", \"\", \"Open\", $M$2, $F229, $R$2,$Q$2,,$O$2,$P$2)","v":4414.75},{"$f":" RTD(\"cqg.rtd\",,\"StudyData\", $N$2, \"Bar\", \"\", \"High\", $M$2, $F229, $R$2,$Q$2,,$O$2,$P$2)","v":4419},{"$f":" RTD(\"cqg.rtd\",,\"StudyData\", $N$2, \"Bar\", \"\", \"Low\", $M$2, $F229, $R$2,$Q$2,,$O$2,$P$2)","v":4414.75},{"$f":" RTD(\"cqg.rtd\",,\"StudyData\", $N$2, \"Bar\", \"\", \"Close\", $M$2, $F229, $R$2,$Q$2,,$O$2,$P$2)","v":4418.25},-228,null,44665.53125,{"$f":"RTD(\"cqg.rtd\",,\"StudyData\",$N$2, \"Vol\", \"VolType=Auto,CoCType=Auto\", \"Vol\", $M$2, $F229, $R$2,$Q$2,,$O$2,$P$2)","v":7127}]
[{"$f":" RTD(\"cqg.rtd\",,\"StudyData\", $N$2, \"Bar\", \"\", \"Time\", $M$2, $F230,$R$2,$Q$2, \"\",\"False\")","v":44665.527777777781},{"$f":" RTD(\"cqg.rtd\",,\"StudyData\", $N$2, \"Bar\", \"\", \"Open\", $M$2, $F230, $R$2,$Q$2,,$O$2,$P$2)","v":4411},{"$f":" RTD(\"cqg.rtd\",,\"StudyData\", $N$2, \"Bar\", \"\", \"High\", $M$2, $F230, $R$2,$Q$2,,$O$2,$P$2)","v":4416},{"$f":" RTD(\"cqg.rtd\",,\"StudyData\", $N$2, \"Bar\", \"\", \"Low\", $M$2, $F230, $R$2,$Q$2,,$O$2,$P$2)","v":4410.25},{"$f":" RTD(\"cqg.rtd\",,\"StudyData\", $N$2, \"Bar\", \"\", \"Close\", $M$2, $F230, $R$2,$Q$2,,$O$2,$P$2)","v":4414.75},-229,null,44665.527777777781,{"$f":"RTD(\"cqg.rtd\",,\"StudyData\",$N$2, \"Vol\", \"VolType=Auto,CoCType=Auto\", \"Vol\", $M$2, $F230, $R$2,$Q$2,,$O$2,$P$2)","v":6500}]
[{"$f":" RTD(\"cqg.rtd\",,\"StudyData\", $N$2, \"Bar\", \"\", \"Time\", $M$2, $F231,$R$2,$Q$2, \"\",\"False\")","v":44665.524305555555},{"$f":" RTD(\"cqg.rtd\",,\"StudyData\", $N$2, \"Bar\", \"\", \"Open\", $M$2, $F231, $R$2,$Q$2,,$O$2,$P$2)","v":4410},{"$f":" RTD(\"cqg.rtd\",,\"StudyData\", $N$2, \"Bar\", \"\", \"High\", $M$2, $F231, $R$2,$Q$2,,$O$2,$P$2)","v":4413},{"$f":" RTD(\"cqg.rtd\",,\"StudyData\", $N$2, \"Bar\", \"\", \"Low\", $M$2, $F231, $R$2,$Q$2,,$O$2,$P$2)","v":4410},{"$f":" RTD(\"cqg.rtd\",,\"StudyData\", $N$2, \"Bar\", \"\", \"Close\", $M$2, $F231, $R$2,$Q$2,,$O$2,$P$2)","v":4411},-230,null,44665.524305555555,{"$f":"RTD(\"cqg.rtd\",,\"StudyData\",$N$2, \"Vol\", \"VolType=Auto,CoCType=Auto\", \"Vol\", $M$2, $F231, $R$2,$Q$2,,$O$2,$P$2)","v":6534}]
[{"$f":" RTD(\"cqg.rtd\",,\"StudyData\", $N$2, \"Bar\", \"\", \"Time\", $M$2, $F232,$R$2,$Q$2, \"\",\"False\")","v":44665.520833333336},{"$f":" RTD(\"cqg.rtd\",,\"StudyData\", $N$2, \"Bar\", \"\", \"Open\", $M$2, $F232, $R$2,$Q$2,,$O$2,$P$2)","v":4408},{"$f":" RTD(\"cqg.rtd\",,\"StudyData\", $N$2, \"Bar\", \"\", \"High\", $M$2, $F232, $R$2,$Q$2,,$O$2,$P$2)","v":4410.75},{"$f":" RTD(\"cqg.rtd\",,\"StudyData\", $N$2, \"Bar\", \"\", \"Low\", $M$2, $F232, $R$2,$Q$2,,$O$2,$P$2)","v":4407.25},{"$f":" RTD(\"cqg.rtd\",,\"StudyData\", $N$2, \"Bar\", \"\", \"Close\", $M$2, $F232, $R$2,$Q$2,,$O$2,$P$2)","v":4410.25},-231,null,44665.520833333336,{"$f":"RTD(\"cqg.rtd\",,\"StudyData\",$N$2, \"Vol\", \"VolType=Auto,CoCType=Auto\", \"Vol\", $M$2, $F232, $R$2,$Q$2,,$O$2,$P$2)","v":6596}]
[{"$f":" RTD(\"cqg.rtd\",,\"StudyData\", $N$2, \"Bar\", \"\", \"Time\", $M$2, $F233,$R$2,$Q$2, \"\",\"False\")","v":44665.517361111109},{"$f":" RTD(\"cqg.rtd\",,\"StudyData\", $N$2, \"Bar\", \"\", \"Open\", $M$2, $F233, $R$2,$Q$2,,$O$2,$P$2)","v":4407.25},{"$f":" RTD(\"cqg.rtd\",,\"StudyData\", $N$2, \"Bar\", \"\", \"High\", $M$2, $F233, $R$2,$Q$2,,$O$2,$P$2)","v":4409},{"$f":" RTD(\"cqg.rtd\",,\"StudyData\", $N$2, \"Bar\", \"\", \"Low\", $M$2, $F233, $R$2,$Q$2,,$O$2,$P$2)","v":4406.5},{"$f":" RTD(\"cqg.rtd\",,\"StudyData\", $N$2, \"Bar\", \"\", \"Close\", $M$2, $F233, $R$2,$Q$2,,$O$2,$P$2)","v":4408},-232,null,44665.517361111109,{"$f":"RTD(\"cqg.rtd\",,\"StudyData\",$N$2, \"Vol\", \"VolType=Auto,CoCType=Auto\", \"Vol\", $M$2, $F233, $R$2,$Q$2,,$O$2,$P$2)","v":4956}]
[{"$f":" RTD(\"cqg.rtd\",,\"StudyData\", $N$2, \"Bar\", \"\", \"Time\", $M$2, $F234,$R$2,$Q$2, \"\",\"False\")","v":44665.513888888891},{"$f":" RTD(\"cqg.rtd\",,\"StudyData\", $N$2, \"Bar\", \"\", \"Open\", $M$2, $F234, $R$2,$Q$2,,$O$2,$P$2)","v":4405.25},{"$f":" RTD(\"cqg.rtd\",,\"StudyData\", $N$2, \"Bar\", \"\", \"High\", $M$2, $F234, $R$2,$Q$2,,$O$2,$P$2)","v":4408.25},{"$f":" RTD(\"cqg.rtd\",,\"StudyData\", $N$2, \"Bar\", \"\", \"Low\", $M$2, $F234, $R$2,$Q$2,,$O$2,$P$2)","v":4405.25},{"$f":" RTD(\"cqg.rtd\",,\"StudyData\", $N$2, \"Bar\", \"\", \"Close\", $M$2, $F234, $R$2,$Q$2,,$O$2,$P$2)","v":4407},-233,null,44665.513888888891,{"$f":"RTD(\"cqg.rtd\",,\"StudyData\",$N$2, \"Vol\", \"VolType=Auto,CoCType=Auto\", \"Vol\", $M$2, $F234, $R$2,$Q$2,,$O$2,$P$2)","v":8023}]
[{"$f":" RTD(\"cqg.rtd\",,\"StudyData\", $N$2, \"Bar\", \"\", \"Time\", $M$2, $F235,$R$2,$Q$2, \"\",\"False\")","v":44665.510416666664},{"$f":" RTD(\"cqg.rtd\",,\"StudyData\", $N$2, \"Bar\", \"\", \"Open\", $M$2, $F235, $R$2,$Q$2,,$O$2,$P$2)","v":4406},{"$f":" RTD(\"cqg.rtd\",,\"StudyData\", $N$2, \"Bar\", \"\", \"High\", $M$2, $F235, $R$2,$Q$2,,$O$2,$P$2)","v":4408.5},{"$f":" RTD(\"cqg.rtd\",,\"StudyData\", $N$2, \"Bar\", \"\", \"Low\", $M$2, $F235, $R$2,$Q$2,,$O$2,$P$2)","v":4404.5},{"$f":" RTD(\"cqg.rtd\",,\"StudyData\", $N$2, \"Bar\", \"\", \"Close\", $M$2, $F235, $R$2,$Q$2,,$O$2,$P$2)","v":4405.25},-234,null,44665.510416666664,{"$f":"RTD(\"cqg.rtd\",,\"StudyData\",$N$2, \"Vol\", \"VolType=Auto,CoCType=Auto\", \"Vol\", $M$2, $F235, $R$2,$Q$2,,$O$2,$P$2)","v":9061}]
[{"$f":" RTD(\"cqg.rtd\",,\"StudyData\", $N$2, \"Bar\", \"\", \"Time\", $M$2, $F236,$R$2,$Q$2, \"\",\"False\")","v":44665.506944444445},{"$f":" RTD(\"cqg.rtd\",,\"StudyData\", $N$2, \"Bar\", \"\", \"Open\", $M$2, $F236, $R$2,$Q$2,,$O$2,$P$2)","v":4406.25},{"$f":" RTD(\"cqg.rtd\",,\"StudyData\", $N$2, \"Bar\", \"\", \"High\", $M$2, $F236, $R$2,$Q$2,,$O$2,$P$2)","v":4410.5},{"$f":" RTD(\"cqg.rtd\",,\"StudyData\", $N$2, \"Bar\", \"\", \"Low\", $M$2, $F236, $R$2,$Q$2,,$O$2,$P$2)","v":4405.5},{"$f":" RTD(\"cqg.rtd\",,\"StudyData\", $N$2, \"Bar\", \"\", \"Close\", $M$2, $F236, $R$2,$Q$2,,$O$2,$P$2)","v":4406},-235,null,44665.506944444445,{"$f":"RTD(\"cqg.rtd\",,\"StudyData\",$N$2, \"Vol\", \"VolType=Auto,CoCType=Auto\", \"Vol\", $M$2, $F236, $R$2,$Q$2,,$O$2,$P$2)","v":6492}]
[{"$f":" RTD(\"cqg.rtd\",,\"StudyData\", $N$2, \"Bar\", \"\", \"Time\", $M$2, $F237,$R$2,$Q$2, \"\",\"False\")","v":44665.503472222219},{"$f":" RTD(\"cqg.rtd\",,\"StudyData\", $N$2, \"Bar\", \"\", \"Open\", $M$2, $F237, $R$2,$Q$2,,$O$2,$P$2)","v":4408.5},{"$f":" RTD(\"cqg.rtd\",,\"StudyData\", $N$2, \"Bar\", \"\", \"High\", $M$2, $F237, $R$2,$Q$2,,$O$2,$P$2)","v":4409.25},{"$f":" RTD(\"cqg.rtd\",,\"StudyData\", $N$2, \"Bar\", \"\", \"Low\", $M$2, $F237, $R$2,$Q$2,,$O$2,$P$2)","v":4405.5},{"$f":" RTD(\"cqg.rtd\",,\"StudyData\", $N$2, \"Bar\", \"\", \"Close\", $M$2, $F237, $R$2,$Q$2,,$O$2,$P$2)","v":4406.5},-236,null,44665.503472222219,{"$f":"RTD(\"cqg.rtd\",,\"StudyData\",$N$2, \"Vol\", \"VolType=Auto,CoCType=Auto\", \"Vol\", $M$2, $F237, $R$2,$Q$2,,$O$2,$P$2)","v":8470}]
[{"$f":" RTD(\"cqg.rtd\",,\"StudyData\", $N$2, \"Bar\", \"\", \"Time\", $M$2, $F238,$R$2,$Q$2, \"\",\"False\")","v":44665.5},{"$f":" RTD(\"cqg.rtd\",,\"StudyData\", $N$2, \"Bar\", \"\", \"Open\", $M$2, $F238, $R$2,$Q$2,,$O$2,$P$2)","v":4408.75},{"$f":" RTD(\"cqg.rtd\",,\"StudyData\", $N$2, \"Bar\", \"\", \"High\", $M$2, $F238, $R$2,$Q$2,,$O$2,$P$2)","v":4411},{"$f":" RTD(\"cqg.rtd\",,\"StudyData\", $N$2, \"Bar\", \"\", \"Low\", $M$2, $F238, $R$2,$Q$2,,$O$2,$P$2)","v":4407.25},{"$f":" RTD(\"cqg.rtd\",,\"StudyData\", $N$2, \"Bar\", \"\", \"Close\", $M$2, $F238, $R$2,$Q$2,,$O$2,$P$2)","v":4408.5},-237,null,44665.5,{"$f":"RTD(\"cqg.rtd\",,\"StudyData\",$N$2, \"Vol\", \"VolType=Auto,CoCType=Auto\", \"Vol\", $M$2, $F238, $R$2,$Q$2,,$O$2,$P$2)","v":11601}]
[{"$f":" RTD(\"cqg.rtd\",,\"StudyData\", $N$2, \"Bar\", \"\", \"Time\", $M$2, $F239,$R$2,$Q$2, \"\",\"False\")","v":44665.496527777781},{"$f":" RTD(\"cqg.rtd\",,\"StudyData\", $N$2, \"Bar\", \"\", \"Open\", $M$2, $F239, $R$2,$Q$2,,$O$2,$P$2)","v":4403.75},{"$f":" RTD(\"cqg.rtd\",,\"StudyData\", $N$2, \"Bar\", \"\", \"High\", $M$2, $F239, $R$2,$Q$2,,$O$2,$P$2)","v":4409.75},{"$f":" RTD(\"cqg.rtd\",,\"StudyData\", $N$2, \"Bar\", \"\", \"Low\", $M$2, $F239, $R$2,$Q$2,,$O$2,$P$2)","v":4403.75},{"$f":" RTD(\"cqg.rtd\",,\"StudyData\", $N$2, \"Bar\", \"\", \"Close\", $M$2, $F239, $R$2,$Q$2,,$O$2,$P$2)","v":4409},-238,null,44665.496527777781,{"$f":"RTD(\"cqg.rtd\",,\"StudyData\",$N$2, \"Vol\", \"VolType=Auto,CoCType=Auto\", \"Vol\", $M$2, $F239, $R$2,$Q$2,,$O$2,$P$2)","v":11499}]
[{"$f":" RTD(\"cqg.rtd\",,\"StudyData\", $N$2, \"Bar\", \"\", \"Time\", $M$2, $F240,$R$2,$Q$2, \"\",\"False\")","v":44665.493055555555},{"$f":" RTD(\"cqg.rtd\",,\"StudyData\", $N$2, \"Bar\", \"\", \"Open\", $M$2, $F240, $R$2,$Q$2,,$O$2,$P$2)","v":4403.75},{"$f":" RTD(\"cqg.rtd\",,\"StudyData\", $N$2, \"Bar\", \"\", \"High\", $M$2, $F240, $R$2,$Q$2,,$O$2,$P$2)","v":4405},{"$f":" RTD(\"cqg.rtd\",,\"StudyData\", $N$2, \"Bar\", \"\", \"Low\", $M$2, $F240, $R$2,$Q$2,,$O$2,$P$2)","v":4403.25},{"$f":" RTD(\"cqg.rtd\",,\"StudyData\", $N$2, \"Bar\", \"\", \"Close\", $M$2, $F240, $R$2,$Q$2,,$O$2,$P$2)","v":4403.75},-239,null,44665.493055555555,{"$f":"RTD(\"cqg.rtd\",,\"StudyData\",$N$2, \"Vol\", \"VolType=Auto,CoCType=Auto\", \"Vol\", $M$2, $F240, $R$2,$Q$2,,$O$2,$P$2)","v":5381}]
[{"$f":" RTD(\"cqg.rtd\",,\"StudyData\", $N$2, \"Bar\", \"\", \"Time\", $M$2, $F241,$R$2,$Q$2, \"\",\"False\")","v":44665.489583333336},{"$f":" RTD(\"cqg.rtd\",,\"StudyData\", $N$2, \"Bar\", \"\", \"Open\", $M$2, $F241, $R$2,$Q$2,,$O$2,$P$2)","v":4404.25},{"$f":" RTD(\"cqg.rtd\",,\"StudyData\", $N$2, \"Bar\", \"\", \"High\", $M$2, $F241, $R$2,$Q$2,,$O$2,$P$2)","v":4405.75},{"$f":" RTD(\"cqg.rtd\",,\"StudyData\", $N$2, \"Bar\", \"\", \"Low\", $M$2, $F241, $R$2,$Q$2,,$O$2,$P$2)","v":4403},{"$f":" RTD(\"cqg.rtd\",,\"StudyData\", $N$2, \"Bar\", \"\", \"Close\", $M$2, $F241, $R$2,$Q$2,,$O$2,$P$2)","v":4404},-240,null,44665.489583333336,{"$f":"RTD(\"cqg.rtd\",,\"StudyData\",$N$2, \"Vol\", \"VolType=Auto,CoCType=Auto\", \"Vol\", $M$2, $F241, $R$2,$Q$2,,$O$2,$P$2)","v":6116}]
[{"$f":" RTD(\"cqg.rtd\",,\"StudyData\", $N$2, \"Bar\", \"\", \"Time\", $M$2, $F242,$R$2,$Q$2, \"\",\"False\")","v":44665.486111111109},{"$f":" RTD(\"cqg.rtd\",,\"StudyData\", $N$2, \"Bar\", \"\", \"Open\", $M$2, $F242, $R$2,$Q$2,,$O$2,$P$2)","v":4408},{"$f":" RTD(\"cqg.rtd\",,\"StudyData\", $N$2, \"Bar\", \"\", \"High\", $M$2, $F242, $R$2,$Q$2,,$O$2,$P$2)","v":4408.25},{"$f":" RTD(\"cqg.rtd\",,\"StudyData\", $N$2, \"Bar\", \"\", \"Low\", $M$2, $F242, $R$2,$Q$2,,$O$2,$P$2)","v":4404.25},{"$f":" RTD(\"cqg.rtd\",,\"StudyData\", $N$2, \"Bar\", \"\", \"Close\", $M$2, $F242, $R$2,$Q$2,,$O$2,$P$2)","v":4404.5},-241,null,44665.486111111109,{"$f":"RTD(\"cqg.rtd\",,\"StudyData\",$N$2, \"Vol\", \"VolType=Auto,CoCType=Auto\", \"Vol\", $M$2, $F242, $R$2,$Q$2,,$O$2,$P$2)","v":9211}]
[{"$f":" RTD(\"cqg.rtd\",,\"StudyData\", $N$2, \"Bar\", \"\", \"Time\", $M$2, $F243,$R$2,$Q$2, \"\",\"False\")","v":44665.482638888891},{"$f":" RTD(\"cqg.rtd\",,\"StudyData\", $N$2, \"Bar\", \"\", \"Open\", $M$2, $F243, $R$2,$Q$2,,$O$2,$P$2)","v":4408.75},{"$f":" RTD(\"cqg.rtd\",,\"StudyData\", $N$2, \"Bar\", \"\", \"High\", $M$2, $F243, $R$2,$Q$2,,$O$2,$P$2)","v":4410.25},{"$f":" RTD(\"cqg.rtd\",,\"StudyData\", $N$2, \"Bar\", \"\", \"Low\", $M$2, $F243, $R$2,$Q$2,,$O$2,$P$2)","v":4407.5},{"$f":" RTD(\"cqg.rtd\",,\"StudyData\", $N$2, \"Bar\", \"\", \"Close\", $M$2, $F243, $R$2,$Q$2,,$O$2,$P$2)","v":4408},-242,null,44665.482638888891,{"$f":"RTD(\"cqg.rtd\",,\"StudyData\",$N$2, \"Vol\", \"VolType=Auto,CoCType=Auto\", \"Vol\", $M$2, $F243, $R$2,$Q$2,,$O$2,$P$2)","v":4887}]
[{"$f":" RTD(\"cqg.rtd\",,\"StudyData\", $N$2, \"Bar\", \"\", \"Time\", $M$2, $F244,$R$2,$Q$2, \"\",\"False\")","v":44665.479166666664},{"$f":" RTD(\"cqg.rtd\",,\"StudyData\", $N$2, \"Bar\", \"\", \"Open\", $M$2, $F244, $R$2,$Q$2,,$O$2,$P$2)","v":4409},{"$f":" RTD(\"cqg.rtd\",,\"StudyData\", $N$2, \"Bar\", \"\", \"High\", $M$2, $F244, $R$2,$Q$2,,$O$2,$P$2)","v":4411.25},{"$f":" RTD(\"cqg.rtd\",,\"StudyData\", $N$2, \"Bar\", \"\", \"Low\", $M$2, $F244, $R$2,$Q$2,,$O$2,$P$2)","v":4407.5},{"$f":" RTD(\"cqg.rtd\",,\"StudyData\", $N$2, \"Bar\", \"\", \"Close\", $M$2, $F244, $R$2,$Q$2,,$O$2,$P$2)","v":4408.75},-243,null,44665.479166666664,{"$f":"RTD(\"cqg.rtd\",,\"StudyData\",$N$2, \"Vol\", \"VolType=Auto,CoCType=Auto\", \"Vol\", $M$2, $F244, $R$2,$Q$2,,$O$2,$P$2)","v":5403}]
[{"$f":" RTD(\"cqg.rtd\",,\"StudyData\", $N$2, \"Bar\", \"\", \"Time\", $M$2, $F245,$R$2,$Q$2, \"\",\"False\")","v":44665.475694444445},{"$f":" RTD(\"cqg.rtd\",,\"StudyData\", $N$2, \"Bar\", \"\", \"Open\", $M$2, $F245, $R$2,$Q$2,,$O$2,$P$2)","v":4413.25},{"$f":" RTD(\"cqg.rtd\",,\"StudyData\", $N$2, \"Bar\", \"\", \"High\", $M$2, $F245, $R$2,$Q$2,,$O$2,$P$2)","v":4413.75},{"$f":" RTD(\"cqg.rtd\",,\"StudyData\", $N$2, \"Bar\", \"\", \"Low\", $M$2, $F245, $R$2,$Q$2,,$O$2,$P$2)","v":4407.5},{"$f":" RTD(\"cqg.rtd\",,\"StudyData\", $N$2, \"Bar\", \"\", \"Close\", $M$2, $F245, $R$2,$Q$2,,$O$2,$P$2)","v":4409.25},-244,null,44665.475694444445,{"$f":"RTD(\"cqg.rtd\",,\"StudyData\",$N$2, \"Vol\", \"VolType=Auto,CoCType=Auto\", \"Vol\", $M$2, $F245, $R$2,$Q$2,,$O$2,$P$2)","v":11434}]
[{"$f":" RTD(\"cqg.rtd\",,\"StudyData\", $N$2, \"Bar\", \"\", \"Time\", $M$2, $F246,$R$2,$Q$2, \"\",\"False\")","v":44665.472222222219},{"$f":" RTD(\"cqg.rtd\",,\"StudyData\", $N$2, \"Bar\", \"\", \"Open\", $M$2, $F246, $R$2,$Q$2,,$O$2,$P$2)","v":4414.25},{"$f":" RTD(\"cqg.rtd\",,\"StudyData\", $N$2, \"Bar\", \"\", \"High\", $M$2, $F246, $R$2,$Q$2,,$O$2,$P$2)","v":4414.75},{"$f":" RTD(\"cqg.rtd\",,\"StudyData\", $N$2, \"Bar\", \"\", \"Low\", $M$2, $F246, $R$2,$Q$2,,$O$2,$P$2)","v":4410.25},{"$f":" RTD(\"cqg.rtd\",,\"StudyData\", $N$2, \"Bar\", \"\", \"Close\", $M$2, $F246, $R$2,$Q$2,,$O$2,$P$2)","v":4413},-245,null,44665.472222222219,{"$f":"RTD(\"cqg.rtd\",,\"StudyData\",$N$2, \"Vol\", \"VolType=Auto,CoCType=Auto\", \"Vol\", $M$2, $F246, $R$2,$Q$2,,$O$2,$P$2)","v":7445}]
[{"$f":" RTD(\"cqg.rtd\",,\"StudyData\", $N$2, \"Bar\", \"\", \"Time\", $M$2, $F247,$R$2,$Q$2, \"\",\"False\")","v":44665.46875},{"$f":" RTD(\"cqg.rtd\",,\"StudyData\", $N$2, \"Bar\", \"\", \"Open\", $M$2, $F247, $R$2,$Q$2,,$O$2,$P$2)","v":4416},{"$f":" RTD(\"cqg.rtd\",,\"StudyData\", $N$2, \"Bar\", \"\", \"High\", $M$2, $F247, $R$2,$Q$2,,$O$2,$P$2)","v":4417.75},{"$f":" RTD(\"cqg.rtd\",,\"StudyData\", $N$2, \"Bar\", \"\", \"Low\", $M$2, $F247, $R$2,$Q$2,,$O$2,$P$2)","v":4412.75},{"$f":" RTD(\"cqg.rtd\",,\"StudyData\", $N$2, \"Bar\", \"\", \"Close\", $M$2, $F247, $R$2,$Q$2,,$O$2,$P$2)","v":4414.5},-246,null,44665.46875,{"$f":"RTD(\"cqg.rtd\",,\"StudyData\",$N$2, \"Vol\", \"VolType=Auto,CoCType=Auto\", \"Vol\", $M$2, $F247, $R$2,$Q$2,,$O$2,$P$2)","v":8087}]
[{"$f":" RTD(\"cqg.rtd\",,\"StudyData\", $N$2, \"Bar\", \"\", \"Time\", $M$2, $F248,$R$2,$Q$2, \"\",\"False\")","v":44665.465277777781},{"$f":" RTD(\"cqg.rtd\",,\"StudyData\", $N$2, \"Bar\", \"\", \"Open\", $M$2, $F248, $R$2,$Q$2,,$O$2,$P$2)","v":4418.75},{"$f":" RTD(\"cqg.rtd\",,\"StudyData\", $N$2, \"Bar\", \"\", \"High\", $M$2, $F248, $R$2,$Q$2,,$O$2,$P$2)","v":4420},{"$f":" RTD(\"cqg.rtd\",,\"StudyData\", $N$2, \"Bar\", \"\", \"Low\", $M$2, $F248, $R$2,$Q$2,,$O$2,$P$2)","v":4415.25},{"$f":" RTD(\"cqg.rtd\",,\"StudyData\", $N$2, \"Bar\", \"\", \"Close\", $M$2, $F248, $R$2,$Q$2,,$O$2,$P$2)","v":4416},-247,null,44665.465277777781,{"$f":"RTD(\"cqg.rtd\",,\"StudyData\",$N$2, \"Vol\", \"VolType=Auto,CoCType=Auto\", \"Vol\", $M$2, $F248, $R$2,$Q$2,,$O$2,$P$2)","v":4862}]
[{"$f":" RTD(\"cqg.rtd\",,\"StudyData\", $N$2, \"Bar\", \"\", \"Time\", $M$2, $F249,$R$2,$Q$2, \"\",\"False\")","v":44665.461805555555},{"$f":" RTD(\"cqg.rtd\",,\"StudyData\", $N$2, \"Bar\", \"\", \"Open\", $M$2, $F249, $R$2,$Q$2,,$O$2,$P$2)","v":4415},{"$f":" RTD(\"cqg.rtd\",,\"StudyData\", $N$2, \"Bar\", \"\", \"High\", $M$2, $F249, $R$2,$Q$2,,$O$2,$P$2)","v":4420.5},{"$f":" RTD(\"cqg.rtd\",,\"StudyData\", $N$2, \"Bar\", \"\", \"Low\", $M$2, $F249, $R$2,$Q$2,,$O$2,$P$2)","v":4414.25},{"$f":" RTD(\"cqg.rtd\",,\"StudyData\", $N$2, \"Bar\", \"\", \"Close\", $M$2, $F249, $R$2,$Q$2,,$O$2,$P$2)","v":4418.75},-248,null,44665.461805555555,{"$f":"RTD(\"cqg.rtd\",,\"StudyData\",$N$2, \"Vol\", \"VolType=Auto,CoCType=Auto\", \"Vol\", $M$2, $F249, $R$2,$Q$2,,$O$2,$P$2)","v":6859}]
[{"$f":" RTD(\"cqg.rtd\",,\"StudyData\", $N$2, \"Bar\", \"\", \"Time\", $M$2, $F250,$R$2,$Q$2, \"\",\"False\")","v":44665.458333333336},{"$f":" RTD(\"cqg.rtd\",,\"StudyData\", $N$2, \"Bar\", \"\", \"Open\", $M$2, $F250, $R$2,$Q$2,,$O$2,$P$2)","v":4416},{"$f":" RTD(\"cqg.rtd\",,\"StudyData\", $N$2, \"Bar\", \"\", \"High\", $M$2, $F250, $R$2,$Q$2,,$O$2,$P$2)","v":4420},{"$f":" RTD(\"cqg.rtd\",,\"StudyData\", $N$2, \"Bar\", \"\", \"Low\", $M$2, $F250, $R$2,$Q$2,,$O$2,$P$2)","v":4413},{"$f":" RTD(\"cqg.rtd\",,\"StudyData\", $N$2, \"Bar\", \"\", \"Close\", $M$2, $F250, $R$2,$Q$2,,$O$2,$P$2)","v":4415},-249,null,44665.458333333336,{"$f":"RTD(\"cqg.rtd\",,\"StudyData\",$N$2, \"Vol\", \"VolType=Auto,CoCType=Auto\", \"Vol\", $M$2, $F250, $R$2,$Q$2,,$O$2,$P$2)","v":15359}]
[{"$f":" RTD(\"cqg.rtd\",,\"StudyData\", $N$2, \"Bar\", \"\", \"Time\", $M$2, $F251,$R$2,$Q$2, \"\",\"False\")","v":44665.454861111109},{"$f":" RTD(\"cqg.rtd\",,\"StudyData\", $N$2, \"Bar\", \"\", \"Open\", $M$2, $F251, $R$2,$Q$2,,$O$2,$P$2)","v":4414.25},{"$f":" RTD(\"cqg.rtd\",,\"StudyData\", $N$2, \"Bar\", \"\", \"High\", $M$2, $F251, $R$2,$Q$2,,$O$2,$P$2)","v":4416.75},{"$f":" RTD(\"cqg.rtd\",,\"StudyData\", $N$2, \"Bar\", \"\", \"Low\", $M$2, $F251, $R$2,$Q$2,,$O$2,$P$2)","v":4414},{"$f":" RTD(\"cqg.rtd\",,\"StudyData\", $N$2, \"Bar\", \"\", \"Close\", $M$2, $F251, $R$2,$Q$2,,$O$2,$P$2)","v":4416},-250,null,44665.454861111109,{"$f":"RTD(\"cqg.rtd\",,\"StudyData\",$N$2, \"Vol\", \"VolType=Auto,CoCType=Auto\", \"Vol\", $M$2, $F251, $R$2,$Q$2,,$O$2,$P$2)","v":5006}]
[{"$f":" RTD(\"cqg.rtd\",,\"StudyData\", $N$2, \"Bar\", \"\", \"Time\", $M$2, $F252,$R$2,$Q$2, \"\",\"False\")","v":44665.451388888891},{"$f":" RTD(\"cqg.rtd\",,\"StudyData\", $N$2, \"Bar\", \"\", \"Open\", $M$2, $F252, $R$2,$Q$2,,$O$2,$P$2)","v":4416},{"$f":" RTD(\"cqg.rtd\",,\"StudyData\", $N$2, \"Bar\", \"\", \"High\", $M$2, $F252, $R$2,$Q$2,,$O$2,$P$2)","v":4416.5},{"$f":" RTD(\"cqg.rtd\",,\"StudyData\", $N$2, \"Bar\", \"\", \"Low\", $M$2, $F252, $R$2,$Q$2,,$O$2,$P$2)","v":4414},{"$f":" RTD(\"cqg.rtd\",,\"StudyData\", $N$2, \"Bar\", \"\", \"Close\", $M$2, $F252, $R$2,$Q$2,,$O$2,$P$2)","v":4414.25},-251,null,44665.451388888891,{"$f":"RTD(\"cqg.rtd\",,\"StudyData\",$N$2, \"Vol\", \"VolType=Auto,CoCType=Auto\", \"Vol\", $M$2, $F252, $R$2,$Q$2,,$O$2,$P$2)","v":7295}]
[{"$f":" RTD(\"cqg.rtd\",,\"StudyData\", $N$2, \"Bar\", \"\", \"Time\", $M$2, $F253,$R$2,$Q$2, \"\",\"False\")","v":44665.447916666664},{"$f":" RTD(\"cqg.rtd\",,\"StudyData\", $N$2, \"Bar\", \"\", \"Open\", $M$2, $F253, $R$2,$Q$2,,$O$2,$P$2)","v":4415.25},{"$f":" RTD(\"cqg.rtd\",,\"StudyData\", $N$2, \"Bar\", \"\", \"High\", $M$2, $F253, $R$2,$Q$2,,$O$2,$P$2)","v":4417.75},{"$f":" RTD(\"cqg.rtd\",,\"StudyData\", $N$2, \"Bar\", \"\", \"Low\", $M$2, $F253, $R$2,$Q$2,,$O$2,$P$2)","v":4414},{"$f":" RTD(\"cqg.rtd\",,\"StudyData\", $N$2, \"Bar\", \"\", \"Close\", $M$2, $F253, $R$2,$Q$2,,$O$2,$P$2)","v":4416.25},-252,null,44665.447916666664,{"$f":"RTD(\"cqg.rtd\",,\"StudyData\",$N$2, \"Vol\", \"VolType=Auto,CoCType=Auto\", \"Vol\", $M$2, $F253, $R$2,$Q$2,,$O$2,$P$2)","v":10117}]
[{"$f":" RTD(\"cqg.rtd\",,\"StudyData\", $N$2, \"Bar\", \"\", \"Time\", $M$2, $F254,$R$2,$Q$2, \"\",\"False\")","v":44665.444444444445},{"$f":" RTD(\"cqg.rtd\",,\"StudyData\", $N$2, \"Bar\", \"\", \"Open\", $M$2, $F254, $R$2,$Q$2,,$O$2,$P$2)","v":4421},{"$f":" RTD(\"cqg.rtd\",,\"StudyData\", $N$2, \"Bar\", \"\", \"High\", $M$2, $F254, $R$2,$Q$2,,$O$2,$P$2)","v":4422},{"$f":" RTD(\"cqg.rtd\",,\"StudyData\", $N$2, \"Bar\", \"\", \"Low\", $M$2, $F254, $R$2,$Q$2,,$O$2,$P$2)","v":4414.5},{"$f":" RTD(\"cqg.rtd\",,\"StudyData\", $N$2, \"Bar\", \"\", \"Close\", $M$2, $F254, $R$2,$Q$2,,$O$2,$P$2)","v":4415.5},-253,null,44665.444444444445,{"$f":"RTD(\"cqg.rtd\",,\"StudyData\",$N$2, \"Vol\", \"VolType=Auto,CoCType=Auto\", \"Vol\", $M$2, $F254, $R$2,$Q$2,,$O$2,$P$2)","v":14480}]
[{"$f":" RTD(\"cqg.rtd\",,\"StudyData\", $N$2, \"Bar\", \"\", \"Time\", $M$2, $F255,$R$2,$Q$2, \"\",\"False\")","v":44665.440972222219},{"$f":" RTD(\"cqg.rtd\",,\"StudyData\", $N$2, \"Bar\", \"\", \"Open\", $M$2, $F255, $R$2,$Q$2,,$O$2,$P$2)","v":4425.75},{"$f":" RTD(\"cqg.rtd\",,\"StudyData\", $N$2, \"Bar\", \"\", \"High\", $M$2, $F255, $R$2,$Q$2,,$O$2,$P$2)","v":4426.25},{"$f":" RTD(\"cqg.rtd\",,\"StudyData\", $N$2, \"Bar\", \"\", \"Low\", $M$2, $F255, $R$2,$Q$2,,$O$2,$P$2)","v":4420.5},{"$f":" RTD(\"cqg.rtd\",,\"StudyData\", $N$2, \"Bar\", \"\", \"Close\", $M$2, $F255, $R$2,$Q$2,,$O$2,$P$2)","v":4420.75},-254,null,44665.440972222219,{"$f":"RTD(\"cqg.rtd\",,\"StudyData\",$N$2, \"Vol\", \"VolType=Auto,CoCType=Auto\", \"Vol\", $M$2, $F255, $R$2,$Q$2,,$O$2,$P$2)","v":10033}]
[{"$f":" RTD(\"cqg.rtd\",,\"StudyData\", $N$2, \"Bar\", \"\", \"Time\", $M$2, $F256,$R$2,$Q$2, \"\",\"False\")","v":44665.4375},{"$f":" RTD(\"cqg.rtd\",,\"StudyData\", $N$2, \"Bar\", \"\", \"Open\", $M$2, $F256, $R$2,$Q$2,,$O$2,$P$2)","v":4429},{"$f":" RTD(\"cqg.rtd\",,\"StudyData\", $N$2, \"Bar\", \"\", \"High\", $M$2, $F256, $R$2,$Q$2,,$O$2,$P$2)","v":4430.5},{"$f":" RTD(\"cqg.rtd\",,\"StudyData\", $N$2, \"Bar\", \"\", \"Low\", $M$2, $F256, $R$2,$Q$2,,$O$2,$P$2)","v":4425.25},{"$f":" RTD(\"cqg.rtd\",,\"StudyData\", $N$2, \"Bar\", \"\", \"Close\", $M$2, $F256, $R$2,$Q$2,,$O$2,$P$2)","v":4425.75},-255,null,44665.4375,{"$f":"RTD(\"cqg.rtd\",,\"StudyData\",$N$2, \"Vol\", \"VolType=Auto,CoCType=Auto\", \"Vol\", $M$2, $F256, $R$2,$Q$2,,$O$2,$P$2)","v":9173}]
[{"$f":" RTD(\"cqg.rtd\",,\"StudyData\", $N$2, \"Bar\", \"\", \"Time\", $M$2, $F257,$R$2,$Q$2, \"\",\"False\")","v":44665.434027777781},{"$f":" RTD(\"cqg.rtd\",,\"StudyData\", $N$2, \"Bar\", \"\", \"Open\", $M$2, $F257, $R$2,$Q$2,,$O$2,$P$2)","v":4429.5},{"$f":" RTD(\"cqg.rtd\",,\"StudyData\", $N$2, \"Bar\", \"\", \"High\", $M$2, $F257, $R$2,$Q$2,,$O$2,$P$2)","v":4431.25},{"$f":" RTD(\"cqg.rtd\",,\"StudyData\", $N$2, \"Bar\", \"\", \"Low\", $M$2, $F257, $R$2,$Q$2,,$O$2,$P$2)","v":4427},{"$f":" RTD(\"cqg.rtd\",,\"StudyData\", $N$2, \"Bar\", \"\", \"Close\", $M$2, $F257, $R$2,$Q$2,,$O$2,$P$2)","v":4428.75},-256,null,44665.434027777781,{"$f":"RTD(\"cqg.rtd\",,\"StudyData\",$N$2, \"Vol\", \"VolType=Auto,CoCType=Auto\", \"Vol\", $M$2, $F257, $R$2,$Q$2,,$O$2,$P$2)","v":13813}]
[{"$f":" RTD(\"cqg.rtd\",,\"StudyData\", $N$2, \"Bar\", \"\", \"Time\", $M$2, $F258,$R$2,$Q$2, \"\",\"False\")","v":44665.430555555555},{"$f":" RTD(\"cqg.rtd\",,\"StudyData\", $N$2, \"Bar\", \"\", \"Open\", $M$2, $F258, $R$2,$Q$2,,$O$2,$P$2)","v":4422.25},{"$f":" RTD(\"cqg.rtd\",,\"StudyData\", $N$2, \"Bar\", \"\", \"High\", $M$2, $F258, $R$2,$Q$2,,$O$2,$P$2)","v":4429.75},{"$f":" RTD(\"cqg.rtd\",,\"StudyData\", $N$2, \"Bar\", \"\", \"Low\", $M$2, $F258, $R$2,$Q$2,,$O$2,$P$2)","v":4419},{"$f":" RTD(\"cqg.rtd\",,\"StudyData\", $N$2, \"Bar\", \"\", \"Close\", $M$2, $F258, $R$2,$Q$2,,$O$2,$P$2)","v":4429.5},-257,null,{"$f":"A258","v":44665.430555555555},{"$f":"RTD(\"cqg.rtd\",,\"StudyData\",$N$2, \"Vol\", \"VolType=Auto,CoCType=Auto\", \"Vol\", $M$2, $F258, $R$2,$Q$2,,$O$2,$P$2)","v":13767}]
[{"$f":" RTD(\"cqg.rtd\",,\"StudyData\", $N$2, \"Bar\", \"\", \"Time\", $M$2, $F259,$R$2,$Q$2, \"\",\"False\")","v":44665.427083333336},{"$f":" RTD(\"cqg.rtd\",,\"StudyData\", $N$2, \"Bar\", \"\", \"Open\", $M$2, $F259, $R$2,$Q$2,,$O$2,$P$2)","v":4425.25},{"$f":" RTD(\"cqg.rtd\",,\"StudyData\", $N$2, \"Bar\", \"\", \"High\", $M$2, $F259, $R$2,$Q$2,,$O$2,$P$2)","v":4428.75},{"$f":" RTD(\"cqg.rtd\",,\"StudyData\", $N$2, \"Bar\", \"\", \"Low\", $M$2, $F259, $R$2,$Q$2,,$O$2,$P$2)","v":4420},{"$f":" RTD(\"cqg.rtd\",,\"StudyData\", $N$2, \"Bar\", \"\", \"Close\", $M$2, $F259, $R$2,$Q$2,,$O$2,$P$2)","v":4422},{"$f":"F258-1","v":-258},null,44665.427083333336,{"$f":"RTD(\"cqg.rtd\",,\"StudyData\",$N$2, \"Vol\", \"VolType=Auto,CoCType=Auto\", \"Vol\", $M$2, $F259, $R$2,$Q$2,,$O$2,$P$2)","v":15777}]
[{"$f":" RTD(\"cqg.rtd\",,\"StudyData\", $N$2, \"Bar\", \"\", \"Time\", $M$2, $F260,$R$2,$Q$2, \"\",\"False\")","v":44665.423611111109},{"$f":" RTD(\"cqg.rtd\",,\"StudyData\", $N$2, \"Bar\", \"\", \"Open\", $M$2, $F260, $R$2,$Q$2,,$O$2,$P$2)","v":4424.75},{"$f":" RTD(\"cqg.rtd\",,\"StudyData\", $N$2, \"Bar\", \"\", \"High\", $M$2, $F260, $R$2,$Q$2,,$O$2,$P$2)","v":4428.5},{"$f":" RTD(\"cqg.rtd\",,\"StudyData\", $N$2, \"Bar\", \"\", \"Low\", $M$2, $F260, $R$2,$Q$2,,$O$2,$P$2)","v":4421.5},{"$f":" RTD(\"cqg.rtd\",,\"StudyData\", $N$2, \"Bar\", \"\", \"Close\", $M$2, $F260, $R$2,$Q$2,,$O$2,$P$2)","v":4425.25},-259,null,44665.423611111109,{"$f":"RTD(\"cqg.rtd\",,\"StudyData\",$N$2, \"Vol\", \"VolType=Auto,CoCType=Auto\", \"Vol\", $M$2, $F260, $R$2,$Q$2,,$O$2,$P$2)","v":11022}]
[{"$f":" RTD(\"cqg.rtd\",,\"StudyData\", $N$2, \"Bar\", \"\", \"Time\", $M$2, $F261,$R$2,$Q$2, \"\",\"False\")","v":44665.420138888891},{"$f":" RTD(\"cqg.rtd\",,\"StudyData\", $N$2, \"Bar\", \"\", \"Open\", $M$2, $F261, $R$2,$Q$2,,$O$2,$P$2)","v":4425.5},{"$f":" RTD(\"cqg.rtd\",,\"StudyData\", $N$2, \"Bar\", \"\", \"High\", $M$2, $F261, $R$2,$Q$2,,$O$2,$P$2)","v":4427.75},{"$f":" RTD(\"cqg.rtd\",,\"StudyData\", $N$2, \"Bar\", \"\", \"Low\", $M$2, $F261, $R$2,$Q$2,,$O$2,$P$2)","v":4423},{"$f":" RTD(\"cqg.rtd\",,\"StudyData\", $N$2, \"Bar\", \"\", \"Close\", $M$2, $F261, $R$2,$Q$2,,$O$2,$P$2)","v":4425},-260,null,44665.420138888891,{"$f":"RTD(\"cqg.rtd\",,\"StudyData\",$N$2, \"Vol\", \"VolType=Auto,CoCType=Auto\", \"Vol\", $M$2, $F261, $R$2,$Q$2,,$O$2,$P$2)","v":10081}]
[{"$f":" RTD(\"cqg.rtd\",,\"StudyData\", $N$2, \"Bar\", \"\", \"Time\", $M$2, $F262,$R$2,$Q$2, \"\",\"False\")","v":44665.416666666664},{"$f":" RTD(\"cqg.rtd\",,\"StudyData\", $N$2, \"Bar\", \"\", \"Open\", $M$2, $F262, $R$2,$Q$2,,$O$2,$P$2)","v":4422.25},{"$f":" RTD(\"cqg.rtd\",,\"StudyData\", $N$2, \"Bar\", \"\", \"High\", $M$2, $F262, $R$2,$Q$2,,$O$2,$P$2)","v":4427.5},{"$f":" RTD(\"cqg.rtd\",,\"StudyData\", $N$2, \"Bar\", \"\", \"Low\", $M$2, $F262, $R$2,$Q$2,,$O$2,$P$2)","v":4420},{"$f":" RTD(\"cqg.rtd\",,\"StudyData\", $N$2, \"Bar\", \"\", \"Close\", $M$2, $F262, $R$2,$Q$2,,$O$2,$P$2)","v":4425.5},-261,null,44665.416666666664,{"$f":"RTD(\"cqg.rtd\",,\"StudyData\",$N$2, \"Vol\", \"VolType=Auto,CoCType=Auto\", \"Vol\", $M$2, $F262, $R$2,$Q$2,,$O$2,$P$2)","v":10263}]
[{"$f":" RTD(\"cqg.rtd\",,\"StudyData\", $N$2, \"Bar\", \"\", \"Time\", $M$2, $F263,$R$2,$Q$2, \"\",\"False\")","v":44665.413194444445},{"$f":" RTD(\"cqg.rtd\",,\"StudyData\", $N$2, \"Bar\", \"\", \"Open\", $M$2, $F263, $R$2,$Q$2,,$O$2,$P$2)","v":4420.75},{"$f":" RTD(\"cqg.rtd\",,\"StudyData\", $N$2, \"Bar\", \"\", \"High\", $M$2, $F263, $R$2,$Q$2,,$O$2,$P$2)","v":4425.75},{"$f":" RTD(\"cqg.rtd\",,\"StudyData\", $N$2, \"Bar\", \"\", \"Low\", $M$2, $F263, $R$2,$Q$2,,$O$2,$P$2)","v":4420},{"$f":" RTD(\"cqg.rtd\",,\"StudyData\", $N$2, \"Bar\", \"\", \"Close\", $M$2, $F263, $R$2,$Q$2,,$O$2,$P$2)","v":4422.5},-262,null,44665.413194444445,{"$f":"RTD(\"cqg.rtd\",,\"StudyData\",$N$2, \"Vol\", \"VolType=Auto,CoCType=Auto\", \"Vol\", $M$2, $F263, $R$2,$Q$2,,$O$2,$P$2)","v":11639}]
[{"$f":" RTD(\"cqg.rtd\",,\"StudyData\", $N$2, \"Bar\", \"\", \"Time\", $M$2, $F264,$R$2,$Q$2, \"\",\"False\")","v":44665.409722222219},{"$f":" RTD(\"cqg.rtd\",,\"StudyData\", $N$2, \"Bar\", \"\", \"Open\", $M$2, $F264, $R$2,$Q$2,,$O$2,$P$2)","v":4422.25},{"$f":" RTD(\"cqg.rtd\",,\"StudyData\", $N$2, \"Bar\", \"\", \"High\", $M$2, $F264, $R$2,$Q$2,,$O$2,$P$2)","v":4422.5},{"$f":" RTD(\"cqg.rtd\",,\"StudyData\", $N$2, \"Bar\", \"\", \"Low\", $M$2, $F264, $R$2,$Q$2,,$O$2,$P$2)","v":4417},{"$f":" RTD(\"cqg.rtd\",,\"StudyData\", $N$2, \"Bar\", \"\", \"Close\", $M$2, $F264, $R$2,$Q$2,,$O$2,$P$2)","v":4421},-263,null,44665.409722222219,{"$f":"RTD(\"cqg.rtd\",,\"StudyData\",$N$2, \"Vol\", \"VolType=Auto,CoCType=Auto\", \"Vol\", $M$2, $F264, $R$2,$Q$2,,$O$2,$P$2)","v":13877}]
[{"$f":" RTD(\"cqg.rtd\",,\"StudyData\", $N$2, \"Bar\", \"\", \"Time\", $M$2, $F265,$R$2,$Q$2, \"\",\"False\")","v":44665.40625},{"$f":" RTD(\"cqg.rtd\",,\"StudyData\", $N$2, \"Bar\", \"\", \"Open\", $M$2, $F265, $R$2,$Q$2,,$O$2,$P$2)","v":4421.25},{"$f":" RTD(\"cqg.rtd\",,\"StudyData\", $N$2, \"Bar\", \"\", \"High\", $M$2, $F265, $R$2,$Q$2,,$O$2,$P$2)","v":4428.5},{"$f":" RTD(\"cqg.rtd\",,\"StudyData\", $N$2, \"Bar\", \"\", \"Low\", $M$2, $F265, $R$2,$Q$2,,$O$2,$P$2)","v":4420.75},{"$f":" RTD(\"cqg.rtd\",,\"StudyData\", $N$2, \"Bar\", \"\", \"Close\", $M$2, $F265, $R$2,$Q$2,,$O$2,$P$2)","v":4422.5},-264,null,44665.40625,{"$f":"RTD(\"cqg.rtd\",,\"StudyData\",$N$2, \"Vol\", \"VolType=Auto,CoCType=Auto\", \"Vol\", $M$2, $F265, $R$2,$Q$2,,$O$2,$P$2)","v":12824}]
[{"$f":" RTD(\"cqg.rtd\",,\"StudyData\", $N$2, \"Bar\", \"\", \"Time\", $M$2, $F266,$R$2,$Q$2, \"\",\"False\")","v":44665.402777777781},{"$f":" RTD(\"cqg.rtd\",,\"StudyData\", $N$2, \"Bar\", \"\", \"Open\", $M$2, $F266, $R$2,$Q$2,,$O$2,$P$2)","v":4420.5},{"$f":" RTD(\"cqg.rtd\",,\"StudyData\", $N$2, \"Bar\", \"\", \"High\", $M$2, $F266, $R$2,$Q$2,,$O$2,$P$2)","v":4424.5},{"$f":" RTD(\"cqg.rtd\",,\"StudyData\", $N$2, \"Bar\", \"\", \"Low\", $M$2, $F266, $R$2,$Q$2,,$O$2,$P$2)","v":4418},{"$f":" RTD(\"cqg.rtd\",,\"StudyData\", $N$2, \"Bar\", \"\", \"Close\", $M$2, $F266, $R$2,$Q$2,,$O$2,$P$2)","v":4421},-265,null,44665.402777777781,{"$f":"RTD(\"cqg.rtd\",,\"StudyData\",$N$2, \"Vol\", \"VolType=Auto,CoCType=Auto\", \"Vol\", $M$2, $F266, $R$2,$Q$2,,$O$2,$P$2)","v":10829}]
[{"$f":" RTD(\"cqg.rtd\",,\"StudyData\", $N$2, \"Bar\", \"\", \"Time\", $M$2, $F267,$R$2,$Q$2, \"\",\"False\")","v":44665.399305555555},{"$f":" RTD(\"cqg.rtd\",,\"StudyData\", $N$2, \"Bar\", \"\", \"Open\", $M$2, $F267, $R$2,$Q$2,,$O$2,$P$2)","v":4424.75},{"$f":" RTD(\"cqg.rtd\",,\"StudyData\", $N$2, \"Bar\", \"\", \"High\", $M$2, $F267, $R$2,$Q$2,,$O$2,$P$2)","v":4427.25},{"$f":" RTD(\"cqg.rtd\",,\"StudyData\", $N$2, \"Bar\", \"\", \"Low\", $M$2, $F267, $R$2,$Q$2,,$O$2,$P$2)","v":4416.75},{"$f":" RTD(\"cqg.rtd\",,\"StudyData\", $N$2, \"Bar\", \"\", \"Close\", $M$2, $F267, $R$2,$Q$2,,$O$2,$P$2)","v":4420.5},-266,null,44665.399305555555,{"$f":"RTD(\"cqg.rtd\",,\"StudyData\",$N$2, \"Vol\", \"VolType=Auto,CoCType=Auto\", \"Vol\", $M$2, $F267, $R$2,$Q$2,,$O$2,$P$2)","v":14881}]
[{"$f":" RTD(\"cqg.rtd\",,\"StudyData\", $N$2, \"Bar\", \"\", \"Time\", $M$2, $F268,$R$2,$Q$2, \"\",\"False\")","v":44665.395833333336},{"$f":" RTD(\"cqg.rtd\",,\"StudyData\", $N$2, \"Bar\", \"\", \"Open\", $M$2, $F268, $R$2,$Q$2,,$O$2,$P$2)","v":4421.5},{"$f":" RTD(\"cqg.rtd\",,\"StudyData\", $N$2, \"Bar\", \"\", \"High\", $M$2, $F268, $R$2,$Q$2,,$O$2,$P$2)","v":4427.75},{"$f":" RTD(\"cqg.rtd\",,\"StudyData\", $N$2, \"Bar\", \"\", \"Low\", $M$2, $F268, $R$2,$Q$2,,$O$2,$P$2)","v":4419.75},{"$f":" RTD(\"cqg.rtd\",,\"StudyData\", $N$2, \"Bar\", \"\", \"Close\", $M$2, $F268, $R$2,$Q$2,,$O$2,$P$2)","v":4424.75},-267,null,44665.395833333336,{"$f":"RTD(\"cqg.rtd\",,\"StudyData\",$N$2, \"Vol\", \"VolType=Auto,CoCType=Auto\", \"Vol\", $M$2, $F268, $R$2,$Q$2,,$O$2,$P$2)","v":15281}]
[{"$f":" RTD(\"cqg.rtd\",,\"StudyData\", $N$2, \"Bar\", \"\", \"Time\", $M$2, $F269,$R$2,$Q$2, \"\",\"False\")","v":44665.392361111109},{"$f":" RTD(\"cqg.rtd\",,\"StudyData\", $N$2, \"Bar\", \"\", \"Open\", $M$2, $F269, $R$2,$Q$2,,$O$2,$P$2)","v":4420.75},{"$f":" RTD(\"cqg.rtd\",,\"StudyData\", $N$2, \"Bar\", \"\", \"High\", $M$2, $F269, $R$2,$Q$2,,$O$2,$P$2)","v":4423.75},{"$f":" RTD(\"cqg.rtd\",,\"StudyData\", $N$2, \"Bar\", \"\", \"Low\", $M$2, $F269, $R$2,$Q$2,,$O$2,$P$2)","v":4418},{"$f":" RTD(\"cqg.rtd\",,\"StudyData\", $N$2, \"Bar\", \"\", \"Close\", $M$2, $F269, $R$2,$Q$2,,$O$2,$P$2)","v":4421.25},-268,null,44665.392361111109,{"$f":"RTD(\"cqg.rtd\",,\"StudyData\",$N$2, \"Vol\", \"VolType=Auto,CoCType=Auto\", \"Vol\", $M$2, $F269, $R$2,$Q$2,,$O$2,$P$2)","v":11776}]
[{"$f":" RTD(\"cqg.rtd\",,\"StudyData\", $N$2, \"Bar\", \"\", \"Time\", $M$2, $F270,$R$2,$Q$2, \"\",\"False\")","v":44665.388888888891},{"$f":" RTD(\"cqg.rtd\",,\"StudyData\", $N$2, \"Bar\", \"\", \"Open\", $M$2, $F270, $R$2,$Q$2,,$O$2,$P$2)","v":4419.25},{"$f":" RTD(\"cqg.rtd\",,\"StudyData\", $N$2, \"Bar\", \"\", \"High\", $M$2, $F270, $R$2,$Q$2,,$O$2,$P$2)","v":4425.5},{"$f":" RTD(\"cqg.rtd\",,\"StudyData\", $N$2, \"Bar\", \"\", \"Low\", $M$2, $F270, $R$2,$Q$2,,$O$2,$P$2)","v":4417.25},{"$f":" RTD(\"cqg.rtd\",,\"StudyData\", $N$2, \"Bar\", \"\", \"Close\", $M$2, $F270, $R$2,$Q$2,,$O$2,$P$2)","v":4420.75},-269,null,44665.388888888891,{"$f":"RTD(\"cqg.rtd\",,\"StudyData\",$N$2, \"Vol\", \"VolType=Auto,CoCType=Auto\", \"Vol\", $M$2, $F270, $R$2,$Q$2,,$O$2,$P$2)","v":14745}]
[{"$f":" RTD(\"cqg.rtd\",,\"StudyData\", $N$2, \"Bar\", \"\", \"Time\", $M$2, $F271,$R$2,$Q$2, \"\",\"False\")","v":44665.385416666664},{"$f":" RTD(\"cqg.rtd\",,\"StudyData\", $N$2, \"Bar\", \"\", \"Open\", $M$2, $F271, $R$2,$Q$2,,$O$2,$P$2)","v":4418.75},{"$f":" RTD(\"cqg.rtd\",,\"StudyData\", $N$2, \"Bar\", \"\", \"High\", $M$2, $F271, $R$2,$Q$2,,$O$2,$P$2)","v":4422.75},{"$f":" RTD(\"cqg.rtd\",,\"StudyData\", $N$2, \"Bar\", \"\", \"Low\", $M$2, $F271, $R$2,$Q$2,,$O$2,$P$2)","v":4415},{"$f":" RTD(\"cqg.rtd\",,\"StudyData\", $N$2, \"Bar\", \"\", \"Close\", $M$2, $F271, $R$2,$Q$2,,$O$2,$P$2)","v":4419.25},-270,null,44665.385416666664,{"$f":"RTD(\"cqg.rtd\",,\"StudyData\",$N$2, \"Vol\", \"VolType=Auto,CoCType=Auto\", \"Vol\", $M$2, $F271, $R$2,$Q$2,,$O$2,$P$2)","v":18872}]
[{"$f":" RTD(\"cqg.rtd\",,\"StudyData\", $N$2, \"Bar\", \"\", \"Time\", $M$2, $F272,$R$2,$Q$2, \"\",\"False\")","v":44665.381944444445},{"$f":" RTD(\"cqg.rtd\",,\"StudyData\", $N$2, \"Bar\", \"\", \"Open\", $M$2, $F272, $R$2,$Q$2,,$O$2,$P$2)","v":4417},{"$f":" RTD(\"cqg.rtd\",,\"StudyData\", $N$2, \"Bar\", \"\", \"High\", $M$2, $F272, $R$2,$Q$2,,$O$2,$P$2)","v":4421.25},{"$f":" RTD(\"cqg.rtd\",,\"StudyData\", $N$2, \"Bar\", \"\", \"Low\", $M$2, $F272, $R$2,$Q$2,,$O$2,$P$2)","v":4414.25},{"$f":" RTD(\"cqg.rtd\",,\"StudyData\", $N$2, \"Bar\", \"\", \"Close\", $M$2, $F272, $R$2,$Q$2,,$O$2,$P$2)","v":4418.75},-271,null,44665.381944444445,{"$f":"RTD(\"cqg.rtd\",,\"StudyData\",$N$2, \"Vol\", \"VolType=Auto,CoCType=Auto\", \"Vol\", $M$2, $F272, $R$2,$Q$2,,$O$2,$P$2)","v":22191}]
[{"$f":" RTD(\"cqg.rtd\",,\"StudyData\", $N$2, \"Bar\", \"\", \"Time\", $M$2, $F273,$R$2,$Q$2, \"\",\"False\")","v":44665.378472222219},{"$f":" RTD(\"cqg.rtd\",,\"StudyData\", $N$2, \"Bar\", \"\", \"Open\", $M$2, $F273, $R$2,$Q$2,,$O$2,$P$2)","v":4434.25},{"$f":" RTD(\"cqg.rtd\",,\"StudyData\", $N$2, \"Bar\", \"\", \"High\", $M$2, $F273, $R$2,$Q$2,,$O$2,$P$2)","v":4434.25},{"$f":" RTD(\"cqg.rtd\",,\"StudyData\", $N$2, \"Bar\", \"\", \"Low\", $M$2, $F273, $R$2,$Q$2,,$O$2,$P$2)","v":4413.75},{"$f":" RTD(\"cqg.rtd\",,\"StudyData\", $N$2, \"Bar\", \"\", \"Close\", $M$2, $F273, $R$2,$Q$2,,$O$2,$P$2)","v":4417},-272,null,44665.378472222219,{"$f":"RTD(\"cqg.rtd\",,\"StudyData\",$N$2, \"Vol\", \"VolType=Auto,CoCType=Auto\", \"Vol\", $M$2, $F273, $R$2,$Q$2,,$O$2,$P$2)","v":45652}]
[{"$f":" RTD(\"cqg.rtd\",,\"StudyData\", $N$2, \"Bar\", \"\", \"Time\", $M$2, $F274,$R$2,$Q$2, \"\",\"False\")","v":44665.375},{"$f":" RTD(\"cqg.rtd\",,\"StudyData\", $N$2, \"Bar\", \"\", \"Open\", $M$2, $F274, $R$2,$Q$2,,$O$2,$P$2)","v":4429.75},{"$f":" RTD(\"cqg.rtd\",,\"StudyData\", $N$2, \"Bar\", \"\", \"High\", $M$2, $F274, $R$2,$Q$2,,$O$2,$P$2)","v":4437.75},{"$f":" RTD(\"cqg.rtd\",,\"StudyData\", $N$2, \"Bar\", \"\", \"Low\", $M$2, $F274, $R$2,$Q$2,,$O$2,$P$2)","v":4428.75},{"$f":" RTD(\"cqg.rtd\",,\"StudyData\", $N$2, \"Bar\", \"\", \"Close\", $M$2, $F274, $R$2,$Q$2,,$O$2,$P$2)","v":4434.25},-273,null,44665.375,{"$f":"RTD(\"cqg.rtd\",,\"StudyData\",$N$2, \"Vol\", \"VolType=Auto,CoCType=Auto\", \"Vol\", $M$2, $F274, $R$2,$Q$2,,$O$2,$P$2)","v":21299}]
[{"$f":" RTD(\"cqg.rtd\",,\"StudyData\", $N$2, \"Bar\", \"\", \"Time\", $M$2, $F275,$R$2,$Q$2, \"\",\"False\")","v":44665.371527777781},{"$f":" RTD(\"cqg.rtd\",,\"StudyData\", $N$2, \"Bar\", \"\", \"Open\", $M$2, $F275, $R$2,$Q$2,,$O$2,$P$2)","v":4429.25},{"$f":" RTD(\"cqg.rtd\",,\"StudyData\", $N$2, \"Bar\", \"\", \"High\", $M$2, $F275, $R$2,$Q$2,,$O$2,$P$2)","v":4431.75},{"$f":" RTD(\"cqg.rtd\",,\"StudyData\", $N$2, \"Bar\", \"\", \"Low\", $M$2, $F275, $R$2,$Q$2,,$O$2,$P$2)","v":4426.75},{"$f":" RTD(\"cqg.rtd\",,\"StudyData\", $N$2, \"Bar\", \"\", \"Close\", $M$2, $F275, $R$2,$Q$2,,$O$2,$P$2)","v":4429.25},-274,null,44665.371527777781,{"$f":"RTD(\"cqg.rtd\",,\"StudyData\",$N$2, \"Vol\", \"VolType=Auto,CoCType=Auto\", \"Vol\", $M$2, $F275, $R$2,$Q$2,,$O$2,$P$2)","v":13803}]
[{"$f":" RTD(\"cqg.rtd\",,\"StudyData\", $N$2, \"Bar\", \"\", \"Time\", $M$2, $F276,$R$2,$Q$2, \"\",\"False\")","v":44665.368055555555},{"$f":" RTD(\"cqg.rtd\",,\"StudyData\", $N$2, \"Bar\", \"\", \"Open\", $M$2, $F276, $R$2,$Q$2,,$O$2,$P$2)","v":4433.25},{"$f":" RTD(\"cqg.rtd\",,\"StudyData\", $N$2, \"Bar\", \"\", \"High\", $M$2, $F276, $R$2,$Q$2,,$O$2,$P$2)","v":4434},{"$f":" RTD(\"cqg.rtd\",,\"StudyData\", $N$2, \"Bar\", \"\", \"Low\", $M$2, $F276, $R$2,$Q$2,,$O$2,$P$2)","v":4425},{"$f":" RTD(\"cqg.rtd\",,\"StudyData\", $N$2, \"Bar\", \"\", \"Close\", $M$2, $F276, $R$2,$Q$2,,$O$2,$P$2)","v":4429.25},-275,null,44665.368055555555,{"$f":"RTD(\"cqg.rtd\",,\"StudyData\",$N$2, \"Vol\", \"VolType=Auto,CoCType=Auto\", \"Vol\", $M$2, $F276, $R$2,$Q$2,,$O$2,$P$2)","v":22604}]
[{"$f":" RTD(\"cqg.rtd\",,\"StudyData\", $N$2, \"Bar\", \"\", \"Time\", $M$2, $F277,$R$2,$Q$2, \"\",\"False\")","v":44665.364583333336},{"$f":" RTD(\"cqg.rtd\",,\"StudyData\", $N$2, \"Bar\", \"\", \"Open\", $M$2, $F277, $R$2,$Q$2,,$O$2,$P$2)","v":4435.5},{"$f":" RTD(\"cqg.rtd\",,\"StudyData\", $N$2, \"Bar\", \"\", \"High\", $M$2, $F277, $R$2,$Q$2,,$O$2,$P$2)","v":4439.25},{"$f":" RTD(\"cqg.rtd\",,\"StudyData\", $N$2, \"Bar\", \"\", \"Low\", $M$2, $F277, $R$2,$Q$2,,$O$2,$P$2)","v":4430.5},{"$f":" RTD(\"cqg.rtd\",,\"StudyData\", $N$2, \"Bar\", \"\", \"Close\", $M$2, $F277, $R$2,$Q$2,,$O$2,$P$2)","v":4433.25},-276,null,44665.364583333336,{"$f":"RTD(\"cqg.rtd\",,\"StudyData\",$N$2, \"Vol\", \"VolType=Auto,CoCType=Auto\", \"Vol\", $M$2, $F277, $R$2,$Q$2,,$O$2,$P$2)","v":22978}]
[{"$f":" RTD(\"cqg.rtd\",,\"StudyData\", $N$2, \"Bar\", \"\", \"Time\", $M$2, $F278,$R$2,$Q$2, \"\",\"False\")","v":44665.361111111109},{"$f":" RTD(\"cqg.rtd\",,\"StudyData\", $N$2, \"Bar\", \"\", \"Open\", $M$2, $F278, $R$2,$Q$2,,$O$2,$P$2)","v":4446.25},{"$f":" RTD(\"cqg.rtd\",,\"StudyData\", $N$2, \"Bar\", \"\", \"High\", $M$2, $F278, $R$2,$Q$2,,$O$2,$P$2)","v":4447.5},{"$f":" RTD(\"cqg.rtd\",,\"StudyData\", $N$2, \"Bar\", \"\", \"Low\", $M$2, $F278, $R$2,$Q$2,,$O$2,$P$2)","v":4435.25},{"$f":" RTD(\"cqg.rtd\",,\"StudyData\", $N$2, \"Bar\", \"\", \"Close\", $M$2, $F278, $R$2,$Q$2,,$O$2,$P$2)","v":4435.75},-277,null,44665.361111111109,{"$f":"RTD(\"cqg.rtd\",,\"StudyData\",$N$2, \"Vol\", \"VolType=Auto,CoCType=Auto\", \"Vol\", $M$2, $F278, $R$2,$Q$2,,$O$2,$P$2)","v":27581}]
[{"$f":" RTD(\"cqg.rtd\",,\"StudyData\", $N$2, \"Bar\", \"\", \"Time\", $M$2, $F279,$R$2,$Q$2, \"\",\"False\")","v":44665.357638888891},{"$f":" RTD(\"cqg.rtd\",,\"StudyData\", $N$2, \"Bar\", \"\", \"Open\", $M$2, $F279, $R$2,$Q$2,,$O$2,$P$2)","v":4451.75},{"$f":" RTD(\"cqg.rtd\",,\"StudyData\", $N$2, \"Bar\", \"\", \"High\", $M$2, $F279, $R$2,$Q$2,,$O$2,$P$2)","v":4455.75},{"$f":" RTD(\"cqg.rtd\",,\"StudyData\", $N$2, \"Bar\", \"\", \"Low\", $M$2, $F279, $R$2,$Q$2,,$O$2,$P$2)","v":4445.25},{"$f":" RTD(\"cqg.rtd\",,\"StudyData\", $N$2, \"Bar\", \"\", \"Close\", $M$2, $F279, $R$2,$Q$2,,$O$2,$P$2)","v":4446.25},-278,null,44665.357638888891,{"$f":"RTD(\"cqg.rtd\",,\"StudyData\",$N$2, \"Vol\", \"VolType=Auto,CoCType=Auto\", \"Vol\", $M$2, $F279, $R$2,$Q$2,,$O$2,$P$2)","v":35468}]
[{"$f":" RTD(\"cqg.rtd\",,\"StudyData\", $N$2, \"Bar\", \"\", \"Time\", $M$2, $F280,$R$2,$Q$2, \"\",\"False\")","v":44665.354166666664},{"$f":" RTD(\"cqg.rtd\",,\"StudyData\", $N$2, \"Bar\", \"\", \"Open\", $M$2, $F280, $R$2,$Q$2,,$O$2,$P$2)","v":4444},{"$f":" RTD(\"cqg.rtd\",,\"StudyData\", $N$2, \"Bar\", \"\", \"High\", $M$2, $F280, $R$2,$Q$2,,$O$2,$P$2)","v":4452},{"$f":" RTD(\"cqg.rtd\",,\"StudyData\", $N$2, \"Bar\", \"\", \"Low\", $M$2, $F280, $R$2,$Q$2,,$O$2,$P$2)","v":4443.5},{"$f":" RTD(\"cqg.rtd\",,\"StudyData\", $N$2, \"Bar\", \"\", \"Close\", $M$2, $F280, $R$2,$Q$2,,$O$2,$P$2)","v":4451.5},-279,null,44665.354166666664,{"$f":"RTD(\"cqg.rtd\",,\"StudyData\",$N$2, \"Vol\", \"VolType=Auto,CoCType=Auto\", \"Vol\", $M$2, $F280, $R$2,$Q$2,,$O$2,$P$2)","v":41486}]
[{"$f":" RTD(\"cqg.rtd\",,\"StudyData\", $N$2, \"Bar\", \"\", \"Time\", $M$2, $F281,$R$2,$Q$2, \"\",\"False\")","v":44665.350694444445},{"$f":" RTD(\"cqg.rtd\",,\"StudyData\", $N$2, \"Bar\", \"\", \"Open\", $M$2, $F281, $R$2,$Q$2,,$O$2,$P$2)","v":4436},{"$f":" RTD(\"cqg.rtd\",,\"StudyData\", $N$2, \"Bar\", \"\", \"High\", $M$2, $F281, $R$2,$Q$2,,$O$2,$P$2)","v":4444.5},{"$f":" RTD(\"cqg.rtd\",,\"StudyData\", $N$2, \"Bar\", \"\", \"Low\", $M$2, $F281, $R$2,$Q$2,,$O$2,$P$2)","v":4435.75},{"$f":" RTD(\"cqg.rtd\",,\"StudyData\", $N$2, \"Bar\", \"\", \"Close\", $M$2, $F281, $R$2,$Q$2,,$O$2,$P$2)","v":4443.75},-280,null,44665.350694444445,{"$f":"RTD(\"cqg.rtd\",,\"StudyData\",$N$2, \"Vol\", \"VolType=Auto,CoCType=Auto\", \"Vol\", $M$2, $F281, $R$2,$Q$2,,$O$2,$P$2)","v":18181}]
[{"$f":" RTD(\"cqg.rtd\",,\"StudyData\", $N$2, \"Bar\", \"\", \"Time\", $M$2, $F282,$R$2,$Q$2, \"\",\"False\")","v":44665.347222222219},{"$f":" RTD(\"cqg.rtd\",,\"StudyData\", $N$2, \"Bar\", \"\", \"Open\", $M$2, $F282, $R$2,$Q$2,,$O$2,$P$2)","v":4436.5},{"$f":" RTD(\"cqg.rtd\",,\"StudyData\", $N$2, \"Bar\", \"\", \"High\", $M$2, $F282, $R$2,$Q$2,,$O$2,$P$2)","v":4437.75},{"$f":" RTD(\"cqg.rtd\",,\"StudyData\", $N$2, \"Bar\", \"\", \"Low\", $M$2, $F282, $R$2,$Q$2,,$O$2,$P$2)","v":4435.75},{"$f":" RTD(\"cqg.rtd\",,\"StudyData\", $N$2, \"Bar\", \"\", \"Close\", $M$2, $F282, $R$2,$Q$2,,$O$2,$P$2)","v":4436},-281,null,44665.347222222219,{"$f":"RTD(\"cqg.rtd\",,\"StudyData\",$N$2, \"Vol\", \"VolType=Auto,CoCType=Auto\", \"Vol\", $M$2, $F282, $R$2,$Q$2,,$O$2,$P$2)","v":5035}]
[{"$f":" RTD(\"cqg.rtd\",,\"StudyData\", $N$2, \"Bar\", \"\", \"Time\", $M$2, $F283,$R$2,$Q$2, \"\",\"False\")","v":44665.34375},{"$f":" RTD(\"cqg.rtd\",,\"StudyData\", $N$2, \"Bar\", \"\", \"Open\", $M$2, $F283, $R$2,$Q$2,,$O$2,$P$2)","v":4432},{"$f":" RTD(\"cqg.rtd\",,\"StudyData\", $N$2, \"Bar\", \"\", \"High\", $M$2, $F283, $R$2,$Q$2,,$O$2,$P$2)","v":4436.5},{"$f":" RTD(\"cqg.rtd\",,\"StudyData\", $N$2, \"Bar\", \"\", \"Low\", $M$2, $F283, $R$2,$Q$2,,$O$2,$P$2)","v":4431.5},{"$f":" RTD(\"cqg.rtd\",,\"StudyData\", $N$2, \"Bar\", \"\", \"Close\", $M$2, $F283, $R$2,$Q$2,,$O$2,$P$2)","v":4436.5},-282,null,44665.34375,{"$f":"RTD(\"cqg.rtd\",,\"StudyData\",$N$2, \"Vol\", \"VolType=Auto,CoCType=Auto\", \"Vol\", $M$2, $F283, $R$2,$Q$2,,$O$2,$P$2)","v":7027}]
[{"$f":" RTD(\"cqg.rtd\",,\"StudyData\", $N$2, \"Bar\", \"\", \"Time\", $M$2, $F284,$R$2,$Q$2, \"\",\"False\")","v":44665.340277777781},{"$f":" RTD(\"cqg.rtd\",,\"StudyData\", $N$2, \"Bar\", \"\", \"Open\", $M$2, $F284, $R$2,$Q$2,,$O$2,$P$2)","v":4432.5},{"$f":" RTD(\"cqg.rtd\",,\"StudyData\", $N$2, \"Bar\", \"\", \"High\", $M$2, $F284, $R$2,$Q$2,,$O$2,$P$2)","v":4433.25},{"$f":" RTD(\"cqg.rtd\",,\"StudyData\", $N$2, \"Bar\", \"\", \"Low\", $M$2, $F284, $R$2,$Q$2,,$O$2,$P$2)","v":4431},{"$f":" RTD(\"cqg.rtd\",,\"StudyData\", $N$2, \"Bar\", \"\", \"Close\", $M$2, $F284, $R$2,$Q$2,,$O$2,$P$2)","v":4432.25},-283,null,44665.340277777781,{"$f":"RTD(\"cqg.rtd\",,\"StudyData\",$N$2, \"Vol\", \"VolType=Auto,CoCType=Auto\", \"Vol\", $M$2, $F284, $R$2,$Q$2,,$O$2,$P$2)","v":3034}]
[{"$f":" RTD(\"cqg.rtd\",,\"StudyData\", $N$2, \"Bar\", \"\", \"Time\", $M$2, $F285,$R$2,$Q$2, \"\",\"False\")","v":44665.336805555555},{"$f":" RTD(\"cqg.rtd\",,\"StudyData\", $N$2, \"Bar\", \"\", \"Open\", $M$2, $F285, $R$2,$Q$2,,$O$2,$P$2)","v":4432.5},{"$f":" RTD(\"cqg.rtd\",,\"StudyData\", $N$2, \"Bar\", \"\", \"High\", $M$2, $F285, $R$2,$Q$2,,$O$2,$P$2)","v":4433},{"$f":" RTD(\"cqg.rtd\",,\"StudyData\", $N$2, \"Bar\", \"\", \"Low\", $M$2, $F285, $R$2,$Q$2,,$O$2,$P$2)","v":4430.5},{"$f":" RTD(\"cqg.rtd\",,\"StudyData\", $N$2, \"Bar\", \"\", \"Close\", $M$2, $F285, $R$2,$Q$2,,$O$2,$P$2)","v":4432.5},-284,null,44665.336805555555,{"$f":"RTD(\"cqg.rtd\",,\"StudyData\",$N$2, \"Vol\", \"VolType=Auto,CoCType=Auto\", \"Vol\", $M$2, $F285, $R$2,$Q$2,,$O$2,$P$2)","v":4441}]
[{"$f":" RTD(\"cqg.rtd\",,\"StudyData\", $N$2, \"Bar\", \"\", \"Time\", $M$2, $F286,$R$2,$Q$2, \"\",\"False\")","v":44665.333333333336},{"$f":" RTD(\"cqg.rtd\",,\"StudyData\", $N$2, \"Bar\", \"\", \"Open\", $M$2, $F286, $R$2,$Q$2,,$O$2,$P$2)","v":4430.75},{"$f":" RTD(\"cqg.rtd\",,\"StudyData\", $N$2, \"Bar\", \"\", \"High\", $M$2, $F286, $R$2,$Q$2,,$O$2,$P$2)","v":4432.75},{"$f":" RTD(\"cqg.rtd\",,\"StudyData\", $N$2, \"Bar\", \"\", \"Low\", $M$2, $F286, $R$2,$Q$2,,$O$2,$P$2)","v":4428.75},{"$f":" RTD(\"cqg.rtd\",,\"StudyData\", $N$2, \"Bar\", \"\", \"Close\", $M$2, $F286, $R$2,$Q$2,,$O$2,$P$2)","v":4432.5},-285,null,44665.333333333336,{"$f":"RTD(\"cqg.rtd\",,\"StudyData\",$N$2, \"Vol\", \"VolType=Auto,CoCType=Auto\", \"Vol\", $M$2, $F286, $R$2,$Q$2,,$O$2,$P$2)","v":5787}]
[{"$f":" RTD(\"cqg.rtd\",,\"StudyData\", $N$2, \"Bar\", \"\", \"Time\", $M$2, $F287,$R$2,$Q$2, \"\",\"False\")","v":44665.329861111109},{"$f":" RTD(\"cqg.rtd\",,\"StudyData\", $N$2, \"Bar\", \"\", \"Open\", $M$2, $F287, $R$2,$Q$2,,$O$2,$P$2)","v":4432.75},{"$f":" RTD(\"cqg.rtd\",,\"StudyData\", $N$2, \"Bar\", \"\", \"High\", $M$2, $F287, $R$2,$Q$2,,$O$2,$P$2)","v":4434},{"$f":" RTD(\"cqg.rtd\",,\"StudyData\", $N$2, \"Bar\", \"\", \"Low\", $M$2, $F287, $R$2,$Q$2,,$O$2,$P$2)","v":4430},{"$f":" RTD(\"cqg.rtd\",,\"StudyData\", $N$2, \"Bar\", \"\", \"Close\", $M$2, $F287, $R$2,$Q$2,,$O$2,$P$2)","v":4430.75},-286,null,44665.329861111109,{"$f":"RTD(\"cqg.rtd\",,\"StudyData\",$N$2, \"Vol\", \"VolType=Auto,CoCType=Auto\", \"Vol\", $M$2, $F287, $R$2,$Q$2,,$O$2,$P$2)","v":4277}]
[{"$f":" RTD(\"cqg.rtd\",,\"StudyData\", $N$2, \"Bar\", \"\", \"Time\", $M$2, $F288,$R$2,$Q$2, \"\",\"False\")","v":44665.326388888891},{"$f":" RTD(\"cqg.rtd\",,\"StudyData\", $N$2, \"Bar\", \"\", \"Open\", $M$2, $F288, $R$2,$Q$2,,$O$2,$P$2)","v":4433},{"$f":" RTD(\"cqg.rtd\",,\"StudyData\", $N$2, \"Bar\", \"\", \"High\", $M$2, $F288, $R$2,$Q$2,,$O$2,$P$2)","v":4434.5},{"$f":" RTD(\"cqg.rtd\",,\"StudyData\", $N$2, \"Bar\", \"\", \"Low\", $M$2, $F288, $R$2,$Q$2,,$O$2,$P$2)","v":4431.75},{"$f":" RTD(\"cqg.rtd\",,\"StudyData\", $N$2, \"Bar\", \"\", \"Close\", $M$2, $F288, $R$2,$Q$2,,$O$2,$P$2)","v":4432.75},-287,null,44665.326388888891,{"$f":"RTD(\"cqg.rtd\",,\"StudyData\",$N$2, \"Vol\", \"VolType=Auto,CoCType=Auto\", \"Vol\", $M$2, $F288, $R$2,$Q$2,,$O$2,$P$2)","v":2951}]
[{"$f":" RTD(\"cqg.rtd\",,\"StudyData\", $N$2, \"Bar\", \"\", \"Time\", $M$2, $F289,$R$2,$Q$2, \"\",\"False\")","v":44665.322916666664},{"$f":" RTD(\"cqg.rtd\",,\"StudyData\", $N$2, \"Bar\", \"\", \"Open\", $M$2, $F289, $R$2,$Q$2,,$O$2,$P$2)","v":4434.75},{"$f":" RTD(\"cqg.rtd\",,\"StudyData\", $N$2, \"Bar\", \"\", \"High\", $M$2, $F289, $R$2,$Q$2,,$O$2,$P$2)","v":4436.5},{"$f":" RTD(\"cqg.rtd\",,\"StudyData\", $N$2, \"Bar\", \"\", \"Low\", $M$2, $F289, $R$2,$Q$2,,$O$2,$P$2)","v":4431.5},{"$f":" RTD(\"cqg.rtd\",,\"StudyData\", $N$2, \"Bar\", \"\", \"Close\", $M$2, $F289, $R$2,$Q$2,,$O$2,$P$2)","v":4432.75},-288,null,44665.322916666664,{"$f":"RTD(\"cqg.rtd\",,\"StudyData\",$N$2, \"Vol\", \"VolType=Auto,CoCType=Auto\", \"Vol\", $M$2, $F289, $R$2,$Q$2,,$O$2,$P$2)","v":4078}]
[{"$f":" RTD(\"cqg.rtd\",,\"StudyData\", $N$2, \"Bar\", \"\", \"Time\", $M$2, $F290,$R$2,$Q$2, \"\",\"False\")","v":44665.319444444445},{"$f":" RTD(\"cqg.rtd\",,\"StudyData\", $N$2, \"Bar\", \"\", \"Open\", $M$2, $F290, $R$2,$Q$2,,$O$2,$P$2)","v":4434.75},{"$f":" RTD(\"cqg.rtd\",,\"StudyData\", $N$2, \"Bar\", \"\", \"High\", $M$2, $F290, $R$2,$Q$2,,$O$2,$P$2)","v":4435.75},{"$f":" RTD(\"cqg.rtd\",,\"StudyData\", $N$2, \"Bar\", \"\", \"Low\", $M$2, $F290, $R$2,$Q$2,,$O$2,$P$2)","v":4432},{"$f":" RTD(\"cqg.rtd\",,\"StudyData\", $N$2, \"Bar\", \"\", \"Close\", $M$2, $F290, $R$2,$Q$2,,$O$2,$P$2)","v":4434.75},-289,null,44665.319444444445,{"$f":"RTD(\"cqg.rtd\",,\"StudyData\",$N$2, \"Vol\", \"VolType=Auto,CoCType=Auto\", \"Vol\", $M$2, $F290, $R$2,$Q$2,,$O$2,$P$2)","v":4344}]
[{"$f":" RTD(\"cqg.rtd\",,\"StudyData\", $N$2, \"Bar\", \"\", \"Time\", $M$2, $F291,$R$2,$Q$2, \"\",\"False\")","v":44665.315972222219},{"$f":" RTD(\"cqg.rtd\",,\"StudyData\", $N$2, \"Bar\", \"\", \"Open\", $M$2, $F291, $R$2,$Q$2,,$O$2,$P$2)","v":4437.25},{"$f":" RTD(\"cqg.rtd\",,\"StudyData\", $N$2, \"Bar\", \"\", \"High\", $M$2, $F291, $R$2,$Q$2,,$O$2,$P$2)","v":4437.75},{"$f":" RTD(\"cqg.rtd\",,\"StudyData\", $N$2, \"Bar\", \"\", \"Low\", $M$2, $F291, $R$2,$Q$2,,$O$2,$P$2)","v":4434.5},{"$f":" RTD(\"cqg.rtd\",,\"StudyData\", $N$2, \"Bar\", \"\", \"Close\", $M$2, $F291, $R$2,$Q$2,,$O$2,$P$2)","v":4434.75},-290,null,44665.315972222219,{"$f":"RTD(\"cqg.rtd\",,\"StudyData\",$N$2, \"Vol\", \"VolType=Auto,CoCType=Auto\", \"Vol\", $M$2, $F291, $R$2,$Q$2,,$O$2,$P$2)","v":4372}]
[{"$f":" RTD(\"cqg.rtd\",,\"StudyData\", $N$2, \"Bar\", \"\", \"Time\", $M$2, $F292,$R$2,$Q$2, \"\",\"False\")","v":44665.3125},{"$f":" RTD(\"cqg.rtd\",,\"StudyData\", $N$2, \"Bar\", \"\", \"Open\", $M$2, $F292, $R$2,$Q$2,,$O$2,$P$2)","v":4439.5},{"$f":" RTD(\"cqg.rtd\",,\"StudyData\", $N$2, \"Bar\", \"\", \"High\", $M$2, $F292, $R$2,$Q$2,,$O$2,$P$2)","v":4442},{"$f":" RTD(\"cqg.rtd\",,\"StudyData\", $N$2, \"Bar\", \"\", \"Low\", $M$2, $F292, $R$2,$Q$2,,$O$2,$P$2)","v":4436},{"$f":" RTD(\"cqg.rtd\",,\"StudyData\", $N$2, \"Bar\", \"\", \"Close\", $M$2, $F292, $R$2,$Q$2,,$O$2,$P$2)","v":4437},-291,null,44665.3125,{"$f":"RTD(\"cqg.rtd\",,\"StudyData\",$N$2, \"Vol\", \"VolType=Auto,CoCType=Auto\", \"Vol\", $M$2, $F292, $R$2,$Q$2,,$O$2,$P$2)","v":4743}]
[{"$f":" RTD(\"cqg.rtd\",,\"StudyData\", $N$2, \"Bar\", \"\", \"Time\", $M$2, $F293,$R$2,$Q$2, \"\",\"False\")","v":44665.309027777781},{"$f":" RTD(\"cqg.rtd\",,\"StudyData\", $N$2, \"Bar\", \"\", \"Open\", $M$2, $F293, $R$2,$Q$2,,$O$2,$P$2)","v":4440.25},{"$f":" RTD(\"cqg.rtd\",,\"StudyData\", $N$2, \"Bar\", \"\", \"High\", $M$2, $F293, $R$2,$Q$2,,$O$2,$P$2)","v":4441.75},{"$f":" RTD(\"cqg.rtd\",,\"StudyData\", $N$2, \"Bar\", \"\", \"Low\", $M$2, $F293, $R$2,$Q$2,,$O$2,$P$2)","v":4439.5},{"$f":" RTD(\"cqg.rtd\",,\"StudyData\", $N$2, \"Bar\", \"\", \"Close\", $M$2, $F293, $R$2,$Q$2,,$O$2,$P$2)","v":4439.5},-292,null,44665.309027777781,{"$f":"RTD(\"cqg.rtd\",,\"StudyData\",$N$2, \"Vol\", \"VolType=Auto,CoCType=Auto\", \"Vol\", $M$2, $F293, $R$2,$Q$2,,$O$2,$P$2)","v":2958}]
[{"$f":" RTD(\"cqg.rtd\",,\"StudyData\", $N$2, \"Bar\", \"\", \"Time\", $M$2, $F294,$R$2,$Q$2, \"\",\"False\")","v":44665.305555555555},{"$f":" RTD(\"cqg.rtd\",,\"StudyData\", $N$2, \"Bar\", \"\", \"Open\", $M$2, $F294, $R$2,$Q$2,,$O$2,$P$2)","v":4440.25},{"$f":" RTD(\"cqg.rtd\",,\"StudyData\", $N$2, \"Bar\", \"\", \"High\", $M$2, $F294, $R$2,$Q$2,,$O$2,$P$2)","v":4441},{"$f":" RTD(\"cqg.rtd\",,\"StudyData\", $N$2, \"Bar\", \"\", \"Low\", $M$2, $F294, $R$2,$Q$2,,$O$2,$P$2)","v":4439.25},{"$f":" RTD(\"cqg.rtd\",,\"StudyData\", $N$2, \"Bar\", \"\", \"Close\", $M$2, $F294, $R$2,$Q$2,,$O$2,$P$2)","v":4440},-293,null,44665.305555555555,{"$f":"RTD(\"cqg.rtd\",,\"StudyData\",$N$2, \"Vol\", \"VolType=Auto,CoCType=Auto\", \"Vol\", $M$2, $F294, $R$2,$Q$2,,$O$2,$P$2)","v":2632}]
[{"$f":" RTD(\"cqg.rtd\",,\"StudyData\", $N$2, \"Bar\", \"\", \"Time\", $M$2, $F295,$R$2,$Q$2, \"\",\"False\")","v":44665.302083333336},{"$f":" RTD(\"cqg.rtd\",,\"StudyData\", $N$2, \"Bar\", \"\", \"Open\", $M$2, $F295, $R$2,$Q$2,,$O$2,$P$2)","v":4438.25},{"$f":" RTD(\"cqg.rtd\",,\"StudyData\", $N$2, \"Bar\", \"\", \"High\", $M$2, $F295, $R$2,$Q$2,,$O$2,$P$2)","v":4440.5},{"$f":" RTD(\"cqg.rtd\",,\"StudyData\", $N$2, \"Bar\", \"\", \"Low\", $M$2, $F295, $R$2,$Q$2,,$O$2,$P$2)","v":4437.25},{"$f":" RTD(\"cqg.rtd\",,\"StudyData\", $N$2, \"Bar\", \"\", \"Close\", $M$2, $F295, $R$2,$Q$2,,$O$2,$P$2)","v":4440.25},-294,null,44665.302083333336,{"$f":"RTD(\"cqg.rtd\",,\"StudyData\",$N$2, \"Vol\", \"VolType=Auto,CoCType=Auto\", \"Vol\", $M$2, $F295, $R$2,$Q$2,,$O$2,$P$2)","v":2220}]
[{"$f":" RTD(\"cqg.rtd\",,\"StudyData\", $N$2, \"Bar\", \"\", \"Time\", $M$2, $F296,$R$2,$Q$2, \"\",\"False\")","v":44665.298611111109},{"$f":" RTD(\"cqg.rtd\",,\"StudyData\", $N$2, \"Bar\", \"\", \"Open\", $M$2, $F296, $R$2,$Q$2,,$O$2,$P$2)","v":4437.25},{"$f":" RTD(\"cqg.rtd\",,\"StudyData\", $N$2, \"Bar\", \"\", \"High\", $M$2, $F296, $R$2,$Q$2,,$O$2,$P$2)","v":4439.25},{"$f":" RTD(\"cqg.rtd\",,\"StudyData\", $N$2, \"Bar\", \"\", \"Low\", $M$2, $F296, $R$2,$Q$2,,$O$2,$P$2)","v":4436.75},{"$f":" RTD(\"cqg.rtd\",,\"StudyData\", $N$2, \"Bar\", \"\", \"Close\", $M$2, $F296, $R$2,$Q$2,,$O$2,$P$2)","v":4438.25},-295,null,44665.298611111109,{"$f":"RTD(\"cqg.rtd\",,\"StudyData\",$N$2, \"Vol\", \"VolType=Auto,CoCType=Auto\", \"Vol\", $M$2, $F296, $R$2,$Q$2,,$O$2,$P$2)","v":1496}]
[{"$f":" RTD(\"cqg.rtd\",,\"StudyData\", $N$2, \"Bar\", \"\", \"Time\", $M$2, $F297,$R$2,$Q$2, \"\",\"False\")","v":44665.295138888891},{"$f":" RTD(\"cqg.rtd\",,\"StudyData\", $N$2, \"Bar\", \"\", \"Open\", $M$2, $F297, $R$2,$Q$2,,$O$2,$P$2)","v":4436.25},{"$f":" RTD(\"cqg.rtd\",,\"StudyData\", $N$2, \"Bar\", \"\", \"High\", $M$2, $F297, $R$2,$Q$2,,$O$2,$P$2)","v":4438},{"$f":" RTD(\"cqg.rtd\",,\"StudyData\", $N$2, \"Bar\", \"\", \"Low\", $M$2, $F297, $R$2,$Q$2,,$O$2,$P$2)","v":4436},{"$f":" RTD(\"cqg.rtd\",,\"StudyData\", $N$2, \"Bar\", \"\", \"Close\", $M$2, $F297, $R$2,$Q$2,,$O$2,$P$2)","v":4437.25},-296,null,44665.295138888891,{"$f":"RTD(\"cqg.rtd\",,\"StudyData\",$N$2, \"Vol\", \"VolType=Auto,CoCType=Auto\", \"Vol\", $M$2, $F297, $R$2,$Q$2,,$O$2,$P$2)","v":1296}]
[{"$f":" RTD(\"cqg.rtd\",,\"StudyData\", $N$2, \"Bar\", \"\", \"Time\", $M$2, $F298,$R$2,$Q$2, \"\",\"False\")","v":44665.291666666664},{"$f":" RTD(\"cqg.rtd\",,\"StudyData\", $N$2, \"Bar\", \"\", \"Open\", $M$2, $F298, $R$2,$Q$2,,$O$2,$P$2)","v":4434.25},{"$f":" RTD(\"cqg.rtd\",,\"StudyData\", $N$2, \"Bar\", \"\", \"High\", $M$2, $F298, $R$2,$Q$2,,$O$2,$P$2)","v":4437},{"$f":" RTD(\"cqg.rtd\",,\"StudyData\", $N$2, \"Bar\", \"\", \"Low\", $M$2, $F298, $R$2,$Q$2,,$O$2,$P$2)","v":4433},{"$f":" RTD(\"cqg.rtd\",,\"StudyData\", $N$2, \"Bar\", \"\", \"Close\", $M$2, $F298, $R$2,$Q$2,,$O$2,$P$2)","v":4436},-297,null,44665.291666666664,{"$f":"RTD(\"cqg.rtd\",,\"StudyData\",$N$2, \"Vol\", \"VolType=Auto,CoCType=Auto\", \"Vol\", $M$2, $F298, $R$2,$Q$2,,$O$2,$P$2)","v":2187}]
[{"$f":" RTD(\"cqg.rtd\",,\"StudyData\", $N$2, \"Bar\", \"\", \"Time\", $M$2, $F299,$R$2,$Q$2, \"\",\"False\")","v":44665.288194444445},{"$f":" RTD(\"cqg.rtd\",,\"StudyData\", $N$2, \"Bar\", \"\", \"Open\", $M$2, $F299, $R$2,$Q$2,,$O$2,$P$2)","v":4433},{"$f":" RTD(\"cqg.rtd\",,\"StudyData\", $N$2, \"Bar\", \"\", \"High\", $M$2, $F299, $R$2,$Q$2,,$O$2,$P$2)","v":4436.5},{"$f":" RTD(\"cqg.rtd\",,\"StudyData\", $N$2, \"Bar\", \"\", \"Low\", $M$2, $F299, $R$2,$Q$2,,$O$2,$P$2)","v":4432.5},{"$f":" RTD(\"cqg.rtd\",,\"StudyData\", $N$2, \"Bar\", \"\", \"Close\", $M$2, $F299, $R$2,$Q$2,,$O$2,$P$2)","v":4434.25},-298,null,44665.288194444445,{"$f":"RTD(\"cqg.rtd\",,\"StudyData\",$N$2, \"Vol\", \"VolType=Auto,CoCType=Auto\", \"Vol\", $M$2, $F299, $R$2,$Q$2,,$O$2,$P$2)","v":3161}]
[{"$f":" RTD(\"cqg.rtd\",,\"StudyData\", $N$2, \"Bar\", \"\", \"Time\", $M$2, $F300,$R$2,$Q$2, \"\",\"False\")","v":44665.284722222219},{"$f":" RTD(\"cqg.rtd\",,\"StudyData\", $N$2, \"Bar\", \"\", \"Open\", $M$2, $F300, $R$2,$Q$2,,$O$2,$P$2)","v":4441.25},{"$f":" RTD(\"cqg.rtd\",,\"StudyData\", $N$2, \"Bar\", \"\", \"High\", $M$2, $F300, $R$2,$Q$2,,$O$2,$P$2)","v":4441.25},{"$f":" RTD(\"cqg.rtd\",,\"StudyData\", $N$2, \"Bar\", \"\", \"Low\", $M$2, $F300, $R$2,$Q$2,,$O$2,$P$2)","v":4432.75},{"$f":" RTD(\"cqg.rtd\",,\"StudyData\", $N$2, \"Bar\", \"\", \"Close\", $M$2, $F300, $R$2,$Q$2,,$O$2,$P$2)","v":4433},-299,null,44665.284722222219,{"$f":"RTD(\"cqg.rtd\",,\"StudyData\",$N$2, \"Vol\", \"VolType=Auto,CoCType=Auto\", \"Vol\", $M$2, $F300, $R$2,$Q$2,,$O$2,$P$2)","v":4333}]
[{"$f":" RTD(\"cqg.rtd\",,\"StudyData\", $N$2, \"Bar\", \"\", \"Time\", $M$2, $F301,$R$2,$Q$2, \"\",\"False\")","v":44665.28125},{"$f":" RTD(\"cqg.rtd\",,\"StudyData\", $N$2, \"Bar\", \"\", \"Open\", $M$2, $F301, $R$2,$Q$2,,$O$2,$P$2)","v":4441.25},{"$f":" RTD(\"cqg.rtd\",,\"StudyData\", $N$2, \"Bar\", \"\", \"High\", $M$2, $F301, $R$2,$Q$2,,$O$2,$P$2)","v":4443.75},{"$f":" RTD(\"cqg.rtd\",,\"StudyData\", $N$2, \"Bar\", \"\", \"Low\", $M$2, $F301, $R$2,$Q$2,,$O$2,$P$2)","v":4440},{"$f":" RTD(\"cqg.rtd\",,\"StudyData\", $N$2, \"Bar\", \"\", \"Close\", $M$2, $F301, $R$2,$Q$2,,$O$2,$P$2)","v":4441},-300,null,44665.28125,{"$f":"RTD(\"cqg.rtd\",,\"StudyData\",$N$2, \"Vol\", \"VolType=Auto,CoCType=Auto\", \"Vol\", $M$2, $F301, $R$2,$Q$2,,$O$2,$P$2)","v":3441}]