{"text_format":"1","workbook":"xlsx","n_sheets":9,"sheets":["MainDisplay","Sheet3","Sheet4","Sheet3 (2)","Sheet4 (2)","Sheet3 (3)","Sheet4 (3)","Sheet3 (4)","Sheet4 (4)"],"not_rendered":{"charts":4,"images":12,"macros":1,"external_links":0,"defined_names":0,"comments":0,"pivot_tables":0},"unopened":[],"bounds":{"document_bytes":16777216,"sheet_cells":100000,"rows_first":2000,"rows_last":500,"rows_between":2000,"halvings":0,"cell_chars":16384,"cell_head_chars":4096},"cells_cut":0,"cells_raw":0,"read":"whole","date_system":"1900"}

{"sheet":"MainDisplay","index":0,"n_rows":55,"n_cols":31,"rows_kept":55,"cut":false,"hidden":false,"merged":[[27,17,27,27],[9,28,10,30],[9,12,10,14],[34,28,34,30],[35,28,36,30],[29,26,30,27],[30,18,31,21],[33,18,34,19],[33,20,34,21],[33,22,34,23],[33,24,34,25],[29,19,29,20],[29,23,30,24],[29,28,29,31],[30,28,31,31],[7,12,7,14],[30,2,31,5],[1,26,2,31],[3,23,4,24],[3,26,4,27],[4,18,5,21],[7,18,8,19],[7,20,8,21],[7,22,8,23],[7,24,8,25],[8,28,8,30],[3,19,3,20],[3,28,3,31],[4,28,5,31],[7,10,7,11],[27,1,27,11],[33,10,33,11],[33,26,33,27],[29,10,30,11],[1,5,2,25],[3,3,3,4],[3,7,4,8],[3,10,4,11],[7,2,8,3],[7,4,8,5],[7,6,8,7],[7,8,8,9],[4,2,5,5],[3,12,3,15],[1,1,2,4],[4,12,5,15],[8,12,8,14],[7,28,7,30],[33,12,33,14],[33,28,33,30],[7,26,7,27],[53,1,53,11],[53,17,53,27],[33,4,34,5],[33,6,34,7],[33,8,34,9],[34,12,34,14],[35,12,36,14],[33,2,34,3],[29,12,29,15],[30,12,31,15],[29,3,29,4],[29,7,30,8]]}
[null,null,null,null,null,null,null,null,null,null,null,null,null,null,{"$f":"TODAY()","v":"2018-07-13"}]
[null,{"$f":"MOD(RTD(\"cqg.rtd\", ,\"SystemInfo\", \"Linetime\"),1)","v":"10:26:52"},null,null,null,"CQG CME Globex 10-Day Map",null,null,null,null,null,null,null,null,null,null,null,null,null,null,null,null,null,null,null,null,{"$f":"RTD(\"cqg.rtd\", ,\"SystemInfo\", \"Linetime\")","v":43294.435324074075}]
[]
[null,"Symbol",null,"Equities",null,{"$f":"IF(RTD(\"cqg.rtd\", ,\"ContractData\",Sheet3!$D$12, \"NetLastTradeToday\",, \"T\")>=0,\"+\",0)","v":"+"},"Last",{"$f":"TEXT(RTD(\"cqg.rtd\", ,\"ContractData\",Sheet3!$D$12, \"LastTradeToday\",, \"T\"),Sheet3!$F$17)","v":"7402.75"},null,"Net",{"$f":"IF(F4=\"+\",\"+\"&TEXT(RTD(\"cqg.rtd\", ,\"ContractData\",Sheet3!$D$12, \"NetLastTradeToday\",, \"T\"),Sheet3!$F$17),TEXT(RTD(\"cqg.rtd\", ,\"ContractData\",Sheet3!$D$12, \"NetLastTradeToday\",, \"T\"),Sheet3!$F$17))","v":"+20.00"},null,"Net $ Change",null,null,null,null,"Symbol",null,"Energy",null,{"$f":"IF(RTD(\"cqg.rtd\", ,\"ContractData\",'Sheet3 (2)'!$D$12, \"NetLastTradeToday\",, \"T\")>=0,\"+\",0)","v":"+"},"Last",{"$f":"TEXT(RTD(\"cqg.rtd\", ,\"ContractData\",'Sheet3 (2)'!$D$12, \"LastTradeToday\",, \"T\"),'Sheet3 (2)'!$F$17)","v":"71.11"},null,"Net",{"$f":"IF(V4=\"+\",\"+\"&TEXT(RTD(\"cqg.rtd\", ,\"ContractData\",'Sheet3 (2)'!$D$12, \"NetLastTradeToday\",, \"T\"),'Sheet3 (2)'!$F$17),TEXT(RTD(\"cqg.rtd\", ,\"ContractData\",'Sheet3 (2)'!$D$12, \"NetLastTradeToday\",, \"T\"),'Sheet3 (2)'!$F$17))","v":"+.78"},null,"Net $ Change"]
[null,"ENQ",{"$f":"\" \"&RTD(\"cqg.rtd\", ,\"ContractData\",Sheet3!$D$12, \"LongDescription\",, \"T\")&\" \"","v":" E-mini NASDAQ-100, Sep 18 "},null,null,null,"Trade",null,null,"Change",null,null,{"$f":"IFERROR(1/RTD(\"cqg.rtd\",,\"ContractData\",\"Tsize(\"&B5&\")\",\"LastQuoteToday\",,\"T\")*RTD(\"cqg.rtd\",,\"ContractData\",\"PriceToDollar(Tsize(\"&B5&\"))\",\"LastQuoteToday\")*RTD(\"cqg.rtd\", ,\"ContractData\", B5, \"NetLastTrade\"),\"\")","v":400},null,null,null,null,"CLE",{"$f":"\" \"&RTD(\"cqg.rtd\", ,\"ContractData\",'Sheet3 (2)'!D12, \"LongDescription\",, \"T\")&\" \"","v":" Crude Light (Globex), Aug 18 "},null,null,null,"Trade",null,null,"Change",null,null,{"$f":"IFERROR(1/RTD(\"cqg.rtd\",,\"ContractData\",\"Tsize(\"&R5&\")\",\"LastQuoteToday\",,\"T\")*RTD(\"cqg.rtd\",,\"ContractData\",\"PriceToDollar(Tsize(\"&R5&\"))\",\"LastQuoteToday\")*RTD(\"cqg.rtd\", ,\"ContractData\", R5, \"NetLastTrade\"),\"\")","v":780}]
[null,{"$f":"2*RTD(\"cqg.rtd\",,\"ContractData\",\"Tsize(\"&B5&\")\",\"LastQuoteToday\",,\"T\")","v":0.5},null,null,null,null,"Open",{"$f":"TEXT(RTD(\"cqg.rtd\", ,\"ContractData\",Sheet3!$D$12, \"Open\",, \"T\"),Sheet3!$F$17)","v":"7382.00"},"High",{"$f":"TEXT(RTD(\"cqg.rtd\", ,\"ContractData\",Sheet3!$D$12, \"High\",, \"T\"),Sheet3!$F$17)","v":"7414.25"},"Low",{"$f":"TEXT(RTD(\"cqg.rtd\", ,\"ContractData\",Sheet3!$D$12, \"Low\",, \"T\"),Sheet3!$F$17)","v":"7367.00"},null,null,null,null,null,{"$f":"2*RTD(\"cqg.rtd\",,\"ContractData\",\"Tsize(\"&R5&\")\",\"LastQuoteToday\",,\"T\")","v":0.02},null,null,null,null,"Open",{"$f":"TEXT(RTD(\"cqg.rtd\", ,\"ContractData\",'Sheet3 (2)'!$D$12, \"Open\",, \"T\"),'Sheet3 (2)'!$F$17)","v":"70.38"},"High",{"$f":"TEXT(RTD(\"cqg.rtd\", ,\"ContractData\",'Sheet3 (2)'!$D$12, \"High\",, \"T\"),'Sheet3 (2)'!$F$17)","v":"71.26"},"Low",{"$f":"TEXT(RTD(\"cqg.rtd\", ,\"ContractData\",'Sheet3 (2)'!$D$12, \"Low\",, \"T\"),'Sheet3 (2)'!$F$17)","v":"69.84"}]
[null,null,null,null,null,null,null,null,null,null,null,null,{"$f":"IF(J6-H4<=B6,1,0)","v":0},null,{"$f":"IF(H4-L6<=B6,1,0)","v":0},null,null,null,null,null,null,null,null,null,null,null,null,null,{"$f":"IF(Z6-X4<=R6,1,0)","v":0},null,{"$f":"IF(X4-AB6<=R6,1,0)","v":0}]
[null,{"$f":"Sheet4!I85+1","v":2},{"$f":"RTD(\"cqg.rtd\", ,\"ContractData\",Sheet3!$D$12, \"MT_LastBidVolume\",, \"T\")","v":5},null,{"$f":"TEXT(RTD(\"cqg.rtd\", ,\"ContractData\",Sheet3!$D$12, \"Bid\",, \"T\"),Sheet3!$F$17)","v":"7402.75"},null,{"$f":"TEXT(RTD(\"cqg.rtd\", ,\"ContractData\",Sheet3!$D$12, \"Ask\",, \"T\"),Sheet3!$F$17)","v":"7403.00"},null,{"$f":"RTD(\"cqg.rtd\", ,\"ContractData\",Sheet3!$D$12, \"MT_LastAskVolume\",, \"T\")","v":8},null,"Top Correlation to:",null,"Highlight",null,null,null,null,{"$f":"'Sheet4 (2)'!I85+1","v":6},{"$f":"RTD(\"cqg.rtd\", ,\"ContractData\",'Sheet3 (2)'!$D$12, \"MT_LastBidVolume\",, \"T\")","v":6},null,{"$f":"TEXT(RTD(\"cqg.rtd\", ,\"ContractData\",'Sheet3 (2)'!$D$12, \"Bid\",, \"T\"),'Sheet3 (2)'!$F$17)","v":"71.11"},null,{"$f":"TEXT(RTD(\"cqg.rtd\", ,\"ContractData\",'Sheet3 (2)'!$D$12, \"Ask\",, \"T\"),'Sheet3 (2)'!$F$17)","v":"71.12"},null,{"$f":"RTD(\"cqg.rtd\", ,\"ContractData\",'Sheet3 (2)'!$D$12, \"MT_LastAskVolume\",, \"T\")","v":27},null,"Top Correlation to:",null,"Highlight"]
[null,null,null,null,null,null,null,null,null,null,{"$f":"IFERROR(Sheet4!G85,\"\")","v":"2018-07-12"},{"$f":"IFERROR(Sheet4!H85,\"\")","v":0.65028999480939098},"Reset",null,null,null,null,null,null,null,null,null,null,null,null,null,{"$f":"IFERROR('Sheet4 (2)'!G85,\"\")","v":"2018-07-06"},{"$f":"IFERROR('Sheet4 (2)'!H85,\"\")","v":0.86736004763653629},"Reset"]
[{"$f":"IF(M14=$O$1,1,0)","v":0},null,null,null,null,null,null,null,null,null,null,null,null,null,null,null,{"$f":"IF(AC14=$O$1,1,0)","v":1}]
[{"$f":"IF(M15=$O$1,1,0)","v":0},null,null,null,null,null,null,null,null,null,null,null,null,null,null,null,{"$f":"IF(AC15=$O$1,1,0)","v":0}]
[0,null,null,null,null,null,null,null,null,null,null,null,"Bar Time","Corr",{"$f":"IFERROR(IF(TIME(0,5,0)-(MOD(B2,1)-M13)<0,1,TIME(0,5,0)-(MOD(B2,1)-M13)),\"\")","v":"00:03:08"},null,0,null,null,null,null,null,null,null,null,null,null,null,"Bar Time","Corr",{"$f":"IFERROR(IF(TIME(0,5,0)-(MOD(B2,1)-AC13)<0,1,TIME(0,5,0)-(MOD(B2,1)-AC13)),\"\")","v":"00:03:08"}]
[0,null,null,null,null,null,null,null,null,null,null,null,{"$f":"IFERROR(Sheet3!AC12,\"\")","v":"10:25:00"},"Now","% NC",null,0,null,null,null,null,null,null,null,null,null,null,null,{"$f":"IFERROR('Sheet3 (2)'!AC12,\"\")","v":"10:25:00"},"Now","% NC"]
[0,null,null,null,null,null,null,null,null,null,null,null,{"$f":"IFERROR(Sheet3!AG1,\"\")","v":"2018-07-12"},{"$f":"IFERROR(VLOOKUP(M14,Sheet4!$G$85:$H$93,2,FALSE),\"\")","v":0.65028999480939098},{"$f":"IFERROR(Sheet3!AH1,\"\")","v":1.285541961054627E-2},null,0,null,null,null,null,null,null,null,null,null,null,null,{"$f":"IFERROR('Sheet3 (2)'!AG1,\"\")","v":"2018-07-13"},{"$f":"IFERROR(VLOOKUP(AC14,'Sheet4 (2)'!$G$85:$H$93,2,FALSE),\"\")","v":""},{"$f":"IFERROR('Sheet3 (2)'!AH1,\"\")","v":1.1090573012939019E-2}]
[1,null,null,null,null,null,null,null,null,null,null,null,{"$f":"IFERROR(Sheet3!AG2,\"\")","v":"2018-07-06"},{"$f":"IFERROR(VLOOKUP(M15,Sheet4!$G$85:$H$93,2,FALSE),\"\")","v":0.51220290260468226},{"$f":"IFERROR(Sheet3!AH2,\"\")","v":1.0104199557941269E-2},null,0,null,null,null,null,null,null,null,null,null,null,null,{"$f":"IFERROR('Sheet3 (2)'!AG2,\"\")","v":"2018-06-29"},{"$f":"IFERROR(VLOOKUP(AC15,'Sheet4 (2)'!$G$85:$H$93,2,FALSE),\"\")","v":0.67607873727470946},{"$f":"IFERROR('Sheet3 (2)'!AH2,\"\")","v":9.5302927161334625E-3}]
[0,null,null,null,null,null,null,null,null,null,null,null,{"$f":"IFERROR(Sheet3!AG3,\"\")","v":"2018-07-05"},{"$f":"IFERROR(VLOOKUP(M16,Sheet4!$G$85:$H$93,2,FALSE),\"\")","v":-0.43012741722037495},{"$f":"IFERROR(Sheet3!AH3,\"\")","v":8.0085424452749597E-3},null,0,null,null,null,null,null,null,null,null,null,null,null,{"$f":"IFERROR('Sheet3 (2)'!AG3,\"\")","v":"2018-07-06"},{"$f":"IFERROR(VLOOKUP(AC16,'Sheet4 (2)'!$G$85:$H$93,2,FALSE),\"\")","v":0.86736004763653629},{"$f":"IFERROR('Sheet3 (2)'!AH3,\"\")","v":7.4033452152454928E-3}]
[0,null,null,null,null,null,null,null,null,null,null,null,{"$f":"IFERROR(Sheet3!AG4,\"\")","v":"2018-06-29"},{"$f":"IFERROR(VLOOKUP(M17,Sheet4!$G$85:$H$93,2,FALSE),\"\")","v":7.9299562521911879E-2},{"$f":"IFERROR(Sheet3!AH4,\"\")","v":6.2672615253877208E-3},null,0,null,null,null,null,null,null,null,null,null,null,null,{"$f":"IFERROR('Sheet3 (2)'!AG4,\"\")","v":"2018-07-10"},{"$f":"IFERROR(VLOOKUP(AC17,'Sheet4 (2)'!$G$85:$H$93,2,FALSE),\"\")","v":-0.75594934814847059},{"$f":"IFERROR('Sheet3 (2)'!AH4,\"\")","v":1.7603249830739293E-3}]
[0,null,null,null,null,null,null,null,null,null,null,null,{"$f":"IFERROR(Sheet3!AG5,\"\")","v":"2018-07-09"},{"$f":"IFERROR(VLOOKUP(M18,Sheet4!$G$85:$H$93,2,FALSE),\"\")","v":-8.2359829576534052E-2},{"$f":"IFERROR(Sheet3!AH5,\"\")","v":4.2856155388124699E-3},null,0,null,null,null,null,null,null,null,null,null,null,null,{"$f":"IFERROR('Sheet3 (2)'!AG5,\"\")","v":"2018-07-09"},{"$f":"IFERROR(VLOOKUP(AC18,'Sheet4 (2)'!$G$85:$H$93,2,FALSE),\"\")","v":-0.15957560938228332},{"$f":"IFERROR('Sheet3 (2)'!AH5,\"\")","v":-5.149051490514844E-3}]
[{"$f":"IF(M23=$O$1,1,0)","v":0},null,null,null,null,null,null,null,null,null,null,null,{"$f":"IFERROR(Sheet3!AG6,\"\")","v":"2018-07-13"},{"$f":"IFERROR(VLOOKUP(M19,Sheet4!$G$85:$H$93,2,FALSE),\"\")","v":""},{"$f":"IFERROR(Sheet3!AH6,\"\")","v":2.7090176424773966E-3},null,0,null,null,null,null,null,null,null,null,null,null,null,{"$f":"IFERROR('Sheet3 (2)'!AG6,\"\")","v":"2018-07-02"},{"$f":"IFERROR(VLOOKUP(AC19,'Sheet4 (2)'!$G$85:$H$93,2,FALSE),\"\")","v":-0.49576360564873023},{"$f":"IFERROR('Sheet3 (2)'!AH6,\"\")","v":-6.4733648010789476E-3}]
[null,null,null,null,null,null,null,null,null,null,null,null,{"$f":"IFERROR(Sheet3!AG7,\"\")","v":"2018-07-10"},{"$f":"IFERROR(VLOOKUP(M20,Sheet4!$G$85:$H$93,2,FALSE),\"\")","v":0.53318066994980073},{"$f":"IFERROR(Sheet3!AH7,\"\")","v":1.0273620766412109E-4},null,null,null,null,null,null,null,null,null,null,null,null,null,{"$f":"IFERROR('Sheet3 (2)'!AG7,\"\")","v":"2018-07-05"},{"$f":"IFERROR(VLOOKUP(AC20,'Sheet4 (2)'!$G$85:$H$93,2,FALSE),\"\")","v":-0.64645878824685787},{"$f":"IFERROR('Sheet3 (2)'!AH7,\"\")","v":-9.4415969786890049E-3}]
[null,null,null,null,null,null,null,null,null,null,null,null,{"$f":"IFERROR(Sheet3!AG8,\"\")","v":"2018-07-02"},{"$f":"IFERROR(VLOOKUP(M21,Sheet4!$G$85:$H$93,2,FALSE),\"\")","v":0.43737598672734285},{"$f":"IFERROR(Sheet3!AH8,\"\")","v":-2.0872395372696076E-3},null,null,null,null,null,null,null,null,null,null,null,null,null,{"$f":"IFERROR('Sheet3 (2)'!AG8,\"\")","v":"2018-07-12"},{"$f":"IFERROR(VLOOKUP(AC21,'Sheet4 (2)'!$G$85:$H$93,2,FALSE),\"\")","v":-0.88070755989031779},{"$f":"IFERROR('Sheet3 (2)'!AH8,\"\")","v":-9.661835748792166E-3}]
[null,null,null,null,null,null,null,null,null,null,null,null,{"$f":"IFERROR(Sheet3!AG9,\"\")","v":"2018-07-03"},{"$f":"IFERROR(VLOOKUP(M22,Sheet4!$G$85:$H$93,2,FALSE),\"\")","v":0.17898263724610508},{"$f":"IFERROR(Sheet3!AH9,\"\")","v":-2.1780369563690017E-3},null,null,null,null,null,null,null,null,null,null,null,null,null,{"$f":"IFERROR('Sheet3 (2)'!AG9,\"\")","v":"2018-07-03"},{"$f":"IFERROR(VLOOKUP(AC22,'Sheet4 (2)'!$G$85:$H$93,2,FALSE),\"\")","v":-0.85622526288967971},{"$f":"IFERROR('Sheet3 (2)'!AH9,\"\")","v":-1.244252096294295E-2}]
[null,null,null,null,null,null,null,null,null,null,null,null,{"$f":"IFERROR(Sheet3!AG10,\"\")","v":"2018-07-11"},{"$f":"IFERROR(VLOOKUP(M23,Sheet4!$G$85:$H$93,2,FALSE),\"\")","v":7.7801370506122181E-2},{"$f":"IFERROR(Sheet3!AH10,\"\")","v":-6.1973567075258506E-3},null,null,null,null,null,null,null,null,null,null,null,null,null,{"$f":"IFERROR('Sheet3 (2)'!AG10,\"\")","v":"2018-07-11"},{"$f":"IFERROR(VLOOKUP(AC23,'Sheet4 (2)'!$G$85:$H$93,2,FALSE),\"\")","v":-0.750003916931274},{"$f":"IFERROR('Sheet3 (2)'!AH10,\"\")","v":-2.0779921737957174E-2}]
[]
[]
[]
[]
[null,"Primary Session: 8:30 - 15:15",null,null,null,null,null,null,null,null,null,null,null,null,null,null,null,"Primary Session 8:00 - 13:30"]
[]
[null,"Symbol",null,"FOREX",null,{"$f":"IF(RTD(\"cqg.rtd\", ,\"ContractData\",'Sheet3 (3)'!$D$12, \"NetLastTradeToday\",, \"T\")=\"\",\"\",IF(RTD(\"cqg.rtd\", ,\"ContractData\",'Sheet3 (3)'!$D$12, \"NetLastTradeToday\",, \"T\")>=0,\"+\",0))","v":0},"Last",{"$f":"TEXT(RTD(\"cqg.rtd\", ,\"ContractData\",'Sheet3 (3)'!$D$12, \"LastTradeToday\",, \"T\"),'Sheet3 (3)'!$F$17)","v":"1.17180"},null,"Net",{"$f":"IF(F30=\"\",\"\",IF(F30=\"+\",\"+\"&TEXT(RTD(\"cqg.rtd\", ,\"ContractData\",'Sheet3 (3)'!$D$12, \"NetLastTradeToday\",, \"T\"),'Sheet3 (3)'!$F$17),TEXT(RTD(\"cqg.rtd\", ,\"ContractData\",'Sheet3 (3)'!$D$12, \"NetLastTradeToday\",, \"T\"),'Sheet3 (3)'!$F$17)))","v":"-.00075"},null,"Net $ Change",null,null,null,null,"Symbol",null,"Fixed Income",null,{"$f":"IF(RTD(\"cqg.rtd\", ,\"ContractData\",'Sheet3 (4)'!$D$12, \"NetLastTradeToday\",, \"T\")>=0,\"+\",0)","v":"+"},"Last",{"$f":"IF('Sheet3 (4)'!F16=\"B\",RTD(\"cqg.rtd\", ,\"ContractData\",'Sheet3 (4)'!$D$12, \"LastTradeToday\",, \"B\"),TEXT(RTD(\"cqg.rtd\", ,\"ContractData\",'Sheet3 (4)'!$D$12, \"LastTradeToday\",, \"T\"),'Sheet3 (4)'!$F$16))","v":"120.312500"},null,"Net",{"$f":"IF(V30=\"+\",\"\"&(IF('Sheet3 (4)'!F16=\"B\",RTD(\"cqg.rtd\",,\"ContractData\",'Sheet3 (4)'!$D$12,\"NetLastTradeToday\",,\"B\"),TEXT(RTD(\"cqg.rtd\",,\"ContractData\",'Sheet3 (4)'!$D$12,\"NetLastTradeToday\",,\"T\"),'Sheet3 (4)'!$F$16))),IF('Sheet3 (4)'!F16=\"B\",RTD(\"cqg.rtd\",,\"ContractData\",'Sheet3 (4)'!$D$12,\"NetLastTradeToday\",,\"B\"),TEXT(RTD(\"cqg.rtd\",,\"ContractData\",'Sheet3 (4)'!$D$12,\"NetLastTradeToday\",,\"T\"),'Sheet3 (4)'!$F$16)))","v":"+0.156250"},null,"Net $ Change"]
[null,"EU6",{"$f":"\" \"&RTD(\"cqg.rtd\", ,\"ContractData\",'Sheet3 (3)'!$D$12, \"LongDescription\",, \"T\")&\" \"","v":" Euro FX (Globex), Sep 18 "},null,null,null,"Trade",null,null,"Change",null,null,{"$f":"IFERROR(1/RTD(\"cqg.rtd\",,\"ContractData\",\"Tsize(\"&B31&\")\",\"LastQuoteToday\",,\"T\")*RTD(\"cqg.rtd\",,\"ContractData\",\"PriceToDollar(Tsize(\"&B31&\"))\",\"LastQuoteToday\")*RTD(\"cqg.rtd\", ,\"ContractData\", B31, \"NetLastTrade\"),\"\")","v":-93.75},null,null,null,null,"TYA",{"$f":"\" \"&RTD(\"cqg.rtd\", ,\"ContractData\",'Sheet3 (4)'!D12, \"LongDescription\",, \"T\")&\" \"","v":" 10yr US Treasury Notes (Globex), Sep 18 "},null,null,null,"Trade",null,null,"Change",null,null,{"$f":"IFERROR(1/RTD(\"cqg.rtd\",,\"ContractData\",\"Tsize(\"&R31&\")\",\"LastQuoteToday\",,\"T\")*RTD(\"cqg.rtd\",,\"ContractData\",\"PriceToDollar(Tsize(\"&R31&\"))\",\"LastQuoteToday\")*RTD(\"cqg.rtd\", ,\"ContractData\", R31, \"NetLastTrade\",,\"T\"),\"\")","v":156.25}]
[null,{"$f":"2*RTD(\"cqg.rtd\",,\"ContractData\",\"Tsize(\"&B31&\")\",\"LastQuoteToday\",,\"T\")","v":1E-4},null,null,null,null,"Open",{"$f":"TEXT(RTD(\"cqg.rtd\", ,\"ContractData\",'Sheet3 (3)'!$D$12, \"Open\",, \"T\"),'Sheet3 (3)'!$F$17)","v":"1.17230"},"High",{"$f":"TEXT(RTD(\"cqg.rtd\", ,\"ContractData\",'Sheet3 (3)'!$D$12, \"High\",, \"T\"),'Sheet3 (3)'!$F$17)","v":"1.17285"},"Low",{"$f":"TEXT(RTD(\"cqg.rtd\", ,\"ContractData\",'Sheet3 (3)'!$D$12, \"Low\",, \"T\"),'Sheet3 (3)'!$F$17)","v":"1.16665"},null,null,null,null,null,{"$f":"2*RTD(\"cqg.rtd\",,\"ContractData\",\"Tsize(\"&R31&\")\",\"LastQuoteToday\",,\"T\")","v":3.125E-2},null,null,null,null,"Open",{"$f":"IF('Sheet3 (4)'!F16=\"B\",RTD(\"cqg.rtd\", ,\"ContractData\",'Sheet3 (4)'!$D$12, \"Open\",, \"B\"),TEXT(RTD(\"cqg.rtd\", ,\"ContractData\",'Sheet3 (4)'!$D$12, \"Open\",, \"T\"),'Sheet3 (4)'!$F$16))","v":"120.218750"},"High",{"$f":"IF('Sheet3 (4)'!F16=\"B\",RTD(\"cqg.rtd\", ,\"ContractData\",'Sheet3 (4)'!$D$12, \"High\",, \"B\"),TEXT(RTD(\"cqg.rtd\", ,\"ContractData\",'Sheet3 (4)'!$D$12, \"High\",, \"T\"),'Sheet3 (4)'!$F$16))","v":"120.375000"},"Low",{"$f":"IF('Sheet3 (4)'!F16=\"B\",RTD(\"cqg.rtd\", ,\"ContractData\",'Sheet3 (4)'!$D$12, \"Low\",, \"B\"),TEXT(RTD(\"cqg.rtd\", ,\"ContractData\",'Sheet3 (4)'!$D$12, \"Low\",, \"T\"),'Sheet3 (4)'!$F$16))","v":"120.125000"}]
[null,null,null,null,null,null,null,null,null,null,null,null,{"$f":"IF(J32-H30<=B32,1,0)","v":0},null,{"$f":"IF(H30-L32<=B32,1,0)","v":0},null,null,null,null,null,null,null,null,null,null,null,null,null,{"$f":"IF(RTD(\"cqg.rtd\", ,\"ContractData\",'Sheet3 (4)'!$D$12, \"High\",, \"T\")-RTD(\"cqg.rtd\", ,\"ContractData\",'Sheet3 (4)'!$D$12, \"LastTrade\",, \"T\")<=R32,1,0)","v":0},null,{"$f":"IF(RTD(\"cqg.rtd\", ,\"ContractData\",'Sheet3 (4)'!$D$12, \"LastTrade\",, \"T\")-RTD(\"cqg.rtd\", ,\"ContractData\",'Sheet3 (4)'!$D$12, \"Low\",, \"T\")<=R32,1,0)","v":0}]
[null,{"$f":"'Sheet4 (3)'!I93+1","v":9},{"$f":"RTD(\"cqg.rtd\", ,\"ContractData\",'Sheet3 (3)'!$D$12, \"MT_LastBidVolume\",, \"T\")","v":11},null,{"$f":"TEXT(RTD(\"cqg.rtd\", ,\"ContractData\",'Sheet3 (3)'!$D$12, \"Bid\",, \"T\"),'Sheet3 (3)'!$F$17)","v":"1.17180"},null,{"$f":"TEXT(RTD(\"cqg.rtd\", ,\"ContractData\",'Sheet3 (3)'!$D$12, \"Ask\",, \"T\"),'Sheet3 (3)'!$F$17)","v":"1.17185"},null,{"$f":"RTD(\"cqg.rtd\", ,\"ContractData\",'Sheet3 (3)'!$D$12, \"MT_LastAskVolume\",, \"T\")","v":13},null,"Top Correlation to:",null,"Highlight",null,null,null,null,{"$f":"'Sheet4 (4)'!I93+1","v":8},{"$f":"RTD(\"cqg.rtd\", ,\"ContractData\",'Sheet3 (4)'!$D$12, \"MT_LastBidVolume\",, \"T\")","v":4000},null,{"$f":"IF('Sheet3 (4)'!F16=\"B\",RTD(\"cqg.rtd\", ,\"ContractData\",'Sheet3 (4)'!$D$12, \"Bid\",, \"B\"),TEXT(RTD(\"cqg.rtd\", ,\"ContractData\",'Sheet3 (4)'!$D$12, \"Bid\",, \"T\"),'Sheet3 (4)'!$F$16))","v":"120.296875"},null,{"$f":"IF('Sheet3 (4)'!F16=\"B\",RTD(\"cqg.rtd\", ,\"ContractData\",'Sheet3 (4)'!$D$12, \"Ask\",, \"B\"),TEXT(RTD(\"cqg.rtd\", ,\"ContractData\",'Sheet3 (4)'!$D$12, \"Ask\",, \"T\"),'Sheet3 (4)'!$F$16))","v":"120.312500"},null,{"$f":"RTD(\"cqg.rtd\", ,\"ContractData\",'Sheet3 (4)'!$D$12, \"MT_LastAskVolume\",, \"T\")","v":1412},null,"Top Correlation to:",null,"Highlight"]
[null,null,null,null,null,null,null,null,null,null,{"$f":"IFERROR('Sheet4 (3)'!G93,\"\")","v":"2018-06-29"},{"$f":"IFERROR('Sheet4 (3)'!H93,\"\")","v":0.9232534879616654},"Reset",null,null,null,null,null,null,null,null,null,null,null,null,null,{"$f":"IFERROR('Sheet4 (4)'!G93,\"\")","v":"2018-07-03"},{"$f":"IFERROR('Sheet4 (4)'!H93,\"\")","v":0.67381444194672402},"Reset"]
[{"$f":"IF(M40=$O$1,1,0)","v":0},null,null,null,null,null,null,null,null,null,null,null,null,null,null,null,{"$f":"IF(AC40=$O$1,1,0)","v":0}]
[{"$f":"IF(M41=$O$1,1,0)","v":0},null,null,null,null,null,null,null,null,null,null,null,null,null,null,null,{"$f":"IF(AC41=$O$1,1,0)","v":1}]
[0,null,null,null,null,null,null,null,null,null,null,null,"Bar Time","Corr",{"$f":"IFERROR(IF(TIME(0,5,0)-(MOD(B2,1)-M39)<0,1,TIME(0,5,0)-(MOD(B2,1)-M39)),\"\")","v":"00:03:08"},null,0,null,null,null,null,null,null,null,null,null,null,null,"Bar Time","Corr",{"$f":"IFERROR(IF(TIME(0,5,0)-(MOD(B2,1)-AC39)<0,1,TIME(0,5,0)-(MOD(B2,1)-AC39)),\"\")","v":"00:03:08"}]
[0,null,null,null,null,null,null,null,null,null,null,null,{"$f":"IFERROR('Sheet3 (3)'!AC12,\"\")","v":"10:25:00"},"Now","% NC",null,0,null,null,null,null,null,null,null,null,null,null,null,{"$f":"IFERROR('Sheet3 (4)'!AC12,\"\")","v":"10:25:00"},"Now","% NC"]
[0,null,null,null,null,null,null,null,null,null,null,null,{"$f":"IFERROR('Sheet3 (3)'!AG1,\"\")","v":"2018-07-06"},{"$f":"IFERROR(VLOOKUP(M40,'Sheet4 (3)'!$G$93:$H$101,2,FALSE),\"\")","v":9.7937606964019847E-2},{"$f":"IFERROR('Sheet3 (3)'!AH1,\"\")","v":6.5156289924198597E-3},null,0,null,null,null,null,null,null,null,null,null,null,null,{"$f":"IFERROR('Sheet3 (4)'!AG1,\"\")","v":"2018-07-03"},{"$f":"IFERROR(VLOOKUP(AC40,'Sheet4 (4)'!$G$93:$H$101,2,FALSE),\"\")","v":0.67381444194672402},{"$f":"IFERROR('Sheet3 (4)'!AH1,\"\")","v":1.9518542615484711E-3}]
[0,null,null,null,null,null,null,null,null,null,null,null,{"$f":"IFERROR('Sheet3 (3)'!AG2,\"\")","v":"2018-07-03"},{"$f":"IFERROR(VLOOKUP(M41,'Sheet4 (3)'!$G$93:$H$101,2,FALSE),\"\")","v":0.4390441843929842},{"$f":"IFERROR('Sheet3 (3)'!AH2,\"\")","v":4.0686967321939349E-3},null,0,null,null,null,null,null,null,null,null,null,null,null,{"$f":"IFERROR('Sheet3 (4)'!AG2,\"\")","v":"2018-07-13"},{"$f":"IFERROR(VLOOKUP(AC41,'Sheet4 (4)'!$G$93:$H$101,2,FALSE),\"\")","v":""},{"$f":"IFERROR('Sheet3 (4)'!AH2,\"\")","v":1.3003901170351106E-3}]
[0,null,null,null,null,null,null,null,null,null,null,null,{"$f":"IFERROR('Sheet3 (3)'!AG3,\"\")","v":"2018-07-05"},{"$f":"IFERROR(VLOOKUP(M42,'Sheet4 (3)'!$G$93:$H$101,2,FALSE),\"\")","v":-7.8525966641727604E-2},{"$f":"IFERROR('Sheet3 (3)'!AH3,\"\")","v":3.9694395834221014E-3},null,0,null,null,null,null,null,null,null,null,null,null,null,{"$f":"IFERROR('Sheet3 (4)'!AG3,\"\")","v":"2018-07-11"},{"$f":"IFERROR(VLOOKUP(AC42,'Sheet4 (4)'!$G$93:$H$101,2,FALSE),\"\")","v":-0.81406910108185115},{"$f":"IFERROR('Sheet3 (4)'!AH3,\"\")","v":1.1717224319750033E-3}]
[1,null,null,null,null,null,null,null,null,null,null,null,{"$f":"IFERROR('Sheet3 (3)'!AG4,\"\")","v":"2018-06-28"},{"$f":"IFERROR(VLOOKUP(M43,'Sheet4 (3)'!$G$93:$H$101,2,FALSE),\"\")","v":0.47084773723720791},{"$f":"IFERROR('Sheet3 (3)'!AH4,\"\")","v":2.8820923129865912E-3},null,0,null,null,null,null,null,null,null,null,null,null,null,{"$f":"IFERROR('Sheet3 (4)'!AG4,\"\")","v":"2018-07-06"},{"$f":"IFERROR(VLOOKUP(AC43,'Sheet4 (4)'!$G$93:$H$101,2,FALSE),\"\")","v":-3.3883131918761897E-2},{"$f":"IFERROR('Sheet3 (4)'!AH4,\"\")","v":7.7962577962577967E-4}]
[0,null,null,null,null,null,null,null,null,null,null,null,{"$f":"IFERROR('Sheet3 (3)'!AG5,\"\")","v":"2018-07-12"},{"$f":"IFERROR(VLOOKUP(M44,'Sheet4 (3)'!$G$93:$H$101,2,FALSE),\"\")","v":0.61039141707963684},{"$f":"IFERROR('Sheet3 (3)'!AH5,\"\")","v":7.672634271098899E-4},null,0,null,null,null,null,null,null,null,null,null,null,null,{"$f":"IFERROR('Sheet3 (4)'!AG5,\"\")","v":"2018-07-05"},{"$f":"IFERROR(VLOOKUP(AC44,'Sheet4 (4)'!$G$93:$H$101,2,FALSE),\"\")","v":0.56097155255399689},{"$f":"IFERROR('Sheet3 (4)'!AH5,\"\")","v":5.1948051948051948E-4}]
[0,null,null,null,null,null,null,null,null,null,null,null,{"$f":"IFERROR('Sheet3 (3)'!AG6,\"\")","v":"2018-07-09"},{"$f":"IFERROR(VLOOKUP(M45,'Sheet4 (3)'!$G$93:$H$101,2,FALSE),\"\")","v":-0.68227894365433428},{"$f":"IFERROR('Sheet3 (3)'!AH6,\"\")","v":3.8119440914852974E-4},null,0,null,null,null,null,null,null,null,null,null,null,null,{"$f":"IFERROR('Sheet3 (4)'!AG6,\"\")","v":"2018-06-29"},{"$f":"IFERROR(VLOOKUP(AC45,'Sheet4 (4)'!$G$93:$H$101,2,FALSE),\"\")","v":1.8979820216492198E-3},{"$f":"IFERROR('Sheet3 (4)'!AH6,\"\")","v":-3.9001560062402497E-4}]
[null,null,null,null,null,null,null,null,null,null,null,null,{"$f":"IFERROR('Sheet3 (3)'!AG7,\"\")","v":"2018-06-29"},{"$f":"IFERROR(VLOOKUP(M46,'Sheet4 (3)'!$G$93:$H$101,2,FALSE),\"\")","v":0.9232534879616654},{"$f":"IFERROR('Sheet3 (3)'!AH7,\"\")","v":-2.1301069313686658E-4},null,null,null,null,null,null,null,null,null,null,null,null,null,{"$f":"IFERROR('Sheet3 (4)'!AG7,\"\")","v":"2018-07-10"},{"$f":"IFERROR(VLOOKUP(AC46,'Sheet4 (4)'!$G$93:$H$101,2,FALSE),\"\")","v":0.49753569640393974},{"$f":"IFERROR('Sheet3 (4)'!AH7,\"\")","v":-3.902185223725286E-4}]
[null,null,null,null,null,null,null,null,null,null,null,null,{"$f":"IFERROR('Sheet3 (3)'!AG8,\"\")","v":"2018-07-13"},{"$f":"IFERROR(VLOOKUP(M47,'Sheet4 (3)'!$G$93:$H$101,2,FALSE),\"\")","v":""},{"$f":"IFERROR('Sheet3 (3)'!AH8,\"\")","v":-6.3963157221442872E-4},null,null,null,null,null,null,null,null,null,null,null,null,null,{"$f":"IFERROR('Sheet3 (4)'!AG8,\"\")","v":"2018-07-12"},{"$f":"IFERROR(VLOOKUP(AC47,'Sheet4 (4)'!$G$93:$H$101,2,FALSE),\"\")","v":0.44475667146564057},{"$f":"IFERROR('Sheet3 (4)'!AH8,\"\")","v":-6.4968814968814972E-4}]
[null,null,null,null,null,null,null,null,null,null,null,null,{"$f":"IFERROR('Sheet3 (3)'!AG9,\"\")","v":"2018-07-10"},{"$f":"IFERROR(VLOOKUP(M48,'Sheet4 (3)'!$G$93:$H$101,2,FALSE),\"\")","v":0.66726929963652493},{"$f":"IFERROR('Sheet3 (3)'!AH9,\"\")","v":-1.7783046828689904E-3},null,null,null,null,null,null,null,null,null,null,null,null,null,{"$f":"IFERROR('Sheet3 (4)'!AG9,\"\")","v":"2018-07-02"},{"$f":"IFERROR(VLOOKUP(AC48,'Sheet4 (4)'!$G$93:$H$101,2,FALSE),\"\")","v":-0.75743025739067305},{"$f":"IFERROR('Sheet3 (4)'!AH9,\"\")","v":-6.5002600104004159E-4}]
[null,null,null,null,null,null,null,null,null,null,null,null,{"$f":"IFERROR('Sheet3 (3)'!AG10,\"\")","v":"2018-07-11"},{"$f":"IFERROR(VLOOKUP(M49,'Sheet4 (3)'!$G$93:$H$101,2,FALSE),\"\")","v":-0.92920926177476126},{"$f":"IFERROR('Sheet3 (3)'!AH10,\"\")","v":-2.5415113520839477E-3},null,null,null,null,null,null,null,null,null,null,null,null,null,{"$f":"IFERROR('Sheet3 (4)'!AG10,\"\")","v":"2018-07-09"},{"$f":"IFERROR(VLOOKUP(AC49,'Sheet4 (4)'!$G$93:$H$101,2,FALSE),\"\")","v":0.64944537673885683},{"$f":"IFERROR('Sheet3 (4)'!AH10,\"\")","v":-1.428200467411062E-3}]
[]
[]
[]
[]
[null,"Session: 8:00 - 15:15",null,null,null,null,null,null,null,null,null,null,null,null,null,null,null,"Session: 8:00 - 14:00"]
[null,null,null,"  Copyright © 2018",null,null,null,null,null,"Designed by Thom Hartle"]

{"sheet":"Sheet3","index":1,"n_rows":83,"n_cols":40,"rows_kept":83,"cut":false,"hidden":true,"merged":[]}
[0,"08:30:00",{"$f":" RTD(\"cqg.rtd\",,\"StudyData\",$D$12, \"Bar\", \"\", \"Time\",\"D\",\"0\",,,,,\"T\")","v":"2018-07-13"},{"$f":"YEAR(C1)","v":2018},{"$f":"MONTH(C1)","v":7},{"$f":"DAY(C1)","v":13},null,{"$f":"RTD(\"cqg.rtd\",,\"StudyData\", \"Close(\"&$D$12&\") when LocalYear(\"&$D$12&\")=\"&$D$1&\" and localMonth(\"&$D$12&\") =\"&$E$1&\" and LocalDay(\"&$D$12&\")=\"&$F$1&\" and Barix(\"&$D$12&\",reference:=StartOfSession)=\"&A1&\"\", \"Bar\", \"\", \"Close\",\"5\",\"0\",\"PrimaryOnly\",,,\"False\",\"T\",\"EveryTick\")","v":7393.25},{"$f":"IFERROR((H1-$G$2)/$G$2,NA())","v":1.4222342623006333E-3},{"$f":"RTD(\"cqg.rtd\",,\"StudyData\", \"Close(\"&$D$12&\") when LocalYear(\"&$D$12&\")=\"&$D$2&\" and localMonth(\"&$D$12&\") =\"&$E$2&\" and LocalDay(\"&$D$12&\")=\"&$F$2&\" and Barix(\"&$D$12&\",reference:=StartOfSession)=\"&A1&\"\", \"Bar\", \"\", \"Close\",\"5\",\"0\",\"PrimaryOnly\",,,\"False\",\"T\",\"EveryTick\")","v":7300.75},{"$f":"IFERROR((J1-$G$3)/$G$3,NA())","v":6.479407203170774E-3},{"$f":"RTD(\"cqg.rtd\",,\"StudyData\", \"Close(\"&$D$12&\") when LocalYear(\"&$D$12&\")=\"&$D$3&\" and localMonth(\"&$D$12&\") =\"&$E$3&\" and LocalDay(\"&$D$12&\")=\"&$F$3&\" and Barix(\"&$D$12&\",reference:=StartOfSession)=\"&A1&\"\", \"Bar\", \"\", \"Close\",\"5\",\"0\",\"PrimaryOnly\",,,\"False\",\"T\",\"EveryTick\")","v":7261.75},{"$f":"IFERROR((L1-$G$4)/$G$4,NA())","v":-5.444086831472985E-3},{"$f":"RTD(\"cqg.rtd\",,\"StudyData\", \"Close(\"&$D$12&\") when LocalYear(\"&$D$12&\")=\"&$D$4&\" and localMonth(\"&$D$12&\") =\"&$E$4&\" and LocalDay(\"&$D$12&\")=\"&$F$4&\" and Barix(\"&$D$12&\",reference:=StartOfSession)=\"&A1&\"\", \"Bar\", \"\", \"Close\",\"5\",\"0\",\"PrimaryOnly\",,,\"False\",\"T\",\"EveryTick\")","v":7295.75},{"$f":"IFERROR((N1-$G$5)/$G$5,NA())","v":-6.1641724598472658E-4},{"$f":"RTD(\"cqg.rtd\",,\"StudyData\", \"Close(\"&$D$12&\") when LocalYear(\"&$D$12&\")=\"&$D$5&\" and localMonth(\"&$D$12&\") =\"&$E$5&\" and LocalDay(\"&$D$12&\")=\"&$F$5&\" and Barix(\"&$D$12&\",reference:=StartOfSession)=\"&A1&\"\", \"Bar\", \"\", \"Close\",\"5\",\"0\",\"PrimaryOnly\",,,\"False\",\"T\",\"EveryTick\")","v":7277},{"$f":"IFERROR((P1-$G$6)/$G$6,NA())","v":6.0136863205916911E-3},{"$f":"RTD(\"cqg.rtd\",,\"StudyData\", \"Close(\"&$D$12&\") when LocalYear(\"&$D$12&\")=\"&$D$6&\" and localMonth(\"&$D$12&\") =\"&$E$6&\" and LocalDay(\"&$D$12&\")=\"&$F$6&\" and Barix(\"&$D$12&\",reference:=StartOfSession)=\"&A1&\"\", \"Bar\", \"\", \"Close\",\"5\",\"0\",\"PrimaryOnly\",,,\"False\",\"T\",\"EveryTick\")","v":7132},{"$f":"IFERROR((R1-$G$7)/$G$7,NA())","v":8.7710065607129073E-4},{"$f":"RTD(\"cqg.rtd\",,\"StudyData\", \"Close(\"&$D$12&\") when LocalYear(\"&$D$12&\")=\"&$D$7&\" and localMonth(\"&$D$12&\") =\"&$E$7&\" and LocalDay(\"&$D$12&\")=\"&$F$7&\" and Barix(\"&$D$12&\",reference:=StartOfSession)=\"&A1&\"\", \"Bar\", \"\", \"Close\",\"5\",\"0\",\"PrimaryOnly\",,,\"False\",\"T\",\"EveryTick\")","v":7085.5},{"$f":"IFERROR((T1-$G$8)/$G$8,NA())","v":8.791599928812956E-3},{"$f":"RTD(\"cqg.rtd\",,\"StudyData\", \"Close(\"&$D$12&\") when LocalYear(\"&$D$12&\")=\"&$D$8&\" and localMonth(\"&$D$12&\") =\"&$E$8&\" and LocalDay(\"&$D$12&\")=\"&$F$8&\" and Barix(\"&$D$12&\",reference:=StartOfSession)=\"&A1&\"\", \"Bar\", \"\", \"Close\",\"5\",\"0\",\"PrimaryOnly\",,,\"False\",\"T\",\"EveryTick\")","v":7127.75},{"$f":"IFERROR((V1-$G$9)/$G$9,NA())","v":1.5808332747839528E-3},{"$f":"RTD(\"cqg.rtd\",,\"StudyData\", \"Close(\"&$D$12&\") when LocalYear(\"&$D$12&\")=\"&$D$9&\" and localMonth(\"&$D$12&\") =\"&$E$9&\" and LocalDay(\"&$D$12&\")=\"&$F$9&\" and Barix(\"&$D$12&\",reference:=StartOfSession)=\"&A1&\"\", \"Bar\", \"\", \"Close\",\"5\",\"0\",\"PrimaryOnly\",,,\"False\",\"T\",\"EveryTick\")","v":7000.75},{"$f":"IFERROR((X1-$G$10)/$G$10,NA())","v":-9.3395125057487531E-3},{"$f":"RTD(\"cqg.rtd\",,\"StudyData\", \"Close(\"&$D$12&\") when LocalYear(\"&$D$12&\")=\"&$D$10&\" and localMonth(\"&$D$12&\") =\"&$E$10&\" and LocalDay(\"&$D$12&\")=\"&$F$10&\" and Barix(\"&$D$12&\",reference:=StartOfSession)=\"&A1&\"\", \"Bar\", \"\", \"Close\",\"5\",\"0\",\"PrimaryOnly\",,,\"False\",\"T\",\"EveryTick\")","v":7096.25},{"$f":"IFERROR((Z1-$G$11)/$G$11,NA())","v":5.0633807803979886E-3},{"$f":"RANK(AD1,$AD$1:$AD$10)+COUNTIF($AD$1:AD1,AD1)-1","v":6},{"$f":"DATE(D1,E1,F1)","v":"2018-07-13"},{"$f":"IFERROR(VLOOKUP(MAX(AE2:AE81),A1:I81,9,FALSE),\"\")","v":2.7090176424773966E-3},null,1,{"$f":"VLOOKUP(AF1,$AB$1:$AD$10,2,FALSE)","v":"2018-07-12"},{"$f":"VLOOKUP(AF1,$AB$1:$AD$10,3,FALSE)","v":1.285541961054627E-2},null,null,{"$f":"AG1","v":"2018-07-12"},{"$f":"AC1","v":"2018-07-13"},0,{"$f":"VLOOKUP(AK1,$AL$1:$AM$10,2,FALSE)","v":1}]
[{"$f":"A1+1","v":1},"08:35:00",{"$f":" RTD(\"cqg.rtd\",,\"StudyData\",$D$12, \"Bar\", \"\", \"Time\",\"D\",\"-1\",,,,,\"T\")","v":"2018-07-12"},{"$f":"YEAR(C2)","v":2018},{"$f":"MONTH(C2)","v":7},{"$f":"DAY(C2)","v":12},{"$f":" RTD(\"cqg.rtd\",,\"StudyData\",$D$12, \"Bar\", \"\", \"Close\",\"D\",\"-1\",,,,,\"T\")","v":7382.75},{"$f":"RTD(\"cqg.rtd\",,\"StudyData\", \"Close(\"&$D$12&\") when LocalYear(\"&$D$12&\")=\"&$D$1&\" and localMonth(\"&$D$12&\") =\"&$E$1&\" and LocalDay(\"&$D$12&\")=\"&$F$1&\" and Barix(\"&$D$12&\",reference:=StartOfSession)=\"&A2&\"\", \"Bar\", \"\", \"Close\",\"5\",\"0\",\"PrimaryOnly\",,,\"False\",\"T\",\"EveryTick\")","v":7392},{"$f":"IFERROR((H2-$G$2)/$G$2,NA())","v":1.2529206596457959E-3},{"$f":"RTD(\"cqg.rtd\",,\"StudyData\", \"Close(\"&$D$12&\") when LocalYear(\"&$D$12&\")=\"&$D$2&\" and localMonth(\"&$D$12&\") =\"&$E$2&\" and LocalDay(\"&$D$12&\")=\"&$F$2&\" and Barix(\"&$D$12&\",reference:=StartOfSession)=\"&A2&\"\", \"Bar\", \"\", \"Close\",\"5\",\"0\",\"PrimaryOnly\",,,\"False\",\"T\",\"EveryTick\")","v":7308.25},{"$f":"IFERROR((J2-$G$3)/$G$3,NA())","v":7.5133551611235565E-3},{"$f":"RTD(\"cqg.rtd\",,\"StudyData\", \"Close(\"&$D$12&\") when LocalYear(\"&$D$12&\")=\"&$D$3&\" and localMonth(\"&$D$12&\") =\"&$E$3&\" and LocalDay(\"&$D$12&\")=\"&$F$3&\" and Barix(\"&$D$12&\",reference:=StartOfSession)=\"&A2&\"\", \"Bar\", \"\", \"Close\",\"5\",\"0\",\"PrimaryOnly\",,,\"False\",\"T\",\"EveryTick\")","v":7265.5},{"$f":"IFERROR((L2-$G$4)/$G$4,NA())","v":-4.9304937341642131E-3},{"$f":"RTD(\"cqg.rtd\",,\"StudyData\", \"Close(\"&$D$12&\") when LocalYear(\"&$D$12&\")=\"&$D$4&\" and localMonth(\"&$D$12&\") =\"&$E$4&\" and LocalDay(\"&$D$12&\")=\"&$F$4&\" and Barix(\"&$D$12&\",reference:=StartOfSession)=\"&A2&\"\", \"Bar\", \"\", \"Close\",\"5\",\"0\",\"PrimaryOnly\",,,\"False\",\"T\",\"EveryTick\")","v":7305.25},{"$f":"IFERROR((N2-$G$5)/$G$5,NA())","v":6.8490805109414066E-4},{"$f":"RTD(\"cqg.rtd\",,\"StudyData\", \"Close(\"&$D$12&\") when LocalYear(\"&$D$12&\")=\"&$D$5&\" and localMonth(\"&$D$12&\") =\"&$E$5&\" and LocalDay(\"&$D$12&\")=\"&$F$5&\" and Barix(\"&$D$12&\",reference:=StartOfSession)=\"&A2&\"\", \"Bar\", \"\", \"Close\",\"5\",\"0\",\"PrimaryOnly\",,,\"False\",\"T\",\"EveryTick\")","v":7274.75},{"$f":"IFERROR((P2-$G$6)/$G$6,NA())","v":5.7026335798714316E-3},{"$f":"RTD(\"cqg.rtd\",,\"StudyData\", \"Close(\"&$D$12&\") when LocalYear(\"&$D$12&\")=\"&$D$6&\" and localMonth(\"&$D$12&\") =\"&$E$6&\" and LocalDay(\"&$D$12&\")=\"&$F$6&\" and Barix(\"&$D$12&\",reference:=StartOfSession)=\"&A2&\"\", \"Bar\", \"\", \"Close\",\"5\",\"0\",\"PrimaryOnly\",,,\"False\",\"T\",\"EveryTick\")","v":7150.75},{"$f":"IFERROR((R2-$G$7)/$G$7,NA())","v":3.5084026242851629E-3},{"$f":"RTD(\"cqg.rtd\",,\"StudyData\", \"Close(\"&$D$12&\") when LocalYear(\"&$D$12&\")=\"&$D$7&\" and localMonth(\"&$D$12&\") =\"&$E$7&\" and LocalDay(\"&$D$12&\")=\"&$F$7&\" and Barix(\"&$D$12&\",reference:=StartOfSession)=\"&A2&\"\", \"Bar\", \"\", \"Close\",\"5\",\"0\",\"PrimaryOnly\",,,\"False\",\"T\",\"EveryTick\")","v":7094.75},{"$f":"IFERROR((T2-$G$8)/$G$8,NA())","v":1.0108560242035949E-2},{"$f":"RTD(\"cqg.rtd\",,\"StudyData\", \"Close(\"&$D$12&\") when LocalYear(\"&$D$12&\")=\"&$D$8&\" and localMonth(\"&$D$12&\") =\"&$E$8&\" and LocalDay(\"&$D$12&\")=\"&$F$8&\" and Barix(\"&$D$12&\",reference:=StartOfSession)=\"&A2&\"\", \"Bar\", \"\", \"Close\",\"5\",\"0\",\"PrimaryOnly\",,,\"False\",\"T\",\"EveryTick\")","v":7110},{"$f":"IFERROR((V2-$G$9)/$G$9,NA())","v":-9.1337033654183936E-4},{"$f":"RTD(\"cqg.rtd\",,\"StudyData\", \"Close(\"&$D$12&\") when LocalYear(\"&$D$12&\")=\"&$D$9&\" and localMonth(\"&$D$12&\") =\"&$E$9&\" and LocalDay(\"&$D$12&\")=\"&$F$9&\" and Barix(\"&$D$12&\",reference:=StartOfSession)=\"&A2&\"\", \"Bar\", \"\", \"Close\",\"5\",\"0\",\"PrimaryOnly\",,,\"False\",\"T\",\"EveryTick\")","v":7020},{"$f":"IFERROR((X2-$G$10)/$G$10,NA())","v":-6.6154880249053669E-3},{"$f":"RTD(\"cqg.rtd\",,\"StudyData\", \"Close(\"&$D$12&\") when LocalYear(\"&$D$12&\")=\"&$D$10&\" and localMonth(\"&$D$12&\") =\"&$E$10&\" and LocalDay(\"&$D$12&\")=\"&$F$10&\" and Barix(\"&$D$12&\",reference:=StartOfSession)=\"&A2&\"\", \"Bar\", \"\", \"Close\",\"5\",\"0\",\"PrimaryOnly\",,,\"False\",\"T\",\"EveryTick\")","v":7094},{"$f":"IFERROR((Z2-$G$11)/$G$11,NA())","v":4.7447064655477657E-3},{"$f":"RANK(AD2,$AD$1:$AD$10)+COUNTIF($AD$1:AD2,AD2)-1","v":1},{"$f":"DATE(D2,E2,F2)","v":"2018-07-12"},{"$f":"IFERROR(VLOOKUP(MAX(AE2:AE81),A1:K81,11,FALSE),\"\")","v":1.285541961054627E-2},{"$f":"IF(AND(H1<>\"\",H2<>\"\",H3=\"\"),A2,\"\")","v":""},2,{"$f":"VLOOKUP(AF2,$AB$1:$AD$10,2,FALSE)","v":"2018-07-06"},{"$f":"VLOOKUP(AF2,$AB$1:$AD$10,3,FALSE)","v":1.0104199557941269E-2},null,null,{"$f":"AG2","v":"2018-07-06"},{"$f":"AC2","v":"2018-07-12"},1,{"$f":"VLOOKUP(AK2,$AL$1:$AM$10,2,FALSE)","v":5}]
[{"$f":"A2+1","v":2},"08:40:00",{"$f":" RTD(\"cqg.rtd\",,\"StudyData\",$D$12, \"Bar\", \"\", \"Time\",\"D\",\"-2\",,,,,\"T\")","v":"2018-07-11"},2018,7,11,{"$f":" RTD(\"cqg.rtd\",,\"StudyData\",$D$12, \"Bar\", \"\", \"Close\",\"D\",\"-2\",,,,,\"T\")","v":7253.75},{"$f":"RTD(\"cqg.rtd\",,\"StudyData\", \"Close(\"&$D$12&\") when LocalYear(\"&$D$12&\")=\"&$D$1&\" and localMonth(\"&$D$12&\") =\"&$E$1&\" and LocalDay(\"&$D$12&\")=\"&$F$1&\" and Barix(\"&$D$12&\",reference:=StartOfSession)=\"&A3&\"\", \"Bar\", \"\", \"Close\",\"5\",\"0\",\"PrimaryOnly\",,,\"False\",\"T\",\"EveryTick\")","v":7386},{"$f":"IFERROR((H3-$G$2)/$G$2,NA())","v":4.4021536690257694E-4},{"$f":"RTD(\"cqg.rtd\",,\"StudyData\", \"Close(\"&$D$12&\") when LocalYear(\"&$D$12&\")=\"&$D$2&\" and localMonth(\"&$D$12&\") =\"&$E$2&\" and LocalDay(\"&$D$12&\")=\"&$F$2&\" and Barix(\"&$D$12&\",reference:=StartOfSession)=\"&A3&\"\", \"Bar\", \"\", \"Close\",\"5\",\"0\",\"PrimaryOnly\",,,\"False\",\"T\",\"EveryTick\")","v":7305},7.0653110460106843E-3,{"$f":"RTD(\"cqg.rtd\",,\"StudyData\", \"Close(\"&$D$12&\") when LocalYear(\"&$D$12&\")=\"&$D$3&\" and localMonth(\"&$D$12&\") =\"&$E$3&\" and LocalDay(\"&$D$12&\")=\"&$F$3&\" and Barix(\"&$D$12&\",reference:=StartOfSession)=\"&A3&\"\", \"Bar\", \"\", \"Close\",\"5\",\"0\",\"PrimaryOnly\",,,\"False\",\"T\",\"EveryTick\")","v":7258},-5.9576799287817568E-3,{"$f":"RTD(\"cqg.rtd\",,\"StudyData\", \"Close(\"&$D$12&\") when LocalYear(\"&$D$12&\")=\"&$D$4&\" and localMonth(\"&$D$12&\") =\"&$E$4&\" and LocalDay(\"&$D$12&\")=\"&$F$4&\" and Barix(\"&$D$12&\",reference:=StartOfSession)=\"&A3&\"\", \"Bar\", \"\", \"Close\",\"5\",\"0\",\"PrimaryOnly\",,,\"False\",\"T\",\"EveryTick\")","v":7303.25},4.1094483065648435E-4,{"$f":"RTD(\"cqg.rtd\",,\"StudyData\", \"Close(\"&$D$12&\") when LocalYear(\"&$D$12&\")=\"&$D$5&\" and localMonth(\"&$D$12&\") =\"&$E$5&\" and LocalDay(\"&$D$12&\")=\"&$F$5&\" and Barix(\"&$D$12&\",reference:=StartOfSession)=\"&A3&\"\", \"Bar\", \"\", \"Close\",\"5\",\"0\",\"PrimaryOnly\",,,\"False\",\"T\",\"EveryTick\")","v":7277},6.0136863205916911E-3,{"$f":"RTD(\"cqg.rtd\",,\"StudyData\", \"Close(\"&$D$12&\") when LocalYear(\"&$D$12&\")=\"&$D$6&\" and localMonth(\"&$D$12&\") =\"&$E$6&\" and LocalDay(\"&$D$12&\")=\"&$F$6&\" and Barix(\"&$D$12&\",reference:=StartOfSession)=\"&A3&\"\", \"Bar\", \"\", \"Close\",\"5\",\"0\",\"PrimaryOnly\",,,\"False\",\"T\",\"EveryTick\")","v":7150.5},3.4733185980423114E-3,{"$f":"RTD(\"cqg.rtd\",,\"StudyData\", \"Close(\"&$D$12&\") when LocalYear(\"&$D$12&\")=\"&$D$7&\" and localMonth(\"&$D$12&\") =\"&$E$7&\" and LocalDay(\"&$D$12&\")=\"&$F$7&\" and Barix(\"&$D$12&\",reference:=StartOfSession)=\"&A3&\"\", \"Bar\", \"\", \"Close\",\"5\",\"0\",\"PrimaryOnly\",,,\"False\",\"T\",\"EveryTick\")","v":7097},1.0428901939846948E-2,{"$f":"RTD(\"cqg.rtd\",,\"StudyData\", \"Close(\"&$D$12&\") when LocalYear(\"&$D$12&\")=\"&$D$8&\" and localMonth(\"&$D$12&\") =\"&$E$8&\" and LocalDay(\"&$D$12&\")=\"&$F$8&\" and Barix(\"&$D$12&\",reference:=StartOfSession)=\"&A3&\"\", \"Bar\", \"\", \"Close\",\"5\",\"0\",\"PrimaryOnly\",,,\"False\",\"T\",\"EveryTick\")","v":7103.75},-1.7916110447551464E-3,{"$f":"RTD(\"cqg.rtd\",,\"StudyData\", \"Close(\"&$D$12&\") when LocalYear(\"&$D$12&\")=\"&$D$9&\" and localMonth(\"&$D$12&\") =\"&$E$9&\" and LocalDay(\"&$D$12&\")=\"&$F$9&\" and Barix(\"&$D$12&\",reference:=StartOfSession)=\"&A3&\"\", \"Bar\", \"\", \"Close\",\"5\",\"0\",\"PrimaryOnly\",,,\"False\",\"T\",\"EveryTick\")","v":7013.25},-7.5706654402660344E-3,{"$f":"RTD(\"cqg.rtd\",,\"StudyData\", \"Close(\"&$D$12&\") when LocalYear(\"&$D$12&\")=\"&$D$10&\" and localMonth(\"&$D$12&\") =\"&$E$10&\" and LocalDay(\"&$D$12&\")=\"&$F$10&\" and Barix(\"&$D$12&\",reference:=StartOfSession)=\"&A3&\"\", \"Bar\", \"\", \"Close\",\"5\",\"0\",\"PrimaryOnly\",,,\"False\",\"T\",\"EveryTick\")","v":7109.75},6.9754266694993274E-3,{"$f":"RANK(AD3,$AD$1:$AD$10)+COUNTIF($AD$1:AD3,AD3)-1","v":10},"2018-07-11",{"$f":"IFERROR(VLOOKUP(MAX(AE2:AE81),A1:M81,13,FALSE),\"\")","v":-6.1973567075258506E-3},{"$f":"IF(AND(H2<>\"\",H3<>\"\",H4=\"\"),A3,\"\")","v":""},3,"2018-07-05",8.0085424452749597E-3,null,null,"2018-07-05","2018-07-11",2,6]
[3,"08:45:00",{"$f":" RTD(\"cqg.rtd\",,\"StudyData\",$D$12, \"Bar\", \"\", \"Time\",\"D\",\"-3\",,,,,\"T\")","v":"2018-07-10"},2018,7,10,{"$f":" RTD(\"cqg.rtd\",,\"StudyData\",$D$12, \"Bar\", \"\", \"Close\",\"D\",\"-3\",,,,,\"T\")","v":7301.5},{"$f":"RTD(\"cqg.rtd\",,\"StudyData\", \"Close(\"&$D$12&\") when LocalYear(\"&$D$12&\")=\"&$D$1&\" and localMonth(\"&$D$12&\") =\"&$E$1&\" and LocalDay(\"&$D$12&\")=\"&$F$1&\" and Barix(\"&$D$12&\",reference:=StartOfSession)=\"&A4&\"\", \"Bar\", \"\", \"Close\",\"5\",\"0\",\"PrimaryOnly\",,,\"False\",\"T\",\"EveryTick\")","v":7387.75},6.7725441061934914E-4,{"$f":"RTD(\"cqg.rtd\",,\"StudyData\", \"Close(\"&$D$12&\") when LocalYear(\"&$D$12&\")=\"&$D$2&\" and localMonth(\"&$D$12&\") =\"&$E$2&\" and LocalDay(\"&$D$12&\")=\"&$F$2&\" and Barix(\"&$D$12&\",reference:=StartOfSession)=\"&A4&\"\", \"Bar\", \"\", \"Close\",\"5\",\"0\",\"PrimaryOnly\",,,\"False\",\"T\",\"EveryTick\")","v":7304},6.9274513182836462E-3,{"$f":"RTD(\"cqg.rtd\",,\"StudyData\", \"Close(\"&$D$12&\") when LocalYear(\"&$D$12&\")=\"&$D$3&\" and localMonth(\"&$D$12&\") =\"&$E$3&\" and LocalDay(\"&$D$12&\")=\"&$F$3&\" and Barix(\"&$D$12&\",reference:=StartOfSession)=\"&A4&\"\", \"Bar\", \"\", \"Close\",\"5\",\"0\",\"PrimaryOnly\",,,\"False\",\"T\",\"EveryTick\")","v":7260},-5.6837636102170788E-3,{"$f":"RTD(\"cqg.rtd\",,\"StudyData\", \"Close(\"&$D$12&\") when LocalYear(\"&$D$12&\")=\"&$D$4&\" and localMonth(\"&$D$12&\") =\"&$E$4&\" and LocalDay(\"&$D$12&\")=\"&$F$4&\" and Barix(\"&$D$12&\",reference:=StartOfSession)=\"&A4&\"\", \"Bar\", \"\", \"Close\",\"5\",\"0\",\"PrimaryOnly\",,,\"False\",\"T\",\"EveryTick\")","v":7292.5},-1.061607479195918E-3,{"$f":"RTD(\"cqg.rtd\",,\"StudyData\", \"Close(\"&$D$12&\") when LocalYear(\"&$D$12&\")=\"&$D$5&\" and localMonth(\"&$D$12&\") =\"&$E$5&\" and LocalDay(\"&$D$12&\")=\"&$F$5&\" and Barix(\"&$D$12&\",reference:=StartOfSession)=\"&A4&\"\", \"Bar\", \"\", \"Close\",\"5\",\"0\",\"PrimaryOnly\",,,\"False\",\"T\",\"EveryTick\")","v":7274.25},5.6335107486002629E-3,{"$f":"RTD(\"cqg.rtd\",,\"StudyData\", \"Close(\"&$D$12&\") when LocalYear(\"&$D$12&\")=\"&$D$6&\" and localMonth(\"&$D$12&\") =\"&$E$6&\" and LocalDay(\"&$D$12&\")=\"&$F$6&\" and Barix(\"&$D$12&\",reference:=StartOfSession)=\"&A4&\"\", \"Bar\", \"\", \"Close\",\"5\",\"0\",\"PrimaryOnly\",,,\"False\",\"T\",\"EveryTick\")","v":7147.75},3.0873943093709436E-3,{"$f":"RTD(\"cqg.rtd\",,\"StudyData\", \"Close(\"&$D$12&\") when LocalYear(\"&$D$12&\")=\"&$D$7&\" and localMonth(\"&$D$12&\") =\"&$E$7&\" and LocalDay(\"&$D$12&\")=\"&$F$7&\" and Barix(\"&$D$12&\",reference:=StartOfSession)=\"&A4&\"\", \"Bar\", \"\", \"Close\",\"5\",\"0\",\"PrimaryOnly\",,,\"False\",\"T\",\"EveryTick\")","v":7092},9.7170315002669521E-3,{"$f":"RTD(\"cqg.rtd\",,\"StudyData\", \"Close(\"&$D$12&\") when LocalYear(\"&$D$12&\")=\"&$D$8&\" and localMonth(\"&$D$12&\") =\"&$E$8&\" and LocalDay(\"&$D$12&\")=\"&$F$8&\" and Barix(\"&$D$12&\",reference:=StartOfSession)=\"&A4&\"\", \"Bar\", \"\", \"Close\",\"5\",\"0\",\"PrimaryOnly\",,,\"False\",\"T\",\"EveryTick\")","v":7105.5},-1.5457036464554205E-3,{"$f":"RTD(\"cqg.rtd\",,\"StudyData\", \"Close(\"&$D$12&\") when LocalYear(\"&$D$12&\")=\"&$D$9&\" and localMonth(\"&$D$12&\") =\"&$E$9&\" and LocalDay(\"&$D$12&\")=\"&$F$9&\" and Barix(\"&$D$12&\",reference:=StartOfSession)=\"&A4&\"\", \"Bar\", \"\", \"Close\",\"5\",\"0\",\"PrimaryOnly\",,,\"False\",\"T\",\"EveryTick\")","v":7029.5},-5.2711642551385007E-3,{"$f":"RTD(\"cqg.rtd\",,\"StudyData\", \"Close(\"&$D$12&\") when LocalYear(\"&$D$12&\")=\"&$D$10&\" and localMonth(\"&$D$12&\") =\"&$E$10&\" and LocalDay(\"&$D$12&\")=\"&$F$10&\" and Barix(\"&$D$12&\",reference:=StartOfSession)=\"&A4&\"\", \"Bar\", \"\", \"Close\",\"5\",\"0\",\"PrimaryOnly\",,,\"False\",\"T\",\"EveryTick\")","v":7109},6.8692018978825861E-3,{"$f":"RANK(AD4,$AD$1:$AD$10)+COUNTIF($AD$1:AD4,AD4)-1","v":7},"2018-07-10",{"$f":"IFERROR(VLOOKUP(MAX(AE2:AE81),A1:O81,15,FALSE),\"\")","v":1.0273620766412109E-4},"",4,"2018-06-29",6.2672615253877208E-3,null,null,"2018-06-29","2018-07-10",3,9]
[4,"08:50:00",{"$f":" RTD(\"cqg.rtd\",,\"StudyData\",$D$12, \"Bar\", \"\", \"Time\",\"D\",\"-4\",,,,,\"T\")","v":"2018-07-09"},2018,7,9,{"$f":" RTD(\"cqg.rtd\",,\"StudyData\",$D$12, \"Bar\", \"\", \"Close\",\"D\",\"-4\",,,,,\"T\")","v":7300.25},{"$f":"RTD(\"cqg.rtd\",,\"StudyData\", \"Close(\"&$D$12&\") when LocalYear(\"&$D$12&\")=\"&$D$1&\" and localMonth(\"&$D$12&\") =\"&$E$1&\" and LocalDay(\"&$D$12&\")=\"&$F$1&\" and Barix(\"&$D$12&\",reference:=StartOfSession)=\"&A5&\"\", \"Bar\", \"\", \"Close\",\"5\",\"0\",\"PrimaryOnly\",,,\"False\",\"T\",\"EveryTick\")","v":7373.25},-1.2867833801767634E-3,{"$f":"RTD(\"cqg.rtd\",,\"StudyData\", \"Close(\"&$D$12&\") when LocalYear(\"&$D$12&\")=\"&$D$2&\" and localMonth(\"&$D$12&\") =\"&$E$2&\" and LocalDay(\"&$D$12&\")=\"&$F$2&\" and Barix(\"&$D$12&\",reference:=StartOfSession)=\"&A5&\"\", \"Bar\", \"\", \"Close\",\"5\",\"0\",\"PrimaryOnly\",,,\"False\",\"T\",\"EveryTick\")","v":7312},8.0303291400999482E-3,{"$f":"RTD(\"cqg.rtd\",,\"StudyData\", \"Close(\"&$D$12&\") when LocalYear(\"&$D$12&\")=\"&$D$3&\" and localMonth(\"&$D$12&\") =\"&$E$3&\" and LocalDay(\"&$D$12&\")=\"&$F$3&\" and Barix(\"&$D$12&\",reference:=StartOfSession)=\"&A5&\"\", \"Bar\", \"\", \"Close\",\"5\",\"0\",\"PrimaryOnly\",,,\"False\",\"T\",\"EveryTick\")","v":7268},-4.5880983359583649E-3,{"$f":"RTD(\"cqg.rtd\",,\"StudyData\", \"Close(\"&$D$12&\") when LocalYear(\"&$D$12&\")=\"&$D$4&\" and localMonth(\"&$D$12&\") =\"&$E$4&\" and LocalDay(\"&$D$12&\")=\"&$F$4&\" and Barix(\"&$D$12&\",reference:=StartOfSession)=\"&A5&\"\", \"Bar\", \"\", \"Close\",\"5\",\"0\",\"PrimaryOnly\",,,\"False\",\"T\",\"EveryTick\")","v":7290.5},-1.3355706996335743E-3,{"$f":"RTD(\"cqg.rtd\",,\"StudyData\", \"Close(\"&$D$12&\") when LocalYear(\"&$D$12&\")=\"&$D$5&\" and localMonth(\"&$D$12&\") =\"&$E$5&\" and LocalDay(\"&$D$12&\")=\"&$F$5&\" and Barix(\"&$D$12&\",reference:=StartOfSession)=\"&A5&\"\", \"Bar\", \"\", \"Close\",\"5\",\"0\",\"PrimaryOnly\",,,\"False\",\"T\",\"EveryTick\")","v":7257},3.2487730697449368E-3,{"$f":"RTD(\"cqg.rtd\",,\"StudyData\", \"Close(\"&$D$12&\") when LocalYear(\"&$D$12&\")=\"&$D$6&\" and localMonth(\"&$D$12&\") =\"&$E$6&\" and LocalDay(\"&$D$12&\")=\"&$F$6&\" and Barix(\"&$D$12&\",reference:=StartOfSession)=\"&A5&\"\", \"Bar\", \"\", \"Close\",\"5\",\"0\",\"PrimaryOnly\",,,\"False\",\"T\",\"EveryTick\")","v":7155.25},4.1399150966564919E-3,{"$f":"RTD(\"cqg.rtd\",,\"StudyData\", \"Close(\"&$D$12&\") when LocalYear(\"&$D$12&\")=\"&$D$7&\" and localMonth(\"&$D$12&\") =\"&$E$7&\" and LocalDay(\"&$D$12&\")=\"&$F$7&\" and Barix(\"&$D$12&\",reference:=StartOfSession)=\"&A5&\"\", \"Bar\", \"\", \"Close\",\"5\",\"0\",\"PrimaryOnly\",,,\"False\",\"T\",\"EveryTick\")","v":7088},9.1475351486029546E-3,{"$f":"RTD(\"cqg.rtd\",,\"StudyData\", \"Close(\"&$D$12&\") when LocalYear(\"&$D$12&\")=\"&$D$8&\" and localMonth(\"&$D$12&\") =\"&$E$8&\" and LocalDay(\"&$D$12&\")=\"&$F$8&\" and Barix(\"&$D$12&\",reference:=StartOfSession)=\"&A5&\"\", \"Bar\", \"\", \"Close\",\"5\",\"0\",\"PrimaryOnly\",,,\"False\",\"T\",\"EveryTick\")","v":7098},-2.5995924963113891E-3,{"$f":"RTD(\"cqg.rtd\",,\"StudyData\", \"Close(\"&$D$12&\") when LocalYear(\"&$D$12&\")=\"&$D$9&\" and localMonth(\"&$D$12&\") =\"&$E$9&\" and LocalDay(\"&$D$12&\")=\"&$F$9&\" and Barix(\"&$D$12&\",reference:=StartOfSession)=\"&A5&\"\", \"Bar\", \"\", \"Close\",\"5\",\"0\",\"PrimaryOnly\",,,\"False\",\"T\",\"EveryTick\")","v":7033.25},-4.7405101354936856E-3,{"$f":"RTD(\"cqg.rtd\",,\"StudyData\", \"Close(\"&$D$12&\") when LocalYear(\"&$D$12&\")=\"&$D$10&\" and localMonth(\"&$D$12&\") =\"&$E$10&\" and LocalDay(\"&$D$12&\")=\"&$F$10&\" and Barix(\"&$D$12&\",reference:=StartOfSession)=\"&A5&\"\", \"Bar\", \"\", \"Close\",\"5\",\"0\",\"PrimaryOnly\",,,\"False\",\"T\",\"EveryTick\")","v":7106.5},6.5151193258267829E-3,{"$f":"RANK(AD5,$AD$1:$AD$10)+COUNTIF($AD$1:AD5,AD5)-1","v":5},"2018-07-09",{"$f":"IFERROR(VLOOKUP(MAX(AE2:AE81),A1:Q81,17,FALSE),\"\")","v":4.2856155388124699E-3},"",5,"2018-07-09",4.2856155388124699E-3,null,null,"2018-07-09","2018-07-09",4,4]
[5,"08:55:00",{"$f":" RTD(\"cqg.rtd\",,\"StudyData\",$D$12, \"Bar\", \"\", \"Time\",\"D\",\"-5\",,,,,\"T\")","v":"2018-07-06"},2018,7,6,{"$f":" RTD(\"cqg.rtd\",,\"StudyData\",$D$12, \"Bar\", \"\", \"Close\",\"D\",\"-5\",,,,,\"T\")","v":7233.5},{"$f":"RTD(\"cqg.rtd\",,\"StudyData\", \"Close(\"&$D$12&\") when LocalYear(\"&$D$12&\")=\"&$D$1&\" and localMonth(\"&$D$12&\") =\"&$E$1&\" and LocalDay(\"&$D$12&\")=\"&$F$1&\" and Barix(\"&$D$12&\",reference:=StartOfSession)=\"&A6&\"\", \"Bar\", \"\", \"Close\",\"5\",\"0\",\"PrimaryOnly\",,,\"False\",\"T\",\"EveryTick\")","v":7373.25},-1.2867833801767634E-3,{"$f":"RTD(\"cqg.rtd\",,\"StudyData\", \"Close(\"&$D$12&\") when LocalYear(\"&$D$12&\")=\"&$D$2&\" and localMonth(\"&$D$12&\") =\"&$E$2&\" and LocalDay(\"&$D$12&\")=\"&$F$2&\" and Barix(\"&$D$12&\",reference:=StartOfSession)=\"&A6&\"\", \"Bar\", \"\", \"Close\",\"5\",\"0\",\"PrimaryOnly\",,,\"False\",\"T\",\"EveryTick\")","v":7317.5},8.7885576425986555E-3,{"$f":"RTD(\"cqg.rtd\",,\"StudyData\", \"Close(\"&$D$12&\") when LocalYear(\"&$D$12&\")=\"&$D$3&\" and localMonth(\"&$D$12&\") =\"&$E$3&\" and LocalDay(\"&$D$12&\")=\"&$F$3&\" and Barix(\"&$D$12&\",reference:=StartOfSession)=\"&A6&\"\", \"Bar\", \"\", \"Close\",\"5\",\"0\",\"PrimaryOnly\",,,\"False\",\"T\",\"EveryTick\")","v":7263.75},-5.1701705129083061E-3,{"$f":"RTD(\"cqg.rtd\",,\"StudyData\", \"Close(\"&$D$12&\") when LocalYear(\"&$D$12&\")=\"&$D$4&\" and localMonth(\"&$D$12&\") =\"&$E$4&\" and LocalDay(\"&$D$12&\")=\"&$F$4&\" and Barix(\"&$D$12&\",reference:=StartOfSession)=\"&A6&\"\", \"Bar\", \"\", \"Close\",\"5\",\"0\",\"PrimaryOnly\",,,\"False\",\"T\",\"EveryTick\")","v":7294.25},-8.2188966131296871E-4,{"$f":"RTD(\"cqg.rtd\",,\"StudyData\", \"Close(\"&$D$12&\") when LocalYear(\"&$D$12&\")=\"&$D$5&\" and localMonth(\"&$D$12&\") =\"&$E$5&\" and LocalDay(\"&$D$12&\")=\"&$F$5&\" and Barix(\"&$D$12&\",reference:=StartOfSession)=\"&A6&\"\", \"Bar\", \"\", \"Close\",\"5\",\"0\",\"PrimaryOnly\",,,\"False\",\"T\",\"EveryTick\")","v":7263.5},4.1473698762701317E-3,{"$f":"RTD(\"cqg.rtd\",,\"StudyData\", \"Close(\"&$D$12&\") when LocalYear(\"&$D$12&\")=\"&$D$6&\" and localMonth(\"&$D$12&\") =\"&$E$6&\" and LocalDay(\"&$D$12&\")=\"&$F$6&\" and Barix(\"&$D$12&\",reference:=StartOfSession)=\"&A6&\"\", \"Bar\", \"\", \"Close\",\"5\",\"0\",\"PrimaryOnly\",,,\"False\",\"T\",\"EveryTick\")","v":7161.75},5.0520997789706345E-3,{"$f":"RTD(\"cqg.rtd\",,\"StudyData\", \"Close(\"&$D$12&\") when LocalYear(\"&$D$12&\")=\"&$D$7&\" and localMonth(\"&$D$12&\") =\"&$E$7&\" and LocalDay(\"&$D$12&\")=\"&$F$7&\" and Barix(\"&$D$12&\",reference:=StartOfSession)=\"&A6&\"\", \"Bar\", \"\", \"Close\",\"5\",\"0\",\"PrimaryOnly\",,,\"False\",\"T\",\"EveryTick\")","v":7077.25},7.6170137035059616E-3,{"$f":"RTD(\"cqg.rtd\",,\"StudyData\", \"Close(\"&$D$12&\") when LocalYear(\"&$D$12&\")=\"&$D$8&\" and localMonth(\"&$D$12&\") =\"&$E$8&\" and LocalDay(\"&$D$12&\")=\"&$F$8&\" and Barix(\"&$D$12&\",reference:=StartOfSession)=\"&A6&\"\", \"Bar\", \"\", \"Close\",\"5\",\"0\",\"PrimaryOnly\",,,\"False\",\"T\",\"EveryTick\")","v":7102.5},-1.9672591863978081E-3,{"$f":"RTD(\"cqg.rtd\",,\"StudyData\", \"Close(\"&$D$12&\") when LocalYear(\"&$D$12&\")=\"&$D$9&\" and localMonth(\"&$D$12&\") =\"&$E$9&\" and LocalDay(\"&$D$12&\")=\"&$F$9&\" and Barix(\"&$D$12&\",reference:=StartOfSession)=\"&A6&\"\", \"Bar\", \"\", \"Close\",\"5\",\"0\",\"PrimaryOnly\",,,\"False\",\"T\",\"EveryTick\")","v":7034.5},-4.563625428945413E-3,{"$f":"RTD(\"cqg.rtd\",,\"StudyData\", \"Close(\"&$D$12&\") when LocalYear(\"&$D$12&\")=\"&$D$10&\" and localMonth(\"&$D$12&\") =\"&$E$10&\" and LocalDay(\"&$D$12&\")=\"&$F$10&\" and Barix(\"&$D$12&\",reference:=StartOfSession)=\"&A6&\"\", \"Bar\", \"\", \"Close\",\"5\",\"0\",\"PrimaryOnly\",,,\"False\",\"T\",\"EveryTick\")","v":7105.75},6.4088945542100416E-3,{"$f":"RANK(AD6,$AD$1:$AD$10)+COUNTIF($AD$1:AD6,AD6)-1","v":2},"2018-07-06",{"$f":"IFERROR(VLOOKUP(MAX(AE2:AE81),A1:S81,19,FALSE),\"\")","v":1.0104199557941269E-2},"",6,"2018-07-13",2.7090176424773966E-3,null,null,"2018-07-13","2018-07-06",5,0]
[6,"09:00:00",{"$f":" RTD(\"cqg.rtd\",,\"StudyData\",$D$12, \"Bar\", \"\", \"Time\",\"D\",\"-6\",,,,,\"T\")","v":"2018-07-05"},2018,7,5,{"$f":" RTD(\"cqg.rtd\",,\"StudyData\",$D$12, \"Bar\", \"\", \"Close\",\"D\",\"-6\",,,,,\"T\")","v":7125.75},{"$f":"RTD(\"cqg.rtd\",,\"StudyData\", \"Close(\"&$D$12&\") when LocalYear(\"&$D$12&\")=\"&$D$1&\" and localMonth(\"&$D$12&\") =\"&$E$1&\" and LocalDay(\"&$D$12&\")=\"&$F$1&\" and Barix(\"&$D$12&\",reference:=StartOfSession)=\"&A7&\"\", \"Bar\", \"\", \"Close\",\"5\",\"0\",\"PrimaryOnly\",,,\"False\",\"T\",\"EveryTick\")","v":7383},3.386272053096746E-5,{"$f":"RTD(\"cqg.rtd\",,\"StudyData\", \"Close(\"&$D$12&\") when LocalYear(\"&$D$12&\")=\"&$D$2&\" and localMonth(\"&$D$12&\") =\"&$E$2&\" and LocalDay(\"&$D$12&\")=\"&$F$2&\" and Barix(\"&$D$12&\",reference:=StartOfSession)=\"&A7&\"\", \"Bar\", \"\", \"Close\",\"5\",\"0\",\"PrimaryOnly\",,,\"False\",\"T\",\"EveryTick\")","v":7324.75},9.78804066861968E-3,{"$f":"RTD(\"cqg.rtd\",,\"StudyData\", \"Close(\"&$D$12&\") when LocalYear(\"&$D$12&\")=\"&$D$3&\" and localMonth(\"&$D$12&\") =\"&$E$3&\" and LocalDay(\"&$D$12&\")=\"&$F$3&\" and Barix(\"&$D$12&\",reference:=StartOfSession)=\"&A7&\"\", \"Bar\", \"\", \"Close\",\"5\",\"0\",\"PrimaryOnly\",,,\"False\",\"T\",\"EveryTick\")","v":7278.5},-3.1500376634938025E-3,{"$f":"RTD(\"cqg.rtd\",,\"StudyData\", \"Close(\"&$D$12&\") when LocalYear(\"&$D$12&\")=\"&$D$4&\" and localMonth(\"&$D$12&\") =\"&$E$4&\" and LocalDay(\"&$D$12&\")=\"&$F$4&\" and Barix(\"&$D$12&\",reference:=StartOfSession)=\"&A7&\"\", \"Bar\", \"\", \"Close\",\"5\",\"0\",\"PrimaryOnly\",,,\"False\",\"T\",\"EveryTick\")","v":7296.75},-4.7943563576589843E-4,{"$f":"RTD(\"cqg.rtd\",,\"StudyData\", \"Close(\"&$D$12&\") when LocalYear(\"&$D$12&\")=\"&$D$5&\" and localMonth(\"&$D$12&\") =\"&$E$5&\" and LocalDay(\"&$D$12&\")=\"&$F$5&\" and Barix(\"&$D$12&\",reference:=StartOfSession)=\"&A7&\"\", \"Bar\", \"\", \"Close\",\"5\",\"0\",\"PrimaryOnly\",,,\"False\",\"T\",\"EveryTick\")","v":7260.5},3.7326328886431188E-3,{"$f":"RTD(\"cqg.rtd\",,\"StudyData\", \"Close(\"&$D$12&\") when LocalYear(\"&$D$12&\")=\"&$D$6&\" and localMonth(\"&$D$12&\") =\"&$E$6&\" and LocalDay(\"&$D$12&\")=\"&$F$6&\" and Barix(\"&$D$12&\",reference:=StartOfSession)=\"&A7&\"\", \"Bar\", \"\", \"Close\",\"5\",\"0\",\"PrimaryOnly\",,,\"False\",\"T\",\"EveryTick\")","v":7163.75},5.3327719889134477E-3,{"$f":"RTD(\"cqg.rtd\",,\"StudyData\", \"Close(\"&$D$12&\") when LocalYear(\"&$D$12&\")=\"&$D$7&\" and localMonth(\"&$D$12&\") =\"&$E$7&\" and LocalDay(\"&$D$12&\")=\"&$F$7&\" and Barix(\"&$D$12&\",reference:=StartOfSession)=\"&A7&\"\", \"Bar\", \"\", \"Close\",\"5\",\"0\",\"PrimaryOnly\",,,\"False\",\"T\",\"EveryTick\")","v":7073.75},7.118704395799964E-3,{"$f":"RTD(\"cqg.rtd\",,\"StudyData\", \"Close(\"&$D$12&\") when LocalYear(\"&$D$12&\")=\"&$D$8&\" and localMonth(\"&$D$12&\") =\"&$E$8&\" and LocalDay(\"&$D$12&\")=\"&$F$8&\" and Barix(\"&$D$12&\",reference:=StartOfSession)=\"&A7&\"\", \"Bar\", \"\", \"Close\",\"5\",\"0\",\"PrimaryOnly\",,,\"False\",\"T\",\"EveryTick\")","v":7104},-1.7564814164266142E-3,{"$f":"RTD(\"cqg.rtd\",,\"StudyData\", \"Close(\"&$D$12&\") when LocalYear(\"&$D$12&\")=\"&$D$9&\" and localMonth(\"&$D$12&\") =\"&$E$9&\" and LocalDay(\"&$D$12&\")=\"&$F$9&\" and Barix(\"&$D$12&\",reference:=StartOfSession)=\"&A7&\"\", \"Bar\", \"\", \"Close\",\"5\",\"0\",\"PrimaryOnly\",,,\"False\",\"T\",\"EveryTick\")","v":7043.75},-3.2546786004882017E-3,{"$f":"RTD(\"cqg.rtd\",,\"StudyData\", \"Close(\"&$D$12&\") when LocalYear(\"&$D$12&\")=\"&$D$10&\" and localMonth(\"&$D$12&\") =\"&$E$10&\" and LocalDay(\"&$D$12&\")=\"&$F$10&\" and Barix(\"&$D$12&\",reference:=StartOfSession)=\"&A7&\"\", \"Bar\", \"\", \"Close\",\"5\",\"0\",\"PrimaryOnly\",,,\"False\",\"T\",\"EveryTick\")","v":7110},7.0108349267049078E-3,{"$f":"RANK(AD7,$AD$1:$AD$10)+COUNTIF($AD$1:AD7,AD7)-1","v":3},"2018-07-05",{"$f":"IFERROR(VLOOKUP(MAX(AE2:AE81),A1:U81,21,FALSE),\"\")","v":8.0085424452749597E-3},"",7,"2018-07-10",1.0273620766412109E-4,null,null,"2018-07-10","2018-07-05",6,3]
[7,"09:05:00",{"$f":" RTD(\"cqg.rtd\",,\"StudyData\",$D$12, \"Bar\", \"\", \"Time\",\"D\",\"-7\",,,,,\"T\")","v":"2018-07-03"},2018,7,3,{"$f":" RTD(\"cqg.rtd\",,\"StudyData\",$D$12, \"Bar\", \"\", \"Close\",\"D\",\"-7\",,,,,\"T\")","v":7023.75},{"$f":"RTD(\"cqg.rtd\",,\"StudyData\", \"Close(\"&$D$12&\") when LocalYear(\"&$D$12&\")=\"&$D$1&\" and localMonth(\"&$D$12&\") =\"&$E$1&\" and LocalDay(\"&$D$12&\")=\"&$F$1&\" and Barix(\"&$D$12&\",reference:=StartOfSession)=\"&A8&\"\", \"Bar\", \"\", \"Close\",\"5\",\"0\",\"PrimaryOnly\",,,\"False\",\"T\",\"EveryTick\")","v":7391.5},1.1851952185838611E-3,{"$f":"RTD(\"cqg.rtd\",,\"StudyData\", \"Close(\"&$D$12&\") when LocalYear(\"&$D$12&\")=\"&$D$2&\" and localMonth(\"&$D$12&\") =\"&$E$2&\" and LocalDay(\"&$D$12&\")=\"&$F$2&\" and Barix(\"&$D$12&\",reference:=StartOfSession)=\"&A8&\"\", \"Bar\", \"\", \"Close\",\"5\",\"0\",\"PrimaryOnly\",,,\"False\",\"T\",\"EveryTick\")","v":7328.75},1.0339479579527831E-2,{"$f":"RTD(\"cqg.rtd\",,\"StudyData\", \"Close(\"&$D$12&\") when LocalYear(\"&$D$12&\")=\"&$D$3&\" and localMonth(\"&$D$12&\") =\"&$E$3&\" and LocalDay(\"&$D$12&\")=\"&$F$3&\" and Barix(\"&$D$12&\",reference:=StartOfSession)=\"&A8&\"\", \"Bar\", \"\", \"Close\",\"5\",\"0\",\"PrimaryOnly\",,,\"False\",\"T\",\"EveryTick\")","v":7274},-3.7663493802643291E-3,{"$f":"RTD(\"cqg.rtd\",,\"StudyData\", \"Close(\"&$D$12&\") when LocalYear(\"&$D$12&\")=\"&$D$4&\" and localMonth(\"&$D$12&\") =\"&$E$4&\" and LocalDay(\"&$D$12&\")=\"&$F$4&\" and Barix(\"&$D$12&\",reference:=StartOfSession)=\"&A8&\"\", \"Bar\", \"\", \"Close\",\"5\",\"0\",\"PrimaryOnly\",,,\"False\",\"T\",\"EveryTick\")","v":7295.75},-6.1641724598472658E-4,{"$f":"RTD(\"cqg.rtd\",,\"StudyData\", \"Close(\"&$D$12&\") when LocalYear(\"&$D$12&\")=\"&$D$5&\" and localMonth(\"&$D$12&\") =\"&$E$5&\" and LocalDay(\"&$D$12&\")=\"&$F$5&\" and Barix(\"&$D$12&\",reference:=StartOfSession)=\"&A8&\"\", \"Bar\", \"\", \"Close\",\"5\",\"0\",\"PrimaryOnly\",,,\"False\",\"T\",\"EveryTick\")","v":7256.5},3.1796502384737681E-3,{"$f":"RTD(\"cqg.rtd\",,\"StudyData\", \"Close(\"&$D$12&\") when LocalYear(\"&$D$12&\")=\"&$D$6&\" and localMonth(\"&$D$12&\") =\"&$E$6&\" and LocalDay(\"&$D$12&\")=\"&$F$6&\" and Barix(\"&$D$12&\",reference:=StartOfSession)=\"&A8&\"\", \"Bar\", \"\", \"Close\",\"5\",\"0\",\"PrimaryOnly\",,,\"False\",\"T\",\"EveryTick\")","v":7164.5},5.4380240676420027E-3,{"$f":"RTD(\"cqg.rtd\",,\"StudyData\", \"Close(\"&$D$12&\") when LocalYear(\"&$D$12&\")=\"&$D$7&\" and localMonth(\"&$D$12&\") =\"&$E$7&\" and LocalDay(\"&$D$12&\")=\"&$F$7&\" and Barix(\"&$D$12&\",reference:=StartOfSession)=\"&A8&\"\", \"Bar\", \"\", \"Close\",\"5\",\"0\",\"PrimaryOnly\",,,\"False\",\"T\",\"EveryTick\")","v":7082.25},8.328884143085958E-3,{"$f":"RTD(\"cqg.rtd\",,\"StudyData\", \"Close(\"&$D$12&\") when LocalYear(\"&$D$12&\")=\"&$D$8&\" and localMonth(\"&$D$12&\") =\"&$E$8&\" and LocalDay(\"&$D$12&\")=\"&$F$8&\" and Barix(\"&$D$12&\",reference:=StartOfSession)=\"&A8&\"\", \"Bar\", \"\", \"Close\",\"5\",\"0\",\"PrimaryOnly\",,,\"False\",\"T\",\"EveryTick\")","v":7103},-1.8969999297407433E-3,{"$f":"RTD(\"cqg.rtd\",,\"StudyData\", \"Close(\"&$D$12&\") when LocalYear(\"&$D$12&\")=\"&$D$9&\" and localMonth(\"&$D$12&\") =\"&$E$9&\" and LocalDay(\"&$D$12&\")=\"&$F$9&\" and Barix(\"&$D$12&\",reference:=StartOfSession)=\"&A8&\"\", \"Bar\", \"\", \"Close\",\"5\",\"0\",\"PrimaryOnly\",,,\"False\",\"T\",\"EveryTick\")","v":7040},-3.7853327201330172E-3,{"$f":"RTD(\"cqg.rtd\",,\"StudyData\", \"Close(\"&$D$12&\") when LocalYear(\"&$D$12&\")=\"&$D$10&\" and localMonth(\"&$D$12&\") =\"&$E$10&\" and LocalDay(\"&$D$12&\")=\"&$F$10&\" and Barix(\"&$D$12&\",reference:=StartOfSession)=\"&A8&\"\", \"Bar\", \"\", \"Close\",\"5\",\"0\",\"PrimaryOnly\",,,\"False\",\"T\",\"EveryTick\")","v":7103.75},6.1256284965653992E-3,{"$f":"RANK(AD8,$AD$1:$AD$10)+COUNTIF($AD$1:AD8,AD8)-1","v":9},"2018-07-03",{"$f":"IFERROR(VLOOKUP(MAX(AE2:AE81),A1:W81,23,FALSE),\"\")","v":-2.1780369563690017E-3},"",8,"2018-07-02",-2.0872395372696076E-3,null,null,"2018-07-02","2018-07-03",7,8]
[8,"09:10:00",{"$f":" RTD(\"cqg.rtd\",,\"StudyData\",$D$12, \"Bar\", \"\", \"Time\",\"D\",\"-8\",,,,,\"T\")","v":"2018-07-02"},2018,7,2,{"$f":" RTD(\"cqg.rtd\",,\"StudyData\",$D$12, \"Bar\", \"\", \"Close\",\"D\",\"-8\",,,,,\"T\")","v":7116.5},{"$f":"RTD(\"cqg.rtd\",,\"StudyData\", \"Close(\"&$D$12&\") when LocalYear(\"&$D$12&\")=\"&$D$1&\" and localMonth(\"&$D$12&\") =\"&$E$1&\" and LocalDay(\"&$D$12&\")=\"&$F$1&\" and Barix(\"&$D$12&\",reference:=StartOfSession)=\"&A9&\"\", \"Bar\", \"\", \"Close\",\"5\",\"0\",\"PrimaryOnly\",,,\"False\",\"T\",\"EveryTick\")","v":7392},1.2529206596457959E-3,{"$f":"RTD(\"cqg.rtd\",,\"StudyData\", \"Close(\"&$D$12&\") when LocalYear(\"&$D$12&\")=\"&$D$2&\" and localMonth(\"&$D$12&\") =\"&$E$2&\" and LocalDay(\"&$D$12&\")=\"&$F$2&\" and Barix(\"&$D$12&\",reference:=StartOfSession)=\"&A9&\"\", \"Bar\", \"\", \"Close\",\"5\",\"0\",\"PrimaryOnly\",,,\"False\",\"T\",\"EveryTick\")","v":7325.75},9.9259003963467173E-3,{"$f":"RTD(\"cqg.rtd\",,\"StudyData\", \"Close(\"&$D$12&\") when LocalYear(\"&$D$12&\")=\"&$D$3&\" and localMonth(\"&$D$12&\") =\"&$E$3&\" and LocalDay(\"&$D$12&\")=\"&$F$3&\" and Barix(\"&$D$12&\",reference:=StartOfSession)=\"&A9&\"\", \"Bar\", \"\", \"Close\",\"5\",\"0\",\"PrimaryOnly\",,,\"False\",\"T\",\"EveryTick\")","v":7270.5},-4.2457029377525168E-3,{"$f":"RTD(\"cqg.rtd\",,\"StudyData\", \"Close(\"&$D$12&\") when LocalYear(\"&$D$12&\")=\"&$D$4&\" and localMonth(\"&$D$12&\") =\"&$E$4&\" and LocalDay(\"&$D$12&\")=\"&$F$4&\" and Barix(\"&$D$12&\",reference:=StartOfSession)=\"&A9&\"\", \"Bar\", \"\", \"Close\",\"5\",\"0\",\"PrimaryOnly\",,,\"False\",\"T\",\"EveryTick\")","v":7290.75},-1.3013252970788672E-3,{"$f":"RTD(\"cqg.rtd\",,\"StudyData\", \"Close(\"&$D$12&\") when LocalYear(\"&$D$12&\")=\"&$D$5&\" and localMonth(\"&$D$12&\") =\"&$E$5&\" and LocalDay(\"&$D$12&\")=\"&$F$5&\" and Barix(\"&$D$12&\",reference:=StartOfSession)=\"&A9&\"\", \"Bar\", \"\", \"Close\",\"5\",\"0\",\"PrimaryOnly\",,,\"False\",\"T\",\"EveryTick\")","v":7244.25},1.4861408723301306E-3,{"$f":"RTD(\"cqg.rtd\",,\"StudyData\", \"Close(\"&$D$12&\") when LocalYear(\"&$D$12&\")=\"&$D$6&\" and localMonth(\"&$D$12&\") =\"&$E$6&\" and LocalDay(\"&$D$12&\")=\"&$F$6&\" and Barix(\"&$D$12&\",reference:=StartOfSession)=\"&A9&\"\", \"Bar\", \"\", \"Close\",\"5\",\"0\",\"PrimaryOnly\",,,\"False\",\"T\",\"EveryTick\")","v":7163.5},5.2976879626705957E-3,{"$f":"RTD(\"cqg.rtd\",,\"StudyData\", \"Close(\"&$D$12&\") when LocalYear(\"&$D$12&\")=\"&$D$7&\" and localMonth(\"&$D$12&\") =\"&$E$7&\" and LocalDay(\"&$D$12&\")=\"&$F$7&\" and Barix(\"&$D$12&\",reference:=StartOfSession)=\"&A9&\"\", \"Bar\", \"\", \"Close\",\"5\",\"0\",\"PrimaryOnly\",,,\"False\",\"T\",\"EveryTick\")","v":7068.25},6.3356469122619686E-3,{"$f":"RTD(\"cqg.rtd\",,\"StudyData\", \"Close(\"&$D$12&\") when LocalYear(\"&$D$12&\")=\"&$D$8&\" and localMonth(\"&$D$12&\") =\"&$E$8&\" and LocalDay(\"&$D$12&\")=\"&$F$8&\" and Barix(\"&$D$12&\",reference:=StartOfSession)=\"&A9&\"\", \"Bar\", \"\", \"Close\",\"5\",\"0\",\"PrimaryOnly\",,,\"False\",\"T\",\"EveryTick\")","v":7109.75},-9.4849996487037164E-4,{"$f":"RTD(\"cqg.rtd\",,\"StudyData\", \"Close(\"&$D$12&\") when LocalYear(\"&$D$12&\")=\"&$D$9&\" and localMonth(\"&$D$12&\") =\"&$E$9&\" and LocalDay(\"&$D$12&\")=\"&$F$9&\" and Barix(\"&$D$12&\",reference:=StartOfSession)=\"&A9&\"\", \"Bar\", \"\", \"Close\",\"5\",\"0\",\"PrimaryOnly\",,,\"False\",\"T\",\"EveryTick\")","v":7026},-5.7664414334736621E-3,{"$f":"RTD(\"cqg.rtd\",,\"StudyData\", \"Close(\"&$D$12&\") when LocalYear(\"&$D$12&\")=\"&$D$10&\" and localMonth(\"&$D$12&\") =\"&$E$10&\" and LocalDay(\"&$D$12&\")=\"&$F$10&\" and Barix(\"&$D$12&\",reference:=StartOfSession)=\"&A9&\"\", \"Bar\", \"\", \"Close\",\"5\",\"0\",\"PrimaryOnly\",,,\"False\",\"T\",\"EveryTick\")","v":7095.75},4.9925642659868277E-3,{"$f":"RANK(AD9,$AD$1:$AD$10)+COUNTIF($AD$1:AD9,AD9)-1","v":8},"2018-07-02",{"$f":"IFERROR(VLOOKUP(MAX(AE2:AE81),A1:Y81,25,FALSE),\"\")","v":-2.0872395372696076E-3},"",9,"2018-07-03",-2.1780369563690017E-3,null,null,"2018-07-03","2018-07-02",8,7]
[9,"09:15:00",{"$f":" RTD(\"cqg.rtd\",,\"StudyData\",$D$12, \"Bar\", \"\", \"Time\",\"D\",\"-9\",,,,,\"T\")","v":"2018-06-29"},2018,6,29,{"$f":" RTD(\"cqg.rtd\",,\"StudyData\",$D$12, \"Bar\", \"\", \"Close\",\"D\",\"-9\",,,,,\"T\")","v":7066.75},{"$f":"RTD(\"cqg.rtd\",,\"StudyData\", \"Close(\"&$D$12&\") when LocalYear(\"&$D$12&\")=\"&$D$1&\" and localMonth(\"&$D$12&\") =\"&$E$1&\" and LocalDay(\"&$D$12&\")=\"&$F$1&\" and Barix(\"&$D$12&\",reference:=StartOfSession)=\"&A10&\"\", \"Bar\", \"\", \"Close\",\"5\",\"0\",\"PrimaryOnly\",,,\"False\",\"T\",\"EveryTick\")","v":7386.25},4.7407808743354441E-4,{"$f":"RTD(\"cqg.rtd\",,\"StudyData\", \"Close(\"&$D$12&\") when LocalYear(\"&$D$12&\")=\"&$D$2&\" and localMonth(\"&$D$12&\") =\"&$E$2&\" and LocalDay(\"&$D$12&\")=\"&$F$2&\" and Barix(\"&$D$12&\",reference:=StartOfSession)=\"&A10&\"\", \"Bar\", \"\", \"Close\",\"5\",\"0\",\"PrimaryOnly\",,,\"False\",\"T\",\"EveryTick\")","v":7329.5},1.0442874375323109E-2,{"$f":"RTD(\"cqg.rtd\",,\"StudyData\", \"Close(\"&$D$12&\") when LocalYear(\"&$D$12&\")=\"&$D$3&\" and localMonth(\"&$D$12&\") =\"&$E$3&\" and LocalDay(\"&$D$12&\")=\"&$F$3&\" and Barix(\"&$D$12&\",reference:=StartOfSession)=\"&A10&\"\", \"Bar\", \"\", \"Close\",\"5\",\"0\",\"PrimaryOnly\",,,\"False\",\"T\",\"EveryTick\")","v":7284},-2.3967677874409368E-3,{"$f":"RTD(\"cqg.rtd\",,\"StudyData\", \"Close(\"&$D$12&\") when LocalYear(\"&$D$12&\")=\"&$D$4&\" and localMonth(\"&$D$12&\") =\"&$E$4&\" and LocalDay(\"&$D$12&\")=\"&$F$4&\" and Barix(\"&$D$12&\",reference:=StartOfSession)=\"&A10&\"\", \"Bar\", \"\", \"Close\",\"5\",\"0\",\"PrimaryOnly\",,,\"False\",\"T\",\"EveryTick\")","v":7300.25},0,{"$f":"RTD(\"cqg.rtd\",,\"StudyData\", \"Close(\"&$D$12&\") when LocalYear(\"&$D$12&\")=\"&$D$5&\" and localMonth(\"&$D$12&\") =\"&$E$5&\" and LocalDay(\"&$D$12&\")=\"&$F$5&\" and Barix(\"&$D$12&\",reference:=StartOfSession)=\"&A10&\"\", \"Bar\", \"\", \"Close\",\"5\",\"0\",\"PrimaryOnly\",,,\"False\",\"T\",\"EveryTick\")","v":7245.5},1.6589479505080527E-3,{"$f":"RTD(\"cqg.rtd\",,\"StudyData\", \"Close(\"&$D$12&\") when LocalYear(\"&$D$12&\")=\"&$D$6&\" and localMonth(\"&$D$12&\") =\"&$E$6&\" and LocalDay(\"&$D$12&\")=\"&$F$6&\" and Barix(\"&$D$12&\",reference:=StartOfSession)=\"&A10&\"\", \"Bar\", \"\", \"Close\",\"5\",\"0\",\"PrimaryOnly\",,,\"False\",\"T\",\"EveryTick\")","v":7160},4.8065115952706733E-3,{"$f":"RTD(\"cqg.rtd\",,\"StudyData\", \"Close(\"&$D$12&\") when LocalYear(\"&$D$12&\")=\"&$D$7&\" and localMonth(\"&$D$12&\") =\"&$E$7&\" and LocalDay(\"&$D$12&\")=\"&$F$7&\" and Barix(\"&$D$12&\",reference:=StartOfSession)=\"&A10&\"\", \"Bar\", \"\", \"Close\",\"5\",\"0\",\"PrimaryOnly\",,,\"False\",\"T\",\"EveryTick\")","v":7065.5},5.9441181704929704E-3,{"$f":"RTD(\"cqg.rtd\",,\"StudyData\", \"Close(\"&$D$12&\") when LocalYear(\"&$D$12&\")=\"&$D$8&\" and localMonth(\"&$D$12&\") =\"&$E$8&\" and LocalDay(\"&$D$12&\")=\"&$F$8&\" and Barix(\"&$D$12&\",reference:=StartOfSession)=\"&A10&\"\", \"Bar\", \"\", \"Close\",\"5\",\"0\",\"PrimaryOnly\",,,\"False\",\"T\",\"EveryTick\")","v":7113},-4.9181479659945202E-4,{"$f":"RTD(\"cqg.rtd\",,\"StudyData\", \"Close(\"&$D$12&\") when LocalYear(\"&$D$12&\")=\"&$D$9&\" and localMonth(\"&$D$12&\") =\"&$E$9&\" and LocalDay(\"&$D$12&\")=\"&$F$9&\" and Barix(\"&$D$12&\",reference:=StartOfSession)=\"&A10&\"\", \"Bar\", \"\", \"Close\",\"5\",\"0\",\"PrimaryOnly\",,,\"False\",\"T\",\"EveryTick\")","v":7038.25},-4.0329713093005979E-3,{"$f":"RTD(\"cqg.rtd\",,\"StudyData\", \"Close(\"&$D$12&\") when LocalYear(\"&$D$12&\")=\"&$D$10&\" and localMonth(\"&$D$12&\") =\"&$E$10&\" and LocalDay(\"&$D$12&\")=\"&$F$10&\" and Barix(\"&$D$12&\",reference:=StartOfSession)=\"&A10&\"\", \"Bar\", \"\", \"Close\",\"5\",\"0\",\"PrimaryOnly\",,,\"False\",\"T\",\"EveryTick\")","v":7098.5},5.3820550952482123E-3,{"$f":"RANK(AD10,$AD$1:$AD$10)+COUNTIF($AD$1:AD10,AD10)-1","v":4},"2018-06-29",{"$f":"IFERROR(VLOOKUP(MAX(AE2:AE81),A1:AA81,27,FALSE),\"\")","v":6.2672615253877208E-3},"",10,"2018-07-11",-6.1973567075258506E-3,null,null,"2018-07-11","2018-06-29",9,2]
[10,"09:20:00",{"$f":" RTD(\"cqg.rtd\",,\"StudyData\",$D$12, \"Bar\", \"\", \"Time\",\"D\",\"-10\",,,,,\"T\")","v":"2018-06-28"},2018,6,28,{"$f":" RTD(\"cqg.rtd\",,\"StudyData\",$D$12, \"Bar\", \"\", \"Close\",\"D\",\"-10\",,,,,\"T\")","v":7060.5},{"$f":"RTD(\"cqg.rtd\",,\"StudyData\", \"Close(\"&$D$12&\") when LocalYear(\"&$D$12&\")=\"&$D$1&\" and localMonth(\"&$D$12&\") =\"&$E$1&\" and LocalDay(\"&$D$12&\")=\"&$F$1&\" and Barix(\"&$D$12&\",reference:=StartOfSession)=\"&A11&\"\", \"Bar\", \"\", \"Close\",\"5\",\"0\",\"PrimaryOnly\",,,\"False\",\"T\",\"EveryTick\")","v":7393.5},1.4560969828316006E-3,{"$f":"RTD(\"cqg.rtd\",,\"StudyData\", \"Close(\"&$D$12&\") when LocalYear(\"&$D$12&\")=\"&$D$2&\" and localMonth(\"&$D$12&\") =\"&$E$2&\" and LocalDay(\"&$D$12&\")=\"&$F$2&\" and Barix(\"&$D$12&\",reference:=StartOfSession)=\"&A11&\"\", \"Bar\", \"\", \"Close\",\"5\",\"0\",\"PrimaryOnly\",,,\"False\",\"T\",\"EveryTick\")","v":7328.75},1.0339479579527831E-2,{"$f":"RTD(\"cqg.rtd\",,\"StudyData\", \"Close(\"&$D$12&\") when LocalYear(\"&$D$12&\")=\"&$D$3&\" and localMonth(\"&$D$12&\") =\"&$E$3&\" and LocalDay(\"&$D$12&\")=\"&$F$3&\" and Barix(\"&$D$12&\",reference:=StartOfSession)=\"&A11&\"\", \"Bar\", \"\", \"Close\",\"5\",\"0\",\"PrimaryOnly\",,,\"False\",\"T\",\"EveryTick\")","v":7284.75},-2.2940491679791825E-3,{"$f":"RTD(\"cqg.rtd\",,\"StudyData\", \"Close(\"&$D$12&\") when LocalYear(\"&$D$12&\")=\"&$D$4&\" and localMonth(\"&$D$12&\") =\"&$E$4&\" and LocalDay(\"&$D$12&\")=\"&$F$4&\" and Barix(\"&$D$12&\",reference:=StartOfSession)=\"&A11&\"\", \"Bar\", \"\", \"Close\",\"5\",\"0\",\"PrimaryOnly\",,,\"False\",\"T\",\"EveryTick\")","v":7298.5},-2.3971781788294921E-4,{"$f":"RTD(\"cqg.rtd\",,\"StudyData\", \"Close(\"&$D$12&\") when LocalYear(\"&$D$12&\")=\"&$D$5&\" and localMonth(\"&$D$12&\") =\"&$E$5&\" and LocalDay(\"&$D$12&\")=\"&$F$5&\" and Barix(\"&$D$12&\",reference:=StartOfSession)=\"&A11&\"\", \"Bar\", \"\", \"Close\",\"5\",\"0\",\"PrimaryOnly\",,,\"False\",\"T\",\"EveryTick\")","v":7250.75},2.3847376788553257E-3,{"$f":"RTD(\"cqg.rtd\",,\"StudyData\", \"Close(\"&$D$12&\") when LocalYear(\"&$D$12&\")=\"&$D$6&\" and localMonth(\"&$D$12&\") =\"&$E$6&\" and LocalDay(\"&$D$12&\")=\"&$F$6&\" and Barix(\"&$D$12&\",reference:=StartOfSession)=\"&A11&\"\", \"Bar\", \"\", \"Close\",\"5\",\"0\",\"PrimaryOnly\",,,\"False\",\"T\",\"EveryTick\")","v":7157.5},4.4556713328421571E-3,{"$f":"RTD(\"cqg.rtd\",,\"StudyData\", \"Close(\"&$D$12&\") when LocalYear(\"&$D$12&\")=\"&$D$7&\" and localMonth(\"&$D$12&\") =\"&$E$7&\" and LocalDay(\"&$D$12&\")=\"&$F$7&\" and Barix(\"&$D$12&\",reference:=StartOfSession)=\"&A11&\"\", \"Bar\", \"\", \"Close\",\"5\",\"0\",\"PrimaryOnly\",,,\"False\",\"T\",\"EveryTick\")","v":7065.25},5.9085246485139709E-3,{"$f":"RTD(\"cqg.rtd\",,\"StudyData\", \"Close(\"&$D$12&\") when LocalYear(\"&$D$12&\")=\"&$D$8&\" and localMonth(\"&$D$12&\") =\"&$E$8&\" and LocalDay(\"&$D$12&\")=\"&$F$8&\" and Barix(\"&$D$12&\",reference:=StartOfSession)=\"&A11&\"\", \"Bar\", \"\", \"Close\",\"5\",\"0\",\"PrimaryOnly\",,,\"False\",\"T\",\"EveryTick\")","v":7112.25},-5.9720368158504885E-4,{"$f":"RTD(\"cqg.rtd\",,\"StudyData\", \"Close(\"&$D$12&\") when LocalYear(\"&$D$12&\")=\"&$D$9&\" and localMonth(\"&$D$12&\") =\"&$E$9&\" and LocalDay(\"&$D$12&\")=\"&$F$9&\" and Barix(\"&$D$12&\",reference:=StartOfSession)=\"&A11&\"\", \"Bar\", \"\", \"Close\",\"5\",\"0\",\"PrimaryOnly\",,,\"False\",\"T\",\"EveryTick\")","v":7039.75},-3.8207096614426717E-3,{"$f":"RTD(\"cqg.rtd\",,\"StudyData\", \"Close(\"&$D$12&\") when LocalYear(\"&$D$12&\")=\"&$D$10&\" and localMonth(\"&$D$12&\") =\"&$E$10&\" and LocalDay(\"&$D$12&\")=\"&$F$10&\" and Barix(\"&$D$12&\",reference:=StartOfSession)=\"&A11&\"\", \"Bar\", \"\", \"Close\",\"5\",\"0\",\"PrimaryOnly\",,,\"False\",\"T\",\"EveryTick\")","v":7105.75},6.4088945542100416E-3,null,null,null,""]
[11,"09:25:00",null,{"$f":"MainDisplay!B5","v":"ENQ"},null,null,null,{"$f":"RTD(\"cqg.rtd\",,\"StudyData\", \"Close(\"&$D$12&\") when LocalYear(\"&$D$12&\")=\"&$D$1&\" and localMonth(\"&$D$12&\") =\"&$E$1&\" and LocalDay(\"&$D$12&\")=\"&$F$1&\" and Barix(\"&$D$12&\",reference:=StartOfSession)=\"&A12&\"\", \"Bar\", \"\", \"Close\",\"5\",\"0\",\"PrimaryOnly\",,,\"False\",\"T\",\"EveryTick\")","v":7396.25},1.8285869086722428E-3,{"$f":"RTD(\"cqg.rtd\",,\"StudyData\", \"Close(\"&$D$12&\") when LocalYear(\"&$D$12&\")=\"&$D$2&\" and localMonth(\"&$D$12&\") =\"&$E$2&\" and LocalDay(\"&$D$12&\")=\"&$F$2&\" and Barix(\"&$D$12&\",reference:=StartOfSession)=\"&A12&\"\", \"Bar\", \"\", \"Close\",\"5\",\"0\",\"PrimaryOnly\",,,\"False\",\"T\",\"EveryTick\")","v":7340},1.1890401516457006E-2,{"$f":"RTD(\"cqg.rtd\",,\"StudyData\", \"Close(\"&$D$12&\") when LocalYear(\"&$D$12&\")=\"&$D$3&\" and localMonth(\"&$D$12&\") =\"&$E$3&\" and LocalDay(\"&$D$12&\")=\"&$F$3&\" and Barix(\"&$D$12&\",reference:=StartOfSession)=\"&A12&\"\", \"Bar\", \"\", \"Close\",\"5\",\"0\",\"PrimaryOnly\",,,\"False\",\"T\",\"EveryTick\")","v":7285.75},-2.157091008696843E-3,{"$f":"RTD(\"cqg.rtd\",,\"StudyData\", \"Close(\"&$D$12&\") when LocalYear(\"&$D$12&\")=\"&$D$4&\" and localMonth(\"&$D$12&\") =\"&$E$4&\" and LocalDay(\"&$D$12&\")=\"&$F$4&\" and Barix(\"&$D$12&\",reference:=StartOfSession)=\"&A12&\"\", \"Bar\", \"\", \"Close\",\"5\",\"0\",\"PrimaryOnly\",,,\"False\",\"T\",\"EveryTick\")","v":7300.5},3.4245402554707032E-5,{"$f":"RTD(\"cqg.rtd\",,\"StudyData\", \"Close(\"&$D$12&\") when LocalYear(\"&$D$12&\")=\"&$D$5&\" and localMonth(\"&$D$12&\") =\"&$E$5&\" and LocalDay(\"&$D$12&\")=\"&$F$5&\" and Barix(\"&$D$12&\",reference:=StartOfSession)=\"&A12&\"\", \"Bar\", \"\", \"Close\",\"5\",\"0\",\"PrimaryOnly\",,,\"False\",\"T\",\"EveryTick\")","v":7244},1.4515794566945463E-3,{"$f":"RTD(\"cqg.rtd\",,\"StudyData\", \"Close(\"&$D$12&\") when LocalYear(\"&$D$12&\")=\"&$D$6&\" and localMonth(\"&$D$12&\") =\"&$E$6&\" and LocalDay(\"&$D$12&\")=\"&$F$6&\" and Barix(\"&$D$12&\",reference:=StartOfSession)=\"&A12&\"\", \"Bar\", \"\", \"Close\",\"5\",\"0\",\"PrimaryOnly\",,,\"False\",\"T\",\"EveryTick\")","v":7162.25},5.1222678314563376E-3,{"$f":"RTD(\"cqg.rtd\",,\"StudyData\", \"Close(\"&$D$12&\") when LocalYear(\"&$D$12&\")=\"&$D$7&\" and localMonth(\"&$D$12&\") =\"&$E$7&\" and LocalDay(\"&$D$12&\")=\"&$F$7&\" and Barix(\"&$D$12&\",reference:=StartOfSession)=\"&A12&\"\", \"Bar\", \"\", \"Close\",\"5\",\"0\",\"PrimaryOnly\",,,\"False\",\"T\",\"EveryTick\")","v":7066},6.0153052144509703E-3,{"$f":"RTD(\"cqg.rtd\",,\"StudyData\", \"Close(\"&$D$12&\") when LocalYear(\"&$D$12&\")=\"&$D$8&\" and localMonth(\"&$D$12&\") =\"&$E$8&\" and LocalDay(\"&$D$12&\")=\"&$F$8&\" and Barix(\"&$D$12&\",reference:=StartOfSession)=\"&A12&\"\", \"Bar\", \"\", \"Close\",\"5\",\"0\",\"PrimaryOnly\",,,\"False\",\"T\",\"EveryTick\")","v":7109},-1.0538888498559686E-3,{"$f":"RTD(\"cqg.rtd\",,\"StudyData\", \"Close(\"&$D$12&\") when LocalYear(\"&$D$12&\")=\"&$D$9&\" and localMonth(\"&$D$12&\") =\"&$E$9&\" and LocalDay(\"&$D$12&\")=\"&$F$9&\" and Barix(\"&$D$12&\",reference:=StartOfSession)=\"&A12&\"\", \"Bar\", \"\", \"Close\",\"5\",\"0\",\"PrimaryOnly\",,,\"False\",\"T\",\"EveryTick\")","v":7051.75},-2.1226164785792621E-3,{"$f":"RTD(\"cqg.rtd\",,\"StudyData\", \"Close(\"&$D$12&\") when LocalYear(\"&$D$12&\")=\"&$D$10&\" and localMonth(\"&$D$12&\") =\"&$E$10&\" and LocalDay(\"&$D$12&\")=\"&$F$10&\" and Barix(\"&$D$12&\",reference:=StartOfSession)=\"&A12&\"\", \"Bar\", \"\", \"Close\",\"5\",\"0\",\"PrimaryOnly\",,,\"False\",\"T\",\"EveryTick\")","v":7097},5.1696055520147298E-3,null,{"$f":"VLOOKUP(MAX(AE2:AE81),A1:B81,2,FALSE)","v":"10:25:00"},null,""]
[12,"09:30:00",null,{"$f":"RTD(\"cqg.rtd\", ,\"ContractData\",D12, \"LastQuoteToday\",, \"T\")","v":7403},null,null,{"$f":"C1","v":"2018-07-13"},{"$f":"RTD(\"cqg.rtd\",,\"StudyData\", \"Close(\"&$D$12&\") when LocalYear(\"&$D$12&\")=\"&$D$1&\" and localMonth(\"&$D$12&\") =\"&$E$1&\" and LocalDay(\"&$D$12&\")=\"&$F$1&\" and Barix(\"&$D$12&\",reference:=StartOfSession)=\"&A13&\"\", \"Bar\", \"\", \"Close\",\"5\",\"0\",\"PrimaryOnly\",,,\"False\",\"T\",\"EveryTick\")","v":7394.5},1.5915478649554705E-3,{"$f":"RTD(\"cqg.rtd\",,\"StudyData\", \"Close(\"&$D$12&\") when LocalYear(\"&$D$12&\")=\"&$D$2&\" and localMonth(\"&$D$12&\") =\"&$E$2&\" and LocalDay(\"&$D$12&\")=\"&$F$2&\" and Barix(\"&$D$12&\",reference:=StartOfSession)=\"&A13&\"\", \"Bar\", \"\", \"Close\",\"5\",\"0\",\"PrimaryOnly\",,,\"False\",\"T\",\"EveryTick\")","v":7343},1.2303980699638117E-2,{"$f":"RTD(\"cqg.rtd\",,\"StudyData\", \"Close(\"&$D$12&\") when LocalYear(\"&$D$12&\")=\"&$D$3&\" and localMonth(\"&$D$12&\") =\"&$E$3&\" and LocalDay(\"&$D$12&\")=\"&$F$3&\" and Barix(\"&$D$12&\",reference:=StartOfSession)=\"&A13&\"\", \"Bar\", \"\", \"Close\",\"5\",\"0\",\"PrimaryOnly\",,,\"False\",\"T\",\"EveryTick\")","v":7282.5},-2.6022050263644456E-3,{"$f":"RTD(\"cqg.rtd\",,\"StudyData\", \"Close(\"&$D$12&\") when LocalYear(\"&$D$12&\")=\"&$D$4&\" and localMonth(\"&$D$12&\") =\"&$E$4&\" and LocalDay(\"&$D$12&\")=\"&$F$4&\" and Barix(\"&$D$12&\",reference:=StartOfSession)=\"&A13&\"\", \"Bar\", \"\", \"Close\",\"5\",\"0\",\"PrimaryOnly\",,,\"False\",\"T\",\"EveryTick\")","v":7306},7.8764425875826167E-4,{"$f":"RTD(\"cqg.rtd\",,\"StudyData\", \"Close(\"&$D$12&\") when LocalYear(\"&$D$12&\")=\"&$D$5&\" and localMonth(\"&$D$12&\") =\"&$E$5&\" and LocalDay(\"&$D$12&\")=\"&$F$5&\" and Barix(\"&$D$12&\",reference:=StartOfSession)=\"&A13&\"\", \"Bar\", \"\", \"Close\",\"5\",\"0\",\"PrimaryOnly\",,,\"False\",\"T\",\"EveryTick\")","v":7242.5},1.2442109628810396E-3,{"$f":"RTD(\"cqg.rtd\",,\"StudyData\", \"Close(\"&$D$12&\") when LocalYear(\"&$D$12&\")=\"&$D$6&\" and localMonth(\"&$D$12&\") =\"&$E$6&\" and LocalDay(\"&$D$12&\")=\"&$F$6&\" and Barix(\"&$D$12&\",reference:=StartOfSession)=\"&A13&\"\", \"Bar\", \"\", \"Close\",\"5\",\"0\",\"PrimaryOnly\",,,\"False\",\"T\",\"EveryTick\")","v":7156.5},4.3153352278707501E-3,{"$f":"RTD(\"cqg.rtd\",,\"StudyData\", \"Close(\"&$D$12&\") when LocalYear(\"&$D$12&\")=\"&$D$7&\" and localMonth(\"&$D$12&\") =\"&$E$7&\" and LocalDay(\"&$D$12&\")=\"&$F$7&\" and Barix(\"&$D$12&\",reference:=StartOfSession)=\"&A13&\"\", \"Bar\", \"\", \"Close\",\"5\",\"0\",\"PrimaryOnly\",,,\"False\",\"T\",\"EveryTick\")","v":7061.75},5.4102153408079733E-3,{"$f":"RTD(\"cqg.rtd\",,\"StudyData\", \"Close(\"&$D$12&\") when LocalYear(\"&$D$12&\")=\"&$D$8&\" and localMonth(\"&$D$12&\") =\"&$E$8&\" and LocalDay(\"&$D$12&\")=\"&$F$8&\" and Barix(\"&$D$12&\",reference:=StartOfSession)=\"&A13&\"\", \"Bar\", \"\", \"Close\",\"5\",\"0\",\"PrimaryOnly\",,,\"False\",\"T\",\"EveryTick\")","v":7118.25},2.4590739829972601E-4,{"$f":"RTD(\"cqg.rtd\",,\"StudyData\", \"Close(\"&$D$12&\") when LocalYear(\"&$D$12&\")=\"&$D$9&\" and localMonth(\"&$D$12&\") =\"&$E$9&\" and LocalDay(\"&$D$12&\")=\"&$F$9&\" and Barix(\"&$D$12&\",reference:=StartOfSession)=\"&A13&\"\", \"Bar\", \"\", \"Close\",\"5\",\"0\",\"PrimaryOnly\",,,\"False\",\"T\",\"EveryTick\")","v":7056.75},-1.4150776523861746E-3,{"$f":"RTD(\"cqg.rtd\",,\"StudyData\", \"Close(\"&$D$12&\") when LocalYear(\"&$D$12&\")=\"&$D$10&\" and localMonth(\"&$D$12&\") =\"&$E$10&\" and LocalDay(\"&$D$12&\")=\"&$F$10&\" and Barix(\"&$D$12&\",reference:=StartOfSession)=\"&A13&\"\", \"Bar\", \"\", \"Close\",\"5\",\"0\",\"PrimaryOnly\",,,\"False\",\"T\",\"EveryTick\")","v":7102.25},5.9131789533319167E-3,null,null,null,""]
[13,"09:35:00",null,{"$f":"RTD(\"cqg.rtd\", ,\"ContractData\",D12, \"LongDescription\",, \"T\")","v":"E-mini NASDAQ-100, Sep 18"},null,null,{"$f":"C2","v":"2018-07-12"},{"$f":"RTD(\"cqg.rtd\",,\"StudyData\", \"Close(\"&$D$12&\") when LocalYear(\"&$D$12&\")=\"&$D$1&\" and localMonth(\"&$D$12&\") =\"&$E$1&\" and LocalDay(\"&$D$12&\")=\"&$F$1&\" and Barix(\"&$D$12&\",reference:=StartOfSession)=\"&A14&\"\", \"Bar\", \"\", \"Close\",\"5\",\"0\",\"PrimaryOnly\",,,\"False\",\"T\",\"EveryTick\")","v":7399.25},2.234939555043852E-3,{"$f":"RTD(\"cqg.rtd\",,\"StudyData\", \"Close(\"&$D$12&\") when LocalYear(\"&$D$12&\")=\"&$D$2&\" and localMonth(\"&$D$12&\") =\"&$E$2&\" and LocalDay(\"&$D$12&\")=\"&$F$2&\" and Barix(\"&$D$12&\",reference:=StartOfSession)=\"&A14&\"\", \"Bar\", \"\", \"Close\",\"5\",\"0\",\"PrimaryOnly\",,,\"False\",\"T\",\"EveryTick\")","v":7342.5},1.22350508357746E-2,{"$f":"RTD(\"cqg.rtd\",,\"StudyData\", \"Close(\"&$D$12&\") when LocalYear(\"&$D$12&\")=\"&$D$3&\" and localMonth(\"&$D$12&\") =\"&$E$3&\" and LocalDay(\"&$D$12&\")=\"&$F$3&\" and Barix(\"&$D$12&\",reference:=StartOfSession)=\"&A14&\"\", \"Bar\", \"\", \"Close\",\"5\",\"0\",\"PrimaryOnly\",,,\"False\",\"T\",\"EveryTick\")","v":7284.25},-2.3625282476203522E-3,{"$f":"RTD(\"cqg.rtd\",,\"StudyData\", \"Close(\"&$D$12&\") when LocalYear(\"&$D$12&\")=\"&$D$4&\" and localMonth(\"&$D$12&\") =\"&$E$4&\" and LocalDay(\"&$D$12&\")=\"&$F$4&\" and Barix(\"&$D$12&\",reference:=StartOfSession)=\"&A14&\"\", \"Bar\", \"\", \"Close\",\"5\",\"0\",\"PrimaryOnly\",,,\"False\",\"T\",\"EveryTick\")","v":7310.25},1.3698161021882813E-3,{"$f":"RTD(\"cqg.rtd\",,\"StudyData\", \"Close(\"&$D$12&\") when LocalYear(\"&$D$12&\")=\"&$D$5&\" and localMonth(\"&$D$12&\") =\"&$E$5&\" and LocalDay(\"&$D$12&\")=\"&$F$5&\" and Barix(\"&$D$12&\",reference:=StartOfSession)=\"&A14&\"\", \"Bar\", \"\", \"Close\",\"5\",\"0\",\"PrimaryOnly\",,,\"False\",\"T\",\"EveryTick\")","v":7251.25},2.4538605101264948E-3,{"$f":"RTD(\"cqg.rtd\",,\"StudyData\", \"Close(\"&$D$12&\") when LocalYear(\"&$D$12&\")=\"&$D$6&\" and localMonth(\"&$D$12&\") =\"&$E$6&\" and LocalDay(\"&$D$12&\")=\"&$F$6&\" and Barix(\"&$D$12&\",reference:=StartOfSession)=\"&A14&\"\", \"Bar\", \"\", \"Close\",\"5\",\"0\",\"PrimaryOnly\",,,\"False\",\"T\",\"EveryTick\")","v":7161},4.9468477002420795E-3,{"$f":"RTD(\"cqg.rtd\",,\"StudyData\", \"Close(\"&$D$12&\") when LocalYear(\"&$D$12&\")=\"&$D$7&\" and localMonth(\"&$D$12&\") =\"&$E$7&\" and LocalDay(\"&$D$12&\")=\"&$F$7&\" and Barix(\"&$D$12&\",reference:=StartOfSession)=\"&A14&\"\", \"Bar\", \"\", \"Close\",\"5\",\"0\",\"PrimaryOnly\",,,\"False\",\"T\",\"EveryTick\")","v":7054.75},4.4135967253959782E-3,{"$f":"RTD(\"cqg.rtd\",,\"StudyData\", \"Close(\"&$D$12&\") when LocalYear(\"&$D$12&\")=\"&$D$8&\" and localMonth(\"&$D$12&\") =\"&$E$8&\" and LocalDay(\"&$D$12&\")=\"&$F$8&\" and Barix(\"&$D$12&\",reference:=StartOfSession)=\"&A14&\"\", \"Bar\", \"\", \"Close\",\"5\",\"0\",\"PrimaryOnly\",,,\"False\",\"T\",\"EveryTick\")","v":7120.75},5.9720368158504885E-4,{"$f":"RTD(\"cqg.rtd\",,\"StudyData\", \"Close(\"&$D$12&\") when LocalYear(\"&$D$12&\")=\"&$D$9&\" and localMonth(\"&$D$12&\") =\"&$E$9&\" and LocalDay(\"&$D$12&\")=\"&$F$9&\" and Barix(\"&$D$12&\",reference:=StartOfSession)=\"&A14&\"\", \"Bar\", \"\", \"Close\",\"5\",\"0\",\"PrimaryOnly\",,,\"False\",\"T\",\"EveryTick\")","v":7059.5},-1.0259312979799767E-3,{"$f":"RTD(\"cqg.rtd\",,\"StudyData\", \"Close(\"&$D$12&\") when LocalYear(\"&$D$12&\")=\"&$D$10&\" and localMonth(\"&$D$12&\") =\"&$E$10&\" and LocalDay(\"&$D$12&\")=\"&$F$10&\" and Barix(\"&$D$12&\",reference:=StartOfSession)=\"&A14&\"\", \"Bar\", \"\", \"Close\",\"5\",\"0\",\"PrimaryOnly\",,,\"False\",\"T\",\"EveryTick\")","v":7106},6.444302811415622E-3,null,null,null,""]
[14,"09:40:00","",null,null,null,"2018-07-11",{"$f":"RTD(\"cqg.rtd\",,\"StudyData\", \"Close(\"&$D$12&\") when LocalYear(\"&$D$12&\")=\"&$D$1&\" and localMonth(\"&$D$12&\") =\"&$E$1&\" and LocalDay(\"&$D$12&\")=\"&$F$1&\" and Barix(\"&$D$12&\",reference:=StartOfSession)=\"&A15&\"\", \"Bar\", \"\", \"Close\",\"5\",\"0\",\"PrimaryOnly\",,,\"False\",\"T\",\"EveryTick\")","v":7396.5},1.8624496292032101E-3,{"$f":"RTD(\"cqg.rtd\",,\"StudyData\", \"Close(\"&$D$12&\") when LocalYear(\"&$D$12&\")=\"&$D$2&\" and localMonth(\"&$D$12&\") =\"&$E$2&\" and LocalDay(\"&$D$12&\")=\"&$F$2&\" and Barix(\"&$D$12&\",reference:=StartOfSession)=\"&A15&\"\", \"Bar\", \"\", \"Close\",\"5\",\"0\",\"PrimaryOnly\",,,\"False\",\"T\",\"EveryTick\")","v":7339.25},1.1787006720661727E-2,{"$f":"RTD(\"cqg.rtd\",,\"StudyData\", \"Close(\"&$D$12&\") when LocalYear(\"&$D$12&\")=\"&$D$3&\" and localMonth(\"&$D$12&\") =\"&$E$3&\" and LocalDay(\"&$D$12&\")=\"&$F$3&\" and Barix(\"&$D$12&\",reference:=StartOfSession)=\"&A15&\"\", \"Bar\", \"\", \"Close\",\"5\",\"0\",\"PrimaryOnly\",,,\"False\",\"T\",\"EveryTick\")","v":7279.75},-2.9788399643908784E-3,{"$f":"RTD(\"cqg.rtd\",,\"StudyData\", \"Close(\"&$D$12&\") when LocalYear(\"&$D$12&\")=\"&$D$4&\" and localMonth(\"&$D$12&\") =\"&$E$4&\" and LocalDay(\"&$D$12&\")=\"&$F$4&\" and Barix(\"&$D$12&\",reference:=StartOfSession)=\"&A15&\"\", \"Bar\", \"\", \"Close\",\"5\",\"0\",\"PrimaryOnly\",,,\"False\",\"T\",\"EveryTick\")","v":7314.25},1.9177425430635937E-3,{"$f":"RTD(\"cqg.rtd\",,\"StudyData\", \"Close(\"&$D$12&\") when LocalYear(\"&$D$12&\")=\"&$D$5&\" and localMonth(\"&$D$12&\") =\"&$E$5&\" and LocalDay(\"&$D$12&\")=\"&$F$5&\" and Barix(\"&$D$12&\",reference:=StartOfSession)=\"&A15&\"\", \"Bar\", \"\", \"Close\",\"5\",\"0\",\"PrimaryOnly\",,,\"False\",\"T\",\"EveryTick\")","v":7247.25},1.9008778599571439E-3,{"$f":"RTD(\"cqg.rtd\",,\"StudyData\", \"Close(\"&$D$12&\") when LocalYear(\"&$D$12&\")=\"&$D$6&\" and localMonth(\"&$D$12&\") =\"&$E$6&\" and LocalDay(\"&$D$12&\")=\"&$F$6&\" and Barix(\"&$D$12&\",reference:=StartOfSession)=\"&A15&\"\", \"Bar\", \"\", \"Close\",\"5\",\"0\",\"PrimaryOnly\",,,\"False\",\"T\",\"EveryTick\")","v":7172},6.4905448549275515E-3,{"$f":"RTD(\"cqg.rtd\",,\"StudyData\", \"Close(\"&$D$12&\") when LocalYear(\"&$D$12&\")=\"&$D$7&\" and localMonth(\"&$D$12&\") =\"&$E$7&\" and LocalDay(\"&$D$12&\")=\"&$F$7&\" and Barix(\"&$D$12&\",reference:=StartOfSession)=\"&A15&\"\", \"Bar\", \"\", \"Close\",\"5\",\"0\",\"PrimaryOnly\",,,\"False\",\"T\",\"EveryTick\")","v":7061.5},5.3746218188289729E-3,{"$f":"RTD(\"cqg.rtd\",,\"StudyData\", \"Close(\"&$D$12&\") when LocalYear(\"&$D$12&\")=\"&$D$8&\" and localMonth(\"&$D$12&\") =\"&$E$8&\" and LocalDay(\"&$D$12&\")=\"&$F$8&\" and Barix(\"&$D$12&\",reference:=StartOfSession)=\"&A15&\"\", \"Bar\", \"\", \"Close\",\"5\",\"0\",\"PrimaryOnly\",,,\"False\",\"T\",\"EveryTick\")","v":7117.75},1.7564814164266142E-4,{"$f":"RTD(\"cqg.rtd\",,\"StudyData\", \"Close(\"&$D$12&\") when LocalYear(\"&$D$12&\")=\"&$D$9&\" and localMonth(\"&$D$12&\") =\"&$E$9&\" and LocalDay(\"&$D$12&\")=\"&$F$9&\" and Barix(\"&$D$12&\",reference:=StartOfSession)=\"&A15&\"\", \"Bar\", \"\", \"Close\",\"5\",\"0\",\"PrimaryOnly\",,,\"False\",\"T\",\"EveryTick\")","v":7060},-9.5517741536066793E-4,{"$f":"RTD(\"cqg.rtd\",,\"StudyData\", \"Close(\"&$D$12&\") when LocalYear(\"&$D$12&\")=\"&$D$10&\" and localMonth(\"&$D$12&\") =\"&$E$10&\" and LocalDay(\"&$D$12&\")=\"&$F$10&\" and Barix(\"&$D$12&\",reference:=StartOfSession)=\"&A15&\"\", \"Bar\", \"\", \"Close\",\"5\",\"0\",\"PrimaryOnly\",,,\"False\",\"T\",\"EveryTick\")","v":7107.25},6.6213440974435241E-3,null,null,null,""]
[15,"09:45:00",null,{"$f":"RTD(\"cqg.rtd\", ,\"ContractData\",D12, \"Ticksize\",, \"T\")","v":0.25},null,null,"2018-07-10",{"$f":"RTD(\"cqg.rtd\",,\"StudyData\", \"Close(\"&$D$12&\") when LocalYear(\"&$D$12&\")=\"&$D$1&\" and localMonth(\"&$D$12&\") =\"&$E$1&\" and LocalDay(\"&$D$12&\")=\"&$F$1&\" and Barix(\"&$D$12&\",reference:=StartOfSession)=\"&A16&\"\", \"Bar\", \"\", \"Close\",\"5\",\"0\",\"PrimaryOnly\",,,\"False\",\"T\",\"EveryTick\")","v":7393},1.3883715417696658E-3,{"$f":"RTD(\"cqg.rtd\",,\"StudyData\", \"Close(\"&$D$12&\") when LocalYear(\"&$D$12&\")=\"&$D$2&\" and localMonth(\"&$D$12&\") =\"&$E$2&\" and LocalDay(\"&$D$12&\")=\"&$F$2&\" and Barix(\"&$D$12&\",reference:=StartOfSession)=\"&A16&\"\", \"Bar\", \"\", \"Close\",\"5\",\"0\",\"PrimaryOnly\",,,\"False\",\"T\",\"EveryTick\")","v":7335.75},1.1304497673617095E-2,{"$f":"RTD(\"cqg.rtd\",,\"StudyData\", \"Close(\"&$D$12&\") when LocalYear(\"&$D$12&\")=\"&$D$3&\" and localMonth(\"&$D$12&\") =\"&$E$3&\" and LocalDay(\"&$D$12&\")=\"&$F$3&\" and Barix(\"&$D$12&\",reference:=StartOfSession)=\"&A16&\"\", \"Bar\", \"\", \"Close\",\"5\",\"0\",\"PrimaryOnly\",,,\"False\",\"T\",\"EveryTick\")","v":7272},-4.040265698829008E-3,{"$f":"RTD(\"cqg.rtd\",,\"StudyData\", \"Close(\"&$D$12&\") when LocalYear(\"&$D$12&\")=\"&$D$4&\" and localMonth(\"&$D$12&\") =\"&$E$4&\" and LocalDay(\"&$D$12&\")=\"&$F$4&\" and Barix(\"&$D$12&\",reference:=StartOfSession)=\"&A16&\"\", \"Bar\", \"\", \"Close\",\"5\",\"0\",\"PrimaryOnly\",,,\"False\",\"T\",\"EveryTick\")","v":7308.75},1.1643436868600391E-3,{"$f":"RTD(\"cqg.rtd\",,\"StudyData\", \"Close(\"&$D$12&\") when LocalYear(\"&$D$12&\")=\"&$D$5&\" and localMonth(\"&$D$12&\") =\"&$E$5&\" and LocalDay(\"&$D$12&\")=\"&$F$5&\" and Barix(\"&$D$12&\",reference:=StartOfSession)=\"&A16&\"\", \"Bar\", \"\", \"Close\",\"5\",\"0\",\"PrimaryOnly\",,,\"False\",\"T\",\"EveryTick\")","v":7250.75},2.3847376788553257E-3,{"$f":"RTD(\"cqg.rtd\",,\"StudyData\", \"Close(\"&$D$12&\") when LocalYear(\"&$D$12&\")=\"&$D$6&\" and localMonth(\"&$D$12&\") =\"&$E$6&\" and LocalDay(\"&$D$12&\")=\"&$F$6&\" and Barix(\"&$D$12&\",reference:=StartOfSession)=\"&A16&\"\", \"Bar\", \"\", \"Close\",\"5\",\"0\",\"PrimaryOnly\",,,\"False\",\"T\",\"EveryTick\")","v":7171},6.3502087499561453E-3,{"$f":"RTD(\"cqg.rtd\",,\"StudyData\", \"Close(\"&$D$12&\") when LocalYear(\"&$D$12&\")=\"&$D$7&\" and localMonth(\"&$D$12&\") =\"&$E$7&\" and LocalDay(\"&$D$12&\")=\"&$F$7&\" and Barix(\"&$D$12&\",reference:=StartOfSession)=\"&A16&\"\", \"Bar\", \"\", \"Close\",\"5\",\"0\",\"PrimaryOnly\",,,\"False\",\"T\",\"EveryTick\")","v":7066.25},6.0508987364299698E-3,{"$f":"RTD(\"cqg.rtd\",,\"StudyData\", \"Close(\"&$D$12&\") when LocalYear(\"&$D$12&\")=\"&$D$8&\" and localMonth(\"&$D$12&\") =\"&$E$8&\" and LocalDay(\"&$D$12&\")=\"&$F$8&\" and Barix(\"&$D$12&\",reference:=StartOfSession)=\"&A16&\"\", \"Bar\", \"\", \"Close\",\"5\",\"0\",\"PrimaryOnly\",,,\"False\",\"T\",\"EveryTick\")","v":7103.75},-1.7916110447551464E-3,{"$f":"RTD(\"cqg.rtd\",,\"StudyData\", \"Close(\"&$D$12&\") when LocalYear(\"&$D$12&\")=\"&$D$9&\" and localMonth(\"&$D$12&\") =\"&$E$9&\" and LocalDay(\"&$D$12&\")=\"&$F$9&\" and Barix(\"&$D$12&\",reference:=StartOfSession)=\"&A16&\"\", \"Bar\", \"\", \"Close\",\"5\",\"0\",\"PrimaryOnly\",,,\"False\",\"T\",\"EveryTick\")","v":7051.5},-2.1579934198889166E-3,{"$f":"RTD(\"cqg.rtd\",,\"StudyData\", \"Close(\"&$D$12&\") when LocalYear(\"&$D$12&\")=\"&$D$10&\" and localMonth(\"&$D$12&\") =\"&$E$10&\" and LocalDay(\"&$D$12&\")=\"&$F$10&\" and Barix(\"&$D$12&\",reference:=StartOfSession)=\"&A16&\"\", \"Bar\", \"\", \"Close\",\"5\",\"0\",\"PrimaryOnly\",,,\"False\",\"T\",\"EveryTick\")","v":7110.25},7.0462431839104882E-3,null,null,null,""]
[16,"09:50:00",null,{"$f":"IF(D16>=1,0,IF(LEN(D16)-2=1,2,LEN(D16)-2))","v":2},null,{"$f":"VLOOKUP(D17,D18:E25,2,FALSE)","v":"#.00"},"2018-07-09",{"$f":"RTD(\"cqg.rtd\",,\"StudyData\", \"Close(\"&$D$12&\") when LocalYear(\"&$D$12&\")=\"&$D$1&\" and localMonth(\"&$D$12&\") =\"&$E$1&\" and LocalDay(\"&$D$12&\")=\"&$F$1&\" and Barix(\"&$D$12&\",reference:=StartOfSession)=\"&A17&\"\", \"Bar\", \"\", \"Close\",\"5\",\"0\",\"PrimaryOnly\",,,\"False\",\"T\",\"EveryTick\")","v":7396.75},1.8963123497341776E-3,{"$f":"RTD(\"cqg.rtd\",,\"StudyData\", \"Close(\"&$D$12&\") when LocalYear(\"&$D$12&\")=\"&$D$2&\" and localMonth(\"&$D$12&\") =\"&$E$2&\" and LocalDay(\"&$D$12&\")=\"&$F$2&\" and Barix(\"&$D$12&\",reference:=StartOfSession)=\"&A17&\"\", \"Bar\", \"\", \"Close\",\"5\",\"0\",\"PrimaryOnly\",,,\"False\",\"T\",\"EveryTick\")","v":7335.75},1.1304497673617095E-2,{"$f":"RTD(\"cqg.rtd\",,\"StudyData\", \"Close(\"&$D$12&\") when LocalYear(\"&$D$12&\")=\"&$D$3&\" and localMonth(\"&$D$12&\") =\"&$E$3&\" and LocalDay(\"&$D$12&\")=\"&$F$3&\" and Barix(\"&$D$12&\",reference:=StartOfSession)=\"&A17&\"\", \"Bar\", \"\", \"Close\",\"5\",\"0\",\"PrimaryOnly\",,,\"False\",\"T\",\"EveryTick\")","v":7272.25},-4.006026159008423E-3,{"$f":"RTD(\"cqg.rtd\",,\"StudyData\", \"Close(\"&$D$12&\") when LocalYear(\"&$D$12&\")=\"&$D$4&\" and localMonth(\"&$D$12&\") =\"&$E$4&\" and LocalDay(\"&$D$12&\")=\"&$F$4&\" and Barix(\"&$D$12&\",reference:=StartOfSession)=\"&A17&\"\", \"Bar\", \"\", \"Close\",\"5\",\"0\",\"PrimaryOnly\",,,\"False\",\"T\",\"EveryTick\")","v":7307.5},9.931166740865039E-4,{"$f":"RTD(\"cqg.rtd\",,\"StudyData\", \"Close(\"&$D$12&\") when LocalYear(\"&$D$12&\")=\"&$D$5&\" and localMonth(\"&$D$12&\") =\"&$E$5&\" and LocalDay(\"&$D$12&\")=\"&$F$5&\" and Barix(\"&$D$12&\",reference:=StartOfSession)=\"&A17&\"\", \"Bar\", \"\", \"Close\",\"5\",\"0\",\"PrimaryOnly\",,,\"False\",\"T\",\"EveryTick\")","v":7257.75},3.3524573166516902E-3,{"$f":"RTD(\"cqg.rtd\",,\"StudyData\", \"Close(\"&$D$12&\") when LocalYear(\"&$D$12&\")=\"&$D$6&\" and localMonth(\"&$D$12&\") =\"&$E$6&\" and LocalDay(\"&$D$12&\")=\"&$F$6&\" and Barix(\"&$D$12&\",reference:=StartOfSession)=\"&A17&\"\", \"Bar\", \"\", \"Close\",\"5\",\"0\",\"PrimaryOnly\",,,\"False\",\"T\",\"EveryTick\")","v":7174},6.7712170648703647E-3,{"$f":"RTD(\"cqg.rtd\",,\"StudyData\", \"Close(\"&$D$12&\") when LocalYear(\"&$D$12&\")=\"&$D$7&\" and localMonth(\"&$D$12&\") =\"&$E$7&\" and LocalDay(\"&$D$12&\")=\"&$F$7&\" and Barix(\"&$D$12&\",reference:=StartOfSession)=\"&A17&\"\", \"Bar\", \"\", \"Close\",\"5\",\"0\",\"PrimaryOnly\",,,\"False\",\"T\",\"EveryTick\")","v":7049},3.5949457198789819E-3,{"$f":"RTD(\"cqg.rtd\",,\"StudyData\", \"Close(\"&$D$12&\") when LocalYear(\"&$D$12&\")=\"&$D$8&\" and localMonth(\"&$D$12&\") =\"&$E$8&\" and LocalDay(\"&$D$12&\")=\"&$F$8&\" and Barix(\"&$D$12&\",reference:=StartOfSession)=\"&A17&\"\", \"Bar\", \"\", \"Close\",\"5\",\"0\",\"PrimaryOnly\",,,\"False\",\"T\",\"EveryTick\")","v":7103.75},-1.7916110447551464E-3,{"$f":"RTD(\"cqg.rtd\",,\"StudyData\", \"Close(\"&$D$12&\") when LocalYear(\"&$D$12&\")=\"&$D$9&\" and localMonth(\"&$D$12&\") =\"&$E$9&\" and LocalDay(\"&$D$12&\")=\"&$F$9&\" and Barix(\"&$D$12&\",reference:=StartOfSession)=\"&A17&\"\", \"Bar\", \"\", \"Close\",\"5\",\"0\",\"PrimaryOnly\",,,\"False\",\"T\",\"EveryTick\")","v":7047.75},-2.6886475395337321E-3,{"$f":"RTD(\"cqg.rtd\",,\"StudyData\", \"Close(\"&$D$12&\") when LocalYear(\"&$D$12&\")=\"&$D$10&\" and localMonth(\"&$D$12&\") =\"&$E$10&\" and LocalDay(\"&$D$12&\")=\"&$F$10&\" and Barix(\"&$D$12&\",reference:=StartOfSession)=\"&A17&\"\", \"Bar\", \"\", \"Close\",\"5\",\"0\",\"PrimaryOnly\",,,\"False\",\"T\",\"EveryTick\")","v":7114.5},7.6481835564053535E-3,null,null,null,""]
[17,"09:55:00",null,0,"#",null,"2018-07-06",{"$f":"RTD(\"cqg.rtd\",,\"StudyData\", \"Close(\"&$D$12&\") when LocalYear(\"&$D$12&\")=\"&$D$1&\" and localMonth(\"&$D$12&\") =\"&$E$1&\" and LocalDay(\"&$D$12&\")=\"&$F$1&\" and Barix(\"&$D$12&\",reference:=StartOfSession)=\"&A18&\"\", \"Bar\", \"\", \"Close\",\"5\",\"0\",\"PrimaryOnly\",,,\"False\",\"T\",\"EveryTick\")","v":7393.25},1.4222342623006333E-3,{"$f":"RTD(\"cqg.rtd\",,\"StudyData\", \"Close(\"&$D$12&\") when LocalYear(\"&$D$12&\")=\"&$D$2&\" and localMonth(\"&$D$12&\") =\"&$E$2&\" and LocalDay(\"&$D$12&\")=\"&$F$2&\" and Barix(\"&$D$12&\",reference:=StartOfSession)=\"&A18&\"\", \"Bar\", \"\", \"Close\",\"5\",\"0\",\"PrimaryOnly\",,,\"False\",\"T\",\"EveryTick\")","v":7332.5},1.0856453558504222E-2,{"$f":"RTD(\"cqg.rtd\",,\"StudyData\", \"Close(\"&$D$12&\") when LocalYear(\"&$D$12&\")=\"&$D$3&\" and localMonth(\"&$D$12&\") =\"&$E$3&\" and LocalDay(\"&$D$12&\")=\"&$F$3&\" and Barix(\"&$D$12&\",reference:=StartOfSession)=\"&A18&\"\", \"Bar\", \"\", \"Close\",\"5\",\"0\",\"PrimaryOnly\",,,\"False\",\"T\",\"EveryTick\")","v":7279.5},-3.0130795042114635E-3,{"$f":"RTD(\"cqg.rtd\",,\"StudyData\", \"Close(\"&$D$12&\") when LocalYear(\"&$D$12&\")=\"&$D$4&\" and localMonth(\"&$D$12&\") =\"&$E$4&\" and LocalDay(\"&$D$12&\")=\"&$F$4&\" and Barix(\"&$D$12&\",reference:=StartOfSession)=\"&A18&\"\", \"Bar\", \"\", \"Close\",\"5\",\"0\",\"PrimaryOnly\",,,\"False\",\"T\",\"EveryTick\")","v":7310.25},1.3698161021882813E-3,{"$f":"RTD(\"cqg.rtd\",,\"StudyData\", \"Close(\"&$D$12&\") when LocalYear(\"&$D$12&\")=\"&$D$5&\" and localMonth(\"&$D$12&\") =\"&$E$5&\" and LocalDay(\"&$D$12&\")=\"&$F$5&\" and Barix(\"&$D$12&\",reference:=StartOfSession)=\"&A18&\"\", \"Bar\", \"\", \"Close\",\"5\",\"0\",\"PrimaryOnly\",,,\"False\",\"T\",\"EveryTick\")","v":7260.5},3.7326328886431188E-3,{"$f":"RTD(\"cqg.rtd\",,\"StudyData\", \"Close(\"&$D$12&\") when LocalYear(\"&$D$12&\")=\"&$D$6&\" and localMonth(\"&$D$12&\") =\"&$E$6&\" and LocalDay(\"&$D$12&\")=\"&$F$6&\" and Barix(\"&$D$12&\",reference:=StartOfSession)=\"&A18&\"\", \"Bar\", \"\", \"Close\",\"5\",\"0\",\"PrimaryOnly\",,,\"False\",\"T\",\"EveryTick\")","v":7175},6.9115531698417708E-3,{"$f":"RTD(\"cqg.rtd\",,\"StudyData\", \"Close(\"&$D$12&\") when LocalYear(\"&$D$12&\")=\"&$D$7&\" and localMonth(\"&$D$12&\") =\"&$E$7&\" and LocalDay(\"&$D$12&\")=\"&$F$7&\" and Barix(\"&$D$12&\",reference:=StartOfSession)=\"&A18&\"\", \"Bar\", \"\", \"Close\",\"5\",\"0\",\"PrimaryOnly\",,,\"False\",\"T\",\"EveryTick\")","v":7050},3.7373198077949813E-3,{"$f":"RTD(\"cqg.rtd\",,\"StudyData\", \"Close(\"&$D$12&\") when LocalYear(\"&$D$12&\")=\"&$D$8&\" and localMonth(\"&$D$12&\") =\"&$E$8&\" and LocalDay(\"&$D$12&\")=\"&$F$8&\" and Barix(\"&$D$12&\",reference:=StartOfSession)=\"&A18&\"\", \"Bar\", \"\", \"Close\",\"5\",\"0\",\"PrimaryOnly\",,,\"False\",\"T\",\"EveryTick\")","v":7101.25},-2.1429073280404692E-3,{"$f":"RTD(\"cqg.rtd\",,\"StudyData\", \"Close(\"&$D$12&\") when LocalYear(\"&$D$12&\")=\"&$D$9&\" and localMonth(\"&$D$12&\") =\"&$E$9&\" and LocalDay(\"&$D$12&\")=\"&$F$9&\" and Barix(\"&$D$12&\",reference:=StartOfSession)=\"&A18&\"\", \"Bar\", \"\", \"Close\",\"5\",\"0\",\"PrimaryOnly\",,,\"False\",\"T\",\"EveryTick\")","v":7052.5},-2.016485654650299E-3,{"$f":"RTD(\"cqg.rtd\",,\"StudyData\", \"Close(\"&$D$12&\") when LocalYear(\"&$D$12&\")=\"&$D$10&\" and localMonth(\"&$D$12&\") =\"&$E$10&\" and LocalDay(\"&$D$12&\")=\"&$F$10&\" and Barix(\"&$D$12&\",reference:=StartOfSession)=\"&A18&\"\", \"Bar\", \"\", \"Close\",\"5\",\"0\",\"PrimaryOnly\",,,\"False\",\"T\",\"EveryTick\")","v":7114},7.5773670419941926E-3,null,null,null,""]
[18,"10:00:00",null,1,"#.0",null,"2018-07-05",{"$f":"RTD(\"cqg.rtd\",,\"StudyData\", \"Close(\"&$D$12&\") when LocalYear(\"&$D$12&\")=\"&$D$1&\" and localMonth(\"&$D$12&\") =\"&$E$1&\" and LocalDay(\"&$D$12&\")=\"&$F$1&\" and Barix(\"&$D$12&\",reference:=StartOfSession)=\"&A19&\"\", \"Bar\", \"\", \"Close\",\"5\",\"0\",\"PrimaryOnly\",,,\"False\",\"T\",\"EveryTick\")","v":7395.5},1.7269987470793404E-3,{"$f":"RTD(\"cqg.rtd\",,\"StudyData\", \"Close(\"&$D$12&\") when LocalYear(\"&$D$12&\")=\"&$D$2&\" and localMonth(\"&$D$12&\") =\"&$E$2&\" and LocalDay(\"&$D$12&\")=\"&$F$2&\" and Barix(\"&$D$12&\",reference:=StartOfSession)=\"&A19&\"\", \"Bar\", \"\", \"Close\",\"5\",\"0\",\"PrimaryOnly\",,,\"False\",\"T\",\"EveryTick\")","v":7341.25},1.2062726176115802E-2,{"$f":"RTD(\"cqg.rtd\",,\"StudyData\", \"Close(\"&$D$12&\") when LocalYear(\"&$D$12&\")=\"&$D$3&\" and localMonth(\"&$D$12&\") =\"&$E$3&\" and LocalDay(\"&$D$12&\")=\"&$F$3&\" and Barix(\"&$D$12&\",reference:=StartOfSession)=\"&A19&\"\", \"Bar\", \"\", \"Close\",\"5\",\"0\",\"PrimaryOnly\",,,\"False\",\"T\",\"EveryTick\")","v":7275.25},-3.595151681161405E-3,{"$f":"RTD(\"cqg.rtd\",,\"StudyData\", \"Close(\"&$D$12&\") when LocalYear(\"&$D$12&\")=\"&$D$4&\" and localMonth(\"&$D$12&\") =\"&$E$4&\" and LocalDay(\"&$D$12&\")=\"&$F$4&\" and Barix(\"&$D$12&\",reference:=StartOfSession)=\"&A19&\"\", \"Bar\", \"\", \"Close\",\"5\",\"0\",\"PrimaryOnly\",,,\"False\",\"T\",\"EveryTick\")","v":7315},2.0204787507277148E-3,{"$f":"RTD(\"cqg.rtd\",,\"StudyData\", \"Close(\"&$D$12&\") when LocalYear(\"&$D$12&\")=\"&$D$5&\" and localMonth(\"&$D$12&\") =\"&$E$5&\" and LocalDay(\"&$D$12&\")=\"&$F$5&\" and Barix(\"&$D$12&\",reference:=StartOfSession)=\"&A19&\"\", \"Bar\", \"\", \"Close\",\"5\",\"0\",\"PrimaryOnly\",,,\"False\",\"T\",\"EveryTick\")","v":7263},4.078247044998963E-3,{"$f":"RTD(\"cqg.rtd\",,\"StudyData\", \"Close(\"&$D$12&\") when LocalYear(\"&$D$12&\")=\"&$D$6&\" and localMonth(\"&$D$12&\") =\"&$E$6&\" and LocalDay(\"&$D$12&\")=\"&$F$6&\" and Barix(\"&$D$12&\",reference:=StartOfSession)=\"&A19&\"\", \"Bar\", \"\", \"Close\",\"5\",\"0\",\"PrimaryOnly\",,,\"False\",\"T\",\"EveryTick\")","v":7178.25},7.3676455109988421E-3,{"$f":"RTD(\"cqg.rtd\",,\"StudyData\", \"Close(\"&$D$12&\") when LocalYear(\"&$D$12&\")=\"&$D$7&\" and localMonth(\"&$D$12&\") =\"&$E$7&\" and LocalDay(\"&$D$12&\")=\"&$F$7&\" and Barix(\"&$D$12&\",reference:=StartOfSession)=\"&A19&\"\", \"Bar\", \"\", \"Close\",\"5\",\"0\",\"PrimaryOnly\",,,\"False\",\"T\",\"EveryTick\")","v":7051.5},3.9508809396689801E-3,{"$f":"RTD(\"cqg.rtd\",,\"StudyData\", \"Close(\"&$D$12&\") when LocalYear(\"&$D$12&\")=\"&$D$8&\" and localMonth(\"&$D$12&\") =\"&$E$8&\" and LocalDay(\"&$D$12&\")=\"&$F$8&\" and Barix(\"&$D$12&\",reference:=StartOfSession)=\"&A19&\"\", \"Bar\", \"\", \"Close\",\"5\",\"0\",\"PrimaryOnly\",,,\"False\",\"T\",\"EveryTick\")","v":7103.75},-1.7916110447551464E-3,{"$f":"RTD(\"cqg.rtd\",,\"StudyData\", \"Close(\"&$D$12&\") when LocalYear(\"&$D$12&\")=\"&$D$9&\" and localMonth(\"&$D$12&\") =\"&$E$9&\" and LocalDay(\"&$D$12&\")=\"&$F$9&\" and Barix(\"&$D$12&\",reference:=StartOfSession)=\"&A19&\"\", \"Bar\", \"\", \"Close\",\"5\",\"0\",\"PrimaryOnly\",,,\"False\",\"T\",\"EveryTick\")","v":7064},-3.8914635440619806E-4,{"$f":"RTD(\"cqg.rtd\",,\"StudyData\", \"Close(\"&$D$12&\") when LocalYear(\"&$D$12&\")=\"&$D$10&\" and localMonth(\"&$D$12&\") =\"&$E$10&\" and LocalDay(\"&$D$12&\")=\"&$F$10&\" and Barix(\"&$D$12&\",reference:=StartOfSession)=\"&A19&\"\", \"Bar\", \"\", \"Close\",\"5\",\"0\",\"PrimaryOnly\",,,\"False\",\"T\",\"EveryTick\")","v":7109},6.8692018978825861E-3,null,null,null,""]
[19,"10:05:00",null,2,"#.00",null,"2018-07-03",{"$f":"RTD(\"cqg.rtd\",,\"StudyData\", \"Close(\"&$D$12&\") when LocalYear(\"&$D$12&\")=\"&$D$1&\" and localMonth(\"&$D$12&\") =\"&$E$1&\" and LocalDay(\"&$D$12&\")=\"&$F$1&\" and Barix(\"&$D$12&\",reference:=StartOfSession)=\"&A20&\"\", \"Bar\", \"\", \"Close\",\"5\",\"0\",\"PrimaryOnly\",,,\"False\",\"T\",\"EveryTick\")","v":7393.5},1.4560969828316006E-3,{"$f":"RTD(\"cqg.rtd\",,\"StudyData\", \"Close(\"&$D$12&\") when LocalYear(\"&$D$12&\")=\"&$D$2&\" and localMonth(\"&$D$12&\") =\"&$E$2&\" and LocalDay(\"&$D$12&\")=\"&$F$2&\" and Barix(\"&$D$12&\",reference:=StartOfSession)=\"&A20&\"\", \"Bar\", \"\", \"Close\",\"5\",\"0\",\"PrimaryOnly\",,,\"False\",\"T\",\"EveryTick\")","v":7342.25},1.2200585903842841E-2,{"$f":"RTD(\"cqg.rtd\",,\"StudyData\", \"Close(\"&$D$12&\") when LocalYear(\"&$D$12&\")=\"&$D$3&\" and localMonth(\"&$D$12&\") =\"&$E$3&\" and LocalDay(\"&$D$12&\")=\"&$F$3&\" and Barix(\"&$D$12&\",reference:=StartOfSession)=\"&A20&\"\", \"Bar\", \"\", \"Close\",\"5\",\"0\",\"PrimaryOnly\",,,\"False\",\"T\",\"EveryTick\")","v":7273.75},-3.8005889200849142E-3,{"$f":"RTD(\"cqg.rtd\",,\"StudyData\", \"Close(\"&$D$12&\") when LocalYear(\"&$D$12&\")=\"&$D$4&\" and localMonth(\"&$D$12&\") =\"&$E$4&\" and LocalDay(\"&$D$12&\")=\"&$F$4&\" and Barix(\"&$D$12&\",reference:=StartOfSession)=\"&A20&\"\", \"Bar\", \"\", \"Close\",\"5\",\"0\",\"PrimaryOnly\",,,\"False\",\"T\",\"EveryTick\")","v":7314.75},1.9862333481730078E-3,{"$f":"RTD(\"cqg.rtd\",,\"StudyData\", \"Close(\"&$D$12&\") when LocalYear(\"&$D$12&\")=\"&$D$5&\" and localMonth(\"&$D$12&\") =\"&$E$5&\" and LocalDay(\"&$D$12&\")=\"&$F$5&\" and Barix(\"&$D$12&\",reference:=StartOfSession)=\"&A20&\"\", \"Bar\", \"\", \"Close\",\"5\",\"0\",\"PrimaryOnly\",,,\"False\",\"T\",\"EveryTick\")","v":7263.25},4.1128084606345478E-3,{"$f":"RTD(\"cqg.rtd\",,\"StudyData\", \"Close(\"&$D$12&\") when LocalYear(\"&$D$12&\")=\"&$D$6&\" and localMonth(\"&$D$12&\") =\"&$E$6&\" and LocalDay(\"&$D$12&\")=\"&$F$6&\" and Barix(\"&$D$12&\",reference:=StartOfSession)=\"&A20&\"\", \"Bar\", \"\", \"Close\",\"5\",\"0\",\"PrimaryOnly\",,,\"False\",\"T\",\"EveryTick\")","v":7186.25},8.4903343507700939E-3,{"$f":"RTD(\"cqg.rtd\",,\"StudyData\", \"Close(\"&$D$12&\") when LocalYear(\"&$D$12&\")=\"&$D$7&\" and localMonth(\"&$D$12&\") =\"&$E$7&\" and LocalDay(\"&$D$12&\")=\"&$F$7&\" and Barix(\"&$D$12&\",reference:=StartOfSession)=\"&A20&\"\", \"Bar\", \"\", \"Close\",\"5\",\"0\",\"PrimaryOnly\",,,\"False\",\"T\",\"EveryTick\")","v":7058},4.8763125111229754E-3,{"$f":"RTD(\"cqg.rtd\",,\"StudyData\", \"Close(\"&$D$12&\") when LocalYear(\"&$D$12&\")=\"&$D$8&\" and localMonth(\"&$D$12&\") =\"&$E$8&\" and LocalDay(\"&$D$12&\")=\"&$F$8&\" and Barix(\"&$D$12&\",reference:=StartOfSession)=\"&A20&\"\", \"Bar\", \"\", \"Close\",\"5\",\"0\",\"PrimaryOnly\",,,\"False\",\"T\",\"EveryTick\")","v":7099.5},-2.3888147263401954E-3,{"$f":"RTD(\"cqg.rtd\",,\"StudyData\", \"Close(\"&$D$12&\") when LocalYear(\"&$D$12&\")=\"&$D$9&\" and localMonth(\"&$D$12&\") =\"&$E$9&\" and LocalDay(\"&$D$12&\")=\"&$F$9&\" and Barix(\"&$D$12&\",reference:=StartOfSession)=\"&A20&\"\", \"Bar\", \"\", \"Close\",\"5\",\"0\",\"PrimaryOnly\",,,\"False\",\"T\",\"EveryTick\")","v":7063.5},-4.5990023702550676E-4,{"$f":"RTD(\"cqg.rtd\",,\"StudyData\", \"Close(\"&$D$12&\") when LocalYear(\"&$D$12&\")=\"&$D$10&\" and localMonth(\"&$D$12&\") =\"&$E$10&\" and LocalDay(\"&$D$12&\")=\"&$F$10&\" and Barix(\"&$D$12&\",reference:=StartOfSession)=\"&A20&\"\", \"Bar\", \"\", \"Close\",\"5\",\"0\",\"PrimaryOnly\",,,\"False\",\"T\",\"EveryTick\")","v":7114.5},7.6481835564053535E-3,null,null,null,""]
[20,"10:10:00",null,3,"#.000",null,"2018-07-02",{"$f":"RTD(\"cqg.rtd\",,\"StudyData\", \"Close(\"&$D$12&\") when LocalYear(\"&$D$12&\")=\"&$D$1&\" and localMonth(\"&$D$12&\") =\"&$E$1&\" and LocalDay(\"&$D$12&\")=\"&$F$1&\" and Barix(\"&$D$12&\",reference:=StartOfSession)=\"&A21&\"\", \"Bar\", \"\", \"Close\",\"5\",\"0\",\"PrimaryOnly\",,,\"False\",\"T\",\"EveryTick\")","v":7397.5},1.99790051132708E-3,{"$f":"RTD(\"cqg.rtd\",,\"StudyData\", \"Close(\"&$D$12&\") when LocalYear(\"&$D$12&\")=\"&$D$2&\" and localMonth(\"&$D$12&\") =\"&$E$2&\" and LocalDay(\"&$D$12&\")=\"&$F$2&\" and Barix(\"&$D$12&\",reference:=StartOfSession)=\"&A21&\"\", \"Bar\", \"\", \"Close\",\"5\",\"0\",\"PrimaryOnly\",,,\"False\",\"T\",\"EveryTick\")","v":7346.5},1.278648974668275E-2,{"$f":"RTD(\"cqg.rtd\",,\"StudyData\", \"Close(\"&$D$12&\") when LocalYear(\"&$D$12&\")=\"&$D$3&\" and localMonth(\"&$D$12&\") =\"&$E$3&\" and LocalDay(\"&$D$12&\")=\"&$F$3&\" and Barix(\"&$D$12&\",reference:=StartOfSession)=\"&A21&\"\", \"Bar\", \"\", \"Close\",\"5\",\"0\",\"PrimaryOnly\",,,\"False\",\"T\",\"EveryTick\")","v":7266},-4.862014654523043E-3,{"$f":"RTD(\"cqg.rtd\",,\"StudyData\", \"Close(\"&$D$12&\") when LocalYear(\"&$D$12&\")=\"&$D$4&\" and localMonth(\"&$D$12&\") =\"&$E$4&\" and LocalDay(\"&$D$12&\")=\"&$F$4&\" and Barix(\"&$D$12&\",reference:=StartOfSession)=\"&A21&\"\", \"Bar\", \"\", \"Close\",\"5\",\"0\",\"PrimaryOnly\",,,\"False\",\"T\",\"EveryTick\")","v":7303.5},4.4519023321119139E-4,{"$f":"RTD(\"cqg.rtd\",,\"StudyData\", \"Close(\"&$D$12&\") when LocalYear(\"&$D$12&\")=\"&$D$5&\" and localMonth(\"&$D$12&\") =\"&$E$5&\" and LocalDay(\"&$D$12&\")=\"&$F$5&\" and Barix(\"&$D$12&\",reference:=StartOfSession)=\"&A21&\"\", \"Bar\", \"\", \"Close\",\"5\",\"0\",\"PrimaryOnly\",,,\"False\",\"T\",\"EveryTick\")","v":7264},4.2164927075413012E-3,{"$f":"RTD(\"cqg.rtd\",,\"StudyData\", \"Close(\"&$D$12&\") when LocalYear(\"&$D$12&\")=\"&$D$6&\" and localMonth(\"&$D$12&\") =\"&$E$6&\" and LocalDay(\"&$D$12&\")=\"&$F$6&\" and Barix(\"&$D$12&\",reference:=StartOfSession)=\"&A21&\"\", \"Bar\", \"\", \"Close\",\"5\",\"0\",\"PrimaryOnly\",,,\"False\",\"T\",\"EveryTick\")","v":7187},8.595586429498649E-3,{"$f":"RTD(\"cqg.rtd\",,\"StudyData\", \"Close(\"&$D$12&\") when LocalYear(\"&$D$12&\")=\"&$D$7&\" and localMonth(\"&$D$12&\") =\"&$E$7&\" and LocalDay(\"&$D$12&\")=\"&$F$7&\" and Barix(\"&$D$12&\",reference:=StartOfSession)=\"&A21&\"\", \"Bar\", \"\", \"Close\",\"5\",\"0\",\"PrimaryOnly\",,,\"False\",\"T\",\"EveryTick\")","v":7062},5.4458088627869728E-3,{"$f":"RTD(\"cqg.rtd\",,\"StudyData\", \"Close(\"&$D$12&\") when LocalYear(\"&$D$12&\")=\"&$D$8&\" and localMonth(\"&$D$12&\") =\"&$E$8&\" and LocalDay(\"&$D$12&\")=\"&$F$8&\" and Barix(\"&$D$12&\",reference:=StartOfSession)=\"&A21&\"\", \"Bar\", \"\", \"Close\",\"5\",\"0\",\"PrimaryOnly\",,,\"False\",\"T\",\"EveryTick\")","v":7099},-2.45907398299726E-3,{"$f":"RTD(\"cqg.rtd\",,\"StudyData\", \"Close(\"&$D$12&\") when LocalYear(\"&$D$12&\")=\"&$D$9&\" and localMonth(\"&$D$12&\") =\"&$E$9&\" and LocalDay(\"&$D$12&\")=\"&$F$9&\" and Barix(\"&$D$12&\",reference:=StartOfSession)=\"&A21&\"\", \"Bar\", \"\", \"Close\",\"5\",\"0\",\"PrimaryOnly\",,,\"False\",\"T\",\"EveryTick\")","v":7053.25},-1.9103548307213359E-3,{"$f":"RTD(\"cqg.rtd\",,\"StudyData\", \"Close(\"&$D$12&\") when LocalYear(\"&$D$12&\")=\"&$D$10&\" and localMonth(\"&$D$12&\") =\"&$E$10&\" and LocalDay(\"&$D$12&\")=\"&$F$10&\" and Barix(\"&$D$12&\",reference:=StartOfSession)=\"&A21&\"\", \"Bar\", \"\", \"Close\",\"5\",\"0\",\"PrimaryOnly\",,,\"False\",\"T\",\"EveryTick\")","v":7110.25},7.0462431839104882E-3,null,null,null,""]
[21,"10:15:00",null,4,"#.0000",null,"2018-06-29",{"$f":"RTD(\"cqg.rtd\",,\"StudyData\", \"Close(\"&$D$12&\") when LocalYear(\"&$D$12&\")=\"&$D$1&\" and localMonth(\"&$D$12&\") =\"&$E$1&\" and LocalDay(\"&$D$12&\")=\"&$F$1&\" and Barix(\"&$D$12&\",reference:=StartOfSession)=\"&A22&\"\", \"Bar\", \"\", \"Close\",\"5\",\"0\",\"PrimaryOnly\",,,\"False\",\"T\",\"EveryTick\")","v":7400.25},2.3703904371677222E-3,{"$f":"RTD(\"cqg.rtd\",,\"StudyData\", \"Close(\"&$D$12&\") when LocalYear(\"&$D$12&\")=\"&$D$2&\" and localMonth(\"&$D$12&\") =\"&$E$2&\" and LocalDay(\"&$D$12&\")=\"&$F$2&\" and Barix(\"&$D$12&\",reference:=StartOfSession)=\"&A22&\"\", \"Bar\", \"\", \"Close\",\"5\",\"0\",\"PrimaryOnly\",,,\"False\",\"T\",\"EveryTick\")","v":7345.25},1.2614165087023952E-2,{"$f":"RTD(\"cqg.rtd\",,\"StudyData\", \"Close(\"&$D$12&\") when LocalYear(\"&$D$12&\")=\"&$D$3&\" and localMonth(\"&$D$12&\") =\"&$E$3&\" and LocalDay(\"&$D$12&\")=\"&$F$3&\" and Barix(\"&$D$12&\",reference:=StartOfSession)=\"&A22&\"\", \"Bar\", \"\", \"Close\",\"5\",\"0\",\"PrimaryOnly\",,,\"False\",\"T\",\"EveryTick\")","v":7265},-4.9989728138053824E-3,{"$f":"RTD(\"cqg.rtd\",,\"StudyData\", \"Close(\"&$D$12&\") when LocalYear(\"&$D$12&\")=\"&$D$4&\" and localMonth(\"&$D$12&\") =\"&$E$4&\" and LocalDay(\"&$D$12&\")=\"&$F$4&\" and Barix(\"&$D$12&\",reference:=StartOfSession)=\"&A22&\"\", \"Bar\", \"\", \"Close\",\"5\",\"0\",\"PrimaryOnly\",,,\"False\",\"T\",\"EveryTick\")","v":7307.5},9.931166740865039E-4,{"$f":"RTD(\"cqg.rtd\",,\"StudyData\", \"Close(\"&$D$12&\") when LocalYear(\"&$D$12&\")=\"&$D$5&\" and localMonth(\"&$D$12&\") =\"&$E$5&\" and LocalDay(\"&$D$12&\")=\"&$F$5&\" and Barix(\"&$D$12&\",reference:=StartOfSession)=\"&A22&\"\", \"Bar\", \"\", \"Close\",\"5\",\"0\",\"PrimaryOnly\",,,\"False\",\"T\",\"EveryTick\")","v":7267},4.6312296951683141E-3,{"$f":"RTD(\"cqg.rtd\",,\"StudyData\", \"Close(\"&$D$12&\") when LocalYear(\"&$D$12&\")=\"&$D$6&\" and localMonth(\"&$D$12&\") =\"&$E$6&\" and LocalDay(\"&$D$12&\")=\"&$F$6&\" and Barix(\"&$D$12&\",reference:=StartOfSession)=\"&A22&\"\", \"Bar\", \"\", \"Close\",\"5\",\"0\",\"PrimaryOnly\",,,\"False\",\"T\",\"EveryTick\")","v":7190.5},9.0867627968985714E-3,{"$f":"RTD(\"cqg.rtd\",,\"StudyData\", \"Close(\"&$D$12&\") when LocalYear(\"&$D$12&\")=\"&$D$7&\" and localMonth(\"&$D$12&\") =\"&$E$7&\" and LocalDay(\"&$D$12&\")=\"&$F$7&\" and Barix(\"&$D$12&\",reference:=StartOfSession)=\"&A22&\"\", \"Bar\", \"\", \"Close\",\"5\",\"0\",\"PrimaryOnly\",,,\"False\",\"T\",\"EveryTick\")","v":7071.75},6.8339562199679661E-3,{"$f":"RTD(\"cqg.rtd\",,\"StudyData\", \"Close(\"&$D$12&\") when LocalYear(\"&$D$12&\")=\"&$D$8&\" and localMonth(\"&$D$12&\") =\"&$E$8&\" and LocalDay(\"&$D$12&\")=\"&$F$8&\" and Barix(\"&$D$12&\",reference:=StartOfSession)=\"&A22&\"\", \"Bar\", \"\", \"Close\",\"5\",\"0\",\"PrimaryOnly\",,,\"False\",\"T\",\"EveryTick\")","v":7102.25},-2.0023888147263401E-3,{"$f":"RTD(\"cqg.rtd\",,\"StudyData\", \"Close(\"&$D$12&\") when LocalYear(\"&$D$12&\")=\"&$D$9&\" and localMonth(\"&$D$12&\") =\"&$E$9&\" and LocalDay(\"&$D$12&\")=\"&$F$9&\" and Barix(\"&$D$12&\",reference:=StartOfSession)=\"&A22&\"\", \"Bar\", \"\", \"Close\",\"5\",\"0\",\"PrimaryOnly\",,,\"False\",\"T\",\"EveryTick\")","v":7047.25},-2.7594014221530407E-3,{"$f":"RTD(\"cqg.rtd\",,\"StudyData\", \"Close(\"&$D$12&\") when LocalYear(\"&$D$12&\")=\"&$D$10&\" and localMonth(\"&$D$12&\") =\"&$E$10&\" and LocalDay(\"&$D$12&\")=\"&$F$10&\" and Barix(\"&$D$12&\",reference:=StartOfSession)=\"&A22&\"\", \"Bar\", \"\", \"Close\",\"5\",\"0\",\"PrimaryOnly\",,,\"False\",\"T\",\"EveryTick\")","v":7110.75},7.117059698321649E-3,null,null,null,""]
[22,"10:20:00",null,5,"#.00000",null,null,{"$f":"RTD(\"cqg.rtd\",,\"StudyData\", \"Close(\"&$D$12&\") when LocalYear(\"&$D$12&\")=\"&$D$1&\" and localMonth(\"&$D$12&\") =\"&$E$1&\" and LocalDay(\"&$D$12&\")=\"&$F$1&\" and Barix(\"&$D$12&\",reference:=StartOfSession)=\"&A23&\"\", \"Bar\", \"\", \"Close\",\"5\",\"0\",\"PrimaryOnly\",,,\"False\",\"T\",\"EveryTick\")","v":7401},2.4719785987606245E-3,{"$f":"RTD(\"cqg.rtd\",,\"StudyData\", \"Close(\"&$D$12&\") when LocalYear(\"&$D$12&\")=\"&$D$2&\" and localMonth(\"&$D$12&\") =\"&$E$2&\" and LocalDay(\"&$D$12&\")=\"&$F$2&\" and Barix(\"&$D$12&\",reference:=StartOfSession)=\"&A23&\"\", \"Bar\", \"\", \"Close\",\"5\",\"0\",\"PrimaryOnly\",,,\"False\",\"T\",\"EveryTick\")","v":7342.25},1.2200585903842841E-2,{"$f":"RTD(\"cqg.rtd\",,\"StudyData\", \"Close(\"&$D$12&\") when LocalYear(\"&$D$12&\")=\"&$D$3&\" and localMonth(\"&$D$12&\") =\"&$E$3&\" and LocalDay(\"&$D$12&\")=\"&$F$3&\" and Barix(\"&$D$12&\",reference:=StartOfSession)=\"&A23&\"\", \"Bar\", \"\", \"Close\",\"5\",\"0\",\"PrimaryOnly\",,,\"False\",\"T\",\"EveryTick\")","v":7261.75},-5.444086831472985E-3,{"$f":"RTD(\"cqg.rtd\",,\"StudyData\", \"Close(\"&$D$12&\") when LocalYear(\"&$D$12&\")=\"&$D$4&\" and localMonth(\"&$D$12&\") =\"&$E$4&\" and LocalDay(\"&$D$12&\")=\"&$F$4&\" and Barix(\"&$D$12&\",reference:=StartOfSession)=\"&A23&\"\", \"Bar\", \"\", \"Close\",\"5\",\"0\",\"PrimaryOnly\",,,\"False\",\"T\",\"EveryTick\")","v":7300},-3.4245402554707032E-5,{"$f":"RTD(\"cqg.rtd\",,\"StudyData\", \"Close(\"&$D$12&\") when LocalYear(\"&$D$12&\")=\"&$D$5&\" and localMonth(\"&$D$12&\") =\"&$E$5&\" and LocalDay(\"&$D$12&\")=\"&$F$5&\" and Barix(\"&$D$12&\",reference:=StartOfSession)=\"&A23&\"\", \"Bar\", \"\", \"Close\",\"5\",\"0\",\"PrimaryOnly\",,,\"False\",\"T\",\"EveryTick\")","v":7264.25},4.2510541231768851E-3,{"$f":"RTD(\"cqg.rtd\",,\"StudyData\", \"Close(\"&$D$12&\") when LocalYear(\"&$D$12&\")=\"&$D$6&\" and localMonth(\"&$D$12&\") =\"&$E$6&\" and LocalDay(\"&$D$12&\")=\"&$F$6&\" and Barix(\"&$D$12&\",reference:=StartOfSession)=\"&A23&\"\", \"Bar\", \"\", \"Close\",\"5\",\"0\",\"PrimaryOnly\",,,\"False\",\"T\",\"EveryTick\")","v":7189.25},8.9113426656843141E-3,{"$f":"RTD(\"cqg.rtd\",,\"StudyData\", \"Close(\"&$D$12&\") when LocalYear(\"&$D$12&\")=\"&$D$7&\" and localMonth(\"&$D$12&\") =\"&$E$7&\" and LocalDay(\"&$D$12&\")=\"&$F$7&\" and Barix(\"&$D$12&\",reference:=StartOfSession)=\"&A23&\"\", \"Bar\", \"\", \"Close\",\"5\",\"0\",\"PrimaryOnly\",,,\"False\",\"T\",\"EveryTick\")","v":7070.5},6.6559886100729668E-3,{"$f":"RTD(\"cqg.rtd\",,\"StudyData\", \"Close(\"&$D$12&\") when LocalYear(\"&$D$12&\")=\"&$D$8&\" and localMonth(\"&$D$12&\") =\"&$E$8&\" and LocalDay(\"&$D$12&\")=\"&$F$8&\" and Barix(\"&$D$12&\",reference:=StartOfSession)=\"&A23&\"\", \"Bar\", \"\", \"Close\",\"5\",\"0\",\"PrimaryOnly\",,,\"False\",\"T\",\"EveryTick\")","v":7100.75},-2.2131665846975338E-3,{"$f":"RTD(\"cqg.rtd\",,\"StudyData\", \"Close(\"&$D$12&\") when LocalYear(\"&$D$12&\")=\"&$D$9&\" and localMonth(\"&$D$12&\") =\"&$E$9&\" and LocalDay(\"&$D$12&\")=\"&$F$9&\" and Barix(\"&$D$12&\",reference:=StartOfSession)=\"&A23&\"\", \"Bar\", \"\", \"Close\",\"5\",\"0\",\"PrimaryOnly\",,,\"False\",\"T\",\"EveryTick\")","v":7052.25},-2.0518625959599535E-3,{"$f":"RTD(\"cqg.rtd\",,\"StudyData\", \"Close(\"&$D$12&\") when LocalYear(\"&$D$12&\")=\"&$D$10&\" and localMonth(\"&$D$12&\") =\"&$E$10&\" and LocalDay(\"&$D$12&\")=\"&$F$10&\" and Barix(\"&$D$12&\",reference:=StartOfSession)=\"&A23&\"\", \"Bar\", \"\", \"Close\",\"5\",\"0\",\"PrimaryOnly\",,,\"False\",\"T\",\"EveryTick\")","v":7110.75},7.117059698321649E-3,null,null,null,""]
[23,"10:25:00",null,6,"#.000000",null,null,{"$f":"RTD(\"cqg.rtd\",,\"StudyData\", \"Close(\"&$D$12&\") when LocalYear(\"&$D$12&\")=\"&$D$1&\" and localMonth(\"&$D$12&\") =\"&$E$1&\" and LocalDay(\"&$D$12&\")=\"&$F$1&\" and Barix(\"&$D$12&\",reference:=StartOfSession)=\"&A24&\"\", \"Bar\", \"\", \"Close\",\"5\",\"0\",\"PrimaryOnly\",,,\"False\",\"T\",\"EveryTick\")","v":7402.75},2.7090176424773966E-3,{"$f":"RTD(\"cqg.rtd\",,\"StudyData\", \"Close(\"&$D$12&\") when LocalYear(\"&$D$12&\")=\"&$D$2&\" and localMonth(\"&$D$12&\") =\"&$E$2&\" and LocalDay(\"&$D$12&\")=\"&$F$2&\" and Barix(\"&$D$12&\",reference:=StartOfSession)=\"&A24&\"\", \"Bar\", \"\", \"Close\",\"5\",\"0\",\"PrimaryOnly\",,,\"False\",\"T\",\"EveryTick\")","v":7347},1.285541961054627E-2,{"$f":"RTD(\"cqg.rtd\",,\"StudyData\", \"Close(\"&$D$12&\") when LocalYear(\"&$D$12&\")=\"&$D$3&\" and localMonth(\"&$D$12&\") =\"&$E$3&\" and LocalDay(\"&$D$12&\")=\"&$F$3&\" and Barix(\"&$D$12&\",reference:=StartOfSession)=\"&A24&\"\", \"Bar\", \"\", \"Close\",\"5\",\"0\",\"PrimaryOnly\",,,\"False\",\"T\",\"EveryTick\")","v":7256.25},-6.1973567075258506E-3,{"$f":"RTD(\"cqg.rtd\",,\"StudyData\", \"Close(\"&$D$12&\") when LocalYear(\"&$D$12&\")=\"&$D$4&\" and localMonth(\"&$D$12&\") =\"&$E$4&\" and LocalDay(\"&$D$12&\")=\"&$F$4&\" and Barix(\"&$D$12&\",reference:=StartOfSession)=\"&A24&\"\", \"Bar\", \"\", \"Close\",\"5\",\"0\",\"PrimaryOnly\",,,\"False\",\"T\",\"EveryTick\")","v":7301},1.0273620766412109E-4,{"$f":"RTD(\"cqg.rtd\",,\"StudyData\", \"Close(\"&$D$12&\") when LocalYear(\"&$D$12&\")=\"&$D$5&\" and localMonth(\"&$D$12&\") =\"&$E$5&\" and LocalDay(\"&$D$12&\")=\"&$F$5&\" and Barix(\"&$D$12&\",reference:=StartOfSession)=\"&A24&\"\", \"Bar\", \"\", \"Close\",\"5\",\"0\",\"PrimaryOnly\",,,\"False\",\"T\",\"EveryTick\")","v":7264.5},4.2856155388124699E-3,{"$f":"RTD(\"cqg.rtd\",,\"StudyData\", \"Close(\"&$D$12&\") when LocalYear(\"&$D$12&\")=\"&$D$6&\" and localMonth(\"&$D$12&\") =\"&$E$6&\" and LocalDay(\"&$D$12&\")=\"&$F$6&\" and Barix(\"&$D$12&\",reference:=StartOfSession)=\"&A24&\"\", \"Bar\", \"\", \"Close\",\"5\",\"0\",\"PrimaryOnly\",,,\"False\",\"T\",\"EveryTick\")","v":7197.75},1.0104199557941269E-2,{"$f":"RTD(\"cqg.rtd\",,\"StudyData\", \"Close(\"&$D$12&\") when LocalYear(\"&$D$12&\")=\"&$D$7&\" and localMonth(\"&$D$12&\") =\"&$E$7&\" and LocalDay(\"&$D$12&\")=\"&$F$7&\" and Barix(\"&$D$12&\",reference:=StartOfSession)=\"&A24&\"\", \"Bar\", \"\", \"Close\",\"5\",\"0\",\"PrimaryOnly\",,,\"False\",\"T\",\"EveryTick\")","v":7080},8.0085424452749597E-3,{"$f":"RTD(\"cqg.rtd\",,\"StudyData\", \"Close(\"&$D$12&\") when LocalYear(\"&$D$12&\")=\"&$D$8&\" and localMonth(\"&$D$12&\") =\"&$E$8&\" and LocalDay(\"&$D$12&\")=\"&$F$8&\" and Barix(\"&$D$12&\",reference:=StartOfSession)=\"&A24&\"\", \"Bar\", \"\", \"Close\",\"5\",\"0\",\"PrimaryOnly\",,,\"False\",\"T\",\"EveryTick\")","v":7101},-2.1780369563690017E-3,{"$f":"RTD(\"cqg.rtd\",,\"StudyData\", \"Close(\"&$D$12&\") when LocalYear(\"&$D$12&\")=\"&$D$9&\" and localMonth(\"&$D$12&\") =\"&$E$9&\" and LocalDay(\"&$D$12&\")=\"&$F$9&\" and Barix(\"&$D$12&\",reference:=StartOfSession)=\"&A24&\"\", \"Bar\", \"\", \"Close\",\"5\",\"0\",\"PrimaryOnly\",,,\"False\",\"T\",\"EveryTick\")","v":7052},-2.0872395372696076E-3,{"$f":"RTD(\"cqg.rtd\",,\"StudyData\", \"Close(\"&$D$12&\") when LocalYear(\"&$D$12&\")=\"&$D$10&\" and localMonth(\"&$D$12&\") =\"&$E$10&\" and LocalDay(\"&$D$12&\")=\"&$F$10&\" and Barix(\"&$D$12&\",reference:=StartOfSession)=\"&A24&\"\", \"Bar\", \"\", \"Close\",\"5\",\"0\",\"PrimaryOnly\",,,\"False\",\"T\",\"EveryTick\")","v":7104.75},6.2672615253877208E-3,null,null,null,23]
[24,"10:30:00",null,7,"#.0000000",null,null,{"$f":"RTD(\"cqg.rtd\",,\"StudyData\", \"Close(\"&$D$12&\") when LocalYear(\"&$D$12&\")=\"&$D$1&\" and localMonth(\"&$D$12&\") =\"&$E$1&\" and LocalDay(\"&$D$12&\")=\"&$F$1&\" and Barix(\"&$D$12&\",reference:=StartOfSession)=\"&A25&\"\", \"Bar\", \"\", \"Close\",\"5\",\"0\",\"PrimaryOnly\",,,\"False\",\"T\",\"EveryTick\")","v":""},{"$error":"#N/A"},{"$f":"RTD(\"cqg.rtd\",,\"StudyData\", \"Close(\"&$D$12&\") when LocalYear(\"&$D$12&\")=\"&$D$2&\" and localMonth(\"&$D$12&\") =\"&$E$2&\" and LocalDay(\"&$D$12&\")=\"&$F$2&\" and Barix(\"&$D$12&\",reference:=StartOfSession)=\"&A25&\"\", \"Bar\", \"\", \"Close\",\"5\",\"0\",\"PrimaryOnly\",,,\"False\",\"T\",\"EveryTick\")","v":7345},1.2579700155092194E-2,{"$f":"RTD(\"cqg.rtd\",,\"StudyData\", \"Close(\"&$D$12&\") when LocalYear(\"&$D$12&\")=\"&$D$3&\" and localMonth(\"&$D$12&\") =\"&$E$3&\" and LocalDay(\"&$D$12&\")=\"&$F$3&\" and Barix(\"&$D$12&\",reference:=StartOfSession)=\"&A25&\"\", \"Bar\", \"\", \"Close\",\"5\",\"0\",\"PrimaryOnly\",,,\"False\",\"T\",\"EveryTick\")","v":7254.25},-6.4712730260905295E-3,{"$f":"RTD(\"cqg.rtd\",,\"StudyData\", \"Close(\"&$D$12&\") when LocalYear(\"&$D$12&\")=\"&$D$4&\" and localMonth(\"&$D$12&\") =\"&$E$4&\" and LocalDay(\"&$D$12&\")=\"&$F$4&\" and Barix(\"&$D$12&\",reference:=StartOfSession)=\"&A25&\"\", \"Bar\", \"\", \"Close\",\"5\",\"0\",\"PrimaryOnly\",,,\"False\",\"T\",\"EveryTick\")","v":7298.75},-2.0547241532824218E-4,{"$f":"RTD(\"cqg.rtd\",,\"StudyData\", \"Close(\"&$D$12&\") when LocalYear(\"&$D$12&\")=\"&$D$5&\" and localMonth(\"&$D$12&\") =\"&$E$5&\" and LocalDay(\"&$D$12&\")=\"&$F$5&\" and Barix(\"&$D$12&\",reference:=StartOfSession)=\"&A25&\"\", \"Bar\", \"\", \"Close\",\"5\",\"0\",\"PrimaryOnly\",,,\"False\",\"T\",\"EveryTick\")","v":7261},3.8017557199142879E-3,{"$f":"RTD(\"cqg.rtd\",,\"StudyData\", \"Close(\"&$D$12&\") when LocalYear(\"&$D$12&\")=\"&$D$6&\" and localMonth(\"&$D$12&\") =\"&$E$6&\" and LocalDay(\"&$D$12&\")=\"&$F$6&\" and Barix(\"&$D$12&\",reference:=StartOfSession)=\"&A25&\"\", \"Bar\", \"\", \"Close\",\"5\",\"0\",\"PrimaryOnly\",,,\"False\",\"T\",\"EveryTick\")","v":7204.5},1.1051468266498263E-2,{"$f":"RTD(\"cqg.rtd\",,\"StudyData\", \"Close(\"&$D$12&\") when LocalYear(\"&$D$12&\")=\"&$D$7&\" and localMonth(\"&$D$12&\") =\"&$E$7&\" and LocalDay(\"&$D$12&\")=\"&$F$7&\" and Barix(\"&$D$12&\",reference:=StartOfSession)=\"&A25&\"\", \"Bar\", \"\", \"Close\",\"5\",\"0\",\"PrimaryOnly\",,,\"False\",\"T\",\"EveryTick\")","v":7084},8.5780387969389572E-3,{"$f":"RTD(\"cqg.rtd\",,\"StudyData\", \"Close(\"&$D$12&\") when LocalYear(\"&$D$12&\")=\"&$D$8&\" and localMonth(\"&$D$12&\") =\"&$E$8&\" and LocalDay(\"&$D$12&\")=\"&$F$8&\" and Barix(\"&$D$12&\",reference:=StartOfSession)=\"&A25&\"\", \"Bar\", \"\", \"Close\",\"5\",\"0\",\"PrimaryOnly\",,,\"False\",\"T\",\"EveryTick\")","v":7101.5},-2.1077776997119372E-3,{"$f":"RTD(\"cqg.rtd\",,\"StudyData\", \"Close(\"&$D$12&\") when LocalYear(\"&$D$12&\")=\"&$D$9&\" and localMonth(\"&$D$12&\") =\"&$E$9&\" and LocalDay(\"&$D$12&\")=\"&$F$9&\" and Barix(\"&$D$12&\",reference:=StartOfSession)=\"&A25&\"\", \"Bar\", \"\", \"Close\",\"5\",\"0\",\"PrimaryOnly\",,,\"False\",\"T\",\"EveryTick\")","v":7042.5},-3.4315633070364738E-3,{"$f":"RTD(\"cqg.rtd\",,\"StudyData\", \"Close(\"&$D$12&\") when LocalYear(\"&$D$12&\")=\"&$D$10&\" and localMonth(\"&$D$12&\") =\"&$E$10&\" and LocalDay(\"&$D$12&\")=\"&$F$10&\" and Barix(\"&$D$12&\",reference:=StartOfSession)=\"&A25&\"\", \"Bar\", \"\", \"Close\",\"5\",\"0\",\"PrimaryOnly\",,,\"False\",\"T\",\"EveryTick\")","v":7100},5.5945046384816939E-3,null,null,null,""]
[25,"10:35:00",null,null,null,null,null,{"$f":"RTD(\"cqg.rtd\",,\"StudyData\", \"Close(\"&$D$12&\") when LocalYear(\"&$D$12&\")=\"&$D$1&\" and localMonth(\"&$D$12&\") =\"&$E$1&\" and LocalDay(\"&$D$12&\")=\"&$F$1&\" and Barix(\"&$D$12&\",reference:=StartOfSession)=\"&A26&\"\", \"Bar\", \"\", \"Close\",\"5\",\"0\",\"PrimaryOnly\",,,\"False\",\"T\",\"EveryTick\")","v":""},{"$error":"#N/A"},{"$f":"RTD(\"cqg.rtd\",,\"StudyData\", \"Close(\"&$D$12&\") when LocalYear(\"&$D$12&\")=\"&$D$2&\" and localMonth(\"&$D$12&\") =\"&$E$2&\" and LocalDay(\"&$D$12&\")=\"&$F$2&\" and Barix(\"&$D$12&\",reference:=StartOfSession)=\"&A26&\"\", \"Bar\", \"\", \"Close\",\"5\",\"0\",\"PrimaryOnly\",,,\"False\",\"T\",\"EveryTick\")","v":7345.75},1.2683094950887472E-2,{"$f":"RTD(\"cqg.rtd\",,\"StudyData\", \"Close(\"&$D$12&\") when LocalYear(\"&$D$12&\")=\"&$D$3&\" and localMonth(\"&$D$12&\") =\"&$E$3&\" and LocalDay(\"&$D$12&\")=\"&$F$3&\" and Barix(\"&$D$12&\",reference:=StartOfSession)=\"&A26&\"\", \"Bar\", \"\", \"Close\",\"5\",\"0\",\"PrimaryOnly\",,,\"False\",\"T\",\"EveryTick\")","v":7259.25},-5.7864822296788332E-3,{"$f":"RTD(\"cqg.rtd\",,\"StudyData\", \"Close(\"&$D$12&\") when LocalYear(\"&$D$12&\")=\"&$D$4&\" and localMonth(\"&$D$12&\") =\"&$E$4&\" and LocalDay(\"&$D$12&\")=\"&$F$4&\" and Barix(\"&$D$12&\",reference:=StartOfSession)=\"&A26&\"\", \"Bar\", \"\", \"Close\",\"5\",\"0\",\"PrimaryOnly\",,,\"False\",\"T\",\"EveryTick\")","v":7304.5},5.8217184343001954E-4,{"$f":"RTD(\"cqg.rtd\",,\"StudyData\", \"Close(\"&$D$12&\") when LocalYear(\"&$D$12&\")=\"&$D$5&\" and localMonth(\"&$D$12&\") =\"&$E$5&\" and LocalDay(\"&$D$12&\")=\"&$F$5&\" and Barix(\"&$D$12&\",reference:=StartOfSession)=\"&A26&\"\", \"Bar\", \"\", \"Close\",\"5\",\"0\",\"PrimaryOnly\",,,\"False\",\"T\",\"EveryTick\")","v":7265.5},4.4238612013548072E-3,{"$f":"RTD(\"cqg.rtd\",,\"StudyData\", \"Close(\"&$D$12&\") when LocalYear(\"&$D$12&\")=\"&$D$6&\" and localMonth(\"&$D$12&\") =\"&$E$6&\" and LocalDay(\"&$D$12&\")=\"&$F$6&\" and Barix(\"&$D$12&\",reference:=StartOfSession)=\"&A26&\"\", \"Bar\", \"\", \"Close\",\"5\",\"0\",\"PrimaryOnly\",,,\"False\",\"T\",\"EveryTick\")","v":7212.25},1.2139073080026664E-2,{"$f":"RTD(\"cqg.rtd\",,\"StudyData\", \"Close(\"&$D$12&\") when LocalYear(\"&$D$12&\")=\"&$D$7&\" and localMonth(\"&$D$12&\") =\"&$E$7&\" and LocalDay(\"&$D$12&\")=\"&$F$7&\" and Barix(\"&$D$12&\",reference:=StartOfSession)=\"&A26&\"\", \"Bar\", \"\", \"Close\",\"5\",\"0\",\"PrimaryOnly\",,,\"False\",\"T\",\"EveryTick\")","v":7081.5},8.2221035771489585E-3,{"$f":"RTD(\"cqg.rtd\",,\"StudyData\", \"Close(\"&$D$12&\") when LocalYear(\"&$D$12&\")=\"&$D$8&\" and localMonth(\"&$D$12&\") =\"&$E$8&\" and LocalDay(\"&$D$12&\")=\"&$F$8&\" and Barix(\"&$D$12&\",reference:=StartOfSession)=\"&A26&\"\", \"Bar\", \"\", \"Close\",\"5\",\"0\",\"PrimaryOnly\",,,\"False\",\"T\",\"EveryTick\")","v":7102.5},-1.9672591863978081E-3,{"$f":"RTD(\"cqg.rtd\",,\"StudyData\", \"Close(\"&$D$12&\") when LocalYear(\"&$D$12&\")=\"&$D$9&\" and localMonth(\"&$D$12&\") =\"&$E$9&\" and LocalDay(\"&$D$12&\")=\"&$F$9&\" and Barix(\"&$D$12&\",reference:=StartOfSession)=\"&A26&\"\", \"Bar\", \"\", \"Close\",\"5\",\"0\",\"PrimaryOnly\",,,\"False\",\"T\",\"EveryTick\")","v":7042.25},-3.4669402483461279E-3,{"$f":"RTD(\"cqg.rtd\",,\"StudyData\", \"Close(\"&$D$12&\") when LocalYear(\"&$D$12&\")=\"&$D$10&\" and localMonth(\"&$D$12&\") =\"&$E$10&\" and LocalDay(\"&$D$12&\")=\"&$F$10&\" and Barix(\"&$D$12&\",reference:=StartOfSession)=\"&A26&\"\", \"Bar\", \"\", \"Close\",\"5\",\"0\",\"PrimaryOnly\",,,\"False\",\"T\",\"EveryTick\")","v":7098.75},5.4174633524537918E-3,null,null,null,""]
[26,"10:40:00",null,null,null,null,null,{"$f":"RTD(\"cqg.rtd\",,\"StudyData\", \"Close(\"&$D$12&\") when LocalYear(\"&$D$12&\")=\"&$D$1&\" and localMonth(\"&$D$12&\") =\"&$E$1&\" and LocalDay(\"&$D$12&\")=\"&$F$1&\" and Barix(\"&$D$12&\",reference:=StartOfSession)=\"&A27&\"\", \"Bar\", \"\", \"Close\",\"5\",\"0\",\"PrimaryOnly\",,,\"False\",\"T\",\"EveryTick\")","v":""},{"$error":"#N/A"},{"$f":"RTD(\"cqg.rtd\",,\"StudyData\", \"Close(\"&$D$12&\") when LocalYear(\"&$D$12&\")=\"&$D$2&\" and localMonth(\"&$D$12&\") =\"&$E$2&\" and LocalDay(\"&$D$12&\")=\"&$F$2&\" and Barix(\"&$D$12&\",reference:=StartOfSession)=\"&A27&\"\", \"Bar\", \"\", \"Close\",\"5\",\"0\",\"PrimaryOnly\",,,\"False\",\"T\",\"EveryTick\")","v":7346.25},1.2752024814750991E-2,{"$f":"RTD(\"cqg.rtd\",,\"StudyData\", \"Close(\"&$D$12&\") when LocalYear(\"&$D$12&\")=\"&$D$3&\" and localMonth(\"&$D$12&\") =\"&$E$3&\" and LocalDay(\"&$D$12&\")=\"&$F$3&\" and Barix(\"&$D$12&\",reference:=StartOfSession)=\"&A27&\"\", \"Bar\", \"\", \"Close\",\"5\",\"0\",\"PrimaryOnly\",,,\"False\",\"T\",\"EveryTick\")","v":7252.25},-6.7451893446552075E-3,{"$f":"RTD(\"cqg.rtd\",,\"StudyData\", \"Close(\"&$D$12&\") when LocalYear(\"&$D$12&\")=\"&$D$4&\" and localMonth(\"&$D$12&\") =\"&$E$4&\" and LocalDay(\"&$D$12&\")=\"&$F$4&\" and Barix(\"&$D$12&\",reference:=StartOfSession)=\"&A27&\"\", \"Bar\", \"\", \"Close\",\"5\",\"0\",\"PrimaryOnly\",,,\"False\",\"T\",\"EveryTick\")","v":7308},1.061607479195918E-3,{"$f":"RTD(\"cqg.rtd\",,\"StudyData\", \"Close(\"&$D$12&\") when LocalYear(\"&$D$12&\")=\"&$D$5&\" and localMonth(\"&$D$12&\") =\"&$E$5&\" and LocalDay(\"&$D$12&\")=\"&$F$5&\" and Barix(\"&$D$12&\",reference:=StartOfSession)=\"&A27&\"\", \"Bar\", \"\", \"Close\",\"5\",\"0\",\"PrimaryOnly\",,,\"False\",\"T\",\"EveryTick\")","v":7266.5},4.5621068638971455E-3,{"$f":"RTD(\"cqg.rtd\",,\"StudyData\", \"Close(\"&$D$12&\") when LocalYear(\"&$D$12&\")=\"&$D$6&\" and localMonth(\"&$D$12&\") =\"&$E$6&\" and LocalDay(\"&$D$12&\")=\"&$F$6&\" and Barix(\"&$D$12&\",reference:=StartOfSession)=\"&A27&\"\", \"Bar\", \"\", \"Close\",\"5\",\"0\",\"PrimaryOnly\",,,\"False\",\"T\",\"EveryTick\")","v":7212},1.2103989053783811E-2,{"$f":"RTD(\"cqg.rtd\",,\"StudyData\", \"Close(\"&$D$12&\") when LocalYear(\"&$D$12&\")=\"&$D$7&\" and localMonth(\"&$D$12&\") =\"&$E$7&\" and LocalDay(\"&$D$12&\")=\"&$F$7&\" and Barix(\"&$D$12&\",reference:=StartOfSession)=\"&A27&\"\", \"Bar\", \"\", \"Close\",\"5\",\"0\",\"PrimaryOnly\",,,\"False\",\"T\",\"EveryTick\")","v":7081.5},8.2221035771489585E-3,{"$f":"RTD(\"cqg.rtd\",,\"StudyData\", \"Close(\"&$D$12&\") when LocalYear(\"&$D$12&\")=\"&$D$8&\" and localMonth(\"&$D$12&\") =\"&$E$8&\" and LocalDay(\"&$D$12&\")=\"&$F$8&\" and Barix(\"&$D$12&\",reference:=StartOfSession)=\"&A27&\"\", \"Bar\", \"\", \"Close\",\"5\",\"0\",\"PrimaryOnly\",,,\"False\",\"T\",\"EveryTick\")","v":7098},-2.5995924963113891E-3,{"$f":"RTD(\"cqg.rtd\",,\"StudyData\", \"Close(\"&$D$12&\") when LocalYear(\"&$D$12&\")=\"&$D$9&\" and localMonth(\"&$D$12&\") =\"&$E$9&\" and LocalDay(\"&$D$12&\")=\"&$F$9&\" and Barix(\"&$D$12&\",reference:=StartOfSession)=\"&A27&\"\", \"Bar\", \"\", \"Close\",\"5\",\"0\",\"PrimaryOnly\",,,\"False\",\"T\",\"EveryTick\")","v":7040},-3.7853327201330172E-3,{"$f":"RTD(\"cqg.rtd\",,\"StudyData\", \"Close(\"&$D$12&\") when LocalYear(\"&$D$12&\")=\"&$D$10&\" and localMonth(\"&$D$12&\") =\"&$E$10&\" and LocalDay(\"&$D$12&\")=\"&$F$10&\" and Barix(\"&$D$12&\",reference:=StartOfSession)=\"&A27&\"\", \"Bar\", \"\", \"Close\",\"5\",\"0\",\"PrimaryOnly\",,,\"False\",\"T\",\"EveryTick\")","v":7099.25},5.4882798668649526E-3,null,null,null,""]
[27,"10:45:00",null,null,null,null,null,{"$f":"RTD(\"cqg.rtd\",,\"StudyData\", \"Close(\"&$D$12&\") when LocalYear(\"&$D$12&\")=\"&$D$1&\" and localMonth(\"&$D$12&\") =\"&$E$1&\" and LocalDay(\"&$D$12&\")=\"&$F$1&\" and Barix(\"&$D$12&\",reference:=StartOfSession)=\"&A28&\"\", \"Bar\", \"\", \"Close\",\"5\",\"0\",\"PrimaryOnly\",,,\"False\",\"T\",\"EveryTick\")","v":""},{"$error":"#N/A"},{"$f":"RTD(\"cqg.rtd\",,\"StudyData\", \"Close(\"&$D$12&\") when LocalYear(\"&$D$12&\")=\"&$D$2&\" and localMonth(\"&$D$12&\") =\"&$E$2&\" and LocalDay(\"&$D$12&\")=\"&$F$2&\" and Barix(\"&$D$12&\",reference:=StartOfSession)=\"&A28&\"\", \"Bar\", \"\", \"Close\",\"5\",\"0\",\"PrimaryOnly\",,,\"False\",\"T\",\"EveryTick\")","v":7352.5},1.3613648113044977E-2,{"$f":"RTD(\"cqg.rtd\",,\"StudyData\", \"Close(\"&$D$12&\") when LocalYear(\"&$D$12&\")=\"&$D$3&\" and localMonth(\"&$D$12&\") =\"&$E$3&\" and LocalDay(\"&$D$12&\")=\"&$F$3&\" and Barix(\"&$D$12&\",reference:=StartOfSession)=\"&A28&\"\", \"Bar\", \"\", \"Close\",\"5\",\"0\",\"PrimaryOnly\",,,\"False\",\"T\",\"EveryTick\")","v":7256.75},-6.1288776278846813E-3,{"$f":"RTD(\"cqg.rtd\",,\"StudyData\", \"Close(\"&$D$12&\") when LocalYear(\"&$D$12&\")=\"&$D$4&\" and localMonth(\"&$D$12&\") =\"&$E$4&\" and LocalDay(\"&$D$12&\")=\"&$F$4&\" and Barix(\"&$D$12&\",reference:=StartOfSession)=\"&A28&\"\", \"Bar\", \"\", \"Close\",\"5\",\"0\",\"PrimaryOnly\",,,\"False\",\"T\",\"EveryTick\")","v":7309.5},1.2670798945241602E-3,{"$f":"RTD(\"cqg.rtd\",,\"StudyData\", \"Close(\"&$D$12&\") when LocalYear(\"&$D$12&\")=\"&$D$5&\" and localMonth(\"&$D$12&\") =\"&$E$5&\" and LocalDay(\"&$D$12&\")=\"&$F$5&\" and Barix(\"&$D$12&\",reference:=StartOfSession)=\"&A28&\"\", \"Bar\", \"\", \"Close\",\"5\",\"0\",\"PrimaryOnly\",,,\"False\",\"T\",\"EveryTick\")","v":7267.75},4.7349139420750676E-3,{"$f":"RTD(\"cqg.rtd\",,\"StudyData\", \"Close(\"&$D$12&\") when LocalYear(\"&$D$12&\")=\"&$D$6&\" and localMonth(\"&$D$12&\") =\"&$E$6&\" and LocalDay(\"&$D$12&\")=\"&$F$6&\" and Barix(\"&$D$12&\",reference:=StartOfSession)=\"&A28&\"\", \"Bar\", \"\", \"Close\",\"5\",\"0\",\"PrimaryOnly\",,,\"False\",\"T\",\"EveryTick\")","v":7213.5},1.2314493211240922E-2,{"$f":"RTD(\"cqg.rtd\",,\"StudyData\", \"Close(\"&$D$12&\") when LocalYear(\"&$D$12&\")=\"&$D$7&\" and localMonth(\"&$D$12&\") =\"&$E$7&\" and LocalDay(\"&$D$12&\")=\"&$F$7&\" and Barix(\"&$D$12&\",reference:=StartOfSession)=\"&A28&\"\", \"Bar\", \"\", \"Close\",\"5\",\"0\",\"PrimaryOnly\",,,\"False\",\"T\",\"EveryTick\")","v":7087.25},9.0407545826659552E-3,{"$f":"RTD(\"cqg.rtd\",,\"StudyData\", \"Close(\"&$D$12&\") when LocalYear(\"&$D$12&\")=\"&$D$8&\" and localMonth(\"&$D$12&\") =\"&$E$8&\" and LocalDay(\"&$D$12&\")=\"&$F$8&\" and Barix(\"&$D$12&\",reference:=StartOfSession)=\"&A28&\"\", \"Bar\", \"\", \"Close\",\"5\",\"0\",\"PrimaryOnly\",,,\"False\",\"T\",\"EveryTick\")","v":7099.5},-2.3888147263401954E-3,{"$f":"RTD(\"cqg.rtd\",,\"StudyData\", \"Close(\"&$D$12&\") when LocalYear(\"&$D$12&\")=\"&$D$9&\" and localMonth(\"&$D$12&\") =\"&$E$9&\" and LocalDay(\"&$D$12&\")=\"&$F$9&\" and Barix(\"&$D$12&\",reference:=StartOfSession)=\"&A28&\"\", \"Bar\", \"\", \"Close\",\"5\",\"0\",\"PrimaryOnly\",,,\"False\",\"T\",\"EveryTick\")","v":7037.25},-4.1744790745392151E-3,{"$f":"RTD(\"cqg.rtd\",,\"StudyData\", \"Close(\"&$D$12&\") when LocalYear(\"&$D$12&\")=\"&$D$10&\" and localMonth(\"&$D$12&\") =\"&$E$10&\" and LocalDay(\"&$D$12&\")=\"&$F$10&\" and Barix(\"&$D$12&\",reference:=StartOfSession)=\"&A28&\"\", \"Bar\", \"\", \"Close\",\"5\",\"0\",\"PrimaryOnly\",,,\"False\",\"T\",\"EveryTick\")","v":7099.75},5.5590963812761135E-3,null,null,null,""]
[28,"10:50:00",null,null,null,null,null,{"$f":"RTD(\"cqg.rtd\",,\"StudyData\", \"Close(\"&$D$12&\") when LocalYear(\"&$D$12&\")=\"&$D$1&\" and localMonth(\"&$D$12&\") =\"&$E$1&\" and LocalDay(\"&$D$12&\")=\"&$F$1&\" and Barix(\"&$D$12&\",reference:=StartOfSession)=\"&A29&\"\", \"Bar\", \"\", \"Close\",\"5\",\"0\",\"PrimaryOnly\",,,\"False\",\"T\",\"EveryTick\")","v":""},{"$error":"#N/A"},{"$f":"RTD(\"cqg.rtd\",,\"StudyData\", \"Close(\"&$D$12&\") when LocalYear(\"&$D$12&\")=\"&$D$2&\" and localMonth(\"&$D$12&\") =\"&$E$2&\" and LocalDay(\"&$D$12&\")=\"&$F$2&\" and Barix(\"&$D$12&\",reference:=StartOfSession)=\"&A29&\"\", \"Bar\", \"\", \"Close\",\"5\",\"0\",\"PrimaryOnly\",,,\"False\",\"T\",\"EveryTick\")","v":7355.5},1.402722729622609E-2,{"$f":"RTD(\"cqg.rtd\",,\"StudyData\", \"Close(\"&$D$12&\") when LocalYear(\"&$D$12&\")=\"&$D$3&\" and localMonth(\"&$D$12&\") =\"&$E$3&\" and LocalDay(\"&$D$12&\")=\"&$F$3&\" and Barix(\"&$D$12&\",reference:=StartOfSession)=\"&A29&\"\", \"Bar\", \"\", \"Close\",\"5\",\"0\",\"PrimaryOnly\",,,\"False\",\"T\",\"EveryTick\")","v":7258.5},-5.8892008491405875E-3,{"$f":"RTD(\"cqg.rtd\",,\"StudyData\", \"Close(\"&$D$12&\") when LocalYear(\"&$D$12&\")=\"&$D$4&\" and localMonth(\"&$D$12&\") =\"&$E$4&\" and LocalDay(\"&$D$12&\")=\"&$F$4&\" and Barix(\"&$D$12&\",reference:=StartOfSession)=\"&A29&\"\", \"Bar\", \"\", \"Close\",\"5\",\"0\",\"PrimaryOnly\",,,\"False\",\"T\",\"EveryTick\")","v":7309.5},1.2670798945241602E-3,{"$f":"RTD(\"cqg.rtd\",,\"StudyData\", \"Close(\"&$D$12&\") when LocalYear(\"&$D$12&\")=\"&$D$5&\" and localMonth(\"&$D$12&\") =\"&$E$5&\" and LocalDay(\"&$D$12&\")=\"&$F$5&\" and Barix(\"&$D$12&\",reference:=StartOfSession)=\"&A29&\"\", \"Bar\", \"\", \"Close\",\"5\",\"0\",\"PrimaryOnly\",,,\"False\",\"T\",\"EveryTick\")","v":7267.75},4.7349139420750676E-3,{"$f":"RTD(\"cqg.rtd\",,\"StudyData\", \"Close(\"&$D$12&\") when LocalYear(\"&$D$12&\")=\"&$D$6&\" and localMonth(\"&$D$12&\") =\"&$E$6&\" and LocalDay(\"&$D$12&\")=\"&$F$6&\" and Barix(\"&$D$12&\",reference:=StartOfSession)=\"&A29&\"\", \"Bar\", \"\", \"Close\",\"5\",\"0\",\"PrimaryOnly\",,,\"False\",\"T\",\"EveryTick\")","v":7207},1.1402308528926779E-2,{"$f":"RTD(\"cqg.rtd\",,\"StudyData\", \"Close(\"&$D$12&\") when LocalYear(\"&$D$12&\")=\"&$D$7&\" and localMonth(\"&$D$12&\") =\"&$E$7&\" and LocalDay(\"&$D$12&\")=\"&$F$7&\" and Barix(\"&$D$12&\",reference:=StartOfSession)=\"&A29&\"\", \"Bar\", \"\", \"Close\",\"5\",\"0\",\"PrimaryOnly\",,,\"False\",\"T\",\"EveryTick\")","v":7091.5},9.6458444563089513E-3,{"$f":"RTD(\"cqg.rtd\",,\"StudyData\", \"Close(\"&$D$12&\") when LocalYear(\"&$D$12&\")=\"&$D$8&\" and localMonth(\"&$D$12&\") =\"&$E$8&\" and LocalDay(\"&$D$12&\")=\"&$F$8&\" and Barix(\"&$D$12&\",reference:=StartOfSession)=\"&A29&\"\", \"Bar\", \"\", \"Close\",\"5\",\"0\",\"PrimaryOnly\",,,\"False\",\"T\",\"EveryTick\")","v":7085},-4.4263331693950676E-3,{"$f":"RTD(\"cqg.rtd\",,\"StudyData\", \"Close(\"&$D$12&\") when LocalYear(\"&$D$12&\")=\"&$D$9&\" and localMonth(\"&$D$12&\") =\"&$E$9&\" and LocalDay(\"&$D$12&\")=\"&$F$9&\" and Barix(\"&$D$12&\",reference:=StartOfSession)=\"&A29&\"\", \"Bar\", \"\", \"Close\",\"5\",\"0\",\"PrimaryOnly\",,,\"False\",\"T\",\"EveryTick\")","v":7042.75},-3.3961863657268193E-3,{"$f":"RTD(\"cqg.rtd\",,\"StudyData\", \"Close(\"&$D$12&\") when LocalYear(\"&$D$12&\")=\"&$D$10&\" and localMonth(\"&$D$12&\") =\"&$E$10&\" and LocalDay(\"&$D$12&\")=\"&$F$10&\" and Barix(\"&$D$12&\",reference:=StartOfSession)=\"&A29&\"\", \"Bar\", \"\", \"Close\",\"5\",\"0\",\"PrimaryOnly\",,,\"False\",\"T\",\"EveryTick\")","v":7092},4.4614404079031233E-3,null,null,null,""]
[29,"10:55:00",null,null,null,null,null,{"$f":"RTD(\"cqg.rtd\",,\"StudyData\", \"Close(\"&$D$12&\") when LocalYear(\"&$D$12&\")=\"&$D$1&\" and localMonth(\"&$D$12&\") =\"&$E$1&\" and LocalDay(\"&$D$12&\")=\"&$F$1&\" and Barix(\"&$D$12&\",reference:=StartOfSession)=\"&A30&\"\", \"Bar\", \"\", \"Close\",\"5\",\"0\",\"PrimaryOnly\",,,\"False\",\"T\",\"EveryTick\")","v":""},{"$error":"#N/A"},{"$f":"RTD(\"cqg.rtd\",,\"StudyData\", \"Close(\"&$D$12&\") when LocalYear(\"&$D$12&\")=\"&$D$2&\" and localMonth(\"&$D$12&\") =\"&$E$2&\" and LocalDay(\"&$D$12&\")=\"&$F$2&\" and Barix(\"&$D$12&\",reference:=StartOfSession)=\"&A30&\"\", \"Bar\", \"\", \"Close\",\"5\",\"0\",\"PrimaryOnly\",,,\"False\",\"T\",\"EveryTick\")","v":7362},1.4923315526451835E-2,{"$f":"RTD(\"cqg.rtd\",,\"StudyData\", \"Close(\"&$D$12&\") when LocalYear(\"&$D$12&\")=\"&$D$3&\" and localMonth(\"&$D$12&\") =\"&$E$3&\" and LocalDay(\"&$D$12&\")=\"&$F$3&\" and Barix(\"&$D$12&\",reference:=StartOfSession)=\"&A30&\"\", \"Bar\", \"\", \"Close\",\"5\",\"0\",\"PrimaryOnly\",,,\"False\",\"T\",\"EveryTick\")","v":7254.5},-6.4370334862699444E-3,{"$f":"RTD(\"cqg.rtd\",,\"StudyData\", \"Close(\"&$D$12&\") when LocalYear(\"&$D$12&\")=\"&$D$4&\" and localMonth(\"&$D$12&\") =\"&$E$4&\" and LocalDay(\"&$D$12&\")=\"&$F$4&\" and Barix(\"&$D$12&\",reference:=StartOfSession)=\"&A30&\"\", \"Bar\", \"\", \"Close\",\"5\",\"0\",\"PrimaryOnly\",,,\"False\",\"T\",\"EveryTick\")","v":7313.25},1.7807609328447656E-3,{"$f":"RTD(\"cqg.rtd\",,\"StudyData\", \"Close(\"&$D$12&\") when LocalYear(\"&$D$12&\")=\"&$D$5&\" and localMonth(\"&$D$12&\") =\"&$E$5&\" and LocalDay(\"&$D$12&\")=\"&$F$5&\" and Barix(\"&$D$12&\",reference:=StartOfSession)=\"&A30&\"\", \"Bar\", \"\", \"Close\",\"5\",\"0\",\"PrimaryOnly\",,,\"False\",\"T\",\"EveryTick\")","v":7268.25},4.8040367733462363E-3,{"$f":"RTD(\"cqg.rtd\",,\"StudyData\", \"Close(\"&$D$12&\") when LocalYear(\"&$D$12&\")=\"&$D$6&\" and localMonth(\"&$D$12&\") =\"&$E$6&\" and LocalDay(\"&$D$12&\")=\"&$F$6&\" and Barix(\"&$D$12&\",reference:=StartOfSession)=\"&A30&\"\", \"Bar\", \"\", \"Close\",\"5\",\"0\",\"PrimaryOnly\",,,\"False\",\"T\",\"EveryTick\")","v":7209.25},1.1718064765112444E-2,{"$f":"RTD(\"cqg.rtd\",,\"StudyData\", \"Close(\"&$D$12&\") when LocalYear(\"&$D$12&\")=\"&$D$7&\" and localMonth(\"&$D$12&\") =\"&$E$7&\" and LocalDay(\"&$D$12&\")=\"&$F$7&\" and Barix(\"&$D$12&\",reference:=StartOfSession)=\"&A30&\"\", \"Bar\", \"\", \"Close\",\"5\",\"0\",\"PrimaryOnly\",,,\"False\",\"T\",\"EveryTick\")","v":7088.5},9.2187221925609537E-3,{"$f":"RTD(\"cqg.rtd\",,\"StudyData\", \"Close(\"&$D$12&\") when LocalYear(\"&$D$12&\")=\"&$D$8&\" and localMonth(\"&$D$12&\") =\"&$E$8&\" and LocalDay(\"&$D$12&\")=\"&$F$8&\" and Barix(\"&$D$12&\",reference:=StartOfSession)=\"&A30&\"\", \"Bar\", \"\", \"Close\",\"5\",\"0\",\"PrimaryOnly\",,,\"False\",\"T\",\"EveryTick\")","v":7090.75},-3.6183517178388254E-3,{"$f":"RTD(\"cqg.rtd\",,\"StudyData\", \"Close(\"&$D$12&\") when LocalYear(\"&$D$12&\")=\"&$D$9&\" and localMonth(\"&$D$12&\") =\"&$E$9&\" and LocalDay(\"&$D$12&\")=\"&$F$9&\" and Barix(\"&$D$12&\",reference:=StartOfSession)=\"&A30&\"\", \"Bar\", \"\", \"Close\",\"5\",\"0\",\"PrimaryOnly\",,,\"False\",\"T\",\"EveryTick\")","v":7041.5},-3.573071072275091E-3,{"$f":"RTD(\"cqg.rtd\",,\"StudyData\", \"Close(\"&$D$12&\") when LocalYear(\"&$D$12&\")=\"&$D$10&\" and localMonth(\"&$D$12&\") =\"&$E$10&\" and LocalDay(\"&$D$12&\")=\"&$F$10&\" and Barix(\"&$D$12&\",reference:=StartOfSession)=\"&A30&\"\", \"Bar\", \"\", \"Close\",\"5\",\"0\",\"PrimaryOnly\",,,\"False\",\"T\",\"EveryTick\")","v":7092.75},4.5676651795198637E-3,null,null,null,""]
[30,"11:00:00",null,null,null,null,null,{"$f":"RTD(\"cqg.rtd\",,\"StudyData\", \"Close(\"&$D$12&\") when LocalYear(\"&$D$12&\")=\"&$D$1&\" and localMonth(\"&$D$12&\") =\"&$E$1&\" and LocalDay(\"&$D$12&\")=\"&$F$1&\" and Barix(\"&$D$12&\",reference:=StartOfSession)=\"&A31&\"\", \"Bar\", \"\", \"Close\",\"5\",\"0\",\"PrimaryOnly\",,,\"False\",\"T\",\"EveryTick\")","v":""},{"$error":"#N/A"},{"$f":"RTD(\"cqg.rtd\",,\"StudyData\", \"Close(\"&$D$12&\") when LocalYear(\"&$D$12&\")=\"&$D$2&\" and localMonth(\"&$D$12&\") =\"&$E$2&\" and LocalDay(\"&$D$12&\")=\"&$F$2&\" and Barix(\"&$D$12&\",reference:=StartOfSession)=\"&A31&\"\", \"Bar\", \"\", \"Close\",\"5\",\"0\",\"PrimaryOnly\",,,\"False\",\"T\",\"EveryTick\")","v":7362.25},1.4957780458383595E-2,{"$f":"RTD(\"cqg.rtd\",,\"StudyData\", \"Close(\"&$D$12&\") when LocalYear(\"&$D$12&\")=\"&$D$3&\" and localMonth(\"&$D$12&\") =\"&$E$3&\" and LocalDay(\"&$D$12&\")=\"&$F$3&\" and Barix(\"&$D$12&\",reference:=StartOfSession)=\"&A31&\"\", \"Bar\", \"\", \"Close\",\"5\",\"0\",\"PrimaryOnly\",,,\"False\",\"T\",\"EveryTick\")","v":7252.25},-6.7451893446552075E-3,{"$f":"RTD(\"cqg.rtd\",,\"StudyData\", \"Close(\"&$D$12&\") when LocalYear(\"&$D$12&\")=\"&$D$4&\" and localMonth(\"&$D$12&\") =\"&$E$4&\" and LocalDay(\"&$D$12&\")=\"&$F$4&\" and Barix(\"&$D$12&\",reference:=StartOfSession)=\"&A31&\"\", \"Bar\", \"\", \"Close\",\"5\",\"0\",\"PrimaryOnly\",,,\"False\",\"T\",\"EveryTick\")","v":7309.5},1.2670798945241602E-3,{"$f":"RTD(\"cqg.rtd\",,\"StudyData\", \"Close(\"&$D$12&\") when LocalYear(\"&$D$12&\")=\"&$D$5&\" and localMonth(\"&$D$12&\") =\"&$E$5&\" and LocalDay(\"&$D$12&\")=\"&$F$5&\" and Barix(\"&$D$12&\",reference:=StartOfSession)=\"&A31&\"\", \"Bar\", \"\", \"Close\",\"5\",\"0\",\"PrimaryOnly\",,,\"False\",\"T\",\"EveryTick\")","v":7267.5},4.7003525264394828E-3,{"$f":"RTD(\"cqg.rtd\",,\"StudyData\", \"Close(\"&$D$12&\") when LocalYear(\"&$D$12&\")=\"&$D$6&\" and localMonth(\"&$D$12&\") =\"&$E$6&\" and LocalDay(\"&$D$12&\")=\"&$F$6&\" and Barix(\"&$D$12&\",reference:=StartOfSession)=\"&A31&\"\", \"Bar\", \"\", \"Close\",\"5\",\"0\",\"PrimaryOnly\",,,\"False\",\"T\",\"EveryTick\")","v":7211},1.1963652948812405E-2,{"$f":"RTD(\"cqg.rtd\",,\"StudyData\", \"Close(\"&$D$12&\") when LocalYear(\"&$D$12&\")=\"&$D$7&\" and localMonth(\"&$D$12&\") =\"&$E$7&\" and LocalDay(\"&$D$12&\")=\"&$F$7&\" and Barix(\"&$D$12&\",reference:=StartOfSession)=\"&A31&\"\", \"Bar\", \"\", \"Close\",\"5\",\"0\",\"PrimaryOnly\",,,\"False\",\"T\",\"EveryTick\")","v":7099.5},1.0784837159636946E-2,{"$f":"RTD(\"cqg.rtd\",,\"StudyData\", \"Close(\"&$D$12&\") when LocalYear(\"&$D$12&\")=\"&$D$8&\" and localMonth(\"&$D$12&\") =\"&$E$8&\" and LocalDay(\"&$D$12&\")=\"&$F$8&\" and Barix(\"&$D$12&\",reference:=StartOfSession)=\"&A31&\"\", \"Bar\", \"\", \"Close\",\"5\",\"0\",\"PrimaryOnly\",,,\"False\",\"T\",\"EveryTick\")","v":7086.75},-4.1804257710953419E-3,{"$f":"RTD(\"cqg.rtd\",,\"StudyData\", \"Close(\"&$D$12&\") when LocalYear(\"&$D$12&\")=\"&$D$9&\" and localMonth(\"&$D$12&\") =\"&$E$9&\" and LocalDay(\"&$D$12&\")=\"&$F$9&\" and Barix(\"&$D$12&\",reference:=StartOfSession)=\"&A31&\"\", \"Bar\", \"\", \"Close\",\"5\",\"0\",\"PrimaryOnly\",,,\"False\",\"T\",\"EveryTick\")","v":7041.25},-3.6084480135847455E-3,{"$f":"RTD(\"cqg.rtd\",,\"StudyData\", \"Close(\"&$D$12&\") when LocalYear(\"&$D$12&\")=\"&$D$10&\" and localMonth(\"&$D$12&\") =\"&$E$10&\" and LocalDay(\"&$D$12&\")=\"&$F$10&\" and Barix(\"&$D$12&\",reference:=StartOfSession)=\"&A31&\"\", \"Bar\", \"\", \"Close\",\"5\",\"0\",\"PrimaryOnly\",,,\"False\",\"T\",\"EveryTick\")","v":7095},4.8863394943700874E-3,null,null,null,""]
[31,"11:05:00",null,null,null,null,null,{"$f":"RTD(\"cqg.rtd\",,\"StudyData\", \"Close(\"&$D$12&\") when LocalYear(\"&$D$12&\")=\"&$D$1&\" and localMonth(\"&$D$12&\") =\"&$E$1&\" and LocalDay(\"&$D$12&\")=\"&$F$1&\" and Barix(\"&$D$12&\",reference:=StartOfSession)=\"&A32&\"\", \"Bar\", \"\", \"Close\",\"5\",\"0\",\"PrimaryOnly\",,,\"False\",\"T\",\"EveryTick\")","v":""},{"$error":"#N/A"},{"$f":"RTD(\"cqg.rtd\",,\"StudyData\", \"Close(\"&$D$12&\") when LocalYear(\"&$D$12&\")=\"&$D$2&\" and localMonth(\"&$D$12&\") =\"&$E$2&\" and LocalDay(\"&$D$12&\")=\"&$F$2&\" and Barix(\"&$D$12&\",reference:=StartOfSession)=\"&A32&\"\", \"Bar\", \"\", \"Close\",\"5\",\"0\",\"PrimaryOnly\",,,\"False\",\"T\",\"EveryTick\")","v":7363.5},1.5130105118042391E-2,{"$f":"RTD(\"cqg.rtd\",,\"StudyData\", \"Close(\"&$D$12&\") when LocalYear(\"&$D$12&\")=\"&$D$3&\" and localMonth(\"&$D$12&\") =\"&$E$3&\" and LocalDay(\"&$D$12&\")=\"&$F$3&\" and Barix(\"&$D$12&\",reference:=StartOfSession)=\"&A32&\"\", \"Bar\", \"\", \"Close\",\"5\",\"0\",\"PrimaryOnly\",,,\"False\",\"T\",\"EveryTick\")","v":7248.75},-7.2245429021433952E-3,{"$f":"RTD(\"cqg.rtd\",,\"StudyData\", \"Close(\"&$D$12&\") when LocalYear(\"&$D$12&\")=\"&$D$4&\" and localMonth(\"&$D$12&\") =\"&$E$4&\" and LocalDay(\"&$D$12&\")=\"&$F$4&\" and Barix(\"&$D$12&\",reference:=StartOfSession)=\"&A32&\"\", \"Bar\", \"\", \"Close\",\"5\",\"0\",\"PrimaryOnly\",,,\"False\",\"T\",\"EveryTick\")","v":7305.75},7.5339885620355463E-4,{"$f":"RTD(\"cqg.rtd\",,\"StudyData\", \"Close(\"&$D$12&\") when LocalYear(\"&$D$12&\")=\"&$D$5&\" and localMonth(\"&$D$12&\") =\"&$E$5&\" and LocalDay(\"&$D$12&\")=\"&$F$5&\" and Barix(\"&$D$12&\",reference:=StartOfSession)=\"&A32&\"\", \"Bar\", \"\", \"Close\",\"5\",\"0\",\"PrimaryOnly\",,,\"False\",\"T\",\"EveryTick\")","v":7269.5},4.9768438515241584E-3,{"$f":"RTD(\"cqg.rtd\",,\"StudyData\", \"Close(\"&$D$12&\") when LocalYear(\"&$D$12&\")=\"&$D$6&\" and localMonth(\"&$D$12&\") =\"&$E$6&\" and LocalDay(\"&$D$12&\")=\"&$F$6&\" and Barix(\"&$D$12&\",reference:=StartOfSession)=\"&A32&\"\", \"Bar\", \"\", \"Close\",\"5\",\"0\",\"PrimaryOnly\",,,\"False\",\"T\",\"EveryTick\")","v":7214.75},1.2489913342455181E-2,{"$f":"RTD(\"cqg.rtd\",,\"StudyData\", \"Close(\"&$D$12&\") when LocalYear(\"&$D$12&\")=\"&$D$7&\" and localMonth(\"&$D$12&\") =\"&$E$7&\" and LocalDay(\"&$D$12&\")=\"&$F$7&\" and Barix(\"&$D$12&\",reference:=StartOfSession)=\"&A32&\"\", \"Bar\", \"\", \"Close\",\"5\",\"0\",\"PrimaryOnly\",,,\"False\",\"T\",\"EveryTick\")","v":7101.25},1.1033991813489945E-2,{"$f":"RTD(\"cqg.rtd\",,\"StudyData\", \"Close(\"&$D$12&\") when LocalYear(\"&$D$12&\")=\"&$D$8&\" and localMonth(\"&$D$12&\") =\"&$E$8&\" and LocalDay(\"&$D$12&\")=\"&$F$8&\" and Barix(\"&$D$12&\",reference:=StartOfSession)=\"&A32&\"\", \"Bar\", \"\", \"Close\",\"5\",\"0\",\"PrimaryOnly\",,,\"False\",\"T\",\"EveryTick\")","v":7084},-4.5668516827091967E-3,{"$f":"RTD(\"cqg.rtd\",,\"StudyData\", \"Close(\"&$D$12&\") when LocalYear(\"&$D$12&\")=\"&$D$9&\" and localMonth(\"&$D$12&\") =\"&$E$9&\" and LocalDay(\"&$D$12&\")=\"&$F$9&\" and Barix(\"&$D$12&\",reference:=StartOfSession)=\"&A32&\"\", \"Bar\", \"\", \"Close\",\"5\",\"0\",\"PrimaryOnly\",,,\"False\",\"T\",\"EveryTick\")","v":7040.25},-3.7499557788233631E-3,{"$f":"RTD(\"cqg.rtd\",,\"StudyData\", \"Close(\"&$D$12&\") when LocalYear(\"&$D$12&\")=\"&$D$10&\" and localMonth(\"&$D$12&\") =\"&$E$10&\" and LocalDay(\"&$D$12&\")=\"&$F$10&\" and Barix(\"&$D$12&\",reference:=StartOfSession)=\"&A32&\"\", \"Bar\", \"\", \"Close\",\"5\",\"0\",\"PrimaryOnly\",,,\"False\",\"T\",\"EveryTick\")","v":7101},5.7361376673040155E-3,null,null,null,""]
[32,"11:10:00",null,null,null,null,null,{"$f":"RTD(\"cqg.rtd\",,\"StudyData\", \"Close(\"&$D$12&\") when LocalYear(\"&$D$12&\")=\"&$D$1&\" and localMonth(\"&$D$12&\") =\"&$E$1&\" and LocalDay(\"&$D$12&\")=\"&$F$1&\" and Barix(\"&$D$12&\",reference:=StartOfSession)=\"&A33&\"\", \"Bar\", \"\", \"Close\",\"5\",\"0\",\"PrimaryOnly\",,,\"False\",\"T\",\"EveryTick\")","v":""},{"$error":"#N/A"},{"$f":"RTD(\"cqg.rtd\",,\"StudyData\", \"Close(\"&$D$12&\") when LocalYear(\"&$D$12&\")=\"&$D$2&\" and localMonth(\"&$D$12&\") =\"&$E$2&\" and LocalDay(\"&$D$12&\")=\"&$F$2&\" and Barix(\"&$D$12&\",reference:=StartOfSession)=\"&A33&\"\", \"Bar\", \"\", \"Close\",\"5\",\"0\",\"PrimaryOnly\",,,\"False\",\"T\",\"EveryTick\")","v":7366},1.5474754437359987E-2,{"$f":"RTD(\"cqg.rtd\",,\"StudyData\", \"Close(\"&$D$12&\") when LocalYear(\"&$D$12&\")=\"&$D$3&\" and localMonth(\"&$D$12&\") =\"&$E$3&\" and LocalDay(\"&$D$12&\")=\"&$F$3&\" and Barix(\"&$D$12&\",reference:=StartOfSession)=\"&A33&\"\", \"Bar\", \"\", \"Close\",\"5\",\"0\",\"PrimaryOnly\",,,\"False\",\"T\",\"EveryTick\")","v":7251.75},-6.8136684242963777E-3,{"$f":"RTD(\"cqg.rtd\",,\"StudyData\", \"Close(\"&$D$12&\") when LocalYear(\"&$D$12&\")=\"&$D$4&\" and localMonth(\"&$D$12&\") =\"&$E$4&\" and LocalDay(\"&$D$12&\")=\"&$F$4&\" and Barix(\"&$D$12&\",reference:=StartOfSession)=\"&A33&\"\", \"Bar\", \"\", \"Close\",\"5\",\"0\",\"PrimaryOnly\",,,\"False\",\"T\",\"EveryTick\")","v":7308.5},1.1300982843053321E-3,{"$f":"RTD(\"cqg.rtd\",,\"StudyData\", \"Close(\"&$D$12&\") when LocalYear(\"&$D$12&\")=\"&$D$5&\" and localMonth(\"&$D$12&\") =\"&$E$5&\" and LocalDay(\"&$D$12&\")=\"&$F$5&\" and Barix(\"&$D$12&\",reference:=StartOfSession)=\"&A33&\"\", \"Bar\", \"\", \"Close\",\"5\",\"0\",\"PrimaryOnly\",,,\"False\",\"T\",\"EveryTick\")","v":7269.5},4.9768438515241584E-3,{"$f":"RTD(\"cqg.rtd\",,\"StudyData\", \"Close(\"&$D$12&\") when LocalYear(\"&$D$12&\")=\"&$D$6&\" and localMonth(\"&$D$12&\") =\"&$E$6&\" and LocalDay(\"&$D$12&\")=\"&$F$6&\" and Barix(\"&$D$12&\",reference:=StartOfSession)=\"&A33&\"\", \"Bar\", \"\", \"Close\",\"5\",\"0\",\"PrimaryOnly\",,,\"False\",\"T\",\"EveryTick\")","v":7216},1.2665333473669438E-2,{"$f":"RTD(\"cqg.rtd\",,\"StudyData\", \"Close(\"&$D$12&\") when LocalYear(\"&$D$12&\")=\"&$D$7&\" and localMonth(\"&$D$12&\") =\"&$E$7&\" and LocalDay(\"&$D$12&\")=\"&$F$7&\" and Barix(\"&$D$12&\",reference:=StartOfSession)=\"&A33&\"\", \"Bar\", \"\", \"Close\",\"5\",\"0\",\"PrimaryOnly\",,,\"False\",\"T\",\"EveryTick\")","v":7104.5},1.1496707599216942E-2,{"$f":"RTD(\"cqg.rtd\",,\"StudyData\", \"Close(\"&$D$12&\") when LocalYear(\"&$D$12&\")=\"&$D$8&\" and localMonth(\"&$D$12&\") =\"&$E$8&\" and LocalDay(\"&$D$12&\")=\"&$F$8&\" and Barix(\"&$D$12&\",reference:=StartOfSession)=\"&A33&\"\", \"Bar\", \"\", \"Close\",\"5\",\"0\",\"PrimaryOnly\",,,\"False\",\"T\",\"EveryTick\")","v":7064.25},-7.3420923206632474E-3,{"$f":"RTD(\"cqg.rtd\",,\"StudyData\", \"Close(\"&$D$12&\") when LocalYear(\"&$D$12&\")=\"&$D$9&\" and localMonth(\"&$D$12&\") =\"&$E$9&\" and LocalDay(\"&$D$12&\")=\"&$F$9&\" and Barix(\"&$D$12&\",reference:=StartOfSession)=\"&A33&\"\", \"Bar\", \"\", \"Close\",\"5\",\"0\",\"PrimaryOnly\",,,\"False\",\"T\",\"EveryTick\")","v":7037.5},-4.1391021332295606E-3,{"$f":"RTD(\"cqg.rtd\",,\"StudyData\", \"Close(\"&$D$12&\") when LocalYear(\"&$D$12&\")=\"&$D$10&\" and localMonth(\"&$D$12&\") =\"&$E$10&\" and LocalDay(\"&$D$12&\")=\"&$F$10&\" and Barix(\"&$D$12&\",reference:=StartOfSession)=\"&A33&\"\", \"Bar\", \"\", \"Close\",\"5\",\"0\",\"PrimaryOnly\",,,\"False\",\"T\",\"EveryTick\")","v":7095.5},4.9571560087812482E-3,null,null,null,""]
[33,"11:15:00",null,null,null,null,null,{"$f":"RTD(\"cqg.rtd\",,\"StudyData\", \"Close(\"&$D$12&\") when LocalYear(\"&$D$12&\")=\"&$D$1&\" and localMonth(\"&$D$12&\") =\"&$E$1&\" and LocalDay(\"&$D$12&\")=\"&$F$1&\" and Barix(\"&$D$12&\",reference:=StartOfSession)=\"&A34&\"\", \"Bar\", \"\", \"Close\",\"5\",\"0\",\"PrimaryOnly\",,,\"False\",\"T\",\"EveryTick\")","v":""},{"$error":"#N/A"},{"$f":"RTD(\"cqg.rtd\",,\"StudyData\", \"Close(\"&$D$12&\") when LocalYear(\"&$D$12&\")=\"&$D$2&\" and localMonth(\"&$D$12&\") =\"&$E$2&\" and LocalDay(\"&$D$12&\")=\"&$F$2&\" and Barix(\"&$D$12&\",reference:=StartOfSession)=\"&A34&\"\", \"Bar\", \"\", \"Close\",\"5\",\"0\",\"PrimaryOnly\",,,\"False\",\"T\",\"EveryTick\")","v":7366},1.5474754437359987E-2,{"$f":"RTD(\"cqg.rtd\",,\"StudyData\", \"Close(\"&$D$12&\") when LocalYear(\"&$D$12&\")=\"&$D$3&\" and localMonth(\"&$D$12&\") =\"&$E$3&\" and LocalDay(\"&$D$12&\")=\"&$F$3&\" and Barix(\"&$D$12&\",reference:=StartOfSession)=\"&A34&\"\", \"Bar\", \"\", \"Close\",\"5\",\"0\",\"PrimaryOnly\",,,\"False\",\"T\",\"EveryTick\")","v":7252.25},-6.7451893446552075E-3,{"$f":"RTD(\"cqg.rtd\",,\"StudyData\", \"Close(\"&$D$12&\") when LocalYear(\"&$D$12&\")=\"&$D$4&\" and localMonth(\"&$D$12&\") =\"&$E$4&\" and LocalDay(\"&$D$12&\")=\"&$F$4&\" and Barix(\"&$D$12&\",reference:=StartOfSession)=\"&A34&\"\", \"Bar\", \"\", \"Close\",\"5\",\"0\",\"PrimaryOnly\",,,\"False\",\"T\",\"EveryTick\")","v":7308.5},1.1300982843053321E-3,{"$f":"RTD(\"cqg.rtd\",,\"StudyData\", \"Close(\"&$D$12&\") when LocalYear(\"&$D$12&\")=\"&$D$5&\" and localMonth(\"&$D$12&\") =\"&$E$5&\" and LocalDay(\"&$D$12&\")=\"&$F$5&\" and Barix(\"&$D$12&\",reference:=StartOfSession)=\"&A34&\"\", \"Bar\", \"\", \"Close\",\"5\",\"0\",\"PrimaryOnly\",,,\"False\",\"T\",\"EveryTick\")","v":7264.75},4.3201769544480538E-3,{"$f":"RTD(\"cqg.rtd\",,\"StudyData\", \"Close(\"&$D$12&\") when LocalYear(\"&$D$12&\")=\"&$D$6&\" and localMonth(\"&$D$12&\") =\"&$E$6&\" and LocalDay(\"&$D$12&\")=\"&$F$6&\" and Barix(\"&$D$12&\",reference:=StartOfSession)=\"&A34&\"\", \"Bar\", \"\", \"Close\",\"5\",\"0\",\"PrimaryOnly\",,,\"False\",\"T\",\"EveryTick\")","v":7214.5},1.2454829316212328E-2,{"$f":"RTD(\"cqg.rtd\",,\"StudyData\", \"Close(\"&$D$12&\") when LocalYear(\"&$D$12&\")=\"&$D$7&\" and localMonth(\"&$D$12&\") =\"&$E$7&\" and LocalDay(\"&$D$12&\")=\"&$F$7&\" and Barix(\"&$D$12&\",reference:=StartOfSession)=\"&A34&\"\", \"Bar\", \"\", \"Close\",\"5\",\"0\",\"PrimaryOnly\",,,\"False\",\"T\",\"EveryTick\")","v":7106},1.1710268731090941E-2,{"$f":"RTD(\"cqg.rtd\",,\"StudyData\", \"Close(\"&$D$12&\") when LocalYear(\"&$D$12&\")=\"&$D$8&\" and localMonth(\"&$D$12&\") =\"&$E$8&\" and LocalDay(\"&$D$12&\")=\"&$F$8&\" and Barix(\"&$D$12&\",reference:=StartOfSession)=\"&A34&\"\", \"Bar\", \"\", \"Close\",\"5\",\"0\",\"PrimaryOnly\",,,\"False\",\"T\",\"EveryTick\")","v":7070.75},-6.4287219841214077E-3,{"$f":"RTD(\"cqg.rtd\",,\"StudyData\", \"Close(\"&$D$12&\") when LocalYear(\"&$D$12&\")=\"&$D$9&\" and localMonth(\"&$D$12&\") =\"&$E$9&\" and LocalDay(\"&$D$12&\")=\"&$F$9&\" and Barix(\"&$D$12&\",reference:=StartOfSession)=\"&A34&\"\", \"Bar\", \"\", \"Close\",\"5\",\"0\",\"PrimaryOnly\",,,\"False\",\"T\",\"EveryTick\")","v":7036.75},-4.2452329571585241E-3,{"$f":"RTD(\"cqg.rtd\",,\"StudyData\", \"Close(\"&$D$12&\") when LocalYear(\"&$D$12&\")=\"&$D$10&\" and localMonth(\"&$D$12&\") =\"&$E$10&\" and LocalDay(\"&$D$12&\")=\"&$F$10&\" and Barix(\"&$D$12&\",reference:=StartOfSession)=\"&A34&\"\", \"Bar\", \"\", \"Close\",\"5\",\"0\",\"PrimaryOnly\",,,\"False\",\"T\",\"EveryTick\")","v":7102},5.8777706961263363E-3,null,null,null,""]
[34,"11:20:00",null,null,null,null,null,{"$f":"RTD(\"cqg.rtd\",,\"StudyData\", \"Close(\"&$D$12&\") when LocalYear(\"&$D$12&\")=\"&$D$1&\" and localMonth(\"&$D$12&\") =\"&$E$1&\" and LocalDay(\"&$D$12&\")=\"&$F$1&\" and Barix(\"&$D$12&\",reference:=StartOfSession)=\"&A35&\"\", \"Bar\", \"\", \"Close\",\"5\",\"0\",\"PrimaryOnly\",,,\"False\",\"T\",\"EveryTick\")","v":""},{"$error":"#N/A"},{"$f":"RTD(\"cqg.rtd\",,\"StudyData\", \"Close(\"&$D$12&\") when LocalYear(\"&$D$12&\")=\"&$D$2&\" and localMonth(\"&$D$12&\") =\"&$E$2&\" and LocalDay(\"&$D$12&\")=\"&$F$2&\" and Barix(\"&$D$12&\",reference:=StartOfSession)=\"&A35&\"\", \"Bar\", \"\", \"Close\",\"5\",\"0\",\"PrimaryOnly\",,,\"False\",\"T\",\"EveryTick\")","v":7363.5},1.5130105118042391E-2,{"$f":"RTD(\"cqg.rtd\",,\"StudyData\", \"Close(\"&$D$12&\") when LocalYear(\"&$D$12&\")=\"&$D$3&\" and localMonth(\"&$D$12&\") =\"&$E$3&\" and LocalDay(\"&$D$12&\")=\"&$F$3&\" and Barix(\"&$D$12&\",reference:=StartOfSession)=\"&A35&\"\", \"Bar\", \"\", \"Close\",\"5\",\"0\",\"PrimaryOnly\",,,\"False\",\"T\",\"EveryTick\")","v":7253.75},-6.5397521057316988E-3,{"$f":"RTD(\"cqg.rtd\",,\"StudyData\", \"Close(\"&$D$12&\") when LocalYear(\"&$D$12&\")=\"&$D$4&\" and localMonth(\"&$D$12&\") =\"&$E$4&\" and LocalDay(\"&$D$12&\")=\"&$F$4&\" and Barix(\"&$D$12&\",reference:=StartOfSession)=\"&A35&\"\", \"Bar\", \"\", \"Close\",\"5\",\"0\",\"PrimaryOnly\",,,\"False\",\"T\",\"EveryTick\")","v":7305.75},7.5339885620355463E-4,{"$f":"RTD(\"cqg.rtd\",,\"StudyData\", \"Close(\"&$D$12&\") when LocalYear(\"&$D$12&\")=\"&$D$5&\" and localMonth(\"&$D$12&\") =\"&$E$5&\" and LocalDay(\"&$D$12&\")=\"&$F$5&\" and Barix(\"&$D$12&\",reference:=StartOfSession)=\"&A35&\"\", \"Bar\", \"\", \"Close\",\"5\",\"0\",\"PrimaryOnly\",,,\"False\",\"T\",\"EveryTick\")","v":7264.25},4.2510541231768851E-3,{"$f":"RTD(\"cqg.rtd\",,\"StudyData\", \"Close(\"&$D$12&\") when LocalYear(\"&$D$12&\")=\"&$D$6&\" and localMonth(\"&$D$12&\") =\"&$E$6&\" and LocalDay(\"&$D$12&\")=\"&$F$6&\" and Barix(\"&$D$12&\",reference:=StartOfSession)=\"&A35&\"\", \"Bar\", \"\", \"Close\",\"5\",\"0\",\"PrimaryOnly\",,,\"False\",\"T\",\"EveryTick\")","v":7218.5},1.3016173736097954E-2,{"$f":"RTD(\"cqg.rtd\",,\"StudyData\", \"Close(\"&$D$12&\") when LocalYear(\"&$D$12&\")=\"&$D$7&\" and localMonth(\"&$D$12&\") =\"&$E$7&\" and LocalDay(\"&$D$12&\")=\"&$F$7&\" and Barix(\"&$D$12&\",reference:=StartOfSession)=\"&A35&\"\", \"Bar\", \"\", \"Close\",\"5\",\"0\",\"PrimaryOnly\",,,\"False\",\"T\",\"EveryTick\")","v":7106.25},1.1745862253069941E-2,{"$f":"RTD(\"cqg.rtd\",,\"StudyData\", \"Close(\"&$D$12&\") when LocalYear(\"&$D$12&\")=\"&$D$8&\" and localMonth(\"&$D$12&\") =\"&$E$8&\" and LocalDay(\"&$D$12&\")=\"&$F$8&\" and Barix(\"&$D$12&\",reference:=StartOfSession)=\"&A35&\"\", \"Bar\", \"\", \"Close\",\"5\",\"0\",\"PrimaryOnly\",,,\"False\",\"T\",\"EveryTick\")","v":7076},-5.6909997892222296E-3,{"$f":"RTD(\"cqg.rtd\",,\"StudyData\", \"Close(\"&$D$12&\") when LocalYear(\"&$D$12&\")=\"&$D$9&\" and localMonth(\"&$D$12&\") =\"&$E$9&\" and LocalDay(\"&$D$12&\")=\"&$F$9&\" and Barix(\"&$D$12&\",reference:=StartOfSession)=\"&A35&\"\", \"Bar\", \"\", \"Close\",\"5\",\"0\",\"PrimaryOnly\",,,\"False\",\"T\",\"EveryTick\")","v":7041.75},-3.5376941309654369E-3,{"$f":"RTD(\"cqg.rtd\",,\"StudyData\", \"Close(\"&$D$12&\") when LocalYear(\"&$D$12&\")=\"&$D$10&\" and localMonth(\"&$D$12&\") =\"&$E$10&\" and LocalDay(\"&$D$12&\")=\"&$F$10&\" and Barix(\"&$D$12&\",reference:=StartOfSession)=\"&A35&\"\", \"Bar\", \"\", \"Close\",\"5\",\"0\",\"PrimaryOnly\",,,\"False\",\"T\",\"EveryTick\")","v":7101},5.7361376673040155E-3,null,null,null,""]
[35,"11:25:00",null,null,null,null,null,{"$f":"RTD(\"cqg.rtd\",,\"StudyData\", \"Close(\"&$D$12&\") when LocalYear(\"&$D$12&\")=\"&$D$1&\" and localMonth(\"&$D$12&\") =\"&$E$1&\" and LocalDay(\"&$D$12&\")=\"&$F$1&\" and Barix(\"&$D$12&\",reference:=StartOfSession)=\"&A36&\"\", \"Bar\", \"\", \"Close\",\"5\",\"0\",\"PrimaryOnly\",,,\"False\",\"T\",\"EveryTick\")","v":""},{"$error":"#N/A"},{"$f":"RTD(\"cqg.rtd\",,\"StudyData\", \"Close(\"&$D$12&\") when LocalYear(\"&$D$12&\")=\"&$D$2&\" and localMonth(\"&$D$12&\") =\"&$E$2&\" and LocalDay(\"&$D$12&\")=\"&$F$2&\" and Barix(\"&$D$12&\",reference:=StartOfSession)=\"&A36&\"\", \"Bar\", \"\", \"Close\",\"5\",\"0\",\"PrimaryOnly\",,,\"False\",\"T\",\"EveryTick\")","v":7363.75},1.5164570049974152E-2,{"$f":"RTD(\"cqg.rtd\",,\"StudyData\", \"Close(\"&$D$12&\") when LocalYear(\"&$D$12&\")=\"&$D$3&\" and localMonth(\"&$D$12&\") =\"&$E$3&\" and LocalDay(\"&$D$12&\")=\"&$F$3&\" and Barix(\"&$D$12&\",reference:=StartOfSession)=\"&A36&\"\", \"Bar\", \"\", \"Close\",\"5\",\"0\",\"PrimaryOnly\",,,\"False\",\"T\",\"EveryTick\")","v":7258},-5.9576799287817568E-3,{"$f":"RTD(\"cqg.rtd\",,\"StudyData\", \"Close(\"&$D$12&\") when LocalYear(\"&$D$12&\")=\"&$D$4&\" and localMonth(\"&$D$12&\") =\"&$E$4&\" and LocalDay(\"&$D$12&\")=\"&$F$4&\" and Barix(\"&$D$12&\",reference:=StartOfSession)=\"&A36&\"\", \"Bar\", \"\", \"Close\",\"5\",\"0\",\"PrimaryOnly\",,,\"False\",\"T\",\"EveryTick\")","v":7311.5},1.5410431149618163E-3,{"$f":"RTD(\"cqg.rtd\",,\"StudyData\", \"Close(\"&$D$12&\") when LocalYear(\"&$D$12&\")=\"&$D$5&\" and localMonth(\"&$D$12&\") =\"&$E$5&\" and LocalDay(\"&$D$12&\")=\"&$F$5&\" and Barix(\"&$D$12&\",reference:=StartOfSession)=\"&A36&\"\", \"Bar\", \"\", \"Close\",\"5\",\"0\",\"PrimaryOnly\",,,\"False\",\"T\",\"EveryTick\")","v":7261.75},3.9054399668210409E-3,{"$f":"RTD(\"cqg.rtd\",,\"StudyData\", \"Close(\"&$D$12&\") when LocalYear(\"&$D$12&\")=\"&$D$6&\" and localMonth(\"&$D$12&\") =\"&$E$6&\" and LocalDay(\"&$D$12&\")=\"&$F$6&\" and Barix(\"&$D$12&\",reference:=StartOfSession)=\"&A36&\"\", \"Bar\", \"\", \"Close\",\"5\",\"0\",\"PrimaryOnly\",,,\"False\",\"T\",\"EveryTick\")","v":7219},1.3086341788583658E-2,{"$f":"RTD(\"cqg.rtd\",,\"StudyData\", \"Close(\"&$D$12&\") when LocalYear(\"&$D$12&\")=\"&$D$7&\" and localMonth(\"&$D$12&\") =\"&$E$7&\" and LocalDay(\"&$D$12&\")=\"&$F$7&\" and Barix(\"&$D$12&\",reference:=StartOfSession)=\"&A36&\"\", \"Bar\", \"\", \"Close\",\"5\",\"0\",\"PrimaryOnly\",,,\"False\",\"T\",\"EveryTick\")","v":7108},1.199501690692294E-2,{"$f":"RTD(\"cqg.rtd\",,\"StudyData\", \"Close(\"&$D$12&\") when LocalYear(\"&$D$12&\")=\"&$D$8&\" and localMonth(\"&$D$12&\") =\"&$E$8&\" and LocalDay(\"&$D$12&\")=\"&$F$8&\" and Barix(\"&$D$12&\",reference:=StartOfSession)=\"&A36&\"\", \"Bar\", \"\", \"Close\",\"5\",\"0\",\"PrimaryOnly\",,,\"False\",\"T\",\"EveryTick\")","v":7070.5},-6.4638516124499402E-3,{"$f":"RTD(\"cqg.rtd\",,\"StudyData\", \"Close(\"&$D$12&\") when LocalYear(\"&$D$12&\")=\"&$D$9&\" and localMonth(\"&$D$12&\") =\"&$E$9&\" and LocalDay(\"&$D$12&\")=\"&$F$9&\" and Barix(\"&$D$12&\",reference:=StartOfSession)=\"&A36&\"\", \"Bar\", \"\", \"Close\",\"5\",\"0\",\"PrimaryOnly\",,,\"False\",\"T\",\"EveryTick\")","v":7044.25},-3.1839247178688931E-3,{"$f":"RTD(\"cqg.rtd\",,\"StudyData\", \"Close(\"&$D$12&\") when LocalYear(\"&$D$12&\")=\"&$D$10&\" and localMonth(\"&$D$12&\") =\"&$E$10&\" and LocalDay(\"&$D$12&\")=\"&$F$10&\" and Barix(\"&$D$12&\",reference:=StartOfSession)=\"&A36&\"\", \"Bar\", \"\", \"Close\",\"5\",\"0\",\"PrimaryOnly\",,,\"False\",\"T\",\"EveryTick\")","v":7096.5},5.098789037603569E-3,null,null,null,""]
[36,"11:30:00",null,null,null,null,null,{"$f":"RTD(\"cqg.rtd\",,\"StudyData\", \"Close(\"&$D$12&\") when LocalYear(\"&$D$12&\")=\"&$D$1&\" and localMonth(\"&$D$12&\") =\"&$E$1&\" and LocalDay(\"&$D$12&\")=\"&$F$1&\" and Barix(\"&$D$12&\",reference:=StartOfSession)=\"&A37&\"\", \"Bar\", \"\", \"Close\",\"5\",\"0\",\"PrimaryOnly\",,,\"False\",\"T\",\"EveryTick\")","v":""},{"$error":"#N/A"},{"$f":"RTD(\"cqg.rtd\",,\"StudyData\", \"Close(\"&$D$12&\") when LocalYear(\"&$D$12&\")=\"&$D$2&\" and localMonth(\"&$D$12&\") =\"&$E$2&\" and LocalDay(\"&$D$12&\")=\"&$F$2&\" and Barix(\"&$D$12&\",reference:=StartOfSession)=\"&A37&\"\", \"Bar\", \"\", \"Close\",\"5\",\"0\",\"PrimaryOnly\",,,\"False\",\"T\",\"EveryTick\")","v":7363.75},1.5164570049974152E-2,{"$f":"RTD(\"cqg.rtd\",,\"StudyData\", \"Close(\"&$D$12&\") when LocalYear(\"&$D$12&\")=\"&$D$3&\" and localMonth(\"&$D$12&\") =\"&$E$3&\" and LocalDay(\"&$D$12&\")=\"&$F$3&\" and Barix(\"&$D$12&\",reference:=StartOfSession)=\"&A37&\"\", \"Bar\", \"\", \"Close\",\"5\",\"0\",\"PrimaryOnly\",,,\"False\",\"T\",\"EveryTick\")","v":7265.75},-4.8962541943436281E-3,{"$f":"RTD(\"cqg.rtd\",,\"StudyData\", \"Close(\"&$D$12&\") when LocalYear(\"&$D$12&\")=\"&$D$4&\" and localMonth(\"&$D$12&\") =\"&$E$4&\" and LocalDay(\"&$D$12&\")=\"&$F$4&\" and Barix(\"&$D$12&\",reference:=StartOfSession)=\"&A37&\"\", \"Bar\", \"\", \"Close\",\"5\",\"0\",\"PrimaryOnly\",,,\"False\",\"T\",\"EveryTick\")","v":7311.5},1.5410431149618163E-3,{"$f":"RTD(\"cqg.rtd\",,\"StudyData\", \"Close(\"&$D$12&\") when LocalYear(\"&$D$12&\")=\"&$D$5&\" and localMonth(\"&$D$12&\") =\"&$E$5&\" and LocalDay(\"&$D$12&\")=\"&$F$5&\" and Barix(\"&$D$12&\",reference:=StartOfSession)=\"&A37&\"\", \"Bar\", \"\", \"Close\",\"5\",\"0\",\"PrimaryOnly\",,,\"False\",\"T\",\"EveryTick\")","v":7262.5},4.0091242137277943E-3,{"$f":"RTD(\"cqg.rtd\",,\"StudyData\", \"Close(\"&$D$12&\") when LocalYear(\"&$D$12&\")=\"&$D$6&\" and localMonth(\"&$D$12&\") =\"&$E$6&\" and LocalDay(\"&$D$12&\")=\"&$F$6&\" and Barix(\"&$D$12&\",reference:=StartOfSession)=\"&A37&\"\", \"Bar\", \"\", \"Close\",\"5\",\"0\",\"PrimaryOnly\",,,\"False\",\"T\",\"EveryTick\")","v":7220},1.3226677893555064E-2,{"$f":"RTD(\"cqg.rtd\",,\"StudyData\", \"Close(\"&$D$12&\") when LocalYear(\"&$D$12&\")=\"&$D$7&\" and localMonth(\"&$D$12&\") =\"&$E$7&\" and LocalDay(\"&$D$12&\")=\"&$F$7&\" and Barix(\"&$D$12&\",reference:=StartOfSession)=\"&A37&\"\", \"Bar\", \"\", \"Close\",\"5\",\"0\",\"PrimaryOnly\",,,\"False\",\"T\",\"EveryTick\")","v":7109.25},1.2172984516817939E-2,{"$f":"RTD(\"cqg.rtd\",,\"StudyData\", \"Close(\"&$D$12&\") when LocalYear(\"&$D$12&\")=\"&$D$8&\" and localMonth(\"&$D$12&\") =\"&$E$8&\" and LocalDay(\"&$D$12&\")=\"&$F$8&\" and Barix(\"&$D$12&\",reference:=StartOfSession)=\"&A37&\"\", \"Bar\", \"\", \"Close\",\"5\",\"0\",\"PrimaryOnly\",,,\"False\",\"T\",\"EveryTick\")","v":7063.75},-7.4123515773203115E-3,{"$f":"RTD(\"cqg.rtd\",,\"StudyData\", \"Close(\"&$D$12&\") when LocalYear(\"&$D$12&\")=\"&$D$9&\" and localMonth(\"&$D$12&\") =\"&$E$9&\" and LocalDay(\"&$D$12&\")=\"&$F$9&\" and Barix(\"&$D$12&\",reference:=StartOfSession)=\"&A37&\"\", \"Bar\", \"\", \"Close\",\"5\",\"0\",\"PrimaryOnly\",,,\"False\",\"T\",\"EveryTick\")","v":7046},-2.9362861287013124E-3,{"$f":"RTD(\"cqg.rtd\",,\"StudyData\", \"Close(\"&$D$12&\") when LocalYear(\"&$D$12&\")=\"&$D$10&\" and localMonth(\"&$D$12&\") =\"&$E$10&\" and LocalDay(\"&$D$12&\")=\"&$F$10&\" and Barix(\"&$D$12&\",reference:=StartOfSession)=\"&A37&\"\", \"Bar\", \"\", \"Close\",\"5\",\"0\",\"PrimaryOnly\",,,\"False\",\"T\",\"EveryTick\")","v":7089.75},4.1427660930528996E-3,null,null,null,""]
[37,"11:35:00",-40,{"$f":" RTD(\"cqg.rtd\",,\"StudyData\", $D$12,  \"Tick\", \"FlatTicks=0\", \"Tick\",\"D\",C38,\"PrimaryOnly\")","v":7403.25},null,"EP",null,{"$f":"RTD(\"cqg.rtd\",,\"StudyData\", \"Close(\"&$D$12&\") when LocalYear(\"&$D$12&\")=\"&$D$1&\" and localMonth(\"&$D$12&\") =\"&$E$1&\" and LocalDay(\"&$D$12&\")=\"&$F$1&\" and Barix(\"&$D$12&\",reference:=StartOfSession)=\"&A38&\"\", \"Bar\", \"\", \"Close\",\"5\",\"0\",\"PrimaryOnly\",,,\"False\",\"T\",\"EveryTick\")","v":""},{"$error":"#N/A"},{"$f":"RTD(\"cqg.rtd\",,\"StudyData\", \"Close(\"&$D$12&\") when LocalYear(\"&$D$12&\")=\"&$D$2&\" and localMonth(\"&$D$12&\") =\"&$E$2&\" and LocalDay(\"&$D$12&\")=\"&$F$2&\" and Barix(\"&$D$12&\",reference:=StartOfSession)=\"&A38&\"\", \"Bar\", \"\", \"Close\",\"5\",\"0\",\"PrimaryOnly\",,,\"False\",\"T\",\"EveryTick\")","v":7360.75},1.4750990866793039E-2,{"$f":"RTD(\"cqg.rtd\",,\"StudyData\", \"Close(\"&$D$12&\") when LocalYear(\"&$D$12&\")=\"&$D$3&\" and localMonth(\"&$D$12&\") =\"&$E$3&\" and LocalDay(\"&$D$12&\")=\"&$F$3&\" and Barix(\"&$D$12&\",reference:=StartOfSession)=\"&A38&\"\", \"Bar\", \"\", \"Close\",\"5\",\"0\",\"PrimaryOnly\",,,\"False\",\"T\",\"EveryTick\")","v":7265.75},-4.8962541943436281E-3,{"$f":"RTD(\"cqg.rtd\",,\"StudyData\", \"Close(\"&$D$12&\") when LocalYear(\"&$D$12&\")=\"&$D$4&\" and localMonth(\"&$D$12&\") =\"&$E$4&\" and LocalDay(\"&$D$12&\")=\"&$F$4&\" and Barix(\"&$D$12&\",reference:=StartOfSession)=\"&A38&\"\", \"Bar\", \"\", \"Close\",\"5\",\"0\",\"PrimaryOnly\",,,\"False\",\"T\",\"EveryTick\")","v":7310.75},1.4383069072976952E-3,{"$f":"RTD(\"cqg.rtd\",,\"StudyData\", \"Close(\"&$D$12&\") when LocalYear(\"&$D$12&\")=\"&$D$5&\" and localMonth(\"&$D$12&\") =\"&$E$5&\" and LocalDay(\"&$D$12&\")=\"&$F$5&\" and Barix(\"&$D$12&\",reference:=StartOfSession)=\"&A38&\"\", \"Bar\", \"\", \"Close\",\"5\",\"0\",\"PrimaryOnly\",,,\"False\",\"T\",\"EveryTick\")","v":7262},3.9400013824566257E-3,{"$f":"RTD(\"cqg.rtd\",,\"StudyData\", \"Close(\"&$D$12&\") when LocalYear(\"&$D$12&\")=\"&$D$6&\" and localMonth(\"&$D$12&\") =\"&$E$6&\" and LocalDay(\"&$D$12&\")=\"&$F$6&\" and Barix(\"&$D$12&\",reference:=StartOfSession)=\"&A38&\"\", \"Bar\", \"\", \"Close\",\"5\",\"0\",\"PrimaryOnly\",,,\"False\",\"T\",\"EveryTick\")","v":7222.75},1.3612602182226432E-2,{"$f":"RTD(\"cqg.rtd\",,\"StudyData\", \"Close(\"&$D$12&\") when LocalYear(\"&$D$12&\")=\"&$D$7&\" and localMonth(\"&$D$12&\") =\"&$E$7&\" and LocalDay(\"&$D$12&\")=\"&$F$7&\" and Barix(\"&$D$12&\",reference:=StartOfSession)=\"&A38&\"\", \"Bar\", \"\", \"Close\",\"5\",\"0\",\"PrimaryOnly\",,,\"False\",\"T\",\"EveryTick\")","v":7106.75},1.1817049297027942E-2,{"$f":"RTD(\"cqg.rtd\",,\"StudyData\", \"Close(\"&$D$12&\") when LocalYear(\"&$D$12&\")=\"&$D$8&\" and localMonth(\"&$D$12&\") =\"&$E$8&\" and LocalDay(\"&$D$12&\")=\"&$F$8&\" and Barix(\"&$D$12&\",reference:=StartOfSession)=\"&A38&\"\", \"Bar\", \"\", \"Close\",\"5\",\"0\",\"PrimaryOnly\",,,\"False\",\"T\",\"EveryTick\")","v":7055.5},-8.571629312161877E-3,{"$f":"RTD(\"cqg.rtd\",,\"StudyData\", \"Close(\"&$D$12&\") when LocalYear(\"&$D$12&\")=\"&$D$9&\" and localMonth(\"&$D$12&\") =\"&$E$9&\" and LocalDay(\"&$D$12&\")=\"&$F$9&\" and Barix(\"&$D$12&\",reference:=StartOfSession)=\"&A38&\"\", \"Bar\", \"\", \"Close\",\"5\",\"0\",\"PrimaryOnly\",,,\"False\",\"T\",\"EveryTick\")","v":7042.5},-3.4315633070364738E-3,{"$f":"RTD(\"cqg.rtd\",,\"StudyData\", \"Close(\"&$D$12&\") when LocalYear(\"&$D$12&\")=\"&$D$10&\" and localMonth(\"&$D$12&\") =\"&$E$10&\" and LocalDay(\"&$D$12&\")=\"&$F$10&\" and Barix(\"&$D$12&\",reference:=StartOfSession)=\"&A38&\"\", \"Bar\", \"\", \"Close\",\"5\",\"0\",\"PrimaryOnly\",,,\"False\",\"T\",\"EveryTick\")","v":7091.75},4.4260321506975429E-3,null,null,null,""]
[38,"11:40:00",{"$f":"C38+1","v":-39},{"$f":" RTD(\"cqg.rtd\",,\"StudyData\", $D$12,  \"Tick\", \"FlatTicks=0\", \"Tick\",\"D\",C39,\"PrimaryOnly\")","v":7403},null,"ENQ",null,{"$f":"RTD(\"cqg.rtd\",,\"StudyData\", \"Close(\"&$D$12&\") when LocalYear(\"&$D$12&\")=\"&$D$1&\" and localMonth(\"&$D$12&\") =\"&$E$1&\" and LocalDay(\"&$D$12&\")=\"&$F$1&\" and Barix(\"&$D$12&\",reference:=StartOfSession)=\"&A39&\"\", \"Bar\", \"\", \"Close\",\"5\",\"0\",\"PrimaryOnly\",,,\"False\",\"T\",\"EveryTick\")","v":""},{"$error":"#N/A"},{"$f":"RTD(\"cqg.rtd\",,\"StudyData\", \"Close(\"&$D$12&\") when LocalYear(\"&$D$12&\")=\"&$D$2&\" and localMonth(\"&$D$12&\") =\"&$E$2&\" and LocalDay(\"&$D$12&\")=\"&$F$2&\" and Barix(\"&$D$12&\",reference:=StartOfSession)=\"&A39&\"\", \"Bar\", \"\", \"Close\",\"5\",\"0\",\"PrimaryOnly\",,,\"False\",\"T\",\"EveryTick\")","v":7357.5},1.4302946751680165E-2,{"$f":"RTD(\"cqg.rtd\",,\"StudyData\", \"Close(\"&$D$12&\") when LocalYear(\"&$D$12&\")=\"&$D$3&\" and localMonth(\"&$D$12&\") =\"&$E$3&\" and LocalDay(\"&$D$12&\")=\"&$F$3&\" and Barix(\"&$D$12&\",reference:=StartOfSession)=\"&A39&\"\", \"Bar\", \"\", \"Close\",\"5\",\"0\",\"PrimaryOnly\",,,\"False\",\"T\",\"EveryTick\")","v":7264.5},-5.0674518934465517E-3,{"$f":"RTD(\"cqg.rtd\",,\"StudyData\", \"Close(\"&$D$12&\") when LocalYear(\"&$D$12&\")=\"&$D$4&\" and localMonth(\"&$D$12&\") =\"&$E$4&\" and LocalDay(\"&$D$12&\")=\"&$F$4&\" and Barix(\"&$D$12&\",reference:=StartOfSession)=\"&A39&\"\", \"Bar\", \"\", \"Close\",\"5\",\"0\",\"PrimaryOnly\",,,\"False\",\"T\",\"EveryTick\")","v":7309},1.1985890894147461E-3,{"$f":"RTD(\"cqg.rtd\",,\"StudyData\", \"Close(\"&$D$12&\") when LocalYear(\"&$D$12&\")=\"&$D$5&\" and localMonth(\"&$D$12&\") =\"&$E$5&\" and LocalDay(\"&$D$12&\")=\"&$F$5&\" and Barix(\"&$D$12&\",reference:=StartOfSession)=\"&A39&\"\", \"Bar\", \"\", \"Close\",\"5\",\"0\",\"PrimaryOnly\",,,\"False\",\"T\",\"EveryTick\")","v":7264},4.2164927075413012E-3,{"$f":"RTD(\"cqg.rtd\",,\"StudyData\", \"Close(\"&$D$12&\") when LocalYear(\"&$D$12&\")=\"&$D$6&\" and localMonth(\"&$D$12&\") =\"&$E$6&\" and LocalDay(\"&$D$12&\")=\"&$F$6&\" and Barix(\"&$D$12&\",reference:=StartOfSession)=\"&A39&\"\", \"Bar\", \"\", \"Close\",\"5\",\"0\",\"PrimaryOnly\",,,\"False\",\"T\",\"EveryTick\")","v":7218.75},1.3051257762340807E-2,{"$f":"RTD(\"cqg.rtd\",,\"StudyData\", \"Close(\"&$D$12&\") when LocalYear(\"&$D$12&\")=\"&$D$7&\" and localMonth(\"&$D$12&\") =\"&$E$7&\" and LocalDay(\"&$D$12&\")=\"&$F$7&\" and Barix(\"&$D$12&\",reference:=StartOfSession)=\"&A39&\"\", \"Bar\", \"\", \"Close\",\"5\",\"0\",\"PrimaryOnly\",,,\"False\",\"T\",\"EveryTick\")","v":7108.5},1.2066203950880939E-2,{"$f":"RTD(\"cqg.rtd\",,\"StudyData\", \"Close(\"&$D$12&\") when LocalYear(\"&$D$12&\")=\"&$D$8&\" and localMonth(\"&$D$12&\") =\"&$E$8&\" and LocalDay(\"&$D$12&\")=\"&$F$8&\" and Barix(\"&$D$12&\",reference:=StartOfSession)=\"&A39&\"\", \"Bar\", \"\", \"Close\",\"5\",\"0\",\"PrimaryOnly\",,,\"False\",\"T\",\"EveryTick\")","v":7059.5},-8.0095552589053605E-3,{"$f":"RTD(\"cqg.rtd\",,\"StudyData\", \"Close(\"&$D$12&\") when LocalYear(\"&$D$12&\")=\"&$D$9&\" and localMonth(\"&$D$12&\") =\"&$E$9&\" and LocalDay(\"&$D$12&\")=\"&$F$9&\" and Barix(\"&$D$12&\",reference:=StartOfSession)=\"&A39&\"\", \"Bar\", \"\", \"Close\",\"5\",\"0\",\"PrimaryOnly\",,,\"False\",\"T\",\"EveryTick\")","v":7041},-3.6438249548944E-3,{"$f":"RTD(\"cqg.rtd\",,\"StudyData\", \"Close(\"&$D$12&\") when LocalYear(\"&$D$12&\")=\"&$D$10&\" and localMonth(\"&$D$12&\") =\"&$E$10&\" and LocalDay(\"&$D$12&\")=\"&$F$10&\" and Barix(\"&$D$12&\",reference:=StartOfSession)=\"&A39&\"\", \"Bar\", \"\", \"Close\",\"5\",\"0\",\"PrimaryOnly\",,,\"False\",\"T\",\"EveryTick\")","v":7094.25},4.7801147227533461E-3,null,null,null,""]
[39,"11:45:00",{"$f":"C39+1","v":-38},{"$f":" RTD(\"cqg.rtd\",,\"StudyData\", $D$12,  \"Tick\", \"FlatTicks=0\", \"Tick\",\"D\",C40,\"PrimaryOnly\")","v":7403.25},null,"YM",null,{"$f":"RTD(\"cqg.rtd\",,\"StudyData\", \"Close(\"&$D$12&\") when LocalYear(\"&$D$12&\")=\"&$D$1&\" and localMonth(\"&$D$12&\") =\"&$E$1&\" and LocalDay(\"&$D$12&\")=\"&$F$1&\" and Barix(\"&$D$12&\",reference:=StartOfSession)=\"&A40&\"\", \"Bar\", \"\", \"Close\",\"5\",\"0\",\"PrimaryOnly\",,,\"False\",\"T\",\"EveryTick\")","v":""},{"$error":"#N/A"},{"$f":"RTD(\"cqg.rtd\",,\"StudyData\", \"Close(\"&$D$12&\") when LocalYear(\"&$D$12&\")=\"&$D$2&\" and localMonth(\"&$D$12&\") =\"&$E$2&\" and LocalDay(\"&$D$12&\")=\"&$F$2&\" and Barix(\"&$D$12&\",reference:=StartOfSession)=\"&A40&\"\", \"Bar\", \"\", \"Close\",\"5\",\"0\",\"PrimaryOnly\",,,\"False\",\"T\",\"EveryTick\")","v":7361.25},1.4819920730656556E-2,{"$f":"RTD(\"cqg.rtd\",,\"StudyData\", \"Close(\"&$D$12&\") when LocalYear(\"&$D$12&\")=\"&$D$3&\" and localMonth(\"&$D$12&\") =\"&$E$3&\" and LocalDay(\"&$D$12&\")=\"&$F$3&\" and Barix(\"&$D$12&\",reference:=StartOfSession)=\"&A40&\"\", \"Bar\", \"\", \"Close\",\"5\",\"0\",\"PrimaryOnly\",,,\"False\",\"T\",\"EveryTick\")","v":7267.25},-4.6908169554201193E-3,{"$f":"RTD(\"cqg.rtd\",,\"StudyData\", \"Close(\"&$D$12&\") when LocalYear(\"&$D$12&\")=\"&$D$4&\" and localMonth(\"&$D$12&\") =\"&$E$4&\" and LocalDay(\"&$D$12&\")=\"&$F$4&\" and Barix(\"&$D$12&\",reference:=StartOfSession)=\"&A40&\"\", \"Bar\", \"\", \"Close\",\"5\",\"0\",\"PrimaryOnly\",,,\"False\",\"T\",\"EveryTick\")","v":7307.5},9.931166740865039E-4,{"$f":"RTD(\"cqg.rtd\",,\"StudyData\", \"Close(\"&$D$12&\") when LocalYear(\"&$D$12&\")=\"&$D$5&\" and localMonth(\"&$D$12&\") =\"&$E$5&\" and LocalDay(\"&$D$12&\")=\"&$F$5&\" and Barix(\"&$D$12&\",reference:=StartOfSession)=\"&A40&\"\", \"Bar\", \"\", \"Close\",\"5\",\"0\",\"PrimaryOnly\",,,\"False\",\"T\",\"EveryTick\")","v":7262},3.9400013824566257E-3,{"$f":"RTD(\"cqg.rtd\",,\"StudyData\", \"Close(\"&$D$12&\") when LocalYear(\"&$D$12&\")=\"&$D$6&\" and localMonth(\"&$D$12&\") =\"&$E$6&\" and LocalDay(\"&$D$12&\")=\"&$F$6&\" and Barix(\"&$D$12&\",reference:=StartOfSession)=\"&A40&\"\", \"Bar\", \"\", \"Close\",\"5\",\"0\",\"PrimaryOnly\",,,\"False\",\"T\",\"EveryTick\")","v":7213.75},1.2349577237483774E-2,{"$f":"RTD(\"cqg.rtd\",,\"StudyData\", \"Close(\"&$D$12&\") when LocalYear(\"&$D$12&\")=\"&$D$7&\" and localMonth(\"&$D$12&\") =\"&$E$7&\" and LocalDay(\"&$D$12&\")=\"&$F$7&\" and Barix(\"&$D$12&\",reference:=StartOfSession)=\"&A40&\"\", \"Bar\", \"\", \"Close\",\"5\",\"0\",\"PrimaryOnly\",,,\"False\",\"T\",\"EveryTick\")","v":7101.25},1.1033991813489945E-2,{"$f":"RTD(\"cqg.rtd\",,\"StudyData\", \"Close(\"&$D$12&\") when LocalYear(\"&$D$12&\")=\"&$D$8&\" and localMonth(\"&$D$12&\") =\"&$E$8&\" and LocalDay(\"&$D$12&\")=\"&$F$8&\" and Barix(\"&$D$12&\",reference:=StartOfSession)=\"&A40&\"\", \"Bar\", \"\", \"Close\",\"5\",\"0\",\"PrimaryOnly\",,,\"False\",\"T\",\"EveryTick\")","v":7048.25},-9.5903885336893133E-3,{"$f":"RTD(\"cqg.rtd\",,\"StudyData\", \"Close(\"&$D$12&\") when LocalYear(\"&$D$12&\")=\"&$D$9&\" and localMonth(\"&$D$12&\") =\"&$E$9&\" and LocalDay(\"&$D$12&\")=\"&$F$9&\" and Barix(\"&$D$12&\",reference:=StartOfSession)=\"&A40&\"\", \"Bar\", \"\", \"Close\",\"5\",\"0\",\"PrimaryOnly\",,,\"False\",\"T\",\"EveryTick\")","v":7047.75},-2.6886475395337321E-3,{"$f":"RTD(\"cqg.rtd\",,\"StudyData\", \"Close(\"&$D$12&\") when LocalYear(\"&$D$12&\")=\"&$D$10&\" and localMonth(\"&$D$12&\") =\"&$E$10&\" and LocalDay(\"&$D$12&\")=\"&$F$10&\" and Barix(\"&$D$12&\",reference:=StartOfSession)=\"&A40&\"\", \"Bar\", \"\", \"Close\",\"5\",\"0\",\"PrimaryOnly\",,,\"False\",\"T\",\"EveryTick\")","v":7089.75},4.1427660930528996E-3,null,null,null,""]
[40,"11:50:00",-37,{"$f":" RTD(\"cqg.rtd\",,\"StudyData\", $D$12,  \"Tick\", \"FlatTicks=0\", \"Tick\",\"D\",C41,\"PrimaryOnly\")","v":7403},null,"RTY",null,{"$f":"RTD(\"cqg.rtd\",,\"StudyData\", \"Close(\"&$D$12&\") when LocalYear(\"&$D$12&\")=\"&$D$1&\" and localMonth(\"&$D$12&\") =\"&$E$1&\" and LocalDay(\"&$D$12&\")=\"&$F$1&\" and Barix(\"&$D$12&\",reference:=StartOfSession)=\"&A41&\"\", \"Bar\", \"\", \"Close\",\"5\",\"0\",\"PrimaryOnly\",,,\"False\",\"T\",\"EveryTick\")","v":""},{"$error":"#N/A"},{"$f":"RTD(\"cqg.rtd\",,\"StudyData\", \"Close(\"&$D$12&\") when LocalYear(\"&$D$12&\")=\"&$D$2&\" and localMonth(\"&$D$12&\") =\"&$E$2&\" and LocalDay(\"&$D$12&\")=\"&$F$2&\" and Barix(\"&$D$12&\",reference:=StartOfSession)=\"&A41&\"\", \"Bar\", \"\", \"Close\",\"5\",\"0\",\"PrimaryOnly\",,,\"False\",\"T\",\"EveryTick\")","v":7365.5},1.5405824573496468E-2,{"$f":"RTD(\"cqg.rtd\",,\"StudyData\", \"Close(\"&$D$12&\") when LocalYear(\"&$D$12&\")=\"&$D$3&\" and localMonth(\"&$D$12&\") =\"&$E$3&\" and LocalDay(\"&$D$12&\")=\"&$F$3&\" and Barix(\"&$D$12&\",reference:=StartOfSession)=\"&A41&\"\", \"Bar\", \"\", \"Close\",\"5\",\"0\",\"PrimaryOnly\",,,\"False\",\"T\",\"EveryTick\")","v":7266.25},-4.8277751147024588E-3,{"$f":"RTD(\"cqg.rtd\",,\"StudyData\", \"Close(\"&$D$12&\") when LocalYear(\"&$D$12&\")=\"&$D$4&\" and localMonth(\"&$D$12&\") =\"&$E$4&\" and LocalDay(\"&$D$12&\")=\"&$F$4&\" and Barix(\"&$D$12&\",reference:=StartOfSession)=\"&A41&\"\", \"Bar\", \"\", \"Close\",\"5\",\"0\",\"PrimaryOnly\",,,\"False\",\"T\",\"EveryTick\")","v":7308},1.061607479195918E-3,{"$f":"RTD(\"cqg.rtd\",,\"StudyData\", \"Close(\"&$D$12&\") when LocalYear(\"&$D$12&\")=\"&$D$5&\" and localMonth(\"&$D$12&\") =\"&$E$5&\" and LocalDay(\"&$D$12&\")=\"&$F$5&\" and Barix(\"&$D$12&\",reference:=StartOfSession)=\"&A41&\"\", \"Bar\", \"\", \"Close\",\"5\",\"0\",\"PrimaryOnly\",,,\"False\",\"T\",\"EveryTick\")","v":7261.25},3.8363171355498722E-3,{"$f":"RTD(\"cqg.rtd\",,\"StudyData\", \"Close(\"&$D$12&\") when LocalYear(\"&$D$12&\")=\"&$D$6&\" and localMonth(\"&$D$12&\") =\"&$E$6&\" and LocalDay(\"&$D$12&\")=\"&$F$6&\" and Barix(\"&$D$12&\",reference:=StartOfSession)=\"&A41&\"\", \"Bar\", \"\", \"Close\",\"5\",\"0\",\"PrimaryOnly\",,,\"False\",\"T\",\"EveryTick\")","v":7213.75},1.2349577237483774E-2,{"$f":"RTD(\"cqg.rtd\",,\"StudyData\", \"Close(\"&$D$12&\") when LocalYear(\"&$D$12&\")=\"&$D$7&\" and localMonth(\"&$D$12&\") =\"&$E$7&\" and LocalDay(\"&$D$12&\")=\"&$F$7&\" and Barix(\"&$D$12&\",reference:=StartOfSession)=\"&A41&\"\", \"Bar\", \"\", \"Close\",\"5\",\"0\",\"PrimaryOnly\",,,\"False\",\"T\",\"EveryTick\")","v":7105},1.1567894643174943E-2,{"$f":"RTD(\"cqg.rtd\",,\"StudyData\", \"Close(\"&$D$12&\") when LocalYear(\"&$D$12&\")=\"&$D$8&\" and localMonth(\"&$D$12&\") =\"&$E$8&\" and LocalDay(\"&$D$12&\")=\"&$F$8&\" and Barix(\"&$D$12&\",reference:=StartOfSession)=\"&A41&\"\", \"Bar\", \"\", \"Close\",\"5\",\"0\",\"PrimaryOnly\",,,\"False\",\"T\",\"EveryTick\")","v":7041},-1.060914775521675E-2,{"$f":"RTD(\"cqg.rtd\",,\"StudyData\", \"Close(\"&$D$12&\") when LocalYear(\"&$D$12&\")=\"&$D$9&\" and localMonth(\"&$D$12&\") =\"&$E$9&\" and LocalDay(\"&$D$12&\")=\"&$F$9&\" and Barix(\"&$D$12&\",reference:=StartOfSession)=\"&A41&\"\", \"Bar\", \"\", \"Close\",\"5\",\"0\",\"PrimaryOnly\",,,\"False\",\"T\",\"EveryTick\")","v":7047},-2.7947783634626952E-3,{"$f":"RTD(\"cqg.rtd\",,\"StudyData\", \"Close(\"&$D$12&\") when LocalYear(\"&$D$12&\")=\"&$D$10&\" and localMonth(\"&$D$12&\") =\"&$E$10&\" and LocalDay(\"&$D$12&\")=\"&$F$10&\" and Barix(\"&$D$12&\",reference:=StartOfSession)=\"&A41&\"\", \"Bar\", \"\", \"Close\",\"5\",\"0\",\"PrimaryOnly\",,,\"False\",\"T\",\"EveryTick\")","v":7087},3.7532752637915163E-3,null,null,null,""]
[41,"11:55:00",-36,{"$f":" RTD(\"cqg.rtd\",,\"StudyData\", $D$12,  \"Tick\", \"FlatTicks=0\", \"Tick\",\"D\",C42,\"PrimaryOnly\")","v":7403.25},null,"EMD",null,{"$f":"RTD(\"cqg.rtd\",,\"StudyData\", \"Close(\"&$D$12&\") when LocalYear(\"&$D$12&\")=\"&$D$1&\" and localMonth(\"&$D$12&\") =\"&$E$1&\" and LocalDay(\"&$D$12&\")=\"&$F$1&\" and Barix(\"&$D$12&\",reference:=StartOfSession)=\"&A42&\"\", \"Bar\", \"\", \"Close\",\"5\",\"0\",\"PrimaryOnly\",,,\"False\",\"T\",\"EveryTick\")","v":""},{"$error":"#N/A"},{"$f":"RTD(\"cqg.rtd\",,\"StudyData\", \"Close(\"&$D$12&\") when LocalYear(\"&$D$12&\")=\"&$D$2&\" and localMonth(\"&$D$12&\") =\"&$E$2&\" and LocalDay(\"&$D$12&\")=\"&$F$2&\" and Barix(\"&$D$12&\",reference:=StartOfSession)=\"&A42&\"\", \"Bar\", \"\", \"Close\",\"5\",\"0\",\"PrimaryOnly\",,,\"False\",\"T\",\"EveryTick\")","v":7365.5},1.5405824573496468E-2,{"$f":"RTD(\"cqg.rtd\",,\"StudyData\", \"Close(\"&$D$12&\") when LocalYear(\"&$D$12&\")=\"&$D$3&\" and localMonth(\"&$D$12&\") =\"&$E$3&\" and LocalDay(\"&$D$12&\")=\"&$F$3&\" and Barix(\"&$D$12&\",reference:=StartOfSession)=\"&A42&\"\", \"Bar\", \"\", \"Close\",\"5\",\"0\",\"PrimaryOnly\",,,\"False\",\"T\",\"EveryTick\")","v":7261.5},-5.4783263712935701E-3,{"$f":"RTD(\"cqg.rtd\",,\"StudyData\", \"Close(\"&$D$12&\") when LocalYear(\"&$D$12&\")=\"&$D$4&\" and localMonth(\"&$D$12&\") =\"&$E$4&\" and LocalDay(\"&$D$12&\")=\"&$F$4&\" and Barix(\"&$D$12&\",reference:=StartOfSession)=\"&A42&\"\", \"Bar\", \"\", \"Close\",\"5\",\"0\",\"PrimaryOnly\",,,\"False\",\"T\",\"EveryTick\")","v":7307.25},9.5887127153179686E-4,{"$f":"RTD(\"cqg.rtd\",,\"StudyData\", \"Close(\"&$D$12&\") when LocalYear(\"&$D$12&\")=\"&$D$5&\" and localMonth(\"&$D$12&\") =\"&$E$5&\" and LocalDay(\"&$D$12&\")=\"&$F$5&\" and Barix(\"&$D$12&\",reference:=StartOfSession)=\"&A42&\"\", \"Bar\", \"\", \"Close\",\"5\",\"0\",\"PrimaryOnly\",,,\"False\",\"T\",\"EveryTick\")","v":7261.25},3.8363171355498722E-3,{"$f":"RTD(\"cqg.rtd\",,\"StudyData\", \"Close(\"&$D$12&\") when LocalYear(\"&$D$12&\")=\"&$D$6&\" and localMonth(\"&$D$12&\") =\"&$E$6&\" and LocalDay(\"&$D$12&\")=\"&$F$6&\" and Barix(\"&$D$12&\",reference:=StartOfSession)=\"&A42&\"\", \"Bar\", \"\", \"Close\",\"5\",\"0\",\"PrimaryOnly\",,,\"False\",\"T\",\"EveryTick\")","v":7216.75},1.2770585552397993E-2,{"$f":"RTD(\"cqg.rtd\",,\"StudyData\", \"Close(\"&$D$12&\") when LocalYear(\"&$D$12&\")=\"&$D$7&\" and localMonth(\"&$D$12&\") =\"&$E$7&\" and LocalDay(\"&$D$12&\")=\"&$F$7&\" and Barix(\"&$D$12&\",reference:=StartOfSession)=\"&A42&\"\", \"Bar\", \"\", \"Close\",\"5\",\"0\",\"PrimaryOnly\",,,\"False\",\"T\",\"EveryTick\")","v":7110.5},1.2350952126712939E-2,{"$f":"RTD(\"cqg.rtd\",,\"StudyData\", \"Close(\"&$D$12&\") when LocalYear(\"&$D$12&\")=\"&$D$8&\" and localMonth(\"&$D$12&\") =\"&$E$8&\" and LocalDay(\"&$D$12&\")=\"&$F$8&\" and Barix(\"&$D$12&\",reference:=StartOfSession)=\"&A42&\"\", \"Bar\", \"\", \"Close\",\"5\",\"0\",\"PrimaryOnly\",,,\"False\",\"T\",\"EveryTick\")","v":7033.5},-1.1663036605072718E-2,{"$f":"RTD(\"cqg.rtd\",,\"StudyData\", \"Close(\"&$D$12&\") when LocalYear(\"&$D$12&\")=\"&$D$9&\" and localMonth(\"&$D$12&\") =\"&$E$9&\" and LocalDay(\"&$D$12&\")=\"&$F$9&\" and Barix(\"&$D$12&\",reference:=StartOfSession)=\"&A42&\"\", \"Bar\", \"\", \"Close\",\"5\",\"0\",\"PrimaryOnly\",,,\"False\",\"T\",\"EveryTick\")","v":7044.75},-3.1131708352495845E-3,{"$f":"RTD(\"cqg.rtd\",,\"StudyData\", \"Close(\"&$D$12&\") when LocalYear(\"&$D$12&\")=\"&$D$10&\" and localMonth(\"&$D$12&\") =\"&$E$10&\" and LocalDay(\"&$D$12&\")=\"&$F$10&\" and Barix(\"&$D$12&\",reference:=StartOfSession)=\"&A42&\"\", \"Bar\", \"\", \"Close\",\"5\",\"0\",\"PrimaryOnly\",,,\"False\",\"T\",\"EveryTick\")","v":7086.75},3.7178670065859359E-3,null,null,null,""]
[42,"12:00:00",-35,{"$f":" RTD(\"cqg.rtd\",,\"StudyData\", $D$12,  \"Tick\", \"FlatTicks=0\", \"Tick\",\"D\",C43,\"PrimaryOnly\")","v":7403.5},null,"FT5",null,{"$f":"RTD(\"cqg.rtd\",,\"StudyData\", \"Close(\"&$D$12&\") when LocalYear(\"&$D$12&\")=\"&$D$1&\" and localMonth(\"&$D$12&\") =\"&$E$1&\" and LocalDay(\"&$D$12&\")=\"&$F$1&\" and Barix(\"&$D$12&\",reference:=StartOfSession)=\"&A43&\"\", \"Bar\", \"\", \"Close\",\"5\",\"0\",\"PrimaryOnly\",,,\"False\",\"T\",\"EveryTick\")","v":""},{"$error":"#N/A"},{"$f":"RTD(\"cqg.rtd\",,\"StudyData\", \"Close(\"&$D$12&\") when LocalYear(\"&$D$12&\")=\"&$D$2&\" and localMonth(\"&$D$12&\") =\"&$E$2&\" and LocalDay(\"&$D$12&\")=\"&$F$2&\" and Barix(\"&$D$12&\",reference:=StartOfSession)=\"&A43&\"\", \"Bar\", \"\", \"Close\",\"5\",\"0\",\"PrimaryOnly\",,,\"False\",\"T\",\"EveryTick\")","v":7369},1.5888333620541099E-2,{"$f":"RTD(\"cqg.rtd\",,\"StudyData\", \"Close(\"&$D$12&\") when LocalYear(\"&$D$12&\")=\"&$D$3&\" and localMonth(\"&$D$12&\") =\"&$E$3&\" and LocalDay(\"&$D$12&\")=\"&$F$3&\" and Barix(\"&$D$12&\",reference:=StartOfSession)=\"&A43&\"\", \"Bar\", \"\", \"Close\",\"5\",\"0\",\"PrimaryOnly\",,,\"False\",\"T\",\"EveryTick\")","v":7261.25},-5.5125659111141543E-3,{"$f":"RTD(\"cqg.rtd\",,\"StudyData\", \"Close(\"&$D$12&\") when LocalYear(\"&$D$12&\")=\"&$D$4&\" and localMonth(\"&$D$12&\") =\"&$E$4&\" and LocalDay(\"&$D$12&\")=\"&$F$4&\" and Barix(\"&$D$12&\",reference:=StartOfSession)=\"&A43&\"\", \"Bar\", \"\", \"Close\",\"5\",\"0\",\"PrimaryOnly\",,,\"False\",\"T\",\"EveryTick\")","v":7309.25},1.2328344919694532E-3,{"$f":"RTD(\"cqg.rtd\",,\"StudyData\", \"Close(\"&$D$12&\") when LocalYear(\"&$D$12&\")=\"&$D$5&\" and localMonth(\"&$D$12&\") =\"&$E$5&\" and LocalDay(\"&$D$12&\")=\"&$F$5&\" and Barix(\"&$D$12&\",reference:=StartOfSession)=\"&A43&\"\", \"Bar\", \"\", \"Close\",\"5\",\"0\",\"PrimaryOnly\",,,\"False\",\"T\",\"EveryTick\")","v":7266.25},4.5275454482615607E-3,{"$f":"RTD(\"cqg.rtd\",,\"StudyData\", \"Close(\"&$D$12&\") when LocalYear(\"&$D$12&\")=\"&$D$6&\" and localMonth(\"&$D$12&\") =\"&$E$6&\" and LocalDay(\"&$D$12&\")=\"&$F$6&\" and Barix(\"&$D$12&\",reference:=StartOfSession)=\"&A43&\"\", \"Bar\", \"\", \"Close\",\"5\",\"0\",\"PrimaryOnly\",,,\"False\",\"T\",\"EveryTick\")","v":7219.5},1.3156509841069362E-2,{"$f":"RTD(\"cqg.rtd\",,\"StudyData\", \"Close(\"&$D$12&\") when LocalYear(\"&$D$12&\")=\"&$D$7&\" and localMonth(\"&$D$12&\") =\"&$E$7&\" and LocalDay(\"&$D$12&\")=\"&$F$7&\" and Barix(\"&$D$12&\",reference:=StartOfSession)=\"&A43&\"\", \"Bar\", \"\", \"Close\",\"5\",\"0\",\"PrimaryOnly\",,,\"False\",\"T\",\"EveryTick\")","v":7116.25},1.3169603132229934E-2,{"$f":"RTD(\"cqg.rtd\",,\"StudyData\", \"Close(\"&$D$12&\") when LocalYear(\"&$D$12&\")=\"&$D$8&\" and localMonth(\"&$D$12&\") =\"&$E$8&\" and LocalDay(\"&$D$12&\")=\"&$F$8&\" and Barix(\"&$D$12&\",reference:=StartOfSession)=\"&A43&\"\", \"Bar\", \"\", \"Close\",\"5\",\"0\",\"PrimaryOnly\",,,\"False\",\"T\",\"EveryTick\")","v":7034.5},-1.1522518091758589E-2,{"$f":"RTD(\"cqg.rtd\",,\"StudyData\", \"Close(\"&$D$12&\") when LocalYear(\"&$D$12&\")=\"&$D$9&\" and localMonth(\"&$D$12&\") =\"&$E$9&\" and LocalDay(\"&$D$12&\")=\"&$F$9&\" and Barix(\"&$D$12&\",reference:=StartOfSession)=\"&A43&\"\", \"Bar\", \"\", \"Close\",\"5\",\"0\",\"PrimaryOnly\",,,\"False\",\"T\",\"EveryTick\")","v":7042.75},-3.3961863657268193E-3,{"$f":"RTD(\"cqg.rtd\",,\"StudyData\", \"Close(\"&$D$12&\") when LocalYear(\"&$D$12&\")=\"&$D$10&\" and localMonth(\"&$D$12&\") =\"&$E$10&\" and LocalDay(\"&$D$12&\")=\"&$F$10&\" and Barix(\"&$D$12&\",reference:=StartOfSession)=\"&A43&\"\", \"Bar\", \"\", \"Close\",\"5\",\"0\",\"PrimaryOnly\",,,\"False\",\"T\",\"EveryTick\")","v":7088.75},4.0011330642305788E-3,null,null,null,""]
[43,"12:05:00",-34,{"$f":" RTD(\"cqg.rtd\",,\"StudyData\", $D$12,  \"Tick\", \"FlatTicks=0\", \"Tick\",\"D\",C44,\"PrimaryOnly\")","v":7403.25},null,"BTC",null,{"$f":"RTD(\"cqg.rtd\",,\"StudyData\", \"Close(\"&$D$12&\") when LocalYear(\"&$D$12&\")=\"&$D$1&\" and localMonth(\"&$D$12&\") =\"&$E$1&\" and LocalDay(\"&$D$12&\")=\"&$F$1&\" and Barix(\"&$D$12&\",reference:=StartOfSession)=\"&A44&\"\", \"Bar\", \"\", \"Close\",\"5\",\"0\",\"PrimaryOnly\",,,\"False\",\"T\",\"EveryTick\")","v":""},{"$error":"#N/A"},{"$f":"RTD(\"cqg.rtd\",,\"StudyData\", \"Close(\"&$D$12&\") when LocalYear(\"&$D$12&\")=\"&$D$2&\" and localMonth(\"&$D$12&\") =\"&$E$2&\" and LocalDay(\"&$D$12&\")=\"&$F$2&\" and Barix(\"&$D$12&\",reference:=StartOfSession)=\"&A44&\"\", \"Bar\", \"\", \"Close\",\"5\",\"0\",\"PrimaryOnly\",,,\"False\",\"T\",\"EveryTick\")","v":7366.25},1.5509219369291746E-2,{"$f":"RTD(\"cqg.rtd\",,\"StudyData\", \"Close(\"&$D$12&\") when LocalYear(\"&$D$12&\")=\"&$D$3&\" and localMonth(\"&$D$12&\") =\"&$E$3&\" and LocalDay(\"&$D$12&\")=\"&$F$3&\" and Barix(\"&$D$12&\",reference:=StartOfSession)=\"&A44&\"\", \"Bar\", \"\", \"Close\",\"5\",\"0\",\"PrimaryOnly\",,,\"False\",\"T\",\"EveryTick\")","v":7259.75},-5.7180031500376639E-3,{"$f":"RTD(\"cqg.rtd\",,\"StudyData\", \"Close(\"&$D$12&\") when LocalYear(\"&$D$12&\")=\"&$D$4&\" and localMonth(\"&$D$12&\") =\"&$E$4&\" and LocalDay(\"&$D$12&\")=\"&$F$4&\" and Barix(\"&$D$12&\",reference:=StartOfSession)=\"&A44&\"\", \"Bar\", \"\", \"Close\",\"5\",\"0\",\"PrimaryOnly\",,,\"False\",\"T\",\"EveryTick\")","v":7301.5},1.7122701277353517E-4,{"$f":"RTD(\"cqg.rtd\",,\"StudyData\", \"Close(\"&$D$12&\") when LocalYear(\"&$D$12&\")=\"&$D$5&\" and localMonth(\"&$D$12&\") =\"&$E$5&\" and LocalDay(\"&$D$12&\")=\"&$F$5&\" and Barix(\"&$D$12&\",reference:=StartOfSession)=\"&A44&\"\", \"Bar\", \"\", \"Close\",\"5\",\"0\",\"PrimaryOnly\",,,\"False\",\"T\",\"EveryTick\")","v":7258.25},3.4215801479228589E-3,{"$f":"RTD(\"cqg.rtd\",,\"StudyData\", \"Close(\"&$D$12&\") when LocalYear(\"&$D$12&\")=\"&$D$6&\" and localMonth(\"&$D$12&\") =\"&$E$6&\" and LocalDay(\"&$D$12&\")=\"&$F$6&\" and Barix(\"&$D$12&\",reference:=StartOfSession)=\"&A44&\"\", \"Bar\", \"\", \"Close\",\"5\",\"0\",\"PrimaryOnly\",,,\"False\",\"T\",\"EveryTick\")","v":7218},1.2946005683612252E-2,{"$f":"RTD(\"cqg.rtd\",,\"StudyData\", \"Close(\"&$D$12&\") when LocalYear(\"&$D$12&\")=\"&$D$7&\" and localMonth(\"&$D$12&\") =\"&$E$7&\" and LocalDay(\"&$D$12&\")=\"&$F$7&\" and Barix(\"&$D$12&\",reference:=StartOfSession)=\"&A44&\"\", \"Bar\", \"\", \"Close\",\"5\",\"0\",\"PrimaryOnly\",,,\"False\",\"T\",\"EveryTick\")","v":7112.5},1.2635700302544937E-2,{"$f":"RTD(\"cqg.rtd\",,\"StudyData\", \"Close(\"&$D$12&\") when LocalYear(\"&$D$12&\")=\"&$D$8&\" and localMonth(\"&$D$12&\") =\"&$E$8&\" and LocalDay(\"&$D$12&\")=\"&$F$8&\" and Barix(\"&$D$12&\",reference:=StartOfSession)=\"&A44&\"\", \"Bar\", \"\", \"Close\",\"5\",\"0\",\"PrimaryOnly\",,,\"False\",\"T\",\"EveryTick\")","v":7034.25},-1.1557647720087121E-2,{"$f":"RTD(\"cqg.rtd\",,\"StudyData\", \"Close(\"&$D$12&\") when LocalYear(\"&$D$12&\")=\"&$D$9&\" and localMonth(\"&$D$12&\") =\"&$E$9&\" and LocalDay(\"&$D$12&\")=\"&$F$9&\" and Barix(\"&$D$12&\",reference:=StartOfSession)=\"&A44&\"\", \"Bar\", \"\", \"Close\",\"5\",\"0\",\"PrimaryOnly\",,,\"False\",\"T\",\"EveryTick\")","v":7039.5},-3.8560866027523262E-3,{"$f":"RTD(\"cqg.rtd\",,\"StudyData\", \"Close(\"&$D$12&\") when LocalYear(\"&$D$12&\")=\"&$D$10&\" and localMonth(\"&$D$12&\") =\"&$E$10&\" and LocalDay(\"&$D$12&\")=\"&$F$10&\" and Barix(\"&$D$12&\",reference:=StartOfSession)=\"&A44&\"\", \"Bar\", \"\", \"Close\",\"5\",\"0\",\"PrimaryOnly\",,,\"False\",\"T\",\"EveryTick\")","v":7092.75},4.5676651795198637E-3,null,null,null,""]
[44,"12:10:00",-33,{"$f":" RTD(\"cqg.rtd\",,\"StudyData\", $D$12,  \"Tick\", \"FlatTicks=0\", \"Tick\",\"D\",C45,\"PrimaryOnly\")","v":7403.5},null,null,null,{"$f":"RTD(\"cqg.rtd\",,\"StudyData\", \"Close(\"&$D$12&\") when LocalYear(\"&$D$12&\")=\"&$D$1&\" and localMonth(\"&$D$12&\") =\"&$E$1&\" and LocalDay(\"&$D$12&\")=\"&$F$1&\" and Barix(\"&$D$12&\",reference:=StartOfSession)=\"&A45&\"\", \"Bar\", \"\", \"Close\",\"5\",\"0\",\"PrimaryOnly\",,,\"False\",\"T\",\"EveryTick\")","v":""},{"$error":"#N/A"},{"$f":"RTD(\"cqg.rtd\",,\"StudyData\", \"Close(\"&$D$12&\") when LocalYear(\"&$D$12&\")=\"&$D$2&\" and localMonth(\"&$D$12&\") =\"&$E$2&\" and LocalDay(\"&$D$12&\")=\"&$F$2&\" and Barix(\"&$D$12&\",reference:=StartOfSession)=\"&A45&\"\", \"Bar\", \"\", \"Close\",\"5\",\"0\",\"PrimaryOnly\",,,\"False\",\"T\",\"EveryTick\")","v":7366.25},1.5509219369291746E-2,{"$f":"RTD(\"cqg.rtd\",,\"StudyData\", \"Close(\"&$D$12&\") when LocalYear(\"&$D$12&\")=\"&$D$3&\" and localMonth(\"&$D$12&\") =\"&$E$3&\" and LocalDay(\"&$D$12&\")=\"&$F$3&\" and Barix(\"&$D$12&\",reference:=StartOfSession)=\"&A45&\"\", \"Bar\", \"\", \"Close\",\"5\",\"0\",\"PrimaryOnly\",,,\"False\",\"T\",\"EveryTick\")","v":7261.75},-5.444086831472985E-3,{"$f":"RTD(\"cqg.rtd\",,\"StudyData\", \"Close(\"&$D$12&\") when LocalYear(\"&$D$12&\")=\"&$D$4&\" and localMonth(\"&$D$12&\") =\"&$E$4&\" and LocalDay(\"&$D$12&\")=\"&$F$4&\" and Barix(\"&$D$12&\",reference:=StartOfSession)=\"&A45&\"\", \"Bar\", \"\", \"Close\",\"5\",\"0\",\"PrimaryOnly\",,,\"False\",\"T\",\"EveryTick\")","v":7303.75},4.7943563576589843E-4,{"$f":"RTD(\"cqg.rtd\",,\"StudyData\", \"Close(\"&$D$12&\") when LocalYear(\"&$D$12&\")=\"&$D$5&\" and localMonth(\"&$D$12&\") =\"&$E$5&\" and LocalDay(\"&$D$12&\")=\"&$F$5&\" and Barix(\"&$D$12&\",reference:=StartOfSession)=\"&A45&\"\", \"Bar\", \"\", \"Close\",\"5\",\"0\",\"PrimaryOnly\",,,\"False\",\"T\",\"EveryTick\")","v":7255.75},3.0759659915670146E-3,{"$f":"RTD(\"cqg.rtd\",,\"StudyData\", \"Close(\"&$D$12&\") when LocalYear(\"&$D$12&\")=\"&$D$6&\" and localMonth(\"&$D$12&\") =\"&$E$6&\" and LocalDay(\"&$D$12&\")=\"&$F$6&\" and Barix(\"&$D$12&\",reference:=StartOfSession)=\"&A45&\"\", \"Bar\", \"\", \"Close\",\"5\",\"0\",\"PrimaryOnly\",,,\"False\",\"T\",\"EveryTick\")","v":7216.75},1.2770585552397993E-2,{"$f":"RTD(\"cqg.rtd\",,\"StudyData\", \"Close(\"&$D$12&\") when LocalYear(\"&$D$12&\")=\"&$D$7&\" and localMonth(\"&$D$12&\") =\"&$E$7&\" and LocalDay(\"&$D$12&\")=\"&$F$7&\" and Barix(\"&$D$12&\",reference:=StartOfSession)=\"&A45&\"\", \"Bar\", \"\", \"Close\",\"5\",\"0\",\"PrimaryOnly\",,,\"False\",\"T\",\"EveryTick\")","v":7115.25},1.3027229044313934E-2,{"$f":"RTD(\"cqg.rtd\",,\"StudyData\", \"Close(\"&$D$12&\") when LocalYear(\"&$D$12&\")=\"&$D$8&\" and localMonth(\"&$D$12&\") =\"&$E$8&\" and LocalDay(\"&$D$12&\")=\"&$F$8&\" and Barix(\"&$D$12&\",reference:=StartOfSession)=\"&A45&\"\", \"Bar\", \"\", \"Close\",\"5\",\"0\",\"PrimaryOnly\",,,\"False\",\"T\",\"EveryTick\")","v":7023.75},-1.3033092109885477E-2,{"$f":"RTD(\"cqg.rtd\",,\"StudyData\", \"Close(\"&$D$12&\") when LocalYear(\"&$D$12&\")=\"&$D$9&\" and localMonth(\"&$D$12&\") =\"&$E$9&\" and LocalDay(\"&$D$12&\")=\"&$F$9&\" and Barix(\"&$D$12&\",reference:=StartOfSession)=\"&A45&\"\", \"Bar\", \"\", \"Close\",\"5\",\"0\",\"PrimaryOnly\",,,\"False\",\"T\",\"EveryTick\")","v":7032.5},-4.8466409594226482E-3,{"$f":"RTD(\"cqg.rtd\",,\"StudyData\", \"Close(\"&$D$12&\") when LocalYear(\"&$D$12&\")=\"&$D$10&\" and localMonth(\"&$D$12&\") =\"&$E$10&\" and LocalDay(\"&$D$12&\")=\"&$F$10&\" and Barix(\"&$D$12&\",reference:=StartOfSession)=\"&A45&\"\", \"Bar\", \"\", \"Close\",\"5\",\"0\",\"PrimaryOnly\",,,\"False\",\"T\",\"EveryTick\")","v":7095},4.8863394943700874E-3,null,null,null,""]
[45,"12:15:00",-32,{"$f":" RTD(\"cqg.rtd\",,\"StudyData\", $D$12,  \"Tick\", \"FlatTicks=0\", \"Tick\",\"D\",C46,\"PrimaryOnly\")","v":7403.25},null,null,null,{"$f":"RTD(\"cqg.rtd\",,\"StudyData\", \"Close(\"&$D$12&\") when LocalYear(\"&$D$12&\")=\"&$D$1&\" and localMonth(\"&$D$12&\") =\"&$E$1&\" and LocalDay(\"&$D$12&\")=\"&$F$1&\" and Barix(\"&$D$12&\",reference:=StartOfSession)=\"&A46&\"\", \"Bar\", \"\", \"Close\",\"5\",\"0\",\"PrimaryOnly\",,,\"False\",\"T\",\"EveryTick\")","v":""},{"$error":"#N/A"},{"$f":"RTD(\"cqg.rtd\",,\"StudyData\", \"Close(\"&$D$12&\") when LocalYear(\"&$D$12&\")=\"&$D$2&\" and localMonth(\"&$D$12&\") =\"&$E$2&\" and LocalDay(\"&$D$12&\")=\"&$F$2&\" and Barix(\"&$D$12&\",reference:=StartOfSession)=\"&A46&\"\", \"Bar\", \"\", \"Close\",\"5\",\"0\",\"PrimaryOnly\",,,\"False\",\"T\",\"EveryTick\")","v":7368},1.5750473892814063E-2,{"$f":"RTD(\"cqg.rtd\",,\"StudyData\", \"Close(\"&$D$12&\") when LocalYear(\"&$D$12&\")=\"&$D$3&\" and localMonth(\"&$D$12&\") =\"&$E$3&\" and LocalDay(\"&$D$12&\")=\"&$F$3&\" and Barix(\"&$D$12&\",reference:=StartOfSession)=\"&A46&\"\", \"Bar\", \"\", \"Close\",\"5\",\"0\",\"PrimaryOnly\",,,\"False\",\"T\",\"EveryTick\")","v":7265},-4.9989728138053824E-3,{"$f":"RTD(\"cqg.rtd\",,\"StudyData\", \"Close(\"&$D$12&\") when LocalYear(\"&$D$12&\")=\"&$D$4&\" and localMonth(\"&$D$12&\") =\"&$E$4&\" and LocalDay(\"&$D$12&\")=\"&$F$4&\" and Barix(\"&$D$12&\",reference:=StartOfSession)=\"&A46&\"\", \"Bar\", \"\", \"Close\",\"5\",\"0\",\"PrimaryOnly\",,,\"False\",\"T\",\"EveryTick\")","v":7300.75},6.8490805109414063E-5,{"$f":"RTD(\"cqg.rtd\",,\"StudyData\", \"Close(\"&$D$12&\") when LocalYear(\"&$D$12&\")=\"&$D$5&\" and localMonth(\"&$D$12&\") =\"&$E$5&\" and LocalDay(\"&$D$12&\")=\"&$F$5&\" and Barix(\"&$D$12&\",reference:=StartOfSession)=\"&A46&\"\", \"Bar\", \"\", \"Close\",\"5\",\"0\",\"PrimaryOnly\",,,\"False\",\"T\",\"EveryTick\")","v":7260.25},3.6980714730075344E-3,{"$f":"RTD(\"cqg.rtd\",,\"StudyData\", \"Close(\"&$D$12&\") when LocalYear(\"&$D$12&\")=\"&$D$6&\" and localMonth(\"&$D$12&\") =\"&$E$6&\" and LocalDay(\"&$D$12&\")=\"&$F$6&\" and Barix(\"&$D$12&\",reference:=StartOfSession)=\"&A46&\"\", \"Bar\", \"\", \"Close\",\"5\",\"0\",\"PrimaryOnly\",,,\"False\",\"T\",\"EveryTick\")","v":7220},1.3226677893555064E-2,{"$f":"RTD(\"cqg.rtd\",,\"StudyData\", \"Close(\"&$D$12&\") when LocalYear(\"&$D$12&\")=\"&$D$7&\" and localMonth(\"&$D$12&\") =\"&$E$7&\" and LocalDay(\"&$D$12&\")=\"&$F$7&\" and Barix(\"&$D$12&\",reference:=StartOfSession)=\"&A46&\"\", \"Bar\", \"\", \"Close\",\"5\",\"0\",\"PrimaryOnly\",,,\"False\",\"T\",\"EveryTick\")","v":7116.5},1.3205196654208934E-2,{"$f":"RTD(\"cqg.rtd\",,\"StudyData\", \"Close(\"&$D$12&\") when LocalYear(\"&$D$12&\")=\"&$D$8&\" and localMonth(\"&$D$12&\") =\"&$E$8&\" and LocalDay(\"&$D$12&\")=\"&$F$8&\" and Barix(\"&$D$12&\",reference:=StartOfSession)=\"&A46&\"\", \"Bar\", \"\", \"Close\",\"5\",\"0\",\"PrimaryOnly\",,,\"False\",\"T\",\"EveryTick\")","v":""},{"$error":"#N/A"},{"$f":"RTD(\"cqg.rtd\",,\"StudyData\", \"Close(\"&$D$12&\") when LocalYear(\"&$D$12&\")=\"&$D$9&\" and localMonth(\"&$D$12&\") =\"&$E$9&\" and LocalDay(\"&$D$12&\")=\"&$F$9&\" and Barix(\"&$D$12&\",reference:=StartOfSession)=\"&A46&\"\", \"Bar\", \"\", \"Close\",\"5\",\"0\",\"PrimaryOnly\",,,\"False\",\"T\",\"EveryTick\")","v":7034.25},-4.5990023702550675E-3,{"$f":"RTD(\"cqg.rtd\",,\"StudyData\", \"Close(\"&$D$12&\") when LocalYear(\"&$D$12&\")=\"&$D$10&\" and localMonth(\"&$D$12&\") =\"&$E$10&\" and LocalDay(\"&$D$12&\")=\"&$F$10&\" and Barix(\"&$D$12&\",reference:=StartOfSession)=\"&A46&\"\", \"Bar\", \"\", \"Close\",\"5\",\"0\",\"PrimaryOnly\",,,\"False\",\"T\",\"EveryTick\")","v":7095.25},4.9217477515756678E-3,null,null,null,""]
[46,"12:20:00",-31,{"$f":" RTD(\"cqg.rtd\",,\"StudyData\", $D$12,  \"Tick\", \"FlatTicks=0\", \"Tick\",\"D\",C47,\"PrimaryOnly\")","v":7403},null,null,null,{"$f":"RTD(\"cqg.rtd\",,\"StudyData\", \"Close(\"&$D$12&\") when LocalYear(\"&$D$12&\")=\"&$D$1&\" and localMonth(\"&$D$12&\") =\"&$E$1&\" and LocalDay(\"&$D$12&\")=\"&$F$1&\" and Barix(\"&$D$12&\",reference:=StartOfSession)=\"&A47&\"\", \"Bar\", \"\", \"Close\",\"5\",\"0\",\"PrimaryOnly\",,,\"False\",\"T\",\"EveryTick\")","v":""},{"$error":"#N/A"},{"$f":"RTD(\"cqg.rtd\",,\"StudyData\", \"Close(\"&$D$12&\") when LocalYear(\"&$D$12&\")=\"&$D$2&\" and localMonth(\"&$D$12&\") =\"&$E$2&\" and LocalDay(\"&$D$12&\")=\"&$F$2&\" and Barix(\"&$D$12&\",reference:=StartOfSession)=\"&A47&\"\", \"Bar\", \"\", \"Close\",\"5\",\"0\",\"PrimaryOnly\",,,\"False\",\"T\",\"EveryTick\")","v":7365.75},1.5440289505428226E-2,{"$f":"RTD(\"cqg.rtd\",,\"StudyData\", \"Close(\"&$D$12&\") when LocalYear(\"&$D$12&\")=\"&$D$3&\" and localMonth(\"&$D$12&\") =\"&$E$3&\" and LocalDay(\"&$D$12&\")=\"&$F$3&\" and Barix(\"&$D$12&\",reference:=StartOfSession)=\"&A47&\"\", \"Bar\", \"\", \"Close\",\"5\",\"0\",\"PrimaryOnly\",,,\"False\",\"T\",\"EveryTick\")","v":7276.75},-3.3897144422378963E-3,{"$f":"RTD(\"cqg.rtd\",,\"StudyData\", \"Close(\"&$D$12&\") when LocalYear(\"&$D$12&\")=\"&$D$4&\" and localMonth(\"&$D$12&\") =\"&$E$4&\" and LocalDay(\"&$D$12&\")=\"&$F$4&\" and Barix(\"&$D$12&\",reference:=StartOfSession)=\"&A47&\"\", \"Bar\", \"\", \"Close\",\"5\",\"0\",\"PrimaryOnly\",,,\"False\",\"T\",\"EveryTick\")","v":7299.25},-1.3698161021882813E-4,{"$f":"RTD(\"cqg.rtd\",,\"StudyData\", \"Close(\"&$D$12&\") when LocalYear(\"&$D$12&\")=\"&$D$5&\" and localMonth(\"&$D$12&\") =\"&$E$5&\" and LocalDay(\"&$D$12&\")=\"&$F$5&\" and Barix(\"&$D$12&\",reference:=StartOfSession)=\"&A47&\"\", \"Bar\", \"\", \"Close\",\"5\",\"0\",\"PrimaryOnly\",,,\"False\",\"T\",\"EveryTick\")","v":7266},4.4929840326259768E-3,{"$f":"RTD(\"cqg.rtd\",,\"StudyData\", \"Close(\"&$D$12&\") when LocalYear(\"&$D$12&\")=\"&$D$6&\" and localMonth(\"&$D$12&\") =\"&$E$6&\" and LocalDay(\"&$D$12&\")=\"&$F$6&\" and Barix(\"&$D$12&\",reference:=StartOfSession)=\"&A47&\"\", \"Bar\", \"\", \"Close\",\"5\",\"0\",\"PrimaryOnly\",,,\"False\",\"T\",\"EveryTick\")","v":7217.25},1.2840753604883697E-2,{"$f":"RTD(\"cqg.rtd\",,\"StudyData\", \"Close(\"&$D$12&\") when LocalYear(\"&$D$12&\")=\"&$D$7&\" and localMonth(\"&$D$12&\") =\"&$E$7&\" and LocalDay(\"&$D$12&\")=\"&$F$7&\" and Barix(\"&$D$12&\",reference:=StartOfSession)=\"&A47&\"\", \"Bar\", \"\", \"Close\",\"5\",\"0\",\"PrimaryOnly\",,,\"False\",\"T\",\"EveryTick\")","v":7113.25},1.2742480868481936E-2,{"$f":"RTD(\"cqg.rtd\",,\"StudyData\", \"Close(\"&$D$12&\") when LocalYear(\"&$D$12&\")=\"&$D$8&\" and localMonth(\"&$D$12&\") =\"&$E$8&\" and LocalDay(\"&$D$12&\")=\"&$F$8&\" and Barix(\"&$D$12&\",reference:=StartOfSession)=\"&A47&\"\", \"Bar\", \"\", \"Close\",\"5\",\"0\",\"PrimaryOnly\",,,\"False\",\"T\",\"EveryTick\")","v":""},{"$error":"#N/A"},{"$f":"RTD(\"cqg.rtd\",,\"StudyData\", \"Close(\"&$D$12&\") when LocalYear(\"&$D$12&\")=\"&$D$9&\" and localMonth(\"&$D$12&\") =\"&$E$9&\" and LocalDay(\"&$D$12&\")=\"&$F$9&\" and Barix(\"&$D$12&\",reference:=StartOfSession)=\"&A47&\"\", \"Bar\", \"\", \"Close\",\"5\",\"0\",\"PrimaryOnly\",,,\"False\",\"T\",\"EveryTick\")","v":7036.5},-4.2806098984681787E-3,{"$f":"RTD(\"cqg.rtd\",,\"StudyData\", \"Close(\"&$D$12&\") when LocalYear(\"&$D$12&\")=\"&$D$10&\" and localMonth(\"&$D$12&\") =\"&$E$10&\" and LocalDay(\"&$D$12&\")=\"&$F$10&\" and Barix(\"&$D$12&\",reference:=StartOfSession)=\"&A47&\"\", \"Bar\", \"\", \"Close\",\"5\",\"0\",\"PrimaryOnly\",,,\"False\",\"T\",\"EveryTick\")","v":7094.75},4.8509312371645069E-3,null,null,null,""]
[47,"12:25:00",-30,{"$f":" RTD(\"cqg.rtd\",,\"StudyData\", $D$12,  \"Tick\", \"FlatTicks=0\", \"Tick\",\"D\",C48,\"PrimaryOnly\")","v":7402.75},null,null,null,{"$f":"RTD(\"cqg.rtd\",,\"StudyData\", \"Close(\"&$D$12&\") when LocalYear(\"&$D$12&\")=\"&$D$1&\" and localMonth(\"&$D$12&\") =\"&$E$1&\" and LocalDay(\"&$D$12&\")=\"&$F$1&\" and Barix(\"&$D$12&\",reference:=StartOfSession)=\"&A48&\"\", \"Bar\", \"\", \"Close\",\"5\",\"0\",\"PrimaryOnly\",,,\"False\",\"T\",\"EveryTick\")","v":""},{"$error":"#N/A"},{"$f":"RTD(\"cqg.rtd\",,\"StudyData\", \"Close(\"&$D$12&\") when LocalYear(\"&$D$12&\")=\"&$D$2&\" and localMonth(\"&$D$12&\") =\"&$E$2&\" and LocalDay(\"&$D$12&\")=\"&$F$2&\" and Barix(\"&$D$12&\",reference:=StartOfSession)=\"&A48&\"\", \"Bar\", \"\", \"Close\",\"5\",\"0\",\"PrimaryOnly\",,,\"False\",\"T\",\"EveryTick\")","v":7372.75},1.6405307599517492E-2,{"$f":"RTD(\"cqg.rtd\",,\"StudyData\", \"Close(\"&$D$12&\") when LocalYear(\"&$D$12&\")=\"&$D$3&\" and localMonth(\"&$D$12&\") =\"&$E$3&\" and LocalDay(\"&$D$12&\")=\"&$F$3&\" and Barix(\"&$D$12&\",reference:=StartOfSession)=\"&A48&\"\", \"Bar\", \"\", \"Close\",\"5\",\"0\",\"PrimaryOnly\",,,\"False\",\"T\",\"EveryTick\")","v":7276.25},-3.458193521879066E-3,{"$f":"RTD(\"cqg.rtd\",,\"StudyData\", \"Close(\"&$D$12&\") when LocalYear(\"&$D$12&\")=\"&$D$4&\" and localMonth(\"&$D$12&\") =\"&$E$4&\" and LocalDay(\"&$D$12&\")=\"&$F$4&\" and Barix(\"&$D$12&\",reference:=StartOfSession)=\"&A48&\"\", \"Bar\", \"\", \"Close\",\"5\",\"0\",\"PrimaryOnly\",,,\"False\",\"T\",\"EveryTick\")","v":7295.75},-6.1641724598472658E-4,{"$f":"RTD(\"cqg.rtd\",,\"StudyData\", \"Close(\"&$D$12&\") when LocalYear(\"&$D$12&\")=\"&$D$5&\" and localMonth(\"&$D$12&\") =\"&$E$5&\" and LocalDay(\"&$D$12&\")=\"&$F$5&\" and Barix(\"&$D$12&\",reference:=StartOfSession)=\"&A48&\"\", \"Bar\", \"\", \"Close\",\"5\",\"0\",\"PrimaryOnly\",,,\"False\",\"T\",\"EveryTick\")","v":7267},4.6312296951683141E-3,{"$f":"RTD(\"cqg.rtd\",,\"StudyData\", \"Close(\"&$D$12&\") when LocalYear(\"&$D$12&\")=\"&$D$6&\" and localMonth(\"&$D$12&\") =\"&$E$6&\" and LocalDay(\"&$D$12&\")=\"&$F$6&\" and Barix(\"&$D$12&\",reference:=StartOfSession)=\"&A48&\"\", \"Bar\", \"\", \"Close\",\"5\",\"0\",\"PrimaryOnly\",,,\"False\",\"T\",\"EveryTick\")","v":7218.5},1.3016173736097954E-2,{"$f":"RTD(\"cqg.rtd\",,\"StudyData\", \"Close(\"&$D$12&\") when LocalYear(\"&$D$12&\")=\"&$D$7&\" and localMonth(\"&$D$12&\") =\"&$E$7&\" and LocalDay(\"&$D$12&\")=\"&$F$7&\" and Barix(\"&$D$12&\",reference:=StartOfSession)=\"&A48&\"\", \"Bar\", \"\", \"Close\",\"5\",\"0\",\"PrimaryOnly\",,,\"False\",\"T\",\"EveryTick\")","v":7112.75},1.2671293824523937E-2,{"$f":"RTD(\"cqg.rtd\",,\"StudyData\", \"Close(\"&$D$12&\") when LocalYear(\"&$D$12&\")=\"&$D$8&\" and localMonth(\"&$D$12&\") =\"&$E$8&\" and LocalDay(\"&$D$12&\")=\"&$F$8&\" and Barix(\"&$D$12&\",reference:=StartOfSession)=\"&A48&\"\", \"Bar\", \"\", \"Close\",\"5\",\"0\",\"PrimaryOnly\",,,\"False\",\"T\",\"EveryTick\")","v":""},{"$error":"#N/A"},{"$f":"RTD(\"cqg.rtd\",,\"StudyData\", \"Close(\"&$D$12&\") when LocalYear(\"&$D$12&\")=\"&$D$9&\" and localMonth(\"&$D$12&\") =\"&$E$9&\" and LocalDay(\"&$D$12&\")=\"&$F$9&\" and Barix(\"&$D$12&\",reference:=StartOfSession)=\"&A48&\"\", \"Bar\", \"\", \"Close\",\"5\",\"0\",\"PrimaryOnly\",,,\"False\",\"T\",\"EveryTick\")","v":7033.25},-4.7405101354936856E-3,{"$f":"RTD(\"cqg.rtd\",,\"StudyData\", \"Close(\"&$D$12&\") when LocalYear(\"&$D$12&\")=\"&$D$10&\" and localMonth(\"&$D$12&\") =\"&$E$10&\" and LocalDay(\"&$D$12&\")=\"&$F$10&\" and Barix(\"&$D$12&\",reference:=StartOfSession)=\"&A48&\"\", \"Bar\", \"\", \"Close\",\"5\",\"0\",\"PrimaryOnly\",,,\"False\",\"T\",\"EveryTick\")","v":7096},5.0279725231924081E-3,null,null,null,""]
[48,"12:30:00",-29,{"$f":" RTD(\"cqg.rtd\",,\"StudyData\", $D$12,  \"Tick\", \"FlatTicks=0\", \"Tick\",\"D\",C49,\"PrimaryOnly\")","v":7403},null,null,null,{"$f":"RTD(\"cqg.rtd\",,\"StudyData\", \"Close(\"&$D$12&\") when LocalYear(\"&$D$12&\")=\"&$D$1&\" and localMonth(\"&$D$12&\") =\"&$E$1&\" and LocalDay(\"&$D$12&\")=\"&$F$1&\" and Barix(\"&$D$12&\",reference:=StartOfSession)=\"&A49&\"\", \"Bar\", \"\", \"Close\",\"5\",\"0\",\"PrimaryOnly\",,,\"False\",\"T\",\"EveryTick\")","v":""},{"$error":"#N/A"},{"$f":"RTD(\"cqg.rtd\",,\"StudyData\", \"Close(\"&$D$12&\") when LocalYear(\"&$D$12&\")=\"&$D$2&\" and localMonth(\"&$D$12&\") =\"&$E$2&\" and LocalDay(\"&$D$12&\")=\"&$F$2&\" and Barix(\"&$D$12&\",reference:=StartOfSession)=\"&A49&\"\", \"Bar\", \"\", \"Close\",\"5\",\"0\",\"PrimaryOnly\",,,\"False\",\"T\",\"EveryTick\")","v":7368},1.5750473892814063E-2,{"$f":"RTD(\"cqg.rtd\",,\"StudyData\", \"Close(\"&$D$12&\") when LocalYear(\"&$D$12&\")=\"&$D$3&\" and localMonth(\"&$D$12&\") =\"&$E$3&\" and LocalDay(\"&$D$12&\")=\"&$F$3&\" and Barix(\"&$D$12&\",reference:=StartOfSession)=\"&A49&\"\", \"Bar\", \"\", \"Close\",\"5\",\"0\",\"PrimaryOnly\",,,\"False\",\"T\",\"EveryTick\")","v":7274.75},-3.6636307608025748E-3,{"$f":"RTD(\"cqg.rtd\",,\"StudyData\", \"Close(\"&$D$12&\") when LocalYear(\"&$D$12&\")=\"&$D$4&\" and localMonth(\"&$D$12&\") =\"&$E$4&\" and LocalDay(\"&$D$12&\")=\"&$F$4&\" and Barix(\"&$D$12&\",reference:=StartOfSession)=\"&A49&\"\", \"Bar\", \"\", \"Close\",\"5\",\"0\",\"PrimaryOnly\",,,\"False\",\"T\",\"EveryTick\")","v":7289.75},-1.4383069072976952E-3,{"$f":"RTD(\"cqg.rtd\",,\"StudyData\", \"Close(\"&$D$12&\") when LocalYear(\"&$D$12&\")=\"&$D$5&\" and localMonth(\"&$D$12&\") =\"&$E$5&\" and LocalDay(\"&$D$12&\")=\"&$F$5&\" and Barix(\"&$D$12&\",reference:=StartOfSession)=\"&A49&\"\", \"Bar\", \"\", \"Close\",\"5\",\"0\",\"PrimaryOnly\",,,\"False\",\"T\",\"EveryTick\")","v":7268.5},4.838598188981821E-3,{"$f":"RTD(\"cqg.rtd\",,\"StudyData\", \"Close(\"&$D$12&\") when LocalYear(\"&$D$12&\")=\"&$D$6&\" and localMonth(\"&$D$12&\") =\"&$E$6&\" and LocalDay(\"&$D$12&\")=\"&$F$6&\" and Barix(\"&$D$12&\",reference:=StartOfSession)=\"&A49&\"\", \"Bar\", \"\", \"Close\",\"5\",\"0\",\"PrimaryOnly\",,,\"False\",\"T\",\"EveryTick\")","v":7217.25},1.2840753604883697E-2,{"$f":"RTD(\"cqg.rtd\",,\"StudyData\", \"Close(\"&$D$12&\") when LocalYear(\"&$D$12&\")=\"&$D$7&\" and localMonth(\"&$D$12&\") =\"&$E$7&\" and LocalDay(\"&$D$12&\")=\"&$F$7&\" and Barix(\"&$D$12&\",reference:=StartOfSession)=\"&A49&\"\", \"Bar\", \"\", \"Close\",\"5\",\"0\",\"PrimaryOnly\",,,\"False\",\"T\",\"EveryTick\")","v":7108.5},1.2066203950880939E-2,{"$f":"RTD(\"cqg.rtd\",,\"StudyData\", \"Close(\"&$D$12&\") when LocalYear(\"&$D$12&\")=\"&$D$8&\" and localMonth(\"&$D$12&\") =\"&$E$8&\" and LocalDay(\"&$D$12&\")=\"&$F$8&\" and Barix(\"&$D$12&\",reference:=StartOfSession)=\"&A49&\"\", \"Bar\", \"\", \"Close\",\"5\",\"0\",\"PrimaryOnly\",,,\"False\",\"T\",\"EveryTick\")","v":""},{"$error":"#N/A"},{"$f":"RTD(\"cqg.rtd\",,\"StudyData\", \"Close(\"&$D$12&\") when LocalYear(\"&$D$12&\")=\"&$D$9&\" and localMonth(\"&$D$12&\") =\"&$E$9&\" and LocalDay(\"&$D$12&\")=\"&$F$9&\" and Barix(\"&$D$12&\",reference:=StartOfSession)=\"&A49&\"\", \"Bar\", \"\", \"Close\",\"5\",\"0\",\"PrimaryOnly\",,,\"False\",\"T\",\"EveryTick\")","v":7040.5},-3.7145788375137086E-3,{"$f":"RTD(\"cqg.rtd\",,\"StudyData\", \"Close(\"&$D$12&\") when LocalYear(\"&$D$12&\")=\"&$D$10&\" and localMonth(\"&$D$12&\") =\"&$E$10&\" and LocalDay(\"&$D$12&\")=\"&$F$10&\" and Barix(\"&$D$12&\",reference:=StartOfSession)=\"&A49&\"\", \"Bar\", \"\", \"Close\",\"5\",\"0\",\"PrimaryOnly\",,,\"False\",\"T\",\"EveryTick\")","v":7092.5},4.5322569223142841E-3,null,null,null,""]
[49,"12:35:00",-28,{"$f":" RTD(\"cqg.rtd\",,\"StudyData\", $D$12,  \"Tick\", \"FlatTicks=0\", \"Tick\",\"D\",C50,\"PrimaryOnly\")","v":7402.75},null,null,null,{"$f":"RTD(\"cqg.rtd\",,\"StudyData\", \"Close(\"&$D$12&\") when LocalYear(\"&$D$12&\")=\"&$D$1&\" and localMonth(\"&$D$12&\") =\"&$E$1&\" and LocalDay(\"&$D$12&\")=\"&$F$1&\" and Barix(\"&$D$12&\",reference:=StartOfSession)=\"&A50&\"\", \"Bar\", \"\", \"Close\",\"5\",\"0\",\"PrimaryOnly\",,,\"False\",\"T\",\"EveryTick\")","v":""},{"$error":"#N/A"},{"$f":"RTD(\"cqg.rtd\",,\"StudyData\", \"Close(\"&$D$12&\") when LocalYear(\"&$D$12&\")=\"&$D$2&\" and localMonth(\"&$D$12&\") =\"&$E$2&\" and LocalDay(\"&$D$12&\")=\"&$F$2&\" and Barix(\"&$D$12&\",reference:=StartOfSession)=\"&A50&\"\", \"Bar\", \"\", \"Close\",\"5\",\"0\",\"PrimaryOnly\",,,\"False\",\"T\",\"EveryTick\")","v":7373.5},1.6508702395312769E-2,{"$f":"RTD(\"cqg.rtd\",,\"StudyData\", \"Close(\"&$D$12&\") when LocalYear(\"&$D$12&\")=\"&$D$3&\" and localMonth(\"&$D$12&\") =\"&$E$3&\" and LocalDay(\"&$D$12&\")=\"&$F$3&\" and Barix(\"&$D$12&\",reference:=StartOfSession)=\"&A50&\"\", \"Bar\", \"\", \"Close\",\"5\",\"0\",\"PrimaryOnly\",,,\"False\",\"T\",\"EveryTick\")","v":7271.75},-4.0745052386495922E-3,{"$f":"RTD(\"cqg.rtd\",,\"StudyData\", \"Close(\"&$D$12&\") when LocalYear(\"&$D$12&\")=\"&$D$4&\" and localMonth(\"&$D$12&\") =\"&$E$4&\" and LocalDay(\"&$D$12&\")=\"&$F$4&\" and Barix(\"&$D$12&\",reference:=StartOfSession)=\"&A50&\"\", \"Bar\", \"\", \"Close\",\"5\",\"0\",\"PrimaryOnly\",,,\"False\",\"T\",\"EveryTick\")","v":7284},-2.2259511660559571E-3,{"$f":"RTD(\"cqg.rtd\",,\"StudyData\", \"Close(\"&$D$12&\") when LocalYear(\"&$D$12&\")=\"&$D$5&\" and localMonth(\"&$D$12&\") =\"&$E$5&\" and LocalDay(\"&$D$12&\")=\"&$F$5&\" and Barix(\"&$D$12&\",reference:=StartOfSession)=\"&A50&\"\", \"Bar\", \"\", \"Close\",\"5\",\"0\",\"PrimaryOnly\",,,\"False\",\"T\",\"EveryTick\")","v":7268.75},4.8731596046174049E-3,{"$f":"RTD(\"cqg.rtd\",,\"StudyData\", \"Close(\"&$D$12&\") when LocalYear(\"&$D$12&\")=\"&$D$6&\" and localMonth(\"&$D$12&\") =\"&$E$6&\" and LocalDay(\"&$D$12&\")=\"&$F$6&\" and Barix(\"&$D$12&\",reference:=StartOfSession)=\"&A50&\"\", \"Bar\", \"\", \"Close\",\"5\",\"0\",\"PrimaryOnly\",,,\"False\",\"T\",\"EveryTick\")","v":7218.75},1.3051257762340807E-2,{"$f":"RTD(\"cqg.rtd\",,\"StudyData\", \"Close(\"&$D$12&\") when LocalYear(\"&$D$12&\")=\"&$D$7&\" and localMonth(\"&$D$12&\") =\"&$E$7&\" and LocalDay(\"&$D$12&\")=\"&$F$7&\" and Barix(\"&$D$12&\",reference:=StartOfSession)=\"&A50&\"\", \"Bar\", \"\", \"Close\",\"5\",\"0\",\"PrimaryOnly\",,,\"False\",\"T\",\"EveryTick\")","v":7105.5},1.1639081687132942E-2,{"$f":"RTD(\"cqg.rtd\",,\"StudyData\", \"Close(\"&$D$12&\") when LocalYear(\"&$D$12&\")=\"&$D$8&\" and localMonth(\"&$D$12&\") =\"&$E$8&\" and LocalDay(\"&$D$12&\")=\"&$F$8&\" and Barix(\"&$D$12&\",reference:=StartOfSession)=\"&A50&\"\", \"Bar\", \"\", \"Close\",\"5\",\"0\",\"PrimaryOnly\",,,\"False\",\"T\",\"EveryTick\")","v":""},{"$error":"#N/A"},{"$f":"RTD(\"cqg.rtd\",,\"StudyData\", \"Close(\"&$D$12&\") when LocalYear(\"&$D$12&\")=\"&$D$9&\" and localMonth(\"&$D$12&\") =\"&$E$9&\" and LocalDay(\"&$D$12&\")=\"&$F$9&\" and Barix(\"&$D$12&\",reference:=StartOfSession)=\"&A50&\"\", \"Bar\", \"\", \"Close\",\"5\",\"0\",\"PrimaryOnly\",,,\"False\",\"T\",\"EveryTick\")","v":7046.5},-2.8655322460820038E-3,{"$f":"RTD(\"cqg.rtd\",,\"StudyData\", \"Close(\"&$D$12&\") when LocalYear(\"&$D$12&\")=\"&$D$10&\" and localMonth(\"&$D$12&\") =\"&$E$10&\" and LocalDay(\"&$D$12&\")=\"&$F$10&\" and Barix(\"&$D$12&\",reference:=StartOfSession)=\"&A50&\"\", \"Bar\", \"\", \"Close\",\"5\",\"0\",\"PrimaryOnly\",,,\"False\",\"T\",\"EveryTick\")","v":7093.5},4.6738899511366049E-3,null,null,null,""]
[50,"12:40:00",-27,{"$f":" RTD(\"cqg.rtd\",,\"StudyData\", $D$12,  \"Tick\", \"FlatTicks=0\", \"Tick\",\"D\",C51,\"PrimaryOnly\")","v":7403},null,null,null,{"$f":"RTD(\"cqg.rtd\",,\"StudyData\", \"Close(\"&$D$12&\") when LocalYear(\"&$D$12&\")=\"&$D$1&\" and localMonth(\"&$D$12&\") =\"&$E$1&\" and LocalDay(\"&$D$12&\")=\"&$F$1&\" and Barix(\"&$D$12&\",reference:=StartOfSession)=\"&A51&\"\", \"Bar\", \"\", \"Close\",\"5\",\"0\",\"PrimaryOnly\",,,\"False\",\"T\",\"EveryTick\")","v":""},{"$error":"#N/A"},{"$f":"RTD(\"cqg.rtd\",,\"StudyData\", \"Close(\"&$D$12&\") when LocalYear(\"&$D$12&\")=\"&$D$2&\" and localMonth(\"&$D$12&\") =\"&$E$2&\" and LocalDay(\"&$D$12&\")=\"&$F$2&\" and Barix(\"&$D$12&\",reference:=StartOfSession)=\"&A51&\"\", \"Bar\", \"\", \"Close\",\"5\",\"0\",\"PrimaryOnly\",,,\"False\",\"T\",\"EveryTick\")","v":7371.75},1.6267447871790453E-2,{"$f":"RTD(\"cqg.rtd\",,\"StudyData\", \"Close(\"&$D$12&\") when LocalYear(\"&$D$12&\")=\"&$D$3&\" and localMonth(\"&$D$12&\") =\"&$E$3&\" and LocalDay(\"&$D$12&\")=\"&$F$3&\" and Barix(\"&$D$12&\",reference:=StartOfSession)=\"&A51&\"\", \"Bar\", \"\", \"Close\",\"5\",\"0\",\"PrimaryOnly\",,,\"False\",\"T\",\"EveryTick\")","v":7272.25},-4.006026159008423E-3,{"$f":"RTD(\"cqg.rtd\",,\"StudyData\", \"Close(\"&$D$12&\") when LocalYear(\"&$D$12&\")=\"&$D$4&\" and localMonth(\"&$D$12&\") =\"&$E$4&\" and LocalDay(\"&$D$12&\")=\"&$F$4&\" and Barix(\"&$D$12&\",reference:=StartOfSession)=\"&A51&\"\", \"Bar\", \"\", \"Close\",\"5\",\"0\",\"PrimaryOnly\",,,\"False\",\"T\",\"EveryTick\")","v":7285.75},-1.9862333481730078E-3,{"$f":"RTD(\"cqg.rtd\",,\"StudyData\", \"Close(\"&$D$12&\") when LocalYear(\"&$D$12&\")=\"&$D$5&\" and localMonth(\"&$D$12&\") =\"&$E$5&\" and LocalDay(\"&$D$12&\")=\"&$F$5&\" and Barix(\"&$D$12&\",reference:=StartOfSession)=\"&A51&\"\", \"Bar\", \"\", \"Close\",\"5\",\"0\",\"PrimaryOnly\",,,\"False\",\"T\",\"EveryTick\")","v":7266.5},4.5621068638971455E-3,{"$f":"RTD(\"cqg.rtd\",,\"StudyData\", \"Close(\"&$D$12&\") when LocalYear(\"&$D$12&\")=\"&$D$6&\" and localMonth(\"&$D$12&\") =\"&$E$6&\" and LocalDay(\"&$D$12&\")=\"&$F$6&\" and Barix(\"&$D$12&\",reference:=StartOfSession)=\"&A51&\"\", \"Bar\", \"\", \"Close\",\"5\",\"0\",\"PrimaryOnly\",,,\"False\",\"T\",\"EveryTick\")","v":7216.75},1.2770585552397993E-2,{"$f":"RTD(\"cqg.rtd\",,\"StudyData\", \"Close(\"&$D$12&\") when LocalYear(\"&$D$12&\")=\"&$D$7&\" and localMonth(\"&$D$12&\") =\"&$E$7&\" and LocalDay(\"&$D$12&\")=\"&$F$7&\" and Barix(\"&$D$12&\",reference:=StartOfSession)=\"&A51&\"\", \"Bar\", \"\", \"Close\",\"5\",\"0\",\"PrimaryOnly\",,,\"False\",\"T\",\"EveryTick\")","v":7108.25},1.2030610428901941E-2,{"$f":"RTD(\"cqg.rtd\",,\"StudyData\", \"Close(\"&$D$12&\") when LocalYear(\"&$D$12&\")=\"&$D$8&\" and localMonth(\"&$D$12&\") =\"&$E$8&\" and LocalDay(\"&$D$12&\")=\"&$F$8&\" and Barix(\"&$D$12&\",reference:=StartOfSession)=\"&A51&\"\", \"Bar\", \"\", \"Close\",\"5\",\"0\",\"PrimaryOnly\",,,\"False\",\"T\",\"EveryTick\")","v":""},{"$error":"#N/A"},{"$f":"RTD(\"cqg.rtd\",,\"StudyData\", \"Close(\"&$D$12&\") when LocalYear(\"&$D$12&\")=\"&$D$9&\" and localMonth(\"&$D$12&\") =\"&$E$9&\" and LocalDay(\"&$D$12&\")=\"&$F$9&\" and Barix(\"&$D$12&\",reference:=StartOfSession)=\"&A51&\"\", \"Bar\", \"\", \"Close\",\"5\",\"0\",\"PrimaryOnly\",,,\"False\",\"T\",\"EveryTick\")","v":7053.25},-1.9103548307213359E-3,{"$f":"RTD(\"cqg.rtd\",,\"StudyData\", \"Close(\"&$D$12&\") when LocalYear(\"&$D$12&\")=\"&$D$10&\" and localMonth(\"&$D$12&\") =\"&$E$10&\" and LocalDay(\"&$D$12&\")=\"&$F$10&\" and Barix(\"&$D$12&\",reference:=StartOfSession)=\"&A51&\"\", \"Bar\", \"\", \"Close\",\"5\",\"0\",\"PrimaryOnly\",,,\"False\",\"T\",\"EveryTick\")","v":7102.25},5.9131789533319167E-3,null,null,null,""]
[51,"12:45:00",-26,{"$f":" RTD(\"cqg.rtd\",,\"StudyData\", $D$12,  \"Tick\", \"FlatTicks=0\", \"Tick\",\"D\",C52,\"PrimaryOnly\")","v":7402.75},null,null,null,{"$f":"RTD(\"cqg.rtd\",,\"StudyData\", \"Close(\"&$D$12&\") when LocalYear(\"&$D$12&\")=\"&$D$1&\" and localMonth(\"&$D$12&\") =\"&$E$1&\" and LocalDay(\"&$D$12&\")=\"&$F$1&\" and Barix(\"&$D$12&\",reference:=StartOfSession)=\"&A52&\"\", \"Bar\", \"\", \"Close\",\"5\",\"0\",\"PrimaryOnly\",,,\"False\",\"T\",\"EveryTick\")","v":""},{"$error":"#N/A"},{"$f":"RTD(\"cqg.rtd\",,\"StudyData\", \"Close(\"&$D$12&\") when LocalYear(\"&$D$12&\")=\"&$D$2&\" and localMonth(\"&$D$12&\") =\"&$E$2&\" and LocalDay(\"&$D$12&\")=\"&$F$2&\" and Barix(\"&$D$12&\",reference:=StartOfSession)=\"&A52&\"\", \"Bar\", \"\", \"Close\",\"5\",\"0\",\"PrimaryOnly\",,,\"False\",\"T\",\"EveryTick\")","v":7369.5},1.595726348440462E-2,{"$f":"RTD(\"cqg.rtd\",,\"StudyData\", \"Close(\"&$D$12&\") when LocalYear(\"&$D$12&\")=\"&$D$3&\" and localMonth(\"&$D$12&\") =\"&$E$3&\" and LocalDay(\"&$D$12&\")=\"&$F$3&\" and Barix(\"&$D$12&\",reference:=StartOfSession)=\"&A52&\"\", \"Bar\", \"\", \"Close\",\"5\",\"0\",\"PrimaryOnly\",,,\"False\",\"T\",\"EveryTick\")","v":7266.25},-4.8277751147024588E-3,{"$f":"RTD(\"cqg.rtd\",,\"StudyData\", \"Close(\"&$D$12&\") when LocalYear(\"&$D$12&\")=\"&$D$4&\" and localMonth(\"&$D$12&\") =\"&$E$4&\" and LocalDay(\"&$D$12&\")=\"&$F$4&\" and Barix(\"&$D$12&\",reference:=StartOfSession)=\"&A52&\"\", \"Bar\", \"\", \"Close\",\"5\",\"0\",\"PrimaryOnly\",,,\"False\",\"T\",\"EveryTick\")","v":7277.75},-3.0820862299236326E-3,{"$f":"RTD(\"cqg.rtd\",,\"StudyData\", \"Close(\"&$D$12&\") when LocalYear(\"&$D$12&\")=\"&$D$5&\" and localMonth(\"&$D$12&\") =\"&$E$5&\" and LocalDay(\"&$D$12&\")=\"&$F$5&\" and Barix(\"&$D$12&\",reference:=StartOfSession)=\"&A52&\"\", \"Bar\", \"\", \"Close\",\"5\",\"0\",\"PrimaryOnly\",,,\"False\",\"T\",\"EveryTick\")","v":7268.25},4.8040367733462363E-3,{"$f":"RTD(\"cqg.rtd\",,\"StudyData\", \"Close(\"&$D$12&\") when LocalYear(\"&$D$12&\")=\"&$D$6&\" and localMonth(\"&$D$12&\") =\"&$E$6&\" and LocalDay(\"&$D$12&\")=\"&$F$6&\" and Barix(\"&$D$12&\",reference:=StartOfSession)=\"&A52&\"\", \"Bar\", \"\", \"Close\",\"5\",\"0\",\"PrimaryOnly\",,,\"False\",\"T\",\"EveryTick\")","v":7217.25},1.2840753604883697E-2,{"$f":"RTD(\"cqg.rtd\",,\"StudyData\", \"Close(\"&$D$12&\") when LocalYear(\"&$D$12&\")=\"&$D$7&\" and localMonth(\"&$D$12&\") =\"&$E$7&\" and LocalDay(\"&$D$12&\")=\"&$F$7&\" and Barix(\"&$D$12&\",reference:=StartOfSession)=\"&A52&\"\", \"Bar\", \"\", \"Close\",\"5\",\"0\",\"PrimaryOnly\",,,\"False\",\"T\",\"EveryTick\")","v":7108},1.199501690692294E-2,{"$f":"RTD(\"cqg.rtd\",,\"StudyData\", \"Close(\"&$D$12&\") when LocalYear(\"&$D$12&\")=\"&$D$8&\" and localMonth(\"&$D$12&\") =\"&$E$8&\" and LocalDay(\"&$D$12&\")=\"&$F$8&\" and Barix(\"&$D$12&\",reference:=StartOfSession)=\"&A52&\"\", \"Bar\", \"\", \"Close\",\"5\",\"0\",\"PrimaryOnly\",,,\"False\",\"T\",\"EveryTick\")","v":""},{"$error":"#N/A"},{"$f":"RTD(\"cqg.rtd\",,\"StudyData\", \"Close(\"&$D$12&\") when LocalYear(\"&$D$12&\")=\"&$D$9&\" and localMonth(\"&$D$12&\") =\"&$E$9&\" and LocalDay(\"&$D$12&\")=\"&$F$9&\" and Barix(\"&$D$12&\",reference:=StartOfSession)=\"&A52&\"\", \"Bar\", \"\", \"Close\",\"5\",\"0\",\"PrimaryOnly\",,,\"False\",\"T\",\"EveryTick\")","v":7066.5},-3.537694130965437E-5,{"$f":"RTD(\"cqg.rtd\",,\"StudyData\", \"Close(\"&$D$12&\") when LocalYear(\"&$D$12&\")=\"&$D$10&\" and localMonth(\"&$D$12&\") =\"&$E$10&\" and LocalDay(\"&$D$12&\")=\"&$F$10&\" and Barix(\"&$D$12&\",reference:=StartOfSession)=\"&A52&\"\", \"Bar\", \"\", \"Close\",\"5\",\"0\",\"PrimaryOnly\",,,\"False\",\"T\",\"EveryTick\")","v":7099.25},5.4882798668649526E-3,null,null,null,""]
[52,"12:50:00",-25,{"$f":" RTD(\"cqg.rtd\",,\"StudyData\", $D$12,  \"Tick\", \"FlatTicks=0\", \"Tick\",\"D\",C53,\"PrimaryOnly\")","v":7403},null,null,null,{"$f":"RTD(\"cqg.rtd\",,\"StudyData\", \"Close(\"&$D$12&\") when LocalYear(\"&$D$12&\")=\"&$D$1&\" and localMonth(\"&$D$12&\") =\"&$E$1&\" and LocalDay(\"&$D$12&\")=\"&$F$1&\" and Barix(\"&$D$12&\",reference:=StartOfSession)=\"&A53&\"\", \"Bar\", \"\", \"Close\",\"5\",\"0\",\"PrimaryOnly\",,,\"False\",\"T\",\"EveryTick\")","v":""},{"$error":"#N/A"},{"$f":"RTD(\"cqg.rtd\",,\"StudyData\", \"Close(\"&$D$12&\") when LocalYear(\"&$D$12&\")=\"&$D$2&\" and localMonth(\"&$D$12&\") =\"&$E$2&\" and LocalDay(\"&$D$12&\")=\"&$F$2&\" and Barix(\"&$D$12&\",reference:=StartOfSession)=\"&A53&\"\", \"Bar\", \"\", \"Close\",\"5\",\"0\",\"PrimaryOnly\",,,\"False\",\"T\",\"EveryTick\")","v":7366.75},1.5578149233155264E-2,{"$f":"RTD(\"cqg.rtd\",,\"StudyData\", \"Close(\"&$D$12&\") when LocalYear(\"&$D$12&\")=\"&$D$3&\" and localMonth(\"&$D$12&\") =\"&$E$3&\" and LocalDay(\"&$D$12&\")=\"&$F$3&\" and Barix(\"&$D$12&\",reference:=StartOfSession)=\"&A53&\"\", \"Bar\", \"\", \"Close\",\"5\",\"0\",\"PrimaryOnly\",,,\"False\",\"T\",\"EveryTick\")","v":7261.75},-5.444086831472985E-3,{"$f":"RTD(\"cqg.rtd\",,\"StudyData\", \"Close(\"&$D$12&\") when LocalYear(\"&$D$12&\")=\"&$D$4&\" and localMonth(\"&$D$12&\") =\"&$E$4&\" and LocalDay(\"&$D$12&\")=\"&$F$4&\" and Barix(\"&$D$12&\",reference:=StartOfSession)=\"&A53&\"\", \"Bar\", \"\", \"Close\",\"5\",\"0\",\"PrimaryOnly\",,,\"False\",\"T\",\"EveryTick\")","v":7282},-2.4999143864936134E-3,{"$f":"RTD(\"cqg.rtd\",,\"StudyData\", \"Close(\"&$D$12&\") when LocalYear(\"&$D$12&\")=\"&$D$5&\" and localMonth(\"&$D$12&\") =\"&$E$5&\" and LocalDay(\"&$D$12&\")=\"&$F$5&\" and Barix(\"&$D$12&\",reference:=StartOfSession)=\"&A53&\"\", \"Bar\", \"\", \"Close\",\"5\",\"0\",\"PrimaryOnly\",,,\"False\",\"T\",\"EveryTick\")","v":7271.25},5.2187737609732492E-3,{"$f":"RTD(\"cqg.rtd\",,\"StudyData\", \"Close(\"&$D$12&\") when LocalYear(\"&$D$12&\")=\"&$D$6&\" and localMonth(\"&$D$12&\") =\"&$E$6&\" and LocalDay(\"&$D$12&\")=\"&$F$6&\" and Barix(\"&$D$12&\",reference:=StartOfSession)=\"&A53&\"\", \"Bar\", \"\", \"Close\",\"5\",\"0\",\"PrimaryOnly\",,,\"False\",\"T\",\"EveryTick\")","v":7219.75},1.3191593867312213E-2,{"$f":"RTD(\"cqg.rtd\",,\"StudyData\", \"Close(\"&$D$12&\") when LocalYear(\"&$D$12&\")=\"&$D$7&\" and localMonth(\"&$D$12&\") =\"&$E$7&\" and LocalDay(\"&$D$12&\")=\"&$F$7&\" and Barix(\"&$D$12&\",reference:=StartOfSession)=\"&A53&\"\", \"Bar\", \"\", \"Close\",\"5\",\"0\",\"PrimaryOnly\",,,\"False\",\"T\",\"EveryTick\")","v":7102.75},1.1247552945363944E-2,{"$f":"RTD(\"cqg.rtd\",,\"StudyData\", \"Close(\"&$D$12&\") when LocalYear(\"&$D$12&\")=\"&$D$8&\" and localMonth(\"&$D$12&\") =\"&$E$8&\" and LocalDay(\"&$D$12&\")=\"&$F$8&\" and Barix(\"&$D$12&\",reference:=StartOfSession)=\"&A53&\"\", \"Bar\", \"\", \"Close\",\"5\",\"0\",\"PrimaryOnly\",,,\"False\",\"T\",\"EveryTick\")","v":""},{"$error":"#N/A"},{"$f":"RTD(\"cqg.rtd\",,\"StudyData\", \"Close(\"&$D$12&\") when LocalYear(\"&$D$12&\")=\"&$D$9&\" and localMonth(\"&$D$12&\") =\"&$E$9&\" and LocalDay(\"&$D$12&\")=\"&$F$9&\" and Barix(\"&$D$12&\",reference:=StartOfSession)=\"&A53&\"\", \"Bar\", \"\", \"Close\",\"5\",\"0\",\"PrimaryOnly\",,,\"False\",\"T\",\"EveryTick\")","v":7068.75},2.8301553047723496E-4,{"$f":"RTD(\"cqg.rtd\",,\"StudyData\", \"Close(\"&$D$12&\") when LocalYear(\"&$D$12&\")=\"&$D$10&\" and localMonth(\"&$D$12&\") =\"&$E$10&\" and LocalDay(\"&$D$12&\")=\"&$F$10&\" and Barix(\"&$D$12&\",reference:=StartOfSession)=\"&A53&\"\", \"Bar\", \"\", \"Close\",\"5\",\"0\",\"PrimaryOnly\",,,\"False\",\"T\",\"EveryTick\")","v":7099.75},5.5590963812761135E-3,null,null,null,""]
[53,"12:55:00",-24,{"$f":" RTD(\"cqg.rtd\",,\"StudyData\", $D$12,  \"Tick\", \"FlatTicks=0\", \"Tick\",\"D\",C54,\"PrimaryOnly\")","v":7403.25},null,null,null,{"$f":"RTD(\"cqg.rtd\",,\"StudyData\", \"Close(\"&$D$12&\") when LocalYear(\"&$D$12&\")=\"&$D$1&\" and localMonth(\"&$D$12&\") =\"&$E$1&\" and LocalDay(\"&$D$12&\")=\"&$F$1&\" and Barix(\"&$D$12&\",reference:=StartOfSession)=\"&A54&\"\", \"Bar\", \"\", \"Close\",\"5\",\"0\",\"PrimaryOnly\",,,\"False\",\"T\",\"EveryTick\")","v":""},{"$error":"#N/A"},{"$f":"RTD(\"cqg.rtd\",,\"StudyData\", \"Close(\"&$D$12&\") when LocalYear(\"&$D$12&\")=\"&$D$2&\" and localMonth(\"&$D$12&\") =\"&$E$2&\" and LocalDay(\"&$D$12&\")=\"&$F$2&\" and Barix(\"&$D$12&\",reference:=StartOfSession)=\"&A54&\"\", \"Bar\", \"\", \"Close\",\"5\",\"0\",\"PrimaryOnly\",,,\"False\",\"T\",\"EveryTick\")","v":7362.75},1.5026710322247113E-2,{"$f":"RTD(\"cqg.rtd\",,\"StudyData\", \"Close(\"&$D$12&\") when LocalYear(\"&$D$12&\")=\"&$D$3&\" and localMonth(\"&$D$12&\") =\"&$E$3&\" and LocalDay(\"&$D$12&\")=\"&$F$3&\" and Barix(\"&$D$12&\",reference:=StartOfSession)=\"&A54&\"\", \"Bar\", \"\", \"Close\",\"5\",\"0\",\"PrimaryOnly\",,,\"False\",\"T\",\"EveryTick\")","v":7260.5},-5.6152845305759086E-3,{"$f":"RTD(\"cqg.rtd\",,\"StudyData\", \"Close(\"&$D$12&\") when LocalYear(\"&$D$12&\")=\"&$D$4&\" and localMonth(\"&$D$12&\") =\"&$E$4&\" and LocalDay(\"&$D$12&\")=\"&$F$4&\" and Barix(\"&$D$12&\",reference:=StartOfSession)=\"&A54&\"\", \"Bar\", \"\", \"Close\",\"5\",\"0\",\"PrimaryOnly\",,,\"False\",\"T\",\"EveryTick\")","v":7286.5},-1.8834971405088867E-3,{"$f":"RTD(\"cqg.rtd\",,\"StudyData\", \"Close(\"&$D$12&\") when LocalYear(\"&$D$12&\")=\"&$D$5&\" and localMonth(\"&$D$12&\") =\"&$E$5&\" and LocalDay(\"&$D$12&\")=\"&$F$5&\" and Barix(\"&$D$12&\",reference:=StartOfSession)=\"&A54&\"\", \"Bar\", \"\", \"Close\",\"5\",\"0\",\"PrimaryOnly\",,,\"False\",\"T\",\"EveryTick\")","v":7271.25},5.2187737609732492E-3,{"$f":"RTD(\"cqg.rtd\",,\"StudyData\", \"Close(\"&$D$12&\") when LocalYear(\"&$D$12&\")=\"&$D$6&\" and localMonth(\"&$D$12&\") =\"&$E$6&\" and LocalDay(\"&$D$12&\")=\"&$F$6&\" and Barix(\"&$D$12&\",reference:=StartOfSession)=\"&A54&\"\", \"Bar\", \"\", \"Close\",\"5\",\"0\",\"PrimaryOnly\",,,\"False\",\"T\",\"EveryTick\")","v":7218.25},1.2981089709855103E-2,{"$f":"RTD(\"cqg.rtd\",,\"StudyData\", \"Close(\"&$D$12&\") when LocalYear(\"&$D$12&\")=\"&$D$7&\" and localMonth(\"&$D$12&\") =\"&$E$7&\" and LocalDay(\"&$D$12&\")=\"&$F$7&\" and Barix(\"&$D$12&\",reference:=StartOfSession)=\"&A54&\"\", \"Bar\", \"\", \"Close\",\"5\",\"0\",\"PrimaryOnly\",,,\"False\",\"T\",\"EveryTick\")","v":7105.75},1.1674675209111942E-2,{"$f":"RTD(\"cqg.rtd\",,\"StudyData\", \"Close(\"&$D$12&\") when LocalYear(\"&$D$12&\")=\"&$D$8&\" and localMonth(\"&$D$12&\") =\"&$E$8&\" and LocalDay(\"&$D$12&\")=\"&$F$8&\" and Barix(\"&$D$12&\",reference:=StartOfSession)=\"&A54&\"\", \"Bar\", \"\", \"Close\",\"5\",\"0\",\"PrimaryOnly\",,,\"False\",\"T\",\"EveryTick\")","v":""},{"$error":"#N/A"},{"$f":"RTD(\"cqg.rtd\",,\"StudyData\", \"Close(\"&$D$12&\") when LocalYear(\"&$D$12&\")=\"&$D$9&\" and localMonth(\"&$D$12&\") =\"&$E$9&\" and LocalDay(\"&$D$12&\")=\"&$F$9&\" and Barix(\"&$D$12&\",reference:=StartOfSession)=\"&A54&\"\", \"Bar\", \"\", \"Close\",\"5\",\"0\",\"PrimaryOnly\",,,\"False\",\"T\",\"EveryTick\")","v":7070.25},4.9527717833516111E-4,{"$f":"RTD(\"cqg.rtd\",,\"StudyData\", \"Close(\"&$D$12&\") when LocalYear(\"&$D$12&\")=\"&$D$10&\" and localMonth(\"&$D$12&\") =\"&$E$10&\" and LocalDay(\"&$D$12&\")=\"&$F$10&\" and Barix(\"&$D$12&\",reference:=StartOfSession)=\"&A54&\"\", \"Bar\", \"\", \"Close\",\"5\",\"0\",\"PrimaryOnly\",,,\"False\",\"T\",\"EveryTick\")","v":7100.25},5.6299128956872743E-3,null,null,null,""]
[54,"13:00:00",-23,{"$f":" RTD(\"cqg.rtd\",,\"StudyData\", $D$12,  \"Tick\", \"FlatTicks=0\", \"Tick\",\"D\",C55,\"PrimaryOnly\")","v":7403},null,null,null,{"$f":"RTD(\"cqg.rtd\",,\"StudyData\", \"Close(\"&$D$12&\") when LocalYear(\"&$D$12&\")=\"&$D$1&\" and localMonth(\"&$D$12&\") =\"&$E$1&\" and LocalDay(\"&$D$12&\")=\"&$F$1&\" and Barix(\"&$D$12&\",reference:=StartOfSession)=\"&A55&\"\", \"Bar\", \"\", \"Close\",\"5\",\"0\",\"PrimaryOnly\",,,\"False\",\"T\",\"EveryTick\")","v":""},{"$error":"#N/A"},{"$f":"RTD(\"cqg.rtd\",,\"StudyData\", \"Close(\"&$D$12&\") when LocalYear(\"&$D$12&\")=\"&$D$2&\" and localMonth(\"&$D$12&\") =\"&$E$2&\" and LocalDay(\"&$D$12&\")=\"&$F$2&\" and Barix(\"&$D$12&\",reference:=StartOfSession)=\"&A55&\"\", \"Bar\", \"\", \"Close\",\"5\",\"0\",\"PrimaryOnly\",,,\"False\",\"T\",\"EveryTick\")","v":7362.5},1.4992245390315354E-2,{"$f":"RTD(\"cqg.rtd\",,\"StudyData\", \"Close(\"&$D$12&\") when LocalYear(\"&$D$12&\")=\"&$D$3&\" and localMonth(\"&$D$12&\") =\"&$E$3&\" and LocalDay(\"&$D$12&\")=\"&$F$3&\" and Barix(\"&$D$12&\",reference:=StartOfSession)=\"&A55&\"\", \"Bar\", \"\", \"Close\",\"5\",\"0\",\"PrimaryOnly\",,,\"False\",\"T\",\"EveryTick\")","v":7263},-5.2728891323700613E-3,{"$f":"RTD(\"cqg.rtd\",,\"StudyData\", \"Close(\"&$D$12&\") when LocalYear(\"&$D$12&\")=\"&$D$4&\" and localMonth(\"&$D$12&\") =\"&$E$4&\" and LocalDay(\"&$D$12&\")=\"&$F$4&\" and Barix(\"&$D$12&\",reference:=StartOfSession)=\"&A55&\"\", \"Bar\", \"\", \"Close\",\"5\",\"0\",\"PrimaryOnly\",,,\"False\",\"T\",\"EveryTick\")","v":7290.5},-1.3355706996335743E-3,{"$f":"RTD(\"cqg.rtd\",,\"StudyData\", \"Close(\"&$D$12&\") when LocalYear(\"&$D$12&\")=\"&$D$5&\" and localMonth(\"&$D$12&\") =\"&$E$5&\" and LocalDay(\"&$D$12&\")=\"&$F$5&\" and Barix(\"&$D$12&\",reference:=StartOfSession)=\"&A55&\"\", \"Bar\", \"\", \"Close\",\"5\",\"0\",\"PrimaryOnly\",,,\"False\",\"T\",\"EveryTick\")","v":7269.75},5.0114052671597431E-3,{"$f":"RTD(\"cqg.rtd\",,\"StudyData\", \"Close(\"&$D$12&\") when LocalYear(\"&$D$12&\")=\"&$D$6&\" and localMonth(\"&$D$12&\") =\"&$E$6&\" and LocalDay(\"&$D$12&\")=\"&$F$6&\" and Barix(\"&$D$12&\",reference:=StartOfSession)=\"&A55&\"\", \"Bar\", \"\", \"Close\",\"5\",\"0\",\"PrimaryOnly\",,,\"False\",\"T\",\"EveryTick\")","v":7217.75},1.2910921657369399E-2,{"$f":"RTD(\"cqg.rtd\",,\"StudyData\", \"Close(\"&$D$12&\") when LocalYear(\"&$D$12&\")=\"&$D$7&\" and localMonth(\"&$D$12&\") =\"&$E$7&\" and LocalDay(\"&$D$12&\")=\"&$F$7&\" and Barix(\"&$D$12&\",reference:=StartOfSession)=\"&A55&\"\", \"Bar\", \"\", \"Close\",\"5\",\"0\",\"PrimaryOnly\",,,\"False\",\"T\",\"EveryTick\")","v":7098.75},1.0678056593699947E-2,{"$f":"RTD(\"cqg.rtd\",,\"StudyData\", \"Close(\"&$D$12&\") when LocalYear(\"&$D$12&\")=\"&$D$8&\" and localMonth(\"&$D$12&\") =\"&$E$8&\" and LocalDay(\"&$D$12&\")=\"&$F$8&\" and Barix(\"&$D$12&\",reference:=StartOfSession)=\"&A55&\"\", \"Bar\", \"\", \"Close\",\"5\",\"0\",\"PrimaryOnly\",,,\"False\",\"T\",\"EveryTick\")","v":""},{"$error":"#N/A"},{"$f":"RTD(\"cqg.rtd\",,\"StudyData\", \"Close(\"&$D$12&\") when LocalYear(\"&$D$12&\")=\"&$D$9&\" and localMonth(\"&$D$12&\") =\"&$E$9&\" and LocalDay(\"&$D$12&\")=\"&$F$9&\" and Barix(\"&$D$12&\",reference:=StartOfSession)=\"&A55&\"\", \"Bar\", \"\", \"Close\",\"5\",\"0\",\"PrimaryOnly\",,,\"False\",\"T\",\"EveryTick\")","v":7077.25},1.4858315350054834E-3,{"$f":"RTD(\"cqg.rtd\",,\"StudyData\", \"Close(\"&$D$12&\") when LocalYear(\"&$D$12&\")=\"&$D$10&\" and localMonth(\"&$D$12&\") =\"&$E$10&\" and LocalDay(\"&$D$12&\")=\"&$F$10&\" and Barix(\"&$D$12&\",reference:=StartOfSession)=\"&A55&\"\", \"Bar\", \"\", \"Close\",\"5\",\"0\",\"PrimaryOnly\",,,\"False\",\"T\",\"EveryTick\")","v":7098.25},5.3466468380426319E-3,null,null,null,""]
[55,"13:05:00",-22,{"$f":" RTD(\"cqg.rtd\",,\"StudyData\", $D$12,  \"Tick\", \"FlatTicks=0\", \"Tick\",\"D\",C56,\"PrimaryOnly\")","v":7402.75},null,null,null,{"$f":"RTD(\"cqg.rtd\",,\"StudyData\", \"Close(\"&$D$12&\") when LocalYear(\"&$D$12&\")=\"&$D$1&\" and localMonth(\"&$D$12&\") =\"&$E$1&\" and LocalDay(\"&$D$12&\")=\"&$F$1&\" and Barix(\"&$D$12&\",reference:=StartOfSession)=\"&A56&\"\", \"Bar\", \"\", \"Close\",\"5\",\"0\",\"PrimaryOnly\",,,\"False\",\"T\",\"EveryTick\")","v":""},{"$error":"#N/A"},{"$f":"RTD(\"cqg.rtd\",,\"StudyData\", \"Close(\"&$D$12&\") when LocalYear(\"&$D$12&\")=\"&$D$2&\" and localMonth(\"&$D$12&\") =\"&$E$2&\" and LocalDay(\"&$D$12&\")=\"&$F$2&\" and Barix(\"&$D$12&\",reference:=StartOfSession)=\"&A56&\"\", \"Bar\", \"\", \"Close\",\"5\",\"0\",\"PrimaryOnly\",,,\"False\",\"T\",\"EveryTick\")","v":7357.75},1.4337411683611925E-2,{"$f":"RTD(\"cqg.rtd\",,\"StudyData\", \"Close(\"&$D$12&\") when LocalYear(\"&$D$12&\")=\"&$D$3&\" and localMonth(\"&$D$12&\") =\"&$E$3&\" and LocalDay(\"&$D$12&\")=\"&$F$3&\" and Barix(\"&$D$12&\",reference:=StartOfSession)=\"&A56&\"\", \"Bar\", \"\", \"Close\",\"5\",\"0\",\"PrimaryOnly\",,,\"False\",\"T\",\"EveryTick\")","v":7260.5},-5.6152845305759086E-3,{"$f":"RTD(\"cqg.rtd\",,\"StudyData\", \"Close(\"&$D$12&\") when LocalYear(\"&$D$12&\")=\"&$D$4&\" and localMonth(\"&$D$12&\") =\"&$E$4&\" and LocalDay(\"&$D$12&\")=\"&$F$4&\" and Barix(\"&$D$12&\",reference:=StartOfSession)=\"&A56&\"\", \"Bar\", \"\", \"Close\",\"5\",\"0\",\"PrimaryOnly\",,,\"False\",\"T\",\"EveryTick\")","v":7291.5},-1.1985890894147461E-3,{"$f":"RTD(\"cqg.rtd\",,\"StudyData\", \"Close(\"&$D$12&\") when LocalYear(\"&$D$12&\")=\"&$D$5&\" and localMonth(\"&$D$12&\") =\"&$E$5&\" and LocalDay(\"&$D$12&\")=\"&$F$5&\" and Barix(\"&$D$12&\",reference:=StartOfSession)=\"&A56&\"\", \"Bar\", \"\", \"Close\",\"5\",\"0\",\"PrimaryOnly\",,,\"False\",\"T\",\"EveryTick\")","v":7266.25},4.5275454482615607E-3,{"$f":"RTD(\"cqg.rtd\",,\"StudyData\", \"Close(\"&$D$12&\") when LocalYear(\"&$D$12&\")=\"&$D$6&\" and localMonth(\"&$D$12&\") =\"&$E$6&\" and LocalDay(\"&$D$12&\")=\"&$F$6&\" and Barix(\"&$D$12&\",reference:=StartOfSession)=\"&A56&\"\", \"Bar\", \"\", \"Close\",\"5\",\"0\",\"PrimaryOnly\",,,\"False\",\"T\",\"EveryTick\")","v":7218},1.2946005683612252E-2,{"$f":"RTD(\"cqg.rtd\",,\"StudyData\", \"Close(\"&$D$12&\") when LocalYear(\"&$D$12&\")=\"&$D$7&\" and localMonth(\"&$D$12&\") =\"&$E$7&\" and LocalDay(\"&$D$12&\")=\"&$F$7&\" and Barix(\"&$D$12&\",reference:=StartOfSession)=\"&A56&\"\", \"Bar\", \"\", \"Close\",\"5\",\"0\",\"PrimaryOnly\",,,\"False\",\"T\",\"EveryTick\")","v":7091.75},9.6814379782879517E-3,{"$f":"RTD(\"cqg.rtd\",,\"StudyData\", \"Close(\"&$D$12&\") when LocalYear(\"&$D$12&\")=\"&$D$8&\" and localMonth(\"&$D$12&\") =\"&$E$8&\" and LocalDay(\"&$D$12&\")=\"&$F$8&\" and Barix(\"&$D$12&\",reference:=StartOfSession)=\"&A56&\"\", \"Bar\", \"\", \"Close\",\"5\",\"0\",\"PrimaryOnly\",,,\"False\",\"T\",\"EveryTick\")","v":""},{"$error":"#N/A"},{"$f":"RTD(\"cqg.rtd\",,\"StudyData\", \"Close(\"&$D$12&\") when LocalYear(\"&$D$12&\")=\"&$D$9&\" and localMonth(\"&$D$12&\") =\"&$E$9&\" and LocalDay(\"&$D$12&\")=\"&$F$9&\" and Barix(\"&$D$12&\",reference:=StartOfSession)=\"&A56&\"\", \"Bar\", \"\", \"Close\",\"5\",\"0\",\"PrimaryOnly\",,,\"False\",\"T\",\"EveryTick\")","v":7080},1.8749778894116816E-3,{"$f":"RTD(\"cqg.rtd\",,\"StudyData\", \"Close(\"&$D$12&\") when LocalYear(\"&$D$12&\")=\"&$D$10&\" and localMonth(\"&$D$12&\") =\"&$E$10&\" and LocalDay(\"&$D$12&\")=\"&$F$10&\" and Barix(\"&$D$12&\",reference:=StartOfSession)=\"&A56&\"\", \"Bar\", \"\", \"Close\",\"5\",\"0\",\"PrimaryOnly\",,,\"False\",\"T\",\"EveryTick\")","v":7098.75},5.4174633524537918E-3,null,null,null,""]
[56,"13:10:00",-21,{"$f":" RTD(\"cqg.rtd\",,\"StudyData\", $D$12,  \"Tick\", \"FlatTicks=0\", \"Tick\",\"D\",C57,\"PrimaryOnly\")","v":7403},null,null,null,{"$f":"RTD(\"cqg.rtd\",,\"StudyData\", \"Close(\"&$D$12&\") when LocalYear(\"&$D$12&\")=\"&$D$1&\" and localMonth(\"&$D$12&\") =\"&$E$1&\" and LocalDay(\"&$D$12&\")=\"&$F$1&\" and Barix(\"&$D$12&\",reference:=StartOfSession)=\"&A57&\"\", \"Bar\", \"\", \"Close\",\"5\",\"0\",\"PrimaryOnly\",,,\"False\",\"T\",\"EveryTick\")","v":""},{"$error":"#N/A"},{"$f":"RTD(\"cqg.rtd\",,\"StudyData\", \"Close(\"&$D$12&\") when LocalYear(\"&$D$12&\")=\"&$D$2&\" and localMonth(\"&$D$12&\") =\"&$E$2&\" and LocalDay(\"&$D$12&\")=\"&$F$2&\" and Barix(\"&$D$12&\",reference:=StartOfSession)=\"&A57&\"\", \"Bar\", \"\", \"Close\",\"5\",\"0\",\"PrimaryOnly\",,,\"False\",\"T\",\"EveryTick\")","v":7363.5},1.5130105118042391E-2,{"$f":"RTD(\"cqg.rtd\",,\"StudyData\", \"Close(\"&$D$12&\") when LocalYear(\"&$D$12&\")=\"&$D$3&\" and localMonth(\"&$D$12&\") =\"&$E$3&\" and LocalDay(\"&$D$12&\")=\"&$F$3&\" and Barix(\"&$D$12&\",reference:=StartOfSession)=\"&A57&\"\", \"Bar\", \"\", \"Close\",\"5\",\"0\",\"PrimaryOnly\",,,\"False\",\"T\",\"EveryTick\")","v":7250.75},-6.9506265835787163E-3,{"$f":"RTD(\"cqg.rtd\",,\"StudyData\", \"Close(\"&$D$12&\") when LocalYear(\"&$D$12&\")=\"&$D$4&\" and localMonth(\"&$D$12&\") =\"&$E$4&\" and LocalDay(\"&$D$12&\")=\"&$F$4&\" and Barix(\"&$D$12&\",reference:=StartOfSession)=\"&A57&\"\", \"Bar\", \"\", \"Close\",\"5\",\"0\",\"PrimaryOnly\",,,\"False\",\"T\",\"EveryTick\")","v":7293.25},-9.5887127153179686E-4,{"$f":"RTD(\"cqg.rtd\",,\"StudyData\", \"Close(\"&$D$12&\") when LocalYear(\"&$D$12&\")=\"&$D$5&\" and localMonth(\"&$D$12&\") =\"&$E$5&\" and LocalDay(\"&$D$12&\")=\"&$F$5&\" and Barix(\"&$D$12&\",reference:=StartOfSession)=\"&A57&\"\", \"Bar\", \"\", \"Close\",\"5\",\"0\",\"PrimaryOnly\",,,\"False\",\"T\",\"EveryTick\")","v":7269.5},4.9768438515241584E-3,{"$f":"RTD(\"cqg.rtd\",,\"StudyData\", \"Close(\"&$D$12&\") when LocalYear(\"&$D$12&\")=\"&$D$6&\" and localMonth(\"&$D$12&\") =\"&$E$6&\" and LocalDay(\"&$D$12&\")=\"&$F$6&\" and Barix(\"&$D$12&\",reference:=StartOfSession)=\"&A57&\"\", \"Bar\", \"\", \"Close\",\"5\",\"0\",\"PrimaryOnly\",,,\"False\",\"T\",\"EveryTick\")","v":7219.25},1.3121425814826509E-2,{"$f":"RTD(\"cqg.rtd\",,\"StudyData\", \"Close(\"&$D$12&\") when LocalYear(\"&$D$12&\")=\"&$D$7&\" and localMonth(\"&$D$12&\") =\"&$E$7&\" and LocalDay(\"&$D$12&\")=\"&$F$7&\" and Barix(\"&$D$12&\",reference:=StartOfSession)=\"&A57&\"\", \"Bar\", \"\", \"Close\",\"5\",\"0\",\"PrimaryOnly\",,,\"False\",\"T\",\"EveryTick\")","v":7085.25},8.7560064068339556E-3,{"$f":"RTD(\"cqg.rtd\",,\"StudyData\", \"Close(\"&$D$12&\") when LocalYear(\"&$D$12&\")=\"&$D$8&\" and localMonth(\"&$D$12&\") =\"&$E$8&\" and LocalDay(\"&$D$12&\")=\"&$F$8&\" and Barix(\"&$D$12&\",reference:=StartOfSession)=\"&A57&\"\", \"Bar\", \"\", \"Close\",\"5\",\"0\",\"PrimaryOnly\",,,\"False\",\"T\",\"EveryTick\")","v":""},{"$error":"#N/A"},{"$f":"RTD(\"cqg.rtd\",,\"StudyData\", \"Close(\"&$D$12&\") when LocalYear(\"&$D$12&\")=\"&$D$9&\" and localMonth(\"&$D$12&\") =\"&$E$9&\" and LocalDay(\"&$D$12&\")=\"&$F$9&\" and Barix(\"&$D$12&\",reference:=StartOfSession)=\"&A57&\"\", \"Bar\", \"\", \"Close\",\"5\",\"0\",\"PrimaryOnly\",,,\"False\",\"T\",\"EveryTick\")","v":7084.75},2.5471397742951145E-3,{"$f":"RTD(\"cqg.rtd\",,\"StudyData\", \"Close(\"&$D$12&\") when LocalYear(\"&$D$12&\")=\"&$D$10&\" and localMonth(\"&$D$12&\") =\"&$E$10&\" and LocalDay(\"&$D$12&\")=\"&$F$10&\" and Barix(\"&$D$12&\",reference:=StartOfSession)=\"&A57&\"\", \"Bar\", \"\", \"Close\",\"5\",\"0\",\"PrimaryOnly\",,,\"False\",\"T\",\"EveryTick\")","v":7097.5},5.2404220664258906E-3,null,null,null,""]
[57,"13:15:00",-20,{"$f":" RTD(\"cqg.rtd\",,\"StudyData\", $D$12,  \"Tick\", \"FlatTicks=0\", \"Tick\",\"D\",C58,\"PrimaryOnly\")","v":7402.75},null,null,null,{"$f":"RTD(\"cqg.rtd\",,\"StudyData\", \"Close(\"&$D$12&\") when LocalYear(\"&$D$12&\")=\"&$D$1&\" and localMonth(\"&$D$12&\") =\"&$E$1&\" and LocalDay(\"&$D$12&\")=\"&$F$1&\" and Barix(\"&$D$12&\",reference:=StartOfSession)=\"&A58&\"\", \"Bar\", \"\", \"Close\",\"5\",\"0\",\"PrimaryOnly\",,,\"False\",\"T\",\"EveryTick\")","v":""},{"$error":"#N/A"},{"$f":"RTD(\"cqg.rtd\",,\"StudyData\", \"Close(\"&$D$12&\") when LocalYear(\"&$D$12&\")=\"&$D$2&\" and localMonth(\"&$D$12&\") =\"&$E$2&\" and LocalDay(\"&$D$12&\")=\"&$F$2&\" and Barix(\"&$D$12&\",reference:=StartOfSession)=\"&A58&\"\", \"Bar\", \"\", \"Close\",\"5\",\"0\",\"PrimaryOnly\",,,\"False\",\"T\",\"EveryTick\")","v":7367.75},1.5716008960882301E-2,{"$f":"RTD(\"cqg.rtd\",,\"StudyData\", \"Close(\"&$D$12&\") when LocalYear(\"&$D$12&\")=\"&$D$3&\" and localMonth(\"&$D$12&\") =\"&$E$3&\" and LocalDay(\"&$D$12&\")=\"&$F$3&\" and Barix(\"&$D$12&\",reference:=StartOfSession)=\"&A58&\"\", \"Bar\", \"\", \"Close\",\"5\",\"0\",\"PrimaryOnly\",,,\"False\",\"T\",\"EveryTick\")","v":7256},-6.2315962473464357E-3,{"$f":"RTD(\"cqg.rtd\",,\"StudyData\", \"Close(\"&$D$12&\") when LocalYear(\"&$D$12&\")=\"&$D$4&\" and localMonth(\"&$D$12&\") =\"&$E$4&\" and LocalDay(\"&$D$12&\")=\"&$F$4&\" and Barix(\"&$D$12&\",reference:=StartOfSession)=\"&A58&\"\", \"Bar\", \"\", \"Close\",\"5\",\"0\",\"PrimaryOnly\",,,\"False\",\"T\",\"EveryTick\")","v":7291},-1.2670798945241602E-3,{"$f":"RTD(\"cqg.rtd\",,\"StudyData\", \"Close(\"&$D$12&\") when LocalYear(\"&$D$12&\")=\"&$D$5&\" and localMonth(\"&$D$12&\") =\"&$E$5&\" and LocalDay(\"&$D$12&\")=\"&$F$5&\" and Barix(\"&$D$12&\",reference:=StartOfSession)=\"&A58&\"\", \"Bar\", \"\", \"Close\",\"5\",\"0\",\"PrimaryOnly\",,,\"False\",\"T\",\"EveryTick\")","v":7272.25},5.3570194235155874E-3,{"$f":"RTD(\"cqg.rtd\",,\"StudyData\", \"Close(\"&$D$12&\") when LocalYear(\"&$D$12&\")=\"&$D$6&\" and localMonth(\"&$D$12&\") =\"&$E$6&\" and LocalDay(\"&$D$12&\")=\"&$F$6&\" and Barix(\"&$D$12&\",reference:=StartOfSession)=\"&A58&\"\", \"Bar\", \"\", \"Close\",\"5\",\"0\",\"PrimaryOnly\",,,\"False\",\"T\",\"EveryTick\")","v":7218.25},1.2981089709855103E-2,{"$f":"RTD(\"cqg.rtd\",,\"StudyData\", \"Close(\"&$D$12&\") when LocalYear(\"&$D$12&\")=\"&$D$7&\" and localMonth(\"&$D$12&\") =\"&$E$7&\" and LocalDay(\"&$D$12&\")=\"&$F$7&\" and Barix(\"&$D$12&\",reference:=StartOfSession)=\"&A58&\"\", \"Bar\", \"\", \"Close\",\"5\",\"0\",\"PrimaryOnly\",,,\"False\",\"T\",\"EveryTick\")","v":7098},1.0571276027762947E-2,{"$f":"RTD(\"cqg.rtd\",,\"StudyData\", \"Close(\"&$D$12&\") when LocalYear(\"&$D$12&\")=\"&$D$8&\" and localMonth(\"&$D$12&\") =\"&$E$8&\" and LocalDay(\"&$D$12&\")=\"&$F$8&\" and Barix(\"&$D$12&\",reference:=StartOfSession)=\"&A58&\"\", \"Bar\", \"\", \"Close\",\"5\",\"0\",\"PrimaryOnly\",,,\"False\",\"T\",\"EveryTick\")","v":""},{"$error":"#N/A"},{"$f":"RTD(\"cqg.rtd\",,\"StudyData\", \"Close(\"&$D$12&\") when LocalYear(\"&$D$12&\")=\"&$D$9&\" and localMonth(\"&$D$12&\") =\"&$E$9&\" and LocalDay(\"&$D$12&\")=\"&$F$9&\" and Barix(\"&$D$12&\",reference:=StartOfSession)=\"&A58&\"\", \"Bar\", \"\", \"Close\",\"5\",\"0\",\"PrimaryOnly\",,,\"False\",\"T\",\"EveryTick\")","v":7091.75},3.5376941309654369E-3,{"$f":"RTD(\"cqg.rtd\",,\"StudyData\", \"Close(\"&$D$12&\") when LocalYear(\"&$D$12&\")=\"&$D$10&\" and localMonth(\"&$D$12&\") =\"&$E$10&\" and LocalDay(\"&$D$12&\")=\"&$F$10&\" and Barix(\"&$D$12&\",reference:=StartOfSession)=\"&A58&\"\", \"Bar\", \"\", \"Close\",\"5\",\"0\",\"PrimaryOnly\",,,\"False\",\"T\",\"EveryTick\")","v":7096.25},5.0633807803979886E-3,null,null,null,""]
[58,"13:20:00",{"$f":"C58+1","v":-19},{"$f":" RTD(\"cqg.rtd\",,\"StudyData\", $D$12,  \"Tick\", \"FlatTicks=0\", \"Tick\",\"D\",C59,\"PrimaryOnly\")","v":7403},null,null,null,{"$f":"RTD(\"cqg.rtd\",,\"StudyData\", \"Close(\"&$D$12&\") when LocalYear(\"&$D$12&\")=\"&$D$1&\" and localMonth(\"&$D$12&\") =\"&$E$1&\" and LocalDay(\"&$D$12&\")=\"&$F$1&\" and Barix(\"&$D$12&\",reference:=StartOfSession)=\"&A59&\"\", \"Bar\", \"\", \"Close\",\"5\",\"0\",\"PrimaryOnly\",,,\"False\",\"T\",\"EveryTick\")","v":""},{"$error":"#N/A"},{"$f":"RTD(\"cqg.rtd\",,\"StudyData\", \"Close(\"&$D$12&\") when LocalYear(\"&$D$12&\")=\"&$D$2&\" and localMonth(\"&$D$12&\") =\"&$E$2&\" and LocalDay(\"&$D$12&\")=\"&$F$2&\" and Barix(\"&$D$12&\",reference:=StartOfSession)=\"&A59&\"\", \"Bar\", \"\", \"Close\",\"5\",\"0\",\"PrimaryOnly\",,,\"False\",\"T\",\"EveryTick\")","v":7370},1.6026193348268138E-2,{"$f":"RTD(\"cqg.rtd\",,\"StudyData\", \"Close(\"&$D$12&\") when LocalYear(\"&$D$12&\")=\"&$D$3&\" and localMonth(\"&$D$12&\") =\"&$E$3&\" and LocalDay(\"&$D$12&\")=\"&$F$3&\" and Barix(\"&$D$12&\",reference:=StartOfSession)=\"&A59&\"\", \"Bar\", \"\", \"Close\",\"5\",\"0\",\"PrimaryOnly\",,,\"False\",\"T\",\"EveryTick\")","v":7263.75},-5.1701705129083061E-3,{"$f":"RTD(\"cqg.rtd\",,\"StudyData\", \"Close(\"&$D$12&\") when LocalYear(\"&$D$12&\")=\"&$D$4&\" and localMonth(\"&$D$12&\") =\"&$E$4&\" and LocalDay(\"&$D$12&\")=\"&$F$4&\" and Barix(\"&$D$12&\",reference:=StartOfSession)=\"&A59&\"\", \"Bar\", \"\", \"Close\",\"5\",\"0\",\"PrimaryOnly\",,,\"False\",\"T\",\"EveryTick\")","v":7291.5},-1.1985890894147461E-3,{"$f":"RTD(\"cqg.rtd\",,\"StudyData\", \"Close(\"&$D$12&\") when LocalYear(\"&$D$12&\")=\"&$D$5&\" and localMonth(\"&$D$12&\") =\"&$E$5&\" and LocalDay(\"&$D$12&\")=\"&$F$5&\" and Barix(\"&$D$12&\",reference:=StartOfSession)=\"&A59&\"\", \"Bar\", \"\", \"Close\",\"5\",\"0\",\"PrimaryOnly\",,,\"False\",\"T\",\"EveryTick\")","v":7270.75},5.1496509297020805E-3,{"$f":"RTD(\"cqg.rtd\",,\"StudyData\", \"Close(\"&$D$12&\") when LocalYear(\"&$D$12&\")=\"&$D$6&\" and localMonth(\"&$D$12&\") =\"&$E$6&\" and LocalDay(\"&$D$12&\")=\"&$F$6&\" and Barix(\"&$D$12&\",reference:=StartOfSession)=\"&A59&\"\", \"Bar\", \"\", \"Close\",\"5\",\"0\",\"PrimaryOnly\",,,\"False\",\"T\",\"EveryTick\")","v":7219.75},1.3191593867312213E-2,{"$f":"RTD(\"cqg.rtd\",,\"StudyData\", \"Close(\"&$D$12&\") when LocalYear(\"&$D$12&\")=\"&$D$7&\" and localMonth(\"&$D$12&\") =\"&$E$7&\" and LocalDay(\"&$D$12&\")=\"&$F$7&\" and Barix(\"&$D$12&\",reference:=StartOfSession)=\"&A59&\"\", \"Bar\", \"\", \"Close\",\"5\",\"0\",\"PrimaryOnly\",,,\"False\",\"T\",\"EveryTick\")","v":7094},1.000177967609895E-2,{"$f":"RTD(\"cqg.rtd\",,\"StudyData\", \"Close(\"&$D$12&\") when LocalYear(\"&$D$12&\")=\"&$D$8&\" and localMonth(\"&$D$12&\") =\"&$E$8&\" and LocalDay(\"&$D$12&\")=\"&$F$8&\" and Barix(\"&$D$12&\",reference:=StartOfSession)=\"&A59&\"\", \"Bar\", \"\", \"Close\",\"5\",\"0\",\"PrimaryOnly\",,,\"False\",\"T\",\"EveryTick\")","v":""},{"$error":"#N/A"},{"$f":"RTD(\"cqg.rtd\",,\"StudyData\", \"Close(\"&$D$12&\") when LocalYear(\"&$D$12&\")=\"&$D$9&\" and localMonth(\"&$D$12&\") =\"&$E$9&\" and LocalDay(\"&$D$12&\")=\"&$F$9&\" and Barix(\"&$D$12&\",reference:=StartOfSession)=\"&A59&\"\", \"Bar\", \"\", \"Close\",\"5\",\"0\",\"PrimaryOnly\",,,\"False\",\"T\",\"EveryTick\")","v":7092.5},3.6438249548944E-3,{"$f":"RTD(\"cqg.rtd\",,\"StudyData\", \"Close(\"&$D$12&\") when LocalYear(\"&$D$12&\")=\"&$D$10&\" and localMonth(\"&$D$12&\") =\"&$E$10&\" and LocalDay(\"&$D$12&\")=\"&$F$10&\" and Barix(\"&$D$12&\",reference:=StartOfSession)=\"&A59&\"\", \"Bar\", \"\", \"Close\",\"5\",\"0\",\"PrimaryOnly\",,,\"False\",\"T\",\"EveryTick\")","v":7098},5.3112385808370514E-3,null,null,null,""]
[59,"13:25:00",{"$f":"C59+1","v":-18},{"$f":" RTD(\"cqg.rtd\",,\"StudyData\", $D$12,  \"Tick\", \"FlatTicks=0\", \"Tick\",\"D\",C60,\"PrimaryOnly\")","v":7402.75},null,null,null,{"$f":"RTD(\"cqg.rtd\",,\"StudyData\", \"Close(\"&$D$12&\") when LocalYear(\"&$D$12&\")=\"&$D$1&\" and localMonth(\"&$D$12&\") =\"&$E$1&\" and LocalDay(\"&$D$12&\")=\"&$F$1&\" and Barix(\"&$D$12&\",reference:=StartOfSession)=\"&A60&\"\", \"Bar\", \"\", \"Close\",\"5\",\"0\",\"PrimaryOnly\",,,\"False\",\"T\",\"EveryTick\")","v":""},{"$error":"#N/A"},{"$f":"RTD(\"cqg.rtd\",,\"StudyData\", \"Close(\"&$D$12&\") when LocalYear(\"&$D$12&\")=\"&$D$2&\" and localMonth(\"&$D$12&\") =\"&$E$2&\" and LocalDay(\"&$D$12&\")=\"&$F$2&\" and Barix(\"&$D$12&\",reference:=StartOfSession)=\"&A60&\"\", \"Bar\", \"\", \"Close\",\"5\",\"0\",\"PrimaryOnly\",,,\"False\",\"T\",\"EveryTick\")","v":7371.25},1.6198518007926935E-2,{"$f":"RTD(\"cqg.rtd\",,\"StudyData\", \"Close(\"&$D$12&\") when LocalYear(\"&$D$12&\")=\"&$D$3&\" and localMonth(\"&$D$12&\") =\"&$E$3&\" and LocalDay(\"&$D$12&\")=\"&$F$3&\" and Barix(\"&$D$12&\",reference:=StartOfSession)=\"&A60&\"\", \"Bar\", \"\", \"Close\",\"5\",\"0\",\"PrimaryOnly\",,,\"False\",\"T\",\"EveryTick\")","v":7267.5},-4.6565774155995342E-3,{"$f":"RTD(\"cqg.rtd\",,\"StudyData\", \"Close(\"&$D$12&\") when LocalYear(\"&$D$12&\")=\"&$D$4&\" and localMonth(\"&$D$12&\") =\"&$E$4&\" and LocalDay(\"&$D$12&\")=\"&$F$4&\" and Barix(\"&$D$12&\",reference:=StartOfSession)=\"&A60&\"\", \"Bar\", \"\", \"Close\",\"5\",\"0\",\"PrimaryOnly\",,,\"False\",\"T\",\"EveryTick\")","v":7294.5},-7.8764425875826167E-4,{"$f":"RTD(\"cqg.rtd\",,\"StudyData\", \"Close(\"&$D$12&\") when LocalYear(\"&$D$12&\")=\"&$D$5&\" and localMonth(\"&$D$12&\") =\"&$E$5&\" and LocalDay(\"&$D$12&\")=\"&$F$5&\" and Barix(\"&$D$12&\",reference:=StartOfSession)=\"&A60&\"\", \"Bar\", \"\", \"Close\",\"5\",\"0\",\"PrimaryOnly\",,,\"False\",\"T\",\"EveryTick\")","v":7272.25},5.3570194235155874E-3,{"$f":"RTD(\"cqg.rtd\",,\"StudyData\", \"Close(\"&$D$12&\") when LocalYear(\"&$D$12&\")=\"&$D$6&\" and localMonth(\"&$D$12&\") =\"&$E$6&\" and LocalDay(\"&$D$12&\")=\"&$F$6&\" and Barix(\"&$D$12&\",reference:=StartOfSession)=\"&A60&\"\", \"Bar\", \"\", \"Close\",\"5\",\"0\",\"PrimaryOnly\",,,\"False\",\"T\",\"EveryTick\")","v":7220.25},1.3261761919797915E-2,{"$f":"RTD(\"cqg.rtd\",,\"StudyData\", \"Close(\"&$D$12&\") when LocalYear(\"&$D$12&\")=\"&$D$7&\" and localMonth(\"&$D$12&\") =\"&$E$7&\" and LocalDay(\"&$D$12&\")=\"&$F$7&\" and Barix(\"&$D$12&\",reference:=StartOfSession)=\"&A60&\"\", \"Bar\", \"\", \"Close\",\"5\",\"0\",\"PrimaryOnly\",,,\"False\",\"T\",\"EveryTick\")","v":7102},1.1140772379426945E-2,{"$f":"RTD(\"cqg.rtd\",,\"StudyData\", \"Close(\"&$D$12&\") when LocalYear(\"&$D$12&\")=\"&$D$8&\" and localMonth(\"&$D$12&\") =\"&$E$8&\" and LocalDay(\"&$D$12&\")=\"&$F$8&\" and Barix(\"&$D$12&\",reference:=StartOfSession)=\"&A60&\"\", \"Bar\", \"\", \"Close\",\"5\",\"0\",\"PrimaryOnly\",,,\"False\",\"T\",\"EveryTick\")","v":""},{"$error":"#N/A"},{"$f":"RTD(\"cqg.rtd\",,\"StudyData\", \"Close(\"&$D$12&\") when LocalYear(\"&$D$12&\")=\"&$D$9&\" and localMonth(\"&$D$12&\") =\"&$E$9&\" and LocalDay(\"&$D$12&\")=\"&$F$9&\" and Barix(\"&$D$12&\",reference:=StartOfSession)=\"&A60&\"\", \"Bar\", \"\", \"Close\",\"5\",\"0\",\"PrimaryOnly\",,,\"False\",\"T\",\"EveryTick\")","v":7095.5},4.0683482506102524E-3,{"$f":"RTD(\"cqg.rtd\",,\"StudyData\", \"Close(\"&$D$12&\") when LocalYear(\"&$D$12&\")=\"&$D$10&\" and localMonth(\"&$D$12&\") =\"&$E$10&\" and LocalDay(\"&$D$12&\")=\"&$F$10&\" and Barix(\"&$D$12&\",reference:=StartOfSession)=\"&A60&\"\", \"Bar\", \"\", \"Close\",\"5\",\"0\",\"PrimaryOnly\",,,\"False\",\"T\",\"EveryTick\")","v":7100.75},5.7007294100984351E-3,null,null,null,""]
[60,"13:30:00",-17,{"$f":" RTD(\"cqg.rtd\",,\"StudyData\", $D$12,  \"Tick\", \"FlatTicks=0\", \"Tick\",\"D\",C61,\"PrimaryOnly\")","v":7402.5},null,null,null,{"$f":"RTD(\"cqg.rtd\",,\"StudyData\", \"Close(\"&$D$12&\") when LocalYear(\"&$D$12&\")=\"&$D$1&\" and localMonth(\"&$D$12&\") =\"&$E$1&\" and LocalDay(\"&$D$12&\")=\"&$F$1&\" and Barix(\"&$D$12&\",reference:=StartOfSession)=\"&A61&\"\", \"Bar\", \"\", \"Close\",\"5\",\"0\",\"PrimaryOnly\",,,\"False\",\"T\",\"EveryTick\")","v":""},{"$error":"#N/A"},{"$f":"RTD(\"cqg.rtd\",,\"StudyData\", \"Close(\"&$D$12&\") when LocalYear(\"&$D$12&\")=\"&$D$2&\" and localMonth(\"&$D$12&\") =\"&$E$2&\" and LocalDay(\"&$D$12&\")=\"&$F$2&\" and Barix(\"&$D$12&\",reference:=StartOfSession)=\"&A61&\"\", \"Bar\", \"\", \"Close\",\"5\",\"0\",\"PrimaryOnly\",,,\"False\",\"T\",\"EveryTick\")","v":7371.75},1.6267447871790453E-2,{"$f":"RTD(\"cqg.rtd\",,\"StudyData\", \"Close(\"&$D$12&\") when LocalYear(\"&$D$12&\")=\"&$D$3&\" and localMonth(\"&$D$12&\") =\"&$E$3&\" and LocalDay(\"&$D$12&\")=\"&$F$3&\" and Barix(\"&$D$12&\",reference:=StartOfSession)=\"&A61&\"\", \"Bar\", \"\", \"Close\",\"5\",\"0\",\"PrimaryOnly\",,,\"False\",\"T\",\"EveryTick\")","v":7267.75},-4.6223378757789492E-3,{"$f":"RTD(\"cqg.rtd\",,\"StudyData\", \"Close(\"&$D$12&\") when LocalYear(\"&$D$12&\")=\"&$D$4&\" and localMonth(\"&$D$12&\") =\"&$E$4&\" and LocalDay(\"&$D$12&\")=\"&$F$4&\" and Barix(\"&$D$12&\",reference:=StartOfSession)=\"&A61&\"\", \"Bar\", \"\", \"Close\",\"5\",\"0\",\"PrimaryOnly\",,,\"False\",\"T\",\"EveryTick\")","v":7295.25},-6.8490805109414066E-4,{"$f":"RTD(\"cqg.rtd\",,\"StudyData\", \"Close(\"&$D$12&\") when LocalYear(\"&$D$12&\")=\"&$D$5&\" and localMonth(\"&$D$12&\") =\"&$E$5&\" and LocalDay(\"&$D$12&\")=\"&$F$5&\" and Barix(\"&$D$12&\",reference:=StartOfSession)=\"&A61&\"\", \"Bar\", \"\", \"Close\",\"5\",\"0\",\"PrimaryOnly\",,,\"False\",\"T\",\"EveryTick\")","v":7272},5.3224580078800026E-3,{"$f":"RTD(\"cqg.rtd\",,\"StudyData\", \"Close(\"&$D$12&\") when LocalYear(\"&$D$12&\")=\"&$D$6&\" and localMonth(\"&$D$12&\") =\"&$E$6&\" and LocalDay(\"&$D$12&\")=\"&$F$6&\" and Barix(\"&$D$12&\",reference:=StartOfSession)=\"&A61&\"\", \"Bar\", \"\", \"Close\",\"5\",\"0\",\"PrimaryOnly\",,,\"False\",\"T\",\"EveryTick\")","v":7219},1.3086341788583658E-2,{"$f":"RTD(\"cqg.rtd\",,\"StudyData\", \"Close(\"&$D$12&\") when LocalYear(\"&$D$12&\")=\"&$D$7&\" and localMonth(\"&$D$12&\") =\"&$E$7&\" and LocalDay(\"&$D$12&\")=\"&$F$7&\" and Barix(\"&$D$12&\",reference:=StartOfSession)=\"&A61&\"\", \"Bar\", \"\", \"Close\",\"5\",\"0\",\"PrimaryOnly\",,,\"False\",\"T\",\"EveryTick\")","v":7106.75},1.1817049297027942E-2,{"$f":"RTD(\"cqg.rtd\",,\"StudyData\", \"Close(\"&$D$12&\") when LocalYear(\"&$D$12&\")=\"&$D$8&\" and localMonth(\"&$D$12&\") =\"&$E$8&\" and LocalDay(\"&$D$12&\")=\"&$F$8&\" and Barix(\"&$D$12&\",reference:=StartOfSession)=\"&A61&\"\", \"Bar\", \"\", \"Close\",\"5\",\"0\",\"PrimaryOnly\",,,\"False\",\"T\",\"EveryTick\")","v":""},{"$error":"#N/A"},{"$f":"RTD(\"cqg.rtd\",,\"StudyData\", \"Close(\"&$D$12&\") when LocalYear(\"&$D$12&\")=\"&$D$9&\" and localMonth(\"&$D$12&\") =\"&$E$9&\" and LocalDay(\"&$D$12&\")=\"&$F$9&\" and Barix(\"&$D$12&\",reference:=StartOfSession)=\"&A61&\"\", \"Bar\", \"\", \"Close\",\"5\",\"0\",\"PrimaryOnly\",,,\"False\",\"T\",\"EveryTick\")","v":7097.5},4.3513637810874868E-3,{"$f":"RTD(\"cqg.rtd\",,\"StudyData\", \"Close(\"&$D$12&\") when LocalYear(\"&$D$12&\")=\"&$D$10&\" and localMonth(\"&$D$12&\") =\"&$E$10&\" and LocalDay(\"&$D$12&\")=\"&$F$10&\" and Barix(\"&$D$12&\",reference:=StartOfSession)=\"&A61&\"\", \"Bar\", \"\", \"Close\",\"5\",\"0\",\"PrimaryOnly\",,,\"False\",\"T\",\"EveryTick\")","v":7096.5},5.098789037603569E-3,null,null,null,""]
[61,"13:35:00",-16,{"$f":" RTD(\"cqg.rtd\",,\"StudyData\", $D$12,  \"Tick\", \"FlatTicks=0\", \"Tick\",\"D\",C62,\"PrimaryOnly\")","v":7402.25},null,null,null,{"$f":"RTD(\"cqg.rtd\",,\"StudyData\", \"Close(\"&$D$12&\") when LocalYear(\"&$D$12&\")=\"&$D$1&\" and localMonth(\"&$D$12&\") =\"&$E$1&\" and LocalDay(\"&$D$12&\")=\"&$F$1&\" and Barix(\"&$D$12&\",reference:=StartOfSession)=\"&A62&\"\", \"Bar\", \"\", \"Close\",\"5\",\"0\",\"PrimaryOnly\",,,\"False\",\"T\",\"EveryTick\")","v":""},{"$error":"#N/A"},{"$f":"RTD(\"cqg.rtd\",,\"StudyData\", \"Close(\"&$D$12&\") when LocalYear(\"&$D$12&\")=\"&$D$2&\" and localMonth(\"&$D$12&\") =\"&$E$2&\" and LocalDay(\"&$D$12&\")=\"&$F$2&\" and Barix(\"&$D$12&\",reference:=StartOfSession)=\"&A62&\"\", \"Bar\", \"\", \"Close\",\"5\",\"0\",\"PrimaryOnly\",,,\"False\",\"T\",\"EveryTick\")","v":7369.75},1.5991728416336379E-2,{"$f":"RTD(\"cqg.rtd\",,\"StudyData\", \"Close(\"&$D$12&\") when LocalYear(\"&$D$12&\")=\"&$D$3&\" and localMonth(\"&$D$12&\") =\"&$E$3&\" and LocalDay(\"&$D$12&\")=\"&$F$3&\" and Barix(\"&$D$12&\",reference:=StartOfSession)=\"&A62&\"\", \"Bar\", \"\", \"Close\",\"5\",\"0\",\"PrimaryOnly\",,,\"False\",\"T\",\"EveryTick\")","v":7269.25},-4.4169006368554404E-3,{"$f":"RTD(\"cqg.rtd\",,\"StudyData\", \"Close(\"&$D$12&\") when LocalYear(\"&$D$12&\")=\"&$D$4&\" and localMonth(\"&$D$12&\") =\"&$E$4&\" and LocalDay(\"&$D$12&\")=\"&$F$4&\" and Barix(\"&$D$12&\",reference:=StartOfSession)=\"&A62&\"\", \"Bar\", \"\", \"Close\",\"5\",\"0\",\"PrimaryOnly\",,,\"False\",\"T\",\"EveryTick\")","v":7296.25},-5.4792644087531251E-4,{"$f":"RTD(\"cqg.rtd\",,\"StudyData\", \"Close(\"&$D$12&\") when LocalYear(\"&$D$12&\")=\"&$D$5&\" and localMonth(\"&$D$12&\") =\"&$E$5&\" and LocalDay(\"&$D$12&\")=\"&$F$5&\" and Barix(\"&$D$12&\",reference:=StartOfSession)=\"&A62&\"\", \"Bar\", \"\", \"Close\",\"5\",\"0\",\"PrimaryOnly\",,,\"False\",\"T\",\"EveryTick\")","v":7273.5},5.5298265016935095E-3,{"$f":"RTD(\"cqg.rtd\",,\"StudyData\", \"Close(\"&$D$12&\") when LocalYear(\"&$D$12&\")=\"&$D$6&\" and localMonth(\"&$D$12&\") =\"&$E$6&\" and LocalDay(\"&$D$12&\")=\"&$F$6&\" and Barix(\"&$D$12&\",reference:=StartOfSession)=\"&A62&\"\", \"Bar\", \"\", \"Close\",\"5\",\"0\",\"PrimaryOnly\",,,\"False\",\"T\",\"EveryTick\")","v":7212.75},1.2209241132512367E-2,{"$f":"RTD(\"cqg.rtd\",,\"StudyData\", \"Close(\"&$D$12&\") when LocalYear(\"&$D$12&\")=\"&$D$7&\" and localMonth(\"&$D$12&\") =\"&$E$7&\" and LocalDay(\"&$D$12&\")=\"&$F$7&\" and Barix(\"&$D$12&\",reference:=StartOfSession)=\"&A62&\"\", \"Bar\", \"\", \"Close\",\"5\",\"0\",\"PrimaryOnly\",,,\"False\",\"T\",\"EveryTick\")","v":7103.75},1.1389927033279942E-2,{"$f":"RTD(\"cqg.rtd\",,\"StudyData\", \"Close(\"&$D$12&\") when LocalYear(\"&$D$12&\")=\"&$D$8&\" and localMonth(\"&$D$12&\") =\"&$E$8&\" and LocalDay(\"&$D$12&\")=\"&$F$8&\" and Barix(\"&$D$12&\",reference:=StartOfSession)=\"&A62&\"\", \"Bar\", \"\", \"Close\",\"5\",\"0\",\"PrimaryOnly\",,,\"False\",\"T\",\"EveryTick\")","v":""},{"$error":"#N/A"},{"$f":"RTD(\"cqg.rtd\",,\"StudyData\", \"Close(\"&$D$12&\") when LocalYear(\"&$D$12&\")=\"&$D$9&\" and localMonth(\"&$D$12&\") =\"&$E$9&\" and LocalDay(\"&$D$12&\")=\"&$F$9&\" and Barix(\"&$D$12&\",reference:=StartOfSession)=\"&A62&\"\", \"Bar\", \"\", \"Close\",\"5\",\"0\",\"PrimaryOnly\",,,\"False\",\"T\",\"EveryTick\")","v":7094.25},3.8914635440619803E-3,{"$f":"RTD(\"cqg.rtd\",,\"StudyData\", \"Close(\"&$D$12&\") when LocalYear(\"&$D$12&\")=\"&$D$10&\" and localMonth(\"&$D$12&\") =\"&$E$10&\" and LocalDay(\"&$D$12&\")=\"&$F$10&\" and Barix(\"&$D$12&\",reference:=StartOfSession)=\"&A62&\"\", \"Bar\", \"\", \"Close\",\"5\",\"0\",\"PrimaryOnly\",,,\"False\",\"T\",\"EveryTick\")","v":7094.5},4.8155229799589265E-3,null,null,null,""]
[62,"13:40:00",-15,{"$f":" RTD(\"cqg.rtd\",,\"StudyData\", $D$12,  \"Tick\", \"FlatTicks=0\", \"Tick\",\"D\",C63,\"PrimaryOnly\")","v":7402},null,null,null,{"$f":"RTD(\"cqg.rtd\",,\"StudyData\", \"Close(\"&$D$12&\") when LocalYear(\"&$D$12&\")=\"&$D$1&\" and localMonth(\"&$D$12&\") =\"&$E$1&\" and LocalDay(\"&$D$12&\")=\"&$F$1&\" and Barix(\"&$D$12&\",reference:=StartOfSession)=\"&A63&\"\", \"Bar\", \"\", \"Close\",\"5\",\"0\",\"PrimaryOnly\",,,\"False\",\"T\",\"EveryTick\")","v":""},{"$error":"#N/A"},{"$f":"RTD(\"cqg.rtd\",,\"StudyData\", \"Close(\"&$D$12&\") when LocalYear(\"&$D$12&\")=\"&$D$2&\" and localMonth(\"&$D$12&\") =\"&$E$2&\" and LocalDay(\"&$D$12&\")=\"&$F$2&\" and Barix(\"&$D$12&\",reference:=StartOfSession)=\"&A63&\"\", \"Bar\", \"\", \"Close\",\"5\",\"0\",\"PrimaryOnly\",,,\"False\",\"T\",\"EveryTick\")","v":7367.75},1.5716008960882301E-2,{"$f":"RTD(\"cqg.rtd\",,\"StudyData\", \"Close(\"&$D$12&\") when LocalYear(\"&$D$12&\")=\"&$D$3&\" and localMonth(\"&$D$12&\") =\"&$E$3&\" and LocalDay(\"&$D$12&\")=\"&$F$3&\" and Barix(\"&$D$12&\",reference:=StartOfSession)=\"&A63&\"\", \"Bar\", \"\", \"Close\",\"5\",\"0\",\"PrimaryOnly\",,,\"False\",\"T\",\"EveryTick\")","v":7273},-3.9033075395466686E-3,{"$f":"RTD(\"cqg.rtd\",,\"StudyData\", \"Close(\"&$D$12&\") when LocalYear(\"&$D$12&\")=\"&$D$4&\" and localMonth(\"&$D$12&\") =\"&$E$4&\" and LocalDay(\"&$D$12&\")=\"&$F$4&\" and Barix(\"&$D$12&\",reference:=StartOfSession)=\"&A63&\"\", \"Bar\", \"\", \"Close\",\"5\",\"0\",\"PrimaryOnly\",,,\"False\",\"T\",\"EveryTick\")","v":7293.25},-9.5887127153179686E-4,{"$f":"RTD(\"cqg.rtd\",,\"StudyData\", \"Close(\"&$D$12&\") when LocalYear(\"&$D$12&\")=\"&$D$5&\" and localMonth(\"&$D$12&\") =\"&$E$5&\" and LocalDay(\"&$D$12&\")=\"&$F$5&\" and Barix(\"&$D$12&\",reference:=StartOfSession)=\"&A63&\"\", \"Bar\", \"\", \"Close\",\"5\",\"0\",\"PrimaryOnly\",,,\"False\",\"T\",\"EveryTick\")","v":7276.5},5.9445634893205224E-3,{"$f":"RTD(\"cqg.rtd\",,\"StudyData\", \"Close(\"&$D$12&\") when LocalYear(\"&$D$12&\")=\"&$D$6&\" and localMonth(\"&$D$12&\") =\"&$E$6&\" and LocalDay(\"&$D$12&\")=\"&$F$6&\" and Barix(\"&$D$12&\",reference:=StartOfSession)=\"&A63&\"\", \"Bar\", \"\", \"Close\",\"5\",\"0\",\"PrimaryOnly\",,,\"False\",\"T\",\"EveryTick\")","v":7217},1.2805669578640844E-2,{"$f":"RTD(\"cqg.rtd\",,\"StudyData\", \"Close(\"&$D$12&\") when LocalYear(\"&$D$12&\")=\"&$D$7&\" and localMonth(\"&$D$12&\") =\"&$E$7&\" and LocalDay(\"&$D$12&\")=\"&$F$7&\" and Barix(\"&$D$12&\",reference:=StartOfSession)=\"&A63&\"\", \"Bar\", \"\", \"Close\",\"5\",\"0\",\"PrimaryOnly\",,,\"False\",\"T\",\"EveryTick\")","v":7101.5},1.1069585335468944E-2,{"$f":"RTD(\"cqg.rtd\",,\"StudyData\", \"Close(\"&$D$12&\") when LocalYear(\"&$D$12&\")=\"&$D$8&\" and localMonth(\"&$D$12&\") =\"&$E$8&\" and LocalDay(\"&$D$12&\")=\"&$F$8&\" and Barix(\"&$D$12&\",reference:=StartOfSession)=\"&A63&\"\", \"Bar\", \"\", \"Close\",\"5\",\"0\",\"PrimaryOnly\",,,\"False\",\"T\",\"EveryTick\")","v":""},{"$error":"#N/A"},{"$f":"RTD(\"cqg.rtd\",,\"StudyData\", \"Close(\"&$D$12&\") when LocalYear(\"&$D$12&\")=\"&$D$9&\" and localMonth(\"&$D$12&\") =\"&$E$9&\" and LocalDay(\"&$D$12&\")=\"&$F$9&\" and Barix(\"&$D$12&\",reference:=StartOfSession)=\"&A63&\"\", \"Bar\", \"\", \"Close\",\"5\",\"0\",\"PrimaryOnly\",,,\"False\",\"T\",\"EveryTick\")","v":7092.25},3.6084480135847455E-3,{"$f":"RTD(\"cqg.rtd\",,\"StudyData\", \"Close(\"&$D$12&\") when LocalYear(\"&$D$12&\")=\"&$D$10&\" and localMonth(\"&$D$12&\") =\"&$E$10&\" and LocalDay(\"&$D$12&\")=\"&$F$10&\" and Barix(\"&$D$12&\",reference:=StartOfSession)=\"&A63&\"\", \"Bar\", \"\", \"Close\",\"5\",\"0\",\"PrimaryOnly\",,,\"False\",\"T\",\"EveryTick\")","v":7094.25},4.7801147227533461E-3,null,null,null,""]
[63,"13:45:00",-14,{"$f":" RTD(\"cqg.rtd\",,\"StudyData\", $D$12,  \"Tick\", \"FlatTicks=0\", \"Tick\",\"D\",C64,\"PrimaryOnly\")","v":7402.25},null,null,null,{"$f":"RTD(\"cqg.rtd\",,\"StudyData\", \"Close(\"&$D$12&\") when LocalYear(\"&$D$12&\")=\"&$D$1&\" and localMonth(\"&$D$12&\") =\"&$E$1&\" and LocalDay(\"&$D$12&\")=\"&$F$1&\" and Barix(\"&$D$12&\",reference:=StartOfSession)=\"&A64&\"\", \"Bar\", \"\", \"Close\",\"5\",\"0\",\"PrimaryOnly\",,,\"False\",\"T\",\"EveryTick\")","v":""},{"$error":"#N/A"},{"$f":"RTD(\"cqg.rtd\",,\"StudyData\", \"Close(\"&$D$12&\") when LocalYear(\"&$D$12&\")=\"&$D$2&\" and localMonth(\"&$D$12&\") =\"&$E$2&\" and LocalDay(\"&$D$12&\")=\"&$F$2&\" and Barix(\"&$D$12&\",reference:=StartOfSession)=\"&A64&\"\", \"Bar\", \"\", \"Close\",\"5\",\"0\",\"PrimaryOnly\",,,\"False\",\"T\",\"EveryTick\")","v":7369},1.5888333620541099E-2,{"$f":"RTD(\"cqg.rtd\",,\"StudyData\", \"Close(\"&$D$12&\") when LocalYear(\"&$D$12&\")=\"&$D$3&\" and localMonth(\"&$D$12&\") =\"&$E$3&\" and LocalDay(\"&$D$12&\")=\"&$F$3&\" and Barix(\"&$D$12&\",reference:=StartOfSession)=\"&A64&\"\", \"Bar\", \"\", \"Close\",\"5\",\"0\",\"PrimaryOnly\",,,\"False\",\"T\",\"EveryTick\")","v":7269.75},-4.3484215572142711E-3,{"$f":"RTD(\"cqg.rtd\",,\"StudyData\", \"Close(\"&$D$12&\") when LocalYear(\"&$D$12&\")=\"&$D$4&\" and localMonth(\"&$D$12&\") =\"&$E$4&\" and LocalDay(\"&$D$12&\")=\"&$F$4&\" and Barix(\"&$D$12&\",reference:=StartOfSession)=\"&A64&\"\", \"Bar\", \"\", \"Close\",\"5\",\"0\",\"PrimaryOnly\",,,\"False\",\"T\",\"EveryTick\")","v":7298},-3.0820862299236329E-4,{"$f":"RTD(\"cqg.rtd\",,\"StudyData\", \"Close(\"&$D$12&\") when LocalYear(\"&$D$12&\")=\"&$D$5&\" and localMonth(\"&$D$12&\") =\"&$E$5&\" and LocalDay(\"&$D$12&\")=\"&$F$5&\" and Barix(\"&$D$12&\",reference:=StartOfSession)=\"&A64&\"\", \"Bar\", \"\", \"Close\",\"5\",\"0\",\"PrimaryOnly\",,,\"False\",\"T\",\"EveryTick\")","v":7275.25},5.7717564111426003E-3,{"$f":"RTD(\"cqg.rtd\",,\"StudyData\", \"Close(\"&$D$12&\") when LocalYear(\"&$D$12&\")=\"&$D$6&\" and localMonth(\"&$D$12&\") =\"&$E$6&\" and LocalDay(\"&$D$12&\")=\"&$F$6&\" and Barix(\"&$D$12&\",reference:=StartOfSession)=\"&A64&\"\", \"Bar\", \"\", \"Close\",\"5\",\"0\",\"PrimaryOnly\",,,\"False\",\"T\",\"EveryTick\")","v":7220},1.3226677893555064E-2,{"$f":"RTD(\"cqg.rtd\",,\"StudyData\", \"Close(\"&$D$12&\") when LocalYear(\"&$D$12&\")=\"&$D$7&\" and localMonth(\"&$D$12&\") =\"&$E$7&\" and LocalDay(\"&$D$12&\")=\"&$F$7&\" and Barix(\"&$D$12&\",reference:=StartOfSession)=\"&A64&\"\", \"Bar\", \"\", \"Close\",\"5\",\"0\",\"PrimaryOnly\",,,\"False\",\"T\",\"EveryTick\")","v":7105.25},1.1603488165153941E-2,{"$f":"RTD(\"cqg.rtd\",,\"StudyData\", \"Close(\"&$D$12&\") when LocalYear(\"&$D$12&\")=\"&$D$8&\" and localMonth(\"&$D$12&\") =\"&$E$8&\" and LocalDay(\"&$D$12&\")=\"&$F$8&\" and Barix(\"&$D$12&\",reference:=StartOfSession)=\"&A64&\"\", \"Bar\", \"\", \"Close\",\"5\",\"0\",\"PrimaryOnly\",,,\"False\",\"T\",\"EveryTick\")","v":""},{"$error":"#N/A"},{"$f":"RTD(\"cqg.rtd\",,\"StudyData\", \"Close(\"&$D$12&\") when LocalYear(\"&$D$12&\")=\"&$D$9&\" and localMonth(\"&$D$12&\") =\"&$E$9&\" and LocalDay(\"&$D$12&\")=\"&$F$9&\" and Barix(\"&$D$12&\",reference:=StartOfSession)=\"&A64&\"\", \"Bar\", \"\", \"Close\",\"5\",\"0\",\"PrimaryOnly\",,,\"False\",\"T\",\"EveryTick\")","v":7086.5},2.7947783634626952E-3,{"$f":"RTD(\"cqg.rtd\",,\"StudyData\", \"Close(\"&$D$12&\") when LocalYear(\"&$D$12&\")=\"&$D$10&\" and localMonth(\"&$D$12&\") =\"&$E$10&\" and LocalDay(\"&$D$12&\")=\"&$F$10&\" and Barix(\"&$D$12&\",reference:=StartOfSession)=\"&A64&\"\", \"Bar\", \"\", \"Close\",\"5\",\"0\",\"PrimaryOnly\",,,\"False\",\"T\",\"EveryTick\")","v":7097.75},5.275830323631471E-3,null,null,null,""]
[64,"13:50:00",-13,{"$f":" RTD(\"cqg.rtd\",,\"StudyData\", $D$12,  \"Tick\", \"FlatTicks=0\", \"Tick\",\"D\",C65,\"PrimaryOnly\")","v":7402.5},null,null,null,{"$f":"RTD(\"cqg.rtd\",,\"StudyData\", \"Close(\"&$D$12&\") when LocalYear(\"&$D$12&\")=\"&$D$1&\" and localMonth(\"&$D$12&\") =\"&$E$1&\" and LocalDay(\"&$D$12&\")=\"&$F$1&\" and Barix(\"&$D$12&\",reference:=StartOfSession)=\"&A65&\"\", \"Bar\", \"\", \"Close\",\"5\",\"0\",\"PrimaryOnly\",,,\"False\",\"T\",\"EveryTick\")","v":""},{"$error":"#N/A"},{"$f":"RTD(\"cqg.rtd\",,\"StudyData\", \"Close(\"&$D$12&\") when LocalYear(\"&$D$12&\")=\"&$D$2&\" and localMonth(\"&$D$12&\") =\"&$E$2&\" and LocalDay(\"&$D$12&\")=\"&$F$2&\" and Barix(\"&$D$12&\",reference:=StartOfSession)=\"&A65&\"\", \"Bar\", \"\", \"Close\",\"5\",\"0\",\"PrimaryOnly\",,,\"False\",\"T\",\"EveryTick\")","v":7373.75},1.6543167327244528E-2,{"$f":"RTD(\"cqg.rtd\",,\"StudyData\", \"Close(\"&$D$12&\") when LocalYear(\"&$D$12&\")=\"&$D$3&\" and localMonth(\"&$D$12&\") =\"&$E$3&\" and LocalDay(\"&$D$12&\")=\"&$F$3&\" and Barix(\"&$D$12&\",reference:=StartOfSession)=\"&A65&\"\", \"Bar\", \"\", \"Close\",\"5\",\"0\",\"PrimaryOnly\",,,\"False\",\"T\",\"EveryTick\")","v":7271.5},-4.1087447784701773E-3,{"$f":"RTD(\"cqg.rtd\",,\"StudyData\", \"Close(\"&$D$12&\") when LocalYear(\"&$D$12&\")=\"&$D$4&\" and localMonth(\"&$D$12&\") =\"&$E$4&\" and LocalDay(\"&$D$12&\")=\"&$F$4&\" and Barix(\"&$D$12&\",reference:=StartOfSession)=\"&A65&\"\", \"Bar\", \"\", \"Close\",\"5\",\"0\",\"PrimaryOnly\",,,\"False\",\"T\",\"EveryTick\")","v":7297},-4.4519023321119139E-4,{"$f":"RTD(\"cqg.rtd\",,\"StudyData\", \"Close(\"&$D$12&\") when LocalYear(\"&$D$12&\")=\"&$D$5&\" and localMonth(\"&$D$12&\") =\"&$E$5&\" and LocalDay(\"&$D$12&\")=\"&$F$5&\" and Barix(\"&$D$12&\",reference:=StartOfSession)=\"&A65&\"\", \"Bar\", \"\", \"Close\",\"5\",\"0\",\"PrimaryOnly\",,,\"False\",\"T\",\"EveryTick\")","v":7278},6.1519319831340293E-3,{"$f":"RTD(\"cqg.rtd\",,\"StudyData\", \"Close(\"&$D$12&\") when LocalYear(\"&$D$12&\")=\"&$D$6&\" and localMonth(\"&$D$12&\") =\"&$E$6&\" and LocalDay(\"&$D$12&\")=\"&$F$6&\" and Barix(\"&$D$12&\",reference:=StartOfSession)=\"&A65&\"\", \"Bar\", \"\", \"Close\",\"5\",\"0\",\"PrimaryOnly\",,,\"False\",\"T\",\"EveryTick\")","v":7221.25},1.3402098024769323E-2,{"$f":"RTD(\"cqg.rtd\",,\"StudyData\", \"Close(\"&$D$12&\") when LocalYear(\"&$D$12&\")=\"&$D$7&\" and localMonth(\"&$D$12&\") =\"&$E$7&\" and LocalDay(\"&$D$12&\")=\"&$F$7&\" and Barix(\"&$D$12&\",reference:=StartOfSession)=\"&A65&\"\", \"Bar\", \"\", \"Close\",\"5\",\"0\",\"PrimaryOnly\",,,\"False\",\"T\",\"EveryTick\")","v":7106.75},1.1817049297027942E-2,{"$f":"RTD(\"cqg.rtd\",,\"StudyData\", \"Close(\"&$D$12&\") when LocalYear(\"&$D$12&\")=\"&$D$8&\" and localMonth(\"&$D$12&\") =\"&$E$8&\" and LocalDay(\"&$D$12&\")=\"&$F$8&\" and Barix(\"&$D$12&\",reference:=StartOfSession)=\"&A65&\"\", \"Bar\", \"\", \"Close\",\"5\",\"0\",\"PrimaryOnly\",,,\"False\",\"T\",\"EveryTick\")","v":""},{"$error":"#N/A"},{"$f":"RTD(\"cqg.rtd\",,\"StudyData\", \"Close(\"&$D$12&\") when LocalYear(\"&$D$12&\")=\"&$D$9&\" and localMonth(\"&$D$12&\") =\"&$E$9&\" and LocalDay(\"&$D$12&\")=\"&$F$9&\" and Barix(\"&$D$12&\",reference:=StartOfSession)=\"&A65&\"\", \"Bar\", \"\", \"Close\",\"5\",\"0\",\"PrimaryOnly\",,,\"False\",\"T\",\"EveryTick\")","v":7083.25},2.3348781264371883E-3,{"$f":"RTD(\"cqg.rtd\",,\"StudyData\", \"Close(\"&$D$12&\") when LocalYear(\"&$D$12&\")=\"&$D$10&\" and localMonth(\"&$D$12&\") =\"&$E$10&\" and LocalDay(\"&$D$12&\")=\"&$F$10&\" and Barix(\"&$D$12&\",reference:=StartOfSession)=\"&A65&\"\", \"Bar\", \"\", \"Close\",\"5\",\"0\",\"PrimaryOnly\",,,\"False\",\"T\",\"EveryTick\")","v":7097.25},5.2050138092203102E-3,null,null,null,""]
[65,"13:55:00",-12,{"$f":" RTD(\"cqg.rtd\",,\"StudyData\", $D$12,  \"Tick\", \"FlatTicks=0\", \"Tick\",\"D\",C66,\"PrimaryOnly\")","v":7402.75},null,null,null,{"$f":"RTD(\"cqg.rtd\",,\"StudyData\", \"Close(\"&$D$12&\") when LocalYear(\"&$D$12&\")=\"&$D$1&\" and localMonth(\"&$D$12&\") =\"&$E$1&\" and LocalDay(\"&$D$12&\")=\"&$F$1&\" and Barix(\"&$D$12&\",reference:=StartOfSession)=\"&A66&\"\", \"Bar\", \"\", \"Close\",\"5\",\"0\",\"PrimaryOnly\",,,\"False\",\"T\",\"EveryTick\")","v":""},{"$error":"#N/A"},{"$f":"RTD(\"cqg.rtd\",,\"StudyData\", \"Close(\"&$D$12&\") when LocalYear(\"&$D$12&\")=\"&$D$2&\" and localMonth(\"&$D$12&\") =\"&$E$2&\" and LocalDay(\"&$D$12&\")=\"&$F$2&\" and Barix(\"&$D$12&\",reference:=StartOfSession)=\"&A66&\"\", \"Bar\", \"\", \"Close\",\"5\",\"0\",\"PrimaryOnly\",,,\"False\",\"T\",\"EveryTick\")","v":7374},{"$f":"IFERROR((J66-$G$3)/$G$3,NA())","v":1.6577632259176286E-2},{"$f":"RTD(\"cqg.rtd\",,\"StudyData\", \"Close(\"&$D$12&\") when LocalYear(\"&$D$12&\")=\"&$D$3&\" and localMonth(\"&$D$12&\") =\"&$E$3&\" and LocalDay(\"&$D$12&\")=\"&$F$3&\" and Barix(\"&$D$12&\",reference:=StartOfSession)=\"&A66&\"\", \"Bar\", \"\", \"Close\",\"5\",\"0\",\"PrimaryOnly\",,,\"False\",\"T\",\"EveryTick\")","v":7269},{"$f":"IFERROR((L66-$G$4)/$G$4,NA())","v":-4.4511401766760255E-3},{"$f":"RTD(\"cqg.rtd\",,\"StudyData\", \"Close(\"&$D$12&\") when LocalYear(\"&$D$12&\")=\"&$D$4&\" and localMonth(\"&$D$12&\") =\"&$E$4&\" and LocalDay(\"&$D$12&\")=\"&$F$4&\" and Barix(\"&$D$12&\",reference:=StartOfSession)=\"&A66&\"\", \"Bar\", \"\", \"Close\",\"5\",\"0\",\"PrimaryOnly\",,,\"False\",\"T\",\"EveryTick\")","v":7303.5},{"$f":"IFERROR((N66-$G$5)/$G$5,NA())","v":4.4519023321119139E-4},{"$f":"RTD(\"cqg.rtd\",,\"StudyData\", \"Close(\"&$D$12&\") when LocalYear(\"&$D$12&\")=\"&$D$5&\" and localMonth(\"&$D$12&\") =\"&$E$5&\" and LocalDay(\"&$D$12&\")=\"&$F$5&\" and Barix(\"&$D$12&\",reference:=StartOfSession)=\"&A66&\"\", \"Bar\", \"\", \"Close\",\"5\",\"0\",\"PrimaryOnly\",,,\"False\",\"T\",\"EveryTick\")","v":7281},{"$f":"IFERROR((P66-$G$6)/$G$6,NA())","v":6.5666689707610422E-3},{"$f":"RTD(\"cqg.rtd\",,\"StudyData\", \"Close(\"&$D$12&\") when LocalYear(\"&$D$12&\")=\"&$D$6&\" and localMonth(\"&$D$12&\") =\"&$E$6&\" and LocalDay(\"&$D$12&\")=\"&$F$6&\" and Barix(\"&$D$12&\",reference:=StartOfSession)=\"&A66&\"\", \"Bar\", \"\", \"Close\",\"5\",\"0\",\"PrimaryOnly\",,,\"False\",\"T\",\"EveryTick\")","v":7223.25},{"$f":"IFERROR((R66-$G$7)/$G$7,NA())","v":1.3682770234712135E-2},{"$f":"RTD(\"cqg.rtd\",,\"StudyData\", \"Close(\"&$D$12&\") when LocalYear(\"&$D$12&\")=\"&$D$7&\" and localMonth(\"&$D$12&\") =\"&$E$7&\" and LocalDay(\"&$D$12&\")=\"&$F$7&\" and Barix(\"&$D$12&\",reference:=StartOfSession)=\"&A66&\"\", \"Bar\", \"\", \"Close\",\"5\",\"0\",\"PrimaryOnly\",,,\"False\",\"T\",\"EveryTick\")","v":7114.25},{"$f":"IFERROR((T66-$G$8)/$G$8,NA())","v":1.2884854956397936E-2},{"$f":"RTD(\"cqg.rtd\",,\"StudyData\", \"Close(\"&$D$12&\") when LocalYear(\"&$D$12&\")=\"&$D$8&\" and localMonth(\"&$D$12&\") =\"&$E$8&\" and LocalDay(\"&$D$12&\")=\"&$F$8&\" and Barix(\"&$D$12&\",reference:=StartOfSession)=\"&A66&\"\", \"Bar\", \"\", \"Close\",\"5\",\"0\",\"PrimaryOnly\",,,\"False\",\"T\",\"EveryTick\")","v":""},{"$f":"IFERROR((V66-$G$9)/$G$9,NA())","v":{"$error":"#N/A"}},{"$f":"RTD(\"cqg.rtd\",,\"StudyData\", \"Close(\"&$D$12&\") when LocalYear(\"&$D$12&\")=\"&$D$9&\" and localMonth(\"&$D$12&\") =\"&$E$9&\" and LocalDay(\"&$D$12&\")=\"&$F$9&\" and Barix(\"&$D$12&\",reference:=StartOfSession)=\"&A66&\"\", \"Bar\", \"\", \"Close\",\"5\",\"0\",\"PrimaryOnly\",,,\"False\",\"T\",\"EveryTick\")","v":7079},{"$f":"IFERROR((X66-$G$10)/$G$10,NA())","v":1.733470124173064E-3},{"$f":"RTD(\"cqg.rtd\",,\"StudyData\", \"Close(\"&$D$12&\") when LocalYear(\"&$D$12&\")=\"&$D$10&\" and localMonth(\"&$D$12&\") =\"&$E$10&\" and LocalDay(\"&$D$12&\")=\"&$F$10&\" and Barix(\"&$D$12&\",reference:=StartOfSession)=\"&A66&\"\", \"Bar\", \"\", \"Close\",\"5\",\"0\",\"PrimaryOnly\",,,\"False\",\"T\",\"EveryTick\")","v":7102.75},{"$f":"IFERROR((Z66-$G$11)/$G$11,NA())","v":5.9839954677430775E-3},null,null,null,""]
[{"$f":"A66+1","v":66},"14:00:00",-11,{"$f":" RTD(\"cqg.rtd\",,\"StudyData\", $D$12,  \"Tick\", \"FlatTicks=0\", \"Tick\",\"D\",C67,\"PrimaryOnly\")","v":7402.5},null,null,null,{"$f":"RTD(\"cqg.rtd\",,\"StudyData\", \"Close(\"&$D$12&\") when LocalYear(\"&$D$12&\")=\"&$D$1&\" and localMonth(\"&$D$12&\") =\"&$E$1&\" and LocalDay(\"&$D$12&\")=\"&$F$1&\" and Barix(\"&$D$12&\",reference:=StartOfSession)=\"&A67&\"\", \"Bar\", \"\", \"Close\",\"5\",\"0\",\"PrimaryOnly\",,,\"False\",\"T\",\"EveryTick\")","v":""},{"$f":"IFERROR((H67-$G$2)/$G$2,NA())","v":{"$error":"#N/A"}},{"$f":"RTD(\"cqg.rtd\",,\"StudyData\", \"Close(\"&$D$12&\") when LocalYear(\"&$D$12&\")=\"&$D$2&\" and localMonth(\"&$D$12&\") =\"&$E$2&\" and LocalDay(\"&$D$12&\")=\"&$F$2&\" and Barix(\"&$D$12&\",reference:=StartOfSession)=\"&A67&\"\", \"Bar\", \"\", \"Close\",\"5\",\"0\",\"PrimaryOnly\",,,\"False\",\"T\",\"EveryTick\")","v":7377},1.69912114423574E-2,{"$f":"RTD(\"cqg.rtd\",,\"StudyData\", \"Close(\"&$D$12&\") when LocalYear(\"&$D$12&\")=\"&$D$3&\" and localMonth(\"&$D$12&\") =\"&$E$3&\" and LocalDay(\"&$D$12&\")=\"&$F$3&\" and Barix(\"&$D$12&\",reference:=StartOfSession)=\"&A67&\"\", \"Bar\", \"\", \"Close\",\"5\",\"0\",\"PrimaryOnly\",,,\"False\",\"T\",\"EveryTick\")","v":7268.5},-4.5196192563171948E-3,{"$f":"RTD(\"cqg.rtd\",,\"StudyData\", \"Close(\"&$D$12&\") when LocalYear(\"&$D$12&\")=\"&$D$4&\" and localMonth(\"&$D$12&\") =\"&$E$4&\" and LocalDay(\"&$D$12&\")=\"&$F$4&\" and Barix(\"&$D$12&\",reference:=StartOfSession)=\"&A67&\"\", \"Bar\", \"\", \"Close\",\"5\",\"0\",\"PrimaryOnly\",,,\"False\",\"T\",\"EveryTick\")","v":7303.5},4.4519023321119139E-4,{"$f":"RTD(\"cqg.rtd\",,\"StudyData\", \"Close(\"&$D$12&\") when LocalYear(\"&$D$12&\")=\"&$D$5&\" and localMonth(\"&$D$12&\") =\"&$E$5&\" and LocalDay(\"&$D$12&\")=\"&$F$5&\" and Barix(\"&$D$12&\",reference:=StartOfSession)=\"&A67&\"\", \"Bar\", \"\", \"Close\",\"5\",\"0\",\"PrimaryOnly\",,,\"False\",\"T\",\"EveryTick\")","v":7279.25},6.3247390613119514E-3,{"$f":"RTD(\"cqg.rtd\",,\"StudyData\", \"Close(\"&$D$12&\") when LocalYear(\"&$D$12&\")=\"&$D$6&\" and localMonth(\"&$D$12&\") =\"&$E$6&\" and LocalDay(\"&$D$12&\")=\"&$F$6&\" and Barix(\"&$D$12&\",reference:=StartOfSession)=\"&A67&\"\", \"Bar\", \"\", \"Close\",\"5\",\"0\",\"PrimaryOnly\",,,\"False\",\"T\",\"EveryTick\")","v":7228.25},1.4384450759569168E-2,{"$f":"RTD(\"cqg.rtd\",,\"StudyData\", \"Close(\"&$D$12&\") when LocalYear(\"&$D$12&\")=\"&$D$7&\" and localMonth(\"&$D$12&\") =\"&$E$7&\" and LocalDay(\"&$D$12&\")=\"&$F$7&\" and Barix(\"&$D$12&\",reference:=StartOfSession)=\"&A67&\"\", \"Bar\", \"\", \"Close\",\"5\",\"0\",\"PrimaryOnly\",,,\"False\",\"T\",\"EveryTick\")","v":7124.25},1.4308595835557929E-2,{"$f":"RTD(\"cqg.rtd\",,\"StudyData\", \"Close(\"&$D$12&\") when LocalYear(\"&$D$12&\")=\"&$D$8&\" and localMonth(\"&$D$12&\") =\"&$E$8&\" and LocalDay(\"&$D$12&\")=\"&$F$8&\" and Barix(\"&$D$12&\",reference:=StartOfSession)=\"&A67&\"\", \"Bar\", \"\", \"Close\",\"5\",\"0\",\"PrimaryOnly\",,,\"False\",\"T\",\"EveryTick\")","v":""},{"$error":"#N/A"},{"$f":"RTD(\"cqg.rtd\",,\"StudyData\", \"Close(\"&$D$12&\") when LocalYear(\"&$D$12&\")=\"&$D$9&\" and localMonth(\"&$D$12&\") =\"&$E$9&\" and LocalDay(\"&$D$12&\")=\"&$F$9&\" and Barix(\"&$D$12&\",reference:=StartOfSession)=\"&A67&\"\", \"Bar\", \"\", \"Close\",\"5\",\"0\",\"PrimaryOnly\",,,\"False\",\"T\",\"EveryTick\")","v":7077.25},1.4858315350054834E-3,{"$f":"RTD(\"cqg.rtd\",,\"StudyData\", \"Close(\"&$D$12&\") when LocalYear(\"&$D$12&\")=\"&$D$10&\" and localMonth(\"&$D$12&\") =\"&$E$10&\" and LocalDay(\"&$D$12&\")=\"&$F$10&\" and Barix(\"&$D$12&\",reference:=StartOfSession)=\"&A67&\"\", \"Bar\", \"\", \"Close\",\"5\",\"0\",\"PrimaryOnly\",,,\"False\",\"T\",\"EveryTick\")","v":7104},6.1610367537709796E-3,null,null,null,{"$f":"IF(AND(H66<>\"\",H67<>\"\",H68=\"\"),A67,\"\")","v":""}]
[67,"14:05:00",-10,{"$f":" RTD(\"cqg.rtd\",,\"StudyData\", $D$12,  \"Tick\", \"FlatTicks=0\", \"Tick\",\"D\",C68,\"PrimaryOnly\")","v":7402.75},null,null,null,{"$f":"RTD(\"cqg.rtd\",,\"StudyData\", \"Close(\"&$D$12&\") when LocalYear(\"&$D$12&\")=\"&$D$1&\" and localMonth(\"&$D$12&\") =\"&$E$1&\" and LocalDay(\"&$D$12&\")=\"&$F$1&\" and Barix(\"&$D$12&\",reference:=StartOfSession)=\"&A68&\"\", \"Bar\", \"\", \"Close\",\"5\",\"0\",\"PrimaryOnly\",,,\"False\",\"T\",\"EveryTick\")","v":""},{"$error":"#N/A"},{"$f":"RTD(\"cqg.rtd\",,\"StudyData\", \"Close(\"&$D$12&\") when LocalYear(\"&$D$12&\")=\"&$D$2&\" and localMonth(\"&$D$12&\") =\"&$E$2&\" and LocalDay(\"&$D$12&\")=\"&$F$2&\" and Barix(\"&$D$12&\",reference:=StartOfSession)=\"&A68&\"\", \"Bar\", \"\", \"Close\",\"5\",\"0\",\"PrimaryOnly\",,,\"False\",\"T\",\"EveryTick\")","v":7375.5},1.6784421850766843E-2,{"$f":"RTD(\"cqg.rtd\",,\"StudyData\", \"Close(\"&$D$12&\") when LocalYear(\"&$D$12&\")=\"&$D$3&\" and localMonth(\"&$D$12&\") =\"&$E$3&\" and LocalDay(\"&$D$12&\")=\"&$F$3&\" and Barix(\"&$D$12&\",reference:=StartOfSession)=\"&A68&\"\", \"Bar\", \"\", \"Close\",\"5\",\"0\",\"PrimaryOnly\",,,\"False\",\"T\",\"EveryTick\")","v":7273.75},-3.8005889200849142E-3,{"$f":"RTD(\"cqg.rtd\",,\"StudyData\", \"Close(\"&$D$12&\") when LocalYear(\"&$D$12&\")=\"&$D$4&\" and localMonth(\"&$D$12&\") =\"&$E$4&\" and LocalDay(\"&$D$12&\")=\"&$F$4&\" and Barix(\"&$D$12&\",reference:=StartOfSession)=\"&A68&\"\", \"Bar\", \"\", \"Close\",\"5\",\"0\",\"PrimaryOnly\",,,\"False\",\"T\",\"EveryTick\")","v":7303},3.7669942810177731E-4,{"$f":"RTD(\"cqg.rtd\",,\"StudyData\", \"Close(\"&$D$12&\") when LocalYear(\"&$D$12&\")=\"&$D$5&\" and localMonth(\"&$D$12&\") =\"&$E$5&\" and LocalDay(\"&$D$12&\")=\"&$F$5&\" and Barix(\"&$D$12&\",reference:=StartOfSession)=\"&A68&\"\", \"Bar\", \"\", \"Close\",\"5\",\"0\",\"PrimaryOnly\",,,\"False\",\"T\",\"EveryTick\")","v":7281.25},6.601230386396627E-3,{"$f":"RTD(\"cqg.rtd\",,\"StudyData\", \"Close(\"&$D$12&\") when LocalYear(\"&$D$12&\")=\"&$D$6&\" and localMonth(\"&$D$12&\") =\"&$E$6&\" and LocalDay(\"&$D$12&\")=\"&$F$6&\" and Barix(\"&$D$12&\",reference:=StartOfSession)=\"&A68&\"\", \"Bar\", \"\", \"Close\",\"5\",\"0\",\"PrimaryOnly\",,,\"False\",\"T\",\"EveryTick\")","v":7229},1.4489702838297723E-2,{"$f":"RTD(\"cqg.rtd\",,\"StudyData\", \"Close(\"&$D$12&\") when LocalYear(\"&$D$12&\")=\"&$D$7&\" and localMonth(\"&$D$12&\") =\"&$E$7&\" and LocalDay(\"&$D$12&\")=\"&$F$7&\" and Barix(\"&$D$12&\",reference:=StartOfSession)=\"&A68&\"\", \"Bar\", \"\", \"Close\",\"5\",\"0\",\"PrimaryOnly\",,,\"False\",\"T\",\"EveryTick\")","v":7118.25},1.3454351308061933E-2,{"$f":"RTD(\"cqg.rtd\",,\"StudyData\", \"Close(\"&$D$12&\") when LocalYear(\"&$D$12&\")=\"&$D$8&\" and localMonth(\"&$D$12&\") =\"&$E$8&\" and LocalDay(\"&$D$12&\")=\"&$F$8&\" and Barix(\"&$D$12&\",reference:=StartOfSession)=\"&A68&\"\", \"Bar\", \"\", \"Close\",\"5\",\"0\",\"PrimaryOnly\",,,\"False\",\"T\",\"EveryTick\")","v":""},{"$error":"#N/A"},{"$f":"RTD(\"cqg.rtd\",,\"StudyData\", \"Close(\"&$D$12&\") when LocalYear(\"&$D$12&\")=\"&$D$9&\" and localMonth(\"&$D$12&\") =\"&$E$9&\" and LocalDay(\"&$D$12&\")=\"&$F$9&\" and Barix(\"&$D$12&\",reference:=StartOfSession)=\"&A68&\"\", \"Bar\", \"\", \"Close\",\"5\",\"0\",\"PrimaryOnly\",,,\"False\",\"T\",\"EveryTick\")","v":7081},2.016485654650299E-3,{"$f":"RTD(\"cqg.rtd\",,\"StudyData\", \"Close(\"&$D$12&\") when LocalYear(\"&$D$12&\")=\"&$D$10&\" and localMonth(\"&$D$12&\") =\"&$E$10&\" and LocalDay(\"&$D$12&\")=\"&$F$10&\" and Barix(\"&$D$12&\",reference:=StartOfSession)=\"&A68&\"\", \"Bar\", \"\", \"Close\",\"5\",\"0\",\"PrimaryOnly\",,,\"False\",\"T\",\"EveryTick\")","v":7100},5.5945046384816939E-3,null,null,null,""]
[68,"14:10:00",{"$f":"C68+1","v":-9},{"$f":" RTD(\"cqg.rtd\",,\"StudyData\", $D$12,  \"Tick\", \"FlatTicks=0\", \"Tick\",\"D\",C69,\"PrimaryOnly\")","v":7402.5},null,null,null,{"$f":"RTD(\"cqg.rtd\",,\"StudyData\", \"Close(\"&$D$12&\") when LocalYear(\"&$D$12&\")=\"&$D$1&\" and localMonth(\"&$D$12&\") =\"&$E$1&\" and LocalDay(\"&$D$12&\")=\"&$F$1&\" and Barix(\"&$D$12&\",reference:=StartOfSession)=\"&A69&\"\", \"Bar\", \"\", \"Close\",\"5\",\"0\",\"PrimaryOnly\",,,\"False\",\"T\",\"EveryTick\")","v":""},{"$error":"#N/A"},{"$f":"RTD(\"cqg.rtd\",,\"StudyData\", \"Close(\"&$D$12&\") when LocalYear(\"&$D$12&\")=\"&$D$2&\" and localMonth(\"&$D$12&\") =\"&$E$2&\" and LocalDay(\"&$D$12&\")=\"&$F$2&\" and Barix(\"&$D$12&\",reference:=StartOfSession)=\"&A69&\"\", \"Bar\", \"\", \"Close\",\"5\",\"0\",\"PrimaryOnly\",,,\"False\",\"T\",\"EveryTick\")","v":7371.75},1.6267447871790453E-2,{"$f":"RTD(\"cqg.rtd\",,\"StudyData\", \"Close(\"&$D$12&\") when LocalYear(\"&$D$12&\")=\"&$D$3&\" and localMonth(\"&$D$12&\") =\"&$E$3&\" and LocalDay(\"&$D$12&\")=\"&$F$3&\" and Barix(\"&$D$12&\",reference:=StartOfSession)=\"&A69&\"\", \"Bar\", \"\", \"Close\",\"5\",\"0\",\"PrimaryOnly\",,,\"False\",\"T\",\"EveryTick\")","v":7270.75},-4.2114633979319317E-3,{"$f":"RTD(\"cqg.rtd\",,\"StudyData\", \"Close(\"&$D$12&\") when LocalYear(\"&$D$12&\")=\"&$D$4&\" and localMonth(\"&$D$12&\") =\"&$E$4&\" and LocalDay(\"&$D$12&\")=\"&$F$4&\" and Barix(\"&$D$12&\",reference:=StartOfSession)=\"&A69&\"\", \"Bar\", \"\", \"Close\",\"5\",\"0\",\"PrimaryOnly\",,,\"False\",\"T\",\"EveryTick\")","v":7303.5},4.4519023321119139E-4,{"$f":"RTD(\"cqg.rtd\",,\"StudyData\", \"Close(\"&$D$12&\") when LocalYear(\"&$D$12&\")=\"&$D$5&\" and localMonth(\"&$D$12&\") =\"&$E$5&\" and LocalDay(\"&$D$12&\")=\"&$F$5&\" and Barix(\"&$D$12&\",reference:=StartOfSession)=\"&A69&\"\", \"Bar\", \"\", \"Close\",\"5\",\"0\",\"PrimaryOnly\",,,\"False\",\"T\",\"EveryTick\")","v":7280.75},6.5321075551254583E-3,{"$f":"RTD(\"cqg.rtd\",,\"StudyData\", \"Close(\"&$D$12&\") when LocalYear(\"&$D$12&\")=\"&$D$6&\" and localMonth(\"&$D$12&\") =\"&$E$6&\" and LocalDay(\"&$D$12&\")=\"&$F$6&\" and Barix(\"&$D$12&\",reference:=StartOfSession)=\"&A69&\"\", \"Bar\", \"\", \"Close\",\"5\",\"0\",\"PrimaryOnly\",,,\"False\",\"T\",\"EveryTick\")","v":7228.25},1.4384450759569168E-2,{"$f":"RTD(\"cqg.rtd\",,\"StudyData\", \"Close(\"&$D$12&\") when LocalYear(\"&$D$12&\")=\"&$D$7&\" and localMonth(\"&$D$12&\") =\"&$E$7&\" and LocalDay(\"&$D$12&\")=\"&$F$7&\" and Barix(\"&$D$12&\",reference:=StartOfSession)=\"&A69&\"\", \"Bar\", \"\", \"Close\",\"5\",\"0\",\"PrimaryOnly\",,,\"False\",\"T\",\"EveryTick\")","v":7118},1.3418757786082933E-2,{"$f":"RTD(\"cqg.rtd\",,\"StudyData\", \"Close(\"&$D$12&\") when LocalYear(\"&$D$12&\")=\"&$D$8&\" and localMonth(\"&$D$12&\") =\"&$E$8&\" and LocalDay(\"&$D$12&\")=\"&$F$8&\" and Barix(\"&$D$12&\",reference:=StartOfSession)=\"&A69&\"\", \"Bar\", \"\", \"Close\",\"5\",\"0\",\"PrimaryOnly\",,,\"False\",\"T\",\"EveryTick\")","v":""},{"$error":"#N/A"},{"$f":"RTD(\"cqg.rtd\",,\"StudyData\", \"Close(\"&$D$12&\") when LocalYear(\"&$D$12&\")=\"&$D$9&\" and localMonth(\"&$D$12&\") =\"&$E$9&\" and LocalDay(\"&$D$12&\")=\"&$F$9&\" and Barix(\"&$D$12&\",reference:=StartOfSession)=\"&A69&\"\", \"Bar\", \"\", \"Close\",\"5\",\"0\",\"PrimaryOnly\",,,\"False\",\"T\",\"EveryTick\")","v":7084.25},2.4763858916758059E-3,{"$f":"RTD(\"cqg.rtd\",,\"StudyData\", \"Close(\"&$D$12&\") when LocalYear(\"&$D$12&\")=\"&$D$10&\" and localMonth(\"&$D$12&\") =\"&$E$10&\" and LocalDay(\"&$D$12&\")=\"&$F$10&\" and Barix(\"&$D$12&\",reference:=StartOfSession)=\"&A69&\"\", \"Bar\", \"\", \"Close\",\"5\",\"0\",\"PrimaryOnly\",,,\"False\",\"T\",\"EveryTick\")","v":7096.5},5.098789037603569E-3,null,null,null,""]
[69,"14:15:00",-8,{"$f":" RTD(\"cqg.rtd\",,\"StudyData\", $D$12,  \"Tick\", \"FlatTicks=0\", \"Tick\",\"D\",C70,\"PrimaryOnly\")","v":7402.75},null,null,null,{"$f":"RTD(\"cqg.rtd\",,\"StudyData\", \"Close(\"&$D$12&\") when LocalYear(\"&$D$12&\")=\"&$D$1&\" and localMonth(\"&$D$12&\") =\"&$E$1&\" and LocalDay(\"&$D$12&\")=\"&$F$1&\" and Barix(\"&$D$12&\",reference:=StartOfSession)=\"&A70&\"\", \"Bar\", \"\", \"Close\",\"5\",\"0\",\"PrimaryOnly\",,,\"False\",\"T\",\"EveryTick\")","v":""},{"$error":"#N/A"},{"$f":"RTD(\"cqg.rtd\",,\"StudyData\", \"Close(\"&$D$12&\") when LocalYear(\"&$D$12&\")=\"&$D$2&\" and localMonth(\"&$D$12&\") =\"&$E$2&\" and LocalDay(\"&$D$12&\")=\"&$F$2&\" and Barix(\"&$D$12&\",reference:=StartOfSession)=\"&A70&\"\", \"Bar\", \"\", \"Close\",\"5\",\"0\",\"PrimaryOnly\",,,\"False\",\"T\",\"EveryTick\")","v":7373.25},1.647423746338101E-2,{"$f":"RTD(\"cqg.rtd\",,\"StudyData\", \"Close(\"&$D$12&\") when LocalYear(\"&$D$12&\")=\"&$D$3&\" and localMonth(\"&$D$12&\") =\"&$E$3&\" and LocalDay(\"&$D$12&\")=\"&$F$3&\" and Barix(\"&$D$12&\",reference:=StartOfSession)=\"&A70&\"\", \"Bar\", \"\", \"Close\",\"5\",\"0\",\"PrimaryOnly\",,,\"False\",\"T\",\"EveryTick\")","v":7268},-4.5880983359583649E-3,{"$f":"RTD(\"cqg.rtd\",,\"StudyData\", \"Close(\"&$D$12&\") when LocalYear(\"&$D$12&\")=\"&$D$4&\" and localMonth(\"&$D$12&\") =\"&$E$4&\" and LocalDay(\"&$D$12&\")=\"&$F$4&\" and Barix(\"&$D$12&\",reference:=StartOfSession)=\"&A70&\"\", \"Bar\", \"\", \"Close\",\"5\",\"0\",\"PrimaryOnly\",,,\"False\",\"T\",\"EveryTick\")","v":7303.75},4.7943563576589843E-4,{"$f":"RTD(\"cqg.rtd\",,\"StudyData\", \"Close(\"&$D$12&\") when LocalYear(\"&$D$12&\")=\"&$D$5&\" and localMonth(\"&$D$12&\") =\"&$E$5&\" and LocalDay(\"&$D$12&\")=\"&$F$5&\" and Barix(\"&$D$12&\",reference:=StartOfSession)=\"&A70&\"\", \"Bar\", \"\", \"Close\",\"5\",\"0\",\"PrimaryOnly\",,,\"False\",\"T\",\"EveryTick\")","v":7277.75},6.1173705674984445E-3,{"$f":"RTD(\"cqg.rtd\",,\"StudyData\", \"Close(\"&$D$12&\") when LocalYear(\"&$D$12&\")=\"&$D$6&\" and localMonth(\"&$D$12&\") =\"&$E$6&\" and LocalDay(\"&$D$12&\")=\"&$F$6&\" and Barix(\"&$D$12&\",reference:=StartOfSession)=\"&A70&\"\", \"Bar\", \"\", \"Close\",\"5\",\"0\",\"PrimaryOnly\",,,\"False\",\"T\",\"EveryTick\")","v":7229.75},1.4594954917026278E-2,{"$f":"RTD(\"cqg.rtd\",,\"StudyData\", \"Close(\"&$D$12&\") when LocalYear(\"&$D$12&\")=\"&$D$7&\" and localMonth(\"&$D$12&\") =\"&$E$7&\" and LocalDay(\"&$D$12&\")=\"&$F$7&\" and Barix(\"&$D$12&\",reference:=StartOfSession)=\"&A70&\"\", \"Bar\", \"\", \"Close\",\"5\",\"0\",\"PrimaryOnly\",,,\"False\",\"T\",\"EveryTick\")","v":7119.75},1.3667912439935932E-2,{"$f":"RTD(\"cqg.rtd\",,\"StudyData\", \"Close(\"&$D$12&\") when LocalYear(\"&$D$12&\")=\"&$D$8&\" and localMonth(\"&$D$12&\") =\"&$E$8&\" and LocalDay(\"&$D$12&\")=\"&$F$8&\" and Barix(\"&$D$12&\",reference:=StartOfSession)=\"&A70&\"\", \"Bar\", \"\", \"Close\",\"5\",\"0\",\"PrimaryOnly\",,,\"False\",\"T\",\"EveryTick\")","v":""},{"$error":"#N/A"},{"$f":"RTD(\"cqg.rtd\",,\"StudyData\", \"Close(\"&$D$12&\") when LocalYear(\"&$D$12&\")=\"&$D$9&\" and localMonth(\"&$D$12&\") =\"&$E$9&\" and LocalDay(\"&$D$12&\")=\"&$F$9&\" and Barix(\"&$D$12&\",reference:=StartOfSession)=\"&A70&\"\", \"Bar\", \"\", \"Close\",\"5\",\"0\",\"PrimaryOnly\",,,\"False\",\"T\",\"EveryTick\")","v":7085},2.582516715604769E-3,{"$f":"RTD(\"cqg.rtd\",,\"StudyData\", \"Close(\"&$D$12&\") when LocalYear(\"&$D$12&\")=\"&$D$10&\" and localMonth(\"&$D$12&\") =\"&$E$10&\" and LocalDay(\"&$D$12&\")=\"&$F$10&\" and Barix(\"&$D$12&\",reference:=StartOfSession)=\"&A70&\"\", \"Bar\", \"\", \"Close\",\"5\",\"0\",\"PrimaryOnly\",,,\"False\",\"T\",\"EveryTick\")","v":7091.75},4.4260321506975429E-3,null,null,null,""]
[70,"14:20:00",-7,{"$f":" RTD(\"cqg.rtd\",,\"StudyData\", $D$12,  \"Tick\", \"FlatTicks=0\", \"Tick\",\"D\",C71,\"PrimaryOnly\")","v":7402.5},null,null,null,{"$f":"RTD(\"cqg.rtd\",,\"StudyData\", \"Close(\"&$D$12&\") when LocalYear(\"&$D$12&\")=\"&$D$1&\" and localMonth(\"&$D$12&\") =\"&$E$1&\" and LocalDay(\"&$D$12&\")=\"&$F$1&\" and Barix(\"&$D$12&\",reference:=StartOfSession)=\"&A71&\"\", \"Bar\", \"\", \"Close\",\"5\",\"0\",\"PrimaryOnly\",,,\"False\",\"T\",\"EveryTick\")","v":""},{"$error":"#N/A"},{"$f":"RTD(\"cqg.rtd\",,\"StudyData\", \"Close(\"&$D$12&\") when LocalYear(\"&$D$12&\")=\"&$D$2&\" and localMonth(\"&$D$12&\") =\"&$E$2&\" and LocalDay(\"&$D$12&\")=\"&$F$2&\" and Barix(\"&$D$12&\",reference:=StartOfSession)=\"&A71&\"\", \"Bar\", \"\", \"Close\",\"5\",\"0\",\"PrimaryOnly\",,,\"False\",\"T\",\"EveryTick\")","v":7365.25},1.5371359641564709E-2,{"$f":"RTD(\"cqg.rtd\",,\"StudyData\", \"Close(\"&$D$12&\") when LocalYear(\"&$D$12&\")=\"&$D$3&\" and localMonth(\"&$D$12&\") =\"&$E$3&\" and LocalDay(\"&$D$12&\")=\"&$F$3&\" and Barix(\"&$D$12&\",reference:=StartOfSession)=\"&A71&\"\", \"Bar\", \"\", \"Close\",\"5\",\"0\",\"PrimaryOnly\",,,\"False\",\"T\",\"EveryTick\")","v":7268},-4.5880983359583649E-3,{"$f":"RTD(\"cqg.rtd\",,\"StudyData\", \"Close(\"&$D$12&\") when LocalYear(\"&$D$12&\")=\"&$D$4&\" and localMonth(\"&$D$12&\") =\"&$E$4&\" and LocalDay(\"&$D$12&\")=\"&$F$4&\" and Barix(\"&$D$12&\",reference:=StartOfSession)=\"&A71&\"\", \"Bar\", \"\", \"Close\",\"5\",\"0\",\"PrimaryOnly\",,,\"False\",\"T\",\"EveryTick\")","v":7302.25},2.7396322043765625E-4,{"$f":"RTD(\"cqg.rtd\",,\"StudyData\", \"Close(\"&$D$12&\") when LocalYear(\"&$D$12&\")=\"&$D$5&\" and localMonth(\"&$D$12&\") =\"&$E$5&\" and LocalDay(\"&$D$12&\")=\"&$F$5&\" and Barix(\"&$D$12&\",reference:=StartOfSession)=\"&A71&\"\", \"Bar\", \"\", \"Close\",\"5\",\"0\",\"PrimaryOnly\",,,\"False\",\"T\",\"EveryTick\")","v":7279.25},6.3247390613119514E-3,{"$f":"RTD(\"cqg.rtd\",,\"StudyData\", \"Close(\"&$D$12&\") when LocalYear(\"&$D$12&\")=\"&$D$6&\" and localMonth(\"&$D$12&\") =\"&$E$6&\" and LocalDay(\"&$D$12&\")=\"&$F$6&\" and Barix(\"&$D$12&\",reference:=StartOfSession)=\"&A71&\"\", \"Bar\", \"\", \"Close\",\"5\",\"0\",\"PrimaryOnly\",,,\"False\",\"T\",\"EveryTick\")","v":7232},1.4910711153211943E-2,{"$f":"RTD(\"cqg.rtd\",,\"StudyData\", \"Close(\"&$D$12&\") when LocalYear(\"&$D$12&\")=\"&$D$7&\" and localMonth(\"&$D$12&\") =\"&$E$7&\" and LocalDay(\"&$D$12&\")=\"&$F$7&\" and Barix(\"&$D$12&\",reference:=StartOfSession)=\"&A71&\"\", \"Bar\", \"\", \"Close\",\"5\",\"0\",\"PrimaryOnly\",,,\"False\",\"T\",\"EveryTick\")","v":7114.5},1.2920448478376935E-2,{"$f":"RTD(\"cqg.rtd\",,\"StudyData\", \"Close(\"&$D$12&\") when LocalYear(\"&$D$12&\")=\"&$D$8&\" and localMonth(\"&$D$12&\") =\"&$E$8&\" and LocalDay(\"&$D$12&\")=\"&$F$8&\" and Barix(\"&$D$12&\",reference:=StartOfSession)=\"&A71&\"\", \"Bar\", \"\", \"Close\",\"5\",\"0\",\"PrimaryOnly\",,,\"False\",\"T\",\"EveryTick\")","v":""},{"$error":"#N/A"},{"$f":"RTD(\"cqg.rtd\",,\"StudyData\", \"Close(\"&$D$12&\") when LocalYear(\"&$D$12&\")=\"&$D$9&\" and localMonth(\"&$D$12&\") =\"&$E$9&\" and LocalDay(\"&$D$12&\")=\"&$F$9&\" and Barix(\"&$D$12&\",reference:=StartOfSession)=\"&A71&\"\", \"Bar\", \"\", \"Close\",\"5\",\"0\",\"PrimaryOnly\",,,\"False\",\"T\",\"EveryTick\")","v":7090},3.2900555417978562E-3,{"$f":"RTD(\"cqg.rtd\",,\"StudyData\", \"Close(\"&$D$12&\") when LocalYear(\"&$D$12&\")=\"&$D$10&\" and localMonth(\"&$D$12&\") =\"&$E$10&\" and LocalDay(\"&$D$12&\")=\"&$F$10&\" and Barix(\"&$D$12&\",reference:=StartOfSession)=\"&A71&\"\", \"Bar\", \"\", \"Close\",\"5\",\"0\",\"PrimaryOnly\",,,\"False\",\"T\",\"EveryTick\")","v":7088.25},3.930316549819418E-3,null,null,null,""]
[71,"14:25:00",-6,{"$f":" RTD(\"cqg.rtd\",,\"StudyData\", $D$12,  \"Tick\", \"FlatTicks=0\", \"Tick\",\"D\",C72,\"PrimaryOnly\")","v":7402.25},null,null,null,{"$f":"RTD(\"cqg.rtd\",,\"StudyData\", \"Close(\"&$D$12&\") when LocalYear(\"&$D$12&\")=\"&$D$1&\" and localMonth(\"&$D$12&\") =\"&$E$1&\" and LocalDay(\"&$D$12&\")=\"&$F$1&\" and Barix(\"&$D$12&\",reference:=StartOfSession)=\"&A72&\"\", \"Bar\", \"\", \"Close\",\"5\",\"0\",\"PrimaryOnly\",,,\"False\",\"T\",\"EveryTick\")","v":""},{"$error":"#N/A"},{"$f":"RTD(\"cqg.rtd\",,\"StudyData\", \"Close(\"&$D$12&\") when LocalYear(\"&$D$12&\")=\"&$D$2&\" and localMonth(\"&$D$12&\") =\"&$E$2&\" and LocalDay(\"&$D$12&\")=\"&$F$2&\" and Barix(\"&$D$12&\",reference:=StartOfSession)=\"&A72&\"\", \"Bar\", \"\", \"Close\",\"5\",\"0\",\"PrimaryOnly\",,,\"False\",\"T\",\"EveryTick\")","v":7372.25},1.6336377735653971E-2,{"$f":"RTD(\"cqg.rtd\",,\"StudyData\", \"Close(\"&$D$12&\") when LocalYear(\"&$D$12&\")=\"&$D$3&\" and localMonth(\"&$D$12&\") =\"&$E$3&\" and LocalDay(\"&$D$12&\")=\"&$F$3&\" and Barix(\"&$D$12&\",reference:=StartOfSession)=\"&A72&\"\", \"Bar\", \"\", \"Close\",\"5\",\"0\",\"PrimaryOnly\",,,\"False\",\"T\",\"EveryTick\")","v":7264.25},-5.1016914332671368E-3,{"$f":"RTD(\"cqg.rtd\",,\"StudyData\", \"Close(\"&$D$12&\") when LocalYear(\"&$D$12&\")=\"&$D$4&\" and localMonth(\"&$D$12&\") =\"&$E$4&\" and LocalDay(\"&$D$12&\")=\"&$F$4&\" and Barix(\"&$D$12&\",reference:=StartOfSession)=\"&A72&\"\", \"Bar\", \"\", \"Close\",\"5\",\"0\",\"PrimaryOnly\",,,\"False\",\"T\",\"EveryTick\")","v":7298.25},-2.7396322043765625E-4,{"$f":"RTD(\"cqg.rtd\",,\"StudyData\", \"Close(\"&$D$12&\") when LocalYear(\"&$D$12&\")=\"&$D$5&\" and localMonth(\"&$D$12&\") =\"&$E$5&\" and LocalDay(\"&$D$12&\")=\"&$F$5&\" and Barix(\"&$D$12&\",reference:=StartOfSession)=\"&A72&\"\", \"Bar\", \"\", \"Close\",\"5\",\"0\",\"PrimaryOnly\",,,\"False\",\"T\",\"EveryTick\")","v":7280.25},6.4629847238542888E-3,{"$f":"RTD(\"cqg.rtd\",,\"StudyData\", \"Close(\"&$D$12&\") when LocalYear(\"&$D$12&\")=\"&$D$6&\" and localMonth(\"&$D$12&\") =\"&$E$6&\" and LocalDay(\"&$D$12&\")=\"&$F$6&\" and Barix(\"&$D$12&\",reference:=StartOfSession)=\"&A72&\"\", \"Bar\", \"\", \"Close\",\"5\",\"0\",\"PrimaryOnly\",,,\"False\",\"T\",\"EveryTick\")","v":7235.75},1.5436971546854717E-2,{"$f":"RTD(\"cqg.rtd\",,\"StudyData\", \"Close(\"&$D$12&\") when LocalYear(\"&$D$12&\")=\"&$D$7&\" and localMonth(\"&$D$12&\") =\"&$E$7&\" and LocalDay(\"&$D$12&\")=\"&$F$7&\" and Barix(\"&$D$12&\",reference:=StartOfSession)=\"&A72&\"\", \"Bar\", \"\", \"Close\",\"5\",\"0\",\"PrimaryOnly\",,,\"False\",\"T\",\"EveryTick\")","v":7114.75},1.2956042000355935E-2,{"$f":"RTD(\"cqg.rtd\",,\"StudyData\", \"Close(\"&$D$12&\") when LocalYear(\"&$D$12&\")=\"&$D$8&\" and localMonth(\"&$D$12&\") =\"&$E$8&\" and LocalDay(\"&$D$12&\")=\"&$F$8&\" and Barix(\"&$D$12&\",reference:=StartOfSession)=\"&A72&\"\", \"Bar\", \"\", \"Close\",\"5\",\"0\",\"PrimaryOnly\",,,\"False\",\"T\",\"EveryTick\")","v":""},{"$error":"#N/A"},{"$f":"RTD(\"cqg.rtd\",,\"StudyData\", \"Close(\"&$D$12&\") when LocalYear(\"&$D$12&\")=\"&$D$9&\" and localMonth(\"&$D$12&\") =\"&$E$9&\" and LocalDay(\"&$D$12&\")=\"&$F$9&\" and Barix(\"&$D$12&\",reference:=StartOfSession)=\"&A72&\"\", \"Bar\", \"\", \"Close\",\"5\",\"0\",\"PrimaryOnly\",,,\"False\",\"T\",\"EveryTick\")","v":7093.5},3.7853327201330172E-3,{"$f":"RTD(\"cqg.rtd\",,\"StudyData\", \"Close(\"&$D$12&\") when LocalYear(\"&$D$12&\")=\"&$D$10&\" and localMonth(\"&$D$12&\") =\"&$E$10&\" and LocalDay(\"&$D$12&\")=\"&$F$10&\" and Barix(\"&$D$12&\",reference:=StartOfSession)=\"&A72&\"\", \"Bar\", \"\", \"Close\",\"5\",\"0\",\"PrimaryOnly\",,,\"False\",\"T\",\"EveryTick\")","v":7093},4.6030734367254441E-3,null,null,null,""]
[72,"14:30:00",-5,{"$f":" RTD(\"cqg.rtd\",,\"StudyData\", $D$12,  \"Tick\", \"FlatTicks=0\", \"Tick\",\"D\",C73,\"PrimaryOnly\")","v":7402.5},null,null,null,{"$f":"RTD(\"cqg.rtd\",,\"StudyData\", \"Close(\"&$D$12&\") when LocalYear(\"&$D$12&\")=\"&$D$1&\" and localMonth(\"&$D$12&\") =\"&$E$1&\" and LocalDay(\"&$D$12&\")=\"&$F$1&\" and Barix(\"&$D$12&\",reference:=StartOfSession)=\"&A73&\"\", \"Bar\", \"\", \"Close\",\"5\",\"0\",\"PrimaryOnly\",,,\"False\",\"T\",\"EveryTick\")","v":""},{"$error":"#N/A"},{"$f":"RTD(\"cqg.rtd\",,\"StudyData\", \"Close(\"&$D$12&\") when LocalYear(\"&$D$12&\")=\"&$D$2&\" and localMonth(\"&$D$12&\") =\"&$E$2&\" and LocalDay(\"&$D$12&\")=\"&$F$2&\" and Barix(\"&$D$12&\",reference:=StartOfSession)=\"&A73&\"\", \"Bar\", \"\", \"Close\",\"5\",\"0\",\"PrimaryOnly\",,,\"False\",\"T\",\"EveryTick\")","v":7374.25},1.6612097191108049E-2,{"$f":"RTD(\"cqg.rtd\",,\"StudyData\", \"Close(\"&$D$12&\") when LocalYear(\"&$D$12&\")=\"&$D$3&\" and localMonth(\"&$D$12&\") =\"&$E$3&\" and LocalDay(\"&$D$12&\")=\"&$F$3&\" and Barix(\"&$D$12&\",reference:=StartOfSession)=\"&A73&\"\", \"Bar\", \"\", \"Close\",\"5\",\"0\",\"PrimaryOnly\",,,\"False\",\"T\",\"EveryTick\")","v":7270.25},-4.2799424775731018E-3,{"$f":"RTD(\"cqg.rtd\",,\"StudyData\", \"Close(\"&$D$12&\") when LocalYear(\"&$D$12&\")=\"&$D$4&\" and localMonth(\"&$D$12&\") =\"&$E$4&\" and LocalDay(\"&$D$12&\")=\"&$F$4&\" and Barix(\"&$D$12&\",reference:=StartOfSession)=\"&A73&\"\", \"Bar\", \"\", \"Close\",\"5\",\"0\",\"PrimaryOnly\",,,\"False\",\"T\",\"EveryTick\")","v":7303.75},4.7943563576589843E-4,{"$f":"RTD(\"cqg.rtd\",,\"StudyData\", \"Close(\"&$D$12&\") when LocalYear(\"&$D$12&\")=\"&$D$5&\" and localMonth(\"&$D$12&\") =\"&$E$5&\" and LocalDay(\"&$D$12&\")=\"&$F$5&\" and Barix(\"&$D$12&\",reference:=StartOfSession)=\"&A73&\"\", \"Bar\", \"\", \"Close\",\"5\",\"0\",\"PrimaryOnly\",,,\"False\",\"T\",\"EveryTick\")","v":7280.75},6.5321075551254583E-3,{"$f":"RTD(\"cqg.rtd\",,\"StudyData\", \"Close(\"&$D$12&\") when LocalYear(\"&$D$12&\")=\"&$D$6&\" and localMonth(\"&$D$12&\") =\"&$E$6&\" and LocalDay(\"&$D$12&\")=\"&$F$6&\" and Barix(\"&$D$12&\",reference:=StartOfSession)=\"&A73&\"\", \"Bar\", \"\", \"Close\",\"5\",\"0\",\"PrimaryOnly\",,,\"False\",\"T\",\"EveryTick\")","v":7233.5},1.5121215310669052E-2,{"$f":"RTD(\"cqg.rtd\",,\"StudyData\", \"Close(\"&$D$12&\") when LocalYear(\"&$D$12&\")=\"&$D$7&\" and localMonth(\"&$D$12&\") =\"&$E$7&\" and LocalDay(\"&$D$12&\")=\"&$F$7&\" and Barix(\"&$D$12&\",reference:=StartOfSession)=\"&A73&\"\", \"Bar\", \"\", \"Close\",\"5\",\"0\",\"PrimaryOnly\",,,\"False\",\"T\",\"EveryTick\")","v":7119.75},1.3667912439935932E-2,{"$f":"RTD(\"cqg.rtd\",,\"StudyData\", \"Close(\"&$D$12&\") when LocalYear(\"&$D$12&\")=\"&$D$8&\" and localMonth(\"&$D$12&\") =\"&$E$8&\" and LocalDay(\"&$D$12&\")=\"&$F$8&\" and Barix(\"&$D$12&\",reference:=StartOfSession)=\"&A73&\"\", \"Bar\", \"\", \"Close\",\"5\",\"0\",\"PrimaryOnly\",,,\"False\",\"T\",\"EveryTick\")","v":""},{"$error":"#N/A"},{"$f":"RTD(\"cqg.rtd\",,\"StudyData\", \"Close(\"&$D$12&\") when LocalYear(\"&$D$12&\")=\"&$D$9&\" and localMonth(\"&$D$12&\") =\"&$E$9&\" and LocalDay(\"&$D$12&\")=\"&$F$9&\" and Barix(\"&$D$12&\",reference:=StartOfSession)=\"&A73&\"\", \"Bar\", \"\", \"Close\",\"5\",\"0\",\"PrimaryOnly\",,,\"False\",\"T\",\"EveryTick\")","v":7089},3.1485477765592386E-3,{"$f":"RTD(\"cqg.rtd\",,\"StudyData\", \"Close(\"&$D$12&\") when LocalYear(\"&$D$12&\")=\"&$D$10&\" and localMonth(\"&$D$12&\") =\"&$E$10&\" and LocalDay(\"&$D$12&\")=\"&$F$10&\" and Barix(\"&$D$12&\",reference:=StartOfSession)=\"&A73&\"\", \"Bar\", \"\", \"Close\",\"5\",\"0\",\"PrimaryOnly\",,,\"False\",\"T\",\"EveryTick\")","v":7089.75},4.1427660930528996E-3,null,null,null,""]
[73,"14:35:00",-4,{"$f":" RTD(\"cqg.rtd\",,\"StudyData\", $D$12,  \"Tick\", \"FlatTicks=0\", \"Tick\",\"D\",C74,\"PrimaryOnly\")","v":7402.25},null,null,null,{"$f":"RTD(\"cqg.rtd\",,\"StudyData\", \"Close(\"&$D$12&\") when LocalYear(\"&$D$12&\")=\"&$D$1&\" and localMonth(\"&$D$12&\") =\"&$E$1&\" and LocalDay(\"&$D$12&\")=\"&$F$1&\" and Barix(\"&$D$12&\",reference:=StartOfSession)=\"&A74&\"\", \"Bar\", \"\", \"Close\",\"5\",\"0\",\"PrimaryOnly\",,,\"False\",\"T\",\"EveryTick\")","v":""},{"$error":"#N/A"},{"$f":"RTD(\"cqg.rtd\",,\"StudyData\", \"Close(\"&$D$12&\") when LocalYear(\"&$D$12&\")=\"&$D$2&\" and localMonth(\"&$D$12&\") =\"&$E$2&\" and LocalDay(\"&$D$12&\")=\"&$F$2&\" and Barix(\"&$D$12&\",reference:=StartOfSession)=\"&A74&\"\", \"Bar\", \"\", \"Close\",\"5\",\"0\",\"PrimaryOnly\",,,\"False\",\"T\",\"EveryTick\")","v":7375.5},1.6784421850766843E-2,{"$f":"RTD(\"cqg.rtd\",,\"StudyData\", \"Close(\"&$D$12&\") when LocalYear(\"&$D$12&\")=\"&$D$3&\" and localMonth(\"&$D$12&\") =\"&$E$3&\" and LocalDay(\"&$D$12&\")=\"&$F$3&\" and Barix(\"&$D$12&\",reference:=StartOfSession)=\"&A74&\"\", \"Bar\", \"\", \"Close\",\"5\",\"0\",\"PrimaryOnly\",,,\"False\",\"T\",\"EveryTick\")","v":7270.75},-4.2114633979319317E-3,{"$f":"RTD(\"cqg.rtd\",,\"StudyData\", \"Close(\"&$D$12&\") when LocalYear(\"&$D$12&\")=\"&$D$4&\" and localMonth(\"&$D$12&\") =\"&$E$4&\" and LocalDay(\"&$D$12&\")=\"&$F$4&\" and Barix(\"&$D$12&\",reference:=StartOfSession)=\"&A74&\"\", \"Bar\", \"\", \"Close\",\"5\",\"0\",\"PrimaryOnly\",,,\"False\",\"T\",\"EveryTick\")","v":7302.5},3.0820862299236329E-4,{"$f":"RTD(\"cqg.rtd\",,\"StudyData\", \"Close(\"&$D$12&\") when LocalYear(\"&$D$12&\")=\"&$D$5&\" and localMonth(\"&$D$12&\") =\"&$E$5&\" and LocalDay(\"&$D$12&\")=\"&$F$5&\" and Barix(\"&$D$12&\",reference:=StartOfSession)=\"&A74&\"\", \"Bar\", \"\", \"Close\",\"5\",\"0\",\"PrimaryOnly\",,,\"False\",\"T\",\"EveryTick\")","v":7284},6.981405958388056E-3,{"$f":"RTD(\"cqg.rtd\",,\"StudyData\", \"Close(\"&$D$12&\") when LocalYear(\"&$D$12&\")=\"&$D$6&\" and localMonth(\"&$D$12&\") =\"&$E$6&\" and LocalDay(\"&$D$12&\")=\"&$F$6&\" and Barix(\"&$D$12&\",reference:=StartOfSession)=\"&A74&\"\", \"Bar\", \"\", \"Close\",\"5\",\"0\",\"PrimaryOnly\",,,\"False\",\"T\",\"EveryTick\")","v":7231},1.4770375048240535E-2,{"$f":"RTD(\"cqg.rtd\",,\"StudyData\", \"Close(\"&$D$12&\") when LocalYear(\"&$D$12&\")=\"&$D$7&\" and localMonth(\"&$D$12&\") =\"&$E$7&\" and LocalDay(\"&$D$12&\")=\"&$F$7&\" and Barix(\"&$D$12&\",reference:=StartOfSession)=\"&A74&\"\", \"Bar\", \"\", \"Close\",\"5\",\"0\",\"PrimaryOnly\",,,\"False\",\"T\",\"EveryTick\")","v":7115.5},1.3062822566292934E-2,{"$f":"RTD(\"cqg.rtd\",,\"StudyData\", \"Close(\"&$D$12&\") when LocalYear(\"&$D$12&\")=\"&$D$8&\" and localMonth(\"&$D$12&\") =\"&$E$8&\" and LocalDay(\"&$D$12&\")=\"&$F$8&\" and Barix(\"&$D$12&\",reference:=StartOfSession)=\"&A74&\"\", \"Bar\", \"\", \"Close\",\"5\",\"0\",\"PrimaryOnly\",,,\"False\",\"T\",\"EveryTick\")","v":""},{"$error":"#N/A"},{"$f":"RTD(\"cqg.rtd\",,\"StudyData\", \"Close(\"&$D$12&\") when LocalYear(\"&$D$12&\")=\"&$D$9&\" and localMonth(\"&$D$12&\") =\"&$E$9&\" and LocalDay(\"&$D$12&\")=\"&$F$9&\" and Barix(\"&$D$12&\",reference:=StartOfSession)=\"&A74&\"\", \"Bar\", \"\", \"Close\",\"5\",\"0\",\"PrimaryOnly\",,,\"False\",\"T\",\"EveryTick\")","v":7099},4.563625428945413E-3,{"$f":"RTD(\"cqg.rtd\",,\"StudyData\", \"Close(\"&$D$12&\") when LocalYear(\"&$D$12&\")=\"&$D$10&\" and localMonth(\"&$D$12&\") =\"&$E$10&\" and LocalDay(\"&$D$12&\")=\"&$F$10&\" and Barix(\"&$D$12&\",reference:=StartOfSession)=\"&A74&\"\", \"Bar\", \"\", \"Close\",\"5\",\"0\",\"PrimaryOnly\",,,\"False\",\"T\",\"EveryTick\")","v":7085.25},3.5054174633524539E-3,null,null,null,""]
[74,"14:40:00",-3,{"$f":" RTD(\"cqg.rtd\",,\"StudyData\", $D$12,  \"Tick\", \"FlatTicks=0\", \"Tick\",\"D\",C75,\"PrimaryOnly\")","v":7402.5},null,null,null,{"$f":"RTD(\"cqg.rtd\",,\"StudyData\", \"Close(\"&$D$12&\") when LocalYear(\"&$D$12&\")=\"&$D$1&\" and localMonth(\"&$D$12&\") =\"&$E$1&\" and LocalDay(\"&$D$12&\")=\"&$F$1&\" and Barix(\"&$D$12&\",reference:=StartOfSession)=\"&A75&\"\", \"Bar\", \"\", \"Close\",\"5\",\"0\",\"PrimaryOnly\",,,\"False\",\"T\",\"EveryTick\")","v":""},{"$error":"#N/A"},{"$f":"RTD(\"cqg.rtd\",,\"StudyData\", \"Close(\"&$D$12&\") when LocalYear(\"&$D$12&\")=\"&$D$2&\" and localMonth(\"&$D$12&\") =\"&$E$2&\" and LocalDay(\"&$D$12&\")=\"&$F$2&\" and Barix(\"&$D$12&\",reference:=StartOfSession)=\"&A75&\"\", \"Bar\", \"\", \"Close\",\"5\",\"0\",\"PrimaryOnly\",,,\"False\",\"T\",\"EveryTick\")","v":7374.5},1.6646562123039808E-2,{"$f":"RTD(\"cqg.rtd\",,\"StudyData\", \"Close(\"&$D$12&\") when LocalYear(\"&$D$12&\")=\"&$D$3&\" and localMonth(\"&$D$12&\") =\"&$E$3&\" and LocalDay(\"&$D$12&\")=\"&$F$3&\" and Barix(\"&$D$12&\",reference:=StartOfSession)=\"&A75&\"\", \"Bar\", \"\", \"Close\",\"5\",\"0\",\"PrimaryOnly\",,,\"False\",\"T\",\"EveryTick\")","v":7268},-4.5880983359583649E-3,{"$f":"RTD(\"cqg.rtd\",,\"StudyData\", \"Close(\"&$D$12&\") when LocalYear(\"&$D$12&\")=\"&$D$4&\" and localMonth(\"&$D$12&\") =\"&$E$4&\" and LocalDay(\"&$D$12&\")=\"&$F$4&\" and Barix(\"&$D$12&\",reference:=StartOfSession)=\"&A75&\"\", \"Bar\", \"\", \"Close\",\"5\",\"0\",\"PrimaryOnly\",,,\"False\",\"T\",\"EveryTick\")","v":7297},-4.4519023321119139E-4,{"$f":"RTD(\"cqg.rtd\",,\"StudyData\", \"Close(\"&$D$12&\") when LocalYear(\"&$D$12&\")=\"&$D$5&\" and localMonth(\"&$D$12&\") =\"&$E$5&\" and LocalDay(\"&$D$12&\")=\"&$F$5&\" and Barix(\"&$D$12&\",reference:=StartOfSession)=\"&A75&\"\", \"Bar\", \"\", \"Close\",\"5\",\"0\",\"PrimaryOnly\",,,\"False\",\"T\",\"EveryTick\")","v":7289.25},7.7071956867353283E-3,{"$f":"RTD(\"cqg.rtd\",,\"StudyData\", \"Close(\"&$D$12&\") when LocalYear(\"&$D$12&\")=\"&$D$6&\" and localMonth(\"&$D$12&\") =\"&$E$6&\" and LocalDay(\"&$D$12&\")=\"&$F$6&\" and Barix(\"&$D$12&\",reference:=StartOfSession)=\"&A75&\"\", \"Bar\", \"\", \"Close\",\"5\",\"0\",\"PrimaryOnly\",,,\"False\",\"T\",\"EveryTick\")","v":7224.75},1.3893274392169246E-2,{"$f":"RTD(\"cqg.rtd\",,\"StudyData\", \"Close(\"&$D$12&\") when LocalYear(\"&$D$12&\")=\"&$D$7&\" and localMonth(\"&$D$12&\") =\"&$E$7&\" and LocalDay(\"&$D$12&\")=\"&$F$7&\" and Barix(\"&$D$12&\",reference:=StartOfSession)=\"&A75&\"\", \"Bar\", \"\", \"Close\",\"5\",\"0\",\"PrimaryOnly\",,,\"False\",\"T\",\"EveryTick\")","v":7116.5},1.3205196654208934E-2,{"$f":"RTD(\"cqg.rtd\",,\"StudyData\", \"Close(\"&$D$12&\") when LocalYear(\"&$D$12&\")=\"&$D$8&\" and localMonth(\"&$D$12&\") =\"&$E$8&\" and LocalDay(\"&$D$12&\")=\"&$F$8&\" and Barix(\"&$D$12&\",reference:=StartOfSession)=\"&A75&\"\", \"Bar\", \"\", \"Close\",\"5\",\"0\",\"PrimaryOnly\",,,\"False\",\"T\",\"EveryTick\")","v":""},{"$error":"#N/A"},{"$f":"RTD(\"cqg.rtd\",,\"StudyData\", \"Close(\"&$D$12&\") when LocalYear(\"&$D$12&\")=\"&$D$9&\" and localMonth(\"&$D$12&\") =\"&$E$9&\" and LocalDay(\"&$D$12&\")=\"&$F$9&\" and Barix(\"&$D$12&\",reference:=StartOfSession)=\"&A75&\"\", \"Bar\", \"\", \"Close\",\"5\",\"0\",\"PrimaryOnly\",,,\"False\",\"T\",\"EveryTick\")","v":7098.25},4.4574946050164503E-3,{"$f":"RTD(\"cqg.rtd\",,\"StudyData\", \"Close(\"&$D$12&\") when LocalYear(\"&$D$12&\")=\"&$D$10&\" and localMonth(\"&$D$12&\") =\"&$E$10&\" and LocalDay(\"&$D$12&\")=\"&$F$10&\" and Barix(\"&$D$12&\",reference:=StartOfSession)=\"&A75&\"\", \"Bar\", \"\", \"Close\",\"5\",\"0\",\"PrimaryOnly\",,,\"False\",\"T\",\"EveryTick\")","v":7088.75},4.0011330642305788E-3,null,null,null,""]
[75,"14:45:00",-2,{"$f":" RTD(\"cqg.rtd\",,\"StudyData\", $D$12,  \"Tick\", \"FlatTicks=0\", \"Tick\",\"D\",C76,\"PrimaryOnly\")","v":7402.75},null,null,null,{"$f":"RTD(\"cqg.rtd\",,\"StudyData\", \"Close(\"&$D$12&\") when LocalYear(\"&$D$12&\")=\"&$D$1&\" and localMonth(\"&$D$12&\") =\"&$E$1&\" and LocalDay(\"&$D$12&\")=\"&$F$1&\" and Barix(\"&$D$12&\",reference:=StartOfSession)=\"&A76&\"\", \"Bar\", \"\", \"Close\",\"5\",\"0\",\"PrimaryOnly\",,,\"False\",\"T\",\"EveryTick\")","v":""},{"$error":"#N/A"},{"$f":"RTD(\"cqg.rtd\",,\"StudyData\", \"Close(\"&$D$12&\") when LocalYear(\"&$D$12&\")=\"&$D$2&\" and localMonth(\"&$D$12&\") =\"&$E$2&\" and LocalDay(\"&$D$12&\")=\"&$F$2&\" and Barix(\"&$D$12&\",reference:=StartOfSession)=\"&A76&\"\", \"Bar\", \"\", \"Close\",\"5\",\"0\",\"PrimaryOnly\",,,\"False\",\"T\",\"EveryTick\")","v":7381.25},1.7577115285197311E-2,{"$f":"RTD(\"cqg.rtd\",,\"StudyData\", \"Close(\"&$D$12&\") when LocalYear(\"&$D$12&\")=\"&$D$3&\" and localMonth(\"&$D$12&\") =\"&$E$3&\" and LocalDay(\"&$D$12&\")=\"&$F$3&\" and Barix(\"&$D$12&\",reference:=StartOfSession)=\"&A76&\"\", \"Bar\", \"\", \"Close\",\"5\",\"0\",\"PrimaryOnly\",,,\"False\",\"T\",\"EveryTick\")","v":7273.75},-3.8005889200849142E-3,{"$f":"RTD(\"cqg.rtd\",,\"StudyData\", \"Close(\"&$D$12&\") when LocalYear(\"&$D$12&\")=\"&$D$4&\" and localMonth(\"&$D$12&\") =\"&$E$4&\" and LocalDay(\"&$D$12&\")=\"&$F$4&\" and Barix(\"&$D$12&\",reference:=StartOfSession)=\"&A76&\"\", \"Bar\", \"\", \"Close\",\"5\",\"0\",\"PrimaryOnly\",,,\"False\",\"T\",\"EveryTick\")","v":7294.5},-7.8764425875826167E-4,{"$f":"RTD(\"cqg.rtd\",,\"StudyData\", \"Close(\"&$D$12&\") when LocalYear(\"&$D$12&\")=\"&$D$5&\" and localMonth(\"&$D$12&\") =\"&$E$5&\" and LocalDay(\"&$D$12&\")=\"&$F$5&\" and Barix(\"&$D$12&\",reference:=StartOfSession)=\"&A76&\"\", \"Bar\", \"\", \"Close\",\"5\",\"0\",\"PrimaryOnly\",,,\"False\",\"T\",\"EveryTick\")","v":7293},8.2256169212690956E-3,{"$f":"RTD(\"cqg.rtd\",,\"StudyData\", \"Close(\"&$D$12&\") when LocalYear(\"&$D$12&\")=\"&$D$6&\" and localMonth(\"&$D$12&\") =\"&$E$6&\" and LocalDay(\"&$D$12&\")=\"&$F$6&\" and Barix(\"&$D$12&\",reference:=StartOfSession)=\"&A76&\"\", \"Bar\", \"\", \"Close\",\"5\",\"0\",\"PrimaryOnly\",,,\"False\",\"T\",\"EveryTick\")","v":7217.25},1.2840753604883697E-2,{"$f":"RTD(\"cqg.rtd\",,\"StudyData\", \"Close(\"&$D$12&\") when LocalYear(\"&$D$12&\")=\"&$D$7&\" and localMonth(\"&$D$12&\") =\"&$E$7&\" and LocalDay(\"&$D$12&\")=\"&$F$7&\" and Barix(\"&$D$12&\",reference:=StartOfSession)=\"&A76&\"\", \"Bar\", \"\", \"Close\",\"5\",\"0\",\"PrimaryOnly\",,,\"False\",\"T\",\"EveryTick\")","v":7114.75},1.2956042000355935E-2,{"$f":"RTD(\"cqg.rtd\",,\"StudyData\", \"Close(\"&$D$12&\") when LocalYear(\"&$D$12&\")=\"&$D$8&\" and localMonth(\"&$D$12&\") =\"&$E$8&\" and LocalDay(\"&$D$12&\")=\"&$F$8&\" and Barix(\"&$D$12&\",reference:=StartOfSession)=\"&A76&\"\", \"Bar\", \"\", \"Close\",\"5\",\"0\",\"PrimaryOnly\",,,\"False\",\"T\",\"EveryTick\")","v":""},{"$error":"#N/A"},{"$f":"RTD(\"cqg.rtd\",,\"StudyData\", \"Close(\"&$D$12&\") when LocalYear(\"&$D$12&\")=\"&$D$9&\" and localMonth(\"&$D$12&\") =\"&$E$9&\" and LocalDay(\"&$D$12&\")=\"&$F$9&\" and Barix(\"&$D$12&\",reference:=StartOfSession)=\"&A76&\"\", \"Bar\", \"\", \"Close\",\"5\",\"0\",\"PrimaryOnly\",,,\"False\",\"T\",\"EveryTick\")","v":7102.25},5.0235256659709199E-3,{"$f":"RTD(\"cqg.rtd\",,\"StudyData\", \"Close(\"&$D$12&\") when LocalYear(\"&$D$12&\")=\"&$D$10&\" and localMonth(\"&$D$12&\") =\"&$E$10&\" and LocalDay(\"&$D$12&\")=\"&$F$10&\" and Barix(\"&$D$12&\",reference:=StartOfSession)=\"&A76&\"\", \"Bar\", \"\", \"Close\",\"5\",\"0\",\"PrimaryOnly\",,,\"False\",\"T\",\"EveryTick\")","v":7081.5},2.9742936052687486E-3,null,null,null,""]
[76,"14:50:00",-1,{"$f":" RTD(\"cqg.rtd\",,\"StudyData\", $D$12,  \"Tick\", \"FlatTicks=0\", \"Tick\",\"D\",C77,\"PrimaryOnly\")","v":7402.5},null,null,null,{"$f":"RTD(\"cqg.rtd\",,\"StudyData\", \"Close(\"&$D$12&\") when LocalYear(\"&$D$12&\")=\"&$D$1&\" and localMonth(\"&$D$12&\") =\"&$E$1&\" and LocalDay(\"&$D$12&\")=\"&$F$1&\" and Barix(\"&$D$12&\",reference:=StartOfSession)=\"&A77&\"\", \"Bar\", \"\", \"Close\",\"5\",\"0\",\"PrimaryOnly\",,,\"False\",\"T\",\"EveryTick\")","v":""},{"$error":"#N/A"},{"$f":"RTD(\"cqg.rtd\",,\"StudyData\", \"Close(\"&$D$12&\") when LocalYear(\"&$D$12&\")=\"&$D$2&\" and localMonth(\"&$D$12&\") =\"&$E$2&\" and LocalDay(\"&$D$12&\")=\"&$F$2&\" and Barix(\"&$D$12&\",reference:=StartOfSession)=\"&A77&\"\", \"Bar\", \"\", \"Close\",\"5\",\"0\",\"PrimaryOnly\",,,\"False\",\"T\",\"EveryTick\")","v":7378.5},1.7198001033947957E-2,{"$f":"RTD(\"cqg.rtd\",,\"StudyData\", \"Close(\"&$D$12&\") when LocalYear(\"&$D$12&\")=\"&$D$3&\" and localMonth(\"&$D$12&\") =\"&$E$3&\" and LocalDay(\"&$D$12&\")=\"&$F$3&\" and Barix(\"&$D$12&\",reference:=StartOfSession)=\"&A77&\"\", \"Bar\", \"\", \"Close\",\"5\",\"0\",\"PrimaryOnly\",,,\"False\",\"T\",\"EveryTick\")","v":7265.5},-4.9304937341642131E-3,{"$f":"RTD(\"cqg.rtd\",,\"StudyData\", \"Close(\"&$D$12&\") when LocalYear(\"&$D$12&\")=\"&$D$4&\" and localMonth(\"&$D$12&\") =\"&$E$4&\" and LocalDay(\"&$D$12&\")=\"&$F$4&\" and Barix(\"&$D$12&\",reference:=StartOfSession)=\"&A77&\"\", \"Bar\", \"\", \"Close\",\"5\",\"0\",\"PrimaryOnly\",,,\"False\",\"T\",\"EveryTick\")","v":7302},2.3971781788294921E-4,{"$f":"RTD(\"cqg.rtd\",,\"StudyData\", \"Close(\"&$D$12&\") when LocalYear(\"&$D$12&\")=\"&$D$5&\" and localMonth(\"&$D$12&\") =\"&$E$5&\" and LocalDay(\"&$D$12&\")=\"&$F$5&\" and Barix(\"&$D$12&\",reference:=StartOfSession)=\"&A77&\"\", \"Bar\", \"\", \"Close\",\"5\",\"0\",\"PrimaryOnly\",,,\"False\",\"T\",\"EveryTick\")","v":7291.25},7.9836870118200048E-3,{"$f":"RTD(\"cqg.rtd\",,\"StudyData\", \"Close(\"&$D$12&\") when LocalYear(\"&$D$12&\")=\"&$D$6&\" and localMonth(\"&$D$12&\") =\"&$E$6&\" and LocalDay(\"&$D$12&\")=\"&$F$6&\" and Barix(\"&$D$12&\",reference:=StartOfSession)=\"&A77&\"\", \"Bar\", \"\", \"Close\",\"5\",\"0\",\"PrimaryOnly\",,,\"False\",\"T\",\"EveryTick\")","v":7223.75},1.3752938287197839E-2,{"$f":"RTD(\"cqg.rtd\",,\"StudyData\", \"Close(\"&$D$12&\") when LocalYear(\"&$D$12&\")=\"&$D$7&\" and localMonth(\"&$D$12&\") =\"&$E$7&\" and LocalDay(\"&$D$12&\")=\"&$F$7&\" and Barix(\"&$D$12&\",reference:=StartOfSession)=\"&A77&\"\", \"Bar\", \"\", \"Close\",\"5\",\"0\",\"PrimaryOnly\",,,\"False\",\"T\",\"EveryTick\")","v":7122.75},1.409503470368393E-2,{"$f":"RTD(\"cqg.rtd\",,\"StudyData\", \"Close(\"&$D$12&\") when LocalYear(\"&$D$12&\")=\"&$D$8&\" and localMonth(\"&$D$12&\") =\"&$E$8&\" and LocalDay(\"&$D$12&\")=\"&$F$8&\" and Barix(\"&$D$12&\",reference:=StartOfSession)=\"&A77&\"\", \"Bar\", \"\", \"Close\",\"5\",\"0\",\"PrimaryOnly\",,,\"False\",\"T\",\"EveryTick\")","v":""},{"$error":"#N/A"},{"$f":"RTD(\"cqg.rtd\",,\"StudyData\", \"Close(\"&$D$12&\") when LocalYear(\"&$D$12&\")=\"&$D$9&\" and localMonth(\"&$D$12&\") =\"&$E$9&\" and LocalDay(\"&$D$12&\")=\"&$F$9&\" and Barix(\"&$D$12&\",reference:=StartOfSession)=\"&A77&\"\", \"Bar\", \"\", \"Close\",\"5\",\"0\",\"PrimaryOnly\",,,\"False\",\"T\",\"EveryTick\")","v":7108.5},5.9079491987122793E-3,{"$f":"RTD(\"cqg.rtd\",,\"StudyData\", \"Close(\"&$D$12&\") when LocalYear(\"&$D$12&\")=\"&$D$10&\" and localMonth(\"&$D$12&\") =\"&$E$10&\" and LocalDay(\"&$D$12&\")=\"&$F$10&\" and Barix(\"&$D$12&\",reference:=StartOfSession)=\"&A77&\"\", \"Bar\", \"\", \"Close\",\"5\",\"0\",\"PrimaryOnly\",,,\"False\",\"T\",\"EveryTick\")","v":7073.25},1.8058211174845973E-3,null,null,null,""]
[77,"14:55:00",{"$f":"C77+1","v":0},{"$f":" RTD(\"cqg.rtd\",,\"StudyData\", $D$12,  \"Tick\", \"FlatTicks=0\", \"Tick\",\"D\",C78,\"PrimaryOnly\")","v":7402.75},null,null,null,{"$f":"RTD(\"cqg.rtd\",,\"StudyData\", \"Close(\"&$D$12&\") when LocalYear(\"&$D$12&\")=\"&$D$1&\" and localMonth(\"&$D$12&\") =\"&$E$1&\" and LocalDay(\"&$D$12&\")=\"&$F$1&\" and Barix(\"&$D$12&\",reference:=StartOfSession)=\"&A78&\"\", \"Bar\", \"\", \"Close\",\"5\",\"0\",\"PrimaryOnly\",,,\"False\",\"T\",\"EveryTick\")","v":""},{"$error":"#N/A"},{"$f":"RTD(\"cqg.rtd\",,\"StudyData\", \"Close(\"&$D$12&\") when LocalYear(\"&$D$12&\")=\"&$D$2&\" and localMonth(\"&$D$12&\") =\"&$E$2&\" and LocalDay(\"&$D$12&\")=\"&$F$2&\" and Barix(\"&$D$12&\",reference:=StartOfSession)=\"&A78&\"\", \"Bar\", \"\", \"Close\",\"5\",\"0\",\"PrimaryOnly\",,,\"False\",\"T\",\"EveryTick\")","v":7384.25},1.7990694468378424E-2,{"$f":"RTD(\"cqg.rtd\",,\"StudyData\", \"Close(\"&$D$12&\") when LocalYear(\"&$D$12&\")=\"&$D$3&\" and localMonth(\"&$D$12&\") =\"&$E$3&\" and LocalDay(\"&$D$12&\")=\"&$F$3&\" and Barix(\"&$D$12&\",reference:=StartOfSession)=\"&A78&\"\", \"Bar\", \"\", \"Close\",\"5\",\"0\",\"PrimaryOnly\",,,\"False\",\"T\",\"EveryTick\")","v":7263.25},-5.2386495925494762E-3,{"$f":"RTD(\"cqg.rtd\",,\"StudyData\", \"Close(\"&$D$12&\") when LocalYear(\"&$D$12&\")=\"&$D$4&\" and localMonth(\"&$D$12&\") =\"&$E$4&\" and LocalDay(\"&$D$12&\")=\"&$F$4&\" and Barix(\"&$D$12&\",reference:=StartOfSession)=\"&A78&\"\", \"Bar\", \"\", \"Close\",\"5\",\"0\",\"PrimaryOnly\",,,\"False\",\"T\",\"EveryTick\")","v":7300.75},6.8490805109414063E-5,{"$f":"RTD(\"cqg.rtd\",,\"StudyData\", \"Close(\"&$D$12&\") when LocalYear(\"&$D$12&\")=\"&$D$5&\" and localMonth(\"&$D$12&\") =\"&$E$5&\" and LocalDay(\"&$D$12&\")=\"&$F$5&\" and Barix(\"&$D$12&\",reference:=StartOfSession)=\"&A78&\"\", \"Bar\", \"\", \"Close\",\"5\",\"0\",\"PrimaryOnly\",,,\"False\",\"T\",\"EveryTick\")","v":7296.75},8.744038155802861E-3,{"$f":"RTD(\"cqg.rtd\",,\"StudyData\", \"Close(\"&$D$12&\") when LocalYear(\"&$D$12&\")=\"&$D$6&\" and localMonth(\"&$D$12&\") =\"&$E$6&\" and LocalDay(\"&$D$12&\")=\"&$F$6&\" and Barix(\"&$D$12&\",reference:=StartOfSession)=\"&A78&\"\", \"Bar\", \"\", \"Close\",\"5\",\"0\",\"PrimaryOnly\",,,\"False\",\"T\",\"EveryTick\")","v":7228.5},1.4419534785812019E-2,{"$f":"RTD(\"cqg.rtd\",,\"StudyData\", \"Close(\"&$D$12&\") when LocalYear(\"&$D$12&\")=\"&$D$7&\" and localMonth(\"&$D$12&\") =\"&$E$7&\" and LocalDay(\"&$D$12&\")=\"&$F$7&\" and Barix(\"&$D$12&\",reference:=StartOfSession)=\"&A78&\"\", \"Bar\", \"\", \"Close\",\"5\",\"0\",\"PrimaryOnly\",,,\"False\",\"T\",\"EveryTick\")","v":7121.5},1.391706709378893E-2,{"$f":"RTD(\"cqg.rtd\",,\"StudyData\", \"Close(\"&$D$12&\") when LocalYear(\"&$D$12&\")=\"&$D$8&\" and localMonth(\"&$D$12&\") =\"&$E$8&\" and LocalDay(\"&$D$12&\")=\"&$F$8&\" and Barix(\"&$D$12&\",reference:=StartOfSession)=\"&A78&\"\", \"Bar\", \"\", \"Close\",\"5\",\"0\",\"PrimaryOnly\",,,\"False\",\"T\",\"EveryTick\")","v":""},{"$error":"#N/A"},{"$f":"RTD(\"cqg.rtd\",,\"StudyData\", \"Close(\"&$D$12&\") when LocalYear(\"&$D$12&\")=\"&$D$9&\" and localMonth(\"&$D$12&\") =\"&$E$9&\" and LocalDay(\"&$D$12&\")=\"&$F$9&\" and Barix(\"&$D$12&\",reference:=StartOfSession)=\"&A78&\"\", \"Bar\", \"\", \"Close\",\"5\",\"0\",\"PrimaryOnly\",,,\"False\",\"T\",\"EveryTick\")","v":7117.5},7.1815190858598365E-3,{"$f":"RTD(\"cqg.rtd\",,\"StudyData\", \"Close(\"&$D$12&\") when LocalYear(\"&$D$12&\")=\"&$D$10&\" and localMonth(\"&$D$12&\") =\"&$E$10&\" and LocalDay(\"&$D$12&\")=\"&$F$10&\" and Barix(\"&$D$12&\",reference:=StartOfSession)=\"&A78&\"\", \"Bar\", \"\", \"Close\",\"5\",\"0\",\"PrimaryOnly\",,,\"False\",\"T\",\"EveryTick\")","v":7062.25},2.478578004390624E-4,null,null,null,""]
[78,"15:00:00",null,null,null,null,null,{"$f":"RTD(\"cqg.rtd\",,\"StudyData\", \"Close(\"&$D$12&\") when LocalYear(\"&$D$12&\")=\"&$D$1&\" and localMonth(\"&$D$12&\") =\"&$E$1&\" and LocalDay(\"&$D$12&\")=\"&$F$1&\" and Barix(\"&$D$12&\",reference:=StartOfSession)=\"&A79&\"\", \"Bar\", \"\", \"Close\",\"5\",\"0\",\"PrimaryOnly\",,,\"False\",\"T\",\"EveryTick\")","v":""},{"$error":"#N/A"},{"$f":"RTD(\"cqg.rtd\",,\"StudyData\", \"Close(\"&$D$12&\") when LocalYear(\"&$D$12&\")=\"&$D$2&\" and localMonth(\"&$D$12&\") =\"&$E$2&\" and LocalDay(\"&$D$12&\")=\"&$F$2&\" and Barix(\"&$D$12&\",reference:=StartOfSession)=\"&A79&\"\", \"Bar\", \"\", \"Close\",\"5\",\"0\",\"PrimaryOnly\",,,\"False\",\"T\",\"EveryTick\")","v":7381.75},1.7646045149060832E-2,{"$f":"RTD(\"cqg.rtd\",,\"StudyData\", \"Close(\"&$D$12&\") when LocalYear(\"&$D$12&\")=\"&$D$3&\" and localMonth(\"&$D$12&\") =\"&$E$3&\" and LocalDay(\"&$D$12&\")=\"&$F$3&\" and Barix(\"&$D$12&\",reference:=StartOfSession)=\"&A79&\"\", \"Bar\", \"\", \"Close\",\"5\",\"0\",\"PrimaryOnly\",,,\"False\",\"T\",\"EveryTick\")","v":7261.5},-5.4783263712935701E-3,{"$f":"RTD(\"cqg.rtd\",,\"StudyData\", \"Close(\"&$D$12&\") when LocalYear(\"&$D$12&\")=\"&$D$4&\" and localMonth(\"&$D$12&\") =\"&$E$4&\" and LocalDay(\"&$D$12&\")=\"&$F$4&\" and Barix(\"&$D$12&\",reference:=StartOfSession)=\"&A79&\"\", \"Bar\", \"\", \"Close\",\"5\",\"0\",\"PrimaryOnly\",,,\"False\",\"T\",\"EveryTick\")","v":7302.75},3.4245402554707033E-4,{"$f":"RTD(\"cqg.rtd\",,\"StudyData\", \"Close(\"&$D$12&\") when LocalYear(\"&$D$12&\")=\"&$D$5&\" and localMonth(\"&$D$12&\") =\"&$E$5&\" and LocalDay(\"&$D$12&\")=\"&$F$5&\" and Barix(\"&$D$12&\",reference:=StartOfSession)=\"&A79&\"\", \"Bar\", \"\", \"Close\",\"5\",\"0\",\"PrimaryOnly\",,,\"False\",\"T\",\"EveryTick\")","v":7297},8.7785995714384467E-3,{"$f":"RTD(\"cqg.rtd\",,\"StudyData\", \"Close(\"&$D$12&\") when LocalYear(\"&$D$12&\")=\"&$D$6&\" and localMonth(\"&$D$12&\") =\"&$E$6&\" and LocalDay(\"&$D$12&\")=\"&$F$6&\" and Barix(\"&$D$12&\",reference:=StartOfSession)=\"&A79&\"\", \"Bar\", \"\", \"Close\",\"5\",\"0\",\"PrimaryOnly\",,,\"False\",\"T\",\"EveryTick\")","v":7232.25},1.4945795179454794E-2,{"$f":"RTD(\"cqg.rtd\",,\"StudyData\", \"Close(\"&$D$12&\") when LocalYear(\"&$D$12&\")=\"&$D$7&\" and localMonth(\"&$D$12&\") =\"&$E$7&\" and LocalDay(\"&$D$12&\")=\"&$F$7&\" and Barix(\"&$D$12&\",reference:=StartOfSession)=\"&A79&\"\", \"Bar\", \"\", \"Close\",\"5\",\"0\",\"PrimaryOnly\",,,\"False\",\"T\",\"EveryTick\")","v":7122.75},1.409503470368393E-2,{"$f":"RTD(\"cqg.rtd\",,\"StudyData\", \"Close(\"&$D$12&\") when LocalYear(\"&$D$12&\")=\"&$D$8&\" and localMonth(\"&$D$12&\") =\"&$E$8&\" and LocalDay(\"&$D$12&\")=\"&$F$8&\" and Barix(\"&$D$12&\",reference:=StartOfSession)=\"&A79&\"\", \"Bar\", \"\", \"Close\",\"5\",\"0\",\"PrimaryOnly\",,,\"False\",\"T\",\"EveryTick\")","v":""},{"$error":"#N/A"},{"$f":"RTD(\"cqg.rtd\",,\"StudyData\", \"Close(\"&$D$12&\") when LocalYear(\"&$D$12&\")=\"&$D$9&\" and localMonth(\"&$D$12&\") =\"&$E$9&\" and LocalDay(\"&$D$12&\")=\"&$F$9&\" and Barix(\"&$D$12&\",reference:=StartOfSession)=\"&A79&\"\", \"Bar\", \"\", \"Close\",\"5\",\"0\",\"PrimaryOnly\",,,\"False\",\"T\",\"EveryTick\")","v":7118.75},7.3584037924081082E-3,{"$f":"RTD(\"cqg.rtd\",,\"StudyData\", \"Close(\"&$D$12&\") when LocalYear(\"&$D$12&\")=\"&$D$10&\" and localMonth(\"&$D$12&\") =\"&$E$10&\" and LocalDay(\"&$D$12&\")=\"&$F$10&\" and Barix(\"&$D$12&\",reference:=StartOfSession)=\"&A79&\"\", \"Bar\", \"\", \"Close\",\"5\",\"0\",\"PrimaryOnly\",,,\"False\",\"T\",\"EveryTick\")","v":7077.25},2.3723532327738829E-3,null,null,null,""]
[79,"15:05:00",null,null,null,null,null,{"$f":"RTD(\"cqg.rtd\",,\"StudyData\", \"Close(\"&$D$12&\") when LocalYear(\"&$D$12&\")=\"&$D$1&\" and localMonth(\"&$D$12&\") =\"&$E$1&\" and LocalDay(\"&$D$12&\")=\"&$F$1&\" and Barix(\"&$D$12&\",reference:=StartOfSession)=\"&A80&\"\", \"Bar\", \"\", \"Close\",\"5\",\"0\",\"PrimaryOnly\",,,\"False\",\"T\",\"EveryTick\")","v":""},{"$error":"#N/A"},{"$f":"RTD(\"cqg.rtd\",,\"StudyData\", \"Close(\"&$D$12&\") when LocalYear(\"&$D$12&\")=\"&$D$2&\" and localMonth(\"&$D$12&\") =\"&$E$2&\" and LocalDay(\"&$D$12&\")=\"&$F$2&\" and Barix(\"&$D$12&\",reference:=StartOfSession)=\"&A80&\"\", \"Bar\", \"\", \"Close\",\"5\",\"0\",\"PrimaryOnly\",,,\"False\",\"T\",\"EveryTick\")","v":7379.5},1.7335860761674995E-2,{"$f":"RTD(\"cqg.rtd\",,\"StudyData\", \"Close(\"&$D$12&\") when LocalYear(\"&$D$12&\")=\"&$D$3&\" and localMonth(\"&$D$12&\") =\"&$E$3&\" and LocalDay(\"&$D$12&\")=\"&$F$3&\" and Barix(\"&$D$12&\",reference:=StartOfSession)=\"&A80&\"\", \"Bar\", \"\", \"Close\",\"5\",\"0\",\"PrimaryOnly\",,,\"False\",\"T\",\"EveryTick\")","v":7256.5},-6.1631171677052664E-3,{"$f":"RTD(\"cqg.rtd\",,\"StudyData\", \"Close(\"&$D$12&\") when LocalYear(\"&$D$12&\")=\"&$D$4&\" and localMonth(\"&$D$12&\") =\"&$E$4&\" and LocalDay(\"&$D$12&\")=\"&$F$4&\" and Barix(\"&$D$12&\",reference:=StartOfSession)=\"&A80&\"\", \"Bar\", \"\", \"Close\",\"5\",\"0\",\"PrimaryOnly\",,,\"False\",\"T\",\"EveryTick\")","v":7304.25},5.4792644087531251E-4,{"$f":"RTD(\"cqg.rtd\",,\"StudyData\", \"Close(\"&$D$12&\") when LocalYear(\"&$D$12&\")=\"&$D$5&\" and localMonth(\"&$D$12&\") =\"&$E$5&\" and LocalDay(\"&$D$12&\")=\"&$F$5&\" and Barix(\"&$D$12&\",reference:=StartOfSession)=\"&A80&\"\", \"Bar\", \"\", \"Close\",\"5\",\"0\",\"PrimaryOnly\",,,\"False\",\"T\",\"EveryTick\")","v":7297.5},8.8477224027096145E-3,{"$f":"RTD(\"cqg.rtd\",,\"StudyData\", \"Close(\"&$D$12&\") when LocalYear(\"&$D$12&\")=\"&$D$6&\" and localMonth(\"&$D$12&\") =\"&$E$6&\" and LocalDay(\"&$D$12&\")=\"&$F$6&\" and Barix(\"&$D$12&\",reference:=StartOfSession)=\"&A80&\"\", \"Bar\", \"\", \"Close\",\"5\",\"0\",\"PrimaryOnly\",,,\"False\",\"T\",\"EveryTick\")","v":7232},1.4910711153211943E-2,{"$f":"RTD(\"cqg.rtd\",,\"StudyData\", \"Close(\"&$D$12&\") when LocalYear(\"&$D$12&\")=\"&$D$7&\" and localMonth(\"&$D$12&\") =\"&$E$7&\" and LocalDay(\"&$D$12&\")=\"&$F$7&\" and Barix(\"&$D$12&\",reference:=StartOfSession)=\"&A80&\"\", \"Bar\", \"\", \"Close\",\"5\",\"0\",\"PrimaryOnly\",,,\"False\",\"T\",\"EveryTick\")","v":7125.25},1.4450969923473929E-2,{"$f":"RTD(\"cqg.rtd\",,\"StudyData\", \"Close(\"&$D$12&\") when LocalYear(\"&$D$12&\")=\"&$D$8&\" and localMonth(\"&$D$12&\") =\"&$E$8&\" and LocalDay(\"&$D$12&\")=\"&$F$8&\" and Barix(\"&$D$12&\",reference:=StartOfSession)=\"&A80&\"\", \"Bar\", \"\", \"Close\",\"5\",\"0\",\"PrimaryOnly\",,,\"False\",\"T\",\"EveryTick\")","v":""},{"$error":"#N/A"},{"$f":"RTD(\"cqg.rtd\",,\"StudyData\", \"Close(\"&$D$12&\") when LocalYear(\"&$D$12&\")=\"&$D$9&\" and localMonth(\"&$D$12&\") =\"&$E$9&\" and LocalDay(\"&$D$12&\")=\"&$F$9&\" and Barix(\"&$D$12&\",reference:=StartOfSession)=\"&A80&\"\", \"Bar\", \"\", \"Close\",\"5\",\"0\",\"PrimaryOnly\",,,\"False\",\"T\",\"EveryTick\")","v":7118},7.2522729684791455E-3,{"$f":"RTD(\"cqg.rtd\",,\"StudyData\", \"Close(\"&$D$12&\") when LocalYear(\"&$D$12&\")=\"&$D$10&\" and localMonth(\"&$D$12&\") =\"&$E$10&\" and LocalDay(\"&$D$12&\")=\"&$F$10&\" and Barix(\"&$D$12&\",reference:=StartOfSession)=\"&A80&\"\", \"Bar\", \"\", \"Close\",\"5\",\"0\",\"PrimaryOnly\",,,\"False\",\"T\",\"EveryTick\")","v":7072.75},1.7350046030734367E-3,null,null,null,""]
[80,"15:10:00",null,null,null,null,null,{"$f":"RTD(\"cqg.rtd\",,\"StudyData\", \"Close(\"&$D$12&\") when LocalYear(\"&$D$12&\")=\"&$D$1&\" and localMonth(\"&$D$12&\") =\"&$E$1&\" and LocalDay(\"&$D$12&\")=\"&$F$1&\" and Barix(\"&$D$12&\",reference:=StartOfSession)=\"&A81&\"\", \"Bar\", \"\", \"Close\",\"5\",\"0\",\"PrimaryOnly\",,,\"False\",\"T\",\"EveryTick\")","v":""},{"$error":"#N/A"},{"$f":"RTD(\"cqg.rtd\",,\"StudyData\", \"Close(\"&$D$12&\") when LocalYear(\"&$D$12&\")=\"&$D$2&\" and localMonth(\"&$D$12&\") =\"&$E$2&\" and LocalDay(\"&$D$12&\")=\"&$F$2&\" and Barix(\"&$D$12&\",reference:=StartOfSession)=\"&A81&\"\", \"Bar\", \"\", \"Close\",\"5\",\"0\",\"PrimaryOnly\",,,\"False\",\"T\",\"EveryTick\")","v":7382.75},1.7783904876787868E-2,{"$f":"RTD(\"cqg.rtd\",,\"StudyData\", \"Close(\"&$D$12&\") when LocalYear(\"&$D$12&\")=\"&$D$3&\" and localMonth(\"&$D$12&\") =\"&$E$3&\" and LocalDay(\"&$D$12&\")=\"&$F$3&\" and Barix(\"&$D$12&\",reference:=StartOfSession)=\"&A81&\"\", \"Bar\", \"\", \"Close\",\"5\",\"0\",\"PrimaryOnly\",,,\"False\",\"T\",\"EveryTick\")","v":7253.75},-6.5397521057316988E-3,{"$f":"RTD(\"cqg.rtd\",,\"StudyData\", \"Close(\"&$D$12&\") when LocalYear(\"&$D$12&\")=\"&$D$4&\" and localMonth(\"&$D$12&\") =\"&$E$4&\" and LocalDay(\"&$D$12&\")=\"&$F$4&\" and Barix(\"&$D$12&\",reference:=StartOfSession)=\"&A81&\"\", \"Bar\", \"\", \"Close\",\"5\",\"0\",\"PrimaryOnly\",,,\"False\",\"T\",\"EveryTick\")","v":7301.5},1.7122701277353517E-4,{"$f":"RTD(\"cqg.rtd\",,\"StudyData\", \"Close(\"&$D$12&\") when LocalYear(\"&$D$12&\")=\"&$D$5&\" and localMonth(\"&$D$12&\") =\"&$E$5&\" and LocalDay(\"&$D$12&\")=\"&$F$5&\" and Barix(\"&$D$12&\",reference:=StartOfSession)=\"&A81&\"\", \"Bar\", \"\", \"Close\",\"5\",\"0\",\"PrimaryOnly\",,,\"False\",\"T\",\"EveryTick\")","v":7300.25},9.2278979747010444E-3,{"$f":"RTD(\"cqg.rtd\",,\"StudyData\", \"Close(\"&$D$12&\") when LocalYear(\"&$D$12&\")=\"&$D$6&\" and localMonth(\"&$D$12&\") =\"&$E$6&\" and LocalDay(\"&$D$12&\")=\"&$F$6&\" and Barix(\"&$D$12&\",reference:=StartOfSession)=\"&A81&\"\", \"Bar\", \"\", \"Close\",\"5\",\"0\",\"PrimaryOnly\",,,\"False\",\"T\",\"EveryTick\")","v":7233.5},1.5121215310669052E-2,{"$f":"RTD(\"cqg.rtd\",,\"StudyData\", \"Close(\"&$D$12&\") when LocalYear(\"&$D$12&\")=\"&$D$7&\" and localMonth(\"&$D$12&\") =\"&$E$7&\" and LocalDay(\"&$D$12&\")=\"&$F$7&\" and Barix(\"&$D$12&\",reference:=StartOfSession)=\"&A81&\"\", \"Bar\", \"\", \"Close\",\"5\",\"0\",\"PrimaryOnly\",,,\"False\",\"T\",\"EveryTick\")","v":7125.75},1.4522156967431928E-2,{"$f":"RTD(\"cqg.rtd\",,\"StudyData\", \"Close(\"&$D$12&\") when LocalYear(\"&$D$12&\")=\"&$D$8&\" and localMonth(\"&$D$12&\") =\"&$E$8&\" and LocalDay(\"&$D$12&\")=\"&$F$8&\" and Barix(\"&$D$12&\",reference:=StartOfSession)=\"&A81&\"\", \"Bar\", \"\", \"Close\",\"5\",\"0\",\"PrimaryOnly\",,,\"False\",\"T\",\"EveryTick\")","v":""},{"$error":"#N/A"},{"$f":"RTD(\"cqg.rtd\",,\"StudyData\", \"Close(\"&$D$12&\") when LocalYear(\"&$D$12&\")=\"&$D$9&\" and localMonth(\"&$D$12&\") =\"&$E$9&\" and LocalDay(\"&$D$12&\")=\"&$F$9&\" and Barix(\"&$D$12&\",reference:=StartOfSession)=\"&A81&\"\", \"Bar\", \"\", \"Close\",\"5\",\"0\",\"PrimaryOnly\",,,\"False\",\"T\",\"EveryTick\")","v":7116.5},7.0400113206212193E-3,{"$f":"RTD(\"cqg.rtd\",,\"StudyData\", \"Close(\"&$D$12&\") when LocalYear(\"&$D$12&\")=\"&$D$10&\" and localMonth(\"&$D$12&\") =\"&$E$10&\" and LocalDay(\"&$D$12&\")=\"&$F$10&\" and Barix(\"&$D$12&\",reference:=StartOfSession)=\"&A81&\"\", \"Bar\", \"\", \"Close\",\"5\",\"0\",\"PrimaryOnly\",,,\"False\",\"T\",\"EveryTick\")","v":7073},1.7704128602790171E-3,null,null,null,""]
[]
[null,null,null,null,null,null,null,null,null,null,null,null,null,null,null,null,null,null,null,null,null,null,null,null,null,null,null,null,null,null,{"$f":"MAX(AE1:AE81)","v":23}]

{"sheet":"Sheet4","index":2,"n_rows":93,"n_cols":20,"rows_kept":93,"cut":false,"hidden":true,"merged":[]}
[null,{"$f":"Sheet3!I1","v":1.4222342623006333E-3},{"$f":"Sheet3!K1","v":6.479407203170774E-3},null,{"$f":"Sheet3!M1","v":-5.444086831472985E-3},null,{"$f":"Sheet3!O1","v":-6.1641724598472658E-4},null,{"$f":"Sheet3!Q1","v":6.0136863205916911E-3},null,{"$f":"Sheet3!S1","v":8.7710065607129073E-4},null,{"$f":"Sheet3!U1","v":8.791599928812956E-3},null,{"$f":"Sheet3!W1","v":1.5808332747839528E-3},null,{"$f":"Sheet3!Y1","v":-9.3395125057487531E-3},null,{"$f":"Sheet3!AA1","v":5.0633807803979886E-3}]
[null,{"$f":"Sheet3!I2","v":1.2529206596457959E-3},{"$f":"Sheet3!K2","v":7.5133551611235565E-3},{"$f":"IF(ISNUMBER(C2),CORREL($B$1:B2,$C$1:C2),\"\")","v":-1.0000000000000002},{"$f":"Sheet3!M2","v":-4.9304937341642131E-3},{"$f":"IF(ISNUMBER(E2),CORREL($B$1:B2,$E$1:E2),\"\")","v":-1},{"$f":"Sheet3!O2","v":6.8490805109414066E-4},{"$f":"IF(ISNUMBER(G2),CORREL($B$1:B2,$G$1:G2),\"\")","v":-1},{"$f":"Sheet3!Q2","v":5.7026335798714316E-3},{"$f":"IF(ISNUMBER(I2),CORREL($B$1:B2,$I$1:I2),\"\")","v":1.0000000000000002},{"$f":"Sheet3!S2","v":3.5084026242851629E-3},{"$f":"IF(ISNUMBER(K2),CORREL($B$1:B2,$K$1:K2),\"\")","v":-1},{"$f":"Sheet3!U2","v":1.0108560242035949E-2},{"$f":"IF(ISNUMBER(M2),CORREL($B$1:B2,$M$1:M2),\"\")","v":-1},{"$f":"Sheet3!W2","v":-9.1337033654183936E-4},{"$f":"IF(ISNUMBER(O2),CORREL($B$1:B2,$O$1:O2),\"\")","v":1},{"$f":"Sheet3!Y2","v":-6.6154880249053669E-3},{"$f":"IF(ISNUMBER(Q2),CORREL($B$1:B2,$Q$1:Q2),\"\")","v":-1},{"$f":"Sheet3!AA2","v":4.7447064655477657E-3},{"$f":"IF(ISNUMBER(S2),CORREL($B$1:B2,$S$1:S2),\"\")","v":1}]
[null,{"$f":"Sheet3!I3","v":4.4021536690257694E-4},{"$f":"Sheet3!K3","v":7.0653110460106843E-3},{"$f":"IF(ISNUMBER(C3),CORREL($B$1:B3,$C$1:C3),\"\")","v":-0.23653503615479701},{"$f":"Sheet3!M3","v":-5.9576799287817568E-3},{"$f":"IF(ISNUMBER(E3),CORREL($B$1:B3,$E$1:E3),\"\")","v":0.77405931456755517},{"$f":"Sheet3!O3","v":4.1094483065648435E-4},{"$f":"IF(ISNUMBER(G3),CORREL($B$1:B3,$G$1:G3),\"\")","v":-0.4658100493034274},{"$f":"Sheet3!Q3","v":6.0136863205916911E-3},{"$f":"IF(ISNUMBER(I3),CORREL($B$1:B3,$I$1:I3),\"\")","v":-0.35379848829383276},{"$f":"Sheet3!S3","v":3.4733185980423114E-3},{"$f":"IF(ISNUMBER(K3),CORREL($B$1:B3,$K$1:K3),\"\")","v":-0.6240728664533608},{"$f":"Sheet3!U3","v":1.0428901939846948E-2},{"$f":"IF(ISNUMBER(M3),CORREL($B$1:B3,$M$1:M3),\"\")","v":-0.76511405424432477},{"$f":"Sheet3!W3","v":-1.7916110447551464E-3},{"$f":"IF(ISNUMBER(O3),CORREL($B$1:B3,$O$1:O3),\"\")","v":0.80712757482290731},{"$f":"Sheet3!Y3","v":-7.5706654402660344E-3},{"$f":"IF(ISNUMBER(Q3),CORREL($B$1:B3,$Q$1:Q3),\"\")","v":-0.32663879830982501},{"$f":"Sheet3!AA3","v":6.9754266694993274E-3},{"$f":"IF(ISNUMBER(S3),CORREL($B$1:B3,$S$1:S3),\"\")","v":-0.9569693868561997}]
[null,{"$f":"Sheet3!I4","v":6.7725441061934914E-4},{"$f":"Sheet3!K4","v":6.9274513182836462E-3},{"$f":"IF(ISNUMBER(C4),CORREL($B$1:B4,$C$1:C4),\"\")","v":-0.1748030685245438},{"$f":"Sheet3!M4","v":-5.6837636102170788E-3},{"$f":"IF(ISNUMBER(E4),CORREL($B$1:B4,$E$1:E4),\"\")","v":0.79255997253849353},{"$f":"Sheet3!O4","v":-1.061607479195918E-3},{"$f":"IF(ISNUMBER(G4),CORREL($B$1:B4,$G$1:G4),\"\")","v":-4.0114076152268129E-3},{"$f":"Sheet3!Q4","v":5.6335107486002629E-3},{"$f":"IF(ISNUMBER(I4),CORREL($B$1:B4,$I$1:I4),\"\")","v":2.9133303859164929E-2},{"$f":"Sheet3!S4","v":3.0873943093709436E-3},{"$f":"IF(ISNUMBER(K4),CORREL($B$1:B4,$K$1:K4),\"\")","v":-0.63742827269700775},{"$f":"Sheet3!U4","v":9.7170315002669521E-3},{"$f":"IF(ISNUMBER(M4),CORREL($B$1:B4,$M$1:M4),\"\")","v":-0.68822419603921003},{"$f":"Sheet3!W4","v":-1.5457036464554205E-3},{"$f":"IF(ISNUMBER(O4),CORREL($B$1:B4,$O$1:O4),\"\")","v":0.83549040556477583},{"$f":"Sheet3!Y4","v":-5.2711642551385007E-3},{"$f":"IF(ISNUMBER(Q4),CORREL($B$1:B4,$Q$1:Q4),\"\")","v":-0.49038189625348999},{"$f":"Sheet3!AA4","v":6.8692018978825861E-3},{"$f":"IF(ISNUMBER(S4),CORREL($B$1:B4,$S$1:S4),\"\")","v":-0.95134740538282281}]
[null,{"$f":"Sheet3!I5","v":-1.2867833801767634E-3},{"$f":"Sheet3!K5","v":8.0303291400999482E-3},{"$f":"IF(ISNUMBER(C5),CORREL($B$1:B5,$C$1:C5),\"\")","v":-0.76586618566298248},{"$f":"Sheet3!M5","v":-4.5880983359583649E-3},{"$f":"IF(ISNUMBER(E5),CORREL($B$1:B5,$E$1:E5),\"\")","v":-0.4810324031484367},{"$f":"Sheet3!O5","v":-1.3355706996335743E-3},{"$f":"IF(ISNUMBER(G5),CORREL($B$1:B5,$G$1:G5),\"\")","v":0.55126780813477838},{"$f":"Sheet3!Q5","v":3.2487730697449368E-3},{"$f":"IF(ISNUMBER(I5),CORREL($B$1:B5,$I$1:I5),\"\")","v":0.9187947239483818},{"$f":"Sheet3!S5","v":4.1399150966564919E-3},{"$f":"IF(ISNUMBER(K5),CORREL($B$1:B5,$K$1:K5),\"\")","v":-0.67033430460657117},{"$f":"Sheet3!U5","v":9.1475351486029546E-3},{"$f":"IF(ISNUMBER(M5),CORREL($B$1:B5,$M$1:M5),\"\")","v":0.14373709639520507},{"$f":"Sheet3!W5","v":-2.5995924963113891E-3},{"$f":"IF(ISNUMBER(O5),CORREL($B$1:B5,$O$1:O5),\"\")","v":0.76573702974327851},{"$f":"Sheet3!Y5","v":-4.7405101354936856E-3},{"$f":"IF(ISNUMBER(Q5),CORREL($B$1:B5,$Q$1:Q5),\"\")","v":-0.70001336269140868},{"$f":"Sheet3!AA5","v":6.5151193258267829E-3},{"$f":"IF(ISNUMBER(S5),CORREL($B$1:B5,$S$1:S5),\"\")","v":-0.58128444013683622}]
[null,{"$f":"Sheet3!I6","v":-1.2867833801767634E-3},{"$f":"Sheet3!K6","v":8.7885576425986555E-3},{"$f":"IF(ISNUMBER(C6),CORREL($B$1:B6,$C$1:C6),\"\")","v":-0.85382978104088236},{"$f":"Sheet3!M6","v":-5.1701705129083061E-3},{"$f":"IF(ISNUMBER(E6),CORREL($B$1:B6,$E$1:E6),\"\")","v":-0.45453714279085067},{"$f":"Sheet3!O6","v":-8.2188966131296871E-4},{"$f":"IF(ISNUMBER(G6),CORREL($B$1:B6,$G$1:G6),\"\")","v":0.56077122815758296},{"$f":"Sheet3!Q6","v":4.1473698762701317E-3},{"$f":"IF(ISNUMBER(I6),CORREL($B$1:B6,$I$1:I6),\"\")","v":0.91723280778605543},{"$f":"Sheet3!S6","v":5.0520997789706345E-3},{"$f":"IF(ISNUMBER(K6),CORREL($B$1:B6,$K$1:K6),\"\")","v":-0.78872413046193701},{"$f":"Sheet3!U6","v":7.6170137035059616E-3},{"$f":"IF(ISNUMBER(M6),CORREL($B$1:B6,$M$1:M6),\"\")","v":0.5553518552289527},{"$f":"Sheet3!W6","v":-1.9672591863978081E-3},{"$f":"IF(ISNUMBER(O6),CORREL($B$1:B6,$O$1:O6),\"\")","v":0.74347363062005623},{"$f":"Sheet3!Y6","v":-4.563625428945413E-3},{"$f":"IF(ISNUMBER(Q6),CORREL($B$1:B6,$Q$1:Q6),\"\")","v":-0.77588454947348517},{"$f":"Sheet3!AA6","v":6.4088945542100416E-3},{"$f":"IF(ISNUMBER(S6),CORREL($B$1:B6,$S$1:S6),\"\")","v":-0.55447356533288983}]
[null,{"$f":"Sheet3!I7","v":3.386272053096746E-5},{"$f":"Sheet3!K7","v":9.78804066861968E-3},{"$f":"IF(ISNUMBER(C7),CORREL($B$1:B7,$C$1:C7),\"\")","v":-0.60315257719512538},{"$f":"Sheet3!M7","v":-3.1500376634938025E-3},{"$f":"IF(ISNUMBER(E7),CORREL($B$1:B7,$E$1:E7),\"\")","v":-0.27367273641366696},{"$f":"Sheet3!O7","v":-4.7943563576589843E-4},{"$f":"IF(ISNUMBER(G7),CORREL($B$1:B7,$G$1:G7),\"\")","v":0.560461779269113},{"$f":"Sheet3!Q7","v":3.7326328886431188E-3},{"$f":"IF(ISNUMBER(I7),CORREL($B$1:B7,$I$1:I7),\"\")","v":0.84475241922497213},{"$f":"Sheet3!S7","v":5.3327719889134477E-3},{"$f":"IF(ISNUMBER(K7),CORREL($B$1:B7,$K$1:K7),\"\")","v":-0.70858001689839389},{"$f":"Sheet3!U7","v":7.118704395799964E-3},{"$f":"IF(ISNUMBER(M7),CORREL($B$1:B7,$M$1:M7),\"\")","v":0.45355241275188224},{"$f":"Sheet3!W7","v":-1.7564814164266142E-3},{"$f":"IF(ISNUMBER(O7),CORREL($B$1:B7,$O$1:O7),\"\")","v":0.74234477663527254},{"$f":"Sheet3!Y7","v":-3.2546786004882017E-3},{"$f":"IF(ISNUMBER(Q7),CORREL($B$1:B7,$Q$1:Q7),\"\")","v":-0.67143135398287868},{"$f":"Sheet3!AA7","v":7.0108349267049078E-3},{"$f":"IF(ISNUMBER(S7),CORREL($B$1:B7,$S$1:S7),\"\")","v":-0.53576639335791043}]
[null,{"$f":"Sheet3!I8","v":1.1851952185838611E-3},{"$f":"Sheet3!K8","v":1.0339479579527831E-2},{"$f":"IF(ISNUMBER(C8),CORREL($B$1:B8,$C$1:C8),\"\")","v":-0.22707520348634755},{"$f":"Sheet3!M8","v":-3.7663493802643291E-3},{"$f":"IF(ISNUMBER(E8),CORREL($B$1:B8,$E$1:E8),\"\")","v":-8.3972510159972522E-2},{"$f":"Sheet3!O8","v":-6.1641724598472658E-4},{"$f":"IF(ISNUMBER(G8),CORREL($B$1:B8,$G$1:G8),\"\")","v":0.50154433181923808},{"$f":"Sheet3!Q8","v":3.1796502384737681E-3},{"$f":"IF(ISNUMBER(I8),CORREL($B$1:B8,$I$1:I8),\"\")","v":0.53216997707851499},{"$f":"Sheet3!S8","v":5.4380240676420027E-3},{"$f":"IF(ISNUMBER(K8),CORREL($B$1:B8,$K$1:K8),\"\")","v":-0.46840936578103881},{"$f":"Sheet3!U8","v":8.328884143085958E-3},{"$f":"IF(ISNUMBER(M8),CORREL($B$1:B8,$M$1:M8),\"\")","v":0.35463710615761157},{"$f":"Sheet3!W8","v":-1.8969999297407433E-3},{"$f":"IF(ISNUMBER(O8),CORREL($B$1:B8,$O$1:O8),\"\")","v":0.63541628506209824},{"$f":"Sheet3!Y8","v":-3.7853327201330172E-3},{"$f":"IF(ISNUMBER(Q8),CORREL($B$1:B8,$Q$1:Q8),\"\")","v":-0.47065663532785074},{"$f":"Sheet3!AA8","v":6.1256284965653992E-3},{"$f":"IF(ISNUMBER(S8),CORREL($B$1:B8,$S$1:S8),\"\")","v":-0.5191821702546201}]
[null,{"$f":"Sheet3!I9","v":1.2529206596457959E-3},{"$f":"Sheet3!K9","v":9.9259003963467173E-3},{"$f":"IF(ISNUMBER(C9),CORREL($B$1:B9,$C$1:C9),\"\")","v":-7.2566942667655496E-2},{"$f":"Sheet3!M9","v":-4.2457029377525168E-3},{"$f":"IF(ISNUMBER(E9),CORREL($B$1:B9,$E$1:E9),\"\")","v":-1.4876586504115778E-2},{"$f":"Sheet3!O9","v":-1.3013252970788672E-3},{"$f":"IF(ISNUMBER(G9),CORREL($B$1:B9,$G$1:G9),\"\")","v":0.32548834476103738},{"$f":"Sheet3!Q9","v":1.4861408723301306E-3},{"$f":"IF(ISNUMBER(I9),CORREL($B$1:B9,$I$1:I9),\"\")","v":0.17334816749847351},{"$f":"Sheet3!S9","v":5.2976879626705957E-3},{"$f":"IF(ISNUMBER(K9),CORREL($B$1:B9,$K$1:K9),\"\")","v":-0.32801394967927078},{"$f":"Sheet3!U9","v":6.3356469122619686E-3},{"$f":"IF(ISNUMBER(M9),CORREL($B$1:B9,$M$1:M9),\"\")","v":8.4116356343914664E-2},{"$f":"Sheet3!W9","v":-9.4849996487037164E-4},{"$f":"IF(ISNUMBER(O9),CORREL($B$1:B9,$O$1:O9),\"\")","v":0.63668429471298948},{"$f":"Sheet3!Y9","v":-5.7664414334736621E-3},{"$f":"IF(ISNUMBER(Q9),CORREL($B$1:B9,$Q$1:Q9),\"\")","v":-0.45560352270722732},{"$f":"Sheet3!AA9","v":4.9925642659868277E-3},{"$f":"IF(ISNUMBER(S9),CORREL($B$1:B9,$S$1:S9),\"\")","v":-0.57651360225965731}]
[null,{"$f":"Sheet3!I10","v":4.7407808743354441E-4},{"$f":"Sheet3!K10","v":1.0442874375323109E-2},{"$f":"IF(ISNUMBER(C10),CORREL($B$1:B10,$C$1:C10),\"\")","v":-5.6105716820421252E-2},{"$f":"Sheet3!M10","v":-2.3967677874409368E-3},{"$f":"IF(ISNUMBER(E10),CORREL($B$1:B10,$E$1:E10),\"\")","v":1.9248403898610008E-3},{"$f":"Sheet3!O10","v":0},{"$f":"IF(ISNUMBER(G10),CORREL($B$1:B10,$G$1:G10),\"\")","v":0.31934229009165777},{"$f":"Sheet3!Q10","v":1.6589479505080527E-3},{"$f":"IF(ISNUMBER(I10),CORREL($B$1:B10,$I$1:I10),\"\")","v":0.14072627873342702},{"$f":"Sheet3!S10","v":4.8065115952706733E-3},{"$f":"IF(ISNUMBER(K10),CORREL($B$1:B10,$K$1:K10),\"\")","v":-0.3194502766363771},{"$f":"Sheet3!U10","v":5.9441181704929704E-3},{"$f":"IF(ISNUMBER(M10),CORREL($B$1:B10,$M$1:M10),\"\")","v":5.9772848297780436E-2},{"$f":"Sheet3!W10","v":-4.9181479659945202E-4},{"$f":"IF(ISNUMBER(O10),CORREL($B$1:B10,$O$1:O10),\"\")","v":0.62492143727321048},{"$f":"Sheet3!Y10","v":-4.0329713093005979E-3},{"$f":"IF(ISNUMBER(Q10),CORREL($B$1:B10,$Q$1:Q10),\"\")","v":-0.43279374452647335},{"$f":"Sheet3!AA10","v":5.3820550952482123E-3},{"$f":"IF(ISNUMBER(S10),CORREL($B$1:B10,$S$1:S10),\"\")","v":-0.56324240027242067}]
[null,{"$f":"Sheet3!I11","v":1.4560969828316006E-3},{"$f":"Sheet3!K11","v":1.0339479579527831E-2},{"$f":"IF(ISNUMBER(C11),CORREL($B$1:B11,$C$1:C11),\"\")","v":6.1207134130161635E-2},{"$f":"Sheet3!M11","v":-2.2940491679791825E-3},{"$f":"IF(ISNUMBER(E11),CORREL($B$1:B11,$E$1:E11),\"\")","v":0.16648817631862875},{"$f":"Sheet3!O11","v":-2.3971781788294921E-4},{"$f":"IF(ISNUMBER(G11),CORREL($B$1:B11,$G$1:G11),\"\")","v":0.34016829977491858},{"$f":"Sheet3!Q11","v":2.3847376788553257E-3},{"$f":"IF(ISNUMBER(I11),CORREL($B$1:B11,$I$1:I11),\"\")","v":3.3963738260671665E-2},{"$f":"Sheet3!S11","v":4.4556713328421571E-3},{"$f":"IF(ISNUMBER(K11),CORREL($B$1:B11,$K$1:K11),\"\")","v":-0.27774995307564238},{"$f":"Sheet3!U11","v":5.9085246485139709E-3},{"$f":"IF(ISNUMBER(M11),CORREL($B$1:B11,$M$1:M11),\"\")","v":-8.8620096539888657E-2},{"$f":"Sheet3!W11","v":-5.9720368158504885E-4},{"$f":"IF(ISNUMBER(O11),CORREL($B$1:B11,$O$1:O11),\"\")","v":0.63831941055333474},{"$f":"Sheet3!Y11","v":-3.8207096614426717E-3},{"$f":"IF(ISNUMBER(Q11),CORREL($B$1:B11,$Q$1:Q11),\"\")","v":-0.31047049980753616},{"$f":"Sheet3!AA11","v":6.4088945542100416E-3},{"$f":"IF(ISNUMBER(S11),CORREL($B$1:B11,$S$1:S11),\"\")","v":-0.48477545248351511}]
[null,{"$f":"Sheet3!I12","v":1.8285869086722428E-3},{"$f":"Sheet3!K12","v":1.1890401516457006E-2},{"$f":"IF(ISNUMBER(C12),CORREL($B$1:B12,$C$1:C12),\"\")","v":0.24523744276901713},{"$f":"Sheet3!M12","v":-2.157091008696843E-3},{"$f":"IF(ISNUMBER(E12),CORREL($B$1:B12,$E$1:E12),\"\")","v":0.30663734928652198},{"$f":"Sheet3!O12","v":3.4245402554707032E-5},{"$f":"IF(ISNUMBER(G12),CORREL($B$1:B12,$G$1:G12),\"\")","v":0.39381634518437647},{"$f":"Sheet3!Q12","v":1.4515794566945463E-3},{"$f":"IF(ISNUMBER(I12),CORREL($B$1:B12,$I$1:I12),\"\")","v":-0.11957402936524725},{"$f":"Sheet3!S12","v":5.1222678314563376E-3},{"$f":"IF(ISNUMBER(K12),CORREL($B$1:B12,$K$1:K12),\"\")","v":-0.17214632116968584},{"$f":"Sheet3!U12","v":6.0153052144509703E-3},{"$f":"IF(ISNUMBER(M12),CORREL($B$1:B12,$M$1:M12),\"\")","v":-0.21038891917585603},{"$f":"Sheet3!W12","v":-1.0538888498559686E-3},{"$f":"IF(ISNUMBER(O12),CORREL($B$1:B12,$O$1:O12),\"\")","v":0.60473086165974854},{"$f":"Sheet3!Y12","v":-2.1226164785792621E-3},{"$f":"IF(ISNUMBER(Q12),CORREL($B$1:B12,$Q$1:Q12),\"\")","v":-8.3307077983798467E-2},{"$f":"Sheet3!AA12","v":5.1696055520147298E-3},{"$f":"IF(ISNUMBER(S12),CORREL($B$1:B12,$S$1:S12),\"\")","v":-0.54038780593191038}]
[null,{"$f":"Sheet3!I13","v":1.5915478649554705E-3},{"$f":"Sheet3!K13","v":1.2303980699638117E-2},{"$f":"IF(ISNUMBER(C13),CORREL($B$1:B13,$C$1:C13),\"\")","v":0.33530786521161138},{"$f":"Sheet3!M13","v":-2.6022050263644456E-3},{"$f":"IF(ISNUMBER(E13),CORREL($B$1:B13,$E$1:E13),\"\")","v":0.36304338500303901},{"$f":"Sheet3!O13","v":7.8764425875826167E-4},{"$f":"IF(ISNUMBER(G13),CORREL($B$1:B13,$G$1:G13),\"\")","v":0.46022217121151054},{"$f":"Sheet3!Q13","v":1.2442109628810396E-3},{"$f":"IF(ISNUMBER(I13),CORREL($B$1:B13,$I$1:I13),\"\")","v":-0.20559617725599391},{"$f":"Sheet3!S13","v":4.3153352278707501E-3},{"$f":"IF(ISNUMBER(K13),CORREL($B$1:B13,$K$1:K13),\"\")","v":-0.16025396342603451},{"$f":"Sheet3!U13","v":5.4102153408079733E-3},{"$f":"IF(ISNUMBER(M13),CORREL($B$1:B13,$M$1:M13),\"\")","v":-0.291480062087215},{"$f":"Sheet3!W13","v":2.4590739829972601E-4},{"$f":"IF(ISNUMBER(O13),CORREL($B$1:B13,$O$1:O13),\"\")","v":0.63913055958500997},{"$f":"Sheet3!Y13","v":-1.4150776523861746E-3},{"$f":"IF(ISNUMBER(Q13),CORREL($B$1:B13,$Q$1:Q13),\"\")","v":5.2651362818805031E-2},{"$f":"Sheet3!AA13","v":5.9131789533319167E-3},{"$f":"IF(ISNUMBER(S13),CORREL($B$1:B13,$S$1:S13),\"\")","v":-0.52642339987879483}]
[null,{"$f":"Sheet3!I14","v":2.234939555043852E-3},{"$f":"Sheet3!K14","v":1.22350508357746E-2},{"$f":"IF(ISNUMBER(C14),CORREL($B$1:B14,$C$1:C14),\"\")","v":0.43921773957835164},{"$f":"Sheet3!M14","v":-2.3625282476203522E-3},{"$f":"IF(ISNUMBER(E14),CORREL($B$1:B14,$E$1:E14),\"\")","v":0.44042318160098781},{"$f":"Sheet3!O14","v":1.3698161021882813E-3},{"$f":"IF(ISNUMBER(G14),CORREL($B$1:B14,$G$1:G14),\"\")","v":0.5685173331689477},{"$f":"Sheet3!Q14","v":2.4538605101264948E-3},{"$f":"IF(ISNUMBER(I14),CORREL($B$1:B14,$I$1:I14),\"\")","v":-0.24930831395053982},{"$f":"Sheet3!S14","v":4.9468477002420795E-3},{"$f":"IF(ISNUMBER(K14),CORREL($B$1:B14,$K$1:K14),\"\")","v":-8.5267230214370937E-2},{"$f":"Sheet3!U14","v":4.4135967253959782E-3},{"$f":"IF(ISNUMBER(M14),CORREL($B$1:B14,$M$1:M14),\"\")","v":-0.41819894886731312},{"$f":"Sheet3!W14","v":5.9720368158504885E-4},{"$f":"IF(ISNUMBER(O14),CORREL($B$1:B14,$O$1:O14),\"\")","v":0.69325465494931404},{"$f":"Sheet3!Y14","v":-1.0259312979799767E-3},{"$f":"IF(ISNUMBER(Q14),CORREL($B$1:B14,$Q$1:Q14),\"\")","v":0.21226622990142735},{"$f":"Sheet3!AA14","v":6.444302811415622E-3},{"$f":"IF(ISNUMBER(S14),CORREL($B$1:B14,$S$1:S14),\"\")","v":-0.41639667238011802}]
[null,{"$f":"Sheet3!I15","v":1.8624496292032101E-3},{"$f":"Sheet3!K15","v":1.1787006720661727E-2},{"$f":"IF(ISNUMBER(C15),CORREL($B$1:B15,$C$1:C15),\"\")","v":0.48227441093592127},{"$f":"Sheet3!M15","v":-2.9788399643908784E-3},{"$f":"IF(ISNUMBER(E15),CORREL($B$1:B15,$E$1:E15),\"\")","v":0.46412281733776561},{"$f":"Sheet3!O15","v":1.9177425430635937E-3},{"$f":"IF(ISNUMBER(G15),CORREL($B$1:B15,$G$1:G15),\"\")","v":0.59769539206074718},{"$f":"Sheet3!Q15","v":1.9008778599571439E-3},{"$f":"IF(ISNUMBER(I15),CORREL($B$1:B15,$I$1:I15),\"\")","v":-0.29293414641645199},{"$f":"Sheet3!S15","v":6.4905448549275515E-3},{"$f":"IF(ISNUMBER(K15),CORREL($B$1:B15,$K$1:K15),\"\")","v":3.7393870882124348E-2},{"$f":"Sheet3!U15","v":5.3746218188289729E-3},{"$f":"IF(ISNUMBER(M15),CORREL($B$1:B15,$M$1:M15),\"\")","v":-0.46100472747520016},{"$f":"Sheet3!W15","v":1.7564814164266142E-4},{"$f":"IF(ISNUMBER(O15),CORREL($B$1:B15,$O$1:O15),\"\")","v":0.71324147507511659},{"$f":"Sheet3!Y15","v":-9.5517741536066793E-4},{"$f":"IF(ISNUMBER(Q15),CORREL($B$1:B15,$Q$1:Q15),\"\")","v":0.28795970929915571},{"$f":"Sheet3!AA15","v":6.6213440974435241E-3},{"$f":"IF(ISNUMBER(S15),CORREL($B$1:B15,$S$1:S15),\"\")","v":-0.34064474905262482}]
[null,{"$f":"Sheet3!I16","v":1.3883715417696658E-3},{"$f":"Sheet3!K16","v":1.1304497673617095E-2},{"$f":"IF(ISNUMBER(C16),CORREL($B$1:B16,$C$1:C16),\"\")","v":0.49404899607280045},{"$f":"Sheet3!M16","v":-4.040265698829008E-3},{"$f":"IF(ISNUMBER(E16),CORREL($B$1:B16,$E$1:E16),\"\")","v":0.45574062647016272},{"$f":"Sheet3!O16","v":1.1643436868600391E-3},{"$f":"IF(ISNUMBER(G16),CORREL($B$1:B16,$G$1:G16),\"\")","v":0.60181277532287847},{"$f":"Sheet3!Q16","v":2.3847376788553257E-3},{"$f":"IF(ISNUMBER(I16),CORREL($B$1:B16,$I$1:I16),\"\")","v":-0.30515935956514278},{"$f":"Sheet3!S16","v":6.3502087499561453E-3},{"$f":"IF(ISNUMBER(K16),CORREL($B$1:B16,$K$1:K16),\"\")","v":7.8614247581735963E-2},{"$f":"Sheet3!U16","v":6.0508987364299698E-3},{"$f":"IF(ISNUMBER(M16),CORREL($B$1:B16,$M$1:M16),\"\")","v":-0.47211261527616694},{"$f":"Sheet3!W16","v":-1.7916110447551464E-3},{"$f":"IF(ISNUMBER(O16),CORREL($B$1:B16,$O$1:O16),\"\")","v":0.66680534645040168},{"$f":"Sheet3!Y16","v":-2.1579934198889166E-3},{"$f":"IF(ISNUMBER(Q16),CORREL($B$1:B16,$Q$1:Q16),\"\")","v":0.30620705582267954},{"$f":"Sheet3!AA16","v":7.0462431839104882E-3},{"$f":"IF(ISNUMBER(S16),CORREL($B$1:B16,$S$1:S16),\"\")","v":-0.28119914390820661}]
[null,{"$f":"Sheet3!I17","v":1.8963123497341776E-3},{"$f":"Sheet3!K17","v":1.1304497673617095E-2},{"$f":"IF(ISNUMBER(C17),CORREL($B$1:B17,$C$1:C17),\"\")","v":0.51706328416922831},{"$f":"Sheet3!M17","v":-4.006026159008423E-3},{"$f":"IF(ISNUMBER(E17),CORREL($B$1:B17,$E$1:E17),\"\")","v":0.43657548769809379},{"$f":"Sheet3!O17","v":9.931166740865039E-4},{"$f":"IF(ISNUMBER(G17),CORREL($B$1:B17,$G$1:G17),\"\")","v":0.62469524871652182},{"$f":"Sheet3!Q17","v":3.3524573166516902E-3},{"$f":"IF(ISNUMBER(I17),CORREL($B$1:B17,$I$1:I17),\"\")","v":-0.29459931487483576},{"$f":"Sheet3!S17","v":6.7712170648703647E-3},{"$f":"IF(ISNUMBER(K17),CORREL($B$1:B17,$K$1:K17),\"\")","v":0.15917526929174433},{"$f":"Sheet3!U17","v":3.5949457198789819E-3},{"$f":"IF(ISNUMBER(M17),CORREL($B$1:B17,$M$1:M17),\"\")","v":-0.51494244829571512},{"$f":"Sheet3!W17","v":-1.7916110447551464E-3},{"$f":"IF(ISNUMBER(O17),CORREL($B$1:B17,$O$1:O17),\"\")","v":0.59206518207634329},{"$f":"Sheet3!Y17","v":-2.6886475395337321E-3},{"$f":"IF(ISNUMBER(Q17),CORREL($B$1:B17,$Q$1:Q17),\"\")","v":0.32969979877895184},{"$f":"Sheet3!AA17","v":7.6481835564053535E-3},{"$f":"IF(ISNUMBER(S17),CORREL($B$1:B17,$S$1:S17),\"\")","v":-0.14327708006118103}]
[null,{"$f":"Sheet3!I18","v":1.4222342623006333E-3},{"$f":"Sheet3!K18","v":1.0856453558504222E-2},{"$f":"IF(ISNUMBER(C18),CORREL($B$1:B18,$C$1:C18),\"\")","v":0.52366577813855808},{"$f":"Sheet3!M18","v":-3.0130795042114635E-3},{"$f":"IF(ISNUMBER(E18),CORREL($B$1:B18,$E$1:E18),\"\")","v":0.44561945798897079},{"$f":"Sheet3!O18","v":1.3698161021882813E-3},{"$f":"IF(ISNUMBER(G18),CORREL($B$1:B18,$G$1:G18),\"\")","v":0.62376774932492862},{"$f":"Sheet3!Q18","v":3.7326328886431188E-3},{"$f":"IF(ISNUMBER(I18),CORREL($B$1:B18,$I$1:I18),\"\")","v":-0.28548233821619817},{"$f":"Sheet3!S18","v":6.9115531698417708E-3},{"$f":"IF(ISNUMBER(K18),CORREL($B$1:B18,$K$1:K18),\"\")","v":0.18608905548306978},{"$f":"Sheet3!U18","v":3.7373198077949813E-3},{"$f":"IF(ISNUMBER(M18),CORREL($B$1:B18,$M$1:M18),\"\")","v":-0.51541508326040164},{"$f":"Sheet3!W18","v":-2.1429073280404692E-3},{"$f":"IF(ISNUMBER(O18),CORREL($B$1:B18,$O$1:O18),\"\")","v":0.5435001997615766},{"$f":"Sheet3!Y18","v":-2.016485654650299E-3},{"$f":"IF(ISNUMBER(Q18),CORREL($B$1:B18,$Q$1:Q18),\"\")","v":0.34294613701232185},{"$f":"Sheet3!AA18","v":7.5773670419941926E-3},{"$f":"IF(ISNUMBER(S18),CORREL($B$1:B18,$S$1:S18),\"\")","v":-9.3266550728755407E-2}]
[null,{"$f":"Sheet3!I19","v":1.7269987470793404E-3},{"$f":"Sheet3!K19","v":1.2062726176115802E-2},{"$f":"IF(ISNUMBER(C19),CORREL($B$1:B19,$C$1:C19),\"\")","v":0.54266163249352439},{"$f":"Sheet3!M19","v":-3.595151681161405E-3},{"$f":"IF(ISNUMBER(E19),CORREL($B$1:B19,$E$1:E19),\"\")","v":0.44589984282402323},{"$f":"Sheet3!O19","v":2.0204787507277148E-3},{"$f":"IF(ISNUMBER(G19),CORREL($B$1:B19,$G$1:G19),\"\")","v":0.63083053665287403},{"$f":"Sheet3!Q19","v":4.078247044998963E-3},{"$f":"IF(ISNUMBER(I19),CORREL($B$1:B19,$I$1:I19),\"\")","v":-0.26087818529930512},{"$f":"Sheet3!S19","v":7.3676455109988421E-3},{"$f":"IF(ISNUMBER(K19),CORREL($B$1:B19,$K$1:K19),\"\")","v":0.23438723530823571},{"$f":"Sheet3!U19","v":3.9508809396689801E-3},{"$f":"IF(ISNUMBER(M19),CORREL($B$1:B19,$M$1:M19),\"\")","v":-0.53575482636946903},{"$f":"Sheet3!W19","v":-1.7916110447551464E-3},{"$f":"IF(ISNUMBER(O19),CORREL($B$1:B19,$O$1:O19),\"\")","v":0.50173123005998843},{"$f":"Sheet3!Y19","v":-3.8914635440619806E-4},{"$f":"IF(ISNUMBER(Q19),CORREL($B$1:B19,$Q$1:Q19),\"\")","v":0.3758585482710336},{"$f":"Sheet3!AA19","v":6.8692018978825861E-3},{"$f":"IF(ISNUMBER(S19),CORREL($B$1:B19,$S$1:S19),\"\")","v":-6.4071433243929027E-2}]
[null,{"$f":"Sheet3!I20","v":1.4560969828316006E-3},{"$f":"Sheet3!K20","v":1.2200585903842841E-2},{"$f":"IF(ISNUMBER(C20),CORREL($B$1:B20,$C$1:C20),\"\")","v":0.5472765824392537},{"$f":"Sheet3!M20","v":-3.8005889200849142E-3},{"$f":"IF(ISNUMBER(E20),CORREL($B$1:B20,$E$1:E20),\"\")","v":0.44389565395939223},{"$f":"Sheet3!O20","v":1.9862333481730078E-3},{"$f":"IF(ISNUMBER(G20),CORREL($B$1:B20,$G$1:G20),\"\")","v":0.62190005259265835},{"$f":"Sheet3!Q20","v":4.1128084606345478E-3},{"$f":"IF(ISNUMBER(I20),CORREL($B$1:B20,$I$1:I20),\"\")","v":-0.24740551892110965},{"$f":"Sheet3!S20","v":8.4903343507700939E-3},{"$f":"IF(ISNUMBER(K20),CORREL($B$1:B20,$K$1:K20),\"\")","v":0.25230753266808648},{"$f":"Sheet3!U20","v":4.8763125111229754E-3},{"$f":"IF(ISNUMBER(M20),CORREL($B$1:B20,$M$1:M20),\"\")","v":-0.5421432265921049},{"$f":"Sheet3!W20","v":-2.3888147263401954E-3},{"$f":"IF(ISNUMBER(O20),CORREL($B$1:B20,$O$1:O20),\"\")","v":0.45510273950096003},{"$f":"Sheet3!Y20","v":-4.5990023702550676E-4},{"$f":"IF(ISNUMBER(Q20),CORREL($B$1:B20,$Q$1:Q20),\"\")","v":0.38632829991657475},{"$f":"Sheet3!AA20","v":7.6481835564053535E-3},{"$f":"IF(ISNUMBER(S20),CORREL($B$1:B20,$S$1:S20),\"\")","v":-2.7331560586065444E-2}]
[null,{"$f":"Sheet3!I21","v":1.99790051132708E-3},{"$f":"Sheet3!K21","v":1.278648974668275E-2},{"$f":"IF(ISNUMBER(C21),CORREL($B$1:B21,$C$1:C21),\"\")","v":0.57401078704619768},{"$f":"Sheet3!M21","v":-4.862014654523043E-3},{"$f":"IF(ISNUMBER(E21),CORREL($B$1:B21,$E$1:E21),\"\")","v":0.3840128523166671},{"$f":"Sheet3!O21","v":4.4519023321119139E-4},{"$f":"IF(ISNUMBER(G21),CORREL($B$1:B21,$G$1:G21),\"\")","v":0.61295334496484277},{"$f":"Sheet3!Q21","v":4.2164927075413012E-3},{"$f":"IF(ISNUMBER(I21),CORREL($B$1:B21,$I$1:I21),\"\")","v":-0.21492133313544165},{"$f":"Sheet3!S21","v":8.595586429498649E-3},{"$f":"IF(ISNUMBER(K21),CORREL($B$1:B21,$K$1:K21),\"\")","v":0.31309329220857923},{"$f":"Sheet3!U21","v":5.4458088627869728E-3},{"$f":"IF(ISNUMBER(M21),CORREL($B$1:B21,$M$1:M21),\"\")","v":-0.55190240477377217},{"$f":"Sheet3!W21","v":-2.45907398299726E-3},{"$f":"IF(ISNUMBER(O21),CORREL($B$1:B21,$O$1:O21),\"\")","v":0.37419298437507736},{"$f":"Sheet3!Y21","v":-1.9103548307213359E-3},{"$f":"IF(ISNUMBER(Q21),CORREL($B$1:B21,$Q$1:Q21),\"\")","v":0.40561421281319815},{"$f":"Sheet3!AA21","v":7.0462431839104882E-3},{"$f":"IF(ISNUMBER(S21),CORREL($B$1:B21,$S$1:S21),\"\")","v":8.9973812971387308E-3}]
[null,{"$f":"Sheet3!I22","v":2.3703904371677222E-3},{"$f":"Sheet3!K22","v":1.2614165087023952E-2},{"$f":"IF(ISNUMBER(C22),CORREL($B$1:B22,$C$1:C22),\"\")","v":0.60393808366737711},{"$f":"Sheet3!M22","v":-4.9989728138053824E-3},{"$f":"IF(ISNUMBER(E22),CORREL($B$1:B22,$E$1:E22),\"\")","v":0.30426406953913088},{"$f":"Sheet3!O22","v":9.931166740865039E-4},{"$f":"IF(ISNUMBER(G22),CORREL($B$1:B22,$G$1:G22),\"\")","v":0.62089939105362779},{"$f":"Sheet3!Q22","v":4.6312296951683141E-3},{"$f":"IF(ISNUMBER(I22),CORREL($B$1:B22,$I$1:I22),\"\")","v":-0.15683493099374748},{"$f":"Sheet3!S22","v":9.0867627968985714E-3},{"$f":"IF(ISNUMBER(K22),CORREL($B$1:B22,$K$1:K22),\"\")","v":0.38854359671047495},{"$f":"Sheet3!U22","v":6.8339562199679661E-3},{"$f":"IF(ISNUMBER(M22),CORREL($B$1:B22,$M$1:M22),\"\")","v":-0.52304518105531073},{"$f":"Sheet3!W22","v":-2.0023888147263401E-3},{"$f":"IF(ISNUMBER(O22),CORREL($B$1:B22,$O$1:O22),\"\")","v":0.31236091684549488},{"$f":"Sheet3!Y22","v":-2.7594014221530407E-3},{"$f":"IF(ISNUMBER(Q22),CORREL($B$1:B22,$Q$1:Q22),\"\")","v":0.40779811962496731},{"$f":"Sheet3!AA22","v":7.117059698321649E-3},{"$f":"IF(ISNUMBER(S22),CORREL($B$1:B22,$S$1:S22),\"\")","v":5.6212025215838846E-2}]
[null,{"$f":"Sheet3!I23","v":2.4719785987606245E-3},{"$f":"Sheet3!K23","v":1.2200585903842841E-2},{"$f":"IF(ISNUMBER(C23),CORREL($B$1:B23,$C$1:C23),\"\")","v":0.62327001208814825},{"$f":"Sheet3!M23","v":-5.444086831472985E-3},{"$f":"IF(ISNUMBER(E23),CORREL($B$1:B23,$E$1:E23),\"\")","v":0.20846601967151737},{"$f":"Sheet3!O23","v":-3.4245402554707032E-5},{"$f":"IF(ISNUMBER(G23),CORREL($B$1:B23,$G$1:G23),\"\")","v":0.57387700325999502},{"$f":"Sheet3!Q23","v":4.2510541231768851E-3},{"$f":"IF(ISNUMBER(I23),CORREL($B$1:B23,$I$1:I23),\"\")","v":-0.12042318008675668},{"$f":"Sheet3!S23","v":8.9113426656843141E-3},{"$f":"IF(ISNUMBER(K23),CORREL($B$1:B23,$K$1:K23),\"\")","v":0.44668184209221107},{"$f":"Sheet3!U23","v":6.6559886100729668E-3},{"$f":"IF(ISNUMBER(M23),CORREL($B$1:B23,$M$1:M23),\"\")","v":-0.5010848308326179},{"$f":"Sheet3!W23","v":-2.2131665846975338E-3},{"$f":"IF(ISNUMBER(O23),CORREL($B$1:B23,$O$1:O23),\"\")","v":0.24389403712860586},{"$f":"Sheet3!Y23","v":-2.0518625959599535E-3},{"$f":"IF(ISNUMBER(Q23),CORREL($B$1:B23,$Q$1:Q23),\"\")","v":0.42412604727288733},{"$f":"Sheet3!AA23","v":7.117059698321649E-3},{"$f":"IF(ISNUMBER(S23),CORREL($B$1:B23,$S$1:S23),\"\")","v":9.8069950524201241E-2}]
[null,{"$f":"Sheet3!I24","v":2.7090176424773966E-3},{"$f":"Sheet3!K24","v":1.285541961054627E-2},{"$f":"IF(ISNUMBER(C24),CORREL($B$1:B24,$C$1:C24),\"\")","v":0.65028999480939098},{"$f":"Sheet3!M24","v":-6.1973567075258506E-3},{"$f":"IF(ISNUMBER(E24),CORREL($B$1:B24,$E$1:E24),\"\")","v":7.7801370506122181E-2},{"$f":"Sheet3!O24","v":1.0273620766412109E-4},{"$f":"IF(ISNUMBER(G24),CORREL($B$1:B24,$G$1:G24),\"\")","v":0.53318066994980073},{"$f":"Sheet3!Q24","v":4.2856155388124699E-3},{"$f":"IF(ISNUMBER(I24),CORREL($B$1:B24,$I$1:I24),\"\")","v":-8.2359829576534052E-2},{"$f":"Sheet3!S24","v":1.0104199557941269E-2},{"$f":"IF(ISNUMBER(K24),CORREL($B$1:B24,$K$1:K24),\"\")","v":0.51220290260468226},{"$f":"Sheet3!U24","v":8.0085424452749597E-3},{"$f":"IF(ISNUMBER(M24),CORREL($B$1:B24,$M$1:M24),\"\")","v":-0.43012741722037495},{"$f":"Sheet3!W24","v":-2.1780369563690017E-3},{"$f":"IF(ISNUMBER(O24),CORREL($B$1:B24,$O$1:O24),\"\")","v":0.17898263724610508},{"$f":"Sheet3!Y24","v":-2.0872395372696076E-3},{"$f":"IF(ISNUMBER(Q24),CORREL($B$1:B24,$Q$1:Q24),\"\")","v":0.43737598672734285},{"$f":"Sheet3!AA24","v":6.2672615253877208E-3},{"$f":"IF(ISNUMBER(S24),CORREL($B$1:B24,$S$1:S24),\"\")","v":7.9299562521911879E-2}]
[null,{"$f":"Sheet3!I25","v":{"$error":"#N/A"}},{"$f":"Sheet3!K25","v":1.2579700155092194E-2},{"$f":"IF(ISNUMBER(C25),CORREL($B$1:B25,$C$1:C25),\"\")","v":{"$error":"#N/A"}},{"$f":"Sheet3!M25","v":-6.4712730260905295E-3},{"$f":"IF(ISNUMBER(E25),CORREL($B$1:B25,$E$1:E25),\"\")","v":{"$error":"#N/A"}},{"$f":"Sheet3!O25","v":-2.0547241532824218E-4},{"$f":"IF(ISNUMBER(G25),CORREL($B$1:B25,$G$1:G25),\"\")","v":{"$error":"#N/A"}},{"$f":"Sheet3!Q25","v":3.8017557199142879E-3},{"$f":"IF(ISNUMBER(I25),CORREL($B$1:B25,$I$1:I25),\"\")","v":{"$error":"#N/A"}},{"$f":"Sheet3!S25","v":1.1051468266498263E-2},{"$f":"IF(ISNUMBER(K25),CORREL($B$1:B25,$K$1:K25),\"\")","v":{"$error":"#N/A"}},{"$f":"Sheet3!U25","v":8.5780387969389572E-3},{"$f":"IF(ISNUMBER(M25),CORREL($B$1:B25,$M$1:M25),\"\")","v":{"$error":"#N/A"}},{"$f":"Sheet3!W25","v":-2.1077776997119372E-3},{"$f":"IF(ISNUMBER(O25),CORREL($B$1:B25,$O$1:O25),\"\")","v":{"$error":"#N/A"}},{"$f":"Sheet3!Y25","v":-3.4315633070364738E-3},{"$f":"IF(ISNUMBER(Q25),CORREL($B$1:B25,$Q$1:Q25),\"\")","v":{"$error":"#N/A"}},{"$f":"Sheet3!AA25","v":5.5945046384816939E-3},{"$f":"IF(ISNUMBER(S25),CORREL($B$1:B25,$S$1:S25),\"\")","v":{"$error":"#N/A"}}]
[null,{"$f":"Sheet3!I26","v":{"$error":"#N/A"}},{"$f":"Sheet3!K26","v":1.2683094950887472E-2},{"$f":"IF(ISNUMBER(C26),CORREL($B$1:B26,$C$1:C26),\"\")","v":{"$error":"#N/A"}},{"$f":"Sheet3!M26","v":-5.7864822296788332E-3},{"$f":"IF(ISNUMBER(E26),CORREL($B$1:B26,$E$1:E26),\"\")","v":{"$error":"#N/A"}},{"$f":"Sheet3!O26","v":5.8217184343001954E-4},{"$f":"IF(ISNUMBER(G26),CORREL($B$1:B26,$G$1:G26),\"\")","v":{"$error":"#N/A"}},{"$f":"Sheet3!Q26","v":4.4238612013548072E-3},{"$f":"IF(ISNUMBER(I26),CORREL($B$1:B26,$I$1:I26),\"\")","v":{"$error":"#N/A"}},{"$f":"Sheet3!S26","v":1.2139073080026664E-2},{"$f":"IF(ISNUMBER(K26),CORREL($B$1:B26,$K$1:K26),\"\")","v":{"$error":"#N/A"}},{"$f":"Sheet3!U26","v":8.2221035771489585E-3},{"$f":"IF(ISNUMBER(M26),CORREL($B$1:B26,$M$1:M26),\"\")","v":{"$error":"#N/A"}},{"$f":"Sheet3!W26","v":-1.9672591863978081E-3},{"$f":"IF(ISNUMBER(O26),CORREL($B$1:B26,$O$1:O26),\"\")","v":{"$error":"#N/A"}},{"$f":"Sheet3!Y26","v":-3.4669402483461279E-3},{"$f":"IF(ISNUMBER(Q26),CORREL($B$1:B26,$Q$1:Q26),\"\")","v":{"$error":"#N/A"}},{"$f":"Sheet3!AA26","v":5.4174633524537918E-3},{"$f":"IF(ISNUMBER(S26),CORREL($B$1:B26,$S$1:S26),\"\")","v":{"$error":"#N/A"}}]
[null,{"$f":"Sheet3!I27","v":{"$error":"#N/A"}},{"$f":"Sheet3!K27","v":1.2752024814750991E-2},{"$f":"IF(ISNUMBER(C27),CORREL($B$1:B27,$C$1:C27),\"\")","v":{"$error":"#N/A"}},{"$f":"Sheet3!M27","v":-6.7451893446552075E-3},{"$f":"IF(ISNUMBER(E27),CORREL($B$1:B27,$E$1:E27),\"\")","v":{"$error":"#N/A"}},{"$f":"Sheet3!O27","v":1.061607479195918E-3},{"$f":"IF(ISNUMBER(G27),CORREL($B$1:B27,$G$1:G27),\"\")","v":{"$error":"#N/A"}},{"$f":"Sheet3!Q27","v":4.5621068638971455E-3},{"$f":"IF(ISNUMBER(I27),CORREL($B$1:B27,$I$1:I27),\"\")","v":{"$error":"#N/A"}},{"$f":"Sheet3!S27","v":1.2103989053783811E-2},{"$f":"IF(ISNUMBER(K27),CORREL($B$1:B27,$K$1:K27),\"\")","v":{"$error":"#N/A"}},{"$f":"Sheet3!U27","v":8.2221035771489585E-3},{"$f":"IF(ISNUMBER(M27),CORREL($B$1:B27,$M$1:M27),\"\")","v":{"$error":"#N/A"}},{"$f":"Sheet3!W27","v":-2.5995924963113891E-3},{"$f":"IF(ISNUMBER(O27),CORREL($B$1:B27,$O$1:O27),\"\")","v":{"$error":"#N/A"}},{"$f":"Sheet3!Y27","v":-3.7853327201330172E-3},{"$f":"IF(ISNUMBER(Q27),CORREL($B$1:B27,$Q$1:Q27),\"\")","v":{"$error":"#N/A"}},{"$f":"Sheet3!AA27","v":5.4882798668649526E-3},{"$f":"IF(ISNUMBER(S27),CORREL($B$1:B27,$S$1:S27),\"\")","v":{"$error":"#N/A"}}]
[null,{"$f":"Sheet3!I28","v":{"$error":"#N/A"}},{"$f":"Sheet3!K28","v":1.3613648113044977E-2},{"$f":"IF(ISNUMBER(C28),CORREL($B$1:B28,$C$1:C28),\"\")","v":{"$error":"#N/A"}},{"$f":"Sheet3!M28","v":-6.1288776278846813E-3},{"$f":"IF(ISNUMBER(E28),CORREL($B$1:B28,$E$1:E28),\"\")","v":{"$error":"#N/A"}},{"$f":"Sheet3!O28","v":1.2670798945241602E-3},{"$f":"IF(ISNUMBER(G28),CORREL($B$1:B28,$G$1:G28),\"\")","v":{"$error":"#N/A"}},{"$f":"Sheet3!Q28","v":4.7349139420750676E-3},{"$f":"IF(ISNUMBER(I28),CORREL($B$1:B28,$I$1:I28),\"\")","v":{"$error":"#N/A"}},{"$f":"Sheet3!S28","v":1.2314493211240922E-2},{"$f":"IF(ISNUMBER(K28),CORREL($B$1:B28,$K$1:K28),\"\")","v":{"$error":"#N/A"}},{"$f":"Sheet3!U28","v":9.0407545826659552E-3},{"$f":"IF(ISNUMBER(M28),CORREL($B$1:B28,$M$1:M28),\"\")","v":{"$error":"#N/A"}},{"$f":"Sheet3!W28","v":-2.3888147263401954E-3},{"$f":"IF(ISNUMBER(O28),CORREL($B$1:B28,$O$1:O28),\"\")","v":{"$error":"#N/A"}},{"$f":"Sheet3!Y28","v":-4.1744790745392151E-3},{"$f":"IF(ISNUMBER(Q28),CORREL($B$1:B28,$Q$1:Q28),\"\")","v":{"$error":"#N/A"}},{"$f":"Sheet3!AA28","v":5.5590963812761135E-3},{"$f":"IF(ISNUMBER(S28),CORREL($B$1:B28,$S$1:S28),\"\")","v":{"$error":"#N/A"}}]
[null,{"$f":"Sheet3!I29","v":{"$error":"#N/A"}},{"$f":"Sheet3!K29","v":1.402722729622609E-2},{"$f":"IF(ISNUMBER(C29),CORREL($B$1:B29,$C$1:C29),\"\")","v":{"$error":"#N/A"}},{"$f":"Sheet3!M29","v":-5.8892008491405875E-3},{"$f":"IF(ISNUMBER(E29),CORREL($B$1:B29,$E$1:E29),\"\")","v":{"$error":"#N/A"}},{"$f":"Sheet3!O29","v":1.2670798945241602E-3},{"$f":"IF(ISNUMBER(G29),CORREL($B$1:B29,$G$1:G29),\"\")","v":{"$error":"#N/A"}},{"$f":"Sheet3!Q29","v":4.7349139420750676E-3},{"$f":"IF(ISNUMBER(I29),CORREL($B$1:B29,$I$1:I29),\"\")","v":{"$error":"#N/A"}},{"$f":"Sheet3!S29","v":1.1402308528926779E-2},{"$f":"IF(ISNUMBER(K29),CORREL($B$1:B29,$K$1:K29),\"\")","v":{"$error":"#N/A"}},{"$f":"Sheet3!U29","v":9.6458444563089513E-3},{"$f":"IF(ISNUMBER(M29),CORREL($B$1:B29,$M$1:M29),\"\")","v":{"$error":"#N/A"}},{"$f":"Sheet3!W29","v":-4.4263331693950676E-3},{"$f":"IF(ISNUMBER(O29),CORREL($B$1:B29,$O$1:O29),\"\")","v":{"$error":"#N/A"}},{"$f":"Sheet3!Y29","v":-3.3961863657268193E-3},{"$f":"IF(ISNUMBER(Q29),CORREL($B$1:B29,$Q$1:Q29),\"\")","v":{"$error":"#N/A"}},{"$f":"Sheet3!AA29","v":4.4614404079031233E-3},{"$f":"IF(ISNUMBER(S29),CORREL($B$1:B29,$S$1:S29),\"\")","v":{"$error":"#N/A"}}]
[null,{"$f":"Sheet3!I30","v":{"$error":"#N/A"}},{"$f":"Sheet3!K30","v":1.4923315526451835E-2},{"$f":"IF(ISNUMBER(C30),CORREL($B$1:B30,$C$1:C30),\"\")","v":{"$error":"#N/A"}},{"$f":"Sheet3!M30","v":-6.4370334862699444E-3},{"$f":"IF(ISNUMBER(E30),CORREL($B$1:B30,$E$1:E30),\"\")","v":{"$error":"#N/A"}},{"$f":"Sheet3!O30","v":1.7807609328447656E-3},{"$f":"IF(ISNUMBER(G30),CORREL($B$1:B30,$G$1:G30),\"\")","v":{"$error":"#N/A"}},{"$f":"Sheet3!Q30","v":4.8040367733462363E-3},{"$f":"IF(ISNUMBER(I30),CORREL($B$1:B30,$I$1:I30),\"\")","v":{"$error":"#N/A"}},{"$f":"Sheet3!S30","v":1.1718064765112444E-2},{"$f":"IF(ISNUMBER(K30),CORREL($B$1:B30,$K$1:K30),\"\")","v":{"$error":"#N/A"}},{"$f":"Sheet3!U30","v":9.2187221925609537E-3},{"$f":"IF(ISNUMBER(M30),CORREL($B$1:B30,$M$1:M30),\"\")","v":{"$error":"#N/A"}},{"$f":"Sheet3!W30","v":-3.6183517178388254E-3},{"$f":"IF(ISNUMBER(O30),CORREL($B$1:B30,$O$1:O30),\"\")","v":{"$error":"#N/A"}},{"$f":"Sheet3!Y30","v":-3.573071072275091E-3},{"$f":"IF(ISNUMBER(Q30),CORREL($B$1:B30,$Q$1:Q30),\"\")","v":{"$error":"#N/A"}},{"$f":"Sheet3!AA30","v":4.5676651795198637E-3},{"$f":"IF(ISNUMBER(S30),CORREL($B$1:B30,$S$1:S30),\"\")","v":{"$error":"#N/A"}}]
[null,{"$f":"Sheet3!I31","v":{"$error":"#N/A"}},{"$f":"Sheet3!K31","v":1.4957780458383595E-2},{"$f":"IF(ISNUMBER(C31),CORREL($B$1:B31,$C$1:C31),\"\")","v":{"$error":"#N/A"}},{"$f":"Sheet3!M31","v":-6.7451893446552075E-3},{"$f":"IF(ISNUMBER(E31),CORREL($B$1:B31,$E$1:E31),\"\")","v":{"$error":"#N/A"}},{"$f":"Sheet3!O31","v":1.2670798945241602E-3},{"$f":"IF(ISNUMBER(G31),CORREL($B$1:B31,$G$1:G31),\"\")","v":{"$error":"#N/A"}},{"$f":"Sheet3!Q31","v":4.7003525264394828E-3},{"$f":"IF(ISNUMBER(I31),CORREL($B$1:B31,$I$1:I31),\"\")","v":{"$error":"#N/A"}},{"$f":"Sheet3!S31","v":1.1963652948812405E-2},{"$f":"IF(ISNUMBER(K31),CORREL($B$1:B31,$K$1:K31),\"\")","v":{"$error":"#N/A"}},{"$f":"Sheet3!U31","v":1.0784837159636946E-2},{"$f":"IF(ISNUMBER(M31),CORREL($B$1:B31,$M$1:M31),\"\")","v":{"$error":"#N/A"}},{"$f":"Sheet3!W31","v":-4.1804257710953419E-3},{"$f":"IF(ISNUMBER(O31),CORREL($B$1:B31,$O$1:O31),\"\")","v":{"$error":"#N/A"}},{"$f":"Sheet3!Y31","v":-3.6084480135847455E-3},{"$f":"IF(ISNUMBER(Q31),CORREL($B$1:B31,$Q$1:Q31),\"\")","v":{"$error":"#N/A"}},{"$f":"Sheet3!AA31","v":4.8863394943700874E-3},{"$f":"IF(ISNUMBER(S31),CORREL($B$1:B31,$S$1:S31),\"\")","v":{"$error":"#N/A"}}]
[null,{"$f":"Sheet3!I32","v":{"$error":"#N/A"}},{"$f":"Sheet3!K32","v":1.5130105118042391E-2},{"$f":"IF(ISNUMBER(C32),CORREL($B$1:B32,$C$1:C32),\"\")","v":{"$error":"#N/A"}},{"$f":"Sheet3!M32","v":-7.2245429021433952E-3},{"$f":"IF(ISNUMBER(E32),CORREL($B$1:B32,$E$1:E32),\"\")","v":{"$error":"#N/A"}},{"$f":"Sheet3!O32","v":7.5339885620355463E-4},{"$f":"IF(ISNUMBER(G32),CORREL($B$1:B32,$G$1:G32),\"\")","v":{"$error":"#N/A"}},{"$f":"Sheet3!Q32","v":4.9768438515241584E-3},{"$f":"IF(ISNUMBER(I32),CORREL($B$1:B32,$I$1:I32),\"\")","v":{"$error":"#N/A"}},{"$f":"Sheet3!S32","v":1.2489913342455181E-2},{"$f":"IF(ISNUMBER(K32),CORREL($B$1:B32,$K$1:K32),\"\")","v":{"$error":"#N/A"}},{"$f":"Sheet3!U32","v":1.1033991813489945E-2},{"$f":"IF(ISNUMBER(M32),CORREL($B$1:B32,$M$1:M32),\"\")","v":{"$error":"#N/A"}},{"$f":"Sheet3!W32","v":-4.5668516827091967E-3},{"$f":"IF(ISNUMBER(O32),CORREL($B$1:B32,$O$1:O32),\"\")","v":{"$error":"#N/A"}},{"$f":"Sheet3!Y32","v":-3.7499557788233631E-3},{"$f":"IF(ISNUMBER(Q32),CORREL($B$1:B32,$Q$1:Q32),\"\")","v":{"$error":"#N/A"}},{"$f":"Sheet3!AA32","v":5.7361376673040155E-3},{"$f":"IF(ISNUMBER(S32),CORREL($B$1:B32,$S$1:S32),\"\")","v":{"$error":"#N/A"}}]
[null,{"$f":"Sheet3!I33","v":{"$error":"#N/A"}},{"$f":"Sheet3!K33","v":1.5474754437359987E-2},{"$f":"IF(ISNUMBER(C33),CORREL($B$1:B33,$C$1:C33),\"\")","v":{"$error":"#N/A"}},{"$f":"Sheet3!M33","v":-6.8136684242963777E-3},{"$f":"IF(ISNUMBER(E33),CORREL($B$1:B33,$E$1:E33),\"\")","v":{"$error":"#N/A"}},{"$f":"Sheet3!O33","v":1.1300982843053321E-3},{"$f":"IF(ISNUMBER(G33),CORREL($B$1:B33,$G$1:G33),\"\")","v":{"$error":"#N/A"}},{"$f":"Sheet3!Q33","v":4.9768438515241584E-3},{"$f":"IF(ISNUMBER(I33),CORREL($B$1:B33,$I$1:I33),\"\")","v":{"$error":"#N/A"}},{"$f":"Sheet3!S33","v":1.2665333473669438E-2},{"$f":"IF(ISNUMBER(K33),CORREL($B$1:B33,$K$1:K33),\"\")","v":{"$error":"#N/A"}},{"$f":"Sheet3!U33","v":1.1496707599216942E-2},{"$f":"IF(ISNUMBER(M33),CORREL($B$1:B33,$M$1:M33),\"\")","v":{"$error":"#N/A"}},{"$f":"Sheet3!W33","v":-7.3420923206632474E-3},{"$f":"IF(ISNUMBER(O33),CORREL($B$1:B33,$O$1:O33),\"\")","v":{"$error":"#N/A"}},{"$f":"Sheet3!Y33","v":-4.1391021332295606E-3},{"$f":"IF(ISNUMBER(Q33),CORREL($B$1:B33,$Q$1:Q33),\"\")","v":{"$error":"#N/A"}},{"$f":"Sheet3!AA33","v":4.9571560087812482E-3},{"$f":"IF(ISNUMBER(S33),CORREL($B$1:B33,$S$1:S33),\"\")","v":{"$error":"#N/A"}}]
[null,{"$f":"Sheet3!I34","v":{"$error":"#N/A"}},{"$f":"Sheet3!K34","v":1.5474754437359987E-2},{"$f":"IF(ISNUMBER(C34),CORREL($B$1:B34,$C$1:C34),\"\")","v":{"$error":"#N/A"}},{"$f":"Sheet3!M34","v":-6.7451893446552075E-3},{"$f":"IF(ISNUMBER(E34),CORREL($B$1:B34,$E$1:E34),\"\")","v":{"$error":"#N/A"}},{"$f":"Sheet3!O34","v":1.1300982843053321E-3},{"$f":"IF(ISNUMBER(G34),CORREL($B$1:B34,$G$1:G34),\"\")","v":{"$error":"#N/A"}},{"$f":"Sheet3!Q34","v":4.3201769544480538E-3},{"$f":"IF(ISNUMBER(I34),CORREL($B$1:B34,$I$1:I34),\"\")","v":{"$error":"#N/A"}},{"$f":"Sheet3!S34","v":1.2454829316212328E-2},{"$f":"IF(ISNUMBER(K34),CORREL($B$1:B34,$K$1:K34),\"\")","v":{"$error":"#N/A"}},{"$f":"Sheet3!U34","v":1.1710268731090941E-2},{"$f":"IF(ISNUMBER(M34),CORREL($B$1:B34,$M$1:M34),\"\")","v":{"$error":"#N/A"}},{"$f":"Sheet3!W34","v":-6.4287219841214077E-3},{"$f":"IF(ISNUMBER(O34),CORREL($B$1:B34,$O$1:O34),\"\")","v":{"$error":"#N/A"}},{"$f":"Sheet3!Y34","v":-4.2452329571585241E-3},{"$f":"IF(ISNUMBER(Q34),CORREL($B$1:B34,$Q$1:Q34),\"\")","v":{"$error":"#N/A"}},{"$f":"Sheet3!AA34","v":5.8777706961263363E-3},{"$f":"IF(ISNUMBER(S34),CORREL($B$1:B34,$S$1:S34),\"\")","v":{"$error":"#N/A"}}]
[null,{"$f":"Sheet3!I35","v":{"$error":"#N/A"}},{"$f":"Sheet3!K35","v":1.5130105118042391E-2},{"$f":"IF(ISNUMBER(C35),CORREL($B$1:B35,$C$1:C35),\"\")","v":{"$error":"#N/A"}},{"$f":"Sheet3!M35","v":-6.5397521057316988E-3},{"$f":"IF(ISNUMBER(E35),CORREL($B$1:B35,$E$1:E35),\"\")","v":{"$error":"#N/A"}},{"$f":"Sheet3!O35","v":7.5339885620355463E-4},{"$f":"IF(ISNUMBER(G35),CORREL($B$1:B35,$G$1:G35),\"\")","v":{"$error":"#N/A"}},{"$f":"Sheet3!Q35","v":4.2510541231768851E-3},{"$f":"IF(ISNUMBER(I35),CORREL($B$1:B35,$I$1:I35),\"\")","v":{"$error":"#N/A"}},{"$f":"Sheet3!S35","v":1.3016173736097954E-2},{"$f":"IF(ISNUMBER(K35),CORREL($B$1:B35,$K$1:K35),\"\")","v":{"$error":"#N/A"}},{"$f":"Sheet3!U35","v":1.1745862253069941E-2},{"$f":"IF(ISNUMBER(M35),CORREL($B$1:B35,$M$1:M35),\"\")","v":{"$error":"#N/A"}},{"$f":"Sheet3!W35","v":-5.6909997892222296E-3},{"$f":"IF(ISNUMBER(O35),CORREL($B$1:B35,$O$1:O35),\"\")","v":{"$error":"#N/A"}},{"$f":"Sheet3!Y35","v":-3.5376941309654369E-3},{"$f":"IF(ISNUMBER(Q35),CORREL($B$1:B35,$Q$1:Q35),\"\")","v":{"$error":"#N/A"}},{"$f":"Sheet3!AA35","v":5.7361376673040155E-3},{"$f":"IF(ISNUMBER(S35),CORREL($B$1:B35,$S$1:S35),\"\")","v":{"$error":"#N/A"}}]
[null,{"$f":"Sheet3!I36","v":{"$error":"#N/A"}},{"$f":"Sheet3!K36","v":1.5164570049974152E-2},{"$f":"IF(ISNUMBER(C36),CORREL($B$1:B36,$C$1:C36),\"\")","v":{"$error":"#N/A"}},{"$f":"Sheet3!M36","v":-5.9576799287817568E-3},{"$f":"IF(ISNUMBER(E36),CORREL($B$1:B36,$E$1:E36),\"\")","v":{"$error":"#N/A"}},{"$f":"Sheet3!O36","v":1.5410431149618163E-3},{"$f":"IF(ISNUMBER(G36),CORREL($B$1:B36,$G$1:G36),\"\")","v":{"$error":"#N/A"}},{"$f":"Sheet3!Q36","v":3.9054399668210409E-3},{"$f":"IF(ISNUMBER(I36),CORREL($B$1:B36,$I$1:I36),\"\")","v":{"$error":"#N/A"}},{"$f":"Sheet3!S36","v":1.3086341788583658E-2},{"$f":"IF(ISNUMBER(K36),CORREL($B$1:B36,$K$1:K36),\"\")","v":{"$error":"#N/A"}},{"$f":"Sheet3!U36","v":1.199501690692294E-2},{"$f":"IF(ISNUMBER(M36),CORREL($B$1:B36,$M$1:M36),\"\")","v":{"$error":"#N/A"}},{"$f":"Sheet3!W36","v":-6.4638516124499402E-3},{"$f":"IF(ISNUMBER(O36),CORREL($B$1:B36,$O$1:O36),\"\")","v":{"$error":"#N/A"}},{"$f":"Sheet3!Y36","v":-3.1839247178688931E-3},{"$f":"IF(ISNUMBER(Q36),CORREL($B$1:B36,$Q$1:Q36),\"\")","v":{"$error":"#N/A"}},{"$f":"Sheet3!AA36","v":5.098789037603569E-3},{"$f":"IF(ISNUMBER(S36),CORREL($B$1:B36,$S$1:S36),\"\")","v":{"$error":"#N/A"}}]
[null,{"$f":"Sheet3!I37","v":{"$error":"#N/A"}},{"$f":"Sheet3!K37","v":1.5164570049974152E-2},{"$f":"IF(ISNUMBER(C37),CORREL($B$1:B37,$C$1:C37),\"\")","v":{"$error":"#N/A"}},{"$f":"Sheet3!M37","v":-4.8962541943436281E-3},{"$f":"IF(ISNUMBER(E37),CORREL($B$1:B37,$E$1:E37),\"\")","v":{"$error":"#N/A"}},{"$f":"Sheet3!O37","v":1.5410431149618163E-3},{"$f":"IF(ISNUMBER(G37),CORREL($B$1:B37,$G$1:G37),\"\")","v":{"$error":"#N/A"}},{"$f":"Sheet3!Q37","v":4.0091242137277943E-3},{"$f":"IF(ISNUMBER(I37),CORREL($B$1:B37,$I$1:I37),\"\")","v":{"$error":"#N/A"}},{"$f":"Sheet3!S37","v":1.3226677893555064E-2},{"$f":"IF(ISNUMBER(K37),CORREL($B$1:B37,$K$1:K37),\"\")","v":{"$error":"#N/A"}},{"$f":"Sheet3!U37","v":1.2172984516817939E-2},{"$f":"IF(ISNUMBER(M37),CORREL($B$1:B37,$M$1:M37),\"\")","v":{"$error":"#N/A"}},{"$f":"Sheet3!W37","v":-7.4123515773203115E-3},{"$f":"IF(ISNUMBER(O37),CORREL($B$1:B37,$O$1:O37),\"\")","v":{"$error":"#N/A"}},{"$f":"Sheet3!Y37","v":-2.9362861287013124E-3},{"$f":"IF(ISNUMBER(Q37),CORREL($B$1:B37,$Q$1:Q37),\"\")","v":{"$error":"#N/A"}},{"$f":"Sheet3!AA37","v":4.1427660930528996E-3},{"$f":"IF(ISNUMBER(S37),CORREL($B$1:B37,$S$1:S37),\"\")","v":{"$error":"#N/A"}}]
[null,{"$f":"Sheet3!I38","v":{"$error":"#N/A"}},{"$f":"Sheet3!K38","v":1.4750990866793039E-2},{"$f":"IF(ISNUMBER(C38),CORREL($B$1:B38,$C$1:C38),\"\")","v":{"$error":"#N/A"}},{"$f":"Sheet3!M38","v":-4.8962541943436281E-3},{"$f":"IF(ISNUMBER(E38),CORREL($B$1:B38,$E$1:E38),\"\")","v":{"$error":"#N/A"}},{"$f":"Sheet3!O38","v":1.4383069072976952E-3},{"$f":"IF(ISNUMBER(G38),CORREL($B$1:B38,$G$1:G38),\"\")","v":{"$error":"#N/A"}},{"$f":"Sheet3!Q38","v":3.9400013824566257E-3},{"$f":"IF(ISNUMBER(I38),CORREL($B$1:B38,$I$1:I38),\"\")","v":{"$error":"#N/A"}},{"$f":"Sheet3!S38","v":1.3612602182226432E-2},{"$f":"IF(ISNUMBER(K38),CORREL($B$1:B38,$K$1:K38),\"\")","v":{"$error":"#N/A"}},{"$f":"Sheet3!U38","v":1.1817049297027942E-2},{"$f":"IF(ISNUMBER(M38),CORREL($B$1:B38,$M$1:M38),\"\")","v":{"$error":"#N/A"}},{"$f":"Sheet3!W38","v":-8.571629312161877E-3},{"$f":"IF(ISNUMBER(O38),CORREL($B$1:B38,$O$1:O38),\"\")","v":{"$error":"#N/A"}},{"$f":"Sheet3!Y38","v":-3.4315633070364738E-3},{"$f":"IF(ISNUMBER(Q38),CORREL($B$1:B38,$Q$1:Q38),\"\")","v":{"$error":"#N/A"}},{"$f":"Sheet3!AA38","v":4.4260321506975429E-3},{"$f":"IF(ISNUMBER(S38),CORREL($B$1:B38,$S$1:S38),\"\")","v":{"$error":"#N/A"}}]
[null,{"$f":"Sheet3!I39","v":{"$error":"#N/A"}},{"$f":"Sheet3!K39","v":1.4302946751680165E-2},{"$f":"IF(ISNUMBER(C39),CORREL($B$1:B39,$C$1:C39),\"\")","v":{"$error":"#N/A"}},{"$f":"Sheet3!M39","v":-5.0674518934465517E-3},{"$f":"IF(ISNUMBER(E39),CORREL($B$1:B39,$E$1:E39),\"\")","v":{"$error":"#N/A"}},{"$f":"Sheet3!O39","v":1.1985890894147461E-3},{"$f":"IF(ISNUMBER(G39),CORREL($B$1:B39,$G$1:G39),\"\")","v":{"$error":"#N/A"}},{"$f":"Sheet3!Q39","v":4.2164927075413012E-3},{"$f":"IF(ISNUMBER(I39),CORREL($B$1:B39,$I$1:I39),\"\")","v":{"$error":"#N/A"}},{"$f":"Sheet3!S39","v":1.3051257762340807E-2},{"$f":"IF(ISNUMBER(K39),CORREL($B$1:B39,$K$1:K39),\"\")","v":{"$error":"#N/A"}},{"$f":"Sheet3!U39","v":1.2066203950880939E-2},{"$f":"IF(ISNUMBER(M39),CORREL($B$1:B39,$M$1:M39),\"\")","v":{"$error":"#N/A"}},{"$f":"Sheet3!W39","v":-8.0095552589053605E-3},{"$f":"IF(ISNUMBER(O39),CORREL($B$1:B39,$O$1:O39),\"\")","v":{"$error":"#N/A"}},{"$f":"Sheet3!Y39","v":-3.6438249548944E-3},{"$f":"IF(ISNUMBER(Q39),CORREL($B$1:B39,$Q$1:Q39),\"\")","v":{"$error":"#N/A"}},{"$f":"Sheet3!AA39","v":4.7801147227533461E-3},{"$f":"IF(ISNUMBER(S39),CORREL($B$1:B39,$S$1:S39),\"\")","v":{"$error":"#N/A"}}]
[null,{"$f":"Sheet3!I40","v":{"$error":"#N/A"}},{"$f":"Sheet3!K40","v":1.4819920730656556E-2},{"$f":"IF(ISNUMBER(C40),CORREL($B$1:B40,$C$1:C40),\"\")","v":{"$error":"#N/A"}},{"$f":"Sheet3!M40","v":-4.6908169554201193E-3},{"$f":"IF(ISNUMBER(E40),CORREL($B$1:B40,$E$1:E40),\"\")","v":{"$error":"#N/A"}},{"$f":"Sheet3!O40","v":9.931166740865039E-4},{"$f":"IF(ISNUMBER(G40),CORREL($B$1:B40,$G$1:G40),\"\")","v":{"$error":"#N/A"}},{"$f":"Sheet3!Q40","v":3.9400013824566257E-3},{"$f":"IF(ISNUMBER(I40),CORREL($B$1:B40,$I$1:I40),\"\")","v":{"$error":"#N/A"}},{"$f":"Sheet3!S40","v":1.2349577237483774E-2},{"$f":"IF(ISNUMBER(K40),CORREL($B$1:B40,$K$1:K40),\"\")","v":{"$error":"#N/A"}},{"$f":"Sheet3!U40","v":1.1033991813489945E-2},{"$f":"IF(ISNUMBER(M40),CORREL($B$1:B40,$M$1:M40),\"\")","v":{"$error":"#N/A"}},{"$f":"Sheet3!W40","v":-9.5903885336893133E-3},{"$f":"IF(ISNUMBER(O40),CORREL($B$1:B40,$O$1:O40),\"\")","v":{"$error":"#N/A"}},{"$f":"Sheet3!Y40","v":-2.6886475395337321E-3},{"$f":"IF(ISNUMBER(Q40),CORREL($B$1:B40,$Q$1:Q40),\"\")","v":{"$error":"#N/A"}},{"$f":"Sheet3!AA40","v":4.1427660930528996E-3},{"$f":"IF(ISNUMBER(S40),CORREL($B$1:B40,$S$1:S40),\"\")","v":{"$error":"#N/A"}}]
[null,{"$f":"Sheet3!I41","v":{"$error":"#N/A"}},{"$f":"Sheet3!K41","v":1.5405824573496468E-2},{"$f":"IF(ISNUMBER(C41),CORREL($B$1:B41,$C$1:C41),\"\")","v":{"$error":"#N/A"}},{"$f":"Sheet3!M41","v":-4.8277751147024588E-3},{"$f":"IF(ISNUMBER(E41),CORREL($B$1:B41,$E$1:E41),\"\")","v":{"$error":"#N/A"}},{"$f":"Sheet3!O41","v":1.061607479195918E-3},{"$f":"IF(ISNUMBER(G41),CORREL($B$1:B41,$G$1:G41),\"\")","v":{"$error":"#N/A"}},{"$f":"Sheet3!Q41","v":3.8363171355498722E-3},{"$f":"IF(ISNUMBER(I41),CORREL($B$1:B41,$I$1:I41),\"\")","v":{"$error":"#N/A"}},{"$f":"Sheet3!S41","v":1.2349577237483774E-2},{"$f":"IF(ISNUMBER(K41),CORREL($B$1:B41,$K$1:K41),\"\")","v":{"$error":"#N/A"}},{"$f":"Sheet3!U41","v":1.1567894643174943E-2},{"$f":"IF(ISNUMBER(M41),CORREL($B$1:B41,$M$1:M41),\"\")","v":{"$error":"#N/A"}},{"$f":"Sheet3!W41","v":-1.060914775521675E-2},{"$f":"IF(ISNUMBER(O41),CORREL($B$1:B41,$O$1:O41),\"\")","v":{"$error":"#N/A"}},{"$f":"Sheet3!Y41","v":-2.7947783634626952E-3},{"$f":"IF(ISNUMBER(Q41),CORREL($B$1:B41,$Q$1:Q41),\"\")","v":{"$error":"#N/A"}},{"$f":"Sheet3!AA41","v":3.7532752637915163E-3},{"$f":"IF(ISNUMBER(S41),CORREL($B$1:B41,$S$1:S41),\"\")","v":{"$error":"#N/A"}}]
[null,{"$f":"Sheet3!I42","v":{"$error":"#N/A"}},{"$f":"Sheet3!K42","v":1.5405824573496468E-2},{"$f":"IF(ISNUMBER(C42),CORREL($B$1:B42,$C$1:C42),\"\")","v":{"$error":"#N/A"}},{"$f":"Sheet3!M42","v":-5.4783263712935701E-3},{"$f":"IF(ISNUMBER(E42),CORREL($B$1:B42,$E$1:E42),\"\")","v":{"$error":"#N/A"}},{"$f":"Sheet3!O42","v":9.5887127153179686E-4},{"$f":"IF(ISNUMBER(G42),CORREL($B$1:B42,$G$1:G42),\"\")","v":{"$error":"#N/A"}},{"$f":"Sheet3!Q42","v":3.8363171355498722E-3},{"$f":"IF(ISNUMBER(I42),CORREL($B$1:B42,$I$1:I42),\"\")","v":{"$error":"#N/A"}},{"$f":"Sheet3!S42","v":1.2770585552397993E-2},{"$f":"IF(ISNUMBER(K42),CORREL($B$1:B42,$K$1:K42),\"\")","v":{"$error":"#N/A"}},{"$f":"Sheet3!U42","v":1.2350952126712939E-2},{"$f":"IF(ISNUMBER(M42),CORREL($B$1:B42,$M$1:M42),\"\")","v":{"$error":"#N/A"}},{"$f":"Sheet3!W42","v":-1.1663036605072718E-2},{"$f":"IF(ISNUMBER(O42),CORREL($B$1:B42,$O$1:O42),\"\")","v":{"$error":"#N/A"}},{"$f":"Sheet3!Y42","v":-3.1131708352495845E-3},{"$f":"IF(ISNUMBER(Q42),CORREL($B$1:B42,$Q$1:Q42),\"\")","v":{"$error":"#N/A"}},{"$f":"Sheet3!AA42","v":3.7178670065859359E-3},{"$f":"IF(ISNUMBER(S42),CORREL($B$1:B42,$S$1:S42),\"\")","v":{"$error":"#N/A"}}]
[null,{"$f":"Sheet3!I43","v":{"$error":"#N/A"}},{"$f":"Sheet3!K43","v":1.5888333620541099E-2},{"$f":"IF(ISNUMBER(C43),CORREL($B$1:B43,$C$1:C43),\"\")","v":{"$error":"#N/A"}},{"$f":"Sheet3!M43","v":-5.5125659111141543E-3},{"$f":"IF(ISNUMBER(E43),CORREL($B$1:B43,$E$1:E43),\"\")","v":{"$error":"#N/A"}},{"$f":"Sheet3!O43","v":1.2328344919694532E-3},{"$f":"IF(ISNUMBER(G43),CORREL($B$1:B43,$G$1:G43),\"\")","v":{"$error":"#N/A"}},{"$f":"Sheet3!Q43","v":4.5275454482615607E-3},{"$f":"IF(ISNUMBER(I43),CORREL($B$1:B43,$I$1:I43),\"\")","v":{"$error":"#N/A"}},{"$f":"Sheet3!S43","v":1.3156509841069362E-2},{"$f":"IF(ISNUMBER(K43),CORREL($B$1:B43,$K$1:K43),\"\")","v":{"$error":"#N/A"}},{"$f":"Sheet3!U43","v":1.3169603132229934E-2},{"$f":"IF(ISNUMBER(M43),CORREL($B$1:B43,$M$1:M43),\"\")","v":{"$error":"#N/A"}},{"$f":"Sheet3!W43","v":-1.1522518091758589E-2},{"$f":"IF(ISNUMBER(O43),CORREL($B$1:B43,$O$1:O43),\"\")","v":{"$error":"#N/A"}},{"$f":"Sheet3!Y43","v":-3.3961863657268193E-3},{"$f":"IF(ISNUMBER(Q43),CORREL($B$1:B43,$Q$1:Q43),\"\")","v":{"$error":"#N/A"}},{"$f":"Sheet3!AA43","v":4.0011330642305788E-3},{"$f":"IF(ISNUMBER(S43),CORREL($B$1:B43,$S$1:S43),\"\")","v":{"$error":"#N/A"}}]
[null,{"$f":"Sheet3!I44","v":{"$error":"#N/A"}},{"$f":"Sheet3!K44","v":1.5509219369291746E-2},{"$f":"IF(ISNUMBER(C44),CORREL($B$1:B44,$C$1:C44),\"\")","v":{"$error":"#N/A"}},{"$f":"Sheet3!M44","v":-5.7180031500376639E-3},{"$f":"IF(ISNUMBER(E44),CORREL($B$1:B44,$E$1:E44),\"\")","v":{"$error":"#N/A"}},{"$f":"Sheet3!O44","v":1.7122701277353517E-4},{"$f":"IF(ISNUMBER(G44),CORREL($B$1:B44,$G$1:G44),\"\")","v":{"$error":"#N/A"}},{"$f":"Sheet3!Q44","v":3.4215801479228589E-3},{"$f":"IF(ISNUMBER(I44),CORREL($B$1:B44,$I$1:I44),\"\")","v":{"$error":"#N/A"}},{"$f":"Sheet3!S44","v":1.2946005683612252E-2},{"$f":"IF(ISNUMBER(K44),CORREL($B$1:B44,$K$1:K44),\"\")","v":{"$error":"#N/A"}},{"$f":"Sheet3!U44","v":1.2635700302544937E-2},{"$f":"IF(ISNUMBER(M44),CORREL($B$1:B44,$M$1:M44),\"\")","v":{"$error":"#N/A"}},{"$f":"Sheet3!W44","v":-1.1557647720087121E-2},{"$f":"IF(ISNUMBER(O44),CORREL($B$1:B44,$O$1:O44),\"\")","v":{"$error":"#N/A"}},{"$f":"Sheet3!Y44","v":-3.8560866027523262E-3},{"$f":"IF(ISNUMBER(Q44),CORREL($B$1:B44,$Q$1:Q44),\"\")","v":{"$error":"#N/A"}},{"$f":"Sheet3!AA44","v":4.5676651795198637E-3},{"$f":"IF(ISNUMBER(S44),CORREL($B$1:B44,$S$1:S44),\"\")","v":{"$error":"#N/A"}}]
[null,{"$f":"Sheet3!I45","v":{"$error":"#N/A"}},{"$f":"Sheet3!K45","v":1.5509219369291746E-2},{"$f":"IF(ISNUMBER(C45),CORREL($B$1:B45,$C$1:C45),\"\")","v":{"$error":"#N/A"}},{"$f":"Sheet3!M45","v":-5.444086831472985E-3},{"$f":"IF(ISNUMBER(E45),CORREL($B$1:B45,$E$1:E45),\"\")","v":{"$error":"#N/A"}},{"$f":"Sheet3!O45","v":4.7943563576589843E-4},{"$f":"IF(ISNUMBER(G45),CORREL($B$1:B45,$G$1:G45),\"\")","v":{"$error":"#N/A"}},{"$f":"Sheet3!Q45","v":3.0759659915670146E-3},{"$f":"IF(ISNUMBER(I45),CORREL($B$1:B45,$I$1:I45),\"\")","v":{"$error":"#N/A"}},{"$f":"Sheet3!S45","v":1.2770585552397993E-2},{"$f":"IF(ISNUMBER(K45),CORREL($B$1:B45,$K$1:K45),\"\")","v":{"$error":"#N/A"}},{"$f":"Sheet3!U45","v":1.3027229044313934E-2},{"$f":"IF(ISNUMBER(M45),CORREL($B$1:B45,$M$1:M45),\"\")","v":{"$error":"#N/A"}},{"$f":"Sheet3!W45","v":-1.3033092109885477E-2},{"$f":"IF(ISNUMBER(O45),CORREL($B$1:B45,$O$1:O45),\"\")","v":{"$error":"#N/A"}},{"$f":"Sheet3!Y45","v":-4.8466409594226482E-3},{"$f":"IF(ISNUMBER(Q45),CORREL($B$1:B45,$Q$1:Q45),\"\")","v":{"$error":"#N/A"}},{"$f":"Sheet3!AA45","v":4.8863394943700874E-3},{"$f":"IF(ISNUMBER(S45),CORREL($B$1:B45,$S$1:S45),\"\")","v":{"$error":"#N/A"}}]
[null,{"$f":"Sheet3!I46","v":{"$error":"#N/A"}},{"$f":"Sheet3!K46","v":1.5750473892814063E-2},{"$f":"IF(ISNUMBER(C46),CORREL($B$1:B46,$C$1:C46),\"\")","v":{"$error":"#N/A"}},{"$f":"Sheet3!M46","v":-4.9989728138053824E-3},{"$f":"IF(ISNUMBER(E46),CORREL($B$1:B46,$E$1:E46),\"\")","v":{"$error":"#N/A"}},{"$f":"Sheet3!O46","v":6.8490805109414063E-5},{"$f":"IF(ISNUMBER(G46),CORREL($B$1:B46,$G$1:G46),\"\")","v":{"$error":"#N/A"}},{"$f":"Sheet3!Q46","v":3.6980714730075344E-3},{"$f":"IF(ISNUMBER(I46),CORREL($B$1:B46,$I$1:I46),\"\")","v":{"$error":"#N/A"}},{"$f":"Sheet3!S46","v":1.3226677893555064E-2},{"$f":"IF(ISNUMBER(K46),CORREL($B$1:B46,$K$1:K46),\"\")","v":{"$error":"#N/A"}},{"$f":"Sheet3!U46","v":1.3205196654208934E-2},{"$f":"IF(ISNUMBER(M46),CORREL($B$1:B46,$M$1:M46),\"\")","v":{"$error":"#N/A"}},{"$f":"Sheet3!W46","v":{"$error":"#N/A"}},{"$f":"IF(ISNUMBER(O46),CORREL($B$1:B46,$O$1:O46),\"\")","v":""},{"$f":"Sheet3!Y46","v":-4.5990023702550675E-3},{"$f":"IF(ISNUMBER(Q46),CORREL($B$1:B46,$Q$1:Q46),\"\")","v":{"$error":"#N/A"}},{"$f":"Sheet3!AA46","v":4.9217477515756678E-3},{"$f":"IF(ISNUMBER(S46),CORREL($B$1:B46,$S$1:S46),\"\")","v":{"$error":"#N/A"}}]
[null,{"$f":"Sheet3!I47","v":{"$error":"#N/A"}},{"$f":"Sheet3!K47","v":1.5440289505428226E-2},{"$f":"IF(ISNUMBER(C47),CORREL($B$1:B47,$C$1:C47),\"\")","v":{"$error":"#N/A"}},{"$f":"Sheet3!M47","v":-3.3897144422378963E-3},{"$f":"IF(ISNUMBER(E47),CORREL($B$1:B47,$E$1:E47),\"\")","v":{"$error":"#N/A"}},{"$f":"Sheet3!O47","v":-1.3698161021882813E-4},{"$f":"IF(ISNUMBER(G47),CORREL($B$1:B47,$G$1:G47),\"\")","v":{"$error":"#N/A"}},{"$f":"Sheet3!Q47","v":4.4929840326259768E-3},{"$f":"IF(ISNUMBER(I47),CORREL($B$1:B47,$I$1:I47),\"\")","v":{"$error":"#N/A"}},{"$f":"Sheet3!S47","v":1.2840753604883697E-2},{"$f":"IF(ISNUMBER(K47),CORREL($B$1:B47,$K$1:K47),\"\")","v":{"$error":"#N/A"}},{"$f":"Sheet3!U47","v":1.2742480868481936E-2},{"$f":"IF(ISNUMBER(M47),CORREL($B$1:B47,$M$1:M47),\"\")","v":{"$error":"#N/A"}},{"$f":"Sheet3!W47","v":{"$error":"#N/A"}},{"$f":"IF(ISNUMBER(O47),CORREL($B$1:B47,$O$1:O47),\"\")","v":""},{"$f":"Sheet3!Y47","v":-4.2806098984681787E-3},{"$f":"IF(ISNUMBER(Q47),CORREL($B$1:B47,$Q$1:Q47),\"\")","v":{"$error":"#N/A"}},{"$f":"Sheet3!AA47","v":4.8509312371645069E-3},{"$f":"IF(ISNUMBER(S47),CORREL($B$1:B47,$S$1:S47),\"\")","v":{"$error":"#N/A"}}]
[null,{"$f":"Sheet3!I48","v":{"$error":"#N/A"}},{"$f":"Sheet3!K48","v":1.6405307599517492E-2},{"$f":"IF(ISNUMBER(C48),CORREL($B$1:B48,$C$1:C48),\"\")","v":{"$error":"#N/A"}},{"$f":"Sheet3!M48","v":-3.458193521879066E-3},{"$f":"IF(ISNUMBER(E48),CORREL($B$1:B48,$E$1:E48),\"\")","v":{"$error":"#N/A"}},{"$f":"Sheet3!O48","v":-6.1641724598472658E-4},{"$f":"IF(ISNUMBER(G48),CORREL($B$1:B48,$G$1:G48),\"\")","v":{"$error":"#N/A"}},{"$f":"Sheet3!Q48","v":4.6312296951683141E-3},{"$f":"IF(ISNUMBER(I48),CORREL($B$1:B48,$I$1:I48),\"\")","v":{"$error":"#N/A"}},{"$f":"Sheet3!S48","v":1.3016173736097954E-2},{"$f":"IF(ISNUMBER(K48),CORREL($B$1:B48,$K$1:K48),\"\")","v":{"$error":"#N/A"}},{"$f":"Sheet3!U48","v":1.2671293824523937E-2},{"$f":"IF(ISNUMBER(M48),CORREL($B$1:B48,$M$1:M48),\"\")","v":{"$error":"#N/A"}},{"$f":"Sheet3!W48","v":{"$error":"#N/A"}},{"$f":"IF(ISNUMBER(O48),CORREL($B$1:B48,$O$1:O48),\"\")","v":""},{"$f":"Sheet3!Y48","v":-4.7405101354936856E-3},{"$f":"IF(ISNUMBER(Q48),CORREL($B$1:B48,$Q$1:Q48),\"\")","v":{"$error":"#N/A"}},{"$f":"Sheet3!AA48","v":5.0279725231924081E-3},{"$f":"IF(ISNUMBER(S48),CORREL($B$1:B48,$S$1:S48),\"\")","v":{"$error":"#N/A"}}]
[null,{"$f":"Sheet3!I49","v":{"$error":"#N/A"}},{"$f":"Sheet3!K49","v":1.5750473892814063E-2},{"$f":"IF(ISNUMBER(C49),CORREL($B$1:B49,$C$1:C49),\"\")","v":{"$error":"#N/A"}},{"$f":"Sheet3!M49","v":-3.6636307608025748E-3},{"$f":"IF(ISNUMBER(E49),CORREL($B$1:B49,$E$1:E49),\"\")","v":{"$error":"#N/A"}},{"$f":"Sheet3!O49","v":-1.4383069072976952E-3},{"$f":"IF(ISNUMBER(G49),CORREL($B$1:B49,$G$1:G49),\"\")","v":{"$error":"#N/A"}},{"$f":"Sheet3!Q49","v":4.838598188981821E-3},{"$f":"IF(ISNUMBER(I49),CORREL($B$1:B49,$I$1:I49),\"\")","v":{"$error":"#N/A"}},{"$f":"Sheet3!S49","v":1.2840753604883697E-2},{"$f":"IF(ISNUMBER(K49),CORREL($B$1:B49,$K$1:K49),\"\")","v":{"$error":"#N/A"}},{"$f":"Sheet3!U49","v":1.2066203950880939E-2},{"$f":"IF(ISNUMBER(M49),CORREL($B$1:B49,$M$1:M49),\"\")","v":{"$error":"#N/A"}},{"$f":"Sheet3!W49","v":{"$error":"#N/A"}},{"$f":"IF(ISNUMBER(O49),CORREL($B$1:B49,$O$1:O49),\"\")","v":""},{"$f":"Sheet3!Y49","v":-3.7145788375137086E-3},{"$f":"IF(ISNUMBER(Q49),CORREL($B$1:B49,$Q$1:Q49),\"\")","v":{"$error":"#N/A"}},{"$f":"Sheet3!AA49","v":4.5322569223142841E-3},{"$f":"IF(ISNUMBER(S49),CORREL($B$1:B49,$S$1:S49),\"\")","v":{"$error":"#N/A"}}]
[null,{"$f":"Sheet3!I50","v":{"$error":"#N/A"}},{"$f":"Sheet3!K50","v":1.6508702395312769E-2},{"$f":"IF(ISNUMBER(C50),CORREL($B$1:B50,$C$1:C50),\"\")","v":{"$error":"#N/A"}},{"$f":"Sheet3!M50","v":-4.0745052386495922E-3},{"$f":"IF(ISNUMBER(E50),CORREL($B$1:B50,$E$1:E50),\"\")","v":{"$error":"#N/A"}},{"$f":"Sheet3!O50","v":-2.2259511660559571E-3},{"$f":"IF(ISNUMBER(G50),CORREL($B$1:B50,$G$1:G50),\"\")","v":{"$error":"#N/A"}},{"$f":"Sheet3!Q50","v":4.8731596046174049E-3},{"$f":"IF(ISNUMBER(I50),CORREL($B$1:B50,$I$1:I50),\"\")","v":{"$error":"#N/A"}},{"$f":"Sheet3!S50","v":1.3051257762340807E-2},{"$f":"IF(ISNUMBER(K50),CORREL($B$1:B50,$K$1:K50),\"\")","v":{"$error":"#N/A"}},{"$f":"Sheet3!U50","v":1.1639081687132942E-2},{"$f":"IF(ISNUMBER(M50),CORREL($B$1:B50,$M$1:M50),\"\")","v":{"$error":"#N/A"}},{"$f":"Sheet3!W50","v":{"$error":"#N/A"}},{"$f":"IF(ISNUMBER(O50),CORREL($B$1:B50,$O$1:O50),\"\")","v":""},{"$f":"Sheet3!Y50","v":-2.8655322460820038E-3},{"$f":"IF(ISNUMBER(Q50),CORREL($B$1:B50,$Q$1:Q50),\"\")","v":{"$error":"#N/A"}},{"$f":"Sheet3!AA50","v":4.6738899511366049E-3},{"$f":"IF(ISNUMBER(S50),CORREL($B$1:B50,$S$1:S50),\"\")","v":{"$error":"#N/A"}}]
[null,{"$f":"Sheet3!I51","v":{"$error":"#N/A"}},{"$f":"Sheet3!K51","v":1.6267447871790453E-2},{"$f":"IF(ISNUMBER(C51),CORREL($B$1:B51,$C$1:C51),\"\")","v":{"$error":"#N/A"}},{"$f":"Sheet3!M51","v":-4.006026159008423E-3},{"$f":"IF(ISNUMBER(E51),CORREL($B$1:B51,$E$1:E51),\"\")","v":{"$error":"#N/A"}},{"$f":"Sheet3!O51","v":-1.9862333481730078E-3},{"$f":"IF(ISNUMBER(G51),CORREL($B$1:B51,$G$1:G51),\"\")","v":{"$error":"#N/A"}},{"$f":"Sheet3!Q51","v":4.5621068638971455E-3},{"$f":"IF(ISNUMBER(I51),CORREL($B$1:B51,$I$1:I51),\"\")","v":{"$error":"#N/A"}},{"$f":"Sheet3!S51","v":1.2770585552397993E-2},{"$f":"IF(ISNUMBER(K51),CORREL($B$1:B51,$K$1:K51),\"\")","v":{"$error":"#N/A"}},{"$f":"Sheet3!U51","v":1.2030610428901941E-2},{"$f":"IF(ISNUMBER(M51),CORREL($B$1:B51,$M$1:M51),\"\")","v":{"$error":"#N/A"}},{"$f":"Sheet3!W51","v":{"$error":"#N/A"}},{"$f":"IF(ISNUMBER(O51),CORREL($B$1:B51,$O$1:O51),\"\")","v":""},{"$f":"Sheet3!Y51","v":-1.9103548307213359E-3},{"$f":"IF(ISNUMBER(Q51),CORREL($B$1:B51,$Q$1:Q51),\"\")","v":{"$error":"#N/A"}},{"$f":"Sheet3!AA51","v":5.9131789533319167E-3},{"$f":"IF(ISNUMBER(S51),CORREL($B$1:B51,$S$1:S51),\"\")","v":{"$error":"#N/A"}}]
[null,{"$f":"Sheet3!I52","v":{"$error":"#N/A"}},{"$f":"Sheet3!K52","v":1.595726348440462E-2},{"$f":"IF(ISNUMBER(C52),CORREL($B$1:B52,$C$1:C52),\"\")","v":{"$error":"#N/A"}},{"$f":"Sheet3!M52","v":-4.8277751147024588E-3},{"$f":"IF(ISNUMBER(E52),CORREL($B$1:B52,$E$1:E52),\"\")","v":{"$error":"#N/A"}},{"$f":"Sheet3!O52","v":-3.0820862299236326E-3},{"$f":"IF(ISNUMBER(G52),CORREL($B$1:B52,$G$1:G52),\"\")","v":{"$error":"#N/A"}},{"$f":"Sheet3!Q52","v":4.8040367733462363E-3},{"$f":"IF(ISNUMBER(I52),CORREL($B$1:B52,$I$1:I52),\"\")","v":{"$error":"#N/A"}},{"$f":"Sheet3!S52","v":1.2840753604883697E-2},{"$f":"IF(ISNUMBER(K52),CORREL($B$1:B52,$K$1:K52),\"\")","v":{"$error":"#N/A"}},{"$f":"Sheet3!U52","v":1.199501690692294E-2},{"$f":"IF(ISNUMBER(M52),CORREL($B$1:B52,$M$1:M52),\"\")","v":{"$error":"#N/A"}},{"$f":"Sheet3!W52","v":{"$error":"#N/A"}},{"$f":"IF(ISNUMBER(O52),CORREL($B$1:B52,$O$1:O52),\"\")","v":""},{"$f":"Sheet3!Y52","v":-3.537694130965437E-5},{"$f":"IF(ISNUMBER(Q52),CORREL($B$1:B52,$Q$1:Q52),\"\")","v":{"$error":"#N/A"}},{"$f":"Sheet3!AA52","v":5.4882798668649526E-3},{"$f":"IF(ISNUMBER(S52),CORREL($B$1:B52,$S$1:S52),\"\")","v":{"$error":"#N/A"}}]
[null,{"$f":"Sheet3!I53","v":{"$error":"#N/A"}},{"$f":"Sheet3!K53","v":1.5578149233155264E-2},{"$f":"IF(ISNUMBER(C53),CORREL($B$1:B53,$C$1:C53),\"\")","v":{"$error":"#N/A"}},{"$f":"Sheet3!M53","v":-5.444086831472985E-3},{"$f":"IF(ISNUMBER(E53),CORREL($B$1:B53,$E$1:E53),\"\")","v":{"$error":"#N/A"}},{"$f":"Sheet3!O53","v":-2.4999143864936134E-3},{"$f":"IF(ISNUMBER(G53),CORREL($B$1:B53,$G$1:G53),\"\")","v":{"$error":"#N/A"}},{"$f":"Sheet3!Q53","v":5.2187737609732492E-3},{"$f":"IF(ISNUMBER(I53),CORREL($B$1:B53,$I$1:I53),\"\")","v":{"$error":"#N/A"}},{"$f":"Sheet3!S53","v":1.3191593867312213E-2},{"$f":"IF(ISNUMBER(K53),CORREL($B$1:B53,$K$1:K53),\"\")","v":{"$error":"#N/A"}},{"$f":"Sheet3!U53","v":1.1247552945363944E-2},{"$f":"IF(ISNUMBER(M53),CORREL($B$1:B53,$M$1:M53),\"\")","v":{"$error":"#N/A"}},{"$f":"Sheet3!W53","v":{"$error":"#N/A"}},{"$f":"IF(ISNUMBER(O53),CORREL($B$1:B53,$O$1:O53),\"\")","v":""},{"$f":"Sheet3!Y53","v":2.8301553047723496E-4},{"$f":"IF(ISNUMBER(Q53),CORREL($B$1:B53,$Q$1:Q53),\"\")","v":{"$error":"#N/A"}},{"$f":"Sheet3!AA53","v":5.5590963812761135E-3},{"$f":"IF(ISNUMBER(S53),CORREL($B$1:B53,$S$1:S53),\"\")","v":{"$error":"#N/A"}}]
[null,{"$f":"Sheet3!I54","v":{"$error":"#N/A"}},{"$f":"Sheet3!K54","v":1.5026710322247113E-2},{"$f":"IF(ISNUMBER(C54),CORREL($B$1:B54,$C$1:C54),\"\")","v":{"$error":"#N/A"}},{"$f":"Sheet3!M54","v":-5.6152845305759086E-3},{"$f":"IF(ISNUMBER(E54),CORREL($B$1:B54,$E$1:E54),\"\")","v":{"$error":"#N/A"}},{"$f":"Sheet3!O54","v":-1.8834971405088867E-3},{"$f":"IF(ISNUMBER(G54),CORREL($B$1:B54,$G$1:G54),\"\")","v":{"$error":"#N/A"}},{"$f":"Sheet3!Q54","v":5.2187737609732492E-3},{"$f":"IF(ISNUMBER(I54),CORREL($B$1:B54,$I$1:I54),\"\")","v":{"$error":"#N/A"}},{"$f":"Sheet3!S54","v":1.2981089709855103E-2},{"$f":"IF(ISNUMBER(K54),CORREL($B$1:B54,$K$1:K54),\"\")","v":{"$error":"#N/A"}},{"$f":"Sheet3!U54","v":1.1674675209111942E-2},{"$f":"IF(ISNUMBER(M54),CORREL($B$1:B54,$M$1:M54),\"\")","v":{"$error":"#N/A"}},{"$f":"Sheet3!W54","v":{"$error":"#N/A"}},{"$f":"IF(ISNUMBER(O54),CORREL($B$1:B54,$O$1:O54),\"\")","v":""},{"$f":"Sheet3!Y54","v":4.9527717833516111E-4},{"$f":"IF(ISNUMBER(Q54),CORREL($B$1:B54,$Q$1:Q54),\"\")","v":{"$error":"#N/A"}},{"$f":"Sheet3!AA54","v":5.6299128956872743E-3},{"$f":"IF(ISNUMBER(S54),CORREL($B$1:B54,$S$1:S54),\"\")","v":{"$error":"#N/A"}}]
[null,{"$f":"Sheet3!I55","v":{"$error":"#N/A"}},{"$f":"Sheet3!K55","v":1.4992245390315354E-2},{"$f":"IF(ISNUMBER(C55),CORREL($B$1:B55,$C$1:C55),\"\")","v":{"$error":"#N/A"}},{"$f":"Sheet3!M55","v":-5.2728891323700613E-3},{"$f":"IF(ISNUMBER(E55),CORREL($B$1:B55,$E$1:E55),\"\")","v":{"$error":"#N/A"}},{"$f":"Sheet3!O55","v":-1.3355706996335743E-3},{"$f":"IF(ISNUMBER(G55),CORREL($B$1:B55,$G$1:G55),\"\")","v":{"$error":"#N/A"}},{"$f":"Sheet3!Q55","v":5.0114052671597431E-3},{"$f":"IF(ISNUMBER(I55),CORREL($B$1:B55,$I$1:I55),\"\")","v":{"$error":"#N/A"}},{"$f":"Sheet3!S55","v":1.2910921657369399E-2},{"$f":"IF(ISNUMBER(K55),CORREL($B$1:B55,$K$1:K55),\"\")","v":{"$error":"#N/A"}},{"$f":"Sheet3!U55","v":1.0678056593699947E-2},{"$f":"IF(ISNUMBER(M55),CORREL($B$1:B55,$M$1:M55),\"\")","v":{"$error":"#N/A"}},{"$f":"Sheet3!W55","v":{"$error":"#N/A"}},{"$f":"IF(ISNUMBER(O55),CORREL($B$1:B55,$O$1:O55),\"\")","v":""},{"$f":"Sheet3!Y55","v":1.4858315350054834E-3},{"$f":"IF(ISNUMBER(Q55),CORREL($B$1:B55,$Q$1:Q55),\"\")","v":{"$error":"#N/A"}},{"$f":"Sheet3!AA55","v":5.3466468380426319E-3},{"$f":"IF(ISNUMBER(S55),CORREL($B$1:B55,$S$1:S55),\"\")","v":{"$error":"#N/A"}}]
[null,{"$f":"Sheet3!I56","v":{"$error":"#N/A"}},{"$f":"Sheet3!K56","v":1.4337411683611925E-2},{"$f":"IF(ISNUMBER(C56),CORREL($B$1:B56,$C$1:C56),\"\")","v":{"$error":"#N/A"}},{"$f":"Sheet3!M56","v":-5.6152845305759086E-3},{"$f":"IF(ISNUMBER(E56),CORREL($B$1:B56,$E$1:E56),\"\")","v":{"$error":"#N/A"}},{"$f":"Sheet3!O56","v":-1.1985890894147461E-3},{"$f":"IF(ISNUMBER(G56),CORREL($B$1:B56,$G$1:G56),\"\")","v":{"$error":"#N/A"}},{"$f":"Sheet3!Q56","v":4.5275454482615607E-3},{"$f":"IF(ISNUMBER(I56),CORREL($B$1:B56,$I$1:I56),\"\")","v":{"$error":"#N/A"}},{"$f":"Sheet3!S56","v":1.2946005683612252E-2},{"$f":"IF(ISNUMBER(K56),CORREL($B$1:B56,$K$1:K56),\"\")","v":{"$error":"#N/A"}},{"$f":"Sheet3!U56","v":9.6814379782879517E-3},{"$f":"IF(ISNUMBER(M56),CORREL($B$1:B56,$M$1:M56),\"\")","v":{"$error":"#N/A"}},{"$f":"Sheet3!W56","v":{"$error":"#N/A"}},{"$f":"IF(ISNUMBER(O56),CORREL($B$1:B56,$O$1:O56),\"\")","v":""},{"$f":"Sheet3!Y56","v":1.8749778894116816E-3},{"$f":"IF(ISNUMBER(Q56),CORREL($B$1:B56,$Q$1:Q56),\"\")","v":{"$error":"#N/A"}},{"$f":"Sheet3!AA56","v":5.4174633524537918E-3},{"$f":"IF(ISNUMBER(S56),CORREL($B$1:B56,$S$1:S56),\"\")","v":{"$error":"#N/A"}}]
[null,{"$f":"Sheet3!I57","v":{"$error":"#N/A"}},{"$f":"Sheet3!K57","v":1.5130105118042391E-2},{"$f":"IF(ISNUMBER(C57),CORREL($B$1:B57,$C$1:C57),\"\")","v":{"$error":"#N/A"}},{"$f":"Sheet3!M57","v":-6.9506265835787163E-3},{"$f":"IF(ISNUMBER(E57),CORREL($B$1:B57,$E$1:E57),\"\")","v":{"$error":"#N/A"}},{"$f":"Sheet3!O57","v":-9.5887127153179686E-4},{"$f":"IF(ISNUMBER(G57),CORREL($B$1:B57,$G$1:G57),\"\")","v":{"$error":"#N/A"}},{"$f":"Sheet3!Q57","v":4.9768438515241584E-3},{"$f":"IF(ISNUMBER(I57),CORREL($B$1:B57,$I$1:I57),\"\")","v":{"$error":"#N/A"}},{"$f":"Sheet3!S57","v":1.3121425814826509E-2},{"$f":"IF(ISNUMBER(K57),CORREL($B$1:B57,$K$1:K57),\"\")","v":{"$error":"#N/A"}},{"$f":"Sheet3!U57","v":8.7560064068339556E-3},{"$f":"IF(ISNUMBER(M57),CORREL($B$1:B57,$M$1:M57),\"\")","v":{"$error":"#N/A"}},{"$f":"Sheet3!W57","v":{"$error":"#N/A"}},{"$f":"IF(ISNUMBER(O57),CORREL($B$1:B57,$O$1:O57),\"\")","v":""},{"$f":"Sheet3!Y57","v":2.5471397742951145E-3},{"$f":"IF(ISNUMBER(Q57),CORREL($B$1:B57,$Q$1:Q57),\"\")","v":{"$error":"#N/A"}},{"$f":"Sheet3!AA57","v":5.2404220664258906E-3},{"$f":"IF(ISNUMBER(S57),CORREL($B$1:B57,$S$1:S57),\"\")","v":{"$error":"#N/A"}}]
[null,{"$f":"Sheet3!I58","v":{"$error":"#N/A"}},{"$f":"Sheet3!K58","v":1.5716008960882301E-2},{"$f":"IF(ISNUMBER(C58),CORREL($B$1:B58,$C$1:C58),\"\")","v":{"$error":"#N/A"}},{"$f":"Sheet3!M58","v":-6.2315962473464357E-3},{"$f":"IF(ISNUMBER(E58),CORREL($B$1:B58,$E$1:E58),\"\")","v":{"$error":"#N/A"}},{"$f":"Sheet3!O58","v":-1.2670798945241602E-3},{"$f":"IF(ISNUMBER(G58),CORREL($B$1:B58,$G$1:G58),\"\")","v":{"$error":"#N/A"}},{"$f":"Sheet3!Q58","v":5.3570194235155874E-3},{"$f":"IF(ISNUMBER(I58),CORREL($B$1:B58,$I$1:I58),\"\")","v":{"$error":"#N/A"}},{"$f":"Sheet3!S58","v":1.2981089709855103E-2},{"$f":"IF(ISNUMBER(K58),CORREL($B$1:B58,$K$1:K58),\"\")","v":{"$error":"#N/A"}},{"$f":"Sheet3!U58","v":1.0571276027762947E-2},{"$f":"IF(ISNUMBER(M58),CORREL($B$1:B58,$M$1:M58),\"\")","v":{"$error":"#N/A"}},{"$f":"Sheet3!W58","v":{"$error":"#N/A"}},{"$f":"IF(ISNUMBER(O58),CORREL($B$1:B58,$O$1:O58),\"\")","v":""},{"$f":"Sheet3!Y58","v":3.5376941309654369E-3},{"$f":"IF(ISNUMBER(Q58),CORREL($B$1:B58,$Q$1:Q58),\"\")","v":{"$error":"#N/A"}},{"$f":"Sheet3!AA58","v":5.0633807803979886E-3},{"$f":"IF(ISNUMBER(S58),CORREL($B$1:B58,$S$1:S58),\"\")","v":{"$error":"#N/A"}}]
[null,{"$f":"Sheet3!I59","v":{"$error":"#N/A"}},{"$f":"Sheet3!K59","v":1.6026193348268138E-2},{"$f":"IF(ISNUMBER(C59),CORREL($B$1:B59,$C$1:C59),\"\")","v":{"$error":"#N/A"}},{"$f":"Sheet3!M59","v":-5.1701705129083061E-3},{"$f":"IF(ISNUMBER(E59),CORREL($B$1:B59,$E$1:E59),\"\")","v":{"$error":"#N/A"}},{"$f":"Sheet3!O59","v":-1.1985890894147461E-3},{"$f":"IF(ISNUMBER(G59),CORREL($B$1:B59,$G$1:G59),\"\")","v":{"$error":"#N/A"}},{"$f":"Sheet3!Q59","v":5.1496509297020805E-3},{"$f":"IF(ISNUMBER(I59),CORREL($B$1:B59,$I$1:I59),\"\")","v":{"$error":"#N/A"}},{"$f":"Sheet3!S59","v":1.3191593867312213E-2},{"$f":"IF(ISNUMBER(K59),CORREL($B$1:B59,$K$1:K59),\"\")","v":{"$error":"#N/A"}},{"$f":"Sheet3!U59","v":1.000177967609895E-2},{"$f":"IF(ISNUMBER(M59),CORREL($B$1:B59,$M$1:M59),\"\")","v":{"$error":"#N/A"}},{"$f":"Sheet3!W59","v":{"$error":"#N/A"}},{"$f":"IF(ISNUMBER(O59),CORREL($B$1:B59,$O$1:O59),\"\")","v":""},{"$f":"Sheet3!Y59","v":3.6438249548944E-3},{"$f":"IF(ISNUMBER(Q59),CORREL($B$1:B59,$Q$1:Q59),\"\")","v":{"$error":"#N/A"}},{"$f":"Sheet3!AA59","v":5.3112385808370514E-3},{"$f":"IF(ISNUMBER(S59),CORREL($B$1:B59,$S$1:S59),\"\")","v":{"$error":"#N/A"}}]
[null,{"$f":"Sheet3!I60","v":{"$error":"#N/A"}},{"$f":"Sheet3!K60","v":1.6198518007926935E-2},{"$f":"IF(ISNUMBER(C60),CORREL($B$1:B60,$C$1:C60),\"\")","v":{"$error":"#N/A"}},{"$f":"Sheet3!M60","v":-4.6565774155995342E-3},{"$f":"IF(ISNUMBER(E60),CORREL($B$1:B60,$E$1:E60),\"\")","v":{"$error":"#N/A"}},{"$f":"Sheet3!O60","v":-7.8764425875826167E-4},{"$f":"IF(ISNUMBER(G60),CORREL($B$1:B60,$G$1:G60),\"\")","v":{"$error":"#N/A"}},{"$f":"Sheet3!Q60","v":5.3570194235155874E-3},{"$f":"IF(ISNUMBER(I60),CORREL($B$1:B60,$I$1:I60),\"\")","v":{"$error":"#N/A"}},{"$f":"Sheet3!S60","v":1.3261761919797915E-2},{"$f":"IF(ISNUMBER(K60),CORREL($B$1:B60,$K$1:K60),\"\")","v":{"$error":"#N/A"}},{"$f":"Sheet3!U60","v":1.1140772379426945E-2},{"$f":"IF(ISNUMBER(M60),CORREL($B$1:B60,$M$1:M60),\"\")","v":{"$error":"#N/A"}},{"$f":"Sheet3!W60","v":{"$error":"#N/A"}},{"$f":"IF(ISNUMBER(O60),CORREL($B$1:B60,$O$1:O60),\"\")","v":""},{"$f":"Sheet3!Y60","v":4.0683482506102524E-3},{"$f":"IF(ISNUMBER(Q60),CORREL($B$1:B60,$Q$1:Q60),\"\")","v":{"$error":"#N/A"}},{"$f":"Sheet3!AA60","v":5.7007294100984351E-3},{"$f":"IF(ISNUMBER(S60),CORREL($B$1:B60,$S$1:S60),\"\")","v":{"$error":"#N/A"}}]
[null,{"$f":"Sheet3!I61","v":{"$error":"#N/A"}},{"$f":"Sheet3!K61","v":1.6267447871790453E-2},{"$f":"IF(ISNUMBER(C61),CORREL($B$1:B61,$C$1:C61),\"\")","v":{"$error":"#N/A"}},{"$f":"Sheet3!M61","v":-4.6223378757789492E-3},{"$f":"IF(ISNUMBER(E61),CORREL($B$1:B61,$E$1:E61),\"\")","v":{"$error":"#N/A"}},{"$f":"Sheet3!O61","v":-6.8490805109414066E-4},{"$f":"IF(ISNUMBER(G61),CORREL($B$1:B61,$G$1:G61),\"\")","v":{"$error":"#N/A"}},{"$f":"Sheet3!Q61","v":5.3224580078800026E-3},{"$f":"IF(ISNUMBER(I61),CORREL($B$1:B61,$I$1:I61),\"\")","v":{"$error":"#N/A"}},{"$f":"Sheet3!S61","v":1.3086341788583658E-2},{"$f":"IF(ISNUMBER(K61),CORREL($B$1:B61,$K$1:K61),\"\")","v":{"$error":"#N/A"}},{"$f":"Sheet3!U61","v":1.1817049297027942E-2},{"$f":"IF(ISNUMBER(M61),CORREL($B$1:B61,$M$1:M61),\"\")","v":{"$error":"#N/A"}},{"$f":"Sheet3!W61","v":{"$error":"#N/A"}},{"$f":"IF(ISNUMBER(O61),CORREL($B$1:B61,$O$1:O61),\"\")","v":""},{"$f":"Sheet3!Y61","v":4.3513637810874868E-3},{"$f":"IF(ISNUMBER(Q61),CORREL($B$1:B61,$Q$1:Q61),\"\")","v":{"$error":"#N/A"}},{"$f":"Sheet3!AA61","v":5.098789037603569E-3},{"$f":"IF(ISNUMBER(S61),CORREL($B$1:B61,$S$1:S61),\"\")","v":{"$error":"#N/A"}}]
[null,{"$f":"Sheet3!I62","v":{"$error":"#N/A"}},{"$f":"Sheet3!K62","v":1.5991728416336379E-2},{"$f":"IF(ISNUMBER(C62),CORREL($B$1:B62,$C$1:C62),\"\")","v":{"$error":"#N/A"}},{"$f":"Sheet3!M62","v":-4.4169006368554404E-3},{"$f":"IF(ISNUMBER(E62),CORREL($B$1:B62,$E$1:E62),\"\")","v":{"$error":"#N/A"}},{"$f":"Sheet3!O62","v":-5.4792644087531251E-4},{"$f":"IF(ISNUMBER(G62),CORREL($B$1:B62,$G$1:G62),\"\")","v":{"$error":"#N/A"}},{"$f":"Sheet3!Q62","v":5.5298265016935095E-3},{"$f":"IF(ISNUMBER(I62),CORREL($B$1:B62,$I$1:I62),\"\")","v":{"$error":"#N/A"}},{"$f":"Sheet3!S62","v":1.2209241132512367E-2},{"$f":"IF(ISNUMBER(K62),CORREL($B$1:B62,$K$1:K62),\"\")","v":{"$error":"#N/A"}},{"$f":"Sheet3!U62","v":1.1389927033279942E-2},{"$f":"IF(ISNUMBER(M62),CORREL($B$1:B62,$M$1:M62),\"\")","v":{"$error":"#N/A"}},{"$f":"Sheet3!W62","v":{"$error":"#N/A"}},{"$f":"IF(ISNUMBER(O62),CORREL($B$1:B62,$O$1:O62),\"\")","v":""},{"$f":"Sheet3!Y62","v":3.8914635440619803E-3},{"$f":"IF(ISNUMBER(Q62),CORREL($B$1:B62,$Q$1:Q62),\"\")","v":{"$error":"#N/A"}},{"$f":"Sheet3!AA62","v":4.8155229799589265E-3},{"$f":"IF(ISNUMBER(S62),CORREL($B$1:B62,$S$1:S62),\"\")","v":{"$error":"#N/A"}}]
[null,{"$f":"Sheet3!I63","v":{"$error":"#N/A"}},{"$f":"Sheet3!K63","v":1.5716008960882301E-2},{"$f":"IF(ISNUMBER(C63),CORREL($B$1:B63,$C$1:C63),\"\")","v":{"$error":"#N/A"}},{"$f":"Sheet3!M63","v":-3.9033075395466686E-3},{"$f":"IF(ISNUMBER(E63),CORREL($B$1:B63,$E$1:E63),\"\")","v":{"$error":"#N/A"}},{"$f":"Sheet3!O63","v":-9.5887127153179686E-4},{"$f":"IF(ISNUMBER(G63),CORREL($B$1:B63,$G$1:G63),\"\")","v":{"$error":"#N/A"}},{"$f":"Sheet3!Q63","v":5.9445634893205224E-3},{"$f":"IF(ISNUMBER(I63),CORREL($B$1:B63,$I$1:I63),\"\")","v":{"$error":"#N/A"}},{"$f":"Sheet3!S63","v":1.2805669578640844E-2},{"$f":"IF(ISNUMBER(K63),CORREL($B$1:B63,$K$1:K63),\"\")","v":{"$error":"#N/A"}},{"$f":"Sheet3!U63","v":1.1069585335468944E-2},{"$f":"IF(ISNUMBER(M63),CORREL($B$1:B63,$M$1:M63),\"\")","v":{"$error":"#N/A"}},{"$f":"Sheet3!W63","v":{"$error":"#N/A"}},{"$f":"IF(ISNUMBER(O63),CORREL($B$1:B63,$O$1:O63),\"\")","v":""},{"$f":"Sheet3!Y63","v":3.6084480135847455E-3},{"$f":"IF(ISNUMBER(Q63),CORREL($B$1:B63,$Q$1:Q63),\"\")","v":{"$error":"#N/A"}},{"$f":"Sheet3!AA63","v":4.7801147227533461E-3},{"$f":"IF(ISNUMBER(S63),CORREL($B$1:B63,$S$1:S63),\"\")","v":{"$error":"#N/A"}}]
[null,{"$f":"Sheet3!I64","v":{"$error":"#N/A"}},{"$f":"Sheet3!K64","v":1.5888333620541099E-2},{"$f":"IF(ISNUMBER(C64),CORREL($B$1:B64,$C$1:C64),\"\")","v":{"$error":"#N/A"}},{"$f":"Sheet3!M64","v":-4.3484215572142711E-3},{"$f":"IF(ISNUMBER(E64),CORREL($B$1:B64,$E$1:E64),\"\")","v":{"$error":"#N/A"}},{"$f":"Sheet3!O64","v":-3.0820862299236329E-4},{"$f":"IF(ISNUMBER(G64),CORREL($B$1:B64,$G$1:G64),\"\")","v":{"$error":"#N/A"}},{"$f":"Sheet3!Q64","v":5.7717564111426003E-3},{"$f":"IF(ISNUMBER(I64),CORREL($B$1:B64,$I$1:I64),\"\")","v":{"$error":"#N/A"}},{"$f":"Sheet3!S64","v":1.3226677893555064E-2},{"$f":"IF(ISNUMBER(K64),CORREL($B$1:B64,$K$1:K64),\"\")","v":{"$error":"#N/A"}},{"$f":"Sheet3!U64","v":1.1603488165153941E-2},{"$f":"IF(ISNUMBER(M64),CORREL($B$1:B64,$M$1:M64),\"\")","v":{"$error":"#N/A"}},{"$f":"Sheet3!W64","v":{"$error":"#N/A"}},{"$f":"IF(ISNUMBER(O64),CORREL($B$1:B64,$O$1:O64),\"\")","v":""},{"$f":"Sheet3!Y64","v":2.7947783634626952E-3},{"$f":"IF(ISNUMBER(Q64),CORREL($B$1:B64,$Q$1:Q64),\"\")","v":{"$error":"#N/A"}},{"$f":"Sheet3!AA64","v":5.275830323631471E-3},{"$f":"IF(ISNUMBER(S64),CORREL($B$1:B64,$S$1:S64),\"\")","v":{"$error":"#N/A"}}]
[null,{"$f":"Sheet3!I65","v":{"$error":"#N/A"}},{"$f":"Sheet3!K65","v":1.6543167327244528E-2},{"$f":"IF(ISNUMBER(C65),CORREL($B$1:B65,$C$1:C65),\"\")","v":{"$error":"#N/A"}},{"$f":"Sheet3!M65","v":-4.1087447784701773E-3},{"$f":"IF(ISNUMBER(E65),CORREL($B$1:B65,$E$1:E65),\"\")","v":{"$error":"#N/A"}},{"$f":"Sheet3!O65","v":-4.4519023321119139E-4},{"$f":"IF(ISNUMBER(G65),CORREL($B$1:B65,$G$1:G65),\"\")","v":{"$error":"#N/A"}},{"$f":"Sheet3!Q65","v":6.1519319831340293E-3},{"$f":"IF(ISNUMBER(I65),CORREL($B$1:B65,$I$1:I65),\"\")","v":{"$error":"#N/A"}},{"$f":"Sheet3!S65","v":1.3402098024769323E-2},{"$f":"IF(ISNUMBER(K65),CORREL($B$1:B65,$K$1:K65),\"\")","v":{"$error":"#N/A"}},{"$f":"Sheet3!U65","v":1.1817049297027942E-2},{"$f":"IF(ISNUMBER(M65),CORREL($B$1:B65,$M$1:M65),\"\")","v":{"$error":"#N/A"}},{"$f":"Sheet3!W65","v":{"$error":"#N/A"}},{"$f":"IF(ISNUMBER(O65),CORREL($B$1:B65,$O$1:O65),\"\")","v":""},{"$f":"Sheet3!Y65","v":2.3348781264371883E-3},{"$f":"IF(ISNUMBER(Q65),CORREL($B$1:B65,$Q$1:Q65),\"\")","v":{"$error":"#N/A"}},{"$f":"Sheet3!AA65","v":5.2050138092203102E-3},{"$f":"IF(ISNUMBER(S65),CORREL($B$1:B65,$S$1:S65),\"\")","v":{"$error":"#N/A"}}]
[null,{"$f":"Sheet3!I66","v":{"$error":"#N/A"}},{"$f":"Sheet3!K66","v":1.6577632259176286E-2},{"$f":"IF(ISNUMBER(C66),CORREL($B$1:B66,$C$1:C66),\"\")","v":{"$error":"#N/A"}},{"$f":"Sheet3!M66","v":-4.4511401766760255E-3},{"$f":"IF(ISNUMBER(E66),CORREL($B$1:B66,$E$1:E66),\"\")","v":{"$error":"#N/A"}},{"$f":"Sheet3!O66","v":4.4519023321119139E-4},{"$f":"IF(ISNUMBER(G66),CORREL($B$1:B66,$G$1:G66),\"\")","v":{"$error":"#N/A"}},{"$f":"Sheet3!Q66","v":6.5666689707610422E-3},{"$f":"IF(ISNUMBER(I66),CORREL($B$1:B66,$I$1:I66),\"\")","v":{"$error":"#N/A"}},{"$f":"Sheet3!S66","v":1.3682770234712135E-2},{"$f":"IF(ISNUMBER(K66),CORREL($B$1:B66,$K$1:K66),\"\")","v":{"$error":"#N/A"}},{"$f":"Sheet3!U66","v":1.2884854956397936E-2},{"$f":"IF(ISNUMBER(M66),CORREL($B$1:B66,$M$1:M66),\"\")","v":{"$error":"#N/A"}},{"$f":"Sheet3!W66","v":{"$error":"#N/A"}},{"$f":"IF(ISNUMBER(O66),CORREL($B$1:B66,$O$1:O66),\"\")","v":""},{"$f":"Sheet3!Y66","v":1.733470124173064E-3},{"$f":"IF(ISNUMBER(Q66),CORREL($B$1:B66,$Q$1:Q66),\"\")","v":{"$error":"#N/A"}},{"$f":"Sheet3!AA66","v":5.9839954677430775E-3},{"$f":"IF(ISNUMBER(S66),CORREL($B$1:B66,$S$1:S66),\"\")","v":{"$error":"#N/A"}}]
[null,{"$f":"Sheet3!I67","v":{"$error":"#N/A"}},{"$f":"Sheet3!K67","v":1.69912114423574E-2},{"$f":"IF(ISNUMBER(C67),CORREL($B$1:B67,$C$1:C67),\"\")","v":{"$error":"#N/A"}},{"$f":"Sheet3!M67","v":-4.5196192563171948E-3},{"$f":"IF(ISNUMBER(E67),CORREL($B$1:B67,$E$1:E67),\"\")","v":{"$error":"#N/A"}},{"$f":"Sheet3!O67","v":4.4519023321119139E-4},{"$f":"IF(ISNUMBER(G67),CORREL($B$1:B67,$G$1:G67),\"\")","v":{"$error":"#N/A"}},{"$f":"Sheet3!Q67","v":6.3247390613119514E-3},{"$f":"IF(ISNUMBER(I67),CORREL($B$1:B67,$I$1:I67),\"\")","v":{"$error":"#N/A"}},{"$f":"Sheet3!S67","v":1.4384450759569168E-2},{"$f":"IF(ISNUMBER(K67),CORREL($B$1:B67,$K$1:K67),\"\")","v":{"$error":"#N/A"}},{"$f":"Sheet3!U67","v":1.4308595835557929E-2},{"$f":"IF(ISNUMBER(M67),CORREL($B$1:B67,$M$1:M67),\"\")","v":{"$error":"#N/A"}},{"$f":"Sheet3!W67","v":{"$error":"#N/A"}},{"$f":"IF(ISNUMBER(O67),CORREL($B$1:B67,$O$1:O67),\"\")","v":""},{"$f":"Sheet3!Y67","v":1.4858315350054834E-3},{"$f":"IF(ISNUMBER(Q67),CORREL($B$1:B67,$Q$1:Q67),\"\")","v":{"$error":"#N/A"}},{"$f":"Sheet3!AA67","v":6.1610367537709796E-3},{"$f":"IF(ISNUMBER(S67),CORREL($B$1:B67,$S$1:S67),\"\")","v":{"$error":"#N/A"}}]
[null,{"$f":"Sheet3!I68","v":{"$error":"#N/A"}},{"$f":"Sheet3!K68","v":1.6784421850766843E-2},{"$f":"IF(ISNUMBER(C68),CORREL($B$1:B68,$C$1:C68),\"\")","v":{"$error":"#N/A"}},{"$f":"Sheet3!M68","v":-3.8005889200849142E-3},{"$f":"IF(ISNUMBER(E68),CORREL($B$1:B68,$E$1:E68),\"\")","v":{"$error":"#N/A"}},{"$f":"Sheet3!O68","v":3.7669942810177731E-4},{"$f":"IF(ISNUMBER(G68),CORREL($B$1:B68,$G$1:G68),\"\")","v":{"$error":"#N/A"}},{"$f":"Sheet3!Q68","v":6.601230386396627E-3},{"$f":"IF(ISNUMBER(I68),CORREL($B$1:B68,$I$1:I68),\"\")","v":{"$error":"#N/A"}},{"$f":"Sheet3!S68","v":1.4489702838297723E-2},{"$f":"IF(ISNUMBER(K68),CORREL($B$1:B68,$K$1:K68),\"\")","v":{"$error":"#N/A"}},{"$f":"Sheet3!U68","v":1.3454351308061933E-2},{"$f":"IF(ISNUMBER(M68),CORREL($B$1:B68,$M$1:M68),\"\")","v":{"$error":"#N/A"}},{"$f":"Sheet3!W68","v":{"$error":"#N/A"}},{"$f":"IF(ISNUMBER(O68),CORREL($B$1:B68,$O$1:O68),\"\")","v":""},{"$f":"Sheet3!Y68","v":2.016485654650299E-3},{"$f":"IF(ISNUMBER(Q68),CORREL($B$1:B68,$Q$1:Q68),\"\")","v":{"$error":"#N/A"}},{"$f":"Sheet3!AA68","v":5.5945046384816939E-3},{"$f":"IF(ISNUMBER(S68),CORREL($B$1:B68,$S$1:S68),\"\")","v":{"$error":"#N/A"}}]
[null,{"$f":"Sheet3!I69","v":{"$error":"#N/A"}},{"$f":"Sheet3!K69","v":1.6267447871790453E-2},{"$f":"IF(ISNUMBER(C69),CORREL($B$1:B69,$C$1:C69),\"\")","v":{"$error":"#N/A"}},{"$f":"Sheet3!M69","v":-4.2114633979319317E-3},{"$f":"IF(ISNUMBER(E69),CORREL($B$1:B69,$E$1:E69),\"\")","v":{"$error":"#N/A"}},{"$f":"Sheet3!O69","v":4.4519023321119139E-4},{"$f":"IF(ISNUMBER(G69),CORREL($B$1:B69,$G$1:G69),\"\")","v":{"$error":"#N/A"}},{"$f":"Sheet3!Q69","v":6.5321075551254583E-3},{"$f":"IF(ISNUMBER(I69),CORREL($B$1:B69,$I$1:I69),\"\")","v":{"$error":"#N/A"}},{"$f":"Sheet3!S69","v":1.4384450759569168E-2},{"$f":"IF(ISNUMBER(K69),CORREL($B$1:B69,$K$1:K69),\"\")","v":{"$error":"#N/A"}},{"$f":"Sheet3!U69","v":1.3418757786082933E-2},{"$f":"IF(ISNUMBER(M69),CORREL($B$1:B69,$M$1:M69),\"\")","v":{"$error":"#N/A"}},{"$f":"Sheet3!W69","v":{"$error":"#N/A"}},{"$f":"IF(ISNUMBER(O69),CORREL($B$1:B69,$O$1:O69),\"\")","v":""},{"$f":"Sheet3!Y69","v":2.4763858916758059E-3},{"$f":"IF(ISNUMBER(Q69),CORREL($B$1:B69,$Q$1:Q69),\"\")","v":{"$error":"#N/A"}},{"$f":"Sheet3!AA69","v":5.098789037603569E-3},{"$f":"IF(ISNUMBER(S69),CORREL($B$1:B69,$S$1:S69),\"\")","v":{"$error":"#N/A"}}]
[null,{"$f":"Sheet3!I70","v":{"$error":"#N/A"}},{"$f":"Sheet3!K70","v":1.647423746338101E-2},{"$f":"IF(ISNUMBER(C70),CORREL($B$1:B70,$C$1:C70),\"\")","v":{"$error":"#N/A"}},{"$f":"Sheet3!M70","v":-4.5880983359583649E-3},{"$f":"IF(ISNUMBER(E70),CORREL($B$1:B70,$E$1:E70),\"\")","v":{"$error":"#N/A"}},{"$f":"Sheet3!O70","v":4.7943563576589843E-4},{"$f":"IF(ISNUMBER(G70),CORREL($B$1:B70,$G$1:G70),\"\")","v":{"$error":"#N/A"}},{"$f":"Sheet3!Q70","v":6.1173705674984445E-3},{"$f":"IF(ISNUMBER(I70),CORREL($B$1:B70,$I$1:I70),\"\")","v":{"$error":"#N/A"}},{"$f":"Sheet3!S70","v":1.4594954917026278E-2},{"$f":"IF(ISNUMBER(K70),CORREL($B$1:B70,$K$1:K70),\"\")","v":{"$error":"#N/A"}},{"$f":"Sheet3!U70","v":1.3667912439935932E-2},{"$f":"IF(ISNUMBER(M70),CORREL($B$1:B70,$M$1:M70),\"\")","v":{"$error":"#N/A"}},{"$f":"Sheet3!W70","v":{"$error":"#N/A"}},{"$f":"IF(ISNUMBER(O70),CORREL($B$1:B70,$O$1:O70),\"\")","v":""},{"$f":"Sheet3!Y70","v":2.582516715604769E-3},{"$f":"IF(ISNUMBER(Q70),CORREL($B$1:B70,$Q$1:Q70),\"\")","v":{"$error":"#N/A"}},{"$f":"Sheet3!AA70","v":4.4260321506975429E-3},{"$f":"IF(ISNUMBER(S70),CORREL($B$1:B70,$S$1:S70),\"\")","v":{"$error":"#N/A"}}]
[null,{"$f":"Sheet3!I71","v":{"$error":"#N/A"}},{"$f":"Sheet3!K71","v":1.5371359641564709E-2},{"$f":"IF(ISNUMBER(C71),CORREL($B$1:B71,$C$1:C71),\"\")","v":{"$error":"#N/A"}},{"$f":"Sheet3!M71","v":-4.5880983359583649E-3},{"$f":"IF(ISNUMBER(E71),CORREL($B$1:B71,$E$1:E71),\"\")","v":{"$error":"#N/A"}},{"$f":"Sheet3!O71","v":2.7396322043765625E-4},{"$f":"IF(ISNUMBER(G71),CORREL($B$1:B71,$G$1:G71),\"\")","v":{"$error":"#N/A"}},{"$f":"Sheet3!Q71","v":6.3247390613119514E-3},{"$f":"IF(ISNUMBER(I71),CORREL($B$1:B71,$I$1:I71),\"\")","v":{"$error":"#N/A"}},{"$f":"Sheet3!S71","v":1.4910711153211943E-2},{"$f":"IF(ISNUMBER(K71),CORREL($B$1:B71,$K$1:K71),\"\")","v":{"$error":"#N/A"}},{"$f":"Sheet3!U71","v":1.2920448478376935E-2},{"$f":"IF(ISNUMBER(M71),CORREL($B$1:B71,$M$1:M71),\"\")","v":{"$error":"#N/A"}},{"$f":"Sheet3!W71","v":{"$error":"#N/A"}},{"$f":"IF(ISNUMBER(O71),CORREL($B$1:B71,$O$1:O71),\"\")","v":""},{"$f":"Sheet3!Y71","v":3.2900555417978562E-3},{"$f":"IF(ISNUMBER(Q71),CORREL($B$1:B71,$Q$1:Q71),\"\")","v":{"$error":"#N/A"}},{"$f":"Sheet3!AA71","v":3.930316549819418E-3},{"$f":"IF(ISNUMBER(S71),CORREL($B$1:B71,$S$1:S71),\"\")","v":{"$error":"#N/A"}}]
[null,{"$f":"Sheet3!I72","v":{"$error":"#N/A"}},{"$f":"Sheet3!K72","v":1.6336377735653971E-2},{"$f":"IF(ISNUMBER(C72),CORREL($B$1:B72,$C$1:C72),\"\")","v":{"$error":"#N/A"}},{"$f":"Sheet3!M72","v":-5.1016914332671368E-3},{"$f":"IF(ISNUMBER(E72),CORREL($B$1:B72,$E$1:E72),\"\")","v":{"$error":"#N/A"}},{"$f":"Sheet3!O72","v":-2.7396322043765625E-4},{"$f":"IF(ISNUMBER(G72),CORREL($B$1:B72,$G$1:G72),\"\")","v":{"$error":"#N/A"}},{"$f":"Sheet3!Q72","v":6.4629847238542888E-3},{"$f":"IF(ISNUMBER(I72),CORREL($B$1:B72,$I$1:I72),\"\")","v":{"$error":"#N/A"}},{"$f":"Sheet3!S72","v":1.5436971546854717E-2},{"$f":"IF(ISNUMBER(K72),CORREL($B$1:B72,$K$1:K72),\"\")","v":{"$error":"#N/A"}},{"$f":"Sheet3!U72","v":1.2956042000355935E-2},{"$f":"IF(ISNUMBER(M72),CORREL($B$1:B72,$M$1:M72),\"\")","v":{"$error":"#N/A"}},{"$f":"Sheet3!W72","v":{"$error":"#N/A"}},{"$f":"IF(ISNUMBER(O72),CORREL($B$1:B72,$O$1:O72),\"\")","v":""},{"$f":"Sheet3!Y72","v":3.7853327201330172E-3},{"$f":"IF(ISNUMBER(Q72),CORREL($B$1:B72,$Q$1:Q72),\"\")","v":{"$error":"#N/A"}},{"$f":"Sheet3!AA72","v":4.6030734367254441E-3},{"$f":"IF(ISNUMBER(S72),CORREL($B$1:B72,$S$1:S72),\"\")","v":{"$error":"#N/A"}}]
[null,{"$f":"Sheet3!I73","v":{"$error":"#N/A"}},{"$f":"Sheet3!K73","v":1.6612097191108049E-2},{"$f":"IF(ISNUMBER(C73),CORREL($B$1:B73,$C$1:C73),\"\")","v":{"$error":"#N/A"}},{"$f":"Sheet3!M73","v":-4.2799424775731018E-3},{"$f":"IF(ISNUMBER(E73),CORREL($B$1:B73,$E$1:E73),\"\")","v":{"$error":"#N/A"}},{"$f":"Sheet3!O73","v":4.7943563576589843E-4},{"$f":"IF(ISNUMBER(G73),CORREL($B$1:B73,$G$1:G73),\"\")","v":{"$error":"#N/A"}},{"$f":"Sheet3!Q73","v":6.5321075551254583E-3},{"$f":"IF(ISNUMBER(I73),CORREL($B$1:B73,$I$1:I73),\"\")","v":{"$error":"#N/A"}},{"$f":"Sheet3!S73","v":1.5121215310669052E-2},{"$f":"IF(ISNUMBER(K73),CORREL($B$1:B73,$K$1:K73),\"\")","v":{"$error":"#N/A"}},{"$f":"Sheet3!U73","v":1.3667912439935932E-2},{"$f":"IF(ISNUMBER(M73),CORREL($B$1:B73,$M$1:M73),\"\")","v":{"$error":"#N/A"}},{"$f":"Sheet3!W73","v":{"$error":"#N/A"}},{"$f":"IF(ISNUMBER(O73),CORREL($B$1:B73,$O$1:O73),\"\")","v":""},{"$f":"Sheet3!Y73","v":3.1485477765592386E-3},{"$f":"IF(ISNUMBER(Q73),CORREL($B$1:B73,$Q$1:Q73),\"\")","v":{"$error":"#N/A"}},{"$f":"Sheet3!AA73","v":4.1427660930528996E-3},{"$f":"IF(ISNUMBER(S73),CORREL($B$1:B73,$S$1:S73),\"\")","v":{"$error":"#N/A"}}]
[null,{"$f":"Sheet3!I74","v":{"$error":"#N/A"}},{"$f":"Sheet3!K74","v":1.6784421850766843E-2},{"$f":"IF(ISNUMBER(C74),CORREL($B$1:B74,$C$1:C74),\"\")","v":{"$error":"#N/A"}},{"$f":"Sheet3!M74","v":-4.2114633979319317E-3},{"$f":"IF(ISNUMBER(E74),CORREL($B$1:B74,$E$1:E74),\"\")","v":{"$error":"#N/A"}},{"$f":"Sheet3!O74","v":3.0820862299236329E-4},{"$f":"IF(ISNUMBER(G74),CORREL($B$1:B74,$G$1:G74),\"\")","v":{"$error":"#N/A"}},{"$f":"Sheet3!Q74","v":6.981405958388056E-3},{"$f":"IF(ISNUMBER(I74),CORREL($B$1:B74,$I$1:I74),\"\")","v":{"$error":"#N/A"}},{"$f":"Sheet3!S74","v":1.4770375048240535E-2},{"$f":"IF(ISNUMBER(K74),CORREL($B$1:B74,$K$1:K74),\"\")","v":{"$error":"#N/A"}},{"$f":"Sheet3!U74","v":1.3062822566292934E-2},{"$f":"IF(ISNUMBER(M74),CORREL($B$1:B74,$M$1:M74),\"\")","v":{"$error":"#N/A"}},{"$f":"Sheet3!W74","v":{"$error":"#N/A"}},{"$f":"IF(ISNUMBER(O74),CORREL($B$1:B74,$O$1:O74),\"\")","v":""},{"$f":"Sheet3!Y74","v":4.563625428945413E-3},{"$f":"IF(ISNUMBER(Q74),CORREL($B$1:B74,$Q$1:Q74),\"\")","v":{"$error":"#N/A"}},{"$f":"Sheet3!AA74","v":3.5054174633524539E-3},{"$f":"IF(ISNUMBER(S74),CORREL($B$1:B74,$S$1:S74),\"\")","v":{"$error":"#N/A"}}]
[null,{"$f":"Sheet3!I75","v":{"$error":"#N/A"}},{"$f":"Sheet3!K75","v":1.6646562123039808E-2},{"$f":"IF(ISNUMBER(C75),CORREL($B$1:B75,$C$1:C75),\"\")","v":{"$error":"#N/A"}},{"$f":"Sheet3!M75","v":-4.5880983359583649E-3},{"$f":"IF(ISNUMBER(E75),CORREL($B$1:B75,$E$1:E75),\"\")","v":{"$error":"#N/A"}},{"$f":"Sheet3!O75","v":-4.4519023321119139E-4},{"$f":"IF(ISNUMBER(G75),CORREL($B$1:B75,$G$1:G75),\"\")","v":{"$error":"#N/A"}},{"$f":"Sheet3!Q75","v":7.7071956867353283E-3},{"$f":"IF(ISNUMBER(I75),CORREL($B$1:B75,$I$1:I75),\"\")","v":{"$error":"#N/A"}},{"$f":"Sheet3!S75","v":1.3893274392169246E-2},{"$f":"IF(ISNUMBER(K75),CORREL($B$1:B75,$K$1:K75),\"\")","v":{"$error":"#N/A"}},{"$f":"Sheet3!U75","v":1.3205196654208934E-2},{"$f":"IF(ISNUMBER(M75),CORREL($B$1:B75,$M$1:M75),\"\")","v":{"$error":"#N/A"}},{"$f":"Sheet3!W75","v":{"$error":"#N/A"}},{"$f":"IF(ISNUMBER(O75),CORREL($B$1:B75,$O$1:O75),\"\")","v":""},{"$f":"Sheet3!Y75","v":4.4574946050164503E-3},{"$f":"IF(ISNUMBER(Q75),CORREL($B$1:B75,$Q$1:Q75),\"\")","v":{"$error":"#N/A"}},{"$f":"Sheet3!AA75","v":4.0011330642305788E-3},{"$f":"IF(ISNUMBER(S75),CORREL($B$1:B75,$S$1:S75),\"\")","v":{"$error":"#N/A"}}]
[null,{"$f":"Sheet3!I76","v":{"$error":"#N/A"}},{"$f":"Sheet3!K76","v":1.7577115285197311E-2},{"$f":"IF(ISNUMBER(C76),CORREL($B$1:B76,$C$1:C76),\"\")","v":{"$error":"#N/A"}},{"$f":"Sheet3!M76","v":-3.8005889200849142E-3},{"$f":"IF(ISNUMBER(E76),CORREL($B$1:B76,$E$1:E76),\"\")","v":{"$error":"#N/A"}},{"$f":"Sheet3!O76","v":-7.8764425875826167E-4},{"$f":"IF(ISNUMBER(G76),CORREL($B$1:B76,$G$1:G76),\"\")","v":{"$error":"#N/A"}},{"$f":"Sheet3!Q76","v":8.2256169212690956E-3},{"$f":"IF(ISNUMBER(I76),CORREL($B$1:B76,$I$1:I76),\"\")","v":{"$error":"#N/A"}},{"$f":"Sheet3!S76","v":1.2840753604883697E-2},{"$f":"IF(ISNUMBER(K76),CORREL($B$1:B76,$K$1:K76),\"\")","v":{"$error":"#N/A"}},{"$f":"Sheet3!U76","v":1.2956042000355935E-2},{"$f":"IF(ISNUMBER(M76),CORREL($B$1:B76,$M$1:M76),\"\")","v":{"$error":"#N/A"}},{"$f":"Sheet3!W76","v":{"$error":"#N/A"}},{"$f":"IF(ISNUMBER(O76),CORREL($B$1:B76,$O$1:O76),\"\")","v":""},{"$f":"Sheet3!Y76","v":5.0235256659709199E-3},{"$f":"IF(ISNUMBER(Q76),CORREL($B$1:B76,$Q$1:Q76),\"\")","v":{"$error":"#N/A"}},{"$f":"Sheet3!AA76","v":2.9742936052687486E-3},{"$f":"IF(ISNUMBER(S76),CORREL($B$1:B76,$S$1:S76),\"\")","v":{"$error":"#N/A"}}]
[null,{"$f":"Sheet3!I77","v":{"$error":"#N/A"}},{"$f":"Sheet3!K77","v":1.7198001033947957E-2},{"$f":"IF(ISNUMBER(C77),CORREL($B$1:B77,$C$1:C77),\"\")","v":{"$error":"#N/A"}},{"$f":"Sheet3!M77","v":-4.9304937341642131E-3},{"$f":"IF(ISNUMBER(E77),CORREL($B$1:B77,$E$1:E77),\"\")","v":{"$error":"#N/A"}},{"$f":"Sheet3!O77","v":2.3971781788294921E-4},{"$f":"IF(ISNUMBER(G77),CORREL($B$1:B77,$G$1:G77),\"\")","v":{"$error":"#N/A"}},{"$f":"Sheet3!Q77","v":7.9836870118200048E-3},{"$f":"IF(ISNUMBER(I77),CORREL($B$1:B77,$I$1:I77),\"\")","v":{"$error":"#N/A"}},{"$f":"Sheet3!S77","v":1.3752938287197839E-2},{"$f":"IF(ISNUMBER(K77),CORREL($B$1:B77,$K$1:K77),\"\")","v":{"$error":"#N/A"}},{"$f":"Sheet3!U77","v":1.409503470368393E-2},{"$f":"IF(ISNUMBER(M77),CORREL($B$1:B77,$M$1:M77),\"\")","v":{"$error":"#N/A"}},{"$f":"Sheet3!W77","v":{"$error":"#N/A"}},{"$f":"IF(ISNUMBER(O77),CORREL($B$1:B77,$O$1:O77),\"\")","v":""},{"$f":"Sheet3!Y77","v":5.9079491987122793E-3},{"$f":"IF(ISNUMBER(Q77),CORREL($B$1:B77,$Q$1:Q77),\"\")","v":{"$error":"#N/A"}},{"$f":"Sheet3!AA77","v":1.8058211174845973E-3},{"$f":"IF(ISNUMBER(S77),CORREL($B$1:B77,$S$1:S77),\"\")","v":{"$error":"#N/A"}}]
[null,{"$f":"Sheet3!I78","v":{"$error":"#N/A"}},{"$f":"Sheet3!K78","v":1.7990694468378424E-2},{"$f":"IF(ISNUMBER(C78),CORREL($B$1:B78,$C$1:C78),\"\")","v":{"$error":"#N/A"}},{"$f":"Sheet3!M78","v":-5.2386495925494762E-3},{"$f":"IF(ISNUMBER(E78),CORREL($B$1:B78,$E$1:E78),\"\")","v":{"$error":"#N/A"}},{"$f":"Sheet3!O78","v":6.8490805109414063E-5},{"$f":"IF(ISNUMBER(G78),CORREL($B$1:B78,$G$1:G78),\"\")","v":{"$error":"#N/A"}},{"$f":"Sheet3!Q78","v":8.744038155802861E-3},{"$f":"IF(ISNUMBER(I78),CORREL($B$1:B78,$I$1:I78),\"\")","v":{"$error":"#N/A"}},{"$f":"Sheet3!S78","v":1.4419534785812019E-2},{"$f":"IF(ISNUMBER(K78),CORREL($B$1:B78,$K$1:K78),\"\")","v":{"$error":"#N/A"}},{"$f":"Sheet3!U78","v":1.391706709378893E-2},{"$f":"IF(ISNUMBER(M78),CORREL($B$1:B78,$M$1:M78),\"\")","v":{"$error":"#N/A"}},{"$f":"Sheet3!W78","v":{"$error":"#N/A"}},{"$f":"IF(ISNUMBER(O78),CORREL($B$1:B78,$O$1:O78),\"\")","v":""},{"$f":"Sheet3!Y78","v":7.1815190858598365E-3},{"$f":"IF(ISNUMBER(Q78),CORREL($B$1:B78,$Q$1:Q78),\"\")","v":{"$error":"#N/A"}},{"$f":"Sheet3!AA78","v":2.478578004390624E-4},{"$f":"IF(ISNUMBER(S78),CORREL($B$1:B78,$S$1:S78),\"\")","v":{"$error":"#N/A"}}]
[null,{"$f":"Sheet3!I79","v":{"$error":"#N/A"}},{"$f":"Sheet3!K79","v":1.7646045149060832E-2},{"$f":"IF(ISNUMBER(C79),CORREL($B$1:B79,$C$1:C79),\"\")","v":{"$error":"#N/A"}},{"$f":"Sheet3!M79","v":-5.4783263712935701E-3},{"$f":"IF(ISNUMBER(E79),CORREL($B$1:B79,$E$1:E79),\"\")","v":{"$error":"#N/A"}},{"$f":"Sheet3!O79","v":3.4245402554707033E-4},{"$f":"IF(ISNUMBER(G79),CORREL($B$1:B79,$G$1:G79),\"\")","v":{"$error":"#N/A"}},{"$f":"Sheet3!Q79","v":8.7785995714384467E-3},{"$f":"IF(ISNUMBER(I79),CORREL($B$1:B79,$I$1:I79),\"\")","v":{"$error":"#N/A"}},{"$f":"Sheet3!S79","v":1.4945795179454794E-2},{"$f":"IF(ISNUMBER(K79),CORREL($B$1:B79,$K$1:K79),\"\")","v":{"$error":"#N/A"}},{"$f":"Sheet3!U79","v":1.409503470368393E-2},{"$f":"IF(ISNUMBER(M79),CORREL($B$1:B79,$M$1:M79),\"\")","v":{"$error":"#N/A"}},{"$f":"Sheet3!W79","v":{"$error":"#N/A"}},{"$f":"IF(ISNUMBER(O79),CORREL($B$1:B79,$O$1:O79),\"\")","v":""},{"$f":"Sheet3!Y79","v":7.3584037924081082E-3},{"$f":"IF(ISNUMBER(Q79),CORREL($B$1:B79,$Q$1:Q79),\"\")","v":{"$error":"#N/A"}},{"$f":"Sheet3!AA79","v":2.3723532327738829E-3},{"$f":"IF(ISNUMBER(S79),CORREL($B$1:B79,$S$1:S79),\"\")","v":{"$error":"#N/A"}}]
[null,{"$f":"Sheet3!I80","v":{"$error":"#N/A"}},{"$f":"Sheet3!K80","v":1.7335860761674995E-2},{"$f":"IF(ISNUMBER(C80),CORREL($B$1:B80,$C$1:C80),\"\")","v":{"$error":"#N/A"}},{"$f":"Sheet3!M80","v":-6.1631171677052664E-3},{"$f":"IF(ISNUMBER(E80),CORREL($B$1:B80,$E$1:E80),\"\")","v":{"$error":"#N/A"}},{"$f":"Sheet3!O80","v":5.4792644087531251E-4},{"$f":"IF(ISNUMBER(G80),CORREL($B$1:B80,$G$1:G80),\"\")","v":{"$error":"#N/A"}},{"$f":"Sheet3!Q80","v":8.8477224027096145E-3},{"$f":"IF(ISNUMBER(I80),CORREL($B$1:B80,$I$1:I80),\"\")","v":{"$error":"#N/A"}},{"$f":"Sheet3!S80","v":1.4910711153211943E-2},{"$f":"IF(ISNUMBER(K80),CORREL($B$1:B80,$K$1:K80),\"\")","v":{"$error":"#N/A"}},{"$f":"Sheet3!U80","v":1.4450969923473929E-2},{"$f":"IF(ISNUMBER(M80),CORREL($B$1:B80,$M$1:M80),\"\")","v":{"$error":"#N/A"}},{"$f":"Sheet3!W80","v":{"$error":"#N/A"}},{"$f":"IF(ISNUMBER(O80),CORREL($B$1:B80,$O$1:O80),\"\")","v":""},{"$f":"Sheet3!Y80","v":7.2522729684791455E-3},{"$f":"IF(ISNUMBER(Q80),CORREL($B$1:B80,$Q$1:Q80),\"\")","v":{"$error":"#N/A"}},{"$f":"Sheet3!AA80","v":1.7350046030734367E-3},{"$f":"IF(ISNUMBER(S80),CORREL($B$1:B80,$S$1:S80),\"\")","v":{"$error":"#N/A"}}]
[null,{"$f":"Sheet3!I81","v":{"$error":"#N/A"}},{"$f":"Sheet3!K81","v":1.7783904876787868E-2},{"$f":"IF(ISNUMBER(C81),CORREL($B$1:B81,$C$1:C81),\"\")","v":{"$error":"#N/A"}},{"$f":"Sheet3!M81","v":-6.5397521057316988E-3},{"$f":"IF(ISNUMBER(E81),CORREL($B$1:B81,$E$1:E81),\"\")","v":{"$error":"#N/A"}},{"$f":"Sheet3!O81","v":1.7122701277353517E-4},{"$f":"IF(ISNUMBER(G81),CORREL($B$1:B81,$G$1:G81),\"\")","v":{"$error":"#N/A"}},{"$f":"Sheet3!Q81","v":9.2278979747010444E-3},{"$f":"IF(ISNUMBER(I81),CORREL($B$1:B81,$I$1:I81),\"\")","v":{"$error":"#N/A"}},{"$f":"Sheet3!S81","v":1.5121215310669052E-2},{"$f":"IF(ISNUMBER(K81),CORREL($B$1:B81,$K$1:K81),\"\")","v":{"$error":"#N/A"}},{"$f":"Sheet3!U81","v":1.4522156967431928E-2},{"$f":"IF(ISNUMBER(M81),CORREL($B$1:B81,$M$1:M81),\"\")","v":{"$error":"#N/A"}},{"$f":"Sheet3!W81","v":{"$error":"#N/A"}},{"$f":"IF(ISNUMBER(O81),CORREL($B$1:B81,$O$1:O81),\"\")","v":""},{"$f":"Sheet3!Y81","v":7.0400113206212193E-3},{"$f":"IF(ISNUMBER(Q81),CORREL($B$1:B81,$Q$1:Q81),\"\")","v":{"$error":"#N/A"}},{"$f":"Sheet3!AA81","v":1.7704128602790171E-3},{"$f":"IF(ISNUMBER(S81),CORREL($B$1:B81,$S$1:S81),\"\")","v":{"$error":"#N/A"}}]
[null,null,null,{"$f":"Sheet3!C2","v":"2018-07-12"},null,{"$f":"Sheet3!C3","v":"2018-07-11"},null,{"$f":"Sheet3!C4","v":"2018-07-10"},null,{"$f":"Sheet3!C5","v":"2018-07-09"},null,{"$f":"Sheet3!C6","v":"2018-07-06"},null,{"$f":"Sheet3!C7","v":"2018-07-05"},null,{"$f":"Sheet3!C8","v":"2018-07-03"},null,{"$f":"Sheet3!C9","v":"2018-07-02"},null,{"$f":"Sheet3!C10","v":"2018-06-29"}]
[null,null,null,{"$f":"IF(ISNUMBER(INDIRECT(\"D\"&(Sheet3!$AE$83)+1))=FALSE,\"\",LOOKUP(2,1/(ISNUMBER(D1:D81)),D1:D81))","v":0.65028999480939098},null,{"$f":"IF(ISNUMBER(INDIRECT(\"F\"&(Sheet3!$AE$83)+1))=FALSE,\"\",LOOKUP(2,1/(ISNUMBER(F1:F81)),F1:F81))","v":7.7801370506122181E-2},null,{"$f":"IF(ISNUMBER(INDIRECT(\"H\"&(Sheet3!$AE$83)+1))=FALSE,\"\",LOOKUP(2,1/(ISNUMBER(H1:H81)),H1:H81))","v":0.53318066994980073},null,{"$f":"IF(ISNUMBER(INDIRECT(\"J\"&(Sheet3!$AE$83)+1))=FALSE,\"\",LOOKUP(2,1/(ISNUMBER(J1:J81)),J1:J81))","v":-8.2359829576534052E-2},null,{"$f":"IF(ISNUMBER(INDIRECT(\"L\"&(Sheet3!$AE$83)+1))=FALSE,\"\",LOOKUP(2,1/(ISNUMBER(L1:L81)),L1:L81))","v":0.51220290260468226},null,{"$f":"IF(ISNUMBER(INDIRECT(\"N\"&(Sheet3!$AE$83)+1))=FALSE,\"\",LOOKUP(2,1/(ISNUMBER(N1:N81)),N1:N81))","v":-0.43012741722037495},null,{"$f":"IF(ISNUMBER(INDIRECT(\"P\"&(Sheet3!$AE$83)+1))=FALSE,\"\",LOOKUP(2,1/(ISNUMBER(P1:P81)),P1:P81))","v":0.17898263724610508},null,{"$f":"IF(ISNUMBER(INDIRECT(\"R\"&(Sheet3!$AE$83)+1))=FALSE,\"\",LOOKUP(2,1/(ISNUMBER(R1:R81)),R1:R81))","v":0.43737598672734285},null,{"$f":"IF(ISNUMBER(INDIRECT(\"T\"&(Sheet3!$AE$83)+1))=FALSE,\"\",LOOKUP(2,1/(ISNUMBER(T1:T81)),T1:T81))","v":7.9299562521911879E-2}]
[]
[null,null,{"$f":"RANK(D85,$D$85:$D$93,0)+COUNTIF($D$85:D85,D85)-1","v":1},{"$f":"D83","v":0.65028999480939098},{"$f":"D82","v":"2018-07-12"},{"$f":"RANK(D85,$D$85:$D$93,0)+COUNTIF($D$85:D85,D85)-1","v":1},{"$f":"VLOOKUP(1,C85:E93,3,FALSE)","v":"2018-07-12"},{"$f":"VLOOKUP(1,C85:E93,2,FALSE)","v":0.65028999480939098},{"$f":"IFERROR(VLOOKUP(G85,Sheet3!AK1:AN10,4,FALSE),1)","v":1}]
[null,null,{"$f":"RANK(D86,$D$85:$D$93,0)+COUNTIF($D$85:D86,D86)-1","v":7},{"$f":"F83","v":7.7801370506122181E-2},{"$f":"F82","v":"2018-07-11"},{"$f":"RANK(D86,$D$85:$D$93,0)+COUNTIF($D$85:D86,D86)-1","v":7},{"$f":"VLOOKUP(2,C85:E93,3,FALSE)","v":"2018-07-10"},{"$f":"VLOOKUP(2,C85:E93,2,FALSE)","v":0.53318066994980073}]
[null,null,{"$f":"RANK(D87,$D$85:$D$93,0)+COUNTIF($D$85:D87,D87)-1","v":2},{"$f":"H83","v":0.53318066994980073},{"$f":"H82","v":"2018-07-10"},{"$f":"RANK(D87,$D$85:$D$93,0)+COUNTIF($D$85:D87,D87)-1","v":2},{"$f":"VLOOKUP(3,C85:E93,3,FALSE)","v":"2018-07-06"},{"$f":"VLOOKUP(3,C85:E93,2,FALSE)","v":0.51220290260468226}]
[null,null,{"$f":"RANK(D88,$D$85:$D$93,0)+COUNTIF($D$85:D88,D88)-1","v":8},{"$f":"J83","v":-8.2359829576534052E-2},{"$f":"J82","v":"2018-07-09"},{"$f":"RANK(D88,$D$85:$D$93,0)+COUNTIF($D$85:D88,D88)-1","v":8},{"$f":"VLOOKUP(4,C85:E93,3,FALSE)","v":"2018-07-02"},{"$f":"VLOOKUP(4,C85:E93,2,FALSE)","v":0.43737598672734285}]
[null,null,{"$f":"RANK(D89,$D$85:$D$93,0)+COUNTIF($D$85:D89,D89)-1","v":3},{"$f":"L83","v":0.51220290260468226},{"$f":"L82","v":"2018-07-06"},{"$f":"RANK(D89,$D$85:$D$93,0)+COUNTIF($D$85:D89,D89)-1","v":3},{"$f":"VLOOKUP(5,C85:E93,3,FALSE)","v":"2018-07-03"},{"$f":"VLOOKUP(5,C85:E93,2,FALSE)","v":0.17898263724610508}]
[null,null,{"$f":"RANK(D90,$D$85:$D$93,0)+COUNTIF($D$85:D90,D90)-1","v":9},{"$f":"N83","v":-0.43012741722037495},{"$f":"N82","v":"2018-07-05"},{"$f":"RANK(D90,$D$85:$D$93,0)+COUNTIF($D$85:D90,D90)-1","v":9},{"$f":"VLOOKUP(6,C85:E93,3,FALSE)","v":"2018-06-29"},{"$f":"VLOOKUP(6,C85:E93,2,FALSE)","v":7.9299562521911879E-2}]
[null,null,{"$f":"RANK(D91,$D$85:$D$93,0)+COUNTIF($D$85:D91,D91)-1","v":5},{"$f":"P83","v":0.17898263724610508},{"$f":"P82","v":"2018-07-03"},{"$f":"RANK(D91,$D$85:$D$93,0)+COUNTIF($D$85:D91,D91)-1","v":5},{"$f":"VLOOKUP(7,C85:E93,3,FALSE)","v":"2018-07-11"},{"$f":"VLOOKUP(7,C85:E93,2,FALSE)","v":7.7801370506122181E-2}]
[null,null,{"$f":"RANK(D92,$D$85:$D$93,0)+COUNTIF($D$85:D92,D92)-1","v":4},{"$f":"R83","v":0.43737598672734285},{"$f":"R82","v":"2018-07-02"},{"$f":"RANK(D92,$D$85:$D$93,0)+COUNTIF($D$85:D92,D92)-1","v":4},{"$f":"VLOOKUP(8,C85:E93,3,FALSE)","v":"2018-07-09"},{"$f":"VLOOKUP(8,C85:E93,2,FALSE)","v":-8.2359829576534052E-2}]
[null,null,{"$f":"RANK(D93,$D$85:$D$93,0)+COUNTIF($D$85:D93,D93)-1","v":6},{"$f":"T83","v":7.9299562521911879E-2},{"$f":"T82","v":"2018-06-29"},{"$f":"RANK(D93,$D$85:$D$93,0)+COUNTIF($D$85:D93,D93)-1","v":6},{"$f":"VLOOKUP(9,C85:E93,3,FALSE)","v":"2018-07-05"},{"$f":"VLOOKUP(9,C85:E93,2,FALSE)","v":-0.43012741722037495}]

{"sheet":"Sheet3 (2)","index":3,"n_rows":83,"n_cols":40,"rows_kept":83,"cut":false,"hidden":true,"merged":[]}
[0,"08:00:00",{"$f":" RTD(\"cqg.rtd\",,\"StudyData\",$D$12, \"Bar\", \"\", \"Time\",\"D\",\"0\",,,,,\"T\")","v":"2018-07-13"},{"$f":"YEAR(C1)","v":2018},{"$f":"MONTH(C1)","v":7},{"$f":"DAY(C1)","v":13},null,{"$f":"RTD(\"cqg.rtd\",,\"StudyData\", \"Close(\"&$D$12&\") when LocalYear(\"&$D$12&\")=\"&$D$1&\" and localMonth(\"&$D$12&\") =\"&$E$1&\" and LocalDay(\"&$D$12&\")=\"&$F$1&\" and Barix(\"&$D$12&\",reference:=StartOfSession)=\"&A1&\"\", \"Bar\", \"\", \"Close\",\"5\",\"0\",\"PrimaryOnly\",,,\"False\",\"T\",\"EveryTick\")","v":70.47},{"$f":"IFERROR((H1-$G$2)/$G$2,NA())","v":1.9906156689890597E-3},{"$f":"RTD(\"cqg.rtd\",,\"StudyData\", \"Close(\"&$D$12&\") when LocalYear(\"&$D$12&\")=\"&$D$2&\" and localMonth(\"&$D$12&\") =\"&$E$2&\" and LocalDay(\"&$D$12&\")=\"&$F$2&\" and Barix(\"&$D$12&\",reference:=StartOfSession)=\"&A1&\"\", \"Bar\", \"\", \"Close\",\"5\",\"0\",\"PrimaryOnly\",,,\"False\",\"T\",\"EveryTick\")","v":70.89},{"$f":"IFERROR((J1-$G$3)/$G$3,NA())","v":7.2463768115942758E-3},{"$f":"RTD(\"cqg.rtd\",,\"StudyData\", \"Close(\"&$D$12&\") when LocalYear(\"&$D$12&\")=\"&$D$3&\" and localMonth(\"&$D$12&\") =\"&$E$3&\" and LocalDay(\"&$D$12&\")=\"&$F$3&\" and Barix(\"&$D$12&\",reference:=StartOfSession)=\"&A1&\"\", \"Bar\", \"\", \"Close\",\"5\",\"0\",\"PrimaryOnly\",,,\"False\",\"T\",\"EveryTick\")","v":73.39},{"$f":"IFERROR((L1-$G$4)/$G$4,NA())","v":-9.7152880852786252E-3},{"$f":"RTD(\"cqg.rtd\",,\"StudyData\", \"Close(\"&$D$12&\") when LocalYear(\"&$D$12&\")=\"&$D$4&\" and localMonth(\"&$D$12&\") =\"&$E$4&\" and LocalDay(\"&$D$12&\")=\"&$F$4&\" and Barix(\"&$D$12&\",reference:=StartOfSession)=\"&A1&\"\", \"Bar\", \"\", \"Close\",\"5\",\"0\",\"PrimaryOnly\",,,\"False\",\"T\",\"EveryTick\")","v":74.38},{"$f":"IFERROR((N1-$G$5)/$G$5,NA())","v":7.1767095463778092E-3},{"$f":"RTD(\"cqg.rtd\",,\"StudyData\", \"Close(\"&$D$12&\") when LocalYear(\"&$D$12&\")=\"&$D$5&\" and localMonth(\"&$D$12&\") =\"&$E$5&\" and LocalDay(\"&$D$12&\")=\"&$F$5&\" and Barix(\"&$D$12&\",reference:=StartOfSession)=\"&A1&\"\", \"Bar\", \"\", \"Close\",\"5\",\"0\",\"PrimaryOnly\",,,\"False\",\"T\",\"EveryTick\")","v":73.989999999999995},{"$f":"IFERROR((P1-$G$6)/$G$6,NA())","v":2.574525745257422E-3},{"$f":"RTD(\"cqg.rtd\",,\"StudyData\", \"Close(\"&$D$12&\") when LocalYear(\"&$D$12&\")=\"&$D$6&\" and localMonth(\"&$D$12&\") =\"&$E$6&\" and LocalDay(\"&$D$12&\")=\"&$F$6&\" and Barix(\"&$D$12&\",reference:=StartOfSession)=\"&A1&\"\", \"Bar\", \"\", \"Close\",\"5\",\"0\",\"PrimaryOnly\",,,\"False\",\"T\",\"EveryTick\")","v":72.42},{"$f":"IFERROR((R1-$G$7)/$G$7,NA())","v":-7.1291472443103382E-3},{"$f":"RTD(\"cqg.rtd\",,\"StudyData\", \"Close(\"&$D$12&\") when LocalYear(\"&$D$12&\")=\"&$D$7&\" and localMonth(\"&$D$12&\") =\"&$E$7&\" and LocalDay(\"&$D$12&\")=\"&$F$7&\" and Barix(\"&$D$12&\",reference:=StartOfSession)=\"&A1&\"\", \"Bar\", \"\", \"Close\",\"5\",\"0\",\"PrimaryOnly\",,,\"False\",\"T\",\"EveryTick\")","v":74.22},{"$f":"IFERROR((T1-$G$8)/$G$8,NA())","v":1.0790396547072875E-3},{"$f":"RTD(\"cqg.rtd\",,\"StudyData\", \"Close(\"&$D$12&\") when LocalYear(\"&$D$12&\")=\"&$D$8&\" and localMonth(\"&$D$12&\") =\"&$E$8&\" and LocalDay(\"&$D$12&\")=\"&$F$8&\" and Barix(\"&$D$12&\",reference:=StartOfSession)=\"&A1&\"\", \"Bar\", \"\", \"Close\",\"5\",\"0\",\"PrimaryOnly\",,,\"False\",\"T\",\"EveryTick\")","v":75.069999999999993},{"$f":"IFERROR((V1-$G$9)/$G$9,NA())","v":1.5282661617527664E-2},{"$f":"RTD(\"cqg.rtd\",,\"StudyData\", \"Close(\"&$D$12&\") when LocalYear(\"&$D$12&\")=\"&$D$9&\" and localMonth(\"&$D$12&\") =\"&$E$9&\" and LocalDay(\"&$D$12&\")=\"&$F$9&\" and Barix(\"&$D$12&\",reference:=StartOfSession)=\"&A1&\"\", \"Bar\", \"\", \"Close\",\"5\",\"0\",\"PrimaryOnly\",,,\"False\",\"T\",\"EveryTick\")","v":74.010000000000005},{"$f":"IFERROR((X1-$G$10)/$G$10,NA())","v":-1.8880647336480183E-3},{"$f":"RTD(\"cqg.rtd\",,\"StudyData\", \"Close(\"&$D$12&\") when LocalYear(\"&$D$12&\")=\"&$D$10&\" and localMonth(\"&$D$12&\") =\"&$E$10&\" and LocalDay(\"&$D$12&\")=\"&$F$10&\" and Barix(\"&$D$12&\",reference:=StartOfSession)=\"&A1&\"\", \"Bar\", \"\", \"Close\",\"5\",\"0\",\"PrimaryOnly\",,,\"False\",\"T\",\"EveryTick\")","v":73.52},{"$f":"IFERROR((Z1-$G$11)/$G$11,NA())","v":9.5302927161324946E-4},{"$f":"RANK(AD1,$AD$1:$AD$10)+COUNTIF($AD$1:AD1,AD1)-1","v":1},{"$f":"DATE(D1,E1,F1)","v":"2018-07-13"},{"$f":"VLOOKUP(MAX(AE2:AE66),A1:I66,9,FALSE)","v":1.1090573012939019E-2},null,1,{"$f":"VLOOKUP(AF1,$AB$1:$AD$10,2,FALSE)","v":"2018-07-13"},{"$f":"VLOOKUP(AF1,$AB$1:$AD$10,3,FALSE)","v":1.1090573012939019E-2},null,null,{"$f":"AG1","v":"2018-07-13"},{"$f":"AC1","v":"2018-07-13"},0,{"$f":"VLOOKUP(AK1,$AL$1:$AM$10,2,FALSE)","v":0}]
[{"$f":"A1+1","v":1},"08:05:00",{"$f":" RTD(\"cqg.rtd\",,\"StudyData\",$D$12, \"Bar\", \"\", \"Time\",\"D\",\"-1\",,,,,\"T\")","v":"2018-07-12"},{"$f":"YEAR(C2)","v":2018},{"$f":"MONTH(C2)","v":7},{"$f":"DAY(C2)","v":12},{"$f":" RTD(\"cqg.rtd\",,\"StudyData\",$D$12, \"Bar\", \"\", \"Close\",\"D\",\"-1\",,,,,\"T\")","v":70.33},{"$f":"RTD(\"cqg.rtd\",,\"StudyData\", \"Close(\"&$D$12&\") when LocalYear(\"&$D$12&\")=\"&$D$1&\" and localMonth(\"&$D$12&\") =\"&$E$1&\" and LocalDay(\"&$D$12&\")=\"&$F$1&\" and Barix(\"&$D$12&\",reference:=StartOfSession)=\"&A2&\"\", \"Bar\", \"\", \"Close\",\"5\",\"0\",\"PrimaryOnly\",,,\"False\",\"T\",\"EveryTick\")","v":70.42},{"$f":"IFERROR((H2-$G$2)/$G$2,NA())","v":1.2796815014930103E-3},{"$f":"RTD(\"cqg.rtd\",,\"StudyData\", \"Close(\"&$D$12&\") when LocalYear(\"&$D$12&\")=\"&$D$2&\" and localMonth(\"&$D$12&\") =\"&$E$2&\" and LocalDay(\"&$D$12&\")=\"&$F$2&\" and Barix(\"&$D$12&\",reference:=StartOfSession)=\"&A2&\"\", \"Bar\", \"\", \"Close\",\"5\",\"0\",\"PrimaryOnly\",,,\"False\",\"T\",\"EveryTick\")","v":70.86},{"$f":"IFERROR((J2-$G$3)/$G$3,NA())","v":6.8201193520887188E-3},{"$f":"RTD(\"cqg.rtd\",,\"StudyData\", \"Close(\"&$D$12&\") when LocalYear(\"&$D$12&\")=\"&$D$3&\" and localMonth(\"&$D$12&\") =\"&$E$3&\" and LocalDay(\"&$D$12&\")=\"&$F$3&\" and Barix(\"&$D$12&\",reference:=StartOfSession)=\"&A2&\"\", \"Bar\", \"\", \"Close\",\"5\",\"0\",\"PrimaryOnly\",,,\"False\",\"T\",\"EveryTick\")","v":73.34},{"$f":"IFERROR((L2-$G$4)/$G$4,NA())","v":-1.0389960868978492E-2},{"$f":"RTD(\"cqg.rtd\",,\"StudyData\", \"Close(\"&$D$12&\") when LocalYear(\"&$D$12&\")=\"&$D$4&\" and localMonth(\"&$D$12&\") =\"&$E$4&\" and LocalDay(\"&$D$12&\")=\"&$F$4&\" and Barix(\"&$D$12&\",reference:=StartOfSession)=\"&A2&\"\", \"Bar\", \"\", \"Close\",\"5\",\"0\",\"PrimaryOnly\",,,\"False\",\"T\",\"EveryTick\")","v":74.319999999999993},{"$f":"IFERROR((N2-$G$5)/$G$5,NA())","v":6.3642518618821789E-3},{"$f":"RTD(\"cqg.rtd\",,\"StudyData\", \"Close(\"&$D$12&\") when LocalYear(\"&$D$12&\")=\"&$D$5&\" and localMonth(\"&$D$12&\") =\"&$E$5&\" and LocalDay(\"&$D$12&\")=\"&$F$5&\" and Barix(\"&$D$12&\",reference:=StartOfSession)=\"&A2&\"\", \"Bar\", \"\", \"Close\",\"5\",\"0\",\"PrimaryOnly\",,,\"False\",\"T\",\"EveryTick\")","v":73.89},{"$f":"IFERROR((P2-$G$6)/$G$6,NA())","v":1.2195121951219974E-3},{"$f":"RTD(\"cqg.rtd\",,\"StudyData\", \"Close(\"&$D$12&\") when LocalYear(\"&$D$12&\")=\"&$D$6&\" and localMonth(\"&$D$12&\") =\"&$E$6&\" and LocalDay(\"&$D$12&\")=\"&$F$6&\" and Barix(\"&$D$12&\",reference:=StartOfSession)=\"&A2&\"\", \"Bar\", \"\", \"Close\",\"5\",\"0\",\"PrimaryOnly\",,,\"False\",\"T\",\"EveryTick\")","v":72.31},{"$f":"IFERROR((R2-$G$7)/$G$7,NA())","v":-8.6372360844529129E-3},{"$f":"RTD(\"cqg.rtd\",,\"StudyData\", \"Close(\"&$D$12&\") when LocalYear(\"&$D$12&\")=\"&$D$7&\" and localMonth(\"&$D$12&\") =\"&$E$7&\" and LocalDay(\"&$D$12&\")=\"&$F$7&\" and Barix(\"&$D$12&\",reference:=StartOfSession)=\"&A2&\"\", \"Bar\", \"\", \"Close\",\"5\",\"0\",\"PrimaryOnly\",,,\"False\",\"T\",\"EveryTick\")","v":74.13},{"$f":"IFERROR((T2-$G$8)/$G$8,NA())","v":-1.3487995683848282E-4},{"$f":"RTD(\"cqg.rtd\",,\"StudyData\", \"Close(\"&$D$12&\") when LocalYear(\"&$D$12&\")=\"&$D$8&\" and localMonth(\"&$D$12&\") =\"&$E$8&\" and LocalDay(\"&$D$12&\")=\"&$F$8&\" and Barix(\"&$D$12&\",reference:=StartOfSession)=\"&A2&\"\", \"Bar\", \"\", \"Close\",\"5\",\"0\",\"PrimaryOnly\",,,\"False\",\"T\",\"EveryTick\")","v":75.099999999999994},{"$f":"IFERROR((V2-$G$9)/$G$9,NA())","v":1.5688395996754079E-2},{"$f":"RTD(\"cqg.rtd\",,\"StudyData\", \"Close(\"&$D$12&\") when LocalYear(\"&$D$12&\")=\"&$D$9&\" and localMonth(\"&$D$12&\") =\"&$E$9&\" and LocalDay(\"&$D$12&\")=\"&$F$9&\" and Barix(\"&$D$12&\",reference:=StartOfSession)=\"&A2&\"\", \"Bar\", \"\", \"Close\",\"5\",\"0\",\"PrimaryOnly\",,,\"False\",\"T\",\"EveryTick\")","v":73.98},{"$f":"IFERROR((X2-$G$10)/$G$10,NA())","v":-2.2926500337154647E-3},{"$f":"RTD(\"cqg.rtd\",,\"StudyData\", \"Close(\"&$D$12&\") when LocalYear(\"&$D$12&\")=\"&$D$10&\" and localMonth(\"&$D$12&\") =\"&$E$10&\" and LocalDay(\"&$D$12&\")=\"&$F$10&\" and Barix(\"&$D$12&\",reference:=StartOfSession)=\"&A2&\"\", \"Bar\", \"\", \"Close\",\"5\",\"0\",\"PrimaryOnly\",,,\"False\",\"T\",\"EveryTick\")","v":73.62},{"$f":"IFERROR((Z2-$G$11)/$G$11,NA())","v":2.3144996596324262E-3},{"$f":"RANK(AD2,$AD$1:$AD$10)+COUNTIF($AD$1:AD2,AD2)-1","v":8},{"$f":"DATE(D2,E2,F2)","v":"2018-07-12"},{"$f":"VLOOKUP(MAX(AE2:AE81),A1:K81,11,FALSE)","v":-9.661835748792166E-3},{"$f":"IF(AND(H1<>\"\",H2<>\"\",H3=\"\"),A2,\"\")","v":""},2,{"$f":"VLOOKUP(AF2,$AB$1:$AD$10,2,FALSE)","v":"2018-06-29"},{"$f":"VLOOKUP(AF2,$AB$1:$AD$10,3,FALSE)","v":9.5302927161334625E-3},null,null,{"$f":"AG2","v":"2018-06-29"},{"$f":"AC2","v":"2018-07-12"},1,{"$f":"VLOOKUP(AK2,$AL$1:$AM$10,2,FALSE)","v":9}]
[{"$f":"A2+1","v":2},"08:10:00",{"$f":" RTD(\"cqg.rtd\",,\"StudyData\",$D$12, \"Bar\", \"\", \"Time\",\"D\",\"-2\",,,,,\"T\")","v":"2018-07-11"},2018,7,11,{"$f":" RTD(\"cqg.rtd\",,\"StudyData\",$D$12, \"Bar\", \"\", \"Close\",\"D\",\"-2\",,,,,\"T\")","v":70.38},{"$f":"RTD(\"cqg.rtd\",,\"StudyData\", \"Close(\"&$D$12&\") when LocalYear(\"&$D$12&\")=\"&$D$1&\" and localMonth(\"&$D$12&\") =\"&$E$1&\" and LocalDay(\"&$D$12&\")=\"&$F$1&\" and Barix(\"&$D$12&\",reference:=StartOfSession)=\"&A3&\"\", \"Bar\", \"\", \"Close\",\"5\",\"0\",\"PrimaryOnly\",,,\"False\",\"T\",\"EveryTick\")","v":70.47},{"$f":"IFERROR((H3-$G$2)/$G$2,NA())","v":1.9906156689890597E-3},{"$f":"RTD(\"cqg.rtd\",,\"StudyData\", \"Close(\"&$D$12&\") when LocalYear(\"&$D$12&\")=\"&$D$2&\" and localMonth(\"&$D$12&\") =\"&$E$2&\" and LocalDay(\"&$D$12&\")=\"&$F$2&\" and Barix(\"&$D$12&\",reference:=StartOfSession)=\"&A3&\"\", \"Bar\", \"\", \"Close\",\"5\",\"0\",\"PrimaryOnly\",,,\"False\",\"T\",\"EveryTick\")","v":70.760000000000005},5.3992611537369943E-3,{"$f":"RTD(\"cqg.rtd\",,\"StudyData\", \"Close(\"&$D$12&\") when LocalYear(\"&$D$12&\")=\"&$D$3&\" and localMonth(\"&$D$12&\") =\"&$E$3&\" and LocalDay(\"&$D$12&\")=\"&$F$3&\" and Barix(\"&$D$12&\",reference:=StartOfSession)=\"&A3&\"\", \"Bar\", \"\", \"Close\",\"5\",\"0\",\"PrimaryOnly\",,,\"False\",\"T\",\"EveryTick\")","v":73.37},-9.9851571987585337E-3,{"$f":"RTD(\"cqg.rtd\",,\"StudyData\", \"Close(\"&$D$12&\") when LocalYear(\"&$D$12&\")=\"&$D$4&\" and localMonth(\"&$D$12&\") =\"&$E$4&\" and LocalDay(\"&$D$12&\")=\"&$F$4&\" and Barix(\"&$D$12&\",reference:=StartOfSession)=\"&A3&\"\", \"Bar\", \"\", \"Close\",\"5\",\"0\",\"PrimaryOnly\",,,\"False\",\"T\",\"EveryTick\")","v":74.37},7.0412999322953321E-3,{"$f":"RTD(\"cqg.rtd\",,\"StudyData\", \"Close(\"&$D$12&\") when LocalYear(\"&$D$12&\")=\"&$D$5&\" and localMonth(\"&$D$12&\") =\"&$E$5&\" and LocalDay(\"&$D$12&\")=\"&$F$5&\" and Barix(\"&$D$12&\",reference:=StartOfSession)=\"&A3&\"\", \"Bar\", \"\", \"Close\",\"5\",\"0\",\"PrimaryOnly\",,,\"False\",\"T\",\"EveryTick\")","v":73.91},1.4905149051490439E-3,{"$f":"RTD(\"cqg.rtd\",,\"StudyData\", \"Close(\"&$D$12&\") when LocalYear(\"&$D$12&\")=\"&$D$6&\" and localMonth(\"&$D$12&\") =\"&$E$6&\" and LocalDay(\"&$D$12&\")=\"&$F$6&\" and Barix(\"&$D$12&\",reference:=StartOfSession)=\"&A3&\"\", \"Bar\", \"\", \"Close\",\"5\",\"0\",\"PrimaryOnly\",,,\"False\",\"T\",\"EveryTick\")","v":72.27},-9.1856320263230297E-3,{"$f":"RTD(\"cqg.rtd\",,\"StudyData\", \"Close(\"&$D$12&\") when LocalYear(\"&$D$12&\")=\"&$D$7&\" and localMonth(\"&$D$12&\") =\"&$E$7&\" and LocalDay(\"&$D$12&\")=\"&$F$7&\" and Barix(\"&$D$12&\",reference:=StartOfSession)=\"&A3&\"\", \"Bar\", \"\", \"Close\",\"5\",\"0\",\"PrimaryOnly\",,,\"False\",\"T\",\"EveryTick\")","v":74.13},-1.3487995683848282E-4,{"$f":"RTD(\"cqg.rtd\",,\"StudyData\", \"Close(\"&$D$12&\") when LocalYear(\"&$D$12&\")=\"&$D$8&\" and localMonth(\"&$D$12&\") =\"&$E$8&\" and LocalDay(\"&$D$12&\")=\"&$F$8&\" and Barix(\"&$D$12&\",reference:=StartOfSession)=\"&A3&\"\", \"Bar\", \"\", \"Close\",\"5\",\"0\",\"PrimaryOnly\",,,\"False\",\"T\",\"EveryTick\")","v":75.05},1.5012172031376786E-2,{"$f":"RTD(\"cqg.rtd\",,\"StudyData\", \"Close(\"&$D$12&\") when LocalYear(\"&$D$12&\")=\"&$D$9&\" and localMonth(\"&$D$12&\") =\"&$E$9&\" and LocalDay(\"&$D$12&\")=\"&$F$9&\" and Barix(\"&$D$12&\",reference:=StartOfSession)=\"&A3&\"\", \"Bar\", \"\", \"Close\",\"5\",\"0\",\"PrimaryOnly\",,,\"False\",\"T\",\"EveryTick\")","v":73.94},-2.8320971004721232E-3,{"$f":"RTD(\"cqg.rtd\",,\"StudyData\", \"Close(\"&$D$12&\") when LocalYear(\"&$D$12&\")=\"&$D$10&\" and localMonth(\"&$D$12&\") =\"&$E$10&\" and LocalDay(\"&$D$12&\")=\"&$F$10&\" and Barix(\"&$D$12&\",reference:=StartOfSession)=\"&A3&\"\", \"Bar\", \"\", \"Close\",\"5\",\"0\",\"PrimaryOnly\",,,\"False\",\"T\",\"EveryTick\")","v":73.650000000000006},2.7229407760381596E-3,{"$f":"RANK(AD3,$AD$1:$AD$10)+COUNTIF($AD$1:AD3,AD3)-1","v":10},"2018-07-11",{"$f":"VLOOKUP(MAX(AE2:AE81),A1:M81,13,FALSE)","v":-2.0779921737957174E-2},{"$f":"IF(AND(H2<>\"\",H3<>\"\",H4=\"\"),A3,\"\")","v":""},3,"2018-07-06",7.4033452152454928E-3,null,null,"2018-07-06","2018-07-11",2,5]
[3,"08:15:00",{"$f":" RTD(\"cqg.rtd\",,\"StudyData\",$D$12, \"Bar\", \"\", \"Time\",\"D\",\"-3\",,,,,\"T\")","v":"2018-07-10"},2018,7,10,{"$f":" RTD(\"cqg.rtd\",,\"StudyData\",$D$12, \"Bar\", \"\", \"Close\",\"D\",\"-3\",,,,,\"T\")","v":74.11},{"$f":"RTD(\"cqg.rtd\",,\"StudyData\", \"Close(\"&$D$12&\") when LocalYear(\"&$D$12&\")=\"&$D$1&\" and localMonth(\"&$D$12&\") =\"&$E$1&\" and LocalDay(\"&$D$12&\")=\"&$F$1&\" and Barix(\"&$D$12&\",reference:=StartOfSession)=\"&A4&\"\", \"Bar\", \"\", \"Close\",\"5\",\"0\",\"PrimaryOnly\",,,\"False\",\"T\",\"EveryTick\")","v":70.489999999999995},2.2749893359874391E-3,{"$f":"RTD(\"cqg.rtd\",,\"StudyData\", \"Close(\"&$D$12&\") when LocalYear(\"&$D$12&\")=\"&$D$2&\" and localMonth(\"&$D$12&\") =\"&$E$2&\" and LocalDay(\"&$D$12&\")=\"&$F$2&\" and Barix(\"&$D$12&\",reference:=StartOfSession)=\"&A4&\"\", \"Bar\", \"\", \"Close\",\"5\",\"0\",\"PrimaryOnly\",,,\"False\",\"T\",\"EveryTick\")","v":70.7},4.5467462347258793E-3,{"$f":"RTD(\"cqg.rtd\",,\"StudyData\", \"Close(\"&$D$12&\") when LocalYear(\"&$D$12&\")=\"&$D$3&\" and localMonth(\"&$D$12&\") =\"&$E$3&\" and LocalDay(\"&$D$12&\")=\"&$F$3&\" and Barix(\"&$D$12&\",reference:=StartOfSession)=\"&A4&\"\", \"Bar\", \"\", \"Close\",\"5\",\"0\",\"PrimaryOnly\",,,\"False\",\"T\",\"EveryTick\")","v":73.290000000000006},-1.1064633652678358E-2,{"$f":"RTD(\"cqg.rtd\",,\"StudyData\", \"Close(\"&$D$12&\") when LocalYear(\"&$D$12&\")=\"&$D$4&\" and localMonth(\"&$D$12&\") =\"&$E$4&\" and LocalDay(\"&$D$12&\")=\"&$F$4&\" and Barix(\"&$D$12&\",reference:=StartOfSession)=\"&A4&\"\", \"Bar\", \"\", \"Close\",\"5\",\"0\",\"PrimaryOnly\",,,\"False\",\"T\",\"EveryTick\")","v":74.41},7.5829383886256239E-3,{"$f":"RTD(\"cqg.rtd\",,\"StudyData\", \"Close(\"&$D$12&\") when LocalYear(\"&$D$12&\")=\"&$D$5&\" and localMonth(\"&$D$12&\") =\"&$E$5&\" and LocalDay(\"&$D$12&\")=\"&$F$5&\" and Barix(\"&$D$12&\",reference:=StartOfSession)=\"&A4&\"\", \"Bar\", \"\", \"Close\",\"5\",\"0\",\"PrimaryOnly\",,,\"False\",\"T\",\"EveryTick\")","v":73.98},2.4390243902439948E-3,{"$f":"RTD(\"cqg.rtd\",,\"StudyData\", \"Close(\"&$D$12&\") when LocalYear(\"&$D$12&\")=\"&$D$6&\" and localMonth(\"&$D$12&\") =\"&$E$6&\" and LocalDay(\"&$D$12&\")=\"&$F$6&\" and Barix(\"&$D$12&\",reference:=StartOfSession)=\"&A4&\"\", \"Bar\", \"\", \"Close\",\"5\",\"0\",\"PrimaryOnly\",,,\"False\",\"T\",\"EveryTick\")","v":72.42},-7.1291472443103382E-3,{"$f":"RTD(\"cqg.rtd\",,\"StudyData\", \"Close(\"&$D$12&\") when LocalYear(\"&$D$12&\")=\"&$D$7&\" and localMonth(\"&$D$12&\") =\"&$E$7&\" and LocalDay(\"&$D$12&\")=\"&$F$7&\" and Barix(\"&$D$12&\",reference:=StartOfSession)=\"&A4&\"\", \"Bar\", \"\", \"Close\",\"5\",\"0\",\"PrimaryOnly\",,,\"False\",\"T\",\"EveryTick\")","v":73.97},-2.2929592662530576E-3,{"$f":"RTD(\"cqg.rtd\",,\"StudyData\", \"Close(\"&$D$12&\") when LocalYear(\"&$D$12&\")=\"&$D$8&\" and localMonth(\"&$D$12&\") =\"&$E$8&\" and LocalDay(\"&$D$12&\")=\"&$F$8&\" and Barix(\"&$D$12&\",reference:=StartOfSession)=\"&A4&\"\", \"Bar\", \"\", \"Close\",\"5\",\"0\",\"PrimaryOnly\",,,\"False\",\"T\",\"EveryTick\")","v":75},1.433594806599949E-2,{"$f":"RTD(\"cqg.rtd\",,\"StudyData\", \"Close(\"&$D$12&\") when LocalYear(\"&$D$12&\")=\"&$D$9&\" and localMonth(\"&$D$12&\") =\"&$E$9&\" and LocalDay(\"&$D$12&\")=\"&$F$9&\" and Barix(\"&$D$12&\",reference:=StartOfSession)=\"&A4&\"\", \"Bar\", \"\", \"Close\",\"5\",\"0\",\"PrimaryOnly\",,,\"False\",\"T\",\"EveryTick\")","v":73.91},-3.2366824005395697E-3,{"$f":"RTD(\"cqg.rtd\",,\"StudyData\", \"Close(\"&$D$12&\") when LocalYear(\"&$D$12&\")=\"&$D$10&\" and localMonth(\"&$D$12&\") =\"&$E$10&\" and LocalDay(\"&$D$12&\")=\"&$F$10&\" and Barix(\"&$D$12&\",reference:=StartOfSession)=\"&A4&\"\", \"Bar\", \"\", \"Close\",\"5\",\"0\",\"PrimaryOnly\",,,\"False\",\"T\",\"EveryTick\")","v":73.650000000000006},2.7229407760381596E-3,{"$f":"RANK(AD4,$AD$1:$AD$10)+COUNTIF($AD$1:AD4,AD4)-1","v":4},"2018-07-10",{"$f":"VLOOKUP(MAX(AE2:AE81),A1:O81,15,FALSE)","v":1.7603249830739293E-3},"",4,"2018-07-10",1.7603249830739293E-3,null,null,"2018-07-10","2018-07-10",3,3]
[4,"08:20:00",{"$f":" RTD(\"cqg.rtd\",,\"StudyData\",$D$12, \"Bar\", \"\", \"Time\",\"D\",\"-4\",,,,,\"T\")","v":"2018-07-09"},2018,7,9,{"$f":" RTD(\"cqg.rtd\",,\"StudyData\",$D$12, \"Bar\", \"\", \"Close\",\"D\",\"-4\",,,,,\"T\")","v":73.849999999999994},{"$f":"RTD(\"cqg.rtd\",,\"StudyData\", \"Close(\"&$D$12&\") when LocalYear(\"&$D$12&\")=\"&$D$1&\" and localMonth(\"&$D$12&\") =\"&$E$1&\" and LocalDay(\"&$D$12&\")=\"&$F$1&\" and Barix(\"&$D$12&\",reference:=StartOfSession)=\"&A5&\"\", \"Bar\", \"\", \"Close\",\"5\",\"0\",\"PrimaryOnly\",,,\"False\",\"T\",\"EveryTick\")","v":70.430000000000007},1.421868334992301E-3,{"$f":"RTD(\"cqg.rtd\",,\"StudyData\", \"Close(\"&$D$12&\") when LocalYear(\"&$D$12&\")=\"&$D$2&\" and localMonth(\"&$D$12&\") =\"&$E$2&\" and LocalDay(\"&$D$12&\")=\"&$F$2&\" and Barix(\"&$D$12&\",reference:=StartOfSession)=\"&A5&\"\", \"Bar\", \"\", \"Close\",\"5\",\"0\",\"PrimaryOnly\",,,\"False\",\"T\",\"EveryTick\")","v":70.540000000000006},2.2733731173630407E-3,{"$f":"RTD(\"cqg.rtd\",,\"StudyData\", \"Close(\"&$D$12&\") when LocalYear(\"&$D$12&\")=\"&$D$3&\" and localMonth(\"&$D$12&\") =\"&$E$3&\" and LocalDay(\"&$D$12&\")=\"&$F$3&\" and Barix(\"&$D$12&\",reference:=StartOfSession)=\"&A5&\"\", \"Bar\", \"\", \"Close\",\"5\",\"0\",\"PrimaryOnly\",,,\"False\",\"T\",\"EveryTick\")","v":73.27},-1.1334502766158459E-2,{"$f":"RTD(\"cqg.rtd\",,\"StudyData\", \"Close(\"&$D$12&\") when LocalYear(\"&$D$12&\")=\"&$D$4&\" and localMonth(\"&$D$12&\") =\"&$E$4&\" and LocalDay(\"&$D$12&\")=\"&$F$4&\" and Barix(\"&$D$12&\",reference:=StartOfSession)=\"&A5&\"\", \"Bar\", \"\", \"Close\",\"5\",\"0\",\"PrimaryOnly\",,,\"False\",\"T\",\"EveryTick\")","v":74.37},7.0412999322953321E-3,{"$f":"RTD(\"cqg.rtd\",,\"StudyData\", \"Close(\"&$D$12&\") when LocalYear(\"&$D$12&\")=\"&$D$5&\" and localMonth(\"&$D$12&\") =\"&$E$5&\" and LocalDay(\"&$D$12&\")=\"&$F$5&\" and Barix(\"&$D$12&\",reference:=StartOfSession)=\"&A5&\"\", \"Bar\", \"\", \"Close\",\"5\",\"0\",\"PrimaryOnly\",,,\"False\",\"T\",\"EveryTick\")","v":73.91},1.4905149051490439E-3,{"$f":"RTD(\"cqg.rtd\",,\"StudyData\", \"Close(\"&$D$12&\") when LocalYear(\"&$D$12&\")=\"&$D$6&\" and localMonth(\"&$D$12&\") =\"&$E$6&\" and LocalDay(\"&$D$12&\")=\"&$F$6&\" and Barix(\"&$D$12&\",reference:=StartOfSession)=\"&A5&\"\", \"Bar\", \"\", \"Close\",\"5\",\"0\",\"PrimaryOnly\",,,\"False\",\"T\",\"EveryTick\")","v":72.400000000000006},-7.4033452152452986E-3,{"$f":"RTD(\"cqg.rtd\",,\"StudyData\", \"Close(\"&$D$12&\") when LocalYear(\"&$D$12&\")=\"&$D$7&\" and localMonth(\"&$D$12&\") =\"&$E$7&\" and LocalDay(\"&$D$12&\")=\"&$F$7&\" and Barix(\"&$D$12&\",reference:=StartOfSession)=\"&A5&\"\", \"Bar\", \"\", \"Close\",\"5\",\"0\",\"PrimaryOnly\",,,\"False\",\"T\",\"EveryTick\")","v":74.040000000000006},-1.3487995683840615E-3,{"$f":"RTD(\"cqg.rtd\",,\"StudyData\", \"Close(\"&$D$12&\") when LocalYear(\"&$D$12&\")=\"&$D$8&\" and localMonth(\"&$D$12&\") =\"&$E$8&\" and LocalDay(\"&$D$12&\")=\"&$F$8&\" and Barix(\"&$D$12&\",reference:=StartOfSession)=\"&A5&\"\", \"Bar\", \"\", \"Close\",\"5\",\"0\",\"PrimaryOnly\",,,\"False\",\"T\",\"EveryTick\")","v":75.010000000000005},1.4471192859075025E-2,{"$f":"RTD(\"cqg.rtd\",,\"StudyData\", \"Close(\"&$D$12&\") when LocalYear(\"&$D$12&\")=\"&$D$9&\" and localMonth(\"&$D$12&\") =\"&$E$9&\" and LocalDay(\"&$D$12&\")=\"&$F$9&\" and Barix(\"&$D$12&\",reference:=StartOfSession)=\"&A5&\"\", \"Bar\", \"\", \"Close\",\"5\",\"0\",\"PrimaryOnly\",,,\"False\",\"T\",\"EveryTick\")","v":74.03},-1.6183412002697848E-3,{"$f":"RTD(\"cqg.rtd\",,\"StudyData\", \"Close(\"&$D$12&\") when LocalYear(\"&$D$12&\")=\"&$D$10&\" and localMonth(\"&$D$12&\") =\"&$E$10&\" and LocalDay(\"&$D$12&\")=\"&$F$10&\" and Barix(\"&$D$12&\",reference:=StartOfSession)=\"&A5&\"\", \"Bar\", \"\", \"Close\",\"5\",\"0\",\"PrimaryOnly\",,,\"False\",\"T\",\"EveryTick\")","v":73.67},2.9952348536419178E-3,{"$f":"RANK(AD5,$AD$1:$AD$10)+COUNTIF($AD$1:AD5,AD5)-1","v":5},"2018-07-09",{"$f":"VLOOKUP(MAX(AE2:AE81),A1:Q81,17,FALSE)","v":-5.149051490514844E-3},"",5,"2018-07-09",-5.149051490514844E-3,null,null,"2018-07-09","2018-07-09",4,4]
[5,"08:25:00",{"$f":" RTD(\"cqg.rtd\",,\"StudyData\",$D$12, \"Bar\", \"\", \"Time\",\"D\",\"-5\",,,,,\"T\")","v":"2018-07-06"},2018,7,6,{"$f":" RTD(\"cqg.rtd\",,\"StudyData\",$D$12, \"Bar\", \"\", \"Close\",\"D\",\"-5\",,,,,\"T\")","v":73.8},{"$f":"RTD(\"cqg.rtd\",,\"StudyData\", \"Close(\"&$D$12&\") when LocalYear(\"&$D$12&\")=\"&$D$1&\" and localMonth(\"&$D$12&\") =\"&$E$1&\" and LocalDay(\"&$D$12&\")=\"&$F$1&\" and Barix(\"&$D$12&\",reference:=StartOfSession)=\"&A6&\"\", \"Bar\", \"\", \"Close\",\"5\",\"0\",\"PrimaryOnly\",,,\"False\",\"T\",\"EveryTick\")","v":70.53},2.8437366699843999E-3,{"$f":"RTD(\"cqg.rtd\",,\"StudyData\", \"Close(\"&$D$12&\") when LocalYear(\"&$D$12&\")=\"&$D$2&\" and localMonth(\"&$D$12&\") =\"&$E$2&\" and LocalDay(\"&$D$12&\")=\"&$F$2&\" and Barix(\"&$D$12&\",reference:=StartOfSession)=\"&A6&\"\", \"Bar\", \"\", \"Close\",\"5\",\"0\",\"PrimaryOnly\",,,\"False\",\"T\",\"EveryTick\")","v":70.540000000000006},2.2733731173630407E-3,{"$f":"RTD(\"cqg.rtd\",,\"StudyData\", \"Close(\"&$D$12&\") when LocalYear(\"&$D$12&\")=\"&$D$3&\" and localMonth(\"&$D$12&\") =\"&$E$3&\" and LocalDay(\"&$D$12&\")=\"&$F$3&\" and Barix(\"&$D$12&\",reference:=StartOfSession)=\"&A6&\"\", \"Bar\", \"\", \"Close\",\"5\",\"0\",\"PrimaryOnly\",,,\"False\",\"T\",\"EveryTick\")","v":73.239999999999995},-1.1739306436378417E-2,{"$f":"RTD(\"cqg.rtd\",,\"StudyData\", \"Close(\"&$D$12&\") when LocalYear(\"&$D$12&\")=\"&$D$4&\" and localMonth(\"&$D$12&\") =\"&$E$4&\" and LocalDay(\"&$D$12&\")=\"&$F$4&\" and Barix(\"&$D$12&\",reference:=StartOfSession)=\"&A6&\"\", \"Bar\", \"\", \"Close\",\"5\",\"0\",\"PrimaryOnly\",,,\"False\",\"T\",\"EveryTick\")","v":74.36},6.9058903182126633E-3,{"$f":"RTD(\"cqg.rtd\",,\"StudyData\", \"Close(\"&$D$12&\") when LocalYear(\"&$D$12&\")=\"&$D$5&\" and localMonth(\"&$D$12&\") =\"&$E$5&\" and LocalDay(\"&$D$12&\")=\"&$F$5&\" and Barix(\"&$D$12&\",reference:=StartOfSession)=\"&A6&\"\", \"Bar\", \"\", \"Close\",\"5\",\"0\",\"PrimaryOnly\",,,\"False\",\"T\",\"EveryTick\")","v":73.849999999999994},6.7750677506771219E-4,{"$f":"RTD(\"cqg.rtd\",,\"StudyData\", \"Close(\"&$D$12&\") when LocalYear(\"&$D$12&\")=\"&$D$6&\" and localMonth(\"&$D$12&\") =\"&$E$6&\" and LocalDay(\"&$D$12&\")=\"&$F$6&\" and Barix(\"&$D$12&\",reference:=StartOfSession)=\"&A6&\"\", \"Bar\", \"\", \"Close\",\"5\",\"0\",\"PrimaryOnly\",,,\"False\",\"T\",\"EveryTick\")","v":72.41},-7.2662462297779151E-3,{"$f":"RTD(\"cqg.rtd\",,\"StudyData\", \"Close(\"&$D$12&\") when LocalYear(\"&$D$12&\")=\"&$D$7&\" and localMonth(\"&$D$12&\") =\"&$E$7&\" and LocalDay(\"&$D$12&\")=\"&$F$7&\" and Barix(\"&$D$12&\",reference:=StartOfSession)=\"&A6&\"\", \"Bar\", \"\", \"Close\",\"5\",\"0\",\"PrimaryOnly\",,,\"False\",\"T\",\"EveryTick\")","v":74.040000000000006},-1.3487995683840615E-3,{"$f":"RTD(\"cqg.rtd\",,\"StudyData\", \"Close(\"&$D$12&\") when LocalYear(\"&$D$12&\")=\"&$D$8&\" and localMonth(\"&$D$12&\") =\"&$E$8&\" and LocalDay(\"&$D$12&\")=\"&$F$8&\" and Barix(\"&$D$12&\",reference:=StartOfSession)=\"&A6&\"\", \"Bar\", \"\", \"Close\",\"5\",\"0\",\"PrimaryOnly\",,,\"False\",\"T\",\"EveryTick\")","v":75.010000000000005},1.4471192859075025E-2,{"$f":"RTD(\"cqg.rtd\",,\"StudyData\", \"Close(\"&$D$12&\") when LocalYear(\"&$D$12&\")=\"&$D$9&\" and localMonth(\"&$D$12&\") =\"&$E$9&\" and LocalDay(\"&$D$12&\")=\"&$F$9&\" and Barix(\"&$D$12&\",reference:=StartOfSession)=\"&A6&\"\", \"Bar\", \"\", \"Close\",\"5\",\"0\",\"PrimaryOnly\",,,\"False\",\"T\",\"EveryTick\")","v":74.08},-9.4403236682410498E-4,{"$f":"RTD(\"cqg.rtd\",,\"StudyData\", \"Close(\"&$D$12&\") when LocalYear(\"&$D$12&\")=\"&$D$10&\" and localMonth(\"&$D$12&\") =\"&$E$10&\" and LocalDay(\"&$D$12&\")=\"&$F$10&\" and Barix(\"&$D$12&\",reference:=StartOfSession)=\"&A6&\"\", \"Bar\", \"\", \"Close\",\"5\",\"0\",\"PrimaryOnly\",,,\"False\",\"T\",\"EveryTick\")","v":73.75},4.0844111640571433E-3,{"$f":"RANK(AD6,$AD$1:$AD$10)+COUNTIF($AD$1:AD6,AD6)-1","v":3},"2018-07-06",{"$f":"VLOOKUP(MAX(AE2:AE81),A1:S81,19,FALSE)","v":7.4033452152454928E-3},"",6,"2018-07-02",-6.4733648010789476E-3,null,null,"2018-07-02","2018-07-06",5,8]
[6,"08:30:00",{"$f":" RTD(\"cqg.rtd\",,\"StudyData\",$D$12, \"Bar\", \"\", \"Time\",\"D\",\"-6\",,,,,\"T\")","v":"2018-07-05"},2018,7,5,{"$f":" RTD(\"cqg.rtd\",,\"StudyData\",$D$12, \"Bar\", \"\", \"Close\",\"D\",\"-6\",,,,,\"T\")","v":72.94},{"$f":"RTD(\"cqg.rtd\",,\"StudyData\", \"Close(\"&$D$12&\") when LocalYear(\"&$D$12&\")=\"&$D$1&\" and localMonth(\"&$D$12&\") =\"&$E$1&\" and LocalDay(\"&$D$12&\")=\"&$F$1&\" and Barix(\"&$D$12&\",reference:=StartOfSession)=\"&A7&\"\", \"Bar\", \"\", \"Close\",\"5\",\"0\",\"PrimaryOnly\",,,\"False\",\"T\",\"EveryTick\")","v":70.599999999999994},3.8390445044788287E-3,{"$f":"RTD(\"cqg.rtd\",,\"StudyData\", \"Close(\"&$D$12&\") when LocalYear(\"&$D$12&\")=\"&$D$2&\" and localMonth(\"&$D$12&\") =\"&$E$2&\" and LocalDay(\"&$D$12&\")=\"&$F$2&\" and Barix(\"&$D$12&\",reference:=StartOfSession)=\"&A7&\"\", \"Bar\", \"\", \"Close\",\"5\",\"0\",\"PrimaryOnly\",,,\"False\",\"T\",\"EveryTick\")","v":70.400000000000006},2.8417163967050629E-4,{"$f":"RTD(\"cqg.rtd\",,\"StudyData\", \"Close(\"&$D$12&\") when LocalYear(\"&$D$12&\")=\"&$D$3&\" and localMonth(\"&$D$12&\") =\"&$E$3&\" and LocalDay(\"&$D$12&\")=\"&$F$3&\" and Barix(\"&$D$12&\",reference:=StartOfSession)=\"&A7&\"\", \"Bar\", \"\", \"Close\",\"5\",\"0\",\"PrimaryOnly\",,,\"False\",\"T\",\"EveryTick\")","v":73.319999999999993},-1.0659829982458593E-2,{"$f":"RTD(\"cqg.rtd\",,\"StudyData\", \"Close(\"&$D$12&\") when LocalYear(\"&$D$12&\")=\"&$D$4&\" and localMonth(\"&$D$12&\") =\"&$E$4&\" and LocalDay(\"&$D$12&\")=\"&$F$4&\" and Barix(\"&$D$12&\",reference:=StartOfSession)=\"&A7&\"\", \"Bar\", \"\", \"Close\",\"5\",\"0\",\"PrimaryOnly\",,,\"False\",\"T\",\"EveryTick\")","v":74.45},8.1245768449561082E-3,{"$f":"RTD(\"cqg.rtd\",,\"StudyData\", \"Close(\"&$D$12&\") when LocalYear(\"&$D$12&\")=\"&$D$5&\" and localMonth(\"&$D$12&\") =\"&$E$5&\" and LocalDay(\"&$D$12&\")=\"&$F$5&\" and Barix(\"&$D$12&\",reference:=StartOfSession)=\"&A7&\"\", \"Bar\", \"\", \"Close\",\"5\",\"0\",\"PrimaryOnly\",,,\"False\",\"T\",\"EveryTick\")","v":73.760000000000005},-5.4200542005409277E-4,{"$f":"RTD(\"cqg.rtd\",,\"StudyData\", \"Close(\"&$D$12&\") when LocalYear(\"&$D$12&\")=\"&$D$6&\" and localMonth(\"&$D$12&\") =\"&$E$6&\" and LocalDay(\"&$D$12&\")=\"&$F$6&\" and Barix(\"&$D$12&\",reference:=StartOfSession)=\"&A7&\"\", \"Bar\", \"\", \"Close\",\"5\",\"0\",\"PrimaryOnly\",,,\"False\",\"T\",\"EveryTick\")","v":72.53},-5.6210584041677626E-3,{"$f":"RTD(\"cqg.rtd\",,\"StudyData\", \"Close(\"&$D$12&\") when LocalYear(\"&$D$12&\")=\"&$D$7&\" and localMonth(\"&$D$12&\") =\"&$E$7&\" and LocalDay(\"&$D$12&\")=\"&$F$7&\" and Barix(\"&$D$12&\",reference:=StartOfSession)=\"&A7&\"\", \"Bar\", \"\", \"Close\",\"5\",\"0\",\"PrimaryOnly\",,,\"False\",\"T\",\"EveryTick\")","v":73.989999999999995},-2.023199352576284E-3,{"$f":"RTD(\"cqg.rtd\",,\"StudyData\", \"Close(\"&$D$12&\") when LocalYear(\"&$D$12&\")=\"&$D$8&\" and localMonth(\"&$D$12&\") =\"&$E$8&\" and LocalDay(\"&$D$12&\")=\"&$F$8&\" and Barix(\"&$D$12&\",reference:=StartOfSession)=\"&A7&\"\", \"Bar\", \"\", \"Close\",\"5\",\"0\",\"PrimaryOnly\",,,\"False\",\"T\",\"EveryTick\")","v":75.099999999999994},1.5688395996754079E-2,{"$f":"RTD(\"cqg.rtd\",,\"StudyData\", \"Close(\"&$D$12&\") when LocalYear(\"&$D$12&\")=\"&$D$9&\" and localMonth(\"&$D$12&\") =\"&$E$9&\" and LocalDay(\"&$D$12&\")=\"&$F$9&\" and Barix(\"&$D$12&\",reference:=StartOfSession)=\"&A7&\"\", \"Bar\", \"\", \"Close\",\"5\",\"0\",\"PrimaryOnly\",,,\"False\",\"T\",\"EveryTick\")","v":74.03},-1.6183412002697848E-3,{"$f":"RTD(\"cqg.rtd\",,\"StudyData\", \"Close(\"&$D$12&\") when LocalYear(\"&$D$12&\")=\"&$D$10&\" and localMonth(\"&$D$12&\") =\"&$E$10&\" and LocalDay(\"&$D$12&\")=\"&$F$10&\" and Barix(\"&$D$12&\",reference:=StartOfSession)=\"&A7&\"\", \"Bar\", \"\", \"Close\",\"5\",\"0\",\"PrimaryOnly\",,,\"False\",\"T\",\"EveryTick\")","v":73.73},3.8121170864533851E-3,{"$f":"RANK(AD7,$AD$1:$AD$10)+COUNTIF($AD$1:AD7,AD7)-1","v":7},"2018-07-05",{"$f":"VLOOKUP(MAX(AE2:AE81),A1:U81,21,FALSE)","v":-9.4415969786890049E-3},"",7,"2018-07-05",-9.4415969786890049E-3,null,null,"2018-07-05","2018-07-05",6,6]
[7,"08:35:00",{"$f":" RTD(\"cqg.rtd\",,\"StudyData\",$D$12, \"Bar\", \"\", \"Time\",\"D\",\"-7\",,,,,\"T\")","v":"2018-07-03"},2018,7,3,{"$f":" RTD(\"cqg.rtd\",,\"StudyData\",$D$12, \"Bar\", \"\", \"Close\",\"D\",\"-7\",,,,,\"T\")","v":74.14},{"$f":"RTD(\"cqg.rtd\",,\"StudyData\", \"Close(\"&$D$12&\") when LocalYear(\"&$D$12&\")=\"&$D$1&\" and localMonth(\"&$D$12&\") =\"&$E$1&\" and LocalDay(\"&$D$12&\")=\"&$F$1&\" and Barix(\"&$D$12&\",reference:=StartOfSession)=\"&A8&\"\", \"Bar\", \"\", \"Close\",\"5\",\"0\",\"PrimaryOnly\",,,\"False\",\"T\",\"EveryTick\")","v":70.599999999999994},3.8390445044788287E-3,{"$f":"RTD(\"cqg.rtd\",,\"StudyData\", \"Close(\"&$D$12&\") when LocalYear(\"&$D$12&\")=\"&$D$2&\" and localMonth(\"&$D$12&\") =\"&$E$2&\" and LocalDay(\"&$D$12&\")=\"&$F$2&\" and Barix(\"&$D$12&\",reference:=StartOfSession)=\"&A8&\"\", \"Bar\", \"\", \"Close\",\"5\",\"0\",\"PrimaryOnly\",,,\"False\",\"T\",\"EveryTick\")","v":70.209999999999994},-2.4154589371980918E-3,{"$f":"RTD(\"cqg.rtd\",,\"StudyData\", \"Close(\"&$D$12&\") when LocalYear(\"&$D$12&\")=\"&$D$3&\" and localMonth(\"&$D$12&\") =\"&$E$3&\" and LocalDay(\"&$D$12&\")=\"&$F$3&\" and Barix(\"&$D$12&\",reference:=StartOfSession)=\"&A8&\"\", \"Bar\", \"\", \"Close\",\"5\",\"0\",\"PrimaryOnly\",,,\"False\",\"T\",\"EveryTick\")","v":73.290000000000006},-1.1064633652678358E-2,{"$f":"RTD(\"cqg.rtd\",,\"StudyData\", \"Close(\"&$D$12&\") when LocalYear(\"&$D$12&\")=\"&$D$4&\" and localMonth(\"&$D$12&\") =\"&$E$4&\" and LocalDay(\"&$D$12&\")=\"&$F$4&\" and Barix(\"&$D$12&\",reference:=StartOfSession)=\"&A8&\"\", \"Bar\", \"\", \"Close\",\"5\",\"0\",\"PrimaryOnly\",,,\"False\",\"T\",\"EveryTick\")","v":74.569999999999993},9.7494922139471762E-3,{"$f":"RTD(\"cqg.rtd\",,\"StudyData\", \"Close(\"&$D$12&\") when LocalYear(\"&$D$12&\")=\"&$D$5&\" and localMonth(\"&$D$12&\") =\"&$E$5&\" and LocalDay(\"&$D$12&\")=\"&$F$5&\" and Barix(\"&$D$12&\",reference:=StartOfSession)=\"&A8&\"\", \"Bar\", \"\", \"Close\",\"5\",\"0\",\"PrimaryOnly\",,,\"False\",\"T\",\"EveryTick\")","v":73.72},-1.0840108401083781E-3,{"$f":"RTD(\"cqg.rtd\",,\"StudyData\", \"Close(\"&$D$12&\") when LocalYear(\"&$D$12&\")=\"&$D$6&\" and localMonth(\"&$D$12&\") =\"&$E$6&\" and LocalDay(\"&$D$12&\")=\"&$F$6&\" and Barix(\"&$D$12&\",reference:=StartOfSession)=\"&A8&\"\", \"Bar\", \"\", \"Close\",\"5\",\"0\",\"PrimaryOnly\",,,\"False\",\"T\",\"EveryTick\")","v":72.59},-4.7984644913626863E-3,{"$f":"RTD(\"cqg.rtd\",,\"StudyData\", \"Close(\"&$D$12&\") when LocalYear(\"&$D$12&\")=\"&$D$7&\" and localMonth(\"&$D$12&\") =\"&$E$7&\" and LocalDay(\"&$D$12&\")=\"&$F$7&\" and Barix(\"&$D$12&\",reference:=StartOfSession)=\"&A8&\"\", \"Bar\", \"\", \"Close\",\"5\",\"0\",\"PrimaryOnly\",,,\"False\",\"T\",\"EveryTick\")","v":73.78},-4.8556784461828897E-3,{"$f":"RTD(\"cqg.rtd\",,\"StudyData\", \"Close(\"&$D$12&\") when LocalYear(\"&$D$12&\")=\"&$D$8&\" and localMonth(\"&$D$12&\") =\"&$E$8&\" and LocalDay(\"&$D$12&\")=\"&$F$8&\" and Barix(\"&$D$12&\",reference:=StartOfSession)=\"&A8&\"\", \"Bar\", \"\", \"Close\",\"5\",\"0\",\"PrimaryOnly\",,,\"False\",\"T\",\"EveryTick\")","v":75.13},1.6094130375980495E-2,{"$f":"RTD(\"cqg.rtd\",,\"StudyData\", \"Close(\"&$D$12&\") when LocalYear(\"&$D$12&\")=\"&$D$9&\" and localMonth(\"&$D$12&\") =\"&$E$9&\" and LocalDay(\"&$D$12&\")=\"&$F$9&\" and Barix(\"&$D$12&\",reference:=StartOfSession)=\"&A8&\"\", \"Bar\", \"\", \"Close\",\"5\",\"0\",\"PrimaryOnly\",,,\"False\",\"T\",\"EveryTick\")","v":73.7},-6.0687795010115012E-3,{"$f":"RTD(\"cqg.rtd\",,\"StudyData\", \"Close(\"&$D$12&\") when LocalYear(\"&$D$12&\")=\"&$D$10&\" and localMonth(\"&$D$12&\") =\"&$E$10&\" and LocalDay(\"&$D$12&\")=\"&$F$10&\" and Barix(\"&$D$12&\",reference:=StartOfSession)=\"&A8&\"\", \"Bar\", \"\", \"Close\",\"5\",\"0\",\"PrimaryOnly\",,,\"False\",\"T\",\"EveryTick\")","v":73.84},5.309734513274344E-3,{"$f":"RANK(AD8,$AD$1:$AD$10)+COUNTIF($AD$1:AD8,AD8)-1","v":9},"2018-07-03",{"$f":"VLOOKUP(MAX(AE2:AE81),A1:W81,23,FALSE)","v":-1.244252096294295E-2},"",8,"2018-07-12",-9.661835748792166E-3,null,null,"2018-07-12","2018-07-03",7,1]
[8,"08:40:00",{"$f":" RTD(\"cqg.rtd\",,\"StudyData\",$D$12, \"Bar\", \"\", \"Time\",\"D\",\"-8\",,,,,\"T\")","v":"2018-07-02"},2018,7,2,{"$f":" RTD(\"cqg.rtd\",,\"StudyData\",$D$12, \"Bar\", \"\", \"Close\",\"D\",\"-8\",,,,,\"T\")","v":73.94},{"$f":"RTD(\"cqg.rtd\",,\"StudyData\", \"Close(\"&$D$12&\") when LocalYear(\"&$D$12&\")=\"&$D$1&\" and localMonth(\"&$D$12&\") =\"&$E$1&\" and LocalDay(\"&$D$12&\")=\"&$F$1&\" and Barix(\"&$D$12&\",reference:=StartOfSession)=\"&A9&\"\", \"Bar\", \"\", \"Close\",\"5\",\"0\",\"PrimaryOnly\",,,\"False\",\"T\",\"EveryTick\")","v":70.58},3.5546708374804494E-3,{"$f":"RTD(\"cqg.rtd\",,\"StudyData\", \"Close(\"&$D$12&\") when LocalYear(\"&$D$12&\")=\"&$D$2&\" and localMonth(\"&$D$12&\") =\"&$E$2&\" and LocalDay(\"&$D$12&\")=\"&$F$2&\" and Barix(\"&$D$12&\",reference:=StartOfSession)=\"&A9&\"\", \"Bar\", \"\", \"Close\",\"5\",\"0\",\"PrimaryOnly\",,,\"False\",\"T\",\"EveryTick\")","v":70.06},-4.5467462347256781E-3,{"$f":"RTD(\"cqg.rtd\",,\"StudyData\", \"Close(\"&$D$12&\") when LocalYear(\"&$D$12&\")=\"&$D$3&\" and localMonth(\"&$D$12&\") =\"&$E$3&\" and LocalDay(\"&$D$12&\")=\"&$F$3&\" and Barix(\"&$D$12&\",reference:=StartOfSession)=\"&A9&\"\", \"Bar\", \"\", \"Close\",\"5\",\"0\",\"PrimaryOnly\",,,\"False\",\"T\",\"EveryTick\")","v":73.260000000000005},-1.1469437322898318E-2,{"$f":"RTD(\"cqg.rtd\",,\"StudyData\", \"Close(\"&$D$12&\") when LocalYear(\"&$D$12&\")=\"&$D$4&\" and localMonth(\"&$D$12&\") =\"&$E$4&\" and LocalDay(\"&$D$12&\")=\"&$F$4&\" and Barix(\"&$D$12&\",reference:=StartOfSession)=\"&A9&\"\", \"Bar\", \"\", \"Close\",\"5\",\"0\",\"PrimaryOnly\",,,\"False\",\"T\",\"EveryTick\")","v":74.63},1.0561949898442806E-2,{"$f":"RTD(\"cqg.rtd\",,\"StudyData\", \"Close(\"&$D$12&\") when LocalYear(\"&$D$12&\")=\"&$D$5&\" and localMonth(\"&$D$12&\") =\"&$E$5&\" and LocalDay(\"&$D$12&\")=\"&$F$5&\" and Barix(\"&$D$12&\",reference:=StartOfSession)=\"&A9&\"\", \"Bar\", \"\", \"Close\",\"5\",\"0\",\"PrimaryOnly\",,,\"False\",\"T\",\"EveryTick\")","v":73.680000000000007},-1.6260162601624707E-3,{"$f":"RTD(\"cqg.rtd\",,\"StudyData\", \"Close(\"&$D$12&\") when LocalYear(\"&$D$12&\")=\"&$D$6&\" and localMonth(\"&$D$12&\") =\"&$E$6&\" and LocalDay(\"&$D$12&\")=\"&$F$6&\" and Barix(\"&$D$12&\",reference:=StartOfSession)=\"&A9&\"\", \"Bar\", \"\", \"Close\",\"5\",\"0\",\"PrimaryOnly\",,,\"False\",\"T\",\"EveryTick\")","v":72.61},-4.524266520427726E-3,{"$f":"RTD(\"cqg.rtd\",,\"StudyData\", \"Close(\"&$D$12&\") when LocalYear(\"&$D$12&\")=\"&$D$7&\" and localMonth(\"&$D$12&\") =\"&$E$7&\" and LocalDay(\"&$D$12&\")=\"&$F$7&\" and Barix(\"&$D$12&\",reference:=StartOfSession)=\"&A9&\"\", \"Bar\", \"\", \"Close\",\"5\",\"0\",\"PrimaryOnly\",,,\"False\",\"T\",\"EveryTick\")","v":73.86},-3.7766387914756022E-3,{"$f":"RTD(\"cqg.rtd\",,\"StudyData\", \"Close(\"&$D$12&\") when LocalYear(\"&$D$12&\")=\"&$D$8&\" and localMonth(\"&$D$12&\") =\"&$E$8&\" and LocalDay(\"&$D$12&\")=\"&$F$8&\" and Barix(\"&$D$12&\",reference:=StartOfSession)=\"&A9&\"\", \"Bar\", \"\", \"Close\",\"5\",\"0\",\"PrimaryOnly\",,,\"False\",\"T\",\"EveryTick\")","v":75.13},1.6094130375980495E-2,{"$f":"RTD(\"cqg.rtd\",,\"StudyData\", \"Close(\"&$D$12&\") when LocalYear(\"&$D$12&\")=\"&$D$9&\" and localMonth(\"&$D$12&\") =\"&$E$9&\" and LocalDay(\"&$D$12&\")=\"&$F$9&\" and Barix(\"&$D$12&\",reference:=StartOfSession)=\"&A9&\"\", \"Bar\", \"\", \"Close\",\"5\",\"0\",\"PrimaryOnly\",,,\"False\",\"T\",\"EveryTick\")","v":73.73},-5.6641942009440548E-3,{"$f":"RTD(\"cqg.rtd\",,\"StudyData\", \"Close(\"&$D$12&\") when LocalYear(\"&$D$12&\")=\"&$D$10&\" and localMonth(\"&$D$12&\") =\"&$E$10&\" and LocalDay(\"&$D$12&\")=\"&$F$10&\" and Barix(\"&$D$12&\",reference:=StartOfSession)=\"&A9&\"\", \"Bar\", \"\", \"Close\",\"5\",\"0\",\"PrimaryOnly\",,,\"False\",\"T\",\"EveryTick\")","v":73.849999999999994},5.4458815520761258E-3,{"$f":"RANK(AD9,$AD$1:$AD$10)+COUNTIF($AD$1:AD9,AD9)-1","v":6},"2018-07-02",{"$f":"VLOOKUP(MAX(AE2:AE81),A1:Y81,25,FALSE)","v":-6.4733648010789476E-3},"",9,"2018-07-03",-1.244252096294295E-2,null,null,"2018-07-03","2018-07-02",8,7]
[9,"08:45:00",{"$f":" RTD(\"cqg.rtd\",,\"StudyData\",$D$12, \"Bar\", \"\", \"Time\",\"D\",\"-9\",,,,,\"T\")","v":"2018-06-29"},2018,6,29,{"$f":" RTD(\"cqg.rtd\",,\"StudyData\",$D$12, \"Bar\", \"\", \"Close\",\"D\",\"-9\",,,,,\"T\")","v":74.150000000000006},{"$f":"RTD(\"cqg.rtd\",,\"StudyData\", \"Close(\"&$D$12&\") when LocalYear(\"&$D$12&\")=\"&$D$1&\" and localMonth(\"&$D$12&\") =\"&$E$1&\" and LocalDay(\"&$D$12&\")=\"&$F$1&\" and Barix(\"&$D$12&\",reference:=StartOfSession)=\"&A10&\"\", \"Bar\", \"\", \"Close\",\"5\",\"0\",\"PrimaryOnly\",,,\"False\",\"T\",\"EveryTick\")","v":70.66},4.6921655054741693E-3,{"$f":"RTD(\"cqg.rtd\",,\"StudyData\", \"Close(\"&$D$12&\") when LocalYear(\"&$D$12&\")=\"&$D$2&\" and localMonth(\"&$D$12&\") =\"&$E$2&\" and LocalDay(\"&$D$12&\")=\"&$F$2&\" and Barix(\"&$D$12&\",reference:=StartOfSession)=\"&A10&\"\", \"Bar\", \"\", \"Close\",\"5\",\"0\",\"PrimaryOnly\",,,\"False\",\"T\",\"EveryTick\")","v":70.36},-2.8417163967030436E-4,{"$f":"RTD(\"cqg.rtd\",,\"StudyData\", \"Close(\"&$D$12&\") when LocalYear(\"&$D$12&\")=\"&$D$3&\" and localMonth(\"&$D$12&\") =\"&$E$3&\" and LocalDay(\"&$D$12&\")=\"&$F$3&\" and Barix(\"&$D$12&\",reference:=StartOfSession)=\"&A10&\"\", \"Bar\", \"\", \"Close\",\"5\",\"0\",\"PrimaryOnly\",,,\"False\",\"T\",\"EveryTick\")","v":73.31},-1.079476453919845E-2,{"$f":"RTD(\"cqg.rtd\",,\"StudyData\", \"Close(\"&$D$12&\") when LocalYear(\"&$D$12&\")=\"&$D$4&\" and localMonth(\"&$D$12&\") =\"&$E$4&\" and LocalDay(\"&$D$12&\")=\"&$F$4&\" and Barix(\"&$D$12&\",reference:=StartOfSession)=\"&A10&\"\", \"Bar\", \"\", \"Close\",\"5\",\"0\",\"PrimaryOnly\",,,\"False\",\"T\",\"EveryTick\")","v":74.59},1.0020311442112514E-2,{"$f":"RTD(\"cqg.rtd\",,\"StudyData\", \"Close(\"&$D$12&\") when LocalYear(\"&$D$12&\")=\"&$D$5&\" and localMonth(\"&$D$12&\") =\"&$E$5&\" and LocalDay(\"&$D$12&\")=\"&$F$5&\" and Barix(\"&$D$12&\",reference:=StartOfSession)=\"&A10&\"\", \"Bar\", \"\", \"Close\",\"5\",\"0\",\"PrimaryOnly\",,,\"False\",\"T\",\"EveryTick\")","v":73.709999999999994},-1.2195121951219974E-3,{"$f":"RTD(\"cqg.rtd\",,\"StudyData\", \"Close(\"&$D$12&\") when LocalYear(\"&$D$12&\")=\"&$D$6&\" and localMonth(\"&$D$12&\") =\"&$E$6&\" and LocalDay(\"&$D$12&\")=\"&$F$6&\" and Barix(\"&$D$12&\",reference:=StartOfSession)=\"&A10&\"\", \"Bar\", \"\", \"Close\",\"5\",\"0\",\"PrimaryOnly\",,,\"False\",\"T\",\"EveryTick\")","v":72.650000000000006},-3.9758705785576101E-3,{"$f":"RTD(\"cqg.rtd\",,\"StudyData\", \"Close(\"&$D$12&\") when LocalYear(\"&$D$12&\")=\"&$D$7&\" and localMonth(\"&$D$12&\") =\"&$E$7&\" and LocalDay(\"&$D$12&\")=\"&$F$7&\" and Barix(\"&$D$12&\",reference:=StartOfSession)=\"&A10&\"\", \"Bar\", \"\", \"Close\",\"5\",\"0\",\"PrimaryOnly\",,,\"False\",\"T\",\"EveryTick\")","v":73.86},-3.7766387914756022E-3,{"$f":"RTD(\"cqg.rtd\",,\"StudyData\", \"Close(\"&$D$12&\") when LocalYear(\"&$D$12&\")=\"&$D$8&\" and localMonth(\"&$D$12&\") =\"&$E$8&\" and LocalDay(\"&$D$12&\")=\"&$F$8&\" and Barix(\"&$D$12&\",reference:=StartOfSession)=\"&A10&\"\", \"Bar\", \"\", \"Close\",\"5\",\"0\",\"PrimaryOnly\",,,\"False\",\"T\",\"EveryTick\")","v":75.2},1.7040843927508861E-2,{"$f":"RTD(\"cqg.rtd\",,\"StudyData\", \"Close(\"&$D$12&\") when LocalYear(\"&$D$12&\")=\"&$D$9&\" and localMonth(\"&$D$12&\") =\"&$E$9&\" and LocalDay(\"&$D$12&\")=\"&$F$9&\" and Barix(\"&$D$12&\",reference:=StartOfSession)=\"&A10&\"\", \"Bar\", \"\", \"Close\",\"5\",\"0\",\"PrimaryOnly\",,,\"False\",\"T\",\"EveryTick\")","v":73.760000000000005},-5.2596089008766084E-3,{"$f":"RTD(\"cqg.rtd\",,\"StudyData\", \"Close(\"&$D$12&\") when LocalYear(\"&$D$12&\")=\"&$D$10&\" and localMonth(\"&$D$12&\") =\"&$E$10&\" and LocalDay(\"&$D$12&\")=\"&$F$10&\" and Barix(\"&$D$12&\",reference:=StartOfSession)=\"&A10&\"\", \"Bar\", \"\", \"Close\",\"5\",\"0\",\"PrimaryOnly\",,,\"False\",\"T\",\"EveryTick\")","v":74.069999999999993},8.4411164057180445E-3,{"$f":"RANK(AD10,$AD$1:$AD$10)+COUNTIF($AD$1:AD10,AD10)-1","v":2},"2018-06-29",{"$f":"VLOOKUP(MAX(AE2:AE81),A1:AA81,27,FALSE)","v":9.5302927161334625E-3},{"$f":"IF(AND(H9<>\"\",H10<>\"\",H11=\"\"),A10,\"\")","v":""},10,"2018-07-11",-2.0779921737957174E-2,null,null,"2018-07-11","2018-06-29",9,2]
[10,"08:50:00",{"$f":" RTD(\"cqg.rtd\",,\"StudyData\",$D$12, \"Bar\", \"\", \"Time\",\"D\",\"-10\",,,,,\"T\")","v":"2018-06-28"},2018,6,28,{"$f":" RTD(\"cqg.rtd\",,\"StudyData\",$D$12, \"Bar\", \"\", \"Close\",\"D\",\"-10\",,,,,\"T\")","v":73.45},{"$f":"RTD(\"cqg.rtd\",,\"StudyData\", \"Close(\"&$D$12&\") when LocalYear(\"&$D$12&\")=\"&$D$1&\" and localMonth(\"&$D$12&\") =\"&$E$1&\" and LocalDay(\"&$D$12&\")=\"&$F$1&\" and Barix(\"&$D$12&\",reference:=StartOfSession)=\"&A11&\"\", \"Bar\", \"\", \"Close\",\"5\",\"0\",\"PrimaryOnly\",,,\"False\",\"T\",\"EveryTick\")","v":70.53},2.8437366699843999E-3,{"$f":"RTD(\"cqg.rtd\",,\"StudyData\", \"Close(\"&$D$12&\") when LocalYear(\"&$D$12&\")=\"&$D$2&\" and localMonth(\"&$D$12&\") =\"&$E$2&\" and LocalDay(\"&$D$12&\")=\"&$F$2&\" and Barix(\"&$D$12&\",reference:=StartOfSession)=\"&A11&\"\", \"Bar\", \"\", \"Close\",\"5\",\"0\",\"PrimaryOnly\",,,\"False\",\"T\",\"EveryTick\")","v":70.569999999999993},2.6996305768683965E-3,{"$f":"RTD(\"cqg.rtd\",,\"StudyData\", \"Close(\"&$D$12&\") when LocalYear(\"&$D$12&\")=\"&$D$3&\" and localMonth(\"&$D$12&\") =\"&$E$3&\" and LocalDay(\"&$D$12&\")=\"&$F$3&\" and Barix(\"&$D$12&\",reference:=StartOfSession)=\"&A11&\"\", \"Bar\", \"\", \"Close\",\"5\",\"0\",\"PrimaryOnly\",,,\"False\",\"T\",\"EveryTick\")","v":73.31},-1.079476453919845E-2,{"$f":"RTD(\"cqg.rtd\",,\"StudyData\", \"Close(\"&$D$12&\") when LocalYear(\"&$D$12&\")=\"&$D$4&\" and localMonth(\"&$D$12&\") =\"&$E$4&\" and LocalDay(\"&$D$12&\")=\"&$F$4&\" and Barix(\"&$D$12&\",reference:=StartOfSession)=\"&A11&\"\", \"Bar\", \"\", \"Close\",\"5\",\"0\",\"PrimaryOnly\",,,\"False\",\"T\",\"EveryTick\")","v":74.53},9.2078537576168844E-3,{"$f":"RTD(\"cqg.rtd\",,\"StudyData\", \"Close(\"&$D$12&\") when LocalYear(\"&$D$12&\")=\"&$D$5&\" and localMonth(\"&$D$12&\") =\"&$E$5&\" and LocalDay(\"&$D$12&\")=\"&$F$5&\" and Barix(\"&$D$12&\",reference:=StartOfSession)=\"&A11&\"\", \"Bar\", \"\", \"Close\",\"5\",\"0\",\"PrimaryOnly\",,,\"False\",\"T\",\"EveryTick\")","v":73.63},-2.3035230352303755E-3,{"$f":"RTD(\"cqg.rtd\",,\"StudyData\", \"Close(\"&$D$12&\") when LocalYear(\"&$D$12&\")=\"&$D$6&\" and localMonth(\"&$D$12&\") =\"&$E$6&\" and LocalDay(\"&$D$12&\")=\"&$F$6&\" and Barix(\"&$D$12&\",reference:=StartOfSession)=\"&A11&\"\", \"Bar\", \"\", \"Close\",\"5\",\"0\",\"PrimaryOnly\",,,\"False\",\"T\",\"EveryTick\")","v":72.67},-3.7016726076226493E-3,{"$f":"RTD(\"cqg.rtd\",,\"StudyData\", \"Close(\"&$D$12&\") when LocalYear(\"&$D$12&\")=\"&$D$7&\" and localMonth(\"&$D$12&\") =\"&$E$7&\" and LocalDay(\"&$D$12&\")=\"&$F$7&\" and Barix(\"&$D$12&\",reference:=StartOfSession)=\"&A11&\"\", \"Bar\", \"\", \"Close\",\"5\",\"0\",\"PrimaryOnly\",,,\"False\",\"T\",\"EveryTick\")","v":73.92},-2.9673590504450884E-3,{"$f":"RTD(\"cqg.rtd\",,\"StudyData\", \"Close(\"&$D$12&\") when LocalYear(\"&$D$12&\")=\"&$D$8&\" and localMonth(\"&$D$12&\") =\"&$E$8&\" and LocalDay(\"&$D$12&\")=\"&$F$8&\" and Barix(\"&$D$12&\",reference:=StartOfSession)=\"&A11&\"\", \"Bar\", \"\", \"Close\",\"5\",\"0\",\"PrimaryOnly\",,,\"False\",\"T\",\"EveryTick\")","v":75.239999999999995},1.7581823099810618E-2,{"$f":"RTD(\"cqg.rtd\",,\"StudyData\", \"Close(\"&$D$12&\") when LocalYear(\"&$D$12&\")=\"&$D$9&\" and localMonth(\"&$D$12&\") =\"&$E$9&\" and LocalDay(\"&$D$12&\")=\"&$F$9&\" and Barix(\"&$D$12&\",reference:=StartOfSession)=\"&A11&\"\", \"Bar\", \"\", \"Close\",\"5\",\"0\",\"PrimaryOnly\",,,\"False\",\"T\",\"EveryTick\")","v":73.81},-4.5853000674309294E-3,{"$f":"RTD(\"cqg.rtd\",,\"StudyData\", \"Close(\"&$D$12&\") when LocalYear(\"&$D$12&\")=\"&$D$10&\" and localMonth(\"&$D$12&\") =\"&$E$10&\" and LocalDay(\"&$D$12&\")=\"&$F$10&\" and Barix(\"&$D$12&\",reference:=StartOfSession)=\"&A11&\"\", \"Bar\", \"\", \"Close\",\"5\",\"0\",\"PrimaryOnly\",,,\"False\",\"T\",\"EveryTick\")","v":74.239999999999995},1.0755616065350471E-2,null,null,null,""]
[11,"08:55:00",null,{"$f":"MainDisplay!R5","v":"CLE"},null,null,null,{"$f":"RTD(\"cqg.rtd\",,\"StudyData\", \"Close(\"&$D$12&\") when LocalYear(\"&$D$12&\")=\"&$D$1&\" and localMonth(\"&$D$12&\") =\"&$E$1&\" and LocalDay(\"&$D$12&\")=\"&$F$1&\" and Barix(\"&$D$12&\",reference:=StartOfSession)=\"&A12&\"\", \"Bar\", \"\", \"Close\",\"5\",\"0\",\"PrimaryOnly\",,,\"False\",\"T\",\"EveryTick\")","v":70.48},2.1328025024883505E-3,{"$f":"RTD(\"cqg.rtd\",,\"StudyData\", \"Close(\"&$D$12&\") when LocalYear(\"&$D$12&\")=\"&$D$2&\" and localMonth(\"&$D$12&\") =\"&$E$2&\" and LocalDay(\"&$D$12&\")=\"&$F$2&\" and Barix(\"&$D$12&\",reference:=StartOfSession)=\"&A12&\"\", \"Bar\", \"\", \"Close\",\"5\",\"0\",\"PrimaryOnly\",,,\"False\",\"T\",\"EveryTick\")","v":70.459999999999994},1.1366865586814195E-3,{"$f":"RTD(\"cqg.rtd\",,\"StudyData\", \"Close(\"&$D$12&\") when LocalYear(\"&$D$12&\")=\"&$D$3&\" and localMonth(\"&$D$12&\") =\"&$E$3&\" and LocalDay(\"&$D$12&\")=\"&$F$3&\" and Barix(\"&$D$12&\",reference:=StartOfSession)=\"&A12&\"\", \"Bar\", \"\", \"Close\",\"5\",\"0\",\"PrimaryOnly\",,,\"False\",\"T\",\"EveryTick\")","v":73.37},-9.9851571987585337E-3,{"$f":"RTD(\"cqg.rtd\",,\"StudyData\", \"Close(\"&$D$12&\") when LocalYear(\"&$D$12&\")=\"&$D$4&\" and localMonth(\"&$D$12&\") =\"&$E$4&\" and LocalDay(\"&$D$12&\")=\"&$F$4&\" and Barix(\"&$D$12&\",reference:=StartOfSession)=\"&A12&\"\", \"Bar\", \"\", \"Close\",\"5\",\"0\",\"PrimaryOnly\",,,\"False\",\"T\",\"EveryTick\")","v":74.47},8.3953960731212533E-3,{"$f":"RTD(\"cqg.rtd\",,\"StudyData\", \"Close(\"&$D$12&\") when LocalYear(\"&$D$12&\")=\"&$D$5&\" and localMonth(\"&$D$12&\") =\"&$E$5&\" and LocalDay(\"&$D$12&\")=\"&$F$5&\" and Barix(\"&$D$12&\",reference:=StartOfSession)=\"&A12&\"\", \"Bar\", \"\", \"Close\",\"5\",\"0\",\"PrimaryOnly\",,,\"False\",\"T\",\"EveryTick\")","v":73.69},-1.4905149051490439E-3,{"$f":"RTD(\"cqg.rtd\",,\"StudyData\", \"Close(\"&$D$12&\") when LocalYear(\"&$D$12&\")=\"&$D$6&\" and localMonth(\"&$D$12&\") =\"&$E$6&\" and LocalDay(\"&$D$12&\")=\"&$F$6&\" and Barix(\"&$D$12&\",reference:=StartOfSession)=\"&A12&\"\", \"Bar\", \"\", \"Close\",\"5\",\"0\",\"PrimaryOnly\",,,\"False\",\"T\",\"EveryTick\")","v":72.73},-2.8790786948175726E-3,{"$f":"RTD(\"cqg.rtd\",,\"StudyData\", \"Close(\"&$D$12&\") when LocalYear(\"&$D$12&\")=\"&$D$7&\" and localMonth(\"&$D$12&\") =\"&$E$7&\" and LocalDay(\"&$D$12&\")=\"&$F$7&\" and Barix(\"&$D$12&\",reference:=StartOfSession)=\"&A12&\"\", \"Bar\", \"\", \"Close\",\"5\",\"0\",\"PrimaryOnly\",,,\"False\",\"T\",\"EveryTick\")","v":73.989999999999995},-2.023199352576284E-3,{"$f":"RTD(\"cqg.rtd\",,\"StudyData\", \"Close(\"&$D$12&\") when LocalYear(\"&$D$12&\")=\"&$D$8&\" and localMonth(\"&$D$12&\") =\"&$E$8&\" and LocalDay(\"&$D$12&\")=\"&$F$8&\" and Barix(\"&$D$12&\",reference:=StartOfSession)=\"&A12&\"\", \"Bar\", \"\", \"Close\",\"5\",\"0\",\"PrimaryOnly\",,,\"False\",\"T\",\"EveryTick\")","v":74.67},9.8728698945091155E-3,{"$f":"RTD(\"cqg.rtd\",,\"StudyData\", \"Close(\"&$D$12&\") when LocalYear(\"&$D$12&\")=\"&$D$9&\" and localMonth(\"&$D$12&\") =\"&$E$9&\" and LocalDay(\"&$D$12&\")=\"&$F$9&\" and Barix(\"&$D$12&\",reference:=StartOfSession)=\"&A12&\"\", \"Bar\", \"\", \"Close\",\"5\",\"0\",\"PrimaryOnly\",,,\"False\",\"T\",\"EveryTick\")","v":73.77},-5.1247471341875879E-3,{"$f":"RTD(\"cqg.rtd\",,\"StudyData\", \"Close(\"&$D$12&\") when LocalYear(\"&$D$12&\")=\"&$D$10&\" and localMonth(\"&$D$12&\") =\"&$E$10&\" and LocalDay(\"&$D$12&\")=\"&$F$10&\" and Barix(\"&$D$12&\",reference:=StartOfSession)=\"&A12&\"\", \"Bar\", \"\", \"Close\",\"5\",\"0\",\"PrimaryOnly\",,,\"False\",\"T\",\"EveryTick\")","v":74.12},9.1218515997277295E-3,null,{"$f":"VLOOKUP(MAX(AE2:AE81),A1:B81,2,FALSE)","v":"10:25:00"},null,""]
[12,"09:00:00",null,{"$f":"RTD(\"cqg.rtd\", ,\"ContractData\",D12, \"LastQuoteToday\",, \"T\")","v":71.11},null,null,{"$f":"C1","v":"2018-07-13"},{"$f":"RTD(\"cqg.rtd\",,\"StudyData\", \"Close(\"&$D$12&\") when LocalYear(\"&$D$12&\")=\"&$D$1&\" and localMonth(\"&$D$12&\") =\"&$E$1&\" and LocalDay(\"&$D$12&\")=\"&$F$1&\" and Barix(\"&$D$12&\",reference:=StartOfSession)=\"&A13&\"\", \"Bar\", \"\", \"Close\",\"5\",\"0\",\"PrimaryOnly\",,,\"False\",\"T\",\"EveryTick\")","v":70.540000000000006},2.9859235034836906E-3,{"$f":"RTD(\"cqg.rtd\",,\"StudyData\", \"Close(\"&$D$12&\") when LocalYear(\"&$D$12&\")=\"&$D$2&\" and localMonth(\"&$D$12&\") =\"&$E$2&\" and LocalDay(\"&$D$12&\")=\"&$F$2&\" and Barix(\"&$D$12&\",reference:=StartOfSession)=\"&A13&\"\", \"Bar\", \"\", \"Close\",\"5\",\"0\",\"PrimaryOnly\",,,\"False\",\"T\",\"EveryTick\")","v":70.73},4.9730036942314372E-3,{"$f":"RTD(\"cqg.rtd\",,\"StudyData\", \"Close(\"&$D$12&\") when LocalYear(\"&$D$12&\")=\"&$D$3&\" and localMonth(\"&$D$12&\") =\"&$E$3&\" and LocalDay(\"&$D$12&\")=\"&$F$3&\" and Barix(\"&$D$12&\",reference:=StartOfSession)=\"&A13&\"\", \"Bar\", \"\", \"Close\",\"5\",\"0\",\"PrimaryOnly\",,,\"False\",\"T\",\"EveryTick\")","v":73.45},-8.9056807448387072E-3,{"$f":"RTD(\"cqg.rtd\",,\"StudyData\", \"Close(\"&$D$12&\") when LocalYear(\"&$D$12&\")=\"&$D$4&\" and localMonth(\"&$D$12&\") =\"&$E$4&\" and LocalDay(\"&$D$12&\")=\"&$F$4&\" and Barix(\"&$D$12&\",reference:=StartOfSession)=\"&A13&\"\", \"Bar\", \"\", \"Close\",\"5\",\"0\",\"PrimaryOnly\",,,\"False\",\"T\",\"EveryTick\")","v":74.33},6.4996614759648477E-3,{"$f":"RTD(\"cqg.rtd\",,\"StudyData\", \"Close(\"&$D$12&\") when LocalYear(\"&$D$12&\")=\"&$D$5&\" and localMonth(\"&$D$12&\") =\"&$E$5&\" and LocalDay(\"&$D$12&\")=\"&$F$5&\" and Barix(\"&$D$12&\",reference:=StartOfSession)=\"&A13&\"\", \"Bar\", \"\", \"Close\",\"5\",\"0\",\"PrimaryOnly\",,,\"False\",\"T\",\"EveryTick\")","v":73.180000000000007},-8.4010840108399779E-3,{"$f":"RTD(\"cqg.rtd\",,\"StudyData\", \"Close(\"&$D$12&\") when LocalYear(\"&$D$12&\")=\"&$D$6&\" and localMonth(\"&$D$12&\") =\"&$E$6&\" and LocalDay(\"&$D$12&\")=\"&$F$6&\" and Barix(\"&$D$12&\",reference:=StartOfSession)=\"&A13&\"\", \"Bar\", \"\", \"Close\",\"5\",\"0\",\"PrimaryOnly\",,,\"False\",\"T\",\"EveryTick\")","v":72.459999999999994},-6.5807513024404166E-3,{"$f":"RTD(\"cqg.rtd\",,\"StudyData\", \"Close(\"&$D$12&\") when LocalYear(\"&$D$12&\")=\"&$D$7&\" and localMonth(\"&$D$12&\") =\"&$E$7&\" and LocalDay(\"&$D$12&\")=\"&$F$7&\" and Barix(\"&$D$12&\",reference:=StartOfSession)=\"&A13&\"\", \"Bar\", \"\", \"Close\",\"5\",\"0\",\"PrimaryOnly\",,,\"False\",\"T\",\"EveryTick\")","v":73.91},-3.1022390072835714E-3,{"$f":"RTD(\"cqg.rtd\",,\"StudyData\", \"Close(\"&$D$12&\") when LocalYear(\"&$D$12&\")=\"&$D$8&\" and localMonth(\"&$D$12&\") =\"&$E$8&\" and LocalDay(\"&$D$12&\")=\"&$F$8&\" and Barix(\"&$D$12&\",reference:=StartOfSession)=\"&A13&\"\", \"Bar\", \"\", \"Close\",\"5\",\"0\",\"PrimaryOnly\",,,\"False\",\"T\",\"EveryTick\")","v":74.11},2.2991614822829554E-3,{"$f":"RTD(\"cqg.rtd\",,\"StudyData\", \"Close(\"&$D$12&\") when LocalYear(\"&$D$12&\")=\"&$D$9&\" and localMonth(\"&$D$12&\") =\"&$E$9&\" and LocalDay(\"&$D$12&\")=\"&$F$9&\" and Barix(\"&$D$12&\",reference:=StartOfSession)=\"&A13&\"\", \"Bar\", \"\", \"Close\",\"5\",\"0\",\"PrimaryOnly\",,,\"False\",\"T\",\"EveryTick\")","v":73.540000000000006},-8.2265677680377538E-3,{"$f":"RTD(\"cqg.rtd\",,\"StudyData\", \"Close(\"&$D$12&\") when LocalYear(\"&$D$12&\")=\"&$D$10&\" and localMonth(\"&$D$12&\") =\"&$E$10&\" and LocalDay(\"&$D$12&\")=\"&$F$10&\" and Barix(\"&$D$12&\",reference:=StartOfSession)=\"&A13&\"\", \"Bar\", \"\", \"Close\",\"5\",\"0\",\"PrimaryOnly\",,,\"False\",\"T\",\"EveryTick\")","v":74.069999999999993},8.4411164057180445E-3,null,null,null,""]
[13,"09:05:00",null,{"$f":"RTD(\"cqg.rtd\", ,\"ContractData\",D12, \"LongDescription\",, \"T\")","v":"Crude Light (Globex), Aug 18"},null,null,{"$f":"C2","v":"2018-07-12"},{"$f":"RTD(\"cqg.rtd\",,\"StudyData\", \"Close(\"&$D$12&\") when LocalYear(\"&$D$12&\")=\"&$D$1&\" and localMonth(\"&$D$12&\") =\"&$E$1&\" and LocalDay(\"&$D$12&\")=\"&$F$1&\" and Barix(\"&$D$12&\",reference:=StartOfSession)=\"&A14&\"\", \"Bar\", \"\", \"Close\",\"5\",\"0\",\"PrimaryOnly\",,,\"False\",\"T\",\"EveryTick\")","v":70.47},1.9906156689890597E-3,{"$f":"RTD(\"cqg.rtd\",,\"StudyData\", \"Close(\"&$D$12&\") when LocalYear(\"&$D$12&\")=\"&$D$2&\" and localMonth(\"&$D$12&\") =\"&$E$2&\" and LocalDay(\"&$D$12&\")=\"&$F$2&\" and Barix(\"&$D$12&\",reference:=StartOfSession)=\"&A14&\"\", \"Bar\", \"\", \"Close\",\"5\",\"0\",\"PrimaryOnly\",,,\"False\",\"T\",\"EveryTick\")","v":70.59},2.9838022165389025E-3,{"$f":"RTD(\"cqg.rtd\",,\"StudyData\", \"Close(\"&$D$12&\") when LocalYear(\"&$D$12&\")=\"&$D$3&\" and localMonth(\"&$D$12&\") =\"&$E$3&\" and LocalDay(\"&$D$12&\")=\"&$F$3&\" and Barix(\"&$D$12&\",reference:=StartOfSession)=\"&A14&\"\", \"Bar\", \"\", \"Close\",\"5\",\"0\",\"PrimaryOnly\",,,\"False\",\"T\",\"EveryTick\")","v":73.42},-9.3104844150586653E-3,{"$f":"RTD(\"cqg.rtd\",,\"StudyData\", \"Close(\"&$D$12&\") when LocalYear(\"&$D$12&\")=\"&$D$4&\" and localMonth(\"&$D$12&\") =\"&$E$4&\" and LocalDay(\"&$D$12&\")=\"&$F$4&\" and Barix(\"&$D$12&\",reference:=StartOfSession)=\"&A14&\"\", \"Bar\", \"\", \"Close\",\"5\",\"0\",\"PrimaryOnly\",,,\"False\",\"T\",\"EveryTick\")","v":74.38},7.1767095463778092E-3,{"$f":"RTD(\"cqg.rtd\",,\"StudyData\", \"Close(\"&$D$12&\") when LocalYear(\"&$D$12&\")=\"&$D$5&\" and localMonth(\"&$D$12&\") =\"&$E$5&\" and LocalDay(\"&$D$12&\")=\"&$F$5&\" and Barix(\"&$D$12&\",reference:=StartOfSession)=\"&A14&\"\", \"Bar\", \"\", \"Close\",\"5\",\"0\",\"PrimaryOnly\",,,\"False\",\"T\",\"EveryTick\")","v":73.069999999999993},-9.8915989159892147E-3,{"$f":"RTD(\"cqg.rtd\",,\"StudyData\", \"Close(\"&$D$12&\") when LocalYear(\"&$D$12&\")=\"&$D$6&\" and localMonth(\"&$D$12&\") =\"&$E$6&\" and LocalDay(\"&$D$12&\")=\"&$F$6&\" and Barix(\"&$D$12&\",reference:=StartOfSession)=\"&A14&\"\", \"Bar\", \"\", \"Close\",\"5\",\"0\",\"PrimaryOnly\",,,\"False\",\"T\",\"EveryTick\")","v":73.040000000000006},1.3709898546751924E-3,{"$f":"RTD(\"cqg.rtd\",,\"StudyData\", \"Close(\"&$D$12&\") when LocalYear(\"&$D$12&\")=\"&$D$7&\" and localMonth(\"&$D$12&\") =\"&$E$7&\" and LocalDay(\"&$D$12&\")=\"&$F$7&\" and Barix(\"&$D$12&\",reference:=StartOfSession)=\"&A14&\"\", \"Bar\", \"\", \"Close\",\"5\",\"0\",\"PrimaryOnly\",,,\"False\",\"T\",\"EveryTick\")","v":73.97},-2.2929592662530576E-3,{"$f":"RTD(\"cqg.rtd\",,\"StudyData\", \"Close(\"&$D$12&\") when LocalYear(\"&$D$12&\")=\"&$D$8&\" and localMonth(\"&$D$12&\") =\"&$E$8&\" and LocalDay(\"&$D$12&\")=\"&$F$8&\" and Barix(\"&$D$12&\",reference:=StartOfSession)=\"&A14&\"\", \"Bar\", \"\", \"Close\",\"5\",\"0\",\"PrimaryOnly\",,,\"False\",\"T\",\"EveryTick\")","v":74.150000000000006},2.8401406545849064E-3,{"$f":"RTD(\"cqg.rtd\",,\"StudyData\", \"Close(\"&$D$12&\") when LocalYear(\"&$D$12&\")=\"&$D$9&\" and localMonth(\"&$D$12&\") =\"&$E$9&\" and LocalDay(\"&$D$12&\")=\"&$F$9&\" and Barix(\"&$D$12&\",reference:=StartOfSession)=\"&A14&\"\", \"Bar\", \"\", \"Close\",\"5\",\"0\",\"PrimaryOnly\",,,\"False\",\"T\",\"EveryTick\")","v":73.64},-6.8779501011463932E-3,{"$f":"RTD(\"cqg.rtd\",,\"StudyData\", \"Close(\"&$D$12&\") when LocalYear(\"&$D$12&\")=\"&$D$10&\" and localMonth(\"&$D$12&\") =\"&$E$10&\" and LocalDay(\"&$D$12&\")=\"&$F$10&\" and Barix(\"&$D$12&\",reference:=StartOfSession)=\"&A14&\"\", \"Bar\", \"\", \"Close\",\"5\",\"0\",\"PrimaryOnly\",,,\"False\",\"T\",\"EveryTick\")","v":74.099999999999994},8.8495575221237775E-3,null,null,null,""]
[14,"09:10:00","",null,null,null,"2018-07-11",{"$f":"RTD(\"cqg.rtd\",,\"StudyData\", \"Close(\"&$D$12&\") when LocalYear(\"&$D$12&\")=\"&$D$1&\" and localMonth(\"&$D$12&\") =\"&$E$1&\" and LocalDay(\"&$D$12&\")=\"&$F$1&\" and Barix(\"&$D$12&\",reference:=StartOfSession)=\"&A15&\"\", \"Bar\", \"\", \"Close\",\"5\",\"0\",\"PrimaryOnly\",,,\"False\",\"T\",\"EveryTick\")","v":70.61},3.9812313379781195E-3,{"$f":"RTD(\"cqg.rtd\",,\"StudyData\", \"Close(\"&$D$12&\") when LocalYear(\"&$D$12&\")=\"&$D$2&\" and localMonth(\"&$D$12&\") =\"&$E$2&\" and LocalDay(\"&$D$12&\")=\"&$F$2&\" and Barix(\"&$D$12&\",reference:=StartOfSession)=\"&A15&\"\", \"Bar\", \"\", \"Close\",\"5\",\"0\",\"PrimaryOnly\",,,\"False\",\"T\",\"EveryTick\")","v":70.14},-3.4100596760442583E-3,{"$f":"RTD(\"cqg.rtd\",,\"StudyData\", \"Close(\"&$D$12&\") when LocalYear(\"&$D$12&\")=\"&$D$3&\" and localMonth(\"&$D$12&\") =\"&$E$3&\" and LocalDay(\"&$D$12&\")=\"&$F$3&\" and Barix(\"&$D$12&\",reference:=StartOfSession)=\"&A15&\"\", \"Bar\", \"\", \"Close\",\"5\",\"0\",\"PrimaryOnly\",,,\"False\",\"T\",\"EveryTick\")","v":73.33},-1.0524895425718541E-2,{"$f":"RTD(\"cqg.rtd\",,\"StudyData\", \"Close(\"&$D$12&\") when LocalYear(\"&$D$12&\")=\"&$D$4&\" and localMonth(\"&$D$12&\") =\"&$E$4&\" and LocalDay(\"&$D$12&\")=\"&$F$4&\" and Barix(\"&$D$12&\",reference:=StartOfSession)=\"&A15&\"\", \"Bar\", \"\", \"Close\",\"5\",\"0\",\"PrimaryOnly\",,,\"False\",\"T\",\"EveryTick\")","v":74.38},7.1767095463778092E-3,{"$f":"RTD(\"cqg.rtd\",,\"StudyData\", \"Close(\"&$D$12&\") when LocalYear(\"&$D$12&\")=\"&$D$5&\" and localMonth(\"&$D$12&\") =\"&$E$5&\" and LocalDay(\"&$D$12&\")=\"&$F$5&\" and Barix(\"&$D$12&\",reference:=StartOfSession)=\"&A15&\"\", \"Bar\", \"\", \"Close\",\"5\",\"0\",\"PrimaryOnly\",,,\"False\",\"T\",\"EveryTick\")","v":73.180000000000007},-8.4010840108399779E-3,{"$f":"RTD(\"cqg.rtd\",,\"StudyData\", \"Close(\"&$D$12&\") when LocalYear(\"&$D$12&\")=\"&$D$6&\" and localMonth(\"&$D$12&\") =\"&$E$6&\" and LocalDay(\"&$D$12&\")=\"&$F$6&\" and Barix(\"&$D$12&\",reference:=StartOfSession)=\"&A15&\"\", \"Bar\", \"\", \"Close\",\"5\",\"0\",\"PrimaryOnly\",,,\"False\",\"T\",\"EveryTick\")","v":73.31},5.0726624622978419E-3,{"$f":"RTD(\"cqg.rtd\",,\"StudyData\", \"Close(\"&$D$12&\") when LocalYear(\"&$D$12&\")=\"&$D$7&\" and localMonth(\"&$D$12&\") =\"&$E$7&\" and LocalDay(\"&$D$12&\")=\"&$F$7&\" and Barix(\"&$D$12&\",reference:=StartOfSession)=\"&A15&\"\", \"Bar\", \"\", \"Close\",\"5\",\"0\",\"PrimaryOnly\",,,\"False\",\"T\",\"EveryTick\")","v":73.989999999999995},-2.023199352576284E-3,{"$f":"RTD(\"cqg.rtd\",,\"StudyData\", \"Close(\"&$D$12&\") when LocalYear(\"&$D$12&\")=\"&$D$8&\" and localMonth(\"&$D$12&\") =\"&$E$8&\" and LocalDay(\"&$D$12&\")=\"&$F$8&\" and Barix(\"&$D$12&\",reference:=StartOfSession)=\"&A15&\"\", \"Bar\", \"\", \"Close\",\"5\",\"0\",\"PrimaryOnly\",,,\"False\",\"T\",\"EveryTick\")","v":73.430000000000007},-6.8974844468486732E-3,{"$f":"RTD(\"cqg.rtd\",,\"StudyData\", \"Close(\"&$D$12&\") when LocalYear(\"&$D$12&\")=\"&$D$9&\" and localMonth(\"&$D$12&\") =\"&$E$9&\" and LocalDay(\"&$D$12&\")=\"&$F$9&\" and Barix(\"&$D$12&\",reference:=StartOfSession)=\"&A15&\"\", \"Bar\", \"\", \"Close\",\"5\",\"0\",\"PrimaryOnly\",,,\"False\",\"T\",\"EveryTick\")","v":73.67},-6.4733648010789476E-3,{"$f":"RTD(\"cqg.rtd\",,\"StudyData\", \"Close(\"&$D$12&\") when LocalYear(\"&$D$12&\")=\"&$D$10&\" and localMonth(\"&$D$12&\") =\"&$E$10&\" and LocalDay(\"&$D$12&\")=\"&$F$10&\" and Barix(\"&$D$12&\",reference:=StartOfSession)=\"&A15&\"\", \"Bar\", \"\", \"Close\",\"5\",\"0\",\"PrimaryOnly\",,,\"False\",\"T\",\"EveryTick\")","v":74.239999999999995},1.0755616065350471E-2,null,null,null,""]
[15,"09:15:00",null,{"$f":"RTD(\"cqg.rtd\", ,\"ContractData\",D12, \"Ticksize\",, \"T\")","v":0.01},null,null,"2018-07-10",{"$f":"RTD(\"cqg.rtd\",,\"StudyData\", \"Close(\"&$D$12&\") when LocalYear(\"&$D$12&\")=\"&$D$1&\" and localMonth(\"&$D$12&\") =\"&$E$1&\" and LocalDay(\"&$D$12&\")=\"&$F$1&\" and Barix(\"&$D$12&\",reference:=StartOfSession)=\"&A16&\"\", \"Bar\", \"\", \"Close\",\"5\",\"0\",\"PrimaryOnly\",,,\"False\",\"T\",\"EveryTick\")","v":70.790000000000006},6.54059434096414E-3,{"$f":"RTD(\"cqg.rtd\",,\"StudyData\", \"Close(\"&$D$12&\") when LocalYear(\"&$D$12&\")=\"&$D$2&\" and localMonth(\"&$D$12&\") =\"&$E$2&\" and LocalDay(\"&$D$12&\")=\"&$F$2&\" and Barix(\"&$D$12&\",reference:=StartOfSession)=\"&A16&\"\", \"Bar\", \"\", \"Close\",\"5\",\"0\",\"PrimaryOnly\",,,\"False\",\"T\",\"EveryTick\")","v":70.22},-2.273373117362839E-3,{"$f":"RTD(\"cqg.rtd\",,\"StudyData\", \"Close(\"&$D$12&\") when LocalYear(\"&$D$12&\")=\"&$D$3&\" and localMonth(\"&$D$12&\") =\"&$E$3&\" and LocalDay(\"&$D$12&\")=\"&$F$3&\" and Barix(\"&$D$12&\",reference:=StartOfSession)=\"&A16&\"\", \"Bar\", \"\", \"Close\",\"5\",\"0\",\"PrimaryOnly\",,,\"False\",\"T\",\"EveryTick\")","v":73.349999999999994},-1.0255026312238633E-2,{"$f":"RTD(\"cqg.rtd\",,\"StudyData\", \"Close(\"&$D$12&\") when LocalYear(\"&$D$12&\")=\"&$D$4&\" and localMonth(\"&$D$12&\") =\"&$E$4&\" and LocalDay(\"&$D$12&\")=\"&$F$4&\" and Barix(\"&$D$12&\",reference:=StartOfSession)=\"&A16&\"\", \"Bar\", \"\", \"Close\",\"5\",\"0\",\"PrimaryOnly\",,,\"False\",\"T\",\"EveryTick\")","v":74.39},7.312119160460478E-3,{"$f":"RTD(\"cqg.rtd\",,\"StudyData\", \"Close(\"&$D$12&\") when LocalYear(\"&$D$12&\")=\"&$D$5&\" and localMonth(\"&$D$12&\") =\"&$E$5&\" and LocalDay(\"&$D$12&\")=\"&$F$5&\" and Barix(\"&$D$12&\",reference:=StartOfSession)=\"&A16&\"\", \"Bar\", \"\", \"Close\",\"5\",\"0\",\"PrimaryOnly\",,,\"False\",\"T\",\"EveryTick\")","v":73.5},-4.0650406504064655E-3,{"$f":"RTD(\"cqg.rtd\",,\"StudyData\", \"Close(\"&$D$12&\") when LocalYear(\"&$D$12&\")=\"&$D$6&\" and localMonth(\"&$D$12&\") =\"&$E$6&\" and LocalDay(\"&$D$12&\")=\"&$F$6&\" and Barix(\"&$D$12&\",reference:=StartOfSession)=\"&A16&\"\", \"Bar\", \"\", \"Close\",\"5\",\"0\",\"PrimaryOnly\",,,\"False\",\"T\",\"EveryTick\")","v":73.31},5.0726624622978419E-3,{"$f":"RTD(\"cqg.rtd\",,\"StudyData\", \"Close(\"&$D$12&\") when LocalYear(\"&$D$12&\")=\"&$D$7&\" and localMonth(\"&$D$12&\") =\"&$E$7&\" and LocalDay(\"&$D$12&\")=\"&$F$7&\" and Barix(\"&$D$12&\",reference:=StartOfSession)=\"&A16&\"\", \"Bar\", \"\", \"Close\",\"5\",\"0\",\"PrimaryOnly\",,,\"False\",\"T\",\"EveryTick\")","v":73.95},-2.5627191799298316E-3,{"$f":"RTD(\"cqg.rtd\",,\"StudyData\", \"Close(\"&$D$12&\") when LocalYear(\"&$D$12&\")=\"&$D$8&\" and localMonth(\"&$D$12&\") =\"&$E$8&\" and LocalDay(\"&$D$12&\")=\"&$F$8&\" and Barix(\"&$D$12&\",reference:=StartOfSession)=\"&A16&\"\", \"Bar\", \"\", \"Close\",\"5\",\"0\",\"PrimaryOnly\",,,\"False\",\"T\",\"EveryTick\")","v":73.37},-7.7089532053015043E-3,{"$f":"RTD(\"cqg.rtd\",,\"StudyData\", \"Close(\"&$D$12&\") when LocalYear(\"&$D$12&\")=\"&$D$9&\" and localMonth(\"&$D$12&\") =\"&$E$9&\" and LocalDay(\"&$D$12&\")=\"&$F$9&\" and Barix(\"&$D$12&\",reference:=StartOfSession)=\"&A16&\"\", \"Bar\", \"\", \"Close\",\"5\",\"0\",\"PrimaryOnly\",,,\"False\",\"T\",\"EveryTick\")","v":73.760000000000005},-5.2596089008766084E-3,{"$f":"RTD(\"cqg.rtd\",,\"StudyData\", \"Close(\"&$D$12&\") when LocalYear(\"&$D$12&\")=\"&$D$10&\" and localMonth(\"&$D$12&\") =\"&$E$10&\" and LocalDay(\"&$D$12&\")=\"&$F$10&\" and Barix(\"&$D$12&\",reference:=StartOfSession)=\"&A16&\"\", \"Bar\", \"\", \"Close\",\"5\",\"0\",\"PrimaryOnly\",,,\"False\",\"T\",\"EveryTick\")","v":74.23},1.0619469026548688E-2,null,null,null,""]
[16,"09:20:00",null,{"$f":"IF(D16>=1,0,IF(LEN(D16)-2=1,2,LEN(D16)-2))","v":2},null,{"$f":"VLOOKUP(D17,D18:E25,2,FALSE)","v":"#.00"},"2018-07-09",{"$f":"RTD(\"cqg.rtd\",,\"StudyData\", \"Close(\"&$D$12&\") when LocalYear(\"&$D$12&\")=\"&$D$1&\" and localMonth(\"&$D$12&\") =\"&$E$1&\" and LocalDay(\"&$D$12&\")=\"&$F$1&\" and Barix(\"&$D$12&\",reference:=StartOfSession)=\"&A17&\"\", \"Bar\", \"\", \"Close\",\"5\",\"0\",\"PrimaryOnly\",,,\"False\",\"T\",\"EveryTick\")","v":70.86},7.5359021754585693E-3,{"$f":"RTD(\"cqg.rtd\",,\"StudyData\", \"Close(\"&$D$12&\") when LocalYear(\"&$D$12&\")=\"&$D$2&\" and localMonth(\"&$D$12&\") =\"&$E$2&\" and LocalDay(\"&$D$12&\")=\"&$F$2&\" and Barix(\"&$D$12&\",reference:=StartOfSession)=\"&A17&\"\", \"Bar\", \"\", \"Close\",\"5\",\"0\",\"PrimaryOnly\",,,\"False\",\"T\",\"EveryTick\")","v":70.25},-1.8471156578572813E-3,{"$f":"RTD(\"cqg.rtd\",,\"StudyData\", \"Close(\"&$D$12&\") when LocalYear(\"&$D$12&\")=\"&$D$3&\" and localMonth(\"&$D$12&\") =\"&$E$3&\" and LocalDay(\"&$D$12&\")=\"&$F$3&\" and Barix(\"&$D$12&\",reference:=StartOfSession)=\"&A17&\"\", \"Bar\", \"\", \"Close\",\"5\",\"0\",\"PrimaryOnly\",,,\"False\",\"T\",\"EveryTick\")","v":73.209999999999994},-1.2144110106598377E-2,{"$f":"RTD(\"cqg.rtd\",,\"StudyData\", \"Close(\"&$D$12&\") when LocalYear(\"&$D$12&\")=\"&$D$4&\" and localMonth(\"&$D$12&\") =\"&$E$4&\" and LocalDay(\"&$D$12&\")=\"&$F$4&\" and Barix(\"&$D$12&\",reference:=StartOfSession)=\"&A17&\"\", \"Bar\", \"\", \"Close\",\"5\",\"0\",\"PrimaryOnly\",,,\"False\",\"T\",\"EveryTick\")","v":74.31},6.2288422477997018E-3,{"$f":"RTD(\"cqg.rtd\",,\"StudyData\", \"Close(\"&$D$12&\") when LocalYear(\"&$D$12&\")=\"&$D$5&\" and localMonth(\"&$D$12&\") =\"&$E$5&\" and LocalDay(\"&$D$12&\")=\"&$F$5&\" and Barix(\"&$D$12&\",reference:=StartOfSession)=\"&A17&\"\", \"Bar\", \"\", \"Close\",\"5\",\"0\",\"PrimaryOnly\",,,\"False\",\"T\",\"EveryTick\")","v":73.42},-5.149051490514844E-3,{"$f":"RTD(\"cqg.rtd\",,\"StudyData\", \"Close(\"&$D$12&\") when LocalYear(\"&$D$12&\")=\"&$D$6&\" and localMonth(\"&$D$12&\") =\"&$E$6&\" and LocalDay(\"&$D$12&\")=\"&$F$6&\" and Barix(\"&$D$12&\",reference:=StartOfSession)=\"&A17&\"\", \"Bar\", \"\", \"Close\",\"5\",\"0\",\"PrimaryOnly\",,,\"False\",\"T\",\"EveryTick\")","v":73.36},5.7581573896353403E-3,{"$f":"RTD(\"cqg.rtd\",,\"StudyData\", \"Close(\"&$D$12&\") when LocalYear(\"&$D$12&\")=\"&$D$7&\" and localMonth(\"&$D$12&\") =\"&$E$7&\" and LocalDay(\"&$D$12&\")=\"&$F$7&\" and Barix(\"&$D$12&\",reference:=StartOfSession)=\"&A17&\"\", \"Bar\", \"\", \"Close\",\"5\",\"0\",\"PrimaryOnly\",,,\"False\",\"T\",\"EveryTick\")","v":74.040000000000006},-1.3487995683840615E-3,{"$f":"RTD(\"cqg.rtd\",,\"StudyData\", \"Close(\"&$D$12&\") when LocalYear(\"&$D$12&\")=\"&$D$8&\" and localMonth(\"&$D$12&\") =\"&$E$8&\" and LocalDay(\"&$D$12&\")=\"&$F$8&\" and Barix(\"&$D$12&\",reference:=StartOfSession)=\"&A17&\"\", \"Bar\", \"\", \"Close\",\"5\",\"0\",\"PrimaryOnly\",,,\"False\",\"T\",\"EveryTick\")","v":73.569999999999993},-5.0040573437923255E-3,{"$f":"RTD(\"cqg.rtd\",,\"StudyData\", \"Close(\"&$D$12&\") when LocalYear(\"&$D$12&\")=\"&$D$9&\" and localMonth(\"&$D$12&\") =\"&$E$9&\" and LocalDay(\"&$D$12&\")=\"&$F$9&\" and Barix(\"&$D$12&\",reference:=StartOfSession)=\"&A17&\"\", \"Bar\", \"\", \"Close\",\"5\",\"0\",\"PrimaryOnly\",,,\"False\",\"T\",\"EveryTick\")","v":73.77},-5.1247471341875879E-3,{"$f":"RTD(\"cqg.rtd\",,\"StudyData\", \"Close(\"&$D$12&\") when LocalYear(\"&$D$12&\")=\"&$D$10&\" and localMonth(\"&$D$12&\") =\"&$E$10&\" and LocalDay(\"&$D$12&\")=\"&$F$10&\" and Barix(\"&$D$12&\",reference:=StartOfSession)=\"&A17&\"\", \"Bar\", \"\", \"Close\",\"5\",\"0\",\"PrimaryOnly\",,,\"False\",\"T\",\"EveryTick\")","v":74.2},1.0211027910142953E-2,null,null,null,""]
[17,"09:25:00",null,0,"#",null,"2018-07-06",{"$f":"RTD(\"cqg.rtd\",,\"StudyData\", \"Close(\"&$D$12&\") when LocalYear(\"&$D$12&\")=\"&$D$1&\" and localMonth(\"&$D$12&\") =\"&$E$1&\" and LocalDay(\"&$D$12&\")=\"&$F$1&\" and Barix(\"&$D$12&\",reference:=StartOfSession)=\"&A18&\"\", \"Bar\", \"\", \"Close\",\"5\",\"0\",\"PrimaryOnly\",,,\"False\",\"T\",\"EveryTick\")","v":70.83},7.1093416749608987E-3,{"$f":"RTD(\"cqg.rtd\",,\"StudyData\", \"Close(\"&$D$12&\") when LocalYear(\"&$D$12&\")=\"&$D$2&\" and localMonth(\"&$D$12&\") =\"&$E$2&\" and LocalDay(\"&$D$12&\")=\"&$F$2&\" and Barix(\"&$D$12&\",reference:=StartOfSession)=\"&A18&\"\", \"Bar\", \"\", \"Close\",\"5\",\"0\",\"PrimaryOnly\",,,\"False\",\"T\",\"EveryTick\")","v":70.47},1.2787723785166725E-3,{"$f":"RTD(\"cqg.rtd\",,\"StudyData\", \"Close(\"&$D$12&\") when LocalYear(\"&$D$12&\")=\"&$D$3&\" and localMonth(\"&$D$12&\") =\"&$E$3&\" and LocalDay(\"&$D$12&\")=\"&$F$3&\" and Barix(\"&$D$12&\",reference:=StartOfSession)=\"&A18&\"\", \"Bar\", \"\", \"Close\",\"5\",\"0\",\"PrimaryOnly\",,,\"False\",\"T\",\"EveryTick\")","v":72.64},-1.9835379840777208E-2,{"$f":"RTD(\"cqg.rtd\",,\"StudyData\", \"Close(\"&$D$12&\") when LocalYear(\"&$D$12&\")=\"&$D$4&\" and localMonth(\"&$D$12&\") =\"&$E$4&\" and LocalDay(\"&$D$12&\")=\"&$F$4&\" and Barix(\"&$D$12&\",reference:=StartOfSession)=\"&A18&\"\", \"Bar\", \"\", \"Close\",\"5\",\"0\",\"PrimaryOnly\",,,\"False\",\"T\",\"EveryTick\")","v":74.03},2.4373730534868903E-3,{"$f":"RTD(\"cqg.rtd\",,\"StudyData\", \"Close(\"&$D$12&\") when LocalYear(\"&$D$12&\")=\"&$D$5&\" and localMonth(\"&$D$12&\") =\"&$E$5&\" and LocalDay(\"&$D$12&\")=\"&$F$5&\" and Barix(\"&$D$12&\",reference:=StartOfSession)=\"&A18&\"\", \"Bar\", \"\", \"Close\",\"5\",\"0\",\"PrimaryOnly\",,,\"False\",\"T\",\"EveryTick\")","v":73.400000000000006},-5.4200542005418901E-3,{"$f":"RTD(\"cqg.rtd\",,\"StudyData\", \"Close(\"&$D$12&\") when LocalYear(\"&$D$12&\")=\"&$D$6&\" and localMonth(\"&$D$12&\") =\"&$E$6&\" and LocalDay(\"&$D$12&\")=\"&$F$6&\" and Barix(\"&$D$12&\",reference:=StartOfSession)=\"&A18&\"\", \"Bar\", \"\", \"Close\",\"5\",\"0\",\"PrimaryOnly\",,,\"False\",\"T\",\"EveryTick\")","v":73.31},5.0726624622978419E-3,{"$f":"RTD(\"cqg.rtd\",,\"StudyData\", \"Close(\"&$D$12&\") when LocalYear(\"&$D$12&\")=\"&$D$7&\" and localMonth(\"&$D$12&\") =\"&$E$7&\" and LocalDay(\"&$D$12&\")=\"&$F$7&\" and Barix(\"&$D$12&\",reference:=StartOfSession)=\"&A18&\"\", \"Bar\", \"\", \"Close\",\"5\",\"0\",\"PrimaryOnly\",,,\"False\",\"T\",\"EveryTick\")","v":73.98},-2.1580793094145749E-3,{"$f":"RTD(\"cqg.rtd\",,\"StudyData\", \"Close(\"&$D$12&\") when LocalYear(\"&$D$12&\")=\"&$D$8&\" and localMonth(\"&$D$12&\") =\"&$E$8&\" and LocalDay(\"&$D$12&\")=\"&$F$8&\" and Barix(\"&$D$12&\",reference:=StartOfSession)=\"&A18&\"\", \"Bar\", \"\", \"Close\",\"5\",\"0\",\"PrimaryOnly\",,,\"False\",\"T\",\"EveryTick\")","v":73.489999999999995},-6.0860156883960357E-3,{"$f":"RTD(\"cqg.rtd\",,\"StudyData\", \"Close(\"&$D$12&\") when LocalYear(\"&$D$12&\")=\"&$D$9&\" and localMonth(\"&$D$12&\") =\"&$E$9&\" and LocalDay(\"&$D$12&\")=\"&$F$9&\" and Barix(\"&$D$12&\",reference:=StartOfSession)=\"&A18&\"\", \"Bar\", \"\", \"Close\",\"5\",\"0\",\"PrimaryOnly\",,,\"False\",\"T\",\"EveryTick\")","v":73.73},-5.6641942009440548E-3,{"$f":"RTD(\"cqg.rtd\",,\"StudyData\", \"Close(\"&$D$12&\") when LocalYear(\"&$D$12&\")=\"&$D$10&\" and localMonth(\"&$D$12&\") =\"&$E$10&\" and LocalDay(\"&$D$12&\")=\"&$F$10&\" and Barix(\"&$D$12&\",reference:=StartOfSession)=\"&A18&\"\", \"Bar\", \"\", \"Close\",\"5\",\"0\",\"PrimaryOnly\",,,\"False\",\"T\",\"EveryTick\")","v":74.3},1.1572498298161937E-2,null,null,null,""]
[18,"09:30:00",null,1,"#.0",null,"2018-07-05",{"$f":"RTD(\"cqg.rtd\",,\"StudyData\", \"Close(\"&$D$12&\") when LocalYear(\"&$D$12&\")=\"&$D$1&\" and localMonth(\"&$D$12&\") =\"&$E$1&\" and LocalDay(\"&$D$12&\")=\"&$F$1&\" and Barix(\"&$D$12&\",reference:=StartOfSession)=\"&A19&\"\", \"Bar\", \"\", \"Close\",\"5\",\"0\",\"PrimaryOnly\",,,\"False\",\"T\",\"EveryTick\")","v":70.77},6.2562206739655585E-3,{"$f":"RTD(\"cqg.rtd\",,\"StudyData\", \"Close(\"&$D$12&\") when LocalYear(\"&$D$12&\")=\"&$D$2&\" and localMonth(\"&$D$12&\") =\"&$E$2&\" and LocalDay(\"&$D$12&\")=\"&$F$2&\" and Barix(\"&$D$12&\",reference:=StartOfSession)=\"&A19&\"\", \"Bar\", \"\", \"Close\",\"5\",\"0\",\"PrimaryOnly\",,,\"False\",\"T\",\"EveryTick\")","v":70.25},-1.8471156578572813E-3,{"$f":"RTD(\"cqg.rtd\",,\"StudyData\", \"Close(\"&$D$12&\") when LocalYear(\"&$D$12&\")=\"&$D$3&\" and localMonth(\"&$D$12&\") =\"&$E$3&\" and LocalDay(\"&$D$12&\")=\"&$F$3&\" and Barix(\"&$D$12&\",reference:=StartOfSession)=\"&A19&\"\", \"Bar\", \"\", \"Close\",\"5\",\"0\",\"PrimaryOnly\",,,\"False\",\"T\",\"EveryTick\")","v":73.7},-5.5323168263391792E-3,{"$f":"RTD(\"cqg.rtd\",,\"StudyData\", \"Close(\"&$D$12&\") when LocalYear(\"&$D$12&\")=\"&$D$4&\" and localMonth(\"&$D$12&\") =\"&$E$4&\" and LocalDay(\"&$D$12&\")=\"&$F$4&\" and Barix(\"&$D$12&\",reference:=StartOfSession)=\"&A19&\"\", \"Bar\", \"\", \"Close\",\"5\",\"0\",\"PrimaryOnly\",,,\"False\",\"T\",\"EveryTick\")","v":73.98},1.7603249830739293E-3,{"$f":"RTD(\"cqg.rtd\",,\"StudyData\", \"Close(\"&$D$12&\") when LocalYear(\"&$D$12&\")=\"&$D$5&\" and localMonth(\"&$D$12&\") =\"&$E$5&\" and LocalDay(\"&$D$12&\")=\"&$F$5&\" and Barix(\"&$D$12&\",reference:=StartOfSession)=\"&A19&\"\", \"Bar\", \"\", \"Close\",\"5\",\"0\",\"PrimaryOnly\",,,\"False\",\"T\",\"EveryTick\")","v":73.39},-5.5555555555555098E-3,{"$f":"RTD(\"cqg.rtd\",,\"StudyData\", \"Close(\"&$D$12&\") when LocalYear(\"&$D$12&\")=\"&$D$6&\" and localMonth(\"&$D$12&\") =\"&$E$6&\" and LocalDay(\"&$D$12&\")=\"&$F$6&\" and Barix(\"&$D$12&\",reference:=StartOfSession)=\"&A19&\"\", \"Bar\", \"\", \"Close\",\"5\",\"0\",\"PrimaryOnly\",,,\"False\",\"T\",\"EveryTick\")","v":73.34},5.48395941870038E-3,{"$f":"RTD(\"cqg.rtd\",,\"StudyData\", \"Close(\"&$D$12&\") when LocalYear(\"&$D$12&\")=\"&$D$7&\" and localMonth(\"&$D$12&\") =\"&$E$7&\" and LocalDay(\"&$D$12&\")=\"&$F$7&\" and Barix(\"&$D$12&\",reference:=StartOfSession)=\"&A19&\"\", \"Bar\", \"\", \"Close\",\"5\",\"0\",\"PrimaryOnly\",,,\"False\",\"T\",\"EveryTick\")","v":74.05},-1.2139196115457703E-3,{"$f":"RTD(\"cqg.rtd\",,\"StudyData\", \"Close(\"&$D$12&\") when LocalYear(\"&$D$12&\")=\"&$D$8&\" and localMonth(\"&$D$12&\") =\"&$E$8&\" and LocalDay(\"&$D$12&\")=\"&$F$8&\" and Barix(\"&$D$12&\",reference:=StartOfSession)=\"&A19&\"\", \"Bar\", \"\", \"Close\",\"5\",\"0\",\"PrimaryOnly\",,,\"False\",\"T\",\"EveryTick\")","v":73.510000000000005},-5.8155261022449639E-3,{"$f":"RTD(\"cqg.rtd\",,\"StudyData\", \"Close(\"&$D$12&\") when LocalYear(\"&$D$12&\")=\"&$D$9&\" and localMonth(\"&$D$12&\") =\"&$E$9&\" and LocalDay(\"&$D$12&\")=\"&$F$9&\" and Barix(\"&$D$12&\",reference:=StartOfSession)=\"&A19&\"\", \"Bar\", \"\", \"Close\",\"5\",\"0\",\"PrimaryOnly\",,,\"False\",\"T\",\"EveryTick\")","v":73.92},-3.1018206338503567E-3,{"$f":"RTD(\"cqg.rtd\",,\"StudyData\", \"Close(\"&$D$12&\") when LocalYear(\"&$D$12&\")=\"&$D$10&\" and localMonth(\"&$D$12&\") =\"&$E$10&\" and LocalDay(\"&$D$12&\")=\"&$F$10&\" and Barix(\"&$D$12&\",reference:=StartOfSession)=\"&A19&\"\", \"Bar\", \"\", \"Close\",\"5\",\"0\",\"PrimaryOnly\",,,\"False\",\"T\",\"EveryTick\")","v":74.19},1.0074880871340978E-2,null,null,null,""]
[19,"09:35:00",null,2,"#.00",null,"2018-07-03",{"$f":"RTD(\"cqg.rtd\",,\"StudyData\", \"Close(\"&$D$12&\") when LocalYear(\"&$D$12&\")=\"&$D$1&\" and localMonth(\"&$D$12&\") =\"&$E$1&\" and LocalDay(\"&$D$12&\")=\"&$F$1&\" and Barix(\"&$D$12&\",reference:=StartOfSession)=\"&A20&\"\", \"Bar\", \"\", \"Close\",\"5\",\"0\",\"PrimaryOnly\",,,\"False\",\"T\",\"EveryTick\")","v":70.790000000000006},6.54059434096414E-3,{"$f":"RTD(\"cqg.rtd\",,\"StudyData\", \"Close(\"&$D$12&\") when LocalYear(\"&$D$12&\")=\"&$D$2&\" and localMonth(\"&$D$12&\") =\"&$E$2&\" and LocalDay(\"&$D$12&\")=\"&$F$2&\" and Barix(\"&$D$12&\",reference:=StartOfSession)=\"&A20&\"\", \"Bar\", \"\", \"Close\",\"5\",\"0\",\"PrimaryOnly\",,,\"False\",\"T\",\"EveryTick\")","v":70.19},-2.6996305768683965E-3,{"$f":"RTD(\"cqg.rtd\",,\"StudyData\", \"Close(\"&$D$12&\") when LocalYear(\"&$D$12&\")=\"&$D$3&\" and localMonth(\"&$D$12&\") =\"&$E$3&\" and LocalDay(\"&$D$12&\")=\"&$F$3&\" and Barix(\"&$D$12&\",reference:=StartOfSession)=\"&A20&\"\", \"Bar\", \"\", \"Close\",\"5\",\"0\",\"PrimaryOnly\",,,\"False\",\"T\",\"EveryTick\")","v":73.23},-1.1874240993118276E-2,{"$f":"RTD(\"cqg.rtd\",,\"StudyData\", \"Close(\"&$D$12&\") when LocalYear(\"&$D$12&\")=\"&$D$4&\" and localMonth(\"&$D$12&\") =\"&$E$4&\" and LocalDay(\"&$D$12&\")=\"&$F$4&\" and Barix(\"&$D$12&\",reference:=StartOfSession)=\"&A20&\"\", \"Bar\", \"\", \"Close\",\"5\",\"0\",\"PrimaryOnly\",,,\"False\",\"T\",\"EveryTick\")","v":73.989999999999995},1.895734597156406E-3,{"$f":"RTD(\"cqg.rtd\",,\"StudyData\", \"Close(\"&$D$12&\") when LocalYear(\"&$D$12&\")=\"&$D$5&\" and localMonth(\"&$D$12&\") =\"&$E$5&\" and LocalDay(\"&$D$12&\")=\"&$F$5&\" and Barix(\"&$D$12&\",reference:=StartOfSession)=\"&A20&\"\", \"Bar\", \"\", \"Close\",\"5\",\"0\",\"PrimaryOnly\",,,\"False\",\"T\",\"EveryTick\")","v":73.47},-4.4715447154471313E-3,{"$f":"RTD(\"cqg.rtd\",,\"StudyData\", \"Close(\"&$D$12&\") when LocalYear(\"&$D$12&\")=\"&$D$6&\" and localMonth(\"&$D$12&\") =\"&$E$6&\" and LocalDay(\"&$D$12&\")=\"&$F$6&\" and Barix(\"&$D$12&\",reference:=StartOfSession)=\"&A20&\"\", \"Bar\", \"\", \"Close\",\"5\",\"0\",\"PrimaryOnly\",,,\"False\",\"T\",\"EveryTick\")","v":73.459999999999994},7.1291472443103382E-3,{"$f":"RTD(\"cqg.rtd\",,\"StudyData\", \"Close(\"&$D$12&\") when LocalYear(\"&$D$12&\")=\"&$D$7&\" and localMonth(\"&$D$12&\") =\"&$E$7&\" and LocalDay(\"&$D$12&\")=\"&$F$7&\" and Barix(\"&$D$12&\",reference:=StartOfSession)=\"&A20&\"\", \"Bar\", \"\", \"Close\",\"5\",\"0\",\"PrimaryOnly\",,,\"False\",\"T\",\"EveryTick\")","v":74.06},-1.0790396547072875E-3,{"$f":"RTD(\"cqg.rtd\",,\"StudyData\", \"Close(\"&$D$12&\") when LocalYear(\"&$D$12&\")=\"&$D$8&\" and localMonth(\"&$D$12&\") =\"&$E$8&\" and LocalDay(\"&$D$12&\")=\"&$F$8&\" and Barix(\"&$D$12&\",reference:=StartOfSession)=\"&A20&\"\", \"Bar\", \"\", \"Close\",\"5\",\"0\",\"PrimaryOnly\",,,\"False\",\"T\",\"EveryTick\")","v":73.5},-5.9507708953204994E-3,{"$f":"RTD(\"cqg.rtd\",,\"StudyData\", \"Close(\"&$D$12&\") when LocalYear(\"&$D$12&\")=\"&$D$9&\" and localMonth(\"&$D$12&\") =\"&$E$9&\" and LocalDay(\"&$D$12&\")=\"&$F$9&\" and Barix(\"&$D$12&\",reference:=StartOfSession)=\"&A20&\"\", \"Bar\", \"\", \"Close\",\"5\",\"0\",\"PrimaryOnly\",,,\"False\",\"T\",\"EveryTick\")","v":73.819999999999993},-4.4504383007419081E-3,{"$f":"RTD(\"cqg.rtd\",,\"StudyData\", \"Close(\"&$D$12&\") when LocalYear(\"&$D$12&\")=\"&$D$10&\" and localMonth(\"&$D$12&\") =\"&$E$10&\" and LocalDay(\"&$D$12&\")=\"&$F$10&\" and Barix(\"&$D$12&\",reference:=StartOfSession)=\"&A20&\"\", \"Bar\", \"\", \"Close\",\"5\",\"0\",\"PrimaryOnly\",,,\"False\",\"T\",\"EveryTick\")","v":74.23},1.0619469026548688E-2,null,null,null,""]
[20,"09:40:00",null,3,"#.000",null,"2018-07-02",{"$f":"RTD(\"cqg.rtd\",,\"StudyData\", \"Close(\"&$D$12&\") when LocalYear(\"&$D$12&\")=\"&$D$1&\" and localMonth(\"&$D$12&\") =\"&$E$1&\" and LocalDay(\"&$D$12&\")=\"&$F$1&\" and Barix(\"&$D$12&\",reference:=StartOfSession)=\"&A21&\"\", \"Bar\", \"\", \"Close\",\"5\",\"0\",\"PrimaryOnly\",,,\"False\",\"T\",\"EveryTick\")","v":70.92},8.3890231764539094E-3,{"$f":"RTD(\"cqg.rtd\",,\"StudyData\", \"Close(\"&$D$12&\") when LocalYear(\"&$D$12&\")=\"&$D$2&\" and localMonth(\"&$D$12&\") =\"&$E$2&\" and LocalDay(\"&$D$12&\")=\"&$F$2&\" and Barix(\"&$D$12&\",reference:=StartOfSession)=\"&A21&\"\", \"Bar\", \"\", \"Close\",\"5\",\"0\",\"PrimaryOnly\",,,\"False\",\"T\",\"EveryTick\")","v":69.58},-1.1366865586814396E-2,{"$f":"RTD(\"cqg.rtd\",,\"StudyData\", \"Close(\"&$D$12&\") when LocalYear(\"&$D$12&\")=\"&$D$3&\" and localMonth(\"&$D$12&\") =\"&$E$3&\" and LocalDay(\"&$D$12&\")=\"&$F$3&\" and Barix(\"&$D$12&\",reference:=StartOfSession)=\"&A21&\"\", \"Bar\", \"\", \"Close\",\"5\",\"0\",\"PrimaryOnly\",,,\"False\",\"T\",\"EveryTick\")","v":73.27},-1.1334502766158459E-2,{"$f":"RTD(\"cqg.rtd\",,\"StudyData\", \"Close(\"&$D$12&\") when LocalYear(\"&$D$12&\")=\"&$D$4&\" and localMonth(\"&$D$12&\") =\"&$E$4&\" and LocalDay(\"&$D$12&\")=\"&$F$4&\" and Barix(\"&$D$12&\",reference:=StartOfSession)=\"&A21&\"\", \"Bar\", \"\", \"Close\",\"5\",\"0\",\"PrimaryOnly\",,,\"False\",\"T\",\"EveryTick\")","v":74.09},3.2498307379825201E-3,{"$f":"RTD(\"cqg.rtd\",,\"StudyData\", \"Close(\"&$D$12&\") when LocalYear(\"&$D$12&\")=\"&$D$5&\" and localMonth(\"&$D$12&\") =\"&$E$5&\" and LocalDay(\"&$D$12&\")=\"&$F$5&\" and Barix(\"&$D$12&\",reference:=StartOfSession)=\"&A21&\"\", \"Bar\", \"\", \"Close\",\"5\",\"0\",\"PrimaryOnly\",,,\"False\",\"T\",\"EveryTick\")","v":73.61},-2.574525745257422E-3,{"$f":"RTD(\"cqg.rtd\",,\"StudyData\", \"Close(\"&$D$12&\") when LocalYear(\"&$D$12&\")=\"&$D$6&\" and localMonth(\"&$D$12&\") =\"&$E$6&\" and LocalDay(\"&$D$12&\")=\"&$F$6&\" and Barix(\"&$D$12&\",reference:=StartOfSession)=\"&A21&\"\", \"Bar\", \"\", \"Close\",\"5\",\"0\",\"PrimaryOnly\",,,\"False\",\"T\",\"EveryTick\")","v":73.56},8.5001370989855295E-3,{"$f":"RTD(\"cqg.rtd\",,\"StudyData\", \"Close(\"&$D$12&\") when LocalYear(\"&$D$12&\")=\"&$D$7&\" and localMonth(\"&$D$12&\") =\"&$E$7&\" and LocalDay(\"&$D$12&\")=\"&$F$7&\" and Barix(\"&$D$12&\",reference:=StartOfSession)=\"&A21&\"\", \"Bar\", \"\", \"Close\",\"5\",\"0\",\"PrimaryOnly\",,,\"False\",\"T\",\"EveryTick\")","v":74.150000000000006},1.3487995683848282E-4,{"$f":"RTD(\"cqg.rtd\",,\"StudyData\", \"Close(\"&$D$12&\") when LocalYear(\"&$D$12&\")=\"&$D$8&\" and localMonth(\"&$D$12&\") =\"&$E$8&\" and LocalDay(\"&$D$12&\")=\"&$F$8&\" and Barix(\"&$D$12&\",reference:=StartOfSession)=\"&A21&\"\", \"Bar\", \"\", \"Close\",\"5\",\"0\",\"PrimaryOnly\",,,\"False\",\"T\",\"EveryTick\")","v":73.13},-1.0954828239112825E-2,{"$f":"RTD(\"cqg.rtd\",,\"StudyData\", \"Close(\"&$D$12&\") when LocalYear(\"&$D$12&\")=\"&$D$9&\" and localMonth(\"&$D$12&\") =\"&$E$9&\" and LocalDay(\"&$D$12&\")=\"&$F$9&\" and Barix(\"&$D$12&\",reference:=StartOfSession)=\"&A21&\"\", \"Bar\", \"\", \"Close\",\"5\",\"0\",\"PrimaryOnly\",,,\"False\",\"T\",\"EveryTick\")","v":73.69},-6.2036412677007133E-3,{"$f":"RTD(\"cqg.rtd\",,\"StudyData\", \"Close(\"&$D$12&\") when LocalYear(\"&$D$12&\")=\"&$D$10&\" and localMonth(\"&$D$12&\") =\"&$E$10&\" and LocalDay(\"&$D$12&\")=\"&$F$10&\" and Barix(\"&$D$12&\",reference:=StartOfSession)=\"&A21&\"\", \"Bar\", \"\", \"Close\",\"5\",\"0\",\"PrimaryOnly\",,,\"False\",\"T\",\"EveryTick\")","v":74.209999999999994},1.0347174948944736E-2,null,null,null,""]
[21,"09:45:00",null,4,"#.0000",null,"2018-06-29",{"$f":"RTD(\"cqg.rtd\",,\"StudyData\", \"Close(\"&$D$12&\") when LocalYear(\"&$D$12&\")=\"&$D$1&\" and localMonth(\"&$D$12&\") =\"&$E$1&\" and LocalDay(\"&$D$12&\")=\"&$F$1&\" and Barix(\"&$D$12&\",reference:=StartOfSession)=\"&A22&\"\", \"Bar\", \"\", \"Close\",\"5\",\"0\",\"PrimaryOnly\",,,\"False\",\"T\",\"EveryTick\")","v":70.84},7.2515285084601899E-3,{"$f":"RTD(\"cqg.rtd\",,\"StudyData\", \"Close(\"&$D$12&\") when LocalYear(\"&$D$12&\")=\"&$D$2&\" and localMonth(\"&$D$12&\") =\"&$E$2&\" and LocalDay(\"&$D$12&\")=\"&$F$2&\" and Barix(\"&$D$12&\",reference:=StartOfSession)=\"&A22&\"\", \"Bar\", \"\", \"Close\",\"5\",\"0\",\"PrimaryOnly\",,,\"False\",\"T\",\"EveryTick\")","v":69.67},-1.0088093208297724E-2,{"$f":"RTD(\"cqg.rtd\",,\"StudyData\", \"Close(\"&$D$12&\") when LocalYear(\"&$D$12&\")=\"&$D$3&\" and localMonth(\"&$D$12&\") =\"&$E$3&\" and LocalDay(\"&$D$12&\")=\"&$F$3&\" and Barix(\"&$D$12&\",reference:=StartOfSession)=\"&A22&\"\", \"Bar\", \"\", \"Close\",\"5\",\"0\",\"PrimaryOnly\",,,\"False\",\"T\",\"EveryTick\")","v":73.25},-1.1604371879638368E-2,{"$f":"RTD(\"cqg.rtd\",,\"StudyData\", \"Close(\"&$D$12&\") when LocalYear(\"&$D$12&\")=\"&$D$4&\" and localMonth(\"&$D$12&\") =\"&$E$4&\" and LocalDay(\"&$D$12&\")=\"&$F$4&\" and Barix(\"&$D$12&\",reference:=StartOfSession)=\"&A22&\"\", \"Bar\", \"\", \"Close\",\"5\",\"0\",\"PrimaryOnly\",,,\"False\",\"T\",\"EveryTick\")","v":73.97},1.6249153689912601E-3,{"$f":"RTD(\"cqg.rtd\",,\"StudyData\", \"Close(\"&$D$12&\") when LocalYear(\"&$D$12&\")=\"&$D$5&\" and localMonth(\"&$D$12&\") =\"&$E$5&\" and LocalDay(\"&$D$12&\")=\"&$F$5&\" and Barix(\"&$D$12&\",reference:=StartOfSession)=\"&A22&\"\", \"Bar\", \"\", \"Close\",\"5\",\"0\",\"PrimaryOnly\",,,\"False\",\"T\",\"EveryTick\")","v":73.64},-2.1680216802167562E-3,{"$f":"RTD(\"cqg.rtd\",,\"StudyData\", \"Close(\"&$D$12&\") when LocalYear(\"&$D$12&\")=\"&$D$6&\" and localMonth(\"&$D$12&\") =\"&$E$6&\" and LocalDay(\"&$D$12&\")=\"&$F$6&\" and Barix(\"&$D$12&\",reference:=StartOfSession)=\"&A22&\"\", \"Bar\", \"\", \"Close\",\"5\",\"0\",\"PrimaryOnly\",,,\"False\",\"T\",\"EveryTick\")","v":73.56},8.5001370989855295E-3,{"$f":"RTD(\"cqg.rtd\",,\"StudyData\", \"Close(\"&$D$12&\") when LocalYear(\"&$D$12&\")=\"&$D$7&\" and localMonth(\"&$D$12&\") =\"&$E$7&\" and LocalDay(\"&$D$12&\")=\"&$F$7&\" and Barix(\"&$D$12&\",reference:=StartOfSession)=\"&A22&\"\", \"Bar\", \"\", \"Close\",\"5\",\"0\",\"PrimaryOnly\",,,\"False\",\"T\",\"EveryTick\")","v":74.13},-1.3487995683848282E-4,{"$f":"RTD(\"cqg.rtd\",,\"StudyData\", \"Close(\"&$D$12&\") when LocalYear(\"&$D$12&\")=\"&$D$8&\" and localMonth(\"&$D$12&\") =\"&$E$8&\" and LocalDay(\"&$D$12&\")=\"&$F$8&\" and Barix(\"&$D$12&\",reference:=StartOfSession)=\"&A22&\"\", \"Bar\", \"\", \"Close\",\"5\",\"0\",\"PrimaryOnly\",,,\"False\",\"T\",\"EveryTick\")","v":73.22},-9.73762510143358E-3,{"$f":"RTD(\"cqg.rtd\",,\"StudyData\", \"Close(\"&$D$12&\") when LocalYear(\"&$D$12&\")=\"&$D$9&\" and localMonth(\"&$D$12&\") =\"&$E$9&\" and LocalDay(\"&$D$12&\")=\"&$F$9&\" and Barix(\"&$D$12&\",reference:=StartOfSession)=\"&A22&\"\", \"Bar\", \"\", \"Close\",\"5\",\"0\",\"PrimaryOnly\",,,\"False\",\"T\",\"EveryTick\")","v":73.650000000000006},-6.7430883344571811E-3,{"$f":"RTD(\"cqg.rtd\",,\"StudyData\", \"Close(\"&$D$12&\") when LocalYear(\"&$D$12&\")=\"&$D$10&\" and localMonth(\"&$D$12&\") =\"&$E$10&\" and LocalDay(\"&$D$12&\")=\"&$F$10&\" and Barix(\"&$D$12&\",reference:=StartOfSession)=\"&A22&\"\", \"Bar\", \"\", \"Close\",\"5\",\"0\",\"PrimaryOnly\",,,\"False\",\"T\",\"EveryTick\")","v":74.180000000000007},9.9387338325391955E-3,null,null,null,""]
[22,"09:50:00",null,5,"#.00000",null,null,{"$f":"RTD(\"cqg.rtd\",,\"StudyData\", \"Close(\"&$D$12&\") when LocalYear(\"&$D$12&\")=\"&$D$1&\" and localMonth(\"&$D$12&\") =\"&$E$1&\" and LocalDay(\"&$D$12&\")=\"&$F$1&\" and Barix(\"&$D$12&\",reference:=StartOfSession)=\"&A23&\"\", \"Bar\", \"\", \"Close\",\"5\",\"0\",\"PrimaryOnly\",,,\"False\",\"T\",\"EveryTick\")","v":70.819999999999993},6.9671548414616084E-3,{"$f":"RTD(\"cqg.rtd\",,\"StudyData\", \"Close(\"&$D$12&\") when LocalYear(\"&$D$12&\")=\"&$D$2&\" and localMonth(\"&$D$12&\") =\"&$E$2&\" and LocalDay(\"&$D$12&\")=\"&$F$2&\" and Barix(\"&$D$12&\",reference:=StartOfSession)=\"&A23&\"\", \"Bar\", \"\", \"Close\",\"5\",\"0\",\"PrimaryOnly\",,,\"False\",\"T\",\"EveryTick\")","v":69.69},-9.8039215686274196E-3,{"$f":"RTD(\"cqg.rtd\",,\"StudyData\", \"Close(\"&$D$12&\") when LocalYear(\"&$D$12&\")=\"&$D$3&\" and localMonth(\"&$D$12&\") =\"&$E$3&\" and LocalDay(\"&$D$12&\")=\"&$F$3&\" and Barix(\"&$D$12&\",reference:=StartOfSession)=\"&A23&\"\", \"Bar\", \"\", \"Close\",\"5\",\"0\",\"PrimaryOnly\",,,\"False\",\"T\",\"EveryTick\")","v":73.069999999999993},-1.403319390095812E-2,{"$f":"RTD(\"cqg.rtd\",,\"StudyData\", \"Close(\"&$D$12&\") when LocalYear(\"&$D$12&\")=\"&$D$4&\" and localMonth(\"&$D$12&\") =\"&$E$4&\" and LocalDay(\"&$D$12&\")=\"&$F$4&\" and Barix(\"&$D$12&\",reference:=StartOfSession)=\"&A23&\"\", \"Bar\", \"\", \"Close\",\"5\",\"0\",\"PrimaryOnly\",,,\"False\",\"T\",\"EveryTick\")","v":73.989999999999995},1.895734597156406E-3,{"$f":"RTD(\"cqg.rtd\",,\"StudyData\", \"Close(\"&$D$12&\") when LocalYear(\"&$D$12&\")=\"&$D$5&\" and localMonth(\"&$D$12&\") =\"&$E$5&\" and LocalDay(\"&$D$12&\")=\"&$F$5&\" and Barix(\"&$D$12&\",reference:=StartOfSession)=\"&A23&\"\", \"Bar\", \"\", \"Close\",\"5\",\"0\",\"PrimaryOnly\",,,\"False\",\"T\",\"EveryTick\")","v":73.510000000000005},-3.9295392953928466E-3,{"$f":"RTD(\"cqg.rtd\",,\"StudyData\", \"Close(\"&$D$12&\") when LocalYear(\"&$D$12&\")=\"&$D$6&\" and localMonth(\"&$D$12&\") =\"&$E$6&\" and LocalDay(\"&$D$12&\")=\"&$F$6&\" and Barix(\"&$D$12&\",reference:=StartOfSession)=\"&A23&\"\", \"Bar\", \"\", \"Close\",\"5\",\"0\",\"PrimaryOnly\",,,\"False\",\"T\",\"EveryTick\")","v":73.34},5.48395941870038E-3,{"$f":"RTD(\"cqg.rtd\",,\"StudyData\", \"Close(\"&$D$12&\") when LocalYear(\"&$D$12&\")=\"&$D$7&\" and localMonth(\"&$D$12&\") =\"&$E$7&\" and LocalDay(\"&$D$12&\")=\"&$F$7&\" and Barix(\"&$D$12&\",reference:=StartOfSession)=\"&A23&\"\", \"Bar\", \"\", \"Close\",\"5\",\"0\",\"PrimaryOnly\",,,\"False\",\"T\",\"EveryTick\")","v":74.040000000000006},-1.3487995683840615E-3,{"$f":"RTD(\"cqg.rtd\",,\"StudyData\", \"Close(\"&$D$12&\") when LocalYear(\"&$D$12&\")=\"&$D$8&\" and localMonth(\"&$D$12&\") =\"&$E$8&\" and LocalDay(\"&$D$12&\")=\"&$F$8&\" and Barix(\"&$D$12&\",reference:=StartOfSession)=\"&A23&\"\", \"Bar\", \"\", \"Close\",\"5\",\"0\",\"PrimaryOnly\",,,\"False\",\"T\",\"EveryTick\")","v":73.19},-1.0143359480659996E-2,{"$f":"RTD(\"cqg.rtd\",,\"StudyData\", \"Close(\"&$D$12&\") when LocalYear(\"&$D$12&\")=\"&$D$9&\" and localMonth(\"&$D$12&\") =\"&$E$9&\" and LocalDay(\"&$D$12&\")=\"&$F$9&\" and Barix(\"&$D$12&\",reference:=StartOfSession)=\"&A23&\"\", \"Bar\", \"\", \"Close\",\"5\",\"0\",\"PrimaryOnly\",,,\"False\",\"T\",\"EveryTick\")","v":73.67},-6.4733648010789476E-3,{"$f":"RTD(\"cqg.rtd\",,\"StudyData\", \"Close(\"&$D$12&\") when LocalYear(\"&$D$12&\")=\"&$D$10&\" and localMonth(\"&$D$12&\") =\"&$E$10&\" and LocalDay(\"&$D$12&\")=\"&$F$10&\" and Barix(\"&$D$12&\",reference:=StartOfSession)=\"&A23&\"\", \"Bar\", \"\", \"Close\",\"5\",\"0\",\"PrimaryOnly\",,,\"False\",\"T\",\"EveryTick\")","v":74.22},1.0483321987746711E-2,null,null,null,""]
[23,"09:55:00",null,6,"#.000000",null,null,{"$f":"RTD(\"cqg.rtd\",,\"StudyData\", \"Close(\"&$D$12&\") when LocalYear(\"&$D$12&\")=\"&$D$1&\" and localMonth(\"&$D$12&\") =\"&$E$1&\" and LocalDay(\"&$D$12&\")=\"&$F$1&\" and Barix(\"&$D$12&\",reference:=StartOfSession)=\"&A24&\"\", \"Bar\", \"\", \"Close\",\"5\",\"0\",\"PrimaryOnly\",,,\"False\",\"T\",\"EveryTick\")","v":70.86},7.5359021754585693E-3,{"$f":"RTD(\"cqg.rtd\",,\"StudyData\", \"Close(\"&$D$12&\") when LocalYear(\"&$D$12&\")=\"&$D$2&\" and localMonth(\"&$D$12&\") =\"&$E$2&\" and LocalDay(\"&$D$12&\")=\"&$F$2&\" and Barix(\"&$D$12&\",reference:=StartOfSession)=\"&A24&\"\", \"Bar\", \"\", \"Close\",\"5\",\"0\",\"PrimaryOnly\",,,\"False\",\"T\",\"EveryTick\")","v":69.55},-1.1793123046319954E-2,{"$f":"RTD(\"cqg.rtd\",,\"StudyData\", \"Close(\"&$D$12&\") when LocalYear(\"&$D$12&\")=\"&$D$3&\" and localMonth(\"&$D$12&\") =\"&$E$3&\" and LocalDay(\"&$D$12&\")=\"&$F$3&\" and Barix(\"&$D$12&\",reference:=StartOfSession)=\"&A24&\"\", \"Bar\", \"\", \"Close\",\"5\",\"0\",\"PrimaryOnly\",,,\"False\",\"T\",\"EveryTick\")","v":73.180000000000007},-1.2548913776818143E-2,{"$f":"RTD(\"cqg.rtd\",,\"StudyData\", \"Close(\"&$D$12&\") when LocalYear(\"&$D$12&\")=\"&$D$4&\" and localMonth(\"&$D$12&\") =\"&$E$4&\" and LocalDay(\"&$D$12&\")=\"&$F$4&\" and Barix(\"&$D$12&\",reference:=StartOfSession)=\"&A24&\"\", \"Bar\", \"\", \"Close\",\"5\",\"0\",\"PrimaryOnly\",,,\"False\",\"T\",\"EveryTick\")","v":74.040000000000006},2.5727826675695591E-3,{"$f":"RTD(\"cqg.rtd\",,\"StudyData\", \"Close(\"&$D$12&\") when LocalYear(\"&$D$12&\")=\"&$D$5&\" and localMonth(\"&$D$12&\") =\"&$E$5&\" and LocalDay(\"&$D$12&\")=\"&$F$5&\" and Barix(\"&$D$12&\",reference:=StartOfSession)=\"&A24&\"\", \"Bar\", \"\", \"Close\",\"5\",\"0\",\"PrimaryOnly\",,,\"False\",\"T\",\"EveryTick\")","v":73.66},-1.8970189701897097E-3,{"$f":"RTD(\"cqg.rtd\",,\"StudyData\", \"Close(\"&$D$12&\") when LocalYear(\"&$D$12&\")=\"&$D$6&\" and localMonth(\"&$D$12&\") =\"&$E$6&\" and LocalDay(\"&$D$12&\")=\"&$F$6&\" and Barix(\"&$D$12&\",reference:=StartOfSession)=\"&A24&\"\", \"Bar\", \"\", \"Close\",\"5\",\"0\",\"PrimaryOnly\",,,\"False\",\"T\",\"EveryTick\")","v":73.489999999999995},7.5404442007128763E-3,{"$f":"RTD(\"cqg.rtd\",,\"StudyData\", \"Close(\"&$D$12&\") when LocalYear(\"&$D$12&\")=\"&$D$7&\" and localMonth(\"&$D$12&\") =\"&$E$7&\" and LocalDay(\"&$D$12&\")=\"&$F$7&\" and Barix(\"&$D$12&\",reference:=StartOfSession)=\"&A24&\"\", \"Bar\", \"\", \"Close\",\"5\",\"0\",\"PrimaryOnly\",,,\"False\",\"T\",\"EveryTick\")","v":73.78},-4.8556784461828897E-3,{"$f":"RTD(\"cqg.rtd\",,\"StudyData\", \"Close(\"&$D$12&\") when LocalYear(\"&$D$12&\")=\"&$D$8&\" and localMonth(\"&$D$12&\") =\"&$E$8&\" and LocalDay(\"&$D$12&\")=\"&$F$8&\" and Barix(\"&$D$12&\",reference:=StartOfSession)=\"&A24&\"\", \"Bar\", \"\", \"Close\",\"5\",\"0\",\"PrimaryOnly\",,,\"False\",\"T\",\"EveryTick\")","v":72.97},-1.3118744928320245E-2,{"$f":"RTD(\"cqg.rtd\",,\"StudyData\", \"Close(\"&$D$12&\") when LocalYear(\"&$D$12&\")=\"&$D$9&\" and localMonth(\"&$D$12&\") =\"&$E$9&\" and LocalDay(\"&$D$12&\")=\"&$F$9&\" and Barix(\"&$D$12&\",reference:=StartOfSession)=\"&A24&\"\", \"Bar\", \"\", \"Close\",\"5\",\"0\",\"PrimaryOnly\",,,\"False\",\"T\",\"EveryTick\")","v":73.72},-5.7990559676332678E-3,{"$f":"RTD(\"cqg.rtd\",,\"StudyData\", \"Close(\"&$D$12&\") when LocalYear(\"&$D$12&\")=\"&$D$10&\" and localMonth(\"&$D$12&\") =\"&$E$10&\" and LocalDay(\"&$D$12&\")=\"&$F$10&\" and Barix(\"&$D$12&\",reference:=StartOfSession)=\"&A24&\"\", \"Bar\", \"\", \"Close\",\"5\",\"0\",\"PrimaryOnly\",,,\"False\",\"T\",\"EveryTick\")","v":74.25},1.0891763104152446E-2,null,null,null,""]
[24,"10:00:00",null,7,"#.0000000",null,null,{"$f":"RTD(\"cqg.rtd\",,\"StudyData\", \"Close(\"&$D$12&\") when LocalYear(\"&$D$12&\")=\"&$D$1&\" and localMonth(\"&$D$12&\") =\"&$E$1&\" and LocalDay(\"&$D$12&\")=\"&$F$1&\" and Barix(\"&$D$12&\",reference:=StartOfSession)=\"&A25&\"\", \"Bar\", \"\", \"Close\",\"5\",\"0\",\"PrimaryOnly\",,,\"False\",\"T\",\"EveryTick\")","v":70.88},7.8202758424569477E-3,{"$f":"RTD(\"cqg.rtd\",,\"StudyData\", \"Close(\"&$D$12&\") when LocalYear(\"&$D$12&\")=\"&$D$2&\" and localMonth(\"&$D$12&\") =\"&$E$2&\" and LocalDay(\"&$D$12&\")=\"&$F$2&\" and Barix(\"&$D$12&\",reference:=StartOfSession)=\"&A25&\"\", \"Bar\", \"\", \"Close\",\"5\",\"0\",\"PrimaryOnly\",,,\"False\",\"T\",\"EveryTick\")","v":69.59},-1.1224779766979142E-2,{"$f":"RTD(\"cqg.rtd\",,\"StudyData\", \"Close(\"&$D$12&\") when LocalYear(\"&$D$12&\")=\"&$D$3&\" and localMonth(\"&$D$12&\") =\"&$E$3&\" and LocalDay(\"&$D$12&\")=\"&$F$3&\" and Barix(\"&$D$12&\",reference:=StartOfSession)=\"&A25&\"\", \"Bar\", \"\", \"Close\",\"5\",\"0\",\"PrimaryOnly\",,,\"False\",\"T\",\"EveryTick\")","v":72.930000000000007},-1.592227769531767E-2,{"$f":"RTD(\"cqg.rtd\",,\"StudyData\", \"Close(\"&$D$12&\") when LocalYear(\"&$D$12&\")=\"&$D$4&\" and localMonth(\"&$D$12&\") =\"&$E$4&\" and LocalDay(\"&$D$12&\")=\"&$F$4&\" and Barix(\"&$D$12&\",reference:=StartOfSession)=\"&A25&\"\", \"Bar\", \"\", \"Close\",\"5\",\"0\",\"PrimaryOnly\",,,\"False\",\"T\",\"EveryTick\")","v":74},2.0311442112390752E-3,{"$f":"RTD(\"cqg.rtd\",,\"StudyData\", \"Close(\"&$D$12&\") when LocalYear(\"&$D$12&\")=\"&$D$5&\" and localMonth(\"&$D$12&\") =\"&$E$5&\" and LocalDay(\"&$D$12&\")=\"&$F$5&\" and Barix(\"&$D$12&\",reference:=StartOfSession)=\"&A25&\"\", \"Bar\", \"\", \"Close\",\"5\",\"0\",\"PrimaryOnly\",,,\"False\",\"T\",\"EveryTick\")","v":73.83},4.065040650406658E-4,{"$f":"RTD(\"cqg.rtd\",,\"StudyData\", \"Close(\"&$D$12&\") when LocalYear(\"&$D$12&\")=\"&$D$6&\" and localMonth(\"&$D$12&\") =\"&$E$6&\" and LocalDay(\"&$D$12&\")=\"&$F$6&\" and Barix(\"&$D$12&\",reference:=StartOfSession)=\"&A25&\"\", \"Bar\", \"\", \"Close\",\"5\",\"0\",\"PrimaryOnly\",,,\"False\",\"T\",\"EveryTick\")","v":73.36},5.7581573896353403E-3,{"$f":"RTD(\"cqg.rtd\",,\"StudyData\", \"Close(\"&$D$12&\") when LocalYear(\"&$D$12&\")=\"&$D$7&\" and localMonth(\"&$D$12&\") =\"&$E$7&\" and LocalDay(\"&$D$12&\")=\"&$F$7&\" and Barix(\"&$D$12&\",reference:=StartOfSession)=\"&A25&\"\", \"Bar\", \"\", \"Close\",\"5\",\"0\",\"PrimaryOnly\",,,\"False\",\"T\",\"EveryTick\")","v":73.19},-1.281359589964935E-2,{"$f":"RTD(\"cqg.rtd\",,\"StudyData\", \"Close(\"&$D$12&\") when LocalYear(\"&$D$12&\")=\"&$D$8&\" and localMonth(\"&$D$12&\") =\"&$E$8&\" and LocalDay(\"&$D$12&\")=\"&$F$8&\" and Barix(\"&$D$12&\",reference:=StartOfSession)=\"&A25&\"\", \"Bar\", \"\", \"Close\",\"5\",\"0\",\"PrimaryOnly\",,,\"False\",\"T\",\"EveryTick\")","v":73.150000000000006},-1.0684338652961754E-2,{"$f":"RTD(\"cqg.rtd\",,\"StudyData\", \"Close(\"&$D$12&\") when LocalYear(\"&$D$12&\")=\"&$D$9&\" and localMonth(\"&$D$12&\") =\"&$E$9&\" and LocalDay(\"&$D$12&\")=\"&$F$9&\" and Barix(\"&$D$12&\",reference:=StartOfSession)=\"&A25&\"\", \"Bar\", \"\", \"Close\",\"5\",\"0\",\"PrimaryOnly\",,,\"False\",\"T\",\"EveryTick\")","v":73.739999999999995},-5.5293324342550344E-3,{"$f":"RTD(\"cqg.rtd\",,\"StudyData\", \"Close(\"&$D$12&\") when LocalYear(\"&$D$12&\")=\"&$D$10&\" and localMonth(\"&$D$12&\") =\"&$E$10&\" and LocalDay(\"&$D$12&\")=\"&$F$10&\" and Barix(\"&$D$12&\",reference:=StartOfSession)=\"&A25&\"\", \"Bar\", \"\", \"Close\",\"5\",\"0\",\"PrimaryOnly\",,,\"False\",\"T\",\"EveryTick\")","v":74.22},1.0483321987746711E-2,null,null,null,""]
[25,"10:05:00",null,null,null,null,null,{"$f":"RTD(\"cqg.rtd\",,\"StudyData\", \"Close(\"&$D$12&\") when LocalYear(\"&$D$12&\")=\"&$D$1&\" and localMonth(\"&$D$12&\") =\"&$E$1&\" and LocalDay(\"&$D$12&\")=\"&$F$1&\" and Barix(\"&$D$12&\",reference:=StartOfSession)=\"&A26&\"\", \"Bar\", \"\", \"Close\",\"5\",\"0\",\"PrimaryOnly\",,,\"False\",\"T\",\"EveryTick\")","v":70.91},8.2468363429546183E-3,{"$f":"RTD(\"cqg.rtd\",,\"StudyData\", \"Close(\"&$D$12&\") when LocalYear(\"&$D$12&\")=\"&$D$2&\" and localMonth(\"&$D$12&\") =\"&$E$2&\" and LocalDay(\"&$D$12&\")=\"&$F$2&\" and Barix(\"&$D$12&\",reference:=StartOfSession)=\"&A26&\"\", \"Bar\", \"\", \"Close\",\"5\",\"0\",\"PrimaryOnly\",,,\"False\",\"T\",\"EveryTick\")","v":69.56},-1.16510372264847E-2,{"$f":"RTD(\"cqg.rtd\",,\"StudyData\", \"Close(\"&$D$12&\") when LocalYear(\"&$D$12&\")=\"&$D$3&\" and localMonth(\"&$D$12&\") =\"&$E$3&\" and LocalDay(\"&$D$12&\")=\"&$F$3&\" and Barix(\"&$D$12&\",reference:=StartOfSession)=\"&A26&\"\", \"Bar\", \"\", \"Close\",\"5\",\"0\",\"PrimaryOnly\",,,\"False\",\"T\",\"EveryTick\")","v":72.77},-1.8081230603157514E-2,{"$f":"RTD(\"cqg.rtd\",,\"StudyData\", \"Close(\"&$D$12&\") when LocalYear(\"&$D$12&\")=\"&$D$4&\" and localMonth(\"&$D$12&\") =\"&$E$4&\" and LocalDay(\"&$D$12&\")=\"&$F$4&\" and Barix(\"&$D$12&\",reference:=StartOfSession)=\"&A26&\"\", \"Bar\", \"\", \"Close\",\"5\",\"0\",\"PrimaryOnly\",,,\"False\",\"T\",\"EveryTick\")","v":73.94},1.2186865267434452E-3,{"$f":"RTD(\"cqg.rtd\",,\"StudyData\", \"Close(\"&$D$12&\") when LocalYear(\"&$D$12&\")=\"&$D$5&\" and localMonth(\"&$D$12&\") =\"&$E$5&\" and LocalDay(\"&$D$12&\")=\"&$F$5&\" and Barix(\"&$D$12&\",reference:=StartOfSession)=\"&A26&\"\", \"Bar\", \"\", \"Close\",\"5\",\"0\",\"PrimaryOnly\",,,\"False\",\"T\",\"EveryTick\")","v":73.83},4.065040650406658E-4,{"$f":"RTD(\"cqg.rtd\",,\"StudyData\", \"Close(\"&$D$12&\") when LocalYear(\"&$D$12&\")=\"&$D$6&\" and localMonth(\"&$D$12&\") =\"&$E$6&\" and LocalDay(\"&$D$12&\")=\"&$F$6&\" and Barix(\"&$D$12&\",reference:=StartOfSession)=\"&A26&\"\", \"Bar\", \"\", \"Close\",\"5\",\"0\",\"PrimaryOnly\",,,\"False\",\"T\",\"EveryTick\")","v":73.430000000000007},6.7178502879079944E-3,{"$f":"RTD(\"cqg.rtd\",,\"StudyData\", \"Close(\"&$D$12&\") when LocalYear(\"&$D$12&\")=\"&$D$7&\" and localMonth(\"&$D$12&\") =\"&$E$7&\" and LocalDay(\"&$D$12&\")=\"&$F$7&\" and Barix(\"&$D$12&\",reference:=StartOfSession)=\"&A26&\"\", \"Bar\", \"\", \"Close\",\"5\",\"0\",\"PrimaryOnly\",,,\"False\",\"T\",\"EveryTick\")","v":73.13},-1.3622875640679865E-2,{"$f":"RTD(\"cqg.rtd\",,\"StudyData\", \"Close(\"&$D$12&\") when LocalYear(\"&$D$12&\")=\"&$D$8&\" and localMonth(\"&$D$12&\") =\"&$E$8&\" and LocalDay(\"&$D$12&\")=\"&$F$8&\" and Barix(\"&$D$12&\",reference:=StartOfSession)=\"&A26&\"\", \"Bar\", \"\", \"Close\",\"5\",\"0\",\"PrimaryOnly\",,,\"False\",\"T\",\"EveryTick\")","v":73.11},-1.1225317825263705E-2,{"$f":"RTD(\"cqg.rtd\",,\"StudyData\", \"Close(\"&$D$12&\") when LocalYear(\"&$D$12&\")=\"&$D$9&\" and localMonth(\"&$D$12&\") =\"&$E$9&\" and LocalDay(\"&$D$12&\")=\"&$F$9&\" and Barix(\"&$D$12&\",reference:=StartOfSession)=\"&A26&\"\", \"Bar\", \"\", \"Close\",\"5\",\"0\",\"PrimaryOnly\",,,\"False\",\"T\",\"EveryTick\")","v":73.81},-4.5853000674309294E-3,{"$f":"RTD(\"cqg.rtd\",,\"StudyData\", \"Close(\"&$D$12&\") when LocalYear(\"&$D$12&\")=\"&$D$10&\" and localMonth(\"&$D$12&\") =\"&$E$10&\" and LocalDay(\"&$D$12&\")=\"&$F$10&\" and Barix(\"&$D$12&\",reference:=StartOfSession)=\"&A26&\"\", \"Bar\", \"\", \"Close\",\"5\",\"0\",\"PrimaryOnly\",,,\"False\",\"T\",\"EveryTick\")","v":74.31},1.1708645336963914E-2,null,null,null,""]
[26,"10:10:00",null,null,null,null,null,{"$f":"RTD(\"cqg.rtd\",,\"StudyData\", \"Close(\"&$D$12&\") when LocalYear(\"&$D$12&\")=\"&$D$1&\" and localMonth(\"&$D$12&\") =\"&$E$1&\" and LocalDay(\"&$D$12&\")=\"&$F$1&\" and Barix(\"&$D$12&\",reference:=StartOfSession)=\"&A27&\"\", \"Bar\", \"\", \"Close\",\"5\",\"0\",\"PrimaryOnly\",,,\"False\",\"T\",\"EveryTick\")","v":71.03},9.9530783449452986E-3,{"$f":"RTD(\"cqg.rtd\",,\"StudyData\", \"Close(\"&$D$12&\") when LocalYear(\"&$D$12&\")=\"&$D$2&\" and localMonth(\"&$D$12&\") =\"&$E$2&\" and LocalDay(\"&$D$12&\")=\"&$F$2&\" and Barix(\"&$D$12&\",reference:=StartOfSession)=\"&A27&\"\", \"Bar\", \"\", \"Close\",\"5\",\"0\",\"PrimaryOnly\",,,\"False\",\"T\",\"EveryTick\")","v":69.48},-1.278772378516612E-2,{"$f":"RTD(\"cqg.rtd\",,\"StudyData\", \"Close(\"&$D$12&\") when LocalYear(\"&$D$12&\")=\"&$D$3&\" and localMonth(\"&$D$12&\") =\"&$E$3&\" and LocalDay(\"&$D$12&\")=\"&$F$3&\" and Barix(\"&$D$12&\",reference:=StartOfSession)=\"&A27&\"\", \"Bar\", \"\", \"Close\",\"5\",\"0\",\"PrimaryOnly\",,,\"False\",\"T\",\"EveryTick\")","v":72.78},-1.7946296046417464E-2,{"$f":"RTD(\"cqg.rtd\",,\"StudyData\", \"Close(\"&$D$12&\") when LocalYear(\"&$D$12&\")=\"&$D$4&\" and localMonth(\"&$D$12&\") =\"&$E$4&\" and LocalDay(\"&$D$12&\")=\"&$F$4&\" and Barix(\"&$D$12&\",reference:=StartOfSession)=\"&A27&\"\", \"Bar\", \"\", \"Close\",\"5\",\"0\",\"PrimaryOnly\",,,\"False\",\"T\",\"EveryTick\")","v":73.98},1.7603249830739293E-3,{"$f":"RTD(\"cqg.rtd\",,\"StudyData\", \"Close(\"&$D$12&\") when LocalYear(\"&$D$12&\")=\"&$D$5&\" and localMonth(\"&$D$12&\") =\"&$E$5&\" and LocalDay(\"&$D$12&\")=\"&$F$5&\" and Barix(\"&$D$12&\",reference:=StartOfSession)=\"&A27&\"\", \"Bar\", \"\", \"Close\",\"5\",\"0\",\"PrimaryOnly\",,,\"False\",\"T\",\"EveryTick\")","v":73.77},-4.065040650406658E-4,{"$f":"RTD(\"cqg.rtd\",,\"StudyData\", \"Close(\"&$D$12&\") when LocalYear(\"&$D$12&\")=\"&$D$6&\" and localMonth(\"&$D$12&\") =\"&$E$6&\" and LocalDay(\"&$D$12&\")=\"&$F$6&\" and Barix(\"&$D$12&\",reference:=StartOfSession)=\"&A27&\"\", \"Bar\", \"\", \"Close\",\"5\",\"0\",\"PrimaryOnly\",,,\"False\",\"T\",\"EveryTick\")","v":73.52},7.9517411571154144E-3,{"$f":"RTD(\"cqg.rtd\",,\"StudyData\", \"Close(\"&$D$12&\") when LocalYear(\"&$D$12&\")=\"&$D$7&\" and localMonth(\"&$D$12&\") =\"&$E$7&\" and LocalDay(\"&$D$12&\")=\"&$F$7&\" and Barix(\"&$D$12&\",reference:=StartOfSession)=\"&A27&\"\", \"Bar\", \"\", \"Close\",\"5\",\"0\",\"PrimaryOnly\",,,\"False\",\"T\",\"EveryTick\")","v":73.209999999999994},-1.2543835985972576E-2,{"$f":"RTD(\"cqg.rtd\",,\"StudyData\", \"Close(\"&$D$12&\") when LocalYear(\"&$D$12&\")=\"&$D$8&\" and localMonth(\"&$D$12&\") =\"&$E$8&\" and LocalDay(\"&$D$12&\")=\"&$F$8&\" and Barix(\"&$D$12&\",reference:=StartOfSession)=\"&A27&\"\", \"Bar\", \"\", \"Close\",\"5\",\"0\",\"PrimaryOnly\",,,\"False\",\"T\",\"EveryTick\")","v":73.150000000000006},-1.0684338652961754E-2,{"$f":"RTD(\"cqg.rtd\",,\"StudyData\", \"Close(\"&$D$12&\") when LocalYear(\"&$D$12&\")=\"&$D$9&\" and localMonth(\"&$D$12&\") =\"&$E$9&\" and LocalDay(\"&$D$12&\")=\"&$F$9&\" and Barix(\"&$D$12&\",reference:=StartOfSession)=\"&A27&\"\", \"Bar\", \"\", \"Close\",\"5\",\"0\",\"PrimaryOnly\",,,\"False\",\"T\",\"EveryTick\")","v":73.75},-5.3944706675658214E-3,{"$f":"RTD(\"cqg.rtd\",,\"StudyData\", \"Close(\"&$D$12&\") when LocalYear(\"&$D$12&\")=\"&$D$10&\" and localMonth(\"&$D$12&\") =\"&$E$10&\" and LocalDay(\"&$D$12&\")=\"&$F$10&\" and Barix(\"&$D$12&\",reference:=StartOfSession)=\"&A27&\"\", \"Bar\", \"\", \"Close\",\"5\",\"0\",\"PrimaryOnly\",,,\"False\",\"T\",\"EveryTick\")","v":74.349999999999994},1.2253233492171429E-2,null,null,null,""]
[27,"10:15:00",null,null,null,null,null,{"$f":"RTD(\"cqg.rtd\",,\"StudyData\", \"Close(\"&$D$12&\") when LocalYear(\"&$D$12&\")=\"&$D$1&\" and localMonth(\"&$D$12&\") =\"&$E$1&\" and LocalDay(\"&$D$12&\")=\"&$F$1&\" and Barix(\"&$D$12&\",reference:=StartOfSession)=\"&A28&\"\", \"Bar\", \"\", \"Close\",\"5\",\"0\",\"PrimaryOnly\",,,\"False\",\"T\",\"EveryTick\")","v":71.22},1.2654628181430408E-2,{"$f":"RTD(\"cqg.rtd\",,\"StudyData\", \"Close(\"&$D$12&\") when LocalYear(\"&$D$12&\")=\"&$D$2&\" and localMonth(\"&$D$12&\") =\"&$E$2&\" and LocalDay(\"&$D$12&\")=\"&$F$2&\" and Barix(\"&$D$12&\",reference:=StartOfSession)=\"&A28&\"\", \"Bar\", \"\", \"Close\",\"5\",\"0\",\"PrimaryOnly\",,,\"False\",\"T\",\"EveryTick\")","v":69.33},-1.4919011082693908E-2,{"$f":"RTD(\"cqg.rtd\",,\"StudyData\", \"Close(\"&$D$12&\") when LocalYear(\"&$D$12&\")=\"&$D$3&\" and localMonth(\"&$D$12&\") =\"&$E$3&\" and LocalDay(\"&$D$12&\")=\"&$F$3&\" and Barix(\"&$D$12&\",reference:=StartOfSession)=\"&A28&\"\", \"Bar\", \"\", \"Close\",\"5\",\"0\",\"PrimaryOnly\",,,\"False\",\"T\",\"EveryTick\")","v":72.7},-1.9025772500337289E-2,{"$f":"RTD(\"cqg.rtd\",,\"StudyData\", \"Close(\"&$D$12&\") when LocalYear(\"&$D$12&\")=\"&$D$4&\" and localMonth(\"&$D$12&\") =\"&$E$4&\" and LocalDay(\"&$D$12&\")=\"&$F$4&\" and Barix(\"&$D$12&\",reference:=StartOfSession)=\"&A28&\"\", \"Bar\", \"\", \"Close\",\"5\",\"0\",\"PrimaryOnly\",,,\"False\",\"T\",\"EveryTick\")","v":74.040000000000006},2.5727826675695591E-3,{"$f":"RTD(\"cqg.rtd\",,\"StudyData\", \"Close(\"&$D$12&\") when LocalYear(\"&$D$12&\")=\"&$D$5&\" and localMonth(\"&$D$12&\") =\"&$E$5&\" and LocalDay(\"&$D$12&\")=\"&$F$5&\" and Barix(\"&$D$12&\",reference:=StartOfSession)=\"&A28&\"\", \"Bar\", \"\", \"Close\",\"5\",\"0\",\"PrimaryOnly\",,,\"False\",\"T\",\"EveryTick\")","v":73.66},-1.8970189701897097E-3,{"$f":"RTD(\"cqg.rtd\",,\"StudyData\", \"Close(\"&$D$12&\") when LocalYear(\"&$D$12&\")=\"&$D$6&\" and localMonth(\"&$D$12&\") =\"&$E$6&\" and LocalDay(\"&$D$12&\")=\"&$F$6&\" and Barix(\"&$D$12&\",reference:=StartOfSession)=\"&A28&\"\", \"Bar\", \"\", \"Close\",\"5\",\"0\",\"PrimaryOnly\",,,\"False\",\"T\",\"EveryTick\")","v":73.55},8.3630381135179517E-3,{"$f":"RTD(\"cqg.rtd\",,\"StudyData\", \"Close(\"&$D$12&\") when LocalYear(\"&$D$12&\")=\"&$D$7&\" and localMonth(\"&$D$12&\") =\"&$E$7&\" and LocalDay(\"&$D$12&\")=\"&$F$7&\" and Barix(\"&$D$12&\",reference:=StartOfSession)=\"&A28&\"\", \"Bar\", \"\", \"Close\",\"5\",\"0\",\"PrimaryOnly\",,,\"False\",\"T\",\"EveryTick\")","v":73.239999999999995},-1.213919611545732E-2,{"$f":"RTD(\"cqg.rtd\",,\"StudyData\", \"Close(\"&$D$12&\") when LocalYear(\"&$D$12&\")=\"&$D$8&\" and localMonth(\"&$D$12&\") =\"&$E$8&\" and LocalDay(\"&$D$12&\")=\"&$F$8&\" and Barix(\"&$D$12&\",reference:=StartOfSession)=\"&A28&\"\", \"Bar\", \"\", \"Close\",\"5\",\"0\",\"PrimaryOnly\",,,\"False\",\"T\",\"EveryTick\")","v":72.88},-1.433594806599949E-2,{"$f":"RTD(\"cqg.rtd\",,\"StudyData\", \"Close(\"&$D$12&\") when LocalYear(\"&$D$12&\")=\"&$D$9&\" and localMonth(\"&$D$12&\") =\"&$E$9&\" and LocalDay(\"&$D$12&\")=\"&$F$9&\" and Barix(\"&$D$12&\",reference:=StartOfSession)=\"&A28&\"\", \"Bar\", \"\", \"Close\",\"5\",\"0\",\"PrimaryOnly\",,,\"False\",\"T\",\"EveryTick\")","v":73.66},-6.6082265677681598E-3,{"$f":"RTD(\"cqg.rtd\",,\"StudyData\", \"Close(\"&$D$12&\") when LocalYear(\"&$D$12&\")=\"&$D$10&\" and localMonth(\"&$D$12&\") =\"&$E$10&\" and LocalDay(\"&$D$12&\")=\"&$F$10&\" and Barix(\"&$D$12&\",reference:=StartOfSession)=\"&A28&\"\", \"Bar\", \"\", \"Close\",\"5\",\"0\",\"PrimaryOnly\",,,\"False\",\"T\",\"EveryTick\")","v":74.209999999999994},1.0347174948944736E-2,null,null,null,""]
[28,"10:20:00",null,null,null,null,null,{"$f":"RTD(\"cqg.rtd\",,\"StudyData\", \"Close(\"&$D$12&\") when LocalYear(\"&$D$12&\")=\"&$D$1&\" and localMonth(\"&$D$12&\") =\"&$E$1&\" and LocalDay(\"&$D$12&\")=\"&$F$1&\" and Barix(\"&$D$12&\",reference:=StartOfSession)=\"&A29&\"\", \"Bar\", \"\", \"Close\",\"5\",\"0\",\"PrimaryOnly\",,,\"False\",\"T\",\"EveryTick\")","v":71.13},1.1374946679937398E-2,{"$f":"RTD(\"cqg.rtd\",,\"StudyData\", \"Close(\"&$D$12&\") when LocalYear(\"&$D$12&\")=\"&$D$2&\" and localMonth(\"&$D$12&\") =\"&$E$2&\" and LocalDay(\"&$D$12&\")=\"&$F$2&\" and Barix(\"&$D$12&\",reference:=StartOfSession)=\"&A29&\"\", \"Bar\", \"\", \"Close\",\"5\",\"0\",\"PrimaryOnly\",,,\"False\",\"T\",\"EveryTick\")","v":69.5},-1.2503552145495816E-2,{"$f":"RTD(\"cqg.rtd\",,\"StudyData\", \"Close(\"&$D$12&\") when LocalYear(\"&$D$12&\")=\"&$D$3&\" and localMonth(\"&$D$12&\") =\"&$E$3&\" and LocalDay(\"&$D$12&\")=\"&$F$3&\" and Barix(\"&$D$12&\",reference:=StartOfSession)=\"&A29&\"\", \"Bar\", \"\", \"Close\",\"5\",\"0\",\"PrimaryOnly\",,,\"False\",\"T\",\"EveryTick\")","v":72.69},-1.9160707057077342E-2,{"$f":"RTD(\"cqg.rtd\",,\"StudyData\", \"Close(\"&$D$12&\") when LocalYear(\"&$D$12&\")=\"&$D$4&\" and localMonth(\"&$D$12&\") =\"&$E$4&\" and LocalDay(\"&$D$12&\")=\"&$F$4&\" and Barix(\"&$D$12&\",reference:=StartOfSession)=\"&A29&\"\", \"Bar\", \"\", \"Close\",\"5\",\"0\",\"PrimaryOnly\",,,\"False\",\"T\",\"EveryTick\")","v":74.010000000000005},2.1665538253217444E-3,{"$f":"RTD(\"cqg.rtd\",,\"StudyData\", \"Close(\"&$D$12&\") when LocalYear(\"&$D$12&\")=\"&$D$5&\" and localMonth(\"&$D$12&\") =\"&$E$5&\" and LocalDay(\"&$D$12&\")=\"&$F$5&\" and Barix(\"&$D$12&\",reference:=StartOfSession)=\"&A29&\"\", \"Bar\", \"\", \"Close\",\"5\",\"0\",\"PrimaryOnly\",,,\"False\",\"T\",\"EveryTick\")","v":73.69},-1.4905149051490439E-3,{"$f":"RTD(\"cqg.rtd\",,\"StudyData\", \"Close(\"&$D$12&\") when LocalYear(\"&$D$12&\")=\"&$D$6&\" and localMonth(\"&$D$12&\") =\"&$E$6&\" and LocalDay(\"&$D$12&\")=\"&$F$6&\" and Barix(\"&$D$12&\",reference:=StartOfSession)=\"&A29&\"\", \"Bar\", \"\", \"Close\",\"5\",\"0\",\"PrimaryOnly\",,,\"False\",\"T\",\"EveryTick\")","v":73.55},8.3630381135179517E-3,{"$f":"RTD(\"cqg.rtd\",,\"StudyData\", \"Close(\"&$D$12&\") when LocalYear(\"&$D$12&\")=\"&$D$7&\" and localMonth(\"&$D$12&\") =\"&$E$7&\" and LocalDay(\"&$D$12&\")=\"&$F$7&\" and Barix(\"&$D$12&\",reference:=StartOfSession)=\"&A29&\"\", \"Bar\", \"\", \"Close\",\"5\",\"0\",\"PrimaryOnly\",,,\"False\",\"T\",\"EveryTick\")","v":73.569999999999993},-7.6881575397896871E-3,{"$f":"RTD(\"cqg.rtd\",,\"StudyData\", \"Close(\"&$D$12&\") when LocalYear(\"&$D$12&\")=\"&$D$8&\" and localMonth(\"&$D$12&\") =\"&$E$8&\" and LocalDay(\"&$D$12&\")=\"&$F$8&\" and Barix(\"&$D$12&\",reference:=StartOfSession)=\"&A29&\"\", \"Bar\", \"\", \"Close\",\"5\",\"0\",\"PrimaryOnly\",,,\"False\",\"T\",\"EveryTick\")","v":72.87},-1.4471192859074835E-2,{"$f":"RTD(\"cqg.rtd\",,\"StudyData\", \"Close(\"&$D$12&\") when LocalYear(\"&$D$12&\")=\"&$D$9&\" and localMonth(\"&$D$12&\") =\"&$E$9&\" and LocalDay(\"&$D$12&\")=\"&$F$9&\" and Barix(\"&$D$12&\",reference:=StartOfSession)=\"&A29&\"\", \"Bar\", \"\", \"Close\",\"5\",\"0\",\"PrimaryOnly\",,,\"False\",\"T\",\"EveryTick\")","v":73.67},-6.4733648010789476E-3,{"$f":"RTD(\"cqg.rtd\",,\"StudyData\", \"Close(\"&$D$12&\") when LocalYear(\"&$D$12&\")=\"&$D$10&\" and localMonth(\"&$D$12&\") =\"&$E$10&\" and LocalDay(\"&$D$12&\")=\"&$F$10&\" and Barix(\"&$D$12&\",reference:=StartOfSession)=\"&A29&\"\", \"Bar\", \"\", \"Close\",\"5\",\"0\",\"PrimaryOnly\",,,\"False\",\"T\",\"EveryTick\")","v":74.11},8.9857045609257526E-3,null,null,null,""]
[29,"10:25:00",null,null,null,null,null,{"$f":"RTD(\"cqg.rtd\",,\"StudyData\", \"Close(\"&$D$12&\") when LocalYear(\"&$D$12&\")=\"&$D$1&\" and localMonth(\"&$D$12&\") =\"&$E$1&\" and LocalDay(\"&$D$12&\")=\"&$F$1&\" and Barix(\"&$D$12&\",reference:=StartOfSession)=\"&A30&\"\", \"Bar\", \"\", \"Close\",\"5\",\"0\",\"PrimaryOnly\",,,\"False\",\"T\",\"EveryTick\")","v":71.11},1.1090573012939019E-2,{"$f":"RTD(\"cqg.rtd\",,\"StudyData\", \"Close(\"&$D$12&\") when LocalYear(\"&$D$12&\")=\"&$D$2&\" and localMonth(\"&$D$12&\") =\"&$E$2&\" and LocalDay(\"&$D$12&\")=\"&$F$2&\" and Barix(\"&$D$12&\",reference:=StartOfSession)=\"&A30&\"\", \"Bar\", \"\", \"Close\",\"5\",\"0\",\"PrimaryOnly\",,,\"False\",\"T\",\"EveryTick\")","v":69.7},-9.661835748792166E-3,{"$f":"RTD(\"cqg.rtd\",,\"StudyData\", \"Close(\"&$D$12&\") when LocalYear(\"&$D$12&\")=\"&$D$3&\" and localMonth(\"&$D$12&\") =\"&$E$3&\" and LocalDay(\"&$D$12&\")=\"&$F$3&\" and Barix(\"&$D$12&\",reference:=StartOfSession)=\"&A30&\"\", \"Bar\", \"\", \"Close\",\"5\",\"0\",\"PrimaryOnly\",,,\"False\",\"T\",\"EveryTick\")","v":72.569999999999993},-2.0779921737957174E-2,{"$f":"RTD(\"cqg.rtd\",,\"StudyData\", \"Close(\"&$D$12&\") when LocalYear(\"&$D$12&\")=\"&$D$4&\" and localMonth(\"&$D$12&\") =\"&$E$4&\" and LocalDay(\"&$D$12&\")=\"&$F$4&\" and Barix(\"&$D$12&\",reference:=StartOfSession)=\"&A30&\"\", \"Bar\", \"\", \"Close\",\"5\",\"0\",\"PrimaryOnly\",,,\"False\",\"T\",\"EveryTick\")","v":73.98},1.7603249830739293E-3,{"$f":"RTD(\"cqg.rtd\",,\"StudyData\", \"Close(\"&$D$12&\") when LocalYear(\"&$D$12&\")=\"&$D$5&\" and localMonth(\"&$D$12&\") =\"&$E$5&\" and LocalDay(\"&$D$12&\")=\"&$F$5&\" and Barix(\"&$D$12&\",reference:=StartOfSession)=\"&A30&\"\", \"Bar\", \"\", \"Close\",\"5\",\"0\",\"PrimaryOnly\",,,\"False\",\"T\",\"EveryTick\")","v":73.42},-5.149051490514844E-3,{"$f":"RTD(\"cqg.rtd\",,\"StudyData\", \"Close(\"&$D$12&\") when LocalYear(\"&$D$12&\")=\"&$D$6&\" and localMonth(\"&$D$12&\") =\"&$E$6&\" and LocalDay(\"&$D$12&\")=\"&$F$6&\" and Barix(\"&$D$12&\",reference:=StartOfSession)=\"&A30&\"\", \"Bar\", \"\", \"Close\",\"5\",\"0\",\"PrimaryOnly\",,,\"False\",\"T\",\"EveryTick\")","v":73.48},7.4033452152454928E-3,{"$f":"RTD(\"cqg.rtd\",,\"StudyData\", \"Close(\"&$D$12&\") when LocalYear(\"&$D$12&\")=\"&$D$7&\" and localMonth(\"&$D$12&\") =\"&$E$7&\" and LocalDay(\"&$D$12&\")=\"&$F$7&\" and Barix(\"&$D$12&\",reference:=StartOfSession)=\"&A30&\"\", \"Bar\", \"\", \"Close\",\"5\",\"0\",\"PrimaryOnly\",,,\"False\",\"T\",\"EveryTick\")","v":73.44},-9.4415969786890049E-3,{"$f":"RTD(\"cqg.rtd\",,\"StudyData\", \"Close(\"&$D$12&\") when LocalYear(\"&$D$12&\")=\"&$D$8&\" and localMonth(\"&$D$12&\") =\"&$E$8&\" and LocalDay(\"&$D$12&\")=\"&$F$8&\" and Barix(\"&$D$12&\",reference:=StartOfSession)=\"&A30&\"\", \"Bar\", \"\", \"Close\",\"5\",\"0\",\"PrimaryOnly\",,,\"False\",\"T\",\"EveryTick\")","v":73.02},-1.244252096294295E-2,{"$f":"RTD(\"cqg.rtd\",,\"StudyData\", \"Close(\"&$D$12&\") when LocalYear(\"&$D$12&\")=\"&$D$9&\" and localMonth(\"&$D$12&\") =\"&$E$9&\" and LocalDay(\"&$D$12&\")=\"&$F$9&\" and Barix(\"&$D$12&\",reference:=StartOfSession)=\"&A30&\"\", \"Bar\", \"\", \"Close\",\"5\",\"0\",\"PrimaryOnly\",,,\"False\",\"T\",\"EveryTick\")","v":73.67},-6.4733648010789476E-3,{"$f":"RTD(\"cqg.rtd\",,\"StudyData\", \"Close(\"&$D$12&\") when LocalYear(\"&$D$12&\")=\"&$D$10&\" and localMonth(\"&$D$12&\") =\"&$E$10&\" and LocalDay(\"&$D$12&\")=\"&$F$10&\" and Barix(\"&$D$12&\",reference:=StartOfSession)=\"&A30&\"\", \"Bar\", \"\", \"Close\",\"5\",\"0\",\"PrimaryOnly\",,,\"False\",\"T\",\"EveryTick\")","v":74.150000000000006},9.5302927161334625E-3,null,null,null,29]
[30,"10:30:00",null,null,null,null,null,{"$f":"RTD(\"cqg.rtd\",,\"StudyData\", \"Close(\"&$D$12&\") when LocalYear(\"&$D$12&\")=\"&$D$1&\" and localMonth(\"&$D$12&\") =\"&$E$1&\" and LocalDay(\"&$D$12&\")=\"&$F$1&\" and Barix(\"&$D$12&\",reference:=StartOfSession)=\"&A31&\"\", \"Bar\", \"\", \"Close\",\"5\",\"0\",\"PrimaryOnly\",,,\"False\",\"T\",\"EveryTick\")","v":""},{"$error":"#N/A"},{"$f":"RTD(\"cqg.rtd\",,\"StudyData\", \"Close(\"&$D$12&\") when LocalYear(\"&$D$12&\")=\"&$D$2&\" and localMonth(\"&$D$12&\") =\"&$E$2&\" and LocalDay(\"&$D$12&\")=\"&$F$2&\" and Barix(\"&$D$12&\",reference:=StartOfSession)=\"&A31&\"\", \"Bar\", \"\", \"Close\",\"5\",\"0\",\"PrimaryOnly\",,,\"False\",\"T\",\"EveryTick\")","v":69.599999999999994},-1.1082693947144092E-2,{"$f":"RTD(\"cqg.rtd\",,\"StudyData\", \"Close(\"&$D$12&\") when LocalYear(\"&$D$12&\")=\"&$D$3&\" and localMonth(\"&$D$12&\") =\"&$E$3&\" and LocalDay(\"&$D$12&\")=\"&$F$3&\" and Barix(\"&$D$12&\",reference:=StartOfSession)=\"&A31&\"\", \"Bar\", \"\", \"Close\",\"5\",\"0\",\"PrimaryOnly\",,,\"False\",\"T\",\"EveryTick\")","v":72.52},-2.1454594521657041E-2,{"$f":"RTD(\"cqg.rtd\",,\"StudyData\", \"Close(\"&$D$12&\") when LocalYear(\"&$D$12&\")=\"&$D$4&\" and localMonth(\"&$D$12&\") =\"&$E$4&\" and LocalDay(\"&$D$12&\")=\"&$F$4&\" and Barix(\"&$D$12&\",reference:=StartOfSession)=\"&A31&\"\", \"Bar\", \"\", \"Close\",\"5\",\"0\",\"PrimaryOnly\",,,\"False\",\"T\",\"EveryTick\")","v":74.02},2.3019634394042211E-3,{"$f":"RTD(\"cqg.rtd\",,\"StudyData\", \"Close(\"&$D$12&\") when LocalYear(\"&$D$12&\")=\"&$D$5&\" and localMonth(\"&$D$12&\") =\"&$E$5&\" and LocalDay(\"&$D$12&\")=\"&$F$5&\" and Barix(\"&$D$12&\",reference:=StartOfSession)=\"&A31&\"\", \"Bar\", \"\", \"Close\",\"5\",\"0\",\"PrimaryOnly\",,,\"False\",\"T\",\"EveryTick\")","v":73.510000000000005},-3.9295392953928466E-3,{"$f":"RTD(\"cqg.rtd\",,\"StudyData\", \"Close(\"&$D$12&\") when LocalYear(\"&$D$12&\")=\"&$D$6&\" and localMonth(\"&$D$12&\") =\"&$E$6&\" and LocalDay(\"&$D$12&\")=\"&$F$6&\" and Barix(\"&$D$12&\",reference:=StartOfSession)=\"&A31&\"\", \"Bar\", \"\", \"Close\",\"5\",\"0\",\"PrimaryOnly\",,,\"False\",\"T\",\"EveryTick\")","v":73.52},7.9517411571154144E-3,{"$f":"RTD(\"cqg.rtd\",,\"StudyData\", \"Close(\"&$D$12&\") when LocalYear(\"&$D$12&\")=\"&$D$7&\" and localMonth(\"&$D$12&\") =\"&$E$7&\" and LocalDay(\"&$D$12&\")=\"&$F$7&\" and Barix(\"&$D$12&\",reference:=StartOfSession)=\"&A31&\"\", \"Bar\", \"\", \"Close\",\"5\",\"0\",\"PrimaryOnly\",,,\"False\",\"T\",\"EveryTick\")","v":73.56},-7.823037496627978E-3,{"$f":"RTD(\"cqg.rtd\",,\"StudyData\", \"Close(\"&$D$12&\") when LocalYear(\"&$D$12&\")=\"&$D$8&\" and localMonth(\"&$D$12&\") =\"&$E$8&\" and LocalDay(\"&$D$12&\")=\"&$F$8&\" and Barix(\"&$D$12&\",reference:=StartOfSession)=\"&A31&\"\", \"Bar\", \"\", \"Close\",\"5\",\"0\",\"PrimaryOnly\",,,\"False\",\"T\",\"EveryTick\")","v":73.010000000000005},-1.2577765756018294E-2,{"$f":"RTD(\"cqg.rtd\",,\"StudyData\", \"Close(\"&$D$12&\") when LocalYear(\"&$D$12&\")=\"&$D$9&\" and localMonth(\"&$D$12&\") =\"&$E$9&\" and LocalDay(\"&$D$12&\")=\"&$F$9&\" and Barix(\"&$D$12&\",reference:=StartOfSession)=\"&A31&\"\", \"Bar\", \"\", \"Close\",\"5\",\"0\",\"PrimaryOnly\",,,\"False\",\"T\",\"EveryTick\")","v":73.69},-6.2036412677007133E-3,{"$f":"RTD(\"cqg.rtd\",,\"StudyData\", \"Close(\"&$D$12&\") when LocalYear(\"&$D$12&\")=\"&$D$10&\" and localMonth(\"&$D$12&\") =\"&$E$10&\" and LocalDay(\"&$D$12&\")=\"&$F$10&\" and Barix(\"&$D$12&\",reference:=StartOfSession)=\"&A31&\"\", \"Bar\", \"\", \"Close\",\"5\",\"0\",\"PrimaryOnly\",,,\"False\",\"T\",\"EveryTick\")","v":74.25},1.0891763104152446E-2,null,null,null,""]
[31,"10:35:00",null,null,null,null,null,{"$f":"RTD(\"cqg.rtd\",,\"StudyData\", \"Close(\"&$D$12&\") when LocalYear(\"&$D$12&\")=\"&$D$1&\" and localMonth(\"&$D$12&\") =\"&$E$1&\" and LocalDay(\"&$D$12&\")=\"&$F$1&\" and Barix(\"&$D$12&\",reference:=StartOfSession)=\"&A32&\"\", \"Bar\", \"\", \"Close\",\"5\",\"0\",\"PrimaryOnly\",,,\"False\",\"T\",\"EveryTick\")","v":""},{"$error":"#N/A"},{"$f":"RTD(\"cqg.rtd\",,\"StudyData\", \"Close(\"&$D$12&\") when LocalYear(\"&$D$12&\")=\"&$D$2&\" and localMonth(\"&$D$12&\") =\"&$E$2&\" and LocalDay(\"&$D$12&\")=\"&$F$2&\" and Barix(\"&$D$12&\",reference:=StartOfSession)=\"&A32&\"\", \"Bar\", \"\", \"Close\",\"5\",\"0\",\"PrimaryOnly\",,,\"False\",\"T\",\"EveryTick\")","v":69.78},-8.5251491901107476E-3,{"$f":"RTD(\"cqg.rtd\",,\"StudyData\", \"Close(\"&$D$12&\") when LocalYear(\"&$D$12&\")=\"&$D$3&\" and localMonth(\"&$D$12&\") =\"&$E$3&\" and LocalDay(\"&$D$12&\")=\"&$F$3&\" and Barix(\"&$D$12&\",reference:=StartOfSession)=\"&A32&\"\", \"Bar\", \"\", \"Close\",\"5\",\"0\",\"PrimaryOnly\",,,\"False\",\"T\",\"EveryTick\")","v":72.489999999999995},-2.1859398191877003E-2,{"$f":"RTD(\"cqg.rtd\",,\"StudyData\", \"Close(\"&$D$12&\") when LocalYear(\"&$D$12&\")=\"&$D$4&\" and localMonth(\"&$D$12&\") =\"&$E$4&\" and LocalDay(\"&$D$12&\")=\"&$F$4&\" and Barix(\"&$D$12&\",reference:=StartOfSession)=\"&A32&\"\", \"Bar\", \"\", \"Close\",\"5\",\"0\",\"PrimaryOnly\",,,\"False\",\"T\",\"EveryTick\")","v":73.94},1.2186865267434452E-3,{"$f":"RTD(\"cqg.rtd\",,\"StudyData\", \"Close(\"&$D$12&\") when LocalYear(\"&$D$12&\")=\"&$D$5&\" and localMonth(\"&$D$12&\") =\"&$E$5&\" and LocalDay(\"&$D$12&\")=\"&$F$5&\" and Barix(\"&$D$12&\",reference:=StartOfSession)=\"&A32&\"\", \"Bar\", \"\", \"Close\",\"5\",\"0\",\"PrimaryOnly\",,,\"False\",\"T\",\"EveryTick\")","v":73.510000000000005},-3.9295392953928466E-3,{"$f":"RTD(\"cqg.rtd\",,\"StudyData\", \"Close(\"&$D$12&\") when LocalYear(\"&$D$12&\")=\"&$D$6&\" and localMonth(\"&$D$12&\") =\"&$E$6&\" and LocalDay(\"&$D$12&\")=\"&$F$6&\" and Barix(\"&$D$12&\",reference:=StartOfSession)=\"&A32&\"\", \"Bar\", \"\", \"Close\",\"5\",\"0\",\"PrimaryOnly\",,,\"False\",\"T\",\"EveryTick\")","v":73.8},1.179051275020564E-2,{"$f":"RTD(\"cqg.rtd\",,\"StudyData\", \"Close(\"&$D$12&\") when LocalYear(\"&$D$12&\")=\"&$D$7&\" and localMonth(\"&$D$12&\") =\"&$E$7&\" and LocalDay(\"&$D$12&\")=\"&$F$7&\" and Barix(\"&$D$12&\",reference:=StartOfSession)=\"&A32&\"\", \"Bar\", \"\", \"Close\",\"5\",\"0\",\"PrimaryOnly\",,,\"False\",\"T\",\"EveryTick\")","v":73.540000000000006},-8.0927974103047525E-3,{"$f":"RTD(\"cqg.rtd\",,\"StudyData\", \"Close(\"&$D$12&\") when LocalYear(\"&$D$12&\")=\"&$D$8&\" and localMonth(\"&$D$12&\") =\"&$E$8&\" and LocalDay(\"&$D$12&\")=\"&$F$8&\" and Barix(\"&$D$12&\",reference:=StartOfSession)=\"&A32&\"\", \"Bar\", \"\", \"Close\",\"5\",\"0\",\"PrimaryOnly\",,,\"False\",\"T\",\"EveryTick\")","v":73.040000000000006},-1.2172031376791879E-2,{"$f":"RTD(\"cqg.rtd\",,\"StudyData\", \"Close(\"&$D$12&\") when LocalYear(\"&$D$12&\")=\"&$D$9&\" and localMonth(\"&$D$12&\") =\"&$E$9&\" and LocalDay(\"&$D$12&\")=\"&$F$9&\" and Barix(\"&$D$12&\",reference:=StartOfSession)=\"&A32&\"\", \"Bar\", \"\", \"Close\",\"5\",\"0\",\"PrimaryOnly\",,,\"False\",\"T\",\"EveryTick\")","v":73.69},-6.2036412677007133E-3,{"$f":"RTD(\"cqg.rtd\",,\"StudyData\", \"Close(\"&$D$12&\") when LocalYear(\"&$D$12&\")=\"&$D$10&\" and localMonth(\"&$D$12&\") =\"&$E$10&\" and LocalDay(\"&$D$12&\")=\"&$F$10&\" and Barix(\"&$D$12&\",reference:=StartOfSession)=\"&A32&\"\", \"Bar\", \"\", \"Close\",\"5\",\"0\",\"PrimaryOnly\",,,\"False\",\"T\",\"EveryTick\")","v":73.94},6.6712049012933273E-3,null,null,null,""]
[32,"10:40:00",null,null,null,null,null,{"$f":"RTD(\"cqg.rtd\",,\"StudyData\", \"Close(\"&$D$12&\") when LocalYear(\"&$D$12&\")=\"&$D$1&\" and localMonth(\"&$D$12&\") =\"&$E$1&\" and LocalDay(\"&$D$12&\")=\"&$F$1&\" and Barix(\"&$D$12&\",reference:=StartOfSession)=\"&A33&\"\", \"Bar\", \"\", \"Close\",\"5\",\"0\",\"PrimaryOnly\",,,\"False\",\"T\",\"EveryTick\")","v":""},{"$error":"#N/A"},{"$f":"RTD(\"cqg.rtd\",,\"StudyData\", \"Close(\"&$D$12&\") when LocalYear(\"&$D$12&\")=\"&$D$2&\" and localMonth(\"&$D$12&\") =\"&$E$2&\" and LocalDay(\"&$D$12&\")=\"&$F$2&\" and Barix(\"&$D$12&\",reference:=StartOfSession)=\"&A33&\"\", \"Bar\", \"\", \"Close\",\"5\",\"0\",\"PrimaryOnly\",,,\"False\",\"T\",\"EveryTick\")","v":69.84},-7.6726342710996317E-3,{"$f":"RTD(\"cqg.rtd\",,\"StudyData\", \"Close(\"&$D$12&\") when LocalYear(\"&$D$12&\")=\"&$D$3&\" and localMonth(\"&$D$12&\") =\"&$E$3&\" and LocalDay(\"&$D$12&\")=\"&$F$3&\" and Barix(\"&$D$12&\",reference:=StartOfSession)=\"&A33&\"\", \"Bar\", \"\", \"Close\",\"5\",\"0\",\"PrimaryOnly\",,,\"False\",\"T\",\"EveryTick\")","v":72.290000000000006},-2.4558089326676469E-2,{"$f":"RTD(\"cqg.rtd\",,\"StudyData\", \"Close(\"&$D$12&\") when LocalYear(\"&$D$12&\")=\"&$D$4&\" and localMonth(\"&$D$12&\") =\"&$E$4&\" and LocalDay(\"&$D$12&\")=\"&$F$4&\" and Barix(\"&$D$12&\",reference:=StartOfSession)=\"&A33&\"\", \"Bar\", \"\", \"Close\",\"5\",\"0\",\"PrimaryOnly\",,,\"False\",\"T\",\"EveryTick\")","v":74.08},3.1144211238998509E-3,{"$f":"RTD(\"cqg.rtd\",,\"StudyData\", \"Close(\"&$D$12&\") when LocalYear(\"&$D$12&\")=\"&$D$5&\" and localMonth(\"&$D$12&\") =\"&$E$5&\" and LocalDay(\"&$D$12&\")=\"&$F$5&\" and Barix(\"&$D$12&\",reference:=StartOfSession)=\"&A33&\"\", \"Bar\", \"\", \"Close\",\"5\",\"0\",\"PrimaryOnly\",,,\"False\",\"T\",\"EveryTick\")","v":73.45},-4.7425474254741782E-3,{"$f":"RTD(\"cqg.rtd\",,\"StudyData\", \"Close(\"&$D$12&\") when LocalYear(\"&$D$12&\")=\"&$D$6&\" and localMonth(\"&$D$12&\") =\"&$E$6&\" and LocalDay(\"&$D$12&\")=\"&$F$6&\" and Barix(\"&$D$12&\",reference:=StartOfSession)=\"&A33&\"\", \"Bar\", \"\", \"Close\",\"5\",\"0\",\"PrimaryOnly\",,,\"False\",\"T\",\"EveryTick\")","v":73.8},1.179051275020564E-2,{"$f":"RTD(\"cqg.rtd\",,\"StudyData\", \"Close(\"&$D$12&\") when LocalYear(\"&$D$12&\")=\"&$D$7&\" and localMonth(\"&$D$12&\") =\"&$E$7&\" and LocalDay(\"&$D$12&\")=\"&$F$7&\" and Barix(\"&$D$12&\",reference:=StartOfSession)=\"&A33&\"\", \"Bar\", \"\", \"Close\",\"5\",\"0\",\"PrimaryOnly\",,,\"False\",\"T\",\"EveryTick\")","v":73.459999999999994},-9.1718370650122304E-3,{"$f":"RTD(\"cqg.rtd\",,\"StudyData\", \"Close(\"&$D$12&\") when LocalYear(\"&$D$12&\")=\"&$D$8&\" and localMonth(\"&$D$12&\") =\"&$E$8&\" and LocalDay(\"&$D$12&\")=\"&$F$8&\" and Barix(\"&$D$12&\",reference:=StartOfSession)=\"&A33&\"\", \"Bar\", \"\", \"Close\",\"5\",\"0\",\"PrimaryOnly\",,,\"False\",\"T\",\"EveryTick\")","v":73.03},-1.2307276169867414E-2,{"$f":"RTD(\"cqg.rtd\",,\"StudyData\", \"Close(\"&$D$12&\") when LocalYear(\"&$D$12&\")=\"&$D$9&\" and localMonth(\"&$D$12&\") =\"&$E$9&\" and LocalDay(\"&$D$12&\")=\"&$F$9&\" and Barix(\"&$D$12&\",reference:=StartOfSession)=\"&A33&\"\", \"Bar\", \"\", \"Close\",\"5\",\"0\",\"PrimaryOnly\",,,\"False\",\"T\",\"EveryTick\")","v":73.67},-6.4733648010789476E-3,{"$f":"RTD(\"cqg.rtd\",,\"StudyData\", \"Close(\"&$D$12&\") when LocalYear(\"&$D$12&\")=\"&$D$10&\" and localMonth(\"&$D$12&\") =\"&$E$10&\" and LocalDay(\"&$D$12&\")=\"&$F$10&\" and Barix(\"&$D$12&\",reference:=StartOfSession)=\"&A33&\"\", \"Bar\", \"\", \"Close\",\"5\",\"0\",\"PrimaryOnly\",,,\"False\",\"T\",\"EveryTick\")","v":73.91},6.2627637848875935E-3,null,null,null,""]
[33,"10:45:00",null,null,null,null,null,{"$f":"RTD(\"cqg.rtd\",,\"StudyData\", \"Close(\"&$D$12&\") when LocalYear(\"&$D$12&\")=\"&$D$1&\" and localMonth(\"&$D$12&\") =\"&$E$1&\" and LocalDay(\"&$D$12&\")=\"&$F$1&\" and Barix(\"&$D$12&\",reference:=StartOfSession)=\"&A34&\"\", \"Bar\", \"\", \"Close\",\"5\",\"0\",\"PrimaryOnly\",,,\"False\",\"T\",\"EveryTick\")","v":""},{"$error":"#N/A"},{"$f":"RTD(\"cqg.rtd\",,\"StudyData\", \"Close(\"&$D$12&\") when LocalYear(\"&$D$12&\")=\"&$D$2&\" and localMonth(\"&$D$12&\") =\"&$E$2&\" and LocalDay(\"&$D$12&\")=\"&$F$2&\" and Barix(\"&$D$12&\",reference:=StartOfSession)=\"&A34&\"\", \"Bar\", \"\", \"Close\",\"5\",\"0\",\"PrimaryOnly\",,,\"False\",\"T\",\"EveryTick\")","v":69.62},-1.0798522307473586E-2,{"$f":"RTD(\"cqg.rtd\",,\"StudyData\", \"Close(\"&$D$12&\") when LocalYear(\"&$D$12&\")=\"&$D$3&\" and localMonth(\"&$D$12&\") =\"&$E$3&\" and LocalDay(\"&$D$12&\")=\"&$F$3&\" and Barix(\"&$D$12&\",reference:=StartOfSession)=\"&A34&\"\", \"Bar\", \"\", \"Close\",\"5\",\"0\",\"PrimaryOnly\",,,\"False\",\"T\",\"EveryTick\")","v":72.41},-2.2938874645796827E-2,{"$f":"RTD(\"cqg.rtd\",,\"StudyData\", \"Close(\"&$D$12&\") when LocalYear(\"&$D$12&\")=\"&$D$4&\" and localMonth(\"&$D$12&\") =\"&$E$4&\" and LocalDay(\"&$D$12&\")=\"&$F$4&\" and Barix(\"&$D$12&\",reference:=StartOfSession)=\"&A34&\"\", \"Bar\", \"\", \"Close\",\"5\",\"0\",\"PrimaryOnly\",,,\"False\",\"T\",\"EveryTick\")","v":74.040000000000006},2.5727826675695591E-3,{"$f":"RTD(\"cqg.rtd\",,\"StudyData\", \"Close(\"&$D$12&\") when LocalYear(\"&$D$12&\")=\"&$D$5&\" and localMonth(\"&$D$12&\") =\"&$E$5&\" and LocalDay(\"&$D$12&\")=\"&$F$5&\" and Barix(\"&$D$12&\",reference:=StartOfSession)=\"&A34&\"\", \"Bar\", \"\", \"Close\",\"5\",\"0\",\"PrimaryOnly\",,,\"False\",\"T\",\"EveryTick\")","v":73.47},-4.4715447154471313E-3,{"$f":"RTD(\"cqg.rtd\",,\"StudyData\", \"Close(\"&$D$12&\") when LocalYear(\"&$D$12&\")=\"&$D$6&\" and localMonth(\"&$D$12&\") =\"&$E$6&\" and LocalDay(\"&$D$12&\")=\"&$F$6&\" and Barix(\"&$D$12&\",reference:=StartOfSession)=\"&A34&\"\", \"Bar\", \"\", \"Close\",\"5\",\"0\",\"PrimaryOnly\",,,\"False\",\"T\",\"EveryTick\")","v":73.72},1.0693720866465604E-2,{"$f":"RTD(\"cqg.rtd\",,\"StudyData\", \"Close(\"&$D$12&\") when LocalYear(\"&$D$12&\")=\"&$D$7&\" and localMonth(\"&$D$12&\") =\"&$E$7&\" and LocalDay(\"&$D$12&\")=\"&$F$7&\" and Barix(\"&$D$12&\",reference:=StartOfSession)=\"&A34&\"\", \"Bar\", \"\", \"Close\",\"5\",\"0\",\"PrimaryOnly\",,,\"False\",\"T\",\"EveryTick\")","v":73.48},-8.9020771513352651E-3,{"$f":"RTD(\"cqg.rtd\",,\"StudyData\", \"Close(\"&$D$12&\") when LocalYear(\"&$D$12&\")=\"&$D$8&\" and localMonth(\"&$D$12&\") =\"&$E$8&\" and LocalDay(\"&$D$12&\")=\"&$F$8&\" and Barix(\"&$D$12&\",reference:=StartOfSession)=\"&A34&\"\", \"Bar\", \"\", \"Close\",\"5\",\"0\",\"PrimaryOnly\",,,\"False\",\"T\",\"EveryTick\")","v":73.42},-7.0327292399242096E-3,{"$f":"RTD(\"cqg.rtd\",,\"StudyData\", \"Close(\"&$D$12&\") when LocalYear(\"&$D$12&\")=\"&$D$9&\" and localMonth(\"&$D$12&\") =\"&$E$9&\" and LocalDay(\"&$D$12&\")=\"&$F$9&\" and Barix(\"&$D$12&\",reference:=StartOfSession)=\"&A34&\"\", \"Bar\", \"\", \"Close\",\"5\",\"0\",\"PrimaryOnly\",,,\"False\",\"T\",\"EveryTick\")","v":73.62},-7.1476736345246266E-3,{"$f":"RTD(\"cqg.rtd\",,\"StudyData\", \"Close(\"&$D$12&\") when LocalYear(\"&$D$12&\")=\"&$D$10&\" and localMonth(\"&$D$12&\") =\"&$E$10&\" and LocalDay(\"&$D$12&\")=\"&$F$10&\" and Barix(\"&$D$12&\",reference:=StartOfSession)=\"&A34&\"\", \"Bar\", \"\", \"Close\",\"5\",\"0\",\"PrimaryOnly\",,,\"False\",\"T\",\"EveryTick\")","v":74.099999999999994},8.8495575221237775E-3,null,null,null,""]
[34,"10:50:00",null,null,null,null,null,{"$f":"RTD(\"cqg.rtd\",,\"StudyData\", \"Close(\"&$D$12&\") when LocalYear(\"&$D$12&\")=\"&$D$1&\" and localMonth(\"&$D$12&\") =\"&$E$1&\" and LocalDay(\"&$D$12&\")=\"&$F$1&\" and Barix(\"&$D$12&\",reference:=StartOfSession)=\"&A35&\"\", \"Bar\", \"\", \"Close\",\"5\",\"0\",\"PrimaryOnly\",,,\"False\",\"T\",\"EveryTick\")","v":""},{"$error":"#N/A"},{"$f":"RTD(\"cqg.rtd\",,\"StudyData\", \"Close(\"&$D$12&\") when LocalYear(\"&$D$12&\")=\"&$D$2&\" and localMonth(\"&$D$12&\") =\"&$E$2&\" and LocalDay(\"&$D$12&\")=\"&$F$2&\" and Barix(\"&$D$12&\",reference:=StartOfSession)=\"&A35&\"\", \"Bar\", \"\", \"Close\",\"5\",\"0\",\"PrimaryOnly\",,,\"False\",\"T\",\"EveryTick\")","v":69.75},-8.9514066496163038E-3,{"$f":"RTD(\"cqg.rtd\",,\"StudyData\", \"Close(\"&$D$12&\") when LocalYear(\"&$D$12&\")=\"&$D$3&\" and localMonth(\"&$D$12&\") =\"&$E$3&\" and LocalDay(\"&$D$12&\")=\"&$F$3&\" and Barix(\"&$D$12&\",reference:=StartOfSession)=\"&A35&\"\", \"Bar\", \"\", \"Close\",\"5\",\"0\",\"PrimaryOnly\",,,\"False\",\"T\",\"EveryTick\")","v":72.36},-2.3613547429496694E-2,{"$f":"RTD(\"cqg.rtd\",,\"StudyData\", \"Close(\"&$D$12&\") when LocalYear(\"&$D$12&\")=\"&$D$4&\" and localMonth(\"&$D$12&\") =\"&$E$4&\" and LocalDay(\"&$D$12&\")=\"&$F$4&\" and Barix(\"&$D$12&\",reference:=StartOfSession)=\"&A35&\"\", \"Bar\", \"\", \"Close\",\"5\",\"0\",\"PrimaryOnly\",,,\"False\",\"T\",\"EveryTick\")","v":73.98},1.7603249830739293E-3,{"$f":"RTD(\"cqg.rtd\",,\"StudyData\", \"Close(\"&$D$12&\") when LocalYear(\"&$D$12&\")=\"&$D$5&\" and localMonth(\"&$D$12&\") =\"&$E$5&\" and LocalDay(\"&$D$12&\")=\"&$F$5&\" and Barix(\"&$D$12&\",reference:=StartOfSession)=\"&A35&\"\", \"Bar\", \"\", \"Close\",\"5\",\"0\",\"PrimaryOnly\",,,\"False\",\"T\",\"EveryTick\")","v":73.400000000000006},-5.4200542005418901E-3,{"$f":"RTD(\"cqg.rtd\",,\"StudyData\", \"Close(\"&$D$12&\") when LocalYear(\"&$D$12&\")=\"&$D$6&\" and localMonth(\"&$D$12&\") =\"&$E$6&\" and LocalDay(\"&$D$12&\")=\"&$F$6&\" and Barix(\"&$D$12&\",reference:=StartOfSession)=\"&A35&\"\", \"Bar\", \"\", \"Close\",\"5\",\"0\",\"PrimaryOnly\",,,\"False\",\"T\",\"EveryTick\")","v":73.67},1.0008225939128106E-2,{"$f":"RTD(\"cqg.rtd\",,\"StudyData\", \"Close(\"&$D$12&\") when LocalYear(\"&$D$12&\")=\"&$D$7&\" and localMonth(\"&$D$12&\") =\"&$E$7&\" and LocalDay(\"&$D$12&\")=\"&$F$7&\" and Barix(\"&$D$12&\",reference:=StartOfSession)=\"&A35&\"\", \"Bar\", \"\", \"Close\",\"5\",\"0\",\"PrimaryOnly\",,,\"False\",\"T\",\"EveryTick\")","v":73.63},-6.8788777987591736E-3,{"$f":"RTD(\"cqg.rtd\",,\"StudyData\", \"Close(\"&$D$12&\") when LocalYear(\"&$D$12&\")=\"&$D$8&\" and localMonth(\"&$D$12&\") =\"&$E$8&\" and LocalDay(\"&$D$12&\")=\"&$F$8&\" and Barix(\"&$D$12&\",reference:=StartOfSession)=\"&A35&\"\", \"Bar\", \"\", \"Close\",\"5\",\"0\",\"PrimaryOnly\",,,\"False\",\"T\",\"EveryTick\")","v":73.48},-6.2212604814713785E-3,{"$f":"RTD(\"cqg.rtd\",,\"StudyData\", \"Close(\"&$D$12&\") when LocalYear(\"&$D$12&\")=\"&$D$9&\" and localMonth(\"&$D$12&\") =\"&$E$9&\" and LocalDay(\"&$D$12&\")=\"&$F$9&\" and Barix(\"&$D$12&\",reference:=StartOfSession)=\"&A35&\"\", \"Bar\", \"\", \"Close\",\"5\",\"0\",\"PrimaryOnly\",,,\"False\",\"T\",\"EveryTick\")","v":73.8},-4.7201618341201415E-3,{"$f":"RTD(\"cqg.rtd\",,\"StudyData\", \"Close(\"&$D$12&\") when LocalYear(\"&$D$12&\")=\"&$D$10&\" and localMonth(\"&$D$12&\") =\"&$E$10&\" and LocalDay(\"&$D$12&\")=\"&$F$10&\" and Barix(\"&$D$12&\",reference:=StartOfSession)=\"&A35&\"\", \"Bar\", \"\", \"Close\",\"5\",\"0\",\"PrimaryOnly\",,,\"False\",\"T\",\"EveryTick\")","v":73.95},6.8073519400953025E-3,null,null,null,""]
[35,"10:55:00",null,null,null,null,null,{"$f":"RTD(\"cqg.rtd\",,\"StudyData\", \"Close(\"&$D$12&\") when LocalYear(\"&$D$12&\")=\"&$D$1&\" and localMonth(\"&$D$12&\") =\"&$E$1&\" and LocalDay(\"&$D$12&\")=\"&$F$1&\" and Barix(\"&$D$12&\",reference:=StartOfSession)=\"&A36&\"\", \"Bar\", \"\", \"Close\",\"5\",\"0\",\"PrimaryOnly\",,,\"False\",\"T\",\"EveryTick\")","v":""},{"$error":"#N/A"},{"$f":"RTD(\"cqg.rtd\",,\"StudyData\", \"Close(\"&$D$12&\") when LocalYear(\"&$D$12&\")=\"&$D$2&\" and localMonth(\"&$D$12&\") =\"&$E$2&\" and LocalDay(\"&$D$12&\")=\"&$F$2&\" and Barix(\"&$D$12&\",reference:=StartOfSession)=\"&A36&\"\", \"Bar\", \"\", \"Close\",\"5\",\"0\",\"PrimaryOnly\",,,\"False\",\"T\",\"EveryTick\")","v":69.599999999999994},-1.1082693947144092E-2,{"$f":"RTD(\"cqg.rtd\",,\"StudyData\", \"Close(\"&$D$12&\") when LocalYear(\"&$D$12&\")=\"&$D$3&\" and localMonth(\"&$D$12&\") =\"&$E$3&\" and LocalDay(\"&$D$12&\")=\"&$F$3&\" and Barix(\"&$D$12&\",reference:=StartOfSession)=\"&A36&\"\", \"Bar\", \"\", \"Close\",\"5\",\"0\",\"PrimaryOnly\",,,\"False\",\"T\",\"EveryTick\")","v":72.34},-2.3883416542976602E-2,{"$f":"RTD(\"cqg.rtd\",,\"StudyData\", \"Close(\"&$D$12&\") when LocalYear(\"&$D$12&\")=\"&$D$4&\" and localMonth(\"&$D$12&\") =\"&$E$4&\" and LocalDay(\"&$D$12&\")=\"&$F$4&\" and Barix(\"&$D$12&\",reference:=StartOfSession)=\"&A36&\"\", \"Bar\", \"\", \"Close\",\"5\",\"0\",\"PrimaryOnly\",,,\"False\",\"T\",\"EveryTick\")","v":73.760000000000005},-1.2186865267432526E-3,{"$f":"RTD(\"cqg.rtd\",,\"StudyData\", \"Close(\"&$D$12&\") when LocalYear(\"&$D$12&\")=\"&$D$5&\" and localMonth(\"&$D$12&\") =\"&$E$5&\" and LocalDay(\"&$D$12&\")=\"&$F$5&\" and Barix(\"&$D$12&\",reference:=StartOfSession)=\"&A36&\"\", \"Bar\", \"\", \"Close\",\"5\",\"0\",\"PrimaryOnly\",,,\"False\",\"T\",\"EveryTick\")","v":73.37},-5.8265582655825559E-3,{"$f":"RTD(\"cqg.rtd\",,\"StudyData\", \"Close(\"&$D$12&\") when LocalYear(\"&$D$12&\")=\"&$D$6&\" and localMonth(\"&$D$12&\") =\"&$E$6&\" and LocalDay(\"&$D$12&\")=\"&$F$6&\" and Barix(\"&$D$12&\",reference:=StartOfSession)=\"&A36&\"\", \"Bar\", \"\", \"Close\",\"5\",\"0\",\"PrimaryOnly\",,,\"False\",\"T\",\"EveryTick\")","v":73.8},1.179051275020564E-2,{"$f":"RTD(\"cqg.rtd\",,\"StudyData\", \"Close(\"&$D$12&\") when LocalYear(\"&$D$12&\")=\"&$D$7&\" and localMonth(\"&$D$12&\") =\"&$E$7&\" and LocalDay(\"&$D$12&\")=\"&$F$7&\" and Barix(\"&$D$12&\",reference:=StartOfSession)=\"&A36&\"\", \"Bar\", \"\", \"Close\",\"5\",\"0\",\"PrimaryOnly\",,,\"False\",\"T\",\"EveryTick\")","v":73.56},-7.823037496627978E-3,{"$f":"RTD(\"cqg.rtd\",,\"StudyData\", \"Close(\"&$D$12&\") when LocalYear(\"&$D$12&\")=\"&$D$8&\" and localMonth(\"&$D$12&\") =\"&$E$8&\" and LocalDay(\"&$D$12&\")=\"&$F$8&\" and Barix(\"&$D$12&\",reference:=StartOfSession)=\"&A36&\"\", \"Bar\", \"\", \"Close\",\"5\",\"0\",\"PrimaryOnly\",,,\"False\",\"T\",\"EveryTick\")","v":73.66},-3.7868542061130803E-3,{"$f":"RTD(\"cqg.rtd\",,\"StudyData\", \"Close(\"&$D$12&\") when LocalYear(\"&$D$12&\")=\"&$D$9&\" and localMonth(\"&$D$12&\") =\"&$E$9&\" and LocalDay(\"&$D$12&\")=\"&$F$9&\" and Barix(\"&$D$12&\",reference:=StartOfSession)=\"&A36&\"\", \"Bar\", \"\", \"Close\",\"5\",\"0\",\"PrimaryOnly\",,,\"False\",\"T\",\"EveryTick\")","v":73.790000000000006},-4.8550236008091628E-3,{"$f":"RTD(\"cqg.rtd\",,\"StudyData\", \"Close(\"&$D$12&\") when LocalYear(\"&$D$12&\")=\"&$D$10&\" and localMonth(\"&$D$12&\") =\"&$E$10&\" and LocalDay(\"&$D$12&\")=\"&$F$10&\" and Barix(\"&$D$12&\",reference:=StartOfSession)=\"&A36&\"\", \"Bar\", \"\", \"Close\",\"5\",\"0\",\"PrimaryOnly\",,,\"False\",\"T\",\"EveryTick\")","v":73.97},7.0796460176990603E-3,null,null,null,""]
[36,"11:00:00",null,null,null,null,null,{"$f":"RTD(\"cqg.rtd\",,\"StudyData\", \"Close(\"&$D$12&\") when LocalYear(\"&$D$12&\")=\"&$D$1&\" and localMonth(\"&$D$12&\") =\"&$E$1&\" and LocalDay(\"&$D$12&\")=\"&$F$1&\" and Barix(\"&$D$12&\",reference:=StartOfSession)=\"&A37&\"\", \"Bar\", \"\", \"Close\",\"5\",\"0\",\"PrimaryOnly\",,,\"False\",\"T\",\"EveryTick\")","v":""},{"$error":"#N/A"},{"$f":"RTD(\"cqg.rtd\",,\"StudyData\", \"Close(\"&$D$12&\") when LocalYear(\"&$D$12&\")=\"&$D$2&\" and localMonth(\"&$D$12&\") =\"&$E$2&\" and LocalDay(\"&$D$12&\")=\"&$F$2&\" and Barix(\"&$D$12&\",reference:=StartOfSession)=\"&A37&\"\", \"Bar\", \"\", \"Close\",\"5\",\"0\",\"PrimaryOnly\",,,\"False\",\"T\",\"EveryTick\")","v":69.52},-1.2219380505825512E-2,{"$f":"RTD(\"cqg.rtd\",,\"StudyData\", \"Close(\"&$D$12&\") when LocalYear(\"&$D$12&\")=\"&$D$3&\" and localMonth(\"&$D$12&\") =\"&$E$3&\" and LocalDay(\"&$D$12&\")=\"&$F$3&\" and Barix(\"&$D$12&\",reference:=StartOfSession)=\"&A37&\"\", \"Bar\", \"\", \"Close\",\"5\",\"0\",\"PrimaryOnly\",,,\"False\",\"T\",\"EveryTick\")","v":72.42},-2.2803940089056778E-2,{"$f":"RTD(\"cqg.rtd\",,\"StudyData\", \"Close(\"&$D$12&\") when LocalYear(\"&$D$12&\")=\"&$D$4&\" and localMonth(\"&$D$12&\") =\"&$E$4&\" and LocalDay(\"&$D$12&\")=\"&$F$4&\" and Barix(\"&$D$12&\",reference:=StartOfSession)=\"&A37&\"\", \"Bar\", \"\", \"Close\",\"5\",\"0\",\"PrimaryOnly\",,,\"False\",\"T\",\"EveryTick\")","v":73.709999999999994},-1.895734597156406E-3,{"$f":"RTD(\"cqg.rtd\",,\"StudyData\", \"Close(\"&$D$12&\") when LocalYear(\"&$D$12&\")=\"&$D$5&\" and localMonth(\"&$D$12&\") =\"&$E$5&\" and LocalDay(\"&$D$12&\")=\"&$F$5&\" and Barix(\"&$D$12&\",reference:=StartOfSession)=\"&A37&\"\", \"Bar\", \"\", \"Close\",\"5\",\"0\",\"PrimaryOnly\",,,\"False\",\"T\",\"EveryTick\")","v":73.41},-5.2845528455284629E-3,{"$f":"RTD(\"cqg.rtd\",,\"StudyData\", \"Close(\"&$D$12&\") when LocalYear(\"&$D$12&\")=\"&$D$6&\" and localMonth(\"&$D$12&\") =\"&$E$6&\" and LocalDay(\"&$D$12&\")=\"&$F$6&\" and Barix(\"&$D$12&\",reference:=StartOfSession)=\"&A37&\"\", \"Bar\", \"\", \"Close\",\"5\",\"0\",\"PrimaryOnly\",,,\"False\",\"T\",\"EveryTick\")","v":73.75},1.1105017822868142E-2,{"$f":"RTD(\"cqg.rtd\",,\"StudyData\", \"Close(\"&$D$12&\") when LocalYear(\"&$D$12&\")=\"&$D$7&\" and localMonth(\"&$D$12&\") =\"&$E$7&\" and LocalDay(\"&$D$12&\")=\"&$F$7&\" and Barix(\"&$D$12&\",reference:=StartOfSession)=\"&A37&\"\", \"Bar\", \"\", \"Close\",\"5\",\"0\",\"PrimaryOnly\",,,\"False\",\"T\",\"EveryTick\")","v":73.599999999999994},-7.2835176692744299E-3,{"$f":"RTD(\"cqg.rtd\",,\"StudyData\", \"Close(\"&$D$12&\") when LocalYear(\"&$D$12&\")=\"&$D$8&\" and localMonth(\"&$D$12&\") =\"&$E$8&\" and LocalDay(\"&$D$12&\")=\"&$F$8&\" and Barix(\"&$D$12&\",reference:=StartOfSession)=\"&A37&\"\", \"Bar\", \"\", \"Close\",\"5\",\"0\",\"PrimaryOnly\",,,\"False\",\"T\",\"EveryTick\")","v":73.59},-4.7335677576412537E-3,{"$f":"RTD(\"cqg.rtd\",,\"StudyData\", \"Close(\"&$D$12&\") when LocalYear(\"&$D$12&\")=\"&$D$9&\" and localMonth(\"&$D$12&\") =\"&$E$9&\" and LocalDay(\"&$D$12&\")=\"&$F$9&\" and Barix(\"&$D$12&\",reference:=StartOfSession)=\"&A37&\"\", \"Bar\", \"\", \"Close\",\"5\",\"0\",\"PrimaryOnly\",,,\"False\",\"T\",\"EveryTick\")","v":73.81},-4.5853000674309294E-3,{"$f":"RTD(\"cqg.rtd\",,\"StudyData\", \"Close(\"&$D$12&\") when LocalYear(\"&$D$12&\")=\"&$D$10&\" and localMonth(\"&$D$12&\") =\"&$E$10&\" and LocalDay(\"&$D$12&\")=\"&$F$10&\" and Barix(\"&$D$12&\",reference:=StartOfSession)=\"&A37&\"\", \"Bar\", \"\", \"Close\",\"5\",\"0\",\"PrimaryOnly\",,,\"False\",\"T\",\"EveryTick\")","v":74.010000000000005},7.6242341729067702E-3,null,null,null,""]
[37,"11:05:00",-40,{"$f":" RTD(\"cqg.rtd\",,\"StudyData\", $D$12,  \"Tick\", \"FlatTicks=0\", \"Tick\",\"D\",C38,,,,,\"T\")","v":71.13},null,"CLE",null,{"$f":"RTD(\"cqg.rtd\",,\"StudyData\", \"Close(\"&$D$12&\") when LocalYear(\"&$D$12&\")=\"&$D$1&\" and localMonth(\"&$D$12&\") =\"&$E$1&\" and LocalDay(\"&$D$12&\")=\"&$F$1&\" and Barix(\"&$D$12&\",reference:=StartOfSession)=\"&A38&\"\", \"Bar\", \"\", \"Close\",\"5\",\"0\",\"PrimaryOnly\",,,\"False\",\"T\",\"EveryTick\")","v":""},{"$error":"#N/A"},{"$f":"RTD(\"cqg.rtd\",,\"StudyData\", \"Close(\"&$D$12&\") when LocalYear(\"&$D$12&\")=\"&$D$2&\" and localMonth(\"&$D$12&\") =\"&$E$2&\" and LocalDay(\"&$D$12&\")=\"&$F$2&\" and Barix(\"&$D$12&\",reference:=StartOfSession)=\"&A38&\"\", \"Bar\", \"\", \"Close\",\"5\",\"0\",\"PrimaryOnly\",,,\"False\",\"T\",\"EveryTick\")","v":69.48},-1.278772378516612E-2,{"$f":"RTD(\"cqg.rtd\",,\"StudyData\", \"Close(\"&$D$12&\") when LocalYear(\"&$D$12&\")=\"&$D$3&\" and localMonth(\"&$D$12&\") =\"&$E$3&\" and LocalDay(\"&$D$12&\")=\"&$F$3&\" and Barix(\"&$D$12&\",reference:=StartOfSession)=\"&A38&\"\", \"Bar\", \"\", \"Close\",\"5\",\"0\",\"PrimaryOnly\",,,\"False\",\"T\",\"EveryTick\")","v":72.37},-2.3478612872756644E-2,{"$f":"RTD(\"cqg.rtd\",,\"StudyData\", \"Close(\"&$D$12&\") when LocalYear(\"&$D$12&\")=\"&$D$4&\" and localMonth(\"&$D$12&\") =\"&$E$4&\" and LocalDay(\"&$D$12&\")=\"&$F$4&\" and Barix(\"&$D$12&\",reference:=StartOfSession)=\"&A38&\"\", \"Bar\", \"\", \"Close\",\"5\",\"0\",\"PrimaryOnly\",,,\"False\",\"T\",\"EveryTick\")","v":73.75},-1.3540961408259218E-3,{"$f":"RTD(\"cqg.rtd\",,\"StudyData\", \"Close(\"&$D$12&\") when LocalYear(\"&$D$12&\")=\"&$D$5&\" and localMonth(\"&$D$12&\") =\"&$E$5&\" and LocalDay(\"&$D$12&\")=\"&$F$5&\" and Barix(\"&$D$12&\",reference:=StartOfSession)=\"&A38&\"\", \"Bar\", \"\", \"Close\",\"5\",\"0\",\"PrimaryOnly\",,,\"False\",\"T\",\"EveryTick\")","v":73.41},-5.2845528455284629E-3,{"$f":"RTD(\"cqg.rtd\",,\"StudyData\", \"Close(\"&$D$12&\") when LocalYear(\"&$D$12&\")=\"&$D$6&\" and localMonth(\"&$D$12&\") =\"&$E$6&\" and LocalDay(\"&$D$12&\")=\"&$F$6&\" and Barix(\"&$D$12&\",reference:=StartOfSession)=\"&A38&\"\", \"Bar\", \"\", \"Close\",\"5\",\"0\",\"PrimaryOnly\",,,\"False\",\"T\",\"EveryTick\")","v":73.8},1.179051275020564E-2,{"$f":"RTD(\"cqg.rtd\",,\"StudyData\", \"Close(\"&$D$12&\") when LocalYear(\"&$D$12&\")=\"&$D$7&\" and localMonth(\"&$D$12&\") =\"&$E$7&\" and LocalDay(\"&$D$12&\")=\"&$F$7&\" and Barix(\"&$D$12&\",reference:=StartOfSession)=\"&A38&\"\", \"Bar\", \"\", \"Close\",\"5\",\"0\",\"PrimaryOnly\",,,\"False\",\"T\",\"EveryTick\")","v":73.400000000000006},-9.9811168060425538E-3,{"$f":"RTD(\"cqg.rtd\",,\"StudyData\", \"Close(\"&$D$12&\") when LocalYear(\"&$D$12&\")=\"&$D$8&\" and localMonth(\"&$D$12&\") =\"&$E$8&\" and LocalDay(\"&$D$12&\")=\"&$F$8&\" and Barix(\"&$D$12&\",reference:=StartOfSession)=\"&A38&\"\", \"Bar\", \"\", \"Close\",\"5\",\"0\",\"PrimaryOnly\",,,\"False\",\"T\",\"EveryTick\")","v":73.63},-4.1925885853394953E-3,{"$f":"RTD(\"cqg.rtd\",,\"StudyData\", \"Close(\"&$D$12&\") when LocalYear(\"&$D$12&\")=\"&$D$9&\" and localMonth(\"&$D$12&\") =\"&$E$9&\" and LocalDay(\"&$D$12&\")=\"&$F$9&\" and Barix(\"&$D$12&\",reference:=StartOfSession)=\"&A38&\"\", \"Bar\", \"\", \"Close\",\"5\",\"0\",\"PrimaryOnly\",,,\"False\",\"T\",\"EveryTick\")","v":73.94},-2.8320971004721232E-3,{"$f":"RTD(\"cqg.rtd\",,\"StudyData\", \"Close(\"&$D$12&\") when LocalYear(\"&$D$12&\")=\"&$D$10&\" and localMonth(\"&$D$12&\") =\"&$E$10&\" and LocalDay(\"&$D$12&\")=\"&$F$10&\" and Barix(\"&$D$12&\",reference:=StartOfSession)=\"&A38&\"\", \"Bar\", \"\", \"Close\",\"5\",\"0\",\"PrimaryOnly\",,,\"False\",\"T\",\"EveryTick\")","v":73.94},6.6712049012933273E-3,null,null,null,""]
[38,"11:10:00",{"$f":"C38+1","v":-39},{"$f":" RTD(\"cqg.rtd\",,\"StudyData\", $D$12,  \"Tick\", \"FlatTicks=0\", \"Tick\",\"D\",C39,,,,,\"T\")","v":71.12},null,"BZ",null,{"$f":"RTD(\"cqg.rtd\",,\"StudyData\", \"Close(\"&$D$12&\") when LocalYear(\"&$D$12&\")=\"&$D$1&\" and localMonth(\"&$D$12&\") =\"&$E$1&\" and LocalDay(\"&$D$12&\")=\"&$F$1&\" and Barix(\"&$D$12&\",reference:=StartOfSession)=\"&A39&\"\", \"Bar\", \"\", \"Close\",\"5\",\"0\",\"PrimaryOnly\",,,\"False\",\"T\",\"EveryTick\")","v":""},{"$error":"#N/A"},{"$f":"RTD(\"cqg.rtd\",,\"StudyData\", \"Close(\"&$D$12&\") when LocalYear(\"&$D$12&\")=\"&$D$2&\" and localMonth(\"&$D$12&\") =\"&$E$2&\" and LocalDay(\"&$D$12&\")=\"&$F$2&\" and Barix(\"&$D$12&\",reference:=StartOfSession)=\"&A39&\"\", \"Bar\", \"\", \"Close\",\"5\",\"0\",\"PrimaryOnly\",,,\"False\",\"T\",\"EveryTick\")","v":69.45},-1.3213981244671678E-2,{"$f":"RTD(\"cqg.rtd\",,\"StudyData\", \"Close(\"&$D$12&\") when LocalYear(\"&$D$12&\")=\"&$D$3&\" and localMonth(\"&$D$12&\") =\"&$E$3&\" and LocalDay(\"&$D$12&\")=\"&$F$3&\" and Barix(\"&$D$12&\",reference:=StartOfSession)=\"&A39&\"\", \"Bar\", \"\", \"Close\",\"5\",\"0\",\"PrimaryOnly\",,,\"False\",\"T\",\"EveryTick\")","v":72.34},-2.3883416542976602E-2,{"$f":"RTD(\"cqg.rtd\",,\"StudyData\", \"Close(\"&$D$12&\") when LocalYear(\"&$D$12&\")=\"&$D$4&\" and localMonth(\"&$D$12&\") =\"&$E$4&\" and LocalDay(\"&$D$12&\")=\"&$F$4&\" and Barix(\"&$D$12&\",reference:=StartOfSession)=\"&A39&\"\", \"Bar\", \"\", \"Close\",\"5\",\"0\",\"PrimaryOnly\",,,\"False\",\"T\",\"EveryTick\")","v":73.790000000000006},-8.1245768449543759E-4,{"$f":"RTD(\"cqg.rtd\",,\"StudyData\", \"Close(\"&$D$12&\") when LocalYear(\"&$D$12&\")=\"&$D$5&\" and localMonth(\"&$D$12&\") =\"&$E$5&\" and LocalDay(\"&$D$12&\")=\"&$F$5&\" and Barix(\"&$D$12&\",reference:=StartOfSession)=\"&A39&\"\", \"Bar\", \"\", \"Close\",\"5\",\"0\",\"PrimaryOnly\",,,\"False\",\"T\",\"EveryTick\")","v":73.48},-4.3360433604335124E-3,{"$f":"RTD(\"cqg.rtd\",,\"StudyData\", \"Close(\"&$D$12&\") when LocalYear(\"&$D$12&\")=\"&$D$6&\" and localMonth(\"&$D$12&\") =\"&$E$6&\" and LocalDay(\"&$D$12&\")=\"&$F$6&\" and Barix(\"&$D$12&\",reference:=StartOfSession)=\"&A39&\"\", \"Bar\", \"\", \"Close\",\"5\",\"0\",\"PrimaryOnly\",,,\"False\",\"T\",\"EveryTick\")","v":73.739999999999995},1.0967918837400564E-2,{"$f":"RTD(\"cqg.rtd\",,\"StudyData\", \"Close(\"&$D$12&\") when LocalYear(\"&$D$12&\")=\"&$D$7&\" and localMonth(\"&$D$12&\") =\"&$E$7&\" and LocalDay(\"&$D$12&\")=\"&$F$7&\" and Barix(\"&$D$12&\",reference:=StartOfSession)=\"&A39&\"\", \"Bar\", \"\", \"Close\",\"5\",\"0\",\"PrimaryOnly\",,,\"False\",\"T\",\"EveryTick\")","v":73.12},-1.3757755597518155E-2,{"$f":"RTD(\"cqg.rtd\",,\"StudyData\", \"Close(\"&$D$12&\") when LocalYear(\"&$D$12&\")=\"&$D$8&\" and localMonth(\"&$D$12&\") =\"&$E$8&\" and LocalDay(\"&$D$12&\")=\"&$F$8&\" and Barix(\"&$D$12&\",reference:=StartOfSession)=\"&A39&\"\", \"Bar\", \"\", \"Close\",\"5\",\"0\",\"PrimaryOnly\",,,\"False\",\"T\",\"EveryTick\")","v":73.91},-4.0573437922641518E-4,{"$f":"RTD(\"cqg.rtd\",,\"StudyData\", \"Close(\"&$D$12&\") when LocalYear(\"&$D$12&\")=\"&$D$9&\" and localMonth(\"&$D$12&\") =\"&$E$9&\" and LocalDay(\"&$D$12&\")=\"&$F$9&\" and Barix(\"&$D$12&\",reference:=StartOfSession)=\"&A39&\"\", \"Bar\", \"\", \"Close\",\"5\",\"0\",\"PrimaryOnly\",,,\"False\",\"T\",\"EveryTick\")","v":73.89},-3.5064059339178031E-3,{"$f":"RTD(\"cqg.rtd\",,\"StudyData\", \"Close(\"&$D$12&\") when LocalYear(\"&$D$12&\")=\"&$D$10&\" and localMonth(\"&$D$12&\") =\"&$E$10&\" and LocalDay(\"&$D$12&\")=\"&$F$10&\" and Barix(\"&$D$12&\",reference:=StartOfSession)=\"&A39&\"\", \"Bar\", \"\", \"Close\",\"5\",\"0\",\"PrimaryOnly\",,,\"False\",\"T\",\"EveryTick\")","v":73.930000000000007},6.5350578624915447E-3,null,null,null,""]
[39,"11:15:00",{"$f":"C39+1","v":-38},{"$f":" RTD(\"cqg.rtd\",,\"StudyData\", $D$12,  \"Tick\", \"FlatTicks=0\", \"Tick\",\"D\",C40,,,,,\"T\")","v":71.11},null,"HOE",null,{"$f":"RTD(\"cqg.rtd\",,\"StudyData\", \"Close(\"&$D$12&\") when LocalYear(\"&$D$12&\")=\"&$D$1&\" and localMonth(\"&$D$12&\") =\"&$E$1&\" and LocalDay(\"&$D$12&\")=\"&$F$1&\" and Barix(\"&$D$12&\",reference:=StartOfSession)=\"&A40&\"\", \"Bar\", \"\", \"Close\",\"5\",\"0\",\"PrimaryOnly\",,,\"False\",\"T\",\"EveryTick\")","v":""},{"$error":"#N/A"},{"$f":"RTD(\"cqg.rtd\",,\"StudyData\", \"Close(\"&$D$12&\") when LocalYear(\"&$D$12&\")=\"&$D$2&\" and localMonth(\"&$D$12&\") =\"&$E$2&\" and LocalDay(\"&$D$12&\")=\"&$F$2&\" and Barix(\"&$D$12&\",reference:=StartOfSession)=\"&A40&\"\", \"Bar\", \"\", \"Close\",\"5\",\"0\",\"PrimaryOnly\",,,\"False\",\"T\",\"EveryTick\")","v":69.510000000000005},-1.2361466325660563E-2,{"$f":"RTD(\"cqg.rtd\",,\"StudyData\", \"Close(\"&$D$12&\") when LocalYear(\"&$D$12&\")=\"&$D$3&\" and localMonth(\"&$D$12&\") =\"&$E$3&\" and LocalDay(\"&$D$12&\")=\"&$F$3&\" and Barix(\"&$D$12&\",reference:=StartOfSession)=\"&A40&\"\", \"Bar\", \"\", \"Close\",\"5\",\"0\",\"PrimaryOnly\",,,\"False\",\"T\",\"EveryTick\")","v":72.45},-2.2399136418836819E-2,{"$f":"RTD(\"cqg.rtd\",,\"StudyData\", \"Close(\"&$D$12&\") when LocalYear(\"&$D$12&\")=\"&$D$4&\" and localMonth(\"&$D$12&\") =\"&$E$4&\" and LocalDay(\"&$D$12&\")=\"&$F$4&\" and Barix(\"&$D$12&\",reference:=StartOfSession)=\"&A40&\"\", \"Bar\", \"\", \"Close\",\"5\",\"0\",\"PrimaryOnly\",,,\"False\",\"T\",\"EveryTick\")","v":73.89},5.4163845633048414E-4,{"$f":"RTD(\"cqg.rtd\",,\"StudyData\", \"Close(\"&$D$12&\") when LocalYear(\"&$D$12&\")=\"&$D$5&\" and localMonth(\"&$D$12&\") =\"&$E$5&\" and LocalDay(\"&$D$12&\")=\"&$F$5&\" and Barix(\"&$D$12&\",reference:=StartOfSession)=\"&A40&\"\", \"Bar\", \"\", \"Close\",\"5\",\"0\",\"PrimaryOnly\",,,\"False\",\"T\",\"EveryTick\")","v":73.5},-4.0650406504064655E-3,{"$f":"RTD(\"cqg.rtd\",,\"StudyData\", \"Close(\"&$D$12&\") when LocalYear(\"&$D$12&\")=\"&$D$6&\" and localMonth(\"&$D$12&\") =\"&$E$6&\" and LocalDay(\"&$D$12&\")=\"&$F$6&\" and Barix(\"&$D$12&\",reference:=StartOfSession)=\"&A40&\"\", \"Bar\", \"\", \"Close\",\"5\",\"0\",\"PrimaryOnly\",,,\"False\",\"T\",\"EveryTick\")","v":73.86},1.2613106663010718E-2,{"$f":"RTD(\"cqg.rtd\",,\"StudyData\", \"Close(\"&$D$12&\") when LocalYear(\"&$D$12&\")=\"&$D$7&\" and localMonth(\"&$D$12&\") =\"&$E$7&\" and LocalDay(\"&$D$12&\")=\"&$F$7&\" and Barix(\"&$D$12&\",reference:=StartOfSession)=\"&A40&\"\", \"Bar\", \"\", \"Close\",\"5\",\"0\",\"PrimaryOnly\",,,\"False\",\"T\",\"EveryTick\")","v":73.17},-1.3083355813326125E-2,{"$f":"RTD(\"cqg.rtd\",,\"StudyData\", \"Close(\"&$D$12&\") when LocalYear(\"&$D$12&\")=\"&$D$8&\" and localMonth(\"&$D$12&\") =\"&$E$8&\" and LocalDay(\"&$D$12&\")=\"&$F$8&\" and Barix(\"&$D$12&\",reference:=StartOfSession)=\"&A40&\"\", \"Bar\", \"\", \"Close\",\"5\",\"0\",\"PrimaryOnly\",,,\"False\",\"T\",\"EveryTick\")","v":73.92},-2.7048958615087936E-4,{"$f":"RTD(\"cqg.rtd\",,\"StudyData\", \"Close(\"&$D$12&\") when LocalYear(\"&$D$12&\")=\"&$D$9&\" and localMonth(\"&$D$12&\") =\"&$E$9&\" and LocalDay(\"&$D$12&\")=\"&$F$9&\" and Barix(\"&$D$12&\",reference:=StartOfSession)=\"&A40&\"\", \"Bar\", \"\", \"Close\",\"5\",\"0\",\"PrimaryOnly\",,,\"False\",\"T\",\"EveryTick\")","v":73.91},-3.2366824005395697E-3,{"$f":"RTD(\"cqg.rtd\",,\"StudyData\", \"Close(\"&$D$12&\") when LocalYear(\"&$D$12&\")=\"&$D$10&\" and localMonth(\"&$D$12&\") =\"&$E$10&\" and LocalDay(\"&$D$12&\")=\"&$F$10&\" and Barix(\"&$D$12&\",reference:=StartOfSession)=\"&A40&\"\", \"Bar\", \"\", \"Close\",\"5\",\"0\",\"PrimaryOnly\",,,\"False\",\"T\",\"EveryTick\")","v":73.930000000000007},6.5350578624915447E-3,null,null,null,""]
[40,"11:20:00",-37,{"$f":" RTD(\"cqg.rtd\",,\"StudyData\", $D$12,  \"Tick\", \"FlatTicks=0\", \"Tick\",\"D\",C41,,,,,\"T\")","v":71.12},null,"RBE",null,{"$f":"RTD(\"cqg.rtd\",,\"StudyData\", \"Close(\"&$D$12&\") when LocalYear(\"&$D$12&\")=\"&$D$1&\" and localMonth(\"&$D$12&\") =\"&$E$1&\" and LocalDay(\"&$D$12&\")=\"&$F$1&\" and Barix(\"&$D$12&\",reference:=StartOfSession)=\"&A41&\"\", \"Bar\", \"\", \"Close\",\"5\",\"0\",\"PrimaryOnly\",,,\"False\",\"T\",\"EveryTick\")","v":""},{"$error":"#N/A"},{"$f":"RTD(\"cqg.rtd\",,\"StudyData\", \"Close(\"&$D$12&\") when LocalYear(\"&$D$12&\")=\"&$D$2&\" and localMonth(\"&$D$12&\") =\"&$E$2&\" and LocalDay(\"&$D$12&\")=\"&$F$2&\" and Barix(\"&$D$12&\",reference:=StartOfSession)=\"&A41&\"\", \"Bar\", \"\", \"Close\",\"5\",\"0\",\"PrimaryOnly\",,,\"False\",\"T\",\"EveryTick\")","v":69.58},-1.1366865586814396E-2,{"$f":"RTD(\"cqg.rtd\",,\"StudyData\", \"Close(\"&$D$12&\") when LocalYear(\"&$D$12&\")=\"&$D$3&\" and localMonth(\"&$D$12&\") =\"&$E$3&\" and LocalDay(\"&$D$12&\")=\"&$F$3&\" and Barix(\"&$D$12&\",reference:=StartOfSession)=\"&A41&\"\", \"Bar\", \"\", \"Close\",\"5\",\"0\",\"PrimaryOnly\",,,\"False\",\"T\",\"EveryTick\")","v":72.400000000000006},-2.3073809202536686E-2,{"$f":"RTD(\"cqg.rtd\",,\"StudyData\", \"Close(\"&$D$12&\") when LocalYear(\"&$D$12&\")=\"&$D$4&\" and localMonth(\"&$D$12&\") =\"&$E$4&\" and LocalDay(\"&$D$12&\")=\"&$F$4&\" and Barix(\"&$D$12&\",reference:=StartOfSession)=\"&A41&\"\", \"Bar\", \"\", \"Close\",\"5\",\"0\",\"PrimaryOnly\",,,\"False\",\"T\",\"EveryTick\")","v":73.900000000000006},6.7704807041315336E-4,{"$f":"RTD(\"cqg.rtd\",,\"StudyData\", \"Close(\"&$D$12&\") when LocalYear(\"&$D$12&\")=\"&$D$5&\" and localMonth(\"&$D$12&\") =\"&$E$5&\" and LocalDay(\"&$D$12&\")=\"&$F$5&\" and Barix(\"&$D$12&\",reference:=StartOfSession)=\"&A41&\"\", \"Bar\", \"\", \"Close\",\"5\",\"0\",\"PrimaryOnly\",,,\"False\",\"T\",\"EveryTick\")","v":73.47},-4.4715447154471313E-3,{"$f":"RTD(\"cqg.rtd\",,\"StudyData\", \"Close(\"&$D$12&\") when LocalYear(\"&$D$12&\")=\"&$D$6&\" and localMonth(\"&$D$12&\") =\"&$E$6&\" and LocalDay(\"&$D$12&\")=\"&$F$6&\" and Barix(\"&$D$12&\",reference:=StartOfSession)=\"&A41&\"\", \"Bar\", \"\", \"Close\",\"5\",\"0\",\"PrimaryOnly\",,,\"False\",\"T\",\"EveryTick\")","v":73.819999999999993},1.2064710721140601E-2,{"$f":"RTD(\"cqg.rtd\",,\"StudyData\", \"Close(\"&$D$12&\") when LocalYear(\"&$D$12&\")=\"&$D$7&\" and localMonth(\"&$D$12&\") =\"&$E$7&\" and LocalDay(\"&$D$12&\")=\"&$F$7&\" and Barix(\"&$D$12&\",reference:=StartOfSession)=\"&A41&\"\", \"Bar\", \"\", \"Close\",\"5\",\"0\",\"PrimaryOnly\",,,\"False\",\"T\",\"EveryTick\")","v":73.19},-1.281359589964935E-2,{"$f":"RTD(\"cqg.rtd\",,\"StudyData\", \"Close(\"&$D$12&\") when LocalYear(\"&$D$12&\")=\"&$D$8&\" and localMonth(\"&$D$12&\") =\"&$E$8&\" and LocalDay(\"&$D$12&\")=\"&$F$8&\" and Barix(\"&$D$12&\",reference:=StartOfSession)=\"&A41&\"\", \"Bar\", \"\", \"Close\",\"5\",\"0\",\"PrimaryOnly\",,,\"False\",\"T\",\"EveryTick\")","v":73.88},-8.1146875845283036E-4,{"$f":"RTD(\"cqg.rtd\",,\"StudyData\", \"Close(\"&$D$12&\") when LocalYear(\"&$D$12&\")=\"&$D$9&\" and localMonth(\"&$D$12&\") =\"&$E$9&\" and LocalDay(\"&$D$12&\")=\"&$F$9&\" and Barix(\"&$D$12&\",reference:=StartOfSession)=\"&A41&\"\", \"Bar\", \"\", \"Close\",\"5\",\"0\",\"PrimaryOnly\",,,\"False\",\"T\",\"EveryTick\")","v":74.05},-1.3486176668915512E-3,{"$f":"RTD(\"cqg.rtd\",,\"StudyData\", \"Close(\"&$D$12&\") when LocalYear(\"&$D$12&\")=\"&$D$10&\" and localMonth(\"&$D$12&\") =\"&$E$10&\" and LocalDay(\"&$D$12&\")=\"&$F$10&\" and Barix(\"&$D$12&\",reference:=StartOfSession)=\"&A41&\"\", \"Bar\", \"\", \"Close\",\"5\",\"0\",\"PrimaryOnly\",,,\"False\",\"T\",\"EveryTick\")","v":73.89},5.9904697072838357E-3,null,null,null,""]
[41,"11:25:00",-36,{"$f":" RTD(\"cqg.rtd\",,\"StudyData\", $D$12,  \"Tick\", \"FlatTicks=0\", \"Tick\",\"D\",C42,,,,,\"T\")","v":71.11},null,"NGE",null,{"$f":"RTD(\"cqg.rtd\",,\"StudyData\", \"Close(\"&$D$12&\") when LocalYear(\"&$D$12&\")=\"&$D$1&\" and localMonth(\"&$D$12&\") =\"&$E$1&\" and LocalDay(\"&$D$12&\")=\"&$F$1&\" and Barix(\"&$D$12&\",reference:=StartOfSession)=\"&A42&\"\", \"Bar\", \"\", \"Close\",\"5\",\"0\",\"PrimaryOnly\",,,\"False\",\"T\",\"EveryTick\")","v":""},{"$error":"#N/A"},{"$f":"RTD(\"cqg.rtd\",,\"StudyData\", \"Close(\"&$D$12&\") when LocalYear(\"&$D$12&\")=\"&$D$2&\" and localMonth(\"&$D$12&\") =\"&$E$2&\" and LocalDay(\"&$D$12&\")=\"&$F$2&\" and Barix(\"&$D$12&\",reference:=StartOfSession)=\"&A42&\"\", \"Bar\", \"\", \"Close\",\"5\",\"0\",\"PrimaryOnly\",,,\"False\",\"T\",\"EveryTick\")","v":69.599999999999994},-1.1082693947144092E-2,{"$f":"RTD(\"cqg.rtd\",,\"StudyData\", \"Close(\"&$D$12&\") when LocalYear(\"&$D$12&\")=\"&$D$3&\" and localMonth(\"&$D$12&\") =\"&$E$3&\" and LocalDay(\"&$D$12&\")=\"&$F$3&\" and Barix(\"&$D$12&\",reference:=StartOfSession)=\"&A42&\"\", \"Bar\", \"\", \"Close\",\"5\",\"0\",\"PrimaryOnly\",,,\"False\",\"T\",\"EveryTick\")","v":72.38},-2.3343678316016785E-2,{"$f":"RTD(\"cqg.rtd\",,\"StudyData\", \"Close(\"&$D$12&\") when LocalYear(\"&$D$12&\")=\"&$D$4&\" and localMonth(\"&$D$12&\") =\"&$E$4&\" and LocalDay(\"&$D$12&\")=\"&$F$4&\" and Barix(\"&$D$12&\",reference:=StartOfSession)=\"&A42&\"\", \"Bar\", \"\", \"Close\",\"5\",\"0\",\"PrimaryOnly\",,,\"False\",\"T\",\"EveryTick\")","v":73.92},9.4786729857829915E-4,{"$f":"RTD(\"cqg.rtd\",,\"StudyData\", \"Close(\"&$D$12&\") when LocalYear(\"&$D$12&\")=\"&$D$5&\" and localMonth(\"&$D$12&\") =\"&$E$5&\" and LocalDay(\"&$D$12&\")=\"&$F$5&\" and Barix(\"&$D$12&\",reference:=StartOfSession)=\"&A42&\"\", \"Bar\", \"\", \"Close\",\"5\",\"0\",\"PrimaryOnly\",,,\"False\",\"T\",\"EveryTick\")","v":73.430000000000007},-5.0135501355012243E-3,{"$f":"RTD(\"cqg.rtd\",,\"StudyData\", \"Close(\"&$D$12&\") when LocalYear(\"&$D$12&\")=\"&$D$6&\" and localMonth(\"&$D$12&\") =\"&$E$6&\" and LocalDay(\"&$D$12&\")=\"&$F$6&\" and Barix(\"&$D$12&\",reference:=StartOfSession)=\"&A42&\"\", \"Bar\", \"\", \"Close\",\"5\",\"0\",\"PrimaryOnly\",,,\"False\",\"T\",\"EveryTick\")","v":73.81},1.1927611735673218E-2,{"$f":"RTD(\"cqg.rtd\",,\"StudyData\", \"Close(\"&$D$12&\") when LocalYear(\"&$D$12&\")=\"&$D$7&\" and localMonth(\"&$D$12&\") =\"&$E$7&\" and LocalDay(\"&$D$12&\")=\"&$F$7&\" and Barix(\"&$D$12&\",reference:=StartOfSession)=\"&A42&\"\", \"Bar\", \"\", \"Close\",\"5\",\"0\",\"PrimaryOnly\",,,\"False\",\"T\",\"EveryTick\")","v":73.12},-1.3757755597518155E-2,{"$f":"RTD(\"cqg.rtd\",,\"StudyData\", \"Close(\"&$D$12&\") when LocalYear(\"&$D$12&\")=\"&$D$8&\" and localMonth(\"&$D$12&\") =\"&$E$8&\" and LocalDay(\"&$D$12&\")=\"&$F$8&\" and Barix(\"&$D$12&\",reference:=StartOfSession)=\"&A42&\"\", \"Bar\", \"\", \"Close\",\"5\",\"0\",\"PrimaryOnly\",,,\"False\",\"T\",\"EveryTick\")","v":73.819999999999993},-1.6229375169056607E-3,{"$f":"RTD(\"cqg.rtd\",,\"StudyData\", \"Close(\"&$D$12&\") when LocalYear(\"&$D$12&\")=\"&$D$9&\" and localMonth(\"&$D$12&\") =\"&$E$9&\" and LocalDay(\"&$D$12&\")=\"&$F$9&\" and Barix(\"&$D$12&\",reference:=StartOfSession)=\"&A42&\"\", \"Bar\", \"\", \"Close\",\"5\",\"0\",\"PrimaryOnly\",,,\"False\",\"T\",\"EveryTick\")","v":74.19},5.3944706675646719E-4,{"$f":"RTD(\"cqg.rtd\",,\"StudyData\", \"Close(\"&$D$12&\") when LocalYear(\"&$D$12&\")=\"&$D$10&\" and localMonth(\"&$D$12&\") =\"&$E$10&\" and LocalDay(\"&$D$12&\")=\"&$F$10&\" and Barix(\"&$D$12&\",reference:=StartOfSession)=\"&A42&\"\", \"Bar\", \"\", \"Close\",\"5\",\"0\",\"PrimaryOnly\",,,\"False\",\"T\",\"EveryTick\")","v":73.98},7.2157930565010363E-3,null,null,null,""]
[42,"11:30:00",-35,{"$f":" RTD(\"cqg.rtd\",,\"StudyData\", $D$12,  \"Tick\", \"FlatTicks=0\", \"Tick\",\"D\",C43,,,,,\"T\")","v":71.12},null,null,null,{"$f":"RTD(\"cqg.rtd\",,\"StudyData\", \"Close(\"&$D$12&\") when LocalYear(\"&$D$12&\")=\"&$D$1&\" and localMonth(\"&$D$12&\") =\"&$E$1&\" and LocalDay(\"&$D$12&\")=\"&$F$1&\" and Barix(\"&$D$12&\",reference:=StartOfSession)=\"&A43&\"\", \"Bar\", \"\", \"Close\",\"5\",\"0\",\"PrimaryOnly\",,,\"False\",\"T\",\"EveryTick\")","v":""},{"$error":"#N/A"},{"$f":"RTD(\"cqg.rtd\",,\"StudyData\", \"Close(\"&$D$12&\") when LocalYear(\"&$D$12&\")=\"&$D$2&\" and localMonth(\"&$D$12&\") =\"&$E$2&\" and LocalDay(\"&$D$12&\")=\"&$F$2&\" and Barix(\"&$D$12&\",reference:=StartOfSession)=\"&A43&\"\", \"Bar\", \"\", \"Close\",\"5\",\"0\",\"PrimaryOnly\",,,\"False\",\"T\",\"EveryTick\")","v":69.52},-1.2219380505825512E-2,{"$f":"RTD(\"cqg.rtd\",,\"StudyData\", \"Close(\"&$D$12&\") when LocalYear(\"&$D$12&\")=\"&$D$3&\" and localMonth(\"&$D$12&\") =\"&$E$3&\" and LocalDay(\"&$D$12&\")=\"&$F$3&\" and Barix(\"&$D$12&\",reference:=StartOfSession)=\"&A43&\"\", \"Bar\", \"\", \"Close\",\"5\",\"0\",\"PrimaryOnly\",,,\"False\",\"T\",\"EveryTick\")","v":72.45},-2.2399136418836819E-2,{"$f":"RTD(\"cqg.rtd\",,\"StudyData\", \"Close(\"&$D$12&\") when LocalYear(\"&$D$12&\")=\"&$D$4&\" and localMonth(\"&$D$12&\") =\"&$E$4&\" and LocalDay(\"&$D$12&\")=\"&$F$4&\" and Barix(\"&$D$12&\",reference:=StartOfSession)=\"&A43&\"\", \"Bar\", \"\", \"Close\",\"5\",\"0\",\"PrimaryOnly\",,,\"False\",\"T\",\"EveryTick\")","v":73.94},1.2186865267434452E-3,{"$f":"RTD(\"cqg.rtd\",,\"StudyData\", \"Close(\"&$D$12&\") when LocalYear(\"&$D$12&\")=\"&$D$5&\" and localMonth(\"&$D$12&\") =\"&$E$5&\" and LocalDay(\"&$D$12&\")=\"&$F$5&\" and Barix(\"&$D$12&\",reference:=StartOfSession)=\"&A43&\"\", \"Bar\", \"\", \"Close\",\"5\",\"0\",\"PrimaryOnly\",,,\"False\",\"T\",\"EveryTick\")","v":73.459999999999994},-4.607046070460751E-3,{"$f":"RTD(\"cqg.rtd\",,\"StudyData\", \"Close(\"&$D$12&\") when LocalYear(\"&$D$12&\")=\"&$D$6&\" and localMonth(\"&$D$12&\") =\"&$E$6&\" and LocalDay(\"&$D$12&\")=\"&$F$6&\" and Barix(\"&$D$12&\",reference:=StartOfSession)=\"&A43&\"\", \"Bar\", \"\", \"Close\",\"5\",\"0\",\"PrimaryOnly\",,,\"False\",\"T\",\"EveryTick\")","v":73.81},1.1927611735673218E-2,{"$f":"RTD(\"cqg.rtd\",,\"StudyData\", \"Close(\"&$D$12&\") when LocalYear(\"&$D$12&\")=\"&$D$7&\" and localMonth(\"&$D$12&\") =\"&$E$7&\" and LocalDay(\"&$D$12&\")=\"&$F$7&\" and Barix(\"&$D$12&\",reference:=StartOfSession)=\"&A43&\"\", \"Bar\", \"\", \"Close\",\"5\",\"0\",\"PrimaryOnly\",,,\"False\",\"T\",\"EveryTick\")","v":73.239999999999995},-1.213919611545732E-2,{"$f":"RTD(\"cqg.rtd\",,\"StudyData\", \"Close(\"&$D$12&\") when LocalYear(\"&$D$12&\")=\"&$D$8&\" and localMonth(\"&$D$12&\") =\"&$E$8&\" and LocalDay(\"&$D$12&\")=\"&$F$8&\" and Barix(\"&$D$12&\",reference:=StartOfSession)=\"&A43&\"\", \"Bar\", \"\", \"Close\",\"5\",\"0\",\"PrimaryOnly\",,,\"False\",\"T\",\"EveryTick\")","v":73.849999999999994},-1.2172031376792454E-3,{"$f":"RTD(\"cqg.rtd\",,\"StudyData\", \"Close(\"&$D$12&\") when LocalYear(\"&$D$12&\")=\"&$D$9&\" and localMonth(\"&$D$12&\") =\"&$E$9&\" and LocalDay(\"&$D$12&\")=\"&$F$9&\" and Barix(\"&$D$12&\",reference:=StartOfSession)=\"&A43&\"\", \"Bar\", \"\", \"Close\",\"5\",\"0\",\"PrimaryOnly\",,,\"False\",\"T\",\"EveryTick\")","v":74.11},-5.3944706675665877E-4,{"$f":"RTD(\"cqg.rtd\",,\"StudyData\", \"Close(\"&$D$12&\") when LocalYear(\"&$D$12&\")=\"&$D$10&\" and localMonth(\"&$D$12&\") =\"&$E$10&\" and LocalDay(\"&$D$12&\")=\"&$F$10&\" and Barix(\"&$D$12&\",reference:=StartOfSession)=\"&A43&\"\", \"Bar\", \"\", \"Close\",\"5\",\"0\",\"PrimaryOnly\",,,\"False\",\"T\",\"EveryTick\")","v":74.13},9.2579986385295104E-3,null,null,null,""]
[43,"11:35:00",-34,{"$f":" RTD(\"cqg.rtd\",,\"StudyData\", $D$12,  \"Tick\", \"FlatTicks=0\", \"Tick\",\"D\",C44,,,,,\"T\")","v":71.11},null,null,null,{"$f":"RTD(\"cqg.rtd\",,\"StudyData\", \"Close(\"&$D$12&\") when LocalYear(\"&$D$12&\")=\"&$D$1&\" and localMonth(\"&$D$12&\") =\"&$E$1&\" and LocalDay(\"&$D$12&\")=\"&$F$1&\" and Barix(\"&$D$12&\",reference:=StartOfSession)=\"&A44&\"\", \"Bar\", \"\", \"Close\",\"5\",\"0\",\"PrimaryOnly\",,,\"False\",\"T\",\"EveryTick\")","v":""},{"$error":"#N/A"},{"$f":"RTD(\"cqg.rtd\",,\"StudyData\", \"Close(\"&$D$12&\") when LocalYear(\"&$D$12&\")=\"&$D$2&\" and localMonth(\"&$D$12&\") =\"&$E$2&\" and LocalDay(\"&$D$12&\")=\"&$F$2&\" and Barix(\"&$D$12&\",reference:=StartOfSession)=\"&A44&\"\", \"Bar\", \"\", \"Close\",\"5\",\"0\",\"PrimaryOnly\",,,\"False\",\"T\",\"EveryTick\")","v":69.73},-9.2355782892866081E-3,{"$f":"RTD(\"cqg.rtd\",,\"StudyData\", \"Close(\"&$D$12&\") when LocalYear(\"&$D$12&\")=\"&$D$3&\" and localMonth(\"&$D$12&\") =\"&$E$3&\" and LocalDay(\"&$D$12&\")=\"&$F$3&\" and Barix(\"&$D$12&\",reference:=StartOfSession)=\"&A44&\"\", \"Bar\", \"\", \"Close\",\"5\",\"0\",\"PrimaryOnly\",,,\"False\",\"T\",\"EveryTick\")","v":72.34},-2.3883416542976602E-2,{"$f":"RTD(\"cqg.rtd\",,\"StudyData\", \"Close(\"&$D$12&\") when LocalYear(\"&$D$12&\")=\"&$D$4&\" and localMonth(\"&$D$12&\") =\"&$E$4&\" and LocalDay(\"&$D$12&\")=\"&$F$4&\" and Barix(\"&$D$12&\",reference:=StartOfSession)=\"&A44&\"\", \"Bar\", \"\", \"Close\",\"5\",\"0\",\"PrimaryOnly\",,,\"False\",\"T\",\"EveryTick\")","v":73.98},1.7603249830739293E-3,{"$f":"RTD(\"cqg.rtd\",,\"StudyData\", \"Close(\"&$D$12&\") when LocalYear(\"&$D$12&\")=\"&$D$5&\" and localMonth(\"&$D$12&\") =\"&$E$5&\" and LocalDay(\"&$D$12&\")=\"&$F$5&\" and Barix(\"&$D$12&\",reference:=StartOfSession)=\"&A44&\"\", \"Bar\", \"\", \"Close\",\"5\",\"0\",\"PrimaryOnly\",,,\"False\",\"T\",\"EveryTick\")","v":73.430000000000007},-5.0135501355012243E-3,{"$f":"RTD(\"cqg.rtd\",,\"StudyData\", \"Close(\"&$D$12&\") when LocalYear(\"&$D$12&\")=\"&$D$6&\" and localMonth(\"&$D$12&\") =\"&$E$6&\" and LocalDay(\"&$D$12&\")=\"&$F$6&\" and Barix(\"&$D$12&\",reference:=StartOfSession)=\"&A44&\"\", \"Bar\", \"\", \"Close\",\"5\",\"0\",\"PrimaryOnly\",,,\"False\",\"T\",\"EveryTick\")","v":73.760000000000005},1.1242116808335719E-2,{"$f":"RTD(\"cqg.rtd\",,\"StudyData\", \"Close(\"&$D$12&\") when LocalYear(\"&$D$12&\")=\"&$D$7&\" and localMonth(\"&$D$12&\") =\"&$E$7&\" and LocalDay(\"&$D$12&\")=\"&$F$7&\" and Barix(\"&$D$12&\",reference:=StartOfSession)=\"&A44&\"\", \"Bar\", \"\", \"Close\",\"5\",\"0\",\"PrimaryOnly\",,,\"False\",\"T\",\"EveryTick\")","v":73.180000000000007},-1.2948475856487642E-2,{"$f":"RTD(\"cqg.rtd\",,\"StudyData\", \"Close(\"&$D$12&\") when LocalYear(\"&$D$12&\")=\"&$D$8&\" and localMonth(\"&$D$12&\") =\"&$E$8&\" and LocalDay(\"&$D$12&\")=\"&$F$8&\" and Barix(\"&$D$12&\",reference:=StartOfSession)=\"&A44&\"\", \"Bar\", \"\", \"Close\",\"5\",\"0\",\"PrimaryOnly\",,,\"False\",\"T\",\"EveryTick\")","v":73.63},-4.1925885853394953E-3,{"$f":"RTD(\"cqg.rtd\",,\"StudyData\", \"Close(\"&$D$12&\") when LocalYear(\"&$D$12&\")=\"&$D$9&\" and localMonth(\"&$D$12&\") =\"&$E$9&\" and LocalDay(\"&$D$12&\")=\"&$F$9&\" and Barix(\"&$D$12&\",reference:=StartOfSession)=\"&A44&\"\", \"Bar\", \"\", \"Close\",\"5\",\"0\",\"PrimaryOnly\",,,\"False\",\"T\",\"EveryTick\")","v":74.14},-1.3486176668921261E-4,{"$f":"RTD(\"cqg.rtd\",,\"StudyData\", \"Close(\"&$D$12&\") when LocalYear(\"&$D$12&\")=\"&$D$10&\" and localMonth(\"&$D$12&\") =\"&$E$10&\" and LocalDay(\"&$D$12&\")=\"&$F$10&\" and Barix(\"&$D$12&\",reference:=StartOfSession)=\"&A44&\"\", \"Bar\", \"\", \"Close\",\"5\",\"0\",\"PrimaryOnly\",,,\"False\",\"T\",\"EveryTick\")","v":74.209999999999994},1.0347174948944736E-2,null,null,null,""]
[44,"11:40:00",-33,{"$f":" RTD(\"cqg.rtd\",,\"StudyData\", $D$12,  \"Tick\", \"FlatTicks=0\", \"Tick\",\"D\",C45,,,,,\"T\")","v":71.12},null,null,null,{"$f":"RTD(\"cqg.rtd\",,\"StudyData\", \"Close(\"&$D$12&\") when LocalYear(\"&$D$12&\")=\"&$D$1&\" and localMonth(\"&$D$12&\") =\"&$E$1&\" and LocalDay(\"&$D$12&\")=\"&$F$1&\" and Barix(\"&$D$12&\",reference:=StartOfSession)=\"&A45&\"\", \"Bar\", \"\", \"Close\",\"5\",\"0\",\"PrimaryOnly\",,,\"False\",\"T\",\"EveryTick\")","v":""},{"$error":"#N/A"},{"$f":"RTD(\"cqg.rtd\",,\"StudyData\", \"Close(\"&$D$12&\") when LocalYear(\"&$D$12&\")=\"&$D$2&\" and localMonth(\"&$D$12&\") =\"&$E$2&\" and LocalDay(\"&$D$12&\")=\"&$F$2&\" and Barix(\"&$D$12&\",reference:=StartOfSession)=\"&A45&\"\", \"Bar\", \"\", \"Close\",\"5\",\"0\",\"PrimaryOnly\",,,\"False\",\"T\",\"EveryTick\")","v":69.64},-1.0514350667803282E-2,{"$f":"RTD(\"cqg.rtd\",,\"StudyData\", \"Close(\"&$D$12&\") when LocalYear(\"&$D$12&\")=\"&$D$3&\" and localMonth(\"&$D$12&\") =\"&$E$3&\" and LocalDay(\"&$D$12&\")=\"&$F$3&\" and Barix(\"&$D$12&\",reference:=StartOfSession)=\"&A45&\"\", \"Bar\", \"\", \"Close\",\"5\",\"0\",\"PrimaryOnly\",,,\"False\",\"T\",\"EveryTick\")","v":72.180000000000007},-2.6042369450816255E-2,{"$f":"RTD(\"cqg.rtd\",,\"StudyData\", \"Close(\"&$D$12&\") when LocalYear(\"&$D$12&\")=\"&$D$4&\" and localMonth(\"&$D$12&\") =\"&$E$4&\" and LocalDay(\"&$D$12&\")=\"&$F$4&\" and Barix(\"&$D$12&\",reference:=StartOfSession)=\"&A45&\"\", \"Bar\", \"\", \"Close\",\"5\",\"0\",\"PrimaryOnly\",,,\"False\",\"T\",\"EveryTick\")","v":73.97},1.6249153689912601E-3,{"$f":"RTD(\"cqg.rtd\",,\"StudyData\", \"Close(\"&$D$12&\") when LocalYear(\"&$D$12&\")=\"&$D$5&\" and localMonth(\"&$D$12&\") =\"&$E$5&\" and LocalDay(\"&$D$12&\")=\"&$F$5&\" and Barix(\"&$D$12&\",reference:=StartOfSession)=\"&A45&\"\", \"Bar\", \"\", \"Close\",\"5\",\"0\",\"PrimaryOnly\",,,\"False\",\"T\",\"EveryTick\")","v":73.34},-6.2330623306232217E-3,{"$f":"RTD(\"cqg.rtd\",,\"StudyData\", \"Close(\"&$D$12&\") when LocalYear(\"&$D$12&\")=\"&$D$6&\" and localMonth(\"&$D$12&\") =\"&$E$6&\" and LocalDay(\"&$D$12&\")=\"&$F$6&\" and Barix(\"&$D$12&\",reference:=StartOfSession)=\"&A45&\"\", \"Bar\", \"\", \"Close\",\"5\",\"0\",\"PrimaryOnly\",,,\"False\",\"T\",\"EveryTick\")","v":73.78},1.1516314779270681E-2,{"$f":"RTD(\"cqg.rtd\",,\"StudyData\", \"Close(\"&$D$12&\") when LocalYear(\"&$D$12&\")=\"&$D$7&\" and localMonth(\"&$D$12&\") =\"&$E$7&\" and LocalDay(\"&$D$12&\")=\"&$F$7&\" and Barix(\"&$D$12&\",reference:=StartOfSession)=\"&A45&\"\", \"Bar\", \"\", \"Close\",\"5\",\"0\",\"PrimaryOnly\",,,\"False\",\"T\",\"EveryTick\")","v":73.17},-1.3083355813326125E-2,{"$f":"RTD(\"cqg.rtd\",,\"StudyData\", \"Close(\"&$D$12&\") when LocalYear(\"&$D$12&\")=\"&$D$8&\" and localMonth(\"&$D$12&\") =\"&$E$8&\" and LocalDay(\"&$D$12&\")=\"&$F$8&\" and Barix(\"&$D$12&\",reference:=StartOfSession)=\"&A45&\"\", \"Bar\", \"\", \"Close\",\"5\",\"0\",\"PrimaryOnly\",,,\"False\",\"T\",\"EveryTick\")","v":73.67},-3.6516094130375444E-3,{"$f":"RTD(\"cqg.rtd\",,\"StudyData\", \"Close(\"&$D$12&\") when LocalYear(\"&$D$12&\")=\"&$D$9&\" and localMonth(\"&$D$12&\") =\"&$E$9&\" and LocalDay(\"&$D$12&\")=\"&$F$9&\" and Barix(\"&$D$12&\",reference:=StartOfSession)=\"&A45&\"\", \"Bar\", \"\", \"Close\",\"5\",\"0\",\"PrimaryOnly\",,,\"False\",\"T\",\"EveryTick\")","v":74.180000000000007},4.0458530006744621E-4,{"$f":"RTD(\"cqg.rtd\",,\"StudyData\", \"Close(\"&$D$12&\") when LocalYear(\"&$D$12&\")=\"&$D$10&\" and localMonth(\"&$D$12&\") =\"&$E$10&\" and LocalDay(\"&$D$12&\")=\"&$F$10&\" and Barix(\"&$D$12&\",reference:=StartOfSession)=\"&A45&\"\", \"Bar\", \"\", \"Close\",\"5\",\"0\",\"PrimaryOnly\",,,\"False\",\"T\",\"EveryTick\")","v":74.27},1.1164057181756204E-2,null,null,null,""]
[45,"11:45:00",-32,{"$f":" RTD(\"cqg.rtd\",,\"StudyData\", $D$12,  \"Tick\", \"FlatTicks=0\", \"Tick\",\"D\",C46,,,,,\"T\")","v":71.11},null,null,null,{"$f":"RTD(\"cqg.rtd\",,\"StudyData\", \"Close(\"&$D$12&\") when LocalYear(\"&$D$12&\")=\"&$D$1&\" and localMonth(\"&$D$12&\") =\"&$E$1&\" and LocalDay(\"&$D$12&\")=\"&$F$1&\" and Barix(\"&$D$12&\",reference:=StartOfSession)=\"&A46&\"\", \"Bar\", \"\", \"Close\",\"5\",\"0\",\"PrimaryOnly\",,,\"False\",\"T\",\"EveryTick\")","v":""},{"$error":"#N/A"},{"$f":"RTD(\"cqg.rtd\",,\"StudyData\", \"Close(\"&$D$12&\") when LocalYear(\"&$D$12&\")=\"&$D$2&\" and localMonth(\"&$D$12&\") =\"&$E$2&\" and LocalDay(\"&$D$12&\")=\"&$F$2&\" and Barix(\"&$D$12&\",reference:=StartOfSession)=\"&A46&\"\", \"Bar\", \"\", \"Close\",\"5\",\"0\",\"PrimaryOnly\",,,\"False\",\"T\",\"EveryTick\")","v":69.650000000000006},-1.0372264847968028E-2,{"$f":"RTD(\"cqg.rtd\",,\"StudyData\", \"Close(\"&$D$12&\") when LocalYear(\"&$D$12&\")=\"&$D$3&\" and localMonth(\"&$D$12&\") =\"&$E$3&\" and LocalDay(\"&$D$12&\")=\"&$F$3&\" and Barix(\"&$D$12&\",reference:=StartOfSession)=\"&A46&\"\", \"Bar\", \"\", \"Close\",\"5\",\"0\",\"PrimaryOnly\",,,\"False\",\"T\",\"EveryTick\")","v":72.22},-2.5502631223856438E-2,{"$f":"RTD(\"cqg.rtd\",,\"StudyData\", \"Close(\"&$D$12&\") when LocalYear(\"&$D$12&\")=\"&$D$4&\" and localMonth(\"&$D$12&\") =\"&$E$4&\" and LocalDay(\"&$D$12&\")=\"&$F$4&\" and Barix(\"&$D$12&\",reference:=StartOfSession)=\"&A46&\"\", \"Bar\", \"\", \"Close\",\"5\",\"0\",\"PrimaryOnly\",,,\"False\",\"T\",\"EveryTick\")","v":73.89},5.4163845633048414E-4,{"$f":"RTD(\"cqg.rtd\",,\"StudyData\", \"Close(\"&$D$12&\") when LocalYear(\"&$D$12&\")=\"&$D$5&\" and localMonth(\"&$D$12&\") =\"&$E$5&\" and LocalDay(\"&$D$12&\")=\"&$F$5&\" and Barix(\"&$D$12&\",reference:=StartOfSession)=\"&A46&\"\", \"Bar\", \"\", \"Close\",\"5\",\"0\",\"PrimaryOnly\",,,\"False\",\"T\",\"EveryTick\")","v":73.63},-2.3035230352303755E-3,{"$f":"RTD(\"cqg.rtd\",,\"StudyData\", \"Close(\"&$D$12&\") when LocalYear(\"&$D$12&\")=\"&$D$6&\" and localMonth(\"&$D$12&\") =\"&$E$6&\" and LocalDay(\"&$D$12&\")=\"&$F$6&\" and Barix(\"&$D$12&\",reference:=StartOfSession)=\"&A46&\"\", \"Bar\", \"\", \"Close\",\"5\",\"0\",\"PrimaryOnly\",,,\"False\",\"T\",\"EveryTick\")","v":73.78},1.1516314779270681E-2,{"$f":"RTD(\"cqg.rtd\",,\"StudyData\", \"Close(\"&$D$12&\") when LocalYear(\"&$D$12&\")=\"&$D$7&\" and localMonth(\"&$D$12&\") =\"&$E$7&\" and LocalDay(\"&$D$12&\")=\"&$F$7&\" and Barix(\"&$D$12&\",reference:=StartOfSession)=\"&A46&\"\", \"Bar\", \"\", \"Close\",\"5\",\"0\",\"PrimaryOnly\",,,\"False\",\"T\",\"EveryTick\")","v":73.23},-1.2274076072295611E-2,{"$f":"RTD(\"cqg.rtd\",,\"StudyData\", \"Close(\"&$D$12&\") when LocalYear(\"&$D$12&\")=\"&$D$8&\" and localMonth(\"&$D$12&\") =\"&$E$8&\" and LocalDay(\"&$D$12&\")=\"&$F$8&\" and Barix(\"&$D$12&\",reference:=StartOfSession)=\"&A46&\"\", \"Bar\", \"\", \"Close\",\"5\",\"0\",\"PrimaryOnly\",,,\"False\",\"T\",\"EveryTick\")","v":73.69},-3.3811198268866652E-3,{"$f":"RTD(\"cqg.rtd\",,\"StudyData\", \"Close(\"&$D$12&\") when LocalYear(\"&$D$12&\")=\"&$D$9&\" and localMonth(\"&$D$12&\") =\"&$E$9&\" and LocalDay(\"&$D$12&\")=\"&$F$9&\" and Barix(\"&$D$12&\",reference:=StartOfSession)=\"&A46&\"\", \"Bar\", \"\", \"Close\",\"5\",\"0\",\"PrimaryOnly\",,,\"False\",\"T\",\"EveryTick\")","v":74.14},-1.3486176668921261E-4,{"$f":"RTD(\"cqg.rtd\",,\"StudyData\", \"Close(\"&$D$12&\") when LocalYear(\"&$D$12&\")=\"&$D$10&\" and localMonth(\"&$D$12&\") =\"&$E$10&\" and LocalDay(\"&$D$12&\")=\"&$F$10&\" and Barix(\"&$D$12&\",reference:=StartOfSession)=\"&A46&\"\", \"Bar\", \"\", \"Close\",\"5\",\"0\",\"PrimaryOnly\",,,\"False\",\"T\",\"EveryTick\")","v":74.23},1.0619469026548688E-2,null,null,null,""]
[46,"11:50:00",-31,{"$f":" RTD(\"cqg.rtd\",,\"StudyData\", $D$12,  \"Tick\", \"FlatTicks=0\", \"Tick\",\"D\",C47,,,,,\"T\")","v":71.099999999999994},null,null,null,{"$f":"RTD(\"cqg.rtd\",,\"StudyData\", \"Close(\"&$D$12&\") when LocalYear(\"&$D$12&\")=\"&$D$1&\" and localMonth(\"&$D$12&\") =\"&$E$1&\" and LocalDay(\"&$D$12&\")=\"&$F$1&\" and Barix(\"&$D$12&\",reference:=StartOfSession)=\"&A47&\"\", \"Bar\", \"\", \"Close\",\"5\",\"0\",\"PrimaryOnly\",,,\"False\",\"T\",\"EveryTick\")","v":""},{"$error":"#N/A"},{"$f":"RTD(\"cqg.rtd\",,\"StudyData\", \"Close(\"&$D$12&\") when LocalYear(\"&$D$12&\")=\"&$D$2&\" and localMonth(\"&$D$12&\") =\"&$E$2&\" and LocalDay(\"&$D$12&\")=\"&$F$2&\" and Barix(\"&$D$12&\",reference:=StartOfSession)=\"&A47&\"\", \"Bar\", \"\", \"Close\",\"5\",\"0\",\"PrimaryOnly\",,,\"False\",\"T\",\"EveryTick\")","v":69.73},-9.2355782892866081E-3,{"$f":"RTD(\"cqg.rtd\",,\"StudyData\", \"Close(\"&$D$12&\") when LocalYear(\"&$D$12&\")=\"&$D$3&\" and localMonth(\"&$D$12&\") =\"&$E$3&\" and LocalDay(\"&$D$12&\")=\"&$F$3&\" and Barix(\"&$D$12&\",reference:=StartOfSession)=\"&A47&\"\", \"Bar\", \"\", \"Close\",\"5\",\"0\",\"PrimaryOnly\",,,\"False\",\"T\",\"EveryTick\")","v":72.150000000000006},-2.6447173121036213E-2,{"$f":"RTD(\"cqg.rtd\",,\"StudyData\", \"Close(\"&$D$12&\") when LocalYear(\"&$D$12&\")=\"&$D$4&\" and localMonth(\"&$D$12&\") =\"&$E$4&\" and LocalDay(\"&$D$12&\")=\"&$F$4&\" and Barix(\"&$D$12&\",reference:=StartOfSession)=\"&A47&\"\", \"Bar\", \"\", \"Close\",\"5\",\"0\",\"PrimaryOnly\",,,\"False\",\"T\",\"EveryTick\")","v":73.87},2.7081922816533829E-4,{"$f":"RTD(\"cqg.rtd\",,\"StudyData\", \"Close(\"&$D$12&\") when LocalYear(\"&$D$12&\")=\"&$D$5&\" and localMonth(\"&$D$12&\") =\"&$E$5&\" and LocalDay(\"&$D$12&\")=\"&$F$5&\" and Barix(\"&$D$12&\",reference:=StartOfSession)=\"&A47&\"\", \"Bar\", \"\", \"Close\",\"5\",\"0\",\"PrimaryOnly\",,,\"False\",\"T\",\"EveryTick\")","v":73.599999999999994},-2.7100271002710413E-3,{"$f":"RTD(\"cqg.rtd\",,\"StudyData\", \"Close(\"&$D$12&\") when LocalYear(\"&$D$12&\")=\"&$D$6&\" and localMonth(\"&$D$12&\") =\"&$E$6&\" and LocalDay(\"&$D$12&\")=\"&$F$6&\" and Barix(\"&$D$12&\",reference:=StartOfSession)=\"&A47&\"\", \"Bar\", \"\", \"Close\",\"5\",\"0\",\"PrimaryOnly\",,,\"False\",\"T\",\"EveryTick\")","v":73.77},1.1379215793803103E-2,{"$f":"RTD(\"cqg.rtd\",,\"StudyData\", \"Close(\"&$D$12&\") when LocalYear(\"&$D$12&\")=\"&$D$7&\" and localMonth(\"&$D$12&\") =\"&$E$7&\" and LocalDay(\"&$D$12&\")=\"&$F$7&\" and Barix(\"&$D$12&\",reference:=StartOfSession)=\"&A47&\"\", \"Bar\", \"\", \"Close\",\"5\",\"0\",\"PrimaryOnly\",,,\"False\",\"T\",\"EveryTick\")","v":73.209999999999994},-1.2543835985972576E-2,{"$f":"RTD(\"cqg.rtd\",,\"StudyData\", \"Close(\"&$D$12&\") when LocalYear(\"&$D$12&\")=\"&$D$8&\" and localMonth(\"&$D$12&\") =\"&$E$8&\" and LocalDay(\"&$D$12&\")=\"&$F$8&\" and Barix(\"&$D$12&\",reference:=StartOfSession)=\"&A47&\"\", \"Bar\", \"\", \"Close\",\"5\",\"0\",\"PrimaryOnly\",,,\"False\",\"T\",\"EveryTick\")","v":73.7},-3.2458750338111293E-3,{"$f":"RTD(\"cqg.rtd\",,\"StudyData\", \"Close(\"&$D$12&\") when LocalYear(\"&$D$12&\")=\"&$D$9&\" and localMonth(\"&$D$12&\") =\"&$E$9&\" and LocalDay(\"&$D$12&\")=\"&$F$9&\" and Barix(\"&$D$12&\",reference:=StartOfSession)=\"&A47&\"\", \"Bar\", \"\", \"Close\",\"5\",\"0\",\"PrimaryOnly\",,,\"False\",\"T\",\"EveryTick\")","v":74.150000000000006},0,{"$f":"RTD(\"cqg.rtd\",,\"StudyData\", \"Close(\"&$D$12&\") when LocalYear(\"&$D$12&\")=\"&$D$10&\" and localMonth(\"&$D$12&\") =\"&$E$10&\" and LocalDay(\"&$D$12&\")=\"&$F$10&\" and Barix(\"&$D$12&\",reference:=StartOfSession)=\"&A47&\"\", \"Bar\", \"\", \"Close\",\"5\",\"0\",\"PrimaryOnly\",,,\"False\",\"T\",\"EveryTick\")","v":74.17},9.8025867937372203E-3,null,null,null,""]
[47,"11:55:00",-30,{"$f":" RTD(\"cqg.rtd\",,\"StudyData\", $D$12,  \"Tick\", \"FlatTicks=0\", \"Tick\",\"D\",C48,,,,,\"T\")","v":71.11},null,null,null,{"$f":"RTD(\"cqg.rtd\",,\"StudyData\", \"Close(\"&$D$12&\") when LocalYear(\"&$D$12&\")=\"&$D$1&\" and localMonth(\"&$D$12&\") =\"&$E$1&\" and LocalDay(\"&$D$12&\")=\"&$F$1&\" and Barix(\"&$D$12&\",reference:=StartOfSession)=\"&A48&\"\", \"Bar\", \"\", \"Close\",\"5\",\"0\",\"PrimaryOnly\",,,\"False\",\"T\",\"EveryTick\")","v":""},{"$error":"#N/A"},{"$f":"RTD(\"cqg.rtd\",,\"StudyData\", \"Close(\"&$D$12&\") when LocalYear(\"&$D$12&\")=\"&$D$2&\" and localMonth(\"&$D$12&\") =\"&$E$2&\" and LocalDay(\"&$D$12&\")=\"&$F$2&\" and Barix(\"&$D$12&\",reference:=StartOfSession)=\"&A48&\"\", \"Bar\", \"\", \"Close\",\"5\",\"0\",\"PrimaryOnly\",,,\"False\",\"T\",\"EveryTick\")","v":69.72},-9.3776641091218617E-3,{"$f":"RTD(\"cqg.rtd\",,\"StudyData\", \"Close(\"&$D$12&\") when LocalYear(\"&$D$12&\")=\"&$D$3&\" and localMonth(\"&$D$12&\") =\"&$E$3&\" and LocalDay(\"&$D$12&\")=\"&$F$3&\" and Barix(\"&$D$12&\",reference:=StartOfSession)=\"&A48&\"\", \"Bar\", \"\", \"Close\",\"5\",\"0\",\"PrimaryOnly\",,,\"False\",\"T\",\"EveryTick\")","v":72.02},-2.8201322358656099E-2,{"$f":"RTD(\"cqg.rtd\",,\"StudyData\", \"Close(\"&$D$12&\") when LocalYear(\"&$D$12&\")=\"&$D$4&\" and localMonth(\"&$D$12&\") =\"&$E$4&\" and LocalDay(\"&$D$12&\")=\"&$F$4&\" and Barix(\"&$D$12&\",reference:=StartOfSession)=\"&A48&\"\", \"Bar\", \"\", \"Close\",\"5\",\"0\",\"PrimaryOnly\",,,\"False\",\"T\",\"EveryTick\")","v":73.86},1.3540961408266915E-4,{"$f":"RTD(\"cqg.rtd\",,\"StudyData\", \"Close(\"&$D$12&\") when LocalYear(\"&$D$12&\")=\"&$D$5&\" and localMonth(\"&$D$12&\") =\"&$E$5&\" and LocalDay(\"&$D$12&\")=\"&$F$5&\" and Barix(\"&$D$12&\",reference:=StartOfSession)=\"&A48&\"\", \"Bar\", \"\", \"Close\",\"5\",\"0\",\"PrimaryOnly\",,,\"False\",\"T\",\"EveryTick\")","v":73.53},-3.6585365853658001E-3,{"$f":"RTD(\"cqg.rtd\",,\"StudyData\", \"Close(\"&$D$12&\") when LocalYear(\"&$D$12&\")=\"&$D$6&\" and localMonth(\"&$D$12&\") =\"&$E$6&\" and LocalDay(\"&$D$12&\")=\"&$F$6&\" and Barix(\"&$D$12&\",reference:=StartOfSession)=\"&A48&\"\", \"Bar\", \"\", \"Close\",\"5\",\"0\",\"PrimaryOnly\",,,\"False\",\"T\",\"EveryTick\")","v":73.709999999999994},1.0556621880998027E-2,{"$f":"RTD(\"cqg.rtd\",,\"StudyData\", \"Close(\"&$D$12&\") when LocalYear(\"&$D$12&\")=\"&$D$7&\" and localMonth(\"&$D$12&\") =\"&$E$7&\" and LocalDay(\"&$D$12&\")=\"&$F$7&\" and Barix(\"&$D$12&\",reference:=StartOfSession)=\"&A48&\"\", \"Bar\", \"\", \"Close\",\"5\",\"0\",\"PrimaryOnly\",,,\"False\",\"T\",\"EveryTick\")","v":73.239999999999995},-1.213919611545732E-2,{"$f":"RTD(\"cqg.rtd\",,\"StudyData\", \"Close(\"&$D$12&\") when LocalYear(\"&$D$12&\")=\"&$D$8&\" and localMonth(\"&$D$12&\") =\"&$E$8&\" and LocalDay(\"&$D$12&\")=\"&$F$8&\" and Barix(\"&$D$12&\",reference:=StartOfSession)=\"&A48&\"\", \"Bar\", \"\", \"Close\",\"5\",\"0\",\"PrimaryOnly\",,,\"False\",\"T\",\"EveryTick\")","v":73.72},-2.9753854476602497E-3,{"$f":"RTD(\"cqg.rtd\",,\"StudyData\", \"Close(\"&$D$12&\") when LocalYear(\"&$D$12&\")=\"&$D$9&\" and localMonth(\"&$D$12&\") =\"&$E$9&\" and LocalDay(\"&$D$12&\")=\"&$F$9&\" and Barix(\"&$D$12&\",reference:=StartOfSession)=\"&A48&\"\", \"Bar\", \"\", \"Close\",\"5\",\"0\",\"PrimaryOnly\",,,\"False\",\"T\",\"EveryTick\")","v":74.14},-1.3486176668921261E-4,{"$f":"RTD(\"cqg.rtd\",,\"StudyData\", \"Close(\"&$D$12&\") when LocalYear(\"&$D$12&\")=\"&$D$10&\" and localMonth(\"&$D$12&\") =\"&$E$10&\" and LocalDay(\"&$D$12&\")=\"&$F$10&\" and Barix(\"&$D$12&\",reference:=StartOfSession)=\"&A48&\"\", \"Bar\", \"\", \"Close\",\"5\",\"0\",\"PrimaryOnly\",,,\"False\",\"T\",\"EveryTick\")","v":74.12},9.1218515997277295E-3,null,null,null,""]
[48,"12:00:00",-29,{"$f":" RTD(\"cqg.rtd\",,\"StudyData\", $D$12,  \"Tick\", \"FlatTicks=0\", \"Tick\",\"D\",C49,,,,,\"T\")","v":71.099999999999994},null,null,null,{"$f":"RTD(\"cqg.rtd\",,\"StudyData\", \"Close(\"&$D$12&\") when LocalYear(\"&$D$12&\")=\"&$D$1&\" and localMonth(\"&$D$12&\") =\"&$E$1&\" and LocalDay(\"&$D$12&\")=\"&$F$1&\" and Barix(\"&$D$12&\",reference:=StartOfSession)=\"&A49&\"\", \"Bar\", \"\", \"Close\",\"5\",\"0\",\"PrimaryOnly\",,,\"False\",\"T\",\"EveryTick\")","v":""},{"$error":"#N/A"},{"$f":"RTD(\"cqg.rtd\",,\"StudyData\", \"Close(\"&$D$12&\") when LocalYear(\"&$D$12&\")=\"&$D$2&\" and localMonth(\"&$D$12&\") =\"&$E$2&\" and LocalDay(\"&$D$12&\")=\"&$F$2&\" and Barix(\"&$D$12&\",reference:=StartOfSession)=\"&A49&\"\", \"Bar\", \"\", \"Close\",\"5\",\"0\",\"PrimaryOnly\",,,\"False\",\"T\",\"EveryTick\")","v":69.67},-1.0088093208297724E-2,{"$f":"RTD(\"cqg.rtd\",,\"StudyData\", \"Close(\"&$D$12&\") when LocalYear(\"&$D$12&\")=\"&$D$3&\" and localMonth(\"&$D$12&\") =\"&$E$3&\" and LocalDay(\"&$D$12&\")=\"&$F$3&\" and Barix(\"&$D$12&\",reference:=StartOfSession)=\"&A49&\"\", \"Bar\", \"\", \"Close\",\"5\",\"0\",\"PrimaryOnly\",,,\"False\",\"T\",\"EveryTick\")","v":71.819999999999993},-3.0900013493455759E-2,{"$f":"RTD(\"cqg.rtd\",,\"StudyData\", \"Close(\"&$D$12&\") when LocalYear(\"&$D$12&\")=\"&$D$4&\" and localMonth(\"&$D$12&\") =\"&$E$4&\" and LocalDay(\"&$D$12&\")=\"&$F$4&\" and Barix(\"&$D$12&\",reference:=StartOfSession)=\"&A49&\"\", \"Bar\", \"\", \"Close\",\"5\",\"0\",\"PrimaryOnly\",,,\"False\",\"T\",\"EveryTick\")","v":73.87},2.7081922816533829E-4,{"$f":"RTD(\"cqg.rtd\",,\"StudyData\", \"Close(\"&$D$12&\") when LocalYear(\"&$D$12&\")=\"&$D$5&\" and localMonth(\"&$D$12&\") =\"&$E$5&\" and LocalDay(\"&$D$12&\")=\"&$F$5&\" and Barix(\"&$D$12&\",reference:=StartOfSession)=\"&A49&\"\", \"Bar\", \"\", \"Close\",\"5\",\"0\",\"PrimaryOnly\",,,\"False\",\"T\",\"EveryTick\")","v":73.59},-2.8455284552844681E-3,{"$f":"RTD(\"cqg.rtd\",,\"StudyData\", \"Close(\"&$D$12&\") when LocalYear(\"&$D$12&\")=\"&$D$6&\" and localMonth(\"&$D$12&\") =\"&$E$6&\" and LocalDay(\"&$D$12&\")=\"&$F$6&\" and Barix(\"&$D$12&\",reference:=StartOfSession)=\"&A49&\"\", \"Bar\", \"\", \"Close\",\"5\",\"0\",\"PrimaryOnly\",,,\"False\",\"T\",\"EveryTick\")","v":73.75},1.1105017822868142E-2,{"$f":"RTD(\"cqg.rtd\",,\"StudyData\", \"Close(\"&$D$12&\") when LocalYear(\"&$D$12&\")=\"&$D$7&\" and localMonth(\"&$D$12&\") =\"&$E$7&\" and LocalDay(\"&$D$12&\")=\"&$F$7&\" and Barix(\"&$D$12&\",reference:=StartOfSession)=\"&A49&\"\", \"Bar\", \"\", \"Close\",\"5\",\"0\",\"PrimaryOnly\",,,\"False\",\"T\",\"EveryTick\")","v":73.25},-1.2004316158618836E-2,{"$f":"RTD(\"cqg.rtd\",,\"StudyData\", \"Close(\"&$D$12&\") when LocalYear(\"&$D$12&\")=\"&$D$8&\" and localMonth(\"&$D$12&\") =\"&$E$8&\" and LocalDay(\"&$D$12&\")=\"&$F$8&\" and Barix(\"&$D$12&\",reference:=StartOfSession)=\"&A49&\"\", \"Bar\", \"\", \"Close\",\"5\",\"0\",\"PrimaryOnly\",,,\"False\",\"T\",\"EveryTick\")","v":73.81},-1.7581823099810043E-3,{"$f":"RTD(\"cqg.rtd\",,\"StudyData\", \"Close(\"&$D$12&\") when LocalYear(\"&$D$12&\")=\"&$D$9&\" and localMonth(\"&$D$12&\") =\"&$E$9&\" and LocalDay(\"&$D$12&\")=\"&$F$9&\" and Barix(\"&$D$12&\",reference:=StartOfSession)=\"&A49&\"\", \"Bar\", \"\", \"Close\",\"5\",\"0\",\"PrimaryOnly\",,,\"False\",\"T\",\"EveryTick\")","v":74.209999999999994},8.0917060013470073E-4,{"$f":"RTD(\"cqg.rtd\",,\"StudyData\", \"Close(\"&$D$12&\") when LocalYear(\"&$D$12&\")=\"&$D$10&\" and localMonth(\"&$D$12&\") =\"&$E$10&\" and LocalDay(\"&$D$12&\")=\"&$F$10&\" and Barix(\"&$D$12&\",reference:=StartOfSession)=\"&A49&\"\", \"Bar\", \"\", \"Close\",\"5\",\"0\",\"PrimaryOnly\",,,\"False\",\"T\",\"EveryTick\")","v":74.19},1.0074880871340978E-2,null,null,null,""]
[49,"12:05:00",-28,{"$f":" RTD(\"cqg.rtd\",,\"StudyData\", $D$12,  \"Tick\", \"FlatTicks=0\", \"Tick\",\"D\",C50,,,,,\"T\")","v":71.11},null,null,null,{"$f":"RTD(\"cqg.rtd\",,\"StudyData\", \"Close(\"&$D$12&\") when LocalYear(\"&$D$12&\")=\"&$D$1&\" and localMonth(\"&$D$12&\") =\"&$E$1&\" and LocalDay(\"&$D$12&\")=\"&$F$1&\" and Barix(\"&$D$12&\",reference:=StartOfSession)=\"&A50&\"\", \"Bar\", \"\", \"Close\",\"5\",\"0\",\"PrimaryOnly\",,,\"False\",\"T\",\"EveryTick\")","v":""},{"$error":"#N/A"},{"$f":"RTD(\"cqg.rtd\",,\"StudyData\", \"Close(\"&$D$12&\") when LocalYear(\"&$D$12&\")=\"&$D$2&\" and localMonth(\"&$D$12&\") =\"&$E$2&\" and LocalDay(\"&$D$12&\")=\"&$F$2&\" and Barix(\"&$D$12&\",reference:=StartOfSession)=\"&A50&\"\", \"Bar\", \"\", \"Close\",\"5\",\"0\",\"PrimaryOnly\",,,\"False\",\"T\",\"EveryTick\")","v":69.739999999999995},-9.0934924694515574E-3,{"$f":"RTD(\"cqg.rtd\",,\"StudyData\", \"Close(\"&$D$12&\") when LocalYear(\"&$D$12&\")=\"&$D$3&\" and localMonth(\"&$D$12&\") =\"&$E$3&\" and LocalDay(\"&$D$12&\")=\"&$F$3&\" and Barix(\"&$D$12&\",reference:=StartOfSession)=\"&A50&\"\", \"Bar\", \"\", \"Close\",\"5\",\"0\",\"PrimaryOnly\",,,\"False\",\"T\",\"EveryTick\")","v":71.81},-3.1034948050195618E-2,{"$f":"RTD(\"cqg.rtd\",,\"StudyData\", \"Close(\"&$D$12&\") when LocalYear(\"&$D$12&\")=\"&$D$4&\" and localMonth(\"&$D$12&\") =\"&$E$4&\" and LocalDay(\"&$D$12&\")=\"&$F$4&\" and Barix(\"&$D$12&\",reference:=StartOfSession)=\"&A50&\"\", \"Bar\", \"\", \"Close\",\"5\",\"0\",\"PrimaryOnly\",,,\"False\",\"T\",\"EveryTick\")","v":73.88},4.0622884224781502E-4,{"$f":"RTD(\"cqg.rtd\",,\"StudyData\", \"Close(\"&$D$12&\") when LocalYear(\"&$D$12&\")=\"&$D$5&\" and localMonth(\"&$D$12&\") =\"&$E$5&\" and LocalDay(\"&$D$12&\")=\"&$F$5&\" and Barix(\"&$D$12&\",reference:=StartOfSession)=\"&A50&\"\", \"Bar\", \"\", \"Close\",\"5\",\"0\",\"PrimaryOnly\",,,\"False\",\"T\",\"EveryTick\")","v":73.61},-2.574525745257422E-3,{"$f":"RTD(\"cqg.rtd\",,\"StudyData\", \"Close(\"&$D$12&\") when LocalYear(\"&$D$12&\")=\"&$D$6&\" and localMonth(\"&$D$12&\") =\"&$E$6&\" and LocalDay(\"&$D$12&\")=\"&$F$6&\" and Barix(\"&$D$12&\",reference:=StartOfSession)=\"&A50&\"\", \"Bar\", \"\", \"Close\",\"5\",\"0\",\"PrimaryOnly\",,,\"False\",\"T\",\"EveryTick\")","v":73.680000000000007},1.0145324924595684E-2,{"$f":"RTD(\"cqg.rtd\",,\"StudyData\", \"Close(\"&$D$12&\") when LocalYear(\"&$D$12&\")=\"&$D$7&\" and localMonth(\"&$D$12&\") =\"&$E$7&\" and LocalDay(\"&$D$12&\")=\"&$F$7&\" and Barix(\"&$D$12&\",reference:=StartOfSession)=\"&A50&\"\", \"Bar\", \"\", \"Close\",\"5\",\"0\",\"PrimaryOnly\",,,\"False\",\"T\",\"EveryTick\")","v":73.319999999999993},-1.1060156460750032E-2,{"$f":"RTD(\"cqg.rtd\",,\"StudyData\", \"Close(\"&$D$12&\") when LocalYear(\"&$D$12&\")=\"&$D$8&\" and localMonth(\"&$D$12&\") =\"&$E$8&\" and LocalDay(\"&$D$12&\")=\"&$F$8&\" and Barix(\"&$D$12&\",reference:=StartOfSession)=\"&A50&\"\", \"Bar\", \"\", \"Close\",\"5\",\"0\",\"PrimaryOnly\",,,\"False\",\"T\",\"EveryTick\")","v":73.930000000000007},-1.3524479307534359E-4,{"$f":"RTD(\"cqg.rtd\",,\"StudyData\", \"Close(\"&$D$12&\") when LocalYear(\"&$D$12&\")=\"&$D$9&\" and localMonth(\"&$D$12&\") =\"&$E$9&\" and LocalDay(\"&$D$12&\")=\"&$F$9&\" and Barix(\"&$D$12&\",reference:=StartOfSession)=\"&A50&\"\", \"Bar\", \"\", \"Close\",\"5\",\"0\",\"PrimaryOnly\",,,\"False\",\"T\",\"EveryTick\")","v":74.180000000000007},4.0458530006744621E-4,{"$f":"RTD(\"cqg.rtd\",,\"StudyData\", \"Close(\"&$D$12&\") when LocalYear(\"&$D$12&\")=\"&$D$10&\" and localMonth(\"&$D$12&\") =\"&$E$10&\" and LocalDay(\"&$D$12&\")=\"&$F$10&\" and Barix(\"&$D$12&\",reference:=StartOfSession)=\"&A50&\"\", \"Bar\", \"\", \"Close\",\"5\",\"0\",\"PrimaryOnly\",,,\"False\",\"T\",\"EveryTick\")","v":74.16},9.6664397549352452E-3,null,null,null,""]
[50,"12:10:00",-27,{"$f":" RTD(\"cqg.rtd\",,\"StudyData\", $D$12,  \"Tick\", \"FlatTicks=0\", \"Tick\",\"D\",C51,,,,,\"T\")","v":71.12},null,null,null,{"$f":"RTD(\"cqg.rtd\",,\"StudyData\", \"Close(\"&$D$12&\") when LocalYear(\"&$D$12&\")=\"&$D$1&\" and localMonth(\"&$D$12&\") =\"&$E$1&\" and LocalDay(\"&$D$12&\")=\"&$F$1&\" and Barix(\"&$D$12&\",reference:=StartOfSession)=\"&A51&\"\", \"Bar\", \"\", \"Close\",\"5\",\"0\",\"PrimaryOnly\",,,\"False\",\"T\",\"EveryTick\")","v":""},{"$error":"#N/A"},{"$f":"RTD(\"cqg.rtd\",,\"StudyData\", \"Close(\"&$D$12&\") when LocalYear(\"&$D$12&\")=\"&$D$2&\" and localMonth(\"&$D$12&\") =\"&$E$2&\" and LocalDay(\"&$D$12&\")=\"&$F$2&\" and Barix(\"&$D$12&\",reference:=StartOfSession)=\"&A51&\"\", \"Bar\", \"\", \"Close\",\"5\",\"0\",\"PrimaryOnly\",,,\"False\",\"T\",\"EveryTick\")","v":69.760000000000005},-8.8093208297810519E-3,{"$f":"RTD(\"cqg.rtd\",,\"StudyData\", \"Close(\"&$D$12&\") when LocalYear(\"&$D$12&\")=\"&$D$3&\" and localMonth(\"&$D$12&\") =\"&$E$3&\" and LocalDay(\"&$D$12&\")=\"&$F$3&\" and Barix(\"&$D$12&\",reference:=StartOfSession)=\"&A51&\"\", \"Bar\", \"\", \"Close\",\"5\",\"0\",\"PrimaryOnly\",,,\"False\",\"T\",\"EveryTick\")","v":71.61},-3.3733639184995279E-2,{"$f":"RTD(\"cqg.rtd\",,\"StudyData\", \"Close(\"&$D$12&\") when LocalYear(\"&$D$12&\")=\"&$D$4&\" and localMonth(\"&$D$12&\") =\"&$E$4&\" and LocalDay(\"&$D$12&\")=\"&$F$4&\" and Barix(\"&$D$12&\",reference:=StartOfSession)=\"&A51&\"\", \"Bar\", \"\", \"Close\",\"5\",\"0\",\"PrimaryOnly\",,,\"False\",\"T\",\"EveryTick\")","v":73.88},4.0622884224781502E-4,{"$f":"RTD(\"cqg.rtd\",,\"StudyData\", \"Close(\"&$D$12&\") when LocalYear(\"&$D$12&\")=\"&$D$5&\" and localMonth(\"&$D$12&\") =\"&$E$5&\" and LocalDay(\"&$D$12&\")=\"&$F$5&\" and Barix(\"&$D$12&\",reference:=StartOfSession)=\"&A51&\"\", \"Bar\", \"\", \"Close\",\"5\",\"0\",\"PrimaryOnly\",,,\"False\",\"T\",\"EveryTick\")","v":73.63},-2.3035230352303755E-3,{"$f":"RTD(\"cqg.rtd\",,\"StudyData\", \"Close(\"&$D$12&\") when LocalYear(\"&$D$12&\")=\"&$D$6&\" and localMonth(\"&$D$12&\") =\"&$E$6&\" and LocalDay(\"&$D$12&\")=\"&$F$6&\" and Barix(\"&$D$12&\",reference:=StartOfSession)=\"&A51&\"\", \"Bar\", \"\", \"Close\",\"5\",\"0\",\"PrimaryOnly\",,,\"False\",\"T\",\"EveryTick\")","v":73.64},9.596928982725567E-3,{"$f":"RTD(\"cqg.rtd\",,\"StudyData\", \"Close(\"&$D$12&\") when LocalYear(\"&$D$12&\")=\"&$D$7&\" and localMonth(\"&$D$12&\") =\"&$E$7&\" and LocalDay(\"&$D$12&\")=\"&$F$7&\" and Barix(\"&$D$12&\",reference:=StartOfSession)=\"&A51&\"\", \"Bar\", \"\", \"Close\",\"5\",\"0\",\"PrimaryOnly\",,,\"False\",\"T\",\"EveryTick\")","v":73.27},-1.1734556244942063E-2,{"$f":"RTD(\"cqg.rtd\",,\"StudyData\", \"Close(\"&$D$12&\") when LocalYear(\"&$D$12&\")=\"&$D$8&\" and localMonth(\"&$D$12&\") =\"&$E$8&\" and LocalDay(\"&$D$12&\")=\"&$F$8&\" and Barix(\"&$D$12&\",reference:=StartOfSession)=\"&A51&\"\", \"Bar\", \"\", \"Close\",\"5\",\"0\",\"PrimaryOnly\",,,\"False\",\"T\",\"EveryTick\")","v":73.91},-4.0573437922641518E-4,{"$f":"RTD(\"cqg.rtd\",,\"StudyData\", \"Close(\"&$D$12&\") when LocalYear(\"&$D$12&\")=\"&$D$9&\" and localMonth(\"&$D$12&\") =\"&$E$9&\" and LocalDay(\"&$D$12&\")=\"&$F$9&\" and Barix(\"&$D$12&\",reference:=StartOfSession)=\"&A51&\"\", \"Bar\", \"\", \"Close\",\"5\",\"0\",\"PrimaryOnly\",,,\"False\",\"T\",\"EveryTick\")","v":74.09},-8.0917060013489242E-4,{"$f":"RTD(\"cqg.rtd\",,\"StudyData\", \"Close(\"&$D$12&\") when LocalYear(\"&$D$12&\")=\"&$D$10&\" and localMonth(\"&$D$12&\") =\"&$E$10&\" and LocalDay(\"&$D$12&\")=\"&$F$10&\" and Barix(\"&$D$12&\",reference:=StartOfSession)=\"&A51&\"\", \"Bar\", \"\", \"Close\",\"5\",\"0\",\"PrimaryOnly\",,,\"False\",\"T\",\"EveryTick\")","v":74.209999999999994},1.0347174948944736E-2,null,null,null,""]
[51,"12:15:00",-26,{"$f":" RTD(\"cqg.rtd\",,\"StudyData\", $D$12,  \"Tick\", \"FlatTicks=0\", \"Tick\",\"D\",C52,,,,,\"T\")","v":71.11},null,null,null,{"$f":"RTD(\"cqg.rtd\",,\"StudyData\", \"Close(\"&$D$12&\") when LocalYear(\"&$D$12&\")=\"&$D$1&\" and localMonth(\"&$D$12&\") =\"&$E$1&\" and LocalDay(\"&$D$12&\")=\"&$F$1&\" and Barix(\"&$D$12&\",reference:=StartOfSession)=\"&A52&\"\", \"Bar\", \"\", \"Close\",\"5\",\"0\",\"PrimaryOnly\",,,\"False\",\"T\",\"EveryTick\")","v":""},{"$error":"#N/A"},{"$f":"RTD(\"cqg.rtd\",,\"StudyData\", \"Close(\"&$D$12&\") when LocalYear(\"&$D$12&\")=\"&$D$2&\" and localMonth(\"&$D$12&\") =\"&$E$2&\" and LocalDay(\"&$D$12&\")=\"&$F$2&\" and Barix(\"&$D$12&\",reference:=StartOfSession)=\"&A52&\"\", \"Bar\", \"\", \"Close\",\"5\",\"0\",\"PrimaryOnly\",,,\"False\",\"T\",\"EveryTick\")","v":69.739999999999995},-9.0934924694515574E-3,{"$f":"RTD(\"cqg.rtd\",,\"StudyData\", \"Close(\"&$D$12&\") when LocalYear(\"&$D$12&\")=\"&$D$3&\" and localMonth(\"&$D$12&\") =\"&$E$3&\" and LocalDay(\"&$D$12&\")=\"&$F$3&\" and Barix(\"&$D$12&\",reference:=StartOfSession)=\"&A52&\"\", \"Bar\", \"\", \"Close\",\"5\",\"0\",\"PrimaryOnly\",,,\"False\",\"T\",\"EveryTick\")","v":71.62},-3.3598704628255226E-2,{"$f":"RTD(\"cqg.rtd\",,\"StudyData\", \"Close(\"&$D$12&\") when LocalYear(\"&$D$12&\")=\"&$D$4&\" and localMonth(\"&$D$12&\") =\"&$E$4&\" and LocalDay(\"&$D$12&\")=\"&$F$4&\" and Barix(\"&$D$12&\",reference:=StartOfSession)=\"&A52&\"\", \"Bar\", \"\", \"Close\",\"5\",\"0\",\"PrimaryOnly\",,,\"False\",\"T\",\"EveryTick\")","v":73.78},-9.4786729857810671E-4,{"$f":"RTD(\"cqg.rtd\",,\"StudyData\", \"Close(\"&$D$12&\") when LocalYear(\"&$D$12&\")=\"&$D$5&\" and localMonth(\"&$D$12&\") =\"&$E$5&\" and LocalDay(\"&$D$12&\")=\"&$F$5&\" and Barix(\"&$D$12&\",reference:=StartOfSession)=\"&A52&\"\", \"Bar\", \"\", \"Close\",\"5\",\"0\",\"PrimaryOnly\",,,\"False\",\"T\",\"EveryTick\")","v":73.62},-2.4390243902438023E-3,{"$f":"RTD(\"cqg.rtd\",,\"StudyData\", \"Close(\"&$D$12&\") when LocalYear(\"&$D$12&\")=\"&$D$6&\" and localMonth(\"&$D$12&\") =\"&$E$6&\" and LocalDay(\"&$D$12&\")=\"&$F$6&\" and Barix(\"&$D$12&\",reference:=StartOfSession)=\"&A52&\"\", \"Bar\", \"\", \"Close\",\"5\",\"0\",\"PrimaryOnly\",,,\"False\",\"T\",\"EveryTick\")","v":73.73},1.0830819851933182E-2,{"$f":"RTD(\"cqg.rtd\",,\"StudyData\", \"Close(\"&$D$12&\") when LocalYear(\"&$D$12&\")=\"&$D$7&\" and localMonth(\"&$D$12&\") =\"&$E$7&\" and LocalDay(\"&$D$12&\")=\"&$F$7&\" and Barix(\"&$D$12&\",reference:=StartOfSession)=\"&A52&\"\", \"Bar\", \"\", \"Close\",\"5\",\"0\",\"PrimaryOnly\",,,\"False\",\"T\",\"EveryTick\")","v":73.290000000000006},-1.1464796331265098E-2,{"$f":"RTD(\"cqg.rtd\",,\"StudyData\", \"Close(\"&$D$12&\") when LocalYear(\"&$D$12&\")=\"&$D$8&\" and localMonth(\"&$D$12&\") =\"&$E$8&\" and LocalDay(\"&$D$12&\")=\"&$F$8&\" and Barix(\"&$D$12&\",reference:=StartOfSession)=\"&A52&\"\", \"Bar\", \"\", \"Close\",\"5\",\"0\",\"PrimaryOnly\",,,\"False\",\"T\",\"EveryTick\")","v":73.86},-1.0819583446037098E-3,{"$f":"RTD(\"cqg.rtd\",,\"StudyData\", \"Close(\"&$D$12&\") when LocalYear(\"&$D$12&\")=\"&$D$9&\" and localMonth(\"&$D$12&\") =\"&$E$9&\" and LocalDay(\"&$D$12&\")=\"&$F$9&\" and Barix(\"&$D$12&\",reference:=StartOfSession)=\"&A52&\"\", \"Bar\", \"\", \"Close\",\"5\",\"0\",\"PrimaryOnly\",,,\"False\",\"T\",\"EveryTick\")","v":74.13},-2.6972353337842523E-4,{"$f":"RTD(\"cqg.rtd\",,\"StudyData\", \"Close(\"&$D$12&\") when LocalYear(\"&$D$12&\")=\"&$D$10&\" and localMonth(\"&$D$12&\") =\"&$E$10&\" and LocalDay(\"&$D$12&\")=\"&$F$10&\" and Barix(\"&$D$12&\",reference:=StartOfSession)=\"&A52&\"\", \"Bar\", \"\", \"Close\",\"5\",\"0\",\"PrimaryOnly\",,,\"False\",\"T\",\"EveryTick\")","v":74.209999999999994},1.0347174948944736E-2,null,null,null,""]
[52,"12:20:00",-25,{"$f":" RTD(\"cqg.rtd\",,\"StudyData\", $D$12,  \"Tick\", \"FlatTicks=0\", \"Tick\",\"D\",C53,,,,,\"T\")","v":71.12},null,null,null,{"$f":"RTD(\"cqg.rtd\",,\"StudyData\", \"Close(\"&$D$12&\") when LocalYear(\"&$D$12&\")=\"&$D$1&\" and localMonth(\"&$D$12&\") =\"&$E$1&\" and LocalDay(\"&$D$12&\")=\"&$F$1&\" and Barix(\"&$D$12&\",reference:=StartOfSession)=\"&A53&\"\", \"Bar\", \"\", \"Close\",\"5\",\"0\",\"PrimaryOnly\",,,\"False\",\"T\",\"EveryTick\")","v":""},{"$error":"#N/A"},{"$f":"RTD(\"cqg.rtd\",,\"StudyData\", \"Close(\"&$D$12&\") when LocalYear(\"&$D$12&\")=\"&$D$2&\" and localMonth(\"&$D$12&\") =\"&$E$2&\" and LocalDay(\"&$D$12&\")=\"&$F$2&\" and Barix(\"&$D$12&\",reference:=StartOfSession)=\"&A53&\"\", \"Bar\", \"\", \"Close\",\"5\",\"0\",\"PrimaryOnly\",,,\"False\",\"T\",\"EveryTick\")","v":69.75},-8.9514066496163038E-3,{"$f":"RTD(\"cqg.rtd\",,\"StudyData\", \"Close(\"&$D$12&\") when LocalYear(\"&$D$12&\")=\"&$D$3&\" and localMonth(\"&$D$12&\") =\"&$E$3&\" and LocalDay(\"&$D$12&\")=\"&$F$3&\" and Barix(\"&$D$12&\",reference:=StartOfSession)=\"&A53&\"\", \"Bar\", \"\", \"Close\",\"5\",\"0\",\"PrimaryOnly\",,,\"False\",\"T\",\"EveryTick\")","v":71.67},-3.2924031844555363E-2,{"$f":"RTD(\"cqg.rtd\",,\"StudyData\", \"Close(\"&$D$12&\") when LocalYear(\"&$D$12&\")=\"&$D$4&\" and localMonth(\"&$D$12&\") =\"&$E$4&\" and LocalDay(\"&$D$12&\")=\"&$F$4&\" and Barix(\"&$D$12&\",reference:=StartOfSession)=\"&A53&\"\", \"Bar\", \"\", \"Close\",\"5\",\"0\",\"PrimaryOnly\",,,\"False\",\"T\",\"EveryTick\")","v":73.83},-2.7081922816514584E-4,{"$f":"RTD(\"cqg.rtd\",,\"StudyData\", \"Close(\"&$D$12&\") when LocalYear(\"&$D$12&\")=\"&$D$5&\" and localMonth(\"&$D$12&\") =\"&$E$5&\" and LocalDay(\"&$D$12&\")=\"&$F$5&\" and Barix(\"&$D$12&\",reference:=StartOfSession)=\"&A53&\"\", \"Bar\", \"\", \"Close\",\"5\",\"0\",\"PrimaryOnly\",,,\"False\",\"T\",\"EveryTick\")","v":73.59},-2.8455284552844681E-3,{"$f":"RTD(\"cqg.rtd\",,\"StudyData\", \"Close(\"&$D$12&\") when LocalYear(\"&$D$12&\")=\"&$D$6&\" and localMonth(\"&$D$12&\") =\"&$E$6&\" and LocalDay(\"&$D$12&\")=\"&$F$6&\" and Barix(\"&$D$12&\",reference:=StartOfSession)=\"&A53&\"\", \"Bar\", \"\", \"Close\",\"5\",\"0\",\"PrimaryOnly\",,,\"False\",\"T\",\"EveryTick\")","v":73.680000000000007},1.0145324924595684E-2,{"$f":"RTD(\"cqg.rtd\",,\"StudyData\", \"Close(\"&$D$12&\") when LocalYear(\"&$D$12&\")=\"&$D$7&\" and localMonth(\"&$D$12&\") =\"&$E$7&\" and LocalDay(\"&$D$12&\")=\"&$F$7&\" and Barix(\"&$D$12&\",reference:=StartOfSession)=\"&A53&\"\", \"Bar\", \"\", \"Close\",\"5\",\"0\",\"PrimaryOnly\",,,\"False\",\"T\",\"EveryTick\")","v":73.25},-1.2004316158618836E-2,{"$f":"RTD(\"cqg.rtd\",,\"StudyData\", \"Close(\"&$D$12&\") when LocalYear(\"&$D$12&\")=\"&$D$8&\" and localMonth(\"&$D$12&\") =\"&$E$8&\" and LocalDay(\"&$D$12&\")=\"&$F$8&\" and Barix(\"&$D$12&\",reference:=StartOfSession)=\"&A53&\"\", \"Bar\", \"\", \"Close\",\"5\",\"0\",\"PrimaryOnly\",,,\"False\",\"T\",\"EveryTick\")","v":73.84},-1.3524479307545892E-3,{"$f":"RTD(\"cqg.rtd\",,\"StudyData\", \"Close(\"&$D$12&\") when LocalYear(\"&$D$12&\")=\"&$D$9&\" and localMonth(\"&$D$12&\") =\"&$E$9&\" and LocalDay(\"&$D$12&\")=\"&$F$9&\" and Barix(\"&$D$12&\",reference:=StartOfSession)=\"&A53&\"\", \"Bar\", \"\", \"Close\",\"5\",\"0\",\"PrimaryOnly\",,,\"False\",\"T\",\"EveryTick\")","v":74.13},-2.6972353337842523E-4,{"$f":"RTD(\"cqg.rtd\",,\"StudyData\", \"Close(\"&$D$12&\") when LocalYear(\"&$D$12&\")=\"&$D$10&\" and localMonth(\"&$D$12&\") =\"&$E$10&\" and LocalDay(\"&$D$12&\")=\"&$F$10&\" and Barix(\"&$D$12&\",reference:=StartOfSession)=\"&A53&\"\", \"Bar\", \"\", \"Close\",\"5\",\"0\",\"PrimaryOnly\",,,\"False\",\"T\",\"EveryTick\")","v":74.069999999999993},8.4411164057180445E-3,null,null,null,""]
[53,"12:25:00",-24,{"$f":" RTD(\"cqg.rtd\",,\"StudyData\", $D$12,  \"Tick\", \"FlatTicks=0\", \"Tick\",\"D\",C54,,,,,\"T\")","v":71.11},null,null,null,{"$f":"RTD(\"cqg.rtd\",,\"StudyData\", \"Close(\"&$D$12&\") when LocalYear(\"&$D$12&\")=\"&$D$1&\" and localMonth(\"&$D$12&\") =\"&$E$1&\" and LocalDay(\"&$D$12&\")=\"&$F$1&\" and Barix(\"&$D$12&\",reference:=StartOfSession)=\"&A54&\"\", \"Bar\", \"\", \"Close\",\"5\",\"0\",\"PrimaryOnly\",,,\"False\",\"T\",\"EveryTick\")","v":""},{"$error":"#N/A"},{"$f":"RTD(\"cqg.rtd\",,\"StudyData\", \"Close(\"&$D$12&\") when LocalYear(\"&$D$12&\")=\"&$D$2&\" and localMonth(\"&$D$12&\") =\"&$E$2&\" and LocalDay(\"&$D$12&\")=\"&$F$2&\" and Barix(\"&$D$12&\",reference:=StartOfSession)=\"&A54&\"\", \"Bar\", \"\", \"Close\",\"5\",\"0\",\"PrimaryOnly\",,,\"False\",\"T\",\"EveryTick\")","v":69.75},-8.9514066496163038E-3,{"$f":"RTD(\"cqg.rtd\",,\"StudyData\", \"Close(\"&$D$12&\") when LocalYear(\"&$D$12&\")=\"&$D$3&\" and localMonth(\"&$D$12&\") =\"&$E$3&\" and LocalDay(\"&$D$12&\")=\"&$F$3&\" and Barix(\"&$D$12&\",reference:=StartOfSession)=\"&A54&\"\", \"Bar\", \"\", \"Close\",\"5\",\"0\",\"PrimaryOnly\",,,\"False\",\"T\",\"EveryTick\")","v":71.44},-3.6027526649574981E-2,{"$f":"RTD(\"cqg.rtd\",,\"StudyData\", \"Close(\"&$D$12&\") when LocalYear(\"&$D$12&\")=\"&$D$4&\" and localMonth(\"&$D$12&\") =\"&$E$4&\" and LocalDay(\"&$D$12&\")=\"&$F$4&\" and Barix(\"&$D$12&\",reference:=StartOfSession)=\"&A54&\"\", \"Bar\", \"\", \"Close\",\"5\",\"0\",\"PrimaryOnly\",,,\"False\",\"T\",\"EveryTick\")","v":73.73},-1.6249153689910677E-3,{"$f":"RTD(\"cqg.rtd\",,\"StudyData\", \"Close(\"&$D$12&\") when LocalYear(\"&$D$12&\")=\"&$D$5&\" and localMonth(\"&$D$12&\") =\"&$E$5&\" and LocalDay(\"&$D$12&\")=\"&$F$5&\" and Barix(\"&$D$12&\",reference:=StartOfSession)=\"&A54&\"\", \"Bar\", \"\", \"Close\",\"5\",\"0\",\"PrimaryOnly\",,,\"False\",\"T\",\"EveryTick\")","v":73.59},-2.8455284552844681E-3,{"$f":"RTD(\"cqg.rtd\",,\"StudyData\", \"Close(\"&$D$12&\") when LocalYear(\"&$D$12&\")=\"&$D$6&\" and localMonth(\"&$D$12&\") =\"&$E$6&\" and LocalDay(\"&$D$12&\")=\"&$F$6&\" and Barix(\"&$D$12&\",reference:=StartOfSession)=\"&A54&\"\", \"Bar\", \"\", \"Close\",\"5\",\"0\",\"PrimaryOnly\",,,\"False\",\"T\",\"EveryTick\")","v":73.7},1.0419522895530643E-2,{"$f":"RTD(\"cqg.rtd\",,\"StudyData\", \"Close(\"&$D$12&\") when LocalYear(\"&$D$12&\")=\"&$D$7&\" and localMonth(\"&$D$12&\") =\"&$E$7&\" and LocalDay(\"&$D$12&\")=\"&$F$7&\" and Barix(\"&$D$12&\",reference:=StartOfSession)=\"&A54&\"\", \"Bar\", \"\", \"Close\",\"5\",\"0\",\"PrimaryOnly\",,,\"False\",\"T\",\"EveryTick\")","v":73.12},-1.3757755597518155E-2,{"$f":"RTD(\"cqg.rtd\",,\"StudyData\", \"Close(\"&$D$12&\") when LocalYear(\"&$D$12&\")=\"&$D$8&\" and localMonth(\"&$D$12&\") =\"&$E$8&\" and LocalDay(\"&$D$12&\")=\"&$F$8&\" and Barix(\"&$D$12&\",reference:=StartOfSession)=\"&A54&\"\", \"Bar\", \"\", \"Close\",\"5\",\"0\",\"PrimaryOnly\",,,\"False\",\"T\",\"EveryTick\")","v":73.87},-9.4671355152817389E-4,{"$f":"RTD(\"cqg.rtd\",,\"StudyData\", \"Close(\"&$D$12&\") when LocalYear(\"&$D$12&\")=\"&$D$9&\" and localMonth(\"&$D$12&\") =\"&$E$9&\" and LocalDay(\"&$D$12&\")=\"&$F$9&\" and Barix(\"&$D$12&\",reference:=StartOfSession)=\"&A54&\"\", \"Bar\", \"\", \"Close\",\"5\",\"0\",\"PrimaryOnly\",,,\"False\",\"T\",\"EveryTick\")","v":74.05},-1.3486176668915512E-3,{"$f":"RTD(\"cqg.rtd\",,\"StudyData\", \"Close(\"&$D$12&\") when LocalYear(\"&$D$12&\")=\"&$D$10&\" and localMonth(\"&$D$12&\") =\"&$E$10&\" and LocalDay(\"&$D$12&\")=\"&$F$10&\" and Barix(\"&$D$12&\",reference:=StartOfSession)=\"&A54&\"\", \"Bar\", \"\", \"Close\",\"5\",\"0\",\"PrimaryOnly\",,,\"False\",\"T\",\"EveryTick\")","v":74.05},8.1688223281142867E-3,null,null,null,""]
[54,"12:30:00",-23,{"$f":" RTD(\"cqg.rtd\",,\"StudyData\", $D$12,  \"Tick\", \"FlatTicks=0\", \"Tick\",\"D\",C55,,,,,\"T\")","v":71.12},null,null,null,{"$f":"RTD(\"cqg.rtd\",,\"StudyData\", \"Close(\"&$D$12&\") when LocalYear(\"&$D$12&\")=\"&$D$1&\" and localMonth(\"&$D$12&\") =\"&$E$1&\" and LocalDay(\"&$D$12&\")=\"&$F$1&\" and Barix(\"&$D$12&\",reference:=StartOfSession)=\"&A55&\"\", \"Bar\", \"\", \"Close\",\"5\",\"0\",\"PrimaryOnly\",,,\"False\",\"T\",\"EveryTick\")","v":""},{"$error":"#N/A"},{"$f":"RTD(\"cqg.rtd\",,\"StudyData\", \"Close(\"&$D$12&\") when LocalYear(\"&$D$12&\")=\"&$D$2&\" and localMonth(\"&$D$12&\") =\"&$E$2&\" and LocalDay(\"&$D$12&\")=\"&$F$2&\" and Barix(\"&$D$12&\",reference:=StartOfSession)=\"&A55&\"\", \"Bar\", \"\", \"Close\",\"5\",\"0\",\"PrimaryOnly\",,,\"False\",\"T\",\"EveryTick\")","v":69.790000000000006},-8.3830633702754939E-3,{"$f":"RTD(\"cqg.rtd\",,\"StudyData\", \"Close(\"&$D$12&\") when LocalYear(\"&$D$12&\")=\"&$D$3&\" and localMonth(\"&$D$12&\") =\"&$E$3&\" and LocalDay(\"&$D$12&\")=\"&$F$3&\" and Barix(\"&$D$12&\",reference:=StartOfSession)=\"&A55&\"\", \"Bar\", \"\", \"Close\",\"5\",\"0\",\"PrimaryOnly\",,,\"False\",\"T\",\"EveryTick\")","v":71.36},-3.7107003103494803E-2,{"$f":"RTD(\"cqg.rtd\",,\"StudyData\", \"Close(\"&$D$12&\") when LocalYear(\"&$D$12&\")=\"&$D$4&\" and localMonth(\"&$D$12&\") =\"&$E$4&\" and LocalDay(\"&$D$12&\")=\"&$F$4&\" and Barix(\"&$D$12&\",reference:=StartOfSession)=\"&A55&\"\", \"Bar\", \"\", \"Close\",\"5\",\"0\",\"PrimaryOnly\",,,\"False\",\"T\",\"EveryTick\")","v":73.760000000000005},-1.2186865267432526E-3,{"$f":"RTD(\"cqg.rtd\",,\"StudyData\", \"Close(\"&$D$12&\") when LocalYear(\"&$D$12&\")=\"&$D$5&\" and localMonth(\"&$D$12&\") =\"&$E$5&\" and LocalDay(\"&$D$12&\")=\"&$F$5&\" and Barix(\"&$D$12&\",reference:=StartOfSession)=\"&A55&\"\", \"Bar\", \"\", \"Close\",\"5\",\"0\",\"PrimaryOnly\",,,\"False\",\"T\",\"EveryTick\")","v":73.489999999999995},-4.2005420054200852E-3,{"$f":"RTD(\"cqg.rtd\",,\"StudyData\", \"Close(\"&$D$12&\") when LocalYear(\"&$D$12&\")=\"&$D$6&\" and localMonth(\"&$D$12&\") =\"&$E$6&\" and LocalDay(\"&$D$12&\")=\"&$F$6&\" and Barix(\"&$D$12&\",reference:=StartOfSession)=\"&A55&\"\", \"Bar\", \"\", \"Close\",\"5\",\"0\",\"PrimaryOnly\",,,\"False\",\"T\",\"EveryTick\")","v":73.790000000000006},1.1653413764738258E-2,{"$f":"RTD(\"cqg.rtd\",,\"StudyData\", \"Close(\"&$D$12&\") when LocalYear(\"&$D$12&\")=\"&$D$7&\" and localMonth(\"&$D$12&\") =\"&$E$7&\" and LocalDay(\"&$D$12&\")=\"&$F$7&\" and Barix(\"&$D$12&\",reference:=StartOfSession)=\"&A55&\"\", \"Bar\", \"\", \"Close\",\"5\",\"0\",\"PrimaryOnly\",,,\"False\",\"T\",\"EveryTick\")","v":73.23},-1.2274076072295611E-2,{"$f":"RTD(\"cqg.rtd\",,\"StudyData\", \"Close(\"&$D$12&\") when LocalYear(\"&$D$12&\")=\"&$D$8&\" and localMonth(\"&$D$12&\") =\"&$E$8&\" and LocalDay(\"&$D$12&\")=\"&$F$8&\" and Barix(\"&$D$12&\",reference:=StartOfSession)=\"&A55&\"\", \"Bar\", \"\", \"Close\",\"5\",\"0\",\"PrimaryOnly\",,,\"False\",\"T\",\"EveryTick\")","v":73.849999999999994},-1.2172031376792454E-3,{"$f":"RTD(\"cqg.rtd\",,\"StudyData\", \"Close(\"&$D$12&\") when LocalYear(\"&$D$12&\")=\"&$D$9&\" and localMonth(\"&$D$12&\") =\"&$E$9&\" and LocalDay(\"&$D$12&\")=\"&$F$9&\" and Barix(\"&$D$12&\",reference:=StartOfSession)=\"&A55&\"\", \"Bar\", \"\", \"Close\",\"5\",\"0\",\"PrimaryOnly\",,,\"False\",\"T\",\"EveryTick\")","v":74.17},2.6972353337823359E-4,{"$f":"RTD(\"cqg.rtd\",,\"StudyData\", \"Close(\"&$D$12&\") when LocalYear(\"&$D$12&\")=\"&$D$10&\" and localMonth(\"&$D$12&\") =\"&$E$10&\" and LocalDay(\"&$D$12&\")=\"&$F$10&\" and Barix(\"&$D$12&\",reference:=StartOfSession)=\"&A55&\"\", \"Bar\", \"\", \"Close\",\"5\",\"0\",\"PrimaryOnly\",,,\"False\",\"T\",\"EveryTick\")","v":74.11},8.9857045609257526E-3,null,null,null,""]
[55,"12:35:00",-22,{"$f":" RTD(\"cqg.rtd\",,\"StudyData\", $D$12,  \"Tick\", \"FlatTicks=0\", \"Tick\",\"D\",C56,,,,,\"T\")","v":71.11},null,null,null,{"$f":"RTD(\"cqg.rtd\",,\"StudyData\", \"Close(\"&$D$12&\") when LocalYear(\"&$D$12&\")=\"&$D$1&\" and localMonth(\"&$D$12&\") =\"&$E$1&\" and LocalDay(\"&$D$12&\")=\"&$F$1&\" and Barix(\"&$D$12&\",reference:=StartOfSession)=\"&A56&\"\", \"Bar\", \"\", \"Close\",\"5\",\"0\",\"PrimaryOnly\",,,\"False\",\"T\",\"EveryTick\")","v":""},{"$error":"#N/A"},{"$f":"RTD(\"cqg.rtd\",,\"StudyData\", \"Close(\"&$D$12&\") when LocalYear(\"&$D$12&\")=\"&$D$2&\" and localMonth(\"&$D$12&\") =\"&$E$2&\" and LocalDay(\"&$D$12&\")=\"&$F$2&\" and Barix(\"&$D$12&\",reference:=StartOfSession)=\"&A56&\"\", \"Bar\", \"\", \"Close\",\"5\",\"0\",\"PrimaryOnly\",,,\"False\",\"T\",\"EveryTick\")","v":69.94},-6.2517760727479081E-3,{"$f":"RTD(\"cqg.rtd\",,\"StudyData\", \"Close(\"&$D$12&\") when LocalYear(\"&$D$12&\")=\"&$D$3&\" and localMonth(\"&$D$12&\") =\"&$E$3&\" and LocalDay(\"&$D$12&\")=\"&$F$3&\" and Barix(\"&$D$12&\",reference:=StartOfSession)=\"&A56&\"\", \"Bar\", \"\", \"Close\",\"5\",\"0\",\"PrimaryOnly\",,,\"False\",\"T\",\"EveryTick\")","v":71.14},-4.0075563351774375E-2,{"$f":"RTD(\"cqg.rtd\",,\"StudyData\", \"Close(\"&$D$12&\") when LocalYear(\"&$D$12&\")=\"&$D$4&\" and localMonth(\"&$D$12&\") =\"&$E$4&\" and LocalDay(\"&$D$12&\")=\"&$F$4&\" and Barix(\"&$D$12&\",reference:=StartOfSession)=\"&A56&\"\", \"Bar\", \"\", \"Close\",\"5\",\"0\",\"PrimaryOnly\",,,\"False\",\"T\",\"EveryTick\")","v":73.75},-1.3540961408259218E-3,{"$f":"RTD(\"cqg.rtd\",,\"StudyData\", \"Close(\"&$D$12&\") when LocalYear(\"&$D$12&\")=\"&$D$5&\" and localMonth(\"&$D$12&\") =\"&$E$5&\" and LocalDay(\"&$D$12&\")=\"&$F$5&\" and Barix(\"&$D$12&\",reference:=StartOfSession)=\"&A56&\"\", \"Bar\", \"\", \"Close\",\"5\",\"0\",\"PrimaryOnly\",,,\"False\",\"T\",\"EveryTick\")","v":73.45},-4.7425474254741782E-3,{"$f":"RTD(\"cqg.rtd\",,\"StudyData\", \"Close(\"&$D$12&\") when LocalYear(\"&$D$12&\")=\"&$D$6&\" and localMonth(\"&$D$12&\") =\"&$E$6&\" and LocalDay(\"&$D$12&\")=\"&$F$6&\" and Barix(\"&$D$12&\",reference:=StartOfSession)=\"&A56&\"\", \"Bar\", \"\", \"Close\",\"5\",\"0\",\"PrimaryOnly\",,,\"False\",\"T\",\"EveryTick\")","v":73.78},1.1516314779270681E-2,{"$f":"RTD(\"cqg.rtd\",,\"StudyData\", \"Close(\"&$D$12&\") when LocalYear(\"&$D$12&\")=\"&$D$7&\" and localMonth(\"&$D$12&\") =\"&$E$7&\" and LocalDay(\"&$D$12&\")=\"&$F$7&\" and Barix(\"&$D$12&\",reference:=StartOfSession)=\"&A56&\"\", \"Bar\", \"\", \"Close\",\"5\",\"0\",\"PrimaryOnly\",,,\"False\",\"T\",\"EveryTick\")","v":73.13},-1.3622875640679865E-2,{"$f":"RTD(\"cqg.rtd\",,\"StudyData\", \"Close(\"&$D$12&\") when LocalYear(\"&$D$12&\")=\"&$D$8&\" and localMonth(\"&$D$12&\") =\"&$E$8&\" and LocalDay(\"&$D$12&\")=\"&$F$8&\" and Barix(\"&$D$12&\",reference:=StartOfSession)=\"&A56&\"\", \"Bar\", \"\", \"Close\",\"5\",\"0\",\"PrimaryOnly\",,,\"False\",\"T\",\"EveryTick\")","v":73.900000000000006},-5.4097917230175872E-4,{"$f":"RTD(\"cqg.rtd\",,\"StudyData\", \"Close(\"&$D$12&\") when LocalYear(\"&$D$12&\")=\"&$D$9&\" and localMonth(\"&$D$12&\") =\"&$E$9&\" and LocalDay(\"&$D$12&\")=\"&$F$9&\" and Barix(\"&$D$12&\",reference:=StartOfSession)=\"&A56&\"\", \"Bar\", \"\", \"Close\",\"5\",\"0\",\"PrimaryOnly\",,,\"False\",\"T\",\"EveryTick\")","v":74.13},-2.6972353337842523E-4,{"$f":"RTD(\"cqg.rtd\",,\"StudyData\", \"Close(\"&$D$12&\") when LocalYear(\"&$D$12&\")=\"&$D$10&\" and localMonth(\"&$D$12&\") =\"&$E$10&\" and LocalDay(\"&$D$12&\")=\"&$F$10&\" and Barix(\"&$D$12&\",reference:=StartOfSession)=\"&A56&\"\", \"Bar\", \"\", \"Close\",\"5\",\"0\",\"PrimaryOnly\",,,\"False\",\"T\",\"EveryTick\")","v":74.11},8.9857045609257526E-3,null,null,null,""]
[56,"12:40:00",-21,{"$f":" RTD(\"cqg.rtd\",,\"StudyData\", $D$12,  \"Tick\", \"FlatTicks=0\", \"Tick\",\"D\",C57,,,,,\"T\")","v":71.12},null,null,null,{"$f":"RTD(\"cqg.rtd\",,\"StudyData\", \"Close(\"&$D$12&\") when LocalYear(\"&$D$12&\")=\"&$D$1&\" and localMonth(\"&$D$12&\") =\"&$E$1&\" and LocalDay(\"&$D$12&\")=\"&$F$1&\" and Barix(\"&$D$12&\",reference:=StartOfSession)=\"&A57&\"\", \"Bar\", \"\", \"Close\",\"5\",\"0\",\"PrimaryOnly\",,,\"False\",\"T\",\"EveryTick\")","v":""},{"$error":"#N/A"},{"$f":"RTD(\"cqg.rtd\",,\"StudyData\", \"Close(\"&$D$12&\") when LocalYear(\"&$D$12&\")=\"&$D$2&\" and localMonth(\"&$D$12&\") =\"&$E$2&\" and LocalDay(\"&$D$12&\")=\"&$F$2&\" and Barix(\"&$D$12&\",reference:=StartOfSession)=\"&A57&\"\", \"Bar\", \"\", \"Close\",\"5\",\"0\",\"PrimaryOnly\",,,\"False\",\"T\",\"EveryTick\")","v":69.97},-5.8255186132423501E-3,{"$f":"RTD(\"cqg.rtd\",,\"StudyData\", \"Close(\"&$D$12&\") when LocalYear(\"&$D$12&\")=\"&$D$3&\" and localMonth(\"&$D$12&\") =\"&$E$3&\" and LocalDay(\"&$D$12&\")=\"&$F$3&\" and Barix(\"&$D$12&\",reference:=StartOfSession)=\"&A57&\"\", \"Bar\", \"\", \"Close\",\"5\",\"0\",\"PrimaryOnly\",,,\"False\",\"T\",\"EveryTick\")","v":71.069999999999993},-4.1020105248954344E-2,{"$f":"RTD(\"cqg.rtd\",,\"StudyData\", \"Close(\"&$D$12&\") when LocalYear(\"&$D$12&\")=\"&$D$4&\" and localMonth(\"&$D$12&\") =\"&$E$4&\" and LocalDay(\"&$D$12&\")=\"&$F$4&\" and Barix(\"&$D$12&\",reference:=StartOfSession)=\"&A57&\"\", \"Bar\", \"\", \"Close\",\"5\",\"0\",\"PrimaryOnly\",,,\"False\",\"T\",\"EveryTick\")","v":73.78},-9.4786729857810671E-4,{"$f":"RTD(\"cqg.rtd\",,\"StudyData\", \"Close(\"&$D$12&\") when LocalYear(\"&$D$12&\")=\"&$D$5&\" and localMonth(\"&$D$12&\") =\"&$E$5&\" and LocalDay(\"&$D$12&\")=\"&$F$5&\" and Barix(\"&$D$12&\",reference:=StartOfSession)=\"&A57&\"\", \"Bar\", \"\", \"Close\",\"5\",\"0\",\"PrimaryOnly\",,,\"False\",\"T\",\"EveryTick\")","v":73.48},-4.3360433604335124E-3,{"$f":"RTD(\"cqg.rtd\",,\"StudyData\", \"Close(\"&$D$12&\") when LocalYear(\"&$D$12&\")=\"&$D$6&\" and localMonth(\"&$D$12&\") =\"&$E$6&\" and LocalDay(\"&$D$12&\")=\"&$F$6&\" and Barix(\"&$D$12&\",reference:=StartOfSession)=\"&A57&\"\", \"Bar\", \"\", \"Close\",\"5\",\"0\",\"PrimaryOnly\",,,\"False\",\"T\",\"EveryTick\")","v":73.78},1.1516314779270681E-2,{"$f":"RTD(\"cqg.rtd\",,\"StudyData\", \"Close(\"&$D$12&\") when LocalYear(\"&$D$12&\")=\"&$D$7&\" and localMonth(\"&$D$12&\") =\"&$E$7&\" and LocalDay(\"&$D$12&\")=\"&$F$7&\" and Barix(\"&$D$12&\",reference:=StartOfSession)=\"&A57&\"\", \"Bar\", \"\", \"Close\",\"5\",\"0\",\"PrimaryOnly\",,,\"False\",\"T\",\"EveryTick\")","v":73.16},-1.3218235770164607E-2,{"$f":"RTD(\"cqg.rtd\",,\"StudyData\", \"Close(\"&$D$12&\") when LocalYear(\"&$D$12&\")=\"&$D$8&\" and localMonth(\"&$D$12&\") =\"&$E$8&\" and LocalDay(\"&$D$12&\")=\"&$F$8&\" and Barix(\"&$D$12&\",reference:=StartOfSession)=\"&A57&\"\", \"Bar\", \"\", \"Close\",\"5\",\"0\",\"PrimaryOnly\",,,\"False\",\"T\",\"EveryTick\")","v":73.900000000000006},-5.4097917230175872E-4,{"$f":"RTD(\"cqg.rtd\",,\"StudyData\", \"Close(\"&$D$12&\") when LocalYear(\"&$D$12&\")=\"&$D$9&\" and localMonth(\"&$D$12&\") =\"&$E$9&\" and LocalDay(\"&$D$12&\")=\"&$F$9&\" and Barix(\"&$D$12&\",reference:=StartOfSession)=\"&A57&\"\", \"Bar\", \"\", \"Close\",\"5\",\"0\",\"PrimaryOnly\",,,\"False\",\"T\",\"EveryTick\")","v":74.17},2.6972353337823359E-4,{"$f":"RTD(\"cqg.rtd\",,\"StudyData\", \"Close(\"&$D$12&\") when LocalYear(\"&$D$12&\")=\"&$D$10&\" and localMonth(\"&$D$12&\") =\"&$E$10&\" and LocalDay(\"&$D$12&\")=\"&$F$10&\" and Barix(\"&$D$12&\",reference:=StartOfSession)=\"&A57&\"\", \"Bar\", \"\", \"Close\",\"5\",\"0\",\"PrimaryOnly\",,,\"False\",\"T\",\"EveryTick\")","v":74.209999999999994},1.0347174948944736E-2,null,null,null,""]
[57,"12:45:00",-20,{"$f":" RTD(\"cqg.rtd\",,\"StudyData\", $D$12,  \"Tick\", \"FlatTicks=0\", \"Tick\",\"D\",C58,,,,,\"T\")","v":71.11},null,null,null,{"$f":"RTD(\"cqg.rtd\",,\"StudyData\", \"Close(\"&$D$12&\") when LocalYear(\"&$D$12&\")=\"&$D$1&\" and localMonth(\"&$D$12&\") =\"&$E$1&\" and LocalDay(\"&$D$12&\")=\"&$F$1&\" and Barix(\"&$D$12&\",reference:=StartOfSession)=\"&A58&\"\", \"Bar\", \"\", \"Close\",\"5\",\"0\",\"PrimaryOnly\",,,\"False\",\"T\",\"EveryTick\")","v":""},{"$error":"#N/A"},{"$f":"RTD(\"cqg.rtd\",,\"StudyData\", \"Close(\"&$D$12&\") when LocalYear(\"&$D$12&\")=\"&$D$2&\" and localMonth(\"&$D$12&\") =\"&$E$2&\" and LocalDay(\"&$D$12&\")=\"&$F$2&\" and Barix(\"&$D$12&\",reference:=StartOfSession)=\"&A58&\"\", \"Bar\", \"\", \"Close\",\"5\",\"0\",\"PrimaryOnly\",,,\"False\",\"T\",\"EveryTick\")","v":70.06},-4.5467462347256781E-3,{"$f":"RTD(\"cqg.rtd\",,\"StudyData\", \"Close(\"&$D$12&\") when LocalYear(\"&$D$12&\")=\"&$D$3&\" and localMonth(\"&$D$12&\") =\"&$E$3&\" and LocalDay(\"&$D$12&\")=\"&$F$3&\" and Barix(\"&$D$12&\",reference:=StartOfSession)=\"&A58&\"\", \"Bar\", \"\", \"Close\",\"5\",\"0\",\"PrimaryOnly\",,,\"False\",\"T\",\"EveryTick\")","v":71.08},-4.0885170692214291E-2,{"$f":"RTD(\"cqg.rtd\",,\"StudyData\", \"Close(\"&$D$12&\") when LocalYear(\"&$D$12&\")=\"&$D$4&\" and localMonth(\"&$D$12&\") =\"&$E$4&\" and LocalDay(\"&$D$12&\")=\"&$F$4&\" and Barix(\"&$D$12&\",reference:=StartOfSession)=\"&A58&\"\", \"Bar\", \"\", \"Close\",\"5\",\"0\",\"PrimaryOnly\",,,\"False\",\"T\",\"EveryTick\")","v":73.78},-9.4786729857810671E-4,{"$f":"RTD(\"cqg.rtd\",,\"StudyData\", \"Close(\"&$D$12&\") when LocalYear(\"&$D$12&\")=\"&$D$5&\" and localMonth(\"&$D$12&\") =\"&$E$5&\" and LocalDay(\"&$D$12&\")=\"&$F$5&\" and Barix(\"&$D$12&\",reference:=StartOfSession)=\"&A58&\"\", \"Bar\", \"\", \"Close\",\"5\",\"0\",\"PrimaryOnly\",,,\"False\",\"T\",\"EveryTick\")","v":73.45},-4.7425474254741782E-3,{"$f":"RTD(\"cqg.rtd\",,\"StudyData\", \"Close(\"&$D$12&\") when LocalYear(\"&$D$12&\")=\"&$D$6&\" and localMonth(\"&$D$12&\") =\"&$E$6&\" and LocalDay(\"&$D$12&\")=\"&$F$6&\" and Barix(\"&$D$12&\",reference:=StartOfSession)=\"&A58&\"\", \"Bar\", \"\", \"Close\",\"5\",\"0\",\"PrimaryOnly\",,,\"False\",\"T\",\"EveryTick\")","v":73.739999999999995},1.0967918837400564E-2,{"$f":"RTD(\"cqg.rtd\",,\"StudyData\", \"Close(\"&$D$12&\") when LocalYear(\"&$D$12&\")=\"&$D$7&\" and localMonth(\"&$D$12&\") =\"&$E$7&\" and LocalDay(\"&$D$12&\")=\"&$F$7&\" and Barix(\"&$D$12&\",reference:=StartOfSession)=\"&A58&\"\", \"Bar\", \"\", \"Close\",\"5\",\"0\",\"PrimaryOnly\",,,\"False\",\"T\",\"EveryTick\")","v":73.17},-1.3083355813326125E-2,{"$f":"RTD(\"cqg.rtd\",,\"StudyData\", \"Close(\"&$D$12&\") when LocalYear(\"&$D$12&\")=\"&$D$8&\" and localMonth(\"&$D$12&\") =\"&$E$8&\" and LocalDay(\"&$D$12&\")=\"&$F$8&\" and Barix(\"&$D$12&\",reference:=StartOfSession)=\"&A58&\"\", \"Bar\", \"\", \"Close\",\"5\",\"0\",\"PrimaryOnly\",,,\"False\",\"T\",\"EveryTick\")","v":73.95},1.3524479307553579E-4,{"$f":"RTD(\"cqg.rtd\",,\"StudyData\", \"Close(\"&$D$12&\") when LocalYear(\"&$D$12&\")=\"&$D$9&\" and localMonth(\"&$D$12&\") =\"&$E$9&\" and LocalDay(\"&$D$12&\")=\"&$F$9&\" and Barix(\"&$D$12&\",reference:=StartOfSession)=\"&A58&\"\", \"Bar\", \"\", \"Close\",\"5\",\"0\",\"PrimaryOnly\",,,\"False\",\"T\",\"EveryTick\")","v":74.28},1.7532029669588057E-3,{"$f":"RTD(\"cqg.rtd\",,\"StudyData\", \"Close(\"&$D$12&\") when LocalYear(\"&$D$12&\")=\"&$D$10&\" and localMonth(\"&$D$12&\") =\"&$E$10&\" and LocalDay(\"&$D$12&\")=\"&$F$10&\" and Barix(\"&$D$12&\",reference:=StartOfSession)=\"&A58&\"\", \"Bar\", \"\", \"Close\",\"5\",\"0\",\"PrimaryOnly\",,,\"False\",\"T\",\"EveryTick\")","v":74.22},1.0483321987746711E-2,null,null,null,""]
[58,"12:50:00",-19,{"$f":" RTD(\"cqg.rtd\",,\"StudyData\", $D$12,  \"Tick\", \"FlatTicks=0\", \"Tick\",\"D\",C59,,,,,\"T\")","v":71.099999999999994},null,null,null,{"$f":"RTD(\"cqg.rtd\",,\"StudyData\", \"Close(\"&$D$12&\") when LocalYear(\"&$D$12&\")=\"&$D$1&\" and localMonth(\"&$D$12&\") =\"&$E$1&\" and LocalDay(\"&$D$12&\")=\"&$F$1&\" and Barix(\"&$D$12&\",reference:=StartOfSession)=\"&A59&\"\", \"Bar\", \"\", \"Close\",\"5\",\"0\",\"PrimaryOnly\",,,\"False\",\"T\",\"EveryTick\")","v":""},{"$error":"#N/A"},{"$f":"RTD(\"cqg.rtd\",,\"StudyData\", \"Close(\"&$D$12&\") when LocalYear(\"&$D$12&\")=\"&$D$2&\" and localMonth(\"&$D$12&\") =\"&$E$2&\" and LocalDay(\"&$D$12&\")=\"&$F$2&\" and Barix(\"&$D$12&\",reference:=StartOfSession)=\"&A59&\"\", \"Bar\", \"\", \"Close\",\"5\",\"0\",\"PrimaryOnly\",,,\"False\",\"T\",\"EveryTick\")","v":70.09},-4.1204887752201201E-3,{"$f":"RTD(\"cqg.rtd\",,\"StudyData\", \"Close(\"&$D$12&\") when LocalYear(\"&$D$12&\")=\"&$D$3&\" and localMonth(\"&$D$12&\") =\"&$E$3&\" and LocalDay(\"&$D$12&\")=\"&$F$3&\" and Barix(\"&$D$12&\",reference:=StartOfSession)=\"&A59&\"\", \"Bar\", \"\", \"Close\",\"5\",\"0\",\"PrimaryOnly\",,,\"False\",\"T\",\"EveryTick\")","v":70.87},-4.3718796383753811E-2,{"$f":"RTD(\"cqg.rtd\",,\"StudyData\", \"Close(\"&$D$12&\") when LocalYear(\"&$D$12&\")=\"&$D$4&\" and localMonth(\"&$D$12&\") =\"&$E$4&\" and LocalDay(\"&$D$12&\")=\"&$F$4&\" and Barix(\"&$D$12&\",reference:=StartOfSession)=\"&A59&\"\", \"Bar\", \"\", \"Close\",\"5\",\"0\",\"PrimaryOnly\",,,\"False\",\"T\",\"EveryTick\")","v":73.88},4.0622884224781502E-4,{"$f":"RTD(\"cqg.rtd\",,\"StudyData\", \"Close(\"&$D$12&\") when LocalYear(\"&$D$12&\")=\"&$D$5&\" and localMonth(\"&$D$12&\") =\"&$E$5&\" and LocalDay(\"&$D$12&\")=\"&$F$5&\" and Barix(\"&$D$12&\",reference:=StartOfSession)=\"&A59&\"\", \"Bar\", \"\", \"Close\",\"5\",\"0\",\"PrimaryOnly\",,,\"False\",\"T\",\"EveryTick\")","v":73.53},-3.6585365853658001E-3,{"$f":"RTD(\"cqg.rtd\",,\"StudyData\", \"Close(\"&$D$12&\") when LocalYear(\"&$D$12&\")=\"&$D$6&\" and localMonth(\"&$D$12&\") =\"&$E$6&\" and LocalDay(\"&$D$12&\")=\"&$F$6&\" and Barix(\"&$D$12&\",reference:=StartOfSession)=\"&A59&\"\", \"Bar\", \"\", \"Close\",\"5\",\"0\",\"PrimaryOnly\",,,\"False\",\"T\",\"EveryTick\")","v":73.75},1.1105017822868142E-2,{"$f":"RTD(\"cqg.rtd\",,\"StudyData\", \"Close(\"&$D$12&\") when LocalYear(\"&$D$12&\")=\"&$D$7&\" and localMonth(\"&$D$12&\") =\"&$E$7&\" and LocalDay(\"&$D$12&\")=\"&$F$7&\" and Barix(\"&$D$12&\",reference:=StartOfSession)=\"&A59&\"\", \"Bar\", \"\", \"Close\",\"5\",\"0\",\"PrimaryOnly\",,,\"False\",\"T\",\"EveryTick\")","v":73.17},-1.3083355813326125E-2,{"$f":"RTD(\"cqg.rtd\",,\"StudyData\", \"Close(\"&$D$12&\") when LocalYear(\"&$D$12&\")=\"&$D$8&\" and localMonth(\"&$D$12&\") =\"&$E$8&\" and LocalDay(\"&$D$12&\")=\"&$F$8&\" and Barix(\"&$D$12&\",reference:=StartOfSession)=\"&A59&\"\", \"Bar\", \"\", \"Close\",\"5\",\"0\",\"PrimaryOnly\",,,\"False\",\"T\",\"EveryTick\")","v":74.09},2.0286718961320758E-3,{"$f":"RTD(\"cqg.rtd\",,\"StudyData\", \"Close(\"&$D$12&\") when LocalYear(\"&$D$12&\")=\"&$D$9&\" and localMonth(\"&$D$12&\") =\"&$E$9&\" and LocalDay(\"&$D$12&\")=\"&$F$9&\" and Barix(\"&$D$12&\",reference:=StartOfSession)=\"&A59&\"\", \"Bar\", \"\", \"Close\",\"5\",\"0\",\"PrimaryOnly\",,,\"False\",\"T\",\"EveryTick\")","v":74.23},1.0788941335131258E-3,{"$f":"RTD(\"cqg.rtd\",,\"StudyData\", \"Close(\"&$D$12&\") when LocalYear(\"&$D$12&\")=\"&$D$10&\" and localMonth(\"&$D$12&\") =\"&$E$10&\" and LocalDay(\"&$D$12&\")=\"&$F$10&\" and Barix(\"&$D$12&\",reference:=StartOfSession)=\"&A59&\"\", \"Bar\", \"\", \"Close\",\"5\",\"0\",\"PrimaryOnly\",,,\"False\",\"T\",\"EveryTick\")","v":74.239999999999995},1.0755616065350471E-2,null,null,null,""]
[59,"12:55:00",-18,{"$f":" RTD(\"cqg.rtd\",,\"StudyData\", $D$12,  \"Tick\", \"FlatTicks=0\", \"Tick\",\"D\",C60,,,,,\"T\")","v":71.11},null,null,null,{"$f":"RTD(\"cqg.rtd\",,\"StudyData\", \"Close(\"&$D$12&\") when LocalYear(\"&$D$12&\")=\"&$D$1&\" and localMonth(\"&$D$12&\") =\"&$E$1&\" and LocalDay(\"&$D$12&\")=\"&$F$1&\" and Barix(\"&$D$12&\",reference:=StartOfSession)=\"&A60&\"\", \"Bar\", \"\", \"Close\",\"5\",\"0\",\"PrimaryOnly\",,,\"False\",\"T\",\"EveryTick\")","v":""},{"$error":"#N/A"},{"$f":"RTD(\"cqg.rtd\",,\"StudyData\", \"Close(\"&$D$12&\") when LocalYear(\"&$D$12&\")=\"&$D$2&\" and localMonth(\"&$D$12&\") =\"&$E$2&\" and LocalDay(\"&$D$12&\")=\"&$F$2&\" and Barix(\"&$D$12&\",reference:=StartOfSession)=\"&A60&\"\", \"Bar\", \"\", \"Close\",\"5\",\"0\",\"PrimaryOnly\",,,\"False\",\"T\",\"EveryTick\")","v":70.239999999999995},-1.9892014776925343E-3,{"$f":"RTD(\"cqg.rtd\",,\"StudyData\", \"Close(\"&$D$12&\") when LocalYear(\"&$D$12&\")=\"&$D$3&\" and localMonth(\"&$D$12&\") =\"&$E$3&\" and LocalDay(\"&$D$12&\")=\"&$F$3&\" and Barix(\"&$D$12&\",reference:=StartOfSession)=\"&A60&\"\", \"Bar\", \"\", \"Close\",\"5\",\"0\",\"PrimaryOnly\",,,\"False\",\"T\",\"EveryTick\")","v":70.930000000000007},-4.2909189043313894E-2,{"$f":"RTD(\"cqg.rtd\",,\"StudyData\", \"Close(\"&$D$12&\") when LocalYear(\"&$D$12&\")=\"&$D$4&\" and localMonth(\"&$D$12&\") =\"&$E$4&\" and LocalDay(\"&$D$12&\")=\"&$F$4&\" and Barix(\"&$D$12&\",reference:=StartOfSession)=\"&A60&\"\", \"Bar\", \"\", \"Close\",\"5\",\"0\",\"PrimaryOnly\",,,\"False\",\"T\",\"EveryTick\")","v":74},2.0311442112390752E-3,{"$f":"RTD(\"cqg.rtd\",,\"StudyData\", \"Close(\"&$D$12&\") when LocalYear(\"&$D$12&\")=\"&$D$5&\" and localMonth(\"&$D$12&\") =\"&$E$5&\" and LocalDay(\"&$D$12&\")=\"&$F$5&\" and Barix(\"&$D$12&\",reference:=StartOfSession)=\"&A60&\"\", \"Bar\", \"\", \"Close\",\"5\",\"0\",\"PrimaryOnly\",,,\"False\",\"T\",\"EveryTick\")","v":73.52},-3.7940379403794194E-3,{"$f":"RTD(\"cqg.rtd\",,\"StudyData\", \"Close(\"&$D$12&\") when LocalYear(\"&$D$12&\")=\"&$D$6&\" and localMonth(\"&$D$12&\") =\"&$E$6&\" and LocalDay(\"&$D$12&\")=\"&$F$6&\" and Barix(\"&$D$12&\",reference:=StartOfSession)=\"&A60&\"\", \"Bar\", \"\", \"Close\",\"5\",\"0\",\"PrimaryOnly\",,,\"False\",\"T\",\"EveryTick\")","v":73.69},1.0282423910063065E-2,{"$f":"RTD(\"cqg.rtd\",,\"StudyData\", \"Close(\"&$D$12&\") when LocalYear(\"&$D$12&\")=\"&$D$7&\" and localMonth(\"&$D$12&\") =\"&$E$7&\" and LocalDay(\"&$D$12&\")=\"&$F$7&\" and Barix(\"&$D$12&\",reference:=StartOfSession)=\"&A60&\"\", \"Bar\", \"\", \"Close\",\"5\",\"0\",\"PrimaryOnly\",,,\"False\",\"T\",\"EveryTick\")","v":73.11},-1.3892635554356637E-2,{"$f":"RTD(\"cqg.rtd\",,\"StudyData\", \"Close(\"&$D$12&\") when LocalYear(\"&$D$12&\")=\"&$D$8&\" and localMonth(\"&$D$12&\") =\"&$E$8&\" and LocalDay(\"&$D$12&\")=\"&$F$8&\" and Barix(\"&$D$12&\",reference:=StartOfSession)=\"&A60&\"\", \"Bar\", \"\", \"Close\",\"5\",\"0\",\"PrimaryOnly\",,,\"False\",\"T\",\"EveryTick\")","v":74.150000000000006},2.8401406545849064E-3,{"$f":"RTD(\"cqg.rtd\",,\"StudyData\", \"Close(\"&$D$12&\") when LocalYear(\"&$D$12&\")=\"&$D$9&\" and localMonth(\"&$D$12&\") =\"&$E$9&\" and LocalDay(\"&$D$12&\")=\"&$F$9&\" and Barix(\"&$D$12&\",reference:=StartOfSession)=\"&A60&\"\", \"Bar\", \"\", \"Close\",\"5\",\"0\",\"PrimaryOnly\",,,\"False\",\"T\",\"EveryTick\")","v":74.209999999999994},8.0917060013470073E-4,{"$f":"RTD(\"cqg.rtd\",,\"StudyData\", \"Close(\"&$D$12&\") when LocalYear(\"&$D$12&\")=\"&$D$10&\" and localMonth(\"&$D$12&\") =\"&$E$10&\" and LocalDay(\"&$D$12&\")=\"&$F$10&\" and Barix(\"&$D$12&\",reference:=StartOfSession)=\"&A60&\"\", \"Bar\", \"\", \"Close\",\"5\",\"0\",\"PrimaryOnly\",,,\"False\",\"T\",\"EveryTick\")","v":74.239999999999995},1.0755616065350471E-2,null,null,null,""]
[60,"13:00:00",-17,{"$f":" RTD(\"cqg.rtd\",,\"StudyData\", $D$12,  \"Tick\", \"FlatTicks=0\", \"Tick\",\"D\",C61,,,,,\"T\")","v":71.12},null,null,null,{"$f":"RTD(\"cqg.rtd\",,\"StudyData\", \"Close(\"&$D$12&\") when LocalYear(\"&$D$12&\")=\"&$D$1&\" and localMonth(\"&$D$12&\") =\"&$E$1&\" and LocalDay(\"&$D$12&\")=\"&$F$1&\" and Barix(\"&$D$12&\",reference:=StartOfSession)=\"&A61&\"\", \"Bar\", \"\", \"Close\",\"5\",\"0\",\"PrimaryOnly\",,,\"False\",\"T\",\"EveryTick\")","v":""},{"$error":"#N/A"},{"$f":"RTD(\"cqg.rtd\",,\"StudyData\", \"Close(\"&$D$12&\") when LocalYear(\"&$D$12&\")=\"&$D$2&\" and localMonth(\"&$D$12&\") =\"&$E$2&\" and LocalDay(\"&$D$12&\")=\"&$F$2&\" and Barix(\"&$D$12&\",reference:=StartOfSession)=\"&A61&\"\", \"Bar\", \"\", \"Close\",\"5\",\"0\",\"PrimaryOnly\",,,\"False\",\"T\",\"EveryTick\")","v":70.36},-2.8417163967030436E-4,{"$f":"RTD(\"cqg.rtd\",,\"StudyData\", \"Close(\"&$D$12&\") when LocalYear(\"&$D$12&\")=\"&$D$3&\" and localMonth(\"&$D$12&\") =\"&$E$3&\" and LocalDay(\"&$D$12&\")=\"&$F$3&\" and Barix(\"&$D$12&\",reference:=StartOfSession)=\"&A61&\"\", \"Bar\", \"\", \"Close\",\"5\",\"0\",\"PrimaryOnly\",,,\"False\",\"T\",\"EveryTick\")","v":70.77},-4.5068141951153738E-2,{"$f":"RTD(\"cqg.rtd\",,\"StudyData\", \"Close(\"&$D$12&\") when LocalYear(\"&$D$12&\")=\"&$D$4&\" and localMonth(\"&$D$12&\") =\"&$E$4&\" and LocalDay(\"&$D$12&\")=\"&$F$4&\" and Barix(\"&$D$12&\",reference:=StartOfSession)=\"&A61&\"\", \"Bar\", \"\", \"Close\",\"5\",\"0\",\"PrimaryOnly\",,,\"False\",\"T\",\"EveryTick\")","v":74.010000000000005},2.1665538253217444E-3,{"$f":"RTD(\"cqg.rtd\",,\"StudyData\", \"Close(\"&$D$12&\") when LocalYear(\"&$D$12&\")=\"&$D$5&\" and localMonth(\"&$D$12&\") =\"&$E$5&\" and LocalDay(\"&$D$12&\")=\"&$F$5&\" and Barix(\"&$D$12&\",reference:=StartOfSession)=\"&A61&\"\", \"Bar\", \"\", \"Close\",\"5\",\"0\",\"PrimaryOnly\",,,\"False\",\"T\",\"EveryTick\")","v":73.599999999999994},-2.7100271002710413E-3,{"$f":"RTD(\"cqg.rtd\",,\"StudyData\", \"Close(\"&$D$12&\") when LocalYear(\"&$D$12&\")=\"&$D$6&\" and localMonth(\"&$D$12&\") =\"&$E$6&\" and LocalDay(\"&$D$12&\")=\"&$F$6&\" and Barix(\"&$D$12&\",reference:=StartOfSession)=\"&A61&\"\", \"Bar\", \"\", \"Close\",\"5\",\"0\",\"PrimaryOnly\",,,\"False\",\"T\",\"EveryTick\")","v":73.61},9.1856320263230297E-3,{"$f":"RTD(\"cqg.rtd\",,\"StudyData\", \"Close(\"&$D$12&\") when LocalYear(\"&$D$12&\")=\"&$D$7&\" and localMonth(\"&$D$12&\") =\"&$E$7&\" and LocalDay(\"&$D$12&\")=\"&$F$7&\" and Barix(\"&$D$12&\",reference:=StartOfSession)=\"&A61&\"\", \"Bar\", \"\", \"Close\",\"5\",\"0\",\"PrimaryOnly\",,,\"False\",\"T\",\"EveryTick\")","v":73.09},-1.4162395468033412E-2,{"$f":"RTD(\"cqg.rtd\",,\"StudyData\", \"Close(\"&$D$12&\") when LocalYear(\"&$D$12&\")=\"&$D$8&\" and localMonth(\"&$D$12&\") =\"&$E$8&\" and LocalDay(\"&$D$12&\")=\"&$F$8&\" and Barix(\"&$D$12&\",reference:=StartOfSession)=\"&A61&\"\", \"Bar\", \"\", \"Close\",\"5\",\"0\",\"PrimaryOnly\",,,\"False\",\"T\",\"EveryTick\")","v":74.16},2.9753854476602497E-3,{"$f":"RTD(\"cqg.rtd\",,\"StudyData\", \"Close(\"&$D$12&\") when LocalYear(\"&$D$12&\")=\"&$D$9&\" and localMonth(\"&$D$12&\") =\"&$E$9&\" and LocalDay(\"&$D$12&\")=\"&$F$9&\" and Barix(\"&$D$12&\",reference:=StartOfSession)=\"&A61&\"\", \"Bar\", \"\", \"Close\",\"5\",\"0\",\"PrimaryOnly\",,,\"False\",\"T\",\"EveryTick\")","v":74.17},2.6972353337823359E-4,{"$f":"RTD(\"cqg.rtd\",,\"StudyData\", \"Close(\"&$D$12&\") when LocalYear(\"&$D$12&\")=\"&$D$10&\" and localMonth(\"&$D$12&\") =\"&$E$10&\" and LocalDay(\"&$D$12&\")=\"&$F$10&\" and Barix(\"&$D$12&\",reference:=StartOfSession)=\"&A61&\"\", \"Bar\", \"\", \"Close\",\"5\",\"0\",\"PrimaryOnly\",,,\"False\",\"T\",\"EveryTick\")","v":74.2},1.0211027910142953E-2,null,null,null,""]
[61,"13:05:00",-16,{"$f":" RTD(\"cqg.rtd\",,\"StudyData\", $D$12,  \"Tick\", \"FlatTicks=0\", \"Tick\",\"D\",C62,,,,,\"T\")","v":71.11},null,null,null,{"$f":"RTD(\"cqg.rtd\",,\"StudyData\", \"Close(\"&$D$12&\") when LocalYear(\"&$D$12&\")=\"&$D$1&\" and localMonth(\"&$D$12&\") =\"&$E$1&\" and LocalDay(\"&$D$12&\")=\"&$F$1&\" and Barix(\"&$D$12&\",reference:=StartOfSession)=\"&A62&\"\", \"Bar\", \"\", \"Close\",\"5\",\"0\",\"PrimaryOnly\",,,\"False\",\"T\",\"EveryTick\")","v":""},{"$error":"#N/A"},{"$f":"RTD(\"cqg.rtd\",,\"StudyData\", \"Close(\"&$D$12&\") when LocalYear(\"&$D$12&\")=\"&$D$2&\" and localMonth(\"&$D$12&\") =\"&$E$2&\" and LocalDay(\"&$D$12&\")=\"&$F$2&\" and Barix(\"&$D$12&\",reference:=StartOfSession)=\"&A62&\"\", \"Bar\", \"\", \"Close\",\"5\",\"0\",\"PrimaryOnly\",,,\"False\",\"T\",\"EveryTick\")","v":70.430000000000007},7.1042909917606379E-4,{"$f":"RTD(\"cqg.rtd\",,\"StudyData\", \"Close(\"&$D$12&\") when LocalYear(\"&$D$12&\")=\"&$D$3&\" and localMonth(\"&$D$12&\") =\"&$E$3&\" and LocalDay(\"&$D$12&\")=\"&$F$3&\" and Barix(\"&$D$12&\",reference:=StartOfSession)=\"&A62&\"\", \"Bar\", \"\", \"Close\",\"5\",\"0\",\"PrimaryOnly\",,,\"False\",\"T\",\"EveryTick\")","v":70.5},-4.8711374983133174E-2,{"$f":"RTD(\"cqg.rtd\",,\"StudyData\", \"Close(\"&$D$12&\") when LocalYear(\"&$D$12&\")=\"&$D$4&\" and localMonth(\"&$D$12&\") =\"&$E$4&\" and LocalDay(\"&$D$12&\")=\"&$F$4&\" and Barix(\"&$D$12&\",reference:=StartOfSession)=\"&A62&\"\", \"Bar\", \"\", \"Close\",\"5\",\"0\",\"PrimaryOnly\",,,\"False\",\"T\",\"EveryTick\")","v":74.06},2.843601895734705E-3,{"$f":"RTD(\"cqg.rtd\",,\"StudyData\", \"Close(\"&$D$12&\") when LocalYear(\"&$D$12&\")=\"&$D$5&\" and localMonth(\"&$D$12&\") =\"&$E$5&\" and LocalDay(\"&$D$12&\")=\"&$F$5&\" and Barix(\"&$D$12&\",reference:=StartOfSession)=\"&A62&\"\", \"Bar\", \"\", \"Close\",\"5\",\"0\",\"PrimaryOnly\",,,\"False\",\"T\",\"EveryTick\")","v":73.540000000000006},-3.5230352303521804E-3,{"$f":"RTD(\"cqg.rtd\",,\"StudyData\", \"Close(\"&$D$12&\") when LocalYear(\"&$D$12&\")=\"&$D$6&\" and localMonth(\"&$D$12&\") =\"&$E$6&\" and LocalDay(\"&$D$12&\")=\"&$F$6&\" and Barix(\"&$D$12&\",reference:=StartOfSession)=\"&A62&\"\", \"Bar\", \"\", \"Close\",\"5\",\"0\",\"PrimaryOnly\",,,\"False\",\"T\",\"EveryTick\")","v":73.55},8.3630381135179517E-3,{"$f":"RTD(\"cqg.rtd\",,\"StudyData\", \"Close(\"&$D$12&\") when LocalYear(\"&$D$12&\")=\"&$D$7&\" and localMonth(\"&$D$12&\") =\"&$E$7&\" and LocalDay(\"&$D$12&\")=\"&$F$7&\" and Barix(\"&$D$12&\",reference:=StartOfSession)=\"&A62&\"\", \"Bar\", \"\", \"Close\",\"5\",\"0\",\"PrimaryOnly\",,,\"False\",\"T\",\"EveryTick\")","v":72.92},-1.645535473428647E-2,{"$f":"RTD(\"cqg.rtd\",,\"StudyData\", \"Close(\"&$D$12&\") when LocalYear(\"&$D$12&\")=\"&$D$8&\" and localMonth(\"&$D$12&\") =\"&$E$8&\" and LocalDay(\"&$D$12&\")=\"&$F$8&\" and Barix(\"&$D$12&\",reference:=StartOfSession)=\"&A62&\"\", \"Bar\", \"\", \"Close\",\"5\",\"0\",\"PrimaryOnly\",,,\"False\",\"T\",\"EveryTick\")","v":74.2},3.5163646199622006E-3,{"$f":"RTD(\"cqg.rtd\",,\"StudyData\", \"Close(\"&$D$12&\") when LocalYear(\"&$D$12&\")=\"&$D$9&\" and localMonth(\"&$D$12&\") =\"&$E$9&\" and LocalDay(\"&$D$12&\")=\"&$F$9&\" and Barix(\"&$D$12&\",reference:=StartOfSession)=\"&A62&\"\", \"Bar\", \"\", \"Close\",\"5\",\"0\",\"PrimaryOnly\",,,\"False\",\"T\",\"EveryTick\")","v":74},-2.0229265003372308E-3,{"$f":"RTD(\"cqg.rtd\",,\"StudyData\", \"Close(\"&$D$12&\") when LocalYear(\"&$D$12&\")=\"&$D$10&\" and localMonth(\"&$D$12&\") =\"&$E$10&\" and LocalDay(\"&$D$12&\")=\"&$F$10&\" and Barix(\"&$D$12&\",reference:=StartOfSession)=\"&A62&\"\", \"Bar\", \"\", \"Close\",\"5\",\"0\",\"PrimaryOnly\",,,\"False\",\"T\",\"EveryTick\")","v":74.22},1.0483321987746711E-2,null,null,null,""]
[62,"13:10:00",-15,{"$f":" RTD(\"cqg.rtd\",,\"StudyData\", $D$12,  \"Tick\", \"FlatTicks=0\", \"Tick\",\"D\",C63,,,,,\"T\")","v":71.12},null,null,null,{"$f":"RTD(\"cqg.rtd\",,\"StudyData\", \"Close(\"&$D$12&\") when LocalYear(\"&$D$12&\")=\"&$D$1&\" and localMonth(\"&$D$12&\") =\"&$E$1&\" and LocalDay(\"&$D$12&\")=\"&$F$1&\" and Barix(\"&$D$12&\",reference:=StartOfSession)=\"&A63&\"\", \"Bar\", \"\", \"Close\",\"5\",\"0\",\"PrimaryOnly\",,,\"False\",\"T\",\"EveryTick\")","v":""},{"$error":"#N/A"},{"$f":"RTD(\"cqg.rtd\",,\"StudyData\", \"Close(\"&$D$12&\") when LocalYear(\"&$D$12&\")=\"&$D$2&\" and localMonth(\"&$D$12&\") =\"&$E$2&\" and LocalDay(\"&$D$12&\")=\"&$F$2&\" and Barix(\"&$D$12&\",reference:=StartOfSession)=\"&A63&\"\", \"Bar\", \"\", \"Close\",\"5\",\"0\",\"PrimaryOnly\",,,\"False\",\"T\",\"EveryTick\")","v":70.34},-5.6834327934060871E-4,{"$f":"RTD(\"cqg.rtd\",,\"StudyData\", \"Close(\"&$D$12&\") when LocalYear(\"&$D$12&\")=\"&$D$3&\" and localMonth(\"&$D$12&\") =\"&$E$3&\" and LocalDay(\"&$D$12&\")=\"&$F$3&\" and Barix(\"&$D$12&\",reference:=StartOfSession)=\"&A63&\"\", \"Bar\", \"\", \"Close\",\"5\",\"0\",\"PrimaryOnly\",,,\"False\",\"T\",\"EveryTick\")","v":70.400000000000006},-5.0060720550532907E-2,{"$f":"RTD(\"cqg.rtd\",,\"StudyData\", \"Close(\"&$D$12&\") when LocalYear(\"&$D$12&\")=\"&$D$4&\" and localMonth(\"&$D$12&\") =\"&$E$4&\" and LocalDay(\"&$D$12&\")=\"&$F$4&\" and Barix(\"&$D$12&\",reference:=StartOfSession)=\"&A63&\"\", \"Bar\", \"\", \"Close\",\"5\",\"0\",\"PrimaryOnly\",,,\"False\",\"T\",\"EveryTick\")","v":74.08},3.1144211238998509E-3,{"$f":"RTD(\"cqg.rtd\",,\"StudyData\", \"Close(\"&$D$12&\") when LocalYear(\"&$D$12&\")=\"&$D$5&\" and localMonth(\"&$D$12&\") =\"&$E$5&\" and LocalDay(\"&$D$12&\")=\"&$F$5&\" and Barix(\"&$D$12&\",reference:=StartOfSession)=\"&A63&\"\", \"Bar\", \"\", \"Close\",\"5\",\"0\",\"PrimaryOnly\",,,\"False\",\"T\",\"EveryTick\")","v":73.58},-2.9810298102980878E-3,{"$f":"RTD(\"cqg.rtd\",,\"StudyData\", \"Close(\"&$D$12&\") when LocalYear(\"&$D$12&\")=\"&$D$6&\" and localMonth(\"&$D$12&\") =\"&$E$6&\" and LocalDay(\"&$D$12&\")=\"&$F$6&\" and Barix(\"&$D$12&\",reference:=StartOfSession)=\"&A63&\"\", \"Bar\", \"\", \"Close\",\"5\",\"0\",\"PrimaryOnly\",,,\"False\",\"T\",\"EveryTick\")","v":73.459999999999994},7.1291472443103382E-3,{"$f":"RTD(\"cqg.rtd\",,\"StudyData\", \"Close(\"&$D$12&\") when LocalYear(\"&$D$12&\")=\"&$D$7&\" and localMonth(\"&$D$12&\") =\"&$E$7&\" and LocalDay(\"&$D$12&\")=\"&$F$7&\" and Barix(\"&$D$12&\",reference:=StartOfSession)=\"&A63&\"\", \"Bar\", \"\", \"Close\",\"5\",\"0\",\"PrimaryOnly\",,,\"False\",\"T\",\"EveryTick\")","v":72.67},-1.9827353655246814E-2,{"$f":"RTD(\"cqg.rtd\",,\"StudyData\", \"Close(\"&$D$12&\") when LocalYear(\"&$D$12&\")=\"&$D$8&\" and localMonth(\"&$D$12&\") =\"&$E$8&\" and LocalDay(\"&$D$12&\")=\"&$F$8&\" and Barix(\"&$D$12&\",reference:=StartOfSession)=\"&A63&\"\", \"Bar\", \"\", \"Close\",\"5\",\"0\",\"PrimaryOnly\",,,\"False\",\"T\",\"EveryTick\")","v":74.17},3.1106302407357856E-3,{"$f":"RTD(\"cqg.rtd\",,\"StudyData\", \"Close(\"&$D$12&\") when LocalYear(\"&$D$12&\")=\"&$D$9&\" and localMonth(\"&$D$12&\") =\"&$E$9&\" and LocalDay(\"&$D$12&\")=\"&$F$9&\" and Barix(\"&$D$12&\",reference:=StartOfSession)=\"&A63&\"\", \"Bar\", \"\", \"Close\",\"5\",\"0\",\"PrimaryOnly\",,,\"False\",\"T\",\"EveryTick\")","v":74.06},-1.2137559002023386E-3,{"$f":"RTD(\"cqg.rtd\",,\"StudyData\", \"Close(\"&$D$12&\") when LocalYear(\"&$D$12&\")=\"&$D$10&\" and localMonth(\"&$D$12&\") =\"&$E$10&\" and LocalDay(\"&$D$12&\")=\"&$F$10&\" and Barix(\"&$D$12&\",reference:=StartOfSession)=\"&A63&\"\", \"Bar\", \"\", \"Close\",\"5\",\"0\",\"PrimaryOnly\",,,\"False\",\"T\",\"EveryTick\")","v":74.12},9.1218515997277295E-3,null,null,null,""]
[63,"13:15:00",-14,{"$f":" RTD(\"cqg.rtd\",,\"StudyData\", $D$12,  \"Tick\", \"FlatTicks=0\", \"Tick\",\"D\",C64,,,,,\"T\")","v":71.11},null,null,null,{"$f":"RTD(\"cqg.rtd\",,\"StudyData\", \"Close(\"&$D$12&\") when LocalYear(\"&$D$12&\")=\"&$D$1&\" and localMonth(\"&$D$12&\") =\"&$E$1&\" and LocalDay(\"&$D$12&\")=\"&$F$1&\" and Barix(\"&$D$12&\",reference:=StartOfSession)=\"&A64&\"\", \"Bar\", \"\", \"Close\",\"5\",\"0\",\"PrimaryOnly\",,,\"False\",\"T\",\"EveryTick\")","v":""},{"$error":"#N/A"},{"$f":"RTD(\"cqg.rtd\",,\"StudyData\", \"Close(\"&$D$12&\") when LocalYear(\"&$D$12&\")=\"&$D$2&\" and localMonth(\"&$D$12&\") =\"&$E$2&\" and LocalDay(\"&$D$12&\")=\"&$F$2&\" and Barix(\"&$D$12&\",reference:=StartOfSession)=\"&A64&\"\", \"Bar\", \"\", \"Close\",\"5\",\"0\",\"PrimaryOnly\",,,\"False\",\"T\",\"EveryTick\")","v":70.290000000000006},-1.2787723785164706E-3,{"$f":"RTD(\"cqg.rtd\",,\"StudyData\", \"Close(\"&$D$12&\") when LocalYear(\"&$D$12&\")=\"&$D$3&\" and localMonth(\"&$D$12&\") =\"&$E$3&\" and LocalDay(\"&$D$12&\")=\"&$F$3&\" and Barix(\"&$D$12&\",reference:=StartOfSession)=\"&A64&\"\", \"Bar\", \"\", \"Close\",\"5\",\"0\",\"PrimaryOnly\",,,\"False\",\"T\",\"EveryTick\")","v":70.28},-5.1679935231412739E-2,{"$f":"RTD(\"cqg.rtd\",,\"StudyData\", \"Close(\"&$D$12&\") when LocalYear(\"&$D$12&\")=\"&$D$4&\" and localMonth(\"&$D$12&\") =\"&$E$4&\" and LocalDay(\"&$D$12&\")=\"&$F$4&\" and Barix(\"&$D$12&\",reference:=StartOfSession)=\"&A64&\"\", \"Bar\", \"\", \"Close\",\"5\",\"0\",\"PrimaryOnly\",,,\"False\",\"T\",\"EveryTick\")","v":74.16},4.1976980365606266E-3,{"$f":"RTD(\"cqg.rtd\",,\"StudyData\", \"Close(\"&$D$12&\") when LocalYear(\"&$D$12&\")=\"&$D$5&\" and localMonth(\"&$D$12&\") =\"&$E$5&\" and LocalDay(\"&$D$12&\")=\"&$F$5&\" and Barix(\"&$D$12&\",reference:=StartOfSession)=\"&A64&\"\", \"Bar\", \"\", \"Close\",\"5\",\"0\",\"PrimaryOnly\",,,\"False\",\"T\",\"EveryTick\")","v":73.61},-2.574525745257422E-3,{"$f":"RTD(\"cqg.rtd\",,\"StudyData\", \"Close(\"&$D$12&\") when LocalYear(\"&$D$12&\")=\"&$D$6&\" and localMonth(\"&$D$12&\") =\"&$E$6&\" and LocalDay(\"&$D$12&\")=\"&$F$6&\" and Barix(\"&$D$12&\",reference:=StartOfSession)=\"&A64&\"\", \"Bar\", \"\", \"Close\",\"5\",\"0\",\"PrimaryOnly\",,,\"False\",\"T\",\"EveryTick\")","v":73.489999999999995},7.5404442007128763E-3,{"$f":"RTD(\"cqg.rtd\",,\"StudyData\", \"Close(\"&$D$12&\") when LocalYear(\"&$D$12&\")=\"&$D$7&\" and localMonth(\"&$D$12&\") =\"&$E$7&\" and LocalDay(\"&$D$12&\")=\"&$F$7&\" and Barix(\"&$D$12&\",reference:=StartOfSession)=\"&A64&\"\", \"Bar\", \"\", \"Close\",\"5\",\"0\",\"PrimaryOnly\",,,\"False\",\"T\",\"EveryTick\")","v":72.86},-1.7264634475316985E-2,{"$f":"RTD(\"cqg.rtd\",,\"StudyData\", \"Close(\"&$D$12&\") when LocalYear(\"&$D$12&\")=\"&$D$8&\" and localMonth(\"&$D$12&\") =\"&$E$8&\" and LocalDay(\"&$D$12&\")=\"&$F$8&\" and Barix(\"&$D$12&\",reference:=StartOfSession)=\"&A64&\"\", \"Bar\", \"\", \"Close\",\"5\",\"0\",\"PrimaryOnly\",,,\"False\",\"T\",\"EveryTick\")","v":74.23},3.9220989991886161E-3,{"$f":"RTD(\"cqg.rtd\",,\"StudyData\", \"Close(\"&$D$12&\") when LocalYear(\"&$D$12&\")=\"&$D$9&\" and localMonth(\"&$D$12&\") =\"&$E$9&\" and LocalDay(\"&$D$12&\")=\"&$F$9&\" and Barix(\"&$D$12&\",reference:=StartOfSession)=\"&A64&\"\", \"Bar\", \"\", \"Close\",\"5\",\"0\",\"PrimaryOnly\",,,\"False\",\"T\",\"EveryTick\")","v":74.09},-8.0917060013489242E-4,{"$f":"RTD(\"cqg.rtd\",,\"StudyData\", \"Close(\"&$D$12&\") when LocalYear(\"&$D$12&\")=\"&$D$10&\" and localMonth(\"&$D$12&\") =\"&$E$10&\" and LocalDay(\"&$D$12&\")=\"&$F$10&\" and Barix(\"&$D$12&\",reference:=StartOfSession)=\"&A64&\"\", \"Bar\", \"\", \"Close\",\"5\",\"0\",\"PrimaryOnly\",,,\"False\",\"T\",\"EveryTick\")","v":74.239999999999995},1.0755616065350471E-2,null,null,null,""]
[64,"13:20:00",-13,{"$f":" RTD(\"cqg.rtd\",,\"StudyData\", $D$12,  \"Tick\", \"FlatTicks=0\", \"Tick\",\"D\",C65,,,,,\"T\")","v":71.12},null,null,null,{"$f":"RTD(\"cqg.rtd\",,\"StudyData\", \"Close(\"&$D$12&\") when LocalYear(\"&$D$12&\")=\"&$D$1&\" and localMonth(\"&$D$12&\") =\"&$E$1&\" and LocalDay(\"&$D$12&\")=\"&$F$1&\" and Barix(\"&$D$12&\",reference:=StartOfSession)=\"&A65&\"\", \"Bar\", \"\", \"Close\",\"5\",\"0\",\"PrimaryOnly\",,,\"False\",\"T\",\"EveryTick\")","v":""},{"$error":"#N/A"},{"$f":"RTD(\"cqg.rtd\",,\"StudyData\", \"Close(\"&$D$12&\") when LocalYear(\"&$D$12&\")=\"&$D$2&\" and localMonth(\"&$D$12&\") =\"&$E$2&\" and LocalDay(\"&$D$12&\")=\"&$F$2&\" and Barix(\"&$D$12&\",reference:=StartOfSession)=\"&A65&\"\", \"Bar\", \"\", \"Close\",\"5\",\"0\",\"PrimaryOnly\",,,\"False\",\"T\",\"EveryTick\")","v":70.22},-2.273373117362839E-3,{"$f":"RTD(\"cqg.rtd\",,\"StudyData\", \"Close(\"&$D$12&\") when LocalYear(\"&$D$12&\")=\"&$D$3&\" and localMonth(\"&$D$12&\") =\"&$E$3&\" and LocalDay(\"&$D$12&\")=\"&$F$3&\" and Barix(\"&$D$12&\",reference:=StartOfSession)=\"&A65&\"\", \"Bar\", \"\", \"Close\",\"5\",\"0\",\"PrimaryOnly\",,,\"False\",\"T\",\"EveryTick\")","v":70.2},-5.2759411685332568E-2,{"$f":"RTD(\"cqg.rtd\",,\"StudyData\", \"Close(\"&$D$12&\") when LocalYear(\"&$D$12&\")=\"&$D$4&\" and localMonth(\"&$D$12&\") =\"&$E$4&\" and LocalDay(\"&$D$12&\")=\"&$F$4&\" and Barix(\"&$D$12&\",reference:=StartOfSession)=\"&A65&\"\", \"Bar\", \"\", \"Close\",\"5\",\"0\",\"PrimaryOnly\",,,\"False\",\"T\",\"EveryTick\")","v":74.13},3.7914691943128119E-3,{"$f":"RTD(\"cqg.rtd\",,\"StudyData\", \"Close(\"&$D$12&\") when LocalYear(\"&$D$12&\")=\"&$D$5&\" and localMonth(\"&$D$12&\") =\"&$E$5&\" and LocalDay(\"&$D$12&\")=\"&$F$5&\" and Barix(\"&$D$12&\",reference:=StartOfSession)=\"&A65&\"\", \"Bar\", \"\", \"Close\",\"5\",\"0\",\"PrimaryOnly\",,,\"False\",\"T\",\"EveryTick\")","v":73.67},-1.7615176151760902E-3,{"$f":"RTD(\"cqg.rtd\",,\"StudyData\", \"Close(\"&$D$12&\") when LocalYear(\"&$D$12&\")=\"&$D$6&\" and localMonth(\"&$D$12&\") =\"&$E$6&\" and LocalDay(\"&$D$12&\")=\"&$F$6&\" and Barix(\"&$D$12&\",reference:=StartOfSession)=\"&A65&\"\", \"Bar\", \"\", \"Close\",\"5\",\"0\",\"PrimaryOnly\",,,\"False\",\"T\",\"EveryTick\")","v":73.47},7.2662462297779151E-3,{"$f":"RTD(\"cqg.rtd\",,\"StudyData\", \"Close(\"&$D$12&\") when LocalYear(\"&$D$12&\")=\"&$D$7&\" and localMonth(\"&$D$12&\") =\"&$E$7&\" and LocalDay(\"&$D$12&\")=\"&$F$7&\" and Barix(\"&$D$12&\",reference:=StartOfSession)=\"&A65&\"\", \"Bar\", \"\", \"Close\",\"5\",\"0\",\"PrimaryOnly\",,,\"False\",\"T\",\"EveryTick\")","v":72.709999999999994},-1.9287833827893269E-2,{"$f":"RTD(\"cqg.rtd\",,\"StudyData\", \"Close(\"&$D$12&\") when LocalYear(\"&$D$12&\")=\"&$D$8&\" and localMonth(\"&$D$12&\") =\"&$E$8&\" and LocalDay(\"&$D$12&\")=\"&$F$8&\" and Barix(\"&$D$12&\",reference:=StartOfSession)=\"&A65&\"\", \"Bar\", \"\", \"Close\",\"5\",\"0\",\"PrimaryOnly\",,,\"False\",\"T\",\"EveryTick\")","v":74.09},2.0286718961320758E-3,{"$f":"RTD(\"cqg.rtd\",,\"StudyData\", \"Close(\"&$D$12&\") when LocalYear(\"&$D$12&\")=\"&$D$9&\" and localMonth(\"&$D$12&\") =\"&$E$9&\" and LocalDay(\"&$D$12&\")=\"&$F$9&\" and Barix(\"&$D$12&\",reference:=StartOfSession)=\"&A65&\"\", \"Bar\", \"\", \"Close\",\"5\",\"0\",\"PrimaryOnly\",,,\"False\",\"T\",\"EveryTick\")","v":74.03},-1.6183412002697848E-3,{"$f":"RTD(\"cqg.rtd\",,\"StudyData\", \"Close(\"&$D$12&\") when LocalYear(\"&$D$12&\")=\"&$D$10&\" and localMonth(\"&$D$12&\") =\"&$E$10&\" and LocalDay(\"&$D$12&\")=\"&$F$10&\" and Barix(\"&$D$12&\",reference:=StartOfSession)=\"&A65&\"\", \"Bar\", \"\", \"Close\",\"5\",\"0\",\"PrimaryOnly\",,,\"False\",\"T\",\"EveryTick\")","v":74.260000000000005},1.1027910142954421E-2,null,null,null,""]
[65,"13:25:00",-12,{"$f":" RTD(\"cqg.rtd\",,\"StudyData\", $D$12,  \"Tick\", \"FlatTicks=0\", \"Tick\",\"D\",C66,,,,,\"T\")","v":71.11},null,null,null,{"$f":"RTD(\"cqg.rtd\",,\"StudyData\", \"Close(\"&$D$12&\") when LocalYear(\"&$D$12&\")=\"&$D$1&\" and localMonth(\"&$D$12&\") =\"&$E$1&\" and LocalDay(\"&$D$12&\")=\"&$F$1&\" and Barix(\"&$D$12&\",reference:=StartOfSession)=\"&A66&\"\", \"Bar\", \"\", \"Close\",\"5\",\"0\",\"PrimaryOnly\",,,\"False\",\"T\",\"EveryTick\")","v":""},{"$error":"#N/A"},{"$f":"RTD(\"cqg.rtd\",,\"StudyData\", \"Close(\"&$D$12&\") when LocalYear(\"&$D$12&\")=\"&$D$2&\" and localMonth(\"&$D$12&\") =\"&$E$2&\" and LocalDay(\"&$D$12&\")=\"&$F$2&\" and Barix(\"&$D$12&\",reference:=StartOfSession)=\"&A66&\"\", \"Bar\", \"\", \"Close\",\"5\",\"0\",\"PrimaryOnly\",,,\"False\",\"T\",\"EveryTick\")","v":70.33},{"$f":"IFERROR((J66-$G$3)/$G$3,NA())","v":-7.1042909917586191E-4},{"$f":"RTD(\"cqg.rtd\",,\"StudyData\", \"Close(\"&$D$12&\") when LocalYear(\"&$D$12&\")=\"&$D$3&\" and localMonth(\"&$D$12&\") =\"&$E$3&\" and LocalDay(\"&$D$12&\")=\"&$F$3&\" and Barix(\"&$D$12&\",reference:=StartOfSession)=\"&A66&\"\", \"Bar\", \"\", \"Close\",\"5\",\"0\",\"PrimaryOnly\",,,\"False\",\"T\",\"EveryTick\")","v":70.38},{"$f":"IFERROR((L66-$G$4)/$G$4,NA())","v":-5.0330589664013006E-2},{"$f":"RTD(\"cqg.rtd\",,\"StudyData\", \"Close(\"&$D$12&\") when LocalYear(\"&$D$12&\")=\"&$D$4&\" and localMonth(\"&$D$12&\") =\"&$E$4&\" and LocalDay(\"&$D$12&\")=\"&$F$4&\" and Barix(\"&$D$12&\",reference:=StartOfSession)=\"&A66&\"\", \"Bar\", \"\", \"Close\",\"5\",\"0\",\"PrimaryOnly\",,,\"False\",\"T\",\"EveryTick\")","v":74.11},{"$f":"IFERROR((N66-$G$5)/$G$5,NA())","v":3.520649966147666E-3},{"$f":"RTD(\"cqg.rtd\",,\"StudyData\", \"Close(\"&$D$12&\") when LocalYear(\"&$D$12&\")=\"&$D$5&\" and localMonth(\"&$D$12&\") =\"&$E$5&\" and LocalDay(\"&$D$12&\")=\"&$F$5&\" and Barix(\"&$D$12&\",reference:=StartOfSession)=\"&A66&\"\", \"Bar\", \"\", \"Close\",\"5\",\"0\",\"PrimaryOnly\",,,\"False\",\"T\",\"EveryTick\")","v":73.849999999999994},{"$f":"IFERROR((P66-$G$6)/$G$6,NA())","v":6.7750677506771219E-4},{"$f":"RTD(\"cqg.rtd\",,\"StudyData\", \"Close(\"&$D$12&\") when LocalYear(\"&$D$12&\")=\"&$D$6&\" and localMonth(\"&$D$12&\") =\"&$E$6&\" and LocalDay(\"&$D$12&\")=\"&$F$6&\" and Barix(\"&$D$12&\",reference:=StartOfSession)=\"&A66&\"\", \"Bar\", \"\", \"Close\",\"5\",\"0\",\"PrimaryOnly\",,,\"False\",\"T\",\"EveryTick\")","v":73.8},{"$f":"IFERROR((R66-$G$7)/$G$7,NA())","v":1.179051275020564E-2},{"$f":"RTD(\"cqg.rtd\",,\"StudyData\", \"Close(\"&$D$12&\") when LocalYear(\"&$D$12&\")=\"&$D$7&\" and localMonth(\"&$D$12&\") =\"&$E$7&\" and LocalDay(\"&$D$12&\")=\"&$F$7&\" and Barix(\"&$D$12&\",reference:=StartOfSession)=\"&A66&\"\", \"Bar\", \"\", \"Close\",\"5\",\"0\",\"PrimaryOnly\",,,\"False\",\"T\",\"EveryTick\")","v":72.94},{"$f":"IFERROR((T66-$G$8)/$G$8,NA())","v":-1.6185594820609696E-2},{"$f":"RTD(\"cqg.rtd\",,\"StudyData\", \"Close(\"&$D$12&\") when LocalYear(\"&$D$12&\")=\"&$D$8&\" and localMonth(\"&$D$12&\") =\"&$E$8&\" and LocalDay(\"&$D$12&\")=\"&$F$8&\" and Barix(\"&$D$12&\",reference:=StartOfSession)=\"&A66&\"\", \"Bar\", \"\", \"Close\",\"5\",\"0\",\"PrimaryOnly\",,,\"False\",\"T\",\"EveryTick\")","v":74.14},{"$f":"IFERROR((V66-$G$9)/$G$9,NA())","v":2.7048958615093705E-3},{"$f":"RTD(\"cqg.rtd\",,\"StudyData\", \"Close(\"&$D$12&\") when LocalYear(\"&$D$12&\")=\"&$D$9&\" and localMonth(\"&$D$12&\") =\"&$E$9&\" and LocalDay(\"&$D$12&\")=\"&$F$9&\" and Barix(\"&$D$12&\",reference:=StartOfSession)=\"&A66&\"\", \"Bar\", \"\", \"Close\",\"5\",\"0\",\"PrimaryOnly\",,,\"False\",\"T\",\"EveryTick\")","v":73.94},{"$f":"IFERROR((X66-$G$10)/$G$10,NA())","v":-2.8320971004721232E-3},{"$f":"RTD(\"cqg.rtd\",,\"StudyData\", \"Close(\"&$D$12&\") when LocalYear(\"&$D$12&\")=\"&$D$10&\" and localMonth(\"&$D$12&\") =\"&$E$10&\" and LocalDay(\"&$D$12&\")=\"&$F$10&\" and Barix(\"&$D$12&\",reference:=StartOfSession)=\"&A66&\"\", \"Bar\", \"\", \"Close\",\"5\",\"0\",\"PrimaryOnly\",,,\"False\",\"T\",\"EveryTick\")","v":74.150000000000006},{"$f":"IFERROR((Z66-$G$11)/$G$11,NA())","v":9.5302927161334625E-3},null,null,null,""]
[null,null,-11,{"$f":" RTD(\"cqg.rtd\",,\"StudyData\", $D$12,  \"Tick\", \"FlatTicks=0\", \"Tick\",\"D\",C67,,,,,\"T\")","v":71.12}]
[null,null,-10,{"$f":" RTD(\"cqg.rtd\",,\"StudyData\", $D$12,  \"Tick\", \"FlatTicks=0\", \"Tick\",\"D\",C68,,,,,\"T\")","v":71.11}]
[null,null,-9,{"$f":" RTD(\"cqg.rtd\",,\"StudyData\", $D$12,  \"Tick\", \"FlatTicks=0\", \"Tick\",\"D\",C69,,,,,\"T\")","v":71.12}]
[null,null,-8,{"$f":" RTD(\"cqg.rtd\",,\"StudyData\", $D$12,  \"Tick\", \"FlatTicks=0\", \"Tick\",\"D\",C70,,,,,\"T\")","v":71.11}]
[null,null,-7,{"$f":" RTD(\"cqg.rtd\",,\"StudyData\", $D$12,  \"Tick\", \"FlatTicks=0\", \"Tick\",\"D\",C71,,,,,\"T\")","v":71.12}]
[null,null,-6,{"$f":" RTD(\"cqg.rtd\",,\"StudyData\", $D$12,  \"Tick\", \"FlatTicks=0\", \"Tick\",\"D\",C72,,,,,\"T\")","v":71.11}]
[null,null,-5,{"$f":" RTD(\"cqg.rtd\",,\"StudyData\", $D$12,  \"Tick\", \"FlatTicks=0\", \"Tick\",\"D\",C73,,,,,\"T\")","v":71.12}]
[null,null,-4,{"$f":" RTD(\"cqg.rtd\",,\"StudyData\", $D$12,  \"Tick\", \"FlatTicks=0\", \"Tick\",\"D\",C74,,,,,\"T\")","v":71.11}]
[null,null,-3,{"$f":" RTD(\"cqg.rtd\",,\"StudyData\", $D$12,  \"Tick\", \"FlatTicks=0\", \"Tick\",\"D\",C75,,,,,\"T\")","v":71.12}]
[null,null,-2,{"$f":" RTD(\"cqg.rtd\",,\"StudyData\", $D$12,  \"Tick\", \"FlatTicks=0\", \"Tick\",\"D\",C76,,,,,\"T\")","v":71.11}]
[null,null,-1,{"$f":" RTD(\"cqg.rtd\",,\"StudyData\", $D$12,  \"Tick\", \"FlatTicks=0\", \"Tick\",\"D\",C77,,,,,\"T\")","v":71.12}]
[null,null,0,{"$f":" RTD(\"cqg.rtd\",,\"StudyData\", $D$12,  \"Tick\", \"FlatTicks=0\", \"Tick\",\"D\",C78,,,,,\"T\")","v":71.11}]
[]
[]
[]
[]
[null,null,null,null,null,null,null,null,null,null,null,null,null,null,null,null,null,null,null,null,null,null,null,null,null,null,null,null,null,null,{"$f":"MAX(AE1:AE81)","v":29}]

{"sheet":"Sheet4 (2)","index":4,"n_rows":93,"n_cols":20,"rows_kept":93,"cut":false,"hidden":true,"merged":[]}
[null,{"$f":"'Sheet3 (2)'!I1","v":1.9906156689890597E-3},{"$f":"'Sheet3 (2)'!K1","v":7.2463768115942758E-3},null,{"$f":"'Sheet3 (2)'!M1","v":-9.7152880852786252E-3},null,{"$f":"'Sheet3 (2)'!O1","v":7.1767095463778092E-3},null,{"$f":"'Sheet3 (2)'!Q1","v":2.574525745257422E-3},null,{"$f":"'Sheet3 (2)'!S1","v":-7.1291472443103382E-3},null,{"$f":"'Sheet3 (2)'!U1","v":1.0790396547072875E-3},null,{"$f":"'Sheet3 (2)'!W1","v":1.5282661617527664E-2},null,{"$f":"'Sheet3 (2)'!Y1","v":-1.8880647336480183E-3},null,{"$f":"'Sheet3 (2)'!AA1","v":9.5302927161324946E-4}]
[null,{"$f":"'Sheet3 (2)'!I2","v":1.2796815014930103E-3},{"$f":"'Sheet3 (2)'!K2","v":6.8201193520887188E-3},{"$f":"IF(ISNUMBER(C2),CORREL($B$1:B2,$C$1:C2),\"\")","v":1.0000000000000002},{"$f":"'Sheet3 (2)'!M2","v":-1.0389960868978492E-2},{"$f":"IF(ISNUMBER(E2),CORREL($B$1:B2,$E$1:E2),\"\")","v":1},{"$f":"'Sheet3 (2)'!O2","v":6.3642518618821789E-3},{"$f":"IF(ISNUMBER(G2),CORREL($B$1:B2,$G$1:G2),\"\")","v":1},{"$f":"'Sheet3 (2)'!Q2","v":1.2195121951219974E-3},{"$f":"IF(ISNUMBER(I2),CORREL($B$1:B2,$I$1:I2),\"\")","v":1},{"$f":"'Sheet3 (2)'!S2","v":-8.6372360844529129E-3},{"$f":"IF(ISNUMBER(K2),CORREL($B$1:B2,$K$1:K2),\"\")","v":1},{"$f":"'Sheet3 (2)'!U2","v":-1.3487995683848282E-4},{"$f":"IF(ISNUMBER(M2),CORREL($B$1:B2,$M$1:M2),\"\")","v":0.99999999999999989},{"$f":"'Sheet3 (2)'!W2","v":1.5688395996754079E-2},{"$f":"IF(ISNUMBER(O2),CORREL($B$1:B2,$O$1:O2),\"\")","v":-1},{"$f":"'Sheet3 (2)'!Y2","v":-2.2926500337154647E-3},{"$f":"IF(ISNUMBER(Q2),CORREL($B$1:B2,$Q$1:Q2),\"\")","v":1},{"$f":"'Sheet3 (2)'!AA2","v":2.3144996596324262E-3},{"$f":"IF(ISNUMBER(S2),CORREL($B$1:B2,$S$1:S2),\"\")","v":-1}]
[null,{"$f":"'Sheet3 (2)'!I3","v":1.9906156689890597E-3},{"$f":"'Sheet3 (2)'!K3","v":5.3992611537369943E-3},{"$f":"IF(ISNUMBER(C3),CORREL($B$1:B3,$C$1:C3),\"\")","v":-0.29686612538797319},{"$f":"'Sheet3 (2)'!M3","v":-9.9851571987585337E-3},{"$f":"IF(ISNUMBER(E3),CORREL($B$1:B3,$E$1:E3),\"\")","v":0.91766293548227229},{"$f":"'Sheet3 (2)'!O3","v":7.0412999322953321E-3},{"$f":"IF(ISNUMBER(G3),CORREL($B$1:B3,$G$1:G3),\"\")","v":0.98782916114728636},{"$f":"'Sheet3 (2)'!Q3","v":1.4905149051490439E-3},{"$f":"IF(ISNUMBER(I3),CORREL($B$1:B3,$I$1:I3),\"\")","v":0.65465367070795499},{"$f":"'Sheet3 (2)'!S3","v":-9.1856320263230297E-3},{"$f":"IF(ISNUMBER(K3),CORREL($B$1:B3,$K$1:K3),\"\")","v":0.26015295118647491},{"$f":"'Sheet3 (2)'!U3","v":-1.3487995683848282E-4},{"$f":"IF(ISNUMBER(M3),CORREL($B$1:B3,$M$1:M3),\"\")","v":0.50000000000000011},{"$f":"'Sheet3 (2)'!W3","v":1.5012172031376786E-2},{"$f":"IF(ISNUMBER(O3),CORREL($B$1:B3,$O$1:O3),\"\")","v":-0.91766293548227329},{"$f":"'Sheet3 (2)'!Y3","v":-2.8320971004721232E-3},{"$f":"IF(ISNUMBER(Q3),CORREL($B$1:B3,$Q$1:Q3),\"\")","v":-8.2199493652711508E-2},{"$f":"'Sheet3 (2)'!AA3","v":2.7229407760381596E-3},{"$f":"IF(ISNUMBER(S3),CORREL($B$1:B3,$S$1:S3),\"\")","v":-0.29686612538799839}]
[null,{"$f":"'Sheet3 (2)'!I4","v":2.2749893359874391E-3},{"$f":"'Sheet3 (2)'!K4","v":4.5467462347258793E-3},{"$f":"IF(ISNUMBER(C4),CORREL($B$1:B4,$C$1:C4),\"\")","v":-0.62416512193555718},{"$f":"'Sheet3 (2)'!M4","v":-1.1064633652678358E-2},{"$f":"IF(ISNUMBER(E4),CORREL($B$1:B4,$E$1:E4),\"\")","v":-0.19891011862567073},{"$f":"'Sheet3 (2)'!O4","v":7.5829383886256239E-3},{"$f":"IF(ISNUMBER(G4),CORREL($B$1:B4,$G$1:G4),\"\")","v":0.98452648001624066},{"$f":"'Sheet3 (2)'!Q4","v":2.4390243902439948E-3},{"$f":"IF(ISNUMBER(I4),CORREL($B$1:B4,$I$1:I4),\"\")","v":0.75475549830383293},{"$f":"'Sheet3 (2)'!S4","v":-7.1291472443103382E-3},{"$f":"IF(ISNUMBER(K4),CORREL($B$1:B4,$K$1:K4),\"\")","v":0.51591698590273194},{"$f":"'Sheet3 (2)'!U4","v":-2.2929592662530576E-3},{"$f":"IF(ISNUMBER(M4),CORREL($B$1:B4,$M$1:M4),\"\")","v":-0.39965919017299673},{"$f":"'Sheet3 (2)'!W4","v":1.433594806599949E-2},{"$f":"IF(ISNUMBER(O4),CORREL($B$1:B4,$O$1:O4),\"\")","v":-0.8897028444780869},{"$f":"'Sheet3 (2)'!Y4","v":-3.2366824005395697E-3},{"$f":"IF(ISNUMBER(Q4),CORREL($B$1:B4,$Q$1:Q4),\"\")","v":-0.50775487956766507},{"$f":"'Sheet3 (2)'!AA4","v":2.7229407760381596E-3},{"$f":"IF(ISNUMBER(S4),CORREL($B$1:B4,$S$1:S4),\"\")","v":5.432590075068066E-2}]
[null,{"$f":"'Sheet3 (2)'!I5","v":1.421868334992301E-3},{"$f":"'Sheet3 (2)'!K5","v":2.2733731173630407E-3},{"$f":"IF(ISNUMBER(C5),CORREL($B$1:B5,$C$1:C5),\"\")","v":0.11437319095353429},{"$f":"'Sheet3 (2)'!M5","v":-1.1334502766158459E-2},{"$f":"IF(ISNUMBER(E5),CORREL($B$1:B5,$E$1:E5),\"\")","v":0.20415955578737532},{"$f":"'Sheet3 (2)'!O5","v":7.0412999322953321E-3},{"$f":"IF(ISNUMBER(G5),CORREL($B$1:B5,$G$1:G5),\"\")","v":0.85825820290699428},{"$f":"'Sheet3 (2)'!Q5","v":1.4905149051490439E-3},{"$f":"IF(ISNUMBER(I5),CORREL($B$1:B5,$I$1:I5),\"\")","v":0.7797932222106172},{"$f":"'Sheet3 (2)'!S5","v":-7.4033452152452986E-3},{"$f":"IF(ISNUMBER(K5),CORREL($B$1:B5,$K$1:K5),\"\")","v":0.28860381275687913},{"$f":"'Sheet3 (2)'!U5","v":-1.3487995683840615E-3},{"$f":"IF(ISNUMBER(M5),CORREL($B$1:B5,$M$1:M5),\"\")","v":-0.16193168230252855},{"$f":"'Sheet3 (2)'!W5","v":1.4471192859075025E-2},{"$f":"IF(ISNUMBER(O5),CORREL($B$1:B5,$O$1:O5),\"\")","v":-0.44170479581076888},{"$f":"'Sheet3 (2)'!Y5","v":-1.6183412002697848E-3},{"$f":"IF(ISNUMBER(Q5),CORREL($B$1:B5,$Q$1:Q5),\"\")","v":-0.65306874380697966},{"$f":"'Sheet3 (2)'!AA5","v":2.9952348536419178E-3},{"$f":"IF(ISNUMBER(S5),CORREL($B$1:B5,$S$1:S5),\"\")","v":-0.17771951102487665}]
[null,{"$f":"'Sheet3 (2)'!I6","v":2.8437366699843999E-3},{"$f":"'Sheet3 (2)'!K6","v":2.2733731173630407E-3},{"$f":"IF(ISNUMBER(C6),CORREL($B$1:B6,$C$1:C6),\"\")","v":-0.36218883861884371},{"$f":"'Sheet3 (2)'!M6","v":-1.1739306436378417E-2},{"$f":"IF(ISNUMBER(E6),CORREL($B$1:B6,$E$1:E6),\"\")","v":-0.37239419069598562},{"$f":"'Sheet3 (2)'!O6","v":6.9058903182126633E-3},{"$f":"IF(ISNUMBER(G6),CORREL($B$1:B6,$G$1:G6),\"\")","v":0.45602478269373509},{"$f":"'Sheet3 (2)'!Q6","v":6.7750677506771219E-4},{"$f":"IF(ISNUMBER(I6),CORREL($B$1:B6,$I$1:I6),\"\")","v":-0.10012271070694884},{"$f":"'Sheet3 (2)'!S6","v":-7.2662462297779151E-3},{"$f":"IF(ISNUMBER(K6),CORREL($B$1:B6,$K$1:K6),\"\")","v":0.39960250817649579},{"$f":"'Sheet3 (2)'!U6","v":-1.3487995683840615E-3},{"$f":"IF(ISNUMBER(M6),CORREL($B$1:B6,$M$1:M6),\"\")","v":-0.30320053363111066},{"$f":"'Sheet3 (2)'!W6","v":1.4471192859075025E-2},{"$f":"IF(ISNUMBER(O6),CORREL($B$1:B6,$O$1:O6),\"\")","v":-0.54715760371122435},{"$f":"'Sheet3 (2)'!Y6","v":-9.4403236682410498E-4},{"$f":"IF(ISNUMBER(Q6),CORREL($B$1:B6,$Q$1:Q6),\"\")","v":0.21873283997369714},{"$f":"'Sheet3 (2)'!AA6","v":4.0844111640571433E-3},{"$f":"IF(ISNUMBER(S6),CORREL($B$1:B6,$S$1:S6),\"\")","v":0.441443570296359}]
[null,{"$f":"'Sheet3 (2)'!I7","v":3.8390445044788287E-3},{"$f":"'Sheet3 (2)'!K7","v":2.8417163967050629E-4},{"$f":"IF(ISNUMBER(C7),CORREL($B$1:B7,$C$1:C7),\"\")","v":-0.68759091475711331},{"$f":"'Sheet3 (2)'!M7","v":-1.0659829982458593E-2},{"$f":"IF(ISNUMBER(E7),CORREL($B$1:B7,$E$1:E7),\"\")","v":-0.20223037453098461},{"$f":"'Sheet3 (2)'!O7","v":8.1245768449561082E-3},{"$f":"IF(ISNUMBER(G7),CORREL($B$1:B7,$G$1:G7),\"\")","v":0.78563931974047163},{"$f":"'Sheet3 (2)'!Q7","v":-5.4200542005409277E-4},{"$f":"IF(ISNUMBER(I7),CORREL($B$1:B7,$I$1:I7),\"\")","v":-0.66442644129226547},{"$f":"'Sheet3 (2)'!S7","v":-5.6210584041677626E-3},{"$f":"IF(ISNUMBER(K7),CORREL($B$1:B7,$K$1:K7),\"\")","v":0.73868699642775548},{"$f":"'Sheet3 (2)'!U7","v":-2.023199352576284E-3},{"$f":"IF(ISNUMBER(M7),CORREL($B$1:B7,$M$1:M7),\"\")","v":-0.49882927046920772},{"$f":"'Sheet3 (2)'!W7","v":1.5688395996754079E-2},{"$f":"IF(ISNUMBER(O7),CORREL($B$1:B7,$O$1:O7),\"\")","v":0.14869777048736288},{"$f":"'Sheet3 (2)'!Y7","v":-1.6183412002697848E-3},{"$f":"IF(ISNUMBER(Q7),CORREL($B$1:B7,$Q$1:Q7),\"\")","v":0.32600116656663952},{"$f":"'Sheet3 (2)'!AA7","v":3.8121170864533851E-3},{"$f":"IF(ISNUMBER(S7),CORREL($B$1:B7,$S$1:S7),\"\")","v":0.58452009568815322}]
[null,{"$f":"'Sheet3 (2)'!I8","v":3.8390445044788287E-3},{"$f":"'Sheet3 (2)'!K8","v":-2.4154589371980918E-3},{"$f":"IF(ISNUMBER(C8),CORREL($B$1:B8,$C$1:C8),\"\")","v":-0.80293533227848135},{"$f":"'Sheet3 (2)'!M8","v":-1.1064633652678358E-2},{"$f":"IF(ISNUMBER(E8),CORREL($B$1:B8,$E$1:E8),\"\")","v":-0.27059184232554562},{"$f":"'Sheet3 (2)'!O8","v":9.7494922139471762E-3},{"$f":"IF(ISNUMBER(G8),CORREL($B$1:B8,$G$1:G8),\"\")","v":0.81438277400343273},{"$f":"'Sheet3 (2)'!Q8","v":-1.0840108401083781E-3},{"$f":"IF(ISNUMBER(I8),CORREL($B$1:B8,$I$1:I8),\"\")","v":-0.78653517764303216},{"$f":"'Sheet3 (2)'!S8","v":-4.7984644913626863E-3},{"$f":"IF(ISNUMBER(K8),CORREL($B$1:B8,$K$1:K8),\"\")","v":0.83279793532133406},{"$f":"'Sheet3 (2)'!U8","v":-4.8556784461828897E-3},{"$f":"IF(ISNUMBER(M8),CORREL($B$1:B8,$M$1:M8),\"\")","v":-0.70227583854172604},{"$f":"'Sheet3 (2)'!W8","v":1.6094130375980495E-2},{"$f":"IF(ISNUMBER(O8),CORREL($B$1:B8,$O$1:O8),\"\")","v":0.43398503882211598},{"$f":"'Sheet3 (2)'!Y8","v":-6.0687795010115012E-3},{"$f":"IF(ISNUMBER(Q8),CORREL($B$1:B8,$Q$1:Q8),\"\")","v":-0.38661827496697926},{"$f":"'Sheet3 (2)'!AA8","v":5.309734513274344E-3},{"$f":"IF(ISNUMBER(S8),CORREL($B$1:B8,$S$1:S8),\"\")","v":0.74054035178161548}]
[null,{"$f":"'Sheet3 (2)'!I9","v":3.5546708374804494E-3},{"$f":"'Sheet3 (2)'!K9","v":-4.5467462347256781E-3},{"$f":"IF(ISNUMBER(C9),CORREL($B$1:B9,$C$1:C9),\"\")","v":-0.81049093265244121},{"$f":"'Sheet3 (2)'!M9","v":-1.1469437322898318E-2},{"$f":"IF(ISNUMBER(E9),CORREL($B$1:B9,$E$1:E9),\"\")","v":-0.36624737855849432},{"$f":"'Sheet3 (2)'!O9","v":1.0561949898442806E-2},{"$f":"IF(ISNUMBER(G9),CORREL($B$1:B9,$G$1:G9),\"\")","v":0.79181547474087932},{"$f":"'Sheet3 (2)'!Q9","v":-1.6260162601624707E-3},{"$f":"IF(ISNUMBER(I9),CORREL($B$1:B9,$I$1:I9),\"\")","v":-0.80964387017211603},{"$f":"'Sheet3 (2)'!S9","v":-4.524266520427726E-3},{"$f":"IF(ISNUMBER(K9),CORREL($B$1:B9,$K$1:K9),\"\")","v":0.85088661768929363},{"$f":"'Sheet3 (2)'!U9","v":-3.7766387914756022E-3},{"$f":"IF(ISNUMBER(M9),CORREL($B$1:B9,$M$1:M9),\"\")","v":-0.74867696332568689},{"$f":"'Sheet3 (2)'!W9","v":1.6094130375980495E-2},{"$f":"IF(ISNUMBER(O9),CORREL($B$1:B9,$O$1:O9),\"\")","v":0.52901287411189724},{"$f":"'Sheet3 (2)'!Y9","v":-5.6641942009440548E-3},{"$f":"IF(ISNUMBER(Q9),CORREL($B$1:B9,$Q$1:Q9),\"\")","v":-0.50741828854580884},{"$f":"'Sheet3 (2)'!AA9","v":5.4458815520761258E-3},{"$f":"IF(ISNUMBER(S9),CORREL($B$1:B9,$S$1:S9),\"\")","v":0.77990566827843988}]
[null,{"$f":"'Sheet3 (2)'!I10","v":4.6921655054741693E-3},{"$f":"'Sheet3 (2)'!K10","v":-2.8417163967030436E-4},{"$f":"IF(ISNUMBER(C10),CORREL($B$1:B10,$C$1:C10),\"\")","v":-0.7703644514541278},{"$f":"'Sheet3 (2)'!M10","v":-1.079476453919845E-2},{"$f":"IF(ISNUMBER(E10),CORREL($B$1:B10,$E$1:E10),\"\")","v":-0.28937061000650699},{"$f":"'Sheet3 (2)'!O10","v":1.0020311442112514E-2},{"$f":"IF(ISNUMBER(G10),CORREL($B$1:B10,$G$1:G10),\"\")","v":0.83943624709250908},{"$f":"'Sheet3 (2)'!Q10","v":-1.2195121951219974E-3},{"$f":"IF(ISNUMBER(I10),CORREL($B$1:B10,$I$1:I10),\"\")","v":-0.83605026627737489},{"$f":"'Sheet3 (2)'!S10","v":-3.9758705785576101E-3},{"$f":"IF(ISNUMBER(K10),CORREL($B$1:B10,$K$1:K10),\"\")","v":0.89323577842980961},{"$f":"'Sheet3 (2)'!U10","v":-3.7766387914756022E-3},{"$f":"IF(ISNUMBER(M10),CORREL($B$1:B10,$M$1:M10),\"\")","v":-0.77717068476548101},{"$f":"'Sheet3 (2)'!W10","v":1.7040843927508861E-2},{"$f":"IF(ISNUMBER(O10),CORREL($B$1:B10,$O$1:O10),\"\")","v":0.70595755179724573},{"$f":"'Sheet3 (2)'!Y10","v":-5.2596089008766084E-3},{"$f":"IF(ISNUMBER(Q10),CORREL($B$1:B10,$Q$1:Q10),\"\")","v":-0.61056567512434823},{"$f":"'Sheet3 (2)'!AA10","v":8.4411164057180445E-3},{"$f":"IF(ISNUMBER(S10),CORREL($B$1:B10,$S$1:S10),\"\")","v":0.85408258915299828}]
[null,{"$f":"'Sheet3 (2)'!I11","v":2.8437366699843999E-3},{"$f":"'Sheet3 (2)'!K11","v":2.6996305768683965E-3},{"$f":"IF(ISNUMBER(C11),CORREL($B$1:B11,$C$1:C11),\"\")","v":-0.76863685821070571},{"$f":"'Sheet3 (2)'!M11","v":-1.079476453919845E-2},{"$f":"IF(ISNUMBER(E11),CORREL($B$1:B11,$E$1:E11),\"\")","v":-0.2890325134865957},{"$f":"'Sheet3 (2)'!O11","v":9.2078537576168844E-3},{"$f":"IF(ISNUMBER(G11),CORREL($B$1:B11,$G$1:G11),\"\")","v":0.81999852823469976},{"$f":"'Sheet3 (2)'!Q11","v":-2.3035230352303755E-3},{"$f":"IF(ISNUMBER(I11),CORREL($B$1:B11,$I$1:I11),\"\")","v":-0.7318289161515027},{"$f":"'Sheet3 (2)'!S11","v":-3.7016726076226493E-3},{"$f":"IF(ISNUMBER(K11),CORREL($B$1:B11,$K$1:K11),\"\")","v":0.80211403382612978},{"$f":"'Sheet3 (2)'!U11","v":-2.9673590504450884E-3},{"$f":"IF(ISNUMBER(M11),CORREL($B$1:B11,$M$1:M11),\"\")","v":-0.76731058981330669},{"$f":"'Sheet3 (2)'!W11","v":1.7581823099810618E-2},{"$f":"IF(ISNUMBER(O11),CORREL($B$1:B11,$O$1:O11),\"\")","v":0.566226647316594},{"$f":"'Sheet3 (2)'!Y11","v":-4.5853000674309294E-3},{"$f":"IF(ISNUMBER(Q11),CORREL($B$1:B11,$Q$1:Q11),\"\")","v":-0.59743274081067177},{"$f":"'Sheet3 (2)'!AA11","v":1.0755616065350471E-2},{"$f":"IF(ISNUMBER(S11),CORREL($B$1:B11,$S$1:S11),\"\")","v":0.60625415853037323}]
[null,{"$f":"'Sheet3 (2)'!I12","v":2.1328025024883505E-3},{"$f":"'Sheet3 (2)'!K12","v":1.1366865586814195E-3},{"$f":"IF(ISNUMBER(C12),CORREL($B$1:B12,$C$1:C12),\"\")","v":-0.73875633167962307},{"$f":"'Sheet3 (2)'!M12","v":-9.9851571987585337E-3},{"$f":"IF(ISNUMBER(E12),CORREL($B$1:B12,$E$1:E12),\"\")","v":-0.32975802598987747},{"$f":"'Sheet3 (2)'!O12","v":8.3953960731212533E-3},{"$f":"IF(ISNUMBER(G12),CORREL($B$1:B12,$G$1:G12),\"\")","v":0.79793166823917416},{"$f":"'Sheet3 (2)'!Q12","v":-1.4905149051490439E-3},{"$f":"IF(ISNUMBER(I12),CORREL($B$1:B12,$I$1:I12),\"\")","v":-0.63447341113258404},{"$f":"'Sheet3 (2)'!S12","v":-2.8790786948175726E-3},{"$f":"IF(ISNUMBER(K12),CORREL($B$1:B12,$K$1:K12),\"\")","v":0.6067436141644339},{"$f":"'Sheet3 (2)'!U12","v":-2.023199352576284E-3},{"$f":"IF(ISNUMBER(M12),CORREL($B$1:B12,$M$1:M12),\"\")","v":-0.75361959326993089},{"$f":"'Sheet3 (2)'!W12","v":9.8728698945091155E-3},{"$f":"IF(ISNUMBER(O12),CORREL($B$1:B12,$O$1:O12),\"\")","v":0.43867439368698796},{"$f":"'Sheet3 (2)'!Y12","v":-5.1247471341875879E-3},{"$f":"IF(ISNUMBER(Q12),CORREL($B$1:B12,$Q$1:Q12),\"\")","v":-0.51068563939475864},{"$f":"'Sheet3 (2)'!AA12","v":9.1218515997277295E-3},{"$f":"IF(ISNUMBER(S12),CORREL($B$1:B12,$S$1:S12),\"\")","v":0.46038524343933934}]
[null,{"$f":"'Sheet3 (2)'!I13","v":2.9859235034836906E-3},{"$f":"'Sheet3 (2)'!K13","v":4.9730036942314372E-3},{"$f":"IF(ISNUMBER(C13),CORREL($B$1:B13,$C$1:C13),\"\")","v":-0.70202801179135932},{"$f":"'Sheet3 (2)'!M13","v":-8.9056807448387072E-3},{"$f":"IF(ISNUMBER(E13),CORREL($B$1:B13,$E$1:E13),\"\")","v":-0.20594285014875593},{"$f":"'Sheet3 (2)'!O13","v":6.4996614759648477E-3},{"$f":"IF(ISNUMBER(G13),CORREL($B$1:B13,$G$1:G13),\"\")","v":0.72838560142676623},{"$f":"'Sheet3 (2)'!Q13","v":-8.4010840108399779E-3},{"$f":"IF(ISNUMBER(I13),CORREL($B$1:B13,$I$1:I13),\"\")","v":-0.4170854808224817},{"$f":"'Sheet3 (2)'!S13","v":-6.5807513024404166E-3},{"$f":"IF(ISNUMBER(K13),CORREL($B$1:B13,$K$1:K13),\"\")","v":0.59775309422465306},{"$f":"'Sheet3 (2)'!U13","v":-3.1022390072835714E-3},{"$f":"IF(ISNUMBER(M13),CORREL($B$1:B13,$M$1:M13),\"\")","v":-0.7516801814281121},{"$f":"'Sheet3 (2)'!W13","v":2.2991614822829554E-3},{"$f":"IF(ISNUMBER(O13),CORREL($B$1:B13,$O$1:O13),\"\")","v":0.13954552319612143},{"$f":"'Sheet3 (2)'!Y13","v":-8.2265677680377538E-3},{"$f":"IF(ISNUMBER(Q13),CORREL($B$1:B13,$Q$1:Q13),\"\")","v":-0.44754264384396292},{"$f":"'Sheet3 (2)'!AA13","v":8.4411164057180445E-3},{"$f":"IF(ISNUMBER(S13),CORREL($B$1:B13,$S$1:S13),\"\")","v":0.45774366767414443}]
[null,{"$f":"'Sheet3 (2)'!I14","v":1.9906156689890597E-3},{"$f":"'Sheet3 (2)'!K14","v":2.9838022165389025E-3},{"$f":"IF(ISNUMBER(C14),CORREL($B$1:B14,$C$1:C14),\"\")","v":-0.69704906002846867},{"$f":"'Sheet3 (2)'!M14","v":-9.3104844150586653E-3},{"$f":"IF(ISNUMBER(E14),CORREL($B$1:B14,$E$1:E14),\"\")","v":-0.26688452140077201},{"$f":"'Sheet3 (2)'!O14","v":7.1767095463778092E-3},{"$f":"IF(ISNUMBER(G14),CORREL($B$1:B14,$G$1:G14),\"\")","v":0.73724458695498274},{"$f":"'Sheet3 (2)'!Q14","v":-9.8915989159892147E-3},{"$f":"IF(ISNUMBER(I14),CORREL($B$1:B14,$I$1:I14),\"\")","v":-0.16756631066339958},{"$f":"'Sheet3 (2)'!S14","v":1.3709898546751924E-3},{"$f":"IF(ISNUMBER(K14),CORREL($B$1:B14,$K$1:K14),\"\")","v":0.25771285032854924},{"$f":"'Sheet3 (2)'!U14","v":-2.2929592662530576E-3},{"$f":"IF(ISNUMBER(M14),CORREL($B$1:B14,$M$1:M14),\"\")","v":-0.72782356603677767},{"$f":"'Sheet3 (2)'!W14","v":2.8401406545849064E-3},{"$f":"IF(ISNUMBER(O14),CORREL($B$1:B14,$O$1:O14),\"\")","v":0.23162197289047601},{"$f":"'Sheet3 (2)'!Y14","v":-6.8779501011463932E-3},{"$f":"IF(ISNUMBER(Q14),CORREL($B$1:B14,$Q$1:Q14),\"\")","v":-0.33498907365487035},{"$f":"'Sheet3 (2)'!AA14","v":8.8495575221237775E-3},{"$f":"IF(ISNUMBER(S14),CORREL($B$1:B14,$S$1:S14),\"\")","v":0.36197092546395482}]
[null,{"$f":"'Sheet3 (2)'!I15","v":3.9812313379781195E-3},{"$f":"'Sheet3 (2)'!K15","v":-3.4100596760442583E-3},{"$f":"IF(ISNUMBER(C15),CORREL($B$1:B15,$C$1:C15),\"\")","v":-0.73484947693607383},{"$f":"'Sheet3 (2)'!M15","v":-1.0524895425718541E-2},{"$f":"IF(ISNUMBER(E15),CORREL($B$1:B15,$E$1:E15),\"\")","v":-0.2533293492027871},{"$f":"'Sheet3 (2)'!O15","v":7.1767095463778092E-3},{"$f":"IF(ISNUMBER(G15),CORREL($B$1:B15,$G$1:G15),\"\")","v":0.63784526059810509},{"$f":"'Sheet3 (2)'!Q15","v":-8.4010840108399779E-3},{"$f":"IF(ISNUMBER(I15),CORREL($B$1:B15,$I$1:I15),\"\")","v":-0.29055306770214268},{"$f":"'Sheet3 (2)'!S15","v":5.0726624622978419E-3},{"$f":"IF(ISNUMBER(K15),CORREL($B$1:B15,$K$1:K15),\"\")","v":0.40361545305423757},{"$f":"'Sheet3 (2)'!U15","v":-2.023199352576284E-3},{"$f":"IF(ISNUMBER(M15),CORREL($B$1:B15,$M$1:M15),\"\")","v":-0.68549968203281186},{"$f":"'Sheet3 (2)'!W15","v":-6.8974844468486732E-3},{"$f":"IF(ISNUMBER(O15),CORREL($B$1:B15,$O$1:O15),\"\")","v":-9.4875315480593414E-2},{"$f":"'Sheet3 (2)'!Y15","v":-6.4733648010789476E-3},{"$f":"IF(ISNUMBER(Q15),CORREL($B$1:B15,$Q$1:Q15),\"\")","v":-0.39517479530589256},{"$f":"'Sheet3 (2)'!AA15","v":1.0755616065350471E-2},{"$f":"IF(ISNUMBER(S15),CORREL($B$1:B15,$S$1:S15),\"\")","v":0.44674158354450322}]
[null,{"$f":"'Sheet3 (2)'!I16","v":6.54059434096414E-3},{"$f":"'Sheet3 (2)'!K16","v":-2.273373117362839E-3},{"$f":"IF(ISNUMBER(C16),CORREL($B$1:B16,$C$1:C16),\"\")","v":-0.71176308792121601},{"$f":"'Sheet3 (2)'!M16","v":-1.0255026312238633E-2},{"$f":"IF(ISNUMBER(E16),CORREL($B$1:B16,$E$1:E16),\"\")","v":-0.12530370189760004},{"$f":"'Sheet3 (2)'!O16","v":7.312119160460478E-3},{"$f":"IF(ISNUMBER(G16),CORREL($B$1:B16,$G$1:G16),\"\")","v":0.37669344997287901},{"$f":"'Sheet3 (2)'!Q16","v":-4.0650406504064655E-3},{"$f":"IF(ISNUMBER(I16),CORREL($B$1:B16,$I$1:I16),\"\")","v":-0.31233856907513297},{"$f":"'Sheet3 (2)'!S16","v":5.0726624622978419E-3},{"$f":"IF(ISNUMBER(K16),CORREL($B$1:B16,$K$1:K16),\"\")","v":0.62759662871246658},{"$f":"'Sheet3 (2)'!U16","v":-2.5627191799298316E-3},{"$f":"IF(ISNUMBER(M16),CORREL($B$1:B16,$M$1:M16),\"\")","v":-0.55113095065845352},{"$f":"'Sheet3 (2)'!W16","v":-7.7089532053015043E-3},{"$f":"IF(ISNUMBER(O16),CORREL($B$1:B16,$O$1:O16),\"\")","v":-0.46006876090148979},{"$f":"'Sheet3 (2)'!Y16","v":-5.2596089008766084E-3},{"$f":"IF(ISNUMBER(Q16),CORREL($B$1:B16,$Q$1:Q16),\"\")","v":-0.36825451705844342},{"$f":"'Sheet3 (2)'!AA16","v":1.0619469026548688E-2},{"$f":"IF(ISNUMBER(S16),CORREL($B$1:B16,$S$1:S16),\"\")","v":0.5467137142088595}]
[null,{"$f":"'Sheet3 (2)'!I17","v":7.5359021754585693E-3},{"$f":"'Sheet3 (2)'!K17","v":-1.8471156578572813E-3},{"$f":"IF(ISNUMBER(C17),CORREL($B$1:B17,$C$1:C17),\"\")","v":-0.68495803720255988},{"$f":"'Sheet3 (2)'!M17","v":-1.2144110106598377E-2},{"$f":"IF(ISNUMBER(E17),CORREL($B$1:B17,$E$1:E17),\"\")","v":-0.38294309087136474},{"$f":"'Sheet3 (2)'!O17","v":6.2288422477997018E-3},{"$f":"IF(ISNUMBER(G17),CORREL($B$1:B17,$G$1:G17),\"\")","v":8.2249864561834626E-2},{"$f":"'Sheet3 (2)'!Q17","v":-5.149051490514844E-3},{"$f":"IF(ISNUMBER(I17),CORREL($B$1:B17,$I$1:I17),\"\")","v":-0.36690338642649645},{"$f":"'Sheet3 (2)'!S17","v":5.7581573896353403E-3},{"$f":"IF(ISNUMBER(K17),CORREL($B$1:B17,$K$1:K17),\"\")","v":0.7342251024782992},{"$f":"'Sheet3 (2)'!U17","v":-1.3487995683840615E-3},{"$f":"IF(ISNUMBER(M17),CORREL($B$1:B17,$M$1:M17),\"\")","v":-0.34182728024422276},{"$f":"'Sheet3 (2)'!W17","v":-5.0040573437923255E-3},{"$f":"IF(ISNUMBER(O17),CORREL($B$1:B17,$O$1:O17),\"\")","v":-0.59212129270011549},{"$f":"'Sheet3 (2)'!Y17","v":-5.1247471341875879E-3},{"$f":"IF(ISNUMBER(Q17),CORREL($B$1:B17,$Q$1:Q17),\"\")","v":-0.34512013577837147},{"$f":"'Sheet3 (2)'!AA17","v":1.0211027910142953E-2},{"$f":"IF(ISNUMBER(S17),CORREL($B$1:B17,$S$1:S17),\"\")","v":0.58759623036099606}]
[null,{"$f":"'Sheet3 (2)'!I18","v":7.1093416749608987E-3},{"$f":"'Sheet3 (2)'!K18","v":1.2787723785166725E-3},{"$f":"IF(ISNUMBER(C18),CORREL($B$1:B18,$C$1:C18),\"\")","v":-0.60986204308556224},{"$f":"'Sheet3 (2)'!M18","v":-1.9835379840777208E-2},{"$f":"IF(ISNUMBER(E18),CORREL($B$1:B18,$E$1:E18),\"\")","v":-0.56524724799698856},{"$f":"'Sheet3 (2)'!O18","v":2.4373730534868903E-3},{"$f":"IF(ISNUMBER(G18),CORREL($B$1:B18,$G$1:G18),\"\")","v":-0.28134554238581738},{"$f":"'Sheet3 (2)'!Q18","v":-5.4200542005418901E-3},{"$f":"IF(ISNUMBER(I18),CORREL($B$1:B18,$I$1:I18),\"\")","v":-0.41411886508235329},{"$f":"'Sheet3 (2)'!S18","v":5.0726624622978419E-3},{"$f":"IF(ISNUMBER(K18),CORREL($B$1:B18,$K$1:K18),\"\")","v":0.7810747710322764},{"$f":"'Sheet3 (2)'!U18","v":-2.1580793094145749E-3},{"$f":"IF(ISNUMBER(M18),CORREL($B$1:B18,$M$1:M18),\"\")","v":-0.30857239027667566},{"$f":"'Sheet3 (2)'!W18","v":-6.0860156883960357E-3},{"$f":"IF(ISNUMBER(O18),CORREL($B$1:B18,$O$1:O18),\"\")","v":-0.66654680444796555},{"$f":"'Sheet3 (2)'!Y18","v":-5.6641942009440548E-3},{"$f":"IF(ISNUMBER(Q18),CORREL($B$1:B18,$Q$1:Q18),\"\")","v":-0.3725418749738853},{"$f":"'Sheet3 (2)'!AA18","v":1.1572498298161937E-2},{"$f":"IF(ISNUMBER(S18),CORREL($B$1:B18,$S$1:S18),\"\")","v":0.64956794106157645}]
[null,{"$f":"'Sheet3 (2)'!I19","v":6.2562206739655585E-3},{"$f":"'Sheet3 (2)'!K19","v":-1.8471156578572813E-3},{"$f":"IF(ISNUMBER(C19),CORREL($B$1:B19,$C$1:C19),\"\")","v":-0.63419766007974676},{"$f":"'Sheet3 (2)'!M19","v":-5.5323168263391792E-3},{"$f":"IF(ISNUMBER(E19),CORREL($B$1:B19,$E$1:E19),\"\")","v":-0.30512292142004299},{"$f":"'Sheet3 (2)'!O19","v":1.7603249830739293E-3},{"$f":"IF(ISNUMBER(G19),CORREL($B$1:B19,$G$1:G19),\"\")","v":-0.40818943670141306},{"$f":"'Sheet3 (2)'!Q19","v":-5.5555555555555098E-3},{"$f":"IF(ISNUMBER(I19),CORREL($B$1:B19,$I$1:I19),\"\")","v":-0.44869432057262115},{"$f":"'Sheet3 (2)'!S19","v":5.48395941870038E-3},{"$f":"IF(ISNUMBER(K19),CORREL($B$1:B19,$K$1:K19),\"\")","v":0.80640024787057518},{"$f":"'Sheet3 (2)'!U19","v":-1.2139196115457703E-3},{"$f":"IF(ISNUMBER(M19),CORREL($B$1:B19,$M$1:M19),\"\")","v":-0.24385980969029072},{"$f":"'Sheet3 (2)'!W19","v":-5.8155261022449639E-3},{"$f":"IF(ISNUMBER(O19),CORREL($B$1:B19,$O$1:O19),\"\")","v":-0.70384680512060416},{"$f":"'Sheet3 (2)'!Y19","v":-3.1018206338503567E-3},{"$f":"IF(ISNUMBER(Q19),CORREL($B$1:B19,$Q$1:Q19),\"\")","v":-0.3027274088462143},{"$f":"'Sheet3 (2)'!AA19","v":1.0074880871340978E-2},{"$f":"IF(ISNUMBER(S19),CORREL($B$1:B19,$S$1:S19),\"\")","v":0.67124609637726862}]
[null,{"$f":"'Sheet3 (2)'!I20","v":6.54059434096414E-3},{"$f":"'Sheet3 (2)'!K20","v":-2.6996305768683965E-3},{"$f":"IF(ISNUMBER(C20),CORREL($B$1:B20,$C$1:C20),\"\")","v":-0.6629776382773187},{"$f":"'Sheet3 (2)'!M20","v":-1.1874240993118276E-2},{"$f":"IF(ISNUMBER(E20),CORREL($B$1:B20,$E$1:E20),\"\")","v":-0.31755645071517113},{"$f":"'Sheet3 (2)'!O20","v":1.895734597156406E-3},{"$f":"IF(ISNUMBER(G20),CORREL($B$1:B20,$G$1:G20),\"\")","v":-0.49488361464224567},{"$f":"'Sheet3 (2)'!Q20","v":-4.4715447154471313E-3},{"$f":"IF(ISNUMBER(I20),CORREL($B$1:B20,$I$1:I20),\"\")","v":-0.46133008407666348},{"$f":"'Sheet3 (2)'!S20","v":7.1291472443103382E-3},{"$f":"IF(ISNUMBER(K20),CORREL($B$1:B20,$K$1:K20),\"\")","v":0.82883160707236136},{"$f":"'Sheet3 (2)'!U20","v":-1.0790396547072875E-3},{"$f":"IF(ISNUMBER(M20),CORREL($B$1:B20,$M$1:M20),\"\")","v":-0.17890520772895846},{"$f":"'Sheet3 (2)'!W20","v":-5.9507708953204994E-3},{"$f":"IF(ISNUMBER(O20),CORREL($B$1:B20,$O$1:O20),\"\")","v":-0.73389137300028562},{"$f":"'Sheet3 (2)'!Y20","v":-4.4504383007419081E-3},{"$f":"IF(ISNUMBER(Q20),CORREL($B$1:B20,$Q$1:Q20),\"\")","v":-0.29146158789391347},{"$f":"'Sheet3 (2)'!AA20","v":1.0619469026548688E-2},{"$f":"IF(ISNUMBER(S20),CORREL($B$1:B20,$S$1:S20),\"\")","v":0.69410010485169515}]
[null,{"$f":"'Sheet3 (2)'!I21","v":8.3890231764539094E-3},{"$f":"'Sheet3 (2)'!K21","v":-1.1366865586814396E-2},{"$f":"IF(ISNUMBER(C21),CORREL($B$1:B21,$C$1:C21),\"\")","v":-0.74623726037607629},{"$f":"'Sheet3 (2)'!M21","v":-1.1334502766158459E-2},{"$f":"IF(ISNUMBER(E21),CORREL($B$1:B21,$E$1:E21),\"\")","v":-0.30084792052781223},{"$f":"'Sheet3 (2)'!O21","v":3.2498307379825201E-3},{"$f":"IF(ISNUMBER(G21),CORREL($B$1:B21,$G$1:G21),\"\")","v":-0.56323896757291692},{"$f":"'Sheet3 (2)'!Q21","v":-2.574525745257422E-3},{"$f":"IF(ISNUMBER(I21),CORREL($B$1:B21,$I$1:I21),\"\")","v":-0.41255871644436365},{"$f":"'Sheet3 (2)'!S21","v":8.5001370989855295E-3},{"$f":"IF(ISNUMBER(K21),CORREL($B$1:B21,$K$1:K21),\"\")","v":0.856508404843212},{"$f":"'Sheet3 (2)'!U21","v":1.3487995683848282E-4},{"$f":"IF(ISNUMBER(M21),CORREL($B$1:B21,$M$1:M21),\"\")","v":-2.8923534352192611E-3},{"$f":"'Sheet3 (2)'!W21","v":-1.0954828239112825E-2},{"$f":"IF(ISNUMBER(O21),CORREL($B$1:B21,$O$1:O21),\"\")","v":-0.77728085937607072},{"$f":"'Sheet3 (2)'!Y21","v":-6.2036412677007133E-3},{"$f":"IF(ISNUMBER(Q21),CORREL($B$1:B21,$Q$1:Q21),\"\")","v":-0.34758742789864067},{"$f":"'Sheet3 (2)'!AA21","v":1.0347174948944736E-2},{"$f":"IF(ISNUMBER(S21),CORREL($B$1:B21,$S$1:S21),\"\")","v":0.69815407121241846}]
[null,{"$f":"'Sheet3 (2)'!I22","v":7.2515285084601899E-3},{"$f":"'Sheet3 (2)'!K22","v":-1.0088093208297724E-2},{"$f":"IF(ISNUMBER(C22),CORREL($B$1:B22,$C$1:C22),\"\")","v":-0.77144158487301862},{"$f":"'Sheet3 (2)'!M22","v":-1.1604371879638368E-2},{"$f":"IF(ISNUMBER(E22),CORREL($B$1:B22,$E$1:E22),\"\")","v":-0.30498108786178507},{"$f":"'Sheet3 (2)'!O22","v":1.6249153689912601E-3},{"$f":"IF(ISNUMBER(G22),CORREL($B$1:B22,$G$1:G22),\"\")","v":-0.61474713933876013},{"$f":"'Sheet3 (2)'!Q22","v":-2.1680216802167562E-3},{"$f":"IF(ISNUMBER(I22),CORREL($B$1:B22,$I$1:I22),\"\")","v":-0.38659507123781012},{"$f":"'Sheet3 (2)'!S22","v":8.5001370989855295E-3},{"$f":"IF(ISNUMBER(K22),CORREL($B$1:B22,$K$1:K22),\"\")","v":0.8710683255049978},{"$f":"'Sheet3 (2)'!U22","v":-1.3487995683848282E-4},{"$f":"IF(ISNUMBER(M22),CORREL($B$1:B22,$M$1:M22),\"\")","v":7.646645660436871E-2},{"$f":"'Sheet3 (2)'!W22","v":-9.73762510143358E-3},{"$f":"IF(ISNUMBER(O22),CORREL($B$1:B22,$O$1:O22),\"\")","v":-0.79905923617042784},{"$f":"'Sheet3 (2)'!Y22","v":-6.7430883344571811E-3},{"$f":"IF(ISNUMBER(Q22),CORREL($B$1:B22,$Q$1:Q22),\"\")","v":-0.39637602180561937},{"$f":"'Sheet3 (2)'!AA22","v":9.9387338325391955E-3},{"$f":"IF(ISNUMBER(S22),CORREL($B$1:B22,$S$1:S22),\"\")","v":0.70669403790939445}]
[null,{"$f":"'Sheet3 (2)'!I23","v":6.9671548414616084E-3},{"$f":"'Sheet3 (2)'!K23","v":-9.8039215686274196E-3},{"$f":"IF(ISNUMBER(C23),CORREL($B$1:B23,$C$1:C23),\"\")","v":-0.78637241332872143},{"$f":"'Sheet3 (2)'!M23","v":-1.403319390095812E-2},{"$f":"IF(ISNUMBER(E23),CORREL($B$1:B23,$E$1:E23),\"\")","v":-0.35228190625867689},{"$f":"'Sheet3 (2)'!O23","v":1.895734597156406E-3},{"$f":"IF(ISNUMBER(G23),CORREL($B$1:B23,$G$1:G23),\"\")","v":-0.64647059204329937},{"$f":"'Sheet3 (2)'!Q23","v":-3.9295392953928466E-3},{"$f":"IF(ISNUMBER(I23),CORREL($B$1:B23,$I$1:I23),\"\")","v":-0.39432664757327757},{"$f":"'Sheet3 (2)'!S23","v":5.48395941870038E-3},{"$f":"IF(ISNUMBER(K23),CORREL($B$1:B23,$K$1:K23),\"\")","v":0.87785767991557773},{"$f":"'Sheet3 (2)'!U23","v":-1.3487995683840615E-3},{"$f":"IF(ISNUMBER(M23),CORREL($B$1:B23,$M$1:M23),\"\")","v":9.0591992564477156E-2},{"$f":"'Sheet3 (2)'!W23","v":-1.0143359480659996E-2},{"$f":"IF(ISNUMBER(O23),CORREL($B$1:B23,$O$1:O23),\"\")","v":-0.81381286814457243},{"$f":"'Sheet3 (2)'!Y23","v":-6.4733648010789476E-3},{"$f":"IF(ISNUMBER(Q23),CORREL($B$1:B23,$Q$1:Q23),\"\")","v":-0.42732451784589909},{"$f":"'Sheet3 (2)'!AA23","v":1.0483321987746711E-2},{"$f":"IF(ISNUMBER(S23),CORREL($B$1:B23,$S$1:S23),\"\")","v":0.71944238111424597}]
[null,{"$f":"'Sheet3 (2)'!I24","v":7.5359021754585693E-3},{"$f":"'Sheet3 (2)'!K24","v":-1.1793123046319954E-2},{"$f":"IF(ISNUMBER(C24),CORREL($B$1:B24,$C$1:C24),\"\")","v":-0.80409364987449783},{"$f":"'Sheet3 (2)'!M24","v":-1.2548913776818143E-2},{"$f":"IF(ISNUMBER(E24),CORREL($B$1:B24,$E$1:E24),\"\")","v":-0.37082016145239061},{"$f":"'Sheet3 (2)'!O24","v":2.5727826675695591E-3},{"$f":"IF(ISNUMBER(G24),CORREL($B$1:B24,$G$1:G24),\"\")","v":-0.67367225613245751},{"$f":"'Sheet3 (2)'!Q24","v":-1.8970189701897097E-3},{"$f":"IF(ISNUMBER(I24),CORREL($B$1:B24,$I$1:I24),\"\")","v":-0.36662441175383503},{"$f":"'Sheet3 (2)'!S24","v":7.5404442007128763E-3},{"$f":"IF(ISNUMBER(K24),CORREL($B$1:B24,$K$1:K24),\"\")","v":0.88719249020418933},{"$f":"'Sheet3 (2)'!U24","v":-4.8556784461828897E-3},{"$f":"IF(ISNUMBER(M24),CORREL($B$1:B24,$M$1:M24),\"\")","v":-4.0276708935664818E-2},{"$f":"'Sheet3 (2)'!W24","v":-1.3118744928320245E-2},{"$f":"IF(ISNUMBER(O24),CORREL($B$1:B24,$O$1:O24),\"\")","v":-0.83044306779386701},{"$f":"'Sheet3 (2)'!Y24","v":-5.7990559676332678E-3},{"$f":"IF(ISNUMBER(Q24),CORREL($B$1:B24,$Q$1:Q24),\"\")","v":-0.4416526013706375},{"$f":"'Sheet3 (2)'!AA24","v":1.0891763104152446E-2},{"$f":"IF(ISNUMBER(S24),CORREL($B$1:B24,$S$1:S24),\"\")","v":0.73303893743001813}]
[null,{"$f":"'Sheet3 (2)'!I25","v":7.8202758424569477E-3},{"$f":"'Sheet3 (2)'!K25","v":-1.1224779766979142E-2},{"$f":"IF(ISNUMBER(C25),CORREL($B$1:B25,$C$1:C25),\"\")","v":-0.82199446263980136},{"$f":"'Sheet3 (2)'!M25","v":-1.592227769531767E-2},{"$f":"IF(ISNUMBER(E25),CORREL($B$1:B25,$E$1:E25),\"\")","v":-0.43702175225815043},{"$f":"'Sheet3 (2)'!O25","v":2.0311442112390752E-3},{"$f":"IF(ISNUMBER(G25),CORREL($B$1:B25,$G$1:G25),\"\")","v":-0.70039278357223511},{"$f":"'Sheet3 (2)'!Q25","v":4.065040650406658E-4},{"$f":"IF(ISNUMBER(I25),CORREL($B$1:B25,$I$1:I25),\"\")","v":-0.29708171124761246},{"$f":"'Sheet3 (2)'!S25","v":5.7581573896353403E-3},{"$f":"IF(ISNUMBER(K25),CORREL($B$1:B25,$K$1:K25),\"\")","v":0.88989569649033229},{"$f":"'Sheet3 (2)'!U25","v":-1.281359589964935E-2},{"$f":"IF(ISNUMBER(M25),CORREL($B$1:B25,$M$1:M25),\"\")","v":-0.25927806262057645},{"$f":"'Sheet3 (2)'!W25","v":-1.0684338652961754E-2},{"$f":"IF(ISNUMBER(O25),CORREL($B$1:B25,$O$1:O25),\"\")","v":-0.84259298149105277},{"$f":"'Sheet3 (2)'!Y25","v":-5.5293324342550344E-3},{"$f":"IF(ISNUMBER(Q25),CORREL($B$1:B25,$Q$1:Q25),\"\")","v":-0.44725986730784839},{"$f":"'Sheet3 (2)'!AA25","v":1.0483321987746711E-2},{"$f":"IF(ISNUMBER(S25),CORREL($B$1:B25,$S$1:S25),\"\")","v":0.74044356806584}]
[null,{"$f":"'Sheet3 (2)'!I26","v":8.2468363429546183E-3},{"$f":"'Sheet3 (2)'!K26","v":-1.16510372264847E-2},{"$f":"IF(ISNUMBER(C26),CORREL($B$1:B26,$C$1:C26),\"\")","v":-0.83913589701579228},{"$f":"'Sheet3 (2)'!M26","v":-1.8081230603157514E-2},{"$f":"IF(ISNUMBER(E26),CORREL($B$1:B26,$E$1:E26),\"\")","v":-0.50801874297229055},{"$f":"'Sheet3 (2)'!O26","v":1.2186865267434452E-3},{"$f":"IF(ISNUMBER(G26),CORREL($B$1:B26,$G$1:G26),\"\")","v":-0.72825010454620664},{"$f":"'Sheet3 (2)'!Q26","v":4.065040650406658E-4},{"$f":"IF(ISNUMBER(I26),CORREL($B$1:B26,$I$1:I26),\"\")","v":-0.23176258247613127},{"$f":"'Sheet3 (2)'!S26","v":6.7178502879079944E-3},{"$f":"IF(ISNUMBER(K26),CORREL($B$1:B26,$K$1:K26),\"\")","v":0.89373338641086264},{"$f":"'Sheet3 (2)'!U26","v":-1.3622875640679865E-2},{"$f":"IF(ISNUMBER(M26),CORREL($B$1:B26,$M$1:M26),\"\")","v":-0.38164211862640396},{"$f":"'Sheet3 (2)'!W26","v":-1.1225317825263705E-2},{"$f":"IF(ISNUMBER(O26),CORREL($B$1:B26,$O$1:O26),\"\")","v":-0.8531510512661864},{"$f":"'Sheet3 (2)'!Y26","v":-4.5853000674309294E-3},{"$f":"IF(ISNUMBER(Q26),CORREL($B$1:B26,$Q$1:Q26),\"\")","v":-0.42399821258902565},{"$f":"'Sheet3 (2)'!AA26","v":1.1708645336963914E-2},{"$f":"IF(ISNUMBER(S26),CORREL($B$1:B26,$S$1:S26),\"\")","v":0.755870149184657}]
[null,{"$f":"'Sheet3 (2)'!I27","v":9.9530783449452986E-3},{"$f":"'Sheet3 (2)'!K27","v":-1.278772378516612E-2},{"$f":"IF(ISNUMBER(C27),CORREL($B$1:B27,$C$1:C27),\"\")","v":-0.85916289112299193},{"$f":"'Sheet3 (2)'!M27","v":-1.7946296046417464E-2},{"$f":"IF(ISNUMBER(E27),CORREL($B$1:B27,$E$1:E27),\"\")","v":-0.58541602361789291},{"$f":"'Sheet3 (2)'!O27","v":1.7603249830739293E-3},{"$f":"IF(ISNUMBER(G27),CORREL($B$1:B27,$G$1:G27),\"\")","v":-0.74830471333350512},{"$f":"'Sheet3 (2)'!Q27","v":-4.065040650406658E-4},{"$f":"IF(ISNUMBER(I27),CORREL($B$1:B27,$I$1:I27),\"\")","v":-0.1700201604554262},{"$f":"'Sheet3 (2)'!S27","v":7.9517411571154144E-3},{"$f":"IF(ISNUMBER(K27),CORREL($B$1:B27,$K$1:K27),\"\")","v":0.8921205679334645},{"$f":"'Sheet3 (2)'!U27","v":-1.2543835985972576E-2},{"$f":"IF(ISNUMBER(M27),CORREL($B$1:B27,$M$1:M27),\"\")","v":-0.49769742692705543},{"$f":"'Sheet3 (2)'!W27","v":-1.0684338652961754E-2},{"$f":"IF(ISNUMBER(O27),CORREL($B$1:B27,$O$1:O27),\"\")","v":-0.85306217812237228},{"$f":"'Sheet3 (2)'!Y27","v":-5.3944706675658214E-3},{"$f":"IF(ISNUMBER(Q27),CORREL($B$1:B27,$Q$1:Q27),\"\")","v":-0.4179076096892535},{"$f":"'Sheet3 (2)'!AA27","v":1.2253233492171429E-2},{"$f":"IF(ISNUMBER(S27),CORREL($B$1:B27,$S$1:S27),\"\")","v":0.76943451714571764}]
[null,{"$f":"'Sheet3 (2)'!I28","v":1.2654628181430408E-2},{"$f":"'Sheet3 (2)'!K28","v":-1.4919011082693908E-2},{"$f":"IF(ISNUMBER(C28),CORREL($B$1:B28,$C$1:C28),\"\")","v":-0.87525913773118158},{"$f":"'Sheet3 (2)'!M28","v":-1.9025772500337289E-2},{"$f":"IF(ISNUMBER(E28),CORREL($B$1:B28,$E$1:E28),\"\")","v":-0.66890408397400036},{"$f":"'Sheet3 (2)'!O28","v":2.5727826675695591E-3},{"$f":"IF(ISNUMBER(G28),CORREL($B$1:B28,$G$1:G28),\"\")","v":-0.73236583094596031},{"$f":"'Sheet3 (2)'!Q28","v":-1.8970189701897097E-3},{"$f":"IF(ISNUMBER(I28),CORREL($B$1:B28,$I$1:I28),\"\")","v":-0.13807842505664},{"$f":"'Sheet3 (2)'!S28","v":8.3630381135179517E-3},{"$f":"IF(ISNUMBER(K28),CORREL($B$1:B28,$K$1:K28),\"\")","v":0.86860691112552857},{"$f":"'Sheet3 (2)'!U28","v":-1.213919611545732E-2},{"$f":"IF(ISNUMBER(M28),CORREL($B$1:B28,$M$1:M28),\"\")","v":-0.59878301543820811},{"$f":"'Sheet3 (2)'!W28","v":-1.433594806599949E-2},{"$f":"IF(ISNUMBER(O28),CORREL($B$1:B28,$O$1:O28),\"\")","v":-0.84513655211172967},{"$f":"'Sheet3 (2)'!Y28","v":-6.6082265677681598E-3},{"$f":"IF(ISNUMBER(Q28),CORREL($B$1:B28,$Q$1:Q28),\"\")","v":-0.45085560525769375},{"$f":"'Sheet3 (2)'!AA28","v":1.0347174948944736E-2},{"$f":"IF(ISNUMBER(S28),CORREL($B$1:B28,$S$1:S28),\"\")","v":0.72470751704058434}]
[null,{"$f":"'Sheet3 (2)'!I29","v":1.1374946679937398E-2},{"$f":"'Sheet3 (2)'!K29","v":-1.2503552145495816E-2},{"$f":"IF(ISNUMBER(C29),CORREL($B$1:B29,$C$1:C29),\"\")","v":-0.8831505707567695},{"$f":"'Sheet3 (2)'!M29","v":-1.9160707057077342E-2},{"$f":"IF(ISNUMBER(E29),CORREL($B$1:B29,$E$1:E29),\"\")","v":-0.71538183792863796},{"$f":"'Sheet3 (2)'!O29","v":2.1665538253217444E-3},{"$f":"IF(ISNUMBER(G29),CORREL($B$1:B29,$G$1:G29),\"\")","v":-0.74206153871581026},{"$f":"'Sheet3 (2)'!Q29","v":-1.4905149051490439E-3},{"$f":"IF(ISNUMBER(I29),CORREL($B$1:B29,$I$1:I29),\"\")","v":-0.11286164765798243},{"$f":"'Sheet3 (2)'!S29","v":8.3630381135179517E-3},{"$f":"IF(ISNUMBER(K29),CORREL($B$1:B29,$K$1:K29),\"\")","v":0.86866541125475605},{"$f":"'Sheet3 (2)'!U29","v":-7.6881575397896871E-3},{"$f":"IF(ISNUMBER(M29),CORREL($B$1:B29,$M$1:M29),\"\")","v":-0.61654009806434118},{"$f":"'Sheet3 (2)'!W29","v":-1.4471192859074835E-2},{"$f":"IF(ISNUMBER(O29),CORREL($B$1:B29,$O$1:O29),\"\")","v":-0.85265346801754172},{"$f":"'Sheet3 (2)'!Y29","v":-6.4733648010789476E-3},{"$f":"IF(ISNUMBER(Q29),CORREL($B$1:B29,$Q$1:Q29),\"\")","v":-0.47519164739996228},{"$f":"'Sheet3 (2)'!AA29","v":8.9857045609257526E-3},{"$f":"IF(ISNUMBER(S29),CORREL($B$1:B29,$S$1:S29),\"\")","v":0.69031783846448358}]
[null,{"$f":"'Sheet3 (2)'!I30","v":1.1090573012939019E-2},{"$f":"'Sheet3 (2)'!K30","v":-9.661835748792166E-3},{"$f":"IF(ISNUMBER(C30),CORREL($B$1:B30,$C$1:C30),\"\")","v":-0.88070755989031779},{"$f":"'Sheet3 (2)'!M30","v":-2.0779921737957174E-2},{"$f":"IF(ISNUMBER(E30),CORREL($B$1:B30,$E$1:E30),\"\")","v":-0.750003916931274},{"$f":"'Sheet3 (2)'!O30","v":1.7603249830739293E-3},{"$f":"IF(ISNUMBER(G30),CORREL($B$1:B30,$G$1:G30),\"\")","v":-0.75594934814847059},{"$f":"'Sheet3 (2)'!Q30","v":-5.149051490514844E-3},{"$f":"IF(ISNUMBER(I30),CORREL($B$1:B30,$I$1:I30),\"\")","v":-0.15957560938228332},{"$f":"'Sheet3 (2)'!S30","v":7.4033452152454928E-3},{"$f":"IF(ISNUMBER(K30),CORREL($B$1:B30,$K$1:K30),\"\")","v":0.86736004763653629},{"$f":"'Sheet3 (2)'!U30","v":-9.4415969786890049E-3},{"$f":"IF(ISNUMBER(M30),CORREL($B$1:B30,$M$1:M30),\"\")","v":-0.64645878824685787},{"$f":"'Sheet3 (2)'!W30","v":-1.244252096294295E-2},{"$f":"IF(ISNUMBER(O30),CORREL($B$1:B30,$O$1:O30),\"\")","v":-0.85622526288967971},{"$f":"'Sheet3 (2)'!Y30","v":-6.4733648010789476E-3},{"$f":"IF(ISNUMBER(Q30),CORREL($B$1:B30,$Q$1:Q30),\"\")","v":-0.49576360564873023},{"$f":"'Sheet3 (2)'!AA30","v":9.5302927161334625E-3},{"$f":"IF(ISNUMBER(S30),CORREL($B$1:B30,$S$1:S30),\"\")","v":0.67607873727470946}]
[null,{"$f":"'Sheet3 (2)'!I31","v":{"$error":"#N/A"}},{"$f":"'Sheet3 (2)'!K31","v":-1.1082693947144092E-2},{"$f":"IF(ISNUMBER(C31),CORREL($B$1:B31,$C$1:C31),\"\")","v":{"$error":"#N/A"}},{"$f":"'Sheet3 (2)'!M31","v":-2.1454594521657041E-2},{"$f":"IF(ISNUMBER(E31),CORREL($B$1:B31,$E$1:E31),\"\")","v":{"$error":"#N/A"}},{"$f":"'Sheet3 (2)'!O31","v":2.3019634394042211E-3},{"$f":"IF(ISNUMBER(G31),CORREL($B$1:B31,$G$1:G31),\"\")","v":{"$error":"#N/A"}},{"$f":"'Sheet3 (2)'!Q31","v":-3.9295392953928466E-3},{"$f":"IF(ISNUMBER(I31),CORREL($B$1:B31,$I$1:I31),\"\")","v":{"$error":"#N/A"}},{"$f":"'Sheet3 (2)'!S31","v":7.9517411571154144E-3},{"$f":"IF(ISNUMBER(K31),CORREL($B$1:B31,$K$1:K31),\"\")","v":{"$error":"#N/A"}},{"$f":"'Sheet3 (2)'!U31","v":-7.823037496627978E-3},{"$f":"IF(ISNUMBER(M31),CORREL($B$1:B31,$M$1:M31),\"\")","v":{"$error":"#N/A"}},{"$f":"'Sheet3 (2)'!W31","v":-1.2577765756018294E-2},{"$f":"IF(ISNUMBER(O31),CORREL($B$1:B31,$O$1:O31),\"\")","v":{"$error":"#N/A"}},{"$f":"'Sheet3 (2)'!Y31","v":-6.2036412677007133E-3},{"$f":"IF(ISNUMBER(Q31),CORREL($B$1:B31,$Q$1:Q31),\"\")","v":{"$error":"#N/A"}},{"$f":"'Sheet3 (2)'!AA31","v":1.0891763104152446E-2},{"$f":"IF(ISNUMBER(S31),CORREL($B$1:B31,$S$1:S31),\"\")","v":{"$error":"#N/A"}}]
[null,{"$f":"'Sheet3 (2)'!I32","v":{"$error":"#N/A"}},{"$f":"'Sheet3 (2)'!K32","v":-8.5251491901107476E-3},{"$f":"IF(ISNUMBER(C32),CORREL($B$1:B32,$C$1:C32),\"\")","v":{"$error":"#N/A"}},{"$f":"'Sheet3 (2)'!M32","v":-2.1859398191877003E-2},{"$f":"IF(ISNUMBER(E32),CORREL($B$1:B32,$E$1:E32),\"\")","v":{"$error":"#N/A"}},{"$f":"'Sheet3 (2)'!O32","v":1.2186865267434452E-3},{"$f":"IF(ISNUMBER(G32),CORREL($B$1:B32,$G$1:G32),\"\")","v":{"$error":"#N/A"}},{"$f":"'Sheet3 (2)'!Q32","v":-3.9295392953928466E-3},{"$f":"IF(ISNUMBER(I32),CORREL($B$1:B32,$I$1:I32),\"\")","v":{"$error":"#N/A"}},{"$f":"'Sheet3 (2)'!S32","v":1.179051275020564E-2},{"$f":"IF(ISNUMBER(K32),CORREL($B$1:B32,$K$1:K32),\"\")","v":{"$error":"#N/A"}},{"$f":"'Sheet3 (2)'!U32","v":-8.0927974103047525E-3},{"$f":"IF(ISNUMBER(M32),CORREL($B$1:B32,$M$1:M32),\"\")","v":{"$error":"#N/A"}},{"$f":"'Sheet3 (2)'!W32","v":-1.2172031376791879E-2},{"$f":"IF(ISNUMBER(O32),CORREL($B$1:B32,$O$1:O32),\"\")","v":{"$error":"#N/A"}},{"$f":"'Sheet3 (2)'!Y32","v":-6.2036412677007133E-3},{"$f":"IF(ISNUMBER(Q32),CORREL($B$1:B32,$Q$1:Q32),\"\")","v":{"$error":"#N/A"}},{"$f":"'Sheet3 (2)'!AA32","v":6.6712049012933273E-3},{"$f":"IF(ISNUMBER(S32),CORREL($B$1:B32,$S$1:S32),\"\")","v":{"$error":"#N/A"}}]
[null,{"$f":"'Sheet3 (2)'!I33","v":{"$error":"#N/A"}},{"$f":"'Sheet3 (2)'!K33","v":-7.6726342710996317E-3},{"$f":"IF(ISNUMBER(C33),CORREL($B$1:B33,$C$1:C33),\"\")","v":{"$error":"#N/A"}},{"$f":"'Sheet3 (2)'!M33","v":-2.4558089326676469E-2},{"$f":"IF(ISNUMBER(E33),CORREL($B$1:B33,$E$1:E33),\"\")","v":{"$error":"#N/A"}},{"$f":"'Sheet3 (2)'!O33","v":3.1144211238998509E-3},{"$f":"IF(ISNUMBER(G33),CORREL($B$1:B33,$G$1:G33),\"\")","v":{"$error":"#N/A"}},{"$f":"'Sheet3 (2)'!Q33","v":-4.7425474254741782E-3},{"$f":"IF(ISNUMBER(I33),CORREL($B$1:B33,$I$1:I33),\"\")","v":{"$error":"#N/A"}},{"$f":"'Sheet3 (2)'!S33","v":1.179051275020564E-2},{"$f":"IF(ISNUMBER(K33),CORREL($B$1:B33,$K$1:K33),\"\")","v":{"$error":"#N/A"}},{"$f":"'Sheet3 (2)'!U33","v":-9.1718370650122304E-3},{"$f":"IF(ISNUMBER(M33),CORREL($B$1:B33,$M$1:M33),\"\")","v":{"$error":"#N/A"}},{"$f":"'Sheet3 (2)'!W33","v":-1.2307276169867414E-2},{"$f":"IF(ISNUMBER(O33),CORREL($B$1:B33,$O$1:O33),\"\")","v":{"$error":"#N/A"}},{"$f":"'Sheet3 (2)'!Y33","v":-6.4733648010789476E-3},{"$f":"IF(ISNUMBER(Q33),CORREL($B$1:B33,$Q$1:Q33),\"\")","v":{"$error":"#N/A"}},{"$f":"'Sheet3 (2)'!AA33","v":6.2627637848875935E-3},{"$f":"IF(ISNUMBER(S33),CORREL($B$1:B33,$S$1:S33),\"\")","v":{"$error":"#N/A"}}]
[null,{"$f":"'Sheet3 (2)'!I34","v":{"$error":"#N/A"}},{"$f":"'Sheet3 (2)'!K34","v":-1.0798522307473586E-2},{"$f":"IF(ISNUMBER(C34),CORREL($B$1:B34,$C$1:C34),\"\")","v":{"$error":"#N/A"}},{"$f":"'Sheet3 (2)'!M34","v":-2.2938874645796827E-2},{"$f":"IF(ISNUMBER(E34),CORREL($B$1:B34,$E$1:E34),\"\")","v":{"$error":"#N/A"}},{"$f":"'Sheet3 (2)'!O34","v":2.5727826675695591E-3},{"$f":"IF(ISNUMBER(G34),CORREL($B$1:B34,$G$1:G34),\"\")","v":{"$error":"#N/A"}},{"$f":"'Sheet3 (2)'!Q34","v":-4.4715447154471313E-3},{"$f":"IF(ISNUMBER(I34),CORREL($B$1:B34,$I$1:I34),\"\")","v":{"$error":"#N/A"}},{"$f":"'Sheet3 (2)'!S34","v":1.0693720866465604E-2},{"$f":"IF(ISNUMBER(K34),CORREL($B$1:B34,$K$1:K34),\"\")","v":{"$error":"#N/A"}},{"$f":"'Sheet3 (2)'!U34","v":-8.9020771513352651E-3},{"$f":"IF(ISNUMBER(M34),CORREL($B$1:B34,$M$1:M34),\"\")","v":{"$error":"#N/A"}},{"$f":"'Sheet3 (2)'!W34","v":-7.0327292399242096E-3},{"$f":"IF(ISNUMBER(O34),CORREL($B$1:B34,$O$1:O34),\"\")","v":{"$error":"#N/A"}},{"$f":"'Sheet3 (2)'!Y34","v":-7.1476736345246266E-3},{"$f":"IF(ISNUMBER(Q34),CORREL($B$1:B34,$Q$1:Q34),\"\")","v":{"$error":"#N/A"}},{"$f":"'Sheet3 (2)'!AA34","v":8.8495575221237775E-3},{"$f":"IF(ISNUMBER(S34),CORREL($B$1:B34,$S$1:S34),\"\")","v":{"$error":"#N/A"}}]
[null,{"$f":"'Sheet3 (2)'!I35","v":{"$error":"#N/A"}},{"$f":"'Sheet3 (2)'!K35","v":-8.9514066496163038E-3},{"$f":"IF(ISNUMBER(C35),CORREL($B$1:B35,$C$1:C35),\"\")","v":{"$error":"#N/A"}},{"$f":"'Sheet3 (2)'!M35","v":-2.3613547429496694E-2},{"$f":"IF(ISNUMBER(E35),CORREL($B$1:B35,$E$1:E35),\"\")","v":{"$error":"#N/A"}},{"$f":"'Sheet3 (2)'!O35","v":1.7603249830739293E-3},{"$f":"IF(ISNUMBER(G35),CORREL($B$1:B35,$G$1:G35),\"\")","v":{"$error":"#N/A"}},{"$f":"'Sheet3 (2)'!Q35","v":-5.4200542005418901E-3},{"$f":"IF(ISNUMBER(I35),CORREL($B$1:B35,$I$1:I35),\"\")","v":{"$error":"#N/A"}},{"$f":"'Sheet3 (2)'!S35","v":1.0008225939128106E-2},{"$f":"IF(ISNUMBER(K35),CORREL($B$1:B35,$K$1:K35),\"\")","v":{"$error":"#N/A"}},{"$f":"'Sheet3 (2)'!U35","v":-6.8788777987591736E-3},{"$f":"IF(ISNUMBER(M35),CORREL($B$1:B35,$M$1:M35),\"\")","v":{"$error":"#N/A"}},{"$f":"'Sheet3 (2)'!W35","v":-6.2212604814713785E-3},{"$f":"IF(ISNUMBER(O35),CORREL($B$1:B35,$O$1:O35),\"\")","v":{"$error":"#N/A"}},{"$f":"'Sheet3 (2)'!Y35","v":-4.7201618341201415E-3},{"$f":"IF(ISNUMBER(Q35),CORREL($B$1:B35,$Q$1:Q35),\"\")","v":{"$error":"#N/A"}},{"$f":"'Sheet3 (2)'!AA35","v":6.8073519400953025E-3},{"$f":"IF(ISNUMBER(S35),CORREL($B$1:B35,$S$1:S35),\"\")","v":{"$error":"#N/A"}}]
[null,{"$f":"'Sheet3 (2)'!I36","v":{"$error":"#N/A"}},{"$f":"'Sheet3 (2)'!K36","v":-1.1082693947144092E-2},{"$f":"IF(ISNUMBER(C36),CORREL($B$1:B36,$C$1:C36),\"\")","v":{"$error":"#N/A"}},{"$f":"'Sheet3 (2)'!M36","v":-2.3883416542976602E-2},{"$f":"IF(ISNUMBER(E36),CORREL($B$1:B36,$E$1:E36),\"\")","v":{"$error":"#N/A"}},{"$f":"'Sheet3 (2)'!O36","v":-1.2186865267432526E-3},{"$f":"IF(ISNUMBER(G36),CORREL($B$1:B36,$G$1:G36),\"\")","v":{"$error":"#N/A"}},{"$f":"'Sheet3 (2)'!Q36","v":-5.8265582655825559E-3},{"$f":"IF(ISNUMBER(I36),CORREL($B$1:B36,$I$1:I36),\"\")","v":{"$error":"#N/A"}},{"$f":"'Sheet3 (2)'!S36","v":1.179051275020564E-2},{"$f":"IF(ISNUMBER(K36),CORREL($B$1:B36,$K$1:K36),\"\")","v":{"$error":"#N/A"}},{"$f":"'Sheet3 (2)'!U36","v":-7.823037496627978E-3},{"$f":"IF(ISNUMBER(M36),CORREL($B$1:B36,$M$1:M36),\"\")","v":{"$error":"#N/A"}},{"$f":"'Sheet3 (2)'!W36","v":-3.7868542061130803E-3},{"$f":"IF(ISNUMBER(O36),CORREL($B$1:B36,$O$1:O36),\"\")","v":{"$error":"#N/A"}},{"$f":"'Sheet3 (2)'!Y36","v":-4.8550236008091628E-3},{"$f":"IF(ISNUMBER(Q36),CORREL($B$1:B36,$Q$1:Q36),\"\")","v":{"$error":"#N/A"}},{"$f":"'Sheet3 (2)'!AA36","v":7.0796460176990603E-3},{"$f":"IF(ISNUMBER(S36),CORREL($B$1:B36,$S$1:S36),\"\")","v":{"$error":"#N/A"}}]
[null,{"$f":"'Sheet3 (2)'!I37","v":{"$error":"#N/A"}},{"$f":"'Sheet3 (2)'!K37","v":-1.2219380505825512E-2},{"$f":"IF(ISNUMBER(C37),CORREL($B$1:B37,$C$1:C37),\"\")","v":{"$error":"#N/A"}},{"$f":"'Sheet3 (2)'!M37","v":-2.2803940089056778E-2},{"$f":"IF(ISNUMBER(E37),CORREL($B$1:B37,$E$1:E37),\"\")","v":{"$error":"#N/A"}},{"$f":"'Sheet3 (2)'!O37","v":-1.895734597156406E-3},{"$f":"IF(ISNUMBER(G37),CORREL($B$1:B37,$G$1:G37),\"\")","v":{"$error":"#N/A"}},{"$f":"'Sheet3 (2)'!Q37","v":-5.2845528455284629E-3},{"$f":"IF(ISNUMBER(I37),CORREL($B$1:B37,$I$1:I37),\"\")","v":{"$error":"#N/A"}},{"$f":"'Sheet3 (2)'!S37","v":1.1105017822868142E-2},{"$f":"IF(ISNUMBER(K37),CORREL($B$1:B37,$K$1:K37),\"\")","v":{"$error":"#N/A"}},{"$f":"'Sheet3 (2)'!U37","v":-7.2835176692744299E-3},{"$f":"IF(ISNUMBER(M37),CORREL($B$1:B37,$M$1:M37),\"\")","v":{"$error":"#N/A"}},{"$f":"'Sheet3 (2)'!W37","v":-4.7335677576412537E-3},{"$f":"IF(ISNUMBER(O37),CORREL($B$1:B37,$O$1:O37),\"\")","v":{"$error":"#N/A"}},{"$f":"'Sheet3 (2)'!Y37","v":-4.5853000674309294E-3},{"$f":"IF(ISNUMBER(Q37),CORREL($B$1:B37,$Q$1:Q37),\"\")","v":{"$error":"#N/A"}},{"$f":"'Sheet3 (2)'!AA37","v":7.6242341729067702E-3},{"$f":"IF(ISNUMBER(S37),CORREL($B$1:B37,$S$1:S37),\"\")","v":{"$error":"#N/A"}}]
[null,{"$f":"'Sheet3 (2)'!I38","v":{"$error":"#N/A"}},{"$f":"'Sheet3 (2)'!K38","v":-1.278772378516612E-2},{"$f":"IF(ISNUMBER(C38),CORREL($B$1:B38,$C$1:C38),\"\")","v":{"$error":"#N/A"}},{"$f":"'Sheet3 (2)'!M38","v":-2.3478612872756644E-2},{"$f":"IF(ISNUMBER(E38),CORREL($B$1:B38,$E$1:E38),\"\")","v":{"$error":"#N/A"}},{"$f":"'Sheet3 (2)'!O38","v":-1.3540961408259218E-3},{"$f":"IF(ISNUMBER(G38),CORREL($B$1:B38,$G$1:G38),\"\")","v":{"$error":"#N/A"}},{"$f":"'Sheet3 (2)'!Q38","v":-5.2845528455284629E-3},{"$f":"IF(ISNUMBER(I38),CORREL($B$1:B38,$I$1:I38),\"\")","v":{"$error":"#N/A"}},{"$f":"'Sheet3 (2)'!S38","v":1.179051275020564E-2},{"$f":"IF(ISNUMBER(K38),CORREL($B$1:B38,$K$1:K38),\"\")","v":{"$error":"#N/A"}},{"$f":"'Sheet3 (2)'!U38","v":-9.9811168060425538E-3},{"$f":"IF(ISNUMBER(M38),CORREL($B$1:B38,$M$1:M38),\"\")","v":{"$error":"#N/A"}},{"$f":"'Sheet3 (2)'!W38","v":-4.1925885853394953E-3},{"$f":"IF(ISNUMBER(O38),CORREL($B$1:B38,$O$1:O38),\"\")","v":{"$error":"#N/A"}},{"$f":"'Sheet3 (2)'!Y38","v":-2.8320971004721232E-3},{"$f":"IF(ISNUMBER(Q38),CORREL($B$1:B38,$Q$1:Q38),\"\")","v":{"$error":"#N/A"}},{"$f":"'Sheet3 (2)'!AA38","v":6.6712049012933273E-3},{"$f":"IF(ISNUMBER(S38),CORREL($B$1:B38,$S$1:S38),\"\")","v":{"$error":"#N/A"}}]
[null,{"$f":"'Sheet3 (2)'!I39","v":{"$error":"#N/A"}},{"$f":"'Sheet3 (2)'!K39","v":-1.3213981244671678E-2},{"$f":"IF(ISNUMBER(C39),CORREL($B$1:B39,$C$1:C39),\"\")","v":{"$error":"#N/A"}},{"$f":"'Sheet3 (2)'!M39","v":-2.3883416542976602E-2},{"$f":"IF(ISNUMBER(E39),CORREL($B$1:B39,$E$1:E39),\"\")","v":{"$error":"#N/A"}},{"$f":"'Sheet3 (2)'!O39","v":-8.1245768449543759E-4},{"$f":"IF(ISNUMBER(G39),CORREL($B$1:B39,$G$1:G39),\"\")","v":{"$error":"#N/A"}},{"$f":"'Sheet3 (2)'!Q39","v":-4.3360433604335124E-3},{"$f":"IF(ISNUMBER(I39),CORREL($B$1:B39,$I$1:I39),\"\")","v":{"$error":"#N/A"}},{"$f":"'Sheet3 (2)'!S39","v":1.0967918837400564E-2},{"$f":"IF(ISNUMBER(K39),CORREL($B$1:B39,$K$1:K39),\"\")","v":{"$error":"#N/A"}},{"$f":"'Sheet3 (2)'!U39","v":-1.3757755597518155E-2},{"$f":"IF(ISNUMBER(M39),CORREL($B$1:B39,$M$1:M39),\"\")","v":{"$error":"#N/A"}},{"$f":"'Sheet3 (2)'!W39","v":-4.0573437922641518E-4},{"$f":"IF(ISNUMBER(O39),CORREL($B$1:B39,$O$1:O39),\"\")","v":{"$error":"#N/A"}},{"$f":"'Sheet3 (2)'!Y39","v":-3.5064059339178031E-3},{"$f":"IF(ISNUMBER(Q39),CORREL($B$1:B39,$Q$1:Q39),\"\")","v":{"$error":"#N/A"}},{"$f":"'Sheet3 (2)'!AA39","v":6.5350578624915447E-3},{"$f":"IF(ISNUMBER(S39),CORREL($B$1:B39,$S$1:S39),\"\")","v":{"$error":"#N/A"}}]
[null,{"$f":"'Sheet3 (2)'!I40","v":{"$error":"#N/A"}},{"$f":"'Sheet3 (2)'!K40","v":-1.2361466325660563E-2},{"$f":"IF(ISNUMBER(C40),CORREL($B$1:B40,$C$1:C40),\"\")","v":{"$error":"#N/A"}},{"$f":"'Sheet3 (2)'!M40","v":-2.2399136418836819E-2},{"$f":"IF(ISNUMBER(E40),CORREL($B$1:B40,$E$1:E40),\"\")","v":{"$error":"#N/A"}},{"$f":"'Sheet3 (2)'!O40","v":5.4163845633048414E-4},{"$f":"IF(ISNUMBER(G40),CORREL($B$1:B40,$G$1:G40),\"\")","v":{"$error":"#N/A"}},{"$f":"'Sheet3 (2)'!Q40","v":-4.0650406504064655E-3},{"$f":"IF(ISNUMBER(I40),CORREL($B$1:B40,$I$1:I40),\"\")","v":{"$error":"#N/A"}},{"$f":"'Sheet3 (2)'!S40","v":1.2613106663010718E-2},{"$f":"IF(ISNUMBER(K40),CORREL($B$1:B40,$K$1:K40),\"\")","v":{"$error":"#N/A"}},{"$f":"'Sheet3 (2)'!U40","v":-1.3083355813326125E-2},{"$f":"IF(ISNUMBER(M40),CORREL($B$1:B40,$M$1:M40),\"\")","v":{"$error":"#N/A"}},{"$f":"'Sheet3 (2)'!W40","v":-2.7048958615087936E-4},{"$f":"IF(ISNUMBER(O40),CORREL($B$1:B40,$O$1:O40),\"\")","v":{"$error":"#N/A"}},{"$f":"'Sheet3 (2)'!Y40","v":-3.2366824005395697E-3},{"$f":"IF(ISNUMBER(Q40),CORREL($B$1:B40,$Q$1:Q40),\"\")","v":{"$error":"#N/A"}},{"$f":"'Sheet3 (2)'!AA40","v":6.5350578624915447E-3},{"$f":"IF(ISNUMBER(S40),CORREL($B$1:B40,$S$1:S40),\"\")","v":{"$error":"#N/A"}}]
[null,{"$f":"'Sheet3 (2)'!I41","v":{"$error":"#N/A"}},{"$f":"'Sheet3 (2)'!K41","v":-1.1366865586814396E-2},{"$f":"IF(ISNUMBER(C41),CORREL($B$1:B41,$C$1:C41),\"\")","v":{"$error":"#N/A"}},{"$f":"'Sheet3 (2)'!M41","v":-2.3073809202536686E-2},{"$f":"IF(ISNUMBER(E41),CORREL($B$1:B41,$E$1:E41),\"\")","v":{"$error":"#N/A"}},{"$f":"'Sheet3 (2)'!O41","v":6.7704807041315336E-4},{"$f":"IF(ISNUMBER(G41),CORREL($B$1:B41,$G$1:G41),\"\")","v":{"$error":"#N/A"}},{"$f":"'Sheet3 (2)'!Q41","v":-4.4715447154471313E-3},{"$f":"IF(ISNUMBER(I41),CORREL($B$1:B41,$I$1:I41),\"\")","v":{"$error":"#N/A"}},{"$f":"'Sheet3 (2)'!S41","v":1.2064710721140601E-2},{"$f":"IF(ISNUMBER(K41),CORREL($B$1:B41,$K$1:K41),\"\")","v":{"$error":"#N/A"}},{"$f":"'Sheet3 (2)'!U41","v":-1.281359589964935E-2},{"$f":"IF(ISNUMBER(M41),CORREL($B$1:B41,$M$1:M41),\"\")","v":{"$error":"#N/A"}},{"$f":"'Sheet3 (2)'!W41","v":-8.1146875845283036E-4},{"$f":"IF(ISNUMBER(O41),CORREL($B$1:B41,$O$1:O41),\"\")","v":{"$error":"#N/A"}},{"$f":"'Sheet3 (2)'!Y41","v":-1.3486176668915512E-3},{"$f":"IF(ISNUMBER(Q41),CORREL($B$1:B41,$Q$1:Q41),\"\")","v":{"$error":"#N/A"}},{"$f":"'Sheet3 (2)'!AA41","v":5.9904697072838357E-3},{"$f":"IF(ISNUMBER(S41),CORREL($B$1:B41,$S$1:S41),\"\")","v":{"$error":"#N/A"}}]
[null,{"$f":"'Sheet3 (2)'!I42","v":{"$error":"#N/A"}},{"$f":"'Sheet3 (2)'!K42","v":-1.1082693947144092E-2},{"$f":"IF(ISNUMBER(C42),CORREL($B$1:B42,$C$1:C42),\"\")","v":{"$error":"#N/A"}},{"$f":"'Sheet3 (2)'!M42","v":-2.3343678316016785E-2},{"$f":"IF(ISNUMBER(E42),CORREL($B$1:B42,$E$1:E42),\"\")","v":{"$error":"#N/A"}},{"$f":"'Sheet3 (2)'!O42","v":9.4786729857829915E-4},{"$f":"IF(ISNUMBER(G42),CORREL($B$1:B42,$G$1:G42),\"\")","v":{"$error":"#N/A"}},{"$f":"'Sheet3 (2)'!Q42","v":-5.0135501355012243E-3},{"$f":"IF(ISNUMBER(I42),CORREL($B$1:B42,$I$1:I42),\"\")","v":{"$error":"#N/A"}},{"$f":"'Sheet3 (2)'!S42","v":1.1927611735673218E-2},{"$f":"IF(ISNUMBER(K42),CORREL($B$1:B42,$K$1:K42),\"\")","v":{"$error":"#N/A"}},{"$f":"'Sheet3 (2)'!U42","v":-1.3757755597518155E-2},{"$f":"IF(ISNUMBER(M42),CORREL($B$1:B42,$M$1:M42),\"\")","v":{"$error":"#N/A"}},{"$f":"'Sheet3 (2)'!W42","v":-1.6229375169056607E-3},{"$f":"IF(ISNUMBER(O42),CORREL($B$1:B42,$O$1:O42),\"\")","v":{"$error":"#N/A"}},{"$f":"'Sheet3 (2)'!Y42","v":5.3944706675646719E-4},{"$f":"IF(ISNUMBER(Q42),CORREL($B$1:B42,$Q$1:Q42),\"\")","v":{"$error":"#N/A"}},{"$f":"'Sheet3 (2)'!AA42","v":7.2157930565010363E-3},{"$f":"IF(ISNUMBER(S42),CORREL($B$1:B42,$S$1:S42),\"\")","v":{"$error":"#N/A"}}]
[null,{"$f":"'Sheet3 (2)'!I43","v":{"$error":"#N/A"}},{"$f":"'Sheet3 (2)'!K43","v":-1.2219380505825512E-2},{"$f":"IF(ISNUMBER(C43),CORREL($B$1:B43,$C$1:C43),\"\")","v":{"$error":"#N/A"}},{"$f":"'Sheet3 (2)'!M43","v":-2.2399136418836819E-2},{"$f":"IF(ISNUMBER(E43),CORREL($B$1:B43,$E$1:E43),\"\")","v":{"$error":"#N/A"}},{"$f":"'Sheet3 (2)'!O43","v":1.2186865267434452E-3},{"$f":"IF(ISNUMBER(G43),CORREL($B$1:B43,$G$1:G43),\"\")","v":{"$error":"#N/A"}},{"$f":"'Sheet3 (2)'!Q43","v":-4.607046070460751E-3},{"$f":"IF(ISNUMBER(I43),CORREL($B$1:B43,$I$1:I43),\"\")","v":{"$error":"#N/A"}},{"$f":"'Sheet3 (2)'!S43","v":1.1927611735673218E-2},{"$f":"IF(ISNUMBER(K43),CORREL($B$1:B43,$K$1:K43),\"\")","v":{"$error":"#N/A"}},{"$f":"'Sheet3 (2)'!U43","v":-1.213919611545732E-2},{"$f":"IF(ISNUMBER(M43),CORREL($B$1:B43,$M$1:M43),\"\")","v":{"$error":"#N/A"}},{"$f":"'Sheet3 (2)'!W43","v":-1.2172031376792454E-3},{"$f":"IF(ISNUMBER(O43),CORREL($B$1:B43,$O$1:O43),\"\")","v":{"$error":"#N/A"}},{"$f":"'Sheet3 (2)'!Y43","v":-5.3944706675665877E-4},{"$f":"IF(ISNUMBER(Q43),CORREL($B$1:B43,$Q$1:Q43),\"\")","v":{"$error":"#N/A"}},{"$f":"'Sheet3 (2)'!AA43","v":9.2579986385295104E-3},{"$f":"IF(ISNUMBER(S43),CORREL($B$1:B43,$S$1:S43),\"\")","v":{"$error":"#N/A"}}]
[null,{"$f":"'Sheet3 (2)'!I44","v":{"$error":"#N/A"}},{"$f":"'Sheet3 (2)'!K44","v":-9.2355782892866081E-3},{"$f":"IF(ISNUMBER(C44),CORREL($B$1:B44,$C$1:C44),\"\")","v":{"$error":"#N/A"}},{"$f":"'Sheet3 (2)'!M44","v":-2.3883416542976602E-2},{"$f":"IF(ISNUMBER(E44),CORREL($B$1:B44,$E$1:E44),\"\")","v":{"$error":"#N/A"}},{"$f":"'Sheet3 (2)'!O44","v":1.7603249830739293E-3},{"$f":"IF(ISNUMBER(G44),CORREL($B$1:B44,$G$1:G44),\"\")","v":{"$error":"#N/A"}},{"$f":"'Sheet3 (2)'!Q44","v":-5.0135501355012243E-3},{"$f":"IF(ISNUMBER(I44),CORREL($B$1:B44,$I$1:I44),\"\")","v":{"$error":"#N/A"}},{"$f":"'Sheet3 (2)'!S44","v":1.1242116808335719E-2},{"$f":"IF(ISNUMBER(K44),CORREL($B$1:B44,$K$1:K44),\"\")","v":{"$error":"#N/A"}},{"$f":"'Sheet3 (2)'!U44","v":-1.2948475856487642E-2},{"$f":"IF(ISNUMBER(M44),CORREL($B$1:B44,$M$1:M44),\"\")","v":{"$error":"#N/A"}},{"$f":"'Sheet3 (2)'!W44","v":-4.1925885853394953E-3},{"$f":"IF(ISNUMBER(O44),CORREL($B$1:B44,$O$1:O44),\"\")","v":{"$error":"#N/A"}},{"$f":"'Sheet3 (2)'!Y44","v":-1.3486176668921261E-4},{"$f":"IF(ISNUMBER(Q44),CORREL($B$1:B44,$Q$1:Q44),\"\")","v":{"$error":"#N/A"}},{"$f":"'Sheet3 (2)'!AA44","v":1.0347174948944736E-2},{"$f":"IF(ISNUMBER(S44),CORREL($B$1:B44,$S$1:S44),\"\")","v":{"$error":"#N/A"}}]
[null,{"$f":"'Sheet3 (2)'!I45","v":{"$error":"#N/A"}},{"$f":"'Sheet3 (2)'!K45","v":-1.0514350667803282E-2},{"$f":"IF(ISNUMBER(C45),CORREL($B$1:B45,$C$1:C45),\"\")","v":{"$error":"#N/A"}},{"$f":"'Sheet3 (2)'!M45","v":-2.6042369450816255E-2},{"$f":"IF(ISNUMBER(E45),CORREL($B$1:B45,$E$1:E45),\"\")","v":{"$error":"#N/A"}},{"$f":"'Sheet3 (2)'!O45","v":1.6249153689912601E-3},{"$f":"IF(ISNUMBER(G45),CORREL($B$1:B45,$G$1:G45),\"\")","v":{"$error":"#N/A"}},{"$f":"'Sheet3 (2)'!Q45","v":-6.2330623306232217E-3},{"$f":"IF(ISNUMBER(I45),CORREL($B$1:B45,$I$1:I45),\"\")","v":{"$error":"#N/A"}},{"$f":"'Sheet3 (2)'!S45","v":1.1516314779270681E-2},{"$f":"IF(ISNUMBER(K45),CORREL($B$1:B45,$K$1:K45),\"\")","v":{"$error":"#N/A"}},{"$f":"'Sheet3 (2)'!U45","v":-1.3083355813326125E-2},{"$f":"IF(ISNUMBER(M45),CORREL($B$1:B45,$M$1:M45),\"\")","v":{"$error":"#N/A"}},{"$f":"'Sheet3 (2)'!W45","v":-3.6516094130375444E-3},{"$f":"IF(ISNUMBER(O45),CORREL($B$1:B45,$O$1:O45),\"\")","v":{"$error":"#N/A"}},{"$f":"'Sheet3 (2)'!Y45","v":4.0458530006744621E-4},{"$f":"IF(ISNUMBER(Q45),CORREL($B$1:B45,$Q$1:Q45),\"\")","v":{"$error":"#N/A"}},{"$f":"'Sheet3 (2)'!AA45","v":1.1164057181756204E-2},{"$f":"IF(ISNUMBER(S45),CORREL($B$1:B45,$S$1:S45),\"\")","v":{"$error":"#N/A"}}]
[null,{"$f":"'Sheet3 (2)'!I46","v":{"$error":"#N/A"}},{"$f":"'Sheet3 (2)'!K46","v":-1.0372264847968028E-2},{"$f":"IF(ISNUMBER(C46),CORREL($B$1:B46,$C$1:C46),\"\")","v":{"$error":"#N/A"}},{"$f":"'Sheet3 (2)'!M46","v":-2.5502631223856438E-2},{"$f":"IF(ISNUMBER(E46),CORREL($B$1:B46,$E$1:E46),\"\")","v":{"$error":"#N/A"}},{"$f":"'Sheet3 (2)'!O46","v":5.4163845633048414E-4},{"$f":"IF(ISNUMBER(G46),CORREL($B$1:B46,$G$1:G46),\"\")","v":{"$error":"#N/A"}},{"$f":"'Sheet3 (2)'!Q46","v":-2.3035230352303755E-3},{"$f":"IF(ISNUMBER(I46),CORREL($B$1:B46,$I$1:I46),\"\")","v":{"$error":"#N/A"}},{"$f":"'Sheet3 (2)'!S46","v":1.1516314779270681E-2},{"$f":"IF(ISNUMBER(K46),CORREL($B$1:B46,$K$1:K46),\"\")","v":{"$error":"#N/A"}},{"$f":"'Sheet3 (2)'!U46","v":-1.2274076072295611E-2},{"$f":"IF(ISNUMBER(M46),CORREL($B$1:B46,$M$1:M46),\"\")","v":{"$error":"#N/A"}},{"$f":"'Sheet3 (2)'!W46","v":-3.3811198268866652E-3},{"$f":"IF(ISNUMBER(O46),CORREL($B$1:B46,$O$1:O46),\"\")","v":{"$error":"#N/A"}},{"$f":"'Sheet3 (2)'!Y46","v":-1.3486176668921261E-4},{"$f":"IF(ISNUMBER(Q46),CORREL($B$1:B46,$Q$1:Q46),\"\")","v":{"$error":"#N/A"}},{"$f":"'Sheet3 (2)'!AA46","v":1.0619469026548688E-2},{"$f":"IF(ISNUMBER(S46),CORREL($B$1:B46,$S$1:S46),\"\")","v":{"$error":"#N/A"}}]
[null,{"$f":"'Sheet3 (2)'!I47","v":{"$error":"#N/A"}},{"$f":"'Sheet3 (2)'!K47","v":-9.2355782892866081E-3},{"$f":"IF(ISNUMBER(C47),CORREL($B$1:B47,$C$1:C47),\"\")","v":{"$error":"#N/A"}},{"$f":"'Sheet3 (2)'!M47","v":-2.6447173121036213E-2},{"$f":"IF(ISNUMBER(E47),CORREL($B$1:B47,$E$1:E47),\"\")","v":{"$error":"#N/A"}},{"$f":"'Sheet3 (2)'!O47","v":2.7081922816533829E-4},{"$f":"IF(ISNUMBER(G47),CORREL($B$1:B47,$G$1:G47),\"\")","v":{"$error":"#N/A"}},{"$f":"'Sheet3 (2)'!Q47","v":-2.7100271002710413E-3},{"$f":"IF(ISNUMBER(I47),CORREL($B$1:B47,$I$1:I47),\"\")","v":{"$error":"#N/A"}},{"$f":"'Sheet3 (2)'!S47","v":1.1379215793803103E-2},{"$f":"IF(ISNUMBER(K47),CORREL($B$1:B47,$K$1:K47),\"\")","v":{"$error":"#N/A"}},{"$f":"'Sheet3 (2)'!U47","v":-1.2543835985972576E-2},{"$f":"IF(ISNUMBER(M47),CORREL($B$1:B47,$M$1:M47),\"\")","v":{"$error":"#N/A"}},{"$f":"'Sheet3 (2)'!W47","v":-3.2458750338111293E-3},{"$f":"IF(ISNUMBER(O47),CORREL($B$1:B47,$O$1:O47),\"\")","v":{"$error":"#N/A"}},{"$f":"'Sheet3 (2)'!Y47","v":0},{"$f":"IF(ISNUMBER(Q47),CORREL($B$1:B47,$Q$1:Q47),\"\")","v":{"$error":"#N/A"}},{"$f":"'Sheet3 (2)'!AA47","v":9.8025867937372203E-3},{"$f":"IF(ISNUMBER(S47),CORREL($B$1:B47,$S$1:S47),\"\")","v":{"$error":"#N/A"}}]
[null,{"$f":"'Sheet3 (2)'!I48","v":{"$error":"#N/A"}},{"$f":"'Sheet3 (2)'!K48","v":-9.3776641091218617E-3},{"$f":"IF(ISNUMBER(C48),CORREL($B$1:B48,$C$1:C48),\"\")","v":{"$error":"#N/A"}},{"$f":"'Sheet3 (2)'!M48","v":-2.8201322358656099E-2},{"$f":"IF(ISNUMBER(E48),CORREL($B$1:B48,$E$1:E48),\"\")","v":{"$error":"#N/A"}},{"$f":"'Sheet3 (2)'!O48","v":1.3540961408266915E-4},{"$f":"IF(ISNUMBER(G48),CORREL($B$1:B48,$G$1:G48),\"\")","v":{"$error":"#N/A"}},{"$f":"'Sheet3 (2)'!Q48","v":-3.6585365853658001E-3},{"$f":"IF(ISNUMBER(I48),CORREL($B$1:B48,$I$1:I48),\"\")","v":{"$error":"#N/A"}},{"$f":"'Sheet3 (2)'!S48","v":1.0556621880998027E-2},{"$f":"IF(ISNUMBER(K48),CORREL($B$1:B48,$K$1:K48),\"\")","v":{"$error":"#N/A"}},{"$f":"'Sheet3 (2)'!U48","v":-1.213919611545732E-2},{"$f":"IF(ISNUMBER(M48),CORREL($B$1:B48,$M$1:M48),\"\")","v":{"$error":"#N/A"}},{"$f":"'Sheet3 (2)'!W48","v":-2.9753854476602497E-3},{"$f":"IF(ISNUMBER(O48),CORREL($B$1:B48,$O$1:O48),\"\")","v":{"$error":"#N/A"}},{"$f":"'Sheet3 (2)'!Y48","v":-1.3486176668921261E-4},{"$f":"IF(ISNUMBER(Q48),CORREL($B$1:B48,$Q$1:Q48),\"\")","v":{"$error":"#N/A"}},{"$f":"'Sheet3 (2)'!AA48","v":9.1218515997277295E-3},{"$f":"IF(ISNUMBER(S48),CORREL($B$1:B48,$S$1:S48),\"\")","v":{"$error":"#N/A"}}]
[null,{"$f":"'Sheet3 (2)'!I49","v":{"$error":"#N/A"}},{"$f":"'Sheet3 (2)'!K49","v":-1.0088093208297724E-2},{"$f":"IF(ISNUMBER(C49),CORREL($B$1:B49,$C$1:C49),\"\")","v":{"$error":"#N/A"}},{"$f":"'Sheet3 (2)'!M49","v":-3.0900013493455759E-2},{"$f":"IF(ISNUMBER(E49),CORREL($B$1:B49,$E$1:E49),\"\")","v":{"$error":"#N/A"}},{"$f":"'Sheet3 (2)'!O49","v":2.7081922816533829E-4},{"$f":"IF(ISNUMBER(G49),CORREL($B$1:B49,$G$1:G49),\"\")","v":{"$error":"#N/A"}},{"$f":"'Sheet3 (2)'!Q49","v":-2.8455284552844681E-3},{"$f":"IF(ISNUMBER(I49),CORREL($B$1:B49,$I$1:I49),\"\")","v":{"$error":"#N/A"}},{"$f":"'Sheet3 (2)'!S49","v":1.1105017822868142E-2},{"$f":"IF(ISNUMBER(K49),CORREL($B$1:B49,$K$1:K49),\"\")","v":{"$error":"#N/A"}},{"$f":"'Sheet3 (2)'!U49","v":-1.2004316158618836E-2},{"$f":"IF(ISNUMBER(M49),CORREL($B$1:B49,$M$1:M49),\"\")","v":{"$error":"#N/A"}},{"$f":"'Sheet3 (2)'!W49","v":-1.7581823099810043E-3},{"$f":"IF(ISNUMBER(O49),CORREL($B$1:B49,$O$1:O49),\"\")","v":{"$error":"#N/A"}},{"$f":"'Sheet3 (2)'!Y49","v":8.0917060013470073E-4},{"$f":"IF(ISNUMBER(Q49),CORREL($B$1:B49,$Q$1:Q49),\"\")","v":{"$error":"#N/A"}},{"$f":"'Sheet3 (2)'!AA49","v":1.0074880871340978E-2},{"$f":"IF(ISNUMBER(S49),CORREL($B$1:B49,$S$1:S49),\"\")","v":{"$error":"#N/A"}}]
[null,{"$f":"'Sheet3 (2)'!I50","v":{"$error":"#N/A"}},{"$f":"'Sheet3 (2)'!K50","v":-9.0934924694515574E-3},{"$f":"IF(ISNUMBER(C50),CORREL($B$1:B50,$C$1:C50),\"\")","v":{"$error":"#N/A"}},{"$f":"'Sheet3 (2)'!M50","v":-3.1034948050195618E-2},{"$f":"IF(ISNUMBER(E50),CORREL($B$1:B50,$E$1:E50),\"\")","v":{"$error":"#N/A"}},{"$f":"'Sheet3 (2)'!O50","v":4.0622884224781502E-4},{"$f":"IF(ISNUMBER(G50),CORREL($B$1:B50,$G$1:G50),\"\")","v":{"$error":"#N/A"}},{"$f":"'Sheet3 (2)'!Q50","v":-2.574525745257422E-3},{"$f":"IF(ISNUMBER(I50),CORREL($B$1:B50,$I$1:I50),\"\")","v":{"$error":"#N/A"}},{"$f":"'Sheet3 (2)'!S50","v":1.0145324924595684E-2},{"$f":"IF(ISNUMBER(K50),CORREL($B$1:B50,$K$1:K50),\"\")","v":{"$error":"#N/A"}},{"$f":"'Sheet3 (2)'!U50","v":-1.1060156460750032E-2},{"$f":"IF(ISNUMBER(M50),CORREL($B$1:B50,$M$1:M50),\"\")","v":{"$error":"#N/A"}},{"$f":"'Sheet3 (2)'!W50","v":-1.3524479307534359E-4},{"$f":"IF(ISNUMBER(O50),CORREL($B$1:B50,$O$1:O50),\"\")","v":{"$error":"#N/A"}},{"$f":"'Sheet3 (2)'!Y50","v":4.0458530006744621E-4},{"$f":"IF(ISNUMBER(Q50),CORREL($B$1:B50,$Q$1:Q50),\"\")","v":{"$error":"#N/A"}},{"$f":"'Sheet3 (2)'!AA50","v":9.6664397549352452E-3},{"$f":"IF(ISNUMBER(S50),CORREL($B$1:B50,$S$1:S50),\"\")","v":{"$error":"#N/A"}}]
[null,{"$f":"'Sheet3 (2)'!I51","v":{"$error":"#N/A"}},{"$f":"'Sheet3 (2)'!K51","v":-8.8093208297810519E-3},{"$f":"IF(ISNUMBER(C51),CORREL($B$1:B51,$C$1:C51),\"\")","v":{"$error":"#N/A"}},{"$f":"'Sheet3 (2)'!M51","v":-3.3733639184995279E-2},{"$f":"IF(ISNUMBER(E51),CORREL($B$1:B51,$E$1:E51),\"\")","v":{"$error":"#N/A"}},{"$f":"'Sheet3 (2)'!O51","v":4.0622884224781502E-4},{"$f":"IF(ISNUMBER(G51),CORREL($B$1:B51,$G$1:G51),\"\")","v":{"$error":"#N/A"}},{"$f":"'Sheet3 (2)'!Q51","v":-2.3035230352303755E-3},{"$f":"IF(ISNUMBER(I51),CORREL($B$1:B51,$I$1:I51),\"\")","v":{"$error":"#N/A"}},{"$f":"'Sheet3 (2)'!S51","v":9.596928982725567E-3},{"$f":"IF(ISNUMBER(K51),CORREL($B$1:B51,$K$1:K51),\"\")","v":{"$error":"#N/A"}},{"$f":"'Sheet3 (2)'!U51","v":-1.1734556244942063E-2},{"$f":"IF(ISNUMBER(M51),CORREL($B$1:B51,$M$1:M51),\"\")","v":{"$error":"#N/A"}},{"$f":"'Sheet3 (2)'!W51","v":-4.0573437922641518E-4},{"$f":"IF(ISNUMBER(O51),CORREL($B$1:B51,$O$1:O51),\"\")","v":{"$error":"#N/A"}},{"$f":"'Sheet3 (2)'!Y51","v":-8.0917060013489242E-4},{"$f":"IF(ISNUMBER(Q51),CORREL($B$1:B51,$Q$1:Q51),\"\")","v":{"$error":"#N/A"}},{"$f":"'Sheet3 (2)'!AA51","v":1.0347174948944736E-2},{"$f":"IF(ISNUMBER(S51),CORREL($B$1:B51,$S$1:S51),\"\")","v":{"$error":"#N/A"}}]
[null,{"$f":"'Sheet3 (2)'!I52","v":{"$error":"#N/A"}},{"$f":"'Sheet3 (2)'!K52","v":-9.0934924694515574E-3},{"$f":"IF(ISNUMBER(C52),CORREL($B$1:B52,$C$1:C52),\"\")","v":{"$error":"#N/A"}},{"$f":"'Sheet3 (2)'!M52","v":-3.3598704628255226E-2},{"$f":"IF(ISNUMBER(E52),CORREL($B$1:B52,$E$1:E52),\"\")","v":{"$error":"#N/A"}},{"$f":"'Sheet3 (2)'!O52","v":-9.4786729857810671E-4},{"$f":"IF(ISNUMBER(G52),CORREL($B$1:B52,$G$1:G52),\"\")","v":{"$error":"#N/A"}},{"$f":"'Sheet3 (2)'!Q52","v":-2.4390243902438023E-3},{"$f":"IF(ISNUMBER(I52),CORREL($B$1:B52,$I$1:I52),\"\")","v":{"$error":"#N/A"}},{"$f":"'Sheet3 (2)'!S52","v":1.0830819851933182E-2},{"$f":"IF(ISNUMBER(K52),CORREL($B$1:B52,$K$1:K52),\"\")","v":{"$error":"#N/A"}},{"$f":"'Sheet3 (2)'!U52","v":-1.1464796331265098E-2},{"$f":"IF(ISNUMBER(M52),CORREL($B$1:B52,$M$1:M52),\"\")","v":{"$error":"#N/A"}},{"$f":"'Sheet3 (2)'!W52","v":-1.0819583446037098E-3},{"$f":"IF(ISNUMBER(O52),CORREL($B$1:B52,$O$1:O52),\"\")","v":{"$error":"#N/A"}},{"$f":"'Sheet3 (2)'!Y52","v":-2.6972353337842523E-4},{"$f":"IF(ISNUMBER(Q52),CORREL($B$1:B52,$Q$1:Q52),\"\")","v":{"$error":"#N/A"}},{"$f":"'Sheet3 (2)'!AA52","v":1.0347174948944736E-2},{"$f":"IF(ISNUMBER(S52),CORREL($B$1:B52,$S$1:S52),\"\")","v":{"$error":"#N/A"}}]
[null,{"$f":"'Sheet3 (2)'!I53","v":{"$error":"#N/A"}},{"$f":"'Sheet3 (2)'!K53","v":-8.9514066496163038E-3},{"$f":"IF(ISNUMBER(C53),CORREL($B$1:B53,$C$1:C53),\"\")","v":{"$error":"#N/A"}},{"$f":"'Sheet3 (2)'!M53","v":-3.2924031844555363E-2},{"$f":"IF(ISNUMBER(E53),CORREL($B$1:B53,$E$1:E53),\"\")","v":{"$error":"#N/A"}},{"$f":"'Sheet3 (2)'!O53","v":-2.7081922816514584E-4},{"$f":"IF(ISNUMBER(G53),CORREL($B$1:B53,$G$1:G53),\"\")","v":{"$error":"#N/A"}},{"$f":"'Sheet3 (2)'!Q53","v":-2.8455284552844681E-3},{"$f":"IF(ISNUMBER(I53),CORREL($B$1:B53,$I$1:I53),\"\")","v":{"$error":"#N/A"}},{"$f":"'Sheet3 (2)'!S53","v":1.0145324924595684E-2},{"$f":"IF(ISNUMBER(K53),CORREL($B$1:B53,$K$1:K53),\"\")","v":{"$error":"#N/A"}},{"$f":"'Sheet3 (2)'!U53","v":-1.2004316158618836E-2},{"$f":"IF(ISNUMBER(M53),CORREL($B$1:B53,$M$1:M53),\"\")","v":{"$error":"#N/A"}},{"$f":"'Sheet3 (2)'!W53","v":-1.3524479307545892E-3},{"$f":"IF(ISNUMBER(O53),CORREL($B$1:B53,$O$1:O53),\"\")","v":{"$error":"#N/A"}},{"$f":"'Sheet3 (2)'!Y53","v":-2.6972353337842523E-4},{"$f":"IF(ISNUMBER(Q53),CORREL($B$1:B53,$Q$1:Q53),\"\")","v":{"$error":"#N/A"}},{"$f":"'Sheet3 (2)'!AA53","v":8.4411164057180445E-3},{"$f":"IF(ISNUMBER(S53),CORREL($B$1:B53,$S$1:S53),\"\")","v":{"$error":"#N/A"}}]
[null,{"$f":"'Sheet3 (2)'!I54","v":{"$error":"#N/A"}},{"$f":"'Sheet3 (2)'!K54","v":-8.9514066496163038E-3},{"$f":"IF(ISNUMBER(C54),CORREL($B$1:B54,$C$1:C54),\"\")","v":{"$error":"#N/A"}},{"$f":"'Sheet3 (2)'!M54","v":-3.6027526649574981E-2},{"$f":"IF(ISNUMBER(E54),CORREL($B$1:B54,$E$1:E54),\"\")","v":{"$error":"#N/A"}},{"$f":"'Sheet3 (2)'!O54","v":-1.6249153689910677E-3},{"$f":"IF(ISNUMBER(G54),CORREL($B$1:B54,$G$1:G54),\"\")","v":{"$error":"#N/A"}},{"$f":"'Sheet3 (2)'!Q54","v":-2.8455284552844681E-3},{"$f":"IF(ISNUMBER(I54),CORREL($B$1:B54,$I$1:I54),\"\")","v":{"$error":"#N/A"}},{"$f":"'Sheet3 (2)'!S54","v":1.0419522895530643E-2},{"$f":"IF(ISNUMBER(K54),CORREL($B$1:B54,$K$1:K54),\"\")","v":{"$error":"#N/A"}},{"$f":"'Sheet3 (2)'!U54","v":-1.3757755597518155E-2},{"$f":"IF(ISNUMBER(M54),CORREL($B$1:B54,$M$1:M54),\"\")","v":{"$error":"#N/A"}},{"$f":"'Sheet3 (2)'!W54","v":-9.4671355152817389E-4},{"$f":"IF(ISNUMBER(O54),CORREL($B$1:B54,$O$1:O54),\"\")","v":{"$error":"#N/A"}},{"$f":"'Sheet3 (2)'!Y54","v":-1.3486176668915512E-3},{"$f":"IF(ISNUMBER(Q54),CORREL($B$1:B54,$Q$1:Q54),\"\")","v":{"$error":"#N/A"}},{"$f":"'Sheet3 (2)'!AA54","v":8.1688223281142867E-3},{"$f":"IF(ISNUMBER(S54),CORREL($B$1:B54,$S$1:S54),\"\")","v":{"$error":"#N/A"}}]
[null,{"$f":"'Sheet3 (2)'!I55","v":{"$error":"#N/A"}},{"$f":"'Sheet3 (2)'!K55","v":-8.3830633702754939E-3},{"$f":"IF(ISNUMBER(C55),CORREL($B$1:B55,$C$1:C55),\"\")","v":{"$error":"#N/A"}},{"$f":"'Sheet3 (2)'!M55","v":-3.7107003103494803E-2},{"$f":"IF(ISNUMBER(E55),CORREL($B$1:B55,$E$1:E55),\"\")","v":{"$error":"#N/A"}},{"$f":"'Sheet3 (2)'!O55","v":-1.2186865267432526E-3},{"$f":"IF(ISNUMBER(G55),CORREL($B$1:B55,$G$1:G55),\"\")","v":{"$error":"#N/A"}},{"$f":"'Sheet3 (2)'!Q55","v":-4.2005420054200852E-3},{"$f":"IF(ISNUMBER(I55),CORREL($B$1:B55,$I$1:I55),\"\")","v":{"$error":"#N/A"}},{"$f":"'Sheet3 (2)'!S55","v":1.1653413764738258E-2},{"$f":"IF(ISNUMBER(K55),CORREL($B$1:B55,$K$1:K55),\"\")","v":{"$error":"#N/A"}},{"$f":"'Sheet3 (2)'!U55","v":-1.2274076072295611E-2},{"$f":"IF(ISNUMBER(M55),CORREL($B$1:B55,$M$1:M55),\"\")","v":{"$error":"#N/A"}},{"$f":"'Sheet3 (2)'!W55","v":-1.2172031376792454E-3},{"$f":"IF(ISNUMBER(O55),CORREL($B$1:B55,$O$1:O55),\"\")","v":{"$error":"#N/A"}},{"$f":"'Sheet3 (2)'!Y55","v":2.6972353337823359E-4},{"$f":"IF(ISNUMBER(Q55),CORREL($B$1:B55,$Q$1:Q55),\"\")","v":{"$error":"#N/A"}},{"$f":"'Sheet3 (2)'!AA55","v":8.9857045609257526E-3},{"$f":"IF(ISNUMBER(S55),CORREL($B$1:B55,$S$1:S55),\"\")","v":{"$error":"#N/A"}}]
[null,{"$f":"'Sheet3 (2)'!I56","v":{"$error":"#N/A"}},{"$f":"'Sheet3 (2)'!K56","v":-6.2517760727479081E-3},{"$f":"IF(ISNUMBER(C56),CORREL($B$1:B56,$C$1:C56),\"\")","v":{"$error":"#N/A"}},{"$f":"'Sheet3 (2)'!M56","v":-4.0075563351774375E-2},{"$f":"IF(ISNUMBER(E56),CORREL($B$1:B56,$E$1:E56),\"\")","v":{"$error":"#N/A"}},{"$f":"'Sheet3 (2)'!O56","v":-1.3540961408259218E-3},{"$f":"IF(ISNUMBER(G56),CORREL($B$1:B56,$G$1:G56),\"\")","v":{"$error":"#N/A"}},{"$f":"'Sheet3 (2)'!Q56","v":-4.7425474254741782E-3},{"$f":"IF(ISNUMBER(I56),CORREL($B$1:B56,$I$1:I56),\"\")","v":{"$error":"#N/A"}},{"$f":"'Sheet3 (2)'!S56","v":1.1516314779270681E-2},{"$f":"IF(ISNUMBER(K56),CORREL($B$1:B56,$K$1:K56),\"\")","v":{"$error":"#N/A"}},{"$f":"'Sheet3 (2)'!U56","v":-1.3622875640679865E-2},{"$f":"IF(ISNUMBER(M56),CORREL($B$1:B56,$M$1:M56),\"\")","v":{"$error":"#N/A"}},{"$f":"'Sheet3 (2)'!W56","v":-5.4097917230175872E-4},{"$f":"IF(ISNUMBER(O56),CORREL($B$1:B56,$O$1:O56),\"\")","v":{"$error":"#N/A"}},{"$f":"'Sheet3 (2)'!Y56","v":-2.6972353337842523E-4},{"$f":"IF(ISNUMBER(Q56),CORREL($B$1:B56,$Q$1:Q56),\"\")","v":{"$error":"#N/A"}},{"$f":"'Sheet3 (2)'!AA56","v":8.9857045609257526E-3},{"$f":"IF(ISNUMBER(S56),CORREL($B$1:B56,$S$1:S56),\"\")","v":{"$error":"#N/A"}}]
[null,{"$f":"'Sheet3 (2)'!I57","v":{"$error":"#N/A"}},{"$f":"'Sheet3 (2)'!K57","v":-5.8255186132423501E-3},{"$f":"IF(ISNUMBER(C57),CORREL($B$1:B57,$C$1:C57),\"\")","v":{"$error":"#N/A"}},{"$f":"'Sheet3 (2)'!M57","v":-4.1020105248954344E-2},{"$f":"IF(ISNUMBER(E57),CORREL($B$1:B57,$E$1:E57),\"\")","v":{"$error":"#N/A"}},{"$f":"'Sheet3 (2)'!O57","v":-9.4786729857810671E-4},{"$f":"IF(ISNUMBER(G57),CORREL($B$1:B57,$G$1:G57),\"\")","v":{"$error":"#N/A"}},{"$f":"'Sheet3 (2)'!Q57","v":-4.3360433604335124E-3},{"$f":"IF(ISNUMBER(I57),CORREL($B$1:B57,$I$1:I57),\"\")","v":{"$error":"#N/A"}},{"$f":"'Sheet3 (2)'!S57","v":1.1516314779270681E-2},{"$f":"IF(ISNUMBER(K57),CORREL($B$1:B57,$K$1:K57),\"\")","v":{"$error":"#N/A"}},{"$f":"'Sheet3 (2)'!U57","v":-1.3218235770164607E-2},{"$f":"IF(ISNUMBER(M57),CORREL($B$1:B57,$M$1:M57),\"\")","v":{"$error":"#N/A"}},{"$f":"'Sheet3 (2)'!W57","v":-5.4097917230175872E-4},{"$f":"IF(ISNUMBER(O57),CORREL($B$1:B57,$O$1:O57),\"\")","v":{"$error":"#N/A"}},{"$f":"'Sheet3 (2)'!Y57","v":2.6972353337823359E-4},{"$f":"IF(ISNUMBER(Q57),CORREL($B$1:B57,$Q$1:Q57),\"\")","v":{"$error":"#N/A"}},{"$f":"'Sheet3 (2)'!AA57","v":1.0347174948944736E-2},{"$f":"IF(ISNUMBER(S57),CORREL($B$1:B57,$S$1:S57),\"\")","v":{"$error":"#N/A"}}]
[null,{"$f":"'Sheet3 (2)'!I58","v":{"$error":"#N/A"}},{"$f":"'Sheet3 (2)'!K58","v":-4.5467462347256781E-3},{"$f":"IF(ISNUMBER(C58),CORREL($B$1:B58,$C$1:C58),\"\")","v":{"$error":"#N/A"}},{"$f":"'Sheet3 (2)'!M58","v":-4.0885170692214291E-2},{"$f":"IF(ISNUMBER(E58),CORREL($B$1:B58,$E$1:E58),\"\")","v":{"$error":"#N/A"}},{"$f":"'Sheet3 (2)'!O58","v":-9.4786729857810671E-4},{"$f":"IF(ISNUMBER(G58),CORREL($B$1:B58,$G$1:G58),\"\")","v":{"$error":"#N/A"}},{"$f":"'Sheet3 (2)'!Q58","v":-4.7425474254741782E-3},{"$f":"IF(ISNUMBER(I58),CORREL($B$1:B58,$I$1:I58),\"\")","v":{"$error":"#N/A"}},{"$f":"'Sheet3 (2)'!S58","v":1.0967918837400564E-2},{"$f":"IF(ISNUMBER(K58),CORREL($B$1:B58,$K$1:K58),\"\")","v":{"$error":"#N/A"}},{"$f":"'Sheet3 (2)'!U58","v":-1.3083355813326125E-2},{"$f":"IF(ISNUMBER(M58),CORREL($B$1:B58,$M$1:M58),\"\")","v":{"$error":"#N/A"}},{"$f":"'Sheet3 (2)'!W58","v":1.3524479307553579E-4},{"$f":"IF(ISNUMBER(O58),CORREL($B$1:B58,$O$1:O58),\"\")","v":{"$error":"#N/A"}},{"$f":"'Sheet3 (2)'!Y58","v":1.7532029669588057E-3},{"$f":"IF(ISNUMBER(Q58),CORREL($B$1:B58,$Q$1:Q58),\"\")","v":{"$error":"#N/A"}},{"$f":"'Sheet3 (2)'!AA58","v":1.0483321987746711E-2},{"$f":"IF(ISNUMBER(S58),CORREL($B$1:B58,$S$1:S58),\"\")","v":{"$error":"#N/A"}}]
[null,{"$f":"'Sheet3 (2)'!I59","v":{"$error":"#N/A"}},{"$f":"'Sheet3 (2)'!K59","v":-4.1204887752201201E-3},{"$f":"IF(ISNUMBER(C59),CORREL($B$1:B59,$C$1:C59),\"\")","v":{"$error":"#N/A"}},{"$f":"'Sheet3 (2)'!M59","v":-4.3718796383753811E-2},{"$f":"IF(ISNUMBER(E59),CORREL($B$1:B59,$E$1:E59),\"\")","v":{"$error":"#N/A"}},{"$f":"'Sheet3 (2)'!O59","v":4.0622884224781502E-4},{"$f":"IF(ISNUMBER(G59),CORREL($B$1:B59,$G$1:G59),\"\")","v":{"$error":"#N/A"}},{"$f":"'Sheet3 (2)'!Q59","v":-3.6585365853658001E-3},{"$f":"IF(ISNUMBER(I59),CORREL($B$1:B59,$I$1:I59),\"\")","v":{"$error":"#N/A"}},{"$f":"'Sheet3 (2)'!S59","v":1.1105017822868142E-2},{"$f":"IF(ISNUMBER(K59),CORREL($B$1:B59,$K$1:K59),\"\")","v":{"$error":"#N/A"}},{"$f":"'Sheet3 (2)'!U59","v":-1.3083355813326125E-2},{"$f":"IF(ISNUMBER(M59),CORREL($B$1:B59,$M$1:M59),\"\")","v":{"$error":"#N/A"}},{"$f":"'Sheet3 (2)'!W59","v":2.0286718961320758E-3},{"$f":"IF(ISNUMBER(O59),CORREL($B$1:B59,$O$1:O59),\"\")","v":{"$error":"#N/A"}},{"$f":"'Sheet3 (2)'!Y59","v":1.0788941335131258E-3},{"$f":"IF(ISNUMBER(Q59),CORREL($B$1:B59,$Q$1:Q59),\"\")","v":{"$error":"#N/A"}},{"$f":"'Sheet3 (2)'!AA59","v":1.0755616065350471E-2},{"$f":"IF(ISNUMBER(S59),CORREL($B$1:B59,$S$1:S59),\"\")","v":{"$error":"#N/A"}}]
[null,{"$f":"'Sheet3 (2)'!I60","v":{"$error":"#N/A"}},{"$f":"'Sheet3 (2)'!K60","v":-1.9892014776925343E-3},{"$f":"IF(ISNUMBER(C60),CORREL($B$1:B60,$C$1:C60),\"\")","v":{"$error":"#N/A"}},{"$f":"'Sheet3 (2)'!M60","v":-4.2909189043313894E-2},{"$f":"IF(ISNUMBER(E60),CORREL($B$1:B60,$E$1:E60),\"\")","v":{"$error":"#N/A"}},{"$f":"'Sheet3 (2)'!O60","v":2.0311442112390752E-3},{"$f":"IF(ISNUMBER(G60),CORREL($B$1:B60,$G$1:G60),\"\")","v":{"$error":"#N/A"}},{"$f":"'Sheet3 (2)'!Q60","v":-3.7940379403794194E-3},{"$f":"IF(ISNUMBER(I60),CORREL($B$1:B60,$I$1:I60),\"\")","v":{"$error":"#N/A"}},{"$f":"'Sheet3 (2)'!S60","v":1.0282423910063065E-2},{"$f":"IF(ISNUMBER(K60),CORREL($B$1:B60,$K$1:K60),\"\")","v":{"$error":"#N/A"}},{"$f":"'Sheet3 (2)'!U60","v":-1.3892635554356637E-2},{"$f":"IF(ISNUMBER(M60),CORREL($B$1:B60,$M$1:M60),\"\")","v":{"$error":"#N/A"}},{"$f":"'Sheet3 (2)'!W60","v":2.8401406545849064E-3},{"$f":"IF(ISNUMBER(O60),CORREL($B$1:B60,$O$1:O60),\"\")","v":{"$error":"#N/A"}},{"$f":"'Sheet3 (2)'!Y60","v":8.0917060013470073E-4},{"$f":"IF(ISNUMBER(Q60),CORREL($B$1:B60,$Q$1:Q60),\"\")","v":{"$error":"#N/A"}},{"$f":"'Sheet3 (2)'!AA60","v":1.0755616065350471E-2},{"$f":"IF(ISNUMBER(S60),CORREL($B$1:B60,$S$1:S60),\"\")","v":{"$error":"#N/A"}}]
[null,{"$f":"'Sheet3 (2)'!I61","v":{"$error":"#N/A"}},{"$f":"'Sheet3 (2)'!K61","v":-2.8417163967030436E-4},{"$f":"IF(ISNUMBER(C61),CORREL($B$1:B61,$C$1:C61),\"\")","v":{"$error":"#N/A"}},{"$f":"'Sheet3 (2)'!M61","v":-4.5068141951153738E-2},{"$f":"IF(ISNUMBER(E61),CORREL($B$1:B61,$E$1:E61),\"\")","v":{"$error":"#N/A"}},{"$f":"'Sheet3 (2)'!O61","v":2.1665538253217444E-3},{"$f":"IF(ISNUMBER(G61),CORREL($B$1:B61,$G$1:G61),\"\")","v":{"$error":"#N/A"}},{"$f":"'Sheet3 (2)'!Q61","v":-2.7100271002710413E-3},{"$f":"IF(ISNUMBER(I61),CORREL($B$1:B61,$I$1:I61),\"\")","v":{"$error":"#N/A"}},{"$f":"'Sheet3 (2)'!S61","v":9.1856320263230297E-3},{"$f":"IF(ISNUMBER(K61),CORREL($B$1:B61,$K$1:K61),\"\")","v":{"$error":"#N/A"}},{"$f":"'Sheet3 (2)'!U61","v":-1.4162395468033412E-2},{"$f":"IF(ISNUMBER(M61),CORREL($B$1:B61,$M$1:M61),\"\")","v":{"$error":"#N/A"}},{"$f":"'Sheet3 (2)'!W61","v":2.9753854476602497E-3},{"$f":"IF(ISNUMBER(O61),CORREL($B$1:B61,$O$1:O61),\"\")","v":{"$error":"#N/A"}},{"$f":"'Sheet3 (2)'!Y61","v":2.6972353337823359E-4},{"$f":"IF(ISNUMBER(Q61),CORREL($B$1:B61,$Q$1:Q61),\"\")","v":{"$error":"#N/A"}},{"$f":"'Sheet3 (2)'!AA61","v":1.0211027910142953E-2},{"$f":"IF(ISNUMBER(S61),CORREL($B$1:B61,$S$1:S61),\"\")","v":{"$error":"#N/A"}}]
[null,{"$f":"'Sheet3 (2)'!I62","v":{"$error":"#N/A"}},{"$f":"'Sheet3 (2)'!K62","v":7.1042909917606379E-4},{"$f":"IF(ISNUMBER(C62),CORREL($B$1:B62,$C$1:C62),\"\")","v":{"$error":"#N/A"}},{"$f":"'Sheet3 (2)'!M62","v":-4.8711374983133174E-2},{"$f":"IF(ISNUMBER(E62),CORREL($B$1:B62,$E$1:E62),\"\")","v":{"$error":"#N/A"}},{"$f":"'Sheet3 (2)'!O62","v":2.843601895734705E-3},{"$f":"IF(ISNUMBER(G62),CORREL($B$1:B62,$G$1:G62),\"\")","v":{"$error":"#N/A"}},{"$f":"'Sheet3 (2)'!Q62","v":-3.5230352303521804E-3},{"$f":"IF(ISNUMBER(I62),CORREL($B$1:B62,$I$1:I62),\"\")","v":{"$error":"#N/A"}},{"$f":"'Sheet3 (2)'!S62","v":8.3630381135179517E-3},{"$f":"IF(ISNUMBER(K62),CORREL($B$1:B62,$K$1:K62),\"\")","v":{"$error":"#N/A"}},{"$f":"'Sheet3 (2)'!U62","v":-1.645535473428647E-2},{"$f":"IF(ISNUMBER(M62),CORREL($B$1:B62,$M$1:M62),\"\")","v":{"$error":"#N/A"}},{"$f":"'Sheet3 (2)'!W62","v":3.5163646199622006E-3},{"$f":"IF(ISNUMBER(O62),CORREL($B$1:B62,$O$1:O62),\"\")","v":{"$error":"#N/A"}},{"$f":"'Sheet3 (2)'!Y62","v":-2.0229265003372308E-3},{"$f":"IF(ISNUMBER(Q62),CORREL($B$1:B62,$Q$1:Q62),\"\")","v":{"$error":"#N/A"}},{"$f":"'Sheet3 (2)'!AA62","v":1.0483321987746711E-2},{"$f":"IF(ISNUMBER(S62),CORREL($B$1:B62,$S$1:S62),\"\")","v":{"$error":"#N/A"}}]
[null,{"$f":"'Sheet3 (2)'!I63","v":{"$error":"#N/A"}},{"$f":"'Sheet3 (2)'!K63","v":-5.6834327934060871E-4},{"$f":"IF(ISNUMBER(C63),CORREL($B$1:B63,$C$1:C63),\"\")","v":{"$error":"#N/A"}},{"$f":"'Sheet3 (2)'!M63","v":-5.0060720550532907E-2},{"$f":"IF(ISNUMBER(E63),CORREL($B$1:B63,$E$1:E63),\"\")","v":{"$error":"#N/A"}},{"$f":"'Sheet3 (2)'!O63","v":3.1144211238998509E-3},{"$f":"IF(ISNUMBER(G63),CORREL($B$1:B63,$G$1:G63),\"\")","v":{"$error":"#N/A"}},{"$f":"'Sheet3 (2)'!Q63","v":-2.9810298102980878E-3},{"$f":"IF(ISNUMBER(I63),CORREL($B$1:B63,$I$1:I63),\"\")","v":{"$error":"#N/A"}},{"$f":"'Sheet3 (2)'!S63","v":7.1291472443103382E-3},{"$f":"IF(ISNUMBER(K63),CORREL($B$1:B63,$K$1:K63),\"\")","v":{"$error":"#N/A"}},{"$f":"'Sheet3 (2)'!U63","v":-1.9827353655246814E-2},{"$f":"IF(ISNUMBER(M63),CORREL($B$1:B63,$M$1:M63),\"\")","v":{"$error":"#N/A"}},{"$f":"'Sheet3 (2)'!W63","v":3.1106302407357856E-3},{"$f":"IF(ISNUMBER(O63),CORREL($B$1:B63,$O$1:O63),\"\")","v":{"$error":"#N/A"}},{"$f":"'Sheet3 (2)'!Y63","v":-1.2137559002023386E-3},{"$f":"IF(ISNUMBER(Q63),CORREL($B$1:B63,$Q$1:Q63),\"\")","v":{"$error":"#N/A"}},{"$f":"'Sheet3 (2)'!AA63","v":9.1218515997277295E-3},{"$f":"IF(ISNUMBER(S63),CORREL($B$1:B63,$S$1:S63),\"\")","v":{"$error":"#N/A"}}]
[null,{"$f":"'Sheet3 (2)'!I64","v":{"$error":"#N/A"}},{"$f":"'Sheet3 (2)'!K64","v":-1.2787723785164706E-3},{"$f":"IF(ISNUMBER(C64),CORREL($B$1:B64,$C$1:C64),\"\")","v":{"$error":"#N/A"}},{"$f":"'Sheet3 (2)'!M64","v":-5.1679935231412739E-2},{"$f":"IF(ISNUMBER(E64),CORREL($B$1:B64,$E$1:E64),\"\")","v":{"$error":"#N/A"}},{"$f":"'Sheet3 (2)'!O64","v":4.1976980365606266E-3},{"$f":"IF(ISNUMBER(G64),CORREL($B$1:B64,$G$1:G64),\"\")","v":{"$error":"#N/A"}},{"$f":"'Sheet3 (2)'!Q64","v":-2.574525745257422E-3},{"$f":"IF(ISNUMBER(I64),CORREL($B$1:B64,$I$1:I64),\"\")","v":{"$error":"#N/A"}},{"$f":"'Sheet3 (2)'!S64","v":7.5404442007128763E-3},{"$f":"IF(ISNUMBER(K64),CORREL($B$1:B64,$K$1:K64),\"\")","v":{"$error":"#N/A"}},{"$f":"'Sheet3 (2)'!U64","v":-1.7264634475316985E-2},{"$f":"IF(ISNUMBER(M64),CORREL($B$1:B64,$M$1:M64),\"\")","v":{"$error":"#N/A"}},{"$f":"'Sheet3 (2)'!W64","v":3.9220989991886161E-3},{"$f":"IF(ISNUMBER(O64),CORREL($B$1:B64,$O$1:O64),\"\")","v":{"$error":"#N/A"}},{"$f":"'Sheet3 (2)'!Y64","v":-8.0917060013489242E-4},{"$f":"IF(ISNUMBER(Q64),CORREL($B$1:B64,$Q$1:Q64),\"\")","v":{"$error":"#N/A"}},{"$f":"'Sheet3 (2)'!AA64","v":1.0755616065350471E-2},{"$f":"IF(ISNUMBER(S64),CORREL($B$1:B64,$S$1:S64),\"\")","v":{"$error":"#N/A"}}]
[null,{"$f":"'Sheet3 (2)'!I65","v":{"$error":"#N/A"}},{"$f":"'Sheet3 (2)'!K65","v":-2.273373117362839E-3},{"$f":"IF(ISNUMBER(C65),CORREL($B$1:B65,$C$1:C65),\"\")","v":{"$error":"#N/A"}},{"$f":"'Sheet3 (2)'!M65","v":-5.2759411685332568E-2},{"$f":"IF(ISNUMBER(E65),CORREL($B$1:B65,$E$1:E65),\"\")","v":{"$error":"#N/A"}},{"$f":"'Sheet3 (2)'!O65","v":3.7914691943128119E-3},{"$f":"IF(ISNUMBER(G65),CORREL($B$1:B65,$G$1:G65),\"\")","v":{"$error":"#N/A"}},{"$f":"'Sheet3 (2)'!Q65","v":-1.7615176151760902E-3},{"$f":"IF(ISNUMBER(I65),CORREL($B$1:B65,$I$1:I65),\"\")","v":{"$error":"#N/A"}},{"$f":"'Sheet3 (2)'!S65","v":7.2662462297779151E-3},{"$f":"IF(ISNUMBER(K65),CORREL($B$1:B65,$K$1:K65),\"\")","v":{"$error":"#N/A"}},{"$f":"'Sheet3 (2)'!U65","v":-1.9287833827893269E-2},{"$f":"IF(ISNUMBER(M65),CORREL($B$1:B65,$M$1:M65),\"\")","v":{"$error":"#N/A"}},{"$f":"'Sheet3 (2)'!W65","v":2.0286718961320758E-3},{"$f":"IF(ISNUMBER(O65),CORREL($B$1:B65,$O$1:O65),\"\")","v":{"$error":"#N/A"}},{"$f":"'Sheet3 (2)'!Y65","v":-1.6183412002697848E-3},{"$f":"IF(ISNUMBER(Q65),CORREL($B$1:B65,$Q$1:Q65),\"\")","v":{"$error":"#N/A"}},{"$f":"'Sheet3 (2)'!AA65","v":1.1027910142954421E-2},{"$f":"IF(ISNUMBER(S65),CORREL($B$1:B65,$S$1:S65),\"\")","v":{"$error":"#N/A"}}]
[null,{"$f":"'Sheet3 (2)'!I66","v":{"$error":"#N/A"}},{"$f":"'Sheet3 (2)'!K66","v":-7.1042909917586191E-4},{"$f":"IF(ISNUMBER(C66),CORREL($B$1:B66,$C$1:C66),\"\")","v":{"$error":"#N/A"}},{"$f":"'Sheet3 (2)'!M66","v":-5.0330589664013006E-2},{"$f":"IF(ISNUMBER(E66),CORREL($B$1:B66,$E$1:E66),\"\")","v":{"$error":"#N/A"}},{"$f":"'Sheet3 (2)'!O66","v":3.520649966147666E-3},{"$f":"IF(ISNUMBER(G66),CORREL($B$1:B66,$G$1:G66),\"\")","v":{"$error":"#N/A"}},{"$f":"'Sheet3 (2)'!Q66","v":6.7750677506771219E-4},{"$f":"IF(ISNUMBER(I66),CORREL($B$1:B66,$I$1:I66),\"\")","v":{"$error":"#N/A"}},{"$f":"'Sheet3 (2)'!S66","v":1.179051275020564E-2},{"$f":"IF(ISNUMBER(K66),CORREL($B$1:B66,$K$1:K66),\"\")","v":{"$error":"#N/A"}},{"$f":"'Sheet3 (2)'!U66","v":-1.6185594820609696E-2},{"$f":"IF(ISNUMBER(M66),CORREL($B$1:B66,$M$1:M66),\"\")","v":{"$error":"#N/A"}},{"$f":"'Sheet3 (2)'!W66","v":2.7048958615093705E-3},{"$f":"IF(ISNUMBER(O66),CORREL($B$1:B66,$O$1:O66),\"\")","v":{"$error":"#N/A"}},{"$f":"'Sheet3 (2)'!Y66","v":-2.8320971004721232E-3},{"$f":"IF(ISNUMBER(Q66),CORREL($B$1:B66,$Q$1:Q66),\"\")","v":{"$error":"#N/A"}},{"$f":"'Sheet3 (2)'!AA66","v":9.5302927161334625E-3},{"$f":"IF(ISNUMBER(S66),CORREL($B$1:B66,$S$1:S66),\"\")","v":{"$error":"#N/A"}}]
[]
[]
[]
[]
[]
[]
[]
[]
[]
[]
[]
[]
[]
[]
[]
[null,null,null,{"$f":"'Sheet3 (2)'!C2","v":"2018-07-12"},null,{"$f":"'Sheet3 (2)'!C3","v":"2018-07-11"},null,{"$f":"'Sheet3 (2)'!C4","v":"2018-07-10"},null,{"$f":"'Sheet3 (2)'!C5","v":"2018-07-09"},null,{"$f":"'Sheet3 (2)'!C6","v":"2018-07-06"},null,{"$f":"'Sheet3 (2)'!C7","v":"2018-07-05"},null,{"$f":"'Sheet3 (2)'!C8","v":"2018-07-03"},null,{"$f":"'Sheet3 (2)'!C9","v":"2018-07-02"},null,{"$f":"'Sheet3 (2)'!C10","v":"2018-06-29"}]
[null,null,null,{"$f":"LOOKUP(2,1/(ISNUMBER(D1:D66)),D1:D66)","v":-0.88070755989031779},null,{"$f":"LOOKUP(2,1/(ISNUMBER(F1:F66)),F1:F66)","v":-0.750003916931274},null,{"$f":"LOOKUP(2,1/(ISNUMBER(H1:H81)),H1:H81)","v":-0.75594934814847059},null,{"$f":"LOOKUP(2,1/(ISNUMBER(J1:J81)),J1:J81)","v":-0.15957560938228332},null,{"$f":"LOOKUP(2,1/(ISNUMBER(L1:L81)),L1:L81)","v":0.86736004763653629},null,{"$f":"LOOKUP(2,1/(ISNUMBER(N1:N81)),N1:N81)","v":-0.64645878824685787},null,{"$f":"LOOKUP(2,1/(ISNUMBER(P1:P81)),P1:P81)","v":-0.85622526288967971},null,{"$f":"LOOKUP(2,1/(ISNUMBER(R1:R81)),R1:R81)","v":-0.49576360564873023},null,{"$f":"LOOKUP(2,1/(ISNUMBER(T1:T81)),T1:T81)","v":0.67607873727470946}]
[]
[null,null,{"$f":"RANK(D85,$D$85:$D$93,0)+COUNTIF($D$85:D85,D85)-1","v":9},{"$f":"D83","v":-0.88070755989031779},{"$f":"D82","v":"2018-07-12"},{"$f":"RANK(D85,$D$85:$D$93,0)+COUNTIF($D$85:D85,D85)-1","v":9},{"$f":"VLOOKUP(1,C85:E93,3,FALSE)","v":"2018-07-06"},{"$f":"VLOOKUP(1,C85:E93,2,FALSE)","v":0.86736004763653629},{"$f":"IFERROR(VLOOKUP(G85,Sheet3!AK1:AN10,4,FALSE),1)","v":5}]
[null,null,{"$f":"RANK(D86,$D$85:$D$93,0)+COUNTIF($D$85:D86,D86)-1","v":6},{"$f":"F83","v":-0.750003916931274},{"$f":"F82","v":"2018-07-11"},{"$f":"RANK(D86,$D$85:$D$93,0)+COUNTIF($D$85:D86,D86)-1","v":6},{"$f":"VLOOKUP(2,C85:E93,3,FALSE)","v":"2018-06-29"},{"$f":"VLOOKUP(2,C85:E93,2,FALSE)","v":0.67607873727470946}]
[null,null,{"$f":"RANK(D87,$D$85:$D$93,0)+COUNTIF($D$85:D87,D87)-1","v":7},{"$f":"H83","v":-0.75594934814847059},{"$f":"H82","v":"2018-07-10"},{"$f":"RANK(D87,$D$85:$D$93,0)+COUNTIF($D$85:D87,D87)-1","v":7},{"$f":"VLOOKUP(3,C85:E93,3,FALSE)","v":"2018-07-09"},{"$f":"VLOOKUP(3,C85:E93,2,FALSE)","v":-0.15957560938228332}]
[null,null,{"$f":"RANK(D88,$D$85:$D$93,0)+COUNTIF($D$85:D88,D88)-1","v":3},{"$f":"J83","v":-0.15957560938228332},{"$f":"J82","v":"2018-07-09"},{"$f":"RANK(D88,$D$85:$D$93,0)+COUNTIF($D$85:D88,D88)-1","v":3},{"$f":"VLOOKUP(4,C85:E93,3,FALSE)","v":"2018-07-02"},{"$f":"VLOOKUP(4,C85:E93,2,FALSE)","v":-0.49576360564873023}]
[null,null,{"$f":"RANK(D89,$D$85:$D$93,0)+COUNTIF($D$85:D89,D89)-1","v":1},{"$f":"L83","v":0.86736004763653629},{"$f":"L82","v":"2018-07-06"},{"$f":"RANK(D89,$D$85:$D$93,0)+COUNTIF($D$85:D89,D89)-1","v":1},{"$f":"VLOOKUP(5,C85:E93,3,FALSE)","v":"2018-07-05"},{"$f":"VLOOKUP(5,C85:E93,2,FALSE)","v":-0.64645878824685787}]
[null,null,{"$f":"RANK(D90,$D$85:$D$93,0)+COUNTIF($D$85:D90,D90)-1","v":5},{"$f":"N83","v":-0.64645878824685787},{"$f":"N82","v":"2018-07-05"},{"$f":"RANK(D90,$D$85:$D$93,0)+COUNTIF($D$85:D90,D90)-1","v":5},{"$f":"VLOOKUP(6,C85:E93,3,FALSE)","v":"2018-07-11"},{"$f":"VLOOKUP(6,C85:E93,2,FALSE)","v":-0.750003916931274}]
[null,null,{"$f":"RANK(D91,$D$85:$D$93,0)+COUNTIF($D$85:D91,D91)-1","v":8},{"$f":"P83","v":-0.85622526288967971},{"$f":"P82","v":"2018-07-03"},{"$f":"RANK(D91,$D$85:$D$93,0)+COUNTIF($D$85:D91,D91)-1","v":8},{"$f":"VLOOKUP(7,C85:E93,3,FALSE)","v":"2018-07-10"},{"$f":"VLOOKUP(7,C85:E93,2,FALSE)","v":-0.75594934814847059}]
[null,null,{"$f":"RANK(D92,$D$85:$D$93,0)+COUNTIF($D$85:D92,D92)-1","v":4},{"$f":"R83","v":-0.49576360564873023},{"$f":"R82","v":"2018-07-02"},{"$f":"RANK(D92,$D$85:$D$93,0)+COUNTIF($D$85:D92,D92)-1","v":4},{"$f":"VLOOKUP(8,C85:E93,3,FALSE)","v":"2018-07-03"},{"$f":"VLOOKUP(8,C85:E93,2,FALSE)","v":-0.85622526288967971}]
[null,null,{"$f":"RANK(D93,$D$85:$D$93,0)+COUNTIF($D$85:D93,D93)-1","v":2},{"$f":"T83","v":0.67607873727470946},{"$f":"T82","v":"2018-06-29"},{"$f":"RANK(D93,$D$85:$D$93,0)+COUNTIF($D$85:D93,D93)-1","v":2},{"$f":"VLOOKUP(9,C85:E93,3,FALSE)","v":"2018-07-12"},{"$f":"VLOOKUP(9,C85:E93,2,FALSE)","v":-0.88070755989031779}]

{"sheet":"Sheet3 (3)","index":5,"n_rows":87,"n_cols":40,"rows_kept":87,"cut":false,"hidden":true,"merged":[]}
[180,"08:00:00",{"$f":"IF(WEEKDAY(TODAY())=7,TODAY()-1,IF(WEEKDAY(TODAY())=1,TODAY()-2,TODAY()))","v":"2018-07-13"},{"$f":"YEAR(C1)","v":2018},{"$f":"MONTH(C1)","v":7},{"$f":"DAY(C1)","v":13},{"$f":"IF(RTD(\"cqg.rtd\",,\"StudyData\",$D$12,\"Bar\",,\"Time\",\"D\",\"-1\",,,,,\"T\")=C1,1,0)","v":0},{"$f":"RTD(\"cqg.rtd\",,\"StudyData\", \"Close(\"&$D$12&\") when LocalYear(\"&$D$12&\")=\"&$D$1&\" and localMonth(\"&$D$12&\") =\"&$E$1&\" and LocalDay(\"&$D$12&\")=\"&$F$1&\" and Barix(\"&$D$12&\",reference:=StartOfSession)=\"&A1&\"\", \"Bar\", \"\", \"Close\",\"5\",\"0\",,,,\"False\",\"T\",\"EveryTick\")","v":1.1696500000000001},{"$f":"IFERROR((H1-$G$2)/$G$2,NA())","v":-2.4732420792289477E-3},{"$f":"RTD(\"cqg.rtd\",,\"StudyData\", \"Close(\"&$D$12&\") when LocalYear(\"&$D$12&\")=\"&$D$2&\" and localMonth(\"&$D$12&\") =\"&$E$2&\" and LocalDay(\"&$D$12&\")=\"&$F$2&\" and Barix(\"&$D$12&\",reference:=StartOfSession)=\"&A1&\"\", \"Bar\", \"\", \"Close\",\"5\",\"0\",\"PrimaryOnly\",,,\"False\",\"T\",\"EveryTick\")","v":1.17265},{"$f":"IFERROR((J1-$G$3)/$G$3,NA())","v":-2.983802216539407E-4},{"$f":"RTD(\"cqg.rtd\",,\"StudyData\", \"Close(\"&$D$12&\") when LocalYear(\"&$D$12&\")=\"&$D$3&\" and localMonth(\"&$D$12&\") =\"&$E$3&\" and LocalDay(\"&$D$12&\")=\"&$F$3&\" and Barix(\"&$D$12&\",reference:=StartOfSession)=\"&A1&\"\", \"Bar\", \"\", \"Close\",\"5\",\"0\",\"PrimaryOnly\",,,\"False\",\"T\",\"EveryTick\")","v":1.18075},{"$f":"IFERROR((L1-$G$4)/$G$4,NA())","v":2.9650965774319935E-4},{"$f":"RTD(\"cqg.rtd\",,\"StudyData\", \"Close(\"&$D$12&\") when LocalYear(\"&$D$12&\")=\"&$D$4&\" and localMonth(\"&$D$12&\") =\"&$E$4&\" and LocalDay(\"&$D$12&\")=\"&$F$4&\" and Barix(\"&$D$12&\",reference:=StartOfSession)=\"&A1&\"\", \"Bar\", \"\", \"Close\",\"5\",\"0\",\"PrimaryOnly\",,,\"False\",\"T\",\"EveryTick\")","v":1.1774500000000001},{"$f":"IFERROR((N1-$G$5)/$G$5,NA())","v":-2.9215005504276003E-3},{"$f":"RTD(\"cqg.rtd\",,\"StudyData\", \"Close(\"&$D$12&\") when LocalYear(\"&$D$12&\")=\"&$D$5&\" and localMonth(\"&$D$12&\") =\"&$E$5&\" and LocalDay(\"&$D$12&\")=\"&$F$5&\" and Barix(\"&$D$12&\",reference:=StartOfSession)=\"&A1&\"\", \"Bar\", \"\", \"Close\",\"5\",\"0\",\"PrimaryOnly\",,,\"False\",\"T\",\"EveryTick\")","v":1.1839999999999999},{"$f":"IFERROR((P1-$G$6)/$G$6,NA())","v":2.9648454044894842E-3},{"$f":"RTD(\"cqg.rtd\",,\"StudyData\", \"Close(\"&$D$12&\") when LocalYear(\"&$D$12&\")=\"&$D$6&\" and localMonth(\"&$D$12&\") =\"&$E$6&\" and LocalDay(\"&$D$12&\")=\"&$F$6&\" and Barix(\"&$D$12&\",reference:=StartOfSession)=\"&A1&\"\", \"Bar\", \"\", \"Close\",\"5\",\"0\",\"PrimaryOnly\",,,\"False\",\"T\",\"EveryTick\")","v":1.18045},{"$f":"IFERROR((R1-$G$7)/$G$7,NA())","v":5.4083979218125184E-3},{"$f":"RTD(\"cqg.rtd\",,\"StudyData\", \"Close(\"&$D$12&\") when LocalYear(\"&$D$12&\")=\"&$D$7&\" and localMonth(\"&$D$12&\") =\"&$E$7&\" and LocalDay(\"&$D$12&\")=\"&$F$7&\" and Barix(\"&$D$12&\",reference:=StartOfSession)=\"&A1&\"\", \"Bar\", \"\", \"Close\",\"5\",\"0\",\"PrimaryOnly\",,,\"False\",\"T\",\"EveryTick\")","v":1.1772},{"$f":"IFERROR((T1-$G$8)/$G$8,NA())","v":4.9084467967048708E-3},{"$f":"RTD(\"cqg.rtd\",,\"StudyData\", \"Close(\"&$D$12&\") when LocalYear(\"&$D$12&\")=\"&$D$8&\" and localMonth(\"&$D$12&\") =\"&$E$8&\" and LocalDay(\"&$D$12&\")=\"&$F$8&\" and Barix(\"&$D$12&\",reference:=StartOfSession)=\"&A1&\"\", \"Bar\", \"\", \"Close\",\"5\",\"0\",\"PrimaryOnly\",,,\"False\",\"T\",\"EveryTick\")","v":1.1715},{"$f":"IFERROR((V1-$G$9)/$G$9,NA())","v":3.4690993190285551E-3},{"$f":"RTD(\"cqg.rtd\",,\"StudyData\", \"Close(\"&$D$12&\") when LocalYear(\"&$D$12&\")=\"&$D$9&\" and localMonth(\"&$D$12&\") =\"&$E$9&\" and LocalDay(\"&$D$12&\")=\"&$F$9&\" and Barix(\"&$D$12&\",reference:=StartOfSession)=\"&A1&\"\", \"Bar\", \"\", \"Close\",\"5\",\"0\",\"PrimaryOnly\",,,\"False\",\"T\",\"EveryTick\")","v":1.1712},{"$f":"IFERROR((X1-$G$10)/$G$10,NA())","v":-2.0875047927406492E-3},{"$f":"RTD(\"cqg.rtd\",,\"StudyData\", \"Close(\"&$D$12&\") when LocalYear(\"&$D$12&\")=\"&$D$10&\" and localMonth(\"&$D$12&\") =\"&$E$10&\" and LocalDay(\"&$D$12&\")=\"&$F$10&\" and Barix(\"&$D$12&\",reference:=StartOfSession)=\"&A1&\"\", \"Bar\", \"\", \"Close\",\"5\",\"0\",\"PrimaryOnly\",,,\"False\",\"T\",\"EveryTick\")","v":1.1623000000000001},{"$f":"IFERROR((Z1-$G$11)/$G$11,NA())","v":-4.3016303178804554E-5},{"$f":"RANK(AD1,$AD$1:$AD$10)+COUNTIF($AD$1:AD1,AD1)-1","v":8},{"$f":"DATE(D1,E1,F1)","v":"2018-07-13"},{"$f":"VLOOKUP(MAX(AE2:AE87),A1:I87,9,FALSE)","v":-6.3963157221442872E-4},null,1,{"$f":"VLOOKUP(AF1,$AB$1:$AD$10,2,FALSE)","v":"2018-07-06"},{"$f":"VLOOKUP(AF1,$AB$1:$AD$10,3,FALSE)","v":6.5156289924198597E-3},null,null,{"$f":"AG1","v":"2018-07-06"},{"$f":"AC1","v":"2018-07-13"},0,{"$f":"VLOOKUP(AK1,$AL$1:$AM$10,2,FALSE)","v":5}]
[{"$f":"A1+1","v":181},"08:05:00",{"$f":"WORKDAY(C1,-G27)","v":"2018-07-12"},{"$f":"YEAR(C2)","v":2018},{"$f":"MONTH(C2)","v":7},{"$f":"DAY(C2)","v":12},{"$f":"IF(G1=0,RTD(\"cqg.rtd\",,\"StudyData\",$D$12,\"Bar\",,\"Close\",\"D\",\"-1\",,,,,\"T\"),RTD(\"cqg.rtd\",,\"StudyData\",$D$12,\"Bar\",,\"Close\",\"D\",\"-2\",,,,,\"T\"))","v":1.17255},{"$f":"RTD(\"cqg.rtd\",,\"StudyData\", \"Close(\"&$D$12&\") when LocalYear(\"&$D$12&\")=\"&$D$1&\" and localMonth(\"&$D$12&\") =\"&$E$1&\" and LocalDay(\"&$D$12&\")=\"&$F$1&\" and Barix(\"&$D$12&\",reference:=StartOfSession)=\"&A2&\"\", \"Bar\", \"\", \"Close\",\"5\",\"0\",,,,\"False\",\"T\",\"EveryTick\")","v":1.17005},{"$f":"IFERROR((H2-$G$2)/$G$2,NA())","v":-2.1321052407146362E-3},{"$f":"RTD(\"cqg.rtd\",,\"StudyData\", \"Close(\"&$D$12&\") when LocalYear(\"&$D$12&\")=\"&$D$2&\" and localMonth(\"&$D$12&\") =\"&$E$2&\" and LocalDay(\"&$D$12&\")=\"&$F$2&\" and Barix(\"&$D$12&\",reference:=StartOfSession)=\"&A2&\"\", \"Bar\", \"\", \"Close\",\"5\",\"0\",\"PrimaryOnly\",,,\"False\",\"T\",\"EveryTick\")","v":1.1733},{"$f":"IFERROR((J2-$G$3)/$G$3,NA())","v":2.5575447570329665E-4},{"$f":"RTD(\"cqg.rtd\",,\"StudyData\", \"Close(\"&$D$12&\") when LocalYear(\"&$D$12&\")=\"&$D$3&\" and localMonth(\"&$D$12&\") =\"&$E$3&\" and LocalDay(\"&$D$12&\")=\"&$F$3&\" and Barix(\"&$D$12&\",reference:=StartOfSession)=\"&A2&\"\", \"Bar\", \"\", \"Close\",\"5\",\"0\",\"PrimaryOnly\",,,\"False\",\"T\",\"EveryTick\")","v":1.18025},{"$f":"IFERROR((L2-$G$4)/$G$4,NA())","v":-1.2707556760409392E-4},{"$f":"RTD(\"cqg.rtd\",,\"StudyData\", \"Close(\"&$D$12&\") when LocalYear(\"&$D$12&\")=\"&$D$4&\" and localMonth(\"&$D$12&\") =\"&$E$4&\" and LocalDay(\"&$D$12&\")=\"&$F$4&\" and Barix(\"&$D$12&\",reference:=StartOfSession)=\"&A2&\"\", \"Bar\", \"\", \"Close\",\"5\",\"0\",\"PrimaryOnly\",,,\"False\",\"T\",\"EveryTick\")","v":1.1778999999999999},{"$f":"IFERROR((N2-$G$5)/$G$5,NA())","v":-2.5404352612415221E-3},{"$f":"RTD(\"cqg.rtd\",,\"StudyData\", \"Close(\"&$D$12&\") when LocalYear(\"&$D$12&\")=\"&$D$5&\" and localMonth(\"&$D$12&\") =\"&$E$5&\" and LocalDay(\"&$D$12&\")=\"&$F$5&\" and Barix(\"&$D$12&\",reference:=StartOfSession)=\"&A2&\"\", \"Bar\", \"\", \"Close\",\"5\",\"0\",\"PrimaryOnly\",,,\"False\",\"T\",\"EveryTick\")","v":1.1835500000000001},{"$f":"IFERROR((P2-$G$6)/$G$6,NA())","v":2.5836509953409545E-3},{"$f":"RTD(\"cqg.rtd\",,\"StudyData\", \"Close(\"&$D$12&\") when LocalYear(\"&$D$12&\")=\"&$D$6&\" and localMonth(\"&$D$12&\") =\"&$E$6&\" and LocalDay(\"&$D$12&\")=\"&$F$6&\" and Barix(\"&$D$12&\",reference:=StartOfSession)=\"&A2&\"\", \"Bar\", \"\", \"Close\",\"5\",\"0\",\"PrimaryOnly\",,,\"False\",\"T\",\"EveryTick\")","v":1.1816500000000001},{"$f":"IFERROR((R2-$G$7)/$G$7,NA())","v":6.4304573716039252E-3},{"$f":"RTD(\"cqg.rtd\",,\"StudyData\", \"Close(\"&$D$12&\") when LocalYear(\"&$D$12&\")=\"&$D$7&\" and localMonth(\"&$D$12&\") =\"&$E$7&\" and LocalDay(\"&$D$12&\")=\"&$F$7&\" and Barix(\"&$D$12&\",reference:=StartOfSession)=\"&A2&\"\", \"Bar\", \"\", \"Close\",\"5\",\"0\",\"PrimaryOnly\",,,\"False\",\"T\",\"EveryTick\")","v":1.1768000000000001},{"$f":"IFERROR((T2-$G$8)/$G$8,NA())","v":4.5669896282384782E-3},{"$f":"RTD(\"cqg.rtd\",,\"StudyData\", \"Close(\"&$D$12&\") when LocalYear(\"&$D$12&\")=\"&$D$8&\" and localMonth(\"&$D$12&\") =\"&$E$8&\" and LocalDay(\"&$D$12&\")=\"&$F$8&\" and Barix(\"&$D$12&\",reference:=StartOfSession)=\"&A2&\"\", \"Bar\", \"\", \"Close\",\"5\",\"0\",\"PrimaryOnly\",,,\"False\",\"T\",\"EveryTick\")","v":1.1711},{"$f":"IFERROR((V2-$G$9)/$G$9,NA())","v":3.1264722257911951E-3},{"$f":"RTD(\"cqg.rtd\",,\"StudyData\", \"Close(\"&$D$12&\") when LocalYear(\"&$D$12&\")=\"&$D$9&\" and localMonth(\"&$D$12&\") =\"&$E$9&\" and LocalDay(\"&$D$12&\")=\"&$F$9&\" and Barix(\"&$D$12&\",reference:=StartOfSession)=\"&A2&\"\", \"Bar\", \"\", \"Close\",\"5\",\"0\",\"PrimaryOnly\",,,\"False\",\"T\",\"EveryTick\")","v":1.1713},{"$f":"IFERROR((X2-$G$10)/$G$10,NA())","v":-2.0023005154859407E-3},{"$f":"RTD(\"cqg.rtd\",,\"StudyData\", \"Close(\"&$D$12&\") when LocalYear(\"&$D$12&\")=\"&$D$10&\" and localMonth(\"&$D$12&\") =\"&$E$10&\" and LocalDay(\"&$D$12&\")=\"&$F$10&\" and Barix(\"&$D$12&\",reference:=StartOfSession)=\"&A2&\"\", \"Bar\", \"\", \"Close\",\"5\",\"0\",\"PrimaryOnly\",,,\"False\",\"T\",\"EveryTick\")","v":1.1629499999999999},{"$f":"IFERROR((Z2-$G$11)/$G$11,NA())","v":5.1619563814680081E-4},{"$f":"RANK(AD2,$AD$1:$AD$10)+COUNTIF($AD$1:AD2,AD2)-1","v":5},{"$f":"DATE(D2,E2,F2)","v":"2018-07-12"},{"$f":"VLOOKUP(MAX(AE2:AE87),A1:K87,11,FALSE)","v":7.672634271098899E-4},{"$f":"IF(AND(H1<>\"\",H2<>\"\",H3=\"\"),A2,\"\")","v":""},2,{"$f":"VLOOKUP(AF2,$AB$1:$AD$10,2,FALSE)","v":"2018-07-03"},{"$f":"VLOOKUP(AF2,$AB$1:$AD$10,3,FALSE)","v":4.0686967321939349E-3},null,null,{"$f":"AG2","v":"2018-07-03"},{"$f":"AC2","v":"2018-07-12"},1,{"$f":"VLOOKUP(AK2,$AL$1:$AM$10,2,FALSE)","v":7}]
[{"$f":"A2+1","v":182},"08:10:00",{"$f":"WORKDAY(C2,-G28)","v":"2018-07-11"},2018,7,11,{"$f":"IF(G1=0,RTD(\"cqg.rtd\",,\"StudyData\",$D$12,\"Bar\",,\"Close\",\"D\",\"-2\",,,,,\"T\"),RTD(\"cqg.rtd\",,\"StudyData\",$D$12,\"Bar\",,\"Close\",\"D\",\"-3\",,,,,\"T\"))","v":1.173},{"$f":"RTD(\"cqg.rtd\",,\"StudyData\", \"Close(\"&$D$12&\") when LocalYear(\"&$D$12&\")=\"&$D$1&\" and localMonth(\"&$D$12&\") =\"&$E$1&\" and LocalDay(\"&$D$12&\")=\"&$F$1&\" and Barix(\"&$D$12&\",reference:=StartOfSession)=\"&A3&\"\", \"Bar\", \"\", \"Close\",\"5\",\"0\",\"PrimaryOnly\",,,\"False\",\"T\",\"EveryTick\")","v":1.17005},{"$f":"IFERROR((H3-$G$2)/$G$2,NA())","v":-2.1321052407146362E-3},{"$f":"RTD(\"cqg.rtd\",,\"StudyData\", \"Close(\"&$D$12&\") when LocalYear(\"&$D$12&\")=\"&$D$2&\" and localMonth(\"&$D$12&\") =\"&$E$2&\" and LocalDay(\"&$D$12&\")=\"&$F$2&\" and Barix(\"&$D$12&\",reference:=StartOfSession)=\"&A3&\"\", \"Bar\", \"\", \"Close\",\"5\",\"0\",\"PrimaryOnly\",,,\"False\",\"T\",\"EveryTick\")","v":1.1732499999999999},2.1312872975265255E-4,{"$f":"RTD(\"cqg.rtd\",,\"StudyData\", \"Close(\"&$D$12&\") when LocalYear(\"&$D$12&\")=\"&$D$3&\" and localMonth(\"&$D$12&\") =\"&$E$3&\" and LocalDay(\"&$D$12&\")=\"&$F$3&\" and Barix(\"&$D$12&\",reference:=StartOfSession)=\"&A3&\"\", \"Bar\", \"\", \"Close\",\"5\",\"0\",\"PrimaryOnly\",,,\"False\",\"T\",\"EveryTick\")","v":1.18055},1.2707556760428203E-4,{"$f":"RTD(\"cqg.rtd\",,\"StudyData\", \"Close(\"&$D$12&\") when LocalYear(\"&$D$12&\")=\"&$D$4&\" and localMonth(\"&$D$12&\") =\"&$E$4&\" and LocalDay(\"&$D$12&\")=\"&$F$4&\" and Barix(\"&$D$12&\",reference:=StartOfSession)=\"&A3&\"\", \"Bar\", \"\", \"Close\",\"5\",\"0\",\"PrimaryOnly\",,,\"False\",\"T\",\"EveryTick\")","v":1.1776500000000001},-2.7521381996781905E-3,{"$f":"RTD(\"cqg.rtd\",,\"StudyData\", \"Close(\"&$D$12&\") when LocalYear(\"&$D$12&\")=\"&$D$5&\" and localMonth(\"&$D$12&\") =\"&$E$5&\" and LocalDay(\"&$D$12&\")=\"&$F$5&\" and Barix(\"&$D$12&\",reference:=StartOfSession)=\"&A3&\"\", \"Bar\", \"\", \"Close\",\"5\",\"0\",\"PrimaryOnly\",,,\"False\",\"T\",\"EveryTick\")","v":1.1835500000000001},2.5836509953409545E-3,{"$f":"RTD(\"cqg.rtd\",,\"StudyData\", \"Close(\"&$D$12&\") when LocalYear(\"&$D$12&\")=\"&$D$6&\" and localMonth(\"&$D$12&\") =\"&$E$6&\" and LocalDay(\"&$D$12&\")=\"&$F$6&\" and Barix(\"&$D$12&\",reference:=StartOfSession)=\"&A3&\"\", \"Bar\", \"\", \"Close\",\"5\",\"0\",\"PrimaryOnly\",,,\"False\",\"T\",\"EveryTick\")","v":1.1817500000000001},6.5156289924198597E-3,{"$f":"RTD(\"cqg.rtd\",,\"StudyData\", \"Close(\"&$D$12&\") when LocalYear(\"&$D$12&\")=\"&$D$7&\" and localMonth(\"&$D$12&\") =\"&$E$7&\" and LocalDay(\"&$D$12&\")=\"&$F$7&\" and Barix(\"&$D$12&\",reference:=StartOfSession)=\"&A3&\"\", \"Bar\", \"\", \"Close\",\"5\",\"0\",\"PrimaryOnly\",,,\"False\",\"T\",\"EveryTick\")","v":1.1769000000000001},4.6523539203550766E-3,{"$f":"RTD(\"cqg.rtd\",,\"StudyData\", \"Close(\"&$D$12&\") when LocalYear(\"&$D$12&\")=\"&$D$8&\" and localMonth(\"&$D$12&\") =\"&$E$8&\" and LocalDay(\"&$D$12&\")=\"&$F$8&\" and Barix(\"&$D$12&\",reference:=StartOfSession)=\"&A3&\"\", \"Bar\", \"\", \"Close\",\"5\",\"0\",\"PrimaryOnly\",,,\"False\",\"T\",\"EveryTick\")","v":1.1711499999999999},3.1693006124457702E-3,{"$f":"RTD(\"cqg.rtd\",,\"StudyData\", \"Close(\"&$D$12&\") when LocalYear(\"&$D$12&\")=\"&$D$9&\" and localMonth(\"&$D$12&\") =\"&$E$9&\" and LocalDay(\"&$D$12&\")=\"&$F$9&\" and Barix(\"&$D$12&\",reference:=StartOfSession)=\"&A3&\"\", \"Bar\", \"\", \"Close\",\"5\",\"0\",\"PrimaryOnly\",,,\"False\",\"T\",\"EveryTick\")","v":1.1710499999999999},-2.2153112086228072E-3,{"$f":"RTD(\"cqg.rtd\",,\"StudyData\", \"Close(\"&$D$12&\") when LocalYear(\"&$D$12&\")=\"&$D$10&\" and localMonth(\"&$D$12&\") =\"&$E$10&\" and LocalDay(\"&$D$12&\")=\"&$F$10&\" and Barix(\"&$D$12&\",reference:=StartOfSession)=\"&A3&\"\", \"Bar\", \"\", \"Close\",\"5\",\"0\",\"PrimaryOnly\",,,\"False\",\"T\",\"EveryTick\")","v":1.1634500000000001},9.4635866993599254E-4,{"$f":"RANK(AD3,$AD$1:$AD$10)+COUNTIF($AD$1:AD3,AD3)-1","v":10},"2018-07-11",{"$f":"VLOOKUP(MAX(AE2:AE87),A1:M87,13,FALSE)","v":-2.5415113520839477E-3},{"$f":"IF(AND(H2<>\"\",H3<>\"\",H4=\"\"),A3,\"\")","v":""},3,"2018-07-05",3.9694395834221014E-3,null,null,"2018-07-05","2018-07-11",2,6]
[183,"08:15:00","2018-07-10",2018,7,10,{"$f":"IF(G1=0,RTD(\"cqg.rtd\",,\"StudyData\",$D$12,\"Bar\",,\"Close\",\"D\",\"-3\",,,,,\"T\"),RTD(\"cqg.rtd\",,\"StudyData\",$D$12,\"Bar\",,\"Close\",\"D\",\"-4\",,,,,\"T\"))","v":1.1803999999999999},{"$f":"RTD(\"cqg.rtd\",,\"StudyData\", \"Close(\"&$D$12&\") when LocalYear(\"&$D$12&\")=\"&$D$1&\" and localMonth(\"&$D$12&\") =\"&$E$1&\" and LocalDay(\"&$D$12&\")=\"&$F$1&\" and Barix(\"&$D$12&\",reference:=StartOfSession)=\"&A4&\"\", \"Bar\", \"\", \"Close\",\"5\",\"0\",\"PrimaryOnly\",,,\"False\",\"T\",\"EveryTick\")","v":1.1697},-2.4305999744147536E-3,{"$f":"RTD(\"cqg.rtd\",,\"StudyData\", \"Close(\"&$D$12&\") when LocalYear(\"&$D$12&\")=\"&$D$2&\" and localMonth(\"&$D$12&\") =\"&$E$2&\" and LocalDay(\"&$D$12&\")=\"&$F$2&\" and Barix(\"&$D$12&\",reference:=StartOfSession)=\"&A4&\"\", \"Bar\", \"\", \"Close\",\"5\",\"0\",\"PrimaryOnly\",,,\"False\",\"T\",\"EveryTick\")","v":1.1733},2.5575447570329665E-4,{"$f":"RTD(\"cqg.rtd\",,\"StudyData\", \"Close(\"&$D$12&\") when LocalYear(\"&$D$12&\")=\"&$D$3&\" and localMonth(\"&$D$12&\") =\"&$E$3&\" and LocalDay(\"&$D$12&\")=\"&$F$3&\" and Barix(\"&$D$12&\",reference:=StartOfSession)=\"&A4&\"\", \"Bar\", \"\", \"Close\",\"5\",\"0\",\"PrimaryOnly\",,,\"False\",\"T\",\"EveryTick\")","v":1.1803999999999999},0,{"$f":"RTD(\"cqg.rtd\",,\"StudyData\", \"Close(\"&$D$12&\") when LocalYear(\"&$D$12&\")=\"&$D$4&\" and localMonth(\"&$D$12&\") =\"&$E$4&\" and LocalDay(\"&$D$12&\")=\"&$F$4&\" and Barix(\"&$D$12&\",reference:=StartOfSession)=\"&A4&\"\", \"Bar\", \"\", \"Close\",\"5\",\"0\",\"PrimaryOnly\",,,\"False\",\"T\",\"EveryTick\")","v":1.1773499999999999},-3.0061817258024929E-3,{"$f":"RTD(\"cqg.rtd\",,\"StudyData\", \"Close(\"&$D$12&\") when LocalYear(\"&$D$12&\")=\"&$D$5&\" and localMonth(\"&$D$12&\") =\"&$E$5&\" and LocalDay(\"&$D$12&\")=\"&$F$5&\" and Barix(\"&$D$12&\",reference:=StartOfSession)=\"&A4&\"\", \"Bar\", \"\", \"Close\",\"5\",\"0\",\"PrimaryOnly\",,,\"False\",\"T\",\"EveryTick\")","v":1.1838},2.7954256670900961E-3,{"$f":"RTD(\"cqg.rtd\",,\"StudyData\", \"Close(\"&$D$12&\") when LocalYear(\"&$D$12&\")=\"&$D$6&\" and localMonth(\"&$D$12&\") =\"&$E$6&\" and LocalDay(\"&$D$12&\")=\"&$F$6&\" and Barix(\"&$D$12&\",reference:=StartOfSession)=\"&A4&\"\", \"Bar\", \"\", \"Close\",\"5\",\"0\",\"PrimaryOnly\",,,\"False\",\"T\",\"EveryTick\")","v":1.1814},6.2175283195639933E-3,{"$f":"RTD(\"cqg.rtd\",,\"StudyData\", \"Close(\"&$D$12&\") when LocalYear(\"&$D$12&\")=\"&$D$7&\" and localMonth(\"&$D$12&\") =\"&$E$7&\" and LocalDay(\"&$D$12&\")=\"&$F$7&\" and Barix(\"&$D$12&\",reference:=StartOfSession)=\"&A4&\"\", \"Bar\", \"\", \"Close\",\"5\",\"0\",\"PrimaryOnly\",,,\"False\",\"T\",\"EveryTick\")","v":1.1766000000000001},4.3962610440052823E-3,{"$f":"RTD(\"cqg.rtd\",,\"StudyData\", \"Close(\"&$D$12&\") when LocalYear(\"&$D$12&\")=\"&$D$8&\" and localMonth(\"&$D$12&\") =\"&$E$8&\" and LocalDay(\"&$D$12&\")=\"&$F$8&\" and Barix(\"&$D$12&\",reference:=StartOfSession)=\"&A4&\"\", \"Bar\", \"\", \"Close\",\"5\",\"0\",\"PrimaryOnly\",,,\"False\",\"T\",\"EveryTick\")","v":1.171},3.040815452481855E-3,{"$f":"RTD(\"cqg.rtd\",,\"StudyData\", \"Close(\"&$D$12&\") when LocalYear(\"&$D$12&\")=\"&$D$9&\" and localMonth(\"&$D$12&\") =\"&$E$9&\" and LocalDay(\"&$D$12&\")=\"&$F$9&\" and Barix(\"&$D$12&\",reference:=StartOfSession)=\"&A4&\"\", \"Bar\", \"\", \"Close\",\"5\",\"0\",\"PrimaryOnly\",,,\"False\",\"T\",\"EveryTick\")","v":1.1713},-2.0023005154859407E-3,{"$f":"RTD(\"cqg.rtd\",,\"StudyData\", \"Close(\"&$D$12&\") when LocalYear(\"&$D$12&\")=\"&$D$10&\" and localMonth(\"&$D$12&\") =\"&$E$10&\" and LocalDay(\"&$D$12&\")=\"&$F$10&\" and Barix(\"&$D$12&\",reference:=StartOfSession)=\"&A4&\"\", \"Bar\", \"\", \"Close\",\"5\",\"0\",\"PrimaryOnly\",,,\"False\",\"T\",\"EveryTick\")","v":1.1636},1.0754075794725973E-3,{"$f":"RANK(AD4,$AD$1:$AD$10)+COUNTIF($AD$1:AD4,AD4)-1","v":9},"2018-07-10",{"$f":"VLOOKUP(MAX(AE2:AE87),A1:O87,15,FALSE)","v":-1.7783046828689904E-3},"",4,"2018-06-28",2.8820923129865912E-3,null,null,"2018-06-28","2018-07-10",3,9]
[184,"08:20:00","2018-07-09",2018,7,9,{"$f":"IF(G1=0,RTD(\"cqg.rtd\",,\"StudyData\",$D$12,\"Bar\",,\"Close\",\"D\",\"-4\",,,,,\"T\"),RTD(\"cqg.rtd\",,\"StudyData\",$D$12,\"Bar\",,\"Close\",\"D\",\"-5\",,,,,\"T\"))","v":1.1809000000000001},{"$f":"RTD(\"cqg.rtd\",,\"StudyData\", \"Close(\"&$D$12&\") when LocalYear(\"&$D$12&\")=\"&$D$1&\" and localMonth(\"&$D$12&\") =\"&$E$1&\" and LocalDay(\"&$D$12&\")=\"&$F$1&\" and Barix(\"&$D$12&\",reference:=StartOfSession)=\"&A5&\"\", \"Bar\", \"\", \"Close\",\"5\",\"0\",\"PrimaryOnly\",,,\"False\",\"T\",\"EveryTick\")","v":1.1697},-2.4305999744147536E-3,{"$f":"RTD(\"cqg.rtd\",,\"StudyData\", \"Close(\"&$D$12&\") when LocalYear(\"&$D$12&\")=\"&$D$2&\" and localMonth(\"&$D$12&\") =\"&$E$2&\" and LocalDay(\"&$D$12&\")=\"&$F$2&\" and Barix(\"&$D$12&\",reference:=StartOfSession)=\"&A5&\"\", \"Bar\", \"\", \"Close\",\"5\",\"0\",\"PrimaryOnly\",,,\"False\",\"T\",\"EveryTick\")","v":1.1729499999999999},-4.2625745950644088E-5,{"$f":"RTD(\"cqg.rtd\",,\"StudyData\", \"Close(\"&$D$12&\") when LocalYear(\"&$D$12&\")=\"&$D$3&\" and localMonth(\"&$D$12&\") =\"&$E$3&\" and LocalDay(\"&$D$12&\")=\"&$F$3&\" and Barix(\"&$D$12&\",reference:=StartOfSession)=\"&A5&\"\", \"Bar\", \"\", \"Close\",\"5\",\"0\",\"PrimaryOnly\",,,\"False\",\"T\",\"EveryTick\")","v":1.18035},-4.2358522534635275E-5,{"$f":"RTD(\"cqg.rtd\",,\"StudyData\", \"Close(\"&$D$12&\") when LocalYear(\"&$D$12&\")=\"&$D$4&\" and localMonth(\"&$D$12&\") =\"&$E$4&\" and LocalDay(\"&$D$12&\")=\"&$F$4&\" and Barix(\"&$D$12&\",reference:=StartOfSession)=\"&A5&\"\", \"Bar\", \"\", \"Close\",\"5\",\"0\",\"PrimaryOnly\",,,\"False\",\"T\",\"EveryTick\")","v":1.1773},-3.0485223134897512E-3,{"$f":"RTD(\"cqg.rtd\",,\"StudyData\", \"Close(\"&$D$12&\") when LocalYear(\"&$D$12&\")=\"&$D$5&\" and localMonth(\"&$D$12&\") =\"&$E$5&\" and LocalDay(\"&$D$12&\")=\"&$F$5&\" and Barix(\"&$D$12&\",reference:=StartOfSession)=\"&A5&\"\", \"Bar\", \"\", \"Close\",\"5\",\"0\",\"PrimaryOnly\",,,\"False\",\"T\",\"EveryTick\")","v":1.1835},2.5412960609910136E-3,{"$f":"RTD(\"cqg.rtd\",,\"StudyData\", \"Close(\"&$D$12&\") when LocalYear(\"&$D$12&\")=\"&$D$6&\" and localMonth(\"&$D$12&\") =\"&$E$6&\" and LocalDay(\"&$D$12&\")=\"&$F$6&\" and Barix(\"&$D$12&\",reference:=StartOfSession)=\"&A5&\"\", \"Bar\", \"\", \"Close\",\"5\",\"0\",\"PrimaryOnly\",,,\"False\",\"T\",\"EveryTick\")","v":1.1816},6.387871561195863E-3,{"$f":"RTD(\"cqg.rtd\",,\"StudyData\", \"Close(\"&$D$12&\") when LocalYear(\"&$D$12&\")=\"&$D$7&\" and localMonth(\"&$D$12&\") =\"&$E$7&\" and LocalDay(\"&$D$12&\")=\"&$F$7&\" and Barix(\"&$D$12&\",reference:=StartOfSession)=\"&A5&\"\", \"Bar\", \"\", \"Close\",\"5\",\"0\",\"PrimaryOnly\",,,\"False\",\"T\",\"EveryTick\")","v":1.17685},4.6096717742966824E-3,{"$f":"RTD(\"cqg.rtd\",,\"StudyData\", \"Close(\"&$D$12&\") when LocalYear(\"&$D$12&\")=\"&$D$8&\" and localMonth(\"&$D$12&\") =\"&$E$8&\" and LocalDay(\"&$D$12&\")=\"&$F$8&\" and Barix(\"&$D$12&\",reference:=StartOfSession)=\"&A5&\"\", \"Bar\", \"\", \"Close\",\"5\",\"0\",\"PrimaryOnly\",,,\"False\",\"T\",\"EveryTick\")","v":1.1712},3.2121289991005352E-3,{"$f":"RTD(\"cqg.rtd\",,\"StudyData\", \"Close(\"&$D$12&\") when LocalYear(\"&$D$12&\")=\"&$D$9&\" and localMonth(\"&$D$12&\") =\"&$E$9&\" and LocalDay(\"&$D$12&\")=\"&$F$9&\" and Barix(\"&$D$12&\",reference:=StartOfSession)=\"&A5&\"\", \"Bar\", \"\", \"Close\",\"5\",\"0\",\"PrimaryOnly\",,,\"False\",\"T\",\"EveryTick\")","v":1.1709000000000001},-2.3431176245047756E-3,{"$f":"RTD(\"cqg.rtd\",,\"StudyData\", \"Close(\"&$D$12&\") when LocalYear(\"&$D$12&\")=\"&$D$10&\" and localMonth(\"&$D$12&\") =\"&$E$10&\" and LocalDay(\"&$D$12&\")=\"&$F$10&\" and Barix(\"&$D$12&\",reference:=StartOfSession)=\"&A5&\"\", \"Bar\", \"\", \"Close\",\"5\",\"0\",\"PrimaryOnly\",,,\"False\",\"T\",\"EveryTick\")","v":1.1636},1.0754075794725973E-3,{"$f":"RANK(AD5,$AD$1:$AD$10)+COUNTIF($AD$1:AD5,AD5)-1","v":6},"2018-07-09",{"$f":"VLOOKUP(MAX(AE2:AE87),A1:Q87,17,FALSE)","v":3.8119440914852974E-4},"",5,"2018-07-12",7.672634271098899E-4,null,null,"2018-07-12","2018-07-09",4,1]
[185,"08:25:00","2018-07-06",2018,7,6,{"$f":"IF(G1=0,RTD(\"cqg.rtd\",,\"StudyData\",$D$12,\"Bar\",,\"Close\",\"D\",\"-5\",,,,,\"T\"),RTD(\"cqg.rtd\",,\"StudyData\",$D$12,\"Bar\",,\"Close\",\"D\",\"-6\",,,,,\"T\"))","v":1.1805000000000001},{"$f":"RTD(\"cqg.rtd\",,\"StudyData\", \"Close(\"&$D$12&\") when LocalYear(\"&$D$12&\")=\"&$D$1&\" and localMonth(\"&$D$12&\") =\"&$E$1&\" and LocalDay(\"&$D$12&\")=\"&$F$1&\" and Barix(\"&$D$12&\",reference:=StartOfSession)=\"&A6&\"\", \"Bar\", \"\", \"Close\",\"5\",\"0\",\"PrimaryOnly\",,,\"False\",\"T\",\"EveryTick\")","v":1.1696500000000001},-2.4732420792289477E-3,{"$f":"RTD(\"cqg.rtd\",,\"StudyData\", \"Close(\"&$D$12&\") when LocalYear(\"&$D$12&\")=\"&$D$2&\" and localMonth(\"&$D$12&\") =\"&$E$2&\" and LocalDay(\"&$D$12&\")=\"&$F$2&\" and Barix(\"&$D$12&\",reference:=StartOfSession)=\"&A6&\"\", \"Bar\", \"\", \"Close\",\"5\",\"0\",\"PrimaryOnly\",,,\"False\",\"T\",\"EveryTick\")","v":1.1731499999999999},1.2787723785155367E-4,{"$f":"RTD(\"cqg.rtd\",,\"StudyData\", \"Close(\"&$D$12&\") when LocalYear(\"&$D$12&\")=\"&$D$3&\" and localMonth(\"&$D$12&\") =\"&$E$3&\" and LocalDay(\"&$D$12&\")=\"&$F$3&\" and Barix(\"&$D$12&\",reference:=StartOfSession)=\"&A6&\"\", \"Bar\", \"\", \"Close\",\"5\",\"0\",\"PrimaryOnly\",,,\"False\",\"T\",\"EveryTick\")","v":1.1807000000000001},2.5415113520856406E-4,{"$f":"RTD(\"cqg.rtd\",,\"StudyData\", \"Close(\"&$D$12&\") when LocalYear(\"&$D$12&\")=\"&$D$4&\" and localMonth(\"&$D$12&\") =\"&$E$4&\" and LocalDay(\"&$D$12&\")=\"&$F$4&\" and Barix(\"&$D$12&\",reference:=StartOfSession)=\"&A6&\"\", \"Bar\", \"\", \"Close\",\"5\",\"0\",\"PrimaryOnly\",,,\"False\",\"T\",\"EveryTick\")","v":1.1774500000000001},-2.9215005504276003E-3,{"$f":"RTD(\"cqg.rtd\",,\"StudyData\", \"Close(\"&$D$12&\") when LocalYear(\"&$D$12&\")=\"&$D$5&\" and localMonth(\"&$D$12&\") =\"&$E$5&\" and LocalDay(\"&$D$12&\")=\"&$F$5&\" and Barix(\"&$D$12&\",reference:=StartOfSession)=\"&A6&\"\", \"Bar\", \"\", \"Close\",\"5\",\"0\",\"PrimaryOnly\",,,\"False\",\"T\",\"EveryTick\")","v":1.1834},2.4565861922913193E-3,{"$f":"RTD(\"cqg.rtd\",,\"StudyData\", \"Close(\"&$D$12&\") when LocalYear(\"&$D$12&\")=\"&$D$6&\" and localMonth(\"&$D$12&\") =\"&$E$6&\" and LocalDay(\"&$D$12&\")=\"&$F$6&\" and Barix(\"&$D$12&\",reference:=StartOfSession)=\"&A6&\"\", \"Bar\", \"\", \"Close\",\"5\",\"0\",\"PrimaryOnly\",,,\"False\",\"T\",\"EveryTick\")","v":1.18215},6.8563154756835984E-3,{"$f":"RTD(\"cqg.rtd\",,\"StudyData\", \"Close(\"&$D$12&\") when LocalYear(\"&$D$12&\")=\"&$D$7&\" and localMonth(\"&$D$12&\") =\"&$E$7&\" and LocalDay(\"&$D$12&\")=\"&$F$7&\" and Barix(\"&$D$12&\",reference:=StartOfSession)=\"&A6&\"\", \"Bar\", \"\", \"Close\",\"5\",\"0\",\"PrimaryOnly\",,,\"False\",\"T\",\"EveryTick\")","v":1.1758999999999999},3.7987109991889046E-3,{"$f":"RTD(\"cqg.rtd\",,\"StudyData\", \"Close(\"&$D$12&\") when LocalYear(\"&$D$12&\")=\"&$D$8&\" and localMonth(\"&$D$12&\") =\"&$E$8&\" and LocalDay(\"&$D$12&\")=\"&$F$8&\" and Barix(\"&$D$12&\",reference:=StartOfSession)=\"&A6&\"\", \"Bar\", \"\", \"Close\",\"5\",\"0\",\"PrimaryOnly\",,,\"False\",\"T\",\"EveryTick\")","v":1.1712499999999999},3.2549573857551099E-3,{"$f":"RTD(\"cqg.rtd\",,\"StudyData\", \"Close(\"&$D$12&\") when LocalYear(\"&$D$12&\")=\"&$D$9&\" and localMonth(\"&$D$12&\") =\"&$E$9&\" and LocalDay(\"&$D$12&\")=\"&$F$9&\" and Barix(\"&$D$12&\",reference:=StartOfSession)=\"&A6&\"\", \"Bar\", \"\", \"Close\",\"5\",\"0\",\"PrimaryOnly\",,,\"False\",\"T\",\"EveryTick\")","v":1.1709499999999999},-2.3005154858775161E-3,{"$f":"RTD(\"cqg.rtd\",,\"StudyData\", \"Close(\"&$D$12&\") when LocalYear(\"&$D$12&\")=\"&$D$10&\" and localMonth(\"&$D$12&\") =\"&$E$10&\" and LocalDay(\"&$D$12&\")=\"&$F$10&\" and Barix(\"&$D$12&\",reference:=StartOfSession)=\"&A6&\"\", \"Bar\", \"\", \"Close\",\"5\",\"0\",\"PrimaryOnly\",,,\"False\",\"T\",\"EveryTick\")","v":1.1632},7.3127715404139662E-4,{"$f":"RANK(AD6,$AD$1:$AD$10)+COUNTIF($AD$1:AD6,AD6)-1","v":1},"2018-07-06",{"$f":"VLOOKUP(MAX(AE2:AE87),A1:S87,19,FALSE)","v":6.5156289924198597E-3},"",6,"2018-07-09",3.8119440914852974E-4,null,null,"2018-07-09","2018-07-06",5,4]
[186,"08:30:00","2018-07-05",2018,7,5,{"$f":"IF(G1=0,RTD(\"cqg.rtd\",,\"StudyData\",$D$12,\"Bar\",,\"Close\",\"D\",\"-6\",,,,,\"T\"),RTD(\"cqg.rtd\",,\"StudyData\",$D$12,\"Bar\",,\"Close\",\"D\",\"-7\",,,,,\"T\"))","v":1.1740999999999999},{"$f":"RTD(\"cqg.rtd\",,\"StudyData\", \"Close(\"&$D$12&\") when LocalYear(\"&$D$12&\")=\"&$D$1&\" and localMonth(\"&$D$12&\") =\"&$E$1&\" and LocalDay(\"&$D$12&\")=\"&$F$1&\" and Barix(\"&$D$12&\",reference:=StartOfSession)=\"&A7&\"\", \"Bar\", \"\", \"Close\",\"5\",\"0\",\"PrimaryOnly\",,,\"False\",\"T\",\"EveryTick\")","v":1.1697},-2.4305999744147536E-3,{"$f":"RTD(\"cqg.rtd\",,\"StudyData\", \"Close(\"&$D$12&\") when LocalYear(\"&$D$12&\")=\"&$D$2&\" and localMonth(\"&$D$12&\") =\"&$E$2&\" and LocalDay(\"&$D$12&\")=\"&$F$2&\" and Barix(\"&$D$12&\",reference:=StartOfSession)=\"&A7&\"\", \"Bar\", \"\", \"Close\",\"5\",\"0\",\"PrimaryOnly\",,,\"False\",\"T\",\"EveryTick\")","v":1.1731499999999999},1.2787723785155367E-4,{"$f":"RTD(\"cqg.rtd\",,\"StudyData\", \"Close(\"&$D$12&\") when LocalYear(\"&$D$12&\")=\"&$D$3&\" and localMonth(\"&$D$12&\") =\"&$E$3&\" and LocalDay(\"&$D$12&\")=\"&$F$3&\" and Barix(\"&$D$12&\",reference:=StartOfSession)=\"&A7&\"\", \"Bar\", \"\", \"Close\",\"5\",\"0\",\"PrimaryOnly\",,,\"False\",\"T\",\"EveryTick\")","v":1.1811499999999999},6.3537783802103398E-4,{"$f":"RTD(\"cqg.rtd\",,\"StudyData\", \"Close(\"&$D$12&\") when LocalYear(\"&$D$12&\")=\"&$D$4&\" and localMonth(\"&$D$12&\") =\"&$E$4&\" and LocalDay(\"&$D$12&\")=\"&$F$4&\" and Barix(\"&$D$12&\",reference:=StartOfSession)=\"&A7&\"\", \"Bar\", \"\", \"Close\",\"5\",\"0\",\"PrimaryOnly\",,,\"False\",\"T\",\"EveryTick\")","v":1.1774500000000001},-2.9215005504276003E-3,{"$f":"RTD(\"cqg.rtd\",,\"StudyData\", \"Close(\"&$D$12&\") when LocalYear(\"&$D$12&\")=\"&$D$5&\" and localMonth(\"&$D$12&\") =\"&$E$5&\" and LocalDay(\"&$D$12&\")=\"&$F$5&\" and Barix(\"&$D$12&\",reference:=StartOfSession)=\"&A7&\"\", \"Bar\", \"\", \"Close\",\"5\",\"0\",\"PrimaryOnly\",,,\"False\",\"T\",\"EveryTick\")","v":1.1835},2.5412960609910136E-3,{"$f":"RTD(\"cqg.rtd\",,\"StudyData\", \"Close(\"&$D$12&\") when LocalYear(\"&$D$12&\")=\"&$D$6&\" and localMonth(\"&$D$12&\") =\"&$E$6&\" and LocalDay(\"&$D$12&\")=\"&$F$6&\" and Barix(\"&$D$12&\",reference:=StartOfSession)=\"&A7&\"\", \"Bar\", \"\", \"Close\",\"5\",\"0\",\"PrimaryOnly\",,,\"False\",\"T\",\"EveryTick\")","v":1.1818500000000001},6.6008006132357942E-3,{"$f":"RTD(\"cqg.rtd\",,\"StudyData\", \"Close(\"&$D$12&\") when LocalYear(\"&$D$12&\")=\"&$D$7&\" and localMonth(\"&$D$12&\") =\"&$E$7&\" and LocalDay(\"&$D$12&\")=\"&$F$7&\" and Barix(\"&$D$12&\",reference:=StartOfSession)=\"&A7&\"\", \"Bar\", \"\", \"Close\",\"5\",\"0\",\"PrimaryOnly\",,,\"False\",\"T\",\"EveryTick\")","v":1.1761999999999999},4.0548038755386998E-3,{"$f":"RTD(\"cqg.rtd\",,\"StudyData\", \"Close(\"&$D$12&\") when LocalYear(\"&$D$12&\")=\"&$D$8&\" and localMonth(\"&$D$12&\") =\"&$E$8&\" and LocalDay(\"&$D$12&\")=\"&$F$8&\" and Barix(\"&$D$12&\",reference:=StartOfSession)=\"&A7&\"\", \"Bar\", \"\", \"Close\",\"5\",\"0\",\"PrimaryOnly\",,,\"False\",\"T\",\"EveryTick\")","v":1.171},3.040815452481855E-3,{"$f":"RTD(\"cqg.rtd\",,\"StudyData\", \"Close(\"&$D$12&\") when LocalYear(\"&$D$12&\")=\"&$D$9&\" and localMonth(\"&$D$12&\") =\"&$E$9&\" and LocalDay(\"&$D$12&\")=\"&$F$9&\" and Barix(\"&$D$12&\",reference:=StartOfSession)=\"&A7&\"\", \"Bar\", \"\", \"Close\",\"5\",\"0\",\"PrimaryOnly\",,,\"False\",\"T\",\"EveryTick\")","v":1.17},-3.109956119797344E-3,{"$f":"RTD(\"cqg.rtd\",,\"StudyData\", \"Close(\"&$D$12&\") when LocalYear(\"&$D$12&\")=\"&$D$10&\" and localMonth(\"&$D$12&\") =\"&$E$10&\" and LocalDay(\"&$D$12&\")=\"&$F$10&\" and Barix(\"&$D$12&\",reference:=StartOfSession)=\"&A7&\"\", \"Bar\", \"\", \"Close\",\"5\",\"0\",\"PrimaryOnly\",,,\"False\",\"T\",\"EveryTick\")","v":1.1631499999999999},6.8826085086240104E-4,{"$f":"RANK(AD7,$AD$1:$AD$10)+COUNTIF($AD$1:AD7,AD7)-1","v":3},"2018-07-05",{"$f":"VLOOKUP(MAX(AE2:AE87),A1:U87,21,FALSE)","v":3.9694395834221014E-3},"",7,"2018-06-29",-2.1301069313686658E-4,null,null,"2018-06-29","2018-07-05",6,8]
[187,"08:35:00","2018-07-03",2018,7,3,{"$f":"IF(G1=0,RTD(\"cqg.rtd\",,\"StudyData\",$D$12,\"Bar\",,\"Close\",\"D\",\"-7\",,,,,\"T\"),RTD(\"cqg.rtd\",,\"StudyData\",$D$12,\"Bar\",,\"Close\",\"D\",\"-8\",,,,,\"T\"))","v":1.1714500000000001},{"$f":"RTD(\"cqg.rtd\",,\"StudyData\", \"Close(\"&$D$12&\") when LocalYear(\"&$D$12&\")=\"&$D$1&\" and localMonth(\"&$D$12&\") =\"&$E$1&\" and LocalDay(\"&$D$12&\")=\"&$F$1&\" and Barix(\"&$D$12&\",reference:=StartOfSession)=\"&A8&\"\", \"Bar\", \"\", \"Close\",\"5\",\"0\",\"PrimaryOnly\",,,\"False\",\"T\",\"EveryTick\")","v":1.1695500000000001},-2.5585262888575258E-3,{"$f":"RTD(\"cqg.rtd\",,\"StudyData\", \"Close(\"&$D$12&\") when LocalYear(\"&$D$12&\")=\"&$D$2&\" and localMonth(\"&$D$12&\") =\"&$E$2&\" and LocalDay(\"&$D$12&\")=\"&$F$2&\" and Barix(\"&$D$12&\",reference:=StartOfSession)=\"&A8&\"\", \"Bar\", \"\", \"Close\",\"5\",\"0\",\"PrimaryOnly\",,,\"False\",\"T\",\"EveryTick\")","v":1.1729499999999999},-4.2625745950644088E-5,{"$f":"RTD(\"cqg.rtd\",,\"StudyData\", \"Close(\"&$D$12&\") when LocalYear(\"&$D$12&\")=\"&$D$3&\" and localMonth(\"&$D$12&\") =\"&$E$3&\" and LocalDay(\"&$D$12&\")=\"&$F$3&\" and Barix(\"&$D$12&\",reference:=StartOfSession)=\"&A8&\"\", \"Bar\", \"\", \"Close\",\"5\",\"0\",\"PrimaryOnly\",,,\"False\",\"T\",\"EveryTick\")","v":1.18065},2.1179261267374069E-4,{"$f":"RTD(\"cqg.rtd\",,\"StudyData\", \"Close(\"&$D$12&\") when LocalYear(\"&$D$12&\")=\"&$D$4&\" and localMonth(\"&$D$12&\") =\"&$E$4&\" and LocalDay(\"&$D$12&\")=\"&$F$4&\" and Barix(\"&$D$12&\",reference:=StartOfSession)=\"&A8&\"\", \"Bar\", \"\", \"Close\",\"5\",\"0\",\"PrimaryOnly\",,,\"False\",\"T\",\"EveryTick\")","v":1.1771},-3.2178846642391609E-3,{"$f":"RTD(\"cqg.rtd\",,\"StudyData\", \"Close(\"&$D$12&\") when LocalYear(\"&$D$12&\")=\"&$D$5&\" and localMonth(\"&$D$12&\") =\"&$E$5&\" and LocalDay(\"&$D$12&\")=\"&$F$5&\" and Barix(\"&$D$12&\",reference:=StartOfSession)=\"&A8&\"\", \"Bar\", \"\", \"Close\",\"5\",\"0\",\"PrimaryOnly\",,,\"False\",\"T\",\"EveryTick\")","v":1.1832},2.2871664548919307E-3,{"$f":"RTD(\"cqg.rtd\",,\"StudyData\", \"Close(\"&$D$12&\") when LocalYear(\"&$D$12&\")=\"&$D$6&\" and localMonth(\"&$D$12&\") =\"&$E$6&\" and LocalDay(\"&$D$12&\")=\"&$F$6&\" and Barix(\"&$D$12&\",reference:=StartOfSession)=\"&A8&\"\", \"Bar\", \"\", \"Close\",\"5\",\"0\",\"PrimaryOnly\",,,\"False\",\"T\",\"EveryTick\")","v":1.1819},6.6433864236436673E-3,{"$f":"RTD(\"cqg.rtd\",,\"StudyData\", \"Close(\"&$D$12&\") when LocalYear(\"&$D$12&\")=\"&$D$7&\" and localMonth(\"&$D$12&\") =\"&$E$7&\" and LocalDay(\"&$D$12&\")=\"&$F$7&\" and Barix(\"&$D$12&\",reference:=StartOfSession)=\"&A8&\"\", \"Bar\", \"\", \"Close\",\"5\",\"0\",\"PrimaryOnly\",,,\"False\",\"T\",\"EveryTick\")","v":1.1758500000000001},3.7560288531307004E-3,{"$f":"RTD(\"cqg.rtd\",,\"StudyData\", \"Close(\"&$D$12&\") when LocalYear(\"&$D$12&\")=\"&$D$8&\" and localMonth(\"&$D$12&\") =\"&$E$8&\" and LocalDay(\"&$D$12&\")=\"&$F$8&\" and Barix(\"&$D$12&\",reference:=StartOfSession)=\"&A8&\"\", \"Bar\", \"\", \"Close\",\"5\",\"0\",\"PrimaryOnly\",,,\"False\",\"T\",\"EveryTick\")","v":1.1711},3.1264722257911951E-3,{"$f":"RTD(\"cqg.rtd\",,\"StudyData\", \"Close(\"&$D$12&\") when LocalYear(\"&$D$12&\")=\"&$D$9&\" and localMonth(\"&$D$12&\") =\"&$E$9&\" and LocalDay(\"&$D$12&\")=\"&$F$9&\" and Barix(\"&$D$12&\",reference:=StartOfSession)=\"&A8&\"\", \"Bar\", \"\", \"Close\",\"5\",\"0\",\"PrimaryOnly\",,,\"False\",\"T\",\"EveryTick\")","v":1.17005},-3.067353981169895E-3,{"$f":"RTD(\"cqg.rtd\",,\"StudyData\", \"Close(\"&$D$12&\") when LocalYear(\"&$D$12&\")=\"&$D$10&\" and localMonth(\"&$D$12&\") =\"&$E$10&\" and LocalDay(\"&$D$12&\")=\"&$F$10&\" and Barix(\"&$D$12&\",reference:=StartOfSession)=\"&A8&\"\", \"Bar\", \"\", \"Close\",\"5\",\"0\",\"PrimaryOnly\",,,\"False\",\"T\",\"EveryTick\")","v":1.16465},1.9787499462295939E-3,{"$f":"RANK(AD8,$AD$1:$AD$10)+COUNTIF($AD$1:AD8,AD8)-1","v":2},"2018-07-03",{"$f":"VLOOKUP(MAX(AE2:AE87),A1:W87,23,FALSE)","v":4.0686967321939349E-3},"",8,"2018-07-13",-6.3963157221442872E-4,null,null,"2018-07-13","2018-07-03",7,0]
[188,"08:40:00","2018-06-29",2018,6,29,{"$f":"IF(G1=0,RTD(\"cqg.rtd\",,\"StudyData\",$D$12,\"Bar\",,\"Close\",\"D\",\"-8\",,,,,\"T\"),RTD(\"cqg.rtd\",,\"StudyData\",$D$12,\"Bar\",,\"Close\",\"D\",\"-9\",,,,,\"T\"))","v":1.1674500000000001},{"$f":"RTD(\"cqg.rtd\",,\"StudyData\", \"Close(\"&$D$12&\") when LocalYear(\"&$D$12&\")=\"&$D$1&\" and localMonth(\"&$D$12&\") =\"&$E$1&\" and LocalDay(\"&$D$12&\")=\"&$F$1&\" and Barix(\"&$D$12&\",reference:=StartOfSession)=\"&A9&\"\", \"Bar\", \"\", \"Close\",\"5\",\"0\",\"PrimaryOnly\",,,\"False\",\"T\",\"EveryTick\")","v":1.1698500000000001},-2.3026736599717919E-3,{"$f":"RTD(\"cqg.rtd\",,\"StudyData\", \"Close(\"&$D$12&\") when LocalYear(\"&$D$12&\")=\"&$D$2&\" and localMonth(\"&$D$12&\") =\"&$E$2&\" and LocalDay(\"&$D$12&\")=\"&$F$2&\" and Barix(\"&$D$12&\",reference:=StartOfSession)=\"&A9&\"\", \"Bar\", \"\", \"Close\",\"5\",\"0\",\"PrimaryOnly\",,,\"False\",\"T\",\"EveryTick\")","v":1.1732499999999999},2.1312872975265255E-4,{"$f":"RTD(\"cqg.rtd\",,\"StudyData\", \"Close(\"&$D$12&\") when LocalYear(\"&$D$12&\")=\"&$D$3&\" and localMonth(\"&$D$12&\") =\"&$E$3&\" and LocalDay(\"&$D$12&\")=\"&$F$3&\" and Barix(\"&$D$12&\",reference:=StartOfSession)=\"&A9&\"\", \"Bar\", \"\", \"Close\",\"5\",\"0\",\"PrimaryOnly\",,,\"False\",\"T\",\"EveryTick\")","v":1.1806000000000001},1.6943409013910543E-4,{"$f":"RTD(\"cqg.rtd\",,\"StudyData\", \"Close(\"&$D$12&\") when LocalYear(\"&$D$12&\")=\"&$D$4&\" and localMonth(\"&$D$12&\") =\"&$E$4&\" and LocalDay(\"&$D$12&\")=\"&$F$4&\" and Barix(\"&$D$12&\",reference:=StartOfSession)=\"&A9&\"\", \"Bar\", \"\", \"Close\",\"5\",\"0\",\"PrimaryOnly\",,,\"False\",\"T\",\"EveryTick\")","v":1.1769499999999999},-3.3449064273013123E-3,{"$f":"RTD(\"cqg.rtd\",,\"StudyData\", \"Close(\"&$D$12&\") when LocalYear(\"&$D$12&\")=\"&$D$5&\" and localMonth(\"&$D$12&\") =\"&$E$5&\" and LocalDay(\"&$D$12&\")=\"&$F$5&\" and Barix(\"&$D$12&\",reference:=StartOfSession)=\"&A9&\"\", \"Bar\", \"\", \"Close\",\"5\",\"0\",\"PrimaryOnly\",,,\"False\",\"T\",\"EveryTick\")","v":1.18285},1.990681914442907E-3,{"$f":"RTD(\"cqg.rtd\",,\"StudyData\", \"Close(\"&$D$12&\") when LocalYear(\"&$D$12&\")=\"&$D$6&\" and localMonth(\"&$D$12&\") =\"&$E$6&\" and LocalDay(\"&$D$12&\")=\"&$F$6&\" and Barix(\"&$D$12&\",reference:=StartOfSession)=\"&A9&\"\", \"Bar\", \"\", \"Close\",\"5\",\"0\",\"PrimaryOnly\",,,\"False\",\"T\",\"EveryTick\")","v":1.1819},6.6433864236436673E-3,{"$f":"RTD(\"cqg.rtd\",,\"StudyData\", \"Close(\"&$D$12&\") when LocalYear(\"&$D$12&\")=\"&$D$7&\" and localMonth(\"&$D$12&\") =\"&$E$7&\" and LocalDay(\"&$D$12&\")=\"&$F$7&\" and Barix(\"&$D$12&\",reference:=StartOfSession)=\"&A9&\"\", \"Bar\", \"\", \"Close\",\"5\",\"0\",\"PrimaryOnly\",,,\"False\",\"T\",\"EveryTick\")","v":1.1759500000000001},3.8413931452472988E-3,{"$f":"RTD(\"cqg.rtd\",,\"StudyData\", \"Close(\"&$D$12&\") when LocalYear(\"&$D$12&\")=\"&$D$8&\" and localMonth(\"&$D$12&\") =\"&$E$8&\" and LocalDay(\"&$D$12&\")=\"&$F$8&\" and Barix(\"&$D$12&\",reference:=StartOfSession)=\"&A9&\"\", \"Bar\", \"\", \"Close\",\"5\",\"0\",\"PrimaryOnly\",,,\"False\",\"T\",\"EveryTick\")","v":1.1714},3.383442545719215E-3,{"$f":"RTD(\"cqg.rtd\",,\"StudyData\", \"Close(\"&$D$12&\") when LocalYear(\"&$D$12&\")=\"&$D$9&\" and localMonth(\"&$D$12&\") =\"&$E$9&\" and LocalDay(\"&$D$12&\")=\"&$F$9&\" and Barix(\"&$D$12&\",reference:=StartOfSession)=\"&A9&\"\", \"Bar\", \"\", \"Close\",\"5\",\"0\",\"PrimaryOnly\",,,\"False\",\"T\",\"EveryTick\")","v":1.1702999999999999},-2.8543432880332176E-3,{"$f":"RTD(\"cqg.rtd\",,\"StudyData\", \"Close(\"&$D$12&\") when LocalYear(\"&$D$12&\")=\"&$D$10&\" and localMonth(\"&$D$12&\") =\"&$E$10&\" and LocalDay(\"&$D$12&\")=\"&$F$10&\" and Barix(\"&$D$12&\",reference:=StartOfSession)=\"&A9&\"\", \"Bar\", \"\", \"Close\",\"5\",\"0\",\"PrimaryOnly\",,,\"False\",\"T\",\"EveryTick\")","v":1.16405},1.4625543080827932E-3,{"$f":"RANK(AD9,$AD$1:$AD$10)+COUNTIF($AD$1:AD9,AD9)-1","v":7},"2018-06-29",{"$f":"VLOOKUP(MAX(AE2:AE87),A1:Y87,25,FALSE)","v":-2.1301069313686658E-4},"",9,"2018-07-10",-1.7783046828689904E-3,null,null,"2018-07-10","2018-06-29",8,3]
[189,"08:45:00","2018-06-28",2018,6,28,{"$f":"IF(G1=0,RTD(\"cqg.rtd\",,\"StudyData\",$D$12,\"Bar\",,\"Close\",\"D\",\"-9\",,,,,\"T\"),RTD(\"cqg.rtd\",,\"StudyData\",$D$12,\"Bar\",,\"Close\",\"D\",\"-10\",,,,,\"T\"))","v":1.1736500000000001},{"$f":"RTD(\"cqg.rtd\",,\"StudyData\", \"Close(\"&$D$12&\") when LocalYear(\"&$D$12&\")=\"&$D$1&\" and localMonth(\"&$D$12&\") =\"&$E$1&\" and LocalDay(\"&$D$12&\")=\"&$F$1&\" and Barix(\"&$D$12&\",reference:=StartOfSession)=\"&A10&\"\", \"Bar\", \"\", \"Close\",\"5\",\"0\",\"PrimaryOnly\",,,\"False\",\"T\",\"EveryTick\")","v":1.1698500000000001},-2.3026736599717919E-3,{"$f":"RTD(\"cqg.rtd\",,\"StudyData\", \"Close(\"&$D$12&\") when LocalYear(\"&$D$12&\")=\"&$D$2&\" and localMonth(\"&$D$12&\") =\"&$E$2&\" and LocalDay(\"&$D$12&\")=\"&$F$2&\" and Barix(\"&$D$12&\",reference:=StartOfSession)=\"&A10&\"\", \"Bar\", \"\", \"Close\",\"5\",\"0\",\"PrimaryOnly\",,,\"False\",\"T\",\"EveryTick\")","v":1.1729499999999999},-4.2625745950644088E-5,{"$f":"RTD(\"cqg.rtd\",,\"StudyData\", \"Close(\"&$D$12&\") when LocalYear(\"&$D$12&\")=\"&$D$3&\" and localMonth(\"&$D$12&\") =\"&$E$3&\" and LocalDay(\"&$D$12&\")=\"&$F$3&\" and Barix(\"&$D$12&\",reference:=StartOfSession)=\"&A10&\"\", \"Bar\", \"\", \"Close\",\"5\",\"0\",\"PrimaryOnly\",,,\"False\",\"T\",\"EveryTick\")","v":1.18045},4.2358522534823384E-5,{"$f":"RTD(\"cqg.rtd\",,\"StudyData\", \"Close(\"&$D$12&\") when LocalYear(\"&$D$12&\")=\"&$D$4&\" and localMonth(\"&$D$12&\") =\"&$E$4&\" and LocalDay(\"&$D$12&\")=\"&$F$4&\" and Barix(\"&$D$12&\",reference:=StartOfSession)=\"&A10&\"\", \"Bar\", \"\", \"Close\",\"5\",\"0\",\"PrimaryOnly\",,,\"False\",\"T\",\"EveryTick\")","v":1.177},-3.3025658396138662E-3,{"$f":"RTD(\"cqg.rtd\",,\"StudyData\", \"Close(\"&$D$12&\") when LocalYear(\"&$D$12&\")=\"&$D$5&\" and localMonth(\"&$D$12&\") =\"&$E$5&\" and LocalDay(\"&$D$12&\")=\"&$F$5&\" and Barix(\"&$D$12&\",reference:=StartOfSession)=\"&A10&\"\", \"Bar\", \"\", \"Close\",\"5\",\"0\",\"PrimaryOnly\",,,\"False\",\"T\",\"EveryTick\")","v":1.1832},2.2871664548919307E-3,{"$f":"RTD(\"cqg.rtd\",,\"StudyData\", \"Close(\"&$D$12&\") when LocalYear(\"&$D$12&\")=\"&$D$6&\" and localMonth(\"&$D$12&\") =\"&$E$6&\" and LocalDay(\"&$D$12&\")=\"&$F$6&\" and Barix(\"&$D$12&\",reference:=StartOfSession)=\"&A10&\"\", \"Bar\", \"\", \"Close\",\"5\",\"0\",\"PrimaryOnly\",,,\"False\",\"T\",\"EveryTick\")","v":1.1820999999999999},6.8137296652755371E-3,{"$f":"RTD(\"cqg.rtd\",,\"StudyData\", \"Close(\"&$D$12&\") when LocalYear(\"&$D$12&\")=\"&$D$7&\" and localMonth(\"&$D$12&\") =\"&$E$7&\" and LocalDay(\"&$D$12&\")=\"&$F$7&\" and Barix(\"&$D$12&\",reference:=StartOfSession)=\"&A10&\"\", \"Bar\", \"\", \"Close\",\"5\",\"0\",\"PrimaryOnly\",,,\"False\",\"T\",\"EveryTick\")","v":1.17625},4.097486021597093E-3,{"$f":"RTD(\"cqg.rtd\",,\"StudyData\", \"Close(\"&$D$12&\") when LocalYear(\"&$D$12&\")=\"&$D$8&\" and localMonth(\"&$D$12&\") =\"&$E$8&\" and LocalDay(\"&$D$12&\")=\"&$F$8&\" and Barix(\"&$D$12&\",reference:=StartOfSession)=\"&A10&\"\", \"Bar\", \"\", \"Close\",\"5\",\"0\",\"PrimaryOnly\",,,\"False\",\"T\",\"EveryTick\")","v":1.1713},3.2977857724098753E-3,{"$f":"RTD(\"cqg.rtd\",,\"StudyData\", \"Close(\"&$D$12&\") when LocalYear(\"&$D$12&\")=\"&$D$9&\" and localMonth(\"&$D$12&\") =\"&$E$9&\" and LocalDay(\"&$D$12&\")=\"&$F$9&\" and Barix(\"&$D$12&\",reference:=StartOfSession)=\"&A10&\"\", \"Bar\", \"\", \"Close\",\"5\",\"0\",\"PrimaryOnly\",,,\"False\",\"T\",\"EveryTick\")","v":1.1708000000000001},-2.4283219017594846E-3,{"$f":"RTD(\"cqg.rtd\",,\"StudyData\", \"Close(\"&$D$12&\") when LocalYear(\"&$D$12&\")=\"&$D$10&\" and localMonth(\"&$D$12&\") =\"&$E$10&\" and LocalDay(\"&$D$12&\")=\"&$F$10&\" and Barix(\"&$D$12&\",reference:=StartOfSession)=\"&A10&\"\", \"Bar\", \"\", \"Close\",\"5\",\"0\",\"PrimaryOnly\",,,\"False\",\"T\",\"EveryTick\")","v":1.1638999999999999},1.3335053985459977E-3,{"$f":"RANK(AD10,$AD$1:$AD$10)+COUNTIF($AD$1:AD10,AD10)-1","v":4},"2018-06-28",{"$f":"VLOOKUP(MAX(AE2:AE87),A1:AA87,27,FALSE)","v":2.8820923129865912E-3},"",10,"2018-07-11",-2.5415113520839477E-3,null,null,"2018-07-11","2018-06-28",9,2]
[190,"08:50:00","2018-06-27",2018,6,27,{"$f":"IF(G1=0,RTD(\"cqg.rtd\",,\"StudyData\",$D$12,\"Bar\",,\"Close\",\"D\",\"-10\",,,,,\"T\"),RTD(\"cqg.rtd\",,\"StudyData\",$D$12,\"Bar\",,\"Close\",\"D\",\"-11\",,,,,\"T\"))","v":1.16235},{"$f":"RTD(\"cqg.rtd\",,\"StudyData\", \"Close(\"&$D$12&\") when LocalYear(\"&$D$12&\")=\"&$D$1&\" and localMonth(\"&$D$12&\") =\"&$E$1&\" and LocalDay(\"&$D$12&\")=\"&$F$1&\" and Barix(\"&$D$12&\",reference:=StartOfSession)=\"&A11&\"\", \"Bar\", \"\", \"Close\",\"5\",\"0\",\"PrimaryOnly\",,,\"False\",\"T\",\"EveryTick\")","v":1.1696},-2.5158841840433313E-3,{"$f":"RTD(\"cqg.rtd\",,\"StudyData\", \"Close(\"&$D$12&\") when LocalYear(\"&$D$12&\")=\"&$D$2&\" and localMonth(\"&$D$12&\") =\"&$E$2&\" and LocalDay(\"&$D$12&\")=\"&$F$2&\" and Barix(\"&$D$12&\",reference:=StartOfSession)=\"&A11&\"\", \"Bar\", \"\", \"Close\",\"5\",\"0\",\"PrimaryOnly\",,,\"False\",\"T\",\"EveryTick\")","v":1.1732499999999999},2.1312872975265255E-4,{"$f":"RTD(\"cqg.rtd\",,\"StudyData\", \"Close(\"&$D$12&\") when LocalYear(\"&$D$12&\")=\"&$D$3&\" and localMonth(\"&$D$12&\") =\"&$E$3&\" and LocalDay(\"&$D$12&\")=\"&$F$3&\" and Barix(\"&$D$12&\",reference:=StartOfSession)=\"&A11&\"\", \"Bar\", \"\", \"Close\",\"5\",\"0\",\"PrimaryOnly\",,,\"False\",\"T\",\"EveryTick\")","v":1.1805000000000001},8.4717045069646768E-5,{"$f":"RTD(\"cqg.rtd\",,\"StudyData\", \"Close(\"&$D$12&\") when LocalYear(\"&$D$12&\")=\"&$D$4&\" and localMonth(\"&$D$12&\") =\"&$E$4&\" and LocalDay(\"&$D$12&\")=\"&$F$4&\" and Barix(\"&$D$12&\",reference:=StartOfSession)=\"&A11&\"\", \"Bar\", \"\", \"Close\",\"5\",\"0\",\"PrimaryOnly\",,,\"False\",\"T\",\"EveryTick\")","v":1.1773},-3.0485223134897512E-3,{"$f":"RTD(\"cqg.rtd\",,\"StudyData\", \"Close(\"&$D$12&\") when LocalYear(\"&$D$12&\")=\"&$D$5&\" and localMonth(\"&$D$12&\") =\"&$E$5&\" and LocalDay(\"&$D$12&\")=\"&$F$5&\" and Barix(\"&$D$12&\",reference:=StartOfSession)=\"&A11&\"\", \"Bar\", \"\", \"Close\",\"5\",\"0\",\"PrimaryOnly\",,,\"False\",\"T\",\"EveryTick\")","v":1.1829000000000001},2.0330368487928483E-3,{"$f":"RTD(\"cqg.rtd\",,\"StudyData\", \"Close(\"&$D$12&\") when LocalYear(\"&$D$12&\")=\"&$D$6&\" and localMonth(\"&$D$12&\") =\"&$E$6&\" and LocalDay(\"&$D$12&\")=\"&$F$6&\" and Barix(\"&$D$12&\",reference:=StartOfSession)=\"&A11&\"\", \"Bar\", \"\", \"Close\",\"5\",\"0\",\"PrimaryOnly\",,,\"False\",\"T\",\"EveryTick\")","v":1.1812499999999999},6.0897708883399966E-3,{"$f":"RTD(\"cqg.rtd\",,\"StudyData\", \"Close(\"&$D$12&\") when LocalYear(\"&$D$12&\")=\"&$D$7&\" and localMonth(\"&$D$12&\") =\"&$E$7&\" and LocalDay(\"&$D$12&\")=\"&$F$7&\" and Barix(\"&$D$12&\",reference:=StartOfSession)=\"&A11&\"\", \"Bar\", \"\", \"Close\",\"5\",\"0\",\"PrimaryOnly\",,,\"False\",\"T\",\"EveryTick\")","v":1.17615},4.0121217294804955E-3,{"$f":"RTD(\"cqg.rtd\",,\"StudyData\", \"Close(\"&$D$12&\") when LocalYear(\"&$D$12&\")=\"&$D$8&\" and localMonth(\"&$D$12&\") =\"&$E$8&\" and LocalDay(\"&$D$12&\")=\"&$F$8&\" and Barix(\"&$D$12&\",reference:=StartOfSession)=\"&A11&\"\", \"Bar\", \"\", \"Close\",\"5\",\"0\",\"PrimaryOnly\",,,\"False\",\"T\",\"EveryTick\")","v":1.1714500000000001},3.42627093237398E-3,{"$f":"RTD(\"cqg.rtd\",,\"StudyData\", \"Close(\"&$D$12&\") when LocalYear(\"&$D$12&\")=\"&$D$9&\" and localMonth(\"&$D$12&\") =\"&$E$9&\" and LocalDay(\"&$D$12&\")=\"&$F$9&\" and Barix(\"&$D$12&\",reference:=StartOfSession)=\"&A11&\"\", \"Bar\", \"\", \"Close\",\"5\",\"0\",\"PrimaryOnly\",,,\"False\",\"T\",\"EveryTick\")","v":1.1706000000000001},-2.5987304562689021E-3,{"$f":"RTD(\"cqg.rtd\",,\"StudyData\", \"Close(\"&$D$12&\") when LocalYear(\"&$D$12&\")=\"&$D$10&\" and localMonth(\"&$D$12&\") =\"&$E$10&\" and LocalDay(\"&$D$12&\")=\"&$F$10&\" and Barix(\"&$D$12&\",reference:=StartOfSession)=\"&A11&\"\", \"Bar\", \"\", \"Close\",\"5\",\"0\",\"PrimaryOnly\",,,\"False\",\"T\",\"EveryTick\")","v":1.1642999999999999},1.6776358239771981E-3,null,null,null,""]
[191,"08:55:00",null,{"$f":"MainDisplay!B31","v":"EU6"},null,null,{"$f":"RTD(\"cqg.rtd\",,\"StudyData\",$D$12,\"Bar\",,\"Time\",\"D\",\"-1\",,,,,\"T\")","v":"2018-07-12"},{"$f":"RTD(\"cqg.rtd\",,\"StudyData\", \"Close(\"&$D$12&\") when LocalYear(\"&$D$12&\")=\"&$D$1&\" and localMonth(\"&$D$12&\") =\"&$E$1&\" and LocalDay(\"&$D$12&\")=\"&$F$1&\" and Barix(\"&$D$12&\",reference:=StartOfSession)=\"&A12&\"\", \"Bar\", \"\", \"Close\",\"5\",\"0\",\"PrimaryOnly\",,,\"False\",\"T\",\"EveryTick\")","v":1.1695500000000001},-2.5585262888575258E-3,{"$f":"RTD(\"cqg.rtd\",,\"StudyData\", \"Close(\"&$D$12&\") when LocalYear(\"&$D$12&\")=\"&$D$2&\" and localMonth(\"&$D$12&\") =\"&$E$2&\" and LocalDay(\"&$D$12&\")=\"&$F$2&\" and Barix(\"&$D$12&\",reference:=StartOfSession)=\"&A12&\"\", \"Bar\", \"\", \"Close\",\"5\",\"0\",\"PrimaryOnly\",,,\"False\",\"T\",\"EveryTick\")","v":1.17275},-2.1312872975284185E-4,{"$f":"RTD(\"cqg.rtd\",,\"StudyData\", \"Close(\"&$D$12&\") when LocalYear(\"&$D$12&\")=\"&$D$3&\" and localMonth(\"&$D$12&\") =\"&$E$3&\" and LocalDay(\"&$D$12&\")=\"&$F$3&\" and Barix(\"&$D$12&\",reference:=StartOfSession)=\"&A12&\"\", \"Bar\", \"\", \"Close\",\"5\",\"0\",\"PrimaryOnly\",,,\"False\",\"T\",\"EveryTick\")","v":1.18035},-4.2358522534635275E-5,{"$f":"RTD(\"cqg.rtd\",,\"StudyData\", \"Close(\"&$D$12&\") when LocalYear(\"&$D$12&\")=\"&$D$4&\" and localMonth(\"&$D$12&\") =\"&$E$4&\" and LocalDay(\"&$D$12&\")=\"&$F$4&\" and Barix(\"&$D$12&\",reference:=StartOfSession)=\"&A12&\"\", \"Bar\", \"\", \"Close\",\"5\",\"0\",\"PrimaryOnly\",,,\"False\",\"T\",\"EveryTick\")","v":1.17675},-3.514268778050722E-3,{"$f":"RTD(\"cqg.rtd\",,\"StudyData\", \"Close(\"&$D$12&\") when LocalYear(\"&$D$12&\")=\"&$D$5&\" and localMonth(\"&$D$12&\") =\"&$E$5&\" and LocalDay(\"&$D$12&\")=\"&$F$5&\" and Barix(\"&$D$12&\",reference:=StartOfSession)=\"&A12&\"\", \"Bar\", \"\", \"Close\",\"5\",\"0\",\"PrimaryOnly\",,,\"False\",\"T\",\"EveryTick\")","v":1.1819999999999999},1.2706480304954127E-3,{"$f":"RTD(\"cqg.rtd\",,\"StudyData\", \"Close(\"&$D$12&\") when LocalYear(\"&$D$12&\")=\"&$D$6&\" and localMonth(\"&$D$12&\") =\"&$E$6&\" and LocalDay(\"&$D$12&\")=\"&$F$6&\" and Barix(\"&$D$12&\",reference:=StartOfSession)=\"&A12&\"\", \"Bar\", \"\", \"Close\",\"5\",\"0\",\"PrimaryOnly\",,,\"False\",\"T\",\"EveryTick\")","v":1.1819},6.6433864236436673E-3,{"$f":"RTD(\"cqg.rtd\",,\"StudyData\", \"Close(\"&$D$12&\") when LocalYear(\"&$D$12&\")=\"&$D$7&\" and localMonth(\"&$D$12&\") =\"&$E$7&\" and LocalDay(\"&$D$12&\")=\"&$F$7&\" and Barix(\"&$D$12&\",reference:=StartOfSession)=\"&A12&\"\", \"Bar\", \"\", \"Close\",\"5\",\"0\",\"PrimaryOnly\",,,\"False\",\"T\",\"EveryTick\")","v":1.17645},4.2682146058302898E-3,{"$f":"RTD(\"cqg.rtd\",,\"StudyData\", \"Close(\"&$D$12&\") when LocalYear(\"&$D$12&\")=\"&$D$8&\" and localMonth(\"&$D$12&\") =\"&$E$8&\" and LocalDay(\"&$D$12&\")=\"&$F$8&\" and Barix(\"&$D$12&\",reference:=StartOfSession)=\"&A12&\"\", \"Bar\", \"\", \"Close\",\"5\",\"0\",\"PrimaryOnly\",,,\"False\",\"T\",\"EveryTick\")","v":1.1720999999999999},3.9830399588845948E-3,{"$f":"RTD(\"cqg.rtd\",,\"StudyData\", \"Close(\"&$D$12&\") when LocalYear(\"&$D$12&\")=\"&$D$9&\" and localMonth(\"&$D$12&\") =\"&$E$9&\" and LocalDay(\"&$D$12&\")=\"&$F$9&\" and Barix(\"&$D$12&\",reference:=StartOfSession)=\"&A12&\"\", \"Bar\", \"\", \"Close\",\"5\",\"0\",\"PrimaryOnly\",,,\"False\",\"T\",\"EveryTick\")","v":1.1710499999999999},-2.2153112086228072E-3,{"$f":"RTD(\"cqg.rtd\",,\"StudyData\", \"Close(\"&$D$12&\") when LocalYear(\"&$D$12&\")=\"&$D$10&\" and localMonth(\"&$D$12&\") =\"&$E$10&\" and LocalDay(\"&$D$12&\")=\"&$F$10&\" and Barix(\"&$D$12&\",reference:=StartOfSession)=\"&A12&\"\", \"Bar\", \"\", \"Close\",\"5\",\"0\",\"PrimaryOnly\",,,\"False\",\"T\",\"EveryTick\")","v":1.16395},1.3765217017249931E-3,null,{"$f":"VLOOKUP(MAX(AE2:AE87),A1:B87,2,FALSE)","v":"10:25:00"},null,""]
[192,"09:00:00",null,{"$f":"RTD(\"cqg.rtd\", ,\"ContractData\",D12, \"LastQuoteToday\",, \"T\")","v":1.1718500000000001},null,null,{"$f":"C1","v":"2018-07-13"},{"$f":"RTD(\"cqg.rtd\",,\"StudyData\", \"Close(\"&$D$12&\") when LocalYear(\"&$D$12&\")=\"&$D$1&\" and localMonth(\"&$D$12&\") =\"&$E$1&\" and LocalDay(\"&$D$12&\")=\"&$F$1&\" and Barix(\"&$D$12&\",reference:=StartOfSession)=\"&A13&\"\", \"Bar\", \"\", \"Close\",\"5\",\"0\",\"PrimaryOnly\",,,\"False\",\"T\",\"EveryTick\")","v":1.1702999999999999},-1.9188947166432864E-3,{"$f":"RTD(\"cqg.rtd\",,\"StudyData\", \"Close(\"&$D$12&\") when LocalYear(\"&$D$12&\")=\"&$D$2&\" and localMonth(\"&$D$12&\") =\"&$E$2&\" and LocalDay(\"&$D$12&\")=\"&$F$2&\" and Barix(\"&$D$12&\",reference:=StartOfSession)=\"&A13&\"\", \"Bar\", \"\", \"Close\",\"5\",\"0\",\"PrimaryOnly\",,,\"False\",\"T\",\"EveryTick\")","v":1.1735},4.262574595054944E-4,{"$f":"RTD(\"cqg.rtd\",,\"StudyData\", \"Close(\"&$D$12&\") when LocalYear(\"&$D$12&\")=\"&$D$3&\" and localMonth(\"&$D$12&\") =\"&$E$3&\" and LocalDay(\"&$D$12&\")=\"&$F$3&\" and Barix(\"&$D$12&\",reference:=StartOfSession)=\"&A13&\"\", \"Bar\", \"\", \"Close\",\"5\",\"0\",\"PrimaryOnly\",,,\"False\",\"T\",\"EveryTick\")","v":1.1801999999999999},-1.6943409013891732E-4,{"$f":"RTD(\"cqg.rtd\",,\"StudyData\", \"Close(\"&$D$12&\") when LocalYear(\"&$D$12&\")=\"&$D$4&\" and localMonth(\"&$D$12&\") =\"&$E$4&\" and LocalDay(\"&$D$12&\")=\"&$F$4&\" and Barix(\"&$D$12&\",reference:=StartOfSession)=\"&A13&\"\", \"Bar\", \"\", \"Close\",\"5\",\"0\",\"PrimaryOnly\",,,\"False\",\"T\",\"EveryTick\")","v":1.1763999999999999},-3.8106528918622831E-3,{"$f":"RTD(\"cqg.rtd\",,\"StudyData\", \"Close(\"&$D$12&\") when LocalYear(\"&$D$12&\")=\"&$D$5&\" and localMonth(\"&$D$12&\") =\"&$E$5&\" and LocalDay(\"&$D$12&\")=\"&$F$5&\" and Barix(\"&$D$12&\",reference:=StartOfSession)=\"&A13&\"\", \"Bar\", \"\", \"Close\",\"5\",\"0\",\"PrimaryOnly\",,,\"False\",\"T\",\"EveryTick\")","v":1.18245},1.6518424396441305E-3,{"$f":"RTD(\"cqg.rtd\",,\"StudyData\", \"Close(\"&$D$12&\") when LocalYear(\"&$D$12&\")=\"&$D$6&\" and localMonth(\"&$D$12&\") =\"&$E$6&\" and LocalDay(\"&$D$12&\")=\"&$F$6&\" and Barix(\"&$D$12&\",reference:=StartOfSession)=\"&A13&\"\", \"Bar\", \"\", \"Close\",\"5\",\"0\",\"PrimaryOnly\",,,\"False\",\"T\",\"EveryTick\")","v":1.1815500000000001},6.3452857507879899E-3,{"$f":"RTD(\"cqg.rtd\",,\"StudyData\", \"Close(\"&$D$12&\") when LocalYear(\"&$D$12&\")=\"&$D$7&\" and localMonth(\"&$D$12&\") =\"&$E$7&\" and LocalDay(\"&$D$12&\")=\"&$F$7&\" and Barix(\"&$D$12&\",reference:=StartOfSession)=\"&A13&\"\", \"Bar\", \"\", \"Close\",\"5\",\"0\",\"PrimaryOnly\",,,\"False\",\"T\",\"EveryTick\")","v":1.1755},3.457253830722512E-3,{"$f":"RTD(\"cqg.rtd\",,\"StudyData\", \"Close(\"&$D$12&\") when LocalYear(\"&$D$12&\")=\"&$D$8&\" and localMonth(\"&$D$12&\") =\"&$E$8&\" and LocalDay(\"&$D$12&\")=\"&$F$8&\" and Barix(\"&$D$12&\",reference:=StartOfSession)=\"&A13&\"\", \"Bar\", \"\", \"Close\",\"5\",\"0\",\"PrimaryOnly\",,,\"False\",\"T\",\"EveryTick\")","v":1.1718500000000001},3.76889802561134E-3,{"$f":"RTD(\"cqg.rtd\",,\"StudyData\", \"Close(\"&$D$12&\") when LocalYear(\"&$D$12&\")=\"&$D$9&\" and localMonth(\"&$D$12&\") =\"&$E$9&\" and LocalDay(\"&$D$12&\")=\"&$F$9&\" and Barix(\"&$D$12&\",reference:=StartOfSession)=\"&A13&\"\", \"Bar\", \"\", \"Close\",\"5\",\"0\",\"PrimaryOnly\",,,\"False\",\"T\",\"EveryTick\")","v":1.1706000000000001},-2.5987304562689021E-3,{"$f":"RTD(\"cqg.rtd\",,\"StudyData\", \"Close(\"&$D$12&\") when LocalYear(\"&$D$12&\")=\"&$D$10&\" and localMonth(\"&$D$12&\") =\"&$E$10&\" and LocalDay(\"&$D$12&\")=\"&$F$10&\" and Barix(\"&$D$12&\",reference:=StartOfSession)=\"&A13&\"\", \"Bar\", \"\", \"Close\",\"5\",\"0\",\"PrimaryOnly\",,,\"False\",\"T\",\"EveryTick\")","v":1.1646000000000001},1.9357336430507895E-3,null,null,null,""]
[193,"09:05:00",null,{"$f":"RTD(\"cqg.rtd\", ,\"ContractData\",D12, \"LongDescription\",, \"T\")","v":"Euro FX (Globex), Sep 18"},null,null,{"$f":"C2","v":"2018-07-12"},{"$f":"RTD(\"cqg.rtd\",,\"StudyData\", \"Close(\"&$D$12&\") when LocalYear(\"&$D$12&\")=\"&$D$1&\" and localMonth(\"&$D$12&\") =\"&$E$1&\" and LocalDay(\"&$D$12&\")=\"&$F$1&\" and Barix(\"&$D$12&\",reference:=StartOfSession)=\"&A14&\"\", \"Bar\", \"\", \"Close\",\"5\",\"0\",\"PrimaryOnly\",,,\"False\",\"T\",\"EveryTick\")","v":1.17015},-2.0468210310860585E-3,{"$f":"RTD(\"cqg.rtd\",,\"StudyData\", \"Close(\"&$D$12&\") when LocalYear(\"&$D$12&\")=\"&$D$2&\" and localMonth(\"&$D$12&\") =\"&$E$2&\" and LocalDay(\"&$D$12&\")=\"&$F$2&\" and Barix(\"&$D$12&\",reference:=StartOfSession)=\"&A14&\"\", \"Bar\", \"\", \"Close\",\"5\",\"0\",\"PrimaryOnly\",,,\"False\",\"T\",\"EveryTick\")","v":1.1736500000000001},5.5413469735723735E-4,{"$f":"RTD(\"cqg.rtd\",,\"StudyData\", \"Close(\"&$D$12&\") when LocalYear(\"&$D$12&\")=\"&$D$3&\" and localMonth(\"&$D$12&\") =\"&$E$3&\" and LocalDay(\"&$D$12&\")=\"&$F$3&\" and Barix(\"&$D$12&\",reference:=StartOfSession)=\"&A14&\"\", \"Bar\", \"\", \"Close\",\"5\",\"0\",\"PrimaryOnly\",,,\"False\",\"T\",\"EveryTick\")","v":1.18},-3.3886818027783463E-4,{"$f":"RTD(\"cqg.rtd\",,\"StudyData\", \"Close(\"&$D$12&\") when LocalYear(\"&$D$12&\")=\"&$D$4&\" and localMonth(\"&$D$12&\") =\"&$E$4&\" and LocalDay(\"&$D$12&\")=\"&$F$4&\" and Barix(\"&$D$12&\",reference:=StartOfSession)=\"&A14&\"\", \"Bar\", \"\", \"Close\",\"5\",\"0\",\"PrimaryOnly\",,,\"False\",\"T\",\"EveryTick\")","v":1.1773},-3.0485223134897512E-3,{"$f":"RTD(\"cqg.rtd\",,\"StudyData\", \"Close(\"&$D$12&\") when LocalYear(\"&$D$12&\")=\"&$D$5&\" and localMonth(\"&$D$12&\") =\"&$E$5&\" and LocalDay(\"&$D$12&\")=\"&$F$5&\" and Barix(\"&$D$12&\",reference:=StartOfSession)=\"&A14&\"\", \"Bar\", \"\", \"Close\",\"5\",\"0\",\"PrimaryOnly\",,,\"False\",\"T\",\"EveryTick\")","v":1.1815500000000001},8.8945362134688292E-4,{"$f":"RTD(\"cqg.rtd\",,\"StudyData\", \"Close(\"&$D$12&\") when LocalYear(\"&$D$12&\")=\"&$D$6&\" and localMonth(\"&$D$12&\") =\"&$E$6&\" and LocalDay(\"&$D$12&\")=\"&$F$6&\" and Barix(\"&$D$12&\",reference:=StartOfSession)=\"&A14&\"\", \"Bar\", \"\", \"Close\",\"5\",\"0\",\"PrimaryOnly\",,,\"False\",\"T\",\"EveryTick\")","v":1.1814499999999999},6.2601141299718664E-3,{"$f":"RTD(\"cqg.rtd\",,\"StudyData\", \"Close(\"&$D$12&\") when LocalYear(\"&$D$12&\")=\"&$D$7&\" and localMonth(\"&$D$12&\") =\"&$E$7&\" and LocalDay(\"&$D$12&\")=\"&$F$7&\" and Barix(\"&$D$12&\",reference:=StartOfSession)=\"&A14&\"\", \"Bar\", \"\", \"Close\",\"5\",\"0\",\"PrimaryOnly\",,,\"False\",\"T\",\"EveryTick\")","v":1.1754500000000001},3.4145716846643078E-3,{"$f":"RTD(\"cqg.rtd\",,\"StudyData\", \"Close(\"&$D$12&\") when LocalYear(\"&$D$12&\")=\"&$D$8&\" and localMonth(\"&$D$12&\") =\"&$E$8&\" and LocalDay(\"&$D$12&\")=\"&$F$8&\" and Barix(\"&$D$12&\",reference:=StartOfSession)=\"&A14&\"\", \"Bar\", \"\", \"Close\",\"5\",\"0\",\"PrimaryOnly\",,,\"False\",\"T\",\"EveryTick\")","v":1.17205},3.9402115722300202E-3,{"$f":"RTD(\"cqg.rtd\",,\"StudyData\", \"Close(\"&$D$12&\") when LocalYear(\"&$D$12&\")=\"&$D$9&\" and localMonth(\"&$D$12&\") =\"&$E$9&\" and LocalDay(\"&$D$12&\")=\"&$F$9&\" and Barix(\"&$D$12&\",reference:=StartOfSession)=\"&A14&\"\", \"Bar\", \"\", \"Close\",\"5\",\"0\",\"PrimaryOnly\",,,\"False\",\"T\",\"EveryTick\")","v":1.1704000000000001},-2.7691390107783195E-3,{"$f":"RTD(\"cqg.rtd\",,\"StudyData\", \"Close(\"&$D$12&\") when LocalYear(\"&$D$12&\")=\"&$D$10&\" and localMonth(\"&$D$12&\") =\"&$E$10&\" and LocalDay(\"&$D$12&\")=\"&$F$10&\" and Barix(\"&$D$12&\",reference:=StartOfSession)=\"&A14&\"\", \"Bar\", \"\", \"Close\",\"5\",\"0\",\"PrimaryOnly\",,,\"False\",\"T\",\"EveryTick\")","v":1.1656},2.7960597066287911E-3,null,null,null,""]
[194,"09:10:00","",null,null,null,"2018-07-11",{"$f":"RTD(\"cqg.rtd\",,\"StudyData\", \"Close(\"&$D$12&\") when LocalYear(\"&$D$12&\")=\"&$D$1&\" and localMonth(\"&$D$12&\") =\"&$E$1&\" and LocalDay(\"&$D$12&\")=\"&$F$1&\" and Barix(\"&$D$12&\",reference:=StartOfSession)=\"&A15&\"\", \"Bar\", \"\", \"Close\",\"5\",\"0\",\"PrimaryOnly\",,,\"False\",\"T\",\"EveryTick\")","v":1.1698},-2.3453157647861755E-3,{"$f":"RTD(\"cqg.rtd\",,\"StudyData\", \"Close(\"&$D$12&\") when LocalYear(\"&$D$12&\")=\"&$D$2&\" and localMonth(\"&$D$12&\") =\"&$E$2&\" and LocalDay(\"&$D$12&\")=\"&$F$2&\" and Barix(\"&$D$12&\",reference:=StartOfSession)=\"&A15&\"\", \"Bar\", \"\", \"Close\",\"5\",\"0\",\"PrimaryOnly\",,,\"False\",\"T\",\"EveryTick\")","v":1.1730499999999999},4.2625745950454793E-5,{"$f":"RTD(\"cqg.rtd\",,\"StudyData\", \"Close(\"&$D$12&\") when LocalYear(\"&$D$12&\")=\"&$D$3&\" and localMonth(\"&$D$12&\") =\"&$E$3&\" and LocalDay(\"&$D$12&\")=\"&$F$3&\" and Barix(\"&$D$12&\",reference:=StartOfSession)=\"&A15&\"\", \"Bar\", \"\", \"Close\",\"5\",\"0\",\"PrimaryOnly\",,,\"False\",\"T\",\"EveryTick\")","v":1.1798999999999999},-4.2358522534729327E-4,{"$f":"RTD(\"cqg.rtd\",,\"StudyData\", \"Close(\"&$D$12&\") when LocalYear(\"&$D$12&\")=\"&$D$4&\" and localMonth(\"&$D$12&\") =\"&$E$4&\" and LocalDay(\"&$D$12&\")=\"&$F$4&\" and Barix(\"&$D$12&\",reference:=StartOfSession)=\"&A15&\"\", \"Bar\", \"\", \"Close\",\"5\",\"0\",\"PrimaryOnly\",,,\"False\",\"T\",\"EveryTick\")","v":1.1775500000000001},-2.8368193750528954E-3,{"$f":"RTD(\"cqg.rtd\",,\"StudyData\", \"Close(\"&$D$12&\") when LocalYear(\"&$D$12&\")=\"&$D$5&\" and localMonth(\"&$D$12&\") =\"&$E$5&\" and LocalDay(\"&$D$12&\")=\"&$F$5&\" and Barix(\"&$D$12&\",reference:=StartOfSession)=\"&A15&\"\", \"Bar\", \"\", \"Close\",\"5\",\"0\",\"PrimaryOnly\",,,\"False\",\"T\",\"EveryTick\")","v":1.1816500000000001},9.7416349004657711E-4,{"$f":"RTD(\"cqg.rtd\",,\"StudyData\", \"Close(\"&$D$12&\") when LocalYear(\"&$D$12&\")=\"&$D$6&\" and localMonth(\"&$D$12&\") =\"&$E$6&\" and LocalDay(\"&$D$12&\")=\"&$F$6&\" and Barix(\"&$D$12&\",reference:=StartOfSession)=\"&A15&\"\", \"Bar\", \"\", \"Close\",\"5\",\"0\",\"PrimaryOnly\",,,\"False\",\"T\",\"EveryTick\")","v":1.18205},6.7711438548676639E-3,{"$f":"RTD(\"cqg.rtd\",,\"StudyData\", \"Close(\"&$D$12&\") when LocalYear(\"&$D$12&\")=\"&$D$7&\" and localMonth(\"&$D$12&\") =\"&$E$7&\" and LocalDay(\"&$D$12&\")=\"&$F$7&\" and Barix(\"&$D$12&\",reference:=StartOfSession)=\"&A15&\"\", \"Bar\", \"\", \"Close\",\"5\",\"0\",\"PrimaryOnly\",,,\"False\",\"T\",\"EveryTick\")","v":1.1758999999999999},3.7987109991889046E-3,{"$f":"RTD(\"cqg.rtd\",,\"StudyData\", \"Close(\"&$D$12&\") when LocalYear(\"&$D$12&\")=\"&$D$8&\" and localMonth(\"&$D$12&\") =\"&$E$8&\" and LocalDay(\"&$D$12&\")=\"&$F$8&\" and Barix(\"&$D$12&\",reference:=StartOfSession)=\"&A15&\"\", \"Bar\", \"\", \"Close\",\"5\",\"0\",\"PrimaryOnly\",,,\"False\",\"T\",\"EveryTick\")","v":1.1717500000000001},3.6832412523020003E-3,{"$f":"RTD(\"cqg.rtd\",,\"StudyData\", \"Close(\"&$D$12&\") when LocalYear(\"&$D$12&\")=\"&$D$9&\" and localMonth(\"&$D$12&\") =\"&$E$9&\" and LocalDay(\"&$D$12&\")=\"&$F$9&\" and Barix(\"&$D$12&\",reference:=StartOfSession)=\"&A15&\"\", \"Bar\", \"\", \"Close\",\"5\",\"0\",\"PrimaryOnly\",,,\"False\",\"T\",\"EveryTick\")","v":1.1708499999999999},-2.3857197631322246E-3,{"$f":"RTD(\"cqg.rtd\",,\"StudyData\", \"Close(\"&$D$12&\") when LocalYear(\"&$D$12&\")=\"&$D$10&\" and localMonth(\"&$D$12&\") =\"&$E$10&\" and LocalDay(\"&$D$12&\")=\"&$F$10&\" and Barix(\"&$D$12&\",reference:=StartOfSession)=\"&A15&\"\", \"Bar\", \"\", \"Close\",\"5\",\"0\",\"PrimaryOnly\",,,\"False\",\"T\",\"EveryTick\")","v":1.1652},2.4519292811975902E-3,null,null,null,""]
[195,"09:15:00",null,{"$f":"RTD(\"cqg.rtd\", ,\"ContractData\",D12, \"Ticksize\",, \"T\")","v":5.0000000000000002E-5},null,null,"2018-07-10",{"$f":"RTD(\"cqg.rtd\",,\"StudyData\", \"Close(\"&$D$12&\") when LocalYear(\"&$D$12&\")=\"&$D$1&\" and localMonth(\"&$D$12&\") =\"&$E$1&\" and LocalDay(\"&$D$12&\")=\"&$F$1&\" and Barix(\"&$D$12&\",reference:=StartOfSession)=\"&A16&\"\", \"Bar\", \"\", \"Close\",\"5\",\"0\",\"PrimaryOnly\",,,\"False\",\"T\",\"EveryTick\")","v":1.17025},-1.9615368214574804E-3,{"$f":"RTD(\"cqg.rtd\",,\"StudyData\", \"Close(\"&$D$12&\") when LocalYear(\"&$D$12&\")=\"&$D$2&\" and localMonth(\"&$D$12&\") =\"&$E$2&\" and LocalDay(\"&$D$12&\")=\"&$F$2&\" and Barix(\"&$D$12&\",reference:=StartOfSession)=\"&A16&\"\", \"Bar\", \"\", \"Close\",\"5\",\"0\",\"PrimaryOnly\",,,\"False\",\"T\",\"EveryTick\")","v":1.1732499999999999},2.1312872975265255E-4,{"$f":"RTD(\"cqg.rtd\",,\"StudyData\", \"Close(\"&$D$12&\") when LocalYear(\"&$D$12&\")=\"&$D$3&\" and localMonth(\"&$D$12&\") =\"&$E$3&\" and LocalDay(\"&$D$12&\")=\"&$F$3&\" and Barix(\"&$D$12&\",reference:=StartOfSession)=\"&A16&\"\", \"Bar\", \"\", \"Close\",\"5\",\"0\",\"PrimaryOnly\",,,\"False\",\"T\",\"EveryTick\")","v":1.1797500000000001},-5.5066079295138719E-4,{"$f":"RTD(\"cqg.rtd\",,\"StudyData\", \"Close(\"&$D$12&\") when LocalYear(\"&$D$12&\")=\"&$D$4&\" and localMonth(\"&$D$12&\") =\"&$E$4&\" and LocalDay(\"&$D$12&\")=\"&$F$4&\" and Barix(\"&$D$12&\",reference:=StartOfSession)=\"&A16&\"\", \"Bar\", \"\", \"Close\",\"5\",\"0\",\"PrimaryOnly\",,,\"False\",\"T\",\"EveryTick\")","v":1.1770499999999999},-3.2602252519266075E-3,{"$f":"RTD(\"cqg.rtd\",,\"StudyData\", \"Close(\"&$D$12&\") when LocalYear(\"&$D$12&\")=\"&$D$5&\" and localMonth(\"&$D$12&\") =\"&$E$5&\" and LocalDay(\"&$D$12&\")=\"&$F$5&\" and Barix(\"&$D$12&\",reference:=StartOfSession)=\"&A16&\"\", \"Bar\", \"\", \"Close\",\"5\",\"0\",\"PrimaryOnly\",,,\"False\",\"T\",\"EveryTick\")","v":1.1817500000000001},1.0588733587462713E-3,{"$f":"RTD(\"cqg.rtd\",,\"StudyData\", \"Close(\"&$D$12&\") when LocalYear(\"&$D$12&\")=\"&$D$6&\" and localMonth(\"&$D$12&\") =\"&$E$6&\" and LocalDay(\"&$D$12&\")=\"&$F$6&\" and Barix(\"&$D$12&\",reference:=StartOfSession)=\"&A16&\"\", \"Bar\", \"\", \"Close\",\"5\",\"0\",\"PrimaryOnly\",,,\"False\",\"T\",\"EveryTick\")","v":1.18225},6.9414870964995337E-3,{"$f":"RTD(\"cqg.rtd\",,\"StudyData\", \"Close(\"&$D$12&\") when LocalYear(\"&$D$12&\")=\"&$D$7&\" and localMonth(\"&$D$12&\") =\"&$E$7&\" and LocalDay(\"&$D$12&\")=\"&$F$7&\" and Barix(\"&$D$12&\",reference:=StartOfSession)=\"&A16&\"\", \"Bar\", \"\", \"Close\",\"5\",\"0\",\"PrimaryOnly\",,,\"False\",\"T\",\"EveryTick\")","v":1.1760999999999999},3.9694395834221014E-3,{"$f":"RTD(\"cqg.rtd\",,\"StudyData\", \"Close(\"&$D$12&\") when LocalYear(\"&$D$12&\")=\"&$D$8&\" and localMonth(\"&$D$12&\") =\"&$E$8&\" and LocalDay(\"&$D$12&\")=\"&$F$8&\" and Barix(\"&$D$12&\",reference:=StartOfSession)=\"&A16&\"\", \"Bar\", \"\", \"Close\",\"5\",\"0\",\"PrimaryOnly\",,,\"False\",\"T\",\"EveryTick\")","v":1.17215},4.0258683455393603E-3,{"$f":"RTD(\"cqg.rtd\",,\"StudyData\", \"Close(\"&$D$12&\") when LocalYear(\"&$D$12&\")=\"&$D$9&\" and localMonth(\"&$D$12&\") =\"&$E$9&\" and LocalDay(\"&$D$12&\")=\"&$F$9&\" and Barix(\"&$D$12&\",reference:=StartOfSession)=\"&A16&\"\", \"Bar\", \"\", \"Close\",\"5\",\"0\",\"PrimaryOnly\",,,\"False\",\"T\",\"EveryTick\")","v":1.1711499999999999},-2.1301069313680982E-3,{"$f":"RTD(\"cqg.rtd\",,\"StudyData\", \"Close(\"&$D$12&\") when LocalYear(\"&$D$12&\")=\"&$D$10&\" and localMonth(\"&$D$12&\") =\"&$E$10&\" and LocalDay(\"&$D$12&\")=\"&$F$10&\" and Barix(\"&$D$12&\",reference:=StartOfSession)=\"&A16&\"\", \"Bar\", \"\", \"Close\",\"5\",\"0\",\"PrimaryOnly\",,,\"False\",\"T\",\"EveryTick\")","v":1.1655500000000001},2.7530434034499862E-3,null,null,null,""]
[196,"09:20:00",null,{"$f":"IF(D16>=1,0,IF(LEN(D16)-2=1,2,LEN(D16)-2))","v":5},null,{"$f":"VLOOKUP(D17,D18:E25,2,FALSE)","v":"#.00000"},"2018-07-09",{"$f":"RTD(\"cqg.rtd\",,\"StudyData\", \"Close(\"&$D$12&\") when LocalYear(\"&$D$12&\")=\"&$D$1&\" and localMonth(\"&$D$12&\") =\"&$E$1&\" and LocalDay(\"&$D$12&\")=\"&$F$1&\" and Barix(\"&$D$12&\",reference:=StartOfSession)=\"&A17&\"\", \"Bar\", \"\", \"Close\",\"5\",\"0\",\"PrimaryOnly\",,,\"False\",\"T\",\"EveryTick\")","v":1.1707000000000001},-1.5777578781287853E-3,{"$f":"RTD(\"cqg.rtd\",,\"StudyData\", \"Close(\"&$D$12&\") when LocalYear(\"&$D$12&\")=\"&$D$2&\" and localMonth(\"&$D$12&\") =\"&$E$2&\" and LocalDay(\"&$D$12&\")=\"&$F$2&\" and Barix(\"&$D$12&\",reference:=StartOfSession)=\"&A17&\"\", \"Bar\", \"\", \"Close\",\"5\",\"0\",\"PrimaryOnly\",,,\"False\",\"T\",\"EveryTick\")","v":1.1730499999999999},4.2625745950454793E-5,{"$f":"RTD(\"cqg.rtd\",,\"StudyData\", \"Close(\"&$D$12&\") when LocalYear(\"&$D$12&\")=\"&$D$3&\" and localMonth(\"&$D$12&\") =\"&$E$3&\" and LocalDay(\"&$D$12&\")=\"&$F$3&\" and Barix(\"&$D$12&\",reference:=StartOfSession)=\"&A17&\"\", \"Bar\", \"\", \"Close\",\"5\",\"0\",\"PrimaryOnly\",,,\"False\",\"T\",\"EveryTick\")","v":1.18},-3.3886818027783463E-4,{"$f":"RTD(\"cqg.rtd\",,\"StudyData\", \"Close(\"&$D$12&\") when LocalYear(\"&$D$12&\")=\"&$D$4&\" and localMonth(\"&$D$12&\") =\"&$E$4&\" and LocalDay(\"&$D$12&\")=\"&$F$4&\" and Barix(\"&$D$12&\",reference:=StartOfSession)=\"&A17&\"\", \"Bar\", \"\", \"Close\",\"5\",\"0\",\"PrimaryOnly\",,,\"False\",\"T\",\"EveryTick\")","v":1.1771},-3.2178846642391609E-3,{"$f":"RTD(\"cqg.rtd\",,\"StudyData\", \"Close(\"&$D$12&\") when LocalYear(\"&$D$12&\")=\"&$D$5&\" and localMonth(\"&$D$12&\") =\"&$E$5&\" and LocalDay(\"&$D$12&\")=\"&$F$5&\" and Barix(\"&$D$12&\",reference:=StartOfSession)=\"&A17&\"\", \"Bar\", \"\", \"Close\",\"5\",\"0\",\"PrimaryOnly\",,,\"False\",\"T\",\"EveryTick\")","v":1.1819500000000001},1.2282930961456597E-3,{"$f":"RTD(\"cqg.rtd\",,\"StudyData\", \"Close(\"&$D$12&\") when LocalYear(\"&$D$12&\")=\"&$D$6&\" and localMonth(\"&$D$12&\") =\"&$E$6&\" and LocalDay(\"&$D$12&\")=\"&$F$6&\" and Barix(\"&$D$12&\",reference:=StartOfSession)=\"&A17&\"\", \"Bar\", \"\", \"Close\",\"5\",\"0\",\"PrimaryOnly\",,,\"False\",\"T\",\"EveryTick\")","v":1.1821999999999999},6.8989012860914715E-3,{"$f":"RTD(\"cqg.rtd\",,\"StudyData\", \"Close(\"&$D$12&\") when LocalYear(\"&$D$12&\")=\"&$D$7&\" and localMonth(\"&$D$12&\") =\"&$E$7&\" and LocalDay(\"&$D$12&\")=\"&$F$7&\" and Barix(\"&$D$12&\",reference:=StartOfSession)=\"&A17&\"\", \"Bar\", \"\", \"Close\",\"5\",\"0\",\"PrimaryOnly\",,,\"False\",\"T\",\"EveryTick\")","v":1.1762999999999999},4.1401681676552981E-3,{"$f":"RTD(\"cqg.rtd\",,\"StudyData\", \"Close(\"&$D$12&\") when LocalYear(\"&$D$12&\")=\"&$D$8&\" and localMonth(\"&$D$12&\") =\"&$E$8&\" and LocalDay(\"&$D$12&\")=\"&$F$8&\" and Barix(\"&$D$12&\",reference:=StartOfSession)=\"&A17&\"\", \"Bar\", \"\", \"Close\",\"5\",\"0\",\"PrimaryOnly\",,,\"False\",\"T\",\"EveryTick\")","v":1.17205},3.9402115722300202E-3,{"$f":"RTD(\"cqg.rtd\",,\"StudyData\", \"Close(\"&$D$12&\") when LocalYear(\"&$D$12&\")=\"&$D$9&\" and localMonth(\"&$D$12&\") =\"&$E$9&\" and LocalDay(\"&$D$12&\")=\"&$F$9&\" and Barix(\"&$D$12&\",reference:=StartOfSession)=\"&A17&\"\", \"Bar\", \"\", \"Close\",\"5\",\"0\",\"PrimaryOnly\",,,\"False\",\"T\",\"EveryTick\")","v":1.1718500000000001},-1.5336769905849475E-3,{"$f":"RTD(\"cqg.rtd\",,\"StudyData\", \"Close(\"&$D$12&\") when LocalYear(\"&$D$12&\")=\"&$D$10&\" and localMonth(\"&$D$12&\") =\"&$E$10&\" and LocalDay(\"&$D$12&\")=\"&$F$10&\" and Barix(\"&$D$12&\",reference:=StartOfSession)=\"&A17&\"\", \"Bar\", \"\", \"Close\",\"5\",\"0\",\"PrimaryOnly\",,,\"False\",\"T\",\"EveryTick\")","v":1.1652499999999999},2.4949455843763951E-3,null,null,null,""]
[197,"09:25:00",null,0,"#",null,"2018-07-06",{"$f":"RTD(\"cqg.rtd\",,\"StudyData\", \"Close(\"&$D$12&\") when LocalYear(\"&$D$12&\")=\"&$D$1&\" and localMonth(\"&$D$12&\") =\"&$E$1&\" and LocalDay(\"&$D$12&\")=\"&$F$1&\" and Barix(\"&$D$12&\",reference:=StartOfSession)=\"&A18&\"\", \"Bar\", \"\", \"Close\",\"5\",\"0\",\"PrimaryOnly\",,,\"False\",\"T\",\"EveryTick\")","v":1.1707000000000001},-1.5777578781287853E-3,{"$f":"RTD(\"cqg.rtd\",,\"StudyData\", \"Close(\"&$D$12&\") when LocalYear(\"&$D$12&\")=\"&$D$2&\" and localMonth(\"&$D$12&\") =\"&$E$2&\" and LocalDay(\"&$D$12&\")=\"&$F$2&\" and Barix(\"&$D$12&\",reference:=StartOfSession)=\"&A18&\"\", \"Bar\", \"\", \"Close\",\"5\",\"0\",\"PrimaryOnly\",,,\"False\",\"T\",\"EveryTick\")","v":1.1728499999999999},-1.2787723785174298E-4,{"$f":"RTD(\"cqg.rtd\",,\"StudyData\", \"Close(\"&$D$12&\") when LocalYear(\"&$D$12&\")=\"&$D$3&\" and localMonth(\"&$D$12&\") =\"&$E$3&\" and LocalDay(\"&$D$12&\")=\"&$F$3&\" and Barix(\"&$D$12&\",reference:=StartOfSession)=\"&A18&\"\", \"Bar\", \"\", \"Close\",\"5\",\"0\",\"PrimaryOnly\",,,\"False\",\"T\",\"EveryTick\")","v":1.1800999999999999},-2.5415113520837595E-4,{"$f":"RTD(\"cqg.rtd\",,\"StudyData\", \"Close(\"&$D$12&\") when LocalYear(\"&$D$12&\")=\"&$D$4&\" and localMonth(\"&$D$12&\") =\"&$E$4&\" and LocalDay(\"&$D$12&\")=\"&$F$4&\" and Barix(\"&$D$12&\",reference:=StartOfSession)=\"&A18&\"\", \"Bar\", \"\", \"Close\",\"5\",\"0\",\"PrimaryOnly\",,,\"False\",\"T\",\"EveryTick\")","v":1.1769499999999999},-3.3449064273013123E-3,{"$f":"RTD(\"cqg.rtd\",,\"StudyData\", \"Close(\"&$D$12&\") when LocalYear(\"&$D$12&\")=\"&$D$5&\" and localMonth(\"&$D$12&\") =\"&$E$5&\" and LocalDay(\"&$D$12&\")=\"&$F$5&\" and Barix(\"&$D$12&\",reference:=StartOfSession)=\"&A18&\"\", \"Bar\", \"\", \"Close\",\"5\",\"0\",\"PrimaryOnly\",,,\"False\",\"T\",\"EveryTick\")","v":1.1808000000000001},2.5412960609908251E-4,{"$f":"RTD(\"cqg.rtd\",,\"StudyData\", \"Close(\"&$D$12&\") when LocalYear(\"&$D$12&\")=\"&$D$6&\" and localMonth(\"&$D$12&\") =\"&$E$6&\" and LocalDay(\"&$D$12&\")=\"&$F$6&\" and Barix(\"&$D$12&\",reference:=StartOfSession)=\"&A18&\"\", \"Bar\", \"\", \"Close\",\"5\",\"0\",\"PrimaryOnly\",,,\"False\",\"T\",\"EveryTick\")","v":1.18225},6.9414870964995337E-3,{"$f":"RTD(\"cqg.rtd\",,\"StudyData\", \"Close(\"&$D$12&\") when LocalYear(\"&$D$12&\")=\"&$D$7&\" and localMonth(\"&$D$12&\") =\"&$E$7&\" and LocalDay(\"&$D$12&\")=\"&$F$7&\" and Barix(\"&$D$12&\",reference:=StartOfSession)=\"&A18&\"\", \"Bar\", \"\", \"Close\",\"5\",\"0\",\"PrimaryOnly\",,,\"False\",\"T\",\"EveryTick\")","v":1.17635},4.1828503137136914E-3,{"$f":"RTD(\"cqg.rtd\",,\"StudyData\", \"Close(\"&$D$12&\") when LocalYear(\"&$D$12&\")=\"&$D$8&\" and localMonth(\"&$D$12&\") =\"&$E$8&\" and LocalDay(\"&$D$12&\")=\"&$F$8&\" and Barix(\"&$D$12&\",reference:=StartOfSession)=\"&A18&\"\", \"Bar\", \"\", \"Close\",\"5\",\"0\",\"PrimaryOnly\",,,\"False\",\"T\",\"EveryTick\")","v":1.1722999999999999},4.154353505503275E-3,{"$f":"RTD(\"cqg.rtd\",,\"StudyData\", \"Close(\"&$D$12&\") when LocalYear(\"&$D$12&\")=\"&$D$9&\" and localMonth(\"&$D$12&\") =\"&$E$9&\" and LocalDay(\"&$D$12&\")=\"&$F$9&\" and Barix(\"&$D$12&\",reference:=StartOfSession)=\"&A18&\"\", \"Bar\", \"\", \"Close\",\"5\",\"0\",\"PrimaryOnly\",,,\"False\",\"T\",\"EveryTick\")","v":1.1718999999999999},-1.4910748519576878E-3,{"$f":"RTD(\"cqg.rtd\",,\"StudyData\", \"Close(\"&$D$12&\") when LocalYear(\"&$D$12&\")=\"&$D$10&\" and localMonth(\"&$D$12&\") =\"&$E$10&\" and LocalDay(\"&$D$12&\")=\"&$F$10&\" and Barix(\"&$D$12&\",reference:=StartOfSession)=\"&A18&\"\", \"Bar\", \"\", \"Close\",\"5\",\"0\",\"PrimaryOnly\",,,\"False\",\"T\",\"EveryTick\")","v":1.1656500000000001},2.8390760098077864E-3,null,null,null,""]
[198,"09:30:00",null,1,"#.0",null,"2018-07-05",{"$f":"RTD(\"cqg.rtd\",,\"StudyData\", \"Close(\"&$D$12&\") when LocalYear(\"&$D$12&\")=\"&$D$1&\" and localMonth(\"&$D$12&\") =\"&$E$1&\" and LocalDay(\"&$D$12&\")=\"&$F$1&\" and Barix(\"&$D$12&\",reference:=StartOfSession)=\"&A19&\"\", \"Bar\", \"\", \"Close\",\"5\",\"0\",\"PrimaryOnly\",,,\"False\",\"T\",\"EveryTick\")","v":1.17025},-1.9615368214574804E-3,{"$f":"RTD(\"cqg.rtd\",,\"StudyData\", \"Close(\"&$D$12&\") when LocalYear(\"&$D$12&\")=\"&$D$2&\" and localMonth(\"&$D$12&\") =\"&$E$2&\" and LocalDay(\"&$D$12&\")=\"&$F$2&\" and Barix(\"&$D$12&\",reference:=StartOfSession)=\"&A19&\"\", \"Bar\", \"\", \"Close\",\"5\",\"0\",\"PrimaryOnly\",,,\"False\",\"T\",\"EveryTick\")","v":1.17275},-2.1312872975284185E-4,{"$f":"RTD(\"cqg.rtd\",,\"StudyData\", \"Close(\"&$D$12&\") when LocalYear(\"&$D$12&\")=\"&$D$3&\" and localMonth(\"&$D$12&\") =\"&$E$3&\" and LocalDay(\"&$D$12&\")=\"&$F$3&\" and Barix(\"&$D$12&\",reference:=StartOfSession)=\"&A19&\"\", \"Bar\", \"\", \"Close\",\"5\",\"0\",\"PrimaryOnly\",,,\"False\",\"T\",\"EveryTick\")","v":1.1796},-6.7773636055566927E-4,{"$f":"RTD(\"cqg.rtd\",,\"StudyData\", \"Close(\"&$D$12&\") when LocalYear(\"&$D$12&\")=\"&$D$4&\" and localMonth(\"&$D$12&\") =\"&$E$4&\" and LocalDay(\"&$D$12&\")=\"&$F$4&\" and Barix(\"&$D$12&\",reference:=StartOfSession)=\"&A19&\"\", \"Bar\", \"\", \"Close\",\"5\",\"0\",\"PrimaryOnly\",,,\"False\",\"T\",\"EveryTick\")","v":1.1766000000000001},-3.6412905411126856E-3,{"$f":"RTD(\"cqg.rtd\",,\"StudyData\", \"Close(\"&$D$12&\") when LocalYear(\"&$D$12&\")=\"&$D$5&\" and localMonth(\"&$D$12&\") =\"&$E$5&\" and LocalDay(\"&$D$12&\")=\"&$F$5&\" and Barix(\"&$D$12&\",reference:=StartOfSession)=\"&A19&\"\", \"Bar\", \"\", \"Close\",\"5\",\"0\",\"PrimaryOnly\",,,\"False\",\"T\",\"EveryTick\")","v":1.1816500000000001},9.7416349004657711E-4,{"$f":"RTD(\"cqg.rtd\",,\"StudyData\", \"Close(\"&$D$12&\") when LocalYear(\"&$D$12&\")=\"&$D$6&\" and localMonth(\"&$D$12&\") =\"&$E$6&\" and LocalDay(\"&$D$12&\")=\"&$F$6&\" and Barix(\"&$D$12&\",reference:=StartOfSession)=\"&A19&\"\", \"Bar\", \"\", \"Close\",\"5\",\"0\",\"PrimaryOnly\",,,\"False\",\"T\",\"EveryTick\")","v":1.1822999999999999},6.984072906907406E-3,{"$f":"RTD(\"cqg.rtd\",,\"StudyData\", \"Close(\"&$D$12&\") when LocalYear(\"&$D$12&\")=\"&$D$7&\" and localMonth(\"&$D$12&\") =\"&$E$7&\" and LocalDay(\"&$D$12&\")=\"&$F$7&\" and Barix(\"&$D$12&\",reference:=StartOfSession)=\"&A19&\"\", \"Bar\", \"\", \"Close\",\"5\",\"0\",\"PrimaryOnly\",,,\"False\",\"T\",\"EveryTick\")","v":1.1760999999999999},3.9694395834221014E-3,{"$f":"RTD(\"cqg.rtd\",,\"StudyData\", \"Close(\"&$D$12&\") when LocalYear(\"&$D$12&\")=\"&$D$8&\" and localMonth(\"&$D$12&\") =\"&$E$8&\" and LocalDay(\"&$D$12&\")=\"&$F$8&\" and Barix(\"&$D$12&\",reference:=StartOfSession)=\"&A19&\"\", \"Bar\", \"\", \"Close\",\"5\",\"0\",\"PrimaryOnly\",,,\"False\",\"T\",\"EveryTick\")","v":1.1725000000000001},4.3256670521221452E-3,{"$f":"RTD(\"cqg.rtd\",,\"StudyData\", \"Close(\"&$D$12&\") when LocalYear(\"&$D$12&\")=\"&$D$9&\" and localMonth(\"&$D$12&\") =\"&$E$9&\" and LocalDay(\"&$D$12&\")=\"&$F$9&\" and Barix(\"&$D$12&\",reference:=StartOfSession)=\"&A19&\"\", \"Bar\", \"\", \"Close\",\"5\",\"0\",\"PrimaryOnly\",,,\"False\",\"T\",\"EveryTick\")","v":1.1721999999999999},-1.2354620201935613E-3,{"$f":"RTD(\"cqg.rtd\",,\"StudyData\", \"Close(\"&$D$12&\") when LocalYear(\"&$D$12&\")=\"&$D$10&\" and localMonth(\"&$D$12&\") =\"&$E$10&\" and LocalDay(\"&$D$12&\")=\"&$F$10&\" and Barix(\"&$D$12&\",reference:=StartOfSession)=\"&A19&\"\", \"Bar\", \"\", \"Close\",\"5\",\"0\",\"PrimaryOnly\",,,\"False\",\"T\",\"EveryTick\")","v":1.1658500000000001},3.0111412225233866E-3,null,null,null,""]
[199,"09:35:00",null,2,"#.00",null,"2018-07-03",{"$f":"RTD(\"cqg.rtd\",,\"StudyData\", \"Close(\"&$D$12&\") when LocalYear(\"&$D$12&\")=\"&$D$1&\" and localMonth(\"&$D$12&\") =\"&$E$1&\" and LocalDay(\"&$D$12&\")=\"&$F$1&\" and Barix(\"&$D$12&\",reference:=StartOfSession)=\"&A20&\"\", \"Bar\", \"\", \"Close\",\"5\",\"0\",\"PrimaryOnly\",,,\"False\",\"T\",\"EveryTick\")","v":1.17025},-1.9615368214574804E-3,{"$f":"RTD(\"cqg.rtd\",,\"StudyData\", \"Close(\"&$D$12&\") when LocalYear(\"&$D$12&\")=\"&$D$2&\" and localMonth(\"&$D$12&\") =\"&$E$2&\" and LocalDay(\"&$D$12&\")=\"&$F$2&\" and Barix(\"&$D$12&\",reference:=StartOfSession)=\"&A20&\"\", \"Bar\", \"\", \"Close\",\"5\",\"0\",\"PrimaryOnly\",,,\"False\",\"T\",\"EveryTick\")","v":1.1728000000000001},-1.7050298380219775E-4,{"$f":"RTD(\"cqg.rtd\",,\"StudyData\", \"Close(\"&$D$12&\") when LocalYear(\"&$D$12&\")=\"&$D$3&\" and localMonth(\"&$D$12&\") =\"&$E$3&\" and LocalDay(\"&$D$12&\")=\"&$F$3&\" and Barix(\"&$D$12&\",reference:=StartOfSession)=\"&A20&\"\", \"Bar\", \"\", \"Close\",\"5\",\"0\",\"PrimaryOnly\",,,\"False\",\"T\",\"EveryTick\")","v":1.1794},-8.4717045069458653E-4,{"$f":"RTD(\"cqg.rtd\",,\"StudyData\", \"Close(\"&$D$12&\") when LocalYear(\"&$D$12&\")=\"&$D$4&\" and localMonth(\"&$D$12&\") =\"&$E$4&\" and LocalDay(\"&$D$12&\")=\"&$F$4&\" and Barix(\"&$D$12&\",reference:=StartOfSession)=\"&A20&\"\", \"Bar\", \"\", \"Close\",\"5\",\"0\",\"PrimaryOnly\",,,\"False\",\"T\",\"EveryTick\")","v":1.17665},-3.5989499534254269E-3,{"$f":"RTD(\"cqg.rtd\",,\"StudyData\", \"Close(\"&$D$12&\") when LocalYear(\"&$D$12&\")=\"&$D$5&\" and localMonth(\"&$D$12&\") =\"&$E$5&\" and LocalDay(\"&$D$12&\")=\"&$F$5&\" and Barix(\"&$D$12&\",reference:=StartOfSession)=\"&A20&\"\", \"Bar\", \"\", \"Close\",\"5\",\"0\",\"PrimaryOnly\",,,\"False\",\"T\",\"EveryTick\")","v":1.1817},1.01651842439633E-3,{"$f":"RTD(\"cqg.rtd\",,\"StudyData\", \"Close(\"&$D$12&\") when LocalYear(\"&$D$12&\")=\"&$D$6&\" and localMonth(\"&$D$12&\") =\"&$E$6&\" and LocalDay(\"&$D$12&\")=\"&$F$6&\" and Barix(\"&$D$12&\",reference:=StartOfSession)=\"&A20&\"\", \"Bar\", \"\", \"Close\",\"5\",\"0\",\"PrimaryOnly\",,,\"False\",\"T\",\"EveryTick\")","v":1.1819},6.6433864236436673E-3,{"$f":"RTD(\"cqg.rtd\",,\"StudyData\", \"Close(\"&$D$12&\") when LocalYear(\"&$D$12&\")=\"&$D$7&\" and localMonth(\"&$D$12&\") =\"&$E$7&\" and LocalDay(\"&$D$12&\")=\"&$F$7&\" and Barix(\"&$D$12&\",reference:=StartOfSession)=\"&A20&\"\", \"Bar\", \"\", \"Close\",\"5\",\"0\",\"PrimaryOnly\",,,\"False\",\"T\",\"EveryTick\")","v":1.17605},3.9267574373638972E-3,{"$f":"RTD(\"cqg.rtd\",,\"StudyData\", \"Close(\"&$D$12&\") when LocalYear(\"&$D$12&\")=\"&$D$8&\" and localMonth(\"&$D$12&\") =\"&$E$8&\" and LocalDay(\"&$D$12&\")=\"&$F$8&\" and Barix(\"&$D$12&\",reference:=StartOfSession)=\"&A20&\"\", \"Bar\", \"\", \"Close\",\"5\",\"0\",\"PrimaryOnly\",,,\"False\",\"T\",\"EveryTick\")","v":1.1727000000000001},4.4969805987408254E-3,{"$f":"RTD(\"cqg.rtd\",,\"StudyData\", \"Close(\"&$D$12&\") when LocalYear(\"&$D$12&\")=\"&$D$9&\" and localMonth(\"&$D$12&\") =\"&$E$9&\" and LocalDay(\"&$D$12&\")=\"&$F$9&\" and Barix(\"&$D$12&\",reference:=StartOfSession)=\"&A20&\"\", \"Bar\", \"\", \"Close\",\"5\",\"0\",\"PrimaryOnly\",,,\"False\",\"T\",\"EveryTick\")","v":1.1719999999999999},-1.405870574702979E-3,{"$f":"RTD(\"cqg.rtd\",,\"StudyData\", \"Close(\"&$D$12&\") when LocalYear(\"&$D$12&\")=\"&$D$10&\" and localMonth(\"&$D$12&\") =\"&$E$10&\" and LocalDay(\"&$D$12&\")=\"&$F$10&\" and Barix(\"&$D$12&\",reference:=StartOfSession)=\"&A20&\"\", \"Bar\", \"\", \"Close\",\"5\",\"0\",\"PrimaryOnly\",,,\"False\",\"T\",\"EveryTick\")","v":1.1659999999999999},3.1401901320599916E-3,null,null,null,""]
[200,"09:40:00",null,3,"#.000",null,"2018-06-29",{"$f":"RTD(\"cqg.rtd\",,\"StudyData\", \"Close(\"&$D$12&\") when LocalYear(\"&$D$12&\")=\"&$D$1&\" and localMonth(\"&$D$12&\") =\"&$E$1&\" and LocalDay(\"&$D$12&\")=\"&$F$1&\" and Barix(\"&$D$12&\",reference:=StartOfSession)=\"&A21&\"\", \"Bar\", \"\", \"Close\",\"5\",\"0\",\"PrimaryOnly\",,,\"False\",\"T\",\"EveryTick\")","v":1.17045},-1.7909684022003247E-3,{"$f":"RTD(\"cqg.rtd\",,\"StudyData\", \"Close(\"&$D$12&\") when LocalYear(\"&$D$12&\")=\"&$D$2&\" and localMonth(\"&$D$12&\") =\"&$E$2&\" and LocalDay(\"&$D$12&\")=\"&$F$2&\" and Barix(\"&$D$12&\",reference:=StartOfSession)=\"&A21&\"\", \"Bar\", \"\", \"Close\",\"5\",\"0\",\"PrimaryOnly\",,,\"False\",\"T\",\"EveryTick\")","v":1.17245},-4.6888320545613845E-4,{"$f":"RTD(\"cqg.rtd\",,\"StudyData\", \"Close(\"&$D$12&\") when LocalYear(\"&$D$12&\")=\"&$D$3&\" and localMonth(\"&$D$12&\") =\"&$E$3&\" and LocalDay(\"&$D$12&\")=\"&$F$3&\" and Barix(\"&$D$12&\",reference:=StartOfSession)=\"&A21&\"\", \"Bar\", \"\", \"Close\",\"5\",\"0\",\"PrimaryOnly\",,,\"False\",\"T\",\"EveryTick\")","v":1.1789000000000001},-1.2707556760418797E-3,{"$f":"RTD(\"cqg.rtd\",,\"StudyData\", \"Close(\"&$D$12&\") when LocalYear(\"&$D$12&\")=\"&$D$4&\" and localMonth(\"&$D$12&\") =\"&$E$4&\" and LocalDay(\"&$D$12&\")=\"&$F$4&\" and Barix(\"&$D$12&\",reference:=StartOfSession)=\"&A21&\"\", \"Bar\", \"\", \"Close\",\"5\",\"0\",\"PrimaryOnly\",,,\"False\",\"T\",\"EveryTick\")","v":1.1774500000000001},-2.9215005504276003E-3,{"$f":"RTD(\"cqg.rtd\",,\"StudyData\", \"Close(\"&$D$12&\") when LocalYear(\"&$D$12&\")=\"&$D$5&\" and localMonth(\"&$D$12&\") =\"&$E$5&\" and LocalDay(\"&$D$12&\")=\"&$F$5&\" and Barix(\"&$D$12&\",reference:=StartOfSession)=\"&A21&\"\", \"Bar\", \"\", \"Close\",\"5\",\"0\",\"PrimaryOnly\",,,\"False\",\"T\",\"EveryTick\")","v":1.1817},1.01651842439633E-3,{"$f":"RTD(\"cqg.rtd\",,\"StudyData\", \"Close(\"&$D$12&\") when LocalYear(\"&$D$12&\")=\"&$D$6&\" and localMonth(\"&$D$12&\") =\"&$E$6&\" and LocalDay(\"&$D$12&\")=\"&$F$6&\" and Barix(\"&$D$12&\",reference:=StartOfSession)=\"&A21&\"\", \"Bar\", \"\", \"Close\",\"5\",\"0\",\"PrimaryOnly\",,,\"False\",\"T\",\"EveryTick\")","v":1.1819999999999999},6.7285580444596017E-3,{"$f":"RTD(\"cqg.rtd\",,\"StudyData\", \"Close(\"&$D$12&\") when LocalYear(\"&$D$12&\")=\"&$D$7&\" and localMonth(\"&$D$12&\") =\"&$E$7&\" and LocalDay(\"&$D$12&\")=\"&$F$7&\" and Barix(\"&$D$12&\",reference:=StartOfSession)=\"&A21&\"\", \"Bar\", \"\", \"Close\",\"5\",\"0\",\"PrimaryOnly\",,,\"False\",\"T\",\"EveryTick\")","v":1.1762999999999999},4.1401681676552981E-3,{"$f":"RTD(\"cqg.rtd\",,\"StudyData\", \"Close(\"&$D$12&\") when LocalYear(\"&$D$12&\")=\"&$D$8&\" and localMonth(\"&$D$12&\") =\"&$E$8&\" and LocalDay(\"&$D$12&\")=\"&$F$8&\" and Barix(\"&$D$12&\",reference:=StartOfSession)=\"&A21&\"\", \"Bar\", \"\", \"Close\",\"5\",\"0\",\"PrimaryOnly\",,,\"False\",\"T\",\"EveryTick\")","v":1.1721999999999999},4.0686967321939349E-3,{"$f":"RTD(\"cqg.rtd\",,\"StudyData\", \"Close(\"&$D$12&\") when LocalYear(\"&$D$12&\")=\"&$D$9&\" and localMonth(\"&$D$12&\") =\"&$E$9&\" and LocalDay(\"&$D$12&\")=\"&$F$9&\" and Barix(\"&$D$12&\",reference:=StartOfSession)=\"&A21&\"\", \"Bar\", \"\", \"Close\",\"5\",\"0\",\"PrimaryOnly\",,,\"False\",\"T\",\"EveryTick\")","v":1.17265},-8.5204277254727714E-4,{"$f":"RTD(\"cqg.rtd\",,\"StudyData\", \"Close(\"&$D$12&\") when LocalYear(\"&$D$12&\")=\"&$D$10&\" and localMonth(\"&$D$12&\") =\"&$E$10&\" and LocalDay(\"&$D$12&\")=\"&$F$10&\" and Barix(\"&$D$12&\",reference:=StartOfSession)=\"&A21&\"\", \"Bar\", \"\", \"Close\",\"5\",\"0\",\"PrimaryOnly\",,,\"False\",\"T\",\"EveryTick\")","v":1.1654500000000001},2.6670107970921861E-3,null,null,null,""]
[201,"09:45:00",null,4,"#.0000",null,"2018-06-28",{"$f":"RTD(\"cqg.rtd\",,\"StudyData\", \"Close(\"&$D$12&\") when LocalYear(\"&$D$12&\")=\"&$D$1&\" and localMonth(\"&$D$12&\") =\"&$E$1&\" and LocalDay(\"&$D$12&\")=\"&$F$1&\" and Barix(\"&$D$12&\",reference:=StartOfSession)=\"&A22&\"\", \"Bar\", \"\", \"Close\",\"5\",\"0\",\"PrimaryOnly\",,,\"False\",\"T\",\"EveryTick\")","v":1.1712},-1.151336829985896E-3,{"$f":"RTD(\"cqg.rtd\",,\"StudyData\", \"Close(\"&$D$12&\") when LocalYear(\"&$D$12&\")=\"&$D$2&\" and localMonth(\"&$D$12&\") =\"&$E$2&\" and LocalDay(\"&$D$12&\")=\"&$F$2&\" and Barix(\"&$D$12&\",reference:=StartOfSession)=\"&A22&\"\", \"Bar\", \"\", \"Close\",\"5\",\"0\",\"PrimaryOnly\",,,\"False\",\"T\",\"EveryTick\")","v":1.1724000000000001},-5.115089514065933E-4,{"$f":"RTD(\"cqg.rtd\",,\"StudyData\", \"Close(\"&$D$12&\") when LocalYear(\"&$D$12&\")=\"&$D$3&\" and localMonth(\"&$D$12&\") =\"&$E$3&\" and LocalDay(\"&$D$12&\")=\"&$F$3&\" and Barix(\"&$D$12&\",reference:=StartOfSession)=\"&A22&\"\", \"Bar\", \"\", \"Close\",\"5\",\"0\",\"PrimaryOnly\",,,\"False\",\"T\",\"EveryTick\")","v":1.17825},-1.8214164689934551E-3,{"$f":"RTD(\"cqg.rtd\",,\"StudyData\", \"Close(\"&$D$12&\") when LocalYear(\"&$D$12&\")=\"&$D$4&\" and localMonth(\"&$D$12&\") =\"&$E$4&\" and LocalDay(\"&$D$12&\")=\"&$F$4&\" and Barix(\"&$D$12&\",reference:=StartOfSession)=\"&A22&\"\", \"Bar\", \"\", \"Close\",\"5\",\"0\",\"PrimaryOnly\",,,\"False\",\"T\",\"EveryTick\")","v":1.1774500000000001},-2.9215005504276003E-3,{"$f":"RTD(\"cqg.rtd\",,\"StudyData\", \"Close(\"&$D$12&\") when LocalYear(\"&$D$12&\")=\"&$D$5&\" and localMonth(\"&$D$12&\") =\"&$E$5&\" and LocalDay(\"&$D$12&\")=\"&$F$5&\" and Barix(\"&$D$12&\",reference:=StartOfSession)=\"&A22&\"\", \"Bar\", \"\", \"Close\",\"5\",\"0\",\"PrimaryOnly\",,,\"False\",\"T\",\"EveryTick\")","v":1.1819999999999999},1.2706480304954127E-3,{"$f":"RTD(\"cqg.rtd\",,\"StudyData\", \"Close(\"&$D$12&\") when LocalYear(\"&$D$12&\")=\"&$D$6&\" and localMonth(\"&$D$12&\") =\"&$E$6&\" and LocalDay(\"&$D$12&\")=\"&$F$6&\" and Barix(\"&$D$12&\",reference:=StartOfSession)=\"&A22&\"\", \"Bar\", \"\", \"Close\",\"5\",\"0\",\"PrimaryOnly\",,,\"False\",\"T\",\"EveryTick\")","v":1.1816},6.387871561195863E-3,{"$f":"RTD(\"cqg.rtd\",,\"StudyData\", \"Close(\"&$D$12&\") when LocalYear(\"&$D$12&\")=\"&$D$7&\" and localMonth(\"&$D$12&\") =\"&$E$7&\" and LocalDay(\"&$D$12&\")=\"&$F$7&\" and Barix(\"&$D$12&\",reference:=StartOfSession)=\"&A22&\"\", \"Bar\", \"\", \"Close\",\"5\",\"0\",\"PrimaryOnly\",,,\"False\",\"T\",\"EveryTick\")","v":1.1762999999999999},4.1401681676552981E-3,{"$f":"RTD(\"cqg.rtd\",,\"StudyData\", \"Close(\"&$D$12&\") when LocalYear(\"&$D$12&\")=\"&$D$8&\" and localMonth(\"&$D$12&\") =\"&$E$8&\" and LocalDay(\"&$D$12&\")=\"&$F$8&\" and Barix(\"&$D$12&\",reference:=StartOfSession)=\"&A22&\"\", \"Bar\", \"\", \"Close\",\"5\",\"0\",\"PrimaryOnly\",,,\"False\",\"T\",\"EveryTick\")","v":1.17195},3.8545547989206801E-3,{"$f":"RTD(\"cqg.rtd\",,\"StudyData\", \"Close(\"&$D$12&\") when LocalYear(\"&$D$12&\")=\"&$D$9&\" and localMonth(\"&$D$12&\") =\"&$E$9&\" and LocalDay(\"&$D$12&\")=\"&$F$9&\" and Barix(\"&$D$12&\",reference:=StartOfSession)=\"&A22&\"\", \"Bar\", \"\", \"Close\",\"5\",\"0\",\"PrimaryOnly\",,,\"False\",\"T\",\"EveryTick\")","v":1.1728499999999999},-6.8163421803785955E-4,{"$f":"RTD(\"cqg.rtd\",,\"StudyData\", \"Close(\"&$D$12&\") when LocalYear(\"&$D$12&\")=\"&$D$10&\" and localMonth(\"&$D$12&\") =\"&$E$10&\" and LocalDay(\"&$D$12&\")=\"&$F$10&\" and Barix(\"&$D$12&\",reference:=StartOfSession)=\"&A22&\"\", \"Bar\", \"\", \"Close\",\"5\",\"0\",\"PrimaryOnly\",,,\"False\",\"T\",\"EveryTick\")","v":1.1657500000000001},2.9251086161655865E-3,null,null,null,""]
[202,"09:50:00",null,5,"#.00000",null,null,{"$f":"RTD(\"cqg.rtd\",,\"StudyData\", \"Close(\"&$D$12&\") when LocalYear(\"&$D$12&\")=\"&$D$1&\" and localMonth(\"&$D$12&\") =\"&$E$1&\" and LocalDay(\"&$D$12&\")=\"&$F$1&\" and Barix(\"&$D$12&\",reference:=StartOfSession)=\"&A23&\"\", \"Bar\", \"\", \"Close\",\"5\",\"0\",\"PrimaryOnly\",,,\"False\",\"T\",\"EveryTick\")","v":1.17195},-5.1170525777146725E-4,{"$f":"RTD(\"cqg.rtd\",,\"StudyData\", \"Close(\"&$D$12&\") when LocalYear(\"&$D$12&\")=\"&$D$2&\" and localMonth(\"&$D$12&\") =\"&$E$2&\" and LocalDay(\"&$D$12&\")=\"&$F$2&\" and Barix(\"&$D$12&\",reference:=StartOfSession)=\"&A23&\"\", \"Bar\", \"\", \"Close\",\"5\",\"0\",\"PrimaryOnly\",,,\"False\",\"T\",\"EveryTick\")","v":1.1734},3.410059676043955E-4,{"$f":"RTD(\"cqg.rtd\",,\"StudyData\", \"Close(\"&$D$12&\") when LocalYear(\"&$D$12&\")=\"&$D$3&\" and localMonth(\"&$D$12&\") =\"&$E$3&\" and LocalDay(\"&$D$12&\")=\"&$F$3&\" and Barix(\"&$D$12&\",reference:=StartOfSession)=\"&A23&\"\", \"Bar\", \"\", \"Close\",\"5\",\"0\",\"PrimaryOnly\",,,\"False\",\"T\",\"EveryTick\")","v":1.1778},-2.202643171806113E-3,{"$f":"RTD(\"cqg.rtd\",,\"StudyData\", \"Close(\"&$D$12&\") when LocalYear(\"&$D$12&\")=\"&$D$4&\" and localMonth(\"&$D$12&\") =\"&$E$4&\" and LocalDay(\"&$D$12&\")=\"&$F$4&\" and Barix(\"&$D$12&\",reference:=StartOfSession)=\"&A23&\"\", \"Bar\", \"\", \"Close\",\"5\",\"0\",\"PrimaryOnly\",,,\"False\",\"T\",\"EveryTick\")","v":1.1777500000000001},-2.6674570243034853E-3,{"$f":"RTD(\"cqg.rtd\",,\"StudyData\", \"Close(\"&$D$12&\") when LocalYear(\"&$D$12&\")=\"&$D$5&\" and localMonth(\"&$D$12&\") =\"&$E$5&\" and LocalDay(\"&$D$12&\")=\"&$F$5&\" and Barix(\"&$D$12&\",reference:=StartOfSession)=\"&A23&\"\", \"Bar\", \"\", \"Close\",\"5\",\"0\",\"PrimaryOnly\",,,\"False\",\"T\",\"EveryTick\")","v":1.1816},9.3180855569663596E-4,{"$f":"RTD(\"cqg.rtd\",,\"StudyData\", \"Close(\"&$D$12&\") when LocalYear(\"&$D$12&\")=\"&$D$6&\" and localMonth(\"&$D$12&\") =\"&$E$6&\" and LocalDay(\"&$D$12&\")=\"&$F$6&\" and Barix(\"&$D$12&\",reference:=StartOfSession)=\"&A23&\"\", \"Bar\", \"\", \"Close\",\"5\",\"0\",\"PrimaryOnly\",,,\"False\",\"T\",\"EveryTick\")","v":1.1819500000000001},6.6859722340517295E-3,{"$f":"RTD(\"cqg.rtd\",,\"StudyData\", \"Close(\"&$D$12&\") when LocalYear(\"&$D$12&\")=\"&$D$7&\" and localMonth(\"&$D$12&\") =\"&$E$7&\" and LocalDay(\"&$D$12&\")=\"&$F$7&\" and Barix(\"&$D$12&\",reference:=StartOfSession)=\"&A23&\"\", \"Bar\", \"\", \"Close\",\"5\",\"0\",\"PrimaryOnly\",,,\"False\",\"T\",\"EveryTick\")","v":1.1761999999999999},4.0548038755386998E-3,{"$f":"RTD(\"cqg.rtd\",,\"StudyData\", \"Close(\"&$D$12&\") when LocalYear(\"&$D$12&\")=\"&$D$8&\" and localMonth(\"&$D$12&\") =\"&$E$8&\" and LocalDay(\"&$D$12&\")=\"&$F$8&\" and Barix(\"&$D$12&\",reference:=StartOfSession)=\"&A23&\"\", \"Bar\", \"\", \"Close\",\"5\",\"0\",\"PrimaryOnly\",,,\"False\",\"T\",\"EveryTick\")","v":1.17205},3.9402115722300202E-3,{"$f":"RTD(\"cqg.rtd\",,\"StudyData\", \"Close(\"&$D$12&\") when LocalYear(\"&$D$12&\")=\"&$D$9&\" and localMonth(\"&$D$12&\") =\"&$E$9&\" and LocalDay(\"&$D$12&\")=\"&$F$9&\" and Barix(\"&$D$12&\",reference:=StartOfSession)=\"&A23&\"\", \"Bar\", \"\", \"Close\",\"5\",\"0\",\"PrimaryOnly\",,,\"False\",\"T\",\"EveryTick\")","v":1.1729499999999999},-5.9642994078315081E-4,{"$f":"RTD(\"cqg.rtd\",,\"StudyData\", \"Close(\"&$D$12&\") when LocalYear(\"&$D$12&\")=\"&$D$10&\" and localMonth(\"&$D$12&\") =\"&$E$10&\" and LocalDay(\"&$D$12&\")=\"&$F$10&\" and Barix(\"&$D$12&\",reference:=StartOfSession)=\"&A23&\"\", \"Bar\", \"\", \"Close\",\"5\",\"0\",\"PrimaryOnly\",,,\"False\",\"T\",\"EveryTick\")","v":1.16475},2.0647825525873941E-3,null,null,null,""]
[203,"09:55:00",null,6,"#.000000",null,null,{"$f":"RTD(\"cqg.rtd\",,\"StudyData\", \"Close(\"&$D$12&\") when LocalYear(\"&$D$12&\")=\"&$D$1&\" and localMonth(\"&$D$12&\") =\"&$E$1&\" and LocalDay(\"&$D$12&\")=\"&$F$1&\" and Barix(\"&$D$12&\",reference:=StartOfSession)=\"&A24&\"\", \"Bar\", \"\", \"Close\",\"5\",\"0\",\"PrimaryOnly\",,,\"False\",\"T\",\"EveryTick\")","v":1.1720999999999999},-3.8377894332869514E-4,{"$f":"RTD(\"cqg.rtd\",,\"StudyData\", \"Close(\"&$D$12&\") when LocalYear(\"&$D$12&\")=\"&$D$2&\" and localMonth(\"&$D$12&\") =\"&$E$2&\" and LocalDay(\"&$D$12&\")=\"&$F$2&\" and Barix(\"&$D$12&\",reference:=StartOfSession)=\"&A24&\"\", \"Bar\", \"\", \"Close\",\"5\",\"0\",\"PrimaryOnly\",,,\"False\",\"T\",\"EveryTick\")","v":1.1738500000000001},7.2463768115943515E-4,{"$f":"RTD(\"cqg.rtd\",,\"StudyData\", \"Close(\"&$D$12&\") when LocalYear(\"&$D$12&\")=\"&$D$3&\" and localMonth(\"&$D$12&\") =\"&$E$3&\" and LocalDay(\"&$D$12&\")=\"&$F$3&\" and Barix(\"&$D$12&\",reference:=StartOfSession)=\"&A24&\"\", \"Bar\", \"\", \"Close\",\"5\",\"0\",\"PrimaryOnly\",,,\"False\",\"T\",\"EveryTick\")","v":1.1779500000000001},-2.0755676042018309E-3,{"$f":"RTD(\"cqg.rtd\",,\"StudyData\", \"Close(\"&$D$12&\") when LocalYear(\"&$D$12&\")=\"&$D$4&\" and localMonth(\"&$D$12&\") =\"&$E$4&\" and LocalDay(\"&$D$12&\")=\"&$F$4&\" and Barix(\"&$D$12&\",reference:=StartOfSession)=\"&A24&\"\", \"Bar\", \"\", \"Close\",\"5\",\"0\",\"PrimaryOnly\",,,\"False\",\"T\",\"EveryTick\")","v":1.1778999999999999},-2.5404352612415221E-3,{"$f":"RTD(\"cqg.rtd\",,\"StudyData\", \"Close(\"&$D$12&\") when LocalYear(\"&$D$12&\")=\"&$D$5&\" and localMonth(\"&$D$12&\") =\"&$E$5&\" and LocalDay(\"&$D$12&\")=\"&$F$5&\" and Barix(\"&$D$12&\",reference:=StartOfSession)=\"&A24&\"\", \"Bar\", \"\", \"Close\",\"5\",\"0\",\"PrimaryOnly\",,,\"False\",\"T\",\"EveryTick\")","v":1.1819500000000001},1.2282930961456597E-3,{"$f":"RTD(\"cqg.rtd\",,\"StudyData\", \"Close(\"&$D$12&\") when LocalYear(\"&$D$12&\")=\"&$D$6&\" and localMonth(\"&$D$12&\") =\"&$E$6&\" and LocalDay(\"&$D$12&\")=\"&$F$6&\" and Barix(\"&$D$12&\",reference:=StartOfSession)=\"&A24&\"\", \"Bar\", \"\", \"Close\",\"5\",\"0\",\"PrimaryOnly\",,,\"False\",\"T\",\"EveryTick\")","v":1.1818},6.5582148028277328E-3,{"$f":"RTD(\"cqg.rtd\",,\"StudyData\", \"Close(\"&$D$12&\") when LocalYear(\"&$D$12&\")=\"&$D$7&\" and localMonth(\"&$D$12&\") =\"&$E$7&\" and LocalDay(\"&$D$12&\")=\"&$F$7&\" and Barix(\"&$D$12&\",reference:=StartOfSession)=\"&A24&\"\", \"Bar\", \"\", \"Close\",\"5\",\"0\",\"PrimaryOnly\",,,\"False\",\"T\",\"EveryTick\")","v":1.1762999999999999},4.1401681676552981E-3,{"$f":"RTD(\"cqg.rtd\",,\"StudyData\", \"Close(\"&$D$12&\") when LocalYear(\"&$D$12&\")=\"&$D$8&\" and localMonth(\"&$D$12&\") =\"&$E$8&\" and LocalDay(\"&$D$12&\")=\"&$F$8&\" and Barix(\"&$D$12&\",reference:=StartOfSession)=\"&A24&\"\", \"Bar\", \"\", \"Close\",\"5\",\"0\",\"PrimaryOnly\",,,\"False\",\"T\",\"EveryTick\")","v":1.1714500000000001},3.42627093237398E-3,{"$f":"RTD(\"cqg.rtd\",,\"StudyData\", \"Close(\"&$D$12&\") when LocalYear(\"&$D$12&\")=\"&$D$9&\" and localMonth(\"&$D$12&\") =\"&$E$9&\" and LocalDay(\"&$D$12&\")=\"&$F$9&\" and Barix(\"&$D$12&\",reference:=StartOfSession)=\"&A24&\"\", \"Bar\", \"\", \"Close\",\"5\",\"0\",\"PrimaryOnly\",,,\"False\",\"T\",\"EveryTick\")","v":1.17435},5.9642994078296162E-4,{"$f":"RTD(\"cqg.rtd\",,\"StudyData\", \"Close(\"&$D$12&\") when LocalYear(\"&$D$12&\")=\"&$D$10&\" and localMonth(\"&$D$12&\") =\"&$E$10&\" and LocalDay(\"&$D$12&\")=\"&$F$10&\" and Barix(\"&$D$12&\",reference:=StartOfSession)=\"&A24&\"\", \"Bar\", \"\", \"Close\",\"5\",\"0\",\"PrimaryOnly\",,,\"False\",\"T\",\"EveryTick\")","v":1.1648499999999999},2.1508151589451946E-3,null,null,null,""]
[204,"10:00:00",null,7,"#.0000000",null,null,{"$f":"RTD(\"cqg.rtd\",,\"StudyData\", \"Close(\"&$D$12&\") when LocalYear(\"&$D$12&\")=\"&$D$1&\" and localMonth(\"&$D$12&\") =\"&$E$1&\" and LocalDay(\"&$D$12&\")=\"&$F$1&\" and Barix(\"&$D$12&\",reference:=StartOfSession)=\"&A25&\"\", \"Bar\", \"\", \"Close\",\"5\",\"0\",\"PrimaryOnly\",,,\"False\",\"T\",\"EveryTick\")","v":1.17205},-4.2642104814288938E-4,{"$f":"RTD(\"cqg.rtd\",,\"StudyData\", \"Close(\"&$D$12&\") when LocalYear(\"&$D$12&\")=\"&$D$2&\" and localMonth(\"&$D$12&\") =\"&$E$2&\" and LocalDay(\"&$D$12&\")=\"&$F$2&\" and Barix(\"&$D$12&\",reference:=StartOfSession)=\"&A25&\"\", \"Bar\", \"\", \"Close\",\"5\",\"0\",\"PrimaryOnly\",,,\"False\",\"T\",\"EveryTick\")","v":1.17405},8.9514066496163285E-4,{"$f":"RTD(\"cqg.rtd\",,\"StudyData\", \"Close(\"&$D$12&\") when LocalYear(\"&$D$12&\")=\"&$D$3&\" and localMonth(\"&$D$12&\") =\"&$E$3&\" and LocalDay(\"&$D$12&\")=\"&$F$3&\" and Barix(\"&$D$12&\",reference:=StartOfSession)=\"&A25&\"\", \"Bar\", \"\", \"Close\",\"5\",\"0\",\"PrimaryOnly\",,,\"False\",\"T\",\"EveryTick\")","v":1.1780999999999999},-1.9484920365977372E-3,{"$f":"RTD(\"cqg.rtd\",,\"StudyData\", \"Close(\"&$D$12&\") when LocalYear(\"&$D$12&\")=\"&$D$4&\" and localMonth(\"&$D$12&\") =\"&$E$4&\" and LocalDay(\"&$D$12&\")=\"&$F$4&\" and Barix(\"&$D$12&\",reference:=StartOfSession)=\"&A25&\"\", \"Bar\", \"\", \"Close\",\"5\",\"0\",\"PrimaryOnly\",,,\"False\",\"T\",\"EveryTick\")","v":1.1779999999999999},-2.4557540858668172E-3,{"$f":"RTD(\"cqg.rtd\",,\"StudyData\", \"Close(\"&$D$12&\") when LocalYear(\"&$D$12&\")=\"&$D$5&\" and localMonth(\"&$D$12&\") =\"&$E$5&\" and LocalDay(\"&$D$12&\")=\"&$F$5&\" and Barix(\"&$D$12&\",reference:=StartOfSession)=\"&A25&\"\", \"Bar\", \"\", \"Close\",\"5\",\"0\",\"PrimaryOnly\",,,\"False\",\"T\",\"EveryTick\")","v":1.1820999999999999},1.3553578991951068E-3,{"$f":"RTD(\"cqg.rtd\",,\"StudyData\", \"Close(\"&$D$12&\") when LocalYear(\"&$D$12&\")=\"&$D$6&\" and localMonth(\"&$D$12&\") =\"&$E$6&\" and LocalDay(\"&$D$12&\")=\"&$F$6&\" and Barix(\"&$D$12&\",reference:=StartOfSession)=\"&A25&\"\", \"Bar\", \"\", \"Close\",\"5\",\"0\",\"PrimaryOnly\",,,\"False\",\"T\",\"EveryTick\")","v":1.1817},6.4730431820117975E-3,{"$f":"RTD(\"cqg.rtd\",,\"StudyData\", \"Close(\"&$D$12&\") when LocalYear(\"&$D$12&\")=\"&$D$7&\" and localMonth(\"&$D$12&\") =\"&$E$7&\" and LocalDay(\"&$D$12&\")=\"&$F$7&\" and Barix(\"&$D$12&\",reference:=StartOfSession)=\"&A25&\"\", \"Bar\", \"\", \"Close\",\"5\",\"0\",\"PrimaryOnly\",,,\"False\",\"T\",\"EveryTick\")","v":1.1761999999999999},4.0548038755386998E-3,{"$f":"RTD(\"cqg.rtd\",,\"StudyData\", \"Close(\"&$D$12&\") when LocalYear(\"&$D$12&\")=\"&$D$8&\" and localMonth(\"&$D$12&\") =\"&$E$8&\" and LocalDay(\"&$D$12&\")=\"&$F$8&\" and Barix(\"&$D$12&\",reference:=StartOfSession)=\"&A25&\"\", \"Bar\", \"\", \"Close\",\"5\",\"0\",\"PrimaryOnly\",,,\"False\",\"T\",\"EveryTick\")","v":1.1716},3.5547560923378952E-3,{"$f":"RTD(\"cqg.rtd\",,\"StudyData\", \"Close(\"&$D$12&\") when LocalYear(\"&$D$12&\")=\"&$D$9&\" and localMonth(\"&$D$12&\") =\"&$E$9&\" and LocalDay(\"&$D$12&\")=\"&$F$9&\" and Barix(\"&$D$12&\",reference:=StartOfSession)=\"&A25&\"\", \"Bar\", \"\", \"Close\",\"5\",\"0\",\"PrimaryOnly\",,,\"False\",\"T\",\"EveryTick\")","v":1.17395},2.5561283176412638E-4,{"$f":"RTD(\"cqg.rtd\",,\"StudyData\", \"Close(\"&$D$12&\") when LocalYear(\"&$D$12&\")=\"&$D$10&\" and localMonth(\"&$D$12&\") =\"&$E$10&\" and LocalDay(\"&$D$12&\")=\"&$F$10&\" and Barix(\"&$D$12&\",reference:=StartOfSession)=\"&A25&\"\", \"Bar\", \"\", \"Close\",\"5\",\"0\",\"PrimaryOnly\",,,\"False\",\"T\",\"EveryTick\")","v":1.1646000000000001},1.9357336430507895E-3,null,null,null,""]
[205,"10:05:00",{"$f":"IF(WEEKDAY(TODAY())=7,TODAY()-1,IF(WEEKDAY(TODAY())=1,TODAY()-2,TODAY()))","v":"2018-07-13"},{"$f":"YEAR(C26)","v":2018},{"$f":"MONTH(C26)","v":7},{"$f":"DAY(C26)","v":13},null,{"$f":"RTD(\"cqg.rtd\",,\"StudyData\", \"Close(\"&$D$12&\") when LocalYear(\"&$D$12&\")=\"&$D$1&\" and localMonth(\"&$D$12&\") =\"&$E$1&\" and LocalDay(\"&$D$12&\")=\"&$F$1&\" and Barix(\"&$D$12&\",reference:=StartOfSession)=\"&A26&\"\", \"Bar\", \"\", \"Close\",\"5\",\"0\",\"PrimaryOnly\",,,\"False\",\"T\",\"EveryTick\")","v":1.17195},-5.1170525777146725E-4,{"$f":"RTD(\"cqg.rtd\",,\"StudyData\", \"Close(\"&$D$12&\") when LocalYear(\"&$D$12&\")=\"&$D$2&\" and localMonth(\"&$D$12&\") =\"&$E$2&\" and LocalDay(\"&$D$12&\")=\"&$F$2&\" and Barix(\"&$D$12&\",reference:=StartOfSession)=\"&A26&\"\", \"Bar\", \"\", \"Close\",\"5\",\"0\",\"PrimaryOnly\",,,\"False\",\"T\",\"EveryTick\")","v":1.1739999999999999},8.525149190109888E-4,{"$f":"RTD(\"cqg.rtd\",,\"StudyData\", \"Close(\"&$D$12&\") when LocalYear(\"&$D$12&\")=\"&$D$3&\" and localMonth(\"&$D$12&\") =\"&$E$3&\" and LocalDay(\"&$D$12&\")=\"&$F$3&\" and Barix(\"&$D$12&\",reference:=StartOfSession)=\"&A26&\"\", \"Bar\", \"\", \"Close\",\"5\",\"0\",\"PrimaryOnly\",,,\"False\",\"T\",\"EveryTick\")","v":1.17815},-1.9061335140629137E-3,{"$f":"RTD(\"cqg.rtd\",,\"StudyData\", \"Close(\"&$D$12&\") when LocalYear(\"&$D$12&\")=\"&$D$4&\" and localMonth(\"&$D$12&\") =\"&$E$4&\" and LocalDay(\"&$D$12&\")=\"&$F$4&\" and Barix(\"&$D$12&\",reference:=StartOfSession)=\"&A26&\"\", \"Bar\", \"\", \"Close\",\"5\",\"0\",\"PrimaryOnly\",,,\"False\",\"T\",\"EveryTick\")","v":1.17815},-2.3287323228046658E-3,{"$f":"RTD(\"cqg.rtd\",,\"StudyData\", \"Close(\"&$D$12&\") when LocalYear(\"&$D$12&\")=\"&$D$5&\" and localMonth(\"&$D$12&\") =\"&$E$5&\" and LocalDay(\"&$D$12&\")=\"&$F$5&\" and Barix(\"&$D$12&\",reference:=StartOfSession)=\"&A26&\"\", \"Bar\", \"\", \"Close\",\"5\",\"0\",\"PrimaryOnly\",,,\"False\",\"T\",\"EveryTick\")","v":1.1816},9.3180855569663596E-4,{"$f":"RTD(\"cqg.rtd\",,\"StudyData\", \"Close(\"&$D$12&\") when LocalYear(\"&$D$12&\")=\"&$D$6&\" and localMonth(\"&$D$12&\") =\"&$E$6&\" and LocalDay(\"&$D$12&\")=\"&$F$6&\" and Barix(\"&$D$12&\",reference:=StartOfSession)=\"&A26&\"\", \"Bar\", \"\", \"Close\",\"5\",\"0\",\"PrimaryOnly\",,,\"False\",\"T\",\"EveryTick\")","v":1.1814499999999999},6.2601141299718664E-3,{"$f":"RTD(\"cqg.rtd\",,\"StudyData\", \"Close(\"&$D$12&\") when LocalYear(\"&$D$12&\")=\"&$D$7&\" and localMonth(\"&$D$12&\") =\"&$E$7&\" and LocalDay(\"&$D$12&\")=\"&$F$7&\" and Barix(\"&$D$12&\",reference:=StartOfSession)=\"&A26&\"\", \"Bar\", \"\", \"Close\",\"5\",\"0\",\"PrimaryOnly\",,,\"False\",\"T\",\"EveryTick\")","v":1.1760999999999999},3.9694395834221014E-3,{"$f":"RTD(\"cqg.rtd\",,\"StudyData\", \"Close(\"&$D$12&\") when LocalYear(\"&$D$12&\")=\"&$D$8&\" and localMonth(\"&$D$12&\") =\"&$E$8&\" and LocalDay(\"&$D$12&\")=\"&$F$8&\" and Barix(\"&$D$12&\",reference:=StartOfSession)=\"&A26&\"\", \"Bar\", \"\", \"Close\",\"5\",\"0\",\"PrimaryOnly\",,,\"False\",\"T\",\"EveryTick\")","v":1.1718500000000001},3.76889802561134E-3,{"$f":"RTD(\"cqg.rtd\",,\"StudyData\", \"Close(\"&$D$12&\") when LocalYear(\"&$D$12&\")=\"&$D$9&\" and localMonth(\"&$D$12&\") =\"&$E$9&\" and LocalDay(\"&$D$12&\")=\"&$F$9&\" and Barix(\"&$D$12&\",reference:=StartOfSession)=\"&A26&\"\", \"Bar\", \"\", \"Close\",\"5\",\"0\",\"PrimaryOnly\",,,\"False\",\"T\",\"EveryTick\")","v":1.1735},-1.2780641588215779E-4,{"$f":"RTD(\"cqg.rtd\",,\"StudyData\", \"Close(\"&$D$12&\") when LocalYear(\"&$D$12&\")=\"&$D$10&\" and localMonth(\"&$D$12&\") =\"&$E$10&\" and LocalDay(\"&$D$12&\")=\"&$F$10&\" and Barix(\"&$D$12&\",reference:=StartOfSession)=\"&A26&\"\", \"Bar\", \"\", \"Close\",\"5\",\"0\",\"PrimaryOnly\",,,\"False\",\"T\",\"EveryTick\")","v":1.16475},2.0647825525873941E-3,null,null,null,""]
[206,"10:10:00",{"$f":"WORKDAY(C26,-1)","v":"2018-07-12"},{"$f":"YEAR(C27)","v":2018},{"$f":"MONTH(C27)","v":7},{"$f":"DAY(C27)","v":12},{"$f":"IF(RTD(\"cqg.rtd\",,\"StudyData\", \"Close(EP) when LocalYear(\"&$D$12&\")=\"&D27&\" and localMonth(\"&$D$12&\") =\"&E27&\" and LocalDay(\"&$D$12&\")=\"&F27&\" and Barix(\"&$D$12&\",reference:=StartOfSession)=80\", \"Bar\", \"\", \"Close\",\"5\",\"0\",\"PrimaryOnly\",,,\"False\",\"T\",\"EveryTick\")=\"\",2,1)","v":1},{"$f":"RTD(\"cqg.rtd\",,\"StudyData\", \"Close(\"&$D$12&\") when LocalYear(\"&$D$12&\")=\"&$D$1&\" and localMonth(\"&$D$12&\") =\"&$E$1&\" and LocalDay(\"&$D$12&\")=\"&$F$1&\" and Barix(\"&$D$12&\",reference:=StartOfSession)=\"&A27&\"\", \"Bar\", \"\", \"Close\",\"5\",\"0\",\"PrimaryOnly\",,,\"False\",\"T\",\"EveryTick\")","v":1.1718500000000001},-5.9698946740004513E-4,{"$f":"RTD(\"cqg.rtd\",,\"StudyData\", \"Close(\"&$D$12&\") when LocalYear(\"&$D$12&\")=\"&$D$2&\" and localMonth(\"&$D$12&\") =\"&$E$2&\" and LocalDay(\"&$D$12&\")=\"&$F$2&\" and Barix(\"&$D$12&\",reference:=StartOfSession)=\"&A27&\"\", \"Bar\", \"\", \"Close\",\"5\",\"0\",\"PrimaryOnly\",,,\"False\",\"T\",\"EveryTick\")","v":1.1737},5.9676044330769209E-4,{"$f":"RTD(\"cqg.rtd\",,\"StudyData\", \"Close(\"&$D$12&\") when LocalYear(\"&$D$12&\")=\"&$D$3&\" and localMonth(\"&$D$12&\") =\"&$E$3&\" and LocalDay(\"&$D$12&\")=\"&$F$3&\" and Barix(\"&$D$12&\",reference:=StartOfSession)=\"&A27&\"\", \"Bar\", \"\", \"Close\",\"5\",\"0\",\"PrimaryOnly\",,,\"False\",\"T\",\"EveryTick\")","v":1.1776},-2.3720772619450305E-3,{"$f":"RTD(\"cqg.rtd\",,\"StudyData\", \"Close(\"&$D$12&\") when LocalYear(\"&$D$12&\")=\"&$D$4&\" and localMonth(\"&$D$12&\") =\"&$E$4&\" and LocalDay(\"&$D$12&\")=\"&$F$4&\" and Barix(\"&$D$12&\",reference:=StartOfSession)=\"&A27&\"\", \"Bar\", \"\", \"Close\",\"5\",\"0\",\"PrimaryOnly\",,,\"False\",\"T\",\"EveryTick\")","v":1.1782999999999999},-2.2017105597427027E-3,{"$f":"RTD(\"cqg.rtd\",,\"StudyData\", \"Close(\"&$D$12&\") when LocalYear(\"&$D$12&\")=\"&$D$5&\" and localMonth(\"&$D$12&\") =\"&$E$5&\" and LocalDay(\"&$D$12&\")=\"&$F$5&\" and Barix(\"&$D$12&\",reference:=StartOfSession)=\"&A27&\"\", \"Bar\", \"\", \"Close\",\"5\",\"0\",\"PrimaryOnly\",,,\"False\",\"T\",\"EveryTick\")","v":1.1809000000000001},3.388394747987767E-4,{"$f":"RTD(\"cqg.rtd\",,\"StudyData\", \"Close(\"&$D$12&\") when LocalYear(\"&$D$12&\")=\"&$D$6&\" and localMonth(\"&$D$12&\") =\"&$E$6&\" and LocalDay(\"&$D$12&\")=\"&$F$6&\" and Barix(\"&$D$12&\",reference:=StartOfSession)=\"&A27&\"\", \"Bar\", \"\", \"Close\",\"5\",\"0\",\"PrimaryOnly\",,,\"False\",\"T\",\"EveryTick\")","v":1.1817},6.4730431820117975E-3,{"$f":"RTD(\"cqg.rtd\",,\"StudyData\", \"Close(\"&$D$12&\") when LocalYear(\"&$D$12&\")=\"&$D$7&\" and localMonth(\"&$D$12&\") =\"&$E$7&\" and LocalDay(\"&$D$12&\")=\"&$F$7&\" and Barix(\"&$D$12&\",reference:=StartOfSession)=\"&A27&\"\", \"Bar\", \"\", \"Close\",\"5\",\"0\",\"PrimaryOnly\",,,\"False\",\"T\",\"EveryTick\")","v":1.1759500000000001},3.8413931452472988E-3,{"$f":"RTD(\"cqg.rtd\",,\"StudyData\", \"Close(\"&$D$12&\") when LocalYear(\"&$D$12&\")=\"&$D$8&\" and localMonth(\"&$D$12&\") =\"&$E$8&\" and LocalDay(\"&$D$12&\")=\"&$F$8&\" and Barix(\"&$D$12&\",reference:=StartOfSession)=\"&A27&\"\", \"Bar\", \"\", \"Close\",\"5\",\"0\",\"PrimaryOnly\",,,\"False\",\"T\",\"EveryTick\")","v":1.1719999999999999},3.8973831855752552E-3,{"$f":"RTD(\"cqg.rtd\",,\"StudyData\", \"Close(\"&$D$12&\") when LocalYear(\"&$D$12&\")=\"&$D$9&\" and localMonth(\"&$D$12&\") =\"&$E$9&\" and LocalDay(\"&$D$12&\")=\"&$F$9&\" and Barix(\"&$D$12&\",reference:=StartOfSession)=\"&A27&\"\", \"Bar\", \"\", \"Close\",\"5\",\"0\",\"PrimaryOnly\",,,\"False\",\"T\",\"EveryTick\")","v":1.1733},-2.982149703915754E-4,{"$f":"RTD(\"cqg.rtd\",,\"StudyData\", \"Close(\"&$D$12&\") when LocalYear(\"&$D$12&\")=\"&$D$10&\" and localMonth(\"&$D$12&\") =\"&$E$10&\" and LocalDay(\"&$D$12&\")=\"&$F$10&\" and Barix(\"&$D$12&\",reference:=StartOfSession)=\"&A27&\"\", \"Bar\", \"\", \"Close\",\"5\",\"0\",\"PrimaryOnly\",,,\"False\",\"T\",\"EveryTick\")","v":1.1649499999999999},2.2368477653029947E-3,null,null,null,""]
[207,"10:15:00",{"$f":"WORKDAY(C27,-1)","v":"2018-07-11"},2018,7,11,{"$f":"IF(RTD(\"cqg.rtd\",,\"StudyData\", \"Close(EP) when LocalYear(\"&$D$12&\")=\"&D28&\" and localMonth(\"&$D$12&\") =\"&E28&\" and LocalDay(\"&$D$12&\")=\"&F28&\" and Barix(\"&$D$12&\",reference:=StartOfSession)=80\", \"Bar\", \"\", \"Close\",\"5\",\"0\",\"PrimaryOnly\",,,\"False\",\"T\",\"EveryTick\")=\"\",2,1)","v":1},{"$f":"RTD(\"cqg.rtd\",,\"StudyData\", \"Close(\"&$D$12&\") when LocalYear(\"&$D$12&\")=\"&$D$1&\" and localMonth(\"&$D$12&\") =\"&$E$1&\" and LocalDay(\"&$D$12&\")=\"&$F$1&\" and Barix(\"&$D$12&\",reference:=StartOfSession)=\"&A28&\"\", \"Bar\", \"\", \"Close\",\"5\",\"0\",\"PrimaryOnly\",,,\"False\",\"T\",\"EveryTick\")","v":1.1717500000000001},-6.82273677028623E-4,{"$f":"RTD(\"cqg.rtd\",,\"StudyData\", \"Close(\"&$D$12&\") when LocalYear(\"&$D$12&\")=\"&$D$2&\" and localMonth(\"&$D$12&\") =\"&$E$2&\" and LocalDay(\"&$D$12&\")=\"&$F$2&\" and Barix(\"&$D$12&\",reference:=StartOfSession)=\"&A28&\"\", \"Bar\", \"\", \"Close\",\"5\",\"0\",\"PrimaryOnly\",,,\"False\",\"T\",\"EveryTick\")","v":1.1735},4.262574595054944E-4,{"$f":"RTD(\"cqg.rtd\",,\"StudyData\", \"Close(\"&$D$12&\") when LocalYear(\"&$D$12&\")=\"&$D$3&\" and localMonth(\"&$D$12&\") =\"&$E$3&\" and LocalDay(\"&$D$12&\")=\"&$F$3&\" and Barix(\"&$D$12&\",reference:=StartOfSession)=\"&A28&\"\", \"Bar\", \"\", \"Close\",\"5\",\"0\",\"PrimaryOnly\",,,\"False\",\"T\",\"EveryTick\")","v":1.1777500000000001},-2.2450016943407485E-3,{"$f":"RTD(\"cqg.rtd\",,\"StudyData\", \"Close(\"&$D$12&\") when LocalYear(\"&$D$12&\")=\"&$D$4&\" and localMonth(\"&$D$12&\") =\"&$E$4&\" and LocalDay(\"&$D$12&\")=\"&$F$4&\" and Barix(\"&$D$12&\",reference:=StartOfSession)=\"&A28&\"\", \"Bar\", \"\", \"Close\",\"5\",\"0\",\"PrimaryOnly\",,,\"False\",\"T\",\"EveryTick\")","v":1.1783999999999999},-2.1170293843679978E-3,{"$f":"RTD(\"cqg.rtd\",,\"StudyData\", \"Close(\"&$D$12&\") when LocalYear(\"&$D$12&\")=\"&$D$5&\" and localMonth(\"&$D$12&\") =\"&$E$5&\" and LocalDay(\"&$D$12&\")=\"&$F$5&\" and Barix(\"&$D$12&\",reference:=StartOfSession)=\"&A28&\"\", \"Bar\", \"\", \"Close\",\"5\",\"0\",\"PrimaryOnly\",,,\"False\",\"T\",\"EveryTick\")","v":1.18085},2.964845404488356E-4,{"$f":"RTD(\"cqg.rtd\",,\"StudyData\", \"Close(\"&$D$12&\") when LocalYear(\"&$D$12&\")=\"&$D$6&\" and localMonth(\"&$D$12&\") =\"&$E$6&\" and LocalDay(\"&$D$12&\")=\"&$F$6&\" and Barix(\"&$D$12&\",reference:=StartOfSession)=\"&A28&\"\", \"Bar\", \"\", \"Close\",\"5\",\"0\",\"PrimaryOnly\",,,\"False\",\"T\",\"EveryTick\")","v":1.18205},6.7711438548676639E-3,{"$f":"RTD(\"cqg.rtd\",,\"StudyData\", \"Close(\"&$D$12&\") when LocalYear(\"&$D$12&\")=\"&$D$7&\" and localMonth(\"&$D$12&\") =\"&$E$7&\" and LocalDay(\"&$D$12&\")=\"&$F$7&\" and Barix(\"&$D$12&\",reference:=StartOfSession)=\"&A28&\"\", \"Bar\", \"\", \"Close\",\"5\",\"0\",\"PrimaryOnly\",,,\"False\",\"T\",\"EveryTick\")","v":1.17655},4.3535788979468882E-3,{"$f":"RTD(\"cqg.rtd\",,\"StudyData\", \"Close(\"&$D$12&\") when LocalYear(\"&$D$12&\")=\"&$D$8&\" and localMonth(\"&$D$12&\") =\"&$E$8&\" and LocalDay(\"&$D$12&\")=\"&$F$8&\" and Barix(\"&$D$12&\",reference:=StartOfSession)=\"&A28&\"\", \"Bar\", \"\", \"Close\",\"5\",\"0\",\"PrimaryOnly\",,,\"False\",\"T\",\"EveryTick\")","v":1.1722999999999999},4.154353505503275E-3,{"$f":"RTD(\"cqg.rtd\",,\"StudyData\", \"Close(\"&$D$12&\") when LocalYear(\"&$D$12&\")=\"&$D$9&\" and localMonth(\"&$D$12&\") =\"&$E$9&\" and LocalDay(\"&$D$12&\")=\"&$F$9&\" and Barix(\"&$D$12&\",reference:=StartOfSession)=\"&A28&\"\", \"Bar\", \"\", \"Close\",\"5\",\"0\",\"PrimaryOnly\",,,\"False\",\"T\",\"EveryTick\")","v":1.17405},3.4081710901883518E-4,{"$f":"RTD(\"cqg.rtd\",,\"StudyData\", \"Close(\"&$D$12&\") when LocalYear(\"&$D$12&\")=\"&$D$10&\" and localMonth(\"&$D$12&\") =\"&$E$10&\" and LocalDay(\"&$D$12&\")=\"&$F$10&\" and Barix(\"&$D$12&\",reference:=StartOfSession)=\"&A28&\"\", \"Bar\", \"\", \"Close\",\"5\",\"0\",\"PrimaryOnly\",,,\"False\",\"T\",\"EveryTick\")","v":1.1649499999999999},2.2368477653029947E-3,null,null,null,""]
[208,"10:20:00","2018-07-10",2018,7,10,{"$f":"IF(RTD(\"cqg.rtd\",,\"StudyData\", \"Close(EP) when LocalYear(\"&$D$12&\")=\"&D29&\" and localMonth(\"&$D$12&\") =\"&E29&\" and LocalDay(\"&$D$12&\")=\"&F29&\" and Barix(\"&$D$12&\",reference:=StartOfSession)=80\", \"Bar\", \"\", \"Close\",\"5\",\"0\",\"PrimaryOnly\",,,\"False\",\"T\",\"EveryTick\")=\"\",2,1)","v":1},{"$f":"RTD(\"cqg.rtd\",,\"StudyData\", \"Close(\"&$D$12&\") when LocalYear(\"&$D$12&\")=\"&$D$1&\" and localMonth(\"&$D$12&\") =\"&$E$1&\" and LocalDay(\"&$D$12&\")=\"&$F$1&\" and Barix(\"&$D$12&\",reference:=StartOfSession)=\"&A29&\"\", \"Bar\", \"\", \"Close\",\"5\",\"0\",\"PrimaryOnly\",,,\"False\",\"T\",\"EveryTick\")","v":1.1715},-8.9548420110016234E-4,{"$f":"RTD(\"cqg.rtd\",,\"StudyData\", \"Close(\"&$D$12&\") when LocalYear(\"&$D$12&\")=\"&$D$2&\" and localMonth(\"&$D$12&\") =\"&$E$2&\" and LocalDay(\"&$D$12&\")=\"&$F$2&\" and Barix(\"&$D$12&\",reference:=StartOfSession)=\"&A29&\"\", \"Bar\", \"\", \"Close\",\"5\",\"0\",\"PrimaryOnly\",,,\"False\",\"T\",\"EveryTick\")","v":1.1737500000000001},6.3938618925833625E-4,{"$f":"RTD(\"cqg.rtd\",,\"StudyData\", \"Close(\"&$D$12&\") when LocalYear(\"&$D$12&\")=\"&$D$3&\" and localMonth(\"&$D$12&\") =\"&$E$3&\" and LocalDay(\"&$D$12&\")=\"&$F$3&\" and Barix(\"&$D$12&\",reference:=StartOfSession)=\"&A29&\"\", \"Bar\", \"\", \"Close\",\"5\",\"0\",\"PrimaryOnly\",,,\"False\",\"T\",\"EveryTick\")","v":1.1770499999999999},-2.8380210098271469E-3,{"$f":"RTD(\"cqg.rtd\",,\"StudyData\", \"Close(\"&$D$12&\") when LocalYear(\"&$D$12&\")=\"&$D$4&\" and localMonth(\"&$D$12&\") =\"&$E$4&\" and LocalDay(\"&$D$12&\")=\"&$F$4&\" and Barix(\"&$D$12&\",reference:=StartOfSession)=\"&A29&\"\", \"Bar\", \"\", \"Close\",\"5\",\"0\",\"PrimaryOnly\",,,\"False\",\"T\",\"EveryTick\")","v":1.17865},-1.9053264459311416E-3,{"$f":"RTD(\"cqg.rtd\",,\"StudyData\", \"Close(\"&$D$12&\") when LocalYear(\"&$D$12&\")=\"&$D$5&\" and localMonth(\"&$D$12&\") =\"&$E$5&\" and LocalDay(\"&$D$12&\")=\"&$F$5&\" and Barix(\"&$D$12&\",reference:=StartOfSession)=\"&A29&\"\", \"Bar\", \"\", \"Close\",\"5\",\"0\",\"PrimaryOnly\",,,\"False\",\"T\",\"EveryTick\")","v":1.18085},2.964845404488356E-4,{"$f":"RTD(\"cqg.rtd\",,\"StudyData\", \"Close(\"&$D$12&\") when LocalYear(\"&$D$12&\")=\"&$D$6&\" and localMonth(\"&$D$12&\") =\"&$E$6&\" and LocalDay(\"&$D$12&\")=\"&$F$6&\" and Barix(\"&$D$12&\",reference:=StartOfSession)=\"&A29&\"\", \"Bar\", \"\", \"Close\",\"5\",\"0\",\"PrimaryOnly\",,,\"False\",\"T\",\"EveryTick\")","v":1.1819},6.6433864236436673E-3,{"$f":"RTD(\"cqg.rtd\",,\"StudyData\", \"Close(\"&$D$12&\") when LocalYear(\"&$D$12&\")=\"&$D$7&\" and localMonth(\"&$D$12&\") =\"&$E$7&\" and LocalDay(\"&$D$12&\")=\"&$F$7&\" and Barix(\"&$D$12&\",reference:=StartOfSession)=\"&A29&\"\", \"Bar\", \"\", \"Close\",\"5\",\"0\",\"PrimaryOnly\",,,\"False\",\"T\",\"EveryTick\")","v":1.1763999999999999},4.2255324597718956E-3,{"$f":"RTD(\"cqg.rtd\",,\"StudyData\", \"Close(\"&$D$12&\") when LocalYear(\"&$D$12&\")=\"&$D$8&\" and localMonth(\"&$D$12&\") =\"&$E$8&\" and LocalDay(\"&$D$12&\")=\"&$F$8&\" and Barix(\"&$D$12&\",reference:=StartOfSession)=\"&A29&\"\", \"Bar\", \"\", \"Close\",\"5\",\"0\",\"PrimaryOnly\",,,\"False\",\"T\",\"EveryTick\")","v":1.17245},4.2828386654673806E-3,{"$f":"RTD(\"cqg.rtd\",,\"StudyData\", \"Close(\"&$D$12&\") when LocalYear(\"&$D$12&\")=\"&$D$9&\" and localMonth(\"&$D$12&\") =\"&$E$9&\" and LocalDay(\"&$D$12&\")=\"&$F$9&\" and Barix(\"&$D$12&\",reference:=StartOfSession)=\"&A29&\"\", \"Bar\", \"\", \"Close\",\"5\",\"0\",\"PrimaryOnly\",,,\"False\",\"T\",\"EveryTick\")","v":1.1736500000000001},0,{"$f":"RTD(\"cqg.rtd\",,\"StudyData\", \"Close(\"&$D$12&\") when LocalYear(\"&$D$12&\")=\"&$D$10&\" and localMonth(\"&$D$12&\") =\"&$E$10&\" and LocalDay(\"&$D$12&\")=\"&$F$10&\" and Barix(\"&$D$12&\",reference:=StartOfSession)=\"&A29&\"\", \"Bar\", \"\", \"Close\",\"5\",\"0\",\"PrimaryOnly\",,,\"False\",\"T\",\"EveryTick\")","v":1.1654},2.6239944939131909E-3,null,null,null,""]
[209,"10:25:00","2018-07-09",2018,7,9,{"$f":"IF(RTD(\"cqg.rtd\",,\"StudyData\", \"Close(EP) when LocalYear(\"&$D$12&\")=\"&D30&\" and localMonth(\"&$D$12&\") =\"&E30&\" and LocalDay(\"&$D$12&\")=\"&F30&\" and Barix(\"&$D$12&\",reference:=StartOfSession)=80\", \"Bar\", \"\", \"Close\",\"5\",\"0\",\"PrimaryOnly\",,,\"False\",\"T\",\"EveryTick\")=\"\",2,1)","v":1},{"$f":"RTD(\"cqg.rtd\",,\"StudyData\", \"Close(\"&$D$12&\") when LocalYear(\"&$D$12&\")=\"&$D$1&\" and localMonth(\"&$D$12&\") =\"&$E$1&\" and LocalDay(\"&$D$12&\")=\"&$F$1&\" and Barix(\"&$D$12&\",reference:=StartOfSession)=\"&A30&\"\", \"Bar\", \"\", \"Close\",\"5\",\"0\",\"PrimaryOnly\",,,\"False\",\"T\",\"EveryTick\")","v":1.1718},-6.3963157221442872E-4,{"$f":"RTD(\"cqg.rtd\",,\"StudyData\", \"Close(\"&$D$12&\") when LocalYear(\"&$D$12&\")=\"&$D$2&\" and localMonth(\"&$D$12&\") =\"&$E$2&\" and LocalDay(\"&$D$12&\")=\"&$F$2&\" and Barix(\"&$D$12&\",reference:=StartOfSession)=\"&A30&\"\", \"Bar\", \"\", \"Close\",\"5\",\"0\",\"PrimaryOnly\",,,\"False\",\"T\",\"EveryTick\")","v":1.1738999999999999},7.672634271098899E-4,{"$f":"RTD(\"cqg.rtd\",,\"StudyData\", \"Close(\"&$D$12&\") when LocalYear(\"&$D$12&\")=\"&$D$3&\" and localMonth(\"&$D$12&\") =\"&$E$3&\" and LocalDay(\"&$D$12&\")=\"&$F$3&\" and Barix(\"&$D$12&\",reference:=StartOfSession)=\"&A30&\"\", \"Bar\", \"\", \"Close\",\"5\",\"0\",\"PrimaryOnly\",,,\"False\",\"T\",\"EveryTick\")","v":1.1774},-2.5415113520839477E-3,{"$f":"RTD(\"cqg.rtd\",,\"StudyData\", \"Close(\"&$D$12&\") when LocalYear(\"&$D$12&\")=\"&$D$4&\" and localMonth(\"&$D$12&\") =\"&$E$4&\" and LocalDay(\"&$D$12&\")=\"&$F$4&\" and Barix(\"&$D$12&\",reference:=StartOfSession)=\"&A30&\"\", \"Bar\", \"\", \"Close\",\"5\",\"0\",\"PrimaryOnly\",,,\"False\",\"T\",\"EveryTick\")","v":1.1788000000000001},-1.7783046828689904E-3,{"$f":"RTD(\"cqg.rtd\",,\"StudyData\", \"Close(\"&$D$12&\") when LocalYear(\"&$D$12&\")=\"&$D$5&\" and localMonth(\"&$D$12&\") =\"&$E$5&\" and LocalDay(\"&$D$12&\")=\"&$F$5&\" and Barix(\"&$D$12&\",reference:=StartOfSession)=\"&A30&\"\", \"Bar\", \"\", \"Close\",\"5\",\"0\",\"PrimaryOnly\",,,\"False\",\"T\",\"EveryTick\")","v":1.1809499999999999},3.8119440914852974E-4,{"$f":"RTD(\"cqg.rtd\",,\"StudyData\", \"Close(\"&$D$12&\") when LocalYear(\"&$D$12&\")=\"&$D$6&\" and localMonth(\"&$D$12&\") =\"&$E$6&\" and LocalDay(\"&$D$12&\")=\"&$F$6&\" and Barix(\"&$D$12&\",reference:=StartOfSession)=\"&A30&\"\", \"Bar\", \"\", \"Close\",\"5\",\"0\",\"PrimaryOnly\",,,\"False\",\"T\",\"EveryTick\")","v":1.1817500000000001},6.5156289924198597E-3,{"$f":"RTD(\"cqg.rtd\",,\"StudyData\", \"Close(\"&$D$12&\") when LocalYear(\"&$D$12&\")=\"&$D$7&\" and localMonth(\"&$D$12&\") =\"&$E$7&\" and LocalDay(\"&$D$12&\")=\"&$F$7&\" and Barix(\"&$D$12&\",reference:=StartOfSession)=\"&A30&\"\", \"Bar\", \"\", \"Close\",\"5\",\"0\",\"PrimaryOnly\",,,\"False\",\"T\",\"EveryTick\")","v":1.1760999999999999},3.9694395834221014E-3,{"$f":"RTD(\"cqg.rtd\",,\"StudyData\", \"Close(\"&$D$12&\") when LocalYear(\"&$D$12&\")=\"&$D$8&\" and localMonth(\"&$D$12&\") =\"&$E$8&\" and LocalDay(\"&$D$12&\")=\"&$F$8&\" and Barix(\"&$D$12&\",reference:=StartOfSession)=\"&A30&\"\", \"Bar\", \"\", \"Close\",\"5\",\"0\",\"PrimaryOnly\",,,\"False\",\"T\",\"EveryTick\")","v":1.1721999999999999},4.0686967321939349E-3,{"$f":"RTD(\"cqg.rtd\",,\"StudyData\", \"Close(\"&$D$12&\") when LocalYear(\"&$D$12&\")=\"&$D$9&\" and localMonth(\"&$D$12&\") =\"&$E$9&\" and LocalDay(\"&$D$12&\")=\"&$F$9&\" and Barix(\"&$D$12&\",reference:=StartOfSession)=\"&A30&\"\", \"Bar\", \"\", \"Close\",\"5\",\"0\",\"PrimaryOnly\",,,\"False\",\"T\",\"EveryTick\")","v":1.1734},-2.1301069313686658E-4,{"$f":"RTD(\"cqg.rtd\",,\"StudyData\", \"Close(\"&$D$12&\") when LocalYear(\"&$D$12&\")=\"&$D$10&\" and localMonth(\"&$D$12&\") =\"&$E$10&\" and LocalDay(\"&$D$12&\")=\"&$F$10&\" and Barix(\"&$D$12&\",reference:=StartOfSession)=\"&A30&\"\", \"Bar\", \"\", \"Close\",\"5\",\"0\",\"PrimaryOnly\",,,\"False\",\"T\",\"EveryTick\")","v":1.1657},2.8820923129865912E-3,null,null,null,209]
[210,"10:30:00","2018-07-06",2018,7,6,{"$f":"IF(RTD(\"cqg.rtd\",,\"StudyData\", \"Close(EP) when LocalYear(\"&$D$12&\")=\"&D31&\" and localMonth(\"&$D$12&\") =\"&E31&\" and LocalDay(\"&$D$12&\")=\"&F31&\" and Barix(\"&$D$12&\",reference:=StartOfSession)=80\", \"Bar\", \"\", \"Close\",\"5\",\"0\",\"PrimaryOnly\",,,\"False\",\"T\",\"EveryTick\")=\"\",2,1)","v":1},{"$f":"RTD(\"cqg.rtd\",,\"StudyData\", \"Close(\"&$D$12&\") when LocalYear(\"&$D$12&\")=\"&$D$1&\" and localMonth(\"&$D$12&\") =\"&$E$1&\" and LocalDay(\"&$D$12&\")=\"&$F$1&\" and Barix(\"&$D$12&\",reference:=StartOfSession)=\"&A31&\"\", \"Bar\", \"\", \"Close\",\"5\",\"0\",\"PrimaryOnly\",,,\"False\",\"T\",\"EveryTick\")","v":""},{"$error":"#N/A"},{"$f":"RTD(\"cqg.rtd\",,\"StudyData\", \"Close(\"&$D$12&\") when LocalYear(\"&$D$12&\")=\"&$D$2&\" and localMonth(\"&$D$12&\") =\"&$E$2&\" and LocalDay(\"&$D$12&\")=\"&$F$2&\" and Barix(\"&$D$12&\",reference:=StartOfSession)=\"&A31&\"\", \"Bar\", \"\", \"Close\",\"5\",\"0\",\"PrimaryOnly\",,,\"False\",\"T\",\"EveryTick\")","v":1.1738500000000001},7.2463768115943515E-4,{"$f":"RTD(\"cqg.rtd\",,\"StudyData\", \"Close(\"&$D$12&\") when LocalYear(\"&$D$12&\")=\"&$D$3&\" and localMonth(\"&$D$12&\") =\"&$E$3&\" and LocalDay(\"&$D$12&\")=\"&$F$3&\" and Barix(\"&$D$12&\",reference:=StartOfSession)=\"&A31&\"\", \"Bar\", \"\", \"Close\",\"5\",\"0\",\"PrimaryOnly\",,,\"False\",\"T\",\"EveryTick\")","v":1.1777500000000001},-2.2450016943407485E-3,{"$f":"RTD(\"cqg.rtd\",,\"StudyData\", \"Close(\"&$D$12&\") when LocalYear(\"&$D$12&\")=\"&$D$4&\" and localMonth(\"&$D$12&\") =\"&$E$4&\" and LocalDay(\"&$D$12&\")=\"&$F$4&\" and Barix(\"&$D$12&\",reference:=StartOfSession)=\"&A31&\"\", \"Bar\", \"\", \"Close\",\"5\",\"0\",\"PrimaryOnly\",,,\"False\",\"T\",\"EveryTick\")","v":1.1789000000000001},-1.6936235074942855E-3,{"$f":"RTD(\"cqg.rtd\",,\"StudyData\", \"Close(\"&$D$12&\") when LocalYear(\"&$D$12&\")=\"&$D$5&\" and localMonth(\"&$D$12&\") =\"&$E$5&\" and LocalDay(\"&$D$12&\")=\"&$F$5&\" and Barix(\"&$D$12&\",reference:=StartOfSession)=\"&A31&\"\", \"Bar\", \"\", \"Close\",\"5\",\"0\",\"PrimaryOnly\",,,\"False\",\"T\",\"EveryTick\")","v":1.181},4.2354934349847088E-4,{"$f":"RTD(\"cqg.rtd\",,\"StudyData\", \"Close(\"&$D$12&\") when LocalYear(\"&$D$12&\")=\"&$D$6&\" and localMonth(\"&$D$12&\") =\"&$E$6&\" and LocalDay(\"&$D$12&\")=\"&$F$6&\" and Barix(\"&$D$12&\",reference:=StartOfSession)=\"&A31&\"\", \"Bar\", \"\", \"Close\",\"5\",\"0\",\"PrimaryOnly\",,,\"False\",\"T\",\"EveryTick\")","v":1.1816500000000001},6.4304573716039252E-3,{"$f":"RTD(\"cqg.rtd\",,\"StudyData\", \"Close(\"&$D$12&\") when LocalYear(\"&$D$12&\")=\"&$D$7&\" and localMonth(\"&$D$12&\") =\"&$E$7&\" and LocalDay(\"&$D$12&\")=\"&$F$7&\" and Barix(\"&$D$12&\",reference:=StartOfSession)=\"&A31&\"\", \"Bar\", \"\", \"Close\",\"5\",\"0\",\"PrimaryOnly\",,,\"False\",\"T\",\"EveryTick\")","v":1.1757500000000001},3.6706645610141025E-3,{"$f":"RTD(\"cqg.rtd\",,\"StudyData\", \"Close(\"&$D$12&\") when LocalYear(\"&$D$12&\")=\"&$D$8&\" and localMonth(\"&$D$12&\") =\"&$E$8&\" and LocalDay(\"&$D$12&\")=\"&$F$8&\" and Barix(\"&$D$12&\",reference:=StartOfSession)=\"&A31&\"\", \"Bar\", \"\", \"Close\",\"5\",\"0\",\"PrimaryOnly\",,,\"False\",\"T\",\"EveryTick\")","v":1.1719999999999999},3.8973831855752552E-3,{"$f":"RTD(\"cqg.rtd\",,\"StudyData\", \"Close(\"&$D$12&\") when LocalYear(\"&$D$12&\")=\"&$D$9&\" and localMonth(\"&$D$12&\") =\"&$E$9&\" and LocalDay(\"&$D$12&\")=\"&$F$9&\" and Barix(\"&$D$12&\",reference:=StartOfSession)=\"&A31&\"\", \"Bar\", \"\", \"Close\",\"5\",\"0\",\"PrimaryOnly\",,,\"False\",\"T\",\"EveryTick\")","v":1.1738},1.278064158819686E-4,{"$f":"RTD(\"cqg.rtd\",,\"StudyData\", \"Close(\"&$D$12&\") when LocalYear(\"&$D$12&\")=\"&$D$10&\" and localMonth(\"&$D$12&\") =\"&$E$10&\" and LocalDay(\"&$D$12&\")=\"&$F$10&\" and Barix(\"&$D$12&\",reference:=StartOfSession)=\"&A31&\"\", \"Bar\", \"\", \"Close\",\"5\",\"0\",\"PrimaryOnly\",,,\"False\",\"T\",\"EveryTick\")","v":1.16475},2.0647825525873941E-3,null,null,null,""]
[211,"10:35:00","2018-07-05",2018,7,5,{"$f":"IF(RTD(\"cqg.rtd\",,\"StudyData\", \"Close(EP) when LocalYear(\"&$D$12&\")=\"&D32&\" and localMonth(\"&$D$12&\") =\"&E32&\" and LocalDay(\"&$D$12&\")=\"&F32&\" and Barix(\"&$D$12&\",reference:=StartOfSession)=80\", \"Bar\", \"\", \"Close\",\"5\",\"0\",\"PrimaryOnly\",,,\"False\",\"T\",\"EveryTick\")=\"\",2,1)","v":1},{"$f":"RTD(\"cqg.rtd\",,\"StudyData\", \"Close(\"&$D$12&\") when LocalYear(\"&$D$12&\")=\"&$D$1&\" and localMonth(\"&$D$12&\") =\"&$E$1&\" and LocalDay(\"&$D$12&\")=\"&$F$1&\" and Barix(\"&$D$12&\",reference:=StartOfSession)=\"&A32&\"\", \"Bar\", \"\", \"Close\",\"5\",\"0\",\"PrimaryOnly\",,,\"False\",\"T\",\"EveryTick\")","v":""},{"$error":"#N/A"},{"$f":"RTD(\"cqg.rtd\",,\"StudyData\", \"Close(\"&$D$12&\") when LocalYear(\"&$D$12&\")=\"&$D$2&\" and localMonth(\"&$D$12&\") =\"&$E$2&\" and LocalDay(\"&$D$12&\")=\"&$F$2&\" and Barix(\"&$D$12&\",reference:=StartOfSession)=\"&A32&\"\", \"Bar\", \"\", \"Close\",\"5\",\"0\",\"PrimaryOnly\",,,\"False\",\"T\",\"EveryTick\")","v":1.1739999999999999},8.525149190109888E-4,{"$f":"RTD(\"cqg.rtd\",,\"StudyData\", \"Close(\"&$D$12&\") when LocalYear(\"&$D$12&\")=\"&$D$3&\" and localMonth(\"&$D$12&\") =\"&$E$3&\" and LocalDay(\"&$D$12&\")=\"&$F$3&\" and Barix(\"&$D$12&\",reference:=StartOfSession)=\"&A32&\"\", \"Bar\", \"\", \"Close\",\"5\",\"0\",\"PrimaryOnly\",,,\"False\",\"T\",\"EveryTick\")","v":1.1775},-2.4567943070144889E-3,{"$f":"RTD(\"cqg.rtd\",,\"StudyData\", \"Close(\"&$D$12&\") when LocalYear(\"&$D$12&\")=\"&$D$4&\" and localMonth(\"&$D$12&\") =\"&$E$4&\" and LocalDay(\"&$D$12&\")=\"&$F$4&\" and Barix(\"&$D$12&\",reference:=StartOfSession)=\"&A32&\"\", \"Bar\", \"\", \"Close\",\"5\",\"0\",\"PrimaryOnly\",,,\"False\",\"T\",\"EveryTick\")","v":1.1791499999999999},-1.4819205690576173E-3,{"$f":"RTD(\"cqg.rtd\",,\"StudyData\", \"Close(\"&$D$12&\") when LocalYear(\"&$D$12&\")=\"&$D$5&\" and localMonth(\"&$D$12&\") =\"&$E$5&\" and LocalDay(\"&$D$12&\")=\"&$F$5&\" and Barix(\"&$D$12&\",reference:=StartOfSession)=\"&A32&\"\", \"Bar\", \"\", \"Close\",\"5\",\"0\",\"PrimaryOnly\",,,\"False\",\"T\",\"EveryTick\")","v":1.1808000000000001},2.5412960609908251E-4,{"$f":"RTD(\"cqg.rtd\",,\"StudyData\", \"Close(\"&$D$12&\") when LocalYear(\"&$D$12&\")=\"&$D$6&\" and localMonth(\"&$D$12&\") =\"&$E$6&\" and LocalDay(\"&$D$12&\")=\"&$F$6&\" and Barix(\"&$D$12&\",reference:=StartOfSession)=\"&A32&\"\", \"Bar\", \"\", \"Close\",\"5\",\"0\",\"PrimaryOnly\",,,\"False\",\"T\",\"EveryTick\")","v":1.18075},5.6639127842603226E-3,{"$f":"RTD(\"cqg.rtd\",,\"StudyData\", \"Close(\"&$D$12&\") when LocalYear(\"&$D$12&\")=\"&$D$7&\" and localMonth(\"&$D$12&\") =\"&$E$7&\" and LocalDay(\"&$D$12&\")=\"&$F$7&\" and Barix(\"&$D$12&\",reference:=StartOfSession)=\"&A32&\"\", \"Bar\", \"\", \"Close\",\"5\",\"0\",\"PrimaryOnly\",,,\"False\",\"T\",\"EveryTick\")","v":1.1756500000000001},3.5853002688975041E-3,{"$f":"RTD(\"cqg.rtd\",,\"StudyData\", \"Close(\"&$D$12&\") when LocalYear(\"&$D$12&\")=\"&$D$8&\" and localMonth(\"&$D$12&\") =\"&$E$8&\" and LocalDay(\"&$D$12&\")=\"&$F$8&\" and Barix(\"&$D$12&\",reference:=StartOfSession)=\"&A32&\"\", \"Bar\", \"\", \"Close\",\"5\",\"0\",\"PrimaryOnly\",,,\"False\",\"T\",\"EveryTick\")","v":1.17205},3.9402115722300202E-3,{"$f":"RTD(\"cqg.rtd\",,\"StudyData\", \"Close(\"&$D$12&\") when LocalYear(\"&$D$12&\")=\"&$D$9&\" and localMonth(\"&$D$12&\") =\"&$E$9&\" and LocalDay(\"&$D$12&\")=\"&$F$9&\" and Barix(\"&$D$12&\",reference:=StartOfSession)=\"&A32&\"\", \"Bar\", \"\", \"Close\",\"5\",\"0\",\"PrimaryOnly\",,,\"False\",\"T\",\"EveryTick\")","v":1.1739999999999999},2.9821497039138621E-4,{"$f":"RTD(\"cqg.rtd\",,\"StudyData\", \"Close(\"&$D$12&\") when LocalYear(\"&$D$12&\")=\"&$D$10&\" and localMonth(\"&$D$12&\") =\"&$E$10&\" and LocalDay(\"&$D$12&\")=\"&$F$10&\" and Barix(\"&$D$12&\",reference:=StartOfSession)=\"&A32&\"\", \"Bar\", \"\", \"Close\",\"5\",\"0\",\"PrimaryOnly\",,,\"False\",\"T\",\"EveryTick\")","v":1.1641999999999999},1.591603217619398E-3,null,null,null,""]
[212,"10:40:00","2018-07-04",2018,7,4,{"$f":"IF(RTD(\"cqg.rtd\",,\"StudyData\", \"Close(EP) when LocalYear(\"&$D$12&\")=\"&D33&\" and localMonth(\"&$D$12&\") =\"&E33&\" and LocalDay(\"&$D$12&\")=\"&F33&\" and Barix(\"&$D$12&\",reference:=StartOfSession)=80\", \"Bar\", \"\", \"Close\",\"5\",\"0\",\"PrimaryOnly\",,,\"False\",\"T\",\"EveryTick\")=\"\",2,1)","v":2},{"$f":"RTD(\"cqg.rtd\",,\"StudyData\", \"Close(\"&$D$12&\") when LocalYear(\"&$D$12&\")=\"&$D$1&\" and localMonth(\"&$D$12&\") =\"&$E$1&\" and LocalDay(\"&$D$12&\")=\"&$F$1&\" and Barix(\"&$D$12&\",reference:=StartOfSession)=\"&A33&\"\", \"Bar\", \"\", \"Close\",\"5\",\"0\",\"PrimaryOnly\",,,\"False\",\"T\",\"EveryTick\")","v":""},{"$error":"#N/A"},{"$f":"RTD(\"cqg.rtd\",,\"StudyData\", \"Close(\"&$D$12&\") when LocalYear(\"&$D$12&\")=\"&$D$2&\" and localMonth(\"&$D$12&\") =\"&$E$2&\" and LocalDay(\"&$D$12&\")=\"&$F$2&\" and Barix(\"&$D$12&\",reference:=StartOfSession)=\"&A33&\"\", \"Bar\", \"\", \"Close\",\"5\",\"0\",\"PrimaryOnly\",,,\"False\",\"T\",\"EveryTick\")","v":1.17415},9.8039215686273164E-4,{"$f":"RTD(\"cqg.rtd\",,\"StudyData\", \"Close(\"&$D$12&\") when LocalYear(\"&$D$12&\")=\"&$D$3&\" and localMonth(\"&$D$12&\") =\"&$E$3&\" and LocalDay(\"&$D$12&\")=\"&$F$3&\" and Barix(\"&$D$12&\",reference:=StartOfSession)=\"&A33&\"\", \"Bar\", \"\", \"Close\",\"5\",\"0\",\"PrimaryOnly\",,,\"False\",\"T\",\"EveryTick\")","v":1.1778500000000001},-2.1602846492712897E-3,{"$f":"RTD(\"cqg.rtd\",,\"StudyData\", \"Close(\"&$D$12&\") when LocalYear(\"&$D$12&\")=\"&$D$4&\" and localMonth(\"&$D$12&\") =\"&$E$4&\" and LocalDay(\"&$D$12&\")=\"&$F$4&\" and Barix(\"&$D$12&\",reference:=StartOfSession)=\"&A33&\"\", \"Bar\", \"\", \"Close\",\"5\",\"0\",\"PrimaryOnly\",,,\"False\",\"T\",\"EveryTick\")","v":1.1795},-1.1855364552460562E-3,{"$f":"RTD(\"cqg.rtd\",,\"StudyData\", \"Close(\"&$D$12&\") when LocalYear(\"&$D$12&\")=\"&$D$5&\" and localMonth(\"&$D$12&\") =\"&$E$5&\" and LocalDay(\"&$D$12&\")=\"&$F$5&\" and Barix(\"&$D$12&\",reference:=StartOfSession)=\"&A33&\"\", \"Bar\", \"\", \"Close\",\"5\",\"0\",\"PrimaryOnly\",,,\"False\",\"T\",\"EveryTick\")","v":1.1807000000000001},1.6941973739938835E-4,{"$f":"RTD(\"cqg.rtd\",,\"StudyData\", \"Close(\"&$D$12&\") when LocalYear(\"&$D$12&\")=\"&$D$6&\" and localMonth(\"&$D$12&\") =\"&$E$6&\" and LocalDay(\"&$D$12&\")=\"&$F$6&\" and Barix(\"&$D$12&\",reference:=StartOfSession)=\"&A33&\"\", \"Bar\", \"\", \"Close\",\"5\",\"0\",\"PrimaryOnly\",,,\"False\",\"T\",\"EveryTick\")","v":1.18035},5.3232263009965839E-3,{"$f":"RTD(\"cqg.rtd\",,\"StudyData\", \"Close(\"&$D$12&\") when LocalYear(\"&$D$12&\")=\"&$D$7&\" and localMonth(\"&$D$12&\") =\"&$E$7&\" and LocalDay(\"&$D$12&\")=\"&$F$7&\" and Barix(\"&$D$12&\",reference:=StartOfSession)=\"&A33&\"\", \"Bar\", \"\", \"Close\",\"5\",\"0\",\"PrimaryOnly\",,,\"False\",\"T\",\"EveryTick\")","v":1.1757},3.6279824149557083E-3,{"$f":"RTD(\"cqg.rtd\",,\"StudyData\", \"Close(\"&$D$12&\") when LocalYear(\"&$D$12&\")=\"&$D$8&\" and localMonth(\"&$D$12&\") =\"&$E$8&\" and LocalDay(\"&$D$12&\")=\"&$F$8&\" and Barix(\"&$D$12&\",reference:=StartOfSession)=\"&A33&\"\", \"Bar\", \"\", \"Close\",\"5\",\"0\",\"PrimaryOnly\",,,\"False\",\"T\",\"EveryTick\")","v":1.17195},3.8545547989206801E-3,{"$f":"RTD(\"cqg.rtd\",,\"StudyData\", \"Close(\"&$D$12&\") when LocalYear(\"&$D$12&\")=\"&$D$9&\" and localMonth(\"&$D$12&\") =\"&$E$9&\" and LocalDay(\"&$D$12&\")=\"&$F$9&\" and Barix(\"&$D$12&\",reference:=StartOfSession)=\"&A33&\"\", \"Bar\", \"\", \"Close\",\"5\",\"0\",\"PrimaryOnly\",,,\"False\",\"T\",\"EveryTick\")","v":1.17395},2.5561283176412638E-4,{"$f":"RTD(\"cqg.rtd\",,\"StudyData\", \"Close(\"&$D$12&\") when LocalYear(\"&$D$12&\")=\"&$D$10&\" and localMonth(\"&$D$12&\") =\"&$E$10&\" and LocalDay(\"&$D$12&\")=\"&$F$10&\" and Barix(\"&$D$12&\",reference:=StartOfSession)=\"&A33&\"\", \"Bar\", \"\", \"Close\",\"5\",\"0\",\"PrimaryOnly\",,,\"False\",\"T\",\"EveryTick\")","v":1.16435},1.7206521271561938E-3,null,null,null,""]
[213,"10:45:00","2018-07-03",2018,7,3,{"$f":"IF(RTD(\"cqg.rtd\",,\"StudyData\", \"Close(EP) when LocalYear(\"&$D$12&\")=\"&D34&\" and localMonth(\"&$D$12&\") =\"&E34&\" and LocalDay(\"&$D$12&\")=\"&F34&\" and Barix(\"&$D$12&\",reference:=StartOfSession)=80\", \"Bar\", \"\", \"Close\",\"5\",\"0\",\"PrimaryOnly\",,,\"False\",\"T\",\"EveryTick\")=\"\",2,1)","v":2},{"$f":"RTD(\"cqg.rtd\",,\"StudyData\", \"Close(\"&$D$12&\") when LocalYear(\"&$D$12&\")=\"&$D$1&\" and localMonth(\"&$D$12&\") =\"&$E$1&\" and LocalDay(\"&$D$12&\")=\"&$F$1&\" and Barix(\"&$D$12&\",reference:=StartOfSession)=\"&A34&\"\", \"Bar\", \"\", \"Close\",\"5\",\"0\",\"PrimaryOnly\",,,\"False\",\"T\",\"EveryTick\")","v":""},{"$error":"#N/A"},{"$f":"RTD(\"cqg.rtd\",,\"StudyData\", \"Close(\"&$D$12&\") when LocalYear(\"&$D$12&\")=\"&$D$2&\" and localMonth(\"&$D$12&\") =\"&$E$2&\" and LocalDay(\"&$D$12&\")=\"&$F$2&\" and Barix(\"&$D$12&\",reference:=StartOfSession)=\"&A34&\"\", \"Bar\", \"\", \"Close\",\"5\",\"0\",\"PrimaryOnly\",,,\"False\",\"T\",\"EveryTick\")","v":1.1748000000000001},1.5345268542199691E-3,{"$f":"RTD(\"cqg.rtd\",,\"StudyData\", \"Close(\"&$D$12&\") when LocalYear(\"&$D$12&\")=\"&$D$3&\" and localMonth(\"&$D$12&\") =\"&$E$3&\" and LocalDay(\"&$D$12&\")=\"&$F$3&\" and Barix(\"&$D$12&\",reference:=StartOfSession)=\"&A34&\"\", \"Bar\", \"\", \"Close\",\"5\",\"0\",\"PrimaryOnly\",,,\"False\",\"T\",\"EveryTick\")","v":1.1778500000000001},-2.1602846492712897E-3,{"$f":"RTD(\"cqg.rtd\",,\"StudyData\", \"Close(\"&$D$12&\") when LocalYear(\"&$D$12&\")=\"&$D$4&\" and localMonth(\"&$D$12&\") =\"&$E$4&\" and LocalDay(\"&$D$12&\")=\"&$F$4&\" and Barix(\"&$D$12&\",reference:=StartOfSession)=\"&A34&\"\", \"Bar\", \"\", \"Close\",\"5\",\"0\",\"PrimaryOnly\",,,\"False\",\"T\",\"EveryTick\")","v":1.179},-1.6089423321195805E-3,{"$f":"RTD(\"cqg.rtd\",,\"StudyData\", \"Close(\"&$D$12&\") when LocalYear(\"&$D$12&\")=\"&$D$5&\" and localMonth(\"&$D$12&\") =\"&$E$5&\" and LocalDay(\"&$D$12&\")=\"&$F$5&\" and Barix(\"&$D$12&\",reference:=StartOfSession)=\"&A34&\"\", \"Bar\", \"\", \"Close\",\"5\",\"0\",\"PrimaryOnly\",,,\"False\",\"T\",\"EveryTick\")","v":1.1805000000000001},0,{"$f":"RTD(\"cqg.rtd\",,\"StudyData\", \"Close(\"&$D$12&\") when LocalYear(\"&$D$12&\")=\"&$D$6&\" and localMonth(\"&$D$12&\") =\"&$E$6&\" and LocalDay(\"&$D$12&\")=\"&$F$6&\" and Barix(\"&$D$12&\",reference:=StartOfSession)=\"&A34&\"\", \"Bar\", \"\", \"Close\",\"5\",\"0\",\"PrimaryOnly\",,,\"False\",\"T\",\"EveryTick\")","v":1.1796},4.6844391448769788E-3,{"$f":"RTD(\"cqg.rtd\",,\"StudyData\", \"Close(\"&$D$12&\") when LocalYear(\"&$D$12&\")=\"&$D$7&\" and localMonth(\"&$D$12&\") =\"&$E$7&\" and LocalDay(\"&$D$12&\")=\"&$F$7&\" and Barix(\"&$D$12&\",reference:=StartOfSession)=\"&A34&\"\", \"Bar\", \"\", \"Close\",\"5\",\"0\",\"PrimaryOnly\",,,\"False\",\"T\",\"EveryTick\")","v":1.1754},3.3718895386059137E-3,{"$f":"RTD(\"cqg.rtd\",,\"StudyData\", \"Close(\"&$D$12&\") when LocalYear(\"&$D$12&\")=\"&$D$8&\" and localMonth(\"&$D$12&\") =\"&$E$8&\" and LocalDay(\"&$D$12&\")=\"&$F$8&\" and Barix(\"&$D$12&\",reference:=StartOfSession)=\"&A34&\"\", \"Bar\", \"\", \"Close\",\"5\",\"0\",\"PrimaryOnly\",,,\"False\",\"T\",\"EveryTick\")","v":1.1716500000000001},3.5975844789926602E-3,{"$f":"RTD(\"cqg.rtd\",,\"StudyData\", \"Close(\"&$D$12&\") when LocalYear(\"&$D$12&\")=\"&$D$9&\" and localMonth(\"&$D$12&\") =\"&$E$9&\" and LocalDay(\"&$D$12&\")=\"&$F$9&\" and Barix(\"&$D$12&\",reference:=StartOfSession)=\"&A34&\"\", \"Bar\", \"\", \"Close\",\"5\",\"0\",\"PrimaryOnly\",,,\"False\",\"T\",\"EveryTick\")","v":1.17395},2.5561283176412638E-4,{"$f":"RTD(\"cqg.rtd\",,\"StudyData\", \"Close(\"&$D$12&\") when LocalYear(\"&$D$12&\")=\"&$D$10&\" and localMonth(\"&$D$12&\") =\"&$E$10&\" and LocalDay(\"&$D$12&\")=\"&$F$10&\" and Barix(\"&$D$12&\",reference:=StartOfSession)=\"&A34&\"\", \"Bar\", \"\", \"Close\",\"5\",\"0\",\"PrimaryOnly\",,,\"False\",\"T\",\"EveryTick\")","v":1.1637500000000001},1.2044564890093929E-3,null,null,null,""]
[214,"10:50:00","2018-07-02",2018,7,2,{"$f":"IF(RTD(\"cqg.rtd\",,\"StudyData\", \"Close(EP) when LocalYear(\"&$D$12&\")=\"&D35&\" and localMonth(\"&$D$12&\") =\"&E35&\" and LocalDay(\"&$D$12&\")=\"&F35&\" and Barix(\"&$D$12&\",reference:=StartOfSession)=80\", \"Bar\", \"\", \"Close\",\"5\",\"0\",\"PrimaryOnly\",,,\"False\",\"T\",\"EveryTick\")=\"\",2,1)","v":1},{"$f":"RTD(\"cqg.rtd\",,\"StudyData\", \"Close(\"&$D$12&\") when LocalYear(\"&$D$12&\")=\"&$D$1&\" and localMonth(\"&$D$12&\") =\"&$E$1&\" and LocalDay(\"&$D$12&\")=\"&$F$1&\" and Barix(\"&$D$12&\",reference:=StartOfSession)=\"&A35&\"\", \"Bar\", \"\", \"Close\",\"5\",\"0\",\"PrimaryOnly\",,,\"False\",\"T\",\"EveryTick\")","v":""},{"$error":"#N/A"},{"$f":"RTD(\"cqg.rtd\",,\"StudyData\", \"Close(\"&$D$12&\") when LocalYear(\"&$D$12&\")=\"&$D$2&\" and localMonth(\"&$D$12&\") =\"&$E$2&\" and LocalDay(\"&$D$12&\")=\"&$F$2&\" and Barix(\"&$D$12&\",reference:=StartOfSession)=\"&A35&\"\", \"Bar\", \"\", \"Close\",\"5\",\"0\",\"PrimaryOnly\",,,\"False\",\"T\",\"EveryTick\")","v":1.175},1.7050298380221669E-3,{"$f":"RTD(\"cqg.rtd\",,\"StudyData\", \"Close(\"&$D$12&\") when LocalYear(\"&$D$12&\")=\"&$D$3&\" and localMonth(\"&$D$12&\") =\"&$E$3&\" and LocalDay(\"&$D$12&\")=\"&$F$3&\" and Barix(\"&$D$12&\",reference:=StartOfSession)=\"&A35&\"\", \"Bar\", \"\", \"Close\",\"5\",\"0\",\"PrimaryOnly\",,,\"False\",\"T\",\"EveryTick\")","v":1.1777500000000001},-2.2450016943407485E-3,{"$f":"RTD(\"cqg.rtd\",,\"StudyData\", \"Close(\"&$D$12&\") when LocalYear(\"&$D$12&\")=\"&$D$4&\" and localMonth(\"&$D$12&\") =\"&$E$4&\" and LocalDay(\"&$D$12&\")=\"&$F$4&\" and Barix(\"&$D$12&\",reference:=StartOfSession)=\"&A35&\"\", \"Bar\", \"\", \"Close\",\"5\",\"0\",\"PrimaryOnly\",,,\"False\",\"T\",\"EveryTick\")","v":1.1790499999999999},-1.5666017444323221E-3,{"$f":"RTD(\"cqg.rtd\",,\"StudyData\", \"Close(\"&$D$12&\") when LocalYear(\"&$D$12&\")=\"&$D$5&\" and localMonth(\"&$D$12&\") =\"&$E$5&\" and LocalDay(\"&$D$12&\")=\"&$F$5&\" and Barix(\"&$D$12&\",reference:=StartOfSession)=\"&A35&\"\", \"Bar\", \"\", \"Close\",\"5\",\"0\",\"PrimaryOnly\",,,\"False\",\"T\",\"EveryTick\")","v":1.1803999999999999},-8.470986869988227E-5,{"$f":"RTD(\"cqg.rtd\",,\"StudyData\", \"Close(\"&$D$12&\") when LocalYear(\"&$D$12&\")=\"&$D$6&\" and localMonth(\"&$D$12&\") =\"&$E$6&\" and LocalDay(\"&$D$12&\")=\"&$F$6&\" and Barix(\"&$D$12&\",reference:=StartOfSession)=\"&A35&\"\", \"Bar\", \"\", \"Close\",\"5\",\"0\",\"PrimaryOnly\",,,\"False\",\"T\",\"EveryTick\")","v":1.18015},5.1528830593647141E-3,{"$f":"RTD(\"cqg.rtd\",,\"StudyData\", \"Close(\"&$D$12&\") when LocalYear(\"&$D$12&\")=\"&$D$7&\" and localMonth(\"&$D$12&\") =\"&$E$7&\" and LocalDay(\"&$D$12&\")=\"&$F$7&\" and Barix(\"&$D$12&\",reference:=StartOfSession)=\"&A35&\"\", \"Bar\", \"\", \"Close\",\"5\",\"0\",\"PrimaryOnly\",,,\"False\",\"T\",\"EveryTick\")","v":1.1756500000000001},3.5853002688975041E-3,{"$f":"RTD(\"cqg.rtd\",,\"StudyData\", \"Close(\"&$D$12&\") when LocalYear(\"&$D$12&\")=\"&$D$8&\" and localMonth(\"&$D$12&\") =\"&$E$8&\" and LocalDay(\"&$D$12&\")=\"&$F$8&\" and Barix(\"&$D$12&\",reference:=StartOfSession)=\"&A35&\"\", \"Bar\", \"\", \"Close\",\"5\",\"0\",\"PrimaryOnly\",,,\"False\",\"T\",\"EveryTick\")","v":1.1718999999999999},3.8117264122659151E-3,{"$f":"RTD(\"cqg.rtd\",,\"StudyData\", \"Close(\"&$D$12&\") when LocalYear(\"&$D$12&\")=\"&$D$9&\" and localMonth(\"&$D$12&\") =\"&$E$9&\" and LocalDay(\"&$D$12&\")=\"&$F$9&\" and Barix(\"&$D$12&\",reference:=StartOfSession)=\"&A35&\"\", \"Bar\", \"\", \"Close\",\"5\",\"0\",\"PrimaryOnly\",,,\"False\",\"T\",\"EveryTick\")","v":1.1748000000000001},9.7984918842924582E-4,{"$f":"RTD(\"cqg.rtd\",,\"StudyData\", \"Close(\"&$D$12&\") when LocalYear(\"&$D$12&\")=\"&$D$10&\" and localMonth(\"&$D$12&\") =\"&$E$10&\" and LocalDay(\"&$D$12&\")=\"&$F$10&\" and Barix(\"&$D$12&\",reference:=StartOfSession)=\"&A35&\"\", \"Bar\", \"\", \"Close\",\"5\",\"0\",\"PrimaryOnly\",,,\"False\",\"T\",\"EveryTick\")","v":1.1641999999999999},1.591603217619398E-3,null,null,null,""]
[215,"10:55:00","2018-06-29",2018,6,29,{"$f":"IF(RTD(\"cqg.rtd\",,\"StudyData\", \"Close(EP) when LocalYear(\"&$D$12&\")=\"&D36&\" and localMonth(\"&$D$12&\") =\"&E36&\" and LocalDay(\"&$D$12&\")=\"&F36&\" and Barix(\"&$D$12&\",reference:=StartOfSession)=80\", \"Bar\", \"\", \"Close\",\"5\",\"0\",\"PrimaryOnly\",,,\"False\",\"T\",\"EveryTick\")=\"\",2,1)","v":1},{"$f":"RTD(\"cqg.rtd\",,\"StudyData\", \"Close(\"&$D$12&\") when LocalYear(\"&$D$12&\")=\"&$D$1&\" and localMonth(\"&$D$12&\") =\"&$E$1&\" and LocalDay(\"&$D$12&\")=\"&$F$1&\" and Barix(\"&$D$12&\",reference:=StartOfSession)=\"&A36&\"\", \"Bar\", \"\", \"Close\",\"5\",\"0\",\"PrimaryOnly\",,,\"False\",\"T\",\"EveryTick\")","v":""},{"$error":"#N/A"},{"$f":"RTD(\"cqg.rtd\",,\"StudyData\", \"Close(\"&$D$12&\") when LocalYear(\"&$D$12&\")=\"&$D$2&\" and localMonth(\"&$D$12&\") =\"&$E$2&\" and LocalDay(\"&$D$12&\")=\"&$F$2&\" and Barix(\"&$D$12&\",reference:=StartOfSession)=\"&A36&\"\", \"Bar\", \"\", \"Close\",\"5\",\"0\",\"PrimaryOnly\",,,\"False\",\"T\",\"EveryTick\")","v":1.17455},1.3213981244671272E-3,{"$f":"RTD(\"cqg.rtd\",,\"StudyData\", \"Close(\"&$D$12&\") when LocalYear(\"&$D$12&\")=\"&$D$3&\" and localMonth(\"&$D$12&\") =\"&$E$3&\" and LocalDay(\"&$D$12&\")=\"&$F$3&\" and Barix(\"&$D$12&\",reference:=StartOfSession)=\"&A36&\"\", \"Bar\", \"\", \"Close\",\"5\",\"0\",\"PrimaryOnly\",,,\"False\",\"T\",\"EveryTick\")","v":1.1779500000000001},-2.0755676042018309E-3,{"$f":"RTD(\"cqg.rtd\",,\"StudyData\", \"Close(\"&$D$12&\") when LocalYear(\"&$D$12&\")=\"&$D$4&\" and localMonth(\"&$D$12&\") =\"&$E$4&\" and LocalDay(\"&$D$12&\")=\"&$F$4&\" and Barix(\"&$D$12&\",reference:=StartOfSession)=\"&A36&\"\", \"Bar\", \"\", \"Close\",\"5\",\"0\",\"PrimaryOnly\",,,\"False\",\"T\",\"EveryTick\")","v":1.1788000000000001},-1.7783046828689904E-3,{"$f":"RTD(\"cqg.rtd\",,\"StudyData\", \"Close(\"&$D$12&\") when LocalYear(\"&$D$12&\")=\"&$D$5&\" and localMonth(\"&$D$12&\") =\"&$E$5&\" and LocalDay(\"&$D$12&\")=\"&$F$5&\" and Barix(\"&$D$12&\",reference:=StartOfSession)=\"&A36&\"\", \"Bar\", \"\", \"Close\",\"5\",\"0\",\"PrimaryOnly\",,,\"False\",\"T\",\"EveryTick\")","v":1.18055},4.2354934349753039E-5,{"$f":"RTD(\"cqg.rtd\",,\"StudyData\", \"Close(\"&$D$12&\") when LocalYear(\"&$D$12&\")=\"&$D$6&\" and localMonth(\"&$D$12&\") =\"&$E$6&\" and LocalDay(\"&$D$12&\")=\"&$F$6&\" and Barix(\"&$D$12&\",reference:=StartOfSession)=\"&A36&\"\", \"Bar\", \"\", \"Close\",\"5\",\"0\",\"PrimaryOnly\",,,\"False\",\"T\",\"EveryTick\")","v":1.1798},4.8547823865088486E-3,{"$f":"RTD(\"cqg.rtd\",,\"StudyData\", \"Close(\"&$D$12&\") when LocalYear(\"&$D$12&\")=\"&$D$7&\" and localMonth(\"&$D$12&\") =\"&$E$7&\" and LocalDay(\"&$D$12&\")=\"&$F$7&\" and Barix(\"&$D$12&\",reference:=StartOfSession)=\"&A36&\"\", \"Bar\", \"\", \"Close\",\"5\",\"0\",\"PrimaryOnly\",,,\"False\",\"T\",\"EveryTick\")","v":1.1756},3.5426181228391104E-3,{"$f":"RTD(\"cqg.rtd\",,\"StudyData\", \"Close(\"&$D$12&\") when LocalYear(\"&$D$12&\")=\"&$D$8&\" and localMonth(\"&$D$12&\") =\"&$E$8&\" and LocalDay(\"&$D$12&\")=\"&$F$8&\" and Barix(\"&$D$12&\",reference:=StartOfSession)=\"&A36&\"\", \"Bar\", \"\", \"Close\",\"5\",\"0\",\"PrimaryOnly\",,,\"False\",\"T\",\"EveryTick\")","v":1.1717},3.6404128656472353E-3,{"$f":"RTD(\"cqg.rtd\",,\"StudyData\", \"Close(\"&$D$12&\") when LocalYear(\"&$D$12&\")=\"&$D$9&\" and localMonth(\"&$D$12&\") =\"&$E$9&\" and LocalDay(\"&$D$12&\")=\"&$F$9&\" and Barix(\"&$D$12&\",reference:=StartOfSession)=\"&A36&\"\", \"Bar\", \"\", \"Close\",\"5\",\"0\",\"PrimaryOnly\",,,\"False\",\"T\",\"EveryTick\")","v":1.17435},5.9642994078296162E-4,{"$f":"RTD(\"cqg.rtd\",,\"StudyData\", \"Close(\"&$D$12&\") when LocalYear(\"&$D$12&\")=\"&$D$10&\" and localMonth(\"&$D$12&\") =\"&$E$10&\" and LocalDay(\"&$D$12&\")=\"&$F$10&\" and Barix(\"&$D$12&\",reference:=StartOfSession)=\"&A36&\"\", \"Bar\", \"\", \"Close\",\"5\",\"0\",\"PrimaryOnly\",,,\"False\",\"T\",\"EveryTick\")","v":1.1649499999999999},2.2368477653029947E-3,null,null,null,""]
[216,"11:00:00",null,null,null,null,null,{"$f":"RTD(\"cqg.rtd\",,\"StudyData\", \"Close(\"&$D$12&\") when LocalYear(\"&$D$12&\")=\"&$D$1&\" and localMonth(\"&$D$12&\") =\"&$E$1&\" and LocalDay(\"&$D$12&\")=\"&$F$1&\" and Barix(\"&$D$12&\",reference:=StartOfSession)=\"&A37&\"\", \"Bar\", \"\", \"Close\",\"5\",\"0\",\"PrimaryOnly\",,,\"False\",\"T\",\"EveryTick\")","v":""},{"$error":"#N/A"},{"$f":"RTD(\"cqg.rtd\",,\"StudyData\", \"Close(\"&$D$12&\") when LocalYear(\"&$D$12&\")=\"&$D$2&\" and localMonth(\"&$D$12&\") =\"&$E$2&\" and LocalDay(\"&$D$12&\")=\"&$F$2&\" and Barix(\"&$D$12&\",reference:=StartOfSession)=\"&A37&\"\", \"Bar\", \"\", \"Close\",\"5\",\"0\",\"PrimaryOnly\",,,\"False\",\"T\",\"EveryTick\")","v":1.1745000000000001},1.2787723785166725E-3,{"$f":"RTD(\"cqg.rtd\",,\"StudyData\", \"Close(\"&$D$12&\") when LocalYear(\"&$D$12&\")=\"&$D$3&\" and localMonth(\"&$D$12&\") =\"&$E$3&\" and LocalDay(\"&$D$12&\")=\"&$F$3&\" and Barix(\"&$D$12&\",reference:=StartOfSession)=\"&A37&\"\", \"Bar\", \"\", \"Close\",\"5\",\"0\",\"PrimaryOnly\",,,\"False\",\"T\",\"EveryTick\")","v":1.17815},-1.9061335140629137E-3,{"$f":"RTD(\"cqg.rtd\",,\"StudyData\", \"Close(\"&$D$12&\") when LocalYear(\"&$D$12&\")=\"&$D$4&\" and localMonth(\"&$D$12&\") =\"&$E$4&\" and LocalDay(\"&$D$12&\")=\"&$F$4&\" and Barix(\"&$D$12&\",reference:=StartOfSession)=\"&A37&\"\", \"Bar\", \"\", \"Close\",\"5\",\"0\",\"PrimaryOnly\",,,\"False\",\"T\",\"EveryTick\")","v":1.1783999999999999},-2.1170293843679978E-3,{"$f":"RTD(\"cqg.rtd\",,\"StudyData\", \"Close(\"&$D$12&\") when LocalYear(\"&$D$12&\")=\"&$D$5&\" and localMonth(\"&$D$12&\") =\"&$E$5&\" and LocalDay(\"&$D$12&\")=\"&$F$5&\" and Barix(\"&$D$12&\",reference:=StartOfSession)=\"&A37&\"\", \"Bar\", \"\", \"Close\",\"5\",\"0\",\"PrimaryOnly\",,,\"False\",\"T\",\"EveryTick\")","v":1.18065},1.2706480304944723E-4,{"$f":"RTD(\"cqg.rtd\",,\"StudyData\", \"Close(\"&$D$12&\") when LocalYear(\"&$D$12&\")=\"&$D$6&\" and localMonth(\"&$D$12&\") =\"&$E$6&\" and LocalDay(\"&$D$12&\")=\"&$F$6&\" and Barix(\"&$D$12&\",reference:=StartOfSession)=\"&A37&\"\", \"Bar\", \"\", \"Close\",\"5\",\"0\",\"PrimaryOnly\",,,\"False\",\"T\",\"EveryTick\")","v":1.1798999999999999},4.939954007324783E-3,{"$f":"RTD(\"cqg.rtd\",,\"StudyData\", \"Close(\"&$D$12&\") when LocalYear(\"&$D$12&\")=\"&$D$7&\" and localMonth(\"&$D$12&\") =\"&$E$7&\" and LocalDay(\"&$D$12&\")=\"&$F$7&\" and Barix(\"&$D$12&\",reference:=StartOfSession)=\"&A37&\"\", \"Bar\", \"\", \"Close\",\"5\",\"0\",\"PrimaryOnly\",,,\"False\",\"T\",\"EveryTick\")","v":1.1758},3.7133467070723067E-3,{"$f":"RTD(\"cqg.rtd\",,\"StudyData\", \"Close(\"&$D$12&\") when LocalYear(\"&$D$12&\")=\"&$D$8&\" and localMonth(\"&$D$12&\") =\"&$E$8&\" and LocalDay(\"&$D$12&\")=\"&$F$8&\" and Barix(\"&$D$12&\",reference:=StartOfSession)=\"&A37&\"\", \"Bar\", \"\", \"Close\",\"5\",\"0\",\"PrimaryOnly\",,,\"False\",\"T\",\"EveryTick\")","v":1.1716500000000001},3.5975844789926602E-3,{"$f":"RTD(\"cqg.rtd\",,\"StudyData\", \"Close(\"&$D$12&\") when LocalYear(\"&$D$12&\")=\"&$D$9&\" and localMonth(\"&$D$12&\") =\"&$E$9&\" and LocalDay(\"&$D$12&\")=\"&$F$9&\" and Barix(\"&$D$12&\",reference:=StartOfSession)=\"&A37&\"\", \"Bar\", \"\", \"Close\",\"5\",\"0\",\"PrimaryOnly\",,,\"False\",\"T\",\"EveryTick\")","v":1.17435},5.9642994078296162E-4,{"$f":"RTD(\"cqg.rtd\",,\"StudyData\", \"Close(\"&$D$12&\") when LocalYear(\"&$D$12&\")=\"&$D$10&\" and localMonth(\"&$D$12&\") =\"&$E$10&\" and LocalDay(\"&$D$12&\")=\"&$F$10&\" and Barix(\"&$D$12&\",reference:=StartOfSession)=\"&A37&\"\", \"Bar\", \"\", \"Close\",\"5\",\"0\",\"PrimaryOnly\",,,\"False\",\"T\",\"EveryTick\")","v":1.16475},2.0647825525873941E-3,null,null,null,""]
[217,"11:05:00",-40,{"$f":" RTD(\"cqg.rtd\",,\"StudyData\", $D$12,  \"Tick\", \"FlatTicks=0\", \"Tick\",\"D\",C38,\"PrimaryOnly\")","v":1.1714500000000001},null,"EU6",null,{"$f":"RTD(\"cqg.rtd\",,\"StudyData\", \"Close(\"&$D$12&\") when LocalYear(\"&$D$12&\")=\"&$D$1&\" and localMonth(\"&$D$12&\") =\"&$E$1&\" and LocalDay(\"&$D$12&\")=\"&$F$1&\" and Barix(\"&$D$12&\",reference:=StartOfSession)=\"&A38&\"\", \"Bar\", \"\", \"Close\",\"5\",\"0\",\"PrimaryOnly\",,,\"False\",\"T\",\"EveryTick\")","v":""},{"$error":"#N/A"},{"$f":"RTD(\"cqg.rtd\",,\"StudyData\", \"Close(\"&$D$12&\") when LocalYear(\"&$D$12&\")=\"&$D$2&\" and localMonth(\"&$D$12&\") =\"&$E$2&\" and LocalDay(\"&$D$12&\")=\"&$F$2&\" and Barix(\"&$D$12&\",reference:=StartOfSession)=\"&A38&\"\", \"Bar\", \"\", \"Close\",\"5\",\"0\",\"PrimaryOnly\",,,\"False\",\"T\",\"EveryTick\")","v":1.17445},1.2361466325660285E-3,{"$f":"RTD(\"cqg.rtd\",,\"StudyData\", \"Close(\"&$D$12&\") when LocalYear(\"&$D$12&\")=\"&$D$3&\" and localMonth(\"&$D$12&\") =\"&$E$3&\" and LocalDay(\"&$D$12&\")=\"&$F$3&\" and Barix(\"&$D$12&\",reference:=StartOfSession)=\"&A38&\"\", \"Bar\", \"\", \"Close\",\"5\",\"0\",\"PrimaryOnly\",,,\"False\",\"T\",\"EveryTick\")","v":1.17825},-1.8214164689934551E-3,{"$f":"RTD(\"cqg.rtd\",,\"StudyData\", \"Close(\"&$D$12&\") when LocalYear(\"&$D$12&\")=\"&$D$4&\" and localMonth(\"&$D$12&\") =\"&$E$4&\" and LocalDay(\"&$D$12&\")=\"&$F$4&\" and Barix(\"&$D$12&\",reference:=StartOfSession)=\"&A38&\"\", \"Bar\", \"\", \"Close\",\"5\",\"0\",\"PrimaryOnly\",,,\"False\",\"T\",\"EveryTick\")","v":1.17885},-1.7359640951817319E-3,{"$f":"RTD(\"cqg.rtd\",,\"StudyData\", \"Close(\"&$D$12&\") when LocalYear(\"&$D$12&\")=\"&$D$5&\" and localMonth(\"&$D$12&\") =\"&$E$5&\" and LocalDay(\"&$D$12&\")=\"&$F$5&\" and Barix(\"&$D$12&\",reference:=StartOfSession)=\"&A38&\"\", \"Bar\", \"\", \"Close\",\"5\",\"0\",\"PrimaryOnly\",,,\"False\",\"T\",\"EveryTick\")","v":1.181},4.2354934349847088E-4,{"$f":"RTD(\"cqg.rtd\",,\"StudyData\", \"Close(\"&$D$12&\") when LocalYear(\"&$D$12&\")=\"&$D$6&\" and localMonth(\"&$D$12&\") =\"&$E$6&\" and LocalDay(\"&$D$12&\")=\"&$F$6&\" and Barix(\"&$D$12&\",reference:=StartOfSession)=\"&A38&\"\", \"Bar\", \"\", \"Close\",\"5\",\"0\",\"PrimaryOnly\",,,\"False\",\"T\",\"EveryTick\")","v":1.1799500000000001},4.9825398177328452E-3,{"$f":"RTD(\"cqg.rtd\",,\"StudyData\", \"Close(\"&$D$12&\") when LocalYear(\"&$D$12&\")=\"&$D$7&\" and localMonth(\"&$D$12&\") =\"&$E$7&\" and LocalDay(\"&$D$12&\")=\"&$F$7&\" and Barix(\"&$D$12&\",reference:=StartOfSession)=\"&A38&\"\", \"Bar\", \"\", \"Close\",\"5\",\"0\",\"PrimaryOnly\",,,\"False\",\"T\",\"EveryTick\")","v":1.1758500000000001},3.7560288531307004E-3,{"$f":"RTD(\"cqg.rtd\",,\"StudyData\", \"Close(\"&$D$12&\") when LocalYear(\"&$D$12&\")=\"&$D$8&\" and localMonth(\"&$D$12&\") =\"&$E$8&\" and LocalDay(\"&$D$12&\")=\"&$F$8&\" and Barix(\"&$D$12&\",reference:=StartOfSession)=\"&A38&\"\", \"Bar\", \"\", \"Close\",\"5\",\"0\",\"PrimaryOnly\",,,\"False\",\"T\",\"EveryTick\")","v":1.1710499999999999},3.0836438391364301E-3,{"$f":"RTD(\"cqg.rtd\",,\"StudyData\", \"Close(\"&$D$12&\") when LocalYear(\"&$D$12&\")=\"&$D$9&\" and localMonth(\"&$D$12&\") =\"&$E$9&\" and LocalDay(\"&$D$12&\")=\"&$F$9&\" and Barix(\"&$D$12&\",reference:=StartOfSession)=\"&A38&\"\", \"Bar\", \"\", \"Close\",\"5\",\"0\",\"PrimaryOnly\",,,\"False\",\"T\",\"EveryTick\")","v":1.17425},5.1122566352825277E-4,{"$f":"RTD(\"cqg.rtd\",,\"StudyData\", \"Close(\"&$D$12&\") when LocalYear(\"&$D$12&\")=\"&$D$10&\" and localMonth(\"&$D$12&\") =\"&$E$10&\" and LocalDay(\"&$D$12&\")=\"&$F$10&\" and Barix(\"&$D$12&\",reference:=StartOfSession)=\"&A38&\"\", \"Bar\", \"\", \"Close\",\"5\",\"0\",\"PrimaryOnly\",,,\"False\",\"T\",\"EveryTick\")","v":1.165},2.27986406848199E-3,null,null,null,""]
[218,"11:10:00",{"$f":"C38+1","v":-39},{"$f":" RTD(\"cqg.rtd\",,\"StudyData\", $D$12,  \"Tick\", \"FlatTicks=0\", \"Tick\",\"D\",C39,\"PrimaryOnly\")","v":1.1714},null,"BP6",null,{"$f":"RTD(\"cqg.rtd\",,\"StudyData\", \"Close(\"&$D$12&\") when LocalYear(\"&$D$12&\")=\"&$D$1&\" and localMonth(\"&$D$12&\") =\"&$E$1&\" and LocalDay(\"&$D$12&\")=\"&$F$1&\" and Barix(\"&$D$12&\",reference:=StartOfSession)=\"&A39&\"\", \"Bar\", \"\", \"Close\",\"5\",\"0\",\"PrimaryOnly\",,,\"False\",\"T\",\"EveryTick\")","v":""},{"$error":"#N/A"},{"$f":"RTD(\"cqg.rtd\",,\"StudyData\", \"Close(\"&$D$12&\") when LocalYear(\"&$D$12&\")=\"&$D$2&\" and localMonth(\"&$D$12&\") =\"&$E$2&\" and LocalDay(\"&$D$12&\")=\"&$F$2&\" and Barix(\"&$D$12&\",reference:=StartOfSession)=\"&A39&\"\", \"Bar\", \"\", \"Close\",\"5\",\"0\",\"PrimaryOnly\",,,\"False\",\"T\",\"EveryTick\")","v":1.1742999999999999},1.1082693947142854E-3,{"$f":"RTD(\"cqg.rtd\",,\"StudyData\", \"Close(\"&$D$12&\") when LocalYear(\"&$D$12&\")=\"&$D$3&\" and localMonth(\"&$D$12&\") =\"&$E$3&\" and LocalDay(\"&$D$12&\")=\"&$F$3&\" and Barix(\"&$D$12&\",reference:=StartOfSession)=\"&A39&\"\", \"Bar\", \"\", \"Close\",\"5\",\"0\",\"PrimaryOnly\",,,\"False\",\"T\",\"EveryTick\")","v":1.1779500000000001},-2.0755676042018309E-3,{"$f":"RTD(\"cqg.rtd\",,\"StudyData\", \"Close(\"&$D$12&\") when LocalYear(\"&$D$12&\")=\"&$D$4&\" and localMonth(\"&$D$12&\") =\"&$E$4&\" and LocalDay(\"&$D$12&\")=\"&$F$4&\" and Barix(\"&$D$12&\",reference:=StartOfSession)=\"&A39&\"\", \"Bar\", \"\", \"Close\",\"5\",\"0\",\"PrimaryOnly\",,,\"False\",\"T\",\"EveryTick\")","v":1.17885},-1.7359640951817319E-3,{"$f":"RTD(\"cqg.rtd\",,\"StudyData\", \"Close(\"&$D$12&\") when LocalYear(\"&$D$12&\")=\"&$D$5&\" and localMonth(\"&$D$12&\") =\"&$E$5&\" and LocalDay(\"&$D$12&\")=\"&$F$5&\" and Barix(\"&$D$12&\",reference:=StartOfSession)=\"&A39&\"\", \"Bar\", \"\", \"Close\",\"5\",\"0\",\"PrimaryOnly\",,,\"False\",\"T\",\"EveryTick\")","v":1.18085},2.964845404488356E-4,{"$f":"RTD(\"cqg.rtd\",,\"StudyData\", \"Close(\"&$D$12&\") when LocalYear(\"&$D$12&\")=\"&$D$6&\" and localMonth(\"&$D$12&\") =\"&$E$6&\" and LocalDay(\"&$D$12&\")=\"&$F$6&\" and Barix(\"&$D$12&\",reference:=StartOfSession)=\"&A39&\"\", \"Bar\", \"\", \"Close\",\"5\",\"0\",\"PrimaryOnly\",,,\"False\",\"T\",\"EveryTick\")","v":1.1798500000000001},4.8973681969169099E-3,{"$f":"RTD(\"cqg.rtd\",,\"StudyData\", \"Close(\"&$D$12&\") when LocalYear(\"&$D$12&\")=\"&$D$7&\" and localMonth(\"&$D$12&\") =\"&$E$7&\" and LocalDay(\"&$D$12&\")=\"&$F$7&\" and Barix(\"&$D$12&\",reference:=StartOfSession)=\"&A39&\"\", \"Bar\", \"\", \"Close\",\"5\",\"0\",\"PrimaryOnly\",,,\"False\",\"T\",\"EveryTick\")","v":1.1755},3.457253830722512E-3,{"$f":"RTD(\"cqg.rtd\",,\"StudyData\", \"Close(\"&$D$12&\") when LocalYear(\"&$D$12&\")=\"&$D$8&\" and localMonth(\"&$D$12&\") =\"&$E$8&\" and LocalDay(\"&$D$12&\")=\"&$F$8&\" and Barix(\"&$D$12&\",reference:=StartOfSession)=\"&A39&\"\", \"Bar\", \"\", \"Close\",\"5\",\"0\",\"PrimaryOnly\",,,\"False\",\"T\",\"EveryTick\")","v":1.1711},3.1264722257911951E-3,{"$f":"RTD(\"cqg.rtd\",,\"StudyData\", \"Close(\"&$D$12&\") when LocalYear(\"&$D$12&\")=\"&$D$9&\" and localMonth(\"&$D$12&\") =\"&$E$9&\" and LocalDay(\"&$D$12&\")=\"&$F$9&\" and Barix(\"&$D$12&\",reference:=StartOfSession)=\"&A39&\"\", \"Bar\", \"\", \"Close\",\"5\",\"0\",\"PrimaryOnly\",,,\"False\",\"T\",\"EveryTick\")","v":1.1745000000000001},7.2423635666511938E-4,{"$f":"RTD(\"cqg.rtd\",,\"StudyData\", \"Close(\"&$D$12&\") when LocalYear(\"&$D$12&\")=\"&$D$10&\" and localMonth(\"&$D$12&\") =\"&$E$10&\" and LocalDay(\"&$D$12&\")=\"&$F$10&\" and Barix(\"&$D$12&\",reference:=StartOfSession)=\"&A39&\"\", \"Bar\", \"\", \"Close\",\"5\",\"0\",\"PrimaryOnly\",,,\"False\",\"T\",\"EveryTick\")","v":1.1648000000000001},2.1077988557663897E-3,null,null,null,""]
[219,"11:15:00",{"$f":"C39+1","v":-38},{"$f":" RTD(\"cqg.rtd\",,\"StudyData\", $D$12,  \"Tick\", \"FlatTicks=0\", \"Tick\",\"D\",C40,\"PrimaryOnly\")","v":1.1714500000000001},null,"CA6",null,{"$f":"RTD(\"cqg.rtd\",,\"StudyData\", \"Close(\"&$D$12&\") when LocalYear(\"&$D$12&\")=\"&$D$1&\" and localMonth(\"&$D$12&\") =\"&$E$1&\" and LocalDay(\"&$D$12&\")=\"&$F$1&\" and Barix(\"&$D$12&\",reference:=StartOfSession)=\"&A40&\"\", \"Bar\", \"\", \"Close\",\"5\",\"0\",\"PrimaryOnly\",,,\"False\",\"T\",\"EveryTick\")","v":""},{"$error":"#N/A"},{"$f":"RTD(\"cqg.rtd\",,\"StudyData\", \"Close(\"&$D$12&\") when LocalYear(\"&$D$12&\")=\"&$D$2&\" and localMonth(\"&$D$12&\") =\"&$E$2&\" and LocalDay(\"&$D$12&\")=\"&$F$2&\" and Barix(\"&$D$12&\",reference:=StartOfSession)=\"&A40&\"\", \"Bar\", \"\", \"Close\",\"5\",\"0\",\"PrimaryOnly\",,,\"False\",\"T\",\"EveryTick\")","v":1.1739999999999999},8.525149190109888E-4,{"$f":"RTD(\"cqg.rtd\",,\"StudyData\", \"Close(\"&$D$12&\") when LocalYear(\"&$D$12&\")=\"&$D$3&\" and localMonth(\"&$D$12&\") =\"&$E$3&\" and LocalDay(\"&$D$12&\")=\"&$F$3&\" and Barix(\"&$D$12&\",reference:=StartOfSession)=\"&A40&\"\", \"Bar\", \"\", \"Close\",\"5\",\"0\",\"PrimaryOnly\",,,\"False\",\"T\",\"EveryTick\")","v":1.1776500000000001},-2.3297187394102073E-3,{"$f":"RTD(\"cqg.rtd\",,\"StudyData\", \"Close(\"&$D$12&\") when LocalYear(\"&$D$12&\")=\"&$D$4&\" and localMonth(\"&$D$12&\") =\"&$E$4&\" and LocalDay(\"&$D$12&\")=\"&$F$4&\" and Barix(\"&$D$12&\",reference:=StartOfSession)=\"&A40&\"\", \"Bar\", \"\", \"Close\",\"5\",\"0\",\"PrimaryOnly\",,,\"False\",\"T\",\"EveryTick\")","v":1.1792},-1.4395799813701707E-3,{"$f":"RTD(\"cqg.rtd\",,\"StudyData\", \"Close(\"&$D$12&\") when LocalYear(\"&$D$12&\")=\"&$D$5&\" and localMonth(\"&$D$12&\") =\"&$E$5&\" and LocalDay(\"&$D$12&\")=\"&$F$5&\" and Barix(\"&$D$12&\",reference:=StartOfSession)=\"&A40&\"\", \"Bar\", \"\", \"Close\",\"5\",\"0\",\"PrimaryOnly\",,,\"False\",\"T\",\"EveryTick\")","v":1.1808000000000001},2.5412960609908251E-4,{"$f":"RTD(\"cqg.rtd\",,\"StudyData\", \"Close(\"&$D$12&\") when LocalYear(\"&$D$12&\")=\"&$D$6&\" and localMonth(\"&$D$12&\") =\"&$E$6&\" and LocalDay(\"&$D$12&\")=\"&$F$6&\" and Barix(\"&$D$12&\",reference:=StartOfSession)=\"&A40&\"\", \"Bar\", \"\", \"Close\",\"5\",\"0\",\"PrimaryOnly\",,,\"False\",\"T\",\"EveryTick\")","v":1.1800999999999999},5.1102972489566528E-3,{"$f":"RTD(\"cqg.rtd\",,\"StudyData\", \"Close(\"&$D$12&\") when LocalYear(\"&$D$12&\")=\"&$D$7&\" and localMonth(\"&$D$12&\") =\"&$E$7&\" and LocalDay(\"&$D$12&\")=\"&$F$7&\" and Barix(\"&$D$12&\",reference:=StartOfSession)=\"&A40&\"\", \"Bar\", \"\", \"Close\",\"5\",\"0\",\"PrimaryOnly\",,,\"False\",\"T\",\"EveryTick\")","v":1.1759500000000001},3.8413931452472988E-3,{"$f":"RTD(\"cqg.rtd\",,\"StudyData\", \"Close(\"&$D$12&\") when LocalYear(\"&$D$12&\")=\"&$D$8&\" and localMonth(\"&$D$12&\") =\"&$E$8&\" and LocalDay(\"&$D$12&\")=\"&$F$8&\" and Barix(\"&$D$12&\",reference:=StartOfSession)=\"&A40&\"\", \"Bar\", \"\", \"Close\",\"5\",\"0\",\"PrimaryOnly\",,,\"False\",\"T\",\"EveryTick\")","v":1.171},3.040815452481855E-3,{"$f":"RTD(\"cqg.rtd\",,\"StudyData\", \"Close(\"&$D$12&\") when LocalYear(\"&$D$12&\")=\"&$D$9&\" and localMonth(\"&$D$12&\") =\"&$E$9&\" and LocalDay(\"&$D$12&\")=\"&$F$9&\" and Barix(\"&$D$12&\",reference:=StartOfSession)=\"&A40&\"\", \"Bar\", \"\", \"Close\",\"5\",\"0\",\"PrimaryOnly\",,,\"False\",\"T\",\"EveryTick\")","v":1.1745000000000001},7.2423635666511938E-4,{"$f":"RTD(\"cqg.rtd\",,\"StudyData\", \"Close(\"&$D$12&\") when LocalYear(\"&$D$12&\")=\"&$D$10&\" and localMonth(\"&$D$12&\") =\"&$E$10&\" and LocalDay(\"&$D$12&\")=\"&$F$10&\" and Barix(\"&$D$12&\",reference:=StartOfSession)=\"&A40&\"\", \"Bar\", \"\", \"Close\",\"5\",\"0\",\"PrimaryOnly\",,,\"False\",\"T\",\"EveryTick\")","v":1.1648000000000001},2.1077988557663897E-3,null,null,null,""]
[220,"11:20:00",-37,{"$f":" RTD(\"cqg.rtd\",,\"StudyData\", $D$12,  \"Tick\", \"FlatTicks=0\", \"Tick\",\"D\",C41,\"PrimaryOnly\")","v":1.1714},null,"DA6",null,{"$f":"RTD(\"cqg.rtd\",,\"StudyData\", \"Close(\"&$D$12&\") when LocalYear(\"&$D$12&\")=\"&$D$1&\" and localMonth(\"&$D$12&\") =\"&$E$1&\" and LocalDay(\"&$D$12&\")=\"&$F$1&\" and Barix(\"&$D$12&\",reference:=StartOfSession)=\"&A41&\"\", \"Bar\", \"\", \"Close\",\"5\",\"0\",\"PrimaryOnly\",,,\"False\",\"T\",\"EveryTick\")","v":""},{"$error":"#N/A"},{"$f":"RTD(\"cqg.rtd\",,\"StudyData\", \"Close(\"&$D$12&\") when LocalYear(\"&$D$12&\")=\"&$D$2&\" and localMonth(\"&$D$12&\") =\"&$E$2&\" and LocalDay(\"&$D$12&\")=\"&$F$2&\" and Barix(\"&$D$12&\",reference:=StartOfSession)=\"&A41&\"\", \"Bar\", \"\", \"Close\",\"5\",\"0\",\"PrimaryOnly\",,,\"False\",\"T\",\"EveryTick\")","v":1.17415},9.8039215686273164E-4,{"$f":"RTD(\"cqg.rtd\",,\"StudyData\", \"Close(\"&$D$12&\") when LocalYear(\"&$D$12&\")=\"&$D$3&\" and localMonth(\"&$D$12&\") =\"&$E$3&\" and LocalDay(\"&$D$12&\")=\"&$F$3&\" and Barix(\"&$D$12&\",reference:=StartOfSession)=\"&A41&\"\", \"Bar\", \"\", \"Close\",\"5\",\"0\",\"PrimaryOnly\",,,\"False\",\"T\",\"EveryTick\")","v":1.1774},-2.5415113520839477E-3,{"$f":"RTD(\"cqg.rtd\",,\"StudyData\", \"Close(\"&$D$12&\") when LocalYear(\"&$D$12&\")=\"&$D$4&\" and localMonth(\"&$D$12&\") =\"&$E$4&\" and LocalDay(\"&$D$12&\")=\"&$F$4&\" and Barix(\"&$D$12&\",reference:=StartOfSession)=\"&A41&\"\", \"Bar\", \"\", \"Close\",\"5\",\"0\",\"PrimaryOnly\",,,\"False\",\"T\",\"EveryTick\")","v":1.1786000000000001},-1.9476670336184001E-3,{"$f":"RTD(\"cqg.rtd\",,\"StudyData\", \"Close(\"&$D$12&\") when LocalYear(\"&$D$12&\")=\"&$D$5&\" and localMonth(\"&$D$12&\") =\"&$E$5&\" and LocalDay(\"&$D$12&\")=\"&$F$5&\" and Barix(\"&$D$12&\",reference:=StartOfSession)=\"&A41&\"\", \"Bar\", \"\", \"Close\",\"5\",\"0\",\"PrimaryOnly\",,,\"False\",\"T\",\"EveryTick\")","v":1.1810499999999999},4.6590427784822392E-4,{"$f":"RTD(\"cqg.rtd\",,\"StudyData\", \"Close(\"&$D$12&\") when LocalYear(\"&$D$12&\")=\"&$D$6&\" and localMonth(\"&$D$12&\") =\"&$E$6&\" and LocalDay(\"&$D$12&\")=\"&$F$6&\" and Barix(\"&$D$12&\",reference:=StartOfSession)=\"&A41&\"\", \"Bar\", \"\", \"Close\",\"5\",\"0\",\"PrimaryOnly\",,,\"False\",\"T\",\"EveryTick\")","v":1.1802999999999999},5.2806404905885217E-3,{"$f":"RTD(\"cqg.rtd\",,\"StudyData\", \"Close(\"&$D$12&\") when LocalYear(\"&$D$12&\")=\"&$D$7&\" and localMonth(\"&$D$12&\") =\"&$E$7&\" and LocalDay(\"&$D$12&\")=\"&$F$7&\" and Barix(\"&$D$12&\",reference:=StartOfSession)=\"&A41&\"\", \"Bar\", \"\", \"Close\",\"5\",\"0\",\"PrimaryOnly\",,,\"False\",\"T\",\"EveryTick\")","v":1.1756500000000001},3.5853002688975041E-3,{"$f":"RTD(\"cqg.rtd\",,\"StudyData\", \"Close(\"&$D$12&\") when LocalYear(\"&$D$12&\")=\"&$D$8&\" and localMonth(\"&$D$12&\") =\"&$E$8&\" and LocalDay(\"&$D$12&\")=\"&$F$8&\" and Barix(\"&$D$12&\",reference:=StartOfSession)=\"&A41&\"\", \"Bar\", \"\", \"Close\",\"5\",\"0\",\"PrimaryOnly\",,,\"False\",\"T\",\"EveryTick\")","v":1.1709499999999999},2.99798706582709E-3,{"$f":"RTD(\"cqg.rtd\",,\"StudyData\", \"Close(\"&$D$12&\") when LocalYear(\"&$D$12&\")=\"&$D$9&\" and localMonth(\"&$D$12&\") =\"&$E$9&\" and LocalDay(\"&$D$12&\")=\"&$F$9&\" and Barix(\"&$D$12&\",reference:=StartOfSession)=\"&A41&\"\", \"Bar\", \"\", \"Close\",\"5\",\"0\",\"PrimaryOnly\",,,\"False\",\"T\",\"EveryTick\")","v":1.1748000000000001},9.7984918842924582E-4,{"$f":"RTD(\"cqg.rtd\",,\"StudyData\", \"Close(\"&$D$12&\") when LocalYear(\"&$D$12&\")=\"&$D$10&\" and localMonth(\"&$D$12&\") =\"&$E$10&\" and LocalDay(\"&$D$12&\")=\"&$F$10&\" and Barix(\"&$D$12&\",reference:=StartOfSession)=\"&A41&\"\", \"Bar\", \"\", \"Close\",\"5\",\"0\",\"PrimaryOnly\",,,\"False\",\"T\",\"EveryTick\")","v":1.1648499999999999},2.1508151589451946E-3,null,null,null,""]
[221,"11:25:00",-36,{"$f":" RTD(\"cqg.rtd\",,\"StudyData\", $D$12,  \"Tick\", \"FlatTicks=0\", \"Tick\",\"D\",C42,\"PrimaryOnly\")","v":1.1714500000000001},null,"JY6",null,{"$f":"RTD(\"cqg.rtd\",,\"StudyData\", \"Close(\"&$D$12&\") when LocalYear(\"&$D$12&\")=\"&$D$1&\" and localMonth(\"&$D$12&\") =\"&$E$1&\" and LocalDay(\"&$D$12&\")=\"&$F$1&\" and Barix(\"&$D$12&\",reference:=StartOfSession)=\"&A42&\"\", \"Bar\", \"\", \"Close\",\"5\",\"0\",\"PrimaryOnly\",,,\"False\",\"T\",\"EveryTick\")","v":""},{"$error":"#N/A"},{"$f":"RTD(\"cqg.rtd\",,\"StudyData\", \"Close(\"&$D$12&\") when LocalYear(\"&$D$12&\")=\"&$D$2&\" and localMonth(\"&$D$12&\") =\"&$E$2&\" and LocalDay(\"&$D$12&\")=\"&$F$2&\" and Barix(\"&$D$12&\",reference:=StartOfSession)=\"&A42&\"\", \"Bar\", \"\", \"Close\",\"5\",\"0\",\"PrimaryOnly\",,,\"False\",\"T\",\"EveryTick\")","v":1.17425},1.0656436487638307E-3,{"$f":"RTD(\"cqg.rtd\",,\"StudyData\", \"Close(\"&$D$12&\") when LocalYear(\"&$D$12&\")=\"&$D$3&\" and localMonth(\"&$D$12&\") =\"&$E$3&\" and LocalDay(\"&$D$12&\")=\"&$F$3&\" and Barix(\"&$D$12&\",reference:=StartOfSession)=\"&A42&\"\", \"Bar\", \"\", \"Close\",\"5\",\"0\",\"PrimaryOnly\",,,\"False\",\"T\",\"EveryTick\")","v":1.1766000000000001},-3.2192477126396172E-3,{"$f":"RTD(\"cqg.rtd\",,\"StudyData\", \"Close(\"&$D$12&\") when LocalYear(\"&$D$12&\")=\"&$D$4&\" and localMonth(\"&$D$12&\") =\"&$E$4&\" and LocalDay(\"&$D$12&\")=\"&$F$4&\" and Barix(\"&$D$12&\",reference:=StartOfSession)=\"&A42&\"\", \"Bar\", \"\", \"Close\",\"5\",\"0\",\"PrimaryOnly\",,,\"False\",\"T\",\"EveryTick\")","v":1.1794},-1.270217630620761E-3,{"$f":"RTD(\"cqg.rtd\",,\"StudyData\", \"Close(\"&$D$12&\") when LocalYear(\"&$D$12&\")=\"&$D$5&\" and localMonth(\"&$D$12&\") =\"&$E$5&\" and LocalDay(\"&$D$12&\")=\"&$F$5&\" and Barix(\"&$D$12&\",reference:=StartOfSession)=\"&A42&\"\", \"Bar\", \"\", \"Close\",\"5\",\"0\",\"PrimaryOnly\",,,\"False\",\"T\",\"EveryTick\")","v":1.181},4.2354934349847088E-4,{"$f":"RTD(\"cqg.rtd\",,\"StudyData\", \"Close(\"&$D$12&\") when LocalYear(\"&$D$12&\")=\"&$D$6&\" and localMonth(\"&$D$12&\") =\"&$E$6&\" and LocalDay(\"&$D$12&\")=\"&$F$6&\" and Barix(\"&$D$12&\",reference:=StartOfSession)=\"&A42&\"\", \"Bar\", \"\", \"Close\",\"5\",\"0\",\"PrimaryOnly\",,,\"False\",\"T\",\"EveryTick\")","v":1.1797},4.7696107656929132E-3,{"$f":"RTD(\"cqg.rtd\",,\"StudyData\", \"Close(\"&$D$12&\") when LocalYear(\"&$D$12&\")=\"&$D$7&\" and localMonth(\"&$D$12&\") =\"&$E$7&\" and LocalDay(\"&$D$12&\")=\"&$F$7&\" and Barix(\"&$D$12&\",reference:=StartOfSession)=\"&A42&\"\", \"Bar\", \"\", \"Close\",\"5\",\"0\",\"PrimaryOnly\",,,\"False\",\"T\",\"EveryTick\")","v":1.1756500000000001},3.5853002688975041E-3,{"$f":"RTD(\"cqg.rtd\",,\"StudyData\", \"Close(\"&$D$12&\") when LocalYear(\"&$D$12&\")=\"&$D$8&\" and localMonth(\"&$D$12&\") =\"&$E$8&\" and LocalDay(\"&$D$12&\")=\"&$F$8&\" and Barix(\"&$D$12&\",reference:=StartOfSession)=\"&A42&\"\", \"Bar\", \"\", \"Close\",\"5\",\"0\",\"PrimaryOnly\",,,\"False\",\"T\",\"EveryTick\")","v":1.1709000000000001},2.9551586791725154E-3,{"$f":"RTD(\"cqg.rtd\",,\"StudyData\", \"Close(\"&$D$12&\") when LocalYear(\"&$D$12&\")=\"&$D$9&\" and localMonth(\"&$D$12&\") =\"&$E$9&\" and LocalDay(\"&$D$12&\")=\"&$F$9&\" and Barix(\"&$D$12&\",reference:=StartOfSession)=\"&A42&\"\", \"Bar\", \"\", \"Close\",\"5\",\"0\",\"PrimaryOnly\",,,\"False\",\"T\",\"EveryTick\")","v":1.1742999999999999},5.538278021555126E-4,{"$f":"RTD(\"cqg.rtd\",,\"StudyData\", \"Close(\"&$D$12&\") when LocalYear(\"&$D$12&\")=\"&$D$10&\" and localMonth(\"&$D$12&\") =\"&$E$10&\" and LocalDay(\"&$D$12&\")=\"&$F$10&\" and Barix(\"&$D$12&\",reference:=StartOfSession)=\"&A42&\"\", \"Bar\", \"\", \"Close\",\"5\",\"0\",\"PrimaryOnly\",,,\"False\",\"T\",\"EveryTick\")","v":1.1649499999999999},2.2368477653029947E-3,null,null,null,""]
[222,"11:30:00",-35,{"$f":" RTD(\"cqg.rtd\",,\"StudyData\", $D$12,  \"Tick\", \"FlatTicks=0\", \"Tick\",\"D\",C43,\"PrimaryOnly\")","v":1.1715},null,"MX6",null,{"$f":"RTD(\"cqg.rtd\",,\"StudyData\", \"Close(\"&$D$12&\") when LocalYear(\"&$D$12&\")=\"&$D$1&\" and localMonth(\"&$D$12&\") =\"&$E$1&\" and LocalDay(\"&$D$12&\")=\"&$F$1&\" and Barix(\"&$D$12&\",reference:=StartOfSession)=\"&A43&\"\", \"Bar\", \"\", \"Close\",\"5\",\"0\",\"PrimaryOnly\",,,\"False\",\"T\",\"EveryTick\")","v":""},{"$error":"#N/A"},{"$f":"RTD(\"cqg.rtd\",,\"StudyData\", \"Close(\"&$D$12&\") when LocalYear(\"&$D$12&\")=\"&$D$2&\" and localMonth(\"&$D$12&\") =\"&$E$2&\" and LocalDay(\"&$D$12&\")=\"&$F$2&\" and Barix(\"&$D$12&\",reference:=StartOfSession)=\"&A43&\"\", \"Bar\", \"\", \"Close\",\"5\",\"0\",\"PrimaryOnly\",,,\"False\",\"T\",\"EveryTick\")","v":1.1738},6.82011935208791E-4,{"$f":"RTD(\"cqg.rtd\",,\"StudyData\", \"Close(\"&$D$12&\") when LocalYear(\"&$D$12&\")=\"&$D$3&\" and localMonth(\"&$D$12&\") =\"&$E$3&\" and LocalDay(\"&$D$12&\")=\"&$F$3&\" and Barix(\"&$D$12&\",reference:=StartOfSession)=\"&A43&\"\", \"Bar\", \"\", \"Close\",\"5\",\"0\",\"PrimaryOnly\",,,\"False\",\"T\",\"EveryTick\")","v":1.17645},-3.3463232802438988E-3,{"$f":"RTD(\"cqg.rtd\",,\"StudyData\", \"Close(\"&$D$12&\") when LocalYear(\"&$D$12&\")=\"&$D$4&\" and localMonth(\"&$D$12&\") =\"&$E$4&\" and LocalDay(\"&$D$12&\")=\"&$F$4&\" and Barix(\"&$D$12&\",reference:=StartOfSession)=\"&A43&\"\", \"Bar\", \"\", \"Close\",\"5\",\"0\",\"PrimaryOnly\",,,\"False\",\"T\",\"EveryTick\")","v":1.1794},-1.270217630620761E-3,{"$f":"RTD(\"cqg.rtd\",,\"StudyData\", \"Close(\"&$D$12&\") when LocalYear(\"&$D$12&\")=\"&$D$5&\" and localMonth(\"&$D$12&\") =\"&$E$5&\" and LocalDay(\"&$D$12&\")=\"&$F$5&\" and Barix(\"&$D$12&\",reference:=StartOfSession)=\"&A43&\"\", \"Bar\", \"\", \"Close\",\"5\",\"0\",\"PrimaryOnly\",,,\"False\",\"T\",\"EveryTick\")","v":1.18055},4.2354934349753039E-5,{"$f":"RTD(\"cqg.rtd\",,\"StudyData\", \"Close(\"&$D$12&\") when LocalYear(\"&$D$12&\")=\"&$D$6&\" and localMonth(\"&$D$12&\") =\"&$E$6&\" and LocalDay(\"&$D$12&\")=\"&$F$6&\" and Barix(\"&$D$12&\",reference:=StartOfSession)=\"&A43&\"\", \"Bar\", \"\", \"Close\",\"5\",\"0\",\"PrimaryOnly\",,,\"False\",\"T\",\"EveryTick\")","v":1.1797},4.7696107656929132E-3,{"$f":"RTD(\"cqg.rtd\",,\"StudyData\", \"Close(\"&$D$12&\") when LocalYear(\"&$D$12&\")=\"&$D$7&\" and localMonth(\"&$D$12&\") =\"&$E$7&\" and LocalDay(\"&$D$12&\")=\"&$F$7&\" and Barix(\"&$D$12&\",reference:=StartOfSession)=\"&A43&\"\", \"Bar\", \"\", \"Close\",\"5\",\"0\",\"PrimaryOnly\",,,\"False\",\"T\",\"EveryTick\")","v":1.1755500000000001},3.4999359767809058E-3,{"$f":"RTD(\"cqg.rtd\",,\"StudyData\", \"Close(\"&$D$12&\") when LocalYear(\"&$D$12&\")=\"&$D$8&\" and localMonth(\"&$D$12&\") =\"&$E$8&\" and LocalDay(\"&$D$12&\")=\"&$F$8&\" and Barix(\"&$D$12&\",reference:=StartOfSession)=\"&A43&\"\", \"Bar\", \"\", \"Close\",\"5\",\"0\",\"PrimaryOnly\",,,\"False\",\"T\",\"EveryTick\")","v":1.1709499999999999},2.99798706582709E-3,{"$f":"RTD(\"cqg.rtd\",,\"StudyData\", \"Close(\"&$D$12&\") when LocalYear(\"&$D$12&\")=\"&$D$9&\" and localMonth(\"&$D$12&\") =\"&$E$9&\" and LocalDay(\"&$D$12&\")=\"&$F$9&\" and Barix(\"&$D$12&\",reference:=StartOfSession)=\"&A43&\"\", \"Bar\", \"\", \"Close\",\"5\",\"0\",\"PrimaryOnly\",,,\"False\",\"T\",\"EveryTick\")","v":1.1742999999999999},5.538278021555126E-4,{"$f":"RTD(\"cqg.rtd\",,\"StudyData\", \"Close(\"&$D$12&\") when LocalYear(\"&$D$12&\")=\"&$D$10&\" and localMonth(\"&$D$12&\") =\"&$E$10&\" and LocalDay(\"&$D$12&\")=\"&$F$10&\" and Barix(\"&$D$12&\",reference:=StartOfSession)=\"&A43&\"\", \"Bar\", \"\", \"Close\",\"5\",\"0\",\"PrimaryOnly\",,,\"False\",\"T\",\"EveryTick\")","v":1.1645000000000001},1.8497010366929894E-3,null,null,null,""]
[223,"11:35:00",-34,{"$f":" RTD(\"cqg.rtd\",,\"StudyData\", $D$12,  \"Tick\", \"FlatTicks=0\", \"Tick\",\"D\",C44,\"PrimaryOnly\")","v":1.1714500000000001},null,"SF6",null,{"$f":"RTD(\"cqg.rtd\",,\"StudyData\", \"Close(\"&$D$12&\") when LocalYear(\"&$D$12&\")=\"&$D$1&\" and localMonth(\"&$D$12&\") =\"&$E$1&\" and LocalDay(\"&$D$12&\")=\"&$F$1&\" and Barix(\"&$D$12&\",reference:=StartOfSession)=\"&A44&\"\", \"Bar\", \"\", \"Close\",\"5\",\"0\",\"PrimaryOnly\",,,\"False\",\"T\",\"EveryTick\")","v":""},{"$error":"#N/A"},{"$f":"RTD(\"cqg.rtd\",,\"StudyData\", \"Close(\"&$D$12&\") when LocalYear(\"&$D$12&\")=\"&$D$2&\" and localMonth(\"&$D$12&\") =\"&$E$2&\" and LocalDay(\"&$D$12&\")=\"&$F$2&\" and Barix(\"&$D$12&\",reference:=StartOfSession)=\"&A44&\"\", \"Bar\", \"\", \"Close\",\"5\",\"0\",\"PrimaryOnly\",,,\"False\",\"T\",\"EveryTick\")","v":1.1737500000000001},6.3938618925833625E-4,{"$f":"RTD(\"cqg.rtd\",,\"StudyData\", \"Close(\"&$D$12&\") when LocalYear(\"&$D$12&\")=\"&$D$3&\" and localMonth(\"&$D$12&\") =\"&$E$3&\" and LocalDay(\"&$D$12&\")=\"&$F$3&\" and Barix(\"&$D$12&\",reference:=StartOfSession)=\"&A44&\"\", \"Bar\", \"\", \"Close\",\"5\",\"0\",\"PrimaryOnly\",,,\"False\",\"T\",\"EveryTick\")","v":1.17655},-3.2616062351744405E-3,{"$f":"RTD(\"cqg.rtd\",,\"StudyData\", \"Close(\"&$D$12&\") when LocalYear(\"&$D$12&\")=\"&$D$4&\" and localMonth(\"&$D$12&\") =\"&$E$4&\" and LocalDay(\"&$D$12&\")=\"&$F$4&\" and Barix(\"&$D$12&\",reference:=StartOfSession)=\"&A44&\"\", \"Bar\", \"\", \"Close\",\"5\",\"0\",\"PrimaryOnly\",,,\"False\",\"T\",\"EveryTick\")","v":1.1794500000000001},-1.2278770429333147E-3,{"$f":"RTD(\"cqg.rtd\",,\"StudyData\", \"Close(\"&$D$12&\") when LocalYear(\"&$D$12&\")=\"&$D$5&\" and localMonth(\"&$D$12&\") =\"&$E$5&\" and LocalDay(\"&$D$12&\")=\"&$F$5&\" and Barix(\"&$D$12&\",reference:=StartOfSession)=\"&A44&\"\", \"Bar\", \"\", \"Close\",\"5\",\"0\",\"PrimaryOnly\",,,\"False\",\"T\",\"EveryTick\")","v":1.18055},4.2354934349753039E-5,{"$f":"RTD(\"cqg.rtd\",,\"StudyData\", \"Close(\"&$D$12&\") when LocalYear(\"&$D$12&\")=\"&$D$6&\" and localMonth(\"&$D$12&\") =\"&$E$6&\" and LocalDay(\"&$D$12&\")=\"&$F$6&\" and Barix(\"&$D$12&\",reference:=StartOfSession)=\"&A44&\"\", \"Bar\", \"\", \"Close\",\"5\",\"0\",\"PrimaryOnly\",,,\"False\",\"T\",\"EveryTick\")","v":1.1797},4.7696107656929132E-3,{"$f":"RTD(\"cqg.rtd\",,\"StudyData\", \"Close(\"&$D$12&\") when LocalYear(\"&$D$12&\")=\"&$D$7&\" and localMonth(\"&$D$12&\") =\"&$E$7&\" and LocalDay(\"&$D$12&\")=\"&$F$7&\" and Barix(\"&$D$12&\",reference:=StartOfSession)=\"&A44&\"\", \"Bar\", \"\", \"Close\",\"5\",\"0\",\"PrimaryOnly\",,,\"False\",\"T\",\"EveryTick\")","v":1.1756},3.5426181228391104E-3,{"$f":"RTD(\"cqg.rtd\",,\"StudyData\", \"Close(\"&$D$12&\") when LocalYear(\"&$D$12&\")=\"&$D$8&\" and localMonth(\"&$D$12&\") =\"&$E$8&\" and LocalDay(\"&$D$12&\")=\"&$F$8&\" and Barix(\"&$D$12&\",reference:=StartOfSession)=\"&A44&\"\", \"Bar\", \"\", \"Close\",\"5\",\"0\",\"PrimaryOnly\",,,\"False\",\"T\",\"EveryTick\")","v":1.1710499999999999},3.0836438391364301E-3,{"$f":"RTD(\"cqg.rtd\",,\"StudyData\", \"Close(\"&$D$12&\") when LocalYear(\"&$D$12&\")=\"&$D$9&\" and localMonth(\"&$D$12&\") =\"&$E$9&\" and LocalDay(\"&$D$12&\")=\"&$F$9&\" and Barix(\"&$D$12&\",reference:=StartOfSession)=\"&A44&\"\", \"Bar\", \"\", \"Close\",\"5\",\"0\",\"PrimaryOnly\",,,\"False\",\"T\",\"EveryTick\")","v":1.17445},6.8163421803767036E-4,{"$f":"RTD(\"cqg.rtd\",,\"StudyData\", \"Close(\"&$D$12&\") when LocalYear(\"&$D$12&\")=\"&$D$10&\" and localMonth(\"&$D$12&\") =\"&$E$10&\" and LocalDay(\"&$D$12&\")=\"&$F$10&\" and Barix(\"&$D$12&\",reference:=StartOfSession)=\"&A44&\"\", \"Bar\", \"\", \"Close\",\"5\",\"0\",\"PrimaryOnly\",,,\"False\",\"T\",\"EveryTick\")","v":1.1645000000000001},1.8497010366929894E-3,null,null,null,""]
[224,"11:40:00",-33,{"$f":" RTD(\"cqg.rtd\",,\"StudyData\", $D$12,  \"Tick\", \"FlatTicks=0\", \"Tick\",\"D\",C45,\"PrimaryOnly\")","v":1.1715},null,"NE6",null,{"$f":"RTD(\"cqg.rtd\",,\"StudyData\", \"Close(\"&$D$12&\") when LocalYear(\"&$D$12&\")=\"&$D$1&\" and localMonth(\"&$D$12&\") =\"&$E$1&\" and LocalDay(\"&$D$12&\")=\"&$F$1&\" and Barix(\"&$D$12&\",reference:=StartOfSession)=\"&A45&\"\", \"Bar\", \"\", \"Close\",\"5\",\"0\",\"PrimaryOnly\",,,\"False\",\"T\",\"EveryTick\")","v":""},{"$error":"#N/A"},{"$f":"RTD(\"cqg.rtd\",,\"StudyData\", \"Close(\"&$D$12&\") when LocalYear(\"&$D$12&\")=\"&$D$2&\" and localMonth(\"&$D$12&\") =\"&$E$2&\" and LocalDay(\"&$D$12&\")=\"&$F$2&\" and Barix(\"&$D$12&\",reference:=StartOfSession)=\"&A45&\"\", \"Bar\", \"\", \"Close\",\"5\",\"0\",\"PrimaryOnly\",,,\"False\",\"T\",\"EveryTick\")","v":1.1737500000000001},6.3938618925833625E-4,{"$f":"RTD(\"cqg.rtd\",,\"StudyData\", \"Close(\"&$D$12&\") when LocalYear(\"&$D$12&\")=\"&$D$3&\" and localMonth(\"&$D$12&\") =\"&$E$3&\" and LocalDay(\"&$D$12&\")=\"&$F$3&\" and Barix(\"&$D$12&\",reference:=StartOfSession)=\"&A45&\"\", \"Bar\", \"\", \"Close\",\"5\",\"0\",\"PrimaryOnly\",,,\"False\",\"T\",\"EveryTick\")","v":1.17625},-3.5157573703828164E-3,{"$f":"RTD(\"cqg.rtd\",,\"StudyData\", \"Close(\"&$D$12&\") when LocalYear(\"&$D$12&\")=\"&$D$4&\" and localMonth(\"&$D$12&\") =\"&$E$4&\" and LocalDay(\"&$D$12&\")=\"&$F$4&\" and Barix(\"&$D$12&\",reference:=StartOfSession)=\"&A45&\"\", \"Bar\", \"\", \"Close\",\"5\",\"0\",\"PrimaryOnly\",,,\"False\",\"T\",\"EveryTick\")","v":1.1792},-1.4395799813701707E-3,{"$f":"RTD(\"cqg.rtd\",,\"StudyData\", \"Close(\"&$D$12&\") when LocalYear(\"&$D$12&\")=\"&$D$5&\" and localMonth(\"&$D$12&\") =\"&$E$5&\" and LocalDay(\"&$D$12&\")=\"&$F$5&\" and Barix(\"&$D$12&\",reference:=StartOfSession)=\"&A45&\"\", \"Bar\", \"\", \"Close\",\"5\",\"0\",\"PrimaryOnly\",,,\"False\",\"T\",\"EveryTick\")","v":1.18035},-1.2706480304963531E-4,{"$f":"RTD(\"cqg.rtd\",,\"StudyData\", \"Close(\"&$D$12&\") when LocalYear(\"&$D$12&\")=\"&$D$6&\" and localMonth(\"&$D$12&\") =\"&$E$6&\" and LocalDay(\"&$D$12&\")=\"&$F$6&\" and Barix(\"&$D$12&\",reference:=StartOfSession)=\"&A45&\"\", \"Bar\", \"\", \"Close\",\"5\",\"0\",\"PrimaryOnly\",,,\"False\",\"T\",\"EveryTick\")","v":1.18025},5.2380546801806495E-3,{"$f":"RTD(\"cqg.rtd\",,\"StudyData\", \"Close(\"&$D$12&\") when LocalYear(\"&$D$12&\")=\"&$D$7&\" and localMonth(\"&$D$12&\") =\"&$E$7&\" and LocalDay(\"&$D$12&\")=\"&$F$7&\" and Barix(\"&$D$12&\",reference:=StartOfSession)=\"&A45&\"\", \"Bar\", \"\", \"Close\",\"5\",\"0\",\"PrimaryOnly\",,,\"False\",\"T\",\"EveryTick\")","v":1.1754},3.3718895386059137E-3,{"$f":"RTD(\"cqg.rtd\",,\"StudyData\", \"Close(\"&$D$12&\") when LocalYear(\"&$D$12&\")=\"&$D$8&\" and localMonth(\"&$D$12&\") =\"&$E$8&\" and LocalDay(\"&$D$12&\")=\"&$F$8&\" and Barix(\"&$D$12&\",reference:=StartOfSession)=\"&A45&\"\", \"Bar\", \"\", \"Close\",\"5\",\"0\",\"PrimaryOnly\",,,\"False\",\"T\",\"EveryTick\")","v":1.1712},3.2121289991005352E-3,{"$f":"RTD(\"cqg.rtd\",,\"StudyData\", \"Close(\"&$D$12&\") when LocalYear(\"&$D$12&\")=\"&$D$9&\" and localMonth(\"&$D$12&\") =\"&$E$9&\" and LocalDay(\"&$D$12&\")=\"&$F$9&\" and Barix(\"&$D$12&\",reference:=StartOfSession)=\"&A45&\"\", \"Bar\", \"\", \"Close\",\"5\",\"0\",\"PrimaryOnly\",,,\"False\",\"T\",\"EveryTick\")","v":1.1742999999999999},5.538278021555126E-4,{"$f":"RTD(\"cqg.rtd\",,\"StudyData\", \"Close(\"&$D$12&\") when LocalYear(\"&$D$12&\")=\"&$D$10&\" and localMonth(\"&$D$12&\") =\"&$E$10&\" and LocalDay(\"&$D$12&\")=\"&$F$10&\" and Barix(\"&$D$12&\",reference:=StartOfSession)=\"&A45&\"\", \"Bar\", \"\", \"Close\",\"5\",\"0\",\"PrimaryOnly\",,,\"False\",\"T\",\"EveryTick\")","v":1.1649},2.1938314621241899E-3,null,null,null,""]
[225,"11:45:00",-32,{"$f":" RTD(\"cqg.rtd\",,\"StudyData\", $D$12,  \"Tick\", \"FlatTicks=0\", \"Tick\",\"D\",C46,\"PrimaryOnly\")","v":1.1714},null,null,null,{"$f":"RTD(\"cqg.rtd\",,\"StudyData\", \"Close(\"&$D$12&\") when LocalYear(\"&$D$12&\")=\"&$D$1&\" and localMonth(\"&$D$12&\") =\"&$E$1&\" and LocalDay(\"&$D$12&\")=\"&$F$1&\" and Barix(\"&$D$12&\",reference:=StartOfSession)=\"&A46&\"\", \"Bar\", \"\", \"Close\",\"5\",\"0\",\"PrimaryOnly\",,,\"False\",\"T\",\"EveryTick\")","v":""},{"$error":"#N/A"},{"$f":"RTD(\"cqg.rtd\",,\"StudyData\", \"Close(\"&$D$12&\") when LocalYear(\"&$D$12&\")=\"&$D$2&\" and localMonth(\"&$D$12&\") =\"&$E$2&\" and LocalDay(\"&$D$12&\")=\"&$F$2&\" and Barix(\"&$D$12&\",reference:=StartOfSession)=\"&A46&\"\", \"Bar\", \"\", \"Close\",\"5\",\"0\",\"PrimaryOnly\",,,\"False\",\"T\",\"EveryTick\")","v":1.1738},6.82011935208791E-4,{"$f":"RTD(\"cqg.rtd\",,\"StudyData\", \"Close(\"&$D$12&\") when LocalYear(\"&$D$12&\")=\"&$D$3&\" and localMonth(\"&$D$12&\") =\"&$E$3&\" and LocalDay(\"&$D$12&\")=\"&$F$3&\" and Barix(\"&$D$12&\",reference:=StartOfSession)=\"&A46&\"\", \"Bar\", \"\", \"Close\",\"5\",\"0\",\"PrimaryOnly\",,,\"False\",\"T\",\"EveryTick\")","v":1.1760999999999999},-3.6428329379870985E-3,{"$f":"RTD(\"cqg.rtd\",,\"StudyData\", \"Close(\"&$D$12&\") when LocalYear(\"&$D$12&\")=\"&$D$4&\" and localMonth(\"&$D$12&\") =\"&$E$4&\" and LocalDay(\"&$D$12&\")=\"&$F$4&\" and Barix(\"&$D$12&\",reference:=StartOfSession)=\"&A46&\"\", \"Bar\", \"\", \"Close\",\"5\",\"0\",\"PrimaryOnly\",,,\"False\",\"T\",\"EveryTick\")","v":1.1790499999999999},-1.5666017444323221E-3,{"$f":"RTD(\"cqg.rtd\",,\"StudyData\", \"Close(\"&$D$12&\") when LocalYear(\"&$D$12&\")=\"&$D$5&\" and localMonth(\"&$D$12&\") =\"&$E$5&\" and LocalDay(\"&$D$12&\")=\"&$F$5&\" and Barix(\"&$D$12&\",reference:=StartOfSession)=\"&A46&\"\", \"Bar\", \"\", \"Close\",\"5\",\"0\",\"PrimaryOnly\",,,\"False\",\"T\",\"EveryTick\")","v":1.18065},1.2706480304944723E-4,{"$f":"RTD(\"cqg.rtd\",,\"StudyData\", \"Close(\"&$D$12&\") when LocalYear(\"&$D$12&\")=\"&$D$6&\" and localMonth(\"&$D$12&\") =\"&$E$6&\" and LocalDay(\"&$D$12&\")=\"&$F$6&\" and Barix(\"&$D$12&\",reference:=StartOfSession)=\"&A46&\"\", \"Bar\", \"\", \"Close\",\"5\",\"0\",\"PrimaryOnly\",,,\"False\",\"T\",\"EveryTick\")","v":1.18055},5.4935695426284537E-3,{"$f":"RTD(\"cqg.rtd\",,\"StudyData\", \"Close(\"&$D$12&\") when LocalYear(\"&$D$12&\")=\"&$D$7&\" and localMonth(\"&$D$12&\") =\"&$E$7&\" and LocalDay(\"&$D$12&\")=\"&$F$7&\" and Barix(\"&$D$12&\",reference:=StartOfSession)=\"&A46&\"\", \"Bar\", \"\", \"Close\",\"5\",\"0\",\"PrimaryOnly\",,,\"False\",\"T\",\"EveryTick\")","v":1.1755500000000001},3.4999359767809058E-3,{"$f":"RTD(\"cqg.rtd\",,\"StudyData\", \"Close(\"&$D$12&\") when LocalYear(\"&$D$12&\")=\"&$D$8&\" and localMonth(\"&$D$12&\") =\"&$E$8&\" and LocalDay(\"&$D$12&\")=\"&$F$8&\" and Barix(\"&$D$12&\",reference:=StartOfSession)=\"&A46&\"\", \"Bar\", \"\", \"Close\",\"5\",\"0\",\"PrimaryOnly\",,,\"False\",\"T\",\"EveryTick\")","v":1.1712499999999999},3.2549573857551099E-3,{"$f":"RTD(\"cqg.rtd\",,\"StudyData\", \"Close(\"&$D$12&\") when LocalYear(\"&$D$12&\")=\"&$D$9&\" and localMonth(\"&$D$12&\") =\"&$E$9&\" and LocalDay(\"&$D$12&\")=\"&$F$9&\" and Barix(\"&$D$12&\",reference:=StartOfSession)=\"&A46&\"\", \"Bar\", \"\", \"Close\",\"5\",\"0\",\"PrimaryOnly\",,,\"False\",\"T\",\"EveryTick\")","v":1.17455},7.6683849529237921E-4,{"$f":"RTD(\"cqg.rtd\",,\"StudyData\", \"Close(\"&$D$12&\") when LocalYear(\"&$D$12&\")=\"&$D$10&\" and localMonth(\"&$D$12&\") =\"&$E$10&\" and LocalDay(\"&$D$12&\")=\"&$F$10&\" and Barix(\"&$D$12&\",reference:=StartOfSession)=\"&A46&\"\", \"Bar\", \"\", \"Close\",\"5\",\"0\",\"PrimaryOnly\",,,\"False\",\"T\",\"EveryTick\")","v":1.16465},1.9787499462295939E-3,null,null,null,""]
[226,"11:50:00",-31,{"$f":" RTD(\"cqg.rtd\",,\"StudyData\", $D$12,  \"Tick\", \"FlatTicks=0\", \"Tick\",\"D\",C47,\"PrimaryOnly\")","v":1.1714500000000001},null,null,null,{"$f":"RTD(\"cqg.rtd\",,\"StudyData\", \"Close(\"&$D$12&\") when LocalYear(\"&$D$12&\")=\"&$D$1&\" and localMonth(\"&$D$12&\") =\"&$E$1&\" and LocalDay(\"&$D$12&\")=\"&$F$1&\" and Barix(\"&$D$12&\",reference:=StartOfSession)=\"&A47&\"\", \"Bar\", \"\", \"Close\",\"5\",\"0\",\"PrimaryOnly\",,,\"False\",\"T\",\"EveryTick\")","v":""},{"$error":"#N/A"},{"$f":"RTD(\"cqg.rtd\",,\"StudyData\", \"Close(\"&$D$12&\") when LocalYear(\"&$D$12&\")=\"&$D$2&\" and localMonth(\"&$D$12&\") =\"&$E$2&\" and LocalDay(\"&$D$12&\")=\"&$F$2&\" and Barix(\"&$D$12&\",reference:=StartOfSession)=\"&A47&\"\", \"Bar\", \"\", \"Close\",\"5\",\"0\",\"PrimaryOnly\",,,\"False\",\"T\",\"EveryTick\")","v":1.1737},5.9676044330769209E-4,{"$f":"RTD(\"cqg.rtd\",,\"StudyData\", \"Close(\"&$D$12&\") when LocalYear(\"&$D$12&\")=\"&$D$3&\" and localMonth(\"&$D$12&\") =\"&$E$3&\" and LocalDay(\"&$D$12&\")=\"&$F$3&\" and Barix(\"&$D$12&\",reference:=StartOfSession)=\"&A47&\"\", \"Bar\", \"\", \"Close\",\"5\",\"0\",\"PrimaryOnly\",,,\"False\",\"T\",\"EveryTick\")","v":1.1756},-4.0664181633343916E-3,{"$f":"RTD(\"cqg.rtd\",,\"StudyData\", \"Close(\"&$D$12&\") when LocalYear(\"&$D$12&\")=\"&$D$4&\" and localMonth(\"&$D$12&\") =\"&$E$4&\" and LocalDay(\"&$D$12&\")=\"&$F$4&\" and Barix(\"&$D$12&\",reference:=StartOfSession)=\"&A47&\"\", \"Bar\", \"\", \"Close\",\"5\",\"0\",\"PrimaryOnly\",,,\"False\",\"T\",\"EveryTick\")","v":1.1794},-1.270217630620761E-3,{"$f":"RTD(\"cqg.rtd\",,\"StudyData\", \"Close(\"&$D$12&\") when LocalYear(\"&$D$12&\")=\"&$D$5&\" and localMonth(\"&$D$12&\") =\"&$E$5&\" and LocalDay(\"&$D$12&\")=\"&$F$5&\" and Barix(\"&$D$12&\",reference:=StartOfSession)=\"&A47&\"\", \"Bar\", \"\", \"Close\",\"5\",\"0\",\"PrimaryOnly\",,,\"False\",\"T\",\"EveryTick\")","v":1.18045},-4.2354934349941135E-5,{"$f":"RTD(\"cqg.rtd\",,\"StudyData\", \"Close(\"&$D$12&\") when LocalYear(\"&$D$12&\")=\"&$D$6&\" and localMonth(\"&$D$12&\") =\"&$E$6&\" and LocalDay(\"&$D$12&\")=\"&$F$6&\" and Barix(\"&$D$12&\",reference:=StartOfSession)=\"&A47&\"\", \"Bar\", \"\", \"Close\",\"5\",\"0\",\"PrimaryOnly\",,,\"False\",\"T\",\"EveryTick\")","v":1.1806000000000001},5.536155353036515E-3,{"$f":"RTD(\"cqg.rtd\",,\"StudyData\", \"Close(\"&$D$12&\") when LocalYear(\"&$D$12&\")=\"&$D$7&\" and localMonth(\"&$D$12&\") =\"&$E$7&\" and LocalDay(\"&$D$12&\")=\"&$F$7&\" and Barix(\"&$D$12&\",reference:=StartOfSession)=\"&A47&\"\", \"Bar\", \"\", \"Close\",\"5\",\"0\",\"PrimaryOnly\",,,\"False\",\"T\",\"EveryTick\")","v":1.1759500000000001},3.8413931452472988E-3,{"$f":"RTD(\"cqg.rtd\",,\"StudyData\", \"Close(\"&$D$12&\") when LocalYear(\"&$D$12&\")=\"&$D$8&\" and localMonth(\"&$D$12&\") =\"&$E$8&\" and LocalDay(\"&$D$12&\")=\"&$F$8&\" and Barix(\"&$D$12&\",reference:=StartOfSession)=\"&A47&\"\", \"Bar\", \"\", \"Close\",\"5\",\"0\",\"PrimaryOnly\",,,\"False\",\"T\",\"EveryTick\")","v":1.1712499999999999},3.2549573857551099E-3,{"$f":"RTD(\"cqg.rtd\",,\"StudyData\", \"Close(\"&$D$12&\") when LocalYear(\"&$D$12&\")=\"&$D$9&\" and localMonth(\"&$D$12&\") =\"&$E$9&\" and LocalDay(\"&$D$12&\")=\"&$F$9&\" and Barix(\"&$D$12&\",reference:=StartOfSession)=\"&A47&\"\", \"Bar\", \"\", \"Close\",\"5\",\"0\",\"PrimaryOnly\",,,\"False\",\"T\",\"EveryTick\")","v":1.17435},5.9642994078296162E-4,{"$f":"RTD(\"cqg.rtd\",,\"StudyData\", \"Close(\"&$D$12&\") when LocalYear(\"&$D$12&\")=\"&$D$10&\" and localMonth(\"&$D$12&\") =\"&$E$10&\" and LocalDay(\"&$D$12&\")=\"&$F$10&\" and Barix(\"&$D$12&\",reference:=StartOfSession)=\"&A47&\"\", \"Bar\", \"\", \"Close\",\"5\",\"0\",\"PrimaryOnly\",,,\"False\",\"T\",\"EveryTick\")","v":1.1649499999999999},2.2368477653029947E-3,null,null,null,""]
[227,"11:55:00",-30,{"$f":" RTD(\"cqg.rtd\",,\"StudyData\", $D$12,  \"Tick\", \"FlatTicks=0\", \"Tick\",\"D\",C48,\"PrimaryOnly\")","v":1.1715},null,null,null,{"$f":"RTD(\"cqg.rtd\",,\"StudyData\", \"Close(\"&$D$12&\") when LocalYear(\"&$D$12&\")=\"&$D$1&\" and localMonth(\"&$D$12&\") =\"&$E$1&\" and LocalDay(\"&$D$12&\")=\"&$F$1&\" and Barix(\"&$D$12&\",reference:=StartOfSession)=\"&A48&\"\", \"Bar\", \"\", \"Close\",\"5\",\"0\",\"PrimaryOnly\",,,\"False\",\"T\",\"EveryTick\")","v":""},{"$error":"#N/A"},{"$f":"RTD(\"cqg.rtd\",,\"StudyData\", \"Close(\"&$D$12&\") when LocalYear(\"&$D$12&\")=\"&$D$2&\" and localMonth(\"&$D$12&\") =\"&$E$2&\" and LocalDay(\"&$D$12&\")=\"&$F$2&\" and Barix(\"&$D$12&\",reference:=StartOfSession)=\"&A48&\"\", \"Bar\", \"\", \"Close\",\"5\",\"0\",\"PrimaryOnly\",,,\"False\",\"T\",\"EveryTick\")","v":1.1737},5.9676044330769209E-4,{"$f":"RTD(\"cqg.rtd\",,\"StudyData\", \"Close(\"&$D$12&\") when LocalYear(\"&$D$12&\")=\"&$D$3&\" and localMonth(\"&$D$12&\") =\"&$E$3&\" and LocalDay(\"&$D$12&\")=\"&$F$3&\" and Barix(\"&$D$12&\",reference:=StartOfSession)=\"&A48&\"\", \"Bar\", \"\", \"Close\",\"5\",\"0\",\"PrimaryOnly\",,,\"False\",\"T\",\"EveryTick\")","v":1.1757},-3.9817011182649333E-3,{"$f":"RTD(\"cqg.rtd\",,\"StudyData\", \"Close(\"&$D$12&\") when LocalYear(\"&$D$12&\")=\"&$D$4&\" and localMonth(\"&$D$12&\") =\"&$E$4&\" and LocalDay(\"&$D$12&\")=\"&$F$4&\" and Barix(\"&$D$12&\",reference:=StartOfSession)=\"&A48&\"\", \"Bar\", \"\", \"Close\",\"5\",\"0\",\"PrimaryOnly\",,,\"False\",\"T\",\"EveryTick\")","v":1.1791499999999999},-1.4819205690576173E-3,{"$f":"RTD(\"cqg.rtd\",,\"StudyData\", \"Close(\"&$D$12&\") when LocalYear(\"&$D$12&\")=\"&$D$5&\" and localMonth(\"&$D$12&\") =\"&$E$5&\" and LocalDay(\"&$D$12&\")=\"&$F$5&\" and Barix(\"&$D$12&\",reference:=StartOfSession)=\"&A48&\"\", \"Bar\", \"\", \"Close\",\"5\",\"0\",\"PrimaryOnly\",,,\"False\",\"T\",\"EveryTick\")","v":1.18075},2.1177467174914139E-4,{"$f":"RTD(\"cqg.rtd\",,\"StudyData\", \"Close(\"&$D$12&\") when LocalYear(\"&$D$12&\")=\"&$D$6&\" and localMonth(\"&$D$12&\") =\"&$E$6&\" and LocalDay(\"&$D$12&\")=\"&$F$6&\" and Barix(\"&$D$12&\",reference:=StartOfSession)=\"&A48&\"\", \"Bar\", \"\", \"Close\",\"5\",\"0\",\"PrimaryOnly\",,,\"False\",\"T\",\"EveryTick\")","v":1.18065},5.5787411634443881E-3,{"$f":"RTD(\"cqg.rtd\",,\"StudyData\", \"Close(\"&$D$12&\") when LocalYear(\"&$D$12&\")=\"&$D$7&\" and localMonth(\"&$D$12&\") =\"&$E$7&\" and LocalDay(\"&$D$12&\")=\"&$F$7&\" and Barix(\"&$D$12&\",reference:=StartOfSession)=\"&A48&\"\", \"Bar\", \"\", \"Close\",\"5\",\"0\",\"PrimaryOnly\",,,\"False\",\"T\",\"EveryTick\")","v":1.1758999999999999},3.7987109991889046E-3,{"$f":"RTD(\"cqg.rtd\",,\"StudyData\", \"Close(\"&$D$12&\") when LocalYear(\"&$D$12&\")=\"&$D$8&\" and localMonth(\"&$D$12&\") =\"&$E$8&\" and LocalDay(\"&$D$12&\")=\"&$F$8&\" and Barix(\"&$D$12&\",reference:=StartOfSession)=\"&A48&\"\", \"Bar\", \"\", \"Close\",\"5\",\"0\",\"PrimaryOnly\",,,\"False\",\"T\",\"EveryTick\")","v":1.1714500000000001},3.42627093237398E-3,{"$f":"RTD(\"cqg.rtd\",,\"StudyData\", \"Close(\"&$D$12&\") when LocalYear(\"&$D$12&\")=\"&$D$9&\" and localMonth(\"&$D$12&\") =\"&$E$9&\" and LocalDay(\"&$D$12&\")=\"&$F$9&\" and Barix(\"&$D$12&\",reference:=StartOfSession)=\"&A48&\"\", \"Bar\", \"\", \"Close\",\"5\",\"0\",\"PrimaryOnly\",,,\"False\",\"T\",\"EveryTick\")","v":1.17445},6.8163421803767036E-4,{"$f":"RTD(\"cqg.rtd\",,\"StudyData\", \"Close(\"&$D$12&\") when LocalYear(\"&$D$12&\")=\"&$D$10&\" and localMonth(\"&$D$12&\") =\"&$E$10&\" and LocalDay(\"&$D$12&\")=\"&$F$10&\" and Barix(\"&$D$12&\",reference:=StartOfSession)=\"&A48&\"\", \"Bar\", \"\", \"Close\",\"5\",\"0\",\"PrimaryOnly\",,,\"False\",\"T\",\"EveryTick\")","v":1.1651},2.3658966748397901E-3,null,null,null,""]
[228,"12:00:00",-29,{"$f":" RTD(\"cqg.rtd\",,\"StudyData\", $D$12,  \"Tick\", \"FlatTicks=0\", \"Tick\",\"D\",C49,\"PrimaryOnly\")","v":1.1715500000000001},null,null,null,{"$f":"RTD(\"cqg.rtd\",,\"StudyData\", \"Close(\"&$D$12&\") when LocalYear(\"&$D$12&\")=\"&$D$1&\" and localMonth(\"&$D$12&\") =\"&$E$1&\" and LocalDay(\"&$D$12&\")=\"&$F$1&\" and Barix(\"&$D$12&\",reference:=StartOfSession)=\"&A49&\"\", \"Bar\", \"\", \"Close\",\"5\",\"0\",\"PrimaryOnly\",,,\"False\",\"T\",\"EveryTick\")","v":""},{"$error":"#N/A"},{"$f":"RTD(\"cqg.rtd\",,\"StudyData\", \"Close(\"&$D$12&\") when LocalYear(\"&$D$12&\")=\"&$D$2&\" and localMonth(\"&$D$12&\") =\"&$E$2&\" and LocalDay(\"&$D$12&\")=\"&$F$2&\" and Barix(\"&$D$12&\",reference:=StartOfSession)=\"&A49&\"\", \"Bar\", \"\", \"Close\",\"5\",\"0\",\"PrimaryOnly\",,,\"False\",\"T\",\"EveryTick\")","v":1.1740999999999999},9.377664109120877E-4,{"$f":"RTD(\"cqg.rtd\",,\"StudyData\", \"Close(\"&$D$12&\") when LocalYear(\"&$D$12&\")=\"&$D$3&\" and localMonth(\"&$D$12&\") =\"&$E$3&\" and LocalDay(\"&$D$12&\")=\"&$F$3&\" and Barix(\"&$D$12&\",reference:=StartOfSession)=\"&A49&\"\", \"Bar\", \"\", \"Close\",\"5\",\"0\",\"PrimaryOnly\",,,\"False\",\"T\",\"EveryTick\")","v":1.1746000000000001},-4.9135886140289778E-3,{"$f":"RTD(\"cqg.rtd\",,\"StudyData\", \"Close(\"&$D$12&\") when LocalYear(\"&$D$12&\")=\"&$D$4&\" and localMonth(\"&$D$12&\") =\"&$E$4&\" and LocalDay(\"&$D$12&\")=\"&$F$4&\" and Barix(\"&$D$12&\",reference:=StartOfSession)=\"&A49&\"\", \"Bar\", \"\", \"Close\",\"5\",\"0\",\"PrimaryOnly\",,,\"False\",\"T\",\"EveryTick\")","v":1.1794500000000001},-1.2278770429333147E-3,{"$f":"RTD(\"cqg.rtd\",,\"StudyData\", \"Close(\"&$D$12&\") when LocalYear(\"&$D$12&\")=\"&$D$5&\" and localMonth(\"&$D$12&\") =\"&$E$5&\" and LocalDay(\"&$D$12&\")=\"&$F$5&\" and Barix(\"&$D$12&\",reference:=StartOfSession)=\"&A49&\"\", \"Bar\", \"\", \"Close\",\"5\",\"0\",\"PrimaryOnly\",,,\"False\",\"T\",\"EveryTick\")","v":1.18045},-4.2354934349941135E-5,{"$f":"RTD(\"cqg.rtd\",,\"StudyData\", \"Close(\"&$D$12&\") when LocalYear(\"&$D$12&\")=\"&$D$6&\" and localMonth(\"&$D$12&\") =\"&$E$6&\" and LocalDay(\"&$D$12&\")=\"&$F$6&\" and Barix(\"&$D$12&\",reference:=StartOfSession)=\"&A49&\"\", \"Bar\", \"\", \"Close\",\"5\",\"0\",\"PrimaryOnly\",,,\"False\",\"T\",\"EveryTick\")","v":1.1807000000000001},5.6213269738524503E-3,{"$f":"RTD(\"cqg.rtd\",,\"StudyData\", \"Close(\"&$D$12&\") when LocalYear(\"&$D$12&\")=\"&$D$7&\" and localMonth(\"&$D$12&\") =\"&$E$7&\" and LocalDay(\"&$D$12&\")=\"&$F$7&\" and Barix(\"&$D$12&\",reference:=StartOfSession)=\"&A49&\"\", \"Bar\", \"\", \"Close\",\"5\",\"0\",\"PrimaryOnly\",,,\"False\",\"T\",\"EveryTick\")","v":1.1758},3.7133467070723067E-3,{"$f":"RTD(\"cqg.rtd\",,\"StudyData\", \"Close(\"&$D$12&\") when LocalYear(\"&$D$12&\")=\"&$D$8&\" and localMonth(\"&$D$12&\") =\"&$E$8&\" and LocalDay(\"&$D$12&\")=\"&$F$8&\" and Barix(\"&$D$12&\",reference:=StartOfSession)=\"&A49&\"\", \"Bar\", \"\", \"Close\",\"5\",\"0\",\"PrimaryOnly\",,,\"False\",\"T\",\"EveryTick\")","v":1.1716},3.5547560923378952E-3,{"$f":"RTD(\"cqg.rtd\",,\"StudyData\", \"Close(\"&$D$12&\") when LocalYear(\"&$D$12&\")=\"&$D$9&\" and localMonth(\"&$D$12&\") =\"&$E$9&\" and LocalDay(\"&$D$12&\")=\"&$F$9&\" and Barix(\"&$D$12&\",reference:=StartOfSession)=\"&A49&\"\", \"Bar\", \"\", \"Close\",\"5\",\"0\",\"PrimaryOnly\",,,\"False\",\"T\",\"EveryTick\")","v":1.1748499999999999},1.0224513270565055E-3,{"$f":"RTD(\"cqg.rtd\",,\"StudyData\", \"Close(\"&$D$12&\") when LocalYear(\"&$D$12&\")=\"&$D$10&\" and localMonth(\"&$D$12&\") =\"&$E$10&\" and LocalDay(\"&$D$12&\")=\"&$F$10&\" and Barix(\"&$D$12&\",reference:=StartOfSession)=\"&A49&\"\", \"Bar\", \"\", \"Close\",\"5\",\"0\",\"PrimaryOnly\",,,\"False\",\"T\",\"EveryTick\")","v":1.1649499999999999},2.2368477653029947E-3,null,null,null,""]
[229,"12:05:00",-28,{"$f":" RTD(\"cqg.rtd\",,\"StudyData\", $D$12,  \"Tick\", \"FlatTicks=0\", \"Tick\",\"D\",C50,\"PrimaryOnly\")","v":1.1715},null,null,null,{"$f":"RTD(\"cqg.rtd\",,\"StudyData\", \"Close(\"&$D$12&\") when LocalYear(\"&$D$12&\")=\"&$D$1&\" and localMonth(\"&$D$12&\") =\"&$E$1&\" and LocalDay(\"&$D$12&\")=\"&$F$1&\" and Barix(\"&$D$12&\",reference:=StartOfSession)=\"&A50&\"\", \"Bar\", \"\", \"Close\",\"5\",\"0\",\"PrimaryOnly\",,,\"False\",\"T\",\"EveryTick\")","v":""},{"$error":"#N/A"},{"$f":"RTD(\"cqg.rtd\",,\"StudyData\", \"Close(\"&$D$12&\") when LocalYear(\"&$D$12&\")=\"&$D$2&\" and localMonth(\"&$D$12&\") =\"&$E$2&\" and LocalDay(\"&$D$12&\")=\"&$F$2&\" and Barix(\"&$D$12&\",reference:=StartOfSession)=\"&A50&\"\", \"Bar\", \"\", \"Close\",\"5\",\"0\",\"PrimaryOnly\",,,\"False\",\"T\",\"EveryTick\")","v":1.1737},5.9676044330769209E-4,{"$f":"RTD(\"cqg.rtd\",,\"StudyData\", \"Close(\"&$D$12&\") when LocalYear(\"&$D$12&\")=\"&$D$3&\" and localMonth(\"&$D$12&\") =\"&$E$3&\" and LocalDay(\"&$D$12&\")=\"&$F$3&\" and Barix(\"&$D$12&\",reference:=StartOfSession)=\"&A50&\"\", \"Bar\", \"\", \"Close\",\"5\",\"0\",\"PrimaryOnly\",,,\"False\",\"T\",\"EveryTick\")","v":1.1738},-5.5913249745848355E-3,{"$f":"RTD(\"cqg.rtd\",,\"StudyData\", \"Close(\"&$D$12&\") when LocalYear(\"&$D$12&\")=\"&$D$4&\" and localMonth(\"&$D$12&\") =\"&$E$4&\" and LocalDay(\"&$D$12&\")=\"&$F$4&\" and Barix(\"&$D$12&\",reference:=StartOfSession)=\"&A50&\"\", \"Bar\", \"\", \"Close\",\"5\",\"0\",\"PrimaryOnly\",,,\"False\",\"T\",\"EveryTick\")","v":1.1792},-1.4395799813701707E-3,{"$f":"RTD(\"cqg.rtd\",,\"StudyData\", \"Close(\"&$D$12&\") when LocalYear(\"&$D$12&\")=\"&$D$5&\" and localMonth(\"&$D$12&\") =\"&$E$5&\" and LocalDay(\"&$D$12&\")=\"&$F$5&\" and Barix(\"&$D$12&\",reference:=StartOfSession)=\"&A50&\"\", \"Bar\", \"\", \"Close\",\"5\",\"0\",\"PrimaryOnly\",,,\"False\",\"T\",\"EveryTick\")","v":1.1798500000000001},-5.5061414654810617E-4,{"$f":"RTD(\"cqg.rtd\",,\"StudyData\", \"Close(\"&$D$12&\") when LocalYear(\"&$D$12&\")=\"&$D$6&\" and localMonth(\"&$D$12&\") =\"&$E$6&\" and LocalDay(\"&$D$12&\")=\"&$F$6&\" and Barix(\"&$D$12&\",reference:=StartOfSession)=\"&A50&\"\", \"Bar\", \"\", \"Close\",\"5\",\"0\",\"PrimaryOnly\",,,\"False\",\"T\",\"EveryTick\")","v":1.1807000000000001},5.6213269738524503E-3,{"$f":"RTD(\"cqg.rtd\",,\"StudyData\", \"Close(\"&$D$12&\") when LocalYear(\"&$D$12&\")=\"&$D$7&\" and localMonth(\"&$D$12&\") =\"&$E$7&\" and LocalDay(\"&$D$12&\")=\"&$F$7&\" and Barix(\"&$D$12&\",reference:=StartOfSession)=\"&A50&\"\", \"Bar\", \"\", \"Close\",\"5\",\"0\",\"PrimaryOnly\",,,\"False\",\"T\",\"EveryTick\")","v":1.1752499999999999},3.2438431004309216E-3,{"$f":"RTD(\"cqg.rtd\",,\"StudyData\", \"Close(\"&$D$12&\") when LocalYear(\"&$D$12&\")=\"&$D$8&\" and localMonth(\"&$D$12&\") =\"&$E$8&\" and LocalDay(\"&$D$12&\")=\"&$F$8&\" and Barix(\"&$D$12&\",reference:=StartOfSession)=\"&A50&\"\", \"Bar\", \"\", \"Close\",\"5\",\"0\",\"PrimaryOnly\",,,\"False\",\"T\",\"EveryTick\")","v":1.1716500000000001},3.5975844789926602E-3,{"$f":"RTD(\"cqg.rtd\",,\"StudyData\", \"Close(\"&$D$12&\") when LocalYear(\"&$D$12&\")=\"&$D$9&\" and localMonth(\"&$D$12&\") =\"&$E$9&\" and LocalDay(\"&$D$12&\")=\"&$F$9&\" and Barix(\"&$D$12&\",reference:=StartOfSession)=\"&A50&\"\", \"Bar\", \"\", \"Close\",\"5\",\"0\",\"PrimaryOnly\",,,\"False\",\"T\",\"EveryTick\")","v":1.17465},8.5204277254708795E-4,{"$f":"RTD(\"cqg.rtd\",,\"StudyData\", \"Close(\"&$D$12&\") when LocalYear(\"&$D$12&\")=\"&$D$10&\" and localMonth(\"&$D$12&\") =\"&$E$10&\" and LocalDay(\"&$D$12&\")=\"&$F$10&\" and Barix(\"&$D$12&\",reference:=StartOfSession)=\"&A50&\"\", \"Bar\", \"\", \"Close\",\"5\",\"0\",\"PrimaryOnly\",,,\"False\",\"T\",\"EveryTick\")","v":1.1646000000000001},1.9357336430507895E-3,null,null,null,""]
[230,"12:10:00",-27,{"$f":" RTD(\"cqg.rtd\",,\"StudyData\", $D$12,  \"Tick\", \"FlatTicks=0\", \"Tick\",\"D\",C51,\"PrimaryOnly\")","v":1.1714500000000001},null,null,null,{"$f":"RTD(\"cqg.rtd\",,\"StudyData\", \"Close(\"&$D$12&\") when LocalYear(\"&$D$12&\")=\"&$D$1&\" and localMonth(\"&$D$12&\") =\"&$E$1&\" and LocalDay(\"&$D$12&\")=\"&$F$1&\" and Barix(\"&$D$12&\",reference:=StartOfSession)=\"&A51&\"\", \"Bar\", \"\", \"Close\",\"5\",\"0\",\"PrimaryOnly\",,,\"False\",\"T\",\"EveryTick\")","v":""},{"$error":"#N/A"},{"$f":"RTD(\"cqg.rtd\",,\"StudyData\", \"Close(\"&$D$12&\") when LocalYear(\"&$D$12&\")=\"&$D$2&\" and localMonth(\"&$D$12&\") =\"&$E$2&\" and LocalDay(\"&$D$12&\")=\"&$F$2&\" and Barix(\"&$D$12&\",reference:=StartOfSession)=\"&A51&\"\", \"Bar\", \"\", \"Close\",\"5\",\"0\",\"PrimaryOnly\",,,\"False\",\"T\",\"EveryTick\")","v":1.1735},4.262574595054944E-4,{"$f":"RTD(\"cqg.rtd\",,\"StudyData\", \"Close(\"&$D$12&\") when LocalYear(\"&$D$12&\")=\"&$D$3&\" and localMonth(\"&$D$12&\") =\"&$E$3&\" and LocalDay(\"&$D$12&\")=\"&$F$3&\" and Barix(\"&$D$12&\",reference:=StartOfSession)=\"&A51&\"\", \"Bar\", \"\", \"Close\",\"5\",\"0\",\"PrimaryOnly\",,,\"False\",\"T\",\"EveryTick\")","v":1.17395},-5.4642494069805534E-3,{"$f":"RTD(\"cqg.rtd\",,\"StudyData\", \"Close(\"&$D$12&\") when LocalYear(\"&$D$12&\")=\"&$D$4&\" and localMonth(\"&$D$12&\") =\"&$E$4&\" and LocalDay(\"&$D$12&\")=\"&$F$4&\" and Barix(\"&$D$12&\",reference:=StartOfSession)=\"&A51&\"\", \"Bar\", \"\", \"Close\",\"5\",\"0\",\"PrimaryOnly\",,,\"False\",\"T\",\"EveryTick\")","v":1.1794500000000001},-1.2278770429333147E-3,{"$f":"RTD(\"cqg.rtd\",,\"StudyData\", \"Close(\"&$D$12&\") when LocalYear(\"&$D$12&\")=\"&$D$5&\" and localMonth(\"&$D$12&\") =\"&$E$5&\" and LocalDay(\"&$D$12&\")=\"&$F$5&\" and Barix(\"&$D$12&\",reference:=StartOfSession)=\"&A51&\"\", \"Bar\", \"\", \"Close\",\"5\",\"0\",\"PrimaryOnly\",,,\"False\",\"T\",\"EveryTick\")","v":1.18015},-2.9648454044902366E-4,{"$f":"RTD(\"cqg.rtd\",,\"StudyData\", \"Close(\"&$D$12&\") when LocalYear(\"&$D$12&\")=\"&$D$6&\" and localMonth(\"&$D$12&\") =\"&$E$6&\" and LocalDay(\"&$D$12&\")=\"&$F$6&\" and Barix(\"&$D$12&\",reference:=StartOfSession)=\"&A51&\"\", \"Bar\", \"\", \"Close\",\"5\",\"0\",\"PrimaryOnly\",,,\"False\",\"T\",\"EveryTick\")","v":1.18075},5.6639127842603226E-3,{"$f":"RTD(\"cqg.rtd\",,\"StudyData\", \"Close(\"&$D$12&\") when LocalYear(\"&$D$12&\")=\"&$D$7&\" and localMonth(\"&$D$12&\") =\"&$E$7&\" and LocalDay(\"&$D$12&\")=\"&$F$7&\" and Barix(\"&$D$12&\",reference:=StartOfSession)=\"&A51&\"\", \"Bar\", \"\", \"Close\",\"5\",\"0\",\"PrimaryOnly\",,,\"False\",\"T\",\"EveryTick\")","v":1.1750499999999999},3.0731145161977252E-3,{"$f":"RTD(\"cqg.rtd\",,\"StudyData\", \"Close(\"&$D$12&\") when LocalYear(\"&$D$12&\")=\"&$D$8&\" and localMonth(\"&$D$12&\") =\"&$E$8&\" and LocalDay(\"&$D$12&\")=\"&$F$8&\" and Barix(\"&$D$12&\",reference:=StartOfSession)=\"&A51&\"\", \"Bar\", \"\", \"Close\",\"5\",\"0\",\"PrimaryOnly\",,,\"False\",\"T\",\"EveryTick\")","v":1.1711499999999999},3.1693006124457702E-3,{"$f":"RTD(\"cqg.rtd\",,\"StudyData\", \"Close(\"&$D$12&\") when LocalYear(\"&$D$12&\")=\"&$D$9&\" and localMonth(\"&$D$12&\") =\"&$E$9&\" and LocalDay(\"&$D$12&\")=\"&$F$9&\" and Barix(\"&$D$12&\",reference:=StartOfSession)=\"&A51&\"\", \"Bar\", \"\", \"Close\",\"5\",\"0\",\"PrimaryOnly\",,,\"False\",\"T\",\"EveryTick\")","v":1.1744000000000001},6.3903207941041053E-4,{"$f":"RTD(\"cqg.rtd\",,\"StudyData\", \"Close(\"&$D$12&\") when LocalYear(\"&$D$12&\")=\"&$D$10&\" and localMonth(\"&$D$12&\") =\"&$E$10&\" and LocalDay(\"&$D$12&\")=\"&$F$10&\" and Barix(\"&$D$12&\",reference:=StartOfSession)=\"&A51&\"\", \"Bar\", \"\", \"Close\",\"5\",\"0\",\"PrimaryOnly\",,,\"False\",\"T\",\"EveryTick\")","v":1.1646000000000001},1.9357336430507895E-3,null,null,null,""]
[231,"12:15:00",-26,{"$f":" RTD(\"cqg.rtd\",,\"StudyData\", $D$12,  \"Tick\", \"FlatTicks=0\", \"Tick\",\"D\",C52,\"PrimaryOnly\")","v":1.1715},null,null,null,{"$f":"RTD(\"cqg.rtd\",,\"StudyData\", \"Close(\"&$D$12&\") when LocalYear(\"&$D$12&\")=\"&$D$1&\" and localMonth(\"&$D$12&\") =\"&$E$1&\" and LocalDay(\"&$D$12&\")=\"&$F$1&\" and Barix(\"&$D$12&\",reference:=StartOfSession)=\"&A52&\"\", \"Bar\", \"\", \"Close\",\"5\",\"0\",\"PrimaryOnly\",,,\"False\",\"T\",\"EveryTick\")","v":""},{"$error":"#N/A"},{"$f":"RTD(\"cqg.rtd\",,\"StudyData\", \"Close(\"&$D$12&\") when LocalYear(\"&$D$12&\")=\"&$D$2&\" and localMonth(\"&$D$12&\") =\"&$E$2&\" and LocalDay(\"&$D$12&\")=\"&$F$2&\" and Barix(\"&$D$12&\",reference:=StartOfSession)=\"&A52&\"\", \"Bar\", \"\", \"Close\",\"5\",\"0\",\"PrimaryOnly\",,,\"False\",\"T\",\"EveryTick\")","v":1.1727000000000001},-2.5575447570329665E-4,{"$f":"RTD(\"cqg.rtd\",,\"StudyData\", \"Close(\"&$D$12&\") when LocalYear(\"&$D$12&\")=\"&$D$3&\" and localMonth(\"&$D$12&\") =\"&$E$3&\" and LocalDay(\"&$D$12&\")=\"&$F$3&\" and Barix(\"&$D$12&\",reference:=StartOfSession)=\"&A52&\"\", \"Bar\", \"\", \"Close\",\"5\",\"0\",\"PrimaryOnly\",,,\"False\",\"T\",\"EveryTick\")","v":1.1738999999999999},-5.5066079295153772E-3,{"$f":"RTD(\"cqg.rtd\",,\"StudyData\", \"Close(\"&$D$12&\") when LocalYear(\"&$D$12&\")=\"&$D$4&\" and localMonth(\"&$D$12&\") =\"&$E$4&\" and LocalDay(\"&$D$12&\")=\"&$F$4&\" and Barix(\"&$D$12&\",reference:=StartOfSession)=\"&A52&\"\", \"Bar\", \"\", \"Close\",\"5\",\"0\",\"PrimaryOnly\",,,\"False\",\"T\",\"EveryTick\")","v":1.18005},-7.1978999068508537E-4,{"$f":"RTD(\"cqg.rtd\",,\"StudyData\", \"Close(\"&$D$12&\") when LocalYear(\"&$D$12&\")=\"&$D$5&\" and localMonth(\"&$D$12&\") =\"&$E$5&\" and LocalDay(\"&$D$12&\")=\"&$F$5&\" and Barix(\"&$D$12&\",reference:=StartOfSession)=\"&A52&\"\", \"Bar\", \"\", \"Close\",\"5\",\"0\",\"PrimaryOnly\",,,\"False\",\"T\",\"EveryTick\")","v":1.1798500000000001},-5.5061414654810617E-4,{"$f":"RTD(\"cqg.rtd\",,\"StudyData\", \"Close(\"&$D$12&\") when LocalYear(\"&$D$12&\")=\"&$D$6&\" and localMonth(\"&$D$12&\") =\"&$E$6&\" and LocalDay(\"&$D$12&\")=\"&$F$6&\" and Barix(\"&$D$12&\",reference:=StartOfSession)=\"&A52&\"\", \"Bar\", \"\", \"Close\",\"5\",\"0\",\"PrimaryOnly\",,,\"False\",\"T\",\"EveryTick\")","v":1.18075},5.6639127842603226E-3,{"$f":"RTD(\"cqg.rtd\",,\"StudyData\", \"Close(\"&$D$12&\") when LocalYear(\"&$D$12&\")=\"&$D$7&\" and localMonth(\"&$D$12&\") =\"&$E$7&\" and LocalDay(\"&$D$12&\")=\"&$F$7&\" and Barix(\"&$D$12&\",reference:=StartOfSession)=\"&A52&\"\", \"Bar\", \"\", \"Close\",\"5\",\"0\",\"PrimaryOnly\",,,\"False\",\"T\",\"EveryTick\")","v":1.1751},3.115796662256119E-3,{"$f":"RTD(\"cqg.rtd\",,\"StudyData\", \"Close(\"&$D$12&\") when LocalYear(\"&$D$12&\")=\"&$D$8&\" and localMonth(\"&$D$12&\") =\"&$E$8&\" and LocalDay(\"&$D$12&\")=\"&$F$8&\" and Barix(\"&$D$12&\",reference:=StartOfSession)=\"&A52&\"\", \"Bar\", \"\", \"Close\",\"5\",\"0\",\"PrimaryOnly\",,,\"False\",\"T\",\"EveryTick\")","v":1.1713},3.2977857724098753E-3,{"$f":"RTD(\"cqg.rtd\",,\"StudyData\", \"Close(\"&$D$12&\") when LocalYear(\"&$D$12&\")=\"&$D$9&\" and localMonth(\"&$D$12&\") =\"&$E$9&\" and LocalDay(\"&$D$12&\")=\"&$F$9&\" and Barix(\"&$D$12&\",reference:=StartOfSession)=\"&A52&\"\", \"Bar\", \"\", \"Close\",\"5\",\"0\",\"PrimaryOnly\",,,\"False\",\"T\",\"EveryTick\")","v":1.17415},4.2602138627354397E-4,{"$f":"RTD(\"cqg.rtd\",,\"StudyData\", \"Close(\"&$D$12&\") when LocalYear(\"&$D$12&\")=\"&$D$10&\" and localMonth(\"&$D$12&\") =\"&$E$10&\" and LocalDay(\"&$D$12&\")=\"&$F$10&\" and Barix(\"&$D$12&\",reference:=StartOfSession)=\"&A52&\"\", \"Bar\", \"\", \"Close\",\"5\",\"0\",\"PrimaryOnly\",,,\"False\",\"T\",\"EveryTick\")","v":1.1651499999999999},2.408912978018595E-3,null,null,null,""]
[232,"12:20:00",-25,{"$f":" RTD(\"cqg.rtd\",,\"StudyData\", $D$12,  \"Tick\", \"FlatTicks=0\", \"Tick\",\"D\",C53,\"PrimaryOnly\")","v":1.1714500000000001},null,null,null,{"$f":"RTD(\"cqg.rtd\",,\"StudyData\", \"Close(\"&$D$12&\") when LocalYear(\"&$D$12&\")=\"&$D$1&\" and localMonth(\"&$D$12&\") =\"&$E$1&\" and LocalDay(\"&$D$12&\")=\"&$F$1&\" and Barix(\"&$D$12&\",reference:=StartOfSession)=\"&A53&\"\", \"Bar\", \"\", \"Close\",\"5\",\"0\",\"PrimaryOnly\",,,\"False\",\"T\",\"EveryTick\")","v":""},{"$error":"#N/A"},{"$f":"RTD(\"cqg.rtd\",,\"StudyData\", \"Close(\"&$D$12&\") when LocalYear(\"&$D$12&\")=\"&$D$2&\" and localMonth(\"&$D$12&\") =\"&$E$2&\" and LocalDay(\"&$D$12&\")=\"&$F$2&\" and Barix(\"&$D$12&\",reference:=StartOfSession)=\"&A53&\"\", \"Bar\", \"\", \"Close\",\"5\",\"0\",\"PrimaryOnly\",,,\"False\",\"T\",\"EveryTick\")","v":1.1728000000000001},-1.7050298380219775E-4,{"$f":"RTD(\"cqg.rtd\",,\"StudyData\", \"Close(\"&$D$12&\") when LocalYear(\"&$D$12&\")=\"&$D$3&\" and localMonth(\"&$D$12&\") =\"&$E$3&\" and LocalDay(\"&$D$12&\")=\"&$F$3&\" and Barix(\"&$D$12&\",reference:=StartOfSession)=\"&A53&\"\", \"Bar\", \"\", \"Close\",\"5\",\"0\",\"PrimaryOnly\",,,\"False\",\"T\",\"EveryTick\")","v":1.1738},-5.5913249745848355E-3,{"$f":"RTD(\"cqg.rtd\",,\"StudyData\", \"Close(\"&$D$12&\") when LocalYear(\"&$D$12&\")=\"&$D$4&\" and localMonth(\"&$D$12&\") =\"&$E$4&\" and LocalDay(\"&$D$12&\")=\"&$F$4&\" and Barix(\"&$D$12&\",reference:=StartOfSession)=\"&A53&\"\", \"Bar\", \"\", \"Close\",\"5\",\"0\",\"PrimaryOnly\",,,\"False\",\"T\",\"EveryTick\")","v":1.1795},-1.1855364552460562E-3,{"$f":"RTD(\"cqg.rtd\",,\"StudyData\", \"Close(\"&$D$12&\") when LocalYear(\"&$D$12&\")=\"&$D$5&\" and localMonth(\"&$D$12&\") =\"&$E$5&\" and LocalDay(\"&$D$12&\")=\"&$F$5&\" and Barix(\"&$D$12&\",reference:=StartOfSession)=\"&A53&\"\", \"Bar\", \"\", \"Close\",\"5\",\"0\",\"PrimaryOnly\",,,\"False\",\"T\",\"EveryTick\")","v":1.1795500000000001},-8.0474375264718873E-4,{"$f":"RTD(\"cqg.rtd\",,\"StudyData\", \"Close(\"&$D$12&\") when LocalYear(\"&$D$12&\")=\"&$D$6&\" and localMonth(\"&$D$12&\") =\"&$E$6&\" and LocalDay(\"&$D$12&\")=\"&$F$6&\" and Barix(\"&$D$12&\",reference:=StartOfSession)=\"&A53&\"\", \"Bar\", \"\", \"Close\",\"5\",\"0\",\"PrimaryOnly\",,,\"False\",\"T\",\"EveryTick\")","v":1.18065},5.5787411634443881E-3,{"$f":"RTD(\"cqg.rtd\",,\"StudyData\", \"Close(\"&$D$12&\") when LocalYear(\"&$D$12&\")=\"&$D$7&\" and localMonth(\"&$D$12&\") =\"&$E$7&\" and LocalDay(\"&$D$12&\")=\"&$F$7&\" and Barix(\"&$D$12&\",reference:=StartOfSession)=\"&A53&\"\", \"Bar\", \"\", \"Close\",\"5\",\"0\",\"PrimaryOnly\",,,\"False\",\"T\",\"EveryTick\")","v":1.175},3.030432370139521E-3,{"$f":"RTD(\"cqg.rtd\",,\"StudyData\", \"Close(\"&$D$12&\") when LocalYear(\"&$D$12&\")=\"&$D$8&\" and localMonth(\"&$D$12&\") =\"&$E$8&\" and LocalDay(\"&$D$12&\")=\"&$F$8&\" and Barix(\"&$D$12&\",reference:=StartOfSession)=\"&A53&\"\", \"Bar\", \"\", \"Close\",\"5\",\"0\",\"PrimaryOnly\",,,\"False\",\"T\",\"EveryTick\")","v":1.1714500000000001},3.42627093237398E-3,{"$f":"RTD(\"cqg.rtd\",,\"StudyData\", \"Close(\"&$D$12&\") when LocalYear(\"&$D$12&\")=\"&$D$9&\" and localMonth(\"&$D$12&\") =\"&$E$9&\" and LocalDay(\"&$D$12&\")=\"&$F$9&\" and Barix(\"&$D$12&\",reference:=StartOfSession)=\"&A53&\"\", \"Bar\", \"\", \"Close\",\"5\",\"0\",\"PrimaryOnly\",,,\"False\",\"T\",\"EveryTick\")","v":1.17395},2.5561283176412638E-4,{"$f":"RTD(\"cqg.rtd\",,\"StudyData\", \"Close(\"&$D$12&\") when LocalYear(\"&$D$12&\")=\"&$D$10&\" and localMonth(\"&$D$12&\") =\"&$E$10&\" and LocalDay(\"&$D$12&\")=\"&$F$10&\" and Barix(\"&$D$12&\",reference:=StartOfSession)=\"&A53&\"\", \"Bar\", \"\", \"Close\",\"5\",\"0\",\"PrimaryOnly\",,,\"False\",\"T\",\"EveryTick\")","v":1.1652499999999999},2.4949455843763951E-3,null,null,null,""]
[233,"12:25:00",-24,{"$f":" RTD(\"cqg.rtd\",,\"StudyData\", $D$12,  \"Tick\", \"FlatTicks=0\", \"Tick\",\"D\",C54,\"PrimaryOnly\")","v":1.1715},null,null,null,{"$f":"RTD(\"cqg.rtd\",,\"StudyData\", \"Close(\"&$D$12&\") when LocalYear(\"&$D$12&\")=\"&$D$1&\" and localMonth(\"&$D$12&\") =\"&$E$1&\" and LocalDay(\"&$D$12&\")=\"&$F$1&\" and Barix(\"&$D$12&\",reference:=StartOfSession)=\"&A54&\"\", \"Bar\", \"\", \"Close\",\"5\",\"0\",\"PrimaryOnly\",,,\"False\",\"T\",\"EveryTick\")","v":""},{"$error":"#N/A"},{"$f":"RTD(\"cqg.rtd\",,\"StudyData\", \"Close(\"&$D$12&\") when LocalYear(\"&$D$12&\")=\"&$D$2&\" and localMonth(\"&$D$12&\") =\"&$E$2&\" and LocalDay(\"&$D$12&\")=\"&$F$2&\" and Barix(\"&$D$12&\",reference:=StartOfSession)=\"&A54&\"\", \"Bar\", \"\", \"Close\",\"5\",\"0\",\"PrimaryOnly\",,,\"False\",\"T\",\"EveryTick\")","v":1.1732499999999999},2.1312872975265255E-4,{"$f":"RTD(\"cqg.rtd\",,\"StudyData\", \"Close(\"&$D$12&\") when LocalYear(\"&$D$12&\")=\"&$D$3&\" and localMonth(\"&$D$12&\") =\"&$E$3&\" and LocalDay(\"&$D$12&\")=\"&$F$3&\" and Barix(\"&$D$12&\",reference:=StartOfSession)=\"&A54&\"\", \"Bar\", \"\", \"Close\",\"5\",\"0\",\"PrimaryOnly\",,,\"False\",\"T\",\"EveryTick\")","v":1.17395},-5.4642494069805534E-3,{"$f":"RTD(\"cqg.rtd\",,\"StudyData\", \"Close(\"&$D$12&\") when LocalYear(\"&$D$12&\")=\"&$D$4&\" and localMonth(\"&$D$12&\") =\"&$E$4&\" and LocalDay(\"&$D$12&\")=\"&$F$4&\" and Barix(\"&$D$12&\",reference:=StartOfSession)=\"&A54&\"\", \"Bar\", \"\", \"Close\",\"5\",\"0\",\"PrimaryOnly\",,,\"False\",\"T\",\"EveryTick\")","v":1.1795},-1.1855364552460562E-3,{"$f":"RTD(\"cqg.rtd\",,\"StudyData\", \"Close(\"&$D$12&\") when LocalYear(\"&$D$12&\")=\"&$D$5&\" and localMonth(\"&$D$12&\") =\"&$E$5&\" and LocalDay(\"&$D$12&\")=\"&$F$5&\" and Barix(\"&$D$12&\",reference:=StartOfSession)=\"&A54&\"\", \"Bar\", \"\", \"Close\",\"5\",\"0\",\"PrimaryOnly\",,,\"False\",\"T\",\"EveryTick\")","v":1.1798500000000001},-5.5061414654810617E-4,{"$f":"RTD(\"cqg.rtd\",,\"StudyData\", \"Close(\"&$D$12&\") when LocalYear(\"&$D$12&\")=\"&$D$6&\" and localMonth(\"&$D$12&\") =\"&$E$6&\" and LocalDay(\"&$D$12&\")=\"&$F$6&\" and Barix(\"&$D$12&\",reference:=StartOfSession)=\"&A54&\"\", \"Bar\", \"\", \"Close\",\"5\",\"0\",\"PrimaryOnly\",,,\"False\",\"T\",\"EveryTick\")","v":1.18055},5.4935695426284537E-3,{"$f":"RTD(\"cqg.rtd\",,\"StudyData\", \"Close(\"&$D$12&\") when LocalYear(\"&$D$12&\")=\"&$D$7&\" and localMonth(\"&$D$12&\") =\"&$E$7&\" and LocalDay(\"&$D$12&\")=\"&$F$7&\" and Barix(\"&$D$12&\",reference:=StartOfSession)=\"&A54&\"\", \"Bar\", \"\", \"Close\",\"5\",\"0\",\"PrimaryOnly\",,,\"False\",\"T\",\"EveryTick\")","v":1.1750499999999999},3.0731145161977252E-3,{"$f":"RTD(\"cqg.rtd\",,\"StudyData\", \"Close(\"&$D$12&\") when LocalYear(\"&$D$12&\")=\"&$D$8&\" and localMonth(\"&$D$12&\") =\"&$E$8&\" and LocalDay(\"&$D$12&\")=\"&$F$8&\" and Barix(\"&$D$12&\",reference:=StartOfSession)=\"&A54&\"\", \"Bar\", \"\", \"Close\",\"5\",\"0\",\"PrimaryOnly\",,,\"False\",\"T\",\"EveryTick\")","v":1.1716500000000001},3.5975844789926602E-3,{"$f":"RTD(\"cqg.rtd\",,\"StudyData\", \"Close(\"&$D$12&\") when LocalYear(\"&$D$12&\")=\"&$D$9&\" and localMonth(\"&$D$12&\") =\"&$E$9&\" and LocalDay(\"&$D$12&\")=\"&$F$9&\" and Barix(\"&$D$12&\",reference:=StartOfSession)=\"&A54&\"\", \"Bar\", \"\", \"Close\",\"5\",\"0\",\"PrimaryOnly\",,,\"False\",\"T\",\"EveryTick\")","v":1.1741999999999999},4.686235249008038E-4,{"$f":"RTD(\"cqg.rtd\",,\"StudyData\", \"Close(\"&$D$12&\") when LocalYear(\"&$D$12&\")=\"&$D$10&\" and localMonth(\"&$D$12&\") =\"&$E$10&\" and LocalDay(\"&$D$12&\")=\"&$F$10&\" and Barix(\"&$D$12&\",reference:=StartOfSession)=\"&A54&\"\", \"Bar\", \"\", \"Close\",\"5\",\"0\",\"PrimaryOnly\",,,\"False\",\"T\",\"EveryTick\")","v":1.1652},2.4519292811975902E-3,null,null,null,""]
[234,"12:30:00",-23,{"$f":" RTD(\"cqg.rtd\",,\"StudyData\", $D$12,  \"Tick\", \"FlatTicks=0\", \"Tick\",\"D\",C55,\"PrimaryOnly\")","v":1.1715500000000001},null,null,null,{"$f":"RTD(\"cqg.rtd\",,\"StudyData\", \"Close(\"&$D$12&\") when LocalYear(\"&$D$12&\")=\"&$D$1&\" and localMonth(\"&$D$12&\") =\"&$E$1&\" and LocalDay(\"&$D$12&\")=\"&$F$1&\" and Barix(\"&$D$12&\",reference:=StartOfSession)=\"&A55&\"\", \"Bar\", \"\", \"Close\",\"5\",\"0\",\"PrimaryOnly\",,,\"False\",\"T\",\"EveryTick\")","v":""},{"$error":"#N/A"},{"$f":"RTD(\"cqg.rtd\",,\"StudyData\", \"Close(\"&$D$12&\") when LocalYear(\"&$D$12&\")=\"&$D$2&\" and localMonth(\"&$D$12&\") =\"&$E$2&\" and LocalDay(\"&$D$12&\")=\"&$F$2&\" and Barix(\"&$D$12&\",reference:=StartOfSession)=\"&A55&\"\", \"Bar\", \"\", \"Close\",\"5\",\"0\",\"PrimaryOnly\",,,\"False\",\"T\",\"EveryTick\")","v":1.1736500000000001},5.5413469735723735E-4,{"$f":"RTD(\"cqg.rtd\",,\"StudyData\", \"Close(\"&$D$12&\") when LocalYear(\"&$D$12&\")=\"&$D$3&\" and localMonth(\"&$D$12&\") =\"&$E$3&\" and LocalDay(\"&$D$12&\")=\"&$F$3&\" and Barix(\"&$D$12&\",reference:=StartOfSession)=\"&A55&\"\", \"Bar\", \"\", \"Close\",\"5\",\"0\",\"PrimaryOnly\",,,\"False\",\"T\",\"EveryTick\")","v":1.1735},-5.8454761097932115E-3,{"$f":"RTD(\"cqg.rtd\",,\"StudyData\", \"Close(\"&$D$12&\") when LocalYear(\"&$D$12&\")=\"&$D$4&\" and localMonth(\"&$D$12&\") =\"&$E$4&\" and LocalDay(\"&$D$12&\")=\"&$F$4&\" and Barix(\"&$D$12&\",reference:=StartOfSession)=\"&A55&\"\", \"Bar\", \"\", \"Close\",\"5\",\"0\",\"PrimaryOnly\",,,\"False\",\"T\",\"EveryTick\")","v":1.1798500000000001},-8.8915234143449519E-4,{"$f":"RTD(\"cqg.rtd\",,\"StudyData\", \"Close(\"&$D$12&\") when LocalYear(\"&$D$12&\")=\"&$D$5&\" and localMonth(\"&$D$12&\") =\"&$E$5&\" and LocalDay(\"&$D$12&\")=\"&$F$5&\" and Barix(\"&$D$12&\",reference:=StartOfSession)=\"&A55&\"\", \"Bar\", \"\", \"Close\",\"5\",\"0\",\"PrimaryOnly\",,,\"False\",\"T\",\"EveryTick\")","v":1.1797},-6.776789495977415E-4,{"$f":"RTD(\"cqg.rtd\",,\"StudyData\", \"Close(\"&$D$12&\") when LocalYear(\"&$D$12&\")=\"&$D$6&\" and localMonth(\"&$D$12&\") =\"&$E$6&\" and LocalDay(\"&$D$12&\")=\"&$F$6&\" and Barix(\"&$D$12&\",reference:=StartOfSession)=\"&A55&\"\", \"Bar\", \"\", \"Close\",\"5\",\"0\",\"PrimaryOnly\",,,\"False\",\"T\",\"EveryTick\")","v":1.18065},5.5787411634443881E-3,{"$f":"RTD(\"cqg.rtd\",,\"StudyData\", \"Close(\"&$D$12&\") when LocalYear(\"&$D$12&\")=\"&$D$7&\" and localMonth(\"&$D$12&\") =\"&$E$7&\" and LocalDay(\"&$D$12&\")=\"&$F$7&\" and Barix(\"&$D$12&\",reference:=StartOfSession)=\"&A55&\"\", \"Bar\", \"\", \"Close\",\"5\",\"0\",\"PrimaryOnly\",,,\"False\",\"T\",\"EveryTick\")","v":1.17475},2.8170216398479306E-3,{"$f":"RTD(\"cqg.rtd\",,\"StudyData\", \"Close(\"&$D$12&\") when LocalYear(\"&$D$12&\")=\"&$D$8&\" and localMonth(\"&$D$12&\") =\"&$E$8&\" and LocalDay(\"&$D$12&\")=\"&$F$8&\" and Barix(\"&$D$12&\",reference:=StartOfSession)=\"&A55&\"\", \"Bar\", \"\", \"Close\",\"5\",\"0\",\"PrimaryOnly\",,,\"False\",\"T\",\"EveryTick\")","v":1.1718},3.726069638956575E-3,{"$f":"RTD(\"cqg.rtd\",,\"StudyData\", \"Close(\"&$D$12&\") when LocalYear(\"&$D$12&\")=\"&$D$9&\" and localMonth(\"&$D$12&\") =\"&$E$9&\" and LocalDay(\"&$D$12&\")=\"&$F$9&\" and Barix(\"&$D$12&\",reference:=StartOfSession)=\"&A55&\"\", \"Bar\", \"\", \"Close\",\"5\",\"0\",\"PrimaryOnly\",,,\"False\",\"T\",\"EveryTick\")","v":1.17435},5.9642994078296162E-4,{"$f":"RTD(\"cqg.rtd\",,\"StudyData\", \"Close(\"&$D$12&\") when LocalYear(\"&$D$12&\")=\"&$D$10&\" and localMonth(\"&$D$12&\") =\"&$E$10&\" and LocalDay(\"&$D$12&\")=\"&$F$10&\" and Barix(\"&$D$12&\",reference:=StartOfSession)=\"&A55&\"\", \"Bar\", \"\", \"Close\",\"5\",\"0\",\"PrimaryOnly\",,,\"False\",\"T\",\"EveryTick\")","v":1.16465},1.9787499462295939E-3,null,null,null,""]
[235,"12:35:00",-22,{"$f":" RTD(\"cqg.rtd\",,\"StudyData\", $D$12,  \"Tick\", \"FlatTicks=0\", \"Tick\",\"D\",C56,\"PrimaryOnly\")","v":1.1716},null,null,null,{"$f":"RTD(\"cqg.rtd\",,\"StudyData\", \"Close(\"&$D$12&\") when LocalYear(\"&$D$12&\")=\"&$D$1&\" and localMonth(\"&$D$12&\") =\"&$E$1&\" and LocalDay(\"&$D$12&\")=\"&$F$1&\" and Barix(\"&$D$12&\",reference:=StartOfSession)=\"&A56&\"\", \"Bar\", \"\", \"Close\",\"5\",\"0\",\"PrimaryOnly\",,,\"False\",\"T\",\"EveryTick\")","v":""},{"$error":"#N/A"},{"$f":"RTD(\"cqg.rtd\",,\"StudyData\", \"Close(\"&$D$12&\") when LocalYear(\"&$D$12&\")=\"&$D$2&\" and localMonth(\"&$D$12&\") =\"&$E$2&\" and LocalDay(\"&$D$12&\")=\"&$F$2&\" and Barix(\"&$D$12&\",reference:=StartOfSession)=\"&A56&\"\", \"Bar\", \"\", \"Close\",\"5\",\"0\",\"PrimaryOnly\",,,\"False\",\"T\",\"EveryTick\")","v":1.1734},3.410059676043955E-4,{"$f":"RTD(\"cqg.rtd\",,\"StudyData\", \"Close(\"&$D$12&\") when LocalYear(\"&$D$12&\")=\"&$D$3&\" and localMonth(\"&$D$12&\") =\"&$E$3&\" and LocalDay(\"&$D$12&\")=\"&$F$3&\" and Barix(\"&$D$12&\",reference:=StartOfSession)=\"&A56&\"\", \"Bar\", \"\", \"Close\",\"5\",\"0\",\"PrimaryOnly\",,,\"False\",\"T\",\"EveryTick\")","v":1.1736500000000001},-5.7184005421889294E-3,{"$f":"RTD(\"cqg.rtd\",,\"StudyData\", \"Close(\"&$D$12&\") when LocalYear(\"&$D$12&\")=\"&$D$4&\" and localMonth(\"&$D$12&\") =\"&$E$4&\" and LocalDay(\"&$D$12&\")=\"&$F$4&\" and Barix(\"&$D$12&\",reference:=StartOfSession)=\"&A56&\"\", \"Bar\", \"\", \"Close\",\"5\",\"0\",\"PrimaryOnly\",,,\"False\",\"T\",\"EveryTick\")","v":1.1802999999999999},-5.0808705224841724E-4,{"$f":"RTD(\"cqg.rtd\",,\"StudyData\", \"Close(\"&$D$12&\") when LocalYear(\"&$D$12&\")=\"&$D$5&\" and localMonth(\"&$D$12&\") =\"&$E$5&\" and LocalDay(\"&$D$12&\")=\"&$F$5&\" and Barix(\"&$D$12&\",reference:=StartOfSession)=\"&A56&\"\", \"Bar\", \"\", \"Close\",\"5\",\"0\",\"PrimaryOnly\",,,\"False\",\"T\",\"EveryTick\")","v":1.1798},-5.9296908089804732E-4,{"$f":"RTD(\"cqg.rtd\",,\"StudyData\", \"Close(\"&$D$12&\") when LocalYear(\"&$D$12&\")=\"&$D$6&\" and localMonth(\"&$D$12&\") =\"&$E$6&\" and LocalDay(\"&$D$12&\")=\"&$F$6&\" and Barix(\"&$D$12&\",reference:=StartOfSession)=\"&A56&\"\", \"Bar\", \"\", \"Close\",\"5\",\"0\",\"PrimaryOnly\",,,\"False\",\"T\",\"EveryTick\")","v":1.1809499999999999},5.8342560258921924E-3,{"$f":"RTD(\"cqg.rtd\",,\"StudyData\", \"Close(\"&$D$12&\") when LocalYear(\"&$D$12&\")=\"&$D$7&\" and localMonth(\"&$D$12&\") =\"&$E$7&\" and LocalDay(\"&$D$12&\")=\"&$F$7&\" and Barix(\"&$D$12&\",reference:=StartOfSession)=\"&A56&\"\", \"Bar\", \"\", \"Close\",\"5\",\"0\",\"PrimaryOnly\",,,\"False\",\"T\",\"EveryTick\")","v":1.17475},2.8170216398479306E-3,{"$f":"RTD(\"cqg.rtd\",,\"StudyData\", \"Close(\"&$D$12&\") when LocalYear(\"&$D$12&\")=\"&$D$8&\" and localMonth(\"&$D$12&\") =\"&$E$8&\" and LocalDay(\"&$D$12&\")=\"&$F$8&\" and Barix(\"&$D$12&\",reference:=StartOfSession)=\"&A56&\"\", \"Bar\", \"\", \"Close\",\"5\",\"0\",\"PrimaryOnly\",,,\"False\",\"T\",\"EveryTick\")","v":1.17195},3.8545547989206801E-3,{"$f":"RTD(\"cqg.rtd\",,\"StudyData\", \"Close(\"&$D$12&\") when LocalYear(\"&$D$12&\")=\"&$D$9&\" and localMonth(\"&$D$12&\") =\"&$E$9&\" and LocalDay(\"&$D$12&\")=\"&$F$9&\" and Barix(\"&$D$12&\",reference:=StartOfSession)=\"&A56&\"\", \"Bar\", \"\", \"Close\",\"5\",\"0\",\"PrimaryOnly\",,,\"False\",\"T\",\"EveryTick\")","v":1.1742999999999999},5.538278021555126E-4,{"$f":"RTD(\"cqg.rtd\",,\"StudyData\", \"Close(\"&$D$12&\") when LocalYear(\"&$D$12&\")=\"&$D$10&\" and localMonth(\"&$D$12&\") =\"&$E$10&\" and LocalDay(\"&$D$12&\")=\"&$F$10&\" and Barix(\"&$D$12&\",reference:=StartOfSession)=\"&A56&\"\", \"Bar\", \"\", \"Close\",\"5\",\"0\",\"PrimaryOnly\",,,\"False\",\"T\",\"EveryTick\")","v":1.1644000000000001},1.7636684303351893E-3,null,null,null,""]
[236,"12:40:00",-21,{"$f":" RTD(\"cqg.rtd\",,\"StudyData\", $D$12,  \"Tick\", \"FlatTicks=0\", \"Tick\",\"D\",C57,\"PrimaryOnly\")","v":1.1715500000000001},null,null,null,{"$f":"RTD(\"cqg.rtd\",,\"StudyData\", \"Close(\"&$D$12&\") when LocalYear(\"&$D$12&\")=\"&$D$1&\" and localMonth(\"&$D$12&\") =\"&$E$1&\" and LocalDay(\"&$D$12&\")=\"&$F$1&\" and Barix(\"&$D$12&\",reference:=StartOfSession)=\"&A57&\"\", \"Bar\", \"\", \"Close\",\"5\",\"0\",\"PrimaryOnly\",,,\"False\",\"T\",\"EveryTick\")","v":""},{"$error":"#N/A"},{"$f":"RTD(\"cqg.rtd\",,\"StudyData\", \"Close(\"&$D$12&\") when LocalYear(\"&$D$12&\")=\"&$D$2&\" and localMonth(\"&$D$12&\") =\"&$E$2&\" and LocalDay(\"&$D$12&\")=\"&$F$2&\" and Barix(\"&$D$12&\",reference:=StartOfSession)=\"&A57&\"\", \"Bar\", \"\", \"Close\",\"5\",\"0\",\"PrimaryOnly\",,,\"False\",\"T\",\"EveryTick\")","v":1.1736},5.115089514065933E-4,{"$f":"RTD(\"cqg.rtd\",,\"StudyData\", \"Close(\"&$D$12&\") when LocalYear(\"&$D$12&\")=\"&$D$3&\" and localMonth(\"&$D$12&\") =\"&$E$3&\" and LocalDay(\"&$D$12&\")=\"&$F$3&\" and Barix(\"&$D$12&\",reference:=StartOfSession)=\"&A57&\"\", \"Bar\", \"\", \"Close\",\"5\",\"0\",\"PrimaryOnly\",,,\"False\",\"T\",\"EveryTick\")","v":1.1735500000000001},-5.8031175872583877E-3,{"$f":"RTD(\"cqg.rtd\",,\"StudyData\", \"Close(\"&$D$12&\") when LocalYear(\"&$D$12&\")=\"&$D$4&\" and localMonth(\"&$D$12&\") =\"&$E$4&\" and LocalDay(\"&$D$12&\")=\"&$F$4&\" and Barix(\"&$D$12&\",reference:=StartOfSession)=\"&A57&\"\", \"Bar\", \"\", \"Close\",\"5\",\"0\",\"PrimaryOnly\",,,\"False\",\"T\",\"EveryTick\")","v":1.18015},-6.3510881531038052E-4,{"$f":"RTD(\"cqg.rtd\",,\"StudyData\", \"Close(\"&$D$12&\") when LocalYear(\"&$D$12&\")=\"&$D$5&\" and localMonth(\"&$D$12&\") =\"&$E$5&\" and LocalDay(\"&$D$12&\")=\"&$F$5&\" and Barix(\"&$D$12&\",reference:=StartOfSession)=\"&A57&\"\", \"Bar\", \"\", \"Close\",\"5\",\"0\",\"PrimaryOnly\",,,\"False\",\"T\",\"EveryTick\")","v":1.18055},4.2354934349753039E-5,{"$f":"RTD(\"cqg.rtd\",,\"StudyData\", \"Close(\"&$D$12&\") when LocalYear(\"&$D$12&\")=\"&$D$6&\" and localMonth(\"&$D$12&\") =\"&$E$6&\" and LocalDay(\"&$D$12&\")=\"&$F$6&\" and Barix(\"&$D$12&\",reference:=StartOfSession)=\"&A57&\"\", \"Bar\", \"\", \"Close\",\"5\",\"0\",\"PrimaryOnly\",,,\"False\",\"T\",\"EveryTick\")","v":1.18045},5.4083979218125184E-3,{"$f":"RTD(\"cqg.rtd\",,\"StudyData\", \"Close(\"&$D$12&\") when LocalYear(\"&$D$12&\")=\"&$D$7&\" and localMonth(\"&$D$12&\") =\"&$E$7&\" and LocalDay(\"&$D$12&\")=\"&$F$7&\" and Barix(\"&$D$12&\",reference:=StartOfSession)=\"&A57&\"\", \"Bar\", \"\", \"Close\",\"5\",\"0\",\"PrimaryOnly\",,,\"False\",\"T\",\"EveryTick\")","v":1.1748000000000001},2.8597037859063243E-3,{"$f":"RTD(\"cqg.rtd\",,\"StudyData\", \"Close(\"&$D$12&\") when LocalYear(\"&$D$12&\")=\"&$D$8&\" and localMonth(\"&$D$12&\") =\"&$E$8&\" and LocalDay(\"&$D$12&\")=\"&$F$8&\" and Barix(\"&$D$12&\",reference:=StartOfSession)=\"&A57&\"\", \"Bar\", \"\", \"Close\",\"5\",\"0\",\"PrimaryOnly\",,,\"False\",\"T\",\"EveryTick\")","v":1.17205},3.9402115722300202E-3,{"$f":"RTD(\"cqg.rtd\",,\"StudyData\", \"Close(\"&$D$12&\") when LocalYear(\"&$D$12&\")=\"&$D$9&\" and localMonth(\"&$D$12&\") =\"&$E$9&\" and LocalDay(\"&$D$12&\")=\"&$F$9&\" and Barix(\"&$D$12&\",reference:=StartOfSession)=\"&A57&\"\", \"Bar\", \"\", \"Close\",\"5\",\"0\",\"PrimaryOnly\",,,\"False\",\"T\",\"EveryTick\")","v":1.1741999999999999},4.686235249008038E-4,{"$f":"RTD(\"cqg.rtd\",,\"StudyData\", \"Close(\"&$D$12&\") when LocalYear(\"&$D$12&\")=\"&$D$10&\" and localMonth(\"&$D$12&\") =\"&$E$10&\" and LocalDay(\"&$D$12&\")=\"&$F$10&\" and Barix(\"&$D$12&\",reference:=StartOfSession)=\"&A57&\"\", \"Bar\", \"\", \"Close\",\"5\",\"0\",\"PrimaryOnly\",,,\"False\",\"T\",\"EveryTick\")","v":1.16465},1.9787499462295939E-3,null,null,null,""]
[237,"12:45:00",-20,{"$f":" RTD(\"cqg.rtd\",,\"StudyData\", $D$12,  \"Tick\", \"FlatTicks=0\", \"Tick\",\"D\",C58,\"PrimaryOnly\")","v":1.1715},null,null,null,{"$f":"RTD(\"cqg.rtd\",,\"StudyData\", \"Close(\"&$D$12&\") when LocalYear(\"&$D$12&\")=\"&$D$1&\" and localMonth(\"&$D$12&\") =\"&$E$1&\" and LocalDay(\"&$D$12&\")=\"&$F$1&\" and Barix(\"&$D$12&\",reference:=StartOfSession)=\"&A58&\"\", \"Bar\", \"\", \"Close\",\"5\",\"0\",\"PrimaryOnly\",,,\"False\",\"T\",\"EveryTick\")","v":""},{"$error":"#N/A"},{"$f":"RTD(\"cqg.rtd\",,\"StudyData\", \"Close(\"&$D$12&\") when LocalYear(\"&$D$12&\")=\"&$D$2&\" and localMonth(\"&$D$12&\") =\"&$E$2&\" and LocalDay(\"&$D$12&\")=\"&$F$2&\" and Barix(\"&$D$12&\",reference:=StartOfSession)=\"&A58&\"\", \"Bar\", \"\", \"Close\",\"5\",\"0\",\"PrimaryOnly\",,,\"False\",\"T\",\"EveryTick\")","v":1.1733499999999999},2.983802216537514E-4,{"$f":"RTD(\"cqg.rtd\",,\"StudyData\", \"Close(\"&$D$12&\") when LocalYear(\"&$D$12&\")=\"&$D$3&\" and localMonth(\"&$D$12&\") =\"&$E$3&\" and LocalDay(\"&$D$12&\")=\"&$F$3&\" and Barix(\"&$D$12&\",reference:=StartOfSession)=\"&A58&\"\", \"Bar\", \"\", \"Close\",\"5\",\"0\",\"PrimaryOnly\",,,\"False\",\"T\",\"EveryTick\")","v":1.1732499999999999},-6.0572687224669519E-3,{"$f":"RTD(\"cqg.rtd\",,\"StudyData\", \"Close(\"&$D$12&\") when LocalYear(\"&$D$12&\")=\"&$D$4&\" and localMonth(\"&$D$12&\") =\"&$E$4&\" and LocalDay(\"&$D$12&\")=\"&$F$4&\" and Barix(\"&$D$12&\",reference:=StartOfSession)=\"&A58&\"\", \"Bar\", \"\", \"Close\",\"5\",\"0\",\"PrimaryOnly\",,,\"False\",\"T\",\"EveryTick\")","v":1.1799500000000001},-8.0447116605979023E-4,{"$f":"RTD(\"cqg.rtd\",,\"StudyData\", \"Close(\"&$D$12&\") when LocalYear(\"&$D$12&\")=\"&$D$5&\" and localMonth(\"&$D$12&\") =\"&$E$5&\" and LocalDay(\"&$D$12&\")=\"&$F$5&\" and Barix(\"&$D$12&\",reference:=StartOfSession)=\"&A58&\"\", \"Bar\", \"\", \"Close\",\"5\",\"0\",\"PrimaryOnly\",,,\"False\",\"T\",\"EveryTick\")","v":1.1806000000000001},8.4709868699694174E-5,{"$f":"RTD(\"cqg.rtd\",,\"StudyData\", \"Close(\"&$D$12&\") when LocalYear(\"&$D$12&\")=\"&$D$6&\" and localMonth(\"&$D$12&\") =\"&$E$6&\" and LocalDay(\"&$D$12&\")=\"&$F$6&\" and Barix(\"&$D$12&\",reference:=StartOfSession)=\"&A58&\"\", \"Bar\", \"\", \"Close\",\"5\",\"0\",\"PrimaryOnly\",,,\"False\",\"T\",\"EveryTick\")","v":1.18025},5.2380546801806495E-3,{"$f":"RTD(\"cqg.rtd\",,\"StudyData\", \"Close(\"&$D$12&\") when LocalYear(\"&$D$12&\")=\"&$D$7&\" and localMonth(\"&$D$12&\") =\"&$E$7&\" and LocalDay(\"&$D$12&\")=\"&$F$7&\" and Barix(\"&$D$12&\",reference:=StartOfSession)=\"&A58&\"\", \"Bar\", \"\", \"Close\",\"5\",\"0\",\"PrimaryOnly\",,,\"False\",\"T\",\"EveryTick\")","v":1.1748499999999999},2.9023859319645289E-3,{"$f":"RTD(\"cqg.rtd\",,\"StudyData\", \"Close(\"&$D$12&\") when LocalYear(\"&$D$12&\")=\"&$D$8&\" and localMonth(\"&$D$12&\") =\"&$E$8&\" and LocalDay(\"&$D$12&\")=\"&$F$8&\" and Barix(\"&$D$12&\",reference:=StartOfSession)=\"&A58&\"\", \"Bar\", \"\", \"Close\",\"5\",\"0\",\"PrimaryOnly\",,,\"False\",\"T\",\"EveryTick\")","v":1.1721999999999999},4.0686967321939349E-3,{"$f":"RTD(\"cqg.rtd\",,\"StudyData\", \"Close(\"&$D$12&\") when LocalYear(\"&$D$12&\")=\"&$D$9&\" and localMonth(\"&$D$12&\") =\"&$E$9&\" and LocalDay(\"&$D$12&\")=\"&$F$9&\" and Barix(\"&$D$12&\",reference:=StartOfSession)=\"&A58&\"\", \"Bar\", \"\", \"Close\",\"5\",\"0\",\"PrimaryOnly\",,,\"False\",\"T\",\"EveryTick\")","v":1.17455},7.6683849529237921E-4,{"$f":"RTD(\"cqg.rtd\",,\"StudyData\", \"Close(\"&$D$12&\") when LocalYear(\"&$D$12&\")=\"&$D$10&\" and localMonth(\"&$D$12&\") =\"&$E$10&\" and LocalDay(\"&$D$12&\")=\"&$F$10&\" and Barix(\"&$D$12&\",reference:=StartOfSession)=\"&A58&\"\", \"Bar\", \"\", \"Close\",\"5\",\"0\",\"PrimaryOnly\",,,\"False\",\"T\",\"EveryTick\")","v":1.1649499999999999},2.2368477653029947E-3,null,null,null,""]
[238,"12:50:00",-19,{"$f":" RTD(\"cqg.rtd\",,\"StudyData\", $D$12,  \"Tick\", \"FlatTicks=0\", \"Tick\",\"D\",C59,\"PrimaryOnly\")","v":1.1715500000000001},null,null,null,{"$f":"RTD(\"cqg.rtd\",,\"StudyData\", \"Close(\"&$D$12&\") when LocalYear(\"&$D$12&\")=\"&$D$1&\" and localMonth(\"&$D$12&\") =\"&$E$1&\" and LocalDay(\"&$D$12&\")=\"&$F$1&\" and Barix(\"&$D$12&\",reference:=StartOfSession)=\"&A59&\"\", \"Bar\", \"\", \"Close\",\"5\",\"0\",\"PrimaryOnly\",,,\"False\",\"T\",\"EveryTick\")","v":""},{"$error":"#N/A"},{"$f":"RTD(\"cqg.rtd\",,\"StudyData\", \"Close(\"&$D$12&\") when LocalYear(\"&$D$12&\")=\"&$D$2&\" and localMonth(\"&$D$12&\") =\"&$E$2&\" and LocalDay(\"&$D$12&\")=\"&$F$2&\" and Barix(\"&$D$12&\",reference:=StartOfSession)=\"&A59&\"\", \"Bar\", \"\", \"Close\",\"5\",\"0\",\"PrimaryOnly\",,,\"False\",\"T\",\"EveryTick\")","v":1.1731499999999999},1.2787723785155367E-4,{"$f":"RTD(\"cqg.rtd\",,\"StudyData\", \"Close(\"&$D$12&\") when LocalYear(\"&$D$12&\")=\"&$D$3&\" and localMonth(\"&$D$12&\") =\"&$E$3&\" and LocalDay(\"&$D$12&\")=\"&$F$3&\" and Barix(\"&$D$12&\",reference:=StartOfSession)=\"&A59&\"\", \"Bar\", \"\", \"Close\",\"5\",\"0\",\"PrimaryOnly\",,,\"False\",\"T\",\"EveryTick\")","v":1.173},-6.269061335140505E-3,{"$f":"RTD(\"cqg.rtd\",,\"StudyData\", \"Close(\"&$D$12&\") when LocalYear(\"&$D$12&\")=\"&$D$4&\" and localMonth(\"&$D$12&\") =\"&$E$4&\" and LocalDay(\"&$D$12&\")=\"&$F$4&\" and Barix(\"&$D$12&\",reference:=StartOfSession)=\"&A59&\"\", \"Bar\", \"\", \"Close\",\"5\",\"0\",\"PrimaryOnly\",,,\"False\",\"T\",\"EveryTick\")","v":1.1802999999999999},-5.0808705224841724E-4,{"$f":"RTD(\"cqg.rtd\",,\"StudyData\", \"Close(\"&$D$12&\") when LocalYear(\"&$D$12&\")=\"&$D$5&\" and localMonth(\"&$D$12&\") =\"&$E$5&\" and LocalDay(\"&$D$12&\")=\"&$F$5&\" and Barix(\"&$D$12&\",reference:=StartOfSession)=\"&A59&\"\", \"Bar\", \"\", \"Close\",\"5\",\"0\",\"PrimaryOnly\",,,\"False\",\"T\",\"EveryTick\")","v":1.181},4.2354934349847088E-4,{"$f":"RTD(\"cqg.rtd\",,\"StudyData\", \"Close(\"&$D$12&\") when LocalYear(\"&$D$12&\")=\"&$D$6&\" and localMonth(\"&$D$12&\") =\"&$E$6&\" and LocalDay(\"&$D$12&\")=\"&$F$6&\" and Barix(\"&$D$12&\",reference:=StartOfSession)=\"&A59&\"\", \"Bar\", \"\", \"Close\",\"5\",\"0\",\"PrimaryOnly\",,,\"False\",\"T\",\"EveryTick\")","v":1.18015},5.1528830593647141E-3,{"$f":"RTD(\"cqg.rtd\",,\"StudyData\", \"Close(\"&$D$12&\") when LocalYear(\"&$D$12&\")=\"&$D$7&\" and localMonth(\"&$D$12&\") =\"&$E$7&\" and LocalDay(\"&$D$12&\")=\"&$F$7&\" and Barix(\"&$D$12&\",reference:=StartOfSession)=\"&A59&\"\", \"Bar\", \"\", \"Close\",\"5\",\"0\",\"PrimaryOnly\",,,\"False\",\"T\",\"EveryTick\")","v":1.1747000000000001},2.7743394937897264E-3,{"$f":"RTD(\"cqg.rtd\",,\"StudyData\", \"Close(\"&$D$12&\") when LocalYear(\"&$D$12&\")=\"&$D$8&\" and localMonth(\"&$D$12&\") =\"&$E$8&\" and LocalDay(\"&$D$12&\")=\"&$F$8&\" and Barix(\"&$D$12&\",reference:=StartOfSession)=\"&A59&\"\", \"Bar\", \"\", \"Close\",\"5\",\"0\",\"PrimaryOnly\",,,\"False\",\"T\",\"EveryTick\")","v":1.1721999999999999},4.0686967321939349E-3,{"$f":"RTD(\"cqg.rtd\",,\"StudyData\", \"Close(\"&$D$12&\") when LocalYear(\"&$D$12&\")=\"&$D$9&\" and localMonth(\"&$D$12&\") =\"&$E$9&\" and LocalDay(\"&$D$12&\")=\"&$F$9&\" and Barix(\"&$D$12&\",reference:=StartOfSession)=\"&A59&\"\", \"Bar\", \"\", \"Close\",\"5\",\"0\",\"PrimaryOnly\",,,\"False\",\"T\",\"EveryTick\")","v":1.1745000000000001},7.2423635666511938E-4,{"$f":"RTD(\"cqg.rtd\",,\"StudyData\", \"Close(\"&$D$12&\") when LocalYear(\"&$D$12&\")=\"&$D$10&\" and localMonth(\"&$D$12&\") =\"&$E$10&\" and LocalDay(\"&$D$12&\")=\"&$F$10&\" and Barix(\"&$D$12&\",reference:=StartOfSession)=\"&A59&\"\", \"Bar\", \"\", \"Close\",\"5\",\"0\",\"PrimaryOnly\",,,\"False\",\"T\",\"EveryTick\")","v":1.1650499999999999},2.3228803716607948E-3,null,null,null,""]
[239,"12:55:00",-18,{"$f":" RTD(\"cqg.rtd\",,\"StudyData\", $D$12,  \"Tick\", \"FlatTicks=0\", \"Tick\",\"D\",C60,\"PrimaryOnly\")","v":1.1716},null,null,null,{"$f":"RTD(\"cqg.rtd\",,\"StudyData\", \"Close(\"&$D$12&\") when LocalYear(\"&$D$12&\")=\"&$D$1&\" and localMonth(\"&$D$12&\") =\"&$E$1&\" and LocalDay(\"&$D$12&\")=\"&$F$1&\" and Barix(\"&$D$12&\",reference:=StartOfSession)=\"&A60&\"\", \"Bar\", \"\", \"Close\",\"5\",\"0\",\"PrimaryOnly\",,,\"False\",\"T\",\"EveryTick\")","v":""},{"$error":"#N/A"},{"$f":"RTD(\"cqg.rtd\",,\"StudyData\", \"Close(\"&$D$12&\") when LocalYear(\"&$D$12&\")=\"&$D$2&\" and localMonth(\"&$D$12&\") =\"&$E$2&\" and LocalDay(\"&$D$12&\")=\"&$F$2&\" and Barix(\"&$D$12&\",reference:=StartOfSession)=\"&A60&\"\", \"Bar\", \"\", \"Close\",\"5\",\"0\",\"PrimaryOnly\",,,\"False\",\"T\",\"EveryTick\")","v":1.1731},8.5251491901098875E-5,{"$f":"RTD(\"cqg.rtd\",,\"StudyData\", \"Close(\"&$D$12&\") when LocalYear(\"&$D$12&\")=\"&$D$3&\" and localMonth(\"&$D$12&\") =\"&$E$3&\" and LocalDay(\"&$D$12&\")=\"&$F$3&\" and Barix(\"&$D$12&\",reference:=StartOfSession)=\"&A60&\"\", \"Bar\", \"\", \"Close\",\"5\",\"0\",\"PrimaryOnly\",,,\"False\",\"T\",\"EveryTick\")","v":1.1730499999999999},-6.2267028126058695E-3,{"$f":"RTD(\"cqg.rtd\",,\"StudyData\", \"Close(\"&$D$12&\") when LocalYear(\"&$D$12&\")=\"&$D$4&\" and localMonth(\"&$D$12&\") =\"&$E$4&\" and LocalDay(\"&$D$12&\")=\"&$F$4&\" and Barix(\"&$D$12&\",reference:=StartOfSession)=\"&A60&\"\", \"Bar\", \"\", \"Close\",\"5\",\"0\",\"PrimaryOnly\",,,\"False\",\"T\",\"EveryTick\")","v":1.18045},-3.8106528918626596E-4,{"$f":"RTD(\"cqg.rtd\",,\"StudyData\", \"Close(\"&$D$12&\") when LocalYear(\"&$D$12&\")=\"&$D$5&\" and localMonth(\"&$D$12&\") =\"&$E$5&\" and LocalDay(\"&$D$12&\")=\"&$F$5&\" and Barix(\"&$D$12&\",reference:=StartOfSession)=\"&A60&\"\", \"Bar\", \"\", \"Close\",\"5\",\"0\",\"PrimaryOnly\",,,\"False\",\"T\",\"EveryTick\")","v":1.18085},2.964845404488356E-4,{"$f":"RTD(\"cqg.rtd\",,\"StudyData\", \"Close(\"&$D$12&\") when LocalYear(\"&$D$12&\")=\"&$D$6&\" and localMonth(\"&$D$12&\") =\"&$E$6&\" and LocalDay(\"&$D$12&\")=\"&$F$6&\" and Barix(\"&$D$12&\",reference:=StartOfSession)=\"&A60&\"\", \"Bar\", \"\", \"Close\",\"5\",\"0\",\"PrimaryOnly\",,,\"False\",\"T\",\"EveryTick\")","v":1.18015},5.1528830593647141E-3,{"$f":"RTD(\"cqg.rtd\",,\"StudyData\", \"Close(\"&$D$12&\") when LocalYear(\"&$D$12&\")=\"&$D$7&\" and localMonth(\"&$D$12&\") =\"&$E$7&\" and LocalDay(\"&$D$12&\")=\"&$F$7&\" and Barix(\"&$D$12&\",reference:=StartOfSession)=\"&A60&\"\", \"Bar\", \"\", \"Close\",\"5\",\"0\",\"PrimaryOnly\",,,\"False\",\"T\",\"EveryTick\")","v":1.17445},2.5609287634981359E-3,{"$f":"RTD(\"cqg.rtd\",,\"StudyData\", \"Close(\"&$D$12&\") when LocalYear(\"&$D$12&\")=\"&$D$8&\" and localMonth(\"&$D$12&\") =\"&$E$8&\" and LocalDay(\"&$D$12&\")=\"&$F$8&\" and Barix(\"&$D$12&\",reference:=StartOfSession)=\"&A60&\"\", \"Bar\", \"\", \"Close\",\"5\",\"0\",\"PrimaryOnly\",,,\"False\",\"T\",\"EveryTick\")","v":1.1721999999999999},4.0686967321939349E-3,{"$f":"RTD(\"cqg.rtd\",,\"StudyData\", \"Close(\"&$D$12&\") when LocalYear(\"&$D$12&\")=\"&$D$9&\" and localMonth(\"&$D$12&\") =\"&$E$9&\" and LocalDay(\"&$D$12&\")=\"&$F$9&\" and Barix(\"&$D$12&\",reference:=StartOfSession)=\"&A60&\"\", \"Bar\", \"\", \"Close\",\"5\",\"0\",\"PrimaryOnly\",,,\"False\",\"T\",\"EveryTick\")","v":1.17455},7.6683849529237921E-4,{"$f":"RTD(\"cqg.rtd\",,\"StudyData\", \"Close(\"&$D$12&\") when LocalYear(\"&$D$12&\")=\"&$D$10&\" and localMonth(\"&$D$12&\") =\"&$E$10&\" and LocalDay(\"&$D$12&\")=\"&$F$10&\" and Barix(\"&$D$12&\",reference:=StartOfSession)=\"&A60&\"\", \"Bar\", \"\", \"Close\",\"5\",\"0\",\"PrimaryOnly\",,,\"False\",\"T\",\"EveryTick\")","v":1.1651},2.3658966748397901E-3,null,null,null,""]
[240,"13:00:00",-17,{"$f":" RTD(\"cqg.rtd\",,\"StudyData\", $D$12,  \"Tick\", \"FlatTicks=0\", \"Tick\",\"D\",C61,\"PrimaryOnly\")","v":1.1716500000000001},null,null,null,{"$f":"RTD(\"cqg.rtd\",,\"StudyData\", \"Close(\"&$D$12&\") when LocalYear(\"&$D$12&\")=\"&$D$1&\" and localMonth(\"&$D$12&\") =\"&$E$1&\" and LocalDay(\"&$D$12&\")=\"&$F$1&\" and Barix(\"&$D$12&\",reference:=StartOfSession)=\"&A61&\"\", \"Bar\", \"\", \"Close\",\"5\",\"0\",\"PrimaryOnly\",,,\"False\",\"T\",\"EveryTick\")","v":""},{"$error":"#N/A"},{"$f":"RTD(\"cqg.rtd\",,\"StudyData\", \"Close(\"&$D$12&\") when LocalYear(\"&$D$12&\")=\"&$D$2&\" and localMonth(\"&$D$12&\") =\"&$E$2&\" and LocalDay(\"&$D$12&\")=\"&$F$2&\" and Barix(\"&$D$12&\",reference:=StartOfSession)=\"&A61&\"\", \"Bar\", \"\", \"Close\",\"5\",\"0\",\"PrimaryOnly\",,,\"False\",\"T\",\"EveryTick\")","v":1.1729000000000001},-8.5251491901098875E-5,{"$f":"RTD(\"cqg.rtd\",,\"StudyData\", \"Close(\"&$D$12&\") when LocalYear(\"&$D$12&\")=\"&$D$3&\" and localMonth(\"&$D$12&\") =\"&$E$3&\" and LocalDay(\"&$D$12&\")=\"&$F$3&\" and Barix(\"&$D$12&\",reference:=StartOfSession)=\"&A61&\"\", \"Bar\", \"\", \"Close\",\"5\",\"0\",\"PrimaryOnly\",,,\"False\",\"T\",\"EveryTick\")","v":1.1728000000000001},-6.4384954252794217E-3,{"$f":"RTD(\"cqg.rtd\",,\"StudyData\", \"Close(\"&$D$12&\") when LocalYear(\"&$D$12&\")=\"&$D$4&\" and localMonth(\"&$D$12&\") =\"&$E$4&\" and LocalDay(\"&$D$12&\")=\"&$F$4&\" and Barix(\"&$D$12&\",reference:=StartOfSession)=\"&A61&\"\", \"Bar\", \"\", \"Close\",\"5\",\"0\",\"PrimaryOnly\",,,\"False\",\"T\",\"EveryTick\")","v":1.1803999999999999},-4.2340587687371238E-4,{"$f":"RTD(\"cqg.rtd\",,\"StudyData\", \"Close(\"&$D$12&\") when LocalYear(\"&$D$12&\")=\"&$D$5&\" and localMonth(\"&$D$12&\") =\"&$E$5&\" and LocalDay(\"&$D$12&\")=\"&$F$5&\" and Barix(\"&$D$12&\",reference:=StartOfSession)=\"&A61&\"\", \"Bar\", \"\", \"Close\",\"5\",\"0\",\"PrimaryOnly\",,,\"False\",\"T\",\"EveryTick\")","v":1.1811},5.0825921219816502E-4,{"$f":"RTD(\"cqg.rtd\",,\"StudyData\", \"Close(\"&$D$12&\") when LocalYear(\"&$D$12&\")=\"&$D$6&\" and localMonth(\"&$D$12&\") =\"&$E$6&\" and LocalDay(\"&$D$12&\")=\"&$F$6&\" and Barix(\"&$D$12&\",reference:=StartOfSession)=\"&A61&\"\", \"Bar\", \"\", \"Close\",\"5\",\"0\",\"PrimaryOnly\",,,\"False\",\"T\",\"EveryTick\")","v":1.1801999999999999},5.1954688697725872E-3,{"$f":"RTD(\"cqg.rtd\",,\"StudyData\", \"Close(\"&$D$12&\") when LocalYear(\"&$D$12&\")=\"&$D$7&\" and localMonth(\"&$D$12&\") =\"&$E$7&\" and LocalDay(\"&$D$12&\")=\"&$F$7&\" and Barix(\"&$D$12&\",reference:=StartOfSession)=\"&A61&\"\", \"Bar\", \"\", \"Close\",\"5\",\"0\",\"PrimaryOnly\",,,\"False\",\"T\",\"EveryTick\")","v":1.17435},2.4755644713815379E-3,{"$f":"RTD(\"cqg.rtd\",,\"StudyData\", \"Close(\"&$D$12&\") when LocalYear(\"&$D$12&\")=\"&$D$8&\" and localMonth(\"&$D$12&\") =\"&$E$8&\" and LocalDay(\"&$D$12&\")=\"&$F$8&\" and Barix(\"&$D$12&\",reference:=StartOfSession)=\"&A61&\"\", \"Bar\", \"\", \"Close\",\"5\",\"0\",\"PrimaryOnly\",,,\"False\",\"T\",\"EveryTick\")","v":1.17235},4.1971818921580405E-3,{"$f":"RTD(\"cqg.rtd\",,\"StudyData\", \"Close(\"&$D$12&\") when LocalYear(\"&$D$12&\")=\"&$D$9&\" and localMonth(\"&$D$12&\") =\"&$E$9&\" and LocalDay(\"&$D$12&\")=\"&$F$9&\" and Barix(\"&$D$12&\",reference:=StartOfSession)=\"&A61&\"\", \"Bar\", \"\", \"Close\",\"5\",\"0\",\"PrimaryOnly\",,,\"False\",\"T\",\"EveryTick\")","v":1.17475},9.3724704980179679E-4,{"$f":"RTD(\"cqg.rtd\",,\"StudyData\", \"Close(\"&$D$12&\") when LocalYear(\"&$D$12&\")=\"&$D$10&\" and localMonth(\"&$D$12&\") =\"&$E$10&\" and LocalDay(\"&$D$12&\")=\"&$F$10&\" and Barix(\"&$D$12&\",reference:=StartOfSession)=\"&A61&\"\", \"Bar\", \"\", \"Close\",\"5\",\"0\",\"PrimaryOnly\",,,\"False\",\"T\",\"EveryTick\")","v":1.1646000000000001},1.9357336430507895E-3,null,null,null,""]
[241,"13:05:00",-16,{"$f":" RTD(\"cqg.rtd\",,\"StudyData\", $D$12,  \"Tick\", \"FlatTicks=0\", \"Tick\",\"D\",C62,\"PrimaryOnly\")","v":1.1716},null,null,null,{"$f":"RTD(\"cqg.rtd\",,\"StudyData\", \"Close(\"&$D$12&\") when LocalYear(\"&$D$12&\")=\"&$D$1&\" and localMonth(\"&$D$12&\") =\"&$E$1&\" and LocalDay(\"&$D$12&\")=\"&$F$1&\" and Barix(\"&$D$12&\",reference:=StartOfSession)=\"&A62&\"\", \"Bar\", \"\", \"Close\",\"5\",\"0\",\"PrimaryOnly\",,,\"False\",\"T\",\"EveryTick\")","v":""},{"$error":"#N/A"},{"$f":"RTD(\"cqg.rtd\",,\"StudyData\", \"Close(\"&$D$12&\") when LocalYear(\"&$D$12&\")=\"&$D$2&\" and localMonth(\"&$D$12&\") =\"&$E$2&\" and LocalDay(\"&$D$12&\")=\"&$F$2&\" and Barix(\"&$D$12&\",reference:=StartOfSession)=\"&A62&\"\", \"Bar\", \"\", \"Close\",\"5\",\"0\",\"PrimaryOnly\",,,\"False\",\"T\",\"EveryTick\")","v":1.1726000000000001},-3.410059676043955E-4,{"$f":"RTD(\"cqg.rtd\",,\"StudyData\", \"Close(\"&$D$12&\") when LocalYear(\"&$D$12&\")=\"&$D$3&\" and localMonth(\"&$D$12&\") =\"&$E$3&\" and LocalDay(\"&$D$12&\")=\"&$F$3&\" and Barix(\"&$D$12&\",reference:=StartOfSession)=\"&A62&\"\", \"Bar\", \"\", \"Close\",\"5\",\"0\",\"PrimaryOnly\",,,\"False\",\"T\",\"EveryTick\")","v":1.1728000000000001},-6.4384954252794217E-3,{"$f":"RTD(\"cqg.rtd\",,\"StudyData\", \"Close(\"&$D$12&\") when LocalYear(\"&$D$12&\")=\"&$D$4&\" and localMonth(\"&$D$12&\") =\"&$E$4&\" and LocalDay(\"&$D$12&\")=\"&$F$4&\" and Barix(\"&$D$12&\",reference:=StartOfSession)=\"&A62&\"\", \"Bar\", \"\", \"Close\",\"5\",\"0\",\"PrimaryOnly\",,,\"False\",\"T\",\"EveryTick\")","v":1.1806000000000001},-2.5404352612411462E-4,{"$f":"RTD(\"cqg.rtd\",,\"StudyData\", \"Close(\"&$D$12&\") when LocalYear(\"&$D$12&\")=\"&$D$5&\" and localMonth(\"&$D$12&\") =\"&$E$5&\" and LocalDay(\"&$D$12&\")=\"&$F$5&\" and Barix(\"&$D$12&\",reference:=StartOfSession)=\"&A62&\"\", \"Bar\", \"\", \"Close\",\"5\",\"0\",\"PrimaryOnly\",,,\"False\",\"T\",\"EveryTick\")","v":1.1811},5.0825921219816502E-4,{"$f":"RTD(\"cqg.rtd\",,\"StudyData\", \"Close(\"&$D$12&\") when LocalYear(\"&$D$12&\")=\"&$D$6&\" and localMonth(\"&$D$12&\") =\"&$E$6&\" and LocalDay(\"&$D$12&\")=\"&$F$6&\" and Barix(\"&$D$12&\",reference:=StartOfSession)=\"&A62&\"\", \"Bar\", \"\", \"Close\",\"5\",\"0\",\"PrimaryOnly\",,,\"False\",\"T\",\"EveryTick\")","v":1.18015},5.1528830593647141E-3,{"$f":"RTD(\"cqg.rtd\",,\"StudyData\", \"Close(\"&$D$12&\") when LocalYear(\"&$D$12&\")=\"&$D$7&\" and localMonth(\"&$D$12&\") =\"&$E$7&\" and LocalDay(\"&$D$12&\")=\"&$F$7&\" and Barix(\"&$D$12&\",reference:=StartOfSession)=\"&A62&\"\", \"Bar\", \"\", \"Close\",\"5\",\"0\",\"PrimaryOnly\",,,\"False\",\"T\",\"EveryTick\")","v":1.1738500000000001},2.0487430107985465E-3,{"$f":"RTD(\"cqg.rtd\",,\"StudyData\", \"Close(\"&$D$12&\") when LocalYear(\"&$D$12&\")=\"&$D$8&\" and localMonth(\"&$D$12&\") =\"&$E$8&\" and LocalDay(\"&$D$12&\")=\"&$F$8&\" and Barix(\"&$D$12&\",reference:=StartOfSession)=\"&A62&\"\", \"Bar\", \"\", \"Close\",\"5\",\"0\",\"PrimaryOnly\",,,\"False\",\"T\",\"EveryTick\")","v":1.17215},4.0258683455393603E-3,{"$f":"RTD(\"cqg.rtd\",,\"StudyData\", \"Close(\"&$D$12&\") when LocalYear(\"&$D$12&\")=\"&$D$9&\" and localMonth(\"&$D$12&\") =\"&$E$9&\" and LocalDay(\"&$D$12&\")=\"&$F$9&\" and Barix(\"&$D$12&\",reference:=StartOfSession)=\"&A62&\"\", \"Bar\", \"\", \"Close\",\"5\",\"0\",\"PrimaryOnly\",,,\"False\",\"T\",\"EveryTick\")","v":1.1748499999999999},1.0224513270565055E-3,{"$f":"RTD(\"cqg.rtd\",,\"StudyData\", \"Close(\"&$D$12&\") when LocalYear(\"&$D$12&\")=\"&$D$10&\" and localMonth(\"&$D$12&\") =\"&$E$10&\" and LocalDay(\"&$D$12&\")=\"&$F$10&\" and Barix(\"&$D$12&\",reference:=StartOfSession)=\"&A62&\"\", \"Bar\", \"\", \"Close\",\"5\",\"0\",\"PrimaryOnly\",,,\"False\",\"T\",\"EveryTick\")","v":1.1639999999999999},1.4195380049037978E-3,null,null,null,""]
[242,"13:10:00",-15,{"$f":" RTD(\"cqg.rtd\",,\"StudyData\", $D$12,  \"Tick\", \"FlatTicks=0\", \"Tick\",\"D\",C63,\"PrimaryOnly\")","v":1.1716500000000001},null,null,null,{"$f":"RTD(\"cqg.rtd\",,\"StudyData\", \"Close(\"&$D$12&\") when LocalYear(\"&$D$12&\")=\"&$D$1&\" and localMonth(\"&$D$12&\") =\"&$E$1&\" and LocalDay(\"&$D$12&\")=\"&$F$1&\" and Barix(\"&$D$12&\",reference:=StartOfSession)=\"&A63&\"\", \"Bar\", \"\", \"Close\",\"5\",\"0\",\"PrimaryOnly\",,,\"False\",\"T\",\"EveryTick\")","v":""},{"$error":"#N/A"},{"$f":"RTD(\"cqg.rtd\",,\"StudyData\", \"Close(\"&$D$12&\") when LocalYear(\"&$D$12&\")=\"&$D$2&\" and localMonth(\"&$D$12&\") =\"&$E$2&\" and LocalDay(\"&$D$12&\")=\"&$F$2&\" and Barix(\"&$D$12&\",reference:=StartOfSession)=\"&A63&\"\", \"Bar\", \"\", \"Close\",\"5\",\"0\",\"PrimaryOnly\",,,\"False\",\"T\",\"EveryTick\")","v":1.17275},-2.1312872975284185E-4,{"$f":"RTD(\"cqg.rtd\",,\"StudyData\", \"Close(\"&$D$12&\") when LocalYear(\"&$D$12&\")=\"&$D$3&\" and localMonth(\"&$D$12&\") =\"&$E$3&\" and LocalDay(\"&$D$12&\")=\"&$F$3&\" and Barix(\"&$D$12&\",reference:=StartOfSession)=\"&A63&\"\", \"Bar\", \"\", \"Close\",\"5\",\"0\",\"PrimaryOnly\",,,\"False\",\"T\",\"EveryTick\")","v":1.1728499999999999},-6.3961369027447871E-3,{"$f":"RTD(\"cqg.rtd\",,\"StudyData\", \"Close(\"&$D$12&\") when LocalYear(\"&$D$12&\")=\"&$D$4&\" and localMonth(\"&$D$12&\") =\"&$E$4&\" and LocalDay(\"&$D$12&\")=\"&$F$4&\" and Barix(\"&$D$12&\",reference:=StartOfSession)=\"&A63&\"\", \"Bar\", \"\", \"Close\",\"5\",\"0\",\"PrimaryOnly\",,,\"False\",\"T\",\"EveryTick\")","v":1.18025},-5.5042763993567567E-4,{"$f":"RTD(\"cqg.rtd\",,\"StudyData\", \"Close(\"&$D$12&\") when LocalYear(\"&$D$12&\")=\"&$D$5&\" and localMonth(\"&$D$12&\") =\"&$E$5&\" and LocalDay(\"&$D$12&\")=\"&$F$5&\" and Barix(\"&$D$12&\",reference:=StartOfSession)=\"&A63&\"\", \"Bar\", \"\", \"Close\",\"5\",\"0\",\"PrimaryOnly\",,,\"False\",\"T\",\"EveryTick\")","v":1.1810499999999999},4.6590427784822392E-4,{"$f":"RTD(\"cqg.rtd\",,\"StudyData\", \"Close(\"&$D$12&\") when LocalYear(\"&$D$12&\")=\"&$D$6&\" and localMonth(\"&$D$12&\") =\"&$E$6&\" and LocalDay(\"&$D$12&\")=\"&$F$6&\" and Barix(\"&$D$12&\",reference:=StartOfSession)=\"&A63&\"\", \"Bar\", \"\", \"Close\",\"5\",\"0\",\"PrimaryOnly\",,,\"False\",\"T\",\"EveryTick\")","v":1.1800999999999999},5.1102972489566528E-3,{"$f":"RTD(\"cqg.rtd\",,\"StudyData\", \"Close(\"&$D$12&\") when LocalYear(\"&$D$12&\")=\"&$D$7&\" and localMonth(\"&$D$12&\") =\"&$E$7&\" and LocalDay(\"&$D$12&\")=\"&$F$7&\" and Barix(\"&$D$12&\",reference:=StartOfSession)=\"&A63&\"\", \"Bar\", \"\", \"Close\",\"5\",\"0\",\"PrimaryOnly\",,,\"False\",\"T\",\"EveryTick\")","v":1.1736},1.8353322805069563E-3,{"$f":"RTD(\"cqg.rtd\",,\"StudyData\", \"Close(\"&$D$12&\") when LocalYear(\"&$D$12&\")=\"&$D$8&\" and localMonth(\"&$D$12&\") =\"&$E$8&\" and LocalDay(\"&$D$12&\")=\"&$F$8&\" and Barix(\"&$D$12&\",reference:=StartOfSession)=\"&A63&\"\", \"Bar\", \"\", \"Close\",\"5\",\"0\",\"PrimaryOnly\",,,\"False\",\"T\",\"EveryTick\")","v":1.1725000000000001},4.3256670521221452E-3,{"$f":"RTD(\"cqg.rtd\",,\"StudyData\", \"Close(\"&$D$12&\") when LocalYear(\"&$D$12&\")=\"&$D$9&\" and localMonth(\"&$D$12&\") =\"&$E$9&\" and LocalDay(\"&$D$12&\")=\"&$F$9&\" and Barix(\"&$D$12&\",reference:=StartOfSession)=\"&A63&\"\", \"Bar\", \"\", \"Close\",\"5\",\"0\",\"PrimaryOnly\",,,\"False\",\"T\",\"EveryTick\")","v":1.17455},7.6683849529237921E-4,{"$f":"RTD(\"cqg.rtd\",,\"StudyData\", \"Close(\"&$D$12&\") when LocalYear(\"&$D$12&\")=\"&$D$10&\" and localMonth(\"&$D$12&\") =\"&$E$10&\" and LocalDay(\"&$D$12&\")=\"&$F$10&\" and Barix(\"&$D$12&\",reference:=StartOfSession)=\"&A63&\"\", \"Bar\", \"\", \"Close\",\"5\",\"0\",\"PrimaryOnly\",,,\"False\",\"T\",\"EveryTick\")","v":1.1637},1.1614401858303974E-3,null,null,null,""]
[243,"13:15:00",-14,{"$f":" RTD(\"cqg.rtd\",,\"StudyData\", $D$12,  \"Tick\", \"FlatTicks=0\", \"Tick\",\"D\",C64,\"PrimaryOnly\")","v":1.1717},null,null,null,{"$f":"RTD(\"cqg.rtd\",,\"StudyData\", \"Close(\"&$D$12&\") when LocalYear(\"&$D$12&\")=\"&$D$1&\" and localMonth(\"&$D$12&\") =\"&$E$1&\" and LocalDay(\"&$D$12&\")=\"&$F$1&\" and Barix(\"&$D$12&\",reference:=StartOfSession)=\"&A64&\"\", \"Bar\", \"\", \"Close\",\"5\",\"0\",\"PrimaryOnly\",,,\"False\",\"T\",\"EveryTick\")","v":""},{"$error":"#N/A"},{"$f":"RTD(\"cqg.rtd\",,\"StudyData\", \"Close(\"&$D$12&\") when LocalYear(\"&$D$12&\")=\"&$D$2&\" and localMonth(\"&$D$12&\") =\"&$E$2&\" and LocalDay(\"&$D$12&\")=\"&$F$2&\" and Barix(\"&$D$12&\",reference:=StartOfSession)=\"&A64&\"\", \"Bar\", \"\", \"Close\",\"5\",\"0\",\"PrimaryOnly\",,,\"False\",\"T\",\"EveryTick\")","v":1.17255},-3.836317135550396E-4,{"$f":"RTD(\"cqg.rtd\",,\"StudyData\", \"Close(\"&$D$12&\") when LocalYear(\"&$D$12&\")=\"&$D$3&\" and localMonth(\"&$D$12&\") =\"&$E$3&\" and LocalDay(\"&$D$12&\")=\"&$F$3&\" and Barix(\"&$D$12&\",reference:=StartOfSession)=\"&A64&\"\", \"Bar\", \"\", \"Close\",\"5\",\"0\",\"PrimaryOnly\",,,\"False\",\"T\",\"EveryTick\")","v":1.173},-6.269061335140505E-3,{"$f":"RTD(\"cqg.rtd\",,\"StudyData\", \"Close(\"&$D$12&\") when LocalYear(\"&$D$12&\")=\"&$D$4&\" and localMonth(\"&$D$12&\") =\"&$E$4&\" and LocalDay(\"&$D$12&\")=\"&$F$4&\" and Barix(\"&$D$12&\",reference:=StartOfSession)=\"&A64&\"\", \"Bar\", \"\", \"Close\",\"5\",\"0\",\"PrimaryOnly\",,,\"False\",\"T\",\"EveryTick\")","v":1.18025},-5.5042763993567567E-4,{"$f":"RTD(\"cqg.rtd\",,\"StudyData\", \"Close(\"&$D$12&\") when LocalYear(\"&$D$12&\")=\"&$D$5&\" and localMonth(\"&$D$12&\") =\"&$E$5&\" and LocalDay(\"&$D$12&\")=\"&$F$5&\" and Barix(\"&$D$12&\",reference:=StartOfSession)=\"&A64&\"\", \"Bar\", \"\", \"Close\",\"5\",\"0\",\"PrimaryOnly\",,,\"False\",\"T\",\"EveryTick\")","v":1.1809499999999999},3.8119440914852974E-4,{"$f":"RTD(\"cqg.rtd\",,\"StudyData\", \"Close(\"&$D$12&\") when LocalYear(\"&$D$12&\")=\"&$D$6&\" and localMonth(\"&$D$12&\") =\"&$E$6&\" and LocalDay(\"&$D$12&\")=\"&$F$6&\" and Barix(\"&$D$12&\",reference:=StartOfSession)=\"&A64&\"\", \"Bar\", \"\", \"Close\",\"5\",\"0\",\"PrimaryOnly\",,,\"False\",\"T\",\"EveryTick\")","v":1.18005},5.0677114385487797E-3,{"$f":"RTD(\"cqg.rtd\",,\"StudyData\", \"Close(\"&$D$12&\") when LocalYear(\"&$D$12&\")=\"&$D$7&\" and localMonth(\"&$D$12&\") =\"&$E$7&\" and LocalDay(\"&$D$12&\")=\"&$F$7&\" and Barix(\"&$D$12&\",reference:=StartOfSession)=\"&A64&\"\", \"Bar\", \"\", \"Close\",\"5\",\"0\",\"PrimaryOnly\",,,\"False\",\"T\",\"EveryTick\")","v":1.17415},2.3048358871483412E-3,{"$f":"RTD(\"cqg.rtd\",,\"StudyData\", \"Close(\"&$D$12&\") when LocalYear(\"&$D$12&\")=\"&$D$8&\" and localMonth(\"&$D$12&\") =\"&$E$8&\" and LocalDay(\"&$D$12&\")=\"&$F$8&\" and Barix(\"&$D$12&\",reference:=StartOfSession)=\"&A64&\"\", \"Bar\", \"\", \"Close\",\"5\",\"0\",\"PrimaryOnly\",,,\"False\",\"T\",\"EveryTick\")","v":1.17205},3.9402115722300202E-3,{"$f":"RTD(\"cqg.rtd\",,\"StudyData\", \"Close(\"&$D$12&\") when LocalYear(\"&$D$12&\")=\"&$D$9&\" and localMonth(\"&$D$12&\") =\"&$E$9&\" and LocalDay(\"&$D$12&\")=\"&$F$9&\" and Barix(\"&$D$12&\",reference:=StartOfSession)=\"&A64&\"\", \"Bar\", \"\", \"Close\",\"5\",\"0\",\"PrimaryOnly\",,,\"False\",\"T\",\"EveryTick\")","v":1.1741999999999999},4.686235249008038E-4,{"$f":"RTD(\"cqg.rtd\",,\"StudyData\", \"Close(\"&$D$12&\") when LocalYear(\"&$D$12&\")=\"&$D$10&\" and localMonth(\"&$D$12&\") =\"&$E$10&\" and LocalDay(\"&$D$12&\")=\"&$F$10&\" and Barix(\"&$D$12&\",reference:=StartOfSession)=\"&A64&\"\", \"Bar\", \"\", \"Close\",\"5\",\"0\",\"PrimaryOnly\",,,\"False\",\"T\",\"EveryTick\")","v":1.1634500000000001},9.4635866993599254E-4,null,null,null,""]
[244,"13:20:00",-13,{"$f":" RTD(\"cqg.rtd\",,\"StudyData\", $D$12,  \"Tick\", \"FlatTicks=0\", \"Tick\",\"D\",C65,\"PrimaryOnly\")","v":1.1716500000000001},null,null,null,{"$f":"RTD(\"cqg.rtd\",,\"StudyData\", \"Close(\"&$D$12&\") when LocalYear(\"&$D$12&\")=\"&$D$1&\" and localMonth(\"&$D$12&\") =\"&$E$1&\" and LocalDay(\"&$D$12&\")=\"&$F$1&\" and Barix(\"&$D$12&\",reference:=StartOfSession)=\"&A65&\"\", \"Bar\", \"\", \"Close\",\"5\",\"0\",\"PrimaryOnly\",,,\"False\",\"T\",\"EveryTick\")","v":""},{"$error":"#N/A"},{"$f":"RTD(\"cqg.rtd\",,\"StudyData\", \"Close(\"&$D$12&\") when LocalYear(\"&$D$12&\")=\"&$D$2&\" and localMonth(\"&$D$12&\") =\"&$E$2&\" and LocalDay(\"&$D$12&\")=\"&$F$2&\" and Barix(\"&$D$12&\",reference:=StartOfSession)=\"&A65&\"\", \"Bar\", \"\", \"Close\",\"5\",\"0\",\"PrimaryOnly\",,,\"False\",\"T\",\"EveryTick\")","v":1.1728499999999999},-1.2787723785174298E-4,{"$f":"RTD(\"cqg.rtd\",,\"StudyData\", \"Close(\"&$D$12&\") when LocalYear(\"&$D$12&\")=\"&$D$3&\" and localMonth(\"&$D$12&\") =\"&$E$3&\" and LocalDay(\"&$D$12&\")=\"&$F$3&\" and Barix(\"&$D$12&\",reference:=StartOfSession)=\"&A65&\"\", \"Bar\", \"\", \"Close\",\"5\",\"0\",\"PrimaryOnly\",,,\"False\",\"T\",\"EveryTick\")","v":1.1728000000000001},-6.4384954252794217E-3,{"$f":"RTD(\"cqg.rtd\",,\"StudyData\", \"Close(\"&$D$12&\") when LocalYear(\"&$D$12&\")=\"&$D$4&\" and localMonth(\"&$D$12&\") =\"&$E$4&\" and LocalDay(\"&$D$12&\")=\"&$F$4&\" and Barix(\"&$D$12&\",reference:=StartOfSession)=\"&A65&\"\", \"Bar\", \"\", \"Close\",\"5\",\"0\",\"PrimaryOnly\",,,\"False\",\"T\",\"EveryTick\")","v":1.18005},-7.1978999068508537E-4,{"$f":"RTD(\"cqg.rtd\",,\"StudyData\", \"Close(\"&$D$12&\") when LocalYear(\"&$D$12&\")=\"&$D$5&\" and localMonth(\"&$D$12&\") =\"&$E$5&\" and LocalDay(\"&$D$12&\")=\"&$F$5&\" and Barix(\"&$D$12&\",reference:=StartOfSession)=\"&A65&\"\", \"Bar\", \"\", \"Close\",\"5\",\"0\",\"PrimaryOnly\",,,\"False\",\"T\",\"EveryTick\")","v":1.1808000000000001},2.5412960609908251E-4,{"$f":"RTD(\"cqg.rtd\",,\"StudyData\", \"Close(\"&$D$12&\") when LocalYear(\"&$D$12&\")=\"&$D$6&\" and localMonth(\"&$D$12&\") =\"&$E$6&\" and LocalDay(\"&$D$12&\")=\"&$F$6&\" and Barix(\"&$D$12&\",reference:=StartOfSession)=\"&A65&\"\", \"Bar\", \"\", \"Close\",\"5\",\"0\",\"PrimaryOnly\",,,\"False\",\"T\",\"EveryTick\")","v":1.1800999999999999},5.1102972489566528E-3,{"$f":"RTD(\"cqg.rtd\",,\"StudyData\", \"Close(\"&$D$12&\") when LocalYear(\"&$D$12&\")=\"&$D$7&\" and localMonth(\"&$D$12&\") =\"&$E$7&\" and LocalDay(\"&$D$12&\")=\"&$F$7&\" and Barix(\"&$D$12&\",reference:=StartOfSession)=\"&A65&\"\", \"Bar\", \"\", \"Close\",\"5\",\"0\",\"PrimaryOnly\",,,\"False\",\"T\",\"EveryTick\")","v":1.1740999999999999},2.2621537410899475E-3,{"$f":"RTD(\"cqg.rtd\",,\"StudyData\", \"Close(\"&$D$12&\") when LocalYear(\"&$D$12&\")=\"&$D$8&\" and localMonth(\"&$D$12&\") =\"&$E$8&\" and LocalDay(\"&$D$12&\")=\"&$F$8&\" and Barix(\"&$D$12&\",reference:=StartOfSession)=\"&A65&\"\", \"Bar\", \"\", \"Close\",\"5\",\"0\",\"PrimaryOnly\",,,\"False\",\"T\",\"EveryTick\")","v":1.17225},4.1115251188487004E-3,{"$f":"RTD(\"cqg.rtd\",,\"StudyData\", \"Close(\"&$D$12&\") when LocalYear(\"&$D$12&\")=\"&$D$9&\" and localMonth(\"&$D$12&\") =\"&$E$9&\" and LocalDay(\"&$D$12&\")=\"&$F$9&\" and Barix(\"&$D$12&\",reference:=StartOfSession)=\"&A65&\"\", \"Bar\", \"\", \"Close\",\"5\",\"0\",\"PrimaryOnly\",,,\"False\",\"T\",\"EveryTick\")","v":1.17405},3.4081710901883518E-4,{"$f":"RTD(\"cqg.rtd\",,\"StudyData\", \"Close(\"&$D$12&\") when LocalYear(\"&$D$12&\")=\"&$D$10&\" and localMonth(\"&$D$12&\") =\"&$E$10&\" and LocalDay(\"&$D$12&\")=\"&$F$10&\" and Barix(\"&$D$12&\",reference:=StartOfSession)=\"&A65&\"\", \"Bar\", \"\", \"Close\",\"5\",\"0\",\"PrimaryOnly\",,,\"False\",\"T\",\"EveryTick\")","v":1.1633},8.1730976039919685E-4,null,null,null,""]
[245,"13:25:00",-12,{"$f":" RTD(\"cqg.rtd\",,\"StudyData\", $D$12,  \"Tick\", \"FlatTicks=0\", \"Tick\",\"D\",C66,\"PrimaryOnly\")","v":1.1717},null,null,null,{"$f":"RTD(\"cqg.rtd\",,\"StudyData\", \"Close(\"&$D$12&\") when LocalYear(\"&$D$12&\")=\"&$D$1&\" and localMonth(\"&$D$12&\") =\"&$E$1&\" and LocalDay(\"&$D$12&\")=\"&$F$1&\" and Barix(\"&$D$12&\",reference:=StartOfSession)=\"&A66&\"\", \"Bar\", \"\", \"Close\",\"5\",\"0\",\"PrimaryOnly\",,,\"False\",\"T\",\"EveryTick\")","v":""},{"$error":"#N/A"},{"$f":"RTD(\"cqg.rtd\",,\"StudyData\", \"Close(\"&$D$12&\") when LocalYear(\"&$D$12&\")=\"&$D$2&\" and localMonth(\"&$D$12&\") =\"&$E$2&\" and LocalDay(\"&$D$12&\")=\"&$F$2&\" and Barix(\"&$D$12&\",reference:=StartOfSession)=\"&A66&\"\", \"Bar\", \"\", \"Close\",\"5\",\"0\",\"PrimaryOnly\",,,\"False\",\"T\",\"EveryTick\")","v":1.1729000000000001},{"$f":"IFERROR((J66-$G$3)/$G$3,NA())","v":-8.5251491901098875E-5},{"$f":"RTD(\"cqg.rtd\",,\"StudyData\", \"Close(\"&$D$12&\") when LocalYear(\"&$D$12&\")=\"&$D$3&\" and localMonth(\"&$D$12&\") =\"&$E$3&\" and LocalDay(\"&$D$12&\")=\"&$F$3&\" and Barix(\"&$D$12&\",reference:=StartOfSession)=\"&A66&\"\", \"Bar\", \"\", \"Close\",\"5\",\"0\",\"PrimaryOnly\",,,\"False\",\"T\",\"EveryTick\")","v":1.1725000000000001},{"$f":"IFERROR((L66-$G$4)/$G$4,NA())","v":-6.6926465604877977E-3},{"$f":"RTD(\"cqg.rtd\",,\"StudyData\", \"Close(\"&$D$12&\") when LocalYear(\"&$D$12&\")=\"&$D$4&\" and localMonth(\"&$D$12&\") =\"&$E$4&\" and LocalDay(\"&$D$12&\")=\"&$F$4&\" and Barix(\"&$D$12&\",reference:=StartOfSession)=\"&A66&\"\", \"Bar\", \"\", \"Close\",\"5\",\"0\",\"PrimaryOnly\",,,\"False\",\"T\",\"EveryTick\")","v":1.18025},{"$f":"IFERROR((N66-$G$5)/$G$5,NA())","v":-5.5042763993567567E-4},{"$f":"RTD(\"cqg.rtd\",,\"StudyData\", \"Close(\"&$D$12&\") when LocalYear(\"&$D$12&\")=\"&$D$5&\" and localMonth(\"&$D$12&\") =\"&$E$5&\" and LocalDay(\"&$D$12&\")=\"&$F$5&\" and Barix(\"&$D$12&\",reference:=StartOfSession)=\"&A66&\"\", \"Bar\", \"\", \"Close\",\"5\",\"0\",\"PrimaryOnly\",,,\"False\",\"T\",\"EveryTick\")","v":1.1809000000000001},{"$f":"IFERROR((P66-$G$6)/$G$6,NA())","v":3.388394747987767E-4},{"$f":"RTD(\"cqg.rtd\",,\"StudyData\", \"Close(\"&$D$12&\") when LocalYear(\"&$D$12&\")=\"&$D$6&\" and localMonth(\"&$D$12&\") =\"&$E$6&\" and LocalDay(\"&$D$12&\")=\"&$F$6&\" and Barix(\"&$D$12&\",reference:=StartOfSession)=\"&A66&\"\", \"Bar\", \"\", \"Close\",\"5\",\"0\",\"PrimaryOnly\",,,\"False\",\"T\",\"EveryTick\")","v":1.18025},{"$f":"IFERROR((R66-$G$7)/$G$7,NA())","v":5.2380546801806495E-3},{"$f":"RTD(\"cqg.rtd\",,\"StudyData\", \"Close(\"&$D$12&\") when LocalYear(\"&$D$12&\")=\"&$D$7&\" and localMonth(\"&$D$12&\") =\"&$E$7&\" and LocalDay(\"&$D$12&\")=\"&$F$7&\" and Barix(\"&$D$12&\",reference:=StartOfSession)=\"&A66&\"\", \"Bar\", \"\", \"Close\",\"5\",\"0\",\"PrimaryOnly\",,,\"False\",\"T\",\"EveryTick\")","v":1.17435},{"$f":"IFERROR((T66-$G$8)/$G$8,NA())","v":2.4755644713815379E-3},{"$f":"RTD(\"cqg.rtd\",,\"StudyData\", \"Close(\"&$D$12&\") when LocalYear(\"&$D$12&\")=\"&$D$8&\" and localMonth(\"&$D$12&\") =\"&$E$8&\" and LocalDay(\"&$D$12&\")=\"&$F$8&\" and Barix(\"&$D$12&\",reference:=StartOfSession)=\"&A66&\"\", \"Bar\", \"\", \"Close\",\"5\",\"0\",\"PrimaryOnly\",,,\"False\",\"T\",\"EveryTick\")","v":1.1720999999999999},{"$f":"IFERROR((V66-$G$9)/$G$9,NA())","v":3.9830399588845948E-3},{"$f":"RTD(\"cqg.rtd\",,\"StudyData\", \"Close(\"&$D$12&\") when LocalYear(\"&$D$12&\")=\"&$D$9&\" and localMonth(\"&$D$12&\") =\"&$E$9&\" and LocalDay(\"&$D$12&\")=\"&$F$9&\" and Barix(\"&$D$12&\",reference:=StartOfSession)=\"&A66&\"\", \"Bar\", \"\", \"Close\",\"5\",\"0\",\"PrimaryOnly\",,,\"False\",\"T\",\"EveryTick\")","v":1.1740999999999999},{"$f":"IFERROR((X66-$G$10)/$G$10,NA())","v":3.8341924764609501E-4},{"$f":"RTD(\"cqg.rtd\",,\"StudyData\", \"Close(\"&$D$12&\") when LocalYear(\"&$D$12&\")=\"&$D$10&\" and localMonth(\"&$D$12&\") =\"&$E$10&\" and LocalDay(\"&$D$12&\")=\"&$F$10&\" and Barix(\"&$D$12&\",reference:=StartOfSession)=\"&A66&\"\", \"Bar\", \"\", \"Close\",\"5\",\"0\",\"PrimaryOnly\",,,\"False\",\"T\",\"EveryTick\")","v":1.1628499999999999},{"$f":"IFERROR((Z66-$G$11)/$G$11,NA())","v":4.3016303178900069E-4},null,null,null,""]
[{"$f":"A66+1","v":246},"13:30:00",-11,{"$f":" RTD(\"cqg.rtd\",,\"StudyData\", $D$12,  \"Tick\", \"FlatTicks=0\", \"Tick\",\"D\",C67,\"PrimaryOnly\")","v":1.1717500000000001},null,null,null,{"$f":"RTD(\"cqg.rtd\",,\"StudyData\", \"Close(\"&$D$12&\") when LocalYear(\"&$D$12&\")=\"&$D$1&\" and localMonth(\"&$D$12&\") =\"&$E$1&\" and LocalDay(\"&$D$12&\")=\"&$F$1&\" and Barix(\"&$D$12&\",reference:=StartOfSession)=\"&A67&\"\", \"Bar\", \"\", \"Close\",\"5\",\"0\",\"PrimaryOnly\",,,\"False\",\"T\",\"EveryTick\")","v":""},{"$f":"IFERROR((H67-$G$2)/$G$2,NA())","v":{"$error":"#N/A"}},{"$f":"RTD(\"cqg.rtd\",,\"StudyData\", \"Close(\"&$D$12&\") when LocalYear(\"&$D$12&\")=\"&$D$2&\" and localMonth(\"&$D$12&\") =\"&$E$2&\" and LocalDay(\"&$D$12&\")=\"&$F$2&\" and Barix(\"&$D$12&\",reference:=StartOfSession)=\"&A67&\"\", \"Bar\", \"\", \"Close\",\"5\",\"0\",\"PrimaryOnly\",,,\"False\",\"T\",\"EveryTick\")","v":1.1729000000000001},-8.5251491901098875E-5,{"$f":"RTD(\"cqg.rtd\",,\"StudyData\", \"Close(\"&$D$12&\") when LocalYear(\"&$D$12&\")=\"&$D$3&\" and localMonth(\"&$D$12&\") =\"&$E$3&\" and LocalDay(\"&$D$12&\")=\"&$F$3&\" and Barix(\"&$D$12&\",reference:=StartOfSession)=\"&A67&\"\", \"Bar\", \"\", \"Close\",\"5\",\"0\",\"PrimaryOnly\",,,\"False\",\"T\",\"EveryTick\")","v":1.1737},-5.6760420196542939E-3,{"$f":"RTD(\"cqg.rtd\",,\"StudyData\", \"Close(\"&$D$12&\") when LocalYear(\"&$D$12&\")=\"&$D$4&\" and localMonth(\"&$D$12&\") =\"&$E$4&\" and LocalDay(\"&$D$12&\")=\"&$F$4&\" and Barix(\"&$D$12&\",reference:=StartOfSession)=\"&A67&\"\", \"Bar\", \"\", \"Close\",\"5\",\"0\",\"PrimaryOnly\",,,\"False\",\"T\",\"EveryTick\")","v":1.18045},-3.8106528918626596E-4,{"$f":"RTD(\"cqg.rtd\",,\"StudyData\", \"Close(\"&$D$12&\") when LocalYear(\"&$D$12&\")=\"&$D$5&\" and localMonth(\"&$D$12&\") =\"&$E$5&\" and LocalDay(\"&$D$12&\")=\"&$F$5&\" and Barix(\"&$D$12&\",reference:=StartOfSession)=\"&A67&\"\", \"Bar\", \"\", \"Close\",\"5\",\"0\",\"PrimaryOnly\",,,\"False\",\"T\",\"EveryTick\")","v":1.18075},2.1177467174914139E-4,{"$f":"RTD(\"cqg.rtd\",,\"StudyData\", \"Close(\"&$D$12&\") when LocalYear(\"&$D$12&\")=\"&$D$6&\" and localMonth(\"&$D$12&\") =\"&$E$6&\" and LocalDay(\"&$D$12&\")=\"&$F$6&\" and Barix(\"&$D$12&\",reference:=StartOfSession)=\"&A67&\"\", \"Bar\", \"\", \"Close\",\"5\",\"0\",\"PrimaryOnly\",,,\"False\",\"T\",\"EveryTick\")","v":1.1803999999999999},5.365812111404457E-3,{"$f":"RTD(\"cqg.rtd\",,\"StudyData\", \"Close(\"&$D$12&\") when LocalYear(\"&$D$12&\")=\"&$D$7&\" and localMonth(\"&$D$12&\") =\"&$E$7&\" and LocalDay(\"&$D$12&\")=\"&$F$7&\" and Barix(\"&$D$12&\",reference:=StartOfSession)=\"&A67&\"\", \"Bar\", \"\", \"Close\",\"5\",\"0\",\"PrimaryOnly\",,,\"False\",\"T\",\"EveryTick\")","v":1.1737500000000001},1.9633787186819486E-3,{"$f":"RTD(\"cqg.rtd\",,\"StudyData\", \"Close(\"&$D$12&\") when LocalYear(\"&$D$12&\")=\"&$D$8&\" and localMonth(\"&$D$12&\") =\"&$E$8&\" and LocalDay(\"&$D$12&\")=\"&$F$8&\" and Barix(\"&$D$12&\",reference:=StartOfSession)=\"&A67&\"\", \"Bar\", \"\", \"Close\",\"5\",\"0\",\"PrimaryOnly\",,,\"False\",\"T\",\"EveryTick\")","v":1.17205},3.9402115722300202E-3,{"$f":"RTD(\"cqg.rtd\",,\"StudyData\", \"Close(\"&$D$12&\") when LocalYear(\"&$D$12&\")=\"&$D$9&\" and localMonth(\"&$D$12&\") =\"&$E$9&\" and LocalDay(\"&$D$12&\")=\"&$F$9&\" and Barix(\"&$D$12&\",reference:=StartOfSession)=\"&A67&\"\", \"Bar\", \"\", \"Close\",\"5\",\"0\",\"PrimaryOnly\",,,\"False\",\"T\",\"EveryTick\")","v":1.1741999999999999},4.686235249008038E-4,{"$f":"RTD(\"cqg.rtd\",,\"StudyData\", \"Close(\"&$D$12&\") when LocalYear(\"&$D$12&\")=\"&$D$10&\" and localMonth(\"&$D$12&\") =\"&$E$10&\" and LocalDay(\"&$D$12&\")=\"&$F$10&\" and Barix(\"&$D$12&\",reference:=StartOfSession)=\"&A67&\"\", \"Bar\", \"\", \"Close\",\"5\",\"0\",\"PrimaryOnly\",,,\"False\",\"T\",\"EveryTick\")","v":1.1629499999999999},5.1619563814680081E-4,null,null,null,{"$f":"IF(AND(H66<>\"\",H67<>\"\",H68=\"\"),A67,\"\")","v":""}]
[247,"13:35:00",-10,{"$f":" RTD(\"cqg.rtd\",,\"StudyData\", $D$12,  \"Tick\", \"FlatTicks=0\", \"Tick\",\"D\",C68,\"PrimaryOnly\")","v":1.1717},null,null,null,{"$f":"RTD(\"cqg.rtd\",,\"StudyData\", \"Close(\"&$D$12&\") when LocalYear(\"&$D$12&\")=\"&$D$1&\" and localMonth(\"&$D$12&\") =\"&$E$1&\" and LocalDay(\"&$D$12&\")=\"&$F$1&\" and Barix(\"&$D$12&\",reference:=StartOfSession)=\"&A68&\"\", \"Bar\", \"\", \"Close\",\"5\",\"0\",\"PrimaryOnly\",,,\"False\",\"T\",\"EveryTick\")","v":""},{"$error":"#N/A"},{"$f":"RTD(\"cqg.rtd\",,\"StudyData\", \"Close(\"&$D$12&\") when LocalYear(\"&$D$12&\")=\"&$D$2&\" and localMonth(\"&$D$12&\") =\"&$E$2&\" and LocalDay(\"&$D$12&\")=\"&$F$2&\" and Barix(\"&$D$12&\",reference:=StartOfSession)=\"&A68&\"\", \"Bar\", \"\", \"Close\",\"5\",\"0\",\"PrimaryOnly\",,,\"False\",\"T\",\"EveryTick\")","v":1.1729499999999999},-4.2625745950644088E-5,{"$f":"RTD(\"cqg.rtd\",,\"StudyData\", \"Close(\"&$D$12&\") when LocalYear(\"&$D$12&\")=\"&$D$3&\" and localMonth(\"&$D$12&\") =\"&$E$3&\" and LocalDay(\"&$D$12&\")=\"&$F$3&\" and Barix(\"&$D$12&\",reference:=StartOfSession)=\"&A68&\"\", \"Bar\", \"\", \"Close\",\"5\",\"0\",\"PrimaryOnly\",,,\"False\",\"T\",\"EveryTick\")","v":1.1737500000000001},-5.633683497119471E-3,{"$f":"RTD(\"cqg.rtd\",,\"StudyData\", \"Close(\"&$D$12&\") when LocalYear(\"&$D$12&\")=\"&$D$4&\" and localMonth(\"&$D$12&\") =\"&$E$4&\" and LocalDay(\"&$D$12&\")=\"&$F$4&\" and Barix(\"&$D$12&\",reference:=StartOfSession)=\"&A68&\"\", \"Bar\", \"\", \"Close\",\"5\",\"0\",\"PrimaryOnly\",,,\"False\",\"T\",\"EveryTick\")","v":1.1802999999999999},-5.0808705224841724E-4,{"$f":"RTD(\"cqg.rtd\",,\"StudyData\", \"Close(\"&$D$12&\") when LocalYear(\"&$D$12&\")=\"&$D$5&\" and localMonth(\"&$D$12&\") =\"&$E$5&\" and LocalDay(\"&$D$12&\")=\"&$F$5&\" and Barix(\"&$D$12&\",reference:=StartOfSession)=\"&A68&\"\", \"Bar\", \"\", \"Close\",\"5\",\"0\",\"PrimaryOnly\",,,\"False\",\"T\",\"EveryTick\")","v":1.18075},2.1177467174914139E-4,{"$f":"RTD(\"cqg.rtd\",,\"StudyData\", \"Close(\"&$D$12&\") when LocalYear(\"&$D$12&\")=\"&$D$6&\" and localMonth(\"&$D$12&\") =\"&$E$6&\" and LocalDay(\"&$D$12&\")=\"&$F$6&\" and Barix(\"&$D$12&\",reference:=StartOfSession)=\"&A68&\"\", \"Bar\", \"\", \"Close\",\"5\",\"0\",\"PrimaryOnly\",,,\"False\",\"T\",\"EveryTick\")","v":1.1803999999999999},5.365812111404457E-3,{"$f":"RTD(\"cqg.rtd\",,\"StudyData\", \"Close(\"&$D$12&\") when LocalYear(\"&$D$12&\")=\"&$D$7&\" and localMonth(\"&$D$12&\") =\"&$E$7&\" and LocalDay(\"&$D$12&\")=\"&$F$7&\" and Barix(\"&$D$12&\",reference:=StartOfSession)=\"&A68&\"\", \"Bar\", \"\", \"Close\",\"5\",\"0\",\"PrimaryOnly\",,,\"False\",\"T\",\"EveryTick\")","v":1.1738},2.0060608647401528E-3,{"$f":"RTD(\"cqg.rtd\",,\"StudyData\", \"Close(\"&$D$12&\") when LocalYear(\"&$D$12&\")=\"&$D$8&\" and localMonth(\"&$D$12&\") =\"&$E$8&\" and LocalDay(\"&$D$12&\")=\"&$F$8&\" and Barix(\"&$D$12&\",reference:=StartOfSession)=\"&A68&\"\", \"Bar\", \"\", \"Close\",\"5\",\"0\",\"PrimaryOnly\",,,\"False\",\"T\",\"EveryTick\")","v":1.1718999999999999},3.8117264122659151E-3,{"$f":"RTD(\"cqg.rtd\",,\"StudyData\", \"Close(\"&$D$12&\") when LocalYear(\"&$D$12&\")=\"&$D$9&\" and localMonth(\"&$D$12&\") =\"&$E$9&\" and LocalDay(\"&$D$12&\")=\"&$F$9&\" and Barix(\"&$D$12&\",reference:=StartOfSession)=\"&A68&\"\", \"Bar\", \"\", \"Close\",\"5\",\"0\",\"PrimaryOnly\",,,\"False\",\"T\",\"EveryTick\")","v":1.17435},5.9642994078296162E-4,{"$f":"RTD(\"cqg.rtd\",,\"StudyData\", \"Close(\"&$D$12&\") when LocalYear(\"&$D$12&\")=\"&$D$10&\" and localMonth(\"&$D$12&\") =\"&$E$10&\" and LocalDay(\"&$D$12&\")=\"&$F$10&\" and Barix(\"&$D$12&\",reference:=StartOfSession)=\"&A68&\"\", \"Bar\", \"\", \"Close\",\"5\",\"0\",\"PrimaryOnly\",,,\"False\",\"T\",\"EveryTick\")","v":1.1629499999999999},5.1619563814680081E-4,null,null,null,""]
[248,"13:40:00",-9,{"$f":" RTD(\"cqg.rtd\",,\"StudyData\", $D$12,  \"Tick\", \"FlatTicks=0\", \"Tick\",\"D\",C69,\"PrimaryOnly\")","v":1.1717500000000001},null,null,null,{"$f":"RTD(\"cqg.rtd\",,\"StudyData\", \"Close(\"&$D$12&\") when LocalYear(\"&$D$12&\")=\"&$D$1&\" and localMonth(\"&$D$12&\") =\"&$E$1&\" and LocalDay(\"&$D$12&\")=\"&$F$1&\" and Barix(\"&$D$12&\",reference:=StartOfSession)=\"&A69&\"\", \"Bar\", \"\", \"Close\",\"5\",\"0\",\"PrimaryOnly\",,,\"False\",\"T\",\"EveryTick\")","v":""},{"$error":"#N/A"},{"$f":"RTD(\"cqg.rtd\",,\"StudyData\", \"Close(\"&$D$12&\") when LocalYear(\"&$D$12&\")=\"&$D$2&\" and localMonth(\"&$D$12&\") =\"&$E$2&\" and LocalDay(\"&$D$12&\")=\"&$F$2&\" and Barix(\"&$D$12&\",reference:=StartOfSession)=\"&A69&\"\", \"Bar\", \"\", \"Close\",\"5\",\"0\",\"PrimaryOnly\",,,\"False\",\"T\",\"EveryTick\")","v":1.17255},-3.836317135550396E-4,{"$f":"RTD(\"cqg.rtd\",,\"StudyData\", \"Close(\"&$D$12&\") when LocalYear(\"&$D$12&\")=\"&$D$3&\" and localMonth(\"&$D$12&\") =\"&$E$3&\" and LocalDay(\"&$D$12&\")=\"&$F$3&\" and Barix(\"&$D$12&\",reference:=StartOfSession)=\"&A69&\"\", \"Bar\", \"\", \"Close\",\"5\",\"0\",\"PrimaryOnly\",,,\"False\",\"T\",\"EveryTick\")","v":1.1738500000000001},-5.5489664520500118E-3,{"$f":"RTD(\"cqg.rtd\",,\"StudyData\", \"Close(\"&$D$12&\") when LocalYear(\"&$D$12&\")=\"&$D$4&\" and localMonth(\"&$D$12&\") =\"&$E$4&\" and LocalDay(\"&$D$12&\")=\"&$F$4&\" and Barix(\"&$D$12&\",reference:=StartOfSession)=\"&A69&\"\", \"Bar\", \"\", \"Close\",\"5\",\"0\",\"PrimaryOnly\",,,\"False\",\"T\",\"EveryTick\")","v":1.1802999999999999},-5.0808705224841724E-4,{"$f":"RTD(\"cqg.rtd\",,\"StudyData\", \"Close(\"&$D$12&\") when LocalYear(\"&$D$12&\")=\"&$D$5&\" and localMonth(\"&$D$12&\") =\"&$E$5&\" and LocalDay(\"&$D$12&\")=\"&$F$5&\" and Barix(\"&$D$12&\",reference:=StartOfSession)=\"&A69&\"\", \"Bar\", \"\", \"Close\",\"5\",\"0\",\"PrimaryOnly\",,,\"False\",\"T\",\"EveryTick\")","v":1.18085},2.964845404488356E-4,{"$f":"RTD(\"cqg.rtd\",,\"StudyData\", \"Close(\"&$D$12&\") when LocalYear(\"&$D$12&\")=\"&$D$6&\" and localMonth(\"&$D$12&\") =\"&$E$6&\" and LocalDay(\"&$D$12&\")=\"&$F$6&\" and Barix(\"&$D$12&\",reference:=StartOfSession)=\"&A69&\"\", \"Bar\", \"\", \"Close\",\"5\",\"0\",\"PrimaryOnly\",,,\"False\",\"T\",\"EveryTick\")","v":1.18025},5.2380546801806495E-3,{"$f":"RTD(\"cqg.rtd\",,\"StudyData\", \"Close(\"&$D$12&\") when LocalYear(\"&$D$12&\")=\"&$D$7&\" and localMonth(\"&$D$12&\") =\"&$E$7&\" and LocalDay(\"&$D$12&\")=\"&$F$7&\" and Barix(\"&$D$12&\",reference:=StartOfSession)=\"&A69&\"\", \"Bar\", \"\", \"Close\",\"5\",\"0\",\"PrimaryOnly\",,,\"False\",\"T\",\"EveryTick\")","v":1.1738500000000001},2.0487430107985465E-3,{"$f":"RTD(\"cqg.rtd\",,\"StudyData\", \"Close(\"&$D$12&\") when LocalYear(\"&$D$12&\")=\"&$D$8&\" and localMonth(\"&$D$12&\") =\"&$E$8&\" and LocalDay(\"&$D$12&\")=\"&$F$8&\" and Barix(\"&$D$12&\",reference:=StartOfSession)=\"&A69&\"\", \"Bar\", \"\", \"Close\",\"5\",\"0\",\"PrimaryOnly\",,,\"False\",\"T\",\"EveryTick\")","v":1.1717500000000001},3.6832412523020003E-3,{"$f":"RTD(\"cqg.rtd\",,\"StudyData\", \"Close(\"&$D$12&\") when LocalYear(\"&$D$12&\")=\"&$D$9&\" and localMonth(\"&$D$12&\") =\"&$E$9&\" and LocalDay(\"&$D$12&\")=\"&$F$9&\" and Barix(\"&$D$12&\",reference:=StartOfSession)=\"&A69&\"\", \"Bar\", \"\", \"Close\",\"5\",\"0\",\"PrimaryOnly\",,,\"False\",\"T\",\"EveryTick\")","v":1.17405},3.4081710901883518E-4,{"$f":"RTD(\"cqg.rtd\",,\"StudyData\", \"Close(\"&$D$12&\") when LocalYear(\"&$D$12&\")=\"&$D$10&\" and localMonth(\"&$D$12&\") =\"&$E$10&\" and LocalDay(\"&$D$12&\")=\"&$F$10&\" and Barix(\"&$D$12&\",reference:=StartOfSession)=\"&A69&\"\", \"Bar\", \"\", \"Close\",\"5\",\"0\",\"PrimaryOnly\",,,\"False\",\"T\",\"EveryTick\")","v":1.1619999999999999},-3.0111412225239598E-4,null,null,null,""]
[249,"13:45:00",-8,{"$f":" RTD(\"cqg.rtd\",,\"StudyData\", $D$12,  \"Tick\", \"FlatTicks=0\", \"Tick\",\"D\",C70,\"PrimaryOnly\")","v":1.1718},null,null,null,{"$f":"RTD(\"cqg.rtd\",,\"StudyData\", \"Close(\"&$D$12&\") when LocalYear(\"&$D$12&\")=\"&$D$1&\" and localMonth(\"&$D$12&\") =\"&$E$1&\" and LocalDay(\"&$D$12&\")=\"&$F$1&\" and Barix(\"&$D$12&\",reference:=StartOfSession)=\"&A70&\"\", \"Bar\", \"\", \"Close\",\"5\",\"0\",\"PrimaryOnly\",,,\"False\",\"T\",\"EveryTick\")","v":""},{"$error":"#N/A"},{"$f":"RTD(\"cqg.rtd\",,\"StudyData\", \"Close(\"&$D$12&\") when LocalYear(\"&$D$12&\")=\"&$D$2&\" and localMonth(\"&$D$12&\") =\"&$E$2&\" and LocalDay(\"&$D$12&\")=\"&$F$2&\" and Barix(\"&$D$12&\",reference:=StartOfSession)=\"&A70&\"\", \"Bar\", \"\", \"Close\",\"5\",\"0\",\"PrimaryOnly\",,,\"False\",\"T\",\"EveryTick\")","v":1.17265},-2.983802216539407E-4,{"$f":"RTD(\"cqg.rtd\",,\"StudyData\", \"Close(\"&$D$12&\") when LocalYear(\"&$D$12&\")=\"&$D$3&\" and localMonth(\"&$D$12&\") =\"&$E$3&\" and LocalDay(\"&$D$12&\")=\"&$F$3&\" and Barix(\"&$D$12&\",reference:=StartOfSession)=\"&A70&\"\", \"Bar\", \"\", \"Close\",\"5\",\"0\",\"PrimaryOnly\",,,\"False\",\"T\",\"EveryTick\")","v":1.1735500000000001},-5.8031175872583877E-3,{"$f":"RTD(\"cqg.rtd\",,\"StudyData\", \"Close(\"&$D$12&\") when LocalYear(\"&$D$12&\")=\"&$D$4&\" and localMonth(\"&$D$12&\") =\"&$E$4&\" and LocalDay(\"&$D$12&\")=\"&$F$4&\" and Barix(\"&$D$12&\",reference:=StartOfSession)=\"&A70&\"\", \"Bar\", \"\", \"Close\",\"5\",\"0\",\"PrimaryOnly\",,,\"False\",\"T\",\"EveryTick\")","v":1.1802999999999999},-5.0808705224841724E-4,{"$f":"RTD(\"cqg.rtd\",,\"StudyData\", \"Close(\"&$D$12&\") when LocalYear(\"&$D$12&\")=\"&$D$5&\" and localMonth(\"&$D$12&\") =\"&$E$5&\" and LocalDay(\"&$D$12&\")=\"&$F$5&\" and Barix(\"&$D$12&\",reference:=StartOfSession)=\"&A70&\"\", \"Bar\", \"\", \"Close\",\"5\",\"0\",\"PrimaryOnly\",,,\"False\",\"T\",\"EveryTick\")","v":1.18085},2.964845404488356E-4,{"$f":"RTD(\"cqg.rtd\",,\"StudyData\", \"Close(\"&$D$12&\") when LocalYear(\"&$D$12&\")=\"&$D$6&\" and localMonth(\"&$D$12&\") =\"&$E$6&\" and LocalDay(\"&$D$12&\")=\"&$F$6&\" and Barix(\"&$D$12&\",reference:=StartOfSession)=\"&A70&\"\", \"Bar\", \"\", \"Close\",\"5\",\"0\",\"PrimaryOnly\",,,\"False\",\"T\",\"EveryTick\")","v":1.18055},5.4935695426284537E-3,{"$f":"RTD(\"cqg.rtd\",,\"StudyData\", \"Close(\"&$D$12&\") when LocalYear(\"&$D$12&\")=\"&$D$7&\" and localMonth(\"&$D$12&\") =\"&$E$7&\" and LocalDay(\"&$D$12&\")=\"&$F$7&\" and Barix(\"&$D$12&\",reference:=StartOfSession)=\"&A70&\"\", \"Bar\", \"\", \"Close\",\"5\",\"0\",\"PrimaryOnly\",,,\"False\",\"T\",\"EveryTick\")","v":1.1738999999999999},2.0914251568567512E-3,{"$f":"RTD(\"cqg.rtd\",,\"StudyData\", \"Close(\"&$D$12&\") when LocalYear(\"&$D$12&\")=\"&$D$8&\" and localMonth(\"&$D$12&\") =\"&$E$8&\" and LocalDay(\"&$D$12&\")=\"&$F$8&\" and Barix(\"&$D$12&\",reference:=StartOfSession)=\"&A70&\"\", \"Bar\", \"\", \"Close\",\"5\",\"0\",\"PrimaryOnly\",,,\"False\",\"T\",\"EveryTick\")","v":1.1718500000000001},3.76889802561134E-3,{"$f":"RTD(\"cqg.rtd\",,\"StudyData\", \"Close(\"&$D$12&\") when LocalYear(\"&$D$12&\")=\"&$D$9&\" and localMonth(\"&$D$12&\") =\"&$E$9&\" and LocalDay(\"&$D$12&\")=\"&$F$9&\" and Barix(\"&$D$12&\",reference:=StartOfSession)=\"&A70&\"\", \"Bar\", \"\", \"Close\",\"5\",\"0\",\"PrimaryOnly\",,,\"False\",\"T\",\"EveryTick\")","v":1.17405},3.4081710901883518E-4,{"$f":"RTD(\"cqg.rtd\",,\"StudyData\", \"Close(\"&$D$12&\") when LocalYear(\"&$D$12&\")=\"&$D$10&\" and localMonth(\"&$D$12&\") =\"&$E$10&\" and LocalDay(\"&$D$12&\")=\"&$F$10&\" and Barix(\"&$D$12&\",reference:=StartOfSession)=\"&A70&\"\", \"Bar\", \"\", \"Close\",\"5\",\"0\",\"PrimaryOnly\",,,\"False\",\"T\",\"EveryTick\")","v":1.1623000000000001},-4.3016303178804554E-5,null,null,null,""]
[250,"13:50:00",-7,{"$f":" RTD(\"cqg.rtd\",,\"StudyData\", $D$12,  \"Tick\", \"FlatTicks=0\", \"Tick\",\"D\",C71,\"PrimaryOnly\")","v":1.1717500000000001},null,null,null,{"$f":"RTD(\"cqg.rtd\",,\"StudyData\", \"Close(\"&$D$12&\") when LocalYear(\"&$D$12&\")=\"&$D$1&\" and localMonth(\"&$D$12&\") =\"&$E$1&\" and LocalDay(\"&$D$12&\")=\"&$F$1&\" and Barix(\"&$D$12&\",reference:=StartOfSession)=\"&A71&\"\", \"Bar\", \"\", \"Close\",\"5\",\"0\",\"PrimaryOnly\",,,\"False\",\"T\",\"EveryTick\")","v":""},{"$error":"#N/A"},{"$f":"RTD(\"cqg.rtd\",,\"StudyData\", \"Close(\"&$D$12&\") when LocalYear(\"&$D$12&\")=\"&$D$2&\" and localMonth(\"&$D$12&\") =\"&$E$2&\" and LocalDay(\"&$D$12&\")=\"&$F$2&\" and Barix(\"&$D$12&\",reference:=StartOfSession)=\"&A71&\"\", \"Bar\", \"\", \"Close\",\"5\",\"0\",\"PrimaryOnly\",,,\"False\",\"T\",\"EveryTick\")","v":1.1728499999999999},-1.2787723785174298E-4,{"$f":"RTD(\"cqg.rtd\",,\"StudyData\", \"Close(\"&$D$12&\") when LocalYear(\"&$D$12&\")=\"&$D$3&\" and localMonth(\"&$D$12&\") =\"&$E$3&\" and LocalDay(\"&$D$12&\")=\"&$F$3&\" and Barix(\"&$D$12&\",reference:=StartOfSession)=\"&A71&\"\", \"Bar\", \"\", \"Close\",\"5\",\"0\",\"PrimaryOnly\",,,\"False\",\"T\",\"EveryTick\")","v":1.1733},-6.0149101999321291E-3,{"$f":"RTD(\"cqg.rtd\",,\"StudyData\", \"Close(\"&$D$12&\") when LocalYear(\"&$D$12&\")=\"&$D$4&\" and localMonth(\"&$D$12&\") =\"&$E$4&\" and LocalDay(\"&$D$12&\")=\"&$F$4&\" and Barix(\"&$D$12&\",reference:=StartOfSession)=\"&A71&\"\", \"Bar\", \"\", \"Close\",\"5\",\"0\",\"PrimaryOnly\",,,\"False\",\"T\",\"EveryTick\")","v":1.18025},-5.5042763993567567E-4,{"$f":"RTD(\"cqg.rtd\",,\"StudyData\", \"Close(\"&$D$12&\") when LocalYear(\"&$D$12&\")=\"&$D$5&\" and localMonth(\"&$D$12&\") =\"&$E$5&\" and LocalDay(\"&$D$12&\")=\"&$F$5&\" and Barix(\"&$D$12&\",reference:=StartOfSession)=\"&A71&\"\", \"Bar\", \"\", \"Close\",\"5\",\"0\",\"PrimaryOnly\",,,\"False\",\"T\",\"EveryTick\")","v":1.18085},2.964845404488356E-4,{"$f":"RTD(\"cqg.rtd\",,\"StudyData\", \"Close(\"&$D$12&\") when LocalYear(\"&$D$12&\")=\"&$D$6&\" and localMonth(\"&$D$12&\") =\"&$E$6&\" and LocalDay(\"&$D$12&\")=\"&$F$6&\" and Barix(\"&$D$12&\",reference:=StartOfSession)=\"&A71&\"\", \"Bar\", \"\", \"Close\",\"5\",\"0\",\"PrimaryOnly\",,,\"False\",\"T\",\"EveryTick\")","v":1.1801999999999999},5.1954688697725872E-3,{"$f":"RTD(\"cqg.rtd\",,\"StudyData\", \"Close(\"&$D$12&\") when LocalYear(\"&$D$12&\")=\"&$D$7&\" and localMonth(\"&$D$12&\") =\"&$E$7&\" and LocalDay(\"&$D$12&\")=\"&$F$7&\" and Barix(\"&$D$12&\",reference:=StartOfSession)=\"&A71&\"\", \"Bar\", \"\", \"Close\",\"5\",\"0\",\"PrimaryOnly\",,,\"False\",\"T\",\"EveryTick\")","v":1.1739999999999999},2.1767894489733491E-3,{"$f":"RTD(\"cqg.rtd\",,\"StudyData\", \"Close(\"&$D$12&\") when LocalYear(\"&$D$12&\")=\"&$D$8&\" and localMonth(\"&$D$12&\") =\"&$E$8&\" and LocalDay(\"&$D$12&\")=\"&$F$8&\" and Barix(\"&$D$12&\",reference:=StartOfSession)=\"&A71&\"\", \"Bar\", \"\", \"Close\",\"5\",\"0\",\"PrimaryOnly\",,,\"False\",\"T\",\"EveryTick\")","v":1.1716500000000001},3.5975844789926602E-3,{"$f":"RTD(\"cqg.rtd\",,\"StudyData\", \"Close(\"&$D$12&\") when LocalYear(\"&$D$12&\")=\"&$D$9&\" and localMonth(\"&$D$12&\") =\"&$E$9&\" and LocalDay(\"&$D$12&\")=\"&$F$9&\" and Barix(\"&$D$12&\",reference:=StartOfSession)=\"&A71&\"\", \"Bar\", \"\", \"Close\",\"5\",\"0\",\"PrimaryOnly\",,,\"False\",\"T\",\"EveryTick\")","v":1.1738500000000001},1.7040855450941759E-4,{"$f":"RTD(\"cqg.rtd\",,\"StudyData\", \"Close(\"&$D$12&\") when LocalYear(\"&$D$12&\")=\"&$D$10&\" and localMonth(\"&$D$12&\") =\"&$E$10&\" and LocalDay(\"&$D$12&\")=\"&$F$10&\" and Barix(\"&$D$12&\",reference:=StartOfSession)=\"&A71&\"\", \"Bar\", \"\", \"Close\",\"5\",\"0\",\"PrimaryOnly\",,,\"False\",\"T\",\"EveryTick\")","v":1.16265},2.5809781907340041E-4,null,null,null,""]
[251,"13:55:00",-6,{"$f":" RTD(\"cqg.rtd\",,\"StudyData\", $D$12,  \"Tick\", \"FlatTicks=0\", \"Tick\",\"D\",C72,\"PrimaryOnly\")","v":1.1718},null,null,null,{"$f":"RTD(\"cqg.rtd\",,\"StudyData\", \"Close(\"&$D$12&\") when LocalYear(\"&$D$12&\")=\"&$D$1&\" and localMonth(\"&$D$12&\") =\"&$E$1&\" and LocalDay(\"&$D$12&\")=\"&$F$1&\" and Barix(\"&$D$12&\",reference:=StartOfSession)=\"&A72&\"\", \"Bar\", \"\", \"Close\",\"5\",\"0\",\"PrimaryOnly\",,,\"False\",\"T\",\"EveryTick\")","v":""},{"$error":"#N/A"},{"$f":"RTD(\"cqg.rtd\",,\"StudyData\", \"Close(\"&$D$12&\") when LocalYear(\"&$D$12&\")=\"&$D$2&\" and localMonth(\"&$D$12&\") =\"&$E$2&\" and LocalDay(\"&$D$12&\")=\"&$F$2&\" and Barix(\"&$D$12&\",reference:=StartOfSession)=\"&A72&\"\", \"Bar\", \"\", \"Close\",\"5\",\"0\",\"PrimaryOnly\",,,\"False\",\"T\",\"EveryTick\")","v":1.17255},-3.836317135550396E-4,{"$f":"RTD(\"cqg.rtd\",,\"StudyData\", \"Close(\"&$D$12&\") when LocalYear(\"&$D$12&\")=\"&$D$3&\" and localMonth(\"&$D$12&\") =\"&$E$3&\" and LocalDay(\"&$D$12&\")=\"&$F$3&\" and Barix(\"&$D$12&\",reference:=StartOfSession)=\"&A72&\"\", \"Bar\", \"\", \"Close\",\"5\",\"0\",\"PrimaryOnly\",,,\"False\",\"T\",\"EveryTick\")","v":1.173},-6.269061335140505E-3,{"$f":"RTD(\"cqg.rtd\",,\"StudyData\", \"Close(\"&$D$12&\") when LocalYear(\"&$D$12&\")=\"&$D$4&\" and localMonth(\"&$D$12&\") =\"&$E$4&\" and LocalDay(\"&$D$12&\")=\"&$F$4&\" and Barix(\"&$D$12&\",reference:=StartOfSession)=\"&A72&\"\", \"Bar\", \"\", \"Close\",\"5\",\"0\",\"PrimaryOnly\",,,\"False\",\"T\",\"EveryTick\")","v":1.1803999999999999},-4.2340587687371238E-4,{"$f":"RTD(\"cqg.rtd\",,\"StudyData\", \"Close(\"&$D$12&\") when LocalYear(\"&$D$12&\")=\"&$D$5&\" and localMonth(\"&$D$12&\") =\"&$E$5&\" and LocalDay(\"&$D$12&\")=\"&$F$5&\" and Barix(\"&$D$12&\",reference:=StartOfSession)=\"&A72&\"\", \"Bar\", \"\", \"Close\",\"5\",\"0\",\"PrimaryOnly\",,,\"False\",\"T\",\"EveryTick\")","v":1.1809000000000001},3.388394747987767E-4,{"$f":"RTD(\"cqg.rtd\",,\"StudyData\", \"Close(\"&$D$12&\") when LocalYear(\"&$D$12&\")=\"&$D$6&\" and localMonth(\"&$D$12&\") =\"&$E$6&\" and LocalDay(\"&$D$12&\")=\"&$F$6&\" and Barix(\"&$D$12&\",reference:=StartOfSession)=\"&A72&\"\", \"Bar\", \"\", \"Close\",\"5\",\"0\",\"PrimaryOnly\",,,\"False\",\"T\",\"EveryTick\")","v":1.1805000000000001},5.4509837322205806E-3,{"$f":"RTD(\"cqg.rtd\",,\"StudyData\", \"Close(\"&$D$12&\") when LocalYear(\"&$D$12&\")=\"&$D$7&\" and localMonth(\"&$D$12&\") =\"&$E$7&\" and LocalDay(\"&$D$12&\")=\"&$F$7&\" and Barix(\"&$D$12&\",reference:=StartOfSession)=\"&A72&\"\", \"Bar\", \"\", \"Close\",\"5\",\"0\",\"PrimaryOnly\",,,\"False\",\"T\",\"EveryTick\")","v":1.1740999999999999},2.2621537410899475E-3,{"$f":"RTD(\"cqg.rtd\",,\"StudyData\", \"Close(\"&$D$12&\") when LocalYear(\"&$D$12&\")=\"&$D$8&\" and localMonth(\"&$D$12&\") =\"&$E$8&\" and LocalDay(\"&$D$12&\")=\"&$F$8&\" and Barix(\"&$D$12&\",reference:=StartOfSession)=\"&A72&\"\", \"Bar\", \"\", \"Close\",\"5\",\"0\",\"PrimaryOnly\",,,\"False\",\"T\",\"EveryTick\")","v":1.1716500000000001},3.5975844789926602E-3,{"$f":"RTD(\"cqg.rtd\",,\"StudyData\", \"Close(\"&$D$12&\") when LocalYear(\"&$D$12&\")=\"&$D$9&\" and localMonth(\"&$D$12&\") =\"&$E$9&\" and LocalDay(\"&$D$12&\")=\"&$F$9&\" and Barix(\"&$D$12&\",reference:=StartOfSession)=\"&A72&\"\", \"Bar\", \"\", \"Close\",\"5\",\"0\",\"PrimaryOnly\",,,\"False\",\"T\",\"EveryTick\")","v":1.1736500000000001},0,{"$f":"RTD(\"cqg.rtd\",,\"StudyData\", \"Close(\"&$D$12&\") when LocalYear(\"&$D$12&\")=\"&$D$10&\" and localMonth(\"&$D$12&\") =\"&$E$10&\" and LocalDay(\"&$D$12&\")=\"&$F$10&\" and Barix(\"&$D$12&\",reference:=StartOfSession)=\"&A72&\"\", \"Bar\", \"\", \"Close\",\"5\",\"0\",\"PrimaryOnly\",,,\"False\",\"T\",\"EveryTick\")","v":1.16235},0,null,null,null,""]
[252,"14:00:00",-5,{"$f":" RTD(\"cqg.rtd\",,\"StudyData\", $D$12,  \"Tick\", \"FlatTicks=0\", \"Tick\",\"D\",C73,\"PrimaryOnly\")","v":1.1717500000000001},null,null,null,{"$f":"RTD(\"cqg.rtd\",,\"StudyData\", \"Close(\"&$D$12&\") when LocalYear(\"&$D$12&\")=\"&$D$1&\" and localMonth(\"&$D$12&\") =\"&$E$1&\" and LocalDay(\"&$D$12&\")=\"&$F$1&\" and Barix(\"&$D$12&\",reference:=StartOfSession)=\"&A73&\"\", \"Bar\", \"\", \"Close\",\"5\",\"0\",\"PrimaryOnly\",,,\"False\",\"T\",\"EveryTick\")","v":""},{"$error":"#N/A"},{"$f":"RTD(\"cqg.rtd\",,\"StudyData\", \"Close(\"&$D$12&\") when LocalYear(\"&$D$12&\")=\"&$D$2&\" and localMonth(\"&$D$12&\") =\"&$E$2&\" and LocalDay(\"&$D$12&\")=\"&$F$2&\" and Barix(\"&$D$12&\",reference:=StartOfSession)=\"&A73&\"\", \"Bar\", \"\", \"Close\",\"5\",\"0\",\"PrimaryOnly\",,,\"False\",\"T\",\"EveryTick\")","v":1.17225},-6.3938618925833625E-4,{"$f":"RTD(\"cqg.rtd\",,\"StudyData\", \"Close(\"&$D$12&\") when LocalYear(\"&$D$12&\")=\"&$D$3&\" and localMonth(\"&$D$12&\") =\"&$E$3&\" and LocalDay(\"&$D$12&\")=\"&$F$3&\" and Barix(\"&$D$12&\",reference:=StartOfSession)=\"&A73&\"\", \"Bar\", \"\", \"Close\",\"5\",\"0\",\"PrimaryOnly\",,,\"False\",\"T\",\"EveryTick\")","v":1.1728000000000001},-6.4384954252794217E-3,{"$f":"RTD(\"cqg.rtd\",,\"StudyData\", \"Close(\"&$D$12&\") when LocalYear(\"&$D$12&\")=\"&$D$4&\" and localMonth(\"&$D$12&\") =\"&$E$4&\" and LocalDay(\"&$D$12&\")=\"&$F$4&\" and Barix(\"&$D$12&\",reference:=StartOfSession)=\"&A73&\"\", \"Bar\", \"\", \"Close\",\"5\",\"0\",\"PrimaryOnly\",,,\"False\",\"T\",\"EveryTick\")","v":1.18035},-4.6574646456097081E-4,{"$f":"RTD(\"cqg.rtd\",,\"StudyData\", \"Close(\"&$D$12&\") when LocalYear(\"&$D$12&\")=\"&$D$5&\" and localMonth(\"&$D$12&\") =\"&$E$5&\" and LocalDay(\"&$D$12&\")=\"&$F$5&\" and Barix(\"&$D$12&\",reference:=StartOfSession)=\"&A73&\"\", \"Bar\", \"\", \"Close\",\"5\",\"0\",\"PrimaryOnly\",,,\"False\",\"T\",\"EveryTick\")","v":1.181},4.2354934349847088E-4,{"$f":"RTD(\"cqg.rtd\",,\"StudyData\", \"Close(\"&$D$12&\") when LocalYear(\"&$D$12&\")=\"&$D$6&\" and localMonth(\"&$D$12&\") =\"&$E$6&\" and LocalDay(\"&$D$12&\")=\"&$F$6&\" and Barix(\"&$D$12&\",reference:=StartOfSession)=\"&A73&\"\", \"Bar\", \"\", \"Close\",\"5\",\"0\",\"PrimaryOnly\",,,\"False\",\"T\",\"EveryTick\")","v":1.1807000000000001},5.6213269738524503E-3,{"$f":"RTD(\"cqg.rtd\",,\"StudyData\", \"Close(\"&$D$12&\") when LocalYear(\"&$D$12&\")=\"&$D$7&\" and localMonth(\"&$D$12&\") =\"&$E$7&\" and LocalDay(\"&$D$12&\")=\"&$F$7&\" and Barix(\"&$D$12&\",reference:=StartOfSession)=\"&A73&\"\", \"Bar\", \"\", \"Close\",\"5\",\"0\",\"PrimaryOnly\",,,\"False\",\"T\",\"EveryTick\")","v":1.1742999999999999},2.4328823253231438E-3,{"$f":"RTD(\"cqg.rtd\",,\"StudyData\", \"Close(\"&$D$12&\") when LocalYear(\"&$D$12&\")=\"&$D$8&\" and localMonth(\"&$D$12&\") =\"&$E$8&\" and LocalDay(\"&$D$12&\")=\"&$F$8&\" and Barix(\"&$D$12&\",reference:=StartOfSession)=\"&A73&\"\", \"Bar\", \"\", \"Close\",\"5\",\"0\",\"PrimaryOnly\",,,\"False\",\"T\",\"EveryTick\")","v":1.1716500000000001},3.5975844789926602E-3,{"$f":"RTD(\"cqg.rtd\",,\"StudyData\", \"Close(\"&$D$12&\") when LocalYear(\"&$D$12&\")=\"&$D$9&\" and localMonth(\"&$D$12&\") =\"&$E$9&\" and LocalDay(\"&$D$12&\")=\"&$F$9&\" and Barix(\"&$D$12&\",reference:=StartOfSession)=\"&A73&\"\", \"Bar\", \"\", \"Close\",\"5\",\"0\",\"PrimaryOnly\",,,\"False\",\"T\",\"EveryTick\")","v":1.1733},-2.982149703915754E-4,{"$f":"RTD(\"cqg.rtd\",,\"StudyData\", \"Close(\"&$D$12&\") when LocalYear(\"&$D$12&\")=\"&$D$10&\" and localMonth(\"&$D$12&\") =\"&$E$10&\" and LocalDay(\"&$D$12&\")=\"&$F$10&\" and Barix(\"&$D$12&\",reference:=StartOfSession)=\"&A73&\"\", \"Bar\", \"\", \"Close\",\"5\",\"0\",\"PrimaryOnly\",,,\"False\",\"T\",\"EveryTick\")","v":1.1624000000000001},4.3016303178995583E-5,null,null,null,""]
[253,"14:05:00",-4,{"$f":" RTD(\"cqg.rtd\",,\"StudyData\", $D$12,  \"Tick\", \"FlatTicks=0\", \"Tick\",\"D\",C74,\"PrimaryOnly\")","v":1.1718},null,null,null,{"$f":"RTD(\"cqg.rtd\",,\"StudyData\", \"Close(\"&$D$12&\") when LocalYear(\"&$D$12&\")=\"&$D$1&\" and localMonth(\"&$D$12&\") =\"&$E$1&\" and LocalDay(\"&$D$12&\")=\"&$F$1&\" and Barix(\"&$D$12&\",reference:=StartOfSession)=\"&A74&\"\", \"Bar\", \"\", \"Close\",\"5\",\"0\",\"PrimaryOnly\",,,\"False\",\"T\",\"EveryTick\")","v":""},{"$error":"#N/A"},{"$f":"RTD(\"cqg.rtd\",,\"StudyData\", \"Close(\"&$D$12&\") when LocalYear(\"&$D$12&\")=\"&$D$2&\" and localMonth(\"&$D$12&\") =\"&$E$2&\" and LocalDay(\"&$D$12&\")=\"&$F$2&\" and Barix(\"&$D$12&\",reference:=StartOfSession)=\"&A74&\"\", \"Bar\", \"\", \"Close\",\"5\",\"0\",\"PrimaryOnly\",,,\"False\",\"T\",\"EveryTick\")","v":1.1724000000000001},-5.115089514065933E-4,{"$f":"RTD(\"cqg.rtd\",,\"StudyData\", \"Close(\"&$D$12&\") when LocalYear(\"&$D$12&\")=\"&$D$3&\" and localMonth(\"&$D$12&\") =\"&$E$3&\" and LocalDay(\"&$D$12&\")=\"&$F$3&\" and Barix(\"&$D$12&\",reference:=StartOfSession)=\"&A74&\"\", \"Bar\", \"\", \"Close\",\"5\",\"0\",\"PrimaryOnly\",,,\"False\",\"T\",\"EveryTick\")","v":1.1734},-5.9301931548626698E-3,{"$f":"RTD(\"cqg.rtd\",,\"StudyData\", \"Close(\"&$D$12&\") when LocalYear(\"&$D$12&\")=\"&$D$4&\" and localMonth(\"&$D$12&\") =\"&$E$4&\" and LocalDay(\"&$D$12&\")=\"&$F$4&\" and Barix(\"&$D$12&\",reference:=StartOfSession)=\"&A74&\"\", \"Bar\", \"\", \"Close\",\"5\",\"0\",\"PrimaryOnly\",,,\"False\",\"T\",\"EveryTick\")","v":1.18035},-4.6574646456097081E-4,{"$f":"RTD(\"cqg.rtd\",,\"StudyData\", \"Close(\"&$D$12&\") when LocalYear(\"&$D$12&\")=\"&$D$5&\" and localMonth(\"&$D$12&\") =\"&$E$5&\" and LocalDay(\"&$D$12&\")=\"&$F$5&\" and Barix(\"&$D$12&\",reference:=StartOfSession)=\"&A74&\"\", \"Bar\", \"\", \"Close\",\"5\",\"0\",\"PrimaryOnly\",,,\"False\",\"T\",\"EveryTick\")","v":1.181},4.2354934349847088E-4,{"$f":"RTD(\"cqg.rtd\",,\"StudyData\", \"Close(\"&$D$12&\") when LocalYear(\"&$D$12&\")=\"&$D$6&\" and localMonth(\"&$D$12&\") =\"&$E$6&\" and LocalDay(\"&$D$12&\")=\"&$F$6&\" and Barix(\"&$D$12&\",reference:=StartOfSession)=\"&A74&\"\", \"Bar\", \"\", \"Close\",\"5\",\"0\",\"PrimaryOnly\",,,\"False\",\"T\",\"EveryTick\")","v":1.1807000000000001},5.6213269738524503E-3,{"$f":"RTD(\"cqg.rtd\",,\"StudyData\", \"Close(\"&$D$12&\") when LocalYear(\"&$D$12&\")=\"&$D$7&\" and localMonth(\"&$D$12&\") =\"&$E$7&\" and LocalDay(\"&$D$12&\")=\"&$F$7&\" and Barix(\"&$D$12&\",reference:=StartOfSession)=\"&A74&\"\", \"Bar\", \"\", \"Close\",\"5\",\"0\",\"PrimaryOnly\",,,\"False\",\"T\",\"EveryTick\")","v":1.1742999999999999},2.4328823253231438E-3,{"$f":"RTD(\"cqg.rtd\",,\"StudyData\", \"Close(\"&$D$12&\") when LocalYear(\"&$D$12&\")=\"&$D$8&\" and localMonth(\"&$D$12&\") =\"&$E$8&\" and LocalDay(\"&$D$12&\")=\"&$F$8&\" and Barix(\"&$D$12&\",reference:=StartOfSession)=\"&A74&\"\", \"Bar\", \"\", \"Close\",\"5\",\"0\",\"PrimaryOnly\",,,\"False\",\"T\",\"EveryTick\")","v":1.1718500000000001},3.76889802561134E-3,{"$f":"RTD(\"cqg.rtd\",,\"StudyData\", \"Close(\"&$D$12&\") when LocalYear(\"&$D$12&\")=\"&$D$9&\" and localMonth(\"&$D$12&\") =\"&$E$9&\" and LocalDay(\"&$D$12&\")=\"&$F$9&\" and Barix(\"&$D$12&\",reference:=StartOfSession)=\"&A74&\"\", \"Bar\", \"\", \"Close\",\"5\",\"0\",\"PrimaryOnly\",,,\"False\",\"T\",\"EveryTick\")","v":1.1733},-2.982149703915754E-4,{"$f":"RTD(\"cqg.rtd\",,\"StudyData\", \"Close(\"&$D$12&\") when LocalYear(\"&$D$12&\")=\"&$D$10&\" and localMonth(\"&$D$12&\") =\"&$E$10&\" and LocalDay(\"&$D$12&\")=\"&$F$10&\" and Barix(\"&$D$12&\",reference:=StartOfSession)=\"&A74&\"\", \"Bar\", \"\", \"Close\",\"5\",\"0\",\"PrimaryOnly\",,,\"False\",\"T\",\"EveryTick\")","v":1.16235},0,null,null,null,""]
[254,"14:10:00",-3,{"$f":" RTD(\"cqg.rtd\",,\"StudyData\", $D$12,  \"Tick\", \"FlatTicks=0\", \"Tick\",\"D\",C75,\"PrimaryOnly\")","v":1.1717500000000001},null,null,null,{"$f":"RTD(\"cqg.rtd\",,\"StudyData\", \"Close(\"&$D$12&\") when LocalYear(\"&$D$12&\")=\"&$D$1&\" and localMonth(\"&$D$12&\") =\"&$E$1&\" and LocalDay(\"&$D$12&\")=\"&$F$1&\" and Barix(\"&$D$12&\",reference:=StartOfSession)=\"&A75&\"\", \"Bar\", \"\", \"Close\",\"5\",\"0\",\"PrimaryOnly\",,,\"False\",\"T\",\"EveryTick\")","v":""},{"$error":"#N/A"},{"$f":"RTD(\"cqg.rtd\",,\"StudyData\", \"Close(\"&$D$12&\") when LocalYear(\"&$D$12&\")=\"&$D$2&\" and localMonth(\"&$D$12&\") =\"&$E$2&\" and LocalDay(\"&$D$12&\")=\"&$F$2&\" and Barix(\"&$D$12&\",reference:=StartOfSession)=\"&A75&\"\", \"Bar\", \"\", \"Close\",\"5\",\"0\",\"PrimaryOnly\",,,\"False\",\"T\",\"EveryTick\")","v":1.17255},-3.836317135550396E-4,{"$f":"RTD(\"cqg.rtd\",,\"StudyData\", \"Close(\"&$D$12&\") when LocalYear(\"&$D$12&\")=\"&$D$3&\" and localMonth(\"&$D$12&\") =\"&$E$3&\" and LocalDay(\"&$D$12&\")=\"&$F$3&\" and Barix(\"&$D$12&\",reference:=StartOfSession)=\"&A75&\"\", \"Bar\", \"\", \"Close\",\"5\",\"0\",\"PrimaryOnly\",,,\"False\",\"T\",\"EveryTick\")","v":1.1732},-6.0996272450015874E-3,{"$f":"RTD(\"cqg.rtd\",,\"StudyData\", \"Close(\"&$D$12&\") when LocalYear(\"&$D$12&\")=\"&$D$4&\" and localMonth(\"&$D$12&\") =\"&$E$4&\" and LocalDay(\"&$D$12&\")=\"&$F$4&\" and Barix(\"&$D$12&\",reference:=StartOfSession)=\"&A75&\"\", \"Bar\", \"\", \"Close\",\"5\",\"0\",\"PrimaryOnly\",,,\"False\",\"T\",\"EveryTick\")","v":1.18055},-2.9638411381156105E-4,{"$f":"RTD(\"cqg.rtd\",,\"StudyData\", \"Close(\"&$D$12&\") when LocalYear(\"&$D$12&\")=\"&$D$5&\" and localMonth(\"&$D$12&\") =\"&$E$5&\" and LocalDay(\"&$D$12&\")=\"&$F$5&\" and Barix(\"&$D$12&\",reference:=StartOfSession)=\"&A75&\"\", \"Bar\", \"\", \"Close\",\"5\",\"0\",\"PrimaryOnly\",,,\"False\",\"T\",\"EveryTick\")","v":1.181},4.2354934349847088E-4,{"$f":"RTD(\"cqg.rtd\",,\"StudyData\", \"Close(\"&$D$12&\") when LocalYear(\"&$D$12&\")=\"&$D$6&\" and localMonth(\"&$D$12&\") =\"&$E$6&\" and LocalDay(\"&$D$12&\")=\"&$F$6&\" and Barix(\"&$D$12&\",reference:=StartOfSession)=\"&A75&\"\", \"Bar\", \"\", \"Close\",\"5\",\"0\",\"PrimaryOnly\",,,\"False\",\"T\",\"EveryTick\")","v":1.1806000000000001},5.536155353036515E-3,{"$f":"RTD(\"cqg.rtd\",,\"StudyData\", \"Close(\"&$D$12&\") when LocalYear(\"&$D$12&\")=\"&$D$7&\" and localMonth(\"&$D$12&\") =\"&$E$7&\" and LocalDay(\"&$D$12&\")=\"&$F$7&\" and Barix(\"&$D$12&\",reference:=StartOfSession)=\"&A75&\"\", \"Bar\", \"\", \"Close\",\"5\",\"0\",\"PrimaryOnly\",,,\"False\",\"T\",\"EveryTick\")","v":1.1744000000000001},2.5182466174399317E-3,{"$f":"RTD(\"cqg.rtd\",,\"StudyData\", \"Close(\"&$D$12&\") when LocalYear(\"&$D$12&\")=\"&$D$8&\" and localMonth(\"&$D$12&\") =\"&$E$8&\" and LocalDay(\"&$D$12&\")=\"&$F$8&\" and Barix(\"&$D$12&\",reference:=StartOfSession)=\"&A75&\"\", \"Bar\", \"\", \"Close\",\"5\",\"0\",\"PrimaryOnly\",,,\"False\",\"T\",\"EveryTick\")","v":1.17205},3.9402115722300202E-3,{"$f":"RTD(\"cqg.rtd\",,\"StudyData\", \"Close(\"&$D$12&\") when LocalYear(\"&$D$12&\")=\"&$D$9&\" and localMonth(\"&$D$12&\") =\"&$E$9&\" and LocalDay(\"&$D$12&\")=\"&$F$9&\" and Barix(\"&$D$12&\",reference:=StartOfSession)=\"&A75&\"\", \"Bar\", \"\", \"Close\",\"5\",\"0\",\"PrimaryOnly\",,,\"False\",\"T\",\"EveryTick\")","v":1.1732499999999999},-3.4081710901902437E-4,{"$f":"RTD(\"cqg.rtd\",,\"StudyData\", \"Close(\"&$D$12&\") when LocalYear(\"&$D$12&\")=\"&$D$10&\" and localMonth(\"&$D$12&\") =\"&$E$10&\" and LocalDay(\"&$D$12&\")=\"&$F$10&\" and Barix(\"&$D$12&\",reference:=StartOfSession)=\"&A75&\"\", \"Bar\", \"\", \"Close\",\"5\",\"0\",\"PrimaryOnly\",,,\"False\",\"T\",\"EveryTick\")","v":1.1625000000000001},1.2904890953679572E-4,null,null,null,""]
[255,"14:15:00",-2,{"$f":" RTD(\"cqg.rtd\",,\"StudyData\", $D$12,  \"Tick\", \"FlatTicks=0\", \"Tick\",\"D\",C76,\"PrimaryOnly\")","v":1.1718},null,null,null,{"$f":"RTD(\"cqg.rtd\",,\"StudyData\", \"Close(\"&$D$12&\") when LocalYear(\"&$D$12&\")=\"&$D$1&\" and localMonth(\"&$D$12&\") =\"&$E$1&\" and LocalDay(\"&$D$12&\")=\"&$F$1&\" and Barix(\"&$D$12&\",reference:=StartOfSession)=\"&A76&\"\", \"Bar\", \"\", \"Close\",\"5\",\"0\",\"PrimaryOnly\",,,\"False\",\"T\",\"EveryTick\")","v":""},{"$error":"#N/A"},{"$f":"RTD(\"cqg.rtd\",,\"StudyData\", \"Close(\"&$D$12&\") when LocalYear(\"&$D$12&\")=\"&$D$2&\" and localMonth(\"&$D$12&\") =\"&$E$2&\" and LocalDay(\"&$D$12&\")=\"&$F$2&\" and Barix(\"&$D$12&\",reference:=StartOfSession)=\"&A76&\"\", \"Bar\", \"\", \"Close\",\"5\",\"0\",\"PrimaryOnly\",,,\"False\",\"T\",\"EveryTick\")","v":1.1729499999999999},-4.2625745950644088E-5,{"$f":"RTD(\"cqg.rtd\",,\"StudyData\", \"Close(\"&$D$12&\") when LocalYear(\"&$D$12&\")=\"&$D$3&\" and localMonth(\"&$D$12&\") =\"&$E$3&\" and LocalDay(\"&$D$12&\")=\"&$F$3&\" and Barix(\"&$D$12&\",reference:=StartOfSession)=\"&A76&\"\", \"Bar\", \"\", \"Close\",\"5\",\"0\",\"PrimaryOnly\",,,\"False\",\"T\",\"EveryTick\")","v":1.1731},-6.1843442900710458E-3,{"$f":"RTD(\"cqg.rtd\",,\"StudyData\", \"Close(\"&$D$12&\") when LocalYear(\"&$D$12&\")=\"&$D$4&\" and localMonth(\"&$D$12&\") =\"&$E$4&\" and LocalDay(\"&$D$12&\")=\"&$F$4&\" and Barix(\"&$D$12&\",reference:=StartOfSession)=\"&A76&\"\", \"Bar\", \"\", \"Close\",\"5\",\"0\",\"PrimaryOnly\",,,\"False\",\"T\",\"EveryTick\")","v":1.1807000000000001},-1.6936235074940974E-4,{"$f":"RTD(\"cqg.rtd\",,\"StudyData\", \"Close(\"&$D$12&\") when LocalYear(\"&$D$12&\")=\"&$D$5&\" and localMonth(\"&$D$12&\") =\"&$E$5&\" and LocalDay(\"&$D$12&\")=\"&$F$5&\" and Barix(\"&$D$12&\",reference:=StartOfSession)=\"&A76&\"\", \"Bar\", \"\", \"Close\",\"5\",\"0\",\"PrimaryOnly\",,,\"False\",\"T\",\"EveryTick\")","v":1.1809000000000001},3.388394747987767E-4,{"$f":"RTD(\"cqg.rtd\",,\"StudyData\", \"Close(\"&$D$12&\") when LocalYear(\"&$D$12&\")=\"&$D$6&\" and localMonth(\"&$D$12&\") =\"&$E$6&\" and LocalDay(\"&$D$12&\")=\"&$F$6&\" and Barix(\"&$D$12&\",reference:=StartOfSession)=\"&A76&\"\", \"Bar\", \"\", \"Close\",\"5\",\"0\",\"PrimaryOnly\",,,\"False\",\"T\",\"EveryTick\")","v":1.1802999999999999},5.2806404905885217E-3,{"$f":"RTD(\"cqg.rtd\",,\"StudyData\", \"Close(\"&$D$12&\") when LocalYear(\"&$D$12&\")=\"&$D$7&\" and localMonth(\"&$D$12&\") =\"&$E$7&\" and LocalDay(\"&$D$12&\")=\"&$F$7&\" and Barix(\"&$D$12&\",reference:=StartOfSession)=\"&A76&\"\", \"Bar\", \"\", \"Close\",\"5\",\"0\",\"PrimaryOnly\",,,\"False\",\"T\",\"EveryTick\")","v":1.17445},2.5609287634981359E-3,{"$f":"RTD(\"cqg.rtd\",,\"StudyData\", \"Close(\"&$D$12&\") when LocalYear(\"&$D$12&\")=\"&$D$8&\" and localMonth(\"&$D$12&\") =\"&$E$8&\" and LocalDay(\"&$D$12&\")=\"&$F$8&\" and Barix(\"&$D$12&\",reference:=StartOfSession)=\"&A76&\"\", \"Bar\", \"\", \"Close\",\"5\",\"0\",\"PrimaryOnly\",,,\"False\",\"T\",\"EveryTick\")","v":1.1719999999999999},3.8973831855752552E-3,{"$f":"RTD(\"cqg.rtd\",,\"StudyData\", \"Close(\"&$D$12&\") when LocalYear(\"&$D$12&\")=\"&$D$9&\" and localMonth(\"&$D$12&\") =\"&$E$9&\" and LocalDay(\"&$D$12&\")=\"&$F$9&\" and Barix(\"&$D$12&\",reference:=StartOfSession)=\"&A76&\"\", \"Bar\", \"\", \"Close\",\"5\",\"0\",\"PrimaryOnly\",,,\"False\",\"T\",\"EveryTick\")","v":1.1733499999999999},-2.5561283176431558E-4,{"$f":"RTD(\"cqg.rtd\",,\"StudyData\", \"Close(\"&$D$12&\") when LocalYear(\"&$D$12&\")=\"&$D$10&\" and localMonth(\"&$D$12&\") =\"&$E$10&\" and LocalDay(\"&$D$12&\")=\"&$F$10&\" and Barix(\"&$D$12&\",reference:=StartOfSession)=\"&A76&\"\", \"Bar\", \"\", \"Close\",\"5\",\"0\",\"PrimaryOnly\",,,\"False\",\"T\",\"EveryTick\")","v":1.16235},0,null,null,null,""]
[256,"14:20:00",-1,{"$f":" RTD(\"cqg.rtd\",,\"StudyData\", $D$12,  \"Tick\", \"FlatTicks=0\", \"Tick\",\"D\",C77,\"PrimaryOnly\")","v":1.1718500000000001},null,null,null,{"$f":"RTD(\"cqg.rtd\",,\"StudyData\", \"Close(\"&$D$12&\") when LocalYear(\"&$D$12&\")=\"&$D$1&\" and localMonth(\"&$D$12&\") =\"&$E$1&\" and LocalDay(\"&$D$12&\")=\"&$F$1&\" and Barix(\"&$D$12&\",reference:=StartOfSession)=\"&A77&\"\", \"Bar\", \"\", \"Close\",\"5\",\"0\",\"PrimaryOnly\",,,\"False\",\"T\",\"EveryTick\")","v":""},{"$error":"#N/A"},{"$f":"RTD(\"cqg.rtd\",,\"StudyData\", \"Close(\"&$D$12&\") when LocalYear(\"&$D$12&\")=\"&$D$2&\" and localMonth(\"&$D$12&\") =\"&$E$2&\" and LocalDay(\"&$D$12&\")=\"&$F$2&\" and Barix(\"&$D$12&\",reference:=StartOfSession)=\"&A77&\"\", \"Bar\", \"\", \"Close\",\"5\",\"0\",\"PrimaryOnly\",,,\"False\",\"T\",\"EveryTick\")","v":1.1727000000000001},-2.5575447570329665E-4,{"$f":"RTD(\"cqg.rtd\",,\"StudyData\", \"Close(\"&$D$12&\") when LocalYear(\"&$D$12&\")=\"&$D$3&\" and localMonth(\"&$D$12&\") =\"&$E$3&\" and LocalDay(\"&$D$12&\")=\"&$F$3&\" and Barix(\"&$D$12&\",reference:=StartOfSession)=\"&A77&\"\", \"Bar\", \"\", \"Close\",\"5\",\"0\",\"PrimaryOnly\",,,\"False\",\"T\",\"EveryTick\")","v":1.1728000000000001},-6.4384954252794217E-3,{"$f":"RTD(\"cqg.rtd\",,\"StudyData\", \"Close(\"&$D$12&\") when LocalYear(\"&$D$12&\")=\"&$D$4&\" and localMonth(\"&$D$12&\") =\"&$E$4&\" and LocalDay(\"&$D$12&\")=\"&$F$4&\" and Barix(\"&$D$12&\",reference:=StartOfSession)=\"&A77&\"\", \"Bar\", \"\", \"Close\",\"5\",\"0\",\"PrimaryOnly\",,,\"False\",\"T\",\"EveryTick\")","v":1.1806000000000001},-2.5404352612411462E-4,{"$f":"RTD(\"cqg.rtd\",,\"StudyData\", \"Close(\"&$D$12&\") when LocalYear(\"&$D$12&\")=\"&$D$5&\" and localMonth(\"&$D$12&\") =\"&$E$5&\" and LocalDay(\"&$D$12&\")=\"&$F$5&\" and Barix(\"&$D$12&\",reference:=StartOfSession)=\"&A77&\"\", \"Bar\", \"\", \"Close\",\"5\",\"0\",\"PrimaryOnly\",,,\"False\",\"T\",\"EveryTick\")","v":1.18065},1.2706480304944723E-4,{"$f":"RTD(\"cqg.rtd\",,\"StudyData\", \"Close(\"&$D$12&\") when LocalYear(\"&$D$12&\")=\"&$D$6&\" and localMonth(\"&$D$12&\") =\"&$E$6&\" and LocalDay(\"&$D$12&\")=\"&$F$6&\" and Barix(\"&$D$12&\",reference:=StartOfSession)=\"&A77&\"\", \"Bar\", \"\", \"Close\",\"5\",\"0\",\"PrimaryOnly\",,,\"False\",\"T\",\"EveryTick\")","v":1.18035},5.3232263009965839E-3,{"$f":"RTD(\"cqg.rtd\",,\"StudyData\", \"Close(\"&$D$12&\") when LocalYear(\"&$D$12&\")=\"&$D$7&\" and localMonth(\"&$D$12&\") =\"&$E$7&\" and LocalDay(\"&$D$12&\")=\"&$F$7&\" and Barix(\"&$D$12&\",reference:=StartOfSession)=\"&A77&\"\", \"Bar\", \"\", \"Close\",\"5\",\"0\",\"PrimaryOnly\",,,\"False\",\"T\",\"EveryTick\")","v":1.1746000000000001},2.688975201673128E-3,{"$f":"RTD(\"cqg.rtd\",,\"StudyData\", \"Close(\"&$D$12&\") when LocalYear(\"&$D$12&\")=\"&$D$8&\" and localMonth(\"&$D$12&\") =\"&$E$8&\" and LocalDay(\"&$D$12&\")=\"&$F$8&\" and Barix(\"&$D$12&\",reference:=StartOfSession)=\"&A77&\"\", \"Bar\", \"\", \"Close\",\"5\",\"0\",\"PrimaryOnly\",,,\"False\",\"T\",\"EveryTick\")","v":1.17215},4.0258683455393603E-3,{"$f":"RTD(\"cqg.rtd\",,\"StudyData\", \"Close(\"&$D$12&\") when LocalYear(\"&$D$12&\")=\"&$D$9&\" and localMonth(\"&$D$12&\") =\"&$E$9&\" and LocalDay(\"&$D$12&\")=\"&$F$9&\" and Barix(\"&$D$12&\",reference:=StartOfSession)=\"&A77&\"\", \"Bar\", \"\", \"Close\",\"5\",\"0\",\"PrimaryOnly\",,,\"False\",\"T\",\"EveryTick\")","v":1.1733499999999999},-2.5561283176431558E-4,{"$f":"RTD(\"cqg.rtd\",,\"StudyData\", \"Close(\"&$D$12&\") when LocalYear(\"&$D$12&\")=\"&$D$10&\" and localMonth(\"&$D$12&\") =\"&$E$10&\" and LocalDay(\"&$D$12&\")=\"&$F$10&\" and Barix(\"&$D$12&\",reference:=StartOfSession)=\"&A77&\"\", \"Bar\", \"\", \"Close\",\"5\",\"0\",\"PrimaryOnly\",,,\"False\",\"T\",\"EveryTick\")","v":1.1623000000000001},-4.3016303178804554E-5,null,null,null,""]
[257,"14:25:00",0,{"$f":" RTD(\"cqg.rtd\",,\"StudyData\", $D$12,  \"Tick\", \"FlatTicks=0\", \"Tick\",\"D\",C78,\"PrimaryOnly\")","v":1.1718},null,null,null,{"$f":"RTD(\"cqg.rtd\",,\"StudyData\", \"Close(\"&$D$12&\") when LocalYear(\"&$D$12&\")=\"&$D$1&\" and localMonth(\"&$D$12&\") =\"&$E$1&\" and LocalDay(\"&$D$12&\")=\"&$F$1&\" and Barix(\"&$D$12&\",reference:=StartOfSession)=\"&A78&\"\", \"Bar\", \"\", \"Close\",\"5\",\"0\",\"PrimaryOnly\",,,\"False\",\"T\",\"EveryTick\")","v":""},{"$error":"#N/A"},{"$f":"RTD(\"cqg.rtd\",,\"StudyData\", \"Close(\"&$D$12&\") when LocalYear(\"&$D$12&\")=\"&$D$2&\" and localMonth(\"&$D$12&\") =\"&$E$2&\" and LocalDay(\"&$D$12&\")=\"&$F$2&\" and Barix(\"&$D$12&\",reference:=StartOfSession)=\"&A78&\"\", \"Bar\", \"\", \"Close\",\"5\",\"0\",\"PrimaryOnly\",,,\"False\",\"T\",\"EveryTick\")","v":1.17275},-2.1312872975284185E-4,{"$f":"RTD(\"cqg.rtd\",,\"StudyData\", \"Close(\"&$D$12&\") when LocalYear(\"&$D$12&\")=\"&$D$3&\" and localMonth(\"&$D$12&\") =\"&$E$3&\" and LocalDay(\"&$D$12&\")=\"&$F$3&\" and Barix(\"&$D$12&\",reference:=StartOfSession)=\"&A78&\"\", \"Bar\", \"\", \"Close\",\"5\",\"0\",\"PrimaryOnly\",,,\"False\",\"T\",\"EveryTick\")","v":1.1729499999999999},-6.3114198576753279E-3,{"$f":"RTD(\"cqg.rtd\",,\"StudyData\", \"Close(\"&$D$12&\") when LocalYear(\"&$D$12&\")=\"&$D$4&\" and localMonth(\"&$D$12&\") =\"&$E$4&\" and LocalDay(\"&$D$12&\")=\"&$F$4&\" and Barix(\"&$D$12&\",reference:=StartOfSession)=\"&A78&\"\", \"Bar\", \"\", \"Close\",\"5\",\"0\",\"PrimaryOnly\",,,\"False\",\"T\",\"EveryTick\")","v":1.1807000000000001},-1.6936235074940974E-4,{"$f":"RTD(\"cqg.rtd\",,\"StudyData\", \"Close(\"&$D$12&\") when LocalYear(\"&$D$12&\")=\"&$D$5&\" and localMonth(\"&$D$12&\") =\"&$E$5&\" and LocalDay(\"&$D$12&\")=\"&$F$5&\" and Barix(\"&$D$12&\",reference:=StartOfSession)=\"&A78&\"\", \"Bar\", \"\", \"Close\",\"5\",\"0\",\"PrimaryOnly\",,,\"False\",\"T\",\"EveryTick\")","v":1.18025},-2.117746717493295E-4,{"$f":"RTD(\"cqg.rtd\",,\"StudyData\", \"Close(\"&$D$12&\") when LocalYear(\"&$D$12&\")=\"&$D$6&\" and localMonth(\"&$D$12&\") =\"&$E$6&\" and LocalDay(\"&$D$12&\")=\"&$F$6&\" and Barix(\"&$D$12&\",reference:=StartOfSession)=\"&A78&\"\", \"Bar\", \"\", \"Close\",\"5\",\"0\",\"PrimaryOnly\",,,\"False\",\"T\",\"EveryTick\")","v":1.1803999999999999},5.365812111404457E-3,{"$f":"RTD(\"cqg.rtd\",,\"StudyData\", \"Close(\"&$D$12&\") when LocalYear(\"&$D$12&\")=\"&$D$7&\" and localMonth(\"&$D$12&\") =\"&$E$7&\" and LocalDay(\"&$D$12&\")=\"&$F$7&\" and Barix(\"&$D$12&\",reference:=StartOfSession)=\"&A78&\"\", \"Bar\", \"\", \"Close\",\"5\",\"0\",\"PrimaryOnly\",,,\"False\",\"T\",\"EveryTick\")","v":1.1748499999999999},2.9023859319645289E-3,{"$f":"RTD(\"cqg.rtd\",,\"StudyData\", \"Close(\"&$D$12&\") when LocalYear(\"&$D$12&\")=\"&$D$8&\" and localMonth(\"&$D$12&\") =\"&$E$8&\" and LocalDay(\"&$D$12&\")=\"&$F$8&\" and Barix(\"&$D$12&\",reference:=StartOfSession)=\"&A78&\"\", \"Bar\", \"\", \"Close\",\"5\",\"0\",\"PrimaryOnly\",,,\"False\",\"T\",\"EveryTick\")","v":1.17235},4.1971818921580405E-3,{"$f":"RTD(\"cqg.rtd\",,\"StudyData\", \"Close(\"&$D$12&\") when LocalYear(\"&$D$12&\")=\"&$D$9&\" and localMonth(\"&$D$12&\") =\"&$E$9&\" and LocalDay(\"&$D$12&\")=\"&$F$9&\" and Barix(\"&$D$12&\",reference:=StartOfSession)=\"&A78&\"\", \"Bar\", \"\", \"Close\",\"5\",\"0\",\"PrimaryOnly\",,,\"False\",\"T\",\"EveryTick\")","v":1.1735500000000001},-8.5204277254708795E-5,{"$f":"RTD(\"cqg.rtd\",,\"StudyData\", \"Close(\"&$D$12&\") when LocalYear(\"&$D$12&\")=\"&$D$10&\" and localMonth(\"&$D$12&\") =\"&$E$10&\" and LocalDay(\"&$D$12&\")=\"&$F$10&\" and Barix(\"&$D$12&\",reference:=StartOfSession)=\"&A78&\"\", \"Bar\", \"\", \"Close\",\"5\",\"0\",\"PrimaryOnly\",,,\"False\",\"T\",\"EveryTick\")","v":1.1626000000000001},2.1508151589459586E-4,null,null,null,""]
[258,"14:30:00",null,null,null,null,null,{"$f":"RTD(\"cqg.rtd\",,\"StudyData\", \"Close(\"&$D$12&\") when LocalYear(\"&$D$12&\")=\"&$D$1&\" and localMonth(\"&$D$12&\") =\"&$E$1&\" and LocalDay(\"&$D$12&\")=\"&$F$1&\" and Barix(\"&$D$12&\",reference:=StartOfSession)=\"&A79&\"\", \"Bar\", \"\", \"Close\",\"5\",\"0\",\"PrimaryOnly\",,,\"False\",\"T\",\"EveryTick\")","v":""},{"$error":"#N/A"},{"$f":"RTD(\"cqg.rtd\",,\"StudyData\", \"Close(\"&$D$12&\") when LocalYear(\"&$D$12&\")=\"&$D$2&\" and localMonth(\"&$D$12&\") =\"&$E$2&\" and LocalDay(\"&$D$12&\")=\"&$F$2&\" and Barix(\"&$D$12&\",reference:=StartOfSession)=\"&A79&\"\", \"Bar\", \"\", \"Close\",\"5\",\"0\",\"PrimaryOnly\",,,\"False\",\"T\",\"EveryTick\")","v":1.17275},-2.1312872975284185E-4,{"$f":"RTD(\"cqg.rtd\",,\"StudyData\", \"Close(\"&$D$12&\") when LocalYear(\"&$D$12&\")=\"&$D$3&\" and localMonth(\"&$D$12&\") =\"&$E$3&\" and LocalDay(\"&$D$12&\")=\"&$F$3&\" and Barix(\"&$D$12&\",reference:=StartOfSession)=\"&A79&\"\", \"Bar\", \"\", \"Close\",\"5\",\"0\",\"PrimaryOnly\",,,\"False\",\"T\",\"EveryTick\")","v":1.1728000000000001},-6.4384954252794217E-3,{"$f":"RTD(\"cqg.rtd\",,\"StudyData\", \"Close(\"&$D$12&\") when LocalYear(\"&$D$12&\")=\"&$D$4&\" and localMonth(\"&$D$12&\") =\"&$E$4&\" and LocalDay(\"&$D$12&\")=\"&$F$4&\" and Barix(\"&$D$12&\",reference:=StartOfSession)=\"&A79&\"\", \"Bar\", \"\", \"Close\",\"5\",\"0\",\"PrimaryOnly\",,,\"False\",\"T\",\"EveryTick\")","v":1.18045},-3.8106528918626596E-4,{"$f":"RTD(\"cqg.rtd\",,\"StudyData\", \"Close(\"&$D$12&\") when LocalYear(\"&$D$12&\")=\"&$D$5&\" and localMonth(\"&$D$12&\") =\"&$E$5&\" and LocalDay(\"&$D$12&\")=\"&$F$5&\" and Barix(\"&$D$12&\",reference:=StartOfSession)=\"&A79&\"\", \"Bar\", \"\", \"Close\",\"5\",\"0\",\"PrimaryOnly\",,,\"False\",\"T\",\"EveryTick\")","v":1.1806000000000001},8.4709868699694174E-5,{"$f":"RTD(\"cqg.rtd\",,\"StudyData\", \"Close(\"&$D$12&\") when LocalYear(\"&$D$12&\")=\"&$D$6&\" and localMonth(\"&$D$12&\") =\"&$E$6&\" and LocalDay(\"&$D$12&\")=\"&$F$6&\" and Barix(\"&$D$12&\",reference:=StartOfSession)=\"&A79&\"\", \"Bar\", \"\", \"Close\",\"5\",\"0\",\"PrimaryOnly\",,,\"False\",\"T\",\"EveryTick\")","v":1.1803999999999999},5.365812111404457E-3,{"$f":"RTD(\"cqg.rtd\",,\"StudyData\", \"Close(\"&$D$12&\") when LocalYear(\"&$D$12&\")=\"&$D$7&\" and localMonth(\"&$D$12&\") =\"&$E$7&\" and LocalDay(\"&$D$12&\")=\"&$F$7&\" and Barix(\"&$D$12&\",reference:=StartOfSession)=\"&A79&\"\", \"Bar\", \"\", \"Close\",\"5\",\"0\",\"PrimaryOnly\",,,\"False\",\"T\",\"EveryTick\")","v":1.1749000000000001},2.9450680780229227E-3,{"$f":"RTD(\"cqg.rtd\",,\"StudyData\", \"Close(\"&$D$12&\") when LocalYear(\"&$D$12&\")=\"&$D$8&\" and localMonth(\"&$D$12&\") =\"&$E$8&\" and LocalDay(\"&$D$12&\")=\"&$F$8&\" and Barix(\"&$D$12&\",reference:=StartOfSession)=\"&A79&\"\", \"Bar\", \"\", \"Close\",\"5\",\"0\",\"PrimaryOnly\",,,\"False\",\"T\",\"EveryTick\")","v":1.17215},4.0258683455393603E-3,{"$f":"RTD(\"cqg.rtd\",,\"StudyData\", \"Close(\"&$D$12&\") when LocalYear(\"&$D$12&\")=\"&$D$9&\" and localMonth(\"&$D$12&\") =\"&$E$9&\" and LocalDay(\"&$D$12&\")=\"&$F$9&\" and Barix(\"&$D$12&\",reference:=StartOfSession)=\"&A79&\"\", \"Bar\", \"\", \"Close\",\"5\",\"0\",\"PrimaryOnly\",,,\"False\",\"T\",\"EveryTick\")","v":1.1734},-2.1301069313686658E-4,{"$f":"RTD(\"cqg.rtd\",,\"StudyData\", \"Close(\"&$D$12&\") when LocalYear(\"&$D$12&\")=\"&$D$10&\" and localMonth(\"&$D$12&\") =\"&$E$10&\" and LocalDay(\"&$D$12&\")=\"&$F$10&\" and Barix(\"&$D$12&\",reference:=StartOfSession)=\"&A79&\"\", \"Bar\", \"\", \"Close\",\"5\",\"0\",\"PrimaryOnly\",,,\"False\",\"T\",\"EveryTick\")","v":1.1626000000000001},2.1508151589459586E-4,null,null,null,""]
[259,"14:35:00",null,null,null,null,null,{"$f":"RTD(\"cqg.rtd\",,\"StudyData\", \"Close(\"&$D$12&\") when LocalYear(\"&$D$12&\")=\"&$D$1&\" and localMonth(\"&$D$12&\") =\"&$E$1&\" and LocalDay(\"&$D$12&\")=\"&$F$1&\" and Barix(\"&$D$12&\",reference:=StartOfSession)=\"&A80&\"\", \"Bar\", \"\", \"Close\",\"5\",\"0\",\"PrimaryOnly\",,,\"False\",\"T\",\"EveryTick\")","v":""},{"$error":"#N/A"},{"$f":"RTD(\"cqg.rtd\",,\"StudyData\", \"Close(\"&$D$12&\") when LocalYear(\"&$D$12&\")=\"&$D$2&\" and localMonth(\"&$D$12&\") =\"&$E$2&\" and LocalDay(\"&$D$12&\")=\"&$F$2&\" and Barix(\"&$D$12&\",reference:=StartOfSession)=\"&A80&\"\", \"Bar\", \"\", \"Close\",\"5\",\"0\",\"PrimaryOnly\",,,\"False\",\"T\",\"EveryTick\")","v":1.1727000000000001},-2.5575447570329665E-4,{"$f":"RTD(\"cqg.rtd\",,\"StudyData\", \"Close(\"&$D$12&\") when LocalYear(\"&$D$12&\")=\"&$D$3&\" and localMonth(\"&$D$12&\") =\"&$E$3&\" and LocalDay(\"&$D$12&\")=\"&$F$3&\" and Barix(\"&$D$12&\",reference:=StartOfSession)=\"&A80&\"\", \"Bar\", \"\", \"Close\",\"5\",\"0\",\"PrimaryOnly\",,,\"False\",\"T\",\"EveryTick\")","v":1.1728499999999999},-6.3961369027447871E-3,{"$f":"RTD(\"cqg.rtd\",,\"StudyData\", \"Close(\"&$D$12&\") when LocalYear(\"&$D$12&\")=\"&$D$4&\" and localMonth(\"&$D$12&\") =\"&$E$4&\" and LocalDay(\"&$D$12&\")=\"&$F$4&\" and Barix(\"&$D$12&\",reference:=StartOfSession)=\"&A80&\"\", \"Bar\", \"\", \"Close\",\"5\",\"0\",\"PrimaryOnly\",,,\"False\",\"T\",\"EveryTick\")","v":1.18035},-4.6574646456097081E-4,{"$f":"RTD(\"cqg.rtd\",,\"StudyData\", \"Close(\"&$D$12&\") when LocalYear(\"&$D$12&\")=\"&$D$5&\" and localMonth(\"&$D$12&\") =\"&$E$5&\" and LocalDay(\"&$D$12&\")=\"&$F$5&\" and Barix(\"&$D$12&\",reference:=StartOfSession)=\"&A80&\"\", \"Bar\", \"\", \"Close\",\"5\",\"0\",\"PrimaryOnly\",,,\"False\",\"T\",\"EveryTick\")","v":1.18055},4.2354934349753039E-5,{"$f":"RTD(\"cqg.rtd\",,\"StudyData\", \"Close(\"&$D$12&\") when LocalYear(\"&$D$12&\")=\"&$D$6&\" and localMonth(\"&$D$12&\") =\"&$E$6&\" and LocalDay(\"&$D$12&\")=\"&$F$6&\" and Barix(\"&$D$12&\",reference:=StartOfSession)=\"&A80&\"\", \"Bar\", \"\", \"Close\",\"5\",\"0\",\"PrimaryOnly\",,,\"False\",\"T\",\"EveryTick\")","v":1.18045},5.4083979218125184E-3,{"$f":"RTD(\"cqg.rtd\",,\"StudyData\", \"Close(\"&$D$12&\") when LocalYear(\"&$D$12&\")=\"&$D$7&\" and localMonth(\"&$D$12&\") =\"&$E$7&\" and LocalDay(\"&$D$12&\")=\"&$F$7&\" and Barix(\"&$D$12&\",reference:=StartOfSession)=\"&A80&\"\", \"Bar\", \"\", \"Close\",\"5\",\"0\",\"PrimaryOnly\",,,\"False\",\"T\",\"EveryTick\")","v":1.1750499999999999},3.0731145161977252E-3,{"$f":"RTD(\"cqg.rtd\",,\"StudyData\", \"Close(\"&$D$12&\") when LocalYear(\"&$D$12&\")=\"&$D$8&\" and localMonth(\"&$D$12&\") =\"&$E$8&\" and LocalDay(\"&$D$12&\")=\"&$F$8&\" and Barix(\"&$D$12&\",reference:=StartOfSession)=\"&A80&\"\", \"Bar\", \"\", \"Close\",\"5\",\"0\",\"PrimaryOnly\",,,\"False\",\"T\",\"EveryTick\")","v":1.1722999999999999},4.154353505503275E-3,{"$f":"RTD(\"cqg.rtd\",,\"StudyData\", \"Close(\"&$D$12&\") when LocalYear(\"&$D$12&\")=\"&$D$9&\" and localMonth(\"&$D$12&\") =\"&$E$9&\" and LocalDay(\"&$D$12&\")=\"&$F$9&\" and Barix(\"&$D$12&\",reference:=StartOfSession)=\"&A80&\"\", \"Bar\", \"\", \"Close\",\"5\",\"0\",\"PrimaryOnly\",,,\"False\",\"T\",\"EveryTick\")","v":1.1736500000000001},0,{"$f":"RTD(\"cqg.rtd\",,\"StudyData\", \"Close(\"&$D$12&\") when LocalYear(\"&$D$12&\")=\"&$D$10&\" and localMonth(\"&$D$12&\") =\"&$E$10&\" and LocalDay(\"&$D$12&\")=\"&$F$10&\" and Barix(\"&$D$12&\",reference:=StartOfSession)=\"&A80&\"\", \"Bar\", \"\", \"Close\",\"5\",\"0\",\"PrimaryOnly\",,,\"False\",\"T\",\"EveryTick\")","v":1.1631},6.452445476835965E-4,null,null,null,""]
[260,"14:40:00",null,null,null,null,null,{"$f":"RTD(\"cqg.rtd\",,\"StudyData\", \"Close(\"&$D$12&\") when LocalYear(\"&$D$12&\")=\"&$D$1&\" and localMonth(\"&$D$12&\") =\"&$E$1&\" and LocalDay(\"&$D$12&\")=\"&$F$1&\" and Barix(\"&$D$12&\",reference:=StartOfSession)=\"&A81&\"\", \"Bar\", \"\", \"Close\",\"5\",\"0\",\"PrimaryOnly\",,,\"False\",\"T\",\"EveryTick\")","v":""},{"$error":"#N/A"},{"$f":"RTD(\"cqg.rtd\",,\"StudyData\", \"Close(\"&$D$12&\") when LocalYear(\"&$D$12&\")=\"&$D$2&\" and localMonth(\"&$D$12&\") =\"&$E$2&\" and LocalDay(\"&$D$12&\")=\"&$F$2&\" and Barix(\"&$D$12&\",reference:=StartOfSession)=\"&A81&\"\", \"Bar\", \"\", \"Close\",\"5\",\"0\",\"PrimaryOnly\",,,\"False\",\"T\",\"EveryTick\")","v":1.17275},-2.1312872975284185E-4,{"$f":"RTD(\"cqg.rtd\",,\"StudyData\", \"Close(\"&$D$12&\") when LocalYear(\"&$D$12&\")=\"&$D$3&\" and localMonth(\"&$D$12&\") =\"&$E$3&\" and LocalDay(\"&$D$12&\")=\"&$F$3&\" and Barix(\"&$D$12&\",reference:=StartOfSession)=\"&A81&\"\", \"Bar\", \"\", \"Close\",\"5\",\"0\",\"PrimaryOnly\",,,\"False\",\"T\",\"EveryTick\")","v":1.17275},-6.4808539478142455E-3,{"$f":"RTD(\"cqg.rtd\",,\"StudyData\", \"Close(\"&$D$12&\") when LocalYear(\"&$D$12&\")=\"&$D$4&\" and localMonth(\"&$D$12&\") =\"&$E$4&\" and LocalDay(\"&$D$12&\")=\"&$F$4&\" and Barix(\"&$D$12&\",reference:=StartOfSession)=\"&A81&\"\", \"Bar\", \"\", \"Close\",\"5\",\"0\",\"PrimaryOnly\",,,\"False\",\"T\",\"EveryTick\")","v":1.18045},-3.8106528918626596E-4,{"$f":"RTD(\"cqg.rtd\",,\"StudyData\", \"Close(\"&$D$12&\") when LocalYear(\"&$D$12&\")=\"&$D$5&\" and localMonth(\"&$D$12&\") =\"&$E$5&\" and LocalDay(\"&$D$12&\")=\"&$F$5&\" and Barix(\"&$D$12&\",reference:=StartOfSession)=\"&A81&\"\", \"Bar\", \"\", \"Close\",\"5\",\"0\",\"PrimaryOnly\",,,\"False\",\"T\",\"EveryTick\")","v":1.18065},1.2706480304944723E-4,{"$f":"RTD(\"cqg.rtd\",,\"StudyData\", \"Close(\"&$D$12&\") when LocalYear(\"&$D$12&\")=\"&$D$6&\" and localMonth(\"&$D$12&\") =\"&$E$6&\" and LocalDay(\"&$D$12&\")=\"&$F$6&\" and Barix(\"&$D$12&\",reference:=StartOfSession)=\"&A81&\"\", \"Bar\", \"\", \"Close\",\"5\",\"0\",\"PrimaryOnly\",,,\"False\",\"T\",\"EveryTick\")","v":1.18035},5.3232263009965839E-3,{"$f":"RTD(\"cqg.rtd\",,\"StudyData\", \"Close(\"&$D$12&\") when LocalYear(\"&$D$12&\")=\"&$D$7&\" and localMonth(\"&$D$12&\") =\"&$E$7&\" and LocalDay(\"&$D$12&\")=\"&$F$7&\" and Barix(\"&$D$12&\",reference:=StartOfSession)=\"&A81&\"\", \"Bar\", \"\", \"Close\",\"5\",\"0\",\"PrimaryOnly\",,,\"False\",\"T\",\"EveryTick\")","v":1.1749499999999999},2.9877502240811269E-3,{"$f":"RTD(\"cqg.rtd\",,\"StudyData\", \"Close(\"&$D$12&\") when LocalYear(\"&$D$12&\")=\"&$D$8&\" and localMonth(\"&$D$12&\") =\"&$E$8&\" and LocalDay(\"&$D$12&\")=\"&$F$8&\" and Barix(\"&$D$12&\",reference:=StartOfSession)=\"&A81&\"\", \"Bar\", \"\", \"Close\",\"5\",\"0\",\"PrimaryOnly\",,,\"False\",\"T\",\"EveryTick\")","v":1.17245},4.2828386654673806E-3,{"$f":"RTD(\"cqg.rtd\",,\"StudyData\", \"Close(\"&$D$12&\") when LocalYear(\"&$D$12&\")=\"&$D$9&\" and localMonth(\"&$D$12&\") =\"&$E$9&\" and LocalDay(\"&$D$12&\")=\"&$F$9&\" and Barix(\"&$D$12&\",reference:=StartOfSession)=\"&A81&\"\", \"Bar\", \"\", \"Close\",\"5\",\"0\",\"PrimaryOnly\",,,\"False\",\"T\",\"EveryTick\")","v":1.17395},2.5561283176412638E-4,{"$f":"RTD(\"cqg.rtd\",,\"StudyData\", \"Close(\"&$D$12&\") when LocalYear(\"&$D$12&\")=\"&$D$10&\" and localMonth(\"&$D$12&\") =\"&$E$10&\" and LocalDay(\"&$D$12&\")=\"&$F$10&\" and Barix(\"&$D$12&\",reference:=StartOfSession)=\"&A81&\"\", \"Bar\", \"\", \"Close\",\"5\",\"0\",\"PrimaryOnly\",,,\"False\",\"T\",\"EveryTick\")","v":1.1628499999999999},4.3016303178900069E-4,null,null,null,""]
[261,"14:45:00",null,null,null,null,null,{"$f":"RTD(\"cqg.rtd\",,\"StudyData\", \"Close(\"&$D$12&\") when LocalYear(\"&$D$12&\")=\"&$D$1&\" and localMonth(\"&$D$12&\") =\"&$E$1&\" and LocalDay(\"&$D$12&\")=\"&$F$1&\" and Barix(\"&$D$12&\",reference:=StartOfSession)=\"&A82&\"\", \"Bar\", \"\", \"Close\",\"5\",\"0\",\"PrimaryOnly\",,,\"False\",\"T\",\"EveryTick\")","v":""},{"$f":"IFERROR((H82-$G$2)/$G$2,NA())","v":{"$error":"#N/A"}},{"$f":"RTD(\"cqg.rtd\",,\"StudyData\", \"Close(\"&$D$12&\") when LocalYear(\"&$D$12&\")=\"&$D$2&\" and localMonth(\"&$D$12&\") =\"&$E$2&\" and LocalDay(\"&$D$12&\")=\"&$F$2&\" and Barix(\"&$D$12&\",reference:=StartOfSession)=\"&A82&\"\", \"Bar\", \"\", \"Close\",\"5\",\"0\",\"PrimaryOnly\",,,\"False\",\"T\",\"EveryTick\")","v":1.1728000000000001},{"$f":"IFERROR((J82-$G$3)/$G$3,NA())","v":-1.7050298380219775E-4},{"$f":"RTD(\"cqg.rtd\",,\"StudyData\", \"Close(\"&$D$12&\") when LocalYear(\"&$D$12&\")=\"&$D$3&\" and localMonth(\"&$D$12&\") =\"&$E$3&\" and LocalDay(\"&$D$12&\")=\"&$F$3&\" and Barix(\"&$D$12&\",reference:=StartOfSession)=\"&A82&\"\", \"Bar\", \"\", \"Close\",\"5\",\"0\",\"PrimaryOnly\",,,\"False\",\"T\",\"EveryTick\")","v":1.1728499999999999},{"$f":"IFERROR((L82-$G$4)/$G$4,NA())","v":-6.3961369027447871E-3},{"$f":"RTD(\"cqg.rtd\",,\"StudyData\", \"Close(\"&$D$12&\") when LocalYear(\"&$D$12&\")=\"&$D$4&\" and localMonth(\"&$D$12&\") =\"&$E$4&\" and LocalDay(\"&$D$12&\")=\"&$F$4&\" and Barix(\"&$D$12&\",reference:=StartOfSession)=\"&A82&\"\", \"Bar\", \"\", \"Close\",\"5\",\"0\",\"PrimaryOnly\",,,\"False\",\"T\",\"EveryTick\")","v":1.18035},{"$f":"IFERROR((N82-$G$5)/$G$5,NA())","v":-4.6574646456097081E-4},{"$f":"RTD(\"cqg.rtd\",,\"StudyData\", \"Close(\"&$D$12&\") when LocalYear(\"&$D$12&\")=\"&$D$5&\" and localMonth(\"&$D$12&\") =\"&$E$5&\" and LocalDay(\"&$D$12&\")=\"&$F$5&\" and Barix(\"&$D$12&\",reference:=StartOfSession)=\"&A82&\"\", \"Bar\", \"\", \"Close\",\"5\",\"0\",\"PrimaryOnly\",,,\"False\",\"T\",\"EveryTick\")","v":1.18085},{"$f":"IFERROR((P82-$G$6)/$G$6,NA())","v":2.964845404488356E-4},{"$f":"RTD(\"cqg.rtd\",,\"StudyData\", \"Close(\"&$D$12&\") when LocalYear(\"&$D$12&\")=\"&$D$6&\" and localMonth(\"&$D$12&\") =\"&$E$6&\" and LocalDay(\"&$D$12&\")=\"&$F$6&\" and Barix(\"&$D$12&\",reference:=StartOfSession)=\"&A82&\"\", \"Bar\", \"\", \"Close\",\"5\",\"0\",\"PrimaryOnly\",,,\"False\",\"T\",\"EveryTick\")","v":1.18045},{"$f":"IFERROR((R82-$G$7)/$G$7,NA())","v":5.4083979218125184E-3},{"$f":"RTD(\"cqg.rtd\",,\"StudyData\", \"Close(\"&$D$12&\") when LocalYear(\"&$D$12&\")=\"&$D$7&\" and localMonth(\"&$D$12&\") =\"&$E$7&\" and LocalDay(\"&$D$12&\")=\"&$F$7&\" and Barix(\"&$D$12&\",reference:=StartOfSession)=\"&A82&\"\", \"Bar\", \"\", \"Close\",\"5\",\"0\",\"PrimaryOnly\",,,\"False\",\"T\",\"EveryTick\")","v":1.1748499999999999},{"$f":"IFERROR((T82-$G$8)/$G$8,NA())","v":2.9023859319645289E-3},{"$f":"RTD(\"cqg.rtd\",,\"StudyData\", \"Close(\"&$D$12&\") when LocalYear(\"&$D$12&\")=\"&$D$8&\" and localMonth(\"&$D$12&\") =\"&$E$8&\" and LocalDay(\"&$D$12&\")=\"&$F$8&\" and Barix(\"&$D$12&\",reference:=StartOfSession)=\"&A82&\"\", \"Bar\", \"\", \"Close\",\"5\",\"0\",\"PrimaryOnly\",,,\"False\",\"T\",\"EveryTick\")","v":1.17255},{"$f":"IFERROR((V82-$G$9)/$G$9,NA())","v":4.3684954387767198E-3},{"$f":"RTD(\"cqg.rtd\",,\"StudyData\", \"Close(\"&$D$12&\") when LocalYear(\"&$D$12&\")=\"&$D$9&\" and localMonth(\"&$D$12&\") =\"&$E$9&\" and LocalDay(\"&$D$12&\")=\"&$F$9&\" and Barix(\"&$D$12&\",reference:=StartOfSession)=\"&A82&\"\", \"Bar\", \"\", \"Close\",\"5\",\"0\",\"PrimaryOnly\",,,\"False\",\"T\",\"EveryTick\")","v":1.17405},{"$f":"IFERROR((X82-$G$10)/$G$10,NA())","v":3.4081710901883518E-4},{"$f":"RTD(\"cqg.rtd\",,\"StudyData\", \"Close(\"&$D$12&\") when LocalYear(\"&$D$12&\")=\"&$D$10&\" and localMonth(\"&$D$12&\") =\"&$E$10&\" and LocalDay(\"&$D$12&\")=\"&$F$10&\" and Barix(\"&$D$12&\",reference:=StartOfSession)=\"&A82&\"\", \"Bar\", \"\", \"Close\",\"5\",\"0\",\"PrimaryOnly\",,,\"False\",\"T\",\"EveryTick\")","v":1.1629499999999999},{"$f":"IFERROR((Z82-$G$11)/$G$11,NA())","v":5.1619563814680081E-4},null,null,null,""]
[262,"14:50:00",null,null,null,null,null,{"$f":"RTD(\"cqg.rtd\",,\"StudyData\", \"Close(\"&$D$12&\") when LocalYear(\"&$D$12&\")=\"&$D$1&\" and localMonth(\"&$D$12&\") =\"&$E$1&\" and LocalDay(\"&$D$12&\")=\"&$F$1&\" and Barix(\"&$D$12&\",reference:=StartOfSession)=\"&A83&\"\", \"Bar\", \"\", \"Close\",\"5\",\"0\",\"PrimaryOnly\",,,\"False\",\"T\",\"EveryTick\")","v":""},{"$error":"#N/A"},{"$f":"RTD(\"cqg.rtd\",,\"StudyData\", \"Close(\"&$D$12&\") when LocalYear(\"&$D$12&\")=\"&$D$2&\" and localMonth(\"&$D$12&\") =\"&$E$2&\" and LocalDay(\"&$D$12&\")=\"&$F$2&\" and Barix(\"&$D$12&\",reference:=StartOfSession)=\"&A83&\"\", \"Bar\", \"\", \"Close\",\"5\",\"0\",\"PrimaryOnly\",,,\"False\",\"T\",\"EveryTick\")","v":1.1728499999999999},-1.2787723785174298E-4,{"$f":"RTD(\"cqg.rtd\",,\"StudyData\", \"Close(\"&$D$12&\") when LocalYear(\"&$D$12&\")=\"&$D$3&\" and localMonth(\"&$D$12&\") =\"&$E$3&\" and LocalDay(\"&$D$12&\")=\"&$F$3&\" and Barix(\"&$D$12&\",reference:=StartOfSession)=\"&A83&\"\", \"Bar\", \"\", \"Close\",\"5\",\"0\",\"PrimaryOnly\",,,\"False\",\"T\",\"EveryTick\")","v":1.17265},-6.5655709928837038E-3,{"$f":"RTD(\"cqg.rtd\",,\"StudyData\", \"Close(\"&$D$12&\") when LocalYear(\"&$D$12&\")=\"&$D$4&\" and localMonth(\"&$D$12&\") =\"&$E$4&\" and LocalDay(\"&$D$12&\")=\"&$F$4&\" and Barix(\"&$D$12&\",reference:=StartOfSession)=\"&A83&\"\", \"Bar\", \"\", \"Close\",\"5\",\"0\",\"PrimaryOnly\",,,\"False\",\"T\",\"EveryTick\")","v":1.1803999999999999},-4.2340587687371238E-4,{"$f":"RTD(\"cqg.rtd\",,\"StudyData\", \"Close(\"&$D$12&\") when LocalYear(\"&$D$12&\")=\"&$D$5&\" and localMonth(\"&$D$12&\") =\"&$E$5&\" and LocalDay(\"&$D$12&\")=\"&$F$5&\" and Barix(\"&$D$12&\",reference:=StartOfSession)=\"&A83&\"\", \"Bar\", \"\", \"Close\",\"5\",\"0\",\"PrimaryOnly\",,,\"False\",\"T\",\"EveryTick\")","v":1.1809000000000001},3.388394747987767E-4,{"$f":"RTD(\"cqg.rtd\",,\"StudyData\", \"Close(\"&$D$12&\") when LocalYear(\"&$D$12&\")=\"&$D$6&\" and localMonth(\"&$D$12&\") =\"&$E$6&\" and LocalDay(\"&$D$12&\")=\"&$F$6&\" and Barix(\"&$D$12&\",reference:=StartOfSession)=\"&A83&\"\", \"Bar\", \"\", \"Close\",\"5\",\"0\",\"PrimaryOnly\",,,\"False\",\"T\",\"EveryTick\")","v":1.1806000000000001},5.536155353036515E-3,{"$f":"RTD(\"cqg.rtd\",,\"StudyData\", \"Close(\"&$D$12&\") when LocalYear(\"&$D$12&\")=\"&$D$7&\" and localMonth(\"&$D$12&\") =\"&$E$7&\" and LocalDay(\"&$D$12&\")=\"&$F$7&\" and Barix(\"&$D$12&\",reference:=StartOfSession)=\"&A83&\"\", \"Bar\", \"\", \"Close\",\"5\",\"0\",\"PrimaryOnly\",,,\"False\",\"T\",\"EveryTick\")","v":1.175},3.030432370139521E-3,{"$f":"RTD(\"cqg.rtd\",,\"StudyData\", \"Close(\"&$D$12&\") when LocalYear(\"&$D$12&\")=\"&$D$8&\" and localMonth(\"&$D$12&\") =\"&$E$8&\" and LocalDay(\"&$D$12&\")=\"&$F$8&\" and Barix(\"&$D$12&\",reference:=StartOfSession)=\"&A83&\"\", \"Bar\", \"\", \"Close\",\"5\",\"0\",\"PrimaryOnly\",,,\"False\",\"T\",\"EveryTick\")","v":1.17265},4.4541522120860599E-3,{"$f":"RTD(\"cqg.rtd\",,\"StudyData\", \"Close(\"&$D$12&\") when LocalYear(\"&$D$12&\")=\"&$D$9&\" and localMonth(\"&$D$12&\") =\"&$E$9&\" and LocalDay(\"&$D$12&\")=\"&$F$9&\" and Barix(\"&$D$12&\",reference:=StartOfSession)=\"&A83&\"\", \"Bar\", \"\", \"Close\",\"5\",\"0\",\"PrimaryOnly\",,,\"False\",\"T\",\"EveryTick\")","v":1.17415},4.2602138627354397E-4,{"$f":"RTD(\"cqg.rtd\",,\"StudyData\", \"Close(\"&$D$12&\") when LocalYear(\"&$D$12&\")=\"&$D$10&\" and localMonth(\"&$D$12&\") =\"&$E$10&\" and LocalDay(\"&$D$12&\")=\"&$F$10&\" and Barix(\"&$D$12&\",reference:=StartOfSession)=\"&A83&\"\", \"Bar\", \"\", \"Close\",\"5\",\"0\",\"PrimaryOnly\",,,\"False\",\"T\",\"EveryTick\")","v":1.1631},6.452445476835965E-4,null,null,null,""]
[263,"14:55:00",null,null,null,null,null,{"$f":"RTD(\"cqg.rtd\",,\"StudyData\", \"Close(\"&$D$12&\") when LocalYear(\"&$D$12&\")=\"&$D$1&\" and localMonth(\"&$D$12&\") =\"&$E$1&\" and LocalDay(\"&$D$12&\")=\"&$F$1&\" and Barix(\"&$D$12&\",reference:=StartOfSession)=\"&A84&\"\", \"Bar\", \"\", \"Close\",\"5\",\"0\",\"PrimaryOnly\",,,\"False\",\"T\",\"EveryTick\")","v":""},{"$error":"#N/A"},{"$f":"RTD(\"cqg.rtd\",,\"StudyData\", \"Close(\"&$D$12&\") when LocalYear(\"&$D$12&\")=\"&$D$2&\" and localMonth(\"&$D$12&\") =\"&$E$2&\" and LocalDay(\"&$D$12&\")=\"&$F$2&\" and Barix(\"&$D$12&\",reference:=StartOfSession)=\"&A84&\"\", \"Bar\", \"\", \"Close\",\"5\",\"0\",\"PrimaryOnly\",,,\"False\",\"T\",\"EveryTick\")","v":1.1728499999999999},-1.2787723785174298E-4,{"$f":"RTD(\"cqg.rtd\",,\"StudyData\", \"Close(\"&$D$12&\") when LocalYear(\"&$D$12&\")=\"&$D$3&\" and localMonth(\"&$D$12&\") =\"&$E$3&\" and LocalDay(\"&$D$12&\")=\"&$F$3&\" and Barix(\"&$D$12&\",reference:=StartOfSession)=\"&A84&\"\", \"Bar\", \"\", \"Close\",\"5\",\"0\",\"PrimaryOnly\",,,\"False\",\"T\",\"EveryTick\")","v":1.17265},-6.5655709928837038E-3,{"$f":"RTD(\"cqg.rtd\",,\"StudyData\", \"Close(\"&$D$12&\") when LocalYear(\"&$D$12&\")=\"&$D$4&\" and localMonth(\"&$D$12&\") =\"&$E$4&\" and LocalDay(\"&$D$12&\")=\"&$F$4&\" and Barix(\"&$D$12&\",reference:=StartOfSession)=\"&A84&\"\", \"Bar\", \"\", \"Close\",\"5\",\"0\",\"PrimaryOnly\",,,\"False\",\"T\",\"EveryTick\")","v":1.1805000000000001},-3.3872470149881947E-4,{"$f":"RTD(\"cqg.rtd\",,\"StudyData\", \"Close(\"&$D$12&\") when LocalYear(\"&$D$12&\")=\"&$D$5&\" and localMonth(\"&$D$12&\") =\"&$E$5&\" and LocalDay(\"&$D$12&\")=\"&$F$5&\" and Barix(\"&$D$12&\",reference:=StartOfSession)=\"&A84&\"\", \"Bar\", \"\", \"Close\",\"5\",\"0\",\"PrimaryOnly\",,,\"False\",\"T\",\"EveryTick\")","v":1.1807000000000001},1.6941973739938835E-4,{"$f":"RTD(\"cqg.rtd\",,\"StudyData\", \"Close(\"&$D$12&\") when LocalYear(\"&$D$12&\")=\"&$D$6&\" and localMonth(\"&$D$12&\") =\"&$E$6&\" and LocalDay(\"&$D$12&\")=\"&$F$6&\" and Barix(\"&$D$12&\",reference:=StartOfSession)=\"&A84&\"\", \"Bar\", \"\", \"Close\",\"5\",\"0\",\"PrimaryOnly\",,,\"False\",\"T\",\"EveryTick\")","v":1.1802999999999999},5.2806404905885217E-3,{"$f":"RTD(\"cqg.rtd\",,\"StudyData\", \"Close(\"&$D$12&\") when LocalYear(\"&$D$12&\")=\"&$D$7&\" and localMonth(\"&$D$12&\") =\"&$E$7&\" and LocalDay(\"&$D$12&\")=\"&$F$7&\" and Barix(\"&$D$12&\",reference:=StartOfSession)=\"&A84&\"\", \"Bar\", \"\", \"Close\",\"5\",\"0\",\"PrimaryOnly\",,,\"False\",\"T\",\"EveryTick\")","v":1.1754500000000001},3.4145716846643078E-3,{"$f":"RTD(\"cqg.rtd\",,\"StudyData\", \"Close(\"&$D$12&\") when LocalYear(\"&$D$12&\")=\"&$D$8&\" and localMonth(\"&$D$12&\") =\"&$E$8&\" and LocalDay(\"&$D$12&\")=\"&$F$8&\" and Barix(\"&$D$12&\",reference:=StartOfSession)=\"&A84&\"\", \"Bar\", \"\", \"Close\",\"5\",\"0\",\"PrimaryOnly\",,,\"False\",\"T\",\"EveryTick\")","v":1.17255},4.3684954387767198E-3,{"$f":"RTD(\"cqg.rtd\",,\"StudyData\", \"Close(\"&$D$12&\") when LocalYear(\"&$D$12&\")=\"&$D$9&\" and localMonth(\"&$D$12&\") =\"&$E$9&\" and LocalDay(\"&$D$12&\")=\"&$F$9&\" and Barix(\"&$D$12&\",reference:=StartOfSession)=\"&A84&\"\", \"Bar\", \"\", \"Close\",\"5\",\"0\",\"PrimaryOnly\",,,\"False\",\"T\",\"EveryTick\")","v":1.17445},6.8163421803767036E-4,{"$f":"RTD(\"cqg.rtd\",,\"StudyData\", \"Close(\"&$D$12&\") when LocalYear(\"&$D$12&\")=\"&$D$10&\" and localMonth(\"&$D$12&\") =\"&$E$10&\" and LocalDay(\"&$D$12&\")=\"&$F$10&\" and Barix(\"&$D$12&\",reference:=StartOfSession)=\"&A84&\"\", \"Bar\", \"\", \"Close\",\"5\",\"0\",\"PrimaryOnly\",,,\"False\",\"T\",\"EveryTick\")","v":1.1631499999999999},6.8826085086240104E-4,null,null,null,""]
[264,"15:00:00",null,null,null,null,null,{"$f":"RTD(\"cqg.rtd\",,\"StudyData\", \"Close(\"&$D$12&\") when LocalYear(\"&$D$12&\")=\"&$D$1&\" and localMonth(\"&$D$12&\") =\"&$E$1&\" and LocalDay(\"&$D$12&\")=\"&$F$1&\" and Barix(\"&$D$12&\",reference:=StartOfSession)=\"&A85&\"\", \"Bar\", \"\", \"Close\",\"5\",\"0\",\"PrimaryOnly\",,,\"False\",\"T\",\"EveryTick\")","v":""},{"$error":"#N/A"},{"$f":"RTD(\"cqg.rtd\",,\"StudyData\", \"Close(\"&$D$12&\") when LocalYear(\"&$D$12&\")=\"&$D$2&\" and localMonth(\"&$D$12&\") =\"&$E$2&\" and LocalDay(\"&$D$12&\")=\"&$F$2&\" and Barix(\"&$D$12&\",reference:=StartOfSession)=\"&A85&\"\", \"Bar\", \"\", \"Close\",\"5\",\"0\",\"PrimaryOnly\",,,\"False\",\"T\",\"EveryTick\")","v":1.1726000000000001},-3.410059676043955E-4,{"$f":"RTD(\"cqg.rtd\",,\"StudyData\", \"Close(\"&$D$12&\") when LocalYear(\"&$D$12&\")=\"&$D$3&\" and localMonth(\"&$D$12&\") =\"&$E$3&\" and LocalDay(\"&$D$12&\")=\"&$F$3&\" and Barix(\"&$D$12&\",reference:=StartOfSession)=\"&A85&\"\", \"Bar\", \"\", \"Close\",\"5\",\"0\",\"PrimaryOnly\",,,\"False\",\"T\",\"EveryTick\")","v":1.173},-6.269061335140505E-3,{"$f":"RTD(\"cqg.rtd\",,\"StudyData\", \"Close(\"&$D$12&\") when LocalYear(\"&$D$12&\")=\"&$D$4&\" and localMonth(\"&$D$12&\") =\"&$E$4&\" and LocalDay(\"&$D$12&\")=\"&$F$4&\" and Barix(\"&$D$12&\",reference:=StartOfSession)=\"&A85&\"\", \"Bar\", \"\", \"Close\",\"5\",\"0\",\"PrimaryOnly\",,,\"False\",\"T\",\"EveryTick\")","v":1.18045},-3.8106528918626596E-4,{"$f":"RTD(\"cqg.rtd\",,\"StudyData\", \"Close(\"&$D$12&\") when LocalYear(\"&$D$12&\")=\"&$D$5&\" and localMonth(\"&$D$12&\") =\"&$E$5&\" and LocalDay(\"&$D$12&\")=\"&$F$5&\" and Barix(\"&$D$12&\",reference:=StartOfSession)=\"&A85&\"\", \"Bar\", \"\", \"Close\",\"5\",\"0\",\"PrimaryOnly\",,,\"False\",\"T\",\"EveryTick\")","v":1.1809000000000001},3.388394747987767E-4,{"$f":"RTD(\"cqg.rtd\",,\"StudyData\", \"Close(\"&$D$12&\") when LocalYear(\"&$D$12&\")=\"&$D$6&\" and localMonth(\"&$D$12&\") =\"&$E$6&\" and LocalDay(\"&$D$12&\")=\"&$F$6&\" and Barix(\"&$D$12&\",reference:=StartOfSession)=\"&A85&\"\", \"Bar\", \"\", \"Close\",\"5\",\"0\",\"PrimaryOnly\",,,\"False\",\"T\",\"EveryTick\")","v":1.18065},5.5787411634443881E-3,{"$f":"RTD(\"cqg.rtd\",,\"StudyData\", \"Close(\"&$D$12&\") when LocalYear(\"&$D$12&\")=\"&$D$7&\" and localMonth(\"&$D$12&\") =\"&$E$7&\" and LocalDay(\"&$D$12&\")=\"&$F$7&\" and Barix(\"&$D$12&\",reference:=StartOfSession)=\"&A85&\"\", \"Bar\", \"\", \"Close\",\"5\",\"0\",\"PrimaryOnly\",,,\"False\",\"T\",\"EveryTick\")","v":1.1752499999999999},3.2438431004309216E-3,{"$f":"RTD(\"cqg.rtd\",,\"StudyData\", \"Close(\"&$D$12&\") when LocalYear(\"&$D$12&\")=\"&$D$8&\" and localMonth(\"&$D$12&\") =\"&$E$8&\" and LocalDay(\"&$D$12&\")=\"&$F$8&\" and Barix(\"&$D$12&\",reference:=StartOfSession)=\"&A85&\"\", \"Bar\", \"\", \"Close\",\"5\",\"0\",\"PrimaryOnly\",,,\"False\",\"T\",\"EveryTick\")","v":1.1726000000000001},4.4113238254314853E-3,{"$f":"RTD(\"cqg.rtd\",,\"StudyData\", \"Close(\"&$D$12&\") when LocalYear(\"&$D$12&\")=\"&$D$9&\" and localMonth(\"&$D$12&\") =\"&$E$9&\" and LocalDay(\"&$D$12&\")=\"&$F$9&\" and Barix(\"&$D$12&\",reference:=StartOfSession)=\"&A85&\"\", \"Bar\", \"\", \"Close\",\"5\",\"0\",\"PrimaryOnly\",,,\"False\",\"T\",\"EveryTick\")","v":1.1745000000000001},7.2423635666511938E-4,{"$f":"RTD(\"cqg.rtd\",,\"StudyData\", \"Close(\"&$D$12&\") when LocalYear(\"&$D$12&\")=\"&$D$10&\" and localMonth(\"&$D$12&\") =\"&$E$10&\" and LocalDay(\"&$D$12&\")=\"&$F$10&\" and Barix(\"&$D$12&\",reference:=StartOfSession)=\"&A85&\"\", \"Bar\", \"\", \"Close\",\"5\",\"0\",\"PrimaryOnly\",,,\"False\",\"T\",\"EveryTick\")","v":1.1633},8.1730976039919685E-4,null,null,null,""]
[265,"15:05:00",null,null,null,null,null,{"$f":"RTD(\"cqg.rtd\",,\"StudyData\", \"Close(\"&$D$12&\") when LocalYear(\"&$D$12&\")=\"&$D$1&\" and localMonth(\"&$D$12&\") =\"&$E$1&\" and LocalDay(\"&$D$12&\")=\"&$F$1&\" and Barix(\"&$D$12&\",reference:=StartOfSession)=\"&A86&\"\", \"Bar\", \"\", \"Close\",\"5\",\"0\",\"PrimaryOnly\",,,\"False\",\"T\",\"EveryTick\")","v":""},{"$error":"#N/A"},{"$f":"RTD(\"cqg.rtd\",,\"StudyData\", \"Close(\"&$D$12&\") when LocalYear(\"&$D$12&\")=\"&$D$2&\" and localMonth(\"&$D$12&\") =\"&$E$2&\" and LocalDay(\"&$D$12&\")=\"&$F$2&\" and Barix(\"&$D$12&\",reference:=StartOfSession)=\"&A86&\"\", \"Bar\", \"\", \"Close\",\"5\",\"0\",\"PrimaryOnly\",,,\"False\",\"T\",\"EveryTick\")","v":1.1726000000000001},-3.410059676043955E-4,{"$f":"RTD(\"cqg.rtd\",,\"StudyData\", \"Close(\"&$D$12&\") when LocalYear(\"&$D$12&\")=\"&$D$3&\" and localMonth(\"&$D$12&\") =\"&$E$3&\" and LocalDay(\"&$D$12&\")=\"&$F$3&\" and Barix(\"&$D$12&\",reference:=StartOfSession)=\"&A86&\"\", \"Bar\", \"\", \"Close\",\"5\",\"0\",\"PrimaryOnly\",,,\"False\",\"T\",\"EveryTick\")","v":1.1731},-6.1843442900710458E-3,{"$f":"RTD(\"cqg.rtd\",,\"StudyData\", \"Close(\"&$D$12&\") when LocalYear(\"&$D$12&\")=\"&$D$4&\" and localMonth(\"&$D$12&\") =\"&$E$4&\" and LocalDay(\"&$D$12&\")=\"&$F$4&\" and Barix(\"&$D$12&\",reference:=StartOfSession)=\"&A86&\"\", \"Bar\", \"\", \"Close\",\"5\",\"0\",\"PrimaryOnly\",,,\"False\",\"T\",\"EveryTick\")","v":1.1803999999999999},-4.2340587687371238E-4,{"$f":"RTD(\"cqg.rtd\",,\"StudyData\", \"Close(\"&$D$12&\") when LocalYear(\"&$D$12&\")=\"&$D$5&\" and localMonth(\"&$D$12&\") =\"&$E$5&\" and LocalDay(\"&$D$12&\")=\"&$F$5&\" and Barix(\"&$D$12&\",reference:=StartOfSession)=\"&A86&\"\", \"Bar\", \"\", \"Close\",\"5\",\"0\",\"PrimaryOnly\",,,\"False\",\"T\",\"EveryTick\")","v":1.18075},2.1177467174914139E-4,{"$f":"RTD(\"cqg.rtd\",,\"StudyData\", \"Close(\"&$D$12&\") when LocalYear(\"&$D$12&\")=\"&$D$6&\" and localMonth(\"&$D$12&\") =\"&$E$6&\" and LocalDay(\"&$D$12&\")=\"&$F$6&\" and Barix(\"&$D$12&\",reference:=StartOfSession)=\"&A86&\"\", \"Bar\", \"\", \"Close\",\"5\",\"0\",\"PrimaryOnly\",,,\"False\",\"T\",\"EveryTick\")","v":1.18065},5.5787411634443881E-3,{"$f":"RTD(\"cqg.rtd\",,\"StudyData\", \"Close(\"&$D$12&\") when LocalYear(\"&$D$12&\")=\"&$D$7&\" and localMonth(\"&$D$12&\") =\"&$E$7&\" and LocalDay(\"&$D$12&\")=\"&$F$7&\" and Barix(\"&$D$12&\",reference:=StartOfSession)=\"&A86&\"\", \"Bar\", \"\", \"Close\",\"5\",\"0\",\"PrimaryOnly\",,,\"False\",\"T\",\"EveryTick\")","v":1.175},3.030432370139521E-3,{"$f":"RTD(\"cqg.rtd\",,\"StudyData\", \"Close(\"&$D$12&\") when LocalYear(\"&$D$12&\")=\"&$D$8&\" and localMonth(\"&$D$12&\") =\"&$E$8&\" and LocalDay(\"&$D$12&\")=\"&$F$8&\" and Barix(\"&$D$12&\",reference:=StartOfSession)=\"&A86&\"\", \"Bar\", \"\", \"Close\",\"5\",\"0\",\"PrimaryOnly\",,,\"False\",\"T\",\"EveryTick\")","v":1.17255},4.3684954387767198E-3,{"$f":"RTD(\"cqg.rtd\",,\"StudyData\", \"Close(\"&$D$12&\") when LocalYear(\"&$D$12&\")=\"&$D$9&\" and localMonth(\"&$D$12&\") =\"&$E$9&\" and LocalDay(\"&$D$12&\")=\"&$F$9&\" and Barix(\"&$D$12&\",reference:=StartOfSession)=\"&A86&\"\", \"Bar\", \"\", \"Close\",\"5\",\"0\",\"PrimaryOnly\",,,\"False\",\"T\",\"EveryTick\")","v":1.17475},9.3724704980179679E-4,{"$f":"RTD(\"cqg.rtd\",,\"StudyData\", \"Close(\"&$D$12&\") when LocalYear(\"&$D$12&\")=\"&$D$10&\" and localMonth(\"&$D$12&\") =\"&$E$10&\" and LocalDay(\"&$D$12&\")=\"&$F$10&\" and Barix(\"&$D$12&\",reference:=StartOfSession)=\"&A86&\"\", \"Bar\", \"\", \"Close\",\"5\",\"0\",\"PrimaryOnly\",,,\"False\",\"T\",\"EveryTick\")","v":1.1633},8.1730976039919685E-4,null,null,null,""]
[266,"15:10:00",null,null,null,null,null,{"$f":"RTD(\"cqg.rtd\",,\"StudyData\", \"Close(\"&$D$12&\") when LocalYear(\"&$D$12&\")=\"&$D$1&\" and localMonth(\"&$D$12&\") =\"&$E$1&\" and LocalDay(\"&$D$12&\")=\"&$F$1&\" and Barix(\"&$D$12&\",reference:=StartOfSession)=\"&A87&\"\", \"Bar\", \"\", \"Close\",\"5\",\"0\",\"PrimaryOnly\",,,\"False\",\"T\",\"EveryTick\")","v":""},{"$error":"#N/A"},{"$f":"RTD(\"cqg.rtd\",,\"StudyData\", \"Close(\"&$D$12&\") when LocalYear(\"&$D$12&\")=\"&$D$2&\" and localMonth(\"&$D$12&\") =\"&$E$2&\" and LocalDay(\"&$D$12&\")=\"&$F$2&\" and Barix(\"&$D$12&\",reference:=StartOfSession)=\"&A87&\"\", \"Bar\", \"\", \"Close\",\"5\",\"0\",\"PrimaryOnly\",,,\"False\",\"T\",\"EveryTick\")","v":1.1727000000000001},-2.5575447570329665E-4,{"$f":"RTD(\"cqg.rtd\",,\"StudyData\", \"Close(\"&$D$12&\") when LocalYear(\"&$D$12&\")=\"&$D$3&\" and localMonth(\"&$D$12&\") =\"&$E$3&\" and LocalDay(\"&$D$12&\")=\"&$F$3&\" and Barix(\"&$D$12&\",reference:=StartOfSession)=\"&A87&\"\", \"Bar\", \"\", \"Close\",\"5\",\"0\",\"PrimaryOnly\",,,\"False\",\"T\",\"EveryTick\")","v":1.1731},-6.1843442900710458E-3,{"$f":"RTD(\"cqg.rtd\",,\"StudyData\", \"Close(\"&$D$12&\") when LocalYear(\"&$D$12&\")=\"&$D$4&\" and localMonth(\"&$D$12&\") =\"&$E$4&\" and LocalDay(\"&$D$12&\")=\"&$F$4&\" and Barix(\"&$D$12&\",reference:=StartOfSession)=\"&A87&\"\", \"Bar\", \"\", \"Close\",\"5\",\"0\",\"PrimaryOnly\",,,\"False\",\"T\",\"EveryTick\")","v":1.18045},-3.8106528918626596E-4,{"$f":"RTD(\"cqg.rtd\",,\"StudyData\", \"Close(\"&$D$12&\") when LocalYear(\"&$D$12&\")=\"&$D$5&\" and localMonth(\"&$D$12&\") =\"&$E$5&\" and LocalDay(\"&$D$12&\")=\"&$F$5&\" and Barix(\"&$D$12&\",reference:=StartOfSession)=\"&A87&\"\", \"Bar\", \"\", \"Close\",\"5\",\"0\",\"PrimaryOnly\",,,\"False\",\"T\",\"EveryTick\")","v":1.1809000000000001},3.388394747987767E-4,{"$f":"RTD(\"cqg.rtd\",,\"StudyData\", \"Close(\"&$D$12&\") when LocalYear(\"&$D$12&\")=\"&$D$6&\" and localMonth(\"&$D$12&\") =\"&$E$6&\" and LocalDay(\"&$D$12&\")=\"&$F$6&\" and Barix(\"&$D$12&\",reference:=StartOfSession)=\"&A87&\"\", \"Bar\", \"\", \"Close\",\"5\",\"0\",\"PrimaryOnly\",,,\"False\",\"T\",\"EveryTick\")","v":1.1805000000000001},5.4509837322205806E-3,{"$f":"RTD(\"cqg.rtd\",,\"StudyData\", \"Close(\"&$D$12&\") when LocalYear(\"&$D$12&\")=\"&$D$7&\" and localMonth(\"&$D$12&\") =\"&$E$7&\" and LocalDay(\"&$D$12&\")=\"&$F$7&\" and Barix(\"&$D$12&\",reference:=StartOfSession)=\"&A87&\"\", \"Bar\", \"\", \"Close\",\"5\",\"0\",\"PrimaryOnly\",,,\"False\",\"T\",\"EveryTick\")","v":1.1749499999999999},2.9877502240811269E-3,{"$f":"RTD(\"cqg.rtd\",,\"StudyData\", \"Close(\"&$D$12&\") when LocalYear(\"&$D$12&\")=\"&$D$8&\" and localMonth(\"&$D$12&\") =\"&$E$8&\" and LocalDay(\"&$D$12&\")=\"&$F$8&\" and Barix(\"&$D$12&\",reference:=StartOfSession)=\"&A87&\"\", \"Bar\", \"\", \"Close\",\"5\",\"0\",\"PrimaryOnly\",,,\"False\",\"T\",\"EveryTick\")","v":1.17255},4.3684954387767198E-3,{"$f":"RTD(\"cqg.rtd\",,\"StudyData\", \"Close(\"&$D$12&\") when LocalYear(\"&$D$12&\")=\"&$D$9&\" and localMonth(\"&$D$12&\") =\"&$E$9&\" and LocalDay(\"&$D$12&\")=\"&$F$9&\" and Barix(\"&$D$12&\",reference:=StartOfSession)=\"&A87&\"\", \"Bar\", \"\", \"Close\",\"5\",\"0\",\"PrimaryOnly\",,,\"False\",\"T\",\"EveryTick\")","v":1.17475},9.3724704980179679E-4,{"$f":"RTD(\"cqg.rtd\",,\"StudyData\", \"Close(\"&$D$12&\") when LocalYear(\"&$D$12&\")=\"&$D$10&\" and localMonth(\"&$D$12&\") =\"&$E$10&\" and LocalDay(\"&$D$12&\")=\"&$F$10&\" and Barix(\"&$D$12&\",reference:=StartOfSession)=\"&A87&\"\", \"Bar\", \"\", \"Close\",\"5\",\"0\",\"PrimaryOnly\",,,\"False\",\"T\",\"EveryTick\")","v":1.1633},8.1730976039919685E-4,null,null,null,""]

{"sheet":"Sheet4 (3)","index":6,"n_rows":101,"n_cols":20,"rows_kept":101,"cut":false,"hidden":true,"merged":[]}
[null,{"$f":"'Sheet3 (3)'!I1","v":-2.4732420792289477E-3},{"$f":"'Sheet3 (3)'!K1","v":-2.983802216539407E-4},null,{"$f":"'Sheet3 (3)'!M1","v":2.9650965774319935E-4},null,{"$f":"'Sheet3 (3)'!O1","v":-2.9215005504276003E-3},null,{"$f":"'Sheet3 (3)'!Q1","v":2.9648454044894842E-3},null,{"$f":"'Sheet3 (3)'!S1","v":5.4083979218125184E-3},null,{"$f":"'Sheet3 (3)'!U1","v":4.9084467967048708E-3},null,{"$f":"'Sheet3 (3)'!W1","v":3.4690993190285551E-3},null,{"$f":"'Sheet3 (3)'!Y1","v":-2.0875047927406492E-3},null,{"$f":"'Sheet3 (3)'!AA1","v":-4.3016303178804554E-5}]
[null,{"$f":"'Sheet3 (3)'!I2","v":-2.1321052407146362E-3},{"$f":"'Sheet3 (3)'!K2","v":2.5575447570329665E-4},{"$f":"CORREL($B$1:B2,$C$1:C2)","v":1},{"$f":"'Sheet3 (3)'!M2","v":-1.2707556760409392E-4},{"$f":"CORREL($B$1:B2,$E$1:E2)","v":-1},{"$f":"'Sheet3 (3)'!O2","v":-2.5404352612415221E-3},{"$f":"CORREL($B$1:B2,$G$1:G2)","v":1},{"$f":"'Sheet3 (3)'!Q2","v":2.5836509953409545E-3},{"$f":"CORREL($B$1:B2,$I$1:I2)","v":-1},{"$f":"'Sheet3 (3)'!S2","v":6.4304573716039252E-3},{"$f":"CORREL($B$1:B2,$K$1:K2)","v":0.99999999999999989},{"$f":"'Sheet3 (3)'!U2","v":4.5669896282384782E-3},{"$f":"CORREL($B$1:B2,$M$1:M2)","v":-0.99999999999999989},{"$f":"'Sheet3 (3)'!W2","v":3.1264722257911951E-3},{"$f":"CORREL($B$1:B2,$O$1:O2)","v":-1},{"$f":"'Sheet3 (3)'!Y2","v":-2.0023005154859407E-3},{"$f":"CORREL($B$1:B2,$Q$1:Q2)","v":1},{"$f":"'Sheet3 (3)'!AA2","v":5.1619563814680081E-4},{"$f":"CORREL($B$1:B2,$S$1:S2)","v":1}]
[null,{"$f":"'Sheet3 (3)'!I3","v":-2.1321052407146362E-3},{"$f":"'Sheet3 (3)'!K3","v":2.1312872975265255E-4},{"$f":"CORREL($B$1:B3,$C$1:C3)","v":0.99760860558451747},{"$f":"'Sheet3 (3)'!M3","v":1.2707556760428203E-4},{"$f":"CORREL($B$1:B3,$E$1:E3)","v":-0.8029550685469663},{"$f":"'Sheet3 (3)'!O3","v":-2.7521381996781905E-3},{"$f":"CORREL($B$1:B3,$G$1:G3)","v":0.83223971956389342},{"$f":"'Sheet3 (3)'!Q3","v":2.5836509953409545E-3},{"$f":"CORREL($B$1:B3,$I$1:I3)","v":-1.0000000000000002},{"$f":"'Sheet3 (3)'!S3","v":6.5156289924198597E-3},{"$f":"CORREL($B$1:B3,$K$1:K3)","v":0.9976086055845288},{"$f":"'Sheet3 (3)'!U3","v":4.6523539203550766E-3},{"$f":"CORREL($B$1:B3,$M$1:M3)","v":-0.97072534339415084},{"$f":"'Sheet3 (3)'!W3","v":3.1693006124457702E-3},{"$f":"CORREL($B$1:B3,$O$1:O3)","v":-0.99339926779881393},{"$f":"'Sheet3 (3)'!Y3","v":-2.2153112086228072E-3},{"$f":"CORREL($B$1:B3,$Q$1:Q3)","v":-0.11470786693548325},{"$f":"'Sheet3 (3)'!AA3","v":9.4635866993599254E-4},{"$f":"CORREL($B$1:B3,$S$1:S3)","v":0.90112711377909083}]
[null,{"$f":"'Sheet3 (3)'!I4","v":-2.4305999744147536E-3},{"$f":"'Sheet3 (3)'!K4","v":2.5575447570329665E-4},{"$f":"CORREL($B$1:B4,$C$1:C4)","v":0.62148637358882497},{"$f":"'Sheet3 (3)'!M4","v":0},{"$f":"CORREL($B$1:B4,$E$1:E4)","v":-0.5337181541698911},{"$f":"'Sheet3 (3)'!O4","v":-3.0061817258024929E-3},{"$f":"CORREL($B$1:B4,$G$1:G4)","v":0.8719390484833035},{"$f":"'Sheet3 (3)'!Q4","v":2.7954256670900961E-3},{"$f":"CORREL($B$1:B4,$I$1:I4)","v":-0.95824407256416022},{"$f":"'Sheet3 (3)'!S4","v":6.2175283195639933E-3},{"$f":"CORREL($B$1:B4,$K$1:K4)","v":0.81186394109313276},{"$f":"'Sheet3 (3)'!U4","v":4.3962610440052823E-3},{"$f":"CORREL($B$1:B4,$M$1:M4)","v":-0.20692844961441018},{"$f":"'Sheet3 (3)'!W4","v":3.040815452481855E-3},{"$f":"CORREL($B$1:B4,$O$1:O4)","v":-0.41850220264310539},{"$f":"'Sheet3 (3)'!Y4","v":-2.0023005154859407E-3},{"$f":"CORREL($B$1:B4,$Q$1:Q4)","v":-0.33245550355664272},{"$f":"'Sheet3 (3)'!AA4","v":1.0754075794725973E-3},{"$f":"CORREL($B$1:B4,$S$1:S4)","v":0.32986285943069671}]
[null,{"$f":"'Sheet3 (3)'!I5","v":-2.4305999744147536E-3},{"$f":"'Sheet3 (3)'!K5","v":-4.2625745950644088E-5},{"$f":"CORREL($B$1:B5,$C$1:C5)","v":0.65621318814630836},{"$f":"'Sheet3 (3)'!M5","v":-4.2358522534635275E-5},{"$f":"CORREL($B$1:B5,$E$1:E5)","v":-0.35894908585771051},{"$f":"'Sheet3 (3)'!O5","v":-3.0485223134897512E-3},{"$f":"CORREL($B$1:B5,$G$1:G5)","v":0.88182048171004135},{"$f":"'Sheet3 (3)'!Q5","v":2.5412960609910136E-3},{"$f":"CORREL($B$1:B5,$I$1:I5)","v":-0.61953298030121406},{"$f":"'Sheet3 (3)'!S5","v":6.387871561195863E-3},{"$f":"CORREL($B$1:B5,$K$1:K5)","v":0.64743487372584274},{"$f":"'Sheet3 (3)'!U5","v":4.6096717742966824E-3},{"$f":"CORREL($B$1:B5,$M$1:M5)","v":-0.17423167528884942},{"$f":"'Sheet3 (3)'!W5","v":3.2121289991005352E-3},{"$f":"CORREL($B$1:B5,$O$1:O5)","v":-0.4009515166757367},{"$f":"'Sheet3 (3)'!Y5","v":-2.3431176245047756E-3},{"$f":"CORREL($B$1:B5,$Q$1:Q5)","v":0.10725235421488835},{"$f":"'Sheet3 (3)'!AA5","v":1.0754075794725973E-3},{"$f":"CORREL($B$1:B5,$S$1:S5)","v":0.12833900143564089}]
[null,{"$f":"'Sheet3 (3)'!I6","v":-2.4732420792289477E-3},{"$f":"'Sheet3 (3)'!K6","v":1.2787723785155367E-4},{"$f":"CORREL($B$1:B6,$C$1:C6)","v":0.56909018297939706},{"$f":"'Sheet3 (3)'!M6","v":2.5415113520856406E-4},{"$f":"CORREL($B$1:B6,$E$1:E6)","v":-0.47451498783913504},{"$f":"'Sheet3 (3)'!O6","v":-2.9215005504276003E-3},{"$f":"CORREL($B$1:B6,$G$1:G6)","v":0.86319111729713127},{"$f":"'Sheet3 (3)'!Q6","v":2.4565861922913193E-3},{"$f":"CORREL($B$1:B6,$I$1:I6)","v":-0.29923958732940187},{"$f":"'Sheet3 (3)'!S6","v":6.8563154756835984E-3},{"$f":"CORREL($B$1:B6,$K$1:K6)","v":0.28750763351326319},{"$f":"'Sheet3 (3)'!U6","v":3.7987109991889046E-3},{"$f":"CORREL($B$1:B6,$M$1:M6)","v":0.26758963757190574},{"$f":"'Sheet3 (3)'!W6","v":3.2549573857551099E-3},{"$f":"CORREL($B$1:B6,$O$1:O6)","v":-0.42173266319002761},{"$f":"'Sheet3 (3)'!Y6","v":-2.3005154858775161E-3},{"$f":"CORREL($B$1:B6,$Q$1:Q6)","v":0.26364371631665223},{"$f":"'Sheet3 (3)'!AA6","v":7.3127715404139662E-4},{"$f":"CORREL($B$1:B6,$S$1:S6)","v":0.1127074421906071}]
[null,{"$f":"'Sheet3 (3)'!I7","v":-2.4305999744147536E-3},{"$f":"'Sheet3 (3)'!K7","v":1.2787723785155367E-4},{"$f":"CORREL($B$1:B7,$C$1:C7)","v":0.53818562676438275},{"$f":"'Sheet3 (3)'!M7","v":6.3537783802103398E-4},{"$f":"CORREL($B$1:B7,$E$1:E7)","v":-0.44361715972146298},{"$f":"'Sheet3 (3)'!O7","v":-2.9215005504276003E-3},{"$f":"CORREL($B$1:B7,$G$1:G7)","v":0.86349041034175422},{"$f":"'Sheet3 (3)'!Q7","v":2.5412960609910136E-3},{"$f":"CORREL($B$1:B7,$I$1:I7)","v":-0.23416699476057695},{"$f":"'Sheet3 (3)'!S7","v":6.6008006132357942E-3},{"$f":"CORREL($B$1:B7,$K$1:K7)","v":0.22148036605307325},{"$f":"'Sheet3 (3)'!U7","v":4.0548038755386998E-3},{"$f":"CORREL($B$1:B7,$M$1:M7)","v":0.32571844407597822},{"$f":"'Sheet3 (3)'!W7","v":3.040815452481855E-3},{"$f":"CORREL($B$1:B7,$O$1:O7)","v":-0.28013828206456087},{"$f":"'Sheet3 (3)'!Y7","v":-3.109956119797344E-3},{"$f":"CORREL($B$1:B7,$Q$1:Q7)","v":0.28563986781956513},{"$f":"'Sheet3 (3)'!AA7","v":6.8826085086240104E-4},{"$f":"CORREL($B$1:B7,$S$1:S7)","v":0.11593120904350024}]
[null,{"$f":"'Sheet3 (3)'!I8","v":-2.5585262888575258E-3},{"$f":"'Sheet3 (3)'!K8","v":-4.2625745950644088E-5},{"$f":"CORREL($B$1:B8,$C$1:C8)","v":0.57700714039229672},{"$f":"'Sheet3 (3)'!M8","v":2.1179261267374069E-4},{"$f":"CORREL($B$1:B8,$E$1:E8)","v":-0.42813674818743003},{"$f":"'Sheet3 (3)'!O8","v":-3.2178846642391609E-3},{"$f":"CORREL($B$1:B8,$G$1:G8)","v":0.88463191374045747},{"$f":"'Sheet3 (3)'!Q8","v":2.2871664548919307E-3},{"$f":"CORREL($B$1:B8,$I$1:I8)","v":9.9670798475149203E-2},{"$f":"'Sheet3 (3)'!S8","v":6.6433864236436673E-3},{"$f":"CORREL($B$1:B8,$K$1:K8)","v":8.5672527963295053E-2},{"$f":"'Sheet3 (3)'!U8","v":3.7560288531307004E-3},{"$f":"CORREL($B$1:B8,$M$1:M8)","v":0.48976854879354809},{"$f":"'Sheet3 (3)'!W8","v":3.1264722257911951E-3},{"$f":"CORREL($B$1:B8,$O$1:O8)","v":-0.17888870735962725},{"$f":"'Sheet3 (3)'!Y8","v":-3.067353981169895E-3},{"$f":"CORREL($B$1:B8,$Q$1:Q8)","v":0.47311495913101459},{"$f":"'Sheet3 (3)'!AA8","v":1.9787499462295939E-3},{"$f":"CORREL($B$1:B8,$S$1:S8)","v":-0.27841345827344843}]
[null,{"$f":"'Sheet3 (3)'!I9","v":-2.3026736599717919E-3},{"$f":"'Sheet3 (3)'!K9","v":2.1312872975265255E-4},{"$f":"CORREL($B$1:B9,$C$1:C9)","v":0.59380288437189133},{"$f":"'Sheet3 (3)'!M9","v":1.6943409013910543E-4},{"$f":"CORREL($B$1:B9,$E$1:E9)","v":-0.42152726292062548},{"$f":"'Sheet3 (3)'!O9","v":-3.3449064273013123E-3},{"$f":"CORREL($B$1:B9,$G$1:G9)","v":0.58865083361991388},{"$f":"'Sheet3 (3)'!Q9","v":1.990681914442907E-3},{"$f":"CORREL($B$1:B9,$I$1:I9)","v":-5.8553727854604894E-2},{"$f":"'Sheet3 (3)'!S9","v":6.6433864236436673E-3},{"$f":"CORREL($B$1:B9,$K$1:K9)","v":0.11892430911822047},{"$f":"'Sheet3 (3)'!U9","v":3.8413931452472988E-3},{"$f":"CORREL($B$1:B9,$M$1:M9)","v":0.37661017748655162},{"$f":"'Sheet3 (3)'!W9","v":3.383442545719215E-3},{"$f":"CORREL($B$1:B9,$O$1:O9)","v":-7.5070023045813769E-2},{"$f":"'Sheet3 (3)'!Y9","v":-2.8543432880332176E-3},{"$f":"CORREL($B$1:B9,$Q$1:Q9)","v":0.37674202260747419},{"$f":"'Sheet3 (3)'!AA9","v":1.4625543080827932E-3},{"$f":"CORREL($B$1:B9,$S$1:S9)","v":-0.19741974622251102}]
[null,{"$f":"'Sheet3 (3)'!I10","v":-2.3026736599717919E-3},{"$f":"'Sheet3 (3)'!K10","v":-4.2625745950644088E-5},{"$f":"CORREL($B$1:B10,$C$1:C10)","v":0.5342868704896272},{"$f":"'Sheet3 (3)'!M10","v":4.2358522534823384E-5},{"$f":"CORREL($B$1:B10,$E$1:E10)","v":-0.43795724931070379},{"$f":"'Sheet3 (3)'!O10","v":-3.3025658396138662E-3},{"$f":"CORREL($B$1:B10,$G$1:G10)","v":0.45736459410009683},{"$f":"'Sheet3 (3)'!Q10","v":2.2871664548919307E-3},{"$f":"CORREL($B$1:B10,$I$1:I10)","v":-9.8518716659829961E-2},{"$f":"'Sheet3 (3)'!S10","v":6.8137296652755371E-3},{"$f":"CORREL($B$1:B10,$K$1:K10)","v":0.15933027489233989},{"$f":"'Sheet3 (3)'!U10","v":4.097486021597093E-3},{"$f":"CORREL($B$1:B10,$M$1:M10)","v":0.34550871091687996},{"$f":"'Sheet3 (3)'!W10","v":3.2977857724098753E-3},{"$f":"CORREL($B$1:B10,$O$1:O10)","v":-3.9526540792232799E-2},{"$f":"'Sheet3 (3)'!Y10","v":-2.4283219017594846E-3},{"$f":"CORREL($B$1:B10,$Q$1:Q10)","v":0.37383400652422083},{"$f":"'Sheet3 (3)'!AA10","v":1.3335053985459977E-3},{"$f":"CORREL($B$1:B10,$S$1:S10)","v":-0.15512386429317701}]
[null,{"$f":"'Sheet3 (3)'!I11","v":-2.5158841840433313E-3},{"$f":"'Sheet3 (3)'!K11","v":2.1312872975265255E-4},{"$f":"CORREL($B$1:B11,$C$1:C11)","v":0.42086021254925321},{"$f":"'Sheet3 (3)'!M11","v":8.4717045069646768E-5},{"$f":"CORREL($B$1:B11,$E$1:E11)","v":-0.3813251281208947},{"$f":"'Sheet3 (3)'!O11","v":-3.0485223134897512E-3},{"$f":"CORREL($B$1:B11,$G$1:G11)","v":0.45406366616875932},{"$f":"'Sheet3 (3)'!Q11","v":2.0330368487928483E-3},{"$f":"CORREL($B$1:B11,$I$1:I11)","v":6.6663085093684973E-2},{"$f":"'Sheet3 (3)'!S11","v":6.0897708883399966E-3},{"$f":"CORREL($B$1:B11,$K$1:K11)","v":0.22902512018531665},{"$f":"'Sheet3 (3)'!U11","v":4.0121217294804955E-3},{"$f":"CORREL($B$1:B11,$M$1:M11)","v":0.38249265109173847},{"$f":"'Sheet3 (3)'!W11","v":3.42627093237398E-3},{"$f":"CORREL($B$1:B11,$O$1:O11)","v":-0.16850062716456785},{"$f":"'Sheet3 (3)'!Y11","v":-2.5987304562689021E-3},{"$f":"CORREL($B$1:B11,$Q$1:Q11)","v":0.38950058357721529},{"$f":"'Sheet3 (3)'!AA11","v":1.6776358239771981E-3},{"$f":"CORREL($B$1:B11,$S$1:S11)","v":-0.25231883172795472}]
[null,{"$f":"'Sheet3 (3)'!I12","v":-2.5585262888575258E-3},{"$f":"'Sheet3 (3)'!K12","v":-2.1312872975284185E-4},{"$f":"CORREL($B$1:B12,$C$1:C12)","v":0.51114168562610129},{"$f":"'Sheet3 (3)'!M12","v":-4.2358522534635275E-5},{"$f":"CORREL($B$1:B12,$E$1:E12)","v":-0.24889967949233108},{"$f":"'Sheet3 (3)'!O12","v":-3.514268778050722E-3},{"$f":"CORREL($B$1:B12,$G$1:G12)","v":0.54729692124271767},{"$f":"'Sheet3 (3)'!Q12","v":1.2706480304954127E-3},{"$f":"CORREL($B$1:B12,$I$1:I12)","v":0.30937947025376505},{"$f":"'Sheet3 (3)'!S12","v":6.6433864236436673E-3},{"$f":"CORREL($B$1:B12,$K$1:K12)","v":0.15430494017562127},{"$f":"'Sheet3 (3)'!U12","v":4.2682146058302898E-3},{"$f":"CORREL($B$1:B12,$M$1:M12)","v":0.35220822379862937},{"$f":"'Sheet3 (3)'!W12","v":3.9830399588845948E-3},{"$f":"CORREL($B$1:B12,$O$1:O12)","v":-0.37844685619008173},{"$f":"'Sheet3 (3)'!Y12","v":-2.2153112086228072E-3},{"$f":"CORREL($B$1:B12,$Q$1:Q12)","v":0.29726486308214656},{"$f":"'Sheet3 (3)'!AA12","v":1.3765217017249931E-3},{"$f":"CORREL($B$1:B12,$S$1:S12)","v":-0.29428766465727552}]
[null,{"$f":"'Sheet3 (3)'!I13","v":-1.9188947166432864E-3},{"$f":"'Sheet3 (3)'!K13","v":4.262574595054944E-4},{"$f":"CORREL($B$1:B13,$C$1:C13)","v":0.65849913572314944},{"$f":"'Sheet3 (3)'!M13","v":-1.6943409013891732E-4},{"$f":"CORREL($B$1:B13,$E$1:E13)","v":-0.43710494904967767},{"$f":"'Sheet3 (3)'!O13","v":-3.8106528918622831E-3},{"$f":"CORREL($B$1:B13,$G$1:G13)","v":-0.12649967159175507},{"$f":"'Sheet3 (3)'!Q13","v":1.6518424396441305E-3},{"$f":"CORREL($B$1:B13,$I$1:I13)","v":-8.1633232643465212E-2},{"$f":"'Sheet3 (3)'!S13","v":6.3452857507879899E-3},{"$f":"CORREL($B$1:B13,$K$1:K13)","v":6.6230633095525099E-2},{"$f":"'Sheet3 (3)'!U13","v":3.457253830722512E-3},{"$f":"CORREL($B$1:B13,$M$1:M13)","v":-0.13269324176639191},{"$f":"'Sheet3 (3)'!W13","v":3.76889802561134E-3},{"$f":"CORREL($B$1:B13,$O$1:O13)","v":7.5857671873613808E-2},{"$f":"'Sheet3 (3)'!Y13","v":-2.5987304562689021E-3},{"$f":"CORREL($B$1:B13,$Q$1:Q13)","v":0.13339941518624066},{"$f":"'Sheet3 (3)'!AA13","v":1.9357336430507895E-3},{"$f":"CORREL($B$1:B13,$S$1:S13)","v":8.8051390299128895E-2}]
[null,{"$f":"'Sheet3 (3)'!I14","v":-2.0468210310860585E-3},{"$f":"'Sheet3 (3)'!K14","v":5.5413469735723735E-4},{"$f":"CORREL($B$1:B14,$C$1:C14)","v":0.72630186242945638},{"$f":"'Sheet3 (3)'!M14","v":-3.3886818027783463E-4},{"$f":"CORREL($B$1:B14,$E$1:E14)","v":-0.55111860681127167},{"$f":"'Sheet3 (3)'!O14","v":-3.0485223134897512E-3},{"$f":"CORREL($B$1:B14,$G$1:G14)","v":-9.6441652501849037E-2},{"$f":"'Sheet3 (3)'!Q14","v":8.8945362134688292E-4},{"$f":"CORREL($B$1:B14,$I$1:I14)","v":-0.32032754714141193},{"$f":"'Sheet3 (3)'!S14","v":6.2601141299718664E-3},{"$f":"CORREL($B$1:B14,$K$1:K14)","v":9.1021453417021916E-3},{"$f":"'Sheet3 (3)'!U14","v":3.4145716846643078E-3},{"$f":"CORREL($B$1:B14,$M$1:M14)","v":-0.29284055364791844},{"$f":"'Sheet3 (3)'!W14","v":3.9402115722300202E-3},{"$f":"CORREL($B$1:B14,$O$1:O14)","v":0.27062310402662992},{"$f":"'Sheet3 (3)'!Y14","v":-2.7691390107783195E-3},{"$f":"CORREL($B$1:B14,$Q$1:Q14)","v":2.400037654317061E-2},{"$f":"'Sheet3 (3)'!AA14","v":2.7960597066287911E-3},{"$f":"CORREL($B$1:B14,$S$1:S14)","v":0.31786370951695786}]
[null,{"$f":"'Sheet3 (3)'!I15","v":-2.3453157647861755E-3},{"$f":"'Sheet3 (3)'!K15","v":4.2625745950454793E-5},{"$f":"CORREL($B$1:B15,$C$1:C15)","v":0.72417426556544295},{"$f":"'Sheet3 (3)'!M15","v":-4.2358522534729327E-4},{"$f":"CORREL($B$1:B15,$E$1:E15)","v":-0.47338501859386689},{"$f":"'Sheet3 (3)'!O15","v":-2.8368193750528954E-3},{"$f":"CORREL($B$1:B15,$G$1:G15)","v":-9.6768140596830088E-2},{"$f":"'Sheet3 (3)'!Q15","v":9.7416349004657711E-4},{"$f":"CORREL($B$1:B15,$I$1:I15)","v":-0.27350156803335957},{"$f":"'Sheet3 (3)'!S15","v":6.7711438548676639E-3},{"$f":"CORREL($B$1:B15,$K$1:K15)","v":5.80581335220427E-3},{"$f":"'Sheet3 (3)'!U15","v":3.7987109991889046E-3},{"$f":"CORREL($B$1:B15,$M$1:M15)","v":-0.28509811713508348},{"$f":"'Sheet3 (3)'!W15","v":3.6832412523020003E-3},{"$f":"CORREL($B$1:B15,$O$1:O15)","v":0.25867463448020206},{"$f":"'Sheet3 (3)'!Y15","v":-2.3857197631322246E-3},{"$f":"CORREL($B$1:B15,$Q$1:Q15)","v":2.3216487608912661E-2},{"$f":"'Sheet3 (3)'!AA15","v":2.4519292811975902E-3},{"$f":"CORREL($B$1:B15,$S$1:S15)","v":0.28479991109870467}]
[null,{"$f":"'Sheet3 (3)'!I16","v":-1.9615368214574804E-3},{"$f":"'Sheet3 (3)'!K16","v":2.1312872975265255E-4},{"$f":"CORREL($B$1:B16,$C$1:C16)","v":0.69264014474934288},{"$f":"'Sheet3 (3)'!M16","v":-5.5066079295138719E-4},{"$f":"CORREL($B$1:B16,$E$1:E16)","v":-0.59039412604631658},{"$f":"'Sheet3 (3)'!O16","v":-3.2602252519266075E-3},{"$f":"CORREL($B$1:B16,$G$1:G16)","v":-0.14964209628074521},{"$f":"'Sheet3 (3)'!Q16","v":1.0588733587462713E-3},{"$f":"CORREL($B$1:B16,$I$1:I16)","v":-0.39876423609184614},{"$f":"'Sheet3 (3)'!S16","v":6.9414870964995337E-3},{"$f":"CORREL($B$1:B16,$K$1:K16)","v":0.15324415279652598},{"$f":"'Sheet3 (3)'!U16","v":3.9694395834221014E-3},{"$f":"CORREL($B$1:B16,$M$1:M16)","v":-0.29029443606797523},{"$f":"'Sheet3 (3)'!W16","v":4.0258683455393603E-3},{"$f":"CORREL($B$1:B16,$O$1:O16)","v":0.41030153666507396},{"$f":"'Sheet3 (3)'!Y16","v":-2.1301069313680982E-3},{"$f":"CORREL($B$1:B16,$Q$1:Q16)","v":0.12440340260810982},{"$f":"'Sheet3 (3)'!AA16","v":2.7530434034499862E-3},{"$f":"CORREL($B$1:B16,$S$1:S16)","v":0.42393822520565555}]
[null,{"$f":"'Sheet3 (3)'!I17","v":-1.5777578781287853E-3},{"$f":"'Sheet3 (3)'!K17","v":4.2625745950454793E-5},{"$f":"CORREL($B$1:B17,$C$1:C17)","v":0.4584080986601396},{"$f":"'Sheet3 (3)'!M17","v":-3.3886818027783463E-4},{"$f":"CORREL($B$1:B17,$E$1:E17)","v":-0.61287743624747149},{"$f":"'Sheet3 (3)'!O17","v":-3.2178846642391609E-3},{"$f":"CORREL($B$1:B17,$G$1:G17)","v":-0.17815458518433358},{"$f":"'Sheet3 (3)'!Q17","v":1.2282930961456597E-3},{"$f":"CORREL($B$1:B17,$I$1:I17)","v":-0.47886973086087009},{"$f":"'Sheet3 (3)'!S17","v":6.8989012860914715E-3},{"$f":"CORREL($B$1:B17,$K$1:K17)","v":0.29148495688355058},{"$f":"'Sheet3 (3)'!U17","v":4.1401681676552981E-3},{"$f":"CORREL($B$1:B17,$M$1:M17)","v":-0.20366721000289126},{"$f":"'Sheet3 (3)'!W17","v":3.9402115722300202E-3},{"$f":"CORREL($B$1:B17,$O$1:O17)","v":0.51833194796501902},{"$f":"'Sheet3 (3)'!Y17","v":-1.5336769905849475E-3},{"$f":"CORREL($B$1:B17,$Q$1:Q17)","v":0.4328885828533735},{"$f":"'Sheet3 (3)'!AA17","v":2.4949455843763951E-3},{"$f":"CORREL($B$1:B17,$S$1:S17)","v":0.51038707101998471}]
[null,{"$f":"'Sheet3 (3)'!I18","v":-1.5777578781287853E-3},{"$f":"'Sheet3 (3)'!K18","v":-1.2787723785174298E-4},{"$f":"CORREL($B$1:B18,$C$1:C18)","v":0.2321319627461863},{"$f":"'Sheet3 (3)'!M18","v":-2.5415113520837595E-4},{"$f":"CORREL($B$1:B18,$E$1:E18)","v":-0.61322788028177044},{"$f":"'Sheet3 (3)'!O18","v":-3.3449064273013123E-3},{"$f":"CORREL($B$1:B18,$G$1:G18)","v":-0.25046729584572142},{"$f":"'Sheet3 (3)'!Q18","v":2.5412960609908251E-4},{"$f":"CORREL($B$1:B18,$I$1:I18)","v":-0.623000308355949},{"$f":"'Sheet3 (3)'!S18","v":6.9414870964995337E-3},{"$f":"CORREL($B$1:B18,$K$1:K18)","v":0.38320131290450599},{"$f":"'Sheet3 (3)'!U18","v":4.1828503137136914E-3},{"$f":"CORREL($B$1:B18,$M$1:M18)","v":-0.14855640813933391},{"$f":"'Sheet3 (3)'!W18","v":4.154353505503275E-3},{"$f":"CORREL($B$1:B18,$O$1:O18)","v":0.62393213652359214},{"$f":"'Sheet3 (3)'!Y18","v":-1.4910748519576878E-3},{"$f":"CORREL($B$1:B18,$Q$1:Q18)","v":0.57245831453596585},{"$f":"'Sheet3 (3)'!AA18","v":2.8390760098077864E-3},{"$f":"CORREL($B$1:B18,$S$1:S18)","v":0.5979773619612837}]
[null,{"$f":"'Sheet3 (3)'!I19","v":-1.9615368214574804E-3},{"$f":"'Sheet3 (3)'!K19","v":-2.1312872975284185E-4},{"$f":"CORREL($B$1:B19,$C$1:C19)","v":0.14799459806513782},{"$f":"'Sheet3 (3)'!M19","v":-6.7773636055566927E-4},{"$f":"CORREL($B$1:B19,$E$1:E19)","v":-0.62558325210321042},{"$f":"'Sheet3 (3)'!O19","v":-3.6412905411126856E-3},{"$f":"CORREL($B$1:B19,$G$1:G19)","v":-0.30408290536306198},{"$f":"'Sheet3 (3)'!Q19","v":9.7416349004657711E-4},{"$f":"CORREL($B$1:B19,$I$1:I19)","v":-0.64197499752546294},{"$f":"'Sheet3 (3)'!S19","v":6.984072906907406E-3},{"$f":"CORREL($B$1:B19,$K$1:K19)","v":0.41635545496634252},{"$f":"'Sheet3 (3)'!U19","v":3.9694395834221014E-3},{"$f":"CORREL($B$1:B19,$M$1:M19)","v":-0.16101616636530761},{"$f":"'Sheet3 (3)'!W19","v":4.3256670521221452E-3},{"$f":"CORREL($B$1:B19,$O$1:O19)","v":0.63577366959123571},{"$f":"'Sheet3 (3)'!Y19","v":-1.2354620201935613E-3},{"$f":"CORREL($B$1:B19,$Q$1:Q19)","v":0.5862186893754382},{"$f":"'Sheet3 (3)'!AA19","v":3.0111412225233866E-3},{"$f":"CORREL($B$1:B19,$S$1:S19)","v":0.61872362649564816}]
[null,{"$f":"'Sheet3 (3)'!I20","v":-1.9615368214574804E-3},{"$f":"'Sheet3 (3)'!K20","v":-1.7050298380219775E-4},{"$f":"CORREL($B$1:B20,$C$1:C20)","v":9.1513063257930363E-2},{"$f":"'Sheet3 (3)'!M20","v":-8.4717045069458653E-4},{"$f":"CORREL($B$1:B20,$E$1:E20)","v":-0.6277699158614648},{"$f":"'Sheet3 (3)'!O20","v":-3.5989499534254269E-3},{"$f":"CORREL($B$1:B20,$G$1:G20)","v":-0.3428491233451319},{"$f":"'Sheet3 (3)'!Q20","v":1.01651842439633E-3},{"$f":"CORREL($B$1:B20,$I$1:I20)","v":-0.65710190708997052},{"$f":"'Sheet3 (3)'!S20","v":6.6433864236436673E-3},{"$f":"CORREL($B$1:B20,$K$1:K20)","v":0.41908687954865631},{"$f":"'Sheet3 (3)'!U20","v":3.9267574373638972E-3},{"$f":"CORREL($B$1:B20,$M$1:M20)","v":-0.17601363431493866},{"$f":"'Sheet3 (3)'!W20","v":4.4969805987408254E-3},{"$f":"CORREL($B$1:B20,$O$1:O20)","v":0.6399150176088273},{"$f":"'Sheet3 (3)'!Y20","v":-1.405870574702979E-3},{"$f":"CORREL($B$1:B20,$Q$1:Q20)","v":0.6044094625307399},{"$f":"'Sheet3 (3)'!AA20","v":3.1401901320599916E-3},{"$f":"CORREL($B$1:B20,$S$1:S20)","v":0.63466776204240993}]
[null,{"$f":"'Sheet3 (3)'!I21","v":-1.7909684022003247E-3},{"$f":"'Sheet3 (3)'!K21","v":-4.6888320545613845E-4},{"$f":"CORREL($B$1:B21,$C$1:C21)","v":-6.2523167159803286E-2},{"$f":"'Sheet3 (3)'!M21","v":-1.2707556760418797E-3},{"$f":"CORREL($B$1:B21,$E$1:E21)","v":-0.65666655178249789},{"$f":"'Sheet3 (3)'!O21","v":-2.9215005504276003E-3},{"$f":"CORREL($B$1:B21,$G$1:G21)","v":-0.27482146617955783},{"$f":"'Sheet3 (3)'!Q21","v":1.01651842439633E-3},{"$f":"CORREL($B$1:B21,$I$1:I21)","v":-0.67730730644522019},{"$f":"'Sheet3 (3)'!S21","v":6.7285580444596017E-3},{"$f":"CORREL($B$1:B21,$K$1:K21)","v":0.42933561970876416},{"$f":"'Sheet3 (3)'!U21","v":4.1401681676552981E-3},{"$f":"CORREL($B$1:B21,$M$1:M21)","v":-0.16014112722943777},{"$f":"'Sheet3 (3)'!W21","v":4.0686967321939349E-3},{"$f":"CORREL($B$1:B21,$O$1:O21)","v":0.66234768422565204},{"$f":"'Sheet3 (3)'!Y21","v":-8.5204277254727714E-4},{"$f":"CORREL($B$1:B21,$Q$1:Q21)","v":0.64596513500137598},{"$f":"'Sheet3 (3)'!AA21","v":2.6670107970921861E-3},{"$f":"CORREL($B$1:B21,$S$1:S21)","v":0.65662498436327887}]
[null,{"$f":"'Sheet3 (3)'!I22","v":-1.151336829985896E-3},{"$f":"'Sheet3 (3)'!K22","v":-5.115089514065933E-4},{"$f":"CORREL($B$1:B22,$C$1:C22)","v":-0.30606371286712791},{"$f":"'Sheet3 (3)'!M22","v":-1.8214164689934551E-3},{"$f":"CORREL($B$1:B22,$E$1:E22)","v":-0.78489800035066193},{"$f":"'Sheet3 (3)'!O22","v":-2.9215005504276003E-3},{"$f":"CORREL($B$1:B22,$G$1:G22)","v":-0.12690079919543581},{"$f":"'Sheet3 (3)'!Q22","v":1.2706480304954127E-3},{"$f":"CORREL($B$1:B22,$I$1:I22)","v":-0.62407257374928249},{"$f":"'Sheet3 (3)'!S22","v":6.387871561195863E-3},{"$f":"CORREL($B$1:B22,$K$1:K22)","v":0.28528722987688571},{"$f":"'Sheet3 (3)'!U22","v":4.1401681676552981E-3},{"$f":"CORREL($B$1:B22,$M$1:M22)","v":-0.11364532019129141},{"$f":"'Sheet3 (3)'!W22","v":3.8545547989206801E-3},{"$f":"CORREL($B$1:B22,$O$1:O22)","v":0.59894948146770921},{"$f":"'Sheet3 (3)'!Y22","v":-6.8163421803785955E-4},{"$f":"CORREL($B$1:B22,$Q$1:Q22)","v":0.73996865450160076},{"$f":"'Sheet3 (3)'!AA22","v":2.9251086161655865E-3},{"$f":"CORREL($B$1:B22,$S$1:S22)","v":0.6666118845193052}]
[null,{"$f":"'Sheet3 (3)'!I23","v":-5.1170525777146725E-4},{"$f":"'Sheet3 (3)'!K23","v":3.410059676043955E-4},{"$f":"CORREL($B$1:B23,$C$1:C23)","v":-5.3488850025650486E-2},{"$f":"'Sheet3 (3)'!M23","v":-2.202643171806113E-3},{"$f":"CORREL($B$1:B23,$E$1:E23)","v":-0.86979512693983907},{"$f":"'Sheet3 (3)'!O23","v":-2.6674570243034853E-3},{"$f":"CORREL($B$1:B23,$G$1:G23)","v":0.12029952585573432},{"$f":"'Sheet3 (3)'!Q23","v":9.3180855569663596E-4},{"$f":"CORREL($B$1:B23,$I$1:I23)","v":-0.59575176578044531},{"$f":"'Sheet3 (3)'!S23","v":6.6859722340517295E-3},{"$f":"CORREL($B$1:B23,$K$1:K23)","v":0.26230251899357709},{"$f":"'Sheet3 (3)'!U23","v":4.0548038755386998E-3},{"$f":"CORREL($B$1:B23,$M$1:M23)","v":-9.9274167752789022E-2},{"$f":"'Sheet3 (3)'!W23","v":3.9402115722300202E-3},{"$f":"CORREL($B$1:B23,$O$1:O23)","v":0.53488730826906949},{"$f":"'Sheet3 (3)'!Y23","v":-5.9642994078315081E-4},{"$f":"CORREL($B$1:B23,$Q$1:Q23)","v":0.78464629949185816},{"$f":"'Sheet3 (3)'!AA23","v":2.0647825525873941E-3},{"$f":"CORREL($B$1:B23,$S$1:S23)","v":0.52695121727142413}]
[null,{"$f":"'Sheet3 (3)'!I24","v":-3.8377894332869514E-4},{"$f":"'Sheet3 (3)'!K24","v":7.2463768115943515E-4},{"$f":"CORREL($B$1:B24,$C$1:C24)","v":0.22915829618733291},{"$f":"'Sheet3 (3)'!M24","v":-2.0755676042018309E-3},{"$f":"CORREL($B$1:B24,$E$1:E24)","v":-0.89943900203929594},{"$f":"'Sheet3 (3)'!O24","v":-2.5404352612415221E-3},{"$f":"CORREL($B$1:B24,$G$1:G24)","v":0.29490854193259575},{"$f":"'Sheet3 (3)'!Q24","v":1.2282930961456597E-3},{"$f":"CORREL($B$1:B24,$I$1:I24)","v":-0.55786866305591343},{"$f":"'Sheet3 (3)'!S24","v":6.5582148028277328E-3},{"$f":"CORREL($B$1:B24,$K$1:K24)","v":0.21446067715387779},{"$f":"'Sheet3 (3)'!U24","v":4.1401681676552981E-3},{"$f":"CORREL($B$1:B24,$M$1:M24)","v":-6.5758967098542245E-2},{"$f":"'Sheet3 (3)'!W24","v":3.42627093237398E-3},{"$f":"CORREL($B$1:B24,$O$1:O24)","v":0.37727366302528248},{"$f":"'Sheet3 (3)'!Y24","v":5.9642994078296162E-4},{"$f":"CORREL($B$1:B24,$Q$1:Q24)","v":0.85923698919889491},{"$f":"'Sheet3 (3)'!AA24","v":2.1508151589451946E-3},{"$f":"CORREL($B$1:B24,$S$1:S24)","v":0.47211007198191102}]
[null,{"$f":"'Sheet3 (3)'!I25","v":-4.2642104814288938E-4},{"$f":"'Sheet3 (3)'!K25","v":8.9514066496163285E-4},{"$f":"CORREL($B$1:B25,$C$1:C25)","v":0.40796525496997577},{"$f":"'Sheet3 (3)'!M25","v":-1.9484920365977372E-3},{"$f":"CORREL($B$1:B25,$E$1:E25)","v":-0.91397420136655494},{"$f":"'Sheet3 (3)'!O25","v":-2.4557540858668172E-3},{"$f":"CORREL($B$1:B25,$G$1:G25)","v":0.4138357969315638},{"$f":"'Sheet3 (3)'!Q25","v":1.3553578991951068E-3},{"$f":"CORREL($B$1:B25,$I$1:I25)","v":-0.53236084950839269},{"$f":"'Sheet3 (3)'!S25","v":6.4730431820117975E-3},{"$f":"CORREL($B$1:B25,$K$1:K25)","v":0.16478272840217795},{"$f":"'Sheet3 (3)'!U25","v":4.0548038755386998E-3},{"$f":"CORREL($B$1:B25,$M$1:M25)","v":-6.906088656521224E-2},{"$f":"'Sheet3 (3)'!W25","v":3.5547560923378952E-3},{"$f":"CORREL($B$1:B25,$O$1:O25)","v":0.31502238972988056},{"$f":"'Sheet3 (3)'!Y25","v":2.5561283176412638E-4},{"$f":"CORREL($B$1:B25,$Q$1:Q25)","v":0.8888598883617238},{"$f":"'Sheet3 (3)'!AA25","v":1.9357336430507895E-3},{"$f":"CORREL($B$1:B25,$S$1:S25)","v":0.42636273265848179}]
[null,{"$f":"'Sheet3 (3)'!I26","v":-5.1170525777146725E-4},{"$f":"'Sheet3 (3)'!K26","v":8.525149190109888E-4},{"$f":"CORREL($B$1:B26,$C$1:C26)","v":0.50295241120635614},{"$f":"'Sheet3 (3)'!M26","v":-1.9061335140629137E-3},{"$f":"CORREL($B$1:B26,$E$1:E26)","v":-0.92404796897004216},{"$f":"'Sheet3 (3)'!O26","v":-2.3287323228046658E-3},{"$f":"CORREL($B$1:B26,$G$1:G26)","v":0.50341508155673498},{"$f":"'Sheet3 (3)'!Q26","v":9.3180855569663596E-4},{"$f":"CORREL($B$1:B26,$I$1:I26)","v":-0.5566960373677684},{"$f":"'Sheet3 (3)'!S26","v":6.2601141299718664E-3},{"$f":"CORREL($B$1:B26,$K$1:K26)","v":8.1356046972668739E-2},{"$f":"'Sheet3 (3)'!U26","v":3.9694395834221014E-3},{"$f":"CORREL($B$1:B26,$M$1:M26)","v":-9.1568404907571177E-2},{"$f":"'Sheet3 (3)'!W26","v":3.76889802561134E-3},{"$f":"CORREL($B$1:B26,$O$1:O26)","v":0.31481724407569833},{"$f":"'Sheet3 (3)'!Y26","v":-1.2780641588215779E-4},{"$f":"CORREL($B$1:B26,$Q$1:Q26)","v":0.90148561515882075},{"$f":"'Sheet3 (3)'!AA26","v":2.0647825525873941E-3},{"$f":"CORREL($B$1:B26,$S$1:S26)","v":0.41120714292499633}]
[null,{"$f":"'Sheet3 (3)'!I27","v":-5.9698946740004513E-4},{"$f":"'Sheet3 (3)'!K27","v":5.9676044330769209E-4},{"$f":"CORREL($B$1:B27,$C$1:C27)","v":0.5416115561588023},{"$f":"'Sheet3 (3)'!M27","v":-2.3720772619450305E-3},{"$f":"CORREL($B$1:B27,$E$1:E27)","v":-0.93195331672480952},{"$f":"'Sheet3 (3)'!O27","v":-2.2017105597427027E-3},{"$f":"CORREL($B$1:B27,$G$1:G27)","v":0.56905810545631974},{"$f":"'Sheet3 (3)'!Q27","v":3.388394747987767E-4},{"$f":"CORREL($B$1:B27,$I$1:I27)","v":-0.60456862873862505},{"$f":"'Sheet3 (3)'!S27","v":6.4730431820117975E-3},{"$f":"CORREL($B$1:B27,$K$1:K27)","v":6.280744224604945E-2},{"$f":"'Sheet3 (3)'!U27","v":3.8413931452472988E-3},{"$f":"CORREL($B$1:B27,$M$1:M27)","v":-0.13275437169711773},{"$f":"'Sheet3 (3)'!W27","v":3.8973831855752552E-3},{"$f":"CORREL($B$1:B27,$O$1:O27)","v":0.33548063187731586},{"$f":"'Sheet3 (3)'!Y27","v":-2.982149703915754E-4},{"$f":"CORREL($B$1:B27,$Q$1:Q27)","v":0.90884102044101189},{"$f":"'Sheet3 (3)'!AA27","v":2.2368477653029947E-3},{"$f":"CORREL($B$1:B27,$S$1:S27)","v":0.41505034957770898}]
[null,{"$f":"'Sheet3 (3)'!I28","v":-6.82273677028623E-4},{"$f":"'Sheet3 (3)'!K28","v":4.262574595054944E-4},{"$f":"CORREL($B$1:B28,$C$1:C28)","v":0.5549957026128608},{"$f":"'Sheet3 (3)'!M28","v":-2.2450016943407485E-3},{"$f":"CORREL($B$1:B28,$E$1:E28)","v":-0.93729141747287104},{"$f":"'Sheet3 (3)'!O28","v":-2.1170293843679978E-3},{"$f":"CORREL($B$1:B28,$G$1:G28)","v":0.61431367421958094},{"$f":"'Sheet3 (3)'!Q28","v":2.964845404488356E-4},{"$f":"CORREL($B$1:B28,$I$1:I28)","v":-0.63928254209417046},{"$f":"'Sheet3 (3)'!S28","v":6.7711438548676639E-3},{"$f":"CORREL($B$1:B28,$K$1:K28)","v":9.7981299194273647E-2},{"$f":"'Sheet3 (3)'!U28","v":4.3535788979468882E-3},{"$f":"CORREL($B$1:B28,$M$1:M28)","v":-8.1238054415572511E-2},{"$f":"'Sheet3 (3)'!W28","v":4.154353505503275E-3},{"$f":"CORREL($B$1:B28,$O$1:O28)","v":0.37919747525409847},{"$f":"'Sheet3 (3)'!Y28","v":3.4081710901883518E-4},{"$f":"CORREL($B$1:B28,$Q$1:Q28)","v":0.91569028847329093},{"$f":"'Sheet3 (3)'!AA28","v":2.2368477653029947E-3},{"$f":"CORREL($B$1:B28,$S$1:S28)","v":0.42008944497879802}]
[null,{"$f":"'Sheet3 (3)'!I29","v":-8.9548420110016234E-4},{"$f":"'Sheet3 (3)'!K29","v":6.3938618925833625E-4},{"$f":"CORREL($B$1:B29,$C$1:C29)","v":0.57855024040229353},{"$f":"'Sheet3 (3)'!M29","v":-2.8380210098271469E-3},{"$f":"CORREL($B$1:B29,$E$1:E29)","v":-0.92440355114848782},{"$f":"'Sheet3 (3)'!O29","v":-1.9053264459311416E-3},{"$f":"CORREL($B$1:B29,$G$1:G29)","v":0.63550918003794776},{"$f":"'Sheet3 (3)'!Q29","v":2.964845404488356E-4},{"$f":"CORREL($B$1:B29,$I$1:I29)","v":-0.66024199726128541},{"$f":"'Sheet3 (3)'!S29","v":6.6433864236436673E-3},{"$f":"CORREL($B$1:B29,$K$1:K29)","v":0.10739834154113861},{"$f":"'Sheet3 (3)'!U29","v":4.2255324597718956E-3},{"$f":"CORREL($B$1:B29,$M$1:M29)","v":-6.2334253214717007E-2},{"$f":"'Sheet3 (3)'!W29","v":4.2828386654673806E-3},{"$f":"CORREL($B$1:B29,$O$1:O29)","v":0.41550166265856703},{"$f":"'Sheet3 (3)'!Y29","v":0},{"$f":"CORREL($B$1:B29,$Q$1:Q29)","v":0.91919614208581457},{"$f":"'Sheet3 (3)'!AA29","v":2.6239944939131909E-3},{"$f":"CORREL($B$1:B29,$S$1:S29)","v":0.44032475220026374}]
[null,{"$f":"'Sheet3 (3)'!I30","v":-6.3963157221442872E-4},{"$f":"'Sheet3 (3)'!K30","v":7.672634271098899E-4},{"$f":"CORREL($B$1:B30,$C$1:C30)","v":0.61039141707963684},{"$f":"'Sheet3 (3)'!M30","v":-2.5415113520839477E-3},{"$f":"CORREL($B$1:B30,$E$1:E30)","v":-0.92920926177476126},{"$f":"'Sheet3 (3)'!O30","v":-1.7783046828689904E-3},{"$f":"CORREL($B$1:B30,$G$1:G30)","v":0.66726929963652493},{"$f":"'Sheet3 (3)'!Q30","v":3.8119440914852974E-4},{"$f":"CORREL($B$1:B30,$I$1:I30)","v":-0.68227894365433428},{"$f":"'Sheet3 (3)'!S30","v":6.5156289924198597E-3},{"$f":"CORREL($B$1:B30,$K$1:K30)","v":9.7937606964019847E-2},{"$f":"'Sheet3 (3)'!U30","v":3.9694395834221014E-3},{"$f":"CORREL($B$1:B30,$M$1:M30)","v":-7.8525966641727604E-2},{"$f":"'Sheet3 (3)'!W30","v":4.0686967321939349E-3},{"$f":"CORREL($B$1:B30,$O$1:O30)","v":0.4390441843929842},{"$f":"'Sheet3 (3)'!Y30","v":-2.1301069313686658E-4},{"$f":"CORREL($B$1:B30,$Q$1:Q30)","v":0.9232534879616654},{"$f":"'Sheet3 (3)'!AA30","v":2.8820923129865912E-3},{"$f":"CORREL($B$1:B30,$S$1:S30)","v":0.47084773723720791}]
[null,{"$f":"'Sheet3 (3)'!I31","v":{"$error":"#N/A"}},{"$f":"'Sheet3 (3)'!K31","v":7.2463768115943515E-4},{"$f":"CORREL($B$1:B31,$C$1:C31)","v":{"$error":"#N/A"}},{"$f":"'Sheet3 (3)'!M31","v":-2.2450016943407485E-3},{"$f":"CORREL($B$1:B31,$E$1:E31)","v":{"$error":"#N/A"}},{"$f":"'Sheet3 (3)'!O31","v":-1.6936235074942855E-3},{"$f":"CORREL($B$1:B31,$G$1:G31)","v":{"$error":"#N/A"}},{"$f":"'Sheet3 (3)'!Q31","v":4.2354934349847088E-4},{"$f":"CORREL($B$1:B31,$I$1:I31)","v":{"$error":"#N/A"}},{"$f":"'Sheet3 (3)'!S31","v":6.4304573716039252E-3},{"$f":"CORREL($B$1:B31,$K$1:K31)","v":{"$error":"#N/A"}},{"$f":"'Sheet3 (3)'!U31","v":3.6706645610141025E-3},{"$f":"CORREL($B$1:B31,$M$1:M31)","v":{"$error":"#N/A"}},{"$f":"'Sheet3 (3)'!W31","v":3.8973831855752552E-3},{"$f":"CORREL($B$1:B31,$O$1:O31)","v":{"$error":"#N/A"}},{"$f":"'Sheet3 (3)'!Y31","v":1.278064158819686E-4},{"$f":"CORREL($B$1:B31,$Q$1:Q31)","v":{"$error":"#N/A"}},{"$f":"'Sheet3 (3)'!AA31","v":2.0647825525873941E-3},{"$f":"CORREL($B$1:B31,$S$1:S31)","v":{"$error":"#N/A"}}]
[null,{"$f":"'Sheet3 (3)'!I32","v":{"$error":"#N/A"}},{"$f":"'Sheet3 (3)'!K32","v":8.525149190109888E-4},{"$f":"CORREL($B$1:B32,$C$1:C32)","v":{"$error":"#N/A"}},{"$f":"'Sheet3 (3)'!M32","v":-2.4567943070144889E-3},{"$f":"CORREL($B$1:B32,$E$1:E32)","v":{"$error":"#N/A"}},{"$f":"'Sheet3 (3)'!O32","v":-1.4819205690576173E-3},{"$f":"CORREL($B$1:B32,$G$1:G32)","v":{"$error":"#N/A"}},{"$f":"'Sheet3 (3)'!Q32","v":2.5412960609908251E-4},{"$f":"CORREL($B$1:B32,$I$1:I32)","v":{"$error":"#N/A"}},{"$f":"'Sheet3 (3)'!S32","v":5.6639127842603226E-3},{"$f":"CORREL($B$1:B32,$K$1:K32)","v":{"$error":"#N/A"}},{"$f":"'Sheet3 (3)'!U32","v":3.5853002688975041E-3},{"$f":"CORREL($B$1:B32,$M$1:M32)","v":{"$error":"#N/A"}},{"$f":"'Sheet3 (3)'!W32","v":3.9402115722300202E-3},{"$f":"CORREL($B$1:B32,$O$1:O32)","v":{"$error":"#N/A"}},{"$f":"'Sheet3 (3)'!Y32","v":2.9821497039138621E-4},{"$f":"CORREL($B$1:B32,$Q$1:Q32)","v":{"$error":"#N/A"}},{"$f":"'Sheet3 (3)'!AA32","v":1.591603217619398E-3},{"$f":"CORREL($B$1:B32,$S$1:S32)","v":{"$error":"#N/A"}}]
[null,{"$f":"'Sheet3 (3)'!I33","v":{"$error":"#N/A"}},{"$f":"'Sheet3 (3)'!K33","v":9.8039215686273164E-4},{"$f":"CORREL($B$1:B33,$C$1:C33)","v":{"$error":"#N/A"}},{"$f":"'Sheet3 (3)'!M33","v":-2.1602846492712897E-3},{"$f":"CORREL($B$1:B33,$E$1:E33)","v":{"$error":"#N/A"}},{"$f":"'Sheet3 (3)'!O33","v":-1.1855364552460562E-3},{"$f":"CORREL($B$1:B33,$G$1:G33)","v":{"$error":"#N/A"}},{"$f":"'Sheet3 (3)'!Q33","v":1.6941973739938835E-4},{"$f":"CORREL($B$1:B33,$I$1:I33)","v":{"$error":"#N/A"}},{"$f":"'Sheet3 (3)'!S33","v":5.3232263009965839E-3},{"$f":"CORREL($B$1:B33,$K$1:K33)","v":{"$error":"#N/A"}},{"$f":"'Sheet3 (3)'!U33","v":3.6279824149557083E-3},{"$f":"CORREL($B$1:B33,$M$1:M33)","v":{"$error":"#N/A"}},{"$f":"'Sheet3 (3)'!W33","v":3.8545547989206801E-3},{"$f":"CORREL($B$1:B33,$O$1:O33)","v":{"$error":"#N/A"}},{"$f":"'Sheet3 (3)'!Y33","v":2.5561283176412638E-4},{"$f":"CORREL($B$1:B33,$Q$1:Q33)","v":{"$error":"#N/A"}},{"$f":"'Sheet3 (3)'!AA33","v":1.7206521271561938E-3},{"$f":"CORREL($B$1:B33,$S$1:S33)","v":{"$error":"#N/A"}}]
[null,{"$f":"'Sheet3 (3)'!I34","v":{"$error":"#N/A"}},{"$f":"'Sheet3 (3)'!K34","v":1.5345268542199691E-3},{"$f":"CORREL($B$1:B34,$C$1:C34)","v":{"$error":"#N/A"}},{"$f":"'Sheet3 (3)'!M34","v":-2.1602846492712897E-3},{"$f":"CORREL($B$1:B34,$E$1:E34)","v":{"$error":"#N/A"}},{"$f":"'Sheet3 (3)'!O34","v":-1.6089423321195805E-3},{"$f":"CORREL($B$1:B34,$G$1:G34)","v":{"$error":"#N/A"}},{"$f":"'Sheet3 (3)'!Q34","v":0},{"$f":"CORREL($B$1:B34,$I$1:I34)","v":{"$error":"#N/A"}},{"$f":"'Sheet3 (3)'!S34","v":4.6844391448769788E-3},{"$f":"CORREL($B$1:B34,$K$1:K34)","v":{"$error":"#N/A"}},{"$f":"'Sheet3 (3)'!U34","v":3.3718895386059137E-3},{"$f":"CORREL($B$1:B34,$M$1:M34)","v":{"$error":"#N/A"}},{"$f":"'Sheet3 (3)'!W34","v":3.5975844789926602E-3},{"$f":"CORREL($B$1:B34,$O$1:O34)","v":{"$error":"#N/A"}},{"$f":"'Sheet3 (3)'!Y34","v":2.5561283176412638E-4},{"$f":"CORREL($B$1:B34,$Q$1:Q34)","v":{"$error":"#N/A"}},{"$f":"'Sheet3 (3)'!AA34","v":1.2044564890093929E-3},{"$f":"CORREL($B$1:B34,$S$1:S34)","v":{"$error":"#N/A"}}]
[null,{"$f":"'Sheet3 (3)'!I35","v":{"$error":"#N/A"}},{"$f":"'Sheet3 (3)'!K35","v":1.7050298380221669E-3},{"$f":"CORREL($B$1:B35,$C$1:C35)","v":{"$error":"#N/A"}},{"$f":"'Sheet3 (3)'!M35","v":-2.2450016943407485E-3},{"$f":"CORREL($B$1:B35,$E$1:E35)","v":{"$error":"#N/A"}},{"$f":"'Sheet3 (3)'!O35","v":-1.5666017444323221E-3},{"$f":"CORREL($B$1:B35,$G$1:G35)","v":{"$error":"#N/A"}},{"$f":"'Sheet3 (3)'!Q35","v":-8.470986869988227E-5},{"$f":"CORREL($B$1:B35,$I$1:I35)","v":{"$error":"#N/A"}},{"$f":"'Sheet3 (3)'!S35","v":5.1528830593647141E-3},{"$f":"CORREL($B$1:B35,$K$1:K35)","v":{"$error":"#N/A"}},{"$f":"'Sheet3 (3)'!U35","v":3.5853002688975041E-3},{"$f":"CORREL($B$1:B35,$M$1:M35)","v":{"$error":"#N/A"}},{"$f":"'Sheet3 (3)'!W35","v":3.8117264122659151E-3},{"$f":"CORREL($B$1:B35,$O$1:O35)","v":{"$error":"#N/A"}},{"$f":"'Sheet3 (3)'!Y35","v":9.7984918842924582E-4},{"$f":"CORREL($B$1:B35,$Q$1:Q35)","v":{"$error":"#N/A"}},{"$f":"'Sheet3 (3)'!AA35","v":1.591603217619398E-3},{"$f":"CORREL($B$1:B35,$S$1:S35)","v":{"$error":"#N/A"}}]
[null,{"$f":"'Sheet3 (3)'!I36","v":{"$error":"#N/A"}},{"$f":"'Sheet3 (3)'!K36","v":1.3213981244671272E-3},{"$f":"CORREL($B$1:B36,$C$1:C36)","v":{"$error":"#N/A"}},{"$f":"'Sheet3 (3)'!M36","v":-2.0755676042018309E-3},{"$f":"CORREL($B$1:B36,$E$1:E36)","v":{"$error":"#N/A"}},{"$f":"'Sheet3 (3)'!O36","v":-1.7783046828689904E-3},{"$f":"CORREL($B$1:B36,$G$1:G36)","v":{"$error":"#N/A"}},{"$f":"'Sheet3 (3)'!Q36","v":4.2354934349753039E-5},{"$f":"CORREL($B$1:B36,$I$1:I36)","v":{"$error":"#N/A"}},{"$f":"'Sheet3 (3)'!S36","v":4.8547823865088486E-3},{"$f":"CORREL($B$1:B36,$K$1:K36)","v":{"$error":"#N/A"}},{"$f":"'Sheet3 (3)'!U36","v":3.5426181228391104E-3},{"$f":"CORREL($B$1:B36,$M$1:M36)","v":{"$error":"#N/A"}},{"$f":"'Sheet3 (3)'!W36","v":3.6404128656472353E-3},{"$f":"CORREL($B$1:B36,$O$1:O36)","v":{"$error":"#N/A"}},{"$f":"'Sheet3 (3)'!Y36","v":5.9642994078296162E-4},{"$f":"CORREL($B$1:B36,$Q$1:Q36)","v":{"$error":"#N/A"}},{"$f":"'Sheet3 (3)'!AA36","v":2.2368477653029947E-3},{"$f":"CORREL($B$1:B36,$S$1:S36)","v":{"$error":"#N/A"}}]
[null,{"$f":"'Sheet3 (3)'!I37","v":{"$error":"#N/A"}},{"$f":"'Sheet3 (3)'!K37","v":1.2787723785166725E-3},{"$f":"CORREL($B$1:B37,$C$1:C37)","v":{"$error":"#N/A"}},{"$f":"'Sheet3 (3)'!M37","v":-1.9061335140629137E-3},{"$f":"CORREL($B$1:B37,$E$1:E37)","v":{"$error":"#N/A"}},{"$f":"'Sheet3 (3)'!O37","v":-2.1170293843679978E-3},{"$f":"CORREL($B$1:B37,$G$1:G37)","v":{"$error":"#N/A"}},{"$f":"'Sheet3 (3)'!Q37","v":1.2706480304944723E-4},{"$f":"CORREL($B$1:B37,$I$1:I37)","v":{"$error":"#N/A"}},{"$f":"'Sheet3 (3)'!S37","v":4.939954007324783E-3},{"$f":"CORREL($B$1:B37,$K$1:K37)","v":{"$error":"#N/A"}},{"$f":"'Sheet3 (3)'!U37","v":3.7133467070723067E-3},{"$f":"CORREL($B$1:B37,$M$1:M37)","v":{"$error":"#N/A"}},{"$f":"'Sheet3 (3)'!W37","v":3.5975844789926602E-3},{"$f":"CORREL($B$1:B37,$O$1:O37)","v":{"$error":"#N/A"}},{"$f":"'Sheet3 (3)'!Y37","v":5.9642994078296162E-4},{"$f":"CORREL($B$1:B37,$Q$1:Q37)","v":{"$error":"#N/A"}},{"$f":"'Sheet3 (3)'!AA37","v":2.0647825525873941E-3},{"$f":"CORREL($B$1:B37,$S$1:S37)","v":{"$error":"#N/A"}}]
[null,{"$f":"'Sheet3 (3)'!I38","v":{"$error":"#N/A"}},{"$f":"'Sheet3 (3)'!K38","v":1.2361466325660285E-3},{"$f":"CORREL($B$1:B38,$C$1:C38)","v":{"$error":"#N/A"}},{"$f":"'Sheet3 (3)'!M38","v":-1.8214164689934551E-3},{"$f":"CORREL($B$1:B38,$E$1:E38)","v":{"$error":"#N/A"}},{"$f":"'Sheet3 (3)'!O38","v":-1.7359640951817319E-3},{"$f":"CORREL($B$1:B38,$G$1:G38)","v":{"$error":"#N/A"}},{"$f":"'Sheet3 (3)'!Q38","v":4.2354934349847088E-4},{"$f":"CORREL($B$1:B38,$I$1:I38)","v":{"$error":"#N/A"}},{"$f":"'Sheet3 (3)'!S38","v":4.9825398177328452E-3},{"$f":"CORREL($B$1:B38,$K$1:K38)","v":{"$error":"#N/A"}},{"$f":"'Sheet3 (3)'!U38","v":3.7560288531307004E-3},{"$f":"CORREL($B$1:B38,$M$1:M38)","v":{"$error":"#N/A"}},{"$f":"'Sheet3 (3)'!W38","v":3.0836438391364301E-3},{"$f":"CORREL($B$1:B38,$O$1:O38)","v":{"$error":"#N/A"}},{"$f":"'Sheet3 (3)'!Y38","v":5.1122566352825277E-4},{"$f":"CORREL($B$1:B38,$Q$1:Q38)","v":{"$error":"#N/A"}},{"$f":"'Sheet3 (3)'!AA38","v":2.27986406848199E-3},{"$f":"CORREL($B$1:B38,$S$1:S38)","v":{"$error":"#N/A"}}]
[null,{"$f":"'Sheet3 (3)'!I39","v":{"$error":"#N/A"}},{"$f":"'Sheet3 (3)'!K39","v":1.1082693947142854E-3},{"$f":"CORREL($B$1:B39,$C$1:C39)","v":{"$error":"#N/A"}},{"$f":"'Sheet3 (3)'!M39","v":-2.0755676042018309E-3},{"$f":"CORREL($B$1:B39,$E$1:E39)","v":{"$error":"#N/A"}},{"$f":"'Sheet3 (3)'!O39","v":-1.7359640951817319E-3},{"$f":"CORREL($B$1:B39,$G$1:G39)","v":{"$error":"#N/A"}},{"$f":"'Sheet3 (3)'!Q39","v":2.964845404488356E-4},{"$f":"CORREL($B$1:B39,$I$1:I39)","v":{"$error":"#N/A"}},{"$f":"'Sheet3 (3)'!S39","v":4.8973681969169099E-3},{"$f":"CORREL($B$1:B39,$K$1:K39)","v":{"$error":"#N/A"}},{"$f":"'Sheet3 (3)'!U39","v":3.457253830722512E-3},{"$f":"CORREL($B$1:B39,$M$1:M39)","v":{"$error":"#N/A"}},{"$f":"'Sheet3 (3)'!W39","v":3.1264722257911951E-3},{"$f":"CORREL($B$1:B39,$O$1:O39)","v":{"$error":"#N/A"}},{"$f":"'Sheet3 (3)'!Y39","v":7.2423635666511938E-4},{"$f":"CORREL($B$1:B39,$Q$1:Q39)","v":{"$error":"#N/A"}},{"$f":"'Sheet3 (3)'!AA39","v":2.1077988557663897E-3},{"$f":"CORREL($B$1:B39,$S$1:S39)","v":{"$error":"#N/A"}}]
[null,{"$f":"'Sheet3 (3)'!I40","v":{"$error":"#N/A"}},{"$f":"'Sheet3 (3)'!K40","v":8.525149190109888E-4},{"$f":"CORREL($B$1:B40,$C$1:C40)","v":{"$error":"#N/A"}},{"$f":"'Sheet3 (3)'!M40","v":-2.3297187394102073E-3},{"$f":"CORREL($B$1:B40,$E$1:E40)","v":{"$error":"#N/A"}},{"$f":"'Sheet3 (3)'!O40","v":-1.4395799813701707E-3},{"$f":"CORREL($B$1:B40,$G$1:G40)","v":{"$error":"#N/A"}},{"$f":"'Sheet3 (3)'!Q40","v":2.5412960609908251E-4},{"$f":"CORREL($B$1:B40,$I$1:I40)","v":{"$error":"#N/A"}},{"$f":"'Sheet3 (3)'!S40","v":5.1102972489566528E-3},{"$f":"CORREL($B$1:B40,$K$1:K40)","v":{"$error":"#N/A"}},{"$f":"'Sheet3 (3)'!U40","v":3.8413931452472988E-3},{"$f":"CORREL($B$1:B40,$M$1:M40)","v":{"$error":"#N/A"}},{"$f":"'Sheet3 (3)'!W40","v":3.040815452481855E-3},{"$f":"CORREL($B$1:B40,$O$1:O40)","v":{"$error":"#N/A"}},{"$f":"'Sheet3 (3)'!Y40","v":7.2423635666511938E-4},{"$f":"CORREL($B$1:B40,$Q$1:Q40)","v":{"$error":"#N/A"}},{"$f":"'Sheet3 (3)'!AA40","v":2.1077988557663897E-3},{"$f":"CORREL($B$1:B40,$S$1:S40)","v":{"$error":"#N/A"}}]
[null,{"$f":"'Sheet3 (3)'!I41","v":{"$error":"#N/A"}},{"$f":"'Sheet3 (3)'!K41","v":9.8039215686273164E-4},{"$f":"CORREL($B$1:B41,$C$1:C41)","v":{"$error":"#N/A"}},{"$f":"'Sheet3 (3)'!M41","v":-2.5415113520839477E-3},{"$f":"CORREL($B$1:B41,$E$1:E41)","v":{"$error":"#N/A"}},{"$f":"'Sheet3 (3)'!O41","v":-1.9476670336184001E-3},{"$f":"CORREL($B$1:B41,$G$1:G41)","v":{"$error":"#N/A"}},{"$f":"'Sheet3 (3)'!Q41","v":4.6590427784822392E-4},{"$f":"CORREL($B$1:B41,$I$1:I41)","v":{"$error":"#N/A"}},{"$f":"'Sheet3 (3)'!S41","v":5.2806404905885217E-3},{"$f":"CORREL($B$1:B41,$K$1:K41)","v":{"$error":"#N/A"}},{"$f":"'Sheet3 (3)'!U41","v":3.5853002688975041E-3},{"$f":"CORREL($B$1:B41,$M$1:M41)","v":{"$error":"#N/A"}},{"$f":"'Sheet3 (3)'!W41","v":2.99798706582709E-3},{"$f":"CORREL($B$1:B41,$O$1:O41)","v":{"$error":"#N/A"}},{"$f":"'Sheet3 (3)'!Y41","v":9.7984918842924582E-4},{"$f":"CORREL($B$1:B41,$Q$1:Q41)","v":{"$error":"#N/A"}},{"$f":"'Sheet3 (3)'!AA41","v":2.1508151589451946E-3},{"$f":"CORREL($B$1:B41,$S$1:S41)","v":{"$error":"#N/A"}}]
[null,{"$f":"'Sheet3 (3)'!I42","v":{"$error":"#N/A"}},{"$f":"'Sheet3 (3)'!K42","v":1.0656436487638307E-3},{"$f":"CORREL($B$1:B42,$C$1:C42)","v":{"$error":"#N/A"}},{"$f":"'Sheet3 (3)'!M42","v":-3.2192477126396172E-3},{"$f":"CORREL($B$1:B42,$E$1:E42)","v":{"$error":"#N/A"}},{"$f":"'Sheet3 (3)'!O42","v":-1.270217630620761E-3},{"$f":"CORREL($B$1:B42,$G$1:G42)","v":{"$error":"#N/A"}},{"$f":"'Sheet3 (3)'!Q42","v":4.2354934349847088E-4},{"$f":"CORREL($B$1:B42,$I$1:I42)","v":{"$error":"#N/A"}},{"$f":"'Sheet3 (3)'!S42","v":4.7696107656929132E-3},{"$f":"CORREL($B$1:B42,$K$1:K42)","v":{"$error":"#N/A"}},{"$f":"'Sheet3 (3)'!U42","v":3.5853002688975041E-3},{"$f":"CORREL($B$1:B42,$M$1:M42)","v":{"$error":"#N/A"}},{"$f":"'Sheet3 (3)'!W42","v":2.9551586791725154E-3},{"$f":"CORREL($B$1:B42,$O$1:O42)","v":{"$error":"#N/A"}},{"$f":"'Sheet3 (3)'!Y42","v":5.538278021555126E-4},{"$f":"CORREL($B$1:B42,$Q$1:Q42)","v":{"$error":"#N/A"}},{"$f":"'Sheet3 (3)'!AA42","v":2.2368477653029947E-3},{"$f":"CORREL($B$1:B42,$S$1:S42)","v":{"$error":"#N/A"}}]
[null,{"$f":"'Sheet3 (3)'!I43","v":{"$error":"#N/A"}},{"$f":"'Sheet3 (3)'!K43","v":6.82011935208791E-4},{"$f":"CORREL($B$1:B43,$C$1:C43)","v":{"$error":"#N/A"}},{"$f":"'Sheet3 (3)'!M43","v":-3.3463232802438988E-3},{"$f":"CORREL($B$1:B43,$E$1:E43)","v":{"$error":"#N/A"}},{"$f":"'Sheet3 (3)'!O43","v":-1.270217630620761E-3},{"$f":"CORREL($B$1:B43,$G$1:G43)","v":{"$error":"#N/A"}},{"$f":"'Sheet3 (3)'!Q43","v":4.2354934349753039E-5},{"$f":"CORREL($B$1:B43,$I$1:I43)","v":{"$error":"#N/A"}},{"$f":"'Sheet3 (3)'!S43","v":4.7696107656929132E-3},{"$f":"CORREL($B$1:B43,$K$1:K43)","v":{"$error":"#N/A"}},{"$f":"'Sheet3 (3)'!U43","v":3.4999359767809058E-3},{"$f":"CORREL($B$1:B43,$M$1:M43)","v":{"$error":"#N/A"}},{"$f":"'Sheet3 (3)'!W43","v":2.99798706582709E-3},{"$f":"CORREL($B$1:B43,$O$1:O43)","v":{"$error":"#N/A"}},{"$f":"'Sheet3 (3)'!Y43","v":5.538278021555126E-4},{"$f":"CORREL($B$1:B43,$Q$1:Q43)","v":{"$error":"#N/A"}},{"$f":"'Sheet3 (3)'!AA43","v":1.8497010366929894E-3},{"$f":"CORREL($B$1:B43,$S$1:S43)","v":{"$error":"#N/A"}}]
[null,{"$f":"'Sheet3 (3)'!I44","v":{"$error":"#N/A"}},{"$f":"'Sheet3 (3)'!K44","v":6.3938618925833625E-4},{"$f":"CORREL($B$1:B44,$C$1:C44)","v":{"$error":"#N/A"}},{"$f":"'Sheet3 (3)'!M44","v":-3.2616062351744405E-3},{"$f":"CORREL($B$1:B44,$E$1:E44)","v":{"$error":"#N/A"}},{"$f":"'Sheet3 (3)'!O44","v":-1.2278770429333147E-3},{"$f":"CORREL($B$1:B44,$G$1:G44)","v":{"$error":"#N/A"}},{"$f":"'Sheet3 (3)'!Q44","v":4.2354934349753039E-5},{"$f":"CORREL($B$1:B44,$I$1:I44)","v":{"$error":"#N/A"}},{"$f":"'Sheet3 (3)'!S44","v":4.7696107656929132E-3},{"$f":"CORREL($B$1:B44,$K$1:K44)","v":{"$error":"#N/A"}},{"$f":"'Sheet3 (3)'!U44","v":3.5426181228391104E-3},{"$f":"CORREL($B$1:B44,$M$1:M44)","v":{"$error":"#N/A"}},{"$f":"'Sheet3 (3)'!W44","v":3.0836438391364301E-3},{"$f":"CORREL($B$1:B44,$O$1:O44)","v":{"$error":"#N/A"}},{"$f":"'Sheet3 (3)'!Y44","v":6.8163421803767036E-4},{"$f":"CORREL($B$1:B44,$Q$1:Q44)","v":{"$error":"#N/A"}},{"$f":"'Sheet3 (3)'!AA44","v":1.8497010366929894E-3},{"$f":"CORREL($B$1:B44,$S$1:S44)","v":{"$error":"#N/A"}}]
[null,{"$f":"'Sheet3 (3)'!I45","v":{"$error":"#N/A"}},{"$f":"'Sheet3 (3)'!K45","v":6.3938618925833625E-4},{"$f":"CORREL($B$1:B45,$C$1:C45)","v":{"$error":"#N/A"}},{"$f":"'Sheet3 (3)'!M45","v":-3.5157573703828164E-3},{"$f":"CORREL($B$1:B45,$E$1:E45)","v":{"$error":"#N/A"}},{"$f":"'Sheet3 (3)'!O45","v":-1.4395799813701707E-3},{"$f":"CORREL($B$1:B45,$G$1:G45)","v":{"$error":"#N/A"}},{"$f":"'Sheet3 (3)'!Q45","v":-1.2706480304963531E-4},{"$f":"CORREL($B$1:B45,$I$1:I45)","v":{"$error":"#N/A"}},{"$f":"'Sheet3 (3)'!S45","v":5.2380546801806495E-3},{"$f":"CORREL($B$1:B45,$K$1:K45)","v":{"$error":"#N/A"}},{"$f":"'Sheet3 (3)'!U45","v":3.3718895386059137E-3},{"$f":"CORREL($B$1:B45,$M$1:M45)","v":{"$error":"#N/A"}},{"$f":"'Sheet3 (3)'!W45","v":3.2121289991005352E-3},{"$f":"CORREL($B$1:B45,$O$1:O45)","v":{"$error":"#N/A"}},{"$f":"'Sheet3 (3)'!Y45","v":5.538278021555126E-4},{"$f":"CORREL($B$1:B45,$Q$1:Q45)","v":{"$error":"#N/A"}},{"$f":"'Sheet3 (3)'!AA45","v":2.1938314621241899E-3},{"$f":"CORREL($B$1:B45,$S$1:S45)","v":{"$error":"#N/A"}}]
[null,{"$f":"'Sheet3 (3)'!I46","v":{"$error":"#N/A"}},{"$f":"'Sheet3 (3)'!K46","v":6.82011935208791E-4},{"$f":"CORREL($B$1:B46,$C$1:C46)","v":{"$error":"#N/A"}},{"$f":"'Sheet3 (3)'!M46","v":-3.6428329379870985E-3},{"$f":"CORREL($B$1:B46,$E$1:E46)","v":{"$error":"#N/A"}},{"$f":"'Sheet3 (3)'!O46","v":-1.5666017444323221E-3},{"$f":"CORREL($B$1:B46,$G$1:G46)","v":{"$error":"#N/A"}},{"$f":"'Sheet3 (3)'!Q46","v":1.2706480304944723E-4},{"$f":"CORREL($B$1:B46,$I$1:I46)","v":{"$error":"#N/A"}},{"$f":"'Sheet3 (3)'!S46","v":5.4935695426284537E-3},{"$f":"CORREL($B$1:B46,$K$1:K46)","v":{"$error":"#N/A"}},{"$f":"'Sheet3 (3)'!U46","v":3.4999359767809058E-3},{"$f":"CORREL($B$1:B46,$M$1:M46)","v":{"$error":"#N/A"}},{"$f":"'Sheet3 (3)'!W46","v":3.2549573857551099E-3},{"$f":"CORREL($B$1:B46,$O$1:O46)","v":{"$error":"#N/A"}},{"$f":"'Sheet3 (3)'!Y46","v":7.6683849529237921E-4},{"$f":"CORREL($B$1:B46,$Q$1:Q46)","v":{"$error":"#N/A"}},{"$f":"'Sheet3 (3)'!AA46","v":1.9787499462295939E-3},{"$f":"CORREL($B$1:B46,$S$1:S46)","v":{"$error":"#N/A"}}]
[null,{"$f":"'Sheet3 (3)'!I47","v":{"$error":"#N/A"}},{"$f":"'Sheet3 (3)'!K47","v":5.9676044330769209E-4},{"$f":"CORREL($B$1:B47,$C$1:C47)","v":{"$error":"#N/A"}},{"$f":"'Sheet3 (3)'!M47","v":-4.0664181633343916E-3},{"$f":"CORREL($B$1:B47,$E$1:E47)","v":{"$error":"#N/A"}},{"$f":"'Sheet3 (3)'!O47","v":-1.270217630620761E-3},{"$f":"CORREL($B$1:B47,$G$1:G47)","v":{"$error":"#N/A"}},{"$f":"'Sheet3 (3)'!Q47","v":-4.2354934349941135E-5},{"$f":"CORREL($B$1:B47,$I$1:I47)","v":{"$error":"#N/A"}},{"$f":"'Sheet3 (3)'!S47","v":5.536155353036515E-3},{"$f":"CORREL($B$1:B47,$K$1:K47)","v":{"$error":"#N/A"}},{"$f":"'Sheet3 (3)'!U47","v":3.8413931452472988E-3},{"$f":"CORREL($B$1:B47,$M$1:M47)","v":{"$error":"#N/A"}},{"$f":"'Sheet3 (3)'!W47","v":3.2549573857551099E-3},{"$f":"CORREL($B$1:B47,$O$1:O47)","v":{"$error":"#N/A"}},{"$f":"'Sheet3 (3)'!Y47","v":5.9642994078296162E-4},{"$f":"CORREL($B$1:B47,$Q$1:Q47)","v":{"$error":"#N/A"}},{"$f":"'Sheet3 (3)'!AA47","v":2.2368477653029947E-3},{"$f":"CORREL($B$1:B47,$S$1:S47)","v":{"$error":"#N/A"}}]
[null,{"$f":"'Sheet3 (3)'!I48","v":{"$error":"#N/A"}},{"$f":"'Sheet3 (3)'!K48","v":5.9676044330769209E-4},{"$f":"CORREL($B$1:B48,$C$1:C48)","v":{"$error":"#N/A"}},{"$f":"'Sheet3 (3)'!M48","v":-3.9817011182649333E-3},{"$f":"CORREL($B$1:B48,$E$1:E48)","v":{"$error":"#N/A"}},{"$f":"'Sheet3 (3)'!O48","v":-1.4819205690576173E-3},{"$f":"CORREL($B$1:B48,$G$1:G48)","v":{"$error":"#N/A"}},{"$f":"'Sheet3 (3)'!Q48","v":2.1177467174914139E-4},{"$f":"CORREL($B$1:B48,$I$1:I48)","v":{"$error":"#N/A"}},{"$f":"'Sheet3 (3)'!S48","v":5.5787411634443881E-3},{"$f":"CORREL($B$1:B48,$K$1:K48)","v":{"$error":"#N/A"}},{"$f":"'Sheet3 (3)'!U48","v":3.7987109991889046E-3},{"$f":"CORREL($B$1:B48,$M$1:M48)","v":{"$error":"#N/A"}},{"$f":"'Sheet3 (3)'!W48","v":3.42627093237398E-3},{"$f":"CORREL($B$1:B48,$O$1:O48)","v":{"$error":"#N/A"}},{"$f":"'Sheet3 (3)'!Y48","v":6.8163421803767036E-4},{"$f":"CORREL($B$1:B48,$Q$1:Q48)","v":{"$error":"#N/A"}},{"$f":"'Sheet3 (3)'!AA48","v":2.3658966748397901E-3},{"$f":"CORREL($B$1:B48,$S$1:S48)","v":{"$error":"#N/A"}}]
[null,{"$f":"'Sheet3 (3)'!I49","v":{"$error":"#N/A"}},{"$f":"'Sheet3 (3)'!K49","v":9.377664109120877E-4},{"$f":"CORREL($B$1:B49,$C$1:C49)","v":{"$error":"#N/A"}},{"$f":"'Sheet3 (3)'!M49","v":-4.9135886140289778E-3},{"$f":"CORREL($B$1:B49,$E$1:E49)","v":{"$error":"#N/A"}},{"$f":"'Sheet3 (3)'!O49","v":-1.2278770429333147E-3},{"$f":"CORREL($B$1:B49,$G$1:G49)","v":{"$error":"#N/A"}},{"$f":"'Sheet3 (3)'!Q49","v":-4.2354934349941135E-5},{"$f":"CORREL($B$1:B49,$I$1:I49)","v":{"$error":"#N/A"}},{"$f":"'Sheet3 (3)'!S49","v":5.6213269738524503E-3},{"$f":"CORREL($B$1:B49,$K$1:K49)","v":{"$error":"#N/A"}},{"$f":"'Sheet3 (3)'!U49","v":3.7133467070723067E-3},{"$f":"CORREL($B$1:B49,$M$1:M49)","v":{"$error":"#N/A"}},{"$f":"'Sheet3 (3)'!W49","v":3.5547560923378952E-3},{"$f":"CORREL($B$1:B49,$O$1:O49)","v":{"$error":"#N/A"}},{"$f":"'Sheet3 (3)'!Y49","v":1.0224513270565055E-3},{"$f":"CORREL($B$1:B49,$Q$1:Q49)","v":{"$error":"#N/A"}},{"$f":"'Sheet3 (3)'!AA49","v":2.2368477653029947E-3},{"$f":"CORREL($B$1:B49,$S$1:S49)","v":{"$error":"#N/A"}}]
[null,{"$f":"'Sheet3 (3)'!I50","v":{"$error":"#N/A"}},{"$f":"'Sheet3 (3)'!K50","v":5.9676044330769209E-4},{"$f":"CORREL($B$1:B50,$C$1:C50)","v":{"$error":"#N/A"}},{"$f":"'Sheet3 (3)'!M50","v":-5.5913249745848355E-3},{"$f":"CORREL($B$1:B50,$E$1:E50)","v":{"$error":"#N/A"}},{"$f":"'Sheet3 (3)'!O50","v":-1.4395799813701707E-3},{"$f":"CORREL($B$1:B50,$G$1:G50)","v":{"$error":"#N/A"}},{"$f":"'Sheet3 (3)'!Q50","v":-5.5061414654810617E-4},{"$f":"CORREL($B$1:B50,$I$1:I50)","v":{"$error":"#N/A"}},{"$f":"'Sheet3 (3)'!S50","v":5.6213269738524503E-3},{"$f":"CORREL($B$1:B50,$K$1:K50)","v":{"$error":"#N/A"}},{"$f":"'Sheet3 (3)'!U50","v":3.2438431004309216E-3},{"$f":"CORREL($B$1:B50,$M$1:M50)","v":{"$error":"#N/A"}},{"$f":"'Sheet3 (3)'!W50","v":3.5975844789926602E-3},{"$f":"CORREL($B$1:B50,$O$1:O50)","v":{"$error":"#N/A"}},{"$f":"'Sheet3 (3)'!Y50","v":8.5204277254708795E-4},{"$f":"CORREL($B$1:B50,$Q$1:Q50)","v":{"$error":"#N/A"}},{"$f":"'Sheet3 (3)'!AA50","v":1.9357336430507895E-3},{"$f":"CORREL($B$1:B50,$S$1:S50)","v":{"$error":"#N/A"}}]
[null,{"$f":"'Sheet3 (3)'!I51","v":{"$error":"#N/A"}},{"$f":"'Sheet3 (3)'!K51","v":4.262574595054944E-4},{"$f":"CORREL($B$1:B51,$C$1:C51)","v":{"$error":"#N/A"}},{"$f":"'Sheet3 (3)'!M51","v":-5.4642494069805534E-3},{"$f":"CORREL($B$1:B51,$E$1:E51)","v":{"$error":"#N/A"}},{"$f":"'Sheet3 (3)'!O51","v":-1.2278770429333147E-3},{"$f":"CORREL($B$1:B51,$G$1:G51)","v":{"$error":"#N/A"}},{"$f":"'Sheet3 (3)'!Q51","v":-2.9648454044902366E-4},{"$f":"CORREL($B$1:B51,$I$1:I51)","v":{"$error":"#N/A"}},{"$f":"'Sheet3 (3)'!S51","v":5.6639127842603226E-3},{"$f":"CORREL($B$1:B51,$K$1:K51)","v":{"$error":"#N/A"}},{"$f":"'Sheet3 (3)'!U51","v":3.0731145161977252E-3},{"$f":"CORREL($B$1:B51,$M$1:M51)","v":{"$error":"#N/A"}},{"$f":"'Sheet3 (3)'!W51","v":3.1693006124457702E-3},{"$f":"CORREL($B$1:B51,$O$1:O51)","v":{"$error":"#N/A"}},{"$f":"'Sheet3 (3)'!Y51","v":6.3903207941041053E-4},{"$f":"CORREL($B$1:B51,$Q$1:Q51)","v":{"$error":"#N/A"}},{"$f":"'Sheet3 (3)'!AA51","v":1.9357336430507895E-3},{"$f":"CORREL($B$1:B51,$S$1:S51)","v":{"$error":"#N/A"}}]
[null,{"$f":"'Sheet3 (3)'!I52","v":{"$error":"#N/A"}},{"$f":"'Sheet3 (3)'!K52","v":-2.5575447570329665E-4},{"$f":"CORREL($B$1:B52,$C$1:C52)","v":{"$error":"#N/A"}},{"$f":"'Sheet3 (3)'!M52","v":-5.5066079295153772E-3},{"$f":"CORREL($B$1:B52,$E$1:E52)","v":{"$error":"#N/A"}},{"$f":"'Sheet3 (3)'!O52","v":-7.1978999068508537E-4},{"$f":"CORREL($B$1:B52,$G$1:G52)","v":{"$error":"#N/A"}},{"$f":"'Sheet3 (3)'!Q52","v":-5.5061414654810617E-4},{"$f":"CORREL($B$1:B52,$I$1:I52)","v":{"$error":"#N/A"}},{"$f":"'Sheet3 (3)'!S52","v":5.6639127842603226E-3},{"$f":"CORREL($B$1:B52,$K$1:K52)","v":{"$error":"#N/A"}},{"$f":"'Sheet3 (3)'!U52","v":3.115796662256119E-3},{"$f":"CORREL($B$1:B52,$M$1:M52)","v":{"$error":"#N/A"}},{"$f":"'Sheet3 (3)'!W52","v":3.2977857724098753E-3},{"$f":"CORREL($B$1:B52,$O$1:O52)","v":{"$error":"#N/A"}},{"$f":"'Sheet3 (3)'!Y52","v":4.2602138627354397E-4},{"$f":"CORREL($B$1:B52,$Q$1:Q52)","v":{"$error":"#N/A"}},{"$f":"'Sheet3 (3)'!AA52","v":2.408912978018595E-3},{"$f":"CORREL($B$1:B52,$S$1:S52)","v":{"$error":"#N/A"}}]
[null,{"$f":"'Sheet3 (3)'!I53","v":{"$error":"#N/A"}},{"$f":"'Sheet3 (3)'!K53","v":-1.7050298380219775E-4},{"$f":"CORREL($B$1:B53,$C$1:C53)","v":{"$error":"#N/A"}},{"$f":"'Sheet3 (3)'!M53","v":-5.5913249745848355E-3},{"$f":"CORREL($B$1:B53,$E$1:E53)","v":{"$error":"#N/A"}},{"$f":"'Sheet3 (3)'!O53","v":-1.1855364552460562E-3},{"$f":"CORREL($B$1:B53,$G$1:G53)","v":{"$error":"#N/A"}},{"$f":"'Sheet3 (3)'!Q53","v":-8.0474375264718873E-4},{"$f":"CORREL($B$1:B53,$I$1:I53)","v":{"$error":"#N/A"}},{"$f":"'Sheet3 (3)'!S53","v":5.5787411634443881E-3},{"$f":"CORREL($B$1:B53,$K$1:K53)","v":{"$error":"#N/A"}},{"$f":"'Sheet3 (3)'!U53","v":3.030432370139521E-3},{"$f":"CORREL($B$1:B53,$M$1:M53)","v":{"$error":"#N/A"}},{"$f":"'Sheet3 (3)'!W53","v":3.42627093237398E-3},{"$f":"CORREL($B$1:B53,$O$1:O53)","v":{"$error":"#N/A"}},{"$f":"'Sheet3 (3)'!Y53","v":2.5561283176412638E-4},{"$f":"CORREL($B$1:B53,$Q$1:Q53)","v":{"$error":"#N/A"}},{"$f":"'Sheet3 (3)'!AA53","v":2.4949455843763951E-3},{"$f":"CORREL($B$1:B53,$S$1:S53)","v":{"$error":"#N/A"}}]
[null,{"$f":"'Sheet3 (3)'!I54","v":{"$error":"#N/A"}},{"$f":"'Sheet3 (3)'!K54","v":2.1312872975265255E-4},{"$f":"CORREL($B$1:B54,$C$1:C54)","v":{"$error":"#N/A"}},{"$f":"'Sheet3 (3)'!M54","v":-5.4642494069805534E-3},{"$f":"CORREL($B$1:B54,$E$1:E54)","v":{"$error":"#N/A"}},{"$f":"'Sheet3 (3)'!O54","v":-1.1855364552460562E-3},{"$f":"CORREL($B$1:B54,$G$1:G54)","v":{"$error":"#N/A"}},{"$f":"'Sheet3 (3)'!Q54","v":-5.5061414654810617E-4},{"$f":"CORREL($B$1:B54,$I$1:I54)","v":{"$error":"#N/A"}},{"$f":"'Sheet3 (3)'!S54","v":5.4935695426284537E-3},{"$f":"CORREL($B$1:B54,$K$1:K54)","v":{"$error":"#N/A"}},{"$f":"'Sheet3 (3)'!U54","v":3.0731145161977252E-3},{"$f":"CORREL($B$1:B54,$M$1:M54)","v":{"$error":"#N/A"}},{"$f":"'Sheet3 (3)'!W54","v":3.5975844789926602E-3},{"$f":"CORREL($B$1:B54,$O$1:O54)","v":{"$error":"#N/A"}},{"$f":"'Sheet3 (3)'!Y54","v":4.686235249008038E-4},{"$f":"CORREL($B$1:B54,$Q$1:Q54)","v":{"$error":"#N/A"}},{"$f":"'Sheet3 (3)'!AA54","v":2.4519292811975902E-3},{"$f":"CORREL($B$1:B54,$S$1:S54)","v":{"$error":"#N/A"}}]
[null,{"$f":"'Sheet3 (3)'!I55","v":{"$error":"#N/A"}},{"$f":"'Sheet3 (3)'!K55","v":5.5413469735723735E-4},{"$f":"CORREL($B$1:B55,$C$1:C55)","v":{"$error":"#N/A"}},{"$f":"'Sheet3 (3)'!M55","v":-5.8454761097932115E-3},{"$f":"CORREL($B$1:B55,$E$1:E55)","v":{"$error":"#N/A"}},{"$f":"'Sheet3 (3)'!O55","v":-8.8915234143449519E-4},{"$f":"CORREL($B$1:B55,$G$1:G55)","v":{"$error":"#N/A"}},{"$f":"'Sheet3 (3)'!Q55","v":-6.776789495977415E-4},{"$f":"CORREL($B$1:B55,$I$1:I55)","v":{"$error":"#N/A"}},{"$f":"'Sheet3 (3)'!S55","v":5.5787411634443881E-3},{"$f":"CORREL($B$1:B55,$K$1:K55)","v":{"$error":"#N/A"}},{"$f":"'Sheet3 (3)'!U55","v":2.8170216398479306E-3},{"$f":"CORREL($B$1:B55,$M$1:M55)","v":{"$error":"#N/A"}},{"$f":"'Sheet3 (3)'!W55","v":3.726069638956575E-3},{"$f":"CORREL($B$1:B55,$O$1:O55)","v":{"$error":"#N/A"}},{"$f":"'Sheet3 (3)'!Y55","v":5.9642994078296162E-4},{"$f":"CORREL($B$1:B55,$Q$1:Q55)","v":{"$error":"#N/A"}},{"$f":"'Sheet3 (3)'!AA55","v":1.9787499462295939E-3},{"$f":"CORREL($B$1:B55,$S$1:S55)","v":{"$error":"#N/A"}}]
[null,{"$f":"'Sheet3 (3)'!I56","v":{"$error":"#N/A"}},{"$f":"'Sheet3 (3)'!K56","v":3.410059676043955E-4},{"$f":"CORREL($B$1:B56,$C$1:C56)","v":{"$error":"#N/A"}},{"$f":"'Sheet3 (3)'!M56","v":-5.7184005421889294E-3},{"$f":"CORREL($B$1:B56,$E$1:E56)","v":{"$error":"#N/A"}},{"$f":"'Sheet3 (3)'!O56","v":-5.0808705224841724E-4},{"$f":"CORREL($B$1:B56,$G$1:G56)","v":{"$error":"#N/A"}},{"$f":"'Sheet3 (3)'!Q56","v":-5.9296908089804732E-4},{"$f":"CORREL($B$1:B56,$I$1:I56)","v":{"$error":"#N/A"}},{"$f":"'Sheet3 (3)'!S56","v":5.8342560258921924E-3},{"$f":"CORREL($B$1:B56,$K$1:K56)","v":{"$error":"#N/A"}},{"$f":"'Sheet3 (3)'!U56","v":2.8170216398479306E-3},{"$f":"CORREL($B$1:B56,$M$1:M56)","v":{"$error":"#N/A"}},{"$f":"'Sheet3 (3)'!W56","v":3.8545547989206801E-3},{"$f":"CORREL($B$1:B56,$O$1:O56)","v":{"$error":"#N/A"}},{"$f":"'Sheet3 (3)'!Y56","v":5.538278021555126E-4},{"$f":"CORREL($B$1:B56,$Q$1:Q56)","v":{"$error":"#N/A"}},{"$f":"'Sheet3 (3)'!AA56","v":1.7636684303351893E-3},{"$f":"CORREL($B$1:B56,$S$1:S56)","v":{"$error":"#N/A"}}]
[null,{"$f":"'Sheet3 (3)'!I57","v":{"$error":"#N/A"}},{"$f":"'Sheet3 (3)'!K57","v":5.115089514065933E-4},{"$f":"CORREL($B$1:B57,$C$1:C57)","v":{"$error":"#N/A"}},{"$f":"'Sheet3 (3)'!M57","v":-5.8031175872583877E-3},{"$f":"CORREL($B$1:B57,$E$1:E57)","v":{"$error":"#N/A"}},{"$f":"'Sheet3 (3)'!O57","v":-6.3510881531038052E-4},{"$f":"CORREL($B$1:B57,$G$1:G57)","v":{"$error":"#N/A"}},{"$f":"'Sheet3 (3)'!Q57","v":4.2354934349753039E-5},{"$f":"CORREL($B$1:B57,$I$1:I57)","v":{"$error":"#N/A"}},{"$f":"'Sheet3 (3)'!S57","v":5.4083979218125184E-3},{"$f":"CORREL($B$1:B57,$K$1:K57)","v":{"$error":"#N/A"}},{"$f":"'Sheet3 (3)'!U57","v":2.8597037859063243E-3},{"$f":"CORREL($B$1:B57,$M$1:M57)","v":{"$error":"#N/A"}},{"$f":"'Sheet3 (3)'!W57","v":3.9402115722300202E-3},{"$f":"CORREL($B$1:B57,$O$1:O57)","v":{"$error":"#N/A"}},{"$f":"'Sheet3 (3)'!Y57","v":4.686235249008038E-4},{"$f":"CORREL($B$1:B57,$Q$1:Q57)","v":{"$error":"#N/A"}},{"$f":"'Sheet3 (3)'!AA57","v":1.9787499462295939E-3},{"$f":"CORREL($B$1:B57,$S$1:S57)","v":{"$error":"#N/A"}}]
[null,{"$f":"'Sheet3 (3)'!I58","v":{"$error":"#N/A"}},{"$f":"'Sheet3 (3)'!K58","v":2.983802216537514E-4},{"$f":"CORREL($B$1:B58,$C$1:C58)","v":{"$error":"#N/A"}},{"$f":"'Sheet3 (3)'!M58","v":-6.0572687224669519E-3},{"$f":"CORREL($B$1:B58,$E$1:E58)","v":{"$error":"#N/A"}},{"$f":"'Sheet3 (3)'!O58","v":-8.0447116605979023E-4},{"$f":"CORREL($B$1:B58,$G$1:G58)","v":{"$error":"#N/A"}},{"$f":"'Sheet3 (3)'!Q58","v":8.4709868699694174E-5},{"$f":"CORREL($B$1:B58,$I$1:I58)","v":{"$error":"#N/A"}},{"$f":"'Sheet3 (3)'!S58","v":5.2380546801806495E-3},{"$f":"CORREL($B$1:B58,$K$1:K58)","v":{"$error":"#N/A"}},{"$f":"'Sheet3 (3)'!U58","v":2.9023859319645289E-3},{"$f":"CORREL($B$1:B58,$M$1:M58)","v":{"$error":"#N/A"}},{"$f":"'Sheet3 (3)'!W58","v":4.0686967321939349E-3},{"$f":"CORREL($B$1:B58,$O$1:O58)","v":{"$error":"#N/A"}},{"$f":"'Sheet3 (3)'!Y58","v":7.6683849529237921E-4},{"$f":"CORREL($B$1:B58,$Q$1:Q58)","v":{"$error":"#N/A"}},{"$f":"'Sheet3 (3)'!AA58","v":2.2368477653029947E-3},{"$f":"CORREL($B$1:B58,$S$1:S58)","v":{"$error":"#N/A"}}]
[null,{"$f":"'Sheet3 (3)'!I59","v":{"$error":"#N/A"}},{"$f":"'Sheet3 (3)'!K59","v":1.2787723785155367E-4},{"$f":"CORREL($B$1:B59,$C$1:C59)","v":{"$error":"#N/A"}},{"$f":"'Sheet3 (3)'!M59","v":-6.269061335140505E-3},{"$f":"CORREL($B$1:B59,$E$1:E59)","v":{"$error":"#N/A"}},{"$f":"'Sheet3 (3)'!O59","v":-5.0808705224841724E-4},{"$f":"CORREL($B$1:B59,$G$1:G59)","v":{"$error":"#N/A"}},{"$f":"'Sheet3 (3)'!Q59","v":4.2354934349847088E-4},{"$f":"CORREL($B$1:B59,$I$1:I59)","v":{"$error":"#N/A"}},{"$f":"'Sheet3 (3)'!S59","v":5.1528830593647141E-3},{"$f":"CORREL($B$1:B59,$K$1:K59)","v":{"$error":"#N/A"}},{"$f":"'Sheet3 (3)'!U59","v":2.7743394937897264E-3},{"$f":"CORREL($B$1:B59,$M$1:M59)","v":{"$error":"#N/A"}},{"$f":"'Sheet3 (3)'!W59","v":4.0686967321939349E-3},{"$f":"CORREL($B$1:B59,$O$1:O59)","v":{"$error":"#N/A"}},{"$f":"'Sheet3 (3)'!Y59","v":7.2423635666511938E-4},{"$f":"CORREL($B$1:B59,$Q$1:Q59)","v":{"$error":"#N/A"}},{"$f":"'Sheet3 (3)'!AA59","v":2.3228803716607948E-3},{"$f":"CORREL($B$1:B59,$S$1:S59)","v":{"$error":"#N/A"}}]
[null,{"$f":"'Sheet3 (3)'!I60","v":{"$error":"#N/A"}},{"$f":"'Sheet3 (3)'!K60","v":8.5251491901098875E-5},{"$f":"CORREL($B$1:B60,$C$1:C60)","v":{"$error":"#N/A"}},{"$f":"'Sheet3 (3)'!M60","v":-6.2267028126058695E-3},{"$f":"CORREL($B$1:B60,$E$1:E60)","v":{"$error":"#N/A"}},{"$f":"'Sheet3 (3)'!O60","v":-3.8106528918626596E-4},{"$f":"CORREL($B$1:B60,$G$1:G60)","v":{"$error":"#N/A"}},{"$f":"'Sheet3 (3)'!Q60","v":2.964845404488356E-4},{"$f":"CORREL($B$1:B60,$I$1:I60)","v":{"$error":"#N/A"}},{"$f":"'Sheet3 (3)'!S60","v":5.1528830593647141E-3},{"$f":"CORREL($B$1:B60,$K$1:K60)","v":{"$error":"#N/A"}},{"$f":"'Sheet3 (3)'!U60","v":2.5609287634981359E-3},{"$f":"CORREL($B$1:B60,$M$1:M60)","v":{"$error":"#N/A"}},{"$f":"'Sheet3 (3)'!W60","v":4.0686967321939349E-3},{"$f":"CORREL($B$1:B60,$O$1:O60)","v":{"$error":"#N/A"}},{"$f":"'Sheet3 (3)'!Y60","v":7.6683849529237921E-4},{"$f":"CORREL($B$1:B60,$Q$1:Q60)","v":{"$error":"#N/A"}},{"$f":"'Sheet3 (3)'!AA60","v":2.3658966748397901E-3},{"$f":"CORREL($B$1:B60,$S$1:S60)","v":{"$error":"#N/A"}}]
[null,{"$f":"'Sheet3 (3)'!I61","v":{"$error":"#N/A"}},{"$f":"'Sheet3 (3)'!K61","v":-8.5251491901098875E-5},{"$f":"CORREL($B$1:B61,$C$1:C61)","v":{"$error":"#N/A"}},{"$f":"'Sheet3 (3)'!M61","v":-6.4384954252794217E-3},{"$f":"CORREL($B$1:B61,$E$1:E61)","v":{"$error":"#N/A"}},{"$f":"'Sheet3 (3)'!O61","v":-4.2340587687371238E-4},{"$f":"CORREL($B$1:B61,$G$1:G61)","v":{"$error":"#N/A"}},{"$f":"'Sheet3 (3)'!Q61","v":5.0825921219816502E-4},{"$f":"CORREL($B$1:B61,$I$1:I61)","v":{"$error":"#N/A"}},{"$f":"'Sheet3 (3)'!S61","v":5.1954688697725872E-3},{"$f":"CORREL($B$1:B61,$K$1:K61)","v":{"$error":"#N/A"}},{"$f":"'Sheet3 (3)'!U61","v":2.4755644713815379E-3},{"$f":"CORREL($B$1:B61,$M$1:M61)","v":{"$error":"#N/A"}},{"$f":"'Sheet3 (3)'!W61","v":4.1971818921580405E-3},{"$f":"CORREL($B$1:B61,$O$1:O61)","v":{"$error":"#N/A"}},{"$f":"'Sheet3 (3)'!Y61","v":9.3724704980179679E-4},{"$f":"CORREL($B$1:B61,$Q$1:Q61)","v":{"$error":"#N/A"}},{"$f":"'Sheet3 (3)'!AA61","v":1.9357336430507895E-3},{"$f":"CORREL($B$1:B61,$S$1:S61)","v":{"$error":"#N/A"}}]
[null,{"$f":"'Sheet3 (3)'!I62","v":{"$error":"#N/A"}},{"$f":"'Sheet3 (3)'!K62","v":-3.410059676043955E-4},{"$f":"CORREL($B$1:B62,$C$1:C62)","v":{"$error":"#N/A"}},{"$f":"'Sheet3 (3)'!M62","v":-6.4384954252794217E-3},{"$f":"CORREL($B$1:B62,$E$1:E62)","v":{"$error":"#N/A"}},{"$f":"'Sheet3 (3)'!O62","v":-2.5404352612411462E-4},{"$f":"CORREL($B$1:B62,$G$1:G62)","v":{"$error":"#N/A"}},{"$f":"'Sheet3 (3)'!Q62","v":5.0825921219816502E-4},{"$f":"CORREL($B$1:B62,$I$1:I62)","v":{"$error":"#N/A"}},{"$f":"'Sheet3 (3)'!S62","v":5.1528830593647141E-3},{"$f":"CORREL($B$1:B62,$K$1:K62)","v":{"$error":"#N/A"}},{"$f":"'Sheet3 (3)'!U62","v":2.0487430107985465E-3},{"$f":"CORREL($B$1:B62,$M$1:M62)","v":{"$error":"#N/A"}},{"$f":"'Sheet3 (3)'!W62","v":4.0258683455393603E-3},{"$f":"CORREL($B$1:B62,$O$1:O62)","v":{"$error":"#N/A"}},{"$f":"'Sheet3 (3)'!Y62","v":1.0224513270565055E-3},{"$f":"CORREL($B$1:B62,$Q$1:Q62)","v":{"$error":"#N/A"}},{"$f":"'Sheet3 (3)'!AA62","v":1.4195380049037978E-3},{"$f":"CORREL($B$1:B62,$S$1:S62)","v":{"$error":"#N/A"}}]
[null,{"$f":"'Sheet3 (3)'!I63","v":{"$error":"#N/A"}},{"$f":"'Sheet3 (3)'!K63","v":-2.1312872975284185E-4},{"$f":"CORREL($B$1:B63,$C$1:C63)","v":{"$error":"#N/A"}},{"$f":"'Sheet3 (3)'!M63","v":-6.3961369027447871E-3},{"$f":"CORREL($B$1:B63,$E$1:E63)","v":{"$error":"#N/A"}},{"$f":"'Sheet3 (3)'!O63","v":-5.5042763993567567E-4},{"$f":"CORREL($B$1:B63,$G$1:G63)","v":{"$error":"#N/A"}},{"$f":"'Sheet3 (3)'!Q63","v":4.6590427784822392E-4},{"$f":"CORREL($B$1:B63,$I$1:I63)","v":{"$error":"#N/A"}},{"$f":"'Sheet3 (3)'!S63","v":5.1102972489566528E-3},{"$f":"CORREL($B$1:B63,$K$1:K63)","v":{"$error":"#N/A"}},{"$f":"'Sheet3 (3)'!U63","v":1.8353322805069563E-3},{"$f":"CORREL($B$1:B63,$M$1:M63)","v":{"$error":"#N/A"}},{"$f":"'Sheet3 (3)'!W63","v":4.3256670521221452E-3},{"$f":"CORREL($B$1:B63,$O$1:O63)","v":{"$error":"#N/A"}},{"$f":"'Sheet3 (3)'!Y63","v":7.6683849529237921E-4},{"$f":"CORREL($B$1:B63,$Q$1:Q63)","v":{"$error":"#N/A"}},{"$f":"'Sheet3 (3)'!AA63","v":1.1614401858303974E-3},{"$f":"CORREL($B$1:B63,$S$1:S63)","v":{"$error":"#N/A"}}]
[null,{"$f":"'Sheet3 (3)'!I64","v":{"$error":"#N/A"}},{"$f":"'Sheet3 (3)'!K64","v":-3.836317135550396E-4},{"$f":"CORREL($B$1:B64,$C$1:C64)","v":{"$error":"#N/A"}},{"$f":"'Sheet3 (3)'!M64","v":-6.269061335140505E-3},{"$f":"CORREL($B$1:B64,$E$1:E64)","v":{"$error":"#N/A"}},{"$f":"'Sheet3 (3)'!O64","v":-5.5042763993567567E-4},{"$f":"CORREL($B$1:B64,$G$1:G64)","v":{"$error":"#N/A"}},{"$f":"'Sheet3 (3)'!Q64","v":3.8119440914852974E-4},{"$f":"CORREL($B$1:B64,$I$1:I64)","v":{"$error":"#N/A"}},{"$f":"'Sheet3 (3)'!S64","v":5.0677114385487797E-3},{"$f":"CORREL($B$1:B64,$K$1:K64)","v":{"$error":"#N/A"}},{"$f":"'Sheet3 (3)'!U64","v":2.3048358871483412E-3},{"$f":"CORREL($B$1:B64,$M$1:M64)","v":{"$error":"#N/A"}},{"$f":"'Sheet3 (3)'!W64","v":3.9402115722300202E-3},{"$f":"CORREL($B$1:B64,$O$1:O64)","v":{"$error":"#N/A"}},{"$f":"'Sheet3 (3)'!Y64","v":4.686235249008038E-4},{"$f":"CORREL($B$1:B64,$Q$1:Q64)","v":{"$error":"#N/A"}},{"$f":"'Sheet3 (3)'!AA64","v":9.4635866993599254E-4},{"$f":"CORREL($B$1:B64,$S$1:S64)","v":{"$error":"#N/A"}}]
[null,{"$f":"'Sheet3 (3)'!I65","v":{"$error":"#N/A"}},{"$f":"'Sheet3 (3)'!K65","v":-1.2787723785174298E-4},{"$f":"CORREL($B$1:B65,$C$1:C65)","v":{"$error":"#N/A"}},{"$f":"'Sheet3 (3)'!M65","v":-6.4384954252794217E-3},{"$f":"CORREL($B$1:B65,$E$1:E65)","v":{"$error":"#N/A"}},{"$f":"'Sheet3 (3)'!O65","v":-7.1978999068508537E-4},{"$f":"CORREL($B$1:B65,$G$1:G65)","v":{"$error":"#N/A"}},{"$f":"'Sheet3 (3)'!Q65","v":2.5412960609908251E-4},{"$f":"CORREL($B$1:B65,$I$1:I65)","v":{"$error":"#N/A"}},{"$f":"'Sheet3 (3)'!S65","v":5.1102972489566528E-3},{"$f":"CORREL($B$1:B65,$K$1:K65)","v":{"$error":"#N/A"}},{"$f":"'Sheet3 (3)'!U65","v":2.2621537410899475E-3},{"$f":"CORREL($B$1:B65,$M$1:M65)","v":{"$error":"#N/A"}},{"$f":"'Sheet3 (3)'!W65","v":4.1115251188487004E-3},{"$f":"CORREL($B$1:B65,$O$1:O65)","v":{"$error":"#N/A"}},{"$f":"'Sheet3 (3)'!Y65","v":3.4081710901883518E-4},{"$f":"CORREL($B$1:B65,$Q$1:Q65)","v":{"$error":"#N/A"}},{"$f":"'Sheet3 (3)'!AA65","v":8.1730976039919685E-4},{"$f":"CORREL($B$1:B65,$S$1:S65)","v":{"$error":"#N/A"}}]
[null,{"$f":"'Sheet3 (3)'!I66","v":{"$error":"#N/A"}},{"$f":"'Sheet3 (3)'!K66","v":-8.5251491901098875E-5},{"$f":"CORREL($B$1:B66,$C$1:C66)","v":{"$error":"#N/A"}},{"$f":"'Sheet3 (3)'!M66","v":-6.6926465604877977E-3},{"$f":"CORREL($B$1:B66,$E$1:E66)","v":{"$error":"#N/A"}},{"$f":"'Sheet3 (3)'!O66","v":-5.5042763993567567E-4},{"$f":"CORREL($B$1:B66,$G$1:G66)","v":{"$error":"#N/A"}},{"$f":"'Sheet3 (3)'!Q66","v":3.388394747987767E-4},{"$f":"CORREL($B$1:B66,$I$1:I66)","v":{"$error":"#N/A"}},{"$f":"'Sheet3 (3)'!S66","v":5.2380546801806495E-3},{"$f":"CORREL($B$1:B66,$K$1:K66)","v":{"$error":"#N/A"}},{"$f":"'Sheet3 (3)'!U66","v":2.4755644713815379E-3},{"$f":"CORREL($B$1:B66,$M$1:M66)","v":{"$error":"#N/A"}},{"$f":"'Sheet3 (3)'!W66","v":3.9830399588845948E-3},{"$f":"CORREL($B$1:B66,$O$1:O66)","v":{"$error":"#N/A"}},{"$f":"'Sheet3 (3)'!Y66","v":3.8341924764609501E-4},{"$f":"CORREL($B$1:B66,$Q$1:Q66)","v":{"$error":"#N/A"}},{"$f":"'Sheet3 (3)'!AA66","v":4.3016303178900069E-4},{"$f":"CORREL($B$1:B66,$S$1:S66)","v":{"$error":"#N/A"}}]
[null,{"$f":"'Sheet3 (3)'!I67","v":{"$error":"#N/A"}},{"$f":"'Sheet3 (3)'!K67","v":-8.5251491901098875E-5},{"$f":"CORREL($B$1:B67,$C$1:C67)","v":{"$error":"#N/A"}},{"$f":"'Sheet3 (3)'!M67","v":-5.6760420196542939E-3},{"$f":"CORREL($B$1:B67,$E$1:E67)","v":{"$error":"#N/A"}},{"$f":"'Sheet3 (3)'!O67","v":-3.8106528918626596E-4},{"$f":"CORREL($B$1:B67,$G$1:G67)","v":{"$error":"#N/A"}},{"$f":"'Sheet3 (3)'!Q67","v":2.1177467174914139E-4},{"$f":"CORREL($B$1:B67,$I$1:I67)","v":{"$error":"#N/A"}},{"$f":"'Sheet3 (3)'!S67","v":5.365812111404457E-3},{"$f":"CORREL($B$1:B67,$K$1:K67)","v":{"$error":"#N/A"}},{"$f":"'Sheet3 (3)'!U67","v":1.9633787186819486E-3},{"$f":"CORREL($B$1:B67,$M$1:M67)","v":{"$error":"#N/A"}},{"$f":"'Sheet3 (3)'!W67","v":3.9402115722300202E-3},{"$f":"CORREL($B$1:B67,$O$1:O67)","v":{"$error":"#N/A"}},{"$f":"'Sheet3 (3)'!Y67","v":4.686235249008038E-4},{"$f":"CORREL($B$1:B67,$Q$1:Q67)","v":{"$error":"#N/A"}},{"$f":"'Sheet3 (3)'!AA67","v":5.1619563814680081E-4},{"$f":"CORREL($B$1:B67,$S$1:S67)","v":{"$error":"#N/A"}}]
[null,{"$f":"'Sheet3 (3)'!I68","v":{"$error":"#N/A"}},{"$f":"'Sheet3 (3)'!K68","v":-4.2625745950644088E-5},{"$f":"CORREL($B$1:B68,$C$1:C68)","v":{"$error":"#N/A"}},{"$f":"'Sheet3 (3)'!M68","v":-5.633683497119471E-3},{"$f":"CORREL($B$1:B68,$E$1:E68)","v":{"$error":"#N/A"}},{"$f":"'Sheet3 (3)'!O68","v":-5.0808705224841724E-4},{"$f":"CORREL($B$1:B68,$G$1:G68)","v":{"$error":"#N/A"}},{"$f":"'Sheet3 (3)'!Q68","v":2.1177467174914139E-4},{"$f":"CORREL($B$1:B68,$I$1:I68)","v":{"$error":"#N/A"}},{"$f":"'Sheet3 (3)'!S68","v":5.365812111404457E-3},{"$f":"CORREL($B$1:B68,$K$1:K68)","v":{"$error":"#N/A"}},{"$f":"'Sheet3 (3)'!U68","v":2.0060608647401528E-3},{"$f":"CORREL($B$1:B68,$M$1:M68)","v":{"$error":"#N/A"}},{"$f":"'Sheet3 (3)'!W68","v":3.8117264122659151E-3},{"$f":"CORREL($B$1:B68,$O$1:O68)","v":{"$error":"#N/A"}},{"$f":"'Sheet3 (3)'!Y68","v":5.9642994078296162E-4},{"$f":"CORREL($B$1:B68,$Q$1:Q68)","v":{"$error":"#N/A"}},{"$f":"'Sheet3 (3)'!AA68","v":5.1619563814680081E-4},{"$f":"CORREL($B$1:B68,$S$1:S68)","v":{"$error":"#N/A"}}]
[null,{"$f":"'Sheet3 (3)'!I69","v":{"$error":"#N/A"}},{"$f":"'Sheet3 (3)'!K69","v":-3.836317135550396E-4},{"$f":"CORREL($B$1:B69,$C$1:C69)","v":{"$error":"#N/A"}},{"$f":"'Sheet3 (3)'!M69","v":-5.5489664520500118E-3},{"$f":"CORREL($B$1:B69,$E$1:E69)","v":{"$error":"#N/A"}},{"$f":"'Sheet3 (3)'!O69","v":-5.0808705224841724E-4},{"$f":"CORREL($B$1:B69,$G$1:G69)","v":{"$error":"#N/A"}},{"$f":"'Sheet3 (3)'!Q69","v":2.964845404488356E-4},{"$f":"CORREL($B$1:B69,$I$1:I69)","v":{"$error":"#N/A"}},{"$f":"'Sheet3 (3)'!S69","v":5.2380546801806495E-3},{"$f":"CORREL($B$1:B69,$K$1:K69)","v":{"$error":"#N/A"}},{"$f":"'Sheet3 (3)'!U69","v":2.0487430107985465E-3},{"$f":"CORREL($B$1:B69,$M$1:M69)","v":{"$error":"#N/A"}},{"$f":"'Sheet3 (3)'!W69","v":3.6832412523020003E-3},{"$f":"CORREL($B$1:B69,$O$1:O69)","v":{"$error":"#N/A"}},{"$f":"'Sheet3 (3)'!Y69","v":3.4081710901883518E-4},{"$f":"CORREL($B$1:B69,$Q$1:Q69)","v":{"$error":"#N/A"}},{"$f":"'Sheet3 (3)'!AA69","v":-3.0111412225239598E-4},{"$f":"CORREL($B$1:B69,$S$1:S69)","v":{"$error":"#N/A"}}]
[null,{"$f":"'Sheet3 (3)'!I70","v":{"$error":"#N/A"}},{"$f":"'Sheet3 (3)'!K70","v":-2.983802216539407E-4},{"$f":"CORREL($B$1:B70,$C$1:C70)","v":{"$error":"#N/A"}},{"$f":"'Sheet3 (3)'!M70","v":-5.8031175872583877E-3},{"$f":"CORREL($B$1:B70,$E$1:E70)","v":{"$error":"#N/A"}},{"$f":"'Sheet3 (3)'!O70","v":-5.0808705224841724E-4},{"$f":"CORREL($B$1:B70,$G$1:G70)","v":{"$error":"#N/A"}},{"$f":"'Sheet3 (3)'!Q70","v":2.964845404488356E-4},{"$f":"CORREL($B$1:B70,$I$1:I70)","v":{"$error":"#N/A"}},{"$f":"'Sheet3 (3)'!S70","v":5.4935695426284537E-3},{"$f":"CORREL($B$1:B70,$K$1:K70)","v":{"$error":"#N/A"}},{"$f":"'Sheet3 (3)'!U70","v":2.0914251568567512E-3},{"$f":"CORREL($B$1:B70,$M$1:M70)","v":{"$error":"#N/A"}},{"$f":"'Sheet3 (3)'!W70","v":3.76889802561134E-3},{"$f":"CORREL($B$1:B70,$O$1:O70)","v":{"$error":"#N/A"}},{"$f":"'Sheet3 (3)'!Y70","v":3.4081710901883518E-4},{"$f":"CORREL($B$1:B70,$Q$1:Q70)","v":{"$error":"#N/A"}},{"$f":"'Sheet3 (3)'!AA70","v":-4.3016303178804554E-5},{"$f":"CORREL($B$1:B70,$S$1:S70)","v":{"$error":"#N/A"}}]
[null,{"$f":"'Sheet3 (3)'!I71","v":{"$error":"#N/A"}},{"$f":"'Sheet3 (3)'!K71","v":-1.2787723785174298E-4},{"$f":"CORREL($B$1:B71,$C$1:C71)","v":{"$error":"#N/A"}},{"$f":"'Sheet3 (3)'!M71","v":-6.0149101999321291E-3},{"$f":"CORREL($B$1:B71,$E$1:E71)","v":{"$error":"#N/A"}},{"$f":"'Sheet3 (3)'!O71","v":-5.5042763993567567E-4},{"$f":"CORREL($B$1:B71,$G$1:G71)","v":{"$error":"#N/A"}},{"$f":"'Sheet3 (3)'!Q71","v":2.964845404488356E-4},{"$f":"CORREL($B$1:B71,$I$1:I71)","v":{"$error":"#N/A"}},{"$f":"'Sheet3 (3)'!S71","v":5.1954688697725872E-3},{"$f":"CORREL($B$1:B71,$K$1:K71)","v":{"$error":"#N/A"}},{"$f":"'Sheet3 (3)'!U71","v":2.1767894489733491E-3},{"$f":"CORREL($B$1:B71,$M$1:M71)","v":{"$error":"#N/A"}},{"$f":"'Sheet3 (3)'!W71","v":3.5975844789926602E-3},{"$f":"CORREL($B$1:B71,$O$1:O71)","v":{"$error":"#N/A"}},{"$f":"'Sheet3 (3)'!Y71","v":1.7040855450941759E-4},{"$f":"CORREL($B$1:B71,$Q$1:Q71)","v":{"$error":"#N/A"}},{"$f":"'Sheet3 (3)'!AA71","v":2.5809781907340041E-4},{"$f":"CORREL($B$1:B71,$S$1:S71)","v":{"$error":"#N/A"}}]
[null,{"$f":"'Sheet3 (3)'!I72","v":{"$error":"#N/A"}},{"$f":"'Sheet3 (3)'!K72","v":-3.836317135550396E-4},{"$f":"CORREL($B$1:B72,$C$1:C72)","v":{"$error":"#N/A"}},{"$f":"'Sheet3 (3)'!M72","v":-6.269061335140505E-3},{"$f":"CORREL($B$1:B72,$E$1:E72)","v":{"$error":"#N/A"}},{"$f":"'Sheet3 (3)'!O72","v":-4.2340587687371238E-4},{"$f":"CORREL($B$1:B72,$G$1:G72)","v":{"$error":"#N/A"}},{"$f":"'Sheet3 (3)'!Q72","v":3.388394747987767E-4},{"$f":"CORREL($B$1:B72,$I$1:I72)","v":{"$error":"#N/A"}},{"$f":"'Sheet3 (3)'!S72","v":5.4509837322205806E-3},{"$f":"CORREL($B$1:B72,$K$1:K72)","v":{"$error":"#N/A"}},{"$f":"'Sheet3 (3)'!U72","v":2.2621537410899475E-3},{"$f":"CORREL($B$1:B72,$M$1:M72)","v":{"$error":"#N/A"}},{"$f":"'Sheet3 (3)'!W72","v":3.5975844789926602E-3},{"$f":"CORREL($B$1:B72,$O$1:O72)","v":{"$error":"#N/A"}},{"$f":"'Sheet3 (3)'!Y72","v":0},{"$f":"CORREL($B$1:B72,$Q$1:Q72)","v":{"$error":"#N/A"}},{"$f":"'Sheet3 (3)'!AA72","v":0},{"$f":"CORREL($B$1:B72,$S$1:S72)","v":{"$error":"#N/A"}}]
[null,{"$f":"'Sheet3 (3)'!I73","v":{"$error":"#N/A"}},{"$f":"'Sheet3 (3)'!K73","v":-6.3938618925833625E-4},{"$f":"CORREL($B$1:B73,$C$1:C73)","v":{"$error":"#N/A"}},{"$f":"'Sheet3 (3)'!M73","v":-6.4384954252794217E-3},{"$f":"CORREL($B$1:B73,$E$1:E73)","v":{"$error":"#N/A"}},{"$f":"'Sheet3 (3)'!O73","v":-4.6574646456097081E-4},{"$f":"CORREL($B$1:B73,$G$1:G73)","v":{"$error":"#N/A"}},{"$f":"'Sheet3 (3)'!Q73","v":4.2354934349847088E-4},{"$f":"CORREL($B$1:B73,$I$1:I73)","v":{"$error":"#N/A"}},{"$f":"'Sheet3 (3)'!S73","v":5.6213269738524503E-3},{"$f":"CORREL($B$1:B73,$K$1:K73)","v":{"$error":"#N/A"}},{"$f":"'Sheet3 (3)'!U73","v":2.4328823253231438E-3},{"$f":"CORREL($B$1:B73,$M$1:M73)","v":{"$error":"#N/A"}},{"$f":"'Sheet3 (3)'!W73","v":3.5975844789926602E-3},{"$f":"CORREL($B$1:B73,$O$1:O73)","v":{"$error":"#N/A"}},{"$f":"'Sheet3 (3)'!Y73","v":-2.982149703915754E-4},{"$f":"CORREL($B$1:B73,$Q$1:Q73)","v":{"$error":"#N/A"}},{"$f":"'Sheet3 (3)'!AA73","v":4.3016303178995583E-5},{"$f":"CORREL($B$1:B73,$S$1:S73)","v":{"$error":"#N/A"}}]
[null,{"$f":"'Sheet3 (3)'!I74","v":{"$error":"#N/A"}},{"$f":"'Sheet3 (3)'!K74","v":-5.115089514065933E-4},{"$f":"CORREL($B$1:B74,$C$1:C74)","v":{"$error":"#N/A"}},{"$f":"'Sheet3 (3)'!M74","v":-5.9301931548626698E-3},{"$f":"CORREL($B$1:B74,$E$1:E74)","v":{"$error":"#N/A"}},{"$f":"'Sheet3 (3)'!O74","v":-4.6574646456097081E-4},{"$f":"CORREL($B$1:B74,$G$1:G74)","v":{"$error":"#N/A"}},{"$f":"'Sheet3 (3)'!Q74","v":4.2354934349847088E-4},{"$f":"CORREL($B$1:B74,$I$1:I74)","v":{"$error":"#N/A"}},{"$f":"'Sheet3 (3)'!S74","v":5.6213269738524503E-3},{"$f":"CORREL($B$1:B74,$K$1:K74)","v":{"$error":"#N/A"}},{"$f":"'Sheet3 (3)'!U74","v":2.4328823253231438E-3},{"$f":"CORREL($B$1:B74,$M$1:M74)","v":{"$error":"#N/A"}},{"$f":"'Sheet3 (3)'!W74","v":3.76889802561134E-3},{"$f":"CORREL($B$1:B74,$O$1:O74)","v":{"$error":"#N/A"}},{"$f":"'Sheet3 (3)'!Y74","v":-2.982149703915754E-4},{"$f":"CORREL($B$1:B74,$Q$1:Q74)","v":{"$error":"#N/A"}},{"$f":"'Sheet3 (3)'!AA74","v":0},{"$f":"CORREL($B$1:B74,$S$1:S74)","v":{"$error":"#N/A"}}]
[null,{"$f":"'Sheet3 (3)'!I75","v":{"$error":"#N/A"}},{"$f":"'Sheet3 (3)'!K75","v":-3.836317135550396E-4},{"$f":"CORREL($B$1:B75,$C$1:C75)","v":{"$error":"#N/A"}},{"$f":"'Sheet3 (3)'!M75","v":-6.0996272450015874E-3},{"$f":"CORREL($B$1:B75,$E$1:E75)","v":{"$error":"#N/A"}},{"$f":"'Sheet3 (3)'!O75","v":-2.9638411381156105E-4},{"$f":"CORREL($B$1:B75,$G$1:G75)","v":{"$error":"#N/A"}},{"$f":"'Sheet3 (3)'!Q75","v":4.2354934349847088E-4},{"$f":"CORREL($B$1:B75,$I$1:I75)","v":{"$error":"#N/A"}},{"$f":"'Sheet3 (3)'!S75","v":5.536155353036515E-3},{"$f":"CORREL($B$1:B75,$K$1:K75)","v":{"$error":"#N/A"}},{"$f":"'Sheet3 (3)'!U75","v":2.5182466174399317E-3},{"$f":"CORREL($B$1:B75,$M$1:M75)","v":{"$error":"#N/A"}},{"$f":"'Sheet3 (3)'!W75","v":3.9402115722300202E-3},{"$f":"CORREL($B$1:B75,$O$1:O75)","v":{"$error":"#N/A"}},{"$f":"'Sheet3 (3)'!Y75","v":-3.4081710901902437E-4},{"$f":"CORREL($B$1:B75,$Q$1:Q75)","v":{"$error":"#N/A"}},{"$f":"'Sheet3 (3)'!AA75","v":1.2904890953679572E-4},{"$f":"CORREL($B$1:B75,$S$1:S75)","v":{"$error":"#N/A"}}]
[null,{"$f":"'Sheet3 (3)'!I76","v":{"$error":"#N/A"}},{"$f":"'Sheet3 (3)'!K76","v":-4.2625745950644088E-5},{"$f":"CORREL($B$1:B76,$C$1:C76)","v":{"$error":"#N/A"}},{"$f":"'Sheet3 (3)'!M76","v":-6.1843442900710458E-3},{"$f":"CORREL($B$1:B76,$E$1:E76)","v":{"$error":"#N/A"}},{"$f":"'Sheet3 (3)'!O76","v":-1.6936235074940974E-4},{"$f":"CORREL($B$1:B76,$G$1:G76)","v":{"$error":"#N/A"}},{"$f":"'Sheet3 (3)'!Q76","v":3.388394747987767E-4},{"$f":"CORREL($B$1:B76,$I$1:I76)","v":{"$error":"#N/A"}},{"$f":"'Sheet3 (3)'!S76","v":5.2806404905885217E-3},{"$f":"CORREL($B$1:B76,$K$1:K76)","v":{"$error":"#N/A"}},{"$f":"'Sheet3 (3)'!U76","v":2.5609287634981359E-3},{"$f":"CORREL($B$1:B76,$M$1:M76)","v":{"$error":"#N/A"}},{"$f":"'Sheet3 (3)'!W76","v":3.8973831855752552E-3},{"$f":"CORREL($B$1:B76,$O$1:O76)","v":{"$error":"#N/A"}},{"$f":"'Sheet3 (3)'!Y76","v":-2.5561283176431558E-4},{"$f":"CORREL($B$1:B76,$Q$1:Q76)","v":{"$error":"#N/A"}},{"$f":"'Sheet3 (3)'!AA76","v":0},{"$f":"CORREL($B$1:B76,$S$1:S76)","v":{"$error":"#N/A"}}]
[null,{"$f":"'Sheet3 (3)'!I77","v":{"$error":"#N/A"}},{"$f":"'Sheet3 (3)'!K77","v":-2.5575447570329665E-4},{"$f":"CORREL($B$1:B77,$C$1:C77)","v":{"$error":"#N/A"}},{"$f":"'Sheet3 (3)'!M77","v":-6.4384954252794217E-3},{"$f":"CORREL($B$1:B77,$E$1:E77)","v":{"$error":"#N/A"}},{"$f":"'Sheet3 (3)'!O77","v":-2.5404352612411462E-4},{"$f":"CORREL($B$1:B77,$G$1:G77)","v":{"$error":"#N/A"}},{"$f":"'Sheet3 (3)'!Q77","v":1.2706480304944723E-4},{"$f":"CORREL($B$1:B77,$I$1:I77)","v":{"$error":"#N/A"}},{"$f":"'Sheet3 (3)'!S77","v":5.3232263009965839E-3},{"$f":"CORREL($B$1:B77,$K$1:K77)","v":{"$error":"#N/A"}},{"$f":"'Sheet3 (3)'!U77","v":2.688975201673128E-3},{"$f":"CORREL($B$1:B77,$M$1:M77)","v":{"$error":"#N/A"}},{"$f":"'Sheet3 (3)'!W77","v":4.0258683455393603E-3},{"$f":"CORREL($B$1:B77,$O$1:O77)","v":{"$error":"#N/A"}},{"$f":"'Sheet3 (3)'!Y77","v":-2.5561283176431558E-4},{"$f":"CORREL($B$1:B77,$Q$1:Q77)","v":{"$error":"#N/A"}},{"$f":"'Sheet3 (3)'!AA77","v":-4.3016303178804554E-5},{"$f":"CORREL($B$1:B77,$S$1:S77)","v":{"$error":"#N/A"}}]
[null,{"$f":"'Sheet3 (3)'!I78","v":{"$error":"#N/A"}},{"$f":"'Sheet3 (3)'!K78","v":-2.1312872975284185E-4},{"$f":"CORREL($B$1:B78,$C$1:C78)","v":{"$error":"#N/A"}},{"$f":"'Sheet3 (3)'!M78","v":-6.3114198576753279E-3},{"$f":"CORREL($B$1:B78,$E$1:E78)","v":{"$error":"#N/A"}},{"$f":"'Sheet3 (3)'!O78","v":-1.6936235074940974E-4},{"$f":"CORREL($B$1:B78,$G$1:G78)","v":{"$error":"#N/A"}},{"$f":"'Sheet3 (3)'!Q78","v":-2.117746717493295E-4},{"$f":"CORREL($B$1:B78,$I$1:I78)","v":{"$error":"#N/A"}},{"$f":"'Sheet3 (3)'!S78","v":5.365812111404457E-3},{"$f":"CORREL($B$1:B78,$K$1:K78)","v":{"$error":"#N/A"}},{"$f":"'Sheet3 (3)'!U78","v":2.9023859319645289E-3},{"$f":"CORREL($B$1:B78,$M$1:M78)","v":{"$error":"#N/A"}},{"$f":"'Sheet3 (3)'!W78","v":4.1971818921580405E-3},{"$f":"CORREL($B$1:B78,$O$1:O78)","v":{"$error":"#N/A"}},{"$f":"'Sheet3 (3)'!Y78","v":-8.5204277254708795E-5},{"$f":"CORREL($B$1:B78,$Q$1:Q78)","v":{"$error":"#N/A"}},{"$f":"'Sheet3 (3)'!AA78","v":2.1508151589459586E-4},{"$f":"CORREL($B$1:B78,$S$1:S78)","v":{"$error":"#N/A"}}]
[null,{"$f":"'Sheet3 (3)'!I79","v":{"$error":"#N/A"}},{"$f":"'Sheet3 (3)'!K79","v":-2.1312872975284185E-4},{"$f":"CORREL($B$1:B79,$C$1:C79)","v":{"$error":"#N/A"}},{"$f":"'Sheet3 (3)'!M79","v":-6.4384954252794217E-3},{"$f":"CORREL($B$1:B79,$E$1:E79)","v":{"$error":"#N/A"}},{"$f":"'Sheet3 (3)'!O79","v":-3.8106528918626596E-4},{"$f":"CORREL($B$1:B79,$G$1:G79)","v":{"$error":"#N/A"}},{"$f":"'Sheet3 (3)'!Q79","v":8.4709868699694174E-5},{"$f":"CORREL($B$1:B79,$I$1:I79)","v":{"$error":"#N/A"}},{"$f":"'Sheet3 (3)'!S79","v":5.365812111404457E-3},{"$f":"CORREL($B$1:B79,$K$1:K79)","v":{"$error":"#N/A"}},{"$f":"'Sheet3 (3)'!U79","v":2.9450680780229227E-3},{"$f":"CORREL($B$1:B79,$M$1:M79)","v":{"$error":"#N/A"}},{"$f":"'Sheet3 (3)'!W79","v":4.0258683455393603E-3},{"$f":"CORREL($B$1:B79,$O$1:O79)","v":{"$error":"#N/A"}},{"$f":"'Sheet3 (3)'!Y79","v":-2.1301069313686658E-4},{"$f":"CORREL($B$1:B79,$Q$1:Q79)","v":{"$error":"#N/A"}},{"$f":"'Sheet3 (3)'!AA79","v":2.1508151589459586E-4},{"$f":"CORREL($B$1:B79,$S$1:S79)","v":{"$error":"#N/A"}}]
[null,{"$f":"'Sheet3 (3)'!I80","v":{"$error":"#N/A"}},{"$f":"'Sheet3 (3)'!K80","v":-2.5575447570329665E-4},{"$f":"CORREL($B$1:B80,$C$1:C80)","v":{"$error":"#N/A"}},{"$f":"'Sheet3 (3)'!M80","v":-6.3961369027447871E-3},{"$f":"CORREL($B$1:B80,$E$1:E80)","v":{"$error":"#N/A"}},{"$f":"'Sheet3 (3)'!O80","v":-4.6574646456097081E-4},{"$f":"CORREL($B$1:B80,$G$1:G80)","v":{"$error":"#N/A"}},{"$f":"'Sheet3 (3)'!Q80","v":4.2354934349753039E-5},{"$f":"CORREL($B$1:B80,$I$1:I80)","v":{"$error":"#N/A"}},{"$f":"'Sheet3 (3)'!S80","v":5.4083979218125184E-3},{"$f":"CORREL($B$1:B80,$K$1:K80)","v":{"$error":"#N/A"}},{"$f":"'Sheet3 (3)'!U80","v":3.0731145161977252E-3},{"$f":"CORREL($B$1:B80,$M$1:M80)","v":{"$error":"#N/A"}},{"$f":"'Sheet3 (3)'!W80","v":4.154353505503275E-3},{"$f":"CORREL($B$1:B80,$O$1:O80)","v":{"$error":"#N/A"}},{"$f":"'Sheet3 (3)'!Y80","v":0},{"$f":"CORREL($B$1:B80,$Q$1:Q80)","v":{"$error":"#N/A"}},{"$f":"'Sheet3 (3)'!AA80","v":6.452445476835965E-4},{"$f":"CORREL($B$1:B80,$S$1:S80)","v":{"$error":"#N/A"}}]
[null,{"$f":"'Sheet3 (3)'!I81","v":{"$error":"#N/A"}},{"$f":"'Sheet3 (3)'!K81","v":-2.1312872975284185E-4},{"$f":"CORREL($B$1:B81,$C$1:C81)","v":{"$error":"#N/A"}},{"$f":"'Sheet3 (3)'!M81","v":-6.4808539478142455E-3},{"$f":"CORREL($B$1:B81,$E$1:E81)","v":{"$error":"#N/A"}},{"$f":"'Sheet3 (3)'!O81","v":-3.8106528918626596E-4},{"$f":"CORREL($B$1:B81,$G$1:G81)","v":{"$error":"#N/A"}},{"$f":"'Sheet3 (3)'!Q81","v":1.2706480304944723E-4},{"$f":"CORREL($B$1:B81,$I$1:I81)","v":{"$error":"#N/A"}},{"$f":"'Sheet3 (3)'!S81","v":5.3232263009965839E-3},{"$f":"CORREL($B$1:B81,$K$1:K81)","v":{"$error":"#N/A"}},{"$f":"'Sheet3 (3)'!U81","v":2.9877502240811269E-3},{"$f":"CORREL($B$1:B81,$M$1:M81)","v":{"$error":"#N/A"}},{"$f":"'Sheet3 (3)'!W81","v":4.2828386654673806E-3},{"$f":"CORREL($B$1:B81,$O$1:O81)","v":{"$error":"#N/A"}},{"$f":"'Sheet3 (3)'!Y81","v":2.5561283176412638E-4},{"$f":"CORREL($B$1:B81,$Q$1:Q81)","v":{"$error":"#N/A"}},{"$f":"'Sheet3 (3)'!AA81","v":4.3016303178900069E-4},{"$f":"CORREL($B$1:B81,$S$1:S81)","v":{"$error":"#N/A"}}]
[null,{"$f":"'Sheet3 (3)'!I82","v":{"$error":"#N/A"}},{"$f":"'Sheet3 (3)'!K82","v":-1.7050298380219775E-4},{"$f":"CORREL($B$1:B82,$C$1:C82)","v":{"$error":"#N/A"}},{"$f":"'Sheet3 (3)'!M82","v":-6.3961369027447871E-3},{"$f":"CORREL($B$1:B82,$E$1:E82)","v":{"$error":"#N/A"}},{"$f":"'Sheet3 (3)'!O82","v":-4.6574646456097081E-4},{"$f":"CORREL($B$1:B82,$G$1:G82)","v":{"$error":"#N/A"}},{"$f":"'Sheet3 (3)'!Q82","v":2.964845404488356E-4},{"$f":"CORREL($B$1:B82,$I$1:I82)","v":{"$error":"#N/A"}},{"$f":"'Sheet3 (3)'!S82","v":5.4083979218125184E-3},{"$f":"CORREL($B$1:B82,$K$1:K82)","v":{"$error":"#N/A"}},{"$f":"'Sheet3 (3)'!U82","v":2.9023859319645289E-3},{"$f":"CORREL($B$1:B82,$M$1:M82)","v":{"$error":"#N/A"}},{"$f":"'Sheet3 (3)'!W82","v":4.3684954387767198E-3},{"$f":"CORREL($B$1:B82,$O$1:O82)","v":{"$error":"#N/A"}},{"$f":"'Sheet3 (3)'!Y82","v":3.4081710901883518E-4},{"$f":"CORREL($B$1:B82,$Q$1:Q82)","v":{"$error":"#N/A"}},{"$f":"'Sheet3 (3)'!AA82","v":5.1619563814680081E-4},{"$f":"CORREL($B$1:B82,$S$1:S82)","v":{"$error":"#N/A"}}]
[null,{"$f":"'Sheet3 (3)'!I83","v":{"$error":"#N/A"}},{"$f":"'Sheet3 (3)'!K83","v":-1.2787723785174298E-4},{"$f":"CORREL($B$1:B83,$C$1:C83)","v":{"$error":"#N/A"}},{"$f":"'Sheet3 (3)'!M83","v":-6.5655709928837038E-3},{"$f":"CORREL($B$1:B83,$E$1:E83)","v":{"$error":"#N/A"}},{"$f":"'Sheet3 (3)'!O83","v":-4.2340587687371238E-4},{"$f":"CORREL($B$1:B83,$G$1:G83)","v":{"$error":"#N/A"}},{"$f":"'Sheet3 (3)'!Q83","v":3.388394747987767E-4},{"$f":"CORREL($B$1:B83,$I$1:I83)","v":{"$error":"#N/A"}},{"$f":"'Sheet3 (3)'!S83","v":5.536155353036515E-3},{"$f":"CORREL($B$1:B83,$K$1:K83)","v":{"$error":"#N/A"}},{"$f":"'Sheet3 (3)'!U83","v":3.030432370139521E-3},{"$f":"CORREL($B$1:B83,$M$1:M83)","v":{"$error":"#N/A"}},{"$f":"'Sheet3 (3)'!W83","v":4.4541522120860599E-3},{"$f":"CORREL($B$1:B83,$O$1:O83)","v":{"$error":"#N/A"}},{"$f":"'Sheet3 (3)'!Y83","v":4.2602138627354397E-4},{"$f":"CORREL($B$1:B83,$Q$1:Q83)","v":{"$error":"#N/A"}},{"$f":"'Sheet3 (3)'!AA83","v":6.452445476835965E-4},{"$f":"CORREL($B$1:B83,$S$1:S83)","v":{"$error":"#N/A"}}]
[null,{"$f":"'Sheet3 (3)'!I84","v":{"$error":"#N/A"}},{"$f":"'Sheet3 (3)'!K84","v":-1.2787723785174298E-4},{"$f":"CORREL($B$1:B84,$C$1:C84)","v":{"$error":"#N/A"}},{"$f":"'Sheet3 (3)'!M84","v":-6.5655709928837038E-3},{"$f":"CORREL($B$1:B84,$E$1:E84)","v":{"$error":"#N/A"}},{"$f":"'Sheet3 (3)'!O84","v":-3.3872470149881947E-4},{"$f":"CORREL($B$1:B84,$G$1:G84)","v":{"$error":"#N/A"}},{"$f":"'Sheet3 (3)'!Q84","v":1.6941973739938835E-4},{"$f":"CORREL($B$1:B84,$I$1:I84)","v":{"$error":"#N/A"}},{"$f":"'Sheet3 (3)'!S84","v":5.2806404905885217E-3},{"$f":"CORREL($B$1:B84,$K$1:K84)","v":{"$error":"#N/A"}},{"$f":"'Sheet3 (3)'!U84","v":3.4145716846643078E-3},{"$f":"CORREL($B$1:B84,$M$1:M84)","v":{"$error":"#N/A"}},{"$f":"'Sheet3 (3)'!W84","v":4.3684954387767198E-3},{"$f":"CORREL($B$1:B84,$O$1:O84)","v":{"$error":"#N/A"}},{"$f":"'Sheet3 (3)'!Y84","v":6.8163421803767036E-4},{"$f":"CORREL($B$1:B84,$Q$1:Q84)","v":{"$error":"#N/A"}},{"$f":"'Sheet3 (3)'!AA84","v":6.8826085086240104E-4},{"$f":"CORREL($B$1:B84,$S$1:S84)","v":{"$error":"#N/A"}}]
[null,{"$f":"'Sheet3 (3)'!I85","v":{"$error":"#N/A"}},{"$f":"'Sheet3 (3)'!K85","v":-3.410059676043955E-4},{"$f":"CORREL($B$1:B85,$C$1:C85)","v":{"$error":"#N/A"}},{"$f":"'Sheet3 (3)'!M85","v":-6.269061335140505E-3},{"$f":"CORREL($B$1:B85,$E$1:E85)","v":{"$error":"#N/A"}},{"$f":"'Sheet3 (3)'!O85","v":-3.8106528918626596E-4},{"$f":"CORREL($B$1:B85,$G$1:G85)","v":{"$error":"#N/A"}},{"$f":"'Sheet3 (3)'!Q85","v":3.388394747987767E-4},{"$f":"CORREL($B$1:B85,$I$1:I85)","v":{"$error":"#N/A"}},{"$f":"'Sheet3 (3)'!S85","v":5.5787411634443881E-3},{"$f":"CORREL($B$1:B85,$K$1:K85)","v":{"$error":"#N/A"}},{"$f":"'Sheet3 (3)'!U85","v":3.2438431004309216E-3},{"$f":"CORREL($B$1:B85,$M$1:M85)","v":{"$error":"#N/A"}},{"$f":"'Sheet3 (3)'!W85","v":4.4113238254314853E-3},{"$f":"CORREL($B$1:B85,$O$1:O85)","v":{"$error":"#N/A"}},{"$f":"'Sheet3 (3)'!Y85","v":7.2423635666511938E-4},{"$f":"CORREL($B$1:B85,$Q$1:Q85)","v":{"$error":"#N/A"}},{"$f":"'Sheet3 (3)'!AA85","v":8.1730976039919685E-4},{"$f":"CORREL($B$1:B85,$S$1:S85)","v":{"$error":"#N/A"}}]
[null,{"$f":"'Sheet3 (3)'!I86","v":{"$error":"#N/A"}},{"$f":"'Sheet3 (3)'!K86","v":-3.410059676043955E-4},{"$f":"CORREL($B$1:B86,$C$1:C86)","v":{"$error":"#N/A"}},{"$f":"'Sheet3 (3)'!M86","v":-6.1843442900710458E-3},{"$f":"CORREL($B$1:B86,$E$1:E86)","v":{"$error":"#N/A"}},{"$f":"'Sheet3 (3)'!O86","v":-4.2340587687371238E-4},{"$f":"CORREL($B$1:B86,$G$1:G86)","v":{"$error":"#N/A"}},{"$f":"'Sheet3 (3)'!Q86","v":2.1177467174914139E-4},{"$f":"CORREL($B$1:B86,$I$1:I86)","v":{"$error":"#N/A"}},{"$f":"'Sheet3 (3)'!S86","v":5.5787411634443881E-3},{"$f":"CORREL($B$1:B86,$K$1:K86)","v":{"$error":"#N/A"}},{"$f":"'Sheet3 (3)'!U86","v":3.030432370139521E-3},{"$f":"CORREL($B$1:B86,$M$1:M86)","v":{"$error":"#N/A"}},{"$f":"'Sheet3 (3)'!W86","v":4.3684954387767198E-3},{"$f":"CORREL($B$1:B86,$O$1:O86)","v":{"$error":"#N/A"}},{"$f":"'Sheet3 (3)'!Y86","v":9.3724704980179679E-4},{"$f":"CORREL($B$1:B86,$Q$1:Q86)","v":{"$error":"#N/A"}},{"$f":"'Sheet3 (3)'!AA86","v":8.1730976039919685E-4},{"$f":"CORREL($B$1:B86,$S$1:S86)","v":{"$error":"#N/A"}}]
[null,{"$f":"'Sheet3 (3)'!I87","v":{"$error":"#N/A"}},{"$f":"'Sheet3 (3)'!K87","v":-2.5575447570329665E-4},{"$f":"CORREL($B$1:B87,$C$1:C87)","v":{"$error":"#N/A"}},{"$f":"'Sheet3 (3)'!M87","v":-6.1843442900710458E-3},{"$f":"CORREL($B$1:B87,$E$1:E87)","v":{"$error":"#N/A"}},{"$f":"'Sheet3 (3)'!O87","v":-3.8106528918626596E-4},{"$f":"CORREL($B$1:B87,$G$1:G87)","v":{"$error":"#N/A"}},{"$f":"'Sheet3 (3)'!Q87","v":3.388394747987767E-4},{"$f":"CORREL($B$1:B87,$I$1:I87)","v":{"$error":"#N/A"}},{"$f":"'Sheet3 (3)'!S87","v":5.4509837322205806E-3},{"$f":"CORREL($B$1:B87,$K$1:K87)","v":{"$error":"#N/A"}},{"$f":"'Sheet3 (3)'!U87","v":2.9877502240811269E-3},{"$f":"CORREL($B$1:B87,$M$1:M87)","v":{"$error":"#N/A"}},{"$f":"'Sheet3 (3)'!W87","v":4.3684954387767198E-3},{"$f":"CORREL($B$1:B87,$O$1:O87)","v":{"$error":"#N/A"}},{"$f":"'Sheet3 (3)'!Y87","v":9.3724704980179679E-4},{"$f":"CORREL($B$1:B87,$Q$1:Q87)","v":{"$error":"#N/A"}},{"$f":"'Sheet3 (3)'!AA87","v":8.1730976039919685E-4},{"$f":"CORREL($B$1:B87,$S$1:S87)","v":{"$error":"#N/A"}}]
[]
[]
[null,null,null,{"$f":"'Sheet3 (3)'!C2","v":"2018-07-12"},null,{"$f":"'Sheet3 (3)'!C3","v":"2018-07-11"},null,{"$f":"'Sheet3 (3)'!C4","v":"2018-07-10"},null,{"$f":"'Sheet3 (3)'!C5","v":"2018-07-09"},null,{"$f":"'Sheet3 (3)'!C6","v":"2018-07-06"},null,{"$f":"'Sheet3 (3)'!C7","v":"2018-07-05"},null,{"$f":"'Sheet3 (3)'!C8","v":"2018-07-03"},null,{"$f":"'Sheet3 (3)'!C9","v":"2018-06-29"},null,{"$f":"'Sheet3 (3)'!C10","v":"2018-06-28"}]
[null,null,null,{"$f":"LOOKUP(2,1/(ISNUMBER(D1:D87)),D1:D87)","v":0.61039141707963684},null,{"$f":"LOOKUP(2,1/(ISNUMBER(F1:F87)),F1:F87)","v":-0.92920926177476126},null,{"$f":"LOOKUP(2,1/(ISNUMBER(H1:H87)),H1:H87)","v":0.66726929963652493},null,{"$f":"LOOKUP(2,1/(ISNUMBER(J1:J87)),J1:J87)","v":-0.68227894365433428},null,{"$f":"LOOKUP(2,1/(ISNUMBER(L1:L87)),L1:L87)","v":9.7937606964019847E-2},null,{"$f":"LOOKUP(2,1/(ISNUMBER(N1:N87)),N1:N87)","v":-7.8525966641727604E-2},null,{"$f":"LOOKUP(2,1/(ISNUMBER(P1:P87)),P1:P87)","v":0.4390441843929842},null,{"$f":"LOOKUP(2,1/(ISNUMBER(R1:R87)),R1:R87)","v":0.9232534879616654},null,{"$f":"LOOKUP(2,1/(ISNUMBER(T1:T87)),T1:T87)","v":0.47084773723720791}]
[]
[null,null,{"$f":"RANK(D93,$D$93:$D$101,0)+COUNTIF($D$93:D93,D93)-1","v":3},{"$f":"D91","v":0.61039141707963684},{"$f":"D90","v":"2018-07-12"},{"$f":"RANK(D93,$D$93:$D$101,0)+COUNTIF($D$93:D93,D93)-1","v":3},{"$f":"VLOOKUP(1,C93:E101,3,FALSE)","v":"2018-06-29"},{"$f":"VLOOKUP(1,C93:E101,2,FALSE)","v":0.9232534879616654},{"$f":"IFERROR(VLOOKUP(G93,'Sheet3 (3)'!AK1:AN10,4,FALSE),1)","v":8}]
[null,null,{"$f":"RANK(D94,$D$93:$D$101,0)+COUNTIF($D$93:D94,D94)-1","v":9},{"$f":"F91","v":-0.92920926177476126},{"$f":"F90","v":"2018-07-11"},{"$f":"RANK(D94,$D$93:$D$101,0)+COUNTIF($D$93:D94,D94)-1","v":9},{"$f":"VLOOKUP(2,C93:E101,3,FALSE)","v":"2018-07-10"},{"$f":"VLOOKUP(2,C93:E101,2,FALSE)","v":0.66726929963652493}]
[null,null,{"$f":"RANK(D95,$D$93:$D$101,0)+COUNTIF($D$93:D95,D95)-1","v":2},{"$f":"H91","v":0.66726929963652493},{"$f":"H90","v":"2018-07-10"},{"$f":"RANK(D95,$D$93:$D$101,0)+COUNTIF($D$93:D95,D95)-1","v":2},{"$f":"VLOOKUP(3,C93:E101,3,FALSE)","v":"2018-07-12"},{"$f":"VLOOKUP(3,C93:E101,2,FALSE)","v":0.61039141707963684}]
[null,null,{"$f":"RANK(D96,$D$93:$D$101,0)+COUNTIF($D$93:D96,D96)-1","v":8},{"$f":"J91","v":-0.68227894365433428},{"$f":"J90","v":"2018-07-09"},{"$f":"RANK(D96,$D$93:$D$101,0)+COUNTIF($D$93:D96,D96)-1","v":8},{"$f":"VLOOKUP(4,C93:E101,3,FALSE)","v":"2018-06-28"},{"$f":"VLOOKUP(4,C93:E101,2,FALSE)","v":0.47084773723720791}]
[null,null,{"$f":"RANK(D97,$D$93:$D$101,0)+COUNTIF($D$93:D97,D97)-1","v":6},{"$f":"L91","v":9.7937606964019847E-2},{"$f":"L90","v":"2018-07-06"},{"$f":"RANK(D97,$D$93:$D$101,0)+COUNTIF($D$93:D97,D97)-1","v":6},{"$f":"VLOOKUP(5,C93:E101,3,FALSE)","v":"2018-07-03"},{"$f":"VLOOKUP(5,C93:E101,2,FALSE)","v":0.4390441843929842}]
[null,null,{"$f":"RANK(D98,$D$93:$D$101,0)+COUNTIF($D$93:D98,D98)-1","v":7},{"$f":"N91","v":-7.8525966641727604E-2},{"$f":"N90","v":"2018-07-05"},{"$f":"RANK(D98,$D$93:$D$101,0)+COUNTIF($D$93:D98,D98)-1","v":7},{"$f":"VLOOKUP(6,C93:E101,3,FALSE)","v":"2018-07-06"},{"$f":"VLOOKUP(6,C93:E101,2,FALSE)","v":9.7937606964019847E-2}]
[null,null,{"$f":"RANK(D99,$D$93:$D$101,0)+COUNTIF($D$93:D99,D99)-1","v":5},{"$f":"P91","v":0.4390441843929842},{"$f":"P90","v":"2018-07-03"},{"$f":"RANK(D99,$D$93:$D$101,0)+COUNTIF($D$93:D99,D99)-1","v":5},{"$f":"VLOOKUP(7,C93:E101,3,FALSE)","v":"2018-07-05"},{"$f":"VLOOKUP(7,C93:E101,2,FALSE)","v":-7.8525966641727604E-2}]
[null,null,{"$f":"RANK(D100,$D$93:$D$101,0)+COUNTIF($D$93:D100,D100)-1","v":1},{"$f":"R91","v":0.9232534879616654},{"$f":"R90","v":"2018-06-29"},{"$f":"RANK(D100,$D$93:$D$101,0)+COUNTIF($D$93:D100,D100)-1","v":1},{"$f":"VLOOKUP(8,C93:E101,3,FALSE)","v":"2018-07-09"},{"$f":"VLOOKUP(8,C93:E101,2,FALSE)","v":-0.68227894365433428}]
[null,null,{"$f":"RANK(D101,$D$93:$D$101,0)+COUNTIF($D$93:D101,D101)-1","v":4},{"$f":"T91","v":0.47084773723720791},{"$f":"T90","v":"2018-06-28"},{"$f":"RANK(D101,$D$93:$D$101,0)+COUNTIF($D$93:D101,D101)-1","v":4},{"$f":"VLOOKUP(9,C93:E101,3,FALSE)","v":"2018-07-11"},{"$f":"VLOOKUP(9,C93:E101,2,FALSE)","v":-0.92920926177476126}]

{"sheet":"Sheet3 (4)","index":7,"n_rows":81,"n_cols":40,"rows_kept":81,"cut":false,"hidden":true,"merged":[]}
[{"$f":"IF(D12=\"EDA\",8,180)","v":180},"08:00:00",{"$f":" RTD(\"cqg.rtd\",,\"StudyData\",$D$12, \"Bar\", \"\", \"Time\",\"D\",\"0\",,,,,\"T\")","v":"2018-07-13"},{"$f":"YEAR(C1)","v":2018},{"$f":"MONTH(C1)","v":7},{"$f":"DAY(C1)","v":13},null,{"$f":"RTD(\"cqg.rtd\",,\"StudyData\", \"Close(\"&$D$12&\") when LocalYear(\"&$D$12&\")=\"&$D$1&\" and localMonth(\"&$D$12&\") =\"&$E$1&\" and LocalDay(\"&$D$12&\")=\"&$F$1&\" and Barix(\"&$D$12&\",reference:=StartOfSession)=\"&A1&\"\", \"Bar\", \"\", \"Close\",\"5\",\"0\",\"PrimaryOnly\",,,\"False\",\"T\",\"EveryTick\")","v":120.3125},{"$f":"IFERROR((H1-$G$2)/$G$2,NA())","v":1.3003901170351106E-3},{"$f":"RTD(\"cqg.rtd\",,\"StudyData\", \"Close(\"&$D$12&\") when LocalYear(\"&$D$12&\")=\"&$D$2&\" and localMonth(\"&$D$12&\") =\"&$E$2&\" and LocalDay(\"&$D$12&\")=\"&$F$2&\" and Barix(\"&$D$12&\",reference:=StartOfSession)=\"&A1&\"\", \"Bar\", \"\", \"Close\",\"5\",\"0\",\"PrimaryOnly\",,,\"False\",\"T\",\"EveryTick\")","v":120.09375},{"$f":"IFERROR((J1-$G$3)/$G$3,NA())","v":-1.2993762993762994E-3},{"$f":"RTD(\"cqg.rtd\",,\"StudyData\", \"Close(\"&$D$12&\") when LocalYear(\"&$D$12&\")=\"&$D$3&\" and localMonth(\"&$D$12&\") =\"&$E$3&\" and LocalDay(\"&$D$12&\")=\"&$F$3&\" and Barix(\"&$D$12&\",reference:=StartOfSession)=\"&A1&\"\", \"Bar\", \"\", \"Close\",\"5\",\"0\",\"PrimaryOnly\",,,\"False\",\"T\",\"EveryTick\")","v":120.15625},{"$f":"IFERROR((L1-$G$4)/$G$4,NA())","v":1.1717224319750033E-3},{"$f":"RTD(\"cqg.rtd\",,\"StudyData\", \"Close(\"&$D$12&\") when LocalYear(\"&$D$12&\")=\"&$D$4&\" and localMonth(\"&$D$12&\") =\"&$E$4&\" and LocalDay(\"&$D$12&\")=\"&$F$4&\" and Barix(\"&$D$12&\",reference:=StartOfSession)=\"&A1&\"\", \"Bar\", \"\", \"Close\",\"5\",\"0\",\"PrimaryOnly\",,,\"False\",\"T\",\"EveryTick\")","v":120.03125},{"$f":"IFERROR((N1-$G$5)/$G$5,NA())","v":-7.804370447450572E-4},{"$f":"RTD(\"cqg.rtd\",,\"StudyData\", \"Close(\"&$D$12&\") when LocalYear(\"&$D$12&\")=\"&$D$5&\" and localMonth(\"&$D$12&\") =\"&$E$5&\" and LocalDay(\"&$D$12&\")=\"&$F$5&\" and Barix(\"&$D$12&\",reference:=StartOfSession)=\"&A1&\"\", \"Bar\", \"\", \"Close\",\"5\",\"0\",\"PrimaryOnly\",,,\"False\",\"T\",\"EveryTick\")","v":120.15625},{"$f":"IFERROR((P1-$G$6)/$G$6,NA())","v":-1.5580368735393405E-3},{"$f":"RTD(\"cqg.rtd\",,\"StudyData\", \"Close(\"&$D$12&\") when LocalYear(\"&$D$12&\")=\"&$D$6&\" and localMonth(\"&$D$12&\") =\"&$E$6&\" and LocalDay(\"&$D$12&\")=\"&$F$6&\" and Barix(\"&$D$12&\",reference:=StartOfSession)=\"&A1&\"\", \"Bar\", \"\", \"Close\",\"5\",\"0\",\"PrimaryOnly\",,,\"False\",\"T\",\"EveryTick\")","v":120.46875},{"$f":"IFERROR((R1-$G$7)/$G$7,NA())","v":1.8191268191268192E-3},{"$f":"RTD(\"cqg.rtd\",,\"StudyData\", \"Close(\"&$D$12&\") when LocalYear(\"&$D$12&\")=\"&$D$7&\" and localMonth(\"&$D$12&\") =\"&$E$7&\" and LocalDay(\"&$D$12&\")=\"&$F$7&\" and Barix(\"&$D$12&\",reference:=StartOfSession)=\"&A1&\"\", \"Bar\", \"\", \"Close\",\"5\",\"0\",\"PrimaryOnly\",,,\"False\",\"T\",\"EveryTick\")","v":120.234375},{"$f":"IFERROR((T1-$G$8)/$G$8,NA())","v":-6.4935064935064935E-4},{"$f":"RTD(\"cqg.rtd\",,\"StudyData\", \"Close(\"&$D$12&\") when LocalYear(\"&$D$12&\")=\"&$D$8&\" and localMonth(\"&$D$12&\") =\"&$E$8&\" and LocalDay(\"&$D$12&\")=\"&$F$8&\" and Barix(\"&$D$12&\",reference:=StartOfSession)=\"&A1&\"\", \"Bar\", \"\", \"Close\",\"5\",\"0\",\"PrimaryOnly\",,,\"False\",\"T\",\"EveryTick\")","v":120.046875},{"$f":"IFERROR((V1-$G$9)/$G$9,NA())","v":-2.6024723487312948E-4},{"$f":"RTD(\"cqg.rtd\",,\"StudyData\", \"Close(\"&$D$12&\") when LocalYear(\"&$D$12&\")=\"&$D$9&\" and localMonth(\"&$D$12&\") =\"&$E$9&\" and LocalDay(\"&$D$12&\")=\"&$F$9&\" and Barix(\"&$D$12&\",reference:=StartOfSession)=\"&A1&\"\", \"Bar\", \"\", \"Close\",\"5\",\"0\",\"PrimaryOnly\",,,\"False\",\"T\",\"EveryTick\")","v":120.234375},{"$f":"IFERROR((X1-$G$10)/$G$10,NA())","v":3.9001560062402497E-4},{"$f":"RTD(\"cqg.rtd\",,\"StudyData\", \"Close(\"&$D$12&\") when LocalYear(\"&$D$12&\")=\"&$D$10&\" and localMonth(\"&$D$12&\") =\"&$E$10&\" and LocalDay(\"&$D$12&\")=\"&$F$10&\" and Barix(\"&$D$12&\",reference:=StartOfSession)=\"&A1&\"\", \"Bar\", \"\", \"Close\",\"5\",\"0\",\"PrimaryOnly\",,,\"False\",\"T\",\"EveryTick\")","v":120.203125},{"$f":"IFERROR((Z1-$G$11)/$G$11,NA())","v":1.3000520020800833E-4},{"$f":"RANK(AD1,$AD$1:$AD$10)+COUNTIF($AD$1:AD1,AD1)-1","v":2},{"$f":"DATE(D1,E1,F1)","v":"2018-07-13"},{"$f":"VLOOKUP(MAX(AE2:AE81),A1:I81,9,FALSE)","v":1.3003901170351106E-3},null,1,{"$f":"VLOOKUP(AF1,$AB$1:$AD$10,2,FALSE)","v":"2018-07-03"},{"$f":"VLOOKUP(AF1,$AB$1:$AD$10,3,FALSE)","v":1.9518542615484711E-3},null,null,{"$f":"AG1","v":"2018-07-03"},{"$f":"AC1","v":"2018-07-13"},0,{"$f":"VLOOKUP(AK1,$AL$1:$AM$10,2,FALSE)","v":7}]
[{"$f":"A1+1","v":181},"08:05:00",{"$f":" RTD(\"cqg.rtd\",,\"StudyData\",$D$12, \"Bar\", \"\", \"Time\",\"D\",\"-1\",,,,,\"T\")","v":"2018-07-12"},{"$f":"YEAR(C2)","v":2018},{"$f":"MONTH(C2)","v":7},{"$f":"DAY(C2)","v":12},{"$f":"RTD(\"cqg.rtd\",,\"StudyData\",$D$12,\"Bar\",,\"Close\",\"D\",\"-1\",,,,,\"T\")","v":120.15625},{"$f":"RTD(\"cqg.rtd\",,\"StudyData\", \"Close(\"&$D$12&\") when LocalYear(\"&$D$12&\")=\"&$D$1&\" and localMonth(\"&$D$12&\") =\"&$E$1&\" and LocalDay(\"&$D$12&\")=\"&$F$1&\" and Barix(\"&$D$12&\",reference:=StartOfSession)=\"&A2&\"\", \"Bar\", \"\", \"Close\",\"5\",\"0\",\"PrimaryOnly\",,,\"False\",\"T\",\"EveryTick\")","v":120.296875},{"$f":"IFERROR((H2-$G$2)/$G$2,NA())","v":1.1703511053315994E-3},{"$f":"RTD(\"cqg.rtd\",,\"StudyData\", \"Close(\"&$D$12&\") when LocalYear(\"&$D$12&\")=\"&$D$2&\" and localMonth(\"&$D$12&\") =\"&$E$2&\" and LocalDay(\"&$D$12&\")=\"&$F$2&\" and Barix(\"&$D$12&\",reference:=StartOfSession)=\"&A2&\"\", \"Bar\", \"\", \"Close\",\"5\",\"0\",\"PrimaryOnly\",,,\"False\",\"T\",\"EveryTick\")","v":120.09375},{"$f":"IFERROR((J2-$G$3)/$G$3,NA())","v":-1.2993762993762994E-3},{"$f":"RTD(\"cqg.rtd\",,\"StudyData\", \"Close(\"&$D$12&\") when LocalYear(\"&$D$12&\")=\"&$D$3&\" and localMonth(\"&$D$12&\") =\"&$E$3&\" and LocalDay(\"&$D$12&\")=\"&$F$3&\" and Barix(\"&$D$12&\",reference:=StartOfSession)=\"&A2&\"\", \"Bar\", \"\", \"Close\",\"5\",\"0\",\"PrimaryOnly\",,,\"False\",\"T\",\"EveryTick\")","v":120.1875},{"$f":"IFERROR((L2-$G$4)/$G$4,NA())","v":1.4321051946361151E-3},{"$f":"RTD(\"cqg.rtd\",,\"StudyData\", \"Close(\"&$D$12&\") when LocalYear(\"&$D$12&\")=\"&$D$4&\" and localMonth(\"&$D$12&\") =\"&$E$4&\" and LocalDay(\"&$D$12&\")=\"&$F$4&\" and Barix(\"&$D$12&\",reference:=StartOfSession)=\"&A2&\"\", \"Bar\", \"\", \"Close\",\"5\",\"0\",\"PrimaryOnly\",,,\"False\",\"T\",\"EveryTick\")","v":120.03125},{"$f":"IFERROR((N2-$G$5)/$G$5,NA())","v":-7.804370447450572E-4},{"$f":"RTD(\"cqg.rtd\",,\"StudyData\", \"Close(\"&$D$12&\") when LocalYear(\"&$D$12&\")=\"&$D$5&\" and localMonth(\"&$D$12&\") =\"&$E$5&\" and LocalDay(\"&$D$12&\")=\"&$F$5&\" and Barix(\"&$D$12&\",reference:=StartOfSession)=\"&A2&\"\", \"Bar\", \"\", \"Close\",\"5\",\"0\",\"PrimaryOnly\",,,\"False\",\"T\",\"EveryTick\")","v":120.171875},{"$f":"IFERROR((P2-$G$6)/$G$6,NA())","v":-1.428200467411062E-3},{"$f":"RTD(\"cqg.rtd\",,\"StudyData\", \"Close(\"&$D$12&\") when LocalYear(\"&$D$12&\")=\"&$D$6&\" and localMonth(\"&$D$12&\") =\"&$E$6&\" and LocalDay(\"&$D$12&\")=\"&$F$6&\" and Barix(\"&$D$12&\",reference:=StartOfSession)=\"&A2&\"\", \"Bar\", \"\", \"Close\",\"5\",\"0\",\"PrimaryOnly\",,,\"False\",\"T\",\"EveryTick\")","v":120.453125},{"$f":"IFERROR((R2-$G$7)/$G$7,NA())","v":1.6891891891891893E-3},{"$f":"RTD(\"cqg.rtd\",,\"StudyData\", \"Close(\"&$D$12&\") when LocalYear(\"&$D$12&\")=\"&$D$7&\" and localMonth(\"&$D$12&\") =\"&$E$7&\" and LocalDay(\"&$D$12&\")=\"&$F$7&\" and Barix(\"&$D$12&\",reference:=StartOfSession)=\"&A2&\"\", \"Bar\", \"\", \"Close\",\"5\",\"0\",\"PrimaryOnly\",,,\"False\",\"T\",\"EveryTick\")","v":120.25},{"$f":"IFERROR((T2-$G$8)/$G$8,NA())","v":-5.1948051948051948E-4},{"$f":"RTD(\"cqg.rtd\",,\"StudyData\", \"Close(\"&$D$12&\") when LocalYear(\"&$D$12&\")=\"&$D$8&\" and localMonth(\"&$D$12&\") =\"&$E$8&\" and LocalDay(\"&$D$12&\")=\"&$F$8&\" and Barix(\"&$D$12&\",reference:=StartOfSession)=\"&A2&\"\", \"Bar\", \"\", \"Close\",\"5\",\"0\",\"PrimaryOnly\",,,\"False\",\"T\",\"EveryTick\")","v":120.078125},{"$f":"IFERROR((V2-$G$9)/$G$9,NA())","v":0},{"$f":"RTD(\"cqg.rtd\",,\"StudyData\", \"Close(\"&$D$12&\") when LocalYear(\"&$D$12&\")=\"&$D$9&\" and localMonth(\"&$D$12&\") =\"&$E$9&\" and LocalDay(\"&$D$12&\")=\"&$F$9&\" and Barix(\"&$D$12&\",reference:=StartOfSession)=\"&A2&\"\", \"Bar\", \"\", \"Close\",\"5\",\"0\",\"PrimaryOnly\",,,\"False\",\"T\",\"EveryTick\")","v":120.25},{"$f":"IFERROR((X2-$G$10)/$G$10,NA())","v":5.2002080083203334E-4},{"$f":"RTD(\"cqg.rtd\",,\"StudyData\", \"Close(\"&$D$12&\") when LocalYear(\"&$D$12&\")=\"&$D$10&\" and localMonth(\"&$D$12&\") =\"&$E$10&\" and LocalDay(\"&$D$12&\")=\"&$F$10&\" and Barix(\"&$D$12&\",reference:=StartOfSession)=\"&A2&\"\", \"Bar\", \"\", \"Close\",\"5\",\"0\",\"PrimaryOnly\",,,\"False\",\"T\",\"EveryTick\")","v":120.21875},{"$f":"IFERROR((Z2-$G$11)/$G$11,NA())","v":2.6001040041601667E-4},{"$f":"RANK(AD2,$AD$1:$AD$10)+COUNTIF($AD$1:AD2,AD2)-1","v":8},{"$f":"DATE(D2,E2,F2)","v":"2018-07-12"},{"$f":"VLOOKUP(MAX(AE2:AE81),A1:K81,11,FALSE)","v":-6.4968814968814972E-4},{"$f":"IF(AND(H1<>\"\",H2<>\"\",H3=\"\"),A2,\"\")","v":""},2,{"$f":"VLOOKUP(AF2,$AB$1:$AD$10,2,FALSE)","v":"2018-07-13"},{"$f":"VLOOKUP(AF2,$AB$1:$AD$10,3,FALSE)","v":1.3003901170351106E-3},null,null,{"$f":"AG2","v":"2018-07-13"},{"$f":"AC2","v":"2018-07-12"},1,{"$f":"VLOOKUP(AK2,$AL$1:$AM$10,2,FALSE)","v":0}]
[{"$f":"A2+1","v":182},"08:10:00",{"$f":" RTD(\"cqg.rtd\",,\"StudyData\",$D$12, \"Bar\", \"\", \"Time\",\"D\",\"-2\",,,,,\"T\")","v":"2018-07-11"},2018,7,11,{"$f":"RTD(\"cqg.rtd\",,\"StudyData\",$D$12,\"Bar\",,\"Close\",\"D\",\"-2\",,,,,\"T\")","v":120.25},{"$f":"RTD(\"cqg.rtd\",,\"StudyData\", \"Close(\"&$D$12&\") when LocalYear(\"&$D$12&\")=\"&$D$1&\" and localMonth(\"&$D$12&\") =\"&$E$1&\" and LocalDay(\"&$D$12&\")=\"&$F$1&\" and Barix(\"&$D$12&\",reference:=StartOfSession)=\"&A3&\"\", \"Bar\", \"\", \"Close\",\"5\",\"0\",\"PrimaryOnly\",,,\"False\",\"T\",\"EveryTick\")","v":120.296875},{"$f":"IFERROR((H3-$G$2)/$G$2,NA())","v":1.1703511053315994E-3},{"$f":"RTD(\"cqg.rtd\",,\"StudyData\", \"Close(\"&$D$12&\") when LocalYear(\"&$D$12&\")=\"&$D$2&\" and localMonth(\"&$D$12&\") =\"&$E$2&\" and LocalDay(\"&$D$12&\")=\"&$F$2&\" and Barix(\"&$D$12&\",reference:=StartOfSession)=\"&A3&\"\", \"Bar\", \"\", \"Close\",\"5\",\"0\",\"PrimaryOnly\",,,\"False\",\"T\",\"EveryTick\")","v":120.125},-1.0395010395010396E-3,{"$f":"RTD(\"cqg.rtd\",,\"StudyData\", \"Close(\"&$D$12&\") when LocalYear(\"&$D$12&\")=\"&$D$3&\" and localMonth(\"&$D$12&\") =\"&$E$3&\" and LocalDay(\"&$D$12&\")=\"&$F$3&\" and Barix(\"&$D$12&\",reference:=StartOfSession)=\"&A3&\"\", \"Bar\", \"\", \"Close\",\"5\",\"0\",\"PrimaryOnly\",,,\"False\",\"T\",\"EveryTick\")","v":120.1875},1.4321051946361151E-3,{"$f":"RTD(\"cqg.rtd\",,\"StudyData\", \"Close(\"&$D$12&\") when LocalYear(\"&$D$12&\")=\"&$D$4&\" and localMonth(\"&$D$12&\") =\"&$E$4&\" and LocalDay(\"&$D$12&\")=\"&$F$4&\" and Barix(\"&$D$12&\",reference:=StartOfSession)=\"&A3&\"\", \"Bar\", \"\", \"Close\",\"5\",\"0\",\"PrimaryOnly\",,,\"False\",\"T\",\"EveryTick\")","v":120.015625},-9.1050988553590013E-4,{"$f":"RTD(\"cqg.rtd\",,\"StudyData\", \"Close(\"&$D$12&\") when LocalYear(\"&$D$12&\")=\"&$D$5&\" and localMonth(\"&$D$12&\") =\"&$E$5&\" and LocalDay(\"&$D$12&\")=\"&$F$5&\" and Barix(\"&$D$12&\",reference:=StartOfSession)=\"&A3&\"\", \"Bar\", \"\", \"Close\",\"5\",\"0\",\"PrimaryOnly\",,,\"False\",\"T\",\"EveryTick\")","v":120.15625},-1.5580368735393405E-3,{"$f":"RTD(\"cqg.rtd\",,\"StudyData\", \"Close(\"&$D$12&\") when LocalYear(\"&$D$12&\")=\"&$D$6&\" and localMonth(\"&$D$12&\") =\"&$E$6&\" and LocalDay(\"&$D$12&\")=\"&$F$6&\" and Barix(\"&$D$12&\",reference:=StartOfSession)=\"&A3&\"\", \"Bar\", \"\", \"Close\",\"5\",\"0\",\"PrimaryOnly\",,,\"False\",\"T\",\"EveryTick\")","v":120.484375},1.9490644490644492E-3,{"$f":"RTD(\"cqg.rtd\",,\"StudyData\", \"Close(\"&$D$12&\") when LocalYear(\"&$D$12&\")=\"&$D$7&\" and localMonth(\"&$D$12&\") =\"&$E$7&\" and LocalDay(\"&$D$12&\")=\"&$F$7&\" and Barix(\"&$D$12&\",reference:=StartOfSession)=\"&A3&\"\", \"Bar\", \"\", \"Close\",\"5\",\"0\",\"PrimaryOnly\",,,\"False\",\"T\",\"EveryTick\")","v":120.234375},-6.4935064935064935E-4,{"$f":"RTD(\"cqg.rtd\",,\"StudyData\", \"Close(\"&$D$12&\") when LocalYear(\"&$D$12&\")=\"&$D$8&\" and localMonth(\"&$D$12&\") =\"&$E$8&\" and LocalDay(\"&$D$12&\")=\"&$F$8&\" and Barix(\"&$D$12&\",reference:=StartOfSession)=\"&A3&\"\", \"Bar\", \"\", \"Close\",\"5\",\"0\",\"PrimaryOnly\",,,\"False\",\"T\",\"EveryTick\")","v":120.078125},0,{"$f":"RTD(\"cqg.rtd\",,\"StudyData\", \"Close(\"&$D$12&\") when LocalYear(\"&$D$12&\")=\"&$D$9&\" and localMonth(\"&$D$12&\") =\"&$E$9&\" and LocalDay(\"&$D$12&\")=\"&$F$9&\" and Barix(\"&$D$12&\",reference:=StartOfSession)=\"&A3&\"\", \"Bar\", \"\", \"Close\",\"5\",\"0\",\"PrimaryOnly\",,,\"False\",\"T\",\"EveryTick\")","v":120.25},5.2002080083203334E-4,{"$f":"RTD(\"cqg.rtd\",,\"StudyData\", \"Close(\"&$D$12&\") when LocalYear(\"&$D$12&\")=\"&$D$10&\" and localMonth(\"&$D$12&\") =\"&$E$10&\" and LocalDay(\"&$D$12&\")=\"&$F$10&\" and Barix(\"&$D$12&\",reference:=StartOfSession)=\"&A3&\"\", \"Bar\", \"\", \"Close\",\"5\",\"0\",\"PrimaryOnly\",,,\"False\",\"T\",\"EveryTick\")","v":120.1875},0,{"$f":"RANK(AD3,$AD$1:$AD$10)+COUNTIF($AD$1:AD3,AD3)-1","v":3},"2018-07-11",{"$f":"VLOOKUP(MAX(AE2:AE81),A1:M81,13,FALSE)","v":1.1717224319750033E-3},{"$f":"IF(AND(H2<>\"\",H3<>\"\",H4=\"\"),A3,\"\")","v":""},3,"2018-07-11",1.1717224319750033E-3,null,null,"2018-07-11","2018-07-11",2,2]
[183,"08:15:00",{"$f":" RTD(\"cqg.rtd\",,\"StudyData\",$D$12, \"Bar\", \"\", \"Time\",\"D\",\"-3\",,,,,\"T\")","v":"2018-07-10"},2018,7,10,{"$f":"RTD(\"cqg.rtd\",,\"StudyData\",$D$12,\"Bar\",,\"Close\",\"D\",\"-3\",,,,,\"T\")","v":120.015625},{"$f":"RTD(\"cqg.rtd\",,\"StudyData\", \"Close(\"&$D$12&\") when LocalYear(\"&$D$12&\")=\"&$D$1&\" and localMonth(\"&$D$12&\") =\"&$E$1&\" and LocalDay(\"&$D$12&\")=\"&$F$1&\" and Barix(\"&$D$12&\",reference:=StartOfSession)=\"&A4&\"\", \"Bar\", \"\", \"Close\",\"5\",\"0\",\"PrimaryOnly\",,,\"False\",\"T\",\"EveryTick\")","v":120.28125},1.0403120936280884E-3,{"$f":"RTD(\"cqg.rtd\",,\"StudyData\", \"Close(\"&$D$12&\") when LocalYear(\"&$D$12&\")=\"&$D$2&\" and localMonth(\"&$D$12&\") =\"&$E$2&\" and LocalDay(\"&$D$12&\")=\"&$F$2&\" and Barix(\"&$D$12&\",reference:=StartOfSession)=\"&A4&\"\", \"Bar\", \"\", \"Close\",\"5\",\"0\",\"PrimaryOnly\",,,\"False\",\"T\",\"EveryTick\")","v":120.109375},-1.1694386694386695E-3,{"$f":"RTD(\"cqg.rtd\",,\"StudyData\", \"Close(\"&$D$12&\") when LocalYear(\"&$D$12&\")=\"&$D$3&\" and localMonth(\"&$D$12&\") =\"&$E$3&\" and LocalDay(\"&$D$12&\")=\"&$F$3&\" and Barix(\"&$D$12&\",reference:=StartOfSession)=\"&A4&\"\", \"Bar\", \"\", \"Close\",\"5\",\"0\",\"PrimaryOnly\",,,\"False\",\"T\",\"EveryTick\")","v":120.203125},1.562296575966671E-3,{"$f":"RTD(\"cqg.rtd\",,\"StudyData\", \"Close(\"&$D$12&\") when LocalYear(\"&$D$12&\")=\"&$D$4&\" and localMonth(\"&$D$12&\") =\"&$E$4&\" and LocalDay(\"&$D$12&\")=\"&$F$4&\" and Barix(\"&$D$12&\",reference:=StartOfSession)=\"&A4&\"\", \"Bar\", \"\", \"Close\",\"5\",\"0\",\"PrimaryOnly\",,,\"False\",\"T\",\"EveryTick\")","v":120},-1.0405827263267431E-3,{"$f":"RTD(\"cqg.rtd\",,\"StudyData\", \"Close(\"&$D$12&\") when LocalYear(\"&$D$12&\")=\"&$D$5&\" and localMonth(\"&$D$12&\") =\"&$E$5&\" and LocalDay(\"&$D$12&\")=\"&$F$5&\" and Barix(\"&$D$12&\",reference:=StartOfSession)=\"&A4&\"\", \"Bar\", \"\", \"Close\",\"5\",\"0\",\"PrimaryOnly\",,,\"False\",\"T\",\"EveryTick\")","v":120.15625},-1.5580368735393405E-3,{"$f":"RTD(\"cqg.rtd\",,\"StudyData\", \"Close(\"&$D$12&\") when LocalYear(\"&$D$12&\")=\"&$D$6&\" and localMonth(\"&$D$12&\") =\"&$E$6&\" and LocalDay(\"&$D$12&\")=\"&$F$6&\" and Barix(\"&$D$12&\",reference:=StartOfSession)=\"&A4&\"\", \"Bar\", \"\", \"Close\",\"5\",\"0\",\"PrimaryOnly\",,,\"False\",\"T\",\"EveryTick\")","v":120.4375},1.5592515592515593E-3,{"$f":"RTD(\"cqg.rtd\",,\"StudyData\", \"Close(\"&$D$12&\") when LocalYear(\"&$D$12&\")=\"&$D$7&\" and localMonth(\"&$D$12&\") =\"&$E$7&\" and LocalDay(\"&$D$12&\")=\"&$F$7&\" and Barix(\"&$D$12&\",reference:=StartOfSession)=\"&A4&\"\", \"Bar\", \"\", \"Close\",\"5\",\"0\",\"PrimaryOnly\",,,\"False\",\"T\",\"EveryTick\")","v":120.25},-5.1948051948051948E-4,{"$f":"RTD(\"cqg.rtd\",,\"StudyData\", \"Close(\"&$D$12&\") when LocalYear(\"&$D$12&\")=\"&$D$8&\" and localMonth(\"&$D$12&\") =\"&$E$8&\" and LocalDay(\"&$D$12&\")=\"&$F$8&\" and Barix(\"&$D$12&\",reference:=StartOfSession)=\"&A4&\"\", \"Bar\", \"\", \"Close\",\"5\",\"0\",\"PrimaryOnly\",,,\"False\",\"T\",\"EveryTick\")","v":120.0625},-1.3012361743656474E-4,{"$f":"RTD(\"cqg.rtd\",,\"StudyData\", \"Close(\"&$D$12&\") when LocalYear(\"&$D$12&\")=\"&$D$9&\" and localMonth(\"&$D$12&\") =\"&$E$9&\" and LocalDay(\"&$D$12&\")=\"&$F$9&\" and Barix(\"&$D$12&\",reference:=StartOfSession)=\"&A4&\"\", \"Bar\", \"\", \"Close\",\"5\",\"0\",\"PrimaryOnly\",,,\"False\",\"T\",\"EveryTick\")","v":120.28125},7.8003120124804995E-4,{"$f":"RTD(\"cqg.rtd\",,\"StudyData\", \"Close(\"&$D$12&\") when LocalYear(\"&$D$12&\")=\"&$D$10&\" and localMonth(\"&$D$12&\") =\"&$E$10&\" and LocalDay(\"&$D$12&\")=\"&$F$10&\" and Barix(\"&$D$12&\",reference:=StartOfSession)=\"&A4&\"\", \"Bar\", \"\", \"Close\",\"5\",\"0\",\"PrimaryOnly\",,,\"False\",\"T\",\"EveryTick\")","v":120.203125},1.3000520020800833E-4,{"$f":"RANK(AD4,$AD$1:$AD$10)+COUNTIF($AD$1:AD4,AD4)-1","v":7},"2018-07-10",{"$f":"VLOOKUP(MAX(AE2:AE81),A1:O81,15,FALSE)","v":-3.902185223725286E-4},"",4,"2018-07-06",7.7962577962577967E-4,null,null,"2018-07-06","2018-07-10",3,5]
[184,"08:20:00",{"$f":" RTD(\"cqg.rtd\",,\"StudyData\",$D$12, \"Bar\", \"\", \"Time\",\"D\",\"-4\",,,,,\"T\")","v":"2018-07-09"},2018,7,9,{"$f":"RTD(\"cqg.rtd\",,\"StudyData\",$D$12,\"Bar\",,\"Close\",\"D\",\"-4\",,,,,\"T\")","v":120.125},{"$f":"RTD(\"cqg.rtd\",,\"StudyData\", \"Close(\"&$D$12&\") when LocalYear(\"&$D$12&\")=\"&$D$1&\" and localMonth(\"&$D$12&\") =\"&$E$1&\" and LocalDay(\"&$D$12&\")=\"&$F$1&\" and Barix(\"&$D$12&\",reference:=StartOfSession)=\"&A5&\"\", \"Bar\", \"\", \"Close\",\"5\",\"0\",\"PrimaryOnly\",,,\"False\",\"T\",\"EveryTick\")","v":120.28125},1.0403120936280884E-3,{"$f":"RTD(\"cqg.rtd\",,\"StudyData\", \"Close(\"&$D$12&\") when LocalYear(\"&$D$12&\")=\"&$D$2&\" and localMonth(\"&$D$12&\") =\"&$E$2&\" and LocalDay(\"&$D$12&\")=\"&$F$2&\" and Barix(\"&$D$12&\",reference:=StartOfSession)=\"&A5&\"\", \"Bar\", \"\", \"Close\",\"5\",\"0\",\"PrimaryOnly\",,,\"False\",\"T\",\"EveryTick\")","v":120.09375},-1.2993762993762994E-3,{"$f":"RTD(\"cqg.rtd\",,\"StudyData\", \"Close(\"&$D$12&\") when LocalYear(\"&$D$12&\")=\"&$D$3&\" and localMonth(\"&$D$12&\") =\"&$E$3&\" and LocalDay(\"&$D$12&\")=\"&$F$3&\" and Barix(\"&$D$12&\",reference:=StartOfSession)=\"&A5&\"\", \"Bar\", \"\", \"Close\",\"5\",\"0\",\"PrimaryOnly\",,,\"False\",\"T\",\"EveryTick\")","v":120.203125},1.562296575966671E-3,{"$f":"RTD(\"cqg.rtd\",,\"StudyData\", \"Close(\"&$D$12&\") when LocalYear(\"&$D$12&\")=\"&$D$4&\" and localMonth(\"&$D$12&\") =\"&$E$4&\" and LocalDay(\"&$D$12&\")=\"&$F$4&\" and Barix(\"&$D$12&\",reference:=StartOfSession)=\"&A5&\"\", \"Bar\", \"\", \"Close\",\"5\",\"0\",\"PrimaryOnly\",,,\"False\",\"T\",\"EveryTick\")","v":120.03125},-7.804370447450572E-4,{"$f":"RTD(\"cqg.rtd\",,\"StudyData\", \"Close(\"&$D$12&\") when LocalYear(\"&$D$12&\")=\"&$D$5&\" and localMonth(\"&$D$12&\") =\"&$E$5&\" and LocalDay(\"&$D$12&\")=\"&$F$5&\" and Barix(\"&$D$12&\",reference:=StartOfSession)=\"&A5&\"\", \"Bar\", \"\", \"Close\",\"5\",\"0\",\"PrimaryOnly\",,,\"False\",\"T\",\"EveryTick\")","v":120.140625},-1.6878732796676188E-3,{"$f":"RTD(\"cqg.rtd\",,\"StudyData\", \"Close(\"&$D$12&\") when LocalYear(\"&$D$12&\")=\"&$D$6&\" and localMonth(\"&$D$12&\") =\"&$E$6&\" and LocalDay(\"&$D$12&\")=\"&$F$6&\" and Barix(\"&$D$12&\",reference:=StartOfSession)=\"&A5&\"\", \"Bar\", \"\", \"Close\",\"5\",\"0\",\"PrimaryOnly\",,,\"False\",\"T\",\"EveryTick\")","v":120.421875},1.4293139293139294E-3,{"$f":"RTD(\"cqg.rtd\",,\"StudyData\", \"Close(\"&$D$12&\") when LocalYear(\"&$D$12&\")=\"&$D$7&\" and localMonth(\"&$D$12&\") =\"&$E$7&\" and LocalDay(\"&$D$12&\")=\"&$F$7&\" and Barix(\"&$D$12&\",reference:=StartOfSession)=\"&A5&\"\", \"Bar\", \"\", \"Close\",\"5\",\"0\",\"PrimaryOnly\",,,\"False\",\"T\",\"EveryTick\")","v":120.28125},-2.5974025974025974E-4,{"$f":"RTD(\"cqg.rtd\",,\"StudyData\", \"Close(\"&$D$12&\") when LocalYear(\"&$D$12&\")=\"&$D$8&\" and localMonth(\"&$D$12&\") =\"&$E$8&\" and LocalDay(\"&$D$12&\")=\"&$F$8&\" and Barix(\"&$D$12&\",reference:=StartOfSession)=\"&A5&\"\", \"Bar\", \"\", \"Close\",\"5\",\"0\",\"PrimaryOnly\",,,\"False\",\"T\",\"EveryTick\")","v":120.09375},1.3012361743656474E-4,{"$f":"RTD(\"cqg.rtd\",,\"StudyData\", \"Close(\"&$D$12&\") when LocalYear(\"&$D$12&\")=\"&$D$9&\" and localMonth(\"&$D$12&\") =\"&$E$9&\" and LocalDay(\"&$D$12&\")=\"&$F$9&\" and Barix(\"&$D$12&\",reference:=StartOfSession)=\"&A5&\"\", \"Bar\", \"\", \"Close\",\"5\",\"0\",\"PrimaryOnly\",,,\"False\",\"T\",\"EveryTick\")","v":120.28125},7.8003120124804995E-4,{"$f":"RTD(\"cqg.rtd\",,\"StudyData\", \"Close(\"&$D$12&\") when LocalYear(\"&$D$12&\")=\"&$D$10&\" and localMonth(\"&$D$12&\") =\"&$E$10&\" and LocalDay(\"&$D$12&\")=\"&$F$10&\" and Barix(\"&$D$12&\",reference:=StartOfSession)=\"&A5&\"\", \"Bar\", \"\", \"Close\",\"5\",\"0\",\"PrimaryOnly\",,,\"False\",\"T\",\"EveryTick\")","v":120.203125},1.3000520020800833E-4,{"$f":"RANK(AD5,$AD$1:$AD$10)+COUNTIF($AD$1:AD5,AD5)-1","v":10},"2018-07-09",{"$f":"VLOOKUP(MAX(AE2:AE81),A1:Q81,17,FALSE)","v":-1.428200467411062E-3},"",5,"2018-07-05",5.1948051948051948E-4,null,null,"2018-07-05","2018-07-09",4,6]
[185,"08:25:00",{"$f":" RTD(\"cqg.rtd\",,\"StudyData\",$D$12, \"Bar\", \"\", \"Time\",\"D\",\"-5\",,,,,\"T\")","v":"2018-07-06"},2018,7,6,{"$f":"RTD(\"cqg.rtd\",,\"StudyData\",$D$12,\"Bar\",,\"Close\",\"D\",\"-5\",,,,,\"T\")","v":120.34375},{"$f":"RTD(\"cqg.rtd\",,\"StudyData\", \"Close(\"&$D$12&\") when LocalYear(\"&$D$12&\")=\"&$D$1&\" and localMonth(\"&$D$12&\") =\"&$E$1&\" and LocalDay(\"&$D$12&\")=\"&$F$1&\" and Barix(\"&$D$12&\",reference:=StartOfSession)=\"&A6&\"\", \"Bar\", \"\", \"Close\",\"5\",\"0\",\"PrimaryOnly\",,,\"False\",\"T\",\"EveryTick\")","v":120.28125},1.0403120936280884E-3,{"$f":"RTD(\"cqg.rtd\",,\"StudyData\", \"Close(\"&$D$12&\") when LocalYear(\"&$D$12&\")=\"&$D$2&\" and localMonth(\"&$D$12&\") =\"&$E$2&\" and LocalDay(\"&$D$12&\")=\"&$F$2&\" and Barix(\"&$D$12&\",reference:=StartOfSession)=\"&A6&\"\", \"Bar\", \"\", \"Close\",\"5\",\"0\",\"PrimaryOnly\",,,\"False\",\"T\",\"EveryTick\")","v":120.109375},-1.1694386694386695E-3,{"$f":"RTD(\"cqg.rtd\",,\"StudyData\", \"Close(\"&$D$12&\") when LocalYear(\"&$D$12&\")=\"&$D$3&\" and localMonth(\"&$D$12&\") =\"&$E$3&\" and LocalDay(\"&$D$12&\")=\"&$F$3&\" and Barix(\"&$D$12&\",reference:=StartOfSession)=\"&A6&\"\", \"Bar\", \"\", \"Close\",\"5\",\"0\",\"PrimaryOnly\",,,\"False\",\"T\",\"EveryTick\")","v":120.21875},1.6924879572972268E-3,{"$f":"RTD(\"cqg.rtd\",,\"StudyData\", \"Close(\"&$D$12&\") when LocalYear(\"&$D$12&\")=\"&$D$4&\" and localMonth(\"&$D$12&\") =\"&$E$4&\" and LocalDay(\"&$D$12&\")=\"&$F$4&\" and Barix(\"&$D$12&\",reference:=StartOfSession)=\"&A6&\"\", \"Bar\", \"\", \"Close\",\"5\",\"0\",\"PrimaryOnly\",,,\"False\",\"T\",\"EveryTick\")","v":120.046875},-6.5036420395421437E-4,{"$f":"RTD(\"cqg.rtd\",,\"StudyData\", \"Close(\"&$D$12&\") when LocalYear(\"&$D$12&\")=\"&$D$5&\" and localMonth(\"&$D$12&\") =\"&$E$5&\" and LocalDay(\"&$D$12&\")=\"&$F$5&\" and Barix(\"&$D$12&\",reference:=StartOfSession)=\"&A6&\"\", \"Bar\", \"\", \"Close\",\"5\",\"0\",\"PrimaryOnly\",,,\"False\",\"T\",\"EveryTick\")","v":120.15625},-1.5580368735393405E-3,{"$f":"RTD(\"cqg.rtd\",,\"StudyData\", \"Close(\"&$D$12&\") when LocalYear(\"&$D$12&\")=\"&$D$6&\" and localMonth(\"&$D$12&\") =\"&$E$6&\" and LocalDay(\"&$D$12&\")=\"&$F$6&\" and Barix(\"&$D$12&\",reference:=StartOfSession)=\"&A6&\"\", \"Bar\", \"\", \"Close\",\"5\",\"0\",\"PrimaryOnly\",,,\"False\",\"T\",\"EveryTick\")","v":120.421875},1.4293139293139294E-3,{"$f":"RTD(\"cqg.rtd\",,\"StudyData\", \"Close(\"&$D$12&\") when LocalYear(\"&$D$12&\")=\"&$D$7&\" and localMonth(\"&$D$12&\") =\"&$E$7&\" and LocalDay(\"&$D$12&\")=\"&$F$7&\" and Barix(\"&$D$12&\",reference:=StartOfSession)=\"&A6&\"\", \"Bar\", \"\", \"Close\",\"5\",\"0\",\"PrimaryOnly\",,,\"False\",\"T\",\"EveryTick\")","v":120.28125},-2.5974025974025974E-4,{"$f":"RTD(\"cqg.rtd\",,\"StudyData\", \"Close(\"&$D$12&\") when LocalYear(\"&$D$12&\")=\"&$D$8&\" and localMonth(\"&$D$12&\") =\"&$E$8&\" and LocalDay(\"&$D$12&\")=\"&$F$8&\" and Barix(\"&$D$12&\",reference:=StartOfSession)=\"&A6&\"\", \"Bar\", \"\", \"Close\",\"5\",\"0\",\"PrimaryOnly\",,,\"False\",\"T\",\"EveryTick\")","v":120.109375},2.6024723487312948E-4,{"$f":"RTD(\"cqg.rtd\",,\"StudyData\", \"Close(\"&$D$12&\") when LocalYear(\"&$D$12&\")=\"&$D$9&\" and localMonth(\"&$D$12&\") =\"&$E$9&\" and LocalDay(\"&$D$12&\")=\"&$F$9&\" and Barix(\"&$D$12&\",reference:=StartOfSession)=\"&A6&\"\", \"Bar\", \"\", \"Close\",\"5\",\"0\",\"PrimaryOnly\",,,\"False\",\"T\",\"EveryTick\")","v":120.265625},6.5002600104004159E-4,{"$f":"RTD(\"cqg.rtd\",,\"StudyData\", \"Close(\"&$D$12&\") when LocalYear(\"&$D$12&\")=\"&$D$10&\" and localMonth(\"&$D$12&\") =\"&$E$10&\" and LocalDay(\"&$D$12&\")=\"&$F$10&\" and Barix(\"&$D$12&\",reference:=StartOfSession)=\"&A6&\"\", \"Bar\", \"\", \"Close\",\"5\",\"0\",\"PrimaryOnly\",,,\"False\",\"T\",\"EveryTick\")","v":120.21875},2.6001040041601667E-4,{"$f":"RANK(AD6,$AD$1:$AD$10)+COUNTIF($AD$1:AD6,AD6)-1","v":4},"2018-07-06",{"$f":"VLOOKUP(MAX(AE2:AE81),A1:S81,19,FALSE)","v":7.7962577962577967E-4},"",6,"2018-06-29",-3.9001560062402497E-4,null,null,"2018-06-29","2018-07-06",5,9]
[186,"08:30:00",{"$f":" RTD(\"cqg.rtd\",,\"StudyData\",$D$12, \"Bar\", \"\", \"Time\",\"D\",\"-6\",,,,,\"T\")","v":"2018-07-05"},2018,7,5,{"$f":"RTD(\"cqg.rtd\",,\"StudyData\",$D$12,\"Bar\",,\"Close\",\"D\",\"-6\",,,,,\"T\")","v":120.25},{"$f":"RTD(\"cqg.rtd\",,\"StudyData\", \"Close(\"&$D$12&\") when LocalYear(\"&$D$12&\")=\"&$D$1&\" and localMonth(\"&$D$12&\") =\"&$E$1&\" and LocalDay(\"&$D$12&\")=\"&$F$1&\" and Barix(\"&$D$12&\",reference:=StartOfSession)=\"&A7&\"\", \"Bar\", \"\", \"Close\",\"5\",\"0\",\"PrimaryOnly\",,,\"False\",\"T\",\"EveryTick\")","v":120.234375},6.5019505851755528E-4,{"$f":"RTD(\"cqg.rtd\",,\"StudyData\", \"Close(\"&$D$12&\") when LocalYear(\"&$D$12&\")=\"&$D$2&\" and localMonth(\"&$D$12&\") =\"&$E$2&\" and LocalDay(\"&$D$12&\")=\"&$F$2&\" and Barix(\"&$D$12&\",reference:=StartOfSession)=\"&A7&\"\", \"Bar\", \"\", \"Close\",\"5\",\"0\",\"PrimaryOnly\",,,\"False\",\"T\",\"EveryTick\")","v":120.125},-1.0395010395010396E-3,{"$f":"RTD(\"cqg.rtd\",,\"StudyData\", \"Close(\"&$D$12&\") when LocalYear(\"&$D$12&\")=\"&$D$3&\" and localMonth(\"&$D$12&\") =\"&$E$3&\" and LocalDay(\"&$D$12&\")=\"&$F$3&\" and Barix(\"&$D$12&\",reference:=StartOfSession)=\"&A7&\"\", \"Bar\", \"\", \"Close\",\"5\",\"0\",\"PrimaryOnly\",,,\"False\",\"T\",\"EveryTick\")","v":120.1875},1.4321051946361151E-3,{"$f":"RTD(\"cqg.rtd\",,\"StudyData\", \"Close(\"&$D$12&\") when LocalYear(\"&$D$12&\")=\"&$D$4&\" and localMonth(\"&$D$12&\") =\"&$E$4&\" and LocalDay(\"&$D$12&\")=\"&$F$4&\" and Barix(\"&$D$12&\",reference:=StartOfSession)=\"&A7&\"\", \"Bar\", \"\", \"Close\",\"5\",\"0\",\"PrimaryOnly\",,,\"False\",\"T\",\"EveryTick\")","v":120.046875},-6.5036420395421437E-4,{"$f":"RTD(\"cqg.rtd\",,\"StudyData\", \"Close(\"&$D$12&\") when LocalYear(\"&$D$12&\")=\"&$D$5&\" and localMonth(\"&$D$12&\") =\"&$E$5&\" and LocalDay(\"&$D$12&\")=\"&$F$5&\" and Barix(\"&$D$12&\",reference:=StartOfSession)=\"&A7&\"\", \"Bar\", \"\", \"Close\",\"5\",\"0\",\"PrimaryOnly\",,,\"False\",\"T\",\"EveryTick\")","v":120.140625},-1.6878732796676188E-3,{"$f":"RTD(\"cqg.rtd\",,\"StudyData\", \"Close(\"&$D$12&\") when LocalYear(\"&$D$12&\")=\"&$D$6&\" and localMonth(\"&$D$12&\") =\"&$E$6&\" and LocalDay(\"&$D$12&\")=\"&$F$6&\" and Barix(\"&$D$12&\",reference:=StartOfSession)=\"&A7&\"\", \"Bar\", \"\", \"Close\",\"5\",\"0\",\"PrimaryOnly\",,,\"False\",\"T\",\"EveryTick\")","v":120.390625},1.1694386694386695E-3,{"$f":"RTD(\"cqg.rtd\",,\"StudyData\", \"Close(\"&$D$12&\") when LocalYear(\"&$D$12&\")=\"&$D$7&\" and localMonth(\"&$D$12&\") =\"&$E$7&\" and LocalDay(\"&$D$12&\")=\"&$F$7&\" and Barix(\"&$D$12&\",reference:=StartOfSession)=\"&A7&\"\", \"Bar\", \"\", \"Close\",\"5\",\"0\",\"PrimaryOnly\",,,\"False\",\"T\",\"EveryTick\")","v":120.3125},0,{"$f":"RTD(\"cqg.rtd\",,\"StudyData\", \"Close(\"&$D$12&\") when LocalYear(\"&$D$12&\")=\"&$D$8&\" and localMonth(\"&$D$12&\") =\"&$E$8&\" and LocalDay(\"&$D$12&\")=\"&$F$8&\" and Barix(\"&$D$12&\",reference:=StartOfSession)=\"&A7&\"\", \"Bar\", \"\", \"Close\",\"5\",\"0\",\"PrimaryOnly\",,,\"False\",\"T\",\"EveryTick\")","v":120.125},3.9037085230969419E-4,{"$f":"RTD(\"cqg.rtd\",,\"StudyData\", \"Close(\"&$D$12&\") when LocalYear(\"&$D$12&\")=\"&$D$9&\" and localMonth(\"&$D$12&\") =\"&$E$9&\" and LocalDay(\"&$D$12&\")=\"&$F$9&\" and Barix(\"&$D$12&\",reference:=StartOfSession)=\"&A7&\"\", \"Bar\", \"\", \"Close\",\"5\",\"0\",\"PrimaryOnly\",,,\"False\",\"T\",\"EveryTick\")","v":120.25},5.2002080083203334E-4,{"$f":"RTD(\"cqg.rtd\",,\"StudyData\", \"Close(\"&$D$12&\") when LocalYear(\"&$D$12&\")=\"&$D$10&\" and localMonth(\"&$D$12&\") =\"&$E$10&\" and LocalDay(\"&$D$12&\")=\"&$F$10&\" and Barix(\"&$D$12&\",reference:=StartOfSession)=\"&A7&\"\", \"Bar\", \"\", \"Close\",\"5\",\"0\",\"PrimaryOnly\",,,\"False\",\"T\",\"EveryTick\")","v":120.203125},1.3000520020800833E-4,{"$f":"RANK(AD7,$AD$1:$AD$10)+COUNTIF($AD$1:AD7,AD7)-1","v":5},"2018-07-05",{"$f":"VLOOKUP(MAX(AE2:AE81),A1:U81,21,FALSE)","v":5.1948051948051948E-4},"",7,"2018-07-10",-3.902185223725286E-4,null,null,"2018-07-10","2018-07-05",6,3]
[187,"08:35:00",{"$f":" RTD(\"cqg.rtd\",,\"StudyData\",$D$12, \"Bar\", \"\", \"Time\",\"D\",\"-7\",,,,,\"T\")","v":"2018-07-03"},2018,7,3,{"$f":"RTD(\"cqg.rtd\",,\"StudyData\",$D$12,\"Bar\",,\"Close\",\"D\",\"-7\",,,,,\"T\")","v":120.3125},{"$f":"RTD(\"cqg.rtd\",,\"StudyData\", \"Close(\"&$D$12&\") when LocalYear(\"&$D$12&\")=\"&$D$1&\" and localMonth(\"&$D$12&\") =\"&$E$1&\" and LocalDay(\"&$D$12&\")=\"&$F$1&\" and Barix(\"&$D$12&\",reference:=StartOfSession)=\"&A8&\"\", \"Bar\", \"\", \"Close\",\"5\",\"0\",\"PrimaryOnly\",,,\"False\",\"T\",\"EveryTick\")","v":120.234375},6.5019505851755528E-4,{"$f":"RTD(\"cqg.rtd\",,\"StudyData\", \"Close(\"&$D$12&\") when LocalYear(\"&$D$12&\")=\"&$D$2&\" and localMonth(\"&$D$12&\") =\"&$E$2&\" and LocalDay(\"&$D$12&\")=\"&$F$2&\" and Barix(\"&$D$12&\",reference:=StartOfSession)=\"&A8&\"\", \"Bar\", \"\", \"Close\",\"5\",\"0\",\"PrimaryOnly\",,,\"False\",\"T\",\"EveryTick\")","v":120.15625},-7.7962577962577967E-4,{"$f":"RTD(\"cqg.rtd\",,\"StudyData\", \"Close(\"&$D$12&\") when LocalYear(\"&$D$12&\")=\"&$D$3&\" and localMonth(\"&$D$12&\") =\"&$E$3&\" and LocalDay(\"&$D$12&\")=\"&$F$3&\" and Barix(\"&$D$12&\",reference:=StartOfSession)=\"&A8&\"\", \"Bar\", \"\", \"Close\",\"5\",\"0\",\"PrimaryOnly\",,,\"False\",\"T\",\"EveryTick\")","v":120.171875},1.3019138133055592E-3,{"$f":"RTD(\"cqg.rtd\",,\"StudyData\", \"Close(\"&$D$12&\") when LocalYear(\"&$D$12&\")=\"&$D$4&\" and localMonth(\"&$D$12&\") =\"&$E$4&\" and LocalDay(\"&$D$12&\")=\"&$F$4&\" and Barix(\"&$D$12&\",reference:=StartOfSession)=\"&A8&\"\", \"Bar\", \"\", \"Close\",\"5\",\"0\",\"PrimaryOnly\",,,\"False\",\"T\",\"EveryTick\")","v":120.0625},-5.2029136316337154E-4,{"$f":"RTD(\"cqg.rtd\",,\"StudyData\", \"Close(\"&$D$12&\") when LocalYear(\"&$D$12&\")=\"&$D$5&\" and localMonth(\"&$D$12&\") =\"&$E$5&\" and LocalDay(\"&$D$12&\")=\"&$F$5&\" and Barix(\"&$D$12&\",reference:=StartOfSession)=\"&A8&\"\", \"Bar\", \"\", \"Close\",\"5\",\"0\",\"PrimaryOnly\",,,\"False\",\"T\",\"EveryTick\")","v":120.125},-1.8177096857958971E-3,{"$f":"RTD(\"cqg.rtd\",,\"StudyData\", \"Close(\"&$D$12&\") when LocalYear(\"&$D$12&\")=\"&$D$6&\" and localMonth(\"&$D$12&\") =\"&$E$6&\" and LocalDay(\"&$D$12&\")=\"&$F$6&\" and Barix(\"&$D$12&\",reference:=StartOfSession)=\"&A8&\"\", \"Bar\", \"\", \"Close\",\"5\",\"0\",\"PrimaryOnly\",,,\"False\",\"T\",\"EveryTick\")","v":120.390625},1.1694386694386695E-3,{"$f":"RTD(\"cqg.rtd\",,\"StudyData\", \"Close(\"&$D$12&\") when LocalYear(\"&$D$12&\")=\"&$D$7&\" and localMonth(\"&$D$12&\") =\"&$E$7&\" and LocalDay(\"&$D$12&\")=\"&$F$7&\" and Barix(\"&$D$12&\",reference:=StartOfSession)=\"&A8&\"\", \"Bar\", \"\", \"Close\",\"5\",\"0\",\"PrimaryOnly\",,,\"False\",\"T\",\"EveryTick\")","v":120.296875},-1.2987012987012987E-4,{"$f":"RTD(\"cqg.rtd\",,\"StudyData\", \"Close(\"&$D$12&\") when LocalYear(\"&$D$12&\")=\"&$D$8&\" and localMonth(\"&$D$12&\") =\"&$E$8&\" and LocalDay(\"&$D$12&\")=\"&$F$8&\" and Barix(\"&$D$12&\",reference:=StartOfSession)=\"&A8&\"\", \"Bar\", \"\", \"Close\",\"5\",\"0\",\"PrimaryOnly\",,,\"False\",\"T\",\"EveryTick\")","v":120.140625},5.2049446974625896E-4,{"$f":"RTD(\"cqg.rtd\",,\"StudyData\", \"Close(\"&$D$12&\") when LocalYear(\"&$D$12&\")=\"&$D$9&\" and localMonth(\"&$D$12&\") =\"&$E$9&\" and LocalDay(\"&$D$12&\")=\"&$F$9&\" and Barix(\"&$D$12&\",reference:=StartOfSession)=\"&A8&\"\", \"Bar\", \"\", \"Close\",\"5\",\"0\",\"PrimaryOnly\",,,\"False\",\"T\",\"EveryTick\")","v":120.234375},3.9001560062402497E-4,{"$f":"RTD(\"cqg.rtd\",,\"StudyData\", \"Close(\"&$D$12&\") when LocalYear(\"&$D$12&\")=\"&$D$10&\" and localMonth(\"&$D$12&\") =\"&$E$10&\" and LocalDay(\"&$D$12&\")=\"&$F$10&\" and Barix(\"&$D$12&\",reference:=StartOfSession)=\"&A8&\"\", \"Bar\", \"\", \"Close\",\"5\",\"0\",\"PrimaryOnly\",,,\"False\",\"T\",\"EveryTick\")","v":120.171875},-1.3000520020800833E-4,{"$f":"RANK(AD8,$AD$1:$AD$10)+COUNTIF($AD$1:AD8,AD8)-1","v":1},"2018-07-03",{"$f":"VLOOKUP(MAX(AE2:AE81),A1:W81,23,FALSE)","v":1.9518542615484711E-3},"",8,{"$f":"VLOOKUP(AF8,$AB$1:$AD$10,2,FALSE)","v":"2018-07-12"},-6.4968814968814972E-4,null,null,"2018-07-12","2018-07-03",7,1]
[188,"08:40:00",{"$f":" RTD(\"cqg.rtd\",,\"StudyData\",$D$12, \"Bar\", \"\", \"Time\",\"D\",\"-8\",,,,,\"T\")","v":"2018-07-02"},2018,7,2,{"$f":"RTD(\"cqg.rtd\",,\"StudyData\",$D$12,\"Bar\",,\"Close\",\"D\",\"-8\",,,,,\"T\")","v":120.078125},{"$f":"RTD(\"cqg.rtd\",,\"StudyData\", \"Close(\"&$D$12&\") when LocalYear(\"&$D$12&\")=\"&$D$1&\" and localMonth(\"&$D$12&\") =\"&$E$1&\" and LocalDay(\"&$D$12&\")=\"&$F$1&\" and Barix(\"&$D$12&\",reference:=StartOfSession)=\"&A9&\"\", \"Bar\", \"\", \"Close\",\"5\",\"0\",\"PrimaryOnly\",,,\"False\",\"T\",\"EveryTick\")","v":120.25},7.8023407022106636E-4,{"$f":"RTD(\"cqg.rtd\",,\"StudyData\", \"Close(\"&$D$12&\") when LocalYear(\"&$D$12&\")=\"&$D$2&\" and localMonth(\"&$D$12&\") =\"&$E$2&\" and LocalDay(\"&$D$12&\")=\"&$F$2&\" and Barix(\"&$D$12&\",reference:=StartOfSession)=\"&A9&\"\", \"Bar\", \"\", \"Close\",\"5\",\"0\",\"PrimaryOnly\",,,\"False\",\"T\",\"EveryTick\")","v":120.1875},-5.1975051975051978E-4,{"$f":"RTD(\"cqg.rtd\",,\"StudyData\", \"Close(\"&$D$12&\") when LocalYear(\"&$D$12&\")=\"&$D$3&\" and localMonth(\"&$D$12&\") =\"&$E$3&\" and LocalDay(\"&$D$12&\")=\"&$F$3&\" and Barix(\"&$D$12&\",reference:=StartOfSession)=\"&A9&\"\", \"Bar\", \"\", \"Close\",\"5\",\"0\",\"PrimaryOnly\",,,\"False\",\"T\",\"EveryTick\")","v":120.1875},1.4321051946361151E-3,{"$f":"RTD(\"cqg.rtd\",,\"StudyData\", \"Close(\"&$D$12&\") when LocalYear(\"&$D$12&\")=\"&$D$4&\" and localMonth(\"&$D$12&\") =\"&$E$4&\" and LocalDay(\"&$D$12&\")=\"&$F$4&\" and Barix(\"&$D$12&\",reference:=StartOfSession)=\"&A9&\"\", \"Bar\", \"\", \"Close\",\"5\",\"0\",\"PrimaryOnly\",,,\"False\",\"T\",\"EveryTick\")","v":120.078125},-3.902185223725286E-4,{"$f":"RTD(\"cqg.rtd\",,\"StudyData\", \"Close(\"&$D$12&\") when LocalYear(\"&$D$12&\")=\"&$D$5&\" and localMonth(\"&$D$12&\") =\"&$E$5&\" and LocalDay(\"&$D$12&\")=\"&$F$5&\" and Barix(\"&$D$12&\",reference:=StartOfSession)=\"&A9&\"\", \"Bar\", \"\", \"Close\",\"5\",\"0\",\"PrimaryOnly\",,,\"False\",\"T\",\"EveryTick\")","v":120.125},-1.8177096857958971E-3,{"$f":"RTD(\"cqg.rtd\",,\"StudyData\", \"Close(\"&$D$12&\") when LocalYear(\"&$D$12&\")=\"&$D$6&\" and localMonth(\"&$D$12&\") =\"&$E$6&\" and LocalDay(\"&$D$12&\")=\"&$F$6&\" and Barix(\"&$D$12&\",reference:=StartOfSession)=\"&A9&\"\", \"Bar\", \"\", \"Close\",\"5\",\"0\",\"PrimaryOnly\",,,\"False\",\"T\",\"EveryTick\")","v":120.390625},1.1694386694386695E-3,{"$f":"RTD(\"cqg.rtd\",,\"StudyData\", \"Close(\"&$D$12&\") when LocalYear(\"&$D$12&\")=\"&$D$7&\" and localMonth(\"&$D$12&\") =\"&$E$7&\" and LocalDay(\"&$D$12&\")=\"&$F$7&\" and Barix(\"&$D$12&\",reference:=StartOfSession)=\"&A9&\"\", \"Bar\", \"\", \"Close\",\"5\",\"0\",\"PrimaryOnly\",,,\"False\",\"T\",\"EveryTick\")","v":120.296875},-1.2987012987012987E-4,{"$f":"RTD(\"cqg.rtd\",,\"StudyData\", \"Close(\"&$D$12&\") when LocalYear(\"&$D$12&\")=\"&$D$8&\" and localMonth(\"&$D$12&\") =\"&$E$8&\" and LocalDay(\"&$D$12&\")=\"&$F$8&\" and Barix(\"&$D$12&\",reference:=StartOfSession)=\"&A9&\"\", \"Bar\", \"\", \"Close\",\"5\",\"0\",\"PrimaryOnly\",,,\"False\",\"T\",\"EveryTick\")","v":120.125},3.9037085230969419E-4,{"$f":"RTD(\"cqg.rtd\",,\"StudyData\", \"Close(\"&$D$12&\") when LocalYear(\"&$D$12&\")=\"&$D$9&\" and localMonth(\"&$D$12&\") =\"&$E$9&\" and LocalDay(\"&$D$12&\")=\"&$F$9&\" and Barix(\"&$D$12&\",reference:=StartOfSession)=\"&A9&\"\", \"Bar\", \"\", \"Close\",\"5\",\"0\",\"PrimaryOnly\",,,\"False\",\"T\",\"EveryTick\")","v":120.25},5.2002080083203334E-4,{"$f":"RTD(\"cqg.rtd\",,\"StudyData\", \"Close(\"&$D$12&\") when LocalYear(\"&$D$12&\")=\"&$D$10&\" and localMonth(\"&$D$12&\") =\"&$E$10&\" and LocalDay(\"&$D$12&\")=\"&$F$10&\" and Barix(\"&$D$12&\",reference:=StartOfSession)=\"&A9&\"\", \"Bar\", \"\", \"Close\",\"5\",\"0\",\"PrimaryOnly\",,,\"False\",\"T\",\"EveryTick\")","v":120.1875},0,{"$f":"RANK(AD9,$AD$1:$AD$10)+COUNTIF($AD$1:AD9,AD9)-1","v":9},"2018-07-02",{"$f":"VLOOKUP(MAX(AE2:AE81),A1:Y81,25,FALSE)","v":-6.5002600104004159E-4},"",9,"2018-07-02",-6.5002600104004159E-4,null,null,"2018-07-02","2018-07-02",8,8]
[189,"08:45:00",{"$f":" RTD(\"cqg.rtd\",,\"StudyData\",$D$12, \"Bar\", \"\", \"Time\",\"D\",\"-9\",,,,,\"T\")","v":"2018-06-29"},2018,6,29,{"$f":"RTD(\"cqg.rtd\",,\"StudyData\",$D$12,\"Bar\",,\"Close\",\"D\",\"-9\",,,,,\"T\")","v":120.1875},{"$f":"RTD(\"cqg.rtd\",,\"StudyData\", \"Close(\"&$D$12&\") when LocalYear(\"&$D$12&\")=\"&$D$1&\" and localMonth(\"&$D$12&\") =\"&$E$1&\" and LocalDay(\"&$D$12&\")=\"&$F$1&\" and Barix(\"&$D$12&\",reference:=StartOfSession)=\"&A10&\"\", \"Bar\", \"\", \"Close\",\"5\",\"0\",\"PrimaryOnly\",,,\"False\",\"T\",\"EveryTick\")","v":120.265625},9.1027308192457733E-4,{"$f":"RTD(\"cqg.rtd\",,\"StudyData\", \"Close(\"&$D$12&\") when LocalYear(\"&$D$12&\")=\"&$D$2&\" and localMonth(\"&$D$12&\") =\"&$E$2&\" and LocalDay(\"&$D$12&\")=\"&$F$2&\" and Barix(\"&$D$12&\",reference:=StartOfSession)=\"&A10&\"\", \"Bar\", \"\", \"Close\",\"5\",\"0\",\"PrimaryOnly\",,,\"False\",\"T\",\"EveryTick\")","v":120.203125},-3.8981288981288983E-4,{"$f":"RTD(\"cqg.rtd\",,\"StudyData\", \"Close(\"&$D$12&\") when LocalYear(\"&$D$12&\")=\"&$D$3&\" and localMonth(\"&$D$12&\") =\"&$E$3&\" and LocalDay(\"&$D$12&\")=\"&$F$3&\" and Barix(\"&$D$12&\",reference:=StartOfSession)=\"&A10&\"\", \"Bar\", \"\", \"Close\",\"5\",\"0\",\"PrimaryOnly\",,,\"False\",\"T\",\"EveryTick\")","v":120.203125},1.562296575966671E-3,{"$f":"RTD(\"cqg.rtd\",,\"StudyData\", \"Close(\"&$D$12&\") when LocalYear(\"&$D$12&\")=\"&$D$4&\" and localMonth(\"&$D$12&\") =\"&$E$4&\" and LocalDay(\"&$D$12&\")=\"&$F$4&\" and Barix(\"&$D$12&\",reference:=StartOfSession)=\"&A10&\"\", \"Bar\", \"\", \"Close\",\"5\",\"0\",\"PrimaryOnly\",,,\"False\",\"T\",\"EveryTick\")","v":120.078125},-3.902185223725286E-4,{"$f":"RTD(\"cqg.rtd\",,\"StudyData\", \"Close(\"&$D$12&\") when LocalYear(\"&$D$12&\")=\"&$D$5&\" and localMonth(\"&$D$12&\") =\"&$E$5&\" and LocalDay(\"&$D$12&\")=\"&$F$5&\" and Barix(\"&$D$12&\",reference:=StartOfSession)=\"&A10&\"\", \"Bar\", \"\", \"Close\",\"5\",\"0\",\"PrimaryOnly\",,,\"False\",\"T\",\"EveryTick\")","v":120.125},-1.8177096857958971E-3,{"$f":"RTD(\"cqg.rtd\",,\"StudyData\", \"Close(\"&$D$12&\") when LocalYear(\"&$D$12&\")=\"&$D$6&\" and localMonth(\"&$D$12&\") =\"&$E$6&\" and LocalDay(\"&$D$12&\")=\"&$F$6&\" and Barix(\"&$D$12&\",reference:=StartOfSession)=\"&A10&\"\", \"Bar\", \"\", \"Close\",\"5\",\"0\",\"PrimaryOnly\",,,\"False\",\"T\",\"EveryTick\")","v":120.40625},1.2993762993762994E-3,{"$f":"RTD(\"cqg.rtd\",,\"StudyData\", \"Close(\"&$D$12&\") when LocalYear(\"&$D$12&\")=\"&$D$7&\" and localMonth(\"&$D$12&\") =\"&$E$7&\" and LocalDay(\"&$D$12&\")=\"&$F$7&\" and Barix(\"&$D$12&\",reference:=StartOfSession)=\"&A10&\"\", \"Bar\", \"\", \"Close\",\"5\",\"0\",\"PrimaryOnly\",,,\"False\",\"T\",\"EveryTick\")","v":120.328125},1.2987012987012987E-4,{"$f":"RTD(\"cqg.rtd\",,\"StudyData\", \"Close(\"&$D$12&\") when LocalYear(\"&$D$12&\")=\"&$D$8&\" and localMonth(\"&$D$12&\") =\"&$E$8&\" and LocalDay(\"&$D$12&\")=\"&$F$8&\" and Barix(\"&$D$12&\",reference:=StartOfSession)=\"&A10&\"\", \"Bar\", \"\", \"Close\",\"5\",\"0\",\"PrimaryOnly\",,,\"False\",\"T\",\"EveryTick\")","v":120.125},3.9037085230969419E-4,{"$f":"RTD(\"cqg.rtd\",,\"StudyData\", \"Close(\"&$D$12&\") when LocalYear(\"&$D$12&\")=\"&$D$9&\" and localMonth(\"&$D$12&\") =\"&$E$9&\" and LocalDay(\"&$D$12&\")=\"&$F$9&\" and Barix(\"&$D$12&\",reference:=StartOfSession)=\"&A10&\"\", \"Bar\", \"\", \"Close\",\"5\",\"0\",\"PrimaryOnly\",,,\"False\",\"T\",\"EveryTick\")","v":120.25},5.2002080083203334E-4,{"$f":"RTD(\"cqg.rtd\",,\"StudyData\", \"Close(\"&$D$12&\") when LocalYear(\"&$D$12&\")=\"&$D$10&\" and localMonth(\"&$D$12&\") =\"&$E$10&\" and LocalDay(\"&$D$12&\")=\"&$F$10&\" and Barix(\"&$D$12&\",reference:=StartOfSession)=\"&A10&\"\", \"Bar\", \"\", \"Close\",\"5\",\"0\",\"PrimaryOnly\",,,\"False\",\"T\",\"EveryTick\")","v":120.171875},-1.3000520020800833E-4,{"$f":"RANK(AD10,$AD$1:$AD$10)+COUNTIF($AD$1:AD10,AD10)-1","v":6},"2018-06-29",{"$f":"VLOOKUP(MAX(AE2:AE81),A1:AA81,27,FALSE)","v":-3.9001560062402497E-4},"",10,"2018-07-09",-1.428200467411062E-3,null,null,"2018-07-09","2018-06-29",9,4]
[190,"08:50:00",{"$f":" RTD(\"cqg.rtd\",,\"StudyData\",$D$12, \"Bar\", \"\", \"Time\",\"D\",\"-10\",,,,,\"T\")","v":"2018-06-28"},2018,6,28,{"$f":"RTD(\"cqg.rtd\",,\"StudyData\",$D$12,\"Bar\",,\"Close\",\"D\",\"-10\",,,,,\"T\")","v":120.1875},{"$f":"RTD(\"cqg.rtd\",,\"StudyData\", \"Close(\"&$D$12&\") when LocalYear(\"&$D$12&\")=\"&$D$1&\" and localMonth(\"&$D$12&\") =\"&$E$1&\" and LocalDay(\"&$D$12&\")=\"&$F$1&\" and Barix(\"&$D$12&\",reference:=StartOfSession)=\"&A11&\"\", \"Bar\", \"\", \"Close\",\"5\",\"0\",\"PrimaryOnly\",,,\"False\",\"T\",\"EveryTick\")","v":120.296875},1.1703511053315994E-3,{"$f":"RTD(\"cqg.rtd\",,\"StudyData\", \"Close(\"&$D$12&\") when LocalYear(\"&$D$12&\")=\"&$D$2&\" and localMonth(\"&$D$12&\") =\"&$E$2&\" and LocalDay(\"&$D$12&\")=\"&$F$2&\" and Barix(\"&$D$12&\",reference:=StartOfSession)=\"&A11&\"\", \"Bar\", \"\", \"Close\",\"5\",\"0\",\"PrimaryOnly\",,,\"False\",\"T\",\"EveryTick\")","v":120.203125},-3.8981288981288983E-4,{"$f":"RTD(\"cqg.rtd\",,\"StudyData\", \"Close(\"&$D$12&\") when LocalYear(\"&$D$12&\")=\"&$D$3&\" and localMonth(\"&$D$12&\") =\"&$E$3&\" and LocalDay(\"&$D$12&\")=\"&$F$3&\" and Barix(\"&$D$12&\",reference:=StartOfSession)=\"&A11&\"\", \"Bar\", \"\", \"Close\",\"5\",\"0\",\"PrimaryOnly\",,,\"False\",\"T\",\"EveryTick\")","v":120.171875},1.3019138133055592E-3,{"$f":"RTD(\"cqg.rtd\",,\"StudyData\", \"Close(\"&$D$12&\") when LocalYear(\"&$D$12&\")=\"&$D$4&\" and localMonth(\"&$D$12&\") =\"&$E$4&\" and LocalDay(\"&$D$12&\")=\"&$F$4&\" and Barix(\"&$D$12&\",reference:=StartOfSession)=\"&A11&\"\", \"Bar\", \"\", \"Close\",\"5\",\"0\",\"PrimaryOnly\",,,\"False\",\"T\",\"EveryTick\")","v":120.078125},-3.902185223725286E-4,{"$f":"RTD(\"cqg.rtd\",,\"StudyData\", \"Close(\"&$D$12&\") when LocalYear(\"&$D$12&\")=\"&$D$5&\" and localMonth(\"&$D$12&\") =\"&$E$5&\" and LocalDay(\"&$D$12&\")=\"&$F$5&\" and Barix(\"&$D$12&\",reference:=StartOfSession)=\"&A11&\"\", \"Bar\", \"\", \"Close\",\"5\",\"0\",\"PrimaryOnly\",,,\"False\",\"T\",\"EveryTick\")","v":120.125},-1.8177096857958971E-3,{"$f":"RTD(\"cqg.rtd\",,\"StudyData\", \"Close(\"&$D$12&\") when LocalYear(\"&$D$12&\")=\"&$D$6&\" and localMonth(\"&$D$12&\") =\"&$E$6&\" and LocalDay(\"&$D$12&\")=\"&$F$6&\" and Barix(\"&$D$12&\",reference:=StartOfSession)=\"&A11&\"\", \"Bar\", \"\", \"Close\",\"5\",\"0\",\"PrimaryOnly\",,,\"False\",\"T\",\"EveryTick\")","v":120.390625},1.1694386694386695E-3,{"$f":"RTD(\"cqg.rtd\",,\"StudyData\", \"Close(\"&$D$12&\") when LocalYear(\"&$D$12&\")=\"&$D$7&\" and localMonth(\"&$D$12&\") =\"&$E$7&\" and LocalDay(\"&$D$12&\")=\"&$F$7&\" and Barix(\"&$D$12&\",reference:=StartOfSession)=\"&A11&\"\", \"Bar\", \"\", \"Close\",\"5\",\"0\",\"PrimaryOnly\",,,\"False\",\"T\",\"EveryTick\")","v":120.3125},0,{"$f":"RTD(\"cqg.rtd\",,\"StudyData\", \"Close(\"&$D$12&\") when LocalYear(\"&$D$12&\")=\"&$D$8&\" and localMonth(\"&$D$12&\") =\"&$E$8&\" and LocalDay(\"&$D$12&\")=\"&$F$8&\" and Barix(\"&$D$12&\",reference:=StartOfSession)=\"&A11&\"\", \"Bar\", \"\", \"Close\",\"5\",\"0\",\"PrimaryOnly\",,,\"False\",\"T\",\"EveryTick\")","v":120.125},3.9037085230969419E-4,{"$f":"RTD(\"cqg.rtd\",,\"StudyData\", \"Close(\"&$D$12&\") when LocalYear(\"&$D$12&\")=\"&$D$9&\" and localMonth(\"&$D$12&\") =\"&$E$9&\" and LocalDay(\"&$D$12&\")=\"&$F$9&\" and Barix(\"&$D$12&\",reference:=StartOfSession)=\"&A11&\"\", \"Bar\", \"\", \"Close\",\"5\",\"0\",\"PrimaryOnly\",,,\"False\",\"T\",\"EveryTick\")","v":120.234375},3.9001560062402497E-4,{"$f":"RTD(\"cqg.rtd\",,\"StudyData\", \"Close(\"&$D$12&\") when LocalYear(\"&$D$12&\")=\"&$D$10&\" and localMonth(\"&$D$12&\") =\"&$E$10&\" and LocalDay(\"&$D$12&\")=\"&$F$10&\" and Barix(\"&$D$12&\",reference:=StartOfSession)=\"&A11&\"\", \"Bar\", \"\", \"Close\",\"5\",\"0\",\"PrimaryOnly\",,,\"False\",\"T\",\"EveryTick\")","v":120.171875},-1.3000520020800833E-4,null,null,null,""]
[191,"08:55:00",null,{"$f":"MainDisplay!R31","v":"TYA"},null,null,null,{"$f":"RTD(\"cqg.rtd\",,\"StudyData\", \"Close(\"&$D$12&\") when LocalYear(\"&$D$12&\")=\"&$D$1&\" and localMonth(\"&$D$12&\") =\"&$E$1&\" and LocalDay(\"&$D$12&\")=\"&$F$1&\" and Barix(\"&$D$12&\",reference:=StartOfSession)=\"&A12&\"\", \"Bar\", \"\", \"Close\",\"5\",\"0\",\"PrimaryOnly\",,,\"False\",\"T\",\"EveryTick\")","v":120.28125},1.0403120936280884E-3,{"$f":"RTD(\"cqg.rtd\",,\"StudyData\", \"Close(\"&$D$12&\") when LocalYear(\"&$D$12&\")=\"&$D$2&\" and localMonth(\"&$D$12&\") =\"&$E$2&\" and LocalDay(\"&$D$12&\")=\"&$F$2&\" and Barix(\"&$D$12&\",reference:=StartOfSession)=\"&A12&\"\", \"Bar\", \"\", \"Close\",\"5\",\"0\",\"PrimaryOnly\",,,\"False\",\"T\",\"EveryTick\")","v":120.203125},-3.8981288981288983E-4,{"$f":"RTD(\"cqg.rtd\",,\"StudyData\", \"Close(\"&$D$12&\") when LocalYear(\"&$D$12&\")=\"&$D$3&\" and localMonth(\"&$D$12&\") =\"&$E$3&\" and LocalDay(\"&$D$12&\")=\"&$F$3&\" and Barix(\"&$D$12&\",reference:=StartOfSession)=\"&A12&\"\", \"Bar\", \"\", \"Close\",\"5\",\"0\",\"PrimaryOnly\",,,\"False\",\"T\",\"EveryTick\")","v":120.1875},1.4321051946361151E-3,{"$f":"RTD(\"cqg.rtd\",,\"StudyData\", \"Close(\"&$D$12&\") when LocalYear(\"&$D$12&\")=\"&$D$4&\" and localMonth(\"&$D$12&\") =\"&$E$4&\" and LocalDay(\"&$D$12&\")=\"&$F$4&\" and Barix(\"&$D$12&\",reference:=StartOfSession)=\"&A12&\"\", \"Bar\", \"\", \"Close\",\"5\",\"0\",\"PrimaryOnly\",,,\"False\",\"T\",\"EveryTick\")","v":120.078125},-3.902185223725286E-4,{"$f":"RTD(\"cqg.rtd\",,\"StudyData\", \"Close(\"&$D$12&\") when LocalYear(\"&$D$12&\")=\"&$D$5&\" and localMonth(\"&$D$12&\") =\"&$E$5&\" and LocalDay(\"&$D$12&\")=\"&$F$5&\" and Barix(\"&$D$12&\",reference:=StartOfSession)=\"&A12&\"\", \"Bar\", \"\", \"Close\",\"5\",\"0\",\"PrimaryOnly\",,,\"False\",\"T\",\"EveryTick\")","v":120.125},-1.8177096857958971E-3,{"$f":"RTD(\"cqg.rtd\",,\"StudyData\", \"Close(\"&$D$12&\") when LocalYear(\"&$D$12&\")=\"&$D$6&\" and localMonth(\"&$D$12&\") =\"&$E$6&\" and LocalDay(\"&$D$12&\")=\"&$F$6&\" and Barix(\"&$D$12&\",reference:=StartOfSession)=\"&A12&\"\", \"Bar\", \"\", \"Close\",\"5\",\"0\",\"PrimaryOnly\",,,\"False\",\"T\",\"EveryTick\")","v":120.40625},1.2993762993762994E-3,{"$f":"RTD(\"cqg.rtd\",,\"StudyData\", \"Close(\"&$D$12&\") when LocalYear(\"&$D$12&\")=\"&$D$7&\" and localMonth(\"&$D$12&\") =\"&$E$7&\" and LocalDay(\"&$D$12&\")=\"&$F$7&\" and Barix(\"&$D$12&\",reference:=StartOfSession)=\"&A12&\"\", \"Bar\", \"\", \"Close\",\"5\",\"0\",\"PrimaryOnly\",,,\"False\",\"T\",\"EveryTick\")","v":120.28125},-2.5974025974025974E-4,{"$f":"RTD(\"cqg.rtd\",,\"StudyData\", \"Close(\"&$D$12&\") when LocalYear(\"&$D$12&\")=\"&$D$8&\" and localMonth(\"&$D$12&\") =\"&$E$8&\" and LocalDay(\"&$D$12&\")=\"&$F$8&\" and Barix(\"&$D$12&\",reference:=StartOfSession)=\"&A12&\"\", \"Bar\", \"\", \"Close\",\"5\",\"0\",\"PrimaryOnly\",,,\"False\",\"T\",\"EveryTick\")","v":120.171875},7.8074170461938839E-4,{"$f":"RTD(\"cqg.rtd\",,\"StudyData\", \"Close(\"&$D$12&\") when LocalYear(\"&$D$12&\")=\"&$D$9&\" and localMonth(\"&$D$12&\") =\"&$E$9&\" and LocalDay(\"&$D$12&\")=\"&$F$9&\" and Barix(\"&$D$12&\",reference:=StartOfSession)=\"&A12&\"\", \"Bar\", \"\", \"Close\",\"5\",\"0\",\"PrimaryOnly\",,,\"False\",\"T\",\"EveryTick\")","v":120.234375},3.9001560062402497E-4,{"$f":"RTD(\"cqg.rtd\",,\"StudyData\", \"Close(\"&$D$12&\") when LocalYear(\"&$D$12&\")=\"&$D$10&\" and localMonth(\"&$D$12&\") =\"&$E$10&\" and LocalDay(\"&$D$12&\")=\"&$F$10&\" and Barix(\"&$D$12&\",reference:=StartOfSession)=\"&A12&\"\", \"Bar\", \"\", \"Close\",\"5\",\"0\",\"PrimaryOnly\",,,\"False\",\"T\",\"EveryTick\")","v":120.1875},0,null,{"$f":"VLOOKUP(MAX(AE2:AE81),A1:B81,2,FALSE)","v":"10:25:00"},null,""]
[192,"09:00:00",null,{"$f":"RTD(\"cqg.rtd\", ,\"ContractData\",D12, \"LastQuoteToday\",, \"T\")","v":120.296875},null,null,{"$f":"C1","v":"2018-07-13"},{"$f":"RTD(\"cqg.rtd\",,\"StudyData\", \"Close(\"&$D$12&\") when LocalYear(\"&$D$12&\")=\"&$D$1&\" and localMonth(\"&$D$12&\") =\"&$E$1&\" and LocalDay(\"&$D$12&\")=\"&$F$1&\" and Barix(\"&$D$12&\",reference:=StartOfSession)=\"&A13&\"\", \"Bar\", \"\", \"Close\",\"5\",\"0\",\"PrimaryOnly\",,,\"False\",\"T\",\"EveryTick\")","v":120.296875},1.1703511053315994E-3,{"$f":"RTD(\"cqg.rtd\",,\"StudyData\", \"Close(\"&$D$12&\") when LocalYear(\"&$D$12&\")=\"&$D$2&\" and localMonth(\"&$D$12&\") =\"&$E$2&\" and LocalDay(\"&$D$12&\")=\"&$F$2&\" and Barix(\"&$D$12&\",reference:=StartOfSession)=\"&A13&\"\", \"Bar\", \"\", \"Close\",\"5\",\"0\",\"PrimaryOnly\",,,\"False\",\"T\",\"EveryTick\")","v":120.1875},-5.1975051975051978E-4,{"$f":"RTD(\"cqg.rtd\",,\"StudyData\", \"Close(\"&$D$12&\") when LocalYear(\"&$D$12&\")=\"&$D$3&\" and localMonth(\"&$D$12&\") =\"&$E$3&\" and LocalDay(\"&$D$12&\")=\"&$F$3&\" and Barix(\"&$D$12&\",reference:=StartOfSession)=\"&A13&\"\", \"Bar\", \"\", \"Close\",\"5\",\"0\",\"PrimaryOnly\",,,\"False\",\"T\",\"EveryTick\")","v":120.140625},1.0415310506444472E-3,{"$f":"RTD(\"cqg.rtd\",,\"StudyData\", \"Close(\"&$D$12&\") when LocalYear(\"&$D$12&\")=\"&$D$4&\" and localMonth(\"&$D$12&\") =\"&$E$4&\" and LocalDay(\"&$D$12&\")=\"&$F$4&\" and Barix(\"&$D$12&\",reference:=StartOfSession)=\"&A13&\"\", \"Bar\", \"\", \"Close\",\"5\",\"0\",\"PrimaryOnly\",,,\"False\",\"T\",\"EveryTick\")","v":120.09375},-2.6014568158168577E-4,{"$f":"RTD(\"cqg.rtd\",,\"StudyData\", \"Close(\"&$D$12&\") when LocalYear(\"&$D$12&\")=\"&$D$5&\" and localMonth(\"&$D$12&\") =\"&$E$5&\" and LocalDay(\"&$D$12&\")=\"&$F$5&\" and Barix(\"&$D$12&\",reference:=StartOfSession)=\"&A13&\"\", \"Bar\", \"\", \"Close\",\"5\",\"0\",\"PrimaryOnly\",,,\"False\",\"T\",\"EveryTick\")","v":120.140625},-1.6878732796676188E-3,{"$f":"RTD(\"cqg.rtd\",,\"StudyData\", \"Close(\"&$D$12&\") when LocalYear(\"&$D$12&\")=\"&$D$6&\" and localMonth(\"&$D$12&\") =\"&$E$6&\" and LocalDay(\"&$D$12&\")=\"&$F$6&\" and Barix(\"&$D$12&\",reference:=StartOfSession)=\"&A13&\"\", \"Bar\", \"\", \"Close\",\"5\",\"0\",\"PrimaryOnly\",,,\"False\",\"T\",\"EveryTick\")","v":120.4375},1.5592515592515593E-3,{"$f":"RTD(\"cqg.rtd\",,\"StudyData\", \"Close(\"&$D$12&\") when LocalYear(\"&$D$12&\")=\"&$D$7&\" and localMonth(\"&$D$12&\") =\"&$E$7&\" and LocalDay(\"&$D$12&\")=\"&$F$7&\" and Barix(\"&$D$12&\",reference:=StartOfSession)=\"&A13&\"\", \"Bar\", \"\", \"Close\",\"5\",\"0\",\"PrimaryOnly\",,,\"False\",\"T\",\"EveryTick\")","v":120.28125},-2.5974025974025974E-4,{"$f":"RTD(\"cqg.rtd\",,\"StudyData\", \"Close(\"&$D$12&\") when LocalYear(\"&$D$12&\")=\"&$D$8&\" and localMonth(\"&$D$12&\") =\"&$E$8&\" and LocalDay(\"&$D$12&\")=\"&$F$8&\" and Barix(\"&$D$12&\",reference:=StartOfSession)=\"&A13&\"\", \"Bar\", \"\", \"Close\",\"5\",\"0\",\"PrimaryOnly\",,,\"False\",\"T\",\"EveryTick\")","v":120.15625},6.5061808718282373E-4,{"$f":"RTD(\"cqg.rtd\",,\"StudyData\", \"Close(\"&$D$12&\") when LocalYear(\"&$D$12&\")=\"&$D$9&\" and localMonth(\"&$D$12&\") =\"&$E$9&\" and LocalDay(\"&$D$12&\")=\"&$F$9&\" and Barix(\"&$D$12&\",reference:=StartOfSession)=\"&A13&\"\", \"Bar\", \"\", \"Close\",\"5\",\"0\",\"PrimaryOnly\",,,\"False\",\"T\",\"EveryTick\")","v":120.1875},0,{"$f":"RTD(\"cqg.rtd\",,\"StudyData\", \"Close(\"&$D$12&\") when LocalYear(\"&$D$12&\")=\"&$D$10&\" and localMonth(\"&$D$12&\") =\"&$E$10&\" and LocalDay(\"&$D$12&\")=\"&$F$10&\" and Barix(\"&$D$12&\",reference:=StartOfSession)=\"&A13&\"\", \"Bar\", \"\", \"Close\",\"5\",\"0\",\"PrimaryOnly\",,,\"False\",\"T\",\"EveryTick\")","v":120.203125},1.3000520020800833E-4,null,null,null,""]
[193,"09:05:00",null,{"$f":"RTD(\"cqg.rtd\", ,\"ContractData\",D12, \"LongDescription\",, \"T\")","v":"10yr US Treasury Notes (Globex), Sep 18"},null,null,{"$f":"C2","v":"2018-07-12"},{"$f":"RTD(\"cqg.rtd\",,\"StudyData\", \"Close(\"&$D$12&\") when LocalYear(\"&$D$12&\")=\"&$D$1&\" and localMonth(\"&$D$12&\") =\"&$E$1&\" and LocalDay(\"&$D$12&\")=\"&$F$1&\" and Barix(\"&$D$12&\",reference:=StartOfSession)=\"&A14&\"\", \"Bar\", \"\", \"Close\",\"5\",\"0\",\"PrimaryOnly\",,,\"False\",\"T\",\"EveryTick\")","v":120.28125},1.0403120936280884E-3,{"$f":"RTD(\"cqg.rtd\",,\"StudyData\", \"Close(\"&$D$12&\") when LocalYear(\"&$D$12&\")=\"&$D$2&\" and localMonth(\"&$D$12&\") =\"&$E$2&\" and LocalDay(\"&$D$12&\")=\"&$F$2&\" and Barix(\"&$D$12&\",reference:=StartOfSession)=\"&A14&\"\", \"Bar\", \"\", \"Close\",\"5\",\"0\",\"PrimaryOnly\",,,\"False\",\"T\",\"EveryTick\")","v":120.171875},-6.4968814968814972E-4,{"$f":"RTD(\"cqg.rtd\",,\"StudyData\", \"Close(\"&$D$12&\") when LocalYear(\"&$D$12&\")=\"&$D$3&\" and localMonth(\"&$D$12&\") =\"&$E$3&\" and LocalDay(\"&$D$12&\")=\"&$F$3&\" and Barix(\"&$D$12&\",reference:=StartOfSession)=\"&A14&\"\", \"Bar\", \"\", \"Close\",\"5\",\"0\",\"PrimaryOnly\",,,\"False\",\"T\",\"EveryTick\")","v":120.140625},1.0415310506444472E-3,{"$f":"RTD(\"cqg.rtd\",,\"StudyData\", \"Close(\"&$D$12&\") when LocalYear(\"&$D$12&\")=\"&$D$4&\" and localMonth(\"&$D$12&\") =\"&$E$4&\" and LocalDay(\"&$D$12&\")=\"&$F$4&\" and Barix(\"&$D$12&\",reference:=StartOfSession)=\"&A14&\"\", \"Bar\", \"\", \"Close\",\"5\",\"0\",\"PrimaryOnly\",,,\"False\",\"T\",\"EveryTick\")","v":120.125},0,{"$f":"RTD(\"cqg.rtd\",,\"StudyData\", \"Close(\"&$D$12&\") when LocalYear(\"&$D$12&\")=\"&$D$5&\" and localMonth(\"&$D$12&\") =\"&$E$5&\" and LocalDay(\"&$D$12&\")=\"&$F$5&\" and Barix(\"&$D$12&\",reference:=StartOfSession)=\"&A14&\"\", \"Bar\", \"\", \"Close\",\"5\",\"0\",\"PrimaryOnly\",,,\"False\",\"T\",\"EveryTick\")","v":120.171875},-1.428200467411062E-3,{"$f":"RTD(\"cqg.rtd\",,\"StudyData\", \"Close(\"&$D$12&\") when LocalYear(\"&$D$12&\")=\"&$D$6&\" and localMonth(\"&$D$12&\") =\"&$E$6&\" and LocalDay(\"&$D$12&\")=\"&$F$6&\" and Barix(\"&$D$12&\",reference:=StartOfSession)=\"&A14&\"\", \"Bar\", \"\", \"Close\",\"5\",\"0\",\"PrimaryOnly\",,,\"False\",\"T\",\"EveryTick\")","v":120.421875},1.4293139293139294E-3,{"$f":"RTD(\"cqg.rtd\",,\"StudyData\", \"Close(\"&$D$12&\") when LocalYear(\"&$D$12&\")=\"&$D$7&\" and localMonth(\"&$D$12&\") =\"&$E$7&\" and LocalDay(\"&$D$12&\")=\"&$F$7&\" and Barix(\"&$D$12&\",reference:=StartOfSession)=\"&A14&\"\", \"Bar\", \"\", \"Close\",\"5\",\"0\",\"PrimaryOnly\",,,\"False\",\"T\",\"EveryTick\")","v":120.28125},-2.5974025974025974E-4,{"$f":"RTD(\"cqg.rtd\",,\"StudyData\", \"Close(\"&$D$12&\") when LocalYear(\"&$D$12&\")=\"&$D$8&\" and localMonth(\"&$D$12&\") =\"&$E$8&\" and LocalDay(\"&$D$12&\")=\"&$F$8&\" and Barix(\"&$D$12&\",reference:=StartOfSession)=\"&A14&\"\", \"Bar\", \"\", \"Close\",\"5\",\"0\",\"PrimaryOnly\",,,\"False\",\"T\",\"EveryTick\")","v":120.203125},1.0409889394925179E-3,{"$f":"RTD(\"cqg.rtd\",,\"StudyData\", \"Close(\"&$D$12&\") when LocalYear(\"&$D$12&\")=\"&$D$9&\" and localMonth(\"&$D$12&\") =\"&$E$9&\" and LocalDay(\"&$D$12&\")=\"&$F$9&\" and Barix(\"&$D$12&\",reference:=StartOfSession)=\"&A14&\"\", \"Bar\", \"\", \"Close\",\"5\",\"0\",\"PrimaryOnly\",,,\"False\",\"T\",\"EveryTick\")","v":120.1875},0,{"$f":"RTD(\"cqg.rtd\",,\"StudyData\", \"Close(\"&$D$12&\") when LocalYear(\"&$D$12&\")=\"&$D$10&\" and localMonth(\"&$D$12&\") =\"&$E$10&\" and LocalDay(\"&$D$12&\")=\"&$F$10&\" and Barix(\"&$D$12&\",reference:=StartOfSession)=\"&A14&\"\", \"Bar\", \"\", \"Close\",\"5\",\"0\",\"PrimaryOnly\",,,\"False\",\"T\",\"EveryTick\")","v":120.203125},1.3000520020800833E-4,null,null,null,""]
[194,"09:10:00","",null,null,{"$f":"RTD(\"cqg.rtd\", ,\"ContractData\",\"TYA\", \"Ticksize\",, \"T\")","v":1.5625E-2},"2018-07-11",{"$f":"RTD(\"cqg.rtd\",,\"StudyData\", \"Close(\"&$D$12&\") when LocalYear(\"&$D$12&\")=\"&$D$1&\" and localMonth(\"&$D$12&\") =\"&$E$1&\" and LocalDay(\"&$D$12&\")=\"&$F$1&\" and Barix(\"&$D$12&\",reference:=StartOfSession)=\"&A15&\"\", \"Bar\", \"\", \"Close\",\"5\",\"0\",\"PrimaryOnly\",,,\"False\",\"T\",\"EveryTick\")","v":120.328125},1.4304291287386215E-3,{"$f":"RTD(\"cqg.rtd\",,\"StudyData\", \"Close(\"&$D$12&\") when LocalYear(\"&$D$12&\")=\"&$D$2&\" and localMonth(\"&$D$12&\") =\"&$E$2&\" and LocalDay(\"&$D$12&\")=\"&$F$2&\" and Barix(\"&$D$12&\",reference:=StartOfSession)=\"&A15&\"\", \"Bar\", \"\", \"Close\",\"5\",\"0\",\"PrimaryOnly\",,,\"False\",\"T\",\"EveryTick\")","v":120.1875},-5.1975051975051978E-4,{"$f":"RTD(\"cqg.rtd\",,\"StudyData\", \"Close(\"&$D$12&\") when LocalYear(\"&$D$12&\")=\"&$D$3&\" and localMonth(\"&$D$12&\") =\"&$E$3&\" and LocalDay(\"&$D$12&\")=\"&$F$3&\" and Barix(\"&$D$12&\",reference:=StartOfSession)=\"&A15&\"\", \"Bar\", \"\", \"Close\",\"5\",\"0\",\"PrimaryOnly\",,,\"False\",\"T\",\"EveryTick\")","v":120.140625},1.0415310506444472E-3,{"$f":"RTD(\"cqg.rtd\",,\"StudyData\", \"Close(\"&$D$12&\") when LocalYear(\"&$D$12&\")=\"&$D$4&\" and localMonth(\"&$D$12&\") =\"&$E$4&\" and LocalDay(\"&$D$12&\")=\"&$F$4&\" and Barix(\"&$D$12&\",reference:=StartOfSession)=\"&A15&\"\", \"Bar\", \"\", \"Close\",\"5\",\"0\",\"PrimaryOnly\",,,\"False\",\"T\",\"EveryTick\")","v":120.140625},1.3007284079084288E-4,{"$f":"RTD(\"cqg.rtd\",,\"StudyData\", \"Close(\"&$D$12&\") when LocalYear(\"&$D$12&\")=\"&$D$5&\" and localMonth(\"&$D$12&\") =\"&$E$5&\" and LocalDay(\"&$D$12&\")=\"&$F$5&\" and Barix(\"&$D$12&\",reference:=StartOfSession)=\"&A15&\"\", \"Bar\", \"\", \"Close\",\"5\",\"0\",\"PrimaryOnly\",,,\"False\",\"T\",\"EveryTick\")","v":120.171875},-1.428200467411062E-3,{"$f":"RTD(\"cqg.rtd\",,\"StudyData\", \"Close(\"&$D$12&\") when LocalYear(\"&$D$12&\")=\"&$D$6&\" and localMonth(\"&$D$12&\") =\"&$E$6&\" and LocalDay(\"&$D$12&\")=\"&$F$6&\" and Barix(\"&$D$12&\",reference:=StartOfSession)=\"&A15&\"\", \"Bar\", \"\", \"Close\",\"5\",\"0\",\"PrimaryOnly\",,,\"False\",\"T\",\"EveryTick\")","v":120.421875},1.4293139293139294E-3,{"$f":"RTD(\"cqg.rtd\",,\"StudyData\", \"Close(\"&$D$12&\") when LocalYear(\"&$D$12&\")=\"&$D$7&\" and localMonth(\"&$D$12&\") =\"&$E$7&\" and LocalDay(\"&$D$12&\")=\"&$F$7&\" and Barix(\"&$D$12&\",reference:=StartOfSession)=\"&A15&\"\", \"Bar\", \"\", \"Close\",\"5\",\"0\",\"PrimaryOnly\",,,\"False\",\"T\",\"EveryTick\")","v":120.328125},1.2987012987012987E-4,{"$f":"RTD(\"cqg.rtd\",,\"StudyData\", \"Close(\"&$D$12&\") when LocalYear(\"&$D$12&\")=\"&$D$8&\" and localMonth(\"&$D$12&\") =\"&$E$8&\" and LocalDay(\"&$D$12&\")=\"&$F$8&\" and Barix(\"&$D$12&\",reference:=StartOfSession)=\"&A15&\"\", \"Bar\", \"\", \"Close\",\"5\",\"0\",\"PrimaryOnly\",,,\"False\",\"T\",\"EveryTick\")","v":120.203125},1.0409889394925179E-3,{"$f":"RTD(\"cqg.rtd\",,\"StudyData\", \"Close(\"&$D$12&\") when LocalYear(\"&$D$12&\")=\"&$D$9&\" and localMonth(\"&$D$12&\") =\"&$E$9&\" and LocalDay(\"&$D$12&\")=\"&$F$9&\" and Barix(\"&$D$12&\",reference:=StartOfSession)=\"&A15&\"\", \"Bar\", \"\", \"Close\",\"5\",\"0\",\"PrimaryOnly\",,,\"False\",\"T\",\"EveryTick\")","v":120.21875},2.6001040041601667E-4,{"$f":"RTD(\"cqg.rtd\",,\"StudyData\", \"Close(\"&$D$12&\") when LocalYear(\"&$D$12&\")=\"&$D$10&\" and localMonth(\"&$D$12&\") =\"&$E$10&\" and LocalDay(\"&$D$12&\")=\"&$F$10&\" and Barix(\"&$D$12&\",reference:=StartOfSession)=\"&A15&\"\", \"Bar\", \"\", \"Close\",\"5\",\"0\",\"PrimaryOnly\",,,\"False\",\"T\",\"EveryTick\")","v":120.21875},2.6001040041601667E-4,null,null,null,""]
[195,"09:15:00",null,{"$f":"RTD(\"cqg.rtd\", ,\"ContractData\",D12, \"Ticksize\",, \"T\")","v":1.5625E-2},null,{"$f":"IF(OR(D16=0.0078125,D16=0.015625,D16=0.03125),\"B\",F17)","v":"B"},"2018-07-10",{"$f":"RTD(\"cqg.rtd\",,\"StudyData\", \"Close(\"&$D$12&\") when LocalYear(\"&$D$12&\")=\"&$D$1&\" and localMonth(\"&$D$12&\") =\"&$E$1&\" and LocalDay(\"&$D$12&\")=\"&$F$1&\" and Barix(\"&$D$12&\",reference:=StartOfSession)=\"&A16&\"\", \"Bar\", \"\", \"Close\",\"5\",\"0\",\"PrimaryOnly\",,,\"False\",\"T\",\"EveryTick\")","v":120.3125},1.3003901170351106E-3,{"$f":"RTD(\"cqg.rtd\",,\"StudyData\", \"Close(\"&$D$12&\") when LocalYear(\"&$D$12&\")=\"&$D$2&\" and localMonth(\"&$D$12&\") =\"&$E$2&\" and LocalDay(\"&$D$12&\")=\"&$F$2&\" and Barix(\"&$D$12&\",reference:=StartOfSession)=\"&A16&\"\", \"Bar\", \"\", \"Close\",\"5\",\"0\",\"PrimaryOnly\",,,\"False\",\"T\",\"EveryTick\")","v":120.21875},-2.5987525987525989E-4,{"$f":"RTD(\"cqg.rtd\",,\"StudyData\", \"Close(\"&$D$12&\") when LocalYear(\"&$D$12&\")=\"&$D$3&\" and localMonth(\"&$D$12&\") =\"&$E$3&\" and LocalDay(\"&$D$12&\")=\"&$F$3&\" and Barix(\"&$D$12&\",reference:=StartOfSession)=\"&A16&\"\", \"Bar\", \"\", \"Close\",\"5\",\"0\",\"PrimaryOnly\",,,\"False\",\"T\",\"EveryTick\")","v":120.140625},1.0415310506444472E-3,{"$f":"RTD(\"cqg.rtd\",,\"StudyData\", \"Close(\"&$D$12&\") when LocalYear(\"&$D$12&\")=\"&$D$4&\" and localMonth(\"&$D$12&\") =\"&$E$4&\" and LocalDay(\"&$D$12&\")=\"&$F$4&\" and Barix(\"&$D$12&\",reference:=StartOfSession)=\"&A16&\"\", \"Bar\", \"\", \"Close\",\"5\",\"0\",\"PrimaryOnly\",,,\"False\",\"T\",\"EveryTick\")","v":120.109375},-1.3007284079084288E-4,{"$f":"RTD(\"cqg.rtd\",,\"StudyData\", \"Close(\"&$D$12&\") when LocalYear(\"&$D$12&\")=\"&$D$5&\" and localMonth(\"&$D$12&\") =\"&$E$5&\" and LocalDay(\"&$D$12&\")=\"&$F$5&\" and Barix(\"&$D$12&\",reference:=StartOfSession)=\"&A16&\"\", \"Bar\", \"\", \"Close\",\"5\",\"0\",\"PrimaryOnly\",,,\"False\",\"T\",\"EveryTick\")","v":120.171875},-1.428200467411062E-3,{"$f":"RTD(\"cqg.rtd\",,\"StudyData\", \"Close(\"&$D$12&\") when LocalYear(\"&$D$12&\")=\"&$D$6&\" and localMonth(\"&$D$12&\") =\"&$E$6&\" and LocalDay(\"&$D$12&\")=\"&$F$6&\" and Barix(\"&$D$12&\",reference:=StartOfSession)=\"&A16&\"\", \"Bar\", \"\", \"Close\",\"5\",\"0\",\"PrimaryOnly\",,,\"False\",\"T\",\"EveryTick\")","v":120.46875},1.8191268191268192E-3,{"$f":"RTD(\"cqg.rtd\",,\"StudyData\", \"Close(\"&$D$12&\") when LocalYear(\"&$D$12&\")=\"&$D$7&\" and localMonth(\"&$D$12&\") =\"&$E$7&\" and LocalDay(\"&$D$12&\")=\"&$F$7&\" and Barix(\"&$D$12&\",reference:=StartOfSession)=\"&A16&\"\", \"Bar\", \"\", \"Close\",\"5\",\"0\",\"PrimaryOnly\",,,\"False\",\"T\",\"EveryTick\")","v":120.328125},1.2987012987012987E-4,{"$f":"RTD(\"cqg.rtd\",,\"StudyData\", \"Close(\"&$D$12&\") when LocalYear(\"&$D$12&\")=\"&$D$8&\" and localMonth(\"&$D$12&\") =\"&$E$8&\" and LocalDay(\"&$D$12&\")=\"&$F$8&\" and Barix(\"&$D$12&\",reference:=StartOfSession)=\"&A16&\"\", \"Bar\", \"\", \"Close\",\"5\",\"0\",\"PrimaryOnly\",,,\"False\",\"T\",\"EveryTick\")","v":120.21875},1.1711125569290827E-3,{"$f":"RTD(\"cqg.rtd\",,\"StudyData\", \"Close(\"&$D$12&\") when LocalYear(\"&$D$12&\")=\"&$D$9&\" and localMonth(\"&$D$12&\") =\"&$E$9&\" and LocalDay(\"&$D$12&\")=\"&$F$9&\" and Barix(\"&$D$12&\",reference:=StartOfSession)=\"&A16&\"\", \"Bar\", \"\", \"Close\",\"5\",\"0\",\"PrimaryOnly\",,,\"False\",\"T\",\"EveryTick\")","v":120.171875},-1.3000520020800833E-4,{"$f":"RTD(\"cqg.rtd\",,\"StudyData\", \"Close(\"&$D$12&\") when LocalYear(\"&$D$12&\")=\"&$D$10&\" and localMonth(\"&$D$12&\") =\"&$E$10&\" and LocalDay(\"&$D$12&\")=\"&$F$10&\" and Barix(\"&$D$12&\",reference:=StartOfSession)=\"&A16&\"\", \"Bar\", \"\", \"Close\",\"5\",\"0\",\"PrimaryOnly\",,,\"False\",\"T\",\"EveryTick\")","v":120.21875},2.6001040041601667E-4,null,null,null,""]
[196,"09:20:00",null,{"$f":"IF(D16>=1,0,IF(LEN(D16)-2=1,2,LEN(D16)-2))","v":6},null,{"$f":"VLOOKUP(D17,D18:E25,2,FALSE)","v":"#.000000"},"2018-07-09",{"$f":"RTD(\"cqg.rtd\",,\"StudyData\", \"Close(\"&$D$12&\") when LocalYear(\"&$D$12&\")=\"&$D$1&\" and localMonth(\"&$D$12&\") =\"&$E$1&\" and LocalDay(\"&$D$12&\")=\"&$F$1&\" and Barix(\"&$D$12&\",reference:=StartOfSession)=\"&A17&\"\", \"Bar\", \"\", \"Close\",\"5\",\"0\",\"PrimaryOnly\",,,\"False\",\"T\",\"EveryTick\")","v":120.34375},1.5604681404421327E-3,{"$f":"RTD(\"cqg.rtd\",,\"StudyData\", \"Close(\"&$D$12&\") when LocalYear(\"&$D$12&\")=\"&$D$2&\" and localMonth(\"&$D$12&\") =\"&$E$2&\" and LocalDay(\"&$D$12&\")=\"&$F$2&\" and Barix(\"&$D$12&\",reference:=StartOfSession)=\"&A17&\"\", \"Bar\", \"\", \"Close\",\"5\",\"0\",\"PrimaryOnly\",,,\"False\",\"T\",\"EveryTick\")","v":120.25},0,{"$f":"RTD(\"cqg.rtd\",,\"StudyData\", \"Close(\"&$D$12&\") when LocalYear(\"&$D$12&\")=\"&$D$3&\" and localMonth(\"&$D$12&\") =\"&$E$3&\" and LocalDay(\"&$D$12&\")=\"&$F$3&\" and Barix(\"&$D$12&\",reference:=StartOfSession)=\"&A17&\"\", \"Bar\", \"\", \"Close\",\"5\",\"0\",\"PrimaryOnly\",,,\"False\",\"T\",\"EveryTick\")","v":120.125},9.1133966931389147E-4,{"$f":"RTD(\"cqg.rtd\",,\"StudyData\", \"Close(\"&$D$12&\") when LocalYear(\"&$D$12&\")=\"&$D$4&\" and localMonth(\"&$D$12&\") =\"&$E$4&\" and LocalDay(\"&$D$12&\")=\"&$F$4&\" and Barix(\"&$D$12&\",reference:=StartOfSession)=\"&A17&\"\", \"Bar\", \"\", \"Close\",\"5\",\"0\",\"PrimaryOnly\",,,\"False\",\"T\",\"EveryTick\")","v":120.078125},-3.902185223725286E-4,{"$f":"RTD(\"cqg.rtd\",,\"StudyData\", \"Close(\"&$D$12&\") when LocalYear(\"&$D$12&\")=\"&$D$5&\" and localMonth(\"&$D$12&\") =\"&$E$5&\" and LocalDay(\"&$D$12&\")=\"&$F$5&\" and Barix(\"&$D$12&\",reference:=StartOfSession)=\"&A17&\"\", \"Bar\", \"\", \"Close\",\"5\",\"0\",\"PrimaryOnly\",,,\"False\",\"T\",\"EveryTick\")","v":120.171875},-1.428200467411062E-3,{"$f":"RTD(\"cqg.rtd\",,\"StudyData\", \"Close(\"&$D$12&\") when LocalYear(\"&$D$12&\")=\"&$D$6&\" and localMonth(\"&$D$12&\") =\"&$E$6&\" and LocalDay(\"&$D$12&\")=\"&$F$6&\" and Barix(\"&$D$12&\",reference:=StartOfSession)=\"&A17&\"\", \"Bar\", \"\", \"Close\",\"5\",\"0\",\"PrimaryOnly\",,,\"False\",\"T\",\"EveryTick\")","v":120.46875},1.8191268191268192E-3,{"$f":"RTD(\"cqg.rtd\",,\"StudyData\", \"Close(\"&$D$12&\") when LocalYear(\"&$D$12&\")=\"&$D$7&\" and localMonth(\"&$D$12&\") =\"&$E$7&\" and LocalDay(\"&$D$12&\")=\"&$F$7&\" and Barix(\"&$D$12&\",reference:=StartOfSession)=\"&A17&\"\", \"Bar\", \"\", \"Close\",\"5\",\"0\",\"PrimaryOnly\",,,\"False\",\"T\",\"EveryTick\")","v":120.34375},2.5974025974025974E-4,{"$f":"RTD(\"cqg.rtd\",,\"StudyData\", \"Close(\"&$D$12&\") when LocalYear(\"&$D$12&\")=\"&$D$8&\" and localMonth(\"&$D$12&\") =\"&$E$8&\" and LocalDay(\"&$D$12&\")=\"&$F$8&\" and Barix(\"&$D$12&\",reference:=StartOfSession)=\"&A17&\"\", \"Bar\", \"\", \"Close\",\"5\",\"0\",\"PrimaryOnly\",,,\"False\",\"T\",\"EveryTick\")","v":120.203125},1.0409889394925179E-3,{"$f":"RTD(\"cqg.rtd\",,\"StudyData\", \"Close(\"&$D$12&\") when LocalYear(\"&$D$12&\")=\"&$D$9&\" and localMonth(\"&$D$12&\") =\"&$E$9&\" and LocalDay(\"&$D$12&\")=\"&$F$9&\" and Barix(\"&$D$12&\",reference:=StartOfSession)=\"&A17&\"\", \"Bar\", \"\", \"Close\",\"5\",\"0\",\"PrimaryOnly\",,,\"False\",\"T\",\"EveryTick\")","v":120.15625},-2.6001040041601667E-4,{"$f":"RTD(\"cqg.rtd\",,\"StudyData\", \"Close(\"&$D$12&\") when LocalYear(\"&$D$12&\")=\"&$D$10&\" and localMonth(\"&$D$12&\") =\"&$E$10&\" and LocalDay(\"&$D$12&\")=\"&$F$10&\" and Barix(\"&$D$12&\",reference:=StartOfSession)=\"&A17&\"\", \"Bar\", \"\", \"Close\",\"5\",\"0\",\"PrimaryOnly\",,,\"False\",\"T\",\"EveryTick\")","v":120.203125},1.3000520020800833E-4,null,null,null,""]
[197,"09:25:00",null,0,"#",null,"2018-07-06",{"$f":"RTD(\"cqg.rtd\",,\"StudyData\", \"Close(\"&$D$12&\") when LocalYear(\"&$D$12&\")=\"&$D$1&\" and localMonth(\"&$D$12&\") =\"&$E$1&\" and LocalDay(\"&$D$12&\")=\"&$F$1&\" and Barix(\"&$D$12&\",reference:=StartOfSession)=\"&A18&\"\", \"Bar\", \"\", \"Close\",\"5\",\"0\",\"PrimaryOnly\",,,\"False\",\"T\",\"EveryTick\")","v":120.34375},1.5604681404421327E-3,{"$f":"RTD(\"cqg.rtd\",,\"StudyData\", \"Close(\"&$D$12&\") when LocalYear(\"&$D$12&\")=\"&$D$2&\" and localMonth(\"&$D$12&\") =\"&$E$2&\" and LocalDay(\"&$D$12&\")=\"&$F$2&\" and Barix(\"&$D$12&\",reference:=StartOfSession)=\"&A18&\"\", \"Bar\", \"\", \"Close\",\"5\",\"0\",\"PrimaryOnly\",,,\"False\",\"T\",\"EveryTick\")","v":120.1875},-5.1975051975051978E-4,{"$f":"RTD(\"cqg.rtd\",,\"StudyData\", \"Close(\"&$D$12&\") when LocalYear(\"&$D$12&\")=\"&$D$3&\" and localMonth(\"&$D$12&\") =\"&$E$3&\" and LocalDay(\"&$D$12&\")=\"&$F$3&\" and Barix(\"&$D$12&\",reference:=StartOfSession)=\"&A18&\"\", \"Bar\", \"\", \"Close\",\"5\",\"0\",\"PrimaryOnly\",,,\"False\",\"T\",\"EveryTick\")","v":120.109375},7.8114828798333548E-4,{"$f":"RTD(\"cqg.rtd\",,\"StudyData\", \"Close(\"&$D$12&\") when LocalYear(\"&$D$12&\")=\"&$D$4&\" and localMonth(\"&$D$12&\") =\"&$E$4&\" and LocalDay(\"&$D$12&\")=\"&$F$4&\" and Barix(\"&$D$12&\",reference:=StartOfSession)=\"&A18&\"\", \"Bar\", \"\", \"Close\",\"5\",\"0\",\"PrimaryOnly\",,,\"False\",\"T\",\"EveryTick\")","v":120.109375},-1.3007284079084288E-4,{"$f":"RTD(\"cqg.rtd\",,\"StudyData\", \"Close(\"&$D$12&\") when LocalYear(\"&$D$12&\")=\"&$D$5&\" and localMonth(\"&$D$12&\") =\"&$E$5&\" and LocalDay(\"&$D$12&\")=\"&$F$5&\" and Barix(\"&$D$12&\",reference:=StartOfSession)=\"&A18&\"\", \"Bar\", \"\", \"Close\",\"5\",\"0\",\"PrimaryOnly\",,,\"False\",\"T\",\"EveryTick\")","v":120.1875},-1.2983640612827837E-3,{"$f":"RTD(\"cqg.rtd\",,\"StudyData\", \"Close(\"&$D$12&\") when LocalYear(\"&$D$12&\")=\"&$D$6&\" and localMonth(\"&$D$12&\") =\"&$E$6&\" and LocalDay(\"&$D$12&\")=\"&$F$6&\" and Barix(\"&$D$12&\",reference:=StartOfSession)=\"&A18&\"\", \"Bar\", \"\", \"Close\",\"5\",\"0\",\"PrimaryOnly\",,,\"False\",\"T\",\"EveryTick\")","v":120.4375},1.5592515592515593E-3,{"$f":"RTD(\"cqg.rtd\",,\"StudyData\", \"Close(\"&$D$12&\") when LocalYear(\"&$D$12&\")=\"&$D$7&\" and localMonth(\"&$D$12&\") =\"&$E$7&\" and LocalDay(\"&$D$12&\")=\"&$F$7&\" and Barix(\"&$D$12&\",reference:=StartOfSession)=\"&A18&\"\", \"Bar\", \"\", \"Close\",\"5\",\"0\",\"PrimaryOnly\",,,\"False\",\"T\",\"EveryTick\")","v":120.359375},3.8961038961038961E-4,{"$f":"RTD(\"cqg.rtd\",,\"StudyData\", \"Close(\"&$D$12&\") when LocalYear(\"&$D$12&\")=\"&$D$8&\" and localMonth(\"&$D$12&\") =\"&$E$8&\" and LocalDay(\"&$D$12&\")=\"&$F$8&\" and Barix(\"&$D$12&\",reference:=StartOfSession)=\"&A18&\"\", \"Bar\", \"\", \"Close\",\"5\",\"0\",\"PrimaryOnly\",,,\"False\",\"T\",\"EveryTick\")","v":120.25},1.431359791802212E-3,{"$f":"RTD(\"cqg.rtd\",,\"StudyData\", \"Close(\"&$D$12&\") when LocalYear(\"&$D$12&\")=\"&$D$9&\" and localMonth(\"&$D$12&\") =\"&$E$9&\" and LocalDay(\"&$D$12&\")=\"&$F$9&\" and Barix(\"&$D$12&\",reference:=StartOfSession)=\"&A18&\"\", \"Bar\", \"\", \"Close\",\"5\",\"0\",\"PrimaryOnly\",,,\"False\",\"T\",\"EveryTick\")","v":120.171875},-1.3000520020800833E-4,{"$f":"RTD(\"cqg.rtd\",,\"StudyData\", \"Close(\"&$D$12&\") when LocalYear(\"&$D$12&\")=\"&$D$10&\" and localMonth(\"&$D$12&\") =\"&$E$10&\" and LocalDay(\"&$D$12&\")=\"&$F$10&\" and Barix(\"&$D$12&\",reference:=StartOfSession)=\"&A18&\"\", \"Bar\", \"\", \"Close\",\"5\",\"0\",\"PrimaryOnly\",,,\"False\",\"T\",\"EveryTick\")","v":120.234375},3.9001560062402497E-4,null,null,null,""]
[198,"09:30:00",null,1,"#.0",null,"2018-07-05",{"$f":"RTD(\"cqg.rtd\",,\"StudyData\", \"Close(\"&$D$12&\") when LocalYear(\"&$D$12&\")=\"&$D$1&\" and localMonth(\"&$D$12&\") =\"&$E$1&\" and LocalDay(\"&$D$12&\")=\"&$F$1&\" and Barix(\"&$D$12&\",reference:=StartOfSession)=\"&A19&\"\", \"Bar\", \"\", \"Close\",\"5\",\"0\",\"PrimaryOnly\",,,\"False\",\"T\",\"EveryTick\")","v":120.359375},1.6905071521456437E-3,{"$f":"RTD(\"cqg.rtd\",,\"StudyData\", \"Close(\"&$D$12&\") when LocalYear(\"&$D$12&\")=\"&$D$2&\" and localMonth(\"&$D$12&\") =\"&$E$2&\" and LocalDay(\"&$D$12&\")=\"&$F$2&\" and Barix(\"&$D$12&\",reference:=StartOfSession)=\"&A19&\"\", \"Bar\", \"\", \"Close\",\"5\",\"0\",\"PrimaryOnly\",,,\"False\",\"T\",\"EveryTick\")","v":120.203125},-3.8981288981288983E-4,{"$f":"RTD(\"cqg.rtd\",,\"StudyData\", \"Close(\"&$D$12&\") when LocalYear(\"&$D$12&\")=\"&$D$3&\" and localMonth(\"&$D$12&\") =\"&$E$3&\" and LocalDay(\"&$D$12&\")=\"&$F$3&\" and Barix(\"&$D$12&\",reference:=StartOfSession)=\"&A19&\"\", \"Bar\", \"\", \"Close\",\"5\",\"0\",\"PrimaryOnly\",,,\"False\",\"T\",\"EveryTick\")","v":120.09375},6.5095690665277961E-4,{"$f":"RTD(\"cqg.rtd\",,\"StudyData\", \"Close(\"&$D$12&\") when LocalYear(\"&$D$12&\")=\"&$D$4&\" and localMonth(\"&$D$12&\") =\"&$E$4&\" and LocalDay(\"&$D$12&\")=\"&$F$4&\" and Barix(\"&$D$12&\",reference:=StartOfSession)=\"&A19&\"\", \"Bar\", \"\", \"Close\",\"5\",\"0\",\"PrimaryOnly\",,,\"False\",\"T\",\"EveryTick\")","v":120.09375},-2.6014568158168577E-4,{"$f":"RTD(\"cqg.rtd\",,\"StudyData\", \"Close(\"&$D$12&\") when LocalYear(\"&$D$12&\")=\"&$D$5&\" and localMonth(\"&$D$12&\") =\"&$E$5&\" and LocalDay(\"&$D$12&\")=\"&$F$5&\" and Barix(\"&$D$12&\",reference:=StartOfSession)=\"&A19&\"\", \"Bar\", \"\", \"Close\",\"5\",\"0\",\"PrimaryOnly\",,,\"False\",\"T\",\"EveryTick\")","v":120.1875},-1.2983640612827837E-3,{"$f":"RTD(\"cqg.rtd\",,\"StudyData\", \"Close(\"&$D$12&\") when LocalYear(\"&$D$12&\")=\"&$D$6&\" and localMonth(\"&$D$12&\") =\"&$E$6&\" and LocalDay(\"&$D$12&\")=\"&$F$6&\" and Barix(\"&$D$12&\",reference:=StartOfSession)=\"&A19&\"\", \"Bar\", \"\", \"Close\",\"5\",\"0\",\"PrimaryOnly\",,,\"False\",\"T\",\"EveryTick\")","v":120.4375},1.5592515592515593E-3,{"$f":"RTD(\"cqg.rtd\",,\"StudyData\", \"Close(\"&$D$12&\") when LocalYear(\"&$D$12&\")=\"&$D$7&\" and localMonth(\"&$D$12&\") =\"&$E$7&\" and LocalDay(\"&$D$12&\")=\"&$F$7&\" and Barix(\"&$D$12&\",reference:=StartOfSession)=\"&A19&\"\", \"Bar\", \"\", \"Close\",\"5\",\"0\",\"PrimaryOnly\",,,\"False\",\"T\",\"EveryTick\")","v":120.375},5.1948051948051948E-4,{"$f":"RTD(\"cqg.rtd\",,\"StudyData\", \"Close(\"&$D$12&\") when LocalYear(\"&$D$12&\")=\"&$D$8&\" and localMonth(\"&$D$12&\") =\"&$E$8&\" and LocalDay(\"&$D$12&\")=\"&$F$8&\" and Barix(\"&$D$12&\",reference:=StartOfSession)=\"&A19&\"\", \"Bar\", \"\", \"Close\",\"5\",\"0\",\"PrimaryOnly\",,,\"False\",\"T\",\"EveryTick\")","v":120.234375},1.3012361743656475E-3,{"$f":"RTD(\"cqg.rtd\",,\"StudyData\", \"Close(\"&$D$12&\") when LocalYear(\"&$D$12&\")=\"&$D$9&\" and localMonth(\"&$D$12&\") =\"&$E$9&\" and LocalDay(\"&$D$12&\")=\"&$F$9&\" and Barix(\"&$D$12&\",reference:=StartOfSession)=\"&A19&\"\", \"Bar\", \"\", \"Close\",\"5\",\"0\",\"PrimaryOnly\",,,\"False\",\"T\",\"EveryTick\")","v":120.140625},-3.9001560062402497E-4,{"$f":"RTD(\"cqg.rtd\",,\"StudyData\", \"Close(\"&$D$12&\") when LocalYear(\"&$D$12&\")=\"&$D$10&\" and localMonth(\"&$D$12&\") =\"&$E$10&\" and LocalDay(\"&$D$12&\")=\"&$F$10&\" and Barix(\"&$D$12&\",reference:=StartOfSession)=\"&A19&\"\", \"Bar\", \"\", \"Close\",\"5\",\"0\",\"PrimaryOnly\",,,\"False\",\"T\",\"EveryTick\")","v":120.21875},2.6001040041601667E-4,null,null,null,""]
[199,"09:35:00",null,2,"#.00",null,"2018-07-03",{"$f":"RTD(\"cqg.rtd\",,\"StudyData\", \"Close(\"&$D$12&\") when LocalYear(\"&$D$12&\")=\"&$D$1&\" and localMonth(\"&$D$12&\") =\"&$E$1&\" and LocalDay(\"&$D$12&\")=\"&$F$1&\" and Barix(\"&$D$12&\",reference:=StartOfSession)=\"&A20&\"\", \"Bar\", \"\", \"Close\",\"5\",\"0\",\"PrimaryOnly\",,,\"False\",\"T\",\"EveryTick\")","v":120.34375},1.5604681404421327E-3,{"$f":"RTD(\"cqg.rtd\",,\"StudyData\", \"Close(\"&$D$12&\") when LocalYear(\"&$D$12&\")=\"&$D$2&\" and localMonth(\"&$D$12&\") =\"&$E$2&\" and LocalDay(\"&$D$12&\")=\"&$F$2&\" and Barix(\"&$D$12&\",reference:=StartOfSession)=\"&A20&\"\", \"Bar\", \"\", \"Close\",\"5\",\"0\",\"PrimaryOnly\",,,\"False\",\"T\",\"EveryTick\")","v":120.21875},-2.5987525987525989E-4,{"$f":"RTD(\"cqg.rtd\",,\"StudyData\", \"Close(\"&$D$12&\") when LocalYear(\"&$D$12&\")=\"&$D$3&\" and localMonth(\"&$D$12&\") =\"&$E$3&\" and LocalDay(\"&$D$12&\")=\"&$F$3&\" and Barix(\"&$D$12&\",reference:=StartOfSession)=\"&A20&\"\", \"Bar\", \"\", \"Close\",\"5\",\"0\",\"PrimaryOnly\",,,\"False\",\"T\",\"EveryTick\")","v":120.109375},7.8114828798333548E-4,{"$f":"RTD(\"cqg.rtd\",,\"StudyData\", \"Close(\"&$D$12&\") when LocalYear(\"&$D$12&\")=\"&$D$4&\" and localMonth(\"&$D$12&\") =\"&$E$4&\" and LocalDay(\"&$D$12&\")=\"&$F$4&\" and Barix(\"&$D$12&\",reference:=StartOfSession)=\"&A20&\"\", \"Bar\", \"\", \"Close\",\"5\",\"0\",\"PrimaryOnly\",,,\"False\",\"T\",\"EveryTick\")","v":120.109375},-1.3007284079084288E-4,{"$f":"RTD(\"cqg.rtd\",,\"StudyData\", \"Close(\"&$D$12&\") when LocalYear(\"&$D$12&\")=\"&$D$5&\" and localMonth(\"&$D$12&\") =\"&$E$5&\" and LocalDay(\"&$D$12&\")=\"&$F$5&\" and Barix(\"&$D$12&\",reference:=StartOfSession)=\"&A20&\"\", \"Bar\", \"\", \"Close\",\"5\",\"0\",\"PrimaryOnly\",,,\"False\",\"T\",\"EveryTick\")","v":120.171875},-1.428200467411062E-3,{"$f":"RTD(\"cqg.rtd\",,\"StudyData\", \"Close(\"&$D$12&\") when LocalYear(\"&$D$12&\")=\"&$D$6&\" and localMonth(\"&$D$12&\") =\"&$E$6&\" and LocalDay(\"&$D$12&\")=\"&$F$6&\" and Barix(\"&$D$12&\",reference:=StartOfSession)=\"&A20&\"\", \"Bar\", \"\", \"Close\",\"5\",\"0\",\"PrimaryOnly\",,,\"False\",\"T\",\"EveryTick\")","v":120.40625},1.2993762993762994E-3,{"$f":"RTD(\"cqg.rtd\",,\"StudyData\", \"Close(\"&$D$12&\") when LocalYear(\"&$D$12&\")=\"&$D$7&\" and localMonth(\"&$D$12&\") =\"&$E$7&\" and LocalDay(\"&$D$12&\")=\"&$F$7&\" and Barix(\"&$D$12&\",reference:=StartOfSession)=\"&A20&\"\", \"Bar\", \"\", \"Close\",\"5\",\"0\",\"PrimaryOnly\",,,\"False\",\"T\",\"EveryTick\")","v":120.34375},2.5974025974025974E-4,{"$f":"RTD(\"cqg.rtd\",,\"StudyData\", \"Close(\"&$D$12&\") when LocalYear(\"&$D$12&\")=\"&$D$8&\" and localMonth(\"&$D$12&\") =\"&$E$8&\" and LocalDay(\"&$D$12&\")=\"&$F$8&\" and Barix(\"&$D$12&\",reference:=StartOfSession)=\"&A20&\"\", \"Bar\", \"\", \"Close\",\"5\",\"0\",\"PrimaryOnly\",,,\"False\",\"T\",\"EveryTick\")","v":120.25},1.431359791802212E-3,{"$f":"RTD(\"cqg.rtd\",,\"StudyData\", \"Close(\"&$D$12&\") when LocalYear(\"&$D$12&\")=\"&$D$9&\" and localMonth(\"&$D$12&\") =\"&$E$9&\" and LocalDay(\"&$D$12&\")=\"&$F$9&\" and Barix(\"&$D$12&\",reference:=StartOfSession)=\"&A20&\"\", \"Bar\", \"\", \"Close\",\"5\",\"0\",\"PrimaryOnly\",,,\"False\",\"T\",\"EveryTick\")","v":120.140625},-3.9001560062402497E-4,{"$f":"RTD(\"cqg.rtd\",,\"StudyData\", \"Close(\"&$D$12&\") when LocalYear(\"&$D$12&\")=\"&$D$10&\" and localMonth(\"&$D$12&\") =\"&$E$10&\" and LocalDay(\"&$D$12&\")=\"&$F$10&\" and Barix(\"&$D$12&\",reference:=StartOfSession)=\"&A20&\"\", \"Bar\", \"\", \"Close\",\"5\",\"0\",\"PrimaryOnly\",,,\"False\",\"T\",\"EveryTick\")","v":120.203125},1.3000520020800833E-4,null,null,null,""]
[200,"09:40:00",null,3,"#.000",null,"2018-07-02",{"$f":"RTD(\"cqg.rtd\",,\"StudyData\", \"Close(\"&$D$12&\") when LocalYear(\"&$D$12&\")=\"&$D$1&\" and localMonth(\"&$D$12&\") =\"&$E$1&\" and LocalDay(\"&$D$12&\")=\"&$F$1&\" and Barix(\"&$D$12&\",reference:=StartOfSession)=\"&A21&\"\", \"Bar\", \"\", \"Close\",\"5\",\"0\",\"PrimaryOnly\",,,\"False\",\"T\",\"EveryTick\")","v":120.34375},1.5604681404421327E-3,{"$f":"RTD(\"cqg.rtd\",,\"StudyData\", \"Close(\"&$D$12&\") when LocalYear(\"&$D$12&\")=\"&$D$2&\" and localMonth(\"&$D$12&\") =\"&$E$2&\" and LocalDay(\"&$D$12&\")=\"&$F$2&\" and Barix(\"&$D$12&\",reference:=StartOfSession)=\"&A21&\"\", \"Bar\", \"\", \"Close\",\"5\",\"0\",\"PrimaryOnly\",,,\"False\",\"T\",\"EveryTick\")","v":120.21875},-2.5987525987525989E-4,{"$f":"RTD(\"cqg.rtd\",,\"StudyData\", \"Close(\"&$D$12&\") when LocalYear(\"&$D$12&\")=\"&$D$3&\" and localMonth(\"&$D$12&\") =\"&$E$3&\" and LocalDay(\"&$D$12&\")=\"&$F$3&\" and Barix(\"&$D$12&\",reference:=StartOfSession)=\"&A21&\"\", \"Bar\", \"\", \"Close\",\"5\",\"0\",\"PrimaryOnly\",,,\"False\",\"T\",\"EveryTick\")","v":120.109375},7.8114828798333548E-4,{"$f":"RTD(\"cqg.rtd\",,\"StudyData\", \"Close(\"&$D$12&\") when LocalYear(\"&$D$12&\")=\"&$D$4&\" and localMonth(\"&$D$12&\") =\"&$E$4&\" and LocalDay(\"&$D$12&\")=\"&$F$4&\" and Barix(\"&$D$12&\",reference:=StartOfSession)=\"&A21&\"\", \"Bar\", \"\", \"Close\",\"5\",\"0\",\"PrimaryOnly\",,,\"False\",\"T\",\"EveryTick\")","v":120.125},0,{"$f":"RTD(\"cqg.rtd\",,\"StudyData\", \"Close(\"&$D$12&\") when LocalYear(\"&$D$12&\")=\"&$D$5&\" and localMonth(\"&$D$12&\") =\"&$E$5&\" and LocalDay(\"&$D$12&\")=\"&$F$5&\" and Barix(\"&$D$12&\",reference:=StartOfSession)=\"&A21&\"\", \"Bar\", \"\", \"Close\",\"5\",\"0\",\"PrimaryOnly\",,,\"False\",\"T\",\"EveryTick\")","v":120.171875},-1.428200467411062E-3,{"$f":"RTD(\"cqg.rtd\",,\"StudyData\", \"Close(\"&$D$12&\") when LocalYear(\"&$D$12&\")=\"&$D$6&\" and localMonth(\"&$D$12&\") =\"&$E$6&\" and LocalDay(\"&$D$12&\")=\"&$F$6&\" and Barix(\"&$D$12&\",reference:=StartOfSession)=\"&A21&\"\", \"Bar\", \"\", \"Close\",\"5\",\"0\",\"PrimaryOnly\",,,\"False\",\"T\",\"EveryTick\")","v":120.390625},1.1694386694386695E-3,{"$f":"RTD(\"cqg.rtd\",,\"StudyData\", \"Close(\"&$D$12&\") when LocalYear(\"&$D$12&\")=\"&$D$7&\" and localMonth(\"&$D$12&\") =\"&$E$7&\" and LocalDay(\"&$D$12&\")=\"&$F$7&\" and Barix(\"&$D$12&\",reference:=StartOfSession)=\"&A21&\"\", \"Bar\", \"\", \"Close\",\"5\",\"0\",\"PrimaryOnly\",,,\"False\",\"T\",\"EveryTick\")","v":120.328125},1.2987012987012987E-4,{"$f":"RTD(\"cqg.rtd\",,\"StudyData\", \"Close(\"&$D$12&\") when LocalYear(\"&$D$12&\")=\"&$D$8&\" and localMonth(\"&$D$12&\") =\"&$E$8&\" and LocalDay(\"&$D$12&\")=\"&$F$8&\" and Barix(\"&$D$12&\",reference:=StartOfSession)=\"&A21&\"\", \"Bar\", \"\", \"Close\",\"5\",\"0\",\"PrimaryOnly\",,,\"False\",\"T\",\"EveryTick\")","v":120.28125},1.6916070266753415E-3,{"$f":"RTD(\"cqg.rtd\",,\"StudyData\", \"Close(\"&$D$12&\") when LocalYear(\"&$D$12&\")=\"&$D$9&\" and localMonth(\"&$D$12&\") =\"&$E$9&\" and LocalDay(\"&$D$12&\")=\"&$F$9&\" and Barix(\"&$D$12&\",reference:=StartOfSession)=\"&A21&\"\", \"Bar\", \"\", \"Close\",\"5\",\"0\",\"PrimaryOnly\",,,\"False\",\"T\",\"EveryTick\")","v":120.109375},-6.5002600104004159E-4,{"$f":"RTD(\"cqg.rtd\",,\"StudyData\", \"Close(\"&$D$12&\") when LocalYear(\"&$D$12&\")=\"&$D$10&\" and localMonth(\"&$D$12&\") =\"&$E$10&\" and LocalDay(\"&$D$12&\")=\"&$F$10&\" and Barix(\"&$D$12&\",reference:=StartOfSession)=\"&A21&\"\", \"Bar\", \"\", \"Close\",\"5\",\"0\",\"PrimaryOnly\",,,\"False\",\"T\",\"EveryTick\")","v":120.203125},1.3000520020800833E-4,null,null,null,""]
[201,"09:45:00",null,4,"#.0000",null,"2018-06-29",{"$f":"RTD(\"cqg.rtd\",,\"StudyData\", \"Close(\"&$D$12&\") when LocalYear(\"&$D$12&\")=\"&$D$1&\" and localMonth(\"&$D$12&\") =\"&$E$1&\" and LocalDay(\"&$D$12&\")=\"&$F$1&\" and Barix(\"&$D$12&\",reference:=StartOfSession)=\"&A22&\"\", \"Bar\", \"\", \"Close\",\"5\",\"0\",\"PrimaryOnly\",,,\"False\",\"T\",\"EveryTick\")","v":120.34375},1.5604681404421327E-3,{"$f":"RTD(\"cqg.rtd\",,\"StudyData\", \"Close(\"&$D$12&\") when LocalYear(\"&$D$12&\")=\"&$D$2&\" and localMonth(\"&$D$12&\") =\"&$E$2&\" and LocalDay(\"&$D$12&\")=\"&$F$2&\" and Barix(\"&$D$12&\",reference:=StartOfSession)=\"&A22&\"\", \"Bar\", \"\", \"Close\",\"5\",\"0\",\"PrimaryOnly\",,,\"False\",\"T\",\"EveryTick\")","v":120.203125},-3.8981288981288983E-4,{"$f":"RTD(\"cqg.rtd\",,\"StudyData\", \"Close(\"&$D$12&\") when LocalYear(\"&$D$12&\")=\"&$D$3&\" and localMonth(\"&$D$12&\") =\"&$E$3&\" and LocalDay(\"&$D$12&\")=\"&$F$3&\" and Barix(\"&$D$12&\",reference:=StartOfSession)=\"&A22&\"\", \"Bar\", \"\", \"Close\",\"5\",\"0\",\"PrimaryOnly\",,,\"False\",\"T\",\"EveryTick\")","v":120.125},9.1133966931389147E-4,{"$f":"RTD(\"cqg.rtd\",,\"StudyData\", \"Close(\"&$D$12&\") when LocalYear(\"&$D$12&\")=\"&$D$4&\" and localMonth(\"&$D$12&\") =\"&$E$4&\" and LocalDay(\"&$D$12&\")=\"&$F$4&\" and Barix(\"&$D$12&\",reference:=StartOfSession)=\"&A22&\"\", \"Bar\", \"\", \"Close\",\"5\",\"0\",\"PrimaryOnly\",,,\"False\",\"T\",\"EveryTick\")","v":120.125},0,{"$f":"RTD(\"cqg.rtd\",,\"StudyData\", \"Close(\"&$D$12&\") when LocalYear(\"&$D$12&\")=\"&$D$5&\" and localMonth(\"&$D$12&\") =\"&$E$5&\" and LocalDay(\"&$D$12&\")=\"&$F$5&\" and Barix(\"&$D$12&\",reference:=StartOfSession)=\"&A22&\"\", \"Bar\", \"\", \"Close\",\"5\",\"0\",\"PrimaryOnly\",,,\"False\",\"T\",\"EveryTick\")","v":120.140625},-1.6878732796676188E-3,{"$f":"RTD(\"cqg.rtd\",,\"StudyData\", \"Close(\"&$D$12&\") when LocalYear(\"&$D$12&\")=\"&$D$6&\" and localMonth(\"&$D$12&\") =\"&$E$6&\" and LocalDay(\"&$D$12&\")=\"&$F$6&\" and Barix(\"&$D$12&\",reference:=StartOfSession)=\"&A22&\"\", \"Bar\", \"\", \"Close\",\"5\",\"0\",\"PrimaryOnly\",,,\"False\",\"T\",\"EveryTick\")","v":120.390625},1.1694386694386695E-3,{"$f":"RTD(\"cqg.rtd\",,\"StudyData\", \"Close(\"&$D$12&\") when LocalYear(\"&$D$12&\")=\"&$D$7&\" and localMonth(\"&$D$12&\") =\"&$E$7&\" and LocalDay(\"&$D$12&\")=\"&$F$7&\" and Barix(\"&$D$12&\",reference:=StartOfSession)=\"&A22&\"\", \"Bar\", \"\", \"Close\",\"5\",\"0\",\"PrimaryOnly\",,,\"False\",\"T\",\"EveryTick\")","v":120.328125},1.2987012987012987E-4,{"$f":"RTD(\"cqg.rtd\",,\"StudyData\", \"Close(\"&$D$12&\") when LocalYear(\"&$D$12&\")=\"&$D$8&\" and localMonth(\"&$D$12&\") =\"&$E$8&\" and LocalDay(\"&$D$12&\")=\"&$F$8&\" and Barix(\"&$D$12&\",reference:=StartOfSession)=\"&A22&\"\", \"Bar\", \"\", \"Close\",\"5\",\"0\",\"PrimaryOnly\",,,\"False\",\"T\",\"EveryTick\")","v":120.3125},1.9518542615484711E-3,{"$f":"RTD(\"cqg.rtd\",,\"StudyData\", \"Close(\"&$D$12&\") when LocalYear(\"&$D$12&\")=\"&$D$9&\" and localMonth(\"&$D$12&\") =\"&$E$9&\" and LocalDay(\"&$D$12&\")=\"&$F$9&\" and Barix(\"&$D$12&\",reference:=StartOfSession)=\"&A22&\"\", \"Bar\", \"\", \"Close\",\"5\",\"0\",\"PrimaryOnly\",,,\"False\",\"T\",\"EveryTick\")","v":120.125},-5.2002080083203334E-4,{"$f":"RTD(\"cqg.rtd\",,\"StudyData\", \"Close(\"&$D$12&\") when LocalYear(\"&$D$12&\")=\"&$D$10&\" and localMonth(\"&$D$12&\") =\"&$E$10&\" and LocalDay(\"&$D$12&\")=\"&$F$10&\" and Barix(\"&$D$12&\",reference:=StartOfSession)=\"&A22&\"\", \"Bar\", \"\", \"Close\",\"5\",\"0\",\"PrimaryOnly\",,,\"False\",\"T\",\"EveryTick\")","v":120.203125},1.3000520020800833E-4,null,null,null,""]
[202,"09:50:00",null,5,"#.00000",null,null,{"$f":"RTD(\"cqg.rtd\",,\"StudyData\", \"Close(\"&$D$12&\") when LocalYear(\"&$D$12&\")=\"&$D$1&\" and localMonth(\"&$D$12&\") =\"&$E$1&\" and LocalDay(\"&$D$12&\")=\"&$F$1&\" and Barix(\"&$D$12&\",reference:=StartOfSession)=\"&A23&\"\", \"Bar\", \"\", \"Close\",\"5\",\"0\",\"PrimaryOnly\",,,\"False\",\"T\",\"EveryTick\")","v":120.34375},1.5604681404421327E-3,{"$f":"RTD(\"cqg.rtd\",,\"StudyData\", \"Close(\"&$D$12&\") when LocalYear(\"&$D$12&\")=\"&$D$2&\" and localMonth(\"&$D$12&\") =\"&$E$2&\" and LocalDay(\"&$D$12&\")=\"&$F$2&\" and Barix(\"&$D$12&\",reference:=StartOfSession)=\"&A23&\"\", \"Bar\", \"\", \"Close\",\"5\",\"0\",\"PrimaryOnly\",,,\"False\",\"T\",\"EveryTick\")","v":120.203125},-3.8981288981288983E-4,{"$f":"RTD(\"cqg.rtd\",,\"StudyData\", \"Close(\"&$D$12&\") when LocalYear(\"&$D$12&\")=\"&$D$3&\" and localMonth(\"&$D$12&\") =\"&$E$3&\" and LocalDay(\"&$D$12&\")=\"&$F$3&\" and Barix(\"&$D$12&\",reference:=StartOfSession)=\"&A23&\"\", \"Bar\", \"\", \"Close\",\"5\",\"0\",\"PrimaryOnly\",,,\"False\",\"T\",\"EveryTick\")","v":120.140625},1.0415310506444472E-3,{"$f":"RTD(\"cqg.rtd\",,\"StudyData\", \"Close(\"&$D$12&\") when LocalYear(\"&$D$12&\")=\"&$D$4&\" and localMonth(\"&$D$12&\") =\"&$E$4&\" and LocalDay(\"&$D$12&\")=\"&$F$4&\" and Barix(\"&$D$12&\",reference:=StartOfSession)=\"&A23&\"\", \"Bar\", \"\", \"Close\",\"5\",\"0\",\"PrimaryOnly\",,,\"False\",\"T\",\"EveryTick\")","v":120.09375},-2.6014568158168577E-4,{"$f":"RTD(\"cqg.rtd\",,\"StudyData\", \"Close(\"&$D$12&\") when LocalYear(\"&$D$12&\")=\"&$D$5&\" and localMonth(\"&$D$12&\") =\"&$E$5&\" and LocalDay(\"&$D$12&\")=\"&$F$5&\" and Barix(\"&$D$12&\",reference:=StartOfSession)=\"&A23&\"\", \"Bar\", \"\", \"Close\",\"5\",\"0\",\"PrimaryOnly\",,,\"False\",\"T\",\"EveryTick\")","v":120.140625},-1.6878732796676188E-3,{"$f":"RTD(\"cqg.rtd\",,\"StudyData\", \"Close(\"&$D$12&\") when LocalYear(\"&$D$12&\")=\"&$D$6&\" and localMonth(\"&$D$12&\") =\"&$E$6&\" and LocalDay(\"&$D$12&\")=\"&$F$6&\" and Barix(\"&$D$12&\",reference:=StartOfSession)=\"&A23&\"\", \"Bar\", \"\", \"Close\",\"5\",\"0\",\"PrimaryOnly\",,,\"False\",\"T\",\"EveryTick\")","v":120.390625},1.1694386694386695E-3,{"$f":"RTD(\"cqg.rtd\",,\"StudyData\", \"Close(\"&$D$12&\") when LocalYear(\"&$D$12&\")=\"&$D$7&\" and localMonth(\"&$D$12&\") =\"&$E$7&\" and LocalDay(\"&$D$12&\")=\"&$F$7&\" and Barix(\"&$D$12&\",reference:=StartOfSession)=\"&A23&\"\", \"Bar\", \"\", \"Close\",\"5\",\"0\",\"PrimaryOnly\",,,\"False\",\"T\",\"EveryTick\")","v":120.359375},3.8961038961038961E-4,{"$f":"RTD(\"cqg.rtd\",,\"StudyData\", \"Close(\"&$D$12&\") when LocalYear(\"&$D$12&\")=\"&$D$8&\" and localMonth(\"&$D$12&\") =\"&$E$8&\" and LocalDay(\"&$D$12&\")=\"&$F$8&\" and Barix(\"&$D$12&\",reference:=StartOfSession)=\"&A23&\"\", \"Bar\", \"\", \"Close\",\"5\",\"0\",\"PrimaryOnly\",,,\"False\",\"T\",\"EveryTick\")","v":120.28125},1.6916070266753415E-3,{"$f":"RTD(\"cqg.rtd\",,\"StudyData\", \"Close(\"&$D$12&\") when LocalYear(\"&$D$12&\")=\"&$D$9&\" and localMonth(\"&$D$12&\") =\"&$E$9&\" and LocalDay(\"&$D$12&\")=\"&$F$9&\" and Barix(\"&$D$12&\",reference:=StartOfSession)=\"&A23&\"\", \"Bar\", \"\", \"Close\",\"5\",\"0\",\"PrimaryOnly\",,,\"False\",\"T\",\"EveryTick\")","v":120.140625},-3.9001560062402497E-4,{"$f":"RTD(\"cqg.rtd\",,\"StudyData\", \"Close(\"&$D$12&\") when LocalYear(\"&$D$12&\")=\"&$D$10&\" and localMonth(\"&$D$12&\") =\"&$E$10&\" and LocalDay(\"&$D$12&\")=\"&$F$10&\" and Barix(\"&$D$12&\",reference:=StartOfSession)=\"&A23&\"\", \"Bar\", \"\", \"Close\",\"5\",\"0\",\"PrimaryOnly\",,,\"False\",\"T\",\"EveryTick\")","v":120.171875},-1.3000520020800833E-4,null,null,null,""]
[203,"09:55:00",null,6,"#.000000",null,null,{"$f":"RTD(\"cqg.rtd\",,\"StudyData\", \"Close(\"&$D$12&\") when LocalYear(\"&$D$12&\")=\"&$D$1&\" and localMonth(\"&$D$12&\") =\"&$E$1&\" and LocalDay(\"&$D$12&\")=\"&$F$1&\" and Barix(\"&$D$12&\",reference:=StartOfSession)=\"&A24&\"\", \"Bar\", \"\", \"Close\",\"5\",\"0\",\"PrimaryOnly\",,,\"False\",\"T\",\"EveryTick\")","v":120.328125},1.4304291287386215E-3,{"$f":"RTD(\"cqg.rtd\",,\"StudyData\", \"Close(\"&$D$12&\") when LocalYear(\"&$D$12&\")=\"&$D$2&\" and localMonth(\"&$D$12&\") =\"&$E$2&\" and LocalDay(\"&$D$12&\")=\"&$F$2&\" and Barix(\"&$D$12&\",reference:=StartOfSession)=\"&A24&\"\", \"Bar\", \"\", \"Close\",\"5\",\"0\",\"PrimaryOnly\",,,\"False\",\"T\",\"EveryTick\")","v":120.171875},-6.4968814968814972E-4,{"$f":"RTD(\"cqg.rtd\",,\"StudyData\", \"Close(\"&$D$12&\") when LocalYear(\"&$D$12&\")=\"&$D$3&\" and localMonth(\"&$D$12&\") =\"&$E$3&\" and LocalDay(\"&$D$12&\")=\"&$F$3&\" and Barix(\"&$D$12&\",reference:=StartOfSession)=\"&A24&\"\", \"Bar\", \"\", \"Close\",\"5\",\"0\",\"PrimaryOnly\",,,\"False\",\"T\",\"EveryTick\")","v":120.140625},1.0415310506444472E-3,{"$f":"RTD(\"cqg.rtd\",,\"StudyData\", \"Close(\"&$D$12&\") when LocalYear(\"&$D$12&\")=\"&$D$4&\" and localMonth(\"&$D$12&\") =\"&$E$4&\" and LocalDay(\"&$D$12&\")=\"&$F$4&\" and Barix(\"&$D$12&\",reference:=StartOfSession)=\"&A24&\"\", \"Bar\", \"\", \"Close\",\"5\",\"0\",\"PrimaryOnly\",,,\"False\",\"T\",\"EveryTick\")","v":120.109375},-1.3007284079084288E-4,{"$f":"RTD(\"cqg.rtd\",,\"StudyData\", \"Close(\"&$D$12&\") when LocalYear(\"&$D$12&\")=\"&$D$5&\" and localMonth(\"&$D$12&\") =\"&$E$5&\" and LocalDay(\"&$D$12&\")=\"&$F$5&\" and Barix(\"&$D$12&\",reference:=StartOfSession)=\"&A24&\"\", \"Bar\", \"\", \"Close\",\"5\",\"0\",\"PrimaryOnly\",,,\"False\",\"T\",\"EveryTick\")","v":120.15625},-1.5580368735393405E-3,{"$f":"RTD(\"cqg.rtd\",,\"StudyData\", \"Close(\"&$D$12&\") when LocalYear(\"&$D$12&\")=\"&$D$6&\" and localMonth(\"&$D$12&\") =\"&$E$6&\" and LocalDay(\"&$D$12&\")=\"&$F$6&\" and Barix(\"&$D$12&\",reference:=StartOfSession)=\"&A24&\"\", \"Bar\", \"\", \"Close\",\"5\",\"0\",\"PrimaryOnly\",,,\"False\",\"T\",\"EveryTick\")","v":120.375},1.0395010395010396E-3,{"$f":"RTD(\"cqg.rtd\",,\"StudyData\", \"Close(\"&$D$12&\") when LocalYear(\"&$D$12&\")=\"&$D$7&\" and localMonth(\"&$D$12&\") =\"&$E$7&\" and LocalDay(\"&$D$12&\")=\"&$F$7&\" and Barix(\"&$D$12&\",reference:=StartOfSession)=\"&A24&\"\", \"Bar\", \"\", \"Close\",\"5\",\"0\",\"PrimaryOnly\",,,\"False\",\"T\",\"EveryTick\")","v":120.359375},3.8961038961038961E-4,{"$f":"RTD(\"cqg.rtd\",,\"StudyData\", \"Close(\"&$D$12&\") when LocalYear(\"&$D$12&\")=\"&$D$8&\" and localMonth(\"&$D$12&\") =\"&$E$8&\" and LocalDay(\"&$D$12&\")=\"&$F$8&\" and Barix(\"&$D$12&\",reference:=StartOfSession)=\"&A24&\"\", \"Bar\", \"\", \"Close\",\"5\",\"0\",\"PrimaryOnly\",,,\"False\",\"T\",\"EveryTick\")","v":120.296875},1.8217306441119063E-3,{"$f":"RTD(\"cqg.rtd\",,\"StudyData\", \"Close(\"&$D$12&\") when LocalYear(\"&$D$12&\")=\"&$D$9&\" and localMonth(\"&$D$12&\") =\"&$E$9&\" and LocalDay(\"&$D$12&\")=\"&$F$9&\" and Barix(\"&$D$12&\",reference:=StartOfSession)=\"&A24&\"\", \"Bar\", \"\", \"Close\",\"5\",\"0\",\"PrimaryOnly\",,,\"False\",\"T\",\"EveryTick\")","v":120.140625},-3.9001560062402497E-4,{"$f":"RTD(\"cqg.rtd\",,\"StudyData\", \"Close(\"&$D$12&\") when LocalYear(\"&$D$12&\")=\"&$D$10&\" and localMonth(\"&$D$12&\") =\"&$E$10&\" and LocalDay(\"&$D$12&\")=\"&$F$10&\" and Barix(\"&$D$12&\",reference:=StartOfSession)=\"&A24&\"\", \"Bar\", \"\", \"Close\",\"5\",\"0\",\"PrimaryOnly\",,,\"False\",\"T\",\"EveryTick\")","v":120.15625},-2.6001040041601667E-4,null,null,null,""]
[204,"10:00:00",null,7,"#.0000000",null,null,{"$f":"RTD(\"cqg.rtd\",,\"StudyData\", \"Close(\"&$D$12&\") when LocalYear(\"&$D$12&\")=\"&$D$1&\" and localMonth(\"&$D$12&\") =\"&$E$1&\" and LocalDay(\"&$D$12&\")=\"&$F$1&\" and Barix(\"&$D$12&\",reference:=StartOfSession)=\"&A25&\"\", \"Bar\", \"\", \"Close\",\"5\",\"0\",\"PrimaryOnly\",,,\"False\",\"T\",\"EveryTick\")","v":120.328125},1.4304291287386215E-3,{"$f":"RTD(\"cqg.rtd\",,\"StudyData\", \"Close(\"&$D$12&\") when LocalYear(\"&$D$12&\")=\"&$D$2&\" and localMonth(\"&$D$12&\") =\"&$E$2&\" and LocalDay(\"&$D$12&\")=\"&$F$2&\" and Barix(\"&$D$12&\",reference:=StartOfSession)=\"&A25&\"\", \"Bar\", \"\", \"Close\",\"5\",\"0\",\"PrimaryOnly\",,,\"False\",\"T\",\"EveryTick\")","v":120.171875},-6.4968814968814972E-4,{"$f":"RTD(\"cqg.rtd\",,\"StudyData\", \"Close(\"&$D$12&\") when LocalYear(\"&$D$12&\")=\"&$D$3&\" and localMonth(\"&$D$12&\") =\"&$E$3&\" and LocalDay(\"&$D$12&\")=\"&$F$3&\" and Barix(\"&$D$12&\",reference:=StartOfSession)=\"&A25&\"\", \"Bar\", \"\", \"Close\",\"5\",\"0\",\"PrimaryOnly\",,,\"False\",\"T\",\"EveryTick\")","v":120.125},9.1133966931389147E-4,{"$f":"RTD(\"cqg.rtd\",,\"StudyData\", \"Close(\"&$D$12&\") when LocalYear(\"&$D$12&\")=\"&$D$4&\" and localMonth(\"&$D$12&\") =\"&$E$4&\" and LocalDay(\"&$D$12&\")=\"&$F$4&\" and Barix(\"&$D$12&\",reference:=StartOfSession)=\"&A25&\"\", \"Bar\", \"\", \"Close\",\"5\",\"0\",\"PrimaryOnly\",,,\"False\",\"T\",\"EveryTick\")","v":120.078125},-3.902185223725286E-4,{"$f":"RTD(\"cqg.rtd\",,\"StudyData\", \"Close(\"&$D$12&\") when LocalYear(\"&$D$12&\")=\"&$D$5&\" and localMonth(\"&$D$12&\") =\"&$E$5&\" and LocalDay(\"&$D$12&\")=\"&$F$5&\" and Barix(\"&$D$12&\",reference:=StartOfSession)=\"&A25&\"\", \"Bar\", \"\", \"Close\",\"5\",\"0\",\"PrimaryOnly\",,,\"False\",\"T\",\"EveryTick\")","v":120.15625},-1.5580368735393405E-3,{"$f":"RTD(\"cqg.rtd\",,\"StudyData\", \"Close(\"&$D$12&\") when LocalYear(\"&$D$12&\")=\"&$D$6&\" and localMonth(\"&$D$12&\") =\"&$E$6&\" and LocalDay(\"&$D$12&\")=\"&$F$6&\" and Barix(\"&$D$12&\",reference:=StartOfSession)=\"&A25&\"\", \"Bar\", \"\", \"Close\",\"5\",\"0\",\"PrimaryOnly\",,,\"False\",\"T\",\"EveryTick\")","v":120.40625},1.2993762993762994E-3,{"$f":"RTD(\"cqg.rtd\",,\"StudyData\", \"Close(\"&$D$12&\") when LocalYear(\"&$D$12&\")=\"&$D$7&\" and localMonth(\"&$D$12&\") =\"&$E$7&\" and LocalDay(\"&$D$12&\")=\"&$F$7&\" and Barix(\"&$D$12&\",reference:=StartOfSession)=\"&A25&\"\", \"Bar\", \"\", \"Close\",\"5\",\"0\",\"PrimaryOnly\",,,\"False\",\"T\",\"EveryTick\")","v":120.40625},7.7922077922077922E-4,{"$f":"RTD(\"cqg.rtd\",,\"StudyData\", \"Close(\"&$D$12&\") when LocalYear(\"&$D$12&\")=\"&$D$8&\" and localMonth(\"&$D$12&\") =\"&$E$8&\" and LocalDay(\"&$D$12&\")=\"&$F$8&\" and Barix(\"&$D$12&\",reference:=StartOfSession)=\"&A25&\"\", \"Bar\", \"\", \"Close\",\"5\",\"0\",\"PrimaryOnly\",,,\"False\",\"T\",\"EveryTick\")","v":120.28125},1.6916070266753415E-3,{"$f":"RTD(\"cqg.rtd\",,\"StudyData\", \"Close(\"&$D$12&\") when LocalYear(\"&$D$12&\")=\"&$D$9&\" and localMonth(\"&$D$12&\") =\"&$E$9&\" and LocalDay(\"&$D$12&\")=\"&$F$9&\" and Barix(\"&$D$12&\",reference:=StartOfSession)=\"&A25&\"\", \"Bar\", \"\", \"Close\",\"5\",\"0\",\"PrimaryOnly\",,,\"False\",\"T\",\"EveryTick\")","v":120.09375},-7.8003120124804995E-4,{"$f":"RTD(\"cqg.rtd\",,\"StudyData\", \"Close(\"&$D$12&\") when LocalYear(\"&$D$12&\")=\"&$D$10&\" and localMonth(\"&$D$12&\") =\"&$E$10&\" and LocalDay(\"&$D$12&\")=\"&$F$10&\" and Barix(\"&$D$12&\",reference:=StartOfSession)=\"&A25&\"\", \"Bar\", \"\", \"Close\",\"5\",\"0\",\"PrimaryOnly\",,,\"False\",\"T\",\"EveryTick\")","v":120.15625},-2.6001040041601667E-4,null,null,null,""]
[205,"10:05:00",null,null,null,null,null,{"$f":"RTD(\"cqg.rtd\",,\"StudyData\", \"Close(\"&$D$12&\") when LocalYear(\"&$D$12&\")=\"&$D$1&\" and localMonth(\"&$D$12&\") =\"&$E$1&\" and LocalDay(\"&$D$12&\")=\"&$F$1&\" and Barix(\"&$D$12&\",reference:=StartOfSession)=\"&A26&\"\", \"Bar\", \"\", \"Close\",\"5\",\"0\",\"PrimaryOnly\",,,\"False\",\"T\",\"EveryTick\")","v":120.328125},1.4304291287386215E-3,{"$f":"RTD(\"cqg.rtd\",,\"StudyData\", \"Close(\"&$D$12&\") when LocalYear(\"&$D$12&\")=\"&$D$2&\" and localMonth(\"&$D$12&\") =\"&$E$2&\" and LocalDay(\"&$D$12&\")=\"&$F$2&\" and Barix(\"&$D$12&\",reference:=StartOfSession)=\"&A26&\"\", \"Bar\", \"\", \"Close\",\"5\",\"0\",\"PrimaryOnly\",,,\"False\",\"T\",\"EveryTick\")","v":120.171875},-6.4968814968814972E-4,{"$f":"RTD(\"cqg.rtd\",,\"StudyData\", \"Close(\"&$D$12&\") when LocalYear(\"&$D$12&\")=\"&$D$3&\" and localMonth(\"&$D$12&\") =\"&$E$3&\" and LocalDay(\"&$D$12&\")=\"&$F$3&\" and Barix(\"&$D$12&\",reference:=StartOfSession)=\"&A26&\"\", \"Bar\", \"\", \"Close\",\"5\",\"0\",\"PrimaryOnly\",,,\"False\",\"T\",\"EveryTick\")","v":120.125},9.1133966931389147E-4,{"$f":"RTD(\"cqg.rtd\",,\"StudyData\", \"Close(\"&$D$12&\") when LocalYear(\"&$D$12&\")=\"&$D$4&\" and localMonth(\"&$D$12&\") =\"&$E$4&\" and LocalDay(\"&$D$12&\")=\"&$F$4&\" and Barix(\"&$D$12&\",reference:=StartOfSession)=\"&A26&\"\", \"Bar\", \"\", \"Close\",\"5\",\"0\",\"PrimaryOnly\",,,\"False\",\"T\",\"EveryTick\")","v":120.09375},-2.6014568158168577E-4,{"$f":"RTD(\"cqg.rtd\",,\"StudyData\", \"Close(\"&$D$12&\") when LocalYear(\"&$D$12&\")=\"&$D$5&\" and localMonth(\"&$D$12&\") =\"&$E$5&\" and LocalDay(\"&$D$12&\")=\"&$F$5&\" and Barix(\"&$D$12&\",reference:=StartOfSession)=\"&A26&\"\", \"Bar\", \"\", \"Close\",\"5\",\"0\",\"PrimaryOnly\",,,\"False\",\"T\",\"EveryTick\")","v":120.171875},-1.428200467411062E-3,{"$f":"RTD(\"cqg.rtd\",,\"StudyData\", \"Close(\"&$D$12&\") when LocalYear(\"&$D$12&\")=\"&$D$6&\" and localMonth(\"&$D$12&\") =\"&$E$6&\" and LocalDay(\"&$D$12&\")=\"&$F$6&\" and Barix(\"&$D$12&\",reference:=StartOfSession)=\"&A26&\"\", \"Bar\", \"\", \"Close\",\"5\",\"0\",\"PrimaryOnly\",,,\"False\",\"T\",\"EveryTick\")","v":120.359375},9.0956340956340961E-4,{"$f":"RTD(\"cqg.rtd\",,\"StudyData\", \"Close(\"&$D$12&\") when LocalYear(\"&$D$12&\")=\"&$D$7&\" and localMonth(\"&$D$12&\") =\"&$E$7&\" and LocalDay(\"&$D$12&\")=\"&$F$7&\" and Barix(\"&$D$12&\",reference:=StartOfSession)=\"&A26&\"\", \"Bar\", \"\", \"Close\",\"5\",\"0\",\"PrimaryOnly\",,,\"False\",\"T\",\"EveryTick\")","v":120.390625},6.4935064935064935E-4,{"$f":"RTD(\"cqg.rtd\",,\"StudyData\", \"Close(\"&$D$12&\") when LocalYear(\"&$D$12&\")=\"&$D$8&\" and localMonth(\"&$D$12&\") =\"&$E$8&\" and LocalDay(\"&$D$12&\")=\"&$F$8&\" and Barix(\"&$D$12&\",reference:=StartOfSession)=\"&A26&\"\", \"Bar\", \"\", \"Close\",\"5\",\"0\",\"PrimaryOnly\",,,\"False\",\"T\",\"EveryTick\")","v":120.28125},1.6916070266753415E-3,{"$f":"RTD(\"cqg.rtd\",,\"StudyData\", \"Close(\"&$D$12&\") when LocalYear(\"&$D$12&\")=\"&$D$9&\" and localMonth(\"&$D$12&\") =\"&$E$9&\" and LocalDay(\"&$D$12&\")=\"&$F$9&\" and Barix(\"&$D$12&\",reference:=StartOfSession)=\"&A26&\"\", \"Bar\", \"\", \"Close\",\"5\",\"0\",\"PrimaryOnly\",,,\"False\",\"T\",\"EveryTick\")","v":120.109375},-6.5002600104004159E-4,{"$f":"RTD(\"cqg.rtd\",,\"StudyData\", \"Close(\"&$D$12&\") when LocalYear(\"&$D$12&\")=\"&$D$10&\" and localMonth(\"&$D$12&\") =\"&$E$10&\" and LocalDay(\"&$D$12&\")=\"&$F$10&\" and Barix(\"&$D$12&\",reference:=StartOfSession)=\"&A26&\"\", \"Bar\", \"\", \"Close\",\"5\",\"0\",\"PrimaryOnly\",,,\"False\",\"T\",\"EveryTick\")","v":120.1875},0,null,null,null,""]
[206,"10:10:00",null,null,null,null,null,{"$f":"RTD(\"cqg.rtd\",,\"StudyData\", \"Close(\"&$D$12&\") when LocalYear(\"&$D$12&\")=\"&$D$1&\" and localMonth(\"&$D$12&\") =\"&$E$1&\" and LocalDay(\"&$D$12&\")=\"&$F$1&\" and Barix(\"&$D$12&\",reference:=StartOfSession)=\"&A27&\"\", \"Bar\", \"\", \"Close\",\"5\",\"0\",\"PrimaryOnly\",,,\"False\",\"T\",\"EveryTick\")","v":120.328125},1.4304291287386215E-3,{"$f":"RTD(\"cqg.rtd\",,\"StudyData\", \"Close(\"&$D$12&\") when LocalYear(\"&$D$12&\")=\"&$D$2&\" and localMonth(\"&$D$12&\") =\"&$E$2&\" and LocalDay(\"&$D$12&\")=\"&$F$2&\" and Barix(\"&$D$12&\",reference:=StartOfSession)=\"&A27&\"\", \"Bar\", \"\", \"Close\",\"5\",\"0\",\"PrimaryOnly\",,,\"False\",\"T\",\"EveryTick\")","v":120.171875},-6.4968814968814972E-4,{"$f":"RTD(\"cqg.rtd\",,\"StudyData\", \"Close(\"&$D$12&\") when LocalYear(\"&$D$12&\")=\"&$D$3&\" and localMonth(\"&$D$12&\") =\"&$E$3&\" and LocalDay(\"&$D$12&\")=\"&$F$3&\" and Barix(\"&$D$12&\",reference:=StartOfSession)=\"&A27&\"\", \"Bar\", \"\", \"Close\",\"5\",\"0\",\"PrimaryOnly\",,,\"False\",\"T\",\"EveryTick\")","v":120.125},9.1133966931389147E-4,{"$f":"RTD(\"cqg.rtd\",,\"StudyData\", \"Close(\"&$D$12&\") when LocalYear(\"&$D$12&\")=\"&$D$4&\" and localMonth(\"&$D$12&\") =\"&$E$4&\" and LocalDay(\"&$D$12&\")=\"&$F$4&\" and Barix(\"&$D$12&\",reference:=StartOfSession)=\"&A27&\"\", \"Bar\", \"\", \"Close\",\"5\",\"0\",\"PrimaryOnly\",,,\"False\",\"T\",\"EveryTick\")","v":120.09375},-2.6014568158168577E-4,{"$f":"RTD(\"cqg.rtd\",,\"StudyData\", \"Close(\"&$D$12&\") when LocalYear(\"&$D$12&\")=\"&$D$5&\" and localMonth(\"&$D$12&\") =\"&$E$5&\" and LocalDay(\"&$D$12&\")=\"&$F$5&\" and Barix(\"&$D$12&\",reference:=StartOfSession)=\"&A27&\"\", \"Bar\", \"\", \"Close\",\"5\",\"0\",\"PrimaryOnly\",,,\"False\",\"T\",\"EveryTick\")","v":120.171875},-1.428200467411062E-3,{"$f":"RTD(\"cqg.rtd\",,\"StudyData\", \"Close(\"&$D$12&\") when LocalYear(\"&$D$12&\")=\"&$D$6&\" and localMonth(\"&$D$12&\") =\"&$E$6&\" and LocalDay(\"&$D$12&\")=\"&$F$6&\" and Barix(\"&$D$12&\",reference:=StartOfSession)=\"&A27&\"\", \"Bar\", \"\", \"Close\",\"5\",\"0\",\"PrimaryOnly\",,,\"False\",\"T\",\"EveryTick\")","v":120.375},1.0395010395010396E-3,{"$f":"RTD(\"cqg.rtd\",,\"StudyData\", \"Close(\"&$D$12&\") when LocalYear(\"&$D$12&\")=\"&$D$7&\" and localMonth(\"&$D$12&\") =\"&$E$7&\" and LocalDay(\"&$D$12&\")=\"&$F$7&\" and Barix(\"&$D$12&\",reference:=StartOfSession)=\"&A27&\"\", \"Bar\", \"\", \"Close\",\"5\",\"0\",\"PrimaryOnly\",,,\"False\",\"T\",\"EveryTick\")","v":120.390625},6.4935064935064935E-4,{"$f":"RTD(\"cqg.rtd\",,\"StudyData\", \"Close(\"&$D$12&\") when LocalYear(\"&$D$12&\")=\"&$D$8&\" and localMonth(\"&$D$12&\") =\"&$E$8&\" and LocalDay(\"&$D$12&\")=\"&$F$8&\" and Barix(\"&$D$12&\",reference:=StartOfSession)=\"&A27&\"\", \"Bar\", \"\", \"Close\",\"5\",\"0\",\"PrimaryOnly\",,,\"False\",\"T\",\"EveryTick\")","v":120.28125},1.6916070266753415E-3,{"$f":"RTD(\"cqg.rtd\",,\"StudyData\", \"Close(\"&$D$12&\") when LocalYear(\"&$D$12&\")=\"&$D$9&\" and localMonth(\"&$D$12&\") =\"&$E$9&\" and LocalDay(\"&$D$12&\")=\"&$F$9&\" and Barix(\"&$D$12&\",reference:=StartOfSession)=\"&A27&\"\", \"Bar\", \"\", \"Close\",\"5\",\"0\",\"PrimaryOnly\",,,\"False\",\"T\",\"EveryTick\")","v":120.140625},-3.9001560062402497E-4,{"$f":"RTD(\"cqg.rtd\",,\"StudyData\", \"Close(\"&$D$12&\") when LocalYear(\"&$D$12&\")=\"&$D$10&\" and localMonth(\"&$D$12&\") =\"&$E$10&\" and LocalDay(\"&$D$12&\")=\"&$F$10&\" and Barix(\"&$D$12&\",reference:=StartOfSession)=\"&A27&\"\", \"Bar\", \"\", \"Close\",\"5\",\"0\",\"PrimaryOnly\",,,\"False\",\"T\",\"EveryTick\")","v":120.15625},-2.6001040041601667E-4,null,null,null,""]
[207,"10:15:00",null,null,null,null,null,{"$f":"RTD(\"cqg.rtd\",,\"StudyData\", \"Close(\"&$D$12&\") when LocalYear(\"&$D$12&\")=\"&$D$1&\" and localMonth(\"&$D$12&\") =\"&$E$1&\" and LocalDay(\"&$D$12&\")=\"&$F$1&\" and Barix(\"&$D$12&\",reference:=StartOfSession)=\"&A28&\"\", \"Bar\", \"\", \"Close\",\"5\",\"0\",\"PrimaryOnly\",,,\"False\",\"T\",\"EveryTick\")","v":120.328125},1.4304291287386215E-3,{"$f":"RTD(\"cqg.rtd\",,\"StudyData\", \"Close(\"&$D$12&\") when LocalYear(\"&$D$12&\")=\"&$D$2&\" and localMonth(\"&$D$12&\") =\"&$E$2&\" and LocalDay(\"&$D$12&\")=\"&$F$2&\" and Barix(\"&$D$12&\",reference:=StartOfSession)=\"&A28&\"\", \"Bar\", \"\", \"Close\",\"5\",\"0\",\"PrimaryOnly\",,,\"False\",\"T\",\"EveryTick\")","v":120.171875},-6.4968814968814972E-4,{"$f":"RTD(\"cqg.rtd\",,\"StudyData\", \"Close(\"&$D$12&\") when LocalYear(\"&$D$12&\")=\"&$D$3&\" and localMonth(\"&$D$12&\") =\"&$E$3&\" and LocalDay(\"&$D$12&\")=\"&$F$3&\" and Barix(\"&$D$12&\",reference:=StartOfSession)=\"&A28&\"\", \"Bar\", \"\", \"Close\",\"5\",\"0\",\"PrimaryOnly\",,,\"False\",\"T\",\"EveryTick\")","v":120.125},9.1133966931389147E-4,{"$f":"RTD(\"cqg.rtd\",,\"StudyData\", \"Close(\"&$D$12&\") when LocalYear(\"&$D$12&\")=\"&$D$4&\" and localMonth(\"&$D$12&\") =\"&$E$4&\" and LocalDay(\"&$D$12&\")=\"&$F$4&\" and Barix(\"&$D$12&\",reference:=StartOfSession)=\"&A28&\"\", \"Bar\", \"\", \"Close\",\"5\",\"0\",\"PrimaryOnly\",,,\"False\",\"T\",\"EveryTick\")","v":120.078125},-3.902185223725286E-4,{"$f":"RTD(\"cqg.rtd\",,\"StudyData\", \"Close(\"&$D$12&\") when LocalYear(\"&$D$12&\")=\"&$D$5&\" and localMonth(\"&$D$12&\") =\"&$E$5&\" and LocalDay(\"&$D$12&\")=\"&$F$5&\" and Barix(\"&$D$12&\",reference:=StartOfSession)=\"&A28&\"\", \"Bar\", \"\", \"Close\",\"5\",\"0\",\"PrimaryOnly\",,,\"False\",\"T\",\"EveryTick\")","v":120.15625},-1.5580368735393405E-3,{"$f":"RTD(\"cqg.rtd\",,\"StudyData\", \"Close(\"&$D$12&\") when LocalYear(\"&$D$12&\")=\"&$D$6&\" and localMonth(\"&$D$12&\") =\"&$E$6&\" and LocalDay(\"&$D$12&\")=\"&$F$6&\" and Barix(\"&$D$12&\",reference:=StartOfSession)=\"&A28&\"\", \"Bar\", \"\", \"Close\",\"5\",\"0\",\"PrimaryOnly\",,,\"False\",\"T\",\"EveryTick\")","v":120.34375},7.7962577962577967E-4,{"$f":"RTD(\"cqg.rtd\",,\"StudyData\", \"Close(\"&$D$12&\") when LocalYear(\"&$D$12&\")=\"&$D$7&\" and localMonth(\"&$D$12&\") =\"&$E$7&\" and LocalDay(\"&$D$12&\")=\"&$F$7&\" and Barix(\"&$D$12&\",reference:=StartOfSession)=\"&A28&\"\", \"Bar\", \"\", \"Close\",\"5\",\"0\",\"PrimaryOnly\",,,\"False\",\"T\",\"EveryTick\")","v":120.40625},7.7922077922077922E-4,{"$f":"RTD(\"cqg.rtd\",,\"StudyData\", \"Close(\"&$D$12&\") when LocalYear(\"&$D$12&\")=\"&$D$8&\" and localMonth(\"&$D$12&\") =\"&$E$8&\" and LocalDay(\"&$D$12&\")=\"&$F$8&\" and Barix(\"&$D$12&\",reference:=StartOfSession)=\"&A28&\"\", \"Bar\", \"\", \"Close\",\"5\",\"0\",\"PrimaryOnly\",,,\"False\",\"T\",\"EveryTick\")","v":120.296875},1.8217306441119063E-3,{"$f":"RTD(\"cqg.rtd\",,\"StudyData\", \"Close(\"&$D$12&\") when LocalYear(\"&$D$12&\")=\"&$D$9&\" and localMonth(\"&$D$12&\") =\"&$E$9&\" and LocalDay(\"&$D$12&\")=\"&$F$9&\" and Barix(\"&$D$12&\",reference:=StartOfSession)=\"&A28&\"\", \"Bar\", \"\", \"Close\",\"5\",\"0\",\"PrimaryOnly\",,,\"False\",\"T\",\"EveryTick\")","v":120.140625},-3.9001560062402497E-4,{"$f":"RTD(\"cqg.rtd\",,\"StudyData\", \"Close(\"&$D$12&\") when LocalYear(\"&$D$12&\")=\"&$D$10&\" and localMonth(\"&$D$12&\") =\"&$E$10&\" and LocalDay(\"&$D$12&\")=\"&$F$10&\" and Barix(\"&$D$12&\",reference:=StartOfSession)=\"&A28&\"\", \"Bar\", \"\", \"Close\",\"5\",\"0\",\"PrimaryOnly\",,,\"False\",\"T\",\"EveryTick\")","v":120.140625},-3.9001560062402497E-4,null,null,null,""]
[208,"10:20:00",null,null,null,null,null,{"$f":"RTD(\"cqg.rtd\",,\"StudyData\", \"Close(\"&$D$12&\") when LocalYear(\"&$D$12&\")=\"&$D$1&\" and localMonth(\"&$D$12&\") =\"&$E$1&\" and LocalDay(\"&$D$12&\")=\"&$F$1&\" and Barix(\"&$D$12&\",reference:=StartOfSession)=\"&A29&\"\", \"Bar\", \"\", \"Close\",\"5\",\"0\",\"PrimaryOnly\",,,\"False\",\"T\",\"EveryTick\")","v":120.328125},1.4304291287386215E-3,{"$f":"RTD(\"cqg.rtd\",,\"StudyData\", \"Close(\"&$D$12&\") when LocalYear(\"&$D$12&\")=\"&$D$2&\" and localMonth(\"&$D$12&\") =\"&$E$2&\" and LocalDay(\"&$D$12&\")=\"&$F$2&\" and Barix(\"&$D$12&\",reference:=StartOfSession)=\"&A29&\"\", \"Bar\", \"\", \"Close\",\"5\",\"0\",\"PrimaryOnly\",,,\"False\",\"T\",\"EveryTick\")","v":120.15625},-7.7962577962577967E-4,{"$f":"RTD(\"cqg.rtd\",,\"StudyData\", \"Close(\"&$D$12&\") when LocalYear(\"&$D$12&\")=\"&$D$3&\" and localMonth(\"&$D$12&\") =\"&$E$3&\" and LocalDay(\"&$D$12&\")=\"&$F$3&\" and Barix(\"&$D$12&\",reference:=StartOfSession)=\"&A29&\"\", \"Bar\", \"\", \"Close\",\"5\",\"0\",\"PrimaryOnly\",,,\"False\",\"T\",\"EveryTick\")","v":120.125},9.1133966931389147E-4,{"$f":"RTD(\"cqg.rtd\",,\"StudyData\", \"Close(\"&$D$12&\") when LocalYear(\"&$D$12&\")=\"&$D$4&\" and localMonth(\"&$D$12&\") =\"&$E$4&\" and LocalDay(\"&$D$12&\")=\"&$F$4&\" and Barix(\"&$D$12&\",reference:=StartOfSession)=\"&A29&\"\", \"Bar\", \"\", \"Close\",\"5\",\"0\",\"PrimaryOnly\",,,\"False\",\"T\",\"EveryTick\")","v":120.078125},-3.902185223725286E-4,{"$f":"RTD(\"cqg.rtd\",,\"StudyData\", \"Close(\"&$D$12&\") when LocalYear(\"&$D$12&\")=\"&$D$5&\" and localMonth(\"&$D$12&\") =\"&$E$5&\" and LocalDay(\"&$D$12&\")=\"&$F$5&\" and Barix(\"&$D$12&\",reference:=StartOfSession)=\"&A29&\"\", \"Bar\", \"\", \"Close\",\"5\",\"0\",\"PrimaryOnly\",,,\"False\",\"T\",\"EveryTick\")","v":120.15625},-1.5580368735393405E-3,{"$f":"RTD(\"cqg.rtd\",,\"StudyData\", \"Close(\"&$D$12&\") when LocalYear(\"&$D$12&\")=\"&$D$6&\" and localMonth(\"&$D$12&\") =\"&$E$6&\" and LocalDay(\"&$D$12&\")=\"&$F$6&\" and Barix(\"&$D$12&\",reference:=StartOfSession)=\"&A29&\"\", \"Bar\", \"\", \"Close\",\"5\",\"0\",\"PrimaryOnly\",,,\"False\",\"T\",\"EveryTick\")","v":120.34375},7.7962577962577967E-4,{"$f":"RTD(\"cqg.rtd\",,\"StudyData\", \"Close(\"&$D$12&\") when LocalYear(\"&$D$12&\")=\"&$D$7&\" and localMonth(\"&$D$12&\") =\"&$E$7&\" and LocalDay(\"&$D$12&\")=\"&$F$7&\" and Barix(\"&$D$12&\",reference:=StartOfSession)=\"&A29&\"\", \"Bar\", \"\", \"Close\",\"5\",\"0\",\"PrimaryOnly\",,,\"False\",\"T\",\"EveryTick\")","v":120.40625},7.7922077922077922E-4,{"$f":"RTD(\"cqg.rtd\",,\"StudyData\", \"Close(\"&$D$12&\") when LocalYear(\"&$D$12&\")=\"&$D$8&\" and localMonth(\"&$D$12&\") =\"&$E$8&\" and LocalDay(\"&$D$12&\")=\"&$F$8&\" and Barix(\"&$D$12&\",reference:=StartOfSession)=\"&A29&\"\", \"Bar\", \"\", \"Close\",\"5\",\"0\",\"PrimaryOnly\",,,\"False\",\"T\",\"EveryTick\")","v":120.328125},2.0819778789850358E-3,{"$f":"RTD(\"cqg.rtd\",,\"StudyData\", \"Close(\"&$D$12&\") when LocalYear(\"&$D$12&\")=\"&$D$9&\" and localMonth(\"&$D$12&\") =\"&$E$9&\" and LocalDay(\"&$D$12&\")=\"&$F$9&\" and Barix(\"&$D$12&\",reference:=StartOfSession)=\"&A29&\"\", \"Bar\", \"\", \"Close\",\"5\",\"0\",\"PrimaryOnly\",,,\"False\",\"T\",\"EveryTick\")","v":120.140625},-3.9001560062402497E-4,{"$f":"RTD(\"cqg.rtd\",,\"StudyData\", \"Close(\"&$D$12&\") when LocalYear(\"&$D$12&\")=\"&$D$10&\" and localMonth(\"&$D$12&\") =\"&$E$10&\" and LocalDay(\"&$D$12&\")=\"&$F$10&\" and Barix(\"&$D$12&\",reference:=StartOfSession)=\"&A29&\"\", \"Bar\", \"\", \"Close\",\"5\",\"0\",\"PrimaryOnly\",,,\"False\",\"T\",\"EveryTick\")","v":120.140625},-3.9001560062402497E-4,null,null,null,""]
[209,"10:25:00",null,null,null,null,null,{"$f":"RTD(\"cqg.rtd\",,\"StudyData\", \"Close(\"&$D$12&\") when LocalYear(\"&$D$12&\")=\"&$D$1&\" and localMonth(\"&$D$12&\") =\"&$E$1&\" and LocalDay(\"&$D$12&\")=\"&$F$1&\" and Barix(\"&$D$12&\",reference:=StartOfSession)=\"&A30&\"\", \"Bar\", \"\", \"Close\",\"5\",\"0\",\"PrimaryOnly\",,,\"False\",\"T\",\"EveryTick\")","v":120.3125},1.3003901170351106E-3,{"$f":"RTD(\"cqg.rtd\",,\"StudyData\", \"Close(\"&$D$12&\") when LocalYear(\"&$D$12&\")=\"&$D$2&\" and localMonth(\"&$D$12&\") =\"&$E$2&\" and LocalDay(\"&$D$12&\")=\"&$F$2&\" and Barix(\"&$D$12&\",reference:=StartOfSession)=\"&A30&\"\", \"Bar\", \"\", \"Close\",\"5\",\"0\",\"PrimaryOnly\",,,\"False\",\"T\",\"EveryTick\")","v":120.171875},-6.4968814968814972E-4,{"$f":"RTD(\"cqg.rtd\",,\"StudyData\", \"Close(\"&$D$12&\") when LocalYear(\"&$D$12&\")=\"&$D$3&\" and localMonth(\"&$D$12&\") =\"&$E$3&\" and LocalDay(\"&$D$12&\")=\"&$F$3&\" and Barix(\"&$D$12&\",reference:=StartOfSession)=\"&A30&\"\", \"Bar\", \"\", \"Close\",\"5\",\"0\",\"PrimaryOnly\",,,\"False\",\"T\",\"EveryTick\")","v":120.15625},1.1717224319750033E-3,{"$f":"RTD(\"cqg.rtd\",,\"StudyData\", \"Close(\"&$D$12&\") when LocalYear(\"&$D$12&\")=\"&$D$4&\" and localMonth(\"&$D$12&\") =\"&$E$4&\" and LocalDay(\"&$D$12&\")=\"&$F$4&\" and Barix(\"&$D$12&\",reference:=StartOfSession)=\"&A30&\"\", \"Bar\", \"\", \"Close\",\"5\",\"0\",\"PrimaryOnly\",,,\"False\",\"T\",\"EveryTick\")","v":120.078125},-3.902185223725286E-4,{"$f":"RTD(\"cqg.rtd\",,\"StudyData\", \"Close(\"&$D$12&\") when LocalYear(\"&$D$12&\")=\"&$D$5&\" and localMonth(\"&$D$12&\") =\"&$E$5&\" and LocalDay(\"&$D$12&\")=\"&$F$5&\" and Barix(\"&$D$12&\",reference:=StartOfSession)=\"&A30&\"\", \"Bar\", \"\", \"Close\",\"5\",\"0\",\"PrimaryOnly\",,,\"False\",\"T\",\"EveryTick\")","v":120.171875},-1.428200467411062E-3,{"$f":"RTD(\"cqg.rtd\",,\"StudyData\", \"Close(\"&$D$12&\") when LocalYear(\"&$D$12&\")=\"&$D$6&\" and localMonth(\"&$D$12&\") =\"&$E$6&\" and LocalDay(\"&$D$12&\")=\"&$F$6&\" and Barix(\"&$D$12&\",reference:=StartOfSession)=\"&A30&\"\", \"Bar\", \"\", \"Close\",\"5\",\"0\",\"PrimaryOnly\",,,\"False\",\"T\",\"EveryTick\")","v":120.34375},7.7962577962577967E-4,{"$f":"RTD(\"cqg.rtd\",,\"StudyData\", \"Close(\"&$D$12&\") when LocalYear(\"&$D$12&\")=\"&$D$7&\" and localMonth(\"&$D$12&\") =\"&$E$7&\" and LocalDay(\"&$D$12&\")=\"&$F$7&\" and Barix(\"&$D$12&\",reference:=StartOfSession)=\"&A30&\"\", \"Bar\", \"\", \"Close\",\"5\",\"0\",\"PrimaryOnly\",,,\"False\",\"T\",\"EveryTick\")","v":120.375},5.1948051948051948E-4,{"$f":"RTD(\"cqg.rtd\",,\"StudyData\", \"Close(\"&$D$12&\") when LocalYear(\"&$D$12&\")=\"&$D$8&\" and localMonth(\"&$D$12&\") =\"&$E$8&\" and LocalDay(\"&$D$12&\")=\"&$F$8&\" and Barix(\"&$D$12&\",reference:=StartOfSession)=\"&A30&\"\", \"Bar\", \"\", \"Close\",\"5\",\"0\",\"PrimaryOnly\",,,\"False\",\"T\",\"EveryTick\")","v":120.3125},1.9518542615484711E-3,{"$f":"RTD(\"cqg.rtd\",,\"StudyData\", \"Close(\"&$D$12&\") when LocalYear(\"&$D$12&\")=\"&$D$9&\" and localMonth(\"&$D$12&\") =\"&$E$9&\" and LocalDay(\"&$D$12&\")=\"&$F$9&\" and Barix(\"&$D$12&\",reference:=StartOfSession)=\"&A30&\"\", \"Bar\", \"\", \"Close\",\"5\",\"0\",\"PrimaryOnly\",,,\"False\",\"T\",\"EveryTick\")","v":120.109375},-6.5002600104004159E-4,{"$f":"RTD(\"cqg.rtd\",,\"StudyData\", \"Close(\"&$D$12&\") when LocalYear(\"&$D$12&\")=\"&$D$10&\" and localMonth(\"&$D$12&\") =\"&$E$10&\" and LocalDay(\"&$D$12&\")=\"&$F$10&\" and Barix(\"&$D$12&\",reference:=StartOfSession)=\"&A30&\"\", \"Bar\", \"\", \"Close\",\"5\",\"0\",\"PrimaryOnly\",,,\"False\",\"T\",\"EveryTick\")","v":120.140625},-3.9001560062402497E-4,null,null,null,209]
[210,"10:30:00",null,null,null,null,null,{"$f":"RTD(\"cqg.rtd\",,\"StudyData\", \"Close(\"&$D$12&\") when LocalYear(\"&$D$12&\")=\"&$D$1&\" and localMonth(\"&$D$12&\") =\"&$E$1&\" and LocalDay(\"&$D$12&\")=\"&$F$1&\" and Barix(\"&$D$12&\",reference:=StartOfSession)=\"&A31&\"\", \"Bar\", \"\", \"Close\",\"5\",\"0\",\"PrimaryOnly\",,,\"False\",\"T\",\"EveryTick\")","v":""},{"$error":"#N/A"},{"$f":"RTD(\"cqg.rtd\",,\"StudyData\", \"Close(\"&$D$12&\") when LocalYear(\"&$D$12&\")=\"&$D$2&\" and localMonth(\"&$D$12&\") =\"&$E$2&\" and LocalDay(\"&$D$12&\")=\"&$F$2&\" and Barix(\"&$D$12&\",reference:=StartOfSession)=\"&A31&\"\", \"Bar\", \"\", \"Close\",\"5\",\"0\",\"PrimaryOnly\",,,\"False\",\"T\",\"EveryTick\")","v":120.1875},-5.1975051975051978E-4,{"$f":"RTD(\"cqg.rtd\",,\"StudyData\", \"Close(\"&$D$12&\") when LocalYear(\"&$D$12&\")=\"&$D$3&\" and localMonth(\"&$D$12&\") =\"&$E$3&\" and LocalDay(\"&$D$12&\")=\"&$F$3&\" and Barix(\"&$D$12&\",reference:=StartOfSession)=\"&A31&\"\", \"Bar\", \"\", \"Close\",\"5\",\"0\",\"PrimaryOnly\",,,\"False\",\"T\",\"EveryTick\")","v":120.171875},1.3019138133055592E-3,{"$f":"RTD(\"cqg.rtd\",,\"StudyData\", \"Close(\"&$D$12&\") when LocalYear(\"&$D$12&\")=\"&$D$4&\" and localMonth(\"&$D$12&\") =\"&$E$4&\" and LocalDay(\"&$D$12&\")=\"&$F$4&\" and Barix(\"&$D$12&\",reference:=StartOfSession)=\"&A31&\"\", \"Bar\", \"\", \"Close\",\"5\",\"0\",\"PrimaryOnly\",,,\"False\",\"T\",\"EveryTick\")","v":120.078125},-3.902185223725286E-4,{"$f":"RTD(\"cqg.rtd\",,\"StudyData\", \"Close(\"&$D$12&\") when LocalYear(\"&$D$12&\")=\"&$D$5&\" and localMonth(\"&$D$12&\") =\"&$E$5&\" and LocalDay(\"&$D$12&\")=\"&$F$5&\" and Barix(\"&$D$12&\",reference:=StartOfSession)=\"&A31&\"\", \"Bar\", \"\", \"Close\",\"5\",\"0\",\"PrimaryOnly\",,,\"False\",\"T\",\"EveryTick\")","v":120.15625},-1.5580368735393405E-3,{"$f":"RTD(\"cqg.rtd\",,\"StudyData\", \"Close(\"&$D$12&\") when LocalYear(\"&$D$12&\")=\"&$D$6&\" and localMonth(\"&$D$12&\") =\"&$E$6&\" and LocalDay(\"&$D$12&\")=\"&$F$6&\" and Barix(\"&$D$12&\",reference:=StartOfSession)=\"&A31&\"\", \"Bar\", \"\", \"Close\",\"5\",\"0\",\"PrimaryOnly\",,,\"False\",\"T\",\"EveryTick\")","v":120.34375},7.7962577962577967E-4,{"$f":"RTD(\"cqg.rtd\",,\"StudyData\", \"Close(\"&$D$12&\") when LocalYear(\"&$D$12&\")=\"&$D$7&\" and localMonth(\"&$D$12&\") =\"&$E$7&\" and LocalDay(\"&$D$12&\")=\"&$F$7&\" and Barix(\"&$D$12&\",reference:=StartOfSession)=\"&A31&\"\", \"Bar\", \"\", \"Close\",\"5\",\"0\",\"PrimaryOnly\",,,\"False\",\"T\",\"EveryTick\")","v":120.359375},3.8961038961038961E-4,{"$f":"RTD(\"cqg.rtd\",,\"StudyData\", \"Close(\"&$D$12&\") when LocalYear(\"&$D$12&\")=\"&$D$8&\" and localMonth(\"&$D$12&\") =\"&$E$8&\" and LocalDay(\"&$D$12&\")=\"&$F$8&\" and Barix(\"&$D$12&\",reference:=StartOfSession)=\"&A31&\"\", \"Bar\", \"\", \"Close\",\"5\",\"0\",\"PrimaryOnly\",,,\"False\",\"T\",\"EveryTick\")","v":120.3125},1.9518542615484711E-3,{"$f":"RTD(\"cqg.rtd\",,\"StudyData\", \"Close(\"&$D$12&\") when LocalYear(\"&$D$12&\")=\"&$D$9&\" and localMonth(\"&$D$12&\") =\"&$E$9&\" and LocalDay(\"&$D$12&\")=\"&$F$9&\" and Barix(\"&$D$12&\",reference:=StartOfSession)=\"&A31&\"\", \"Bar\", \"\", \"Close\",\"5\",\"0\",\"PrimaryOnly\",,,\"False\",\"T\",\"EveryTick\")","v":120.125},-5.2002080083203334E-4,{"$f":"RTD(\"cqg.rtd\",,\"StudyData\", \"Close(\"&$D$12&\") when LocalYear(\"&$D$12&\")=\"&$D$10&\" and localMonth(\"&$D$12&\") =\"&$E$10&\" and LocalDay(\"&$D$12&\")=\"&$F$10&\" and Barix(\"&$D$12&\",reference:=StartOfSession)=\"&A31&\"\", \"Bar\", \"\", \"Close\",\"5\",\"0\",\"PrimaryOnly\",,,\"False\",\"T\",\"EveryTick\")","v":120.171875},-1.3000520020800833E-4,null,null,null,""]
[211,"10:35:00",null,null,null,null,null,{"$f":"RTD(\"cqg.rtd\",,\"StudyData\", \"Close(\"&$D$12&\") when LocalYear(\"&$D$12&\")=\"&$D$1&\" and localMonth(\"&$D$12&\") =\"&$E$1&\" and LocalDay(\"&$D$12&\")=\"&$F$1&\" and Barix(\"&$D$12&\",reference:=StartOfSession)=\"&A32&\"\", \"Bar\", \"\", \"Close\",\"5\",\"0\",\"PrimaryOnly\",,,\"False\",\"T\",\"EveryTick\")","v":""},{"$error":"#N/A"},{"$f":"RTD(\"cqg.rtd\",,\"StudyData\", \"Close(\"&$D$12&\") when LocalYear(\"&$D$12&\")=\"&$D$2&\" and localMonth(\"&$D$12&\") =\"&$E$2&\" and LocalDay(\"&$D$12&\")=\"&$F$2&\" and Barix(\"&$D$12&\",reference:=StartOfSession)=\"&A32&\"\", \"Bar\", \"\", \"Close\",\"5\",\"0\",\"PrimaryOnly\",,,\"False\",\"T\",\"EveryTick\")","v":120.1875},-5.1975051975051978E-4,{"$f":"RTD(\"cqg.rtd\",,\"StudyData\", \"Close(\"&$D$12&\") when LocalYear(\"&$D$12&\")=\"&$D$3&\" and localMonth(\"&$D$12&\") =\"&$E$3&\" and LocalDay(\"&$D$12&\")=\"&$F$3&\" and Barix(\"&$D$12&\",reference:=StartOfSession)=\"&A32&\"\", \"Bar\", \"\", \"Close\",\"5\",\"0\",\"PrimaryOnly\",,,\"False\",\"T\",\"EveryTick\")","v":120.171875},1.3019138133055592E-3,{"$f":"RTD(\"cqg.rtd\",,\"StudyData\", \"Close(\"&$D$12&\") when LocalYear(\"&$D$12&\")=\"&$D$4&\" and localMonth(\"&$D$12&\") =\"&$E$4&\" and LocalDay(\"&$D$12&\")=\"&$F$4&\" and Barix(\"&$D$12&\",reference:=StartOfSession)=\"&A32&\"\", \"Bar\", \"\", \"Close\",\"5\",\"0\",\"PrimaryOnly\",,,\"False\",\"T\",\"EveryTick\")","v":120.09375},-2.6014568158168577E-4,{"$f":"RTD(\"cqg.rtd\",,\"StudyData\", \"Close(\"&$D$12&\") when LocalYear(\"&$D$12&\")=\"&$D$5&\" and localMonth(\"&$D$12&\") =\"&$E$5&\" and LocalDay(\"&$D$12&\")=\"&$F$5&\" and Barix(\"&$D$12&\",reference:=StartOfSession)=\"&A32&\"\", \"Bar\", \"\", \"Close\",\"5\",\"0\",\"PrimaryOnly\",,,\"False\",\"T\",\"EveryTick\")","v":120.15625},-1.5580368735393405E-3,{"$f":"RTD(\"cqg.rtd\",,\"StudyData\", \"Close(\"&$D$12&\") when LocalYear(\"&$D$12&\")=\"&$D$6&\" and localMonth(\"&$D$12&\") =\"&$E$6&\" and LocalDay(\"&$D$12&\")=\"&$F$6&\" and Barix(\"&$D$12&\",reference:=StartOfSession)=\"&A32&\"\", \"Bar\", \"\", \"Close\",\"5\",\"0\",\"PrimaryOnly\",,,\"False\",\"T\",\"EveryTick\")","v":120.3125},5.1975051975051978E-4,{"$f":"RTD(\"cqg.rtd\",,\"StudyData\", \"Close(\"&$D$12&\") when LocalYear(\"&$D$12&\")=\"&$D$7&\" and localMonth(\"&$D$12&\") =\"&$E$7&\" and LocalDay(\"&$D$12&\")=\"&$F$7&\" and Barix(\"&$D$12&\",reference:=StartOfSession)=\"&A32&\"\", \"Bar\", \"\", \"Close\",\"5\",\"0\",\"PrimaryOnly\",,,\"False\",\"T\",\"EveryTick\")","v":120.359375},3.8961038961038961E-4,{"$f":"RTD(\"cqg.rtd\",,\"StudyData\", \"Close(\"&$D$12&\") when LocalYear(\"&$D$12&\")=\"&$D$8&\" and localMonth(\"&$D$12&\") =\"&$E$8&\" and LocalDay(\"&$D$12&\")=\"&$F$8&\" and Barix(\"&$D$12&\",reference:=StartOfSession)=\"&A32&\"\", \"Bar\", \"\", \"Close\",\"5\",\"0\",\"PrimaryOnly\",,,\"False\",\"T\",\"EveryTick\")","v":120.28125},1.6916070266753415E-3,{"$f":"RTD(\"cqg.rtd\",,\"StudyData\", \"Close(\"&$D$12&\") when LocalYear(\"&$D$12&\")=\"&$D$9&\" and localMonth(\"&$D$12&\") =\"&$E$9&\" and LocalDay(\"&$D$12&\")=\"&$F$9&\" and Barix(\"&$D$12&\",reference:=StartOfSession)=\"&A32&\"\", \"Bar\", \"\", \"Close\",\"5\",\"0\",\"PrimaryOnly\",,,\"False\",\"T\",\"EveryTick\")","v":120.125},-5.2002080083203334E-4,{"$f":"RTD(\"cqg.rtd\",,\"StudyData\", \"Close(\"&$D$12&\") when LocalYear(\"&$D$12&\")=\"&$D$10&\" and localMonth(\"&$D$12&\") =\"&$E$10&\" and LocalDay(\"&$D$12&\")=\"&$F$10&\" and Barix(\"&$D$12&\",reference:=StartOfSession)=\"&A32&\"\", \"Bar\", \"\", \"Close\",\"5\",\"0\",\"PrimaryOnly\",,,\"False\",\"T\",\"EveryTick\")","v":120.171875},-1.3000520020800833E-4,null,null,null,""]
[212,"10:40:00",null,null,null,null,null,{"$f":"RTD(\"cqg.rtd\",,\"StudyData\", \"Close(\"&$D$12&\") when LocalYear(\"&$D$12&\")=\"&$D$1&\" and localMonth(\"&$D$12&\") =\"&$E$1&\" and LocalDay(\"&$D$12&\")=\"&$F$1&\" and Barix(\"&$D$12&\",reference:=StartOfSession)=\"&A33&\"\", \"Bar\", \"\", \"Close\",\"5\",\"0\",\"PrimaryOnly\",,,\"False\",\"T\",\"EveryTick\")","v":""},{"$error":"#N/A"},{"$f":"RTD(\"cqg.rtd\",,\"StudyData\", \"Close(\"&$D$12&\") when LocalYear(\"&$D$12&\")=\"&$D$2&\" and localMonth(\"&$D$12&\") =\"&$E$2&\" and LocalDay(\"&$D$12&\")=\"&$F$2&\" and Barix(\"&$D$12&\",reference:=StartOfSession)=\"&A33&\"\", \"Bar\", \"\", \"Close\",\"5\",\"0\",\"PrimaryOnly\",,,\"False\",\"T\",\"EveryTick\")","v":120.1875},-5.1975051975051978E-4,{"$f":"RTD(\"cqg.rtd\",,\"StudyData\", \"Close(\"&$D$12&\") when LocalYear(\"&$D$12&\")=\"&$D$3&\" and localMonth(\"&$D$12&\") =\"&$E$3&\" and LocalDay(\"&$D$12&\")=\"&$F$3&\" and Barix(\"&$D$12&\",reference:=StartOfSession)=\"&A33&\"\", \"Bar\", \"\", \"Close\",\"5\",\"0\",\"PrimaryOnly\",,,\"False\",\"T\",\"EveryTick\")","v":120.171875},1.3019138133055592E-3,{"$f":"RTD(\"cqg.rtd\",,\"StudyData\", \"Close(\"&$D$12&\") when LocalYear(\"&$D$12&\")=\"&$D$4&\" and localMonth(\"&$D$12&\") =\"&$E$4&\" and LocalDay(\"&$D$12&\")=\"&$F$4&\" and Barix(\"&$D$12&\",reference:=StartOfSession)=\"&A33&\"\", \"Bar\", \"\", \"Close\",\"5\",\"0\",\"PrimaryOnly\",,,\"False\",\"T\",\"EveryTick\")","v":120.078125},-3.902185223725286E-4,{"$f":"RTD(\"cqg.rtd\",,\"StudyData\", \"Close(\"&$D$12&\") when LocalYear(\"&$D$12&\")=\"&$D$5&\" and localMonth(\"&$D$12&\") =\"&$E$5&\" and LocalDay(\"&$D$12&\")=\"&$F$5&\" and Barix(\"&$D$12&\",reference:=StartOfSession)=\"&A33&\"\", \"Bar\", \"\", \"Close\",\"5\",\"0\",\"PrimaryOnly\",,,\"False\",\"T\",\"EveryTick\")","v":120.171875},-1.428200467411062E-3,{"$f":"RTD(\"cqg.rtd\",,\"StudyData\", \"Close(\"&$D$12&\") when LocalYear(\"&$D$12&\")=\"&$D$6&\" and localMonth(\"&$D$12&\") =\"&$E$6&\" and LocalDay(\"&$D$12&\")=\"&$F$6&\" and Barix(\"&$D$12&\",reference:=StartOfSession)=\"&A33&\"\", \"Bar\", \"\", \"Close\",\"5\",\"0\",\"PrimaryOnly\",,,\"False\",\"T\",\"EveryTick\")","v":120.3125},5.1975051975051978E-4,{"$f":"RTD(\"cqg.rtd\",,\"StudyData\", \"Close(\"&$D$12&\") when LocalYear(\"&$D$12&\")=\"&$D$7&\" and localMonth(\"&$D$12&\") =\"&$E$7&\" and LocalDay(\"&$D$12&\")=\"&$F$7&\" and Barix(\"&$D$12&\",reference:=StartOfSession)=\"&A33&\"\", \"Bar\", \"\", \"Close\",\"5\",\"0\",\"PrimaryOnly\",,,\"False\",\"T\",\"EveryTick\")","v":120.34375},2.5974025974025974E-4,{"$f":"RTD(\"cqg.rtd\",,\"StudyData\", \"Close(\"&$D$12&\") when LocalYear(\"&$D$12&\")=\"&$D$8&\" and localMonth(\"&$D$12&\") =\"&$E$8&\" and LocalDay(\"&$D$12&\")=\"&$F$8&\" and Barix(\"&$D$12&\",reference:=StartOfSession)=\"&A33&\"\", \"Bar\", \"\", \"Close\",\"5\",\"0\",\"PrimaryOnly\",,,\"False\",\"T\",\"EveryTick\")","v":120.296875},1.8217306441119063E-3,{"$f":"RTD(\"cqg.rtd\",,\"StudyData\", \"Close(\"&$D$12&\") when LocalYear(\"&$D$12&\")=\"&$D$9&\" and localMonth(\"&$D$12&\") =\"&$E$9&\" and LocalDay(\"&$D$12&\")=\"&$F$9&\" and Barix(\"&$D$12&\",reference:=StartOfSession)=\"&A33&\"\", \"Bar\", \"\", \"Close\",\"5\",\"0\",\"PrimaryOnly\",,,\"False\",\"T\",\"EveryTick\")","v":120.15625},-2.6001040041601667E-4,{"$f":"RTD(\"cqg.rtd\",,\"StudyData\", \"Close(\"&$D$12&\") when LocalYear(\"&$D$12&\")=\"&$D$10&\" and localMonth(\"&$D$12&\") =\"&$E$10&\" and LocalDay(\"&$D$12&\")=\"&$F$10&\" and Barix(\"&$D$12&\",reference:=StartOfSession)=\"&A33&\"\", \"Bar\", \"\", \"Close\",\"5\",\"0\",\"PrimaryOnly\",,,\"False\",\"T\",\"EveryTick\")","v":120.171875},-1.3000520020800833E-4,null,null,null,""]
[213,"10:45:00",null,null,null,null,null,{"$f":"RTD(\"cqg.rtd\",,\"StudyData\", \"Close(\"&$D$12&\") when LocalYear(\"&$D$12&\")=\"&$D$1&\" and localMonth(\"&$D$12&\") =\"&$E$1&\" and LocalDay(\"&$D$12&\")=\"&$F$1&\" and Barix(\"&$D$12&\",reference:=StartOfSession)=\"&A34&\"\", \"Bar\", \"\", \"Close\",\"5\",\"0\",\"PrimaryOnly\",,,\"False\",\"T\",\"EveryTick\")","v":""},{"$error":"#N/A"},{"$f":"RTD(\"cqg.rtd\",,\"StudyData\", \"Close(\"&$D$12&\") when LocalYear(\"&$D$12&\")=\"&$D$2&\" and localMonth(\"&$D$12&\") =\"&$E$2&\" and LocalDay(\"&$D$12&\")=\"&$F$2&\" and Barix(\"&$D$12&\",reference:=StartOfSession)=\"&A34&\"\", \"Bar\", \"\", \"Close\",\"5\",\"0\",\"PrimaryOnly\",,,\"False\",\"T\",\"EveryTick\")","v":120.171875},-6.4968814968814972E-4,{"$f":"RTD(\"cqg.rtd\",,\"StudyData\", \"Close(\"&$D$12&\") when LocalYear(\"&$D$12&\")=\"&$D$3&\" and localMonth(\"&$D$12&\") =\"&$E$3&\" and LocalDay(\"&$D$12&\")=\"&$F$3&\" and Barix(\"&$D$12&\",reference:=StartOfSession)=\"&A34&\"\", \"Bar\", \"\", \"Close\",\"5\",\"0\",\"PrimaryOnly\",,,\"False\",\"T\",\"EveryTick\")","v":120.171875},1.3019138133055592E-3,{"$f":"RTD(\"cqg.rtd\",,\"StudyData\", \"Close(\"&$D$12&\") when LocalYear(\"&$D$12&\")=\"&$D$4&\" and localMonth(\"&$D$12&\") =\"&$E$4&\" and LocalDay(\"&$D$12&\")=\"&$F$4&\" and Barix(\"&$D$12&\",reference:=StartOfSession)=\"&A34&\"\", \"Bar\", \"\", \"Close\",\"5\",\"0\",\"PrimaryOnly\",,,\"False\",\"T\",\"EveryTick\")","v":120.09375},-2.6014568158168577E-4,{"$f":"RTD(\"cqg.rtd\",,\"StudyData\", \"Close(\"&$D$12&\") when LocalYear(\"&$D$12&\")=\"&$D$5&\" and localMonth(\"&$D$12&\") =\"&$E$5&\" and LocalDay(\"&$D$12&\")=\"&$F$5&\" and Barix(\"&$D$12&\",reference:=StartOfSession)=\"&A34&\"\", \"Bar\", \"\", \"Close\",\"5\",\"0\",\"PrimaryOnly\",,,\"False\",\"T\",\"EveryTick\")","v":120.1875},-1.2983640612827837E-3,{"$f":"RTD(\"cqg.rtd\",,\"StudyData\", \"Close(\"&$D$12&\") when LocalYear(\"&$D$12&\")=\"&$D$6&\" and localMonth(\"&$D$12&\") =\"&$E$6&\" and LocalDay(\"&$D$12&\")=\"&$F$6&\" and Barix(\"&$D$12&\",reference:=StartOfSession)=\"&A34&\"\", \"Bar\", \"\", \"Close\",\"5\",\"0\",\"PrimaryOnly\",,,\"False\",\"T\",\"EveryTick\")","v":120.3125},5.1975051975051978E-4,{"$f":"RTD(\"cqg.rtd\",,\"StudyData\", \"Close(\"&$D$12&\") when LocalYear(\"&$D$12&\")=\"&$D$7&\" and localMonth(\"&$D$12&\") =\"&$E$7&\" and LocalDay(\"&$D$12&\")=\"&$F$7&\" and Barix(\"&$D$12&\",reference:=StartOfSession)=\"&A34&\"\", \"Bar\", \"\", \"Close\",\"5\",\"0\",\"PrimaryOnly\",,,\"False\",\"T\",\"EveryTick\")","v":120.34375},2.5974025974025974E-4,{"$f":"RTD(\"cqg.rtd\",,\"StudyData\", \"Close(\"&$D$12&\") when LocalYear(\"&$D$12&\")=\"&$D$8&\" and localMonth(\"&$D$12&\") =\"&$E$8&\" and LocalDay(\"&$D$12&\")=\"&$F$8&\" and Barix(\"&$D$12&\",reference:=StartOfSession)=\"&A34&\"\", \"Bar\", \"\", \"Close\",\"5\",\"0\",\"PrimaryOnly\",,,\"False\",\"T\",\"EveryTick\")","v":120.28125},1.6916070266753415E-3,{"$f":"RTD(\"cqg.rtd\",,\"StudyData\", \"Close(\"&$D$12&\") when LocalYear(\"&$D$12&\")=\"&$D$9&\" and localMonth(\"&$D$12&\") =\"&$E$9&\" and LocalDay(\"&$D$12&\")=\"&$F$9&\" and Barix(\"&$D$12&\",reference:=StartOfSession)=\"&A34&\"\", \"Bar\", \"\", \"Close\",\"5\",\"0\",\"PrimaryOnly\",,,\"False\",\"T\",\"EveryTick\")","v":120.15625},-2.6001040041601667E-4,{"$f":"RTD(\"cqg.rtd\",,\"StudyData\", \"Close(\"&$D$12&\") when LocalYear(\"&$D$12&\")=\"&$D$10&\" and localMonth(\"&$D$12&\") =\"&$E$10&\" and LocalDay(\"&$D$12&\")=\"&$F$10&\" and Barix(\"&$D$12&\",reference:=StartOfSession)=\"&A34&\"\", \"Bar\", \"\", \"Close\",\"5\",\"0\",\"PrimaryOnly\",,,\"False\",\"T\",\"EveryTick\")","v":120.1875},0,null,null,null,""]
[214,"10:50:00",null,null,null,null,null,{"$f":"RTD(\"cqg.rtd\",,\"StudyData\", \"Close(\"&$D$12&\") when LocalYear(\"&$D$12&\")=\"&$D$1&\" and localMonth(\"&$D$12&\") =\"&$E$1&\" and LocalDay(\"&$D$12&\")=\"&$F$1&\" and Barix(\"&$D$12&\",reference:=StartOfSession)=\"&A35&\"\", \"Bar\", \"\", \"Close\",\"5\",\"0\",\"PrimaryOnly\",,,\"False\",\"T\",\"EveryTick\")","v":""},{"$error":"#N/A"},{"$f":"RTD(\"cqg.rtd\",,\"StudyData\", \"Close(\"&$D$12&\") when LocalYear(\"&$D$12&\")=\"&$D$2&\" and localMonth(\"&$D$12&\") =\"&$E$2&\" and LocalDay(\"&$D$12&\")=\"&$F$2&\" and Barix(\"&$D$12&\",reference:=StartOfSession)=\"&A35&\"\", \"Bar\", \"\", \"Close\",\"5\",\"0\",\"PrimaryOnly\",,,\"False\",\"T\",\"EveryTick\")","v":120.15625},-7.7962577962577967E-4,{"$f":"RTD(\"cqg.rtd\",,\"StudyData\", \"Close(\"&$D$12&\") when LocalYear(\"&$D$12&\")=\"&$D$3&\" and localMonth(\"&$D$12&\") =\"&$E$3&\" and LocalDay(\"&$D$12&\")=\"&$F$3&\" and Barix(\"&$D$12&\",reference:=StartOfSession)=\"&A35&\"\", \"Bar\", \"\", \"Close\",\"5\",\"0\",\"PrimaryOnly\",,,\"False\",\"T\",\"EveryTick\")","v":120.171875},1.3019138133055592E-3,{"$f":"RTD(\"cqg.rtd\",,\"StudyData\", \"Close(\"&$D$12&\") when LocalYear(\"&$D$12&\")=\"&$D$4&\" and localMonth(\"&$D$12&\") =\"&$E$4&\" and LocalDay(\"&$D$12&\")=\"&$F$4&\" and Barix(\"&$D$12&\",reference:=StartOfSession)=\"&A35&\"\", \"Bar\", \"\", \"Close\",\"5\",\"0\",\"PrimaryOnly\",,,\"False\",\"T\",\"EveryTick\")","v":120.078125},-3.902185223725286E-4,{"$f":"RTD(\"cqg.rtd\",,\"StudyData\", \"Close(\"&$D$12&\") when LocalYear(\"&$D$12&\")=\"&$D$5&\" and localMonth(\"&$D$12&\") =\"&$E$5&\" and LocalDay(\"&$D$12&\")=\"&$F$5&\" and Barix(\"&$D$12&\",reference:=StartOfSession)=\"&A35&\"\", \"Bar\", \"\", \"Close\",\"5\",\"0\",\"PrimaryOnly\",,,\"False\",\"T\",\"EveryTick\")","v":120.203125},-1.1685276551545052E-3,{"$f":"RTD(\"cqg.rtd\",,\"StudyData\", \"Close(\"&$D$12&\") when LocalYear(\"&$D$12&\")=\"&$D$6&\" and localMonth(\"&$D$12&\") =\"&$E$6&\" and LocalDay(\"&$D$12&\")=\"&$F$6&\" and Barix(\"&$D$12&\",reference:=StartOfSession)=\"&A35&\"\", \"Bar\", \"\", \"Close\",\"5\",\"0\",\"PrimaryOnly\",,,\"False\",\"T\",\"EveryTick\")","v":120.328125},6.4968814968814972E-4,{"$f":"RTD(\"cqg.rtd\",,\"StudyData\", \"Close(\"&$D$12&\") when LocalYear(\"&$D$12&\")=\"&$D$7&\" and localMonth(\"&$D$12&\") =\"&$E$7&\" and LocalDay(\"&$D$12&\")=\"&$F$7&\" and Barix(\"&$D$12&\",reference:=StartOfSession)=\"&A35&\"\", \"Bar\", \"\", \"Close\",\"5\",\"0\",\"PrimaryOnly\",,,\"False\",\"T\",\"EveryTick\")","v":120.34375},2.5974025974025974E-4,{"$f":"RTD(\"cqg.rtd\",,\"StudyData\", \"Close(\"&$D$12&\") when LocalYear(\"&$D$12&\")=\"&$D$8&\" and localMonth(\"&$D$12&\") =\"&$E$8&\" and LocalDay(\"&$D$12&\")=\"&$F$8&\" and Barix(\"&$D$12&\",reference:=StartOfSession)=\"&A35&\"\", \"Bar\", \"\", \"Close\",\"5\",\"0\",\"PrimaryOnly\",,,\"False\",\"T\",\"EveryTick\")","v":120.296875},1.8217306441119063E-3,{"$f":"RTD(\"cqg.rtd\",,\"StudyData\", \"Close(\"&$D$12&\") when LocalYear(\"&$D$12&\")=\"&$D$9&\" and localMonth(\"&$D$12&\") =\"&$E$9&\" and LocalDay(\"&$D$12&\")=\"&$F$9&\" and Barix(\"&$D$12&\",reference:=StartOfSession)=\"&A35&\"\", \"Bar\", \"\", \"Close\",\"5\",\"0\",\"PrimaryOnly\",,,\"False\",\"T\",\"EveryTick\")","v":120.125},-5.2002080083203334E-4,{"$f":"RTD(\"cqg.rtd\",,\"StudyData\", \"Close(\"&$D$12&\") when LocalYear(\"&$D$12&\")=\"&$D$10&\" and localMonth(\"&$D$12&\") =\"&$E$10&\" and LocalDay(\"&$D$12&\")=\"&$F$10&\" and Barix(\"&$D$12&\",reference:=StartOfSession)=\"&A35&\"\", \"Bar\", \"\", \"Close\",\"5\",\"0\",\"PrimaryOnly\",,,\"False\",\"T\",\"EveryTick\")","v":120.1875},0,null,null,null,""]
[215,"10:55:00",null,null,null,null,null,{"$f":"RTD(\"cqg.rtd\",,\"StudyData\", \"Close(\"&$D$12&\") when LocalYear(\"&$D$12&\")=\"&$D$1&\" and localMonth(\"&$D$12&\") =\"&$E$1&\" and LocalDay(\"&$D$12&\")=\"&$F$1&\" and Barix(\"&$D$12&\",reference:=StartOfSession)=\"&A36&\"\", \"Bar\", \"\", \"Close\",\"5\",\"0\",\"PrimaryOnly\",,,\"False\",\"T\",\"EveryTick\")","v":""},{"$error":"#N/A"},{"$f":"RTD(\"cqg.rtd\",,\"StudyData\", \"Close(\"&$D$12&\") when LocalYear(\"&$D$12&\")=\"&$D$2&\" and localMonth(\"&$D$12&\") =\"&$E$2&\" and LocalDay(\"&$D$12&\")=\"&$F$2&\" and Barix(\"&$D$12&\",reference:=StartOfSession)=\"&A36&\"\", \"Bar\", \"\", \"Close\",\"5\",\"0\",\"PrimaryOnly\",,,\"False\",\"T\",\"EveryTick\")","v":120.125},-1.0395010395010396E-3,{"$f":"RTD(\"cqg.rtd\",,\"StudyData\", \"Close(\"&$D$12&\") when LocalYear(\"&$D$12&\")=\"&$D$3&\" and localMonth(\"&$D$12&\") =\"&$E$3&\" and LocalDay(\"&$D$12&\")=\"&$F$3&\" and Barix(\"&$D$12&\",reference:=StartOfSession)=\"&A36&\"\", \"Bar\", \"\", \"Close\",\"5\",\"0\",\"PrimaryOnly\",,,\"False\",\"T\",\"EveryTick\")","v":120.140625},1.0415310506444472E-3,{"$f":"RTD(\"cqg.rtd\",,\"StudyData\", \"Close(\"&$D$12&\") when LocalYear(\"&$D$12&\")=\"&$D$4&\" and localMonth(\"&$D$12&\") =\"&$E$4&\" and LocalDay(\"&$D$12&\")=\"&$F$4&\" and Barix(\"&$D$12&\",reference:=StartOfSession)=\"&A36&\"\", \"Bar\", \"\", \"Close\",\"5\",\"0\",\"PrimaryOnly\",,,\"False\",\"T\",\"EveryTick\")","v":120.0625},-5.2029136316337154E-4,{"$f":"RTD(\"cqg.rtd\",,\"StudyData\", \"Close(\"&$D$12&\") when LocalYear(\"&$D$12&\")=\"&$D$5&\" and localMonth(\"&$D$12&\") =\"&$E$5&\" and LocalDay(\"&$D$12&\")=\"&$F$5&\" and Barix(\"&$D$12&\",reference:=StartOfSession)=\"&A36&\"\", \"Bar\", \"\", \"Close\",\"5\",\"0\",\"PrimaryOnly\",,,\"False\",\"T\",\"EveryTick\")","v":120.1875},-1.2983640612827837E-3,{"$f":"RTD(\"cqg.rtd\",,\"StudyData\", \"Close(\"&$D$12&\") when LocalYear(\"&$D$12&\")=\"&$D$6&\" and localMonth(\"&$D$12&\") =\"&$E$6&\" and LocalDay(\"&$D$12&\")=\"&$F$6&\" and Barix(\"&$D$12&\",reference:=StartOfSession)=\"&A36&\"\", \"Bar\", \"\", \"Close\",\"5\",\"0\",\"PrimaryOnly\",,,\"False\",\"T\",\"EveryTick\")","v":120.3125},5.1975051975051978E-4,{"$f":"RTD(\"cqg.rtd\",,\"StudyData\", \"Close(\"&$D$12&\") when LocalYear(\"&$D$12&\")=\"&$D$7&\" and localMonth(\"&$D$12&\") =\"&$E$7&\" and LocalDay(\"&$D$12&\")=\"&$F$7&\" and Barix(\"&$D$12&\",reference:=StartOfSession)=\"&A36&\"\", \"Bar\", \"\", \"Close\",\"5\",\"0\",\"PrimaryOnly\",,,\"False\",\"T\",\"EveryTick\")","v":120.34375},2.5974025974025974E-4,{"$f":"RTD(\"cqg.rtd\",,\"StudyData\", \"Close(\"&$D$12&\") when LocalYear(\"&$D$12&\")=\"&$D$8&\" and localMonth(\"&$D$12&\") =\"&$E$8&\" and LocalDay(\"&$D$12&\")=\"&$F$8&\" and Barix(\"&$D$12&\",reference:=StartOfSession)=\"&A36&\"\", \"Bar\", \"\", \"Close\",\"5\",\"0\",\"PrimaryOnly\",,,\"False\",\"T\",\"EveryTick\")","v":120.296875},1.8217306441119063E-3,{"$f":"RTD(\"cqg.rtd\",,\"StudyData\", \"Close(\"&$D$12&\") when LocalYear(\"&$D$12&\")=\"&$D$9&\" and localMonth(\"&$D$12&\") =\"&$E$9&\" and LocalDay(\"&$D$12&\")=\"&$F$9&\" and Barix(\"&$D$12&\",reference:=StartOfSession)=\"&A36&\"\", \"Bar\", \"\", \"Close\",\"5\",\"0\",\"PrimaryOnly\",,,\"False\",\"T\",\"EveryTick\")","v":120.140625},-3.9001560062402497E-4,{"$f":"RTD(\"cqg.rtd\",,\"StudyData\", \"Close(\"&$D$12&\") when LocalYear(\"&$D$12&\")=\"&$D$10&\" and localMonth(\"&$D$12&\") =\"&$E$10&\" and LocalDay(\"&$D$12&\")=\"&$F$10&\" and Barix(\"&$D$12&\",reference:=StartOfSession)=\"&A36&\"\", \"Bar\", \"\", \"Close\",\"5\",\"0\",\"PrimaryOnly\",,,\"False\",\"T\",\"EveryTick\")","v":120.203125},1.3000520020800833E-4,null,null,null,""]
[216,"11:00:00",null,null,null,null,null,{"$f":"RTD(\"cqg.rtd\",,\"StudyData\", \"Close(\"&$D$12&\") when LocalYear(\"&$D$12&\")=\"&$D$1&\" and localMonth(\"&$D$12&\") =\"&$E$1&\" and LocalDay(\"&$D$12&\")=\"&$F$1&\" and Barix(\"&$D$12&\",reference:=StartOfSession)=\"&A37&\"\", \"Bar\", \"\", \"Close\",\"5\",\"0\",\"PrimaryOnly\",,,\"False\",\"T\",\"EveryTick\")","v":""},{"$error":"#N/A"},{"$f":"RTD(\"cqg.rtd\",,\"StudyData\", \"Close(\"&$D$12&\") when LocalYear(\"&$D$12&\")=\"&$D$2&\" and localMonth(\"&$D$12&\") =\"&$E$2&\" and LocalDay(\"&$D$12&\")=\"&$F$2&\" and Barix(\"&$D$12&\",reference:=StartOfSession)=\"&A37&\"\", \"Bar\", \"\", \"Close\",\"5\",\"0\",\"PrimaryOnly\",,,\"False\",\"T\",\"EveryTick\")","v":120.140625},-9.0956340956340961E-4,{"$f":"RTD(\"cqg.rtd\",,\"StudyData\", \"Close(\"&$D$12&\") when LocalYear(\"&$D$12&\")=\"&$D$3&\" and localMonth(\"&$D$12&\") =\"&$E$3&\" and LocalDay(\"&$D$12&\")=\"&$F$3&\" and Barix(\"&$D$12&\",reference:=StartOfSession)=\"&A37&\"\", \"Bar\", \"\", \"Close\",\"5\",\"0\",\"PrimaryOnly\",,,\"False\",\"T\",\"EveryTick\")","v":120.140625},1.0415310506444472E-3,{"$f":"RTD(\"cqg.rtd\",,\"StudyData\", \"Close(\"&$D$12&\") when LocalYear(\"&$D$12&\")=\"&$D$4&\" and localMonth(\"&$D$12&\") =\"&$E$4&\" and LocalDay(\"&$D$12&\")=\"&$F$4&\" and Barix(\"&$D$12&\",reference:=StartOfSession)=\"&A37&\"\", \"Bar\", \"\", \"Close\",\"5\",\"0\",\"PrimaryOnly\",,,\"False\",\"T\",\"EveryTick\")","v":120.078125},-3.902185223725286E-4,{"$f":"RTD(\"cqg.rtd\",,\"StudyData\", \"Close(\"&$D$12&\") when LocalYear(\"&$D$12&\")=\"&$D$5&\" and localMonth(\"&$D$12&\") =\"&$E$5&\" and LocalDay(\"&$D$12&\")=\"&$F$5&\" and Barix(\"&$D$12&\",reference:=StartOfSession)=\"&A37&\"\", \"Bar\", \"\", \"Close\",\"5\",\"0\",\"PrimaryOnly\",,,\"False\",\"T\",\"EveryTick\")","v":120.203125},-1.1685276551545052E-3,{"$f":"RTD(\"cqg.rtd\",,\"StudyData\", \"Close(\"&$D$12&\") when LocalYear(\"&$D$12&\")=\"&$D$6&\" and localMonth(\"&$D$12&\") =\"&$E$6&\" and LocalDay(\"&$D$12&\")=\"&$F$6&\" and Barix(\"&$D$12&\",reference:=StartOfSession)=\"&A37&\"\", \"Bar\", \"\", \"Close\",\"5\",\"0\",\"PrimaryOnly\",,,\"False\",\"T\",\"EveryTick\")","v":120.296875},3.8981288981288983E-4,{"$f":"RTD(\"cqg.rtd\",,\"StudyData\", \"Close(\"&$D$12&\") when LocalYear(\"&$D$12&\")=\"&$D$7&\" and localMonth(\"&$D$12&\") =\"&$E$7&\" and LocalDay(\"&$D$12&\")=\"&$F$7&\" and Barix(\"&$D$12&\",reference:=StartOfSession)=\"&A37&\"\", \"Bar\", \"\", \"Close\",\"5\",\"0\",\"PrimaryOnly\",,,\"False\",\"T\",\"EveryTick\")","v":120.328125},1.2987012987012987E-4,{"$f":"RTD(\"cqg.rtd\",,\"StudyData\", \"Close(\"&$D$12&\") when LocalYear(\"&$D$12&\")=\"&$D$8&\" and localMonth(\"&$D$12&\") =\"&$E$8&\" and LocalDay(\"&$D$12&\")=\"&$F$8&\" and Barix(\"&$D$12&\",reference:=StartOfSession)=\"&A37&\"\", \"Bar\", \"\", \"Close\",\"5\",\"0\",\"PrimaryOnly\",,,\"False\",\"T\",\"EveryTick\")","v":120.296875},1.8217306441119063E-3,{"$f":"RTD(\"cqg.rtd\",,\"StudyData\", \"Close(\"&$D$12&\") when LocalYear(\"&$D$12&\")=\"&$D$9&\" and localMonth(\"&$D$12&\") =\"&$E$9&\" and LocalDay(\"&$D$12&\")=\"&$F$9&\" and Barix(\"&$D$12&\",reference:=StartOfSession)=\"&A37&\"\", \"Bar\", \"\", \"Close\",\"5\",\"0\",\"PrimaryOnly\",,,\"False\",\"T\",\"EveryTick\")","v":120.125},-5.2002080083203334E-4,{"$f":"RTD(\"cqg.rtd\",,\"StudyData\", \"Close(\"&$D$12&\") when LocalYear(\"&$D$12&\")=\"&$D$10&\" and localMonth(\"&$D$12&\") =\"&$E$10&\" and LocalDay(\"&$D$12&\")=\"&$F$10&\" and Barix(\"&$D$12&\",reference:=StartOfSession)=\"&A37&\"\", \"Bar\", \"\", \"Close\",\"5\",\"0\",\"PrimaryOnly\",,,\"False\",\"T\",\"EveryTick\")","v":120.203125},1.3000520020800833E-4,null,null,null,""]
[217,"11:05:00",-40,{"$f":" RTD(\"cqg.rtd\",,\"StudyData\", $D$12,  \"Tick\", \"FlatTicks=0\", \"Tick\",\"D\",C38,\"PrimaryOnly\")","v":120.3125},null,"EDA",null,{"$f":"RTD(\"cqg.rtd\",,\"StudyData\", \"Close(\"&$D$12&\") when LocalYear(\"&$D$12&\")=\"&$D$1&\" and localMonth(\"&$D$12&\") =\"&$E$1&\" and LocalDay(\"&$D$12&\")=\"&$F$1&\" and Barix(\"&$D$12&\",reference:=StartOfSession)=\"&A38&\"\", \"Bar\", \"\", \"Close\",\"5\",\"0\",\"PrimaryOnly\",,,\"False\",\"T\",\"EveryTick\")","v":""},{"$error":"#N/A"},{"$f":"RTD(\"cqg.rtd\",,\"StudyData\", \"Close(\"&$D$12&\") when LocalYear(\"&$D$12&\")=\"&$D$2&\" and localMonth(\"&$D$12&\") =\"&$E$2&\" and LocalDay(\"&$D$12&\")=\"&$F$2&\" and Barix(\"&$D$12&\",reference:=StartOfSession)=\"&A38&\"\", \"Bar\", \"\", \"Close\",\"5\",\"0\",\"PrimaryOnly\",,,\"False\",\"T\",\"EveryTick\")","v":120.15625},-7.7962577962577967E-4,{"$f":"RTD(\"cqg.rtd\",,\"StudyData\", \"Close(\"&$D$12&\") when LocalYear(\"&$D$12&\")=\"&$D$3&\" and localMonth(\"&$D$12&\") =\"&$E$3&\" and LocalDay(\"&$D$12&\")=\"&$F$3&\" and Barix(\"&$D$12&\",reference:=StartOfSession)=\"&A38&\"\", \"Bar\", \"\", \"Close\",\"5\",\"0\",\"PrimaryOnly\",,,\"False\",\"T\",\"EveryTick\")","v":120.140625},1.0415310506444472E-3,{"$f":"RTD(\"cqg.rtd\",,\"StudyData\", \"Close(\"&$D$12&\") when LocalYear(\"&$D$12&\")=\"&$D$4&\" and localMonth(\"&$D$12&\") =\"&$E$4&\" and LocalDay(\"&$D$12&\")=\"&$F$4&\" and Barix(\"&$D$12&\",reference:=StartOfSession)=\"&A38&\"\", \"Bar\", \"\", \"Close\",\"5\",\"0\",\"PrimaryOnly\",,,\"False\",\"T\",\"EveryTick\")","v":120.078125},-3.902185223725286E-4,{"$f":"RTD(\"cqg.rtd\",,\"StudyData\", \"Close(\"&$D$12&\") when LocalYear(\"&$D$12&\")=\"&$D$5&\" and localMonth(\"&$D$12&\") =\"&$E$5&\" and LocalDay(\"&$D$12&\")=\"&$F$5&\" and Barix(\"&$D$12&\",reference:=StartOfSession)=\"&A38&\"\", \"Bar\", \"\", \"Close\",\"5\",\"0\",\"PrimaryOnly\",,,\"False\",\"T\",\"EveryTick\")","v":120.203125},-1.1685276551545052E-3,{"$f":"RTD(\"cqg.rtd\",,\"StudyData\", \"Close(\"&$D$12&\") when LocalYear(\"&$D$12&\")=\"&$D$6&\" and localMonth(\"&$D$12&\") =\"&$E$6&\" and LocalDay(\"&$D$12&\")=\"&$F$6&\" and Barix(\"&$D$12&\",reference:=StartOfSession)=\"&A38&\"\", \"Bar\", \"\", \"Close\",\"5\",\"0\",\"PrimaryOnly\",,,\"False\",\"T\",\"EveryTick\")","v":120.3125},5.1975051975051978E-4,{"$f":"RTD(\"cqg.rtd\",,\"StudyData\", \"Close(\"&$D$12&\") when LocalYear(\"&$D$12&\")=\"&$D$7&\" and localMonth(\"&$D$12&\") =\"&$E$7&\" and LocalDay(\"&$D$12&\")=\"&$F$7&\" and Barix(\"&$D$12&\",reference:=StartOfSession)=\"&A38&\"\", \"Bar\", \"\", \"Close\",\"5\",\"0\",\"PrimaryOnly\",,,\"False\",\"T\",\"EveryTick\")","v":120.34375},2.5974025974025974E-4,{"$f":"RTD(\"cqg.rtd\",,\"StudyData\", \"Close(\"&$D$12&\") when LocalYear(\"&$D$12&\")=\"&$D$8&\" and localMonth(\"&$D$12&\") =\"&$E$8&\" and LocalDay(\"&$D$12&\")=\"&$F$8&\" and Barix(\"&$D$12&\",reference:=StartOfSession)=\"&A38&\"\", \"Bar\", \"\", \"Close\",\"5\",\"0\",\"PrimaryOnly\",,,\"False\",\"T\",\"EveryTick\")","v":120.265625},1.5614834092387768E-3,{"$f":"RTD(\"cqg.rtd\",,\"StudyData\", \"Close(\"&$D$12&\") when LocalYear(\"&$D$12&\")=\"&$D$9&\" and localMonth(\"&$D$12&\") =\"&$E$9&\" and LocalDay(\"&$D$12&\")=\"&$F$9&\" and Barix(\"&$D$12&\",reference:=StartOfSession)=\"&A38&\"\", \"Bar\", \"\", \"Close\",\"5\",\"0\",\"PrimaryOnly\",,,\"False\",\"T\",\"EveryTick\")","v":120.125},-5.2002080083203334E-4,{"$f":"RTD(\"cqg.rtd\",,\"StudyData\", \"Close(\"&$D$12&\") when LocalYear(\"&$D$12&\")=\"&$D$10&\" and localMonth(\"&$D$12&\") =\"&$E$10&\" and LocalDay(\"&$D$12&\")=\"&$F$10&\" and Barix(\"&$D$12&\",reference:=StartOfSession)=\"&A38&\"\", \"Bar\", \"\", \"Close\",\"5\",\"0\",\"PrimaryOnly\",,,\"False\",\"T\",\"EveryTick\")","v":120.203125},1.3000520020800833E-4,null,null,null,""]
[218,"11:10:00",{"$f":"C38+1","v":-39},{"$f":" RTD(\"cqg.rtd\",,\"StudyData\", $D$12,  \"Tick\", \"FlatTicks=0\", \"Tick\",\"D\",C39,\"PrimaryOnly\")","v":120.328125},null,"TUA",null,{"$f":"RTD(\"cqg.rtd\",,\"StudyData\", \"Close(\"&$D$12&\") when LocalYear(\"&$D$12&\")=\"&$D$1&\" and localMonth(\"&$D$12&\") =\"&$E$1&\" and LocalDay(\"&$D$12&\")=\"&$F$1&\" and Barix(\"&$D$12&\",reference:=StartOfSession)=\"&A39&\"\", \"Bar\", \"\", \"Close\",\"5\",\"0\",\"PrimaryOnly\",,,\"False\",\"T\",\"EveryTick\")","v":""},{"$error":"#N/A"},{"$f":"RTD(\"cqg.rtd\",,\"StudyData\", \"Close(\"&$D$12&\") when LocalYear(\"&$D$12&\")=\"&$D$2&\" and localMonth(\"&$D$12&\") =\"&$E$2&\" and LocalDay(\"&$D$12&\")=\"&$F$2&\" and Barix(\"&$D$12&\",reference:=StartOfSession)=\"&A39&\"\", \"Bar\", \"\", \"Close\",\"5\",\"0\",\"PrimaryOnly\",,,\"False\",\"T\",\"EveryTick\")","v":120.140625},-9.0956340956340961E-4,{"$f":"RTD(\"cqg.rtd\",,\"StudyData\", \"Close(\"&$D$12&\") when LocalYear(\"&$D$12&\")=\"&$D$3&\" and localMonth(\"&$D$12&\") =\"&$E$3&\" and LocalDay(\"&$D$12&\")=\"&$F$3&\" and Barix(\"&$D$12&\",reference:=StartOfSession)=\"&A39&\"\", \"Bar\", \"\", \"Close\",\"5\",\"0\",\"PrimaryOnly\",,,\"False\",\"T\",\"EveryTick\")","v":120.140625},1.0415310506444472E-3,{"$f":"RTD(\"cqg.rtd\",,\"StudyData\", \"Close(\"&$D$12&\") when LocalYear(\"&$D$12&\")=\"&$D$4&\" and localMonth(\"&$D$12&\") =\"&$E$4&\" and LocalDay(\"&$D$12&\")=\"&$F$4&\" and Barix(\"&$D$12&\",reference:=StartOfSession)=\"&A39&\"\", \"Bar\", \"\", \"Close\",\"5\",\"0\",\"PrimaryOnly\",,,\"False\",\"T\",\"EveryTick\")","v":120.078125},-3.902185223725286E-4,{"$f":"RTD(\"cqg.rtd\",,\"StudyData\", \"Close(\"&$D$12&\") when LocalYear(\"&$D$12&\")=\"&$D$5&\" and localMonth(\"&$D$12&\") =\"&$E$5&\" and LocalDay(\"&$D$12&\")=\"&$F$5&\" and Barix(\"&$D$12&\",reference:=StartOfSession)=\"&A39&\"\", \"Bar\", \"\", \"Close\",\"5\",\"0\",\"PrimaryOnly\",,,\"False\",\"T\",\"EveryTick\")","v":120.1875},-1.2983640612827837E-3,{"$f":"RTD(\"cqg.rtd\",,\"StudyData\", \"Close(\"&$D$12&\") when LocalYear(\"&$D$12&\")=\"&$D$6&\" and localMonth(\"&$D$12&\") =\"&$E$6&\" and LocalDay(\"&$D$12&\")=\"&$F$6&\" and Barix(\"&$D$12&\",reference:=StartOfSession)=\"&A39&\"\", \"Bar\", \"\", \"Close\",\"5\",\"0\",\"PrimaryOnly\",,,\"False\",\"T\",\"EveryTick\")","v":120.328125},6.4968814968814972E-4,{"$f":"RTD(\"cqg.rtd\",,\"StudyData\", \"Close(\"&$D$12&\") when LocalYear(\"&$D$12&\")=\"&$D$7&\" and localMonth(\"&$D$12&\") =\"&$E$7&\" and LocalDay(\"&$D$12&\")=\"&$F$7&\" and Barix(\"&$D$12&\",reference:=StartOfSession)=\"&A39&\"\", \"Bar\", \"\", \"Close\",\"5\",\"0\",\"PrimaryOnly\",,,\"False\",\"T\",\"EveryTick\")","v":120.328125},1.2987012987012987E-4,{"$f":"RTD(\"cqg.rtd\",,\"StudyData\", \"Close(\"&$D$12&\") when LocalYear(\"&$D$12&\")=\"&$D$8&\" and localMonth(\"&$D$12&\") =\"&$E$8&\" and LocalDay(\"&$D$12&\")=\"&$F$8&\" and Barix(\"&$D$12&\",reference:=StartOfSession)=\"&A39&\"\", \"Bar\", \"\", \"Close\",\"5\",\"0\",\"PrimaryOnly\",,,\"False\",\"T\",\"EveryTick\")","v":120.25},1.431359791802212E-3,{"$f":"RTD(\"cqg.rtd\",,\"StudyData\", \"Close(\"&$D$12&\") when LocalYear(\"&$D$12&\")=\"&$D$9&\" and localMonth(\"&$D$12&\") =\"&$E$9&\" and LocalDay(\"&$D$12&\")=\"&$F$9&\" and Barix(\"&$D$12&\",reference:=StartOfSession)=\"&A39&\"\", \"Bar\", \"\", \"Close\",\"5\",\"0\",\"PrimaryOnly\",,,\"False\",\"T\",\"EveryTick\")","v":120.125},-5.2002080083203334E-4,{"$f":"RTD(\"cqg.rtd\",,\"StudyData\", \"Close(\"&$D$12&\") when LocalYear(\"&$D$12&\")=\"&$D$10&\" and localMonth(\"&$D$12&\") =\"&$E$10&\" and LocalDay(\"&$D$12&\")=\"&$F$10&\" and Barix(\"&$D$12&\",reference:=StartOfSession)=\"&A39&\"\", \"Bar\", \"\", \"Close\",\"5\",\"0\",\"PrimaryOnly\",,,\"False\",\"T\",\"EveryTick\")","v":120.203125},1.3000520020800833E-4,null,null,null,""]
[219,"11:15:00",{"$f":"C39+1","v":-38},{"$f":" RTD(\"cqg.rtd\",,\"StudyData\", $D$12,  \"Tick\", \"FlatTicks=0\", \"Tick\",\"D\",C40,\"PrimaryOnly\")","v":120.3125},null,"FVA",null,{"$f":"RTD(\"cqg.rtd\",,\"StudyData\", \"Close(\"&$D$12&\") when LocalYear(\"&$D$12&\")=\"&$D$1&\" and localMonth(\"&$D$12&\") =\"&$E$1&\" and LocalDay(\"&$D$12&\")=\"&$F$1&\" and Barix(\"&$D$12&\",reference:=StartOfSession)=\"&A40&\"\", \"Bar\", \"\", \"Close\",\"5\",\"0\",\"PrimaryOnly\",,,\"False\",\"T\",\"EveryTick\")","v":""},{"$error":"#N/A"},{"$f":"RTD(\"cqg.rtd\",,\"StudyData\", \"Close(\"&$D$12&\") when LocalYear(\"&$D$12&\")=\"&$D$2&\" and localMonth(\"&$D$12&\") =\"&$E$2&\" and LocalDay(\"&$D$12&\")=\"&$F$2&\" and Barix(\"&$D$12&\",reference:=StartOfSession)=\"&A40&\"\", \"Bar\", \"\", \"Close\",\"5\",\"0\",\"PrimaryOnly\",,,\"False\",\"T\",\"EveryTick\")","v":120.140625},-9.0956340956340961E-4,{"$f":"RTD(\"cqg.rtd\",,\"StudyData\", \"Close(\"&$D$12&\") when LocalYear(\"&$D$12&\")=\"&$D$3&\" and localMonth(\"&$D$12&\") =\"&$E$3&\" and LocalDay(\"&$D$12&\")=\"&$F$3&\" and Barix(\"&$D$12&\",reference:=StartOfSession)=\"&A40&\"\", \"Bar\", \"\", \"Close\",\"5\",\"0\",\"PrimaryOnly\",,,\"False\",\"T\",\"EveryTick\")","v":120.15625},1.1717224319750033E-3,{"$f":"RTD(\"cqg.rtd\",,\"StudyData\", \"Close(\"&$D$12&\") when LocalYear(\"&$D$12&\")=\"&$D$4&\" and localMonth(\"&$D$12&\") =\"&$E$4&\" and LocalDay(\"&$D$12&\")=\"&$F$4&\" and Barix(\"&$D$12&\",reference:=StartOfSession)=\"&A40&\"\", \"Bar\", \"\", \"Close\",\"5\",\"0\",\"PrimaryOnly\",,,\"False\",\"T\",\"EveryTick\")","v":120.0625},-5.2029136316337154E-4,{"$f":"RTD(\"cqg.rtd\",,\"StudyData\", \"Close(\"&$D$12&\") when LocalYear(\"&$D$12&\")=\"&$D$5&\" and localMonth(\"&$D$12&\") =\"&$E$5&\" and LocalDay(\"&$D$12&\")=\"&$F$5&\" and Barix(\"&$D$12&\",reference:=StartOfSession)=\"&A40&\"\", \"Bar\", \"\", \"Close\",\"5\",\"0\",\"PrimaryOnly\",,,\"False\",\"T\",\"EveryTick\")","v":120.203125},-1.1685276551545052E-3,{"$f":"RTD(\"cqg.rtd\",,\"StudyData\", \"Close(\"&$D$12&\") when LocalYear(\"&$D$12&\")=\"&$D$6&\" and localMonth(\"&$D$12&\") =\"&$E$6&\" and LocalDay(\"&$D$12&\")=\"&$F$6&\" and Barix(\"&$D$12&\",reference:=StartOfSession)=\"&A40&\"\", \"Bar\", \"\", \"Close\",\"5\",\"0\",\"PrimaryOnly\",,,\"False\",\"T\",\"EveryTick\")","v":120.296875},3.8981288981288983E-4,{"$f":"RTD(\"cqg.rtd\",,\"StudyData\", \"Close(\"&$D$12&\") when LocalYear(\"&$D$12&\")=\"&$D$7&\" and localMonth(\"&$D$12&\") =\"&$E$7&\" and LocalDay(\"&$D$12&\")=\"&$F$7&\" and Barix(\"&$D$12&\",reference:=StartOfSession)=\"&A40&\"\", \"Bar\", \"\", \"Close\",\"5\",\"0\",\"PrimaryOnly\",,,\"False\",\"T\",\"EveryTick\")","v":120.328125},1.2987012987012987E-4,{"$f":"RTD(\"cqg.rtd\",,\"StudyData\", \"Close(\"&$D$12&\") when LocalYear(\"&$D$12&\")=\"&$D$8&\" and localMonth(\"&$D$12&\") =\"&$E$8&\" and LocalDay(\"&$D$12&\")=\"&$F$8&\" and Barix(\"&$D$12&\",reference:=StartOfSession)=\"&A40&\"\", \"Bar\", \"\", \"Close\",\"5\",\"0\",\"PrimaryOnly\",,,\"False\",\"T\",\"EveryTick\")","v":120.265625},1.5614834092387768E-3,{"$f":"RTD(\"cqg.rtd\",,\"StudyData\", \"Close(\"&$D$12&\") when LocalYear(\"&$D$12&\")=\"&$D$9&\" and localMonth(\"&$D$12&\") =\"&$E$9&\" and LocalDay(\"&$D$12&\")=\"&$F$9&\" and Barix(\"&$D$12&\",reference:=StartOfSession)=\"&A40&\"\", \"Bar\", \"\", \"Close\",\"5\",\"0\",\"PrimaryOnly\",,,\"False\",\"T\",\"EveryTick\")","v":120.15625},-2.6001040041601667E-4,{"$f":"RTD(\"cqg.rtd\",,\"StudyData\", \"Close(\"&$D$12&\") when LocalYear(\"&$D$12&\")=\"&$D$10&\" and localMonth(\"&$D$12&\") =\"&$E$10&\" and LocalDay(\"&$D$12&\")=\"&$F$10&\" and Barix(\"&$D$12&\",reference:=StartOfSession)=\"&A40&\"\", \"Bar\", \"\", \"Close\",\"5\",\"0\",\"PrimaryOnly\",,,\"False\",\"T\",\"EveryTick\")","v":120.203125},1.3000520020800833E-4,null,null,null,""]
[220,"11:20:00",-37,{"$f":" RTD(\"cqg.rtd\",,\"StudyData\", $D$12,  \"Tick\", \"FlatTicks=0\", \"Tick\",\"D\",C41,\"PrimaryOnly\")","v":120.328125},null,"TYA",null,{"$f":"RTD(\"cqg.rtd\",,\"StudyData\", \"Close(\"&$D$12&\") when LocalYear(\"&$D$12&\")=\"&$D$1&\" and localMonth(\"&$D$12&\") =\"&$E$1&\" and LocalDay(\"&$D$12&\")=\"&$F$1&\" and Barix(\"&$D$12&\",reference:=StartOfSession)=\"&A41&\"\", \"Bar\", \"\", \"Close\",\"5\",\"0\",\"PrimaryOnly\",,,\"False\",\"T\",\"EveryTick\")","v":""},{"$error":"#N/A"},{"$f":"RTD(\"cqg.rtd\",,\"StudyData\", \"Close(\"&$D$12&\") when LocalYear(\"&$D$12&\")=\"&$D$2&\" and localMonth(\"&$D$12&\") =\"&$E$2&\" and LocalDay(\"&$D$12&\")=\"&$F$2&\" and Barix(\"&$D$12&\",reference:=StartOfSession)=\"&A41&\"\", \"Bar\", \"\", \"Close\",\"5\",\"0\",\"PrimaryOnly\",,,\"False\",\"T\",\"EveryTick\")","v":120.140625},-9.0956340956340961E-4,{"$f":"RTD(\"cqg.rtd\",,\"StudyData\", \"Close(\"&$D$12&\") when LocalYear(\"&$D$12&\")=\"&$D$3&\" and localMonth(\"&$D$12&\") =\"&$E$3&\" and LocalDay(\"&$D$12&\")=\"&$F$3&\" and Barix(\"&$D$12&\",reference:=StartOfSession)=\"&A41&\"\", \"Bar\", \"\", \"Close\",\"5\",\"0\",\"PrimaryOnly\",,,\"False\",\"T\",\"EveryTick\")","v":120.15625},1.1717224319750033E-3,{"$f":"RTD(\"cqg.rtd\",,\"StudyData\", \"Close(\"&$D$12&\") when LocalYear(\"&$D$12&\")=\"&$D$4&\" and localMonth(\"&$D$12&\") =\"&$E$4&\" and LocalDay(\"&$D$12&\")=\"&$F$4&\" and Barix(\"&$D$12&\",reference:=StartOfSession)=\"&A41&\"\", \"Bar\", \"\", \"Close\",\"5\",\"0\",\"PrimaryOnly\",,,\"False\",\"T\",\"EveryTick\")","v":120.046875},-6.5036420395421437E-4,{"$f":"RTD(\"cqg.rtd\",,\"StudyData\", \"Close(\"&$D$12&\") when LocalYear(\"&$D$12&\")=\"&$D$5&\" and localMonth(\"&$D$12&\") =\"&$E$5&\" and LocalDay(\"&$D$12&\")=\"&$F$5&\" and Barix(\"&$D$12&\",reference:=StartOfSession)=\"&A41&\"\", \"Bar\", \"\", \"Close\",\"5\",\"0\",\"PrimaryOnly\",,,\"False\",\"T\",\"EveryTick\")","v":120.1875},-1.2983640612827837E-3,{"$f":"RTD(\"cqg.rtd\",,\"StudyData\", \"Close(\"&$D$12&\") when LocalYear(\"&$D$12&\")=\"&$D$6&\" and localMonth(\"&$D$12&\") =\"&$E$6&\" and LocalDay(\"&$D$12&\")=\"&$F$6&\" and Barix(\"&$D$12&\",reference:=StartOfSession)=\"&A41&\"\", \"Bar\", \"\", \"Close\",\"5\",\"0\",\"PrimaryOnly\",,,\"False\",\"T\",\"EveryTick\")","v":120.296875},3.8981288981288983E-4,{"$f":"RTD(\"cqg.rtd\",,\"StudyData\", \"Close(\"&$D$12&\") when LocalYear(\"&$D$12&\")=\"&$D$7&\" and localMonth(\"&$D$12&\") =\"&$E$7&\" and LocalDay(\"&$D$12&\")=\"&$F$7&\" and Barix(\"&$D$12&\",reference:=StartOfSession)=\"&A41&\"\", \"Bar\", \"\", \"Close\",\"5\",\"0\",\"PrimaryOnly\",,,\"False\",\"T\",\"EveryTick\")","v":120.3125},0,{"$f":"RTD(\"cqg.rtd\",,\"StudyData\", \"Close(\"&$D$12&\") when LocalYear(\"&$D$12&\")=\"&$D$8&\" and localMonth(\"&$D$12&\") =\"&$E$8&\" and LocalDay(\"&$D$12&\")=\"&$F$8&\" and Barix(\"&$D$12&\",reference:=StartOfSession)=\"&A41&\"\", \"Bar\", \"\", \"Close\",\"5\",\"0\",\"PrimaryOnly\",,,\"False\",\"T\",\"EveryTick\")","v":120.265625},1.5614834092387768E-3,{"$f":"RTD(\"cqg.rtd\",,\"StudyData\", \"Close(\"&$D$12&\") when LocalYear(\"&$D$12&\")=\"&$D$9&\" and localMonth(\"&$D$12&\") =\"&$E$9&\" and LocalDay(\"&$D$12&\")=\"&$F$9&\" and Barix(\"&$D$12&\",reference:=StartOfSession)=\"&A41&\"\", \"Bar\", \"\", \"Close\",\"5\",\"0\",\"PrimaryOnly\",,,\"False\",\"T\",\"EveryTick\")","v":120.140625},-3.9001560062402497E-4,{"$f":"RTD(\"cqg.rtd\",,\"StudyData\", \"Close(\"&$D$12&\") when LocalYear(\"&$D$12&\")=\"&$D$10&\" and localMonth(\"&$D$12&\") =\"&$E$10&\" and LocalDay(\"&$D$12&\")=\"&$F$10&\" and Barix(\"&$D$12&\",reference:=StartOfSession)=\"&A41&\"\", \"Bar\", \"\", \"Close\",\"5\",\"0\",\"PrimaryOnly\",,,\"False\",\"T\",\"EveryTick\")","v":120.203125},1.3000520020800833E-4,null,null,null,""]
[221,"11:25:00",-36,{"$f":" RTD(\"cqg.rtd\",,\"StudyData\", $D$12,  \"Tick\", \"FlatTicks=0\", \"Tick\",\"D\",C42,\"PrimaryOnly\")","v":120.3125},null,"USA",null,{"$f":"RTD(\"cqg.rtd\",,\"StudyData\", \"Close(\"&$D$12&\") when LocalYear(\"&$D$12&\")=\"&$D$1&\" and localMonth(\"&$D$12&\") =\"&$E$1&\" and LocalDay(\"&$D$12&\")=\"&$F$1&\" and Barix(\"&$D$12&\",reference:=StartOfSession)=\"&A42&\"\", \"Bar\", \"\", \"Close\",\"5\",\"0\",\"PrimaryOnly\",,,\"False\",\"T\",\"EveryTick\")","v":""},{"$error":"#N/A"},{"$f":"RTD(\"cqg.rtd\",,\"StudyData\", \"Close(\"&$D$12&\") when LocalYear(\"&$D$12&\")=\"&$D$2&\" and localMonth(\"&$D$12&\") =\"&$E$2&\" and LocalDay(\"&$D$12&\")=\"&$F$2&\" and Barix(\"&$D$12&\",reference:=StartOfSession)=\"&A42&\"\", \"Bar\", \"\", \"Close\",\"5\",\"0\",\"PrimaryOnly\",,,\"False\",\"T\",\"EveryTick\")","v":120.125},-1.0395010395010396E-3,{"$f":"RTD(\"cqg.rtd\",,\"StudyData\", \"Close(\"&$D$12&\") when LocalYear(\"&$D$12&\")=\"&$D$3&\" and localMonth(\"&$D$12&\") =\"&$E$3&\" and LocalDay(\"&$D$12&\")=\"&$F$3&\" and Barix(\"&$D$12&\",reference:=StartOfSession)=\"&A42&\"\", \"Bar\", \"\", \"Close\",\"5\",\"0\",\"PrimaryOnly\",,,\"False\",\"T\",\"EveryTick\")","v":120.125},9.1133966931389147E-4,{"$f":"RTD(\"cqg.rtd\",,\"StudyData\", \"Close(\"&$D$12&\") when LocalYear(\"&$D$12&\")=\"&$D$4&\" and localMonth(\"&$D$12&\") =\"&$E$4&\" and LocalDay(\"&$D$12&\")=\"&$F$4&\" and Barix(\"&$D$12&\",reference:=StartOfSession)=\"&A42&\"\", \"Bar\", \"\", \"Close\",\"5\",\"0\",\"PrimaryOnly\",,,\"False\",\"T\",\"EveryTick\")","v":120.046875},-6.5036420395421437E-4,{"$f":"RTD(\"cqg.rtd\",,\"StudyData\", \"Close(\"&$D$12&\") when LocalYear(\"&$D$12&\")=\"&$D$5&\" and localMonth(\"&$D$12&\") =\"&$E$5&\" and LocalDay(\"&$D$12&\")=\"&$F$5&\" and Barix(\"&$D$12&\",reference:=StartOfSession)=\"&A42&\"\", \"Bar\", \"\", \"Close\",\"5\",\"0\",\"PrimaryOnly\",,,\"False\",\"T\",\"EveryTick\")","v":120.1875},-1.2983640612827837E-3,{"$f":"RTD(\"cqg.rtd\",,\"StudyData\", \"Close(\"&$D$12&\") when LocalYear(\"&$D$12&\")=\"&$D$6&\" and localMonth(\"&$D$12&\") =\"&$E$6&\" and LocalDay(\"&$D$12&\")=\"&$F$6&\" and Barix(\"&$D$12&\",reference:=StartOfSession)=\"&A42&\"\", \"Bar\", \"\", \"Close\",\"5\",\"0\",\"PrimaryOnly\",,,\"False\",\"T\",\"EveryTick\")","v":120.296875},3.8981288981288983E-4,{"$f":"RTD(\"cqg.rtd\",,\"StudyData\", \"Close(\"&$D$12&\") when LocalYear(\"&$D$12&\")=\"&$D$7&\" and localMonth(\"&$D$12&\") =\"&$E$7&\" and LocalDay(\"&$D$12&\")=\"&$F$7&\" and Barix(\"&$D$12&\",reference:=StartOfSession)=\"&A42&\"\", \"Bar\", \"\", \"Close\",\"5\",\"0\",\"PrimaryOnly\",,,\"False\",\"T\",\"EveryTick\")","v":120.328125},1.2987012987012987E-4,{"$f":"RTD(\"cqg.rtd\",,\"StudyData\", \"Close(\"&$D$12&\") when LocalYear(\"&$D$12&\")=\"&$D$8&\" and localMonth(\"&$D$12&\") =\"&$E$8&\" and LocalDay(\"&$D$12&\")=\"&$F$8&\" and Barix(\"&$D$12&\",reference:=StartOfSession)=\"&A42&\"\", \"Bar\", \"\", \"Close\",\"5\",\"0\",\"PrimaryOnly\",,,\"False\",\"T\",\"EveryTick\")","v":120.265625},1.5614834092387768E-3,{"$f":"RTD(\"cqg.rtd\",,\"StudyData\", \"Close(\"&$D$12&\") when LocalYear(\"&$D$12&\")=\"&$D$9&\" and localMonth(\"&$D$12&\") =\"&$E$9&\" and LocalDay(\"&$D$12&\")=\"&$F$9&\" and Barix(\"&$D$12&\",reference:=StartOfSession)=\"&A42&\"\", \"Bar\", \"\", \"Close\",\"5\",\"0\",\"PrimaryOnly\",,,\"False\",\"T\",\"EveryTick\")","v":120.15625},-2.6001040041601667E-4,{"$f":"RTD(\"cqg.rtd\",,\"StudyData\", \"Close(\"&$D$12&\") when LocalYear(\"&$D$12&\")=\"&$D$10&\" and localMonth(\"&$D$12&\") =\"&$E$10&\" and LocalDay(\"&$D$12&\")=\"&$F$10&\" and Barix(\"&$D$12&\",reference:=StartOfSession)=\"&A42&\"\", \"Bar\", \"\", \"Close\",\"5\",\"0\",\"PrimaryOnly\",,,\"False\",\"T\",\"EveryTick\")","v":120.21875},2.6001040041601667E-4,null,null,null,""]
[222,"11:30:00",-35,{"$f":" RTD(\"cqg.rtd\",,\"StudyData\", $D$12,  \"Tick\", \"FlatTicks=0\", \"Tick\",\"D\",C43,\"PrimaryOnly\")","v":120.328125},null,null,null,{"$f":"RTD(\"cqg.rtd\",,\"StudyData\", \"Close(\"&$D$12&\") when LocalYear(\"&$D$12&\")=\"&$D$1&\" and localMonth(\"&$D$12&\") =\"&$E$1&\" and LocalDay(\"&$D$12&\")=\"&$F$1&\" and Barix(\"&$D$12&\",reference:=StartOfSession)=\"&A43&\"\", \"Bar\", \"\", \"Close\",\"5\",\"0\",\"PrimaryOnly\",,,\"False\",\"T\",\"EveryTick\")","v":""},{"$error":"#N/A"},{"$f":"RTD(\"cqg.rtd\",,\"StudyData\", \"Close(\"&$D$12&\") when LocalYear(\"&$D$12&\")=\"&$D$2&\" and localMonth(\"&$D$12&\") =\"&$E$2&\" and LocalDay(\"&$D$12&\")=\"&$F$2&\" and Barix(\"&$D$12&\",reference:=StartOfSession)=\"&A43&\"\", \"Bar\", \"\", \"Close\",\"5\",\"0\",\"PrimaryOnly\",,,\"False\",\"T\",\"EveryTick\")","v":120.125},-1.0395010395010396E-3,{"$f":"RTD(\"cqg.rtd\",,\"StudyData\", \"Close(\"&$D$12&\") when LocalYear(\"&$D$12&\")=\"&$D$3&\" and localMonth(\"&$D$12&\") =\"&$E$3&\" and LocalDay(\"&$D$12&\")=\"&$F$3&\" and Barix(\"&$D$12&\",reference:=StartOfSession)=\"&A43&\"\", \"Bar\", \"\", \"Close\",\"5\",\"0\",\"PrimaryOnly\",,,\"False\",\"T\",\"EveryTick\")","v":120.109375},7.8114828798333548E-4,{"$f":"RTD(\"cqg.rtd\",,\"StudyData\", \"Close(\"&$D$12&\") when LocalYear(\"&$D$12&\")=\"&$D$4&\" and localMonth(\"&$D$12&\") =\"&$E$4&\" and LocalDay(\"&$D$12&\")=\"&$F$4&\" and Barix(\"&$D$12&\",reference:=StartOfSession)=\"&A43&\"\", \"Bar\", \"\", \"Close\",\"5\",\"0\",\"PrimaryOnly\",,,\"False\",\"T\",\"EveryTick\")","v":120.046875},-6.5036420395421437E-4,{"$f":"RTD(\"cqg.rtd\",,\"StudyData\", \"Close(\"&$D$12&\") when LocalYear(\"&$D$12&\")=\"&$D$5&\" and localMonth(\"&$D$12&\") =\"&$E$5&\" and LocalDay(\"&$D$12&\")=\"&$F$5&\" and Barix(\"&$D$12&\",reference:=StartOfSession)=\"&A43&\"\", \"Bar\", \"\", \"Close\",\"5\",\"0\",\"PrimaryOnly\",,,\"False\",\"T\",\"EveryTick\")","v":120.1875},-1.2983640612827837E-3,{"$f":"RTD(\"cqg.rtd\",,\"StudyData\", \"Close(\"&$D$12&\") when LocalYear(\"&$D$12&\")=\"&$D$6&\" and localMonth(\"&$D$12&\") =\"&$E$6&\" and LocalDay(\"&$D$12&\")=\"&$F$6&\" and Barix(\"&$D$12&\",reference:=StartOfSession)=\"&A43&\"\", \"Bar\", \"\", \"Close\",\"5\",\"0\",\"PrimaryOnly\",,,\"False\",\"T\",\"EveryTick\")","v":120.328125},6.4968814968814972E-4,{"$f":"RTD(\"cqg.rtd\",,\"StudyData\", \"Close(\"&$D$12&\") when LocalYear(\"&$D$12&\")=\"&$D$7&\" and localMonth(\"&$D$12&\") =\"&$E$7&\" and LocalDay(\"&$D$12&\")=\"&$F$7&\" and Barix(\"&$D$12&\",reference:=StartOfSession)=\"&A43&\"\", \"Bar\", \"\", \"Close\",\"5\",\"0\",\"PrimaryOnly\",,,\"False\",\"T\",\"EveryTick\")","v":120.3125},0,{"$f":"RTD(\"cqg.rtd\",,\"StudyData\", \"Close(\"&$D$12&\") when LocalYear(\"&$D$12&\")=\"&$D$8&\" and localMonth(\"&$D$12&\") =\"&$E$8&\" and LocalDay(\"&$D$12&\")=\"&$F$8&\" and Barix(\"&$D$12&\",reference:=StartOfSession)=\"&A43&\"\", \"Bar\", \"\", \"Close\",\"5\",\"0\",\"PrimaryOnly\",,,\"False\",\"T\",\"EveryTick\")","v":120.28125},1.6916070266753415E-3,{"$f":"RTD(\"cqg.rtd\",,\"StudyData\", \"Close(\"&$D$12&\") when LocalYear(\"&$D$12&\")=\"&$D$9&\" and localMonth(\"&$D$12&\") =\"&$E$9&\" and LocalDay(\"&$D$12&\")=\"&$F$9&\" and Barix(\"&$D$12&\",reference:=StartOfSession)=\"&A43&\"\", \"Bar\", \"\", \"Close\",\"5\",\"0\",\"PrimaryOnly\",,,\"False\",\"T\",\"EveryTick\")","v":120.125},-5.2002080083203334E-4,{"$f":"RTD(\"cqg.rtd\",,\"StudyData\", \"Close(\"&$D$12&\") when LocalYear(\"&$D$12&\")=\"&$D$10&\" and localMonth(\"&$D$12&\") =\"&$E$10&\" and LocalDay(\"&$D$12&\")=\"&$F$10&\" and Barix(\"&$D$12&\",reference:=StartOfSession)=\"&A43&\"\", \"Bar\", \"\", \"Close\",\"5\",\"0\",\"PrimaryOnly\",,,\"False\",\"T\",\"EveryTick\")","v":120.21875},2.6001040041601667E-4,null,null,null,""]
[223,"11:35:00",-34,{"$f":" RTD(\"cqg.rtd\",,\"StudyData\", $D$12,  \"Tick\", \"FlatTicks=0\", \"Tick\",\"D\",C44,\"PrimaryOnly\")","v":120.3125},null,null,null,{"$f":"RTD(\"cqg.rtd\",,\"StudyData\", \"Close(\"&$D$12&\") when LocalYear(\"&$D$12&\")=\"&$D$1&\" and localMonth(\"&$D$12&\") =\"&$E$1&\" and LocalDay(\"&$D$12&\")=\"&$F$1&\" and Barix(\"&$D$12&\",reference:=StartOfSession)=\"&A44&\"\", \"Bar\", \"\", \"Close\",\"5\",\"0\",\"PrimaryOnly\",,,\"False\",\"T\",\"EveryTick\")","v":""},{"$error":"#N/A"},{"$f":"RTD(\"cqg.rtd\",,\"StudyData\", \"Close(\"&$D$12&\") when LocalYear(\"&$D$12&\")=\"&$D$2&\" and localMonth(\"&$D$12&\") =\"&$E$2&\" and LocalDay(\"&$D$12&\")=\"&$F$2&\" and Barix(\"&$D$12&\",reference:=StartOfSession)=\"&A44&\"\", \"Bar\", \"\", \"Close\",\"5\",\"0\",\"PrimaryOnly\",,,\"False\",\"T\",\"EveryTick\")","v":120.140625},-9.0956340956340961E-4,{"$f":"RTD(\"cqg.rtd\",,\"StudyData\", \"Close(\"&$D$12&\") when LocalYear(\"&$D$12&\")=\"&$D$3&\" and localMonth(\"&$D$12&\") =\"&$E$3&\" and LocalDay(\"&$D$12&\")=\"&$F$3&\" and Barix(\"&$D$12&\",reference:=StartOfSession)=\"&A44&\"\", \"Bar\", \"\", \"Close\",\"5\",\"0\",\"PrimaryOnly\",,,\"False\",\"T\",\"EveryTick\")","v":120.125},9.1133966931389147E-4,{"$f":"RTD(\"cqg.rtd\",,\"StudyData\", \"Close(\"&$D$12&\") when LocalYear(\"&$D$12&\")=\"&$D$4&\" and localMonth(\"&$D$12&\") =\"&$E$4&\" and LocalDay(\"&$D$12&\")=\"&$F$4&\" and Barix(\"&$D$12&\",reference:=StartOfSession)=\"&A44&\"\", \"Bar\", \"\", \"Close\",\"5\",\"0\",\"PrimaryOnly\",,,\"False\",\"T\",\"EveryTick\")","v":120.046875},-6.5036420395421437E-4,{"$f":"RTD(\"cqg.rtd\",,\"StudyData\", \"Close(\"&$D$12&\") when LocalYear(\"&$D$12&\")=\"&$D$5&\" and localMonth(\"&$D$12&\") =\"&$E$5&\" and LocalDay(\"&$D$12&\")=\"&$F$5&\" and Barix(\"&$D$12&\",reference:=StartOfSession)=\"&A44&\"\", \"Bar\", \"\", \"Close\",\"5\",\"0\",\"PrimaryOnly\",,,\"False\",\"T\",\"EveryTick\")","v":120.171875},-1.428200467411062E-3,{"$f":"RTD(\"cqg.rtd\",,\"StudyData\", \"Close(\"&$D$12&\") when LocalYear(\"&$D$12&\")=\"&$D$6&\" and localMonth(\"&$D$12&\") =\"&$E$6&\" and LocalDay(\"&$D$12&\")=\"&$F$6&\" and Barix(\"&$D$12&\",reference:=StartOfSession)=\"&A44&\"\", \"Bar\", \"\", \"Close\",\"5\",\"0\",\"PrimaryOnly\",,,\"False\",\"T\",\"EveryTick\")","v":120.3125},5.1975051975051978E-4,{"$f":"RTD(\"cqg.rtd\",,\"StudyData\", \"Close(\"&$D$12&\") when LocalYear(\"&$D$12&\")=\"&$D$7&\" and localMonth(\"&$D$12&\") =\"&$E$7&\" and LocalDay(\"&$D$12&\")=\"&$F$7&\" and Barix(\"&$D$12&\",reference:=StartOfSession)=\"&A44&\"\", \"Bar\", \"\", \"Close\",\"5\",\"0\",\"PrimaryOnly\",,,\"False\",\"T\",\"EveryTick\")","v":120.328125},1.2987012987012987E-4,{"$f":"RTD(\"cqg.rtd\",,\"StudyData\", \"Close(\"&$D$12&\") when LocalYear(\"&$D$12&\")=\"&$D$8&\" and localMonth(\"&$D$12&\") =\"&$E$8&\" and LocalDay(\"&$D$12&\")=\"&$F$8&\" and Barix(\"&$D$12&\",reference:=StartOfSession)=\"&A44&\"\", \"Bar\", \"\", \"Close\",\"5\",\"0\",\"PrimaryOnly\",,,\"False\",\"T\",\"EveryTick\")","v":120.296875},1.8217306441119063E-3,{"$f":"RTD(\"cqg.rtd\",,\"StudyData\", \"Close(\"&$D$12&\") when LocalYear(\"&$D$12&\")=\"&$D$9&\" and localMonth(\"&$D$12&\") =\"&$E$9&\" and LocalDay(\"&$D$12&\")=\"&$F$9&\" and Barix(\"&$D$12&\",reference:=StartOfSession)=\"&A44&\"\", \"Bar\", \"\", \"Close\",\"5\",\"0\",\"PrimaryOnly\",,,\"False\",\"T\",\"EveryTick\")","v":120.140625},-3.9001560062402497E-4,{"$f":"RTD(\"cqg.rtd\",,\"StudyData\", \"Close(\"&$D$12&\") when LocalYear(\"&$D$12&\")=\"&$D$10&\" and localMonth(\"&$D$12&\") =\"&$E$10&\" and LocalDay(\"&$D$12&\")=\"&$F$10&\" and Barix(\"&$D$12&\",reference:=StartOfSession)=\"&A44&\"\", \"Bar\", \"\", \"Close\",\"5\",\"0\",\"PrimaryOnly\",,,\"False\",\"T\",\"EveryTick\")","v":120.203125},1.3000520020800833E-4,null,null,null,""]
[224,"11:40:00",-33,{"$f":" RTD(\"cqg.rtd\",,\"StudyData\", $D$12,  \"Tick\", \"FlatTicks=0\", \"Tick\",\"D\",C45,\"PrimaryOnly\")","v":120.328125},null,null,null,{"$f":"RTD(\"cqg.rtd\",,\"StudyData\", \"Close(\"&$D$12&\") when LocalYear(\"&$D$12&\")=\"&$D$1&\" and localMonth(\"&$D$12&\") =\"&$E$1&\" and LocalDay(\"&$D$12&\")=\"&$F$1&\" and Barix(\"&$D$12&\",reference:=StartOfSession)=\"&A45&\"\", \"Bar\", \"\", \"Close\",\"5\",\"0\",\"PrimaryOnly\",,,\"False\",\"T\",\"EveryTick\")","v":""},{"$error":"#N/A"},{"$f":"RTD(\"cqg.rtd\",,\"StudyData\", \"Close(\"&$D$12&\") when LocalYear(\"&$D$12&\")=\"&$D$2&\" and localMonth(\"&$D$12&\") =\"&$E$2&\" and LocalDay(\"&$D$12&\")=\"&$F$2&\" and Barix(\"&$D$12&\",reference:=StartOfSession)=\"&A45&\"\", \"Bar\", \"\", \"Close\",\"5\",\"0\",\"PrimaryOnly\",,,\"False\",\"T\",\"EveryTick\")","v":120.15625},-7.7962577962577967E-4,{"$f":"RTD(\"cqg.rtd\",,\"StudyData\", \"Close(\"&$D$12&\") when LocalYear(\"&$D$12&\")=\"&$D$3&\" and localMonth(\"&$D$12&\") =\"&$E$3&\" and LocalDay(\"&$D$12&\")=\"&$F$3&\" and Barix(\"&$D$12&\",reference:=StartOfSession)=\"&A45&\"\", \"Bar\", \"\", \"Close\",\"5\",\"0\",\"PrimaryOnly\",,,\"False\",\"T\",\"EveryTick\")","v":120.125},9.1133966931389147E-4,{"$f":"RTD(\"cqg.rtd\",,\"StudyData\", \"Close(\"&$D$12&\") when LocalYear(\"&$D$12&\")=\"&$D$4&\" and localMonth(\"&$D$12&\") =\"&$E$4&\" and LocalDay(\"&$D$12&\")=\"&$F$4&\" and Barix(\"&$D$12&\",reference:=StartOfSession)=\"&A45&\"\", \"Bar\", \"\", \"Close\",\"5\",\"0\",\"PrimaryOnly\",,,\"False\",\"T\",\"EveryTick\")","v":120.0625},-5.2029136316337154E-4,{"$f":"RTD(\"cqg.rtd\",,\"StudyData\", \"Close(\"&$D$12&\") when LocalYear(\"&$D$12&\")=\"&$D$5&\" and localMonth(\"&$D$12&\") =\"&$E$5&\" and LocalDay(\"&$D$12&\")=\"&$F$5&\" and Barix(\"&$D$12&\",reference:=StartOfSession)=\"&A45&\"\", \"Bar\", \"\", \"Close\",\"5\",\"0\",\"PrimaryOnly\",,,\"False\",\"T\",\"EveryTick\")","v":120.15625},-1.5580368735393405E-3,{"$f":"RTD(\"cqg.rtd\",,\"StudyData\", \"Close(\"&$D$12&\") when LocalYear(\"&$D$12&\")=\"&$D$6&\" and localMonth(\"&$D$12&\") =\"&$E$6&\" and LocalDay(\"&$D$12&\")=\"&$F$6&\" and Barix(\"&$D$12&\",reference:=StartOfSession)=\"&A45&\"\", \"Bar\", \"\", \"Close\",\"5\",\"0\",\"PrimaryOnly\",,,\"False\",\"T\",\"EveryTick\")","v":120.34375},7.7962577962577967E-4,{"$f":"RTD(\"cqg.rtd\",,\"StudyData\", \"Close(\"&$D$12&\") when LocalYear(\"&$D$12&\")=\"&$D$7&\" and localMonth(\"&$D$12&\") =\"&$E$7&\" and LocalDay(\"&$D$12&\")=\"&$F$7&\" and Barix(\"&$D$12&\",reference:=StartOfSession)=\"&A45&\"\", \"Bar\", \"\", \"Close\",\"5\",\"0\",\"PrimaryOnly\",,,\"False\",\"T\",\"EveryTick\")","v":120.3125},0,{"$f":"RTD(\"cqg.rtd\",,\"StudyData\", \"Close(\"&$D$12&\") when LocalYear(\"&$D$12&\")=\"&$D$8&\" and localMonth(\"&$D$12&\") =\"&$E$8&\" and LocalDay(\"&$D$12&\")=\"&$F$8&\" and Barix(\"&$D$12&\",reference:=StartOfSession)=\"&A45&\"\", \"Bar\", \"\", \"Close\",\"5\",\"0\",\"PrimaryOnly\",,,\"False\",\"T\",\"EveryTick\")","v":120.296875},1.8217306441119063E-3,{"$f":"RTD(\"cqg.rtd\",,\"StudyData\", \"Close(\"&$D$12&\") when LocalYear(\"&$D$12&\")=\"&$D$9&\" and localMonth(\"&$D$12&\") =\"&$E$9&\" and LocalDay(\"&$D$12&\")=\"&$F$9&\" and Barix(\"&$D$12&\",reference:=StartOfSession)=\"&A45&\"\", \"Bar\", \"\", \"Close\",\"5\",\"0\",\"PrimaryOnly\",,,\"False\",\"T\",\"EveryTick\")","v":120.140625},-3.9001560062402497E-4,{"$f":"RTD(\"cqg.rtd\",,\"StudyData\", \"Close(\"&$D$12&\") when LocalYear(\"&$D$12&\")=\"&$D$10&\" and localMonth(\"&$D$12&\") =\"&$E$10&\" and LocalDay(\"&$D$12&\")=\"&$F$10&\" and Barix(\"&$D$12&\",reference:=StartOfSession)=\"&A45&\"\", \"Bar\", \"\", \"Close\",\"5\",\"0\",\"PrimaryOnly\",,,\"False\",\"T\",\"EveryTick\")","v":120.21875},2.6001040041601667E-4,null,null,null,""]
[225,"11:45:00",-32,{"$f":" RTD(\"cqg.rtd\",,\"StudyData\", $D$12,  \"Tick\", \"FlatTicks=0\", \"Tick\",\"D\",C46,\"PrimaryOnly\")","v":120.3125},null,null,null,{"$f":"RTD(\"cqg.rtd\",,\"StudyData\", \"Close(\"&$D$12&\") when LocalYear(\"&$D$12&\")=\"&$D$1&\" and localMonth(\"&$D$12&\") =\"&$E$1&\" and LocalDay(\"&$D$12&\")=\"&$F$1&\" and Barix(\"&$D$12&\",reference:=StartOfSession)=\"&A46&\"\", \"Bar\", \"\", \"Close\",\"5\",\"0\",\"PrimaryOnly\",,,\"False\",\"T\",\"EveryTick\")","v":""},{"$error":"#N/A"},{"$f":"RTD(\"cqg.rtd\",,\"StudyData\", \"Close(\"&$D$12&\") when LocalYear(\"&$D$12&\")=\"&$D$2&\" and localMonth(\"&$D$12&\") =\"&$E$2&\" and LocalDay(\"&$D$12&\")=\"&$F$2&\" and Barix(\"&$D$12&\",reference:=StartOfSession)=\"&A46&\"\", \"Bar\", \"\", \"Close\",\"5\",\"0\",\"PrimaryOnly\",,,\"False\",\"T\",\"EveryTick\")","v":120.15625},-7.7962577962577967E-4,{"$f":"RTD(\"cqg.rtd\",,\"StudyData\", \"Close(\"&$D$12&\") when LocalYear(\"&$D$12&\")=\"&$D$3&\" and localMonth(\"&$D$12&\") =\"&$E$3&\" and LocalDay(\"&$D$12&\")=\"&$F$3&\" and Barix(\"&$D$12&\",reference:=StartOfSession)=\"&A46&\"\", \"Bar\", \"\", \"Close\",\"5\",\"0\",\"PrimaryOnly\",,,\"False\",\"T\",\"EveryTick\")","v":120.125},9.1133966931389147E-4,{"$f":"RTD(\"cqg.rtd\",,\"StudyData\", \"Close(\"&$D$12&\") when LocalYear(\"&$D$12&\")=\"&$D$4&\" and localMonth(\"&$D$12&\") =\"&$E$4&\" and LocalDay(\"&$D$12&\")=\"&$F$4&\" and Barix(\"&$D$12&\",reference:=StartOfSession)=\"&A46&\"\", \"Bar\", \"\", \"Close\",\"5\",\"0\",\"PrimaryOnly\",,,\"False\",\"T\",\"EveryTick\")","v":120.0625},-5.2029136316337154E-4,{"$f":"RTD(\"cqg.rtd\",,\"StudyData\", \"Close(\"&$D$12&\") when LocalYear(\"&$D$12&\")=\"&$D$5&\" and localMonth(\"&$D$12&\") =\"&$E$5&\" and LocalDay(\"&$D$12&\")=\"&$F$5&\" and Barix(\"&$D$12&\",reference:=StartOfSession)=\"&A46&\"\", \"Bar\", \"\", \"Close\",\"5\",\"0\",\"PrimaryOnly\",,,\"False\",\"T\",\"EveryTick\")","v":120.15625},-1.5580368735393405E-3,{"$f":"RTD(\"cqg.rtd\",,\"StudyData\", \"Close(\"&$D$12&\") when LocalYear(\"&$D$12&\")=\"&$D$6&\" and localMonth(\"&$D$12&\") =\"&$E$6&\" and LocalDay(\"&$D$12&\")=\"&$F$6&\" and Barix(\"&$D$12&\",reference:=StartOfSession)=\"&A46&\"\", \"Bar\", \"\", \"Close\",\"5\",\"0\",\"PrimaryOnly\",,,\"False\",\"T\",\"EveryTick\")","v":120.34375},7.7962577962577967E-4,{"$f":"RTD(\"cqg.rtd\",,\"StudyData\", \"Close(\"&$D$12&\") when LocalYear(\"&$D$12&\")=\"&$D$7&\" and localMonth(\"&$D$12&\") =\"&$E$7&\" and LocalDay(\"&$D$12&\")=\"&$F$7&\" and Barix(\"&$D$12&\",reference:=StartOfSession)=\"&A46&\"\", \"Bar\", \"\", \"Close\",\"5\",\"0\",\"PrimaryOnly\",,,\"False\",\"T\",\"EveryTick\")","v":120.328125},1.2987012987012987E-4,{"$f":"RTD(\"cqg.rtd\",,\"StudyData\", \"Close(\"&$D$12&\") when LocalYear(\"&$D$12&\")=\"&$D$8&\" and localMonth(\"&$D$12&\") =\"&$E$8&\" and LocalDay(\"&$D$12&\")=\"&$F$8&\" and Barix(\"&$D$12&\",reference:=StartOfSession)=\"&A46&\"\", \"Bar\", \"\", \"Close\",\"5\",\"0\",\"PrimaryOnly\",,,\"False\",\"T\",\"EveryTick\")","v":120.296875},1.8217306441119063E-3,{"$f":"RTD(\"cqg.rtd\",,\"StudyData\", \"Close(\"&$D$12&\") when LocalYear(\"&$D$12&\")=\"&$D$9&\" and localMonth(\"&$D$12&\") =\"&$E$9&\" and LocalDay(\"&$D$12&\")=\"&$F$9&\" and Barix(\"&$D$12&\",reference:=StartOfSession)=\"&A46&\"\", \"Bar\", \"\", \"Close\",\"5\",\"0\",\"PrimaryOnly\",,,\"False\",\"T\",\"EveryTick\")","v":120.09375},-7.8003120124804995E-4,{"$f":"RTD(\"cqg.rtd\",,\"StudyData\", \"Close(\"&$D$12&\") when LocalYear(\"&$D$12&\")=\"&$D$10&\" and localMonth(\"&$D$12&\") =\"&$E$10&\" and LocalDay(\"&$D$12&\")=\"&$F$10&\" and Barix(\"&$D$12&\",reference:=StartOfSession)=\"&A46&\"\", \"Bar\", \"\", \"Close\",\"5\",\"0\",\"PrimaryOnly\",,,\"False\",\"T\",\"EveryTick\")","v":120.234375},3.9001560062402497E-4,null,null,null,""]
[226,"11:50:00",-31,{"$f":" RTD(\"cqg.rtd\",,\"StudyData\", $D$12,  \"Tick\", \"FlatTicks=0\", \"Tick\",\"D\",C47,\"PrimaryOnly\")","v":120.328125},null,null,null,{"$f":"RTD(\"cqg.rtd\",,\"StudyData\", \"Close(\"&$D$12&\") when LocalYear(\"&$D$12&\")=\"&$D$1&\" and localMonth(\"&$D$12&\") =\"&$E$1&\" and LocalDay(\"&$D$12&\")=\"&$F$1&\" and Barix(\"&$D$12&\",reference:=StartOfSession)=\"&A47&\"\", \"Bar\", \"\", \"Close\",\"5\",\"0\",\"PrimaryOnly\",,,\"False\",\"T\",\"EveryTick\")","v":""},{"$error":"#N/A"},{"$f":"RTD(\"cqg.rtd\",,\"StudyData\", \"Close(\"&$D$12&\") when LocalYear(\"&$D$12&\")=\"&$D$2&\" and localMonth(\"&$D$12&\") =\"&$E$2&\" and LocalDay(\"&$D$12&\")=\"&$F$2&\" and Barix(\"&$D$12&\",reference:=StartOfSession)=\"&A47&\"\", \"Bar\", \"\", \"Close\",\"5\",\"0\",\"PrimaryOnly\",,,\"False\",\"T\",\"EveryTick\")","v":120.140625},-9.0956340956340961E-4,{"$f":"RTD(\"cqg.rtd\",,\"StudyData\", \"Close(\"&$D$12&\") when LocalYear(\"&$D$12&\")=\"&$D$3&\" and localMonth(\"&$D$12&\") =\"&$E$3&\" and LocalDay(\"&$D$12&\")=\"&$F$3&\" and Barix(\"&$D$12&\",reference:=StartOfSession)=\"&A47&\"\", \"Bar\", \"\", \"Close\",\"5\",\"0\",\"PrimaryOnly\",,,\"False\",\"T\",\"EveryTick\")","v":120.109375},7.8114828798333548E-4,{"$f":"RTD(\"cqg.rtd\",,\"StudyData\", \"Close(\"&$D$12&\") when LocalYear(\"&$D$12&\")=\"&$D$4&\" and localMonth(\"&$D$12&\") =\"&$E$4&\" and LocalDay(\"&$D$12&\")=\"&$F$4&\" and Barix(\"&$D$12&\",reference:=StartOfSession)=\"&A47&\"\", \"Bar\", \"\", \"Close\",\"5\",\"0\",\"PrimaryOnly\",,,\"False\",\"T\",\"EveryTick\")","v":120.046875},-6.5036420395421437E-4,{"$f":"RTD(\"cqg.rtd\",,\"StudyData\", \"Close(\"&$D$12&\") when LocalYear(\"&$D$12&\")=\"&$D$5&\" and localMonth(\"&$D$12&\") =\"&$E$5&\" and LocalDay(\"&$D$12&\")=\"&$F$5&\" and Barix(\"&$D$12&\",reference:=StartOfSession)=\"&A47&\"\", \"Bar\", \"\", \"Close\",\"5\",\"0\",\"PrimaryOnly\",,,\"False\",\"T\",\"EveryTick\")","v":120.15625},-1.5580368735393405E-3,{"$f":"RTD(\"cqg.rtd\",,\"StudyData\", \"Close(\"&$D$12&\") when LocalYear(\"&$D$12&\")=\"&$D$6&\" and localMonth(\"&$D$12&\") =\"&$E$6&\" and LocalDay(\"&$D$12&\")=\"&$F$6&\" and Barix(\"&$D$12&\",reference:=StartOfSession)=\"&A47&\"\", \"Bar\", \"\", \"Close\",\"5\",\"0\",\"PrimaryOnly\",,,\"False\",\"T\",\"EveryTick\")","v":120.34375},7.7962577962577967E-4,{"$f":"RTD(\"cqg.rtd\",,\"StudyData\", \"Close(\"&$D$12&\") when LocalYear(\"&$D$12&\")=\"&$D$7&\" and localMonth(\"&$D$12&\") =\"&$E$7&\" and LocalDay(\"&$D$12&\")=\"&$F$7&\" and Barix(\"&$D$12&\",reference:=StartOfSession)=\"&A47&\"\", \"Bar\", \"\", \"Close\",\"5\",\"0\",\"PrimaryOnly\",,,\"False\",\"T\",\"EveryTick\")","v":120.328125},1.2987012987012987E-4,{"$f":"RTD(\"cqg.rtd\",,\"StudyData\", \"Close(\"&$D$12&\") when LocalYear(\"&$D$12&\")=\"&$D$8&\" and localMonth(\"&$D$12&\") =\"&$E$8&\" and LocalDay(\"&$D$12&\")=\"&$F$8&\" and Barix(\"&$D$12&\",reference:=StartOfSession)=\"&A47&\"\", \"Bar\", \"\", \"Close\",\"5\",\"0\",\"PrimaryOnly\",,,\"False\",\"T\",\"EveryTick\")","v":120.3125},1.9518542615484711E-3,{"$f":"RTD(\"cqg.rtd\",,\"StudyData\", \"Close(\"&$D$12&\") when LocalYear(\"&$D$12&\")=\"&$D$9&\" and localMonth(\"&$D$12&\") =\"&$E$9&\" and LocalDay(\"&$D$12&\")=\"&$F$9&\" and Barix(\"&$D$12&\",reference:=StartOfSession)=\"&A47&\"\", \"Bar\", \"\", \"Close\",\"5\",\"0\",\"PrimaryOnly\",,,\"False\",\"T\",\"EveryTick\")","v":120.078125},-9.100364014560582E-4,{"$f":"RTD(\"cqg.rtd\",,\"StudyData\", \"Close(\"&$D$12&\") when LocalYear(\"&$D$12&\")=\"&$D$10&\" and localMonth(\"&$D$12&\") =\"&$E$10&\" and LocalDay(\"&$D$12&\")=\"&$F$10&\" and Barix(\"&$D$12&\",reference:=StartOfSession)=\"&A47&\"\", \"Bar\", \"\", \"Close\",\"5\",\"0\",\"PrimaryOnly\",,,\"False\",\"T\",\"EveryTick\")","v":120.25},5.2002080083203334E-4,null,null,null,""]
[227,"11:55:00",-30,{"$f":" RTD(\"cqg.rtd\",,\"StudyData\", $D$12,  \"Tick\", \"FlatTicks=0\", \"Tick\",\"D\",C48,\"PrimaryOnly\")","v":120.3125},null,null,null,{"$f":"RTD(\"cqg.rtd\",,\"StudyData\", \"Close(\"&$D$12&\") when LocalYear(\"&$D$12&\")=\"&$D$1&\" and localMonth(\"&$D$12&\") =\"&$E$1&\" and LocalDay(\"&$D$12&\")=\"&$F$1&\" and Barix(\"&$D$12&\",reference:=StartOfSession)=\"&A48&\"\", \"Bar\", \"\", \"Close\",\"5\",\"0\",\"PrimaryOnly\",,,\"False\",\"T\",\"EveryTick\")","v":""},{"$error":"#N/A"},{"$f":"RTD(\"cqg.rtd\",,\"StudyData\", \"Close(\"&$D$12&\") when LocalYear(\"&$D$12&\")=\"&$D$2&\" and localMonth(\"&$D$12&\") =\"&$E$2&\" and LocalDay(\"&$D$12&\")=\"&$F$2&\" and Barix(\"&$D$12&\",reference:=StartOfSession)=\"&A48&\"\", \"Bar\", \"\", \"Close\",\"5\",\"0\",\"PrimaryOnly\",,,\"False\",\"T\",\"EveryTick\")","v":120.15625},-7.7962577962577967E-4,{"$f":"RTD(\"cqg.rtd\",,\"StudyData\", \"Close(\"&$D$12&\") when LocalYear(\"&$D$12&\")=\"&$D$3&\" and localMonth(\"&$D$12&\") =\"&$E$3&\" and LocalDay(\"&$D$12&\")=\"&$F$3&\" and Barix(\"&$D$12&\",reference:=StartOfSession)=\"&A48&\"\", \"Bar\", \"\", \"Close\",\"5\",\"0\",\"PrimaryOnly\",,,\"False\",\"T\",\"EveryTick\")","v":120.140625},1.0415310506444472E-3,{"$f":"RTD(\"cqg.rtd\",,\"StudyData\", \"Close(\"&$D$12&\") when LocalYear(\"&$D$12&\")=\"&$D$4&\" and localMonth(\"&$D$12&\") =\"&$E$4&\" and LocalDay(\"&$D$12&\")=\"&$F$4&\" and Barix(\"&$D$12&\",reference:=StartOfSession)=\"&A48&\"\", \"Bar\", \"\", \"Close\",\"5\",\"0\",\"PrimaryOnly\",,,\"False\",\"T\",\"EveryTick\")","v":120.046875},-6.5036420395421437E-4,{"$f":"RTD(\"cqg.rtd\",,\"StudyData\", \"Close(\"&$D$12&\") when LocalYear(\"&$D$12&\")=\"&$D$5&\" and localMonth(\"&$D$12&\") =\"&$E$5&\" and LocalDay(\"&$D$12&\")=\"&$F$5&\" and Barix(\"&$D$12&\",reference:=StartOfSession)=\"&A48&\"\", \"Bar\", \"\", \"Close\",\"5\",\"0\",\"PrimaryOnly\",,,\"False\",\"T\",\"EveryTick\")","v":120.140625},-1.6878732796676188E-3,{"$f":"RTD(\"cqg.rtd\",,\"StudyData\", \"Close(\"&$D$12&\") when LocalYear(\"&$D$12&\")=\"&$D$6&\" and localMonth(\"&$D$12&\") =\"&$E$6&\" and LocalDay(\"&$D$12&\")=\"&$F$6&\" and Barix(\"&$D$12&\",reference:=StartOfSession)=\"&A48&\"\", \"Bar\", \"\", \"Close\",\"5\",\"0\",\"PrimaryOnly\",,,\"False\",\"T\",\"EveryTick\")","v":120.34375},7.7962577962577967E-4,{"$f":"RTD(\"cqg.rtd\",,\"StudyData\", \"Close(\"&$D$12&\") when LocalYear(\"&$D$12&\")=\"&$D$7&\" and localMonth(\"&$D$12&\") =\"&$E$7&\" and LocalDay(\"&$D$12&\")=\"&$F$7&\" and Barix(\"&$D$12&\",reference:=StartOfSession)=\"&A48&\"\", \"Bar\", \"\", \"Close\",\"5\",\"0\",\"PrimaryOnly\",,,\"False\",\"T\",\"EveryTick\")","v":120.328125},1.2987012987012987E-4,{"$f":"RTD(\"cqg.rtd\",,\"StudyData\", \"Close(\"&$D$12&\") when LocalYear(\"&$D$12&\")=\"&$D$8&\" and localMonth(\"&$D$12&\") =\"&$E$8&\" and LocalDay(\"&$D$12&\")=\"&$F$8&\" and Barix(\"&$D$12&\",reference:=StartOfSession)=\"&A48&\"\", \"Bar\", \"\", \"Close\",\"5\",\"0\",\"PrimaryOnly\",,,\"False\",\"T\",\"EveryTick\")","v":120.3125},1.9518542615484711E-3,{"$f":"RTD(\"cqg.rtd\",,\"StudyData\", \"Close(\"&$D$12&\") when LocalYear(\"&$D$12&\")=\"&$D$9&\" and localMonth(\"&$D$12&\") =\"&$E$9&\" and LocalDay(\"&$D$12&\")=\"&$F$9&\" and Barix(\"&$D$12&\",reference:=StartOfSession)=\"&A48&\"\", \"Bar\", \"\", \"Close\",\"5\",\"0\",\"PrimaryOnly\",,,\"False\",\"T\",\"EveryTick\")","v":120.078125},-9.100364014560582E-4,{"$f":"RTD(\"cqg.rtd\",,\"StudyData\", \"Close(\"&$D$12&\") when LocalYear(\"&$D$12&\")=\"&$D$10&\" and localMonth(\"&$D$12&\") =\"&$E$10&\" and LocalDay(\"&$D$12&\")=\"&$F$10&\" and Barix(\"&$D$12&\",reference:=StartOfSession)=\"&A48&\"\", \"Bar\", \"\", \"Close\",\"5\",\"0\",\"PrimaryOnly\",,,\"False\",\"T\",\"EveryTick\")","v":120.21875},2.6001040041601667E-4,null,null,null,""]
[228,"12:00:00",-29,{"$f":" RTD(\"cqg.rtd\",,\"StudyData\", $D$12,  \"Tick\", \"FlatTicks=0\", \"Tick\",\"D\",C49,\"PrimaryOnly\")","v":120.328125},null,null,null,{"$f":"RTD(\"cqg.rtd\",,\"StudyData\", \"Close(\"&$D$12&\") when LocalYear(\"&$D$12&\")=\"&$D$1&\" and localMonth(\"&$D$12&\") =\"&$E$1&\" and LocalDay(\"&$D$12&\")=\"&$F$1&\" and Barix(\"&$D$12&\",reference:=StartOfSession)=\"&A49&\"\", \"Bar\", \"\", \"Close\",\"5\",\"0\",\"PrimaryOnly\",,,\"False\",\"T\",\"EveryTick\")","v":""},{"$error":"#N/A"},{"$f":"RTD(\"cqg.rtd\",,\"StudyData\", \"Close(\"&$D$12&\") when LocalYear(\"&$D$12&\")=\"&$D$2&\" and localMonth(\"&$D$12&\") =\"&$E$2&\" and LocalDay(\"&$D$12&\")=\"&$F$2&\" and Barix(\"&$D$12&\",reference:=StartOfSession)=\"&A49&\"\", \"Bar\", \"\", \"Close\",\"5\",\"0\",\"PrimaryOnly\",,,\"False\",\"T\",\"EveryTick\")","v":120.140625},-9.0956340956340961E-4,{"$f":"RTD(\"cqg.rtd\",,\"StudyData\", \"Close(\"&$D$12&\") when LocalYear(\"&$D$12&\")=\"&$D$3&\" and localMonth(\"&$D$12&\") =\"&$E$3&\" and LocalDay(\"&$D$12&\")=\"&$F$3&\" and Barix(\"&$D$12&\",reference:=StartOfSession)=\"&A49&\"\", \"Bar\", \"\", \"Close\",\"5\",\"0\",\"PrimaryOnly\",,,\"False\",\"T\",\"EveryTick\")","v":120.15625},1.1717224319750033E-3,{"$f":"RTD(\"cqg.rtd\",,\"StudyData\", \"Close(\"&$D$12&\") when LocalYear(\"&$D$12&\")=\"&$D$4&\" and localMonth(\"&$D$12&\") =\"&$E$4&\" and LocalDay(\"&$D$12&\")=\"&$F$4&\" and Barix(\"&$D$12&\",reference:=StartOfSession)=\"&A49&\"\", \"Bar\", \"\", \"Close\",\"5\",\"0\",\"PrimaryOnly\",,,\"False\",\"T\",\"EveryTick\")","v":120.03125},-7.804370447450572E-4,{"$f":"RTD(\"cqg.rtd\",,\"StudyData\", \"Close(\"&$D$12&\") when LocalYear(\"&$D$12&\")=\"&$D$5&\" and localMonth(\"&$D$12&\") =\"&$E$5&\" and LocalDay(\"&$D$12&\")=\"&$F$5&\" and Barix(\"&$D$12&\",reference:=StartOfSession)=\"&A49&\"\", \"Bar\", \"\", \"Close\",\"5\",\"0\",\"PrimaryOnly\",,,\"False\",\"T\",\"EveryTick\")","v":120.140625},-1.6878732796676188E-3,{"$f":"RTD(\"cqg.rtd\",,\"StudyData\", \"Close(\"&$D$12&\") when LocalYear(\"&$D$12&\")=\"&$D$6&\" and localMonth(\"&$D$12&\") =\"&$E$6&\" and LocalDay(\"&$D$12&\")=\"&$F$6&\" and Barix(\"&$D$12&\",reference:=StartOfSession)=\"&A49&\"\", \"Bar\", \"\", \"Close\",\"5\",\"0\",\"PrimaryOnly\",,,\"False\",\"T\",\"EveryTick\")","v":120.34375},7.7962577962577967E-4,{"$f":"RTD(\"cqg.rtd\",,\"StudyData\", \"Close(\"&$D$12&\") when LocalYear(\"&$D$12&\")=\"&$D$7&\" and localMonth(\"&$D$12&\") =\"&$E$7&\" and LocalDay(\"&$D$12&\")=\"&$F$7&\" and Barix(\"&$D$12&\",reference:=StartOfSession)=\"&A49&\"\", \"Bar\", \"\", \"Close\",\"5\",\"0\",\"PrimaryOnly\",,,\"False\",\"T\",\"EveryTick\")","v":120.296875},-1.2987012987012987E-4,{"$f":"RTD(\"cqg.rtd\",,\"StudyData\", \"Close(\"&$D$12&\") when LocalYear(\"&$D$12&\")=\"&$D$8&\" and localMonth(\"&$D$12&\") =\"&$E$8&\" and LocalDay(\"&$D$12&\")=\"&$F$8&\" and Barix(\"&$D$12&\",reference:=StartOfSession)=\"&A49&\"\", \"Bar\", \"\", \"Close\",\"5\",\"0\",\"PrimaryOnly\",,,\"False\",\"T\",\"EveryTick\")","v":120.328125},2.0819778789850358E-3,{"$f":"RTD(\"cqg.rtd\",,\"StudyData\", \"Close(\"&$D$12&\") when LocalYear(\"&$D$12&\")=\"&$D$9&\" and localMonth(\"&$D$12&\") =\"&$E$9&\" and LocalDay(\"&$D$12&\")=\"&$F$9&\" and Barix(\"&$D$12&\",reference:=StartOfSession)=\"&A49&\"\", \"Bar\", \"\", \"Close\",\"5\",\"0\",\"PrimaryOnly\",,,\"False\",\"T\",\"EveryTick\")","v":120.09375},-7.8003120124804995E-4,{"$f":"RTD(\"cqg.rtd\",,\"StudyData\", \"Close(\"&$D$12&\") when LocalYear(\"&$D$12&\")=\"&$D$10&\" and localMonth(\"&$D$12&\") =\"&$E$10&\" and LocalDay(\"&$D$12&\")=\"&$F$10&\" and Barix(\"&$D$12&\",reference:=StartOfSession)=\"&A49&\"\", \"Bar\", \"\", \"Close\",\"5\",\"0\",\"PrimaryOnly\",,,\"False\",\"T\",\"EveryTick\")","v":120.25},5.2002080083203334E-4,null,null,null,""]
[229,"12:05:00",-28,{"$f":" RTD(\"cqg.rtd\",,\"StudyData\", $D$12,  \"Tick\", \"FlatTicks=0\", \"Tick\",\"D\",C50,\"PrimaryOnly\")","v":120.3125},null,null,null,{"$f":"RTD(\"cqg.rtd\",,\"StudyData\", \"Close(\"&$D$12&\") when LocalYear(\"&$D$12&\")=\"&$D$1&\" and localMonth(\"&$D$12&\") =\"&$E$1&\" and LocalDay(\"&$D$12&\")=\"&$F$1&\" and Barix(\"&$D$12&\",reference:=StartOfSession)=\"&A50&\"\", \"Bar\", \"\", \"Close\",\"5\",\"0\",\"PrimaryOnly\",,,\"False\",\"T\",\"EveryTick\")","v":""},{"$error":"#N/A"},{"$f":"RTD(\"cqg.rtd\",,\"StudyData\", \"Close(\"&$D$12&\") when LocalYear(\"&$D$12&\")=\"&$D$2&\" and localMonth(\"&$D$12&\") =\"&$E$2&\" and LocalDay(\"&$D$12&\")=\"&$F$2&\" and Barix(\"&$D$12&\",reference:=StartOfSession)=\"&A50&\"\", \"Bar\", \"\", \"Close\",\"5\",\"0\",\"PrimaryOnly\",,,\"False\",\"T\",\"EveryTick\")","v":120.15625},-7.7962577962577967E-4,{"$f":"RTD(\"cqg.rtd\",,\"StudyData\", \"Close(\"&$D$12&\") when LocalYear(\"&$D$12&\")=\"&$D$3&\" and localMonth(\"&$D$12&\") =\"&$E$3&\" and LocalDay(\"&$D$12&\")=\"&$F$3&\" and Barix(\"&$D$12&\",reference:=StartOfSession)=\"&A50&\"\", \"Bar\", \"\", \"Close\",\"5\",\"0\",\"PrimaryOnly\",,,\"False\",\"T\",\"EveryTick\")","v":120.15625},1.1717224319750033E-3,{"$f":"RTD(\"cqg.rtd\",,\"StudyData\", \"Close(\"&$D$12&\") when LocalYear(\"&$D$12&\")=\"&$D$4&\" and localMonth(\"&$D$12&\") =\"&$E$4&\" and LocalDay(\"&$D$12&\")=\"&$F$4&\" and Barix(\"&$D$12&\",reference:=StartOfSession)=\"&A50&\"\", \"Bar\", \"\", \"Close\",\"5\",\"0\",\"PrimaryOnly\",,,\"False\",\"T\",\"EveryTick\")","v":120},-1.0405827263267431E-3,{"$f":"RTD(\"cqg.rtd\",,\"StudyData\", \"Close(\"&$D$12&\") when LocalYear(\"&$D$12&\")=\"&$D$5&\" and localMonth(\"&$D$12&\") =\"&$E$5&\" and LocalDay(\"&$D$12&\")=\"&$F$5&\" and Barix(\"&$D$12&\",reference:=StartOfSession)=\"&A50&\"\", \"Bar\", \"\", \"Close\",\"5\",\"0\",\"PrimaryOnly\",,,\"False\",\"T\",\"EveryTick\")","v":120.140625},-1.6878732796676188E-3,{"$f":"RTD(\"cqg.rtd\",,\"StudyData\", \"Close(\"&$D$12&\") when LocalYear(\"&$D$12&\")=\"&$D$6&\" and localMonth(\"&$D$12&\") =\"&$E$6&\" and LocalDay(\"&$D$12&\")=\"&$F$6&\" and Barix(\"&$D$12&\",reference:=StartOfSession)=\"&A50&\"\", \"Bar\", \"\", \"Close\",\"5\",\"0\",\"PrimaryOnly\",,,\"False\",\"T\",\"EveryTick\")","v":120.328125},6.4968814968814972E-4,{"$f":"RTD(\"cqg.rtd\",,\"StudyData\", \"Close(\"&$D$12&\") when LocalYear(\"&$D$12&\")=\"&$D$7&\" and localMonth(\"&$D$12&\") =\"&$E$7&\" and LocalDay(\"&$D$12&\")=\"&$F$7&\" and Barix(\"&$D$12&\",reference:=StartOfSession)=\"&A50&\"\", \"Bar\", \"\", \"Close\",\"5\",\"0\",\"PrimaryOnly\",,,\"False\",\"T\",\"EveryTick\")","v":120.296875},-1.2987012987012987E-4,{"$f":"RTD(\"cqg.rtd\",,\"StudyData\", \"Close(\"&$D$12&\") when LocalYear(\"&$D$12&\")=\"&$D$8&\" and localMonth(\"&$D$12&\") =\"&$E$8&\" and LocalDay(\"&$D$12&\")=\"&$F$8&\" and Barix(\"&$D$12&\",reference:=StartOfSession)=\"&A50&\"\", \"Bar\", \"\", \"Close\",\"5\",\"0\",\"PrimaryOnly\",,,\"False\",\"T\",\"EveryTick\")","v":120.328125},2.0819778789850358E-3,{"$f":"RTD(\"cqg.rtd\",,\"StudyData\", \"Close(\"&$D$12&\") when LocalYear(\"&$D$12&\")=\"&$D$9&\" and localMonth(\"&$D$12&\") =\"&$E$9&\" and LocalDay(\"&$D$12&\")=\"&$F$9&\" and Barix(\"&$D$12&\",reference:=StartOfSession)=\"&A50&\"\", \"Bar\", \"\", \"Close\",\"5\",\"0\",\"PrimaryOnly\",,,\"False\",\"T\",\"EveryTick\")","v":120.109375},-6.5002600104004159E-4,{"$f":"RTD(\"cqg.rtd\",,\"StudyData\", \"Close(\"&$D$12&\") when LocalYear(\"&$D$12&\")=\"&$D$10&\" and localMonth(\"&$D$12&\") =\"&$E$10&\" and LocalDay(\"&$D$12&\")=\"&$F$10&\" and Barix(\"&$D$12&\",reference:=StartOfSession)=\"&A50&\"\", \"Bar\", \"\", \"Close\",\"5\",\"0\",\"PrimaryOnly\",,,\"False\",\"T\",\"EveryTick\")","v":120.25},5.2002080083203334E-4,null,null,null,""]
[230,"12:10:00",-27,{"$f":" RTD(\"cqg.rtd\",,\"StudyData\", $D$12,  \"Tick\", \"FlatTicks=0\", \"Tick\",\"D\",C51,\"PrimaryOnly\")","v":120.328125},null,null,null,{"$f":"RTD(\"cqg.rtd\",,\"StudyData\", \"Close(\"&$D$12&\") when LocalYear(\"&$D$12&\")=\"&$D$1&\" and localMonth(\"&$D$12&\") =\"&$E$1&\" and LocalDay(\"&$D$12&\")=\"&$F$1&\" and Barix(\"&$D$12&\",reference:=StartOfSession)=\"&A51&\"\", \"Bar\", \"\", \"Close\",\"5\",\"0\",\"PrimaryOnly\",,,\"False\",\"T\",\"EveryTick\")","v":""},{"$error":"#N/A"},{"$f":"RTD(\"cqg.rtd\",,\"StudyData\", \"Close(\"&$D$12&\") when LocalYear(\"&$D$12&\")=\"&$D$2&\" and localMonth(\"&$D$12&\") =\"&$E$2&\" and LocalDay(\"&$D$12&\")=\"&$F$2&\" and Barix(\"&$D$12&\",reference:=StartOfSession)=\"&A51&\"\", \"Bar\", \"\", \"Close\",\"5\",\"0\",\"PrimaryOnly\",,,\"False\",\"T\",\"EveryTick\")","v":120.125},-1.0395010395010396E-3,{"$f":"RTD(\"cqg.rtd\",,\"StudyData\", \"Close(\"&$D$12&\") when LocalYear(\"&$D$12&\")=\"&$D$3&\" and localMonth(\"&$D$12&\") =\"&$E$3&\" and LocalDay(\"&$D$12&\")=\"&$F$3&\" and Barix(\"&$D$12&\",reference:=StartOfSession)=\"&A51&\"\", \"Bar\", \"\", \"Close\",\"5\",\"0\",\"PrimaryOnly\",,,\"False\",\"T\",\"EveryTick\")","v":120.171875},1.3019138133055592E-3,{"$f":"RTD(\"cqg.rtd\",,\"StudyData\", \"Close(\"&$D$12&\") when LocalYear(\"&$D$12&\")=\"&$D$4&\" and localMonth(\"&$D$12&\") =\"&$E$4&\" and LocalDay(\"&$D$12&\")=\"&$F$4&\" and Barix(\"&$D$12&\",reference:=StartOfSession)=\"&A51&\"\", \"Bar\", \"\", \"Close\",\"5\",\"0\",\"PrimaryOnly\",,,\"False\",\"T\",\"EveryTick\")","v":120.03125},-7.804370447450572E-4,{"$f":"RTD(\"cqg.rtd\",,\"StudyData\", \"Close(\"&$D$12&\") when LocalYear(\"&$D$12&\")=\"&$D$5&\" and localMonth(\"&$D$12&\") =\"&$E$5&\" and LocalDay(\"&$D$12&\")=\"&$F$5&\" and Barix(\"&$D$12&\",reference:=StartOfSession)=\"&A51&\"\", \"Bar\", \"\", \"Close\",\"5\",\"0\",\"PrimaryOnly\",,,\"False\",\"T\",\"EveryTick\")","v":120.15625},-1.5580368735393405E-3,{"$f":"RTD(\"cqg.rtd\",,\"StudyData\", \"Close(\"&$D$12&\") when LocalYear(\"&$D$12&\")=\"&$D$6&\" and localMonth(\"&$D$12&\") =\"&$E$6&\" and LocalDay(\"&$D$12&\")=\"&$F$6&\" and Barix(\"&$D$12&\",reference:=StartOfSession)=\"&A51&\"\", \"Bar\", \"\", \"Close\",\"5\",\"0\",\"PrimaryOnly\",,,\"False\",\"T\",\"EveryTick\")","v":120.328125},6.4968814968814972E-4,{"$f":"RTD(\"cqg.rtd\",,\"StudyData\", \"Close(\"&$D$12&\") when LocalYear(\"&$D$12&\")=\"&$D$7&\" and localMonth(\"&$D$12&\") =\"&$E$7&\" and LocalDay(\"&$D$12&\")=\"&$F$7&\" and Barix(\"&$D$12&\",reference:=StartOfSession)=\"&A51&\"\", \"Bar\", \"\", \"Close\",\"5\",\"0\",\"PrimaryOnly\",,,\"False\",\"T\",\"EveryTick\")","v":120.296875},-1.2987012987012987E-4,{"$f":"RTD(\"cqg.rtd\",,\"StudyData\", \"Close(\"&$D$12&\") when LocalYear(\"&$D$12&\")=\"&$D$8&\" and localMonth(\"&$D$12&\") =\"&$E$8&\" and LocalDay(\"&$D$12&\")=\"&$F$8&\" and Barix(\"&$D$12&\",reference:=StartOfSession)=\"&A51&\"\", \"Bar\", \"\", \"Close\",\"5\",\"0\",\"PrimaryOnly\",,,\"False\",\"T\",\"EveryTick\")","v":120.34375},2.2121014964216006E-3,{"$f":"RTD(\"cqg.rtd\",,\"StudyData\", \"Close(\"&$D$12&\") when LocalYear(\"&$D$12&\")=\"&$D$9&\" and localMonth(\"&$D$12&\") =\"&$E$9&\" and LocalDay(\"&$D$12&\")=\"&$F$9&\" and Barix(\"&$D$12&\",reference:=StartOfSession)=\"&A51&\"\", \"Bar\", \"\", \"Close\",\"5\",\"0\",\"PrimaryOnly\",,,\"False\",\"T\",\"EveryTick\")","v":120.140625},-3.9001560062402497E-4,{"$f":"RTD(\"cqg.rtd\",,\"StudyData\", \"Close(\"&$D$12&\") when LocalYear(\"&$D$12&\")=\"&$D$10&\" and localMonth(\"&$D$12&\") =\"&$E$10&\" and LocalDay(\"&$D$12&\")=\"&$F$10&\" and Barix(\"&$D$12&\",reference:=StartOfSession)=\"&A51&\"\", \"Bar\", \"\", \"Close\",\"5\",\"0\",\"PrimaryOnly\",,,\"False\",\"T\",\"EveryTick\")","v":120.234375},3.9001560062402497E-4,null,null,null,""]
[231,"12:15:00",-26,{"$f":" RTD(\"cqg.rtd\",,\"StudyData\", $D$12,  \"Tick\", \"FlatTicks=0\", \"Tick\",\"D\",C52,\"PrimaryOnly\")","v":120.3125},null,null,null,{"$f":"RTD(\"cqg.rtd\",,\"StudyData\", \"Close(\"&$D$12&\") when LocalYear(\"&$D$12&\")=\"&$D$1&\" and localMonth(\"&$D$12&\") =\"&$E$1&\" and LocalDay(\"&$D$12&\")=\"&$F$1&\" and Barix(\"&$D$12&\",reference:=StartOfSession)=\"&A52&\"\", \"Bar\", \"\", \"Close\",\"5\",\"0\",\"PrimaryOnly\",,,\"False\",\"T\",\"EveryTick\")","v":""},{"$error":"#N/A"},{"$f":"RTD(\"cqg.rtd\",,\"StudyData\", \"Close(\"&$D$12&\") when LocalYear(\"&$D$12&\")=\"&$D$2&\" and localMonth(\"&$D$12&\") =\"&$E$2&\" and LocalDay(\"&$D$12&\")=\"&$F$2&\" and Barix(\"&$D$12&\",reference:=StartOfSession)=\"&A52&\"\", \"Bar\", \"\", \"Close\",\"5\",\"0\",\"PrimaryOnly\",,,\"False\",\"T\",\"EveryTick\")","v":120.109375},-1.1694386694386695E-3,{"$f":"RTD(\"cqg.rtd\",,\"StudyData\", \"Close(\"&$D$12&\") when LocalYear(\"&$D$12&\")=\"&$D$3&\" and localMonth(\"&$D$12&\") =\"&$E$3&\" and LocalDay(\"&$D$12&\")=\"&$F$3&\" and Barix(\"&$D$12&\",reference:=StartOfSession)=\"&A52&\"\", \"Bar\", \"\", \"Close\",\"5\",\"0\",\"PrimaryOnly\",,,\"False\",\"T\",\"EveryTick\")","v":120.171875},1.3019138133055592E-3,{"$f":"RTD(\"cqg.rtd\",,\"StudyData\", \"Close(\"&$D$12&\") when LocalYear(\"&$D$12&\")=\"&$D$4&\" and localMonth(\"&$D$12&\") =\"&$E$4&\" and LocalDay(\"&$D$12&\")=\"&$F$4&\" and Barix(\"&$D$12&\",reference:=StartOfSession)=\"&A52&\"\", \"Bar\", \"\", \"Close\",\"5\",\"0\",\"PrimaryOnly\",,,\"False\",\"T\",\"EveryTick\")","v":120.046875},-6.5036420395421437E-4,{"$f":"RTD(\"cqg.rtd\",,\"StudyData\", \"Close(\"&$D$12&\") when LocalYear(\"&$D$12&\")=\"&$D$5&\" and localMonth(\"&$D$12&\") =\"&$E$5&\" and LocalDay(\"&$D$12&\")=\"&$F$5&\" and Barix(\"&$D$12&\",reference:=StartOfSession)=\"&A52&\"\", \"Bar\", \"\", \"Close\",\"5\",\"0\",\"PrimaryOnly\",,,\"False\",\"T\",\"EveryTick\")","v":120.15625},-1.5580368735393405E-3,{"$f":"RTD(\"cqg.rtd\",,\"StudyData\", \"Close(\"&$D$12&\") when LocalYear(\"&$D$12&\")=\"&$D$6&\" and localMonth(\"&$D$12&\") =\"&$E$6&\" and LocalDay(\"&$D$12&\")=\"&$F$6&\" and Barix(\"&$D$12&\",reference:=StartOfSession)=\"&A52&\"\", \"Bar\", \"\", \"Close\",\"5\",\"0\",\"PrimaryOnly\",,,\"False\",\"T\",\"EveryTick\")","v":120.328125},6.4968814968814972E-4,{"$f":"RTD(\"cqg.rtd\",,\"StudyData\", \"Close(\"&$D$12&\") when LocalYear(\"&$D$12&\")=\"&$D$7&\" and localMonth(\"&$D$12&\") =\"&$E$7&\" and LocalDay(\"&$D$12&\")=\"&$F$7&\" and Barix(\"&$D$12&\",reference:=StartOfSession)=\"&A52&\"\", \"Bar\", \"\", \"Close\",\"5\",\"0\",\"PrimaryOnly\",,,\"False\",\"T\",\"EveryTick\")","v":120.296875},-1.2987012987012987E-4,{"$f":"RTD(\"cqg.rtd\",,\"StudyData\", \"Close(\"&$D$12&\") when LocalYear(\"&$D$12&\")=\"&$D$8&\" and localMonth(\"&$D$12&\") =\"&$E$8&\" and LocalDay(\"&$D$12&\")=\"&$F$8&\" and Barix(\"&$D$12&\",reference:=StartOfSession)=\"&A52&\"\", \"Bar\", \"\", \"Close\",\"5\",\"0\",\"PrimaryOnly\",,,\"False\",\"T\",\"EveryTick\")","v":120.34375},2.2121014964216006E-3,{"$f":"RTD(\"cqg.rtd\",,\"StudyData\", \"Close(\"&$D$12&\") when LocalYear(\"&$D$12&\")=\"&$D$9&\" and localMonth(\"&$D$12&\") =\"&$E$9&\" and LocalDay(\"&$D$12&\")=\"&$F$9&\" and Barix(\"&$D$12&\",reference:=StartOfSession)=\"&A52&\"\", \"Bar\", \"\", \"Close\",\"5\",\"0\",\"PrimaryOnly\",,,\"False\",\"T\",\"EveryTick\")","v":120.109375},-6.5002600104004159E-4,{"$f":"RTD(\"cqg.rtd\",,\"StudyData\", \"Close(\"&$D$12&\") when LocalYear(\"&$D$12&\")=\"&$D$10&\" and localMonth(\"&$D$12&\") =\"&$E$10&\" and LocalDay(\"&$D$12&\")=\"&$F$10&\" and Barix(\"&$D$12&\",reference:=StartOfSession)=\"&A52&\"\", \"Bar\", \"\", \"Close\",\"5\",\"0\",\"PrimaryOnly\",,,\"False\",\"T\",\"EveryTick\")","v":120.234375},3.9001560062402497E-4,null,null,null,""]
[232,"12:20:00",-25,{"$f":" RTD(\"cqg.rtd\",,\"StudyData\", $D$12,  \"Tick\", \"FlatTicks=0\", \"Tick\",\"D\",C53,\"PrimaryOnly\")","v":120.328125},null,null,null,{"$f":"RTD(\"cqg.rtd\",,\"StudyData\", \"Close(\"&$D$12&\") when LocalYear(\"&$D$12&\")=\"&$D$1&\" and localMonth(\"&$D$12&\") =\"&$E$1&\" and LocalDay(\"&$D$12&\")=\"&$F$1&\" and Barix(\"&$D$12&\",reference:=StartOfSession)=\"&A53&\"\", \"Bar\", \"\", \"Close\",\"5\",\"0\",\"PrimaryOnly\",,,\"False\",\"T\",\"EveryTick\")","v":""},{"$error":"#N/A"},{"$f":"RTD(\"cqg.rtd\",,\"StudyData\", \"Close(\"&$D$12&\") when LocalYear(\"&$D$12&\")=\"&$D$2&\" and localMonth(\"&$D$12&\") =\"&$E$2&\" and LocalDay(\"&$D$12&\")=\"&$F$2&\" and Barix(\"&$D$12&\",reference:=StartOfSession)=\"&A53&\"\", \"Bar\", \"\", \"Close\",\"5\",\"0\",\"PrimaryOnly\",,,\"False\",\"T\",\"EveryTick\")","v":120.125},-1.0395010395010396E-3,{"$f":"RTD(\"cqg.rtd\",,\"StudyData\", \"Close(\"&$D$12&\") when LocalYear(\"&$D$12&\")=\"&$D$3&\" and localMonth(\"&$D$12&\") =\"&$E$3&\" and LocalDay(\"&$D$12&\")=\"&$F$3&\" and Barix(\"&$D$12&\",reference:=StartOfSession)=\"&A53&\"\", \"Bar\", \"\", \"Close\",\"5\",\"0\",\"PrimaryOnly\",,,\"False\",\"T\",\"EveryTick\")","v":120.15625},1.1717224319750033E-3,{"$f":"RTD(\"cqg.rtd\",,\"StudyData\", \"Close(\"&$D$12&\") when LocalYear(\"&$D$12&\")=\"&$D$4&\" and localMonth(\"&$D$12&\") =\"&$E$4&\" and LocalDay(\"&$D$12&\")=\"&$F$4&\" and Barix(\"&$D$12&\",reference:=StartOfSession)=\"&A53&\"\", \"Bar\", \"\", \"Close\",\"5\",\"0\",\"PrimaryOnly\",,,\"False\",\"T\",\"EveryTick\")","v":120.03125},-7.804370447450572E-4,{"$f":"RTD(\"cqg.rtd\",,\"StudyData\", \"Close(\"&$D$12&\") when LocalYear(\"&$D$12&\")=\"&$D$5&\" and localMonth(\"&$D$12&\") =\"&$E$5&\" and LocalDay(\"&$D$12&\")=\"&$F$5&\" and Barix(\"&$D$12&\",reference:=StartOfSession)=\"&A53&\"\", \"Bar\", \"\", \"Close\",\"5\",\"0\",\"PrimaryOnly\",,,\"False\",\"T\",\"EveryTick\")","v":120.140625},-1.6878732796676188E-3,{"$f":"RTD(\"cqg.rtd\",,\"StudyData\", \"Close(\"&$D$12&\") when LocalYear(\"&$D$12&\")=\"&$D$6&\" and localMonth(\"&$D$12&\") =\"&$E$6&\" and LocalDay(\"&$D$12&\")=\"&$F$6&\" and Barix(\"&$D$12&\",reference:=StartOfSession)=\"&A53&\"\", \"Bar\", \"\", \"Close\",\"5\",\"0\",\"PrimaryOnly\",,,\"False\",\"T\",\"EveryTick\")","v":120.34375},7.7962577962577967E-4,{"$f":"RTD(\"cqg.rtd\",,\"StudyData\", \"Close(\"&$D$12&\") when LocalYear(\"&$D$12&\")=\"&$D$7&\" and localMonth(\"&$D$12&\") =\"&$E$7&\" and LocalDay(\"&$D$12&\")=\"&$F$7&\" and Barix(\"&$D$12&\",reference:=StartOfSession)=\"&A53&\"\", \"Bar\", \"\", \"Close\",\"5\",\"0\",\"PrimaryOnly\",,,\"False\",\"T\",\"EveryTick\")","v":120.28125},-2.5974025974025974E-4,{"$f":"RTD(\"cqg.rtd\",,\"StudyData\", \"Close(\"&$D$12&\") when LocalYear(\"&$D$12&\")=\"&$D$8&\" and localMonth(\"&$D$12&\") =\"&$E$8&\" and LocalDay(\"&$D$12&\")=\"&$F$8&\" and Barix(\"&$D$12&\",reference:=StartOfSession)=\"&A53&\"\", \"Bar\", \"\", \"Close\",\"5\",\"0\",\"PrimaryOnly\",,,\"False\",\"T\",\"EveryTick\")","v":120.34375},2.2121014964216006E-3,{"$f":"RTD(\"cqg.rtd\",,\"StudyData\", \"Close(\"&$D$12&\") when LocalYear(\"&$D$12&\")=\"&$D$9&\" and localMonth(\"&$D$12&\") =\"&$E$9&\" and LocalDay(\"&$D$12&\")=\"&$F$9&\" and Barix(\"&$D$12&\",reference:=StartOfSession)=\"&A53&\"\", \"Bar\", \"\", \"Close\",\"5\",\"0\",\"PrimaryOnly\",,,\"False\",\"T\",\"EveryTick\")","v":120.109375},-6.5002600104004159E-4,{"$f":"RTD(\"cqg.rtd\",,\"StudyData\", \"Close(\"&$D$12&\") when LocalYear(\"&$D$12&\")=\"&$D$10&\" and localMonth(\"&$D$12&\") =\"&$E$10&\" and LocalDay(\"&$D$12&\")=\"&$F$10&\" and Barix(\"&$D$12&\",reference:=StartOfSession)=\"&A53&\"\", \"Bar\", \"\", \"Close\",\"5\",\"0\",\"PrimaryOnly\",,,\"False\",\"T\",\"EveryTick\")","v":120.25},5.2002080083203334E-4,null,null,null,""]
[233,"12:25:00",-24,{"$f":" RTD(\"cqg.rtd\",,\"StudyData\", $D$12,  \"Tick\", \"FlatTicks=0\", \"Tick\",\"D\",C54,\"PrimaryOnly\")","v":120.3125},null,null,null,{"$f":"RTD(\"cqg.rtd\",,\"StudyData\", \"Close(\"&$D$12&\") when LocalYear(\"&$D$12&\")=\"&$D$1&\" and localMonth(\"&$D$12&\") =\"&$E$1&\" and LocalDay(\"&$D$12&\")=\"&$F$1&\" and Barix(\"&$D$12&\",reference:=StartOfSession)=\"&A54&\"\", \"Bar\", \"\", \"Close\",\"5\",\"0\",\"PrimaryOnly\",,,\"False\",\"T\",\"EveryTick\")","v":""},{"$error":"#N/A"},{"$f":"RTD(\"cqg.rtd\",,\"StudyData\", \"Close(\"&$D$12&\") when LocalYear(\"&$D$12&\")=\"&$D$2&\" and localMonth(\"&$D$12&\") =\"&$E$2&\" and LocalDay(\"&$D$12&\")=\"&$F$2&\" and Barix(\"&$D$12&\",reference:=StartOfSession)=\"&A54&\"\", \"Bar\", \"\", \"Close\",\"5\",\"0\",\"PrimaryOnly\",,,\"False\",\"T\",\"EveryTick\")","v":120.109375},-1.1694386694386695E-3,{"$f":"RTD(\"cqg.rtd\",,\"StudyData\", \"Close(\"&$D$12&\") when LocalYear(\"&$D$12&\")=\"&$D$3&\" and localMonth(\"&$D$12&\") =\"&$E$3&\" and LocalDay(\"&$D$12&\")=\"&$F$3&\" and Barix(\"&$D$12&\",reference:=StartOfSession)=\"&A54&\"\", \"Bar\", \"\", \"Close\",\"5\",\"0\",\"PrimaryOnly\",,,\"False\",\"T\",\"EveryTick\")","v":120.15625},1.1717224319750033E-3,{"$f":"RTD(\"cqg.rtd\",,\"StudyData\", \"Close(\"&$D$12&\") when LocalYear(\"&$D$12&\")=\"&$D$4&\" and localMonth(\"&$D$12&\") =\"&$E$4&\" and LocalDay(\"&$D$12&\")=\"&$F$4&\" and Barix(\"&$D$12&\",reference:=StartOfSession)=\"&A54&\"\", \"Bar\", \"\", \"Close\",\"5\",\"0\",\"PrimaryOnly\",,,\"False\",\"T\",\"EveryTick\")","v":120.03125},-7.804370447450572E-4,{"$f":"RTD(\"cqg.rtd\",,\"StudyData\", \"Close(\"&$D$12&\") when LocalYear(\"&$D$12&\")=\"&$D$5&\" and localMonth(\"&$D$12&\") =\"&$E$5&\" and LocalDay(\"&$D$12&\")=\"&$F$5&\" and Barix(\"&$D$12&\",reference:=StartOfSession)=\"&A54&\"\", \"Bar\", \"\", \"Close\",\"5\",\"0\",\"PrimaryOnly\",,,\"False\",\"T\",\"EveryTick\")","v":120.140625},-1.6878732796676188E-3,{"$f":"RTD(\"cqg.rtd\",,\"StudyData\", \"Close(\"&$D$12&\") when LocalYear(\"&$D$12&\")=\"&$D$6&\" and localMonth(\"&$D$12&\") =\"&$E$6&\" and LocalDay(\"&$D$12&\")=\"&$F$6&\" and Barix(\"&$D$12&\",reference:=StartOfSession)=\"&A54&\"\", \"Bar\", \"\", \"Close\",\"5\",\"0\",\"PrimaryOnly\",,,\"False\",\"T\",\"EveryTick\")","v":120.328125},6.4968814968814972E-4,{"$f":"RTD(\"cqg.rtd\",,\"StudyData\", \"Close(\"&$D$12&\") when LocalYear(\"&$D$12&\")=\"&$D$7&\" and localMonth(\"&$D$12&\") =\"&$E$7&\" and LocalDay(\"&$D$12&\")=\"&$F$7&\" and Barix(\"&$D$12&\",reference:=StartOfSession)=\"&A54&\"\", \"Bar\", \"\", \"Close\",\"5\",\"0\",\"PrimaryOnly\",,,\"False\",\"T\",\"EveryTick\")","v":120.296875},-1.2987012987012987E-4,{"$f":"RTD(\"cqg.rtd\",,\"StudyData\", \"Close(\"&$D$12&\") when LocalYear(\"&$D$12&\")=\"&$D$8&\" and localMonth(\"&$D$12&\") =\"&$E$8&\" and LocalDay(\"&$D$12&\")=\"&$F$8&\" and Barix(\"&$D$12&\",reference:=StartOfSession)=\"&A54&\"\", \"Bar\", \"\", \"Close\",\"5\",\"0\",\"PrimaryOnly\",,,\"False\",\"T\",\"EveryTick\")","v":120.359375},2.3422251138581654E-3,{"$f":"RTD(\"cqg.rtd\",,\"StudyData\", \"Close(\"&$D$12&\") when LocalYear(\"&$D$12&\")=\"&$D$9&\" and localMonth(\"&$D$12&\") =\"&$E$9&\" and LocalDay(\"&$D$12&\")=\"&$F$9&\" and Barix(\"&$D$12&\",reference:=StartOfSession)=\"&A54&\"\", \"Bar\", \"\", \"Close\",\"5\",\"0\",\"PrimaryOnly\",,,\"False\",\"T\",\"EveryTick\")","v":120.109375},-6.5002600104004159E-4,{"$f":"RTD(\"cqg.rtd\",,\"StudyData\", \"Close(\"&$D$12&\") when LocalYear(\"&$D$12&\")=\"&$D$10&\" and localMonth(\"&$D$12&\") =\"&$E$10&\" and LocalDay(\"&$D$12&\")=\"&$F$10&\" and Barix(\"&$D$12&\",reference:=StartOfSession)=\"&A54&\"\", \"Bar\", \"\", \"Close\",\"5\",\"0\",\"PrimaryOnly\",,,\"False\",\"T\",\"EveryTick\")","v":120.265625},6.5002600104004159E-4,null,null,null,""]
[234,"12:30:00",-23,{"$f":" RTD(\"cqg.rtd\",,\"StudyData\", $D$12,  \"Tick\", \"FlatTicks=0\", \"Tick\",\"D\",C55,\"PrimaryOnly\")","v":120.328125},null,null,null,{"$f":"RTD(\"cqg.rtd\",,\"StudyData\", \"Close(\"&$D$12&\") when LocalYear(\"&$D$12&\")=\"&$D$1&\" and localMonth(\"&$D$12&\") =\"&$E$1&\" and LocalDay(\"&$D$12&\")=\"&$F$1&\" and Barix(\"&$D$12&\",reference:=StartOfSession)=\"&A55&\"\", \"Bar\", \"\", \"Close\",\"5\",\"0\",\"PrimaryOnly\",,,\"False\",\"T\",\"EveryTick\")","v":""},{"$error":"#N/A"},{"$f":"RTD(\"cqg.rtd\",,\"StudyData\", \"Close(\"&$D$12&\") when LocalYear(\"&$D$12&\")=\"&$D$2&\" and localMonth(\"&$D$12&\") =\"&$E$2&\" and LocalDay(\"&$D$12&\")=\"&$F$2&\" and Barix(\"&$D$12&\",reference:=StartOfSession)=\"&A55&\"\", \"Bar\", \"\", \"Close\",\"5\",\"0\",\"PrimaryOnly\",,,\"False\",\"T\",\"EveryTick\")","v":120.15625},-7.7962577962577967E-4,{"$f":"RTD(\"cqg.rtd\",,\"StudyData\", \"Close(\"&$D$12&\") when LocalYear(\"&$D$12&\")=\"&$D$3&\" and localMonth(\"&$D$12&\") =\"&$E$3&\" and LocalDay(\"&$D$12&\")=\"&$F$3&\" and Barix(\"&$D$12&\",reference:=StartOfSession)=\"&A55&\"\", \"Bar\", \"\", \"Close\",\"5\",\"0\",\"PrimaryOnly\",,,\"False\",\"T\",\"EveryTick\")","v":120.140625},1.0415310506444472E-3,{"$f":"RTD(\"cqg.rtd\",,\"StudyData\", \"Close(\"&$D$12&\") when LocalYear(\"&$D$12&\")=\"&$D$4&\" and localMonth(\"&$D$12&\") =\"&$E$4&\" and LocalDay(\"&$D$12&\")=\"&$F$4&\" and Barix(\"&$D$12&\",reference:=StartOfSession)=\"&A55&\"\", \"Bar\", \"\", \"Close\",\"5\",\"0\",\"PrimaryOnly\",,,\"False\",\"T\",\"EveryTick\")","v":120.046875},-6.5036420395421437E-4,{"$f":"RTD(\"cqg.rtd\",,\"StudyData\", \"Close(\"&$D$12&\") when LocalYear(\"&$D$12&\")=\"&$D$5&\" and localMonth(\"&$D$12&\") =\"&$E$5&\" and LocalDay(\"&$D$12&\")=\"&$F$5&\" and Barix(\"&$D$12&\",reference:=StartOfSession)=\"&A55&\"\", \"Bar\", \"\", \"Close\",\"5\",\"0\",\"PrimaryOnly\",,,\"False\",\"T\",\"EveryTick\")","v":120.125},-1.8177096857958971E-3,{"$f":"RTD(\"cqg.rtd\",,\"StudyData\", \"Close(\"&$D$12&\") when LocalYear(\"&$D$12&\")=\"&$D$6&\" and localMonth(\"&$D$12&\") =\"&$E$6&\" and LocalDay(\"&$D$12&\")=\"&$F$6&\" and Barix(\"&$D$12&\",reference:=StartOfSession)=\"&A55&\"\", \"Bar\", \"\", \"Close\",\"5\",\"0\",\"PrimaryOnly\",,,\"False\",\"T\",\"EveryTick\")","v":120.328125},6.4968814968814972E-4,{"$f":"RTD(\"cqg.rtd\",,\"StudyData\", \"Close(\"&$D$12&\") when LocalYear(\"&$D$12&\")=\"&$D$7&\" and localMonth(\"&$D$12&\") =\"&$E$7&\" and LocalDay(\"&$D$12&\")=\"&$F$7&\" and Barix(\"&$D$12&\",reference:=StartOfSession)=\"&A55&\"\", \"Bar\", \"\", \"Close\",\"5\",\"0\",\"PrimaryOnly\",,,\"False\",\"T\",\"EveryTick\")","v":120.296875},-1.2987012987012987E-4,{"$f":"RTD(\"cqg.rtd\",,\"StudyData\", \"Close(\"&$D$12&\") when LocalYear(\"&$D$12&\")=\"&$D$8&\" and localMonth(\"&$D$12&\") =\"&$E$8&\" and LocalDay(\"&$D$12&\")=\"&$F$8&\" and Barix(\"&$D$12&\",reference:=StartOfSession)=\"&A55&\"\", \"Bar\", \"\", \"Close\",\"5\",\"0\",\"PrimaryOnly\",,,\"False\",\"T\",\"EveryTick\")","v":120.34375},2.2121014964216006E-3,{"$f":"RTD(\"cqg.rtd\",,\"StudyData\", \"Close(\"&$D$12&\") when LocalYear(\"&$D$12&\")=\"&$D$9&\" and localMonth(\"&$D$12&\") =\"&$E$9&\" and LocalDay(\"&$D$12&\")=\"&$F$9&\" and Barix(\"&$D$12&\",reference:=StartOfSession)=\"&A55&\"\", \"Bar\", \"\", \"Close\",\"5\",\"0\",\"PrimaryOnly\",,,\"False\",\"T\",\"EveryTick\")","v":120.09375},-7.8003120124804995E-4,{"$f":"RTD(\"cqg.rtd\",,\"StudyData\", \"Close(\"&$D$12&\") when LocalYear(\"&$D$12&\")=\"&$D$10&\" and localMonth(\"&$D$12&\") =\"&$E$10&\" and LocalDay(\"&$D$12&\")=\"&$F$10&\" and Barix(\"&$D$12&\",reference:=StartOfSession)=\"&A55&\"\", \"Bar\", \"\", \"Close\",\"5\",\"0\",\"PrimaryOnly\",,,\"False\",\"T\",\"EveryTick\")","v":120.25},5.2002080083203334E-4,null,null,null,""]
[235,"12:35:00",-22,{"$f":" RTD(\"cqg.rtd\",,\"StudyData\", $D$12,  \"Tick\", \"FlatTicks=0\", \"Tick\",\"D\",C56,\"PrimaryOnly\")","v":120.3125},null,null,null,{"$f":"RTD(\"cqg.rtd\",,\"StudyData\", \"Close(\"&$D$12&\") when LocalYear(\"&$D$12&\")=\"&$D$1&\" and localMonth(\"&$D$12&\") =\"&$E$1&\" and LocalDay(\"&$D$12&\")=\"&$F$1&\" and Barix(\"&$D$12&\",reference:=StartOfSession)=\"&A56&\"\", \"Bar\", \"\", \"Close\",\"5\",\"0\",\"PrimaryOnly\",,,\"False\",\"T\",\"EveryTick\")","v":""},{"$error":"#N/A"},{"$f":"RTD(\"cqg.rtd\",,\"StudyData\", \"Close(\"&$D$12&\") when LocalYear(\"&$D$12&\")=\"&$D$2&\" and localMonth(\"&$D$12&\") =\"&$E$2&\" and LocalDay(\"&$D$12&\")=\"&$F$2&\" and Barix(\"&$D$12&\",reference:=StartOfSession)=\"&A56&\"\", \"Bar\", \"\", \"Close\",\"5\",\"0\",\"PrimaryOnly\",,,\"False\",\"T\",\"EveryTick\")","v":120.15625},-7.7962577962577967E-4,{"$f":"RTD(\"cqg.rtd\",,\"StudyData\", \"Close(\"&$D$12&\") when LocalYear(\"&$D$12&\")=\"&$D$3&\" and localMonth(\"&$D$12&\") =\"&$E$3&\" and LocalDay(\"&$D$12&\")=\"&$F$3&\" and Barix(\"&$D$12&\",reference:=StartOfSession)=\"&A56&\"\", \"Bar\", \"\", \"Close\",\"5\",\"0\",\"PrimaryOnly\",,,\"False\",\"T\",\"EveryTick\")","v":120.140625},1.0415310506444472E-3,{"$f":"RTD(\"cqg.rtd\",,\"StudyData\", \"Close(\"&$D$12&\") when LocalYear(\"&$D$12&\")=\"&$D$4&\" and localMonth(\"&$D$12&\") =\"&$E$4&\" and LocalDay(\"&$D$12&\")=\"&$F$4&\" and Barix(\"&$D$12&\",reference:=StartOfSession)=\"&A56&\"\", \"Bar\", \"\", \"Close\",\"5\",\"0\",\"PrimaryOnly\",,,\"False\",\"T\",\"EveryTick\")","v":120.078125},-3.902185223725286E-4,{"$f":"RTD(\"cqg.rtd\",,\"StudyData\", \"Close(\"&$D$12&\") when LocalYear(\"&$D$12&\")=\"&$D$5&\" and localMonth(\"&$D$12&\") =\"&$E$5&\" and LocalDay(\"&$D$12&\")=\"&$F$5&\" and Barix(\"&$D$12&\",reference:=StartOfSession)=\"&A56&\"\", \"Bar\", \"\", \"Close\",\"5\",\"0\",\"PrimaryOnly\",,,\"False\",\"T\",\"EveryTick\")","v":120.140625},-1.6878732796676188E-3,{"$f":"RTD(\"cqg.rtd\",,\"StudyData\", \"Close(\"&$D$12&\") when LocalYear(\"&$D$12&\")=\"&$D$6&\" and localMonth(\"&$D$12&\") =\"&$E$6&\" and LocalDay(\"&$D$12&\")=\"&$F$6&\" and Barix(\"&$D$12&\",reference:=StartOfSession)=\"&A56&\"\", \"Bar\", \"\", \"Close\",\"5\",\"0\",\"PrimaryOnly\",,,\"False\",\"T\",\"EveryTick\")","v":120.34375},7.7962577962577967E-4,{"$f":"RTD(\"cqg.rtd\",,\"StudyData\", \"Close(\"&$D$12&\") when LocalYear(\"&$D$12&\")=\"&$D$7&\" and localMonth(\"&$D$12&\") =\"&$E$7&\" and LocalDay(\"&$D$12&\")=\"&$F$7&\" and Barix(\"&$D$12&\",reference:=StartOfSession)=\"&A56&\"\", \"Bar\", \"\", \"Close\",\"5\",\"0\",\"PrimaryOnly\",,,\"False\",\"T\",\"EveryTick\")","v":120.28125},-2.5974025974025974E-4,{"$f":"RTD(\"cqg.rtd\",,\"StudyData\", \"Close(\"&$D$12&\") when LocalYear(\"&$D$12&\")=\"&$D$8&\" and localMonth(\"&$D$12&\") =\"&$E$8&\" and LocalDay(\"&$D$12&\")=\"&$F$8&\" and Barix(\"&$D$12&\",reference:=StartOfSession)=\"&A56&\"\", \"Bar\", \"\", \"Close\",\"5\",\"0\",\"PrimaryOnly\",,,\"False\",\"T\",\"EveryTick\")","v":120.359375},2.3422251138581654E-3,{"$f":"RTD(\"cqg.rtd\",,\"StudyData\", \"Close(\"&$D$12&\") when LocalYear(\"&$D$12&\")=\"&$D$9&\" and localMonth(\"&$D$12&\") =\"&$E$9&\" and LocalDay(\"&$D$12&\")=\"&$F$9&\" and Barix(\"&$D$12&\",reference:=StartOfSession)=\"&A56&\"\", \"Bar\", \"\", \"Close\",\"5\",\"0\",\"PrimaryOnly\",,,\"False\",\"T\",\"EveryTick\")","v":120.046875},-1.1700468018720749E-3,{"$f":"RTD(\"cqg.rtd\",,\"StudyData\", \"Close(\"&$D$12&\") when LocalYear(\"&$D$12&\")=\"&$D$10&\" and localMonth(\"&$D$12&\") =\"&$E$10&\" and LocalDay(\"&$D$12&\")=\"&$F$10&\" and Barix(\"&$D$12&\",reference:=StartOfSession)=\"&A56&\"\", \"Bar\", \"\", \"Close\",\"5\",\"0\",\"PrimaryOnly\",,,\"False\",\"T\",\"EveryTick\")","v":120.25},5.2002080083203334E-4,null,null,null,""]
[236,"12:40:00",-21,{"$f":" RTD(\"cqg.rtd\",,\"StudyData\", $D$12,  \"Tick\", \"FlatTicks=0\", \"Tick\",\"D\",C57,\"PrimaryOnly\")","v":120.328125},null,null,null,{"$f":"RTD(\"cqg.rtd\",,\"StudyData\", \"Close(\"&$D$12&\") when LocalYear(\"&$D$12&\")=\"&$D$1&\" and localMonth(\"&$D$12&\") =\"&$E$1&\" and LocalDay(\"&$D$12&\")=\"&$F$1&\" and Barix(\"&$D$12&\",reference:=StartOfSession)=\"&A57&\"\", \"Bar\", \"\", \"Close\",\"5\",\"0\",\"PrimaryOnly\",,,\"False\",\"T\",\"EveryTick\")","v":""},{"$error":"#N/A"},{"$f":"RTD(\"cqg.rtd\",,\"StudyData\", \"Close(\"&$D$12&\") when LocalYear(\"&$D$12&\")=\"&$D$2&\" and localMonth(\"&$D$12&\") =\"&$E$2&\" and LocalDay(\"&$D$12&\")=\"&$F$2&\" and Barix(\"&$D$12&\",reference:=StartOfSession)=\"&A57&\"\", \"Bar\", \"\", \"Close\",\"5\",\"0\",\"PrimaryOnly\",,,\"False\",\"T\",\"EveryTick\")","v":120.171875},-6.4968814968814972E-4,{"$f":"RTD(\"cqg.rtd\",,\"StudyData\", \"Close(\"&$D$12&\") when LocalYear(\"&$D$12&\")=\"&$D$3&\" and localMonth(\"&$D$12&\") =\"&$E$3&\" and LocalDay(\"&$D$12&\")=\"&$F$3&\" and Barix(\"&$D$12&\",reference:=StartOfSession)=\"&A57&\"\", \"Bar\", \"\", \"Close\",\"5\",\"0\",\"PrimaryOnly\",,,\"False\",\"T\",\"EveryTick\")","v":120.140625},1.0415310506444472E-3,{"$f":"RTD(\"cqg.rtd\",,\"StudyData\", \"Close(\"&$D$12&\") when LocalYear(\"&$D$12&\")=\"&$D$4&\" and localMonth(\"&$D$12&\") =\"&$E$4&\" and LocalDay(\"&$D$12&\")=\"&$F$4&\" and Barix(\"&$D$12&\",reference:=StartOfSession)=\"&A57&\"\", \"Bar\", \"\", \"Close\",\"5\",\"0\",\"PrimaryOnly\",,,\"False\",\"T\",\"EveryTick\")","v":120.0625},-5.2029136316337154E-4,{"$f":"RTD(\"cqg.rtd\",,\"StudyData\", \"Close(\"&$D$12&\") when LocalYear(\"&$D$12&\")=\"&$D$5&\" and localMonth(\"&$D$12&\") =\"&$E$5&\" and LocalDay(\"&$D$12&\")=\"&$F$5&\" and Barix(\"&$D$12&\",reference:=StartOfSession)=\"&A57&\"\", \"Bar\", \"\", \"Close\",\"5\",\"0\",\"PrimaryOnly\",,,\"False\",\"T\",\"EveryTick\")","v":120.140625},-1.6878732796676188E-3,{"$f":"RTD(\"cqg.rtd\",,\"StudyData\", \"Close(\"&$D$12&\") when LocalYear(\"&$D$12&\")=\"&$D$6&\" and localMonth(\"&$D$12&\") =\"&$E$6&\" and LocalDay(\"&$D$12&\")=\"&$F$6&\" and Barix(\"&$D$12&\",reference:=StartOfSession)=\"&A57&\"\", \"Bar\", \"\", \"Close\",\"5\",\"0\",\"PrimaryOnly\",,,\"False\",\"T\",\"EveryTick\")","v":120.3125},5.1975051975051978E-4,{"$f":"RTD(\"cqg.rtd\",,\"StudyData\", \"Close(\"&$D$12&\") when LocalYear(\"&$D$12&\")=\"&$D$7&\" and localMonth(\"&$D$12&\") =\"&$E$7&\" and LocalDay(\"&$D$12&\")=\"&$F$7&\" and Barix(\"&$D$12&\",reference:=StartOfSession)=\"&A57&\"\", \"Bar\", \"\", \"Close\",\"5\",\"0\",\"PrimaryOnly\",,,\"False\",\"T\",\"EveryTick\")","v":120.296875},-1.2987012987012987E-4,{"$f":"RTD(\"cqg.rtd\",,\"StudyData\", \"Close(\"&$D$12&\") when LocalYear(\"&$D$12&\")=\"&$D$8&\" and localMonth(\"&$D$12&\") =\"&$E$8&\" and LocalDay(\"&$D$12&\")=\"&$F$8&\" and Barix(\"&$D$12&\",reference:=StartOfSession)=\"&A57&\"\", \"Bar\", \"\", \"Close\",\"5\",\"0\",\"PrimaryOnly\",,,\"False\",\"T\",\"EveryTick\")","v":120.34375},2.2121014964216006E-3,{"$f":"RTD(\"cqg.rtd\",,\"StudyData\", \"Close(\"&$D$12&\") when LocalYear(\"&$D$12&\")=\"&$D$9&\" and localMonth(\"&$D$12&\") =\"&$E$9&\" and LocalDay(\"&$D$12&\")=\"&$F$9&\" and Barix(\"&$D$12&\",reference:=StartOfSession)=\"&A57&\"\", \"Bar\", \"\", \"Close\",\"5\",\"0\",\"PrimaryOnly\",,,\"False\",\"T\",\"EveryTick\")","v":120.0625},-1.0400416016640667E-3,{"$f":"RTD(\"cqg.rtd\",,\"StudyData\", \"Close(\"&$D$12&\") when LocalYear(\"&$D$12&\")=\"&$D$10&\" and localMonth(\"&$D$12&\") =\"&$E$10&\" and LocalDay(\"&$D$12&\")=\"&$F$10&\" and Barix(\"&$D$12&\",reference:=StartOfSession)=\"&A57&\"\", \"Bar\", \"\", \"Close\",\"5\",\"0\",\"PrimaryOnly\",,,\"False\",\"T\",\"EveryTick\")","v":120.25},5.2002080083203334E-4,null,null,null,""]
[237,"12:45:00",-20,{"$f":" RTD(\"cqg.rtd\",,\"StudyData\", $D$12,  \"Tick\", \"FlatTicks=0\", \"Tick\",\"D\",C58,\"PrimaryOnly\")","v":120.3125},null,null,null,{"$f":"RTD(\"cqg.rtd\",,\"StudyData\", \"Close(\"&$D$12&\") when LocalYear(\"&$D$12&\")=\"&$D$1&\" and localMonth(\"&$D$12&\") =\"&$E$1&\" and LocalDay(\"&$D$12&\")=\"&$F$1&\" and Barix(\"&$D$12&\",reference:=StartOfSession)=\"&A58&\"\", \"Bar\", \"\", \"Close\",\"5\",\"0\",\"PrimaryOnly\",,,\"False\",\"T\",\"EveryTick\")","v":""},{"$error":"#N/A"},{"$f":"RTD(\"cqg.rtd\",,\"StudyData\", \"Close(\"&$D$12&\") when LocalYear(\"&$D$12&\")=\"&$D$2&\" and localMonth(\"&$D$12&\") =\"&$E$2&\" and LocalDay(\"&$D$12&\")=\"&$F$2&\" and Barix(\"&$D$12&\",reference:=StartOfSession)=\"&A58&\"\", \"Bar\", \"\", \"Close\",\"5\",\"0\",\"PrimaryOnly\",,,\"False\",\"T\",\"EveryTick\")","v":120.1875},-5.1975051975051978E-4,{"$f":"RTD(\"cqg.rtd\",,\"StudyData\", \"Close(\"&$D$12&\") when LocalYear(\"&$D$12&\")=\"&$D$3&\" and localMonth(\"&$D$12&\") =\"&$E$3&\" and LocalDay(\"&$D$12&\")=\"&$F$3&\" and Barix(\"&$D$12&\",reference:=StartOfSession)=\"&A58&\"\", \"Bar\", \"\", \"Close\",\"5\",\"0\",\"PrimaryOnly\",,,\"False\",\"T\",\"EveryTick\")","v":120.125},9.1133966931389147E-4,{"$f":"RTD(\"cqg.rtd\",,\"StudyData\", \"Close(\"&$D$12&\") when LocalYear(\"&$D$12&\")=\"&$D$4&\" and localMonth(\"&$D$12&\") =\"&$E$4&\" and LocalDay(\"&$D$12&\")=\"&$F$4&\" and Barix(\"&$D$12&\",reference:=StartOfSession)=\"&A58&\"\", \"Bar\", \"\", \"Close\",\"5\",\"0\",\"PrimaryOnly\",,,\"False\",\"T\",\"EveryTick\")","v":120.078125},-3.902185223725286E-4,{"$f":"RTD(\"cqg.rtd\",,\"StudyData\", \"Close(\"&$D$12&\") when LocalYear(\"&$D$12&\")=\"&$D$5&\" and localMonth(\"&$D$12&\") =\"&$E$5&\" and LocalDay(\"&$D$12&\")=\"&$F$5&\" and Barix(\"&$D$12&\",reference:=StartOfSession)=\"&A58&\"\", \"Bar\", \"\", \"Close\",\"5\",\"0\",\"PrimaryOnly\",,,\"False\",\"T\",\"EveryTick\")","v":120.140625},-1.6878732796676188E-3,{"$f":"RTD(\"cqg.rtd\",,\"StudyData\", \"Close(\"&$D$12&\") when LocalYear(\"&$D$12&\")=\"&$D$6&\" and localMonth(\"&$D$12&\") =\"&$E$6&\" and LocalDay(\"&$D$12&\")=\"&$F$6&\" and Barix(\"&$D$12&\",reference:=StartOfSession)=\"&A58&\"\", \"Bar\", \"\", \"Close\",\"5\",\"0\",\"PrimaryOnly\",,,\"False\",\"T\",\"EveryTick\")","v":120.296875},3.8981288981288983E-4,{"$f":"RTD(\"cqg.rtd\",,\"StudyData\", \"Close(\"&$D$12&\") when LocalYear(\"&$D$12&\")=\"&$D$7&\" and localMonth(\"&$D$12&\") =\"&$E$7&\" and LocalDay(\"&$D$12&\")=\"&$F$7&\" and Barix(\"&$D$12&\",reference:=StartOfSession)=\"&A58&\"\", \"Bar\", \"\", \"Close\",\"5\",\"0\",\"PrimaryOnly\",,,\"False\",\"T\",\"EveryTick\")","v":120.296875},-1.2987012987012987E-4,{"$f":"RTD(\"cqg.rtd\",,\"StudyData\", \"Close(\"&$D$12&\") when LocalYear(\"&$D$12&\")=\"&$D$8&\" and localMonth(\"&$D$12&\") =\"&$E$8&\" and LocalDay(\"&$D$12&\")=\"&$F$8&\" and Barix(\"&$D$12&\",reference:=StartOfSession)=\"&A58&\"\", \"Bar\", \"\", \"Close\",\"5\",\"0\",\"PrimaryOnly\",,,\"False\",\"T\",\"EveryTick\")","v":120.359375},2.3422251138581654E-3,{"$f":"RTD(\"cqg.rtd\",,\"StudyData\", \"Close(\"&$D$12&\") when LocalYear(\"&$D$12&\")=\"&$D$9&\" and localMonth(\"&$D$12&\") =\"&$E$9&\" and LocalDay(\"&$D$12&\")=\"&$F$9&\" and Barix(\"&$D$12&\",reference:=StartOfSession)=\"&A58&\"\", \"Bar\", \"\", \"Close\",\"5\",\"0\",\"PrimaryOnly\",,,\"False\",\"T\",\"EveryTick\")","v":120.03125},-1.3000520020800832E-3,{"$f":"RTD(\"cqg.rtd\",,\"StudyData\", \"Close(\"&$D$12&\") when LocalYear(\"&$D$12&\")=\"&$D$10&\" and localMonth(\"&$D$12&\") =\"&$E$10&\" and LocalDay(\"&$D$12&\")=\"&$F$10&\" and Barix(\"&$D$12&\",reference:=StartOfSession)=\"&A58&\"\", \"Bar\", \"\", \"Close\",\"5\",\"0\",\"PrimaryOnly\",,,\"False\",\"T\",\"EveryTick\")","v":120.25},5.2002080083203334E-4,null,null,null,""]
[238,"12:50:00",-19,{"$f":" RTD(\"cqg.rtd\",,\"StudyData\", $D$12,  \"Tick\", \"FlatTicks=0\", \"Tick\",\"D\",C59,\"PrimaryOnly\")","v":120.328125},null,null,null,{"$f":"RTD(\"cqg.rtd\",,\"StudyData\", \"Close(\"&$D$12&\") when LocalYear(\"&$D$12&\")=\"&$D$1&\" and localMonth(\"&$D$12&\") =\"&$E$1&\" and LocalDay(\"&$D$12&\")=\"&$F$1&\" and Barix(\"&$D$12&\",reference:=StartOfSession)=\"&A59&\"\", \"Bar\", \"\", \"Close\",\"5\",\"0\",\"PrimaryOnly\",,,\"False\",\"T\",\"EveryTick\")","v":""},{"$error":"#N/A"},{"$f":"RTD(\"cqg.rtd\",,\"StudyData\", \"Close(\"&$D$12&\") when LocalYear(\"&$D$12&\")=\"&$D$2&\" and localMonth(\"&$D$12&\") =\"&$E$2&\" and LocalDay(\"&$D$12&\")=\"&$F$2&\" and Barix(\"&$D$12&\",reference:=StartOfSession)=\"&A59&\"\", \"Bar\", \"\", \"Close\",\"5\",\"0\",\"PrimaryOnly\",,,\"False\",\"T\",\"EveryTick\")","v":120.1875},-5.1975051975051978E-4,{"$f":"RTD(\"cqg.rtd\",,\"StudyData\", \"Close(\"&$D$12&\") when LocalYear(\"&$D$12&\")=\"&$D$3&\" and localMonth(\"&$D$12&\") =\"&$E$3&\" and LocalDay(\"&$D$12&\")=\"&$F$3&\" and Barix(\"&$D$12&\",reference:=StartOfSession)=\"&A59&\"\", \"Bar\", \"\", \"Close\",\"5\",\"0\",\"PrimaryOnly\",,,\"False\",\"T\",\"EveryTick\")","v":120.15625},1.1717224319750033E-3,{"$f":"RTD(\"cqg.rtd\",,\"StudyData\", \"Close(\"&$D$12&\") when LocalYear(\"&$D$12&\")=\"&$D$4&\" and localMonth(\"&$D$12&\") =\"&$E$4&\" and LocalDay(\"&$D$12&\")=\"&$F$4&\" and Barix(\"&$D$12&\",reference:=StartOfSession)=\"&A59&\"\", \"Bar\", \"\", \"Close\",\"5\",\"0\",\"PrimaryOnly\",,,\"False\",\"T\",\"EveryTick\")","v":120.078125},-3.902185223725286E-4,{"$f":"RTD(\"cqg.rtd\",,\"StudyData\", \"Close(\"&$D$12&\") when LocalYear(\"&$D$12&\")=\"&$D$5&\" and localMonth(\"&$D$12&\") =\"&$E$5&\" and LocalDay(\"&$D$12&\")=\"&$F$5&\" and Barix(\"&$D$12&\",reference:=StartOfSession)=\"&A59&\"\", \"Bar\", \"\", \"Close\",\"5\",\"0\",\"PrimaryOnly\",,,\"False\",\"T\",\"EveryTick\")","v":120.125},-1.8177096857958971E-3,{"$f":"RTD(\"cqg.rtd\",,\"StudyData\", \"Close(\"&$D$12&\") when LocalYear(\"&$D$12&\")=\"&$D$6&\" and localMonth(\"&$D$12&\") =\"&$E$6&\" and LocalDay(\"&$D$12&\")=\"&$F$6&\" and Barix(\"&$D$12&\",reference:=StartOfSession)=\"&A59&\"\", \"Bar\", \"\", \"Close\",\"5\",\"0\",\"PrimaryOnly\",,,\"False\",\"T\",\"EveryTick\")","v":120.3125},5.1975051975051978E-4,{"$f":"RTD(\"cqg.rtd\",,\"StudyData\", \"Close(\"&$D$12&\") when LocalYear(\"&$D$12&\")=\"&$D$7&\" and localMonth(\"&$D$12&\") =\"&$E$7&\" and LocalDay(\"&$D$12&\")=\"&$F$7&\" and Barix(\"&$D$12&\",reference:=StartOfSession)=\"&A59&\"\", \"Bar\", \"\", \"Close\",\"5\",\"0\",\"PrimaryOnly\",,,\"False\",\"T\",\"EveryTick\")","v":120.296875},-1.2987012987012987E-4,{"$f":"RTD(\"cqg.rtd\",,\"StudyData\", \"Close(\"&$D$12&\") when LocalYear(\"&$D$12&\")=\"&$D$8&\" and localMonth(\"&$D$12&\") =\"&$E$8&\" and LocalDay(\"&$D$12&\")=\"&$F$8&\" and Barix(\"&$D$12&\",reference:=StartOfSession)=\"&A59&\"\", \"Bar\", \"\", \"Close\",\"5\",\"0\",\"PrimaryOnly\",,,\"False\",\"T\",\"EveryTick\")","v":120.359375},2.3422251138581654E-3,{"$f":"RTD(\"cqg.rtd\",,\"StudyData\", \"Close(\"&$D$12&\") when LocalYear(\"&$D$12&\")=\"&$D$9&\" and localMonth(\"&$D$12&\") =\"&$E$9&\" and LocalDay(\"&$D$12&\")=\"&$F$9&\" and Barix(\"&$D$12&\",reference:=StartOfSession)=\"&A59&\"\", \"Bar\", \"\", \"Close\",\"5\",\"0\",\"PrimaryOnly\",,,\"False\",\"T\",\"EveryTick\")","v":120.0625},-1.0400416016640667E-3,{"$f":"RTD(\"cqg.rtd\",,\"StudyData\", \"Close(\"&$D$12&\") when LocalYear(\"&$D$12&\")=\"&$D$10&\" and localMonth(\"&$D$12&\") =\"&$E$10&\" and LocalDay(\"&$D$12&\")=\"&$F$10&\" and Barix(\"&$D$12&\",reference:=StartOfSession)=\"&A59&\"\", \"Bar\", \"\", \"Close\",\"5\",\"0\",\"PrimaryOnly\",,,\"False\",\"T\",\"EveryTick\")","v":120.25},5.2002080083203334E-4,null,null,null,""]
[239,"12:55:00",-18,{"$f":" RTD(\"cqg.rtd\",,\"StudyData\", $D$12,  \"Tick\", \"FlatTicks=0\", \"Tick\",\"D\",C60,\"PrimaryOnly\")","v":120.3125},null,null,null,{"$f":"RTD(\"cqg.rtd\",,\"StudyData\", \"Close(\"&$D$12&\") when LocalYear(\"&$D$12&\")=\"&$D$1&\" and localMonth(\"&$D$12&\") =\"&$E$1&\" and LocalDay(\"&$D$12&\")=\"&$F$1&\" and Barix(\"&$D$12&\",reference:=StartOfSession)=\"&A60&\"\", \"Bar\", \"\", \"Close\",\"5\",\"0\",\"PrimaryOnly\",,,\"False\",\"T\",\"EveryTick\")","v":""},{"$error":"#N/A"},{"$f":"RTD(\"cqg.rtd\",,\"StudyData\", \"Close(\"&$D$12&\") when LocalYear(\"&$D$12&\")=\"&$D$2&\" and localMonth(\"&$D$12&\") =\"&$E$2&\" and LocalDay(\"&$D$12&\")=\"&$F$2&\" and Barix(\"&$D$12&\",reference:=StartOfSession)=\"&A60&\"\", \"Bar\", \"\", \"Close\",\"5\",\"0\",\"PrimaryOnly\",,,\"False\",\"T\",\"EveryTick\")","v":120.1875},-5.1975051975051978E-4,{"$f":"RTD(\"cqg.rtd\",,\"StudyData\", \"Close(\"&$D$12&\") when LocalYear(\"&$D$12&\")=\"&$D$3&\" and localMonth(\"&$D$12&\") =\"&$E$3&\" and LocalDay(\"&$D$12&\")=\"&$F$3&\" and Barix(\"&$D$12&\",reference:=StartOfSession)=\"&A60&\"\", \"Bar\", \"\", \"Close\",\"5\",\"0\",\"PrimaryOnly\",,,\"False\",\"T\",\"EveryTick\")","v":120.171875},1.3019138133055592E-3,{"$f":"RTD(\"cqg.rtd\",,\"StudyData\", \"Close(\"&$D$12&\") when LocalYear(\"&$D$12&\")=\"&$D$4&\" and localMonth(\"&$D$12&\") =\"&$E$4&\" and LocalDay(\"&$D$12&\")=\"&$F$4&\" and Barix(\"&$D$12&\",reference:=StartOfSession)=\"&A60&\"\", \"Bar\", \"\", \"Close\",\"5\",\"0\",\"PrimaryOnly\",,,\"False\",\"T\",\"EveryTick\")","v":120.09375},-2.6014568158168577E-4,{"$f":"RTD(\"cqg.rtd\",,\"StudyData\", \"Close(\"&$D$12&\") when LocalYear(\"&$D$12&\")=\"&$D$5&\" and localMonth(\"&$D$12&\") =\"&$E$5&\" and LocalDay(\"&$D$12&\")=\"&$F$5&\" and Barix(\"&$D$12&\",reference:=StartOfSession)=\"&A60&\"\", \"Bar\", \"\", \"Close\",\"5\",\"0\",\"PrimaryOnly\",,,\"False\",\"T\",\"EveryTick\")","v":120.125},-1.8177096857958971E-3,{"$f":"RTD(\"cqg.rtd\",,\"StudyData\", \"Close(\"&$D$12&\") when LocalYear(\"&$D$12&\")=\"&$D$6&\" and localMonth(\"&$D$12&\") =\"&$E$6&\" and LocalDay(\"&$D$12&\")=\"&$F$6&\" and Barix(\"&$D$12&\",reference:=StartOfSession)=\"&A60&\"\", \"Bar\", \"\", \"Close\",\"5\",\"0\",\"PrimaryOnly\",,,\"False\",\"T\",\"EveryTick\")","v":120.3125},5.1975051975051978E-4,{"$f":"RTD(\"cqg.rtd\",,\"StudyData\", \"Close(\"&$D$12&\") when LocalYear(\"&$D$12&\")=\"&$D$7&\" and localMonth(\"&$D$12&\") =\"&$E$7&\" and LocalDay(\"&$D$12&\")=\"&$F$7&\" and Barix(\"&$D$12&\",reference:=StartOfSession)=\"&A60&\"\", \"Bar\", \"\", \"Close\",\"5\",\"0\",\"PrimaryOnly\",,,\"False\",\"T\",\"EveryTick\")","v":120.296875},-1.2987012987012987E-4,{"$f":"RTD(\"cqg.rtd\",,\"StudyData\", \"Close(\"&$D$12&\") when LocalYear(\"&$D$12&\")=\"&$D$8&\" and localMonth(\"&$D$12&\") =\"&$E$8&\" and LocalDay(\"&$D$12&\")=\"&$F$8&\" and Barix(\"&$D$12&\",reference:=StartOfSession)=\"&A60&\"\", \"Bar\", \"\", \"Close\",\"5\",\"0\",\"PrimaryOnly\",,,\"False\",\"T\",\"EveryTick\")","v":120.34375},2.2121014964216006E-3,{"$f":"RTD(\"cqg.rtd\",,\"StudyData\", \"Close(\"&$D$12&\") when LocalYear(\"&$D$12&\")=\"&$D$9&\" and localMonth(\"&$D$12&\") =\"&$E$9&\" and LocalDay(\"&$D$12&\")=\"&$F$9&\" and Barix(\"&$D$12&\",reference:=StartOfSession)=\"&A60&\"\", \"Bar\", \"\", \"Close\",\"5\",\"0\",\"PrimaryOnly\",,,\"False\",\"T\",\"EveryTick\")","v":120.078125},-9.100364014560582E-4,{"$f":"RTD(\"cqg.rtd\",,\"StudyData\", \"Close(\"&$D$12&\") when LocalYear(\"&$D$12&\")=\"&$D$10&\" and localMonth(\"&$D$12&\") =\"&$E$10&\" and LocalDay(\"&$D$12&\")=\"&$F$10&\" and Barix(\"&$D$12&\",reference:=StartOfSession)=\"&A60&\"\", \"Bar\", \"\", \"Close\",\"5\",\"0\",\"PrimaryOnly\",,,\"False\",\"T\",\"EveryTick\")","v":120.265625},6.5002600104004159E-4,null,null,null,""]
[240,"13:00:00",-17,{"$f":" RTD(\"cqg.rtd\",,\"StudyData\", $D$12,  \"Tick\", \"FlatTicks=0\", \"Tick\",\"D\",C61,\"PrimaryOnly\")","v":120.328125},null,null,null,{"$f":"RTD(\"cqg.rtd\",,\"StudyData\", \"Close(\"&$D$12&\") when LocalYear(\"&$D$12&\")=\"&$D$1&\" and localMonth(\"&$D$12&\") =\"&$E$1&\" and LocalDay(\"&$D$12&\")=\"&$F$1&\" and Barix(\"&$D$12&\",reference:=StartOfSession)=\"&A61&\"\", \"Bar\", \"\", \"Close\",\"5\",\"0\",\"PrimaryOnly\",,,\"False\",\"T\",\"EveryTick\")","v":""},{"$error":"#N/A"},{"$f":"RTD(\"cqg.rtd\",,\"StudyData\", \"Close(\"&$D$12&\") when LocalYear(\"&$D$12&\")=\"&$D$2&\" and localMonth(\"&$D$12&\") =\"&$E$2&\" and LocalDay(\"&$D$12&\")=\"&$F$2&\" and Barix(\"&$D$12&\",reference:=StartOfSession)=\"&A61&\"\", \"Bar\", \"\", \"Close\",\"5\",\"0\",\"PrimaryOnly\",,,\"False\",\"T\",\"EveryTick\")","v":120.1875},-5.1975051975051978E-4,{"$f":"RTD(\"cqg.rtd\",,\"StudyData\", \"Close(\"&$D$12&\") when LocalYear(\"&$D$12&\")=\"&$D$3&\" and localMonth(\"&$D$12&\") =\"&$E$3&\" and LocalDay(\"&$D$12&\")=\"&$F$3&\" and Barix(\"&$D$12&\",reference:=StartOfSession)=\"&A61&\"\", \"Bar\", \"\", \"Close\",\"5\",\"0\",\"PrimaryOnly\",,,\"False\",\"T\",\"EveryTick\")","v":120.171875},1.3019138133055592E-3,{"$f":"RTD(\"cqg.rtd\",,\"StudyData\", \"Close(\"&$D$12&\") when LocalYear(\"&$D$12&\")=\"&$D$4&\" and localMonth(\"&$D$12&\") =\"&$E$4&\" and LocalDay(\"&$D$12&\")=\"&$F$4&\" and Barix(\"&$D$12&\",reference:=StartOfSession)=\"&A61&\"\", \"Bar\", \"\", \"Close\",\"5\",\"0\",\"PrimaryOnly\",,,\"False\",\"T\",\"EveryTick\")","v":120.09375},-2.6014568158168577E-4,{"$f":"RTD(\"cqg.rtd\",,\"StudyData\", \"Close(\"&$D$12&\") when LocalYear(\"&$D$12&\")=\"&$D$5&\" and localMonth(\"&$D$12&\") =\"&$E$5&\" and LocalDay(\"&$D$12&\")=\"&$F$5&\" and Barix(\"&$D$12&\",reference:=StartOfSession)=\"&A61&\"\", \"Bar\", \"\", \"Close\",\"5\",\"0\",\"PrimaryOnly\",,,\"False\",\"T\",\"EveryTick\")","v":120.140625},-1.6878732796676188E-3,{"$f":"RTD(\"cqg.rtd\",,\"StudyData\", \"Close(\"&$D$12&\") when LocalYear(\"&$D$12&\")=\"&$D$6&\" and localMonth(\"&$D$12&\") =\"&$E$6&\" and LocalDay(\"&$D$12&\")=\"&$F$6&\" and Barix(\"&$D$12&\",reference:=StartOfSession)=\"&A61&\"\", \"Bar\", \"\", \"Close\",\"5\",\"0\",\"PrimaryOnly\",,,\"False\",\"T\",\"EveryTick\")","v":120.34375},7.7962577962577967E-4,{"$f":"RTD(\"cqg.rtd\",,\"StudyData\", \"Close(\"&$D$12&\") when LocalYear(\"&$D$12&\")=\"&$D$7&\" and localMonth(\"&$D$12&\") =\"&$E$7&\" and LocalDay(\"&$D$12&\")=\"&$F$7&\" and Barix(\"&$D$12&\",reference:=StartOfSession)=\"&A61&\"\", \"Bar\", \"\", \"Close\",\"5\",\"0\",\"PrimaryOnly\",,,\"False\",\"T\",\"EveryTick\")","v":120.296875},-1.2987012987012987E-4,{"$f":"RTD(\"cqg.rtd\",,\"StudyData\", \"Close(\"&$D$12&\") when LocalYear(\"&$D$12&\")=\"&$D$8&\" and localMonth(\"&$D$12&\") =\"&$E$8&\" and LocalDay(\"&$D$12&\")=\"&$F$8&\" and Barix(\"&$D$12&\",reference:=StartOfSession)=\"&A61&\"\", \"Bar\", \"\", \"Close\",\"5\",\"0\",\"PrimaryOnly\",,,\"False\",\"T\",\"EveryTick\")","v":120.359375},2.3422251138581654E-3,{"$f":"RTD(\"cqg.rtd\",,\"StudyData\", \"Close(\"&$D$12&\") when LocalYear(\"&$D$12&\")=\"&$D$9&\" and localMonth(\"&$D$12&\") =\"&$E$9&\" and LocalDay(\"&$D$12&\")=\"&$F$9&\" and Barix(\"&$D$12&\",reference:=StartOfSession)=\"&A61&\"\", \"Bar\", \"\", \"Close\",\"5\",\"0\",\"PrimaryOnly\",,,\"False\",\"T\",\"EveryTick\")","v":120.078125},-9.100364014560582E-4,{"$f":"RTD(\"cqg.rtd\",,\"StudyData\", \"Close(\"&$D$12&\") when LocalYear(\"&$D$12&\")=\"&$D$10&\" and localMonth(\"&$D$12&\") =\"&$E$10&\" and LocalDay(\"&$D$12&\")=\"&$F$10&\" and Barix(\"&$D$12&\",reference:=StartOfSession)=\"&A61&\"\", \"Bar\", \"\", \"Close\",\"5\",\"0\",\"PrimaryOnly\",,,\"False\",\"T\",\"EveryTick\")","v":120.28125},7.8003120124804995E-4,null,null,null,""]
[241,"13:05:00",-16,{"$f":" RTD(\"cqg.rtd\",,\"StudyData\", $D$12,  \"Tick\", \"FlatTicks=0\", \"Tick\",\"D\",C62,\"PrimaryOnly\")","v":120.3125},null,null,null,{"$f":"RTD(\"cqg.rtd\",,\"StudyData\", \"Close(\"&$D$12&\") when LocalYear(\"&$D$12&\")=\"&$D$1&\" and localMonth(\"&$D$12&\") =\"&$E$1&\" and LocalDay(\"&$D$12&\")=\"&$F$1&\" and Barix(\"&$D$12&\",reference:=StartOfSession)=\"&A62&\"\", \"Bar\", \"\", \"Close\",\"5\",\"0\",\"PrimaryOnly\",,,\"False\",\"T\",\"EveryTick\")","v":""},{"$error":"#N/A"},{"$f":"RTD(\"cqg.rtd\",,\"StudyData\", \"Close(\"&$D$12&\") when LocalYear(\"&$D$12&\")=\"&$D$2&\" and localMonth(\"&$D$12&\") =\"&$E$2&\" and LocalDay(\"&$D$12&\")=\"&$F$2&\" and Barix(\"&$D$12&\",reference:=StartOfSession)=\"&A62&\"\", \"Bar\", \"\", \"Close\",\"5\",\"0\",\"PrimaryOnly\",,,\"False\",\"T\",\"EveryTick\")","v":120.1875},-5.1975051975051978E-4,{"$f":"RTD(\"cqg.rtd\",,\"StudyData\", \"Close(\"&$D$12&\") when LocalYear(\"&$D$12&\")=\"&$D$3&\" and localMonth(\"&$D$12&\") =\"&$E$3&\" and LocalDay(\"&$D$12&\")=\"&$F$3&\" and Barix(\"&$D$12&\",reference:=StartOfSession)=\"&A62&\"\", \"Bar\", \"\", \"Close\",\"5\",\"0\",\"PrimaryOnly\",,,\"False\",\"T\",\"EveryTick\")","v":120.21875},1.6924879572972268E-3,{"$f":"RTD(\"cqg.rtd\",,\"StudyData\", \"Close(\"&$D$12&\") when LocalYear(\"&$D$12&\")=\"&$D$4&\" and localMonth(\"&$D$12&\") =\"&$E$4&\" and LocalDay(\"&$D$12&\")=\"&$F$4&\" and Barix(\"&$D$12&\",reference:=StartOfSession)=\"&A62&\"\", \"Bar\", \"\", \"Close\",\"5\",\"0\",\"PrimaryOnly\",,,\"False\",\"T\",\"EveryTick\")","v":120.0625},-5.2029136316337154E-4,{"$f":"RTD(\"cqg.rtd\",,\"StudyData\", \"Close(\"&$D$12&\") when LocalYear(\"&$D$12&\")=\"&$D$5&\" and localMonth(\"&$D$12&\") =\"&$E$5&\" and LocalDay(\"&$D$12&\")=\"&$F$5&\" and Barix(\"&$D$12&\",reference:=StartOfSession)=\"&A62&\"\", \"Bar\", \"\", \"Close\",\"5\",\"0\",\"PrimaryOnly\",,,\"False\",\"T\",\"EveryTick\")","v":120.140625},-1.6878732796676188E-3,{"$f":"RTD(\"cqg.rtd\",,\"StudyData\", \"Close(\"&$D$12&\") when LocalYear(\"&$D$12&\")=\"&$D$6&\" and localMonth(\"&$D$12&\") =\"&$E$6&\" and LocalDay(\"&$D$12&\")=\"&$F$6&\" and Barix(\"&$D$12&\",reference:=StartOfSession)=\"&A62&\"\", \"Bar\", \"\", \"Close\",\"5\",\"0\",\"PrimaryOnly\",,,\"False\",\"T\",\"EveryTick\")","v":120.296875},3.8981288981288983E-4,{"$f":"RTD(\"cqg.rtd\",,\"StudyData\", \"Close(\"&$D$12&\") when LocalYear(\"&$D$12&\")=\"&$D$7&\" and localMonth(\"&$D$12&\") =\"&$E$7&\" and LocalDay(\"&$D$12&\")=\"&$F$7&\" and Barix(\"&$D$12&\",reference:=StartOfSession)=\"&A62&\"\", \"Bar\", \"\", \"Close\",\"5\",\"0\",\"PrimaryOnly\",,,\"False\",\"T\",\"EveryTick\")","v":120.328125},1.2987012987012987E-4,{"$f":"RTD(\"cqg.rtd\",,\"StudyData\", \"Close(\"&$D$12&\") when LocalYear(\"&$D$12&\")=\"&$D$8&\" and localMonth(\"&$D$12&\") =\"&$E$8&\" and LocalDay(\"&$D$12&\")=\"&$F$8&\" and Barix(\"&$D$12&\",reference:=StartOfSession)=\"&A62&\"\", \"Bar\", \"\", \"Close\",\"5\",\"0\",\"PrimaryOnly\",,,\"False\",\"T\",\"EveryTick\")","v":120.34375},2.2121014964216006E-3,{"$f":"RTD(\"cqg.rtd\",,\"StudyData\", \"Close(\"&$D$12&\") when LocalYear(\"&$D$12&\")=\"&$D$9&\" and localMonth(\"&$D$12&\") =\"&$E$9&\" and LocalDay(\"&$D$12&\")=\"&$F$9&\" and Barix(\"&$D$12&\",reference:=StartOfSession)=\"&A62&\"\", \"Bar\", \"\", \"Close\",\"5\",\"0\",\"PrimaryOnly\",,,\"False\",\"T\",\"EveryTick\")","v":120.078125},-9.100364014560582E-4,{"$f":"RTD(\"cqg.rtd\",,\"StudyData\", \"Close(\"&$D$12&\") when LocalYear(\"&$D$12&\")=\"&$D$10&\" and localMonth(\"&$D$12&\") =\"&$E$10&\" and LocalDay(\"&$D$12&\")=\"&$F$10&\" and Barix(\"&$D$12&\",reference:=StartOfSession)=\"&A62&\"\", \"Bar\", \"\", \"Close\",\"5\",\"0\",\"PrimaryOnly\",,,\"False\",\"T\",\"EveryTick\")","v":120.28125},7.8003120124804995E-4,null,null,null,""]
[242,"13:10:00",-15,{"$f":" RTD(\"cqg.rtd\",,\"StudyData\", $D$12,  \"Tick\", \"FlatTicks=0\", \"Tick\",\"D\",C63,\"PrimaryOnly\")","v":120.328125},null,null,null,{"$f":"RTD(\"cqg.rtd\",,\"StudyData\", \"Close(\"&$D$12&\") when LocalYear(\"&$D$12&\")=\"&$D$1&\" and localMonth(\"&$D$12&\") =\"&$E$1&\" and LocalDay(\"&$D$12&\")=\"&$F$1&\" and Barix(\"&$D$12&\",reference:=StartOfSession)=\"&A63&\"\", \"Bar\", \"\", \"Close\",\"5\",\"0\",\"PrimaryOnly\",,,\"False\",\"T\",\"EveryTick\")","v":""},{"$error":"#N/A"},{"$f":"RTD(\"cqg.rtd\",,\"StudyData\", \"Close(\"&$D$12&\") when LocalYear(\"&$D$12&\")=\"&$D$2&\" and localMonth(\"&$D$12&\") =\"&$E$2&\" and LocalDay(\"&$D$12&\")=\"&$F$2&\" and Barix(\"&$D$12&\",reference:=StartOfSession)=\"&A63&\"\", \"Bar\", \"\", \"Close\",\"5\",\"0\",\"PrimaryOnly\",,,\"False\",\"T\",\"EveryTick\")","v":120.1875},-5.1975051975051978E-4,{"$f":"RTD(\"cqg.rtd\",,\"StudyData\", \"Close(\"&$D$12&\") when LocalYear(\"&$D$12&\")=\"&$D$3&\" and localMonth(\"&$D$12&\") =\"&$E$3&\" and LocalDay(\"&$D$12&\")=\"&$F$3&\" and Barix(\"&$D$12&\",reference:=StartOfSession)=\"&A63&\"\", \"Bar\", \"\", \"Close\",\"5\",\"0\",\"PrimaryOnly\",,,\"False\",\"T\",\"EveryTick\")","v":120.265625},2.0830621012888945E-3,{"$f":"RTD(\"cqg.rtd\",,\"StudyData\", \"Close(\"&$D$12&\") when LocalYear(\"&$D$12&\")=\"&$D$4&\" and localMonth(\"&$D$12&\") =\"&$E$4&\" and LocalDay(\"&$D$12&\")=\"&$F$4&\" and Barix(\"&$D$12&\",reference:=StartOfSession)=\"&A63&\"\", \"Bar\", \"\", \"Close\",\"5\",\"0\",\"PrimaryOnly\",,,\"False\",\"T\",\"EveryTick\")","v":120.0625},-5.2029136316337154E-4,{"$f":"RTD(\"cqg.rtd\",,\"StudyData\", \"Close(\"&$D$12&\") when LocalYear(\"&$D$12&\")=\"&$D$5&\" and localMonth(\"&$D$12&\") =\"&$E$5&\" and LocalDay(\"&$D$12&\")=\"&$F$5&\" and Barix(\"&$D$12&\",reference:=StartOfSession)=\"&A63&\"\", \"Bar\", \"\", \"Close\",\"5\",\"0\",\"PrimaryOnly\",,,\"False\",\"T\",\"EveryTick\")","v":120.125},-1.8177096857958971E-3,{"$f":"RTD(\"cqg.rtd\",,\"StudyData\", \"Close(\"&$D$12&\") when LocalYear(\"&$D$12&\")=\"&$D$6&\" and localMonth(\"&$D$12&\") =\"&$E$6&\" and LocalDay(\"&$D$12&\")=\"&$F$6&\" and Barix(\"&$D$12&\",reference:=StartOfSession)=\"&A63&\"\", \"Bar\", \"\", \"Close\",\"5\",\"0\",\"PrimaryOnly\",,,\"False\",\"T\",\"EveryTick\")","v":120.3125},5.1975051975051978E-4,{"$f":"RTD(\"cqg.rtd\",,\"StudyData\", \"Close(\"&$D$12&\") when LocalYear(\"&$D$12&\")=\"&$D$7&\" and localMonth(\"&$D$12&\") =\"&$E$7&\" and LocalDay(\"&$D$12&\")=\"&$F$7&\" and Barix(\"&$D$12&\",reference:=StartOfSession)=\"&A63&\"\", \"Bar\", \"\", \"Close\",\"5\",\"0\",\"PrimaryOnly\",,,\"False\",\"T\",\"EveryTick\")","v":120.328125},1.2987012987012987E-4,{"$f":"RTD(\"cqg.rtd\",,\"StudyData\", \"Close(\"&$D$12&\") when LocalYear(\"&$D$12&\")=\"&$D$8&\" and localMonth(\"&$D$12&\") =\"&$E$8&\" and LocalDay(\"&$D$12&\")=\"&$F$8&\" and Barix(\"&$D$12&\",reference:=StartOfSession)=\"&A63&\"\", \"Bar\", \"\", \"Close\",\"5\",\"0\",\"PrimaryOnly\",,,\"False\",\"T\",\"EveryTick\")","v":120.359375},2.3422251138581654E-3,{"$f":"RTD(\"cqg.rtd\",,\"StudyData\", \"Close(\"&$D$12&\") when LocalYear(\"&$D$12&\")=\"&$D$9&\" and localMonth(\"&$D$12&\") =\"&$E$9&\" and LocalDay(\"&$D$12&\")=\"&$F$9&\" and Barix(\"&$D$12&\",reference:=StartOfSession)=\"&A63&\"\", \"Bar\", \"\", \"Close\",\"5\",\"0\",\"PrimaryOnly\",,,\"False\",\"T\",\"EveryTick\")","v":120.078125},-9.100364014560582E-4,{"$f":"RTD(\"cqg.rtd\",,\"StudyData\", \"Close(\"&$D$12&\") when LocalYear(\"&$D$12&\")=\"&$D$10&\" and localMonth(\"&$D$12&\") =\"&$E$10&\" and LocalDay(\"&$D$12&\")=\"&$F$10&\" and Barix(\"&$D$12&\",reference:=StartOfSession)=\"&A63&\"\", \"Bar\", \"\", \"Close\",\"5\",\"0\",\"PrimaryOnly\",,,\"False\",\"T\",\"EveryTick\")","v":120.265625},6.5002600104004159E-4,null,null,null,""]
[243,"13:15:00",-14,{"$f":" RTD(\"cqg.rtd\",,\"StudyData\", $D$12,  \"Tick\", \"FlatTicks=0\", \"Tick\",\"D\",C64,\"PrimaryOnly\")","v":120.3125},null,null,null,{"$f":"RTD(\"cqg.rtd\",,\"StudyData\", \"Close(\"&$D$12&\") when LocalYear(\"&$D$12&\")=\"&$D$1&\" and localMonth(\"&$D$12&\") =\"&$E$1&\" and LocalDay(\"&$D$12&\")=\"&$F$1&\" and Barix(\"&$D$12&\",reference:=StartOfSession)=\"&A64&\"\", \"Bar\", \"\", \"Close\",\"5\",\"0\",\"PrimaryOnly\",,,\"False\",\"T\",\"EveryTick\")","v":""},{"$error":"#N/A"},{"$f":"RTD(\"cqg.rtd\",,\"StudyData\", \"Close(\"&$D$12&\") when LocalYear(\"&$D$12&\")=\"&$D$2&\" and localMonth(\"&$D$12&\") =\"&$E$2&\" and LocalDay(\"&$D$12&\")=\"&$F$2&\" and Barix(\"&$D$12&\",reference:=StartOfSession)=\"&A64&\"\", \"Bar\", \"\", \"Close\",\"5\",\"0\",\"PrimaryOnly\",,,\"False\",\"T\",\"EveryTick\")","v":120.1875},-5.1975051975051978E-4,{"$f":"RTD(\"cqg.rtd\",,\"StudyData\", \"Close(\"&$D$12&\") when LocalYear(\"&$D$12&\")=\"&$D$3&\" and localMonth(\"&$D$12&\") =\"&$E$3&\" and LocalDay(\"&$D$12&\")=\"&$F$3&\" and Barix(\"&$D$12&\",reference:=StartOfSession)=\"&A64&\"\", \"Bar\", \"\", \"Close\",\"5\",\"0\",\"PrimaryOnly\",,,\"False\",\"T\",\"EveryTick\")","v":120.28125},2.2132534826194506E-3,{"$f":"RTD(\"cqg.rtd\",,\"StudyData\", \"Close(\"&$D$12&\") when LocalYear(\"&$D$12&\")=\"&$D$4&\" and localMonth(\"&$D$12&\") =\"&$E$4&\" and LocalDay(\"&$D$12&\")=\"&$F$4&\" and Barix(\"&$D$12&\",reference:=StartOfSession)=\"&A64&\"\", \"Bar\", \"\", \"Close\",\"5\",\"0\",\"PrimaryOnly\",,,\"False\",\"T\",\"EveryTick\")","v":120.0625},-5.2029136316337154E-4,{"$f":"RTD(\"cqg.rtd\",,\"StudyData\", \"Close(\"&$D$12&\") when LocalYear(\"&$D$12&\")=\"&$D$5&\" and localMonth(\"&$D$12&\") =\"&$E$5&\" and LocalDay(\"&$D$12&\")=\"&$F$5&\" and Barix(\"&$D$12&\",reference:=StartOfSession)=\"&A64&\"\", \"Bar\", \"\", \"Close\",\"5\",\"0\",\"PrimaryOnly\",,,\"False\",\"T\",\"EveryTick\")","v":120.125},-1.8177096857958971E-3,{"$f":"RTD(\"cqg.rtd\",,\"StudyData\", \"Close(\"&$D$12&\") when LocalYear(\"&$D$12&\")=\"&$D$6&\" and localMonth(\"&$D$12&\") =\"&$E$6&\" and LocalDay(\"&$D$12&\")=\"&$F$6&\" and Barix(\"&$D$12&\",reference:=StartOfSession)=\"&A64&\"\", \"Bar\", \"\", \"Close\",\"5\",\"0\",\"PrimaryOnly\",,,\"False\",\"T\",\"EveryTick\")","v":120.328125},6.4968814968814972E-4,{"$f":"RTD(\"cqg.rtd\",,\"StudyData\", \"Close(\"&$D$12&\") when LocalYear(\"&$D$12&\")=\"&$D$7&\" and localMonth(\"&$D$12&\") =\"&$E$7&\" and LocalDay(\"&$D$12&\")=\"&$F$7&\" and Barix(\"&$D$12&\",reference:=StartOfSession)=\"&A64&\"\", \"Bar\", \"\", \"Close\",\"5\",\"0\",\"PrimaryOnly\",,,\"False\",\"T\",\"EveryTick\")","v":120.265625},-3.8961038961038961E-4,{"$f":"RTD(\"cqg.rtd\",,\"StudyData\", \"Close(\"&$D$12&\") when LocalYear(\"&$D$12&\")=\"&$D$8&\" and localMonth(\"&$D$12&\") =\"&$E$8&\" and LocalDay(\"&$D$12&\")=\"&$F$8&\" and Barix(\"&$D$12&\",reference:=StartOfSession)=\"&A64&\"\", \"Bar\", \"\", \"Close\",\"5\",\"0\",\"PrimaryOnly\",,,\"False\",\"T\",\"EveryTick\")","v":120.34375},2.2121014964216006E-3,{"$f":"RTD(\"cqg.rtd\",,\"StudyData\", \"Close(\"&$D$12&\") when LocalYear(\"&$D$12&\")=\"&$D$9&\" and localMonth(\"&$D$12&\") =\"&$E$9&\" and LocalDay(\"&$D$12&\")=\"&$F$9&\" and Barix(\"&$D$12&\",reference:=StartOfSession)=\"&A64&\"\", \"Bar\", \"\", \"Close\",\"5\",\"0\",\"PrimaryOnly\",,,\"False\",\"T\",\"EveryTick\")","v":120.0625},-1.0400416016640667E-3,{"$f":"RTD(\"cqg.rtd\",,\"StudyData\", \"Close(\"&$D$12&\") when LocalYear(\"&$D$12&\")=\"&$D$10&\" and localMonth(\"&$D$12&\") =\"&$E$10&\" and LocalDay(\"&$D$12&\")=\"&$F$10&\" and Barix(\"&$D$12&\",reference:=StartOfSession)=\"&A64&\"\", \"Bar\", \"\", \"Close\",\"5\",\"0\",\"PrimaryOnly\",,,\"False\",\"T\",\"EveryTick\")","v":120.25},5.2002080083203334E-4,null,null,null,""]
[244,"13:20:00",-13,{"$f":" RTD(\"cqg.rtd\",,\"StudyData\", $D$12,  \"Tick\", \"FlatTicks=0\", \"Tick\",\"D\",C65,\"PrimaryOnly\")","v":120.328125},null,null,null,{"$f":"RTD(\"cqg.rtd\",,\"StudyData\", \"Close(\"&$D$12&\") when LocalYear(\"&$D$12&\")=\"&$D$1&\" and localMonth(\"&$D$12&\") =\"&$E$1&\" and LocalDay(\"&$D$12&\")=\"&$F$1&\" and Barix(\"&$D$12&\",reference:=StartOfSession)=\"&A65&\"\", \"Bar\", \"\", \"Close\",\"5\",\"0\",\"PrimaryOnly\",,,\"False\",\"T\",\"EveryTick\")","v":""},{"$error":"#N/A"},{"$f":"RTD(\"cqg.rtd\",,\"StudyData\", \"Close(\"&$D$12&\") when LocalYear(\"&$D$12&\")=\"&$D$2&\" and localMonth(\"&$D$12&\") =\"&$E$2&\" and LocalDay(\"&$D$12&\")=\"&$F$2&\" and Barix(\"&$D$12&\",reference:=StartOfSession)=\"&A65&\"\", \"Bar\", \"\", \"Close\",\"5\",\"0\",\"PrimaryOnly\",,,\"False\",\"T\",\"EveryTick\")","v":120.1875},-5.1975051975051978E-4,{"$f":"RTD(\"cqg.rtd\",,\"StudyData\", \"Close(\"&$D$12&\") when LocalYear(\"&$D$12&\")=\"&$D$3&\" and localMonth(\"&$D$12&\") =\"&$E$3&\" and LocalDay(\"&$D$12&\")=\"&$F$3&\" and Barix(\"&$D$12&\",reference:=StartOfSession)=\"&A65&\"\", \"Bar\", \"\", \"Close\",\"5\",\"0\",\"PrimaryOnly\",,,\"False\",\"T\",\"EveryTick\")","v":120.265625},2.0830621012888945E-3,{"$f":"RTD(\"cqg.rtd\",,\"StudyData\", \"Close(\"&$D$12&\") when LocalYear(\"&$D$12&\")=\"&$D$4&\" and localMonth(\"&$D$12&\") =\"&$E$4&\" and LocalDay(\"&$D$12&\")=\"&$F$4&\" and Barix(\"&$D$12&\",reference:=StartOfSession)=\"&A65&\"\", \"Bar\", \"\", \"Close\",\"5\",\"0\",\"PrimaryOnly\",,,\"False\",\"T\",\"EveryTick\")","v":120.0625},-5.2029136316337154E-4,{"$f":"RTD(\"cqg.rtd\",,\"StudyData\", \"Close(\"&$D$12&\") when LocalYear(\"&$D$12&\")=\"&$D$5&\" and localMonth(\"&$D$12&\") =\"&$E$5&\" and LocalDay(\"&$D$12&\")=\"&$F$5&\" and Barix(\"&$D$12&\",reference:=StartOfSession)=\"&A65&\"\", \"Bar\", \"\", \"Close\",\"5\",\"0\",\"PrimaryOnly\",,,\"False\",\"T\",\"EveryTick\")","v":120.140625},-1.6878732796676188E-3,{"$f":"RTD(\"cqg.rtd\",,\"StudyData\", \"Close(\"&$D$12&\") when LocalYear(\"&$D$12&\")=\"&$D$6&\" and localMonth(\"&$D$12&\") =\"&$E$6&\" and LocalDay(\"&$D$12&\")=\"&$F$6&\" and Barix(\"&$D$12&\",reference:=StartOfSession)=\"&A65&\"\", \"Bar\", \"\", \"Close\",\"5\",\"0\",\"PrimaryOnly\",,,\"False\",\"T\",\"EveryTick\")","v":120.296875},3.8981288981288983E-4,{"$f":"RTD(\"cqg.rtd\",,\"StudyData\", \"Close(\"&$D$12&\") when LocalYear(\"&$D$12&\")=\"&$D$7&\" and localMonth(\"&$D$12&\") =\"&$E$7&\" and LocalDay(\"&$D$12&\")=\"&$F$7&\" and Barix(\"&$D$12&\",reference:=StartOfSession)=\"&A65&\"\", \"Bar\", \"\", \"Close\",\"5\",\"0\",\"PrimaryOnly\",,,\"False\",\"T\",\"EveryTick\")","v":120.28125},-2.5974025974025974E-4,{"$f":"RTD(\"cqg.rtd\",,\"StudyData\", \"Close(\"&$D$12&\") when LocalYear(\"&$D$12&\")=\"&$D$8&\" and localMonth(\"&$D$12&\") =\"&$E$8&\" and LocalDay(\"&$D$12&\")=\"&$F$8&\" and Barix(\"&$D$12&\",reference:=StartOfSession)=\"&A65&\"\", \"Bar\", \"\", \"Close\",\"5\",\"0\",\"PrimaryOnly\",,,\"False\",\"T\",\"EveryTick\")","v":120.359375},2.3422251138581654E-3,{"$f":"RTD(\"cqg.rtd\",,\"StudyData\", \"Close(\"&$D$12&\") when LocalYear(\"&$D$12&\")=\"&$D$9&\" and localMonth(\"&$D$12&\") =\"&$E$9&\" and LocalDay(\"&$D$12&\")=\"&$F$9&\" and Barix(\"&$D$12&\",reference:=StartOfSession)=\"&A65&\"\", \"Bar\", \"\", \"Close\",\"5\",\"0\",\"PrimaryOnly\",,,\"False\",\"T\",\"EveryTick\")","v":120.0625},-1.0400416016640667E-3,{"$f":"RTD(\"cqg.rtd\",,\"StudyData\", \"Close(\"&$D$12&\") when LocalYear(\"&$D$12&\")=\"&$D$10&\" and localMonth(\"&$D$12&\") =\"&$E$10&\" and LocalDay(\"&$D$12&\")=\"&$F$10&\" and Barix(\"&$D$12&\",reference:=StartOfSession)=\"&A65&\"\", \"Bar\", \"\", \"Close\",\"5\",\"0\",\"PrimaryOnly\",,,\"False\",\"T\",\"EveryTick\")","v":120.25},5.2002080083203334E-4,null,null,null,""]
[245,"13:25:00",-12,{"$f":" RTD(\"cqg.rtd\",,\"StudyData\", $D$12,  \"Tick\", \"FlatTicks=0\", \"Tick\",\"D\",C66,\"PrimaryOnly\")","v":120.3125},null,null,null,{"$f":"RTD(\"cqg.rtd\",,\"StudyData\", \"Close(\"&$D$12&\") when LocalYear(\"&$D$12&\")=\"&$D$1&\" and localMonth(\"&$D$12&\") =\"&$E$1&\" and LocalDay(\"&$D$12&\")=\"&$F$1&\" and Barix(\"&$D$12&\",reference:=StartOfSession)=\"&A66&\"\", \"Bar\", \"\", \"Close\",\"5\",\"0\",\"PrimaryOnly\",,,\"False\",\"T\",\"EveryTick\")","v":""},{"$error":"#N/A"},{"$f":"RTD(\"cqg.rtd\",,\"StudyData\", \"Close(\"&$D$12&\") when LocalYear(\"&$D$12&\")=\"&$D$2&\" and localMonth(\"&$D$12&\") =\"&$E$2&\" and LocalDay(\"&$D$12&\")=\"&$F$2&\" and Barix(\"&$D$12&\",reference:=StartOfSession)=\"&A66&\"\", \"Bar\", \"\", \"Close\",\"5\",\"0\",\"PrimaryOnly\",,,\"False\",\"T\",\"EveryTick\")","v":120.1875},{"$f":"IFERROR((J66-$G$3)/$G$3,NA())","v":-5.1975051975051978E-4},{"$f":"RTD(\"cqg.rtd\",,\"StudyData\", \"Close(\"&$D$12&\") when LocalYear(\"&$D$12&\")=\"&$D$3&\" and localMonth(\"&$D$12&\") =\"&$E$3&\" and LocalDay(\"&$D$12&\")=\"&$F$3&\" and Barix(\"&$D$12&\",reference:=StartOfSession)=\"&A66&\"\", \"Bar\", \"\", \"Close\",\"5\",\"0\",\"PrimaryOnly\",,,\"False\",\"T\",\"EveryTick\")","v":120.234375},{"$f":"IFERROR((L66-$G$4)/$G$4,NA())","v":1.8226793386277829E-3},{"$f":"RTD(\"cqg.rtd\",,\"StudyData\", \"Close(\"&$D$12&\") when LocalYear(\"&$D$12&\")=\"&$D$4&\" and localMonth(\"&$D$12&\") =\"&$E$4&\" and LocalDay(\"&$D$12&\")=\"&$F$4&\" and Barix(\"&$D$12&\",reference:=StartOfSession)=\"&A66&\"\", \"Bar\", \"\", \"Close\",\"5\",\"0\",\"PrimaryOnly\",,,\"False\",\"T\",\"EveryTick\")","v":120.0625},{"$f":"IFERROR((N66-$G$5)/$G$5,NA())","v":-5.2029136316337154E-4},{"$f":"RTD(\"cqg.rtd\",,\"StudyData\", \"Close(\"&$D$12&\") when LocalYear(\"&$D$12&\")=\"&$D$5&\" and localMonth(\"&$D$12&\") =\"&$E$5&\" and LocalDay(\"&$D$12&\")=\"&$F$5&\" and Barix(\"&$D$12&\",reference:=StartOfSession)=\"&A66&\"\", \"Bar\", \"\", \"Close\",\"5\",\"0\",\"PrimaryOnly\",,,\"False\",\"T\",\"EveryTick\")","v":120.109375},{"$f":"IFERROR((P66-$G$6)/$G$6,NA())","v":-1.9475460919241756E-3},{"$f":"RTD(\"cqg.rtd\",,\"StudyData\", \"Close(\"&$D$12&\") when LocalYear(\"&$D$12&\")=\"&$D$6&\" and localMonth(\"&$D$12&\") =\"&$E$6&\" and LocalDay(\"&$D$12&\")=\"&$F$6&\" and Barix(\"&$D$12&\",reference:=StartOfSession)=\"&A66&\"\", \"Bar\", \"\", \"Close\",\"5\",\"0\",\"PrimaryOnly\",,,\"False\",\"T\",\"EveryTick\")","v":120.296875},{"$f":"IFERROR((R66-$G$7)/$G$7,NA())","v":3.8981288981288983E-4},{"$f":"RTD(\"cqg.rtd\",,\"StudyData\", \"Close(\"&$D$12&\") when LocalYear(\"&$D$12&\")=\"&$D$7&\" and localMonth(\"&$D$12&\") =\"&$E$7&\" and LocalDay(\"&$D$12&\")=\"&$F$7&\" and Barix(\"&$D$12&\",reference:=StartOfSession)=\"&A66&\"\", \"Bar\", \"\", \"Close\",\"5\",\"0\",\"PrimaryOnly\",,,\"False\",\"T\",\"EveryTick\")","v":120.265625},{"$f":"IFERROR((T66-$G$8)/$G$8,NA())","v":-3.8961038961038961E-4},{"$f":"RTD(\"cqg.rtd\",,\"StudyData\", \"Close(\"&$D$12&\") when LocalYear(\"&$D$12&\")=\"&$D$8&\" and localMonth(\"&$D$12&\") =\"&$E$8&\" and LocalDay(\"&$D$12&\")=\"&$F$8&\" and Barix(\"&$D$12&\",reference:=StartOfSession)=\"&A66&\"\", \"Bar\", \"\", \"Close\",\"5\",\"0\",\"PrimaryOnly\",,,\"False\",\"T\",\"EveryTick\")","v":120.359375},{"$f":"IFERROR((V66-$G$9)/$G$9,NA())","v":2.3422251138581654E-3},{"$f":"RTD(\"cqg.rtd\",,\"StudyData\", \"Close(\"&$D$12&\") when LocalYear(\"&$D$12&\")=\"&$D$9&\" and localMonth(\"&$D$12&\") =\"&$E$9&\" and LocalDay(\"&$D$12&\")=\"&$F$9&\" and Barix(\"&$D$12&\",reference:=StartOfSession)=\"&A66&\"\", \"Bar\", \"\", \"Close\",\"5\",\"0\",\"PrimaryOnly\",,,\"False\",\"T\",\"EveryTick\")","v":120.078125},{"$f":"IFERROR((X66-$G$10)/$G$10,NA())","v":-9.100364014560582E-4},{"$f":"RTD(\"cqg.rtd\",,\"StudyData\", \"Close(\"&$D$12&\") when LocalYear(\"&$D$12&\")=\"&$D$10&\" and localMonth(\"&$D$12&\") =\"&$E$10&\" and LocalDay(\"&$D$12&\")=\"&$F$10&\" and Barix(\"&$D$12&\",reference:=StartOfSession)=\"&A66&\"\", \"Bar\", \"\", \"Close\",\"5\",\"0\",\"PrimaryOnly\",,,\"False\",\"T\",\"EveryTick\")","v":120.25},{"$f":"IFERROR((Z66-$G$11)/$G$11,NA())","v":5.2002080083203334E-4},null,null,null,""]
[{"$f":"A66+1","v":246},"13:30:00",-11,{"$f":" RTD(\"cqg.rtd\",,\"StudyData\", $D$12,  \"Tick\", \"FlatTicks=0\", \"Tick\",\"D\",C67,\"PrimaryOnly\")","v":120.328125},null,null,null,{"$f":"RTD(\"cqg.rtd\",,\"StudyData\", \"Close(\"&$D$12&\") when LocalYear(\"&$D$12&\")=\"&$D$1&\" and localMonth(\"&$D$12&\") =\"&$E$1&\" and LocalDay(\"&$D$12&\")=\"&$F$1&\" and Barix(\"&$D$12&\",reference:=StartOfSession)=\"&A67&\"\", \"Bar\", \"\", \"Close\",\"5\",\"0\",\"PrimaryOnly\",,,\"False\",\"T\",\"EveryTick\")","v":""},{"$f":"IFERROR((H67-$G$2)/$G$2,NA())","v":{"$error":"#N/A"}},{"$f":"RTD(\"cqg.rtd\",,\"StudyData\", \"Close(\"&$D$12&\") when LocalYear(\"&$D$12&\")=\"&$D$2&\" and localMonth(\"&$D$12&\") =\"&$E$2&\" and LocalDay(\"&$D$12&\")=\"&$F$2&\" and Barix(\"&$D$12&\",reference:=StartOfSession)=\"&A67&\"\", \"Bar\", \"\", \"Close\",\"5\",\"0\",\"PrimaryOnly\",,,\"False\",\"T\",\"EveryTick\")","v":120.171875},-6.4968814968814972E-4,{"$f":"RTD(\"cqg.rtd\",,\"StudyData\", \"Close(\"&$D$12&\") when LocalYear(\"&$D$12&\")=\"&$D$3&\" and localMonth(\"&$D$12&\") =\"&$E$3&\" and LocalDay(\"&$D$12&\")=\"&$F$3&\" and Barix(\"&$D$12&\",reference:=StartOfSession)=\"&A67&\"\", \"Bar\", \"\", \"Close\",\"5\",\"0\",\"PrimaryOnly\",,,\"False\",\"T\",\"EveryTick\")","v":120.25},1.9528707199583388E-3,{"$f":"RTD(\"cqg.rtd\",,\"StudyData\", \"Close(\"&$D$12&\") when LocalYear(\"&$D$12&\")=\"&$D$4&\" and localMonth(\"&$D$12&\") =\"&$E$4&\" and LocalDay(\"&$D$12&\")=\"&$F$4&\" and Barix(\"&$D$12&\",reference:=StartOfSession)=\"&A67&\"\", \"Bar\", \"\", \"Close\",\"5\",\"0\",\"PrimaryOnly\",,,\"False\",\"T\",\"EveryTick\")","v":120.046875},-6.5036420395421437E-4,{"$f":"RTD(\"cqg.rtd\",,\"StudyData\", \"Close(\"&$D$12&\") when LocalYear(\"&$D$12&\")=\"&$D$5&\" and localMonth(\"&$D$12&\") =\"&$E$5&\" and LocalDay(\"&$D$12&\")=\"&$F$5&\" and Barix(\"&$D$12&\",reference:=StartOfSession)=\"&A67&\"\", \"Bar\", \"\", \"Close\",\"5\",\"0\",\"PrimaryOnly\",,,\"False\",\"T\",\"EveryTick\")","v":120.125},-1.8177096857958971E-3,{"$f":"RTD(\"cqg.rtd\",,\"StudyData\", \"Close(\"&$D$12&\") when LocalYear(\"&$D$12&\")=\"&$D$6&\" and localMonth(\"&$D$12&\") =\"&$E$6&\" and LocalDay(\"&$D$12&\")=\"&$F$6&\" and Barix(\"&$D$12&\",reference:=StartOfSession)=\"&A67&\"\", \"Bar\", \"\", \"Close\",\"5\",\"0\",\"PrimaryOnly\",,,\"False\",\"T\",\"EveryTick\")","v":120.3125},5.1975051975051978E-4,{"$f":"RTD(\"cqg.rtd\",,\"StudyData\", \"Close(\"&$D$12&\") when LocalYear(\"&$D$12&\")=\"&$D$7&\" and localMonth(\"&$D$12&\") =\"&$E$7&\" and LocalDay(\"&$D$12&\")=\"&$F$7&\" and Barix(\"&$D$12&\",reference:=StartOfSession)=\"&A67&\"\", \"Bar\", \"\", \"Close\",\"5\",\"0\",\"PrimaryOnly\",,,\"False\",\"T\",\"EveryTick\")","v":120.234375},-6.4935064935064935E-4,{"$f":"RTD(\"cqg.rtd\",,\"StudyData\", \"Close(\"&$D$12&\") when LocalYear(\"&$D$12&\")=\"&$D$8&\" and localMonth(\"&$D$12&\") =\"&$E$8&\" and LocalDay(\"&$D$12&\")=\"&$F$8&\" and Barix(\"&$D$12&\",reference:=StartOfSession)=\"&A67&\"\", \"Bar\", \"\", \"Close\",\"5\",\"0\",\"PrimaryOnly\",,,\"False\",\"T\",\"EveryTick\")","v":120.359375},2.3422251138581654E-3,{"$f":"RTD(\"cqg.rtd\",,\"StudyData\", \"Close(\"&$D$12&\") when LocalYear(\"&$D$12&\")=\"&$D$9&\" and localMonth(\"&$D$12&\") =\"&$E$9&\" and LocalDay(\"&$D$12&\")=\"&$F$9&\" and Barix(\"&$D$12&\",reference:=StartOfSession)=\"&A67&\"\", \"Bar\", \"\", \"Close\",\"5\",\"0\",\"PrimaryOnly\",,,\"False\",\"T\",\"EveryTick\")","v":120.09375},-7.8003120124804995E-4,{"$f":"RTD(\"cqg.rtd\",,\"StudyData\", \"Close(\"&$D$12&\") when LocalYear(\"&$D$12&\")=\"&$D$10&\" and localMonth(\"&$D$12&\") =\"&$E$10&\" and LocalDay(\"&$D$12&\")=\"&$F$10&\" and Barix(\"&$D$12&\",reference:=StartOfSession)=\"&A67&\"\", \"Bar\", \"\", \"Close\",\"5\",\"0\",\"PrimaryOnly\",,,\"False\",\"T\",\"EveryTick\")","v":120.25},5.2002080083203334E-4,null,null,null,{"$f":"IF(AND(H66<>\"\",H67<>\"\",H68=\"\"),A67,\"\")","v":""}]
[247,"13:35:00",-10,{"$f":" RTD(\"cqg.rtd\",,\"StudyData\", $D$12,  \"Tick\", \"FlatTicks=0\", \"Tick\",\"D\",C68,\"PrimaryOnly\")","v":120.3125},null,null,null,{"$f":"RTD(\"cqg.rtd\",,\"StudyData\", \"Close(\"&$D$12&\") when LocalYear(\"&$D$12&\")=\"&$D$1&\" and localMonth(\"&$D$12&\") =\"&$E$1&\" and LocalDay(\"&$D$12&\")=\"&$F$1&\" and Barix(\"&$D$12&\",reference:=StartOfSession)=\"&A68&\"\", \"Bar\", \"\", \"Close\",\"5\",\"0\",\"PrimaryOnly\",,,\"False\",\"T\",\"EveryTick\")","v":""},{"$error":"#N/A"},{"$f":"RTD(\"cqg.rtd\",,\"StudyData\", \"Close(\"&$D$12&\") when LocalYear(\"&$D$12&\")=\"&$D$2&\" and localMonth(\"&$D$12&\") =\"&$E$2&\" and LocalDay(\"&$D$12&\")=\"&$F$2&\" and Barix(\"&$D$12&\",reference:=StartOfSession)=\"&A68&\"\", \"Bar\", \"\", \"Close\",\"5\",\"0\",\"PrimaryOnly\",,,\"False\",\"T\",\"EveryTick\")","v":120.1875},-5.1975051975051978E-4,{"$f":"RTD(\"cqg.rtd\",,\"StudyData\", \"Close(\"&$D$12&\") when LocalYear(\"&$D$12&\")=\"&$D$3&\" and localMonth(\"&$D$12&\") =\"&$E$3&\" and LocalDay(\"&$D$12&\")=\"&$F$3&\" and Barix(\"&$D$12&\",reference:=StartOfSession)=\"&A68&\"\", \"Bar\", \"\", \"Close\",\"5\",\"0\",\"PrimaryOnly\",,,\"False\",\"T\",\"EveryTick\")","v":120.25},1.9528707199583388E-3,{"$f":"RTD(\"cqg.rtd\",,\"StudyData\", \"Close(\"&$D$12&\") when LocalYear(\"&$D$12&\")=\"&$D$4&\" and localMonth(\"&$D$12&\") =\"&$E$4&\" and LocalDay(\"&$D$12&\")=\"&$F$4&\" and Barix(\"&$D$12&\",reference:=StartOfSession)=\"&A68&\"\", \"Bar\", \"\", \"Close\",\"5\",\"0\",\"PrimaryOnly\",,,\"False\",\"T\",\"EveryTick\")","v":120.046875},-6.5036420395421437E-4,{"$f":"RTD(\"cqg.rtd\",,\"StudyData\", \"Close(\"&$D$12&\") when LocalYear(\"&$D$12&\")=\"&$D$5&\" and localMonth(\"&$D$12&\") =\"&$E$5&\" and LocalDay(\"&$D$12&\")=\"&$F$5&\" and Barix(\"&$D$12&\",reference:=StartOfSession)=\"&A68&\"\", \"Bar\", \"\", \"Close\",\"5\",\"0\",\"PrimaryOnly\",,,\"False\",\"T\",\"EveryTick\")","v":120.125},-1.8177096857958971E-3,{"$f":"RTD(\"cqg.rtd\",,\"StudyData\", \"Close(\"&$D$12&\") when LocalYear(\"&$D$12&\")=\"&$D$6&\" and localMonth(\"&$D$12&\") =\"&$E$6&\" and LocalDay(\"&$D$12&\")=\"&$F$6&\" and Barix(\"&$D$12&\",reference:=StartOfSession)=\"&A68&\"\", \"Bar\", \"\", \"Close\",\"5\",\"0\",\"PrimaryOnly\",,,\"False\",\"T\",\"EveryTick\")","v":120.34375},7.7962577962577967E-4,{"$f":"RTD(\"cqg.rtd\",,\"StudyData\", \"Close(\"&$D$12&\") when LocalYear(\"&$D$12&\")=\"&$D$7&\" and localMonth(\"&$D$12&\") =\"&$E$7&\" and LocalDay(\"&$D$12&\")=\"&$F$7&\" and Barix(\"&$D$12&\",reference:=StartOfSession)=\"&A68&\"\", \"Bar\", \"\", \"Close\",\"5\",\"0\",\"PrimaryOnly\",,,\"False\",\"T\",\"EveryTick\")","v":120.265625},-3.8961038961038961E-4,{"$f":"RTD(\"cqg.rtd\",,\"StudyData\", \"Close(\"&$D$12&\") when LocalYear(\"&$D$12&\")=\"&$D$8&\" and localMonth(\"&$D$12&\") =\"&$E$8&\" and LocalDay(\"&$D$12&\")=\"&$F$8&\" and Barix(\"&$D$12&\",reference:=StartOfSession)=\"&A68&\"\", \"Bar\", \"\", \"Close\",\"5\",\"0\",\"PrimaryOnly\",,,\"False\",\"T\",\"EveryTick\")","v":120.375},2.4723487312947301E-3,{"$f":"RTD(\"cqg.rtd\",,\"StudyData\", \"Close(\"&$D$12&\") when LocalYear(\"&$D$12&\")=\"&$D$9&\" and localMonth(\"&$D$12&\") =\"&$E$9&\" and LocalDay(\"&$D$12&\")=\"&$F$9&\" and Barix(\"&$D$12&\",reference:=StartOfSession)=\"&A68&\"\", \"Bar\", \"\", \"Close\",\"5\",\"0\",\"PrimaryOnly\",,,\"False\",\"T\",\"EveryTick\")","v":120.109375},-6.5002600104004159E-4,{"$f":"RTD(\"cqg.rtd\",,\"StudyData\", \"Close(\"&$D$12&\") when LocalYear(\"&$D$12&\")=\"&$D$10&\" and localMonth(\"&$D$12&\") =\"&$E$10&\" and LocalDay(\"&$D$12&\")=\"&$F$10&\" and Barix(\"&$D$12&\",reference:=StartOfSession)=\"&A68&\"\", \"Bar\", \"\", \"Close\",\"5\",\"0\",\"PrimaryOnly\",,,\"False\",\"T\",\"EveryTick\")","v":120.265625},6.5002600104004159E-4,null,null,null,""]
[248,"13:40:00",-9,{"$f":" RTD(\"cqg.rtd\",,\"StudyData\", $D$12,  \"Tick\", \"FlatTicks=0\", \"Tick\",\"D\",C69,\"PrimaryOnly\")","v":120.328125},null,null,null,{"$f":"RTD(\"cqg.rtd\",,\"StudyData\", \"Close(\"&$D$12&\") when LocalYear(\"&$D$12&\")=\"&$D$1&\" and localMonth(\"&$D$12&\") =\"&$E$1&\" and LocalDay(\"&$D$12&\")=\"&$F$1&\" and Barix(\"&$D$12&\",reference:=StartOfSession)=\"&A69&\"\", \"Bar\", \"\", \"Close\",\"5\",\"0\",\"PrimaryOnly\",,,\"False\",\"T\",\"EveryTick\")","v":""},{"$error":"#N/A"},{"$f":"RTD(\"cqg.rtd\",,\"StudyData\", \"Close(\"&$D$12&\") when LocalYear(\"&$D$12&\")=\"&$D$2&\" and localMonth(\"&$D$12&\") =\"&$E$2&\" and LocalDay(\"&$D$12&\")=\"&$F$2&\" and Barix(\"&$D$12&\",reference:=StartOfSession)=\"&A69&\"\", \"Bar\", \"\", \"Close\",\"5\",\"0\",\"PrimaryOnly\",,,\"False\",\"T\",\"EveryTick\")","v":120.1875},-5.1975051975051978E-4,{"$f":"RTD(\"cqg.rtd\",,\"StudyData\", \"Close(\"&$D$12&\") when LocalYear(\"&$D$12&\")=\"&$D$3&\" and localMonth(\"&$D$12&\") =\"&$E$3&\" and LocalDay(\"&$D$12&\")=\"&$F$3&\" and Barix(\"&$D$12&\",reference:=StartOfSession)=\"&A69&\"\", \"Bar\", \"\", \"Close\",\"5\",\"0\",\"PrimaryOnly\",,,\"False\",\"T\",\"EveryTick\")","v":120.234375},1.8226793386277829E-3,{"$f":"RTD(\"cqg.rtd\",,\"StudyData\", \"Close(\"&$D$12&\") when LocalYear(\"&$D$12&\")=\"&$D$4&\" and localMonth(\"&$D$12&\") =\"&$E$4&\" and LocalDay(\"&$D$12&\")=\"&$F$4&\" and Barix(\"&$D$12&\",reference:=StartOfSession)=\"&A69&\"\", \"Bar\", \"\", \"Close\",\"5\",\"0\",\"PrimaryOnly\",,,\"False\",\"T\",\"EveryTick\")","v":120.046875},-6.5036420395421437E-4,{"$f":"RTD(\"cqg.rtd\",,\"StudyData\", \"Close(\"&$D$12&\") when LocalYear(\"&$D$12&\")=\"&$D$5&\" and localMonth(\"&$D$12&\") =\"&$E$5&\" and LocalDay(\"&$D$12&\")=\"&$F$5&\" and Barix(\"&$D$12&\",reference:=StartOfSession)=\"&A69&\"\", \"Bar\", \"\", \"Close\",\"5\",\"0\",\"PrimaryOnly\",,,\"False\",\"T\",\"EveryTick\")","v":120.140625},-1.6878732796676188E-3,{"$f":"RTD(\"cqg.rtd\",,\"StudyData\", \"Close(\"&$D$12&\") when LocalYear(\"&$D$12&\")=\"&$D$6&\" and localMonth(\"&$D$12&\") =\"&$E$6&\" and LocalDay(\"&$D$12&\")=\"&$F$6&\" and Barix(\"&$D$12&\",reference:=StartOfSession)=\"&A69&\"\", \"Bar\", \"\", \"Close\",\"5\",\"0\",\"PrimaryOnly\",,,\"False\",\"T\",\"EveryTick\")","v":120.328125},6.4968814968814972E-4,{"$f":"RTD(\"cqg.rtd\",,\"StudyData\", \"Close(\"&$D$12&\") when LocalYear(\"&$D$12&\")=\"&$D$7&\" and localMonth(\"&$D$12&\") =\"&$E$7&\" and LocalDay(\"&$D$12&\")=\"&$F$7&\" and Barix(\"&$D$12&\",reference:=StartOfSession)=\"&A69&\"\", \"Bar\", \"\", \"Close\",\"5\",\"0\",\"PrimaryOnly\",,,\"False\",\"T\",\"EveryTick\")","v":120.28125},-2.5974025974025974E-4,{"$f":"RTD(\"cqg.rtd\",,\"StudyData\", \"Close(\"&$D$12&\") when LocalYear(\"&$D$12&\")=\"&$D$8&\" and localMonth(\"&$D$12&\") =\"&$E$8&\" and LocalDay(\"&$D$12&\")=\"&$F$8&\" and Barix(\"&$D$12&\",reference:=StartOfSession)=\"&A69&\"\", \"Bar\", \"\", \"Close\",\"5\",\"0\",\"PrimaryOnly\",,,\"False\",\"T\",\"EveryTick\")","v":120.359375},2.3422251138581654E-3,{"$f":"RTD(\"cqg.rtd\",,\"StudyData\", \"Close(\"&$D$12&\") when LocalYear(\"&$D$12&\")=\"&$D$9&\" and localMonth(\"&$D$12&\") =\"&$E$9&\" and LocalDay(\"&$D$12&\")=\"&$F$9&\" and Barix(\"&$D$12&\",reference:=StartOfSession)=\"&A69&\"\", \"Bar\", \"\", \"Close\",\"5\",\"0\",\"PrimaryOnly\",,,\"False\",\"T\",\"EveryTick\")","v":120.125},-5.2002080083203334E-4,{"$f":"RTD(\"cqg.rtd\",,\"StudyData\", \"Close(\"&$D$12&\") when LocalYear(\"&$D$12&\")=\"&$D$10&\" and localMonth(\"&$D$12&\") =\"&$E$10&\" and LocalDay(\"&$D$12&\")=\"&$F$10&\" and Barix(\"&$D$12&\",reference:=StartOfSession)=\"&A69&\"\", \"Bar\", \"\", \"Close\",\"5\",\"0\",\"PrimaryOnly\",,,\"False\",\"T\",\"EveryTick\")","v":120.203125},1.3000520020800833E-4,null,null,null,""]
[249,"13:45:00",-8,{"$f":" RTD(\"cqg.rtd\",,\"StudyData\", $D$12,  \"Tick\", \"FlatTicks=0\", \"Tick\",\"D\",C70,\"PrimaryOnly\")","v":120.3125},null,null,null,{"$f":"RTD(\"cqg.rtd\",,\"StudyData\", \"Close(\"&$D$12&\") when LocalYear(\"&$D$12&\")=\"&$D$1&\" and localMonth(\"&$D$12&\") =\"&$E$1&\" and LocalDay(\"&$D$12&\")=\"&$F$1&\" and Barix(\"&$D$12&\",reference:=StartOfSession)=\"&A70&\"\", \"Bar\", \"\", \"Close\",\"5\",\"0\",\"PrimaryOnly\",,,\"False\",\"T\",\"EveryTick\")","v":""},{"$error":"#N/A"},{"$f":"RTD(\"cqg.rtd\",,\"StudyData\", \"Close(\"&$D$12&\") when LocalYear(\"&$D$12&\")=\"&$D$2&\" and localMonth(\"&$D$12&\") =\"&$E$2&\" and LocalDay(\"&$D$12&\")=\"&$F$2&\" and Barix(\"&$D$12&\",reference:=StartOfSession)=\"&A70&\"\", \"Bar\", \"\", \"Close\",\"5\",\"0\",\"PrimaryOnly\",,,\"False\",\"T\",\"EveryTick\")","v":120.1875},-5.1975051975051978E-4,{"$f":"RTD(\"cqg.rtd\",,\"StudyData\", \"Close(\"&$D$12&\") when LocalYear(\"&$D$12&\")=\"&$D$3&\" and localMonth(\"&$D$12&\") =\"&$E$3&\" and LocalDay(\"&$D$12&\")=\"&$F$3&\" and Barix(\"&$D$12&\",reference:=StartOfSession)=\"&A70&\"\", \"Bar\", \"\", \"Close\",\"5\",\"0\",\"PrimaryOnly\",,,\"False\",\"T\",\"EveryTick\")","v":120.25},1.9528707199583388E-3,{"$f":"RTD(\"cqg.rtd\",,\"StudyData\", \"Close(\"&$D$12&\") when LocalYear(\"&$D$12&\")=\"&$D$4&\" and localMonth(\"&$D$12&\") =\"&$E$4&\" and LocalDay(\"&$D$12&\")=\"&$F$4&\" and Barix(\"&$D$12&\",reference:=StartOfSession)=\"&A70&\"\", \"Bar\", \"\", \"Close\",\"5\",\"0\",\"PrimaryOnly\",,,\"False\",\"T\",\"EveryTick\")","v":120.046875},-6.5036420395421437E-4,{"$f":"RTD(\"cqg.rtd\",,\"StudyData\", \"Close(\"&$D$12&\") when LocalYear(\"&$D$12&\")=\"&$D$5&\" and localMonth(\"&$D$12&\") =\"&$E$5&\" and LocalDay(\"&$D$12&\")=\"&$F$5&\" and Barix(\"&$D$12&\",reference:=StartOfSession)=\"&A70&\"\", \"Bar\", \"\", \"Close\",\"5\",\"0\",\"PrimaryOnly\",,,\"False\",\"T\",\"EveryTick\")","v":120.140625},-1.6878732796676188E-3,{"$f":"RTD(\"cqg.rtd\",,\"StudyData\", \"Close(\"&$D$12&\") when LocalYear(\"&$D$12&\")=\"&$D$6&\" and localMonth(\"&$D$12&\") =\"&$E$6&\" and LocalDay(\"&$D$12&\")=\"&$F$6&\" and Barix(\"&$D$12&\",reference:=StartOfSession)=\"&A70&\"\", \"Bar\", \"\", \"Close\",\"5\",\"0\",\"PrimaryOnly\",,,\"False\",\"T\",\"EveryTick\")","v":120.328125},6.4968814968814972E-4,{"$f":"RTD(\"cqg.rtd\",,\"StudyData\", \"Close(\"&$D$12&\") when LocalYear(\"&$D$12&\")=\"&$D$7&\" and localMonth(\"&$D$12&\") =\"&$E$7&\" and LocalDay(\"&$D$12&\")=\"&$F$7&\" and Barix(\"&$D$12&\",reference:=StartOfSession)=\"&A70&\"\", \"Bar\", \"\", \"Close\",\"5\",\"0\",\"PrimaryOnly\",,,\"False\",\"T\",\"EveryTick\")","v":120.25},-5.1948051948051948E-4,{"$f":"RTD(\"cqg.rtd\",,\"StudyData\", \"Close(\"&$D$12&\") when LocalYear(\"&$D$12&\")=\"&$D$8&\" and localMonth(\"&$D$12&\") =\"&$E$8&\" and LocalDay(\"&$D$12&\")=\"&$F$8&\" and Barix(\"&$D$12&\",reference:=StartOfSession)=\"&A70&\"\", \"Bar\", \"\", \"Close\",\"5\",\"0\",\"PrimaryOnly\",,,\"False\",\"T\",\"EveryTick\")","v":120.359375},2.3422251138581654E-3,{"$f":"RTD(\"cqg.rtd\",,\"StudyData\", \"Close(\"&$D$12&\") when LocalYear(\"&$D$12&\")=\"&$D$9&\" and localMonth(\"&$D$12&\") =\"&$E$9&\" and LocalDay(\"&$D$12&\")=\"&$F$9&\" and Barix(\"&$D$12&\",reference:=StartOfSession)=\"&A70&\"\", \"Bar\", \"\", \"Close\",\"5\",\"0\",\"PrimaryOnly\",,,\"False\",\"T\",\"EveryTick\")","v":120.125},-5.2002080083203334E-4,{"$f":"RTD(\"cqg.rtd\",,\"StudyData\", \"Close(\"&$D$12&\") when LocalYear(\"&$D$12&\")=\"&$D$10&\" and localMonth(\"&$D$12&\") =\"&$E$10&\" and LocalDay(\"&$D$12&\")=\"&$F$10&\" and Barix(\"&$D$12&\",reference:=StartOfSession)=\"&A70&\"\", \"Bar\", \"\", \"Close\",\"5\",\"0\",\"PrimaryOnly\",,,\"False\",\"T\",\"EveryTick\")","v":120.203125},1.3000520020800833E-4,null,null,null,""]
[250,"13:50:00",-7,{"$f":" RTD(\"cqg.rtd\",,\"StudyData\", $D$12,  \"Tick\", \"FlatTicks=0\", \"Tick\",\"D\",C71,\"PrimaryOnly\")","v":120.328125},null,null,null,{"$f":"RTD(\"cqg.rtd\",,\"StudyData\", \"Close(\"&$D$12&\") when LocalYear(\"&$D$12&\")=\"&$D$1&\" and localMonth(\"&$D$12&\") =\"&$E$1&\" and LocalDay(\"&$D$12&\")=\"&$F$1&\" and Barix(\"&$D$12&\",reference:=StartOfSession)=\"&A71&\"\", \"Bar\", \"\", \"Close\",\"5\",\"0\",\"PrimaryOnly\",,,\"False\",\"T\",\"EveryTick\")","v":""},{"$error":"#N/A"},{"$f":"RTD(\"cqg.rtd\",,\"StudyData\", \"Close(\"&$D$12&\") when LocalYear(\"&$D$12&\")=\"&$D$2&\" and localMonth(\"&$D$12&\") =\"&$E$2&\" and LocalDay(\"&$D$12&\")=\"&$F$2&\" and Barix(\"&$D$12&\",reference:=StartOfSession)=\"&A71&\"\", \"Bar\", \"\", \"Close\",\"5\",\"0\",\"PrimaryOnly\",,,\"False\",\"T\",\"EveryTick\")","v":120.171875},-6.4968814968814972E-4,{"$f":"RTD(\"cqg.rtd\",,\"StudyData\", \"Close(\"&$D$12&\") when LocalYear(\"&$D$12&\")=\"&$D$3&\" and localMonth(\"&$D$12&\") =\"&$E$3&\" and LocalDay(\"&$D$12&\")=\"&$F$3&\" and Barix(\"&$D$12&\",reference:=StartOfSession)=\"&A71&\"\", \"Bar\", \"\", \"Close\",\"5\",\"0\",\"PrimaryOnly\",,,\"False\",\"T\",\"EveryTick\")","v":120.265625},2.0830621012888945E-3,{"$f":"RTD(\"cqg.rtd\",,\"StudyData\", \"Close(\"&$D$12&\") when LocalYear(\"&$D$12&\")=\"&$D$4&\" and localMonth(\"&$D$12&\") =\"&$E$4&\" and LocalDay(\"&$D$12&\")=\"&$F$4&\" and Barix(\"&$D$12&\",reference:=StartOfSession)=\"&A71&\"\", \"Bar\", \"\", \"Close\",\"5\",\"0\",\"PrimaryOnly\",,,\"False\",\"T\",\"EveryTick\")","v":120.046875},-6.5036420395421437E-4,{"$f":"RTD(\"cqg.rtd\",,\"StudyData\", \"Close(\"&$D$12&\") when LocalYear(\"&$D$12&\")=\"&$D$5&\" and localMonth(\"&$D$12&\") =\"&$E$5&\" and LocalDay(\"&$D$12&\")=\"&$F$5&\" and Barix(\"&$D$12&\",reference:=StartOfSession)=\"&A71&\"\", \"Bar\", \"\", \"Close\",\"5\",\"0\",\"PrimaryOnly\",,,\"False\",\"T\",\"EveryTick\")","v":120.125},-1.8177096857958971E-3,{"$f":"RTD(\"cqg.rtd\",,\"StudyData\", \"Close(\"&$D$12&\") when LocalYear(\"&$D$12&\")=\"&$D$6&\" and localMonth(\"&$D$12&\") =\"&$E$6&\" and LocalDay(\"&$D$12&\")=\"&$F$6&\" and Barix(\"&$D$12&\",reference:=StartOfSession)=\"&A71&\"\", \"Bar\", \"\", \"Close\",\"5\",\"0\",\"PrimaryOnly\",,,\"False\",\"T\",\"EveryTick\")","v":120.328125},6.4968814968814972E-4,{"$f":"RTD(\"cqg.rtd\",,\"StudyData\", \"Close(\"&$D$12&\") when LocalYear(\"&$D$12&\")=\"&$D$7&\" and localMonth(\"&$D$12&\") =\"&$E$7&\" and LocalDay(\"&$D$12&\")=\"&$F$7&\" and Barix(\"&$D$12&\",reference:=StartOfSession)=\"&A71&\"\", \"Bar\", \"\", \"Close\",\"5\",\"0\",\"PrimaryOnly\",,,\"False\",\"T\",\"EveryTick\")","v":120.234375},-6.4935064935064935E-4,{"$f":"RTD(\"cqg.rtd\",,\"StudyData\", \"Close(\"&$D$12&\") when LocalYear(\"&$D$12&\")=\"&$D$8&\" and localMonth(\"&$D$12&\") =\"&$E$8&\" and LocalDay(\"&$D$12&\")=\"&$F$8&\" and Barix(\"&$D$12&\",reference:=StartOfSession)=\"&A71&\"\", \"Bar\", \"\", \"Close\",\"5\",\"0\",\"PrimaryOnly\",,,\"False\",\"T\",\"EveryTick\")","v":120.359375},2.3422251138581654E-3,{"$f":"RTD(\"cqg.rtd\",,\"StudyData\", \"Close(\"&$D$12&\") when LocalYear(\"&$D$12&\")=\"&$D$9&\" and localMonth(\"&$D$12&\") =\"&$E$9&\" and LocalDay(\"&$D$12&\")=\"&$F$9&\" and Barix(\"&$D$12&\",reference:=StartOfSession)=\"&A71&\"\", \"Bar\", \"\", \"Close\",\"5\",\"0\",\"PrimaryOnly\",,,\"False\",\"T\",\"EveryTick\")","v":120.09375},-7.8003120124804995E-4,{"$f":"RTD(\"cqg.rtd\",,\"StudyData\", \"Close(\"&$D$12&\") when LocalYear(\"&$D$12&\")=\"&$D$10&\" and localMonth(\"&$D$12&\") =\"&$E$10&\" and LocalDay(\"&$D$12&\")=\"&$F$10&\" and Barix(\"&$D$12&\",reference:=StartOfSession)=\"&A71&\"\", \"Bar\", \"\", \"Close\",\"5\",\"0\",\"PrimaryOnly\",,,\"False\",\"T\",\"EveryTick\")","v":120.21875},2.6001040041601667E-4,null,null,null,""]
[251,"13:55:00",-6,{"$f":" RTD(\"cqg.rtd\",,\"StudyData\", $D$12,  \"Tick\", \"FlatTicks=0\", \"Tick\",\"D\",C72,\"PrimaryOnly\")","v":120.3125},null,null,null,{"$f":"RTD(\"cqg.rtd\",,\"StudyData\", \"Close(\"&$D$12&\") when LocalYear(\"&$D$12&\")=\"&$D$1&\" and localMonth(\"&$D$12&\") =\"&$E$1&\" and LocalDay(\"&$D$12&\")=\"&$F$1&\" and Barix(\"&$D$12&\",reference:=StartOfSession)=\"&A72&\"\", \"Bar\", \"\", \"Close\",\"5\",\"0\",\"PrimaryOnly\",,,\"False\",\"T\",\"EveryTick\")","v":""},{"$error":"#N/A"},{"$f":"RTD(\"cqg.rtd\",,\"StudyData\", \"Close(\"&$D$12&\") when LocalYear(\"&$D$12&\")=\"&$D$2&\" and localMonth(\"&$D$12&\") =\"&$E$2&\" and LocalDay(\"&$D$12&\")=\"&$F$2&\" and Barix(\"&$D$12&\",reference:=StartOfSession)=\"&A72&\"\", \"Bar\", \"\", \"Close\",\"5\",\"0\",\"PrimaryOnly\",,,\"False\",\"T\",\"EveryTick\")","v":120.15625},-7.7962577962577967E-4,{"$f":"RTD(\"cqg.rtd\",,\"StudyData\", \"Close(\"&$D$12&\") when LocalYear(\"&$D$12&\")=\"&$D$3&\" and localMonth(\"&$D$12&\") =\"&$E$3&\" and LocalDay(\"&$D$12&\")=\"&$F$3&\" and Barix(\"&$D$12&\",reference:=StartOfSession)=\"&A72&\"\", \"Bar\", \"\", \"Close\",\"5\",\"0\",\"PrimaryOnly\",,,\"False\",\"T\",\"EveryTick\")","v":120.25},1.9528707199583388E-3,{"$f":"RTD(\"cqg.rtd\",,\"StudyData\", \"Close(\"&$D$12&\") when LocalYear(\"&$D$12&\")=\"&$D$4&\" and localMonth(\"&$D$12&\") =\"&$E$4&\" and LocalDay(\"&$D$12&\")=\"&$F$4&\" and Barix(\"&$D$12&\",reference:=StartOfSession)=\"&A72&\"\", \"Bar\", \"\", \"Close\",\"5\",\"0\",\"PrimaryOnly\",,,\"False\",\"T\",\"EveryTick\")","v":120.015625},-9.1050988553590013E-4,{"$f":"RTD(\"cqg.rtd\",,\"StudyData\", \"Close(\"&$D$12&\") when LocalYear(\"&$D$12&\")=\"&$D$5&\" and localMonth(\"&$D$12&\") =\"&$E$5&\" and LocalDay(\"&$D$12&\")=\"&$F$5&\" and Barix(\"&$D$12&\",reference:=StartOfSession)=\"&A72&\"\", \"Bar\", \"\", \"Close\",\"5\",\"0\",\"PrimaryOnly\",,,\"False\",\"T\",\"EveryTick\")","v":120.125},-1.8177096857958971E-3,{"$f":"RTD(\"cqg.rtd\",,\"StudyData\", \"Close(\"&$D$12&\") when LocalYear(\"&$D$12&\")=\"&$D$6&\" and localMonth(\"&$D$12&\") =\"&$E$6&\" and LocalDay(\"&$D$12&\")=\"&$F$6&\" and Barix(\"&$D$12&\",reference:=StartOfSession)=\"&A72&\"\", \"Bar\", \"\", \"Close\",\"5\",\"0\",\"PrimaryOnly\",,,\"False\",\"T\",\"EveryTick\")","v":120.34375},7.7962577962577967E-4,{"$f":"RTD(\"cqg.rtd\",,\"StudyData\", \"Close(\"&$D$12&\") when LocalYear(\"&$D$12&\")=\"&$D$7&\" and localMonth(\"&$D$12&\") =\"&$E$7&\" and LocalDay(\"&$D$12&\")=\"&$F$7&\" and Barix(\"&$D$12&\",reference:=StartOfSession)=\"&A72&\"\", \"Bar\", \"\", \"Close\",\"5\",\"0\",\"PrimaryOnly\",,,\"False\",\"T\",\"EveryTick\")","v":120.25},-5.1948051948051948E-4,{"$f":"RTD(\"cqg.rtd\",,\"StudyData\", \"Close(\"&$D$12&\") when LocalYear(\"&$D$12&\")=\"&$D$8&\" and localMonth(\"&$D$12&\") =\"&$E$8&\" and LocalDay(\"&$D$12&\")=\"&$F$8&\" and Barix(\"&$D$12&\",reference:=StartOfSession)=\"&A72&\"\", \"Bar\", \"\", \"Close\",\"5\",\"0\",\"PrimaryOnly\",,,\"False\",\"T\",\"EveryTick\")","v":120.359375},2.3422251138581654E-3,{"$f":"RTD(\"cqg.rtd\",,\"StudyData\", \"Close(\"&$D$12&\") when LocalYear(\"&$D$12&\")=\"&$D$9&\" and localMonth(\"&$D$12&\") =\"&$E$9&\" and LocalDay(\"&$D$12&\")=\"&$F$9&\" and Barix(\"&$D$12&\",reference:=StartOfSession)=\"&A72&\"\", \"Bar\", \"\", \"Close\",\"5\",\"0\",\"PrimaryOnly\",,,\"False\",\"T\",\"EveryTick\")","v":120.078125},-9.100364014560582E-4,{"$f":"RTD(\"cqg.rtd\",,\"StudyData\", \"Close(\"&$D$12&\") when LocalYear(\"&$D$12&\")=\"&$D$10&\" and localMonth(\"&$D$12&\") =\"&$E$10&\" and LocalDay(\"&$D$12&\")=\"&$F$10&\" and Barix(\"&$D$12&\",reference:=StartOfSession)=\"&A72&\"\", \"Bar\", \"\", \"Close\",\"5\",\"0\",\"PrimaryOnly\",,,\"False\",\"T\",\"EveryTick\")","v":120.1875},{"$f":"IFERROR((Z72-$G$11)/$G$11,NA())","v":0},null,null,null,""]
[252,"14:30:00",-5,{"$f":" RTD(\"cqg.rtd\",,\"StudyData\", $D$12,  \"Tick\", \"FlatTicks=0\", \"Tick\",\"D\",C73,\"PrimaryOnly\")","v":120.328125},null,null,null,{"$f":"RTD(\"cqg.rtd\",,\"StudyData\", \"Close(\"&$D$12&\") when LocalYear(\"&$D$12&\")=\"&$D$1&\" and localMonth(\"&$D$12&\") =\"&$E$1&\" and LocalDay(\"&$D$12&\")=\"&$F$1&\" and Barix(\"&$D$12&\",reference:=StartOfSession)=\"&A73&\"\", \"Bar\", \"\", \"Close\",\"5\",\"0\",\"PrimaryOnly\",,,\"False\",\"T\",\"EveryTick\")","v":""},{"$error":"#N/A"},{"$f":"RTD(\"cqg.rtd\",,\"StudyData\", \"Close(\"&$D$12&\") when LocalYear(\"&$D$12&\")=\"&$D$2&\" and localMonth(\"&$D$12&\") =\"&$E$2&\" and LocalDay(\"&$D$12&\")=\"&$F$2&\" and Barix(\"&$D$12&\",reference:=StartOfSession)=\"&A73&\"\", \"Bar\", \"\", \"Close\",\"5\",\"0\",\"PrimaryOnly\",,,\"False\",\"T\",\"EveryTick\")","v":""},{"$error":"#N/A"},{"$f":"RTD(\"cqg.rtd\",,\"StudyData\", \"Close(\"&$D$12&\") when LocalYear(\"&$D$12&\")=\"&$D$3&\" and localMonth(\"&$D$12&\") =\"&$E$3&\" and LocalDay(\"&$D$12&\")=\"&$F$3&\" and Barix(\"&$D$12&\",reference:=StartOfSession)=\"&A73&\"\", \"Bar\", \"\", \"Close\",\"5\",\"0\",\"PrimaryOnly\",,,\"False\",\"T\",\"EveryTick\")","v":""},{"$error":"#N/A"},{"$f":"RTD(\"cqg.rtd\",,\"StudyData\", \"Close(\"&$D$12&\") when LocalYear(\"&$D$12&\")=\"&$D$4&\" and localMonth(\"&$D$12&\") =\"&$E$4&\" and LocalDay(\"&$D$12&\")=\"&$F$4&\" and Barix(\"&$D$12&\",reference:=StartOfSession)=\"&A73&\"\", \"Bar\", \"\", \"Close\",\"5\",\"0\",\"PrimaryOnly\",,,\"False\",\"T\",\"EveryTick\")","v":""},{"$error":"#N/A"},{"$f":"RTD(\"cqg.rtd\",,\"StudyData\", \"Close(\"&$D$12&\") when LocalYear(\"&$D$12&\")=\"&$D$5&\" and localMonth(\"&$D$12&\") =\"&$E$5&\" and LocalDay(\"&$D$12&\")=\"&$F$5&\" and Barix(\"&$D$12&\",reference:=StartOfSession)=\"&A73&\"\", \"Bar\", \"\", \"Close\",\"5\",\"0\",\"PrimaryOnly\",,,\"False\",\"T\",\"EveryTick\")","v":""},{"$error":"#N/A"},{"$f":"RTD(\"cqg.rtd\",,\"StudyData\", \"Close(\"&$D$12&\") when LocalYear(\"&$D$12&\")=\"&$D$6&\" and localMonth(\"&$D$12&\") =\"&$E$6&\" and LocalDay(\"&$D$12&\")=\"&$F$6&\" and Barix(\"&$D$12&\",reference:=StartOfSession)=\"&A73&\"\", \"Bar\", \"\", \"Close\",\"5\",\"0\",\"PrimaryOnly\",,,\"False\",\"T\",\"EveryTick\")","v":""},{"$error":"#N/A"},{"$f":"RTD(\"cqg.rtd\",,\"StudyData\", \"Close(\"&$D$12&\") when LocalYear(\"&$D$12&\")=\"&$D$7&\" and localMonth(\"&$D$12&\") =\"&$E$7&\" and LocalDay(\"&$D$12&\")=\"&$F$7&\" and Barix(\"&$D$12&\",reference:=StartOfSession)=\"&A73&\"\", \"Bar\", \"\", \"Close\",\"5\",\"0\",\"PrimaryOnly\",,,\"False\",\"T\",\"EveryTick\")","v":""},{"$error":"#N/A"},{"$f":"RTD(\"cqg.rtd\",,\"StudyData\", \"Close(\"&$D$12&\") when LocalYear(\"&$D$12&\")=\"&$D$8&\" and localMonth(\"&$D$12&\") =\"&$E$8&\" and LocalDay(\"&$D$12&\")=\"&$F$8&\" and Barix(\"&$D$12&\",reference:=StartOfSession)=\"&A73&\"\", \"Bar\", \"\", \"Close\",\"5\",\"0\",\"PrimaryOnly\",,,\"False\",\"T\",\"EveryTick\")","v":""},{"$error":"#N/A"},{"$f":"RTD(\"cqg.rtd\",,\"StudyData\", \"Close(\"&$D$12&\") when LocalYear(\"&$D$12&\")=\"&$D$9&\" and localMonth(\"&$D$12&\") =\"&$E$9&\" and LocalDay(\"&$D$12&\")=\"&$F$9&\" and Barix(\"&$D$12&\",reference:=StartOfSession)=\"&A73&\"\", \"Bar\", \"\", \"Close\",\"5\",\"0\",\"PrimaryOnly\",,,\"False\",\"T\",\"EveryTick\")","v":""},{"$error":"#N/A"},{"$f":"RTD(\"cqg.rtd\",,\"StudyData\", \"Close(\"&$D$12&\") when LocalYear(\"&$D$12&\")=\"&$D$10&\" and localMonth(\"&$D$12&\") =\"&$E$10&\" and LocalDay(\"&$D$12&\")=\"&$F$10&\" and Barix(\"&$D$12&\",reference:=StartOfSession)=\"&A73&\"\", \"Bar\", \"\", \"Close\",\"5\",\"0\",\"PrimaryOnly\",,,\"False\",\"T\",\"EveryTick\")","v":""},{"$error":"#N/A"},null,null,null,""]
[253,"14:35:00",-4,{"$f":" RTD(\"cqg.rtd\",,\"StudyData\", $D$12,  \"Tick\", \"FlatTicks=0\", \"Tick\",\"D\",C74,\"PrimaryOnly\")","v":120.3125},null,null,null,{"$f":"RTD(\"cqg.rtd\",,\"StudyData\", \"Close(\"&$D$12&\") when LocalYear(\"&$D$12&\")=\"&$D$1&\" and localMonth(\"&$D$12&\") =\"&$E$1&\" and LocalDay(\"&$D$12&\")=\"&$F$1&\" and Barix(\"&$D$12&\",reference:=StartOfSession)=\"&A74&\"\", \"Bar\", \"\", \"Close\",\"5\",\"0\",\"PrimaryOnly\",,,\"False\",\"T\",\"EveryTick\")","v":""},{"$error":"#N/A"},{"$f":"RTD(\"cqg.rtd\",,\"StudyData\", \"Close(\"&$D$12&\") when LocalYear(\"&$D$12&\")=\"&$D$2&\" and localMonth(\"&$D$12&\") =\"&$E$2&\" and LocalDay(\"&$D$12&\")=\"&$F$2&\" and Barix(\"&$D$12&\",reference:=StartOfSession)=\"&A74&\"\", \"Bar\", \"\", \"Close\",\"5\",\"0\",\"PrimaryOnly\",,,\"False\",\"T\",\"EveryTick\")","v":""},{"$error":"#N/A"},{"$f":"RTD(\"cqg.rtd\",,\"StudyData\", \"Close(\"&$D$12&\") when LocalYear(\"&$D$12&\")=\"&$D$3&\" and localMonth(\"&$D$12&\") =\"&$E$3&\" and LocalDay(\"&$D$12&\")=\"&$F$3&\" and Barix(\"&$D$12&\",reference:=StartOfSession)=\"&A74&\"\", \"Bar\", \"\", \"Close\",\"5\",\"0\",\"PrimaryOnly\",,,\"False\",\"T\",\"EveryTick\")","v":""},{"$error":"#N/A"},{"$f":"RTD(\"cqg.rtd\",,\"StudyData\", \"Close(\"&$D$12&\") when LocalYear(\"&$D$12&\")=\"&$D$4&\" and localMonth(\"&$D$12&\") =\"&$E$4&\" and LocalDay(\"&$D$12&\")=\"&$F$4&\" and Barix(\"&$D$12&\",reference:=StartOfSession)=\"&A74&\"\", \"Bar\", \"\", \"Close\",\"5\",\"0\",\"PrimaryOnly\",,,\"False\",\"T\",\"EveryTick\")","v":""},{"$error":"#N/A"},{"$f":"RTD(\"cqg.rtd\",,\"StudyData\", \"Close(\"&$D$12&\") when LocalYear(\"&$D$12&\")=\"&$D$5&\" and localMonth(\"&$D$12&\") =\"&$E$5&\" and LocalDay(\"&$D$12&\")=\"&$F$5&\" and Barix(\"&$D$12&\",reference:=StartOfSession)=\"&A74&\"\", \"Bar\", \"\", \"Close\",\"5\",\"0\",\"PrimaryOnly\",,,\"False\",\"T\",\"EveryTick\")","v":""},{"$error":"#N/A"},{"$f":"RTD(\"cqg.rtd\",,\"StudyData\", \"Close(\"&$D$12&\") when LocalYear(\"&$D$12&\")=\"&$D$6&\" and localMonth(\"&$D$12&\") =\"&$E$6&\" and LocalDay(\"&$D$12&\")=\"&$F$6&\" and Barix(\"&$D$12&\",reference:=StartOfSession)=\"&A74&\"\", \"Bar\", \"\", \"Close\",\"5\",\"0\",\"PrimaryOnly\",,,\"False\",\"T\",\"EveryTick\")","v":""},{"$error":"#N/A"},{"$f":"RTD(\"cqg.rtd\",,\"StudyData\", \"Close(\"&$D$12&\") when LocalYear(\"&$D$12&\")=\"&$D$7&\" and localMonth(\"&$D$12&\") =\"&$E$7&\" and LocalDay(\"&$D$12&\")=\"&$F$7&\" and Barix(\"&$D$12&\",reference:=StartOfSession)=\"&A74&\"\", \"Bar\", \"\", \"Close\",\"5\",\"0\",\"PrimaryOnly\",,,\"False\",\"T\",\"EveryTick\")","v":""},{"$error":"#N/A"},{"$f":"RTD(\"cqg.rtd\",,\"StudyData\", \"Close(\"&$D$12&\") when LocalYear(\"&$D$12&\")=\"&$D$8&\" and localMonth(\"&$D$12&\") =\"&$E$8&\" and LocalDay(\"&$D$12&\")=\"&$F$8&\" and Barix(\"&$D$12&\",reference:=StartOfSession)=\"&A74&\"\", \"Bar\", \"\", \"Close\",\"5\",\"0\",\"PrimaryOnly\",,,\"False\",\"T\",\"EveryTick\")","v":""},{"$error":"#N/A"},{"$f":"RTD(\"cqg.rtd\",,\"StudyData\", \"Close(\"&$D$12&\") when LocalYear(\"&$D$12&\")=\"&$D$9&\" and localMonth(\"&$D$12&\") =\"&$E$9&\" and LocalDay(\"&$D$12&\")=\"&$F$9&\" and Barix(\"&$D$12&\",reference:=StartOfSession)=\"&A74&\"\", \"Bar\", \"\", \"Close\",\"5\",\"0\",\"PrimaryOnly\",,,\"False\",\"T\",\"EveryTick\")","v":""},{"$error":"#N/A"},{"$f":"RTD(\"cqg.rtd\",,\"StudyData\", \"Close(\"&$D$12&\") when LocalYear(\"&$D$12&\")=\"&$D$10&\" and localMonth(\"&$D$12&\") =\"&$E$10&\" and LocalDay(\"&$D$12&\")=\"&$F$10&\" and Barix(\"&$D$12&\",reference:=StartOfSession)=\"&A74&\"\", \"Bar\", \"\", \"Close\",\"5\",\"0\",\"PrimaryOnly\",,,\"False\",\"T\",\"EveryTick\")","v":""},{"$error":"#N/A"},null,null,null,""]
[254,"14:40:00",-3,{"$f":" RTD(\"cqg.rtd\",,\"StudyData\", $D$12,  \"Tick\", \"FlatTicks=0\", \"Tick\",\"D\",C75,\"PrimaryOnly\")","v":120.296875},null,null,null,{"$f":"RTD(\"cqg.rtd\",,\"StudyData\", \"Close(\"&$D$12&\") when LocalYear(\"&$D$12&\")=\"&$D$1&\" and localMonth(\"&$D$12&\") =\"&$E$1&\" and LocalDay(\"&$D$12&\")=\"&$F$1&\" and Barix(\"&$D$12&\",reference:=StartOfSession)=\"&A75&\"\", \"Bar\", \"\", \"Close\",\"5\",\"0\",\"PrimaryOnly\",,,\"False\",\"T\",\"EveryTick\")","v":""},{"$error":"#N/A"},{"$f":"RTD(\"cqg.rtd\",,\"StudyData\", \"Close(\"&$D$12&\") when LocalYear(\"&$D$12&\")=\"&$D$2&\" and localMonth(\"&$D$12&\") =\"&$E$2&\" and LocalDay(\"&$D$12&\")=\"&$F$2&\" and Barix(\"&$D$12&\",reference:=StartOfSession)=\"&A75&\"\", \"Bar\", \"\", \"Close\",\"5\",\"0\",\"PrimaryOnly\",,,\"False\",\"T\",\"EveryTick\")","v":""},{"$error":"#N/A"},{"$f":"RTD(\"cqg.rtd\",,\"StudyData\", \"Close(\"&$D$12&\") when LocalYear(\"&$D$12&\")=\"&$D$3&\" and localMonth(\"&$D$12&\") =\"&$E$3&\" and LocalDay(\"&$D$12&\")=\"&$F$3&\" and Barix(\"&$D$12&\",reference:=StartOfSession)=\"&A75&\"\", \"Bar\", \"\", \"Close\",\"5\",\"0\",\"PrimaryOnly\",,,\"False\",\"T\",\"EveryTick\")","v":""},{"$error":"#N/A"},{"$f":"RTD(\"cqg.rtd\",,\"StudyData\", \"Close(\"&$D$12&\") when LocalYear(\"&$D$12&\")=\"&$D$4&\" and localMonth(\"&$D$12&\") =\"&$E$4&\" and LocalDay(\"&$D$12&\")=\"&$F$4&\" and Barix(\"&$D$12&\",reference:=StartOfSession)=\"&A75&\"\", \"Bar\", \"\", \"Close\",\"5\",\"0\",\"PrimaryOnly\",,,\"False\",\"T\",\"EveryTick\")","v":""},{"$error":"#N/A"},{"$f":"RTD(\"cqg.rtd\",,\"StudyData\", \"Close(\"&$D$12&\") when LocalYear(\"&$D$12&\")=\"&$D$5&\" and localMonth(\"&$D$12&\") =\"&$E$5&\" and LocalDay(\"&$D$12&\")=\"&$F$5&\" and Barix(\"&$D$12&\",reference:=StartOfSession)=\"&A75&\"\", \"Bar\", \"\", \"Close\",\"5\",\"0\",\"PrimaryOnly\",,,\"False\",\"T\",\"EveryTick\")","v":""},{"$error":"#N/A"},{"$f":"RTD(\"cqg.rtd\",,\"StudyData\", \"Close(\"&$D$12&\") when LocalYear(\"&$D$12&\")=\"&$D$6&\" and localMonth(\"&$D$12&\") =\"&$E$6&\" and LocalDay(\"&$D$12&\")=\"&$F$6&\" and Barix(\"&$D$12&\",reference:=StartOfSession)=\"&A75&\"\", \"Bar\", \"\", \"Close\",\"5\",\"0\",\"PrimaryOnly\",,,\"False\",\"T\",\"EveryTick\")","v":""},{"$error":"#N/A"},{"$f":"RTD(\"cqg.rtd\",,\"StudyData\", \"Close(\"&$D$12&\") when LocalYear(\"&$D$12&\")=\"&$D$7&\" and localMonth(\"&$D$12&\") =\"&$E$7&\" and LocalDay(\"&$D$12&\")=\"&$F$7&\" and Barix(\"&$D$12&\",reference:=StartOfSession)=\"&A75&\"\", \"Bar\", \"\", \"Close\",\"5\",\"0\",\"PrimaryOnly\",,,\"False\",\"T\",\"EveryTick\")","v":""},{"$error":"#N/A"},{"$f":"RTD(\"cqg.rtd\",,\"StudyData\", \"Close(\"&$D$12&\") when LocalYear(\"&$D$12&\")=\"&$D$8&\" and localMonth(\"&$D$12&\") =\"&$E$8&\" and LocalDay(\"&$D$12&\")=\"&$F$8&\" and Barix(\"&$D$12&\",reference:=StartOfSession)=\"&A75&\"\", \"Bar\", \"\", \"Close\",\"5\",\"0\",\"PrimaryOnly\",,,\"False\",\"T\",\"EveryTick\")","v":""},{"$error":"#N/A"},{"$f":"RTD(\"cqg.rtd\",,\"StudyData\", \"Close(\"&$D$12&\") when LocalYear(\"&$D$12&\")=\"&$D$9&\" and localMonth(\"&$D$12&\") =\"&$E$9&\" and LocalDay(\"&$D$12&\")=\"&$F$9&\" and Barix(\"&$D$12&\",reference:=StartOfSession)=\"&A75&\"\", \"Bar\", \"\", \"Close\",\"5\",\"0\",\"PrimaryOnly\",,,\"False\",\"T\",\"EveryTick\")","v":""},{"$error":"#N/A"},{"$f":"RTD(\"cqg.rtd\",,\"StudyData\", \"Close(\"&$D$12&\") when LocalYear(\"&$D$12&\")=\"&$D$10&\" and localMonth(\"&$D$12&\") =\"&$E$10&\" and LocalDay(\"&$D$12&\")=\"&$F$10&\" and Barix(\"&$D$12&\",reference:=StartOfSession)=\"&A75&\"\", \"Bar\", \"\", \"Close\",\"5\",\"0\",\"PrimaryOnly\",,,\"False\",\"T\",\"EveryTick\")","v":""},{"$error":"#N/A"},null,null,null,""]
[255,"14:45:00",-2,{"$f":" RTD(\"cqg.rtd\",,\"StudyData\", $D$12,  \"Tick\", \"FlatTicks=0\", \"Tick\",\"D\",C76,\"PrimaryOnly\")","v":120.3125},null,null,null,{"$f":"RTD(\"cqg.rtd\",,\"StudyData\", \"Close(\"&$D$12&\") when LocalYear(\"&$D$12&\")=\"&$D$1&\" and localMonth(\"&$D$12&\") =\"&$E$1&\" and LocalDay(\"&$D$12&\")=\"&$F$1&\" and Barix(\"&$D$12&\",reference:=StartOfSession)=\"&A76&\"\", \"Bar\", \"\", \"Close\",\"5\",\"0\",\"PrimaryOnly\",,,\"False\",\"T\",\"EveryTick\")","v":""},{"$error":"#N/A"},{"$f":"RTD(\"cqg.rtd\",,\"StudyData\", \"Close(\"&$D$12&\") when LocalYear(\"&$D$12&\")=\"&$D$2&\" and localMonth(\"&$D$12&\") =\"&$E$2&\" and LocalDay(\"&$D$12&\")=\"&$F$2&\" and Barix(\"&$D$12&\",reference:=StartOfSession)=\"&A76&\"\", \"Bar\", \"\", \"Close\",\"5\",\"0\",\"PrimaryOnly\",,,\"False\",\"T\",\"EveryTick\")","v":""},{"$error":"#N/A"},{"$f":"RTD(\"cqg.rtd\",,\"StudyData\", \"Close(\"&$D$12&\") when LocalYear(\"&$D$12&\")=\"&$D$3&\" and localMonth(\"&$D$12&\") =\"&$E$3&\" and LocalDay(\"&$D$12&\")=\"&$F$3&\" and Barix(\"&$D$12&\",reference:=StartOfSession)=\"&A76&\"\", \"Bar\", \"\", \"Close\",\"5\",\"0\",\"PrimaryOnly\",,,\"False\",\"T\",\"EveryTick\")","v":""},{"$error":"#N/A"},{"$f":"RTD(\"cqg.rtd\",,\"StudyData\", \"Close(\"&$D$12&\") when LocalYear(\"&$D$12&\")=\"&$D$4&\" and localMonth(\"&$D$12&\") =\"&$E$4&\" and LocalDay(\"&$D$12&\")=\"&$F$4&\" and Barix(\"&$D$12&\",reference:=StartOfSession)=\"&A76&\"\", \"Bar\", \"\", \"Close\",\"5\",\"0\",\"PrimaryOnly\",,,\"False\",\"T\",\"EveryTick\")","v":""},{"$error":"#N/A"},{"$f":"RTD(\"cqg.rtd\",,\"StudyData\", \"Close(\"&$D$12&\") when LocalYear(\"&$D$12&\")=\"&$D$5&\" and localMonth(\"&$D$12&\") =\"&$E$5&\" and LocalDay(\"&$D$12&\")=\"&$F$5&\" and Barix(\"&$D$12&\",reference:=StartOfSession)=\"&A76&\"\", \"Bar\", \"\", \"Close\",\"5\",\"0\",\"PrimaryOnly\",,,\"False\",\"T\",\"EveryTick\")","v":""},{"$error":"#N/A"},{"$f":"RTD(\"cqg.rtd\",,\"StudyData\", \"Close(\"&$D$12&\") when LocalYear(\"&$D$12&\")=\"&$D$6&\" and localMonth(\"&$D$12&\") =\"&$E$6&\" and LocalDay(\"&$D$12&\")=\"&$F$6&\" and Barix(\"&$D$12&\",reference:=StartOfSession)=\"&A76&\"\", \"Bar\", \"\", \"Close\",\"5\",\"0\",\"PrimaryOnly\",,,\"False\",\"T\",\"EveryTick\")","v":""},{"$error":"#N/A"},{"$f":"RTD(\"cqg.rtd\",,\"StudyData\", \"Close(\"&$D$12&\") when LocalYear(\"&$D$12&\")=\"&$D$7&\" and localMonth(\"&$D$12&\") =\"&$E$7&\" and LocalDay(\"&$D$12&\")=\"&$F$7&\" and Barix(\"&$D$12&\",reference:=StartOfSession)=\"&A76&\"\", \"Bar\", \"\", \"Close\",\"5\",\"0\",\"PrimaryOnly\",,,\"False\",\"T\",\"EveryTick\")","v":""},{"$error":"#N/A"},{"$f":"RTD(\"cqg.rtd\",,\"StudyData\", \"Close(\"&$D$12&\") when LocalYear(\"&$D$12&\")=\"&$D$8&\" and localMonth(\"&$D$12&\") =\"&$E$8&\" and LocalDay(\"&$D$12&\")=\"&$F$8&\" and Barix(\"&$D$12&\",reference:=StartOfSession)=\"&A76&\"\", \"Bar\", \"\", \"Close\",\"5\",\"0\",\"PrimaryOnly\",,,\"False\",\"T\",\"EveryTick\")","v":""},{"$error":"#N/A"},{"$f":"RTD(\"cqg.rtd\",,\"StudyData\", \"Close(\"&$D$12&\") when LocalYear(\"&$D$12&\")=\"&$D$9&\" and localMonth(\"&$D$12&\") =\"&$E$9&\" and LocalDay(\"&$D$12&\")=\"&$F$9&\" and Barix(\"&$D$12&\",reference:=StartOfSession)=\"&A76&\"\", \"Bar\", \"\", \"Close\",\"5\",\"0\",\"PrimaryOnly\",,,\"False\",\"T\",\"EveryTick\")","v":""},{"$error":"#N/A"},{"$f":"RTD(\"cqg.rtd\",,\"StudyData\", \"Close(\"&$D$12&\") when LocalYear(\"&$D$12&\")=\"&$D$10&\" and localMonth(\"&$D$12&\") =\"&$E$10&\" and LocalDay(\"&$D$12&\")=\"&$F$10&\" and Barix(\"&$D$12&\",reference:=StartOfSession)=\"&A76&\"\", \"Bar\", \"\", \"Close\",\"5\",\"0\",\"PrimaryOnly\",,,\"False\",\"T\",\"EveryTick\")","v":""},{"$error":"#N/A"},null,null,null,""]
[256,"14:50:00",-1,{"$f":" RTD(\"cqg.rtd\",,\"StudyData\", $D$12,  \"Tick\", \"FlatTicks=0\", \"Tick\",\"D\",C77,\"PrimaryOnly\")","v":120.296875},null,null,null,{"$f":"RTD(\"cqg.rtd\",,\"StudyData\", \"Close(\"&$D$12&\") when LocalYear(\"&$D$12&\")=\"&$D$1&\" and localMonth(\"&$D$12&\") =\"&$E$1&\" and LocalDay(\"&$D$12&\")=\"&$F$1&\" and Barix(\"&$D$12&\",reference:=StartOfSession)=\"&A77&\"\", \"Bar\", \"\", \"Close\",\"5\",\"0\",\"PrimaryOnly\",,,\"False\",\"T\",\"EveryTick\")","v":""},{"$error":"#N/A"},{"$f":"RTD(\"cqg.rtd\",,\"StudyData\", \"Close(\"&$D$12&\") when LocalYear(\"&$D$12&\")=\"&$D$2&\" and localMonth(\"&$D$12&\") =\"&$E$2&\" and LocalDay(\"&$D$12&\")=\"&$F$2&\" and Barix(\"&$D$12&\",reference:=StartOfSession)=\"&A77&\"\", \"Bar\", \"\", \"Close\",\"5\",\"0\",\"PrimaryOnly\",,,\"False\",\"T\",\"EveryTick\")","v":""},{"$error":"#N/A"},{"$f":"RTD(\"cqg.rtd\",,\"StudyData\", \"Close(\"&$D$12&\") when LocalYear(\"&$D$12&\")=\"&$D$3&\" and localMonth(\"&$D$12&\") =\"&$E$3&\" and LocalDay(\"&$D$12&\")=\"&$F$3&\" and Barix(\"&$D$12&\",reference:=StartOfSession)=\"&A77&\"\", \"Bar\", \"\", \"Close\",\"5\",\"0\",\"PrimaryOnly\",,,\"False\",\"T\",\"EveryTick\")","v":""},{"$error":"#N/A"},{"$f":"RTD(\"cqg.rtd\",,\"StudyData\", \"Close(\"&$D$12&\") when LocalYear(\"&$D$12&\")=\"&$D$4&\" and localMonth(\"&$D$12&\") =\"&$E$4&\" and LocalDay(\"&$D$12&\")=\"&$F$4&\" and Barix(\"&$D$12&\",reference:=StartOfSession)=\"&A77&\"\", \"Bar\", \"\", \"Close\",\"5\",\"0\",\"PrimaryOnly\",,,\"False\",\"T\",\"EveryTick\")","v":""},{"$error":"#N/A"},{"$f":"RTD(\"cqg.rtd\",,\"StudyData\", \"Close(\"&$D$12&\") when LocalYear(\"&$D$12&\")=\"&$D$5&\" and localMonth(\"&$D$12&\") =\"&$E$5&\" and LocalDay(\"&$D$12&\")=\"&$F$5&\" and Barix(\"&$D$12&\",reference:=StartOfSession)=\"&A77&\"\", \"Bar\", \"\", \"Close\",\"5\",\"0\",\"PrimaryOnly\",,,\"False\",\"T\",\"EveryTick\")","v":""},{"$error":"#N/A"},{"$f":"RTD(\"cqg.rtd\",,\"StudyData\", \"Close(\"&$D$12&\") when LocalYear(\"&$D$12&\")=\"&$D$6&\" and localMonth(\"&$D$12&\") =\"&$E$6&\" and LocalDay(\"&$D$12&\")=\"&$F$6&\" and Barix(\"&$D$12&\",reference:=StartOfSession)=\"&A77&\"\", \"Bar\", \"\", \"Close\",\"5\",\"0\",\"PrimaryOnly\",,,\"False\",\"T\",\"EveryTick\")","v":""},{"$error":"#N/A"},{"$f":"RTD(\"cqg.rtd\",,\"StudyData\", \"Close(\"&$D$12&\") when LocalYear(\"&$D$12&\")=\"&$D$7&\" and localMonth(\"&$D$12&\") =\"&$E$7&\" and LocalDay(\"&$D$12&\")=\"&$F$7&\" and Barix(\"&$D$12&\",reference:=StartOfSession)=\"&A77&\"\", \"Bar\", \"\", \"Close\",\"5\",\"0\",\"PrimaryOnly\",,,\"False\",\"T\",\"EveryTick\")","v":""},{"$error":"#N/A"},{"$f":"RTD(\"cqg.rtd\",,\"StudyData\", \"Close(\"&$D$12&\") when LocalYear(\"&$D$12&\")=\"&$D$8&\" and localMonth(\"&$D$12&\") =\"&$E$8&\" and LocalDay(\"&$D$12&\")=\"&$F$8&\" and Barix(\"&$D$12&\",reference:=StartOfSession)=\"&A77&\"\", \"Bar\", \"\", \"Close\",\"5\",\"0\",\"PrimaryOnly\",,,\"False\",\"T\",\"EveryTick\")","v":""},{"$error":"#N/A"},{"$f":"RTD(\"cqg.rtd\",,\"StudyData\", \"Close(\"&$D$12&\") when LocalYear(\"&$D$12&\")=\"&$D$9&\" and localMonth(\"&$D$12&\") =\"&$E$9&\" and LocalDay(\"&$D$12&\")=\"&$F$9&\" and Barix(\"&$D$12&\",reference:=StartOfSession)=\"&A77&\"\", \"Bar\", \"\", \"Close\",\"5\",\"0\",\"PrimaryOnly\",,,\"False\",\"T\",\"EveryTick\")","v":""},{"$error":"#N/A"},{"$f":"RTD(\"cqg.rtd\",,\"StudyData\", \"Close(\"&$D$12&\") when LocalYear(\"&$D$12&\")=\"&$D$10&\" and localMonth(\"&$D$12&\") =\"&$E$10&\" and LocalDay(\"&$D$12&\")=\"&$F$10&\" and Barix(\"&$D$12&\",reference:=StartOfSession)=\"&A77&\"\", \"Bar\", \"\", \"Close\",\"5\",\"0\",\"PrimaryOnly\",,,\"False\",\"T\",\"EveryTick\")","v":""},{"$error":"#N/A"},null,null,null,""]
[257,"14:55:00",0,{"$f":" RTD(\"cqg.rtd\",,\"StudyData\", $D$12,  \"Tick\", \"FlatTicks=0\", \"Tick\",\"D\",C78,\"PrimaryOnly\")","v":120.3125},null,null,null,{"$f":"RTD(\"cqg.rtd\",,\"StudyData\", \"Close(\"&$D$12&\") when LocalYear(\"&$D$12&\")=\"&$D$1&\" and localMonth(\"&$D$12&\") =\"&$E$1&\" and LocalDay(\"&$D$12&\")=\"&$F$1&\" and Barix(\"&$D$12&\",reference:=StartOfSession)=\"&A78&\"\", \"Bar\", \"\", \"Close\",\"5\",\"0\",\"PrimaryOnly\",,,\"False\",\"T\",\"EveryTick\")","v":""},{"$error":"#N/A"},{"$f":"RTD(\"cqg.rtd\",,\"StudyData\", \"Close(\"&$D$12&\") when LocalYear(\"&$D$12&\")=\"&$D$2&\" and localMonth(\"&$D$12&\") =\"&$E$2&\" and LocalDay(\"&$D$12&\")=\"&$F$2&\" and Barix(\"&$D$12&\",reference:=StartOfSession)=\"&A78&\"\", \"Bar\", \"\", \"Close\",\"5\",\"0\",\"PrimaryOnly\",,,\"False\",\"T\",\"EveryTick\")","v":""},{"$error":"#N/A"},{"$f":"RTD(\"cqg.rtd\",,\"StudyData\", \"Close(\"&$D$12&\") when LocalYear(\"&$D$12&\")=\"&$D$3&\" and localMonth(\"&$D$12&\") =\"&$E$3&\" and LocalDay(\"&$D$12&\")=\"&$F$3&\" and Barix(\"&$D$12&\",reference:=StartOfSession)=\"&A78&\"\", \"Bar\", \"\", \"Close\",\"5\",\"0\",\"PrimaryOnly\",,,\"False\",\"T\",\"EveryTick\")","v":""},{"$error":"#N/A"},{"$f":"RTD(\"cqg.rtd\",,\"StudyData\", \"Close(\"&$D$12&\") when LocalYear(\"&$D$12&\")=\"&$D$4&\" and localMonth(\"&$D$12&\") =\"&$E$4&\" and LocalDay(\"&$D$12&\")=\"&$F$4&\" and Barix(\"&$D$12&\",reference:=StartOfSession)=\"&A78&\"\", \"Bar\", \"\", \"Close\",\"5\",\"0\",\"PrimaryOnly\",,,\"False\",\"T\",\"EveryTick\")","v":""},{"$error":"#N/A"},{"$f":"RTD(\"cqg.rtd\",,\"StudyData\", \"Close(\"&$D$12&\") when LocalYear(\"&$D$12&\")=\"&$D$5&\" and localMonth(\"&$D$12&\") =\"&$E$5&\" and LocalDay(\"&$D$12&\")=\"&$F$5&\" and Barix(\"&$D$12&\",reference:=StartOfSession)=\"&A78&\"\", \"Bar\", \"\", \"Close\",\"5\",\"0\",\"PrimaryOnly\",,,\"False\",\"T\",\"EveryTick\")","v":""},{"$error":"#N/A"},{"$f":"RTD(\"cqg.rtd\",,\"StudyData\", \"Close(\"&$D$12&\") when LocalYear(\"&$D$12&\")=\"&$D$6&\" and localMonth(\"&$D$12&\") =\"&$E$6&\" and LocalDay(\"&$D$12&\")=\"&$F$6&\" and Barix(\"&$D$12&\",reference:=StartOfSession)=\"&A78&\"\", \"Bar\", \"\", \"Close\",\"5\",\"0\",\"PrimaryOnly\",,,\"False\",\"T\",\"EveryTick\")","v":""},{"$error":"#N/A"},{"$f":"RTD(\"cqg.rtd\",,\"StudyData\", \"Close(\"&$D$12&\") when LocalYear(\"&$D$12&\")=\"&$D$7&\" and localMonth(\"&$D$12&\") =\"&$E$7&\" and LocalDay(\"&$D$12&\")=\"&$F$7&\" and Barix(\"&$D$12&\",reference:=StartOfSession)=\"&A78&\"\", \"Bar\", \"\", \"Close\",\"5\",\"0\",\"PrimaryOnly\",,,\"False\",\"T\",\"EveryTick\")","v":""},{"$error":"#N/A"},{"$f":"RTD(\"cqg.rtd\",,\"StudyData\", \"Close(\"&$D$12&\") when LocalYear(\"&$D$12&\")=\"&$D$8&\" and localMonth(\"&$D$12&\") =\"&$E$8&\" and LocalDay(\"&$D$12&\")=\"&$F$8&\" and Barix(\"&$D$12&\",reference:=StartOfSession)=\"&A78&\"\", \"Bar\", \"\", \"Close\",\"5\",\"0\",\"PrimaryOnly\",,,\"False\",\"T\",\"EveryTick\")","v":""},{"$error":"#N/A"},{"$f":"RTD(\"cqg.rtd\",,\"StudyData\", \"Close(\"&$D$12&\") when LocalYear(\"&$D$12&\")=\"&$D$9&\" and localMonth(\"&$D$12&\") =\"&$E$9&\" and LocalDay(\"&$D$12&\")=\"&$F$9&\" and Barix(\"&$D$12&\",reference:=StartOfSession)=\"&A78&\"\", \"Bar\", \"\", \"Close\",\"5\",\"0\",\"PrimaryOnly\",,,\"False\",\"T\",\"EveryTick\")","v":""},{"$error":"#N/A"},{"$f":"RTD(\"cqg.rtd\",,\"StudyData\", \"Close(\"&$D$12&\") when LocalYear(\"&$D$12&\")=\"&$D$10&\" and localMonth(\"&$D$12&\") =\"&$E$10&\" and LocalDay(\"&$D$12&\")=\"&$F$10&\" and Barix(\"&$D$12&\",reference:=StartOfSession)=\"&A78&\"\", \"Bar\", \"\", \"Close\",\"5\",\"0\",\"PrimaryOnly\",,,\"False\",\"T\",\"EveryTick\")","v":""},{"$error":"#N/A"},null,null,null,""]
[258,"15:00:00",null,null,null,null,null,{"$f":"RTD(\"cqg.rtd\",,\"StudyData\", \"Close(\"&$D$12&\") when LocalYear(\"&$D$12&\")=\"&$D$1&\" and localMonth(\"&$D$12&\") =\"&$E$1&\" and LocalDay(\"&$D$12&\")=\"&$F$1&\" and Barix(\"&$D$12&\",reference:=StartOfSession)=\"&A79&\"\", \"Bar\", \"\", \"Close\",\"5\",\"0\",\"PrimaryOnly\",,,\"False\",\"T\",\"EveryTick\")","v":""},{"$error":"#N/A"},{"$f":"RTD(\"cqg.rtd\",,\"StudyData\", \"Close(\"&$D$12&\") when LocalYear(\"&$D$12&\")=\"&$D$2&\" and localMonth(\"&$D$12&\") =\"&$E$2&\" and LocalDay(\"&$D$12&\")=\"&$F$2&\" and Barix(\"&$D$12&\",reference:=StartOfSession)=\"&A79&\"\", \"Bar\", \"\", \"Close\",\"5\",\"0\",\"PrimaryOnly\",,,\"False\",\"T\",\"EveryTick\")","v":""},{"$error":"#N/A"},{"$f":"RTD(\"cqg.rtd\",,\"StudyData\", \"Close(\"&$D$12&\") when LocalYear(\"&$D$12&\")=\"&$D$3&\" and localMonth(\"&$D$12&\") =\"&$E$3&\" and LocalDay(\"&$D$12&\")=\"&$F$3&\" and Barix(\"&$D$12&\",reference:=StartOfSession)=\"&A79&\"\", \"Bar\", \"\", \"Close\",\"5\",\"0\",\"PrimaryOnly\",,,\"False\",\"T\",\"EveryTick\")","v":""},{"$error":"#N/A"},{"$f":"RTD(\"cqg.rtd\",,\"StudyData\", \"Close(\"&$D$12&\") when LocalYear(\"&$D$12&\")=\"&$D$4&\" and localMonth(\"&$D$12&\") =\"&$E$4&\" and LocalDay(\"&$D$12&\")=\"&$F$4&\" and Barix(\"&$D$12&\",reference:=StartOfSession)=\"&A79&\"\", \"Bar\", \"\", \"Close\",\"5\",\"0\",\"PrimaryOnly\",,,\"False\",\"T\",\"EveryTick\")","v":""},{"$error":"#N/A"},{"$f":"RTD(\"cqg.rtd\",,\"StudyData\", \"Close(\"&$D$12&\") when LocalYear(\"&$D$12&\")=\"&$D$5&\" and localMonth(\"&$D$12&\") =\"&$E$5&\" and LocalDay(\"&$D$12&\")=\"&$F$5&\" and Barix(\"&$D$12&\",reference:=StartOfSession)=\"&A79&\"\", \"Bar\", \"\", \"Close\",\"5\",\"0\",\"PrimaryOnly\",,,\"False\",\"T\",\"EveryTick\")","v":""},{"$error":"#N/A"},{"$f":"RTD(\"cqg.rtd\",,\"StudyData\", \"Close(\"&$D$12&\") when LocalYear(\"&$D$12&\")=\"&$D$6&\" and localMonth(\"&$D$12&\") =\"&$E$6&\" and LocalDay(\"&$D$12&\")=\"&$F$6&\" and Barix(\"&$D$12&\",reference:=StartOfSession)=\"&A79&\"\", \"Bar\", \"\", \"Close\",\"5\",\"0\",\"PrimaryOnly\",,,\"False\",\"T\",\"EveryTick\")","v":""},{"$error":"#N/A"},{"$f":"RTD(\"cqg.rtd\",,\"StudyData\", \"Close(\"&$D$12&\") when LocalYear(\"&$D$12&\")=\"&$D$7&\" and localMonth(\"&$D$12&\") =\"&$E$7&\" and LocalDay(\"&$D$12&\")=\"&$F$7&\" and Barix(\"&$D$12&\",reference:=StartOfSession)=\"&A79&\"\", \"Bar\", \"\", \"Close\",\"5\",\"0\",\"PrimaryOnly\",,,\"False\",\"T\",\"EveryTick\")","v":""},{"$error":"#N/A"},{"$f":"RTD(\"cqg.rtd\",,\"StudyData\", \"Close(\"&$D$12&\") when LocalYear(\"&$D$12&\")=\"&$D$8&\" and localMonth(\"&$D$12&\") =\"&$E$8&\" and LocalDay(\"&$D$12&\")=\"&$F$8&\" and Barix(\"&$D$12&\",reference:=StartOfSession)=\"&A79&\"\", \"Bar\", \"\", \"Close\",\"5\",\"0\",\"PrimaryOnly\",,,\"False\",\"T\",\"EveryTick\")","v":""},{"$error":"#N/A"},{"$f":"RTD(\"cqg.rtd\",,\"StudyData\", \"Close(\"&$D$12&\") when LocalYear(\"&$D$12&\")=\"&$D$9&\" and localMonth(\"&$D$12&\") =\"&$E$9&\" and LocalDay(\"&$D$12&\")=\"&$F$9&\" and Barix(\"&$D$12&\",reference:=StartOfSession)=\"&A79&\"\", \"Bar\", \"\", \"Close\",\"5\",\"0\",\"PrimaryOnly\",,,\"False\",\"T\",\"EveryTick\")","v":""},{"$error":"#N/A"},{"$f":"RTD(\"cqg.rtd\",,\"StudyData\", \"Close(\"&$D$12&\") when LocalYear(\"&$D$12&\")=\"&$D$10&\" and localMonth(\"&$D$12&\") =\"&$E$10&\" and LocalDay(\"&$D$12&\")=\"&$F$10&\" and Barix(\"&$D$12&\",reference:=StartOfSession)=\"&A79&\"\", \"Bar\", \"\", \"Close\",\"5\",\"0\",\"PrimaryOnly\",,,\"False\",\"T\",\"EveryTick\")","v":""},{"$error":"#N/A"},null,null,null,""]
[259,"15:05:00",null,null,null,null,null,{"$f":"RTD(\"cqg.rtd\",,\"StudyData\", \"Close(\"&$D$12&\") when LocalYear(\"&$D$12&\")=\"&$D$1&\" and localMonth(\"&$D$12&\") =\"&$E$1&\" and LocalDay(\"&$D$12&\")=\"&$F$1&\" and Barix(\"&$D$12&\",reference:=StartOfSession)=\"&A80&\"\", \"Bar\", \"\", \"Close\",\"5\",\"0\",\"PrimaryOnly\",,,\"False\",\"T\",\"EveryTick\")","v":""},{"$error":"#N/A"},{"$f":"RTD(\"cqg.rtd\",,\"StudyData\", \"Close(\"&$D$12&\") when LocalYear(\"&$D$12&\")=\"&$D$2&\" and localMonth(\"&$D$12&\") =\"&$E$2&\" and LocalDay(\"&$D$12&\")=\"&$F$2&\" and Barix(\"&$D$12&\",reference:=StartOfSession)=\"&A80&\"\", \"Bar\", \"\", \"Close\",\"5\",\"0\",\"PrimaryOnly\",,,\"False\",\"T\",\"EveryTick\")","v":""},{"$error":"#N/A"},{"$f":"RTD(\"cqg.rtd\",,\"StudyData\", \"Close(\"&$D$12&\") when LocalYear(\"&$D$12&\")=\"&$D$3&\" and localMonth(\"&$D$12&\") =\"&$E$3&\" and LocalDay(\"&$D$12&\")=\"&$F$3&\" and Barix(\"&$D$12&\",reference:=StartOfSession)=\"&A80&\"\", \"Bar\", \"\", \"Close\",\"5\",\"0\",\"PrimaryOnly\",,,\"False\",\"T\",\"EveryTick\")","v":""},{"$error":"#N/A"},{"$f":"RTD(\"cqg.rtd\",,\"StudyData\", \"Close(\"&$D$12&\") when LocalYear(\"&$D$12&\")=\"&$D$4&\" and localMonth(\"&$D$12&\") =\"&$E$4&\" and LocalDay(\"&$D$12&\")=\"&$F$4&\" and Barix(\"&$D$12&\",reference:=StartOfSession)=\"&A80&\"\", \"Bar\", \"\", \"Close\",\"5\",\"0\",\"PrimaryOnly\",,,\"False\",\"T\",\"EveryTick\")","v":""},{"$error":"#N/A"},{"$f":"RTD(\"cqg.rtd\",,\"StudyData\", \"Close(\"&$D$12&\") when LocalYear(\"&$D$12&\")=\"&$D$5&\" and localMonth(\"&$D$12&\") =\"&$E$5&\" and LocalDay(\"&$D$12&\")=\"&$F$5&\" and Barix(\"&$D$12&\",reference:=StartOfSession)=\"&A80&\"\", \"Bar\", \"\", \"Close\",\"5\",\"0\",\"PrimaryOnly\",,,\"False\",\"T\",\"EveryTick\")","v":""},{"$error":"#N/A"},{"$f":"RTD(\"cqg.rtd\",,\"StudyData\", \"Close(\"&$D$12&\") when LocalYear(\"&$D$12&\")=\"&$D$6&\" and localMonth(\"&$D$12&\") =\"&$E$6&\" and LocalDay(\"&$D$12&\")=\"&$F$6&\" and Barix(\"&$D$12&\",reference:=StartOfSession)=\"&A80&\"\", \"Bar\", \"\", \"Close\",\"5\",\"0\",\"PrimaryOnly\",,,\"False\",\"T\",\"EveryTick\")","v":""},{"$error":"#N/A"},{"$f":"RTD(\"cqg.rtd\",,\"StudyData\", \"Close(\"&$D$12&\") when LocalYear(\"&$D$12&\")=\"&$D$7&\" and localMonth(\"&$D$12&\") =\"&$E$7&\" and LocalDay(\"&$D$12&\")=\"&$F$7&\" and Barix(\"&$D$12&\",reference:=StartOfSession)=\"&A80&\"\", \"Bar\", \"\", \"Close\",\"5\",\"0\",\"PrimaryOnly\",,,\"False\",\"T\",\"EveryTick\")","v":""},{"$error":"#N/A"},{"$f":"RTD(\"cqg.rtd\",,\"StudyData\", \"Close(\"&$D$12&\") when LocalYear(\"&$D$12&\")=\"&$D$8&\" and localMonth(\"&$D$12&\") =\"&$E$8&\" and LocalDay(\"&$D$12&\")=\"&$F$8&\" and Barix(\"&$D$12&\",reference:=StartOfSession)=\"&A80&\"\", \"Bar\", \"\", \"Close\",\"5\",\"0\",\"PrimaryOnly\",,,\"False\",\"T\",\"EveryTick\")","v":""},{"$error":"#N/A"},{"$f":"RTD(\"cqg.rtd\",,\"StudyData\", \"Close(\"&$D$12&\") when LocalYear(\"&$D$12&\")=\"&$D$9&\" and localMonth(\"&$D$12&\") =\"&$E$9&\" and LocalDay(\"&$D$12&\")=\"&$F$9&\" and Barix(\"&$D$12&\",reference:=StartOfSession)=\"&A80&\"\", \"Bar\", \"\", \"Close\",\"5\",\"0\",\"PrimaryOnly\",,,\"False\",\"T\",\"EveryTick\")","v":""},{"$error":"#N/A"},{"$f":"RTD(\"cqg.rtd\",,\"StudyData\", \"Close(\"&$D$12&\") when LocalYear(\"&$D$12&\")=\"&$D$10&\" and localMonth(\"&$D$12&\") =\"&$E$10&\" and LocalDay(\"&$D$12&\")=\"&$F$10&\" and Barix(\"&$D$12&\",reference:=StartOfSession)=\"&A80&\"\", \"Bar\", \"\", \"Close\",\"5\",\"0\",\"PrimaryOnly\",,,\"False\",\"T\",\"EveryTick\")","v":""},{"$error":"#N/A"},null,null,null,""]
[260,"15:10:00",null,null,null,null,null,{"$f":"RTD(\"cqg.rtd\",,\"StudyData\", \"Close(\"&$D$12&\") when LocalYear(\"&$D$12&\")=\"&$D$1&\" and localMonth(\"&$D$12&\") =\"&$E$1&\" and LocalDay(\"&$D$12&\")=\"&$F$1&\" and Barix(\"&$D$12&\",reference:=StartOfSession)=\"&A81&\"\", \"Bar\", \"\", \"Close\",\"5\",\"0\",\"PrimaryOnly\",,,\"False\",\"T\",\"EveryTick\")","v":""},{"$error":"#N/A"},{"$f":"RTD(\"cqg.rtd\",,\"StudyData\", \"Close(\"&$D$12&\") when LocalYear(\"&$D$12&\")=\"&$D$2&\" and localMonth(\"&$D$12&\") =\"&$E$2&\" and LocalDay(\"&$D$12&\")=\"&$F$2&\" and Barix(\"&$D$12&\",reference:=StartOfSession)=\"&A81&\"\", \"Bar\", \"\", \"Close\",\"5\",\"0\",\"PrimaryOnly\",,,\"False\",\"T\",\"EveryTick\")","v":""},{"$error":"#N/A"},{"$f":"RTD(\"cqg.rtd\",,\"StudyData\", \"Close(\"&$D$12&\") when LocalYear(\"&$D$12&\")=\"&$D$3&\" and localMonth(\"&$D$12&\") =\"&$E$3&\" and LocalDay(\"&$D$12&\")=\"&$F$3&\" and Barix(\"&$D$12&\",reference:=StartOfSession)=\"&A81&\"\", \"Bar\", \"\", \"Close\",\"5\",\"0\",\"PrimaryOnly\",,,\"False\",\"T\",\"EveryTick\")","v":""},{"$error":"#N/A"},{"$f":"RTD(\"cqg.rtd\",,\"StudyData\", \"Close(\"&$D$12&\") when LocalYear(\"&$D$12&\")=\"&$D$4&\" and localMonth(\"&$D$12&\") =\"&$E$4&\" and LocalDay(\"&$D$12&\")=\"&$F$4&\" and Barix(\"&$D$12&\",reference:=StartOfSession)=\"&A81&\"\", \"Bar\", \"\", \"Close\",\"5\",\"0\",\"PrimaryOnly\",,,\"False\",\"T\",\"EveryTick\")","v":""},{"$error":"#N/A"},{"$f":"RTD(\"cqg.rtd\",,\"StudyData\", \"Close(\"&$D$12&\") when LocalYear(\"&$D$12&\")=\"&$D$5&\" and localMonth(\"&$D$12&\") =\"&$E$5&\" and LocalDay(\"&$D$12&\")=\"&$F$5&\" and Barix(\"&$D$12&\",reference:=StartOfSession)=\"&A81&\"\", \"Bar\", \"\", \"Close\",\"5\",\"0\",\"PrimaryOnly\",,,\"False\",\"T\",\"EveryTick\")","v":""},{"$error":"#N/A"},{"$f":"RTD(\"cqg.rtd\",,\"StudyData\", \"Close(\"&$D$12&\") when LocalYear(\"&$D$12&\")=\"&$D$6&\" and localMonth(\"&$D$12&\") =\"&$E$6&\" and LocalDay(\"&$D$12&\")=\"&$F$6&\" and Barix(\"&$D$12&\",reference:=StartOfSession)=\"&A81&\"\", \"Bar\", \"\", \"Close\",\"5\",\"0\",\"PrimaryOnly\",,,\"False\",\"T\",\"EveryTick\")","v":""},{"$error":"#N/A"},{"$f":"RTD(\"cqg.rtd\",,\"StudyData\", \"Close(\"&$D$12&\") when LocalYear(\"&$D$12&\")=\"&$D$7&\" and localMonth(\"&$D$12&\") =\"&$E$7&\" and LocalDay(\"&$D$12&\")=\"&$F$7&\" and Barix(\"&$D$12&\",reference:=StartOfSession)=\"&A81&\"\", \"Bar\", \"\", \"Close\",\"5\",\"0\",\"PrimaryOnly\",,,\"False\",\"T\",\"EveryTick\")","v":""},{"$error":"#N/A"},{"$f":"RTD(\"cqg.rtd\",,\"StudyData\", \"Close(\"&$D$12&\") when LocalYear(\"&$D$12&\")=\"&$D$8&\" and localMonth(\"&$D$12&\") =\"&$E$8&\" and LocalDay(\"&$D$12&\")=\"&$F$8&\" and Barix(\"&$D$12&\",reference:=StartOfSession)=\"&A81&\"\", \"Bar\", \"\", \"Close\",\"5\",\"0\",\"PrimaryOnly\",,,\"False\",\"T\",\"EveryTick\")","v":""},{"$error":"#N/A"},{"$f":"RTD(\"cqg.rtd\",,\"StudyData\", \"Close(\"&$D$12&\") when LocalYear(\"&$D$12&\")=\"&$D$9&\" and localMonth(\"&$D$12&\") =\"&$E$9&\" and LocalDay(\"&$D$12&\")=\"&$F$9&\" and Barix(\"&$D$12&\",reference:=StartOfSession)=\"&A81&\"\", \"Bar\", \"\", \"Close\",\"5\",\"0\",\"PrimaryOnly\",,,\"False\",\"T\",\"EveryTick\")","v":""},{"$error":"#N/A"},{"$f":"RTD(\"cqg.rtd\",,\"StudyData\", \"Close(\"&$D$12&\") when LocalYear(\"&$D$12&\")=\"&$D$10&\" and localMonth(\"&$D$12&\") =\"&$E$10&\" and LocalDay(\"&$D$12&\")=\"&$F$10&\" and Barix(\"&$D$12&\",reference:=StartOfSession)=\"&A81&\"\", \"Bar\", \"\", \"Close\",\"5\",\"0\",\"PrimaryOnly\",,,\"False\",\"T\",\"EveryTick\")","v":""},{"$error":"#N/A"},null,null,null,""]

{"sheet":"Sheet4 (4)","index":8,"n_rows":101,"n_cols":20,"rows_kept":101,"cut":false,"hidden":true,"merged":[]}
[null,{"$f":"'Sheet3 (4)'!I1","v":1.3003901170351106E-3},{"$f":"'Sheet3 (4)'!K1","v":-1.2993762993762994E-3},null,{"$f":"'Sheet3 (4)'!M1","v":1.1717224319750033E-3},null,{"$f":"'Sheet3 (4)'!O1","v":-7.804370447450572E-4},null,{"$f":"'Sheet3 (4)'!Q1","v":-1.5580368735393405E-3},null,{"$f":"'Sheet3 (4)'!S1","v":1.8191268191268192E-3},null,{"$f":"'Sheet3 (4)'!U1","v":-6.4935064935064935E-4},null,{"$f":"'Sheet3 (4)'!W1","v":-2.6024723487312948E-4},null,{"$f":"'Sheet3 (4)'!Y1","v":3.9001560062402497E-4},null,{"$f":"'Sheet3 (4)'!AA1","v":1.3000520020800833E-4}]
[null,{"$f":"'Sheet3 (4)'!I2","v":1.1703511053315994E-3},{"$f":"'Sheet3 (4)'!K2","v":-1.2993762993762994E-3},{"$f":"CORREL($B$1:B2,$C$1:C2)","v":{"$error":"#DIV/0!"}},{"$f":"'Sheet3 (4)'!M2","v":1.4321051946361151E-3},{"$f":"CORREL($B$1:B2,$E$1:E2)","v":-1},{"$f":"'Sheet3 (4)'!O2","v":-7.804370447450572E-4},{"$f":"CORREL($B$1:B2,$G$1:G2)","v":{"$error":"#DIV/0!"}},{"$f":"'Sheet3 (4)'!Q2","v":-1.428200467411062E-3},{"$f":"CORREL($B$1:B2,$I$1:I2)","v":-1},{"$f":"'Sheet3 (4)'!S2","v":1.6891891891891893E-3},{"$f":"CORREL($B$1:B2,$K$1:K2)","v":1},{"$f":"'Sheet3 (4)'!U2","v":-5.1948051948051948E-4},{"$f":"CORREL($B$1:B2,$M$1:M2)","v":-1},{"$f":"'Sheet3 (4)'!W2","v":0},{"$f":"CORREL($B$1:B2,$O$1:O2)","v":-1},{"$f":"'Sheet3 (4)'!Y2","v":5.2002080083203334E-4},{"$f":"CORREL($B$1:B2,$Q$1:Q2)","v":-1},{"$f":"'Sheet3 (4)'!AA2","v":2.6001040041601667E-4},{"$f":"CORREL($B$1:B2,$S$1:S2)","v":-1}]
[null,{"$f":"'Sheet3 (4)'!I3","v":1.1703511053315994E-3},{"$f":"'Sheet3 (4)'!K3","v":-1.0395010395010396E-3},{"$f":"CORREL($B$1:B3,$C$1:C3)","v":-0.50000000000000011},{"$f":"'Sheet3 (4)'!M3","v":1.4321051946361151E-3},{"$f":"CORREL($B$1:B3,$E$1:E3)","v":-1.0000000000000002},{"$f":"'Sheet3 (4)'!O3","v":-9.1050988553590013E-4},{"$f":"CORREL($B$1:B3,$G$1:G3)","v":0.50000000000000011},{"$f":"'Sheet3 (4)'!Q3","v":-1.5580368735393405E-3},{"$f":"CORREL($B$1:B3,$I$1:I3)","v":-0.50000000000000022},{"$f":"'Sheet3 (4)'!S3","v":1.9490644490644492E-3},{"$f":"CORREL($B$1:B3,$K$1:K3)","v":0},{"$f":"'Sheet3 (4)'!U3","v":-6.4935064935064935E-4},{"$f":"CORREL($B$1:B3,$M$1:M3)","v":-0.49999999999999989},{"$f":"'Sheet3 (4)'!W3","v":0},{"$f":"CORREL($B$1:B3,$O$1:O3)","v":-1},{"$f":"'Sheet3 (4)'!Y3","v":5.2002080083203334E-4},{"$f":"CORREL($B$1:B3,$Q$1:Q3)","v":-1.0000000000000002},{"$f":"'Sheet3 (4)'!AA3","v":0},{"$f":"CORREL($B$1:B3,$S$1:S3)","v":0}]
[null,{"$f":"'Sheet3 (4)'!I4","v":1.0403120936280884E-3},{"$f":"'Sheet3 (4)'!K4","v":-1.1694386694386695E-3},{"$f":"CORREL($B$1:B4,$C$1:C4)","v":-0.42640143271122105},{"$f":"'Sheet3 (4)'!M4","v":1.562296575966671E-3},{"$f":"CORREL($B$1:B4,$E$1:E4)","v":-0.97332852678457549},{"$f":"'Sheet3 (4)'!O4","v":-1.0405827263267431E-3},{"$f":"CORREL($B$1:B4,$G$1:G4)","v":0.85280286542244155},{"$f":"'Sheet3 (4)'!Q4","v":-1.5580368735393405E-3},{"$f":"CORREL($B$1:B4,$I$1:I4)","v":-3.200181118097304E-16},{"$f":"'Sheet3 (4)'!S4","v":1.5592515592515593E-3},{"$f":"CORREL($B$1:B4,$K$1:K4)","v":0.63245553203367566},{"$f":"'Sheet3 (4)'!U4","v":-5.1948051948051948E-4},{"$f":"CORREL($B$1:B4,$M$1:M4)","v":-0.70710678118654757},{"$f":"'Sheet3 (4)'!W4","v":-1.3012361743656474E-4},{"$f":"CORREL($B$1:B4,$O$1:O4)","v":-0.4264014327112215},{"$f":"'Sheet3 (4)'!Y4","v":7.8003120124804995E-4},{"$f":"CORREL($B$1:B4,$Q$1:Q4)","v":-0.97332852678457527},{"$f":"'Sheet3 (4)'!AA4","v":1.3000520020800833E-4},{"$f":"CORREL($B$1:B4,$S$1:S4)","v":0}]
[null,{"$f":"'Sheet3 (4)'!I5","v":1.0403120936280884E-3},{"$f":"'Sheet3 (4)'!K5","v":-1.2993762993762994E-3},{"$f":"CORREL($B$1:B5,$C$1:C5)","v":-0.13363062095621248},{"$f":"'Sheet3 (4)'!M5","v":1.562296575966671E-3},{"$f":"CORREL($B$1:B5,$E$1:E5)","v":-0.97590007294853331},{"$f":"'Sheet3 (4)'!O5","v":-7.804370447450572E-4},{"$f":"CORREL($B$1:B5,$G$1:G5)","v":0.46770717334674283},{"$f":"'Sheet3 (4)'!Q5","v":-1.6878732796676188E-3},{"$f":"CORREL($B$1:B5,$I$1:I5)","v":0.42257712736425784},{"$f":"'Sheet3 (4)'!S5","v":1.4293139293139294E-3},{"$f":"CORREL($B$1:B5,$K$1:K5)","v":0.7559289460184544},{"$f":"'Sheet3 (4)'!U5","v":-2.5974025974025974E-4},{"$f":"CORREL($B$1:B5,$M$1:M5)","v":-0.73192505471139979},{"$f":"'Sheet3 (4)'!W5","v":1.3012361743656474E-4},{"$f":"CORREL($B$1:B5,$O$1:O5)","v":-0.62897090203315154},{"$f":"'Sheet3 (4)'!Y5","v":7.8003120124804995E-4},{"$f":"CORREL($B$1:B5,$Q$1:Q5)","v":-0.97995788701222275},{"$f":"'Sheet3 (4)'!AA5","v":1.3000520020800833E-4},{"$f":"CORREL($B$1:B5,$S$1:S5)","v":0}]
[null,{"$f":"'Sheet3 (4)'!I6","v":1.0403120936280884E-3},{"$f":"'Sheet3 (4)'!K6","v":-1.1694386694386695E-3},{"$f":"CORREL($B$1:B6,$C$1:C6)","v":-0.20000000000000023},{"$f":"'Sheet3 (4)'!M6","v":1.6924879572972268E-3},{"$f":"CORREL($B$1:B6,$E$1:E6)","v":-0.9561828874675149},{"$f":"'Sheet3 (4)'!O6","v":-6.5036420395421437E-4},{"$f":"CORREL($B$1:B6,$G$1:G6)","v":7.9056941504209707E-2},{"$f":"'Sheet3 (4)'!Q6","v":-1.5580368735393405E-3},{"$f":"CORREL($B$1:B6,$I$1:I6)","v":0.38729833462074137},{"$f":"'Sheet3 (4)'!S6","v":1.4293139293139294E-3},{"$f":"CORREL($B$1:B6,$K$1:K6)","v":0.79999999999999982},{"$f":"'Sheet3 (4)'!U6","v":-2.5974025974025974E-4},{"$f":"CORREL($B$1:B6,$M$1:M6)","v":-0.77689859606735578},{"$f":"'Sheet3 (4)'!W6","v":2.6024723487312948E-4},{"$f":"CORREL($B$1:B6,$O$1:O6)","v":-0.69282032302755092},{"$f":"'Sheet3 (4)'!Y6","v":6.5002600104004159E-4},{"$f":"CORREL($B$1:B6,$Q$1:Q6)","v":-0.94387980744853861},{"$f":"'Sheet3 (4)'!AA6","v":2.6001040041601667E-4},{"$f":"CORREL($B$1:B6,$S$1:S6)","v":-0.21693045781865611}]
[null,{"$f":"'Sheet3 (4)'!I7","v":6.5019505851755528E-4},{"$f":"'Sheet3 (4)'!K7","v":-1.0395010395010396E-3},{"$f":"CORREL($B$1:B7,$C$1:C7)","v":-0.57177187489686554},{"$f":"'Sheet3 (4)'!M7","v":1.4321051946361151E-3},{"$f":"CORREL($B$1:B7,$E$1:E7)","v":-0.36210341218895076},{"$f":"'Sheet3 (4)'!O7","v":-6.5036420395421437E-4},{"$f":"CORREL($B$1:B7,$G$1:G7)","v":-0.38214349902380079},{"$f":"'Sheet3 (4)'!Q7","v":-1.6878732796676188E-3},{"$f":"CORREL($B$1:B7,$I$1:I7)","v":0.63586706399759585},{"$f":"'Sheet3 (4)'!S7","v":1.1694386694386695E-3},{"$f":"CORREL($B$1:B7,$K$1:K7)","v":0.87718402433882758},{"$f":"'Sheet3 (4)'!U7","v":0},{"$f":"CORREL($B$1:B7,$M$1:M7)","v":-0.90080311901115873},{"$f":"'Sheet3 (4)'!W7","v":3.9037085230969419E-4},{"$f":"CORREL($B$1:B7,$O$1:O7)","v":-0.82775219556970747},{"$f":"'Sheet3 (4)'!Y7","v":5.2002080083203334E-4},{"$f":"CORREL($B$1:B7,$Q$1:Q7)","v":-0.24019223070763074},{"$f":"'Sheet3 (4)'!AA7","v":1.3000520020800833E-4},{"$f":"CORREL($B$1:B7,$S$1:S7)","v":-2.1926450482675729E-2}]
[null,{"$f":"'Sheet3 (4)'!I8","v":6.5019505851755528E-4},{"$f":"'Sheet3 (4)'!K8","v":-7.7962577962577967E-4},{"$f":"CORREL($B$1:B8,$C$1:C8)","v":-0.75793672895986708},{"$f":"'Sheet3 (4)'!M8","v":1.3019138133055592E-3},{"$f":"CORREL($B$1:B8,$E$1:E8)","v":-4.6915105733670408E-2},{"$f":"'Sheet3 (4)'!O8","v":-5.2029136316337154E-4},{"$f":"CORREL($B$1:B8,$G$1:G8)","v":-0.60989637453771417},{"$f":"'Sheet3 (4)'!Q8","v":-1.8177096857958971E-3},{"$f":"CORREL($B$1:B8,$I$1:I8)","v":0.78723404255319118},{"$f":"'Sheet3 (4)'!S8","v":1.1694386694386695E-3},{"$f":"CORREL($B$1:B8,$K$1:K8)","v":0.9088324930790832},{"$f":"'Sheet3 (4)'!U8","v":-1.2987012987012987E-4},{"$f":"CORREL($B$1:B8,$M$1:M8)","v":-0.8995882731915561},{"$f":"'Sheet3 (4)'!W8","v":5.2049446974625896E-4},{"$f":"CORREL($B$1:B8,$O$1:O8)","v":-0.89254070103938765},{"$f":"'Sheet3 (4)'!Y8","v":3.9001560062402497E-4},{"$f":"CORREL($B$1:B8,$Q$1:Q8)","v":0.11487765597207099},{"$f":"'Sheet3 (4)'!AA8","v":-1.3000520020800833E-4},{"$f":"CORREL($B$1:B8,$S$1:S8)","v":0.45237392314797931}]
[null,{"$f":"'Sheet3 (4)'!I9","v":7.8023407022106636E-4},{"$f":"'Sheet3 (4)'!K9","v":-5.1975051975051978E-4},{"$f":"CORREL($B$1:B9,$C$1:C9)","v":-0.70420381951432598},{"$f":"'Sheet3 (4)'!M9","v":1.4321051946361151E-3},{"$f":"CORREL($B$1:B9,$E$1:E9)","v":-3.2877664924940292E-2},{"$f":"'Sheet3 (4)'!O9","v":-3.902185223725286E-4},{"$f":"CORREL($B$1:B9,$G$1:G9)","v":-0.65062694348979566},{"$f":"'Sheet3 (4)'!Q9","v":-1.8177096857958971E-3},{"$f":"CORREL($B$1:B9,$I$1:I9)","v":0.80211013508395301},{"$f":"'Sheet3 (4)'!S9","v":1.1694386694386695E-3},{"$f":"CORREL($B$1:B9,$K$1:K9)","v":0.9169053510545111},{"$f":"'Sheet3 (4)'!U9","v":-1.2987012987012987E-4},{"$f":"CORREL($B$1:B9,$M$1:M9)","v":-0.9103254879144772},{"$f":"'Sheet3 (4)'!W9","v":3.9037085230969419E-4},{"$f":"CORREL($B$1:B9,$O$1:O9)","v":-0.9042656711559659},{"$f":"'Sheet3 (4)'!Y9","v":5.2002080083203334E-4},{"$f":"CORREL($B$1:B9,$Q$1:Q9)","v":0.14409271967870815},{"$f":"'Sheet3 (4)'!AA9","v":0},{"$f":"CORREL($B$1:B9,$S$1:S9)","v":0.50520718236053808}]
[null,{"$f":"'Sheet3 (4)'!I10","v":9.1027308192457733E-4},{"$f":"'Sheet3 (4)'!K10","v":-3.8981288981288983E-4},{"$f":"CORREL($B$1:B10,$C$1:C10)","v":-0.59890351102369876},{"$f":"'Sheet3 (4)'!M10","v":1.562296575966671E-3},{"$f":"CORREL($B$1:B10,$E$1:E10)","v":-5.703586973049616E-2},{"$f":"'Sheet3 (4)'!O10","v":-3.902185223725286E-4},{"$f":"CORREL($B$1:B10,$G$1:G10)","v":-0.61333851861510669},{"$f":"'Sheet3 (4)'!Q10","v":-1.8177096857958971E-3},{"$f":"CORREL($B$1:B10,$I$1:I10)","v":0.76405810876771474},{"$f":"'Sheet3 (4)'!S10","v":1.2993762993762994E-3},{"$f":"CORREL($B$1:B10,$K$1:K10)","v":0.91313681888190201},{"$f":"'Sheet3 (4)'!U10","v":1.2987012987012987E-4},{"$f":"CORREL($B$1:B10,$M$1:M10)","v":-0.81292550722637058},{"$f":"'Sheet3 (4)'!W10","v":3.9037085230969419E-4},{"$f":"CORREL($B$1:B10,$O$1:O10)","v":-0.88911135331229796},{"$f":"'Sheet3 (4)'!Y10","v":5.2002080083203334E-4},{"$f":"CORREL($B$1:B10,$Q$1:Q10)","v":0.15281162175354288},{"$f":"'Sheet3 (4)'!AA10","v":-1.3000520020800833E-4},{"$f":"CORREL($B$1:B10,$S$1:S10)","v":0.4818927365909349}]
[null,{"$f":"'Sheet3 (4)'!I11","v":1.1703511053315994E-3},{"$f":"'Sheet3 (4)'!K11","v":-3.8981288981288983E-4},{"$f":"CORREL($B$1:B11,$C$1:C11)","v":-0.36177937121268627},{"$f":"'Sheet3 (4)'!M11","v":1.3019138133055592E-3},{"$f":"CORREL($B$1:B11,$E$1:E11)","v":-0.13733745703903141},{"$f":"'Sheet3 (4)'!O11","v":-3.902185223725286E-4},{"$f":"CORREL($B$1:B11,$G$1:G11)","v":-0.43038836710217249},{"$f":"'Sheet3 (4)'!Q11","v":-1.8177096857958971E-3},{"$f":"CORREL($B$1:B11,$I$1:I11)","v":0.5885890772948712},{"$f":"'Sheet3 (4)'!S11","v":1.1694386694386695E-3},{"$f":"CORREL($B$1:B11,$K$1:K11)","v":0.74778512303571931},{"$f":"'Sheet3 (4)'!U11","v":0},{"$f":"CORREL($B$1:B11,$M$1:M11)","v":-0.65253652349106195},{"$f":"'Sheet3 (4)'!W11","v":3.9037085230969419E-4},{"$f":"CORREL($B$1:B11,$O$1:O11)","v":-0.75737356993762239},{"$f":"'Sheet3 (4)'!Y11","v":3.9001560062402497E-4},{"$f":"CORREL($B$1:B11,$Q$1:Q11)","v":3.9904344223381093E-2},{"$f":"'Sheet3 (4)'!AA11","v":-1.3000520020800833E-4},{"$f":"CORREL($B$1:B11,$S$1:S11)","v":0.30524680865608167}]
[null,{"$f":"'Sheet3 (4)'!I12","v":1.0403120936280884E-3},{"$f":"'Sheet3 (4)'!K12","v":-3.8981288981288983E-4},{"$f":"CORREL($B$1:B12,$C$1:C12)","v":-0.30034248236530797},{"$f":"'Sheet3 (4)'!M12","v":1.4321051946361151E-3},{"$f":"CORREL($B$1:B12,$E$1:E12)","v":-0.1385813883618579},{"$f":"'Sheet3 (4)'!O12","v":-3.902185223725286E-4},{"$f":"CORREL($B$1:B12,$G$1:G12)","v":-0.37979589517264556},{"$f":"'Sheet3 (4)'!Q12","v":-1.8177096857958971E-3},{"$f":"CORREL($B$1:B12,$I$1:I12)","v":0.53700287990219941},{"$f":"'Sheet3 (4)'!S12","v":1.2993762993762994E-3},{"$f":"CORREL($B$1:B12,$K$1:K12)","v":0.7278712191232094},{"$f":"'Sheet3 (4)'!U12","v":-2.5974025974025974E-4},{"$f":"CORREL($B$1:B12,$M$1:M12)","v":-0.6502560887623553},{"$f":"'Sheet3 (4)'!W12","v":7.8074170461938839E-4},{"$f":"CORREL($B$1:B12,$O$1:O12)","v":-0.58208454915810803},{"$f":"'Sheet3 (4)'!Y12","v":3.9001560062402497E-4},{"$f":"CORREL($B$1:B12,$Q$1:Q12)","v":1.7322673545232176E-2},{"$f":"'Sheet3 (4)'!AA12","v":0},{"$f":"CORREL($B$1:B12,$S$1:S12)","v":0.29448545026894801}]
[null,{"$f":"'Sheet3 (4)'!I13","v":1.1703511053315994E-3},{"$f":"'Sheet3 (4)'!K13","v":-5.1975051975051978E-4},{"$f":"CORREL($B$1:B13,$C$1:C13)","v":-0.21639554343089953},{"$f":"'Sheet3 (4)'!M13","v":1.0415310506444472E-3},{"$f":"CORREL($B$1:B13,$E$1:E13)","v":-0.25200352807408977},{"$f":"'Sheet3 (4)'!O13","v":-2.6014568158168577E-4},{"$f":"CORREL($B$1:B13,$G$1:G13)","v":-0.22977525320608597},{"$f":"'Sheet3 (4)'!Q13","v":-1.6878732796676188E-3},{"$f":"CORREL($B$1:B13,$I$1:I13)","v":0.51695041605217273},{"$f":"'Sheet3 (4)'!S13","v":1.5592515592515593E-3},{"$f":"CORREL($B$1:B13,$K$1:K13)","v":0.73314418709267382},{"$f":"'Sheet3 (4)'!U13","v":-2.5974025974025974E-4},{"$f":"CORREL($B$1:B13,$M$1:M13)","v":-0.62958215310183807},{"$f":"'Sheet3 (4)'!W13","v":6.5061808718282373E-4},{"$f":"CORREL($B$1:B13,$O$1:O13)","v":-0.43896044363662129},{"$f":"'Sheet3 (4)'!Y13","v":0},{"$f":"CORREL($B$1:B13,$Q$1:Q13)","v":-0.16019826741236784},{"$f":"'Sheet3 (4)'!AA13","v":1.3000520020800833E-4},{"$f":"CORREL($B$1:B13,$S$1:S13)","v":0.31883482978455258}]
[null,{"$f":"'Sheet3 (4)'!I14","v":1.0403120936280884E-3},{"$f":"'Sheet3 (4)'!K14","v":-6.4968814968814972E-4},{"$f":"CORREL($B$1:B14,$C$1:C14)","v":-0.20706476521480918},{"$f":"'Sheet3 (4)'!M14","v":1.0415310506444472E-3},{"$f":"CORREL($B$1:B14,$E$1:E14)","v":-0.23745377349942348},{"$f":"'Sheet3 (4)'!O14","v":0},{"$f":"CORREL($B$1:B14,$G$1:G14)","v":-0.16404021076393882},{"$f":"'Sheet3 (4)'!Q14","v":-1.428200467411062E-3},{"$f":"CORREL($B$1:B14,$I$1:I14)","v":0.47761071584508985},{"$f":"'Sheet3 (4)'!S14","v":1.4293139293139294E-3},{"$f":"CORREL($B$1:B14,$K$1:K14)","v":0.73207798142601832},{"$f":"'Sheet3 (4)'!U14","v":-2.5974025974025974E-4},{"$f":"CORREL($B$1:B14,$M$1:M14)","v":-0.62858436322636613},{"$f":"'Sheet3 (4)'!W14","v":1.0409889394925179E-3},{"$f":"CORREL($B$1:B14,$O$1:O14)","v":-0.33661211363499288},{"$f":"'Sheet3 (4)'!Y14","v":0},{"$f":"CORREL($B$1:B14,$Q$1:Q14)","v":-0.15495592752634293},{"$f":"'Sheet3 (4)'!AA14","v":1.3000520020800833E-4},{"$f":"CORREL($B$1:B14,$S$1:S14)","v":0.32108204857514439}]
[null,{"$f":"'Sheet3 (4)'!I15","v":1.4304291287386215E-3},{"$f":"'Sheet3 (4)'!K15","v":-5.1975051975051978E-4},{"$f":"CORREL($B$1:B15,$C$1:C15)","v":-5.9868434008925074E-2},{"$f":"'Sheet3 (4)'!M15","v":1.0415310506444472E-3},{"$f":"CORREL($B$1:B15,$E$1:E15)","v":-0.39675690892046167},{"$f":"'Sheet3 (4)'!O15","v":1.3007284079084288E-4},{"$f":"CORREL($B$1:B15,$G$1:G15)","v":0.15169496905422949},{"$f":"'Sheet3 (4)'!Q15","v":-1.428200467411062E-3},{"$f":"CORREL($B$1:B15,$I$1:I15)","v":0.57535596178246107},{"$f":"'Sheet3 (4)'!S15","v":1.4293139293139294E-3},{"$f":"CORREL($B$1:B15,$K$1:K15)","v":0.63288621341285767},{"$f":"'Sheet3 (4)'!U15","v":1.2987012987012987E-4},{"$f":"CORREL($B$1:B15,$M$1:M15)","v":-0.30197858698510177},{"$f":"'Sheet3 (4)'!W15","v":1.0409889394925179E-3},{"$f":"CORREL($B$1:B15,$O$1:O15)","v":-2.7980010759248875E-2},{"$f":"'Sheet3 (4)'!Y15","v":2.6001040041601667E-4},{"$f":"CORREL($B$1:B15,$Q$1:Q15)","v":-0.23945657130528783},{"$f":"'Sheet3 (4)'!AA15","v":2.6001040041601667E-4},{"$f":"CORREL($B$1:B15,$S$1:S15)","v":0.4403524229639898}]
[null,{"$f":"'Sheet3 (4)'!I16","v":1.3003901170351106E-3},{"$f":"'Sheet3 (4)'!K16","v":-2.5987525987525989E-4},{"$f":"CORREL($B$1:B16,$C$1:C16)","v":5.6408716503304986E-2},{"$f":"'Sheet3 (4)'!M16","v":1.0415310506444472E-3},{"$f":"CORREL($B$1:B16,$E$1:E16)","v":-0.46091820708458053},{"$f":"'Sheet3 (4)'!O16","v":-1.3007284079084288E-4},{"$f":"CORREL($B$1:B16,$G$1:G16)","v":0.22515618132795315},{"$f":"'Sheet3 (4)'!Q16","v":-1.428200467411062E-3},{"$f":"CORREL($B$1:B16,$I$1:I16)","v":0.61733208332217848},{"$f":"'Sheet3 (4)'!S16","v":1.8191268191268192E-3},{"$f":"CORREL($B$1:B16,$K$1:K16)","v":0.67083907359115691},{"$f":"'Sheet3 (4)'!U16","v":1.2987012987012987E-4},{"$f":"CORREL($B$1:B16,$M$1:M16)","v":-0.16636168384943392},{"$f":"'Sheet3 (4)'!W16","v":1.1711125569290827E-3},{"$f":"CORREL($B$1:B16,$O$1:O16)","v":0.11249695681929402},{"$f":"'Sheet3 (4)'!Y16","v":-1.3000520020800833E-4},{"$f":"CORREL($B$1:B16,$Q$1:Q16)","v":-0.35111983127803381},{"$f":"'Sheet3 (4)'!AA16","v":2.6001040041601667E-4},{"$f":"CORREL($B$1:B16,$S$1:S16)","v":0.49329347619954839}]
[null,{"$f":"'Sheet3 (4)'!I17","v":1.5604681404421327E-3},{"$f":"'Sheet3 (4)'!K17","v":0},{"$f":"CORREL($B$1:B17,$C$1:C17)","v":0.27201762988712586},{"$f":"'Sheet3 (4)'!M17","v":9.1133966931389147E-4},{"$f":"CORREL($B$1:B17,$E$1:E17)","v":-0.5792284432164001},{"$f":"'Sheet3 (4)'!O17","v":-3.902185223725286E-4},{"$f":"CORREL($B$1:B17,$G$1:G17)","v":0.23465600199175898},{"$f":"'Sheet3 (4)'!Q17","v":-1.428200467411062E-3},{"$f":"CORREL($B$1:B17,$I$1:I17)","v":0.66277526759220029},{"$f":"'Sheet3 (4)'!S17","v":1.8191268191268192E-3},{"$f":"CORREL($B$1:B17,$K$1:K17)","v":0.71453074679168882},{"$f":"'Sheet3 (4)'!U17","v":2.5974025974025974E-4},{"$f":"CORREL($B$1:B17,$M$1:M17)","v":7.3584547862301411E-2},{"$f":"'Sheet3 (4)'!W17","v":1.0409889394925179E-3},{"$f":"CORREL($B$1:B17,$O$1:O17)","v":0.25975051467843635},{"$f":"'Sheet3 (4)'!Y17","v":-2.6001040041601667E-4},{"$f":"CORREL($B$1:B17,$Q$1:Q17)","v":-0.52215979255154177},{"$f":"'Sheet3 (4)'!AA17","v":1.3000520020800833E-4},{"$f":"CORREL($B$1:B17,$S$1:S17)","v":0.46351953291764447}]
[null,{"$f":"'Sheet3 (4)'!I18","v":1.5604681404421327E-3},{"$f":"'Sheet3 (4)'!K18","v":-5.1975051975051978E-4},{"$f":"CORREL($B$1:B18,$C$1:C18)","v":0.30028027566547383},{"$f":"'Sheet3 (4)'!M18","v":7.8114828798333548E-4},{"$f":"CORREL($B$1:B18,$E$1:E18)","v":-0.66411074229899636},{"$f":"'Sheet3 (4)'!O18","v":-1.3007284079084288E-4},{"$f":"CORREL($B$1:B18,$G$1:G18)","v":0.31632102475861812},{"$f":"'Sheet3 (4)'!Q18","v":-1.2983640612827837E-3},{"$f":"CORREL($B$1:B18,$I$1:I18)","v":0.72509472168493427},{"$f":"'Sheet3 (4)'!S18","v":1.5592515592515593E-3},{"$f":"CORREL($B$1:B18,$K$1:K18)","v":0.67612225460004749},{"$f":"'Sheet3 (4)'!U18","v":3.8961038961038961E-4},{"$f":"CORREL($B$1:B18,$M$1:M18)","v":0.24969206998191776},{"$f":"'Sheet3 (4)'!W18","v":1.431359791802212E-3},{"$f":"CORREL($B$1:B18,$O$1:O18)","v":0.40679161447318962},{"$f":"'Sheet3 (4)'!Y18","v":-1.3000520020800833E-4},{"$f":"CORREL($B$1:B18,$Q$1:Q18)","v":-0.59622242643631884},{"$f":"'Sheet3 (4)'!AA18","v":3.9001560062402497E-4},{"$f":"CORREL($B$1:B18,$S$1:S18)","v":0.56934174054377207}]
[null,{"$f":"'Sheet3 (4)'!I19","v":1.6905071521456437E-3},{"$f":"'Sheet3 (4)'!K19","v":-3.8981288981288983E-4},{"$f":"CORREL($B$1:B19,$C$1:C19)","v":0.35167403610792347},{"$f":"'Sheet3 (4)'!M19","v":6.5095690665277961E-4},{"$f":"CORREL($B$1:B19,$E$1:E19)","v":-0.74034656855958914},{"$f":"'Sheet3 (4)'!O19","v":-2.6014568158168577E-4},{"$f":"CORREL($B$1:B19,$G$1:G19)","v":0.34745229851603915},{"$f":"'Sheet3 (4)'!Q19","v":-1.2983640612827837E-3},{"$f":"CORREL($B$1:B19,$I$1:I19)","v":0.77084829855074255},{"$f":"'Sheet3 (4)'!S19","v":1.5592515592515593E-3},{"$f":"CORREL($B$1:B19,$K$1:K19)","v":0.6304231223361868},{"$f":"'Sheet3 (4)'!U19","v":5.1948051948051948E-4},{"$f":"CORREL($B$1:B19,$M$1:M19)","v":0.40988634055570744},{"$f":"'Sheet3 (4)'!W19","v":1.3012361743656475E-3},{"$f":"CORREL($B$1:B19,$O$1:O19)","v":0.50150520859240699},{"$f":"'Sheet3 (4)'!Y19","v":-3.9001560062402497E-4},{"$f":"CORREL($B$1:B19,$Q$1:Q19)","v":-0.68463200739213703},{"$f":"'Sheet3 (4)'!AA19","v":2.6001040041601667E-4},{"$f":"CORREL($B$1:B19,$S$1:S19)","v":0.59883250568372048}]
[null,{"$f":"'Sheet3 (4)'!I20","v":1.5604681404421327E-3},{"$f":"'Sheet3 (4)'!K20","v":-2.5987525987525989E-4},{"$f":"CORREL($B$1:B20,$C$1:C20)","v":0.40223942976282939},{"$f":"'Sheet3 (4)'!M20","v":7.8114828798333548E-4},{"$f":"CORREL($B$1:B20,$E$1:E20)","v":-0.76835288695926995},{"$f":"'Sheet3 (4)'!O20","v":-1.3007284079084288E-4},{"$f":"CORREL($B$1:B20,$G$1:G20)","v":0.39375935189139627},{"$f":"'Sheet3 (4)'!Q20","v":-1.428200467411062E-3},{"$f":"CORREL($B$1:B20,$I$1:I20)","v":0.77903685744466988},{"$f":"'Sheet3 (4)'!S20","v":1.2993762993762994E-3},{"$f":"CORREL($B$1:B20,$K$1:K20)","v":0.53381847344149402},{"$f":"'Sheet3 (4)'!U20","v":2.5974025974025974E-4},{"$f":"CORREL($B$1:B20,$M$1:M20)","v":0.45637149029555796},{"$f":"'Sheet3 (4)'!W20","v":1.431359791802212E-3},{"$f":"CORREL($B$1:B20,$O$1:O20)","v":0.55866524425895181},{"$f":"'Sheet3 (4)'!Y20","v":-3.9001560062402497E-4},{"$f":"CORREL($B$1:B20,$Q$1:Q20)","v":-0.72179290438122012},{"$f":"'Sheet3 (4)'!AA20","v":1.3000520020800833E-4},{"$f":"CORREL($B$1:B20,$S$1:S20)","v":0.57492054086396238}]
[null,{"$f":"'Sheet3 (4)'!I21","v":1.5604681404421327E-3},{"$f":"'Sheet3 (4)'!K21","v":-2.5987525987525989E-4},{"$f":"CORREL($B$1:B21,$C$1:C21)","v":0.44150277037780578},{"$f":"'Sheet3 (4)'!M21","v":7.8114828798333548E-4},{"$f":"CORREL($B$1:B21,$E$1:E21)","v":-0.78892895762335813},{"$f":"'Sheet3 (4)'!O21","v":0},{"$f":"CORREL($B$1:B21,$G$1:G21)","v":0.44555447374380353},{"$f":"'Sheet3 (4)'!Q21","v":-1.428200467411062E-3},{"$f":"CORREL($B$1:B21,$I$1:I21)","v":0.78612597867487899},{"$f":"'Sheet3 (4)'!S21","v":1.1694386694386695E-3},{"$f":"CORREL($B$1:B21,$K$1:K21)","v":0.41265521515756975},{"$f":"'Sheet3 (4)'!U21","v":1.2987012987012987E-4},{"$f":"CORREL($B$1:B21,$M$1:M21)","v":0.47612621351078199},{"$f":"'Sheet3 (4)'!W21","v":1.6916070266753415E-3},{"$f":"CORREL($B$1:B21,$O$1:O21)","v":0.60610081235286062},{"$f":"'Sheet3 (4)'!Y21","v":-6.5002600104004159E-4},{"$f":"CORREL($B$1:B21,$Q$1:Q21)","v":-0.74410443203046284},{"$f":"'Sheet3 (4)'!AA21","v":1.3000520020800833E-4},{"$f":"CORREL($B$1:B21,$S$1:S21)","v":0.55641456949371493}]
[null,{"$f":"'Sheet3 (4)'!I22","v":1.5604681404421327E-3},{"$f":"'Sheet3 (4)'!K22","v":-3.8981288981288983E-4},{"$f":"CORREL($B$1:B22,$C$1:C22)","v":0.4607393394945426},{"$f":"'Sheet3 (4)'!M22","v":9.1133966931389147E-4},{"$f":"CORREL($B$1:B22,$E$1:E22)","v":-0.79884677102933666},{"$f":"'Sheet3 (4)'!O22","v":0},{"$f":"CORREL($B$1:B22,$G$1:G22)","v":0.48550959860180687},{"$f":"'Sheet3 (4)'!Q22","v":-1.6878732796676188E-3},{"$f":"CORREL($B$1:B22,$I$1:I22)","v":0.71307748707559682},{"$f":"'Sheet3 (4)'!S22","v":1.1694386694386695E-3},{"$f":"CORREL($B$1:B22,$K$1:K22)","v":0.31801573659670362},{"$f":"'Sheet3 (4)'!U22","v":1.2987012987012987E-4},{"$f":"CORREL($B$1:B22,$M$1:M22)","v":0.49269097377346788},{"$f":"'Sheet3 (4)'!W22","v":1.9518542615484711E-3},{"$f":"CORREL($B$1:B22,$O$1:O22)","v":0.64084388944883663},{"$f":"'Sheet3 (4)'!Y22","v":-5.2002080083203334E-4},{"$f":"CORREL($B$1:B22,$Q$1:Q22)","v":-0.76450872078723586},{"$f":"'Sheet3 (4)'!AA22","v":1.3000520020800833E-4},{"$f":"CORREL($B$1:B22,$S$1:S22)","v":0.54165626657038779}]
[null,{"$f":"'Sheet3 (4)'!I23","v":1.5604681404421327E-3},{"$f":"'Sheet3 (4)'!K23","v":-3.8981288981288983E-4},{"$f":"CORREL($B$1:B23,$C$1:C23)","v":0.47702811607893192},{"$f":"'Sheet3 (4)'!M23","v":1.0415310506444472E-3},{"$f":"CORREL($B$1:B23,$E$1:E23)","v":-0.79605126888769495},{"$f":"'Sheet3 (4)'!O23","v":-2.6014568158168577E-4},{"$f":"CORREL($B$1:B23,$G$1:G23)","v":0.4912457120040673},{"$f":"'Sheet3 (4)'!Q23","v":-1.6878732796676188E-3},{"$f":"CORREL($B$1:B23,$I$1:I23)","v":0.65225341328958897},{"$f":"'Sheet3 (4)'!S23","v":1.1694386694386695E-3},{"$f":"CORREL($B$1:B23,$K$1:K23)","v":0.24204832152305814},{"$f":"'Sheet3 (4)'!U23","v":3.8961038961038961E-4},{"$f":"CORREL($B$1:B23,$M$1:M23)","v":0.52852940727032394},{"$f":"'Sheet3 (4)'!W23","v":1.6916070266753415E-3},{"$f":"CORREL($B$1:B23,$O$1:O23)","v":0.66692460499267181},{"$f":"'Sheet3 (4)'!Y23","v":-3.9001560062402497E-4},{"$f":"CORREL($B$1:B23,$Q$1:Q23)","v":-0.77988112962547951},{"$f":"'Sheet3 (4)'!AA23","v":-1.3000520020800833E-4},{"$f":"CORREL($B$1:B23,$S$1:S23)","v":0.40327614305261089}]
[null,{"$f":"'Sheet3 (4)'!I24","v":1.4304291287386215E-3},{"$f":"'Sheet3 (4)'!K24","v":-6.4968814968814972E-4},{"$f":"CORREL($B$1:B24,$C$1:C24)","v":0.47204361919442284},{"$f":"'Sheet3 (4)'!M24","v":1.0415310506444472E-3},{"$f":"CORREL($B$1:B24,$E$1:E24)","v":-0.79821986015417135},{"$f":"'Sheet3 (4)'!O24","v":-1.3007284079084288E-4},{"$f":"CORREL($B$1:B24,$G$1:G24)","v":0.50353003909701577},{"$f":"'Sheet3 (4)'!Q24","v":-1.5580368735393405E-3},{"$f":"CORREL($B$1:B24,$I$1:I24)","v":0.64911416364210572},{"$f":"'Sheet3 (4)'!S24","v":1.0395010395010396E-3},{"$f":"CORREL($B$1:B24,$K$1:K24)","v":0.18149120217197073},{"$f":"'Sheet3 (4)'!U24","v":3.8961038961038961E-4},{"$f":"CORREL($B$1:B24,$M$1:M24)","v":0.54250782289796429},{"$f":"'Sheet3 (4)'!W24","v":1.8217306441119063E-3},{"$f":"CORREL($B$1:B24,$O$1:O24)","v":0.67062350854279429},{"$f":"'Sheet3 (4)'!Y24","v":-3.9001560062402497E-4},{"$f":"CORREL($B$1:B24,$Q$1:Q24)","v":-0.7831037796848257},{"$f":"'Sheet3 (4)'!AA24","v":-2.6001040041601667E-4},{"$f":"CORREL($B$1:B24,$S$1:S24)","v":0.28521436875656525}]
[null,{"$f":"'Sheet3 (4)'!I25","v":1.4304291287386215E-3},{"$f":"'Sheet3 (4)'!K25","v":-6.4968814968814972E-4},{"$f":"CORREL($B$1:B25,$C$1:C25)","v":0.46759324375491435},{"$f":"'Sheet3 (4)'!M25","v":9.1133966931389147E-4},{"$f":"CORREL($B$1:B25,$E$1:E25)","v":-0.80242258626689478},{"$f":"'Sheet3 (4)'!O25","v":-3.902185223725286E-4},{"$f":"CORREL($B$1:B25,$G$1:G25)","v":0.49830538809841224},{"$f":"'Sheet3 (4)'!Q25","v":-1.5580368735393405E-3},{"$f":"CORREL($B$1:B25,$I$1:I25)","v":0.64634230073811139},{"$f":"'Sheet3 (4)'!S25","v":1.2993762993762994E-3},{"$f":"CORREL($B$1:B25,$K$1:K25)","v":0.16549262326716679},{"$f":"'Sheet3 (4)'!U25","v":7.7922077922077922E-4},{"$f":"CORREL($B$1:B25,$M$1:M25)","v":0.54241782372912839},{"$f":"'Sheet3 (4)'!W25","v":1.6916070266753415E-3},{"$f":"CORREL($B$1:B25,$O$1:O25)","v":0.67681497135499014},{"$f":"'Sheet3 (4)'!Y25","v":-7.8003120124804995E-4},{"$f":"CORREL($B$1:B25,$Q$1:Q25)","v":-0.76810899118102061},{"$f":"'Sheet3 (4)'!AA25","v":-2.6001040041601667E-4},{"$f":"CORREL($B$1:B25,$S$1:S25)","v":0.20166257833936488}]
[null,{"$f":"'Sheet3 (4)'!I26","v":1.4304291287386215E-3},{"$f":"'Sheet3 (4)'!K26","v":-6.4968814968814972E-4},{"$f":"CORREL($B$1:B26,$C$1:C26)","v":0.4635949903482795},{"$f":"'Sheet3 (4)'!M26","v":9.1133966931389147E-4},{"$f":"CORREL($B$1:B26,$E$1:E26)","v":-0.80614882481305783},{"$f":"'Sheet3 (4)'!O26","v":-2.6014568158168577E-4},{"$f":"CORREL($B$1:B26,$G$1:G26)","v":0.50286434105956235},{"$f":"'Sheet3 (4)'!Q26","v":-1.428200467411062E-3},{"$f":"CORREL($B$1:B26,$I$1:I26)","v":0.65381552567582213},{"$f":"'Sheet3 (4)'!S26","v":9.0956340956340961E-4},{"$f":"CORREL($B$1:B26,$K$1:K26)","v":0.10370568995898991},{"$f":"'Sheet3 (4)'!U26","v":6.4935064935064935E-4},{"$f":"CORREL($B$1:B26,$M$1:M26)","v":0.55039988649958371},{"$f":"'Sheet3 (4)'!W26","v":1.6916070266753415E-3},{"$f":"CORREL($B$1:B26,$O$1:O26)","v":0.68244845803072274},{"$f":"'Sheet3 (4)'!Y26","v":-6.5002600104004159E-4},{"$f":"CORREL($B$1:B26,$Q$1:Q26)","v":-0.76528198102010481},{"$f":"'Sheet3 (4)'!AA26","v":0},{"$f":"CORREL($B$1:B26,$S$1:S26)","v":0.18732122501598855}]
[null,{"$f":"'Sheet3 (4)'!I27","v":1.4304291287386215E-3},{"$f":"'Sheet3 (4)'!K27","v":-6.4968814968814972E-4},{"$f":"CORREL($B$1:B27,$C$1:C27)","v":0.45998290964233629},{"$f":"'Sheet3 (4)'!M27","v":9.1133966931389147E-4},{"$f":"CORREL($B$1:B27,$E$1:E27)","v":-0.80947527427491628},{"$f":"'Sheet3 (4)'!O27","v":-2.6014568158168577E-4},{"$f":"CORREL($B$1:B27,$G$1:G27)","v":0.5070043121172545},{"$f":"'Sheet3 (4)'!Q27","v":-1.428200467411062E-3},{"$f":"CORREL($B$1:B27,$I$1:I27)","v":0.66044808487023232},{"$f":"'Sheet3 (4)'!S27","v":1.0395010395010396E-3},{"$f":"CORREL($B$1:B27,$K$1:K27)","v":6.7799742157528473E-2},{"$f":"'Sheet3 (4)'!U27","v":6.4935064935064935E-4},{"$f":"CORREL($B$1:B27,$M$1:M27)","v":0.55798323838166608},{"$f":"'Sheet3 (4)'!W27","v":1.6916070266753415E-3},{"$f":"CORREL($B$1:B27,$O$1:O27)","v":0.68757324859946456},{"$f":"'Sheet3 (4)'!Y27","v":-3.9001560062402497E-4},{"$f":"CORREL($B$1:B27,$Q$1:Q27)","v":-0.76928244740031593},{"$f":"'Sheet3 (4)'!AA27","v":-2.6001040041601667E-4},{"$f":"CORREL($B$1:B27,$S$1:S27)","v":0.12811402717904352}]
[null,{"$f":"'Sheet3 (4)'!I28","v":1.4304291287386215E-3},{"$f":"'Sheet3 (4)'!K28","v":-6.4968814968814972E-4},{"$f":"CORREL($B$1:B28,$C$1:C28)","v":0.45670334279029323},{"$f":"'Sheet3 (4)'!M28","v":9.1133966931389147E-4},{"$f":"CORREL($B$1:B28,$E$1:E28)","v":-0.81246301001023702},{"$f":"'Sheet3 (4)'!O28","v":-3.902185223725286E-4},{"$f":"CORREL($B$1:B28,$G$1:G28)","v":0.50227165721683276},{"$f":"'Sheet3 (4)'!Q28","v":-1.5580368735393405E-3},{"$f":"CORREL($B$1:B28,$I$1:I28)","v":0.65703797781818396},{"$f":"'Sheet3 (4)'!S28","v":7.7962577962577967E-4},{"$f":"CORREL($B$1:B28,$K$1:K28)","v":1.4846268809490913E-2},{"$f":"'Sheet3 (4)'!U28","v":7.7922077922077922E-4},{"$f":"CORREL($B$1:B28,$M$1:M28)","v":0.56170930321624502},{"$f":"'Sheet3 (4)'!W28","v":1.8217306441119063E-3},{"$f":"CORREL($B$1:B28,$O$1:O28)","v":0.69071187230420239},{"$f":"'Sheet3 (4)'!Y28","v":-3.9001560062402497E-4},{"$f":"CORREL($B$1:B28,$Q$1:Q28)","v":-0.77288075052358718},{"$f":"'Sheet3 (4)'!AA28","v":-3.9001560062402497E-4},{"$f":"CORREL($B$1:B28,$S$1:S28)","v":6.1815816726011046E-2}]
[null,{"$f":"'Sheet3 (4)'!I29","v":1.4304291287386215E-3},{"$f":"'Sheet3 (4)'!K29","v":-7.7962577962577967E-4},{"$f":"CORREL($B$1:B29,$C$1:C29)","v":0.44484827305319385},{"$f":"'Sheet3 (4)'!M29","v":9.1133966931389147E-4},{"$f":"CORREL($B$1:B29,$E$1:E29)","v":-0.81516126897550012},{"$f":"'Sheet3 (4)'!O29","v":-3.902185223725286E-4},{"$f":"CORREL($B$1:B29,$G$1:G29)","v":0.49794819765242287},{"$f":"'Sheet3 (4)'!Q29","v":-1.5580368735393405E-3},{"$f":"CORREL($B$1:B29,$I$1:I29)","v":0.65393581977786341},{"$f":"'Sheet3 (4)'!S29","v":7.7962577962577967E-4},{"$f":"CORREL($B$1:B29,$K$1:K29)","v":-2.6856163335700251E-2},{"$f":"'Sheet3 (4)'!U29","v":7.7922077922077922E-4},{"$f":"CORREL($B$1:B29,$M$1:M29)","v":0.56597128973050392},{"$f":"'Sheet3 (4)'!W29","v":2.0819778789850358E-3},{"$f":"CORREL($B$1:B29,$O$1:O29)","v":0.68896062109908696},{"$f":"'Sheet3 (4)'!Y29","v":-3.9001560062402497E-4},{"$f":"CORREL($B$1:B29,$Q$1:Q29)","v":-0.77613425873603914},{"$f":"'Sheet3 (4)'!AA29","v":-3.9001560062402497E-4},{"$f":"CORREL($B$1:B29,$S$1:S29)","v":1.1896113579728028E-2}]
[null,{"$f":"'Sheet3 (4)'!I30","v":1.3003901170351106E-3},{"$f":"'Sheet3 (4)'!K30","v":-6.4968814968814972E-4},{"$f":"CORREL($B$1:B30,$C$1:C30)","v":0.44475667146564057},{"$f":"'Sheet3 (4)'!M30","v":1.1717224319750033E-3},{"$f":"CORREL($B$1:B30,$E$1:E30)","v":-0.81406910108185115},{"$f":"'Sheet3 (4)'!O30","v":-3.902185223725286E-4},{"$f":"CORREL($B$1:B30,$G$1:G30)","v":0.49753569640393974},{"$f":"'Sheet3 (4)'!Q30","v":-1.428200467411062E-3},{"$f":"CORREL($B$1:B30,$I$1:I30)","v":0.64944537673885683},{"$f":"'Sheet3 (4)'!S30","v":7.7962577962577967E-4},{"$f":"CORREL($B$1:B30,$K$1:K30)","v":-3.3883131918761897E-2},{"$f":"'Sheet3 (4)'!U30","v":5.1948051948051948E-4},{"$f":"CORREL($B$1:B30,$M$1:M30)","v":0.56097155255399689},{"$f":"'Sheet3 (4)'!W30","v":1.9518542615484711E-3},{"$f":"CORREL($B$1:B30,$O$1:O30)","v":0.67381444194672402},{"$f":"'Sheet3 (4)'!Y30","v":-6.5002600104004159E-4},{"$f":"CORREL($B$1:B30,$Q$1:Q30)","v":-0.75743025739067305},{"$f":"'Sheet3 (4)'!AA30","v":-3.9001560062402497E-4},{"$f":"CORREL($B$1:B30,$S$1:S30)","v":1.8979820216492198E-3}]
[null,{"$f":"'Sheet3 (4)'!I31","v":{"$error":"#N/A"}},{"$f":"'Sheet3 (4)'!K31","v":-5.1975051975051978E-4},{"$f":"CORREL($B$1:B31,$C$1:C31)","v":{"$error":"#N/A"}},{"$f":"'Sheet3 (4)'!M31","v":1.3019138133055592E-3},{"$f":"CORREL($B$1:B31,$E$1:E31)","v":{"$error":"#N/A"}},{"$f":"'Sheet3 (4)'!O31","v":-3.902185223725286E-4},{"$f":"CORREL($B$1:B31,$G$1:G31)","v":{"$error":"#N/A"}},{"$f":"'Sheet3 (4)'!Q31","v":-1.5580368735393405E-3},{"$f":"CORREL($B$1:B31,$I$1:I31)","v":{"$error":"#N/A"}},{"$f":"'Sheet3 (4)'!S31","v":7.7962577962577967E-4},{"$f":"CORREL($B$1:B31,$K$1:K31)","v":{"$error":"#N/A"}},{"$f":"'Sheet3 (4)'!U31","v":3.8961038961038961E-4},{"$f":"CORREL($B$1:B31,$M$1:M31)","v":{"$error":"#N/A"}},{"$f":"'Sheet3 (4)'!W31","v":1.9518542615484711E-3},{"$f":"CORREL($B$1:B31,$O$1:O31)","v":{"$error":"#N/A"}},{"$f":"'Sheet3 (4)'!Y31","v":-5.2002080083203334E-4},{"$f":"CORREL($B$1:B31,$Q$1:Q31)","v":{"$error":"#N/A"}},{"$f":"'Sheet3 (4)'!AA31","v":-1.3000520020800833E-4},{"$f":"CORREL($B$1:B31,$S$1:S31)","v":{"$error":"#N/A"}}]
[null,{"$f":"'Sheet3 (4)'!I32","v":{"$error":"#N/A"}},{"$f":"'Sheet3 (4)'!K32","v":-5.1975051975051978E-4},{"$f":"CORREL($B$1:B32,$C$1:C32)","v":{"$error":"#N/A"}},{"$f":"'Sheet3 (4)'!M32","v":1.3019138133055592E-3},{"$f":"CORREL($B$1:B32,$E$1:E32)","v":{"$error":"#N/A"}},{"$f":"'Sheet3 (4)'!O32","v":-2.6014568158168577E-4},{"$f":"CORREL($B$1:B32,$G$1:G32)","v":{"$error":"#N/A"}},{"$f":"'Sheet3 (4)'!Q32","v":-1.5580368735393405E-3},{"$f":"CORREL($B$1:B32,$I$1:I32)","v":{"$error":"#N/A"}},{"$f":"'Sheet3 (4)'!S32","v":5.1975051975051978E-4},{"$f":"CORREL($B$1:B32,$K$1:K32)","v":{"$error":"#N/A"}},{"$f":"'Sheet3 (4)'!U32","v":3.8961038961038961E-4},{"$f":"CORREL($B$1:B32,$M$1:M32)","v":{"$error":"#N/A"}},{"$f":"'Sheet3 (4)'!W32","v":1.6916070266753415E-3},{"$f":"CORREL($B$1:B32,$O$1:O32)","v":{"$error":"#N/A"}},{"$f":"'Sheet3 (4)'!Y32","v":-5.2002080083203334E-4},{"$f":"CORREL($B$1:B32,$Q$1:Q32)","v":{"$error":"#N/A"}},{"$f":"'Sheet3 (4)'!AA32","v":-1.3000520020800833E-4},{"$f":"CORREL($B$1:B32,$S$1:S32)","v":{"$error":"#N/A"}}]
[null,{"$f":"'Sheet3 (4)'!I33","v":{"$error":"#N/A"}},{"$f":"'Sheet3 (4)'!K33","v":-5.1975051975051978E-4},{"$f":"CORREL($B$1:B33,$C$1:C33)","v":{"$error":"#N/A"}},{"$f":"'Sheet3 (4)'!M33","v":1.3019138133055592E-3},{"$f":"CORREL($B$1:B33,$E$1:E33)","v":{"$error":"#N/A"}},{"$f":"'Sheet3 (4)'!O33","v":-3.902185223725286E-4},{"$f":"CORREL($B$1:B33,$G$1:G33)","v":{"$error":"#N/A"}},{"$f":"'Sheet3 (4)'!Q33","v":-1.428200467411062E-3},{"$f":"CORREL($B$1:B33,$I$1:I33)","v":{"$error":"#N/A"}},{"$f":"'Sheet3 (4)'!S33","v":5.1975051975051978E-4},{"$f":"CORREL($B$1:B33,$K$1:K33)","v":{"$error":"#N/A"}},{"$f":"'Sheet3 (4)'!U33","v":2.5974025974025974E-4},{"$f":"CORREL($B$1:B33,$M$1:M33)","v":{"$error":"#N/A"}},{"$f":"'Sheet3 (4)'!W33","v":1.8217306441119063E-3},{"$f":"CORREL($B$1:B33,$O$1:O33)","v":{"$error":"#N/A"}},{"$f":"'Sheet3 (4)'!Y33","v":-2.6001040041601667E-4},{"$f":"CORREL($B$1:B33,$Q$1:Q33)","v":{"$error":"#N/A"}},{"$f":"'Sheet3 (4)'!AA33","v":-1.3000520020800833E-4},{"$f":"CORREL($B$1:B33,$S$1:S33)","v":{"$error":"#N/A"}}]
[null,{"$f":"'Sheet3 (4)'!I34","v":{"$error":"#N/A"}},{"$f":"'Sheet3 (4)'!K34","v":-6.4968814968814972E-4},{"$f":"CORREL($B$1:B34,$C$1:C34)","v":{"$error":"#N/A"}},{"$f":"'Sheet3 (4)'!M34","v":1.3019138133055592E-3},{"$f":"CORREL($B$1:B34,$E$1:E34)","v":{"$error":"#N/A"}},{"$f":"'Sheet3 (4)'!O34","v":-2.6014568158168577E-4},{"$f":"CORREL($B$1:B34,$G$1:G34)","v":{"$error":"#N/A"}},{"$f":"'Sheet3 (4)'!Q34","v":-1.2983640612827837E-3},{"$f":"CORREL($B$1:B34,$I$1:I34)","v":{"$error":"#N/A"}},{"$f":"'Sheet3 (4)'!S34","v":5.1975051975051978E-4},{"$f":"CORREL($B$1:B34,$K$1:K34)","v":{"$error":"#N/A"}},{"$f":"'Sheet3 (4)'!U34","v":2.5974025974025974E-4},{"$f":"CORREL($B$1:B34,$M$1:M34)","v":{"$error":"#N/A"}},{"$f":"'Sheet3 (4)'!W34","v":1.6916070266753415E-3},{"$f":"CORREL($B$1:B34,$O$1:O34)","v":{"$error":"#N/A"}},{"$f":"'Sheet3 (4)'!Y34","v":-2.6001040041601667E-4},{"$f":"CORREL($B$1:B34,$Q$1:Q34)","v":{"$error":"#N/A"}},{"$f":"'Sheet3 (4)'!AA34","v":0},{"$f":"CORREL($B$1:B34,$S$1:S34)","v":{"$error":"#N/A"}}]
[null,{"$f":"'Sheet3 (4)'!I35","v":{"$error":"#N/A"}},{"$f":"'Sheet3 (4)'!K35","v":-7.7962577962577967E-4},{"$f":"CORREL($B$1:B35,$C$1:C35)","v":{"$error":"#N/A"}},{"$f":"'Sheet3 (4)'!M35","v":1.3019138133055592E-3},{"$f":"CORREL($B$1:B35,$E$1:E35)","v":{"$error":"#N/A"}},{"$f":"'Sheet3 (4)'!O35","v":-3.902185223725286E-4},{"$f":"CORREL($B$1:B35,$G$1:G35)","v":{"$error":"#N/A"}},{"$f":"'Sheet3 (4)'!Q35","v":-1.1685276551545052E-3},{"$f":"CORREL($B$1:B35,$I$1:I35)","v":{"$error":"#N/A"}},{"$f":"'Sheet3 (4)'!S35","v":6.4968814968814972E-4},{"$f":"CORREL($B$1:B35,$K$1:K35)","v":{"$error":"#N/A"}},{"$f":"'Sheet3 (4)'!U35","v":2.5974025974025974E-4},{"$f":"CORREL($B$1:B35,$M$1:M35)","v":{"$error":"#N/A"}},{"$f":"'Sheet3 (4)'!W35","v":1.8217306441119063E-3},{"$f":"CORREL($B$1:B35,$O$1:O35)","v":{"$error":"#N/A"}},{"$f":"'Sheet3 (4)'!Y35","v":-5.2002080083203334E-4},{"$f":"CORREL($B$1:B35,$Q$1:Q35)","v":{"$error":"#N/A"}},{"$f":"'Sheet3 (4)'!AA35","v":0},{"$f":"CORREL($B$1:B35,$S$1:S35)","v":{"$error":"#N/A"}}]
[null,{"$f":"'Sheet3 (4)'!I36","v":{"$error":"#N/A"}},{"$f":"'Sheet3 (4)'!K36","v":-1.0395010395010396E-3},{"$f":"CORREL($B$1:B36,$C$1:C36)","v":{"$error":"#N/A"}},{"$f":"'Sheet3 (4)'!M36","v":1.0415310506444472E-3},{"$f":"CORREL($B$1:B36,$E$1:E36)","v":{"$error":"#N/A"}},{"$f":"'Sheet3 (4)'!O36","v":-5.2029136316337154E-4},{"$f":"CORREL($B$1:B36,$G$1:G36)","v":{"$error":"#N/A"}},{"$f":"'Sheet3 (4)'!Q36","v":-1.2983640612827837E-3},{"$f":"CORREL($B$1:B36,$I$1:I36)","v":{"$error":"#N/A"}},{"$f":"'Sheet3 (4)'!S36","v":5.1975051975051978E-4},{"$f":"CORREL($B$1:B36,$K$1:K36)","v":{"$error":"#N/A"}},{"$f":"'Sheet3 (4)'!U36","v":2.5974025974025974E-4},{"$f":"CORREL($B$1:B36,$M$1:M36)","v":{"$error":"#N/A"}},{"$f":"'Sheet3 (4)'!W36","v":1.8217306441119063E-3},{"$f":"CORREL($B$1:B36,$O$1:O36)","v":{"$error":"#N/A"}},{"$f":"'Sheet3 (4)'!Y36","v":-3.9001560062402497E-4},{"$f":"CORREL($B$1:B36,$Q$1:Q36)","v":{"$error":"#N/A"}},{"$f":"'Sheet3 (4)'!AA36","v":1.3000520020800833E-4},{"$f":"CORREL($B$1:B36,$S$1:S36)","v":{"$error":"#N/A"}}]
[null,{"$f":"'Sheet3 (4)'!I37","v":{"$error":"#N/A"}},{"$f":"'Sheet3 (4)'!K37","v":-9.0956340956340961E-4},{"$f":"CORREL($B$1:B37,$C$1:C37)","v":{"$error":"#N/A"}},{"$f":"'Sheet3 (4)'!M37","v":1.0415310506444472E-3},{"$f":"CORREL($B$1:B37,$E$1:E37)","v":{"$error":"#N/A"}},{"$f":"'Sheet3 (4)'!O37","v":-3.902185223725286E-4},{"$f":"CORREL($B$1:B37,$G$1:G37)","v":{"$error":"#N/A"}},{"$f":"'Sheet3 (4)'!Q37","v":-1.1685276551545052E-3},{"$f":"CORREL($B$1:B37,$I$1:I37)","v":{"$error":"#N/A"}},{"$f":"'Sheet3 (4)'!S37","v":3.8981288981288983E-4},{"$f":"CORREL($B$1:B37,$K$1:K37)","v":{"$error":"#N/A"}},{"$f":"'Sheet3 (4)'!U37","v":1.2987012987012987E-4},{"$f":"CORREL($B$1:B37,$M$1:M37)","v":{"$error":"#N/A"}},{"$f":"'Sheet3 (4)'!W37","v":1.8217306441119063E-3},{"$f":"CORREL($B$1:B37,$O$1:O37)","v":{"$error":"#N/A"}},{"$f":"'Sheet3 (4)'!Y37","v":-5.2002080083203334E-4},{"$f":"CORREL($B$1:B37,$Q$1:Q37)","v":{"$error":"#N/A"}},{"$f":"'Sheet3 (4)'!AA37","v":1.3000520020800833E-4},{"$f":"CORREL($B$1:B37,$S$1:S37)","v":{"$error":"#N/A"}}]
[null,{"$f":"'Sheet3 (4)'!I38","v":{"$error":"#N/A"}},{"$f":"'Sheet3 (4)'!K38","v":-7.7962577962577967E-4},{"$f":"CORREL($B$1:B38,$C$1:C38)","v":{"$error":"#N/A"}},{"$f":"'Sheet3 (4)'!M38","v":1.0415310506444472E-3},{"$f":"CORREL($B$1:B38,$E$1:E38)","v":{"$error":"#N/A"}},{"$f":"'Sheet3 (4)'!O38","v":-3.902185223725286E-4},{"$f":"CORREL($B$1:B38,$G$1:G38)","v":{"$error":"#N/A"}},{"$f":"'Sheet3 (4)'!Q38","v":-1.1685276551545052E-3},{"$f":"CORREL($B$1:B38,$I$1:I38)","v":{"$error":"#N/A"}},{"$f":"'Sheet3 (4)'!S38","v":5.1975051975051978E-4},{"$f":"CORREL($B$1:B38,$K$1:K38)","v":{"$error":"#N/A"}},{"$f":"'Sheet3 (4)'!U38","v":2.5974025974025974E-4},{"$f":"CORREL($B$1:B38,$M$1:M38)","v":{"$error":"#N/A"}},{"$f":"'Sheet3 (4)'!W38","v":1.5614834092387768E-3},{"$f":"CORREL($B$1:B38,$O$1:O38)","v":{"$error":"#N/A"}},{"$f":"'Sheet3 (4)'!Y38","v":-5.2002080083203334E-4},{"$f":"CORREL($B$1:B38,$Q$1:Q38)","v":{"$error":"#N/A"}},{"$f":"'Sheet3 (4)'!AA38","v":1.3000520020800833E-4},{"$f":"CORREL($B$1:B38,$S$1:S38)","v":{"$error":"#N/A"}}]
[null,{"$f":"'Sheet3 (4)'!I39","v":{"$error":"#N/A"}},{"$f":"'Sheet3 (4)'!K39","v":-9.0956340956340961E-4},{"$f":"CORREL($B$1:B39,$C$1:C39)","v":{"$error":"#N/A"}},{"$f":"'Sheet3 (4)'!M39","v":1.0415310506444472E-3},{"$f":"CORREL($B$1:B39,$E$1:E39)","v":{"$error":"#N/A"}},{"$f":"'Sheet3 (4)'!O39","v":-3.902185223725286E-4},{"$f":"CORREL($B$1:B39,$G$1:G39)","v":{"$error":"#N/A"}},{"$f":"'Sheet3 (4)'!Q39","v":-1.2983640612827837E-3},{"$f":"CORREL($B$1:B39,$I$1:I39)","v":{"$error":"#N/A"}},{"$f":"'Sheet3 (4)'!S39","v":6.4968814968814972E-4},{"$f":"CORREL($B$1:B39,$K$1:K39)","v":{"$error":"#N/A"}},{"$f":"'Sheet3 (4)'!U39","v":1.2987012987012987E-4},{"$f":"CORREL($B$1:B39,$M$1:M39)","v":{"$error":"#N/A"}},{"$f":"'Sheet3 (4)'!W39","v":1.431359791802212E-3},{"$f":"CORREL($B$1:B39,$O$1:O39)","v":{"$error":"#N/A"}},{"$f":"'Sheet3 (4)'!Y39","v":-5.2002080083203334E-4},{"$f":"CORREL($B$1:B39,$Q$1:Q39)","v":{"$error":"#N/A"}},{"$f":"'Sheet3 (4)'!AA39","v":1.3000520020800833E-4},{"$f":"CORREL($B$1:B39,$S$1:S39)","v":{"$error":"#N/A"}}]
[null,{"$f":"'Sheet3 (4)'!I40","v":{"$error":"#N/A"}},{"$f":"'Sheet3 (4)'!K40","v":-9.0956340956340961E-4},{"$f":"CORREL($B$1:B40,$C$1:C40)","v":{"$error":"#N/A"}},{"$f":"'Sheet3 (4)'!M40","v":1.1717224319750033E-3},{"$f":"CORREL($B$1:B40,$E$1:E40)","v":{"$error":"#N/A"}},{"$f":"'Sheet3 (4)'!O40","v":-5.2029136316337154E-4},{"$f":"CORREL($B$1:B40,$G$1:G40)","v":{"$error":"#N/A"}},{"$f":"'Sheet3 (4)'!Q40","v":-1.1685276551545052E-3},{"$f":"CORREL($B$1:B40,$I$1:I40)","v":{"$error":"#N/A"}},{"$f":"'Sheet3 (4)'!S40","v":3.8981288981288983E-4},{"$f":"CORREL($B$1:B40,$K$1:K40)","v":{"$error":"#N/A"}},{"$f":"'Sheet3 (4)'!U40","v":1.2987012987012987E-4},{"$f":"CORREL($B$1:B40,$M$1:M40)","v":{"$error":"#N/A"}},{"$f":"'Sheet3 (4)'!W40","v":1.5614834092387768E-3},{"$f":"CORREL($B$1:B40,$O$1:O40)","v":{"$error":"#N/A"}},{"$f":"'Sheet3 (4)'!Y40","v":-2.6001040041601667E-4},{"$f":"CORREL($B$1:B40,$Q$1:Q40)","v":{"$error":"#N/A"}},{"$f":"'Sheet3 (4)'!AA40","v":1.3000520020800833E-4},{"$f":"CORREL($B$1:B40,$S$1:S40)","v":{"$error":"#N/A"}}]
[null,{"$f":"'Sheet3 (4)'!I41","v":{"$error":"#N/A"}},{"$f":"'Sheet3 (4)'!K41","v":-9.0956340956340961E-4},{"$f":"CORREL($B$1:B41,$C$1:C41)","v":{"$error":"#N/A"}},{"$f":"'Sheet3 (4)'!M41","v":1.1717224319750033E-3},{"$f":"CORREL($B$1:B41,$E$1:E41)","v":{"$error":"#N/A"}},{"$f":"'Sheet3 (4)'!O41","v":-6.5036420395421437E-4},{"$f":"CORREL($B$1:B41,$G$1:G41)","v":{"$error":"#N/A"}},{"$f":"'Sheet3 (4)'!Q41","v":-1.2983640612827837E-3},{"$f":"CORREL($B$1:B41,$I$1:I41)","v":{"$error":"#N/A"}},{"$f":"'Sheet3 (4)'!S41","v":3.8981288981288983E-4},{"$f":"CORREL($B$1:B41,$K$1:K41)","v":{"$error":"#N/A"}},{"$f":"'Sheet3 (4)'!U41","v":0},{"$f":"CORREL($B$1:B41,$M$1:M41)","v":{"$error":"#N/A"}},{"$f":"'Sheet3 (4)'!W41","v":1.5614834092387768E-3},{"$f":"CORREL($B$1:B41,$O$1:O41)","v":{"$error":"#N/A"}},{"$f":"'Sheet3 (4)'!Y41","v":-3.9001560062402497E-4},{"$f":"CORREL($B$1:B41,$Q$1:Q41)","v":{"$error":"#N/A"}},{"$f":"'Sheet3 (4)'!AA41","v":1.3000520020800833E-4},{"$f":"CORREL($B$1:B41,$S$1:S41)","v":{"$error":"#N/A"}}]
[null,{"$f":"'Sheet3 (4)'!I42","v":{"$error":"#N/A"}},{"$f":"'Sheet3 (4)'!K42","v":-1.0395010395010396E-3},{"$f":"CORREL($B$1:B42,$C$1:C42)","v":{"$error":"#N/A"}},{"$f":"'Sheet3 (4)'!M42","v":9.1133966931389147E-4},{"$f":"CORREL($B$1:B42,$E$1:E42)","v":{"$error":"#N/A"}},{"$f":"'Sheet3 (4)'!O42","v":-6.5036420395421437E-4},{"$f":"CORREL($B$1:B42,$G$1:G42)","v":{"$error":"#N/A"}},{"$f":"'Sheet3 (4)'!Q42","v":-1.2983640612827837E-3},{"$f":"CORREL($B$1:B42,$I$1:I42)","v":{"$error":"#N/A"}},{"$f":"'Sheet3 (4)'!S42","v":3.8981288981288983E-4},{"$f":"CORREL($B$1:B42,$K$1:K42)","v":{"$error":"#N/A"}},{"$f":"'Sheet3 (4)'!U42","v":1.2987012987012987E-4},{"$f":"CORREL($B$1:B42,$M$1:M42)","v":{"$error":"#N/A"}},{"$f":"'Sheet3 (4)'!W42","v":1.5614834092387768E-3},{"$f":"CORREL($B$1:B42,$O$1:O42)","v":{"$error":"#N/A"}},{"$f":"'Sheet3 (4)'!Y42","v":-2.6001040041601667E-4},{"$f":"CORREL($B$1:B42,$Q$1:Q42)","v":{"$error":"#N/A"}},{"$f":"'Sheet3 (4)'!AA42","v":2.6001040041601667E-4},{"$f":"CORREL($B$1:B42,$S$1:S42)","v":{"$error":"#N/A"}}]
[null,{"$f":"'Sheet3 (4)'!I43","v":{"$error":"#N/A"}},{"$f":"'Sheet3 (4)'!K43","v":-1.0395010395010396E-3},{"$f":"CORREL($B$1:B43,$C$1:C43)","v":{"$error":"#N/A"}},{"$f":"'Sheet3 (4)'!M43","v":7.8114828798333548E-4},{"$f":"CORREL($B$1:B43,$E$1:E43)","v":{"$error":"#N/A"}},{"$f":"'Sheet3 (4)'!O43","v":-6.5036420395421437E-4},{"$f":"CORREL($B$1:B43,$G$1:G43)","v":{"$error":"#N/A"}},{"$f":"'Sheet3 (4)'!Q43","v":-1.2983640612827837E-3},{"$f":"CORREL($B$1:B43,$I$1:I43)","v":{"$error":"#N/A"}},{"$f":"'Sheet3 (4)'!S43","v":6.4968814968814972E-4},{"$f":"CORREL($B$1:B43,$K$1:K43)","v":{"$error":"#N/A"}},{"$f":"'Sheet3 (4)'!U43","v":0},{"$f":"CORREL($B$1:B43,$M$1:M43)","v":{"$error":"#N/A"}},{"$f":"'Sheet3 (4)'!W43","v":1.6916070266753415E-3},{"$f":"CORREL($B$1:B43,$O$1:O43)","v":{"$error":"#N/A"}},{"$f":"'Sheet3 (4)'!Y43","v":-5.2002080083203334E-4},{"$f":"CORREL($B$1:B43,$Q$1:Q43)","v":{"$error":"#N/A"}},{"$f":"'Sheet3 (4)'!AA43","v":2.6001040041601667E-4},{"$f":"CORREL($B$1:B43,$S$1:S43)","v":{"$error":"#N/A"}}]
[null,{"$f":"'Sheet3 (4)'!I44","v":{"$error":"#N/A"}},{"$f":"'Sheet3 (4)'!K44","v":-9.0956340956340961E-4},{"$f":"CORREL($B$1:B44,$C$1:C44)","v":{"$error":"#N/A"}},{"$f":"'Sheet3 (4)'!M44","v":9.1133966931389147E-4},{"$f":"CORREL($B$1:B44,$E$1:E44)","v":{"$error":"#N/A"}},{"$f":"'Sheet3 (4)'!O44","v":-6.5036420395421437E-4},{"$f":"CORREL($B$1:B44,$G$1:G44)","v":{"$error":"#N/A"}},{"$f":"'Sheet3 (4)'!Q44","v":-1.428200467411062E-3},{"$f":"CORREL($B$1:B44,$I$1:I44)","v":{"$error":"#N/A"}},{"$f":"'Sheet3 (4)'!S44","v":5.1975051975051978E-4},{"$f":"CORREL($B$1:B44,$K$1:K44)","v":{"$error":"#N/A"}},{"$f":"'Sheet3 (4)'!U44","v":1.2987012987012987E-4},{"$f":"CORREL($B$1:B44,$M$1:M44)","v":{"$error":"#N/A"}},{"$f":"'Sheet3 (4)'!W44","v":1.8217306441119063E-3},{"$f":"CORREL($B$1:B44,$O$1:O44)","v":{"$error":"#N/A"}},{"$f":"'Sheet3 (4)'!Y44","v":-3.9001560062402497E-4},{"$f":"CORREL($B$1:B44,$Q$1:Q44)","v":{"$error":"#N/A"}},{"$f":"'Sheet3 (4)'!AA44","v":1.3000520020800833E-4},{"$f":"CORREL($B$1:B44,$S$1:S44)","v":{"$error":"#N/A"}}]
[null,{"$f":"'Sheet3 (4)'!I45","v":{"$error":"#N/A"}},{"$f":"'Sheet3 (4)'!K45","v":-7.7962577962577967E-4},{"$f":"CORREL($B$1:B45,$C$1:C45)","v":{"$error":"#N/A"}},{"$f":"'Sheet3 (4)'!M45","v":9.1133966931389147E-4},{"$f":"CORREL($B$1:B45,$E$1:E45)","v":{"$error":"#N/A"}},{"$f":"'Sheet3 (4)'!O45","v":-5.2029136316337154E-4},{"$f":"CORREL($B$1:B45,$G$1:G45)","v":{"$error":"#N/A"}},{"$f":"'Sheet3 (4)'!Q45","v":-1.5580368735393405E-3},{"$f":"CORREL($B$1:B45,$I$1:I45)","v":{"$error":"#N/A"}},{"$f":"'Sheet3 (4)'!S45","v":7.7962577962577967E-4},{"$f":"CORREL($B$1:B45,$K$1:K45)","v":{"$error":"#N/A"}},{"$f":"'Sheet3 (4)'!U45","v":0},{"$f":"CORREL($B$1:B45,$M$1:M45)","v":{"$error":"#N/A"}},{"$f":"'Sheet3 (4)'!W45","v":1.8217306441119063E-3},{"$f":"CORREL($B$1:B45,$O$1:O45)","v":{"$error":"#N/A"}},{"$f":"'Sheet3 (4)'!Y45","v":-3.9001560062402497E-4},{"$f":"CORREL($B$1:B45,$Q$1:Q45)","v":{"$error":"#N/A"}},{"$f":"'Sheet3 (4)'!AA45","v":2.6001040041601667E-4},{"$f":"CORREL($B$1:B45,$S$1:S45)","v":{"$error":"#N/A"}}]
[null,{"$f":"'Sheet3 (4)'!I46","v":{"$error":"#N/A"}},{"$f":"'Sheet3 (4)'!K46","v":-7.7962577962577967E-4},{"$f":"CORREL($B$1:B46,$C$1:C46)","v":{"$error":"#N/A"}},{"$f":"'Sheet3 (4)'!M46","v":9.1133966931389147E-4},{"$f":"CORREL($B$1:B46,$E$1:E46)","v":{"$error":"#N/A"}},{"$f":"'Sheet3 (4)'!O46","v":-5.2029136316337154E-4},{"$f":"CORREL($B$1:B46,$G$1:G46)","v":{"$error":"#N/A"}},{"$f":"'Sheet3 (4)'!Q46","v":-1.5580368735393405E-3},{"$f":"CORREL($B$1:B46,$I$1:I46)","v":{"$error":"#N/A"}},{"$f":"'Sheet3 (4)'!S46","v":7.7962577962577967E-4},{"$f":"CORREL($B$1:B46,$K$1:K46)","v":{"$error":"#N/A"}},{"$f":"'Sheet3 (4)'!U46","v":1.2987012987012987E-4},{"$f":"CORREL($B$1:B46,$M$1:M46)","v":{"$error":"#N/A"}},{"$f":"'Sheet3 (4)'!W46","v":1.8217306441119063E-3},{"$f":"CORREL($B$1:B46,$O$1:O46)","v":{"$error":"#N/A"}},{"$f":"'Sheet3 (4)'!Y46","v":-7.8003120124804995E-4},{"$f":"CORREL($B$1:B46,$Q$1:Q46)","v":{"$error":"#N/A"}},{"$f":"'Sheet3 (4)'!AA46","v":3.9001560062402497E-4},{"$f":"CORREL($B$1:B46,$S$1:S46)","v":{"$error":"#N/A"}}]
[null,{"$f":"'Sheet3 (4)'!I47","v":{"$error":"#N/A"}},{"$f":"'Sheet3 (4)'!K47","v":-9.0956340956340961E-4},{"$f":"CORREL($B$1:B47,$C$1:C47)","v":{"$error":"#N/A"}},{"$f":"'Sheet3 (4)'!M47","v":7.8114828798333548E-4},{"$f":"CORREL($B$1:B47,$E$1:E47)","v":{"$error":"#N/A"}},{"$f":"'Sheet3 (4)'!O47","v":-6.5036420395421437E-4},{"$f":"CORREL($B$1:B47,$G$1:G47)","v":{"$error":"#N/A"}},{"$f":"'Sheet3 (4)'!Q47","v":-1.5580368735393405E-3},{"$f":"CORREL($B$1:B47,$I$1:I47)","v":{"$error":"#N/A"}},{"$f":"'Sheet3 (4)'!S47","v":7.7962577962577967E-4},{"$f":"CORREL($B$1:B47,$K$1:K47)","v":{"$error":"#N/A"}},{"$f":"'Sheet3 (4)'!U47","v":1.2987012987012987E-4},{"$f":"CORREL($B$1:B47,$M$1:M47)","v":{"$error":"#N/A"}},{"$f":"'Sheet3 (4)'!W47","v":1.9518542615484711E-3},{"$f":"CORREL($B$1:B47,$O$1:O47)","v":{"$error":"#N/A"}},{"$f":"'Sheet3 (4)'!Y47","v":-9.100364014560582E-4},{"$f":"CORREL($B$1:B47,$Q$1:Q47)","v":{"$error":"#N/A"}},{"$f":"'Sheet3 (4)'!AA47","v":5.2002080083203334E-4},{"$f":"CORREL($B$1:B47,$S$1:S47)","v":{"$error":"#N/A"}}]
[null,{"$f":"'Sheet3 (4)'!I48","v":{"$error":"#N/A"}},{"$f":"'Sheet3 (4)'!K48","v":-7.7962577962577967E-4},{"$f":"CORREL($B$1:B48,$C$1:C48)","v":{"$error":"#N/A"}},{"$f":"'Sheet3 (4)'!M48","v":1.0415310506444472E-3},{"$f":"CORREL($B$1:B48,$E$1:E48)","v":{"$error":"#N/A"}},{"$f":"'Sheet3 (4)'!O48","v":-6.5036420395421437E-4},{"$f":"CORREL($B$1:B48,$G$1:G48)","v":{"$error":"#N/A"}},{"$f":"'Sheet3 (4)'!Q48","v":-1.6878732796676188E-3},{"$f":"CORREL($B$1:B48,$I$1:I48)","v":{"$error":"#N/A"}},{"$f":"'Sheet3 (4)'!S48","v":7.7962577962577967E-4},{"$f":"CORREL($B$1:B48,$K$1:K48)","v":{"$error":"#N/A"}},{"$f":"'Sheet3 (4)'!U48","v":1.2987012987012987E-4},{"$f":"CORREL($B$1:B48,$M$1:M48)","v":{"$error":"#N/A"}},{"$f":"'Sheet3 (4)'!W48","v":1.9518542615484711E-3},{"$f":"CORREL($B$1:B48,$O$1:O48)","v":{"$error":"#N/A"}},{"$f":"'Sheet3 (4)'!Y48","v":-9.100364014560582E-4},{"$f":"CORREL($B$1:B48,$Q$1:Q48)","v":{"$error":"#N/A"}},{"$f":"'Sheet3 (4)'!AA48","v":2.6001040041601667E-4},{"$f":"CORREL($B$1:B48,$S$1:S48)","v":{"$error":"#N/A"}}]
[null,{"$f":"'Sheet3 (4)'!I49","v":{"$error":"#N/A"}},{"$f":"'Sheet3 (4)'!K49","v":-9.0956340956340961E-4},{"$f":"CORREL($B$1:B49,$C$1:C49)","v":{"$error":"#N/A"}},{"$f":"'Sheet3 (4)'!M49","v":1.1717224319750033E-3},{"$f":"CORREL($B$1:B49,$E$1:E49)","v":{"$error":"#N/A"}},{"$f":"'Sheet3 (4)'!O49","v":-7.804370447450572E-4},{"$f":"CORREL($B$1:B49,$G$1:G49)","v":{"$error":"#N/A"}},{"$f":"'Sheet3 (4)'!Q49","v":-1.6878732796676188E-3},{"$f":"CORREL($B$1:B49,$I$1:I49)","v":{"$error":"#N/A"}},{"$f":"'Sheet3 (4)'!S49","v":7.7962577962577967E-4},{"$f":"CORREL($B$1:B49,$K$1:K49)","v":{"$error":"#N/A"}},{"$f":"'Sheet3 (4)'!U49","v":-1.2987012987012987E-4},{"$f":"CORREL($B$1:B49,$M$1:M49)","v":{"$error":"#N/A"}},{"$f":"'Sheet3 (4)'!W49","v":2.0819778789850358E-3},{"$f":"CORREL($B$1:B49,$O$1:O49)","v":{"$error":"#N/A"}},{"$f":"'Sheet3 (4)'!Y49","v":-7.8003120124804995E-4},{"$f":"CORREL($B$1:B49,$Q$1:Q49)","v":{"$error":"#N/A"}},{"$f":"'Sheet3 (4)'!AA49","v":5.2002080083203334E-4},{"$f":"CORREL($B$1:B49,$S$1:S49)","v":{"$error":"#N/A"}}]
[null,{"$f":"'Sheet3 (4)'!I50","v":{"$error":"#N/A"}},{"$f":"'Sheet3 (4)'!K50","v":-7.7962577962577967E-4},{"$f":"CORREL($B$1:B50,$C$1:C50)","v":{"$error":"#N/A"}},{"$f":"'Sheet3 (4)'!M50","v":1.1717224319750033E-3},{"$f":"CORREL($B$1:B50,$E$1:E50)","v":{"$error":"#N/A"}},{"$f":"'Sheet3 (4)'!O50","v":-1.0405827263267431E-3},{"$f":"CORREL($B$1:B50,$G$1:G50)","v":{"$error":"#N/A"}},{"$f":"'Sheet3 (4)'!Q50","v":-1.6878732796676188E-3},{"$f":"CORREL($B$1:B50,$I$1:I50)","v":{"$error":"#N/A"}},{"$f":"'Sheet3 (4)'!S50","v":6.4968814968814972E-4},{"$f":"CORREL($B$1:B50,$K$1:K50)","v":{"$error":"#N/A"}},{"$f":"'Sheet3 (4)'!U50","v":-1.2987012987012987E-4},{"$f":"CORREL($B$1:B50,$M$1:M50)","v":{"$error":"#N/A"}},{"$f":"'Sheet3 (4)'!W50","v":2.0819778789850358E-3},{"$f":"CORREL($B$1:B50,$O$1:O50)","v":{"$error":"#N/A"}},{"$f":"'Sheet3 (4)'!Y50","v":-6.5002600104004159E-4},{"$f":"CORREL($B$1:B50,$Q$1:Q50)","v":{"$error":"#N/A"}},{"$f":"'Sheet3 (4)'!AA50","v":5.2002080083203334E-4},{"$f":"CORREL($B$1:B50,$S$1:S50)","v":{"$error":"#N/A"}}]
[null,{"$f":"'Sheet3 (4)'!I51","v":{"$error":"#N/A"}},{"$f":"'Sheet3 (4)'!K51","v":-1.0395010395010396E-3},{"$f":"CORREL($B$1:B51,$C$1:C51)","v":{"$error":"#N/A"}},{"$f":"'Sheet3 (4)'!M51","v":1.3019138133055592E-3},{"$f":"CORREL($B$1:B51,$E$1:E51)","v":{"$error":"#N/A"}},{"$f":"'Sheet3 (4)'!O51","v":-7.804370447450572E-4},{"$f":"CORREL($B$1:B51,$G$1:G51)","v":{"$error":"#N/A"}},{"$f":"'Sheet3 (4)'!Q51","v":-1.5580368735393405E-3},{"$f":"CORREL($B$1:B51,$I$1:I51)","v":{"$error":"#N/A"}},{"$f":"'Sheet3 (4)'!S51","v":6.4968814968814972E-4},{"$f":"CORREL($B$1:B51,$K$1:K51)","v":{"$error":"#N/A"}},{"$f":"'Sheet3 (4)'!U51","v":-1.2987012987012987E-4},{"$f":"CORREL($B$1:B51,$M$1:M51)","v":{"$error":"#N/A"}},{"$f":"'Sheet3 (4)'!W51","v":2.2121014964216006E-3},{"$f":"CORREL($B$1:B51,$O$1:O51)","v":{"$error":"#N/A"}},{"$f":"'Sheet3 (4)'!Y51","v":-3.9001560062402497E-4},{"$f":"CORREL($B$1:B51,$Q$1:Q51)","v":{"$error":"#N/A"}},{"$f":"'Sheet3 (4)'!AA51","v":3.9001560062402497E-4},{"$f":"CORREL($B$1:B51,$S$1:S51)","v":{"$error":"#N/A"}}]
[null,{"$f":"'Sheet3 (4)'!I52","v":{"$error":"#N/A"}},{"$f":"'Sheet3 (4)'!K52","v":-1.1694386694386695E-3},{"$f":"CORREL($B$1:B52,$C$1:C52)","v":{"$error":"#N/A"}},{"$f":"'Sheet3 (4)'!M52","v":1.3019138133055592E-3},{"$f":"CORREL($B$1:B52,$E$1:E52)","v":{"$error":"#N/A"}},{"$f":"'Sheet3 (4)'!O52","v":-6.5036420395421437E-4},{"$f":"CORREL($B$1:B52,$G$1:G52)","v":{"$error":"#N/A"}},{"$f":"'Sheet3 (4)'!Q52","v":-1.5580368735393405E-3},{"$f":"CORREL($B$1:B52,$I$1:I52)","v":{"$error":"#N/A"}},{"$f":"'Sheet3 (4)'!S52","v":6.4968814968814972E-4},{"$f":"CORREL($B$1:B52,$K$1:K52)","v":{"$error":"#N/A"}},{"$f":"'Sheet3 (4)'!U52","v":-1.2987012987012987E-4},{"$f":"CORREL($B$1:B52,$M$1:M52)","v":{"$error":"#N/A"}},{"$f":"'Sheet3 (4)'!W52","v":2.2121014964216006E-3},{"$f":"CORREL($B$1:B52,$O$1:O52)","v":{"$error":"#N/A"}},{"$f":"'Sheet3 (4)'!Y52","v":-6.5002600104004159E-4},{"$f":"CORREL($B$1:B52,$Q$1:Q52)","v":{"$error":"#N/A"}},{"$f":"'Sheet3 (4)'!AA52","v":3.9001560062402497E-4},{"$f":"CORREL($B$1:B52,$S$1:S52)","v":{"$error":"#N/A"}}]
[null,{"$f":"'Sheet3 (4)'!I53","v":{"$error":"#N/A"}},{"$f":"'Sheet3 (4)'!K53","v":-1.0395010395010396E-3},{"$f":"CORREL($B$1:B53,$C$1:C53)","v":{"$error":"#N/A"}},{"$f":"'Sheet3 (4)'!M53","v":1.1717224319750033E-3},{"$f":"CORREL($B$1:B53,$E$1:E53)","v":{"$error":"#N/A"}},{"$f":"'Sheet3 (4)'!O53","v":-7.804370447450572E-4},{"$f":"CORREL($B$1:B53,$G$1:G53)","v":{"$error":"#N/A"}},{"$f":"'Sheet3 (4)'!Q53","v":-1.6878732796676188E-3},{"$f":"CORREL($B$1:B53,$I$1:I53)","v":{"$error":"#N/A"}},{"$f":"'Sheet3 (4)'!S53","v":7.7962577962577967E-4},{"$f":"CORREL($B$1:B53,$K$1:K53)","v":{"$error":"#N/A"}},{"$f":"'Sheet3 (4)'!U53","v":-2.5974025974025974E-4},{"$f":"CORREL($B$1:B53,$M$1:M53)","v":{"$error":"#N/A"}},{"$f":"'Sheet3 (4)'!W53","v":2.2121014964216006E-3},{"$f":"CORREL($B$1:B53,$O$1:O53)","v":{"$error":"#N/A"}},{"$f":"'Sheet3 (4)'!Y53","v":-6.5002600104004159E-4},{"$f":"CORREL($B$1:B53,$Q$1:Q53)","v":{"$error":"#N/A"}},{"$f":"'Sheet3 (4)'!AA53","v":5.2002080083203334E-4},{"$f":"CORREL($B$1:B53,$S$1:S53)","v":{"$error":"#N/A"}}]
[null,{"$f":"'Sheet3 (4)'!I54","v":{"$error":"#N/A"}},{"$f":"'Sheet3 (4)'!K54","v":-1.1694386694386695E-3},{"$f":"CORREL($B$1:B54,$C$1:C54)","v":{"$error":"#N/A"}},{"$f":"'Sheet3 (4)'!M54","v":1.1717224319750033E-3},{"$f":"CORREL($B$1:B54,$E$1:E54)","v":{"$error":"#N/A"}},{"$f":"'Sheet3 (4)'!O54","v":-7.804370447450572E-4},{"$f":"CORREL($B$1:B54,$G$1:G54)","v":{"$error":"#N/A"}},{"$f":"'Sheet3 (4)'!Q54","v":-1.6878732796676188E-3},{"$f":"CORREL($B$1:B54,$I$1:I54)","v":{"$error":"#N/A"}},{"$f":"'Sheet3 (4)'!S54","v":6.4968814968814972E-4},{"$f":"CORREL($B$1:B54,$K$1:K54)","v":{"$error":"#N/A"}},{"$f":"'Sheet3 (4)'!U54","v":-1.2987012987012987E-4},{"$f":"CORREL($B$1:B54,$M$1:M54)","v":{"$error":"#N/A"}},{"$f":"'Sheet3 (4)'!W54","v":2.3422251138581654E-3},{"$f":"CORREL($B$1:B54,$O$1:O54)","v":{"$error":"#N/A"}},{"$f":"'Sheet3 (4)'!Y54","v":-6.5002600104004159E-4},{"$f":"CORREL($B$1:B54,$Q$1:Q54)","v":{"$error":"#N/A"}},{"$f":"'Sheet3 (4)'!AA54","v":6.5002600104004159E-4},{"$f":"CORREL($B$1:B54,$S$1:S54)","v":{"$error":"#N/A"}}]
[null,{"$f":"'Sheet3 (4)'!I55","v":{"$error":"#N/A"}},{"$f":"'Sheet3 (4)'!K55","v":-7.7962577962577967E-4},{"$f":"CORREL($B$1:B55,$C$1:C55)","v":{"$error":"#N/A"}},{"$f":"'Sheet3 (4)'!M55","v":1.0415310506444472E-3},{"$f":"CORREL($B$1:B55,$E$1:E55)","v":{"$error":"#N/A"}},{"$f":"'Sheet3 (4)'!O55","v":-6.5036420395421437E-4},{"$f":"CORREL($B$1:B55,$G$1:G55)","v":{"$error":"#N/A"}},{"$f":"'Sheet3 (4)'!Q55","v":-1.8177096857958971E-3},{"$f":"CORREL($B$1:B55,$I$1:I55)","v":{"$error":"#N/A"}},{"$f":"'Sheet3 (4)'!S55","v":6.4968814968814972E-4},{"$f":"CORREL($B$1:B55,$K$1:K55)","v":{"$error":"#N/A"}},{"$f":"'Sheet3 (4)'!U55","v":-1.2987012987012987E-4},{"$f":"CORREL($B$1:B55,$M$1:M55)","v":{"$error":"#N/A"}},{"$f":"'Sheet3 (4)'!W55","v":2.2121014964216006E-3},{"$f":"CORREL($B$1:B55,$O$1:O55)","v":{"$error":"#N/A"}},{"$f":"'Sheet3 (4)'!Y55","v":-7.8003120124804995E-4},{"$f":"CORREL($B$1:B55,$Q$1:Q55)","v":{"$error":"#N/A"}},{"$f":"'Sheet3 (4)'!AA55","v":5.2002080083203334E-4},{"$f":"CORREL($B$1:B55,$S$1:S55)","v":{"$error":"#N/A"}}]
[null,{"$f":"'Sheet3 (4)'!I56","v":{"$error":"#N/A"}},{"$f":"'Sheet3 (4)'!K56","v":-7.7962577962577967E-4},{"$f":"CORREL($B$1:B56,$C$1:C56)","v":{"$error":"#N/A"}},{"$f":"'Sheet3 (4)'!M56","v":1.0415310506444472E-3},{"$f":"CORREL($B$1:B56,$E$1:E56)","v":{"$error":"#N/A"}},{"$f":"'Sheet3 (4)'!O56","v":-3.902185223725286E-4},{"$f":"CORREL($B$1:B56,$G$1:G56)","v":{"$error":"#N/A"}},{"$f":"'Sheet3 (4)'!Q56","v":-1.6878732796676188E-3},{"$f":"CORREL($B$1:B56,$I$1:I56)","v":{"$error":"#N/A"}},{"$f":"'Sheet3 (4)'!S56","v":7.7962577962577967E-4},{"$f":"CORREL($B$1:B56,$K$1:K56)","v":{"$error":"#N/A"}},{"$f":"'Sheet3 (4)'!U56","v":-2.5974025974025974E-4},{"$f":"CORREL($B$1:B56,$M$1:M56)","v":{"$error":"#N/A"}},{"$f":"'Sheet3 (4)'!W56","v":2.3422251138581654E-3},{"$f":"CORREL($B$1:B56,$O$1:O56)","v":{"$error":"#N/A"}},{"$f":"'Sheet3 (4)'!Y56","v":-1.1700468018720749E-3},{"$f":"CORREL($B$1:B56,$Q$1:Q56)","v":{"$error":"#N/A"}},{"$f":"'Sheet3 (4)'!AA56","v":5.2002080083203334E-4},{"$f":"CORREL($B$1:B56,$S$1:S56)","v":{"$error":"#N/A"}}]
[null,{"$f":"'Sheet3 (4)'!I57","v":{"$error":"#N/A"}},{"$f":"'Sheet3 (4)'!K57","v":-6.4968814968814972E-4},{"$f":"CORREL($B$1:B57,$C$1:C57)","v":{"$error":"#N/A"}},{"$f":"'Sheet3 (4)'!M57","v":1.0415310506444472E-3},{"$f":"CORREL($B$1:B57,$E$1:E57)","v":{"$error":"#N/A"}},{"$f":"'Sheet3 (4)'!O57","v":-5.2029136316337154E-4},{"$f":"CORREL($B$1:B57,$G$1:G57)","v":{"$error":"#N/A"}},{"$f":"'Sheet3 (4)'!Q57","v":-1.6878732796676188E-3},{"$f":"CORREL($B$1:B57,$I$1:I57)","v":{"$error":"#N/A"}},{"$f":"'Sheet3 (4)'!S57","v":5.1975051975051978E-4},{"$f":"CORREL($B$1:B57,$K$1:K57)","v":{"$error":"#N/A"}},{"$f":"'Sheet3 (4)'!U57","v":-1.2987012987012987E-4},{"$f":"CORREL($B$1:B57,$M$1:M57)","v":{"$error":"#N/A"}},{"$f":"'Sheet3 (4)'!W57","v":2.2121014964216006E-3},{"$f":"CORREL($B$1:B57,$O$1:O57)","v":{"$error":"#N/A"}},{"$f":"'Sheet3 (4)'!Y57","v":-1.0400416016640667E-3},{"$f":"CORREL($B$1:B57,$Q$1:Q57)","v":{"$error":"#N/A"}},{"$f":"'Sheet3 (4)'!AA57","v":5.2002080083203334E-4},{"$f":"CORREL($B$1:B57,$S$1:S57)","v":{"$error":"#N/A"}}]
[null,{"$f":"'Sheet3 (4)'!I58","v":{"$error":"#N/A"}},{"$f":"'Sheet3 (4)'!K58","v":-5.1975051975051978E-4},{"$f":"CORREL($B$1:B58,$C$1:C58)","v":{"$error":"#N/A"}},{"$f":"'Sheet3 (4)'!M58","v":9.1133966931389147E-4},{"$f":"CORREL($B$1:B58,$E$1:E58)","v":{"$error":"#N/A"}},{"$f":"'Sheet3 (4)'!O58","v":-3.902185223725286E-4},{"$f":"CORREL($B$1:B58,$G$1:G58)","v":{"$error":"#N/A"}},{"$f":"'Sheet3 (4)'!Q58","v":-1.6878732796676188E-3},{"$f":"CORREL($B$1:B58,$I$1:I58)","v":{"$error":"#N/A"}},{"$f":"'Sheet3 (4)'!S58","v":3.8981288981288983E-4},{"$f":"CORREL($B$1:B58,$K$1:K58)","v":{"$error":"#N/A"}},{"$f":"'Sheet3 (4)'!U58","v":-1.2987012987012987E-4},{"$f":"CORREL($B$1:B58,$M$1:M58)","v":{"$error":"#N/A"}},{"$f":"'Sheet3 (4)'!W58","v":2.3422251138581654E-3},{"$f":"CORREL($B$1:B58,$O$1:O58)","v":{"$error":"#N/A"}},{"$f":"'Sheet3 (4)'!Y58","v":-1.3000520020800832E-3},{"$f":"CORREL($B$1:B58,$Q$1:Q58)","v":{"$error":"#N/A"}},{"$f":"'Sheet3 (4)'!AA58","v":5.2002080083203334E-4},{"$f":"CORREL($B$1:B58,$S$1:S58)","v":{"$error":"#N/A"}}]
[null,{"$f":"'Sheet3 (4)'!I59","v":{"$error":"#N/A"}},{"$f":"'Sheet3 (4)'!K59","v":-5.1975051975051978E-4},{"$f":"CORREL($B$1:B59,$C$1:C59)","v":{"$error":"#N/A"}},{"$f":"'Sheet3 (4)'!M59","v":1.1717224319750033E-3},{"$f":"CORREL($B$1:B59,$E$1:E59)","v":{"$error":"#N/A"}},{"$f":"'Sheet3 (4)'!O59","v":-3.902185223725286E-4},{"$f":"CORREL($B$1:B59,$G$1:G59)","v":{"$error":"#N/A"}},{"$f":"'Sheet3 (4)'!Q59","v":-1.8177096857958971E-3},{"$f":"CORREL($B$1:B59,$I$1:I59)","v":{"$error":"#N/A"}},{"$f":"'Sheet3 (4)'!S59","v":5.1975051975051978E-4},{"$f":"CORREL($B$1:B59,$K$1:K59)","v":{"$error":"#N/A"}},{"$f":"'Sheet3 (4)'!U59","v":-1.2987012987012987E-4},{"$f":"CORREL($B$1:B59,$M$1:M59)","v":{"$error":"#N/A"}},{"$f":"'Sheet3 (4)'!W59","v":2.3422251138581654E-3},{"$f":"CORREL($B$1:B59,$O$1:O59)","v":{"$error":"#N/A"}},{"$f":"'Sheet3 (4)'!Y59","v":-1.0400416016640667E-3},{"$f":"CORREL($B$1:B59,$Q$1:Q59)","v":{"$error":"#N/A"}},{"$f":"'Sheet3 (4)'!AA59","v":5.2002080083203334E-4},{"$f":"CORREL($B$1:B59,$S$1:S59)","v":{"$error":"#N/A"}}]
[null,{"$f":"'Sheet3 (4)'!I60","v":{"$error":"#N/A"}},{"$f":"'Sheet3 (4)'!K60","v":-5.1975051975051978E-4},{"$f":"CORREL($B$1:B60,$C$1:C60)","v":{"$error":"#N/A"}},{"$f":"'Sheet3 (4)'!M60","v":1.3019138133055592E-3},{"$f":"CORREL($B$1:B60,$E$1:E60)","v":{"$error":"#N/A"}},{"$f":"'Sheet3 (4)'!O60","v":-2.6014568158168577E-4},{"$f":"CORREL($B$1:B60,$G$1:G60)","v":{"$error":"#N/A"}},{"$f":"'Sheet3 (4)'!Q60","v":-1.8177096857958971E-3},{"$f":"CORREL($B$1:B60,$I$1:I60)","v":{"$error":"#N/A"}},{"$f":"'Sheet3 (4)'!S60","v":5.1975051975051978E-4},{"$f":"CORREL($B$1:B60,$K$1:K60)","v":{"$error":"#N/A"}},{"$f":"'Sheet3 (4)'!U60","v":-1.2987012987012987E-4},{"$f":"CORREL($B$1:B60,$M$1:M60)","v":{"$error":"#N/A"}},{"$f":"'Sheet3 (4)'!W60","v":2.2121014964216006E-3},{"$f":"CORREL($B$1:B60,$O$1:O60)","v":{"$error":"#N/A"}},{"$f":"'Sheet3 (4)'!Y60","v":-9.100364014560582E-4},{"$f":"CORREL($B$1:B60,$Q$1:Q60)","v":{"$error":"#N/A"}},{"$f":"'Sheet3 (4)'!AA60","v":6.5002600104004159E-4},{"$f":"CORREL($B$1:B60,$S$1:S60)","v":{"$error":"#N/A"}}]
[null,{"$f":"'Sheet3 (4)'!I61","v":{"$error":"#N/A"}},{"$f":"'Sheet3 (4)'!K61","v":-5.1975051975051978E-4},{"$f":"CORREL($B$1:B61,$C$1:C61)","v":{"$error":"#N/A"}},{"$f":"'Sheet3 (4)'!M61","v":1.3019138133055592E-3},{"$f":"CORREL($B$1:B61,$E$1:E61)","v":{"$error":"#N/A"}},{"$f":"'Sheet3 (4)'!O61","v":-2.6014568158168577E-4},{"$f":"CORREL($B$1:B61,$G$1:G61)","v":{"$error":"#N/A"}},{"$f":"'Sheet3 (4)'!Q61","v":-1.6878732796676188E-3},{"$f":"CORREL($B$1:B61,$I$1:I61)","v":{"$error":"#N/A"}},{"$f":"'Sheet3 (4)'!S61","v":7.7962577962577967E-4},{"$f":"CORREL($B$1:B61,$K$1:K61)","v":{"$error":"#N/A"}},{"$f":"'Sheet3 (4)'!U61","v":-1.2987012987012987E-4},{"$f":"CORREL($B$1:B61,$M$1:M61)","v":{"$error":"#N/A"}},{"$f":"'Sheet3 (4)'!W61","v":2.3422251138581654E-3},{"$f":"CORREL($B$1:B61,$O$1:O61)","v":{"$error":"#N/A"}},{"$f":"'Sheet3 (4)'!Y61","v":-9.100364014560582E-4},{"$f":"CORREL($B$1:B61,$Q$1:Q61)","v":{"$error":"#N/A"}},{"$f":"'Sheet3 (4)'!AA61","v":7.8003120124804995E-4},{"$f":"CORREL($B$1:B61,$S$1:S61)","v":{"$error":"#N/A"}}]
[null,{"$f":"'Sheet3 (4)'!I62","v":{"$error":"#N/A"}},{"$f":"'Sheet3 (4)'!K62","v":-5.1975051975051978E-4},{"$f":"CORREL($B$1:B62,$C$1:C62)","v":{"$error":"#N/A"}},{"$f":"'Sheet3 (4)'!M62","v":1.6924879572972268E-3},{"$f":"CORREL($B$1:B62,$E$1:E62)","v":{"$error":"#N/A"}},{"$f":"'Sheet3 (4)'!O62","v":-5.2029136316337154E-4},{"$f":"CORREL($B$1:B62,$G$1:G62)","v":{"$error":"#N/A"}},{"$f":"'Sheet3 (4)'!Q62","v":-1.6878732796676188E-3},{"$f":"CORREL($B$1:B62,$I$1:I62)","v":{"$error":"#N/A"}},{"$f":"'Sheet3 (4)'!S62","v":3.8981288981288983E-4},{"$f":"CORREL($B$1:B62,$K$1:K62)","v":{"$error":"#N/A"}},{"$f":"'Sheet3 (4)'!U62","v":1.2987012987012987E-4},{"$f":"CORREL($B$1:B62,$M$1:M62)","v":{"$error":"#N/A"}},{"$f":"'Sheet3 (4)'!W62","v":2.2121014964216006E-3},{"$f":"CORREL($B$1:B62,$O$1:O62)","v":{"$error":"#N/A"}},{"$f":"'Sheet3 (4)'!Y62","v":-9.100364014560582E-4},{"$f":"CORREL($B$1:B62,$Q$1:Q62)","v":{"$error":"#N/A"}},{"$f":"'Sheet3 (4)'!AA62","v":7.8003120124804995E-4},{"$f":"CORREL($B$1:B62,$S$1:S62)","v":{"$error":"#N/A"}}]
[null,{"$f":"'Sheet3 (4)'!I63","v":{"$error":"#N/A"}},{"$f":"'Sheet3 (4)'!K63","v":-5.1975051975051978E-4},{"$f":"CORREL($B$1:B63,$C$1:C63)","v":{"$error":"#N/A"}},{"$f":"'Sheet3 (4)'!M63","v":2.0830621012888945E-3},{"$f":"CORREL($B$1:B63,$E$1:E63)","v":{"$error":"#N/A"}},{"$f":"'Sheet3 (4)'!O63","v":-5.2029136316337154E-4},{"$f":"CORREL($B$1:B63,$G$1:G63)","v":{"$error":"#N/A"}},{"$f":"'Sheet3 (4)'!Q63","v":-1.8177096857958971E-3},{"$f":"CORREL($B$1:B63,$I$1:I63)","v":{"$error":"#N/A"}},{"$f":"'Sheet3 (4)'!S63","v":5.1975051975051978E-4},{"$f":"CORREL($B$1:B63,$K$1:K63)","v":{"$error":"#N/A"}},{"$f":"'Sheet3 (4)'!U63","v":1.2987012987012987E-4},{"$f":"CORREL($B$1:B63,$M$1:M63)","v":{"$error":"#N/A"}},{"$f":"'Sheet3 (4)'!W63","v":2.3422251138581654E-3},{"$f":"CORREL($B$1:B63,$O$1:O63)","v":{"$error":"#N/A"}},{"$f":"'Sheet3 (4)'!Y63","v":-9.100364014560582E-4},{"$f":"CORREL($B$1:B63,$Q$1:Q63)","v":{"$error":"#N/A"}},{"$f":"'Sheet3 (4)'!AA63","v":6.5002600104004159E-4},{"$f":"CORREL($B$1:B63,$S$1:S63)","v":{"$error":"#N/A"}}]
[null,{"$f":"'Sheet3 (4)'!I64","v":{"$error":"#N/A"}},{"$f":"'Sheet3 (4)'!K64","v":-5.1975051975051978E-4},{"$f":"CORREL($B$1:B64,$C$1:C64)","v":{"$error":"#N/A"}},{"$f":"'Sheet3 (4)'!M64","v":2.2132534826194506E-3},{"$f":"CORREL($B$1:B64,$E$1:E64)","v":{"$error":"#N/A"}},{"$f":"'Sheet3 (4)'!O64","v":-5.2029136316337154E-4},{"$f":"CORREL($B$1:B64,$G$1:G64)","v":{"$error":"#N/A"}},{"$f":"'Sheet3 (4)'!Q64","v":-1.8177096857958971E-3},{"$f":"CORREL($B$1:B64,$I$1:I64)","v":{"$error":"#N/A"}},{"$f":"'Sheet3 (4)'!S64","v":6.4968814968814972E-4},{"$f":"CORREL($B$1:B64,$K$1:K64)","v":{"$error":"#N/A"}},{"$f":"'Sheet3 (4)'!U64","v":-3.8961038961038961E-4},{"$f":"CORREL($B$1:B64,$M$1:M64)","v":{"$error":"#N/A"}},{"$f":"'Sheet3 (4)'!W64","v":2.2121014964216006E-3},{"$f":"CORREL($B$1:B64,$O$1:O64)","v":{"$error":"#N/A"}},{"$f":"'Sheet3 (4)'!Y64","v":-1.0400416016640667E-3},{"$f":"CORREL($B$1:B64,$Q$1:Q64)","v":{"$error":"#N/A"}},{"$f":"'Sheet3 (4)'!AA64","v":5.2002080083203334E-4},{"$f":"CORREL($B$1:B64,$S$1:S64)","v":{"$error":"#N/A"}}]
[null,{"$f":"'Sheet3 (4)'!I65","v":{"$error":"#N/A"}},{"$f":"'Sheet3 (4)'!K65","v":-5.1975051975051978E-4},{"$f":"CORREL($B$1:B65,$C$1:C65)","v":{"$error":"#N/A"}},{"$f":"'Sheet3 (4)'!M65","v":2.0830621012888945E-3},{"$f":"CORREL($B$1:B65,$E$1:E65)","v":{"$error":"#N/A"}},{"$f":"'Sheet3 (4)'!O65","v":-5.2029136316337154E-4},{"$f":"CORREL($B$1:B65,$G$1:G65)","v":{"$error":"#N/A"}},{"$f":"'Sheet3 (4)'!Q65","v":-1.6878732796676188E-3},{"$f":"CORREL($B$1:B65,$I$1:I65)","v":{"$error":"#N/A"}},{"$f":"'Sheet3 (4)'!S65","v":3.8981288981288983E-4},{"$f":"CORREL($B$1:B65,$K$1:K65)","v":{"$error":"#N/A"}},{"$f":"'Sheet3 (4)'!U65","v":-2.5974025974025974E-4},{"$f":"CORREL($B$1:B65,$M$1:M65)","v":{"$error":"#N/A"}},{"$f":"'Sheet3 (4)'!W65","v":2.3422251138581654E-3},{"$f":"CORREL($B$1:B65,$O$1:O65)","v":{"$error":"#N/A"}},{"$f":"'Sheet3 (4)'!Y65","v":-1.0400416016640667E-3},{"$f":"CORREL($B$1:B65,$Q$1:Q65)","v":{"$error":"#N/A"}},{"$f":"'Sheet3 (4)'!AA65","v":5.2002080083203334E-4},{"$f":"CORREL($B$1:B65,$S$1:S65)","v":{"$error":"#N/A"}}]
[null,{"$f":"'Sheet3 (4)'!I66","v":{"$error":"#N/A"}},{"$f":"'Sheet3 (4)'!K66","v":-5.1975051975051978E-4},{"$f":"CORREL($B$1:B66,$C$1:C66)","v":{"$error":"#N/A"}},{"$f":"'Sheet3 (4)'!M66","v":1.8226793386277829E-3},{"$f":"CORREL($B$1:B66,$E$1:E66)","v":{"$error":"#N/A"}},{"$f":"'Sheet3 (4)'!O66","v":-5.2029136316337154E-4},{"$f":"CORREL($B$1:B66,$G$1:G66)","v":{"$error":"#N/A"}},{"$f":"'Sheet3 (4)'!Q66","v":-1.9475460919241756E-3},{"$f":"CORREL($B$1:B66,$I$1:I66)","v":{"$error":"#N/A"}},{"$f":"'Sheet3 (4)'!S66","v":3.8981288981288983E-4},{"$f":"CORREL($B$1:B66,$K$1:K66)","v":{"$error":"#N/A"}},{"$f":"'Sheet3 (4)'!U66","v":-3.8961038961038961E-4},{"$f":"CORREL($B$1:B66,$M$1:M66)","v":{"$error":"#N/A"}},{"$f":"'Sheet3 (4)'!W66","v":2.3422251138581654E-3},{"$f":"CORREL($B$1:B66,$O$1:O66)","v":{"$error":"#N/A"}},{"$f":"'Sheet3 (4)'!Y66","v":-9.100364014560582E-4},{"$f":"CORREL($B$1:B66,$Q$1:Q66)","v":{"$error":"#N/A"}},{"$f":"'Sheet3 (4)'!AA66","v":5.2002080083203334E-4},{"$f":"CORREL($B$1:B66,$S$1:S66)","v":{"$error":"#N/A"}}]
[null,{"$f":"'Sheet3 (4)'!I67","v":{"$error":"#N/A"}},{"$f":"'Sheet3 (4)'!K67","v":-6.4968814968814972E-4},{"$f":"CORREL($B$1:B67,$C$1:C67)","v":{"$error":"#N/A"}},{"$f":"'Sheet3 (4)'!M67","v":1.9528707199583388E-3},{"$f":"CORREL($B$1:B67,$E$1:E67)","v":{"$error":"#N/A"}},{"$f":"'Sheet3 (4)'!O67","v":-6.5036420395421437E-4},{"$f":"CORREL($B$1:B67,$G$1:G67)","v":{"$error":"#N/A"}},{"$f":"'Sheet3 (4)'!Q67","v":-1.8177096857958971E-3},{"$f":"CORREL($B$1:B67,$I$1:I67)","v":{"$error":"#N/A"}},{"$f":"'Sheet3 (4)'!S67","v":5.1975051975051978E-4},{"$f":"CORREL($B$1:B67,$K$1:K67)","v":{"$error":"#N/A"}},{"$f":"'Sheet3 (4)'!U67","v":-6.4935064935064935E-4},{"$f":"CORREL($B$1:B67,$M$1:M67)","v":{"$error":"#N/A"}},{"$f":"'Sheet3 (4)'!W67","v":2.3422251138581654E-3},{"$f":"CORREL($B$1:B67,$O$1:O67)","v":{"$error":"#N/A"}},{"$f":"'Sheet3 (4)'!Y67","v":-7.8003120124804995E-4},{"$f":"CORREL($B$1:B67,$Q$1:Q67)","v":{"$error":"#N/A"}},{"$f":"'Sheet3 (4)'!AA67","v":5.2002080083203334E-4},{"$f":"CORREL($B$1:B67,$S$1:S67)","v":{"$error":"#N/A"}}]
[null,{"$f":"'Sheet3 (4)'!I68","v":{"$error":"#N/A"}},{"$f":"'Sheet3 (4)'!K68","v":-5.1975051975051978E-4},{"$f":"CORREL($B$1:B68,$C$1:C68)","v":{"$error":"#N/A"}},{"$f":"'Sheet3 (4)'!M68","v":1.9528707199583388E-3},{"$f":"CORREL($B$1:B68,$E$1:E68)","v":{"$error":"#N/A"}},{"$f":"'Sheet3 (4)'!O68","v":-6.5036420395421437E-4},{"$f":"CORREL($B$1:B68,$G$1:G68)","v":{"$error":"#N/A"}},{"$f":"'Sheet3 (4)'!Q68","v":-1.8177096857958971E-3},{"$f":"CORREL($B$1:B68,$I$1:I68)","v":{"$error":"#N/A"}},{"$f":"'Sheet3 (4)'!S68","v":7.7962577962577967E-4},{"$f":"CORREL($B$1:B68,$K$1:K68)","v":{"$error":"#N/A"}},{"$f":"'Sheet3 (4)'!U68","v":-3.8961038961038961E-4},{"$f":"CORREL($B$1:B68,$M$1:M68)","v":{"$error":"#N/A"}},{"$f":"'Sheet3 (4)'!W68","v":2.4723487312947301E-3},{"$f":"CORREL($B$1:B68,$O$1:O68)","v":{"$error":"#N/A"}},{"$f":"'Sheet3 (4)'!Y68","v":-6.5002600104004159E-4},{"$f":"CORREL($B$1:B68,$Q$1:Q68)","v":{"$error":"#N/A"}},{"$f":"'Sheet3 (4)'!AA68","v":6.5002600104004159E-4},{"$f":"CORREL($B$1:B68,$S$1:S68)","v":{"$error":"#N/A"}}]
[null,{"$f":"'Sheet3 (4)'!I69","v":{"$error":"#N/A"}},{"$f":"'Sheet3 (4)'!K69","v":-5.1975051975051978E-4},{"$f":"CORREL($B$1:B69,$C$1:C69)","v":{"$error":"#N/A"}},{"$f":"'Sheet3 (4)'!M69","v":1.8226793386277829E-3},{"$f":"CORREL($B$1:B69,$E$1:E69)","v":{"$error":"#N/A"}},{"$f":"'Sheet3 (4)'!O69","v":-6.5036420395421437E-4},{"$f":"CORREL($B$1:B69,$G$1:G69)","v":{"$error":"#N/A"}},{"$f":"'Sheet3 (4)'!Q69","v":-1.6878732796676188E-3},{"$f":"CORREL($B$1:B69,$I$1:I69)","v":{"$error":"#N/A"}},{"$f":"'Sheet3 (4)'!S69","v":6.4968814968814972E-4},{"$f":"CORREL($B$1:B69,$K$1:K69)","v":{"$error":"#N/A"}},{"$f":"'Sheet3 (4)'!U69","v":-2.5974025974025974E-4},{"$f":"CORREL($B$1:B69,$M$1:M69)","v":{"$error":"#N/A"}},{"$f":"'Sheet3 (4)'!W69","v":2.3422251138581654E-3},{"$f":"CORREL($B$1:B69,$O$1:O69)","v":{"$error":"#N/A"}},{"$f":"'Sheet3 (4)'!Y69","v":-5.2002080083203334E-4},{"$f":"CORREL($B$1:B69,$Q$1:Q69)","v":{"$error":"#N/A"}},{"$f":"'Sheet3 (4)'!AA69","v":1.3000520020800833E-4},{"$f":"CORREL($B$1:B69,$S$1:S69)","v":{"$error":"#N/A"}}]
[null,{"$f":"'Sheet3 (4)'!I70","v":{"$error":"#N/A"}},{"$f":"'Sheet3 (4)'!K70","v":-5.1975051975051978E-4},{"$f":"CORREL($B$1:B70,$C$1:C70)","v":{"$error":"#N/A"}},{"$f":"'Sheet3 (4)'!M70","v":1.9528707199583388E-3},{"$f":"CORREL($B$1:B70,$E$1:E70)","v":{"$error":"#N/A"}},{"$f":"'Sheet3 (4)'!O70","v":-6.5036420395421437E-4},{"$f":"CORREL($B$1:B70,$G$1:G70)","v":{"$error":"#N/A"}},{"$f":"'Sheet3 (4)'!Q70","v":-1.6878732796676188E-3},{"$f":"CORREL($B$1:B70,$I$1:I70)","v":{"$error":"#N/A"}},{"$f":"'Sheet3 (4)'!S70","v":6.4968814968814972E-4},{"$f":"CORREL($B$1:B70,$K$1:K70)","v":{"$error":"#N/A"}},{"$f":"'Sheet3 (4)'!U70","v":-5.1948051948051948E-4},{"$f":"CORREL($B$1:B70,$M$1:M70)","v":{"$error":"#N/A"}},{"$f":"'Sheet3 (4)'!W70","v":2.3422251138581654E-3},{"$f":"CORREL($B$1:B70,$O$1:O70)","v":{"$error":"#N/A"}},{"$f":"'Sheet3 (4)'!Y70","v":-5.2002080083203334E-4},{"$f":"CORREL($B$1:B70,$Q$1:Q70)","v":{"$error":"#N/A"}},{"$f":"'Sheet3 (4)'!AA70","v":1.3000520020800833E-4},{"$f":"CORREL($B$1:B70,$S$1:S70)","v":{"$error":"#N/A"}}]
[null,{"$f":"'Sheet3 (4)'!I71","v":{"$error":"#N/A"}},{"$f":"'Sheet3 (4)'!K71","v":-6.4968814968814972E-4},{"$f":"CORREL($B$1:B71,$C$1:C71)","v":{"$error":"#N/A"}},{"$f":"'Sheet3 (4)'!M71","v":2.0830621012888945E-3},{"$f":"CORREL($B$1:B71,$E$1:E71)","v":{"$error":"#N/A"}},{"$f":"'Sheet3 (4)'!O71","v":-6.5036420395421437E-4},{"$f":"CORREL($B$1:B71,$G$1:G71)","v":{"$error":"#N/A"}},{"$f":"'Sheet3 (4)'!Q71","v":-1.8177096857958971E-3},{"$f":"CORREL($B$1:B71,$I$1:I71)","v":{"$error":"#N/A"}},{"$f":"'Sheet3 (4)'!S71","v":6.4968814968814972E-4},{"$f":"CORREL($B$1:B71,$K$1:K71)","v":{"$error":"#N/A"}},{"$f":"'Sheet3 (4)'!U71","v":-6.4935064935064935E-4},{"$f":"CORREL($B$1:B71,$M$1:M71)","v":{"$error":"#N/A"}},{"$f":"'Sheet3 (4)'!W71","v":2.3422251138581654E-3},{"$f":"CORREL($B$1:B71,$O$1:O71)","v":{"$error":"#N/A"}},{"$f":"'Sheet3 (4)'!Y71","v":-7.8003120124804995E-4},{"$f":"CORREL($B$1:B71,$Q$1:Q71)","v":{"$error":"#N/A"}},{"$f":"'Sheet3 (4)'!AA71","v":2.6001040041601667E-4},{"$f":"CORREL($B$1:B71,$S$1:S71)","v":{"$error":"#N/A"}}]
[null,{"$f":"'Sheet3 (4)'!I72","v":{"$error":"#N/A"}},{"$f":"'Sheet3 (4)'!K72","v":-7.7962577962577967E-4},{"$f":"CORREL($B$1:B72,$C$1:C72)","v":{"$error":"#N/A"}},{"$f":"'Sheet3 (4)'!M72","v":1.9528707199583388E-3},{"$f":"CORREL($B$1:B72,$E$1:E72)","v":{"$error":"#N/A"}},{"$f":"'Sheet3 (4)'!O72","v":-9.1050988553590013E-4},{"$f":"CORREL($B$1:B72,$G$1:G72)","v":{"$error":"#N/A"}},{"$f":"'Sheet3 (4)'!Q72","v":-1.8177096857958971E-3},{"$f":"CORREL($B$1:B72,$I$1:I72)","v":{"$error":"#N/A"}},{"$f":"'Sheet3 (4)'!S72","v":7.7962577962577967E-4},{"$f":"CORREL($B$1:B72,$K$1:K72)","v":{"$error":"#N/A"}},{"$f":"'Sheet3 (4)'!U72","v":-5.1948051948051948E-4},{"$f":"CORREL($B$1:B72,$M$1:M72)","v":{"$error":"#N/A"}},{"$f":"'Sheet3 (4)'!W72","v":2.3422251138581654E-3},{"$f":"CORREL($B$1:B72,$O$1:O72)","v":{"$error":"#N/A"}},{"$f":"'Sheet3 (4)'!Y72","v":-9.100364014560582E-4},{"$f":"CORREL($B$1:B72,$Q$1:Q72)","v":{"$error":"#N/A"}},{"$f":"'Sheet3 (4)'!AA72","v":0},{"$f":"CORREL($B$1:B72,$S$1:S72)","v":{"$error":"#N/A"}}]
[null,{"$f":"'Sheet3 (4)'!I73","v":{"$error":"#N/A"}},{"$f":"'Sheet3 (4)'!K73","v":{"$error":"#N/A"}},{"$f":"CORREL($B$1:B73,$C$1:C73)","v":{"$error":"#N/A"}},{"$f":"'Sheet3 (4)'!M73","v":{"$error":"#N/A"}},{"$f":"CORREL($B$1:B73,$E$1:E73)","v":{"$error":"#N/A"}},{"$f":"'Sheet3 (4)'!O73","v":{"$error":"#N/A"}},{"$f":"CORREL($B$1:B73,$G$1:G73)","v":{"$error":"#N/A"}},{"$f":"'Sheet3 (4)'!Q73","v":{"$error":"#N/A"}},{"$f":"CORREL($B$1:B73,$I$1:I73)","v":{"$error":"#N/A"}},{"$f":"'Sheet3 (4)'!S73","v":{"$error":"#N/A"}},{"$f":"CORREL($B$1:B73,$K$1:K73)","v":{"$error":"#N/A"}},{"$f":"'Sheet3 (4)'!U73","v":{"$error":"#N/A"}},{"$f":"CORREL($B$1:B73,$M$1:M73)","v":{"$error":"#N/A"}},{"$f":"'Sheet3 (4)'!W73","v":{"$error":"#N/A"}},{"$f":"CORREL($B$1:B73,$O$1:O73)","v":{"$error":"#N/A"}},{"$f":"'Sheet3 (4)'!Y73","v":{"$error":"#N/A"}},{"$f":"CORREL($B$1:B73,$Q$1:Q73)","v":{"$error":"#N/A"}},{"$f":"'Sheet3 (4)'!AA73","v":{"$error":"#N/A"}},{"$f":"CORREL($B$1:B73,$S$1:S73)","v":{"$error":"#N/A"}}]
[null,{"$f":"'Sheet3 (4)'!I74","v":{"$error":"#N/A"}},{"$f":"'Sheet3 (4)'!K74","v":{"$error":"#N/A"}},{"$f":"CORREL($B$1:B74,$C$1:C74)","v":{"$error":"#N/A"}},{"$f":"'Sheet3 (4)'!M74","v":{"$error":"#N/A"}},{"$f":"CORREL($B$1:B74,$E$1:E74)","v":{"$error":"#N/A"}},{"$f":"'Sheet3 (4)'!O74","v":{"$error":"#N/A"}},{"$f":"CORREL($B$1:B74,$G$1:G74)","v":{"$error":"#N/A"}},{"$f":"'Sheet3 (4)'!Q74","v":{"$error":"#N/A"}},{"$f":"CORREL($B$1:B74,$I$1:I74)","v":{"$error":"#N/A"}},{"$f":"'Sheet3 (4)'!S74","v":{"$error":"#N/A"}},{"$f":"CORREL($B$1:B74,$K$1:K74)","v":{"$error":"#N/A"}},{"$f":"'Sheet3 (4)'!U74","v":{"$error":"#N/A"}},{"$f":"CORREL($B$1:B74,$M$1:M74)","v":{"$error":"#N/A"}},{"$f":"'Sheet3 (4)'!W74","v":{"$error":"#N/A"}},{"$f":"CORREL($B$1:B74,$O$1:O74)","v":{"$error":"#N/A"}},{"$f":"'Sheet3 (4)'!Y74","v":{"$error":"#N/A"}},{"$f":"CORREL($B$1:B74,$Q$1:Q74)","v":{"$error":"#N/A"}},{"$f":"'Sheet3 (4)'!AA74","v":{"$error":"#N/A"}},{"$f":"CORREL($B$1:B74,$S$1:S74)","v":{"$error":"#N/A"}}]
[null,{"$f":"'Sheet3 (4)'!I75","v":{"$error":"#N/A"}},{"$f":"'Sheet3 (4)'!K75","v":{"$error":"#N/A"}},{"$f":"CORREL($B$1:B75,$C$1:C75)","v":{"$error":"#N/A"}},{"$f":"'Sheet3 (4)'!M75","v":{"$error":"#N/A"}},{"$f":"CORREL($B$1:B75,$E$1:E75)","v":{"$error":"#N/A"}},{"$f":"'Sheet3 (4)'!O75","v":{"$error":"#N/A"}},{"$f":"CORREL($B$1:B75,$G$1:G75)","v":{"$error":"#N/A"}},{"$f":"'Sheet3 (4)'!Q75","v":{"$error":"#N/A"}},{"$f":"CORREL($B$1:B75,$I$1:I75)","v":{"$error":"#N/A"}},{"$f":"'Sheet3 (4)'!S75","v":{"$error":"#N/A"}},{"$f":"CORREL($B$1:B75,$K$1:K75)","v":{"$error":"#N/A"}},{"$f":"'Sheet3 (4)'!U75","v":{"$error":"#N/A"}},{"$f":"CORREL($B$1:B75,$M$1:M75)","v":{"$error":"#N/A"}},{"$f":"'Sheet3 (4)'!W75","v":{"$error":"#N/A"}},{"$f":"CORREL($B$1:B75,$O$1:O75)","v":{"$error":"#N/A"}},{"$f":"'Sheet3 (4)'!Y75","v":{"$error":"#N/A"}},{"$f":"CORREL($B$1:B75,$Q$1:Q75)","v":{"$error":"#N/A"}},{"$f":"'Sheet3 (4)'!AA75","v":{"$error":"#N/A"}},{"$f":"CORREL($B$1:B75,$S$1:S75)","v":{"$error":"#N/A"}}]
[null,{"$f":"'Sheet3 (4)'!I76","v":{"$error":"#N/A"}},{"$f":"'Sheet3 (4)'!K76","v":{"$error":"#N/A"}},{"$f":"CORREL($B$1:B76,$C$1:C76)","v":{"$error":"#N/A"}},{"$f":"'Sheet3 (4)'!M76","v":{"$error":"#N/A"}},{"$f":"CORREL($B$1:B76,$E$1:E76)","v":{"$error":"#N/A"}},{"$f":"'Sheet3 (4)'!O76","v":{"$error":"#N/A"}},{"$f":"CORREL($B$1:B76,$G$1:G76)","v":{"$error":"#N/A"}},{"$f":"'Sheet3 (4)'!Q76","v":{"$error":"#N/A"}},{"$f":"CORREL($B$1:B76,$I$1:I76)","v":{"$error":"#N/A"}},{"$f":"'Sheet3 (4)'!S76","v":{"$error":"#N/A"}},{"$f":"CORREL($B$1:B76,$K$1:K76)","v":{"$error":"#N/A"}},{"$f":"'Sheet3 (4)'!U76","v":{"$error":"#N/A"}},{"$f":"CORREL($B$1:B76,$M$1:M76)","v":{"$error":"#N/A"}},{"$f":"'Sheet3 (4)'!W76","v":{"$error":"#N/A"}},{"$f":"CORREL($B$1:B76,$O$1:O76)","v":{"$error":"#N/A"}},{"$f":"'Sheet3 (4)'!Y76","v":{"$error":"#N/A"}},{"$f":"CORREL($B$1:B76,$Q$1:Q76)","v":{"$error":"#N/A"}},{"$f":"'Sheet3 (4)'!AA76","v":{"$error":"#N/A"}},{"$f":"CORREL($B$1:B76,$S$1:S76)","v":{"$error":"#N/A"}}]
[null,{"$f":"'Sheet3 (4)'!I77","v":{"$error":"#N/A"}},{"$f":"'Sheet3 (4)'!K77","v":{"$error":"#N/A"}},{"$f":"CORREL($B$1:B77,$C$1:C77)","v":{"$error":"#N/A"}},{"$f":"'Sheet3 (4)'!M77","v":{"$error":"#N/A"}},{"$f":"CORREL($B$1:B77,$E$1:E77)","v":{"$error":"#N/A"}},{"$f":"'Sheet3 (4)'!O77","v":{"$error":"#N/A"}},{"$f":"CORREL($B$1:B77,$G$1:G77)","v":{"$error":"#N/A"}},{"$f":"'Sheet3 (4)'!Q77","v":{"$error":"#N/A"}},{"$f":"CORREL($B$1:B77,$I$1:I77)","v":{"$error":"#N/A"}},{"$f":"'Sheet3 (4)'!S77","v":{"$error":"#N/A"}},{"$f":"CORREL($B$1:B77,$K$1:K77)","v":{"$error":"#N/A"}},{"$f":"'Sheet3 (4)'!U77","v":{"$error":"#N/A"}},{"$f":"CORREL($B$1:B77,$M$1:M77)","v":{"$error":"#N/A"}},{"$f":"'Sheet3 (4)'!W77","v":{"$error":"#N/A"}},{"$f":"CORREL($B$1:B77,$O$1:O77)","v":{"$error":"#N/A"}},{"$f":"'Sheet3 (4)'!Y77","v":{"$error":"#N/A"}},{"$f":"CORREL($B$1:B77,$Q$1:Q77)","v":{"$error":"#N/A"}},{"$f":"'Sheet3 (4)'!AA77","v":{"$error":"#N/A"}},{"$f":"CORREL($B$1:B77,$S$1:S77)","v":{"$error":"#N/A"}}]
[null,{"$f":"'Sheet3 (4)'!I78","v":{"$error":"#N/A"}},{"$f":"'Sheet3 (4)'!K78","v":{"$error":"#N/A"}},{"$f":"CORREL($B$1:B78,$C$1:C78)","v":{"$error":"#N/A"}},{"$f":"'Sheet3 (4)'!M78","v":{"$error":"#N/A"}},{"$f":"CORREL($B$1:B78,$E$1:E78)","v":{"$error":"#N/A"}},{"$f":"'Sheet3 (4)'!O78","v":{"$error":"#N/A"}},{"$f":"CORREL($B$1:B78,$G$1:G78)","v":{"$error":"#N/A"}},{"$f":"'Sheet3 (4)'!Q78","v":{"$error":"#N/A"}},{"$f":"CORREL($B$1:B78,$I$1:I78)","v":{"$error":"#N/A"}},{"$f":"'Sheet3 (4)'!S78","v":{"$error":"#N/A"}},{"$f":"CORREL($B$1:B78,$K$1:K78)","v":{"$error":"#N/A"}},{"$f":"'Sheet3 (4)'!U78","v":{"$error":"#N/A"}},{"$f":"CORREL($B$1:B78,$M$1:M78)","v":{"$error":"#N/A"}},{"$f":"'Sheet3 (4)'!W78","v":{"$error":"#N/A"}},{"$f":"CORREL($B$1:B78,$O$1:O78)","v":{"$error":"#N/A"}},{"$f":"'Sheet3 (4)'!Y78","v":{"$error":"#N/A"}},{"$f":"CORREL($B$1:B78,$Q$1:Q78)","v":{"$error":"#N/A"}},{"$f":"'Sheet3 (4)'!AA78","v":{"$error":"#N/A"}},{"$f":"CORREL($B$1:B78,$S$1:S78)","v":{"$error":"#N/A"}}]
[null,{"$f":"'Sheet3 (4)'!I79","v":{"$error":"#N/A"}},{"$f":"'Sheet3 (4)'!K79","v":{"$error":"#N/A"}},{"$f":"CORREL($B$1:B79,$C$1:C79)","v":{"$error":"#N/A"}},{"$f":"'Sheet3 (4)'!M79","v":{"$error":"#N/A"}},{"$f":"CORREL($B$1:B79,$E$1:E79)","v":{"$error":"#N/A"}},{"$f":"'Sheet3 (4)'!O79","v":{"$error":"#N/A"}},{"$f":"CORREL($B$1:B79,$G$1:G79)","v":{"$error":"#N/A"}},{"$f":"'Sheet3 (4)'!Q79","v":{"$error":"#N/A"}},{"$f":"CORREL($B$1:B79,$I$1:I79)","v":{"$error":"#N/A"}},{"$f":"'Sheet3 (4)'!S79","v":{"$error":"#N/A"}},{"$f":"CORREL($B$1:B79,$K$1:K79)","v":{"$error":"#N/A"}},{"$f":"'Sheet3 (4)'!U79","v":{"$error":"#N/A"}},{"$f":"CORREL($B$1:B79,$M$1:M79)","v":{"$error":"#N/A"}},{"$f":"'Sheet3 (4)'!W79","v":{"$error":"#N/A"}},{"$f":"CORREL($B$1:B79,$O$1:O79)","v":{"$error":"#N/A"}},{"$f":"'Sheet3 (4)'!Y79","v":{"$error":"#N/A"}},{"$f":"CORREL($B$1:B79,$Q$1:Q79)","v":{"$error":"#N/A"}},{"$f":"'Sheet3 (4)'!AA79","v":{"$error":"#N/A"}},{"$f":"CORREL($B$1:B79,$S$1:S79)","v":{"$error":"#N/A"}}]
[null,{"$f":"'Sheet3 (4)'!I80","v":{"$error":"#N/A"}},{"$f":"'Sheet3 (4)'!K80","v":{"$error":"#N/A"}},{"$f":"CORREL($B$1:B80,$C$1:C80)","v":{"$error":"#N/A"}},{"$f":"'Sheet3 (4)'!M80","v":{"$error":"#N/A"}},{"$f":"CORREL($B$1:B80,$E$1:E80)","v":{"$error":"#N/A"}},{"$f":"'Sheet3 (4)'!O80","v":{"$error":"#N/A"}},{"$f":"CORREL($B$1:B80,$G$1:G80)","v":{"$error":"#N/A"}},{"$f":"'Sheet3 (4)'!Q80","v":{"$error":"#N/A"}},{"$f":"CORREL($B$1:B80,$I$1:I80)","v":{"$error":"#N/A"}},{"$f":"'Sheet3 (4)'!S80","v":{"$error":"#N/A"}},{"$f":"CORREL($B$1:B80,$K$1:K80)","v":{"$error":"#N/A"}},{"$f":"'Sheet3 (4)'!U80","v":{"$error":"#N/A"}},{"$f":"CORREL($B$1:B80,$M$1:M80)","v":{"$error":"#N/A"}},{"$f":"'Sheet3 (4)'!W80","v":{"$error":"#N/A"}},{"$f":"CORREL($B$1:B80,$O$1:O80)","v":{"$error":"#N/A"}},{"$f":"'Sheet3 (4)'!Y80","v":{"$error":"#N/A"}},{"$f":"CORREL($B$1:B80,$Q$1:Q80)","v":{"$error":"#N/A"}},{"$f":"'Sheet3 (4)'!AA80","v":{"$error":"#N/A"}},{"$f":"CORREL($B$1:B80,$S$1:S80)","v":{"$error":"#N/A"}}]
[null,{"$f":"'Sheet3 (4)'!I81","v":{"$error":"#N/A"}},{"$f":"'Sheet3 (4)'!K81","v":{"$error":"#N/A"}},{"$f":"CORREL($B$1:B81,$C$1:C81)","v":{"$error":"#N/A"}},{"$f":"'Sheet3 (4)'!M81","v":{"$error":"#N/A"}},{"$f":"CORREL($B$1:B81,$E$1:E81)","v":{"$error":"#N/A"}},{"$f":"'Sheet3 (4)'!O81","v":{"$error":"#N/A"}},{"$f":"CORREL($B$1:B81,$G$1:G81)","v":{"$error":"#N/A"}},{"$f":"'Sheet3 (4)'!Q81","v":{"$error":"#N/A"}},{"$f":"CORREL($B$1:B81,$I$1:I81)","v":{"$error":"#N/A"}},{"$f":"'Sheet3 (4)'!S81","v":{"$error":"#N/A"}},{"$f":"CORREL($B$1:B81,$K$1:K81)","v":{"$error":"#N/A"}},{"$f":"'Sheet3 (4)'!U81","v":{"$error":"#N/A"}},{"$f":"CORREL($B$1:B81,$M$1:M81)","v":{"$error":"#N/A"}},{"$f":"'Sheet3 (4)'!W81","v":{"$error":"#N/A"}},{"$f":"CORREL($B$1:B81,$O$1:O81)","v":{"$error":"#N/A"}},{"$f":"'Sheet3 (4)'!Y81","v":{"$error":"#N/A"}},{"$f":"CORREL($B$1:B81,$Q$1:Q81)","v":{"$error":"#N/A"}},{"$f":"'Sheet3 (4)'!AA81","v":{"$error":"#N/A"}},{"$f":"CORREL($B$1:B81,$S$1:S81)","v":{"$error":"#N/A"}}]
[]
[]
[]
[]
[]
[]
[]
[]
[null,null,null,{"$f":"'Sheet3 (4)'!C2","v":"2018-07-12"},null,{"$f":"'Sheet3 (4)'!C3","v":"2018-07-11"},null,{"$f":"'Sheet3 (4)'!C4","v":"2018-07-10"},null,{"$f":"'Sheet3 (4)'!C5","v":"2018-07-09"},null,{"$f":"'Sheet3 (4)'!C6","v":"2018-07-06"},null,{"$f":"'Sheet3 (4)'!C7","v":"2018-07-05"},null,{"$f":"'Sheet3 (4)'!C8","v":"2018-07-03"},null,{"$f":"'Sheet3 (4)'!C9","v":"2018-07-02"},null,{"$f":"'Sheet3 (4)'!C10","v":"2018-06-29"}]
[null,null,null,{"$f":"LOOKUP(2,1/(ISNUMBER(D1:D81)),D1:D81)","v":0.44475667146564057},null,{"$f":"LOOKUP(2,1/(ISNUMBER(F1:F81)),F1:F81)","v":-0.81406910108185115},null,{"$f":"LOOKUP(2,1/(ISNUMBER(H1:H81)),H1:H81)","v":0.49753569640393974},null,{"$f":"LOOKUP(2,1/(ISNUMBER(J1:J81)),J1:J81)","v":0.64944537673885683},null,{"$f":"LOOKUP(2,1/(ISNUMBER(L1:L81)),L1:L81)","v":-3.3883131918761897E-2},null,{"$f":"LOOKUP(2,1/(ISNUMBER(N1:N81)),N1:N81)","v":0.56097155255399689},null,{"$f":"LOOKUP(2,1/(ISNUMBER(P1:P81)),P1:P81)","v":0.67381444194672402},null,{"$f":"LOOKUP(2,1/(ISNUMBER(R1:R81)),R1:R81)","v":-0.75743025739067305},null,{"$f":"LOOKUP(2,1/(ISNUMBER(T1:T81)),T1:T81)","v":1.8979820216492198E-3}]
[]
[null,null,{"$f":"RANK(D93,$D$93:$D$101,0)+COUNTIF($D$93:D93,D93)-1","v":5},{"$f":"D91","v":0.44475667146564057},{"$f":"D90","v":"2018-07-12"},{"$f":"RANK(D93,$D$93:$D$101,0)+COUNTIF($D$93:D93,D93)-1","v":5},{"$f":"VLOOKUP(1,C93:E101,3,FALSE)","v":"2018-07-03"},{"$f":"VLOOKUP(1,C93:E101,2,FALSE)","v":0.67381444194672402},{"$f":"IFERROR(VLOOKUP(G93,'Sheet3 (4)'!AK1:AN10,4,FALSE),1)","v":7}]
[null,null,{"$f":"RANK(D94,$D$93:$D$101,0)+COUNTIF($D$93:D94,D94)-1","v":9},{"$f":"F91","v":-0.81406910108185115},{"$f":"F90","v":"2018-07-11"},{"$f":"RANK(D94,$D$93:$D$101,0)+COUNTIF($D$93:D94,D94)-1","v":9},{"$f":"VLOOKUP(2,C93:E101,3,FALSE)","v":"2018-07-09"},{"$f":"VLOOKUP(2,C93:E101,2,FALSE)","v":0.64944537673885683}]
[null,null,{"$f":"RANK(D95,$D$93:$D$101,0)+COUNTIF($D$93:D95,D95)-1","v":4},{"$f":"H91","v":0.49753569640393974},{"$f":"H90","v":"2018-07-10"},{"$f":"RANK(D95,$D$93:$D$101,0)+COUNTIF($D$93:D95,D95)-1","v":4},{"$f":"VLOOKUP(3,C93:E101,3,FALSE)","v":"2018-07-05"},{"$f":"VLOOKUP(3,C93:E101,2,FALSE)","v":0.56097155255399689}]
[null,null,{"$f":"RANK(D96,$D$93:$D$101,0)+COUNTIF($D$93:D96,D96)-1","v":2},{"$f":"J91","v":0.64944537673885683},{"$f":"J90","v":"2018-07-09"},{"$f":"RANK(D96,$D$93:$D$101,0)+COUNTIF($D$93:D96,D96)-1","v":2},{"$f":"VLOOKUP(4,C93:E101,3,FALSE)","v":"2018-07-10"},{"$f":"VLOOKUP(4,C93:E101,2,FALSE)","v":0.49753569640393974}]
[null,null,{"$f":"RANK(D97,$D$93:$D$101,0)+COUNTIF($D$93:D97,D97)-1","v":7},{"$f":"L91","v":-3.3883131918761897E-2},{"$f":"L90","v":"2018-07-06"},{"$f":"RANK(D97,$D$93:$D$101,0)+COUNTIF($D$93:D97,D97)-1","v":7},{"$f":"VLOOKUP(5,C93:E101,3,FALSE)","v":"2018-07-12"},{"$f":"VLOOKUP(5,C93:E101,2,FALSE)","v":0.44475667146564057}]
[null,null,{"$f":"RANK(D98,$D$93:$D$101,0)+COUNTIF($D$93:D98,D98)-1","v":3},{"$f":"N91","v":0.56097155255399689},{"$f":"N90","v":"2018-07-05"},{"$f":"RANK(D98,$D$93:$D$101,0)+COUNTIF($D$93:D98,D98)-1","v":3},{"$f":"VLOOKUP(6,C93:E101,3,FALSE)","v":"2018-06-29"},{"$f":"VLOOKUP(6,C93:E101,2,FALSE)","v":1.8979820216492198E-3}]
[null,null,{"$f":"RANK(D99,$D$93:$D$101,0)+COUNTIF($D$93:D99,D99)-1","v":1},{"$f":"P91","v":0.67381444194672402},{"$f":"P90","v":"2018-07-03"},{"$f":"RANK(D99,$D$93:$D$101,0)+COUNTIF($D$93:D99,D99)-1","v":1},{"$f":"VLOOKUP(7,C93:E101,3,FALSE)","v":"2018-07-06"},{"$f":"VLOOKUP(7,C93:E101,2,FALSE)","v":-3.3883131918761897E-2}]
[null,null,{"$f":"RANK(D100,$D$93:$D$101,0)+COUNTIF($D$93:D100,D100)-1","v":8},{"$f":"R91","v":-0.75743025739067305},{"$f":"R90","v":"2018-07-02"},{"$f":"RANK(D100,$D$93:$D$101,0)+COUNTIF($D$93:D100,D100)-1","v":8},{"$f":"VLOOKUP(8,C93:E101,3,FALSE)","v":"2018-07-02"},{"$f":"VLOOKUP(8,C93:E101,2,FALSE)","v":-0.75743025739067305}]
[null,null,{"$f":"RANK(D101,$D$93:$D$101,0)+COUNTIF($D$93:D101,D101)-1","v":6},{"$f":"T91","v":1.8979820216492198E-3},{"$f":"T90","v":"2018-06-29"},{"$f":"RANK(D101,$D$93:$D$101,0)+COUNTIF($D$93:D101,D101)-1","v":6},{"$f":"VLOOKUP(9,C93:E101,3,FALSE)","v":"2018-07-11"},{"$f":"VLOOKUP(9,C93:E101,2,FALSE)","v":-0.81406910108185115}]