{"text_format":"1","workbook":"xlsx","n_sheets":9,"sheets":["MainDisplay","Sheet3","Sheet4","Sheet3 (2)","Sheet4 (2)","Sheet3 (3)","Sheet4 (3)","Sheet3 (4)","Sheet4 (4)"],"not_rendered":{"charts":4,"images":12,"macros":1,"external_links":0,"defined_names":0,"comments":0,"pivot_tables":0},"unopened":[],"bounds":{"document_bytes":16777216,"sheet_cells":100000,"rows_first":2000,"rows_last":500,"rows_between":2000,"halvings":0,"cell_chars":16384,"cell_head_chars":4096},"cells_cut":0,"cells_raw":0,"read":"whole","date_system":"1900"}

{"sheet":"MainDisplay","index":0,"n_rows":55,"n_cols":31,"rows_kept":55,"cut":false,"hidden":false,"merged":[[7,28,7,30],[33,12,33,14],[33,28,33,30],[7,26,7,27],[53,1,53,11],[53,17,53,27],[33,4,34,5],[33,6,34,7],[33,8,34,9],[34,12,34,14],[35,12,36,14],[33,2,34,3],[29,12,29,15],[30,12,31,15],[29,3,29,4],[29,7,30,8],[33,10,33,11],[33,26,33,27],[29,10,30,11],[1,5,2,25],[3,3,3,4],[3,7,4,8],[3,10,4,11],[7,2,8,3],[7,4,8,5],[7,6,8,7],[7,8,8,9],[4,2,5,5],[3,12,3,15],[1,1,2,4],[4,12,5,15],[8,12,8,14],[7,12,7,14],[30,2,31,5],[1,26,2,31],[3,23,4,24],[3,26,4,27],[4,18,5,21],[7,18,8,19],[7,20,8,21],[7,22,8,23],[7,24,8,25],[8,28,8,30],[3,19,3,20],[3,28,3,31],[4,28,5,31],[7,10,7,11],[27,1,27,11],[27,17,27,27],[9,28,10,30],[9,12,10,14],[34,28,34,30],[35,28,36,30],[29,26,30,27],[30,18,31,21],[33,18,34,19],[33,20,34,21],[33,22,34,23],[33,24,34,25],[29,19,29,20],[29,23,30,24],[29,28,29,31],[30,28,31,31]]}
[null,null,null,null,null,null,null,null,null,null,null,null,null,null,{"$f":"TODAY()","v":"2018-06-18"}]
[null,{"$f":"MOD(RTD(\"cqg.rtd\", ,\"SystemInfo\", \"Linetime\"),1)","v":"08:52:54"},null,null,null,"CQG CME Globex 10-Day Map",null,null,null,null,null,null,null,null,null,null,null,null,null,null,null,null,null,null,null,null,{"$f":"RTD(\"cqg.rtd\", ,\"SystemInfo\", \"Linetime\")","v":43269.370069444441}]
[]
[null,"Symbol",null,"Metals",null,{"$f":"IF(RTD(\"cqg.rtd\", ,\"ContractData\",Sheet3!$D$12, \"NetLastTradeToday\",, \"T\")>=0,\"+\",0)","v":"+"},"Last",{"$f":"TEXT(RTD(\"cqg.rtd\", ,\"ContractData\",Sheet3!$D$12, \"LastTradeToday\",, \"T\"),Sheet3!$F$17)","v":"1282.80"},null,"Net",{"$f":"IF(F4=\"+\",\"+\"&TEXT(RTD(\"cqg.rtd\", ,\"ContractData\",Sheet3!$D$12, \"NetLastTradeToday\",, \"T\"),Sheet3!$F$17),TEXT(RTD(\"cqg.rtd\", ,\"ContractData\",Sheet3!$D$12, \"NetLastTradeToday\",, \"T\"),Sheet3!$F$17))","v":"+4.30"},null,"Net $ Change",null,null,null,null,"Symbol",null,"Energy",null,{"$f":"IF(RTD(\"cqg.rtd\", ,\"ContractData\",'Sheet3 (2)'!$D$12, \"NetLastTradeToday\",, \"T\")>=0,\"+\",0)","v":"+"},"Last",{"$f":"TEXT(RTD(\"cqg.rtd\", ,\"ContractData\",'Sheet3 (2)'!$D$12, \"LastTradeToday\",, \"T\"),'Sheet3 (2)'!$F$17)","v":"65.22"},null,"Net",{"$f":"IF(V4=\"+\",\"+\"&TEXT(RTD(\"cqg.rtd\", ,\"ContractData\",'Sheet3 (2)'!$D$12, \"NetLastTradeToday\",, \"T\"),'Sheet3 (2)'!$F$17),TEXT(RTD(\"cqg.rtd\", ,\"ContractData\",'Sheet3 (2)'!$D$12, \"NetLastTradeToday\",, \"T\"),'Sheet3 (2)'!$F$17))","v":"+.37"},null,"Net $ Change"]
[null,"GCE",{"$f":"\" \"&RTD(\"cqg.rtd\", ,\"ContractData\",Sheet3!$D$12, \"LongDescription\",, \"T\")&\" \"","v":" Gold (Globex), Aug 18 "},null,null,null,"Trade",null,null,"Change",null,null,{"$f":"IFERROR(1/RTD(\"cqg.rtd\",,\"ContractData\",\"Tsize(\"&B5&\")\",\"LastQuoteToday\",,\"T\")*RTD(\"cqg.rtd\",,\"ContractData\",\"PriceToDollar(Tsize(\"&B5&\"))\",\"LastQuoteToday\")*RTD(\"cqg.rtd\", ,\"ContractData\", B5, \"NetLastTrade\"),\"\")","v":430},null,null,null,null,"CLE",{"$f":"\" \"&RTD(\"cqg.rtd\", ,\"ContractData\",'Sheet3 (2)'!D12, \"LongDescription\",, \"T\")&\" \"","v":" Crude Light (Globex), Aug 18 "},null,null,null,"Trade",null,null,"Change",null,null,{"$f":"IFERROR(1/RTD(\"cqg.rtd\",,\"ContractData\",\"Tsize(\"&R5&\")\",\"LastQuoteToday\",,\"T\")*RTD(\"cqg.rtd\",,\"ContractData\",\"PriceToDollar(Tsize(\"&R5&\"))\",\"LastQuoteToday\")*RTD(\"cqg.rtd\", ,\"ContractData\", R5, \"NetLastTrade\"),\"\")","v":370}]
[null,{"$f":"2*RTD(\"cqg.rtd\",,\"ContractData\",\"Tsize(\"&B5&\")\",\"LastQuoteToday\",,\"T\")","v":0.2},null,null,null,null,"Open",{"$f":"TEXT(RTD(\"cqg.rtd\", ,\"ContractData\",Sheet3!$D$12, \"Open\",, \"T\"),Sheet3!$F$17)","v":"1281.10"},"High",{"$f":"TEXT(RTD(\"cqg.rtd\", ,\"ContractData\",Sheet3!$D$12, \"High\",, \"T\"),Sheet3!$F$17)","v":"1284.90"},"Low",{"$f":"TEXT(RTD(\"cqg.rtd\", ,\"ContractData\",Sheet3!$D$12, \"Low\",, \"T\"),Sheet3!$F$17)","v":"1279.90"},null,null,null,null,null,{"$f":"2*RTD(\"cqg.rtd\",,\"ContractData\",\"Tsize(\"&R5&\")\",\"LastQuoteToday\",,\"T\")","v":0.02},null,null,null,null,"Open",{"$f":"TEXT(RTD(\"cqg.rtd\", ,\"ContractData\",'Sheet3 (2)'!$D$12, \"Open\",, \"T\"),'Sheet3 (2)'!$F$17)","v":"64.22"},"High",{"$f":"TEXT(RTD(\"cqg.rtd\", ,\"ContractData\",'Sheet3 (2)'!$D$12, \"High\",, \"T\"),'Sheet3 (2)'!$F$17)","v":"65.29"},"Low",{"$f":"TEXT(RTD(\"cqg.rtd\", ,\"ContractData\",'Sheet3 (2)'!$D$12, \"Low\",, \"T\"),'Sheet3 (2)'!$F$17)","v":"63.40"}]
[null,null,null,null,null,null,null,null,null,null,null,null,{"$f":"IF(J6-H4<=B6,1,0)","v":0},null,{"$f":"IF(H4-L6<=B6,1,0)","v":0},null,null,null,null,null,null,null,null,null,null,null,null,null,{"$f":"IF(Z6-X4<=R6,1,0)","v":0},null,{"$f":"IF(X4-AB6<=R6,1,0)","v":0}]
[null,{"$f":"Sheet4!I113+1","v":5},{"$f":"RTD(\"cqg.rtd\", ,\"ContractData\",Sheet3!$D$12, \"MT_LastBidVolume\",, \"T\")","v":23},null,{"$f":"TEXT(RTD(\"cqg.rtd\", ,\"ContractData\",Sheet3!$D$12, \"Bid\",, \"T\"),Sheet3!$F$17)","v":"1282.80"},null,{"$f":"TEXT(RTD(\"cqg.rtd\", ,\"ContractData\",Sheet3!$D$12, \"Ask\",, \"T\"),Sheet3!$F$17)","v":"1282.90"},null,{"$f":"RTD(\"cqg.rtd\", ,\"ContractData\",Sheet3!$D$12, \"MT_LastAskVolume\",, \"T\")","v":35},null,"Top Correlation to:",null,"Highlight",null,null,null,null,{"$f":"'Sheet4 (2)'!I85+1","v":5},{"$f":"RTD(\"cqg.rtd\", ,\"ContractData\",'Sheet3 (2)'!$D$12, \"MT_LastBidVolume\",, \"T\")","v":26},null,{"$f":"TEXT(RTD(\"cqg.rtd\", ,\"ContractData\",'Sheet3 (2)'!$D$12, \"Bid\",, \"T\"),'Sheet3 (2)'!$F$17)","v":"65.22"},null,{"$f":"TEXT(RTD(\"cqg.rtd\", ,\"ContractData\",'Sheet3 (2)'!$D$12, \"Ask\",, \"T\"),'Sheet3 (2)'!$F$17)","v":"65.23"},null,{"$f":"RTD(\"cqg.rtd\", ,\"ContractData\",'Sheet3 (2)'!$D$12, \"MT_LastAskVolume\",, \"T\")","v":39},null,"Top Correlation to:",null,"Highlight"]
[null,null,null,null,null,null,null,null,null,null,{"$f":"Sheet4!G113","v":"2018-06-12"},{"$f":"Sheet4!H113","v":0.49661051557369867},"Reset",null,null,null,null,null,null,null,null,null,null,null,null,null,{"$f":"'Sheet4 (2)'!G85","v":"2018-06-12"},{"$f":"'Sheet4 (2)'!H85","v":0.80085860010139365},"Reset"]
[{"$f":"IF(M14=$O$1,1,0)","v":0},null,null,null,null,null,null,null,null,null,null,null,null,null,null,null,{"$f":"IF(AC14=$O$1,1,0)","v":0}]
[{"$f":"IF(M15=$O$1,1,0)","v":0},null,null,null,null,null,null,null,null,null,null,null,null,null,null,null,{"$f":"IF(AC15=$O$1,1,0)","v":1}]
[0,null,null,null,null,null,null,null,null,null,null,null,"Bar Time","Corr",{"$f":"IFERROR(IF(TIME(0,5,0)-(MOD(B2,1)-M13)<0,1,TIME(0,5,0)-(MOD(B2,1)-M13)),\"\")","v":"00:02:06"},null,0,null,null,null,null,null,null,null,null,null,null,null,"Bar Time","Corr",{"$f":"IFERROR(IF(TIME(0,5,0)-(MOD(B2,1)-AC13)<0,1,TIME(0,5,0)-(MOD(B2,1)-AC13)),\"\")","v":"00:02:06"}]
[1,null,null,null,null,null,null,null,null,null,null,null,{"$f":"IFERROR(Sheet3!AC12,\"\")","v":"08:50:00"},"Now","% NC",null,0,null,null,null,null,null,null,null,null,null,null,null,{"$f":"IFERROR('Sheet3 (2)'!AC12,\"\")","v":"08:50:00"},"Now","% NC"]
[0,null,null,null,null,null,null,null,null,null,null,null,{"$f":"IFERROR(Sheet3!AG1,\"\")","v":"2018-06-06"},{"$f":"IFERROR(VLOOKUP(M14,Sheet4!$G$113:$H$121,2,FALSE),\"\")","v":0.42098947027777034},{"$f":"IFERROR(Sheet3!AH1,\"\")","v":3.4604737003998769E-3},null,0,null,null,null,null,null,null,null,null,null,null,null,{"$f":"IFERROR('Sheet3 (2)'!AG1,\"\")","v":"2018-06-07"},{"$f":"IFERROR(VLOOKUP(AC14,'Sheet4 (2)'!$G$85:$H$93,2,FALSE),\"\")","v":0.72049885912411149},{"$f":"IFERROR('Sheet3 (2)'!AH1,\"\")","v":1.0046367851622743E-2}]
[0,null,null,null,null,null,null,null,null,null,null,null,{"$f":"IFERROR(Sheet3!AG2,\"\")","v":"2018-06-14"},{"$f":"IFERROR(VLOOKUP(M15,Sheet4!$G$113:$H$121,2,FALSE),\"\")","v":-0.56589323773598055},{"$f":"IFERROR(Sheet3!AH2,\"\")","v":3.45383375546857E-3},null,0,null,null,null,null,null,null,null,null,null,null,null,{"$f":"IFERROR('Sheet3 (2)'!AG2,\"\")","v":"2018-06-18"},{"$f":"IFERROR(VLOOKUP(AC15,'Sheet4 (2)'!$G$85:$H$93,2,FALSE),\"\")","v":""},{"$f":"IFERROR('Sheet3 (2)'!AH2,\"\")","v":5.7054741711642957E-3}]
[0,null,null,null,null,null,null,null,null,null,null,null,{"$f":"IFERROR(Sheet3!AG3,\"\")","v":"2018-06-08"},{"$f":"IFERROR(VLOOKUP(M16,Sheet4!$G$113:$H$121,2,FALSE),\"\")","v":-4.0750854497513228E-2},{"$f":"IFERROR(Sheet3!AH3,\"\")","v":1.1526934603857681E-3},null,0,null,null,null,null,null,null,null,null,null,null,null,{"$f":"IFERROR('Sheet3 (2)'!AG3,\"\")","v":"2018-06-14"},{"$f":"IFERROR(VLOOKUP(AC16,'Sheet4 (2)'!$G$85:$H$93,2,FALSE),\"\")","v":-0.70148726992788313},{"$f":"IFERROR('Sheet3 (2)'!AH3,\"\")","v":4.3595911004210199E-3}]
[0,null,null,null,null,null,null,null,null,null,null,null,{"$f":"IFERROR(Sheet3!AG4,\"\")","v":"2018-06-18"},{"$f":"IFERROR(VLOOKUP(M17,Sheet4!$G$113:$H$121,2,FALSE),\"\")","v":""},{"$f":"IFERROR(Sheet3!AH4,\"\")","v":6.2402496099840448E-4},null,0,null,null,null,null,null,null,null,null,null,null,null,{"$f":"IFERROR('Sheet3 (2)'!AG4,\"\")","v":"2018-06-12"},{"$f":"IFERROR(VLOOKUP(AC17,'Sheet4 (2)'!$G$85:$H$93,2,FALSE),\"\")","v":0.80085860010139365},{"$f":"IFERROR('Sheet3 (2)'!AH4,\"\")","v":1.9688020596697782E-3}]
[0,null,null,null,null,null,null,null,null,null,null,null,{"$f":"IFERROR(Sheet3!AG5,\"\")","v":"2018-06-13"},{"$f":"IFERROR(VLOOKUP(M18,Sheet4!$G$113:$H$121,2,FALSE),\"\")","v":0.48414978620510796},{"$f":"IFERROR(Sheet3!AH5,\"\")","v":4.6168051708228412E-4},null,0,null,null,null,null,null,null,null,null,null,null,null,{"$f":"IFERROR('Sheet3 (2)'!AG5,\"\")","v":"2018-06-08"},{"$f":"IFERROR(VLOOKUP(AC18,'Sheet4 (2)'!$G$85:$H$93,2,FALSE),\"\")","v":-0.17075290158018566},{"$f":"IFERROR('Sheet3 (2)'!AH5,\"\")","v":-1.8212171801488017E-3}]
[{"$f":"IF(M23=$O$1,1,0)","v":0},null,null,null,null,null,null,null,null,null,null,null,{"$f":"IFERROR(Sheet3!AG6,\"\")","v":"2018-06-11"},{"$f":"IFERROR(VLOOKUP(M19,Sheet4!$G$113:$H$121,2,FALSE),\"\")","v":0.36274753857746711},{"$f":"IFERROR(Sheet3!AH6,\"\")","v":2.3014959723816994E-4},null,0,null,null,null,null,null,null,null,null,null,null,null,{"$f":"IFERROR('Sheet3 (2)'!AG6,\"\")","v":"2018-06-05"},{"$f":"IFERROR(VLOOKUP(AC19,'Sheet4 (2)'!$G$85:$H$93,2,FALSE),\"\")","v":-6.5154555873714257E-2},{"$f":"IFERROR('Sheet3 (2)'!AH6,\"\")","v":-3.401360544217889E-3}]
[null,null,null,null,null,null,null,null,null,null,null,null,{"$f":"IFERROR(Sheet3!AG7,\"\")","v":"2018-06-05"},{"$f":"IFERROR(VLOOKUP(M20,Sheet4!$G$113:$H$121,2,FALSE),\"\")","v":0.13222600591966671},{"$f":"IFERROR(Sheet3!AH7,\"\")","v":0},null,null,null,null,null,null,null,null,null,null,null,null,null,{"$f":"IFERROR('Sheet3 (2)'!AG7,\"\")","v":"2018-06-06"},{"$f":"IFERROR(VLOOKUP(AC20,'Sheet4 (2)'!$G$85:$H$93,2,FALSE),\"\")","v":0.49137649872994671},{"$f":"IFERROR('Sheet3 (2)'!AH7,\"\")","v":-3.5135960892146317E-3}]
[null,null,null,null,null,null,null,null,null,null,null,null,{"$f":"IFERROR(Sheet3!AG8,\"\")","v":"2018-06-07"},{"$f":"IFERROR(VLOOKUP(M21,Sheet4!$G$113:$H$121,2,FALSE),\"\")","v":-0.53344327119755119},{"$f":"IFERROR(Sheet3!AH8,\"\")","v":-1.5377518068569745E-4},null,null,null,null,null,null,null,null,null,null,null,null,null,{"$f":"IFERROR('Sheet3 (2)'!AG8,\"\")","v":"2018-06-13"},{"$f":"IFERROR(VLOOKUP(AC21,'Sheet4 (2)'!$G$85:$H$93,2,FALSE),\"\")","v":4.4646101665056892E-2},{"$f":"IFERROR('Sheet3 (2)'!AH8,\"\")","v":-5.8841279420639792E-3}]
[null,null,null,null,null,null,null,null,null,null,null,null,{"$f":"IFERROR(Sheet3!AG9,\"\")","v":"2018-06-12"},{"$f":"IFERROR(VLOOKUP(M22,Sheet4!$G$113:$H$121,2,FALSE),\"\")","v":0.49661051557369867},{"$f":"IFERROR(Sheet3!AH9,\"\")","v":-2.0699172033119021E-3},null,null,null,null,null,null,null,null,null,null,null,null,null,{"$f":"IFERROR('Sheet3 (2)'!AG9,\"\")","v":"2018-06-11"},{"$f":"IFERROR(VLOOKUP(AC22,'Sheet4 (2)'!$G$85:$H$93,2,FALSE),\"\")","v":0.15566521747397466},{"$f":"IFERROR('Sheet3 (2)'!AH9,\"\")","v":-1.0050251256281355E-2}]
[null,null,null,null,null,null,null,null,null,null,null,null,{"$f":"IFERROR(Sheet3!AG10,\"\")","v":"2018-06-15"},{"$f":"IFERROR(VLOOKUP(M23,Sheet4!$G$113:$H$121,2,FALSE),\"\")","v":-0.39975018553454039},{"$f":"IFERROR(Sheet3!AH10,\"\")","v":-1.4013324144268459E-2},null,null,null,null,null,null,null,null,null,null,null,null,null,{"$f":"IFERROR('Sheet3 (2)'!AG10,\"\")","v":"2018-06-15"},{"$f":"IFERROR(VLOOKUP(AC23,'Sheet4 (2)'!$G$85:$H$93,2,FALSE),\"\")","v":-0.78683397423768942},{"$f":"IFERROR('Sheet3 (2)'!AH10,\"\")","v":-1.3045434098065746E-2}]
[]
[]
[]
[]
[null,"Session: 7:00 - 16:00",null,null,null,null,null,null,null,null,null,null,null,null,null,null,null,"Primary Session 8:00 - 13:30"]
[]
[null,"Symbol",null,"Grains & Products",null,{"$f":"IF(RTD(\"cqg.rtd\", ,\"ContractData\",'Sheet3 (3)'!$D$12, \"NetLastTradeToday\",, \"T\")=\"\",\"\",IF(RTD(\"cqg.rtd\", ,\"ContractData\",'Sheet3 (3)'!$D$12, \"NetLastTradeToday\",, \"T\")>=0,\"+\",0))","v":0},"Last",{"$f":"TEXT(RTD(\"cqg.rtd\", ,\"ContractData\",'Sheet3 (3)'!$D$12, \"LastTradeToday\",, \"T\"),'Sheet3 (3)'!$F$17)","v":"904.75"},null,"Net",{"$f":"IF(F30=\"\",\"\",IF(F30=\"+\",\"+\"&TEXT(RTD(\"cqg.rtd\", ,\"ContractData\",'Sheet3 (3)'!$D$12, \"NetLastTradeToday\",, \"T\"),'Sheet3 (3)'!$F$17),TEXT(RTD(\"cqg.rtd\", ,\"ContractData\",'Sheet3 (3)'!$D$12, \"NetLastTradeToday\",, \"T\"),'Sheet3 (3)'!$F$17)))","v":"-.75"},null,"Net $ Change",null,null,null,null,"Symbol",null,"Meats",null,{"$f":"IF(RTD(\"cqg.rtd\", ,\"ContractData\",'Sheet3 (4)'!$D$12, \"NetLastTradeToday\",, \"T\")>=0,\"+\",0)","v":0},"Last",{"$f":"IF('Sheet3 (4)'!F16=\"B\",RTD(\"cqg.rtd\", ,\"ContractData\",'Sheet3 (4)'!$D$12, \"LastTradeToday\",, \"B\"),TEXT(RTD(\"cqg.rtd\", ,\"ContractData\",'Sheet3 (4)'!$D$12, \"LastTradeToday\",, \"T\"),'Sheet3 (4)'!$F$16))","v":"104.400"},null,"Net",{"$f":"IF(V30=\"+\",\"\"&(IF('Sheet3 (4)'!F16=\"B\",RTD(\"cqg.rtd\",,\"ContractData\",'Sheet3 (4)'!$D$12,\"NetLastTradeToday\",,\"B\"),TEXT(RTD(\"cqg.rtd\",,\"ContractData\",'Sheet3 (4)'!$D$12,\"NetLastTradeToday\",,\"T\"),'Sheet3 (4)'!$F$16))),IF('Sheet3 (4)'!F16=\"B\",RTD(\"cqg.rtd\",,\"ContractData\",'Sheet3 (4)'!$D$12,\"NetLastTradeToday\",,\"B\"),TEXT(RTD(\"cqg.rtd\",,\"ContractData\",'Sheet3 (4)'!$D$12,\"NetLastTradeToday\",,\"T\"),'Sheet3 (4)'!$F$16)))","v":"-.375"},null,"Net $ Change"]
[null,"ZSE",{"$f":"\" \"&RTD(\"cqg.rtd\", ,\"ContractData\",'Sheet3 (3)'!$D$12, \"LongDescription\",, \"T\")&\" \"","v":" Soybeans (Globex), Jul 18 "},null,null,null,"Trade",null,null,"Change",null,null,{"$f":"IFERROR(1/RTD(\"cqg.rtd\",,\"ContractData\",\"Tsize(\"&B31&\")\",\"LastQuoteToday\",,\"T\")*RTD(\"cqg.rtd\",,\"ContractData\",\"PriceToDollar(Tsize(\"&B31&\"))\",\"LastQuoteToday\")*RTD(\"cqg.rtd\", ,\"ContractData\", B31, \"NetLastTrade\",,\"T\"),\"\")","v":-37.5},null,null,null,null,"GLE",{"$f":"\" \"&RTD(\"cqg.rtd\", ,\"ContractData\",'Sheet3 (4)'!D12, \"LongDescription\",, \"T\")&\" \"","v":" Live Cattle (Globex), Aug 18 "},null,null,null,"Trade",null,null,"Change",null,null,{"$f":"IFERROR(1/RTD(\"cqg.rtd\",,\"ContractData\",\"Tsize(\"&R31&\")\",\"LastQuoteToday\",,\"T\")*RTD(\"cqg.rtd\",,\"ContractData\",\"PriceToDollar(Tsize(\"&R31&\"))\",\"LastQuoteToday\")*RTD(\"cqg.rtd\", ,\"ContractData\", R31, \"NetLastTrade\",,\"T\"),\"\")","v":-150}]
[null,{"$f":"2*RTD(\"cqg.rtd\",,\"ContractData\",\"Tsize(\"&B31&\")\",\"LastQuoteToday\",,\"T\")","v":0.5},null,null,null,null,"Open",{"$f":"TEXT(RTD(\"cqg.rtd\", ,\"ContractData\",'Sheet3 (3)'!$D$12, \"Open\",, \"T\"),'Sheet3 (3)'!$F$17)","v":"905.50"},"High",{"$f":"TEXT(RTD(\"cqg.rtd\", ,\"ContractData\",'Sheet3 (3)'!$D$12, \"High\",, \"T\"),'Sheet3 (3)'!$F$17)","v":"914.00"},"Low",{"$f":"TEXT(RTD(\"cqg.rtd\", ,\"ContractData\",'Sheet3 (3)'!$D$12, \"Low\",, \"T\"),'Sheet3 (3)'!$F$17)","v":"897.25"},null,null,null,null,null,{"$f":"2*RTD(\"cqg.rtd\",,\"ContractData\",\"Tsize(\"&R31&\")\",\"LastQuoteToday\",,\"T\")","v":0.05},null,null,null,null,"Open",{"$f":"IF('Sheet3 (4)'!F16=\"B\",RTD(\"cqg.rtd\", ,\"ContractData\",'Sheet3 (4)'!$D$12, \"Open\",, \"B\"),TEXT(RTD(\"cqg.rtd\", ,\"ContractData\",'Sheet3 (4)'!$D$12, \"Open\",, \"T\"),'Sheet3 (4)'!$F$16))","v":"104.950"},"High",{"$f":"IF('Sheet3 (4)'!F16=\"B\",RTD(\"cqg.rtd\", ,\"ContractData\",'Sheet3 (4)'!$D$12, \"High\",, \"B\"),TEXT(RTD(\"cqg.rtd\", ,\"ContractData\",'Sheet3 (4)'!$D$12, \"High\",, \"T\"),'Sheet3 (4)'!$F$16))","v":"105.400"},"Low",{"$f":"IF('Sheet3 (4)'!F16=\"B\",RTD(\"cqg.rtd\", ,\"ContractData\",'Sheet3 (4)'!$D$12, \"Low\",, \"B\"),TEXT(RTD(\"cqg.rtd\", ,\"ContractData\",'Sheet3 (4)'!$D$12, \"Low\",, \"T\"),'Sheet3 (4)'!$F$16))","v":"103.975"}]
[null,null,null,null,null,null,null,null,null,null,null,null,{"$f":"IF(J32-H30<=B32,1,0)","v":0},null,{"$f":"IF(H30-L32<=B32,1,0)","v":0},null,null,null,null,null,null,null,null,null,null,null,null,null,{"$f":"IF(RTD(\"cqg.rtd\", ,\"ContractData\",'Sheet3 (4)'!$D$12, \"High\",, \"T\")-RTD(\"cqg.rtd\", ,\"ContractData\",'Sheet3 (4)'!$D$12, \"LastTrade\",, \"T\")<=R32,1,0)","v":0},null,{"$f":"IF(RTD(\"cqg.rtd\", ,\"ContractData\",'Sheet3 (4)'!$D$12, \"LastTrade\",, \"T\")-RTD(\"cqg.rtd\", ,\"ContractData\",'Sheet3 (4)'!$D$12, \"Low\",, \"T\")<=R32,1,0)","v":0}]
[null,{"$f":"'Sheet4 (3)'!I73+1","v":5},{"$f":"RTD(\"cqg.rtd\", ,\"ContractData\",'Sheet3 (3)'!$D$12, \"MT_LastBidVolume\",, \"T\")","v":7},null,{"$f":"TEXT(RTD(\"cqg.rtd\", ,\"ContractData\",'Sheet3 (3)'!$D$12, \"Bid\",, \"T\"),'Sheet3 (3)'!$F$17)","v":"905.00"},null,{"$f":"TEXT(RTD(\"cqg.rtd\", ,\"ContractData\",'Sheet3 (3)'!$D$12, \"Ask\",, \"T\"),'Sheet3 (3)'!$F$17)","v":"905.25"},null,{"$f":"RTD(\"cqg.rtd\", ,\"ContractData\",'Sheet3 (3)'!$D$12, \"MT_LastAskVolume\",, \"T\")","v":27},null,"Top Correlation to:",null,"Highlight",null,null,null,null,{"$f":"'Sheet4 (4)'!I60+1","v":6},{"$f":"RTD(\"cqg.rtd\", ,\"ContractData\",'Sheet3 (4)'!$D$12, \"MT_LastBidVolume\",, \"T\")","v":11},null,{"$f":"IF('Sheet3 (4)'!F16=\"B\",RTD(\"cqg.rtd\", ,\"ContractData\",'Sheet3 (4)'!$D$12, \"Bid\",, \"B\"),TEXT(RTD(\"cqg.rtd\", ,\"ContractData\",'Sheet3 (4)'!$D$12, \"Bid\",, \"T\"),'Sheet3 (4)'!$F$16))","v":"104.375"},null,{"$f":"IF('Sheet3 (4)'!F16=\"B\",RTD(\"cqg.rtd\", ,\"ContractData\",'Sheet3 (4)'!$D$12, \"Ask\",, \"B\"),TEXT(RTD(\"cqg.rtd\", ,\"ContractData\",'Sheet3 (4)'!$D$12, \"Ask\",, \"T\"),'Sheet3 (4)'!$F$16))","v":"104.425"},null,{"$f":"RTD(\"cqg.rtd\", ,\"ContractData\",'Sheet3 (4)'!$D$12, \"MT_LastAskVolume\",, \"T\")","v":5},null,"Top Correlation to:",null,"Highlight"]
[null,null,null,null,null,null,null,null,null,null,{"$f":"'Sheet4 (3)'!G73","v":"2018-06-12"},{"$f":"'Sheet4 (3)'!H73","v":0.13256205117870756},"Reset",null,null,null,null,null,null,null,null,null,null,null,null,null,{"$f":"'Sheet4 (4)'!G60","v":"2018-06-11"},{"$f":"'Sheet4 (4)'!H60","v":0.8502497749072585},"Reset"]
[{"$f":"IF(M40=$O$1,1,0)","v":0},null,null,null,null,null,null,null,null,null,null,null,null,null,null,null,{"$f":"IF(AC40=$O$1,1,0)","v":0}]
[{"$f":"IF(M41=$O$1,1,0)","v":0},null,null,null,null,null,null,null,null,null,null,null,null,null,null,null,{"$f":"IF(AC41=$O$1,1,0)","v":0}]
[0,null,null,null,null,null,null,null,null,null,null,null,"Bar Time","Corr",{"$f":"IFERROR(IF(TIME(0,5,0)-(MOD(B2,1)-M39)<0,1,TIME(0,5,0)-(MOD(B2,1)-M39)),\"\")","v":"00:02:06"},null,0,null,null,null,null,null,null,null,null,null,null,null,"Bar Time","Corr",{"$f":"IFERROR(IF(TIME(0,5,0)-(MOD(B2,1)-AC39)<0,1,TIME(0,5,0)-(MOD(B2,1)-AC39)),\"\")","v":"00:02:06"}]
[1,null,null,null,null,null,null,null,null,null,null,null,{"$f":"IFERROR('Sheet3 (3)'!AC12,\"\")","v":"08:50:00"},"Now","% NC",null,0,null,null,null,null,null,null,null,null,null,null,null,{"$f":"IFERROR('Sheet3 (4)'!AC12,\"\")","v":"08:50:00"},"Now","% NC"]
[0,null,null,null,null,null,null,null,null,null,null,null,{"$f":"IFERROR('Sheet3 (3)'!AG1,\"\")","v":"2018-06-06"},{"$f":"IFERROR(VLOOKUP(M40,'Sheet4 (3)'!$G$73:$H$81,2,FALSE),\"\")","v":-2.4933830310391054E-2},{"$f":"IFERROR('Sheet3 (3)'!AH1,\"\")","v":7.4906367041198505E-4},null,0,null,null,null,null,null,null,null,null,null,null,null,{"$f":"IFERROR('Sheet3 (4)'!AG1,\"\")","v":"2018-06-08"},{"$f":"IFERROR(VLOOKUP(AC40,'Sheet4 (4)'!$G$60:$H$68,2,FALSE),\"\")","v":-0.81779524624554456},{"$f":"IFERROR('Sheet3 (4)'!AH1,\"\")","v":7.6812289966394342E-3}]
[0,null,null,null,null,null,null,null,null,null,null,null,{"$f":"IFERROR('Sheet3 (3)'!AG2,\"\")","v":"2018-06-12"},{"$f":"IFERROR(VLOOKUP(M41,'Sheet4 (3)'!$G$73:$H$81,2,FALSE),\"\")","v":0.13256205117870756},{"$f":"IFERROR('Sheet3 (3)'!AH2,\"\")","v":0},null,0,null,null,null,null,null,null,null,null,null,null,null,{"$f":"IFERROR('Sheet3 (4)'!AG2,\"\")","v":"2018-06-06"},{"$f":"IFERROR(VLOOKUP(AC41,'Sheet4 (4)'!$G$60:$H$68,2,FALSE),\"\")","v":0.66075117490415358},{"$f":"IFERROR('Sheet3 (4)'!AH2,\"\")","v":4.8053820278712162E-3}]
[0,null,null,null,null,null,null,null,null,null,null,null,{"$f":"IFERROR('Sheet3 (3)'!AG3,\"\")","v":"2018-06-08"},{"$f":"IFERROR(VLOOKUP(M42,'Sheet4 (3)'!$G$73:$H$81,2,FALSE),\"\")","v":-4.7952426148810713E-3},{"$f":"IFERROR('Sheet3 (3)'!AH3,\"\")","v":-2.5660764690787786E-4},null,0,null,null,null,null,null,null,null,null,null,null,null,{"$f":"IFERROR('Sheet3 (4)'!AG3,\"\")","v":"2018-06-05"},{"$f":"IFERROR(VLOOKUP(AC42,'Sheet4 (4)'!$G$60:$H$68,2,FALSE),\"\")","v":-0.10827630825903656},{"$f":"IFERROR('Sheet3 (4)'!AH3,\"\")","v":4.8804294777937685E-4}]
[0,null,null,null,null,null,null,null,null,null,null,null,{"$f":"IFERROR('Sheet3 (3)'!AG4,\"\")","v":"2018-06-18"},{"$f":"IFERROR(VLOOKUP(M43,'Sheet4 (3)'!$G$73:$H$81,2,FALSE),\"\")","v":""},{"$f":"IFERROR('Sheet3 (3)'!AH4,\"\")","v":-8.2827167310877965E-4},null,1,null,null,null,null,null,null,null,null,null,null,null,{"$f":"IFERROR('Sheet3 (4)'!AG4,\"\")","v":"2018-06-07"},{"$f":"IFERROR(VLOOKUP(AC43,'Sheet4 (4)'!$G$60:$H$68,2,FALSE),\"\")","v":0.59014004111154961},{"$f":"IFERROR('Sheet3 (4)'!AH4,\"\")","v":2.3906287353565837E-4}]
[0,null,null,null,null,null,null,null,null,null,null,null,{"$f":"IFERROR('Sheet3 (3)'!AG5,\"\")","v":"2018-06-05"},{"$f":"IFERROR(VLOOKUP(M44,'Sheet4 (3)'!$G$73:$H$81,2,FALSE),\"\")","v":-1.6744384759090417E-2},{"$f":"IFERROR('Sheet3 (3)'!AH5,\"\")","v":-1.9965061142999752E-3},null,0,null,null,null,null,null,null,null,null,null,null,null,{"$f":"IFERROR('Sheet3 (4)'!AG5,\"\")","v":"2018-06-13"},{"$f":"IFERROR(VLOOKUP(AC44,'Sheet4 (4)'!$G$60:$H$68,2,FALSE),\"\")","v":0.75274654332689961},{"$f":"IFERROR('Sheet3 (4)'!AH5,\"\")","v":-9.5877277085325329E-4}]
[0,null,null,null,null,null,null,null,null,null,null,null,{"$f":"IFERROR('Sheet3 (3)'!AG6,\"\")","v":"2018-06-07"},{"$f":"IFERROR(VLOOKUP(M45,'Sheet4 (3)'!$G$73:$H$81,2,FALSE),\"\")","v":4.4804578125111509E-2},{"$f":"IFERROR('Sheet3 (3)'!AH6,\"\")","v":-4.7774704551169223E-3},null,0,null,null,null,null,null,null,null,null,null,null,null,{"$f":"IFERROR('Sheet3 (4)'!AG6,\"\")","v":"2018-06-11"},{"$f":"IFERROR(VLOOKUP(AC45,'Sheet4 (4)'!$G$60:$H$68,2,FALSE),\"\")","v":0.8502497749072585},{"$f":"IFERROR('Sheet3 (4)'!AH6,\"\")","v":-1.8908059560387882E-3}]
[null,null,null,null,null,null,null,null,null,null,null,null,{"$f":"IFERROR('Sheet3 (3)'!AG7,\"\")","v":"2018-06-14"},{"$f":"IFERROR(VLOOKUP(M46,'Sheet4 (3)'!$G$73:$H$81,2,FALSE),\"\")","v":-8.3948722479875545E-2},{"$f":"IFERROR('Sheet3 (3)'!AH7,\"\")","v":-7.745726495726496E-3},null,null,null,null,null,null,null,null,null,null,null,null,null,{"$f":"IFERROR('Sheet3 (4)'!AG7,\"\")","v":"2018-06-12"},{"$f":"IFERROR(VLOOKUP(AC46,'Sheet4 (4)'!$G$60:$H$68,2,FALSE),\"\")","v":-0.25196611283655701},{"$f":"IFERROR('Sheet3 (4)'!AH7,\"\")","v":-2.1598272138228397E-3}]
[null,null,null,null,null,null,null,null,null,null,null,null,{"$f":"IFERROR('Sheet3 (3)'!AG8,\"\")","v":"2018-06-11"},{"$f":"IFERROR(VLOOKUP(M47,'Sheet4 (3)'!$G$73:$H$81,2,FALSE),\"\")","v":-0.18668954076377298},{"$f":"IFERROR('Sheet3 (3)'!AH8,\"\")","v":-1.1348981171008512E-2},null,null,null,null,null,null,null,null,null,null,null,null,null,{"$f":"IFERROR('Sheet3 (4)'!AG8,\"\")","v":"2018-06-18"},{"$f":"IFERROR(VLOOKUP(AC47,'Sheet4 (4)'!$G$60:$H$68,2,FALSE),\"\")","v":""},{"$f":"IFERROR('Sheet3 (4)'!AH8,\"\")","v":-3.5790980672870433E-3}]
[null,null,null,null,null,null,null,null,null,null,null,null,{"$f":"IFERROR('Sheet3 (3)'!AG9,\"\")","v":"2018-06-15"},{"$f":"IFERROR(VLOOKUP(M48,'Sheet4 (3)'!$G$73:$H$81,2,FALSE),\"\")","v":4.2117748662549727E-2},{"$f":"IFERROR('Sheet3 (3)'!AH9,\"\")","v":-1.1863035858722027E-2},null,null,null,null,null,null,null,null,null,null,null,null,null,{"$f":"IFERROR('Sheet3 (4)'!AG9,\"\")","v":"2018-06-15"},{"$f":"IFERROR(VLOOKUP(AC48,'Sheet4 (4)'!$G$60:$H$68,2,FALSE),\"\")","v":-0.44005817611786846},{"$f":"IFERROR('Sheet3 (4)'!AH9,\"\")","v":-3.6809815950920245E-3}]
[null,null,null,null,null,null,null,null,null,null,null,null,{"$f":"IFERROR('Sheet3 (3)'!AG10,\"\")","v":"2018-06-13"},{"$f":"IFERROR(VLOOKUP(M49,'Sheet4 (3)'!$G$73:$H$81,2,FALSE),\"\")","v":2.9492516929367094E-2},{"$f":"IFERROR('Sheet3 (3)'!AH10,\"\")","v":-1.7033542976939202E-2},null,null,null,null,null,null,null,null,null,null,null,null,null,{"$f":"IFERROR('Sheet3 (4)'!AG10,\"\")","v":"2018-06-14"},{"$f":"IFERROR(VLOOKUP(AC49,'Sheet4 (4)'!$G$60:$H$68,2,FALSE),\"\")","v":0.48138691020630048},{"$f":"IFERROR('Sheet3 (4)'!AH10,\"\")","v":-5.5341674687199504E-3}]
[]
[]
[]
[]
[null,"Session: 7:00 - 13:15",null,null,null,null,null,null,null,null,null,null,null,null,null,null,null,"Session: 8:00 - 14:00"]
[null,null,null,"  Copyright © 2018",null,null,null,null,null,"Designed by Thom Hartle"]

{"sheet":"Sheet3","index":1,"n_rows":108,"n_cols":40,"rows_kept":108,"cut":false,"hidden":true,"merged":[]}
[168,"07:00:00",{"$f":"IF(WEEKDAY(TODAY())=7,TODAY()-1,IF(WEEKDAY(TODAY())=1,TODAY()-2,TODAY()))","v":"2018-06-18"},{"$f":"YEAR(C1)","v":2018},{"$f":"MONTH(C1)","v":6},{"$f":"DAY(C1)","v":18},null,{"$f":"RTD(\"cqg.rtd\",,\"StudyData\", \"Close(\"&$D$12&\") when LocalYear(\"&$D$12&\")=\"&$D$1&\" and localMonth(\"&$D$12&\") =\"&$E$1&\" and LocalDay(\"&$D$12&\")=\"&$F$1&\" and Barix(\"&$D$12&\",reference:=StartOfDay)=\"&A1&\"\", \"Bar\", \"\", \"Close\",\"5\",\"0\",\"\",,,\"False\",\"T\",\"EveryTick\")","v":1282.3},{"$f":"IFERROR((H1-$G$2)/$G$2,NA())","v":2.3400936037437951E-4},{"$f":"RTD(\"cqg.rtd\",,\"StudyData\", \"Close(\"&$D$12&\") when LocalYear(\"&$D$12&\")=\"&$D$2&\" and localMonth(\"&$D$12&\") =\"&$E$2&\" and LocalDay(\"&$D$12&\")=\"&$F$2&\" and Barix(\"&$D$12&\",reference:=StartOfDay)=\"&A1&\"\", \"Bar\", \"\", \"Close\",\"5\",\"0\",\"\",,,\"False\",\"T\",\"EveryTick\")","v":1302.3},{"$f":"IFERROR((J1-$G$3)/$G$3,NA())","v":-2.7567195037905938E-3},{"$f":"RTD(\"cqg.rtd\",,\"StudyData\", \"Close(\"&$D$12&\") when LocalYear(\"&$D$12&\")=\"&$D$3&\" and localMonth(\"&$D$12&\") =\"&$E$3&\" and LocalDay(\"&$D$12&\")=\"&$F$3&\" and Barix(\"&$D$12&\",reference:=StartOfDay)=\"&A1&\"\", \"Bar\", \"\", \"Close\",\"5\",\"0\",\"\",,,\"False\",\"T\",\"EveryTick\")","v":1307.4000000000001},{"$f":"IFERROR((L1-$G$4)/$G$4,NA())","v":3.45383375546857E-3},{"$f":"RTD(\"cqg.rtd\",,\"StudyData\", \"Close(\"&$D$12&\") when LocalYear(\"&$D$12&\")=\"&$D$4&\" and localMonth(\"&$D$12&\") =\"&$E$4&\" and LocalDay(\"&$D$12&\")=\"&$F$4&\" and Barix(\"&$D$12&\",reference:=StartOfDay)=\"&A1&\"\", \"Bar\", \"\", \"Close\",\"5\",\"0\",\"\",,,\"False\",\"T\",\"EveryTick\")","v":1297.9000000000001},{"$f":"IFERROR((N1-$G$5)/$G$5,NA())","v":-1.3080947983993678E-3},{"$f":"RTD(\"cqg.rtd\",,\"StudyData\", \"Close(\"&$D$12&\") when LocalYear(\"&$D$12&\")=\"&$D$5&\" and localMonth(\"&$D$12&\") =\"&$E$5&\" and LocalDay(\"&$D$12&\")=\"&$F$5&\" and Barix(\"&$D$12&\",reference:=StartOfDay)=\"&A1&\"\", \"Bar\", \"\", \"Close\",\"5\",\"0\",\"\",,,\"False\",\"T\",\"EveryTick\")","v":1301.5999999999999},{"$f":"IFERROR((P1-$G$6)/$G$6,NA())","v":-2.1465808034346686E-3},{"$f":"RTD(\"cqg.rtd\",,\"StudyData\", \"Close(\"&$D$12&\") when LocalYear(\"&$D$12&\")=\"&$D$6&\" and localMonth(\"&$D$12&\") =\"&$E$6&\" and LocalDay(\"&$D$12&\")=\"&$F$6&\" and Barix(\"&$D$12&\",reference:=StartOfDay)=\"&A1&\"\", \"Bar\", \"\", \"Close\",\"5\",\"0\",\"\",,,\"False\",\"T\",\"EveryTick\")","v":1300.9000000000001},{"$f":"IFERROR((R1-$G$7)/$G$7,NA())","v":-1.994629842731039E-3},{"$f":"RTD(\"cqg.rtd\",,\"StudyData\", \"Close(\"&$D$12&\") when LocalYear(\"&$D$12&\")=\"&$D$7&\" and localMonth(\"&$D$12&\") =\"&$E$7&\" and LocalDay(\"&$D$12&\")=\"&$F$7&\" and Barix(\"&$D$12&\",reference:=StartOfDay)=\"&A1&\"\", \"Bar\", \"\", \"Close\",\"5\",\"0\",\"\",,,\"False\",\"T\",\"EveryTick\")","v":1301.9000000000001},{"$f":"IFERROR((T1-$G$8)/$G$8,NA())","v":4.6107738415441206E-4},{"$f":"RTD(\"cqg.rtd\",,\"StudyData\", \"Close(\"&$D$12&\") when LocalYear(\"&$D$12&\")=\"&$D$8&\" and localMonth(\"&$D$12&\") =\"&$E$8&\" and LocalDay(\"&$D$12&\")=\"&$F$8&\" and Barix(\"&$D$12&\",reference:=StartOfDay)=\"&A1&\"\", \"Bar\", \"\", \"Close\",\"5\",\"0\",\"\",,,\"False\",\"T\",\"EveryTick\")","v":1303.4000000000001},{"$f":"IFERROR((V1-$G$9)/$G$9,NA())","v":2.1528525296018622E-3},{"$f":"RTD(\"cqg.rtd\",,\"StudyData\", \"Close(\"&$D$12&\") when LocalYear(\"&$D$12&\")=\"&$D$9&\" and localMonth(\"&$D$12&\") =\"&$E$9&\" and LocalDay(\"&$D$12&\")=\"&$F$9&\" and Barix(\"&$D$12&\",reference:=StartOfDay)=\"&A1&\"\", \"Bar\", \"\", \"Close\",\"5\",\"0\",\"\",,,\"False\",\"T\",\"EveryTick\")","v":1300.0999999999999},{"$f":"IFERROR((X1-$G$10)/$G$10,NA())","v":-2.3069824669346499E-4},{"$f":"RTD(\"cqg.rtd\",,\"StudyData\", \"Close(\"&$D$12&\") when LocalYear(\"&$D$12&\")=\"&$D$10&\" and localMonth(\"&$D$12&\") =\"&$E$10&\" and LocalDay(\"&$D$12&\")=\"&$F$10&\" and Barix(\"&$D$12&\",reference:=StartOfDay)=\"&A1&\"\", \"Bar\", \"\", \"Close\",\"5\",\"0\",\"\",,,\"False\",\"T\",\"EveryTick\")","v":1295.7},{"$f":"IFERROR((Z1-$G$11)/$G$11,NA())","v":-1.5433289605682959E-4},{"$f":"RANK(AD1,$AD$1:$AD$10)+COUNTIF($AD$1:AD1,AD1)-1","v":4},{"$f":"DATE(D1,E1,F1)","v":"2018-06-18"},{"$f":"VLOOKUP(MAX(AE2:AE108),A1:I108,9,FALSE)","v":6.2402496099840448E-4},null,1,{"$f":"VLOOKUP(AF1,$AB$1:$AD$10,2,FALSE)","v":"2018-06-06"},{"$f":"VLOOKUP(AF1,$AB$1:$AD$10,3,FALSE)","v":3.4604737003998769E-3},null,null,{"$f":"AG1","v":"2018-06-06"},{"$f":"AC1","v":"2018-06-18"},0,{"$f":"VLOOKUP(AK1,$AL$1:$AM$10,2,FALSE)","v":8}]
[{"$f":"A1+1","v":169},{"$f":"B1+0.00347222222222227","v":"07:05:00"},{"$f":"WORKDAY(C1,-G27)","v":"2018-06-15"},{"$f":"YEAR(C2)","v":2018},{"$f":"MONTH(C2)","v":6},{"$f":"DAY(C2)","v":15},{"$f":"RTD(\"cqg.rtd\",,\"StudyData\", \"Close(\"&$D$12&\") when LocalYear(\"&$D$12&\")=\"&D2&\" and localMonth(\"&$D$12&\") =\"&E2&\" and LocalDay(\"&$D$12&\")=\"&F2&\" and Barix(\"&$D$12&\",reference:=StartOfDay)=275\", \"Bar\", \"\", \"Close\",\"5\",\"0\",\"\",,,\"False\",\"T\",\"EveryTick\")","v":1282},{"$f":"RTD(\"cqg.rtd\",,\"StudyData\", \"Close(\"&$D$12&\") when LocalYear(\"&$D$12&\")=\"&$D$1&\" and localMonth(\"&$D$12&\") =\"&$E$1&\" and LocalDay(\"&$D$12&\")=\"&$F$1&\" and Barix(\"&$D$12&\",reference:=StartOfDay)=\"&A2&\"\", \"Bar\", \"\", \"Close\",\"5\",\"0\",\"\",,,\"False\",\"T\",\"EveryTick\")","v":1282.3},{"$f":"IFERROR((H2-$G$2)/$G$2,NA())","v":2.3400936037437951E-4},{"$f":"RTD(\"cqg.rtd\",,\"StudyData\", \"Close(\"&$D$12&\") when LocalYear(\"&$D$12&\")=\"&$D$2&\" and localMonth(\"&$D$12&\") =\"&$E$2&\" and LocalDay(\"&$D$12&\")=\"&$F$2&\" and Barix(\"&$D$12&\",reference:=StartOfDay)=\"&A2&\"\", \"Bar\", \"\", \"Close\",\"5\",\"0\",\"\",,,\"False\",\"T\",\"EveryTick\")","v":1302},{"$f":"IFERROR((J2-$G$3)/$G$3,NA())","v":-2.9864461291064328E-3},{"$f":"RTD(\"cqg.rtd\",,\"StudyData\", \"Close(\"&$D$12&\") when LocalYear(\"&$D$12&\")=\"&$D$3&\" and localMonth(\"&$D$12&\") =\"&$E$3&\" and LocalDay(\"&$D$12&\")=\"&$F$3&\" and Barix(\"&$D$12&\",reference:=StartOfDay)=\"&A2&\"\", \"Bar\", \"\", \"Close\",\"5\",\"0\",\"\",,,\"False\",\"T\",\"EveryTick\")","v":1307.5},{"$f":"IFERROR((L2-$G$4)/$G$4,NA())","v":3.5305856167011348E-3},{"$f":"RTD(\"cqg.rtd\",,\"StudyData\", \"Close(\"&$D$12&\") when LocalYear(\"&$D$12&\")=\"&$D$4&\" and localMonth(\"&$D$12&\") =\"&$E$4&\" and LocalDay(\"&$D$12&\")=\"&$F$4&\" and Barix(\"&$D$12&\",reference:=StartOfDay)=\"&A2&\"\", \"Bar\", \"\", \"Close\",\"5\",\"0\",\"\",,,\"False\",\"T\",\"EveryTick\")","v":1297.7},{"$f":"IFERROR((N2-$G$5)/$G$5,NA())","v":-1.4619883040934624E-3},{"$f":"RTD(\"cqg.rtd\",,\"StudyData\", \"Close(\"&$D$12&\") when LocalYear(\"&$D$12&\")=\"&$D$5&\" and localMonth(\"&$D$12&\") =\"&$E$5&\" and LocalDay(\"&$D$12&\")=\"&$F$5&\" and Barix(\"&$D$12&\",reference:=StartOfDay)=\"&A2&\"\", \"Bar\", \"\", \"Close\",\"5\",\"0\",\"\",,,\"False\",\"T\",\"EveryTick\")","v":1301},{"$f":"IFERROR((P2-$G$6)/$G$6,NA())","v":-2.6065624041705692E-3},{"$f":"RTD(\"cqg.rtd\",,\"StudyData\", \"Close(\"&$D$12&\") when LocalYear(\"&$D$12&\")=\"&$D$6&\" and localMonth(\"&$D$12&\") =\"&$E$6&\" and LocalDay(\"&$D$12&\")=\"&$F$6&\" and Barix(\"&$D$12&\",reference:=StartOfDay)=\"&A2&\"\", \"Bar\", \"\", \"Close\",\"5\",\"0\",\"\",,,\"False\",\"T\",\"EveryTick\")","v":1301.3},{"$f":"IFERROR((R2-$G$7)/$G$7,NA())","v":-1.6877637130802037E-3},{"$f":"RTD(\"cqg.rtd\",,\"StudyData\", \"Close(\"&$D$12&\") when LocalYear(\"&$D$12&\")=\"&$D$7&\" and localMonth(\"&$D$12&\") =\"&$E$7&\" and LocalDay(\"&$D$12&\")=\"&$F$7&\" and Barix(\"&$D$12&\",reference:=StartOfDay)=\"&A2&\"\", \"Bar\", \"\", \"Close\",\"5\",\"0\",\"\",,,\"False\",\"T\",\"EveryTick\")","v":1302.5},{"$f":"IFERROR((T2-$G$8)/$G$8,NA())","v":9.2215476830864946E-4},{"$f":"RTD(\"cqg.rtd\",,\"StudyData\", \"Close(\"&$D$12&\") when LocalYear(\"&$D$12&\")=\"&$D$8&\" and localMonth(\"&$D$12&\") =\"&$E$8&\" and LocalDay(\"&$D$12&\")=\"&$F$8&\" and Barix(\"&$D$12&\",reference:=StartOfDay)=\"&A2&\"\", \"Bar\", \"\", \"Close\",\"5\",\"0\",\"\",,,\"False\",\"T\",\"EveryTick\")","v":1304},{"$f":"IFERROR((V2-$G$9)/$G$9,NA())","v":2.6141780716593043E-3},{"$f":"RTD(\"cqg.rtd\",,\"StudyData\", \"Close(\"&$D$12&\") when LocalYear(\"&$D$12&\")=\"&$D$9&\" and localMonth(\"&$D$12&\") =\"&$E$9&\" and LocalDay(\"&$D$12&\")=\"&$F$9&\" and Barix(\"&$D$12&\",reference:=StartOfDay)=\"&A2&\"\", \"Bar\", \"\", \"Close\",\"5\",\"0\",\"\",,,\"False\",\"T\",\"EveryTick\")","v":1299.9000000000001},{"$f":"IFERROR((X2-$G$10)/$G$10,NA())","v":-3.844970778222085E-4},{"$f":"RTD(\"cqg.rtd\",,\"StudyData\", \"Close(\"&$D$12&\") when LocalYear(\"&$D$12&\")=\"&$D$10&\" and localMonth(\"&$D$12&\") =\"&$E$10&\" and LocalDay(\"&$D$12&\")=\"&$F$10&\" and Barix(\"&$D$12&\",reference:=StartOfDay)=\"&A2&\"\", \"Bar\", \"\", \"Close\",\"5\",\"0\",\"\",,,\"False\",\"T\",\"EveryTick\")","v":1296},{"$f":"IFERROR((Z2-$G$11)/$G$11,NA())","v":7.716644802832707E-5},{"$f":"RANK(AD2,$AD$1:$AD$10)+COUNTIF($AD$1:AD2,AD2)-1","v":10},{"$f":"DATE(D2,E2,F2)","v":"2018-06-15"},{"$f":"VLOOKUP(MAX(AE2:AE108),A1:K108,11,FALSE)","v":-1.4013324144268459E-2},{"$f":"IF(AND(H1<>\"\",H2<>\"\",H3=\"\"),A2,\"\")","v":""},2,{"$f":"VLOOKUP(AF2,$AB$1:$AD$10,2,FALSE)","v":"2018-06-14"},{"$f":"VLOOKUP(AF2,$AB$1:$AD$10,3,FALSE)","v":3.45383375546857E-3},null,null,{"$f":"AG2","v":"2018-06-14"},{"$f":"AC2","v":"2018-06-15"},1,{"$f":"VLOOKUP(AK2,$AL$1:$AM$10,2,FALSE)","v":2}]
[{"$f":"A2+1","v":170},{"$f":"B2+0.00347222222222227","v":"07:10:00"},{"$f":"WORKDAY(C2,-G28)","v":"2018-06-14"},2018,6,14,{"$f":"RTD(\"cqg.rtd\",,\"StudyData\", \"Close(\"&$D$12&\") when LocalYear(\"&$D$12&\")=\"&D3&\" and localMonth(\"&$D$12&\") =\"&E3&\" and LocalDay(\"&$D$12&\")=\"&F3&\" and Barix(\"&$D$12&\",reference:=StartOfDay)=275\", \"Bar\", \"\", \"Close\",\"5\",\"0\",\"\",,,\"False\",\"T\",\"EveryTick\")","v":1305.9000000000001},{"$f":"RTD(\"cqg.rtd\",,\"StudyData\", \"Close(\"&$D$12&\") when LocalYear(\"&$D$12&\")=\"&$D$1&\" and localMonth(\"&$D$12&\") =\"&$E$1&\" and LocalDay(\"&$D$12&\")=\"&$F$1&\" and Barix(\"&$D$12&\",reference:=StartOfDay)=\"&A3&\"\", \"Bar\", \"\", \"Close\",\"5\",\"0\",\"\",,,\"False\",\"T\",\"EveryTick\")","v":1282.4000000000001},{"$f":"IFERROR((H3-$G$2)/$G$2,NA())","v":3.1201248049929093E-4},{"$f":"RTD(\"cqg.rtd\",,\"StudyData\", \"Close(\"&$D$12&\") when LocalYear(\"&$D$12&\")=\"&$D$2&\" and localMonth(\"&$D$12&\") =\"&$E$2&\" and LocalDay(\"&$D$12&\")=\"&$F$2&\" and Barix(\"&$D$12&\",reference:=StartOfDay)=\"&A3&\"\", \"Bar\", \"\", \"Close\",\"5\",\"0\",\"\",,,\"False\",\"T\",\"EveryTick\")","v":1301.5},-3.3693238379662229E-3,{"$f":"RTD(\"cqg.rtd\",,\"StudyData\", \"Close(\"&$D$12&\") when LocalYear(\"&$D$12&\")=\"&$D$3&\" and localMonth(\"&$D$12&\") =\"&$E$3&\" and LocalDay(\"&$D$12&\")=\"&$F$3&\" and Barix(\"&$D$12&\",reference:=StartOfDay)=\"&A3&\"\", \"Bar\", \"\", \"Close\",\"5\",\"0\",\"\",,,\"False\",\"T\",\"EveryTick\")","v":1308.5999999999999},4.3748560902600493E-3,{"$f":"RTD(\"cqg.rtd\",,\"StudyData\", \"Close(\"&$D$12&\") when LocalYear(\"&$D$12&\")=\"&$D$4&\" and localMonth(\"&$D$12&\") =\"&$E$4&\" and LocalDay(\"&$D$12&\")=\"&$F$4&\" and Barix(\"&$D$12&\",reference:=StartOfDay)=\"&A3&\"\", \"Bar\", \"\", \"Close\",\"5\",\"0\",\"\",,,\"False\",\"T\",\"EveryTick\")","v":1298.2},-1.0772545398583131E-3,{"$f":"RTD(\"cqg.rtd\",,\"StudyData\", \"Close(\"&$D$12&\") when LocalYear(\"&$D$12&\")=\"&$D$5&\" and localMonth(\"&$D$12&\") =\"&$E$5&\" and LocalDay(\"&$D$12&\")=\"&$F$5&\" and Barix(\"&$D$12&\",reference:=StartOfDay)=\"&A3&\"\", \"Bar\", \"\", \"Close\",\"5\",\"0\",\"\",,,\"False\",\"T\",\"EveryTick\")","v":1300.5999999999999},-2.9132168046612861E-3,{"$f":"RTD(\"cqg.rtd\",,\"StudyData\", \"Close(\"&$D$12&\") when LocalYear(\"&$D$12&\")=\"&$D$6&\" and localMonth(\"&$D$12&\") =\"&$E$6&\" and LocalDay(\"&$D$12&\")=\"&$F$6&\" and Barix(\"&$D$12&\",reference:=StartOfDay)=\"&A3&\"\", \"Bar\", \"\", \"Close\",\"5\",\"0\",\"\",,,\"False\",\"T\",\"EveryTick\")","v":1301.5},-1.5343306482546988E-3,{"$f":"RTD(\"cqg.rtd\",,\"StudyData\", \"Close(\"&$D$12&\") when LocalYear(\"&$D$12&\")=\"&$D$7&\" and localMonth(\"&$D$12&\") =\"&$E$7&\" and LocalDay(\"&$D$12&\")=\"&$F$7&\" and Barix(\"&$D$12&\",reference:=StartOfDay)=\"&A3&\"\", \"Bar\", \"\", \"Close\",\"5\",\"0\",\"\",,,\"False\",\"T\",\"EveryTick\")","v":1302.3},7.6846230692384542E-4,{"$f":"RTD(\"cqg.rtd\",,\"StudyData\", \"Close(\"&$D$12&\") when LocalYear(\"&$D$12&\")=\"&$D$8&\" and localMonth(\"&$D$12&\") =\"&$E$8&\" and LocalDay(\"&$D$12&\")=\"&$F$8&\" and Barix(\"&$D$12&\",reference:=StartOfDay)=\"&A3&\"\", \"Bar\", \"\", \"Close\",\"5\",\"0\",\"\",,,\"False\",\"T\",\"EveryTick\")","v":1304},2.6141780716593043E-3,{"$f":"RTD(\"cqg.rtd\",,\"StudyData\", \"Close(\"&$D$12&\") when LocalYear(\"&$D$12&\")=\"&$D$9&\" and localMonth(\"&$D$12&\") =\"&$E$9&\" and LocalDay(\"&$D$12&\")=\"&$F$9&\" and Barix(\"&$D$12&\",reference:=StartOfDay)=\"&A3&\"\", \"Bar\", \"\", \"Close\",\"5\",\"0\",\"\",,,\"False\",\"T\",\"EveryTick\")","v":1299.8},-4.6139649338675516E-4,{"$f":"RTD(\"cqg.rtd\",,\"StudyData\", \"Close(\"&$D$12&\") when LocalYear(\"&$D$12&\")=\"&$D$10&\" and localMonth(\"&$D$12&\") =\"&$E$10&\" and LocalDay(\"&$D$12&\")=\"&$F$10&\" and Barix(\"&$D$12&\",reference:=StartOfDay)=\"&A3&\"\", \"Bar\", \"\", \"Close\",\"5\",\"0\",\"\",,,\"False\",\"T\",\"EveryTick\")","v":1296.8},6.9449803225546999E-4,{"$f":"RANK(AD3,$AD$1:$AD$10)+COUNTIF($AD$1:AD3,AD3)-1","v":2},"2018-06-14",{"$f":"VLOOKUP(MAX(AE2:AE108),A1:M108,13,FALSE)","v":3.45383375546857E-3},{"$f":"IF(AND(H2<>\"\",H3<>\"\",H4=\"\"),A3,\"\")","v":""},3,"2018-06-08",1.1526934603857681E-3,null,null,"2018-06-08","2018-06-14",2,6]
[171,"07:15:00","2018-06-13",2018,6,13,{"$f":"RTD(\"cqg.rtd\",,\"StudyData\", \"Close(\"&$D$12&\") when LocalYear(\"&$D$12&\")=\"&D4&\" and localMonth(\"&$D$12&\") =\"&E4&\" and LocalDay(\"&$D$12&\")=\"&F4&\" and Barix(\"&$D$12&\",reference:=StartOfDay)=275\", \"Bar\", \"\", \"Close\",\"5\",\"0\",\"\",,,\"False\",\"T\",\"EveryTick\")","v":1302.9000000000001},{"$f":"RTD(\"cqg.rtd\",,\"StudyData\", \"Close(\"&$D$12&\") when LocalYear(\"&$D$12&\")=\"&$D$1&\" and localMonth(\"&$D$12&\") =\"&$E$1&\" and LocalDay(\"&$D$12&\")=\"&$F$1&\" and Barix(\"&$D$12&\",reference:=StartOfDay)=\"&A4&\"\", \"Bar\", \"\", \"Close\",\"5\",\"0\",\"\",,,\"False\",\"T\",\"EveryTick\")","v":1282.9000000000001},7.020280811233159E-4,{"$f":"RTD(\"cqg.rtd\",,\"StudyData\", \"Close(\"&$D$12&\") when LocalYear(\"&$D$12&\")=\"&$D$2&\" and localMonth(\"&$D$12&\") =\"&$E$2&\" and LocalDay(\"&$D$12&\")=\"&$F$2&\" and Barix(\"&$D$12&\",reference:=StartOfDay)=\"&A4&\"\", \"Bar\", \"\", \"Close\",\"5\",\"0\",\"\",,,\"False\",\"T\",\"EveryTick\")","v":1301.2},-3.5990504632820624E-3,{"$f":"RTD(\"cqg.rtd\",,\"StudyData\", \"Close(\"&$D$12&\") when LocalYear(\"&$D$12&\")=\"&$D$3&\" and localMonth(\"&$D$12&\") =\"&$E$3&\" and LocalDay(\"&$D$12&\")=\"&$F$3&\" and Barix(\"&$D$12&\",reference:=StartOfDay)=\"&A4&\"\", \"Bar\", \"\", \"Close\",\"5\",\"0\",\"\",,,\"False\",\"T\",\"EveryTick\")","v":1309.0999999999999},4.7586153964232231E-3,{"$f":"RTD(\"cqg.rtd\",,\"StudyData\", \"Close(\"&$D$12&\") when LocalYear(\"&$D$12&\")=\"&$D$4&\" and localMonth(\"&$D$12&\") =\"&$E$4&\" and LocalDay(\"&$D$12&\")=\"&$F$4&\" and Barix(\"&$D$12&\",reference:=StartOfDay)=\"&A4&\"\", \"Bar\", \"\", \"Close\",\"5\",\"0\",\"\",,,\"False\",\"T\",\"EveryTick\")","v":1298.3},-1.0003077870113532E-3,{"$f":"RTD(\"cqg.rtd\",,\"StudyData\", \"Close(\"&$D$12&\") when LocalYear(\"&$D$12&\")=\"&$D$5&\" and localMonth(\"&$D$12&\") =\"&$E$5&\" and LocalDay(\"&$D$12&\")=\"&$F$5&\" and Barix(\"&$D$12&\",reference:=StartOfDay)=\"&A4&\"\", \"Bar\", \"\", \"Close\",\"5\",\"0\",\"\",,,\"False\",\"T\",\"EveryTick\")","v":1300.2},-3.2198712051518287E-3,{"$f":"RTD(\"cqg.rtd\",,\"StudyData\", \"Close(\"&$D$12&\") when LocalYear(\"&$D$12&\")=\"&$D$6&\" and localMonth(\"&$D$12&\") =\"&$E$6&\" and LocalDay(\"&$D$12&\")=\"&$F$6&\" and Barix(\"&$D$12&\",reference:=StartOfDay)=\"&A4&\"\", \"Bar\", \"\", \"Close\",\"5\",\"0\",\"\",,,\"False\",\"T\",\"EveryTick\")","v":1301.5999999999999},-1.4576141158420338E-3,{"$f":"RTD(\"cqg.rtd\",,\"StudyData\", \"Close(\"&$D$12&\") when LocalYear(\"&$D$12&\")=\"&$D$7&\" and localMonth(\"&$D$12&\") =\"&$E$7&\" and LocalDay(\"&$D$12&\")=\"&$F$7&\" and Barix(\"&$D$12&\",reference:=StartOfDay)=\"&A4&\"\", \"Bar\", \"\", \"Close\",\"5\",\"0\",\"\",,,\"False\",\"T\",\"EveryTick\")","v":1302.5},9.2215476830864946E-4,{"$f":"RTD(\"cqg.rtd\",,\"StudyData\", \"Close(\"&$D$12&\") when LocalYear(\"&$D$12&\")=\"&$D$8&\" and localMonth(\"&$D$12&\") =\"&$E$8&\" and LocalDay(\"&$D$12&\")=\"&$F$8&\" and Barix(\"&$D$12&\",reference:=StartOfDay)=\"&A4&\"\", \"Bar\", \"\", \"Close\",\"5\",\"0\",\"\",,,\"False\",\"T\",\"EveryTick\")","v":1303.8},2.4604028909734322E-3,{"$f":"RTD(\"cqg.rtd\",,\"StudyData\", \"Close(\"&$D$12&\") when LocalYear(\"&$D$12&\")=\"&$D$9&\" and localMonth(\"&$D$12&\") =\"&$E$9&\" and LocalDay(\"&$D$12&\")=\"&$F$9&\" and Barix(\"&$D$12&\",reference:=StartOfDay)=\"&A4&\"\", \"Bar\", \"\", \"Close\",\"5\",\"0\",\"\",,,\"False\",\"T\",\"EveryTick\")","v":1299.5},-6.9209474008004529E-4,{"$f":"RTD(\"cqg.rtd\",,\"StudyData\", \"Close(\"&$D$12&\") when LocalYear(\"&$D$12&\")=\"&$D$10&\" and localMonth(\"&$D$12&\") =\"&$E$10&\" and LocalDay(\"&$D$12&\")=\"&$F$10&\" and Barix(\"&$D$12&\",reference:=StartOfDay)=\"&A4&\"\", \"Bar\", \"\", \"Close\",\"5\",\"0\",\"\",,,\"False\",\"T\",\"EveryTick\")","v":1296.5999999999999},5.4016513619864037E-4,{"$f":"RANK(AD4,$AD$1:$AD$10)+COUNTIF($AD$1:AD4,AD4)-1","v":5},"2018-06-13",{"$f":"VLOOKUP(MAX(AE2:AE108),A1:O108,15,FALSE)","v":4.6168051708228412E-4},"",4,"2018-06-18",6.2402496099840448E-4,null,null,"2018-06-18","2018-06-13",3,0]
[172,"07:20:00","2018-06-12",2018,6,12,{"$f":"RTD(\"cqg.rtd\",,\"StudyData\", \"Close(\"&$D$12&\") when LocalYear(\"&$D$12&\")=\"&D5&\" and localMonth(\"&$D$12&\") =\"&E5&\" and LocalDay(\"&$D$12&\")=\"&F5&\" and Barix(\"&$D$12&\",reference:=StartOfDay)=275\", \"Bar\", \"\", \"Close\",\"5\",\"0\",\"\",,,\"False\",\"T\",\"EveryTick\")","v":1299.5999999999999},{"$f":"RTD(\"cqg.rtd\",,\"StudyData\", \"Close(\"&$D$12&\") when LocalYear(\"&$D$12&\")=\"&$D$1&\" and localMonth(\"&$D$12&\") =\"&$E$1&\" and LocalDay(\"&$D$12&\")=\"&$F$1&\" and Barix(\"&$D$12&\",reference:=StartOfDay)=\"&A5&\"\", \"Bar\", \"\", \"Close\",\"5\",\"0\",\"\",,,\"False\",\"T\",\"EveryTick\")","v":1282.2},1.5600624024964546E-4,{"$f":"RTD(\"cqg.rtd\",,\"StudyData\", \"Close(\"&$D$12&\") when LocalYear(\"&$D$12&\")=\"&$D$2&\" and localMonth(\"&$D$12&\") =\"&$E$2&\" and LocalDay(\"&$D$12&\")=\"&$F$2&\" and Barix(\"&$D$12&\",reference:=StartOfDay)=\"&A5&\"\", \"Bar\", \"\", \"Close\",\"5\",\"0\",\"\",,,\"False\",\"T\",\"EveryTick\")","v":1297.5},-6.4323455088445445E-3,{"$f":"RTD(\"cqg.rtd\",,\"StudyData\", \"Close(\"&$D$12&\") when LocalYear(\"&$D$12&\")=\"&$D$3&\" and localMonth(\"&$D$12&\") =\"&$E$3&\" and LocalDay(\"&$D$12&\")=\"&$F$3&\" and Barix(\"&$D$12&\",reference:=StartOfDay)=\"&A5&\"\", \"Bar\", \"\", \"Close\",\"5\",\"0\",\"\",,,\"False\",\"T\",\"EveryTick\")","v":1312.2},7.1379230946350099E-3,{"$f":"RTD(\"cqg.rtd\",,\"StudyData\", \"Close(\"&$D$12&\") when LocalYear(\"&$D$12&\")=\"&$D$4&\" and localMonth(\"&$D$12&\") =\"&$E$4&\" and LocalDay(\"&$D$12&\")=\"&$F$4&\" and Barix(\"&$D$12&\",reference:=StartOfDay)=\"&A5&\"\", \"Bar\", \"\", \"Close\",\"5\",\"0\",\"\",,,\"False\",\"T\",\"EveryTick\")","v":1298.0999999999999},-1.1542012927054479E-3,{"$f":"RTD(\"cqg.rtd\",,\"StudyData\", \"Close(\"&$D$12&\") when LocalYear(\"&$D$12&\")=\"&$D$5&\" and localMonth(\"&$D$12&\") =\"&$E$5&\" and LocalDay(\"&$D$12&\")=\"&$F$5&\" and Barix(\"&$D$12&\",reference:=StartOfDay)=\"&A5&\"\", \"Bar\", \"\", \"Close\",\"5\",\"0\",\"\",,,\"False\",\"T\",\"EveryTick\")","v":1296.8},-5.8264336093223979E-3,{"$f":"RTD(\"cqg.rtd\",,\"StudyData\", \"Close(\"&$D$12&\") when LocalYear(\"&$D$12&\")=\"&$D$6&\" and localMonth(\"&$D$12&\") =\"&$E$6&\" and LocalDay(\"&$D$12&\")=\"&$F$6&\" and Barix(\"&$D$12&\",reference:=StartOfDay)=\"&A5&\"\", \"Bar\", \"\", \"Close\",\"5\",\"0\",\"\",,,\"False\",\"T\",\"EveryTick\")","v":1302.4000000000001},-8.4388185654001458E-4,{"$f":"RTD(\"cqg.rtd\",,\"StudyData\", \"Close(\"&$D$12&\") when LocalYear(\"&$D$12&\")=\"&$D$7&\" and localMonth(\"&$D$12&\") =\"&$E$7&\" and LocalDay(\"&$D$12&\")=\"&$F$7&\" and Barix(\"&$D$12&\",reference:=StartOfDay)=\"&A5&\"\", \"Bar\", \"\", \"Close\",\"5\",\"0\",\"\",,,\"False\",\"T\",\"EveryTick\")","v":1302.0999999999999},6.1476984553904138E-4,{"$f":"RTD(\"cqg.rtd\",,\"StudyData\", \"Close(\"&$D$12&\") when LocalYear(\"&$D$12&\")=\"&$D$8&\" and localMonth(\"&$D$12&\") =\"&$E$8&\" and LocalDay(\"&$D$12&\")=\"&$F$8&\" and Barix(\"&$D$12&\",reference:=StartOfDay)=\"&A5&\"\", \"Bar\", \"\", \"Close\",\"5\",\"0\",\"\",,,\"False\",\"T\",\"EveryTick\")","v":1304.5},2.9986160233738974E-3,{"$f":"RTD(\"cqg.rtd\",,\"StudyData\", \"Close(\"&$D$12&\") when LocalYear(\"&$D$12&\")=\"&$D$9&\" and localMonth(\"&$D$12&\") =\"&$E$9&\" and LocalDay(\"&$D$12&\")=\"&$F$9&\" and Barix(\"&$D$12&\",reference:=StartOfDay)=\"&A5&\"\", \"Bar\", \"\", \"Close\",\"5\",\"0\",\"\",,,\"False\",\"T\",\"EveryTick\")","v":1299.7},-5.3829590895112687E-4,{"$f":"RTD(\"cqg.rtd\",,\"StudyData\", \"Close(\"&$D$12&\") when LocalYear(\"&$D$12&\")=\"&$D$10&\" and localMonth(\"&$D$12&\") =\"&$E$10&\" and LocalDay(\"&$D$12&\")=\"&$F$10&\" and Barix(\"&$D$12&\",reference:=StartOfDay)=\"&A5&\"\", \"Bar\", \"\", \"Close\",\"5\",\"0\",\"\",,,\"False\",\"T\",\"EveryTick\")","v":1297.2},1.0031638243691292E-3,{"$f":"RANK(AD5,$AD$1:$AD$10)+COUNTIF($AD$1:AD5,AD5)-1","v":9},"2018-06-12",{"$f":"VLOOKUP(MAX(AE2:AE108),A1:Q108,17,FALSE)","v":-2.0699172033119021E-3},"",5,"2018-06-13",4.6168051708228412E-4,null,null,"2018-06-13","2018-06-12",4,3]
[173,"07:25:00","2018-06-11",2018,6,11,{"$f":"RTD(\"cqg.rtd\",,\"StudyData\", \"Close(\"&$D$12&\") when LocalYear(\"&$D$12&\")=\"&D6&\" and localMonth(\"&$D$12&\") =\"&E6&\" and LocalDay(\"&$D$12&\")=\"&F6&\" and Barix(\"&$D$12&\",reference:=StartOfDay)=275\", \"Bar\", \"\", \"Close\",\"5\",\"0\",\"\",,,\"False\",\"T\",\"EveryTick\")","v":1304.4000000000001},{"$f":"RTD(\"cqg.rtd\",,\"StudyData\", \"Close(\"&$D$12&\") when LocalYear(\"&$D$12&\")=\"&$D$1&\" and localMonth(\"&$D$12&\") =\"&$E$1&\" and LocalDay(\"&$D$12&\")=\"&$F$1&\" and Barix(\"&$D$12&\",reference:=StartOfDay)=\"&A6&\"\", \"Bar\", \"\", \"Close\",\"5\",\"0\",\"\",,,\"False\",\"T\",\"EveryTick\")","v":1281.8},-1.5600624024964546E-4,{"$f":"RTD(\"cqg.rtd\",,\"StudyData\", \"Close(\"&$D$12&\") when LocalYear(\"&$D$12&\")=\"&$D$2&\" and localMonth(\"&$D$12&\") =\"&$E$2&\" and LocalDay(\"&$D$12&\")=\"&$F$2&\" and Barix(\"&$D$12&\",reference:=StartOfDay)=\"&A6&\"\", \"Bar\", \"\", \"Close\",\"5\",\"0\",\"\",,,\"False\",\"T\",\"EveryTick\")","v":1297.7},-6.2791944253005934E-3,{"$f":"RTD(\"cqg.rtd\",,\"StudyData\", \"Close(\"&$D$12&\") when LocalYear(\"&$D$12&\")=\"&$D$3&\" and localMonth(\"&$D$12&\") =\"&$E$3&\" and LocalDay(\"&$D$12&\")=\"&$F$3&\" and Barix(\"&$D$12&\",reference:=StartOfDay)=\"&A6&\"\", \"Bar\", \"\", \"Close\",\"5\",\"0\",\"\",,,\"False\",\"T\",\"EveryTick\")","v":1312},6.9844193721697052E-3,{"$f":"RTD(\"cqg.rtd\",,\"StudyData\", \"Close(\"&$D$12&\") when LocalYear(\"&$D$12&\")=\"&$D$4&\" and localMonth(\"&$D$12&\") =\"&$E$4&\" and LocalDay(\"&$D$12&\")=\"&$F$4&\" and Barix(\"&$D$12&\",reference:=StartOfDay)=\"&A6&\"\", \"Bar\", \"\", \"Close\",\"5\",\"0\",\"\",,,\"False\",\"T\",\"EveryTick\")","v":1298.9000000000001},-5.3862726992906908E-4,{"$f":"RTD(\"cqg.rtd\",,\"StudyData\", \"Close(\"&$D$12&\") when LocalYear(\"&$D$12&\")=\"&$D$5&\" and localMonth(\"&$D$12&\") =\"&$E$5&\" and LocalDay(\"&$D$12&\")=\"&$F$5&\" and Barix(\"&$D$12&\",reference:=StartOfDay)=\"&A6&\"\", \"Bar\", \"\", \"Close\",\"5\",\"0\",\"\",,,\"False\",\"T\",\"EveryTick\")","v":1297.5},-5.2897884084637308E-3,{"$f":"RTD(\"cqg.rtd\",,\"StudyData\", \"Close(\"&$D$12&\") when LocalYear(\"&$D$12&\")=\"&$D$6&\" and localMonth(\"&$D$12&\") =\"&$E$6&\" and LocalDay(\"&$D$12&\")=\"&$F$6&\" and Barix(\"&$D$12&\",reference:=StartOfDay)=\"&A6&\"\", \"Bar\", \"\", \"Close\",\"5\",\"0\",\"\",,,\"False\",\"T\",\"EveryTick\")","v":1302.3},-9.205983889528542E-4,{"$f":"RTD(\"cqg.rtd\",,\"StudyData\", \"Close(\"&$D$12&\") when LocalYear(\"&$D$12&\")=\"&$D$7&\" and localMonth(\"&$D$12&\") =\"&$E$7&\" and LocalDay(\"&$D$12&\")=\"&$F$7&\" and Barix(\"&$D$12&\",reference:=StartOfDay)=\"&A6&\"\", \"Bar\", \"\", \"Close\",\"5\",\"0\",\"\",,,\"False\",\"T\",\"EveryTick\")","v":1303.2},1.4600783831553762E-3,{"$f":"RTD(\"cqg.rtd\",,\"StudyData\", \"Close(\"&$D$12&\") when LocalYear(\"&$D$12&\")=\"&$D$8&\" and localMonth(\"&$D$12&\") =\"&$E$8&\" and LocalDay(\"&$D$12&\")=\"&$F$8&\" and Barix(\"&$D$12&\",reference:=StartOfDay)=\"&A6&\"\", \"Bar\", \"\", \"Close\",\"5\",\"0\",\"\",,,\"False\",\"T\",\"EveryTick\")","v":1306.9000000000001},4.8439181916040156E-3,{"$f":"RTD(\"cqg.rtd\",,\"StudyData\", \"Close(\"&$D$12&\") when LocalYear(\"&$D$12&\")=\"&$D$9&\" and localMonth(\"&$D$12&\") =\"&$E$9&\" and LocalDay(\"&$D$12&\")=\"&$F$9&\" and Barix(\"&$D$12&\",reference:=StartOfDay)=\"&A6&\"\", \"Bar\", \"\", \"Close\",\"5\",\"0\",\"\",,,\"False\",\"T\",\"EveryTick\")","v":1300.9000000000001},3.844970778222085E-4,{"$f":"RTD(\"cqg.rtd\",,\"StudyData\", \"Close(\"&$D$12&\") when LocalYear(\"&$D$12&\")=\"&$D$10&\" and localMonth(\"&$D$12&\") =\"&$E$10&\" and LocalDay(\"&$D$12&\")=\"&$F$10&\" and Barix(\"&$D$12&\",reference:=StartOfDay)=\"&A6&\"\", \"Bar\", \"\", \"Close\",\"5\",\"0\",\"\",,,\"False\",\"T\",\"EveryTick\")","v":1297.2},1.0031638243691292E-3,{"$f":"RANK(AD6,$AD$1:$AD$10)+COUNTIF($AD$1:AD6,AD6)-1","v":6},"2018-06-11",{"$f":"VLOOKUP(MAX(AE2:AE108),A1:S108,19,FALSE)","v":2.3014959723816994E-4},"",6,"2018-06-11",2.3014959723816994E-4,null,null,"2018-06-11","2018-06-11",5,5]
[174,"07:30:00","2018-06-08",2018,6,8,{"$f":"RTD(\"cqg.rtd\",,\"StudyData\", \"Close(\"&$D$12&\") when LocalYear(\"&$D$12&\")=\"&D7&\" and localMonth(\"&$D$12&\") =\"&E7&\" and LocalDay(\"&$D$12&\")=\"&F7&\" and Barix(\"&$D$12&\",reference:=StartOfDay)=275\", \"Bar\", \"\", \"Close\",\"5\",\"0\",\"\",,,\"False\",\"T\",\"EveryTick\")","v":1303.5},{"$f":"RTD(\"cqg.rtd\",,\"StudyData\", \"Close(\"&$D$12&\") when LocalYear(\"&$D$12&\")=\"&$D$1&\" and localMonth(\"&$D$12&\") =\"&$E$1&\" and LocalDay(\"&$D$12&\")=\"&$F$1&\" and Barix(\"&$D$12&\",reference:=StartOfDay)=\"&A7&\"\", \"Bar\", \"\", \"Close\",\"5\",\"0\",\"\",,,\"False\",\"T\",\"EveryTick\")","v":1282},0,{"$f":"RTD(\"cqg.rtd\",,\"StudyData\", \"Close(\"&$D$12&\") when LocalYear(\"&$D$12&\")=\"&$D$2&\" and localMonth(\"&$D$12&\") =\"&$E$2&\" and LocalDay(\"&$D$12&\")=\"&$F$2&\" and Barix(\"&$D$12&\",reference:=StartOfDay)=\"&A7&\"\", \"Bar\", \"\", \"Close\",\"5\",\"0\",\"\",,,\"False\",\"T\",\"EveryTick\")","v":1297.2},-6.662072134160384E-3,{"$f":"RTD(\"cqg.rtd\",,\"StudyData\", \"Close(\"&$D$12&\") when LocalYear(\"&$D$12&\")=\"&$D$3&\" and localMonth(\"&$D$12&\") =\"&$E$3&\" and LocalDay(\"&$D$12&\")=\"&$F$3&\" and Barix(\"&$D$12&\",reference:=StartOfDay)=\"&A7&\"\", \"Bar\", \"\", \"Close\",\"5\",\"0\",\"\",,,\"False\",\"T\",\"EveryTick\")","v":1311.4},6.5239082047739653E-3,{"$f":"RTD(\"cqg.rtd\",,\"StudyData\", \"Close(\"&$D$12&\") when LocalYear(\"&$D$12&\")=\"&$D$4&\" and localMonth(\"&$D$12&\") =\"&$E$4&\" and LocalDay(\"&$D$12&\")=\"&$F$4&\" and Barix(\"&$D$12&\",reference:=StartOfDay)=\"&A7&\"\", \"Bar\", \"\", \"Close\",\"5\",\"0\",\"\",,,\"False\",\"T\",\"EveryTick\")","v":1298.8},-6.1557402277620391E-4,{"$f":"RTD(\"cqg.rtd\",,\"StudyData\", \"Close(\"&$D$12&\") when LocalYear(\"&$D$12&\")=\"&$D$5&\" and localMonth(\"&$D$12&\") =\"&$E$5&\" and LocalDay(\"&$D$12&\")=\"&$F$5&\" and Barix(\"&$D$12&\",reference:=StartOfDay)=\"&A7&\"\", \"Bar\", \"\", \"Close\",\"5\",\"0\",\"\",,,\"False\",\"T\",\"EveryTick\")","v":1298.5999999999999},-4.4464888071145212E-3,{"$f":"RTD(\"cqg.rtd\",,\"StudyData\", \"Close(\"&$D$12&\") when LocalYear(\"&$D$12&\")=\"&$D$6&\" and localMonth(\"&$D$12&\") =\"&$E$6&\" and LocalDay(\"&$D$12&\")=\"&$F$6&\" and Barix(\"&$D$12&\",reference:=StartOfDay)=\"&A7&\"\", \"Bar\", \"\", \"Close\",\"5\",\"0\",\"\",,,\"False\",\"T\",\"EveryTick\")","v":1302.3},-9.205983889528542E-4,{"$f":"RTD(\"cqg.rtd\",,\"StudyData\", \"Close(\"&$D$12&\") when LocalYear(\"&$D$12&\")=\"&$D$7&\" and localMonth(\"&$D$12&\") =\"&$E$7&\" and LocalDay(\"&$D$12&\")=\"&$F$7&\" and Barix(\"&$D$12&\",reference:=StartOfDay)=\"&A7&\"\", \"Bar\", \"\", \"Close\",\"5\",\"0\",\"\",,,\"False\",\"T\",\"EveryTick\")","v":1302.8},1.1526934603857681E-3,{"$f":"RTD(\"cqg.rtd\",,\"StudyData\", \"Close(\"&$D$12&\") when LocalYear(\"&$D$12&\")=\"&$D$8&\" and localMonth(\"&$D$12&\") =\"&$E$8&\" and LocalDay(\"&$D$12&\")=\"&$F$8&\" and Barix(\"&$D$12&\",reference:=StartOfDay)=\"&A7&\"\", \"Bar\", \"\", \"Close\",\"5\",\"0\",\"\",,,\"False\",\"T\",\"EveryTick\")","v":1305.8},3.9981546978318048E-3,{"$f":"RTD(\"cqg.rtd\",,\"StudyData\", \"Close(\"&$D$12&\") when LocalYear(\"&$D$12&\")=\"&$D$9&\" and localMonth(\"&$D$12&\") =\"&$E$9&\" and LocalDay(\"&$D$12&\")=\"&$F$9&\" and Barix(\"&$D$12&\",reference:=StartOfDay)=\"&A7&\"\", \"Bar\", \"\", \"Close\",\"5\",\"0\",\"\",,,\"False\",\"T\",\"EveryTick\")","v":1301.0999999999999},5.382959089509521E-4,{"$f":"RTD(\"cqg.rtd\",,\"StudyData\", \"Close(\"&$D$12&\") when LocalYear(\"&$D$12&\")=\"&$D$10&\" and localMonth(\"&$D$12&\") =\"&$E$10&\" and LocalDay(\"&$D$12&\")=\"&$F$10&\" and Barix(\"&$D$12&\",reference:=StartOfDay)=\"&A7&\"\", \"Bar\", \"\", \"Close\",\"5\",\"0\",\"\",,,\"False\",\"T\",\"EveryTick\")","v":1297},8.488309283122995E-4,{"$f":"RANK(AD7,$AD$1:$AD$10)+COUNTIF($AD$1:AD7,AD7)-1","v":3},"2018-06-08",{"$f":"VLOOKUP(MAX(AE2:AE108),A1:U108,21,FALSE)","v":1.1526934603857681E-3},"",7,"2018-06-05",0,null,null,"2018-06-05","2018-06-08",6,9]
[175,"07:35:00","2018-06-07",2018,6,7,{"$f":"RTD(\"cqg.rtd\",,\"StudyData\", \"Close(\"&$D$12&\") when LocalYear(\"&$D$12&\")=\"&D8&\" and localMonth(\"&$D$12&\") =\"&E8&\" and LocalDay(\"&$D$12&\")=\"&F8&\" and Barix(\"&$D$12&\",reference:=StartOfDay)=275\", \"Bar\", \"\", \"Close\",\"5\",\"0\",\"\",,,\"False\",\"T\",\"EveryTick\")","v":1301.3},{"$f":"RTD(\"cqg.rtd\",,\"StudyData\", \"Close(\"&$D$12&\") when LocalYear(\"&$D$12&\")=\"&$D$1&\" and localMonth(\"&$D$12&\") =\"&$E$1&\" and LocalDay(\"&$D$12&\")=\"&$F$1&\" and Barix(\"&$D$12&\",reference:=StartOfDay)=\"&A8&\"\", \"Bar\", \"\", \"Close\",\"5\",\"0\",\"\",,,\"False\",\"T\",\"EveryTick\")","v":1282.5},3.9001560062402497E-4,{"$f":"RTD(\"cqg.rtd\",,\"StudyData\", \"Close(\"&$D$12&\") when LocalYear(\"&$D$12&\")=\"&$D$2&\" and localMonth(\"&$D$12&\") =\"&$E$2&\" and LocalDay(\"&$D$12&\")=\"&$F$2&\" and Barix(\"&$D$12&\",reference:=StartOfDay)=\"&A8&\"\", \"Bar\", \"\", \"Close\",\"5\",\"0\",\"\",,,\"False\",\"T\",\"EveryTick\")","v":1296.8},-6.9683743012482853E-3,{"$f":"RTD(\"cqg.rtd\",,\"StudyData\", \"Close(\"&$D$12&\") when LocalYear(\"&$D$12&\")=\"&$D$3&\" and localMonth(\"&$D$12&\") =\"&$E$3&\" and LocalDay(\"&$D$12&\")=\"&$F$3&\" and Barix(\"&$D$12&\",reference:=StartOfDay)=\"&A8&\"\", \"Bar\", \"\", \"Close\",\"5\",\"0\",\"\",,,\"False\",\"T\",\"EveryTick\")","v":1311.5},6.6006600660065305E-3,{"$f":"RTD(\"cqg.rtd\",,\"StudyData\", \"Close(\"&$D$12&\") when LocalYear(\"&$D$12&\")=\"&$D$4&\" and localMonth(\"&$D$12&\") =\"&$E$4&\" and LocalDay(\"&$D$12&\")=\"&$F$4&\" and Barix(\"&$D$12&\",reference:=StartOfDay)=\"&A8&\"\", \"Bar\", \"\", \"Close\",\"5\",\"0\",\"\",,,\"False\",\"T\",\"EveryTick\")","v":1298.5999999999999},-7.6946752847029858E-4,{"$f":"RTD(\"cqg.rtd\",,\"StudyData\", \"Close(\"&$D$12&\") when LocalYear(\"&$D$12&\")=\"&$D$5&\" and localMonth(\"&$D$12&\") =\"&$E$5&\" and LocalDay(\"&$D$12&\")=\"&$F$5&\" and Barix(\"&$D$12&\",reference:=StartOfDay)=\"&A8&\"\", \"Bar\", \"\", \"Close\",\"5\",\"0\",\"\",,,\"False\",\"T\",\"EveryTick\")","v":1298.7},-4.3698252069917553E-3,{"$f":"RTD(\"cqg.rtd\",,\"StudyData\", \"Close(\"&$D$12&\") when LocalYear(\"&$D$12&\")=\"&$D$6&\" and localMonth(\"&$D$12&\") =\"&$E$6&\" and LocalDay(\"&$D$12&\")=\"&$F$6&\" and Barix(\"&$D$12&\",reference:=StartOfDay)=\"&A8&\"\", \"Bar\", \"\", \"Close\",\"5\",\"0\",\"\",,,\"False\",\"T\",\"EveryTick\")","v":1302.3},-9.205983889528542E-4,{"$f":"RTD(\"cqg.rtd\",,\"StudyData\", \"Close(\"&$D$12&\") when LocalYear(\"&$D$12&\")=\"&$D$7&\" and localMonth(\"&$D$12&\") =\"&$E$7&\" and LocalDay(\"&$D$12&\")=\"&$F$7&\" and Barix(\"&$D$12&\",reference:=StartOfDay)=\"&A8&\"\", \"Bar\", \"\", \"Close\",\"5\",\"0\",\"\",,,\"False\",\"T\",\"EveryTick\")","v":1302.3},7.6846230692384542E-4,{"$f":"RTD(\"cqg.rtd\",,\"StudyData\", \"Close(\"&$D$12&\") when LocalYear(\"&$D$12&\")=\"&$D$8&\" and localMonth(\"&$D$12&\") =\"&$E$8&\" and LocalDay(\"&$D$12&\")=\"&$F$8&\" and Barix(\"&$D$12&\",reference:=StartOfDay)=\"&A8&\"\", \"Bar\", \"\", \"Close\",\"5\",\"0\",\"\",,,\"False\",\"T\",\"EveryTick\")","v":1305.5999999999999},3.844379517145933E-3,{"$f":"RTD(\"cqg.rtd\",,\"StudyData\", \"Close(\"&$D$12&\") when LocalYear(\"&$D$12&\")=\"&$D$9&\" and localMonth(\"&$D$12&\") =\"&$E$9&\" and LocalDay(\"&$D$12&\")=\"&$F$9&\" and Barix(\"&$D$12&\",reference:=StartOfDay)=\"&A8&\"\", \"Bar\", \"\", \"Close\",\"5\",\"0\",\"\",,,\"False\",\"T\",\"EveryTick\")","v":1301.5},8.4589357120878883E-4,{"$f":"RTD(\"cqg.rtd\",,\"StudyData\", \"Close(\"&$D$12&\") when LocalYear(\"&$D$12&\")=\"&$D$10&\" and localMonth(\"&$D$12&\") =\"&$E$10&\" and LocalDay(\"&$D$12&\")=\"&$F$10&\" and Barix(\"&$D$12&\",reference:=StartOfDay)=\"&A8&\"\", \"Bar\", \"\", \"Close\",\"5\",\"0\",\"\",,,\"False\",\"T\",\"EveryTick\")","v":1296.7},6.1733158422714283E-4,{"$f":"RANK(AD8,$AD$1:$AD$10)+COUNTIF($AD$1:AD8,AD8)-1","v":8},"2018-06-07",{"$f":"VLOOKUP(MAX(AE2:AE108),A1:W108,23,FALSE)","v":-1.5377518068569745E-4},"",8,"2018-06-07",-1.5377518068569745E-4,null,null,"2018-06-07","2018-06-07",7,{"$f":"VLOOKUP(AK8,$AL$1:$AM$10,2,FALSE)","v":7}]
[176,"07:40:00","2018-06-06",2018,6,6,{"$f":"RTD(\"cqg.rtd\",,\"StudyData\", \"Close(\"&$D$12&\") when LocalYear(\"&$D$12&\")=\"&D9&\" and localMonth(\"&$D$12&\") =\"&E9&\" and LocalDay(\"&$D$12&\")=\"&F9&\" and Barix(\"&$D$12&\",reference:=StartOfDay)=275\", \"Bar\", \"\", \"Close\",\"5\",\"0\",\"\",,,\"False\",\"T\",\"EveryTick\")","v":1300.5999999999999},{"$f":"RTD(\"cqg.rtd\",,\"StudyData\", \"Close(\"&$D$12&\") when LocalYear(\"&$D$12&\")=\"&$D$1&\" and localMonth(\"&$D$12&\") =\"&$E$1&\" and LocalDay(\"&$D$12&\")=\"&$F$1&\" and Barix(\"&$D$12&\",reference:=StartOfDay)=\"&A9&\"\", \"Bar\", \"\", \"Close\",\"5\",\"0\",\"\",,,\"False\",\"T\",\"EveryTick\")","v":1282.0999999999999},7.8003120124734045E-5,{"$f":"RTD(\"cqg.rtd\",,\"StudyData\", \"Close(\"&$D$12&\") when LocalYear(\"&$D$12&\")=\"&$D$2&\" and localMonth(\"&$D$12&\") =\"&$E$2&\" and LocalDay(\"&$D$12&\")=\"&$F$2&\" and Barix(\"&$D$12&\",reference:=StartOfDay)=\"&A9&\"\", \"Bar\", \"\", \"Close\",\"5\",\"0\",\"\",,,\"False\",\"T\",\"EveryTick\")","v":1296.5},-7.1981009265641247E-3,{"$f":"RTD(\"cqg.rtd\",,\"StudyData\", \"Close(\"&$D$12&\") when LocalYear(\"&$D$12&\")=\"&$D$3&\" and localMonth(\"&$D$12&\") =\"&$E$3&\" and LocalDay(\"&$D$12&\")=\"&$F$3&\" and Barix(\"&$D$12&\",reference:=StartOfDay)=\"&A9&\"\", \"Bar\", \"\", \"Close\",\"5\",\"0\",\"\",,,\"False\",\"T\",\"EveryTick\")","v":1311.5},6.6006600660065305E-3,{"$f":"RTD(\"cqg.rtd\",,\"StudyData\", \"Close(\"&$D$12&\") when LocalYear(\"&$D$12&\")=\"&$D$4&\" and localMonth(\"&$D$12&\") =\"&$E$4&\" and LocalDay(\"&$D$12&\")=\"&$F$4&\" and Barix(\"&$D$12&\",reference:=StartOfDay)=\"&A9&\"\", \"Bar\", \"\", \"Close\",\"5\",\"0\",\"\",,,\"False\",\"T\",\"EveryTick\")","v":1298.8},-6.1557402277620391E-4,{"$f":"RTD(\"cqg.rtd\",,\"StudyData\", \"Close(\"&$D$12&\") when LocalYear(\"&$D$12&\")=\"&$D$5&\" and localMonth(\"&$D$12&\") =\"&$E$5&\" and LocalDay(\"&$D$12&\")=\"&$F$5&\" and Barix(\"&$D$12&\",reference:=StartOfDay)=\"&A9&\"\", \"Bar\", \"\", \"Close\",\"5\",\"0\",\"\",,,\"False\",\"T\",\"EveryTick\")","v":1299.3},-3.9098436062558542E-3,{"$f":"RTD(\"cqg.rtd\",,\"StudyData\", \"Close(\"&$D$12&\") when LocalYear(\"&$D$12&\")=\"&$D$6&\" and localMonth(\"&$D$12&\") =\"&$E$6&\" and LocalDay(\"&$D$12&\")=\"&$F$6&\" and Barix(\"&$D$12&\",reference:=StartOfDay)=\"&A9&\"\", \"Bar\", \"\", \"Close\",\"5\",\"0\",\"\",,,\"False\",\"T\",\"EveryTick\")","v":1302.4000000000001},-8.4388185654001458E-4,{"$f":"RTD(\"cqg.rtd\",,\"StudyData\", \"Close(\"&$D$12&\") when LocalYear(\"&$D$12&\")=\"&$D$7&\" and localMonth(\"&$D$12&\") =\"&$E$7&\" and LocalDay(\"&$D$12&\")=\"&$F$7&\" and Barix(\"&$D$12&\",reference:=StartOfDay)=\"&A9&\"\", \"Bar\", \"\", \"Close\",\"5\",\"0\",\"\",,,\"False\",\"T\",\"EveryTick\")","v":1303.2},1.4600783831553762E-3,{"$f":"RTD(\"cqg.rtd\",,\"StudyData\", \"Close(\"&$D$12&\") when LocalYear(\"&$D$12&\")=\"&$D$8&\" and localMonth(\"&$D$12&\") =\"&$E$8&\" and LocalDay(\"&$D$12&\")=\"&$F$8&\" and Barix(\"&$D$12&\",reference:=StartOfDay)=\"&A9&\"\", \"Bar\", \"\", \"Close\",\"5\",\"0\",\"\",,,\"False\",\"T\",\"EveryTick\")","v":1305.5999999999999},3.844379517145933E-3,{"$f":"RTD(\"cqg.rtd\",,\"StudyData\", \"Close(\"&$D$12&\") when LocalYear(\"&$D$12&\")=\"&$D$9&\" and localMonth(\"&$D$12&\") =\"&$E$9&\" and LocalDay(\"&$D$12&\")=\"&$F$9&\" and Barix(\"&$D$12&\",reference:=StartOfDay)=\"&A9&\"\", \"Bar\", \"\", \"Close\",\"5\",\"0\",\"\",,,\"False\",\"T\",\"EveryTick\")","v":1302},1.2303906490309974E-3,{"$f":"RTD(\"cqg.rtd\",,\"StudyData\", \"Close(\"&$D$12&\") when LocalYear(\"&$D$12&\")=\"&$D$10&\" and localMonth(\"&$D$12&\") =\"&$E$10&\" and LocalDay(\"&$D$12&\")=\"&$F$10&\" and Barix(\"&$D$12&\",reference:=StartOfDay)=\"&A9&\"\", \"Bar\", \"\", \"Close\",\"5\",\"0\",\"\",,,\"False\",\"T\",\"EveryTick\")","v":1296.7},6.1733158422714283E-4,{"$f":"RANK(AD9,$AD$1:$AD$10)+COUNTIF($AD$1:AD9,AD9)-1","v":1},"2018-06-06",{"$f":"VLOOKUP(MAX(AE2:AE108),A1:Y108,25,FALSE)","v":3.4604737003998769E-3},"",9,"2018-06-12",-2.0699172033119021E-3,null,null,"2018-06-12","2018-06-06",8,4]
[177,"07:45:00","2018-06-05",2018,6,5,{"$f":"RTD(\"cqg.rtd\",,\"StudyData\", \"Close(\"&$D$12&\") when LocalYear(\"&$D$12&\")=\"&D10&\" and localMonth(\"&$D$12&\") =\"&E10&\" and LocalDay(\"&$D$12&\")=\"&F10&\" and Barix(\"&$D$12&\",reference:=StartOfDay)=275\", \"Bar\", \"\", \"Close\",\"5\",\"0\",\"\",,,\"False\",\"T\",\"EveryTick\")","v":1300.4000000000001},{"$f":"RTD(\"cqg.rtd\",,\"StudyData\", \"Close(\"&$D$12&\") when LocalYear(\"&$D$12&\")=\"&$D$1&\" and localMonth(\"&$D$12&\") =\"&$E$1&\" and LocalDay(\"&$D$12&\")=\"&$F$1&\" and Barix(\"&$D$12&\",reference:=StartOfDay)=\"&A10&\"\", \"Bar\", \"\", \"Close\",\"5\",\"0\",\"\",,,\"False\",\"T\",\"EveryTick\")","v":1282.3},2.3400936037437951E-4,{"$f":"RTD(\"cqg.rtd\",,\"StudyData\", \"Close(\"&$D$12&\") when LocalYear(\"&$D$12&\")=\"&$D$2&\" and localMonth(\"&$D$12&\") =\"&$E$2&\" and LocalDay(\"&$D$12&\")=\"&$F$2&\" and Barix(\"&$D$12&\",reference:=StartOfDay)=\"&A10&\"\", \"Bar\", \"\", \"Close\",\"5\",\"0\",\"\",,,\"False\",\"T\",\"EveryTick\")","v":1296.4000000000001},-7.2746764683360131E-3,{"$f":"RTD(\"cqg.rtd\",,\"StudyData\", \"Close(\"&$D$12&\") when LocalYear(\"&$D$12&\")=\"&$D$3&\" and localMonth(\"&$D$12&\") =\"&$E$3&\" and LocalDay(\"&$D$12&\")=\"&$F$3&\" and Barix(\"&$D$12&\",reference:=StartOfDay)=\"&A10&\"\", \"Bar\", \"\", \"Close\",\"5\",\"0\",\"\",,,\"False\",\"T\",\"EveryTick\")","v":1311.5},6.6006600660065305E-3,{"$f":"RTD(\"cqg.rtd\",,\"StudyData\", \"Close(\"&$D$12&\") when LocalYear(\"&$D$12&\")=\"&$D$4&\" and localMonth(\"&$D$12&\") =\"&$E$4&\" and LocalDay(\"&$D$12&\")=\"&$F$4&\" and Barix(\"&$D$12&\",reference:=StartOfDay)=\"&A10&\"\", \"Bar\", \"\", \"Close\",\"5\",\"0\",\"\",,,\"False\",\"T\",\"EveryTick\")","v":1299.4000000000001},-1.5389350569391976E-4,{"$f":"RTD(\"cqg.rtd\",,\"StudyData\", \"Close(\"&$D$12&\") when LocalYear(\"&$D$12&\")=\"&$D$5&\" and localMonth(\"&$D$12&\") =\"&$E$5&\" and LocalDay(\"&$D$12&\")=\"&$F$5&\" and Barix(\"&$D$12&\",reference:=StartOfDay)=\"&A10&\"\", \"Bar\", \"\", \"Close\",\"5\",\"0\",\"\",,,\"False\",\"T\",\"EveryTick\")","v":1299},-4.1398344066238043E-3,{"$f":"RTD(\"cqg.rtd\",,\"StudyData\", \"Close(\"&$D$12&\") when LocalYear(\"&$D$12&\")=\"&$D$6&\" and localMonth(\"&$D$12&\") =\"&$E$6&\" and LocalDay(\"&$D$12&\")=\"&$F$6&\" and Barix(\"&$D$12&\",reference:=StartOfDay)=\"&A10&\"\", \"Bar\", \"\", \"Close\",\"5\",\"0\",\"\",,,\"False\",\"T\",\"EveryTick\")","v":1302.4000000000001},-8.4388185654001458E-4,{"$f":"RTD(\"cqg.rtd\",,\"StudyData\", \"Close(\"&$D$12&\") when LocalYear(\"&$D$12&\")=\"&$D$7&\" and localMonth(\"&$D$12&\") =\"&$E$7&\" and LocalDay(\"&$D$12&\")=\"&$F$7&\" and Barix(\"&$D$12&\",reference:=StartOfDay)=\"&A10&\"\", \"Bar\", \"\", \"Close\",\"5\",\"0\",\"\",,,\"False\",\"T\",\"EveryTick\")","v":1302.5999999999999},9.9900099900096409E-4,{"$f":"RTD(\"cqg.rtd\",,\"StudyData\", \"Close(\"&$D$12&\") when LocalYear(\"&$D$12&\")=\"&$D$8&\" and localMonth(\"&$D$12&\") =\"&$E$8&\" and LocalDay(\"&$D$12&\")=\"&$F$8&\" and Barix(\"&$D$12&\",reference:=StartOfDay)=\"&A10&\"\", \"Bar\", \"\", \"Close\",\"5\",\"0\",\"\",,,\"False\",\"T\",\"EveryTick\")","v":1305.4000000000001},3.6906043364602356E-3,{"$f":"RTD(\"cqg.rtd\",,\"StudyData\", \"Close(\"&$D$12&\") when LocalYear(\"&$D$12&\")=\"&$D$9&\" and localMonth(\"&$D$12&\") =\"&$E$9&\" and LocalDay(\"&$D$12&\")=\"&$F$9&\" and Barix(\"&$D$12&\",reference:=StartOfDay)=\"&A10&\"\", \"Bar\", \"\", \"Close\",\"5\",\"0\",\"\",,,\"False\",\"T\",\"EveryTick\")","v":1301.8},1.076591817902079E-3,{"$f":"RTD(\"cqg.rtd\",,\"StudyData\", \"Close(\"&$D$12&\") when LocalYear(\"&$D$12&\")=\"&$D$10&\" and localMonth(\"&$D$12&\") =\"&$E$10&\" and LocalDay(\"&$D$12&\")=\"&$F$10&\" and Barix(\"&$D$12&\",reference:=StartOfDay)=\"&A10&\"\", \"Bar\", \"\", \"Close\",\"5\",\"0\",\"\",,,\"False\",\"T\",\"EveryTick\")","v":1296.5999999999999},5.4016513619864037E-4,{"$f":"RANK(AD10,$AD$1:$AD$10)+COUNTIF($AD$1:AD10,AD10)-1","v":7},"2018-06-05",{"$f":"VLOOKUP(MAX(AE2:AE108),A1:AA108,27,FALSE)","v":0},"",10,"2018-06-15",-1.4013324144268459E-2,null,null,"2018-06-15","2018-06-05",9,1]
[178,"07:50:00","2018-06-04",2018,{"$f":"MONTH(C11)","v":6},{"$f":"DAY(C11)","v":4},{"$f":"RTD(\"cqg.rtd\",,\"StudyData\", \"Close(\"&$D$12&\") when LocalYear(\"&$D$12&\")=\"&D11&\" and localMonth(\"&$D$12&\") =\"&E11&\" and LocalDay(\"&$D$12&\")=\"&F11&\" and Barix(\"&$D$12&\",reference:=StartOfDay)=275\", \"Bar\", \"\", \"Close\",\"5\",\"0\",\"\",,,\"False\",\"T\",\"EveryTick\")","v":1295.9000000000001},{"$f":"RTD(\"cqg.rtd\",,\"StudyData\", \"Close(\"&$D$12&\") when LocalYear(\"&$D$12&\")=\"&$D$1&\" and localMonth(\"&$D$12&\") =\"&$E$1&\" and LocalDay(\"&$D$12&\")=\"&$F$1&\" and Barix(\"&$D$12&\",reference:=StartOfDay)=\"&A11&\"\", \"Bar\", \"\", \"Close\",\"5\",\"0\",\"\",,,\"False\",\"T\",\"EveryTick\")","v":1282.3},2.3400936037437951E-4,{"$f":"RTD(\"cqg.rtd\",,\"StudyData\", \"Close(\"&$D$12&\") when LocalYear(\"&$D$12&\")=\"&$D$2&\" and localMonth(\"&$D$12&\") =\"&$E$2&\" and LocalDay(\"&$D$12&\")=\"&$F$2&\" and Barix(\"&$D$12&\",reference:=StartOfDay)=\"&A11&\"\", \"Bar\", \"\", \"Close\",\"5\",\"0\",\"\",,,\"False\",\"T\",\"EveryTick\")","v":1296.0999999999999},-7.504403093652026E-3,{"$f":"RTD(\"cqg.rtd\",,\"StudyData\", \"Close(\"&$D$12&\") when LocalYear(\"&$D$12&\")=\"&$D$3&\" and localMonth(\"&$D$12&\") =\"&$E$3&\" and LocalDay(\"&$D$12&\")=\"&$F$3&\" and Barix(\"&$D$12&\",reference:=StartOfDay)=\"&A11&\"\", \"Bar\", \"\", \"Close\",\"5\",\"0\",\"\",,,\"False\",\"T\",\"EveryTick\")","v":1311.3},6.4471563435412257E-3,{"$f":"RTD(\"cqg.rtd\",,\"StudyData\", \"Close(\"&$D$12&\") when LocalYear(\"&$D$12&\")=\"&$D$4&\" and localMonth(\"&$D$12&\") =\"&$E$4&\" and LocalDay(\"&$D$12&\")=\"&$F$4&\" and Barix(\"&$D$12&\",reference:=StartOfDay)=\"&A11&\"\", \"Bar\", \"\", \"Close\",\"5\",\"0\",\"\",,,\"False\",\"T\",\"EveryTick\")","v":1300.0999999999999},3.8473376423514929E-4,{"$f":"RTD(\"cqg.rtd\",,\"StudyData\", \"Close(\"&$D$12&\") when LocalYear(\"&$D$12&\")=\"&$D$5&\" and localMonth(\"&$D$12&\") =\"&$E$5&\" and LocalDay(\"&$D$12&\")=\"&$F$5&\" and Barix(\"&$D$12&\",reference:=StartOfDay)=\"&A11&\"\", \"Bar\", \"\", \"Close\",\"5\",\"0\",\"\",,,\"False\",\"T\",\"EveryTick\")","v":1299},-4.1398344066238043E-3,{"$f":"RTD(\"cqg.rtd\",,\"StudyData\", \"Close(\"&$D$12&\") when LocalYear(\"&$D$12&\")=\"&$D$6&\" and localMonth(\"&$D$12&\") =\"&$E$6&\" and LocalDay(\"&$D$12&\")=\"&$F$6&\" and Barix(\"&$D$12&\",reference:=StartOfDay)=\"&A11&\"\", \"Bar\", \"\", \"Close\",\"5\",\"0\",\"\",,,\"False\",\"T\",\"EveryTick\")","v":1302.7},-6.1373225930184462E-4,{"$f":"RTD(\"cqg.rtd\",,\"StudyData\", \"Close(\"&$D$12&\") when LocalYear(\"&$D$12&\")=\"&$D$7&\" and localMonth(\"&$D$12&\") =\"&$E$7&\" and LocalDay(\"&$D$12&\")=\"&$F$7&\" and Barix(\"&$D$12&\",reference:=StartOfDay)=\"&A11&\"\", \"Bar\", \"\", \"Close\",\"5\",\"0\",\"\",,,\"False\",\"T\",\"EveryTick\")","v":1302.8},1.1526934603857681E-3,{"$f":"RTD(\"cqg.rtd\",,\"StudyData\", \"Close(\"&$D$12&\") when LocalYear(\"&$D$12&\")=\"&$D$8&\" and localMonth(\"&$D$12&\") =\"&$E$8&\" and LocalDay(\"&$D$12&\")=\"&$F$8&\" and Barix(\"&$D$12&\",reference:=StartOfDay)=\"&A11&\"\", \"Bar\", \"\", \"Close\",\"5\",\"0\",\"\",,,\"False\",\"T\",\"EveryTick\")","v":1305.3},3.6137167461172117E-3,{"$f":"RTD(\"cqg.rtd\",,\"StudyData\", \"Close(\"&$D$12&\") when LocalYear(\"&$D$12&\")=\"&$D$9&\" and localMonth(\"&$D$12&\") =\"&$E$9&\" and LocalDay(\"&$D$12&\")=\"&$F$9&\" and Barix(\"&$D$12&\",reference:=StartOfDay)=\"&A11&\"\", \"Bar\", \"\", \"Close\",\"5\",\"0\",\"\",,,\"False\",\"T\",\"EveryTick\")","v":1302},1.2303906490309974E-3,{"$f":"RTD(\"cqg.rtd\",,\"StudyData\", \"Close(\"&$D$12&\") when LocalYear(\"&$D$12&\")=\"&$D$10&\" and localMonth(\"&$D$12&\") =\"&$E$10&\" and LocalDay(\"&$D$12&\")=\"&$F$10&\" and Barix(\"&$D$12&\",reference:=StartOfDay)=\"&A11&\"\", \"Bar\", \"\", \"Close\",\"5\",\"0\",\"\",,,\"False\",\"T\",\"EveryTick\")","v":1297},8.488309283122995E-4,null,null,null,""]
[179,"07:55:00",null,{"$f":"MainDisplay!B5","v":"GCE"},null,null,null,{"$f":"RTD(\"cqg.rtd\",,\"StudyData\", \"Close(\"&$D$12&\") when LocalYear(\"&$D$12&\")=\"&$D$1&\" and localMonth(\"&$D$12&\") =\"&$E$1&\" and LocalDay(\"&$D$12&\")=\"&$F$1&\" and Barix(\"&$D$12&\",reference:=StartOfDay)=\"&A12&\"\", \"Bar\", \"\", \"Close\",\"5\",\"0\",\"\",,,\"False\",\"T\",\"EveryTick\")","v":1282.0999999999999},7.8003120124734045E-5,{"$f":"RTD(\"cqg.rtd\",,\"StudyData\", \"Close(\"&$D$12&\") when LocalYear(\"&$D$12&\")=\"&$D$2&\" and localMonth(\"&$D$12&\") =\"&$E$2&\" and LocalDay(\"&$D$12&\")=\"&$F$2&\" and Barix(\"&$D$12&\",reference:=StartOfDay)=\"&A12&\"\", \"Bar\", \"\", \"Close\",\"5\",\"0\",\"\",,,\"False\",\"T\",\"EveryTick\")","v":1295.0999999999999},-8.2701585113716062E-3,{"$f":"RTD(\"cqg.rtd\",,\"StudyData\", \"Close(\"&$D$12&\") when LocalYear(\"&$D$12&\")=\"&$D$3&\" and localMonth(\"&$D$12&\") =\"&$E$3&\" and LocalDay(\"&$D$12&\")=\"&$F$3&\" and Barix(\"&$D$12&\",reference:=StartOfDay)=\"&A12&\"\", \"Bar\", \"\", \"Close\",\"5\",\"0\",\"\",,,\"False\",\"T\",\"EveryTick\")","v":1311},6.2169007598433558E-3,{"$f":"RTD(\"cqg.rtd\",,\"StudyData\", \"Close(\"&$D$12&\") when LocalYear(\"&$D$12&\")=\"&$D$4&\" and localMonth(\"&$D$12&\") =\"&$E$4&\" and LocalDay(\"&$D$12&\")=\"&$F$4&\" and Barix(\"&$D$12&\",reference:=StartOfDay)=\"&A12&\"\", \"Bar\", \"\", \"Close\",\"5\",\"0\",\"\",,,\"False\",\"T\",\"EveryTick\")","v":1300.0999999999999},3.8473376423514929E-4,{"$f":"RTD(\"cqg.rtd\",,\"StudyData\", \"Close(\"&$D$12&\") when LocalYear(\"&$D$12&\")=\"&$D$5&\" and localMonth(\"&$D$12&\") =\"&$E$5&\" and LocalDay(\"&$D$12&\")=\"&$F$5&\" and Barix(\"&$D$12&\",reference:=StartOfDay)=\"&A12&\"\", \"Bar\", \"\", \"Close\",\"5\",\"0\",\"\",,,\"False\",\"T\",\"EveryTick\")","v":1299.2},-3.9865072063784458E-3,{"$f":"RTD(\"cqg.rtd\",,\"StudyData\", \"Close(\"&$D$12&\") when LocalYear(\"&$D$12&\")=\"&$D$6&\" and localMonth(\"&$D$12&\") =\"&$E$6&\" and LocalDay(\"&$D$12&\")=\"&$F$6&\" and Barix(\"&$D$12&\",reference:=StartOfDay)=\"&A12&\"\", \"Bar\", \"\", \"Close\",\"5\",\"0\",\"\",,,\"False\",\"T\",\"EveryTick\")","v":1302.9000000000001},-4.6029919447633988E-4,{"$f":"RTD(\"cqg.rtd\",,\"StudyData\", \"Close(\"&$D$12&\") when LocalYear(\"&$D$12&\")=\"&$D$7&\" and localMonth(\"&$D$12&\") =\"&$E$7&\" and LocalDay(\"&$D$12&\")=\"&$F$7&\" and Barix(\"&$D$12&\",reference:=StartOfDay)=\"&A12&\"\", \"Bar\", \"\", \"Close\",\"5\",\"0\",\"\",,,\"False\",\"T\",\"EveryTick\")","v":1302.3},7.6846230692384542E-4,{"$f":"RTD(\"cqg.rtd\",,\"StudyData\", \"Close(\"&$D$12&\") when LocalYear(\"&$D$12&\")=\"&$D$8&\" and localMonth(\"&$D$12&\") =\"&$E$8&\" and LocalDay(\"&$D$12&\")=\"&$F$8&\" and Barix(\"&$D$12&\",reference:=StartOfDay)=\"&A12&\"\", \"Bar\", \"\", \"Close\",\"5\",\"0\",\"\",,,\"False\",\"T\",\"EveryTick\")","v":1305.7},3.9212671074889561E-3,{"$f":"RTD(\"cqg.rtd\",,\"StudyData\", \"Close(\"&$D$12&\") when LocalYear(\"&$D$12&\")=\"&$D$9&\" and localMonth(\"&$D$12&\") =\"&$E$9&\" and LocalDay(\"&$D$12&\")=\"&$F$9&\" and Barix(\"&$D$12&\",reference:=StartOfDay)=\"&A12&\"\", \"Bar\", \"\", \"Close\",\"5\",\"0\",\"\",,,\"False\",\"T\",\"EveryTick\")","v":1302.2},1.3841894801599158E-3,{"$f":"RTD(\"cqg.rtd\",,\"StudyData\", \"Close(\"&$D$12&\") when LocalYear(\"&$D$12&\")=\"&$D$10&\" and localMonth(\"&$D$12&\") =\"&$E$10&\" and LocalDay(\"&$D$12&\")=\"&$F$10&\" and Barix(\"&$D$12&\",reference:=StartOfDay)=\"&A12&\"\", \"Bar\", \"\", \"Close\",\"5\",\"0\",\"\",,,\"False\",\"T\",\"EveryTick\")","v":1297.3},1.0803302723974562E-3,null,{"$f":"VLOOKUP(MAX(AE2:AE108),A1:B108,2,FALSE)","v":"08:50:00"},null,""]
[180,"08:00:00",null,{"$f":"RTD(\"cqg.rtd\", ,\"ContractData\",D12, \"LastQuoteToday\",, \"T\")","v":1282.8000000000002},null,null,{"$f":"C1","v":"2018-06-18"},{"$f":"RTD(\"cqg.rtd\",,\"StudyData\", \"Close(\"&$D$12&\") when LocalYear(\"&$D$12&\")=\"&$D$1&\" and localMonth(\"&$D$12&\") =\"&$E$1&\" and LocalDay(\"&$D$12&\")=\"&$F$1&\" and Barix(\"&$D$12&\",reference:=StartOfDay)=\"&A13&\"\", \"Bar\", \"\", \"Close\",\"5\",\"0\",\"\",,,\"False\",\"T\",\"EveryTick\")","v":1282.9000000000001},7.020280811233159E-4,{"$f":"RTD(\"cqg.rtd\",,\"StudyData\", \"Close(\"&$D$12&\") when LocalYear(\"&$D$12&\")=\"&$D$2&\" and localMonth(\"&$D$12&\") =\"&$E$2&\" and LocalDay(\"&$D$12&\")=\"&$F$2&\" and Barix(\"&$D$12&\",reference:=StartOfDay)=\"&A13&\"\", \"Bar\", \"\", \"Close\",\"5\",\"0\",\"\",,,\"False\",\"T\",\"EveryTick\")","v":1296.2},-7.4278275518799642E-3,{"$f":"RTD(\"cqg.rtd\",,\"StudyData\", \"Close(\"&$D$12&\") when LocalYear(\"&$D$12&\")=\"&$D$3&\" and localMonth(\"&$D$12&\") =\"&$E$3&\" and LocalDay(\"&$D$12&\")=\"&$F$3&\" and Barix(\"&$D$12&\",reference:=StartOfDay)=\"&A13&\"\", \"Bar\", \"\", \"Close\",\"5\",\"0\",\"\",,,\"False\",\"T\",\"EveryTick\")","v":1309.4000000000001},4.9888709801212674E-3,{"$f":"RTD(\"cqg.rtd\",,\"StudyData\", \"Close(\"&$D$12&\") when LocalYear(\"&$D$12&\")=\"&$D$4&\" and localMonth(\"&$D$12&\") =\"&$E$4&\" and LocalDay(\"&$D$12&\")=\"&$F$4&\" and Barix(\"&$D$12&\",reference:=StartOfDay)=\"&A13&\"\", \"Bar\", \"\", \"Close\",\"5\",\"0\",\"\",,,\"False\",\"T\",\"EveryTick\")","v":1300.7},8.4641428131743341E-4,{"$f":"RTD(\"cqg.rtd\",,\"StudyData\", \"Close(\"&$D$12&\") when LocalYear(\"&$D$12&\")=\"&$D$5&\" and localMonth(\"&$D$12&\") =\"&$E$5&\" and LocalDay(\"&$D$12&\")=\"&$F$5&\" and Barix(\"&$D$12&\",reference:=StartOfDay)=\"&A13&\"\", \"Bar\", \"\", \"Close\",\"5\",\"0\",\"\",,,\"False\",\"T\",\"EveryTick\")","v":1299.0999999999999},-4.0631708065012127E-3,{"$f":"RTD(\"cqg.rtd\",,\"StudyData\", \"Close(\"&$D$12&\") when LocalYear(\"&$D$12&\")=\"&$D$6&\" and localMonth(\"&$D$12&\") =\"&$E$6&\" and LocalDay(\"&$D$12&\")=\"&$F$6&\" and Barix(\"&$D$12&\",reference:=StartOfDay)=\"&A13&\"\", \"Bar\", \"\", \"Close\",\"5\",\"0\",\"\",,,\"False\",\"T\",\"EveryTick\")","v":1302.8},-5.3701572688917944E-4,{"$f":"RTD(\"cqg.rtd\",,\"StudyData\", \"Close(\"&$D$12&\") when LocalYear(\"&$D$12&\")=\"&$D$7&\" and localMonth(\"&$D$12&\") =\"&$E$7&\" and LocalDay(\"&$D$12&\")=\"&$F$7&\" and Barix(\"&$D$12&\",reference:=StartOfDay)=\"&A13&\"\", \"Bar\", \"\", \"Close\",\"5\",\"0\",\"\",,,\"False\",\"T\",\"EveryTick\")","v":1302.0999999999999},6.1476984553904138E-4,{"$f":"RTD(\"cqg.rtd\",,\"StudyData\", \"Close(\"&$D$12&\") when LocalYear(\"&$D$12&\")=\"&$D$8&\" and localMonth(\"&$D$12&\") =\"&$E$8&\" and LocalDay(\"&$D$12&\")=\"&$F$8&\" and Barix(\"&$D$12&\",reference:=StartOfDay)=\"&A13&\"\", \"Bar\", \"\", \"Close\",\"5\",\"0\",\"\",,,\"False\",\"T\",\"EveryTick\")","v":1305.5999999999999},3.844379517145933E-3,{"$f":"RTD(\"cqg.rtd\",,\"StudyData\", \"Close(\"&$D$12&\") when LocalYear(\"&$D$12&\")=\"&$D$9&\" and localMonth(\"&$D$12&\") =\"&$E$9&\" and LocalDay(\"&$D$12&\")=\"&$F$9&\" and Barix(\"&$D$12&\",reference:=StartOfDay)=\"&A13&\"\", \"Bar\", \"\", \"Close\",\"5\",\"0\",\"\",,,\"False\",\"T\",\"EveryTick\")","v":1302.5},1.6148877268532058E-3,{"$f":"RTD(\"cqg.rtd\",,\"StudyData\", \"Close(\"&$D$12&\") when LocalYear(\"&$D$12&\")=\"&$D$10&\" and localMonth(\"&$D$12&\") =\"&$E$10&\" and LocalDay(\"&$D$12&\")=\"&$F$10&\" and Barix(\"&$D$12&\",reference:=StartOfDay)=\"&A13&\"\", \"Bar\", \"\", \"Close\",\"5\",\"0\",\"\",,,\"False\",\"T\",\"EveryTick\")","v":1297.7},1.3889960645111154E-3,null,null,null,""]
[181,"08:05:00",null,{"$f":"RTD(\"cqg.rtd\", ,\"ContractData\",D12, \"LongDescription\",, \"T\")","v":"Gold (Globex), Aug 18"},null,null,{"$f":"C2","v":"2018-06-15"},{"$f":"RTD(\"cqg.rtd\",,\"StudyData\", \"Close(\"&$D$12&\") when LocalYear(\"&$D$12&\")=\"&$D$1&\" and localMonth(\"&$D$12&\") =\"&$E$1&\" and LocalDay(\"&$D$12&\")=\"&$F$1&\" and Barix(\"&$D$12&\",reference:=StartOfDay)=\"&A14&\"\", \"Bar\", \"\", \"Close\",\"5\",\"0\",\"\",,,\"False\",\"T\",\"EveryTick\")","v":1283},7.8003120124804995E-4,{"$f":"RTD(\"cqg.rtd\",,\"StudyData\", \"Close(\"&$D$12&\") when LocalYear(\"&$D$12&\")=\"&$D$2&\" and localMonth(\"&$D$12&\") =\"&$E$2&\" and LocalDay(\"&$D$12&\")=\"&$F$2&\" and Barix(\"&$D$12&\",reference:=StartOfDay)=\"&A14&\"\", \"Bar\", \"\", \"Close\",\"5\",\"0\",\"\",,,\"False\",\"T\",\"EveryTick\")","v":1294.2},-8.9593383873191237E-3,{"$f":"RTD(\"cqg.rtd\",,\"StudyData\", \"Close(\"&$D$12&\") when LocalYear(\"&$D$12&\")=\"&$D$3&\" and localMonth(\"&$D$12&\") =\"&$E$3&\" and LocalDay(\"&$D$12&\")=\"&$F$3&\" and Barix(\"&$D$12&\",reference:=StartOfDay)=\"&A14&\"\", \"Bar\", \"\", \"Close\",\"5\",\"0\",\"\",,,\"False\",\"T\",\"EveryTick\")","v":1308.5999999999999},4.3748560902600493E-3,{"$f":"RTD(\"cqg.rtd\",,\"StudyData\", \"Close(\"&$D$12&\") when LocalYear(\"&$D$12&\")=\"&$D$4&\" and localMonth(\"&$D$12&\") =\"&$E$4&\" and LocalDay(\"&$D$12&\")=\"&$F$4&\" and Barix(\"&$D$12&\",reference:=StartOfDay)=\"&A14&\"\", \"Bar\", \"\", \"Close\",\"5\",\"0\",\"\",,,\"False\",\"T\",\"EveryTick\")","v":1300.7},8.4641428131743341E-4,{"$f":"RTD(\"cqg.rtd\",,\"StudyData\", \"Close(\"&$D$12&\") when LocalYear(\"&$D$12&\")=\"&$D$5&\" and localMonth(\"&$D$12&\") =\"&$E$5&\" and LocalDay(\"&$D$12&\")=\"&$F$5&\" and Barix(\"&$D$12&\",reference:=StartOfDay)=\"&A14&\"\", \"Bar\", \"\", \"Close\",\"5\",\"0\",\"\",,,\"False\",\"T\",\"EveryTick\")","v":1299.3},-3.9098436062558542E-3,{"$f":"RTD(\"cqg.rtd\",,\"StudyData\", \"Close(\"&$D$12&\") when LocalYear(\"&$D$12&\")=\"&$D$6&\" and localMonth(\"&$D$12&\") =\"&$E$6&\" and LocalDay(\"&$D$12&\")=\"&$F$6&\" and Barix(\"&$D$12&\",reference:=StartOfDay)=\"&A14&\"\", \"Bar\", \"\", \"Close\",\"5\",\"0\",\"\",,,\"False\",\"T\",\"EveryTick\")","v":1302.3},-9.205983889528542E-4,{"$f":"RTD(\"cqg.rtd\",,\"StudyData\", \"Close(\"&$D$12&\") when LocalYear(\"&$D$12&\")=\"&$D$7&\" and localMonth(\"&$D$12&\") =\"&$E$7&\" and LocalDay(\"&$D$12&\")=\"&$F$7&\" and Barix(\"&$D$12&\",reference:=StartOfDay)=\"&A14&\"\", \"Bar\", \"\", \"Close\",\"5\",\"0\",\"\",,,\"False\",\"T\",\"EveryTick\")","v":1301.8},3.8423115346192271E-4,{"$f":"RTD(\"cqg.rtd\",,\"StudyData\", \"Close(\"&$D$12&\") when LocalYear(\"&$D$12&\")=\"&$D$8&\" and localMonth(\"&$D$12&\") =\"&$E$8&\" and LocalDay(\"&$D$12&\")=\"&$F$8&\" and Barix(\"&$D$12&\",reference:=StartOfDay)=\"&A14&\"\", \"Bar\", \"\", \"Close\",\"5\",\"0\",\"\",,,\"False\",\"T\",\"EveryTick\")","v":1304.7},3.15239120405977E-3,{"$f":"RTD(\"cqg.rtd\",,\"StudyData\", \"Close(\"&$D$12&\") when LocalYear(\"&$D$12&\")=\"&$D$9&\" and localMonth(\"&$D$12&\") =\"&$E$9&\" and LocalDay(\"&$D$12&\")=\"&$F$9&\" and Barix(\"&$D$12&\",reference:=StartOfDay)=\"&A14&\"\", \"Bar\", \"\", \"Close\",\"5\",\"0\",\"\",,,\"False\",\"T\",\"EveryTick\")","v":1302.5999999999999},1.6917871424175777E-3,{"$f":"RTD(\"cqg.rtd\",,\"StudyData\", \"Close(\"&$D$12&\") when LocalYear(\"&$D$12&\")=\"&$D$10&\" and localMonth(\"&$D$12&\") =\"&$E$10&\" and LocalDay(\"&$D$12&\")=\"&$F$10&\" and Barix(\"&$D$12&\",reference:=StartOfDay)=\"&A14&\"\", \"Bar\", \"\", \"Close\",\"5\",\"0\",\"\",,,\"False\",\"T\",\"EveryTick\")","v":1297.5},1.2346631684542857E-3,null,null,null,""]
[182,"08:10:00","",null,null,null,"2018-06-14",{"$f":"RTD(\"cqg.rtd\",,\"StudyData\", \"Close(\"&$D$12&\") when LocalYear(\"&$D$12&\")=\"&$D$1&\" and localMonth(\"&$D$12&\") =\"&$E$1&\" and LocalDay(\"&$D$12&\")=\"&$F$1&\" and Barix(\"&$D$12&\",reference:=StartOfDay)=\"&A15&\"\", \"Bar\", \"\", \"Close\",\"5\",\"0\",\"\",,,\"False\",\"T\",\"EveryTick\")","v":1282.5},3.9001560062402497E-4,{"$f":"RTD(\"cqg.rtd\",,\"StudyData\", \"Close(\"&$D$12&\") when LocalYear(\"&$D$12&\")=\"&$D$2&\" and localMonth(\"&$D$12&\") =\"&$E$2&\" and LocalDay(\"&$D$12&\")=\"&$F$2&\" and Barix(\"&$D$12&\",reference:=StartOfDay)=\"&A15&\"\", \"Bar\", \"\", \"Close\",\"5\",\"0\",\"\",,,\"False\",\"T\",\"EveryTick\")","v":1291.0999999999999},-1.1333180182249929E-2,{"$f":"RTD(\"cqg.rtd\",,\"StudyData\", \"Close(\"&$D$12&\") when LocalYear(\"&$D$12&\")=\"&$D$3&\" and localMonth(\"&$D$12&\") =\"&$E$3&\" and LocalDay(\"&$D$12&\")=\"&$F$3&\" and Barix(\"&$D$12&\",reference:=StartOfDay)=\"&A15&\"\", \"Bar\", \"\", \"Close\",\"5\",\"0\",\"\",,,\"False\",\"T\",\"EveryTick\")","v":1308.2},4.0678486453296142E-3,{"$f":"RTD(\"cqg.rtd\",,\"StudyData\", \"Close(\"&$D$12&\") when LocalYear(\"&$D$12&\")=\"&$D$4&\" and localMonth(\"&$D$12&\") =\"&$E$4&\" and LocalDay(\"&$D$12&\")=\"&$F$4&\" and Barix(\"&$D$12&\",reference:=StartOfDay)=\"&A15&\"\", \"Bar\", \"\", \"Close\",\"5\",\"0\",\"\",,,\"False\",\"T\",\"EveryTick\")","v":1301.0999999999999},1.1542012927054479E-3,{"$f":"RTD(\"cqg.rtd\",,\"StudyData\", \"Close(\"&$D$12&\") when LocalYear(\"&$D$12&\")=\"&$D$5&\" and localMonth(\"&$D$12&\") =\"&$E$5&\" and LocalDay(\"&$D$12&\")=\"&$F$5&\" and Barix(\"&$D$12&\",reference:=StartOfDay)=\"&A15&\"\", \"Bar\", \"\", \"Close\",\"5\",\"0\",\"\",,,\"False\",\"T\",\"EveryTick\")","v":1299.4000000000001},-3.8331800061330878E-3,{"$f":"RTD(\"cqg.rtd\",,\"StudyData\", \"Close(\"&$D$12&\") when LocalYear(\"&$D$12&\")=\"&$D$6&\" and localMonth(\"&$D$12&\") =\"&$E$6&\" and LocalDay(\"&$D$12&\")=\"&$F$6&\" and Barix(\"&$D$12&\",reference:=StartOfDay)=\"&A15&\"\", \"Bar\", \"\", \"Close\",\"5\",\"0\",\"\",,,\"False\",\"T\",\"EveryTick\")","v":1302.5},-7.6716532412734941E-4,{"$f":"RTD(\"cqg.rtd\",,\"StudyData\", \"Close(\"&$D$12&\") when LocalYear(\"&$D$12&\")=\"&$D$7&\" and localMonth(\"&$D$12&\") =\"&$E$7&\" and LocalDay(\"&$D$12&\")=\"&$F$7&\" and Barix(\"&$D$12&\",reference:=StartOfDay)=\"&A15&\"\", \"Bar\", \"\", \"Close\",\"5\",\"0\",\"\",,,\"False\",\"T\",\"EveryTick\")","v":1302.4000000000001},8.4530853761633482E-4,{"$f":"RTD(\"cqg.rtd\",,\"StudyData\", \"Close(\"&$D$12&\") when LocalYear(\"&$D$12&\")=\"&$D$8&\" and localMonth(\"&$D$12&\") =\"&$E$8&\" and LocalDay(\"&$D$12&\")=\"&$F$8&\" and Barix(\"&$D$12&\",reference:=StartOfDay)=\"&A15&\"\", \"Bar\", \"\", \"Close\",\"5\",\"0\",\"\",,,\"False\",\"T\",\"EveryTick\")","v":1305.0999999999999},3.4599415654313396E-3,{"$f":"RTD(\"cqg.rtd\",,\"StudyData\", \"Close(\"&$D$12&\") when LocalYear(\"&$D$12&\")=\"&$D$9&\" and localMonth(\"&$D$12&\") =\"&$E$9&\" and LocalDay(\"&$D$12&\")=\"&$F$9&\" and Barix(\"&$D$12&\",reference:=StartOfDay)=\"&A15&\"\", \"Bar\", \"\", \"Close\",\"5\",\"0\",\"\",,,\"False\",\"T\",\"EveryTick\")","v":1302.7},1.7686865579821243E-3,{"$f":"RTD(\"cqg.rtd\",,\"StudyData\", \"Close(\"&$D$12&\") when LocalYear(\"&$D$12&\")=\"&$D$10&\" and localMonth(\"&$D$12&\") =\"&$E$10&\" and LocalDay(\"&$D$12&\")=\"&$F$10&\" and Barix(\"&$D$12&\",reference:=StartOfDay)=\"&A15&\"\", \"Bar\", \"\", \"Close\",\"5\",\"0\",\"\",,,\"False\",\"T\",\"EveryTick\")","v":1297.8},1.4661625125394423E-3,null,null,null,""]
[183,"08:15:00",null,{"$f":"RTD(\"cqg.rtd\", ,\"ContractData\",D12, \"Ticksize\",, \"T\")","v":0.1},null,null,"2018-06-13",{"$f":"RTD(\"cqg.rtd\",,\"StudyData\", \"Close(\"&$D$12&\") when LocalYear(\"&$D$12&\")=\"&$D$1&\" and localMonth(\"&$D$12&\") =\"&$E$1&\" and LocalDay(\"&$D$12&\")=\"&$F$1&\" and Barix(\"&$D$12&\",reference:=StartOfDay)=\"&A16&\"\", \"Bar\", \"\", \"Close\",\"5\",\"0\",\"\",,,\"False\",\"T\",\"EveryTick\")","v":1282.5},3.9001560062402497E-4,{"$f":"RTD(\"cqg.rtd\",,\"StudyData\", \"Close(\"&$D$12&\") when LocalYear(\"&$D$12&\")=\"&$D$2&\" and localMonth(\"&$D$12&\") =\"&$E$2&\" and LocalDay(\"&$D$12&\")=\"&$F$2&\" and Barix(\"&$D$12&\",reference:=StartOfDay)=\"&A16&\"\", \"Bar\", \"\", \"Close\",\"5\",\"0\",\"\",,,\"False\",\"T\",\"EveryTick\")","v":1292.4000000000001},-1.0337698139214334E-2,{"$f":"RTD(\"cqg.rtd\",,\"StudyData\", \"Close(\"&$D$12&\") when LocalYear(\"&$D$12&\")=\"&$D$3&\" and localMonth(\"&$D$12&\") =\"&$E$3&\" and LocalDay(\"&$D$12&\")=\"&$F$3&\" and Barix(\"&$D$12&\",reference:=StartOfDay)=\"&A16&\"\", \"Bar\", \"\", \"Close\",\"5\",\"0\",\"\",,,\"False\",\"T\",\"EveryTick\")","v":1307.0999999999999},3.2235781717705257E-3,{"$f":"RTD(\"cqg.rtd\",,\"StudyData\", \"Close(\"&$D$12&\") when LocalYear(\"&$D$12&\")=\"&$D$4&\" and localMonth(\"&$D$12&\") =\"&$E$4&\" and LocalDay(\"&$D$12&\")=\"&$F$4&\" and Barix(\"&$D$12&\",reference:=StartOfDay)=\"&A16&\"\", \"Bar\", \"\", \"Close\",\"5\",\"0\",\"\",,,\"False\",\"T\",\"EveryTick\")","v":1300.7},8.4641428131743341E-4,{"$f":"RTD(\"cqg.rtd\",,\"StudyData\", \"Close(\"&$D$12&\") when LocalYear(\"&$D$12&\")=\"&$D$5&\" and localMonth(\"&$D$12&\") =\"&$E$5&\" and LocalDay(\"&$D$12&\")=\"&$F$5&\" and Barix(\"&$D$12&\",reference:=StartOfDay)=\"&A16&\"\", \"Bar\", \"\", \"Close\",\"5\",\"0\",\"\",,,\"False\",\"T\",\"EveryTick\")","v":1299.7},-3.6031892057651373E-3,{"$f":"RTD(\"cqg.rtd\",,\"StudyData\", \"Close(\"&$D$12&\") when LocalYear(\"&$D$12&\")=\"&$D$6&\" and localMonth(\"&$D$12&\") =\"&$E$6&\" and LocalDay(\"&$D$12&\")=\"&$F$6&\" and Barix(\"&$D$12&\",reference:=StartOfDay)=\"&A16&\"\", \"Bar\", \"\", \"Close\",\"5\",\"0\",\"\",,,\"False\",\"T\",\"EveryTick\")","v":1302.4000000000001},-8.4388185654001458E-4,{"$f":"RTD(\"cqg.rtd\",,\"StudyData\", \"Close(\"&$D$12&\") when LocalYear(\"&$D$12&\")=\"&$D$7&\" and localMonth(\"&$D$12&\") =\"&$E$7&\" and LocalDay(\"&$D$12&\")=\"&$F$7&\" and Barix(\"&$D$12&\",reference:=StartOfDay)=\"&A16&\"\", \"Bar\", \"\", \"Close\",\"5\",\"0\",\"\",,,\"False\",\"T\",\"EveryTick\")","v":1302.7},1.0758472296934535E-3,{"$f":"RTD(\"cqg.rtd\",,\"StudyData\", \"Close(\"&$D$12&\") when LocalYear(\"&$D$12&\")=\"&$D$8&\" and localMonth(\"&$D$12&\") =\"&$E$8&\" and LocalDay(\"&$D$12&\")=\"&$F$8&\" and Barix(\"&$D$12&\",reference:=StartOfDay)=\"&A16&\"\", \"Bar\", \"\", \"Close\",\"5\",\"0\",\"\",,,\"False\",\"T\",\"EveryTick\")","v":1305.3},3.6137167461172117E-3,{"$f":"RTD(\"cqg.rtd\",,\"StudyData\", \"Close(\"&$D$12&\") when LocalYear(\"&$D$12&\")=\"&$D$9&\" and localMonth(\"&$D$12&\") =\"&$E$9&\" and LocalDay(\"&$D$12&\")=\"&$F$9&\" and Barix(\"&$D$12&\",reference:=StartOfDay)=\"&A16&\"\", \"Bar\", \"\", \"Close\",\"5\",\"0\",\"\",,,\"False\",\"T\",\"EveryTick\")","v":1302.4000000000001},1.537988311288834E-3,{"$f":"RTD(\"cqg.rtd\",,\"StudyData\", \"Close(\"&$D$12&\") when LocalYear(\"&$D$12&\")=\"&$D$10&\" and localMonth(\"&$D$12&\") =\"&$E$10&\" and LocalDay(\"&$D$12&\")=\"&$F$10&\" and Barix(\"&$D$12&\",reference:=StartOfDay)=\"&A16&\"\", \"Bar\", \"\", \"Close\",\"5\",\"0\",\"\",,,\"False\",\"T\",\"EveryTick\")","v":1297.0999999999999},9.2599737634062665E-4,null,null,null,""]
[184,"08:20:00",null,{"$f":"IF(D16>=1,0,IF(LEN(D16)-2=1,2,LEN(D16)-2))","v":2},null,{"$f":"VLOOKUP(D17,D18:E25,2,FALSE)","v":"#.00"},"2018-06-12",{"$f":"RTD(\"cqg.rtd\",,\"StudyData\", \"Close(\"&$D$12&\") when LocalYear(\"&$D$12&\")=\"&$D$1&\" and localMonth(\"&$D$12&\") =\"&$E$1&\" and LocalDay(\"&$D$12&\")=\"&$F$1&\" and Barix(\"&$D$12&\",reference:=StartOfDay)=\"&A17&\"\", \"Bar\", \"\", \"Close\",\"5\",\"0\",\"\",,,\"False\",\"T\",\"EveryTick\")","v":1283.3},1.0140405616224295E-3,{"$f":"RTD(\"cqg.rtd\",,\"StudyData\", \"Close(\"&$D$12&\") when LocalYear(\"&$D$12&\")=\"&$D$2&\" and localMonth(\"&$D$12&\") =\"&$E$2&\" and LocalDay(\"&$D$12&\")=\"&$F$2&\" and Barix(\"&$D$12&\",reference:=StartOfDay)=\"&A17&\"\", \"Bar\", \"\", \"Close\",\"5\",\"0\",\"\",,,\"False\",\"T\",\"EveryTick\")","v":1291.3},-1.1180029098705977E-2,{"$f":"RTD(\"cqg.rtd\",,\"StudyData\", \"Close(\"&$D$12&\") when LocalYear(\"&$D$12&\")=\"&$D$3&\" and localMonth(\"&$D$12&\") =\"&$E$3&\" and LocalDay(\"&$D$12&\")=\"&$F$3&\" and Barix(\"&$D$12&\",reference:=StartOfDay)=\"&A17&\"\", \"Bar\", \"\", \"Close\",\"5\",\"0\",\"\",,,\"False\",\"T\",\"EveryTick\")","v":1307.9000000000001},3.8375930616317442E-3,{"$f":"RTD(\"cqg.rtd\",,\"StudyData\", \"Close(\"&$D$12&\") when LocalYear(\"&$D$12&\")=\"&$D$4&\" and localMonth(\"&$D$12&\") =\"&$E$4&\" and LocalDay(\"&$D$12&\")=\"&$F$4&\" and Barix(\"&$D$12&\",reference:=StartOfDay)=\"&A17&\"\", \"Bar\", \"\", \"Close\",\"5\",\"0\",\"\",,,\"False\",\"T\",\"EveryTick\")","v":1300.5999999999999},7.6946752847029858E-4,{"$f":"RTD(\"cqg.rtd\",,\"StudyData\", \"Close(\"&$D$12&\") when LocalYear(\"&$D$12&\")=\"&$D$5&\" and localMonth(\"&$D$12&\") =\"&$E$5&\" and LocalDay(\"&$D$12&\")=\"&$F$5&\" and Barix(\"&$D$12&\",reference:=StartOfDay)=\"&A17&\"\", \"Bar\", \"\", \"Close\",\"5\",\"0\",\"\",,,\"False\",\"T\",\"EveryTick\")","v":1301.3},-2.3765716038026191E-3,{"$f":"RTD(\"cqg.rtd\",,\"StudyData\", \"Close(\"&$D$12&\") when LocalYear(\"&$D$12&\")=\"&$D$6&\" and localMonth(\"&$D$12&\") =\"&$E$6&\" and LocalDay(\"&$D$12&\")=\"&$F$6&\" and Barix(\"&$D$12&\",reference:=StartOfDay)=\"&A17&\"\", \"Bar\", \"\", \"Close\",\"5\",\"0\",\"\",,,\"False\",\"T\",\"EveryTick\")","v":1303.5},0,{"$f":"RTD(\"cqg.rtd\",,\"StudyData\", \"Close(\"&$D$12&\") when LocalYear(\"&$D$12&\")=\"&$D$7&\" and localMonth(\"&$D$12&\") =\"&$E$7&\" and LocalDay(\"&$D$12&\")=\"&$F$7&\" and Barix(\"&$D$12&\",reference:=StartOfDay)=\"&A17&\"\", \"Bar\", \"\", \"Close\",\"5\",\"0\",\"\",,,\"False\",\"T\",\"EveryTick\")","v":1302.8},1.1526934603857681E-3,{"$f":"RTD(\"cqg.rtd\",,\"StudyData\", \"Close(\"&$D$12&\") when LocalYear(\"&$D$12&\")=\"&$D$8&\" and localMonth(\"&$D$12&\") =\"&$E$8&\" and LocalDay(\"&$D$12&\")=\"&$F$8&\" and Barix(\"&$D$12&\",reference:=StartOfDay)=\"&A17&\"\", \"Bar\", \"\", \"Close\",\"5\",\"0\",\"\",,,\"False\",\"T\",\"EveryTick\")","v":1303.7},2.3835153006305835E-3,{"$f":"RTD(\"cqg.rtd\",,\"StudyData\", \"Close(\"&$D$12&\") when LocalYear(\"&$D$12&\")=\"&$D$9&\" and localMonth(\"&$D$12&\") =\"&$E$9&\" and LocalDay(\"&$D$12&\")=\"&$F$9&\" and Barix(\"&$D$12&\",reference:=StartOfDay)=\"&A17&\"\", \"Bar\", \"\", \"Close\",\"5\",\"0\",\"\",,,\"False\",\"T\",\"EveryTick\")","v":1302.9000000000001},1.9224853891110427E-3,{"$f":"RTD(\"cqg.rtd\",,\"StudyData\", \"Close(\"&$D$12&\") when LocalYear(\"&$D$12&\")=\"&$D$10&\" and localMonth(\"&$D$12&\") =\"&$E$10&\" and LocalDay(\"&$D$12&\")=\"&$F$10&\" and Barix(\"&$D$12&\",reference:=StartOfDay)=\"&A17&\"\", \"Bar\", \"\", \"Close\",\"5\",\"0\",\"\",,,\"False\",\"T\",\"EveryTick\")","v":1297.2},1.0031638243691292E-3,null,null,null,""]
[185,"08:25:00",null,0,"#",null,"2018-06-11",{"$f":"RTD(\"cqg.rtd\",,\"StudyData\", \"Close(\"&$D$12&\") when LocalYear(\"&$D$12&\")=\"&$D$1&\" and localMonth(\"&$D$12&\") =\"&$E$1&\" and LocalDay(\"&$D$12&\")=\"&$F$1&\" and Barix(\"&$D$12&\",reference:=StartOfDay)=\"&A18&\"\", \"Bar\", \"\", \"Close\",\"5\",\"0\",\"\",,,\"False\",\"T\",\"EveryTick\")","v":1283.4000000000001},1.0920436817473409E-3,{"$f":"RTD(\"cqg.rtd\",,\"StudyData\", \"Close(\"&$D$12&\") when LocalYear(\"&$D$12&\")=\"&$D$2&\" and localMonth(\"&$D$12&\") =\"&$E$2&\" and LocalDay(\"&$D$12&\")=\"&$F$2&\" and Barix(\"&$D$12&\",reference:=StartOfDay)=\"&A18&\"\", \"Bar\", \"\", \"Close\",\"5\",\"0\",\"\",,,\"False\",\"T\",\"EveryTick\")","v":1292.4000000000001},-1.0337698139214334E-2,{"$f":"RTD(\"cqg.rtd\",,\"StudyData\", \"Close(\"&$D$12&\") when LocalYear(\"&$D$12&\")=\"&$D$3&\" and localMonth(\"&$D$12&\") =\"&$E$3&\" and LocalDay(\"&$D$12&\")=\"&$F$3&\" and Barix(\"&$D$12&\",reference:=StartOfDay)=\"&A18&\"\", \"Bar\", \"\", \"Close\",\"5\",\"0\",\"\",,,\"False\",\"T\",\"EveryTick\")","v":1308.4000000000001},4.2213523677949189E-3,{"$f":"RTD(\"cqg.rtd\",,\"StudyData\", \"Close(\"&$D$12&\") when LocalYear(\"&$D$12&\")=\"&$D$4&\" and localMonth(\"&$D$12&\") =\"&$E$4&\" and LocalDay(\"&$D$12&\")=\"&$F$4&\" and Barix(\"&$D$12&\",reference:=StartOfDay)=\"&A18&\"\", \"Bar\", \"\", \"Close\",\"5\",\"0\",\"\",,,\"False\",\"T\",\"EveryTick\")","v":1300.0999999999999},3.8473376423514929E-4,{"$f":"RTD(\"cqg.rtd\",,\"StudyData\", \"Close(\"&$D$12&\") when LocalYear(\"&$D$12&\")=\"&$D$5&\" and localMonth(\"&$D$12&\") =\"&$E$5&\" and LocalDay(\"&$D$12&\")=\"&$F$5&\" and Barix(\"&$D$12&\",reference:=StartOfDay)=\"&A18&\"\", \"Bar\", \"\", \"Close\",\"5\",\"0\",\"\",,,\"False\",\"T\",\"EveryTick\")","v":1301.3},-2.3765716038026191E-3,{"$f":"RTD(\"cqg.rtd\",,\"StudyData\", \"Close(\"&$D$12&\") when LocalYear(\"&$D$12&\")=\"&$D$6&\" and localMonth(\"&$D$12&\") =\"&$E$6&\" and LocalDay(\"&$D$12&\")=\"&$F$6&\" and Barix(\"&$D$12&\",reference:=StartOfDay)=\"&A18&\"\", \"Bar\", \"\", \"Close\",\"5\",\"0\",\"\",,,\"False\",\"T\",\"EveryTick\")","v":1303.4000000000001},-7.6716532412665172E-5,{"$f":"RTD(\"cqg.rtd\",,\"StudyData\", \"Close(\"&$D$12&\") when LocalYear(\"&$D$12&\")=\"&$D$7&\" and localMonth(\"&$D$12&\") =\"&$E$7&\" and LocalDay(\"&$D$12&\")=\"&$F$7&\" and Barix(\"&$D$12&\",reference:=StartOfDay)=\"&A18&\"\", \"Bar\", \"\", \"Close\",\"5\",\"0\",\"\",,,\"False\",\"T\",\"EveryTick\")","v":1303.0999999999999},1.3832321524628868E-3,{"$f":"RTD(\"cqg.rtd\",,\"StudyData\", \"Close(\"&$D$12&\") when LocalYear(\"&$D$12&\")=\"&$D$8&\" and localMonth(\"&$D$12&\") =\"&$E$8&\" and LocalDay(\"&$D$12&\")=\"&$F$8&\" and Barix(\"&$D$12&\",reference:=StartOfDay)=\"&A18&\"\", \"Bar\", \"\", \"Close\",\"5\",\"0\",\"\",,,\"False\",\"T\",\"EveryTick\")","v":1302},1.0764262648009311E-3,{"$f":"RTD(\"cqg.rtd\",,\"StudyData\", \"Close(\"&$D$12&\") when LocalYear(\"&$D$12&\")=\"&$D$9&\" and localMonth(\"&$D$12&\") =\"&$E$9&\" and LocalDay(\"&$D$12&\")=\"&$F$9&\" and Barix(\"&$D$12&\",reference:=StartOfDay)=\"&A18&\"\", \"Bar\", \"\", \"Close\",\"5\",\"0\",\"\",,,\"False\",\"T\",\"EveryTick\")","v":1303.0999999999999},2.0762842202397863E-3,{"$f":"RTD(\"cqg.rtd\",,\"StudyData\", \"Close(\"&$D$12&\") when LocalYear(\"&$D$12&\")=\"&$D$10&\" and localMonth(\"&$D$12&\") =\"&$E$10&\" and LocalDay(\"&$D$12&\")=\"&$F$10&\" and Barix(\"&$D$12&\",reference:=StartOfDay)=\"&A18&\"\", \"Bar\", \"\", \"Close\",\"5\",\"0\",\"\",,,\"False\",\"T\",\"EveryTick\")","v":1297.5},1.2346631684542857E-3,null,null,null,""]
[186,"08:30:00",null,1,"#.0",null,"2018-06-08",{"$f":"RTD(\"cqg.rtd\",,\"StudyData\", \"Close(\"&$D$12&\") when LocalYear(\"&$D$12&\")=\"&$D$1&\" and localMonth(\"&$D$12&\") =\"&$E$1&\" and LocalDay(\"&$D$12&\")=\"&$F$1&\" and Barix(\"&$D$12&\",reference:=StartOfDay)=\"&A19&\"\", \"Bar\", \"\", \"Close\",\"5\",\"0\",\"\",,,\"False\",\"T\",\"EveryTick\")","v":1282.4000000000001},3.1201248049929093E-4,{"$f":"RTD(\"cqg.rtd\",,\"StudyData\", \"Close(\"&$D$12&\") when LocalYear(\"&$D$12&\")=\"&$D$2&\" and localMonth(\"&$D$12&\") =\"&$E$2&\" and LocalDay(\"&$D$12&\")=\"&$F$2&\" and Barix(\"&$D$12&\",reference:=StartOfDay)=\"&A19&\"\", \"Bar\", \"\", \"Close\",\"5\",\"0\",\"\",,,\"False\",\"T\",\"EveryTick\")","v":1290.5},-1.1792633432881606E-2,{"$f":"RTD(\"cqg.rtd\",,\"StudyData\", \"Close(\"&$D$12&\") when LocalYear(\"&$D$12&\")=\"&$D$3&\" and localMonth(\"&$D$12&\") =\"&$E$3&\" and LocalDay(\"&$D$12&\")=\"&$F$3&\" and Barix(\"&$D$12&\",reference:=StartOfDay)=\"&A19&\"\", \"Bar\", \"\", \"Close\",\"5\",\"0\",\"\",,,\"False\",\"T\",\"EveryTick\")","v":1308},3.9143449228643094E-3,{"$f":"RTD(\"cqg.rtd\",,\"StudyData\", \"Close(\"&$D$12&\") when LocalYear(\"&$D$12&\")=\"&$D$4&\" and localMonth(\"&$D$12&\") =\"&$E$4&\" and LocalDay(\"&$D$12&\")=\"&$F$4&\" and Barix(\"&$D$12&\",reference:=StartOfDay)=\"&A19&\"\", \"Bar\", \"\", \"Close\",\"5\",\"0\",\"\",,,\"False\",\"T\",\"EveryTick\")","v":1299.9000000000001},2.3084025854122956E-4,{"$f":"RTD(\"cqg.rtd\",,\"StudyData\", \"Close(\"&$D$12&\") when LocalYear(\"&$D$12&\")=\"&$D$5&\" and localMonth(\"&$D$12&\") =\"&$E$5&\" and LocalDay(\"&$D$12&\")=\"&$F$5&\" and Barix(\"&$D$12&\",reference:=StartOfDay)=\"&A19&\"\", \"Bar\", \"\", \"Close\",\"5\",\"0\",\"\",,,\"False\",\"T\",\"EveryTick\")","v":1301.5999999999999},-2.1465808034346686E-3,{"$f":"RTD(\"cqg.rtd\",,\"StudyData\", \"Close(\"&$D$12&\") when LocalYear(\"&$D$12&\")=\"&$D$6&\" and localMonth(\"&$D$12&\") =\"&$E$6&\" and LocalDay(\"&$D$12&\")=\"&$F$6&\" and Barix(\"&$D$12&\",reference:=StartOfDay)=\"&A19&\"\", \"Bar\", \"\", \"Close\",\"5\",\"0\",\"\",,,\"False\",\"T\",\"EveryTick\")","v":1304},3.835826620636747E-4,{"$f":"RTD(\"cqg.rtd\",,\"StudyData\", \"Close(\"&$D$12&\") when LocalYear(\"&$D$12&\")=\"&$D$7&\" and localMonth(\"&$D$12&\") =\"&$E$7&\" and LocalDay(\"&$D$12&\")=\"&$F$7&\" and Barix(\"&$D$12&\",reference:=StartOfDay)=\"&A19&\"\", \"Bar\", \"\", \"Close\",\"5\",\"0\",\"\",,,\"False\",\"T\",\"EveryTick\")","v":1303.2},1.4600783831553762E-3,{"$f":"RTD(\"cqg.rtd\",,\"StudyData\", \"Close(\"&$D$12&\") when LocalYear(\"&$D$12&\")=\"&$D$8&\" and localMonth(\"&$D$12&\") =\"&$E$8&\" and LocalDay(\"&$D$12&\")=\"&$F$8&\" and Barix(\"&$D$12&\",reference:=StartOfDay)=\"&A19&\"\", \"Bar\", \"\", \"Close\",\"5\",\"0\",\"\",,,\"False\",\"T\",\"EveryTick\")","v":1302.5999999999999},1.5377518068583733E-3,{"$f":"RTD(\"cqg.rtd\",,\"StudyData\", \"Close(\"&$D$12&\") when LocalYear(\"&$D$12&\")=\"&$D$9&\" and localMonth(\"&$D$12&\") =\"&$E$9&\" and LocalDay(\"&$D$12&\")=\"&$F$9&\" and Barix(\"&$D$12&\",reference:=StartOfDay)=\"&A19&\"\", \"Bar\", \"\", \"Close\",\"5\",\"0\",\"\",,,\"False\",\"T\",\"EveryTick\")","v":1303.4000000000001},2.3069824669332511E-3,{"$f":"RTD(\"cqg.rtd\",,\"StudyData\", \"Close(\"&$D$12&\") when LocalYear(\"&$D$12&\")=\"&$D$10&\" and localMonth(\"&$D$12&\") =\"&$E$10&\" and LocalDay(\"&$D$12&\")=\"&$F$10&\" and Barix(\"&$D$12&\",reference:=StartOfDay)=\"&A19&\"\", \"Bar\", \"\", \"Close\",\"5\",\"0\",\"\",,,\"False\",\"T\",\"EveryTick\")","v":1296.7},6.1733158422714283E-4,null,null,null,""]
[187,"08:35:00",null,2,"#.00",null,"2018-06-07",{"$f":"RTD(\"cqg.rtd\",,\"StudyData\", \"Close(\"&$D$12&\") when LocalYear(\"&$D$12&\")=\"&$D$1&\" and localMonth(\"&$D$12&\") =\"&$E$1&\" and LocalDay(\"&$D$12&\")=\"&$F$1&\" and Barix(\"&$D$12&\",reference:=StartOfDay)=\"&A20&\"\", \"Bar\", \"\", \"Close\",\"5\",\"0\",\"\",,,\"False\",\"T\",\"EveryTick\")","v":1282.4000000000001},3.1201248049929093E-4,{"$f":"RTD(\"cqg.rtd\",,\"StudyData\", \"Close(\"&$D$12&\") when LocalYear(\"&$D$12&\")=\"&$D$2&\" and localMonth(\"&$D$12&\") =\"&$E$2&\" and LocalDay(\"&$D$12&\")=\"&$F$2&\" and Barix(\"&$D$12&\",reference:=StartOfDay)=\"&A20&\"\", \"Bar\", \"\", \"Close\",\"5\",\"0\",\"\",,,\"False\",\"T\",\"EveryTick\")","v":1288.9000000000001},-1.3017842101232866E-2,{"$f":"RTD(\"cqg.rtd\",,\"StudyData\", \"Close(\"&$D$12&\") when LocalYear(\"&$D$12&\")=\"&$D$3&\" and localMonth(\"&$D$12&\") =\"&$E$3&\" and LocalDay(\"&$D$12&\")=\"&$F$3&\" and Barix(\"&$D$12&\",reference:=StartOfDay)=\"&A20&\"\", \"Bar\", \"\", \"Close\",\"5\",\"0\",\"\",,,\"False\",\"T\",\"EveryTick\")","v":1308.0999999999999},3.9910967840968746E-3,{"$f":"RTD(\"cqg.rtd\",,\"StudyData\", \"Close(\"&$D$12&\") when LocalYear(\"&$D$12&\")=\"&$D$4&\" and localMonth(\"&$D$12&\") =\"&$E$4&\" and LocalDay(\"&$D$12&\")=\"&$F$4&\" and Barix(\"&$D$12&\",reference:=StartOfDay)=\"&A20&\"\", \"Bar\", \"\", \"Close\",\"5\",\"0\",\"\",,,\"False\",\"T\",\"EveryTick\")","v":1299.8},1.5389350569409472E-4,{"$f":"RTD(\"cqg.rtd\",,\"StudyData\", \"Close(\"&$D$12&\") when LocalYear(\"&$D$12&\")=\"&$D$5&\" and localMonth(\"&$D$12&\") =\"&$E$5&\" and LocalDay(\"&$D$12&\")=\"&$F$5&\" and Barix(\"&$D$12&\",reference:=StartOfDay)=\"&A20&\"\", \"Bar\", \"\", \"Close\",\"5\",\"0\",\"\",,,\"False\",\"T\",\"EveryTick\")","v":1302.0999999999999},-1.7632628028213598E-3,{"$f":"RTD(\"cqg.rtd\",,\"StudyData\", \"Close(\"&$D$12&\") when LocalYear(\"&$D$12&\")=\"&$D$6&\" and localMonth(\"&$D$12&\") =\"&$E$6&\" and LocalDay(\"&$D$12&\")=\"&$F$6&\" and Barix(\"&$D$12&\",reference:=StartOfDay)=\"&A20&\"\", \"Bar\", \"\", \"Close\",\"5\",\"0\",\"\",,,\"False\",\"T\",\"EveryTick\")","v":1304.2},5.3701572688917944E-4,{"$f":"RTD(\"cqg.rtd\",,\"StudyData\", \"Close(\"&$D$12&\") when LocalYear(\"&$D$12&\")=\"&$D$7&\" and localMonth(\"&$D$12&\") =\"&$E$7&\" and LocalDay(\"&$D$12&\")=\"&$F$7&\" and Barix(\"&$D$12&\",reference:=StartOfDay)=\"&A20&\"\", \"Bar\", \"\", \"Close\",\"5\",\"0\",\"\",,,\"False\",\"T\",\"EveryTick\")","v":1303},1.3063859217705722E-3,{"$f":"RTD(\"cqg.rtd\",,\"StudyData\", \"Close(\"&$D$12&\") when LocalYear(\"&$D$12&\")=\"&$D$8&\" and localMonth(\"&$D$12&\") =\"&$E$8&\" and LocalDay(\"&$D$12&\")=\"&$F$8&\" and Barix(\"&$D$12&\",reference:=StartOfDay)=\"&A20&\"\", \"Bar\", \"\", \"Close\",\"5\",\"0\",\"\",,,\"False\",\"T\",\"EveryTick\")","v":1302.4000000000001},1.3839766261726756E-3,{"$f":"RTD(\"cqg.rtd\",,\"StudyData\", \"Close(\"&$D$12&\") when LocalYear(\"&$D$12&\")=\"&$D$9&\" and localMonth(\"&$D$12&\") =\"&$E$9&\" and LocalDay(\"&$D$12&\")=\"&$F$9&\" and Barix(\"&$D$12&\",reference:=StartOfDay)=\"&A20&\"\", \"Bar\", \"\", \"Close\",\"5\",\"0\",\"\",,,\"False\",\"T\",\"EveryTick\")","v":1303.5},2.3838818824976227E-3,{"$f":"RTD(\"cqg.rtd\",,\"StudyData\", \"Close(\"&$D$12&\") when LocalYear(\"&$D$12&\")=\"&$D$10&\" and localMonth(\"&$D$12&\") =\"&$E$10&\" and LocalDay(\"&$D$12&\")=\"&$F$10&\" and Barix(\"&$D$12&\",reference:=StartOfDay)=\"&A20&\"\", \"Bar\", \"\", \"Close\",\"5\",\"0\",\"\",,,\"False\",\"T\",\"EveryTick\")","v":1296.5},4.6299868817031332E-4,null,null,null,""]
[188,"08:40:00",null,3,"#.000",null,"2018-06-06",{"$f":"RTD(\"cqg.rtd\",,\"StudyData\", \"Close(\"&$D$12&\") when LocalYear(\"&$D$12&\")=\"&$D$1&\" and localMonth(\"&$D$12&\") =\"&$E$1&\" and LocalDay(\"&$D$12&\")=\"&$F$1&\" and Barix(\"&$D$12&\",reference:=StartOfDay)=\"&A21&\"\", \"Bar\", \"\", \"Close\",\"5\",\"0\",\"\",,,\"False\",\"T\",\"EveryTick\")","v":1282.8},6.2402496099840448E-4,{"$f":"RTD(\"cqg.rtd\",,\"StudyData\", \"Close(\"&$D$12&\") when LocalYear(\"&$D$12&\")=\"&$D$2&\" and localMonth(\"&$D$12&\") =\"&$E$2&\" and LocalDay(\"&$D$12&\")=\"&$F$2&\" and Barix(\"&$D$12&\",reference:=StartOfDay)=\"&A21&\"\", \"Bar\", \"\", \"Close\",\"5\",\"0\",\"\",,,\"False\",\"T\",\"EveryTick\")","v":1287.9000000000001},-1.3783597518952445E-2,{"$f":"RTD(\"cqg.rtd\",,\"StudyData\", \"Close(\"&$D$12&\") when LocalYear(\"&$D$12&\")=\"&$D$3&\" and localMonth(\"&$D$12&\") =\"&$E$3&\" and LocalDay(\"&$D$12&\")=\"&$F$3&\" and Barix(\"&$D$12&\",reference:=StartOfDay)=\"&A21&\"\", \"Bar\", \"\", \"Close\",\"5\",\"0\",\"\",,,\"False\",\"T\",\"EveryTick\")","v":1307.7},3.6840893391664395E-3,{"$f":"RTD(\"cqg.rtd\",,\"StudyData\", \"Close(\"&$D$12&\") when LocalYear(\"&$D$12&\")=\"&$D$4&\" and localMonth(\"&$D$12&\") =\"&$E$4&\" and LocalDay(\"&$D$12&\")=\"&$F$4&\" and Barix(\"&$D$12&\",reference:=StartOfDay)=\"&A21&\"\", \"Bar\", \"\", \"Close\",\"5\",\"0\",\"\",,,\"False\",\"T\",\"EveryTick\")","v":1300.0999999999999},3.8473376423514929E-4,{"$f":"RTD(\"cqg.rtd\",,\"StudyData\", \"Close(\"&$D$12&\") when LocalYear(\"&$D$12&\")=\"&$D$5&\" and localMonth(\"&$D$12&\") =\"&$E$5&\" and LocalDay(\"&$D$12&\")=\"&$F$5&\" and Barix(\"&$D$12&\",reference:=StartOfDay)=\"&A21&\"\", \"Bar\", \"\", \"Close\",\"5\",\"0\",\"\",,,\"False\",\"T\",\"EveryTick\")","v":1301.8},-1.9932536031893101E-3,{"$f":"RTD(\"cqg.rtd\",,\"StudyData\", \"Close(\"&$D$12&\") when LocalYear(\"&$D$12&\")=\"&$D$6&\" and localMonth(\"&$D$12&\") =\"&$E$6&\" and LocalDay(\"&$D$12&\")=\"&$F$6&\" and Barix(\"&$D$12&\",reference:=StartOfDay)=\"&A21&\"\", \"Bar\", \"\", \"Close\",\"5\",\"0\",\"\",,,\"False\",\"T\",\"EveryTick\")","v":1304.5},7.6716532412734941E-4,{"$f":"RTD(\"cqg.rtd\",,\"StudyData\", \"Close(\"&$D$12&\") when LocalYear(\"&$D$12&\")=\"&$D$7&\" and localMonth(\"&$D$12&\") =\"&$E$7&\" and LocalDay(\"&$D$12&\")=\"&$F$7&\" and Barix(\"&$D$12&\",reference:=StartOfDay)=\"&A21&\"\", \"Bar\", \"\", \"Close\",\"5\",\"0\",\"\",,,\"False\",\"T\",\"EveryTick\")","v":1303},1.3063859217705722E-3,{"$f":"RTD(\"cqg.rtd\",,\"StudyData\", \"Close(\"&$D$12&\") when LocalYear(\"&$D$12&\")=\"&$D$8&\" and localMonth(\"&$D$12&\") =\"&$E$8&\" and LocalDay(\"&$D$12&\")=\"&$F$8&\" and Barix(\"&$D$12&\",reference:=StartOfDay)=\"&A21&\"\", \"Bar\", \"\", \"Close\",\"5\",\"0\",\"\",,,\"False\",\"T\",\"EveryTick\")","v":1301.9000000000001},9.9953867445808238E-4,{"$f":"RTD(\"cqg.rtd\",,\"StudyData\", \"Close(\"&$D$12&\") when LocalYear(\"&$D$12&\")=\"&$D$9&\" and localMonth(\"&$D$12&\") =\"&$E$9&\" and LocalDay(\"&$D$12&\")=\"&$F$9&\" and Barix(\"&$D$12&\",reference:=StartOfDay)=\"&A21&\"\", \"Bar\", \"\", \"Close\",\"5\",\"0\",\"\",,,\"False\",\"T\",\"EveryTick\")","v":1302.7},1.7686865579821243E-3,{"$f":"RTD(\"cqg.rtd\",,\"StudyData\", \"Close(\"&$D$12&\") when LocalYear(\"&$D$12&\")=\"&$D$10&\" and localMonth(\"&$D$12&\") =\"&$E$10&\" and LocalDay(\"&$D$12&\")=\"&$F$10&\" and Barix(\"&$D$12&\",reference:=StartOfDay)=\"&A21&\"\", \"Bar\", \"\", \"Close\",\"5\",\"0\",\"\",,,\"False\",\"T\",\"EveryTick\")","v":1297},8.488309283122995E-4,null,null,null,""]
[189,"08:45:00",null,4,"#.0000",null,"2018-06-05",{"$f":"RTD(\"cqg.rtd\",,\"StudyData\", \"Close(\"&$D$12&\") when LocalYear(\"&$D$12&\")=\"&$D$1&\" and localMonth(\"&$D$12&\") =\"&$E$1&\" and LocalDay(\"&$D$12&\")=\"&$F$1&\" and Barix(\"&$D$12&\",reference:=StartOfDay)=\"&A22&\"\", \"Bar\", \"\", \"Close\",\"5\",\"0\",\"\",,,\"False\",\"T\",\"EveryTick\")","v":1282.8},6.2402496099840448E-4,{"$f":"RTD(\"cqg.rtd\",,\"StudyData\", \"Close(\"&$D$12&\") when LocalYear(\"&$D$12&\")=\"&$D$2&\" and localMonth(\"&$D$12&\") =\"&$E$2&\" and LocalDay(\"&$D$12&\")=\"&$F$2&\" and Barix(\"&$D$12&\",reference:=StartOfDay)=\"&A22&\"\", \"Bar\", \"\", \"Close\",\"5\",\"0\",\"\",,,\"False\",\"T\",\"EveryTick\")","v":1288.5},-1.3324144268320768E-2,{"$f":"RTD(\"cqg.rtd\",,\"StudyData\", \"Close(\"&$D$12&\") when LocalYear(\"&$D$12&\")=\"&$D$3&\" and localMonth(\"&$D$12&\") =\"&$E$3&\" and LocalDay(\"&$D$12&\")=\"&$F$3&\" and Barix(\"&$D$12&\",reference:=StartOfDay)=\"&A22&\"\", \"Bar\", \"\", \"Close\",\"5\",\"0\",\"\",,,\"False\",\"T\",\"EveryTick\")","v":1307.3},3.3770818942358304E-3,{"$f":"RTD(\"cqg.rtd\",,\"StudyData\", \"Close(\"&$D$12&\") when LocalYear(\"&$D$12&\")=\"&$D$4&\" and localMonth(\"&$D$12&\") =\"&$E$4&\" and LocalDay(\"&$D$12&\")=\"&$F$4&\" and Barix(\"&$D$12&\",reference:=StartOfDay)=\"&A22&\"\", \"Bar\", \"\", \"Close\",\"5\",\"0\",\"\",,,\"False\",\"T\",\"EveryTick\")","v":1300.3},5.3862726992924407E-4,{"$f":"RTD(\"cqg.rtd\",,\"StudyData\", \"Close(\"&$D$12&\") when LocalYear(\"&$D$12&\")=\"&$D$5&\" and localMonth(\"&$D$12&\") =\"&$E$5&\" and LocalDay(\"&$D$12&\")=\"&$F$5&\" and Barix(\"&$D$12&\",reference:=StartOfDay)=\"&A22&\"\", \"Bar\", \"\", \"Close\",\"5\",\"0\",\"\",,,\"False\",\"T\",\"EveryTick\")","v":1301.4000000000001},-2.2999080036798527E-3,{"$f":"RTD(\"cqg.rtd\",,\"StudyData\", \"Close(\"&$D$12&\") when LocalYear(\"&$D$12&\")=\"&$D$6&\" and localMonth(\"&$D$12&\") =\"&$E$6&\" and LocalDay(\"&$D$12&\")=\"&$F$6&\" and Barix(\"&$D$12&\",reference:=StartOfDay)=\"&A22&\"\", \"Bar\", \"\", \"Close\",\"5\",\"0\",\"\",,,\"False\",\"T\",\"EveryTick\")","v":1304.5},7.6716532412734941E-4,{"$f":"RTD(\"cqg.rtd\",,\"StudyData\", \"Close(\"&$D$12&\") when LocalYear(\"&$D$12&\")=\"&$D$7&\" and localMonth(\"&$D$12&\") =\"&$E$7&\" and LocalDay(\"&$D$12&\")=\"&$F$7&\" and Barix(\"&$D$12&\",reference:=StartOfDay)=\"&A22&\"\", \"Bar\", \"\", \"Close\",\"5\",\"0\",\"\",,,\"False\",\"T\",\"EveryTick\")","v":1303.0999999999999},1.3832321524628868E-3,{"$f":"RTD(\"cqg.rtd\",,\"StudyData\", \"Close(\"&$D$12&\") when LocalYear(\"&$D$12&\")=\"&$D$8&\" and localMonth(\"&$D$12&\") =\"&$E$8&\" and LocalDay(\"&$D$12&\")=\"&$F$8&\" and Barix(\"&$D$12&\",reference:=StartOfDay)=\"&A22&\"\", \"Bar\", \"\", \"Close\",\"5\",\"0\",\"\",,,\"False\",\"T\",\"EveryTick\")","v":1300},-4.6132554205744202E-4,{"$f":"RTD(\"cqg.rtd\",,\"StudyData\", \"Close(\"&$D$12&\") when LocalYear(\"&$D$12&\")=\"&$D$9&\" and localMonth(\"&$D$12&\") =\"&$E$9&\" and LocalDay(\"&$D$12&\")=\"&$F$9&\" and Barix(\"&$D$12&\",reference:=StartOfDay)=\"&A22&\"\", \"Bar\", \"\", \"Close\",\"5\",\"0\",\"\",,,\"False\",\"T\",\"EveryTick\")","v":1303.8},2.6145801291909132E-3,{"$f":"RTD(\"cqg.rtd\",,\"StudyData\", \"Close(\"&$D$12&\") when LocalYear(\"&$D$12&\")=\"&$D$10&\" and localMonth(\"&$D$12&\") =\"&$E$10&\" and LocalDay(\"&$D$12&\")=\"&$F$10&\" and Barix(\"&$D$12&\",reference:=StartOfDay)=\"&A22&\"\", \"Bar\", \"\", \"Close\",\"5\",\"0\",\"\",,,\"False\",\"T\",\"EveryTick\")","v":1295.5},-3.0866579211365918E-4,null,null,null,""]
[190,"08:50:00",null,5,"#.00000",null,null,{"$f":"RTD(\"cqg.rtd\",,\"StudyData\", \"Close(\"&$D$12&\") when LocalYear(\"&$D$12&\")=\"&$D$1&\" and localMonth(\"&$D$12&\") =\"&$E$1&\" and LocalDay(\"&$D$12&\")=\"&$F$1&\" and Barix(\"&$D$12&\",reference:=StartOfDay)=\"&A23&\"\", \"Bar\", \"\", \"Close\",\"5\",\"0\",\"\",,,\"False\",\"T\",\"EveryTick\")","v":1282.8},6.2402496099840448E-4,{"$f":"RTD(\"cqg.rtd\",,\"StudyData\", \"Close(\"&$D$12&\") when LocalYear(\"&$D$12&\")=\"&$D$2&\" and localMonth(\"&$D$12&\") =\"&$E$2&\" and LocalDay(\"&$D$12&\")=\"&$F$2&\" and Barix(\"&$D$12&\",reference:=StartOfDay)=\"&A23&\"\", \"Bar\", \"\", \"Close\",\"5\",\"0\",\"\",,,\"False\",\"T\",\"EveryTick\")","v":1287.5999999999999},-1.4013324144268459E-2,{"$f":"RTD(\"cqg.rtd\",,\"StudyData\", \"Close(\"&$D$12&\") when LocalYear(\"&$D$12&\")=\"&$D$3&\" and localMonth(\"&$D$12&\") =\"&$E$3&\" and LocalDay(\"&$D$12&\")=\"&$F$3&\" and Barix(\"&$D$12&\",reference:=StartOfDay)=\"&A23&\"\", \"Bar\", \"\", \"Close\",\"5\",\"0\",\"\",,,\"False\",\"T\",\"EveryTick\")","v":1307.4000000000001},3.45383375546857E-3,{"$f":"RTD(\"cqg.rtd\",,\"StudyData\", \"Close(\"&$D$12&\") when LocalYear(\"&$D$12&\")=\"&$D$4&\" and localMonth(\"&$D$12&\") =\"&$E$4&\" and LocalDay(\"&$D$12&\")=\"&$F$4&\" and Barix(\"&$D$12&\",reference:=StartOfDay)=\"&A23&\"\", \"Bar\", \"\", \"Close\",\"5\",\"0\",\"\",,,\"False\",\"T\",\"EveryTick\")","v":1300.2},4.6168051708228412E-4,{"$f":"RTD(\"cqg.rtd\",,\"StudyData\", \"Close(\"&$D$12&\") when LocalYear(\"&$D$12&\")=\"&$D$5&\" and localMonth(\"&$D$12&\") =\"&$E$5&\" and LocalDay(\"&$D$12&\")=\"&$F$5&\" and Barix(\"&$D$12&\",reference:=StartOfDay)=\"&A23&\"\", \"Bar\", \"\", \"Close\",\"5\",\"0\",\"\",,,\"False\",\"T\",\"EveryTick\")","v":1301.7},-2.0699172033119021E-3,{"$f":"RTD(\"cqg.rtd\",,\"StudyData\", \"Close(\"&$D$12&\") when LocalYear(\"&$D$12&\")=\"&$D$6&\" and localMonth(\"&$D$12&\") =\"&$E$6&\" and LocalDay(\"&$D$12&\")=\"&$F$6&\" and Barix(\"&$D$12&\",reference:=StartOfDay)=\"&A23&\"\", \"Bar\", \"\", \"Close\",\"5\",\"0\",\"\",,,\"False\",\"T\",\"EveryTick\")","v":1303.8},2.3014959723816994E-4,{"$f":"RTD(\"cqg.rtd\",,\"StudyData\", \"Close(\"&$D$12&\") when LocalYear(\"&$D$12&\")=\"&$D$7&\" and localMonth(\"&$D$12&\") =\"&$E$7&\" and LocalDay(\"&$D$12&\")=\"&$F$7&\" and Barix(\"&$D$12&\",reference:=StartOfDay)=\"&A23&\"\", \"Bar\", \"\", \"Close\",\"5\",\"0\",\"\",,,\"False\",\"T\",\"EveryTick\")","v":1302.8},1.1526934603857681E-3,{"$f":"RTD(\"cqg.rtd\",,\"StudyData\", \"Close(\"&$D$12&\") when LocalYear(\"&$D$12&\")=\"&$D$8&\" and localMonth(\"&$D$12&\") =\"&$E$8&\" and LocalDay(\"&$D$12&\")=\"&$F$8&\" and Barix(\"&$D$12&\",reference:=StartOfDay)=\"&A23&\"\", \"Bar\", \"\", \"Close\",\"5\",\"0\",\"\",,,\"False\",\"T\",\"EveryTick\")","v":1300.4000000000001},-1.5377518068569745E-4,{"$f":"RTD(\"cqg.rtd\",,\"StudyData\", \"Close(\"&$D$12&\") when LocalYear(\"&$D$12&\")=\"&$D$9&\" and localMonth(\"&$D$12&\") =\"&$E$9&\" and LocalDay(\"&$D$12&\")=\"&$F$9&\" and Barix(\"&$D$12&\",reference:=StartOfDay)=\"&A23&\"\", \"Bar\", \"\", \"Close\",\"5\",\"0\",\"\",,,\"False\",\"T\",\"EveryTick\")","v":1304.9000000000001},3.4604737003998769E-3,{"$f":"RTD(\"cqg.rtd\",,\"StudyData\", \"Close(\"&$D$12&\") when LocalYear(\"&$D$12&\")=\"&$D$10&\" and localMonth(\"&$D$12&\") =\"&$E$10&\" and LocalDay(\"&$D$12&\")=\"&$F$10&\" and Barix(\"&$D$12&\",reference:=StartOfDay)=\"&A23&\"\", \"Bar\", \"\", \"Close\",\"5\",\"0\",\"\",,,\"False\",\"T\",\"EveryTick\")","v":1295.9000000000001},0,null,null,null,190]
[191,"08:55:00",null,6,"#.000000",null,null,{"$f":"RTD(\"cqg.rtd\",,\"StudyData\", \"Close(\"&$D$12&\") when LocalYear(\"&$D$12&\")=\"&$D$1&\" and localMonth(\"&$D$12&\") =\"&$E$1&\" and LocalDay(\"&$D$12&\")=\"&$F$1&\" and Barix(\"&$D$12&\",reference:=StartOfDay)=\"&A24&\"\", \"Bar\", \"\", \"Close\",\"5\",\"0\",\"\",,,\"False\",\"T\",\"EveryTick\")","v":""},{"$error":"#N/A"},{"$f":"RTD(\"cqg.rtd\",,\"StudyData\", \"Close(\"&$D$12&\") when LocalYear(\"&$D$12&\")=\"&$D$2&\" and localMonth(\"&$D$12&\") =\"&$E$2&\" and LocalDay(\"&$D$12&\")=\"&$F$2&\" and Barix(\"&$D$12&\",reference:=StartOfDay)=\"&A24&\"\", \"Bar\", \"\", \"Close\",\"5\",\"0\",\"\",,,\"False\",\"T\",\"EveryTick\")","v":1286.4000000000001},-1.4932230645531817E-2,{"$f":"RTD(\"cqg.rtd\",,\"StudyData\", \"Close(\"&$D$12&\") when LocalYear(\"&$D$12&\")=\"&$D$3&\" and localMonth(\"&$D$12&\") =\"&$E$3&\" and LocalDay(\"&$D$12&\")=\"&$F$3&\" and Barix(\"&$D$12&\",reference:=StartOfDay)=\"&A24&\"\", \"Bar\", \"\", \"Close\",\"5\",\"0\",\"\",,,\"False\",\"T\",\"EveryTick\")","v":1307},3.1468263105379605E-3,{"$f":"RTD(\"cqg.rtd\",,\"StudyData\", \"Close(\"&$D$12&\") when LocalYear(\"&$D$12&\")=\"&$D$4&\" and localMonth(\"&$D$12&\") =\"&$E$4&\" and LocalDay(\"&$D$12&\")=\"&$F$4&\" and Barix(\"&$D$12&\",reference:=StartOfDay)=\"&A24&\"\", \"Bar\", \"\", \"Close\",\"5\",\"0\",\"\",,,\"False\",\"T\",\"EveryTick\")","v":1299.5999999999999},0,{"$f":"RTD(\"cqg.rtd\",,\"StudyData\", \"Close(\"&$D$12&\") when LocalYear(\"&$D$12&\")=\"&$D$5&\" and localMonth(\"&$D$12&\") =\"&$E$5&\" and LocalDay(\"&$D$12&\")=\"&$F$5&\" and Barix(\"&$D$12&\",reference:=StartOfDay)=\"&A24&\"\", \"Bar\", \"\", \"Close\",\"5\",\"0\",\"\",,,\"False\",\"T\",\"EveryTick\")","v":1302.4000000000001},-1.5332720024532351E-3,{"$f":"RTD(\"cqg.rtd\",,\"StudyData\", \"Close(\"&$D$12&\") when LocalYear(\"&$D$12&\")=\"&$D$6&\" and localMonth(\"&$D$12&\") =\"&$E$6&\" and LocalDay(\"&$D$12&\")=\"&$F$6&\" and Barix(\"&$D$12&\",reference:=StartOfDay)=\"&A24&\"\", \"Bar\", \"\", \"Close\",\"5\",\"0\",\"\",,,\"False\",\"T\",\"EveryTick\")","v":1304.0999999999999},4.6029919447633988E-4,{"$f":"RTD(\"cqg.rtd\",,\"StudyData\", \"Close(\"&$D$12&\") when LocalYear(\"&$D$12&\")=\"&$D$7&\" and localMonth(\"&$D$12&\") =\"&$E$7&\" and LocalDay(\"&$D$12&\")=\"&$F$7&\" and Barix(\"&$D$12&\",reference:=StartOfDay)=\"&A24&\"\", \"Bar\", \"\", \"Close\",\"5\",\"0\",\"\",,,\"False\",\"T\",\"EveryTick\")","v":1302.7},1.0758472296934535E-3,{"$f":"RTD(\"cqg.rtd\",,\"StudyData\", \"Close(\"&$D$12&\") when LocalYear(\"&$D$12&\")=\"&$D$8&\" and localMonth(\"&$D$12&\") =\"&$E$8&\" and LocalDay(\"&$D$12&\")=\"&$F$8&\" and Barix(\"&$D$12&\",reference:=StartOfDay)=\"&A24&\"\", \"Bar\", \"\", \"Close\",\"5\",\"0\",\"\",,,\"False\",\"T\",\"EveryTick\")","v":1300.4000000000001},-1.5377518068569745E-4,{"$f":"RTD(\"cqg.rtd\",,\"StudyData\", \"Close(\"&$D$12&\") when LocalYear(\"&$D$12&\")=\"&$D$9&\" and localMonth(\"&$D$12&\") =\"&$E$9&\" and LocalDay(\"&$D$12&\")=\"&$F$9&\" and Barix(\"&$D$12&\",reference:=StartOfDay)=\"&A24&\"\", \"Bar\", \"\", \"Close\",\"5\",\"0\",\"\",,,\"False\",\"T\",\"EveryTick\")","v":1304.9000000000001},3.4604737003998769E-3,{"$f":"RTD(\"cqg.rtd\",,\"StudyData\", \"Close(\"&$D$12&\") when LocalYear(\"&$D$12&\")=\"&$D$10&\" and localMonth(\"&$D$12&\") =\"&$E$10&\" and LocalDay(\"&$D$12&\")=\"&$F$10&\" and Barix(\"&$D$12&\",reference:=StartOfDay)=\"&A24&\"\", \"Bar\", \"\", \"Close\",\"5\",\"0\",\"\",,,\"False\",\"T\",\"EveryTick\")","v":1296.3},3.0866579211348371E-4,null,null,null,""]
[192,"09:00:00",null,7,"#.0000000",null,null,{"$f":"RTD(\"cqg.rtd\",,\"StudyData\", \"Close(\"&$D$12&\") when LocalYear(\"&$D$12&\")=\"&$D$1&\" and localMonth(\"&$D$12&\") =\"&$E$1&\" and LocalDay(\"&$D$12&\")=\"&$F$1&\" and Barix(\"&$D$12&\",reference:=StartOfDay)=\"&A25&\"\", \"Bar\", \"\", \"Close\",\"5\",\"0\",\"\",,,\"False\",\"T\",\"EveryTick\")","v":""},{"$error":"#N/A"},{"$f":"RTD(\"cqg.rtd\",,\"StudyData\", \"Close(\"&$D$12&\") when LocalYear(\"&$D$12&\")=\"&$D$2&\" and localMonth(\"&$D$12&\") =\"&$E$2&\" and LocalDay(\"&$D$12&\")=\"&$F$2&\" and Barix(\"&$D$12&\",reference:=StartOfDay)=\"&A25&\"\", \"Bar\", \"\", \"Close\",\"5\",\"0\",\"\",,,\"False\",\"T\",\"EveryTick\")","v":1287.8},-1.3860173060724509E-2,{"$f":"RTD(\"cqg.rtd\",,\"StudyData\", \"Close(\"&$D$12&\") when LocalYear(\"&$D$12&\")=\"&$D$3&\" and localMonth(\"&$D$12&\") =\"&$E$3&\" and LocalDay(\"&$D$12&\")=\"&$F$3&\" and Barix(\"&$D$12&\",reference:=StartOfDay)=\"&A25&\"\", \"Bar\", \"\", \"Close\",\"5\",\"0\",\"\",,,\"False\",\"T\",\"EveryTick\")","v":1306.7},2.9165707268400906E-3,{"$f":"RTD(\"cqg.rtd\",,\"StudyData\", \"Close(\"&$D$12&\") when LocalYear(\"&$D$12&\")=\"&$D$4&\" and localMonth(\"&$D$12&\") =\"&$E$4&\" and LocalDay(\"&$D$12&\")=\"&$F$4&\" and Barix(\"&$D$12&\",reference:=StartOfDay)=\"&A25&\"\", \"Bar\", \"\", \"Close\",\"5\",\"0\",\"\",,,\"False\",\"T\",\"EveryTick\")","v":1300.4000000000001},6.155740227763789E-4,{"$f":"RTD(\"cqg.rtd\",,\"StudyData\", \"Close(\"&$D$12&\") when LocalYear(\"&$D$12&\")=\"&$D$5&\" and localMonth(\"&$D$12&\") =\"&$E$5&\" and LocalDay(\"&$D$12&\")=\"&$F$5&\" and Barix(\"&$D$12&\",reference:=StartOfDay)=\"&A25&\"\", \"Bar\", \"\", \"Close\",\"5\",\"0\",\"\",,,\"False\",\"T\",\"EveryTick\")","v":1302.5999999999999},-1.379944802208051E-3,{"$f":"RTD(\"cqg.rtd\",,\"StudyData\", \"Close(\"&$D$12&\") when LocalYear(\"&$D$12&\")=\"&$D$6&\" and localMonth(\"&$D$12&\") =\"&$E$6&\" and LocalDay(\"&$D$12&\")=\"&$F$6&\" and Barix(\"&$D$12&\",reference:=StartOfDay)=\"&A25&\"\", \"Bar\", \"\", \"Close\",\"5\",\"0\",\"\",,,\"False\",\"T\",\"EveryTick\")","v":1303.9000000000001},3.0686612965100953E-4,{"$f":"RTD(\"cqg.rtd\",,\"StudyData\", \"Close(\"&$D$12&\") when LocalYear(\"&$D$12&\")=\"&$D$7&\" and localMonth(\"&$D$12&\") =\"&$E$7&\" and LocalDay(\"&$D$12&\")=\"&$F$7&\" and Barix(\"&$D$12&\",reference:=StartOfDay)=\"&A25&\"\", \"Bar\", \"\", \"Close\",\"5\",\"0\",\"\",,,\"False\",\"T\",\"EveryTick\")","v":1303.4000000000001},1.6137708445401802E-3,{"$f":"RTD(\"cqg.rtd\",,\"StudyData\", \"Close(\"&$D$12&\") when LocalYear(\"&$D$12&\")=\"&$D$8&\" and localMonth(\"&$D$12&\") =\"&$E$8&\" and LocalDay(\"&$D$12&\")=\"&$F$8&\" and Barix(\"&$D$12&\",reference:=StartOfDay)=\"&A25&\"\", \"Bar\", \"\", \"Close\",\"5\",\"0\",\"\",,,\"False\",\"T\",\"EveryTick\")","v":1301.7},8.457634937722101E-4,{"$f":"RTD(\"cqg.rtd\",,\"StudyData\", \"Close(\"&$D$12&\") when LocalYear(\"&$D$12&\")=\"&$D$9&\" and localMonth(\"&$D$12&\") =\"&$E$9&\" and LocalDay(\"&$D$12&\")=\"&$F$9&\" and Barix(\"&$D$12&\",reference:=StartOfDay)=\"&A25&\"\", \"Bar\", \"\", \"Close\",\"5\",\"0\",\"\",,,\"False\",\"T\",\"EveryTick\")","v":1305.4000000000001},3.8449707782220854E-3,{"$f":"RTD(\"cqg.rtd\",,\"StudyData\", \"Close(\"&$D$12&\") when LocalYear(\"&$D$12&\")=\"&$D$10&\" and localMonth(\"&$D$12&\") =\"&$E$10&\" and LocalDay(\"&$D$12&\")=\"&$F$10&\" and Barix(\"&$D$12&\",reference:=StartOfDay)=\"&A25&\"\", \"Bar\", \"\", \"Close\",\"5\",\"0\",\"\",,,\"False\",\"T\",\"EveryTick\")","v":1294.7},-9.2599737634080207E-4,null,null,null,""]
[193,"09:05:00",{"$f":"IF(WEEKDAY(TODAY())=7,TODAY()-1,IF(WEEKDAY(TODAY())=1,TODAY()-2,TODAY()))","v":"2018-06-18"},{"$f":"YEAR(C26)","v":2018},{"$f":"MONTH(C26)","v":6},{"$f":"DAY(C26)","v":18},null,{"$f":"RTD(\"cqg.rtd\",,\"StudyData\", \"Close(\"&$D$12&\") when LocalYear(\"&$D$12&\")=\"&$D$1&\" and localMonth(\"&$D$12&\") =\"&$E$1&\" and LocalDay(\"&$D$12&\")=\"&$F$1&\" and Barix(\"&$D$12&\",reference:=StartOfDay)=\"&A26&\"\", \"Bar\", \"\", \"Close\",\"5\",\"0\",\"\",,,\"False\",\"T\",\"EveryTick\")","v":""},{"$error":"#N/A"},{"$f":"RTD(\"cqg.rtd\",,\"StudyData\", \"Close(\"&$D$12&\") when LocalYear(\"&$D$12&\")=\"&$D$2&\" and localMonth(\"&$D$12&\") =\"&$E$2&\" and LocalDay(\"&$D$12&\")=\"&$F$2&\" and Barix(\"&$D$12&\",reference:=StartOfDay)=\"&A26&\"\", \"Bar\", \"\", \"Close\",\"5\",\"0\",\"\",,,\"False\",\"T\",\"EveryTick\")","v":1288},-1.3707021977180557E-2,{"$f":"RTD(\"cqg.rtd\",,\"StudyData\", \"Close(\"&$D$12&\") when LocalYear(\"&$D$12&\")=\"&$D$3&\" and localMonth(\"&$D$12&\") =\"&$E$3&\" and LocalDay(\"&$D$12&\")=\"&$F$3&\" and Barix(\"&$D$12&\",reference:=StartOfDay)=\"&A26&\"\", \"Bar\", \"\", \"Close\",\"5\",\"0\",\"\",,,\"False\",\"T\",\"EveryTick\")","v":1305.5999999999999},2.0723002532810025E-3,{"$f":"RTD(\"cqg.rtd\",,\"StudyData\", \"Close(\"&$D$12&\") when LocalYear(\"&$D$12&\")=\"&$D$4&\" and localMonth(\"&$D$12&\") =\"&$E$4&\" and LocalDay(\"&$D$12&\")=\"&$F$4&\" and Barix(\"&$D$12&\",reference:=StartOfDay)=\"&A26&\"\", \"Bar\", \"\", \"Close\",\"5\",\"0\",\"\",,,\"False\",\"T\",\"EveryTick\")","v":1299.8},1.5389350569409472E-4,{"$f":"RTD(\"cqg.rtd\",,\"StudyData\", \"Close(\"&$D$12&\") when LocalYear(\"&$D$12&\")=\"&$D$5&\" and localMonth(\"&$D$12&\") =\"&$E$5&\" and LocalDay(\"&$D$12&\")=\"&$F$5&\" and Barix(\"&$D$12&\",reference:=StartOfDay)=\"&A26&\"\", \"Bar\", \"\", \"Close\",\"5\",\"0\",\"\",,,\"False\",\"T\",\"EveryTick\")","v":1302.3},-1.6099356025760015E-3,{"$f":"RTD(\"cqg.rtd\",,\"StudyData\", \"Close(\"&$D$12&\") when LocalYear(\"&$D$12&\")=\"&$D$6&\" and localMonth(\"&$D$12&\") =\"&$E$6&\" and LocalDay(\"&$D$12&\")=\"&$F$6&\" and Barix(\"&$D$12&\",reference:=StartOfDay)=\"&A26&\"\", \"Bar\", \"\", \"Close\",\"5\",\"0\",\"\",,,\"False\",\"T\",\"EveryTick\")","v":1303.3},-1.5343306482550477E-4,{"$f":"RTD(\"cqg.rtd\",,\"StudyData\", \"Close(\"&$D$12&\") when LocalYear(\"&$D$12&\")=\"&$D$7&\" and localMonth(\"&$D$12&\") =\"&$E$7&\" and LocalDay(\"&$D$12&\")=\"&$F$7&\" and Barix(\"&$D$12&\",reference:=StartOfDay)=\"&A26&\"\", \"Bar\", \"\", \"Close\",\"5\",\"0\",\"\",,,\"False\",\"T\",\"EveryTick\")","v":1303},1.3063859217705722E-3,{"$f":"RTD(\"cqg.rtd\",,\"StudyData\", \"Close(\"&$D$12&\") when LocalYear(\"&$D$12&\")=\"&$D$8&\" and localMonth(\"&$D$12&\") =\"&$E$8&\" and LocalDay(\"&$D$12&\")=\"&$F$8&\" and Barix(\"&$D$12&\",reference:=StartOfDay)=\"&A26&\"\", \"Bar\", \"\", \"Close\",\"5\",\"0\",\"\",,,\"False\",\"T\",\"EveryTick\")","v":1301.0999999999999},3.8443795171459332E-4,{"$f":"RTD(\"cqg.rtd\",,\"StudyData\", \"Close(\"&$D$12&\") when LocalYear(\"&$D$12&\")=\"&$D$9&\" and localMonth(\"&$D$12&\") =\"&$E$9&\" and LocalDay(\"&$D$12&\")=\"&$F$9&\" and Barix(\"&$D$12&\",reference:=StartOfDay)=\"&A26&\"\", \"Bar\", \"\", \"Close\",\"5\",\"0\",\"\",,,\"False\",\"T\",\"EveryTick\")","v":1305.3},3.7680713626575386E-3,{"$f":"RTD(\"cqg.rtd\",,\"StudyData\", \"Close(\"&$D$12&\") when LocalYear(\"&$D$12&\")=\"&$D$10&\" and localMonth(\"&$D$12&\") =\"&$E$10&\" and LocalDay(\"&$D$12&\")=\"&$F$10&\" and Barix(\"&$D$12&\",reference:=StartOfDay)=\"&A26&\"\", \"Bar\", \"\", \"Close\",\"5\",\"0\",\"\",,,\"False\",\"T\",\"EveryTick\")","v":1295.4000000000001},-3.8583224014198623E-4,null,null,null,""]
[194,"09:10:00",{"$f":"WORKDAY(C26,-1)","v":"2018-06-15"},{"$f":"YEAR(C27)","v":2018},{"$f":"MONTH(C27)","v":6},{"$f":"DAY(C27)","v":15},{"$f":"IF(RTD(\"cqg.rtd\",,\"StudyData\", \"Close(\"&$D$12&\") when LocalYear(\"&$D$12&\")=\"&D27&\" and localMonth(\"&$D$12&\") =\"&E27&\" and LocalDay(\"&$D$12&\")=\"&F27&\" and Barix(\"&$D$12&\",reference:=StartOfDay)=275\", \"Bar\", \"\", \"Close\",\"5\",\"0\",\"\",,,\"False\",\"T\",\"EveryTick\")=\"\",2,1)","v":1},{"$f":"RTD(\"cqg.rtd\",,\"StudyData\", \"Close(\"&$D$12&\") when LocalYear(\"&$D$12&\")=\"&$D$1&\" and localMonth(\"&$D$12&\") =\"&$E$1&\" and LocalDay(\"&$D$12&\")=\"&$F$1&\" and Barix(\"&$D$12&\",reference:=StartOfDay)=\"&A27&\"\", \"Bar\", \"\", \"Close\",\"5\",\"0\",\"\",,,\"False\",\"T\",\"EveryTick\")","v":""},{"$error":"#N/A"},{"$f":"RTD(\"cqg.rtd\",,\"StudyData\", \"Close(\"&$D$12&\") when LocalYear(\"&$D$12&\")=\"&$D$2&\" and localMonth(\"&$D$12&\") =\"&$E$2&\" and LocalDay(\"&$D$12&\")=\"&$F$2&\" and Barix(\"&$D$12&\",reference:=StartOfDay)=\"&A27&\"\", \"Bar\", \"\", \"Close\",\"5\",\"0\",\"\",,,\"False\",\"T\",\"EveryTick\")","v":1287.3},-1.4243050769584297E-2,{"$f":"RTD(\"cqg.rtd\",,\"StudyData\", \"Close(\"&$D$12&\") when LocalYear(\"&$D$12&\")=\"&$D$3&\" and localMonth(\"&$D$12&\") =\"&$E$3&\" and LocalDay(\"&$D$12&\")=\"&$F$3&\" and Barix(\"&$D$12&\",reference:=StartOfDay)=\"&A27&\"\", \"Bar\", \"\", \"Close\",\"5\",\"0\",\"\",,,\"False\",\"T\",\"EveryTick\")","v":1305.4000000000001},1.9187965308158721E-3,{"$f":"RTD(\"cqg.rtd\",,\"StudyData\", \"Close(\"&$D$12&\") when LocalYear(\"&$D$12&\")=\"&$D$4&\" and localMonth(\"&$D$12&\") =\"&$E$4&\" and LocalDay(\"&$D$12&\")=\"&$F$4&\" and Barix(\"&$D$12&\",reference:=StartOfDay)=\"&A27&\"\", \"Bar\", \"\", \"Close\",\"5\",\"0\",\"\",,,\"False\",\"T\",\"EveryTick\")","v":1300.2},4.6168051708228412E-4,{"$f":"RTD(\"cqg.rtd\",,\"StudyData\", \"Close(\"&$D$12&\") when LocalYear(\"&$D$12&\")=\"&$D$5&\" and localMonth(\"&$D$12&\") =\"&$E$5&\" and LocalDay(\"&$D$12&\")=\"&$F$5&\" and Barix(\"&$D$12&\",reference:=StartOfDay)=\"&A27&\"\", \"Bar\", \"\", \"Close\",\"5\",\"0\",\"\",,,\"False\",\"T\",\"EveryTick\")","v":1302.5},-1.4566084023306431E-3,{"$f":"RTD(\"cqg.rtd\",,\"StudyData\", \"Close(\"&$D$12&\") when LocalYear(\"&$D$12&\")=\"&$D$6&\" and localMonth(\"&$D$12&\") =\"&$E$6&\" and LocalDay(\"&$D$12&\")=\"&$F$6&\" and Barix(\"&$D$12&\",reference:=StartOfDay)=\"&A27&\"\", \"Bar\", \"\", \"Close\",\"5\",\"0\",\"\",,,\"False\",\"T\",\"EveryTick\")","v":1302.5999999999999},-6.9044879171468424E-4,{"$f":"RTD(\"cqg.rtd\",,\"StudyData\", \"Close(\"&$D$12&\") when LocalYear(\"&$D$12&\")=\"&$D$7&\" and localMonth(\"&$D$12&\") =\"&$E$7&\" and LocalDay(\"&$D$12&\")=\"&$F$7&\" and Barix(\"&$D$12&\",reference:=StartOfDay)=\"&A27&\"\", \"Bar\", \"\", \"Close\",\"5\",\"0\",\"\",,,\"False\",\"T\",\"EveryTick\")","v":1303},1.3063859217705722E-3,{"$f":"RTD(\"cqg.rtd\",,\"StudyData\", \"Close(\"&$D$12&\") when LocalYear(\"&$D$12&\")=\"&$D$8&\" and localMonth(\"&$D$12&\") =\"&$E$8&\" and LocalDay(\"&$D$12&\")=\"&$F$8&\" and Barix(\"&$D$12&\",reference:=StartOfDay)=\"&A27&\"\", \"Bar\", \"\", \"Close\",\"5\",\"0\",\"\",,,\"False\",\"T\",\"EveryTick\")","v":1301.3},5.3821313240046554E-4,{"$f":"RTD(\"cqg.rtd\",,\"StudyData\", \"Close(\"&$D$12&\") when LocalYear(\"&$D$12&\")=\"&$D$9&\" and localMonth(\"&$D$12&\") =\"&$E$9&\" and LocalDay(\"&$D$12&\")=\"&$F$9&\" and Barix(\"&$D$12&\",reference:=StartOfDay)=\"&A27&\"\", \"Bar\", \"\", \"Close\",\"5\",\"0\",\"\",,,\"False\",\"T\",\"EveryTick\")","v":1304.7},3.3066748692709585E-3,{"$f":"RTD(\"cqg.rtd\",,\"StudyData\", \"Close(\"&$D$12&\") when LocalYear(\"&$D$12&\")=\"&$D$10&\" and localMonth(\"&$D$12&\") =\"&$E$10&\" and LocalDay(\"&$D$12&\")=\"&$F$10&\" and Barix(\"&$D$12&\",reference:=StartOfDay)=\"&A27&\"\", \"Bar\", \"\", \"Close\",\"5\",\"0\",\"\",,,\"False\",\"T\",\"EveryTick\")","v":1295.5},-3.0866579211365918E-4,null,null,null,""]
[195,"09:15:00",{"$f":"WORKDAY(C27,-1)","v":"2018-06-14"},2018,6,14,{"$f":"IF(RTD(\"cqg.rtd\",,\"StudyData\", \"Close(\"&$D$12&\") when LocalYear(\"&$D$12&\")=\"&D28&\" and localMonth(\"&$D$12&\") =\"&E28&\" and LocalDay(\"&$D$12&\")=\"&F28&\" and Barix(\"&$D$12&\",reference:=StartOfDay)=275\", \"Bar\", \"\", \"Close\",\"5\",\"0\",\"\",,,\"False\",\"T\",\"EveryTick\")=\"\",2,1)","v":1},{"$f":"RTD(\"cqg.rtd\",,\"StudyData\", \"Close(\"&$D$12&\") when LocalYear(\"&$D$12&\")=\"&$D$1&\" and localMonth(\"&$D$12&\") =\"&$E$1&\" and LocalDay(\"&$D$12&\")=\"&$F$1&\" and Barix(\"&$D$12&\",reference:=StartOfDay)=\"&A28&\"\", \"Bar\", \"\", \"Close\",\"5\",\"0\",\"\",,,\"False\",\"T\",\"EveryTick\")","v":""},{"$error":"#N/A"},{"$f":"RTD(\"cqg.rtd\",,\"StudyData\", \"Close(\"&$D$12&\") when LocalYear(\"&$D$12&\")=\"&$D$2&\" and localMonth(\"&$D$12&\") =\"&$E$2&\" and LocalDay(\"&$D$12&\")=\"&$F$2&\" and Barix(\"&$D$12&\",reference:=StartOfDay)=\"&A28&\"\", \"Bar\", \"\", \"Close\",\"5\",\"0\",\"\",,,\"False\",\"T\",\"EveryTick\")","v":1286.3},-1.5008806187303879E-2,{"$f":"RTD(\"cqg.rtd\",,\"StudyData\", \"Close(\"&$D$12&\") when LocalYear(\"&$D$12&\")=\"&$D$3&\" and localMonth(\"&$D$12&\") =\"&$E$3&\" and LocalDay(\"&$D$12&\")=\"&$F$3&\" and Barix(\"&$D$12&\",reference:=StartOfDay)=\"&A28&\"\", \"Bar\", \"\", \"Close\",\"5\",\"0\",\"\",,,\"False\",\"T\",\"EveryTick\")","v":1306.5999999999999},2.839818865607351E-3,{"$f":"RTD(\"cqg.rtd\",,\"StudyData\", \"Close(\"&$D$12&\") when LocalYear(\"&$D$12&\")=\"&$D$4&\" and localMonth(\"&$D$12&\") =\"&$E$4&\" and LocalDay(\"&$D$12&\")=\"&$F$4&\" and Barix(\"&$D$12&\",reference:=StartOfDay)=\"&A28&\"\", \"Bar\", \"\", \"Close\",\"5\",\"0\",\"\",,,\"False\",\"T\",\"EveryTick\")","v":1299.9000000000001},2.3084025854122956E-4,{"$f":"RTD(\"cqg.rtd\",,\"StudyData\", \"Close(\"&$D$12&\") when LocalYear(\"&$D$12&\")=\"&$D$5&\" and localMonth(\"&$D$12&\") =\"&$E$5&\" and LocalDay(\"&$D$12&\")=\"&$F$5&\" and Barix(\"&$D$12&\",reference:=StartOfDay)=\"&A28&\"\", \"Bar\", \"\", \"Close\",\"5\",\"0\",\"\",,,\"False\",\"T\",\"EveryTick\")","v":1302.5},-1.4566084023306431E-3,{"$f":"RTD(\"cqg.rtd\",,\"StudyData\", \"Close(\"&$D$12&\") when LocalYear(\"&$D$12&\")=\"&$D$6&\" and localMonth(\"&$D$12&\") =\"&$E$6&\" and LocalDay(\"&$D$12&\")=\"&$F$6&\" and Barix(\"&$D$12&\",reference:=StartOfDay)=\"&A28&\"\", \"Bar\", \"\", \"Close\",\"5\",\"0\",\"\",,,\"False\",\"T\",\"EveryTick\")","v":1303.5999999999999},7.6716532412665172E-5,{"$f":"RTD(\"cqg.rtd\",,\"StudyData\", \"Close(\"&$D$12&\") when LocalYear(\"&$D$12&\")=\"&$D$7&\" and localMonth(\"&$D$12&\") =\"&$E$7&\" and LocalDay(\"&$D$12&\")=\"&$F$7&\" and Barix(\"&$D$12&\",reference:=StartOfDay)=\"&A28&\"\", \"Bar\", \"\", \"Close\",\"5\",\"0\",\"\",,,\"False\",\"T\",\"EveryTick\")","v":1303.4000000000001},1.6137708445401802E-3,{"$f":"RTD(\"cqg.rtd\",,\"StudyData\", \"Close(\"&$D$12&\") when LocalYear(\"&$D$12&\")=\"&$D$8&\" and localMonth(\"&$D$12&\") =\"&$E$8&\" and LocalDay(\"&$D$12&\")=\"&$F$8&\" and Barix(\"&$D$12&\",reference:=StartOfDay)=\"&A28&\"\", \"Bar\", \"\", \"Close\",\"5\",\"0\",\"\",,,\"False\",\"T\",\"EveryTick\")","v":1301.3},5.3821313240046554E-4,{"$f":"RTD(\"cqg.rtd\",,\"StudyData\", \"Close(\"&$D$12&\") when LocalYear(\"&$D$12&\")=\"&$D$9&\" and localMonth(\"&$D$12&\") =\"&$E$9&\" and LocalDay(\"&$D$12&\")=\"&$F$9&\" and Barix(\"&$D$12&\",reference:=StartOfDay)=\"&A28&\"\", \"Bar\", \"\", \"Close\",\"5\",\"0\",\"\",,,\"False\",\"T\",\"EveryTick\")","v":1305.0999999999999},3.6142725315286201E-3,{"$f":"RTD(\"cqg.rtd\",,\"StudyData\", \"Close(\"&$D$12&\") when LocalYear(\"&$D$12&\")=\"&$D$10&\" and localMonth(\"&$D$12&\") =\"&$E$10&\" and LocalDay(\"&$D$12&\")=\"&$F$10&\" and Barix(\"&$D$12&\",reference:=StartOfDay)=\"&A28&\"\", \"Bar\", \"\", \"Close\",\"5\",\"0\",\"\",,,\"False\",\"T\",\"EveryTick\")","v":1296},7.716644802832707E-5,null,null,null,""]
[196,"09:20:00","2018-06-13",2018,6,13,{"$f":"IF(RTD(\"cqg.rtd\",,\"StudyData\", \"Close(\"&$D$12&\") when LocalYear(\"&$D$12&\")=\"&D29&\" and localMonth(\"&$D$12&\") =\"&E29&\" and LocalDay(\"&$D$12&\")=\"&F29&\" and Barix(\"&$D$12&\",reference:=StartOfDay)=275\", \"Bar\", \"\", \"Close\",\"5\",\"0\",\"\",,,\"False\",\"T\",\"EveryTick\")=\"\",2,1)","v":1},{"$f":"RTD(\"cqg.rtd\",,\"StudyData\", \"Close(\"&$D$12&\") when LocalYear(\"&$D$12&\")=\"&$D$1&\" and localMonth(\"&$D$12&\") =\"&$E$1&\" and LocalDay(\"&$D$12&\")=\"&$F$1&\" and Barix(\"&$D$12&\",reference:=StartOfDay)=\"&A29&\"\", \"Bar\", \"\", \"Close\",\"5\",\"0\",\"\",,,\"False\",\"T\",\"EveryTick\")","v":""},{"$error":"#N/A"},{"$f":"RTD(\"cqg.rtd\",,\"StudyData\", \"Close(\"&$D$12&\") when LocalYear(\"&$D$12&\")=\"&$D$2&\" and localMonth(\"&$D$12&\") =\"&$E$2&\" and LocalDay(\"&$D$12&\")=\"&$F$2&\" and Barix(\"&$D$12&\",reference:=StartOfDay)=\"&A29&\"\", \"Bar\", \"\", \"Close\",\"5\",\"0\",\"\",,,\"False\",\"T\",\"EveryTick\")","v":1286.8},-1.4625928478444088E-2,{"$f":"RTD(\"cqg.rtd\",,\"StudyData\", \"Close(\"&$D$12&\") when LocalYear(\"&$D$12&\")=\"&$D$3&\" and localMonth(\"&$D$12&\") =\"&$E$3&\" and LocalDay(\"&$D$12&\")=\"&$F$3&\" and Barix(\"&$D$12&\",reference:=StartOfDay)=\"&A29&\"\", \"Bar\", \"\", \"Close\",\"5\",\"0\",\"\",,,\"False\",\"T\",\"EveryTick\")","v":1306.5999999999999},2.839818865607351E-3,{"$f":"RTD(\"cqg.rtd\",,\"StudyData\", \"Close(\"&$D$12&\") when LocalYear(\"&$D$12&\")=\"&$D$4&\" and localMonth(\"&$D$12&\") =\"&$E$4&\" and LocalDay(\"&$D$12&\")=\"&$F$4&\" and Barix(\"&$D$12&\",reference:=StartOfDay)=\"&A29&\"\", \"Bar\", \"\", \"Close\",\"5\",\"0\",\"\",,,\"False\",\"T\",\"EveryTick\")","v":1300.4000000000001},6.155740227763789E-4,{"$f":"RTD(\"cqg.rtd\",,\"StudyData\", \"Close(\"&$D$12&\") when LocalYear(\"&$D$12&\")=\"&$D$5&\" and localMonth(\"&$D$12&\") =\"&$E$5&\" and LocalDay(\"&$D$12&\")=\"&$F$5&\" and Barix(\"&$D$12&\",reference:=StartOfDay)=\"&A29&\"\", \"Bar\", \"\", \"Close\",\"5\",\"0\",\"\",,,\"False\",\"T\",\"EveryTick\")","v":1302.0999999999999},-1.7632628028213598E-3,{"$f":"RTD(\"cqg.rtd\",,\"StudyData\", \"Close(\"&$D$12&\") when LocalYear(\"&$D$12&\")=\"&$D$6&\" and localMonth(\"&$D$12&\") =\"&$E$6&\" and LocalDay(\"&$D$12&\")=\"&$F$6&\" and Barix(\"&$D$12&\",reference:=StartOfDay)=\"&A29&\"\", \"Bar\", \"\", \"Close\",\"5\",\"0\",\"\",,,\"False\",\"T\",\"EveryTick\")","v":1303.8},2.3014959723816994E-4,{"$f":"RTD(\"cqg.rtd\",,\"StudyData\", \"Close(\"&$D$12&\") when LocalYear(\"&$D$12&\")=\"&$D$7&\" and localMonth(\"&$D$12&\") =\"&$E$7&\" and LocalDay(\"&$D$12&\")=\"&$F$7&\" and Barix(\"&$D$12&\",reference:=StartOfDay)=\"&A29&\"\", \"Bar\", \"\", \"Close\",\"5\",\"0\",\"\",,,\"False\",\"T\",\"EveryTick\")","v":1303.0999999999999},1.3832321524628868E-3,{"$f":"RTD(\"cqg.rtd\",,\"StudyData\", \"Close(\"&$D$12&\") when LocalYear(\"&$D$12&\")=\"&$D$8&\" and localMonth(\"&$D$12&\") =\"&$E$8&\" and LocalDay(\"&$D$12&\")=\"&$F$8&\" and Barix(\"&$D$12&\",reference:=StartOfDay)=\"&A29&\"\", \"Bar\", \"\", \"Close\",\"5\",\"0\",\"\",,,\"False\",\"T\",\"EveryTick\")","v":1301.8},9.2265108411505891E-4,{"$f":"RTD(\"cqg.rtd\",,\"StudyData\", \"Close(\"&$D$12&\") when LocalYear(\"&$D$12&\")=\"&$D$9&\" and localMonth(\"&$D$12&\") =\"&$E$9&\" and LocalDay(\"&$D$12&\")=\"&$F$9&\" and Barix(\"&$D$12&\",reference:=StartOfDay)=\"&A29&\"\", \"Bar\", \"\", \"Close\",\"5\",\"0\",\"\",,,\"False\",\"T\",\"EveryTick\")","v":1304.5},3.1528760381420401E-3,{"$f":"RTD(\"cqg.rtd\",,\"StudyData\", \"Close(\"&$D$12&\") when LocalYear(\"&$D$12&\")=\"&$D$10&\" and localMonth(\"&$D$12&\") =\"&$E$10&\" and LocalDay(\"&$D$12&\")=\"&$F$10&\" and Barix(\"&$D$12&\",reference:=StartOfDay)=\"&A29&\"\", \"Bar\", \"\", \"Close\",\"5\",\"0\",\"\",,,\"False\",\"T\",\"EveryTick\")","v":1296.9000000000001},7.7166448028397245E-4,null,null,null,""]
[197,"09:25:00","2018-06-12",2018,6,12,{"$f":"IF(RTD(\"cqg.rtd\",,\"StudyData\", \"Close(\"&$D$12&\") when LocalYear(\"&$D$12&\")=\"&D30&\" and localMonth(\"&$D$12&\") =\"&E30&\" and LocalDay(\"&$D$12&\")=\"&F30&\" and Barix(\"&$D$12&\",reference:=StartOfDay)=275\", \"Bar\", \"\", \"Close\",\"5\",\"0\",\"\",,,\"False\",\"T\",\"EveryTick\")=\"\",2,1)","v":1},{"$f":"RTD(\"cqg.rtd\",,\"StudyData\", \"Close(\"&$D$12&\") when LocalYear(\"&$D$12&\")=\"&$D$1&\" and localMonth(\"&$D$12&\") =\"&$E$1&\" and LocalDay(\"&$D$12&\")=\"&$F$1&\" and Barix(\"&$D$12&\",reference:=StartOfDay)=\"&A30&\"\", \"Bar\", \"\", \"Close\",\"5\",\"0\",\"\",,,\"False\",\"T\",\"EveryTick\")","v":""},{"$error":"#N/A"},{"$f":"RTD(\"cqg.rtd\",,\"StudyData\", \"Close(\"&$D$12&\") when LocalYear(\"&$D$12&\")=\"&$D$2&\" and localMonth(\"&$D$12&\") =\"&$E$2&\" and LocalDay(\"&$D$12&\")=\"&$F$2&\" and Barix(\"&$D$12&\",reference:=StartOfDay)=\"&A30&\"\", \"Bar\", \"\", \"Close\",\"5\",\"0\",\"\",,,\"False\",\"T\",\"EveryTick\")","v":1286.5999999999999},-1.477907956198804E-2,{"$f":"RTD(\"cqg.rtd\",,\"StudyData\", \"Close(\"&$D$12&\") when LocalYear(\"&$D$12&\")=\"&$D$3&\" and localMonth(\"&$D$12&\") =\"&$E$3&\" and LocalDay(\"&$D$12&\")=\"&$F$3&\" and Barix(\"&$D$12&\",reference:=StartOfDay)=\"&A30&\"\", \"Bar\", \"\", \"Close\",\"5\",\"0\",\"\",,,\"False\",\"T\",\"EveryTick\")","v":1306.5},2.7630670043747863E-3,{"$f":"RTD(\"cqg.rtd\",,\"StudyData\", \"Close(\"&$D$12&\") when LocalYear(\"&$D$12&\")=\"&$D$4&\" and localMonth(\"&$D$12&\") =\"&$E$4&\" and LocalDay(\"&$D$12&\")=\"&$F$4&\" and Barix(\"&$D$12&\",reference:=StartOfDay)=\"&A30&\"\", \"Bar\", \"\", \"Close\",\"5\",\"0\",\"\",,,\"False\",\"T\",\"EveryTick\")","v":1300.0999999999999},3.8473376423514929E-4,{"$f":"RTD(\"cqg.rtd\",,\"StudyData\", \"Close(\"&$D$12&\") when LocalYear(\"&$D$12&\")=\"&$D$5&\" and localMonth(\"&$D$12&\") =\"&$E$5&\" and LocalDay(\"&$D$12&\")=\"&$F$5&\" and Barix(\"&$D$12&\",reference:=StartOfDay)=\"&A30&\"\", \"Bar\", \"\", \"Close\",\"5\",\"0\",\"\",,,\"False\",\"T\",\"EveryTick\")","v":1301.7},-2.0699172033119021E-3,{"$f":"RTD(\"cqg.rtd\",,\"StudyData\", \"Close(\"&$D$12&\") when LocalYear(\"&$D$12&\")=\"&$D$6&\" and localMonth(\"&$D$12&\") =\"&$E$6&\" and LocalDay(\"&$D$12&\")=\"&$F$6&\" and Barix(\"&$D$12&\",reference:=StartOfDay)=\"&A30&\"\", \"Bar\", \"\", \"Close\",\"5\",\"0\",\"\",,,\"False\",\"T\",\"EveryTick\")","v":1303.8},2.3014959723816994E-4,{"$f":"RTD(\"cqg.rtd\",,\"StudyData\", \"Close(\"&$D$12&\") when LocalYear(\"&$D$12&\")=\"&$D$7&\" and localMonth(\"&$D$12&\") =\"&$E$7&\" and LocalDay(\"&$D$12&\")=\"&$F$7&\" and Barix(\"&$D$12&\",reference:=StartOfDay)=\"&A30&\"\", \"Bar\", \"\", \"Close\",\"5\",\"0\",\"\",,,\"False\",\"T\",\"EveryTick\")","v":1303.2},1.4600783831553762E-3,{"$f":"RTD(\"cqg.rtd\",,\"StudyData\", \"Close(\"&$D$12&\") when LocalYear(\"&$D$12&\")=\"&$D$8&\" and localMonth(\"&$D$12&\") =\"&$E$8&\" and LocalDay(\"&$D$12&\")=\"&$F$8&\" and Barix(\"&$D$12&\",reference:=StartOfDay)=\"&A30&\"\", \"Bar\", \"\", \"Close\",\"5\",\"0\",\"\",,,\"False\",\"T\",\"EveryTick\")","v":1302},1.0764262648009311E-3,{"$f":"RTD(\"cqg.rtd\",,\"StudyData\", \"Close(\"&$D$12&\") when LocalYear(\"&$D$12&\")=\"&$D$9&\" and localMonth(\"&$D$12&\") =\"&$E$9&\" and LocalDay(\"&$D$12&\")=\"&$F$9&\" and Barix(\"&$D$12&\",reference:=StartOfDay)=\"&A30&\"\", \"Bar\", \"\", \"Close\",\"5\",\"0\",\"\",,,\"False\",\"T\",\"EveryTick\")","v":1304},2.7683789603198316E-3,{"$f":"RTD(\"cqg.rtd\",,\"StudyData\", \"Close(\"&$D$12&\") when LocalYear(\"&$D$12&\")=\"&$D$10&\" and localMonth(\"&$D$12&\") =\"&$E$10&\" and LocalDay(\"&$D$12&\")=\"&$F$10&\" and Barix(\"&$D$12&\",reference:=StartOfDay)=\"&A30&\"\", \"Bar\", \"\", \"Close\",\"5\",\"0\",\"\",,,\"False\",\"T\",\"EveryTick\")","v":1296.5999999999999},5.4016513619864037E-4,null,null,null,""]
[198,"09:30:00","2018-06-11",2018,6,11,{"$f":"IF(RTD(\"cqg.rtd\",,\"StudyData\", \"Close(\"&$D$12&\") when LocalYear(\"&$D$12&\")=\"&D31&\" and localMonth(\"&$D$12&\") =\"&E31&\" and LocalDay(\"&$D$12&\")=\"&F31&\" and Barix(\"&$D$12&\",reference:=StartOfDay)=275\", \"Bar\", \"\", \"Close\",\"5\",\"0\",\"\",,,\"False\",\"T\",\"EveryTick\")=\"\",2,1)","v":1},{"$f":"RTD(\"cqg.rtd\",,\"StudyData\", \"Close(\"&$D$12&\") when LocalYear(\"&$D$12&\")=\"&$D$1&\" and localMonth(\"&$D$12&\") =\"&$E$1&\" and LocalDay(\"&$D$12&\")=\"&$F$1&\" and Barix(\"&$D$12&\",reference:=StartOfDay)=\"&A31&\"\", \"Bar\", \"\", \"Close\",\"5\",\"0\",\"\",,,\"False\",\"T\",\"EveryTick\")","v":""},{"$error":"#N/A"},{"$f":"RTD(\"cqg.rtd\",,\"StudyData\", \"Close(\"&$D$12&\") when LocalYear(\"&$D$12&\")=\"&$D$2&\" and localMonth(\"&$D$12&\") =\"&$E$2&\" and LocalDay(\"&$D$12&\")=\"&$F$2&\" and Barix(\"&$D$12&\",reference:=StartOfDay)=\"&A31&\"\", \"Bar\", \"\", \"Close\",\"5\",\"0\",\"\",,,\"False\",\"T\",\"EveryTick\")","v":1284.4000000000001},-1.6463741480970975E-2,{"$f":"RTD(\"cqg.rtd\",,\"StudyData\", \"Close(\"&$D$12&\") when LocalYear(\"&$D$12&\")=\"&$D$3&\" and localMonth(\"&$D$12&\") =\"&$E$3&\" and LocalDay(\"&$D$12&\")=\"&$F$3&\" and Barix(\"&$D$12&\",reference:=StartOfDay)=\"&A31&\"\", \"Bar\", \"\", \"Close\",\"5\",\"0\",\"\",,,\"False\",\"T\",\"EveryTick\")","v":1307.7},3.6840893391664395E-3,{"$f":"RTD(\"cqg.rtd\",,\"StudyData\", \"Close(\"&$D$12&\") when LocalYear(\"&$D$12&\")=\"&$D$4&\" and localMonth(\"&$D$12&\") =\"&$E$4&\" and LocalDay(\"&$D$12&\")=\"&$F$4&\" and Barix(\"&$D$12&\",reference:=StartOfDay)=\"&A31&\"\", \"Bar\", \"\", \"Close\",\"5\",\"0\",\"\",,,\"False\",\"T\",\"EveryTick\")","v":1300.7},8.4641428131743341E-4,{"$f":"RTD(\"cqg.rtd\",,\"StudyData\", \"Close(\"&$D$12&\") when LocalYear(\"&$D$12&\")=\"&$D$5&\" and localMonth(\"&$D$12&\") =\"&$E$5&\" and LocalDay(\"&$D$12&\")=\"&$F$5&\" and Barix(\"&$D$12&\",reference:=StartOfDay)=\"&A31&\"\", \"Bar\", \"\", \"Close\",\"5\",\"0\",\"\",,,\"False\",\"T\",\"EveryTick\")","v":1302.2},-1.6865992026985934E-3,{"$f":"RTD(\"cqg.rtd\",,\"StudyData\", \"Close(\"&$D$12&\") when LocalYear(\"&$D$12&\")=\"&$D$6&\" and localMonth(\"&$D$12&\") =\"&$E$6&\" and LocalDay(\"&$D$12&\")=\"&$F$6&\" and Barix(\"&$D$12&\",reference:=StartOfDay)=\"&A31&\"\", \"Bar\", \"\", \"Close\",\"5\",\"0\",\"\",,,\"False\",\"T\",\"EveryTick\")","v":1303.5999999999999},7.6716532412665172E-5,{"$f":"RTD(\"cqg.rtd\",,\"StudyData\", \"Close(\"&$D$12&\") when LocalYear(\"&$D$12&\")=\"&$D$7&\" and localMonth(\"&$D$12&\") =\"&$E$7&\" and LocalDay(\"&$D$12&\")=\"&$F$7&\" and Barix(\"&$D$12&\",reference:=StartOfDay)=\"&A31&\"\", \"Bar\", \"\", \"Close\",\"5\",\"0\",\"\",,,\"False\",\"T\",\"EveryTick\")","v":1303.2},1.4600783831553762E-3,{"$f":"RTD(\"cqg.rtd\",,\"StudyData\", \"Close(\"&$D$12&\") when LocalYear(\"&$D$12&\")=\"&$D$8&\" and localMonth(\"&$D$12&\") =\"&$E$8&\" and LocalDay(\"&$D$12&\")=\"&$F$8&\" and Barix(\"&$D$12&\",reference:=StartOfDay)=\"&A31&\"\", \"Bar\", \"\", \"Close\",\"5\",\"0\",\"\",,,\"False\",\"T\",\"EveryTick\")","v":1302.4000000000001},1.3839766261726756E-3,{"$f":"RTD(\"cqg.rtd\",,\"StudyData\", \"Close(\"&$D$12&\") when LocalYear(\"&$D$12&\")=\"&$D$9&\" and localMonth(\"&$D$12&\") =\"&$E$9&\" and LocalDay(\"&$D$12&\")=\"&$F$9&\" and Barix(\"&$D$12&\",reference:=StartOfDay)=\"&A31&\"\", \"Bar\", \"\", \"Close\",\"5\",\"0\",\"\",,,\"False\",\"T\",\"EveryTick\")","v":1303.7},2.5376807136265412E-3,{"$f":"RTD(\"cqg.rtd\",,\"StudyData\", \"Close(\"&$D$12&\") when LocalYear(\"&$D$12&\")=\"&$D$10&\" and localMonth(\"&$D$12&\") =\"&$E$10&\" and LocalDay(\"&$D$12&\")=\"&$F$10&\" and Barix(\"&$D$12&\",reference:=StartOfDay)=\"&A31&\"\", \"Bar\", \"\", \"Close\",\"5\",\"0\",\"\",,,\"False\",\"T\",\"EveryTick\")","v":1297.4000000000001},1.1574967204259587E-3,null,null,null,""]
[199,"09:35:00","2018-06-08",2018,6,8,{"$f":"IF(RTD(\"cqg.rtd\",,\"StudyData\", \"Close(\"&$D$12&\") when LocalYear(\"&$D$12&\")=\"&D32&\" and localMonth(\"&$D$12&\") =\"&E32&\" and LocalDay(\"&$D$12&\")=\"&F32&\" and Barix(\"&$D$12&\",reference:=StartOfDay)=275\", \"Bar\", \"\", \"Close\",\"5\",\"0\",\"\",,,\"False\",\"T\",\"EveryTick\")=\"\",2,1)","v":1},{"$f":"RTD(\"cqg.rtd\",,\"StudyData\", \"Close(\"&$D$12&\") when LocalYear(\"&$D$12&\")=\"&$D$1&\" and localMonth(\"&$D$12&\") =\"&$E$1&\" and LocalDay(\"&$D$12&\")=\"&$F$1&\" and Barix(\"&$D$12&\",reference:=StartOfDay)=\"&A32&\"\", \"Bar\", \"\", \"Close\",\"5\",\"0\",\"\",,,\"False\",\"T\",\"EveryTick\")","v":""},{"$error":"#N/A"},{"$f":"RTD(\"cqg.rtd\",,\"StudyData\", \"Close(\"&$D$12&\") when LocalYear(\"&$D$12&\")=\"&$D$2&\" and localMonth(\"&$D$12&\") =\"&$E$2&\" and LocalDay(\"&$D$12&\")=\"&$F$2&\" and Barix(\"&$D$12&\",reference:=StartOfDay)=\"&A32&\"\", \"Bar\", \"\", \"Close\",\"5\",\"0\",\"\",,,\"False\",\"T\",\"EveryTick\")","v":1283.8},-1.6923194731602829E-2,{"$f":"RTD(\"cqg.rtd\",,\"StudyData\", \"Close(\"&$D$12&\") when LocalYear(\"&$D$12&\")=\"&$D$3&\" and localMonth(\"&$D$12&\") =\"&$E$3&\" and LocalDay(\"&$D$12&\")=\"&$F$3&\" and Barix(\"&$D$12&\",reference:=StartOfDay)=\"&A32&\"\", \"Bar\", \"\", \"Close\",\"5\",\"0\",\"\",,,\"False\",\"T\",\"EveryTick\")","v":1308.3},4.1446005065621794E-3,{"$f":"RTD(\"cqg.rtd\",,\"StudyData\", \"Close(\"&$D$12&\") when LocalYear(\"&$D$12&\")=\"&$D$4&\" and localMonth(\"&$D$12&\") =\"&$E$4&\" and LocalDay(\"&$D$12&\")=\"&$F$4&\" and Barix(\"&$D$12&\",reference:=StartOfDay)=\"&A32&\"\", \"Bar\", \"\", \"Close\",\"5\",\"0\",\"\",,,\"False\",\"T\",\"EveryTick\")","v":1300.5},6.9252077562333874E-4,{"$f":"RTD(\"cqg.rtd\",,\"StudyData\", \"Close(\"&$D$12&\") when LocalYear(\"&$D$12&\")=\"&$D$5&\" and localMonth(\"&$D$12&\") =\"&$E$5&\" and LocalDay(\"&$D$12&\")=\"&$F$5&\" and Barix(\"&$D$12&\",reference:=StartOfDay)=\"&A32&\"\", \"Bar\", \"\", \"Close\",\"5\",\"0\",\"\",,,\"False\",\"T\",\"EveryTick\")","v":1302.5999999999999},-1.379944802208051E-3,{"$f":"RTD(\"cqg.rtd\",,\"StudyData\", \"Close(\"&$D$12&\") when LocalYear(\"&$D$12&\")=\"&$D$6&\" and localMonth(\"&$D$12&\") =\"&$E$6&\" and LocalDay(\"&$D$12&\")=\"&$F$6&\" and Barix(\"&$D$12&\",reference:=StartOfDay)=\"&A32&\"\", \"Bar\", \"\", \"Close\",\"5\",\"0\",\"\",,,\"False\",\"T\",\"EveryTick\")","v":1303.5},0,{"$f":"RTD(\"cqg.rtd\",,\"StudyData\", \"Close(\"&$D$12&\") when LocalYear(\"&$D$12&\")=\"&$D$7&\" and localMonth(\"&$D$12&\") =\"&$E$7&\" and LocalDay(\"&$D$12&\")=\"&$F$7&\" and Barix(\"&$D$12&\",reference:=StartOfDay)=\"&A32&\"\", \"Bar\", \"\", \"Close\",\"5\",\"0\",\"\",,,\"False\",\"T\",\"EveryTick\")","v":1302.9000000000001},1.2295396910782575E-3,{"$f":"RTD(\"cqg.rtd\",,\"StudyData\", \"Close(\"&$D$12&\") when LocalYear(\"&$D$12&\")=\"&$D$8&\" and localMonth(\"&$D$12&\") =\"&$E$8&\" and LocalDay(\"&$D$12&\")=\"&$F$8&\" and Barix(\"&$D$12&\",reference:=StartOfDay)=\"&A32&\"\", \"Bar\", \"\", \"Close\",\"5\",\"0\",\"\",,,\"False\",\"T\",\"EveryTick\")","v":1302.2},1.2302014454868035E-3,{"$f":"RTD(\"cqg.rtd\",,\"StudyData\", \"Close(\"&$D$12&\") when LocalYear(\"&$D$12&\")=\"&$D$9&\" and localMonth(\"&$D$12&\") =\"&$E$9&\" and LocalDay(\"&$D$12&\")=\"&$F$9&\" and Barix(\"&$D$12&\",reference:=StartOfDay)=\"&A32&\"\", \"Bar\", \"\", \"Close\",\"5\",\"0\",\"\",,,\"False\",\"T\",\"EveryTick\")","v":1303.5999999999999},2.4607812980619948E-3,{"$f":"RTD(\"cqg.rtd\",,\"StudyData\", \"Close(\"&$D$12&\") when LocalYear(\"&$D$12&\")=\"&$D$10&\" and localMonth(\"&$D$12&\") =\"&$E$10&\" and LocalDay(\"&$D$12&\")=\"&$F$10&\" and Barix(\"&$D$12&\",reference:=StartOfDay)=\"&A32&\"\", \"Bar\", \"\", \"Close\",\"5\",\"0\",\"\",,,\"False\",\"T\",\"EveryTick\")","v":1297.2},1.0031638243691292E-3,null,null,null,""]
[200,"09:40:00","2018-06-07",2018,6,7,{"$f":"IF(RTD(\"cqg.rtd\",,\"StudyData\", \"Close(\"&$D$12&\") when LocalYear(\"&$D$12&\")=\"&D33&\" and localMonth(\"&$D$12&\") =\"&E33&\" and LocalDay(\"&$D$12&\")=\"&F33&\" and Barix(\"&$D$12&\",reference:=StartOfDay)=275\", \"Bar\", \"\", \"Close\",\"5\",\"0\",\"\",,,\"False\",\"T\",\"EveryTick\")=\"\",2,1)","v":1},{"$f":"RTD(\"cqg.rtd\",,\"StudyData\", \"Close(\"&$D$12&\") when LocalYear(\"&$D$12&\")=\"&$D$1&\" and localMonth(\"&$D$12&\") =\"&$E$1&\" and LocalDay(\"&$D$12&\")=\"&$F$1&\" and Barix(\"&$D$12&\",reference:=StartOfDay)=\"&A33&\"\", \"Bar\", \"\", \"Close\",\"5\",\"0\",\"\",,,\"False\",\"T\",\"EveryTick\")","v":""},{"$error":"#N/A"},{"$f":"RTD(\"cqg.rtd\",,\"StudyData\", \"Close(\"&$D$12&\") when LocalYear(\"&$D$12&\")=\"&$D$2&\" and localMonth(\"&$D$12&\") =\"&$E$2&\" and LocalDay(\"&$D$12&\")=\"&$F$2&\" and Barix(\"&$D$12&\",reference:=StartOfDay)=\"&A33&\"\", \"Bar\", \"\", \"Close\",\"5\",\"0\",\"\",,,\"False\",\"T\",\"EveryTick\")","v":1281.8},-1.8454705567041992E-2,{"$f":"RTD(\"cqg.rtd\",,\"StudyData\", \"Close(\"&$D$12&\") when LocalYear(\"&$D$12&\")=\"&$D$3&\" and localMonth(\"&$D$12&\") =\"&$E$3&\" and LocalDay(\"&$D$12&\")=\"&$F$3&\" and Barix(\"&$D$12&\",reference:=StartOfDay)=\"&A33&\"\", \"Bar\", \"\", \"Close\",\"5\",\"0\",\"\",,,\"False\",\"T\",\"EveryTick\")","v":1307.9000000000001},3.8375930616317442E-3,{"$f":"RTD(\"cqg.rtd\",,\"StudyData\", \"Close(\"&$D$12&\") when LocalYear(\"&$D$12&\")=\"&$D$4&\" and localMonth(\"&$D$12&\") =\"&$E$4&\" and LocalDay(\"&$D$12&\")=\"&$F$4&\" and Barix(\"&$D$12&\",reference:=StartOfDay)=\"&A33&\"\", \"Bar\", \"\", \"Close\",\"5\",\"0\",\"\",,,\"False\",\"T\",\"EveryTick\")","v":1300.7},8.4641428131743341E-4,{"$f":"RTD(\"cqg.rtd\",,\"StudyData\", \"Close(\"&$D$12&\") when LocalYear(\"&$D$12&\")=\"&$D$5&\" and localMonth(\"&$D$12&\") =\"&$E$5&\" and LocalDay(\"&$D$12&\")=\"&$F$5&\" and Barix(\"&$D$12&\",reference:=StartOfDay)=\"&A33&\"\", \"Bar\", \"\", \"Close\",\"5\",\"0\",\"\",,,\"False\",\"T\",\"EveryTick\")","v":1302.7},-1.3032812020852846E-3,{"$f":"RTD(\"cqg.rtd\",,\"StudyData\", \"Close(\"&$D$12&\") when LocalYear(\"&$D$12&\")=\"&$D$6&\" and localMonth(\"&$D$12&\") =\"&$E$6&\" and LocalDay(\"&$D$12&\")=\"&$F$6&\" and Barix(\"&$D$12&\",reference:=StartOfDay)=\"&A33&\"\", \"Bar\", \"\", \"Close\",\"5\",\"0\",\"\",,,\"False\",\"T\",\"EveryTick\")","v":1303.8},2.3014959723816994E-4,{"$f":"RTD(\"cqg.rtd\",,\"StudyData\", \"Close(\"&$D$12&\") when LocalYear(\"&$D$12&\")=\"&$D$7&\" and localMonth(\"&$D$12&\") =\"&$E$7&\" and LocalDay(\"&$D$12&\")=\"&$F$7&\" and Barix(\"&$D$12&\",reference:=StartOfDay)=\"&A33&\"\", \"Bar\", \"\", \"Close\",\"5\",\"0\",\"\",,,\"False\",\"T\",\"EveryTick\")","v":1302.3},7.6846230692384542E-4,{"$f":"RTD(\"cqg.rtd\",,\"StudyData\", \"Close(\"&$D$12&\") when LocalYear(\"&$D$12&\")=\"&$D$8&\" and localMonth(\"&$D$12&\") =\"&$E$8&\" and LocalDay(\"&$D$12&\")=\"&$F$8&\" and Barix(\"&$D$12&\",reference:=StartOfDay)=\"&A33&\"\", \"Bar\", \"\", \"Close\",\"5\",\"0\",\"\",,,\"False\",\"T\",\"EveryTick\")","v":1301.7},8.457634937722101E-4,{"$f":"RTD(\"cqg.rtd\",,\"StudyData\", \"Close(\"&$D$12&\") when LocalYear(\"&$D$12&\")=\"&$D$9&\" and localMonth(\"&$D$12&\") =\"&$E$9&\" and LocalDay(\"&$D$12&\")=\"&$F$9&\" and Barix(\"&$D$12&\",reference:=StartOfDay)=\"&A33&\"\", \"Bar\", \"\", \"Close\",\"5\",\"0\",\"\",,,\"False\",\"T\",\"EveryTick\")","v":1303.9000000000001},2.6914795447554596E-3,{"$f":"RTD(\"cqg.rtd\",,\"StudyData\", \"Close(\"&$D$12&\") when LocalYear(\"&$D$12&\")=\"&$D$10&\" and localMonth(\"&$D$12&\") =\"&$E$10&\" and LocalDay(\"&$D$12&\")=\"&$F$10&\" and Barix(\"&$D$12&\",reference:=StartOfDay)=\"&A33&\"\", \"Bar\", \"\", \"Close\",\"5\",\"0\",\"\",,,\"False\",\"T\",\"EveryTick\")","v":1297.3},1.0803302723974562E-3,null,null,null,""]
[201,"09:45:00","2018-06-06",2018,6,6,{"$f":"IF(RTD(\"cqg.rtd\",,\"StudyData\", \"Close(\"&$D$12&\") when LocalYear(\"&$D$12&\")=\"&D34&\" and localMonth(\"&$D$12&\") =\"&E34&\" and LocalDay(\"&$D$12&\")=\"&F34&\" and Barix(\"&$D$12&\",reference:=StartOfDay)=275\", \"Bar\", \"\", \"Close\",\"5\",\"0\",\"\",,,\"False\",\"T\",\"EveryTick\")=\"\",2,1)","v":1},{"$f":"RTD(\"cqg.rtd\",,\"StudyData\", \"Close(\"&$D$12&\") when LocalYear(\"&$D$12&\")=\"&$D$1&\" and localMonth(\"&$D$12&\") =\"&$E$1&\" and LocalDay(\"&$D$12&\")=\"&$F$1&\" and Barix(\"&$D$12&\",reference:=StartOfDay)=\"&A34&\"\", \"Bar\", \"\", \"Close\",\"5\",\"0\",\"\",,,\"False\",\"T\",\"EveryTick\")","v":""},{"$error":"#N/A"},{"$f":"RTD(\"cqg.rtd\",,\"StudyData\", \"Close(\"&$D$12&\") when LocalYear(\"&$D$12&\")=\"&$D$2&\" and localMonth(\"&$D$12&\") =\"&$E$2&\" and LocalDay(\"&$D$12&\")=\"&$F$2&\" and Barix(\"&$D$12&\",reference:=StartOfDay)=\"&A34&\"\", \"Bar\", \"\", \"Close\",\"5\",\"0\",\"\",,,\"False\",\"T\",\"EveryTick\")","v":1283.4000000000001},-1.7229496898690556E-2,{"$f":"RTD(\"cqg.rtd\",,\"StudyData\", \"Close(\"&$D$12&\") when LocalYear(\"&$D$12&\")=\"&$D$3&\" and localMonth(\"&$D$12&\") =\"&$E$3&\" and LocalDay(\"&$D$12&\")=\"&$F$3&\" and Barix(\"&$D$12&\",reference:=StartOfDay)=\"&A34&\"\", \"Bar\", \"\", \"Close\",\"5\",\"0\",\"\",,,\"False\",\"T\",\"EveryTick\")","v":1309},4.6818635351906579E-3,{"$f":"RTD(\"cqg.rtd\",,\"StudyData\", \"Close(\"&$D$12&\") when LocalYear(\"&$D$12&\")=\"&$D$4&\" and localMonth(\"&$D$12&\") =\"&$E$4&\" and LocalDay(\"&$D$12&\")=\"&$F$4&\" and Barix(\"&$D$12&\",reference:=StartOfDay)=\"&A34&\"\", \"Bar\", \"\", \"Close\",\"5\",\"0\",\"\",,,\"False\",\"T\",\"EveryTick\")","v":1300.0999999999999},3.8473376423514929E-4,{"$f":"RTD(\"cqg.rtd\",,\"StudyData\", \"Close(\"&$D$12&\") when LocalYear(\"&$D$12&\")=\"&$D$5&\" and localMonth(\"&$D$12&\") =\"&$E$5&\" and LocalDay(\"&$D$12&\")=\"&$F$5&\" and Barix(\"&$D$12&\",reference:=StartOfDay)=\"&A34&\"\", \"Bar\", \"\", \"Close\",\"5\",\"0\",\"\",,,\"False\",\"T\",\"EveryTick\")","v":1303.2},-9.1996320147197592E-4,{"$f":"RTD(\"cqg.rtd\",,\"StudyData\", \"Close(\"&$D$12&\") when LocalYear(\"&$D$12&\")=\"&$D$6&\" and localMonth(\"&$D$12&\") =\"&$E$6&\" and LocalDay(\"&$D$12&\")=\"&$F$6&\" and Barix(\"&$D$12&\",reference:=StartOfDay)=\"&A34&\"\", \"Bar\", \"\", \"Close\",\"5\",\"0\",\"\",,,\"False\",\"T\",\"EveryTick\")","v":1304.4000000000001},6.9044879171468424E-4,{"$f":"RTD(\"cqg.rtd\",,\"StudyData\", \"Close(\"&$D$12&\") when LocalYear(\"&$D$12&\")=\"&$D$7&\" and localMonth(\"&$D$12&\") =\"&$E$7&\" and LocalDay(\"&$D$12&\")=\"&$F$7&\" and Barix(\"&$D$12&\",reference:=StartOfDay)=\"&A34&\"\", \"Bar\", \"\", \"Close\",\"5\",\"0\",\"\",,,\"False\",\"T\",\"EveryTick\")","v":1302.3},7.6846230692384542E-4,{"$f":"RTD(\"cqg.rtd\",,\"StudyData\", \"Close(\"&$D$12&\") when LocalYear(\"&$D$12&\")=\"&$D$8&\" and localMonth(\"&$D$12&\") =\"&$E$8&\" and LocalDay(\"&$D$12&\")=\"&$F$8&\" and Barix(\"&$D$12&\",reference:=StartOfDay)=\"&A34&\"\", \"Bar\", \"\", \"Close\",\"5\",\"0\",\"\",,,\"False\",\"T\",\"EveryTick\")","v":1301.9000000000001},9.9953867445808238E-4,{"$f":"RTD(\"cqg.rtd\",,\"StudyData\", \"Close(\"&$D$12&\") when LocalYear(\"&$D$12&\")=\"&$D$9&\" and localMonth(\"&$D$12&\") =\"&$E$9&\" and LocalDay(\"&$D$12&\")=\"&$F$9&\" and Barix(\"&$D$12&\",reference:=StartOfDay)=\"&A34&\"\", \"Bar\", \"\", \"Close\",\"5\",\"0\",\"\",,,\"False\",\"T\",\"EveryTick\")","v":1304},2.7683789603198316E-3,{"$f":"RTD(\"cqg.rtd\",,\"StudyData\", \"Close(\"&$D$12&\") when LocalYear(\"&$D$12&\")=\"&$D$10&\" and localMonth(\"&$D$12&\") =\"&$E$10&\" and LocalDay(\"&$D$12&\")=\"&$F$10&\" and Barix(\"&$D$12&\",reference:=StartOfDay)=\"&A34&\"\", \"Bar\", \"\", \"Close\",\"5\",\"0\",\"\",,,\"False\",\"T\",\"EveryTick\")","v":1297.5},1.2346631684542857E-3,null,null,null,""]
[202,"09:50:00","2018-06-05",2018,6,5,{"$f":"IF(RTD(\"cqg.rtd\",,\"StudyData\", \"Close(\"&$D$12&\") when LocalYear(\"&$D$12&\")=\"&D35&\" and localMonth(\"&$D$12&\") =\"&E35&\" and LocalDay(\"&$D$12&\")=\"&F35&\" and Barix(\"&$D$12&\",reference:=StartOfDay)=275\", \"Bar\", \"\", \"Close\",\"5\",\"0\",\"\",,,\"False\",\"T\",\"EveryTick\")=\"\",2,1)","v":1},{"$f":"RTD(\"cqg.rtd\",,\"StudyData\", \"Close(\"&$D$12&\") when LocalYear(\"&$D$12&\")=\"&$D$1&\" and localMonth(\"&$D$12&\") =\"&$E$1&\" and LocalDay(\"&$D$12&\")=\"&$F$1&\" and Barix(\"&$D$12&\",reference:=StartOfDay)=\"&A35&\"\", \"Bar\", \"\", \"Close\",\"5\",\"0\",\"\",,,\"False\",\"T\",\"EveryTick\")","v":""},{"$error":"#N/A"},{"$f":"RTD(\"cqg.rtd\",,\"StudyData\", \"Close(\"&$D$12&\") when LocalYear(\"&$D$12&\")=\"&$D$2&\" and localMonth(\"&$D$12&\") =\"&$E$2&\" and LocalDay(\"&$D$12&\")=\"&$F$2&\" and Barix(\"&$D$12&\",reference:=StartOfDay)=\"&A35&\"\", \"Bar\", \"\", \"Close\",\"5\",\"0\",\"\",,,\"False\",\"T\",\"EveryTick\")","v":1283.7},-1.6999770273374716E-2,{"$f":"RTD(\"cqg.rtd\",,\"StudyData\", \"Close(\"&$D$12&\") when LocalYear(\"&$D$12&\")=\"&$D$3&\" and localMonth(\"&$D$12&\") =\"&$E$3&\" and LocalDay(\"&$D$12&\")=\"&$F$3&\" and Barix(\"&$D$12&\",reference:=StartOfDay)=\"&A35&\"\", \"Bar\", \"\", \"Close\",\"5\",\"0\",\"\",,,\"False\",\"T\",\"EveryTick\")","v":1309.8},5.2958784250517026E-3,{"$f":"RTD(\"cqg.rtd\",,\"StudyData\", \"Close(\"&$D$12&\") when LocalYear(\"&$D$12&\")=\"&$D$4&\" and localMonth(\"&$D$12&\") =\"&$E$4&\" and LocalDay(\"&$D$12&\")=\"&$F$4&\" and Barix(\"&$D$12&\",reference:=StartOfDay)=\"&A35&\"\", \"Bar\", \"\", \"Close\",\"5\",\"0\",\"\",,,\"False\",\"T\",\"EveryTick\")","v":1300.4000000000001},6.155740227763789E-4,{"$f":"RTD(\"cqg.rtd\",,\"StudyData\", \"Close(\"&$D$12&\") when LocalYear(\"&$D$12&\")=\"&$D$5&\" and localMonth(\"&$D$12&\") =\"&$E$5&\" and LocalDay(\"&$D$12&\")=\"&$F$5&\" and Barix(\"&$D$12&\",reference:=StartOfDay)=\"&A35&\"\", \"Bar\", \"\", \"Close\",\"5\",\"0\",\"\",,,\"False\",\"T\",\"EveryTick\")","v":1303.3},-8.4329960134938385E-4,{"$f":"RTD(\"cqg.rtd\",,\"StudyData\", \"Close(\"&$D$12&\") when LocalYear(\"&$D$12&\")=\"&$D$6&\" and localMonth(\"&$D$12&\") =\"&$E$6&\" and LocalDay(\"&$D$12&\")=\"&$F$6&\" and Barix(\"&$D$12&\",reference:=StartOfDay)=\"&A35&\"\", \"Bar\", \"\", \"Close\",\"5\",\"0\",\"\",,,\"False\",\"T\",\"EveryTick\")","v":1305.2},1.3041810510165289E-3,{"$f":"RTD(\"cqg.rtd\",,\"StudyData\", \"Close(\"&$D$12&\") when LocalYear(\"&$D$12&\")=\"&$D$7&\" and localMonth(\"&$D$12&\") =\"&$E$7&\" and LocalDay(\"&$D$12&\")=\"&$F$7&\" and Barix(\"&$D$12&\",reference:=StartOfDay)=\"&A35&\"\", \"Bar\", \"\", \"Close\",\"5\",\"0\",\"\",,,\"False\",\"T\",\"EveryTick\")","v":1302.5},9.2215476830864946E-4,{"$f":"RTD(\"cqg.rtd\",,\"StudyData\", \"Close(\"&$D$12&\") when LocalYear(\"&$D$12&\")=\"&$D$8&\" and localMonth(\"&$D$12&\") =\"&$E$8&\" and LocalDay(\"&$D$12&\")=\"&$F$8&\" and Barix(\"&$D$12&\",reference:=StartOfDay)=\"&A35&\"\", \"Bar\", \"\", \"Close\",\"5\",\"0\",\"\",,,\"False\",\"T\",\"EveryTick\")","v":1301.4000000000001},6.1510072274348912E-4,{"$f":"RTD(\"cqg.rtd\",,\"StudyData\", \"Close(\"&$D$12&\") when LocalYear(\"&$D$12&\")=\"&$D$9&\" and localMonth(\"&$D$12&\") =\"&$E$9&\" and LocalDay(\"&$D$12&\")=\"&$F$9&\" and Barix(\"&$D$12&\",reference:=StartOfDay)=\"&A35&\"\", \"Bar\", \"\", \"Close\",\"5\",\"0\",\"\",,,\"False\",\"T\",\"EveryTick\")","v":1303.4000000000001},2.3069824669332511E-3,{"$f":"RTD(\"cqg.rtd\",,\"StudyData\", \"Close(\"&$D$12&\") when LocalYear(\"&$D$12&\")=\"&$D$10&\" and localMonth(\"&$D$12&\") =\"&$E$10&\" and LocalDay(\"&$D$12&\")=\"&$F$10&\" and Barix(\"&$D$12&\",reference:=StartOfDay)=\"&A35&\"\", \"Bar\", \"\", \"Close\",\"5\",\"0\",\"\",,,\"False\",\"T\",\"EveryTick\")","v":1297.5},1.2346631684542857E-3,null,null,null,""]
[203,"09:55:00","2018-06-04",2018,6,4,{"$f":"IF(RTD(\"cqg.rtd\",,\"StudyData\", \"Close(\"&$D$12&\") when LocalYear(\"&$D$12&\")=\"&D36&\" and localMonth(\"&$D$12&\") =\"&E36&\" and LocalDay(\"&$D$12&\")=\"&F36&\" and Barix(\"&$D$12&\",reference:=StartOfDay)=275\", \"Bar\", \"\", \"Close\",\"5\",\"0\",\"\",,,\"False\",\"T\",\"EveryTick\")=\"\",2,1)","v":1},{"$f":"RTD(\"cqg.rtd\",,\"StudyData\", \"Close(\"&$D$12&\") when LocalYear(\"&$D$12&\")=\"&$D$1&\" and localMonth(\"&$D$12&\") =\"&$E$1&\" and LocalDay(\"&$D$12&\")=\"&$F$1&\" and Barix(\"&$D$12&\",reference:=StartOfDay)=\"&A36&\"\", \"Bar\", \"\", \"Close\",\"5\",\"0\",\"\",,,\"False\",\"T\",\"EveryTick\")","v":""},{"$error":"#N/A"},{"$f":"RTD(\"cqg.rtd\",,\"StudyData\", \"Close(\"&$D$12&\") when LocalYear(\"&$D$12&\")=\"&$D$2&\" and localMonth(\"&$D$12&\") =\"&$E$2&\" and LocalDay(\"&$D$12&\")=\"&$F$2&\" and Barix(\"&$D$12&\",reference:=StartOfDay)=\"&A36&\"\", \"Bar\", \"\", \"Close\",\"5\",\"0\",\"\",,,\"False\",\"T\",\"EveryTick\")","v":1283.3},-1.730607244046262E-2,{"$f":"RTD(\"cqg.rtd\",,\"StudyData\", \"Close(\"&$D$12&\") when LocalYear(\"&$D$12&\")=\"&$D$3&\" and localMonth(\"&$D$12&\") =\"&$E$3&\" and LocalDay(\"&$D$12&\")=\"&$F$3&\" and Barix(\"&$D$12&\",reference:=StartOfDay)=\"&A36&\"\", \"Bar\", \"\", \"Close\",\"5\",\"0\",\"\",,,\"False\",\"T\",\"EveryTick\")","v":1310.5999999999999},5.9098933149127463E-3,{"$f":"RTD(\"cqg.rtd\",,\"StudyData\", \"Close(\"&$D$12&\") when LocalYear(\"&$D$12&\")=\"&$D$4&\" and localMonth(\"&$D$12&\") =\"&$E$4&\" and LocalDay(\"&$D$12&\")=\"&$F$4&\" and Barix(\"&$D$12&\",reference:=StartOfDay)=\"&A36&\"\", \"Bar\", \"\", \"Close\",\"5\",\"0\",\"\",,,\"False\",\"T\",\"EveryTick\")","v":1300.4000000000001},6.155740227763789E-4,{"$f":"RTD(\"cqg.rtd\",,\"StudyData\", \"Close(\"&$D$12&\") when LocalYear(\"&$D$12&\")=\"&$D$5&\" and localMonth(\"&$D$12&\") =\"&$E$5&\" and LocalDay(\"&$D$12&\")=\"&$F$5&\" and Barix(\"&$D$12&\",reference:=StartOfDay)=\"&A36&\"\", \"Bar\", \"\", \"Close\",\"5\",\"0\",\"\",,,\"False\",\"T\",\"EveryTick\")","v":1303.3},-8.4329960134938385E-4,{"$f":"RTD(\"cqg.rtd\",,\"StudyData\", \"Close(\"&$D$12&\") when LocalYear(\"&$D$12&\")=\"&$D$6&\" and localMonth(\"&$D$12&\") =\"&$E$6&\" and LocalDay(\"&$D$12&\")=\"&$F$6&\" and Barix(\"&$D$12&\",reference:=StartOfDay)=\"&A36&\"\", \"Bar\", \"\", \"Close\",\"5\",\"0\",\"\",,,\"False\",\"T\",\"EveryTick\")","v":1305},1.1507479861910242E-3,{"$f":"RTD(\"cqg.rtd\",,\"StudyData\", \"Close(\"&$D$12&\") when LocalYear(\"&$D$12&\")=\"&$D$7&\" and localMonth(\"&$D$12&\") =\"&$E$7&\" and LocalDay(\"&$D$12&\")=\"&$F$7&\" and Barix(\"&$D$12&\",reference:=StartOfDay)=\"&A36&\"\", \"Bar\", \"\", \"Close\",\"5\",\"0\",\"\",,,\"False\",\"T\",\"EveryTick\")","v":1302.9000000000001},1.2295396910782575E-3,{"$f":"RTD(\"cqg.rtd\",,\"StudyData\", \"Close(\"&$D$12&\") when LocalYear(\"&$D$12&\")=\"&$D$8&\" and localMonth(\"&$D$12&\") =\"&$E$8&\" and LocalDay(\"&$D$12&\")=\"&$F$8&\" and Barix(\"&$D$12&\",reference:=StartOfDay)=\"&A36&\"\", \"Bar\", \"\", \"Close\",\"5\",\"0\",\"\",,,\"False\",\"T\",\"EveryTick\")","v":1301.9000000000001},9.9953867445808238E-4,{"$f":"RTD(\"cqg.rtd\",,\"StudyData\", \"Close(\"&$D$12&\") when LocalYear(\"&$D$12&\")=\"&$D$9&\" and localMonth(\"&$D$12&\") =\"&$E$9&\" and LocalDay(\"&$D$12&\")=\"&$F$9&\" and Barix(\"&$D$12&\",reference:=StartOfDay)=\"&A36&\"\", \"Bar\", \"\", \"Close\",\"5\",\"0\",\"\",,,\"False\",\"T\",\"EveryTick\")","v":1303.5999999999999},2.4607812980619948E-3,{"$f":"RTD(\"cqg.rtd\",,\"StudyData\", \"Close(\"&$D$12&\") when LocalYear(\"&$D$12&\")=\"&$D$10&\" and localMonth(\"&$D$12&\") =\"&$E$10&\" and LocalDay(\"&$D$12&\")=\"&$F$10&\" and Barix(\"&$D$12&\",reference:=StartOfDay)=\"&A36&\"\", \"Bar\", \"\", \"Close\",\"5\",\"0\",\"\",,,\"False\",\"T\",\"EveryTick\")","v":1297.8},1.4661625125394423E-3,null,null,null,""]
[204,"10:00:00",null,null,null,null,null,{"$f":"RTD(\"cqg.rtd\",,\"StudyData\", \"Close(\"&$D$12&\") when LocalYear(\"&$D$12&\")=\"&$D$1&\" and localMonth(\"&$D$12&\") =\"&$E$1&\" and LocalDay(\"&$D$12&\")=\"&$F$1&\" and Barix(\"&$D$12&\",reference:=StartOfDay)=\"&A37&\"\", \"Bar\", \"\", \"Close\",\"5\",\"0\",\"\",,,\"False\",\"T\",\"EveryTick\")","v":""},{"$error":"#N/A"},{"$f":"RTD(\"cqg.rtd\",,\"StudyData\", \"Close(\"&$D$12&\") when LocalYear(\"&$D$12&\")=\"&$D$2&\" and localMonth(\"&$D$12&\") =\"&$E$2&\" and LocalDay(\"&$D$12&\")=\"&$F$2&\" and Barix(\"&$D$12&\",reference:=StartOfDay)=\"&A37&\"\", \"Bar\", \"\", \"Close\",\"5\",\"0\",\"\",,,\"False\",\"T\",\"EveryTick\")","v":1282.5},-1.7918676774638247E-2,{"$f":"RTD(\"cqg.rtd\",,\"StudyData\", \"Close(\"&$D$12&\") when LocalYear(\"&$D$12&\")=\"&$D$3&\" and localMonth(\"&$D$12&\") =\"&$E$3&\" and LocalDay(\"&$D$12&\")=\"&$F$3&\" and Barix(\"&$D$12&\",reference:=StartOfDay)=\"&A37&\"\", \"Bar\", \"\", \"Close\",\"5\",\"0\",\"\",,,\"False\",\"T\",\"EveryTick\")","v":1309.5},5.0656228413538326E-3,{"$f":"RTD(\"cqg.rtd\",,\"StudyData\", \"Close(\"&$D$12&\") when LocalYear(\"&$D$12&\")=\"&$D$4&\" and localMonth(\"&$D$12&\") =\"&$E$4&\" and LocalDay(\"&$D$12&\")=\"&$F$4&\" and Barix(\"&$D$12&\",reference:=StartOfDay)=\"&A37&\"\", \"Bar\", \"\", \"Close\",\"5\",\"0\",\"\",,,\"False\",\"T\",\"EveryTick\")","v":1300.9000000000001},1.0003077870115282E-3,{"$f":"RTD(\"cqg.rtd\",,\"StudyData\", \"Close(\"&$D$12&\") when LocalYear(\"&$D$12&\")=\"&$D$5&\" and localMonth(\"&$D$12&\") =\"&$E$5&\" and LocalDay(\"&$D$12&\")=\"&$F$5&\" and Barix(\"&$D$12&\",reference:=StartOfDay)=\"&A37&\"\", \"Bar\", \"\", \"Close\",\"5\",\"0\",\"\",,,\"False\",\"T\",\"EveryTick\")","v":1302.9000000000001},-1.1499540018399263E-3,{"$f":"RTD(\"cqg.rtd\",,\"StudyData\", \"Close(\"&$D$12&\") when LocalYear(\"&$D$12&\")=\"&$D$6&\" and localMonth(\"&$D$12&\") =\"&$E$6&\" and LocalDay(\"&$D$12&\")=\"&$F$6&\" and Barix(\"&$D$12&\",reference:=StartOfDay)=\"&A37&\"\", \"Bar\", \"\", \"Close\",\"5\",\"0\",\"\",,,\"False\",\"T\",\"EveryTick\")","v":1304.9000000000001},1.0740314537783589E-3,{"$f":"RTD(\"cqg.rtd\",,\"StudyData\", \"Close(\"&$D$12&\") when LocalYear(\"&$D$12&\")=\"&$D$7&\" and localMonth(\"&$D$12&\") =\"&$E$7&\" and LocalDay(\"&$D$12&\")=\"&$F$7&\" and Barix(\"&$D$12&\",reference:=StartOfDay)=\"&A37&\"\", \"Bar\", \"\", \"Close\",\"5\",\"0\",\"\",,,\"False\",\"T\",\"EveryTick\")","v":1302.8},1.1526934603857681E-3,{"$f":"RTD(\"cqg.rtd\",,\"StudyData\", \"Close(\"&$D$12&\") when LocalYear(\"&$D$12&\")=\"&$D$8&\" and localMonth(\"&$D$12&\") =\"&$E$8&\" and LocalDay(\"&$D$12&\")=\"&$F$8&\" and Barix(\"&$D$12&\",reference:=StartOfDay)=\"&A37&\"\", \"Bar\", \"\", \"Close\",\"5\",\"0\",\"\",,,\"False\",\"T\",\"EveryTick\")","v":1301.9000000000001},9.9953867445808238E-4,{"$f":"RTD(\"cqg.rtd\",,\"StudyData\", \"Close(\"&$D$12&\") when LocalYear(\"&$D$12&\")=\"&$D$9&\" and localMonth(\"&$D$12&\") =\"&$E$9&\" and LocalDay(\"&$D$12&\")=\"&$F$9&\" and Barix(\"&$D$12&\",reference:=StartOfDay)=\"&A37&\"\", \"Bar\", \"\", \"Close\",\"5\",\"0\",\"\",,,\"False\",\"T\",\"EveryTick\")","v":1303.8},2.6145801291909132E-3,{"$f":"RTD(\"cqg.rtd\",,\"StudyData\", \"Close(\"&$D$12&\") when LocalYear(\"&$D$12&\")=\"&$D$10&\" and localMonth(\"&$D$12&\") =\"&$E$10&\" and LocalDay(\"&$D$12&\")=\"&$F$10&\" and Barix(\"&$D$12&\",reference:=StartOfDay)=\"&A37&\"\", \"Bar\", \"\", \"Close\",\"5\",\"0\",\"\",,,\"False\",\"T\",\"EveryTick\")","v":1297.9000000000001},1.5433289605679449E-3,null,null,null,""]
[205,"10:05:00",-40,{"$f":" RTD(\"cqg.rtd\",,\"StudyData\", $D$12,  \"Tick\", \"FlatTicks=0\", \"Tick\",\"D\",C38,\"\")","v":1283},null,"GCE",null,{"$f":"RTD(\"cqg.rtd\",,\"StudyData\", \"Close(\"&$D$12&\") when LocalYear(\"&$D$12&\")=\"&$D$1&\" and localMonth(\"&$D$12&\") =\"&$E$1&\" and LocalDay(\"&$D$12&\")=\"&$F$1&\" and Barix(\"&$D$12&\",reference:=StartOfDay)=\"&A38&\"\", \"Bar\", \"\", \"Close\",\"5\",\"0\",\"\",,,\"False\",\"T\",\"EveryTick\")","v":""},{"$error":"#N/A"},{"$f":"RTD(\"cqg.rtd\",,\"StudyData\", \"Close(\"&$D$12&\") when LocalYear(\"&$D$12&\")=\"&$D$2&\" and localMonth(\"&$D$12&\") =\"&$E$2&\" and LocalDay(\"&$D$12&\")=\"&$F$2&\" and Barix(\"&$D$12&\",reference:=StartOfDay)=\"&A38&\"\", \"Bar\", \"\", \"Close\",\"5\",\"0\",\"\",,,\"False\",\"T\",\"EveryTick\")","v":1284.4000000000001},-1.6463741480970975E-2,{"$f":"RTD(\"cqg.rtd\",,\"StudyData\", \"Close(\"&$D$12&\") when LocalYear(\"&$D$12&\")=\"&$D$3&\" and localMonth(\"&$D$12&\") =\"&$E$3&\" and LocalDay(\"&$D$12&\")=\"&$F$3&\" and Barix(\"&$D$12&\",reference:=StartOfDay)=\"&A38&\"\", \"Bar\", \"\", \"Close\",\"5\",\"0\",\"\",,,\"False\",\"T\",\"EveryTick\")","v":1309},4.6818635351906579E-3,{"$f":"RTD(\"cqg.rtd\",,\"StudyData\", \"Close(\"&$D$12&\") when LocalYear(\"&$D$12&\")=\"&$D$4&\" and localMonth(\"&$D$12&\") =\"&$E$4&\" and LocalDay(\"&$D$12&\")=\"&$F$4&\" and Barix(\"&$D$12&\",reference:=StartOfDay)=\"&A38&\"\", \"Bar\", \"\", \"Close\",\"5\",\"0\",\"\",,,\"False\",\"T\",\"EveryTick\")","v":1300.8},9.2336103416439336E-4,{"$f":"RTD(\"cqg.rtd\",,\"StudyData\", \"Close(\"&$D$12&\") when LocalYear(\"&$D$12&\")=\"&$D$5&\" and localMonth(\"&$D$12&\") =\"&$E$5&\" and LocalDay(\"&$D$12&\")=\"&$F$5&\" and Barix(\"&$D$12&\",reference:=StartOfDay)=\"&A38&\"\", \"Bar\", \"\", \"Close\",\"5\",\"0\",\"\",,,\"False\",\"T\",\"EveryTick\")","v":1302.3},-1.6099356025760015E-3,{"$f":"RTD(\"cqg.rtd\",,\"StudyData\", \"Close(\"&$D$12&\") when LocalYear(\"&$D$12&\")=\"&$D$6&\" and localMonth(\"&$D$12&\") =\"&$E$6&\" and LocalDay(\"&$D$12&\")=\"&$F$6&\" and Barix(\"&$D$12&\",reference:=StartOfDay)=\"&A38&\"\", \"Bar\", \"\", \"Close\",\"5\",\"0\",\"\",,,\"False\",\"T\",\"EveryTick\")","v":1305.0999999999999},1.2274645186036892E-3,{"$f":"RTD(\"cqg.rtd\",,\"StudyData\", \"Close(\"&$D$12&\") when LocalYear(\"&$D$12&\")=\"&$D$7&\" and localMonth(\"&$D$12&\") =\"&$E$7&\" and LocalDay(\"&$D$12&\")=\"&$F$7&\" and Barix(\"&$D$12&\",reference:=StartOfDay)=\"&A38&\"\", \"Bar\", \"\", \"Close\",\"5\",\"0\",\"\",,,\"False\",\"T\",\"EveryTick\")","v":1302.2},6.9161607623153079E-4,{"$f":"RTD(\"cqg.rtd\",,\"StudyData\", \"Close(\"&$D$12&\") when LocalYear(\"&$D$12&\")=\"&$D$8&\" and localMonth(\"&$D$12&\") =\"&$E$8&\" and LocalDay(\"&$D$12&\")=\"&$F$8&\" and Barix(\"&$D$12&\",reference:=StartOfDay)=\"&A38&\"\", \"Bar\", \"\", \"Close\",\"5\",\"0\",\"\",,,\"False\",\"T\",\"EveryTick\")","v":1302.2},1.2302014454868035E-3,{"$f":"RTD(\"cqg.rtd\",,\"StudyData\", \"Close(\"&$D$12&\") when LocalYear(\"&$D$12&\")=\"&$D$9&\" and localMonth(\"&$D$12&\") =\"&$E$9&\" and LocalDay(\"&$D$12&\")=\"&$F$9&\" and Barix(\"&$D$12&\",reference:=StartOfDay)=\"&A38&\"\", \"Bar\", \"\", \"Close\",\"5\",\"0\",\"\",,,\"False\",\"T\",\"EveryTick\")","v":1304},2.7683789603198316E-3,{"$f":"RTD(\"cqg.rtd\",,\"StudyData\", \"Close(\"&$D$12&\") when LocalYear(\"&$D$12&\")=\"&$D$10&\" and localMonth(\"&$D$12&\") =\"&$E$10&\" and LocalDay(\"&$D$12&\")=\"&$F$10&\" and Barix(\"&$D$12&\",reference:=StartOfDay)=\"&A38&\"\", \"Bar\", \"\", \"Close\",\"5\",\"0\",\"\",,,\"False\",\"T\",\"EveryTick\")","v":1298.7},2.160660544795088E-3,null,null,null,""]
[206,"10:10:00",{"$f":"C38+1","v":-39},{"$f":" RTD(\"cqg.rtd\",,\"StudyData\", $D$12,  \"Tick\", \"FlatTicks=0\", \"Tick\",\"D\",C39,\"\")","v":1283.0999999999999},null,"SIE",null,{"$f":"RTD(\"cqg.rtd\",,\"StudyData\", \"Close(\"&$D$12&\") when LocalYear(\"&$D$12&\")=\"&$D$1&\" and localMonth(\"&$D$12&\") =\"&$E$1&\" and LocalDay(\"&$D$12&\")=\"&$F$1&\" and Barix(\"&$D$12&\",reference:=StartOfDay)=\"&A39&\"\", \"Bar\", \"\", \"Close\",\"5\",\"0\",\"\",,,\"False\",\"T\",\"EveryTick\")","v":""},{"$error":"#N/A"},{"$f":"RTD(\"cqg.rtd\",,\"StudyData\", \"Close(\"&$D$12&\") when LocalYear(\"&$D$12&\")=\"&$D$2&\" and localMonth(\"&$D$12&\") =\"&$E$2&\" and LocalDay(\"&$D$12&\")=\"&$F$2&\" and Barix(\"&$D$12&\",reference:=StartOfDay)=\"&A39&\"\", \"Bar\", \"\", \"Close\",\"5\",\"0\",\"\",,,\"False\",\"T\",\"EveryTick\")","v":1283.7},-1.6999770273374716E-2,{"$f":"RTD(\"cqg.rtd\",,\"StudyData\", \"Close(\"&$D$12&\") when LocalYear(\"&$D$12&\")=\"&$D$3&\" and localMonth(\"&$D$12&\") =\"&$E$3&\" and LocalDay(\"&$D$12&\")=\"&$F$3&\" and Barix(\"&$D$12&\",reference:=StartOfDay)=\"&A39&\"\", \"Bar\", \"\", \"Close\",\"5\",\"0\",\"\",,,\"False\",\"T\",\"EveryTick\")","v":1309.0999999999999},4.7586153964232231E-3,{"$f":"RTD(\"cqg.rtd\",,\"StudyData\", \"Close(\"&$D$12&\") when LocalYear(\"&$D$12&\")=\"&$D$4&\" and localMonth(\"&$D$12&\") =\"&$E$4&\" and LocalDay(\"&$D$12&\")=\"&$F$4&\" and Barix(\"&$D$12&\",reference:=StartOfDay)=\"&A39&\"\", \"Bar\", \"\", \"Close\",\"5\",\"0\",\"\",,,\"False\",\"T\",\"EveryTick\")","v":1301.7},1.6158818097877321E-3,{"$f":"RTD(\"cqg.rtd\",,\"StudyData\", \"Close(\"&$D$12&\") when LocalYear(\"&$D$12&\")=\"&$D$5&\" and localMonth(\"&$D$12&\") =\"&$E$5&\" and LocalDay(\"&$D$12&\")=\"&$F$5&\" and Barix(\"&$D$12&\",reference:=StartOfDay)=\"&A39&\"\", \"Bar\", \"\", \"Close\",\"5\",\"0\",\"\",,,\"False\",\"T\",\"EveryTick\")","v":1302.8},-1.2266176019626927E-3,{"$f":"RTD(\"cqg.rtd\",,\"StudyData\", \"Close(\"&$D$12&\") when LocalYear(\"&$D$12&\")=\"&$D$6&\" and localMonth(\"&$D$12&\") =\"&$E$6&\" and LocalDay(\"&$D$12&\")=\"&$F$6&\" and Barix(\"&$D$12&\",reference:=StartOfDay)=\"&A39&\"\", \"Bar\", \"\", \"Close\",\"5\",\"0\",\"\",,,\"False\",\"T\",\"EveryTick\")","v":1305},1.1507479861910242E-3,{"$f":"RTD(\"cqg.rtd\",,\"StudyData\", \"Close(\"&$D$12&\") when LocalYear(\"&$D$12&\")=\"&$D$7&\" and localMonth(\"&$D$12&\") =\"&$E$7&\" and LocalDay(\"&$D$12&\")=\"&$F$7&\" and Barix(\"&$D$12&\",reference:=StartOfDay)=\"&A39&\"\", \"Bar\", \"\", \"Close\",\"5\",\"0\",\"\",,,\"False\",\"T\",\"EveryTick\")","v":1302},5.3792361484672675E-4,{"$f":"RTD(\"cqg.rtd\",,\"StudyData\", \"Close(\"&$D$12&\") when LocalYear(\"&$D$12&\")=\"&$D$8&\" and localMonth(\"&$D$12&\") =\"&$E$8&\" and LocalDay(\"&$D$12&\")=\"&$F$8&\" and Barix(\"&$D$12&\",reference:=StartOfDay)=\"&A39&\"\", \"Bar\", \"\", \"Close\",\"5\",\"0\",\"\",,,\"False\",\"T\",\"EveryTick\")","v":1302},1.0764262648009311E-3,{"$f":"RTD(\"cqg.rtd\",,\"StudyData\", \"Close(\"&$D$12&\") when LocalYear(\"&$D$12&\")=\"&$D$9&\" and localMonth(\"&$D$12&\") =\"&$E$9&\" and LocalDay(\"&$D$12&\")=\"&$F$9&\" and Barix(\"&$D$12&\",reference:=StartOfDay)=\"&A39&\"\", \"Bar\", \"\", \"Close\",\"5\",\"0\",\"\",,,\"False\",\"T\",\"EveryTick\")","v":1303.5999999999999},2.4607812980619948E-3,{"$f":"RTD(\"cqg.rtd\",,\"StudyData\", \"Close(\"&$D$12&\") when LocalYear(\"&$D$12&\")=\"&$D$10&\" and localMonth(\"&$D$12&\") =\"&$E$10&\" and LocalDay(\"&$D$12&\")=\"&$F$10&\" and Barix(\"&$D$12&\",reference:=StartOfDay)=\"&A39&\"\", \"Bar\", \"\", \"Close\",\"5\",\"0\",\"\",,,\"False\",\"T\",\"EveryTick\")","v":1299.3},2.6236592329654013E-3,null,null,null,""]
[207,"10:15:00",{"$f":"C39+1","v":-38},{"$f":" RTD(\"cqg.rtd\",,\"StudyData\", $D$12,  \"Tick\", \"FlatTicks=0\", \"Tick\",\"D\",C40,\"\")","v":1283},null,"PLE",null,{"$f":"RTD(\"cqg.rtd\",,\"StudyData\", \"Close(\"&$D$12&\") when LocalYear(\"&$D$12&\")=\"&$D$1&\" and localMonth(\"&$D$12&\") =\"&$E$1&\" and LocalDay(\"&$D$12&\")=\"&$F$1&\" and Barix(\"&$D$12&\",reference:=StartOfDay)=\"&A40&\"\", \"Bar\", \"\", \"Close\",\"5\",\"0\",\"\",,,\"False\",\"T\",\"EveryTick\")","v":""},{"$error":"#N/A"},{"$f":"RTD(\"cqg.rtd\",,\"StudyData\", \"Close(\"&$D$12&\") when LocalYear(\"&$D$12&\")=\"&$D$2&\" and localMonth(\"&$D$12&\") =\"&$E$2&\" and LocalDay(\"&$D$12&\")=\"&$F$2&\" and Barix(\"&$D$12&\",reference:=StartOfDay)=\"&A40&\"\", \"Bar\", \"\", \"Close\",\"5\",\"0\",\"\",,,\"False\",\"T\",\"EveryTick\")","v":1283.2},-1.7382647982234507E-2,{"$f":"RTD(\"cqg.rtd\",,\"StudyData\", \"Close(\"&$D$12&\") when LocalYear(\"&$D$12&\")=\"&$D$3&\" and localMonth(\"&$D$12&\") =\"&$E$3&\" and LocalDay(\"&$D$12&\")=\"&$F$3&\" and Barix(\"&$D$12&\",reference:=StartOfDay)=\"&A40&\"\", \"Bar\", \"\", \"Close\",\"5\",\"0\",\"\",,,\"False\",\"T\",\"EveryTick\")","v":1308.5999999999999},4.3748560902600493E-3,{"$f":"RTD(\"cqg.rtd\",,\"StudyData\", \"Close(\"&$D$12&\") when LocalYear(\"&$D$12&\")=\"&$D$4&\" and localMonth(\"&$D$12&\") =\"&$E$4&\" and LocalDay(\"&$D$12&\")=\"&$F$4&\" and Barix(\"&$D$12&\",reference:=StartOfDay)=\"&A40&\"\", \"Bar\", \"\", \"Close\",\"5\",\"0\",\"\",,,\"False\",\"T\",\"EveryTick\")","v":1301.5},1.4619883040936374E-3,{"$f":"RTD(\"cqg.rtd\",,\"StudyData\", \"Close(\"&$D$12&\") when LocalYear(\"&$D$12&\")=\"&$D$5&\" and localMonth(\"&$D$12&\") =\"&$E$5&\" and LocalDay(\"&$D$12&\")=\"&$F$5&\" and Barix(\"&$D$12&\",reference:=StartOfDay)=\"&A40&\"\", \"Bar\", \"\", \"Close\",\"5\",\"0\",\"\",,,\"False\",\"T\",\"EveryTick\")","v":1302.9000000000001},-1.1499540018399263E-3,{"$f":"RTD(\"cqg.rtd\",,\"StudyData\", \"Close(\"&$D$12&\") when LocalYear(\"&$D$12&\")=\"&$D$6&\" and localMonth(\"&$D$12&\") =\"&$E$6&\" and LocalDay(\"&$D$12&\")=\"&$F$6&\" and Barix(\"&$D$12&\",reference:=StartOfDay)=\"&A40&\"\", \"Bar\", \"\", \"Close\",\"5\",\"0\",\"\",,,\"False\",\"T\",\"EveryTick\")","v":1306.0999999999999},1.994629842731039E-3,{"$f":"RTD(\"cqg.rtd\",,\"StudyData\", \"Close(\"&$D$12&\") when LocalYear(\"&$D$12&\")=\"&$D$7&\" and localMonth(\"&$D$12&\") =\"&$E$7&\" and LocalDay(\"&$D$12&\")=\"&$F$7&\" and Barix(\"&$D$12&\",reference:=StartOfDay)=\"&A40&\"\", \"Bar\", \"\", \"Close\",\"5\",\"0\",\"\",,,\"False\",\"T\",\"EveryTick\")","v":1302.0999999999999},6.1476984553904138E-4,{"$f":"RTD(\"cqg.rtd\",,\"StudyData\", \"Close(\"&$D$12&\") when LocalYear(\"&$D$12&\")=\"&$D$8&\" and localMonth(\"&$D$12&\") =\"&$E$8&\" and LocalDay(\"&$D$12&\")=\"&$F$8&\" and Barix(\"&$D$12&\",reference:=StartOfDay)=\"&A40&\"\", \"Bar\", \"\", \"Close\",\"5\",\"0\",\"\",,,\"False\",\"T\",\"EveryTick\")","v":1301.9000000000001},9.9953867445808238E-4,{"$f":"RTD(\"cqg.rtd\",,\"StudyData\", \"Close(\"&$D$12&\") when LocalYear(\"&$D$12&\")=\"&$D$9&\" and localMonth(\"&$D$12&\") =\"&$E$9&\" and LocalDay(\"&$D$12&\")=\"&$F$9&\" and Barix(\"&$D$12&\",reference:=StartOfDay)=\"&A40&\"\", \"Bar\", \"\", \"Close\",\"5\",\"0\",\"\",,,\"False\",\"T\",\"EveryTick\")","v":1303.5999999999999},2.4607812980619948E-3,{"$f":"RTD(\"cqg.rtd\",,\"StudyData\", \"Close(\"&$D$12&\") when LocalYear(\"&$D$12&\")=\"&$D$10&\" and localMonth(\"&$D$12&\") =\"&$E$10&\" and LocalDay(\"&$D$12&\")=\"&$F$10&\" and Barix(\"&$D$12&\",reference:=StartOfDay)=\"&A40&\"\", \"Bar\", \"\", \"Close\",\"5\",\"0\",\"\",,,\"False\",\"T\",\"EveryTick\")","v":1299.4000000000001},2.7008256809939036E-3,null,null,null,""]
[208,"10:20:00",-37,{"$f":" RTD(\"cqg.rtd\",,\"StudyData\", $D$12,  \"Tick\", \"FlatTicks=0\", \"Tick\",\"D\",C41,\"\")","v":1283.0999999999999},null,"PAE",null,{"$f":"RTD(\"cqg.rtd\",,\"StudyData\", \"Close(\"&$D$12&\") when LocalYear(\"&$D$12&\")=\"&$D$1&\" and localMonth(\"&$D$12&\") =\"&$E$1&\" and LocalDay(\"&$D$12&\")=\"&$F$1&\" and Barix(\"&$D$12&\",reference:=StartOfDay)=\"&A41&\"\", \"Bar\", \"\", \"Close\",\"5\",\"0\",\"\",,,\"False\",\"T\",\"EveryTick\")","v":""},{"$error":"#N/A"},{"$f":"RTD(\"cqg.rtd\",,\"StudyData\", \"Close(\"&$D$12&\") when LocalYear(\"&$D$12&\")=\"&$D$2&\" and localMonth(\"&$D$12&\") =\"&$E$2&\" and LocalDay(\"&$D$12&\")=\"&$F$2&\" and Barix(\"&$D$12&\",reference:=StartOfDay)=\"&A41&\"\", \"Bar\", \"\", \"Close\",\"5\",\"0\",\"\",,,\"False\",\"T\",\"EveryTick\")","v":1282.5},-1.7918676774638247E-2,{"$f":"RTD(\"cqg.rtd\",,\"StudyData\", \"Close(\"&$D$12&\") when LocalYear(\"&$D$12&\")=\"&$D$3&\" and localMonth(\"&$D$12&\") =\"&$E$3&\" and LocalDay(\"&$D$12&\")=\"&$F$3&\" and Barix(\"&$D$12&\",reference:=StartOfDay)=\"&A41&\"\", \"Bar\", \"\", \"Close\",\"5\",\"0\",\"\",,,\"False\",\"T\",\"EveryTick\")","v":1308.7},4.4516079514927889E-3,{"$f":"RTD(\"cqg.rtd\",,\"StudyData\", \"Close(\"&$D$12&\") when LocalYear(\"&$D$12&\")=\"&$D$4&\" and localMonth(\"&$D$12&\") =\"&$E$4&\" and LocalDay(\"&$D$12&\")=\"&$F$4&\" and Barix(\"&$D$12&\",reference:=StartOfDay)=\"&A41&\"\", \"Bar\", \"\", \"Close\",\"5\",\"0\",\"\",,,\"False\",\"T\",\"EveryTick\")","v":1301.8},1.6928285626346918E-3,{"$f":"RTD(\"cqg.rtd\",,\"StudyData\", \"Close(\"&$D$12&\") when LocalYear(\"&$D$12&\")=\"&$D$5&\" and localMonth(\"&$D$12&\") =\"&$E$5&\" and LocalDay(\"&$D$12&\")=\"&$F$5&\" and Barix(\"&$D$12&\",reference:=StartOfDay)=\"&A41&\"\", \"Bar\", \"\", \"Close\",\"5\",\"0\",\"\",,,\"False\",\"T\",\"EveryTick\")","v":1302.3},-1.6099356025760015E-3,{"$f":"RTD(\"cqg.rtd\",,\"StudyData\", \"Close(\"&$D$12&\") when LocalYear(\"&$D$12&\")=\"&$D$6&\" and localMonth(\"&$D$12&\") =\"&$E$6&\" and LocalDay(\"&$D$12&\")=\"&$F$6&\" and Barix(\"&$D$12&\",reference:=StartOfDay)=\"&A41&\"\", \"Bar\", \"\", \"Close\",\"5\",\"0\",\"\",,,\"False\",\"T\",\"EveryTick\")","v":1306.2},2.0713463751438786E-3,{"$f":"RTD(\"cqg.rtd\",,\"StudyData\", \"Close(\"&$D$12&\") when LocalYear(\"&$D$12&\")=\"&$D$7&\" and localMonth(\"&$D$12&\") =\"&$E$7&\" and LocalDay(\"&$D$12&\")=\"&$F$7&\" and Barix(\"&$D$12&\",reference:=StartOfDay)=\"&A41&\"\", \"Bar\", \"\", \"Close\",\"5\",\"0\",\"\",,,\"False\",\"T\",\"EveryTick\")","v":1301.5},1.5369246138480404E-4,{"$f":"RTD(\"cqg.rtd\",,\"StudyData\", \"Close(\"&$D$12&\") when LocalYear(\"&$D$12&\")=\"&$D$8&\" and localMonth(\"&$D$12&\") =\"&$E$8&\" and LocalDay(\"&$D$12&\")=\"&$F$8&\" and Barix(\"&$D$12&\",reference:=StartOfDay)=\"&A41&\"\", \"Bar\", \"\", \"Close\",\"5\",\"0\",\"\",,,\"False\",\"T\",\"EveryTick\")","v":1302},1.0764262648009311E-3,{"$f":"RTD(\"cqg.rtd\",,\"StudyData\", \"Close(\"&$D$12&\") when LocalYear(\"&$D$12&\")=\"&$D$9&\" and localMonth(\"&$D$12&\") =\"&$E$9&\" and LocalDay(\"&$D$12&\")=\"&$F$9&\" and Barix(\"&$D$12&\",reference:=StartOfDay)=\"&A41&\"\", \"Bar\", \"\", \"Close\",\"5\",\"0\",\"\",,,\"False\",\"T\",\"EveryTick\")","v":1303.8},2.6145801291909132E-3,{"$f":"RTD(\"cqg.rtd\",,\"StudyData\", \"Close(\"&$D$12&\") when LocalYear(\"&$D$12&\")=\"&$D$10&\" and localMonth(\"&$D$12&\") =\"&$E$10&\" and LocalDay(\"&$D$12&\")=\"&$F$10&\" and Barix(\"&$D$12&\",reference:=StartOfDay)=\"&A41&\"\", \"Bar\", \"\", \"Close\",\"5\",\"0\",\"\",,,\"False\",\"T\",\"EveryTick\")","v":1299.0999999999999},2.4693263369085713E-3,null,null,null,""]
[209,"10:25:00",-36,{"$f":" RTD(\"cqg.rtd\",,\"StudyData\", $D$12,  \"Tick\", \"FlatTicks=0\", \"Tick\",\"D\",C42,\"\")","v":1283},null,"CPE",null,{"$f":"RTD(\"cqg.rtd\",,\"StudyData\", \"Close(\"&$D$12&\") when LocalYear(\"&$D$12&\")=\"&$D$1&\" and localMonth(\"&$D$12&\") =\"&$E$1&\" and LocalDay(\"&$D$12&\")=\"&$F$1&\" and Barix(\"&$D$12&\",reference:=StartOfDay)=\"&A42&\"\", \"Bar\", \"\", \"Close\",\"5\",\"0\",\"\",,,\"False\",\"T\",\"EveryTick\")","v":""},{"$error":"#N/A"},{"$f":"RTD(\"cqg.rtd\",,\"StudyData\", \"Close(\"&$D$12&\") when LocalYear(\"&$D$12&\")=\"&$D$2&\" and localMonth(\"&$D$12&\") =\"&$E$2&\" and LocalDay(\"&$D$12&\")=\"&$F$2&\" and Barix(\"&$D$12&\",reference:=StartOfDay)=\"&A42&\"\", \"Bar\", \"\", \"Close\",\"5\",\"0\",\"\",,,\"False\",\"T\",\"EveryTick\")","v":1283.0999999999999},-1.745922352400657E-2,{"$f":"RTD(\"cqg.rtd\",,\"StudyData\", \"Close(\"&$D$12&\") when LocalYear(\"&$D$12&\")=\"&$D$3&\" and localMonth(\"&$D$12&\") =\"&$E$3&\" and LocalDay(\"&$D$12&\")=\"&$F$3&\" and Barix(\"&$D$12&\",reference:=StartOfDay)=\"&A42&\"\", \"Bar\", \"\", \"Close\",\"5\",\"0\",\"\",,,\"False\",\"T\",\"EveryTick\")","v":1309.5999999999999},5.1423747025863978E-3,{"$f":"RTD(\"cqg.rtd\",,\"StudyData\", \"Close(\"&$D$12&\") when LocalYear(\"&$D$12&\")=\"&$D$4&\" and localMonth(\"&$D$12&\") =\"&$E$4&\" and LocalDay(\"&$D$12&\")=\"&$F$4&\" and Barix(\"&$D$12&\",reference:=StartOfDay)=\"&A42&\"\", \"Bar\", \"\", \"Close\",\"5\",\"0\",\"\",,,\"False\",\"T\",\"EveryTick\")","v":1302},1.8467220683287867E-3,{"$f":"RTD(\"cqg.rtd\",,\"StudyData\", \"Close(\"&$D$12&\") when LocalYear(\"&$D$12&\")=\"&$D$5&\" and localMonth(\"&$D$12&\") =\"&$E$5&\" and LocalDay(\"&$D$12&\")=\"&$F$5&\" and Barix(\"&$D$12&\",reference:=StartOfDay)=\"&A42&\"\", \"Bar\", \"\", \"Close\",\"5\",\"0\",\"\",,,\"False\",\"T\",\"EveryTick\")","v":1302.5999999999999},-1.379944802208051E-3,{"$f":"RTD(\"cqg.rtd\",,\"StudyData\", \"Close(\"&$D$12&\") when LocalYear(\"&$D$12&\")=\"&$D$6&\" and localMonth(\"&$D$12&\") =\"&$E$6&\" and LocalDay(\"&$D$12&\")=\"&$F$6&\" and Barix(\"&$D$12&\",reference:=StartOfDay)=\"&A42&\"\", \"Bar\", \"\", \"Close\",\"5\",\"0\",\"\",,,\"False\",\"T\",\"EveryTick\")","v":1305.7},1.6877637130802037E-3,{"$f":"RTD(\"cqg.rtd\",,\"StudyData\", \"Close(\"&$D$12&\") when LocalYear(\"&$D$12&\")=\"&$D$7&\" and localMonth(\"&$D$12&\") =\"&$E$7&\" and LocalDay(\"&$D$12&\")=\"&$F$7&\" and Barix(\"&$D$12&\",reference:=StartOfDay)=\"&A42&\"\", \"Bar\", \"\", \"Close\",\"5\",\"0\",\"\",,,\"False\",\"T\",\"EveryTick\")","v":1301.9000000000001},4.6107738415441206E-4,{"$f":"RTD(\"cqg.rtd\",,\"StudyData\", \"Close(\"&$D$12&\") when LocalYear(\"&$D$12&\")=\"&$D$8&\" and localMonth(\"&$D$12&\") =\"&$E$8&\" and LocalDay(\"&$D$12&\")=\"&$F$8&\" and Barix(\"&$D$12&\",reference:=StartOfDay)=\"&A42&\"\", \"Bar\", \"\", \"Close\",\"5\",\"0\",\"\",,,\"False\",\"T\",\"EveryTick\")","v":1302.3},1.3070890358296522E-3,{"$f":"RTD(\"cqg.rtd\",,\"StudyData\", \"Close(\"&$D$12&\") when LocalYear(\"&$D$12&\")=\"&$D$9&\" and localMonth(\"&$D$12&\") =\"&$E$9&\" and LocalDay(\"&$D$12&\")=\"&$F$9&\" and Barix(\"&$D$12&\",reference:=StartOfDay)=\"&A42&\"\", \"Bar\", \"\", \"Close\",\"5\",\"0\",\"\",,,\"False\",\"T\",\"EveryTick\")","v":1303.8},2.6145801291909132E-3,{"$f":"RTD(\"cqg.rtd\",,\"StudyData\", \"Close(\"&$D$12&\") when LocalYear(\"&$D$12&\")=\"&$D$10&\" and localMonth(\"&$D$12&\") =\"&$E$10&\" and LocalDay(\"&$D$12&\")=\"&$F$10&\" and Barix(\"&$D$12&\",reference:=StartOfDay)=\"&A42&\"\", \"Bar\", \"\", \"Close\",\"5\",\"0\",\"\",,,\"False\",\"T\",\"EveryTick\")","v":1299.7},2.9323250250790603E-3,null,null,null,""]
[210,"10:30:00",-35,{"$f":" RTD(\"cqg.rtd\",,\"StudyData\", $D$12,  \"Tick\", \"FlatTicks=0\", \"Tick\",\"D\",C43,\"\")","v":1282.9000000000001},null,null,null,{"$f":"RTD(\"cqg.rtd\",,\"StudyData\", \"Close(\"&$D$12&\") when LocalYear(\"&$D$12&\")=\"&$D$1&\" and localMonth(\"&$D$12&\") =\"&$E$1&\" and LocalDay(\"&$D$12&\")=\"&$F$1&\" and Barix(\"&$D$12&\",reference:=StartOfDay)=\"&A43&\"\", \"Bar\", \"\", \"Close\",\"5\",\"0\",\"\",,,\"False\",\"T\",\"EveryTick\")","v":""},{"$error":"#N/A"},{"$f":"RTD(\"cqg.rtd\",,\"StudyData\", \"Close(\"&$D$12&\") when LocalYear(\"&$D$12&\")=\"&$D$2&\" and localMonth(\"&$D$12&\") =\"&$E$2&\" and LocalDay(\"&$D$12&\")=\"&$F$2&\" and Barix(\"&$D$12&\",reference:=StartOfDay)=\"&A43&\"\", \"Bar\", \"\", \"Close\",\"5\",\"0\",\"\",,,\"False\",\"T\",\"EveryTick\")","v":1282.3},-1.8071827858182201E-2,{"$f":"RTD(\"cqg.rtd\",,\"StudyData\", \"Close(\"&$D$12&\") when LocalYear(\"&$D$12&\")=\"&$D$3&\" and localMonth(\"&$D$12&\") =\"&$E$3&\" and LocalDay(\"&$D$12&\")=\"&$F$3&\" and Barix(\"&$D$12&\",reference:=StartOfDay)=\"&A43&\"\", \"Bar\", \"\", \"Close\",\"5\",\"0\",\"\",,,\"False\",\"T\",\"EveryTick\")","v":1308.8},4.5283598127253532E-3,{"$f":"RTD(\"cqg.rtd\",,\"StudyData\", \"Close(\"&$D$12&\") when LocalYear(\"&$D$12&\")=\"&$D$4&\" and localMonth(\"&$D$12&\") =\"&$E$4&\" and LocalDay(\"&$D$12&\")=\"&$F$4&\" and Barix(\"&$D$12&\",reference:=StartOfDay)=\"&A43&\"\", \"Bar\", \"\", \"Close\",\"5\",\"0\",\"\",,,\"False\",\"T\",\"EveryTick\")","v":1302.2},2.0006155740228812E-3,{"$f":"RTD(\"cqg.rtd\",,\"StudyData\", \"Close(\"&$D$12&\") when LocalYear(\"&$D$12&\")=\"&$D$5&\" and localMonth(\"&$D$12&\") =\"&$E$5&\" and LocalDay(\"&$D$12&\")=\"&$F$5&\" and Barix(\"&$D$12&\",reference:=StartOfDay)=\"&A43&\"\", \"Bar\", \"\", \"Close\",\"5\",\"0\",\"\",,,\"False\",\"T\",\"EveryTick\")","v":1302.4000000000001},-1.5332720024532351E-3,{"$f":"RTD(\"cqg.rtd\",,\"StudyData\", \"Close(\"&$D$12&\") when LocalYear(\"&$D$12&\")=\"&$D$6&\" and localMonth(\"&$D$12&\") =\"&$E$6&\" and LocalDay(\"&$D$12&\")=\"&$F$6&\" and Barix(\"&$D$12&\",reference:=StartOfDay)=\"&A43&\"\", \"Bar\", \"\", \"Close\",\"5\",\"0\",\"\",,,\"False\",\"T\",\"EveryTick\")","v":1305.5999999999999},1.6110471806673641E-3,{"$f":"RTD(\"cqg.rtd\",,\"StudyData\", \"Close(\"&$D$12&\") when LocalYear(\"&$D$12&\")=\"&$D$7&\" and localMonth(\"&$D$12&\") =\"&$E$7&\" and LocalDay(\"&$D$12&\")=\"&$F$7&\" and Barix(\"&$D$12&\",reference:=StartOfDay)=\"&A43&\"\", \"Bar\", \"\", \"Close\",\"5\",\"0\",\"\",,,\"False\",\"T\",\"EveryTick\")","v":1302.4000000000001},8.4530853761633482E-4,{"$f":"RTD(\"cqg.rtd\",,\"StudyData\", \"Close(\"&$D$12&\") when LocalYear(\"&$D$12&\")=\"&$D$8&\" and localMonth(\"&$D$12&\") =\"&$E$8&\" and LocalDay(\"&$D$12&\")=\"&$F$8&\" and Barix(\"&$D$12&\",reference:=StartOfDay)=\"&A43&\"\", \"Bar\", \"\", \"Close\",\"5\",\"0\",\"\",,,\"False\",\"T\",\"EveryTick\")","v":1302.5},1.4608642165155243E-3,{"$f":"RTD(\"cqg.rtd\",,\"StudyData\", \"Close(\"&$D$12&\") when LocalYear(\"&$D$12&\")=\"&$D$9&\" and localMonth(\"&$D$12&\") =\"&$E$9&\" and LocalDay(\"&$D$12&\")=\"&$F$9&\" and Barix(\"&$D$12&\",reference:=StartOfDay)=\"&A43&\"\", \"Bar\", \"\", \"Close\",\"5\",\"0\",\"\",,,\"False\",\"T\",\"EveryTick\")","v":1303.9000000000001},2.6914795447554596E-3,{"$f":"RTD(\"cqg.rtd\",,\"StudyData\", \"Close(\"&$D$12&\") when LocalYear(\"&$D$12&\")=\"&$D$10&\" and localMonth(\"&$D$12&\") =\"&$E$10&\" and LocalDay(\"&$D$12&\")=\"&$F$10&\" and Barix(\"&$D$12&\",reference:=StartOfDay)=\"&A43&\"\", \"Bar\", \"\", \"Close\",\"5\",\"0\",\"\",,,\"False\",\"T\",\"EveryTick\")","v":1300.4000000000001},3.472490161277876E-3,null,null,null,""]
[211,"10:35:00",-34,{"$f":" RTD(\"cqg.rtd\",,\"StudyData\", $D$12,  \"Tick\", \"FlatTicks=0\", \"Tick\",\"D\",C44,\"\")","v":1283},null,null,null,{"$f":"RTD(\"cqg.rtd\",,\"StudyData\", \"Close(\"&$D$12&\") when LocalYear(\"&$D$12&\")=\"&$D$1&\" and localMonth(\"&$D$12&\") =\"&$E$1&\" and LocalDay(\"&$D$12&\")=\"&$F$1&\" and Barix(\"&$D$12&\",reference:=StartOfDay)=\"&A44&\"\", \"Bar\", \"\", \"Close\",\"5\",\"0\",\"\",,,\"False\",\"T\",\"EveryTick\")","v":""},{"$error":"#N/A"},{"$f":"RTD(\"cqg.rtd\",,\"StudyData\", \"Close(\"&$D$12&\") when LocalYear(\"&$D$12&\")=\"&$D$2&\" and localMonth(\"&$D$12&\") =\"&$E$2&\" and LocalDay(\"&$D$12&\")=\"&$F$2&\" and Barix(\"&$D$12&\",reference:=StartOfDay)=\"&A44&\"\", \"Bar\", \"\", \"Close\",\"5\",\"0\",\"\",,,\"False\",\"T\",\"EveryTick\")","v":1281.4000000000001},-1.8761007734129719E-2,{"$f":"RTD(\"cqg.rtd\",,\"StudyData\", \"Close(\"&$D$12&\") when LocalYear(\"&$D$12&\")=\"&$D$3&\" and localMonth(\"&$D$12&\") =\"&$E$3&\" and LocalDay(\"&$D$12&\")=\"&$F$3&\" and Barix(\"&$D$12&\",reference:=StartOfDay)=\"&A44&\"\", \"Bar\", \"\", \"Close\",\"5\",\"0\",\"\",,,\"False\",\"T\",\"EveryTick\")","v":1308.5},4.2981042290274841E-3,{"$f":"RTD(\"cqg.rtd\",,\"StudyData\", \"Close(\"&$D$12&\") when LocalYear(\"&$D$12&\")=\"&$D$4&\" and localMonth(\"&$D$12&\") =\"&$E$4&\" and LocalDay(\"&$D$12&\")=\"&$F$4&\" and Barix(\"&$D$12&\",reference:=StartOfDay)=\"&A44&\"\", \"Bar\", \"\", \"Close\",\"5\",\"0\",\"\",,,\"False\",\"T\",\"EveryTick\")","v":1302.0999999999999},1.9236688211757464E-3,{"$f":"RTD(\"cqg.rtd\",,\"StudyData\", \"Close(\"&$D$12&\") when LocalYear(\"&$D$12&\")=\"&$D$5&\" and localMonth(\"&$D$12&\") =\"&$E$5&\" and LocalDay(\"&$D$12&\")=\"&$F$5&\" and Barix(\"&$D$12&\",reference:=StartOfDay)=\"&A44&\"\", \"Bar\", \"\", \"Close\",\"5\",\"0\",\"\",,,\"False\",\"T\",\"EveryTick\")","v":1302.4000000000001},-1.5332720024532351E-3,{"$f":"RTD(\"cqg.rtd\",,\"StudyData\", \"Close(\"&$D$12&\") when LocalYear(\"&$D$12&\")=\"&$D$6&\" and localMonth(\"&$D$12&\") =\"&$E$6&\" and LocalDay(\"&$D$12&\")=\"&$F$6&\" and Barix(\"&$D$12&\",reference:=StartOfDay)=\"&A44&\"\", \"Bar\", \"\", \"Close\",\"5\",\"0\",\"\",,,\"False\",\"T\",\"EveryTick\")","v":1305.8},1.7644802454928688E-3,{"$f":"RTD(\"cqg.rtd\",,\"StudyData\", \"Close(\"&$D$12&\") when LocalYear(\"&$D$12&\")=\"&$D$7&\" and localMonth(\"&$D$12&\") =\"&$E$7&\" and LocalDay(\"&$D$12&\")=\"&$F$7&\" and Barix(\"&$D$12&\",reference:=StartOfDay)=\"&A44&\"\", \"Bar\", \"\", \"Close\",\"5\",\"0\",\"\",,,\"False\",\"T\",\"EveryTick\")","v":1302.4000000000001},8.4530853761633482E-4,{"$f":"RTD(\"cqg.rtd\",,\"StudyData\", \"Close(\"&$D$12&\") when LocalYear(\"&$D$12&\")=\"&$D$8&\" and localMonth(\"&$D$12&\") =\"&$E$8&\" and LocalDay(\"&$D$12&\")=\"&$F$8&\" and Barix(\"&$D$12&\",reference:=StartOfDay)=\"&A44&\"\", \"Bar\", \"\", \"Close\",\"5\",\"0\",\"\",,,\"False\",\"T\",\"EveryTick\")","v":1302.3},1.3070890358296522E-3,{"$f":"RTD(\"cqg.rtd\",,\"StudyData\", \"Close(\"&$D$12&\") when LocalYear(\"&$D$12&\")=\"&$D$9&\" and localMonth(\"&$D$12&\") =\"&$E$9&\" and LocalDay(\"&$D$12&\")=\"&$F$9&\" and Barix(\"&$D$12&\",reference:=StartOfDay)=\"&A44&\"\", \"Bar\", \"\", \"Close\",\"5\",\"0\",\"\",,,\"False\",\"T\",\"EveryTick\")","v":1304.0999999999999},2.8452783758842032E-3,{"$f":"RTD(\"cqg.rtd\",,\"StudyData\", \"Close(\"&$D$12&\") when LocalYear(\"&$D$12&\")=\"&$D$10&\" and localMonth(\"&$D$12&\") =\"&$E$10&\" and LocalDay(\"&$D$12&\")=\"&$F$10&\" and Barix(\"&$D$12&\",reference:=StartOfDay)=\"&A44&\"\", \"Bar\", \"\", \"Close\",\"5\",\"0\",\"\",,,\"False\",\"T\",\"EveryTick\")","v":1300.9000000000001},3.8583224014198622E-3,null,null,null,""]
[212,"10:40:00",-33,{"$f":" RTD(\"cqg.rtd\",,\"StudyData\", $D$12,  \"Tick\", \"FlatTicks=0\", \"Tick\",\"D\",C45,\"\")","v":1282.9000000000001},null,null,null,{"$f":"RTD(\"cqg.rtd\",,\"StudyData\", \"Close(\"&$D$12&\") when LocalYear(\"&$D$12&\")=\"&$D$1&\" and localMonth(\"&$D$12&\") =\"&$E$1&\" and LocalDay(\"&$D$12&\")=\"&$F$1&\" and Barix(\"&$D$12&\",reference:=StartOfDay)=\"&A45&\"\", \"Bar\", \"\", \"Close\",\"5\",\"0\",\"\",,,\"False\",\"T\",\"EveryTick\")","v":""},{"$error":"#N/A"},{"$f":"RTD(\"cqg.rtd\",,\"StudyData\", \"Close(\"&$D$12&\") when LocalYear(\"&$D$12&\")=\"&$D$2&\" and localMonth(\"&$D$12&\") =\"&$E$2&\" and LocalDay(\"&$D$12&\")=\"&$F$2&\" and Barix(\"&$D$12&\",reference:=StartOfDay)=\"&A45&\"\", \"Bar\", \"\", \"Close\",\"5\",\"0\",\"\",,,\"False\",\"T\",\"EveryTick\")","v":1281.4000000000001},-1.8761007734129719E-2,{"$f":"RTD(\"cqg.rtd\",,\"StudyData\", \"Close(\"&$D$12&\") when LocalYear(\"&$D$12&\")=\"&$D$3&\" and localMonth(\"&$D$12&\") =\"&$E$3&\" and LocalDay(\"&$D$12&\")=\"&$F$3&\" and Barix(\"&$D$12&\",reference:=StartOfDay)=\"&A45&\"\", \"Bar\", \"\", \"Close\",\"5\",\"0\",\"\",,,\"False\",\"T\",\"EveryTick\")","v":1308.5},4.2981042290274841E-3,{"$f":"RTD(\"cqg.rtd\",,\"StudyData\", \"Close(\"&$D$12&\") when LocalYear(\"&$D$12&\")=\"&$D$4&\" and localMonth(\"&$D$12&\") =\"&$E$4&\" and LocalDay(\"&$D$12&\")=\"&$F$4&\" and Barix(\"&$D$12&\",reference:=StartOfDay)=\"&A45&\"\", \"Bar\", \"\", \"Close\",\"5\",\"0\",\"\",,,\"False\",\"T\",\"EveryTick\")","v":1301.9000000000001},1.7697753154818268E-3,{"$f":"RTD(\"cqg.rtd\",,\"StudyData\", \"Close(\"&$D$12&\") when LocalYear(\"&$D$12&\")=\"&$D$5&\" and localMonth(\"&$D$12&\") =\"&$E$5&\" and LocalDay(\"&$D$12&\")=\"&$F$5&\" and Barix(\"&$D$12&\",reference:=StartOfDay)=\"&A45&\"\", \"Bar\", \"\", \"Close\",\"5\",\"0\",\"\",,,\"False\",\"T\",\"EveryTick\")","v":1302.3},-1.6099356025760015E-3,{"$f":"RTD(\"cqg.rtd\",,\"StudyData\", \"Close(\"&$D$12&\") when LocalYear(\"&$D$12&\")=\"&$D$6&\" and localMonth(\"&$D$12&\") =\"&$E$6&\" and LocalDay(\"&$D$12&\")=\"&$F$6&\" and Barix(\"&$D$12&\",reference:=StartOfDay)=\"&A45&\"\", \"Bar\", \"\", \"Close\",\"5\",\"0\",\"\",,,\"False\",\"T\",\"EveryTick\")","v":1305.7},1.6877637130802037E-3,{"$f":"RTD(\"cqg.rtd\",,\"StudyData\", \"Close(\"&$D$12&\") when LocalYear(\"&$D$12&\")=\"&$D$7&\" and localMonth(\"&$D$12&\") =\"&$E$7&\" and LocalDay(\"&$D$12&\")=\"&$F$7&\" and Barix(\"&$D$12&\",reference:=StartOfDay)=\"&A45&\"\", \"Bar\", \"\", \"Close\",\"5\",\"0\",\"\",,,\"False\",\"T\",\"EveryTick\")","v":1302.7},1.0758472296934535E-3,{"$f":"RTD(\"cqg.rtd\",,\"StudyData\", \"Close(\"&$D$12&\") when LocalYear(\"&$D$12&\")=\"&$D$8&\" and localMonth(\"&$D$12&\") =\"&$E$8&\" and LocalDay(\"&$D$12&\")=\"&$F$8&\" and Barix(\"&$D$12&\",reference:=StartOfDay)=\"&A45&\"\", \"Bar\", \"\", \"Close\",\"5\",\"0\",\"\",,,\"False\",\"T\",\"EveryTick\")","v":1302.5},1.4608642165155243E-3,{"$f":"RTD(\"cqg.rtd\",,\"StudyData\", \"Close(\"&$D$12&\") when LocalYear(\"&$D$12&\")=\"&$D$9&\" and localMonth(\"&$D$12&\") =\"&$E$9&\" and LocalDay(\"&$D$12&\")=\"&$F$9&\" and Barix(\"&$D$12&\",reference:=StartOfDay)=\"&A45&\"\", \"Bar\", \"\", \"Close\",\"5\",\"0\",\"\",,,\"False\",\"T\",\"EveryTick\")","v":1304.0999999999999},2.8452783758842032E-3,{"$f":"RTD(\"cqg.rtd\",,\"StudyData\", \"Close(\"&$D$12&\") when LocalYear(\"&$D$12&\")=\"&$D$10&\" and localMonth(\"&$D$12&\") =\"&$E$10&\" and LocalDay(\"&$D$12&\")=\"&$F$10&\" and Barix(\"&$D$12&\",reference:=StartOfDay)=\"&A45&\"\", \"Bar\", \"\", \"Close\",\"5\",\"0\",\"\",,,\"False\",\"T\",\"EveryTick\")","v":1301.5999999999999},4.3984875376185031E-3,null,null,null,""]
[213,"10:45:00",-32,{"$f":" RTD(\"cqg.rtd\",,\"StudyData\", $D$12,  \"Tick\", \"FlatTicks=0\", \"Tick\",\"D\",C46,\"\")","v":1282.8},null,null,null,{"$f":"RTD(\"cqg.rtd\",,\"StudyData\", \"Close(\"&$D$12&\") when LocalYear(\"&$D$12&\")=\"&$D$1&\" and localMonth(\"&$D$12&\") =\"&$E$1&\" and LocalDay(\"&$D$12&\")=\"&$F$1&\" and Barix(\"&$D$12&\",reference:=StartOfDay)=\"&A46&\"\", \"Bar\", \"\", \"Close\",\"5\",\"0\",\"\",,,\"False\",\"T\",\"EveryTick\")","v":""},{"$error":"#N/A"},{"$f":"RTD(\"cqg.rtd\",,\"StudyData\", \"Close(\"&$D$12&\") when LocalYear(\"&$D$12&\")=\"&$D$2&\" and localMonth(\"&$D$12&\") =\"&$E$2&\" and LocalDay(\"&$D$12&\")=\"&$F$2&\" and Barix(\"&$D$12&\",reference:=StartOfDay)=\"&A46&\"\", \"Bar\", \"\", \"Close\",\"5\",\"0\",\"\",,,\"False\",\"T\",\"EveryTick\")","v":1280.9000000000001},-1.9143885442989509E-2,{"$f":"RTD(\"cqg.rtd\",,\"StudyData\", \"Close(\"&$D$12&\") when LocalYear(\"&$D$12&\")=\"&$D$3&\" and localMonth(\"&$D$12&\") =\"&$E$3&\" and LocalDay(\"&$D$12&\")=\"&$F$3&\" and Barix(\"&$D$12&\",reference:=StartOfDay)=\"&A46&\"\", \"Bar\", \"\", \"Close\",\"5\",\"0\",\"\",,,\"False\",\"T\",\"EveryTick\")","v":1308.0999999999999},3.9910967840968746E-3,{"$f":"RTD(\"cqg.rtd\",,\"StudyData\", \"Close(\"&$D$12&\") when LocalYear(\"&$D$12&\")=\"&$D$4&\" and localMonth(\"&$D$12&\") =\"&$E$4&\" and LocalDay(\"&$D$12&\")=\"&$F$4&\" and Barix(\"&$D$12&\",reference:=StartOfDay)=\"&A46&\"\", \"Bar\", \"\", \"Close\",\"5\",\"0\",\"\",,,\"False\",\"T\",\"EveryTick\")","v":1301.9000000000001},1.7697753154818268E-3,{"$f":"RTD(\"cqg.rtd\",,\"StudyData\", \"Close(\"&$D$12&\") when LocalYear(\"&$D$12&\")=\"&$D$5&\" and localMonth(\"&$D$12&\") =\"&$E$5&\" and LocalDay(\"&$D$12&\")=\"&$F$5&\" and Barix(\"&$D$12&\",reference:=StartOfDay)=\"&A46&\"\", \"Bar\", \"\", \"Close\",\"5\",\"0\",\"\",,,\"False\",\"T\",\"EveryTick\")","v":1301.9000000000001},-1.9165900030665439E-3,{"$f":"RTD(\"cqg.rtd\",,\"StudyData\", \"Close(\"&$D$12&\") when LocalYear(\"&$D$12&\")=\"&$D$6&\" and localMonth(\"&$D$12&\") =\"&$E$6&\" and LocalDay(\"&$D$12&\")=\"&$F$6&\" and Barix(\"&$D$12&\",reference:=StartOfDay)=\"&A46&\"\", \"Bar\", \"\", \"Close\",\"5\",\"0\",\"\",,,\"False\",\"T\",\"EveryTick\")","v":1305.4000000000001},1.4576141158420338E-3,{"$f":"RTD(\"cqg.rtd\",,\"StudyData\", \"Close(\"&$D$12&\") when LocalYear(\"&$D$12&\")=\"&$D$7&\" and localMonth(\"&$D$12&\") =\"&$E$7&\" and LocalDay(\"&$D$12&\")=\"&$F$7&\" and Barix(\"&$D$12&\",reference:=StartOfDay)=\"&A46&\"\", \"Bar\", \"\", \"Close\",\"5\",\"0\",\"\",,,\"False\",\"T\",\"EveryTick\")","v":1302.7},1.0758472296934535E-3,{"$f":"RTD(\"cqg.rtd\",,\"StudyData\", \"Close(\"&$D$12&\") when LocalYear(\"&$D$12&\")=\"&$D$8&\" and localMonth(\"&$D$12&\") =\"&$E$8&\" and LocalDay(\"&$D$12&\")=\"&$F$8&\" and Barix(\"&$D$12&\",reference:=StartOfDay)=\"&A46&\"\", \"Bar\", \"\", \"Close\",\"5\",\"0\",\"\",,,\"False\",\"T\",\"EveryTick\")","v":1302.2},1.2302014454868035E-3,{"$f":"RTD(\"cqg.rtd\",,\"StudyData\", \"Close(\"&$D$12&\") when LocalYear(\"&$D$12&\")=\"&$D$9&\" and localMonth(\"&$D$12&\") =\"&$E$9&\" and LocalDay(\"&$D$12&\")=\"&$F$9&\" and Barix(\"&$D$12&\",reference:=StartOfDay)=\"&A46&\"\", \"Bar\", \"\", \"Close\",\"5\",\"0\",\"\",,,\"False\",\"T\",\"EveryTick\")","v":1304.7},3.3066748692709585E-3,{"$f":"RTD(\"cqg.rtd\",,\"StudyData\", \"Close(\"&$D$12&\") when LocalYear(\"&$D$12&\")=\"&$D$10&\" and localMonth(\"&$D$12&\") =\"&$E$10&\" and LocalDay(\"&$D$12&\")=\"&$F$10&\" and Barix(\"&$D$12&\",reference:=StartOfDay)=\"&A46&\"\", \"Bar\", \"\", \"Close\",\"5\",\"0\",\"\",,,\"False\",\"T\",\"EveryTick\")","v":1300.9000000000001},3.8583224014198622E-3,null,null,null,""]
[214,"10:50:00",-31,{"$f":" RTD(\"cqg.rtd\",,\"StudyData\", $D$12,  \"Tick\", \"FlatTicks=0\", \"Tick\",\"D\",C47,\"\")","v":1282.7},null,null,null,{"$f":"RTD(\"cqg.rtd\",,\"StudyData\", \"Close(\"&$D$12&\") when LocalYear(\"&$D$12&\")=\"&$D$1&\" and localMonth(\"&$D$12&\") =\"&$E$1&\" and LocalDay(\"&$D$12&\")=\"&$F$1&\" and Barix(\"&$D$12&\",reference:=StartOfDay)=\"&A47&\"\", \"Bar\", \"\", \"Close\",\"5\",\"0\",\"\",,,\"False\",\"T\",\"EveryTick\")","v":""},{"$error":"#N/A"},{"$f":"RTD(\"cqg.rtd\",,\"StudyData\", \"Close(\"&$D$12&\") when LocalYear(\"&$D$12&\")=\"&$D$2&\" and localMonth(\"&$D$12&\") =\"&$E$2&\" and LocalDay(\"&$D$12&\")=\"&$F$2&\" and Barix(\"&$D$12&\",reference:=StartOfDay)=\"&A47&\"\", \"Bar\", \"\", \"Close\",\"5\",\"0\",\"\",,,\"False\",\"T\",\"EveryTick\")","v":1281},-1.9067309901217619E-2,{"$f":"RTD(\"cqg.rtd\",,\"StudyData\", \"Close(\"&$D$12&\") when LocalYear(\"&$D$12&\")=\"&$D$3&\" and localMonth(\"&$D$12&\") =\"&$E$3&\" and LocalDay(\"&$D$12&\")=\"&$F$3&\" and Barix(\"&$D$12&\",reference:=StartOfDay)=\"&A47&\"\", \"Bar\", \"\", \"Close\",\"5\",\"0\",\"\",,,\"False\",\"T\",\"EveryTick\")","v":1308},3.9143449228643094E-3,{"$f":"RTD(\"cqg.rtd\",,\"StudyData\", \"Close(\"&$D$12&\") when LocalYear(\"&$D$12&\")=\"&$D$4&\" and localMonth(\"&$D$12&\") =\"&$E$4&\" and LocalDay(\"&$D$12&\")=\"&$F$4&\" and Barix(\"&$D$12&\",reference:=StartOfDay)=\"&A47&\"\", \"Bar\", \"\", \"Close\",\"5\",\"0\",\"\",,,\"False\",\"T\",\"EveryTick\")","v":1301.5999999999999},1.5389350569405972E-3,{"$f":"RTD(\"cqg.rtd\",,\"StudyData\", \"Close(\"&$D$12&\") when LocalYear(\"&$D$12&\")=\"&$D$5&\" and localMonth(\"&$D$12&\") =\"&$E$5&\" and LocalDay(\"&$D$12&\")=\"&$F$5&\" and Barix(\"&$D$12&\",reference:=StartOfDay)=\"&A47&\"\", \"Bar\", \"\", \"Close\",\"5\",\"0\",\"\",,,\"False\",\"T\",\"EveryTick\")","v":1302},-1.8399264029439518E-3,{"$f":"RTD(\"cqg.rtd\",,\"StudyData\", \"Close(\"&$D$12&\") when LocalYear(\"&$D$12&\")=\"&$D$6&\" and localMonth(\"&$D$12&\") =\"&$E$6&\" and LocalDay(\"&$D$12&\")=\"&$F$6&\" and Barix(\"&$D$12&\",reference:=StartOfDay)=\"&A47&\"\", \"Bar\", \"\", \"Close\",\"5\",\"0\",\"\",,,\"False\",\"T\",\"EveryTick\")","v":1305.2},1.3041810510165289E-3,{"$f":"RTD(\"cqg.rtd\",,\"StudyData\", \"Close(\"&$D$12&\") when LocalYear(\"&$D$12&\")=\"&$D$7&\" and localMonth(\"&$D$12&\") =\"&$E$7&\" and LocalDay(\"&$D$12&\")=\"&$F$7&\" and Barix(\"&$D$12&\",reference:=StartOfDay)=\"&A47&\"\", \"Bar\", \"\", \"Close\",\"5\",\"0\",\"\",,,\"False\",\"T\",\"EveryTick\")","v":1302.7},1.0758472296934535E-3,{"$f":"RTD(\"cqg.rtd\",,\"StudyData\", \"Close(\"&$D$12&\") when LocalYear(\"&$D$12&\")=\"&$D$8&\" and localMonth(\"&$D$12&\") =\"&$E$8&\" and LocalDay(\"&$D$12&\")=\"&$F$8&\" and Barix(\"&$D$12&\",reference:=StartOfDay)=\"&A47&\"\", \"Bar\", \"\", \"Close\",\"5\",\"0\",\"\",,,\"False\",\"T\",\"EveryTick\")","v":1302.5999999999999},1.5377518068583733E-3,{"$f":"RTD(\"cqg.rtd\",,\"StudyData\", \"Close(\"&$D$12&\") when LocalYear(\"&$D$12&\")=\"&$D$9&\" and localMonth(\"&$D$12&\") =\"&$E$9&\" and LocalDay(\"&$D$12&\")=\"&$F$9&\" and Barix(\"&$D$12&\",reference:=StartOfDay)=\"&A47&\"\", \"Bar\", \"\", \"Close\",\"5\",\"0\",\"\",,,\"False\",\"T\",\"EveryTick\")","v":1304.3},2.9990772070131217E-3,{"$f":"RTD(\"cqg.rtd\",,\"StudyData\", \"Close(\"&$D$12&\") when LocalYear(\"&$D$12&\")=\"&$D$10&\" and localMonth(\"&$D$12&\") =\"&$E$10&\" and LocalDay(\"&$D$12&\")=\"&$F$10&\" and Barix(\"&$D$12&\",reference:=StartOfDay)=\"&A47&\"\", \"Bar\", \"\", \"Close\",\"5\",\"0\",\"\",,,\"False\",\"T\",\"EveryTick\")","v":1300.5},3.5496566093062031E-3,null,null,null,""]
[215,"10:55:00",-30,{"$f":" RTD(\"cqg.rtd\",,\"StudyData\", $D$12,  \"Tick\", \"FlatTicks=0\", \"Tick\",\"D\",C48,\"\")","v":1282.8},null,null,null,{"$f":"RTD(\"cqg.rtd\",,\"StudyData\", \"Close(\"&$D$12&\") when LocalYear(\"&$D$12&\")=\"&$D$1&\" and localMonth(\"&$D$12&\") =\"&$E$1&\" and LocalDay(\"&$D$12&\")=\"&$F$1&\" and Barix(\"&$D$12&\",reference:=StartOfDay)=\"&A48&\"\", \"Bar\", \"\", \"Close\",\"5\",\"0\",\"\",,,\"False\",\"T\",\"EveryTick\")","v":""},{"$error":"#N/A"},{"$f":"RTD(\"cqg.rtd\",,\"StudyData\", \"Close(\"&$D$12&\") when LocalYear(\"&$D$12&\")=\"&$D$2&\" and localMonth(\"&$D$12&\") =\"&$E$2&\" and LocalDay(\"&$D$12&\")=\"&$F$2&\" and Barix(\"&$D$12&\",reference:=StartOfDay)=\"&A48&\"\", \"Bar\", \"\", \"Close\",\"5\",\"0\",\"\",,,\"False\",\"T\",\"EveryTick\")","v":1280.5},-1.9450187610077409E-2,{"$f":"RTD(\"cqg.rtd\",,\"StudyData\", \"Close(\"&$D$12&\") when LocalYear(\"&$D$12&\")=\"&$D$3&\" and localMonth(\"&$D$12&\") =\"&$E$3&\" and LocalDay(\"&$D$12&\")=\"&$F$3&\" and Barix(\"&$D$12&\",reference:=StartOfDay)=\"&A48&\"\", \"Bar\", \"\", \"Close\",\"5\",\"0\",\"\",,,\"False\",\"T\",\"EveryTick\")","v":1308},3.9143449228643094E-3,{"$f":"RTD(\"cqg.rtd\",,\"StudyData\", \"Close(\"&$D$12&\") when LocalYear(\"&$D$12&\")=\"&$D$4&\" and localMonth(\"&$D$12&\") =\"&$E$4&\" and LocalDay(\"&$D$12&\")=\"&$F$4&\" and Barix(\"&$D$12&\",reference:=StartOfDay)=\"&A48&\"\", \"Bar\", \"\", \"Close\",\"5\",\"0\",\"\",,,\"False\",\"T\",\"EveryTick\")","v":1301.5},1.4619883040936374E-3,{"$f":"RTD(\"cqg.rtd\",,\"StudyData\", \"Close(\"&$D$12&\") when LocalYear(\"&$D$12&\")=\"&$D$5&\" and localMonth(\"&$D$12&\") =\"&$E$5&\" and LocalDay(\"&$D$12&\")=\"&$F$5&\" and Barix(\"&$D$12&\",reference:=StartOfDay)=\"&A48&\"\", \"Bar\", \"\", \"Close\",\"5\",\"0\",\"\",,,\"False\",\"T\",\"EveryTick\")","v":1301.8},-1.9932536031893101E-3,{"$f":"RTD(\"cqg.rtd\",,\"StudyData\", \"Close(\"&$D$12&\") when LocalYear(\"&$D$12&\")=\"&$D$6&\" and localMonth(\"&$D$12&\") =\"&$E$6&\" and LocalDay(\"&$D$12&\")=\"&$F$6&\" and Barix(\"&$D$12&\",reference:=StartOfDay)=\"&A48&\"\", \"Bar\", \"\", \"Close\",\"5\",\"0\",\"\",,,\"False\",\"T\",\"EveryTick\")","v":1305.5},1.5343306482546988E-3,{"$f":"RTD(\"cqg.rtd\",,\"StudyData\", \"Close(\"&$D$12&\") when LocalYear(\"&$D$12&\")=\"&$D$7&\" and localMonth(\"&$D$12&\") =\"&$E$7&\" and LocalDay(\"&$D$12&\")=\"&$F$7&\" and Barix(\"&$D$12&\",reference:=StartOfDay)=\"&A48&\"\", \"Bar\", \"\", \"Close\",\"5\",\"0\",\"\",,,\"False\",\"T\",\"EveryTick\")","v":1303},1.3063859217705722E-3,{"$f":"RTD(\"cqg.rtd\",,\"StudyData\", \"Close(\"&$D$12&\") when LocalYear(\"&$D$12&\")=\"&$D$8&\" and localMonth(\"&$D$12&\") =\"&$E$8&\" and LocalDay(\"&$D$12&\")=\"&$F$8&\" and Barix(\"&$D$12&\",reference:=StartOfDay)=\"&A48&\"\", \"Bar\", \"\", \"Close\",\"5\",\"0\",\"\",,,\"False\",\"T\",\"EveryTick\")","v":1302.2},1.2302014454868035E-3,{"$f":"RTD(\"cqg.rtd\",,\"StudyData\", \"Close(\"&$D$12&\") when LocalYear(\"&$D$12&\")=\"&$D$9&\" and localMonth(\"&$D$12&\") =\"&$E$9&\" and LocalDay(\"&$D$12&\")=\"&$F$9&\" and Barix(\"&$D$12&\",reference:=StartOfDay)=\"&A48&\"\", \"Bar\", \"\", \"Close\",\"5\",\"0\",\"\",,,\"False\",\"T\",\"EveryTick\")","v":1304.2},2.9221777914487496E-3,{"$f":"RTD(\"cqg.rtd\",,\"StudyData\", \"Close(\"&$D$12&\") when LocalYear(\"&$D$12&\")=\"&$D$10&\" and localMonth(\"&$D$12&\") =\"&$E$10&\" and LocalDay(\"&$D$12&\")=\"&$F$10&\" and Barix(\"&$D$12&\",reference:=StartOfDay)=\"&A48&\"\", \"Bar\", \"\", \"Close\",\"5\",\"0\",\"\",,,\"False\",\"T\",\"EveryTick\")","v":1301.2},4.0898217455050193E-3,null,null,null,""]
[216,"11:00:00",-29,{"$f":" RTD(\"cqg.rtd\",,\"StudyData\", $D$12,  \"Tick\", \"FlatTicks=0\", \"Tick\",\"D\",C49,\"\")","v":1282.7},null,null,null,{"$f":"RTD(\"cqg.rtd\",,\"StudyData\", \"Close(\"&$D$12&\") when LocalYear(\"&$D$12&\")=\"&$D$1&\" and localMonth(\"&$D$12&\") =\"&$E$1&\" and LocalDay(\"&$D$12&\")=\"&$F$1&\" and Barix(\"&$D$12&\",reference:=StartOfDay)=\"&A49&\"\", \"Bar\", \"\", \"Close\",\"5\",\"0\",\"\",,,\"False\",\"T\",\"EveryTick\")","v":""},{"$error":"#N/A"},{"$f":"RTD(\"cqg.rtd\",,\"StudyData\", \"Close(\"&$D$12&\") when LocalYear(\"&$D$12&\")=\"&$D$2&\" and localMonth(\"&$D$12&\") =\"&$E$2&\" and LocalDay(\"&$D$12&\")=\"&$F$2&\" and Barix(\"&$D$12&\",reference:=StartOfDay)=\"&A49&\"\", \"Bar\", \"\", \"Close\",\"5\",\"0\",\"\",,,\"False\",\"T\",\"EveryTick\")","v":1281.0999999999999},-1.8990734359445732E-2,{"$f":"RTD(\"cqg.rtd\",,\"StudyData\", \"Close(\"&$D$12&\") when LocalYear(\"&$D$12&\")=\"&$D$3&\" and localMonth(\"&$D$12&\") =\"&$E$3&\" and LocalDay(\"&$D$12&\")=\"&$F$3&\" and Barix(\"&$D$12&\",reference:=StartOfDay)=\"&A49&\"\", \"Bar\", \"\", \"Close\",\"5\",\"0\",\"\",,,\"False\",\"T\",\"EveryTick\")","v":1308.2},4.0678486453296142E-3,{"$f":"RTD(\"cqg.rtd\",,\"StudyData\", \"Close(\"&$D$12&\") when LocalYear(\"&$D$12&\")=\"&$D$4&\" and localMonth(\"&$D$12&\") =\"&$E$4&\" and LocalDay(\"&$D$12&\")=\"&$F$4&\" and Barix(\"&$D$12&\",reference:=StartOfDay)=\"&A49&\"\", \"Bar\", \"\", \"Close\",\"5\",\"0\",\"\",,,\"False\",\"T\",\"EveryTick\")","v":1301.7},1.6158818097877321E-3,{"$f":"RTD(\"cqg.rtd\",,\"StudyData\", \"Close(\"&$D$12&\") when LocalYear(\"&$D$12&\")=\"&$D$5&\" and localMonth(\"&$D$12&\") =\"&$E$5&\" and LocalDay(\"&$D$12&\")=\"&$F$5&\" and Barix(\"&$D$12&\",reference:=StartOfDay)=\"&A49&\"\", \"Bar\", \"\", \"Close\",\"5\",\"0\",\"\",,,\"False\",\"T\",\"EveryTick\")","v":1301.3},-2.3765716038026191E-3,{"$f":"RTD(\"cqg.rtd\",,\"StudyData\", \"Close(\"&$D$12&\") when LocalYear(\"&$D$12&\")=\"&$D$6&\" and localMonth(\"&$D$12&\") =\"&$E$6&\" and LocalDay(\"&$D$12&\")=\"&$F$6&\" and Barix(\"&$D$12&\",reference:=StartOfDay)=\"&A49&\"\", \"Bar\", \"\", \"Close\",\"5\",\"0\",\"\",,,\"False\",\"T\",\"EveryTick\")","v":1305.5},1.5343306482546988E-3,{"$f":"RTD(\"cqg.rtd\",,\"StudyData\", \"Close(\"&$D$12&\") when LocalYear(\"&$D$12&\")=\"&$D$7&\" and localMonth(\"&$D$12&\") =\"&$E$7&\" and LocalDay(\"&$D$12&\")=\"&$F$7&\" and Barix(\"&$D$12&\",reference:=StartOfDay)=\"&A49&\"\", \"Bar\", \"\", \"Close\",\"5\",\"0\",\"\",,,\"False\",\"T\",\"EveryTick\")","v":1302.9000000000001},1.2295396910782575E-3,{"$f":"RTD(\"cqg.rtd\",,\"StudyData\", \"Close(\"&$D$12&\") when LocalYear(\"&$D$12&\")=\"&$D$8&\" and localMonth(\"&$D$12&\") =\"&$E$8&\" and LocalDay(\"&$D$12&\")=\"&$F$8&\" and Barix(\"&$D$12&\",reference:=StartOfDay)=\"&A49&\"\", \"Bar\", \"\", \"Close\",\"5\",\"0\",\"\",,,\"False\",\"T\",\"EveryTick\")","v":1301.7},8.457634937722101E-4,{"$f":"RTD(\"cqg.rtd\",,\"StudyData\", \"Close(\"&$D$12&\") when LocalYear(\"&$D$12&\")=\"&$D$9&\" and localMonth(\"&$D$12&\") =\"&$E$9&\" and LocalDay(\"&$D$12&\")=\"&$F$9&\" and Barix(\"&$D$12&\",reference:=StartOfDay)=\"&A49&\"\", \"Bar\", \"\", \"Close\",\"5\",\"0\",\"\",,,\"False\",\"T\",\"EveryTick\")","v":1304},2.7683789603198316E-3,{"$f":"RTD(\"cqg.rtd\",,\"StudyData\", \"Close(\"&$D$12&\") when LocalYear(\"&$D$12&\")=\"&$D$10&\" and localMonth(\"&$D$12&\") =\"&$E$10&\" and LocalDay(\"&$D$12&\")=\"&$F$10&\" and Barix(\"&$D$12&\",reference:=StartOfDay)=\"&A49&\"\", \"Bar\", \"\", \"Close\",\"5\",\"0\",\"\",,,\"False\",\"T\",\"EveryTick\")","v":1300.8},3.7811559533913598E-3,null,null,null,""]
[217,"11:05:00",-28,{"$f":" RTD(\"cqg.rtd\",,\"StudyData\", $D$12,  \"Tick\", \"FlatTicks=0\", \"Tick\",\"D\",C50,\"\")","v":1282.8},null,null,null,{"$f":"RTD(\"cqg.rtd\",,\"StudyData\", \"Close(\"&$D$12&\") when LocalYear(\"&$D$12&\")=\"&$D$1&\" and localMonth(\"&$D$12&\") =\"&$E$1&\" and LocalDay(\"&$D$12&\")=\"&$F$1&\" and Barix(\"&$D$12&\",reference:=StartOfDay)=\"&A50&\"\", \"Bar\", \"\", \"Close\",\"5\",\"0\",\"\",,,\"False\",\"T\",\"EveryTick\")","v":""},{"$error":"#N/A"},{"$f":"RTD(\"cqg.rtd\",,\"StudyData\", \"Close(\"&$D$12&\") when LocalYear(\"&$D$12&\")=\"&$D$2&\" and localMonth(\"&$D$12&\") =\"&$E$2&\" and LocalDay(\"&$D$12&\")=\"&$F$2&\" and Barix(\"&$D$12&\",reference:=StartOfDay)=\"&A50&\"\", \"Bar\", \"\", \"Close\",\"5\",\"0\",\"\",,,\"False\",\"T\",\"EveryTick\")","v":1281.0999999999999},-1.8990734359445732E-2,{"$f":"RTD(\"cqg.rtd\",,\"StudyData\", \"Close(\"&$D$12&\") when LocalYear(\"&$D$12&\")=\"&$D$3&\" and localMonth(\"&$D$12&\") =\"&$E$3&\" and LocalDay(\"&$D$12&\")=\"&$F$3&\" and Barix(\"&$D$12&\",reference:=StartOfDay)=\"&A50&\"\", \"Bar\", \"\", \"Close\",\"5\",\"0\",\"\",,,\"False\",\"T\",\"EveryTick\")","v":1307.3},3.3770818942358304E-3,{"$f":"RTD(\"cqg.rtd\",,\"StudyData\", \"Close(\"&$D$12&\") when LocalYear(\"&$D$12&\")=\"&$D$4&\" and localMonth(\"&$D$12&\") =\"&$E$4&\" and LocalDay(\"&$D$12&\")=\"&$F$4&\" and Barix(\"&$D$12&\",reference:=StartOfDay)=\"&A50&\"\", \"Bar\", \"\", \"Close\",\"5\",\"0\",\"\",,,\"False\",\"T\",\"EveryTick\")","v":1301.8},1.6928285626346918E-3,{"$f":"RTD(\"cqg.rtd\",,\"StudyData\", \"Close(\"&$D$12&\") when LocalYear(\"&$D$12&\")=\"&$D$5&\" and localMonth(\"&$D$12&\") =\"&$E$5&\" and LocalDay(\"&$D$12&\")=\"&$F$5&\" and Barix(\"&$D$12&\",reference:=StartOfDay)=\"&A50&\"\", \"Bar\", \"\", \"Close\",\"5\",\"0\",\"\",,,\"False\",\"T\",\"EveryTick\")","v":1301.7},-2.0699172033119021E-3,{"$f":"RTD(\"cqg.rtd\",,\"StudyData\", \"Close(\"&$D$12&\") when LocalYear(\"&$D$12&\")=\"&$D$6&\" and localMonth(\"&$D$12&\") =\"&$E$6&\" and LocalDay(\"&$D$12&\")=\"&$F$6&\" and Barix(\"&$D$12&\",reference:=StartOfDay)=\"&A50&\"\", \"Bar\", \"\", \"Close\",\"5\",\"0\",\"\",,,\"False\",\"T\",\"EveryTick\")","v":1305},1.1507479861910242E-3,{"$f":"RTD(\"cqg.rtd\",,\"StudyData\", \"Close(\"&$D$12&\") when LocalYear(\"&$D$12&\")=\"&$D$7&\" and localMonth(\"&$D$12&\") =\"&$E$7&\" and LocalDay(\"&$D$12&\")=\"&$F$7&\" and Barix(\"&$D$12&\",reference:=StartOfDay)=\"&A50&\"\", \"Bar\", \"\", \"Close\",\"5\",\"0\",\"\",,,\"False\",\"T\",\"EveryTick\")","v":1303},1.3063859217705722E-3,{"$f":"RTD(\"cqg.rtd\",,\"StudyData\", \"Close(\"&$D$12&\") when LocalYear(\"&$D$12&\")=\"&$D$8&\" and localMonth(\"&$D$12&\") =\"&$E$8&\" and LocalDay(\"&$D$12&\")=\"&$F$8&\" and Barix(\"&$D$12&\",reference:=StartOfDay)=\"&A50&\"\", \"Bar\", \"\", \"Close\",\"5\",\"0\",\"\",,,\"False\",\"T\",\"EveryTick\")","v":1301.7},8.457634937722101E-4,{"$f":"RTD(\"cqg.rtd\",,\"StudyData\", \"Close(\"&$D$12&\") when LocalYear(\"&$D$12&\")=\"&$D$9&\" and localMonth(\"&$D$12&\") =\"&$E$9&\" and LocalDay(\"&$D$12&\")=\"&$F$9&\" and Barix(\"&$D$12&\",reference:=StartOfDay)=\"&A50&\"\", \"Bar\", \"\", \"Close\",\"5\",\"0\",\"\",,,\"False\",\"T\",\"EveryTick\")","v":1303.5999999999999},2.4607812980619948E-3,{"$f":"RTD(\"cqg.rtd\",,\"StudyData\", \"Close(\"&$D$12&\") when LocalYear(\"&$D$12&\")=\"&$D$10&\" and localMonth(\"&$D$12&\") =\"&$E$10&\" and LocalDay(\"&$D$12&\")=\"&$F$10&\" and Barix(\"&$D$12&\",reference:=StartOfDay)=\"&A50&\"\", \"Bar\", \"\", \"Close\",\"5\",\"0\",\"\",,,\"False\",\"T\",\"EveryTick\")","v":1300.2},3.3181572652210465E-3,null,null,null,""]
[218,"11:10:00",-27,{"$f":" RTD(\"cqg.rtd\",,\"StudyData\", $D$12,  \"Tick\", \"FlatTicks=0\", \"Tick\",\"D\",C51,\"\")","v":1282.7},null,null,null,{"$f":"RTD(\"cqg.rtd\",,\"StudyData\", \"Close(\"&$D$12&\") when LocalYear(\"&$D$12&\")=\"&$D$1&\" and localMonth(\"&$D$12&\") =\"&$E$1&\" and LocalDay(\"&$D$12&\")=\"&$F$1&\" and Barix(\"&$D$12&\",reference:=StartOfDay)=\"&A51&\"\", \"Bar\", \"\", \"Close\",\"5\",\"0\",\"\",,,\"False\",\"T\",\"EveryTick\")","v":""},{"$error":"#N/A"},{"$f":"RTD(\"cqg.rtd\",,\"StudyData\", \"Close(\"&$D$12&\") when LocalYear(\"&$D$12&\")=\"&$D$2&\" and localMonth(\"&$D$12&\") =\"&$E$2&\" and LocalDay(\"&$D$12&\")=\"&$F$2&\" and Barix(\"&$D$12&\",reference:=StartOfDay)=\"&A51&\"\", \"Bar\", \"\", \"Close\",\"5\",\"0\",\"\",,,\"False\",\"T\",\"EveryTick\")","v":1278.8},-2.0751971820200731E-2,{"$f":"RTD(\"cqg.rtd\",,\"StudyData\", \"Close(\"&$D$12&\") when LocalYear(\"&$D$12&\")=\"&$D$3&\" and localMonth(\"&$D$12&\") =\"&$E$3&\" and LocalDay(\"&$D$12&\")=\"&$F$3&\" and Barix(\"&$D$12&\",reference:=StartOfDay)=\"&A51&\"\", \"Bar\", \"\", \"Close\",\"5\",\"0\",\"\",,,\"False\",\"T\",\"EveryTick\")","v":1307.4000000000001},3.45383375546857E-3,{"$f":"RTD(\"cqg.rtd\",,\"StudyData\", \"Close(\"&$D$12&\") when LocalYear(\"&$D$12&\")=\"&$D$4&\" and localMonth(\"&$D$12&\") =\"&$E$4&\" and LocalDay(\"&$D$12&\")=\"&$F$4&\" and Barix(\"&$D$12&\",reference:=StartOfDay)=\"&A51&\"\", \"Bar\", \"\", \"Close\",\"5\",\"0\",\"\",,,\"False\",\"T\",\"EveryTick\")","v":1301.7},1.6158818097877321E-3,{"$f":"RTD(\"cqg.rtd\",,\"StudyData\", \"Close(\"&$D$12&\") when LocalYear(\"&$D$12&\")=\"&$D$5&\" and localMonth(\"&$D$12&\") =\"&$E$5&\" and LocalDay(\"&$D$12&\")=\"&$F$5&\" and Barix(\"&$D$12&\",reference:=StartOfDay)=\"&A51&\"\", \"Bar\", \"\", \"Close\",\"5\",\"0\",\"\",,,\"False\",\"T\",\"EveryTick\")","v":1301.7},-2.0699172033119021E-3,{"$f":"RTD(\"cqg.rtd\",,\"StudyData\", \"Close(\"&$D$12&\") when LocalYear(\"&$D$12&\")=\"&$D$6&\" and localMonth(\"&$D$12&\") =\"&$E$6&\" and LocalDay(\"&$D$12&\")=\"&$F$6&\" and Barix(\"&$D$12&\",reference:=StartOfDay)=\"&A51&\"\", \"Bar\", \"\", \"Close\",\"5\",\"0\",\"\",,,\"False\",\"T\",\"EveryTick\")","v":1305},1.1507479861910242E-3,{"$f":"RTD(\"cqg.rtd\",,\"StudyData\", \"Close(\"&$D$12&\") when LocalYear(\"&$D$12&\")=\"&$D$7&\" and localMonth(\"&$D$12&\") =\"&$E$7&\" and LocalDay(\"&$D$12&\")=\"&$F$7&\" and Barix(\"&$D$12&\",reference:=StartOfDay)=\"&A51&\"\", \"Bar\", \"\", \"Close\",\"5\",\"0\",\"\",,,\"False\",\"T\",\"EveryTick\")","v":1302.9000000000001},1.2295396910782575E-3,{"$f":"RTD(\"cqg.rtd\",,\"StudyData\", \"Close(\"&$D$12&\") when LocalYear(\"&$D$12&\")=\"&$D$8&\" and localMonth(\"&$D$12&\") =\"&$E$8&\" and LocalDay(\"&$D$12&\")=\"&$F$8&\" and Barix(\"&$D$12&\",reference:=StartOfDay)=\"&A51&\"\", \"Bar\", \"\", \"Close\",\"5\",\"0\",\"\",,,\"False\",\"T\",\"EveryTick\")","v":1301.5999999999999},7.6887590342918663E-4,{"$f":"RTD(\"cqg.rtd\",,\"StudyData\", \"Close(\"&$D$12&\") when LocalYear(\"&$D$12&\")=\"&$D$9&\" and localMonth(\"&$D$12&\") =\"&$E$9&\" and LocalDay(\"&$D$12&\")=\"&$F$9&\" and Barix(\"&$D$12&\",reference:=StartOfDay)=\"&A51&\"\", \"Bar\", \"\", \"Close\",\"5\",\"0\",\"\",,,\"False\",\"T\",\"EveryTick\")","v":1303.8},2.6145801291909132E-3,{"$f":"RTD(\"cqg.rtd\",,\"StudyData\", \"Close(\"&$D$12&\") when LocalYear(\"&$D$12&\")=\"&$D$10&\" and localMonth(\"&$D$12&\") =\"&$E$10&\" and LocalDay(\"&$D$12&\")=\"&$F$10&\" and Barix(\"&$D$12&\",reference:=StartOfDay)=\"&A51&\"\", \"Bar\", \"\", \"Close\",\"5\",\"0\",\"\",,,\"False\",\"T\",\"EveryTick\")","v":1300.7},3.7039895053630327E-3,null,null,null,""]
[219,"11:15:00",-26,{"$f":" RTD(\"cqg.rtd\",,\"StudyData\", $D$12,  \"Tick\", \"FlatTicks=0\", \"Tick\",\"D\",C52,\"\")","v":1282.5999999999999},null,null,null,{"$f":"RTD(\"cqg.rtd\",,\"StudyData\", \"Close(\"&$D$12&\") when LocalYear(\"&$D$12&\")=\"&$D$1&\" and localMonth(\"&$D$12&\") =\"&$E$1&\" and LocalDay(\"&$D$12&\")=\"&$F$1&\" and Barix(\"&$D$12&\",reference:=StartOfDay)=\"&A52&\"\", \"Bar\", \"\", \"Close\",\"5\",\"0\",\"\",,,\"False\",\"T\",\"EveryTick\")","v":""},{"$error":"#N/A"},{"$f":"RTD(\"cqg.rtd\",,\"StudyData\", \"Close(\"&$D$12&\") when LocalYear(\"&$D$12&\")=\"&$D$2&\" and localMonth(\"&$D$12&\") =\"&$E$2&\" and LocalDay(\"&$D$12&\")=\"&$F$2&\" and Barix(\"&$D$12&\",reference:=StartOfDay)=\"&A52&\"\", \"Bar\", \"\", \"Close\",\"5\",\"0\",\"\",,,\"False\",\"T\",\"EveryTick\")","v":1280.8},-1.9220460984761569E-2,{"$f":"RTD(\"cqg.rtd\",,\"StudyData\", \"Close(\"&$D$12&\") when LocalYear(\"&$D$12&\")=\"&$D$3&\" and localMonth(\"&$D$12&\") =\"&$E$3&\" and LocalDay(\"&$D$12&\")=\"&$F$3&\" and Barix(\"&$D$12&\",reference:=StartOfDay)=\"&A52&\"\", \"Bar\", \"\", \"Close\",\"5\",\"0\",\"\",,,\"False\",\"T\",\"EveryTick\")","v":1307.5},3.5305856167011348E-3,{"$f":"RTD(\"cqg.rtd\",,\"StudyData\", \"Close(\"&$D$12&\") when LocalYear(\"&$D$12&\")=\"&$D$4&\" and localMonth(\"&$D$12&\") =\"&$E$4&\" and LocalDay(\"&$D$12&\")=\"&$F$4&\" and Barix(\"&$D$12&\",reference:=StartOfDay)=\"&A52&\"\", \"Bar\", \"\", \"Close\",\"5\",\"0\",\"\",,,\"False\",\"T\",\"EveryTick\")","v":1302},1.8467220683287867E-3,{"$f":"RTD(\"cqg.rtd\",,\"StudyData\", \"Close(\"&$D$12&\") when LocalYear(\"&$D$12&\")=\"&$D$5&\" and localMonth(\"&$D$12&\") =\"&$E$5&\" and LocalDay(\"&$D$12&\")=\"&$F$5&\" and Barix(\"&$D$12&\",reference:=StartOfDay)=\"&A52&\"\", \"Bar\", \"\", \"Close\",\"5\",\"0\",\"\",,,\"False\",\"T\",\"EveryTick\")","v":1301.3},-2.3765716038026191E-3,{"$f":"RTD(\"cqg.rtd\",,\"StudyData\", \"Close(\"&$D$12&\") when LocalYear(\"&$D$12&\")=\"&$D$6&\" and localMonth(\"&$D$12&\") =\"&$E$6&\" and LocalDay(\"&$D$12&\")=\"&$F$6&\" and Barix(\"&$D$12&\",reference:=StartOfDay)=\"&A52&\"\", \"Bar\", \"\", \"Close\",\"5\",\"0\",\"\",,,\"False\",\"T\",\"EveryTick\")","v":1304.7},9.205983889528542E-4,{"$f":"RTD(\"cqg.rtd\",,\"StudyData\", \"Close(\"&$D$12&\") when LocalYear(\"&$D$12&\")=\"&$D$7&\" and localMonth(\"&$D$12&\") =\"&$E$7&\" and LocalDay(\"&$D$12&\")=\"&$F$7&\" and Barix(\"&$D$12&\",reference:=StartOfDay)=\"&A52&\"\", \"Bar\", \"\", \"Close\",\"5\",\"0\",\"\",,,\"False\",\"T\",\"EveryTick\")","v":1303},1.3063859217705722E-3,{"$f":"RTD(\"cqg.rtd\",,\"StudyData\", \"Close(\"&$D$12&\") when LocalYear(\"&$D$12&\")=\"&$D$8&\" and localMonth(\"&$D$12&\") =\"&$E$8&\" and LocalDay(\"&$D$12&\")=\"&$F$8&\" and Barix(\"&$D$12&\",reference:=StartOfDay)=\"&A52&\"\", \"Bar\", \"\", \"Close\",\"5\",\"0\",\"\",,,\"False\",\"T\",\"EveryTick\")","v":1301.7},8.457634937722101E-4,{"$f":"RTD(\"cqg.rtd\",,\"StudyData\", \"Close(\"&$D$12&\") when LocalYear(\"&$D$12&\")=\"&$D$9&\" and localMonth(\"&$D$12&\") =\"&$E$9&\" and LocalDay(\"&$D$12&\")=\"&$F$9&\" and Barix(\"&$D$12&\",reference:=StartOfDay)=\"&A52&\"\", \"Bar\", \"\", \"Close\",\"5\",\"0\",\"\",,,\"False\",\"T\",\"EveryTick\")","v":1303.5999999999999},2.4607812980619948E-3,{"$f":"RTD(\"cqg.rtd\",,\"StudyData\", \"Close(\"&$D$12&\") when LocalYear(\"&$D$12&\")=\"&$D$10&\" and localMonth(\"&$D$12&\") =\"&$E$10&\" and LocalDay(\"&$D$12&\")=\"&$F$10&\" and Barix(\"&$D$12&\",reference:=StartOfDay)=\"&A52&\"\", \"Bar\", \"\", \"Close\",\"5\",\"0\",\"\",,,\"False\",\"T\",\"EveryTick\")","v":1301.4000000000001},4.2441546415618488E-3,null,null,null,""]
[220,"11:20:00",-25,{"$f":" RTD(\"cqg.rtd\",,\"StudyData\", $D$12,  \"Tick\", \"FlatTicks=0\", \"Tick\",\"D\",C53,\"\")","v":1282.7},null,null,null,{"$f":"RTD(\"cqg.rtd\",,\"StudyData\", \"Close(\"&$D$12&\") when LocalYear(\"&$D$12&\")=\"&$D$1&\" and localMonth(\"&$D$12&\") =\"&$E$1&\" and LocalDay(\"&$D$12&\")=\"&$F$1&\" and Barix(\"&$D$12&\",reference:=StartOfDay)=\"&A53&\"\", \"Bar\", \"\", \"Close\",\"5\",\"0\",\"\",,,\"False\",\"T\",\"EveryTick\")","v":""},{"$error":"#N/A"},{"$f":"RTD(\"cqg.rtd\",,\"StudyData\", \"Close(\"&$D$12&\") when LocalYear(\"&$D$12&\")=\"&$D$2&\" and localMonth(\"&$D$12&\") =\"&$E$2&\" and LocalDay(\"&$D$12&\")=\"&$F$2&\" and Barix(\"&$D$12&\",reference:=StartOfDay)=\"&A53&\"\", \"Bar\", \"\", \"Close\",\"5\",\"0\",\"\",,,\"False\",\"T\",\"EveryTick\")","v":1280.5},-1.9450187610077409E-2,{"$f":"RTD(\"cqg.rtd\",,\"StudyData\", \"Close(\"&$D$12&\") when LocalYear(\"&$D$12&\")=\"&$D$3&\" and localMonth(\"&$D$12&\") =\"&$E$3&\" and LocalDay(\"&$D$12&\")=\"&$F$3&\" and Barix(\"&$D$12&\",reference:=StartOfDay)=\"&A53&\"\", \"Bar\", \"\", \"Close\",\"5\",\"0\",\"\",,,\"False\",\"T\",\"EveryTick\")","v":1307.5999999999999},3.6073374779337E-3,{"$f":"RTD(\"cqg.rtd\",,\"StudyData\", \"Close(\"&$D$12&\") when LocalYear(\"&$D$12&\")=\"&$D$4&\" and localMonth(\"&$D$12&\") =\"&$E$4&\" and LocalDay(\"&$D$12&\")=\"&$F$4&\" and Barix(\"&$D$12&\",reference:=StartOfDay)=\"&A53&\"\", \"Bar\", \"\", \"Close\",\"5\",\"0\",\"\",,,\"False\",\"T\",\"EveryTick\")","v":1302.2},2.0006155740228812E-3,{"$f":"RTD(\"cqg.rtd\",,\"StudyData\", \"Close(\"&$D$12&\") when LocalYear(\"&$D$12&\")=\"&$D$5&\" and localMonth(\"&$D$12&\") =\"&$E$5&\" and LocalDay(\"&$D$12&\")=\"&$F$5&\" and Barix(\"&$D$12&\",reference:=StartOfDay)=\"&A53&\"\", \"Bar\", \"\", \"Close\",\"5\",\"0\",\"\",,,\"False\",\"T\",\"EveryTick\")","v":1301.2},-2.4532352039252111E-3,{"$f":"RTD(\"cqg.rtd\",,\"StudyData\", \"Close(\"&$D$12&\") when LocalYear(\"&$D$12&\")=\"&$D$6&\" and localMonth(\"&$D$12&\") =\"&$E$6&\" and LocalDay(\"&$D$12&\")=\"&$F$6&\" and Barix(\"&$D$12&\",reference:=StartOfDay)=\"&A53&\"\", \"Bar\", \"\", \"Close\",\"5\",\"0\",\"\",,,\"False\",\"T\",\"EveryTick\")","v":1304.7},9.205983889528542E-4,{"$f":"RTD(\"cqg.rtd\",,\"StudyData\", \"Close(\"&$D$12&\") when LocalYear(\"&$D$12&\")=\"&$D$7&\" and localMonth(\"&$D$12&\") =\"&$E$7&\" and LocalDay(\"&$D$12&\")=\"&$F$7&\" and Barix(\"&$D$12&\",reference:=StartOfDay)=\"&A53&\"\", \"Bar\", \"\", \"Close\",\"5\",\"0\",\"\",,,\"False\",\"T\",\"EveryTick\")","v":1303},1.3063859217705722E-3,{"$f":"RTD(\"cqg.rtd\",,\"StudyData\", \"Close(\"&$D$12&\") when LocalYear(\"&$D$12&\")=\"&$D$8&\" and localMonth(\"&$D$12&\") =\"&$E$8&\" and LocalDay(\"&$D$12&\")=\"&$F$8&\" and Barix(\"&$D$12&\",reference:=StartOfDay)=\"&A53&\"\", \"Bar\", \"\", \"Close\",\"5\",\"0\",\"\",,,\"False\",\"T\",\"EveryTick\")","v":1301.4000000000001},6.1510072274348912E-4,{"$f":"RTD(\"cqg.rtd\",,\"StudyData\", \"Close(\"&$D$12&\") when LocalYear(\"&$D$12&\")=\"&$D$9&\" and localMonth(\"&$D$12&\") =\"&$E$9&\" and LocalDay(\"&$D$12&\")=\"&$F$9&\" and Barix(\"&$D$12&\",reference:=StartOfDay)=\"&A53&\"\", \"Bar\", \"\", \"Close\",\"5\",\"0\",\"\",,,\"False\",\"T\",\"EveryTick\")","v":1303.5999999999999},2.4607812980619948E-3,{"$f":"RTD(\"cqg.rtd\",,\"StudyData\", \"Close(\"&$D$12&\") when LocalYear(\"&$D$12&\")=\"&$D$10&\" and localMonth(\"&$D$12&\") =\"&$E$10&\" and LocalDay(\"&$D$12&\")=\"&$F$10&\" and Barix(\"&$D$12&\",reference:=StartOfDay)=\"&A53&\"\", \"Bar\", \"\", \"Close\",\"5\",\"0\",\"\",,,\"False\",\"T\",\"EveryTick\")","v":1303.4000000000001},5.7874836021297935E-3,null,null,null,""]
[221,"11:25:00",-24,{"$f":" RTD(\"cqg.rtd\",,\"StudyData\", $D$12,  \"Tick\", \"FlatTicks=0\", \"Tick\",\"D\",C54,\"\")","v":1282.5999999999999},null,null,null,{"$f":"RTD(\"cqg.rtd\",,\"StudyData\", \"Close(\"&$D$12&\") when LocalYear(\"&$D$12&\")=\"&$D$1&\" and localMonth(\"&$D$12&\") =\"&$E$1&\" and LocalDay(\"&$D$12&\")=\"&$F$1&\" and Barix(\"&$D$12&\",reference:=StartOfDay)=\"&A54&\"\", \"Bar\", \"\", \"Close\",\"5\",\"0\",\"\",,,\"False\",\"T\",\"EveryTick\")","v":""},{"$error":"#N/A"},{"$f":"RTD(\"cqg.rtd\",,\"StudyData\", \"Close(\"&$D$12&\") when LocalYear(\"&$D$12&\")=\"&$D$2&\" and localMonth(\"&$D$12&\") =\"&$E$2&\" and LocalDay(\"&$D$12&\")=\"&$F$2&\" and Barix(\"&$D$12&\",reference:=StartOfDay)=\"&A54&\"\", \"Bar\", \"\", \"Close\",\"5\",\"0\",\"\",,,\"False\",\"T\",\"EveryTick\")","v":1281},-1.9067309901217619E-2,{"$f":"RTD(\"cqg.rtd\",,\"StudyData\", \"Close(\"&$D$12&\") when LocalYear(\"&$D$12&\")=\"&$D$3&\" and localMonth(\"&$D$12&\") =\"&$E$3&\" and LocalDay(\"&$D$12&\")=\"&$F$3&\" and Barix(\"&$D$12&\",reference:=StartOfDay)=\"&A54&\"\", \"Bar\", \"\", \"Close\",\"5\",\"0\",\"\",,,\"False\",\"T\",\"EveryTick\")","v":1307.3},3.3770818942358304E-3,{"$f":"RTD(\"cqg.rtd\",,\"StudyData\", \"Close(\"&$D$12&\") when LocalYear(\"&$D$12&\")=\"&$D$4&\" and localMonth(\"&$D$12&\") =\"&$E$4&\" and LocalDay(\"&$D$12&\")=\"&$F$4&\" and Barix(\"&$D$12&\",reference:=StartOfDay)=\"&A54&\"\", \"Bar\", \"\", \"Close\",\"5\",\"0\",\"\",,,\"False\",\"T\",\"EveryTick\")","v":1302},1.8467220683287867E-3,{"$f":"RTD(\"cqg.rtd\",,\"StudyData\", \"Close(\"&$D$12&\") when LocalYear(\"&$D$12&\")=\"&$D$5&\" and localMonth(\"&$D$12&\") =\"&$E$5&\" and LocalDay(\"&$D$12&\")=\"&$F$5&\" and Barix(\"&$D$12&\",reference:=StartOfDay)=\"&A54&\"\", \"Bar\", \"\", \"Close\",\"5\",\"0\",\"\",,,\"False\",\"T\",\"EveryTick\")","v":1300.9000000000001},-2.6832260042931612E-3,{"$f":"RTD(\"cqg.rtd\",,\"StudyData\", \"Close(\"&$D$12&\") when LocalYear(\"&$D$12&\")=\"&$D$6&\" and localMonth(\"&$D$12&\") =\"&$E$6&\" and LocalDay(\"&$D$12&\")=\"&$F$6&\" and Barix(\"&$D$12&\",reference:=StartOfDay)=\"&A54&\"\", \"Bar\", \"\", \"Close\",\"5\",\"0\",\"\",,,\"False\",\"T\",\"EveryTick\")","v":1304.5},7.6716532412734941E-4,{"$f":"RTD(\"cqg.rtd\",,\"StudyData\", \"Close(\"&$D$12&\") when LocalYear(\"&$D$12&\")=\"&$D$7&\" and localMonth(\"&$D$12&\") =\"&$E$7&\" and LocalDay(\"&$D$12&\")=\"&$F$7&\" and Barix(\"&$D$12&\",reference:=StartOfDay)=\"&A54&\"\", \"Bar\", \"\", \"Close\",\"5\",\"0\",\"\",,,\"False\",\"T\",\"EveryTick\")","v":1302.5},9.2215476830864946E-4,{"$f":"RTD(\"cqg.rtd\",,\"StudyData\", \"Close(\"&$D$12&\") when LocalYear(\"&$D$12&\")=\"&$D$8&\" and localMonth(\"&$D$12&\") =\"&$E$8&\" and LocalDay(\"&$D$12&\")=\"&$F$8&\" and Barix(\"&$D$12&\",reference:=StartOfDay)=\"&A54&\"\", \"Bar\", \"\", \"Close\",\"5\",\"0\",\"\",,,\"False\",\"T\",\"EveryTick\")","v":1301.4000000000001},6.1510072274348912E-4,{"$f":"RTD(\"cqg.rtd\",,\"StudyData\", \"Close(\"&$D$12&\") when LocalYear(\"&$D$12&\")=\"&$D$9&\" and localMonth(\"&$D$12&\") =\"&$E$9&\" and LocalDay(\"&$D$12&\")=\"&$F$9&\" and Barix(\"&$D$12&\",reference:=StartOfDay)=\"&A54&\"\", \"Bar\", \"\", \"Close\",\"5\",\"0\",\"\",,,\"False\",\"T\",\"EveryTick\")","v":1303.5},2.3838818824976227E-3,{"$f":"RTD(\"cqg.rtd\",,\"StudyData\", \"Close(\"&$D$12&\") when LocalYear(\"&$D$12&\")=\"&$D$10&\" and localMonth(\"&$D$12&\") =\"&$E$10&\" and LocalDay(\"&$D$12&\")=\"&$F$10&\" and Barix(\"&$D$12&\",reference:=StartOfDay)=\"&A54&\"\", \"Bar\", \"\", \"Close\",\"5\",\"0\",\"\",,,\"False\",\"T\",\"EveryTick\")","v":1304.5},6.636314530442093E-3,null,null,null,""]
[222,"11:30:00",-23,{"$f":" RTD(\"cqg.rtd\",,\"StudyData\", $D$12,  \"Tick\", \"FlatTicks=0\", \"Tick\",\"D\",C55,\"\")","v":1282.7},null,null,null,{"$f":"RTD(\"cqg.rtd\",,\"StudyData\", \"Close(\"&$D$12&\") when LocalYear(\"&$D$12&\")=\"&$D$1&\" and localMonth(\"&$D$12&\") =\"&$E$1&\" and LocalDay(\"&$D$12&\")=\"&$F$1&\" and Barix(\"&$D$12&\",reference:=StartOfDay)=\"&A55&\"\", \"Bar\", \"\", \"Close\",\"5\",\"0\",\"\",,,\"False\",\"T\",\"EveryTick\")","v":""},{"$error":"#N/A"},{"$f":"RTD(\"cqg.rtd\",,\"StudyData\", \"Close(\"&$D$12&\") when LocalYear(\"&$D$12&\")=\"&$D$2&\" and localMonth(\"&$D$12&\") =\"&$E$2&\" and LocalDay(\"&$D$12&\")=\"&$F$2&\" and Barix(\"&$D$12&\",reference:=StartOfDay)=\"&A55&\"\", \"Bar\", \"\", \"Close\",\"5\",\"0\",\"\",,,\"False\",\"T\",\"EveryTick\")","v":1280.4000000000001},-1.95267631518493E-2,{"$f":"RTD(\"cqg.rtd\",,\"StudyData\", \"Close(\"&$D$12&\") when LocalYear(\"&$D$12&\")=\"&$D$3&\" and localMonth(\"&$D$12&\") =\"&$E$3&\" and LocalDay(\"&$D$12&\")=\"&$F$3&\" and Barix(\"&$D$12&\",reference:=StartOfDay)=\"&A55&\"\", \"Bar\", \"\", \"Close\",\"5\",\"0\",\"\",,,\"False\",\"T\",\"EveryTick\")","v":1307.3},3.3770818942358304E-3,{"$f":"RTD(\"cqg.rtd\",,\"StudyData\", \"Close(\"&$D$12&\") when LocalYear(\"&$D$12&\")=\"&$D$4&\" and localMonth(\"&$D$12&\") =\"&$E$4&\" and LocalDay(\"&$D$12&\")=\"&$F$4&\" and Barix(\"&$D$12&\",reference:=StartOfDay)=\"&A55&\"\", \"Bar\", \"\", \"Close\",\"5\",\"0\",\"\",,,\"False\",\"T\",\"EveryTick\")","v":1302.3},2.0775623268698413E-3,{"$f":"RTD(\"cqg.rtd\",,\"StudyData\", \"Close(\"&$D$12&\") when LocalYear(\"&$D$12&\")=\"&$D$5&\" and localMonth(\"&$D$12&\") =\"&$E$5&\" and LocalDay(\"&$D$12&\")=\"&$F$5&\" and Barix(\"&$D$12&\",reference:=StartOfDay)=\"&A55&\"\", \"Bar\", \"\", \"Close\",\"5\",\"0\",\"\",,,\"False\",\"T\",\"EveryTick\")","v":1300.8},-2.7598896044159276E-3,{"$f":"RTD(\"cqg.rtd\",,\"StudyData\", \"Close(\"&$D$12&\") when LocalYear(\"&$D$12&\")=\"&$D$6&\" and localMonth(\"&$D$12&\") =\"&$E$6&\" and LocalDay(\"&$D$12&\")=\"&$F$6&\" and Barix(\"&$D$12&\",reference:=StartOfDay)=\"&A55&\"\", \"Bar\", \"\", \"Close\",\"5\",\"0\",\"\",,,\"False\",\"T\",\"EveryTick\")","v":1304.7},9.205983889528542E-4,{"$f":"RTD(\"cqg.rtd\",,\"StudyData\", \"Close(\"&$D$12&\") when LocalYear(\"&$D$12&\")=\"&$D$7&\" and localMonth(\"&$D$12&\") =\"&$E$7&\" and LocalDay(\"&$D$12&\")=\"&$F$7&\" and Barix(\"&$D$12&\",reference:=StartOfDay)=\"&A55&\"\", \"Bar\", \"\", \"Close\",\"5\",\"0\",\"\",,,\"False\",\"T\",\"EveryTick\")","v":1302.4000000000001},8.4530853761633482E-4,{"$f":"RTD(\"cqg.rtd\",,\"StudyData\", \"Close(\"&$D$12&\") when LocalYear(\"&$D$12&\")=\"&$D$8&\" and localMonth(\"&$D$12&\") =\"&$E$8&\" and LocalDay(\"&$D$12&\")=\"&$F$8&\" and Barix(\"&$D$12&\",reference:=StartOfDay)=\"&A55&\"\", \"Bar\", \"\", \"Close\",\"5\",\"0\",\"\",,,\"False\",\"T\",\"EveryTick\")","v":1301.9000000000001},9.9953867445808238E-4,{"$f":"RTD(\"cqg.rtd\",,\"StudyData\", \"Close(\"&$D$12&\") when LocalYear(\"&$D$12&\")=\"&$D$9&\" and localMonth(\"&$D$12&\") =\"&$E$9&\" and LocalDay(\"&$D$12&\")=\"&$F$9&\" and Barix(\"&$D$12&\",reference:=StartOfDay)=\"&A55&\"\", \"Bar\", \"\", \"Close\",\"5\",\"0\",\"\",,,\"False\",\"T\",\"EveryTick\")","v":1303.4000000000001},2.3069824669332511E-3,{"$f":"RTD(\"cqg.rtd\",,\"StudyData\", \"Close(\"&$D$12&\") when LocalYear(\"&$D$12&\")=\"&$D$10&\" and localMonth(\"&$D$12&\") =\"&$E$10&\" and LocalDay(\"&$D$12&\")=\"&$F$10&\" and Barix(\"&$D$12&\",reference:=StartOfDay)=\"&A55&\"\", \"Bar\", \"\", \"Close\",\"5\",\"0\",\"\",,,\"False\",\"T\",\"EveryTick\")","v":1303.9000000000001},6.1733158422717796E-3,null,null,null,""]
[223,"11:35:00",-22,{"$f":" RTD(\"cqg.rtd\",,\"StudyData\", $D$12,  \"Tick\", \"FlatTicks=0\", \"Tick\",\"D\",C56,\"\")","v":1282.5999999999999},null,null,null,{"$f":"RTD(\"cqg.rtd\",,\"StudyData\", \"Close(\"&$D$12&\") when LocalYear(\"&$D$12&\")=\"&$D$1&\" and localMonth(\"&$D$12&\") =\"&$E$1&\" and LocalDay(\"&$D$12&\")=\"&$F$1&\" and Barix(\"&$D$12&\",reference:=StartOfDay)=\"&A56&\"\", \"Bar\", \"\", \"Close\",\"5\",\"0\",\"\",,,\"False\",\"T\",\"EveryTick\")","v":""},{"$error":"#N/A"},{"$f":"RTD(\"cqg.rtd\",,\"StudyData\", \"Close(\"&$D$12&\") when LocalYear(\"&$D$12&\")=\"&$D$2&\" and localMonth(\"&$D$12&\") =\"&$E$2&\" and LocalDay(\"&$D$12&\")=\"&$F$2&\" and Barix(\"&$D$12&\",reference:=StartOfDay)=\"&A56&\"\", \"Bar\", \"\", \"Close\",\"5\",\"0\",\"\",,,\"False\",\"T\",\"EveryTick\")","v":1281.2},-1.8914158817673669E-2,{"$f":"RTD(\"cqg.rtd\",,\"StudyData\", \"Close(\"&$D$12&\") when LocalYear(\"&$D$12&\")=\"&$D$3&\" and localMonth(\"&$D$12&\") =\"&$E$3&\" and LocalDay(\"&$D$12&\")=\"&$F$3&\" and Barix(\"&$D$12&\",reference:=StartOfDay)=\"&A56&\"\", \"Bar\", \"\", \"Close\",\"5\",\"0\",\"\",,,\"False\",\"T\",\"EveryTick\")","v":1307.3},3.3770818942358304E-3,{"$f":"RTD(\"cqg.rtd\",,\"StudyData\", \"Close(\"&$D$12&\") when LocalYear(\"&$D$12&\")=\"&$D$4&\" and localMonth(\"&$D$12&\") =\"&$E$4&\" and LocalDay(\"&$D$12&\")=\"&$F$4&\" and Barix(\"&$D$12&\",reference:=StartOfDay)=\"&A56&\"\", \"Bar\", \"\", \"Close\",\"5\",\"0\",\"\",,,\"False\",\"T\",\"EveryTick\")","v":1302.3},2.0775623268698413E-3,{"$f":"RTD(\"cqg.rtd\",,\"StudyData\", \"Close(\"&$D$12&\") when LocalYear(\"&$D$12&\")=\"&$D$5&\" and localMonth(\"&$D$12&\") =\"&$E$5&\" and LocalDay(\"&$D$12&\")=\"&$F$5&\" and Barix(\"&$D$12&\",reference:=StartOfDay)=\"&A56&\"\", \"Bar\", \"\", \"Close\",\"5\",\"0\",\"\",,,\"False\",\"T\",\"EveryTick\")","v":1301.0999999999999},-2.5298988040479775E-3,{"$f":"RTD(\"cqg.rtd\",,\"StudyData\", \"Close(\"&$D$12&\") when LocalYear(\"&$D$12&\")=\"&$D$6&\" and localMonth(\"&$D$12&\") =\"&$E$6&\" and LocalDay(\"&$D$12&\")=\"&$F$6&\" and Barix(\"&$D$12&\",reference:=StartOfDay)=\"&A56&\"\", \"Bar\", \"\", \"Close\",\"5\",\"0\",\"\",,,\"False\",\"T\",\"EveryTick\")","v":1304.7},9.205983889528542E-4,{"$f":"RTD(\"cqg.rtd\",,\"StudyData\", \"Close(\"&$D$12&\") when LocalYear(\"&$D$12&\")=\"&$D$7&\" and localMonth(\"&$D$12&\") =\"&$E$7&\" and LocalDay(\"&$D$12&\")=\"&$F$7&\" and Barix(\"&$D$12&\",reference:=StartOfDay)=\"&A56&\"\", \"Bar\", \"\", \"Close\",\"5\",\"0\",\"\",,,\"False\",\"T\",\"EveryTick\")","v":1302.4000000000001},8.4530853761633482E-4,{"$f":"RTD(\"cqg.rtd\",,\"StudyData\", \"Close(\"&$D$12&\") when LocalYear(\"&$D$12&\")=\"&$D$8&\" and localMonth(\"&$D$12&\") =\"&$E$8&\" and LocalDay(\"&$D$12&\")=\"&$F$8&\" and Barix(\"&$D$12&\",reference:=StartOfDay)=\"&A56&\"\", \"Bar\", \"\", \"Close\",\"5\",\"0\",\"\",,,\"False\",\"T\",\"EveryTick\")","v":1301.7},8.457634937722101E-4,{"$f":"RTD(\"cqg.rtd\",,\"StudyData\", \"Close(\"&$D$12&\") when LocalYear(\"&$D$12&\")=\"&$D$9&\" and localMonth(\"&$D$12&\") =\"&$E$9&\" and LocalDay(\"&$D$12&\")=\"&$F$9&\" and Barix(\"&$D$12&\",reference:=StartOfDay)=\"&A56&\"\", \"Bar\", \"\", \"Close\",\"5\",\"0\",\"\",,,\"False\",\"T\",\"EveryTick\")","v":1303.5999999999999},2.4607812980619948E-3,{"$f":"RTD(\"cqg.rtd\",,\"StudyData\", \"Close(\"&$D$12&\") when LocalYear(\"&$D$12&\")=\"&$D$10&\" and localMonth(\"&$D$12&\") =\"&$E$10&\" and LocalDay(\"&$D$12&\")=\"&$F$10&\" and Barix(\"&$D$12&\",reference:=StartOfDay)=\"&A56&\"\", \"Bar\", \"\", \"Close\",\"5\",\"0\",\"\",,,\"False\",\"T\",\"EveryTick\")","v":1302.8},5.3244849139593049E-3,null,null,null,""]
[224,"11:40:00",-21,{"$f":" RTD(\"cqg.rtd\",,\"StudyData\", $D$12,  \"Tick\", \"FlatTicks=0\", \"Tick\",\"D\",C57,\"\")","v":1282.7},null,null,null,{"$f":"RTD(\"cqg.rtd\",,\"StudyData\", \"Close(\"&$D$12&\") when LocalYear(\"&$D$12&\")=\"&$D$1&\" and localMonth(\"&$D$12&\") =\"&$E$1&\" and LocalDay(\"&$D$12&\")=\"&$F$1&\" and Barix(\"&$D$12&\",reference:=StartOfDay)=\"&A57&\"\", \"Bar\", \"\", \"Close\",\"5\",\"0\",\"\",,,\"False\",\"T\",\"EveryTick\")","v":""},{"$error":"#N/A"},{"$f":"RTD(\"cqg.rtd\",,\"StudyData\", \"Close(\"&$D$12&\") when LocalYear(\"&$D$12&\")=\"&$D$2&\" and localMonth(\"&$D$12&\") =\"&$E$2&\" and LocalDay(\"&$D$12&\")=\"&$F$2&\" and Barix(\"&$D$12&\",reference:=StartOfDay)=\"&A57&\"\", \"Bar\", \"\", \"Close\",\"5\",\"0\",\"\",,,\"False\",\"T\",\"EveryTick\")","v":1280.4000000000001},-1.95267631518493E-2,{"$f":"RTD(\"cqg.rtd\",,\"StudyData\", \"Close(\"&$D$12&\") when LocalYear(\"&$D$12&\")=\"&$D$3&\" and localMonth(\"&$D$12&\") =\"&$E$3&\" and LocalDay(\"&$D$12&\")=\"&$F$3&\" and Barix(\"&$D$12&\",reference:=StartOfDay)=\"&A57&\"\", \"Bar\", \"\", \"Close\",\"5\",\"0\",\"\",,,\"False\",\"T\",\"EveryTick\")","v":1307.3},3.3770818942358304E-3,{"$f":"RTD(\"cqg.rtd\",,\"StudyData\", \"Close(\"&$D$12&\") when LocalYear(\"&$D$12&\")=\"&$D$4&\" and localMonth(\"&$D$12&\") =\"&$E$4&\" and LocalDay(\"&$D$12&\")=\"&$F$4&\" and Barix(\"&$D$12&\",reference:=StartOfDay)=\"&A57&\"\", \"Bar\", \"\", \"Close\",\"5\",\"0\",\"\",,,\"False\",\"T\",\"EveryTick\")","v":1302},1.8467220683287867E-3,{"$f":"RTD(\"cqg.rtd\",,\"StudyData\", \"Close(\"&$D$12&\") when LocalYear(\"&$D$12&\")=\"&$D$5&\" and localMonth(\"&$D$12&\") =\"&$E$5&\" and LocalDay(\"&$D$12&\")=\"&$F$5&\" and Barix(\"&$D$12&\",reference:=StartOfDay)=\"&A57&\"\", \"Bar\", \"\", \"Close\",\"5\",\"0\",\"\",,,\"False\",\"T\",\"EveryTick\")","v":1301},-2.6065624041705692E-3,{"$f":"RTD(\"cqg.rtd\",,\"StudyData\", \"Close(\"&$D$12&\") when LocalYear(\"&$D$12&\")=\"&$D$6&\" and localMonth(\"&$D$12&\") =\"&$E$6&\" and LocalDay(\"&$D$12&\")=\"&$F$6&\" and Barix(\"&$D$12&\",reference:=StartOfDay)=\"&A57&\"\", \"Bar\", \"\", \"Close\",\"5\",\"0\",\"\",,,\"False\",\"T\",\"EveryTick\")","v":1304.4000000000001},6.9044879171468424E-4,{"$f":"RTD(\"cqg.rtd\",,\"StudyData\", \"Close(\"&$D$12&\") when LocalYear(\"&$D$12&\")=\"&$D$7&\" and localMonth(\"&$D$12&\") =\"&$E$7&\" and LocalDay(\"&$D$12&\")=\"&$F$7&\" and Barix(\"&$D$12&\",reference:=StartOfDay)=\"&A57&\"\", \"Bar\", \"\", \"Close\",\"5\",\"0\",\"\",,,\"False\",\"T\",\"EveryTick\")","v":1302.3},7.6846230692384542E-4,{"$f":"RTD(\"cqg.rtd\",,\"StudyData\", \"Close(\"&$D$12&\") when LocalYear(\"&$D$12&\")=\"&$D$8&\" and localMonth(\"&$D$12&\") =\"&$E$8&\" and LocalDay(\"&$D$12&\")=\"&$F$8&\" and Barix(\"&$D$12&\",reference:=StartOfDay)=\"&A57&\"\", \"Bar\", \"\", \"Close\",\"5\",\"0\",\"\",,,\"False\",\"T\",\"EveryTick\")","v":1301.5},6.9198831308633782E-4,{"$f":"RTD(\"cqg.rtd\",,\"StudyData\", \"Close(\"&$D$12&\") when LocalYear(\"&$D$12&\")=\"&$D$9&\" and localMonth(\"&$D$12&\") =\"&$E$9&\" and LocalDay(\"&$D$12&\")=\"&$F$9&\" and Barix(\"&$D$12&\",reference:=StartOfDay)=\"&A57&\"\", \"Bar\", \"\", \"Close\",\"5\",\"0\",\"\",,,\"False\",\"T\",\"EveryTick\")","v":1303.8},2.6145801291909132E-3,{"$f":"RTD(\"cqg.rtd\",,\"StudyData\", \"Close(\"&$D$12&\") when LocalYear(\"&$D$12&\")=\"&$D$10&\" and localMonth(\"&$D$12&\") =\"&$E$10&\" and LocalDay(\"&$D$12&\")=\"&$F$10&\" and Barix(\"&$D$12&\",reference:=StartOfDay)=\"&A57&\"\", \"Bar\", \"\", \"Close\",\"5\",\"0\",\"\",,,\"False\",\"T\",\"EveryTick\")","v":1302.8},5.3244849139593049E-3,null,null,null,""]
[225,"11:45:00",-20,{"$f":" RTD(\"cqg.rtd\",,\"StudyData\", $D$12,  \"Tick\", \"FlatTicks=0\", \"Tick\",\"D\",C58,\"\")","v":1282.5999999999999},null,null,null,{"$f":"RTD(\"cqg.rtd\",,\"StudyData\", \"Close(\"&$D$12&\") when LocalYear(\"&$D$12&\")=\"&$D$1&\" and localMonth(\"&$D$12&\") =\"&$E$1&\" and LocalDay(\"&$D$12&\")=\"&$F$1&\" and Barix(\"&$D$12&\",reference:=StartOfDay)=\"&A58&\"\", \"Bar\", \"\", \"Close\",\"5\",\"0\",\"\",,,\"False\",\"T\",\"EveryTick\")","v":""},{"$error":"#N/A"},{"$f":"RTD(\"cqg.rtd\",,\"StudyData\", \"Close(\"&$D$12&\") when LocalYear(\"&$D$12&\")=\"&$D$2&\" and localMonth(\"&$D$12&\") =\"&$E$2&\" and LocalDay(\"&$D$12&\")=\"&$F$2&\" and Barix(\"&$D$12&\",reference:=StartOfDay)=\"&A58&\"\", \"Bar\", \"\", \"Close\",\"5\",\"0\",\"\",,,\"False\",\"T\",\"EveryTick\")","v":1280.3},-1.960333869362136E-2,{"$f":"RTD(\"cqg.rtd\",,\"StudyData\", \"Close(\"&$D$12&\") when LocalYear(\"&$D$12&\")=\"&$D$3&\" and localMonth(\"&$D$12&\") =\"&$E$3&\" and LocalDay(\"&$D$12&\")=\"&$F$3&\" and Barix(\"&$D$12&\",reference:=StartOfDay)=\"&A58&\"\", \"Bar\", \"\", \"Close\",\"5\",\"0\",\"\",,,\"False\",\"T\",\"EveryTick\")","v":1307.5999999999999},3.6073374779337E-3,{"$f":"RTD(\"cqg.rtd\",,\"StudyData\", \"Close(\"&$D$12&\") when LocalYear(\"&$D$12&\")=\"&$D$4&\" and localMonth(\"&$D$12&\") =\"&$E$4&\" and LocalDay(\"&$D$12&\")=\"&$F$4&\" and Barix(\"&$D$12&\",reference:=StartOfDay)=\"&A58&\"\", \"Bar\", \"\", \"Close\",\"5\",\"0\",\"\",,,\"False\",\"T\",\"EveryTick\")","v":1301.7},1.6158818097877321E-3,{"$f":"RTD(\"cqg.rtd\",,\"StudyData\", \"Close(\"&$D$12&\") when LocalYear(\"&$D$12&\")=\"&$D$5&\" and localMonth(\"&$D$12&\") =\"&$E$5&\" and LocalDay(\"&$D$12&\")=\"&$F$5&\" and Barix(\"&$D$12&\",reference:=StartOfDay)=\"&A58&\"\", \"Bar\", \"\", \"Close\",\"5\",\"0\",\"\",,,\"False\",\"T\",\"EveryTick\")","v":1300.8},-2.7598896044159276E-3,{"$f":"RTD(\"cqg.rtd\",,\"StudyData\", \"Close(\"&$D$12&\") when LocalYear(\"&$D$12&\")=\"&$D$6&\" and localMonth(\"&$D$12&\") =\"&$E$6&\" and LocalDay(\"&$D$12&\")=\"&$F$6&\" and Barix(\"&$D$12&\",reference:=StartOfDay)=\"&A58&\"\", \"Bar\", \"\", \"Close\",\"5\",\"0\",\"\",,,\"False\",\"T\",\"EveryTick\")","v":1304.5999999999999},8.4388185654001458E-4,{"$f":"RTD(\"cqg.rtd\",,\"StudyData\", \"Close(\"&$D$12&\") when LocalYear(\"&$D$12&\")=\"&$D$7&\" and localMonth(\"&$D$12&\") =\"&$E$7&\" and LocalDay(\"&$D$12&\")=\"&$F$7&\" and Barix(\"&$D$12&\",reference:=StartOfDay)=\"&A58&\"\", \"Bar\", \"\", \"Close\",\"5\",\"0\",\"\",,,\"False\",\"T\",\"EveryTick\")","v":1302.5},9.2215476830864946E-4,{"$f":"RTD(\"cqg.rtd\",,\"StudyData\", \"Close(\"&$D$12&\") when LocalYear(\"&$D$12&\")=\"&$D$8&\" and localMonth(\"&$D$12&\") =\"&$E$8&\" and LocalDay(\"&$D$12&\")=\"&$F$8&\" and Barix(\"&$D$12&\",reference:=StartOfDay)=\"&A58&\"\", \"Bar\", \"\", \"Close\",\"5\",\"0\",\"\",,,\"False\",\"T\",\"EveryTick\")","v":1302},1.0764262648009311E-3,{"$f":"RTD(\"cqg.rtd\",,\"StudyData\", \"Close(\"&$D$12&\") when LocalYear(\"&$D$12&\")=\"&$D$9&\" and localMonth(\"&$D$12&\") =\"&$E$9&\" and LocalDay(\"&$D$12&\")=\"&$F$9&\" and Barix(\"&$D$12&\",reference:=StartOfDay)=\"&A58&\"\", \"Bar\", \"\", \"Close\",\"5\",\"0\",\"\",,,\"False\",\"T\",\"EveryTick\")","v":1303.9000000000001},2.6914795447554596E-3,{"$f":"RTD(\"cqg.rtd\",,\"StudyData\", \"Close(\"&$D$12&\") when LocalYear(\"&$D$12&\")=\"&$D$10&\" and localMonth(\"&$D$12&\") =\"&$E$10&\" and LocalDay(\"&$D$12&\")=\"&$F$10&\" and Barix(\"&$D$12&\",reference:=StartOfDay)=\"&A58&\"\", \"Bar\", \"\", \"Close\",\"5\",\"0\",\"\",,,\"False\",\"T\",\"EveryTick\")","v":1302.4000000000001},5.0158191218458211E-3,null,null,null,""]
[226,"11:50:00",{"$f":"C58+1","v":-19},{"$f":" RTD(\"cqg.rtd\",,\"StudyData\", $D$12,  \"Tick\", \"FlatTicks=0\", \"Tick\",\"D\",C59,\"\")","v":1282.7},null,null,null,{"$f":"RTD(\"cqg.rtd\",,\"StudyData\", \"Close(\"&$D$12&\") when LocalYear(\"&$D$12&\")=\"&$D$1&\" and localMonth(\"&$D$12&\") =\"&$E$1&\" and LocalDay(\"&$D$12&\")=\"&$F$1&\" and Barix(\"&$D$12&\",reference:=StartOfDay)=\"&A59&\"\", \"Bar\", \"\", \"Close\",\"5\",\"0\",\"\",,,\"False\",\"T\",\"EveryTick\")","v":""},{"$error":"#N/A"},{"$f":"RTD(\"cqg.rtd\",,\"StudyData\", \"Close(\"&$D$12&\") when LocalYear(\"&$D$12&\")=\"&$D$2&\" and localMonth(\"&$D$12&\") =\"&$E$2&\" and LocalDay(\"&$D$12&\")=\"&$F$2&\" and Barix(\"&$D$12&\",reference:=StartOfDay)=\"&A59&\"\", \"Bar\", \"\", \"Close\",\"5\",\"0\",\"\",,,\"False\",\"T\",\"EveryTick\")","v":1279.9000000000001},-1.9909640860709087E-2,{"$f":"RTD(\"cqg.rtd\",,\"StudyData\", \"Close(\"&$D$12&\") when LocalYear(\"&$D$12&\")=\"&$D$3&\" and localMonth(\"&$D$12&\") =\"&$E$3&\" and LocalDay(\"&$D$12&\")=\"&$F$3&\" and Barix(\"&$D$12&\",reference:=StartOfDay)=\"&A59&\"\", \"Bar\", \"\", \"Close\",\"5\",\"0\",\"\",,,\"False\",\"T\",\"EveryTick\")","v":1308},3.9143449228643094E-3,{"$f":"RTD(\"cqg.rtd\",,\"StudyData\", \"Close(\"&$D$12&\") when LocalYear(\"&$D$12&\")=\"&$D$4&\" and localMonth(\"&$D$12&\") =\"&$E$4&\" and LocalDay(\"&$D$12&\")=\"&$F$4&\" and Barix(\"&$D$12&\",reference:=StartOfDay)=\"&A59&\"\", \"Bar\", \"\", \"Close\",\"5\",\"0\",\"\",,,\"False\",\"T\",\"EveryTick\")","v":1301.8},1.6928285626346918E-3,{"$f":"RTD(\"cqg.rtd\",,\"StudyData\", \"Close(\"&$D$12&\") when LocalYear(\"&$D$12&\")=\"&$D$5&\" and localMonth(\"&$D$12&\") =\"&$E$5&\" and LocalDay(\"&$D$12&\")=\"&$F$5&\" and Barix(\"&$D$12&\",reference:=StartOfDay)=\"&A59&\"\", \"Bar\", \"\", \"Close\",\"5\",\"0\",\"\",,,\"False\",\"T\",\"EveryTick\")","v":1300.7},-2.8365532045385197E-3,{"$f":"RTD(\"cqg.rtd\",,\"StudyData\", \"Close(\"&$D$12&\") when LocalYear(\"&$D$12&\")=\"&$D$6&\" and localMonth(\"&$D$12&\") =\"&$E$6&\" and LocalDay(\"&$D$12&\")=\"&$F$6&\" and Barix(\"&$D$12&\",reference:=StartOfDay)=\"&A59&\"\", \"Bar\", \"\", \"Close\",\"5\",\"0\",\"\",,,\"False\",\"T\",\"EveryTick\")","v":1304.5},7.6716532412734941E-4,{"$f":"RTD(\"cqg.rtd\",,\"StudyData\", \"Close(\"&$D$12&\") when LocalYear(\"&$D$12&\")=\"&$D$7&\" and localMonth(\"&$D$12&\") =\"&$E$7&\" and LocalDay(\"&$D$12&\")=\"&$F$7&\" and Barix(\"&$D$12&\",reference:=StartOfDay)=\"&A59&\"\", \"Bar\", \"\", \"Close\",\"5\",\"0\",\"\",,,\"False\",\"T\",\"EveryTick\")","v":1302.5},9.2215476830864946E-4,{"$f":"RTD(\"cqg.rtd\",,\"StudyData\", \"Close(\"&$D$12&\") when LocalYear(\"&$D$12&\")=\"&$D$8&\" and localMonth(\"&$D$12&\") =\"&$E$8&\" and LocalDay(\"&$D$12&\")=\"&$F$8&\" and Barix(\"&$D$12&\",reference:=StartOfDay)=\"&A59&\"\", \"Bar\", \"\", \"Close\",\"5\",\"0\",\"\",,,\"False\",\"T\",\"EveryTick\")","v":1301.9000000000001},9.9953867445808238E-4,{"$f":"RTD(\"cqg.rtd\",,\"StudyData\", \"Close(\"&$D$12&\") when LocalYear(\"&$D$12&\")=\"&$D$9&\" and localMonth(\"&$D$12&\") =\"&$E$9&\" and LocalDay(\"&$D$12&\")=\"&$F$9&\" and Barix(\"&$D$12&\",reference:=StartOfDay)=\"&A59&\"\", \"Bar\", \"\", \"Close\",\"5\",\"0\",\"\",,,\"False\",\"T\",\"EveryTick\")","v":1303.3},2.2300830513687043E-3,{"$f":"RTD(\"cqg.rtd\",,\"StudyData\", \"Close(\"&$D$12&\") when LocalYear(\"&$D$12&\")=\"&$D$10&\" and localMonth(\"&$D$12&\") =\"&$E$10&\" and LocalDay(\"&$D$12&\")=\"&$F$10&\" and Barix(\"&$D$12&\",reference:=StartOfDay)=\"&A59&\"\", \"Bar\", \"\", \"Close\",\"5\",\"0\",\"\",,,\"False\",\"T\",\"EveryTick\")","v":1302.9000000000001},5.4016513619878073E-3,null,null,null,""]
[227,"11:55:00",{"$f":"C59+1","v":-18},{"$f":" RTD(\"cqg.rtd\",,\"StudyData\", $D$12,  \"Tick\", \"FlatTicks=0\", \"Tick\",\"D\",C60,\"\")","v":1282.5999999999999},null,null,null,{"$f":"RTD(\"cqg.rtd\",,\"StudyData\", \"Close(\"&$D$12&\") when LocalYear(\"&$D$12&\")=\"&$D$1&\" and localMonth(\"&$D$12&\") =\"&$E$1&\" and LocalDay(\"&$D$12&\")=\"&$F$1&\" and Barix(\"&$D$12&\",reference:=StartOfDay)=\"&A60&\"\", \"Bar\", \"\", \"Close\",\"5\",\"0\",\"\",,,\"False\",\"T\",\"EveryTick\")","v":""},{"$error":"#N/A"},{"$f":"RTD(\"cqg.rtd\",,\"StudyData\", \"Close(\"&$D$12&\") when LocalYear(\"&$D$12&\")=\"&$D$2&\" and localMonth(\"&$D$12&\") =\"&$E$2&\" and LocalDay(\"&$D$12&\")=\"&$F$2&\" and Barix(\"&$D$12&\",reference:=StartOfDay)=\"&A60&\"\", \"Bar\", \"\", \"Close\",\"5\",\"0\",\"\",,,\"False\",\"T\",\"EveryTick\")","v":1279.0999999999999},-2.0522245194884891E-2,{"$f":"RTD(\"cqg.rtd\",,\"StudyData\", \"Close(\"&$D$12&\") when LocalYear(\"&$D$12&\")=\"&$D$3&\" and localMonth(\"&$D$12&\") =\"&$E$3&\" and LocalDay(\"&$D$12&\")=\"&$F$3&\" and Barix(\"&$D$12&\",reference:=StartOfDay)=\"&A60&\"\", \"Bar\", \"\", \"Close\",\"5\",\"0\",\"\",,,\"False\",\"T\",\"EveryTick\")","v":1307.5999999999999},3.6073374779337E-3,{"$f":"RTD(\"cqg.rtd\",,\"StudyData\", \"Close(\"&$D$12&\") when LocalYear(\"&$D$12&\")=\"&$D$4&\" and localMonth(\"&$D$12&\") =\"&$E$4&\" and LocalDay(\"&$D$12&\")=\"&$F$4&\" and Barix(\"&$D$12&\",reference:=StartOfDay)=\"&A60&\"\", \"Bar\", \"\", \"Close\",\"5\",\"0\",\"\",,,\"False\",\"T\",\"EveryTick\")","v":1301.9000000000001},1.7697753154818268E-3,{"$f":"RTD(\"cqg.rtd\",,\"StudyData\", \"Close(\"&$D$12&\") when LocalYear(\"&$D$12&\")=\"&$D$5&\" and localMonth(\"&$D$12&\") =\"&$E$5&\" and LocalDay(\"&$D$12&\")=\"&$F$5&\" and Barix(\"&$D$12&\",reference:=StartOfDay)=\"&A60&\"\", \"Bar\", \"\", \"Close\",\"5\",\"0\",\"\",,,\"False\",\"T\",\"EveryTick\")","v":1300.4000000000001},-3.0665440049064702E-3,{"$f":"RTD(\"cqg.rtd\",,\"StudyData\", \"Close(\"&$D$12&\") when LocalYear(\"&$D$12&\")=\"&$D$6&\" and localMonth(\"&$D$12&\") =\"&$E$6&\" and LocalDay(\"&$D$12&\")=\"&$F$6&\" and Barix(\"&$D$12&\",reference:=StartOfDay)=\"&A60&\"\", \"Bar\", \"\", \"Close\",\"5\",\"0\",\"\",,,\"False\",\"T\",\"EveryTick\")","v":1304.4000000000001},6.9044879171468424E-4,{"$f":"RTD(\"cqg.rtd\",,\"StudyData\", \"Close(\"&$D$12&\") when LocalYear(\"&$D$12&\")=\"&$D$7&\" and localMonth(\"&$D$12&\") =\"&$E$7&\" and LocalDay(\"&$D$12&\")=\"&$F$7&\" and Barix(\"&$D$12&\",reference:=StartOfDay)=\"&A60&\"\", \"Bar\", \"\", \"Close\",\"5\",\"0\",\"\",,,\"False\",\"T\",\"EveryTick\")","v":1302.2},6.9161607623153079E-4,{"$f":"RTD(\"cqg.rtd\",,\"StudyData\", \"Close(\"&$D$12&\") when LocalYear(\"&$D$12&\")=\"&$D$8&\" and localMonth(\"&$D$12&\") =\"&$E$8&\" and LocalDay(\"&$D$12&\")=\"&$F$8&\" and Barix(\"&$D$12&\",reference:=StartOfDay)=\"&A60&\"\", \"Bar\", \"\", \"Close\",\"5\",\"0\",\"\",,,\"False\",\"T\",\"EveryTick\")","v":1301.7},8.457634937722101E-4,{"$f":"RTD(\"cqg.rtd\",,\"StudyData\", \"Close(\"&$D$12&\") when LocalYear(\"&$D$12&\")=\"&$D$9&\" and localMonth(\"&$D$12&\") =\"&$E$9&\" and LocalDay(\"&$D$12&\")=\"&$F$9&\" and Barix(\"&$D$12&\",reference:=StartOfDay)=\"&A60&\"\", \"Bar\", \"\", \"Close\",\"5\",\"0\",\"\",,,\"False\",\"T\",\"EveryTick\")","v":1301.8},1.076591817902079E-3,{"$f":"RTD(\"cqg.rtd\",,\"StudyData\", \"Close(\"&$D$12&\") when LocalYear(\"&$D$12&\")=\"&$D$10&\" and localMonth(\"&$D$12&\") =\"&$E$10&\" and LocalDay(\"&$D$12&\")=\"&$F$10&\" and Barix(\"&$D$12&\",reference:=StartOfDay)=\"&A60&\"\", \"Bar\", \"\", \"Close\",\"5\",\"0\",\"\",,,\"False\",\"T\",\"EveryTick\")","v":1302.7},5.2473184659309778E-3,null,null,null,""]
[228,"12:00:00",-17,{"$f":" RTD(\"cqg.rtd\",,\"StudyData\", $D$12,  \"Tick\", \"FlatTicks=0\", \"Tick\",\"D\",C61,\"\")","v":1282.7},null,null,null,{"$f":"RTD(\"cqg.rtd\",,\"StudyData\", \"Close(\"&$D$12&\") when LocalYear(\"&$D$12&\")=\"&$D$1&\" and localMonth(\"&$D$12&\") =\"&$E$1&\" and LocalDay(\"&$D$12&\")=\"&$F$1&\" and Barix(\"&$D$12&\",reference:=StartOfDay)=\"&A61&\"\", \"Bar\", \"\", \"Close\",\"5\",\"0\",\"\",,,\"False\",\"T\",\"EveryTick\")","v":""},{"$error":"#N/A"},{"$f":"RTD(\"cqg.rtd\",,\"StudyData\", \"Close(\"&$D$12&\") when LocalYear(\"&$D$12&\")=\"&$D$2&\" and localMonth(\"&$D$12&\") =\"&$E$2&\" and LocalDay(\"&$D$12&\")=\"&$F$2&\" and Barix(\"&$D$12&\",reference:=StartOfDay)=\"&A61&\"\", \"Bar\", \"\", \"Close\",\"5\",\"0\",\"\",,,\"False\",\"T\",\"EveryTick\")","v":1279.7},-2.006279194425304E-2,{"$f":"RTD(\"cqg.rtd\",,\"StudyData\", \"Close(\"&$D$12&\") when LocalYear(\"&$D$12&\")=\"&$D$3&\" and localMonth(\"&$D$12&\") =\"&$E$3&\" and LocalDay(\"&$D$12&\")=\"&$F$3&\" and Barix(\"&$D$12&\",reference:=StartOfDay)=\"&A61&\"\", \"Bar\", \"\", \"Close\",\"5\",\"0\",\"\",,,\"False\",\"T\",\"EveryTick\")","v":1307},3.1468263105379605E-3,{"$f":"RTD(\"cqg.rtd\",,\"StudyData\", \"Close(\"&$D$12&\") when LocalYear(\"&$D$12&\")=\"&$D$4&\" and localMonth(\"&$D$12&\") =\"&$E$4&\" and LocalDay(\"&$D$12&\")=\"&$F$4&\" and Barix(\"&$D$12&\",reference:=StartOfDay)=\"&A61&\"\", \"Bar\", \"\", \"Close\",\"5\",\"0\",\"\",,,\"False\",\"T\",\"EveryTick\")","v":1302.0999999999999},1.9236688211757464E-3,{"$f":"RTD(\"cqg.rtd\",,\"StudyData\", \"Close(\"&$D$12&\") when LocalYear(\"&$D$12&\")=\"&$D$5&\" and localMonth(\"&$D$12&\") =\"&$E$5&\" and LocalDay(\"&$D$12&\")=\"&$F$5&\" and Barix(\"&$D$12&\",reference:=StartOfDay)=\"&A61&\"\", \"Bar\", \"\", \"Close\",\"5\",\"0\",\"\",,,\"False\",\"T\",\"EveryTick\")","v":1300.4000000000001},-3.0665440049064702E-3,{"$f":"RTD(\"cqg.rtd\",,\"StudyData\", \"Close(\"&$D$12&\") when LocalYear(\"&$D$12&\")=\"&$D$6&\" and localMonth(\"&$D$12&\") =\"&$E$6&\" and LocalDay(\"&$D$12&\")=\"&$F$6&\" and Barix(\"&$D$12&\",reference:=StartOfDay)=\"&A61&\"\", \"Bar\", \"\", \"Close\",\"5\",\"0\",\"\",,,\"False\",\"T\",\"EveryTick\")","v":1304.7},9.205983889528542E-4,{"$f":"RTD(\"cqg.rtd\",,\"StudyData\", \"Close(\"&$D$12&\") when LocalYear(\"&$D$12&\")=\"&$D$7&\" and localMonth(\"&$D$12&\") =\"&$E$7&\" and LocalDay(\"&$D$12&\")=\"&$F$7&\" and Barix(\"&$D$12&\",reference:=StartOfDay)=\"&A61&\"\", \"Bar\", \"\", \"Close\",\"5\",\"0\",\"\",,,\"False\",\"T\",\"EveryTick\")","v":1302.5999999999999},9.9900099900096409E-4,{"$f":"RTD(\"cqg.rtd\",,\"StudyData\", \"Close(\"&$D$12&\") when LocalYear(\"&$D$12&\")=\"&$D$8&\" and localMonth(\"&$D$12&\") =\"&$E$8&\" and LocalDay(\"&$D$12&\")=\"&$F$8&\" and Barix(\"&$D$12&\",reference:=StartOfDay)=\"&A61&\"\", \"Bar\", \"\", \"Close\",\"5\",\"0\",\"\",,,\"False\",\"T\",\"EveryTick\")","v":1302.0999999999999},1.1533138551437798E-3,{"$f":"RTD(\"cqg.rtd\",,\"StudyData\", \"Close(\"&$D$12&\") when LocalYear(\"&$D$12&\")=\"&$D$9&\" and localMonth(\"&$D$12&\") =\"&$E$9&\" and LocalDay(\"&$D$12&\")=\"&$F$9&\" and Barix(\"&$D$12&\",reference:=StartOfDay)=\"&A61&\"\", \"Bar\", \"\", \"Close\",\"5\",\"0\",\"\",,,\"False\",\"T\",\"EveryTick\")","v":1302},1.2303906490309974E-3,{"$f":"RTD(\"cqg.rtd\",,\"StudyData\", \"Close(\"&$D$12&\") when LocalYear(\"&$D$12&\")=\"&$D$10&\" and localMonth(\"&$D$12&\") =\"&$E$10&\" and LocalDay(\"&$D$12&\")=\"&$F$10&\" and Barix(\"&$D$12&\",reference:=StartOfDay)=\"&A61&\"\", \"Bar\", \"\", \"Close\",\"5\",\"0\",\"\",,,\"False\",\"T\",\"EveryTick\")","v":1303},5.4788178100161344E-3,null,null,null,""]
[229,"12:05:00",-16,{"$f":" RTD(\"cqg.rtd\",,\"StudyData\", $D$12,  \"Tick\", \"FlatTicks=0\", \"Tick\",\"D\",C62,\"\")","v":1282.8},null,null,null,{"$f":"RTD(\"cqg.rtd\",,\"StudyData\", \"Close(\"&$D$12&\") when LocalYear(\"&$D$12&\")=\"&$D$1&\" and localMonth(\"&$D$12&\") =\"&$E$1&\" and LocalDay(\"&$D$12&\")=\"&$F$1&\" and Barix(\"&$D$12&\",reference:=StartOfDay)=\"&A62&\"\", \"Bar\", \"\", \"Close\",\"5\",\"0\",\"\",,,\"False\",\"T\",\"EveryTick\")","v":""},{"$error":"#N/A"},{"$f":"RTD(\"cqg.rtd\",,\"StudyData\", \"Close(\"&$D$12&\") when LocalYear(\"&$D$12&\")=\"&$D$2&\" and localMonth(\"&$D$12&\") =\"&$E$2&\" and LocalDay(\"&$D$12&\")=\"&$F$2&\" and Barix(\"&$D$12&\",reference:=StartOfDay)=\"&A62&\"\", \"Bar\", \"\", \"Close\",\"5\",\"0\",\"\",,,\"False\",\"T\",\"EveryTick\")","v":1280.4000000000001},-1.95267631518493E-2,{"$f":"RTD(\"cqg.rtd\",,\"StudyData\", \"Close(\"&$D$12&\") when LocalYear(\"&$D$12&\")=\"&$D$3&\" and localMonth(\"&$D$12&\") =\"&$E$3&\" and LocalDay(\"&$D$12&\")=\"&$F$3&\" and Barix(\"&$D$12&\",reference:=StartOfDay)=\"&A62&\"\", \"Bar\", \"\", \"Close\",\"5\",\"0\",\"\",,,\"False\",\"T\",\"EveryTick\")","v":1307.0999999999999},3.2235781717705257E-3,{"$f":"RTD(\"cqg.rtd\",,\"StudyData\", \"Close(\"&$D$12&\") when LocalYear(\"&$D$12&\")=\"&$D$4&\" and localMonth(\"&$D$12&\") =\"&$E$4&\" and LocalDay(\"&$D$12&\")=\"&$F$4&\" and Barix(\"&$D$12&\",reference:=StartOfDay)=\"&A62&\"\", \"Bar\", \"\", \"Close\",\"5\",\"0\",\"\",,,\"False\",\"T\",\"EveryTick\")","v":1301.5999999999999},1.5389350569405972E-3,{"$f":"RTD(\"cqg.rtd\",,\"StudyData\", \"Close(\"&$D$12&\") when LocalYear(\"&$D$12&\")=\"&$D$5&\" and localMonth(\"&$D$12&\") =\"&$E$5&\" and LocalDay(\"&$D$12&\")=\"&$F$5&\" and Barix(\"&$D$12&\",reference:=StartOfDay)=\"&A62&\"\", \"Bar\", \"\", \"Close\",\"5\",\"0\",\"\",,,\"False\",\"T\",\"EveryTick\")","v":1300.2},-3.2198712051518287E-3,{"$f":"RTD(\"cqg.rtd\",,\"StudyData\", \"Close(\"&$D$12&\") when LocalYear(\"&$D$12&\")=\"&$D$6&\" and localMonth(\"&$D$12&\") =\"&$E$6&\" and LocalDay(\"&$D$12&\")=\"&$F$6&\" and Barix(\"&$D$12&\",reference:=StartOfDay)=\"&A62&\"\", \"Bar\", \"\", \"Close\",\"5\",\"0\",\"\",,,\"False\",\"T\",\"EveryTick\")","v":1304.7},9.205983889528542E-4,{"$f":"RTD(\"cqg.rtd\",,\"StudyData\", \"Close(\"&$D$12&\") when LocalYear(\"&$D$12&\")=\"&$D$7&\" and localMonth(\"&$D$12&\") =\"&$E$7&\" and LocalDay(\"&$D$12&\")=\"&$F$7&\" and Barix(\"&$D$12&\",reference:=StartOfDay)=\"&A62&\"\", \"Bar\", \"\", \"Close\",\"5\",\"0\",\"\",,,\"False\",\"T\",\"EveryTick\")","v":1302.5999999999999},9.9900099900096409E-4,{"$f":"RTD(\"cqg.rtd\",,\"StudyData\", \"Close(\"&$D$12&\") when LocalYear(\"&$D$12&\")=\"&$D$8&\" and localMonth(\"&$D$12&\") =\"&$E$8&\" and LocalDay(\"&$D$12&\")=\"&$F$8&\" and Barix(\"&$D$12&\",reference:=StartOfDay)=\"&A62&\"\", \"Bar\", \"\", \"Close\",\"5\",\"0\",\"\",,,\"False\",\"T\",\"EveryTick\")","v":1302},1.0764262648009311E-3,{"$f":"RTD(\"cqg.rtd\",,\"StudyData\", \"Close(\"&$D$12&\") when LocalYear(\"&$D$12&\")=\"&$D$9&\" and localMonth(\"&$D$12&\") =\"&$E$9&\" and LocalDay(\"&$D$12&\")=\"&$F$9&\" and Barix(\"&$D$12&\",reference:=StartOfDay)=\"&A62&\"\", \"Bar\", \"\", \"Close\",\"5\",\"0\",\"\",,,\"False\",\"T\",\"EveryTick\")","v":1302.2},1.3841894801599158E-3,{"$f":"RTD(\"cqg.rtd\",,\"StudyData\", \"Close(\"&$D$12&\") when LocalYear(\"&$D$12&\")=\"&$D$10&\" and localMonth(\"&$D$12&\") =\"&$E$10&\" and LocalDay(\"&$D$12&\")=\"&$F$10&\" and Barix(\"&$D$12&\",reference:=StartOfDay)=\"&A62&\"\", \"Bar\", \"\", \"Close\",\"5\",\"0\",\"\",,,\"False\",\"T\",\"EveryTick\")","v":1303.0999999999999},5.5559842580444616E-3,null,null,null,""]
[230,"12:10:00",-15,{"$f":" RTD(\"cqg.rtd\",,\"StudyData\", $D$12,  \"Tick\", \"FlatTicks=0\", \"Tick\",\"D\",C63,\"\")","v":1282.7},null,null,null,{"$f":"RTD(\"cqg.rtd\",,\"StudyData\", \"Close(\"&$D$12&\") when LocalYear(\"&$D$12&\")=\"&$D$1&\" and localMonth(\"&$D$12&\") =\"&$E$1&\" and LocalDay(\"&$D$12&\")=\"&$F$1&\" and Barix(\"&$D$12&\",reference:=StartOfDay)=\"&A63&\"\", \"Bar\", \"\", \"Close\",\"5\",\"0\",\"\",,,\"False\",\"T\",\"EveryTick\")","v":""},{"$error":"#N/A"},{"$f":"RTD(\"cqg.rtd\",,\"StudyData\", \"Close(\"&$D$12&\") when LocalYear(\"&$D$12&\")=\"&$D$2&\" and localMonth(\"&$D$12&\") =\"&$E$2&\" and LocalDay(\"&$D$12&\")=\"&$F$2&\" and Barix(\"&$D$12&\",reference:=StartOfDay)=\"&A63&\"\", \"Bar\", \"\", \"Close\",\"5\",\"0\",\"\",,,\"False\",\"T\",\"EveryTick\")","v":1280.0999999999999},-1.975648977716531E-2,{"$f":"RTD(\"cqg.rtd\",,\"StudyData\", \"Close(\"&$D$12&\") when LocalYear(\"&$D$12&\")=\"&$D$3&\" and localMonth(\"&$D$12&\") =\"&$E$3&\" and LocalDay(\"&$D$12&\")=\"&$F$3&\" and Barix(\"&$D$12&\",reference:=StartOfDay)=\"&A63&\"\", \"Bar\", \"\", \"Close\",\"5\",\"0\",\"\",,,\"False\",\"T\",\"EveryTick\")","v":1307.2},3.3003300330032652E-3,{"$f":"RTD(\"cqg.rtd\",,\"StudyData\", \"Close(\"&$D$12&\") when LocalYear(\"&$D$12&\")=\"&$D$4&\" and localMonth(\"&$D$12&\") =\"&$E$4&\" and LocalDay(\"&$D$12&\")=\"&$F$4&\" and Barix(\"&$D$12&\",reference:=StartOfDay)=\"&A63&\"\", \"Bar\", \"\", \"Close\",\"5\",\"0\",\"\",,,\"False\",\"T\",\"EveryTick\")","v":1301.9000000000001},1.7697753154818268E-3,{"$f":"RTD(\"cqg.rtd\",,\"StudyData\", \"Close(\"&$D$12&\") when LocalYear(\"&$D$12&\")=\"&$D$5&\" and localMonth(\"&$D$12&\") =\"&$E$5&\" and LocalDay(\"&$D$12&\")=\"&$F$5&\" and Barix(\"&$D$12&\",reference:=StartOfDay)=\"&A63&\"\", \"Bar\", \"\", \"Close\",\"5\",\"0\",\"\",,,\"False\",\"T\",\"EveryTick\")","v":1298.7},-4.3698252069917553E-3,{"$f":"RTD(\"cqg.rtd\",,\"StudyData\", \"Close(\"&$D$12&\") when LocalYear(\"&$D$12&\")=\"&$D$6&\" and localMonth(\"&$D$12&\") =\"&$E$6&\" and LocalDay(\"&$D$12&\")=\"&$F$6&\" and Barix(\"&$D$12&\",reference:=StartOfDay)=\"&A63&\"\", \"Bar\", \"\", \"Close\",\"5\",\"0\",\"\",,,\"False\",\"T\",\"EveryTick\")","v":1304.7},9.205983889528542E-4,{"$f":"RTD(\"cqg.rtd\",,\"StudyData\", \"Close(\"&$D$12&\") when LocalYear(\"&$D$12&\")=\"&$D$7&\" and localMonth(\"&$D$12&\") =\"&$E$7&\" and LocalDay(\"&$D$12&\")=\"&$F$7&\" and Barix(\"&$D$12&\",reference:=StartOfDay)=\"&A63&\"\", \"Bar\", \"\", \"Close\",\"5\",\"0\",\"\",,,\"False\",\"T\",\"EveryTick\")","v":1302.5},9.2215476830864946E-4,{"$f":"RTD(\"cqg.rtd\",,\"StudyData\", \"Close(\"&$D$12&\") when LocalYear(\"&$D$12&\")=\"&$D$8&\" and localMonth(\"&$D$12&\") =\"&$E$8&\" and LocalDay(\"&$D$12&\")=\"&$F$8&\" and Barix(\"&$D$12&\",reference:=StartOfDay)=\"&A63&\"\", \"Bar\", \"\", \"Close\",\"5\",\"0\",\"\",,,\"False\",\"T\",\"EveryTick\")","v":1302.8},1.6915269875442454E-3,{"$f":"RTD(\"cqg.rtd\",,\"StudyData\", \"Close(\"&$D$12&\") when LocalYear(\"&$D$12&\")=\"&$D$9&\" and localMonth(\"&$D$12&\") =\"&$E$9&\" and LocalDay(\"&$D$12&\")=\"&$F$9&\" and Barix(\"&$D$12&\",reference:=StartOfDay)=\"&A63&\"\", \"Bar\", \"\", \"Close\",\"5\",\"0\",\"\",,,\"False\",\"T\",\"EveryTick\")","v":1301.9000000000001},1.1534912334666256E-3,{"$f":"RTD(\"cqg.rtd\",,\"StudyData\", \"Close(\"&$D$12&\") when LocalYear(\"&$D$12&\")=\"&$D$10&\" and localMonth(\"&$D$12&\") =\"&$E$10&\" and LocalDay(\"&$D$12&\")=\"&$F$10&\" and Barix(\"&$D$12&\",reference:=StartOfDay)=\"&A63&\"\", \"Bar\", \"\", \"Close\",\"5\",\"0\",\"\",,,\"False\",\"T\",\"EveryTick\")","v":1303.2},5.6331507060729639E-3,null,null,null,""]
[231,"12:15:00",-14,{"$f":" RTD(\"cqg.rtd\",,\"StudyData\", $D$12,  \"Tick\", \"FlatTicks=0\", \"Tick\",\"D\",C64,\"\")","v":1282.8},null,null,null,{"$f":"RTD(\"cqg.rtd\",,\"StudyData\", \"Close(\"&$D$12&\") when LocalYear(\"&$D$12&\")=\"&$D$1&\" and localMonth(\"&$D$12&\") =\"&$E$1&\" and LocalDay(\"&$D$12&\")=\"&$F$1&\" and Barix(\"&$D$12&\",reference:=StartOfDay)=\"&A64&\"\", \"Bar\", \"\", \"Close\",\"5\",\"0\",\"\",,,\"False\",\"T\",\"EveryTick\")","v":""},{"$error":"#N/A"},{"$f":"RTD(\"cqg.rtd\",,\"StudyData\", \"Close(\"&$D$12&\") when LocalYear(\"&$D$12&\")=\"&$D$2&\" and localMonth(\"&$D$12&\") =\"&$E$2&\" and LocalDay(\"&$D$12&\")=\"&$F$2&\" and Barix(\"&$D$12&\",reference:=StartOfDay)=\"&A64&\"\", \"Bar\", \"\", \"Close\",\"5\",\"0\",\"\",,,\"False\",\"T\",\"EveryTick\")","v":1279.4000000000001},-2.0292518569568877E-2,{"$f":"RTD(\"cqg.rtd\",,\"StudyData\", \"Close(\"&$D$12&\") when LocalYear(\"&$D$12&\")=\"&$D$3&\" and localMonth(\"&$D$12&\") =\"&$E$3&\" and LocalDay(\"&$D$12&\")=\"&$F$3&\" and Barix(\"&$D$12&\",reference:=StartOfDay)=\"&A64&\"\", \"Bar\", \"\", \"Close\",\"5\",\"0\",\"\",,,\"False\",\"T\",\"EveryTick\")","v":1307.3},3.3770818942358304E-3,{"$f":"RTD(\"cqg.rtd\",,\"StudyData\", \"Close(\"&$D$12&\") when LocalYear(\"&$D$12&\")=\"&$D$4&\" and localMonth(\"&$D$12&\") =\"&$E$4&\" and LocalDay(\"&$D$12&\")=\"&$F$4&\" and Barix(\"&$D$12&\",reference:=StartOfDay)=\"&A64&\"\", \"Bar\", \"\", \"Close\",\"5\",\"0\",\"\",,,\"False\",\"T\",\"EveryTick\")","v":1301.9000000000001},1.7697753154818268E-3,{"$f":"RTD(\"cqg.rtd\",,\"StudyData\", \"Close(\"&$D$12&\") when LocalYear(\"&$D$12&\")=\"&$D$5&\" and localMonth(\"&$D$12&\") =\"&$E$5&\" and LocalDay(\"&$D$12&\")=\"&$F$5&\" and Barix(\"&$D$12&\",reference:=StartOfDay)=\"&A64&\"\", \"Bar\", \"\", \"Close\",\"5\",\"0\",\"\",,,\"False\",\"T\",\"EveryTick\")","v":1298.4000000000001},-4.5998160073597054E-3,{"$f":"RTD(\"cqg.rtd\",,\"StudyData\", \"Close(\"&$D$12&\") when LocalYear(\"&$D$12&\")=\"&$D$6&\" and localMonth(\"&$D$12&\") =\"&$E$6&\" and LocalDay(\"&$D$12&\")=\"&$F$6&\" and Barix(\"&$D$12&\",reference:=StartOfDay)=\"&A64&\"\", \"Bar\", \"\", \"Close\",\"5\",\"0\",\"\",,,\"False\",\"T\",\"EveryTick\")","v":1303.9000000000001},3.0686612965100953E-4,{"$f":"RTD(\"cqg.rtd\",,\"StudyData\", \"Close(\"&$D$12&\") when LocalYear(\"&$D$12&\")=\"&$D$7&\" and localMonth(\"&$D$12&\") =\"&$E$7&\" and LocalDay(\"&$D$12&\")=\"&$F$7&\" and Barix(\"&$D$12&\",reference:=StartOfDay)=\"&A64&\"\", \"Bar\", \"\", \"Close\",\"5\",\"0\",\"\",,,\"False\",\"T\",\"EveryTick\")","v":1302.5999999999999},9.9900099900096409E-4,{"$f":"RTD(\"cqg.rtd\",,\"StudyData\", \"Close(\"&$D$12&\") when LocalYear(\"&$D$12&\")=\"&$D$8&\" and localMonth(\"&$D$12&\") =\"&$E$8&\" and LocalDay(\"&$D$12&\")=\"&$F$8&\" and Barix(\"&$D$12&\",reference:=StartOfDay)=\"&A64&\"\", \"Bar\", \"\", \"Close\",\"5\",\"0\",\"\",,,\"False\",\"T\",\"EveryTick\")","v":1303.2},1.99907734891599E-3,{"$f":"RTD(\"cqg.rtd\",,\"StudyData\", \"Close(\"&$D$12&\") when LocalYear(\"&$D$12&\")=\"&$D$9&\" and localMonth(\"&$D$12&\") =\"&$E$9&\" and LocalDay(\"&$D$12&\")=\"&$F$9&\" and Barix(\"&$D$12&\",reference:=StartOfDay)=\"&A64&\"\", \"Bar\", \"\", \"Close\",\"5\",\"0\",\"\",,,\"False\",\"T\",\"EveryTick\")","v":1302},1.2303906490309974E-3,{"$f":"RTD(\"cqg.rtd\",,\"StudyData\", \"Close(\"&$D$12&\") when LocalYear(\"&$D$12&\")=\"&$D$10&\" and localMonth(\"&$D$12&\") =\"&$E$10&\" and LocalDay(\"&$D$12&\")=\"&$F$10&\" and Barix(\"&$D$12&\",reference:=StartOfDay)=\"&A64&\"\", \"Bar\", \"\", \"Close\",\"5\",\"0\",\"\",,,\"False\",\"T\",\"EveryTick\")","v":1302.5},5.0929855698741483E-3,null,null,null,""]
[232,"12:20:00",-13,{"$f":" RTD(\"cqg.rtd\",,\"StudyData\", $D$12,  \"Tick\", \"FlatTicks=0\", \"Tick\",\"D\",C65,\"\")","v":1282.7},null,null,null,{"$f":"RTD(\"cqg.rtd\",,\"StudyData\", \"Close(\"&$D$12&\") when LocalYear(\"&$D$12&\")=\"&$D$1&\" and localMonth(\"&$D$12&\") =\"&$E$1&\" and LocalDay(\"&$D$12&\")=\"&$F$1&\" and Barix(\"&$D$12&\",reference:=StartOfDay)=\"&A65&\"\", \"Bar\", \"\", \"Close\",\"5\",\"0\",\"\",,,\"False\",\"T\",\"EveryTick\")","v":""},{"$error":"#N/A"},{"$f":"RTD(\"cqg.rtd\",,\"StudyData\", \"Close(\"&$D$12&\") when LocalYear(\"&$D$12&\")=\"&$D$2&\" and localMonth(\"&$D$12&\") =\"&$E$2&\" and LocalDay(\"&$D$12&\")=\"&$F$2&\" and Barix(\"&$D$12&\",reference:=StartOfDay)=\"&A65&\"\", \"Bar\", \"\", \"Close\",\"5\",\"0\",\"\",,,\"False\",\"T\",\"EveryTick\")","v":1278.8},-2.0751971820200731E-2,{"$f":"RTD(\"cqg.rtd\",,\"StudyData\", \"Close(\"&$D$12&\") when LocalYear(\"&$D$12&\")=\"&$D$3&\" and localMonth(\"&$D$12&\") =\"&$E$3&\" and LocalDay(\"&$D$12&\")=\"&$F$3&\" and Barix(\"&$D$12&\",reference:=StartOfDay)=\"&A65&\"\", \"Bar\", \"\", \"Close\",\"5\",\"0\",\"\",,,\"False\",\"T\",\"EveryTick\")","v":1308.0999999999999},3.9910967840968746E-3,{"$f":"RTD(\"cqg.rtd\",,\"StudyData\", \"Close(\"&$D$12&\") when LocalYear(\"&$D$12&\")=\"&$D$4&\" and localMonth(\"&$D$12&\") =\"&$E$4&\" and LocalDay(\"&$D$12&\")=\"&$F$4&\" and Barix(\"&$D$12&\",reference:=StartOfDay)=\"&A65&\"\", \"Bar\", \"\", \"Close\",\"5\",\"0\",\"\",,,\"False\",\"T\",\"EveryTick\")","v":1301.7},1.6158818097877321E-3,{"$f":"RTD(\"cqg.rtd\",,\"StudyData\", \"Close(\"&$D$12&\") when LocalYear(\"&$D$12&\")=\"&$D$5&\" and localMonth(\"&$D$12&\") =\"&$E$5&\" and LocalDay(\"&$D$12&\")=\"&$F$5&\" and Barix(\"&$D$12&\",reference:=StartOfDay)=\"&A65&\"\", \"Bar\", \"\", \"Close\",\"5\",\"0\",\"\",,,\"False\",\"T\",\"EveryTick\")","v":1299.5999999999999},-3.6798528058879037E-3,{"$f":"RTD(\"cqg.rtd\",,\"StudyData\", \"Close(\"&$D$12&\") when LocalYear(\"&$D$12&\")=\"&$D$6&\" and localMonth(\"&$D$12&\") =\"&$E$6&\" and LocalDay(\"&$D$12&\")=\"&$F$6&\" and Barix(\"&$D$12&\",reference:=StartOfDay)=\"&A65&\"\", \"Bar\", \"\", \"Close\",\"5\",\"0\",\"\",,,\"False\",\"T\",\"EveryTick\")","v":1303.7},1.5343306482550477E-4,{"$f":"RTD(\"cqg.rtd\",,\"StudyData\", \"Close(\"&$D$12&\") when LocalYear(\"&$D$12&\")=\"&$D$7&\" and localMonth(\"&$D$12&\") =\"&$E$7&\" and LocalDay(\"&$D$12&\")=\"&$F$7&\" and Barix(\"&$D$12&\",reference:=StartOfDay)=\"&A65&\"\", \"Bar\", \"\", \"Close\",\"5\",\"0\",\"\",,,\"False\",\"T\",\"EveryTick\")","v":1302.5},9.2215476830864946E-4,{"$f":"RTD(\"cqg.rtd\",,\"StudyData\", \"Close(\"&$D$12&\") when LocalYear(\"&$D$12&\")=\"&$D$8&\" and localMonth(\"&$D$12&\") =\"&$E$8&\" and LocalDay(\"&$D$12&\")=\"&$F$8&\" and Barix(\"&$D$12&\",reference:=StartOfDay)=\"&A65&\"\", \"Bar\", \"\", \"Close\",\"5\",\"0\",\"\",,,\"False\",\"T\",\"EveryTick\")","v":1302.7},1.6146393972013967E-3,{"$f":"RTD(\"cqg.rtd\",,\"StudyData\", \"Close(\"&$D$12&\") when LocalYear(\"&$D$12&\")=\"&$D$9&\" and localMonth(\"&$D$12&\") =\"&$E$9&\" and LocalDay(\"&$D$12&\")=\"&$F$9&\" and Barix(\"&$D$12&\",reference:=StartOfDay)=\"&A65&\"\", \"Bar\", \"\", \"Close\",\"5\",\"0\",\"\",,,\"False\",\"T\",\"EveryTick\")","v":1301.4000000000001},7.6899415564441701E-4,{"$f":"RTD(\"cqg.rtd\",,\"StudyData\", \"Close(\"&$D$12&\") when LocalYear(\"&$D$12&\")=\"&$D$10&\" and localMonth(\"&$D$12&\") =\"&$E$10&\" and LocalDay(\"&$D$12&\")=\"&$F$10&\" and Barix(\"&$D$12&\",reference:=StartOfDay)=\"&A65&\"\", \"Bar\", \"\", \"Close\",\"5\",\"0\",\"\",,,\"False\",\"T\",\"EveryTick\")","v":1303.0999999999999},5.5559842580444616E-3,null,null,null,""]
[233,"12:25:00",-12,{"$f":" RTD(\"cqg.rtd\",,\"StudyData\", $D$12,  \"Tick\", \"FlatTicks=0\", \"Tick\",\"D\",C66,\"\")","v":1282.8},null,null,null,{"$f":"RTD(\"cqg.rtd\",,\"StudyData\", \"Close(\"&$D$12&\") when LocalYear(\"&$D$12&\")=\"&$D$1&\" and localMonth(\"&$D$12&\") =\"&$E$1&\" and LocalDay(\"&$D$12&\")=\"&$F$1&\" and Barix(\"&$D$12&\",reference:=StartOfDay)=\"&A66&\"\", \"Bar\", \"\", \"Close\",\"5\",\"0\",\"\",,,\"False\",\"T\",\"EveryTick\")","v":""},{"$error":"#N/A"},{"$f":"RTD(\"cqg.rtd\",,\"StudyData\", \"Close(\"&$D$12&\") when LocalYear(\"&$D$12&\")=\"&$D$2&\" and localMonth(\"&$D$12&\") =\"&$E$2&\" and LocalDay(\"&$D$12&\")=\"&$F$2&\" and Barix(\"&$D$12&\",reference:=StartOfDay)=\"&A66&\"\", \"Bar\", \"\", \"Close\",\"5\",\"0\",\"\",,,\"False\",\"T\",\"EveryTick\")","v":1278.5},{"$f":"IFERROR((J66-$G$3)/$G$3,NA())","v":-2.0981698445516572E-2},{"$f":"RTD(\"cqg.rtd\",,\"StudyData\", \"Close(\"&$D$12&\") when LocalYear(\"&$D$12&\")=\"&$D$3&\" and localMonth(\"&$D$12&\") =\"&$E$3&\" and LocalDay(\"&$D$12&\")=\"&$F$3&\" and Barix(\"&$D$12&\",reference:=StartOfDay)=\"&A66&\"\", \"Bar\", \"\", \"Close\",\"5\",\"0\",\"\",,,\"False\",\"T\",\"EveryTick\")","v":1308.3},{"$f":"IFERROR((L66-$G$4)/$G$4,NA())","v":4.1446005065621794E-3},{"$f":"RTD(\"cqg.rtd\",,\"StudyData\", \"Close(\"&$D$12&\") when LocalYear(\"&$D$12&\")=\"&$D$4&\" and localMonth(\"&$D$12&\") =\"&$E$4&\" and LocalDay(\"&$D$12&\")=\"&$F$4&\" and Barix(\"&$D$12&\",reference:=StartOfDay)=\"&A66&\"\", \"Bar\", \"\", \"Close\",\"5\",\"0\",\"\",,,\"False\",\"T\",\"EveryTick\")","v":1301.3},{"$f":"IFERROR((N66-$G$5)/$G$5,NA())","v":1.3080947983995425E-3},{"$f":"RTD(\"cqg.rtd\",,\"StudyData\", \"Close(\"&$D$12&\") when LocalYear(\"&$D$12&\")=\"&$D$5&\" and localMonth(\"&$D$12&\") =\"&$E$5&\" and LocalDay(\"&$D$12&\")=\"&$F$5&\" and Barix(\"&$D$12&\",reference:=StartOfDay)=\"&A66&\"\", \"Bar\", \"\", \"Close\",\"5\",\"0\",\"\",,,\"False\",\"T\",\"EveryTick\")","v":1299.4000000000001},{"$f":"IFERROR((P66-$G$6)/$G$6,NA())","v":-3.8331800061330878E-3},{"$f":"RTD(\"cqg.rtd\",,\"StudyData\", \"Close(\"&$D$12&\") when LocalYear(\"&$D$12&\")=\"&$D$6&\" and localMonth(\"&$D$12&\") =\"&$E$6&\" and LocalDay(\"&$D$12&\")=\"&$F$6&\" and Barix(\"&$D$12&\",reference:=StartOfDay)=\"&A66&\"\", \"Bar\", \"\", \"Close\",\"5\",\"0\",\"\",,,\"False\",\"T\",\"EveryTick\")","v":1303.2},{"$f":"IFERROR((R66-$G$7)/$G$7,NA())","v":-2.3014959723816994E-4},{"$f":"RTD(\"cqg.rtd\",,\"StudyData\", \"Close(\"&$D$12&\") when LocalYear(\"&$D$12&\")=\"&$D$7&\" and localMonth(\"&$D$12&\") =\"&$E$7&\" and LocalDay(\"&$D$12&\")=\"&$F$7&\" and Barix(\"&$D$12&\",reference:=StartOfDay)=\"&A66&\"\", \"Bar\", \"\", \"Close\",\"5\",\"0\",\"\",,,\"False\",\"T\",\"EveryTick\")","v":1302.7},{"$f":"IFERROR((T66-$G$8)/$G$8,NA())","v":1.0758472296934535E-3},{"$f":"RTD(\"cqg.rtd\",,\"StudyData\", \"Close(\"&$D$12&\") when LocalYear(\"&$D$12&\")=\"&$D$8&\" and localMonth(\"&$D$12&\") =\"&$E$8&\" and LocalDay(\"&$D$12&\")=\"&$F$8&\" and Barix(\"&$D$12&\",reference:=StartOfDay)=\"&A66&\"\", \"Bar\", \"\", \"Close\",\"5\",\"0\",\"\",,,\"False\",\"T\",\"EveryTick\")","v":1303},{"$f":"IFERROR((V66-$G$9)/$G$9,NA())","v":1.8453021682301178E-3},{"$f":"RTD(\"cqg.rtd\",,\"StudyData\", \"Close(\"&$D$12&\") when LocalYear(\"&$D$12&\")=\"&$D$9&\" and localMonth(\"&$D$12&\") =\"&$E$9&\" and LocalDay(\"&$D$12&\")=\"&$F$9&\" and Barix(\"&$D$12&\",reference:=StartOfDay)=\"&A66&\"\", \"Bar\", \"\", \"Close\",\"5\",\"0\",\"\",,,\"False\",\"T\",\"EveryTick\")","v":1301.4000000000001},{"$f":"IFERROR((X66-$G$10)/$G$10,NA())","v":7.6899415564441701E-4},{"$f":"RTD(\"cqg.rtd\",,\"StudyData\", \"Close(\"&$D$12&\") when LocalYear(\"&$D$12&\")=\"&$D$10&\" and localMonth(\"&$D$12&\") =\"&$E$10&\" and LocalDay(\"&$D$12&\")=\"&$F$10&\" and Barix(\"&$D$12&\",reference:=StartOfDay)=\"&A66&\"\", \"Bar\", \"\", \"Close\",\"5\",\"0\",\"\",,,\"False\",\"T\",\"EveryTick\")","v":1302.2},{"$f":"IFERROR((Z66-$G$11)/$G$11,NA())","v":4.8614862257889916E-3},null,null,null,""]
[{"$f":"A66+1","v":234},{"$f":"B66+0.00347222222222227","v":"12:30:00"},-11,{"$f":" RTD(\"cqg.rtd\",,\"StudyData\", $D$12,  \"Tick\", \"FlatTicks=0\", \"Tick\",\"D\",C67,\"\")","v":1282.7},null,null,null,{"$f":"RTD(\"cqg.rtd\",,\"StudyData\", \"Close(\"&$D$12&\") when LocalYear(\"&$D$12&\")=\"&$D$1&\" and localMonth(\"&$D$12&\") =\"&$E$1&\" and LocalDay(\"&$D$12&\")=\"&$F$1&\" and Barix(\"&$D$12&\",reference:=StartOfDay)=\"&A67&\"\", \"Bar\", \"\", \"Close\",\"5\",\"0\",\"\",,,\"False\",\"T\",\"EveryTick\")","v":""},{"$f":"IFERROR((H67-$G$2)/$G$2,NA())","v":{"$error":"#N/A"}},{"$f":"RTD(\"cqg.rtd\",,\"StudyData\", \"Close(\"&$D$12&\") when LocalYear(\"&$D$12&\")=\"&$D$2&\" and localMonth(\"&$D$12&\") =\"&$E$2&\" and LocalDay(\"&$D$12&\")=\"&$F$2&\" and Barix(\"&$D$12&\",reference:=StartOfDay)=\"&A67&\"\", \"Bar\", \"\", \"Close\",\"5\",\"0\",\"\",,,\"False\",\"T\",\"EveryTick\")","v":1280.4000000000001},-1.95267631518493E-2,{"$f":"RTD(\"cqg.rtd\",,\"StudyData\", \"Close(\"&$D$12&\") when LocalYear(\"&$D$12&\")=\"&$D$3&\" and localMonth(\"&$D$12&\") =\"&$E$3&\" and LocalDay(\"&$D$12&\")=\"&$F$3&\" and Barix(\"&$D$12&\",reference:=StartOfDay)=\"&A67&\"\", \"Bar\", \"\", \"Close\",\"5\",\"0\",\"\",,,\"False\",\"T\",\"EveryTick\")","v":1306.9000000000001},3.0700744493053953E-3,{"$f":"RTD(\"cqg.rtd\",,\"StudyData\", \"Close(\"&$D$12&\") when LocalYear(\"&$D$12&\")=\"&$D$4&\" and localMonth(\"&$D$12&\") =\"&$E$4&\" and LocalDay(\"&$D$12&\")=\"&$F$4&\" and Barix(\"&$D$12&\",reference:=StartOfDay)=\"&A67&\"\", \"Bar\", \"\", \"Close\",\"5\",\"0\",\"\",,,\"False\",\"T\",\"EveryTick\")","v":1301.2},1.2311480455525828E-3,{"$f":"RTD(\"cqg.rtd\",,\"StudyData\", \"Close(\"&$D$12&\") when LocalYear(\"&$D$12&\")=\"&$D$5&\" and localMonth(\"&$D$12&\") =\"&$E$5&\" and LocalDay(\"&$D$12&\")=\"&$F$5&\" and Barix(\"&$D$12&\",reference:=StartOfDay)=\"&A67&\"\", \"Bar\", \"\", \"Close\",\"5\",\"0\",\"\",,,\"False\",\"T\",\"EveryTick\")","v":1299.2},-3.9865072063784458E-3,{"$f":"RTD(\"cqg.rtd\",,\"StudyData\", \"Close(\"&$D$12&\") when LocalYear(\"&$D$12&\")=\"&$D$6&\" and localMonth(\"&$D$12&\") =\"&$E$6&\" and LocalDay(\"&$D$12&\")=\"&$F$6&\" and Barix(\"&$D$12&\",reference:=StartOfDay)=\"&A67&\"\", \"Bar\", \"\", \"Close\",\"5\",\"0\",\"\",,,\"False\",\"T\",\"EveryTick\")","v":1303.5},0,{"$f":"RTD(\"cqg.rtd\",,\"StudyData\", \"Close(\"&$D$12&\") when LocalYear(\"&$D$12&\")=\"&$D$7&\" and localMonth(\"&$D$12&\") =\"&$E$7&\" and LocalDay(\"&$D$12&\")=\"&$F$7&\" and Barix(\"&$D$12&\",reference:=StartOfDay)=\"&A67&\"\", \"Bar\", \"\", \"Close\",\"5\",\"0\",\"\",,,\"False\",\"T\",\"EveryTick\")","v":1302.5999999999999},9.9900099900096409E-4,{"$f":"RTD(\"cqg.rtd\",,\"StudyData\", \"Close(\"&$D$12&\") when LocalYear(\"&$D$12&\")=\"&$D$8&\" and localMonth(\"&$D$12&\") =\"&$E$8&\" and LocalDay(\"&$D$12&\")=\"&$F$8&\" and Barix(\"&$D$12&\",reference:=StartOfDay)=\"&A67&\"\", \"Bar\", \"\", \"Close\",\"5\",\"0\",\"\",,,\"False\",\"T\",\"EveryTick\")","v":1303.8},2.4604028909734322E-3,{"$f":"RTD(\"cqg.rtd\",,\"StudyData\", \"Close(\"&$D$12&\") when LocalYear(\"&$D$12&\")=\"&$D$9&\" and localMonth(\"&$D$12&\") =\"&$E$9&\" and LocalDay(\"&$D$12&\")=\"&$F$9&\" and Barix(\"&$D$12&\",reference:=StartOfDay)=\"&A67&\"\", \"Bar\", \"\", \"Close\",\"5\",\"0\",\"\",,,\"False\",\"T\",\"EveryTick\")","v":1301.2},6.151953245154987E-4,{"$f":"RTD(\"cqg.rtd\",,\"StudyData\", \"Close(\"&$D$12&\") when LocalYear(\"&$D$12&\")=\"&$D$10&\" and localMonth(\"&$D$12&\") =\"&$E$10&\" and LocalDay(\"&$D$12&\")=\"&$F$10&\" and Barix(\"&$D$12&\",reference:=StartOfDay)=\"&A67&\"\", \"Bar\", \"\", \"Close\",\"5\",\"0\",\"\",,,\"False\",\"T\",\"EveryTick\")","v":1302.5999999999999},5.1701520179024754E-3,null,null,null,{"$f":"IF(AND(H66<>\"\",H67<>\"\",H68=\"\"),A67,\"\")","v":""}]
[235,"12:35:00",-10,{"$f":" RTD(\"cqg.rtd\",,\"StudyData\", $D$12,  \"Tick\", \"FlatTicks=0\", \"Tick\",\"D\",C68,\"\")","v":1282.8},null,null,null,{"$f":"RTD(\"cqg.rtd\",,\"StudyData\", \"Close(\"&$D$12&\") when LocalYear(\"&$D$12&\")=\"&$D$1&\" and localMonth(\"&$D$12&\") =\"&$E$1&\" and LocalDay(\"&$D$12&\")=\"&$F$1&\" and Barix(\"&$D$12&\",reference:=StartOfDay)=\"&A68&\"\", \"Bar\", \"\", \"Close\",\"5\",\"0\",\"\",,,\"False\",\"T\",\"EveryTick\")","v":""},{"$error":"#N/A"},{"$f":"RTD(\"cqg.rtd\",,\"StudyData\", \"Close(\"&$D$12&\") when LocalYear(\"&$D$12&\")=\"&$D$2&\" and localMonth(\"&$D$12&\") =\"&$E$2&\" and LocalDay(\"&$D$12&\")=\"&$F$2&\" and Barix(\"&$D$12&\",reference:=StartOfDay)=\"&A68&\"\", \"Bar\", \"\", \"Close\",\"5\",\"0\",\"\",,,\"False\",\"T\",\"EveryTick\")","v":1280.7},-1.9297036526533459E-2,{"$f":"RTD(\"cqg.rtd\",,\"StudyData\", \"Close(\"&$D$12&\") when LocalYear(\"&$D$12&\")=\"&$D$3&\" and localMonth(\"&$D$12&\") =\"&$E$3&\" and LocalDay(\"&$D$12&\")=\"&$F$3&\" and Barix(\"&$D$12&\",reference:=StartOfDay)=\"&A68&\"\", \"Bar\", \"\", \"Close\",\"5\",\"0\",\"\",,,\"False\",\"T\",\"EveryTick\")","v":1306.2},2.5328114206769163E-3,{"$f":"RTD(\"cqg.rtd\",,\"StudyData\", \"Close(\"&$D$12&\") when LocalYear(\"&$D$12&\")=\"&$D$4&\" and localMonth(\"&$D$12&\") =\"&$E$4&\" and LocalDay(\"&$D$12&\")=\"&$F$4&\" and Barix(\"&$D$12&\",reference:=StartOfDay)=\"&A68&\"\", \"Bar\", \"\", \"Close\",\"5\",\"0\",\"\",,,\"False\",\"T\",\"EveryTick\")","v":1301.4000000000001},1.3850415512466775E-3,{"$f":"RTD(\"cqg.rtd\",,\"StudyData\", \"Close(\"&$D$12&\") when LocalYear(\"&$D$12&\")=\"&$D$5&\" and localMonth(\"&$D$12&\") =\"&$E$5&\" and LocalDay(\"&$D$12&\")=\"&$F$5&\" and Barix(\"&$D$12&\",reference:=StartOfDay)=\"&A68&\"\", \"Bar\", \"\", \"Close\",\"5\",\"0\",\"\",,,\"False\",\"T\",\"EveryTick\")","v":1299.7},-3.6031892057651373E-3,{"$f":"RTD(\"cqg.rtd\",,\"StudyData\", \"Close(\"&$D$12&\") when LocalYear(\"&$D$12&\")=\"&$D$6&\" and localMonth(\"&$D$12&\") =\"&$E$6&\" and LocalDay(\"&$D$12&\")=\"&$F$6&\" and Barix(\"&$D$12&\",reference:=StartOfDay)=\"&A68&\"\", \"Bar\", \"\", \"Close\",\"5\",\"0\",\"\",,,\"False\",\"T\",\"EveryTick\")","v":1303.8},2.3014959723816994E-4,{"$f":"RTD(\"cqg.rtd\",,\"StudyData\", \"Close(\"&$D$12&\") when LocalYear(\"&$D$12&\")=\"&$D$7&\" and localMonth(\"&$D$12&\") =\"&$E$7&\" and LocalDay(\"&$D$12&\")=\"&$F$7&\" and Barix(\"&$D$12&\",reference:=StartOfDay)=\"&A68&\"\", \"Bar\", \"\", \"Close\",\"5\",\"0\",\"\",,,\"False\",\"T\",\"EveryTick\")","v":1302.5999999999999},9.9900099900096409E-4,{"$f":"RTD(\"cqg.rtd\",,\"StudyData\", \"Close(\"&$D$12&\") when LocalYear(\"&$D$12&\")=\"&$D$8&\" and localMonth(\"&$D$12&\") =\"&$E$8&\" and LocalDay(\"&$D$12&\")=\"&$F$8&\" and Barix(\"&$D$12&\",reference:=StartOfDay)=\"&A68&\"\", \"Bar\", \"\", \"Close\",\"5\",\"0\",\"\",,,\"False\",\"T\",\"EveryTick\")","v":1302.3},1.3070890358296522E-3,{"$f":"RTD(\"cqg.rtd\",,\"StudyData\", \"Close(\"&$D$12&\") when LocalYear(\"&$D$12&\")=\"&$D$9&\" and localMonth(\"&$D$12&\") =\"&$E$9&\" and LocalDay(\"&$D$12&\")=\"&$F$9&\" and Barix(\"&$D$12&\",reference:=StartOfDay)=\"&A68&\"\", \"Bar\", \"\", \"Close\",\"5\",\"0\",\"\",,,\"False\",\"T\",\"EveryTick\")","v":1300.9000000000001},3.844970778222085E-4,{"$f":"RTD(\"cqg.rtd\",,\"StudyData\", \"Close(\"&$D$12&\") when LocalYear(\"&$D$12&\")=\"&$D$10&\" and localMonth(\"&$D$12&\") =\"&$E$10&\" and LocalDay(\"&$D$12&\")=\"&$F$10&\" and Barix(\"&$D$12&\",reference:=StartOfDay)=\"&A68&\"\", \"Bar\", \"\", \"Close\",\"5\",\"0\",\"\",,,\"False\",\"T\",\"EveryTick\")","v":1302.5},5.0929855698741483E-3,null,null,null,""]
[236,"12:40:00",{"$f":"C68+1","v":-9},{"$f":" RTD(\"cqg.rtd\",,\"StudyData\", $D$12,  \"Tick\", \"FlatTicks=0\", \"Tick\",\"D\",C69,\"\")","v":1282.9000000000001},null,null,null,{"$f":"RTD(\"cqg.rtd\",,\"StudyData\", \"Close(\"&$D$12&\") when LocalYear(\"&$D$12&\")=\"&$D$1&\" and localMonth(\"&$D$12&\") =\"&$E$1&\" and LocalDay(\"&$D$12&\")=\"&$F$1&\" and Barix(\"&$D$12&\",reference:=StartOfDay)=\"&A69&\"\", \"Bar\", \"\", \"Close\",\"5\",\"0\",\"\",,,\"False\",\"T\",\"EveryTick\")","v":""},{"$error":"#N/A"},{"$f":"RTD(\"cqg.rtd\",,\"StudyData\", \"Close(\"&$D$12&\") when LocalYear(\"&$D$12&\")=\"&$D$2&\" and localMonth(\"&$D$12&\") =\"&$E$2&\" and LocalDay(\"&$D$12&\")=\"&$F$2&\" and Barix(\"&$D$12&\",reference:=StartOfDay)=\"&A69&\"\", \"Bar\", \"\", \"Close\",\"5\",\"0\",\"\",,,\"False\",\"T\",\"EveryTick\")","v":1280.9000000000001},-1.9143885442989509E-2,{"$f":"RTD(\"cqg.rtd\",,\"StudyData\", \"Close(\"&$D$12&\") when LocalYear(\"&$D$12&\")=\"&$D$3&\" and localMonth(\"&$D$12&\") =\"&$E$3&\" and LocalDay(\"&$D$12&\")=\"&$F$3&\" and Barix(\"&$D$12&\",reference:=StartOfDay)=\"&A69&\"\", \"Bar\", \"\", \"Close\",\"5\",\"0\",\"\",,,\"False\",\"T\",\"EveryTick\")","v":1306.5999999999999},2.839818865607351E-3,{"$f":"RTD(\"cqg.rtd\",,\"StudyData\", \"Close(\"&$D$12&\") when LocalYear(\"&$D$12&\")=\"&$D$4&\" and localMonth(\"&$D$12&\") =\"&$E$4&\" and LocalDay(\"&$D$12&\")=\"&$F$4&\" and Barix(\"&$D$12&\",reference:=StartOfDay)=\"&A69&\"\", \"Bar\", \"\", \"Close\",\"5\",\"0\",\"\",,,\"False\",\"T\",\"EveryTick\")","v":1301.3},1.3080947983995425E-3,{"$f":"RTD(\"cqg.rtd\",,\"StudyData\", \"Close(\"&$D$12&\") when LocalYear(\"&$D$12&\")=\"&$D$5&\" and localMonth(\"&$D$12&\") =\"&$E$5&\" and LocalDay(\"&$D$12&\")=\"&$F$5&\" and Barix(\"&$D$12&\",reference:=StartOfDay)=\"&A69&\"\", \"Bar\", \"\", \"Close\",\"5\",\"0\",\"\",,,\"False\",\"T\",\"EveryTick\")","v":1299.4000000000001},-3.8331800061330878E-3,{"$f":"RTD(\"cqg.rtd\",,\"StudyData\", \"Close(\"&$D$12&\") when LocalYear(\"&$D$12&\")=\"&$D$6&\" and localMonth(\"&$D$12&\") =\"&$E$6&\" and LocalDay(\"&$D$12&\")=\"&$F$6&\" and Barix(\"&$D$12&\",reference:=StartOfDay)=\"&A69&\"\", \"Bar\", \"\", \"Close\",\"5\",\"0\",\"\",,,\"False\",\"T\",\"EveryTick\")","v":1303.9000000000001},3.0686612965100953E-4,{"$f":"RTD(\"cqg.rtd\",,\"StudyData\", \"Close(\"&$D$12&\") when LocalYear(\"&$D$12&\")=\"&$D$7&\" and localMonth(\"&$D$12&\") =\"&$E$7&\" and LocalDay(\"&$D$12&\")=\"&$F$7&\" and Barix(\"&$D$12&\",reference:=StartOfDay)=\"&A69&\"\", \"Bar\", \"\", \"Close\",\"5\",\"0\",\"\",,,\"False\",\"T\",\"EveryTick\")","v":1302.8},1.1526934603857681E-3,{"$f":"RTD(\"cqg.rtd\",,\"StudyData\", \"Close(\"&$D$12&\") when LocalYear(\"&$D$12&\")=\"&$D$8&\" and localMonth(\"&$D$12&\") =\"&$E$8&\" and LocalDay(\"&$D$12&\")=\"&$F$8&\" and Barix(\"&$D$12&\",reference:=StartOfDay)=\"&A69&\"\", \"Bar\", \"\", \"Close\",\"5\",\"0\",\"\",,,\"False\",\"T\",\"EveryTick\")","v":1300.8},1.5377518068587228E-4,{"$f":"RTD(\"cqg.rtd\",,\"StudyData\", \"Close(\"&$D$12&\") when LocalYear(\"&$D$12&\")=\"&$D$9&\" and localMonth(\"&$D$12&\") =\"&$E$9&\" and LocalDay(\"&$D$12&\")=\"&$F$9&\" and Barix(\"&$D$12&\",reference:=StartOfDay)=\"&A69&\"\", \"Bar\", \"\", \"Close\",\"5\",\"0\",\"\",,,\"False\",\"T\",\"EveryTick\")","v":1300.3},-7.6899415564546611E-5,{"$f":"RTD(\"cqg.rtd\",,\"StudyData\", \"Close(\"&$D$12&\") when LocalYear(\"&$D$12&\")=\"&$D$10&\" and localMonth(\"&$D$12&\") =\"&$E$10&\" and LocalDay(\"&$D$12&\")=\"&$F$10&\" and Barix(\"&$D$12&\",reference:=StartOfDay)=\"&A69&\"\", \"Bar\", \"\", \"Close\",\"5\",\"0\",\"\",,,\"False\",\"T\",\"EveryTick\")","v":1303},5.4788178100161344E-3,null,null,null,""]
[237,"12:45:00",-8,{"$f":" RTD(\"cqg.rtd\",,\"StudyData\", $D$12,  \"Tick\", \"FlatTicks=0\", \"Tick\",\"D\",C70,\"\")","v":1282.8},null,null,null,{"$f":"RTD(\"cqg.rtd\",,\"StudyData\", \"Close(\"&$D$12&\") when LocalYear(\"&$D$12&\")=\"&$D$1&\" and localMonth(\"&$D$12&\") =\"&$E$1&\" and LocalDay(\"&$D$12&\")=\"&$F$1&\" and Barix(\"&$D$12&\",reference:=StartOfDay)=\"&A70&\"\", \"Bar\", \"\", \"Close\",\"5\",\"0\",\"\",,,\"False\",\"T\",\"EveryTick\")","v":""},{"$error":"#N/A"},{"$f":"RTD(\"cqg.rtd\",,\"StudyData\", \"Close(\"&$D$12&\") when LocalYear(\"&$D$12&\")=\"&$D$2&\" and localMonth(\"&$D$12&\") =\"&$E$2&\" and LocalDay(\"&$D$12&\")=\"&$F$2&\" and Barix(\"&$D$12&\",reference:=StartOfDay)=\"&A70&\"\", \"Bar\", \"\", \"Close\",\"5\",\"0\",\"\",,,\"False\",\"T\",\"EveryTick\")","v":1280.8},-1.9220460984761569E-2,{"$f":"RTD(\"cqg.rtd\",,\"StudyData\", \"Close(\"&$D$12&\") when LocalYear(\"&$D$12&\")=\"&$D$3&\" and localMonth(\"&$D$12&\") =\"&$E$3&\" and LocalDay(\"&$D$12&\")=\"&$F$3&\" and Barix(\"&$D$12&\",reference:=StartOfDay)=\"&A70&\"\", \"Bar\", \"\", \"Close\",\"5\",\"0\",\"\",,,\"False\",\"T\",\"EveryTick\")","v":1306.3},2.6095632819094815E-3,{"$f":"RTD(\"cqg.rtd\",,\"StudyData\", \"Close(\"&$D$12&\") when LocalYear(\"&$D$12&\")=\"&$D$4&\" and localMonth(\"&$D$12&\") =\"&$E$4&\" and LocalDay(\"&$D$12&\")=\"&$F$4&\" and Barix(\"&$D$12&\",reference:=StartOfDay)=\"&A70&\"\", \"Bar\", \"\", \"Close\",\"5\",\"0\",\"\",,,\"False\",\"T\",\"EveryTick\")","v":1301.5},1.4619883040936374E-3,{"$f":"RTD(\"cqg.rtd\",,\"StudyData\", \"Close(\"&$D$12&\") when LocalYear(\"&$D$12&\")=\"&$D$5&\" and localMonth(\"&$D$12&\") =\"&$E$5&\" and LocalDay(\"&$D$12&\")=\"&$F$5&\" and Barix(\"&$D$12&\",reference:=StartOfDay)=\"&A70&\"\", \"Bar\", \"\", \"Close\",\"5\",\"0\",\"\",,,\"False\",\"T\",\"EveryTick\")","v":1300.0999999999999},-3.2965348052745951E-3,{"$f":"RTD(\"cqg.rtd\",,\"StudyData\", \"Close(\"&$D$12&\") when LocalYear(\"&$D$12&\")=\"&$D$6&\" and localMonth(\"&$D$12&\") =\"&$E$6&\" and LocalDay(\"&$D$12&\")=\"&$F$6&\" and Barix(\"&$D$12&\",reference:=StartOfDay)=\"&A70&\"\", \"Bar\", \"\", \"Close\",\"5\",\"0\",\"\",,,\"False\",\"T\",\"EveryTick\")","v":1303.5999999999999},7.6716532412665172E-5,{"$f":"RTD(\"cqg.rtd\",,\"StudyData\", \"Close(\"&$D$12&\") when LocalYear(\"&$D$12&\")=\"&$D$7&\" and localMonth(\"&$D$12&\") =\"&$E$7&\" and LocalDay(\"&$D$12&\")=\"&$F$7&\" and Barix(\"&$D$12&\",reference:=StartOfDay)=\"&A70&\"\", \"Bar\", \"\", \"Close\",\"5\",\"0\",\"\",,,\"False\",\"T\",\"EveryTick\")","v":1302.9000000000001},1.2295396910782575E-3,{"$f":"RTD(\"cqg.rtd\",,\"StudyData\", \"Close(\"&$D$12&\") when LocalYear(\"&$D$12&\")=\"&$D$8&\" and localMonth(\"&$D$12&\") =\"&$E$8&\" and LocalDay(\"&$D$12&\")=\"&$F$8&\" and Barix(\"&$D$12&\",reference:=StartOfDay)=\"&A70&\"\", \"Bar\", \"\", \"Close\",\"5\",\"0\",\"\",,,\"False\",\"T\",\"EveryTick\")","v":1301.4000000000001},6.1510072274348912E-4,{"$f":"RTD(\"cqg.rtd\",,\"StudyData\", \"Close(\"&$D$12&\") when LocalYear(\"&$D$12&\")=\"&$D$9&\" and localMonth(\"&$D$12&\") =\"&$E$9&\" and LocalDay(\"&$D$12&\")=\"&$F$9&\" and Barix(\"&$D$12&\",reference:=StartOfDay)=\"&A70&\"\", \"Bar\", \"\", \"Close\",\"5\",\"0\",\"\",,,\"False\",\"T\",\"EveryTick\")","v":1300.2},-1.5379883112891837E-4,{"$f":"RTD(\"cqg.rtd\",,\"StudyData\", \"Close(\"&$D$12&\") when LocalYear(\"&$D$12&\")=\"&$D$10&\" and localMonth(\"&$D$12&\") =\"&$E$10&\" and LocalDay(\"&$D$12&\")=\"&$F$10&\" and Barix(\"&$D$12&\",reference:=StartOfDay)=\"&A70&\"\", \"Bar\", \"\", \"Close\",\"5\",\"0\",\"\",,,\"False\",\"T\",\"EveryTick\")","v":1303.3},5.7103171541012911E-3,null,null,null,""]
[238,"12:50:00",-7,{"$f":" RTD(\"cqg.rtd\",,\"StudyData\", $D$12,  \"Tick\", \"FlatTicks=0\", \"Tick\",\"D\",C71,\"\")","v":1282.9000000000001},null,null,null,{"$f":"RTD(\"cqg.rtd\",,\"StudyData\", \"Close(\"&$D$12&\") when LocalYear(\"&$D$12&\")=\"&$D$1&\" and localMonth(\"&$D$12&\") =\"&$E$1&\" and LocalDay(\"&$D$12&\")=\"&$F$1&\" and Barix(\"&$D$12&\",reference:=StartOfDay)=\"&A71&\"\", \"Bar\", \"\", \"Close\",\"5\",\"0\",\"\",,,\"False\",\"T\",\"EveryTick\")","v":""},{"$error":"#N/A"},{"$f":"RTD(\"cqg.rtd\",,\"StudyData\", \"Close(\"&$D$12&\") when LocalYear(\"&$D$12&\")=\"&$D$2&\" and localMonth(\"&$D$12&\") =\"&$E$2&\" and LocalDay(\"&$D$12&\")=\"&$F$2&\" and Barix(\"&$D$12&\",reference:=StartOfDay)=\"&A71&\"\", \"Bar\", \"\", \"Close\",\"5\",\"0\",\"\",,,\"False\",\"T\",\"EveryTick\")","v":1280.9000000000001},-1.9143885442989509E-2,{"$f":"RTD(\"cqg.rtd\",,\"StudyData\", \"Close(\"&$D$12&\") when LocalYear(\"&$D$12&\")=\"&$D$3&\" and localMonth(\"&$D$12&\") =\"&$E$3&\" and LocalDay(\"&$D$12&\")=\"&$F$3&\" and Barix(\"&$D$12&\",reference:=StartOfDay)=\"&A71&\"\", \"Bar\", \"\", \"Close\",\"5\",\"0\",\"\",,,\"False\",\"T\",\"EveryTick\")","v":1306.3},2.6095632819094815E-3,{"$f":"RTD(\"cqg.rtd\",,\"StudyData\", \"Close(\"&$D$12&\") when LocalYear(\"&$D$12&\")=\"&$D$4&\" and localMonth(\"&$D$12&\") =\"&$E$4&\" and LocalDay(\"&$D$12&\")=\"&$F$4&\" and Barix(\"&$D$12&\",reference:=StartOfDay)=\"&A71&\"\", \"Bar\", \"\", \"Close\",\"5\",\"0\",\"\",,,\"False\",\"T\",\"EveryTick\")","v":1301.8},1.6928285626346918E-3,{"$f":"RTD(\"cqg.rtd\",,\"StudyData\", \"Close(\"&$D$12&\") when LocalYear(\"&$D$12&\")=\"&$D$5&\" and localMonth(\"&$D$12&\") =\"&$E$5&\" and LocalDay(\"&$D$12&\")=\"&$F$5&\" and Barix(\"&$D$12&\",reference:=StartOfDay)=\"&A71&\"\", \"Bar\", \"\", \"Close\",\"5\",\"0\",\"\",,,\"False\",\"T\",\"EveryTick\")","v":1300.2},-3.2198712051518287E-3,{"$f":"RTD(\"cqg.rtd\",,\"StudyData\", \"Close(\"&$D$12&\") when LocalYear(\"&$D$12&\")=\"&$D$6&\" and localMonth(\"&$D$12&\") =\"&$E$6&\" and LocalDay(\"&$D$12&\")=\"&$F$6&\" and Barix(\"&$D$12&\",reference:=StartOfDay)=\"&A71&\"\", \"Bar\", \"\", \"Close\",\"5\",\"0\",\"\",,,\"False\",\"T\",\"EveryTick\")","v":1303.5999999999999},7.6716532412665172E-5,{"$f":"RTD(\"cqg.rtd\",,\"StudyData\", \"Close(\"&$D$12&\") when LocalYear(\"&$D$12&\")=\"&$D$7&\" and localMonth(\"&$D$12&\") =\"&$E$7&\" and LocalDay(\"&$D$12&\")=\"&$F$7&\" and Barix(\"&$D$12&\",reference:=StartOfDay)=\"&A71&\"\", \"Bar\", \"\", \"Close\",\"5\",\"0\",\"\",,,\"False\",\"T\",\"EveryTick\")","v":1302.7},1.0758472296934535E-3,{"$f":"RTD(\"cqg.rtd\",,\"StudyData\", \"Close(\"&$D$12&\") when LocalYear(\"&$D$12&\")=\"&$D$8&\" and localMonth(\"&$D$12&\") =\"&$E$8&\" and LocalDay(\"&$D$12&\")=\"&$F$8&\" and Barix(\"&$D$12&\",reference:=StartOfDay)=\"&A71&\"\", \"Bar\", \"\", \"Close\",\"5\",\"0\",\"\",,,\"False\",\"T\",\"EveryTick\")","v":1301.7},8.457634937722101E-4,{"$f":"RTD(\"cqg.rtd\",,\"StudyData\", \"Close(\"&$D$12&\") when LocalYear(\"&$D$12&\")=\"&$D$9&\" and localMonth(\"&$D$12&\") =\"&$E$9&\" and LocalDay(\"&$D$12&\")=\"&$F$9&\" and Barix(\"&$D$12&\",reference:=StartOfDay)=\"&A71&\"\", \"Bar\", \"\", \"Close\",\"5\",\"0\",\"\",,,\"False\",\"T\",\"EveryTick\")","v":1299.9000000000001},-3.844970778222085E-4,{"$f":"RTD(\"cqg.rtd\",,\"StudyData\", \"Close(\"&$D$12&\") when LocalYear(\"&$D$12&\")=\"&$D$10&\" and localMonth(\"&$D$12&\") =\"&$E$10&\" and LocalDay(\"&$D$12&\")=\"&$F$10&\" and Barix(\"&$D$12&\",reference:=StartOfDay)=\"&A71&\"\", \"Bar\", \"\", \"Close\",\"5\",\"0\",\"\",,,\"False\",\"T\",\"EveryTick\")","v":1302.7},5.2473184659309778E-3,null,null,null,""]
[239,"12:55:00",-6,{"$f":" RTD(\"cqg.rtd\",,\"StudyData\", $D$12,  \"Tick\", \"FlatTicks=0\", \"Tick\",\"D\",C72,\"\")","v":1283},null,null,null,{"$f":"RTD(\"cqg.rtd\",,\"StudyData\", \"Close(\"&$D$12&\") when LocalYear(\"&$D$12&\")=\"&$D$1&\" and localMonth(\"&$D$12&\") =\"&$E$1&\" and LocalDay(\"&$D$12&\")=\"&$F$1&\" and Barix(\"&$D$12&\",reference:=StartOfDay)=\"&A72&\"\", \"Bar\", \"\", \"Close\",\"5\",\"0\",\"\",,,\"False\",\"T\",\"EveryTick\")","v":""},{"$error":"#N/A"},{"$f":"RTD(\"cqg.rtd\",,\"StudyData\", \"Close(\"&$D$12&\") when LocalYear(\"&$D$12&\")=\"&$D$2&\" and localMonth(\"&$D$12&\") =\"&$E$2&\" and LocalDay(\"&$D$12&\")=\"&$F$2&\" and Barix(\"&$D$12&\",reference:=StartOfDay)=\"&A72&\"\", \"Bar\", \"\", \"Close\",\"5\",\"0\",\"\",,,\"False\",\"T\",\"EveryTick\")","v":1281.4000000000001},-1.8761007734129719E-2,{"$f":"RTD(\"cqg.rtd\",,\"StudyData\", \"Close(\"&$D$12&\") when LocalYear(\"&$D$12&\")=\"&$D$3&\" and localMonth(\"&$D$12&\") =\"&$E$3&\" and LocalDay(\"&$D$12&\")=\"&$F$3&\" and Barix(\"&$D$12&\",reference:=StartOfDay)=\"&A72&\"\", \"Bar\", \"\", \"Close\",\"5\",\"0\",\"\",,,\"False\",\"T\",\"EveryTick\")","v":1306.4000000000001},2.686315143142221E-3,{"$f":"RTD(\"cqg.rtd\",,\"StudyData\", \"Close(\"&$D$12&\") when LocalYear(\"&$D$12&\")=\"&$D$4&\" and localMonth(\"&$D$12&\") =\"&$E$4&\" and LocalDay(\"&$D$12&\")=\"&$F$4&\" and Barix(\"&$D$12&\",reference:=StartOfDay)=\"&A72&\"\", \"Bar\", \"\", \"Close\",\"5\",\"0\",\"\",,,\"False\",\"T\",\"EveryTick\")","v":1301.5999999999999},1.5389350569405972E-3,{"$f":"RTD(\"cqg.rtd\",,\"StudyData\", \"Close(\"&$D$12&\") when LocalYear(\"&$D$12&\")=\"&$D$5&\" and localMonth(\"&$D$12&\") =\"&$E$5&\" and LocalDay(\"&$D$12&\")=\"&$F$5&\" and Barix(\"&$D$12&\",reference:=StartOfDay)=\"&A72&\"\", \"Bar\", \"\", \"Close\",\"5\",\"0\",\"\",,,\"False\",\"T\",\"EveryTick\")","v":1299.8},-3.5265256056425452E-3,{"$f":"RTD(\"cqg.rtd\",,\"StudyData\", \"Close(\"&$D$12&\") when LocalYear(\"&$D$12&\")=\"&$D$6&\" and localMonth(\"&$D$12&\") =\"&$E$6&\" and LocalDay(\"&$D$12&\")=\"&$F$6&\" and Barix(\"&$D$12&\",reference:=StartOfDay)=\"&A72&\"\", \"Bar\", \"\", \"Close\",\"5\",\"0\",\"\",,,\"False\",\"T\",\"EveryTick\")","v":1303.5},0,{"$f":"RTD(\"cqg.rtd\",,\"StudyData\", \"Close(\"&$D$12&\") when LocalYear(\"&$D$12&\")=\"&$D$7&\" and localMonth(\"&$D$12&\") =\"&$E$7&\" and LocalDay(\"&$D$12&\")=\"&$F$7&\" and Barix(\"&$D$12&\",reference:=StartOfDay)=\"&A72&\"\", \"Bar\", \"\", \"Close\",\"5\",\"0\",\"\",,,\"False\",\"T\",\"EveryTick\")","v":1302.8},1.1526934603857681E-3,{"$f":"RTD(\"cqg.rtd\",,\"StudyData\", \"Close(\"&$D$12&\") when LocalYear(\"&$D$12&\")=\"&$D$8&\" and localMonth(\"&$D$12&\") =\"&$E$8&\" and LocalDay(\"&$D$12&\")=\"&$F$8&\" and Barix(\"&$D$12&\",reference:=StartOfDay)=\"&A72&\"\", \"Bar\", \"\", \"Close\",\"5\",\"0\",\"\",,,\"False\",\"T\",\"EveryTick\")","v":1301.7},8.457634937722101E-4,{"$f":"RTD(\"cqg.rtd\",,\"StudyData\", \"Close(\"&$D$12&\") when LocalYear(\"&$D$12&\")=\"&$D$9&\" and localMonth(\"&$D$12&\") =\"&$E$9&\" and LocalDay(\"&$D$12&\")=\"&$F$9&\" and Barix(\"&$D$12&\",reference:=StartOfDay)=\"&A72&\"\", \"Bar\", \"\", \"Close\",\"5\",\"0\",\"\",,,\"False\",\"T\",\"EveryTick\")","v":1299.4000000000001},-7.6899415564441701E-4,{"$f":"RTD(\"cqg.rtd\",,\"StudyData\", \"Close(\"&$D$12&\") when LocalYear(\"&$D$12&\")=\"&$D$10&\" and localMonth(\"&$D$12&\") =\"&$E$10&\" and LocalDay(\"&$D$12&\")=\"&$F$10&\" and Barix(\"&$D$12&\",reference:=StartOfDay)=\"&A72&\"\", \"Bar\", \"\", \"Close\",\"5\",\"0\",\"\",,,\"False\",\"T\",\"EveryTick\")","v":1303.5},5.8646500501581206E-3,null,null,null,""]
[240,"13:00:00",-5,{"$f":" RTD(\"cqg.rtd\",,\"StudyData\", $D$12,  \"Tick\", \"FlatTicks=0\", \"Tick\",\"D\",C73,\"\")","v":1282.9000000000001},null,null,null,{"$f":"RTD(\"cqg.rtd\",,\"StudyData\", \"Close(\"&$D$12&\") when LocalYear(\"&$D$12&\")=\"&$D$1&\" and localMonth(\"&$D$12&\") =\"&$E$1&\" and LocalDay(\"&$D$12&\")=\"&$F$1&\" and Barix(\"&$D$12&\",reference:=StartOfDay)=\"&A73&\"\", \"Bar\", \"\", \"Close\",\"5\",\"0\",\"\",,,\"False\",\"T\",\"EveryTick\")","v":""},{"$error":"#N/A"},{"$f":"RTD(\"cqg.rtd\",,\"StudyData\", \"Close(\"&$D$12&\") when LocalYear(\"&$D$12&\")=\"&$D$2&\" and localMonth(\"&$D$12&\") =\"&$E$2&\" and LocalDay(\"&$D$12&\")=\"&$F$2&\" and Barix(\"&$D$12&\",reference:=StartOfDay)=\"&A73&\"\", \"Bar\", \"\", \"Close\",\"5\",\"0\",\"\",,,\"False\",\"T\",\"EveryTick\")","v":1281.3},-1.8837583275901779E-2,{"$f":"RTD(\"cqg.rtd\",,\"StudyData\", \"Close(\"&$D$12&\") when LocalYear(\"&$D$12&\")=\"&$D$3&\" and localMonth(\"&$D$12&\") =\"&$E$3&\" and LocalDay(\"&$D$12&\")=\"&$F$3&\" and Barix(\"&$D$12&\",reference:=StartOfDay)=\"&A73&\"\", \"Bar\", \"\", \"Close\",\"5\",\"0\",\"\",,,\"False\",\"T\",\"EveryTick\")","v":1305.4000000000001},1.9187965308158721E-3,{"$f":"RTD(\"cqg.rtd\",,\"StudyData\", \"Close(\"&$D$12&\") when LocalYear(\"&$D$12&\")=\"&$D$4&\" and localMonth(\"&$D$12&\") =\"&$E$4&\" and LocalDay(\"&$D$12&\")=\"&$F$4&\" and Barix(\"&$D$12&\",reference:=StartOfDay)=\"&A73&\"\", \"Bar\", \"\", \"Close\",\"5\",\"0\",\"\",,,\"False\",\"T\",\"EveryTick\")","v":1298.7},-6.9252077562316375E-4,{"$f":"RTD(\"cqg.rtd\",,\"StudyData\", \"Close(\"&$D$12&\") when LocalYear(\"&$D$12&\")=\"&$D$5&\" and localMonth(\"&$D$12&\") =\"&$E$5&\" and LocalDay(\"&$D$12&\")=\"&$F$5&\" and Barix(\"&$D$12&\",reference:=StartOfDay)=\"&A73&\"\", \"Bar\", \"\", \"Close\",\"5\",\"0\",\"\",,,\"False\",\"T\",\"EveryTick\")","v":1299.5},-3.7565164060104957E-3,{"$f":"RTD(\"cqg.rtd\",,\"StudyData\", \"Close(\"&$D$12&\") when LocalYear(\"&$D$12&\")=\"&$D$6&\" and localMonth(\"&$D$12&\") =\"&$E$6&\" and LocalDay(\"&$D$12&\")=\"&$F$6&\" and Barix(\"&$D$12&\",reference:=StartOfDay)=\"&A73&\"\", \"Bar\", \"\", \"Close\",\"5\",\"0\",\"\",,,\"False\",\"T\",\"EveryTick\")","v":1303.4000000000001},-7.6716532412665172E-5,{"$f":"RTD(\"cqg.rtd\",,\"StudyData\", \"Close(\"&$D$12&\") when LocalYear(\"&$D$12&\")=\"&$D$7&\" and localMonth(\"&$D$12&\") =\"&$E$7&\" and LocalDay(\"&$D$12&\")=\"&$F$7&\" and Barix(\"&$D$12&\",reference:=StartOfDay)=\"&A73&\"\", \"Bar\", \"\", \"Close\",\"5\",\"0\",\"\",,,\"False\",\"T\",\"EveryTick\")","v":1303.0999999999999},1.3832321524628868E-3,{"$f":"RTD(\"cqg.rtd\",,\"StudyData\", \"Close(\"&$D$12&\") when LocalYear(\"&$D$12&\")=\"&$D$8&\" and localMonth(\"&$D$12&\") =\"&$E$8&\" and LocalDay(\"&$D$12&\")=\"&$F$8&\" and Barix(\"&$D$12&\",reference:=StartOfDay)=\"&A73&\"\", \"Bar\", \"\", \"Close\",\"5\",\"0\",\"\",,,\"False\",\"T\",\"EveryTick\")","v":1301.3},5.3821313240046554E-4,{"$f":"RTD(\"cqg.rtd\",,\"StudyData\", \"Close(\"&$D$12&\") when LocalYear(\"&$D$12&\")=\"&$D$9&\" and localMonth(\"&$D$12&\") =\"&$E$9&\" and LocalDay(\"&$D$12&\")=\"&$F$9&\" and Barix(\"&$D$12&\",reference:=StartOfDay)=\"&A73&\"\", \"Bar\", \"\", \"Close\",\"5\",\"0\",\"\",,,\"False\",\"T\",\"EveryTick\")","v":1299.4000000000001},-7.6899415564441701E-4,{"$f":"RTD(\"cqg.rtd\",,\"StudyData\", \"Close(\"&$D$12&\") when LocalYear(\"&$D$12&\")=\"&$D$10&\" and localMonth(\"&$D$12&\") =\"&$E$10&\" and LocalDay(\"&$D$12&\")=\"&$F$10&\" and Barix(\"&$D$12&\",reference:=StartOfDay)=\"&A73&\"\", \"Bar\", \"\", \"Close\",\"5\",\"0\",\"\",,,\"False\",\"T\",\"EveryTick\")","v":1303.2},5.6331507060729639E-3,null,null,null,""]
[241,"13:05:00",-4,{"$f":" RTD(\"cqg.rtd\",,\"StudyData\", $D$12,  \"Tick\", \"FlatTicks=0\", \"Tick\",\"D\",C74,\"\")","v":1283},null,null,null,{"$f":"RTD(\"cqg.rtd\",,\"StudyData\", \"Close(\"&$D$12&\") when LocalYear(\"&$D$12&\")=\"&$D$1&\" and localMonth(\"&$D$12&\") =\"&$E$1&\" and LocalDay(\"&$D$12&\")=\"&$F$1&\" and Barix(\"&$D$12&\",reference:=StartOfDay)=\"&A74&\"\", \"Bar\", \"\", \"Close\",\"5\",\"0\",\"\",,,\"False\",\"T\",\"EveryTick\")","v":""},{"$error":"#N/A"},{"$f":"RTD(\"cqg.rtd\",,\"StudyData\", \"Close(\"&$D$12&\") when LocalYear(\"&$D$12&\")=\"&$D$2&\" and localMonth(\"&$D$12&\") =\"&$E$2&\" and LocalDay(\"&$D$12&\")=\"&$F$2&\" and Barix(\"&$D$12&\",reference:=StartOfDay)=\"&A74&\"\", \"Bar\", \"\", \"Close\",\"5\",\"0\",\"\",,,\"False\",\"T\",\"EveryTick\")","v":1281.4000000000001},-1.8761007734129719E-2,{"$f":"RTD(\"cqg.rtd\",,\"StudyData\", \"Close(\"&$D$12&\") when LocalYear(\"&$D$12&\")=\"&$D$3&\" and localMonth(\"&$D$12&\") =\"&$E$3&\" and LocalDay(\"&$D$12&\")=\"&$F$3&\" and Barix(\"&$D$12&\",reference:=StartOfDay)=\"&A74&\"\", \"Bar\", \"\", \"Close\",\"5\",\"0\",\"\",,,\"False\",\"T\",\"EveryTick\")","v":1305.9000000000001},2.3025558369790464E-3,{"$f":"RTD(\"cqg.rtd\",,\"StudyData\", \"Close(\"&$D$12&\") when LocalYear(\"&$D$12&\")=\"&$D$4&\" and localMonth(\"&$D$12&\") =\"&$E$4&\" and LocalDay(\"&$D$12&\")=\"&$F$4&\" and Barix(\"&$D$12&\",reference:=StartOfDay)=\"&A74&\"\", \"Bar\", \"\", \"Close\",\"5\",\"0\",\"\",,,\"False\",\"T\",\"EveryTick\")","v":1298},-1.2311480455524078E-3,{"$f":"RTD(\"cqg.rtd\",,\"StudyData\", \"Close(\"&$D$12&\") when LocalYear(\"&$D$12&\")=\"&$D$5&\" and localMonth(\"&$D$12&\") =\"&$E$5&\" and LocalDay(\"&$D$12&\")=\"&$F$5&\" and Barix(\"&$D$12&\",reference:=StartOfDay)=\"&A74&\"\", \"Bar\", \"\", \"Close\",\"5\",\"0\",\"\",,,\"False\",\"T\",\"EveryTick\")","v":1299.4000000000001},-3.8331800061330878E-3,{"$f":"RTD(\"cqg.rtd\",,\"StudyData\", \"Close(\"&$D$12&\") when LocalYear(\"&$D$12&\")=\"&$D$6&\" and localMonth(\"&$D$12&\") =\"&$E$6&\" and LocalDay(\"&$D$12&\")=\"&$F$6&\" and Barix(\"&$D$12&\",reference:=StartOfDay)=\"&A74&\"\", \"Bar\", \"\", \"Close\",\"5\",\"0\",\"\",,,\"False\",\"T\",\"EveryTick\")","v":1303.8},2.3014959723816994E-4,{"$f":"RTD(\"cqg.rtd\",,\"StudyData\", \"Close(\"&$D$12&\") when LocalYear(\"&$D$12&\")=\"&$D$7&\" and localMonth(\"&$D$12&\") =\"&$E$7&\" and LocalDay(\"&$D$12&\")=\"&$F$7&\" and Barix(\"&$D$12&\",reference:=StartOfDay)=\"&A74&\"\", \"Bar\", \"\", \"Close\",\"5\",\"0\",\"\",,,\"False\",\"T\",\"EveryTick\")","v":1303.0999999999999},1.3832321524628868E-3,{"$f":"RTD(\"cqg.rtd\",,\"StudyData\", \"Close(\"&$D$12&\") when LocalYear(\"&$D$12&\")=\"&$D$8&\" and localMonth(\"&$D$12&\") =\"&$E$8&\" and LocalDay(\"&$D$12&\")=\"&$F$8&\" and Barix(\"&$D$12&\",reference:=StartOfDay)=\"&A74&\"\", \"Bar\", \"\", \"Close\",\"5\",\"0\",\"\",,,\"False\",\"T\",\"EveryTick\")","v":1301.4000000000001},6.1510072274348912E-4,{"$f":"RTD(\"cqg.rtd\",,\"StudyData\", \"Close(\"&$D$12&\") when LocalYear(\"&$D$12&\")=\"&$D$9&\" and localMonth(\"&$D$12&\") =\"&$E$9&\" and LocalDay(\"&$D$12&\")=\"&$F$9&\" and Barix(\"&$D$12&\",reference:=StartOfDay)=\"&A74&\"\", \"Bar\", \"\", \"Close\",\"5\",\"0\",\"\",,,\"False\",\"T\",\"EveryTick\")","v":1299.9000000000001},-3.844970778222085E-4,{"$f":"RTD(\"cqg.rtd\",,\"StudyData\", \"Close(\"&$D$12&\") when LocalYear(\"&$D$12&\")=\"&$D$10&\" and localMonth(\"&$D$12&\") =\"&$E$10&\" and LocalDay(\"&$D$12&\")=\"&$F$10&\" and Barix(\"&$D$12&\",reference:=StartOfDay)=\"&A74&\"\", \"Bar\", \"\", \"Close\",\"5\",\"0\",\"\",,,\"False\",\"T\",\"EveryTick\")","v":1302.8},5.3244849139593049E-3,null,null,null,""]
[242,"13:10:00",-3,{"$f":" RTD(\"cqg.rtd\",,\"StudyData\", $D$12,  \"Tick\", \"FlatTicks=0\", \"Tick\",\"D\",C75,\"\")","v":1282.9000000000001},null,null,null,{"$f":"RTD(\"cqg.rtd\",,\"StudyData\", \"Close(\"&$D$12&\") when LocalYear(\"&$D$12&\")=\"&$D$1&\" and localMonth(\"&$D$12&\") =\"&$E$1&\" and LocalDay(\"&$D$12&\")=\"&$F$1&\" and Barix(\"&$D$12&\",reference:=StartOfDay)=\"&A75&\"\", \"Bar\", \"\", \"Close\",\"5\",\"0\",\"\",,,\"False\",\"T\",\"EveryTick\")","v":""},{"$error":"#N/A"},{"$f":"RTD(\"cqg.rtd\",,\"StudyData\", \"Close(\"&$D$12&\") when LocalYear(\"&$D$12&\")=\"&$D$2&\" and localMonth(\"&$D$12&\") =\"&$E$2&\" and LocalDay(\"&$D$12&\")=\"&$F$2&\" and Barix(\"&$D$12&\",reference:=StartOfDay)=\"&A75&\"\", \"Bar\", \"\", \"Close\",\"5\",\"0\",\"\",,,\"False\",\"T\",\"EveryTick\")","v":1281.5},-1.8684432192357828E-2,{"$f":"RTD(\"cqg.rtd\",,\"StudyData\", \"Close(\"&$D$12&\") when LocalYear(\"&$D$12&\")=\"&$D$3&\" and localMonth(\"&$D$12&\") =\"&$E$3&\" and LocalDay(\"&$D$12&\")=\"&$F$3&\" and Barix(\"&$D$12&\",reference:=StartOfDay)=\"&A75&\"\", \"Bar\", \"\", \"Close\",\"5\",\"0\",\"\",,,\"False\",\"T\",\"EveryTick\")","v":1306.4000000000001},2.686315143142221E-3,{"$f":"RTD(\"cqg.rtd\",,\"StudyData\", \"Close(\"&$D$12&\") when LocalYear(\"&$D$12&\")=\"&$D$4&\" and localMonth(\"&$D$12&\") =\"&$E$4&\" and LocalDay(\"&$D$12&\")=\"&$F$4&\" and Barix(\"&$D$12&\",reference:=StartOfDay)=\"&A75&\"\", \"Bar\", \"\", \"Close\",\"5\",\"0\",\"\",,,\"False\",\"T\",\"EveryTick\")","v":1298.5},-8.4641428131725853E-4,{"$f":"RTD(\"cqg.rtd\",,\"StudyData\", \"Close(\"&$D$12&\") when LocalYear(\"&$D$12&\")=\"&$D$5&\" and localMonth(\"&$D$12&\") =\"&$E$5&\" and LocalDay(\"&$D$12&\")=\"&$F$5&\" and Barix(\"&$D$12&\",reference:=StartOfDay)=\"&A75&\"\", \"Bar\", \"\", \"Close\",\"5\",\"0\",\"\",,,\"False\",\"T\",\"EveryTick\")","v":1299.0999999999999},-4.0631708065012127E-3,{"$f":"RTD(\"cqg.rtd\",,\"StudyData\", \"Close(\"&$D$12&\") when LocalYear(\"&$D$12&\")=\"&$D$6&\" and localMonth(\"&$D$12&\") =\"&$E$6&\" and LocalDay(\"&$D$12&\")=\"&$F$6&\" and Barix(\"&$D$12&\",reference:=StartOfDay)=\"&A75&\"\", \"Bar\", \"\", \"Close\",\"5\",\"0\",\"\",,,\"False\",\"T\",\"EveryTick\")","v":1303.7},1.5343306482550477E-4,{"$f":"RTD(\"cqg.rtd\",,\"StudyData\", \"Close(\"&$D$12&\") when LocalYear(\"&$D$12&\")=\"&$D$7&\" and localMonth(\"&$D$12&\") =\"&$E$7&\" and LocalDay(\"&$D$12&\")=\"&$F$7&\" and Barix(\"&$D$12&\",reference:=StartOfDay)=\"&A75&\"\", \"Bar\", \"\", \"Close\",\"5\",\"0\",\"\",,,\"False\",\"T\",\"EveryTick\")","v":1303.0999999999999},1.3832321524628868E-3,{"$f":"RTD(\"cqg.rtd\",,\"StudyData\", \"Close(\"&$D$12&\") when LocalYear(\"&$D$12&\")=\"&$D$8&\" and localMonth(\"&$D$12&\") =\"&$E$8&\" and LocalDay(\"&$D$12&\")=\"&$F$8&\" and Barix(\"&$D$12&\",reference:=StartOfDay)=\"&A75&\"\", \"Bar\", \"\", \"Close\",\"5\",\"0\",\"\",,,\"False\",\"T\",\"EveryTick\")","v":1301.3},5.3821313240046554E-4,{"$f":"RTD(\"cqg.rtd\",,\"StudyData\", \"Close(\"&$D$12&\") when LocalYear(\"&$D$12&\")=\"&$D$9&\" and localMonth(\"&$D$12&\") =\"&$E$9&\" and LocalDay(\"&$D$12&\")=\"&$F$9&\" and Barix(\"&$D$12&\",reference:=StartOfDay)=\"&A75&\"\", \"Bar\", \"\", \"Close\",\"5\",\"0\",\"\",,,\"False\",\"T\",\"EveryTick\")","v":1299.9000000000001},-3.844970778222085E-4,{"$f":"RTD(\"cqg.rtd\",,\"StudyData\", \"Close(\"&$D$12&\") when LocalYear(\"&$D$12&\")=\"&$D$10&\" and localMonth(\"&$D$12&\") =\"&$E$10&\" and LocalDay(\"&$D$12&\")=\"&$F$10&\" and Barix(\"&$D$12&\",reference:=StartOfDay)=\"&A75&\"\", \"Bar\", \"\", \"Close\",\"5\",\"0\",\"\",,,\"False\",\"T\",\"EveryTick\")","v":1302.5999999999999},5.1701520179024754E-3,null,null,null,""]
[243,"13:15:00",-2,{"$f":" RTD(\"cqg.rtd\",,\"StudyData\", $D$12,  \"Tick\", \"FlatTicks=0\", \"Tick\",\"D\",C76,\"\")","v":1283},null,null,null,{"$f":"RTD(\"cqg.rtd\",,\"StudyData\", \"Close(\"&$D$12&\") when LocalYear(\"&$D$12&\")=\"&$D$1&\" and localMonth(\"&$D$12&\") =\"&$E$1&\" and LocalDay(\"&$D$12&\")=\"&$F$1&\" and Barix(\"&$D$12&\",reference:=StartOfDay)=\"&A76&\"\", \"Bar\", \"\", \"Close\",\"5\",\"0\",\"\",,,\"False\",\"T\",\"EveryTick\")","v":""},{"$error":"#N/A"},{"$f":"RTD(\"cqg.rtd\",,\"StudyData\", \"Close(\"&$D$12&\") when LocalYear(\"&$D$12&\")=\"&$D$2&\" and localMonth(\"&$D$12&\") =\"&$E$2&\" and LocalDay(\"&$D$12&\")=\"&$F$2&\" and Barix(\"&$D$12&\",reference:=StartOfDay)=\"&A76&\"\", \"Bar\", \"\", \"Close\",\"5\",\"0\",\"\",,,\"False\",\"T\",\"EveryTick\")","v":1282},-1.8301554483498038E-2,{"$f":"RTD(\"cqg.rtd\",,\"StudyData\", \"Close(\"&$D$12&\") when LocalYear(\"&$D$12&\")=\"&$D$3&\" and localMonth(\"&$D$12&\") =\"&$E$3&\" and LocalDay(\"&$D$12&\")=\"&$F$3&\" and Barix(\"&$D$12&\",reference:=StartOfDay)=\"&A76&\"\", \"Bar\", \"\", \"Close\",\"5\",\"0\",\"\",,,\"False\",\"T\",\"EveryTick\")","v":1305.9000000000001},2.3025558369790464E-3,{"$f":"RTD(\"cqg.rtd\",,\"StudyData\", \"Close(\"&$D$12&\") when LocalYear(\"&$D$12&\")=\"&$D$4&\" and localMonth(\"&$D$12&\") =\"&$E$4&\" and LocalDay(\"&$D$12&\")=\"&$F$4&\" and Barix(\"&$D$12&\",reference:=StartOfDay)=\"&A76&\"\", \"Bar\", \"\", \"Close\",\"5\",\"0\",\"\",,,\"False\",\"T\",\"EveryTick\")","v":1298.4000000000001},-9.2336103416421837E-4,{"$f":"RTD(\"cqg.rtd\",,\"StudyData\", \"Close(\"&$D$12&\") when LocalYear(\"&$D$12&\")=\"&$D$5&\" and localMonth(\"&$D$12&\") =\"&$E$5&\" and LocalDay(\"&$D$12&\")=\"&$F$5&\" and Barix(\"&$D$12&\",reference:=StartOfDay)=\"&A76&\"\", \"Bar\", \"\", \"Close\",\"5\",\"0\",\"\",,,\"False\",\"T\",\"EveryTick\")","v":1299.5},-3.7565164060104957E-3,{"$f":"RTD(\"cqg.rtd\",,\"StudyData\", \"Close(\"&$D$12&\") when LocalYear(\"&$D$12&\")=\"&$D$6&\" and localMonth(\"&$D$12&\") =\"&$E$6&\" and LocalDay(\"&$D$12&\")=\"&$F$6&\" and Barix(\"&$D$12&\",reference:=StartOfDay)=\"&A76&\"\", \"Bar\", \"\", \"Close\",\"5\",\"0\",\"\",,,\"False\",\"T\",\"EveryTick\")","v":1303.9000000000001},3.0686612965100953E-4,{"$f":"RTD(\"cqg.rtd\",,\"StudyData\", \"Close(\"&$D$12&\") when LocalYear(\"&$D$12&\")=\"&$D$7&\" and localMonth(\"&$D$12&\") =\"&$E$7&\" and LocalDay(\"&$D$12&\")=\"&$F$7&\" and Barix(\"&$D$12&\",reference:=StartOfDay)=\"&A76&\"\", \"Bar\", \"\", \"Close\",\"5\",\"0\",\"\",,,\"False\",\"T\",\"EveryTick\")","v":1303.0999999999999},1.3832321524628868E-3,{"$f":"RTD(\"cqg.rtd\",,\"StudyData\", \"Close(\"&$D$12&\") when LocalYear(\"&$D$12&\")=\"&$D$8&\" and localMonth(\"&$D$12&\") =\"&$E$8&\" and LocalDay(\"&$D$12&\")=\"&$F$8&\" and Barix(\"&$D$12&\",reference:=StartOfDay)=\"&A76&\"\", \"Bar\", \"\", \"Close\",\"5\",\"0\",\"\",,,\"False\",\"T\",\"EveryTick\")","v":1301},3.0755036137174456E-4,{"$f":"RTD(\"cqg.rtd\",,\"StudyData\", \"Close(\"&$D$12&\") when LocalYear(\"&$D$12&\")=\"&$D$9&\" and localMonth(\"&$D$12&\") =\"&$E$9&\" and LocalDay(\"&$D$12&\")=\"&$F$9&\" and Barix(\"&$D$12&\",reference:=StartOfDay)=\"&A76&\"\", \"Bar\", \"\", \"Close\",\"5\",\"0\",\"\",,,\"False\",\"T\",\"EveryTick\")","v":1300.0999999999999},-2.3069824669346499E-4,{"$f":"RTD(\"cqg.rtd\",,\"StudyData\", \"Close(\"&$D$12&\") when LocalYear(\"&$D$12&\")=\"&$D$10&\" and localMonth(\"&$D$12&\") =\"&$E$10&\" and LocalDay(\"&$D$12&\")=\"&$F$10&\" and Barix(\"&$D$12&\",reference:=StartOfDay)=\"&A76&\"\", \"Bar\", \"\", \"Close\",\"5\",\"0\",\"\",,,\"False\",\"T\",\"EveryTick\")","v":1302.4000000000001},5.0158191218458211E-3,null,null,null,""]
[244,"13:20:00",-1,{"$f":" RTD(\"cqg.rtd\",,\"StudyData\", $D$12,  \"Tick\", \"FlatTicks=0\", \"Tick\",\"D\",C77,\"\")","v":1282.9000000000001},null,null,null,{"$f":"RTD(\"cqg.rtd\",,\"StudyData\", \"Close(\"&$D$12&\") when LocalYear(\"&$D$12&\")=\"&$D$1&\" and localMonth(\"&$D$12&\") =\"&$E$1&\" and LocalDay(\"&$D$12&\")=\"&$F$1&\" and Barix(\"&$D$12&\",reference:=StartOfDay)=\"&A77&\"\", \"Bar\", \"\", \"Close\",\"5\",\"0\",\"\",,,\"False\",\"T\",\"EveryTick\")","v":""},{"$error":"#N/A"},{"$f":"RTD(\"cqg.rtd\",,\"StudyData\", \"Close(\"&$D$12&\") when LocalYear(\"&$D$12&\")=\"&$D$2&\" and localMonth(\"&$D$12&\") =\"&$E$2&\" and LocalDay(\"&$D$12&\")=\"&$F$2&\" and Barix(\"&$D$12&\",reference:=StartOfDay)=\"&A77&\"\", \"Bar\", \"\", \"Close\",\"5\",\"0\",\"\",,,\"False\",\"T\",\"EveryTick\")","v":1281.7},-1.8531281108813878E-2,{"$f":"RTD(\"cqg.rtd\",,\"StudyData\", \"Close(\"&$D$12&\") when LocalYear(\"&$D$12&\")=\"&$D$3&\" and localMonth(\"&$D$12&\") =\"&$E$3&\" and LocalDay(\"&$D$12&\")=\"&$F$3&\" and Barix(\"&$D$12&\",reference:=StartOfDay)=\"&A77&\"\", \"Bar\", \"\", \"Close\",\"5\",\"0\",\"\",,,\"False\",\"T\",\"EveryTick\")","v":1306.4000000000001},2.686315143142221E-3,{"$f":"RTD(\"cqg.rtd\",,\"StudyData\", \"Close(\"&$D$12&\") when LocalYear(\"&$D$12&\")=\"&$D$4&\" and localMonth(\"&$D$12&\") =\"&$E$4&\" and LocalDay(\"&$D$12&\")=\"&$F$4&\" and Barix(\"&$D$12&\",reference:=StartOfDay)=\"&A77&\"\", \"Bar\", \"\", \"Close\",\"5\",\"0\",\"\",,,\"False\",\"T\",\"EveryTick\")","v":1298.5999999999999},-7.6946752847029858E-4,{"$f":"RTD(\"cqg.rtd\",,\"StudyData\", \"Close(\"&$D$12&\") when LocalYear(\"&$D$12&\")=\"&$D$5&\" and localMonth(\"&$D$12&\") =\"&$E$5&\" and LocalDay(\"&$D$12&\")=\"&$F$5&\" and Barix(\"&$D$12&\",reference:=StartOfDay)=\"&A77&\"\", \"Bar\", \"\", \"Close\",\"5\",\"0\",\"\",,,\"False\",\"T\",\"EveryTick\")","v":1298.8},-4.2931616068691628E-3,{"$f":"RTD(\"cqg.rtd\",,\"StudyData\", \"Close(\"&$D$12&\") when LocalYear(\"&$D$12&\")=\"&$D$6&\" and localMonth(\"&$D$12&\") =\"&$E$6&\" and LocalDay(\"&$D$12&\")=\"&$F$6&\" and Barix(\"&$D$12&\",reference:=StartOfDay)=\"&A77&\"\", \"Bar\", \"\", \"Close\",\"5\",\"0\",\"\",,,\"False\",\"T\",\"EveryTick\")","v":1303.8},2.3014959723816994E-4,{"$f":"RTD(\"cqg.rtd\",,\"StudyData\", \"Close(\"&$D$12&\") when LocalYear(\"&$D$12&\")=\"&$D$7&\" and localMonth(\"&$D$12&\") =\"&$E$7&\" and LocalDay(\"&$D$12&\")=\"&$F$7&\" and Barix(\"&$D$12&\",reference:=StartOfDay)=\"&A77&\"\", \"Bar\", \"\", \"Close\",\"5\",\"0\",\"\",,,\"False\",\"T\",\"EveryTick\")","v":1303},1.3063859217705722E-3,{"$f":"RTD(\"cqg.rtd\",,\"StudyData\", \"Close(\"&$D$12&\") when LocalYear(\"&$D$12&\")=\"&$D$8&\" and localMonth(\"&$D$12&\") =\"&$E$8&\" and LocalDay(\"&$D$12&\")=\"&$F$8&\" and Barix(\"&$D$12&\",reference:=StartOfDay)=\"&A77&\"\", \"Bar\", \"\", \"Close\",\"5\",\"0\",\"\",,,\"False\",\"T\",\"EveryTick\")","v":1301.3},5.3821313240046554E-4,{"$f":"RTD(\"cqg.rtd\",,\"StudyData\", \"Close(\"&$D$12&\") when LocalYear(\"&$D$12&\")=\"&$D$9&\" and localMonth(\"&$D$12&\") =\"&$E$9&\" and LocalDay(\"&$D$12&\")=\"&$F$9&\" and Barix(\"&$D$12&\",reference:=StartOfDay)=\"&A77&\"\", \"Bar\", \"\", \"Close\",\"5\",\"0\",\"\",,,\"False\",\"T\",\"EveryTick\")","v":1300.0999999999999},-2.3069824669346499E-4,{"$f":"RTD(\"cqg.rtd\",,\"StudyData\", \"Close(\"&$D$12&\") when LocalYear(\"&$D$12&\")=\"&$D$10&\" and localMonth(\"&$D$12&\") =\"&$E$10&\" and LocalDay(\"&$D$12&\")=\"&$F$10&\" and Barix(\"&$D$12&\",reference:=StartOfDay)=\"&A77&\"\", \"Bar\", \"\", \"Close\",\"5\",\"0\",\"\",,,\"False\",\"T\",\"EveryTick\")","v":1302.4000000000001},5.0158191218458211E-3,null,null,null,""]
[245,"13:25:00",{"$f":"C77+1","v":0},{"$f":" RTD(\"cqg.rtd\",,\"StudyData\", $D$12,  \"Tick\", \"FlatTicks=0\", \"Tick\",\"D\",C78,\"\")","v":1282.8},null,null,null,{"$f":"RTD(\"cqg.rtd\",,\"StudyData\", \"Close(\"&$D$12&\") when LocalYear(\"&$D$12&\")=\"&$D$1&\" and localMonth(\"&$D$12&\") =\"&$E$1&\" and LocalDay(\"&$D$12&\")=\"&$F$1&\" and Barix(\"&$D$12&\",reference:=StartOfDay)=\"&A78&\"\", \"Bar\", \"\", \"Close\",\"5\",\"0\",\"\",,,\"False\",\"T\",\"EveryTick\")","v":""},{"$error":"#N/A"},{"$f":"RTD(\"cqg.rtd\",,\"StudyData\", \"Close(\"&$D$12&\") when LocalYear(\"&$D$12&\")=\"&$D$2&\" and localMonth(\"&$D$12&\") =\"&$E$2&\" and LocalDay(\"&$D$12&\")=\"&$F$2&\" and Barix(\"&$D$12&\",reference:=StartOfDay)=\"&A78&\"\", \"Bar\", \"\", \"Close\",\"5\",\"0\",\"\",,,\"False\",\"T\",\"EveryTick\")","v":1281.4000000000001},-1.8761007734129719E-2,{"$f":"RTD(\"cqg.rtd\",,\"StudyData\", \"Close(\"&$D$12&\") when LocalYear(\"&$D$12&\")=\"&$D$3&\" and localMonth(\"&$D$12&\") =\"&$E$3&\" and LocalDay(\"&$D$12&\")=\"&$F$3&\" and Barix(\"&$D$12&\",reference:=StartOfDay)=\"&A78&\"\", \"Bar\", \"\", \"Close\",\"5\",\"0\",\"\",,,\"False\",\"T\",\"EveryTick\")","v":1306},2.3793076982116116E-3,{"$f":"RTD(\"cqg.rtd\",,\"StudyData\", \"Close(\"&$D$12&\") when LocalYear(\"&$D$12&\")=\"&$D$4&\" and localMonth(\"&$D$12&\") =\"&$E$4&\" and LocalDay(\"&$D$12&\")=\"&$F$4&\" and Barix(\"&$D$12&\",reference:=StartOfDay)=\"&A78&\"\", \"Bar\", \"\", \"Close\",\"5\",\"0\",\"\",,,\"False\",\"T\",\"EveryTick\")","v":1297.2},-1.8467220683286117E-3,{"$f":"RTD(\"cqg.rtd\",,\"StudyData\", \"Close(\"&$D$12&\") when LocalYear(\"&$D$12&\")=\"&$D$5&\" and localMonth(\"&$D$12&\") =\"&$E$5&\" and LocalDay(\"&$D$12&\")=\"&$F$5&\" and Barix(\"&$D$12&\",reference:=StartOfDay)=\"&A78&\"\", \"Bar\", \"\", \"Close\",\"5\",\"0\",\"\",,,\"False\",\"T\",\"EveryTick\")","v":1299.0999999999999},-4.0631708065012127E-3,{"$f":"RTD(\"cqg.rtd\",,\"StudyData\", \"Close(\"&$D$12&\") when LocalYear(\"&$D$12&\")=\"&$D$6&\" and localMonth(\"&$D$12&\") =\"&$E$6&\" and LocalDay(\"&$D$12&\")=\"&$F$6&\" and Barix(\"&$D$12&\",reference:=StartOfDay)=\"&A78&\"\", \"Bar\", \"\", \"Close\",\"5\",\"0\",\"\",,,\"False\",\"T\",\"EveryTick\")","v":1303.9000000000001},3.0686612965100953E-4,{"$f":"RTD(\"cqg.rtd\",,\"StudyData\", \"Close(\"&$D$12&\") when LocalYear(\"&$D$12&\")=\"&$D$7&\" and localMonth(\"&$D$12&\") =\"&$E$7&\" and LocalDay(\"&$D$12&\")=\"&$F$7&\" and Barix(\"&$D$12&\",reference:=StartOfDay)=\"&A78&\"\", \"Bar\", \"\", \"Close\",\"5\",\"0\",\"\",,,\"False\",\"T\",\"EveryTick\")","v":1302.9000000000001},1.2295396910782575E-3,{"$f":"RTD(\"cqg.rtd\",,\"StudyData\", \"Close(\"&$D$12&\") when LocalYear(\"&$D$12&\")=\"&$D$8&\" and localMonth(\"&$D$12&\") =\"&$E$8&\" and LocalDay(\"&$D$12&\")=\"&$F$8&\" and Barix(\"&$D$12&\",reference:=StartOfDay)=\"&A78&\"\", \"Bar\", \"\", \"Close\",\"5\",\"0\",\"\",,,\"False\",\"T\",\"EveryTick\")","v":1301.7},8.457634937722101E-4,{"$f":"RTD(\"cqg.rtd\",,\"StudyData\", \"Close(\"&$D$12&\") when LocalYear(\"&$D$12&\")=\"&$D$9&\" and localMonth(\"&$D$12&\") =\"&$E$9&\" and LocalDay(\"&$D$12&\")=\"&$F$9&\" and Barix(\"&$D$12&\",reference:=StartOfDay)=\"&A78&\"\", \"Bar\", \"\", \"Close\",\"5\",\"0\",\"\",,,\"False\",\"T\",\"EveryTick\")","v":1300.2},-1.5379883112891837E-4,{"$f":"RTD(\"cqg.rtd\",,\"StudyData\", \"Close(\"&$D$12&\") when LocalYear(\"&$D$12&\")=\"&$D$10&\" and localMonth(\"&$D$12&\") =\"&$E$10&\" and LocalDay(\"&$D$12&\")=\"&$F$10&\" and Barix(\"&$D$12&\",reference:=StartOfDay)=\"&A78&\"\", \"Bar\", \"\", \"Close\",\"5\",\"0\",\"\",,,\"False\",\"T\",\"EveryTick\")","v":1302.0999999999999},4.7843197777604892E-3,null,null,null,""]
[246,"13:30:00",null,null,null,null,null,{"$f":"RTD(\"cqg.rtd\",,\"StudyData\", \"Close(\"&$D$12&\") when LocalYear(\"&$D$12&\")=\"&$D$1&\" and localMonth(\"&$D$12&\") =\"&$E$1&\" and LocalDay(\"&$D$12&\")=\"&$F$1&\" and Barix(\"&$D$12&\",reference:=StartOfDay)=\"&A79&\"\", \"Bar\", \"\", \"Close\",\"5\",\"0\",\"\",,,\"False\",\"T\",\"EveryTick\")","v":""},{"$error":"#N/A"},{"$f":"RTD(\"cqg.rtd\",,\"StudyData\", \"Close(\"&$D$12&\") when LocalYear(\"&$D$12&\")=\"&$D$2&\" and localMonth(\"&$D$12&\") =\"&$E$2&\" and LocalDay(\"&$D$12&\")=\"&$F$2&\" and Barix(\"&$D$12&\",reference:=StartOfDay)=\"&A79&\"\", \"Bar\", \"\", \"Close\",\"5\",\"0\",\"\",,,\"False\",\"T\",\"EveryTick\")","v":1282.4000000000001},-1.7995252316410137E-2,{"$f":"RTD(\"cqg.rtd\",,\"StudyData\", \"Close(\"&$D$12&\") when LocalYear(\"&$D$12&\")=\"&$D$3&\" and localMonth(\"&$D$12&\") =\"&$E$3&\" and LocalDay(\"&$D$12&\")=\"&$F$3&\" and Barix(\"&$D$12&\",reference:=StartOfDay)=\"&A79&\"\", \"Bar\", \"\", \"Close\",\"5\",\"0\",\"\",,,\"False\",\"T\",\"EveryTick\")","v":1305.8},2.2258039757463068E-3,{"$f":"RTD(\"cqg.rtd\",,\"StudyData\", \"Close(\"&$D$12&\") when LocalYear(\"&$D$12&\")=\"&$D$4&\" and localMonth(\"&$D$12&\") =\"&$E$4&\" and LocalDay(\"&$D$12&\")=\"&$F$4&\" and Barix(\"&$D$12&\",reference:=StartOfDay)=\"&A79&\"\", \"Bar\", \"\", \"Close\",\"5\",\"0\",\"\",,,\"False\",\"T\",\"EveryTick\")","v":1297},-2.0006155740227064E-3,{"$f":"RTD(\"cqg.rtd\",,\"StudyData\", \"Close(\"&$D$12&\") when LocalYear(\"&$D$12&\")=\"&$D$5&\" and localMonth(\"&$D$12&\") =\"&$E$5&\" and LocalDay(\"&$D$12&\")=\"&$F$5&\" and Barix(\"&$D$12&\",reference:=StartOfDay)=\"&A79&\"\", \"Bar\", \"\", \"Close\",\"5\",\"0\",\"\",,,\"False\",\"T\",\"EveryTick\")","v":1299},-4.1398344066238043E-3,{"$f":"RTD(\"cqg.rtd\",,\"StudyData\", \"Close(\"&$D$12&\") when LocalYear(\"&$D$12&\")=\"&$D$6&\" and localMonth(\"&$D$12&\") =\"&$E$6&\" and LocalDay(\"&$D$12&\")=\"&$F$6&\" and Barix(\"&$D$12&\",reference:=StartOfDay)=\"&A79&\"\", \"Bar\", \"\", \"Close\",\"5\",\"0\",\"\",,,\"False\",\"T\",\"EveryTick\")","v":1303.5999999999999},7.6716532412665172E-5,{"$f":"RTD(\"cqg.rtd\",,\"StudyData\", \"Close(\"&$D$12&\") when LocalYear(\"&$D$12&\")=\"&$D$7&\" and localMonth(\"&$D$12&\") =\"&$E$7&\" and LocalDay(\"&$D$12&\")=\"&$F$7&\" and Barix(\"&$D$12&\",reference:=StartOfDay)=\"&A79&\"\", \"Bar\", \"\", \"Close\",\"5\",\"0\",\"\",,,\"False\",\"T\",\"EveryTick\")","v":1302.8},1.1526934603857681E-3,{"$f":"RTD(\"cqg.rtd\",,\"StudyData\", \"Close(\"&$D$12&\") when LocalYear(\"&$D$12&\")=\"&$D$8&\" and localMonth(\"&$D$12&\") =\"&$E$8&\" and LocalDay(\"&$D$12&\")=\"&$F$8&\" and Barix(\"&$D$12&\",reference:=StartOfDay)=\"&A79&\"\", \"Bar\", \"\", \"Close\",\"5\",\"0\",\"\",,,\"False\",\"T\",\"EveryTick\")","v":1301.8},9.2265108411505891E-4,{"$f":"RTD(\"cqg.rtd\",,\"StudyData\", \"Close(\"&$D$12&\") when LocalYear(\"&$D$12&\")=\"&$D$9&\" and localMonth(\"&$D$12&\") =\"&$E$9&\" and LocalDay(\"&$D$12&\")=\"&$F$9&\" and Barix(\"&$D$12&\",reference:=StartOfDay)=\"&A79&\"\", \"Bar\", \"\", \"Close\",\"5\",\"0\",\"\",,,\"False\",\"T\",\"EveryTick\")","v":1300.0999999999999},-2.3069824669346499E-4,{"$f":"RTD(\"cqg.rtd\",,\"StudyData\", \"Close(\"&$D$12&\") when LocalYear(\"&$D$12&\")=\"&$D$10&\" and localMonth(\"&$D$12&\") =\"&$E$10&\" and LocalDay(\"&$D$12&\")=\"&$F$10&\" and Barix(\"&$D$12&\",reference:=StartOfDay)=\"&A79&\"\", \"Bar\", \"\", \"Close\",\"5\",\"0\",\"\",,,\"False\",\"T\",\"EveryTick\")","v":1302.2},4.8614862257889916E-3,null,null,null,""]
[247,"13:35:00",null,null,null,null,null,{"$f":"RTD(\"cqg.rtd\",,\"StudyData\", \"Close(\"&$D$12&\") when LocalYear(\"&$D$12&\")=\"&$D$1&\" and localMonth(\"&$D$12&\") =\"&$E$1&\" and LocalDay(\"&$D$12&\")=\"&$F$1&\" and Barix(\"&$D$12&\",reference:=StartOfDay)=\"&A80&\"\", \"Bar\", \"\", \"Close\",\"5\",\"0\",\"\",,,\"False\",\"T\",\"EveryTick\")","v":""},{"$error":"#N/A"},{"$f":"RTD(\"cqg.rtd\",,\"StudyData\", \"Close(\"&$D$12&\") when LocalYear(\"&$D$12&\")=\"&$D$2&\" and localMonth(\"&$D$12&\") =\"&$E$2&\" and LocalDay(\"&$D$12&\")=\"&$F$2&\" and Barix(\"&$D$12&\",reference:=StartOfDay)=\"&A80&\"\", \"Bar\", \"\", \"Close\",\"5\",\"0\",\"\",,,\"False\",\"T\",\"EveryTick\")","v":1282.4000000000001},-1.7995252316410137E-2,{"$f":"RTD(\"cqg.rtd\",,\"StudyData\", \"Close(\"&$D$12&\") when LocalYear(\"&$D$12&\")=\"&$D$3&\" and localMonth(\"&$D$12&\") =\"&$E$3&\" and LocalDay(\"&$D$12&\")=\"&$F$3&\" and Barix(\"&$D$12&\",reference:=StartOfDay)=\"&A80&\"\", \"Bar\", \"\", \"Close\",\"5\",\"0\",\"\",,,\"False\",\"T\",\"EveryTick\")","v":1306.3},2.6095632819094815E-3,{"$f":"RTD(\"cqg.rtd\",,\"StudyData\", \"Close(\"&$D$12&\") when LocalYear(\"&$D$12&\")=\"&$D$4&\" and localMonth(\"&$D$12&\") =\"&$E$4&\" and LocalDay(\"&$D$12&\")=\"&$F$4&\" and Barix(\"&$D$12&\",reference:=StartOfDay)=\"&A80&\"\", \"Bar\", \"\", \"Close\",\"5\",\"0\",\"\",,,\"False\",\"T\",\"EveryTick\")","v":1298.0999999999999},-1.1542012927054479E-3,{"$f":"RTD(\"cqg.rtd\",,\"StudyData\", \"Close(\"&$D$12&\") when LocalYear(\"&$D$12&\")=\"&$D$5&\" and localMonth(\"&$D$12&\") =\"&$E$5&\" and LocalDay(\"&$D$12&\")=\"&$F$5&\" and Barix(\"&$D$12&\",reference:=StartOfDay)=\"&A80&\"\", \"Bar\", \"\", \"Close\",\"5\",\"0\",\"\",,,\"False\",\"T\",\"EveryTick\")","v":1298.9000000000001},-4.2164980067463968E-3,{"$f":"RTD(\"cqg.rtd\",,\"StudyData\", \"Close(\"&$D$12&\") when LocalYear(\"&$D$12&\")=\"&$D$6&\" and localMonth(\"&$D$12&\") =\"&$E$6&\" and LocalDay(\"&$D$12&\")=\"&$F$6&\" and Barix(\"&$D$12&\",reference:=StartOfDay)=\"&A80&\"\", \"Bar\", \"\", \"Close\",\"5\",\"0\",\"\",,,\"False\",\"T\",\"EveryTick\")","v":1303.8},2.3014959723816994E-4,{"$f":"RTD(\"cqg.rtd\",,\"StudyData\", \"Close(\"&$D$12&\") when LocalYear(\"&$D$12&\")=\"&$D$7&\" and localMonth(\"&$D$12&\") =\"&$E$7&\" and LocalDay(\"&$D$12&\")=\"&$F$7&\" and Barix(\"&$D$12&\",reference:=StartOfDay)=\"&A80&\"\", \"Bar\", \"\", \"Close\",\"5\",\"0\",\"\",,,\"False\",\"T\",\"EveryTick\")","v":1302.7},1.0758472296934535E-3,{"$f":"RTD(\"cqg.rtd\",,\"StudyData\", \"Close(\"&$D$12&\") when LocalYear(\"&$D$12&\")=\"&$D$8&\" and localMonth(\"&$D$12&\") =\"&$E$8&\" and LocalDay(\"&$D$12&\")=\"&$F$8&\" and Barix(\"&$D$12&\",reference:=StartOfDay)=\"&A80&\"\", \"Bar\", \"\", \"Close\",\"5\",\"0\",\"\",,,\"False\",\"T\",\"EveryTick\")","v":1301.8},9.2265108411505891E-4,{"$f":"RTD(\"cqg.rtd\",,\"StudyData\", \"Close(\"&$D$12&\") when LocalYear(\"&$D$12&\")=\"&$D$9&\" and localMonth(\"&$D$12&\") =\"&$E$9&\" and LocalDay(\"&$D$12&\")=\"&$F$9&\" and Barix(\"&$D$12&\",reference:=StartOfDay)=\"&A80&\"\", \"Bar\", \"\", \"Close\",\"5\",\"0\",\"\",,,\"False\",\"T\",\"EveryTick\")","v":1300.3},-7.6899415564546611E-5,{"$f":"RTD(\"cqg.rtd\",,\"StudyData\", \"Close(\"&$D$12&\") when LocalYear(\"&$D$12&\")=\"&$D$10&\" and localMonth(\"&$D$12&\") =\"&$E$10&\" and LocalDay(\"&$D$12&\")=\"&$F$10&\" and Barix(\"&$D$12&\",reference:=StartOfDay)=\"&A80&\"\", \"Bar\", \"\", \"Close\",\"5\",\"0\",\"\",,,\"False\",\"T\",\"EveryTick\")","v":1302.0999999999999},4.7843197777604892E-3,null,null,null,""]
[248,"13:40:00",null,null,null,null,null,{"$f":"RTD(\"cqg.rtd\",,\"StudyData\", \"Close(\"&$D$12&\") when LocalYear(\"&$D$12&\")=\"&$D$1&\" and localMonth(\"&$D$12&\") =\"&$E$1&\" and LocalDay(\"&$D$12&\")=\"&$F$1&\" and Barix(\"&$D$12&\",reference:=StartOfDay)=\"&A81&\"\", \"Bar\", \"\", \"Close\",\"5\",\"0\",\"\",,,\"False\",\"T\",\"EveryTick\")","v":""},{"$error":"#N/A"},{"$f":"RTD(\"cqg.rtd\",,\"StudyData\", \"Close(\"&$D$12&\") when LocalYear(\"&$D$12&\")=\"&$D$2&\" and localMonth(\"&$D$12&\") =\"&$E$2&\" and LocalDay(\"&$D$12&\")=\"&$F$2&\" and Barix(\"&$D$12&\",reference:=StartOfDay)=\"&A81&\"\", \"Bar\", \"\", \"Close\",\"5\",\"0\",\"\",,,\"False\",\"T\",\"EveryTick\")","v":1282.4000000000001},-1.7995252316410137E-2,{"$f":"RTD(\"cqg.rtd\",,\"StudyData\", \"Close(\"&$D$12&\") when LocalYear(\"&$D$12&\")=\"&$D$3&\" and localMonth(\"&$D$12&\") =\"&$E$3&\" and LocalDay(\"&$D$12&\")=\"&$F$3&\" and Barix(\"&$D$12&\",reference:=StartOfDay)=\"&A81&\"\", \"Bar\", \"\", \"Close\",\"5\",\"0\",\"\",,,\"False\",\"T\",\"EveryTick\")","v":1306.3},2.6095632819094815E-3,{"$f":"RTD(\"cqg.rtd\",,\"StudyData\", \"Close(\"&$D$12&\") when LocalYear(\"&$D$12&\")=\"&$D$4&\" and localMonth(\"&$D$12&\") =\"&$E$4&\" and LocalDay(\"&$D$12&\")=\"&$F$4&\" and Barix(\"&$D$12&\",reference:=StartOfDay)=\"&A81&\"\", \"Bar\", \"\", \"Close\",\"5\",\"0\",\"\",,,\"False\",\"T\",\"EveryTick\")","v":1299.8},1.5389350569409472E-4,{"$f":"RTD(\"cqg.rtd\",,\"StudyData\", \"Close(\"&$D$12&\") when LocalYear(\"&$D$12&\")=\"&$D$5&\" and localMonth(\"&$D$12&\") =\"&$E$5&\" and LocalDay(\"&$D$12&\")=\"&$F$5&\" and Barix(\"&$D$12&\",reference:=StartOfDay)=\"&A81&\"\", \"Bar\", \"\", \"Close\",\"5\",\"0\",\"\",,,\"False\",\"T\",\"EveryTick\")","v":1299.0999999999999},-4.0631708065012127E-3,{"$f":"RTD(\"cqg.rtd\",,\"StudyData\", \"Close(\"&$D$12&\") when LocalYear(\"&$D$12&\")=\"&$D$6&\" and localMonth(\"&$D$12&\") =\"&$E$6&\" and LocalDay(\"&$D$12&\")=\"&$F$6&\" and Barix(\"&$D$12&\",reference:=StartOfDay)=\"&A81&\"\", \"Bar\", \"\", \"Close\",\"5\",\"0\",\"\",,,\"False\",\"T\",\"EveryTick\")","v":1303.9000000000001},3.0686612965100953E-4,{"$f":"RTD(\"cqg.rtd\",,\"StudyData\", \"Close(\"&$D$12&\") when LocalYear(\"&$D$12&\")=\"&$D$7&\" and localMonth(\"&$D$12&\") =\"&$E$7&\" and LocalDay(\"&$D$12&\")=\"&$F$7&\" and Barix(\"&$D$12&\",reference:=StartOfDay)=\"&A81&\"\", \"Bar\", \"\", \"Close\",\"5\",\"0\",\"\",,,\"False\",\"T\",\"EveryTick\")","v":1302.9000000000001},1.2295396910782575E-3,{"$f":"RTD(\"cqg.rtd\",,\"StudyData\", \"Close(\"&$D$12&\") when LocalYear(\"&$D$12&\")=\"&$D$8&\" and localMonth(\"&$D$12&\") =\"&$E$8&\" and LocalDay(\"&$D$12&\")=\"&$F$8&\" and Barix(\"&$D$12&\",reference:=StartOfDay)=\"&A81&\"\", \"Bar\", \"\", \"Close\",\"5\",\"0\",\"\",,,\"False\",\"T\",\"EveryTick\")","v":1301.9000000000001},9.9953867445808238E-4,{"$f":"RTD(\"cqg.rtd\",,\"StudyData\", \"Close(\"&$D$12&\") when LocalYear(\"&$D$12&\")=\"&$D$9&\" and localMonth(\"&$D$12&\") =\"&$E$9&\" and LocalDay(\"&$D$12&\")=\"&$F$9&\" and Barix(\"&$D$12&\",reference:=StartOfDay)=\"&A81&\"\", \"Bar\", \"\", \"Close\",\"5\",\"0\",\"\",,,\"False\",\"T\",\"EveryTick\")","v":1300.2},-1.5379883112891837E-4,{"$f":"RTD(\"cqg.rtd\",,\"StudyData\", \"Close(\"&$D$12&\") when LocalYear(\"&$D$12&\")=\"&$D$10&\" and localMonth(\"&$D$12&\") =\"&$E$10&\" and LocalDay(\"&$D$12&\")=\"&$F$10&\" and Barix(\"&$D$12&\",reference:=StartOfDay)=\"&A81&\"\", \"Bar\", \"\", \"Close\",\"5\",\"0\",\"\",,,\"False\",\"T\",\"EveryTick\")","v":1302.2},4.8614862257889916E-3,null,null,null,""]
[249,"13:45:00",null,null,null,null,null,{"$f":"RTD(\"cqg.rtd\",,\"StudyData\", \"Close(\"&$D$12&\") when LocalYear(\"&$D$12&\")=\"&$D$1&\" and localMonth(\"&$D$12&\") =\"&$E$1&\" and LocalDay(\"&$D$12&\")=\"&$F$1&\" and Barix(\"&$D$12&\",reference:=StartOfDay)=\"&A82&\"\", \"Bar\", \"\", \"Close\",\"5\",\"0\",\"\",,,\"False\",\"T\",\"EveryTick\")","v":""},{"$f":"IFERROR((H82-$G$2)/$G$2,NA())","v":{"$error":"#N/A"}},{"$f":"RTD(\"cqg.rtd\",,\"StudyData\", \"Close(\"&$D$12&\") when LocalYear(\"&$D$12&\")=\"&$D$2&\" and localMonth(\"&$D$12&\") =\"&$E$2&\" and LocalDay(\"&$D$12&\")=\"&$F$2&\" and Barix(\"&$D$12&\",reference:=StartOfDay)=\"&A82&\"\", \"Bar\", \"\", \"Close\",\"5\",\"0\",\"\",,,\"False\",\"T\",\"EveryTick\")","v":1282},{"$f":"IFERROR((J82-$G$3)/$G$3,NA())","v":-1.8301554483498038E-2},{"$f":"RTD(\"cqg.rtd\",,\"StudyData\", \"Close(\"&$D$12&\") when LocalYear(\"&$D$12&\")=\"&$D$3&\" and localMonth(\"&$D$12&\") =\"&$E$3&\" and LocalDay(\"&$D$12&\")=\"&$F$3&\" and Barix(\"&$D$12&\",reference:=StartOfDay)=\"&A82&\"\", \"Bar\", \"\", \"Close\",\"5\",\"0\",\"\",,,\"False\",\"T\",\"EveryTick\")","v":1306.4000000000001},{"$f":"IFERROR((L82-$G$4)/$G$4,NA())","v":2.686315143142221E-3},{"$f":"RTD(\"cqg.rtd\",,\"StudyData\", \"Close(\"&$D$12&\") when LocalYear(\"&$D$12&\")=\"&$D$4&\" and localMonth(\"&$D$12&\") =\"&$E$4&\" and LocalDay(\"&$D$12&\")=\"&$F$4&\" and Barix(\"&$D$12&\",reference:=StartOfDay)=\"&A82&\"\", \"Bar\", \"\", \"Close\",\"5\",\"0\",\"\",,,\"False\",\"T\",\"EveryTick\")","v":1299.2},{"$f":"IFERROR((N82-$G$5)/$G$5,NA())","v":-3.0778701138801446E-4},{"$f":"RTD(\"cqg.rtd\",,\"StudyData\", \"Close(\"&$D$12&\") when LocalYear(\"&$D$12&\")=\"&$D$5&\" and localMonth(\"&$D$12&\") =\"&$E$5&\" and LocalDay(\"&$D$12&\")=\"&$F$5&\" and Barix(\"&$D$12&\",reference:=StartOfDay)=\"&A82&\"\", \"Bar\", \"\", \"Close\",\"5\",\"0\",\"\",,,\"False\",\"T\",\"EveryTick\")","v":1299.2},{"$f":"IFERROR((P82-$G$6)/$G$6,NA())","v":-3.9865072063784458E-3},{"$f":"RTD(\"cqg.rtd\",,\"StudyData\", \"Close(\"&$D$12&\") when LocalYear(\"&$D$12&\")=\"&$D$6&\" and localMonth(\"&$D$12&\") =\"&$E$6&\" and LocalDay(\"&$D$12&\")=\"&$F$6&\" and Barix(\"&$D$12&\",reference:=StartOfDay)=\"&A82&\"\", \"Bar\", \"\", \"Close\",\"5\",\"0\",\"\",,,\"False\",\"T\",\"EveryTick\")","v":1303.7},{"$f":"IFERROR((R82-$G$7)/$G$7,NA())","v":1.5343306482550477E-4},{"$f":"RTD(\"cqg.rtd\",,\"StudyData\", \"Close(\"&$D$12&\") when LocalYear(\"&$D$12&\")=\"&$D$7&\" and localMonth(\"&$D$12&\") =\"&$E$7&\" and LocalDay(\"&$D$12&\")=\"&$F$7&\" and Barix(\"&$D$12&\",reference:=StartOfDay)=\"&A82&\"\", \"Bar\", \"\", \"Close\",\"5\",\"0\",\"\",,,\"False\",\"T\",\"EveryTick\")","v":1302.9000000000001},{"$f":"IFERROR((T82-$G$8)/$G$8,NA())","v":1.2295396910782575E-3},{"$f":"RTD(\"cqg.rtd\",,\"StudyData\", \"Close(\"&$D$12&\") when LocalYear(\"&$D$12&\")=\"&$D$8&\" and localMonth(\"&$D$12&\") =\"&$E$8&\" and LocalDay(\"&$D$12&\")=\"&$F$8&\" and Barix(\"&$D$12&\",reference:=StartOfDay)=\"&A82&\"\", \"Bar\", \"\", \"Close\",\"5\",\"0\",\"\",,,\"False\",\"T\",\"EveryTick\")","v":1301.4000000000001},{"$f":"IFERROR((V82-$G$9)/$G$9,NA())","v":6.1510072274348912E-4},{"$f":"RTD(\"cqg.rtd\",,\"StudyData\", \"Close(\"&$D$12&\") when LocalYear(\"&$D$12&\")=\"&$D$9&\" and localMonth(\"&$D$12&\") =\"&$E$9&\" and LocalDay(\"&$D$12&\")=\"&$F$9&\" and Barix(\"&$D$12&\",reference:=StartOfDay)=\"&A82&\"\", \"Bar\", \"\", \"Close\",\"5\",\"0\",\"\",,,\"False\",\"T\",\"EveryTick\")","v":1300.5},{"$f":"IFERROR((X82-$G$10)/$G$10,NA())","v":7.689941556437177E-5},{"$f":"RTD(\"cqg.rtd\",,\"StudyData\", \"Close(\"&$D$12&\") when LocalYear(\"&$D$12&\")=\"&$D$10&\" and localMonth(\"&$D$12&\") =\"&$E$10&\" and LocalDay(\"&$D$12&\")=\"&$F$10&\" and Barix(\"&$D$12&\",reference:=StartOfDay)=\"&A82&\"\", \"Bar\", \"\", \"Close\",\"5\",\"0\",\"\",,,\"False\",\"T\",\"EveryTick\")","v":1302.0999999999999},{"$f":"IFERROR((Z82-$G$11)/$G$11,NA())","v":4.7843197777604892E-3},null,null,null,""]
[250,"13:50:00",null,null,null,null,null,{"$f":"RTD(\"cqg.rtd\",,\"StudyData\", \"Close(\"&$D$12&\") when LocalYear(\"&$D$12&\")=\"&$D$1&\" and localMonth(\"&$D$12&\") =\"&$E$1&\" and LocalDay(\"&$D$12&\")=\"&$F$1&\" and Barix(\"&$D$12&\",reference:=StartOfDay)=\"&A83&\"\", \"Bar\", \"\", \"Close\",\"5\",\"0\",\"\",,,\"False\",\"T\",\"EveryTick\")","v":""},{"$error":"#N/A"},{"$f":"RTD(\"cqg.rtd\",,\"StudyData\", \"Close(\"&$D$12&\") when LocalYear(\"&$D$12&\")=\"&$D$2&\" and localMonth(\"&$D$12&\") =\"&$E$2&\" and LocalDay(\"&$D$12&\")=\"&$F$2&\" and Barix(\"&$D$12&\",reference:=StartOfDay)=\"&A83&\"\", \"Bar\", \"\", \"Close\",\"5\",\"0\",\"\",,,\"False\",\"T\",\"EveryTick\")","v":1282.5999999999999},-1.7842101232866361E-2,{"$f":"RTD(\"cqg.rtd\",,\"StudyData\", \"Close(\"&$D$12&\") when LocalYear(\"&$D$12&\")=\"&$D$3&\" and localMonth(\"&$D$12&\") =\"&$E$3&\" and LocalDay(\"&$D$12&\")=\"&$F$3&\" and Barix(\"&$D$12&\",reference:=StartOfDay)=\"&A83&\"\", \"Bar\", \"\", \"Close\",\"5\",\"0\",\"\",,,\"False\",\"T\",\"EveryTick\")","v":1306.7},2.9165707268400906E-3,{"$f":"RTD(\"cqg.rtd\",,\"StudyData\", \"Close(\"&$D$12&\") when LocalYear(\"&$D$12&\")=\"&$D$4&\" and localMonth(\"&$D$12&\") =\"&$E$4&\" and LocalDay(\"&$D$12&\")=\"&$F$4&\" and Barix(\"&$D$12&\",reference:=StartOfDay)=\"&A83&\"\", \"Bar\", \"\", \"Close\",\"5\",\"0\",\"\",,,\"False\",\"T\",\"EveryTick\")","v":1299.5999999999999},0,{"$f":"RTD(\"cqg.rtd\",,\"StudyData\", \"Close(\"&$D$12&\") when LocalYear(\"&$D$12&\")=\"&$D$5&\" and localMonth(\"&$D$12&\") =\"&$E$5&\" and LocalDay(\"&$D$12&\")=\"&$F$5&\" and Barix(\"&$D$12&\",reference:=StartOfDay)=\"&A83&\"\", \"Bar\", \"\", \"Close\",\"5\",\"0\",\"\",,,\"False\",\"T\",\"EveryTick\")","v":1299.4000000000001},-3.8331800061330878E-3,{"$f":"RTD(\"cqg.rtd\",,\"StudyData\", \"Close(\"&$D$12&\") when LocalYear(\"&$D$12&\")=\"&$D$6&\" and localMonth(\"&$D$12&\") =\"&$E$6&\" and LocalDay(\"&$D$12&\")=\"&$F$6&\" and Barix(\"&$D$12&\",reference:=StartOfDay)=\"&A83&\"\", \"Bar\", \"\", \"Close\",\"5\",\"0\",\"\",,,\"False\",\"T\",\"EveryTick\")","v":1303.9000000000001},3.0686612965100953E-4,{"$f":"RTD(\"cqg.rtd\",,\"StudyData\", \"Close(\"&$D$12&\") when LocalYear(\"&$D$12&\")=\"&$D$7&\" and localMonth(\"&$D$12&\") =\"&$E$7&\" and LocalDay(\"&$D$12&\")=\"&$F$7&\" and Barix(\"&$D$12&\",reference:=StartOfDay)=\"&A83&\"\", \"Bar\", \"\", \"Close\",\"5\",\"0\",\"\",,,\"False\",\"T\",\"EveryTick\")","v":1303},1.3063859217705722E-3,{"$f":"RTD(\"cqg.rtd\",,\"StudyData\", \"Close(\"&$D$12&\") when LocalYear(\"&$D$12&\")=\"&$D$8&\" and localMonth(\"&$D$12&\") =\"&$E$8&\" and LocalDay(\"&$D$12&\")=\"&$F$8&\" and Barix(\"&$D$12&\",reference:=StartOfDay)=\"&A83&\"\", \"Bar\", \"\", \"Close\",\"5\",\"0\",\"\",,,\"False\",\"T\",\"EveryTick\")","v":1301.2},4.6132554205761684E-4,{"$f":"RTD(\"cqg.rtd\",,\"StudyData\", \"Close(\"&$D$12&\") when LocalYear(\"&$D$12&\")=\"&$D$9&\" and localMonth(\"&$D$12&\") =\"&$E$9&\" and LocalDay(\"&$D$12&\")=\"&$F$9&\" and Barix(\"&$D$12&\",reference:=StartOfDay)=\"&A83&\"\", \"Bar\", \"\", \"Close\",\"5\",\"0\",\"\",,,\"False\",\"T\",\"EveryTick\")","v":1300.4000000000001},0,{"$f":"RTD(\"cqg.rtd\",,\"StudyData\", \"Close(\"&$D$12&\") when LocalYear(\"&$D$12&\")=\"&$D$10&\" and localMonth(\"&$D$12&\") =\"&$E$10&\" and LocalDay(\"&$D$12&\")=\"&$F$10&\" and Barix(\"&$D$12&\",reference:=StartOfDay)=\"&A83&\"\", \"Bar\", \"\", \"Close\",\"5\",\"0\",\"\",,,\"False\",\"T\",\"EveryTick\")","v":1301.8},4.5528204336753326E-3,null,null,null,""]
[251,"13:55:00",null,null,null,null,null,{"$f":"RTD(\"cqg.rtd\",,\"StudyData\", \"Close(\"&$D$12&\") when LocalYear(\"&$D$12&\")=\"&$D$1&\" and localMonth(\"&$D$12&\") =\"&$E$1&\" and LocalDay(\"&$D$12&\")=\"&$F$1&\" and Barix(\"&$D$12&\",reference:=StartOfDay)=\"&A84&\"\", \"Bar\", \"\", \"Close\",\"5\",\"0\",\"\",,,\"False\",\"T\",\"EveryTick\")","v":""},{"$error":"#N/A"},{"$f":"RTD(\"cqg.rtd\",,\"StudyData\", \"Close(\"&$D$12&\") when LocalYear(\"&$D$12&\")=\"&$D$2&\" and localMonth(\"&$D$12&\") =\"&$E$2&\" and LocalDay(\"&$D$12&\")=\"&$F$2&\" and Barix(\"&$D$12&\",reference:=StartOfDay)=\"&A84&\"\", \"Bar\", \"\", \"Close\",\"5\",\"0\",\"\",,,\"False\",\"T\",\"EveryTick\")","v":1282.3},-1.8071827858182201E-2,{"$f":"RTD(\"cqg.rtd\",,\"StudyData\", \"Close(\"&$D$12&\") when LocalYear(\"&$D$12&\")=\"&$D$3&\" and localMonth(\"&$D$12&\") =\"&$E$3&\" and LocalDay(\"&$D$12&\")=\"&$F$3&\" and Barix(\"&$D$12&\",reference:=StartOfDay)=\"&A84&\"\", \"Bar\", \"\", \"Close\",\"5\",\"0\",\"\",,,\"False\",\"T\",\"EveryTick\")","v":1306.5},2.7630670043747863E-3,{"$f":"RTD(\"cqg.rtd\",,\"StudyData\", \"Close(\"&$D$12&\") when LocalYear(\"&$D$12&\")=\"&$D$4&\" and localMonth(\"&$D$12&\") =\"&$E$4&\" and LocalDay(\"&$D$12&\")=\"&$F$4&\" and Barix(\"&$D$12&\",reference:=StartOfDay)=\"&A84&\"\", \"Bar\", \"\", \"Close\",\"5\",\"0\",\"\",,,\"False\",\"T\",\"EveryTick\")","v":1303.2},2.7700831024931797E-3,{"$f":"RTD(\"cqg.rtd\",,\"StudyData\", \"Close(\"&$D$12&\") when LocalYear(\"&$D$12&\")=\"&$D$5&\" and localMonth(\"&$D$12&\") =\"&$E$5&\" and LocalDay(\"&$D$12&\")=\"&$F$5&\" and Barix(\"&$D$12&\",reference:=StartOfDay)=\"&A84&\"\", \"Bar\", \"\", \"Close\",\"5\",\"0\",\"\",,,\"False\",\"T\",\"EveryTick\")","v":1299.2},-3.9865072063784458E-3,{"$f":"RTD(\"cqg.rtd\",,\"StudyData\", \"Close(\"&$D$12&\") when LocalYear(\"&$D$12&\")=\"&$D$6&\" and localMonth(\"&$D$12&\") =\"&$E$6&\" and LocalDay(\"&$D$12&\")=\"&$F$6&\" and Barix(\"&$D$12&\",reference:=StartOfDay)=\"&A84&\"\", \"Bar\", \"\", \"Close\",\"5\",\"0\",\"\",,,\"False\",\"T\",\"EveryTick\")","v":1303.9000000000001},3.0686612965100953E-4,{"$f":"RTD(\"cqg.rtd\",,\"StudyData\", \"Close(\"&$D$12&\") when LocalYear(\"&$D$12&\")=\"&$D$7&\" and localMonth(\"&$D$12&\") =\"&$E$7&\" and LocalDay(\"&$D$12&\")=\"&$F$7&\" and Barix(\"&$D$12&\",reference:=StartOfDay)=\"&A84&\"\", \"Bar\", \"\", \"Close\",\"5\",\"0\",\"\",,,\"False\",\"T\",\"EveryTick\")","v":1303},1.3063859217705722E-3,{"$f":"RTD(\"cqg.rtd\",,\"StudyData\", \"Close(\"&$D$12&\") when LocalYear(\"&$D$12&\")=\"&$D$8&\" and localMonth(\"&$D$12&\") =\"&$E$8&\" and LocalDay(\"&$D$12&\")=\"&$F$8&\" and Barix(\"&$D$12&\",reference:=StartOfDay)=\"&A84&\"\", \"Bar\", \"\", \"Close\",\"5\",\"0\",\"\",,,\"False\",\"T\",\"EveryTick\")","v":1301.2},4.6132554205761684E-4,{"$f":"RTD(\"cqg.rtd\",,\"StudyData\", \"Close(\"&$D$12&\") when LocalYear(\"&$D$12&\")=\"&$D$9&\" and localMonth(\"&$D$12&\") =\"&$E$9&\" and LocalDay(\"&$D$12&\")=\"&$F$9&\" and Barix(\"&$D$12&\",reference:=StartOfDay)=\"&A84&\"\", \"Bar\", \"\", \"Close\",\"5\",\"0\",\"\",,,\"False\",\"T\",\"EveryTick\")","v":1300.0999999999999},-2.3069824669346499E-4,{"$f":"RTD(\"cqg.rtd\",,\"StudyData\", \"Close(\"&$D$12&\") when LocalYear(\"&$D$12&\")=\"&$D$10&\" and localMonth(\"&$D$12&\") =\"&$E$10&\" and LocalDay(\"&$D$12&\")=\"&$F$10&\" and Barix(\"&$D$12&\",reference:=StartOfDay)=\"&A84&\"\", \"Bar\", \"\", \"Close\",\"5\",\"0\",\"\",,,\"False\",\"T\",\"EveryTick\")","v":1301.5},4.3213210895901759E-3,null,null,null,""]
[252,"14:00:00",null,null,null,null,null,{"$f":"RTD(\"cqg.rtd\",,\"StudyData\", \"Close(\"&$D$12&\") when LocalYear(\"&$D$12&\")=\"&$D$1&\" and localMonth(\"&$D$12&\") =\"&$E$1&\" and LocalDay(\"&$D$12&\")=\"&$F$1&\" and Barix(\"&$D$12&\",reference:=StartOfDay)=\"&A85&\"\", \"Bar\", \"\", \"Close\",\"5\",\"0\",\"\",,,\"False\",\"T\",\"EveryTick\")","v":""},{"$error":"#N/A"},{"$f":"RTD(\"cqg.rtd\",,\"StudyData\", \"Close(\"&$D$12&\") when LocalYear(\"&$D$12&\")=\"&$D$2&\" and localMonth(\"&$D$12&\") =\"&$E$2&\" and LocalDay(\"&$D$12&\")=\"&$F$2&\" and Barix(\"&$D$12&\",reference:=StartOfDay)=\"&A85&\"\", \"Bar\", \"\", \"Close\",\"5\",\"0\",\"\",,,\"False\",\"T\",\"EveryTick\")","v":1282.5999999999999},-1.7842101232866361E-2,{"$f":"RTD(\"cqg.rtd\",,\"StudyData\", \"Close(\"&$D$12&\") when LocalYear(\"&$D$12&\")=\"&$D$3&\" and localMonth(\"&$D$12&\") =\"&$E$3&\" and LocalDay(\"&$D$12&\")=\"&$F$3&\" and Barix(\"&$D$12&\",reference:=StartOfDay)=\"&A85&\"\", \"Bar\", \"\", \"Close\",\"5\",\"0\",\"\",,,\"False\",\"T\",\"EveryTick\")","v":1306.4000000000001},2.686315143142221E-3,{"$f":"RTD(\"cqg.rtd\",,\"StudyData\", \"Close(\"&$D$12&\") when LocalYear(\"&$D$12&\")=\"&$D$4&\" and localMonth(\"&$D$12&\") =\"&$E$4&\" and LocalDay(\"&$D$12&\")=\"&$F$4&\" and Barix(\"&$D$12&\",reference:=StartOfDay)=\"&A85&\"\", \"Bar\", \"\", \"Close\",\"5\",\"0\",\"\",,,\"False\",\"T\",\"EveryTick\")","v":1303.8},3.231763619575289E-3,{"$f":"RTD(\"cqg.rtd\",,\"StudyData\", \"Close(\"&$D$12&\") when LocalYear(\"&$D$12&\")=\"&$D$5&\" and localMonth(\"&$D$12&\") =\"&$E$5&\" and LocalDay(\"&$D$12&\")=\"&$F$5&\" and Barix(\"&$D$12&\",reference:=StartOfDay)=\"&A85&\"\", \"Bar\", \"\", \"Close\",\"5\",\"0\",\"\",,,\"False\",\"T\",\"EveryTick\")","v":1299},-4.1398344066238043E-3,{"$f":"RTD(\"cqg.rtd\",,\"StudyData\", \"Close(\"&$D$12&\") when LocalYear(\"&$D$12&\")=\"&$D$6&\" and localMonth(\"&$D$12&\") =\"&$E$6&\" and LocalDay(\"&$D$12&\")=\"&$F$6&\" and Barix(\"&$D$12&\",reference:=StartOfDay)=\"&A85&\"\", \"Bar\", \"\", \"Close\",\"5\",\"0\",\"\",,,\"False\",\"T\",\"EveryTick\")","v":1303.8},2.3014959723816994E-4,{"$f":"RTD(\"cqg.rtd\",,\"StudyData\", \"Close(\"&$D$12&\") when LocalYear(\"&$D$12&\")=\"&$D$7&\" and localMonth(\"&$D$12&\") =\"&$E$7&\" and LocalDay(\"&$D$12&\")=\"&$F$7&\" and Barix(\"&$D$12&\",reference:=StartOfDay)=\"&A85&\"\", \"Bar\", \"\", \"Close\",\"5\",\"0\",\"\",,,\"False\",\"T\",\"EveryTick\")","v":1302.9000000000001},1.2295396910782575E-3,{"$f":"RTD(\"cqg.rtd\",,\"StudyData\", \"Close(\"&$D$12&\") when LocalYear(\"&$D$12&\")=\"&$D$8&\" and localMonth(\"&$D$12&\") =\"&$E$8&\" and LocalDay(\"&$D$12&\")=\"&$F$8&\" and Barix(\"&$D$12&\",reference:=StartOfDay)=\"&A85&\"\", \"Bar\", \"\", \"Close\",\"5\",\"0\",\"\",,,\"False\",\"T\",\"EveryTick\")","v":1301.5},6.9198831308633782E-4,{"$f":"RTD(\"cqg.rtd\",,\"StudyData\", \"Close(\"&$D$12&\") when LocalYear(\"&$D$12&\")=\"&$D$9&\" and localMonth(\"&$D$12&\") =\"&$E$9&\" and LocalDay(\"&$D$12&\")=\"&$F$9&\" and Barix(\"&$D$12&\",reference:=StartOfDay)=\"&A85&\"\", \"Bar\", \"\", \"Close\",\"5\",\"0\",\"\",,,\"False\",\"T\",\"EveryTick\")","v":1299.5},-6.9209474008004529E-4,{"$f":"RTD(\"cqg.rtd\",,\"StudyData\", \"Close(\"&$D$12&\") when LocalYear(\"&$D$12&\")=\"&$D$10&\" and localMonth(\"&$D$12&\") =\"&$E$10&\" and LocalDay(\"&$D$12&\")=\"&$F$10&\" and Barix(\"&$D$12&\",reference:=StartOfDay)=\"&A85&\"\", \"Bar\", \"\", \"Close\",\"5\",\"0\",\"\",,,\"False\",\"T\",\"EveryTick\")","v":1301.4000000000001},4.2441546415618488E-3,null,null,null,""]
[253,"14:05:00",null,null,null,null,null,{"$f":"RTD(\"cqg.rtd\",,\"StudyData\", \"Close(\"&$D$12&\") when LocalYear(\"&$D$12&\")=\"&$D$1&\" and localMonth(\"&$D$12&\") =\"&$E$1&\" and LocalDay(\"&$D$12&\")=\"&$F$1&\" and Barix(\"&$D$12&\",reference:=StartOfDay)=\"&A86&\"\", \"Bar\", \"\", \"Close\",\"5\",\"0\",\"\",,,\"False\",\"T\",\"EveryTick\")","v":""},{"$error":"#N/A"},{"$f":"RTD(\"cqg.rtd\",,\"StudyData\", \"Close(\"&$D$12&\") when LocalYear(\"&$D$12&\")=\"&$D$2&\" and localMonth(\"&$D$12&\") =\"&$E$2&\" and LocalDay(\"&$D$12&\")=\"&$F$2&\" and Barix(\"&$D$12&\",reference:=StartOfDay)=\"&A86&\"\", \"Bar\", \"\", \"Close\",\"5\",\"0\",\"\",,,\"False\",\"T\",\"EveryTick\")","v":1282.0999999999999},-1.8224978941726151E-2,{"$f":"RTD(\"cqg.rtd\",,\"StudyData\", \"Close(\"&$D$12&\") when LocalYear(\"&$D$12&\")=\"&$D$3&\" and localMonth(\"&$D$12&\") =\"&$E$3&\" and LocalDay(\"&$D$12&\")=\"&$F$3&\" and Barix(\"&$D$12&\",reference:=StartOfDay)=\"&A86&\"\", \"Bar\", \"\", \"Close\",\"5\",\"0\",\"\",,,\"False\",\"T\",\"EveryTick\")","v":1307.0999999999999},3.2235781717705257E-3,{"$f":"RTD(\"cqg.rtd\",,\"StudyData\", \"Close(\"&$D$12&\") when LocalYear(\"&$D$12&\")=\"&$D$4&\" and localMonth(\"&$D$12&\") =\"&$E$4&\" and LocalDay(\"&$D$12&\")=\"&$F$4&\" and Barix(\"&$D$12&\",reference:=StartOfDay)=\"&A86&\"\", \"Bar\", \"\", \"Close\",\"5\",\"0\",\"\",,,\"False\",\"T\",\"EveryTick\")","v":1302},1.8467220683287867E-3,{"$f":"RTD(\"cqg.rtd\",,\"StudyData\", \"Close(\"&$D$12&\") when LocalYear(\"&$D$12&\")=\"&$D$5&\" and localMonth(\"&$D$12&\") =\"&$E$5&\" and LocalDay(\"&$D$12&\")=\"&$F$5&\" and Barix(\"&$D$12&\",reference:=StartOfDay)=\"&A86&\"\", \"Bar\", \"\", \"Close\",\"5\",\"0\",\"\",,,\"False\",\"T\",\"EveryTick\")","v":1299},-4.1398344066238043E-3,{"$f":"RTD(\"cqg.rtd\",,\"StudyData\", \"Close(\"&$D$12&\") when LocalYear(\"&$D$12&\")=\"&$D$6&\" and localMonth(\"&$D$12&\") =\"&$E$6&\" and LocalDay(\"&$D$12&\")=\"&$F$6&\" and Barix(\"&$D$12&\",reference:=StartOfDay)=\"&A86&\"\", \"Bar\", \"\", \"Close\",\"5\",\"0\",\"\",,,\"False\",\"T\",\"EveryTick\")","v":1303.9000000000001},3.0686612965100953E-4,{"$f":"RTD(\"cqg.rtd\",,\"StudyData\", \"Close(\"&$D$12&\") when LocalYear(\"&$D$12&\")=\"&$D$7&\" and localMonth(\"&$D$12&\") =\"&$E$7&\" and LocalDay(\"&$D$12&\")=\"&$F$7&\" and Barix(\"&$D$12&\",reference:=StartOfDay)=\"&A86&\"\", \"Bar\", \"\", \"Close\",\"5\",\"0\",\"\",,,\"False\",\"T\",\"EveryTick\")","v":1303},1.3063859217705722E-3,{"$f":"RTD(\"cqg.rtd\",,\"StudyData\", \"Close(\"&$D$12&\") when LocalYear(\"&$D$12&\")=\"&$D$8&\" and localMonth(\"&$D$12&\") =\"&$E$8&\" and LocalDay(\"&$D$12&\")=\"&$F$8&\" and Barix(\"&$D$12&\",reference:=StartOfDay)=\"&A86&\"\", \"Bar\", \"\", \"Close\",\"5\",\"0\",\"\",,,\"False\",\"T\",\"EveryTick\")","v":1301.5},6.9198831308633782E-4,{"$f":"RTD(\"cqg.rtd\",,\"StudyData\", \"Close(\"&$D$12&\") when LocalYear(\"&$D$12&\")=\"&$D$9&\" and localMonth(\"&$D$12&\") =\"&$E$9&\" and LocalDay(\"&$D$12&\")=\"&$F$9&\" and Barix(\"&$D$12&\",reference:=StartOfDay)=\"&A86&\"\", \"Bar\", \"\", \"Close\",\"5\",\"0\",\"\",,,\"False\",\"T\",\"EveryTick\")","v":1299.9000000000001},-3.844970778222085E-4,{"$f":"RTD(\"cqg.rtd\",,\"StudyData\", \"Close(\"&$D$12&\") when LocalYear(\"&$D$12&\")=\"&$D$10&\" and localMonth(\"&$D$12&\") =\"&$E$10&\" and LocalDay(\"&$D$12&\")=\"&$F$10&\" and Barix(\"&$D$12&\",reference:=StartOfDay)=\"&A86&\"\", \"Bar\", \"\", \"Close\",\"5\",\"0\",\"\",,,\"False\",\"T\",\"EveryTick\")","v":1301.7},4.4756539856470054E-3,null,null,null,""]
[254,"14:10:00",null,null,null,null,null,{"$f":"RTD(\"cqg.rtd\",,\"StudyData\", \"Close(\"&$D$12&\") when LocalYear(\"&$D$12&\")=\"&$D$1&\" and localMonth(\"&$D$12&\") =\"&$E$1&\" and LocalDay(\"&$D$12&\")=\"&$F$1&\" and Barix(\"&$D$12&\",reference:=StartOfDay)=\"&A87&\"\", \"Bar\", \"\", \"Close\",\"5\",\"0\",\"\",,,\"False\",\"T\",\"EveryTick\")","v":""},{"$error":"#N/A"},{"$f":"RTD(\"cqg.rtd\",,\"StudyData\", \"Close(\"&$D$12&\") when LocalYear(\"&$D$12&\")=\"&$D$2&\" and localMonth(\"&$D$12&\") =\"&$E$2&\" and LocalDay(\"&$D$12&\")=\"&$F$2&\" and Barix(\"&$D$12&\",reference:=StartOfDay)=\"&A87&\"\", \"Bar\", \"\", \"Close\",\"5\",\"0\",\"\",,,\"False\",\"T\",\"EveryTick\")","v":1282.0999999999999},-1.8224978941726151E-2,{"$f":"RTD(\"cqg.rtd\",,\"StudyData\", \"Close(\"&$D$12&\") when LocalYear(\"&$D$12&\")=\"&$D$3&\" and localMonth(\"&$D$12&\") =\"&$E$3&\" and LocalDay(\"&$D$12&\")=\"&$F$3&\" and Barix(\"&$D$12&\",reference:=StartOfDay)=\"&A87&\"\", \"Bar\", \"\", \"Close\",\"5\",\"0\",\"\",,,\"False\",\"T\",\"EveryTick\")","v":1306.8},2.9933225880726558E-3,{"$f":"RTD(\"cqg.rtd\",,\"StudyData\", \"Close(\"&$D$12&\") when LocalYear(\"&$D$12&\")=\"&$D$4&\" and localMonth(\"&$D$12&\") =\"&$E$4&\" and LocalDay(\"&$D$12&\")=\"&$F$4&\" and Barix(\"&$D$12&\",reference:=StartOfDay)=\"&A87&\"\", \"Bar\", \"\", \"Close\",\"5\",\"0\",\"\",,,\"False\",\"T\",\"EveryTick\")","v":1302.8},2.4622960911049904E-3,{"$f":"RTD(\"cqg.rtd\",,\"StudyData\", \"Close(\"&$D$12&\") when LocalYear(\"&$D$12&\")=\"&$D$5&\" and localMonth(\"&$D$12&\") =\"&$E$5&\" and LocalDay(\"&$D$12&\")=\"&$F$5&\" and Barix(\"&$D$12&\",reference:=StartOfDay)=\"&A87&\"\", \"Bar\", \"\", \"Close\",\"5\",\"0\",\"\",,,\"False\",\"T\",\"EveryTick\")","v":1299.2},-3.9865072063784458E-3,{"$f":"RTD(\"cqg.rtd\",,\"StudyData\", \"Close(\"&$D$12&\") when LocalYear(\"&$D$12&\")=\"&$D$6&\" and localMonth(\"&$D$12&\") =\"&$E$6&\" and LocalDay(\"&$D$12&\")=\"&$F$6&\" and Barix(\"&$D$12&\",reference:=StartOfDay)=\"&A87&\"\", \"Bar\", \"\", \"Close\",\"5\",\"0\",\"\",,,\"False\",\"T\",\"EveryTick\")","v":1304},3.835826620636747E-4,{"$f":"RTD(\"cqg.rtd\",,\"StudyData\", \"Close(\"&$D$12&\") when LocalYear(\"&$D$12&\")=\"&$D$7&\" and localMonth(\"&$D$12&\") =\"&$E$7&\" and LocalDay(\"&$D$12&\")=\"&$F$7&\" and Barix(\"&$D$12&\",reference:=StartOfDay)=\"&A87&\"\", \"Bar\", \"\", \"Close\",\"5\",\"0\",\"\",,,\"False\",\"T\",\"EveryTick\")","v":1302.9000000000001},1.2295396910782575E-3,{"$f":"RTD(\"cqg.rtd\",,\"StudyData\", \"Close(\"&$D$12&\") when LocalYear(\"&$D$12&\")=\"&$D$8&\" and localMonth(\"&$D$12&\") =\"&$E$8&\" and LocalDay(\"&$D$12&\")=\"&$F$8&\" and Barix(\"&$D$12&\",reference:=StartOfDay)=\"&A87&\"\", \"Bar\", \"\", \"Close\",\"5\",\"0\",\"\",,,\"False\",\"T\",\"EveryTick\")","v":1301.2},4.6132554205761684E-4,{"$f":"RTD(\"cqg.rtd\",,\"StudyData\", \"Close(\"&$D$12&\") when LocalYear(\"&$D$12&\")=\"&$D$9&\" and localMonth(\"&$D$12&\") =\"&$E$9&\" and LocalDay(\"&$D$12&\")=\"&$F$9&\" and Barix(\"&$D$12&\",reference:=StartOfDay)=\"&A87&\"\", \"Bar\", \"\", \"Close\",\"5\",\"0\",\"\",,,\"False\",\"T\",\"EveryTick\")","v":1299.9000000000001},-3.844970778222085E-4,{"$f":"RTD(\"cqg.rtd\",,\"StudyData\", \"Close(\"&$D$12&\") when LocalYear(\"&$D$12&\")=\"&$D$10&\" and localMonth(\"&$D$12&\") =\"&$E$10&\" and LocalDay(\"&$D$12&\")=\"&$F$10&\" and Barix(\"&$D$12&\",reference:=StartOfDay)=\"&A87&\"\", \"Bar\", \"\", \"Close\",\"5\",\"0\",\"\",,,\"False\",\"T\",\"EveryTick\")","v":1301.8},4.5528204336753326E-3,null,null,null,""]
[255,"14:15:00",null,null,null,null,null,{"$f":"RTD(\"cqg.rtd\",,\"StudyData\", \"Close(\"&$D$12&\") when LocalYear(\"&$D$12&\")=\"&$D$1&\" and localMonth(\"&$D$12&\") =\"&$E$1&\" and LocalDay(\"&$D$12&\")=\"&$F$1&\" and Barix(\"&$D$12&\",reference:=StartOfDay)=\"&A88&\"\", \"Bar\", \"\", \"Close\",\"5\",\"0\",\"\",,,\"False\",\"T\",\"EveryTick\")","v":""},{"$error":"#N/A"},{"$f":"RTD(\"cqg.rtd\",,\"StudyData\", \"Close(\"&$D$12&\") when LocalYear(\"&$D$12&\")=\"&$D$2&\" and localMonth(\"&$D$12&\") =\"&$E$2&\" and LocalDay(\"&$D$12&\")=\"&$F$2&\" and Barix(\"&$D$12&\",reference:=StartOfDay)=\"&A88&\"\", \"Bar\", \"\", \"Close\",\"5\",\"0\",\"\",,,\"False\",\"T\",\"EveryTick\")","v":1282.3},-1.8071827858182201E-2,{"$f":"RTD(\"cqg.rtd\",,\"StudyData\", \"Close(\"&$D$12&\") when LocalYear(\"&$D$12&\")=\"&$D$3&\" and localMonth(\"&$D$12&\") =\"&$E$3&\" and LocalDay(\"&$D$12&\")=\"&$F$3&\" and Barix(\"&$D$12&\",reference:=StartOfDay)=\"&A88&\"\", \"Bar\", \"\", \"Close\",\"5\",\"0\",\"\",,,\"False\",\"T\",\"EveryTick\")","v":1307},3.1468263105379605E-3,{"$f":"RTD(\"cqg.rtd\",,\"StudyData\", \"Close(\"&$D$12&\") when LocalYear(\"&$D$12&\")=\"&$D$4&\" and localMonth(\"&$D$12&\") =\"&$E$4&\" and LocalDay(\"&$D$12&\")=\"&$F$4&\" and Barix(\"&$D$12&\",reference:=StartOfDay)=\"&A88&\"\", \"Bar\", \"\", \"Close\",\"5\",\"0\",\"\",,,\"False\",\"T\",\"EveryTick\")","v":1302.9000000000001},2.5392428439521253E-3,{"$f":"RTD(\"cqg.rtd\",,\"StudyData\", \"Close(\"&$D$12&\") when LocalYear(\"&$D$12&\")=\"&$D$5&\" and localMonth(\"&$D$12&\") =\"&$E$5&\" and LocalDay(\"&$D$12&\")=\"&$F$5&\" and Barix(\"&$D$12&\",reference:=StartOfDay)=\"&A88&\"\", \"Bar\", \"\", \"Close\",\"5\",\"0\",\"\",,,\"False\",\"T\",\"EveryTick\")","v":1299.3},-3.9098436062558542E-3,{"$f":"RTD(\"cqg.rtd\",,\"StudyData\", \"Close(\"&$D$12&\") when LocalYear(\"&$D$12&\")=\"&$D$6&\" and localMonth(\"&$D$12&\") =\"&$E$6&\" and LocalDay(\"&$D$12&\")=\"&$F$6&\" and Barix(\"&$D$12&\",reference:=StartOfDay)=\"&A88&\"\", \"Bar\", \"\", \"Close\",\"5\",\"0\",\"\",,,\"False\",\"T\",\"EveryTick\")","v":1304.0999999999999},4.6029919447633988E-4,{"$f":"RTD(\"cqg.rtd\",,\"StudyData\", \"Close(\"&$D$12&\") when LocalYear(\"&$D$12&\")=\"&$D$7&\" and localMonth(\"&$D$12&\") =\"&$E$7&\" and LocalDay(\"&$D$12&\")=\"&$F$7&\" and Barix(\"&$D$12&\",reference:=StartOfDay)=\"&A88&\"\", \"Bar\", \"\", \"Close\",\"5\",\"0\",\"\",,,\"False\",\"T\",\"EveryTick\")","v":1303.0999999999999},1.3832321524628868E-3,{"$f":"RTD(\"cqg.rtd\",,\"StudyData\", \"Close(\"&$D$12&\") when LocalYear(\"&$D$12&\")=\"&$D$8&\" and localMonth(\"&$D$12&\") =\"&$E$8&\" and LocalDay(\"&$D$12&\")=\"&$F$8&\" and Barix(\"&$D$12&\",reference:=StartOfDay)=\"&A88&\"\", \"Bar\", \"\", \"Close\",\"5\",\"0\",\"\",,,\"False\",\"T\",\"EveryTick\")","v":1301.4000000000001},6.1510072274348912E-4,{"$f":"RTD(\"cqg.rtd\",,\"StudyData\", \"Close(\"&$D$12&\") when LocalYear(\"&$D$12&\")=\"&$D$9&\" and localMonth(\"&$D$12&\") =\"&$E$9&\" and LocalDay(\"&$D$12&\")=\"&$F$9&\" and Barix(\"&$D$12&\",reference:=StartOfDay)=\"&A88&\"\", \"Bar\", \"\", \"Close\",\"5\",\"0\",\"\",,,\"False\",\"T\",\"EveryTick\")","v":1299.8},-4.6139649338675516E-4,{"$f":"RTD(\"cqg.rtd\",,\"StudyData\", \"Close(\"&$D$12&\") when LocalYear(\"&$D$12&\")=\"&$D$10&\" and localMonth(\"&$D$12&\") =\"&$E$10&\" and LocalDay(\"&$D$12&\")=\"&$F$10&\" and Barix(\"&$D$12&\",reference:=StartOfDay)=\"&A88&\"\", \"Bar\", \"\", \"Close\",\"5\",\"0\",\"\",,,\"False\",\"T\",\"EveryTick\")","v":1301.8},4.5528204336753326E-3,null,null,null,""]
[256,"14:20:00",null,null,null,null,null,{"$f":"RTD(\"cqg.rtd\",,\"StudyData\", \"Close(\"&$D$12&\") when LocalYear(\"&$D$12&\")=\"&$D$1&\" and localMonth(\"&$D$12&\") =\"&$E$1&\" and LocalDay(\"&$D$12&\")=\"&$F$1&\" and Barix(\"&$D$12&\",reference:=StartOfDay)=\"&A89&\"\", \"Bar\", \"\", \"Close\",\"5\",\"0\",\"\",,,\"False\",\"T\",\"EveryTick\")","v":""},{"$error":"#N/A"},{"$f":"RTD(\"cqg.rtd\",,\"StudyData\", \"Close(\"&$D$12&\") when LocalYear(\"&$D$12&\")=\"&$D$2&\" and localMonth(\"&$D$12&\") =\"&$E$2&\" and LocalDay(\"&$D$12&\")=\"&$F$2&\" and Barix(\"&$D$12&\",reference:=StartOfDay)=\"&A89&\"\", \"Bar\", \"\", \"Close\",\"5\",\"0\",\"\",,,\"False\",\"T\",\"EveryTick\")","v":1282},-1.8301554483498038E-2,{"$f":"RTD(\"cqg.rtd\",,\"StudyData\", \"Close(\"&$D$12&\") when LocalYear(\"&$D$12&\")=\"&$D$3&\" and localMonth(\"&$D$12&\") =\"&$E$3&\" and LocalDay(\"&$D$12&\")=\"&$F$3&\" and Barix(\"&$D$12&\",reference:=StartOfDay)=\"&A89&\"\", \"Bar\", \"\", \"Close\",\"5\",\"0\",\"\",,,\"False\",\"T\",\"EveryTick\")","v":1306.9000000000001},3.0700744493053953E-3,{"$f":"RTD(\"cqg.rtd\",,\"StudyData\", \"Close(\"&$D$12&\") when LocalYear(\"&$D$12&\")=\"&$D$4&\" and localMonth(\"&$D$12&\") =\"&$E$4&\" and LocalDay(\"&$D$12&\")=\"&$F$4&\" and Barix(\"&$D$12&\",reference:=StartOfDay)=\"&A89&\"\", \"Bar\", \"\", \"Close\",\"5\",\"0\",\"\",,,\"False\",\"T\",\"EveryTick\")","v":1302.5},2.231455832563936E-3,{"$f":"RTD(\"cqg.rtd\",,\"StudyData\", \"Close(\"&$D$12&\") when LocalYear(\"&$D$12&\")=\"&$D$5&\" and localMonth(\"&$D$12&\") =\"&$E$5&\" and LocalDay(\"&$D$12&\")=\"&$F$5&\" and Barix(\"&$D$12&\",reference:=StartOfDay)=\"&A89&\"\", \"Bar\", \"\", \"Close\",\"5\",\"0\",\"\",,,\"False\",\"T\",\"EveryTick\")","v":1299.2},-3.9865072063784458E-3,{"$f":"RTD(\"cqg.rtd\",,\"StudyData\", \"Close(\"&$D$12&\") when LocalYear(\"&$D$12&\")=\"&$D$6&\" and localMonth(\"&$D$12&\") =\"&$E$6&\" and LocalDay(\"&$D$12&\")=\"&$F$6&\" and Barix(\"&$D$12&\",reference:=StartOfDay)=\"&A89&\"\", \"Bar\", \"\", \"Close\",\"5\",\"0\",\"\",,,\"False\",\"T\",\"EveryTick\")","v":1304.3},6.1373225930184462E-4,{"$f":"RTD(\"cqg.rtd\",,\"StudyData\", \"Close(\"&$D$12&\") when LocalYear(\"&$D$12&\")=\"&$D$7&\" and localMonth(\"&$D$12&\") =\"&$E$7&\" and LocalDay(\"&$D$12&\")=\"&$F$7&\" and Barix(\"&$D$12&\",reference:=StartOfDay)=\"&A89&\"\", \"Bar\", \"\", \"Close\",\"5\",\"0\",\"\",,,\"False\",\"T\",\"EveryTick\")","v":1303},1.3063859217705722E-3,{"$f":"RTD(\"cqg.rtd\",,\"StudyData\", \"Close(\"&$D$12&\") when LocalYear(\"&$D$12&\")=\"&$D$8&\" and localMonth(\"&$D$12&\") =\"&$E$8&\" and LocalDay(\"&$D$12&\")=\"&$F$8&\" and Barix(\"&$D$12&\",reference:=StartOfDay)=\"&A89&\"\", \"Bar\", \"\", \"Close\",\"5\",\"0\",\"\",,,\"False\",\"T\",\"EveryTick\")","v":1301.0999999999999},3.8443795171459332E-4,{"$f":"RTD(\"cqg.rtd\",,\"StudyData\", \"Close(\"&$D$12&\") when LocalYear(\"&$D$12&\")=\"&$D$9&\" and localMonth(\"&$D$12&\") =\"&$E$9&\" and LocalDay(\"&$D$12&\")=\"&$F$9&\" and Barix(\"&$D$12&\",reference:=StartOfDay)=\"&A89&\"\", \"Bar\", \"\", \"Close\",\"5\",\"0\",\"\",,,\"False\",\"T\",\"EveryTick\")","v":1300.5},7.689941556437177E-5,{"$f":"RTD(\"cqg.rtd\",,\"StudyData\", \"Close(\"&$D$12&\") when LocalYear(\"&$D$12&\")=\"&$D$10&\" and localMonth(\"&$D$12&\") =\"&$E$10&\" and LocalDay(\"&$D$12&\")=\"&$F$10&\" and Barix(\"&$D$12&\",reference:=StartOfDay)=\"&A89&\"\", \"Bar\", \"\", \"Close\",\"5\",\"0\",\"\",,,\"False\",\"T\",\"EveryTick\")","v":1302},4.7071533297321621E-3,null,null,null,""]
[257,"14:25:00",null,null,null,null,null,{"$f":"RTD(\"cqg.rtd\",,\"StudyData\", \"Close(\"&$D$12&\") when LocalYear(\"&$D$12&\")=\"&$D$1&\" and localMonth(\"&$D$12&\") =\"&$E$1&\" and LocalDay(\"&$D$12&\")=\"&$F$1&\" and Barix(\"&$D$12&\",reference:=StartOfDay)=\"&A90&\"\", \"Bar\", \"\", \"Close\",\"5\",\"0\",\"\",,,\"False\",\"T\",\"EveryTick\")","v":""},{"$error":"#N/A"},{"$f":"RTD(\"cqg.rtd\",,\"StudyData\", \"Close(\"&$D$12&\") when LocalYear(\"&$D$12&\")=\"&$D$2&\" and localMonth(\"&$D$12&\") =\"&$E$2&\" and LocalDay(\"&$D$12&\")=\"&$F$2&\" and Barix(\"&$D$12&\",reference:=StartOfDay)=\"&A90&\"\", \"Bar\", \"\", \"Close\",\"5\",\"0\",\"\",,,\"False\",\"T\",\"EveryTick\")","v":1281.9000000000001},-1.8378130025269928E-2,{"$f":"RTD(\"cqg.rtd\",,\"StudyData\", \"Close(\"&$D$12&\") when LocalYear(\"&$D$12&\")=\"&$D$3&\" and localMonth(\"&$D$12&\") =\"&$E$3&\" and LocalDay(\"&$D$12&\")=\"&$F$3&\" and Barix(\"&$D$12&\",reference:=StartOfDay)=\"&A90&\"\", \"Bar\", \"\", \"Close\",\"5\",\"0\",\"\",,,\"False\",\"T\",\"EveryTick\")","v":1306.7},2.9165707268400906E-3,{"$f":"RTD(\"cqg.rtd\",,\"StudyData\", \"Close(\"&$D$12&\") when LocalYear(\"&$D$12&\")=\"&$D$4&\" and localMonth(\"&$D$12&\") =\"&$E$4&\" and LocalDay(\"&$D$12&\")=\"&$F$4&\" and Barix(\"&$D$12&\",reference:=StartOfDay)=\"&A90&\"\", \"Bar\", \"\", \"Close\",\"5\",\"0\",\"\",,,\"False\",\"T\",\"EveryTick\")","v":1302.5999999999999},2.3084025854108957E-3,{"$f":"RTD(\"cqg.rtd\",,\"StudyData\", \"Close(\"&$D$12&\") when LocalYear(\"&$D$12&\")=\"&$D$5&\" and localMonth(\"&$D$12&\") =\"&$E$5&\" and LocalDay(\"&$D$12&\")=\"&$F$5&\" and Barix(\"&$D$12&\",reference:=StartOfDay)=\"&A90&\"\", \"Bar\", \"\", \"Close\",\"5\",\"0\",\"\",,,\"False\",\"T\",\"EveryTick\")","v":1299.3},-3.9098436062558542E-3,{"$f":"RTD(\"cqg.rtd\",,\"StudyData\", \"Close(\"&$D$12&\") when LocalYear(\"&$D$12&\")=\"&$D$6&\" and localMonth(\"&$D$12&\") =\"&$E$6&\" and LocalDay(\"&$D$12&\")=\"&$F$6&\" and Barix(\"&$D$12&\",reference:=StartOfDay)=\"&A90&\"\", \"Bar\", \"\", \"Close\",\"5\",\"0\",\"\",,,\"False\",\"T\",\"EveryTick\")","v":1304.3},6.1373225930184462E-4,{"$f":"RTD(\"cqg.rtd\",,\"StudyData\", \"Close(\"&$D$12&\") when LocalYear(\"&$D$12&\")=\"&$D$7&\" and localMonth(\"&$D$12&\") =\"&$E$7&\" and LocalDay(\"&$D$12&\")=\"&$F$7&\" and Barix(\"&$D$12&\",reference:=StartOfDay)=\"&A90&\"\", \"Bar\", \"\", \"Close\",\"5\",\"0\",\"\",,,\"False\",\"T\",\"EveryTick\")","v":1303.2},1.4600783831553762E-3,{"$f":"RTD(\"cqg.rtd\",,\"StudyData\", \"Close(\"&$D$12&\") when LocalYear(\"&$D$12&\")=\"&$D$8&\" and localMonth(\"&$D$12&\") =\"&$E$8&\" and LocalDay(\"&$D$12&\")=\"&$F$8&\" and Barix(\"&$D$12&\",reference:=StartOfDay)=\"&A90&\"\", \"Bar\", \"\", \"Close\",\"5\",\"0\",\"\",,,\"False\",\"T\",\"EveryTick\")","v":1301.4000000000001},6.1510072274348912E-4,{"$f":"RTD(\"cqg.rtd\",,\"StudyData\", \"Close(\"&$D$12&\") when LocalYear(\"&$D$12&\")=\"&$D$9&\" and localMonth(\"&$D$12&\") =\"&$E$9&\" and LocalDay(\"&$D$12&\")=\"&$F$9&\" and Barix(\"&$D$12&\",reference:=StartOfDay)=\"&A90&\"\", \"Bar\", \"\", \"Close\",\"5\",\"0\",\"\",,,\"False\",\"T\",\"EveryTick\")","v":1300.8},3.0759766225766191E-4,{"$f":"RTD(\"cqg.rtd\",,\"StudyData\", \"Close(\"&$D$12&\") when LocalYear(\"&$D$12&\")=\"&$D$10&\" and localMonth(\"&$D$12&\") =\"&$E$10&\" and LocalDay(\"&$D$12&\")=\"&$F$10&\" and Barix(\"&$D$12&\",reference:=StartOfDay)=\"&A90&\"\", \"Bar\", \"\", \"Close\",\"5\",\"0\",\"\",,,\"False\",\"T\",\"EveryTick\")","v":1301.7},4.4756539856470054E-3,null,null,null,""]
[258,"14:30:00",null,null,null,null,null,{"$f":"RTD(\"cqg.rtd\",,\"StudyData\", \"Close(\"&$D$12&\") when LocalYear(\"&$D$12&\")=\"&$D$1&\" and localMonth(\"&$D$12&\") =\"&$E$1&\" and LocalDay(\"&$D$12&\")=\"&$F$1&\" and Barix(\"&$D$12&\",reference:=StartOfDay)=\"&A91&\"\", \"Bar\", \"\", \"Close\",\"5\",\"0\",\"\",,,\"False\",\"T\",\"EveryTick\")","v":""},{"$error":"#N/A"},{"$f":"RTD(\"cqg.rtd\",,\"StudyData\", \"Close(\"&$D$12&\") when LocalYear(\"&$D$12&\")=\"&$D$2&\" and localMonth(\"&$D$12&\") =\"&$E$2&\" and LocalDay(\"&$D$12&\")=\"&$F$2&\" and Barix(\"&$D$12&\",reference:=StartOfDay)=\"&A91&\"\", \"Bar\", \"\", \"Close\",\"5\",\"0\",\"\",,,\"False\",\"T\",\"EveryTick\")","v":1282.5999999999999},-1.7842101232866361E-2,{"$f":"RTD(\"cqg.rtd\",,\"StudyData\", \"Close(\"&$D$12&\") when LocalYear(\"&$D$12&\")=\"&$D$3&\" and localMonth(\"&$D$12&\") =\"&$E$3&\" and LocalDay(\"&$D$12&\")=\"&$F$3&\" and Barix(\"&$D$12&\",reference:=StartOfDay)=\"&A91&\"\", \"Bar\", \"\", \"Close\",\"5\",\"0\",\"\",,,\"False\",\"T\",\"EveryTick\")","v":1306.8},2.9933225880726558E-3,{"$f":"RTD(\"cqg.rtd\",,\"StudyData\", \"Close(\"&$D$12&\") when LocalYear(\"&$D$12&\")=\"&$D$4&\" and localMonth(\"&$D$12&\") =\"&$E$4&\" and LocalDay(\"&$D$12&\")=\"&$F$4&\" and Barix(\"&$D$12&\",reference:=StartOfDay)=\"&A91&\"\", \"Bar\", \"\", \"Close\",\"5\",\"0\",\"\",,,\"False\",\"T\",\"EveryTick\")","v":1303.5},3.0009233610342346E-3,{"$f":"RTD(\"cqg.rtd\",,\"StudyData\", \"Close(\"&$D$12&\") when LocalYear(\"&$D$12&\")=\"&$D$5&\" and localMonth(\"&$D$12&\") =\"&$E$5&\" and LocalDay(\"&$D$12&\")=\"&$F$5&\" and Barix(\"&$D$12&\",reference:=StartOfDay)=\"&A91&\"\", \"Bar\", \"\", \"Close\",\"5\",\"0\",\"\",,,\"False\",\"T\",\"EveryTick\")","v":1299.2},-3.9865072063784458E-3,{"$f":"RTD(\"cqg.rtd\",,\"StudyData\", \"Close(\"&$D$12&\") when LocalYear(\"&$D$12&\")=\"&$D$6&\" and localMonth(\"&$D$12&\") =\"&$E$6&\" and LocalDay(\"&$D$12&\")=\"&$F$6&\" and Barix(\"&$D$12&\",reference:=StartOfDay)=\"&A91&\"\", \"Bar\", \"\", \"Close\",\"5\",\"0\",\"\",,,\"False\",\"T\",\"EveryTick\")","v":1304.4000000000001},6.9044879171468424E-4,{"$f":"RTD(\"cqg.rtd\",,\"StudyData\", \"Close(\"&$D$12&\") when LocalYear(\"&$D$12&\")=\"&$D$7&\" and localMonth(\"&$D$12&\") =\"&$E$7&\" and LocalDay(\"&$D$12&\")=\"&$F$7&\" and Barix(\"&$D$12&\",reference:=StartOfDay)=\"&A91&\"\", \"Bar\", \"\", \"Close\",\"5\",\"0\",\"\",,,\"False\",\"T\",\"EveryTick\")","v":1302.9000000000001},1.2295396910782575E-3,{"$f":"RTD(\"cqg.rtd\",,\"StudyData\", \"Close(\"&$D$12&\") when LocalYear(\"&$D$12&\")=\"&$D$8&\" and localMonth(\"&$D$12&\") =\"&$E$8&\" and LocalDay(\"&$D$12&\")=\"&$F$8&\" and Barix(\"&$D$12&\",reference:=StartOfDay)=\"&A91&\"\", \"Bar\", \"\", \"Close\",\"5\",\"0\",\"\",,,\"False\",\"T\",\"EveryTick\")","v":1301.2},4.6132554205761684E-4,{"$f":"RTD(\"cqg.rtd\",,\"StudyData\", \"Close(\"&$D$12&\") when LocalYear(\"&$D$12&\")=\"&$D$9&\" and localMonth(\"&$D$12&\") =\"&$E$9&\" and LocalDay(\"&$D$12&\")=\"&$F$9&\" and Barix(\"&$D$12&\",reference:=StartOfDay)=\"&A91&\"\", \"Bar\", \"\", \"Close\",\"5\",\"0\",\"\",,,\"False\",\"T\",\"EveryTick\")","v":1301.2},6.151953245154987E-4,{"$f":"RTD(\"cqg.rtd\",,\"StudyData\", \"Close(\"&$D$12&\") when LocalYear(\"&$D$12&\")=\"&$D$10&\" and localMonth(\"&$D$12&\") =\"&$E$10&\" and LocalDay(\"&$D$12&\")=\"&$F$10&\" and Barix(\"&$D$12&\",reference:=StartOfDay)=\"&A91&\"\", \"Bar\", \"\", \"Close\",\"5\",\"0\",\"\",,,\"False\",\"T\",\"EveryTick\")","v":1301.8},4.5528204336753326E-3,null,null,null,""]
[259,"14:35:00",null,null,null,null,null,{"$f":"RTD(\"cqg.rtd\",,\"StudyData\", \"Close(\"&$D$12&\") when LocalYear(\"&$D$12&\")=\"&$D$1&\" and localMonth(\"&$D$12&\") =\"&$E$1&\" and LocalDay(\"&$D$12&\")=\"&$F$1&\" and Barix(\"&$D$12&\",reference:=StartOfDay)=\"&A92&\"\", \"Bar\", \"\", \"Close\",\"5\",\"0\",\"\",,,\"False\",\"T\",\"EveryTick\")","v":""},{"$error":"#N/A"},{"$f":"RTD(\"cqg.rtd\",,\"StudyData\", \"Close(\"&$D$12&\") when LocalYear(\"&$D$12&\")=\"&$D$2&\" and localMonth(\"&$D$12&\") =\"&$E$2&\" and LocalDay(\"&$D$12&\")=\"&$F$2&\" and Barix(\"&$D$12&\",reference:=StartOfDay)=\"&A92&\"\", \"Bar\", \"\", \"Close\",\"5\",\"0\",\"\",,,\"False\",\"T\",\"EveryTick\")","v":1282.8},-1.768895014932241E-2,{"$f":"RTD(\"cqg.rtd\",,\"StudyData\", \"Close(\"&$D$12&\") when LocalYear(\"&$D$12&\")=\"&$D$3&\" and localMonth(\"&$D$12&\") =\"&$E$3&\" and LocalDay(\"&$D$12&\")=\"&$F$3&\" and Barix(\"&$D$12&\",reference:=StartOfDay)=\"&A92&\"\", \"Bar\", \"\", \"Close\",\"5\",\"0\",\"\",,,\"False\",\"T\",\"EveryTick\")","v":1307},3.1468263105379605E-3,{"$f":"RTD(\"cqg.rtd\",,\"StudyData\", \"Close(\"&$D$12&\") when LocalYear(\"&$D$12&\")=\"&$D$4&\" and localMonth(\"&$D$12&\") =\"&$E$4&\" and LocalDay(\"&$D$12&\")=\"&$F$4&\" and Barix(\"&$D$12&\",reference:=StartOfDay)=\"&A92&\"\", \"Bar\", \"\", \"Close\",\"5\",\"0\",\"\",,,\"False\",\"T\",\"EveryTick\")","v":1303.5},3.0009233610342346E-3,{"$f":"RTD(\"cqg.rtd\",,\"StudyData\", \"Close(\"&$D$12&\") when LocalYear(\"&$D$12&\")=\"&$D$5&\" and localMonth(\"&$D$12&\") =\"&$E$5&\" and LocalDay(\"&$D$12&\")=\"&$F$5&\" and Barix(\"&$D$12&\",reference:=StartOfDay)=\"&A92&\"\", \"Bar\", \"\", \"Close\",\"5\",\"0\",\"\",,,\"False\",\"T\",\"EveryTick\")","v":1299.0999999999999},-4.0631708065012127E-3,{"$f":"RTD(\"cqg.rtd\",,\"StudyData\", \"Close(\"&$D$12&\") when LocalYear(\"&$D$12&\")=\"&$D$6&\" and localMonth(\"&$D$12&\") =\"&$E$6&\" and LocalDay(\"&$D$12&\")=\"&$F$6&\" and Barix(\"&$D$12&\",reference:=StartOfDay)=\"&A92&\"\", \"Bar\", \"\", \"Close\",\"5\",\"0\",\"\",,,\"False\",\"T\",\"EveryTick\")","v":1304.2},5.3701572688917944E-4,{"$f":"RTD(\"cqg.rtd\",,\"StudyData\", \"Close(\"&$D$12&\") when LocalYear(\"&$D$12&\")=\"&$D$7&\" and localMonth(\"&$D$12&\") =\"&$E$7&\" and LocalDay(\"&$D$12&\")=\"&$F$7&\" and Barix(\"&$D$12&\",reference:=StartOfDay)=\"&A92&\"\", \"Bar\", \"\", \"Close\",\"5\",\"0\",\"\",,,\"False\",\"T\",\"EveryTick\")","v":1303.0999999999999},1.3832321524628868E-3,{"$f":"RTD(\"cqg.rtd\",,\"StudyData\", \"Close(\"&$D$12&\") when LocalYear(\"&$D$12&\")=\"&$D$8&\" and localMonth(\"&$D$12&\") =\"&$E$8&\" and LocalDay(\"&$D$12&\")=\"&$F$8&\" and Barix(\"&$D$12&\",reference:=StartOfDay)=\"&A92&\"\", \"Bar\", \"\", \"Close\",\"5\",\"0\",\"\",,,\"False\",\"T\",\"EveryTick\")","v":1301.5999999999999},7.6887590342918663E-4,{"$f":"RTD(\"cqg.rtd\",,\"StudyData\", \"Close(\"&$D$12&\") when LocalYear(\"&$D$12&\")=\"&$D$9&\" and localMonth(\"&$D$12&\") =\"&$E$9&\" and LocalDay(\"&$D$12&\")=\"&$F$9&\" and Barix(\"&$D$12&\",reference:=StartOfDay)=\"&A92&\"\", \"Bar\", \"\", \"Close\",\"5\",\"0\",\"\",,,\"False\",\"T\",\"EveryTick\")","v":1301},4.6139649338658027E-4,{"$f":"RTD(\"cqg.rtd\",,\"StudyData\", \"Close(\"&$D$12&\") when LocalYear(\"&$D$12&\")=\"&$D$10&\" and localMonth(\"&$D$12&\") =\"&$E$10&\" and LocalDay(\"&$D$12&\")=\"&$F$10&\" and Barix(\"&$D$12&\",reference:=StartOfDay)=\"&A92&\"\", \"Bar\", \"\", \"Close\",\"5\",\"0\",\"\",,,\"False\",\"T\",\"EveryTick\")","v":1301.7},4.4756539856470054E-3,null,null,null,""]
[260,"14:40:00",null,null,null,null,null,{"$f":"RTD(\"cqg.rtd\",,\"StudyData\", \"Close(\"&$D$12&\") when LocalYear(\"&$D$12&\")=\"&$D$1&\" and localMonth(\"&$D$12&\") =\"&$E$1&\" and LocalDay(\"&$D$12&\")=\"&$F$1&\" and Barix(\"&$D$12&\",reference:=StartOfDay)=\"&A93&\"\", \"Bar\", \"\", \"Close\",\"5\",\"0\",\"\",,,\"False\",\"T\",\"EveryTick\")","v":""},{"$error":"#N/A"},{"$f":"RTD(\"cqg.rtd\",,\"StudyData\", \"Close(\"&$D$12&\") when LocalYear(\"&$D$12&\")=\"&$D$2&\" and localMonth(\"&$D$12&\") =\"&$E$2&\" and LocalDay(\"&$D$12&\")=\"&$F$2&\" and Barix(\"&$D$12&\",reference:=StartOfDay)=\"&A93&\"\", \"Bar\", \"\", \"Close\",\"5\",\"0\",\"\",,,\"False\",\"T\",\"EveryTick\")","v":1282.5},-1.7918676774638247E-2,{"$f":"RTD(\"cqg.rtd\",,\"StudyData\", \"Close(\"&$D$12&\") when LocalYear(\"&$D$12&\")=\"&$D$3&\" and localMonth(\"&$D$12&\") =\"&$E$3&\" and LocalDay(\"&$D$12&\")=\"&$F$3&\" and Barix(\"&$D$12&\",reference:=StartOfDay)=\"&A93&\"\", \"Bar\", \"\", \"Close\",\"5\",\"0\",\"\",,,\"False\",\"T\",\"EveryTick\")","v":1307.0999999999999},3.2235781717705257E-3,{"$f":"RTD(\"cqg.rtd\",,\"StudyData\", \"Close(\"&$D$12&\") when LocalYear(\"&$D$12&\")=\"&$D$4&\" and localMonth(\"&$D$12&\") =\"&$E$4&\" and LocalDay(\"&$D$12&\")=\"&$F$4&\" and Barix(\"&$D$12&\",reference:=StartOfDay)=\"&A93&\"\", \"Bar\", \"\", \"Close\",\"5\",\"0\",\"\",,,\"False\",\"T\",\"EveryTick\")","v":1304.4000000000001},3.6934441366575734E-3,{"$f":"RTD(\"cqg.rtd\",,\"StudyData\", \"Close(\"&$D$12&\") when LocalYear(\"&$D$12&\")=\"&$D$5&\" and localMonth(\"&$D$12&\") =\"&$E$5&\" and LocalDay(\"&$D$12&\")=\"&$F$5&\" and Barix(\"&$D$12&\",reference:=StartOfDay)=\"&A93&\"\", \"Bar\", \"\", \"Close\",\"5\",\"0\",\"\",,,\"False\",\"T\",\"EveryTick\")","v":1299.7},-3.6031892057651373E-3,{"$f":"RTD(\"cqg.rtd\",,\"StudyData\", \"Close(\"&$D$12&\") when LocalYear(\"&$D$12&\")=\"&$D$6&\" and localMonth(\"&$D$12&\") =\"&$E$6&\" and LocalDay(\"&$D$12&\")=\"&$F$6&\" and Barix(\"&$D$12&\",reference:=StartOfDay)=\"&A93&\"\", \"Bar\", \"\", \"Close\",\"5\",\"0\",\"\",,,\"False\",\"T\",\"EveryTick\")","v":1304.2},5.3701572688917944E-4,{"$f":"RTD(\"cqg.rtd\",,\"StudyData\", \"Close(\"&$D$12&\") when LocalYear(\"&$D$12&\")=\"&$D$7&\" and localMonth(\"&$D$12&\") =\"&$E$7&\" and LocalDay(\"&$D$12&\")=\"&$F$7&\" and Barix(\"&$D$12&\",reference:=StartOfDay)=\"&A93&\"\", \"Bar\", \"\", \"Close\",\"5\",\"0\",\"\",,,\"False\",\"T\",\"EveryTick\")","v":1303.3},1.5369246138476908E-3,{"$f":"RTD(\"cqg.rtd\",,\"StudyData\", \"Close(\"&$D$12&\") when LocalYear(\"&$D$12&\")=\"&$D$8&\" and localMonth(\"&$D$12&\") =\"&$E$8&\" and LocalDay(\"&$D$12&\")=\"&$F$8&\" and Barix(\"&$D$12&\",reference:=StartOfDay)=\"&A93&\"\", \"Bar\", \"\", \"Close\",\"5\",\"0\",\"\",,,\"False\",\"T\",\"EveryTick\")","v":1301.5999999999999},7.6887590342918663E-4,{"$f":"RTD(\"cqg.rtd\",,\"StudyData\", \"Close(\"&$D$12&\") when LocalYear(\"&$D$12&\")=\"&$D$9&\" and localMonth(\"&$D$12&\") =\"&$E$9&\" and LocalDay(\"&$D$12&\")=\"&$F$9&\" and Barix(\"&$D$12&\",reference:=StartOfDay)=\"&A93&\"\", \"Bar\", \"\", \"Close\",\"5\",\"0\",\"\",,,\"False\",\"T\",\"EveryTick\")","v":1301.3},6.9209474007987041E-4,{"$f":"RTD(\"cqg.rtd\",,\"StudyData\", \"Close(\"&$D$12&\") when LocalYear(\"&$D$12&\")=\"&$D$10&\" and localMonth(\"&$D$12&\") =\"&$E$10&\" and LocalDay(\"&$D$12&\")=\"&$F$10&\" and Barix(\"&$D$12&\",reference:=StartOfDay)=\"&A93&\"\", \"Bar\", \"\", \"Close\",\"5\",\"0\",\"\",,,\"False\",\"T\",\"EveryTick\")","v":1301.5},4.3213210895901759E-3,null,null,null,""]
[261,"14:45:00",null,null,null,null,null,{"$f":"RTD(\"cqg.rtd\",,\"StudyData\", \"Close(\"&$D$12&\") when LocalYear(\"&$D$12&\")=\"&$D$1&\" and localMonth(\"&$D$12&\") =\"&$E$1&\" and LocalDay(\"&$D$12&\")=\"&$F$1&\" and Barix(\"&$D$12&\",reference:=StartOfDay)=\"&A94&\"\", \"Bar\", \"\", \"Close\",\"5\",\"0\",\"\",,,\"False\",\"T\",\"EveryTick\")","v":""},{"$error":"#N/A"},{"$f":"RTD(\"cqg.rtd\",,\"StudyData\", \"Close(\"&$D$12&\") when LocalYear(\"&$D$12&\")=\"&$D$2&\" and localMonth(\"&$D$12&\") =\"&$E$2&\" and LocalDay(\"&$D$12&\")=\"&$F$2&\" and Barix(\"&$D$12&\",reference:=StartOfDay)=\"&A94&\"\", \"Bar\", \"\", \"Close\",\"5\",\"0\",\"\",,,\"False\",\"T\",\"EveryTick\")","v":1282.5},-1.7918676774638247E-2,{"$f":"RTD(\"cqg.rtd\",,\"StudyData\", \"Close(\"&$D$12&\") when LocalYear(\"&$D$12&\")=\"&$D$3&\" and localMonth(\"&$D$12&\") =\"&$E$3&\" and LocalDay(\"&$D$12&\")=\"&$F$3&\" and Barix(\"&$D$12&\",reference:=StartOfDay)=\"&A94&\"\", \"Bar\", \"\", \"Close\",\"5\",\"0\",\"\",,,\"False\",\"T\",\"EveryTick\")","v":1307.0999999999999},3.2235781717705257E-3,{"$f":"RTD(\"cqg.rtd\",,\"StudyData\", \"Close(\"&$D$12&\") when LocalYear(\"&$D$12&\")=\"&$D$4&\" and localMonth(\"&$D$12&\") =\"&$E$4&\" and LocalDay(\"&$D$12&\")=\"&$F$4&\" and Barix(\"&$D$12&\",reference:=StartOfDay)=\"&A94&\"\", \"Bar\", \"\", \"Close\",\"5\",\"0\",\"\",,,\"False\",\"T\",\"EveryTick\")","v":1303.9000000000001},3.3087103724224239E-3,{"$f":"RTD(\"cqg.rtd\",,\"StudyData\", \"Close(\"&$D$12&\") when LocalYear(\"&$D$12&\")=\"&$D$5&\" and localMonth(\"&$D$12&\") =\"&$E$5&\" and LocalDay(\"&$D$12&\")=\"&$F$5&\" and Barix(\"&$D$12&\",reference:=StartOfDay)=\"&A94&\"\", \"Bar\", \"\", \"Close\",\"5\",\"0\",\"\",,,\"False\",\"T\",\"EveryTick\")","v":1299.7},-3.6031892057651373E-3,{"$f":"RTD(\"cqg.rtd\",,\"StudyData\", \"Close(\"&$D$12&\") when LocalYear(\"&$D$12&\")=\"&$D$6&\" and localMonth(\"&$D$12&\") =\"&$E$6&\" and LocalDay(\"&$D$12&\")=\"&$F$6&\" and Barix(\"&$D$12&\",reference:=StartOfDay)=\"&A94&\"\", \"Bar\", \"\", \"Close\",\"5\",\"0\",\"\",,,\"False\",\"T\",\"EveryTick\")","v":1304.2},5.3701572688917944E-4,{"$f":"RTD(\"cqg.rtd\",,\"StudyData\", \"Close(\"&$D$12&\") when LocalYear(\"&$D$12&\")=\"&$D$7&\" and localMonth(\"&$D$12&\") =\"&$E$7&\" and LocalDay(\"&$D$12&\")=\"&$F$7&\" and Barix(\"&$D$12&\",reference:=StartOfDay)=\"&A94&\"\", \"Bar\", \"\", \"Close\",\"5\",\"0\",\"\",,,\"False\",\"T\",\"EveryTick\")","v":1302.9000000000001},1.2295396910782575E-3,{"$f":"RTD(\"cqg.rtd\",,\"StudyData\", \"Close(\"&$D$12&\") when LocalYear(\"&$D$12&\")=\"&$D$8&\" and localMonth(\"&$D$12&\") =\"&$E$8&\" and LocalDay(\"&$D$12&\")=\"&$F$8&\" and Barix(\"&$D$12&\",reference:=StartOfDay)=\"&A94&\"\", \"Bar\", \"\", \"Close\",\"5\",\"0\",\"\",,,\"False\",\"T\",\"EveryTick\")","v":1301.8},9.2265108411505891E-4,{"$f":"RTD(\"cqg.rtd\",,\"StudyData\", \"Close(\"&$D$12&\") when LocalYear(\"&$D$12&\")=\"&$D$9&\" and localMonth(\"&$D$12&\") =\"&$E$9&\" and LocalDay(\"&$D$12&\")=\"&$F$9&\" and Barix(\"&$D$12&\",reference:=StartOfDay)=\"&A94&\"\", \"Bar\", \"\", \"Close\",\"5\",\"0\",\"\",,,\"False\",\"T\",\"EveryTick\")","v":1301.0999999999999},5.382959089509521E-4,{"$f":"RTD(\"cqg.rtd\",,\"StudyData\", \"Close(\"&$D$12&\") when LocalYear(\"&$D$12&\")=\"&$D$10&\" and localMonth(\"&$D$12&\") =\"&$E$10&\" and LocalDay(\"&$D$12&\")=\"&$F$10&\" and Barix(\"&$D$12&\",reference:=StartOfDay)=\"&A94&\"\", \"Bar\", \"\", \"Close\",\"5\",\"0\",\"\",,,\"False\",\"T\",\"EveryTick\")","v":1301.3},4.1669881935333464E-3,null,null,null,""]
[262,{"$f":"B94+0.00347222222222227","v":"14:50:00"},null,null,null,null,null,{"$f":"RTD(\"cqg.rtd\",,\"StudyData\", \"Close(\"&$D$12&\") when LocalYear(\"&$D$12&\")=\"&$D$1&\" and localMonth(\"&$D$12&\") =\"&$E$1&\" and LocalDay(\"&$D$12&\")=\"&$F$1&\" and Barix(\"&$D$12&\",reference:=StartOfDay)=\"&A95&\"\", \"Bar\", \"\", \"Close\",\"5\",\"0\",\"\",,,\"False\",\"T\",\"EveryTick\")","v":""},{"$error":"#N/A"},{"$f":"RTD(\"cqg.rtd\",,\"StudyData\", \"Close(\"&$D$12&\") when LocalYear(\"&$D$12&\")=\"&$D$2&\" and localMonth(\"&$D$12&\") =\"&$E$2&\" and LocalDay(\"&$D$12&\")=\"&$F$2&\" and Barix(\"&$D$12&\",reference:=StartOfDay)=\"&A95&\"\", \"Bar\", \"\", \"Close\",\"5\",\"0\",\"\",,,\"False\",\"T\",\"EveryTick\")","v":1282.8},-1.768895014932241E-2,{"$f":"RTD(\"cqg.rtd\",,\"StudyData\", \"Close(\"&$D$12&\") when LocalYear(\"&$D$12&\")=\"&$D$3&\" and localMonth(\"&$D$12&\") =\"&$E$3&\" and LocalDay(\"&$D$12&\")=\"&$F$3&\" and Barix(\"&$D$12&\",reference:=StartOfDay)=\"&A95&\"\", \"Bar\", \"\", \"Close\",\"5\",\"0\",\"\",,,\"False\",\"T\",\"EveryTick\")","v":1306.5999999999999},2.839818865607351E-3,{"$f":"RTD(\"cqg.rtd\",,\"StudyData\", \"Close(\"&$D$12&\") when LocalYear(\"&$D$12&\")=\"&$D$4&\" and localMonth(\"&$D$12&\") =\"&$E$4&\" and LocalDay(\"&$D$12&\")=\"&$F$4&\" and Barix(\"&$D$12&\",reference:=StartOfDay)=\"&A95&\"\", \"Bar\", \"\", \"Close\",\"5\",\"0\",\"\",,,\"False\",\"T\",\"EveryTick\")","v":1303.7},3.1548168667283293E-3,{"$f":"RTD(\"cqg.rtd\",,\"StudyData\", \"Close(\"&$D$12&\") when LocalYear(\"&$D$12&\")=\"&$D$5&\" and localMonth(\"&$D$12&\") =\"&$E$5&\" and LocalDay(\"&$D$12&\")=\"&$F$5&\" and Barix(\"&$D$12&\",reference:=StartOfDay)=\"&A95&\"\", \"Bar\", \"\", \"Close\",\"5\",\"0\",\"\",,,\"False\",\"T\",\"EveryTick\")","v":1299.5999999999999},-3.6798528058879037E-3,{"$f":"RTD(\"cqg.rtd\",,\"StudyData\", \"Close(\"&$D$12&\") when LocalYear(\"&$D$12&\")=\"&$D$6&\" and localMonth(\"&$D$12&\") =\"&$E$6&\" and LocalDay(\"&$D$12&\")=\"&$F$6&\" and Barix(\"&$D$12&\",reference:=StartOfDay)=\"&A95&\"\", \"Bar\", \"\", \"Close\",\"5\",\"0\",\"\",,,\"False\",\"T\",\"EveryTick\")","v":1304.4000000000001},6.9044879171468424E-4,{"$f":"RTD(\"cqg.rtd\",,\"StudyData\", \"Close(\"&$D$12&\") when LocalYear(\"&$D$12&\")=\"&$D$7&\" and localMonth(\"&$D$12&\") =\"&$E$7&\" and LocalDay(\"&$D$12&\")=\"&$F$7&\" and Barix(\"&$D$12&\",reference:=StartOfDay)=\"&A95&\"\", \"Bar\", \"\", \"Close\",\"5\",\"0\",\"\",,,\"False\",\"T\",\"EveryTick\")","v":1303},1.3063859217705722E-3,{"$f":"RTD(\"cqg.rtd\",,\"StudyData\", \"Close(\"&$D$12&\") when LocalYear(\"&$D$12&\")=\"&$D$8&\" and localMonth(\"&$D$12&\") =\"&$E$8&\" and LocalDay(\"&$D$12&\")=\"&$F$8&\" and Barix(\"&$D$12&\",reference:=StartOfDay)=\"&A95&\"\", \"Bar\", \"\", \"Close\",\"5\",\"0\",\"\",,,\"False\",\"T\",\"EveryTick\")","v":1301.5999999999999},7.6887590342918663E-4,{"$f":"RTD(\"cqg.rtd\",,\"StudyData\", \"Close(\"&$D$12&\") when LocalYear(\"&$D$12&\")=\"&$D$9&\" and localMonth(\"&$D$12&\") =\"&$E$9&\" and LocalDay(\"&$D$12&\")=\"&$F$9&\" and Barix(\"&$D$12&\",reference:=StartOfDay)=\"&A95&\"\", \"Bar\", \"\", \"Close\",\"5\",\"0\",\"\",,,\"False\",\"T\",\"EveryTick\")","v":1301.5},8.4589357120878883E-4,{"$f":"RTD(\"cqg.rtd\",,\"StudyData\", \"Close(\"&$D$12&\") when LocalYear(\"&$D$12&\")=\"&$D$10&\" and localMonth(\"&$D$12&\") =\"&$E$10&\" and LocalDay(\"&$D$12&\")=\"&$F$10&\" and Barix(\"&$D$12&\",reference:=StartOfDay)=\"&A95&\"\", \"Bar\", \"\", \"Close\",\"5\",\"0\",\"\",,,\"False\",\"T\",\"EveryTick\")","v":1301.5},4.3213210895901759E-3,null,null,null,""]
[263,"14:55:00",null,null,null,null,null,{"$f":"RTD(\"cqg.rtd\",,\"StudyData\", \"Close(\"&$D$12&\") when LocalYear(\"&$D$12&\")=\"&$D$1&\" and localMonth(\"&$D$12&\") =\"&$E$1&\" and LocalDay(\"&$D$12&\")=\"&$F$1&\" and Barix(\"&$D$12&\",reference:=StartOfDay)=\"&A96&\"\", \"Bar\", \"\", \"Close\",\"5\",\"0\",\"\",,,\"False\",\"T\",\"EveryTick\")","v":""},{"$error":"#N/A"},{"$f":"RTD(\"cqg.rtd\",,\"StudyData\", \"Close(\"&$D$12&\") when LocalYear(\"&$D$12&\")=\"&$D$2&\" and localMonth(\"&$D$12&\") =\"&$E$2&\" and LocalDay(\"&$D$12&\")=\"&$F$2&\" and Barix(\"&$D$12&\",reference:=StartOfDay)=\"&A96&\"\", \"Bar\", \"\", \"Close\",\"5\",\"0\",\"\",,,\"False\",\"T\",\"EveryTick\")","v":1283},-1.753579906577846E-2,{"$f":"RTD(\"cqg.rtd\",,\"StudyData\", \"Close(\"&$D$12&\") when LocalYear(\"&$D$12&\")=\"&$D$3&\" and localMonth(\"&$D$12&\") =\"&$E$3&\" and LocalDay(\"&$D$12&\")=\"&$F$3&\" and Barix(\"&$D$12&\",reference:=StartOfDay)=\"&A96&\"\", \"Bar\", \"\", \"Close\",\"5\",\"0\",\"\",,,\"False\",\"T\",\"EveryTick\")","v":1306.0999999999999},2.4560595594441768E-3,{"$f":"RTD(\"cqg.rtd\",,\"StudyData\", \"Close(\"&$D$12&\") when LocalYear(\"&$D$12&\")=\"&$D$4&\" and localMonth(\"&$D$12&\") =\"&$E$4&\" and LocalDay(\"&$D$12&\")=\"&$F$4&\" and Barix(\"&$D$12&\",reference:=StartOfDay)=\"&A96&\"\", \"Bar\", \"\", \"Close\",\"5\",\"0\",\"\",,,\"False\",\"T\",\"EveryTick\")","v":1303.8},3.231763619575289E-3,{"$f":"RTD(\"cqg.rtd\",,\"StudyData\", \"Close(\"&$D$12&\") when LocalYear(\"&$D$12&\")=\"&$D$5&\" and localMonth(\"&$D$12&\") =\"&$E$5&\" and LocalDay(\"&$D$12&\")=\"&$F$5&\" and Barix(\"&$D$12&\",reference:=StartOfDay)=\"&A96&\"\", \"Bar\", \"\", \"Close\",\"5\",\"0\",\"\",,,\"False\",\"T\",\"EveryTick\")","v":1299.8},-3.5265256056425452E-3,{"$f":"RTD(\"cqg.rtd\",,\"StudyData\", \"Close(\"&$D$12&\") when LocalYear(\"&$D$12&\")=\"&$D$6&\" and localMonth(\"&$D$12&\") =\"&$E$6&\" and LocalDay(\"&$D$12&\")=\"&$F$6&\" and Barix(\"&$D$12&\",reference:=StartOfDay)=\"&A96&\"\", \"Bar\", \"\", \"Close\",\"5\",\"0\",\"\",,,\"False\",\"T\",\"EveryTick\")","v":1304.5},7.6716532412734941E-4,{"$f":"RTD(\"cqg.rtd\",,\"StudyData\", \"Close(\"&$D$12&\") when LocalYear(\"&$D$12&\")=\"&$D$7&\" and localMonth(\"&$D$12&\") =\"&$E$7&\" and LocalDay(\"&$D$12&\")=\"&$F$7&\" and Barix(\"&$D$12&\",reference:=StartOfDay)=\"&A96&\"\", \"Bar\", \"\", \"Close\",\"5\",\"0\",\"\",,,\"False\",\"T\",\"EveryTick\")","v":1302.7},1.0758472296934535E-3,{"$f":"RTD(\"cqg.rtd\",,\"StudyData\", \"Close(\"&$D$12&\") when LocalYear(\"&$D$12&\")=\"&$D$8&\" and localMonth(\"&$D$12&\") =\"&$E$8&\" and LocalDay(\"&$D$12&\")=\"&$F$8&\" and Barix(\"&$D$12&\",reference:=StartOfDay)=\"&A96&\"\", \"Bar\", \"\", \"Close\",\"5\",\"0\",\"\",,,\"False\",\"T\",\"EveryTick\")","v":1301},3.0755036137174456E-4,{"$f":"RTD(\"cqg.rtd\",,\"StudyData\", \"Close(\"&$D$12&\") when LocalYear(\"&$D$12&\")=\"&$D$9&\" and localMonth(\"&$D$12&\") =\"&$E$9&\" and LocalDay(\"&$D$12&\")=\"&$F$9&\" and Barix(\"&$D$12&\",reference:=StartOfDay)=\"&A96&\"\", \"Bar\", \"\", \"Close\",\"5\",\"0\",\"\",,,\"False\",\"T\",\"EveryTick\")","v":1301.4000000000001},7.6899415564441701E-4,{"$f":"RTD(\"cqg.rtd\",,\"StudyData\", \"Close(\"&$D$12&\") when LocalYear(\"&$D$12&\")=\"&$D$10&\" and localMonth(\"&$D$12&\") =\"&$E$10&\" and LocalDay(\"&$D$12&\")=\"&$F$10&\" and Barix(\"&$D$12&\",reference:=StartOfDay)=\"&A96&\"\", \"Bar\", \"\", \"Close\",\"5\",\"0\",\"\",,,\"False\",\"T\",\"EveryTick\")","v":1301},3.9354888494481897E-3,null,null,null,""]
[264,"15:00:00",null,null,null,null,null,{"$f":"RTD(\"cqg.rtd\",,\"StudyData\", \"Close(\"&$D$12&\") when LocalYear(\"&$D$12&\")=\"&$D$1&\" and localMonth(\"&$D$12&\") =\"&$E$1&\" and LocalDay(\"&$D$12&\")=\"&$F$1&\" and Barix(\"&$D$12&\",reference:=StartOfDay)=\"&A97&\"\", \"Bar\", \"\", \"Close\",\"5\",\"0\",\"\",,,\"False\",\"T\",\"EveryTick\")","v":""},{"$error":"#N/A"},{"$f":"RTD(\"cqg.rtd\",,\"StudyData\", \"Close(\"&$D$12&\") when LocalYear(\"&$D$12&\")=\"&$D$2&\" and localMonth(\"&$D$12&\") =\"&$E$2&\" and LocalDay(\"&$D$12&\")=\"&$F$2&\" and Barix(\"&$D$12&\",reference:=StartOfDay)=\"&A97&\"\", \"Bar\", \"\", \"Close\",\"5\",\"0\",\"\",,,\"False\",\"T\",\"EveryTick\")","v":1282.5999999999999},-1.7842101232866361E-2,{"$f":"RTD(\"cqg.rtd\",,\"StudyData\", \"Close(\"&$D$12&\") when LocalYear(\"&$D$12&\")=\"&$D$3&\" and localMonth(\"&$D$12&\") =\"&$E$3&\" and LocalDay(\"&$D$12&\")=\"&$F$3&\" and Barix(\"&$D$12&\",reference:=StartOfDay)=\"&A97&\"\", \"Bar\", \"\", \"Close\",\"5\",\"0\",\"\",,,\"False\",\"T\",\"EveryTick\")","v":1306.3},2.6095632819094815E-3,{"$f":"RTD(\"cqg.rtd\",,\"StudyData\", \"Close(\"&$D$12&\") when LocalYear(\"&$D$12&\")=\"&$D$4&\" and localMonth(\"&$D$12&\") =\"&$E$4&\" and LocalDay(\"&$D$12&\")=\"&$F$4&\" and Barix(\"&$D$12&\",reference:=StartOfDay)=\"&A97&\"\", \"Bar\", \"\", \"Close\",\"5\",\"0\",\"\",,,\"False\",\"T\",\"EveryTick\")","v":1303.4000000000001},2.9239766081872749E-3,{"$f":"RTD(\"cqg.rtd\",,\"StudyData\", \"Close(\"&$D$12&\") when LocalYear(\"&$D$12&\")=\"&$D$5&\" and localMonth(\"&$D$12&\") =\"&$E$5&\" and LocalDay(\"&$D$12&\")=\"&$F$5&\" and Barix(\"&$D$12&\",reference:=StartOfDay)=\"&A97&\"\", \"Bar\", \"\", \"Close\",\"5\",\"0\",\"\",,,\"False\",\"T\",\"EveryTick\")","v":1299.7},-3.6031892057651373E-3,{"$f":"RTD(\"cqg.rtd\",,\"StudyData\", \"Close(\"&$D$12&\") when LocalYear(\"&$D$12&\")=\"&$D$6&\" and localMonth(\"&$D$12&\") =\"&$E$6&\" and LocalDay(\"&$D$12&\")=\"&$F$6&\" and Barix(\"&$D$12&\",reference:=StartOfDay)=\"&A97&\"\", \"Bar\", \"\", \"Close\",\"5\",\"0\",\"\",,,\"False\",\"T\",\"EveryTick\")","v":1304.4000000000001},6.9044879171468424E-4,{"$f":"RTD(\"cqg.rtd\",,\"StudyData\", \"Close(\"&$D$12&\") when LocalYear(\"&$D$12&\")=\"&$D$7&\" and localMonth(\"&$D$12&\") =\"&$E$7&\" and LocalDay(\"&$D$12&\")=\"&$F$7&\" and Barix(\"&$D$12&\",reference:=StartOfDay)=\"&A97&\"\", \"Bar\", \"\", \"Close\",\"5\",\"0\",\"\",,,\"False\",\"T\",\"EveryTick\")","v":1302.8},1.1526934603857681E-3,{"$f":"RTD(\"cqg.rtd\",,\"StudyData\", \"Close(\"&$D$12&\") when LocalYear(\"&$D$12&\")=\"&$D$8&\" and localMonth(\"&$D$12&\") =\"&$E$8&\" and LocalDay(\"&$D$12&\")=\"&$F$8&\" and Barix(\"&$D$12&\",reference:=StartOfDay)=\"&A97&\"\", \"Bar\", \"\", \"Close\",\"5\",\"0\",\"\",,,\"False\",\"T\",\"EveryTick\")","v":1301},3.0755036137174456E-4,{"$f":"RTD(\"cqg.rtd\",,\"StudyData\", \"Close(\"&$D$12&\") when LocalYear(\"&$D$12&\")=\"&$D$9&\" and localMonth(\"&$D$12&\") =\"&$E$9&\" and LocalDay(\"&$D$12&\")=\"&$F$9&\" and Barix(\"&$D$12&\",reference:=StartOfDay)=\"&A97&\"\", \"Bar\", \"\", \"Close\",\"5\",\"0\",\"\",,,\"False\",\"T\",\"EveryTick\")","v":1301.0999999999999},5.382959089509521E-4,{"$f":"RTD(\"cqg.rtd\",,\"StudyData\", \"Close(\"&$D$12&\") when LocalYear(\"&$D$12&\")=\"&$D$10&\" and localMonth(\"&$D$12&\") =\"&$E$10&\" and LocalDay(\"&$D$12&\")=\"&$F$10&\" and Barix(\"&$D$12&\",reference:=StartOfDay)=\"&A97&\"\", \"Bar\", \"\", \"Close\",\"5\",\"0\",\"\",,,\"False\",\"T\",\"EveryTick\")","v":1300.7},3.7039895053630327E-3,null,null,null,""]
[265,"15:05:00",null,null,null,null,null,{"$f":"RTD(\"cqg.rtd\",,\"StudyData\", \"Close(\"&$D$12&\") when LocalYear(\"&$D$12&\")=\"&$D$1&\" and localMonth(\"&$D$12&\") =\"&$E$1&\" and LocalDay(\"&$D$12&\")=\"&$F$1&\" and Barix(\"&$D$12&\",reference:=StartOfDay)=\"&A98&\"\", \"Bar\", \"\", \"Close\",\"5\",\"0\",\"\",,,\"False\",\"T\",\"EveryTick\")","v":""},{"$error":"#N/A"},{"$f":"RTD(\"cqg.rtd\",,\"StudyData\", \"Close(\"&$D$12&\") when LocalYear(\"&$D$12&\")=\"&$D$2&\" and localMonth(\"&$D$12&\") =\"&$E$2&\" and LocalDay(\"&$D$12&\")=\"&$F$2&\" and Barix(\"&$D$12&\",reference:=StartOfDay)=\"&A98&\"\", \"Bar\", \"\", \"Close\",\"5\",\"0\",\"\",,,\"False\",\"T\",\"EveryTick\")","v":1282.8},-1.768895014932241E-2,{"$f":"RTD(\"cqg.rtd\",,\"StudyData\", \"Close(\"&$D$12&\") when LocalYear(\"&$D$12&\")=\"&$D$3&\" and localMonth(\"&$D$12&\") =\"&$E$3&\" and LocalDay(\"&$D$12&\")=\"&$F$3&\" and Barix(\"&$D$12&\",reference:=StartOfDay)=\"&A98&\"\", \"Bar\", \"\", \"Close\",\"5\",\"0\",\"\",,,\"False\",\"T\",\"EveryTick\")","v":1306.0999999999999},2.4560595594441768E-3,{"$f":"RTD(\"cqg.rtd\",,\"StudyData\", \"Close(\"&$D$12&\") when LocalYear(\"&$D$12&\")=\"&$D$4&\" and localMonth(\"&$D$12&\") =\"&$E$4&\" and LocalDay(\"&$D$12&\")=\"&$F$4&\" and Barix(\"&$D$12&\",reference:=StartOfDay)=\"&A98&\"\", \"Bar\", \"\", \"Close\",\"5\",\"0\",\"\",,,\"False\",\"T\",\"EveryTick\")","v":1303},2.6161895967990851E-3,{"$f":"RTD(\"cqg.rtd\",,\"StudyData\", \"Close(\"&$D$12&\") when LocalYear(\"&$D$12&\")=\"&$D$5&\" and localMonth(\"&$D$12&\") =\"&$E$5&\" and LocalDay(\"&$D$12&\")=\"&$F$5&\" and Barix(\"&$D$12&\",reference:=StartOfDay)=\"&A98&\"\", \"Bar\", \"\", \"Close\",\"5\",\"0\",\"\",,,\"False\",\"T\",\"EveryTick\")","v":1299.7},-3.6031892057651373E-3,{"$f":"RTD(\"cqg.rtd\",,\"StudyData\", \"Close(\"&$D$12&\") when LocalYear(\"&$D$12&\")=\"&$D$6&\" and localMonth(\"&$D$12&\") =\"&$E$6&\" and LocalDay(\"&$D$12&\")=\"&$F$6&\" and Barix(\"&$D$12&\",reference:=StartOfDay)=\"&A98&\"\", \"Bar\", \"\", \"Close\",\"5\",\"0\",\"\",,,\"False\",\"T\",\"EveryTick\")","v":1304.3},6.1373225930184462E-4,{"$f":"RTD(\"cqg.rtd\",,\"StudyData\", \"Close(\"&$D$12&\") when LocalYear(\"&$D$12&\")=\"&$D$7&\" and localMonth(\"&$D$12&\") =\"&$E$7&\" and LocalDay(\"&$D$12&\")=\"&$F$7&\" and Barix(\"&$D$12&\",reference:=StartOfDay)=\"&A98&\"\", \"Bar\", \"\", \"Close\",\"5\",\"0\",\"\",,,\"False\",\"T\",\"EveryTick\")","v":1302.8},1.1526934603857681E-3,{"$f":"RTD(\"cqg.rtd\",,\"StudyData\", \"Close(\"&$D$12&\") when LocalYear(\"&$D$12&\")=\"&$D$8&\" and localMonth(\"&$D$12&\") =\"&$E$8&\" and LocalDay(\"&$D$12&\")=\"&$F$8&\" and Barix(\"&$D$12&\",reference:=StartOfDay)=\"&A98&\"\", \"Bar\", \"\", \"Close\",\"5\",\"0\",\"\",,,\"False\",\"T\",\"EveryTick\")","v":1301},3.0755036137174456E-4,{"$f":"RTD(\"cqg.rtd\",,\"StudyData\", \"Close(\"&$D$12&\") when LocalYear(\"&$D$12&\")=\"&$D$9&\" and localMonth(\"&$D$12&\") =\"&$E$9&\" and LocalDay(\"&$D$12&\")=\"&$F$9&\" and Barix(\"&$D$12&\",reference:=StartOfDay)=\"&A98&\"\", \"Bar\", \"\", \"Close\",\"5\",\"0\",\"\",,,\"False\",\"T\",\"EveryTick\")","v":1301.2},6.151953245154987E-4,{"$f":"RTD(\"cqg.rtd\",,\"StudyData\", \"Close(\"&$D$12&\") when LocalYear(\"&$D$12&\")=\"&$D$10&\" and localMonth(\"&$D$12&\") =\"&$E$10&\" and LocalDay(\"&$D$12&\")=\"&$F$10&\" and Barix(\"&$D$12&\",reference:=StartOfDay)=\"&A98&\"\", \"Bar\", \"\", \"Close\",\"5\",\"0\",\"\",,,\"False\",\"T\",\"EveryTick\")","v":1300.8},3.7811559533913598E-3,null,null,null,""]
[266,"15:10:00",null,null,null,null,null,{"$f":"RTD(\"cqg.rtd\",,\"StudyData\", \"Close(\"&$D$12&\") when LocalYear(\"&$D$12&\")=\"&$D$1&\" and localMonth(\"&$D$12&\") =\"&$E$1&\" and LocalDay(\"&$D$12&\")=\"&$F$1&\" and Barix(\"&$D$12&\",reference:=StartOfDay)=\"&A99&\"\", \"Bar\", \"\", \"Close\",\"5\",\"0\",\"\",,,\"False\",\"T\",\"EveryTick\")","v":""},{"$error":"#N/A"},{"$f":"RTD(\"cqg.rtd\",,\"StudyData\", \"Close(\"&$D$12&\") when LocalYear(\"&$D$12&\")=\"&$D$2&\" and localMonth(\"&$D$12&\") =\"&$E$2&\" and LocalDay(\"&$D$12&\")=\"&$F$2&\" and Barix(\"&$D$12&\",reference:=StartOfDay)=\"&A99&\"\", \"Bar\", \"\", \"Close\",\"5\",\"0\",\"\",,,\"False\",\"T\",\"EveryTick\")","v":1282.8},-1.768895014932241E-2,{"$f":"RTD(\"cqg.rtd\",,\"StudyData\", \"Close(\"&$D$12&\") when LocalYear(\"&$D$12&\")=\"&$D$3&\" and localMonth(\"&$D$12&\") =\"&$E$3&\" and LocalDay(\"&$D$12&\")=\"&$F$3&\" and Barix(\"&$D$12&\",reference:=StartOfDay)=\"&A99&\"\", \"Bar\", \"\", \"Close\",\"5\",\"0\",\"\",,,\"False\",\"T\",\"EveryTick\")","v":1306.2},2.5328114206769163E-3,{"$f":"RTD(\"cqg.rtd\",,\"StudyData\", \"Close(\"&$D$12&\") when LocalYear(\"&$D$12&\")=\"&$D$4&\" and localMonth(\"&$D$12&\") =\"&$E$4&\" and LocalDay(\"&$D$12&\")=\"&$F$4&\" and Barix(\"&$D$12&\",reference:=StartOfDay)=\"&A99&\"\", \"Bar\", \"\", \"Close\",\"5\",\"0\",\"\",,,\"False\",\"T\",\"EveryTick\")","v":1303},2.6161895967990851E-3,{"$f":"RTD(\"cqg.rtd\",,\"StudyData\", \"Close(\"&$D$12&\") when LocalYear(\"&$D$12&\")=\"&$D$5&\" and localMonth(\"&$D$12&\") =\"&$E$5&\" and LocalDay(\"&$D$12&\")=\"&$F$5&\" and Barix(\"&$D$12&\",reference:=StartOfDay)=\"&A99&\"\", \"Bar\", \"\", \"Close\",\"5\",\"0\",\"\",,,\"False\",\"T\",\"EveryTick\")","v":1299.5999999999999},-3.6798528058879037E-3,{"$f":"RTD(\"cqg.rtd\",,\"StudyData\", \"Close(\"&$D$12&\") when LocalYear(\"&$D$12&\")=\"&$D$6&\" and localMonth(\"&$D$12&\") =\"&$E$6&\" and LocalDay(\"&$D$12&\")=\"&$F$6&\" and Barix(\"&$D$12&\",reference:=StartOfDay)=\"&A99&\"\", \"Bar\", \"\", \"Close\",\"5\",\"0\",\"\",,,\"False\",\"T\",\"EveryTick\")","v":1304.2},5.3701572688917944E-4,{"$f":"RTD(\"cqg.rtd\",,\"StudyData\", \"Close(\"&$D$12&\") when LocalYear(\"&$D$12&\")=\"&$D$7&\" and localMonth(\"&$D$12&\") =\"&$E$7&\" and LocalDay(\"&$D$12&\")=\"&$F$7&\" and Barix(\"&$D$12&\",reference:=StartOfDay)=\"&A99&\"\", \"Bar\", \"\", \"Close\",\"5\",\"0\",\"\",,,\"False\",\"T\",\"EveryTick\")","v":1302.9000000000001},1.2295396910782575E-3,{"$f":"RTD(\"cqg.rtd\",,\"StudyData\", \"Close(\"&$D$12&\") when LocalYear(\"&$D$12&\")=\"&$D$8&\" and localMonth(\"&$D$12&\") =\"&$E$8&\" and LocalDay(\"&$D$12&\")=\"&$F$8&\" and Barix(\"&$D$12&\",reference:=StartOfDay)=\"&A99&\"\", \"Bar\", \"\", \"Close\",\"5\",\"0\",\"\",,,\"False\",\"T\",\"EveryTick\")","v":1300.5999999999999},0,{"$f":"RTD(\"cqg.rtd\",,\"StudyData\", \"Close(\"&$D$12&\") when LocalYear(\"&$D$12&\")=\"&$D$9&\" and localMonth(\"&$D$12&\") =\"&$E$9&\" and LocalDay(\"&$D$12&\")=\"&$F$9&\" and Barix(\"&$D$12&\",reference:=StartOfDay)=\"&A99&\"\", \"Bar\", \"\", \"Close\",\"5\",\"0\",\"\",,,\"False\",\"T\",\"EveryTick\")","v":1301},4.6139649338658027E-4,{"$f":"RTD(\"cqg.rtd\",,\"StudyData\", \"Close(\"&$D$12&\") when LocalYear(\"&$D$12&\")=\"&$D$10&\" and localMonth(\"&$D$12&\") =\"&$E$10&\" and LocalDay(\"&$D$12&\")=\"&$F$10&\" and Barix(\"&$D$12&\",reference:=StartOfDay)=\"&A99&\"\", \"Bar\", \"\", \"Close\",\"5\",\"0\",\"\",,,\"False\",\"T\",\"EveryTick\")","v":1300.9000000000001},3.8583224014198622E-3,null,null,null,""]
[267,{"$f":"B99+0.00347222222222227","v":"15:15:00"},null,null,null,null,null,{"$f":"RTD(\"cqg.rtd\",,\"StudyData\", \"Close(\"&$D$12&\") when LocalYear(\"&$D$12&\")=\"&$D$1&\" and localMonth(\"&$D$12&\") =\"&$E$1&\" and LocalDay(\"&$D$12&\")=\"&$F$1&\" and Barix(\"&$D$12&\",reference:=StartOfDay)=\"&A100&\"\", \"Bar\", \"\", \"Close\",\"5\",\"0\",\"\",,,\"False\",\"T\",\"EveryTick\")","v":""},{"$error":"#N/A"},{"$f":"RTD(\"cqg.rtd\",,\"StudyData\", \"Close(\"&$D$12&\") when LocalYear(\"&$D$12&\")=\"&$D$2&\" and localMonth(\"&$D$12&\") =\"&$E$2&\" and LocalDay(\"&$D$12&\")=\"&$F$2&\" and Barix(\"&$D$12&\",reference:=StartOfDay)=\"&A100&\"\", \"Bar\", \"\", \"Close\",\"5\",\"0\",\"\",,,\"False\",\"T\",\"EveryTick\")","v":1282.2},-1.8148403399954088E-2,{"$f":"RTD(\"cqg.rtd\",,\"StudyData\", \"Close(\"&$D$12&\") when LocalYear(\"&$D$12&\")=\"&$D$3&\" and localMonth(\"&$D$12&\") =\"&$E$3&\" and LocalDay(\"&$D$12&\")=\"&$F$3&\" and Barix(\"&$D$12&\",reference:=StartOfDay)=\"&A100&\"\", \"Bar\", \"\", \"Close\",\"5\",\"0\",\"\",,,\"False\",\"T\",\"EveryTick\")","v":1306},2.3793076982116116E-3,{"$f":"RTD(\"cqg.rtd\",,\"StudyData\", \"Close(\"&$D$12&\") when LocalYear(\"&$D$12&\")=\"&$D$4&\" and localMonth(\"&$D$12&\") =\"&$E$4&\" and LocalDay(\"&$D$12&\")=\"&$F$4&\" and Barix(\"&$D$12&\",reference:=StartOfDay)=\"&A100&\"\", \"Bar\", \"\", \"Close\",\"5\",\"0\",\"\",,,\"False\",\"T\",\"EveryTick\")","v":1303.0999999999999},2.6931363496460452E-3,{"$f":"RTD(\"cqg.rtd\",,\"StudyData\", \"Close(\"&$D$12&\") when LocalYear(\"&$D$12&\")=\"&$D$5&\" and localMonth(\"&$D$12&\") =\"&$E$5&\" and LocalDay(\"&$D$12&\")=\"&$F$5&\" and Barix(\"&$D$12&\",reference:=StartOfDay)=\"&A100&\"\", \"Bar\", \"\", \"Close\",\"5\",\"0\",\"\",,,\"False\",\"T\",\"EveryTick\")","v":1299.7},-3.6031892057651373E-3,{"$f":"RTD(\"cqg.rtd\",,\"StudyData\", \"Close(\"&$D$12&\") when LocalYear(\"&$D$12&\")=\"&$D$6&\" and localMonth(\"&$D$12&\") =\"&$E$6&\" and LocalDay(\"&$D$12&\")=\"&$F$6&\" and Barix(\"&$D$12&\",reference:=StartOfDay)=\"&A100&\"\", \"Bar\", \"\", \"Close\",\"5\",\"0\",\"\",,,\"False\",\"T\",\"EveryTick\")","v":1304.2},5.3701572688917944E-4,{"$f":"RTD(\"cqg.rtd\",,\"StudyData\", \"Close(\"&$D$12&\") when LocalYear(\"&$D$12&\")=\"&$D$7&\" and localMonth(\"&$D$12&\") =\"&$E$7&\" and LocalDay(\"&$D$12&\")=\"&$F$7&\" and Barix(\"&$D$12&\",reference:=StartOfDay)=\"&A100&\"\", \"Bar\", \"\", \"Close\",\"5\",\"0\",\"\",,,\"False\",\"T\",\"EveryTick\")","v":1302.9000000000001},1.2295396910782575E-3,{"$f":"RTD(\"cqg.rtd\",,\"StudyData\", \"Close(\"&$D$12&\") when LocalYear(\"&$D$12&\")=\"&$D$8&\" and localMonth(\"&$D$12&\") =\"&$E$8&\" and LocalDay(\"&$D$12&\")=\"&$F$8&\" and Barix(\"&$D$12&\",reference:=StartOfDay)=\"&A100&\"\", \"Bar\", \"\", \"Close\",\"5\",\"0\",\"\",,,\"False\",\"T\",\"EveryTick\")","v":1300.9000000000001},2.3066277102889584E-4,{"$f":"RTD(\"cqg.rtd\",,\"StudyData\", \"Close(\"&$D$12&\") when LocalYear(\"&$D$12&\")=\"&$D$9&\" and localMonth(\"&$D$12&\") =\"&$E$9&\" and LocalDay(\"&$D$12&\")=\"&$F$9&\" and Barix(\"&$D$12&\",reference:=StartOfDay)=\"&A100&\"\", \"Bar\", \"\", \"Close\",\"5\",\"0\",\"\",,,\"False\",\"T\",\"EveryTick\")","v":1300.9000000000001},3.844970778222085E-4,{"$f":"RTD(\"cqg.rtd\",,\"StudyData\", \"Close(\"&$D$12&\") when LocalYear(\"&$D$12&\")=\"&$D$10&\" and localMonth(\"&$D$12&\") =\"&$E$10&\" and LocalDay(\"&$D$12&\")=\"&$F$10&\" and Barix(\"&$D$12&\",reference:=StartOfDay)=\"&A100&\"\", \"Bar\", \"\", \"Close\",\"5\",\"0\",\"\",,,\"False\",\"T\",\"EveryTick\")","v":1300.7},3.7039895053630327E-3,null,null,null,""]
[268,"15:20:00",null,null,null,null,null,{"$f":"RTD(\"cqg.rtd\",,\"StudyData\", \"Close(\"&$D$12&\") when LocalYear(\"&$D$12&\")=\"&$D$1&\" and localMonth(\"&$D$12&\") =\"&$E$1&\" and LocalDay(\"&$D$12&\")=\"&$F$1&\" and Barix(\"&$D$12&\",reference:=StartOfDay)=\"&A101&\"\", \"Bar\", \"\", \"Close\",\"5\",\"0\",\"\",,,\"False\",\"T\",\"EveryTick\")","v":""},{"$error":"#N/A"},{"$f":"RTD(\"cqg.rtd\",,\"StudyData\", \"Close(\"&$D$12&\") when LocalYear(\"&$D$12&\")=\"&$D$2&\" and localMonth(\"&$D$12&\") =\"&$E$2&\" and LocalDay(\"&$D$12&\")=\"&$F$2&\" and Barix(\"&$D$12&\",reference:=StartOfDay)=\"&A101&\"\", \"Bar\", \"\", \"Close\",\"5\",\"0\",\"\",,,\"False\",\"T\",\"EveryTick\")","v":1282.5},-1.7918676774638247E-2,{"$f":"RTD(\"cqg.rtd\",,\"StudyData\", \"Close(\"&$D$12&\") when LocalYear(\"&$D$12&\")=\"&$D$3&\" and localMonth(\"&$D$12&\") =\"&$E$3&\" and LocalDay(\"&$D$12&\")=\"&$F$3&\" and Barix(\"&$D$12&\",reference:=StartOfDay)=\"&A101&\"\", \"Bar\", \"\", \"Close\",\"5\",\"0\",\"\",,,\"False\",\"T\",\"EveryTick\")","v":1306},2.3793076982116116E-3,{"$f":"RTD(\"cqg.rtd\",,\"StudyData\", \"Close(\"&$D$12&\") when LocalYear(\"&$D$12&\")=\"&$D$4&\" and localMonth(\"&$D$12&\") =\"&$E$4&\" and LocalDay(\"&$D$12&\")=\"&$F$4&\" and Barix(\"&$D$12&\",reference:=StartOfDay)=\"&A101&\"\", \"Bar\", \"\", \"Close\",\"5\",\"0\",\"\",,,\"False\",\"T\",\"EveryTick\")","v":1302.8},2.4622960911049904E-3,{"$f":"RTD(\"cqg.rtd\",,\"StudyData\", \"Close(\"&$D$12&\") when LocalYear(\"&$D$12&\")=\"&$D$5&\" and localMonth(\"&$D$12&\") =\"&$E$5&\" and LocalDay(\"&$D$12&\")=\"&$F$5&\" and Barix(\"&$D$12&\",reference:=StartOfDay)=\"&A101&\"\", \"Bar\", \"\", \"Close\",\"5\",\"0\",\"\",,,\"False\",\"T\",\"EveryTick\")","v":1299.7},-3.6031892057651373E-3,{"$f":"RTD(\"cqg.rtd\",,\"StudyData\", \"Close(\"&$D$12&\") when LocalYear(\"&$D$12&\")=\"&$D$6&\" and localMonth(\"&$D$12&\") =\"&$E$6&\" and LocalDay(\"&$D$12&\")=\"&$F$6&\" and Barix(\"&$D$12&\",reference:=StartOfDay)=\"&A101&\"\", \"Bar\", \"\", \"Close\",\"5\",\"0\",\"\",,,\"False\",\"T\",\"EveryTick\")","v":1304.4000000000001},6.9044879171468424E-4,{"$f":"RTD(\"cqg.rtd\",,\"StudyData\", \"Close(\"&$D$12&\") when LocalYear(\"&$D$12&\")=\"&$D$7&\" and localMonth(\"&$D$12&\") =\"&$E$7&\" and LocalDay(\"&$D$12&\")=\"&$F$7&\" and Barix(\"&$D$12&\",reference:=StartOfDay)=\"&A101&\"\", \"Bar\", \"\", \"Close\",\"5\",\"0\",\"\",,,\"False\",\"T\",\"EveryTick\")","v":1303},1.3063859217705722E-3,{"$f":"RTD(\"cqg.rtd\",,\"StudyData\", \"Close(\"&$D$12&\") when LocalYear(\"&$D$12&\")=\"&$D$8&\" and localMonth(\"&$D$12&\") =\"&$E$8&\" and LocalDay(\"&$D$12&\")=\"&$F$8&\" and Barix(\"&$D$12&\",reference:=StartOfDay)=\"&A101&\"\", \"Bar\", \"\", \"Close\",\"5\",\"0\",\"\",,,\"False\",\"T\",\"EveryTick\")","v":1301},3.0755036137174456E-4,{"$f":"RTD(\"cqg.rtd\",,\"StudyData\", \"Close(\"&$D$12&\") when LocalYear(\"&$D$12&\")=\"&$D$9&\" and localMonth(\"&$D$12&\") =\"&$E$9&\" and LocalDay(\"&$D$12&\")=\"&$F$9&\" and Barix(\"&$D$12&\",reference:=StartOfDay)=\"&A101&\"\", \"Bar\", \"\", \"Close\",\"5\",\"0\",\"\",,,\"False\",\"T\",\"EveryTick\")","v":1300.9000000000001},3.844970778222085E-4,{"$f":"RTD(\"cqg.rtd\",,\"StudyData\", \"Close(\"&$D$12&\") when LocalYear(\"&$D$12&\")=\"&$D$10&\" and localMonth(\"&$D$12&\") =\"&$E$10&\" and LocalDay(\"&$D$12&\")=\"&$F$10&\" and Barix(\"&$D$12&\",reference:=StartOfDay)=\"&A101&\"\", \"Bar\", \"\", \"Close\",\"5\",\"0\",\"\",,,\"False\",\"T\",\"EveryTick\")","v":1300.9000000000001},3.8583224014198622E-3,null,null,null,""]
[269,"15:25:00",null,null,null,null,null,{"$f":"RTD(\"cqg.rtd\",,\"StudyData\", \"Close(\"&$D$12&\") when LocalYear(\"&$D$12&\")=\"&$D$1&\" and localMonth(\"&$D$12&\") =\"&$E$1&\" and LocalDay(\"&$D$12&\")=\"&$F$1&\" and Barix(\"&$D$12&\",reference:=StartOfDay)=\"&A102&\"\", \"Bar\", \"\", \"Close\",\"5\",\"0\",\"\",,,\"False\",\"T\",\"EveryTick\")","v":""},{"$error":"#N/A"},{"$f":"RTD(\"cqg.rtd\",,\"StudyData\", \"Close(\"&$D$12&\") when LocalYear(\"&$D$12&\")=\"&$D$2&\" and localMonth(\"&$D$12&\") =\"&$E$2&\" and LocalDay(\"&$D$12&\")=\"&$F$2&\" and Barix(\"&$D$12&\",reference:=StartOfDay)=\"&A102&\"\", \"Bar\", \"\", \"Close\",\"5\",\"0\",\"\",,,\"False\",\"T\",\"EveryTick\")","v":1282.9000000000001},-1.7612374607550347E-2,{"$f":"RTD(\"cqg.rtd\",,\"StudyData\", \"Close(\"&$D$12&\") when LocalYear(\"&$D$12&\")=\"&$D$3&\" and localMonth(\"&$D$12&\") =\"&$E$3&\" and LocalDay(\"&$D$12&\")=\"&$F$3&\" and Barix(\"&$D$12&\",reference:=StartOfDay)=\"&A102&\"\", \"Bar\", \"\", \"Close\",\"5\",\"0\",\"\",,,\"False\",\"T\",\"EveryTick\")","v":1306},2.3793076982116116E-3,{"$f":"RTD(\"cqg.rtd\",,\"StudyData\", \"Close(\"&$D$12&\") when LocalYear(\"&$D$12&\")=\"&$D$4&\" and localMonth(\"&$D$12&\") =\"&$E$4&\" and LocalDay(\"&$D$12&\")=\"&$F$4&\" and Barix(\"&$D$12&\",reference:=StartOfDay)=\"&A102&\"\", \"Bar\", \"\", \"Close\",\"5\",\"0\",\"\",,,\"False\",\"T\",\"EveryTick\")","v":1302.7},2.3853493382580307E-3,{"$f":"RTD(\"cqg.rtd\",,\"StudyData\", \"Close(\"&$D$12&\") when LocalYear(\"&$D$12&\")=\"&$D$5&\" and localMonth(\"&$D$12&\") =\"&$E$5&\" and LocalDay(\"&$D$12&\")=\"&$F$5&\" and Barix(\"&$D$12&\",reference:=StartOfDay)=\"&A102&\"\", \"Bar\", \"\", \"Close\",\"5\",\"0\",\"\",,,\"False\",\"T\",\"EveryTick\")","v":1299.7},-3.6031892057651373E-3,{"$f":"RTD(\"cqg.rtd\",,\"StudyData\", \"Close(\"&$D$12&\") when LocalYear(\"&$D$12&\")=\"&$D$6&\" and localMonth(\"&$D$12&\") =\"&$E$6&\" and LocalDay(\"&$D$12&\")=\"&$F$6&\" and Barix(\"&$D$12&\",reference:=StartOfDay)=\"&A102&\"\", \"Bar\", \"\", \"Close\",\"5\",\"0\",\"\",,,\"False\",\"T\",\"EveryTick\")","v":1304.3},6.1373225930184462E-4,{"$f":"RTD(\"cqg.rtd\",,\"StudyData\", \"Close(\"&$D$12&\") when LocalYear(\"&$D$12&\")=\"&$D$7&\" and localMonth(\"&$D$12&\") =\"&$E$7&\" and LocalDay(\"&$D$12&\")=\"&$F$7&\" and Barix(\"&$D$12&\",reference:=StartOfDay)=\"&A102&\"\", \"Bar\", \"\", \"Close\",\"5\",\"0\",\"\",,,\"False\",\"T\",\"EveryTick\")","v":1303},1.3063859217705722E-3,{"$f":"RTD(\"cqg.rtd\",,\"StudyData\", \"Close(\"&$D$12&\") when LocalYear(\"&$D$12&\")=\"&$D$8&\" and localMonth(\"&$D$12&\") =\"&$E$8&\" and LocalDay(\"&$D$12&\")=\"&$F$8&\" and Barix(\"&$D$12&\",reference:=StartOfDay)=\"&A102&\"\", \"Bar\", \"\", \"Close\",\"5\",\"0\",\"\",,,\"False\",\"T\",\"EveryTick\")","v":1300.8},1.5377518068587228E-4,{"$f":"RTD(\"cqg.rtd\",,\"StudyData\", \"Close(\"&$D$12&\") when LocalYear(\"&$D$12&\")=\"&$D$9&\" and localMonth(\"&$D$12&\") =\"&$E$9&\" and LocalDay(\"&$D$12&\")=\"&$F$9&\" and Barix(\"&$D$12&\",reference:=StartOfDay)=\"&A102&\"\", \"Bar\", \"\", \"Close\",\"5\",\"0\",\"\",,,\"False\",\"T\",\"EveryTick\")","v":1300.8},3.0759766225766191E-4,{"$f":"RTD(\"cqg.rtd\",,\"StudyData\", \"Close(\"&$D$12&\") when LocalYear(\"&$D$12&\")=\"&$D$10&\" and localMonth(\"&$D$12&\") =\"&$E$10&\" and LocalDay(\"&$D$12&\")=\"&$F$10&\" and Barix(\"&$D$12&\",reference:=StartOfDay)=\"&A102&\"\", \"Bar\", \"\", \"Close\",\"5\",\"0\",\"\",,,\"False\",\"T\",\"EveryTick\")","v":1300.8},3.7811559533913598E-3,null,null,null,""]
[270,"15:30:00",null,null,null,null,null,{"$f":"RTD(\"cqg.rtd\",,\"StudyData\", \"Close(\"&$D$12&\") when LocalYear(\"&$D$12&\")=\"&$D$1&\" and localMonth(\"&$D$12&\") =\"&$E$1&\" and LocalDay(\"&$D$12&\")=\"&$F$1&\" and Barix(\"&$D$12&\",reference:=StartOfDay)=\"&A103&\"\", \"Bar\", \"\", \"Close\",\"5\",\"0\",\"\",,,\"False\",\"T\",\"EveryTick\")","v":""},{"$error":"#N/A"},{"$f":"RTD(\"cqg.rtd\",,\"StudyData\", \"Close(\"&$D$12&\") when LocalYear(\"&$D$12&\")=\"&$D$2&\" and localMonth(\"&$D$12&\") =\"&$E$2&\" and LocalDay(\"&$D$12&\")=\"&$F$2&\" and Barix(\"&$D$12&\",reference:=StartOfDay)=\"&A103&\"\", \"Bar\", \"\", \"Close\",\"5\",\"0\",\"\",,,\"False\",\"T\",\"EveryTick\")","v":1282.5999999999999},-1.7842101232866361E-2,{"$f":"RTD(\"cqg.rtd\",,\"StudyData\", \"Close(\"&$D$12&\") when LocalYear(\"&$D$12&\")=\"&$D$3&\" and localMonth(\"&$D$12&\") =\"&$E$3&\" and LocalDay(\"&$D$12&\")=\"&$F$3&\" and Barix(\"&$D$12&\",reference:=StartOfDay)=\"&A103&\"\", \"Bar\", \"\", \"Close\",\"5\",\"0\",\"\",,,\"False\",\"T\",\"EveryTick\")","v":1306.2},2.5328114206769163E-3,{"$f":"RTD(\"cqg.rtd\",,\"StudyData\", \"Close(\"&$D$12&\") when LocalYear(\"&$D$12&\")=\"&$D$4&\" and localMonth(\"&$D$12&\") =\"&$E$4&\" and LocalDay(\"&$D$12&\")=\"&$F$4&\" and Barix(\"&$D$12&\",reference:=StartOfDay)=\"&A103&\"\", \"Bar\", \"\", \"Close\",\"5\",\"0\",\"\",,,\"False\",\"T\",\"EveryTick\")","v":1302.8},2.4622960911049904E-3,{"$f":"RTD(\"cqg.rtd\",,\"StudyData\", \"Close(\"&$D$12&\") when LocalYear(\"&$D$12&\")=\"&$D$5&\" and localMonth(\"&$D$12&\") =\"&$E$5&\" and LocalDay(\"&$D$12&\")=\"&$F$5&\" and Barix(\"&$D$12&\",reference:=StartOfDay)=\"&A103&\"\", \"Bar\", \"\", \"Close\",\"5\",\"0\",\"\",,,\"False\",\"T\",\"EveryTick\")","v":1299.5},-3.7565164060104957E-3,{"$f":"RTD(\"cqg.rtd\",,\"StudyData\", \"Close(\"&$D$12&\") when LocalYear(\"&$D$12&\")=\"&$D$6&\" and localMonth(\"&$D$12&\") =\"&$E$6&\" and LocalDay(\"&$D$12&\")=\"&$F$6&\" and Barix(\"&$D$12&\",reference:=StartOfDay)=\"&A103&\"\", \"Bar\", \"\", \"Close\",\"5\",\"0\",\"\",,,\"False\",\"T\",\"EveryTick\")","v":1304.3},6.1373225930184462E-4,{"$f":"RTD(\"cqg.rtd\",,\"StudyData\", \"Close(\"&$D$12&\") when LocalYear(\"&$D$12&\")=\"&$D$7&\" and localMonth(\"&$D$12&\") =\"&$E$7&\" and LocalDay(\"&$D$12&\")=\"&$F$7&\" and Barix(\"&$D$12&\",reference:=StartOfDay)=\"&A103&\"\", \"Bar\", \"\", \"Close\",\"5\",\"0\",\"\",,,\"False\",\"T\",\"EveryTick\")","v":1303.0999999999999},1.3832321524628868E-3,{"$f":"RTD(\"cqg.rtd\",,\"StudyData\", \"Close(\"&$D$12&\") when LocalYear(\"&$D$12&\")=\"&$D$8&\" and localMonth(\"&$D$12&\") =\"&$E$8&\" and LocalDay(\"&$D$12&\")=\"&$F$8&\" and Barix(\"&$D$12&\",reference:=StartOfDay)=\"&A103&\"\", \"Bar\", \"\", \"Close\",\"5\",\"0\",\"\",,,\"False\",\"T\",\"EveryTick\")","v":1301.0999999999999},3.8443795171459332E-4,{"$f":"RTD(\"cqg.rtd\",,\"StudyData\", \"Close(\"&$D$12&\") when LocalYear(\"&$D$12&\")=\"&$D$9&\" and localMonth(\"&$D$12&\") =\"&$E$9&\" and LocalDay(\"&$D$12&\")=\"&$F$9&\" and Barix(\"&$D$12&\",reference:=StartOfDay)=\"&A103&\"\", \"Bar\", \"\", \"Close\",\"5\",\"0\",\"\",,,\"False\",\"T\",\"EveryTick\")","v":1300.7},2.3069824669329014E-4,{"$f":"RTD(\"cqg.rtd\",,\"StudyData\", \"Close(\"&$D$12&\") when LocalYear(\"&$D$12&\")=\"&$D$10&\" and localMonth(\"&$D$12&\") =\"&$E$10&\" and LocalDay(\"&$D$12&\")=\"&$F$10&\" and Barix(\"&$D$12&\",reference:=StartOfDay)=\"&A103&\"\", \"Bar\", \"\", \"Close\",\"5\",\"0\",\"\",,,\"False\",\"T\",\"EveryTick\")","v":1300.9000000000001},3.8583224014198622E-3,null,null,null,""]
[271,{"$f":"B103+0.00347222222222227","v":"15:35:00"},null,null,null,null,null,{"$f":"RTD(\"cqg.rtd\",,\"StudyData\", \"Close(\"&$D$12&\") when LocalYear(\"&$D$12&\")=\"&$D$1&\" and localMonth(\"&$D$12&\") =\"&$E$1&\" and LocalDay(\"&$D$12&\")=\"&$F$1&\" and Barix(\"&$D$12&\",reference:=StartOfDay)=\"&A104&\"\", \"Bar\", \"\", \"Close\",\"5\",\"0\",\"\",,,\"False\",\"T\",\"EveryTick\")","v":""},{"$error":"#N/A"},{"$f":"RTD(\"cqg.rtd\",,\"StudyData\", \"Close(\"&$D$12&\") when LocalYear(\"&$D$12&\")=\"&$D$2&\" and localMonth(\"&$D$12&\") =\"&$E$2&\" and LocalDay(\"&$D$12&\")=\"&$F$2&\" and Barix(\"&$D$12&\",reference:=StartOfDay)=\"&A104&\"\", \"Bar\", \"\", \"Close\",\"5\",\"0\",\"\",,,\"False\",\"T\",\"EveryTick\")","v":1282.4000000000001},-1.7995252316410137E-2,{"$f":"RTD(\"cqg.rtd\",,\"StudyData\", \"Close(\"&$D$12&\") when LocalYear(\"&$D$12&\")=\"&$D$3&\" and localMonth(\"&$D$12&\") =\"&$E$3&\" and LocalDay(\"&$D$12&\")=\"&$F$3&\" and Barix(\"&$D$12&\",reference:=StartOfDay)=\"&A104&\"\", \"Bar\", \"\", \"Close\",\"5\",\"0\",\"\",,,\"False\",\"T\",\"EveryTick\")","v":1306.2},2.5328114206769163E-3,{"$f":"RTD(\"cqg.rtd\",,\"StudyData\", \"Close(\"&$D$12&\") when LocalYear(\"&$D$12&\")=\"&$D$4&\" and localMonth(\"&$D$12&\") =\"&$E$4&\" and LocalDay(\"&$D$12&\")=\"&$F$4&\" and Barix(\"&$D$12&\",reference:=StartOfDay)=\"&A104&\"\", \"Bar\", \"\", \"Close\",\"5\",\"0\",\"\",,,\"False\",\"T\",\"EveryTick\")","v":1302.8},2.4622960911049904E-3,{"$f":"RTD(\"cqg.rtd\",,\"StudyData\", \"Close(\"&$D$12&\") when LocalYear(\"&$D$12&\")=\"&$D$5&\" and localMonth(\"&$D$12&\") =\"&$E$5&\" and LocalDay(\"&$D$12&\")=\"&$F$5&\" and Barix(\"&$D$12&\",reference:=StartOfDay)=\"&A104&\"\", \"Bar\", \"\", \"Close\",\"5\",\"0\",\"\",,,\"False\",\"T\",\"EveryTick\")","v":1299.3},-3.9098436062558542E-3,{"$f":"RTD(\"cqg.rtd\",,\"StudyData\", \"Close(\"&$D$12&\") when LocalYear(\"&$D$12&\")=\"&$D$6&\" and localMonth(\"&$D$12&\") =\"&$E$6&\" and LocalDay(\"&$D$12&\")=\"&$F$6&\" and Barix(\"&$D$12&\",reference:=StartOfDay)=\"&A104&\"\", \"Bar\", \"\", \"Close\",\"5\",\"0\",\"\",,,\"False\",\"T\",\"EveryTick\")","v":1304.4000000000001},6.9044879171468424E-4,{"$f":"RTD(\"cqg.rtd\",,\"StudyData\", \"Close(\"&$D$12&\") when LocalYear(\"&$D$12&\")=\"&$D$7&\" and localMonth(\"&$D$12&\") =\"&$E$7&\" and LocalDay(\"&$D$12&\")=\"&$F$7&\" and Barix(\"&$D$12&\",reference:=StartOfDay)=\"&A104&\"\", \"Bar\", \"\", \"Close\",\"5\",\"0\",\"\",,,\"False\",\"T\",\"EveryTick\")","v":1302.9000000000001},1.2295396910782575E-3,{"$f":"RTD(\"cqg.rtd\",,\"StudyData\", \"Close(\"&$D$12&\") when LocalYear(\"&$D$12&\")=\"&$D$8&\" and localMonth(\"&$D$12&\") =\"&$E$8&\" and LocalDay(\"&$D$12&\")=\"&$F$8&\" and Barix(\"&$D$12&\",reference:=StartOfDay)=\"&A104&\"\", \"Bar\", \"\", \"Close\",\"5\",\"0\",\"\",,,\"False\",\"T\",\"EveryTick\")","v":1301.4000000000001},6.1510072274348912E-4,{"$f":"RTD(\"cqg.rtd\",,\"StudyData\", \"Close(\"&$D$12&\") when LocalYear(\"&$D$12&\")=\"&$D$9&\" and localMonth(\"&$D$12&\") =\"&$E$9&\" and LocalDay(\"&$D$12&\")=\"&$F$9&\" and Barix(\"&$D$12&\",reference:=StartOfDay)=\"&A104&\"\", \"Bar\", \"\", \"Close\",\"5\",\"0\",\"\",,,\"False\",\"T\",\"EveryTick\")","v":1300.5999999999999},1.5379883112874354E-4,{"$f":"RTD(\"cqg.rtd\",,\"StudyData\", \"Close(\"&$D$12&\") when LocalYear(\"&$D$12&\")=\"&$D$10&\" and localMonth(\"&$D$12&\") =\"&$E$10&\" and LocalDay(\"&$D$12&\")=\"&$F$10&\" and Barix(\"&$D$12&\",reference:=StartOfDay)=\"&A104&\"\", \"Bar\", \"\", \"Close\",\"5\",\"0\",\"\",,,\"False\",\"T\",\"EveryTick\")","v":1300.9000000000001},3.8583224014198622E-3,null,null,null,""]
[272,"15:40:00",null,null,null,null,null,{"$f":"RTD(\"cqg.rtd\",,\"StudyData\", \"Close(\"&$D$12&\") when LocalYear(\"&$D$12&\")=\"&$D$1&\" and localMonth(\"&$D$12&\") =\"&$E$1&\" and LocalDay(\"&$D$12&\")=\"&$F$1&\" and Barix(\"&$D$12&\",reference:=StartOfDay)=\"&A105&\"\", \"Bar\", \"\", \"Close\",\"5\",\"0\",\"\",,,\"False\",\"T\",\"EveryTick\")","v":""},{"$error":"#N/A"},{"$f":"RTD(\"cqg.rtd\",,\"StudyData\", \"Close(\"&$D$12&\") when LocalYear(\"&$D$12&\")=\"&$D$2&\" and localMonth(\"&$D$12&\") =\"&$E$2&\" and LocalDay(\"&$D$12&\")=\"&$F$2&\" and Barix(\"&$D$12&\",reference:=StartOfDay)=\"&A105&\"\", \"Bar\", \"\", \"Close\",\"5\",\"0\",\"\",,,\"False\",\"T\",\"EveryTick\")","v":1282.5},-1.7918676774638247E-2,{"$f":"RTD(\"cqg.rtd\",,\"StudyData\", \"Close(\"&$D$12&\") when LocalYear(\"&$D$12&\")=\"&$D$3&\" and localMonth(\"&$D$12&\") =\"&$E$3&\" and LocalDay(\"&$D$12&\")=\"&$F$3&\" and Barix(\"&$D$12&\",reference:=StartOfDay)=\"&A105&\"\", \"Bar\", \"\", \"Close\",\"5\",\"0\",\"\",,,\"False\",\"T\",\"EveryTick\")","v":1306},2.3793076982116116E-3,{"$f":"RTD(\"cqg.rtd\",,\"StudyData\", \"Close(\"&$D$12&\") when LocalYear(\"&$D$12&\")=\"&$D$4&\" and localMonth(\"&$D$12&\") =\"&$E$4&\" and LocalDay(\"&$D$12&\")=\"&$F$4&\" and Barix(\"&$D$12&\",reference:=StartOfDay)=\"&A105&\"\", \"Bar\", \"\", \"Close\",\"5\",\"0\",\"\",,,\"False\",\"T\",\"EveryTick\")","v":1303},2.6161895967990851E-3,{"$f":"RTD(\"cqg.rtd\",,\"StudyData\", \"Close(\"&$D$12&\") when LocalYear(\"&$D$12&\")=\"&$D$5&\" and localMonth(\"&$D$12&\") =\"&$E$5&\" and LocalDay(\"&$D$12&\")=\"&$F$5&\" and Barix(\"&$D$12&\",reference:=StartOfDay)=\"&A105&\"\", \"Bar\", \"\", \"Close\",\"5\",\"0\",\"\",,,\"False\",\"T\",\"EveryTick\")","v":1299.2},-3.9865072063784458E-3,{"$f":"RTD(\"cqg.rtd\",,\"StudyData\", \"Close(\"&$D$12&\") when LocalYear(\"&$D$12&\")=\"&$D$6&\" and localMonth(\"&$D$12&\") =\"&$E$6&\" and LocalDay(\"&$D$12&\")=\"&$F$6&\" and Barix(\"&$D$12&\",reference:=StartOfDay)=\"&A105&\"\", \"Bar\", \"\", \"Close\",\"5\",\"0\",\"\",,,\"False\",\"T\",\"EveryTick\")","v":1304.4000000000001},6.9044879171468424E-4,{"$f":"RTD(\"cqg.rtd\",,\"StudyData\", \"Close(\"&$D$12&\") when LocalYear(\"&$D$12&\")=\"&$D$7&\" and localMonth(\"&$D$12&\") =\"&$E$7&\" and LocalDay(\"&$D$12&\")=\"&$F$7&\" and Barix(\"&$D$12&\",reference:=StartOfDay)=\"&A105&\"\", \"Bar\", \"\", \"Close\",\"5\",\"0\",\"\",,,\"False\",\"T\",\"EveryTick\")","v":1303.0999999999999},1.3832321524628868E-3,{"$f":"RTD(\"cqg.rtd\",,\"StudyData\", \"Close(\"&$D$12&\") when LocalYear(\"&$D$12&\")=\"&$D$8&\" and localMonth(\"&$D$12&\") =\"&$E$8&\" and LocalDay(\"&$D$12&\")=\"&$F$8&\" and Barix(\"&$D$12&\",reference:=StartOfDay)=\"&A105&\"\", \"Bar\", \"\", \"Close\",\"5\",\"0\",\"\",,,\"False\",\"T\",\"EveryTick\")","v":1301.5},6.9198831308633782E-4,{"$f":"RTD(\"cqg.rtd\",,\"StudyData\", \"Close(\"&$D$12&\") when LocalYear(\"&$D$12&\")=\"&$D$9&\" and localMonth(\"&$D$12&\") =\"&$E$9&\" and LocalDay(\"&$D$12&\")=\"&$F$9&\" and Barix(\"&$D$12&\",reference:=StartOfDay)=\"&A105&\"\", \"Bar\", \"\", \"Close\",\"5\",\"0\",\"\",,,\"False\",\"T\",\"EveryTick\")","v":1300.8},3.0759766225766191E-4,{"$f":"RTD(\"cqg.rtd\",,\"StudyData\", \"Close(\"&$D$12&\") when LocalYear(\"&$D$12&\")=\"&$D$10&\" and localMonth(\"&$D$12&\") =\"&$E$10&\" and LocalDay(\"&$D$12&\")=\"&$F$10&\" and Barix(\"&$D$12&\",reference:=StartOfDay)=\"&A105&\"\", \"Bar\", \"\", \"Close\",\"5\",\"0\",\"\",,,\"False\",\"T\",\"EveryTick\")","v":1300.9000000000001},3.8583224014198622E-3,null,null,null,""]
[273,"15:45:00",null,null,null,null,null,{"$f":"RTD(\"cqg.rtd\",,\"StudyData\", \"Close(\"&$D$12&\") when LocalYear(\"&$D$12&\")=\"&$D$1&\" and localMonth(\"&$D$12&\") =\"&$E$1&\" and LocalDay(\"&$D$12&\")=\"&$F$1&\" and Barix(\"&$D$12&\",reference:=StartOfDay)=\"&A106&\"\", \"Bar\", \"\", \"Close\",\"5\",\"0\",\"\",,,\"False\",\"T\",\"EveryTick\")","v":""},{"$error":"#N/A"},{"$f":"RTD(\"cqg.rtd\",,\"StudyData\", \"Close(\"&$D$12&\") when LocalYear(\"&$D$12&\")=\"&$D$2&\" and localMonth(\"&$D$12&\") =\"&$E$2&\" and LocalDay(\"&$D$12&\")=\"&$F$2&\" and Barix(\"&$D$12&\",reference:=StartOfDay)=\"&A106&\"\", \"Bar\", \"\", \"Close\",\"5\",\"0\",\"\",,,\"False\",\"T\",\"EveryTick\")","v":1281.9000000000001},-1.8378130025269928E-2,{"$f":"RTD(\"cqg.rtd\",,\"StudyData\", \"Close(\"&$D$12&\") when LocalYear(\"&$D$12&\")=\"&$D$3&\" and localMonth(\"&$D$12&\") =\"&$E$3&\" and LocalDay(\"&$D$12&\")=\"&$F$3&\" and Barix(\"&$D$12&\",reference:=StartOfDay)=\"&A106&\"\", \"Bar\", \"\", \"Close\",\"5\",\"0\",\"\",,,\"False\",\"T\",\"EveryTick\")","v":1305.9000000000001},2.3025558369790464E-3,{"$f":"RTD(\"cqg.rtd\",,\"StudyData\", \"Close(\"&$D$12&\") when LocalYear(\"&$D$12&\")=\"&$D$4&\" and localMonth(\"&$D$12&\") =\"&$E$4&\" and LocalDay(\"&$D$12&\")=\"&$F$4&\" and Barix(\"&$D$12&\",reference:=StartOfDay)=\"&A106&\"\", \"Bar\", \"\", \"Close\",\"5\",\"0\",\"\",,,\"False\",\"T\",\"EveryTick\")","v":1303.0999999999999},2.6931363496460452E-3,{"$f":"RTD(\"cqg.rtd\",,\"StudyData\", \"Close(\"&$D$12&\") when LocalYear(\"&$D$12&\")=\"&$D$5&\" and localMonth(\"&$D$12&\") =\"&$E$5&\" and LocalDay(\"&$D$12&\")=\"&$F$5&\" and Barix(\"&$D$12&\",reference:=StartOfDay)=\"&A106&\"\", \"Bar\", \"\", \"Close\",\"5\",\"0\",\"\",,,\"False\",\"T\",\"EveryTick\")","v":1299.2},-3.9865072063784458E-3,{"$f":"RTD(\"cqg.rtd\",,\"StudyData\", \"Close(\"&$D$12&\") when LocalYear(\"&$D$12&\")=\"&$D$6&\" and localMonth(\"&$D$12&\") =\"&$E$6&\" and LocalDay(\"&$D$12&\")=\"&$F$6&\" and Barix(\"&$D$12&\",reference:=StartOfDay)=\"&A106&\"\", \"Bar\", \"\", \"Close\",\"5\",\"0\",\"\",,,\"False\",\"T\",\"EveryTick\")","v":1304.5999999999999},8.4388185654001458E-4,{"$f":"RTD(\"cqg.rtd\",,\"StudyData\", \"Close(\"&$D$12&\") when LocalYear(\"&$D$12&\")=\"&$D$7&\" and localMonth(\"&$D$12&\") =\"&$E$7&\" and LocalDay(\"&$D$12&\")=\"&$F$7&\" and Barix(\"&$D$12&\",reference:=StartOfDay)=\"&A106&\"\", \"Bar\", \"\", \"Close\",\"5\",\"0\",\"\",,,\"False\",\"T\",\"EveryTick\")","v":1303},1.3063859217705722E-3,{"$f":"RTD(\"cqg.rtd\",,\"StudyData\", \"Close(\"&$D$12&\") when LocalYear(\"&$D$12&\")=\"&$D$8&\" and localMonth(\"&$D$12&\") =\"&$E$8&\" and LocalDay(\"&$D$12&\")=\"&$F$8&\" and Barix(\"&$D$12&\",reference:=StartOfDay)=\"&A106&\"\", \"Bar\", \"\", \"Close\",\"5\",\"0\",\"\",,,\"False\",\"T\",\"EveryTick\")","v":1301.2},4.6132554205761684E-4,{"$f":"RTD(\"cqg.rtd\",,\"StudyData\", \"Close(\"&$D$12&\") when LocalYear(\"&$D$12&\")=\"&$D$9&\" and localMonth(\"&$D$12&\") =\"&$E$9&\" and LocalDay(\"&$D$12&\")=\"&$F$9&\" and Barix(\"&$D$12&\",reference:=StartOfDay)=\"&A106&\"\", \"Bar\", \"\", \"Close\",\"5\",\"0\",\"\",,,\"False\",\"T\",\"EveryTick\")","v":1301},4.6139649338658027E-4,{"$f":"RTD(\"cqg.rtd\",,\"StudyData\", \"Close(\"&$D$12&\") when LocalYear(\"&$D$12&\")=\"&$D$10&\" and localMonth(\"&$D$12&\") =\"&$E$10&\" and LocalDay(\"&$D$12&\")=\"&$F$10&\" and Barix(\"&$D$12&\",reference:=StartOfDay)=\"&A106&\"\", \"Bar\", \"\", \"Close\",\"5\",\"0\",\"\",,,\"False\",\"T\",\"EveryTick\")","v":1300.8},3.7811559533913598E-3,null,null,null,""]
[274,"15:50:00",null,null,null,null,null,{"$f":"RTD(\"cqg.rtd\",,\"StudyData\", \"Close(\"&$D$12&\") when LocalYear(\"&$D$12&\")=\"&$D$1&\" and localMonth(\"&$D$12&\") =\"&$E$1&\" and LocalDay(\"&$D$12&\")=\"&$F$1&\" and Barix(\"&$D$12&\",reference:=StartOfDay)=\"&A107&\"\", \"Bar\", \"\", \"Close\",\"5\",\"0\",\"\",,,\"False\",\"T\",\"EveryTick\")","v":""},{"$error":"#N/A"},{"$f":"RTD(\"cqg.rtd\",,\"StudyData\", \"Close(\"&$D$12&\") when LocalYear(\"&$D$12&\")=\"&$D$2&\" and localMonth(\"&$D$12&\") =\"&$E$2&\" and LocalDay(\"&$D$12&\")=\"&$F$2&\" and Barix(\"&$D$12&\",reference:=StartOfDay)=\"&A107&\"\", \"Bar\", \"\", \"Close\",\"5\",\"0\",\"\",,,\"False\",\"T\",\"EveryTick\")","v":1282.8},-1.768895014932241E-2,{"$f":"RTD(\"cqg.rtd\",,\"StudyData\", \"Close(\"&$D$12&\") when LocalYear(\"&$D$12&\")=\"&$D$3&\" and localMonth(\"&$D$12&\") =\"&$E$3&\" and LocalDay(\"&$D$12&\")=\"&$F$3&\" and Barix(\"&$D$12&\",reference:=StartOfDay)=\"&A107&\"\", \"Bar\", \"\", \"Close\",\"5\",\"0\",\"\",,,\"False\",\"T\",\"EveryTick\")","v":1305.9000000000001},2.3025558369790464E-3,{"$f":"RTD(\"cqg.rtd\",,\"StudyData\", \"Close(\"&$D$12&\") when LocalYear(\"&$D$12&\")=\"&$D$4&\" and localMonth(\"&$D$12&\") =\"&$E$4&\" and LocalDay(\"&$D$12&\")=\"&$F$4&\" and Barix(\"&$D$12&\",reference:=StartOfDay)=\"&A107&\"\", \"Bar\", \"\", \"Close\",\"5\",\"0\",\"\",,,\"False\",\"T\",\"EveryTick\")","v":1303.2},2.7700831024931797E-3,{"$f":"RTD(\"cqg.rtd\",,\"StudyData\", \"Close(\"&$D$12&\") when LocalYear(\"&$D$12&\")=\"&$D$5&\" and localMonth(\"&$D$12&\") =\"&$E$5&\" and LocalDay(\"&$D$12&\")=\"&$F$5&\" and Barix(\"&$D$12&\",reference:=StartOfDay)=\"&A107&\"\", \"Bar\", \"\", \"Close\",\"5\",\"0\",\"\",,,\"False\",\"T\",\"EveryTick\")","v":1299.4000000000001},-3.8331800061330878E-3,{"$f":"RTD(\"cqg.rtd\",,\"StudyData\", \"Close(\"&$D$12&\") when LocalYear(\"&$D$12&\")=\"&$D$6&\" and localMonth(\"&$D$12&\") =\"&$E$6&\" and LocalDay(\"&$D$12&\")=\"&$F$6&\" and Barix(\"&$D$12&\",reference:=StartOfDay)=\"&A107&\"\", \"Bar\", \"\", \"Close\",\"5\",\"0\",\"\",,,\"False\",\"T\",\"EveryTick\")","v":1304.5999999999999},8.4388185654001458E-4,{"$f":"RTD(\"cqg.rtd\",,\"StudyData\", \"Close(\"&$D$12&\") when LocalYear(\"&$D$12&\")=\"&$D$7&\" and localMonth(\"&$D$12&\") =\"&$E$7&\" and LocalDay(\"&$D$12&\")=\"&$F$7&\" and Barix(\"&$D$12&\",reference:=StartOfDay)=\"&A107&\"\", \"Bar\", \"\", \"Close\",\"5\",\"0\",\"\",,,\"False\",\"T\",\"EveryTick\")","v":1302.9000000000001},1.2295396910782575E-3,{"$f":"RTD(\"cqg.rtd\",,\"StudyData\", \"Close(\"&$D$12&\") when LocalYear(\"&$D$12&\")=\"&$D$8&\" and localMonth(\"&$D$12&\") =\"&$E$8&\" and LocalDay(\"&$D$12&\")=\"&$F$8&\" and Barix(\"&$D$12&\",reference:=StartOfDay)=\"&A107&\"\", \"Bar\", \"\", \"Close\",\"5\",\"0\",\"\",,,\"False\",\"T\",\"EveryTick\")","v":1300.9000000000001},2.3066277102889584E-4,{"$f":"RTD(\"cqg.rtd\",,\"StudyData\", \"Close(\"&$D$12&\") when LocalYear(\"&$D$12&\")=\"&$D$9&\" and localMonth(\"&$D$12&\") =\"&$E$9&\" and LocalDay(\"&$D$12&\")=\"&$F$9&\" and Barix(\"&$D$12&\",reference:=StartOfDay)=\"&A107&\"\", \"Bar\", \"\", \"Close\",\"5\",\"0\",\"\",,,\"False\",\"T\",\"EveryTick\")","v":1300.3},-7.6899415564546611E-5,{"$f":"RTD(\"cqg.rtd\",,\"StudyData\", \"Close(\"&$D$12&\") when LocalYear(\"&$D$12&\")=\"&$D$10&\" and localMonth(\"&$D$12&\") =\"&$E$10&\" and LocalDay(\"&$D$12&\")=\"&$F$10&\" and Barix(\"&$D$12&\",reference:=StartOfDay)=\"&A107&\"\", \"Bar\", \"\", \"Close\",\"5\",\"0\",\"\",,,\"False\",\"T\",\"EveryTick\")","v":1300.9000000000001},3.8583224014198622E-3,null,null,null,""]
[275,"15:55:00",null,null,null,null,null,{"$f":"RTD(\"cqg.rtd\",,\"StudyData\", \"Close(\"&$D$12&\") when LocalYear(\"&$D$12&\")=\"&$D$1&\" and localMonth(\"&$D$12&\") =\"&$E$1&\" and LocalDay(\"&$D$12&\")=\"&$F$1&\" and Barix(\"&$D$12&\",reference:=StartOfDay)=\"&A108&\"\", \"Bar\", \"\", \"Close\",\"5\",\"0\",\"\",,,\"False\",\"T\",\"EveryTick\")","v":""},{"$f":"IFERROR((H108-$G$2)/$G$2,NA())","v":{"$error":"#N/A"}},{"$f":"RTD(\"cqg.rtd\",,\"StudyData\", \"Close(\"&$D$12&\") when LocalYear(\"&$D$12&\")=\"&$D$2&\" and localMonth(\"&$D$12&\") =\"&$E$2&\" and LocalDay(\"&$D$12&\")=\"&$F$2&\" and Barix(\"&$D$12&\",reference:=StartOfDay)=\"&A108&\"\", \"Bar\", \"\", \"Close\",\"5\",\"0\",\"\",,,\"False\",\"T\",\"EveryTick\")","v":1282},{"$f":"IFERROR((J108-$G$3)/$G$3,NA())","v":-1.8301554483498038E-2},{"$f":"RTD(\"cqg.rtd\",,\"StudyData\", \"Close(\"&$D$12&\") when LocalYear(\"&$D$12&\")=\"&$D$3&\" and localMonth(\"&$D$12&\") =\"&$E$3&\" and LocalDay(\"&$D$12&\")=\"&$F$3&\" and Barix(\"&$D$12&\",reference:=StartOfDay)=\"&A108&\"\", \"Bar\", \"\", \"Close\",\"5\",\"0\",\"\",,,\"False\",\"T\",\"EveryTick\")","v":1305.9000000000001},{"$f":"IFERROR((L108-$G$4)/$G$4,NA())","v":2.3025558369790464E-3},{"$f":"RTD(\"cqg.rtd\",,\"StudyData\", \"Close(\"&$D$12&\") when LocalYear(\"&$D$12&\")=\"&$D$4&\" and localMonth(\"&$D$12&\") =\"&$E$4&\" and LocalDay(\"&$D$12&\")=\"&$F$4&\" and Barix(\"&$D$12&\",reference:=StartOfDay)=\"&A108&\"\", \"Bar\", \"\", \"Close\",\"5\",\"0\",\"\",,,\"False\",\"T\",\"EveryTick\")","v":1302.9000000000001},{"$f":"IFERROR((N108-$G$5)/$G$5,NA())","v":2.5392428439521253E-3},{"$f":"RTD(\"cqg.rtd\",,\"StudyData\", \"Close(\"&$D$12&\") when LocalYear(\"&$D$12&\")=\"&$D$5&\" and localMonth(\"&$D$12&\") =\"&$E$5&\" and LocalDay(\"&$D$12&\")=\"&$F$5&\" and Barix(\"&$D$12&\",reference:=StartOfDay)=\"&A108&\"\", \"Bar\", \"\", \"Close\",\"5\",\"0\",\"\",,,\"False\",\"T\",\"EveryTick\")","v":1299.5999999999999},{"$f":"IFERROR((P108-$G$6)/$G$6,NA())","v":-3.6798528058879037E-3},{"$f":"RTD(\"cqg.rtd\",,\"StudyData\", \"Close(\"&$D$12&\") when LocalYear(\"&$D$12&\")=\"&$D$6&\" and localMonth(\"&$D$12&\") =\"&$E$6&\" and LocalDay(\"&$D$12&\")=\"&$F$6&\" and Barix(\"&$D$12&\",reference:=StartOfDay)=\"&A108&\"\", \"Bar\", \"\", \"Close\",\"5\",\"0\",\"\",,,\"False\",\"T\",\"EveryTick\")","v":1304.4000000000001},{"$f":"IFERROR((R108-$G$7)/$G$7,NA())","v":6.9044879171468424E-4},{"$f":"RTD(\"cqg.rtd\",,\"StudyData\", \"Close(\"&$D$12&\") when LocalYear(\"&$D$12&\")=\"&$D$7&\" and localMonth(\"&$D$12&\") =\"&$E$7&\" and LocalDay(\"&$D$12&\")=\"&$F$7&\" and Barix(\"&$D$12&\",reference:=StartOfDay)=\"&A108&\"\", \"Bar\", \"\", \"Close\",\"5\",\"0\",\"\",,,\"False\",\"T\",\"EveryTick\")","v":1303.5},{"$f":"IFERROR((T108-$G$8)/$G$8,NA())","v":1.6906170752324949E-3},{"$f":"RTD(\"cqg.rtd\",,\"StudyData\", \"Close(\"&$D$12&\") when LocalYear(\"&$D$12&\")=\"&$D$8&\" and localMonth(\"&$D$12&\") =\"&$E$8&\" and LocalDay(\"&$D$12&\")=\"&$F$8&\" and Barix(\"&$D$12&\",reference:=StartOfDay)=\"&A108&\"\", \"Bar\", \"\", \"Close\",\"5\",\"0\",\"\",,,\"False\",\"T\",\"EveryTick\")","v":1301.3},{"$f":"IFERROR((V108-$G$9)/$G$9,NA())","v":5.3821313240046554E-4},{"$f":"RTD(\"cqg.rtd\",,\"StudyData\", \"Close(\"&$D$12&\") when LocalYear(\"&$D$12&\")=\"&$D$9&\" and localMonth(\"&$D$12&\") =\"&$E$9&\" and LocalDay(\"&$D$12&\")=\"&$F$9&\" and Barix(\"&$D$12&\",reference:=StartOfDay)=\"&A108&\"\", \"Bar\", \"\", \"Close\",\"5\",\"0\",\"\",,,\"False\",\"T\",\"EveryTick\")","v":1300.5999999999999},{"$f":"IFERROR((X108-$G$10)/$G$10,NA())","v":1.5379883112874354E-4},{"$f":"RTD(\"cqg.rtd\",,\"StudyData\", \"Close(\"&$D$12&\") when LocalYear(\"&$D$12&\")=\"&$D$10&\" and localMonth(\"&$D$12&\") =\"&$E$10&\" and LocalDay(\"&$D$12&\")=\"&$F$10&\" and Barix(\"&$D$12&\",reference:=StartOfDay)=\"&A108&\"\", \"Bar\", \"\", \"Close\",\"5\",\"0\",\"\",,,\"False\",\"T\",\"EveryTick\")","v":1300.4000000000001},{"$f":"IFERROR((Z108-$G$11)/$G$11,NA())","v":3.472490161277876E-3},null,null,null,""]

{"sheet":"Sheet4","index":2,"n_rows":121,"n_cols":20,"rows_kept":121,"cut":false,"hidden":true,"merged":[]}
[null,{"$f":"Sheet3!I1","v":2.3400936037437951E-4},{"$f":"Sheet3!K1","v":-2.7567195037905938E-3},null,{"$f":"Sheet3!M1","v":3.45383375546857E-3},null,{"$f":"Sheet3!O1","v":-1.3080947983993678E-3},null,{"$f":"Sheet3!Q1","v":-2.1465808034346686E-3},null,{"$f":"Sheet3!S1","v":-1.994629842731039E-3},null,{"$f":"Sheet3!U1","v":4.6107738415441206E-4},null,{"$f":"Sheet3!W1","v":2.1528525296018622E-3},null,{"$f":"Sheet3!Y1","v":-2.3069824669346499E-4},null,{"$f":"Sheet3!AA1","v":-1.5433289605682959E-4}]
[null,{"$f":"Sheet3!I2","v":2.3400936037437951E-4},{"$f":"Sheet3!K2","v":-2.9864461291064328E-3},{"$f":"CORREL($B$1:B2,$C$1:C2)","v":{"$error":"#DIV/0!"}},{"$f":"Sheet3!M2","v":3.5305856167011348E-3},{"$f":"CORREL($B$1:B2,$E$1:E2)","v":{"$error":"#DIV/0!"}},{"$f":"Sheet3!O2","v":-1.4619883040934624E-3},{"$f":"CORREL($B$1:B2,$G$1:G2)","v":{"$error":"#DIV/0!"}},{"$f":"Sheet3!Q2","v":-2.6065624041705692E-3},{"$f":"CORREL($B$1:B2,$I$1:I2)","v":{"$error":"#DIV/0!"}},{"$f":"Sheet3!S2","v":-1.6877637130802037E-3},{"$f":"CORREL($B$1:B2,$K$1:K2)","v":{"$error":"#DIV/0!"}},{"$f":"Sheet3!U2","v":9.2215476830864946E-4},{"$f":"CORREL($B$1:B2,$M$1:M2)","v":{"$error":"#DIV/0!"}},{"$f":"Sheet3!W2","v":2.6141780716593043E-3},{"$f":"CORREL($B$1:B2,$O$1:O2)","v":{"$error":"#DIV/0!"}},{"$f":"Sheet3!Y2","v":-3.844970778222085E-4},{"$f":"CORREL($B$1:B2,$Q$1:Q2)","v":{"$error":"#DIV/0!"}},{"$f":"Sheet3!AA2","v":7.716644802832707E-5},{"$f":"CORREL($B$1:B2,$S$1:S2)","v":{"$error":"#DIV/0!"}}]
[null,{"$f":"Sheet3!I3","v":3.1201248049929093E-4},{"$f":"Sheet3!K3","v":-3.3693238379662229E-3},{"$f":"CORREL($B$1:B3,$C$1:C3)","v":-0.9285714285714437},{"$f":"Sheet3!M3","v":4.3748560902600493E-3},{"$f":"CORREL($B$1:B3,$E$1:E3)","v":0.99717646495274237},{"$f":"Sheet3!O3","v":-1.0772545398583131E-3},{"$f":"CORREL($B$1:B3,$G$1:G3)","v":0.91766293548220612},{"$f":"Sheet3!Q3","v":-2.9132168046612861E-3},{"$f":"CORREL($B$1:B3,$I$1:I3)","v":-0.80295506854702814},{"$f":"Sheet3!S3","v":-1.5343306482546988E-3},{"$f":"CORREL($B$1:B3,$K$1:K3)","v":0.75592894601854665},{"$f":"Sheet3!U3","v":7.6846230692384542E-4},{"$f":"CORREL($B$1:B3,$M$1:M3)","v":0.18898223650447551},{"$f":"Sheet3!W3","v":2.6141780716593043E-3},{"$f":"CORREL($B$1:B3,$O$1:O3)","v":0.5},{"$f":"Sheet3!Y3","v":-4.6139649338675516E-4},{"$f":"CORREL($B$1:B3,$Q$1:Q3)","v":-0.75592894601882299},{"$f":"Sheet3!AA3","v":6.9449803225546999E-4},{"$f":"CORREL($B$1:B3,$S$1:S3)","v":0.96457885687694322}]
[null,{"$f":"Sheet3!I4","v":7.020280811233159E-4},{"$f":"Sheet3!K4","v":-3.5990504632820624E-3},{"$f":"CORREL($B$1:B4,$C$1:C4)","v":-0.83517853000144859},{"$f":"Sheet3!M4","v":4.7586153964232231E-3},{"$f":"CORREL($B$1:B4,$E$1:E4)","v":0.85509500806311689},{"$f":"Sheet3!O4","v":-1.0003077870113532E-3},{"$f":"CORREL($B$1:B4,$G$1:G4)","v":0.76910310850991814},{"$f":"Sheet3!Q4","v":-3.2198712051518287E-3},{"$f":"CORREL($B$1:B4,$I$1:I4)","v":-0.80643358497196427},{"$f":"Sheet3!S4","v":-1.4576141158420338E-3},{"$f":"CORREL($B$1:B4,$K$1:K4)","v":0.68415789449063757},{"$f":"Sheet3!U4","v":9.2215476830864946E-4},{"$f":"CORREL($B$1:B4,$M$1:M4)","v":0.49236596391737125},{"$f":"Sheet3!W4","v":2.4604028909734322E-3},{"$f":"CORREL($B$1:B4,$O$1:O4)","v":8.2060993986186173E-2},{"$f":"Sheet3!Y4","v":-6.9209474008004529E-4},{"$f":"CORREL($B$1:B4,$Q$1:Q4)","v":-0.91680898803345434},{"$f":"Sheet3!AA4","v":5.4016513619864037E-4},{"$f":"CORREL($B$1:B4,$S$1:S4)","v":0.56061191058150139}]
[null,{"$f":"Sheet3!I5","v":1.5600624024964546E-4},{"$f":"Sheet3!K5","v":-6.4323455088445445E-3},{"$f":"CORREL($B$1:B5,$C$1:C5)","v":0.26823580567191169},{"$f":"Sheet3!M5","v":7.1379230946350099E-3},{"$f":"CORREL($B$1:B5,$E$1:E5)","v":-0.12750891945832935},{"$f":"Sheet3!O5","v":-1.1542012927054479E-3},{"$f":"CORREL($B$1:B5,$G$1:G5)","v":0.62099590643461755},{"$f":"Sheet3!Q5","v":-5.8264336093223979E-3},{"$f":"CORREL($B$1:B5,$I$1:I5)","v":0.22767208942089256},{"$f":"Sheet3!S5","v":-8.4388185654001458E-4},{"$f":"CORREL($B$1:B5,$K$1:K5)","v":-8.8382664789266721E-2},{"$f":"Sheet3!U5","v":6.1476984553904138E-4},{"$f":"CORREL($B$1:B5,$M$1:M5)","v":0.566609742643431},{"$f":"Sheet3!W5","v":2.9986160233738974E-3},{"$f":"CORREL($B$1:B5,$O$1:O5)","v":-0.30371825848291767},{"$f":"Sheet3!Y5","v":-5.3829590895112687E-4},{"$f":"CORREL($B$1:B5,$Q$1:Q5)","v":-0.68494951942179438},{"$f":"Sheet3!AA5","v":1.0031638243691292E-3},{"$f":"CORREL($B$1:B5,$S$1:S5)","v":6.5346662771844644E-2}]
[null,{"$f":"Sheet3!I6","v":-1.5600624024964546E-4},{"$f":"Sheet3!K6","v":-6.2791944253005934E-3},{"$f":"CORREL($B$1:B6,$C$1:C6)","v":0.57857837183098892},{"$f":"Sheet3!M6","v":6.9844193721697052E-3},{"$f":"CORREL($B$1:B6,$E$1:E6)","v":-0.48668652674431445},{"$f":"Sheet3!O6","v":-5.3862726992906908E-4},{"$f":"CORREL($B$1:B6,$G$1:G6)","v":-0.38122985584569896},{"$f":"Sheet3!Q6","v":-5.2897884084637308E-3},{"$f":"CORREL($B$1:B6,$I$1:I6)","v":0.5100074296602799},{"$f":"Sheet3!S6","v":-9.205983889528542E-4},{"$f":"CORREL($B$1:B6,$K$1:K6)","v":-0.43302928205094621},{"$f":"Sheet3!U6","v":1.4600783831553762E-3},{"$f":"CORREL($B$1:B6,$M$1:M6)","v":-0.40411869937746575},{"$f":"Sheet3!W6","v":4.8439181916040156E-3},{"$f":"CORREL($B$1:B6,$O$1:O6)","v":-0.74500020083510354},{"$f":"Sheet3!Y6","v":3.844970778222085E-4},{"$f":"CORREL($B$1:B6,$Q$1:Q6)","v":-0.8473523687165182},{"$f":"Sheet3!AA6","v":1.0031638243691292E-3},{"$f":"CORREL($B$1:B6,$S$1:S6)","v":-0.30736802271789726}]
[null,{"$f":"Sheet3!I7","v":0},{"$f":"Sheet3!K7","v":-6.662072134160384E-3},{"$f":"CORREL($B$1:B7,$C$1:C7)","v":0.64382079614207943},{"$f":"Sheet3!M7","v":6.5239082047739653E-3},{"$f":"CORREL($B$1:B7,$E$1:E7)","v":-0.54904916268341986},{"$f":"Sheet3!O7","v":-6.1557402277620391E-4},{"$f":"CORREL($B$1:B7,$G$1:G7)","v":-0.4866689997610904},{"$f":"Sheet3!Q7","v":-4.4464888071145212E-3},{"$f":"CORREL($B$1:B7,$I$1:I7)","v":0.54005956948721157},{"$f":"Sheet3!S7","v":-9.205983889528542E-4},{"$f":"CORREL($B$1:B7,$K$1:K7)","v":-0.51279423189386864},{"$f":"Sheet3!U7","v":1.1526934603857681E-3},{"$f":"CORREL($B$1:B7,$M$1:M7)","v":-0.47295629547635887},{"$f":"Sheet3!W7","v":3.9981546978318048E-3},{"$f":"CORREL($B$1:B7,$O$1:O7)","v":-0.77952829916165367},{"$f":"Sheet3!Y7","v":5.382959089509521E-4},{"$f":"CORREL($B$1:B7,$Q$1:Q7)","v":-0.81657930208110918},{"$f":"Sheet3!AA7","v":8.488309283122995E-4},{"$f":"CORREL($B$1:B7,$S$1:S7)","v":-0.37061234135590565}]
[null,{"$f":"Sheet3!I8","v":3.9001560062402497E-4},{"$f":"Sheet3!K8","v":-6.9683743012482853E-3},{"$f":"CORREL($B$1:B8,$C$1:C8)","v":0.44359504703679514},{"$f":"Sheet3!M8","v":6.6006600660065305E-3},{"$f":"CORREL($B$1:B8,$E$1:E8)","v":-0.43162540963366336},{"$f":"Sheet3!O8","v":-7.6946752847029858E-4},{"$f":"CORREL($B$1:B8,$G$1:G8)","v":-0.38698022505201779},{"$f":"Sheet3!Q8","v":-4.3698252069917553E-3},{"$f":"CORREL($B$1:B8,$I$1:I8)","v":0.47838283296153533},{"$f":"Sheet3!S8","v":-9.205983889528542E-4},{"$f":"CORREL($B$1:B8,$K$1:K8)","v":-0.38616422286059571},{"$f":"Sheet3!U8","v":7.6846230692384542E-4},{"$f":"CORREL($B$1:B8,$M$1:M8)","v":-0.48991647126864546},{"$f":"Sheet3!W8","v":3.844379517145933E-3},{"$f":"CORREL($B$1:B8,$O$1:O8)","v":-0.65573920401188235},{"$f":"Sheet3!Y8","v":8.4589357120878883E-4},{"$f":"CORREL($B$1:B8,$Q$1:Q8)","v":-0.44789778732152025},{"$f":"Sheet3!AA8","v":6.1733158422714283E-4},{"$f":"CORREL($B$1:B8,$S$1:S8)","v":-0.34995661963663538}]
[null,{"$f":"Sheet3!I9","v":7.8003120124734045E-5},{"$f":"Sheet3!K9","v":-7.1981009265641247E-3},{"$f":"CORREL($B$1:B9,$C$1:C9)","v":0.48208965598505599},{"$f":"Sheet3!M9","v":6.6006600660065305E-3},{"$f":"CORREL($B$1:B9,$E$1:E9)","v":-0.46239399402865405},{"$f":"Sheet3!O9","v":-6.1557402277620391E-4},{"$f":"CORREL($B$1:B9,$G$1:G9)","v":-0.43007150313722226},{"$f":"Sheet3!Q9","v":-3.9098436062558542E-3},{"$f":"CORREL($B$1:B9,$I$1:I9)","v":0.47077843415608339},{"$f":"Sheet3!S9","v":-8.4388185654001458E-4},{"$f":"CORREL($B$1:B9,$K$1:K9)","v":-0.42659634206471181},{"$f":"Sheet3!U9","v":1.4600783831553762E-3},{"$f":"CORREL($B$1:B9,$M$1:M9)","v":-0.51630870475202206},{"$f":"Sheet3!W9","v":3.844379517145933E-3},{"$f":"CORREL($B$1:B9,$O$1:O9)","v":-0.67300770012732414},{"$f":"Sheet3!Y9","v":1.2303906490309974E-3},{"$f":"CORREL($B$1:B9,$Q$1:Q9)","v":-0.47345750725198993},{"$f":"Sheet3!AA9","v":6.1733158422714283E-4},{"$f":"CORREL($B$1:B9,$S$1:S9)","v":-0.34877075435620047}]
[null,{"$f":"Sheet3!I10","v":2.3400936037437951E-4},{"$f":"Sheet3!K10","v":-7.2746764683360131E-3},{"$f":"CORREL($B$1:B10,$C$1:C10)","v":0.44242666314122031},{"$f":"Sheet3!M10","v":6.6006600660065305E-3},{"$f":"CORREL($B$1:B10,$E$1:E10)","v":-0.44482369238968072},{"$f":"Sheet3!O10","v":-1.5389350569391976E-4},{"$f":"CORREL($B$1:B10,$G$1:G10)","v":-0.31995907688572467},{"$f":"Sheet3!Q10","v":-4.1398344066238043E-3},{"$f":"CORREL($B$1:B10,$I$1:I10)","v":0.46750628324638238},{"$f":"Sheet3!S10","v":-8.4388185654001458E-4},{"$f":"CORREL($B$1:B10,$K$1:K10)","v":-0.40152039618622626},{"$f":"Sheet3!U10","v":9.9900099900096409E-4},{"$f":"CORREL($B$1:B10,$M$1:M10)","v":-0.51438525613387098},{"$f":"Sheet3!W10","v":3.6906043364602356E-3},{"$f":"CORREL($B$1:B10,$O$1:O10)","v":-0.66077576561482554},{"$f":"Sheet3!Y10","v":1.076591817902079E-3},{"$f":"CORREL($B$1:B10,$Q$1:Q10)","v":-0.41524686926007814},{"$f":"Sheet3!AA10","v":5.4016513619864037E-4},{"$f":"CORREL($B$1:B10,$S$1:S10)","v":-0.34930351044594843}]
[null,{"$f":"Sheet3!I11","v":2.3400936037437951E-4},{"$f":"Sheet3!K11","v":-7.504403093652026E-3},{"$f":"CORREL($B$1:B11,$C$1:C11)","v":0.40920289971809204},{"$f":"Sheet3!M11","v":6.4471563435412257E-3},{"$f":"CORREL($B$1:B11,$E$1:E11)","v":-0.43466413217957089},{"$f":"Sheet3!O11","v":3.8473376423514929E-4},{"$f":"CORREL($B$1:B11,$G$1:G11)","v":-0.21171980390582643},{"$f":"Sheet3!Q11","v":-4.1398344066238043E-3},{"$f":"CORREL($B$1:B11,$I$1:I11)","v":0.46484667225525178},{"$f":"Sheet3!S11","v":-6.1373225930184462E-4},{"$f":"CORREL($B$1:B11,$K$1:K11)","v":-0.36015746166209717},{"$f":"Sheet3!U11","v":1.1526934603857681E-3},{"$f":"CORREL($B$1:B11,$M$1:M11)","v":-0.50099381099827411},{"$f":"Sheet3!W11","v":3.6137167461172117E-3},{"$f":"CORREL($B$1:B11,$O$1:O11)","v":-0.6539952510770588},{"$f":"Sheet3!Y11","v":1.2303906490309974E-3},{"$f":"CORREL($B$1:B11,$Q$1:Q11)","v":-0.36766724330529899},{"$f":"Sheet3!AA11","v":8.488309283122995E-4},{"$f":"CORREL($B$1:B11,$S$1:S11)","v":-0.33544344061805814}]
[null,{"$f":"Sheet3!I12","v":7.8003120124734045E-5},{"$f":"Sheet3!K12","v":-8.2701585113716062E-3},{"$f":"CORREL($B$1:B12,$C$1:C12)","v":0.44457599375221524},{"$f":"Sheet3!M12","v":6.2169007598433558E-3},{"$f":"CORREL($B$1:B12,$E$1:E12)","v":-0.44430749758018989},{"$f":"Sheet3!O12","v":3.8473376423514929E-4},{"$f":"CORREL($B$1:B12,$G$1:G12)","v":-0.27836496989805115},{"$f":"Sheet3!Q12","v":-3.9865072063784458E-3},{"$f":"CORREL($B$1:B12,$I$1:I12)","v":0.46012896006624532},{"$f":"Sheet3!S12","v":-4.6029919447633988E-4},{"$f":"CORREL($B$1:B12,$K$1:K12)","v":-0.40128525743222249},{"$f":"Sheet3!U12","v":7.6846230692384542E-4},{"$f":"CORREL($B$1:B12,$M$1:M12)","v":-0.4467614969408647},{"$f":"Sheet3!W12","v":3.9212671074889561E-3},{"$f":"CORREL($B$1:B12,$O$1:O12)","v":-0.66786470372966733},{"$f":"Sheet3!Y12","v":1.3841894801599158E-3},{"$f":"CORREL($B$1:B12,$Q$1:Q12)","v":-0.40754865029106352},{"$f":"Sheet3!AA12","v":1.0803302723974562E-3},{"$f":"CORREL($B$1:B12,$S$1:S12)","v":-0.37676567374161751}]
[null,{"$f":"Sheet3!I13","v":7.020280811233159E-4},{"$f":"Sheet3!K13","v":-7.4278275518799642E-3},{"$f":"CORREL($B$1:B13,$C$1:C13)","v":0.22950244363954472},{"$f":"Sheet3!M13","v":4.9888709801212674E-3},{"$f":"CORREL($B$1:B13,$E$1:E13)","v":-0.45613537608951493},{"$f":"Sheet3!O13","v":8.4641428131743341E-4},{"$f":"CORREL($B$1:B13,$G$1:G13)","v":0.13642329738435741},{"$f":"Sheet3!Q13","v":-4.0631708065012127E-3},{"$f":"CORREL($B$1:B13,$I$1:I13)","v":0.35986760829616776},{"$f":"Sheet3!S13","v":-5.3701572688917944E-4},{"$f":"CORREL($B$1:B13,$K$1:K13)","v":-0.13612289367330435},{"$f":"Sheet3!U13","v":6.1476984553904138E-4},{"$f":"CORREL($B$1:B13,$M$1:M13)","v":-0.52208707284554456},{"$f":"Sheet3!W13","v":3.844379517145933E-3},{"$f":"CORREL($B$1:B13,$O$1:O13)","v":-0.4560340561492241},{"$f":"Sheet3!Y13","v":1.6148877268532058E-3},{"$f":"CORREL($B$1:B13,$Q$1:Q13)","v":-7.5729406953315578E-2},{"$f":"Sheet3!AA13","v":1.3889960645111154E-3},{"$f":"CORREL($B$1:B13,$S$1:S13)","v":9.1391660796265994E-3}]
[null,{"$f":"Sheet3!I14","v":7.8003120124804995E-4},{"$f":"Sheet3!K14","v":-8.9593383873191237E-3},{"$f":"CORREL($B$1:B14,$C$1:C14)","v":-2.4767008771977381E-2},{"$f":"Sheet3!M14","v":4.3748560902600493E-3},{"$f":"CORREL($B$1:B14,$E$1:E14)","v":-0.51668754610016931},{"$f":"Sheet3!O14","v":8.4641428131743341E-4},{"$f":"CORREL($B$1:B14,$G$1:G14)","v":0.34813000949241718},{"$f":"Sheet3!Q14","v":-3.9098436062558542E-3},{"$f":"CORREL($B$1:B14,$I$1:I14)","v":0.31066239981406341},{"$f":"Sheet3!S14","v":-9.205983889528542E-4},{"$f":"CORREL($B$1:B14,$K$1:K14)","v":-7.8679904905951642E-2},{"$f":"Sheet3!U14","v":3.8423115346192271E-4},{"$f":"CORREL($B$1:B14,$M$1:M14)","v":-0.62782876044790348},{"$f":"Sheet3!W14","v":3.15239120405977E-3},{"$f":"CORREL($B$1:B14,$O$1:O14)","v":-0.43767956494507482},{"$f":"Sheet3!Y14","v":1.6917871424175777E-3},{"$f":"CORREL($B$1:B14,$Q$1:Q14)","v":0.13677571881770859},{"$f":"Sheet3!AA14","v":1.2346631684542857E-3},{"$f":"CORREL($B$1:B14,$S$1:S14)","v":0.18283357673895972}]
[null,{"$f":"Sheet3!I15","v":3.9001560062402497E-4},{"$f":"Sheet3!K15","v":-1.1333180182249929E-2},{"$f":"CORREL($B$1:B15,$C$1:C15)","v":-7.773506919084705E-2},{"$f":"Sheet3!M15","v":4.0678486453296142E-3},{"$f":"CORREL($B$1:B15,$E$1:E15)","v":-0.52081221763587193},{"$f":"Sheet3!O15","v":1.1542012927054479E-3},{"$f":"CORREL($B$1:B15,$G$1:G15)","v":0.35278063574079616},{"$f":"Sheet3!Q15","v":-3.8331800061330878E-3},{"$f":"CORREL($B$1:B15,$I$1:I15)","v":0.31153675405380921},{"$f":"Sheet3!S15","v":-7.6716532412734941E-4},{"$f":"CORREL($B$1:B15,$K$1:K15)","v":-6.1367571273153558E-2},{"$f":"Sheet3!U15","v":8.4530853761633482E-4},{"$f":"CORREL($B$1:B15,$M$1:M15)","v":-0.62776781886550137},{"$f":"Sheet3!W15","v":3.4599415654313396E-3},{"$f":"CORREL($B$1:B15,$O$1:O15)","v":-0.43309172281547798},{"$f":"Sheet3!Y15","v":1.7686865579821243E-3},{"$f":"CORREL($B$1:B15,$Q$1:Q15)","v":0.16339257388791331},{"$f":"Sheet3!AA15","v":1.4661625125394423E-3},{"$f":"CORREL($B$1:B15,$S$1:S15)","v":0.20795299381212695}]
[null,{"$f":"Sheet3!I16","v":3.9001560062402497E-4},{"$f":"Sheet3!K16","v":-1.0337698139214334E-2},{"$f":"CORREL($B$1:B16,$C$1:C16)","v":-0.10805833506210225},{"$f":"Sheet3!M16","v":3.2235781717705257E-3},{"$f":"CORREL($B$1:B16,$E$1:E16)","v":-0.51201122992884474},{"$f":"Sheet3!O16","v":8.4641428131743341E-4},{"$f":"CORREL($B$1:B16,$G$1:G16)","v":0.36270917619057175},{"$f":"Sheet3!Q16","v":-3.6031892057651373E-3},{"$f":"CORREL($B$1:B16,$I$1:I16)","v":0.31718501845089947},{"$f":"Sheet3!S16","v":-8.4388185654001458E-4},{"$f":"CORREL($B$1:B16,$K$1:K16)","v":-5.1192654537125973E-2},{"$f":"Sheet3!U16","v":1.0758472296934535E-3},{"$f":"CORREL($B$1:B16,$M$1:M16)","v":-0.60336194187494707},{"$f":"Sheet3!W16","v":3.6137167461172117E-3},{"$f":"CORREL($B$1:B16,$O$1:O16)","v":-0.42279664512570503},{"$f":"Sheet3!Y16","v":1.537988311288834E-3},{"$f":"CORREL($B$1:B16,$Q$1:Q16)","v":0.1815322494399845},{"$f":"Sheet3!AA16","v":9.2599737634062665E-4},{"$f":"CORREL($B$1:B16,$S$1:S16)","v":0.21397398260780787}]
[null,{"$f":"Sheet3!I17","v":1.0140405616224295E-3},{"$f":"Sheet3!K17","v":-1.1180029098705977E-2},{"$f":"CORREL($B$1:B17,$C$1:C17)","v":-0.31286835852138589},{"$f":"Sheet3!M17","v":3.8375930616317442E-3},{"$f":"CORREL($B$1:B17,$E$1:E17)","v":-0.5565127390930017},{"$f":"Sheet3!O17","v":7.6946752847029858E-4},{"$f":"CORREL($B$1:B17,$G$1:G17)","v":0.44650739586883476},{"$f":"Sheet3!Q17","v":-2.3765716038026191E-3},{"$f":"CORREL($B$1:B17,$I$1:I17)","v":0.45949893600016345},{"$f":"Sheet3!S17","v":0},{"$f":"CORREL($B$1:B17,$K$1:K17)","v":0.25066801235184411},{"$f":"Sheet3!U17","v":1.1526934603857681E-3},{"$f":"CORREL($B$1:B17,$M$1:M17)","v":-0.37310481101630311},{"$f":"Sheet3!W17","v":2.3835153006305835E-3},{"$f":"CORREL($B$1:B17,$O$1:O17)","v":-0.52312962874129243},{"$f":"Sheet3!Y17","v":1.9224853891110427E-3},{"$f":"CORREL($B$1:B17,$Q$1:Q17)","v":0.32795949243031486},{"$f":"Sheet3!AA17","v":1.0031638243691292E-3},{"$f":"CORREL($B$1:B17,$S$1:S17)","v":0.24255821936250965}]
[null,{"$f":"Sheet3!I18","v":1.0920436817473409E-3},{"$f":"Sheet3!K18","v":-1.0337698139214334E-2},{"$f":"CORREL($B$1:B18,$C$1:C18)","v":-0.40744052093297839},{"$f":"Sheet3!M18","v":4.2213523677949189E-3},{"$f":"CORREL($B$1:B18,$E$1:E18)","v":-0.56214075383594875},{"$f":"Sheet3!O18","v":3.8473376423514929E-4},{"$f":"CORREL($B$1:B18,$G$1:G18)","v":0.45977894979111927},{"$f":"Sheet3!Q18","v":-2.3765716038026191E-3},{"$f":"CORREL($B$1:B18,$I$1:I18)","v":0.545689914523244},{"$f":"Sheet3!S18","v":-7.6716532412665172E-5},{"$f":"CORREL($B$1:B18,$K$1:K18)","v":0.40280261568104336},{"$f":"Sheet3!U18","v":1.3832321524628868E-3},{"$f":"CORREL($B$1:B18,$M$1:M18)","v":-0.12284726025714696},{"$f":"Sheet3!W18","v":1.0764262648009311E-3},{"$f":"CORREL($B$1:B18,$O$1:O18)","v":-0.6684234856847816},{"$f":"Sheet3!Y18","v":2.0762842202397863E-3},{"$f":"CORREL($B$1:B18,$Q$1:Q18)","v":0.4355656588217155},{"$f":"Sheet3!AA18","v":1.2346631684542857E-3},{"$f":"CORREL($B$1:B18,$S$1:S18)","v":0.32462479294171909}]
[null,{"$f":"Sheet3!I19","v":3.1201248049929093E-4},{"$f":"Sheet3!K19","v":-1.1792633432881606E-2},{"$f":"CORREL($B$1:B19,$C$1:C19)","v":-0.35944506036569324},{"$f":"Sheet3!M19","v":3.9143449228643094E-3},{"$f":"CORREL($B$1:B19,$E$1:E19)","v":-0.53784580746934363},{"$f":"Sheet3!O19","v":2.3084025854122956E-4},{"$f":"CORREL($B$1:B19,$G$1:G19)","v":0.45148317246849196},{"$f":"Sheet3!Q19","v":-2.1465808034346686E-3},{"$f":"CORREL($B$1:B19,$I$1:I19)","v":0.49331013458900658},{"$f":"Sheet3!S19","v":3.835826620636747E-4},{"$f":"CORREL($B$1:B19,$K$1:K19)","v":0.32225400933057408},{"$f":"Sheet3!U19","v":1.4600783831553762E-3},{"$f":"CORREL($B$1:B19,$M$1:M19)","v":-0.13151143700102011},{"$f":"Sheet3!W19","v":1.5377518068583733E-3},{"$f":"CORREL($B$1:B19,$O$1:O19)","v":-0.58902530825341493},{"$f":"Sheet3!Y19","v":2.3069824669332511E-3},{"$f":"CORREL($B$1:B19,$Q$1:Q19)","v":0.39138056734022225},{"$f":"Sheet3!AA19","v":6.1733158422714283E-4},{"$f":"CORREL($B$1:B19,$S$1:S19)","v":0.32758810691622653}]
[null,{"$f":"Sheet3!I20","v":3.1201248049929093E-4},{"$f":"Sheet3!K20","v":-1.3017842101232866E-2},{"$f":"CORREL($B$1:B20,$C$1:C20)","v":-0.30817405816842552},{"$f":"Sheet3!M20","v":3.9910967840968746E-3},{"$f":"CORREL($B$1:B20,$E$1:E20)","v":-0.51904689395954517},{"$f":"Sheet3!O20","v":1.5389350569409472E-4},{"$f":"CORREL($B$1:B20,$G$1:G20)","v":0.44588583928644487},{"$f":"Sheet3!Q20","v":-1.7632628028213598E-3},{"$f":"CORREL($B$1:B20,$I$1:I20)","v":0.4369437379443506},{"$f":"Sheet3!S20","v":5.3701572688917944E-4},{"$f":"CORREL($B$1:B20,$K$1:K20)","v":0.26139447327217924},{"$f":"Sheet3!U20","v":1.3063859217705722E-3},{"$f":"CORREL($B$1:B20,$M$1:M20)","v":-0.13814022738053672},{"$f":"Sheet3!W20","v":1.3839766261726756E-3},{"$f":"CORREL($B$1:B20,$O$1:O20)","v":-0.52333921866038347},{"$f":"Sheet3!Y20","v":2.3838818824976227E-3},{"$f":"CORREL($B$1:B20,$Q$1:Q20)","v":0.35445230072234513},{"$f":"Sheet3!AA20","v":4.6299868817031332E-4},{"$f":"CORREL($B$1:B20,$S$1:S20)","v":0.32971424740804017}]
[null,{"$f":"Sheet3!I21","v":6.2402496099840448E-4},{"$f":"Sheet3!K21","v":-1.3783597518952445E-2},{"$f":"CORREL($B$1:B21,$C$1:C21)","v":-0.34605307902556653},{"$f":"Sheet3!M21","v":3.6840893391664395E-3},{"$f":"CORREL($B$1:B21,$E$1:E21)","v":-0.53636005577919743},{"$f":"Sheet3!O21","v":3.8473376423514929E-4},{"$f":"CORREL($B$1:B21,$G$1:G21)","v":0.45853396259681384},{"$f":"Sheet3!Q21","v":-1.9932536031893101E-3},{"$f":"CORREL($B$1:B21,$I$1:I21)","v":0.46150790257366703},{"$f":"Sheet3!S21","v":7.6716532412734941E-4},{"$f":"CORREL($B$1:B21,$K$1:K21)","v":0.30651624291221047},{"$f":"Sheet3!U21","v":1.3063859217705722E-3},{"$f":"CORREL($B$1:B21,$M$1:M21)","v":-9.7443454032796736E-2},{"$f":"Sheet3!W21","v":9.9953867445808238E-4},{"$f":"CORREL($B$1:B21,$O$1:O21)","v":-0.53892312609274384},{"$f":"Sheet3!Y21","v":1.7686865579821243E-3},{"$f":"CORREL($B$1:B21,$Q$1:Q21)","v":0.37320487670512048},{"$f":"Sheet3!AA21","v":8.488309283122995E-4},{"$f":"CORREL($B$1:B21,$S$1:S21)","v":0.32917186995523123}]
[null,{"$f":"Sheet3!I22","v":6.2402496099840448E-4},{"$f":"Sheet3!K22","v":-1.3324144268320768E-2},{"$f":"CORREL($B$1:B22,$C$1:C22)","v":-0.37513875255553292},{"$f":"Sheet3!M22","v":3.3770818942358304E-3},{"$f":"CORREL($B$1:B22,$E$1:E22)","v":-0.55244972794618419},{"$f":"Sheet3!O22","v":5.3862726992924407E-4},{"$f":"CORREL($B$1:B22,$G$1:G22)","v":0.47307113734669692},{"$f":"Sheet3!Q22","v":-2.2999080036798527E-3},{"$f":"CORREL($B$1:B22,$I$1:I22)","v":0.47964513248638246},{"$f":"Sheet3!S22","v":7.6716532412734941E-4},{"$f":"CORREL($B$1:B22,$K$1:K22)","v":0.34094830803708126},{"$f":"Sheet3!U22","v":1.3832321524628868E-3},{"$f":"CORREL($B$1:B22,$M$1:M22)","v":-5.4517086208490245E-2},{"$f":"Sheet3!W22","v":-4.6132554205744202E-4},{"$f":"CORREL($B$1:B22,$O$1:O22)","v":-0.52709438036272394},{"$f":"Sheet3!Y22","v":2.6145801291909132E-3},{"$f":"CORREL($B$1:B22,$Q$1:Q22)","v":0.40013670608440427},{"$f":"Sheet3!AA22","v":-3.0866579211365918E-4},{"$f":"CORREL($B$1:B22,$S$1:S22)","v":0.19517620950100692}]
[null,{"$f":"Sheet3!I23","v":6.2402496099840448E-4},{"$f":"Sheet3!K23","v":-1.4013324144268459E-2},{"$f":"CORREL($B$1:B23,$C$1:C23)","v":-0.39975018553454039},{"$f":"Sheet3!M23","v":3.45383375546857E-3},{"$f":"CORREL($B$1:B23,$E$1:E23)","v":-0.56589323773598055},{"$f":"Sheet3!O23","v":4.6168051708228412E-4},{"$f":"CORREL($B$1:B23,$G$1:G23)","v":0.48414978620510796},{"$f":"Sheet3!Q23","v":-2.0699172033119021E-3},{"$f":"CORREL($B$1:B23,$I$1:I23)","v":0.49661051557369867},{"$f":"Sheet3!S23","v":2.3014959723816994E-4},{"$f":"CORREL($B$1:B23,$K$1:K23)","v":0.36274753857746711},{"$f":"Sheet3!U23","v":1.1526934603857681E-3},{"$f":"CORREL($B$1:B23,$M$1:M23)","v":-4.0750854497513228E-2},{"$f":"Sheet3!W23","v":-1.5377518068569745E-4},{"$f":"CORREL($B$1:B23,$O$1:O23)","v":-0.53344327119755119},{"$f":"Sheet3!Y23","v":3.4604737003998769E-3},{"$f":"CORREL($B$1:B23,$Q$1:Q23)","v":0.42098947027777034},{"$f":"Sheet3!AA23","v":0},{"$f":"CORREL($B$1:B23,$S$1:S23)","v":0.13222600591966671}]
[null,{"$f":"Sheet3!I24","v":{"$error":"#N/A"}},{"$f":"Sheet3!K24","v":-1.4932230645531817E-2},{"$f":"CORREL($B$1:B24,$C$1:C24)","v":{"$error":"#N/A"}},{"$f":"Sheet3!M24","v":3.1468263105379605E-3},{"$f":"CORREL($B$1:B24,$E$1:E24)","v":{"$error":"#N/A"}},{"$f":"Sheet3!O24","v":0},{"$f":"CORREL($B$1:B24,$G$1:G24)","v":{"$error":"#N/A"}},{"$f":"Sheet3!Q24","v":-1.5332720024532351E-3},{"$f":"CORREL($B$1:B24,$I$1:I24)","v":{"$error":"#N/A"}},{"$f":"Sheet3!S24","v":4.6029919447633988E-4},{"$f":"CORREL($B$1:B24,$K$1:K24)","v":{"$error":"#N/A"}},{"$f":"Sheet3!U24","v":1.0758472296934535E-3},{"$f":"CORREL($B$1:B24,$M$1:M24)","v":{"$error":"#N/A"}},{"$f":"Sheet3!W24","v":-1.5377518068569745E-4},{"$f":"CORREL($B$1:B24,$O$1:O24)","v":{"$error":"#N/A"}},{"$f":"Sheet3!Y24","v":3.4604737003998769E-3},{"$f":"CORREL($B$1:B24,$Q$1:Q24)","v":{"$error":"#N/A"}},{"$f":"Sheet3!AA24","v":3.0866579211348371E-4},{"$f":"CORREL($B$1:B24,$S$1:S24)","v":{"$error":"#N/A"}}]
[null,{"$f":"Sheet3!I25","v":{"$error":"#N/A"}},{"$f":"Sheet3!K25","v":-1.3860173060724509E-2},{"$f":"CORREL($B$1:B25,$C$1:C25)","v":{"$error":"#N/A"}},{"$f":"Sheet3!M25","v":2.9165707268400906E-3},{"$f":"CORREL($B$1:B25,$E$1:E25)","v":{"$error":"#N/A"}},{"$f":"Sheet3!O25","v":6.155740227763789E-4},{"$f":"CORREL($B$1:B25,$G$1:G25)","v":{"$error":"#N/A"}},{"$f":"Sheet3!Q25","v":-1.379944802208051E-3},{"$f":"CORREL($B$1:B25,$I$1:I25)","v":{"$error":"#N/A"}},{"$f":"Sheet3!S25","v":3.0686612965100953E-4},{"$f":"CORREL($B$1:B25,$K$1:K25)","v":{"$error":"#N/A"}},{"$f":"Sheet3!U25","v":1.6137708445401802E-3},{"$f":"CORREL($B$1:B25,$M$1:M25)","v":{"$error":"#N/A"}},{"$f":"Sheet3!W25","v":8.457634937722101E-4},{"$f":"CORREL($B$1:B25,$O$1:O25)","v":{"$error":"#N/A"}},{"$f":"Sheet3!Y25","v":3.8449707782220854E-3},{"$f":"CORREL($B$1:B25,$Q$1:Q25)","v":{"$error":"#N/A"}},{"$f":"Sheet3!AA25","v":-9.2599737634080207E-4},{"$f":"CORREL($B$1:B25,$S$1:S25)","v":{"$error":"#N/A"}}]
[null,{"$f":"Sheet3!I26","v":{"$error":"#N/A"}},{"$f":"Sheet3!K26","v":-1.3707021977180557E-2},{"$f":"CORREL($B$1:B26,$C$1:C26)","v":{"$error":"#N/A"}},{"$f":"Sheet3!M26","v":2.0723002532810025E-3},{"$f":"CORREL($B$1:B26,$E$1:E26)","v":{"$error":"#N/A"}},{"$f":"Sheet3!O26","v":1.5389350569409472E-4},{"$f":"CORREL($B$1:B26,$G$1:G26)","v":{"$error":"#N/A"}},{"$f":"Sheet3!Q26","v":-1.6099356025760015E-3},{"$f":"CORREL($B$1:B26,$I$1:I26)","v":{"$error":"#N/A"}},{"$f":"Sheet3!S26","v":-1.5343306482550477E-4},{"$f":"CORREL($B$1:B26,$K$1:K26)","v":{"$error":"#N/A"}},{"$f":"Sheet3!U26","v":1.3063859217705722E-3},{"$f":"CORREL($B$1:B26,$M$1:M26)","v":{"$error":"#N/A"}},{"$f":"Sheet3!W26","v":3.8443795171459332E-4},{"$f":"CORREL($B$1:B26,$O$1:O26)","v":{"$error":"#N/A"}},{"$f":"Sheet3!Y26","v":3.7680713626575386E-3},{"$f":"CORREL($B$1:B26,$Q$1:Q26)","v":{"$error":"#N/A"}},{"$f":"Sheet3!AA26","v":-3.8583224014198623E-4},{"$f":"CORREL($B$1:B26,$S$1:S26)","v":{"$error":"#N/A"}}]
[null,{"$f":"Sheet3!I27","v":{"$error":"#N/A"}},{"$f":"Sheet3!K27","v":-1.4243050769584297E-2},{"$f":"CORREL($B$1:B27,$C$1:C27)","v":{"$error":"#N/A"}},{"$f":"Sheet3!M27","v":1.9187965308158721E-3},{"$f":"CORREL($B$1:B27,$E$1:E27)","v":{"$error":"#N/A"}},{"$f":"Sheet3!O27","v":4.6168051708228412E-4},{"$f":"CORREL($B$1:B27,$G$1:G27)","v":{"$error":"#N/A"}},{"$f":"Sheet3!Q27","v":-1.4566084023306431E-3},{"$f":"CORREL($B$1:B27,$I$1:I27)","v":{"$error":"#N/A"}},{"$f":"Sheet3!S27","v":-6.9044879171468424E-4},{"$f":"CORREL($B$1:B27,$K$1:K27)","v":{"$error":"#N/A"}},{"$f":"Sheet3!U27","v":1.3063859217705722E-3},{"$f":"CORREL($B$1:B27,$M$1:M27)","v":{"$error":"#N/A"}},{"$f":"Sheet3!W27","v":5.3821313240046554E-4},{"$f":"CORREL($B$1:B27,$O$1:O27)","v":{"$error":"#N/A"}},{"$f":"Sheet3!Y27","v":3.3066748692709585E-3},{"$f":"CORREL($B$1:B27,$Q$1:Q27)","v":{"$error":"#N/A"}},{"$f":"Sheet3!AA27","v":-3.0866579211365918E-4},{"$f":"CORREL($B$1:B27,$S$1:S27)","v":{"$error":"#N/A"}}]
[null,{"$f":"Sheet3!I28","v":{"$error":"#N/A"}},{"$f":"Sheet3!K28","v":-1.5008806187303879E-2},{"$f":"CORREL($B$1:B28,$C$1:C28)","v":{"$error":"#N/A"}},{"$f":"Sheet3!M28","v":2.839818865607351E-3},{"$f":"CORREL($B$1:B28,$E$1:E28)","v":{"$error":"#N/A"}},{"$f":"Sheet3!O28","v":2.3084025854122956E-4},{"$f":"CORREL($B$1:B28,$G$1:G28)","v":{"$error":"#N/A"}},{"$f":"Sheet3!Q28","v":-1.4566084023306431E-3},{"$f":"CORREL($B$1:B28,$I$1:I28)","v":{"$error":"#N/A"}},{"$f":"Sheet3!S28","v":7.6716532412665172E-5},{"$f":"CORREL($B$1:B28,$K$1:K28)","v":{"$error":"#N/A"}},{"$f":"Sheet3!U28","v":1.6137708445401802E-3},{"$f":"CORREL($B$1:B28,$M$1:M28)","v":{"$error":"#N/A"}},{"$f":"Sheet3!W28","v":5.3821313240046554E-4},{"$f":"CORREL($B$1:B28,$O$1:O28)","v":{"$error":"#N/A"}},{"$f":"Sheet3!Y28","v":3.6142725315286201E-3},{"$f":"CORREL($B$1:B28,$Q$1:Q28)","v":{"$error":"#N/A"}},{"$f":"Sheet3!AA28","v":7.716644802832707E-5},{"$f":"CORREL($B$1:B28,$S$1:S28)","v":{"$error":"#N/A"}}]
[null,{"$f":"Sheet3!I29","v":{"$error":"#N/A"}},{"$f":"Sheet3!K29","v":-1.4625928478444088E-2},{"$f":"CORREL($B$1:B29,$C$1:C29)","v":{"$error":"#N/A"}},{"$f":"Sheet3!M29","v":2.839818865607351E-3},{"$f":"CORREL($B$1:B29,$E$1:E29)","v":{"$error":"#N/A"}},{"$f":"Sheet3!O29","v":6.155740227763789E-4},{"$f":"CORREL($B$1:B29,$G$1:G29)","v":{"$error":"#N/A"}},{"$f":"Sheet3!Q29","v":-1.7632628028213598E-3},{"$f":"CORREL($B$1:B29,$I$1:I29)","v":{"$error":"#N/A"}},{"$f":"Sheet3!S29","v":2.3014959723816994E-4},{"$f":"CORREL($B$1:B29,$K$1:K29)","v":{"$error":"#N/A"}},{"$f":"Sheet3!U29","v":1.3832321524628868E-3},{"$f":"CORREL($B$1:B29,$M$1:M29)","v":{"$error":"#N/A"}},{"$f":"Sheet3!W29","v":9.2265108411505891E-4},{"$f":"CORREL($B$1:B29,$O$1:O29)","v":{"$error":"#N/A"}},{"$f":"Sheet3!Y29","v":3.1528760381420401E-3},{"$f":"CORREL($B$1:B29,$Q$1:Q29)","v":{"$error":"#N/A"}},{"$f":"Sheet3!AA29","v":7.7166448028397245E-4},{"$f":"CORREL($B$1:B29,$S$1:S29)","v":{"$error":"#N/A"}}]
[null,{"$f":"Sheet3!I30","v":{"$error":"#N/A"}},{"$f":"Sheet3!K30","v":-1.477907956198804E-2},{"$f":"CORREL($B$1:B30,$C$1:C30)","v":{"$error":"#N/A"}},{"$f":"Sheet3!M30","v":2.7630670043747863E-3},{"$f":"CORREL($B$1:B30,$E$1:E30)","v":{"$error":"#N/A"}},{"$f":"Sheet3!O30","v":3.8473376423514929E-4},{"$f":"CORREL($B$1:B30,$G$1:G30)","v":{"$error":"#N/A"}},{"$f":"Sheet3!Q30","v":-2.0699172033119021E-3},{"$f":"CORREL($B$1:B30,$I$1:I30)","v":{"$error":"#N/A"}},{"$f":"Sheet3!S30","v":2.3014959723816994E-4},{"$f":"CORREL($B$1:B30,$K$1:K30)","v":{"$error":"#N/A"}},{"$f":"Sheet3!U30","v":1.4600783831553762E-3},{"$f":"CORREL($B$1:B30,$M$1:M30)","v":{"$error":"#N/A"}},{"$f":"Sheet3!W30","v":1.0764262648009311E-3},{"$f":"CORREL($B$1:B30,$O$1:O30)","v":{"$error":"#N/A"}},{"$f":"Sheet3!Y30","v":2.7683789603198316E-3},{"$f":"CORREL($B$1:B30,$Q$1:Q30)","v":{"$error":"#N/A"}},{"$f":"Sheet3!AA30","v":5.4016513619864037E-4},{"$f":"CORREL($B$1:B30,$S$1:S30)","v":{"$error":"#N/A"}}]
[null,{"$f":"Sheet3!I31","v":{"$error":"#N/A"}},{"$f":"Sheet3!K31","v":-1.6463741480970975E-2},{"$f":"CORREL($B$1:B31,$C$1:C31)","v":{"$error":"#N/A"}},{"$f":"Sheet3!M31","v":3.6840893391664395E-3},{"$f":"CORREL($B$1:B31,$E$1:E31)","v":{"$error":"#N/A"}},{"$f":"Sheet3!O31","v":8.4641428131743341E-4},{"$f":"CORREL($B$1:B31,$G$1:G31)","v":{"$error":"#N/A"}},{"$f":"Sheet3!Q31","v":-1.6865992026985934E-3},{"$f":"CORREL($B$1:B31,$I$1:I31)","v":{"$error":"#N/A"}},{"$f":"Sheet3!S31","v":7.6716532412665172E-5},{"$f":"CORREL($B$1:B31,$K$1:K31)","v":{"$error":"#N/A"}},{"$f":"Sheet3!U31","v":1.4600783831553762E-3},{"$f":"CORREL($B$1:B31,$M$1:M31)","v":{"$error":"#N/A"}},{"$f":"Sheet3!W31","v":1.3839766261726756E-3},{"$f":"CORREL($B$1:B31,$O$1:O31)","v":{"$error":"#N/A"}},{"$f":"Sheet3!Y31","v":2.5376807136265412E-3},{"$f":"CORREL($B$1:B31,$Q$1:Q31)","v":{"$error":"#N/A"}},{"$f":"Sheet3!AA31","v":1.1574967204259587E-3},{"$f":"CORREL($B$1:B31,$S$1:S31)","v":{"$error":"#N/A"}}]
[null,{"$f":"Sheet3!I32","v":{"$error":"#N/A"}},{"$f":"Sheet3!K32","v":-1.6923194731602829E-2},{"$f":"CORREL($B$1:B32,$C$1:C32)","v":{"$error":"#N/A"}},{"$f":"Sheet3!M32","v":4.1446005065621794E-3},{"$f":"CORREL($B$1:B32,$E$1:E32)","v":{"$error":"#N/A"}},{"$f":"Sheet3!O32","v":6.9252077562333874E-4},{"$f":"CORREL($B$1:B32,$G$1:G32)","v":{"$error":"#N/A"}},{"$f":"Sheet3!Q32","v":-1.379944802208051E-3},{"$f":"CORREL($B$1:B32,$I$1:I32)","v":{"$error":"#N/A"}},{"$f":"Sheet3!S32","v":0},{"$f":"CORREL($B$1:B32,$K$1:K32)","v":{"$error":"#N/A"}},{"$f":"Sheet3!U32","v":1.2295396910782575E-3},{"$f":"CORREL($B$1:B32,$M$1:M32)","v":{"$error":"#N/A"}},{"$f":"Sheet3!W32","v":1.2302014454868035E-3},{"$f":"CORREL($B$1:B32,$O$1:O32)","v":{"$error":"#N/A"}},{"$f":"Sheet3!Y32","v":2.4607812980619948E-3},{"$f":"CORREL($B$1:B32,$Q$1:Q32)","v":{"$error":"#N/A"}},{"$f":"Sheet3!AA32","v":1.0031638243691292E-3},{"$f":"CORREL($B$1:B32,$S$1:S32)","v":{"$error":"#N/A"}}]
[null,{"$f":"Sheet3!I33","v":{"$error":"#N/A"}},{"$f":"Sheet3!K33","v":-1.8454705567041992E-2},{"$f":"CORREL($B$1:B33,$C$1:C33)","v":{"$error":"#N/A"}},{"$f":"Sheet3!M33","v":3.8375930616317442E-3},{"$f":"CORREL($B$1:B33,$E$1:E33)","v":{"$error":"#N/A"}},{"$f":"Sheet3!O33","v":8.4641428131743341E-4},{"$f":"CORREL($B$1:B33,$G$1:G33)","v":{"$error":"#N/A"}},{"$f":"Sheet3!Q33","v":-1.3032812020852846E-3},{"$f":"CORREL($B$1:B33,$I$1:I33)","v":{"$error":"#N/A"}},{"$f":"Sheet3!S33","v":2.3014959723816994E-4},{"$f":"CORREL($B$1:B33,$K$1:K33)","v":{"$error":"#N/A"}},{"$f":"Sheet3!U33","v":7.6846230692384542E-4},{"$f":"CORREL($B$1:B33,$M$1:M33)","v":{"$error":"#N/A"}},{"$f":"Sheet3!W33","v":8.457634937722101E-4},{"$f":"CORREL($B$1:B33,$O$1:O33)","v":{"$error":"#N/A"}},{"$f":"Sheet3!Y33","v":2.6914795447554596E-3},{"$f":"CORREL($B$1:B33,$Q$1:Q33)","v":{"$error":"#N/A"}},{"$f":"Sheet3!AA33","v":1.0803302723974562E-3},{"$f":"CORREL($B$1:B33,$S$1:S33)","v":{"$error":"#N/A"}}]
[null,{"$f":"Sheet3!I34","v":{"$error":"#N/A"}},{"$f":"Sheet3!K34","v":-1.7229496898690556E-2},{"$f":"CORREL($B$1:B34,$C$1:C34)","v":{"$error":"#N/A"}},{"$f":"Sheet3!M34","v":4.6818635351906579E-3},{"$f":"CORREL($B$1:B34,$E$1:E34)","v":{"$error":"#N/A"}},{"$f":"Sheet3!O34","v":3.8473376423514929E-4},{"$f":"CORREL($B$1:B34,$G$1:G34)","v":{"$error":"#N/A"}},{"$f":"Sheet3!Q34","v":-9.1996320147197592E-4},{"$f":"CORREL($B$1:B34,$I$1:I34)","v":{"$error":"#N/A"}},{"$f":"Sheet3!S34","v":6.9044879171468424E-4},{"$f":"CORREL($B$1:B34,$K$1:K34)","v":{"$error":"#N/A"}},{"$f":"Sheet3!U34","v":7.6846230692384542E-4},{"$f":"CORREL($B$1:B34,$M$1:M34)","v":{"$error":"#N/A"}},{"$f":"Sheet3!W34","v":9.9953867445808238E-4},{"$f":"CORREL($B$1:B34,$O$1:O34)","v":{"$error":"#N/A"}},{"$f":"Sheet3!Y34","v":2.7683789603198316E-3},{"$f":"CORREL($B$1:B34,$Q$1:Q34)","v":{"$error":"#N/A"}},{"$f":"Sheet3!AA34","v":1.2346631684542857E-3},{"$f":"CORREL($B$1:B34,$S$1:S34)","v":{"$error":"#N/A"}}]
[null,{"$f":"Sheet3!I35","v":{"$error":"#N/A"}},{"$f":"Sheet3!K35","v":-1.6999770273374716E-2},{"$f":"CORREL($B$1:B35,$C$1:C35)","v":{"$error":"#N/A"}},{"$f":"Sheet3!M35","v":5.2958784250517026E-3},{"$f":"CORREL($B$1:B35,$E$1:E35)","v":{"$error":"#N/A"}},{"$f":"Sheet3!O35","v":6.155740227763789E-4},{"$f":"CORREL($B$1:B35,$G$1:G35)","v":{"$error":"#N/A"}},{"$f":"Sheet3!Q35","v":-8.4329960134938385E-4},{"$f":"CORREL($B$1:B35,$I$1:I35)","v":{"$error":"#N/A"}},{"$f":"Sheet3!S35","v":1.3041810510165289E-3},{"$f":"CORREL($B$1:B35,$K$1:K35)","v":{"$error":"#N/A"}},{"$f":"Sheet3!U35","v":9.2215476830864946E-4},{"$f":"CORREL($B$1:B35,$M$1:M35)","v":{"$error":"#N/A"}},{"$f":"Sheet3!W35","v":6.1510072274348912E-4},{"$f":"CORREL($B$1:B35,$O$1:O35)","v":{"$error":"#N/A"}},{"$f":"Sheet3!Y35","v":2.3069824669332511E-3},{"$f":"CORREL($B$1:B35,$Q$1:Q35)","v":{"$error":"#N/A"}},{"$f":"Sheet3!AA35","v":1.2346631684542857E-3},{"$f":"CORREL($B$1:B35,$S$1:S35)","v":{"$error":"#N/A"}}]
[null,{"$f":"Sheet3!I36","v":{"$error":"#N/A"}},{"$f":"Sheet3!K36","v":-1.730607244046262E-2},{"$f":"CORREL($B$1:B36,$C$1:C36)","v":{"$error":"#N/A"}},{"$f":"Sheet3!M36","v":5.9098933149127463E-3},{"$f":"CORREL($B$1:B36,$E$1:E36)","v":{"$error":"#N/A"}},{"$f":"Sheet3!O36","v":6.155740227763789E-4},{"$f":"CORREL($B$1:B36,$G$1:G36)","v":{"$error":"#N/A"}},{"$f":"Sheet3!Q36","v":-8.4329960134938385E-4},{"$f":"CORREL($B$1:B36,$I$1:I36)","v":{"$error":"#N/A"}},{"$f":"Sheet3!S36","v":1.1507479861910242E-3},{"$f":"CORREL($B$1:B36,$K$1:K36)","v":{"$error":"#N/A"}},{"$f":"Sheet3!U36","v":1.2295396910782575E-3},{"$f":"CORREL($B$1:B36,$M$1:M36)","v":{"$error":"#N/A"}},{"$f":"Sheet3!W36","v":9.9953867445808238E-4},{"$f":"CORREL($B$1:B36,$O$1:O36)","v":{"$error":"#N/A"}},{"$f":"Sheet3!Y36","v":2.4607812980619948E-3},{"$f":"CORREL($B$1:B36,$Q$1:Q36)","v":{"$error":"#N/A"}},{"$f":"Sheet3!AA36","v":1.4661625125394423E-3},{"$f":"CORREL($B$1:B36,$S$1:S36)","v":{"$error":"#N/A"}}]
[null,{"$f":"Sheet3!I37","v":{"$error":"#N/A"}},{"$f":"Sheet3!K37","v":-1.7918676774638247E-2},{"$f":"CORREL($B$1:B37,$C$1:C37)","v":{"$error":"#N/A"}},{"$f":"Sheet3!M37","v":5.0656228413538326E-3},{"$f":"CORREL($B$1:B37,$E$1:E37)","v":{"$error":"#N/A"}},{"$f":"Sheet3!O37","v":1.0003077870115282E-3},{"$f":"CORREL($B$1:B37,$G$1:G37)","v":{"$error":"#N/A"}},{"$f":"Sheet3!Q37","v":-1.1499540018399263E-3},{"$f":"CORREL($B$1:B37,$I$1:I37)","v":{"$error":"#N/A"}},{"$f":"Sheet3!S37","v":1.0740314537783589E-3},{"$f":"CORREL($B$1:B37,$K$1:K37)","v":{"$error":"#N/A"}},{"$f":"Sheet3!U37","v":1.1526934603857681E-3},{"$f":"CORREL($B$1:B37,$M$1:M37)","v":{"$error":"#N/A"}},{"$f":"Sheet3!W37","v":9.9953867445808238E-4},{"$f":"CORREL($B$1:B37,$O$1:O37)","v":{"$error":"#N/A"}},{"$f":"Sheet3!Y37","v":2.6145801291909132E-3},{"$f":"CORREL($B$1:B37,$Q$1:Q37)","v":{"$error":"#N/A"}},{"$f":"Sheet3!AA37","v":1.5433289605679449E-3},{"$f":"CORREL($B$1:B37,$S$1:S37)","v":{"$error":"#N/A"}}]
[null,{"$f":"Sheet3!I38","v":{"$error":"#N/A"}},{"$f":"Sheet3!K38","v":-1.6463741480970975E-2},{"$f":"CORREL($B$1:B38,$C$1:C38)","v":{"$error":"#N/A"}},{"$f":"Sheet3!M38","v":4.6818635351906579E-3},{"$f":"CORREL($B$1:B38,$E$1:E38)","v":{"$error":"#N/A"}},{"$f":"Sheet3!O38","v":9.2336103416439336E-4},{"$f":"CORREL($B$1:B38,$G$1:G38)","v":{"$error":"#N/A"}},{"$f":"Sheet3!Q38","v":-1.6099356025760015E-3},{"$f":"CORREL($B$1:B38,$I$1:I38)","v":{"$error":"#N/A"}},{"$f":"Sheet3!S38","v":1.2274645186036892E-3},{"$f":"CORREL($B$1:B38,$K$1:K38)","v":{"$error":"#N/A"}},{"$f":"Sheet3!U38","v":6.9161607623153079E-4},{"$f":"CORREL($B$1:B38,$M$1:M38)","v":{"$error":"#N/A"}},{"$f":"Sheet3!W38","v":1.2302014454868035E-3},{"$f":"CORREL($B$1:B38,$O$1:O38)","v":{"$error":"#N/A"}},{"$f":"Sheet3!Y38","v":2.7683789603198316E-3},{"$f":"CORREL($B$1:B38,$Q$1:Q38)","v":{"$error":"#N/A"}},{"$f":"Sheet3!AA38","v":2.160660544795088E-3},{"$f":"CORREL($B$1:B38,$S$1:S38)","v":{"$error":"#N/A"}}]
[null,{"$f":"Sheet3!I39","v":{"$error":"#N/A"}},{"$f":"Sheet3!K39","v":-1.6999770273374716E-2},{"$f":"CORREL($B$1:B39,$C$1:C39)","v":{"$error":"#N/A"}},{"$f":"Sheet3!M39","v":4.7586153964232231E-3},{"$f":"CORREL($B$1:B39,$E$1:E39)","v":{"$error":"#N/A"}},{"$f":"Sheet3!O39","v":1.6158818097877321E-3},{"$f":"CORREL($B$1:B39,$G$1:G39)","v":{"$error":"#N/A"}},{"$f":"Sheet3!Q39","v":-1.2266176019626927E-3},{"$f":"CORREL($B$1:B39,$I$1:I39)","v":{"$error":"#N/A"}},{"$f":"Sheet3!S39","v":1.1507479861910242E-3},{"$f":"CORREL($B$1:B39,$K$1:K39)","v":{"$error":"#N/A"}},{"$f":"Sheet3!U39","v":5.3792361484672675E-4},{"$f":"CORREL($B$1:B39,$M$1:M39)","v":{"$error":"#N/A"}},{"$f":"Sheet3!W39","v":1.0764262648009311E-3},{"$f":"CORREL($B$1:B39,$O$1:O39)","v":{"$error":"#N/A"}},{"$f":"Sheet3!Y39","v":2.4607812980619948E-3},{"$f":"CORREL($B$1:B39,$Q$1:Q39)","v":{"$error":"#N/A"}},{"$f":"Sheet3!AA39","v":2.6236592329654013E-3},{"$f":"CORREL($B$1:B39,$S$1:S39)","v":{"$error":"#N/A"}}]
[null,{"$f":"Sheet3!I40","v":{"$error":"#N/A"}},{"$f":"Sheet3!K40","v":-1.7382647982234507E-2},{"$f":"CORREL($B$1:B40,$C$1:C40)","v":{"$error":"#N/A"}},{"$f":"Sheet3!M40","v":4.3748560902600493E-3},{"$f":"CORREL($B$1:B40,$E$1:E40)","v":{"$error":"#N/A"}},{"$f":"Sheet3!O40","v":1.4619883040936374E-3},{"$f":"CORREL($B$1:B40,$G$1:G40)","v":{"$error":"#N/A"}},{"$f":"Sheet3!Q40","v":-1.1499540018399263E-3},{"$f":"CORREL($B$1:B40,$I$1:I40)","v":{"$error":"#N/A"}},{"$f":"Sheet3!S40","v":1.994629842731039E-3},{"$f":"CORREL($B$1:B40,$K$1:K40)","v":{"$error":"#N/A"}},{"$f":"Sheet3!U40","v":6.1476984553904138E-4},{"$f":"CORREL($B$1:B40,$M$1:M40)","v":{"$error":"#N/A"}},{"$f":"Sheet3!W40","v":9.9953867445808238E-4},{"$f":"CORREL($B$1:B40,$O$1:O40)","v":{"$error":"#N/A"}},{"$f":"Sheet3!Y40","v":2.4607812980619948E-3},{"$f":"CORREL($B$1:B40,$Q$1:Q40)","v":{"$error":"#N/A"}},{"$f":"Sheet3!AA40","v":2.7008256809939036E-3},{"$f":"CORREL($B$1:B40,$S$1:S40)","v":{"$error":"#N/A"}}]
[null,{"$f":"Sheet3!I41","v":{"$error":"#N/A"}},{"$f":"Sheet3!K41","v":-1.7918676774638247E-2},{"$f":"CORREL($B$1:B41,$C$1:C41)","v":{"$error":"#N/A"}},{"$f":"Sheet3!M41","v":4.4516079514927889E-3},{"$f":"CORREL($B$1:B41,$E$1:E41)","v":{"$error":"#N/A"}},{"$f":"Sheet3!O41","v":1.6928285626346918E-3},{"$f":"CORREL($B$1:B41,$G$1:G41)","v":{"$error":"#N/A"}},{"$f":"Sheet3!Q41","v":-1.6099356025760015E-3},{"$f":"CORREL($B$1:B41,$I$1:I41)","v":{"$error":"#N/A"}},{"$f":"Sheet3!S41","v":2.0713463751438786E-3},{"$f":"CORREL($B$1:B41,$K$1:K41)","v":{"$error":"#N/A"}},{"$f":"Sheet3!U41","v":1.5369246138480404E-4},{"$f":"CORREL($B$1:B41,$M$1:M41)","v":{"$error":"#N/A"}},{"$f":"Sheet3!W41","v":1.0764262648009311E-3},{"$f":"CORREL($B$1:B41,$O$1:O41)","v":{"$error":"#N/A"}},{"$f":"Sheet3!Y41","v":2.6145801291909132E-3},{"$f":"CORREL($B$1:B41,$Q$1:Q41)","v":{"$error":"#N/A"}},{"$f":"Sheet3!AA41","v":2.4693263369085713E-3},{"$f":"CORREL($B$1:B41,$S$1:S41)","v":{"$error":"#N/A"}}]
[null,{"$f":"Sheet3!I42","v":{"$error":"#N/A"}},{"$f":"Sheet3!K42","v":-1.745922352400657E-2},{"$f":"CORREL($B$1:B42,$C$1:C42)","v":{"$error":"#N/A"}},{"$f":"Sheet3!M42","v":5.1423747025863978E-3},{"$f":"CORREL($B$1:B42,$E$1:E42)","v":{"$error":"#N/A"}},{"$f":"Sheet3!O42","v":1.8467220683287867E-3},{"$f":"CORREL($B$1:B42,$G$1:G42)","v":{"$error":"#N/A"}},{"$f":"Sheet3!Q42","v":-1.379944802208051E-3},{"$f":"CORREL($B$1:B42,$I$1:I42)","v":{"$error":"#N/A"}},{"$f":"Sheet3!S42","v":1.6877637130802037E-3},{"$f":"CORREL($B$1:B42,$K$1:K42)","v":{"$error":"#N/A"}},{"$f":"Sheet3!U42","v":4.6107738415441206E-4},{"$f":"CORREL($B$1:B42,$M$1:M42)","v":{"$error":"#N/A"}},{"$f":"Sheet3!W42","v":1.3070890358296522E-3},{"$f":"CORREL($B$1:B42,$O$1:O42)","v":{"$error":"#N/A"}},{"$f":"Sheet3!Y42","v":2.6145801291909132E-3},{"$f":"CORREL($B$1:B42,$Q$1:Q42)","v":{"$error":"#N/A"}},{"$f":"Sheet3!AA42","v":2.9323250250790603E-3},{"$f":"CORREL($B$1:B42,$S$1:S42)","v":{"$error":"#N/A"}}]
[null,{"$f":"Sheet3!I43","v":{"$error":"#N/A"}},{"$f":"Sheet3!K43","v":-1.8071827858182201E-2},{"$f":"CORREL($B$1:B43,$C$1:C43)","v":{"$error":"#N/A"}},{"$f":"Sheet3!M43","v":4.5283598127253532E-3},{"$f":"CORREL($B$1:B43,$E$1:E43)","v":{"$error":"#N/A"}},{"$f":"Sheet3!O43","v":2.0006155740228812E-3},{"$f":"CORREL($B$1:B43,$G$1:G43)","v":{"$error":"#N/A"}},{"$f":"Sheet3!Q43","v":-1.5332720024532351E-3},{"$f":"CORREL($B$1:B43,$I$1:I43)","v":{"$error":"#N/A"}},{"$f":"Sheet3!S43","v":1.6110471806673641E-3},{"$f":"CORREL($B$1:B43,$K$1:K43)","v":{"$error":"#N/A"}},{"$f":"Sheet3!U43","v":8.4530853761633482E-4},{"$f":"CORREL($B$1:B43,$M$1:M43)","v":{"$error":"#N/A"}},{"$f":"Sheet3!W43","v":1.4608642165155243E-3},{"$f":"CORREL($B$1:B43,$O$1:O43)","v":{"$error":"#N/A"}},{"$f":"Sheet3!Y43","v":2.6914795447554596E-3},{"$f":"CORREL($B$1:B43,$Q$1:Q43)","v":{"$error":"#N/A"}},{"$f":"Sheet3!AA43","v":3.472490161277876E-3},{"$f":"CORREL($B$1:B43,$S$1:S43)","v":{"$error":"#N/A"}}]
[null,{"$f":"Sheet3!I44","v":{"$error":"#N/A"}},{"$f":"Sheet3!K44","v":-1.8761007734129719E-2},{"$f":"CORREL($B$1:B44,$C$1:C44)","v":{"$error":"#N/A"}},{"$f":"Sheet3!M44","v":4.2981042290274841E-3},{"$f":"CORREL($B$1:B44,$E$1:E44)","v":{"$error":"#N/A"}},{"$f":"Sheet3!O44","v":1.9236688211757464E-3},{"$f":"CORREL($B$1:B44,$G$1:G44)","v":{"$error":"#N/A"}},{"$f":"Sheet3!Q44","v":-1.5332720024532351E-3},{"$f":"CORREL($B$1:B44,$I$1:I44)","v":{"$error":"#N/A"}},{"$f":"Sheet3!S44","v":1.7644802454928688E-3},{"$f":"CORREL($B$1:B44,$K$1:K44)","v":{"$error":"#N/A"}},{"$f":"Sheet3!U44","v":8.4530853761633482E-4},{"$f":"CORREL($B$1:B44,$M$1:M44)","v":{"$error":"#N/A"}},{"$f":"Sheet3!W44","v":1.3070890358296522E-3},{"$f":"CORREL($B$1:B44,$O$1:O44)","v":{"$error":"#N/A"}},{"$f":"Sheet3!Y44","v":2.8452783758842032E-3},{"$f":"CORREL($B$1:B44,$Q$1:Q44)","v":{"$error":"#N/A"}},{"$f":"Sheet3!AA44","v":3.8583224014198622E-3},{"$f":"CORREL($B$1:B44,$S$1:S44)","v":{"$error":"#N/A"}}]
[null,{"$f":"Sheet3!I45","v":{"$error":"#N/A"}},{"$f":"Sheet3!K45","v":-1.8761007734129719E-2},{"$f":"CORREL($B$1:B45,$C$1:C45)","v":{"$error":"#N/A"}},{"$f":"Sheet3!M45","v":4.2981042290274841E-3},{"$f":"CORREL($B$1:B45,$E$1:E45)","v":{"$error":"#N/A"}},{"$f":"Sheet3!O45","v":1.7697753154818268E-3},{"$f":"CORREL($B$1:B45,$G$1:G45)","v":{"$error":"#N/A"}},{"$f":"Sheet3!Q45","v":-1.6099356025760015E-3},{"$f":"CORREL($B$1:B45,$I$1:I45)","v":{"$error":"#N/A"}},{"$f":"Sheet3!S45","v":1.6877637130802037E-3},{"$f":"CORREL($B$1:B45,$K$1:K45)","v":{"$error":"#N/A"}},{"$f":"Sheet3!U45","v":1.0758472296934535E-3},{"$f":"CORREL($B$1:B45,$M$1:M45)","v":{"$error":"#N/A"}},{"$f":"Sheet3!W45","v":1.4608642165155243E-3},{"$f":"CORREL($B$1:B45,$O$1:O45)","v":{"$error":"#N/A"}},{"$f":"Sheet3!Y45","v":2.8452783758842032E-3},{"$f":"CORREL($B$1:B45,$Q$1:Q45)","v":{"$error":"#N/A"}},{"$f":"Sheet3!AA45","v":4.3984875376185031E-3},{"$f":"CORREL($B$1:B45,$S$1:S45)","v":{"$error":"#N/A"}}]
[null,{"$f":"Sheet3!I46","v":{"$error":"#N/A"}},{"$f":"Sheet3!K46","v":-1.9143885442989509E-2},{"$f":"CORREL($B$1:B46,$C$1:C46)","v":{"$error":"#N/A"}},{"$f":"Sheet3!M46","v":3.9910967840968746E-3},{"$f":"CORREL($B$1:B46,$E$1:E46)","v":{"$error":"#N/A"}},{"$f":"Sheet3!O46","v":1.7697753154818268E-3},{"$f":"CORREL($B$1:B46,$G$1:G46)","v":{"$error":"#N/A"}},{"$f":"Sheet3!Q46","v":-1.9165900030665439E-3},{"$f":"CORREL($B$1:B46,$I$1:I46)","v":{"$error":"#N/A"}},{"$f":"Sheet3!S46","v":1.4576141158420338E-3},{"$f":"CORREL($B$1:B46,$K$1:K46)","v":{"$error":"#N/A"}},{"$f":"Sheet3!U46","v":1.0758472296934535E-3},{"$f":"CORREL($B$1:B46,$M$1:M46)","v":{"$error":"#N/A"}},{"$f":"Sheet3!W46","v":1.2302014454868035E-3},{"$f":"CORREL($B$1:B46,$O$1:O46)","v":{"$error":"#N/A"}},{"$f":"Sheet3!Y46","v":3.3066748692709585E-3},{"$f":"CORREL($B$1:B46,$Q$1:Q46)","v":{"$error":"#N/A"}},{"$f":"Sheet3!AA46","v":3.8583224014198622E-3},{"$f":"CORREL($B$1:B46,$S$1:S46)","v":{"$error":"#N/A"}}]
[null,{"$f":"Sheet3!I47","v":{"$error":"#N/A"}},{"$f":"Sheet3!K47","v":-1.9067309901217619E-2},{"$f":"CORREL($B$1:B47,$C$1:C47)","v":{"$error":"#N/A"}},{"$f":"Sheet3!M47","v":3.9143449228643094E-3},{"$f":"CORREL($B$1:B47,$E$1:E47)","v":{"$error":"#N/A"}},{"$f":"Sheet3!O47","v":1.5389350569405972E-3},{"$f":"CORREL($B$1:B47,$G$1:G47)","v":{"$error":"#N/A"}},{"$f":"Sheet3!Q47","v":-1.8399264029439518E-3},{"$f":"CORREL($B$1:B47,$I$1:I47)","v":{"$error":"#N/A"}},{"$f":"Sheet3!S47","v":1.3041810510165289E-3},{"$f":"CORREL($B$1:B47,$K$1:K47)","v":{"$error":"#N/A"}},{"$f":"Sheet3!U47","v":1.0758472296934535E-3},{"$f":"CORREL($B$1:B47,$M$1:M47)","v":{"$error":"#N/A"}},{"$f":"Sheet3!W47","v":1.5377518068583733E-3},{"$f":"CORREL($B$1:B47,$O$1:O47)","v":{"$error":"#N/A"}},{"$f":"Sheet3!Y47","v":2.9990772070131217E-3},{"$f":"CORREL($B$1:B47,$Q$1:Q47)","v":{"$error":"#N/A"}},{"$f":"Sheet3!AA47","v":3.5496566093062031E-3},{"$f":"CORREL($B$1:B47,$S$1:S47)","v":{"$error":"#N/A"}}]
[null,{"$f":"Sheet3!I48","v":{"$error":"#N/A"}},{"$f":"Sheet3!K48","v":-1.9450187610077409E-2},{"$f":"CORREL($B$1:B48,$C$1:C48)","v":{"$error":"#N/A"}},{"$f":"Sheet3!M48","v":3.9143449228643094E-3},{"$f":"CORREL($B$1:B48,$E$1:E48)","v":{"$error":"#N/A"}},{"$f":"Sheet3!O48","v":1.4619883040936374E-3},{"$f":"CORREL($B$1:B48,$G$1:G48)","v":{"$error":"#N/A"}},{"$f":"Sheet3!Q48","v":-1.9932536031893101E-3},{"$f":"CORREL($B$1:B48,$I$1:I48)","v":{"$error":"#N/A"}},{"$f":"Sheet3!S48","v":1.5343306482546988E-3},{"$f":"CORREL($B$1:B48,$K$1:K48)","v":{"$error":"#N/A"}},{"$f":"Sheet3!U48","v":1.3063859217705722E-3},{"$f":"CORREL($B$1:B48,$M$1:M48)","v":{"$error":"#N/A"}},{"$f":"Sheet3!W48","v":1.2302014454868035E-3},{"$f":"CORREL($B$1:B48,$O$1:O48)","v":{"$error":"#N/A"}},{"$f":"Sheet3!Y48","v":2.9221777914487496E-3},{"$f":"CORREL($B$1:B48,$Q$1:Q48)","v":{"$error":"#N/A"}},{"$f":"Sheet3!AA48","v":4.0898217455050193E-3},{"$f":"CORREL($B$1:B48,$S$1:S48)","v":{"$error":"#N/A"}}]
[null,{"$f":"Sheet3!I49","v":{"$error":"#N/A"}},{"$f":"Sheet3!K49","v":-1.8990734359445732E-2},{"$f":"CORREL($B$1:B49,$C$1:C49)","v":{"$error":"#N/A"}},{"$f":"Sheet3!M49","v":4.0678486453296142E-3},{"$f":"CORREL($B$1:B49,$E$1:E49)","v":{"$error":"#N/A"}},{"$f":"Sheet3!O49","v":1.6158818097877321E-3},{"$f":"CORREL($B$1:B49,$G$1:G49)","v":{"$error":"#N/A"}},{"$f":"Sheet3!Q49","v":-2.3765716038026191E-3},{"$f":"CORREL($B$1:B49,$I$1:I49)","v":{"$error":"#N/A"}},{"$f":"Sheet3!S49","v":1.5343306482546988E-3},{"$f":"CORREL($B$1:B49,$K$1:K49)","v":{"$error":"#N/A"}},{"$f":"Sheet3!U49","v":1.2295396910782575E-3},{"$f":"CORREL($B$1:B49,$M$1:M49)","v":{"$error":"#N/A"}},{"$f":"Sheet3!W49","v":8.457634937722101E-4},{"$f":"CORREL($B$1:B49,$O$1:O49)","v":{"$error":"#N/A"}},{"$f":"Sheet3!Y49","v":2.7683789603198316E-3},{"$f":"CORREL($B$1:B49,$Q$1:Q49)","v":{"$error":"#N/A"}},{"$f":"Sheet3!AA49","v":3.7811559533913598E-3},{"$f":"CORREL($B$1:B49,$S$1:S49)","v":{"$error":"#N/A"}}]
[null,{"$f":"Sheet3!I50","v":{"$error":"#N/A"}},{"$f":"Sheet3!K50","v":-1.8990734359445732E-2},{"$f":"CORREL($B$1:B50,$C$1:C50)","v":{"$error":"#N/A"}},{"$f":"Sheet3!M50","v":3.3770818942358304E-3},{"$f":"CORREL($B$1:B50,$E$1:E50)","v":{"$error":"#N/A"}},{"$f":"Sheet3!O50","v":1.6928285626346918E-3},{"$f":"CORREL($B$1:B50,$G$1:G50)","v":{"$error":"#N/A"}},{"$f":"Sheet3!Q50","v":-2.0699172033119021E-3},{"$f":"CORREL($B$1:B50,$I$1:I50)","v":{"$error":"#N/A"}},{"$f":"Sheet3!S50","v":1.1507479861910242E-3},{"$f":"CORREL($B$1:B50,$K$1:K50)","v":{"$error":"#N/A"}},{"$f":"Sheet3!U50","v":1.3063859217705722E-3},{"$f":"CORREL($B$1:B50,$M$1:M50)","v":{"$error":"#N/A"}},{"$f":"Sheet3!W50","v":8.457634937722101E-4},{"$f":"CORREL($B$1:B50,$O$1:O50)","v":{"$error":"#N/A"}},{"$f":"Sheet3!Y50","v":2.4607812980619948E-3},{"$f":"CORREL($B$1:B50,$Q$1:Q50)","v":{"$error":"#N/A"}},{"$f":"Sheet3!AA50","v":3.3181572652210465E-3},{"$f":"CORREL($B$1:B50,$S$1:S50)","v":{"$error":"#N/A"}}]
[null,{"$f":"Sheet3!I51","v":{"$error":"#N/A"}},{"$f":"Sheet3!K51","v":-2.0751971820200731E-2},{"$f":"CORREL($B$1:B51,$C$1:C51)","v":{"$error":"#N/A"}},{"$f":"Sheet3!M51","v":3.45383375546857E-3},{"$f":"CORREL($B$1:B51,$E$1:E51)","v":{"$error":"#N/A"}},{"$f":"Sheet3!O51","v":1.6158818097877321E-3},{"$f":"CORREL($B$1:B51,$G$1:G51)","v":{"$error":"#N/A"}},{"$f":"Sheet3!Q51","v":-2.0699172033119021E-3},{"$f":"CORREL($B$1:B51,$I$1:I51)","v":{"$error":"#N/A"}},{"$f":"Sheet3!S51","v":1.1507479861910242E-3},{"$f":"CORREL($B$1:B51,$K$1:K51)","v":{"$error":"#N/A"}},{"$f":"Sheet3!U51","v":1.2295396910782575E-3},{"$f":"CORREL($B$1:B51,$M$1:M51)","v":{"$error":"#N/A"}},{"$f":"Sheet3!W51","v":7.6887590342918663E-4},{"$f":"CORREL($B$1:B51,$O$1:O51)","v":{"$error":"#N/A"}},{"$f":"Sheet3!Y51","v":2.6145801291909132E-3},{"$f":"CORREL($B$1:B51,$Q$1:Q51)","v":{"$error":"#N/A"}},{"$f":"Sheet3!AA51","v":3.7039895053630327E-3},{"$f":"CORREL($B$1:B51,$S$1:S51)","v":{"$error":"#N/A"}}]
[null,{"$f":"Sheet3!I52","v":{"$error":"#N/A"}},{"$f":"Sheet3!K52","v":-1.9220460984761569E-2},{"$f":"CORREL($B$1:B52,$C$1:C52)","v":{"$error":"#N/A"}},{"$f":"Sheet3!M52","v":3.5305856167011348E-3},{"$f":"CORREL($B$1:B52,$E$1:E52)","v":{"$error":"#N/A"}},{"$f":"Sheet3!O52","v":1.8467220683287867E-3},{"$f":"CORREL($B$1:B52,$G$1:G52)","v":{"$error":"#N/A"}},{"$f":"Sheet3!Q52","v":-2.3765716038026191E-3},{"$f":"CORREL($B$1:B52,$I$1:I52)","v":{"$error":"#N/A"}},{"$f":"Sheet3!S52","v":9.205983889528542E-4},{"$f":"CORREL($B$1:B52,$K$1:K52)","v":{"$error":"#N/A"}},{"$f":"Sheet3!U52","v":1.3063859217705722E-3},{"$f":"CORREL($B$1:B52,$M$1:M52)","v":{"$error":"#N/A"}},{"$f":"Sheet3!W52","v":8.457634937722101E-4},{"$f":"CORREL($B$1:B52,$O$1:O52)","v":{"$error":"#N/A"}},{"$f":"Sheet3!Y52","v":2.4607812980619948E-3},{"$f":"CORREL($B$1:B52,$Q$1:Q52)","v":{"$error":"#N/A"}},{"$f":"Sheet3!AA52","v":4.2441546415618488E-3},{"$f":"CORREL($B$1:B52,$S$1:S52)","v":{"$error":"#N/A"}}]
[null,{"$f":"Sheet3!I53","v":{"$error":"#N/A"}},{"$f":"Sheet3!K53","v":-1.9450187610077409E-2},{"$f":"CORREL($B$1:B53,$C$1:C53)","v":{"$error":"#N/A"}},{"$f":"Sheet3!M53","v":3.6073374779337E-3},{"$f":"CORREL($B$1:B53,$E$1:E53)","v":{"$error":"#N/A"}},{"$f":"Sheet3!O53","v":2.0006155740228812E-3},{"$f":"CORREL($B$1:B53,$G$1:G53)","v":{"$error":"#N/A"}},{"$f":"Sheet3!Q53","v":-2.4532352039252111E-3},{"$f":"CORREL($B$1:B53,$I$1:I53)","v":{"$error":"#N/A"}},{"$f":"Sheet3!S53","v":9.205983889528542E-4},{"$f":"CORREL($B$1:B53,$K$1:K53)","v":{"$error":"#N/A"}},{"$f":"Sheet3!U53","v":1.3063859217705722E-3},{"$f":"CORREL($B$1:B53,$M$1:M53)","v":{"$error":"#N/A"}},{"$f":"Sheet3!W53","v":6.1510072274348912E-4},{"$f":"CORREL($B$1:B53,$O$1:O53)","v":{"$error":"#N/A"}},{"$f":"Sheet3!Y53","v":2.4607812980619948E-3},{"$f":"CORREL($B$1:B53,$Q$1:Q53)","v":{"$error":"#N/A"}},{"$f":"Sheet3!AA53","v":5.7874836021297935E-3},{"$f":"CORREL($B$1:B53,$S$1:S53)","v":{"$error":"#N/A"}}]
[null,{"$f":"Sheet3!I54","v":{"$error":"#N/A"}},{"$f":"Sheet3!K54","v":-1.9067309901217619E-2},{"$f":"CORREL($B$1:B54,$C$1:C54)","v":{"$error":"#N/A"}},{"$f":"Sheet3!M54","v":3.3770818942358304E-3},{"$f":"CORREL($B$1:B54,$E$1:E54)","v":{"$error":"#N/A"}},{"$f":"Sheet3!O54","v":1.8467220683287867E-3},{"$f":"CORREL($B$1:B54,$G$1:G54)","v":{"$error":"#N/A"}},{"$f":"Sheet3!Q54","v":-2.6832260042931612E-3},{"$f":"CORREL($B$1:B54,$I$1:I54)","v":{"$error":"#N/A"}},{"$f":"Sheet3!S54","v":7.6716532412734941E-4},{"$f":"CORREL($B$1:B54,$K$1:K54)","v":{"$error":"#N/A"}},{"$f":"Sheet3!U54","v":9.2215476830864946E-4},{"$f":"CORREL($B$1:B54,$M$1:M54)","v":{"$error":"#N/A"}},{"$f":"Sheet3!W54","v":6.1510072274348912E-4},{"$f":"CORREL($B$1:B54,$O$1:O54)","v":{"$error":"#N/A"}},{"$f":"Sheet3!Y54","v":2.3838818824976227E-3},{"$f":"CORREL($B$1:B54,$Q$1:Q54)","v":{"$error":"#N/A"}},{"$f":"Sheet3!AA54","v":6.636314530442093E-3},{"$f":"CORREL($B$1:B54,$S$1:S54)","v":{"$error":"#N/A"}}]
[null,{"$f":"Sheet3!I55","v":{"$error":"#N/A"}},{"$f":"Sheet3!K55","v":-1.95267631518493E-2},{"$f":"CORREL($B$1:B55,$C$1:C55)","v":{"$error":"#N/A"}},{"$f":"Sheet3!M55","v":3.3770818942358304E-3},{"$f":"CORREL($B$1:B55,$E$1:E55)","v":{"$error":"#N/A"}},{"$f":"Sheet3!O55","v":2.0775623268698413E-3},{"$f":"CORREL($B$1:B55,$G$1:G55)","v":{"$error":"#N/A"}},{"$f":"Sheet3!Q55","v":-2.7598896044159276E-3},{"$f":"CORREL($B$1:B55,$I$1:I55)","v":{"$error":"#N/A"}},{"$f":"Sheet3!S55","v":9.205983889528542E-4},{"$f":"CORREL($B$1:B55,$K$1:K55)","v":{"$error":"#N/A"}},{"$f":"Sheet3!U55","v":8.4530853761633482E-4},{"$f":"CORREL($B$1:B55,$M$1:M55)","v":{"$error":"#N/A"}},{"$f":"Sheet3!W55","v":9.9953867445808238E-4},{"$f":"CORREL($B$1:B55,$O$1:O55)","v":{"$error":"#N/A"}},{"$f":"Sheet3!Y55","v":2.3069824669332511E-3},{"$f":"CORREL($B$1:B55,$Q$1:Q55)","v":{"$error":"#N/A"}},{"$f":"Sheet3!AA55","v":6.1733158422717796E-3},{"$f":"CORREL($B$1:B55,$S$1:S55)","v":{"$error":"#N/A"}}]
[null,{"$f":"Sheet3!I56","v":{"$error":"#N/A"}},{"$f":"Sheet3!K56","v":-1.8914158817673669E-2},{"$f":"CORREL($B$1:B56,$C$1:C56)","v":{"$error":"#N/A"}},{"$f":"Sheet3!M56","v":3.3770818942358304E-3},{"$f":"CORREL($B$1:B56,$E$1:E56)","v":{"$error":"#N/A"}},{"$f":"Sheet3!O56","v":2.0775623268698413E-3},{"$f":"CORREL($B$1:B56,$G$1:G56)","v":{"$error":"#N/A"}},{"$f":"Sheet3!Q56","v":-2.5298988040479775E-3},{"$f":"CORREL($B$1:B56,$I$1:I56)","v":{"$error":"#N/A"}},{"$f":"Sheet3!S56","v":9.205983889528542E-4},{"$f":"CORREL($B$1:B56,$K$1:K56)","v":{"$error":"#N/A"}},{"$f":"Sheet3!U56","v":8.4530853761633482E-4},{"$f":"CORREL($B$1:B56,$M$1:M56)","v":{"$error":"#N/A"}},{"$f":"Sheet3!W56","v":8.457634937722101E-4},{"$f":"CORREL($B$1:B56,$O$1:O56)","v":{"$error":"#N/A"}},{"$f":"Sheet3!Y56","v":2.4607812980619948E-3},{"$f":"CORREL($B$1:B56,$Q$1:Q56)","v":{"$error":"#N/A"}},{"$f":"Sheet3!AA56","v":5.3244849139593049E-3},{"$f":"CORREL($B$1:B56,$S$1:S56)","v":{"$error":"#N/A"}}]
[null,{"$f":"Sheet3!I57","v":{"$error":"#N/A"}},{"$f":"Sheet3!K57","v":-1.95267631518493E-2},{"$f":"CORREL($B$1:B57,$C$1:C57)","v":{"$error":"#N/A"}},{"$f":"Sheet3!M57","v":3.3770818942358304E-3},{"$f":"CORREL($B$1:B57,$E$1:E57)","v":{"$error":"#N/A"}},{"$f":"Sheet3!O57","v":1.8467220683287867E-3},{"$f":"CORREL($B$1:B57,$G$1:G57)","v":{"$error":"#N/A"}},{"$f":"Sheet3!Q57","v":-2.6065624041705692E-3},{"$f":"CORREL($B$1:B57,$I$1:I57)","v":{"$error":"#N/A"}},{"$f":"Sheet3!S57","v":6.9044879171468424E-4},{"$f":"CORREL($B$1:B57,$K$1:K57)","v":{"$error":"#N/A"}},{"$f":"Sheet3!U57","v":7.6846230692384542E-4},{"$f":"CORREL($B$1:B57,$M$1:M57)","v":{"$error":"#N/A"}},{"$f":"Sheet3!W57","v":6.9198831308633782E-4},{"$f":"CORREL($B$1:B57,$O$1:O57)","v":{"$error":"#N/A"}},{"$f":"Sheet3!Y57","v":2.6145801291909132E-3},{"$f":"CORREL($B$1:B57,$Q$1:Q57)","v":{"$error":"#N/A"}},{"$f":"Sheet3!AA57","v":5.3244849139593049E-3},{"$f":"CORREL($B$1:B57,$S$1:S57)","v":{"$error":"#N/A"}}]
[null,{"$f":"Sheet3!I58","v":{"$error":"#N/A"}},{"$f":"Sheet3!K58","v":-1.960333869362136E-2},{"$f":"CORREL($B$1:B58,$C$1:C58)","v":{"$error":"#N/A"}},{"$f":"Sheet3!M58","v":3.6073374779337E-3},{"$f":"CORREL($B$1:B58,$E$1:E58)","v":{"$error":"#N/A"}},{"$f":"Sheet3!O58","v":1.6158818097877321E-3},{"$f":"CORREL($B$1:B58,$G$1:G58)","v":{"$error":"#N/A"}},{"$f":"Sheet3!Q58","v":-2.7598896044159276E-3},{"$f":"CORREL($B$1:B58,$I$1:I58)","v":{"$error":"#N/A"}},{"$f":"Sheet3!S58","v":8.4388185654001458E-4},{"$f":"CORREL($B$1:B58,$K$1:K58)","v":{"$error":"#N/A"}},{"$f":"Sheet3!U58","v":9.2215476830864946E-4},{"$f":"CORREL($B$1:B58,$M$1:M58)","v":{"$error":"#N/A"}},{"$f":"Sheet3!W58","v":1.0764262648009311E-3},{"$f":"CORREL($B$1:B58,$O$1:O58)","v":{"$error":"#N/A"}},{"$f":"Sheet3!Y58","v":2.6914795447554596E-3},{"$f":"CORREL($B$1:B58,$Q$1:Q58)","v":{"$error":"#N/A"}},{"$f":"Sheet3!AA58","v":5.0158191218458211E-3},{"$f":"CORREL($B$1:B58,$S$1:S58)","v":{"$error":"#N/A"}}]
[null,{"$f":"Sheet3!I59","v":{"$error":"#N/A"}},{"$f":"Sheet3!K59","v":-1.9909640860709087E-2},{"$f":"CORREL($B$1:B59,$C$1:C59)","v":{"$error":"#N/A"}},{"$f":"Sheet3!M59","v":3.9143449228643094E-3},{"$f":"CORREL($B$1:B59,$E$1:E59)","v":{"$error":"#N/A"}},{"$f":"Sheet3!O59","v":1.6928285626346918E-3},{"$f":"CORREL($B$1:B59,$G$1:G59)","v":{"$error":"#N/A"}},{"$f":"Sheet3!Q59","v":-2.8365532045385197E-3},{"$f":"CORREL($B$1:B59,$I$1:I59)","v":{"$error":"#N/A"}},{"$f":"Sheet3!S59","v":7.6716532412734941E-4},{"$f":"CORREL($B$1:B59,$K$1:K59)","v":{"$error":"#N/A"}},{"$f":"Sheet3!U59","v":9.2215476830864946E-4},{"$f":"CORREL($B$1:B59,$M$1:M59)","v":{"$error":"#N/A"}},{"$f":"Sheet3!W59","v":9.9953867445808238E-4},{"$f":"CORREL($B$1:B59,$O$1:O59)","v":{"$error":"#N/A"}},{"$f":"Sheet3!Y59","v":2.2300830513687043E-3},{"$f":"CORREL($B$1:B59,$Q$1:Q59)","v":{"$error":"#N/A"}},{"$f":"Sheet3!AA59","v":5.4016513619878073E-3},{"$f":"CORREL($B$1:B59,$S$1:S59)","v":{"$error":"#N/A"}}]
[null,{"$f":"Sheet3!I60","v":{"$error":"#N/A"}},{"$f":"Sheet3!K60","v":-2.0522245194884891E-2},{"$f":"CORREL($B$1:B60,$C$1:C60)","v":{"$error":"#N/A"}},{"$f":"Sheet3!M60","v":3.6073374779337E-3},{"$f":"CORREL($B$1:B60,$E$1:E60)","v":{"$error":"#N/A"}},{"$f":"Sheet3!O60","v":1.7697753154818268E-3},{"$f":"CORREL($B$1:B60,$G$1:G60)","v":{"$error":"#N/A"}},{"$f":"Sheet3!Q60","v":-3.0665440049064702E-3},{"$f":"CORREL($B$1:B60,$I$1:I60)","v":{"$error":"#N/A"}},{"$f":"Sheet3!S60","v":6.9044879171468424E-4},{"$f":"CORREL($B$1:B60,$K$1:K60)","v":{"$error":"#N/A"}},{"$f":"Sheet3!U60","v":6.9161607623153079E-4},{"$f":"CORREL($B$1:B60,$M$1:M60)","v":{"$error":"#N/A"}},{"$f":"Sheet3!W60","v":8.457634937722101E-4},{"$f":"CORREL($B$1:B60,$O$1:O60)","v":{"$error":"#N/A"}},{"$f":"Sheet3!Y60","v":1.076591817902079E-3},{"$f":"CORREL($B$1:B60,$Q$1:Q60)","v":{"$error":"#N/A"}},{"$f":"Sheet3!AA60","v":5.2473184659309778E-3},{"$f":"CORREL($B$1:B60,$S$1:S60)","v":{"$error":"#N/A"}}]
[null,{"$f":"Sheet3!I61","v":{"$error":"#N/A"}},{"$f":"Sheet3!K61","v":-2.006279194425304E-2},{"$f":"CORREL($B$1:B61,$C$1:C61)","v":{"$error":"#N/A"}},{"$f":"Sheet3!M61","v":3.1468263105379605E-3},{"$f":"CORREL($B$1:B61,$E$1:E61)","v":{"$error":"#N/A"}},{"$f":"Sheet3!O61","v":1.9236688211757464E-3},{"$f":"CORREL($B$1:B61,$G$1:G61)","v":{"$error":"#N/A"}},{"$f":"Sheet3!Q61","v":-3.0665440049064702E-3},{"$f":"CORREL($B$1:B61,$I$1:I61)","v":{"$error":"#N/A"}},{"$f":"Sheet3!S61","v":9.205983889528542E-4},{"$f":"CORREL($B$1:B61,$K$1:K61)","v":{"$error":"#N/A"}},{"$f":"Sheet3!U61","v":9.9900099900096409E-4},{"$f":"CORREL($B$1:B61,$M$1:M61)","v":{"$error":"#N/A"}},{"$f":"Sheet3!W61","v":1.1533138551437798E-3},{"$f":"CORREL($B$1:B61,$O$1:O61)","v":{"$error":"#N/A"}},{"$f":"Sheet3!Y61","v":1.2303906490309974E-3},{"$f":"CORREL($B$1:B61,$Q$1:Q61)","v":{"$error":"#N/A"}},{"$f":"Sheet3!AA61","v":5.4788178100161344E-3},{"$f":"CORREL($B$1:B61,$S$1:S61)","v":{"$error":"#N/A"}}]
[null,{"$f":"Sheet3!I62","v":{"$error":"#N/A"}},{"$f":"Sheet3!K62","v":-1.95267631518493E-2},{"$f":"CORREL($B$1:B62,$C$1:C62)","v":{"$error":"#N/A"}},{"$f":"Sheet3!M62","v":3.2235781717705257E-3},{"$f":"CORREL($B$1:B62,$E$1:E62)","v":{"$error":"#N/A"}},{"$f":"Sheet3!O62","v":1.5389350569405972E-3},{"$f":"CORREL($B$1:B62,$G$1:G62)","v":{"$error":"#N/A"}},{"$f":"Sheet3!Q62","v":-3.2198712051518287E-3},{"$f":"CORREL($B$1:B62,$I$1:I62)","v":{"$error":"#N/A"}},{"$f":"Sheet3!S62","v":9.205983889528542E-4},{"$f":"CORREL($B$1:B62,$K$1:K62)","v":{"$error":"#N/A"}},{"$f":"Sheet3!U62","v":9.9900099900096409E-4},{"$f":"CORREL($B$1:B62,$M$1:M62)","v":{"$error":"#N/A"}},{"$f":"Sheet3!W62","v":1.0764262648009311E-3},{"$f":"CORREL($B$1:B62,$O$1:O62)","v":{"$error":"#N/A"}},{"$f":"Sheet3!Y62","v":1.3841894801599158E-3},{"$f":"CORREL($B$1:B62,$Q$1:Q62)","v":{"$error":"#N/A"}},{"$f":"Sheet3!AA62","v":5.5559842580444616E-3},{"$f":"CORREL($B$1:B62,$S$1:S62)","v":{"$error":"#N/A"}}]
[null,{"$f":"Sheet3!I63","v":{"$error":"#N/A"}},{"$f":"Sheet3!K63","v":-1.975648977716531E-2},{"$f":"CORREL($B$1:B63,$C$1:C63)","v":{"$error":"#N/A"}},{"$f":"Sheet3!M63","v":3.3003300330032652E-3},{"$f":"CORREL($B$1:B63,$E$1:E63)","v":{"$error":"#N/A"}},{"$f":"Sheet3!O63","v":1.7697753154818268E-3},{"$f":"CORREL($B$1:B63,$G$1:G63)","v":{"$error":"#N/A"}},{"$f":"Sheet3!Q63","v":-4.3698252069917553E-3},{"$f":"CORREL($B$1:B63,$I$1:I63)","v":{"$error":"#N/A"}},{"$f":"Sheet3!S63","v":9.205983889528542E-4},{"$f":"CORREL($B$1:B63,$K$1:K63)","v":{"$error":"#N/A"}},{"$f":"Sheet3!U63","v":9.2215476830864946E-4},{"$f":"CORREL($B$1:B63,$M$1:M63)","v":{"$error":"#N/A"}},{"$f":"Sheet3!W63","v":1.6915269875442454E-3},{"$f":"CORREL($B$1:B63,$O$1:O63)","v":{"$error":"#N/A"}},{"$f":"Sheet3!Y63","v":1.1534912334666256E-3},{"$f":"CORREL($B$1:B63,$Q$1:Q63)","v":{"$error":"#N/A"}},{"$f":"Sheet3!AA63","v":5.6331507060729639E-3},{"$f":"CORREL($B$1:B63,$S$1:S63)","v":{"$error":"#N/A"}}]
[null,{"$f":"Sheet3!I64","v":{"$error":"#N/A"}},{"$f":"Sheet3!K64","v":-2.0292518569568877E-2},{"$f":"CORREL($B$1:B64,$C$1:C64)","v":{"$error":"#N/A"}},{"$f":"Sheet3!M64","v":3.3770818942358304E-3},{"$f":"CORREL($B$1:B64,$E$1:E64)","v":{"$error":"#N/A"}},{"$f":"Sheet3!O64","v":1.7697753154818268E-3},{"$f":"CORREL($B$1:B64,$G$1:G64)","v":{"$error":"#N/A"}},{"$f":"Sheet3!Q64","v":-4.5998160073597054E-3},{"$f":"CORREL($B$1:B64,$I$1:I64)","v":{"$error":"#N/A"}},{"$f":"Sheet3!S64","v":3.0686612965100953E-4},{"$f":"CORREL($B$1:B64,$K$1:K64)","v":{"$error":"#N/A"}},{"$f":"Sheet3!U64","v":9.9900099900096409E-4},{"$f":"CORREL($B$1:B64,$M$1:M64)","v":{"$error":"#N/A"}},{"$f":"Sheet3!W64","v":1.99907734891599E-3},{"$f":"CORREL($B$1:B64,$O$1:O64)","v":{"$error":"#N/A"}},{"$f":"Sheet3!Y64","v":1.2303906490309974E-3},{"$f":"CORREL($B$1:B64,$Q$1:Q64)","v":{"$error":"#N/A"}},{"$f":"Sheet3!AA64","v":5.0929855698741483E-3},{"$f":"CORREL($B$1:B64,$S$1:S64)","v":{"$error":"#N/A"}}]
[null,{"$f":"Sheet3!I65","v":{"$error":"#N/A"}},{"$f":"Sheet3!K65","v":-2.0751971820200731E-2},{"$f":"CORREL($B$1:B65,$C$1:C65)","v":{"$error":"#N/A"}},{"$f":"Sheet3!M65","v":3.9910967840968746E-3},{"$f":"CORREL($B$1:B65,$E$1:E65)","v":{"$error":"#N/A"}},{"$f":"Sheet3!O65","v":1.6158818097877321E-3},{"$f":"CORREL($B$1:B65,$G$1:G65)","v":{"$error":"#N/A"}},{"$f":"Sheet3!Q65","v":-3.6798528058879037E-3},{"$f":"CORREL($B$1:B65,$I$1:I65)","v":{"$error":"#N/A"}},{"$f":"Sheet3!S65","v":1.5343306482550477E-4},{"$f":"CORREL($B$1:B65,$K$1:K65)","v":{"$error":"#N/A"}},{"$f":"Sheet3!U65","v":9.2215476830864946E-4},{"$f":"CORREL($B$1:B65,$M$1:M65)","v":{"$error":"#N/A"}},{"$f":"Sheet3!W65","v":1.6146393972013967E-3},{"$f":"CORREL($B$1:B65,$O$1:O65)","v":{"$error":"#N/A"}},{"$f":"Sheet3!Y65","v":7.6899415564441701E-4},{"$f":"CORREL($B$1:B65,$Q$1:Q65)","v":{"$error":"#N/A"}},{"$f":"Sheet3!AA65","v":5.5559842580444616E-3},{"$f":"CORREL($B$1:B65,$S$1:S65)","v":{"$error":"#N/A"}}]
[null,{"$f":"Sheet3!I66","v":{"$error":"#N/A"}},{"$f":"Sheet3!K66","v":-2.0981698445516572E-2},{"$f":"CORREL($B$1:B66,$C$1:C66)","v":{"$error":"#N/A"}},{"$f":"Sheet3!M66","v":4.1446005065621794E-3},{"$f":"CORREL($B$1:B66,$E$1:E66)","v":{"$error":"#N/A"}},{"$f":"Sheet3!O66","v":1.3080947983995425E-3},{"$f":"CORREL($B$1:B66,$G$1:G66)","v":{"$error":"#N/A"}},{"$f":"Sheet3!Q66","v":-3.8331800061330878E-3},{"$f":"CORREL($B$1:B66,$I$1:I66)","v":{"$error":"#N/A"}},{"$f":"Sheet3!S66","v":-2.3014959723816994E-4},{"$f":"CORREL($B$1:B66,$K$1:K66)","v":{"$error":"#N/A"}},{"$f":"Sheet3!U66","v":1.0758472296934535E-3},{"$f":"CORREL($B$1:B66,$M$1:M66)","v":{"$error":"#N/A"}},{"$f":"Sheet3!W66","v":1.8453021682301178E-3},{"$f":"CORREL($B$1:B66,$O$1:O66)","v":{"$error":"#N/A"}},{"$f":"Sheet3!Y66","v":7.6899415564441701E-4},{"$f":"CORREL($B$1:B66,$Q$1:Q66)","v":{"$error":"#N/A"}},{"$f":"Sheet3!AA66","v":4.8614862257889916E-3},{"$f":"CORREL($B$1:B66,$S$1:S66)","v":{"$error":"#N/A"}}]
[null,{"$f":"Sheet3!I67","v":{"$error":"#N/A"}},{"$f":"Sheet3!K67","v":-1.95267631518493E-2},{"$f":"CORREL($B$1:B67,$C$1:C67)","v":{"$error":"#N/A"}},{"$f":"Sheet3!M67","v":3.0700744493053953E-3},{"$f":"CORREL($B$1:B67,$E$1:E67)","v":{"$error":"#N/A"}},{"$f":"Sheet3!O67","v":1.2311480455525828E-3},{"$f":"CORREL($B$1:B67,$G$1:G67)","v":{"$error":"#N/A"}},{"$f":"Sheet3!Q67","v":-3.9865072063784458E-3},{"$f":"CORREL($B$1:B67,$I$1:I67)","v":{"$error":"#N/A"}},{"$f":"Sheet3!S67","v":0},{"$f":"CORREL($B$1:B67,$K$1:K67)","v":{"$error":"#N/A"}},{"$f":"Sheet3!U67","v":9.9900099900096409E-4},{"$f":"CORREL($B$1:B67,$M$1:M67)","v":{"$error":"#N/A"}},{"$f":"Sheet3!W67","v":2.4604028909734322E-3},{"$f":"CORREL($B$1:B67,$O$1:O67)","v":{"$error":"#N/A"}},{"$f":"Sheet3!Y67","v":6.151953245154987E-4},{"$f":"CORREL($B$1:B67,$Q$1:Q67)","v":{"$error":"#N/A"}},{"$f":"Sheet3!AA67","v":5.1701520179024754E-3},{"$f":"CORREL($B$1:B67,$S$1:S67)","v":{"$error":"#N/A"}}]
[null,{"$f":"Sheet3!I68","v":{"$error":"#N/A"}},{"$f":"Sheet3!K68","v":-1.9297036526533459E-2},{"$f":"CORREL($B$1:B68,$C$1:C68)","v":{"$error":"#N/A"}},{"$f":"Sheet3!M68","v":2.5328114206769163E-3},{"$f":"CORREL($B$1:B68,$E$1:E68)","v":{"$error":"#N/A"}},{"$f":"Sheet3!O68","v":1.3850415512466775E-3},{"$f":"CORREL($B$1:B68,$G$1:G68)","v":{"$error":"#N/A"}},{"$f":"Sheet3!Q68","v":-3.6031892057651373E-3},{"$f":"CORREL($B$1:B68,$I$1:I68)","v":{"$error":"#N/A"}},{"$f":"Sheet3!S68","v":2.3014959723816994E-4},{"$f":"CORREL($B$1:B68,$K$1:K68)","v":{"$error":"#N/A"}},{"$f":"Sheet3!U68","v":9.9900099900096409E-4},{"$f":"CORREL($B$1:B68,$M$1:M68)","v":{"$error":"#N/A"}},{"$f":"Sheet3!W68","v":1.3070890358296522E-3},{"$f":"CORREL($B$1:B68,$O$1:O68)","v":{"$error":"#N/A"}},{"$f":"Sheet3!Y68","v":3.844970778222085E-4},{"$f":"CORREL($B$1:B68,$Q$1:Q68)","v":{"$error":"#N/A"}},{"$f":"Sheet3!AA68","v":5.0929855698741483E-3},{"$f":"CORREL($B$1:B68,$S$1:S68)","v":{"$error":"#N/A"}}]
[null,{"$f":"Sheet3!I69","v":{"$error":"#N/A"}},{"$f":"Sheet3!K69","v":-1.9143885442989509E-2},{"$f":"CORREL($B$1:B69,$C$1:C69)","v":{"$error":"#N/A"}},{"$f":"Sheet3!M69","v":2.839818865607351E-3},{"$f":"CORREL($B$1:B69,$E$1:E69)","v":{"$error":"#N/A"}},{"$f":"Sheet3!O69","v":1.3080947983995425E-3},{"$f":"CORREL($B$1:B69,$G$1:G69)","v":{"$error":"#N/A"}},{"$f":"Sheet3!Q69","v":-3.8331800061330878E-3},{"$f":"CORREL($B$1:B69,$I$1:I69)","v":{"$error":"#N/A"}},{"$f":"Sheet3!S69","v":3.0686612965100953E-4},{"$f":"CORREL($B$1:B69,$K$1:K69)","v":{"$error":"#N/A"}},{"$f":"Sheet3!U69","v":1.1526934603857681E-3},{"$f":"CORREL($B$1:B69,$M$1:M69)","v":{"$error":"#N/A"}},{"$f":"Sheet3!W69","v":1.5377518068587228E-4},{"$f":"CORREL($B$1:B69,$O$1:O69)","v":{"$error":"#N/A"}},{"$f":"Sheet3!Y69","v":-7.6899415564546611E-5},{"$f":"CORREL($B$1:B69,$Q$1:Q69)","v":{"$error":"#N/A"}},{"$f":"Sheet3!AA69","v":5.4788178100161344E-3},{"$f":"CORREL($B$1:B69,$S$1:S69)","v":{"$error":"#N/A"}}]
[null,{"$f":"Sheet3!I70","v":{"$error":"#N/A"}},{"$f":"Sheet3!K70","v":-1.9220460984761569E-2},{"$f":"CORREL($B$1:B70,$C$1:C70)","v":{"$error":"#N/A"}},{"$f":"Sheet3!M70","v":2.6095632819094815E-3},{"$f":"CORREL($B$1:B70,$E$1:E70)","v":{"$error":"#N/A"}},{"$f":"Sheet3!O70","v":1.4619883040936374E-3},{"$f":"CORREL($B$1:B70,$G$1:G70)","v":{"$error":"#N/A"}},{"$f":"Sheet3!Q70","v":-3.2965348052745951E-3},{"$f":"CORREL($B$1:B70,$I$1:I70)","v":{"$error":"#N/A"}},{"$f":"Sheet3!S70","v":7.6716532412665172E-5},{"$f":"CORREL($B$1:B70,$K$1:K70)","v":{"$error":"#N/A"}},{"$f":"Sheet3!U70","v":1.2295396910782575E-3},{"$f":"CORREL($B$1:B70,$M$1:M70)","v":{"$error":"#N/A"}},{"$f":"Sheet3!W70","v":6.1510072274348912E-4},{"$f":"CORREL($B$1:B70,$O$1:O70)","v":{"$error":"#N/A"}},{"$f":"Sheet3!Y70","v":-1.5379883112891837E-4},{"$f":"CORREL($B$1:B70,$Q$1:Q70)","v":{"$error":"#N/A"}},{"$f":"Sheet3!AA70","v":5.7103171541012911E-3},{"$f":"CORREL($B$1:B70,$S$1:S70)","v":{"$error":"#N/A"}}]
[null,{"$f":"Sheet3!I71","v":{"$error":"#N/A"}},{"$f":"Sheet3!K71","v":-1.9143885442989509E-2},{"$f":"CORREL($B$1:B71,$C$1:C71)","v":{"$error":"#N/A"}},{"$f":"Sheet3!M71","v":2.6095632819094815E-3},{"$f":"CORREL($B$1:B71,$E$1:E71)","v":{"$error":"#N/A"}},{"$f":"Sheet3!O71","v":1.6928285626346918E-3},{"$f":"CORREL($B$1:B71,$G$1:G71)","v":{"$error":"#N/A"}},{"$f":"Sheet3!Q71","v":-3.2198712051518287E-3},{"$f":"CORREL($B$1:B71,$I$1:I71)","v":{"$error":"#N/A"}},{"$f":"Sheet3!S71","v":7.6716532412665172E-5},{"$f":"CORREL($B$1:B71,$K$1:K71)","v":{"$error":"#N/A"}},{"$f":"Sheet3!U71","v":1.0758472296934535E-3},{"$f":"CORREL($B$1:B71,$M$1:M71)","v":{"$error":"#N/A"}},{"$f":"Sheet3!W71","v":8.457634937722101E-4},{"$f":"CORREL($B$1:B71,$O$1:O71)","v":{"$error":"#N/A"}},{"$f":"Sheet3!Y71","v":-3.844970778222085E-4},{"$f":"CORREL($B$1:B71,$Q$1:Q71)","v":{"$error":"#N/A"}},{"$f":"Sheet3!AA71","v":5.2473184659309778E-3},{"$f":"CORREL($B$1:B71,$S$1:S71)","v":{"$error":"#N/A"}}]
[null,{"$f":"Sheet3!I72","v":{"$error":"#N/A"}},{"$f":"Sheet3!K72","v":-1.8761007734129719E-2},{"$f":"CORREL($B$1:B72,$C$1:C72)","v":{"$error":"#N/A"}},{"$f":"Sheet3!M72","v":2.686315143142221E-3},{"$f":"CORREL($B$1:B72,$E$1:E72)","v":{"$error":"#N/A"}},{"$f":"Sheet3!O72","v":1.5389350569405972E-3},{"$f":"CORREL($B$1:B72,$G$1:G72)","v":{"$error":"#N/A"}},{"$f":"Sheet3!Q72","v":-3.5265256056425452E-3},{"$f":"CORREL($B$1:B72,$I$1:I72)","v":{"$error":"#N/A"}},{"$f":"Sheet3!S72","v":0},{"$f":"CORREL($B$1:B72,$K$1:K72)","v":{"$error":"#N/A"}},{"$f":"Sheet3!U72","v":1.1526934603857681E-3},{"$f":"CORREL($B$1:B72,$M$1:M72)","v":{"$error":"#N/A"}},{"$f":"Sheet3!W72","v":8.457634937722101E-4},{"$f":"CORREL($B$1:B72,$O$1:O72)","v":{"$error":"#N/A"}},{"$f":"Sheet3!Y72","v":-7.6899415564441701E-4},{"$f":"CORREL($B$1:B72,$Q$1:Q72)","v":{"$error":"#N/A"}},{"$f":"Sheet3!AA72","v":5.8646500501581206E-3},{"$f":"CORREL($B$1:B72,$S$1:S72)","v":{"$error":"#N/A"}}]
[null,{"$f":"Sheet3!I73","v":{"$error":"#N/A"}},{"$f":"Sheet3!K73","v":-1.8837583275901779E-2},{"$f":"CORREL($B$1:B73,$C$1:C73)","v":{"$error":"#N/A"}},{"$f":"Sheet3!M73","v":1.9187965308158721E-3},{"$f":"CORREL($B$1:B73,$E$1:E73)","v":{"$error":"#N/A"}},{"$f":"Sheet3!O73","v":-6.9252077562316375E-4},{"$f":"CORREL($B$1:B73,$G$1:G73)","v":{"$error":"#N/A"}},{"$f":"Sheet3!Q73","v":-3.7565164060104957E-3},{"$f":"CORREL($B$1:B73,$I$1:I73)","v":{"$error":"#N/A"}},{"$f":"Sheet3!S73","v":-7.6716532412665172E-5},{"$f":"CORREL($B$1:B73,$K$1:K73)","v":{"$error":"#N/A"}},{"$f":"Sheet3!U73","v":1.3832321524628868E-3},{"$f":"CORREL($B$1:B73,$M$1:M73)","v":{"$error":"#N/A"}},{"$f":"Sheet3!W73","v":5.3821313240046554E-4},{"$f":"CORREL($B$1:B73,$O$1:O73)","v":{"$error":"#N/A"}},{"$f":"Sheet3!Y73","v":-7.6899415564441701E-4},{"$f":"CORREL($B$1:B73,$Q$1:Q73)","v":{"$error":"#N/A"}},{"$f":"Sheet3!AA73","v":5.6331507060729639E-3},{"$f":"CORREL($B$1:B73,$S$1:S73)","v":{"$error":"#N/A"}}]
[null,{"$f":"Sheet3!I74","v":{"$error":"#N/A"}},{"$f":"Sheet3!K74","v":-1.8761007734129719E-2},{"$f":"CORREL($B$1:B74,$C$1:C74)","v":{"$error":"#N/A"}},{"$f":"Sheet3!M74","v":2.3025558369790464E-3},{"$f":"CORREL($B$1:B74,$E$1:E74)","v":{"$error":"#N/A"}},{"$f":"Sheet3!O74","v":-1.2311480455524078E-3},{"$f":"CORREL($B$1:B74,$G$1:G74)","v":{"$error":"#N/A"}},{"$f":"Sheet3!Q74","v":-3.8331800061330878E-3},{"$f":"CORREL($B$1:B74,$I$1:I74)","v":{"$error":"#N/A"}},{"$f":"Sheet3!S74","v":2.3014959723816994E-4},{"$f":"CORREL($B$1:B74,$K$1:K74)","v":{"$error":"#N/A"}},{"$f":"Sheet3!U74","v":1.3832321524628868E-3},{"$f":"CORREL($B$1:B74,$M$1:M74)","v":{"$error":"#N/A"}},{"$f":"Sheet3!W74","v":6.1510072274348912E-4},{"$f":"CORREL($B$1:B74,$O$1:O74)","v":{"$error":"#N/A"}},{"$f":"Sheet3!Y74","v":-3.844970778222085E-4},{"$f":"CORREL($B$1:B74,$Q$1:Q74)","v":{"$error":"#N/A"}},{"$f":"Sheet3!AA74","v":5.3244849139593049E-3},{"$f":"CORREL($B$1:B74,$S$1:S74)","v":{"$error":"#N/A"}}]
[null,{"$f":"Sheet3!I75","v":{"$error":"#N/A"}},{"$f":"Sheet3!K75","v":-1.8684432192357828E-2},{"$f":"CORREL($B$1:B75,$C$1:C75)","v":{"$error":"#N/A"}},{"$f":"Sheet3!M75","v":2.686315143142221E-3},{"$f":"CORREL($B$1:B75,$E$1:E75)","v":{"$error":"#N/A"}},{"$f":"Sheet3!O75","v":-8.4641428131725853E-4},{"$f":"CORREL($B$1:B75,$G$1:G75)","v":{"$error":"#N/A"}},{"$f":"Sheet3!Q75","v":-4.0631708065012127E-3},{"$f":"CORREL($B$1:B75,$I$1:I75)","v":{"$error":"#N/A"}},{"$f":"Sheet3!S75","v":1.5343306482550477E-4},{"$f":"CORREL($B$1:B75,$K$1:K75)","v":{"$error":"#N/A"}},{"$f":"Sheet3!U75","v":1.3832321524628868E-3},{"$f":"CORREL($B$1:B75,$M$1:M75)","v":{"$error":"#N/A"}},{"$f":"Sheet3!W75","v":5.3821313240046554E-4},{"$f":"CORREL($B$1:B75,$O$1:O75)","v":{"$error":"#N/A"}},{"$f":"Sheet3!Y75","v":-3.844970778222085E-4},{"$f":"CORREL($B$1:B75,$Q$1:Q75)","v":{"$error":"#N/A"}},{"$f":"Sheet3!AA75","v":5.1701520179024754E-3},{"$f":"CORREL($B$1:B75,$S$1:S75)","v":{"$error":"#N/A"}}]
[null,{"$f":"Sheet3!I76","v":{"$error":"#N/A"}},{"$f":"Sheet3!K76","v":-1.8301554483498038E-2},{"$f":"CORREL($B$1:B76,$C$1:C76)","v":{"$error":"#N/A"}},{"$f":"Sheet3!M76","v":2.3025558369790464E-3},{"$f":"CORREL($B$1:B76,$E$1:E76)","v":{"$error":"#N/A"}},{"$f":"Sheet3!O76","v":-9.2336103416421837E-4},{"$f":"CORREL($B$1:B76,$G$1:G76)","v":{"$error":"#N/A"}},{"$f":"Sheet3!Q76","v":-3.7565164060104957E-3},{"$f":"CORREL($B$1:B76,$I$1:I76)","v":{"$error":"#N/A"}},{"$f":"Sheet3!S76","v":3.0686612965100953E-4},{"$f":"CORREL($B$1:B76,$K$1:K76)","v":{"$error":"#N/A"}},{"$f":"Sheet3!U76","v":1.3832321524628868E-3},{"$f":"CORREL($B$1:B76,$M$1:M76)","v":{"$error":"#N/A"}},{"$f":"Sheet3!W76","v":3.0755036137174456E-4},{"$f":"CORREL($B$1:B76,$O$1:O76)","v":{"$error":"#N/A"}},{"$f":"Sheet3!Y76","v":-2.3069824669346499E-4},{"$f":"CORREL($B$1:B76,$Q$1:Q76)","v":{"$error":"#N/A"}},{"$f":"Sheet3!AA76","v":5.0158191218458211E-3},{"$f":"CORREL($B$1:B76,$S$1:S76)","v":{"$error":"#N/A"}}]
[null,{"$f":"Sheet3!I77","v":{"$error":"#N/A"}},{"$f":"Sheet3!K77","v":-1.8531281108813878E-2},{"$f":"CORREL($B$1:B77,$C$1:C77)","v":{"$error":"#N/A"}},{"$f":"Sheet3!M77","v":2.686315143142221E-3},{"$f":"CORREL($B$1:B77,$E$1:E77)","v":{"$error":"#N/A"}},{"$f":"Sheet3!O77","v":-7.6946752847029858E-4},{"$f":"CORREL($B$1:B77,$G$1:G77)","v":{"$error":"#N/A"}},{"$f":"Sheet3!Q77","v":-4.2931616068691628E-3},{"$f":"CORREL($B$1:B77,$I$1:I77)","v":{"$error":"#N/A"}},{"$f":"Sheet3!S77","v":2.3014959723816994E-4},{"$f":"CORREL($B$1:B77,$K$1:K77)","v":{"$error":"#N/A"}},{"$f":"Sheet3!U77","v":1.3063859217705722E-3},{"$f":"CORREL($B$1:B77,$M$1:M77)","v":{"$error":"#N/A"}},{"$f":"Sheet3!W77","v":5.3821313240046554E-4},{"$f":"CORREL($B$1:B77,$O$1:O77)","v":{"$error":"#N/A"}},{"$f":"Sheet3!Y77","v":-2.3069824669346499E-4},{"$f":"CORREL($B$1:B77,$Q$1:Q77)","v":{"$error":"#N/A"}},{"$f":"Sheet3!AA77","v":5.0158191218458211E-3},{"$f":"CORREL($B$1:B77,$S$1:S77)","v":{"$error":"#N/A"}}]
[null,{"$f":"Sheet3!I78","v":{"$error":"#N/A"}},{"$f":"Sheet3!K78","v":-1.8761007734129719E-2},{"$f":"CORREL($B$1:B78,$C$1:C78)","v":{"$error":"#N/A"}},{"$f":"Sheet3!M78","v":2.3793076982116116E-3},{"$f":"CORREL($B$1:B78,$E$1:E78)","v":{"$error":"#N/A"}},{"$f":"Sheet3!O78","v":-1.8467220683286117E-3},{"$f":"CORREL($B$1:B78,$G$1:G78)","v":{"$error":"#N/A"}},{"$f":"Sheet3!Q78","v":-4.0631708065012127E-3},{"$f":"CORREL($B$1:B78,$I$1:I78)","v":{"$error":"#N/A"}},{"$f":"Sheet3!S78","v":3.0686612965100953E-4},{"$f":"CORREL($B$1:B78,$K$1:K78)","v":{"$error":"#N/A"}},{"$f":"Sheet3!U78","v":1.2295396910782575E-3},{"$f":"CORREL($B$1:B78,$M$1:M78)","v":{"$error":"#N/A"}},{"$f":"Sheet3!W78","v":8.457634937722101E-4},{"$f":"CORREL($B$1:B78,$O$1:O78)","v":{"$error":"#N/A"}},{"$f":"Sheet3!Y78","v":-1.5379883112891837E-4},{"$f":"CORREL($B$1:B78,$Q$1:Q78)","v":{"$error":"#N/A"}},{"$f":"Sheet3!AA78","v":4.7843197777604892E-3},{"$f":"CORREL($B$1:B78,$S$1:S78)","v":{"$error":"#N/A"}}]
[null,{"$f":"Sheet3!I79","v":{"$error":"#N/A"}},{"$f":"Sheet3!K79","v":-1.7995252316410137E-2},{"$f":"CORREL($B$1:B79,$C$1:C79)","v":{"$error":"#N/A"}},{"$f":"Sheet3!M79","v":2.2258039757463068E-3},{"$f":"CORREL($B$1:B79,$E$1:E79)","v":{"$error":"#N/A"}},{"$f":"Sheet3!O79","v":-2.0006155740227064E-3},{"$f":"CORREL($B$1:B79,$G$1:G79)","v":{"$error":"#N/A"}},{"$f":"Sheet3!Q79","v":-4.1398344066238043E-3},{"$f":"CORREL($B$1:B79,$I$1:I79)","v":{"$error":"#N/A"}},{"$f":"Sheet3!S79","v":7.6716532412665172E-5},{"$f":"CORREL($B$1:B79,$K$1:K79)","v":{"$error":"#N/A"}},{"$f":"Sheet3!U79","v":1.1526934603857681E-3},{"$f":"CORREL($B$1:B79,$M$1:M79)","v":{"$error":"#N/A"}},{"$f":"Sheet3!W79","v":9.2265108411505891E-4},{"$f":"CORREL($B$1:B79,$O$1:O79)","v":{"$error":"#N/A"}},{"$f":"Sheet3!Y79","v":-2.3069824669346499E-4},{"$f":"CORREL($B$1:B79,$Q$1:Q79)","v":{"$error":"#N/A"}},{"$f":"Sheet3!AA79","v":4.8614862257889916E-3},{"$f":"CORREL($B$1:B79,$S$1:S79)","v":{"$error":"#N/A"}}]
[null,{"$f":"Sheet3!I80","v":{"$error":"#N/A"}},{"$f":"Sheet3!K80","v":-1.7995252316410137E-2},{"$f":"CORREL($B$1:B80,$C$1:C80)","v":{"$error":"#N/A"}},{"$f":"Sheet3!M80","v":2.6095632819094815E-3},{"$f":"CORREL($B$1:B80,$E$1:E80)","v":{"$error":"#N/A"}},{"$f":"Sheet3!O80","v":-1.1542012927054479E-3},{"$f":"CORREL($B$1:B80,$G$1:G80)","v":{"$error":"#N/A"}},{"$f":"Sheet3!Q80","v":-4.2164980067463968E-3},{"$f":"CORREL($B$1:B80,$I$1:I80)","v":{"$error":"#N/A"}},{"$f":"Sheet3!S80","v":2.3014959723816994E-4},{"$f":"CORREL($B$1:B80,$K$1:K80)","v":{"$error":"#N/A"}},{"$f":"Sheet3!U80","v":1.0758472296934535E-3},{"$f":"CORREL($B$1:B80,$M$1:M80)","v":{"$error":"#N/A"}},{"$f":"Sheet3!W80","v":9.2265108411505891E-4},{"$f":"CORREL($B$1:B80,$O$1:O80)","v":{"$error":"#N/A"}},{"$f":"Sheet3!Y80","v":-7.6899415564546611E-5},{"$f":"CORREL($B$1:B80,$Q$1:Q80)","v":{"$error":"#N/A"}},{"$f":"Sheet3!AA80","v":4.7843197777604892E-3},{"$f":"CORREL($B$1:B80,$S$1:S80)","v":{"$error":"#N/A"}}]
[null,{"$f":"Sheet3!I81","v":{"$error":"#N/A"}},{"$f":"Sheet3!K81","v":-1.7995252316410137E-2},{"$f":"CORREL($B$1:B81,$C$1:C81)","v":{"$error":"#N/A"}},{"$f":"Sheet3!M81","v":2.6095632819094815E-3},{"$f":"CORREL($B$1:B81,$E$1:E81)","v":{"$error":"#N/A"}},{"$f":"Sheet3!O81","v":1.5389350569409472E-4},{"$f":"CORREL($B$1:B81,$G$1:G81)","v":{"$error":"#N/A"}},{"$f":"Sheet3!Q81","v":-4.0631708065012127E-3},{"$f":"CORREL($B$1:B81,$I$1:I81)","v":{"$error":"#N/A"}},{"$f":"Sheet3!S81","v":3.0686612965100953E-4},{"$f":"CORREL($B$1:B81,$K$1:K81)","v":{"$error":"#N/A"}},{"$f":"Sheet3!U81","v":1.2295396910782575E-3},{"$f":"CORREL($B$1:B81,$M$1:M81)","v":{"$error":"#N/A"}},{"$f":"Sheet3!W81","v":9.9953867445808238E-4},{"$f":"CORREL($B$1:B81,$O$1:O81)","v":{"$error":"#N/A"}},{"$f":"Sheet3!Y81","v":-1.5379883112891837E-4},{"$f":"CORREL($B$1:B81,$Q$1:Q81)","v":{"$error":"#N/A"}},{"$f":"Sheet3!AA81","v":4.8614862257889916E-3},{"$f":"CORREL($B$1:B81,$S$1:S81)","v":{"$error":"#N/A"}}]
[null,{"$f":"Sheet3!I82","v":{"$error":"#N/A"}},{"$f":"Sheet3!K82","v":-1.8301554483498038E-2},{"$f":"CORREL($B$1:B82,$C$1:C82)","v":{"$error":"#N/A"}},{"$f":"Sheet3!M82","v":2.686315143142221E-3},{"$f":"CORREL($B$1:B82,$E$1:E82)","v":{"$error":"#N/A"}},{"$f":"Sheet3!O82","v":-3.0778701138801446E-4},{"$f":"CORREL($B$1:B82,$G$1:G82)","v":{"$error":"#N/A"}},{"$f":"Sheet3!Q82","v":-3.9865072063784458E-3},{"$f":"CORREL($B$1:B82,$I$1:I82)","v":{"$error":"#N/A"}},{"$f":"Sheet3!S82","v":1.5343306482550477E-4},{"$f":"CORREL($B$1:B82,$K$1:K82)","v":{"$error":"#N/A"}},{"$f":"Sheet3!U82","v":1.2295396910782575E-3},{"$f":"CORREL($B$1:B82,$M$1:M82)","v":{"$error":"#N/A"}},{"$f":"Sheet3!W82","v":6.1510072274348912E-4},{"$f":"CORREL($B$1:B82,$O$1:O82)","v":{"$error":"#N/A"}},{"$f":"Sheet3!Y82","v":7.689941556437177E-5},{"$f":"CORREL($B$1:B82,$Q$1:Q82)","v":{"$error":"#N/A"}},{"$f":"Sheet3!AA82","v":4.7843197777604892E-3},{"$f":"CORREL($B$1:B82,$S$1:S82)","v":{"$error":"#N/A"}}]
[null,{"$f":"Sheet3!I83","v":{"$error":"#N/A"}},{"$f":"Sheet3!K83","v":-1.7842101232866361E-2},{"$f":"CORREL($B$1:B83,$C$1:C83)","v":{"$error":"#N/A"}},{"$f":"Sheet3!M83","v":2.9165707268400906E-3},{"$f":"CORREL($B$1:B83,$E$1:E83)","v":{"$error":"#N/A"}},{"$f":"Sheet3!O83","v":0},{"$f":"CORREL($B$1:B83,$G$1:G83)","v":{"$error":"#N/A"}},{"$f":"Sheet3!Q83","v":-3.8331800061330878E-3},{"$f":"CORREL($B$1:B83,$I$1:I83)","v":{"$error":"#N/A"}},{"$f":"Sheet3!S83","v":3.0686612965100953E-4},{"$f":"CORREL($B$1:B83,$K$1:K83)","v":{"$error":"#N/A"}},{"$f":"Sheet3!U83","v":1.3063859217705722E-3},{"$f":"CORREL($B$1:B83,$M$1:M83)","v":{"$error":"#N/A"}},{"$f":"Sheet3!W83","v":4.6132554205761684E-4},{"$f":"CORREL($B$1:B83,$O$1:O83)","v":{"$error":"#N/A"}},{"$f":"Sheet3!Y83","v":0},{"$f":"CORREL($B$1:B83,$Q$1:Q83)","v":{"$error":"#N/A"}},{"$f":"Sheet3!AA83","v":4.5528204336753326E-3},{"$f":"CORREL($B$1:B83,$S$1:S83)","v":{"$error":"#N/A"}}]
[null,{"$f":"Sheet3!I84","v":{"$error":"#N/A"}},{"$f":"Sheet3!K84","v":-1.8071827858182201E-2},{"$f":"CORREL($B$1:B84,$C$1:C84)","v":{"$error":"#N/A"}},{"$f":"Sheet3!M84","v":2.7630670043747863E-3},{"$f":"CORREL($B$1:B84,$E$1:E84)","v":{"$error":"#N/A"}},{"$f":"Sheet3!O84","v":2.7700831024931797E-3},{"$f":"CORREL($B$1:B84,$G$1:G84)","v":{"$error":"#N/A"}},{"$f":"Sheet3!Q84","v":-3.9865072063784458E-3},{"$f":"CORREL($B$1:B84,$I$1:I84)","v":{"$error":"#N/A"}},{"$f":"Sheet3!S84","v":3.0686612965100953E-4},{"$f":"CORREL($B$1:B84,$K$1:K84)","v":{"$error":"#N/A"}},{"$f":"Sheet3!U84","v":1.3063859217705722E-3},{"$f":"CORREL($B$1:B84,$M$1:M84)","v":{"$error":"#N/A"}},{"$f":"Sheet3!W84","v":4.6132554205761684E-4},{"$f":"CORREL($B$1:B84,$O$1:O84)","v":{"$error":"#N/A"}},{"$f":"Sheet3!Y84","v":-2.3069824669346499E-4},{"$f":"CORREL($B$1:B84,$Q$1:Q84)","v":{"$error":"#N/A"}},{"$f":"Sheet3!AA84","v":4.3213210895901759E-3},{"$f":"CORREL($B$1:B84,$S$1:S84)","v":{"$error":"#N/A"}}]
[null,{"$f":"Sheet3!I85","v":{"$error":"#N/A"}},{"$f":"Sheet3!K85","v":-1.7842101232866361E-2},{"$f":"CORREL($B$1:B85,$C$1:C85)","v":{"$error":"#N/A"}},{"$f":"Sheet3!M85","v":2.686315143142221E-3},{"$f":"CORREL($B$1:B85,$E$1:E85)","v":{"$error":"#N/A"}},{"$f":"Sheet3!O85","v":3.231763619575289E-3},{"$f":"CORREL($B$1:B85,$G$1:G85)","v":{"$error":"#N/A"}},{"$f":"Sheet3!Q85","v":-4.1398344066238043E-3},{"$f":"CORREL($B$1:B85,$I$1:I85)","v":{"$error":"#N/A"}},{"$f":"Sheet3!S85","v":2.3014959723816994E-4},{"$f":"CORREL($B$1:B85,$K$1:K85)","v":{"$error":"#N/A"}},{"$f":"Sheet3!U85","v":1.2295396910782575E-3},{"$f":"CORREL($B$1:B85,$M$1:M85)","v":{"$error":"#N/A"}},{"$f":"Sheet3!W85","v":6.9198831308633782E-4},{"$f":"CORREL($B$1:B85,$O$1:O85)","v":{"$error":"#N/A"}},{"$f":"Sheet3!Y85","v":-6.9209474008004529E-4},{"$f":"CORREL($B$1:B85,$Q$1:Q85)","v":{"$error":"#N/A"}},{"$f":"Sheet3!AA85","v":4.2441546415618488E-3},{"$f":"CORREL($B$1:B85,$S$1:S85)","v":{"$error":"#N/A"}}]
[null,{"$f":"Sheet3!I86","v":{"$error":"#N/A"}},{"$f":"Sheet3!K86","v":-1.8224978941726151E-2},{"$f":"CORREL($B$1:B86,$C$1:C86)","v":{"$error":"#N/A"}},{"$f":"Sheet3!M86","v":3.2235781717705257E-3},{"$f":"CORREL($B$1:B86,$E$1:E86)","v":{"$error":"#N/A"}},{"$f":"Sheet3!O86","v":1.8467220683287867E-3},{"$f":"CORREL($B$1:B86,$G$1:G86)","v":{"$error":"#N/A"}},{"$f":"Sheet3!Q86","v":-4.1398344066238043E-3},{"$f":"CORREL($B$1:B86,$I$1:I86)","v":{"$error":"#N/A"}},{"$f":"Sheet3!S86","v":3.0686612965100953E-4},{"$f":"CORREL($B$1:B86,$K$1:K86)","v":{"$error":"#N/A"}},{"$f":"Sheet3!U86","v":1.3063859217705722E-3},{"$f":"CORREL($B$1:B86,$M$1:M86)","v":{"$error":"#N/A"}},{"$f":"Sheet3!W86","v":6.9198831308633782E-4},{"$f":"CORREL($B$1:B86,$O$1:O86)","v":{"$error":"#N/A"}},{"$f":"Sheet3!Y86","v":-3.844970778222085E-4},{"$f":"CORREL($B$1:B86,$Q$1:Q86)","v":{"$error":"#N/A"}},{"$f":"Sheet3!AA86","v":4.4756539856470054E-3},{"$f":"CORREL($B$1:B86,$S$1:S86)","v":{"$error":"#N/A"}}]
[null,{"$f":"Sheet3!I87","v":{"$error":"#N/A"}},{"$f":"Sheet3!K87","v":-1.8224978941726151E-2},{"$f":"CORREL($B$1:B87,$C$1:C87)","v":{"$error":"#N/A"}},{"$f":"Sheet3!M87","v":2.9933225880726558E-3},{"$f":"CORREL($B$1:B87,$E$1:E87)","v":{"$error":"#N/A"}},{"$f":"Sheet3!O87","v":2.4622960911049904E-3},{"$f":"CORREL($B$1:B87,$G$1:G87)","v":{"$error":"#N/A"}},{"$f":"Sheet3!Q87","v":-3.9865072063784458E-3},{"$f":"CORREL($B$1:B87,$I$1:I87)","v":{"$error":"#N/A"}},{"$f":"Sheet3!S87","v":3.835826620636747E-4},{"$f":"CORREL($B$1:B87,$K$1:K87)","v":{"$error":"#N/A"}},{"$f":"Sheet3!U87","v":1.2295396910782575E-3},{"$f":"CORREL($B$1:B87,$M$1:M87)","v":{"$error":"#N/A"}},{"$f":"Sheet3!W87","v":4.6132554205761684E-4},{"$f":"CORREL($B$1:B87,$O$1:O87)","v":{"$error":"#N/A"}},{"$f":"Sheet3!Y87","v":-3.844970778222085E-4},{"$f":"CORREL($B$1:B87,$Q$1:Q87)","v":{"$error":"#N/A"}},{"$f":"Sheet3!AA87","v":4.5528204336753326E-3},{"$f":"CORREL($B$1:B87,$S$1:S87)","v":{"$error":"#N/A"}}]
[null,{"$f":"Sheet3!I88","v":{"$error":"#N/A"}},{"$f":"Sheet3!K88","v":-1.8071827858182201E-2},{"$f":"CORREL($B$1:B88,$C$1:C88)","v":{"$error":"#N/A"}},{"$f":"Sheet3!M88","v":3.1468263105379605E-3},{"$f":"CORREL($B$1:B88,$E$1:E88)","v":{"$error":"#N/A"}},{"$f":"Sheet3!O88","v":2.5392428439521253E-3},{"$f":"CORREL($B$1:B88,$G$1:G88)","v":{"$error":"#N/A"}},{"$f":"Sheet3!Q88","v":-3.9098436062558542E-3},{"$f":"CORREL($B$1:B88,$I$1:I88)","v":{"$error":"#N/A"}},{"$f":"Sheet3!S88","v":4.6029919447633988E-4},{"$f":"CORREL($B$1:B88,$K$1:K88)","v":{"$error":"#N/A"}},{"$f":"Sheet3!U88","v":1.3832321524628868E-3},{"$f":"CORREL($B$1:B88,$M$1:M88)","v":{"$error":"#N/A"}},{"$f":"Sheet3!W88","v":6.1510072274348912E-4},{"$f":"CORREL($B$1:B88,$O$1:O88)","v":{"$error":"#N/A"}},{"$f":"Sheet3!Y88","v":-4.6139649338675516E-4},{"$f":"CORREL($B$1:B88,$Q$1:Q88)","v":{"$error":"#N/A"}},{"$f":"Sheet3!AA88","v":4.5528204336753326E-3},{"$f":"CORREL($B$1:B88,$S$1:S88)","v":{"$error":"#N/A"}}]
[null,{"$f":"Sheet3!I89","v":{"$error":"#N/A"}},{"$f":"Sheet3!K89","v":-1.8301554483498038E-2},{"$f":"CORREL($B$1:B89,$C$1:C89)","v":{"$error":"#N/A"}},{"$f":"Sheet3!M89","v":3.0700744493053953E-3},{"$f":"CORREL($B$1:B89,$E$1:E89)","v":{"$error":"#N/A"}},{"$f":"Sheet3!O89","v":2.231455832563936E-3},{"$f":"CORREL($B$1:B89,$G$1:G89)","v":{"$error":"#N/A"}},{"$f":"Sheet3!Q89","v":-3.9865072063784458E-3},{"$f":"CORREL($B$1:B89,$I$1:I89)","v":{"$error":"#N/A"}},{"$f":"Sheet3!S89","v":6.1373225930184462E-4},{"$f":"CORREL($B$1:B89,$K$1:K89)","v":{"$error":"#N/A"}},{"$f":"Sheet3!U89","v":1.3063859217705722E-3},{"$f":"CORREL($B$1:B89,$M$1:M89)","v":{"$error":"#N/A"}},{"$f":"Sheet3!W89","v":3.8443795171459332E-4},{"$f":"CORREL($B$1:B89,$O$1:O89)","v":{"$error":"#N/A"}},{"$f":"Sheet3!Y89","v":7.689941556437177E-5},{"$f":"CORREL($B$1:B89,$Q$1:Q89)","v":{"$error":"#N/A"}},{"$f":"Sheet3!AA89","v":4.7071533297321621E-3},{"$f":"CORREL($B$1:B89,$S$1:S89)","v":{"$error":"#N/A"}}]
[null,{"$f":"Sheet3!I90","v":{"$error":"#N/A"}},{"$f":"Sheet3!K90","v":-1.8378130025269928E-2},{"$f":"CORREL($B$1:B90,$C$1:C90)","v":{"$error":"#N/A"}},{"$f":"Sheet3!M90","v":2.9165707268400906E-3},{"$f":"CORREL($B$1:B90,$E$1:E90)","v":{"$error":"#N/A"}},{"$f":"Sheet3!O90","v":2.3084025854108957E-3},{"$f":"CORREL($B$1:B90,$G$1:G90)","v":{"$error":"#N/A"}},{"$f":"Sheet3!Q90","v":-3.9098436062558542E-3},{"$f":"CORREL($B$1:B90,$I$1:I90)","v":{"$error":"#N/A"}},{"$f":"Sheet3!S90","v":6.1373225930184462E-4},{"$f":"CORREL($B$1:B90,$K$1:K90)","v":{"$error":"#N/A"}},{"$f":"Sheet3!U90","v":1.4600783831553762E-3},{"$f":"CORREL($B$1:B90,$M$1:M90)","v":{"$error":"#N/A"}},{"$f":"Sheet3!W90","v":6.1510072274348912E-4},{"$f":"CORREL($B$1:B90,$O$1:O90)","v":{"$error":"#N/A"}},{"$f":"Sheet3!Y90","v":3.0759766225766191E-4},{"$f":"CORREL($B$1:B90,$Q$1:Q90)","v":{"$error":"#N/A"}},{"$f":"Sheet3!AA90","v":4.4756539856470054E-3},{"$f":"CORREL($B$1:B90,$S$1:S90)","v":{"$error":"#N/A"}}]
[null,{"$f":"Sheet3!I91","v":{"$error":"#N/A"}},{"$f":"Sheet3!K91","v":-1.7842101232866361E-2},{"$f":"CORREL($B$1:B91,$C$1:C91)","v":{"$error":"#N/A"}},{"$f":"Sheet3!M91","v":2.9933225880726558E-3},{"$f":"CORREL($B$1:B91,$E$1:E91)","v":{"$error":"#N/A"}},{"$f":"Sheet3!O91","v":3.0009233610342346E-3},{"$f":"CORREL($B$1:B91,$G$1:G91)","v":{"$error":"#N/A"}},{"$f":"Sheet3!Q91","v":-3.9865072063784458E-3},{"$f":"CORREL($B$1:B91,$I$1:I91)","v":{"$error":"#N/A"}},{"$f":"Sheet3!S91","v":6.9044879171468424E-4},{"$f":"CORREL($B$1:B91,$K$1:K91)","v":{"$error":"#N/A"}},{"$f":"Sheet3!U91","v":1.2295396910782575E-3},{"$f":"CORREL($B$1:B91,$M$1:M91)","v":{"$error":"#N/A"}},{"$f":"Sheet3!W91","v":4.6132554205761684E-4},{"$f":"CORREL($B$1:B91,$O$1:O91)","v":{"$error":"#N/A"}},{"$f":"Sheet3!Y91","v":6.151953245154987E-4},{"$f":"CORREL($B$1:B91,$Q$1:Q91)","v":{"$error":"#N/A"}},{"$f":"Sheet3!AA91","v":4.5528204336753326E-3},{"$f":"CORREL($B$1:B91,$S$1:S91)","v":{"$error":"#N/A"}}]
[null,{"$f":"Sheet3!I92","v":{"$error":"#N/A"}},{"$f":"Sheet3!K92","v":-1.768895014932241E-2},{"$f":"CORREL($B$1:B92,$C$1:C92)","v":{"$error":"#N/A"}},{"$f":"Sheet3!M92","v":3.1468263105379605E-3},{"$f":"CORREL($B$1:B92,$E$1:E92)","v":{"$error":"#N/A"}},{"$f":"Sheet3!O92","v":3.0009233610342346E-3},{"$f":"CORREL($B$1:B92,$G$1:G92)","v":{"$error":"#N/A"}},{"$f":"Sheet3!Q92","v":-4.0631708065012127E-3},{"$f":"CORREL($B$1:B92,$I$1:I92)","v":{"$error":"#N/A"}},{"$f":"Sheet3!S92","v":5.3701572688917944E-4},{"$f":"CORREL($B$1:B92,$K$1:K92)","v":{"$error":"#N/A"}},{"$f":"Sheet3!U92","v":1.3832321524628868E-3},{"$f":"CORREL($B$1:B92,$M$1:M92)","v":{"$error":"#N/A"}},{"$f":"Sheet3!W92","v":7.6887590342918663E-4},{"$f":"CORREL($B$1:B92,$O$1:O92)","v":{"$error":"#N/A"}},{"$f":"Sheet3!Y92","v":4.6139649338658027E-4},{"$f":"CORREL($B$1:B92,$Q$1:Q92)","v":{"$error":"#N/A"}},{"$f":"Sheet3!AA92","v":4.4756539856470054E-3},{"$f":"CORREL($B$1:B92,$S$1:S92)","v":{"$error":"#N/A"}}]
[null,{"$f":"Sheet3!I93","v":{"$error":"#N/A"}},{"$f":"Sheet3!K93","v":-1.7918676774638247E-2},{"$f":"CORREL($B$1:B93,$C$1:C93)","v":{"$error":"#N/A"}},{"$f":"Sheet3!M93","v":3.2235781717705257E-3},{"$f":"CORREL($B$1:B93,$E$1:E93)","v":{"$error":"#N/A"}},{"$f":"Sheet3!O93","v":3.6934441366575734E-3},{"$f":"CORREL($B$1:B93,$G$1:G93)","v":{"$error":"#N/A"}},{"$f":"Sheet3!Q93","v":-3.6031892057651373E-3},{"$f":"CORREL($B$1:B93,$I$1:I93)","v":{"$error":"#N/A"}},{"$f":"Sheet3!S93","v":5.3701572688917944E-4},{"$f":"CORREL($B$1:B93,$K$1:K93)","v":{"$error":"#N/A"}},{"$f":"Sheet3!U93","v":1.5369246138476908E-3},{"$f":"CORREL($B$1:B93,$M$1:M93)","v":{"$error":"#N/A"}},{"$f":"Sheet3!W93","v":7.6887590342918663E-4},{"$f":"CORREL($B$1:B93,$O$1:O93)","v":{"$error":"#N/A"}},{"$f":"Sheet3!Y93","v":6.9209474007987041E-4},{"$f":"CORREL($B$1:B93,$Q$1:Q93)","v":{"$error":"#N/A"}},{"$f":"Sheet3!AA93","v":4.3213210895901759E-3},{"$f":"CORREL($B$1:B93,$S$1:S93)","v":{"$error":"#N/A"}}]
[null,{"$f":"Sheet3!I94","v":{"$error":"#N/A"}},{"$f":"Sheet3!K94","v":-1.7918676774638247E-2},{"$f":"CORREL($B$1:B94,$C$1:C94)","v":{"$error":"#N/A"}},{"$f":"Sheet3!M94","v":3.2235781717705257E-3},{"$f":"CORREL($B$1:B94,$E$1:E94)","v":{"$error":"#N/A"}},{"$f":"Sheet3!O94","v":3.3087103724224239E-3},{"$f":"CORREL($B$1:B94,$G$1:G94)","v":{"$error":"#N/A"}},{"$f":"Sheet3!Q94","v":-3.6031892057651373E-3},{"$f":"CORREL($B$1:B94,$I$1:I94)","v":{"$error":"#N/A"}},{"$f":"Sheet3!S94","v":5.3701572688917944E-4},{"$f":"CORREL($B$1:B94,$K$1:K94)","v":{"$error":"#N/A"}},{"$f":"Sheet3!U94","v":1.2295396910782575E-3},{"$f":"CORREL($B$1:B94,$M$1:M94)","v":{"$error":"#N/A"}},{"$f":"Sheet3!W94","v":9.2265108411505891E-4},{"$f":"CORREL($B$1:B94,$O$1:O94)","v":{"$error":"#N/A"}},{"$f":"Sheet3!Y94","v":5.382959089509521E-4},{"$f":"CORREL($B$1:B94,$Q$1:Q94)","v":{"$error":"#N/A"}},{"$f":"Sheet3!AA94","v":4.1669881935333464E-3},{"$f":"CORREL($B$1:B94,$S$1:S94)","v":{"$error":"#N/A"}}]
[null,{"$f":"Sheet3!I95","v":{"$error":"#N/A"}},{"$f":"Sheet3!K95","v":-1.768895014932241E-2},{"$f":"CORREL($B$1:B95,$C$1:C95)","v":{"$error":"#N/A"}},{"$f":"Sheet3!M95","v":2.839818865607351E-3},{"$f":"CORREL($B$1:B95,$E$1:E95)","v":{"$error":"#N/A"}},{"$f":"Sheet3!O95","v":3.1548168667283293E-3},{"$f":"CORREL($B$1:B95,$G$1:G95)","v":{"$error":"#N/A"}},{"$f":"Sheet3!Q95","v":-3.6798528058879037E-3},{"$f":"CORREL($B$1:B95,$I$1:I95)","v":{"$error":"#N/A"}},{"$f":"Sheet3!S95","v":6.9044879171468424E-4},{"$f":"CORREL($B$1:B95,$K$1:K95)","v":{"$error":"#N/A"}},{"$f":"Sheet3!U95","v":1.3063859217705722E-3},{"$f":"CORREL($B$1:B95,$M$1:M95)","v":{"$error":"#N/A"}},{"$f":"Sheet3!W95","v":7.6887590342918663E-4},{"$f":"CORREL($B$1:B95,$O$1:O95)","v":{"$error":"#N/A"}},{"$f":"Sheet3!Y95","v":8.4589357120878883E-4},{"$f":"CORREL($B$1:B95,$Q$1:Q95)","v":{"$error":"#N/A"}},{"$f":"Sheet3!AA95","v":4.3213210895901759E-3},{"$f":"CORREL($B$1:B95,$S$1:S95)","v":{"$error":"#N/A"}}]
[null,{"$f":"Sheet3!I96","v":{"$error":"#N/A"}},{"$f":"Sheet3!K96","v":-1.753579906577846E-2},{"$f":"CORREL($B$1:B96,$C$1:C96)","v":{"$error":"#N/A"}},{"$f":"Sheet3!M96","v":2.4560595594441768E-3},{"$f":"CORREL($B$1:B96,$E$1:E96)","v":{"$error":"#N/A"}},{"$f":"Sheet3!O96","v":3.231763619575289E-3},{"$f":"CORREL($B$1:B96,$G$1:G96)","v":{"$error":"#N/A"}},{"$f":"Sheet3!Q96","v":-3.5265256056425452E-3},{"$f":"CORREL($B$1:B96,$I$1:I96)","v":{"$error":"#N/A"}},{"$f":"Sheet3!S96","v":7.6716532412734941E-4},{"$f":"CORREL($B$1:B96,$K$1:K96)","v":{"$error":"#N/A"}},{"$f":"Sheet3!U96","v":1.0758472296934535E-3},{"$f":"CORREL($B$1:B96,$M$1:M96)","v":{"$error":"#N/A"}},{"$f":"Sheet3!W96","v":3.0755036137174456E-4},{"$f":"CORREL($B$1:B96,$O$1:O96)","v":{"$error":"#N/A"}},{"$f":"Sheet3!Y96","v":7.6899415564441701E-4},{"$f":"CORREL($B$1:B96,$Q$1:Q96)","v":{"$error":"#N/A"}},{"$f":"Sheet3!AA96","v":3.9354888494481897E-3},{"$f":"CORREL($B$1:B96,$S$1:S96)","v":{"$error":"#N/A"}}]
[null,{"$f":"Sheet3!I97","v":{"$error":"#N/A"}},{"$f":"Sheet3!K97","v":-1.7842101232866361E-2},{"$f":"CORREL($B$1:B97,$C$1:C97)","v":{"$error":"#N/A"}},{"$f":"Sheet3!M97","v":2.6095632819094815E-3},{"$f":"CORREL($B$1:B97,$E$1:E97)","v":{"$error":"#N/A"}},{"$f":"Sheet3!O97","v":2.9239766081872749E-3},{"$f":"CORREL($B$1:B97,$G$1:G97)","v":{"$error":"#N/A"}},{"$f":"Sheet3!Q97","v":-3.6031892057651373E-3},{"$f":"CORREL($B$1:B97,$I$1:I97)","v":{"$error":"#N/A"}},{"$f":"Sheet3!S97","v":6.9044879171468424E-4},{"$f":"CORREL($B$1:B97,$K$1:K97)","v":{"$error":"#N/A"}},{"$f":"Sheet3!U97","v":1.1526934603857681E-3},{"$f":"CORREL($B$1:B97,$M$1:M97)","v":{"$error":"#N/A"}},{"$f":"Sheet3!W97","v":3.0755036137174456E-4},{"$f":"CORREL($B$1:B97,$O$1:O97)","v":{"$error":"#N/A"}},{"$f":"Sheet3!Y97","v":5.382959089509521E-4},{"$f":"CORREL($B$1:B97,$Q$1:Q97)","v":{"$error":"#N/A"}},{"$f":"Sheet3!AA97","v":3.7039895053630327E-3},{"$f":"CORREL($B$1:B97,$S$1:S97)","v":{"$error":"#N/A"}}]
[null,{"$f":"Sheet3!I98","v":{"$error":"#N/A"}},{"$f":"Sheet3!K98","v":-1.768895014932241E-2},{"$f":"CORREL($B$1:B98,$C$1:C98)","v":{"$error":"#N/A"}},{"$f":"Sheet3!M98","v":2.4560595594441768E-3},{"$f":"CORREL($B$1:B98,$E$1:E98)","v":{"$error":"#N/A"}},{"$f":"Sheet3!O98","v":2.6161895967990851E-3},{"$f":"CORREL($B$1:B98,$G$1:G98)","v":{"$error":"#N/A"}},{"$f":"Sheet3!Q98","v":-3.6031892057651373E-3},{"$f":"CORREL($B$1:B98,$I$1:I98)","v":{"$error":"#N/A"}},{"$f":"Sheet3!S98","v":6.1373225930184462E-4},{"$f":"CORREL($B$1:B98,$K$1:K98)","v":{"$error":"#N/A"}},{"$f":"Sheet3!U98","v":1.1526934603857681E-3},{"$f":"CORREL($B$1:B98,$M$1:M98)","v":{"$error":"#N/A"}},{"$f":"Sheet3!W98","v":3.0755036137174456E-4},{"$f":"CORREL($B$1:B98,$O$1:O98)","v":{"$error":"#N/A"}},{"$f":"Sheet3!Y98","v":6.151953245154987E-4},{"$f":"CORREL($B$1:B98,$Q$1:Q98)","v":{"$error":"#N/A"}},{"$f":"Sheet3!AA98","v":3.7811559533913598E-3},{"$f":"CORREL($B$1:B98,$S$1:S98)","v":{"$error":"#N/A"}}]
[null,{"$f":"Sheet3!I99","v":{"$error":"#N/A"}},{"$f":"Sheet3!K99","v":-1.768895014932241E-2},{"$f":"CORREL($B$1:B99,$C$1:C99)","v":{"$error":"#N/A"}},{"$f":"Sheet3!M99","v":2.5328114206769163E-3},{"$f":"CORREL($B$1:B99,$E$1:E99)","v":{"$error":"#N/A"}},{"$f":"Sheet3!O99","v":2.6161895967990851E-3},{"$f":"CORREL($B$1:B99,$G$1:G99)","v":{"$error":"#N/A"}},{"$f":"Sheet3!Q99","v":-3.6798528058879037E-3},{"$f":"CORREL($B$1:B99,$I$1:I99)","v":{"$error":"#N/A"}},{"$f":"Sheet3!S99","v":5.3701572688917944E-4},{"$f":"CORREL($B$1:B99,$K$1:K99)","v":{"$error":"#N/A"}},{"$f":"Sheet3!U99","v":1.2295396910782575E-3},{"$f":"CORREL($B$1:B99,$M$1:M99)","v":{"$error":"#N/A"}},{"$f":"Sheet3!W99","v":0},{"$f":"CORREL($B$1:B99,$O$1:O99)","v":{"$error":"#N/A"}},{"$f":"Sheet3!Y99","v":4.6139649338658027E-4},{"$f":"CORREL($B$1:B99,$Q$1:Q99)","v":{"$error":"#N/A"}},{"$f":"Sheet3!AA99","v":3.8583224014198622E-3},{"$f":"CORREL($B$1:B99,$S$1:S99)","v":{"$error":"#N/A"}}]
[null,{"$f":"Sheet3!I100","v":{"$error":"#N/A"}},{"$f":"Sheet3!K100","v":-1.8148403399954088E-2},{"$f":"CORREL($B$1:B100,$C$1:C100)","v":{"$error":"#N/A"}},{"$f":"Sheet3!M100","v":2.3793076982116116E-3},{"$f":"CORREL($B$1:B100,$E$1:E100)","v":{"$error":"#N/A"}},{"$f":"Sheet3!O100","v":2.6931363496460452E-3},{"$f":"CORREL($B$1:B100,$G$1:G100)","v":{"$error":"#N/A"}},{"$f":"Sheet3!Q100","v":-3.6031892057651373E-3},{"$f":"CORREL($B$1:B100,$I$1:I100)","v":{"$error":"#N/A"}},{"$f":"Sheet3!S100","v":5.3701572688917944E-4},{"$f":"CORREL($B$1:B100,$K$1:K100)","v":{"$error":"#N/A"}},{"$f":"Sheet3!U100","v":1.2295396910782575E-3},{"$f":"CORREL($B$1:B100,$M$1:M100)","v":{"$error":"#N/A"}},{"$f":"Sheet3!W100","v":2.3066277102889584E-4},{"$f":"CORREL($B$1:B100,$O$1:O100)","v":{"$error":"#N/A"}},{"$f":"Sheet3!Y100","v":3.844970778222085E-4},{"$f":"CORREL($B$1:B100,$Q$1:Q100)","v":{"$error":"#N/A"}},{"$f":"Sheet3!AA100","v":3.7039895053630327E-3},{"$f":"CORREL($B$1:B100,$S$1:S100)","v":{"$error":"#N/A"}}]
[null,{"$f":"Sheet3!I101","v":{"$error":"#N/A"}},{"$f":"Sheet3!K101","v":-1.7918676774638247E-2},{"$f":"CORREL($B$1:B101,$C$1:C101)","v":{"$error":"#N/A"}},{"$f":"Sheet3!M101","v":2.3793076982116116E-3},{"$f":"CORREL($B$1:B101,$E$1:E101)","v":{"$error":"#N/A"}},{"$f":"Sheet3!O101","v":2.4622960911049904E-3},{"$f":"CORREL($B$1:B101,$G$1:G101)","v":{"$error":"#N/A"}},{"$f":"Sheet3!Q101","v":-3.6031892057651373E-3},{"$f":"CORREL($B$1:B101,$I$1:I101)","v":{"$error":"#N/A"}},{"$f":"Sheet3!S101","v":6.9044879171468424E-4},{"$f":"CORREL($B$1:B101,$K$1:K101)","v":{"$error":"#N/A"}},{"$f":"Sheet3!U101","v":1.3063859217705722E-3},{"$f":"CORREL($B$1:B101,$M$1:M101)","v":{"$error":"#N/A"}},{"$f":"Sheet3!W101","v":3.0755036137174456E-4},{"$f":"CORREL($B$1:B101,$O$1:O101)","v":{"$error":"#N/A"}},{"$f":"Sheet3!Y101","v":3.844970778222085E-4},{"$f":"CORREL($B$1:B101,$Q$1:Q101)","v":{"$error":"#N/A"}},{"$f":"Sheet3!AA101","v":3.8583224014198622E-3},{"$f":"CORREL($B$1:B101,$S$1:S101)","v":{"$error":"#N/A"}}]
[null,{"$f":"Sheet3!I102","v":{"$error":"#N/A"}},{"$f":"Sheet3!K102","v":-1.7612374607550347E-2},{"$f":"CORREL($B$1:B102,$C$1:C102)","v":{"$error":"#N/A"}},{"$f":"Sheet3!M102","v":2.3793076982116116E-3},{"$f":"CORREL($B$1:B102,$E$1:E102)","v":{"$error":"#N/A"}},{"$f":"Sheet3!O102","v":2.3853493382580307E-3},{"$f":"CORREL($B$1:B102,$G$1:G102)","v":{"$error":"#N/A"}},{"$f":"Sheet3!Q102","v":-3.6031892057651373E-3},{"$f":"CORREL($B$1:B102,$I$1:I102)","v":{"$error":"#N/A"}},{"$f":"Sheet3!S102","v":6.1373225930184462E-4},{"$f":"CORREL($B$1:B102,$K$1:K102)","v":{"$error":"#N/A"}},{"$f":"Sheet3!U102","v":1.3063859217705722E-3},{"$f":"CORREL($B$1:B102,$M$1:M102)","v":{"$error":"#N/A"}},{"$f":"Sheet3!W102","v":1.5377518068587228E-4},{"$f":"CORREL($B$1:B102,$O$1:O102)","v":{"$error":"#N/A"}},{"$f":"Sheet3!Y102","v":3.0759766225766191E-4},{"$f":"CORREL($B$1:B102,$Q$1:Q102)","v":{"$error":"#N/A"}},{"$f":"Sheet3!AA102","v":3.7811559533913598E-3},{"$f":"CORREL($B$1:B102,$S$1:S102)","v":{"$error":"#N/A"}}]
[null,{"$f":"Sheet3!I103","v":{"$error":"#N/A"}},{"$f":"Sheet3!K103","v":-1.7842101232866361E-2},{"$f":"CORREL($B$1:B103,$C$1:C103)","v":{"$error":"#N/A"}},{"$f":"Sheet3!M103","v":2.5328114206769163E-3},{"$f":"CORREL($B$1:B103,$E$1:E103)","v":{"$error":"#N/A"}},{"$f":"Sheet3!O103","v":2.4622960911049904E-3},{"$f":"CORREL($B$1:B103,$G$1:G103)","v":{"$error":"#N/A"}},{"$f":"Sheet3!Q103","v":-3.7565164060104957E-3},{"$f":"CORREL($B$1:B103,$I$1:I103)","v":{"$error":"#N/A"}},{"$f":"Sheet3!S103","v":6.1373225930184462E-4},{"$f":"CORREL($B$1:B103,$K$1:K103)","v":{"$error":"#N/A"}},{"$f":"Sheet3!U103","v":1.3832321524628868E-3},{"$f":"CORREL($B$1:B103,$M$1:M103)","v":{"$error":"#N/A"}},{"$f":"Sheet3!W103","v":3.8443795171459332E-4},{"$f":"CORREL($B$1:B103,$O$1:O103)","v":{"$error":"#N/A"}},{"$f":"Sheet3!Y103","v":2.3069824669329014E-4},{"$f":"CORREL($B$1:B103,$Q$1:Q103)","v":{"$error":"#N/A"}},{"$f":"Sheet3!AA103","v":3.8583224014198622E-3},{"$f":"CORREL($B$1:B103,$S$1:S103)","v":{"$error":"#N/A"}}]
[null,{"$f":"Sheet3!I104","v":{"$error":"#N/A"}},{"$f":"Sheet3!K104","v":-1.7995252316410137E-2},{"$f":"CORREL($B$1:B104,$C$1:C104)","v":{"$error":"#N/A"}},{"$f":"Sheet3!M104","v":2.5328114206769163E-3},{"$f":"CORREL($B$1:B104,$E$1:E104)","v":{"$error":"#N/A"}},{"$f":"Sheet3!O104","v":2.4622960911049904E-3},{"$f":"CORREL($B$1:B104,$G$1:G104)","v":{"$error":"#N/A"}},{"$f":"Sheet3!Q104","v":-3.9098436062558542E-3},{"$f":"CORREL($B$1:B104,$I$1:I104)","v":{"$error":"#N/A"}},{"$f":"Sheet3!S104","v":6.9044879171468424E-4},{"$f":"CORREL($B$1:B104,$K$1:K104)","v":{"$error":"#N/A"}},{"$f":"Sheet3!U104","v":1.2295396910782575E-3},{"$f":"CORREL($B$1:B104,$M$1:M104)","v":{"$error":"#N/A"}},{"$f":"Sheet3!W104","v":6.1510072274348912E-4},{"$f":"CORREL($B$1:B104,$O$1:O104)","v":{"$error":"#N/A"}},{"$f":"Sheet3!Y104","v":1.5379883112874354E-4},{"$f":"CORREL($B$1:B104,$Q$1:Q104)","v":{"$error":"#N/A"}},{"$f":"Sheet3!AA104","v":3.8583224014198622E-3},{"$f":"CORREL($B$1:B104,$S$1:S104)","v":{"$error":"#N/A"}}]
[null,{"$f":"Sheet3!I105","v":{"$error":"#N/A"}},{"$f":"Sheet3!K105","v":-1.7918676774638247E-2},{"$f":"CORREL($B$1:B105,$C$1:C105)","v":{"$error":"#N/A"}},{"$f":"Sheet3!M105","v":2.3793076982116116E-3},{"$f":"CORREL($B$1:B105,$E$1:E105)","v":{"$error":"#N/A"}},{"$f":"Sheet3!O105","v":2.6161895967990851E-3},{"$f":"CORREL($B$1:B105,$G$1:G105)","v":{"$error":"#N/A"}},{"$f":"Sheet3!Q105","v":-3.9865072063784458E-3},{"$f":"CORREL($B$1:B105,$I$1:I105)","v":{"$error":"#N/A"}},{"$f":"Sheet3!S105","v":6.9044879171468424E-4},{"$f":"CORREL($B$1:B105,$K$1:K105)","v":{"$error":"#N/A"}},{"$f":"Sheet3!U105","v":1.3832321524628868E-3},{"$f":"CORREL($B$1:B105,$M$1:M105)","v":{"$error":"#N/A"}},{"$f":"Sheet3!W105","v":6.9198831308633782E-4},{"$f":"CORREL($B$1:B105,$O$1:O105)","v":{"$error":"#N/A"}},{"$f":"Sheet3!Y105","v":3.0759766225766191E-4},{"$f":"CORREL($B$1:B105,$Q$1:Q105)","v":{"$error":"#N/A"}},{"$f":"Sheet3!AA105","v":3.8583224014198622E-3},{"$f":"CORREL($B$1:B105,$S$1:S105)","v":{"$error":"#N/A"}}]
[null,{"$f":"Sheet3!I106","v":{"$error":"#N/A"}},{"$f":"Sheet3!K106","v":-1.8378130025269928E-2},{"$f":"CORREL($B$1:B106,$C$1:C106)","v":{"$error":"#N/A"}},{"$f":"Sheet3!M106","v":2.3025558369790464E-3},{"$f":"CORREL($B$1:B106,$E$1:E106)","v":{"$error":"#N/A"}},{"$f":"Sheet3!O106","v":2.6931363496460452E-3},{"$f":"CORREL($B$1:B106,$G$1:G106)","v":{"$error":"#N/A"}},{"$f":"Sheet3!Q106","v":-3.9865072063784458E-3},{"$f":"CORREL($B$1:B106,$I$1:I106)","v":{"$error":"#N/A"}},{"$f":"Sheet3!S106","v":8.4388185654001458E-4},{"$f":"CORREL($B$1:B106,$K$1:K106)","v":{"$error":"#N/A"}},{"$f":"Sheet3!U106","v":1.3063859217705722E-3},{"$f":"CORREL($B$1:B106,$M$1:M106)","v":{"$error":"#N/A"}},{"$f":"Sheet3!W106","v":4.6132554205761684E-4},{"$f":"CORREL($B$1:B106,$O$1:O106)","v":{"$error":"#N/A"}},{"$f":"Sheet3!Y106","v":4.6139649338658027E-4},{"$f":"CORREL($B$1:B106,$Q$1:Q106)","v":{"$error":"#N/A"}},{"$f":"Sheet3!AA106","v":3.7811559533913598E-3},{"$f":"CORREL($B$1:B106,$S$1:S106)","v":{"$error":"#N/A"}}]
[null,{"$f":"Sheet3!I107","v":{"$error":"#N/A"}},{"$f":"Sheet3!K107","v":-1.768895014932241E-2},{"$f":"CORREL($B$1:B107,$C$1:C107)","v":{"$error":"#N/A"}},{"$f":"Sheet3!M107","v":2.3025558369790464E-3},{"$f":"CORREL($B$1:B107,$E$1:E107)","v":{"$error":"#N/A"}},{"$f":"Sheet3!O107","v":2.7700831024931797E-3},{"$f":"CORREL($B$1:B107,$G$1:G107)","v":{"$error":"#N/A"}},{"$f":"Sheet3!Q107","v":-3.8331800061330878E-3},{"$f":"CORREL($B$1:B107,$I$1:I107)","v":{"$error":"#N/A"}},{"$f":"Sheet3!S107","v":8.4388185654001458E-4},{"$f":"CORREL($B$1:B107,$K$1:K107)","v":{"$error":"#N/A"}},{"$f":"Sheet3!U107","v":1.2295396910782575E-3},{"$f":"CORREL($B$1:B107,$M$1:M107)","v":{"$error":"#N/A"}},{"$f":"Sheet3!W107","v":2.3066277102889584E-4},{"$f":"CORREL($B$1:B107,$O$1:O107)","v":{"$error":"#N/A"}},{"$f":"Sheet3!Y107","v":-7.6899415564546611E-5},{"$f":"CORREL($B$1:B107,$Q$1:Q107)","v":{"$error":"#N/A"}},{"$f":"Sheet3!AA107","v":3.8583224014198622E-3},{"$f":"CORREL($B$1:B107,$S$1:S107)","v":{"$error":"#N/A"}}]
[null,{"$f":"Sheet3!I108","v":{"$error":"#N/A"}},{"$f":"Sheet3!K108","v":-1.8301554483498038E-2},{"$f":"CORREL($B$1:B108,$C$1:C108)","v":{"$error":"#N/A"}},{"$f":"Sheet3!M108","v":2.3025558369790464E-3},{"$f":"CORREL($B$1:B108,$E$1:E108)","v":{"$error":"#N/A"}},{"$f":"Sheet3!O108","v":2.5392428439521253E-3},{"$f":"CORREL($B$1:B108,$G$1:G108)","v":{"$error":"#N/A"}},{"$f":"Sheet3!Q108","v":-3.6798528058879037E-3},{"$f":"CORREL($B$1:B108,$I$1:I108)","v":{"$error":"#N/A"}},{"$f":"Sheet3!S108","v":6.9044879171468424E-4},{"$f":"CORREL($B$1:B108,$K$1:K108)","v":{"$error":"#N/A"}},{"$f":"Sheet3!U108","v":1.6906170752324949E-3},{"$f":"CORREL($B$1:B108,$M$1:M108)","v":{"$error":"#N/A"}},{"$f":"Sheet3!W108","v":5.3821313240046554E-4},{"$f":"CORREL($B$1:B108,$O$1:O108)","v":{"$error":"#N/A"}},{"$f":"Sheet3!Y108","v":1.5379883112874354E-4},{"$f":"CORREL($B$1:B108,$Q$1:Q108)","v":{"$error":"#N/A"}},{"$f":"Sheet3!AA108","v":3.472490161277876E-3},{"$f":"CORREL($B$1:B108,$S$1:S108)","v":{"$error":"#N/A"}}]
[]
[null,null,null,{"$f":"Sheet3!C2","v":"2018-06-15"},null,{"$f":"Sheet3!C3","v":"2018-06-14"},null,{"$f":"Sheet3!C4","v":"2018-06-13"},null,{"$f":"Sheet3!C5","v":"2018-06-12"},null,{"$f":"Sheet3!C6","v":"2018-06-11"},null,{"$f":"Sheet3!C7","v":"2018-06-08"},null,{"$f":"Sheet3!C8","v":"2018-06-07"},null,{"$f":"Sheet3!C9","v":"2018-06-06"},null,{"$f":"Sheet3!C10","v":"2018-06-05"}]
[null,null,null,{"$f":"LOOKUP(2,1/(ISNUMBER(D1:D108)),D1:D108)","v":-0.39975018553454039},null,{"$f":"LOOKUP(2,1/(ISNUMBER(F1:F108)),F1:F108)","v":-0.56589323773598055},null,{"$f":"LOOKUP(2,1/(ISNUMBER(H1:H108)),H1:H108)","v":0.48414978620510796},null,{"$f":"LOOKUP(2,1/(ISNUMBER(J1:J108)),J1:J108)","v":0.49661051557369867},null,{"$f":"LOOKUP(2,1/(ISNUMBER(L1:L108)),L1:L108)","v":0.36274753857746711},null,{"$f":"LOOKUP(2,1/(ISNUMBER(N1:N108)),N1:N108)","v":-4.0750854497513228E-2},null,{"$f":"LOOKUP(2,1/(ISNUMBER(P1:P108)),P1:P108)","v":-0.53344327119755119},null,{"$f":"LOOKUP(2,1/(ISNUMBER(R1:R108)),R1:R108)","v":0.42098947027777034},null,{"$f":"LOOKUP(2,1/(ISNUMBER(T1:T108)),T1:T108)","v":0.13222600591966671}]
[]
[null,null,{"$f":"RANK(D113,$D$113:$D$121,0)+COUNTIF($D$113:D113,D113)-1","v":7},{"$f":"D111","v":-0.39975018553454039},{"$f":"D110","v":"2018-06-15"},{"$f":"RANK(D113,$D$113:$D$121,0)+COUNTIF($D$113:D113,D113)-1","v":7},{"$f":"VLOOKUP(1,C113:E121,3,FALSE)","v":"2018-06-12"},{"$f":"VLOOKUP(1,C113:E121,2,FALSE)","v":0.49661051557369867},{"$f":"IFERROR(VLOOKUP(G113,Sheet3!AK1:AN10,4,FALSE),1)","v":4}]
[null,null,{"$f":"RANK(D114,$D$113:$D$121,0)+COUNTIF($D$113:D114,D114)-1","v":9},{"$f":"F111","v":-0.56589323773598055},{"$f":"F110","v":"2018-06-14"},{"$f":"RANK(D114,$D$113:$D$121,0)+COUNTIF($D$113:D114,D114)-1","v":9},{"$f":"VLOOKUP(2,C113:E121,3,FALSE)","v":"2018-06-13"},{"$f":"VLOOKUP(2,C113:E121,2,FALSE)","v":0.48414978620510796}]
[null,null,{"$f":"RANK(D115,$D$113:$D$121,0)+COUNTIF($D$113:D115,D115)-1","v":2},{"$f":"H111","v":0.48414978620510796},{"$f":"H110","v":"2018-06-13"},{"$f":"RANK(D115,$D$113:$D$121,0)+COUNTIF($D$113:D115,D115)-1","v":2},{"$f":"VLOOKUP(3,C113:E121,3,FALSE)","v":"2018-06-06"},{"$f":"VLOOKUP(3,C113:E121,2,FALSE)","v":0.42098947027777034}]
[null,null,{"$f":"RANK(D116,$D$113:$D$121,0)+COUNTIF($D$113:D116,D116)-1","v":1},{"$f":"J111","v":0.49661051557369867},{"$f":"J110","v":"2018-06-12"},{"$f":"RANK(D116,$D$113:$D$121,0)+COUNTIF($D$113:D116,D116)-1","v":1},{"$f":"VLOOKUP(4,C113:E121,3,FALSE)","v":"2018-06-11"},{"$f":"VLOOKUP(4,C113:E121,2,FALSE)","v":0.36274753857746711}]
[null,null,{"$f":"RANK(D117,$D$113:$D$121,0)+COUNTIF($D$113:D117,D117)-1","v":4},{"$f":"L111","v":0.36274753857746711},{"$f":"L110","v":"2018-06-11"},{"$f":"RANK(D117,$D$113:$D$121,0)+COUNTIF($D$113:D117,D117)-1","v":4},{"$f":"VLOOKUP(5,C113:E121,3,FALSE)","v":"2018-06-05"},{"$f":"VLOOKUP(5,C113:E121,2,FALSE)","v":0.13222600591966671}]
[null,null,{"$f":"RANK(D118,$D$113:$D$121,0)+COUNTIF($D$113:D118,D118)-1","v":6},{"$f":"N111","v":-4.0750854497513228E-2},{"$f":"N110","v":"2018-06-08"},{"$f":"RANK(D118,$D$113:$D$121,0)+COUNTIF($D$113:D118,D118)-1","v":6},{"$f":"VLOOKUP(6,C113:E121,3,FALSE)","v":"2018-06-08"},{"$f":"VLOOKUP(6,C113:E121,2,FALSE)","v":-4.0750854497513228E-2}]
[null,null,{"$f":"RANK(D119,$D$113:$D$121,0)+COUNTIF($D$113:D119,D119)-1","v":8},{"$f":"P111","v":-0.53344327119755119},{"$f":"P110","v":"2018-06-07"},{"$f":"RANK(D119,$D$113:$D$121,0)+COUNTIF($D$113:D119,D119)-1","v":8},{"$f":"VLOOKUP(7,C113:E121,3,FALSE)","v":"2018-06-15"},{"$f":"VLOOKUP(7,C113:E121,2,FALSE)","v":-0.39975018553454039}]
[null,null,{"$f":"RANK(D120,$D$113:$D$121,0)+COUNTIF($D$113:D120,D120)-1","v":3},{"$f":"R111","v":0.42098947027777034},{"$f":"R110","v":"2018-06-06"},{"$f":"RANK(D120,$D$113:$D$121,0)+COUNTIF($D$113:D120,D120)-1","v":3},{"$f":"VLOOKUP(8,C113:E121,3,FALSE)","v":"2018-06-07"},{"$f":"VLOOKUP(8,C113:E121,2,FALSE)","v":-0.53344327119755119}]
[null,null,{"$f":"RANK(D121,$D$113:$D$121,0)+COUNTIF($D$113:D121,D121)-1","v":5},{"$f":"T111","v":0.13222600591966671},{"$f":"T110","v":"2018-06-05"},{"$f":"RANK(D121,$D$113:$D$121,0)+COUNTIF($D$113:D121,D121)-1","v":5},{"$f":"VLOOKUP(9,C113:E121,3,FALSE)","v":"2018-06-14"},{"$f":"VLOOKUP(9,C113:E121,2,FALSE)","v":-0.56589323773598055}]

{"sheet":"Sheet3 (2)","index":3,"n_rows":78,"n_cols":40,"rows_kept":78,"cut":false,"hidden":true,"merged":[]}
[0,"08:00:00",{"$f":"IF(WEEKDAY(TODAY())=7,TODAY()-1,IF(WEEKDAY(TODAY())=1,TODAY()-2,TODAY()))","v":"2018-06-18"},{"$f":"YEAR(C1)","v":2018},{"$f":"MONTH(C1)","v":6},{"$f":"DAY(C1)","v":18},null,{"$f":"RTD(\"cqg.rtd\",,\"StudyData\", \"Close(\"&$D$12&\") when LocalYear(\"&$D$12&\")=\"&$D$1&\" and localMonth(\"&$D$12&\") =\"&$E$1&\" and LocalDay(\"&$D$12&\")=\"&$F$1&\" and Barix(\"&$D$12&\",reference:=StartOfSession)=\"&A1&\"\", \"Bar\", \"\", \"Close\",\"5\",\"0\",\"PrimaryOnly\",,,\"False\",\"T\",\"EveryTick\")","v":65.05},{"$f":"IFERROR((H1-$G$2)/$G$2,NA())","v":3.0840400925212469E-3},{"$f":"RTD(\"cqg.rtd\",,\"StudyData\", \"Close(\"&$D$12&\") when LocalYear(\"&$D$12&\")=\"&$D$2&\" and localMonth(\"&$D$12&\") =\"&$E$2&\" and LocalDay(\"&$D$12&\")=\"&$F$2&\" and Barix(\"&$D$12&\",reference:=StartOfSession)=\"&A1&\"\", \"Bar\", \"\", \"Close\",\"5\",\"0\",\"PrimaryOnly\",,,\"False\",\"T\",\"EveryTick\")","v":66.52},{"$f":"IFERROR((J1-$G$3)/$G$3,NA())","v":-2.5491078122657326E-3},{"$f":"RTD(\"cqg.rtd\",,\"StudyData\", \"Close(\"&$D$12&\") when LocalYear(\"&$D$12&\")=\"&$D$3&\" and localMonth(\"&$D$12&\") =\"&$E$3&\" and LocalDay(\"&$D$12&\")=\"&$F$3&\" and Barix(\"&$D$12&\",reference:=StartOfSession)=\"&A1&\"\", \"Bar\", \"\", \"Close\",\"5\",\"0\",\"PrimaryOnly\",,,\"False\",\"T\",\"EveryTick\")","v":66.98},{"$f":"IFERROR((L1-$G$4)/$G$4,NA())","v":6.9152134696333131E-3},{"$f":"RTD(\"cqg.rtd\",,\"StudyData\", \"Close(\"&$D$12&\") when LocalYear(\"&$D$12&\")=\"&$D$4&\" and localMonth(\"&$D$12&\") =\"&$E$4&\" and LocalDay(\"&$D$12&\")=\"&$F$4&\" and Barix(\"&$D$12&\",reference:=StartOfSession)=\"&A1&\"\", \"Bar\", \"\", \"Close\",\"5\",\"0\",\"PrimaryOnly\",,,\"False\",\"T\",\"EveryTick\")","v":65.92},{"$f":"IFERROR((N1-$G$5)/$G$5,NA())","v":-5.4315027157513492E-3},{"$f":"RTD(\"cqg.rtd\",,\"StudyData\", \"Close(\"&$D$12&\") when LocalYear(\"&$D$12&\")=\"&$D$5&\" and localMonth(\"&$D$12&\") =\"&$E$5&\" and LocalDay(\"&$D$12&\")=\"&$F$5&\" and Barix(\"&$D$12&\",reference:=StartOfSession)=\"&A1&\"\", \"Bar\", \"\", \"Close\",\"5\",\"0\",\"PrimaryOnly\",,,\"False\",\"T\",\"EveryTick\")","v":66.010000000000005},{"$f":"IFERROR((P1-$G$6)/$G$6,NA())","v":-3.0289262456453158E-4},{"$f":"RTD(\"cqg.rtd\",,\"StudyData\", \"Close(\"&$D$12&\") when LocalYear(\"&$D$12&\")=\"&$D$6&\" and localMonth(\"&$D$12&\") =\"&$E$6&\" and LocalDay(\"&$D$12&\")=\"&$F$6&\" and Barix(\"&$D$12&\",reference:=StartOfSession)=\"&A1&\"\", \"Bar\", \"\", \"Close\",\"5\",\"0\",\"PrimaryOnly\",,,\"False\",\"T\",\"EveryTick\")","v":64.959999999999994},{"$f":"IFERROR((R1-$G$7)/$G$7,NA())","v":-1.0811633927211937E-2},{"$f":"RTD(\"cqg.rtd\",,\"StudyData\", \"Close(\"&$D$12&\") when LocalYear(\"&$D$12&\")=\"&$D$7&\" and localMonth(\"&$D$12&\") =\"&$E$7&\" and LocalDay(\"&$D$12&\")=\"&$F$7&\" and Barix(\"&$D$12&\",reference:=StartOfSession)=\"&A1&\"\", \"Bar\", \"\", \"Close\",\"5\",\"0\",\"PrimaryOnly\",,,\"False\",\"T\",\"EveryTick\")","v":65.760000000000005},{"$f":"IFERROR((T1-$G$8)/$G$8,NA())","v":-1.9729852784943916E-3},{"$f":"RTD(\"cqg.rtd\",,\"StudyData\", \"Close(\"&$D$12&\") when LocalYear(\"&$D$12&\")=\"&$D$8&\" and localMonth(\"&$D$12&\") =\"&$E$8&\" and LocalDay(\"&$D$12&\")=\"&$F$8&\" and Barix(\"&$D$12&\",reference:=StartOfSession)=\"&A1&\"\", \"Bar\", \"\", \"Close\",\"5\",\"0\",\"PrimaryOnly\",,,\"False\",\"T\",\"EveryTick\")","v":65.22},{"$f":"IFERROR((V1-$G$9)/$G$9,NA())","v":8.037094281298238E-3},{"$f":"RTD(\"cqg.rtd\",,\"StudyData\", \"Close(\"&$D$12&\") when LocalYear(\"&$D$12&\")=\"&$D$9&\" and localMonth(\"&$D$12&\") =\"&$E$9&\" and LocalDay(\"&$D$12&\")=\"&$F$9&\" and Barix(\"&$D$12&\",reference:=StartOfSession)=\"&A1&\"\", \"Bar\", \"\", \"Close\",\"5\",\"0\",\"PrimaryOnly\",,,\"False\",\"T\",\"EveryTick\")","v":65.11},{"$f":"IFERROR((X1-$G$10)/$G$10,NA())","v":-5.3467766575006773E-3},{"$f":"RTD(\"cqg.rtd\",,\"StudyData\", \"Close(\"&$D$12&\") when LocalYear(\"&$D$12&\")=\"&$D$10&\" and localMonth(\"&$D$12&\") =\"&$E$10&\" and LocalDay(\"&$D$12&\")=\"&$F$10&\" and Barix(\"&$D$12&\",reference:=StartOfSession)=\"&A1&\"\", \"Bar\", \"\", \"Close\",\"5\",\"0\",\"PrimaryOnly\",,,\"False\",\"T\",\"EveryTick\")","v":64.5},{"$f":"IFERROR((Z1-$G$11)/$G$11,NA())","v":-2.7829313543600311E-3},{"$f":"RANK(AD1,$AD$1:$AD$10)+COUNTIF($AD$1:AD1,AD1)-1","v":2},{"$f":"DATE(D1,E1,F1)","v":"2018-06-18"},{"$f":"VLOOKUP(MAX(AE2:AE66),A1:I66,9,FALSE)","v":5.7054741711642957E-3},null,1,{"$f":"VLOOKUP(AF1,$AB$1:$AD$10,2,FALSE)","v":"2018-06-07"},{"$f":"VLOOKUP(AF1,$AB$1:$AD$10,3,FALSE)","v":1.0046367851622743E-2},null,null,{"$f":"AG1","v":"2018-06-07"},{"$f":"AC1","v":"2018-06-18"},0,{"$f":"VLOOKUP(AK1,$AL$1:$AM$10,2,FALSE)","v":7}]
[{"$f":"A1+1","v":1},"08:05:00",{"$f":"WORKDAY(C1,-G27)","v":"2018-06-15"},{"$f":"YEAR(C2)","v":2018},{"$f":"MONTH(C2)","v":6},{"$f":"DAY(C2)","v":15},{"$f":"RTD(\"cqg.rtd\",,\"StudyData\", \"Close(\"&$D$12&\") when LocalYear(\"&$D$12&\")=\"&D2&\" and localMonth(\"&$D$12&\") =\"&E2&\" and LocalDay(\"&$D$12&\")=\"&F2&\" and Barix(\"&$D$12&\",reference:=StartOfSession)=65\", \"Bar\", \"\", \"Close\",\"5\",\"0\",\"PrimaryOnly\",,,\"False\",\"T\",\"EveryTick\")","v":64.849999999999994},{"$f":"RTD(\"cqg.rtd\",,\"StudyData\", \"Close(\"&$D$12&\") when LocalYear(\"&$D$12&\")=\"&$D$1&\" and localMonth(\"&$D$12&\") =\"&$E$1&\" and LocalDay(\"&$D$12&\")=\"&$F$1&\" and Barix(\"&$D$12&\",reference:=StartOfSession)=\"&A2&\"\", \"Bar\", \"\", \"Close\",\"5\",\"0\",\"PrimaryOnly\",,,\"False\",\"T\",\"EveryTick\")","v":65.010000000000005},{"$f":"IFERROR((H2-$G$2)/$G$2,NA())","v":2.467232074017129E-3},{"$f":"RTD(\"cqg.rtd\",,\"StudyData\", \"Close(\"&$D$12&\") when LocalYear(\"&$D$12&\")=\"&$D$2&\" and localMonth(\"&$D$12&\") =\"&$E$2&\" and LocalDay(\"&$D$12&\")=\"&$F$2&\" and Barix(\"&$D$12&\",reference:=StartOfSession)=\"&A2&\"\", \"Bar\", \"\", \"Close\",\"5\",\"0\",\"PrimaryOnly\",,,\"False\",\"T\",\"EveryTick\")","v":66.45},{"$f":"IFERROR((J2-$G$3)/$G$3,NA())","v":-3.5987404408456274E-3},{"$f":"RTD(\"cqg.rtd\",,\"StudyData\", \"Close(\"&$D$12&\") when LocalYear(\"&$D$12&\")=\"&$D$3&\" and localMonth(\"&$D$12&\") =\"&$E$3&\" and LocalDay(\"&$D$12&\")=\"&$F$3&\" and Barix(\"&$D$12&\",reference:=StartOfSession)=\"&A2&\"\", \"Bar\", \"\", \"Close\",\"5\",\"0\",\"PrimaryOnly\",,,\"False\",\"T\",\"EveryTick\")","v":67},{"$f":"IFERROR((L2-$G$4)/$G$4,NA())","v":7.2158749248346964E-3},{"$f":"RTD(\"cqg.rtd\",,\"StudyData\", \"Close(\"&$D$12&\") when LocalYear(\"&$D$12&\")=\"&$D$4&\" and localMonth(\"&$D$12&\") =\"&$E$4&\" and LocalDay(\"&$D$12&\")=\"&$F$4&\" and Barix(\"&$D$12&\",reference:=StartOfSession)=\"&A2&\"\", \"Bar\", \"\", \"Close\",\"5\",\"0\",\"PrimaryOnly\",,,\"False\",\"T\",\"EveryTick\")","v":65.94},{"$f":"IFERROR((N2-$G$5)/$G$5,NA())","v":-5.1297525648763337E-3},{"$f":"RTD(\"cqg.rtd\",,\"StudyData\", \"Close(\"&$D$12&\") when LocalYear(\"&$D$12&\")=\"&$D$5&\" and localMonth(\"&$D$12&\") =\"&$E$5&\" and LocalDay(\"&$D$12&\")=\"&$F$5&\" and Barix(\"&$D$12&\",reference:=StartOfSession)=\"&A2&\"\", \"Bar\", \"\", \"Close\",\"5\",\"0\",\"PrimaryOnly\",,,\"False\",\"T\",\"EveryTick\")","v":65.97},{"$f":"IFERROR((P2-$G$6)/$G$6,NA())","v":-9.0867787369381E-4},{"$f":"RTD(\"cqg.rtd\",,\"StudyData\", \"Close(\"&$D$12&\") when LocalYear(\"&$D$12&\")=\"&$D$6&\" and localMonth(\"&$D$12&\") =\"&$E$6&\" and LocalDay(\"&$D$12&\")=\"&$F$6&\" and Barix(\"&$D$12&\",reference:=StartOfSession)=\"&A2&\"\", \"Bar\", \"\", \"Close\",\"5\",\"0\",\"PrimaryOnly\",,,\"False\",\"T\",\"EveryTick\")","v":64.989999999999995},{"$f":"IFERROR((R2-$G$7)/$G$7,NA())","v":-1.0354804324653674E-2},{"$f":"RTD(\"cqg.rtd\",,\"StudyData\", \"Close(\"&$D$12&\") when LocalYear(\"&$D$12&\")=\"&$D$7&\" and localMonth(\"&$D$12&\") =\"&$E$7&\" and LocalDay(\"&$D$12&\")=\"&$F$7&\" and Barix(\"&$D$12&\",reference:=StartOfSession)=\"&A2&\"\", \"Bar\", \"\", \"Close\",\"5\",\"0\",\"PrimaryOnly\",,,\"False\",\"T\",\"EveryTick\")","v":65.83},{"$f":"IFERROR((T2-$G$8)/$G$8,NA())","v":-9.1060859007440083E-4},{"$f":"RTD(\"cqg.rtd\",,\"StudyData\", \"Close(\"&$D$12&\") when LocalYear(\"&$D$12&\")=\"&$D$8&\" and localMonth(\"&$D$12&\") =\"&$E$8&\" and LocalDay(\"&$D$12&\")=\"&$F$8&\" and Barix(\"&$D$12&\",reference:=StartOfSession)=\"&A2&\"\", \"Bar\", \"\", \"Close\",\"5\",\"0\",\"PrimaryOnly\",,,\"False\",\"T\",\"EveryTick\")","v":65.209999999999994},{"$f":"IFERROR((V2-$G$9)/$G$9,NA())","v":7.8825347758885757E-3},{"$f":"RTD(\"cqg.rtd\",,\"StudyData\", \"Close(\"&$D$12&\") when LocalYear(\"&$D$12&\")=\"&$D$9&\" and localMonth(\"&$D$12&\") =\"&$E$9&\" and LocalDay(\"&$D$12&\")=\"&$F$9&\" and Barix(\"&$D$12&\",reference:=StartOfSession)=\"&A2&\"\", \"Bar\", \"\", \"Close\",\"5\",\"0\",\"PrimaryOnly\",,,\"False\",\"T\",\"EveryTick\")","v":65.09},{"$f":"IFERROR((X2-$G$10)/$G$10,NA())","v":-5.6523067522149459E-3},{"$f":"RTD(\"cqg.rtd\",,\"StudyData\", \"Close(\"&$D$12&\") when LocalYear(\"&$D$12&\")=\"&$D$10&\" and localMonth(\"&$D$12&\") =\"&$E$10&\" and LocalDay(\"&$D$12&\")=\"&$F$10&\" and Barix(\"&$D$12&\",reference:=StartOfSession)=\"&A2&\"\", \"Bar\", \"\", \"Close\",\"5\",\"0\",\"PrimaryOnly\",,,\"False\",\"T\",\"EveryTick\")","v":64.400000000000006},{"$f":"IFERROR((Z2-$G$11)/$G$11,NA())","v":-4.3290043290043463E-3},{"$f":"RANK(AD2,$AD$1:$AD$10)+COUNTIF($AD$1:AD2,AD2)-1","v":10},{"$f":"DATE(D2,E2,F2)","v":"2018-06-15"},{"$f":"VLOOKUP(MAX(AE2:AE81),A1:K81,11,FALSE)","v":-1.3045434098065746E-2},{"$f":"IF(AND(H1<>\"\",H2<>\"\",H3=\"\"),A2,\"\")","v":""},2,{"$f":"VLOOKUP(AF2,$AB$1:$AD$10,2,FALSE)","v":"2018-06-18"},{"$f":"VLOOKUP(AF2,$AB$1:$AD$10,3,FALSE)","v":5.7054741711642957E-3},null,null,{"$f":"AG2","v":"2018-06-18"},{"$f":"AC2","v":"2018-06-15"},1,{"$f":"VLOOKUP(AK2,$AL$1:$AM$10,2,FALSE)","v":0}]
[{"$f":"A2+1","v":2},"08:10:00",{"$f":"WORKDAY(C2,-G28)","v":"2018-06-14"},2018,6,14,{"$f":"RTD(\"cqg.rtd\",,\"StudyData\", \"Close(\"&$D$12&\") when LocalYear(\"&$D$12&\")=\"&D3&\" and localMonth(\"&$D$12&\") =\"&E3&\" and LocalDay(\"&$D$12&\")=\"&F3&\" and Barix(\"&$D$12&\",reference:=StartOfSession)=65\", \"Bar\", \"\", \"Close\",\"5\",\"0\",\"PrimaryOnly\",,,\"False\",\"T\",\"EveryTick\")","v":66.69},{"$f":"RTD(\"cqg.rtd\",,\"StudyData\", \"Close(\"&$D$12&\") when LocalYear(\"&$D$12&\")=\"&$D$1&\" and localMonth(\"&$D$12&\") =\"&$E$1&\" and LocalDay(\"&$D$12&\")=\"&$F$1&\" and Barix(\"&$D$12&\",reference:=StartOfSession)=\"&A3&\"\", \"Bar\", \"\", \"Close\",\"5\",\"0\",\"PrimaryOnly\",,,\"False\",\"T\",\"EveryTick\")","v":65},{"$f":"IFERROR((H3-$G$2)/$G$2,NA())","v":2.3130300693909901E-3},{"$f":"RTD(\"cqg.rtd\",,\"StudyData\", \"Close(\"&$D$12&\") when LocalYear(\"&$D$12&\")=\"&$D$2&\" and localMonth(\"&$D$12&\") =\"&$E$2&\" and LocalDay(\"&$D$12&\")=\"&$F$2&\" and Barix(\"&$D$12&\",reference:=StartOfSession)=\"&A3&\"\", \"Bar\", \"\", \"Close\",\"5\",\"0\",\"PrimaryOnly\",,,\"False\",\"T\",\"EveryTick\")","v":66.430000000000007},-3.8986354775827096E-3,{"$f":"RTD(\"cqg.rtd\",,\"StudyData\", \"Close(\"&$D$12&\") when LocalYear(\"&$D$12&\")=\"&$D$3&\" and localMonth(\"&$D$12&\") =\"&$E$3&\" and LocalDay(\"&$D$12&\")=\"&$F$3&\" and Barix(\"&$D$12&\",reference:=StartOfSession)=\"&A3&\"\", \"Bar\", \"\", \"Close\",\"5\",\"0\",\"PrimaryOnly\",,,\"False\",\"T\",\"EveryTick\")","v":66.97},6.7648827420325143E-3,{"$f":"RTD(\"cqg.rtd\",,\"StudyData\", \"Close(\"&$D$12&\") when LocalYear(\"&$D$12&\")=\"&$D$4&\" and localMonth(\"&$D$12&\") =\"&$E$4&\" and LocalDay(\"&$D$12&\")=\"&$F$4&\" and Barix(\"&$D$12&\",reference:=StartOfSession)=\"&A3&\"\", \"Bar\", \"\", \"Close\",\"5\",\"0\",\"PrimaryOnly\",,,\"False\",\"T\",\"EveryTick\")","v":65.959999999999994},-4.8280024140013181E-3,{"$f":"RTD(\"cqg.rtd\",,\"StudyData\", \"Close(\"&$D$12&\") when LocalYear(\"&$D$12&\")=\"&$D$5&\" and localMonth(\"&$D$12&\") =\"&$E$5&\" and LocalDay(\"&$D$12&\")=\"&$F$5&\" and Barix(\"&$D$12&\",reference:=StartOfSession)=\"&A3&\"\", \"Bar\", \"\", \"Close\",\"5\",\"0\",\"PrimaryOnly\",,,\"False\",\"T\",\"EveryTick\")","v":65.97},-9.0867787369381E-4,{"$f":"RTD(\"cqg.rtd\",,\"StudyData\", \"Close(\"&$D$12&\") when LocalYear(\"&$D$12&\")=\"&$D$6&\" and localMonth(\"&$D$12&\") =\"&$E$6&\" and LocalDay(\"&$D$12&\")=\"&$F$6&\" and Barix(\"&$D$12&\",reference:=StartOfSession)=\"&A3&\"\", \"Bar\", \"\", \"Close\",\"5\",\"0\",\"PrimaryOnly\",,,\"False\",\"T\",\"EveryTick\")","v":64.97},-1.0659357393025778E-2,{"$f":"RTD(\"cqg.rtd\",,\"StudyData\", \"Close(\"&$D$12&\") when LocalYear(\"&$D$12&\")=\"&$D$7&\" and localMonth(\"&$D$12&\") =\"&$E$7&\" and LocalDay(\"&$D$12&\")=\"&$F$7&\" and Barix(\"&$D$12&\",reference:=StartOfSession)=\"&A3&\"\", \"Bar\", \"\", \"Close\",\"5\",\"0\",\"PrimaryOnly\",,,\"False\",\"T\",\"EveryTick\")","v":65.819999999999993},-1.0623766884202063E-3,{"$f":"RTD(\"cqg.rtd\",,\"StudyData\", \"Close(\"&$D$12&\") when LocalYear(\"&$D$12&\")=\"&$D$8&\" and localMonth(\"&$D$12&\") =\"&$E$8&\" and LocalDay(\"&$D$12&\")=\"&$F$8&\" and Barix(\"&$D$12&\",reference:=StartOfSession)=\"&A3&\"\", \"Bar\", \"\", \"Close\",\"5\",\"0\",\"PrimaryOnly\",,,\"False\",\"T\",\"EveryTick\")","v":65.239999999999995},8.3462132921173424E-3,{"$f":"RTD(\"cqg.rtd\",,\"StudyData\", \"Close(\"&$D$12&\") when LocalYear(\"&$D$12&\")=\"&$D$9&\" and localMonth(\"&$D$12&\") =\"&$E$9&\" and LocalDay(\"&$D$12&\")=\"&$F$9&\" and Barix(\"&$D$12&\",reference:=StartOfSession)=\"&A3&\"\", \"Bar\", \"\", \"Close\",\"5\",\"0\",\"PrimaryOnly\",,,\"False\",\"T\",\"EveryTick\")","v":65.040000000000006},-6.4161319890007262E-3,{"$f":"RTD(\"cqg.rtd\",,\"StudyData\", \"Close(\"&$D$12&\") when LocalYear(\"&$D$12&\")=\"&$D$10&\" and localMonth(\"&$D$12&\") =\"&$E$10&\" and LocalDay(\"&$D$12&\")=\"&$F$10&\" and Barix(\"&$D$12&\",reference:=StartOfSession)=\"&A3&\"\", \"Bar\", \"\", \"Close\",\"5\",\"0\",\"PrimaryOnly\",,,\"False\",\"T\",\"EveryTick\")","v":64.48},-3.0921459492888499E-3,{"$f":"RANK(AD3,$AD$1:$AD$10)+COUNTIF($AD$1:AD3,AD3)-1","v":3},"2018-06-14",{"$f":"VLOOKUP(MAX(AE2:AE81),A1:M81,13,FALSE)","v":4.3595911004210199E-3},{"$f":"IF(AND(H2<>\"\",H3<>\"\",H4=\"\"),A3,\"\")","v":""},3,"2018-06-14",4.3595911004210199E-3,null,null,"2018-06-14","2018-06-14",2,2]
[3,"08:15:00","2018-06-13",2018,6,13,{"$f":"RTD(\"cqg.rtd\",,\"StudyData\", \"Close(\"&$D$12&\") when LocalYear(\"&$D$12&\")=\"&D4&\" and localMonth(\"&$D$12&\") =\"&E4&\" and LocalDay(\"&$D$12&\")=\"&F4&\" and Barix(\"&$D$12&\",reference:=StartOfSession)=65\", \"Bar\", \"\", \"Close\",\"5\",\"0\",\"PrimaryOnly\",,,\"False\",\"T\",\"EveryTick\")","v":66.52},{"$f":"RTD(\"cqg.rtd\",,\"StudyData\", \"Close(\"&$D$12&\") when LocalYear(\"&$D$12&\")=\"&$D$1&\" and localMonth(\"&$D$12&\") =\"&$E$1&\" and LocalDay(\"&$D$12&\")=\"&$F$1&\" and Barix(\"&$D$12&\",reference:=StartOfSession)=\"&A4&\"\", \"Bar\", \"\", \"Close\",\"5\",\"0\",\"PrimaryOnly\",,,\"False\",\"T\",\"EveryTick\")","v":65.06},3.2382420971473857E-3,{"$f":"RTD(\"cqg.rtd\",,\"StudyData\", \"Close(\"&$D$12&\") when LocalYear(\"&$D$12&\")=\"&$D$2&\" and localMonth(\"&$D$12&\") =\"&$E$2&\" and LocalDay(\"&$D$12&\")=\"&$F$2&\" and Barix(\"&$D$12&\",reference:=StartOfSession)=\"&A4&\"\", \"Bar\", \"\", \"Close\",\"5\",\"0\",\"PrimaryOnly\",,,\"False\",\"T\",\"EveryTick\")","v":66.430000000000007},-3.8986354775827096E-3,{"$f":"RTD(\"cqg.rtd\",,\"StudyData\", \"Close(\"&$D$12&\") when LocalYear(\"&$D$12&\")=\"&$D$3&\" and localMonth(\"&$D$12&\") =\"&$E$3&\" and LocalDay(\"&$D$12&\")=\"&$F$3&\" and Barix(\"&$D$12&\",reference:=StartOfSession)=\"&A4&\"\", \"Bar\", \"\", \"Close\",\"5\",\"0\",\"PrimaryOnly\",,,\"False\",\"T\",\"EveryTick\")","v":66.95},6.4642212868311309E-3,{"$f":"RTD(\"cqg.rtd\",,\"StudyData\", \"Close(\"&$D$12&\") when LocalYear(\"&$D$12&\")=\"&$D$4&\" and localMonth(\"&$D$12&\") =\"&$E$4&\" and LocalDay(\"&$D$12&\")=\"&$F$4&\" and Barix(\"&$D$12&\",reference:=StartOfSession)=\"&A4&\"\", \"Bar\", \"\", \"Close\",\"5\",\"0\",\"PrimaryOnly\",,,\"False\",\"T\",\"EveryTick\")","v":65.930000000000007},-5.2806276403137347E-3,{"$f":"RTD(\"cqg.rtd\",,\"StudyData\", \"Close(\"&$D$12&\") when LocalYear(\"&$D$12&\")=\"&$D$5&\" and localMonth(\"&$D$12&\") =\"&$E$5&\" and LocalDay(\"&$D$12&\")=\"&$F$5&\" and Barix(\"&$D$12&\",reference:=StartOfSession)=\"&A4&\"\", \"Bar\", \"\", \"Close\",\"5\",\"0\",\"PrimaryOnly\",,,\"False\",\"T\",\"EveryTick\")","v":65.98},-7.5723156141143657E-4,{"$f":"RTD(\"cqg.rtd\",,\"StudyData\", \"Close(\"&$D$12&\") when LocalYear(\"&$D$12&\")=\"&$D$6&\" and localMonth(\"&$D$12&\") =\"&$E$6&\" and LocalDay(\"&$D$12&\")=\"&$F$6&\" and Barix(\"&$D$12&\",reference:=StartOfSession)=\"&A4&\"\", \"Bar\", \"\", \"Close\",\"5\",\"0\",\"PrimaryOnly\",,,\"False\",\"T\",\"EveryTick\")","v":65.02},-9.8979747220954116E-3,{"$f":"RTD(\"cqg.rtd\",,\"StudyData\", \"Close(\"&$D$12&\") when LocalYear(\"&$D$12&\")=\"&$D$7&\" and localMonth(\"&$D$12&\") =\"&$E$7&\" and LocalDay(\"&$D$12&\")=\"&$F$7&\" and Barix(\"&$D$12&\",reference:=StartOfSession)=\"&A4&\"\", \"Bar\", \"\", \"Close\",\"5\",\"0\",\"PrimaryOnly\",,,\"False\",\"T\",\"EveryTick\")","v":65.88},-1.5176809834580536E-4,{"$f":"RTD(\"cqg.rtd\",,\"StudyData\", \"Close(\"&$D$12&\") when LocalYear(\"&$D$12&\")=\"&$D$8&\" and localMonth(\"&$D$12&\") =\"&$E$8&\" and LocalDay(\"&$D$12&\")=\"&$F$8&\" and Barix(\"&$D$12&\",reference:=StartOfSession)=\"&A4&\"\", \"Bar\", \"\", \"Close\",\"5\",\"0\",\"PrimaryOnly\",,,\"False\",\"T\",\"EveryTick\")","v":65.349999999999994},1.0046367851622743E-2,{"$f":"RTD(\"cqg.rtd\",,\"StudyData\", \"Close(\"&$D$12&\") when LocalYear(\"&$D$12&\")=\"&$D$9&\" and localMonth(\"&$D$12&\") =\"&$E$9&\" and LocalDay(\"&$D$12&\")=\"&$F$9&\" and Barix(\"&$D$12&\",reference:=StartOfSession)=\"&A4&\"\", \"Bar\", \"\", \"Close\",\"5\",\"0\",\"PrimaryOnly\",,,\"False\",\"T\",\"EveryTick\")","v":65.2},-3.971891231286143E-3,{"$f":"RTD(\"cqg.rtd\",,\"StudyData\", \"Close(\"&$D$12&\") when LocalYear(\"&$D$12&\")=\"&$D$10&\" and localMonth(\"&$D$12&\") =\"&$E$10&\" and LocalDay(\"&$D$12&\")=\"&$F$10&\" and Barix(\"&$D$12&\",reference:=StartOfSession)=\"&A4&\"\", \"Bar\", \"\", \"Close\",\"5\",\"0\",\"PrimaryOnly\",,,\"False\",\"T\",\"EveryTick\")","v":64.39},-4.4836116264688657E-3,{"$f":"RANK(AD4,$AD$1:$AD$10)+COUNTIF($AD$1:AD4,AD4)-1","v":8},"2018-06-13",{"$f":"VLOOKUP(MAX(AE2:AE81),A1:O81,15,FALSE)","v":-5.8841279420639792E-3},"",4,"2018-06-12",1.9688020596697782E-3,null,null,"2018-06-12","2018-06-13",3,4]
[4,"08:20:00","2018-06-12",2018,6,12,{"$f":"RTD(\"cqg.rtd\",,\"StudyData\", \"Close(\"&$D$12&\") when LocalYear(\"&$D$12&\")=\"&D5&\" and localMonth(\"&$D$12&\") =\"&E5&\" and LocalDay(\"&$D$12&\")=\"&F5&\" and Barix(\"&$D$12&\",reference:=StartOfSession)=65\", \"Bar\", \"\", \"Close\",\"5\",\"0\",\"PrimaryOnly\",,,\"False\",\"T\",\"EveryTick\")","v":66.28},{"$f":"RTD(\"cqg.rtd\",,\"StudyData\", \"Close(\"&$D$12&\") when LocalYear(\"&$D$12&\")=\"&$D$1&\" and localMonth(\"&$D$12&\") =\"&$E$1&\" and LocalDay(\"&$D$12&\")=\"&$F$1&\" and Barix(\"&$D$12&\",reference:=StartOfSession)=\"&A5&\"\", \"Bar\", \"\", \"Close\",\"5\",\"0\",\"PrimaryOnly\",,,\"False\",\"T\",\"EveryTick\")","v":65.12},4.1634541249037822E-3,{"$f":"RTD(\"cqg.rtd\",,\"StudyData\", \"Close(\"&$D$12&\") when LocalYear(\"&$D$12&\")=\"&$D$2&\" and localMonth(\"&$D$12&\") =\"&$E$2&\" and LocalDay(\"&$D$12&\")=\"&$F$2&\" and Barix(\"&$D$12&\",reference:=StartOfSession)=\"&A5&\"\", \"Bar\", \"\", \"Close\",\"5\",\"0\",\"PrimaryOnly\",,,\"False\",\"T\",\"EveryTick\")","v":66.37},-4.7983205877941701E-3,{"$f":"RTD(\"cqg.rtd\",,\"StudyData\", \"Close(\"&$D$12&\") when LocalYear(\"&$D$12&\")=\"&$D$3&\" and localMonth(\"&$D$12&\") =\"&$E$3&\" and LocalDay(\"&$D$12&\")=\"&$F$3&\" and Barix(\"&$D$12&\",reference:=StartOfSession)=\"&A5&\"\", \"Bar\", \"\", \"Close\",\"5\",\"0\",\"PrimaryOnly\",,,\"False\",\"T\",\"EveryTick\")","v":66.88},5.4119061936259687E-3,{"$f":"RTD(\"cqg.rtd\",,\"StudyData\", \"Close(\"&$D$12&\") when LocalYear(\"&$D$12&\")=\"&$D$4&\" and localMonth(\"&$D$12&\") =\"&$E$4&\" and LocalDay(\"&$D$12&\")=\"&$F$4&\" and Barix(\"&$D$12&\",reference:=StartOfSession)=\"&A5&\"\", \"Bar\", \"\", \"Close\",\"5\",\"0\",\"PrimaryOnly\",,,\"False\",\"T\",\"EveryTick\")","v":65.930000000000007},-5.2806276403137347E-3,{"$f":"RTD(\"cqg.rtd\",,\"StudyData\", \"Close(\"&$D$12&\") when LocalYear(\"&$D$12&\")=\"&$D$5&\" and localMonth(\"&$D$12&\") =\"&$E$5&\" and LocalDay(\"&$D$12&\")=\"&$F$5&\" and Barix(\"&$D$12&\",reference:=StartOfSession)=\"&A5&\"\", \"Bar\", \"\", \"Close\",\"5\",\"0\",\"PrimaryOnly\",,,\"False\",\"T\",\"EveryTick\")","v":65.94},-1.3630168105407149E-3,{"$f":"RTD(\"cqg.rtd\",,\"StudyData\", \"Close(\"&$D$12&\") when LocalYear(\"&$D$12&\")=\"&$D$6&\" and localMonth(\"&$D$12&\") =\"&$E$6&\" and LocalDay(\"&$D$12&\")=\"&$F$6&\" and Barix(\"&$D$12&\",reference:=StartOfSession)=\"&A5&\"\", \"Bar\", \"\", \"Close\",\"5\",\"0\",\"PrimaryOnly\",,,\"False\",\"T\",\"EveryTick\")","v":65.069999999999993},-9.1365920511650451E-3,{"$f":"RTD(\"cqg.rtd\",,\"StudyData\", \"Close(\"&$D$12&\") when LocalYear(\"&$D$12&\")=\"&$D$7&\" and localMonth(\"&$D$12&\") =\"&$E$7&\" and LocalDay(\"&$D$12&\")=\"&$F$7&\" and Barix(\"&$D$12&\",reference:=StartOfSession)=\"&A5&\"\", \"Bar\", \"\", \"Close\",\"5\",\"0\",\"PrimaryOnly\",,,\"False\",\"T\",\"EveryTick\")","v":65.819999999999993},-1.0623766884202063E-3,{"$f":"RTD(\"cqg.rtd\",,\"StudyData\", \"Close(\"&$D$12&\") when LocalYear(\"&$D$12&\")=\"&$D$8&\" and localMonth(\"&$D$12&\") =\"&$E$8&\" and LocalDay(\"&$D$12&\")=\"&$F$8&\" and Barix(\"&$D$12&\",reference:=StartOfSession)=\"&A5&\"\", \"Bar\", \"\", \"Close\",\"5\",\"0\",\"PrimaryOnly\",,,\"False\",\"T\",\"EveryTick\")","v":65.23},8.1916537867079003E-3,{"$f":"RTD(\"cqg.rtd\",,\"StudyData\", \"Close(\"&$D$12&\") when LocalYear(\"&$D$12&\")=\"&$D$9&\" and localMonth(\"&$D$12&\") =\"&$E$9&\" and LocalDay(\"&$D$12&\")=\"&$F$9&\" and Barix(\"&$D$12&\",reference:=StartOfSession)=\"&A5&\"\", \"Bar\", \"\", \"Close\",\"5\",\"0\",\"PrimaryOnly\",,,\"False\",\"T\",\"EveryTick\")","v":65.12},-5.194011610143435E-3,{"$f":"RTD(\"cqg.rtd\",,\"StudyData\", \"Close(\"&$D$12&\") when LocalYear(\"&$D$12&\")=\"&$D$10&\" and localMonth(\"&$D$12&\") =\"&$E$10&\" and LocalDay(\"&$D$12&\")=\"&$F$10&\" and Barix(\"&$D$12&\",reference:=StartOfSession)=\"&A5&\"\", \"Bar\", \"\", \"Close\",\"5\",\"0\",\"PrimaryOnly\",,,\"False\",\"T\",\"EveryTick\")","v":64.349999999999994},-5.1020408163267236E-3,{"$f":"RANK(AD5,$AD$1:$AD$10)+COUNTIF($AD$1:AD5,AD5)-1","v":4},"2018-06-12",{"$f":"VLOOKUP(MAX(AE2:AE81),A1:Q81,17,FALSE)","v":1.9688020596697782E-3},"",5,"2018-06-08",-1.8212171801488017E-3,null,null,"2018-06-08","2018-06-12",4,6]
[5,"08:25:00","2018-06-11",2018,6,11,{"$f":"RTD(\"cqg.rtd\",,\"StudyData\", \"Close(\"&$D$12&\") when LocalYear(\"&$D$12&\")=\"&D6&\" and localMonth(\"&$D$12&\") =\"&E6&\" and LocalDay(\"&$D$12&\")=\"&F6&\" and Barix(\"&$D$12&\",reference:=StartOfSession)=65\", \"Bar\", \"\", \"Close\",\"5\",\"0\",\"PrimaryOnly\",,,\"False\",\"T\",\"EveryTick\")","v":66.03},{"$f":"RTD(\"cqg.rtd\",,\"StudyData\", \"Close(\"&$D$12&\") when LocalYear(\"&$D$12&\")=\"&$D$1&\" and localMonth(\"&$D$12&\") =\"&$E$1&\" and LocalDay(\"&$D$12&\")=\"&$F$1&\" and Barix(\"&$D$12&\",reference:=StartOfSession)=\"&A6&\"\", \"Bar\", \"\", \"Close\",\"5\",\"0\",\"PrimaryOnly\",,,\"False\",\"T\",\"EveryTick\")","v":65.06},3.2382420971473857E-3,{"$f":"RTD(\"cqg.rtd\",,\"StudyData\", \"Close(\"&$D$12&\") when LocalYear(\"&$D$12&\")=\"&$D$2&\" and localMonth(\"&$D$12&\") =\"&$E$2&\" and LocalDay(\"&$D$12&\")=\"&$F$2&\" and Barix(\"&$D$12&\",reference:=StartOfSession)=\"&A6&\"\", \"Bar\", \"\", \"Close\",\"5\",\"0\",\"PrimaryOnly\",,,\"False\",\"T\",\"EveryTick\")","v":66.37},-4.7983205877941701E-3,{"$f":"RTD(\"cqg.rtd\",,\"StudyData\", \"Close(\"&$D$12&\") when LocalYear(\"&$D$12&\")=\"&$D$3&\" and localMonth(\"&$D$12&\") =\"&$E$3&\" and LocalDay(\"&$D$12&\")=\"&$F$3&\" and Barix(\"&$D$12&\",reference:=StartOfSession)=\"&A6&\"\", \"Bar\", \"\", \"Close\",\"5\",\"0\",\"PrimaryOnly\",,,\"False\",\"T\",\"EveryTick\")","v":66.95},6.4642212868311309E-3,{"$f":"RTD(\"cqg.rtd\",,\"StudyData\", \"Close(\"&$D$12&\") when LocalYear(\"&$D$12&\")=\"&$D$4&\" and localMonth(\"&$D$12&\") =\"&$E$4&\" and LocalDay(\"&$D$12&\")=\"&$F$4&\" and Barix(\"&$D$12&\",reference:=StartOfSession)=\"&A6&\"\", \"Bar\", \"\", \"Close\",\"5\",\"0\",\"PrimaryOnly\",,,\"False\",\"T\",\"EveryTick\")","v":65.930000000000007},-5.2806276403137347E-3,{"$f":"RTD(\"cqg.rtd\",,\"StudyData\", \"Close(\"&$D$12&\") when LocalYear(\"&$D$12&\")=\"&$D$5&\" and localMonth(\"&$D$12&\") =\"&$E$5&\" and LocalDay(\"&$D$12&\")=\"&$F$5&\" and Barix(\"&$D$12&\",reference:=StartOfSession)=\"&A6&\"\", \"Bar\", \"\", \"Close\",\"5\",\"0\",\"PrimaryOnly\",,,\"False\",\"T\",\"EveryTick\")","v":65.91},-1.81735574738762E-3,{"$f":"RTD(\"cqg.rtd\",,\"StudyData\", \"Close(\"&$D$12&\") when LocalYear(\"&$D$12&\")=\"&$D$6&\" and localMonth(\"&$D$12&\") =\"&$E$6&\" and LocalDay(\"&$D$12&\")=\"&$F$6&\" and Barix(\"&$D$12&\",reference:=StartOfSession)=\"&A6&\"\", \"Bar\", \"\", \"Close\",\"5\",\"0\",\"PrimaryOnly\",,,\"False\",\"T\",\"EveryTick\")","v":65.08},-8.9843155169788847E-3,{"$f":"RTD(\"cqg.rtd\",,\"StudyData\", \"Close(\"&$D$12&\") when LocalYear(\"&$D$12&\")=\"&$D$7&\" and localMonth(\"&$D$12&\") =\"&$E$7&\" and LocalDay(\"&$D$12&\")=\"&$F$7&\" and Barix(\"&$D$12&\",reference:=StartOfSession)=\"&A6&\"\", \"Bar\", \"\", \"Close\",\"5\",\"0\",\"PrimaryOnly\",,,\"False\",\"T\",\"EveryTick\")","v":65.8},-1.3659128851116014E-3,{"$f":"RTD(\"cqg.rtd\",,\"StudyData\", \"Close(\"&$D$12&\") when LocalYear(\"&$D$12&\")=\"&$D$8&\" and localMonth(\"&$D$12&\") =\"&$E$8&\" and LocalDay(\"&$D$12&\")=\"&$F$8&\" and Barix(\"&$D$12&\",reference:=StartOfSession)=\"&A6&\"\", \"Bar\", \"\", \"Close\",\"5\",\"0\",\"PrimaryOnly\",,,\"False\",\"T\",\"EveryTick\")","v":65.25},8.500772797527003E-3,{"$f":"RTD(\"cqg.rtd\",,\"StudyData\", \"Close(\"&$D$12&\") when LocalYear(\"&$D$12&\")=\"&$D$9&\" and localMonth(\"&$D$12&\") =\"&$E$9&\" and LocalDay(\"&$D$12&\")=\"&$F$9&\" and Barix(\"&$D$12&\",reference:=StartOfSession)=\"&A6&\"\", \"Bar\", \"\", \"Close\",\"5\",\"0\",\"PrimaryOnly\",,,\"False\",\"T\",\"EveryTick\")","v":65.14},-4.8884815154291664E-3,{"$f":"RTD(\"cqg.rtd\",,\"StudyData\", \"Close(\"&$D$12&\") when LocalYear(\"&$D$12&\")=\"&$D$10&\" and localMonth(\"&$D$12&\") =\"&$E$10&\" and LocalDay(\"&$D$12&\")=\"&$F$10&\" and Barix(\"&$D$12&\",reference:=StartOfSession)=\"&A6&\"\", \"Bar\", \"\", \"Close\",\"5\",\"0\",\"PrimaryOnly\",,,\"False\",\"T\",\"EveryTick\")","v":64.31},-5.7204700061843613E-3,{"$f":"RANK(AD6,$AD$1:$AD$10)+COUNTIF($AD$1:AD6,AD6)-1","v":9},"2018-06-11",{"$f":"VLOOKUP(MAX(AE2:AE81),A1:S81,19,FALSE)","v":-1.0050251256281355E-2},"",6,"2018-06-05",-3.401360544217889E-3,null,null,"2018-06-05","2018-06-11",5,9]
[6,"08:30:00","2018-06-08",2018,6,8,{"$f":"RTD(\"cqg.rtd\",,\"StudyData\", \"Close(\"&$D$12&\") when LocalYear(\"&$D$12&\")=\"&D7&\" and localMonth(\"&$D$12&\") =\"&E7&\" and LocalDay(\"&$D$12&\")=\"&F7&\" and Barix(\"&$D$12&\",reference:=StartOfSession)=65\", \"Bar\", \"\", \"Close\",\"5\",\"0\",\"PrimaryOnly\",,,\"False\",\"T\",\"EveryTick\")","v":65.67},{"$f":"RTD(\"cqg.rtd\",,\"StudyData\", \"Close(\"&$D$12&\") when LocalYear(\"&$D$12&\")=\"&$D$1&\" and localMonth(\"&$D$12&\") =\"&$E$1&\" and LocalDay(\"&$D$12&\")=\"&$F$1&\" and Barix(\"&$D$12&\",reference:=StartOfSession)=\"&A7&\"\", \"Bar\", \"\", \"Close\",\"5\",\"0\",\"PrimaryOnly\",,,\"False\",\"T\",\"EveryTick\")","v":65},2.3130300693909901E-3,{"$f":"RTD(\"cqg.rtd\",,\"StudyData\", \"Close(\"&$D$12&\") when LocalYear(\"&$D$12&\")=\"&$D$2&\" and localMonth(\"&$D$12&\") =\"&$E$2&\" and LocalDay(\"&$D$12&\")=\"&$F$2&\" and Barix(\"&$D$12&\",reference:=StartOfSession)=\"&A7&\"\", \"Bar\", \"\", \"Close\",\"5\",\"0\",\"PrimaryOnly\",,,\"False\",\"T\",\"EveryTick\")","v":66.33},-5.398110661268548E-3,{"$f":"RTD(\"cqg.rtd\",,\"StudyData\", \"Close(\"&$D$12&\") when LocalYear(\"&$D$12&\")=\"&$D$3&\" and localMonth(\"&$D$12&\") =\"&$E$3&\" and LocalDay(\"&$D$12&\")=\"&$F$3&\" and Barix(\"&$D$12&\",reference:=StartOfSession)=\"&A7&\"\", \"Bar\", \"\", \"Close\",\"5\",\"0\",\"PrimaryOnly\",,,\"False\",\"T\",\"EveryTick\")","v":66.930000000000007},6.1635598316297476E-3,{"$f":"RTD(\"cqg.rtd\",,\"StudyData\", \"Close(\"&$D$12&\") when LocalYear(\"&$D$12&\")=\"&$D$4&\" and localMonth(\"&$D$12&\") =\"&$E$4&\" and LocalDay(\"&$D$12&\")=\"&$F$4&\" and Barix(\"&$D$12&\",reference:=StartOfSession)=\"&A7&\"\", \"Bar\", \"\", \"Close\",\"5\",\"0\",\"PrimaryOnly\",,,\"False\",\"T\",\"EveryTick\")","v":65.86},-6.3367531683766101E-3,{"$f":"RTD(\"cqg.rtd\",,\"StudyData\", \"Close(\"&$D$12&\") when LocalYear(\"&$D$12&\")=\"&$D$5&\" and localMonth(\"&$D$12&\") =\"&$E$5&\" and LocalDay(\"&$D$12&\")=\"&$F$5&\" and Barix(\"&$D$12&\",reference:=StartOfSession)=\"&A7&\"\", \"Bar\", \"\", \"Close\",\"5\",\"0\",\"PrimaryOnly\",,,\"False\",\"T\",\"EveryTick\")","v":65.89},-2.1202483719521517E-3,{"$f":"RTD(\"cqg.rtd\",,\"StudyData\", \"Close(\"&$D$12&\") when LocalYear(\"&$D$12&\")=\"&$D$6&\" and localMonth(\"&$D$12&\") =\"&$E$6&\" and LocalDay(\"&$D$12&\")=\"&$F$6&\" and Barix(\"&$D$12&\",reference:=StartOfSession)=\"&A7&\"\", \"Bar\", \"\", \"Close\",\"5\",\"0\",\"PrimaryOnly\",,,\"False\",\"T\",\"EveryTick\")","v":65.08},-8.9843155169788847E-3,{"$f":"RTD(\"cqg.rtd\",,\"StudyData\", \"Close(\"&$D$12&\") when LocalYear(\"&$D$12&\")=\"&$D$7&\" and localMonth(\"&$D$12&\") =\"&$E$7&\" and LocalDay(\"&$D$12&\")=\"&$F$7&\" and Barix(\"&$D$12&\",reference:=StartOfSession)=\"&A7&\"\", \"Bar\", \"\", \"Close\",\"5\",\"0\",\"PrimaryOnly\",,,\"False\",\"T\",\"EveryTick\")","v":65.7},-2.8835938685687922E-3,{"$f":"RTD(\"cqg.rtd\",,\"StudyData\", \"Close(\"&$D$12&\") when LocalYear(\"&$D$12&\")=\"&$D$8&\" and localMonth(\"&$D$12&\") =\"&$E$8&\" and LocalDay(\"&$D$12&\")=\"&$F$8&\" and Barix(\"&$D$12&\",reference:=StartOfSession)=\"&A7&\"\", \"Bar\", \"\", \"Close\",\"5\",\"0\",\"PrimaryOnly\",,,\"False\",\"T\",\"EveryTick\")","v":65.239999999999995},8.3462132921173424E-3,{"$f":"RTD(\"cqg.rtd\",,\"StudyData\", \"Close(\"&$D$12&\") when LocalYear(\"&$D$12&\")=\"&$D$9&\" and localMonth(\"&$D$12&\") =\"&$E$9&\" and LocalDay(\"&$D$12&\")=\"&$F$9&\" and Barix(\"&$D$12&\",reference:=StartOfSession)=\"&A7&\"\", \"Bar\", \"\", \"Close\",\"5\",\"0\",\"PrimaryOnly\",,,\"False\",\"T\",\"EveryTick\")","v":65.2},-3.971891231286143E-3,{"$f":"RTD(\"cqg.rtd\",,\"StudyData\", \"Close(\"&$D$12&\") when LocalYear(\"&$D$12&\")=\"&$D$10&\" and localMonth(\"&$D$12&\") =\"&$E$10&\" and LocalDay(\"&$D$12&\")=\"&$F$10&\" and Barix(\"&$D$12&\",reference:=StartOfSession)=\"&A7&\"\", \"Bar\", \"\", \"Close\",\"5\",\"0\",\"PrimaryOnly\",,,\"False\",\"T\",\"EveryTick\")","v":64.28},-6.1842918985776998E-3,{"$f":"RANK(AD7,$AD$1:$AD$10)+COUNTIF($AD$1:AD7,AD7)-1","v":5},"2018-06-08",{"$f":"VLOOKUP(MAX(AE2:AE81),A1:U81,21,FALSE)","v":-1.8212171801488017E-3},"",7,"2018-06-06",-3.5135960892146317E-3,null,null,"2018-06-06","2018-06-08",6,8]
[7,"08:35:00","2018-06-07",2018,6,7,{"$f":"RTD(\"cqg.rtd\",,\"StudyData\", \"Close(\"&$D$12&\") when LocalYear(\"&$D$12&\")=\"&D8&\" and localMonth(\"&$D$12&\") =\"&E8&\" and LocalDay(\"&$D$12&\")=\"&F8&\" and Barix(\"&$D$12&\",reference:=StartOfSession)=65\", \"Bar\", \"\", \"Close\",\"5\",\"0\",\"PrimaryOnly\",,,\"False\",\"T\",\"EveryTick\")","v":65.89},{"$f":"RTD(\"cqg.rtd\",,\"StudyData\", \"Close(\"&$D$12&\") when LocalYear(\"&$D$12&\")=\"&$D$1&\" and localMonth(\"&$D$12&\") =\"&$E$1&\" and LocalDay(\"&$D$12&\")=\"&$F$1&\" and Barix(\"&$D$12&\",reference:=StartOfSession)=\"&A8&\"\", \"Bar\", \"\", \"Close\",\"5\",\"0\",\"PrimaryOnly\",,,\"False\",\"T\",\"EveryTick\")","v":65.05},3.0840400925212469E-3,{"$f":"RTD(\"cqg.rtd\",,\"StudyData\", \"Close(\"&$D$12&\") when LocalYear(\"&$D$12&\")=\"&$D$2&\" and localMonth(\"&$D$12&\") =\"&$E$2&\" and LocalDay(\"&$D$12&\")=\"&$F$2&\" and Barix(\"&$D$12&\",reference:=StartOfSession)=\"&A8&\"\", \"Bar\", \"\", \"Close\",\"5\",\"0\",\"PrimaryOnly\",,,\"False\",\"T\",\"EveryTick\")","v":65.89},-1.1995801469485638E-2,{"$f":"RTD(\"cqg.rtd\",,\"StudyData\", \"Close(\"&$D$12&\") when LocalYear(\"&$D$12&\")=\"&$D$3&\" and localMonth(\"&$D$12&\") =\"&$E$3&\" and LocalDay(\"&$D$12&\")=\"&$F$3&\" and Barix(\"&$D$12&\",reference:=StartOfSession)=\"&A8&\"\", \"Bar\", \"\", \"Close\",\"5\",\"0\",\"PrimaryOnly\",,,\"False\",\"T\",\"EveryTick\")","v":66.760000000000005},3.6079374624174549E-3,{"$f":"RTD(\"cqg.rtd\",,\"StudyData\", \"Close(\"&$D$12&\") when LocalYear(\"&$D$12&\")=\"&$D$4&\" and localMonth(\"&$D$12&\") =\"&$E$4&\" and LocalDay(\"&$D$12&\")=\"&$F$4&\" and Barix(\"&$D$12&\",reference:=StartOfSession)=\"&A8&\"\", \"Bar\", \"\", \"Close\",\"5\",\"0\",\"PrimaryOnly\",,,\"False\",\"T\",\"EveryTick\")","v":65.87},-6.1858780929389947E-3,{"$f":"RTD(\"cqg.rtd\",,\"StudyData\", \"Close(\"&$D$12&\") when LocalYear(\"&$D$12&\")=\"&$D$5&\" and localMonth(\"&$D$12&\") =\"&$E$5&\" and LocalDay(\"&$D$12&\")=\"&$F$5&\" and Barix(\"&$D$12&\",reference:=StartOfSession)=\"&A8&\"\", \"Bar\", \"\", \"Close\",\"5\",\"0\",\"PrimaryOnly\",,,\"False\",\"T\",\"EveryTick\")","v":65.91},-1.81735574738762E-3,{"$f":"RTD(\"cqg.rtd\",,\"StudyData\", \"Close(\"&$D$12&\") when LocalYear(\"&$D$12&\")=\"&$D$6&\" and localMonth(\"&$D$12&\") =\"&$E$6&\" and LocalDay(\"&$D$12&\")=\"&$F$6&\" and Barix(\"&$D$12&\",reference:=StartOfSession)=\"&A8&\"\", \"Bar\", \"\", \"Close\",\"5\",\"0\",\"PrimaryOnly\",,,\"False\",\"T\",\"EveryTick\")","v":65.03},-9.7456981879092512E-3,{"$f":"RTD(\"cqg.rtd\",,\"StudyData\", \"Close(\"&$D$12&\") when LocalYear(\"&$D$12&\")=\"&$D$7&\" and localMonth(\"&$D$12&\") =\"&$E$7&\" and LocalDay(\"&$D$12&\")=\"&$F$7&\" and Barix(\"&$D$12&\",reference:=StartOfSession)=\"&A8&\"\", \"Bar\", \"\", \"Close\",\"5\",\"0\",\"PrimaryOnly\",,,\"False\",\"T\",\"EveryTick\")","v":65.819999999999993},-1.0623766884202063E-3,{"$f":"RTD(\"cqg.rtd\",,\"StudyData\", \"Close(\"&$D$12&\") when LocalYear(\"&$D$12&\")=\"&$D$8&\" and localMonth(\"&$D$12&\") =\"&$E$8&\" and LocalDay(\"&$D$12&\")=\"&$F$8&\" and Barix(\"&$D$12&\",reference:=StartOfSession)=\"&A8&\"\", \"Bar\", \"\", \"Close\",\"5\",\"0\",\"PrimaryOnly\",,,\"False\",\"T\",\"EveryTick\")","v":65.3},9.2735703245748723E-3,{"$f":"RTD(\"cqg.rtd\",,\"StudyData\", \"Close(\"&$D$12&\") when LocalYear(\"&$D$12&\")=\"&$D$9&\" and localMonth(\"&$D$12&\") =\"&$E$9&\" and LocalDay(\"&$D$12&\")=\"&$F$9&\" and Barix(\"&$D$12&\",reference:=StartOfSession)=\"&A8&\"\", \"Bar\", \"\", \"Close\",\"5\",\"0\",\"PrimaryOnly\",,,\"False\",\"T\",\"EveryTick\")","v":65.27},-2.9025358997860945E-3,{"$f":"RTD(\"cqg.rtd\",,\"StudyData\", \"Close(\"&$D$12&\") when LocalYear(\"&$D$12&\")=\"&$D$10&\" and localMonth(\"&$D$12&\") =\"&$E$10&\" and LocalDay(\"&$D$12&\")=\"&$F$10&\" and Barix(\"&$D$12&\",reference:=StartOfSession)=\"&A8&\"\", \"Bar\", \"\", \"Close\",\"5\",\"0\",\"PrimaryOnly\",,,\"False\",\"T\",\"EveryTick\")","v":64.34},-5.2566481137910235E-3,{"$f":"RANK(AD8,$AD$1:$AD$10)+COUNTIF($AD$1:AD8,AD8)-1","v":1},"2018-06-07",{"$f":"VLOOKUP(MAX(AE2:AE81),A1:W81,23,FALSE)","v":1.0046367851622743E-2},"",8,"2018-06-13",-5.8841279420639792E-3,null,null,"2018-06-13","2018-06-07",7,3]
[8,"08:40:00","2018-06-06",2018,6,6,{"$f":"RTD(\"cqg.rtd\",,\"StudyData\", \"Close(\"&$D$12&\") when LocalYear(\"&$D$12&\")=\"&D9&\" and localMonth(\"&$D$12&\") =\"&E9&\" and LocalDay(\"&$D$12&\")=\"&F9&\" and Barix(\"&$D$12&\",reference:=StartOfSession)=65\", \"Bar\", \"\", \"Close\",\"5\",\"0\",\"PrimaryOnly\",,,\"False\",\"T\",\"EveryTick\")","v":64.7},{"$f":"RTD(\"cqg.rtd\",,\"StudyData\", \"Close(\"&$D$12&\") when LocalYear(\"&$D$12&\")=\"&$D$1&\" and localMonth(\"&$D$12&\") =\"&$E$1&\" and LocalDay(\"&$D$12&\")=\"&$F$1&\" and Barix(\"&$D$12&\",reference:=StartOfSession)=\"&A9&\"\", \"Bar\", \"\", \"Close\",\"5\",\"0\",\"PrimaryOnly\",,,\"False\",\"T\",\"EveryTick\")","v":65.19},5.2428681572860977E-3,{"$f":"RTD(\"cqg.rtd\",,\"StudyData\", \"Close(\"&$D$12&\") when LocalYear(\"&$D$12&\")=\"&$D$2&\" and localMonth(\"&$D$12&\") =\"&$E$2&\" and LocalDay(\"&$D$12&\")=\"&$F$2&\" and Barix(\"&$D$12&\",reference:=StartOfSession)=\"&A9&\"\", \"Bar\", \"\", \"Close\",\"5\",\"0\",\"PrimaryOnly\",,,\"False\",\"T\",\"EveryTick\")","v":65.73},-1.4394961763382723E-2,{"$f":"RTD(\"cqg.rtd\",,\"StudyData\", \"Close(\"&$D$12&\") when LocalYear(\"&$D$12&\")=\"&$D$3&\" and localMonth(\"&$D$12&\") =\"&$E$3&\" and LocalDay(\"&$D$12&\")=\"&$F$3&\" and Barix(\"&$D$12&\",reference:=StartOfSession)=\"&A9&\"\", \"Bar\", \"\", \"Close\",\"5\",\"0\",\"PrimaryOnly\",,,\"False\",\"T\",\"EveryTick\")","v":66.84},4.8105832832232021E-3,{"$f":"RTD(\"cqg.rtd\",,\"StudyData\", \"Close(\"&$D$12&\") when LocalYear(\"&$D$12&\")=\"&$D$4&\" and localMonth(\"&$D$12&\") =\"&$E$4&\" and LocalDay(\"&$D$12&\")=\"&$F$4&\" and Barix(\"&$D$12&\",reference:=StartOfSession)=\"&A9&\"\", \"Bar\", \"\", \"Close\",\"5\",\"0\",\"PrimaryOnly\",,,\"False\",\"T\",\"EveryTick\")","v":65.930000000000007},-5.2806276403137347E-3,{"$f":"RTD(\"cqg.rtd\",,\"StudyData\", \"Close(\"&$D$12&\") when LocalYear(\"&$D$12&\")=\"&$D$5&\" and localMonth(\"&$D$12&\") =\"&$E$5&\" and LocalDay(\"&$D$12&\")=\"&$F$5&\" and Barix(\"&$D$12&\",reference:=StartOfSession)=\"&A9&\"\", \"Bar\", \"\", \"Close\",\"5\",\"0\",\"PrimaryOnly\",,,\"False\",\"T\",\"EveryTick\")","v":66.03},0,{"$f":"RTD(\"cqg.rtd\",,\"StudyData\", \"Close(\"&$D$12&\") when LocalYear(\"&$D$12&\")=\"&$D$6&\" and localMonth(\"&$D$12&\") =\"&$E$6&\" and LocalDay(\"&$D$12&\")=\"&$F$6&\" and Barix(\"&$D$12&\",reference:=StartOfSession)=\"&A9&\"\", \"Bar\", \"\", \"Close\",\"5\",\"0\",\"PrimaryOnly\",,,\"False\",\"T\",\"EveryTick\")","v":65.010000000000005},-1.0050251256281355E-2,{"$f":"RTD(\"cqg.rtd\",,\"StudyData\", \"Close(\"&$D$12&\") when LocalYear(\"&$D$12&\")=\"&$D$7&\" and localMonth(\"&$D$12&\") =\"&$E$7&\" and LocalDay(\"&$D$12&\")=\"&$F$7&\" and Barix(\"&$D$12&\",reference:=StartOfSession)=\"&A9&\"\", \"Bar\", \"\", \"Close\",\"5\",\"0\",\"PrimaryOnly\",,,\"False\",\"T\",\"EveryTick\")","v":65.790000000000006},-1.5176809834571911E-3,{"$f":"RTD(\"cqg.rtd\",,\"StudyData\", \"Close(\"&$D$12&\") when LocalYear(\"&$D$12&\")=\"&$D$8&\" and localMonth(\"&$D$12&\") =\"&$E$8&\" and LocalDay(\"&$D$12&\")=\"&$F$8&\" and Barix(\"&$D$12&\",reference:=StartOfSession)=\"&A9&\"\", \"Bar\", \"\", \"Close\",\"5\",\"0\",\"PrimaryOnly\",,,\"False\",\"T\",\"EveryTick\")","v":65.38},1.0510046367851508E-2,{"$f":"RTD(\"cqg.rtd\",,\"StudyData\", \"Close(\"&$D$12&\") when LocalYear(\"&$D$12&\")=\"&$D$9&\" and localMonth(\"&$D$12&\") =\"&$E$9&\" and LocalDay(\"&$D$12&\")=\"&$F$9&\" and Barix(\"&$D$12&\",reference:=StartOfSession)=\"&A9&\"\", \"Bar\", \"\", \"Close\",\"5\",\"0\",\"PrimaryOnly\",,,\"False\",\"T\",\"EveryTick\")","v":65.180000000000007},-4.2774213260004116E-3,{"$f":"RTD(\"cqg.rtd\",,\"StudyData\", \"Close(\"&$D$12&\") when LocalYear(\"&$D$12&\")=\"&$D$10&\" and localMonth(\"&$D$12&\") =\"&$E$10&\" and LocalDay(\"&$D$12&\")=\"&$F$10&\" and Barix(\"&$D$12&\",reference:=StartOfSession)=\"&A9&\"\", \"Bar\", \"\", \"Close\",\"5\",\"0\",\"PrimaryOnly\",,,\"False\",\"T\",\"EveryTick\")","v":64.319999999999993},-5.5658627087200622E-3,{"$f":"RANK(AD9,$AD$1:$AD$10)+COUNTIF($AD$1:AD9,AD9)-1","v":7},"2018-06-06",{"$f":"VLOOKUP(MAX(AE2:AE81),A1:Y81,25,FALSE)","v":-3.5135960892146317E-3},"",9,"2018-06-11",-1.0050251256281355E-2,null,null,"2018-06-11","2018-06-06",8,5]
[9,"08:45:00","2018-06-05",2018,6,5,{"$f":"RTD(\"cqg.rtd\",,\"StudyData\", \"Close(\"&$D$12&\") when LocalYear(\"&$D$12&\")=\"&D10&\" and localMonth(\"&$D$12&\") =\"&E10&\" and LocalDay(\"&$D$12&\")=\"&F10&\" and Barix(\"&$D$12&\",reference:=StartOfSession)=65\", \"Bar\", \"\", \"Close\",\"5\",\"0\",\"PrimaryOnly\",,,\"False\",\"T\",\"EveryTick\")","v":65.459999999999994},{"$f":"RTD(\"cqg.rtd\",,\"StudyData\", \"Close(\"&$D$12&\") when LocalYear(\"&$D$12&\")=\"&$D$1&\" and localMonth(\"&$D$12&\") =\"&$E$1&\" and LocalDay(\"&$D$12&\")=\"&$F$1&\" and Barix(\"&$D$12&\",reference:=StartOfSession)=\"&A10&\"\", \"Bar\", \"\", \"Close\",\"5\",\"0\",\"PrimaryOnly\",,,\"False\",\"T\",\"EveryTick\")","v":65.2},5.3970701619122366E-3,{"$f":"RTD(\"cqg.rtd\",,\"StudyData\", \"Close(\"&$D$12&\") when LocalYear(\"&$D$12&\")=\"&$D$2&\" and localMonth(\"&$D$12&\") =\"&$E$2&\" and LocalDay(\"&$D$12&\")=\"&$F$2&\" and Barix(\"&$D$12&\",reference:=StartOfSession)=\"&A10&\"\", \"Bar\", \"\", \"Close\",\"5\",\"0\",\"PrimaryOnly\",,,\"False\",\"T\",\"EveryTick\")","v":65.78},-1.364522417153991E-2,{"$f":"RTD(\"cqg.rtd\",,\"StudyData\", \"Close(\"&$D$12&\") when LocalYear(\"&$D$12&\")=\"&$D$3&\" and localMonth(\"&$D$12&\") =\"&$E$3&\" and LocalDay(\"&$D$12&\")=\"&$F$3&\" and Barix(\"&$D$12&\",reference:=StartOfSession)=\"&A10&\"\", \"Bar\", \"\", \"Close\",\"5\",\"0\",\"PrimaryOnly\",,,\"False\",\"T\",\"EveryTick\")","v":66.78},3.9085989176188387E-3,{"$f":"RTD(\"cqg.rtd\",,\"StudyData\", \"Close(\"&$D$12&\") when LocalYear(\"&$D$12&\")=\"&$D$4&\" and localMonth(\"&$D$12&\") =\"&$E$4&\" and LocalDay(\"&$D$12&\")=\"&$F$4&\" and Barix(\"&$D$12&\",reference:=StartOfSession)=\"&A10&\"\", \"Bar\", \"\", \"Close\",\"5\",\"0\",\"PrimaryOnly\",,,\"False\",\"T\",\"EveryTick\")","v":65.94},-5.1297525648763337E-3,{"$f":"RTD(\"cqg.rtd\",,\"StudyData\", \"Close(\"&$D$12&\") when LocalYear(\"&$D$12&\")=\"&$D$5&\" and localMonth(\"&$D$12&\") =\"&$E$5&\" and LocalDay(\"&$D$12&\")=\"&$F$5&\" and Barix(\"&$D$12&\",reference:=StartOfSession)=\"&A10&\"\", \"Bar\", \"\", \"Close\",\"5\",\"0\",\"PrimaryOnly\",,,\"False\",\"T\",\"EveryTick\")","v":66.14},1.6659094351052465E-3,{"$f":"RTD(\"cqg.rtd\",,\"StudyData\", \"Close(\"&$D$12&\") when LocalYear(\"&$D$12&\")=\"&$D$6&\" and localMonth(\"&$D$12&\") =\"&$E$6&\" and LocalDay(\"&$D$12&\")=\"&$F$6&\" and Barix(\"&$D$12&\",reference:=StartOfSession)=\"&A10&\"\", \"Bar\", \"\", \"Close\",\"5\",\"0\",\"PrimaryOnly\",,,\"False\",\"T\",\"EveryTick\")","v":65.06},-9.2888685853509886E-3,{"$f":"RTD(\"cqg.rtd\",,\"StudyData\", \"Close(\"&$D$12&\") when LocalYear(\"&$D$12&\")=\"&$D$7&\" and localMonth(\"&$D$12&\") =\"&$E$7&\" and LocalDay(\"&$D$12&\")=\"&$F$7&\" and Barix(\"&$D$12&\",reference:=StartOfSession)=\"&A10&\"\", \"Bar\", \"\", \"Close\",\"5\",\"0\",\"PrimaryOnly\",,,\"False\",\"T\",\"EveryTick\")","v":65.75},-2.1247533768401967E-3,{"$f":"RTD(\"cqg.rtd\",,\"StudyData\", \"Close(\"&$D$12&\") when LocalYear(\"&$D$12&\")=\"&$D$8&\" and localMonth(\"&$D$12&\") =\"&$E$8&\" and LocalDay(\"&$D$12&\")=\"&$F$8&\" and Barix(\"&$D$12&\",reference:=StartOfSession)=\"&A10&\"\", \"Bar\", \"\", \"Close\",\"5\",\"0\",\"PrimaryOnly\",,,\"False\",\"T\",\"EveryTick\")","v":65.33},9.7372488408036389E-3,{"$f":"RTD(\"cqg.rtd\",,\"StudyData\", \"Close(\"&$D$12&\") when LocalYear(\"&$D$12&\")=\"&$D$9&\" and localMonth(\"&$D$12&\") =\"&$E$9&\" and LocalDay(\"&$D$12&\")=\"&$F$9&\" and Barix(\"&$D$12&\",reference:=StartOfSession)=\"&A10&\"\", \"Bar\", \"\", \"Close\",\"5\",\"0\",\"PrimaryOnly\",,,\"False\",\"T\",\"EveryTick\")","v":65.239999999999995},-3.3608310418576058E-3,{"$f":"RTD(\"cqg.rtd\",,\"StudyData\", \"Close(\"&$D$12&\") when LocalYear(\"&$D$12&\")=\"&$D$10&\" and localMonth(\"&$D$12&\") =\"&$E$10&\" and LocalDay(\"&$D$12&\")=\"&$F$10&\" and Barix(\"&$D$12&\",reference:=StartOfSession)=\"&A10&\"\", \"Bar\", \"\", \"Close\",\"5\",\"0\",\"PrimaryOnly\",,,\"False\",\"T\",\"EveryTick\")","v":64.34},-5.2566481137910235E-3,{"$f":"RANK(AD10,$AD$1:$AD$10)+COUNTIF($AD$1:AD10,AD10)-1","v":6},"2018-06-05",{"$f":"VLOOKUP(MAX(AE2:AE81),A1:AA81,27,FALSE)","v":-3.401360544217889E-3},{"$f":"IF(AND(H9<>\"\",H10<>\"\",H11=\"\"),A10,\"\")","v":""},10,"2018-06-15",-1.3045434098065746E-2,null,null,"2018-06-15","2018-06-05",9,1]
[10,"08:50:00","2018-06-04",2018,6,4,{"$f":"RTD(\"cqg.rtd\",,\"StudyData\", \"Close(\"&$D$12&\") when LocalYear(\"&$D$12&\")=\"&D11&\" and localMonth(\"&$D$12&\") =\"&E11&\" and LocalDay(\"&$D$12&\")=\"&F11&\" and Barix(\"&$D$12&\",reference:=StartOfSession)=65\", \"Bar\", \"\", \"Close\",\"5\",\"0\",\"PrimaryOnly\",,,\"False\",\"T\",\"EveryTick\")","v":64.680000000000007},{"$f":"RTD(\"cqg.rtd\",,\"StudyData\", \"Close(\"&$D$12&\") when LocalYear(\"&$D$12&\")=\"&$D$1&\" and localMonth(\"&$D$12&\") =\"&$E$1&\" and LocalDay(\"&$D$12&\")=\"&$F$1&\" and Barix(\"&$D$12&\",reference:=StartOfSession)=\"&A11&\"\", \"Bar\", \"\", \"Close\",\"5\",\"0\",\"PrimaryOnly\",,,\"False\",\"T\",\"EveryTick\")","v":65.22},5.7054741711642957E-3,{"$f":"RTD(\"cqg.rtd\",,\"StudyData\", \"Close(\"&$D$12&\") when LocalYear(\"&$D$12&\")=\"&$D$2&\" and localMonth(\"&$D$12&\") =\"&$E$2&\" and LocalDay(\"&$D$12&\")=\"&$F$2&\" and Barix(\"&$D$12&\",reference:=StartOfSession)=\"&A11&\"\", \"Bar\", \"\", \"Close\",\"5\",\"0\",\"PrimaryOnly\",,,\"False\",\"T\",\"EveryTick\")","v":65.819999999999993},-1.3045434098065746E-2,{"$f":"RTD(\"cqg.rtd\",,\"StudyData\", \"Close(\"&$D$12&\") when LocalYear(\"&$D$12&\")=\"&$D$3&\" and localMonth(\"&$D$12&\") =\"&$E$3&\" and LocalDay(\"&$D$12&\")=\"&$F$3&\" and Barix(\"&$D$12&\",reference:=StartOfSession)=\"&A11&\"\", \"Bar\", \"\", \"Close\",\"5\",\"0\",\"PrimaryOnly\",,,\"False\",\"T\",\"EveryTick\")","v":66.81},4.3595911004210199E-3,{"$f":"RTD(\"cqg.rtd\",,\"StudyData\", \"Close(\"&$D$12&\") when LocalYear(\"&$D$12&\")=\"&$D$4&\" and localMonth(\"&$D$12&\") =\"&$E$4&\" and LocalDay(\"&$D$12&\")=\"&$F$4&\" and Barix(\"&$D$12&\",reference:=StartOfSession)=\"&A11&\"\", \"Bar\", \"\", \"Close\",\"5\",\"0\",\"PrimaryOnly\",,,\"False\",\"T\",\"EveryTick\")","v":65.89},-5.8841279420639792E-3,{"$f":"RTD(\"cqg.rtd\",,\"StudyData\", \"Close(\"&$D$12&\") when LocalYear(\"&$D$12&\")=\"&$D$5&\" and localMonth(\"&$D$12&\") =\"&$E$5&\" and LocalDay(\"&$D$12&\")=\"&$F$5&\" and Barix(\"&$D$12&\",reference:=StartOfSession)=\"&A11&\"\", \"Bar\", \"\", \"Close\",\"5\",\"0\",\"PrimaryOnly\",,,\"False\",\"T\",\"EveryTick\")","v":66.16},1.9688020596697782E-3,{"$f":"RTD(\"cqg.rtd\",,\"StudyData\", \"Close(\"&$D$12&\") when LocalYear(\"&$D$12&\")=\"&$D$6&\" and localMonth(\"&$D$12&\") =\"&$E$6&\" and LocalDay(\"&$D$12&\")=\"&$F$6&\" and Barix(\"&$D$12&\",reference:=StartOfSession)=\"&A11&\"\", \"Bar\", \"\", \"Close\",\"5\",\"0\",\"PrimaryOnly\",,,\"False\",\"T\",\"EveryTick\")","v":65.010000000000005},-1.0050251256281355E-2,{"$f":"RTD(\"cqg.rtd\",,\"StudyData\", \"Close(\"&$D$12&\") when LocalYear(\"&$D$12&\")=\"&$D$7&\" and localMonth(\"&$D$12&\") =\"&$E$7&\" and LocalDay(\"&$D$12&\")=\"&$F$7&\" and Barix(\"&$D$12&\",reference:=StartOfSession)=\"&A11&\"\", \"Bar\", \"\", \"Close\",\"5\",\"0\",\"PrimaryOnly\",,,\"False\",\"T\",\"EveryTick\")","v":65.77},-1.8212171801488017E-3,{"$f":"RTD(\"cqg.rtd\",,\"StudyData\", \"Close(\"&$D$12&\") when LocalYear(\"&$D$12&\")=\"&$D$8&\" and localMonth(\"&$D$12&\") =\"&$E$8&\" and LocalDay(\"&$D$12&\")=\"&$F$8&\" and Barix(\"&$D$12&\",reference:=StartOfSession)=\"&A11&\"\", \"Bar\", \"\", \"Close\",\"5\",\"0\",\"PrimaryOnly\",,,\"False\",\"T\",\"EveryTick\")","v":65.349999999999994},1.0046367851622743E-2,{"$f":"RTD(\"cqg.rtd\",,\"StudyData\", \"Close(\"&$D$12&\") when LocalYear(\"&$D$12&\")=\"&$D$9&\" and localMonth(\"&$D$12&\") =\"&$E$9&\" and LocalDay(\"&$D$12&\")=\"&$F$9&\" and Barix(\"&$D$12&\",reference:=StartOfSession)=\"&A11&\"\", \"Bar\", \"\", \"Close\",\"5\",\"0\",\"PrimaryOnly\",,,\"False\",\"T\",\"EveryTick\")","v":65.23},-3.5135960892146317E-3,{"$f":"RTD(\"cqg.rtd\",,\"StudyData\", \"Close(\"&$D$12&\") when LocalYear(\"&$D$12&\")=\"&$D$10&\" and localMonth(\"&$D$12&\") =\"&$E$10&\" and LocalDay(\"&$D$12&\")=\"&$F$10&\" and Barix(\"&$D$12&\",reference:=StartOfSession)=\"&A11&\"\", \"Bar\", \"\", \"Close\",\"5\",\"0\",\"PrimaryOnly\",,,\"False\",\"T\",\"EveryTick\")","v":64.459999999999994},-3.401360544217889E-3,null,null,null,10]
[11,"08:55:00",null,{"$f":"MainDisplay!R5","v":"CLE"},null,null,null,{"$f":"RTD(\"cqg.rtd\",,\"StudyData\", \"Close(\"&$D$12&\") when LocalYear(\"&$D$12&\")=\"&$D$1&\" and localMonth(\"&$D$12&\") =\"&$E$1&\" and LocalDay(\"&$D$12&\")=\"&$F$1&\" and Barix(\"&$D$12&\",reference:=StartOfSession)=\"&A12&\"\", \"Bar\", \"\", \"Close\",\"5\",\"0\",\"PrimaryOnly\",,,\"False\",\"T\",\"EveryTick\")","v":""},{"$error":"#N/A"},{"$f":"RTD(\"cqg.rtd\",,\"StudyData\", \"Close(\"&$D$12&\") when LocalYear(\"&$D$12&\")=\"&$D$2&\" and localMonth(\"&$D$12&\") =\"&$E$2&\" and LocalDay(\"&$D$12&\")=\"&$F$2&\" and Barix(\"&$D$12&\",reference:=StartOfSession)=\"&A12&\"\", \"Bar\", \"\", \"Close\",\"5\",\"0\",\"PrimaryOnly\",,,\"False\",\"T\",\"EveryTick\")","v":65.77},-1.3795171689908558E-2,{"$f":"RTD(\"cqg.rtd\",,\"StudyData\", \"Close(\"&$D$12&\") when LocalYear(\"&$D$12&\")=\"&$D$3&\" and localMonth(\"&$D$12&\") =\"&$E$3&\" and LocalDay(\"&$D$12&\")=\"&$F$3&\" and Barix(\"&$D$12&\",reference:=StartOfSession)=\"&A12&\"\", \"Bar\", \"\", \"Close\",\"5\",\"0\",\"PrimaryOnly\",,,\"False\",\"T\",\"EveryTick\")","v":66.77},3.7582681900180399E-3,{"$f":"RTD(\"cqg.rtd\",,\"StudyData\", \"Close(\"&$D$12&\") when LocalYear(\"&$D$12&\")=\"&$D$4&\" and localMonth(\"&$D$12&\") =\"&$E$4&\" and LocalDay(\"&$D$12&\")=\"&$F$4&\" and Barix(\"&$D$12&\",reference:=StartOfSession)=\"&A12&\"\", \"Bar\", \"\", \"Close\",\"5\",\"0\",\"PrimaryOnly\",,,\"False\",\"T\",\"EveryTick\")","v":65.87},-6.1858780929389947E-3,{"$f":"RTD(\"cqg.rtd\",,\"StudyData\", \"Close(\"&$D$12&\") when LocalYear(\"&$D$12&\")=\"&$D$5&\" and localMonth(\"&$D$12&\") =\"&$E$5&\" and LocalDay(\"&$D$12&\")=\"&$F$5&\" and Barix(\"&$D$12&\",reference:=StartOfSession)=\"&A12&\"\", \"Bar\", \"\", \"Close\",\"5\",\"0\",\"PrimaryOnly\",,,\"False\",\"T\",\"EveryTick\")","v":66.23},3.0289262456459614E-3,{"$f":"RTD(\"cqg.rtd\",,\"StudyData\", \"Close(\"&$D$12&\") when LocalYear(\"&$D$12&\")=\"&$D$6&\" and localMonth(\"&$D$12&\") =\"&$E$6&\" and LocalDay(\"&$D$12&\")=\"&$F$6&\" and Barix(\"&$D$12&\",reference:=StartOfSession)=\"&A12&\"\", \"Bar\", \"\", \"Close\",\"5\",\"0\",\"PrimaryOnly\",,,\"False\",\"T\",\"EveryTick\")","v":65.11},-8.5274859144206221E-3,{"$f":"RTD(\"cqg.rtd\",,\"StudyData\", \"Close(\"&$D$12&\") when LocalYear(\"&$D$12&\")=\"&$D$7&\" and localMonth(\"&$D$12&\") =\"&$E$7&\" and LocalDay(\"&$D$12&\")=\"&$F$7&\" and Barix(\"&$D$12&\",reference:=StartOfSession)=\"&A12&\"\", \"Bar\", \"\", \"Close\",\"5\",\"0\",\"PrimaryOnly\",,,\"False\",\"T\",\"EveryTick\")","v":65.84},-7.5884049172859555E-4,{"$f":"RTD(\"cqg.rtd\",,\"StudyData\", \"Close(\"&$D$12&\") when LocalYear(\"&$D$12&\")=\"&$D$8&\" and localMonth(\"&$D$12&\") =\"&$E$8&\" and LocalDay(\"&$D$12&\")=\"&$F$8&\" and Barix(\"&$D$12&\",reference:=StartOfSession)=\"&A12&\"\", \"Bar\", \"\", \"Close\",\"5\",\"0\",\"PrimaryOnly\",,,\"False\",\"T\",\"EveryTick\")","v":65.42},1.1128284389489936E-2,{"$f":"RTD(\"cqg.rtd\",,\"StudyData\", \"Close(\"&$D$12&\") when LocalYear(\"&$D$12&\")=\"&$D$9&\" and localMonth(\"&$D$12&\") =\"&$E$9&\" and LocalDay(\"&$D$12&\")=\"&$F$9&\" and Barix(\"&$D$12&\",reference:=StartOfSession)=\"&A12&\"\", \"Bar\", \"\", \"Close\",\"5\",\"0\",\"PrimaryOnly\",,,\"False\",\"T\",\"EveryTick\")","v":65.23},-3.5135960892146317E-3,{"$f":"RTD(\"cqg.rtd\",,\"StudyData\", \"Close(\"&$D$12&\") when LocalYear(\"&$D$12&\")=\"&$D$10&\" and localMonth(\"&$D$12&\") =\"&$E$10&\" and LocalDay(\"&$D$12&\")=\"&$F$10&\" and Barix(\"&$D$12&\",reference:=StartOfSession)=\"&A12&\"\", \"Bar\", \"\", \"Close\",\"5\",\"0\",\"PrimaryOnly\",,,\"False\",\"T\",\"EveryTick\")","v":64.55},-2.0098948670378733E-3,null,{"$f":"VLOOKUP(MAX(AE2:AE81),A1:B81,2,FALSE)","v":"08:50:00"},null,""]
[12,"09:00:00",null,{"$f":"RTD(\"cqg.rtd\", ,\"ContractData\",D12, \"LastQuoteToday\",, \"T\")","v":65.22},null,null,{"$f":"C1","v":"2018-06-18"},{"$f":"RTD(\"cqg.rtd\",,\"StudyData\", \"Close(\"&$D$12&\") when LocalYear(\"&$D$12&\")=\"&$D$1&\" and localMonth(\"&$D$12&\") =\"&$E$1&\" and LocalDay(\"&$D$12&\")=\"&$F$1&\" and Barix(\"&$D$12&\",reference:=StartOfSession)=\"&A13&\"\", \"Bar\", \"\", \"Close\",\"5\",\"0\",\"PrimaryOnly\",,,\"False\",\"T\",\"EveryTick\")","v":""},{"$error":"#N/A"},{"$f":"RTD(\"cqg.rtd\",,\"StudyData\", \"Close(\"&$D$12&\") when LocalYear(\"&$D$12&\")=\"&$D$2&\" and localMonth(\"&$D$12&\") =\"&$E$2&\" and LocalDay(\"&$D$12&\")=\"&$F$2&\" and Barix(\"&$D$12&\",reference:=StartOfSession)=\"&A13&\"\", \"Bar\", \"\", \"Close\",\"5\",\"0\",\"PrimaryOnly\",,,\"False\",\"T\",\"EveryTick\")","v":65.81},-1.3195381616434181E-2,{"$f":"RTD(\"cqg.rtd\",,\"StudyData\", \"Close(\"&$D$12&\") when LocalYear(\"&$D$12&\")=\"&$D$3&\" and localMonth(\"&$D$12&\") =\"&$E$3&\" and LocalDay(\"&$D$12&\")=\"&$F$3&\" and Barix(\"&$D$12&\",reference:=StartOfSession)=\"&A13&\"\", \"Bar\", \"\", \"Close\",\"5\",\"0\",\"PrimaryOnly\",,,\"False\",\"T\",\"EveryTick\")","v":66.72},3.0066145520144748E-3,{"$f":"RTD(\"cqg.rtd\",,\"StudyData\", \"Close(\"&$D$12&\") when LocalYear(\"&$D$12&\")=\"&$D$4&\" and localMonth(\"&$D$12&\") =\"&$E$4&\" and LocalDay(\"&$D$12&\")=\"&$F$4&\" and Barix(\"&$D$12&\",reference:=StartOfSession)=\"&A13&\"\", \"Bar\", \"\", \"Close\",\"5\",\"0\",\"PrimaryOnly\",,,\"False\",\"T\",\"EveryTick\")","v":65.92},-5.4315027157513492E-3,{"$f":"RTD(\"cqg.rtd\",,\"StudyData\", \"Close(\"&$D$12&\") when LocalYear(\"&$D$12&\")=\"&$D$5&\" and localMonth(\"&$D$12&\") =\"&$E$5&\" and LocalDay(\"&$D$12&\")=\"&$F$5&\" and Barix(\"&$D$12&\",reference:=StartOfSession)=\"&A13&\"\", \"Bar\", \"\", \"Close\",\"5\",\"0\",\"PrimaryOnly\",,,\"False\",\"T\",\"EveryTick\")","v":66.290000000000006},3.9376041193397715E-3,{"$f":"RTD(\"cqg.rtd\",,\"StudyData\", \"Close(\"&$D$12&\") when LocalYear(\"&$D$12&\")=\"&$D$6&\" and localMonth(\"&$D$12&\") =\"&$E$6&\" and LocalDay(\"&$D$12&\")=\"&$F$6&\" and Barix(\"&$D$12&\",reference:=StartOfSession)=\"&A13&\"\", \"Bar\", \"\", \"Close\",\"5\",\"0\",\"PrimaryOnly\",,,\"False\",\"T\",\"EveryTick\")","v":65.48},-2.893254149535522E-3,{"$f":"RTD(\"cqg.rtd\",,\"StudyData\", \"Close(\"&$D$12&\") when LocalYear(\"&$D$12&\")=\"&$D$7&\" and localMonth(\"&$D$12&\") =\"&$E$7&\" and LocalDay(\"&$D$12&\")=\"&$F$7&\" and Barix(\"&$D$12&\",reference:=StartOfSession)=\"&A13&\"\", \"Bar\", \"\", \"Close\",\"5\",\"0\",\"PrimaryOnly\",,,\"False\",\"T\",\"EveryTick\")","v":65.930000000000007},6.0707239338300581E-4,{"$f":"RTD(\"cqg.rtd\",,\"StudyData\", \"Close(\"&$D$12&\") when LocalYear(\"&$D$12&\")=\"&$D$8&\" and localMonth(\"&$D$12&\") =\"&$E$8&\" and LocalDay(\"&$D$12&\")=\"&$F$8&\" and Barix(\"&$D$12&\",reference:=StartOfSession)=\"&A13&\"\", \"Bar\", \"\", \"Close\",\"5\",\"0\",\"PrimaryOnly\",,,\"False\",\"T\",\"EveryTick\")","v":65.61},1.4064914992271971E-2,{"$f":"RTD(\"cqg.rtd\",,\"StudyData\", \"Close(\"&$D$12&\") when LocalYear(\"&$D$12&\")=\"&$D$9&\" and localMonth(\"&$D$12&\") =\"&$E$9&\" and LocalDay(\"&$D$12&\")=\"&$F$9&\" and Barix(\"&$D$12&\",reference:=StartOfSession)=\"&A13&\"\", \"Bar\", \"\", \"Close\",\"5\",\"0\",\"PrimaryOnly\",,,\"False\",\"T\",\"EveryTick\")","v":65.290000000000006},-2.5970058050716087E-3,{"$f":"RTD(\"cqg.rtd\",,\"StudyData\", \"Close(\"&$D$12&\") when LocalYear(\"&$D$12&\")=\"&$D$10&\" and localMonth(\"&$D$12&\") =\"&$E$10&\" and LocalDay(\"&$D$12&\")=\"&$F$10&\" and Barix(\"&$D$12&\",reference:=StartOfSession)=\"&A13&\"\", \"Bar\", \"\", \"Close\",\"5\",\"0\",\"PrimaryOnly\",,,\"False\",\"T\",\"EveryTick\")","v":64.42},-4.0197897340755271E-3,null,null,null,""]
[13,"09:05:00",null,{"$f":"RTD(\"cqg.rtd\", ,\"ContractData\",D12, \"LongDescription\",, \"T\")","v":"Crude Light (Globex), Aug 18"},null,null,{"$f":"C2","v":"2018-06-15"},{"$f":"RTD(\"cqg.rtd\",,\"StudyData\", \"Close(\"&$D$12&\") when LocalYear(\"&$D$12&\")=\"&$D$1&\" and localMonth(\"&$D$12&\") =\"&$E$1&\" and LocalDay(\"&$D$12&\")=\"&$F$1&\" and Barix(\"&$D$12&\",reference:=StartOfSession)=\"&A14&\"\", \"Bar\", \"\", \"Close\",\"5\",\"0\",\"PrimaryOnly\",,,\"False\",\"T\",\"EveryTick\")","v":""},{"$error":"#N/A"},{"$f":"RTD(\"cqg.rtd\",,\"StudyData\", \"Close(\"&$D$12&\") when LocalYear(\"&$D$12&\")=\"&$D$2&\" and localMonth(\"&$D$12&\") =\"&$E$2&\" and LocalDay(\"&$D$12&\")=\"&$F$2&\" and Barix(\"&$D$12&\",reference:=StartOfSession)=\"&A14&\"\", \"Bar\", \"\", \"Close\",\"5\",\"0\",\"PrimaryOnly\",,,\"False\",\"T\",\"EveryTick\")","v":65.63},-1.589443694706856E-2,{"$f":"RTD(\"cqg.rtd\",,\"StudyData\", \"Close(\"&$D$12&\") when LocalYear(\"&$D$12&\")=\"&$D$3&\" and localMonth(\"&$D$12&\") =\"&$E$3&\" and LocalDay(\"&$D$12&\")=\"&$F$3&\" and Barix(\"&$D$12&\",reference:=StartOfSession)=\"&A14&\"\", \"Bar\", \"\", \"Close\",\"5\",\"0\",\"PrimaryOnly\",,,\"False\",\"T\",\"EveryTick\")","v":66.760000000000005},3.6079374624174549E-3,{"$f":"RTD(\"cqg.rtd\",,\"StudyData\", \"Close(\"&$D$12&\") when LocalYear(\"&$D$12&\")=\"&$D$4&\" and localMonth(\"&$D$12&\") =\"&$E$4&\" and LocalDay(\"&$D$12&\")=\"&$F$4&\" and Barix(\"&$D$12&\",reference:=StartOfSession)=\"&A14&\"\", \"Bar\", \"\", \"Close\",\"5\",\"0\",\"PrimaryOnly\",,,\"False\",\"T\",\"EveryTick\")","v":65.89},-5.8841279420639792E-3,{"$f":"RTD(\"cqg.rtd\",,\"StudyData\", \"Close(\"&$D$12&\") when LocalYear(\"&$D$12&\")=\"&$D$5&\" and localMonth(\"&$D$12&\") =\"&$E$5&\" and LocalDay(\"&$D$12&\")=\"&$F$5&\" and Barix(\"&$D$12&\",reference:=StartOfSession)=\"&A14&\"\", \"Bar\", \"\", \"Close\",\"5\",\"0\",\"PrimaryOnly\",,,\"False\",\"T\",\"EveryTick\")","v":66.3},4.0890504316219295E-3,{"$f":"RTD(\"cqg.rtd\",,\"StudyData\", \"Close(\"&$D$12&\") when LocalYear(\"&$D$12&\")=\"&$D$6&\" and localMonth(\"&$D$12&\") =\"&$E$6&\" and LocalDay(\"&$D$12&\")=\"&$F$6&\" and Barix(\"&$D$12&\",reference:=StartOfSession)=\"&A14&\"\", \"Bar\", \"\", \"Close\",\"5\",\"0\",\"PrimaryOnly\",,,\"False\",\"T\",\"EveryTick\")","v":65.5},-2.5887010811634185E-3,{"$f":"RTD(\"cqg.rtd\",,\"StudyData\", \"Close(\"&$D$12&\") when LocalYear(\"&$D$12&\")=\"&$D$7&\" and localMonth(\"&$D$12&\") =\"&$E$7&\" and LocalDay(\"&$D$12&\")=\"&$F$7&\" and Barix(\"&$D$12&\",reference:=StartOfSession)=\"&A14&\"\", \"Bar\", \"\", \"Close\",\"5\",\"0\",\"PrimaryOnly\",,,\"False\",\"T\",\"EveryTick\")","v":65.98},1.3659128851116014E-3,{"$f":"RTD(\"cqg.rtd\",,\"StudyData\", \"Close(\"&$D$12&\") when LocalYear(\"&$D$12&\")=\"&$D$8&\" and localMonth(\"&$D$12&\") =\"&$E$8&\" and LocalDay(\"&$D$12&\")=\"&$F$8&\" and Barix(\"&$D$12&\",reference:=StartOfSession)=\"&A14&\"\", \"Bar\", \"\", \"Close\",\"5\",\"0\",\"PrimaryOnly\",,,\"False\",\"T\",\"EveryTick\")","v":65.56},1.3292117465224101E-2,{"$f":"RTD(\"cqg.rtd\",,\"StudyData\", \"Close(\"&$D$12&\") when LocalYear(\"&$D$12&\")=\"&$D$9&\" and localMonth(\"&$D$12&\") =\"&$E$9&\" and LocalDay(\"&$D$12&\")=\"&$F$9&\" and Barix(\"&$D$12&\",reference:=StartOfSession)=\"&A14&\"\", \"Bar\", \"\", \"Close\",\"5\",\"0\",\"PrimaryOnly\",,,\"False\",\"T\",\"EveryTick\")","v":65.33},-1.9859456156430715E-3,{"$f":"RTD(\"cqg.rtd\",,\"StudyData\", \"Close(\"&$D$12&\") when LocalYear(\"&$D$12&\")=\"&$D$10&\" and localMonth(\"&$D$12&\") =\"&$E$10&\" and LocalDay(\"&$D$12&\")=\"&$F$10&\" and Barix(\"&$D$12&\",reference:=StartOfSession)=\"&A14&\"\", \"Bar\", \"\", \"Close\",\"5\",\"0\",\"PrimaryOnly\",,,\"False\",\"T\",\"EveryTick\")","v":64.47},-3.2467532467533693E-3,null,null,null,""]
[14,"09:10:00","",null,null,null,"2018-06-14",{"$f":"RTD(\"cqg.rtd\",,\"StudyData\", \"Close(\"&$D$12&\") when LocalYear(\"&$D$12&\")=\"&$D$1&\" and localMonth(\"&$D$12&\") =\"&$E$1&\" and LocalDay(\"&$D$12&\")=\"&$F$1&\" and Barix(\"&$D$12&\",reference:=StartOfSession)=\"&A15&\"\", \"Bar\", \"\", \"Close\",\"5\",\"0\",\"PrimaryOnly\",,,\"False\",\"T\",\"EveryTick\")","v":""},{"$error":"#N/A"},{"$f":"RTD(\"cqg.rtd\",,\"StudyData\", \"Close(\"&$D$12&\") when LocalYear(\"&$D$12&\")=\"&$D$2&\" and localMonth(\"&$D$12&\") =\"&$E$2&\" and LocalDay(\"&$D$12&\")=\"&$F$2&\" and Barix(\"&$D$12&\",reference:=StartOfSession)=\"&A15&\"\", \"Bar\", \"\", \"Close\",\"5\",\"0\",\"PrimaryOnly\",,,\"False\",\"T\",\"EveryTick\")","v":65.56},-1.6944069575648455E-2,{"$f":"RTD(\"cqg.rtd\",,\"StudyData\", \"Close(\"&$D$12&\") when LocalYear(\"&$D$12&\")=\"&$D$3&\" and localMonth(\"&$D$12&\") =\"&$E$3&\" and LocalDay(\"&$D$12&\")=\"&$F$3&\" and Barix(\"&$D$12&\",reference:=StartOfSession)=\"&A15&\"\", \"Bar\", \"\", \"Close\",\"5\",\"0\",\"PrimaryOnly\",,,\"False\",\"T\",\"EveryTick\")","v":66.819999999999993},4.5099218280216053E-3,{"$f":"RTD(\"cqg.rtd\",,\"StudyData\", \"Close(\"&$D$12&\") when LocalYear(\"&$D$12&\")=\"&$D$4&\" and localMonth(\"&$D$12&\") =\"&$E$4&\" and LocalDay(\"&$D$12&\")=\"&$F$4&\" and Barix(\"&$D$12&\",reference:=StartOfSession)=\"&A15&\"\", \"Bar\", \"\", \"Close\",\"5\",\"0\",\"PrimaryOnly\",,,\"False\",\"T\",\"EveryTick\")","v":65.91},-5.5823777911889645E-3,{"$f":"RTD(\"cqg.rtd\",,\"StudyData\", \"Close(\"&$D$12&\") when LocalYear(\"&$D$12&\")=\"&$D$5&\" and localMonth(\"&$D$12&\") =\"&$E$5&\" and LocalDay(\"&$D$12&\")=\"&$F$5&\" and Barix(\"&$D$12&\",reference:=StartOfSession)=\"&A15&\"\", \"Bar\", \"\", \"Close\",\"5\",\"0\",\"PrimaryOnly\",,,\"False\",\"T\",\"EveryTick\")","v":66.28},3.786157807057398E-3,{"$f":"RTD(\"cqg.rtd\",,\"StudyData\", \"Close(\"&$D$12&\") when LocalYear(\"&$D$12&\")=\"&$D$6&\" and localMonth(\"&$D$12&\") =\"&$E$6&\" and LocalDay(\"&$D$12&\")=\"&$F$6&\" and Barix(\"&$D$12&\",reference:=StartOfSession)=\"&A15&\"\", \"Bar\", \"\", \"Close\",\"5\",\"0\",\"PrimaryOnly\",,,\"False\",\"T\",\"EveryTick\")","v":65.510000000000005},-2.4364245469772586E-3,{"$f":"RTD(\"cqg.rtd\",,\"StudyData\", \"Close(\"&$D$12&\") when LocalYear(\"&$D$12&\")=\"&$D$7&\" and localMonth(\"&$D$12&\") =\"&$E$7&\" and LocalDay(\"&$D$12&\")=\"&$F$7&\" and Barix(\"&$D$12&\",reference:=StartOfSession)=\"&A15&\"\", \"Bar\", \"\", \"Close\",\"5\",\"0\",\"PrimaryOnly\",,,\"False\",\"T\",\"EveryTick\")","v":65.98},1.3659128851116014E-3,{"$f":"RTD(\"cqg.rtd\",,\"StudyData\", \"Close(\"&$D$12&\") when LocalYear(\"&$D$12&\")=\"&$D$8&\" and localMonth(\"&$D$12&\") =\"&$E$8&\" and LocalDay(\"&$D$12&\")=\"&$F$8&\" and Barix(\"&$D$12&\",reference:=StartOfSession)=\"&A15&\"\", \"Bar\", \"\", \"Close\",\"5\",\"0\",\"PrimaryOnly\",,,\"False\",\"T\",\"EveryTick\")","v":65.569999999999993},1.3446676970633543E-2,{"$f":"RTD(\"cqg.rtd\",,\"StudyData\", \"Close(\"&$D$12&\") when LocalYear(\"&$D$12&\")=\"&$D$9&\" and localMonth(\"&$D$12&\") =\"&$E$9&\" and LocalDay(\"&$D$12&\")=\"&$F$9&\" and Barix(\"&$D$12&\",reference:=StartOfSession)=\"&A15&\"\", \"Bar\", \"\", \"Close\",\"5\",\"0\",\"PrimaryOnly\",,,\"False\",\"T\",\"EveryTick\")","v":65.349999999999994},-1.6804155209288029E-3,{"$f":"RTD(\"cqg.rtd\",,\"StudyData\", \"Close(\"&$D$12&\") when LocalYear(\"&$D$12&\")=\"&$D$10&\" and localMonth(\"&$D$12&\") =\"&$E$10&\" and LocalDay(\"&$D$12&\")=\"&$F$10&\" and Barix(\"&$D$12&\",reference:=StartOfSession)=\"&A15&\"\", \"Bar\", \"\", \"Close\",\"5\",\"0\",\"PrimaryOnly\",,,\"False\",\"T\",\"EveryTick\")","v":64.69},1.5460729746429968E-4,null,null,null,""]
[15,"09:15:00",null,{"$f":"RTD(\"cqg.rtd\", ,\"ContractData\",D12, \"Ticksize\",, \"T\")","v":0.01},null,null,"2018-06-13",{"$f":"RTD(\"cqg.rtd\",,\"StudyData\", \"Close(\"&$D$12&\") when LocalYear(\"&$D$12&\")=\"&$D$1&\" and localMonth(\"&$D$12&\") =\"&$E$1&\" and LocalDay(\"&$D$12&\")=\"&$F$1&\" and Barix(\"&$D$12&\",reference:=StartOfSession)=\"&A16&\"\", \"Bar\", \"\", \"Close\",\"5\",\"0\",\"PrimaryOnly\",,,\"False\",\"T\",\"EveryTick\")","v":""},{"$error":"#N/A"},{"$f":"RTD(\"cqg.rtd\",,\"StudyData\", \"Close(\"&$D$12&\") when LocalYear(\"&$D$12&\")=\"&$D$2&\" and localMonth(\"&$D$12&\") =\"&$E$2&\" and LocalDay(\"&$D$12&\")=\"&$F$2&\" and Barix(\"&$D$12&\",reference:=StartOfSession)=\"&A16&\"\", \"Bar\", \"\", \"Close\",\"5\",\"0\",\"PrimaryOnly\",,,\"False\",\"T\",\"EveryTick\")","v":65.42},-1.904333483280846E-2,{"$f":"RTD(\"cqg.rtd\",,\"StudyData\", \"Close(\"&$D$12&\") when LocalYear(\"&$D$12&\")=\"&$D$3&\" and localMonth(\"&$D$12&\") =\"&$E$3&\" and LocalDay(\"&$D$12&\")=\"&$F$3&\" and Barix(\"&$D$12&\",reference:=StartOfSession)=\"&A16&\"\", \"Bar\", \"\", \"Close\",\"5\",\"0\",\"PrimaryOnly\",,,\"False\",\"T\",\"EveryTick\")","v":66.73},3.1569452796152732E-3,{"$f":"RTD(\"cqg.rtd\",,\"StudyData\", \"Close(\"&$D$12&\") when LocalYear(\"&$D$12&\")=\"&$D$4&\" and localMonth(\"&$D$12&\") =\"&$E$4&\" and LocalDay(\"&$D$12&\")=\"&$F$4&\" and Barix(\"&$D$12&\",reference:=StartOfSession)=\"&A16&\"\", \"Bar\", \"\", \"Close\",\"5\",\"0\",\"PrimaryOnly\",,,\"False\",\"T\",\"EveryTick\")","v":65.97},-4.6771273385637037E-3,{"$f":"RTD(\"cqg.rtd\",,\"StudyData\", \"Close(\"&$D$12&\") when LocalYear(\"&$D$12&\")=\"&$D$5&\" and localMonth(\"&$D$12&\") =\"&$E$5&\" and LocalDay(\"&$D$12&\")=\"&$F$5&\" and Barix(\"&$D$12&\",reference:=StartOfSession)=\"&A16&\"\", \"Bar\", \"\", \"Close\",\"5\",\"0\",\"PrimaryOnly\",,,\"False\",\"T\",\"EveryTick\")","v":66.28},3.786157807057398E-3,{"$f":"RTD(\"cqg.rtd\",,\"StudyData\", \"Close(\"&$D$12&\") when LocalYear(\"&$D$12&\")=\"&$D$6&\" and localMonth(\"&$D$12&\") =\"&$E$6&\" and LocalDay(\"&$D$12&\")=\"&$F$6&\" and Barix(\"&$D$12&\",reference:=StartOfSession)=\"&A16&\"\", \"Bar\", \"\", \"Close\",\"5\",\"0\",\"PrimaryOnly\",,,\"False\",\"T\",\"EveryTick\")","v":65.510000000000005},-2.4364245469772586E-3,{"$f":"RTD(\"cqg.rtd\",,\"StudyData\", \"Close(\"&$D$12&\") when LocalYear(\"&$D$12&\")=\"&$D$7&\" and localMonth(\"&$D$12&\") =\"&$E$7&\" and LocalDay(\"&$D$12&\")=\"&$F$7&\" and Barix(\"&$D$12&\",reference:=StartOfSession)=\"&A16&\"\", \"Bar\", \"\", \"Close\",\"5\",\"0\",\"PrimaryOnly\",,,\"False\",\"T\",\"EveryTick\")","v":66.03},2.1247533768401967E-3,{"$f":"RTD(\"cqg.rtd\",,\"StudyData\", \"Close(\"&$D$12&\") when LocalYear(\"&$D$12&\")=\"&$D$8&\" and localMonth(\"&$D$12&\") =\"&$E$8&\" and LocalDay(\"&$D$12&\")=\"&$F$8&\" and Barix(\"&$D$12&\",reference:=StartOfSession)=\"&A16&\"\", \"Bar\", \"\", \"Close\",\"5\",\"0\",\"PrimaryOnly\",,,\"False\",\"T\",\"EveryTick\")","v":65.599999999999994},1.391035548686231E-2,{"$f":"RTD(\"cqg.rtd\",,\"StudyData\", \"Close(\"&$D$12&\") when LocalYear(\"&$D$12&\")=\"&$D$9&\" and localMonth(\"&$D$12&\") =\"&$E$9&\" and LocalDay(\"&$D$12&\")=\"&$F$9&\" and Barix(\"&$D$12&\",reference:=StartOfSession)=\"&A16&\"\", \"Bar\", \"\", \"Close\",\"5\",\"0\",\"PrimaryOnly\",,,\"False\",\"T\",\"EveryTick\")","v":65.28},-2.7497708524288518E-3,{"$f":"RTD(\"cqg.rtd\",,\"StudyData\", \"Close(\"&$D$12&\") when LocalYear(\"&$D$12&\")=\"&$D$10&\" and localMonth(\"&$D$12&\") =\"&$E$10&\" and LocalDay(\"&$D$12&\")=\"&$F$10&\" and Barix(\"&$D$12&\",reference:=StartOfSession)=\"&A16&\"\", \"Bar\", \"\", \"Close\",\"5\",\"0\",\"PrimaryOnly\",,,\"False\",\"T\",\"EveryTick\")","v":64.64},-6.1842918985785793E-4,null,null,null,""]
[16,"09:20:00",null,{"$f":"IF(D16>=1,0,IF(LEN(D16)-2=1,2,LEN(D16)-2))","v":2},null,{"$f":"VLOOKUP(D17,D18:E25,2,FALSE)","v":"#.00"},"2018-06-12",{"$f":"RTD(\"cqg.rtd\",,\"StudyData\", \"Close(\"&$D$12&\") when LocalYear(\"&$D$12&\")=\"&$D$1&\" and localMonth(\"&$D$12&\") =\"&$E$1&\" and LocalDay(\"&$D$12&\")=\"&$F$1&\" and Barix(\"&$D$12&\",reference:=StartOfSession)=\"&A17&\"\", \"Bar\", \"\", \"Close\",\"5\",\"0\",\"PrimaryOnly\",,,\"False\",\"T\",\"EveryTick\")","v":""},{"$error":"#N/A"},{"$f":"RTD(\"cqg.rtd\",,\"StudyData\", \"Close(\"&$D$12&\") when LocalYear(\"&$D$12&\")=\"&$D$2&\" and localMonth(\"&$D$12&\") =\"&$E$2&\" and LocalDay(\"&$D$12&\")=\"&$F$2&\" and Barix(\"&$D$12&\",reference:=StartOfSession)=\"&A17&\"\", \"Bar\", \"\", \"Close\",\"5\",\"0\",\"PrimaryOnly\",,,\"False\",\"T\",\"EveryTick\")","v":65.319999999999993},-2.0542810016494297E-2,{"$f":"RTD(\"cqg.rtd\",,\"StudyData\", \"Close(\"&$D$12&\") when LocalYear(\"&$D$12&\")=\"&$D$3&\" and localMonth(\"&$D$12&\") =\"&$E$3&\" and LocalDay(\"&$D$12&\")=\"&$F$3&\" and Barix(\"&$D$12&\",reference:=StartOfSession)=\"&A17&\"\", \"Bar\", \"\", \"Close\",\"5\",\"0\",\"PrimaryOnly\",,,\"False\",\"T\",\"EveryTick\")","v":66.739999999999995},3.3072760072158582E-3,{"$f":"RTD(\"cqg.rtd\",,\"StudyData\", \"Close(\"&$D$12&\") when LocalYear(\"&$D$12&\")=\"&$D$4&\" and localMonth(\"&$D$12&\") =\"&$E$4&\" and LocalDay(\"&$D$12&\")=\"&$F$4&\" and Barix(\"&$D$12&\",reference:=StartOfSession)=\"&A17&\"\", \"Bar\", \"\", \"Close\",\"5\",\"0\",\"PrimaryOnly\",,,\"False\",\"T\",\"EveryTick\")","v":65.95},-4.9788774894387192E-3,{"$f":"RTD(\"cqg.rtd\",,\"StudyData\", \"Close(\"&$D$12&\") when LocalYear(\"&$D$12&\")=\"&$D$5&\" and localMonth(\"&$D$12&\") =\"&$E$5&\" and LocalDay(\"&$D$12&\")=\"&$F$5&\" and Barix(\"&$D$12&\",reference:=StartOfSession)=\"&A17&\"\", \"Bar\", \"\", \"Close\",\"5\",\"0\",\"PrimaryOnly\",,,\"False\",\"T\",\"EveryTick\")","v":66.22},2.8774799333635883E-3,{"$f":"RTD(\"cqg.rtd\",,\"StudyData\", \"Close(\"&$D$12&\") when LocalYear(\"&$D$12&\")=\"&$D$6&\" and localMonth(\"&$D$12&\") =\"&$E$6&\" and LocalDay(\"&$D$12&\")=\"&$F$6&\" and Barix(\"&$D$12&\",reference:=StartOfSession)=\"&A17&\"\", \"Bar\", \"\", \"Close\",\"5\",\"0\",\"PrimaryOnly\",,,\"False\",\"T\",\"EveryTick\")","v":65.8},1.9795949444189956E-3,{"$f":"RTD(\"cqg.rtd\",,\"StudyData\", \"Close(\"&$D$12&\") when LocalYear(\"&$D$12&\")=\"&$D$7&\" and localMonth(\"&$D$12&\") =\"&$E$7&\" and LocalDay(\"&$D$12&\")=\"&$F$7&\" and Barix(\"&$D$12&\",reference:=StartOfSession)=\"&A17&\"\", \"Bar\", \"\", \"Close\",\"5\",\"0\",\"PrimaryOnly\",,,\"False\",\"T\",\"EveryTick\")","v":66.12},3.4906662619517983E-3,{"$f":"RTD(\"cqg.rtd\",,\"StudyData\", \"Close(\"&$D$12&\") when LocalYear(\"&$D$12&\")=\"&$D$8&\" and localMonth(\"&$D$12&\") =\"&$E$8&\" and LocalDay(\"&$D$12&\")=\"&$F$8&\" and Barix(\"&$D$12&\",reference:=StartOfSession)=\"&A17&\"\", \"Bar\", \"\", \"Close\",\"5\",\"0\",\"PrimaryOnly\",,,\"False\",\"T\",\"EveryTick\")","v":65.62},1.4219474497681633E-2,{"$f":"RTD(\"cqg.rtd\",,\"StudyData\", \"Close(\"&$D$12&\") when LocalYear(\"&$D$12&\")=\"&$D$9&\" and localMonth(\"&$D$12&\") =\"&$E$9&\" and LocalDay(\"&$D$12&\")=\"&$F$9&\" and Barix(\"&$D$12&\",reference:=StartOfSession)=\"&A17&\"\", \"Bar\", \"\", \"Close\",\"5\",\"0\",\"PrimaryOnly\",,,\"False\",\"T\",\"EveryTick\")","v":65.319999999999993},-2.1387106630003142E-3,{"$f":"RTD(\"cqg.rtd\",,\"StudyData\", \"Close(\"&$D$12&\") when LocalYear(\"&$D$12&\")=\"&$D$10&\" and localMonth(\"&$D$12&\") =\"&$E$10&\" and LocalDay(\"&$D$12&\")=\"&$F$10&\" and Barix(\"&$D$12&\",reference:=StartOfSession)=\"&A17&\"\", \"Bar\", \"\", \"Close\",\"5\",\"0\",\"PrimaryOnly\",,,\"False\",\"T\",\"EveryTick\")","v":64.55},-2.0098948670378733E-3,null,null,null,""]
[17,"09:25:00",null,0,"#",null,"2018-06-11",{"$f":"RTD(\"cqg.rtd\",,\"StudyData\", \"Close(\"&$D$12&\") when LocalYear(\"&$D$12&\")=\"&$D$1&\" and localMonth(\"&$D$12&\") =\"&$E$1&\" and LocalDay(\"&$D$12&\")=\"&$F$1&\" and Barix(\"&$D$12&\",reference:=StartOfSession)=\"&A18&\"\", \"Bar\", \"\", \"Close\",\"5\",\"0\",\"PrimaryOnly\",,,\"False\",\"T\",\"EveryTick\")","v":""},{"$error":"#N/A"},{"$f":"RTD(\"cqg.rtd\",,\"StudyData\", \"Close(\"&$D$12&\") when LocalYear(\"&$D$12&\")=\"&$D$2&\" and localMonth(\"&$D$12&\") =\"&$E$2&\" and LocalDay(\"&$D$12&\")=\"&$F$2&\" and Barix(\"&$D$12&\",reference:=StartOfSession)=\"&A18&\"\", \"Bar\", \"\", \"Close\",\"5\",\"0\",\"PrimaryOnly\",,,\"False\",\"T\",\"EveryTick\")","v":65.400000000000006},-1.934322986954554E-2,{"$f":"RTD(\"cqg.rtd\",,\"StudyData\", \"Close(\"&$D$12&\") when LocalYear(\"&$D$12&\")=\"&$D$3&\" and localMonth(\"&$D$12&\") =\"&$E$3&\" and LocalDay(\"&$D$12&\")=\"&$F$3&\" and Barix(\"&$D$12&\",reference:=StartOfSession)=\"&A18&\"\", \"Bar\", \"\", \"Close\",\"5\",\"0\",\"PrimaryOnly\",,,\"False\",\"T\",\"EveryTick\")","v":66.739999999999995},3.3072760072158582E-3,{"$f":"RTD(\"cqg.rtd\",,\"StudyData\", \"Close(\"&$D$12&\") when LocalYear(\"&$D$12&\")=\"&$D$4&\" and localMonth(\"&$D$12&\") =\"&$E$4&\" and LocalDay(\"&$D$12&\")=\"&$F$4&\" and Barix(\"&$D$12&\",reference:=StartOfSession)=\"&A18&\"\", \"Bar\", \"\", \"Close\",\"5\",\"0\",\"PrimaryOnly\",,,\"False\",\"T\",\"EveryTick\")","v":66.180000000000007},-1.5087507543752913E-3,{"$f":"RTD(\"cqg.rtd\",,\"StudyData\", \"Close(\"&$D$12&\") when LocalYear(\"&$D$12&\")=\"&$D$5&\" and localMonth(\"&$D$12&\") =\"&$E$5&\" and LocalDay(\"&$D$12&\")=\"&$F$5&\" and Barix(\"&$D$12&\",reference:=StartOfSession)=\"&A18&\"\", \"Bar\", \"\", \"Close\",\"5\",\"0\",\"PrimaryOnly\",,,\"False\",\"T\",\"EveryTick\")","v":66.25},3.3318188702104929E-3,{"$f":"RTD(\"cqg.rtd\",,\"StudyData\", \"Close(\"&$D$12&\") when LocalYear(\"&$D$12&\")=\"&$D$6&\" and localMonth(\"&$D$12&\") =\"&$E$6&\" and LocalDay(\"&$D$12&\")=\"&$F$6&\" and Barix(\"&$D$12&\",reference:=StartOfSession)=\"&A18&\"\", \"Bar\", \"\", \"Close\",\"5\",\"0\",\"PrimaryOnly\",,,\"False\",\"T\",\"EveryTick\")","v":65.77},1.5227653418607326E-3,{"$f":"RTD(\"cqg.rtd\",,\"StudyData\", \"Close(\"&$D$12&\") when LocalYear(\"&$D$12&\")=\"&$D$7&\" and localMonth(\"&$D$12&\") =\"&$E$7&\" and LocalDay(\"&$D$12&\")=\"&$F$7&\" and Barix(\"&$D$12&\",reference:=StartOfSession)=\"&A18&\"\", \"Bar\", \"\", \"Close\",\"5\",\"0\",\"PrimaryOnly\",,,\"False\",\"T\",\"EveryTick\")","v":66.06},2.5800576718773972E-3,{"$f":"RTD(\"cqg.rtd\",,\"StudyData\", \"Close(\"&$D$12&\") when LocalYear(\"&$D$12&\")=\"&$D$8&\" and localMonth(\"&$D$12&\") =\"&$E$8&\" and LocalDay(\"&$D$12&\")=\"&$F$8&\" and Barix(\"&$D$12&\",reference:=StartOfSession)=\"&A18&\"\", \"Bar\", \"\", \"Close\",\"5\",\"0\",\"PrimaryOnly\",,,\"False\",\"T\",\"EveryTick\")","v":65.67},1.4992272024729502E-2,{"$f":"RTD(\"cqg.rtd\",,\"StudyData\", \"Close(\"&$D$12&\") when LocalYear(\"&$D$12&\")=\"&$D$9&\" and localMonth(\"&$D$12&\") =\"&$E$9&\" and LocalDay(\"&$D$12&\")=\"&$F$9&\" and Barix(\"&$D$12&\",reference:=StartOfSession)=\"&A18&\"\", \"Bar\", \"\", \"Close\",\"5\",\"0\",\"PrimaryOnly\",,,\"False\",\"T\",\"EveryTick\")","v":65.34},-1.8331805682858288E-3,{"$f":"RTD(\"cqg.rtd\",,\"StudyData\", \"Close(\"&$D$12&\") when LocalYear(\"&$D$12&\")=\"&$D$10&\" and localMonth(\"&$D$12&\") =\"&$E$10&\" and LocalDay(\"&$D$12&\")=\"&$F$10&\" and Barix(\"&$D$12&\",reference:=StartOfSession)=\"&A18&\"\", \"Bar\", \"\", \"Close\",\"5\",\"0\",\"PrimaryOnly\",,,\"False\",\"T\",\"EveryTick\")","v":64.709999999999994},4.6382189239311877E-4,null,null,null,""]
[18,"09:30:00",null,1,"#.0",null,"2018-06-08",{"$f":"RTD(\"cqg.rtd\",,\"StudyData\", \"Close(\"&$D$12&\") when LocalYear(\"&$D$12&\")=\"&$D$1&\" and localMonth(\"&$D$12&\") =\"&$E$1&\" and LocalDay(\"&$D$12&\")=\"&$F$1&\" and Barix(\"&$D$12&\",reference:=StartOfSession)=\"&A19&\"\", \"Bar\", \"\", \"Close\",\"5\",\"0\",\"PrimaryOnly\",,,\"False\",\"T\",\"EveryTick\")","v":""},{"$error":"#N/A"},{"$f":"RTD(\"cqg.rtd\",,\"StudyData\", \"Close(\"&$D$12&\") when LocalYear(\"&$D$12&\")=\"&$D$2&\" and localMonth(\"&$D$12&\") =\"&$E$2&\" and LocalDay(\"&$D$12&\")=\"&$F$2&\" and Barix(\"&$D$12&\",reference:=StartOfSession)=\"&A19&\"\", \"Bar\", \"\", \"Close\",\"5\",\"0\",\"PrimaryOnly\",,,\"False\",\"T\",\"EveryTick\")","v":65.3},-2.0842705053231377E-2,{"$f":"RTD(\"cqg.rtd\",,\"StudyData\", \"Close(\"&$D$12&\") when LocalYear(\"&$D$12&\")=\"&$D$3&\" and localMonth(\"&$D$12&\") =\"&$E$3&\" and LocalDay(\"&$D$12&\")=\"&$F$3&\" and Barix(\"&$D$12&\",reference:=StartOfSession)=\"&A19&\"\", \"Bar\", \"\", \"Close\",\"5\",\"0\",\"PrimaryOnly\",,,\"False\",\"T\",\"EveryTick\")","v":66.510000000000005},-1.5033072760058488E-4,{"$f":"RTD(\"cqg.rtd\",,\"StudyData\", \"Close(\"&$D$12&\") when LocalYear(\"&$D$12&\")=\"&$D$4&\" and localMonth(\"&$D$12&\") =\"&$E$4&\" and LocalDay(\"&$D$12&\")=\"&$F$4&\" and Barix(\"&$D$12&\",reference:=StartOfSession)=\"&A19&\"\", \"Bar\", \"\", \"Close\",\"5\",\"0\",\"PrimaryOnly\",,,\"False\",\"T\",\"EveryTick\")","v":66.42},2.1122510561255364E-3,{"$f":"RTD(\"cqg.rtd\",,\"StudyData\", \"Close(\"&$D$12&\") when LocalYear(\"&$D$12&\")=\"&$D$5&\" and localMonth(\"&$D$12&\") =\"&$E$5&\" and LocalDay(\"&$D$12&\")=\"&$F$5&\" and Barix(\"&$D$12&\",reference:=StartOfSession)=\"&A19&\"\", \"Bar\", \"\", \"Close\",\"5\",\"0\",\"PrimaryOnly\",,,\"False\",\"T\",\"EveryTick\")","v":66.319999999999993},4.3919430561864614E-3,{"$f":"RTD(\"cqg.rtd\",,\"StudyData\", \"Close(\"&$D$12&\") when LocalYear(\"&$D$12&\")=\"&$D$6&\" and localMonth(\"&$D$12&\") =\"&$E$6&\" and LocalDay(\"&$D$12&\")=\"&$F$6&\" and Barix(\"&$D$12&\",reference:=StartOfSession)=\"&A19&\"\", \"Bar\", \"\", \"Close\",\"5\",\"0\",\"PrimaryOnly\",,,\"False\",\"T\",\"EveryTick\")","v":65.72},7.6138267093036629E-4,{"$f":"RTD(\"cqg.rtd\",,\"StudyData\", \"Close(\"&$D$12&\") when LocalYear(\"&$D$12&\")=\"&$D$7&\" and localMonth(\"&$D$12&\") =\"&$E$7&\" and LocalDay(\"&$D$12&\")=\"&$F$7&\" and Barix(\"&$D$12&\",reference:=StartOfSession)=\"&A19&\"\", \"Bar\", \"\", \"Close\",\"5\",\"0\",\"PrimaryOnly\",,,\"False\",\"T\",\"EveryTick\")","v":66.02},1.9729852784943916E-3,{"$f":"RTD(\"cqg.rtd\",,\"StudyData\", \"Close(\"&$D$12&\") when LocalYear(\"&$D$12&\")=\"&$D$8&\" and localMonth(\"&$D$12&\") =\"&$E$8&\" and LocalDay(\"&$D$12&\")=\"&$F$8&\" and Barix(\"&$D$12&\",reference:=StartOfSession)=\"&A19&\"\", \"Bar\", \"\", \"Close\",\"5\",\"0\",\"PrimaryOnly\",,,\"False\",\"T\",\"EveryTick\")","v":65.62},1.4219474497681633E-2,{"$f":"RTD(\"cqg.rtd\",,\"StudyData\", \"Close(\"&$D$12&\") when LocalYear(\"&$D$12&\")=\"&$D$9&\" and localMonth(\"&$D$12&\") =\"&$E$9&\" and LocalDay(\"&$D$12&\")=\"&$F$9&\" and Barix(\"&$D$12&\",reference:=StartOfSession)=\"&A19&\"\", \"Bar\", \"\", \"Close\",\"5\",\"0\",\"PrimaryOnly\",,,\"False\",\"T\",\"EveryTick\")","v":64.55},-1.3901619309501935E-2,{"$f":"RTD(\"cqg.rtd\",,\"StudyData\", \"Close(\"&$D$12&\") when LocalYear(\"&$D$12&\")=\"&$D$10&\" and localMonth(\"&$D$12&\") =\"&$E$10&\" and LocalDay(\"&$D$12&\")=\"&$F$10&\" and Barix(\"&$D$12&\",reference:=StartOfSession)=\"&A19&\"\", \"Bar\", \"\", \"Close\",\"5\",\"0\",\"PrimaryOnly\",,,\"False\",\"T\",\"EveryTick\")","v":64.709999999999994},4.6382189239311877E-4,null,null,null,""]
[19,"09:35:00",null,2,"#.00",null,"2018-06-07",{"$f":"RTD(\"cqg.rtd\",,\"StudyData\", \"Close(\"&$D$12&\") when LocalYear(\"&$D$12&\")=\"&$D$1&\" and localMonth(\"&$D$12&\") =\"&$E$1&\" and LocalDay(\"&$D$12&\")=\"&$F$1&\" and Barix(\"&$D$12&\",reference:=StartOfSession)=\"&A20&\"\", \"Bar\", \"\", \"Close\",\"5\",\"0\",\"PrimaryOnly\",,,\"False\",\"T\",\"EveryTick\")","v":""},{"$error":"#N/A"},{"$f":"RTD(\"cqg.rtd\",,\"StudyData\", \"Close(\"&$D$12&\") when LocalYear(\"&$D$12&\")=\"&$D$2&\" and localMonth(\"&$D$12&\") =\"&$E$2&\" and LocalDay(\"&$D$12&\")=\"&$F$2&\" and Barix(\"&$D$12&\",reference:=StartOfSession)=\"&A20&\"\", \"Bar\", \"\", \"Close\",\"5\",\"0\",\"PrimaryOnly\",,,\"False\",\"T\",\"EveryTick\")","v":65.209999999999994},-2.2192232718548567E-2,{"$f":"RTD(\"cqg.rtd\",,\"StudyData\", \"Close(\"&$D$12&\") when LocalYear(\"&$D$12&\")=\"&$D$3&\" and localMonth(\"&$D$12&\") =\"&$E$3&\" and LocalDay(\"&$D$12&\")=\"&$F$3&\" and Barix(\"&$D$12&\",reference:=StartOfSession)=\"&A20&\"\", \"Bar\", \"\", \"Close\",\"5\",\"0\",\"PrimaryOnly\",,,\"False\",\"T\",\"EveryTick\")","v":66.400000000000006},-1.8039687312085139E-3,{"$f":"RTD(\"cqg.rtd\",,\"StudyData\", \"Close(\"&$D$12&\") when LocalYear(\"&$D$12&\")=\"&$D$4&\" and localMonth(\"&$D$12&\") =\"&$E$4&\" and LocalDay(\"&$D$12&\")=\"&$F$4&\" and Barix(\"&$D$12&\",reference:=StartOfSession)=\"&A20&\"\", \"Bar\", \"\", \"Close\",\"5\",\"0\",\"PrimaryOnly\",,,\"False\",\"T\",\"EveryTick\")","v":66.44},2.4140012070005519E-3,{"$f":"RTD(\"cqg.rtd\",,\"StudyData\", \"Close(\"&$D$12&\") when LocalYear(\"&$D$12&\")=\"&$D$5&\" and localMonth(\"&$D$12&\") =\"&$E$5&\" and LocalDay(\"&$D$12&\")=\"&$F$5&\" and Barix(\"&$D$12&\",reference:=StartOfSession)=\"&A20&\"\", \"Bar\", \"\", \"Close\",\"5\",\"0\",\"PrimaryOnly\",,,\"False\",\"T\",\"EveryTick\")","v":66.430000000000007},6.0578524912919228E-3,{"$f":"RTD(\"cqg.rtd\",,\"StudyData\", \"Close(\"&$D$12&\") when LocalYear(\"&$D$12&\")=\"&$D$6&\" and localMonth(\"&$D$12&\") =\"&$E$6&\" and LocalDay(\"&$D$12&\")=\"&$F$6&\" and Barix(\"&$D$12&\",reference:=StartOfSession)=\"&A20&\"\", \"Bar\", \"\", \"Close\",\"5\",\"0\",\"PrimaryOnly\",,,\"False\",\"T\",\"EveryTick\")","v":65.790000000000006},1.8273184102330523E-3,{"$f":"RTD(\"cqg.rtd\",,\"StudyData\", \"Close(\"&$D$12&\") when LocalYear(\"&$D$12&\")=\"&$D$7&\" and localMonth(\"&$D$12&\") =\"&$E$7&\" and LocalDay(\"&$D$12&\")=\"&$F$7&\" and Barix(\"&$D$12&\",reference:=StartOfSession)=\"&A20&\"\", \"Bar\", \"\", \"Close\",\"5\",\"0\",\"PrimaryOnly\",,,\"False\",\"T\",\"EveryTick\")","v":66.03},2.1247533768401967E-3,{"$f":"RTD(\"cqg.rtd\",,\"StudyData\", \"Close(\"&$D$12&\") when LocalYear(\"&$D$12&\")=\"&$D$8&\" and localMonth(\"&$D$12&\") =\"&$E$8&\" and LocalDay(\"&$D$12&\")=\"&$F$8&\" and Barix(\"&$D$12&\",reference:=StartOfSession)=\"&A20&\"\", \"Bar\", \"\", \"Close\",\"5\",\"0\",\"PrimaryOnly\",,,\"False\",\"T\",\"EveryTick\")","v":65.599999999999994},1.391035548686231E-2,{"$f":"RTD(\"cqg.rtd\",,\"StudyData\", \"Close(\"&$D$12&\") when LocalYear(\"&$D$12&\")=\"&$D$9&\" and localMonth(\"&$D$12&\") =\"&$E$9&\" and LocalDay(\"&$D$12&\")=\"&$F$9&\" and Barix(\"&$D$12&\",reference:=StartOfSession)=\"&A20&\"\", \"Bar\", \"\", \"Close\",\"5\",\"0\",\"PrimaryOnly\",,,\"False\",\"T\",\"EveryTick\")","v":64.69},-1.176290864650162E-2,{"$f":"RTD(\"cqg.rtd\",,\"StudyData\", \"Close(\"&$D$12&\") when LocalYear(\"&$D$12&\")=\"&$D$10&\" and localMonth(\"&$D$12&\") =\"&$E$10&\" and LocalDay(\"&$D$12&\")=\"&$F$10&\" and Barix(\"&$D$12&\",reference:=StartOfSession)=\"&A20&\"\", \"Bar\", \"\", \"Close\",\"5\",\"0\",\"PrimaryOnly\",,,\"False\",\"T\",\"EveryTick\")","v":64.760000000000005},1.236858379715496E-3,null,null,null,""]
[20,"09:40:00",null,3,"#.000",null,"2018-06-06",{"$f":"RTD(\"cqg.rtd\",,\"StudyData\", \"Close(\"&$D$12&\") when LocalYear(\"&$D$12&\")=\"&$D$1&\" and localMonth(\"&$D$12&\") =\"&$E$1&\" and LocalDay(\"&$D$12&\")=\"&$F$1&\" and Barix(\"&$D$12&\",reference:=StartOfSession)=\"&A21&\"\", \"Bar\", \"\", \"Close\",\"5\",\"0\",\"PrimaryOnly\",,,\"False\",\"T\",\"EveryTick\")","v":""},{"$error":"#N/A"},{"$f":"RTD(\"cqg.rtd\",,\"StudyData\", \"Close(\"&$D$12&\") when LocalYear(\"&$D$12&\")=\"&$D$2&\" and localMonth(\"&$D$12&\") =\"&$E$2&\" and LocalDay(\"&$D$12&\")=\"&$F$2&\" and Barix(\"&$D$12&\",reference:=StartOfSession)=\"&A21&\"\", \"Bar\", \"\", \"Close\",\"5\",\"0\",\"PrimaryOnly\",,,\"False\",\"T\",\"EveryTick\")","v":65.28},-2.1142600089968461E-2,{"$f":"RTD(\"cqg.rtd\",,\"StudyData\", \"Close(\"&$D$12&\") when LocalYear(\"&$D$12&\")=\"&$D$3&\" and localMonth(\"&$D$12&\") =\"&$E$3&\" and LocalDay(\"&$D$12&\")=\"&$F$3&\" and Barix(\"&$D$12&\",reference:=StartOfSession)=\"&A21&\"\", \"Bar\", \"\", \"Close\",\"5\",\"0\",\"PrimaryOnly\",,,\"False\",\"T\",\"EveryTick\")","v":66.27},-3.7582681900180399E-3,{"$f":"RTD(\"cqg.rtd\",,\"StudyData\", \"Close(\"&$D$12&\") when LocalYear(\"&$D$12&\")=\"&$D$4&\" and localMonth(\"&$D$12&\") =\"&$E$4&\" and LocalDay(\"&$D$12&\")=\"&$F$4&\" and Barix(\"&$D$12&\",reference:=StartOfSession)=\"&A21&\"\", \"Bar\", \"\", \"Close\",\"5\",\"0\",\"PrimaryOnly\",,,\"False\",\"T\",\"EveryTick\")","v":66.44},2.4140012070005519E-3,{"$f":"RTD(\"cqg.rtd\",,\"StudyData\", \"Close(\"&$D$12&\") when LocalYear(\"&$D$12&\")=\"&$D$5&\" and localMonth(\"&$D$12&\") =\"&$E$5&\" and LocalDay(\"&$D$12&\")=\"&$F$5&\" and Barix(\"&$D$12&\",reference:=StartOfSession)=\"&A21&\"\", \"Bar\", \"\", \"Close\",\"5\",\"0\",\"PrimaryOnly\",,,\"False\",\"T\",\"EveryTick\")","v":66.540000000000006},7.7237619263971699E-3,{"$f":"RTD(\"cqg.rtd\",,\"StudyData\", \"Close(\"&$D$12&\") when LocalYear(\"&$D$12&\")=\"&$D$6&\" and localMonth(\"&$D$12&\") =\"&$E$6&\" and LocalDay(\"&$D$12&\")=\"&$F$6&\" and Barix(\"&$D$12&\",reference:=StartOfSession)=\"&A21&\"\", \"Bar\", \"\", \"Close\",\"5\",\"0\",\"PrimaryOnly\",,,\"False\",\"T\",\"EveryTick\")","v":65.680000000000007},1.5227653418615981E-4,{"$f":"RTD(\"cqg.rtd\",,\"StudyData\", \"Close(\"&$D$12&\") when LocalYear(\"&$D$12&\")=\"&$D$7&\" and localMonth(\"&$D$12&\") =\"&$E$7&\" and LocalDay(\"&$D$12&\")=\"&$F$7&\" and Barix(\"&$D$12&\",reference:=StartOfSession)=\"&A21&\"\", \"Bar\", \"\", \"Close\",\"5\",\"0\",\"PrimaryOnly\",,,\"False\",\"T\",\"EveryTick\")","v":65.989999999999995},1.5176809834571911E-3,{"$f":"RTD(\"cqg.rtd\",,\"StudyData\", \"Close(\"&$D$12&\") when LocalYear(\"&$D$12&\")=\"&$D$8&\" and localMonth(\"&$D$12&\") =\"&$E$8&\" and LocalDay(\"&$D$12&\")=\"&$F$8&\" and Barix(\"&$D$12&\",reference:=StartOfSession)=\"&A21&\"\", \"Bar\", \"\", \"Close\",\"5\",\"0\",\"PrimaryOnly\",,,\"False\",\"T\",\"EveryTick\")","v":65.680000000000007},1.5146831530139165E-2,{"$f":"RTD(\"cqg.rtd\",,\"StudyData\", \"Close(\"&$D$12&\") when LocalYear(\"&$D$12&\")=\"&$D$9&\" and localMonth(\"&$D$12&\") =\"&$E$9&\" and LocalDay(\"&$D$12&\")=\"&$F$9&\" and Barix(\"&$D$12&\",reference:=StartOfSession)=\"&A21&\"\", \"Bar\", \"\", \"Close\",\"5\",\"0\",\"PrimaryOnly\",,,\"False\",\"T\",\"EveryTick\")","v":64.489999999999995},-1.4818209593644958E-2,{"$f":"RTD(\"cqg.rtd\",,\"StudyData\", \"Close(\"&$D$12&\") when LocalYear(\"&$D$12&\")=\"&$D$10&\" and localMonth(\"&$D$12&\") =\"&$E$10&\" and LocalDay(\"&$D$12&\")=\"&$F$10&\" and Barix(\"&$D$12&\",reference:=StartOfSession)=\"&A21&\"\", \"Bar\", \"\", \"Close\",\"5\",\"0\",\"PrimaryOnly\",,,\"False\",\"T\",\"EveryTick\")","v":64.64},-6.1842918985785793E-4,null,null,null,""]
[21,"09:45:00",null,4,"#.0000",null,"2018-06-05",{"$f":"RTD(\"cqg.rtd\",,\"StudyData\", \"Close(\"&$D$12&\") when LocalYear(\"&$D$12&\")=\"&$D$1&\" and localMonth(\"&$D$12&\") =\"&$E$1&\" and LocalDay(\"&$D$12&\")=\"&$F$1&\" and Barix(\"&$D$12&\",reference:=StartOfSession)=\"&A22&\"\", \"Bar\", \"\", \"Close\",\"5\",\"0\",\"PrimaryOnly\",,,\"False\",\"T\",\"EveryTick\")","v":""},{"$error":"#N/A"},{"$f":"RTD(\"cqg.rtd\",,\"StudyData\", \"Close(\"&$D$12&\") when LocalYear(\"&$D$12&\")=\"&$D$2&\" and localMonth(\"&$D$12&\") =\"&$E$2&\" and LocalDay(\"&$D$12&\")=\"&$F$2&\" and Barix(\"&$D$12&\",reference:=StartOfSession)=\"&A22&\"\", \"Bar\", \"\", \"Close\",\"5\",\"0\",\"PrimaryOnly\",,,\"False\",\"T\",\"EveryTick\")","v":65.25},-2.1592442645074192E-2,{"$f":"RTD(\"cqg.rtd\",,\"StudyData\", \"Close(\"&$D$12&\") when LocalYear(\"&$D$12&\")=\"&$D$3&\" and localMonth(\"&$D$12&\") =\"&$E$3&\" and LocalDay(\"&$D$12&\")=\"&$F$3&\" and Barix(\"&$D$12&\",reference:=StartOfSession)=\"&A22&\"\", \"Bar\", \"\", \"Close\",\"5\",\"0\",\"PrimaryOnly\",,,\"False\",\"T\",\"EveryTick\")","v":66.290000000000006},-3.4576067348164427E-3,{"$f":"RTD(\"cqg.rtd\",,\"StudyData\", \"Close(\"&$D$12&\") when LocalYear(\"&$D$12&\")=\"&$D$4&\" and localMonth(\"&$D$12&\") =\"&$E$4&\" and LocalDay(\"&$D$12&\")=\"&$F$4&\" and Barix(\"&$D$12&\",reference:=StartOfSession)=\"&A22&\"\", \"Bar\", \"\", \"Close\",\"5\",\"0\",\"PrimaryOnly\",,,\"False\",\"T\",\"EveryTick\")","v":66.45},2.5648762824381668E-3,{"$f":"RTD(\"cqg.rtd\",,\"StudyData\", \"Close(\"&$D$12&\") when LocalYear(\"&$D$12&\")=\"&$D$5&\" and localMonth(\"&$D$12&\") =\"&$E$5&\" and LocalDay(\"&$D$12&\")=\"&$F$5&\" and Barix(\"&$D$12&\",reference:=StartOfSession)=\"&A22&\"\", \"Bar\", \"\", \"Close\",\"5\",\"0\",\"PrimaryOnly\",,,\"False\",\"T\",\"EveryTick\")","v":66.459999999999994},6.5121914281386127E-3,{"$f":"RTD(\"cqg.rtd\",,\"StudyData\", \"Close(\"&$D$12&\") when LocalYear(\"&$D$12&\")=\"&$D$6&\" and localMonth(\"&$D$12&\") =\"&$E$6&\" and LocalDay(\"&$D$12&\")=\"&$F$6&\" and Barix(\"&$D$12&\",reference:=StartOfSession)=\"&A22&\"\", \"Bar\", \"\", \"Close\",\"5\",\"0\",\"PrimaryOnly\",,,\"False\",\"T\",\"EveryTick\")","v":65.7},4.5682960255826306E-4,{"$f":"RTD(\"cqg.rtd\",,\"StudyData\", \"Close(\"&$D$12&\") when LocalYear(\"&$D$12&\")=\"&$D$7&\" and localMonth(\"&$D$12&\") =\"&$E$7&\" and LocalDay(\"&$D$12&\")=\"&$F$7&\" and Barix(\"&$D$12&\",reference:=StartOfSession)=\"&A22&\"\", \"Bar\", \"\", \"Close\",\"5\",\"0\",\"PrimaryOnly\",,,\"False\",\"T\",\"EveryTick\")","v":65.91},3.0353619669139508E-4,{"$f":"RTD(\"cqg.rtd\",,\"StudyData\", \"Close(\"&$D$12&\") when LocalYear(\"&$D$12&\")=\"&$D$8&\" and localMonth(\"&$D$12&\") =\"&$E$8&\" and LocalDay(\"&$D$12&\")=\"&$F$8&\" and Barix(\"&$D$12&\",reference:=StartOfSession)=\"&A22&\"\", \"Bar\", \"\", \"Close\",\"5\",\"0\",\"PrimaryOnly\",,,\"False\",\"T\",\"EveryTick\")","v":65.75},1.6228748068006137E-2,{"$f":"RTD(\"cqg.rtd\",,\"StudyData\", \"Close(\"&$D$12&\") when LocalYear(\"&$D$12&\")=\"&$D$9&\" and localMonth(\"&$D$12&\") =\"&$E$9&\" and LocalDay(\"&$D$12&\")=\"&$F$9&\" and Barix(\"&$D$12&\",reference:=StartOfSession)=\"&A22&\"\", \"Bar\", \"\", \"Close\",\"5\",\"0\",\"PrimaryOnly\",,,\"False\",\"T\",\"EveryTick\")","v":64.39},-1.6345860067216517E-2,{"$f":"RTD(\"cqg.rtd\",,\"StudyData\", \"Close(\"&$D$12&\") when LocalYear(\"&$D$12&\")=\"&$D$10&\" and localMonth(\"&$D$12&\") =\"&$E$10&\" and LocalDay(\"&$D$12&\")=\"&$F$10&\" and Barix(\"&$D$12&\",reference:=StartOfSession)=\"&A22&\"\", \"Bar\", \"\", \"Close\",\"5\",\"0\",\"PrimaryOnly\",,,\"False\",\"T\",\"EveryTick\")","v":64.55},-2.0098948670378733E-3,null,null,null,""]
[22,"09:50:00",null,5,"#.00000",null,null,{"$f":"RTD(\"cqg.rtd\",,\"StudyData\", \"Close(\"&$D$12&\") when LocalYear(\"&$D$12&\")=\"&$D$1&\" and localMonth(\"&$D$12&\") =\"&$E$1&\" and LocalDay(\"&$D$12&\")=\"&$F$1&\" and Barix(\"&$D$12&\",reference:=StartOfSession)=\"&A23&\"\", \"Bar\", \"\", \"Close\",\"5\",\"0\",\"PrimaryOnly\",,,\"False\",\"T\",\"EveryTick\")","v":""},{"$error":"#N/A"},{"$f":"RTD(\"cqg.rtd\",,\"StudyData\", \"Close(\"&$D$12&\") when LocalYear(\"&$D$12&\")=\"&$D$2&\" and localMonth(\"&$D$12&\") =\"&$E$2&\" and LocalDay(\"&$D$12&\")=\"&$F$2&\" and Barix(\"&$D$12&\",reference:=StartOfSession)=\"&A23&\"\", \"Bar\", \"\", \"Close\",\"5\",\"0\",\"PrimaryOnly\",,,\"False\",\"T\",\"EveryTick\")","v":65.099999999999994},-2.3841655420602841E-2,{"$f":"RTD(\"cqg.rtd\",,\"StudyData\", \"Close(\"&$D$12&\") when LocalYear(\"&$D$12&\")=\"&$D$3&\" and localMonth(\"&$D$12&\") =\"&$E$3&\" and LocalDay(\"&$D$12&\")=\"&$F$3&\" and Barix(\"&$D$12&\",reference:=StartOfSession)=\"&A23&\"\", \"Bar\", \"\", \"Close\",\"5\",\"0\",\"PrimaryOnly\",,,\"False\",\"T\",\"EveryTick\")","v":66.239999999999995},-4.209260372820222E-3,{"$f":"RTD(\"cqg.rtd\",,\"StudyData\", \"Close(\"&$D$12&\") when LocalYear(\"&$D$12&\")=\"&$D$4&\" and localMonth(\"&$D$12&\") =\"&$E$4&\" and LocalDay(\"&$D$12&\")=\"&$F$4&\" and Barix(\"&$D$12&\",reference:=StartOfSession)=\"&A23&\"\", \"Bar\", \"\", \"Close\",\"5\",\"0\",\"PrimaryOnly\",,,\"False\",\"T\",\"EveryTick\")","v":66.37},1.3578756789378909E-3,{"$f":"RTD(\"cqg.rtd\",,\"StudyData\", \"Close(\"&$D$12&\") when LocalYear(\"&$D$12&\")=\"&$D$5&\" and localMonth(\"&$D$12&\") =\"&$E$5&\" and LocalDay(\"&$D$12&\")=\"&$F$5&\" and Barix(\"&$D$12&\",reference:=StartOfSession)=\"&A23&\"\", \"Bar\", \"\", \"Close\",\"5\",\"0\",\"PrimaryOnly\",,,\"False\",\"T\",\"EveryTick\")","v":66.42},5.9064061790095497E-3,{"$f":"RTD(\"cqg.rtd\",,\"StudyData\", \"Close(\"&$D$12&\") when LocalYear(\"&$D$12&\")=\"&$D$6&\" and localMonth(\"&$D$12&\") =\"&$E$6&\" and LocalDay(\"&$D$12&\")=\"&$F$6&\" and Barix(\"&$D$12&\",reference:=StartOfSession)=\"&A23&\"\", \"Bar\", \"\", \"Close\",\"5\",\"0\",\"PrimaryOnly\",,,\"False\",\"T\",\"EveryTick\")","v":65.67},0,{"$f":"RTD(\"cqg.rtd\",,\"StudyData\", \"Close(\"&$D$12&\") when LocalYear(\"&$D$12&\")=\"&$D$7&\" and localMonth(\"&$D$12&\") =\"&$E$7&\" and LocalDay(\"&$D$12&\")=\"&$F$7&\" and Barix(\"&$D$12&\",reference:=StartOfSession)=\"&A23&\"\", \"Bar\", \"\", \"Close\",\"5\",\"0\",\"PrimaryOnly\",,,\"False\",\"T\",\"EveryTick\")","v":65.94},7.5884049172859555E-4,{"$f":"RTD(\"cqg.rtd\",,\"StudyData\", \"Close(\"&$D$12&\") when LocalYear(\"&$D$12&\")=\"&$D$8&\" and localMonth(\"&$D$12&\") =\"&$E$8&\" and LocalDay(\"&$D$12&\")=\"&$F$8&\" and Barix(\"&$D$12&\",reference:=StartOfSession)=\"&A23&\"\", \"Bar\", \"\", \"Close\",\"5\",\"0\",\"PrimaryOnly\",,,\"False\",\"T\",\"EveryTick\")","v":65.75},1.6228748068006137E-2,{"$f":"RTD(\"cqg.rtd\",,\"StudyData\", \"Close(\"&$D$12&\") when LocalYear(\"&$D$12&\")=\"&$D$9&\" and localMonth(\"&$D$12&\") =\"&$E$9&\" and LocalDay(\"&$D$12&\")=\"&$F$9&\" and Barix(\"&$D$12&\",reference:=StartOfSession)=\"&A23&\"\", \"Bar\", \"\", \"Close\",\"5\",\"0\",\"PrimaryOnly\",,,\"False\",\"T\",\"EveryTick\")","v":64.44},-1.5582034830430738E-2,{"$f":"RTD(\"cqg.rtd\",,\"StudyData\", \"Close(\"&$D$12&\") when LocalYear(\"&$D$12&\")=\"&$D$10&\" and localMonth(\"&$D$12&\") =\"&$E$10&\" and LocalDay(\"&$D$12&\")=\"&$F$10&\" and Barix(\"&$D$12&\",reference:=StartOfSession)=\"&A23&\"\", \"Bar\", \"\", \"Close\",\"5\",\"0\",\"PrimaryOnly\",,,\"False\",\"T\",\"EveryTick\")","v":64.59},-1.3914656771800156E-3,null,null,null,""]
[23,"09:55:00",null,6,"#.000000",null,null,{"$f":"RTD(\"cqg.rtd\",,\"StudyData\", \"Close(\"&$D$12&\") when LocalYear(\"&$D$12&\")=\"&$D$1&\" and localMonth(\"&$D$12&\") =\"&$E$1&\" and LocalDay(\"&$D$12&\")=\"&$F$1&\" and Barix(\"&$D$12&\",reference:=StartOfSession)=\"&A24&\"\", \"Bar\", \"\", \"Close\",\"5\",\"0\",\"PrimaryOnly\",,,\"False\",\"T\",\"EveryTick\")","v":""},{"$error":"#N/A"},{"$f":"RTD(\"cqg.rtd\",,\"StudyData\", \"Close(\"&$D$12&\") when LocalYear(\"&$D$12&\")=\"&$D$2&\" and localMonth(\"&$D$12&\") =\"&$E$2&\" and LocalDay(\"&$D$12&\")=\"&$F$2&\" and Barix(\"&$D$12&\",reference:=StartOfSession)=\"&A24&\"\", \"Bar\", \"\", \"Close\",\"5\",\"0\",\"PrimaryOnly\",,,\"False\",\"T\",\"EveryTick\")","v":64.900000000000006},-2.6840605787974092E-2,{"$f":"RTD(\"cqg.rtd\",,\"StudyData\", \"Close(\"&$D$12&\") when LocalYear(\"&$D$12&\")=\"&$D$3&\" and localMonth(\"&$D$12&\") =\"&$E$3&\" and LocalDay(\"&$D$12&\")=\"&$F$3&\" and Barix(\"&$D$12&\",reference:=StartOfSession)=\"&A24&\"\", \"Bar\", \"\", \"Close\",\"5\",\"0\",\"PrimaryOnly\",,,\"False\",\"T\",\"EveryTick\")","v":66.319999999999993},-3.0066145520144748E-3,{"$f":"RTD(\"cqg.rtd\",,\"StudyData\", \"Close(\"&$D$12&\") when LocalYear(\"&$D$12&\")=\"&$D$4&\" and localMonth(\"&$D$12&\") =\"&$E$4&\" and LocalDay(\"&$D$12&\")=\"&$F$4&\" and Barix(\"&$D$12&\",reference:=StartOfSession)=\"&A24&\"\", \"Bar\", \"\", \"Close\",\"5\",\"0\",\"PrimaryOnly\",,,\"False\",\"T\",\"EveryTick\")","v":66.430000000000007},2.2631261315631517E-3,{"$f":"RTD(\"cqg.rtd\",,\"StudyData\", \"Close(\"&$D$12&\") when LocalYear(\"&$D$12&\")=\"&$D$5&\" and localMonth(\"&$D$12&\") =\"&$E$5&\" and LocalDay(\"&$D$12&\")=\"&$F$5&\" and Barix(\"&$D$12&\",reference:=StartOfSession)=\"&A24&\"\", \"Bar\", \"\", \"Close\",\"5\",\"0\",\"PrimaryOnly\",,,\"False\",\"T\",\"EveryTick\")","v":66.41},5.7549598667271766E-3,{"$f":"RTD(\"cqg.rtd\",,\"StudyData\", \"Close(\"&$D$12&\") when LocalYear(\"&$D$12&\")=\"&$D$6&\" and localMonth(\"&$D$12&\") =\"&$E$6&\" and LocalDay(\"&$D$12&\")=\"&$F$6&\" and Barix(\"&$D$12&\",reference:=StartOfSession)=\"&A24&\"\", \"Bar\", \"\", \"Close\",\"5\",\"0\",\"PrimaryOnly\",,,\"False\",\"T\",\"EveryTick\")","v":65.64},-4.5682960255826306E-4,{"$f":"RTD(\"cqg.rtd\",,\"StudyData\", \"Close(\"&$D$12&\") when LocalYear(\"&$D$12&\")=\"&$D$7&\" and localMonth(\"&$D$12&\") =\"&$E$7&\" and LocalDay(\"&$D$12&\")=\"&$F$7&\" and Barix(\"&$D$12&\",reference:=StartOfSession)=\"&A24&\"\", \"Bar\", \"\", \"Close\",\"5\",\"0\",\"PrimaryOnly\",,,\"False\",\"T\",\"EveryTick\")","v":65.64},-3.7942024586431933E-3,{"$f":"RTD(\"cqg.rtd\",,\"StudyData\", \"Close(\"&$D$12&\") when LocalYear(\"&$D$12&\")=\"&$D$8&\" and localMonth(\"&$D$12&\") =\"&$E$8&\" and LocalDay(\"&$D$12&\")=\"&$F$8&\" and Barix(\"&$D$12&\",reference:=StartOfSession)=\"&A24&\"\", \"Bar\", \"\", \"Close\",\"5\",\"0\",\"PrimaryOnly\",,,\"False\",\"T\",\"EveryTick\")","v":65.75},1.6228748068006137E-2,{"$f":"RTD(\"cqg.rtd\",,\"StudyData\", \"Close(\"&$D$12&\") when LocalYear(\"&$D$12&\")=\"&$D$9&\" and localMonth(\"&$D$12&\") =\"&$E$9&\" and LocalDay(\"&$D$12&\")=\"&$F$9&\" and Barix(\"&$D$12&\",reference:=StartOfSession)=\"&A24&\"\", \"Bar\", \"\", \"Close\",\"5\",\"0\",\"PrimaryOnly\",,,\"False\",\"T\",\"EveryTick\")","v":64.52},-1.4359914451573447E-2,{"$f":"RTD(\"cqg.rtd\",,\"StudyData\", \"Close(\"&$D$12&\") when LocalYear(\"&$D$12&\")=\"&$D$10&\" and localMonth(\"&$D$12&\") =\"&$E$10&\" and LocalDay(\"&$D$12&\")=\"&$F$10&\" and Barix(\"&$D$12&\",reference:=StartOfSession)=\"&A24&\"\", \"Bar\", \"\", \"Close\",\"5\",\"0\",\"PrimaryOnly\",,,\"False\",\"T\",\"EveryTick\")","v":64.72},6.1842918985763817E-4,null,null,null,""]
[24,"10:00:00",null,7,"#.0000000",null,null,{"$f":"RTD(\"cqg.rtd\",,\"StudyData\", \"Close(\"&$D$12&\") when LocalYear(\"&$D$12&\")=\"&$D$1&\" and localMonth(\"&$D$12&\") =\"&$E$1&\" and LocalDay(\"&$D$12&\")=\"&$F$1&\" and Barix(\"&$D$12&\",reference:=StartOfSession)=\"&A25&\"\", \"Bar\", \"\", \"Close\",\"5\",\"0\",\"PrimaryOnly\",,,\"False\",\"T\",\"EveryTick\")","v":""},{"$error":"#N/A"},{"$f":"RTD(\"cqg.rtd\",,\"StudyData\", \"Close(\"&$D$12&\") when LocalYear(\"&$D$12&\")=\"&$D$2&\" and localMonth(\"&$D$12&\") =\"&$E$2&\" and LocalDay(\"&$D$12&\")=\"&$F$2&\" and Barix(\"&$D$12&\",reference:=StartOfSession)=\"&A25&\"\", \"Bar\", \"\", \"Close\",\"5\",\"0\",\"PrimaryOnly\",,,\"False\",\"T\",\"EveryTick\")","v":64.88},-2.7140500824711387E-2,{"$f":"RTD(\"cqg.rtd\",,\"StudyData\", \"Close(\"&$D$12&\") when LocalYear(\"&$D$12&\")=\"&$D$3&\" and localMonth(\"&$D$12&\") =\"&$E$3&\" and LocalDay(\"&$D$12&\")=\"&$F$3&\" and Barix(\"&$D$12&\",reference:=StartOfSession)=\"&A25&\"\", \"Bar\", \"\", \"Close\",\"5\",\"0\",\"PrimaryOnly\",,,\"False\",\"T\",\"EveryTick\")","v":66.349999999999994},-2.5556223692122927E-3,{"$f":"RTD(\"cqg.rtd\",,\"StudyData\", \"Close(\"&$D$12&\") when LocalYear(\"&$D$12&\")=\"&$D$4&\" and localMonth(\"&$D$12&\") =\"&$E$4&\" and LocalDay(\"&$D$12&\")=\"&$F$4&\" and Barix(\"&$D$12&\",reference:=StartOfSession)=\"&A25&\"\", \"Bar\", \"\", \"Close\",\"5\",\"0\",\"PrimaryOnly\",,,\"False\",\"T\",\"EveryTick\")","v":66.47},2.8666264333131824E-3,{"$f":"RTD(\"cqg.rtd\",,\"StudyData\", \"Close(\"&$D$12&\") when LocalYear(\"&$D$12&\")=\"&$D$5&\" and localMonth(\"&$D$12&\") =\"&$E$5&\" and LocalDay(\"&$D$12&\")=\"&$F$5&\" and Barix(\"&$D$12&\",reference:=StartOfSession)=\"&A25&\"\", \"Bar\", \"\", \"Close\",\"5\",\"0\",\"PrimaryOnly\",,,\"False\",\"T\",\"EveryTick\")","v":66.34},4.6948356807512076E-3,{"$f":"RTD(\"cqg.rtd\",,\"StudyData\", \"Close(\"&$D$12&\") when LocalYear(\"&$D$12&\")=\"&$D$6&\" and localMonth(\"&$D$12&\") =\"&$E$6&\" and LocalDay(\"&$D$12&\")=\"&$F$6&\" and Barix(\"&$D$12&\",reference:=StartOfSession)=\"&A25&\"\", \"Bar\", \"\", \"Close\",\"5\",\"0\",\"PrimaryOnly\",,,\"False\",\"T\",\"EveryTick\")","v":65.62},-7.6138267093036629E-4,{"$f":"RTD(\"cqg.rtd\",,\"StudyData\", \"Close(\"&$D$12&\") when LocalYear(\"&$D$12&\")=\"&$D$7&\" and localMonth(\"&$D$12&\") =\"&$E$7&\" and LocalDay(\"&$D$12&\")=\"&$F$7&\" and Barix(\"&$D$12&\",reference:=StartOfSession)=\"&A25&\"\", \"Bar\", \"\", \"Close\",\"5\",\"0\",\"PrimaryOnly\",,,\"False\",\"T\",\"EveryTick\")","v":65.27},-9.4096220974351878E-3,{"$f":"RTD(\"cqg.rtd\",,\"StudyData\", \"Close(\"&$D$12&\") when LocalYear(\"&$D$12&\")=\"&$D$8&\" and localMonth(\"&$D$12&\") =\"&$E$8&\" and LocalDay(\"&$D$12&\")=\"&$F$8&\" and Barix(\"&$D$12&\",reference:=StartOfSession)=\"&A25&\"\", \"Bar\", \"\", \"Close\",\"5\",\"0\",\"PrimaryOnly\",,,\"False\",\"T\",\"EveryTick\")","v":65.78},1.6692426584234903E-2,{"$f":"RTD(\"cqg.rtd\",,\"StudyData\", \"Close(\"&$D$12&\") when LocalYear(\"&$D$12&\")=\"&$D$9&\" and localMonth(\"&$D$12&\") =\"&$E$9&\" and LocalDay(\"&$D$12&\")=\"&$F$9&\" and Barix(\"&$D$12&\",reference:=StartOfSession)=\"&A25&\"\", \"Bar\", \"\", \"Close\",\"5\",\"0\",\"PrimaryOnly\",,,\"False\",\"T\",\"EveryTick\")","v":64.59},-1.3290559120073181E-2,{"$f":"RTD(\"cqg.rtd\",,\"StudyData\", \"Close(\"&$D$12&\") when LocalYear(\"&$D$12&\")=\"&$D$10&\" and localMonth(\"&$D$12&\") =\"&$E$10&\" and LocalDay(\"&$D$12&\")=\"&$F$10&\" and Barix(\"&$D$12&\",reference:=StartOfSession)=\"&A25&\"\", \"Bar\", \"\", \"Close\",\"5\",\"0\",\"PrimaryOnly\",,,\"False\",\"T\",\"EveryTick\")","v":64.59},-1.3914656771800156E-3,null,null,null,""]
[25,"10:05:00",{"$f":"IF(WEEKDAY(TODAY())=7,TODAY()-1,IF(WEEKDAY(TODAY())=1,TODAY()-2,TODAY()))","v":"2018-06-18"},{"$f":"YEAR(C26)","v":2018},{"$f":"MONTH(C26)","v":6},{"$f":"DAY(C26)","v":18},null,{"$f":"RTD(\"cqg.rtd\",,\"StudyData\", \"Close(\"&$D$12&\") when LocalYear(\"&$D$12&\")=\"&$D$1&\" and localMonth(\"&$D$12&\") =\"&$E$1&\" and LocalDay(\"&$D$12&\")=\"&$F$1&\" and Barix(\"&$D$12&\",reference:=StartOfSession)=\"&A26&\"\", \"Bar\", \"\", \"Close\",\"5\",\"0\",\"PrimaryOnly\",,,\"False\",\"T\",\"EveryTick\")","v":""},{"$error":"#N/A"},{"$f":"RTD(\"cqg.rtd\",,\"StudyData\", \"Close(\"&$D$12&\") when LocalYear(\"&$D$12&\")=\"&$D$2&\" and localMonth(\"&$D$12&\") =\"&$E$2&\" and LocalDay(\"&$D$12&\")=\"&$F$2&\" and Barix(\"&$D$12&\",reference:=StartOfSession)=\"&A26&\"\", \"Bar\", \"\", \"Close\",\"5\",\"0\",\"PrimaryOnly\",,,\"False\",\"T\",\"EveryTick\")","v":64.78},-2.863997600839701E-2,{"$f":"RTD(\"cqg.rtd\",,\"StudyData\", \"Close(\"&$D$12&\") when LocalYear(\"&$D$12&\")=\"&$D$3&\" and localMonth(\"&$D$12&\") =\"&$E$3&\" and LocalDay(\"&$D$12&\")=\"&$F$3&\" and Barix(\"&$D$12&\",reference:=StartOfSession)=\"&A26&\"\", \"Bar\", \"\", \"Close\",\"5\",\"0\",\"PrimaryOnly\",,,\"False\",\"T\",\"EveryTick\")","v":66.37},-2.2549609140106956E-3,{"$f":"RTD(\"cqg.rtd\",,\"StudyData\", \"Close(\"&$D$12&\") when LocalYear(\"&$D$12&\")=\"&$D$4&\" and localMonth(\"&$D$12&\") =\"&$E$4&\" and LocalDay(\"&$D$12&\")=\"&$F$4&\" and Barix(\"&$D$12&\",reference:=StartOfSession)=\"&A26&\"\", \"Bar\", \"\", \"Close\",\"5\",\"0\",\"PrimaryOnly\",,,\"False\",\"T\",\"EveryTick\")","v":66.38},1.5087507543752913E-3,{"$f":"RTD(\"cqg.rtd\",,\"StudyData\", \"Close(\"&$D$12&\") when LocalYear(\"&$D$12&\")=\"&$D$5&\" and localMonth(\"&$D$12&\") =\"&$E$5&\" and LocalDay(\"&$D$12&\")=\"&$F$5&\" and Barix(\"&$D$12&\",reference:=StartOfSession)=\"&A26&\"\", \"Bar\", \"\", \"Close\",\"5\",\"0\",\"PrimaryOnly\",,,\"False\",\"T\",\"EveryTick\")","v":66.349999999999994},4.8462819930333665E-3,{"$f":"RTD(\"cqg.rtd\",,\"StudyData\", \"Close(\"&$D$12&\") when LocalYear(\"&$D$12&\")=\"&$D$6&\" and localMonth(\"&$D$12&\") =\"&$E$6&\" and LocalDay(\"&$D$12&\")=\"&$F$6&\" and Barix(\"&$D$12&\",reference:=StartOfSession)=\"&A26&\"\", \"Bar\", \"\", \"Close\",\"5\",\"0\",\"PrimaryOnly\",,,\"False\",\"T\",\"EveryTick\")","v":65.66},-1.5227653418615981E-4,{"$f":"RTD(\"cqg.rtd\",,\"StudyData\", \"Close(\"&$D$12&\") when LocalYear(\"&$D$12&\")=\"&$D$7&\" and localMonth(\"&$D$12&\") =\"&$E$7&\" and LocalDay(\"&$D$12&\")=\"&$F$7&\" and Barix(\"&$D$12&\",reference:=StartOfSession)=\"&A26&\"\", \"Bar\", \"\", \"Close\",\"5\",\"0\",\"PrimaryOnly\",,,\"False\",\"T\",\"EveryTick\")","v":65.25},-9.7131582941265837E-3,{"$f":"RTD(\"cqg.rtd\",,\"StudyData\", \"Close(\"&$D$12&\") when LocalYear(\"&$D$12&\")=\"&$D$8&\" and localMonth(\"&$D$12&\") =\"&$E$8&\" and LocalDay(\"&$D$12&\")=\"&$F$8&\" and Barix(\"&$D$12&\",reference:=StartOfSession)=\"&A26&\"\", \"Bar\", \"\", \"Close\",\"5\",\"0\",\"PrimaryOnly\",,,\"False\",\"T\",\"EveryTick\")","v":65.72},1.5765069551777373E-2,{"$f":"RTD(\"cqg.rtd\",,\"StudyData\", \"Close(\"&$D$12&\") when LocalYear(\"&$D$12&\")=\"&$D$9&\" and localMonth(\"&$D$12&\") =\"&$E$9&\" and LocalDay(\"&$D$12&\")=\"&$F$9&\" and Barix(\"&$D$12&\",reference:=StartOfSession)=\"&A26&\"\", \"Bar\", \"\", \"Close\",\"5\",\"0\",\"PrimaryOnly\",,,\"False\",\"T\",\"EveryTick\")","v":64.48},-1.4970974641001984E-2,{"$f":"RTD(\"cqg.rtd\",,\"StudyData\", \"Close(\"&$D$12&\") when LocalYear(\"&$D$12&\")=\"&$D$10&\" and localMonth(\"&$D$12&\") =\"&$E$10&\" and LocalDay(\"&$D$12&\")=\"&$F$10&\" and Barix(\"&$D$12&\",reference:=StartOfSession)=\"&A26&\"\", \"Bar\", \"\", \"Close\",\"5\",\"0\",\"PrimaryOnly\",,,\"False\",\"T\",\"EveryTick\")","v":64.58},-1.5460729746445349E-3,null,null,null,""]
[26,"10:10:00",{"$f":"WORKDAY(C26,-1)","v":"2018-06-15"},{"$f":"YEAR(C27)","v":2018},{"$f":"MONTH(C27)","v":6},{"$f":"DAY(C27)","v":15},{"$f":"IF(RTD(\"cqg.rtd\",,\"StudyData\", \"Close(\"&$D$12&\") when LocalYear(\"&$D$12&\")=\"&D27&\" and localMonth(\"&$D$12&\") =\"&E27&\" and LocalDay(\"&$D$12&\")=\"&F27&\" and Barix(\"&$D$12&\",reference:=StartOfSession)=65\", \"Bar\", \"\", \"Close\",\"5\",\"0\",\"PrimaryOnly\",,,\"False\",\"T\",\"EveryTick\")=\"\",2,1)","v":1},{"$f":"RTD(\"cqg.rtd\",,\"StudyData\", \"Close(\"&$D$12&\") when LocalYear(\"&$D$12&\")=\"&$D$1&\" and localMonth(\"&$D$12&\") =\"&$E$1&\" and LocalDay(\"&$D$12&\")=\"&$F$1&\" and Barix(\"&$D$12&\",reference:=StartOfSession)=\"&A27&\"\", \"Bar\", \"\", \"Close\",\"5\",\"0\",\"PrimaryOnly\",,,\"False\",\"T\",\"EveryTick\")","v":""},{"$error":"#N/A"},{"$f":"RTD(\"cqg.rtd\",,\"StudyData\", \"Close(\"&$D$12&\") when LocalYear(\"&$D$12&\")=\"&$D$2&\" and localMonth(\"&$D$12&\") =\"&$E$2&\" and LocalDay(\"&$D$12&\")=\"&$F$2&\" and Barix(\"&$D$12&\",reference:=StartOfSession)=\"&A27&\"\", \"Bar\", \"\", \"Close\",\"5\",\"0\",\"PrimaryOnly\",,,\"False\",\"T\",\"EveryTick\")","v":64.739999999999995},-2.9239766081871389E-2,{"$f":"RTD(\"cqg.rtd\",,\"StudyData\", \"Close(\"&$D$12&\") when LocalYear(\"&$D$12&\")=\"&$D$3&\" and localMonth(\"&$D$12&\") =\"&$E$3&\" and LocalDay(\"&$D$12&\")=\"&$F$3&\" and Barix(\"&$D$12&\",reference:=StartOfSession)=\"&A27&\"\", \"Bar\", \"\", \"Close\",\"5\",\"0\",\"PrimaryOnly\",,,\"False\",\"T\",\"EveryTick\")","v":66.39},-1.9542994588093122E-3,{"$f":"RTD(\"cqg.rtd\",,\"StudyData\", \"Close(\"&$D$12&\") when LocalYear(\"&$D$12&\")=\"&$D$4&\" and localMonth(\"&$D$12&\") =\"&$E$4&\" and LocalDay(\"&$D$12&\")=\"&$F$4&\" and Barix(\"&$D$12&\",reference:=StartOfSession)=\"&A27&\"\", \"Bar\", \"\", \"Close\",\"5\",\"0\",\"PrimaryOnly\",,,\"False\",\"T\",\"EveryTick\")","v":66.41},1.9613759806879215E-3,{"$f":"RTD(\"cqg.rtd\",,\"StudyData\", \"Close(\"&$D$12&\") when LocalYear(\"&$D$12&\")=\"&$D$5&\" and localMonth(\"&$D$12&\") =\"&$E$5&\" and LocalDay(\"&$D$12&\")=\"&$F$5&\" and Barix(\"&$D$12&\",reference:=StartOfSession)=\"&A27&\"\", \"Bar\", \"\", \"Close\",\"5\",\"0\",\"PrimaryOnly\",,,\"False\",\"T\",\"EveryTick\")","v":66.39},5.4520672421626446E-3,{"$f":"RTD(\"cqg.rtd\",,\"StudyData\", \"Close(\"&$D$12&\") when LocalYear(\"&$D$12&\")=\"&$D$6&\" and localMonth(\"&$D$12&\") =\"&$E$6&\" and LocalDay(\"&$D$12&\")=\"&$F$6&\" and Barix(\"&$D$12&\",reference:=StartOfSession)=\"&A27&\"\", \"Bar\", \"\", \"Close\",\"5\",\"0\",\"PrimaryOnly\",,,\"False\",\"T\",\"EveryTick\")","v":65.790000000000006},1.8273184102330523E-3,{"$f":"RTD(\"cqg.rtd\",,\"StudyData\", \"Close(\"&$D$12&\") when LocalYear(\"&$D$12&\")=\"&$D$7&\" and localMonth(\"&$D$12&\") =\"&$E$7&\" and LocalDay(\"&$D$12&\")=\"&$F$7&\" and Barix(\"&$D$12&\",reference:=StartOfSession)=\"&A27&\"\", \"Bar\", \"\", \"Close\",\"5\",\"0\",\"PrimaryOnly\",,,\"False\",\"T\",\"EveryTick\")","v":65.33},-8.4990135073607868E-3,{"$f":"RTD(\"cqg.rtd\",,\"StudyData\", \"Close(\"&$D$12&\") when LocalYear(\"&$D$12&\")=\"&$D$8&\" and localMonth(\"&$D$12&\") =\"&$E$8&\" and LocalDay(\"&$D$12&\")=\"&$F$8&\" and Barix(\"&$D$12&\",reference:=StartOfSession)=\"&A27&\"\", \"Bar\", \"\", \"Close\",\"5\",\"0\",\"PrimaryOnly\",,,\"False\",\"T\",\"EveryTick\")","v":65.930000000000007},1.901081916537873E-2,{"$f":"RTD(\"cqg.rtd\",,\"StudyData\", \"Close(\"&$D$12&\") when LocalYear(\"&$D$12&\")=\"&$D$9&\" and localMonth(\"&$D$12&\") =\"&$E$9&\" and LocalDay(\"&$D$12&\")=\"&$F$9&\" and Barix(\"&$D$12&\",reference:=StartOfSession)=\"&A27&\"\", \"Bar\", \"\", \"Close\",\"5\",\"0\",\"PrimaryOnly\",,,\"False\",\"T\",\"EveryTick\")","v":64.42},-1.5887564925145006E-2,{"$f":"RTD(\"cqg.rtd\",,\"StudyData\", \"Close(\"&$D$12&\") when LocalYear(\"&$D$12&\")=\"&$D$10&\" and localMonth(\"&$D$12&\") =\"&$E$10&\" and LocalDay(\"&$D$12&\")=\"&$F$10&\" and Barix(\"&$D$12&\",reference:=StartOfSession)=\"&A27&\"\", \"Bar\", \"\", \"Close\",\"5\",\"0\",\"PrimaryOnly\",,,\"False\",\"T\",\"EveryTick\")","v":64.72},6.1842918985763817E-4,null,null,null,""]
[27,"10:15:00",{"$f":"WORKDAY(C27,-1)","v":"2018-06-14"},2018,6,14,{"$f":"IF(RTD(\"cqg.rtd\",,\"StudyData\", \"Close(\"&$D$12&\") when LocalYear(\"&$D$12&\")=\"&D28&\" and localMonth(\"&$D$12&\") =\"&E28&\" and LocalDay(\"&$D$12&\")=\"&F28&\" and Barix(\"&$D$12&\",reference:=StartOfSession)=65\", \"Bar\", \"\", \"Close\",\"5\",\"0\",\"PrimaryOnly\",,,\"False\",\"T\",\"EveryTick\")=\"\",2,1)","v":1},{"$f":"RTD(\"cqg.rtd\",,\"StudyData\", \"Close(\"&$D$12&\") when LocalYear(\"&$D$12&\")=\"&$D$1&\" and localMonth(\"&$D$12&\") =\"&$E$1&\" and LocalDay(\"&$D$12&\")=\"&$F$1&\" and Barix(\"&$D$12&\",reference:=StartOfSession)=\"&A28&\"\", \"Bar\", \"\", \"Close\",\"5\",\"0\",\"PrimaryOnly\",,,\"False\",\"T\",\"EveryTick\")","v":""},{"$error":"#N/A"},{"$f":"RTD(\"cqg.rtd\",,\"StudyData\", \"Close(\"&$D$12&\") when LocalYear(\"&$D$12&\")=\"&$D$2&\" and localMonth(\"&$D$12&\") =\"&$E$2&\" and LocalDay(\"&$D$12&\")=\"&$F$2&\" and Barix(\"&$D$12&\",reference:=StartOfSession)=\"&A28&\"\", \"Bar\", \"\", \"Close\",\"5\",\"0\",\"PrimaryOnly\",,,\"False\",\"T\",\"EveryTick\")","v":64.760000000000005},-2.8939871045134093E-2,{"$f":"RTD(\"cqg.rtd\",,\"StudyData\", \"Close(\"&$D$12&\") when LocalYear(\"&$D$12&\")=\"&$D$3&\" and localMonth(\"&$D$12&\") =\"&$E$3&\" and LocalDay(\"&$D$12&\")=\"&$F$3&\" and Barix(\"&$D$12&\",reference:=StartOfSession)=\"&A28&\"\", \"Bar\", \"\", \"Close\",\"5\",\"0\",\"PrimaryOnly\",,,\"False\",\"T\",\"EveryTick\")","v":66.38},-2.104630186410111E-3,{"$f":"RTD(\"cqg.rtd\",,\"StudyData\", \"Close(\"&$D$12&\") when LocalYear(\"&$D$12&\")=\"&$D$4&\" and localMonth(\"&$D$12&\") =\"&$E$4&\" and LocalDay(\"&$D$12&\")=\"&$F$4&\" and Barix(\"&$D$12&\",reference:=StartOfSession)=\"&A28&\"\", \"Bar\", \"\", \"Close\",\"5\",\"0\",\"PrimaryOnly\",,,\"False\",\"T\",\"EveryTick\")","v":66.48},3.0175015087507973E-3,{"$f":"RTD(\"cqg.rtd\",,\"StudyData\", \"Close(\"&$D$12&\") when LocalYear(\"&$D$12&\")=\"&$D$5&\" and localMonth(\"&$D$12&\") =\"&$E$5&\" and LocalDay(\"&$D$12&\")=\"&$F$5&\" and Barix(\"&$D$12&\",reference:=StartOfSession)=\"&A28&\"\", \"Bar\", \"\", \"Close\",\"5\",\"0\",\"PrimaryOnly\",,,\"False\",\"T\",\"EveryTick\")","v":66.37},5.1491746175981127E-3,{"$f":"RTD(\"cqg.rtd\",,\"StudyData\", \"Close(\"&$D$12&\") when LocalYear(\"&$D$12&\")=\"&$D$6&\" and localMonth(\"&$D$12&\") =\"&$E$6&\" and LocalDay(\"&$D$12&\")=\"&$F$6&\" and Barix(\"&$D$12&\",reference:=StartOfSession)=\"&A28&\"\", \"Bar\", \"\", \"Close\",\"5\",\"0\",\"PrimaryOnly\",,,\"False\",\"T\",\"EveryTick\")","v":65.86},2.893254149535522E-3,{"$f":"RTD(\"cqg.rtd\",,\"StudyData\", \"Close(\"&$D$12&\") when LocalYear(\"&$D$12&\")=\"&$D$7&\" and localMonth(\"&$D$12&\") =\"&$E$7&\" and LocalDay(\"&$D$12&\")=\"&$F$7&\" and Barix(\"&$D$12&\",reference:=StartOfSession)=\"&A28&\"\", \"Bar\", \"\", \"Close\",\"5\",\"0\",\"PrimaryOnly\",,,\"False\",\"T\",\"EveryTick\")","v":65.36},-8.0437092123235871E-3,{"$f":"RTD(\"cqg.rtd\",,\"StudyData\", \"Close(\"&$D$12&\") when LocalYear(\"&$D$12&\")=\"&$D$8&\" and localMonth(\"&$D$12&\") =\"&$E$8&\" and LocalDay(\"&$D$12&\")=\"&$F$8&\" and Barix(\"&$D$12&\",reference:=StartOfSession)=\"&A28&\"\", \"Bar\", \"\", \"Close\",\"5\",\"0\",\"PrimaryOnly\",,,\"False\",\"T\",\"EveryTick\")","v":65.89},1.8392581143740303E-2,{"$f":"RTD(\"cqg.rtd\",,\"StudyData\", \"Close(\"&$D$12&\") when LocalYear(\"&$D$12&\")=\"&$D$9&\" and localMonth(\"&$D$12&\") =\"&$E$9&\" and LocalDay(\"&$D$12&\")=\"&$F$9&\" and Barix(\"&$D$12&\",reference:=StartOfSession)=\"&A28&\"\", \"Bar\", \"\", \"Close\",\"5\",\"0\",\"PrimaryOnly\",,,\"False\",\"T\",\"EveryTick\")","v":64.56},-1.3748854262144693E-2,{"$f":"RTD(\"cqg.rtd\",,\"StudyData\", \"Close(\"&$D$12&\") when LocalYear(\"&$D$12&\")=\"&$D$10&\" and localMonth(\"&$D$12&\") =\"&$E$10&\" and LocalDay(\"&$D$12&\")=\"&$F$10&\" and Barix(\"&$D$12&\",reference:=StartOfSession)=\"&A28&\"\", \"Bar\", \"\", \"Close\",\"5\",\"0\",\"PrimaryOnly\",,,\"False\",\"T\",\"EveryTick\")","v":64.989999999999995},4.7928262213974646E-3,null,null,null,""]
[28,"10:20:00","2018-06-13",2018,6,13,{"$f":"IF(RTD(\"cqg.rtd\",,\"StudyData\", \"Close(\"&$D$12&\") when LocalYear(\"&$D$12&\")=\"&D29&\" and localMonth(\"&$D$12&\") =\"&E29&\" and LocalDay(\"&$D$12&\")=\"&F29&\" and Barix(\"&$D$12&\",reference:=StartOfSession)=65\", \"Bar\", \"\", \"Close\",\"5\",\"0\",\"PrimaryOnly\",,,\"False\",\"T\",\"EveryTick\")=\"\",2,1)","v":1},{"$f":"RTD(\"cqg.rtd\",,\"StudyData\", \"Close(\"&$D$12&\") when LocalYear(\"&$D$12&\")=\"&$D$1&\" and localMonth(\"&$D$12&\") =\"&$E$1&\" and LocalDay(\"&$D$12&\")=\"&$F$1&\" and Barix(\"&$D$12&\",reference:=StartOfSession)=\"&A29&\"\", \"Bar\", \"\", \"Close\",\"5\",\"0\",\"PrimaryOnly\",,,\"False\",\"T\",\"EveryTick\")","v":""},{"$error":"#N/A"},{"$f":"RTD(\"cqg.rtd\",,\"StudyData\", \"Close(\"&$D$12&\") when LocalYear(\"&$D$12&\")=\"&$D$2&\" and localMonth(\"&$D$12&\") =\"&$E$2&\" and LocalDay(\"&$D$12&\")=\"&$F$2&\" and Barix(\"&$D$12&\",reference:=StartOfSession)=\"&A29&\"\", \"Bar\", \"\", \"Close\",\"5\",\"0\",\"PrimaryOnly\",,,\"False\",\"T\",\"EveryTick\")","v":64.81},-2.8190133453291282E-2,{"$f":"RTD(\"cqg.rtd\",,\"StudyData\", \"Close(\"&$D$12&\") when LocalYear(\"&$D$12&\")=\"&$D$3&\" and localMonth(\"&$D$12&\") =\"&$E$3&\" and LocalDay(\"&$D$12&\")=\"&$F$3&\" and Barix(\"&$D$12&\",reference:=StartOfSession)=\"&A29&\"\", \"Bar\", \"\", \"Close\",\"5\",\"0\",\"PrimaryOnly\",,,\"False\",\"T\",\"EveryTick\")","v":66.349999999999994},-2.5556223692122927E-3,{"$f":"RTD(\"cqg.rtd\",,\"StudyData\", \"Close(\"&$D$12&\") when LocalYear(\"&$D$12&\")=\"&$D$4&\" and localMonth(\"&$D$12&\") =\"&$E$4&\" and LocalDay(\"&$D$12&\")=\"&$F$4&\" and Barix(\"&$D$12&\",reference:=StartOfSession)=\"&A29&\"\", \"Bar\", \"\", \"Close\",\"5\",\"0\",\"PrimaryOnly\",,,\"False\",\"T\",\"EveryTick\")","v":66.53},3.7718768859384428E-3,{"$f":"RTD(\"cqg.rtd\",,\"StudyData\", \"Close(\"&$D$12&\") when LocalYear(\"&$D$12&\")=\"&$D$5&\" and localMonth(\"&$D$12&\") =\"&$E$5&\" and LocalDay(\"&$D$12&\")=\"&$F$5&\" and Barix(\"&$D$12&\",reference:=StartOfSession)=\"&A29&\"\", \"Bar\", \"\", \"Close\",\"5\",\"0\",\"PrimaryOnly\",,,\"False\",\"T\",\"EveryTick\")","v":66.42},5.9064061790095497E-3,{"$f":"RTD(\"cqg.rtd\",,\"StudyData\", \"Close(\"&$D$12&\") when LocalYear(\"&$D$12&\")=\"&$D$6&\" and localMonth(\"&$D$12&\") =\"&$E$6&\" and LocalDay(\"&$D$12&\")=\"&$F$6&\" and Barix(\"&$D$12&\",reference:=StartOfSession)=\"&A29&\"\", \"Bar\", \"\", \"Close\",\"5\",\"0\",\"PrimaryOnly\",,,\"False\",\"T\",\"EveryTick\")","v":66.010000000000005},5.1774021623268371E-3,{"$f":"RTD(\"cqg.rtd\",,\"StudyData\", \"Close(\"&$D$12&\") when LocalYear(\"&$D$12&\")=\"&$D$7&\" and localMonth(\"&$D$12&\") =\"&$E$7&\" and LocalDay(\"&$D$12&\")=\"&$F$7&\" and Barix(\"&$D$12&\",reference:=StartOfSession)=\"&A29&\"\", \"Bar\", \"\", \"Close\",\"5\",\"0\",\"PrimaryOnly\",,,\"False\",\"T\",\"EveryTick\")","v":65.44},-6.829564425557791E-3,{"$f":"RTD(\"cqg.rtd\",,\"StudyData\", \"Close(\"&$D$12&\") when LocalYear(\"&$D$12&\")=\"&$D$8&\" and localMonth(\"&$D$12&\") =\"&$E$8&\" and LocalDay(\"&$D$12&\")=\"&$F$8&\" and Barix(\"&$D$12&\",reference:=StartOfSession)=\"&A29&\"\", \"Bar\", \"\", \"Close\",\"5\",\"0\",\"PrimaryOnly\",,,\"False\",\"T\",\"EveryTick\")","v":65.87},1.80834621329212E-2,{"$f":"RTD(\"cqg.rtd\",,\"StudyData\", \"Close(\"&$D$12&\") when LocalYear(\"&$D$12&\")=\"&$D$9&\" and localMonth(\"&$D$12&\") =\"&$E$9&\" and LocalDay(\"&$D$12&\")=\"&$F$9&\" and Barix(\"&$D$12&\",reference:=StartOfSession)=\"&A29&\"\", \"Bar\", \"\", \"Close\",\"5\",\"0\",\"PrimaryOnly\",,,\"False\",\"T\",\"EveryTick\")","v":64.59},-1.3290559120073181E-2,{"$f":"RTD(\"cqg.rtd\",,\"StudyData\", \"Close(\"&$D$12&\") when LocalYear(\"&$D$12&\")=\"&$D$10&\" and localMonth(\"&$D$12&\") =\"&$E$10&\" and LocalDay(\"&$D$12&\")=\"&$F$10&\" and Barix(\"&$D$12&\",reference:=StartOfSession)=\"&A29&\"\", \"Bar\", \"\", \"Close\",\"5\",\"0\",\"PrimaryOnly\",,,\"False\",\"T\",\"EveryTick\")","v":64.94},4.0197897340753077E-3,null,null,null,""]
[29,"10:25:00","2018-06-12",2018,6,12,{"$f":"IF(RTD(\"cqg.rtd\",,\"StudyData\", \"Close(\"&$D$12&\") when LocalYear(\"&$D$12&\")=\"&D30&\" and localMonth(\"&$D$12&\") =\"&E30&\" and LocalDay(\"&$D$12&\")=\"&F30&\" and Barix(\"&$D$12&\",reference:=StartOfSession)=65\", \"Bar\", \"\", \"Close\",\"5\",\"0\",\"PrimaryOnly\",,,\"False\",\"T\",\"EveryTick\")=\"\",2,1)","v":1},{"$f":"RTD(\"cqg.rtd\",,\"StudyData\", \"Close(\"&$D$12&\") when LocalYear(\"&$D$12&\")=\"&$D$1&\" and localMonth(\"&$D$12&\") =\"&$E$1&\" and LocalDay(\"&$D$12&\")=\"&$F$1&\" and Barix(\"&$D$12&\",reference:=StartOfSession)=\"&A30&\"\", \"Bar\", \"\", \"Close\",\"5\",\"0\",\"PrimaryOnly\",,,\"False\",\"T\",\"EveryTick\")","v":""},{"$error":"#N/A"},{"$f":"RTD(\"cqg.rtd\",,\"StudyData\", \"Close(\"&$D$12&\") when LocalYear(\"&$D$12&\")=\"&$D$2&\" and localMonth(\"&$D$12&\") =\"&$E$2&\" and LocalDay(\"&$D$12&\")=\"&$F$2&\" and Barix(\"&$D$12&\",reference:=StartOfSession)=\"&A30&\"\", \"Bar\", \"\", \"Close\",\"5\",\"0\",\"PrimaryOnly\",,,\"False\",\"T\",\"EveryTick\")","v":64.69},-2.99895036737142E-2,{"$f":"RTD(\"cqg.rtd\",,\"StudyData\", \"Close(\"&$D$12&\") when LocalYear(\"&$D$12&\")=\"&$D$3&\" and localMonth(\"&$D$12&\") =\"&$E$3&\" and LocalDay(\"&$D$12&\")=\"&$F$3&\" and Barix(\"&$D$12&\",reference:=StartOfSession)=\"&A30&\"\", \"Bar\", \"\", \"Close\",\"5\",\"0\",\"PrimaryOnly\",,,\"False\",\"T\",\"EveryTick\")","v":66.31},-3.1569452796150594E-3,{"$f":"RTD(\"cqg.rtd\",,\"StudyData\", \"Close(\"&$D$12&\") when LocalYear(\"&$D$12&\")=\"&$D$4&\" and localMonth(\"&$D$12&\") =\"&$E$4&\" and LocalDay(\"&$D$12&\")=\"&$F$4&\" and Barix(\"&$D$12&\",reference:=StartOfSession)=\"&A30&\"\", \"Bar\", \"\", \"Close\",\"5\",\"0\",\"PrimaryOnly\",,,\"False\",\"T\",\"EveryTick\")","v":66.42},2.1122510561255364E-3,{"$f":"RTD(\"cqg.rtd\",,\"StudyData\", \"Close(\"&$D$12&\") when LocalYear(\"&$D$12&\")=\"&$D$5&\" and localMonth(\"&$D$12&\") =\"&$E$5&\" and LocalDay(\"&$D$12&\")=\"&$F$5&\" and Barix(\"&$D$12&\",reference:=StartOfSession)=\"&A30&\"\", \"Bar\", \"\", \"Close\",\"5\",\"0\",\"PrimaryOnly\",,,\"False\",\"T\",\"EveryTick\")","v":66.36},4.9977283053157396E-3,{"$f":"RTD(\"cqg.rtd\",,\"StudyData\", \"Close(\"&$D$12&\") when LocalYear(\"&$D$12&\")=\"&$D$6&\" and localMonth(\"&$D$12&\") =\"&$E$6&\" and LocalDay(\"&$D$12&\")=\"&$F$6&\" and Barix(\"&$D$12&\",reference:=StartOfSession)=\"&A30&\"\", \"Bar\", \"\", \"Close\",\"5\",\"0\",\"PrimaryOnly\",,,\"False\",\"T\",\"EveryTick\")","v":65.98},4.7205725597685745E-3,{"$f":"RTD(\"cqg.rtd\",,\"StudyData\", \"Close(\"&$D$12&\") when LocalYear(\"&$D$12&\")=\"&$D$7&\" and localMonth(\"&$D$12&\") =\"&$E$7&\" and LocalDay(\"&$D$12&\")=\"&$F$7&\" and Barix(\"&$D$12&\",reference:=StartOfSession)=\"&A30&\"\", \"Bar\", \"\", \"Close\",\"5\",\"0\",\"PrimaryOnly\",,,\"False\",\"T\",\"EveryTick\")","v":65.650000000000006},-3.6424343602973878E-3,{"$f":"RTD(\"cqg.rtd\",,\"StudyData\", \"Close(\"&$D$12&\") when LocalYear(\"&$D$12&\")=\"&$D$8&\" and localMonth(\"&$D$12&\") =\"&$E$8&\" and LocalDay(\"&$D$12&\")=\"&$F$8&\" and Barix(\"&$D$12&\",reference:=StartOfSession)=\"&A30&\"\", \"Bar\", \"\", \"Close\",\"5\",\"0\",\"PrimaryOnly\",,,\"False\",\"T\",\"EveryTick\")","v":65.83},1.7465224111282773E-2,{"$f":"RTD(\"cqg.rtd\",,\"StudyData\", \"Close(\"&$D$12&\") when LocalYear(\"&$D$12&\")=\"&$D$9&\" and localMonth(\"&$D$12&\") =\"&$E$9&\" and LocalDay(\"&$D$12&\")=\"&$F$9&\" and Barix(\"&$D$12&\",reference:=StartOfSession)=\"&A30&\"\", \"Bar\", \"\", \"Close\",\"5\",\"0\",\"PrimaryOnly\",,,\"False\",\"T\",\"EveryTick\")","v":64.66},-1.2221203788573132E-2,{"$f":"RTD(\"cqg.rtd\",,\"StudyData\", \"Close(\"&$D$12&\") when LocalYear(\"&$D$12&\")=\"&$D$10&\" and localMonth(\"&$D$12&\") =\"&$E$10&\" and LocalDay(\"&$D$12&\")=\"&$F$10&\" and Barix(\"&$D$12&\",reference:=StartOfSession)=\"&A30&\"\", \"Bar\", \"\", \"Close\",\"5\",\"0\",\"PrimaryOnly\",,,\"False\",\"T\",\"EveryTick\")","v":64.89},3.2467532467531498E-3,null,null,null,""]
[30,"10:30:00","2018-06-11",2018,6,11,{"$f":"IF(RTD(\"cqg.rtd\",,\"StudyData\", \"Close(\"&$D$12&\") when LocalYear(\"&$D$12&\")=\"&D31&\" and localMonth(\"&$D$12&\") =\"&E31&\" and LocalDay(\"&$D$12&\")=\"&F31&\" and Barix(\"&$D$12&\",reference:=StartOfSession)=65\", \"Bar\", \"\", \"Close\",\"5\",\"0\",\"PrimaryOnly\",,,\"False\",\"T\",\"EveryTick\")=\"\",2,1)","v":1},{"$f":"RTD(\"cqg.rtd\",,\"StudyData\", \"Close(\"&$D$12&\") when LocalYear(\"&$D$12&\")=\"&$D$1&\" and localMonth(\"&$D$12&\") =\"&$E$1&\" and LocalDay(\"&$D$12&\")=\"&$F$1&\" and Barix(\"&$D$12&\",reference:=StartOfSession)=\"&A31&\"\", \"Bar\", \"\", \"Close\",\"5\",\"0\",\"PrimaryOnly\",,,\"False\",\"T\",\"EveryTick\")","v":""},{"$error":"#N/A"},{"$f":"RTD(\"cqg.rtd\",,\"StudyData\", \"Close(\"&$D$12&\") when LocalYear(\"&$D$12&\")=\"&$D$2&\" and localMonth(\"&$D$12&\") =\"&$E$2&\" and LocalDay(\"&$D$12&\")=\"&$F$2&\" and Barix(\"&$D$12&\",reference:=StartOfSession)=\"&A31&\"\", \"Bar\", \"\", \"Close\",\"5\",\"0\",\"PrimaryOnly\",,,\"False\",\"T\",\"EveryTick\")","v":64.58},-3.1638926375768477E-2,{"$f":"RTD(\"cqg.rtd\",,\"StudyData\", \"Close(\"&$D$12&\") when LocalYear(\"&$D$12&\")=\"&$D$3&\" and localMonth(\"&$D$12&\") =\"&$E$3&\" and LocalDay(\"&$D$12&\")=\"&$F$3&\" and Barix(\"&$D$12&\",reference:=StartOfSession)=\"&A31&\"\", \"Bar\", \"\", \"Close\",\"5\",\"0\",\"PrimaryOnly\",,,\"False\",\"T\",\"EveryTick\")","v":66.23},-4.3595911004208066E-3,{"$f":"RTD(\"cqg.rtd\",,\"StudyData\", \"Close(\"&$D$12&\") when LocalYear(\"&$D$12&\")=\"&$D$4&\" and localMonth(\"&$D$12&\") =\"&$E$4&\" and LocalDay(\"&$D$12&\")=\"&$F$4&\" and Barix(\"&$D$12&\",reference:=StartOfSession)=\"&A31&\"\", \"Bar\", \"\", \"Close\",\"5\",\"0\",\"PrimaryOnly\",,,\"False\",\"T\",\"EveryTick\")","v":66.52},3.6210018105008279E-3,{"$f":"RTD(\"cqg.rtd\",,\"StudyData\", \"Close(\"&$D$12&\") when LocalYear(\"&$D$12&\")=\"&$D$5&\" and localMonth(\"&$D$12&\") =\"&$E$5&\" and LocalDay(\"&$D$12&\")=\"&$F$5&\" and Barix(\"&$D$12&\",reference:=StartOfSession)=\"&A31&\"\", \"Bar\", \"\", \"Close\",\"5\",\"0\",\"PrimaryOnly\",,,\"False\",\"T\",\"EveryTick\")","v":66.41},5.7549598667271766E-3,{"$f":"RTD(\"cqg.rtd\",,\"StudyData\", \"Close(\"&$D$12&\") when LocalYear(\"&$D$12&\")=\"&$D$6&\" and localMonth(\"&$D$12&\") =\"&$E$6&\" and LocalDay(\"&$D$12&\")=\"&$F$6&\" and Barix(\"&$D$12&\",reference:=StartOfSession)=\"&A31&\"\", \"Bar\", \"\", \"Close\",\"5\",\"0\",\"PrimaryOnly\",,,\"False\",\"T\",\"EveryTick\")","v":65.98},4.7205725597685745E-3,{"$f":"RTD(\"cqg.rtd\",,\"StudyData\", \"Close(\"&$D$12&\") when LocalYear(\"&$D$12&\")=\"&$D$7&\" and localMonth(\"&$D$12&\") =\"&$E$7&\" and LocalDay(\"&$D$12&\")=\"&$F$7&\" and Barix(\"&$D$12&\",reference:=StartOfSession)=\"&A31&\"\", \"Bar\", \"\", \"Close\",\"5\",\"0\",\"PrimaryOnly\",,,\"False\",\"T\",\"EveryTick\")","v":65.569999999999993},-4.8565791470633994E-3,{"$f":"RTD(\"cqg.rtd\",,\"StudyData\", \"Close(\"&$D$12&\") when LocalYear(\"&$D$12&\")=\"&$D$8&\" and localMonth(\"&$D$12&\") =\"&$E$8&\" and LocalDay(\"&$D$12&\")=\"&$F$8&\" and Barix(\"&$D$12&\",reference:=StartOfSession)=\"&A31&\"\", \"Bar\", \"\", \"Close\",\"5\",\"0\",\"PrimaryOnly\",,,\"False\",\"T\",\"EveryTick\")","v":65.77},1.6537867078825243E-2,{"$f":"RTD(\"cqg.rtd\",,\"StudyData\", \"Close(\"&$D$12&\") when LocalYear(\"&$D$12&\")=\"&$D$9&\" and localMonth(\"&$D$12&\") =\"&$E$9&\" and LocalDay(\"&$D$12&\")=\"&$F$9&\" and Barix(\"&$D$12&\",reference:=StartOfSession)=\"&A31&\"\", \"Bar\", \"\", \"Close\",\"5\",\"0\",\"PrimaryOnly\",,,\"False\",\"T\",\"EveryTick\")","v":64.69},-1.176290864650162E-2,{"$f":"RTD(\"cqg.rtd\",,\"StudyData\", \"Close(\"&$D$12&\") when LocalYear(\"&$D$12&\")=\"&$D$10&\" and localMonth(\"&$D$12&\") =\"&$E$10&\" and LocalDay(\"&$D$12&\")=\"&$F$10&\" and Barix(\"&$D$12&\",reference:=StartOfSession)=\"&A31&\"\", \"Bar\", \"\", \"Close\",\"5\",\"0\",\"PrimaryOnly\",,,\"False\",\"T\",\"EveryTick\")","v":64.95},4.174397031539827E-3,null,null,null,""]
[31,"10:35:00","2018-06-08",2018,6,8,{"$f":"IF(RTD(\"cqg.rtd\",,\"StudyData\", \"Close(\"&$D$12&\") when LocalYear(\"&$D$12&\")=\"&D32&\" and localMonth(\"&$D$12&\") =\"&E32&\" and LocalDay(\"&$D$12&\")=\"&F32&\" and Barix(\"&$D$12&\",reference:=StartOfSession)=65\", \"Bar\", \"\", \"Close\",\"5\",\"0\",\"PrimaryOnly\",,,\"False\",\"T\",\"EveryTick\")=\"\",2,1)","v":1},{"$f":"RTD(\"cqg.rtd\",,\"StudyData\", \"Close(\"&$D$12&\") when LocalYear(\"&$D$12&\")=\"&$D$1&\" and localMonth(\"&$D$12&\") =\"&$E$1&\" and LocalDay(\"&$D$12&\")=\"&$F$1&\" and Barix(\"&$D$12&\",reference:=StartOfSession)=\"&A32&\"\", \"Bar\", \"\", \"Close\",\"5\",\"0\",\"PrimaryOnly\",,,\"False\",\"T\",\"EveryTick\")","v":""},{"$error":"#N/A"},{"$f":"RTD(\"cqg.rtd\",,\"StudyData\", \"Close(\"&$D$12&\") when LocalYear(\"&$D$12&\")=\"&$D$2&\" and localMonth(\"&$D$12&\") =\"&$E$2&\" and LocalDay(\"&$D$12&\")=\"&$F$2&\" and Barix(\"&$D$12&\",reference:=StartOfSession)=\"&A32&\"\", \"Bar\", \"\", \"Close\",\"5\",\"0\",\"PrimaryOnly\",,,\"False\",\"T\",\"EveryTick\")","v":64.599999999999994},-3.133903133903139E-2,{"$f":"RTD(\"cqg.rtd\",,\"StudyData\", \"Close(\"&$D$12&\") when LocalYear(\"&$D$12&\")=\"&$D$3&\" and localMonth(\"&$D$12&\") =\"&$E$3&\" and LocalDay(\"&$D$12&\")=\"&$F$3&\" and Barix(\"&$D$12&\",reference:=StartOfSession)=\"&A32&\"\", \"Bar\", \"\", \"Close\",\"5\",\"0\",\"PrimaryOnly\",,,\"False\",\"T\",\"EveryTick\")","v":66.28},-3.6079374624172415E-3,{"$f":"RTD(\"cqg.rtd\",,\"StudyData\", \"Close(\"&$D$12&\") when LocalYear(\"&$D$12&\")=\"&$D$4&\" and localMonth(\"&$D$12&\") =\"&$E$4&\" and LocalDay(\"&$D$12&\")=\"&$F$4&\" and Barix(\"&$D$12&\",reference:=StartOfSession)=\"&A32&\"\", \"Bar\", \"\", \"Close\",\"5\",\"0\",\"PrimaryOnly\",,,\"False\",\"T\",\"EveryTick\")","v":66.48},3.0175015087507973E-3,{"$f":"RTD(\"cqg.rtd\",,\"StudyData\", \"Close(\"&$D$12&\") when LocalYear(\"&$D$12&\")=\"&$D$5&\" and localMonth(\"&$D$12&\") =\"&$E$5&\" and LocalDay(\"&$D$12&\")=\"&$F$5&\" and Barix(\"&$D$12&\",reference:=StartOfSession)=\"&A32&\"\", \"Bar\", \"\", \"Close\",\"5\",\"0\",\"PrimaryOnly\",,,\"False\",\"T\",\"EveryTick\")","v":66.28},3.786157807057398E-3,{"$f":"RTD(\"cqg.rtd\",,\"StudyData\", \"Close(\"&$D$12&\") when LocalYear(\"&$D$12&\")=\"&$D$6&\" and localMonth(\"&$D$12&\") =\"&$E$6&\" and LocalDay(\"&$D$12&\")=\"&$F$6&\" and Barix(\"&$D$12&\",reference:=StartOfSession)=\"&A32&\"\", \"Bar\", \"\", \"Close\",\"5\",\"0\",\"PrimaryOnly\",,,\"False\",\"T\",\"EveryTick\")","v":66.02},5.3296786965127806E-3,{"$f":"RTD(\"cqg.rtd\",,\"StudyData\", \"Close(\"&$D$12&\") when LocalYear(\"&$D$12&\")=\"&$D$7&\" and localMonth(\"&$D$12&\") =\"&$E$7&\" and LocalDay(\"&$D$12&\")=\"&$F$7&\" and Barix(\"&$D$12&\",reference:=StartOfSession)=\"&A32&\"\", \"Bar\", \"\", \"Close\",\"5\",\"0\",\"PrimaryOnly\",,,\"False\",\"T\",\"EveryTick\")","v":65.53},-5.4636515404461895E-3,{"$f":"RTD(\"cqg.rtd\",,\"StudyData\", \"Close(\"&$D$12&\") when LocalYear(\"&$D$12&\")=\"&$D$8&\" and localMonth(\"&$D$12&\") =\"&$E$8&\" and LocalDay(\"&$D$12&\")=\"&$F$8&\" and Barix(\"&$D$12&\",reference:=StartOfSession)=\"&A32&\"\", \"Bar\", \"\", \"Close\",\"5\",\"0\",\"PrimaryOnly\",,,\"False\",\"T\",\"EveryTick\")","v":65.849999999999994},1.7774343122101875E-2,{"$f":"RTD(\"cqg.rtd\",,\"StudyData\", \"Close(\"&$D$12&\") when LocalYear(\"&$D$12&\")=\"&$D$9&\" and localMonth(\"&$D$12&\") =\"&$E$9&\" and LocalDay(\"&$D$12&\")=\"&$F$9&\" and Barix(\"&$D$12&\",reference:=StartOfSession)=\"&A32&\"\", \"Bar\", \"\", \"Close\",\"5\",\"0\",\"PrimaryOnly\",,,\"False\",\"T\",\"EveryTick\")","v":64.75},-1.0846318362358599E-2,{"$f":"RTD(\"cqg.rtd\",,\"StudyData\", \"Close(\"&$D$12&\") when LocalYear(\"&$D$12&\")=\"&$D$10&\" and localMonth(\"&$D$12&\") =\"&$E$10&\" and LocalDay(\"&$D$12&\")=\"&$F$10&\" and Barix(\"&$D$12&\",reference:=StartOfSession)=\"&A32&\"\", \"Bar\", \"\", \"Close\",\"5\",\"0\",\"PrimaryOnly\",,,\"False\",\"T\",\"EveryTick\")","v":64.88},3.0921459492886305E-3,null,null,null,""]
[32,"10:40:00","2018-06-07",2018,6,7,{"$f":"IF(RTD(\"cqg.rtd\",,\"StudyData\", \"Close(\"&$D$12&\") when LocalYear(\"&$D$12&\")=\"&D33&\" and localMonth(\"&$D$12&\") =\"&E33&\" and LocalDay(\"&$D$12&\")=\"&F33&\" and Barix(\"&$D$12&\",reference:=StartOfSession)=65\", \"Bar\", \"\", \"Close\",\"5\",\"0\",\"PrimaryOnly\",,,\"False\",\"T\",\"EveryTick\")=\"\",2,1)","v":1},{"$f":"RTD(\"cqg.rtd\",,\"StudyData\", \"Close(\"&$D$12&\") when LocalYear(\"&$D$12&\")=\"&$D$1&\" and localMonth(\"&$D$12&\") =\"&$E$1&\" and LocalDay(\"&$D$12&\")=\"&$F$1&\" and Barix(\"&$D$12&\",reference:=StartOfSession)=\"&A33&\"\", \"Bar\", \"\", \"Close\",\"5\",\"0\",\"PrimaryOnly\",,,\"False\",\"T\",\"EveryTick\")","v":""},{"$error":"#N/A"},{"$f":"RTD(\"cqg.rtd\",,\"StudyData\", \"Close(\"&$D$12&\") when LocalYear(\"&$D$12&\")=\"&$D$2&\" and localMonth(\"&$D$12&\") =\"&$E$2&\" and LocalDay(\"&$D$12&\")=\"&$F$2&\" and Barix(\"&$D$12&\",reference:=StartOfSession)=\"&A33&\"\", \"Bar\", \"\", \"Close\",\"5\",\"0\",\"PrimaryOnly\",,,\"False\",\"T\",\"EveryTick\")","v":64.48},-3.3138401559454099E-2,{"$f":"RTD(\"cqg.rtd\",,\"StudyData\", \"Close(\"&$D$12&\") when LocalYear(\"&$D$12&\")=\"&$D$3&\" and localMonth(\"&$D$12&\") =\"&$E$3&\" and LocalDay(\"&$D$12&\")=\"&$F$3&\" and Barix(\"&$D$12&\",reference:=StartOfSession)=\"&A33&\"\", \"Bar\", \"\", \"Close\",\"5\",\"0\",\"PrimaryOnly\",,,\"False\",\"T\",\"EveryTick\")","v":66.260000000000005},-3.9085989176186244E-3,{"$f":"RTD(\"cqg.rtd\",,\"StudyData\", \"Close(\"&$D$12&\") when LocalYear(\"&$D$12&\")=\"&$D$4&\" and localMonth(\"&$D$12&\") =\"&$E$4&\" and LocalDay(\"&$D$12&\")=\"&$F$4&\" and Barix(\"&$D$12&\",reference:=StartOfSession)=\"&A33&\"\", \"Bar\", \"\", \"Close\",\"5\",\"0\",\"PrimaryOnly\",,,\"False\",\"T\",\"EveryTick\")","v":66.47},2.8666264333131824E-3,{"$f":"RTD(\"cqg.rtd\",,\"StudyData\", \"Close(\"&$D$12&\") when LocalYear(\"&$D$12&\")=\"&$D$5&\" and localMonth(\"&$D$12&\") =\"&$E$5&\" and LocalDay(\"&$D$12&\")=\"&$F$5&\" and Barix(\"&$D$12&\",reference:=StartOfSession)=\"&A33&\"\", \"Bar\", \"\", \"Close\",\"5\",\"0\",\"PrimaryOnly\",,,\"False\",\"T\",\"EveryTick\")","v":66.3},4.0890504316219295E-3,{"$f":"RTD(\"cqg.rtd\",,\"StudyData\", \"Close(\"&$D$12&\") when LocalYear(\"&$D$12&\")=\"&$D$6&\" and localMonth(\"&$D$12&\") =\"&$E$6&\" and LocalDay(\"&$D$12&\")=\"&$F$6&\" and Barix(\"&$D$12&\",reference:=StartOfSession)=\"&A33&\"\", \"Bar\", \"\", \"Close\",\"5\",\"0\",\"PrimaryOnly\",,,\"False\",\"T\",\"EveryTick\")","v":66.17},7.6138267093040961E-3,{"$f":"RTD(\"cqg.rtd\",,\"StudyData\", \"Close(\"&$D$12&\") when LocalYear(\"&$D$12&\")=\"&$D$7&\" and localMonth(\"&$D$12&\") =\"&$E$7&\" and LocalDay(\"&$D$12&\")=\"&$F$7&\" and Barix(\"&$D$12&\",reference:=StartOfSession)=\"&A33&\"\", \"Bar\", \"\", \"Close\",\"5\",\"0\",\"PrimaryOnly\",,,\"False\",\"T\",\"EveryTick\")","v":65.62},-4.0977386553345879E-3,{"$f":"RTD(\"cqg.rtd\",,\"StudyData\", \"Close(\"&$D$12&\") when LocalYear(\"&$D$12&\")=\"&$D$8&\" and localMonth(\"&$D$12&\") =\"&$E$8&\" and LocalDay(\"&$D$12&\")=\"&$F$8&\" and Barix(\"&$D$12&\",reference:=StartOfSession)=\"&A33&\"\", \"Bar\", \"\", \"Close\",\"5\",\"0\",\"PrimaryOnly\",,,\"False\",\"T\",\"EveryTick\")","v":65.8},1.7001545595054006E-2,{"$f":"RTD(\"cqg.rtd\",,\"StudyData\", \"Close(\"&$D$12&\") when LocalYear(\"&$D$12&\")=\"&$D$9&\" and localMonth(\"&$D$12&\") =\"&$E$9&\" and LocalDay(\"&$D$12&\")=\"&$F$9&\" and Barix(\"&$D$12&\",reference:=StartOfSession)=\"&A33&\"\", \"Bar\", \"\", \"Close\",\"5\",\"0\",\"PrimaryOnly\",,,\"False\",\"T\",\"EveryTick\")","v":64.75},-1.0846318362358599E-2,{"$f":"RTD(\"cqg.rtd\",,\"StudyData\", \"Close(\"&$D$12&\") when LocalYear(\"&$D$12&\")=\"&$D$10&\" and localMonth(\"&$D$12&\") =\"&$E$10&\" and LocalDay(\"&$D$12&\")=\"&$F$10&\" and Barix(\"&$D$12&\",reference:=StartOfSession)=\"&A33&\"\", \"Bar\", \"\", \"Close\",\"5\",\"0\",\"PrimaryOnly\",,,\"False\",\"T\",\"EveryTick\")","v":64.81},2.0098948670376538E-3,null,null,null,""]
[33,"10:45:00","2018-06-06",2018,6,6,{"$f":"IF(RTD(\"cqg.rtd\",,\"StudyData\", \"Close(\"&$D$12&\") when LocalYear(\"&$D$12&\")=\"&D34&\" and localMonth(\"&$D$12&\") =\"&E34&\" and LocalDay(\"&$D$12&\")=\"&F34&\" and Barix(\"&$D$12&\",reference:=StartOfSession)=65\", \"Bar\", \"\", \"Close\",\"5\",\"0\",\"PrimaryOnly\",,,\"False\",\"T\",\"EveryTick\")=\"\",2,1)","v":1},{"$f":"RTD(\"cqg.rtd\",,\"StudyData\", \"Close(\"&$D$12&\") when LocalYear(\"&$D$12&\")=\"&$D$1&\" and localMonth(\"&$D$12&\") =\"&$E$1&\" and LocalDay(\"&$D$12&\")=\"&$F$1&\" and Barix(\"&$D$12&\",reference:=StartOfSession)=\"&A34&\"\", \"Bar\", \"\", \"Close\",\"5\",\"0\",\"PrimaryOnly\",,,\"False\",\"T\",\"EveryTick\")","v":""},{"$error":"#N/A"},{"$f":"RTD(\"cqg.rtd\",,\"StudyData\", \"Close(\"&$D$12&\") when LocalYear(\"&$D$12&\")=\"&$D$2&\" and localMonth(\"&$D$12&\") =\"&$E$2&\" and LocalDay(\"&$D$12&\")=\"&$F$2&\" and Barix(\"&$D$12&\",reference:=StartOfSession)=\"&A34&\"\", \"Bar\", \"\", \"Close\",\"5\",\"0\",\"PrimaryOnly\",,,\"False\",\"T\",\"EveryTick\")","v":64.45},-3.358824411455983E-2,{"$f":"RTD(\"cqg.rtd\",,\"StudyData\", \"Close(\"&$D$12&\") when LocalYear(\"&$D$12&\")=\"&$D$3&\" and localMonth(\"&$D$12&\") =\"&$E$3&\" and LocalDay(\"&$D$12&\")=\"&$F$3&\" and Barix(\"&$D$12&\",reference:=StartOfSession)=\"&A34&\"\", \"Bar\", \"\", \"Close\",\"5\",\"0\",\"PrimaryOnly\",,,\"False\",\"T\",\"EveryTick\")","v":66.36},-2.4052916416114943E-3,{"$f":"RTD(\"cqg.rtd\",,\"StudyData\", \"Close(\"&$D$12&\") when LocalYear(\"&$D$12&\")=\"&$D$4&\" and localMonth(\"&$D$12&\") =\"&$E$4&\" and LocalDay(\"&$D$12&\")=\"&$F$4&\" and Barix(\"&$D$12&\",reference:=StartOfSession)=\"&A34&\"\", \"Bar\", \"\", \"Close\",\"5\",\"0\",\"PrimaryOnly\",,,\"False\",\"T\",\"EveryTick\")","v":66.47},2.8666264333131824E-3,{"$f":"RTD(\"cqg.rtd\",,\"StudyData\", \"Close(\"&$D$12&\") when LocalYear(\"&$D$12&\")=\"&$D$5&\" and localMonth(\"&$D$12&\") =\"&$E$5&\" and LocalDay(\"&$D$12&\")=\"&$F$5&\" and Barix(\"&$D$12&\",reference:=StartOfSession)=\"&A34&\"\", \"Bar\", \"\", \"Close\",\"5\",\"0\",\"PrimaryOnly\",,,\"False\",\"T\",\"EveryTick\")","v":66.36},4.9977283053157396E-3,{"$f":"RTD(\"cqg.rtd\",,\"StudyData\", \"Close(\"&$D$12&\") when LocalYear(\"&$D$12&\")=\"&$D$6&\" and localMonth(\"&$D$12&\") =\"&$E$6&\" and LocalDay(\"&$D$12&\")=\"&$F$6&\" and Barix(\"&$D$12&\",reference:=StartOfSession)=\"&A34&\"\", \"Bar\", \"\", \"Close\",\"5\",\"0\",\"PrimaryOnly\",,,\"False\",\"T\",\"EveryTick\")","v":66.150000000000006},7.3092736409319931E-3,{"$f":"RTD(\"cqg.rtd\",,\"StudyData\", \"Close(\"&$D$12&\") when LocalYear(\"&$D$12&\")=\"&$D$7&\" and localMonth(\"&$D$12&\") =\"&$E$7&\" and LocalDay(\"&$D$12&\")=\"&$F$7&\" and Barix(\"&$D$12&\",reference:=StartOfSession)=\"&A34&\"\", \"Bar\", \"\", \"Close\",\"5\",\"0\",\"PrimaryOnly\",,,\"False\",\"T\",\"EveryTick\")","v":65.58},-4.7048110487175939E-3,{"$f":"RTD(\"cqg.rtd\",,\"StudyData\", \"Close(\"&$D$12&\") when LocalYear(\"&$D$12&\")=\"&$D$8&\" and localMonth(\"&$D$12&\") =\"&$E$8&\" and LocalDay(\"&$D$12&\")=\"&$F$8&\" and Barix(\"&$D$12&\",reference:=StartOfSession)=\"&A34&\"\", \"Bar\", \"\", \"Close\",\"5\",\"0\",\"PrimaryOnly\",,,\"False\",\"T\",\"EveryTick\")","v":65.709999999999994},1.5610510046367711E-2,{"$f":"RTD(\"cqg.rtd\",,\"StudyData\", \"Close(\"&$D$12&\") when LocalYear(\"&$D$12&\")=\"&$D$9&\" and localMonth(\"&$D$12&\") =\"&$E$9&\" and LocalDay(\"&$D$12&\")=\"&$F$9&\" and Barix(\"&$D$12&\",reference:=StartOfSession)=\"&A34&\"\", \"Bar\", \"\", \"Close\",\"5\",\"0\",\"PrimaryOnly\",,,\"False\",\"T\",\"EveryTick\")","v":64.83},-9.6241979835013057E-3,{"$f":"RTD(\"cqg.rtd\",,\"StudyData\", \"Close(\"&$D$12&\") when LocalYear(\"&$D$12&\")=\"&$D$10&\" and localMonth(\"&$D$12&\") =\"&$E$10&\" and LocalDay(\"&$D$12&\")=\"&$F$10&\" and Barix(\"&$D$12&\",reference:=StartOfSession)=\"&A34&\"\", \"Bar\", \"\", \"Close\",\"5\",\"0\",\"PrimaryOnly\",,,\"False\",\"T\",\"EveryTick\")","v":64.75},1.0822510822509766E-3,null,null,null,""]
[34,"10:50:00","2018-06-05",2018,6,5,{"$f":"IF(RTD(\"cqg.rtd\",,\"StudyData\", \"Close(\"&$D$12&\") when LocalYear(\"&$D$12&\")=\"&D35&\" and localMonth(\"&$D$12&\") =\"&E35&\" and LocalDay(\"&$D$12&\")=\"&F35&\" and Barix(\"&$D$12&\",reference:=StartOfSession)=65\", \"Bar\", \"\", \"Close\",\"5\",\"0\",\"PrimaryOnly\",,,\"False\",\"T\",\"EveryTick\")=\"\",2,1)","v":1},{"$f":"RTD(\"cqg.rtd\",,\"StudyData\", \"Close(\"&$D$12&\") when LocalYear(\"&$D$12&\")=\"&$D$1&\" and localMonth(\"&$D$12&\") =\"&$E$1&\" and LocalDay(\"&$D$12&\")=\"&$F$1&\" and Barix(\"&$D$12&\",reference:=StartOfSession)=\"&A35&\"\", \"Bar\", \"\", \"Close\",\"5\",\"0\",\"PrimaryOnly\",,,\"False\",\"T\",\"EveryTick\")","v":""},{"$error":"#N/A"},{"$f":"RTD(\"cqg.rtd\",,\"StudyData\", \"Close(\"&$D$12&\") when LocalYear(\"&$D$12&\")=\"&$D$2&\" and localMonth(\"&$D$12&\") =\"&$E$2&\" and LocalDay(\"&$D$12&\")=\"&$F$2&\" and Barix(\"&$D$12&\",reference:=StartOfSession)=\"&A35&\"\", \"Bar\", \"\", \"Close\",\"5\",\"0\",\"PrimaryOnly\",,,\"False\",\"T\",\"EveryTick\")","v":64.64},-3.0739241265557014E-2,{"$f":"RTD(\"cqg.rtd\",,\"StudyData\", \"Close(\"&$D$12&\") when LocalYear(\"&$D$12&\")=\"&$D$3&\" and localMonth(\"&$D$12&\") =\"&$E$3&\" and LocalDay(\"&$D$12&\")=\"&$F$3&\" and Barix(\"&$D$12&\",reference:=StartOfSession)=\"&A35&\"\", \"Bar\", \"\", \"Close\",\"5\",\"0\",\"PrimaryOnly\",,,\"False\",\"T\",\"EveryTick\")","v":66.37},-2.2549609140106956E-3,{"$f":"RTD(\"cqg.rtd\",,\"StudyData\", \"Close(\"&$D$12&\") when LocalYear(\"&$D$12&\")=\"&$D$4&\" and localMonth(\"&$D$12&\") =\"&$E$4&\" and LocalDay(\"&$D$12&\")=\"&$F$4&\" and Barix(\"&$D$12&\",reference:=StartOfSession)=\"&A35&\"\", \"Bar\", \"\", \"Close\",\"5\",\"0\",\"PrimaryOnly\",,,\"False\",\"T\",\"EveryTick\")","v":66.48},3.0175015087507973E-3,{"$f":"RTD(\"cqg.rtd\",,\"StudyData\", \"Close(\"&$D$12&\") when LocalYear(\"&$D$12&\")=\"&$D$5&\" and localMonth(\"&$D$12&\") =\"&$E$5&\" and LocalDay(\"&$D$12&\")=\"&$F$5&\" and Barix(\"&$D$12&\",reference:=StartOfSession)=\"&A35&\"\", \"Bar\", \"\", \"Close\",\"5\",\"0\",\"PrimaryOnly\",,,\"False\",\"T\",\"EveryTick\")","v":66.38},5.3006209298802716E-3,{"$f":"RTD(\"cqg.rtd\",,\"StudyData\", \"Close(\"&$D$12&\") when LocalYear(\"&$D$12&\")=\"&$D$6&\" and localMonth(\"&$D$12&\") =\"&$E$6&\" and LocalDay(\"&$D$12&\")=\"&$F$6&\" and Barix(\"&$D$12&\",reference:=StartOfSession)=\"&A35&\"\", \"Bar\", \"\", \"Close\",\"5\",\"0\",\"PrimaryOnly\",,,\"False\",\"T\",\"EveryTick\")","v":66.08},6.2433379016293067E-3,{"$f":"RTD(\"cqg.rtd\",,\"StudyData\", \"Close(\"&$D$12&\") when LocalYear(\"&$D$12&\")=\"&$D$7&\" and localMonth(\"&$D$12&\") =\"&$E$7&\" and LocalDay(\"&$D$12&\")=\"&$F$7&\" and Barix(\"&$D$12&\",reference:=StartOfSession)=\"&A35&\"\", \"Bar\", \"\", \"Close\",\"5\",\"0\",\"PrimaryOnly\",,,\"False\",\"T\",\"EveryTick\")","v":65.489999999999995},-6.0707239338291955E-3,{"$f":"RTD(\"cqg.rtd\",,\"StudyData\", \"Close(\"&$D$12&\") when LocalYear(\"&$D$12&\")=\"&$D$8&\" and localMonth(\"&$D$12&\") =\"&$E$8&\" and LocalDay(\"&$D$12&\")=\"&$F$8&\" and Barix(\"&$D$12&\",reference:=StartOfSession)=\"&A35&\"\", \"Bar\", \"\", \"Close\",\"5\",\"0\",\"PrimaryOnly\",,,\"False\",\"T\",\"EveryTick\")","v":65.75},1.6228748068006137E-2,{"$f":"RTD(\"cqg.rtd\",,\"StudyData\", \"Close(\"&$D$12&\") when LocalYear(\"&$D$12&\")=\"&$D$9&\" and localMonth(\"&$D$12&\") =\"&$E$9&\" and LocalDay(\"&$D$12&\")=\"&$F$9&\" and Barix(\"&$D$12&\",reference:=StartOfSession)=\"&A35&\"\", \"Bar\", \"\", \"Close\",\"5\",\"0\",\"PrimaryOnly\",,,\"False\",\"T\",\"EveryTick\")","v":64.78},-1.0388023220287087E-2,{"$f":"RTD(\"cqg.rtd\",,\"StudyData\", \"Close(\"&$D$12&\") when LocalYear(\"&$D$12&\")=\"&$D$10&\" and localMonth(\"&$D$12&\") =\"&$E$10&\" and LocalDay(\"&$D$12&\")=\"&$F$10&\" and Barix(\"&$D$12&\",reference:=StartOfSession)=\"&A35&\"\", \"Bar\", \"\", \"Close\",\"5\",\"0\",\"PrimaryOnly\",,,\"False\",\"T\",\"EveryTick\")","v":64.81},2.0098948670376538E-3,null,null,null,""]
[35,"10:55:00","2018-06-04",2018,6,4,{"$f":"IF(RTD(\"cqg.rtd\",,\"StudyData\", \"Close(\"&$D$12&\") when LocalYear(\"&$D$12&\")=\"&D36&\" and localMonth(\"&$D$12&\") =\"&E36&\" and LocalDay(\"&$D$12&\")=\"&F36&\" and Barix(\"&$D$12&\",reference:=StartOfSession)=65\", \"Bar\", \"\", \"Close\",\"5\",\"0\",\"PrimaryOnly\",,,\"False\",\"T\",\"EveryTick\")=\"\",2,1)","v":1},{"$f":"RTD(\"cqg.rtd\",,\"StudyData\", \"Close(\"&$D$12&\") when LocalYear(\"&$D$12&\")=\"&$D$1&\" and localMonth(\"&$D$12&\") =\"&$E$1&\" and LocalDay(\"&$D$12&\")=\"&$F$1&\" and Barix(\"&$D$12&\",reference:=StartOfSession)=\"&A36&\"\", \"Bar\", \"\", \"Close\",\"5\",\"0\",\"PrimaryOnly\",,,\"False\",\"T\",\"EveryTick\")","v":""},{"$error":"#N/A"},{"$f":"RTD(\"cqg.rtd\",,\"StudyData\", \"Close(\"&$D$12&\") when LocalYear(\"&$D$12&\")=\"&$D$2&\" and localMonth(\"&$D$12&\") =\"&$E$2&\" and LocalDay(\"&$D$12&\")=\"&$F$2&\" and Barix(\"&$D$12&\",reference:=StartOfSession)=\"&A36&\"\", \"Bar\", \"\", \"Close\",\"5\",\"0\",\"PrimaryOnly\",,,\"False\",\"T\",\"EveryTick\")","v":64.569999999999993},-3.1788873894137121E-2,{"$f":"RTD(\"cqg.rtd\",,\"StudyData\", \"Close(\"&$D$12&\") when LocalYear(\"&$D$12&\")=\"&$D$3&\" and localMonth(\"&$D$12&\") =\"&$E$3&\" and LocalDay(\"&$D$12&\")=\"&$F$3&\" and Barix(\"&$D$12&\",reference:=StartOfSession)=\"&A36&\"\", \"Bar\", \"\", \"Close\",\"5\",\"0\",\"PrimaryOnly\",,,\"False\",\"T\",\"EveryTick\")","v":66.41},-1.6536380036079291E-3,{"$f":"RTD(\"cqg.rtd\",,\"StudyData\", \"Close(\"&$D$12&\") when LocalYear(\"&$D$12&\")=\"&$D$4&\" and localMonth(\"&$D$12&\") =\"&$E$4&\" and LocalDay(\"&$D$12&\")=\"&$F$4&\" and Barix(\"&$D$12&\",reference:=StartOfSession)=\"&A36&\"\", \"Bar\", \"\", \"Close\",\"5\",\"0\",\"PrimaryOnly\",,,\"False\",\"T\",\"EveryTick\")","v":66.459999999999994},2.7157513578755675E-3,{"$f":"RTD(\"cqg.rtd\",,\"StudyData\", \"Close(\"&$D$12&\") when LocalYear(\"&$D$12&\")=\"&$D$5&\" and localMonth(\"&$D$12&\") =\"&$E$5&\" and LocalDay(\"&$D$12&\")=\"&$F$5&\" and Barix(\"&$D$12&\",reference:=StartOfSession)=\"&A36&\"\", \"Bar\", \"\", \"Close\",\"5\",\"0\",\"PrimaryOnly\",,,\"False\",\"T\",\"EveryTick\")","v":66.31},4.2404967439043035E-3,{"$f":"RTD(\"cqg.rtd\",,\"StudyData\", \"Close(\"&$D$12&\") when LocalYear(\"&$D$12&\")=\"&$D$6&\" and localMonth(\"&$D$12&\") =\"&$E$6&\" and LocalDay(\"&$D$12&\")=\"&$F$6&\" and Barix(\"&$D$12&\",reference:=StartOfSession)=\"&A36&\"\", \"Bar\", \"\", \"Close\",\"5\",\"0\",\"PrimaryOnly\",,,\"False\",\"T\",\"EveryTick\")","v":66.150000000000006},7.3092736409319931E-3,{"$f":"RTD(\"cqg.rtd\",,\"StudyData\", \"Close(\"&$D$12&\") when LocalYear(\"&$D$12&\")=\"&$D$7&\" and localMonth(\"&$D$12&\") =\"&$E$7&\" and LocalDay(\"&$D$12&\")=\"&$F$7&\" and Barix(\"&$D$12&\",reference:=StartOfSession)=\"&A36&\"\", \"Bar\", \"\", \"Close\",\"5\",\"0\",\"PrimaryOnly\",,,\"False\",\"T\",\"EveryTick\")","v":65.459999999999994},-6.526028228866396E-3,{"$f":"RTD(\"cqg.rtd\",,\"StudyData\", \"Close(\"&$D$12&\") when LocalYear(\"&$D$12&\")=\"&$D$8&\" and localMonth(\"&$D$12&\") =\"&$E$8&\" and LocalDay(\"&$D$12&\")=\"&$F$8&\" and Barix(\"&$D$12&\",reference:=StartOfSession)=\"&A36&\"\", \"Bar\", \"\", \"Close\",\"5\",\"0\",\"PrimaryOnly\",,,\"False\",\"T\",\"EveryTick\")","v":65.739999999999995},1.6074188562596476E-2,{"$f":"RTD(\"cqg.rtd\",,\"StudyData\", \"Close(\"&$D$12&\") when LocalYear(\"&$D$12&\")=\"&$D$9&\" and localMonth(\"&$D$12&\") =\"&$E$9&\" and LocalDay(\"&$D$12&\")=\"&$F$9&\" and Barix(\"&$D$12&\",reference:=StartOfSession)=\"&A36&\"\", \"Bar\", \"\", \"Close\",\"5\",\"0\",\"PrimaryOnly\",,,\"False\",\"T\",\"EveryTick\")","v":64.739999999999995},-1.0999083409715841E-2,{"$f":"RTD(\"cqg.rtd\",,\"StudyData\", \"Close(\"&$D$12&\") when LocalYear(\"&$D$12&\")=\"&$D$10&\" and localMonth(\"&$D$12&\") =\"&$E$10&\" and LocalDay(\"&$D$12&\")=\"&$F$10&\" and Barix(\"&$D$12&\",reference:=StartOfSession)=\"&A36&\"\", \"Bar\", \"\", \"Close\",\"5\",\"0\",\"PrimaryOnly\",,,\"False\",\"T\",\"EveryTick\")","v":64.75},1.0822510822509766E-3,null,null,null,""]
[36,"11:00:00",null,null,null,null,null,{"$f":"RTD(\"cqg.rtd\",,\"StudyData\", \"Close(\"&$D$12&\") when LocalYear(\"&$D$12&\")=\"&$D$1&\" and localMonth(\"&$D$12&\") =\"&$E$1&\" and LocalDay(\"&$D$12&\")=\"&$F$1&\" and Barix(\"&$D$12&\",reference:=StartOfSession)=\"&A37&\"\", \"Bar\", \"\", \"Close\",\"5\",\"0\",\"PrimaryOnly\",,,\"False\",\"T\",\"EveryTick\")","v":""},{"$error":"#N/A"},{"$f":"RTD(\"cqg.rtd\",,\"StudyData\", \"Close(\"&$D$12&\") when LocalYear(\"&$D$12&\")=\"&$D$2&\" and localMonth(\"&$D$12&\") =\"&$E$2&\" and LocalDay(\"&$D$12&\")=\"&$F$2&\" and Barix(\"&$D$12&\",reference:=StartOfSession)=\"&A37&\"\", \"Bar\", \"\", \"Close\",\"5\",\"0\",\"PrimaryOnly\",,,\"False\",\"T\",\"EveryTick\")","v":64.56},-3.1938821412505557E-2,{"$f":"RTD(\"cqg.rtd\",,\"StudyData\", \"Close(\"&$D$12&\") when LocalYear(\"&$D$12&\")=\"&$D$3&\" and localMonth(\"&$D$12&\") =\"&$E$3&\" and LocalDay(\"&$D$12&\")=\"&$F$3&\" and Barix(\"&$D$12&\",reference:=StartOfSession)=\"&A37&\"\", \"Bar\", \"\", \"Close\",\"5\",\"0\",\"PrimaryOnly\",,,\"False\",\"T\",\"EveryTick\")","v":66.39},-1.9542994588093122E-3,{"$f":"RTD(\"cqg.rtd\",,\"StudyData\", \"Close(\"&$D$12&\") when LocalYear(\"&$D$12&\")=\"&$D$4&\" and localMonth(\"&$D$12&\") =\"&$E$4&\" and LocalDay(\"&$D$12&\")=\"&$F$4&\" and Barix(\"&$D$12&\",reference:=StartOfSession)=\"&A37&\"\", \"Bar\", \"\", \"Close\",\"5\",\"0\",\"PrimaryOnly\",,,\"False\",\"T\",\"EveryTick\")","v":66.48},3.0175015087507973E-3,{"$f":"RTD(\"cqg.rtd\",,\"StudyData\", \"Close(\"&$D$12&\") when LocalYear(\"&$D$12&\")=\"&$D$5&\" and localMonth(\"&$D$12&\") =\"&$E$5&\" and LocalDay(\"&$D$12&\")=\"&$F$5&\" and Barix(\"&$D$12&\",reference:=StartOfSession)=\"&A37&\"\", \"Bar\", \"\", \"Close\",\"5\",\"0\",\"PrimaryOnly\",,,\"False\",\"T\",\"EveryTick\")","v":66.34},4.6948356807512076E-3,{"$f":"RTD(\"cqg.rtd\",,\"StudyData\", \"Close(\"&$D$12&\") when LocalYear(\"&$D$12&\")=\"&$D$6&\" and localMonth(\"&$D$12&\") =\"&$E$6&\" and LocalDay(\"&$D$12&\")=\"&$F$6&\" and Barix(\"&$D$12&\",reference:=StartOfSession)=\"&A37&\"\", \"Bar\", \"\", \"Close\",\"5\",\"0\",\"PrimaryOnly\",,,\"False\",\"T\",\"EveryTick\")","v":66.09},6.395614435815467E-3,{"$f":"RTD(\"cqg.rtd\",,\"StudyData\", \"Close(\"&$D$12&\") when LocalYear(\"&$D$12&\")=\"&$D$7&\" and localMonth(\"&$D$12&\") =\"&$E$7&\" and LocalDay(\"&$D$12&\")=\"&$F$7&\" and Barix(\"&$D$12&\",reference:=StartOfSession)=\"&A37&\"\", \"Bar\", \"\", \"Close\",\"5\",\"0\",\"PrimaryOnly\",,,\"False\",\"T\",\"EveryTick\")","v":65.42},-7.1331006222491861E-3,{"$f":"RTD(\"cqg.rtd\",,\"StudyData\", \"Close(\"&$D$12&\") when LocalYear(\"&$D$12&\")=\"&$D$8&\" and localMonth(\"&$D$12&\") =\"&$E$8&\" and LocalDay(\"&$D$12&\")=\"&$F$8&\" and Barix(\"&$D$12&\",reference:=StartOfSession)=\"&A37&\"\", \"Bar\", \"\", \"Close\",\"5\",\"0\",\"PrimaryOnly\",,,\"False\",\"T\",\"EveryTick\")","v":65.849999999999994},1.7774343122101875E-2,{"$f":"RTD(\"cqg.rtd\",,\"StudyData\", \"Close(\"&$D$12&\") when LocalYear(\"&$D$12&\")=\"&$D$9&\" and localMonth(\"&$D$12&\") =\"&$E$9&\" and LocalDay(\"&$D$12&\")=\"&$F$9&\" and Barix(\"&$D$12&\",reference:=StartOfSession)=\"&A37&\"\", \"Bar\", \"\", \"Close\",\"5\",\"0\",\"PrimaryOnly\",,,\"False\",\"T\",\"EveryTick\")","v":64.61},-1.2985029025358912E-2,{"$f":"RTD(\"cqg.rtd\",,\"StudyData\", \"Close(\"&$D$12&\") when LocalYear(\"&$D$12&\")=\"&$D$10&\" and localMonth(\"&$D$12&\") =\"&$E$10&\" and LocalDay(\"&$D$12&\")=\"&$F$10&\" and Barix(\"&$D$12&\",reference:=StartOfSession)=\"&A37&\"\", \"Bar\", \"\", \"Close\",\"5\",\"0\",\"PrimaryOnly\",,,\"False\",\"T\",\"EveryTick\")","v":64.78},1.5460729746443152E-3,null,null,null,""]
[37,"11:05:00",-40,{"$f":" RTD(\"cqg.rtd\",,\"StudyData\", $D$12,  \"Tick\", \"FlatTicks=0\", \"Tick\",\"D\",C38,,,,,\"T\")","v":65.260000000000005},null,"CLE",null,{"$f":"RTD(\"cqg.rtd\",,\"StudyData\", \"Close(\"&$D$12&\") when LocalYear(\"&$D$12&\")=\"&$D$1&\" and localMonth(\"&$D$12&\") =\"&$E$1&\" and LocalDay(\"&$D$12&\")=\"&$F$1&\" and Barix(\"&$D$12&\",reference:=StartOfSession)=\"&A38&\"\", \"Bar\", \"\", \"Close\",\"5\",\"0\",\"PrimaryOnly\",,,\"False\",\"T\",\"EveryTick\")","v":""},{"$error":"#N/A"},{"$f":"RTD(\"cqg.rtd\",,\"StudyData\", \"Close(\"&$D$12&\") when LocalYear(\"&$D$12&\")=\"&$D$2&\" and localMonth(\"&$D$12&\") =\"&$E$2&\" and LocalDay(\"&$D$12&\")=\"&$F$2&\" and Barix(\"&$D$12&\",reference:=StartOfSession)=\"&A38&\"\", \"Bar\", \"\", \"Close\",\"5\",\"0\",\"PrimaryOnly\",,,\"False\",\"T\",\"EveryTick\")","v":64.63},-3.0889188783925662E-2,{"$f":"RTD(\"cqg.rtd\",,\"StudyData\", \"Close(\"&$D$12&\") when LocalYear(\"&$D$12&\")=\"&$D$3&\" and localMonth(\"&$D$12&\") =\"&$E$3&\" and LocalDay(\"&$D$12&\")=\"&$F$3&\" and Barix(\"&$D$12&\",reference:=StartOfSession)=\"&A38&\"\", \"Bar\", \"\", \"Close\",\"5\",\"0\",\"PrimaryOnly\",,,\"False\",\"T\",\"EveryTick\")","v":66.540000000000006},3.0066145520159698E-4,{"$f":"RTD(\"cqg.rtd\",,\"StudyData\", \"Close(\"&$D$12&\") when LocalYear(\"&$D$12&\")=\"&$D$4&\" and localMonth(\"&$D$12&\") =\"&$E$4&\" and LocalDay(\"&$D$12&\")=\"&$F$4&\" and Barix(\"&$D$12&\",reference:=StartOfSession)=\"&A38&\"\", \"Bar\", \"\", \"Close\",\"5\",\"0\",\"PrimaryOnly\",,,\"False\",\"T\",\"EveryTick\")","v":66.489999999999995},3.1683765841881979E-3,{"$f":"RTD(\"cqg.rtd\",,\"StudyData\", \"Close(\"&$D$12&\") when LocalYear(\"&$D$12&\")=\"&$D$5&\" and localMonth(\"&$D$12&\") =\"&$E$5&\" and LocalDay(\"&$D$12&\")=\"&$F$5&\" and Barix(\"&$D$12&\",reference:=StartOfSession)=\"&A38&\"\", \"Bar\", \"\", \"Close\",\"5\",\"0\",\"PrimaryOnly\",,,\"False\",\"T\",\"EveryTick\")","v":66.38},5.3006209298802716E-3,{"$f":"RTD(\"cqg.rtd\",,\"StudyData\", \"Close(\"&$D$12&\") when LocalYear(\"&$D$12&\")=\"&$D$6&\" and localMonth(\"&$D$12&\") =\"&$E$6&\" and LocalDay(\"&$D$12&\")=\"&$F$6&\" and Barix(\"&$D$12&\",reference:=StartOfSession)=\"&A38&\"\", \"Bar\", \"\", \"Close\",\"5\",\"0\",\"PrimaryOnly\",,,\"False\",\"T\",\"EveryTick\")","v":66.06},5.9387848332572036E-3,{"$f":"RTD(\"cqg.rtd\",,\"StudyData\", \"Close(\"&$D$12&\") when LocalYear(\"&$D$12&\")=\"&$D$7&\" and localMonth(\"&$D$12&\") =\"&$E$7&\" and LocalDay(\"&$D$12&\")=\"&$F$7&\" and Barix(\"&$D$12&\",reference:=StartOfSession)=\"&A38&\"\", \"Bar\", \"\", \"Close\",\"5\",\"0\",\"PrimaryOnly\",,,\"False\",\"T\",\"EveryTick\")","v":65.459999999999994},-6.526028228866396E-3,{"$f":"RTD(\"cqg.rtd\",,\"StudyData\", \"Close(\"&$D$12&\") when LocalYear(\"&$D$12&\")=\"&$D$8&\" and localMonth(\"&$D$12&\") =\"&$E$8&\" and LocalDay(\"&$D$12&\")=\"&$F$8&\" and Barix(\"&$D$12&\",reference:=StartOfSession)=\"&A38&\"\", \"Bar\", \"\", \"Close\",\"5\",\"0\",\"PrimaryOnly\",,,\"False\",\"T\",\"EveryTick\")","v":65.819999999999993},1.7310664605873112E-2,{"$f":"RTD(\"cqg.rtd\",,\"StudyData\", \"Close(\"&$D$12&\") when LocalYear(\"&$D$12&\")=\"&$D$9&\" and localMonth(\"&$D$12&\") =\"&$E$9&\" and LocalDay(\"&$D$12&\")=\"&$F$9&\" and Barix(\"&$D$12&\",reference:=StartOfSession)=\"&A38&\"\", \"Bar\", \"\", \"Close\",\"5\",\"0\",\"PrimaryOnly\",,,\"False\",\"T\",\"EveryTick\")","v":64.650000000000006},-1.2373968835930158E-2,{"$f":"RTD(\"cqg.rtd\",,\"StudyData\", \"Close(\"&$D$12&\") when LocalYear(\"&$D$12&\")=\"&$D$10&\" and localMonth(\"&$D$12&\") =\"&$E$10&\" and LocalDay(\"&$D$12&\")=\"&$F$10&\" and Barix(\"&$D$12&\",reference:=StartOfSession)=\"&A38&\"\", \"Bar\", \"\", \"Close\",\"5\",\"0\",\"PrimaryOnly\",,,\"False\",\"T\",\"EveryTick\")","v":64.92},3.7105751391464884E-3,null,null,null,""]
[38,"11:10:00",{"$f":"C38+1","v":-39},{"$f":" RTD(\"cqg.rtd\",,\"StudyData\", $D$12,  \"Tick\", \"FlatTicks=0\", \"Tick\",\"D\",C39,,,,,\"T\")","v":65.25},null,"BZ",null,{"$f":"RTD(\"cqg.rtd\",,\"StudyData\", \"Close(\"&$D$12&\") when LocalYear(\"&$D$12&\")=\"&$D$1&\" and localMonth(\"&$D$12&\") =\"&$E$1&\" and LocalDay(\"&$D$12&\")=\"&$F$1&\" and Barix(\"&$D$12&\",reference:=StartOfSession)=\"&A39&\"\", \"Bar\", \"\", \"Close\",\"5\",\"0\",\"PrimaryOnly\",,,\"False\",\"T\",\"EveryTick\")","v":""},{"$error":"#N/A"},{"$f":"RTD(\"cqg.rtd\",,\"StudyData\", \"Close(\"&$D$12&\") when LocalYear(\"&$D$12&\")=\"&$D$2&\" and localMonth(\"&$D$12&\") =\"&$E$2&\" and LocalDay(\"&$D$12&\")=\"&$F$2&\" and Barix(\"&$D$12&\",reference:=StartOfSession)=\"&A39&\"\", \"Bar\", \"\", \"Close\",\"5\",\"0\",\"PrimaryOnly\",,,\"False\",\"T\",\"EveryTick\")","v":64.540000000000006},-3.2238716449242637E-2,{"$f":"RTD(\"cqg.rtd\",,\"StudyData\", \"Close(\"&$D$12&\") when LocalYear(\"&$D$12&\")=\"&$D$3&\" and localMonth(\"&$D$12&\") =\"&$E$3&\" and LocalDay(\"&$D$12&\")=\"&$F$3&\" and Barix(\"&$D$12&\",reference:=StartOfSession)=\"&A39&\"\", \"Bar\", \"\", \"Close\",\"5\",\"0\",\"PrimaryOnly\",,,\"False\",\"T\",\"EveryTick\")","v":66.53},1.5033072760079849E-4,{"$f":"RTD(\"cqg.rtd\",,\"StudyData\", \"Close(\"&$D$12&\") when LocalYear(\"&$D$12&\")=\"&$D$4&\" and localMonth(\"&$D$12&\") =\"&$E$4&\" and LocalDay(\"&$D$12&\")=\"&$F$4&\" and Barix(\"&$D$12&\",reference:=StartOfSession)=\"&A39&\"\", \"Bar\", \"\", \"Close\",\"5\",\"0\",\"PrimaryOnly\",,,\"False\",\"T\",\"EveryTick\")","v":66.42},2.1122510561255364E-3,{"$f":"RTD(\"cqg.rtd\",,\"StudyData\", \"Close(\"&$D$12&\") when LocalYear(\"&$D$12&\")=\"&$D$5&\" and localMonth(\"&$D$12&\") =\"&$E$5&\" and LocalDay(\"&$D$12&\")=\"&$F$5&\" and Barix(\"&$D$12&\",reference:=StartOfSession)=\"&A39&\"\", \"Bar\", \"\", \"Close\",\"5\",\"0\",\"PrimaryOnly\",,,\"False\",\"T\",\"EveryTick\")","v":66.400000000000006},5.6035135544450177E-3,{"$f":"RTD(\"cqg.rtd\",,\"StudyData\", \"Close(\"&$D$12&\") when LocalYear(\"&$D$12&\")=\"&$D$6&\" and localMonth(\"&$D$12&\") =\"&$E$6&\" and LocalDay(\"&$D$12&\")=\"&$F$6&\" and Barix(\"&$D$12&\",reference:=StartOfSession)=\"&A39&\"\", \"Bar\", \"\", \"Close\",\"5\",\"0\",\"PrimaryOnly\",,,\"False\",\"T\",\"EveryTick\")","v":66.09},6.395614435815467E-3,{"$f":"RTD(\"cqg.rtd\",,\"StudyData\", \"Close(\"&$D$12&\") when LocalYear(\"&$D$12&\")=\"&$D$7&\" and localMonth(\"&$D$12&\") =\"&$E$7&\" and LocalDay(\"&$D$12&\")=\"&$F$7&\" and Barix(\"&$D$12&\",reference:=StartOfSession)=\"&A39&\"\", \"Bar\", \"\", \"Close\",\"5\",\"0\",\"PrimaryOnly\",,,\"False\",\"T\",\"EveryTick\")","v":65.489999999999995},-6.0707239338291955E-3,{"$f":"RTD(\"cqg.rtd\",,\"StudyData\", \"Close(\"&$D$12&\") when LocalYear(\"&$D$12&\")=\"&$D$8&\" and localMonth(\"&$D$12&\") =\"&$E$8&\" and LocalDay(\"&$D$12&\")=\"&$F$8&\" and Barix(\"&$D$12&\",reference:=StartOfSession)=\"&A39&\"\", \"Bar\", \"\", \"Close\",\"5\",\"0\",\"PrimaryOnly\",,,\"False\",\"T\",\"EveryTick\")","v":65.760000000000005},1.6383307573415801E-2,{"$f":"RTD(\"cqg.rtd\",,\"StudyData\", \"Close(\"&$D$12&\") when LocalYear(\"&$D$12&\")=\"&$D$9&\" and localMonth(\"&$D$12&\") =\"&$E$9&\" and LocalDay(\"&$D$12&\")=\"&$F$9&\" and Barix(\"&$D$12&\",reference:=StartOfSession)=\"&A39&\"\", \"Bar\", \"\", \"Close\",\"5\",\"0\",\"PrimaryOnly\",,,\"False\",\"T\",\"EveryTick\")","v":64.650000000000006},-1.2373968835930158E-2,{"$f":"RTD(\"cqg.rtd\",,\"StudyData\", \"Close(\"&$D$12&\") when LocalYear(\"&$D$12&\")=\"&$D$10&\" and localMonth(\"&$D$12&\") =\"&$E$10&\" and LocalDay(\"&$D$12&\")=\"&$F$10&\" and Barix(\"&$D$12&\",reference:=StartOfSession)=\"&A39&\"\", \"Bar\", \"\", \"Close\",\"5\",\"0\",\"PrimaryOnly\",,,\"False\",\"T\",\"EveryTick\")","v":64.91},3.5559678416819686E-3,null,null,null,""]
[39,"11:15:00",{"$f":"C39+1","v":-38},{"$f":" RTD(\"cqg.rtd\",,\"StudyData\", $D$12,  \"Tick\", \"FlatTicks=0\", \"Tick\",\"D\",C40,,,,,\"T\")","v":65.260000000000005},null,"HOE",null,{"$f":"RTD(\"cqg.rtd\",,\"StudyData\", \"Close(\"&$D$12&\") when LocalYear(\"&$D$12&\")=\"&$D$1&\" and localMonth(\"&$D$12&\") =\"&$E$1&\" and LocalDay(\"&$D$12&\")=\"&$F$1&\" and Barix(\"&$D$12&\",reference:=StartOfSession)=\"&A40&\"\", \"Bar\", \"\", \"Close\",\"5\",\"0\",\"PrimaryOnly\",,,\"False\",\"T\",\"EveryTick\")","v":""},{"$error":"#N/A"},{"$f":"RTD(\"cqg.rtd\",,\"StudyData\", \"Close(\"&$D$12&\") when LocalYear(\"&$D$12&\")=\"&$D$2&\" and localMonth(\"&$D$12&\") =\"&$E$2&\" and LocalDay(\"&$D$12&\")=\"&$F$2&\" and Barix(\"&$D$12&\",reference:=StartOfSession)=\"&A40&\"\", \"Bar\", \"\", \"Close\",\"5\",\"0\",\"PrimaryOnly\",,,\"False\",\"T\",\"EveryTick\")","v":64.48},-3.3138401559454099E-2,{"$f":"RTD(\"cqg.rtd\",,\"StudyData\", \"Close(\"&$D$12&\") when LocalYear(\"&$D$12&\")=\"&$D$3&\" and localMonth(\"&$D$12&\") =\"&$E$3&\" and LocalDay(\"&$D$12&\")=\"&$F$3&\" and Barix(\"&$D$12&\",reference:=StartOfSession)=\"&A40&\"\", \"Bar\", \"\", \"Close\",\"5\",\"0\",\"PrimaryOnly\",,,\"False\",\"T\",\"EveryTick\")","v":66.52},0,{"$f":"RTD(\"cqg.rtd\",,\"StudyData\", \"Close(\"&$D$12&\") when LocalYear(\"&$D$12&\")=\"&$D$4&\" and localMonth(\"&$D$12&\") =\"&$E$4&\" and LocalDay(\"&$D$12&\")=\"&$F$4&\" and Barix(\"&$D$12&\",reference:=StartOfSession)=\"&A40&\"\", \"Bar\", \"\", \"Close\",\"5\",\"0\",\"PrimaryOnly\",,,\"False\",\"T\",\"EveryTick\")","v":66.48},3.0175015087507973E-3,{"$f":"RTD(\"cqg.rtd\",,\"StudyData\", \"Close(\"&$D$12&\") when LocalYear(\"&$D$12&\")=\"&$D$5&\" and localMonth(\"&$D$12&\") =\"&$E$5&\" and LocalDay(\"&$D$12&\")=\"&$F$5&\" and Barix(\"&$D$12&\",reference:=StartOfSession)=\"&A40&\"\", \"Bar\", \"\", \"Close\",\"5\",\"0\",\"PrimaryOnly\",,,\"False\",\"T\",\"EveryTick\")","v":66.37},5.1491746175981127E-3,{"$f":"RTD(\"cqg.rtd\",,\"StudyData\", \"Close(\"&$D$12&\") when LocalYear(\"&$D$12&\")=\"&$D$6&\" and localMonth(\"&$D$12&\") =\"&$E$6&\" and LocalDay(\"&$D$12&\")=\"&$F$6&\" and Barix(\"&$D$12&\",reference:=StartOfSession)=\"&A40&\"\", \"Bar\", \"\", \"Close\",\"5\",\"0\",\"PrimaryOnly\",,,\"False\",\"T\",\"EveryTick\")","v":66.14},7.1569971067458327E-3,{"$f":"RTD(\"cqg.rtd\",,\"StudyData\", \"Close(\"&$D$12&\") when LocalYear(\"&$D$12&\")=\"&$D$7&\" and localMonth(\"&$D$12&\") =\"&$E$7&\" and LocalDay(\"&$D$12&\")=\"&$F$7&\" and Barix(\"&$D$12&\",reference:=StartOfSession)=\"&A40&\"\", \"Bar\", \"\", \"Close\",\"5\",\"0\",\"PrimaryOnly\",,,\"False\",\"T\",\"EveryTick\")","v":65.5},-5.91895583548339E-3,{"$f":"RTD(\"cqg.rtd\",,\"StudyData\", \"Close(\"&$D$12&\") when LocalYear(\"&$D$12&\")=\"&$D$8&\" and localMonth(\"&$D$12&\") =\"&$E$8&\" and LocalDay(\"&$D$12&\")=\"&$F$8&\" and Barix(\"&$D$12&\",reference:=StartOfSession)=\"&A40&\"\", \"Bar\", \"\", \"Close\",\"5\",\"0\",\"PrimaryOnly\",,,\"False\",\"T\",\"EveryTick\")","v":65.760000000000005},1.6383307573415801E-2,{"$f":"RTD(\"cqg.rtd\",,\"StudyData\", \"Close(\"&$D$12&\") when LocalYear(\"&$D$12&\")=\"&$D$9&\" and localMonth(\"&$D$12&\") =\"&$E$9&\" and LocalDay(\"&$D$12&\")=\"&$F$9&\" and Barix(\"&$D$12&\",reference:=StartOfSession)=\"&A40&\"\", \"Bar\", \"\", \"Close\",\"5\",\"0\",\"PrimaryOnly\",,,\"False\",\"T\",\"EveryTick\")","v":64.599999999999994},-1.3137794072716156E-2,{"$f":"RTD(\"cqg.rtd\",,\"StudyData\", \"Close(\"&$D$12&\") when LocalYear(\"&$D$12&\")=\"&$D$10&\" and localMonth(\"&$D$12&\") =\"&$E$10&\" and LocalDay(\"&$D$12&\")=\"&$F$10&\" and Barix(\"&$D$12&\",reference:=StartOfSession)=\"&A40&\"\", \"Bar\", \"\", \"Close\",\"5\",\"0\",\"PrimaryOnly\",,,\"False\",\"T\",\"EveryTick\")","v":64.819999999999993},2.1645021645019533E-3,null,null,null,""]
[40,"11:20:00",-37,{"$f":" RTD(\"cqg.rtd\",,\"StudyData\", $D$12,  \"Tick\", \"FlatTicks=0\", \"Tick\",\"D\",C41,,,,,\"T\")","v":65.25},null,"RBE",null,{"$f":"RTD(\"cqg.rtd\",,\"StudyData\", \"Close(\"&$D$12&\") when LocalYear(\"&$D$12&\")=\"&$D$1&\" and localMonth(\"&$D$12&\") =\"&$E$1&\" and LocalDay(\"&$D$12&\")=\"&$F$1&\" and Barix(\"&$D$12&\",reference:=StartOfSession)=\"&A41&\"\", \"Bar\", \"\", \"Close\",\"5\",\"0\",\"PrimaryOnly\",,,\"False\",\"T\",\"EveryTick\")","v":""},{"$error":"#N/A"},{"$f":"RTD(\"cqg.rtd\",,\"StudyData\", \"Close(\"&$D$12&\") when LocalYear(\"&$D$12&\")=\"&$D$2&\" and localMonth(\"&$D$12&\") =\"&$E$2&\" and LocalDay(\"&$D$12&\")=\"&$F$2&\" and Barix(\"&$D$12&\",reference:=StartOfSession)=\"&A41&\"\", \"Bar\", \"\", \"Close\",\"5\",\"0\",\"PrimaryOnly\",,,\"False\",\"T\",\"EveryTick\")","v":64.489999999999995},-3.2988454041085663E-2,{"$f":"RTD(\"cqg.rtd\",,\"StudyData\", \"Close(\"&$D$12&\") when LocalYear(\"&$D$12&\")=\"&$D$3&\" and localMonth(\"&$D$12&\") =\"&$E$3&\" and LocalDay(\"&$D$12&\")=\"&$F$3&\" and Barix(\"&$D$12&\",reference:=StartOfSession)=\"&A41&\"\", \"Bar\", \"\", \"Close\",\"5\",\"0\",\"PrimaryOnly\",,,\"False\",\"T\",\"EveryTick\")","v":66.52},0,{"$f":"RTD(\"cqg.rtd\",,\"StudyData\", \"Close(\"&$D$12&\") when LocalYear(\"&$D$12&\")=\"&$D$4&\" and localMonth(\"&$D$12&\") =\"&$E$4&\" and LocalDay(\"&$D$12&\")=\"&$F$4&\" and Barix(\"&$D$12&\",reference:=StartOfSession)=\"&A41&\"\", \"Bar\", \"\", \"Close\",\"5\",\"0\",\"PrimaryOnly\",,,\"False\",\"T\",\"EveryTick\")","v":66.47},2.8666264333131824E-3,{"$f":"RTD(\"cqg.rtd\",,\"StudyData\", \"Close(\"&$D$12&\") when LocalYear(\"&$D$12&\")=\"&$D$5&\" and localMonth(\"&$D$12&\") =\"&$E$5&\" and LocalDay(\"&$D$12&\")=\"&$F$5&\" and Barix(\"&$D$12&\",reference:=StartOfSession)=\"&A41&\"\", \"Bar\", \"\", \"Close\",\"5\",\"0\",\"PrimaryOnly\",,,\"False\",\"T\",\"EveryTick\")","v":66.37},5.1491746175981127E-3,{"$f":"RTD(\"cqg.rtd\",,\"StudyData\", \"Close(\"&$D$12&\") when LocalYear(\"&$D$12&\")=\"&$D$6&\" and localMonth(\"&$D$12&\") =\"&$E$6&\" and LocalDay(\"&$D$12&\")=\"&$F$6&\" and Barix(\"&$D$12&\",reference:=StartOfSession)=\"&A41&\"\", \"Bar\", \"\", \"Close\",\"5\",\"0\",\"PrimaryOnly\",,,\"False\",\"T\",\"EveryTick\")","v":66.11},6.7001675041875701E-3,{"$f":"RTD(\"cqg.rtd\",,\"StudyData\", \"Close(\"&$D$12&\") when LocalYear(\"&$D$12&\")=\"&$D$7&\" and localMonth(\"&$D$12&\") =\"&$E$7&\" and LocalDay(\"&$D$12&\")=\"&$F$7&\" and Barix(\"&$D$12&\",reference:=StartOfSession)=\"&A41&\"\", \"Bar\", \"\", \"Close\",\"5\",\"0\",\"PrimaryOnly\",,,\"False\",\"T\",\"EveryTick\")","v":65.45},-6.6777963272119855E-3,{"$f":"RTD(\"cqg.rtd\",,\"StudyData\", \"Close(\"&$D$12&\") when LocalYear(\"&$D$12&\")=\"&$D$8&\" and localMonth(\"&$D$12&\") =\"&$E$8&\" and LocalDay(\"&$D$12&\")=\"&$F$8&\" and Barix(\"&$D$12&\",reference:=StartOfSession)=\"&A41&\"\", \"Bar\", \"\", \"Close\",\"5\",\"0\",\"PrimaryOnly\",,,\"False\",\"T\",\"EveryTick\")","v":65.81},1.715610510046367E-2,{"$f":"RTD(\"cqg.rtd\",,\"StudyData\", \"Close(\"&$D$12&\") when LocalYear(\"&$D$12&\")=\"&$D$9&\" and localMonth(\"&$D$12&\") =\"&$E$9&\" and LocalDay(\"&$D$12&\")=\"&$F$9&\" and Barix(\"&$D$12&\",reference:=StartOfSession)=\"&A41&\"\", \"Bar\", \"\", \"Close\",\"5\",\"0\",\"PrimaryOnly\",,,\"False\",\"T\",\"EveryTick\")","v":64.569999999999993},-1.3596089214787667E-2,{"$f":"RTD(\"cqg.rtd\",,\"StudyData\", \"Close(\"&$D$12&\") when LocalYear(\"&$D$12&\")=\"&$D$10&\" and localMonth(\"&$D$12&\") =\"&$E$10&\" and LocalDay(\"&$D$12&\")=\"&$F$10&\" and Barix(\"&$D$12&\",reference:=StartOfSession)=\"&A41&\"\", \"Bar\", \"\", \"Close\",\"5\",\"0\",\"PrimaryOnly\",,,\"False\",\"T\",\"EveryTick\")","v":64.819999999999993},2.1645021645019533E-3,null,null,null,""]
[41,"11:25:00",-36,{"$f":" RTD(\"cqg.rtd\",,\"StudyData\", $D$12,  \"Tick\", \"FlatTicks=0\", \"Tick\",\"D\",C42,,,,,\"T\")","v":65.260000000000005},null,"NGE",null,{"$f":"RTD(\"cqg.rtd\",,\"StudyData\", \"Close(\"&$D$12&\") when LocalYear(\"&$D$12&\")=\"&$D$1&\" and localMonth(\"&$D$12&\") =\"&$E$1&\" and LocalDay(\"&$D$12&\")=\"&$F$1&\" and Barix(\"&$D$12&\",reference:=StartOfSession)=\"&A42&\"\", \"Bar\", \"\", \"Close\",\"5\",\"0\",\"PrimaryOnly\",,,\"False\",\"T\",\"EveryTick\")","v":""},{"$error":"#N/A"},{"$f":"RTD(\"cqg.rtd\",,\"StudyData\", \"Close(\"&$D$12&\") when LocalYear(\"&$D$12&\")=\"&$D$2&\" and localMonth(\"&$D$12&\") =\"&$E$2&\" and LocalDay(\"&$D$12&\")=\"&$F$2&\" and Barix(\"&$D$12&\",reference:=StartOfSession)=\"&A42&\"\", \"Bar\", \"\", \"Close\",\"5\",\"0\",\"PrimaryOnly\",,,\"False\",\"T\",\"EveryTick\")","v":64.52},-3.2538611485979932E-2,{"$f":"RTD(\"cqg.rtd\",,\"StudyData\", \"Close(\"&$D$12&\") when LocalYear(\"&$D$12&\")=\"&$D$3&\" and localMonth(\"&$D$12&\") =\"&$E$3&\" and LocalDay(\"&$D$12&\")=\"&$F$3&\" and Barix(\"&$D$12&\",reference:=StartOfSession)=\"&A42&\"\", \"Bar\", \"\", \"Close\",\"5\",\"0\",\"PrimaryOnly\",,,\"False\",\"T\",\"EveryTick\")","v":66.45},-1.0523150932049486E-3,{"$f":"RTD(\"cqg.rtd\",,\"StudyData\", \"Close(\"&$D$12&\") when LocalYear(\"&$D$12&\")=\"&$D$4&\" and localMonth(\"&$D$12&\") =\"&$E$4&\" and LocalDay(\"&$D$12&\")=\"&$F$4&\" and Barix(\"&$D$12&\",reference:=StartOfSession)=\"&A42&\"\", \"Bar\", \"\", \"Close\",\"5\",\"0\",\"PrimaryOnly\",,,\"False\",\"T\",\"EveryTick\")","v":66.48},3.0175015087507973E-3,{"$f":"RTD(\"cqg.rtd\",,\"StudyData\", \"Close(\"&$D$12&\") when LocalYear(\"&$D$12&\")=\"&$D$5&\" and localMonth(\"&$D$12&\") =\"&$E$5&\" and LocalDay(\"&$D$12&\")=\"&$F$5&\" and Barix(\"&$D$12&\",reference:=StartOfSession)=\"&A42&\"\", \"Bar\", \"\", \"Close\",\"5\",\"0\",\"PrimaryOnly\",,,\"False\",\"T\",\"EveryTick\")","v":66.37},5.1491746175981127E-3,{"$f":"RTD(\"cqg.rtd\",,\"StudyData\", \"Close(\"&$D$12&\") when LocalYear(\"&$D$12&\")=\"&$D$6&\" and localMonth(\"&$D$12&\") =\"&$E$6&\" and LocalDay(\"&$D$12&\")=\"&$F$6&\" and Barix(\"&$D$12&\",reference:=StartOfSession)=\"&A42&\"\", \"Bar\", \"\", \"Close\",\"5\",\"0\",\"PrimaryOnly\",,,\"False\",\"T\",\"EveryTick\")","v":66.099999999999994},6.5478909700014097E-3,{"$f":"RTD(\"cqg.rtd\",,\"StudyData\", \"Close(\"&$D$12&\") when LocalYear(\"&$D$12&\")=\"&$D$7&\" and localMonth(\"&$D$12&\") =\"&$E$7&\" and LocalDay(\"&$D$12&\")=\"&$F$7&\" and Barix(\"&$D$12&\",reference:=StartOfSession)=\"&A42&\"\", \"Bar\", \"\", \"Close\",\"5\",\"0\",\"PrimaryOnly\",,,\"False\",\"T\",\"EveryTick\")","v":65.459999999999994},-6.526028228866396E-3,{"$f":"RTD(\"cqg.rtd\",,\"StudyData\", \"Close(\"&$D$12&\") when LocalYear(\"&$D$12&\")=\"&$D$8&\" and localMonth(\"&$D$12&\") =\"&$E$8&\" and LocalDay(\"&$D$12&\")=\"&$F$8&\" and Barix(\"&$D$12&\",reference:=StartOfSession)=\"&A42&\"\", \"Bar\", \"\", \"Close\",\"5\",\"0\",\"PrimaryOnly\",,,\"False\",\"T\",\"EveryTick\")","v":65.81},1.715610510046367E-2,{"$f":"RTD(\"cqg.rtd\",,\"StudyData\", \"Close(\"&$D$12&\") when LocalYear(\"&$D$12&\")=\"&$D$9&\" and localMonth(\"&$D$12&\") =\"&$E$9&\" and LocalDay(\"&$D$12&\")=\"&$F$9&\" and Barix(\"&$D$12&\",reference:=StartOfSession)=\"&A42&\"\", \"Bar\", \"\", \"Close\",\"5\",\"0\",\"PrimaryOnly\",,,\"False\",\"T\",\"EveryTick\")","v":64.66},-1.2221203788573132E-2,{"$f":"RTD(\"cqg.rtd\",,\"StudyData\", \"Close(\"&$D$12&\") when LocalYear(\"&$D$12&\")=\"&$D$10&\" and localMonth(\"&$D$12&\") =\"&$E$10&\" and LocalDay(\"&$D$12&\")=\"&$F$10&\" and Barix(\"&$D$12&\",reference:=StartOfSession)=\"&A42&\"\", \"Bar\", \"\", \"Close\",\"5\",\"0\",\"PrimaryOnly\",,,\"False\",\"T\",\"EveryTick\")","v":64.88},3.0921459492886305E-3,null,null,null,""]
[42,"11:30:00",-35,{"$f":" RTD(\"cqg.rtd\",,\"StudyData\", $D$12,  \"Tick\", \"FlatTicks=0\", \"Tick\",\"D\",C43,,,,,\"T\")","v":65.25},null,null,null,{"$f":"RTD(\"cqg.rtd\",,\"StudyData\", \"Close(\"&$D$12&\") when LocalYear(\"&$D$12&\")=\"&$D$1&\" and localMonth(\"&$D$12&\") =\"&$E$1&\" and LocalDay(\"&$D$12&\")=\"&$F$1&\" and Barix(\"&$D$12&\",reference:=StartOfSession)=\"&A43&\"\", \"Bar\", \"\", \"Close\",\"5\",\"0\",\"PrimaryOnly\",,,\"False\",\"T\",\"EveryTick\")","v":""},{"$error":"#N/A"},{"$f":"RTD(\"cqg.rtd\",,\"StudyData\", \"Close(\"&$D$12&\") when LocalYear(\"&$D$12&\")=\"&$D$2&\" and localMonth(\"&$D$12&\") =\"&$E$2&\" and LocalDay(\"&$D$12&\")=\"&$F$2&\" and Barix(\"&$D$12&\",reference:=StartOfSession)=\"&A43&\"\", \"Bar\", \"\", \"Close\",\"5\",\"0\",\"PrimaryOnly\",,,\"False\",\"T\",\"EveryTick\")","v":64.48},-3.3138401559454099E-2,{"$f":"RTD(\"cqg.rtd\",,\"StudyData\", \"Close(\"&$D$12&\") when LocalYear(\"&$D$12&\")=\"&$D$3&\" and localMonth(\"&$D$12&\") =\"&$E$3&\" and LocalDay(\"&$D$12&\")=\"&$F$3&\" and Barix(\"&$D$12&\",reference:=StartOfSession)=\"&A43&\"\", \"Bar\", \"\", \"Close\",\"5\",\"0\",\"PrimaryOnly\",,,\"False\",\"T\",\"EveryTick\")","v":66.459999999999994},-9.0198436560436372E-4,{"$f":"RTD(\"cqg.rtd\",,\"StudyData\", \"Close(\"&$D$12&\") when LocalYear(\"&$D$12&\")=\"&$D$4&\" and localMonth(\"&$D$12&\") =\"&$E$4&\" and LocalDay(\"&$D$12&\")=\"&$F$4&\" and Barix(\"&$D$12&\",reference:=StartOfSession)=\"&A43&\"\", \"Bar\", \"\", \"Close\",\"5\",\"0\",\"PrimaryOnly\",,,\"False\",\"T\",\"EveryTick\")","v":66.52},3.6210018105008279E-3,{"$f":"RTD(\"cqg.rtd\",,\"StudyData\", \"Close(\"&$D$12&\") when LocalYear(\"&$D$12&\")=\"&$D$5&\" and localMonth(\"&$D$12&\") =\"&$E$5&\" and LocalDay(\"&$D$12&\")=\"&$F$5&\" and Barix(\"&$D$12&\",reference:=StartOfSession)=\"&A43&\"\", \"Bar\", \"\", \"Close\",\"5\",\"0\",\"PrimaryOnly\",,,\"False\",\"T\",\"EveryTick\")","v":66.33},4.5433893684688345E-3,{"$f":"RTD(\"cqg.rtd\",,\"StudyData\", \"Close(\"&$D$12&\") when LocalYear(\"&$D$12&\")=\"&$D$6&\" and localMonth(\"&$D$12&\") =\"&$E$6&\" and LocalDay(\"&$D$12&\")=\"&$F$6&\" and Barix(\"&$D$12&\",reference:=StartOfSession)=\"&A43&\"\", \"Bar\", \"\", \"Close\",\"5\",\"0\",\"PrimaryOnly\",,,\"False\",\"T\",\"EveryTick\")","v":66.06},5.9387848332572036E-3,{"$f":"RTD(\"cqg.rtd\",,\"StudyData\", \"Close(\"&$D$12&\") when LocalYear(\"&$D$12&\")=\"&$D$7&\" and localMonth(\"&$D$12&\") =\"&$E$7&\" and LocalDay(\"&$D$12&\")=\"&$F$7&\" and Barix(\"&$D$12&\",reference:=StartOfSession)=\"&A43&\"\", \"Bar\", \"\", \"Close\",\"5\",\"0\",\"PrimaryOnly\",,,\"False\",\"T\",\"EveryTick\")","v":65.459999999999994},-6.526028228866396E-3,{"$f":"RTD(\"cqg.rtd\",,\"StudyData\", \"Close(\"&$D$12&\") when LocalYear(\"&$D$12&\")=\"&$D$8&\" and localMonth(\"&$D$12&\") =\"&$E$8&\" and LocalDay(\"&$D$12&\")=\"&$F$8&\" and Barix(\"&$D$12&\",reference:=StartOfSession)=\"&A43&\"\", \"Bar\", \"\", \"Close\",\"5\",\"0\",\"PrimaryOnly\",,,\"False\",\"T\",\"EveryTick\")","v":65.83},1.7465224111282773E-2,{"$f":"RTD(\"cqg.rtd\",,\"StudyData\", \"Close(\"&$D$12&\") when LocalYear(\"&$D$12&\")=\"&$D$9&\" and localMonth(\"&$D$12&\") =\"&$E$9&\" and LocalDay(\"&$D$12&\")=\"&$F$9&\" and Barix(\"&$D$12&\",reference:=StartOfSession)=\"&A43&\"\", \"Bar\", \"\", \"Close\",\"5\",\"0\",\"PrimaryOnly\",,,\"False\",\"T\",\"EveryTick\")","v":64.61},-1.2985029025358912E-2,{"$f":"RTD(\"cqg.rtd\",,\"StudyData\", \"Close(\"&$D$12&\") when LocalYear(\"&$D$12&\")=\"&$D$10&\" and localMonth(\"&$D$12&\") =\"&$E$10&\" and LocalDay(\"&$D$12&\")=\"&$F$10&\" and Barix(\"&$D$12&\",reference:=StartOfSession)=\"&A43&\"\", \"Bar\", \"\", \"Close\",\"5\",\"0\",\"PrimaryOnly\",,,\"False\",\"T\",\"EveryTick\")","v":64.92},3.7105751391464884E-3,null,null,null,""]
[43,"11:35:00",-34,{"$f":" RTD(\"cqg.rtd\",,\"StudyData\", $D$12,  \"Tick\", \"FlatTicks=0\", \"Tick\",\"D\",C44,,,,,\"T\")","v":65.260000000000005},null,null,null,{"$f":"RTD(\"cqg.rtd\",,\"StudyData\", \"Close(\"&$D$12&\") when LocalYear(\"&$D$12&\")=\"&$D$1&\" and localMonth(\"&$D$12&\") =\"&$E$1&\" and LocalDay(\"&$D$12&\")=\"&$F$1&\" and Barix(\"&$D$12&\",reference:=StartOfSession)=\"&A44&\"\", \"Bar\", \"\", \"Close\",\"5\",\"0\",\"PrimaryOnly\",,,\"False\",\"T\",\"EveryTick\")","v":""},{"$error":"#N/A"},{"$f":"RTD(\"cqg.rtd\",,\"StudyData\", \"Close(\"&$D$12&\") when LocalYear(\"&$D$12&\")=\"&$D$2&\" and localMonth(\"&$D$12&\") =\"&$E$2&\" and LocalDay(\"&$D$12&\")=\"&$F$2&\" and Barix(\"&$D$12&\",reference:=StartOfSession)=\"&A44&\"\", \"Bar\", \"\", \"Close\",\"5\",\"0\",\"PrimaryOnly\",,,\"False\",\"T\",\"EveryTick\")","v":64.75},-2.9089818563502741E-2,{"$f":"RTD(\"cqg.rtd\",,\"StudyData\", \"Close(\"&$D$12&\") when LocalYear(\"&$D$12&\")=\"&$D$3&\" and localMonth(\"&$D$12&\") =\"&$E$3&\" and LocalDay(\"&$D$12&\")=\"&$F$3&\" and Barix(\"&$D$12&\",reference:=StartOfSession)=\"&A44&\"\", \"Bar\", \"\", \"Close\",\"5\",\"0\",\"PrimaryOnly\",,,\"False\",\"T\",\"EveryTick\")","v":66.489999999999995},-4.5099218280218186E-4,{"$f":"RTD(\"cqg.rtd\",,\"StudyData\", \"Close(\"&$D$12&\") when LocalYear(\"&$D$12&\")=\"&$D$4&\" and localMonth(\"&$D$12&\") =\"&$E$4&\" and LocalDay(\"&$D$12&\")=\"&$F$4&\" and Barix(\"&$D$12&\",reference:=StartOfSession)=\"&A44&\"\", \"Bar\", \"\", \"Close\",\"5\",\"0\",\"PrimaryOnly\",,,\"False\",\"T\",\"EveryTick\")","v":66.48},3.0175015087507973E-3,{"$f":"RTD(\"cqg.rtd\",,\"StudyData\", \"Close(\"&$D$12&\") when LocalYear(\"&$D$12&\")=\"&$D$5&\" and localMonth(\"&$D$12&\") =\"&$E$5&\" and LocalDay(\"&$D$12&\")=\"&$F$5&\" and Barix(\"&$D$12&\",reference:=StartOfSession)=\"&A44&\"\", \"Bar\", \"\", \"Close\",\"5\",\"0\",\"PrimaryOnly\",,,\"False\",\"T\",\"EveryTick\")","v":66.38},5.3006209298802716E-3,{"$f":"RTD(\"cqg.rtd\",,\"StudyData\", \"Close(\"&$D$12&\") when LocalYear(\"&$D$12&\")=\"&$D$6&\" and localMonth(\"&$D$12&\") =\"&$E$6&\" and LocalDay(\"&$D$12&\")=\"&$F$6&\" and Barix(\"&$D$12&\",reference:=StartOfSession)=\"&A44&\"\", \"Bar\", \"\", \"Close\",\"5\",\"0\",\"PrimaryOnly\",,,\"False\",\"T\",\"EveryTick\")","v":65.959999999999994},4.4160194913962546E-3,{"$f":"RTD(\"cqg.rtd\",,\"StudyData\", \"Close(\"&$D$12&\") when LocalYear(\"&$D$12&\")=\"&$D$7&\" and localMonth(\"&$D$12&\") =\"&$E$7&\" and LocalDay(\"&$D$12&\")=\"&$F$7&\" and Barix(\"&$D$12&\",reference:=StartOfSession)=\"&A44&\"\", \"Bar\", \"\", \"Close\",\"5\",\"0\",\"PrimaryOnly\",,,\"False\",\"T\",\"EveryTick\")","v":65.52},-5.615419638791995E-3,{"$f":"RTD(\"cqg.rtd\",,\"StudyData\", \"Close(\"&$D$12&\") when LocalYear(\"&$D$12&\")=\"&$D$8&\" and localMonth(\"&$D$12&\") =\"&$E$8&\" and LocalDay(\"&$D$12&\")=\"&$F$8&\" and Barix(\"&$D$12&\",reference:=StartOfSession)=\"&A44&\"\", \"Bar\", \"\", \"Close\",\"5\",\"0\",\"PrimaryOnly\",,,\"False\",\"T\",\"EveryTick\")","v":65.8},1.7001545595054006E-2,{"$f":"RTD(\"cqg.rtd\",,\"StudyData\", \"Close(\"&$D$12&\") when LocalYear(\"&$D$12&\")=\"&$D$9&\" and localMonth(\"&$D$12&\") =\"&$E$9&\" and LocalDay(\"&$D$12&\")=\"&$F$9&\" and Barix(\"&$D$12&\",reference:=StartOfSession)=\"&A44&\"\", \"Bar\", \"\", \"Close\",\"5\",\"0\",\"PrimaryOnly\",,,\"False\",\"T\",\"EveryTick\")","v":64.55},-1.3901619309501935E-2,{"$f":"RTD(\"cqg.rtd\",,\"StudyData\", \"Close(\"&$D$12&\") when LocalYear(\"&$D$12&\")=\"&$D$10&\" and localMonth(\"&$D$12&\") =\"&$E$10&\" and LocalDay(\"&$D$12&\")=\"&$F$10&\" and Barix(\"&$D$12&\",reference:=StartOfSession)=\"&A44&\"\", \"Bar\", \"\", \"Close\",\"5\",\"0\",\"PrimaryOnly\",,,\"False\",\"T\",\"EveryTick\")","v":65},4.947433518861984E-3,null,null,null,""]
[44,"11:40:00",-33,{"$f":" RTD(\"cqg.rtd\",,\"StudyData\", $D$12,  \"Tick\", \"FlatTicks=0\", \"Tick\",\"D\",C45,,,,,\"T\")","v":65.25},null,null,null,{"$f":"RTD(\"cqg.rtd\",,\"StudyData\", \"Close(\"&$D$12&\") when LocalYear(\"&$D$12&\")=\"&$D$1&\" and localMonth(\"&$D$12&\") =\"&$E$1&\" and LocalDay(\"&$D$12&\")=\"&$F$1&\" and Barix(\"&$D$12&\",reference:=StartOfSession)=\"&A45&\"\", \"Bar\", \"\", \"Close\",\"5\",\"0\",\"PrimaryOnly\",,,\"False\",\"T\",\"EveryTick\")","v":""},{"$error":"#N/A"},{"$f":"RTD(\"cqg.rtd\",,\"StudyData\", \"Close(\"&$D$12&\") when LocalYear(\"&$D$12&\")=\"&$D$2&\" and localMonth(\"&$D$12&\") =\"&$E$2&\" and LocalDay(\"&$D$12&\")=\"&$F$2&\" and Barix(\"&$D$12&\",reference:=StartOfSession)=\"&A45&\"\", \"Bar\", \"\", \"Close\",\"5\",\"0\",\"PrimaryOnly\",,,\"False\",\"T\",\"EveryTick\")","v":64.72},-2.9539661118608472E-2,{"$f":"RTD(\"cqg.rtd\",,\"StudyData\", \"Close(\"&$D$12&\") when LocalYear(\"&$D$12&\")=\"&$D$3&\" and localMonth(\"&$D$12&\") =\"&$E$3&\" and LocalDay(\"&$D$12&\")=\"&$F$3&\" and Barix(\"&$D$12&\",reference:=StartOfSession)=\"&A45&\"\", \"Bar\", \"\", \"Close\",\"5\",\"0\",\"PrimaryOnly\",,,\"False\",\"T\",\"EveryTick\")","v":66.489999999999995},-4.5099218280218186E-4,{"$f":"RTD(\"cqg.rtd\",,\"StudyData\", \"Close(\"&$D$12&\") when LocalYear(\"&$D$12&\")=\"&$D$4&\" and localMonth(\"&$D$12&\") =\"&$E$4&\" and LocalDay(\"&$D$12&\")=\"&$F$4&\" and Barix(\"&$D$12&\",reference:=StartOfSession)=\"&A45&\"\", \"Bar\", \"\", \"Close\",\"5\",\"0\",\"PrimaryOnly\",,,\"False\",\"T\",\"EveryTick\")","v":66.459999999999994},2.7157513578755675E-3,{"$f":"RTD(\"cqg.rtd\",,\"StudyData\", \"Close(\"&$D$12&\") when LocalYear(\"&$D$12&\")=\"&$D$5&\" and localMonth(\"&$D$12&\") =\"&$E$5&\" and LocalDay(\"&$D$12&\")=\"&$F$5&\" and Barix(\"&$D$12&\",reference:=StartOfSession)=\"&A45&\"\", \"Bar\", \"\", \"Close\",\"5\",\"0\",\"PrimaryOnly\",,,\"False\",\"T\",\"EveryTick\")","v":66.37},5.1491746175981127E-3,{"$f":"RTD(\"cqg.rtd\",,\"StudyData\", \"Close(\"&$D$12&\") when LocalYear(\"&$D$12&\")=\"&$D$6&\" and localMonth(\"&$D$12&\") =\"&$E$6&\" and LocalDay(\"&$D$12&\")=\"&$F$6&\" and Barix(\"&$D$12&\",reference:=StartOfSession)=\"&A45&\"\", \"Bar\", \"\", \"Close\",\"5\",\"0\",\"PrimaryOnly\",,,\"False\",\"T\",\"EveryTick\")","v":65.97},4.5682960255824141E-3,{"$f":"RTD(\"cqg.rtd\",,\"StudyData\", \"Close(\"&$D$12&\") when LocalYear(\"&$D$12&\")=\"&$D$7&\" and localMonth(\"&$D$12&\") =\"&$E$7&\" and LocalDay(\"&$D$12&\")=\"&$F$7&\" and Barix(\"&$D$12&\",reference:=StartOfSession)=\"&A45&\"\", \"Bar\", \"\", \"Close\",\"5\",\"0\",\"PrimaryOnly\",,,\"False\",\"T\",\"EveryTick\")","v":65.59},-4.5530429503717884E-3,{"$f":"RTD(\"cqg.rtd\",,\"StudyData\", \"Close(\"&$D$12&\") when LocalYear(\"&$D$12&\")=\"&$D$8&\" and localMonth(\"&$D$12&\") =\"&$E$8&\" and LocalDay(\"&$D$12&\")=\"&$F$8&\" and Barix(\"&$D$12&\",reference:=StartOfSession)=\"&A45&\"\", \"Bar\", \"\", \"Close\",\"5\",\"0\",\"PrimaryOnly\",,,\"False\",\"T\",\"EveryTick\")","v":65.77},1.6537867078825243E-2,{"$f":"RTD(\"cqg.rtd\",,\"StudyData\", \"Close(\"&$D$12&\") when LocalYear(\"&$D$12&\")=\"&$D$9&\" and localMonth(\"&$D$12&\") =\"&$E$9&\" and LocalDay(\"&$D$12&\")=\"&$F$9&\" and Barix(\"&$D$12&\",reference:=StartOfSession)=\"&A45&\"\", \"Bar\", \"\", \"Close\",\"5\",\"0\",\"PrimaryOnly\",,,\"False\",\"T\",\"EveryTick\")","v":64.66},-1.2221203788573132E-2,{"$f":"RTD(\"cqg.rtd\",,\"StudyData\", \"Close(\"&$D$12&\") when LocalYear(\"&$D$12&\")=\"&$D$10&\" and localMonth(\"&$D$12&\") =\"&$E$10&\" and LocalDay(\"&$D$12&\")=\"&$F$10&\" and Barix(\"&$D$12&\",reference:=StartOfSession)=\"&A45&\"\", \"Bar\", \"\", \"Close\",\"5\",\"0\",\"PrimaryOnly\",,,\"False\",\"T\",\"EveryTick\")","v":65.08},6.1842918985774804E-3,null,null,null,""]
[45,"11:45:00",-32,{"$f":" RTD(\"cqg.rtd\",,\"StudyData\", $D$12,  \"Tick\", \"FlatTicks=0\", \"Tick\",\"D\",C46,,,,,\"T\")","v":65.260000000000005},null,null,null,{"$f":"RTD(\"cqg.rtd\",,\"StudyData\", \"Close(\"&$D$12&\") when LocalYear(\"&$D$12&\")=\"&$D$1&\" and localMonth(\"&$D$12&\") =\"&$E$1&\" and LocalDay(\"&$D$12&\")=\"&$F$1&\" and Barix(\"&$D$12&\",reference:=StartOfSession)=\"&A46&\"\", \"Bar\", \"\", \"Close\",\"5\",\"0\",\"PrimaryOnly\",,,\"False\",\"T\",\"EveryTick\")","v":""},{"$error":"#N/A"},{"$f":"RTD(\"cqg.rtd\",,\"StudyData\", \"Close(\"&$D$12&\") when LocalYear(\"&$D$12&\")=\"&$D$2&\" and localMonth(\"&$D$12&\") =\"&$E$2&\" and LocalDay(\"&$D$12&\")=\"&$F$2&\" and Barix(\"&$D$12&\",reference:=StartOfSession)=\"&A46&\"\", \"Bar\", \"\", \"Close\",\"5\",\"0\",\"PrimaryOnly\",,,\"False\",\"T\",\"EveryTick\")","v":64.64},-3.0739241265557014E-2,{"$f":"RTD(\"cqg.rtd\",,\"StudyData\", \"Close(\"&$D$12&\") when LocalYear(\"&$D$12&\")=\"&$D$3&\" and localMonth(\"&$D$12&\") =\"&$E$3&\" and LocalDay(\"&$D$12&\")=\"&$F$3&\" and Barix(\"&$D$12&\",reference:=StartOfSession)=\"&A46&\"\", \"Bar\", \"\", \"Close\",\"5\",\"0\",\"PrimaryOnly\",,,\"False\",\"T\",\"EveryTick\")","v":66.45},-1.0523150932049486E-3,{"$f":"RTD(\"cqg.rtd\",,\"StudyData\", \"Close(\"&$D$12&\") when LocalYear(\"&$D$12&\")=\"&$D$4&\" and localMonth(\"&$D$12&\") =\"&$E$4&\" and LocalDay(\"&$D$12&\")=\"&$F$4&\" and Barix(\"&$D$12&\",reference:=StartOfSession)=\"&A46&\"\", \"Bar\", \"\", \"Close\",\"5\",\"0\",\"PrimaryOnly\",,,\"False\",\"T\",\"EveryTick\")","v":66.45},2.5648762824381668E-3,{"$f":"RTD(\"cqg.rtd\",,\"StudyData\", \"Close(\"&$D$12&\") when LocalYear(\"&$D$12&\")=\"&$D$5&\" and localMonth(\"&$D$12&\") =\"&$E$5&\" and LocalDay(\"&$D$12&\")=\"&$F$5&\" and Barix(\"&$D$12&\",reference:=StartOfSession)=\"&A46&\"\", \"Bar\", \"\", \"Close\",\"5\",\"0\",\"PrimaryOnly\",,,\"False\",\"T\",\"EveryTick\")","v":66.34},4.6948356807512076E-3,{"$f":"RTD(\"cqg.rtd\",,\"StudyData\", \"Close(\"&$D$12&\") when LocalYear(\"&$D$12&\")=\"&$D$6&\" and localMonth(\"&$D$12&\") =\"&$E$6&\" and LocalDay(\"&$D$12&\")=\"&$F$6&\" and Barix(\"&$D$12&\",reference:=StartOfSession)=\"&A46&\"\", \"Bar\", \"\", \"Close\",\"5\",\"0\",\"PrimaryOnly\",,,\"False\",\"T\",\"EveryTick\")","v":66},5.0251256281406776E-3,{"$f":"RTD(\"cqg.rtd\",,\"StudyData\", \"Close(\"&$D$12&\") when LocalYear(\"&$D$12&\")=\"&$D$7&\" and localMonth(\"&$D$12&\") =\"&$E$7&\" and LocalDay(\"&$D$12&\")=\"&$F$7&\" and Barix(\"&$D$12&\",reference:=StartOfSession)=\"&A46&\"\", \"Bar\", \"\", \"Close\",\"5\",\"0\",\"PrimaryOnly\",,,\"False\",\"T\",\"EveryTick\")","v":65.599999999999994},-4.4012748520261989E-3,{"$f":"RTD(\"cqg.rtd\",,\"StudyData\", \"Close(\"&$D$12&\") when LocalYear(\"&$D$12&\")=\"&$D$8&\" and localMonth(\"&$D$12&\") =\"&$E$8&\" and LocalDay(\"&$D$12&\")=\"&$F$8&\" and Barix(\"&$D$12&\",reference:=StartOfSession)=\"&A46&\"\", \"Bar\", \"\", \"Close\",\"5\",\"0\",\"PrimaryOnly\",,,\"False\",\"T\",\"EveryTick\")","v":65.78},1.6692426584234903E-2,{"$f":"RTD(\"cqg.rtd\",,\"StudyData\", \"Close(\"&$D$12&\") when LocalYear(\"&$D$12&\")=\"&$D$9&\" and localMonth(\"&$D$12&\") =\"&$E$9&\" and LocalDay(\"&$D$12&\")=\"&$F$9&\" and Barix(\"&$D$12&\",reference:=StartOfSession)=\"&A46&\"\", \"Bar\", \"\", \"Close\",\"5\",\"0\",\"PrimaryOnly\",,,\"False\",\"T\",\"EveryTick\")","v":64.709999999999994},-1.1457378551787353E-2,{"$f":"RTD(\"cqg.rtd\",,\"StudyData\", \"Close(\"&$D$12&\") when LocalYear(\"&$D$12&\")=\"&$D$10&\" and localMonth(\"&$D$12&\") =\"&$E$10&\" and LocalDay(\"&$D$12&\")=\"&$F$10&\" and Barix(\"&$D$12&\",reference:=StartOfSession)=\"&A46&\"\", \"Bar\", \"\", \"Close\",\"5\",\"0\",\"PrimaryOnly\",,,\"False\",\"T\",\"EveryTick\")","v":65.010000000000005},5.1020408163265033E-3,null,null,null,""]
[46,"11:50:00",-31,{"$f":" RTD(\"cqg.rtd\",,\"StudyData\", $D$12,  \"Tick\", \"FlatTicks=0\", \"Tick\",\"D\",C47,,,,,\"T\")","v":65.25},null,null,null,{"$f":"RTD(\"cqg.rtd\",,\"StudyData\", \"Close(\"&$D$12&\") when LocalYear(\"&$D$12&\")=\"&$D$1&\" and localMonth(\"&$D$12&\") =\"&$E$1&\" and LocalDay(\"&$D$12&\")=\"&$F$1&\" and Barix(\"&$D$12&\",reference:=StartOfSession)=\"&A47&\"\", \"Bar\", \"\", \"Close\",\"5\",\"0\",\"PrimaryOnly\",,,\"False\",\"T\",\"EveryTick\")","v":""},{"$error":"#N/A"},{"$f":"RTD(\"cqg.rtd\",,\"StudyData\", \"Close(\"&$D$12&\") when LocalYear(\"&$D$12&\")=\"&$D$2&\" and localMonth(\"&$D$12&\") =\"&$E$2&\" and LocalDay(\"&$D$12&\")=\"&$F$2&\" and Barix(\"&$D$12&\",reference:=StartOfSession)=\"&A47&\"\", \"Bar\", \"\", \"Close\",\"5\",\"0\",\"PrimaryOnly\",,,\"False\",\"T\",\"EveryTick\")","v":64.73},-2.9389713600239824E-2,{"$f":"RTD(\"cqg.rtd\",,\"StudyData\", \"Close(\"&$D$12&\") when LocalYear(\"&$D$12&\")=\"&$D$3&\" and localMonth(\"&$D$12&\") =\"&$E$3&\" and LocalDay(\"&$D$12&\")=\"&$F$3&\" and Barix(\"&$D$12&\",reference:=StartOfSession)=\"&A47&\"\", \"Bar\", \"\", \"Close\",\"5\",\"0\",\"PrimaryOnly\",,,\"False\",\"T\",\"EveryTick\")","v":66.459999999999994},-9.0198436560436372E-4,{"$f":"RTD(\"cqg.rtd\",,\"StudyData\", \"Close(\"&$D$12&\") when LocalYear(\"&$D$12&\")=\"&$D$4&\" and localMonth(\"&$D$12&\") =\"&$E$4&\" and LocalDay(\"&$D$12&\")=\"&$F$4&\" and Barix(\"&$D$12&\",reference:=StartOfSession)=\"&A47&\"\", \"Bar\", \"\", \"Close\",\"5\",\"0\",\"PrimaryOnly\",,,\"False\",\"T\",\"EveryTick\")","v":66.45},2.5648762824381668E-3,{"$f":"RTD(\"cqg.rtd\",,\"StudyData\", \"Close(\"&$D$12&\") when LocalYear(\"&$D$12&\")=\"&$D$5&\" and localMonth(\"&$D$12&\") =\"&$E$5&\" and LocalDay(\"&$D$12&\")=\"&$F$5&\" and Barix(\"&$D$12&\",reference:=StartOfSession)=\"&A47&\"\", \"Bar\", \"\", \"Close\",\"5\",\"0\",\"PrimaryOnly\",,,\"False\",\"T\",\"EveryTick\")","v":66.37},5.1491746175981127E-3,{"$f":"RTD(\"cqg.rtd\",,\"StudyData\", \"Close(\"&$D$12&\") when LocalYear(\"&$D$12&\")=\"&$D$6&\" and localMonth(\"&$D$12&\") =\"&$E$6&\" and LocalDay(\"&$D$12&\")=\"&$F$6&\" and Barix(\"&$D$12&\",reference:=StartOfSession)=\"&A47&\"\", \"Bar\", \"\", \"Close\",\"5\",\"0\",\"PrimaryOnly\",,,\"False\",\"T\",\"EveryTick\")","v":66.02},5.3296786965127806E-3,{"$f":"RTD(\"cqg.rtd\",,\"StudyData\", \"Close(\"&$D$12&\") when LocalYear(\"&$D$12&\")=\"&$D$7&\" and localMonth(\"&$D$12&\") =\"&$E$7&\" and LocalDay(\"&$D$12&\")=\"&$F$7&\" and Barix(\"&$D$12&\",reference:=StartOfSession)=\"&A47&\"\", \"Bar\", \"\", \"Close\",\"5\",\"0\",\"PrimaryOnly\",,,\"False\",\"T\",\"EveryTick\")","v":65.569999999999993},-4.8565791470633994E-3,{"$f":"RTD(\"cqg.rtd\",,\"StudyData\", \"Close(\"&$D$12&\") when LocalYear(\"&$D$12&\")=\"&$D$8&\" and localMonth(\"&$D$12&\") =\"&$E$8&\" and LocalDay(\"&$D$12&\")=\"&$F$8&\" and Barix(\"&$D$12&\",reference:=StartOfSession)=\"&A47&\"\", \"Bar\", \"\", \"Close\",\"5\",\"0\",\"PrimaryOnly\",,,\"False\",\"T\",\"EveryTick\")","v":65.81},1.715610510046367E-2,{"$f":"RTD(\"cqg.rtd\",,\"StudyData\", \"Close(\"&$D$12&\") when LocalYear(\"&$D$12&\")=\"&$D$9&\" and localMonth(\"&$D$12&\") =\"&$E$9&\" and LocalDay(\"&$D$12&\")=\"&$F$9&\" and Barix(\"&$D$12&\",reference:=StartOfSession)=\"&A47&\"\", \"Bar\", \"\", \"Close\",\"5\",\"0\",\"PrimaryOnly\",,,\"False\",\"T\",\"EveryTick\")","v":64.650000000000006},-1.2373968835930158E-2,{"$f":"RTD(\"cqg.rtd\",,\"StudyData\", \"Close(\"&$D$12&\") when LocalYear(\"&$D$12&\")=\"&$D$10&\" and localMonth(\"&$D$12&\") =\"&$E$10&\" and LocalDay(\"&$D$12&\")=\"&$F$10&\" and Barix(\"&$D$12&\",reference:=StartOfSession)=\"&A47&\"\", \"Bar\", \"\", \"Close\",\"5\",\"0\",\"PrimaryOnly\",,,\"False\",\"T\",\"EveryTick\")","v":65.14},7.1119356833641576E-3,null,null,null,""]
[47,"11:55:00",-30,{"$f":" RTD(\"cqg.rtd\",,\"StudyData\", $D$12,  \"Tick\", \"FlatTicks=0\", \"Tick\",\"D\",C48,,,,,\"T\")","v":65.239999999999995},null,null,null,{"$f":"RTD(\"cqg.rtd\",,\"StudyData\", \"Close(\"&$D$12&\") when LocalYear(\"&$D$12&\")=\"&$D$1&\" and localMonth(\"&$D$12&\") =\"&$E$1&\" and LocalDay(\"&$D$12&\")=\"&$F$1&\" and Barix(\"&$D$12&\",reference:=StartOfSession)=\"&A48&\"\", \"Bar\", \"\", \"Close\",\"5\",\"0\",\"PrimaryOnly\",,,\"False\",\"T\",\"EveryTick\")","v":""},{"$error":"#N/A"},{"$f":"RTD(\"cqg.rtd\",,\"StudyData\", \"Close(\"&$D$12&\") when LocalYear(\"&$D$12&\")=\"&$D$2&\" and localMonth(\"&$D$12&\") =\"&$E$2&\" and LocalDay(\"&$D$12&\")=\"&$F$2&\" and Barix(\"&$D$12&\",reference:=StartOfSession)=\"&A48&\"\", \"Bar\", \"\", \"Close\",\"5\",\"0\",\"PrimaryOnly\",,,\"False\",\"T\",\"EveryTick\")","v":64.680000000000007},-3.0139451192082636E-2,{"$f":"RTD(\"cqg.rtd\",,\"StudyData\", \"Close(\"&$D$12&\") when LocalYear(\"&$D$12&\")=\"&$D$3&\" and localMonth(\"&$D$12&\") =\"&$E$3&\" and LocalDay(\"&$D$12&\")=\"&$F$3&\" and Barix(\"&$D$12&\",reference:=StartOfSession)=\"&A48&\"\", \"Bar\", \"\", \"Close\",\"5\",\"0\",\"PrimaryOnly\",,,\"False\",\"T\",\"EveryTick\")","v":66.45},-1.0523150932049486E-3,{"$f":"RTD(\"cqg.rtd\",,\"StudyData\", \"Close(\"&$D$12&\") when LocalYear(\"&$D$12&\")=\"&$D$4&\" and localMonth(\"&$D$12&\") =\"&$E$4&\" and LocalDay(\"&$D$12&\")=\"&$F$4&\" and Barix(\"&$D$12&\",reference:=StartOfSession)=\"&A48&\"\", \"Bar\", \"\", \"Close\",\"5\",\"0\",\"PrimaryOnly\",,,\"False\",\"T\",\"EveryTick\")","v":66.489999999999995},3.1683765841881979E-3,{"$f":"RTD(\"cqg.rtd\",,\"StudyData\", \"Close(\"&$D$12&\") when LocalYear(\"&$D$12&\")=\"&$D$5&\" and localMonth(\"&$D$12&\") =\"&$E$5&\" and LocalDay(\"&$D$12&\")=\"&$F$5&\" and Barix(\"&$D$12&\",reference:=StartOfSession)=\"&A48&\"\", \"Bar\", \"\", \"Close\",\"5\",\"0\",\"PrimaryOnly\",,,\"False\",\"T\",\"EveryTick\")","v":66.349999999999994},4.8462819930333665E-3,{"$f":"RTD(\"cqg.rtd\",,\"StudyData\", \"Close(\"&$D$12&\") when LocalYear(\"&$D$12&\")=\"&$D$6&\" and localMonth(\"&$D$12&\") =\"&$E$6&\" and LocalDay(\"&$D$12&\")=\"&$F$6&\" and Barix(\"&$D$12&\",reference:=StartOfSession)=\"&A48&\"\", \"Bar\", \"\", \"Close\",\"5\",\"0\",\"PrimaryOnly\",,,\"False\",\"T\",\"EveryTick\")","v":66.010000000000005},5.1774021623268371E-3,{"$f":"RTD(\"cqg.rtd\",,\"StudyData\", \"Close(\"&$D$12&\") when LocalYear(\"&$D$12&\")=\"&$D$7&\" and localMonth(\"&$D$12&\") =\"&$E$7&\" and LocalDay(\"&$D$12&\")=\"&$F$7&\" and Barix(\"&$D$12&\",reference:=StartOfSession)=\"&A48&\"\", \"Bar\", \"\", \"Close\",\"5\",\"0\",\"PrimaryOnly\",,,\"False\",\"T\",\"EveryTick\")","v":65.540000000000006},-5.311883442100384E-3,{"$f":"RTD(\"cqg.rtd\",,\"StudyData\", \"Close(\"&$D$12&\") when LocalYear(\"&$D$12&\")=\"&$D$8&\" and localMonth(\"&$D$12&\") =\"&$E$8&\" and LocalDay(\"&$D$12&\")=\"&$F$8&\" and Barix(\"&$D$12&\",reference:=StartOfSession)=\"&A48&\"\", \"Bar\", \"\", \"Close\",\"5\",\"0\",\"PrimaryOnly\",,,\"False\",\"T\",\"EveryTick\")","v":65.83},1.7465224111282773E-2,{"$f":"RTD(\"cqg.rtd\",,\"StudyData\", \"Close(\"&$D$12&\") when LocalYear(\"&$D$12&\")=\"&$D$9&\" and localMonth(\"&$D$12&\") =\"&$E$9&\" and LocalDay(\"&$D$12&\")=\"&$F$9&\" and Barix(\"&$D$12&\",reference:=StartOfSession)=\"&A48&\"\", \"Bar\", \"\", \"Close\",\"5\",\"0\",\"PrimaryOnly\",,,\"False\",\"T\",\"EveryTick\")","v":64.599999999999994},-1.3137794072716156E-2,{"$f":"RTD(\"cqg.rtd\",,\"StudyData\", \"Close(\"&$D$12&\") when LocalYear(\"&$D$12&\")=\"&$D$10&\" and localMonth(\"&$D$12&\") =\"&$E$10&\" and LocalDay(\"&$D$12&\")=\"&$F$10&\" and Barix(\"&$D$12&\",reference:=StartOfSession)=\"&A48&\"\", \"Bar\", \"\", \"Close\",\"5\",\"0\",\"PrimaryOnly\",,,\"False\",\"T\",\"EveryTick\")","v":65.040000000000006},5.5658627087198419E-3,null,null,null,""]
[48,"12:00:00",-29,{"$f":" RTD(\"cqg.rtd\",,\"StudyData\", $D$12,  \"Tick\", \"FlatTicks=0\", \"Tick\",\"D\",C49,,,,,\"T\")","v":65.25},null,null,null,{"$f":"RTD(\"cqg.rtd\",,\"StudyData\", \"Close(\"&$D$12&\") when LocalYear(\"&$D$12&\")=\"&$D$1&\" and localMonth(\"&$D$12&\") =\"&$E$1&\" and LocalDay(\"&$D$12&\")=\"&$F$1&\" and Barix(\"&$D$12&\",reference:=StartOfSession)=\"&A49&\"\", \"Bar\", \"\", \"Close\",\"5\",\"0\",\"PrimaryOnly\",,,\"False\",\"T\",\"EveryTick\")","v":""},{"$error":"#N/A"},{"$f":"RTD(\"cqg.rtd\",,\"StudyData\", \"Close(\"&$D$12&\") when LocalYear(\"&$D$12&\")=\"&$D$2&\" and localMonth(\"&$D$12&\") =\"&$E$2&\" and LocalDay(\"&$D$12&\")=\"&$F$2&\" and Barix(\"&$D$12&\",reference:=StartOfSession)=\"&A49&\"\", \"Bar\", \"\", \"Close\",\"5\",\"0\",\"PrimaryOnly\",,,\"False\",\"T\",\"EveryTick\")","v":64.69},-2.99895036737142E-2,{"$f":"RTD(\"cqg.rtd\",,\"StudyData\", \"Close(\"&$D$12&\") when LocalYear(\"&$D$12&\")=\"&$D$3&\" and localMonth(\"&$D$12&\") =\"&$E$3&\" and LocalDay(\"&$D$12&\")=\"&$F$3&\" and Barix(\"&$D$12&\",reference:=StartOfSession)=\"&A49&\"\", \"Bar\", \"\", \"Close\",\"5\",\"0\",\"PrimaryOnly\",,,\"False\",\"T\",\"EveryTick\")","v":66.42},-1.5033072760071305E-3,{"$f":"RTD(\"cqg.rtd\",,\"StudyData\", \"Close(\"&$D$12&\") when LocalYear(\"&$D$12&\")=\"&$D$4&\" and localMonth(\"&$D$12&\") =\"&$E$4&\" and LocalDay(\"&$D$12&\")=\"&$F$4&\" and Barix(\"&$D$12&\",reference:=StartOfSession)=\"&A49&\"\", \"Bar\", \"\", \"Close\",\"5\",\"0\",\"PrimaryOnly\",,,\"False\",\"T\",\"EveryTick\")","v":66.62},5.1297525648763337E-3,{"$f":"RTD(\"cqg.rtd\",,\"StudyData\", \"Close(\"&$D$12&\") when LocalYear(\"&$D$12&\")=\"&$D$5&\" and localMonth(\"&$D$12&\") =\"&$E$5&\" and LocalDay(\"&$D$12&\")=\"&$F$5&\" and Barix(\"&$D$12&\",reference:=StartOfSession)=\"&A49&\"\", \"Bar\", \"\", \"Close\",\"5\",\"0\",\"PrimaryOnly\",,,\"False\",\"T\",\"EveryTick\")","v":66.349999999999994},4.8462819930333665E-3,{"$f":"RTD(\"cqg.rtd\",,\"StudyData\", \"Close(\"&$D$12&\") when LocalYear(\"&$D$12&\")=\"&$D$6&\" and localMonth(\"&$D$12&\") =\"&$E$6&\" and LocalDay(\"&$D$12&\")=\"&$F$6&\" and Barix(\"&$D$12&\",reference:=StartOfSession)=\"&A49&\"\", \"Bar\", \"\", \"Close\",\"5\",\"0\",\"PrimaryOnly\",,,\"False\",\"T\",\"EveryTick\")","v":66.09},6.395614435815467E-3,{"$f":"RTD(\"cqg.rtd\",,\"StudyData\", \"Close(\"&$D$12&\") when LocalYear(\"&$D$12&\")=\"&$D$7&\" and localMonth(\"&$D$12&\") =\"&$E$7&\" and LocalDay(\"&$D$12&\")=\"&$F$7&\" and Barix(\"&$D$12&\",reference:=StartOfSession)=\"&A49&\"\", \"Bar\", \"\", \"Close\",\"5\",\"0\",\"PrimaryOnly\",,,\"False\",\"T\",\"EveryTick\")","v":65.55},-5.1601153437547944E-3,{"$f":"RTD(\"cqg.rtd\",,\"StudyData\", \"Close(\"&$D$12&\") when LocalYear(\"&$D$12&\")=\"&$D$8&\" and localMonth(\"&$D$12&\") =\"&$E$8&\" and LocalDay(\"&$D$12&\")=\"&$F$8&\" and Barix(\"&$D$12&\",reference:=StartOfSession)=\"&A49&\"\", \"Bar\", \"\", \"Close\",\"5\",\"0\",\"PrimaryOnly\",,,\"False\",\"T\",\"EveryTick\")","v":65.81},1.715610510046367E-2,{"$f":"RTD(\"cqg.rtd\",,\"StudyData\", \"Close(\"&$D$12&\") when LocalYear(\"&$D$12&\")=\"&$D$9&\" and localMonth(\"&$D$12&\") =\"&$E$9&\" and LocalDay(\"&$D$12&\")=\"&$F$9&\" and Barix(\"&$D$12&\",reference:=StartOfSession)=\"&A49&\"\", \"Bar\", \"\", \"Close\",\"5\",\"0\",\"PrimaryOnly\",,,\"False\",\"T\",\"EveryTick\")","v":64.67},-1.206843874121589E-2,{"$f":"RTD(\"cqg.rtd\",,\"StudyData\", \"Close(\"&$D$12&\") when LocalYear(\"&$D$12&\")=\"&$D$10&\" and localMonth(\"&$D$12&\") =\"&$E$10&\" and LocalDay(\"&$D$12&\")=\"&$F$10&\" and Barix(\"&$D$12&\",reference:=StartOfSession)=\"&A49&\"\", \"Bar\", \"\", \"Close\",\"5\",\"0\",\"PrimaryOnly\",,,\"False\",\"T\",\"EveryTick\")","v":65.11},6.648113790970819E-3,null,null,null,""]
[49,"12:05:00",-28,{"$f":" RTD(\"cqg.rtd\",,\"StudyData\", $D$12,  \"Tick\", \"FlatTicks=0\", \"Tick\",\"D\",C50,,,,,\"T\")","v":65.239999999999995},null,null,null,{"$f":"RTD(\"cqg.rtd\",,\"StudyData\", \"Close(\"&$D$12&\") when LocalYear(\"&$D$12&\")=\"&$D$1&\" and localMonth(\"&$D$12&\") =\"&$E$1&\" and LocalDay(\"&$D$12&\")=\"&$F$1&\" and Barix(\"&$D$12&\",reference:=StartOfSession)=\"&A50&\"\", \"Bar\", \"\", \"Close\",\"5\",\"0\",\"PrimaryOnly\",,,\"False\",\"T\",\"EveryTick\")","v":""},{"$error":"#N/A"},{"$f":"RTD(\"cqg.rtd\",,\"StudyData\", \"Close(\"&$D$12&\") when LocalYear(\"&$D$12&\")=\"&$D$2&\" and localMonth(\"&$D$12&\") =\"&$E$2&\" and LocalDay(\"&$D$12&\")=\"&$F$2&\" and Barix(\"&$D$12&\",reference:=StartOfSession)=\"&A50&\"\", \"Bar\", \"\", \"Close\",\"5\",\"0\",\"PrimaryOnly\",,,\"False\",\"T\",\"EveryTick\")","v":64.739999999999995},-2.9239766081871389E-2,{"$f":"RTD(\"cqg.rtd\",,\"StudyData\", \"Close(\"&$D$12&\") when LocalYear(\"&$D$12&\")=\"&$D$3&\" and localMonth(\"&$D$12&\") =\"&$E$3&\" and LocalDay(\"&$D$12&\")=\"&$F$3&\" and Barix(\"&$D$12&\",reference:=StartOfSession)=\"&A50&\"\", \"Bar\", \"\", \"Close\",\"5\",\"0\",\"PrimaryOnly\",,,\"False\",\"T\",\"EveryTick\")","v":66.430000000000007},-1.3529765484063319E-3,{"$f":"RTD(\"cqg.rtd\",,\"StudyData\", \"Close(\"&$D$12&\") when LocalYear(\"&$D$12&\")=\"&$D$4&\" and localMonth(\"&$D$12&\") =\"&$E$4&\" and LocalDay(\"&$D$12&\")=\"&$F$4&\" and Barix(\"&$D$12&\",reference:=StartOfSession)=\"&A50&\"\", \"Bar\", \"\", \"Close\",\"5\",\"0\",\"PrimaryOnly\",,,\"False\",\"T\",\"EveryTick\")","v":66.64},5.4315027157513492E-3,{"$f":"RTD(\"cqg.rtd\",,\"StudyData\", \"Close(\"&$D$12&\") when LocalYear(\"&$D$12&\")=\"&$D$5&\" and localMonth(\"&$D$12&\") =\"&$E$5&\" and LocalDay(\"&$D$12&\")=\"&$F$5&\" and Barix(\"&$D$12&\",reference:=StartOfSession)=\"&A50&\"\", \"Bar\", \"\", \"Close\",\"5\",\"0\",\"PrimaryOnly\",,,\"False\",\"T\",\"EveryTick\")","v":66.37},5.1491746175981127E-3,{"$f":"RTD(\"cqg.rtd\",,\"StudyData\", \"Close(\"&$D$12&\") when LocalYear(\"&$D$12&\")=\"&$D$6&\" and localMonth(\"&$D$12&\") =\"&$E$6&\" and LocalDay(\"&$D$12&\")=\"&$F$6&\" and Barix(\"&$D$12&\",reference:=StartOfSession)=\"&A50&\"\", \"Bar\", \"\", \"Close\",\"5\",\"0\",\"PrimaryOnly\",,,\"False\",\"T\",\"EveryTick\")","v":66.11},6.7001675041875701E-3,{"$f":"RTD(\"cqg.rtd\",,\"StudyData\", \"Close(\"&$D$12&\") when LocalYear(\"&$D$12&\")=\"&$D$7&\" and localMonth(\"&$D$12&\") =\"&$E$7&\" and LocalDay(\"&$D$12&\")=\"&$F$7&\" and Barix(\"&$D$12&\",reference:=StartOfSession)=\"&A50&\"\", \"Bar\", \"\", \"Close\",\"5\",\"0\",\"PrimaryOnly\",,,\"False\",\"T\",\"EveryTick\")","v":65.599999999999994},-4.4012748520261989E-3,{"$f":"RTD(\"cqg.rtd\",,\"StudyData\", \"Close(\"&$D$12&\") when LocalYear(\"&$D$12&\")=\"&$D$8&\" and localMonth(\"&$D$12&\") =\"&$E$8&\" and LocalDay(\"&$D$12&\")=\"&$F$8&\" and Barix(\"&$D$12&\",reference:=StartOfSession)=\"&A50&\"\", \"Bar\", \"\", \"Close\",\"5\",\"0\",\"PrimaryOnly\",,,\"False\",\"T\",\"EveryTick\")","v":65.8},1.7001545595054006E-2,{"$f":"RTD(\"cqg.rtd\",,\"StudyData\", \"Close(\"&$D$12&\") when LocalYear(\"&$D$12&\")=\"&$D$9&\" and localMonth(\"&$D$12&\") =\"&$E$9&\" and LocalDay(\"&$D$12&\")=\"&$F$9&\" and Barix(\"&$D$12&\",reference:=StartOfSession)=\"&A50&\"\", \"Bar\", \"\", \"Close\",\"5\",\"0\",\"PrimaryOnly\",,,\"False\",\"T\",\"EveryTick\")","v":64.72},-1.1304613504430109E-2,{"$f":"RTD(\"cqg.rtd\",,\"StudyData\", \"Close(\"&$D$12&\") when LocalYear(\"&$D$12&\")=\"&$D$10&\" and localMonth(\"&$D$12&\") =\"&$E$10&\" and LocalDay(\"&$D$12&\")=\"&$F$10&\" and Barix(\"&$D$12&\",reference:=StartOfSession)=\"&A50&\"\", \"Bar\", \"\", \"Close\",\"5\",\"0\",\"PrimaryOnly\",,,\"False\",\"T\",\"EveryTick\")","v":65.25},8.8126159554729917E-3,null,null,null,""]
[50,"12:10:00",-27,{"$f":" RTD(\"cqg.rtd\",,\"StudyData\", $D$12,  \"Tick\", \"FlatTicks=0\", \"Tick\",\"D\",C51,,,,,\"T\")","v":65.25},null,null,null,{"$f":"RTD(\"cqg.rtd\",,\"StudyData\", \"Close(\"&$D$12&\") when LocalYear(\"&$D$12&\")=\"&$D$1&\" and localMonth(\"&$D$12&\") =\"&$E$1&\" and LocalDay(\"&$D$12&\")=\"&$F$1&\" and Barix(\"&$D$12&\",reference:=StartOfSession)=\"&A51&\"\", \"Bar\", \"\", \"Close\",\"5\",\"0\",\"PrimaryOnly\",,,\"False\",\"T\",\"EveryTick\")","v":""},{"$error":"#N/A"},{"$f":"RTD(\"cqg.rtd\",,\"StudyData\", \"Close(\"&$D$12&\") when LocalYear(\"&$D$12&\")=\"&$D$2&\" and localMonth(\"&$D$12&\") =\"&$E$2&\" and LocalDay(\"&$D$12&\")=\"&$F$2&\" and Barix(\"&$D$12&\",reference:=StartOfSession)=\"&A51&\"\", \"Bar\", \"\", \"Close\",\"5\",\"0\",\"PrimaryOnly\",,,\"False\",\"T\",\"EveryTick\")","v":64.77},-2.8789923526765657E-2,{"$f":"RTD(\"cqg.rtd\",,\"StudyData\", \"Close(\"&$D$12&\") when LocalYear(\"&$D$12&\")=\"&$D$3&\" and localMonth(\"&$D$12&\") =\"&$E$3&\" and LocalDay(\"&$D$12&\")=\"&$F$3&\" and Barix(\"&$D$12&\",reference:=StartOfSession)=\"&A51&\"\", \"Bar\", \"\", \"Close\",\"5\",\"0\",\"PrimaryOnly\",,,\"False\",\"T\",\"EveryTick\")","v":66.44},-1.2026458208057472E-3,{"$f":"RTD(\"cqg.rtd\",,\"StudyData\", \"Close(\"&$D$12&\") when LocalYear(\"&$D$12&\")=\"&$D$4&\" and localMonth(\"&$D$12&\") =\"&$E$4&\" and LocalDay(\"&$D$12&\")=\"&$F$4&\" and Barix(\"&$D$12&\",reference:=StartOfSession)=\"&A51&\"\", \"Bar\", \"\", \"Close\",\"5\",\"0\",\"PrimaryOnly\",,,\"False\",\"T\",\"EveryTick\")","v":66.67},5.8841279420639792E-3,{"$f":"RTD(\"cqg.rtd\",,\"StudyData\", \"Close(\"&$D$12&\") when LocalYear(\"&$D$12&\")=\"&$D$5&\" and localMonth(\"&$D$12&\") =\"&$E$5&\" and LocalDay(\"&$D$12&\")=\"&$F$5&\" and Barix(\"&$D$12&\",reference:=StartOfSession)=\"&A51&\"\", \"Bar\", \"\", \"Close\",\"5\",\"0\",\"PrimaryOnly\",,,\"False\",\"T\",\"EveryTick\")","v":66.34},4.6948356807512076E-3,{"$f":"RTD(\"cqg.rtd\",,\"StudyData\", \"Close(\"&$D$12&\") when LocalYear(\"&$D$12&\")=\"&$D$6&\" and localMonth(\"&$D$12&\") =\"&$E$6&\" and LocalDay(\"&$D$12&\")=\"&$F$6&\" and Barix(\"&$D$12&\",reference:=StartOfSession)=\"&A51&\"\", \"Bar\", \"\", \"Close\",\"5\",\"0\",\"PrimaryOnly\",,,\"False\",\"T\",\"EveryTick\")","v":66.14},7.1569971067458327E-3,{"$f":"RTD(\"cqg.rtd\",,\"StudyData\", \"Close(\"&$D$12&\") when LocalYear(\"&$D$12&\")=\"&$D$7&\" and localMonth(\"&$D$12&\") =\"&$E$7&\" and LocalDay(\"&$D$12&\")=\"&$F$7&\" and Barix(\"&$D$12&\",reference:=StartOfSession)=\"&A51&\"\", \"Bar\", \"\", \"Close\",\"5\",\"0\",\"PrimaryOnly\",,,\"False\",\"T\",\"EveryTick\")","v":65.58},-4.7048110487175939E-3,{"$f":"RTD(\"cqg.rtd\",,\"StudyData\", \"Close(\"&$D$12&\") when LocalYear(\"&$D$12&\")=\"&$D$8&\" and localMonth(\"&$D$12&\") =\"&$E$8&\" and LocalDay(\"&$D$12&\")=\"&$F$8&\" and Barix(\"&$D$12&\",reference:=StartOfSession)=\"&A51&\"\", \"Bar\", \"\", \"Close\",\"5\",\"0\",\"PrimaryOnly\",,,\"False\",\"T\",\"EveryTick\")","v":65.84},1.7619783616692433E-2,{"$f":"RTD(\"cqg.rtd\",,\"StudyData\", \"Close(\"&$D$12&\") when LocalYear(\"&$D$12&\")=\"&$D$9&\" and localMonth(\"&$D$12&\") =\"&$E$9&\" and LocalDay(\"&$D$12&\")=\"&$F$9&\" and Barix(\"&$D$12&\",reference:=StartOfSession)=\"&A51&\"\", \"Bar\", \"\", \"Close\",\"5\",\"0\",\"PrimaryOnly\",,,\"False\",\"T\",\"EveryTick\")","v":64.73},-1.1151848457072866E-2,{"$f":"RTD(\"cqg.rtd\",,\"StudyData\", \"Close(\"&$D$12&\") when LocalYear(\"&$D$12&\")=\"&$D$10&\" and localMonth(\"&$D$12&\") =\"&$E$10&\" and LocalDay(\"&$D$12&\")=\"&$F$10&\" and Barix(\"&$D$12&\",reference:=StartOfSession)=\"&A51&\"\", \"Bar\", \"\", \"Close\",\"5\",\"0\",\"PrimaryOnly\",,,\"False\",\"T\",\"EveryTick\")","v":65.290000000000006},9.4310451453308505E-3,null,null,null,""]
[51,"12:15:00",-26,{"$f":" RTD(\"cqg.rtd\",,\"StudyData\", $D$12,  \"Tick\", \"FlatTicks=0\", \"Tick\",\"D\",C52,,,,,\"T\")","v":65.239999999999995},null,null,null,{"$f":"RTD(\"cqg.rtd\",,\"StudyData\", \"Close(\"&$D$12&\") when LocalYear(\"&$D$12&\")=\"&$D$1&\" and localMonth(\"&$D$12&\") =\"&$E$1&\" and LocalDay(\"&$D$12&\")=\"&$F$1&\" and Barix(\"&$D$12&\",reference:=StartOfSession)=\"&A52&\"\", \"Bar\", \"\", \"Close\",\"5\",\"0\",\"PrimaryOnly\",,,\"False\",\"T\",\"EveryTick\")","v":""},{"$error":"#N/A"},{"$f":"RTD(\"cqg.rtd\",,\"StudyData\", \"Close(\"&$D$12&\") when LocalYear(\"&$D$12&\")=\"&$D$2&\" and localMonth(\"&$D$12&\") =\"&$E$2&\" and LocalDay(\"&$D$12&\")=\"&$F$2&\" and Barix(\"&$D$12&\",reference:=StartOfSession)=\"&A52&\"\", \"Bar\", \"\", \"Close\",\"5\",\"0\",\"PrimaryOnly\",,,\"False\",\"T\",\"EveryTick\")","v":64.709999999999994},-2.968960863697712E-2,{"$f":"RTD(\"cqg.rtd\",,\"StudyData\", \"Close(\"&$D$12&\") when LocalYear(\"&$D$12&\")=\"&$D$3&\" and localMonth(\"&$D$12&\") =\"&$E$3&\" and LocalDay(\"&$D$12&\")=\"&$F$3&\" and Barix(\"&$D$12&\",reference:=StartOfSession)=\"&A52&\"\", \"Bar\", \"\", \"Close\",\"5\",\"0\",\"PrimaryOnly\",,,\"False\",\"T\",\"EveryTick\")","v":66.48},-6.0132291040276679E-4,{"$f":"RTD(\"cqg.rtd\",,\"StudyData\", \"Close(\"&$D$12&\") when LocalYear(\"&$D$12&\")=\"&$D$4&\" and localMonth(\"&$D$12&\") =\"&$E$4&\" and LocalDay(\"&$D$12&\")=\"&$F$4&\" and Barix(\"&$D$12&\",reference:=StartOfSession)=\"&A52&\"\", \"Bar\", \"\", \"Close\",\"5\",\"0\",\"PrimaryOnly\",,,\"False\",\"T\",\"EveryTick\")","v":66.73},6.7893783946892401E-3,{"$f":"RTD(\"cqg.rtd\",,\"StudyData\", \"Close(\"&$D$12&\") when LocalYear(\"&$D$12&\")=\"&$D$5&\" and localMonth(\"&$D$12&\") =\"&$E$5&\" and LocalDay(\"&$D$12&\")=\"&$F$5&\" and Barix(\"&$D$12&\",reference:=StartOfSession)=\"&A52&\"\", \"Bar\", \"\", \"Close\",\"5\",\"0\",\"PrimaryOnly\",,,\"False\",\"T\",\"EveryTick\")","v":66.36},4.9977283053157396E-3,{"$f":"RTD(\"cqg.rtd\",,\"StudyData\", \"Close(\"&$D$12&\") when LocalYear(\"&$D$12&\")=\"&$D$6&\" and localMonth(\"&$D$12&\") =\"&$E$6&\" and LocalDay(\"&$D$12&\")=\"&$F$6&\" and Barix(\"&$D$12&\",reference:=StartOfSession)=\"&A52&\"\", \"Bar\", \"\", \"Close\",\"5\",\"0\",\"PrimaryOnly\",,,\"False\",\"T\",\"EveryTick\")","v":66.08},6.2433379016293067E-3,{"$f":"RTD(\"cqg.rtd\",,\"StudyData\", \"Close(\"&$D$12&\") when LocalYear(\"&$D$12&\")=\"&$D$7&\" and localMonth(\"&$D$12&\") =\"&$E$7&\" and LocalDay(\"&$D$12&\")=\"&$F$7&\" and Barix(\"&$D$12&\",reference:=StartOfSession)=\"&A52&\"\", \"Bar\", \"\", \"Close\",\"5\",\"0\",\"PrimaryOnly\",,,\"False\",\"T\",\"EveryTick\")","v":65.569999999999993},-4.8565791470633994E-3,{"$f":"RTD(\"cqg.rtd\",,\"StudyData\", \"Close(\"&$D$12&\") when LocalYear(\"&$D$12&\")=\"&$D$8&\" and localMonth(\"&$D$12&\") =\"&$E$8&\" and LocalDay(\"&$D$12&\")=\"&$F$8&\" and Barix(\"&$D$12&\",reference:=StartOfSession)=\"&A52&\"\", \"Bar\", \"\", \"Close\",\"5\",\"0\",\"PrimaryOnly\",,,\"False\",\"T\",\"EveryTick\")","v":65.849999999999994},1.7774343122101875E-2,{"$f":"RTD(\"cqg.rtd\",,\"StudyData\", \"Close(\"&$D$12&\") when LocalYear(\"&$D$12&\")=\"&$D$9&\" and localMonth(\"&$D$12&\") =\"&$E$9&\" and LocalDay(\"&$D$12&\")=\"&$F$9&\" and Barix(\"&$D$12&\",reference:=StartOfSession)=\"&A52&\"\", \"Bar\", \"\", \"Close\",\"5\",\"0\",\"PrimaryOnly\",,,\"False\",\"T\",\"EveryTick\")","v":64.709999999999994},-1.1457378551787353E-2,{"$f":"RTD(\"cqg.rtd\",,\"StudyData\", \"Close(\"&$D$12&\") when LocalYear(\"&$D$12&\")=\"&$D$10&\" and localMonth(\"&$D$12&\") =\"&$E$10&\" and LocalDay(\"&$D$12&\")=\"&$F$10&\" and Barix(\"&$D$12&\",reference:=StartOfSession)=\"&A52&\"\", \"Bar\", \"\", \"Close\",\"5\",\"0\",\"PrimaryOnly\",,,\"False\",\"T\",\"EveryTick\")","v":65.17},7.5757575757574962E-3,null,null,null,""]
[52,"12:20:00",-25,{"$f":" RTD(\"cqg.rtd\",,\"StudyData\", $D$12,  \"Tick\", \"FlatTicks=0\", \"Tick\",\"D\",C53,,,,,\"T\")","v":65.25},null,null,null,{"$f":"RTD(\"cqg.rtd\",,\"StudyData\", \"Close(\"&$D$12&\") when LocalYear(\"&$D$12&\")=\"&$D$1&\" and localMonth(\"&$D$12&\") =\"&$E$1&\" and LocalDay(\"&$D$12&\")=\"&$F$1&\" and Barix(\"&$D$12&\",reference:=StartOfSession)=\"&A53&\"\", \"Bar\", \"\", \"Close\",\"5\",\"0\",\"PrimaryOnly\",,,\"False\",\"T\",\"EveryTick\")","v":""},{"$error":"#N/A"},{"$f":"RTD(\"cqg.rtd\",,\"StudyData\", \"Close(\"&$D$12&\") when LocalYear(\"&$D$12&\")=\"&$D$2&\" and localMonth(\"&$D$12&\") =\"&$E$2&\" and LocalDay(\"&$D$12&\")=\"&$F$2&\" and Barix(\"&$D$12&\",reference:=StartOfSession)=\"&A53&\"\", \"Bar\", \"\", \"Close\",\"5\",\"0\",\"PrimaryOnly\",,,\"False\",\"T\",\"EveryTick\")","v":64.69},-2.99895036737142E-2,{"$f":"RTD(\"cqg.rtd\",,\"StudyData\", \"Close(\"&$D$12&\") when LocalYear(\"&$D$12&\")=\"&$D$3&\" and localMonth(\"&$D$12&\") =\"&$E$3&\" and LocalDay(\"&$D$12&\")=\"&$F$3&\" and Barix(\"&$D$12&\",reference:=StartOfSession)=\"&A53&\"\", \"Bar\", \"\", \"Close\",\"5\",\"0\",\"PrimaryOnly\",,,\"False\",\"T\",\"EveryTick\")","v":66.41},-1.6536380036079291E-3,{"$f":"RTD(\"cqg.rtd\",,\"StudyData\", \"Close(\"&$D$12&\") when LocalYear(\"&$D$12&\")=\"&$D$4&\" and localMonth(\"&$D$12&\") =\"&$E$4&\" and LocalDay(\"&$D$12&\")=\"&$F$4&\" and Barix(\"&$D$12&\",reference:=StartOfSession)=\"&A53&\"\", \"Bar\", \"\", \"Close\",\"5\",\"0\",\"PrimaryOnly\",,,\"False\",\"T\",\"EveryTick\")","v":66.7},6.3367531683766101E-3,{"$f":"RTD(\"cqg.rtd\",,\"StudyData\", \"Close(\"&$D$12&\") when LocalYear(\"&$D$12&\")=\"&$D$5&\" and localMonth(\"&$D$12&\") =\"&$E$5&\" and LocalDay(\"&$D$12&\")=\"&$F$5&\" and Barix(\"&$D$12&\",reference:=StartOfSession)=\"&A53&\"\", \"Bar\", \"\", \"Close\",\"5\",\"0\",\"PrimaryOnly\",,,\"False\",\"T\",\"EveryTick\")","v":66.36},4.9977283053157396E-3,{"$f":"RTD(\"cqg.rtd\",,\"StudyData\", \"Close(\"&$D$12&\") when LocalYear(\"&$D$12&\")=\"&$D$6&\" and localMonth(\"&$D$12&\") =\"&$E$6&\" and LocalDay(\"&$D$12&\")=\"&$F$6&\" and Barix(\"&$D$12&\",reference:=StartOfSession)=\"&A53&\"\", \"Bar\", \"\", \"Close\",\"5\",\"0\",\"PrimaryOnly\",,,\"False\",\"T\",\"EveryTick\")","v":66.069999999999993},6.0910613674431471E-3,{"$f":"RTD(\"cqg.rtd\",,\"StudyData\", \"Close(\"&$D$12&\") when LocalYear(\"&$D$12&\")=\"&$D$7&\" and localMonth(\"&$D$12&\") =\"&$E$7&\" and LocalDay(\"&$D$12&\")=\"&$F$7&\" and Barix(\"&$D$12&\",reference:=StartOfSession)=\"&A53&\"\", \"Bar\", \"\", \"Close\",\"5\",\"0\",\"PrimaryOnly\",,,\"False\",\"T\",\"EveryTick\")","v":65.56},-5.0083472454089889E-3,{"$f":"RTD(\"cqg.rtd\",,\"StudyData\", \"Close(\"&$D$12&\") when LocalYear(\"&$D$12&\")=\"&$D$8&\" and localMonth(\"&$D$12&\") =\"&$E$8&\" and LocalDay(\"&$D$12&\")=\"&$F$8&\" and Barix(\"&$D$12&\",reference:=StartOfSession)=\"&A53&\"\", \"Bar\", \"\", \"Close\",\"5\",\"0\",\"PrimaryOnly\",,,\"False\",\"T\",\"EveryTick\")","v":65.819999999999993},1.7310664605873112E-2,{"$f":"RTD(\"cqg.rtd\",,\"StudyData\", \"Close(\"&$D$12&\") when LocalYear(\"&$D$12&\")=\"&$D$9&\" and localMonth(\"&$D$12&\") =\"&$E$9&\" and LocalDay(\"&$D$12&\")=\"&$F$9&\" and Barix(\"&$D$12&\",reference:=StartOfSession)=\"&A53&\"\", \"Bar\", \"\", \"Close\",\"5\",\"0\",\"PrimaryOnly\",,,\"False\",\"T\",\"EveryTick\")","v":64.8},-1.0082493125572817E-2,{"$f":"RTD(\"cqg.rtd\",,\"StudyData\", \"Close(\"&$D$12&\") when LocalYear(\"&$D$12&\")=\"&$D$10&\" and localMonth(\"&$D$12&\") =\"&$E$10&\" and LocalDay(\"&$D$12&\")=\"&$F$10&\" and Barix(\"&$D$12&\",reference:=StartOfSession)=\"&A53&\"\", \"Bar\", \"\", \"Close\",\"5\",\"0\",\"PrimaryOnly\",,,\"False\",\"T\",\"EveryTick\")","v":65.12},6.8027210884353383E-3,null,null,null,""]
[53,"12:25:00",-24,{"$f":" RTD(\"cqg.rtd\",,\"StudyData\", $D$12,  \"Tick\", \"FlatTicks=0\", \"Tick\",\"D\",C54,,,,,\"T\")","v":65.239999999999995},null,null,null,{"$f":"RTD(\"cqg.rtd\",,\"StudyData\", \"Close(\"&$D$12&\") when LocalYear(\"&$D$12&\")=\"&$D$1&\" and localMonth(\"&$D$12&\") =\"&$E$1&\" and LocalDay(\"&$D$12&\")=\"&$F$1&\" and Barix(\"&$D$12&\",reference:=StartOfSession)=\"&A54&\"\", \"Bar\", \"\", \"Close\",\"5\",\"0\",\"PrimaryOnly\",,,\"False\",\"T\",\"EveryTick\")","v":""},{"$error":"#N/A"},{"$f":"RTD(\"cqg.rtd\",,\"StudyData\", \"Close(\"&$D$12&\") when LocalYear(\"&$D$12&\")=\"&$D$2&\" and localMonth(\"&$D$12&\") =\"&$E$2&\" and LocalDay(\"&$D$12&\")=\"&$F$2&\" and Barix(\"&$D$12&\",reference:=StartOfSession)=\"&A54&\"\", \"Bar\", \"\", \"Close\",\"5\",\"0\",\"PrimaryOnly\",,,\"False\",\"T\",\"EveryTick\")","v":64.709999999999994},-2.968960863697712E-2,{"$f":"RTD(\"cqg.rtd\",,\"StudyData\", \"Close(\"&$D$12&\") when LocalYear(\"&$D$12&\")=\"&$D$3&\" and localMonth(\"&$D$12&\") =\"&$E$3&\" and LocalDay(\"&$D$12&\")=\"&$F$3&\" and Barix(\"&$D$12&\",reference:=StartOfSession)=\"&A54&\"\", \"Bar\", \"\", \"Close\",\"5\",\"0\",\"PrimaryOnly\",,,\"False\",\"T\",\"EveryTick\")","v":66.47},-7.5165363800356526E-4,{"$f":"RTD(\"cqg.rtd\",,\"StudyData\", \"Close(\"&$D$12&\") when LocalYear(\"&$D$12&\")=\"&$D$4&\" and localMonth(\"&$D$12&\") =\"&$E$4&\" and LocalDay(\"&$D$12&\")=\"&$F$4&\" and Barix(\"&$D$12&\",reference:=StartOfSession)=\"&A54&\"\", \"Bar\", \"\", \"Close\",\"5\",\"0\",\"PrimaryOnly\",,,\"False\",\"T\",\"EveryTick\")","v":66.69},6.1858780929389947E-3,{"$f":"RTD(\"cqg.rtd\",,\"StudyData\", \"Close(\"&$D$12&\") when LocalYear(\"&$D$12&\")=\"&$D$5&\" and localMonth(\"&$D$12&\") =\"&$E$5&\" and LocalDay(\"&$D$12&\")=\"&$F$5&\" and Barix(\"&$D$12&\",reference:=StartOfSession)=\"&A54&\"\", \"Bar\", \"\", \"Close\",\"5\",\"0\",\"PrimaryOnly\",,,\"False\",\"T\",\"EveryTick\")","v":66.349999999999994},4.8462819930333665E-3,{"$f":"RTD(\"cqg.rtd\",,\"StudyData\", \"Close(\"&$D$12&\") when LocalYear(\"&$D$12&\")=\"&$D$6&\" and localMonth(\"&$D$12&\") =\"&$E$6&\" and LocalDay(\"&$D$12&\")=\"&$F$6&\" and Barix(\"&$D$12&\",reference:=StartOfSession)=\"&A54&\"\", \"Bar\", \"\", \"Close\",\"5\",\"0\",\"PrimaryOnly\",,,\"False\",\"T\",\"EveryTick\")","v":66.099999999999994},6.5478909700014097E-3,{"$f":"RTD(\"cqg.rtd\",,\"StudyData\", \"Close(\"&$D$12&\") when LocalYear(\"&$D$12&\")=\"&$D$7&\" and localMonth(\"&$D$12&\") =\"&$E$7&\" and LocalDay(\"&$D$12&\")=\"&$F$7&\" and Barix(\"&$D$12&\",reference:=StartOfSession)=\"&A54&\"\", \"Bar\", \"\", \"Close\",\"5\",\"0\",\"PrimaryOnly\",,,\"False\",\"T\",\"EveryTick\")","v":65.63},-3.9459705569889984E-3,{"$f":"RTD(\"cqg.rtd\",,\"StudyData\", \"Close(\"&$D$12&\") when LocalYear(\"&$D$12&\")=\"&$D$8&\" and localMonth(\"&$D$12&\") =\"&$E$8&\" and LocalDay(\"&$D$12&\")=\"&$F$8&\" and Barix(\"&$D$12&\",reference:=StartOfSession)=\"&A54&\"\", \"Bar\", \"\", \"Close\",\"5\",\"0\",\"PrimaryOnly\",,,\"False\",\"T\",\"EveryTick\")","v":65.790000000000006},1.6846986089644564E-2,{"$f":"RTD(\"cqg.rtd\",,\"StudyData\", \"Close(\"&$D$12&\") when LocalYear(\"&$D$12&\")=\"&$D$9&\" and localMonth(\"&$D$12&\") =\"&$E$9&\" and LocalDay(\"&$D$12&\")=\"&$F$9&\" and Barix(\"&$D$12&\",reference:=StartOfSession)=\"&A54&\"\", \"Bar\", \"\", \"Close\",\"5\",\"0\",\"PrimaryOnly\",,,\"False\",\"T\",\"EveryTick\")","v":64.819999999999993},-9.7769630308585497E-3,{"$f":"RTD(\"cqg.rtd\",,\"StudyData\", \"Close(\"&$D$12&\") when LocalYear(\"&$D$12&\")=\"&$D$10&\" and localMonth(\"&$D$12&\") =\"&$E$10&\" and LocalDay(\"&$D$12&\")=\"&$F$10&\" and Barix(\"&$D$12&\",reference:=StartOfSession)=\"&A54&\"\", \"Bar\", \"\", \"Close\",\"5\",\"0\",\"PrimaryOnly\",,,\"False\",\"T\",\"EveryTick\")","v":65.25},8.8126159554729917E-3,null,null,null,""]
[54,"12:30:00",-23,{"$f":" RTD(\"cqg.rtd\",,\"StudyData\", $D$12,  \"Tick\", \"FlatTicks=0\", \"Tick\",\"D\",C55,,,,,\"T\")","v":65.23},null,null,null,{"$f":"RTD(\"cqg.rtd\",,\"StudyData\", \"Close(\"&$D$12&\") when LocalYear(\"&$D$12&\")=\"&$D$1&\" and localMonth(\"&$D$12&\") =\"&$E$1&\" and LocalDay(\"&$D$12&\")=\"&$F$1&\" and Barix(\"&$D$12&\",reference:=StartOfSession)=\"&A55&\"\", \"Bar\", \"\", \"Close\",\"5\",\"0\",\"PrimaryOnly\",,,\"False\",\"T\",\"EveryTick\")","v":""},{"$error":"#N/A"},{"$f":"RTD(\"cqg.rtd\",,\"StudyData\", \"Close(\"&$D$12&\") when LocalYear(\"&$D$12&\")=\"&$D$2&\" and localMonth(\"&$D$12&\") =\"&$E$2&\" and LocalDay(\"&$D$12&\")=\"&$F$2&\" and Barix(\"&$D$12&\",reference:=StartOfSession)=\"&A55&\"\", \"Bar\", \"\", \"Close\",\"5\",\"0\",\"PrimaryOnly\",,,\"False\",\"T\",\"EveryTick\")","v":64.709999999999994},-2.968960863697712E-2,{"$f":"RTD(\"cqg.rtd\",,\"StudyData\", \"Close(\"&$D$12&\") when LocalYear(\"&$D$12&\")=\"&$D$3&\" and localMonth(\"&$D$12&\") =\"&$E$3&\" and LocalDay(\"&$D$12&\")=\"&$F$3&\" and Barix(\"&$D$12&\",reference:=StartOfSession)=\"&A55&\"\", \"Bar\", \"\", \"Close\",\"5\",\"0\",\"PrimaryOnly\",,,\"False\",\"T\",\"EveryTick\")","v":66.47},-7.5165363800356526E-4,{"$f":"RTD(\"cqg.rtd\",,\"StudyData\", \"Close(\"&$D$12&\") when LocalYear(\"&$D$12&\")=\"&$D$4&\" and localMonth(\"&$D$12&\") =\"&$E$4&\" and LocalDay(\"&$D$12&\")=\"&$F$4&\" and Barix(\"&$D$12&\",reference:=StartOfSession)=\"&A55&\"\", \"Bar\", \"\", \"Close\",\"5\",\"0\",\"PrimaryOnly\",,,\"False\",\"T\",\"EveryTick\")","v":66.67},5.8841279420639792E-3,{"$f":"RTD(\"cqg.rtd\",,\"StudyData\", \"Close(\"&$D$12&\") when LocalYear(\"&$D$12&\")=\"&$D$5&\" and localMonth(\"&$D$12&\") =\"&$E$5&\" and LocalDay(\"&$D$12&\")=\"&$F$5&\" and Barix(\"&$D$12&\",reference:=StartOfSession)=\"&A55&\"\", \"Bar\", \"\", \"Close\",\"5\",\"0\",\"PrimaryOnly\",,,\"False\",\"T\",\"EveryTick\")","v":66.05},3.0289262456453158E-4,{"$f":"RTD(\"cqg.rtd\",,\"StudyData\", \"Close(\"&$D$12&\") when LocalYear(\"&$D$12&\")=\"&$D$6&\" and localMonth(\"&$D$12&\") =\"&$E$6&\" and LocalDay(\"&$D$12&\")=\"&$F$6&\" and Barix(\"&$D$12&\",reference:=StartOfSession)=\"&A55&\"\", \"Bar\", \"\", \"Close\",\"5\",\"0\",\"PrimaryOnly\",,,\"False\",\"T\",\"EveryTick\")","v":66.12},6.8524440383737296E-3,{"$f":"RTD(\"cqg.rtd\",,\"StudyData\", \"Close(\"&$D$12&\") when LocalYear(\"&$D$12&\")=\"&$D$7&\" and localMonth(\"&$D$12&\") =\"&$E$7&\" and LocalDay(\"&$D$12&\")=\"&$F$7&\" and Barix(\"&$D$12&\",reference:=StartOfSession)=\"&A55&\"\", \"Bar\", \"\", \"Close\",\"5\",\"0\",\"PrimaryOnly\",,,\"False\",\"T\",\"EveryTick\")","v":65.680000000000007},-3.1871300652601873E-3,{"$f":"RTD(\"cqg.rtd\",,\"StudyData\", \"Close(\"&$D$12&\") when LocalYear(\"&$D$12&\")=\"&$D$8&\" and localMonth(\"&$D$12&\") =\"&$E$8&\" and LocalDay(\"&$D$12&\")=\"&$F$8&\" and Barix(\"&$D$12&\",reference:=StartOfSession)=\"&A55&\"\", \"Bar\", \"\", \"Close\",\"5\",\"0\",\"PrimaryOnly\",,,\"False\",\"T\",\"EveryTick\")","v":65.83},1.7465224111282773E-2,{"$f":"RTD(\"cqg.rtd\",,\"StudyData\", \"Close(\"&$D$12&\") when LocalYear(\"&$D$12&\")=\"&$D$9&\" and localMonth(\"&$D$12&\") =\"&$E$9&\" and LocalDay(\"&$D$12&\")=\"&$F$9&\" and Barix(\"&$D$12&\",reference:=StartOfSession)=\"&A55&\"\", \"Bar\", \"\", \"Close\",\"5\",\"0\",\"PrimaryOnly\",,,\"False\",\"T\",\"EveryTick\")","v":64.81},-9.9297280782155752E-3,{"$f":"RTD(\"cqg.rtd\",,\"StudyData\", \"Close(\"&$D$12&\") when LocalYear(\"&$D$12&\")=\"&$D$10&\" and localMonth(\"&$D$12&\") =\"&$E$10&\" and LocalDay(\"&$D$12&\")=\"&$F$10&\" and Barix(\"&$D$12&\",reference:=StartOfSession)=\"&A55&\"\", \"Bar\", \"\", \"Close\",\"5\",\"0\",\"PrimaryOnly\",,,\"False\",\"T\",\"EveryTick\")","v":65.23},8.5034013605441734E-3,null,null,null,""]
[55,"12:35:00",-22,{"$f":" RTD(\"cqg.rtd\",,\"StudyData\", $D$12,  \"Tick\", \"FlatTicks=0\", \"Tick\",\"D\",C56,,,,,\"T\")","v":65.22},null,null,null,{"$f":"RTD(\"cqg.rtd\",,\"StudyData\", \"Close(\"&$D$12&\") when LocalYear(\"&$D$12&\")=\"&$D$1&\" and localMonth(\"&$D$12&\") =\"&$E$1&\" and LocalDay(\"&$D$12&\")=\"&$F$1&\" and Barix(\"&$D$12&\",reference:=StartOfSession)=\"&A56&\"\", \"Bar\", \"\", \"Close\",\"5\",\"0\",\"PrimaryOnly\",,,\"False\",\"T\",\"EveryTick\")","v":""},{"$error":"#N/A"},{"$f":"RTD(\"cqg.rtd\",,\"StudyData\", \"Close(\"&$D$12&\") when LocalYear(\"&$D$12&\")=\"&$D$2&\" and localMonth(\"&$D$12&\") =\"&$E$2&\" and LocalDay(\"&$D$12&\")=\"&$F$2&\" and Barix(\"&$D$12&\",reference:=StartOfSession)=\"&A56&\"\", \"Bar\", \"\", \"Close\",\"5\",\"0\",\"PrimaryOnly\",,,\"False\",\"T\",\"EveryTick\")","v":64.77},-2.8789923526765657E-2,{"$f":"RTD(\"cqg.rtd\",,\"StudyData\", \"Close(\"&$D$12&\") when LocalYear(\"&$D$12&\")=\"&$D$3&\" and localMonth(\"&$D$12&\") =\"&$E$3&\" and LocalDay(\"&$D$12&\")=\"&$F$3&\" and Barix(\"&$D$12&\",reference:=StartOfSession)=\"&A56&\"\", \"Bar\", \"\", \"Close\",\"5\",\"0\",\"PrimaryOnly\",,,\"False\",\"T\",\"EveryTick\")","v":66.42},-1.5033072760071305E-3,{"$f":"RTD(\"cqg.rtd\",,\"StudyData\", \"Close(\"&$D$12&\") when LocalYear(\"&$D$12&\")=\"&$D$4&\" and localMonth(\"&$D$12&\") =\"&$E$4&\" and LocalDay(\"&$D$12&\")=\"&$F$4&\" and Barix(\"&$D$12&\",reference:=StartOfSession)=\"&A56&\"\", \"Bar\", \"\", \"Close\",\"5\",\"0\",\"PrimaryOnly\",,,\"False\",\"T\",\"EveryTick\")","v":66.680000000000007},6.0350030175015945E-3,{"$f":"RTD(\"cqg.rtd\",,\"StudyData\", \"Close(\"&$D$12&\") when LocalYear(\"&$D$12&\")=\"&$D$5&\" and localMonth(\"&$D$12&\") =\"&$E$5&\" and LocalDay(\"&$D$12&\")=\"&$F$5&\" and Barix(\"&$D$12&\",reference:=StartOfSession)=\"&A56&\"\", \"Bar\", \"\", \"Close\",\"5\",\"0\",\"PrimaryOnly\",,,\"False\",\"T\",\"EveryTick\")","v":66.03},0,{"$f":"RTD(\"cqg.rtd\",,\"StudyData\", \"Close(\"&$D$12&\") when LocalYear(\"&$D$12&\")=\"&$D$6&\" and localMonth(\"&$D$12&\") =\"&$E$6&\" and LocalDay(\"&$D$12&\")=\"&$F$6&\" and Barix(\"&$D$12&\",reference:=StartOfSession)=\"&A56&\"\", \"Bar\", \"\", \"Close\",\"5\",\"0\",\"PrimaryOnly\",,,\"False\",\"T\",\"EveryTick\")","v":66.14},7.1569971067458327E-3,{"$f":"RTD(\"cqg.rtd\",,\"StudyData\", \"Close(\"&$D$12&\") when LocalYear(\"&$D$12&\")=\"&$D$7&\" and localMonth(\"&$D$12&\") =\"&$E$7&\" and LocalDay(\"&$D$12&\")=\"&$F$7&\" and Barix(\"&$D$12&\",reference:=StartOfSession)=\"&A56&\"\", \"Bar\", \"\", \"Close\",\"5\",\"0\",\"PrimaryOnly\",,,\"False\",\"T\",\"EveryTick\")","v":65.69},-3.0353619669145977E-3,{"$f":"RTD(\"cqg.rtd\",,\"StudyData\", \"Close(\"&$D$12&\") when LocalYear(\"&$D$12&\")=\"&$D$8&\" and localMonth(\"&$D$12&\") =\"&$E$8&\" and LocalDay(\"&$D$12&\")=\"&$F$8&\" and Barix(\"&$D$12&\",reference:=StartOfSession)=\"&A56&\"\", \"Bar\", \"\", \"Close\",\"5\",\"0\",\"PrimaryOnly\",,,\"False\",\"T\",\"EveryTick\")","v":65.72},1.5765069551777373E-2,{"$f":"RTD(\"cqg.rtd\",,\"StudyData\", \"Close(\"&$D$12&\") when LocalYear(\"&$D$12&\")=\"&$D$9&\" and localMonth(\"&$D$12&\") =\"&$E$9&\" and LocalDay(\"&$D$12&\")=\"&$F$9&\" and Barix(\"&$D$12&\",reference:=StartOfSession)=\"&A56&\"\", \"Bar\", \"\", \"Close\",\"5\",\"0\",\"PrimaryOnly\",,,\"False\",\"T\",\"EveryTick\")","v":64.900000000000006},-8.55484265200104E-3,{"$f":"RTD(\"cqg.rtd\",,\"StudyData\", \"Close(\"&$D$12&\") when LocalYear(\"&$D$12&\")=\"&$D$10&\" and localMonth(\"&$D$12&\") =\"&$E$10&\" and LocalDay(\"&$D$12&\")=\"&$F$10&\" and Barix(\"&$D$12&\",reference:=StartOfSession)=\"&A56&\"\", \"Bar\", \"\", \"Close\",\"5\",\"0\",\"PrimaryOnly\",,,\"False\",\"T\",\"EveryTick\")","v":65.239999999999995},8.6580086580084724E-3,null,null,null,""]
[56,"12:40:00",-21,{"$f":" RTD(\"cqg.rtd\",,\"StudyData\", $D$12,  \"Tick\", \"FlatTicks=0\", \"Tick\",\"D\",C57,,,,,\"T\")","v":65.23},null,null,null,{"$f":"RTD(\"cqg.rtd\",,\"StudyData\", \"Close(\"&$D$12&\") when LocalYear(\"&$D$12&\")=\"&$D$1&\" and localMonth(\"&$D$12&\") =\"&$E$1&\" and LocalDay(\"&$D$12&\")=\"&$F$1&\" and Barix(\"&$D$12&\",reference:=StartOfSession)=\"&A57&\"\", \"Bar\", \"\", \"Close\",\"5\",\"0\",\"PrimaryOnly\",,,\"False\",\"T\",\"EveryTick\")","v":""},{"$error":"#N/A"},{"$f":"RTD(\"cqg.rtd\",,\"StudyData\", \"Close(\"&$D$12&\") when LocalYear(\"&$D$12&\")=\"&$D$2&\" and localMonth(\"&$D$12&\") =\"&$E$2&\" and LocalDay(\"&$D$12&\")=\"&$F$2&\" and Barix(\"&$D$12&\",reference:=StartOfSession)=\"&A57&\"\", \"Bar\", \"\", \"Close\",\"5\",\"0\",\"PrimaryOnly\",,,\"False\",\"T\",\"EveryTick\")","v":64.77},-2.8789923526765657E-2,{"$f":"RTD(\"cqg.rtd\",,\"StudyData\", \"Close(\"&$D$12&\") when LocalYear(\"&$D$12&\")=\"&$D$3&\" and localMonth(\"&$D$12&\") =\"&$E$3&\" and LocalDay(\"&$D$12&\")=\"&$F$3&\" and Barix(\"&$D$12&\",reference:=StartOfSession)=\"&A57&\"\", \"Bar\", \"\", \"Close\",\"5\",\"0\",\"PrimaryOnly\",,,\"False\",\"T\",\"EveryTick\")","v":66.459999999999994},-9.0198436560436372E-4,{"$f":"RTD(\"cqg.rtd\",,\"StudyData\", \"Close(\"&$D$12&\") when LocalYear(\"&$D$12&\")=\"&$D$4&\" and localMonth(\"&$D$12&\") =\"&$E$4&\" and LocalDay(\"&$D$12&\")=\"&$F$4&\" and Barix(\"&$D$12&\",reference:=StartOfSession)=\"&A57&\"\", \"Bar\", \"\", \"Close\",\"5\",\"0\",\"PrimaryOnly\",,,\"False\",\"T\",\"EveryTick\")","v":66.7},6.3367531683766101E-3,{"$f":"RTD(\"cqg.rtd\",,\"StudyData\", \"Close(\"&$D$12&\") when LocalYear(\"&$D$12&\")=\"&$D$5&\" and localMonth(\"&$D$12&\") =\"&$E$5&\" and LocalDay(\"&$D$12&\")=\"&$F$5&\" and Barix(\"&$D$12&\",reference:=StartOfSession)=\"&A57&\"\", \"Bar\", \"\", \"Close\",\"5\",\"0\",\"PrimaryOnly\",,,\"False\",\"T\",\"EveryTick\")","v":66.11},1.2115704982583416E-3,{"$f":"RTD(\"cqg.rtd\",,\"StudyData\", \"Close(\"&$D$12&\") when LocalYear(\"&$D$12&\")=\"&$D$6&\" and localMonth(\"&$D$12&\") =\"&$E$6&\" and LocalDay(\"&$D$12&\")=\"&$F$6&\" and Barix(\"&$D$12&\",reference:=StartOfSession)=\"&A57&\"\", \"Bar\", \"\", \"Close\",\"5\",\"0\",\"PrimaryOnly\",,,\"False\",\"T\",\"EveryTick\")","v":66.14},7.1569971067458327E-3,{"$f":"RTD(\"cqg.rtd\",,\"StudyData\", \"Close(\"&$D$12&\") when LocalYear(\"&$D$12&\")=\"&$D$7&\" and localMonth(\"&$D$12&\") =\"&$E$7&\" and LocalDay(\"&$D$12&\")=\"&$F$7&\" and Barix(\"&$D$12&\",reference:=StartOfSession)=\"&A57&\"\", \"Bar\", \"\", \"Close\",\"5\",\"0\",\"PrimaryOnly\",,,\"False\",\"T\",\"EveryTick\")","v":65.72},-2.5800576718773972E-3,{"$f":"RTD(\"cqg.rtd\",,\"StudyData\", \"Close(\"&$D$12&\") when LocalYear(\"&$D$12&\")=\"&$D$8&\" and localMonth(\"&$D$12&\") =\"&$E$8&\" and LocalDay(\"&$D$12&\")=\"&$F$8&\" and Barix(\"&$D$12&\",reference:=StartOfSession)=\"&A57&\"\", \"Bar\", \"\", \"Close\",\"5\",\"0\",\"PrimaryOnly\",,,\"False\",\"T\",\"EveryTick\")","v":65.680000000000007},1.5146831530139165E-2,{"$f":"RTD(\"cqg.rtd\",,\"StudyData\", \"Close(\"&$D$12&\") when LocalYear(\"&$D$12&\")=\"&$D$9&\" and localMonth(\"&$D$12&\") =\"&$E$9&\" and LocalDay(\"&$D$12&\")=\"&$F$9&\" and Barix(\"&$D$12&\",reference:=StartOfSession)=\"&A57&\"\", \"Bar\", \"\", \"Close\",\"5\",\"0\",\"PrimaryOnly\",,,\"False\",\"T\",\"EveryTick\")","v":64.900000000000006},-8.55484265200104E-3,{"$f":"RTD(\"cqg.rtd\",,\"StudyData\", \"Close(\"&$D$12&\") when LocalYear(\"&$D$12&\")=\"&$D$10&\" and localMonth(\"&$D$12&\") =\"&$E$10&\" and LocalDay(\"&$D$12&\")=\"&$F$10&\" and Barix(\"&$D$12&\",reference:=StartOfSession)=\"&A57&\"\", \"Bar\", \"\", \"Close\",\"5\",\"0\",\"PrimaryOnly\",,,\"False\",\"T\",\"EveryTick\")","v":65.209999999999994},8.1941867656151347E-3,null,null,null,""]
[57,"12:45:00",-20,{"$f":" RTD(\"cqg.rtd\",,\"StudyData\", $D$12,  \"Tick\", \"FlatTicks=0\", \"Tick\",\"D\",C58,,,,,\"T\")","v":65.22},null,null,null,{"$f":"RTD(\"cqg.rtd\",,\"StudyData\", \"Close(\"&$D$12&\") when LocalYear(\"&$D$12&\")=\"&$D$1&\" and localMonth(\"&$D$12&\") =\"&$E$1&\" and LocalDay(\"&$D$12&\")=\"&$F$1&\" and Barix(\"&$D$12&\",reference:=StartOfSession)=\"&A58&\"\", \"Bar\", \"\", \"Close\",\"5\",\"0\",\"PrimaryOnly\",,,\"False\",\"T\",\"EveryTick\")","v":""},{"$error":"#N/A"},{"$f":"RTD(\"cqg.rtd\",,\"StudyData\", \"Close(\"&$D$12&\") when LocalYear(\"&$D$12&\")=\"&$D$2&\" and localMonth(\"&$D$12&\") =\"&$E$2&\" and LocalDay(\"&$D$12&\")=\"&$F$2&\" and Barix(\"&$D$12&\",reference:=StartOfSession)=\"&A58&\"\", \"Bar\", \"\", \"Close\",\"5\",\"0\",\"PrimaryOnly\",,,\"False\",\"T\",\"EveryTick\")","v":64.8},-2.834008097165993E-2,{"$f":"RTD(\"cqg.rtd\",,\"StudyData\", \"Close(\"&$D$12&\") when LocalYear(\"&$D$12&\")=\"&$D$3&\" and localMonth(\"&$D$12&\") =\"&$E$3&\" and LocalDay(\"&$D$12&\")=\"&$F$3&\" and Barix(\"&$D$12&\",reference:=StartOfSession)=\"&A58&\"\", \"Bar\", \"\", \"Close\",\"5\",\"0\",\"PrimaryOnly\",,,\"False\",\"T\",\"EveryTick\")","v":66.45},-1.0523150932049486E-3,{"$f":"RTD(\"cqg.rtd\",,\"StudyData\", \"Close(\"&$D$12&\") when LocalYear(\"&$D$12&\")=\"&$D$4&\" and localMonth(\"&$D$12&\") =\"&$E$4&\" and LocalDay(\"&$D$12&\")=\"&$F$4&\" and Barix(\"&$D$12&\",reference:=StartOfSession)=\"&A58&\"\", \"Bar\", \"\", \"Close\",\"5\",\"0\",\"PrimaryOnly\",,,\"False\",\"T\",\"EveryTick\")","v":66.69},6.1858780929389947E-3,{"$f":"RTD(\"cqg.rtd\",,\"StudyData\", \"Close(\"&$D$12&\") when LocalYear(\"&$D$12&\")=\"&$D$5&\" and localMonth(\"&$D$12&\") =\"&$E$5&\" and LocalDay(\"&$D$12&\")=\"&$F$5&\" and Barix(\"&$D$12&\",reference:=StartOfSession)=\"&A58&\"\", \"Bar\", \"\", \"Close\",\"5\",\"0\",\"PrimaryOnly\",,,\"False\",\"T\",\"EveryTick\")","v":66.17},2.1202483719521517E-3,{"$f":"RTD(\"cqg.rtd\",,\"StudyData\", \"Close(\"&$D$12&\") when LocalYear(\"&$D$12&\")=\"&$D$6&\" and localMonth(\"&$D$12&\") =\"&$E$6&\" and LocalDay(\"&$D$12&\")=\"&$F$6&\" and Barix(\"&$D$12&\",reference:=StartOfSession)=\"&A58&\"\", \"Bar\", \"\", \"Close\",\"5\",\"0\",\"PrimaryOnly\",,,\"False\",\"T\",\"EveryTick\")","v":66.13},7.0047205725596732E-3,{"$f":"RTD(\"cqg.rtd\",,\"StudyData\", \"Close(\"&$D$12&\") when LocalYear(\"&$D$12&\")=\"&$D$7&\" and localMonth(\"&$D$12&\") =\"&$E$7&\" and LocalDay(\"&$D$12&\")=\"&$F$7&\" and Barix(\"&$D$12&\",reference:=StartOfSession)=\"&A58&\"\", \"Bar\", \"\", \"Close\",\"5\",\"0\",\"PrimaryOnly\",,,\"False\",\"T\",\"EveryTick\")","v":65.739999999999995},-2.2765214751860022E-3,{"$f":"RTD(\"cqg.rtd\",,\"StudyData\", \"Close(\"&$D$12&\") when LocalYear(\"&$D$12&\")=\"&$D$8&\" and localMonth(\"&$D$12&\") =\"&$E$8&\" and LocalDay(\"&$D$12&\")=\"&$F$8&\" and Barix(\"&$D$12&\",reference:=StartOfSession)=\"&A58&\"\", \"Bar\", \"\", \"Close\",\"5\",\"0\",\"PrimaryOnly\",,,\"False\",\"T\",\"EveryTick\")","v":65.760000000000005},1.6383307573415801E-2,{"$f":"RTD(\"cqg.rtd\",,\"StudyData\", \"Close(\"&$D$12&\") when LocalYear(\"&$D$12&\")=\"&$D$9&\" and localMonth(\"&$D$12&\") =\"&$E$9&\" and LocalDay(\"&$D$12&\")=\"&$F$9&\" and Barix(\"&$D$12&\",reference:=StartOfSession)=\"&A58&\"\", \"Bar\", \"\", \"Close\",\"5\",\"0\",\"PrimaryOnly\",,,\"False\",\"T\",\"EveryTick\")","v":64.86},-9.1659028414297957E-3,{"$f":"RTD(\"cqg.rtd\",,\"StudyData\", \"Close(\"&$D$12&\") when LocalYear(\"&$D$12&\")=\"&$D$10&\" and localMonth(\"&$D$12&\") =\"&$E$10&\" and LocalDay(\"&$D$12&\")=\"&$F$10&\" and Barix(\"&$D$12&\",reference:=StartOfSession)=\"&A58&\"\", \"Bar\", \"\", \"Close\",\"5\",\"0\",\"PrimaryOnly\",,,\"False\",\"T\",\"EveryTick\")","v":65.319999999999993},9.8948670377239679E-3,null,null,null,""]
[58,"12:50:00",-19,{"$f":" RTD(\"cqg.rtd\",,\"StudyData\", $D$12,  \"Tick\", \"FlatTicks=0\", \"Tick\",\"D\",C59,,,,,\"T\")","v":65.23},null,null,null,{"$f":"RTD(\"cqg.rtd\",,\"StudyData\", \"Close(\"&$D$12&\") when LocalYear(\"&$D$12&\")=\"&$D$1&\" and localMonth(\"&$D$12&\") =\"&$E$1&\" and LocalDay(\"&$D$12&\")=\"&$F$1&\" and Barix(\"&$D$12&\",reference:=StartOfSession)=\"&A59&\"\", \"Bar\", \"\", \"Close\",\"5\",\"0\",\"PrimaryOnly\",,,\"False\",\"T\",\"EveryTick\")","v":""},{"$error":"#N/A"},{"$f":"RTD(\"cqg.rtd\",,\"StudyData\", \"Close(\"&$D$12&\") when LocalYear(\"&$D$12&\")=\"&$D$2&\" and localMonth(\"&$D$12&\") =\"&$E$2&\" and LocalDay(\"&$D$12&\")=\"&$F$2&\" and Barix(\"&$D$12&\",reference:=StartOfSession)=\"&A59&\"\", \"Bar\", \"\", \"Close\",\"5\",\"0\",\"PrimaryOnly\",,,\"False\",\"T\",\"EveryTick\")","v":64.81},-2.8190133453291282E-2,{"$f":"RTD(\"cqg.rtd\",,\"StudyData\", \"Close(\"&$D$12&\") when LocalYear(\"&$D$12&\")=\"&$D$3&\" and localMonth(\"&$D$12&\") =\"&$E$3&\" and LocalDay(\"&$D$12&\")=\"&$F$3&\" and Barix(\"&$D$12&\",reference:=StartOfSession)=\"&A59&\"\", \"Bar\", \"\", \"Close\",\"5\",\"0\",\"PrimaryOnly\",,,\"False\",\"T\",\"EveryTick\")","v":66.55},4.5099218280218186E-4,{"$f":"RTD(\"cqg.rtd\",,\"StudyData\", \"Close(\"&$D$12&\") when LocalYear(\"&$D$12&\")=\"&$D$4&\" and localMonth(\"&$D$12&\") =\"&$E$4&\" and LocalDay(\"&$D$12&\")=\"&$F$4&\" and Barix(\"&$D$12&\",reference:=StartOfSession)=\"&A59&\"\", \"Bar\", \"\", \"Close\",\"5\",\"0\",\"PrimaryOnly\",,,\"False\",\"T\",\"EveryTick\")","v":66.67},5.8841279420639792E-3,{"$f":"RTD(\"cqg.rtd\",,\"StudyData\", \"Close(\"&$D$12&\") when LocalYear(\"&$D$12&\")=\"&$D$5&\" and localMonth(\"&$D$12&\") =\"&$E$5&\" and LocalDay(\"&$D$12&\")=\"&$F$5&\" and Barix(\"&$D$12&\",reference:=StartOfSession)=\"&A59&\"\", \"Bar\", \"\", \"Close\",\"5\",\"0\",\"PrimaryOnly\",,,\"False\",\"T\",\"EveryTick\")","v":66.150000000000006},1.81735574738762E-3,{"$f":"RTD(\"cqg.rtd\",,\"StudyData\", \"Close(\"&$D$12&\") when LocalYear(\"&$D$12&\")=\"&$D$6&\" and localMonth(\"&$D$12&\") =\"&$E$6&\" and LocalDay(\"&$D$12&\")=\"&$F$6&\" and Barix(\"&$D$12&\",reference:=StartOfSession)=\"&A59&\"\", \"Bar\", \"\", \"Close\",\"5\",\"0\",\"PrimaryOnly\",,,\"False\",\"T\",\"EveryTick\")","v":66.14},7.1569971067458327E-3,{"$f":"RTD(\"cqg.rtd\",,\"StudyData\", \"Close(\"&$D$12&\") when LocalYear(\"&$D$12&\")=\"&$D$7&\" and localMonth(\"&$D$12&\") =\"&$E$7&\" and LocalDay(\"&$D$12&\")=\"&$F$7&\" and Barix(\"&$D$12&\",reference:=StartOfSession)=\"&A59&\"\", \"Bar\", \"\", \"Close\",\"5\",\"0\",\"PrimaryOnly\",,,\"False\",\"T\",\"EveryTick\")","v":65.739999999999995},-2.2765214751860022E-3,{"$f":"RTD(\"cqg.rtd\",,\"StudyData\", \"Close(\"&$D$12&\") when LocalYear(\"&$D$12&\")=\"&$D$8&\" and localMonth(\"&$D$12&\") =\"&$E$8&\" and LocalDay(\"&$D$12&\")=\"&$F$8&\" and Barix(\"&$D$12&\",reference:=StartOfSession)=\"&A59&\"\", \"Bar\", \"\", \"Close\",\"5\",\"0\",\"PrimaryOnly\",,,\"False\",\"T\",\"EveryTick\")","v":65.69},1.5301391035548607E-2,{"$f":"RTD(\"cqg.rtd\",,\"StudyData\", \"Close(\"&$D$12&\") when LocalYear(\"&$D$12&\")=\"&$D$9&\" and localMonth(\"&$D$12&\") =\"&$E$9&\" and LocalDay(\"&$D$12&\")=\"&$F$9&\" and Barix(\"&$D$12&\",reference:=StartOfSession)=\"&A59&\"\", \"Bar\", \"\", \"Close\",\"5\",\"0\",\"PrimaryOnly\",,,\"False\",\"T\",\"EveryTick\")","v":64.83},-9.6241979835013057E-3,{"$f":"RTD(\"cqg.rtd\",,\"StudyData\", \"Close(\"&$D$12&\") when LocalYear(\"&$D$12&\")=\"&$D$10&\" and localMonth(\"&$D$12&\") =\"&$E$10&\" and LocalDay(\"&$D$12&\")=\"&$F$10&\" and Barix(\"&$D$12&\",reference:=StartOfSession)=\"&A59&\"\", \"Bar\", \"\", \"Close\",\"5\",\"0\",\"PrimaryOnly\",,,\"False\",\"T\",\"EveryTick\")","v":65.28},9.2764378478663312E-3,null,null,null,""]
[59,"12:55:00",-18,{"$f":" RTD(\"cqg.rtd\",,\"StudyData\", $D$12,  \"Tick\", \"FlatTicks=0\", \"Tick\",\"D\",C60,,,,,\"T\")","v":65.22},null,null,null,{"$f":"RTD(\"cqg.rtd\",,\"StudyData\", \"Close(\"&$D$12&\") when LocalYear(\"&$D$12&\")=\"&$D$1&\" and localMonth(\"&$D$12&\") =\"&$E$1&\" and LocalDay(\"&$D$12&\")=\"&$F$1&\" and Barix(\"&$D$12&\",reference:=StartOfSession)=\"&A60&\"\", \"Bar\", \"\", \"Close\",\"5\",\"0\",\"PrimaryOnly\",,,\"False\",\"T\",\"EveryTick\")","v":""},{"$error":"#N/A"},{"$f":"RTD(\"cqg.rtd\",,\"StudyData\", \"Close(\"&$D$12&\") when LocalYear(\"&$D$12&\")=\"&$D$2&\" and localMonth(\"&$D$12&\") =\"&$E$2&\" and LocalDay(\"&$D$12&\")=\"&$F$2&\" and Barix(\"&$D$12&\",reference:=StartOfSession)=\"&A60&\"\", \"Bar\", \"\", \"Close\",\"5\",\"0\",\"PrimaryOnly\",,,\"False\",\"T\",\"EveryTick\")","v":64.739999999999995},-2.9239766081871389E-2,{"$f":"RTD(\"cqg.rtd\",,\"StudyData\", \"Close(\"&$D$12&\") when LocalYear(\"&$D$12&\")=\"&$D$3&\" and localMonth(\"&$D$12&\") =\"&$E$3&\" and LocalDay(\"&$D$12&\")=\"&$F$3&\" and Barix(\"&$D$12&\",reference:=StartOfSession)=\"&A60&\"\", \"Bar\", \"\", \"Close\",\"5\",\"0\",\"PrimaryOnly\",,,\"False\",\"T\",\"EveryTick\")","v":66.55},4.5099218280218186E-4,{"$f":"RTD(\"cqg.rtd\",,\"StudyData\", \"Close(\"&$D$12&\") when LocalYear(\"&$D$12&\")=\"&$D$4&\" and localMonth(\"&$D$12&\") =\"&$E$4&\" and LocalDay(\"&$D$12&\")=\"&$F$4&\" and Barix(\"&$D$12&\",reference:=StartOfSession)=\"&A60&\"\", \"Bar\", \"\", \"Close\",\"5\",\"0\",\"PrimaryOnly\",,,\"False\",\"T\",\"EveryTick\")","v":66.63},5.2806276403137347E-3,{"$f":"RTD(\"cqg.rtd\",,\"StudyData\", \"Close(\"&$D$12&\") when LocalYear(\"&$D$12&\")=\"&$D$5&\" and localMonth(\"&$D$12&\") =\"&$E$5&\" and LocalDay(\"&$D$12&\")=\"&$F$5&\" and Barix(\"&$D$12&\",reference:=StartOfSession)=\"&A60&\"\", \"Bar\", \"\", \"Close\",\"5\",\"0\",\"PrimaryOnly\",,,\"False\",\"T\",\"EveryTick\")","v":66.22},2.8774799333635883E-3,{"$f":"RTD(\"cqg.rtd\",,\"StudyData\", \"Close(\"&$D$12&\") when LocalYear(\"&$D$12&\")=\"&$D$6&\" and localMonth(\"&$D$12&\") =\"&$E$6&\" and LocalDay(\"&$D$12&\")=\"&$F$6&\" and Barix(\"&$D$12&\",reference:=StartOfSession)=\"&A60&\"\", \"Bar\", \"\", \"Close\",\"5\",\"0\",\"PrimaryOnly\",,,\"False\",\"T\",\"EveryTick\")","v":66.11},6.7001675041875701E-3,{"$f":"RTD(\"cqg.rtd\",,\"StudyData\", \"Close(\"&$D$12&\") when LocalYear(\"&$D$12&\")=\"&$D$7&\" and localMonth(\"&$D$12&\") =\"&$E$7&\" and LocalDay(\"&$D$12&\")=\"&$F$7&\" and Barix(\"&$D$12&\",reference:=StartOfSession)=\"&A60&\"\", \"Bar\", \"\", \"Close\",\"5\",\"0\",\"PrimaryOnly\",,,\"False\",\"T\",\"EveryTick\")","v":65.739999999999995},-2.2765214751860022E-3,{"$f":"RTD(\"cqg.rtd\",,\"StudyData\", \"Close(\"&$D$12&\") when LocalYear(\"&$D$12&\")=\"&$D$8&\" and localMonth(\"&$D$12&\") =\"&$E$8&\" and LocalDay(\"&$D$12&\")=\"&$F$8&\" and Barix(\"&$D$12&\",reference:=StartOfSession)=\"&A60&\"\", \"Bar\", \"\", \"Close\",\"5\",\"0\",\"PrimaryOnly\",,,\"False\",\"T\",\"EveryTick\")","v":65.66},1.483771251931984E-2,{"$f":"RTD(\"cqg.rtd\",,\"StudyData\", \"Close(\"&$D$12&\") when LocalYear(\"&$D$12&\")=\"&$D$9&\" and localMonth(\"&$D$12&\") =\"&$E$9&\" and LocalDay(\"&$D$12&\")=\"&$F$9&\" and Barix(\"&$D$12&\",reference:=StartOfSession)=\"&A60&\"\", \"Bar\", \"\", \"Close\",\"5\",\"0\",\"PrimaryOnly\",,,\"False\",\"T\",\"EveryTick\")","v":64.83},-9.6241979835013057E-3,{"$f":"RTD(\"cqg.rtd\",,\"StudyData\", \"Close(\"&$D$12&\") when LocalYear(\"&$D$12&\")=\"&$D$10&\" and localMonth(\"&$D$12&\") =\"&$E$10&\" and LocalDay(\"&$D$12&\")=\"&$F$10&\" and Barix(\"&$D$12&\",reference:=StartOfSession)=\"&A60&\"\", \"Bar\", \"\", \"Close\",\"5\",\"0\",\"PrimaryOnly\",,,\"False\",\"T\",\"EveryTick\")","v":65.349999999999994},1.0358688930117307E-2,null,null,null,""]
[60,"13:00:00",-17,{"$f":" RTD(\"cqg.rtd\",,\"StudyData\", $D$12,  \"Tick\", \"FlatTicks=0\", \"Tick\",\"D\",C61,,,,,\"T\")","v":65.23},null,null,null,{"$f":"RTD(\"cqg.rtd\",,\"StudyData\", \"Close(\"&$D$12&\") when LocalYear(\"&$D$12&\")=\"&$D$1&\" and localMonth(\"&$D$12&\") =\"&$E$1&\" and LocalDay(\"&$D$12&\")=\"&$F$1&\" and Barix(\"&$D$12&\",reference:=StartOfSession)=\"&A61&\"\", \"Bar\", \"\", \"Close\",\"5\",\"0\",\"PrimaryOnly\",,,\"False\",\"T\",\"EveryTick\")","v":""},{"$error":"#N/A"},{"$f":"RTD(\"cqg.rtd\",,\"StudyData\", \"Close(\"&$D$12&\") when LocalYear(\"&$D$12&\")=\"&$D$2&\" and localMonth(\"&$D$12&\") =\"&$E$2&\" and LocalDay(\"&$D$12&\")=\"&$F$2&\" and Barix(\"&$D$12&\",reference:=StartOfSession)=\"&A61&\"\", \"Bar\", \"\", \"Close\",\"5\",\"0\",\"PrimaryOnly\",,,\"False\",\"T\",\"EveryTick\")","v":64.69},-2.99895036737142E-2,{"$f":"RTD(\"cqg.rtd\",,\"StudyData\", \"Close(\"&$D$12&\") when LocalYear(\"&$D$12&\")=\"&$D$3&\" and localMonth(\"&$D$12&\") =\"&$E$3&\" and LocalDay(\"&$D$12&\")=\"&$F$3&\" and Barix(\"&$D$12&\",reference:=StartOfSession)=\"&A61&\"\", \"Bar\", \"\", \"Close\",\"5\",\"0\",\"PrimaryOnly\",,,\"False\",\"T\",\"EveryTick\")","v":66.52},0,{"$f":"RTD(\"cqg.rtd\",,\"StudyData\", \"Close(\"&$D$12&\") when LocalYear(\"&$D$12&\")=\"&$D$4&\" and localMonth(\"&$D$12&\") =\"&$E$4&\" and LocalDay(\"&$D$12&\")=\"&$F$4&\" and Barix(\"&$D$12&\",reference:=StartOfSession)=\"&A61&\"\", \"Bar\", \"\", \"Close\",\"5\",\"0\",\"PrimaryOnly\",,,\"False\",\"T\",\"EveryTick\")","v":66.48},3.0175015087507973E-3,{"$f":"RTD(\"cqg.rtd\",,\"StudyData\", \"Close(\"&$D$12&\") when LocalYear(\"&$D$12&\")=\"&$D$5&\" and localMonth(\"&$D$12&\") =\"&$E$5&\" and LocalDay(\"&$D$12&\")=\"&$F$5&\" and Barix(\"&$D$12&\",reference:=StartOfSession)=\"&A61&\"\", \"Bar\", \"\", \"Close\",\"5\",\"0\",\"PrimaryOnly\",,,\"False\",\"T\",\"EveryTick\")","v":66.16},1.9688020596697782E-3,{"$f":"RTD(\"cqg.rtd\",,\"StudyData\", \"Close(\"&$D$12&\") when LocalYear(\"&$D$12&\")=\"&$D$6&\" and localMonth(\"&$D$12&\") =\"&$E$6&\" and LocalDay(\"&$D$12&\")=\"&$F$6&\" and Barix(\"&$D$12&\",reference:=StartOfSession)=\"&A61&\"\", \"Bar\", \"\", \"Close\",\"5\",\"0\",\"PrimaryOnly\",,,\"False\",\"T\",\"EveryTick\")","v":66.12},6.8524440383737296E-3,{"$f":"RTD(\"cqg.rtd\",,\"StudyData\", \"Close(\"&$D$12&\") when LocalYear(\"&$D$12&\")=\"&$D$7&\" and localMonth(\"&$D$12&\") =\"&$E$7&\" and LocalDay(\"&$D$12&\")=\"&$F$7&\" and Barix(\"&$D$12&\",reference:=StartOfSession)=\"&A61&\"\", \"Bar\", \"\", \"Close\",\"5\",\"0\",\"PrimaryOnly\",,,\"False\",\"T\",\"EveryTick\")","v":65.680000000000007},-3.1871300652601873E-3,{"$f":"RTD(\"cqg.rtd\",,\"StudyData\", \"Close(\"&$D$12&\") when LocalYear(\"&$D$12&\")=\"&$D$8&\" and localMonth(\"&$D$12&\") =\"&$E$8&\" and LocalDay(\"&$D$12&\")=\"&$F$8&\" and Barix(\"&$D$12&\",reference:=StartOfSession)=\"&A61&\"\", \"Bar\", \"\", \"Close\",\"5\",\"0\",\"PrimaryOnly\",,,\"False\",\"T\",\"EveryTick\")","v":65.67},1.4992272024729502E-2,{"$f":"RTD(\"cqg.rtd\",,\"StudyData\", \"Close(\"&$D$12&\") when LocalYear(\"&$D$12&\")=\"&$D$9&\" and localMonth(\"&$D$12&\") =\"&$E$9&\" and LocalDay(\"&$D$12&\")=\"&$F$9&\" and Barix(\"&$D$12&\",reference:=StartOfSession)=\"&A61&\"\", \"Bar\", \"\", \"Close\",\"5\",\"0\",\"PrimaryOnly\",,,\"False\",\"T\",\"EveryTick\")","v":64.77},-1.0540788267644329E-2,{"$f":"RTD(\"cqg.rtd\",,\"StudyData\", \"Close(\"&$D$12&\") when LocalYear(\"&$D$12&\")=\"&$D$10&\" and localMonth(\"&$D$12&\") =\"&$E$10&\" and LocalDay(\"&$D$12&\")=\"&$F$10&\" and Barix(\"&$D$12&\",reference:=StartOfSession)=\"&A61&\"\", \"Bar\", \"\", \"Close\",\"5\",\"0\",\"PrimaryOnly\",,,\"False\",\"T\",\"EveryTick\")","v":65.28},9.2764378478663312E-3,null,null,null,""]
[61,"13:05:00",-16,{"$f":" RTD(\"cqg.rtd\",,\"StudyData\", $D$12,  \"Tick\", \"FlatTicks=0\", \"Tick\",\"D\",C62,,,,,\"T\")","v":65.239999999999995},null,null,null,{"$f":"RTD(\"cqg.rtd\",,\"StudyData\", \"Close(\"&$D$12&\") when LocalYear(\"&$D$12&\")=\"&$D$1&\" and localMonth(\"&$D$12&\") =\"&$E$1&\" and LocalDay(\"&$D$12&\")=\"&$F$1&\" and Barix(\"&$D$12&\",reference:=StartOfSession)=\"&A62&\"\", \"Bar\", \"\", \"Close\",\"5\",\"0\",\"PrimaryOnly\",,,\"False\",\"T\",\"EveryTick\")","v":""},{"$error":"#N/A"},{"$f":"RTD(\"cqg.rtd\",,\"StudyData\", \"Close(\"&$D$12&\") when LocalYear(\"&$D$12&\")=\"&$D$2&\" and localMonth(\"&$D$12&\") =\"&$E$2&\" and LocalDay(\"&$D$12&\")=\"&$F$2&\" and Barix(\"&$D$12&\",reference:=StartOfSession)=\"&A62&\"\", \"Bar\", \"\", \"Close\",\"5\",\"0\",\"PrimaryOnly\",,,\"False\",\"T\",\"EveryTick\")","v":64.709999999999994},-2.968960863697712E-2,{"$f":"RTD(\"cqg.rtd\",,\"StudyData\", \"Close(\"&$D$12&\") when LocalYear(\"&$D$12&\")=\"&$D$3&\" and localMonth(\"&$D$12&\") =\"&$E$3&\" and LocalDay(\"&$D$12&\")=\"&$F$3&\" and Barix(\"&$D$12&\",reference:=StartOfSession)=\"&A62&\"\", \"Bar\", \"\", \"Close\",\"5\",\"0\",\"PrimaryOnly\",,,\"False\",\"T\",\"EveryTick\")","v":66.52},0,{"$f":"RTD(\"cqg.rtd\",,\"StudyData\", \"Close(\"&$D$12&\") when LocalYear(\"&$D$12&\")=\"&$D$4&\" and localMonth(\"&$D$12&\") =\"&$E$4&\" and LocalDay(\"&$D$12&\")=\"&$F$4&\" and Barix(\"&$D$12&\",reference:=StartOfSession)=\"&A62&\"\", \"Bar\", \"\", \"Close\",\"5\",\"0\",\"PrimaryOnly\",,,\"False\",\"T\",\"EveryTick\")","v":66.510000000000005},3.4701267350634277E-3,{"$f":"RTD(\"cqg.rtd\",,\"StudyData\", \"Close(\"&$D$12&\") when LocalYear(\"&$D$12&\")=\"&$D$5&\" and localMonth(\"&$D$12&\") =\"&$E$5&\" and LocalDay(\"&$D$12&\")=\"&$F$5&\" and Barix(\"&$D$12&\",reference:=StartOfSession)=\"&A62&\"\", \"Bar\", \"\", \"Close\",\"5\",\"0\",\"PrimaryOnly\",,,\"False\",\"T\",\"EveryTick\")","v":66.13},1.5144631228228731E-3,{"$f":"RTD(\"cqg.rtd\",,\"StudyData\", \"Close(\"&$D$12&\") when LocalYear(\"&$D$12&\")=\"&$D$6&\" and localMonth(\"&$D$12&\") =\"&$E$6&\" and LocalDay(\"&$D$12&\")=\"&$F$6&\" and Barix(\"&$D$12&\",reference:=StartOfSession)=\"&A62&\"\", \"Bar\", \"\", \"Close\",\"5\",\"0\",\"PrimaryOnly\",,,\"False\",\"T\",\"EveryTick\")","v":66.099999999999994},6.5478909700014097E-3,{"$f":"RTD(\"cqg.rtd\",,\"StudyData\", \"Close(\"&$D$12&\") when LocalYear(\"&$D$12&\")=\"&$D$7&\" and localMonth(\"&$D$12&\") =\"&$E$7&\" and LocalDay(\"&$D$12&\")=\"&$F$7&\" and Barix(\"&$D$12&\",reference:=StartOfSession)=\"&A62&\"\", \"Bar\", \"\", \"Close\",\"5\",\"0\",\"PrimaryOnly\",,,\"False\",\"T\",\"EveryTick\")","v":65.73},-2.4282895735315917E-3,{"$f":"RTD(\"cqg.rtd\",,\"StudyData\", \"Close(\"&$D$12&\") when LocalYear(\"&$D$12&\")=\"&$D$8&\" and localMonth(\"&$D$12&\") =\"&$E$8&\" and LocalDay(\"&$D$12&\")=\"&$F$8&\" and Barix(\"&$D$12&\",reference:=StartOfSession)=\"&A62&\"\", \"Bar\", \"\", \"Close\",\"5\",\"0\",\"PrimaryOnly\",,,\"False\",\"T\",\"EveryTick\")","v":65.67},1.4992272024729502E-2,{"$f":"RTD(\"cqg.rtd\",,\"StudyData\", \"Close(\"&$D$12&\") when LocalYear(\"&$D$12&\")=\"&$D$9&\" and localMonth(\"&$D$12&\") =\"&$E$9&\" and LocalDay(\"&$D$12&\")=\"&$F$9&\" and Barix(\"&$D$12&\",reference:=StartOfSession)=\"&A62&\"\", \"Bar\", \"\", \"Close\",\"5\",\"0\",\"PrimaryOnly\",,,\"False\",\"T\",\"EveryTick\")","v":64.599999999999994},-1.3137794072716156E-2,{"$f":"RTD(\"cqg.rtd\",,\"StudyData\", \"Close(\"&$D$12&\") when LocalYear(\"&$D$12&\")=\"&$D$10&\" and localMonth(\"&$D$12&\") =\"&$E$10&\" and LocalDay(\"&$D$12&\")=\"&$F$10&\" and Barix(\"&$D$12&\",reference:=StartOfSession)=\"&A62&\"\", \"Bar\", \"\", \"Close\",\"5\",\"0\",\"PrimaryOnly\",,,\"False\",\"T\",\"EveryTick\")","v":65.33},1.0049474335188487E-2,null,null,null,""]
[62,"13:10:00",-15,{"$f":" RTD(\"cqg.rtd\",,\"StudyData\", $D$12,  \"Tick\", \"FlatTicks=0\", \"Tick\",\"D\",C63,,,,,\"T\")","v":65.23},null,null,null,{"$f":"RTD(\"cqg.rtd\",,\"StudyData\", \"Close(\"&$D$12&\") when LocalYear(\"&$D$12&\")=\"&$D$1&\" and localMonth(\"&$D$12&\") =\"&$E$1&\" and LocalDay(\"&$D$12&\")=\"&$F$1&\" and Barix(\"&$D$12&\",reference:=StartOfSession)=\"&A63&\"\", \"Bar\", \"\", \"Close\",\"5\",\"0\",\"PrimaryOnly\",,,\"False\",\"T\",\"EveryTick\")","v":""},{"$error":"#N/A"},{"$f":"RTD(\"cqg.rtd\",,\"StudyData\", \"Close(\"&$D$12&\") when LocalYear(\"&$D$12&\")=\"&$D$2&\" and localMonth(\"&$D$12&\") =\"&$E$2&\" and LocalDay(\"&$D$12&\")=\"&$F$2&\" and Barix(\"&$D$12&\",reference:=StartOfSession)=\"&A63&\"\", \"Bar\", \"\", \"Close\",\"5\",\"0\",\"PrimaryOnly\",,,\"False\",\"T\",\"EveryTick\")","v":64.69},-2.99895036737142E-2,{"$f":"RTD(\"cqg.rtd\",,\"StudyData\", \"Close(\"&$D$12&\") when LocalYear(\"&$D$12&\")=\"&$D$3&\" and localMonth(\"&$D$12&\") =\"&$E$3&\" and LocalDay(\"&$D$12&\")=\"&$F$3&\" and Barix(\"&$D$12&\",reference:=StartOfSession)=\"&A63&\"\", \"Bar\", \"\", \"Close\",\"5\",\"0\",\"PrimaryOnly\",,,\"False\",\"T\",\"EveryTick\")","v":66.52},0,{"$f":"RTD(\"cqg.rtd\",,\"StudyData\", \"Close(\"&$D$12&\") when LocalYear(\"&$D$12&\")=\"&$D$4&\" and localMonth(\"&$D$12&\") =\"&$E$4&\" and LocalDay(\"&$D$12&\")=\"&$F$4&\" and Barix(\"&$D$12&\",reference:=StartOfSession)=\"&A63&\"\", \"Bar\", \"\", \"Close\",\"5\",\"0\",\"PrimaryOnly\",,,\"False\",\"T\",\"EveryTick\")","v":66.58},4.5262522631260883E-3,{"$f":"RTD(\"cqg.rtd\",,\"StudyData\", \"Close(\"&$D$12&\") when LocalYear(\"&$D$12&\")=\"&$D$5&\" and localMonth(\"&$D$12&\") =\"&$E$5&\" and LocalDay(\"&$D$12&\")=\"&$F$5&\" and Barix(\"&$D$12&\",reference:=StartOfSession)=\"&A63&\"\", \"Bar\", \"\", \"Close\",\"5\",\"0\",\"PrimaryOnly\",,,\"False\",\"T\",\"EveryTick\")","v":66.14},1.6659094351052465E-3,{"$f":"RTD(\"cqg.rtd\",,\"StudyData\", \"Close(\"&$D$12&\") when LocalYear(\"&$D$12&\")=\"&$D$6&\" and localMonth(\"&$D$12&\") =\"&$E$6&\" and LocalDay(\"&$D$12&\")=\"&$F$6&\" and Barix(\"&$D$12&\",reference:=StartOfSession)=\"&A63&\"\", \"Bar\", \"\", \"Close\",\"5\",\"0\",\"PrimaryOnly\",,,\"False\",\"T\",\"EveryTick\")","v":66.12},6.8524440383737296E-3,{"$f":"RTD(\"cqg.rtd\",,\"StudyData\", \"Close(\"&$D$12&\") when LocalYear(\"&$D$12&\")=\"&$D$7&\" and localMonth(\"&$D$12&\") =\"&$E$7&\" and LocalDay(\"&$D$12&\")=\"&$F$7&\" and Barix(\"&$D$12&\",reference:=StartOfSession)=\"&A63&\"\", \"Bar\", \"\", \"Close\",\"5\",\"0\",\"PrimaryOnly\",,,\"False\",\"T\",\"EveryTick\")","v":65.73},-2.4282895735315917E-3,{"$f":"RTD(\"cqg.rtd\",,\"StudyData\", \"Close(\"&$D$12&\") when LocalYear(\"&$D$12&\")=\"&$D$8&\" and localMonth(\"&$D$12&\") =\"&$E$8&\" and LocalDay(\"&$D$12&\")=\"&$F$8&\" and Barix(\"&$D$12&\",reference:=StartOfSession)=\"&A63&\"\", \"Bar\", \"\", \"Close\",\"5\",\"0\",\"PrimaryOnly\",,,\"False\",\"T\",\"EveryTick\")","v":65.72},1.5765069551777373E-2,{"$f":"RTD(\"cqg.rtd\",,\"StudyData\", \"Close(\"&$D$12&\") when LocalYear(\"&$D$12&\")=\"&$D$9&\" and localMonth(\"&$D$12&\") =\"&$E$9&\" and LocalDay(\"&$D$12&\")=\"&$F$9&\" and Barix(\"&$D$12&\",reference:=StartOfSession)=\"&A63&\"\", \"Bar\", \"\", \"Close\",\"5\",\"0\",\"PrimaryOnly\",,,\"False\",\"T\",\"EveryTick\")","v":64.680000000000007},-1.1915673693858646E-2,{"$f":"RTD(\"cqg.rtd\",,\"StudyData\", \"Close(\"&$D$12&\") when LocalYear(\"&$D$12&\")=\"&$D$10&\" and localMonth(\"&$D$12&\") =\"&$E$10&\" and LocalDay(\"&$D$12&\")=\"&$F$10&\" and Barix(\"&$D$12&\",reference:=StartOfSession)=\"&A63&\"\", \"Bar\", \"\", \"Close\",\"5\",\"0\",\"PrimaryOnly\",,,\"False\",\"T\",\"EveryTick\")","v":65.28},9.2764378478663312E-3,null,null,null,""]
[63,"13:15:00",-14,{"$f":" RTD(\"cqg.rtd\",,\"StudyData\", $D$12,  \"Tick\", \"FlatTicks=0\", \"Tick\",\"D\",C64,,,,,\"T\")","v":65.239999999999995},null,null,null,{"$f":"RTD(\"cqg.rtd\",,\"StudyData\", \"Close(\"&$D$12&\") when LocalYear(\"&$D$12&\")=\"&$D$1&\" and localMonth(\"&$D$12&\") =\"&$E$1&\" and LocalDay(\"&$D$12&\")=\"&$F$1&\" and Barix(\"&$D$12&\",reference:=StartOfSession)=\"&A64&\"\", \"Bar\", \"\", \"Close\",\"5\",\"0\",\"PrimaryOnly\",,,\"False\",\"T\",\"EveryTick\")","v":""},{"$error":"#N/A"},{"$f":"RTD(\"cqg.rtd\",,\"StudyData\", \"Close(\"&$D$12&\") when LocalYear(\"&$D$12&\")=\"&$D$2&\" and localMonth(\"&$D$12&\") =\"&$E$2&\" and LocalDay(\"&$D$12&\")=\"&$F$2&\" and Barix(\"&$D$12&\",reference:=StartOfSession)=\"&A64&\"\", \"Bar\", \"\", \"Close\",\"5\",\"0\",\"PrimaryOnly\",,,\"False\",\"T\",\"EveryTick\")","v":64.67},-3.0289398710451283E-2,{"$f":"RTD(\"cqg.rtd\",,\"StudyData\", \"Close(\"&$D$12&\") when LocalYear(\"&$D$12&\")=\"&$D$3&\" and localMonth(\"&$D$12&\") =\"&$E$3&\" and LocalDay(\"&$D$12&\")=\"&$F$3&\" and Barix(\"&$D$12&\",reference:=StartOfSession)=\"&A64&\"\", \"Bar\", \"\", \"Close\",\"5\",\"0\",\"PrimaryOnly\",,,\"False\",\"T\",\"EveryTick\")","v":66.58},9.0198436560436372E-4,{"$f":"RTD(\"cqg.rtd\",,\"StudyData\", \"Close(\"&$D$12&\") when LocalYear(\"&$D$12&\")=\"&$D$4&\" and localMonth(\"&$D$12&\") =\"&$E$4&\" and LocalDay(\"&$D$12&\")=\"&$F$4&\" and Barix(\"&$D$12&\",reference:=StartOfSession)=\"&A64&\"\", \"Bar\", \"\", \"Close\",\"5\",\"0\",\"PrimaryOnly\",,,\"False\",\"T\",\"EveryTick\")","v":66.59},4.6771273385637037E-3,{"$f":"RTD(\"cqg.rtd\",,\"StudyData\", \"Close(\"&$D$12&\") when LocalYear(\"&$D$12&\")=\"&$D$5&\" and localMonth(\"&$D$12&\") =\"&$E$5&\" and LocalDay(\"&$D$12&\")=\"&$F$5&\" and Barix(\"&$D$12&\",reference:=StartOfSession)=\"&A64&\"\", \"Bar\", \"\", \"Close\",\"5\",\"0\",\"PrimaryOnly\",,,\"False\",\"T\",\"EveryTick\")","v":66.09},9.0867787369381E-4,{"$f":"RTD(\"cqg.rtd\",,\"StudyData\", \"Close(\"&$D$12&\") when LocalYear(\"&$D$12&\")=\"&$D$6&\" and localMonth(\"&$D$12&\") =\"&$E$6&\" and LocalDay(\"&$D$12&\")=\"&$F$6&\" and Barix(\"&$D$12&\",reference:=StartOfSession)=\"&A64&\"\", \"Bar\", \"\", \"Close\",\"5\",\"0\",\"PrimaryOnly\",,,\"False\",\"T\",\"EveryTick\")","v":66.06},5.9387848332572036E-3,{"$f":"RTD(\"cqg.rtd\",,\"StudyData\", \"Close(\"&$D$12&\") when LocalYear(\"&$D$12&\")=\"&$D$7&\" and localMonth(\"&$D$12&\") =\"&$E$7&\" and LocalDay(\"&$D$12&\")=\"&$F$7&\" and Barix(\"&$D$12&\",reference:=StartOfSession)=\"&A64&\"\", \"Bar\", \"\", \"Close\",\"5\",\"0\",\"PrimaryOnly\",,,\"False\",\"T\",\"EveryTick\")","v":65.790000000000006},-1.5176809834571911E-3,{"$f":"RTD(\"cqg.rtd\",,\"StudyData\", \"Close(\"&$D$12&\") when LocalYear(\"&$D$12&\")=\"&$D$8&\" and localMonth(\"&$D$12&\") =\"&$E$8&\" and LocalDay(\"&$D$12&\")=\"&$F$8&\" and Barix(\"&$D$12&\",reference:=StartOfSession)=\"&A64&\"\", \"Bar\", \"\", \"Close\",\"5\",\"0\",\"PrimaryOnly\",,,\"False\",\"T\",\"EveryTick\")","v":65.66},1.483771251931984E-2,{"$f":"RTD(\"cqg.rtd\",,\"StudyData\", \"Close(\"&$D$12&\") when LocalYear(\"&$D$12&\")=\"&$D$9&\" and localMonth(\"&$D$12&\") =\"&$E$9&\" and LocalDay(\"&$D$12&\")=\"&$F$9&\" and Barix(\"&$D$12&\",reference:=StartOfSession)=\"&A64&\"\", \"Bar\", \"\", \"Close\",\"5\",\"0\",\"PrimaryOnly\",,,\"False\",\"T\",\"EveryTick\")","v":64.66},-1.2221203788573132E-2,{"$f":"RTD(\"cqg.rtd\",,\"StudyData\", \"Close(\"&$D$12&\") when LocalYear(\"&$D$12&\")=\"&$D$10&\" and localMonth(\"&$D$12&\") =\"&$E$10&\" and LocalDay(\"&$D$12&\")=\"&$F$10&\" and Barix(\"&$D$12&\",reference:=StartOfSession)=\"&A64&\"\", \"Bar\", \"\", \"Close\",\"5\",\"0\",\"PrimaryOnly\",,,\"False\",\"T\",\"EveryTick\")","v":65.39},1.0977118119975164E-2,null,null,null,""]
[64,"13:20:00",-13,{"$f":" RTD(\"cqg.rtd\",,\"StudyData\", $D$12,  \"Tick\", \"FlatTicks=0\", \"Tick\",\"D\",C65,,,,,\"T\")","v":65.23},null,null,null,{"$f":"RTD(\"cqg.rtd\",,\"StudyData\", \"Close(\"&$D$12&\") when LocalYear(\"&$D$12&\")=\"&$D$1&\" and localMonth(\"&$D$12&\") =\"&$E$1&\" and LocalDay(\"&$D$12&\")=\"&$F$1&\" and Barix(\"&$D$12&\",reference:=StartOfSession)=\"&A65&\"\", \"Bar\", \"\", \"Close\",\"5\",\"0\",\"PrimaryOnly\",,,\"False\",\"T\",\"EveryTick\")","v":""},{"$error":"#N/A"},{"$f":"RTD(\"cqg.rtd\",,\"StudyData\", \"Close(\"&$D$12&\") when LocalYear(\"&$D$12&\")=\"&$D$2&\" and localMonth(\"&$D$12&\") =\"&$E$2&\" and LocalDay(\"&$D$12&\")=\"&$F$2&\" and Barix(\"&$D$12&\",reference:=StartOfSession)=\"&A65&\"\", \"Bar\", \"\", \"Close\",\"5\",\"0\",\"PrimaryOnly\",,,\"False\",\"T\",\"EveryTick\")","v":64.77},-2.8789923526765657E-2,{"$f":"RTD(\"cqg.rtd\",,\"StudyData\", \"Close(\"&$D$12&\") when LocalYear(\"&$D$12&\")=\"&$D$3&\" and localMonth(\"&$D$12&\") =\"&$E$3&\" and LocalDay(\"&$D$12&\")=\"&$F$3&\" and Barix(\"&$D$12&\",reference:=StartOfSession)=\"&A65&\"\", \"Bar\", \"\", \"Close\",\"5\",\"0\",\"PrimaryOnly\",,,\"False\",\"T\",\"EveryTick\")","v":66.66},2.104630186410111E-3,{"$f":"RTD(\"cqg.rtd\",,\"StudyData\", \"Close(\"&$D$12&\") when LocalYear(\"&$D$12&\")=\"&$D$4&\" and localMonth(\"&$D$12&\") =\"&$E$4&\" and LocalDay(\"&$D$12&\")=\"&$F$4&\" and Barix(\"&$D$12&\",reference:=StartOfSession)=\"&A65&\"\", \"Bar\", \"\", \"Close\",\"5\",\"0\",\"PrimaryOnly\",,,\"False\",\"T\",\"EveryTick\")","v":66.540000000000006},3.9227519613760581E-3,{"$f":"RTD(\"cqg.rtd\",,\"StudyData\", \"Close(\"&$D$12&\") when LocalYear(\"&$D$12&\")=\"&$D$5&\" and localMonth(\"&$D$12&\") =\"&$E$5&\" and LocalDay(\"&$D$12&\")=\"&$F$5&\" and Barix(\"&$D$12&\",reference:=StartOfSession)=\"&A65&\"\", \"Bar\", \"\", \"Close\",\"5\",\"0\",\"PrimaryOnly\",,,\"False\",\"T\",\"EveryTick\")","v":66.209999999999994},2.7260336210812148E-3,{"$f":"RTD(\"cqg.rtd\",,\"StudyData\", \"Close(\"&$D$12&\") when LocalYear(\"&$D$12&\")=\"&$D$6&\" and localMonth(\"&$D$12&\") =\"&$E$6&\" and LocalDay(\"&$D$12&\")=\"&$F$6&\" and Barix(\"&$D$12&\",reference:=StartOfSession)=\"&A65&\"\", \"Bar\", \"\", \"Close\",\"5\",\"0\",\"PrimaryOnly\",,,\"False\",\"T\",\"EveryTick\")","v":66},5.0251256281406776E-3,{"$f":"RTD(\"cqg.rtd\",,\"StudyData\", \"Close(\"&$D$12&\") when LocalYear(\"&$D$12&\")=\"&$D$7&\" and localMonth(\"&$D$12&\") =\"&$E$7&\" and LocalDay(\"&$D$12&\")=\"&$F$7&\" and Barix(\"&$D$12&\",reference:=StartOfSession)=\"&A65&\"\", \"Bar\", \"\", \"Close\",\"5\",\"0\",\"PrimaryOnly\",,,\"False\",\"T\",\"EveryTick\")","v":65.739999999999995},-2.2765214751860022E-3,{"$f":"RTD(\"cqg.rtd\",,\"StudyData\", \"Close(\"&$D$12&\") when LocalYear(\"&$D$12&\")=\"&$D$8&\" and localMonth(\"&$D$12&\") =\"&$E$8&\" and LocalDay(\"&$D$12&\")=\"&$F$8&\" and Barix(\"&$D$12&\",reference:=StartOfSession)=\"&A65&\"\", \"Bar\", \"\", \"Close\",\"5\",\"0\",\"PrimaryOnly\",,,\"False\",\"T\",\"EveryTick\")","v":65.849999999999994},1.7774343122101875E-2,{"$f":"RTD(\"cqg.rtd\",,\"StudyData\", \"Close(\"&$D$12&\") when LocalYear(\"&$D$12&\")=\"&$D$9&\" and localMonth(\"&$D$12&\") =\"&$E$9&\" and LocalDay(\"&$D$12&\")=\"&$F$9&\" and Barix(\"&$D$12&\",reference:=StartOfSession)=\"&A65&\"\", \"Bar\", \"\", \"Close\",\"5\",\"0\",\"PrimaryOnly\",,,\"False\",\"T\",\"EveryTick\")","v":64.540000000000006},-1.405438435685896E-2,{"$f":"RTD(\"cqg.rtd\",,\"StudyData\", \"Close(\"&$D$12&\") when LocalYear(\"&$D$12&\")=\"&$D$10&\" and localMonth(\"&$D$12&\") =\"&$E$10&\" and LocalDay(\"&$D$12&\")=\"&$F$10&\" and Barix(\"&$D$12&\",reference:=StartOfSession)=\"&A65&\"\", \"Bar\", \"\", \"Close\",\"5\",\"0\",\"PrimaryOnly\",,,\"False\",\"T\",\"EveryTick\")","v":65.39},1.0977118119975164E-2,null,null,null,""]
[65,"13:25:00",-12,{"$f":" RTD(\"cqg.rtd\",,\"StudyData\", $D$12,  \"Tick\", \"FlatTicks=0\", \"Tick\",\"D\",C66,,,,,\"T\")","v":65.239999999999995},null,null,null,{"$f":"RTD(\"cqg.rtd\",,\"StudyData\", \"Close(\"&$D$12&\") when LocalYear(\"&$D$12&\")=\"&$D$1&\" and localMonth(\"&$D$12&\") =\"&$E$1&\" and LocalDay(\"&$D$12&\")=\"&$F$1&\" and Barix(\"&$D$12&\",reference:=StartOfSession)=\"&A66&\"\", \"Bar\", \"\", \"Close\",\"5\",\"0\",\"PrimaryOnly\",,,\"False\",\"T\",\"EveryTick\")","v":""},{"$error":"#N/A"},{"$f":"RTD(\"cqg.rtd\",,\"StudyData\", \"Close(\"&$D$12&\") when LocalYear(\"&$D$12&\")=\"&$D$2&\" and localMonth(\"&$D$12&\") =\"&$E$2&\" and LocalDay(\"&$D$12&\")=\"&$F$2&\" and Barix(\"&$D$12&\",reference:=StartOfSession)=\"&A66&\"\", \"Bar\", \"\", \"Close\",\"5\",\"0\",\"PrimaryOnly\",,,\"False\",\"T\",\"EveryTick\")","v":64.849999999999994},{"$f":"IFERROR((J66-$G$3)/$G$3,NA())","v":-2.7590343379817115E-2},{"$f":"RTD(\"cqg.rtd\",,\"StudyData\", \"Close(\"&$D$12&\") when LocalYear(\"&$D$12&\")=\"&$D$3&\" and localMonth(\"&$D$12&\") =\"&$E$3&\" and LocalDay(\"&$D$12&\")=\"&$F$3&\" and Barix(\"&$D$12&\",reference:=StartOfSession)=\"&A66&\"\", \"Bar\", \"\", \"Close\",\"5\",\"0\",\"PrimaryOnly\",,,\"False\",\"T\",\"EveryTick\")","v":66.69},{"$f":"IFERROR((L66-$G$4)/$G$4,NA())","v":2.5556223692122927E-3},{"$f":"RTD(\"cqg.rtd\",,\"StudyData\", \"Close(\"&$D$12&\") when LocalYear(\"&$D$12&\")=\"&$D$4&\" and localMonth(\"&$D$12&\") =\"&$E$4&\" and LocalDay(\"&$D$12&\")=\"&$F$4&\" and Barix(\"&$D$12&\",reference:=StartOfSession)=\"&A66&\"\", \"Bar\", \"\", \"Close\",\"5\",\"0\",\"PrimaryOnly\",,,\"False\",\"T\",\"EveryTick\")","v":66.52},{"$f":"IFERROR((N66-$G$5)/$G$5,NA())","v":3.6210018105008279E-3},{"$f":"RTD(\"cqg.rtd\",,\"StudyData\", \"Close(\"&$D$12&\") when LocalYear(\"&$D$12&\")=\"&$D$5&\" and localMonth(\"&$D$12&\") =\"&$E$5&\" and LocalDay(\"&$D$12&\")=\"&$F$5&\" and Barix(\"&$D$12&\",reference:=StartOfSession)=\"&A66&\"\", \"Bar\", \"\", \"Close\",\"5\",\"0\",\"PrimaryOnly\",,,\"False\",\"T\",\"EveryTick\")","v":66.28},{"$f":"IFERROR((P66-$G$6)/$G$6,NA())","v":3.786157807057398E-3},{"$f":"RTD(\"cqg.rtd\",,\"StudyData\", \"Close(\"&$D$12&\") when LocalYear(\"&$D$12&\")=\"&$D$6&\" and localMonth(\"&$D$12&\") =\"&$E$6&\" and LocalDay(\"&$D$12&\")=\"&$F$6&\" and Barix(\"&$D$12&\",reference:=StartOfSession)=\"&A66&\"\", \"Bar\", \"\", \"Close\",\"5\",\"0\",\"PrimaryOnly\",,,\"False\",\"T\",\"EveryTick\")","v":66.03},{"$f":"IFERROR((R66-$G$7)/$G$7,NA())","v":5.4819552306989401E-3},{"$f":"RTD(\"cqg.rtd\",,\"StudyData\", \"Close(\"&$D$12&\") when LocalYear(\"&$D$12&\")=\"&$D$7&\" and localMonth(\"&$D$12&\") =\"&$E$7&\" and LocalDay(\"&$D$12&\")=\"&$F$7&\" and Barix(\"&$D$12&\",reference:=StartOfSession)=\"&A66&\"\", \"Bar\", \"\", \"Close\",\"5\",\"0\",\"PrimaryOnly\",,,\"False\",\"T\",\"EveryTick\")","v":65.67},{"$f":"IFERROR((T66-$G$8)/$G$8,NA())","v":-3.3388981636059928E-3},{"$f":"RTD(\"cqg.rtd\",,\"StudyData\", \"Close(\"&$D$12&\") when LocalYear(\"&$D$12&\")=\"&$D$8&\" and localMonth(\"&$D$12&\") =\"&$E$8&\" and LocalDay(\"&$D$12&\")=\"&$F$8&\" and Barix(\"&$D$12&\",reference:=StartOfSession)=\"&A66&\"\", \"Bar\", \"\", \"Close\",\"5\",\"0\",\"PrimaryOnly\",,,\"False\",\"T\",\"EveryTick\")","v":65.89},{"$f":"IFERROR((V66-$G$9)/$G$9,NA())","v":1.8392581143740303E-2},{"$f":"RTD(\"cqg.rtd\",,\"StudyData\", \"Close(\"&$D$12&\") when LocalYear(\"&$D$12&\")=\"&$D$9&\" and localMonth(\"&$D$12&\") =\"&$E$9&\" and LocalDay(\"&$D$12&\")=\"&$F$9&\" and Barix(\"&$D$12&\",reference:=StartOfSession)=\"&A66&\"\", \"Bar\", \"\", \"Close\",\"5\",\"0\",\"PrimaryOnly\",,,\"False\",\"T\",\"EveryTick\")","v":64.7},{"$f":"IFERROR((X66-$G$10)/$G$10,NA())","v":-1.1610143599144378E-2},{"$f":"RTD(\"cqg.rtd\",,\"StudyData\", \"Close(\"&$D$12&\") when LocalYear(\"&$D$12&\")=\"&$D$10&\" and localMonth(\"&$D$12&\") =\"&$E$10&\" and LocalDay(\"&$D$12&\")=\"&$F$10&\" and Barix(\"&$D$12&\",reference:=StartOfSession)=\"&A66&\"\", \"Bar\", \"\", \"Close\",\"5\",\"0\",\"PrimaryOnly\",,,\"False\",\"T\",\"EveryTick\")","v":65.459999999999994},{"$f":"IFERROR((Z66-$G$11)/$G$11,NA())","v":1.2059369202226142E-2},null,null,null,""]
[null,null,-11,{"$f":" RTD(\"cqg.rtd\",,\"StudyData\", $D$12,  \"Tick\", \"FlatTicks=0\", \"Tick\",\"D\",C67,,,,,\"T\")","v":65.23}]
[null,null,-10,{"$f":" RTD(\"cqg.rtd\",,\"StudyData\", $D$12,  \"Tick\", \"FlatTicks=0\", \"Tick\",\"D\",C68,,,,,\"T\")","v":65.22}]
[null,null,-9,{"$f":" RTD(\"cqg.rtd\",,\"StudyData\", $D$12,  \"Tick\", \"FlatTicks=0\", \"Tick\",\"D\",C69,,,,,\"T\")","v":65.23}]
[null,null,-8,{"$f":" RTD(\"cqg.rtd\",,\"StudyData\", $D$12,  \"Tick\", \"FlatTicks=0\", \"Tick\",\"D\",C70,,,,,\"T\")","v":65.22}]
[null,null,-7,{"$f":" RTD(\"cqg.rtd\",,\"StudyData\", $D$12,  \"Tick\", \"FlatTicks=0\", \"Tick\",\"D\",C71,,,,,\"T\")","v":65.23}]
[null,null,-6,{"$f":" RTD(\"cqg.rtd\",,\"StudyData\", $D$12,  \"Tick\", \"FlatTicks=0\", \"Tick\",\"D\",C72,,,,,\"T\")","v":65.22}]
[null,null,-5,{"$f":" RTD(\"cqg.rtd\",,\"StudyData\", $D$12,  \"Tick\", \"FlatTicks=0\", \"Tick\",\"D\",C73,,,,,\"T\")","v":65.23}]
[null,null,-4,{"$f":" RTD(\"cqg.rtd\",,\"StudyData\", $D$12,  \"Tick\", \"FlatTicks=0\", \"Tick\",\"D\",C74,,,,,\"T\")","v":65.239999999999995}]
[null,null,-3,{"$f":" RTD(\"cqg.rtd\",,\"StudyData\", $D$12,  \"Tick\", \"FlatTicks=0\", \"Tick\",\"D\",C75,,,,,\"T\")","v":65.23}]
[null,null,-2,{"$f":" RTD(\"cqg.rtd\",,\"StudyData\", $D$12,  \"Tick\", \"FlatTicks=0\", \"Tick\",\"D\",C76,,,,,\"T\")","v":65.22}]
[null,null,-1,{"$f":" RTD(\"cqg.rtd\",,\"StudyData\", $D$12,  \"Tick\", \"FlatTicks=0\", \"Tick\",\"D\",C77,,,,,\"T\")","v":65.23}]
[null,null,0,{"$f":" RTD(\"cqg.rtd\",,\"StudyData\", $D$12,  \"Tick\", \"FlatTicks=0\", \"Tick\",\"D\",C78,,,,,\"T\")","v":65.22}]

{"sheet":"Sheet4 (2)","index":4,"n_rows":93,"n_cols":20,"rows_kept":93,"cut":false,"hidden":true,"merged":[]}
[null,{"$f":"'Sheet3 (2)'!I1","v":3.0840400925212469E-3},{"$f":"'Sheet3 (2)'!K1","v":-2.5491078122657326E-3},null,{"$f":"'Sheet3 (2)'!M1","v":6.9152134696333131E-3},null,{"$f":"'Sheet3 (2)'!O1","v":-5.4315027157513492E-3},null,{"$f":"'Sheet3 (2)'!Q1","v":-3.0289262456453158E-4},null,{"$f":"'Sheet3 (2)'!S1","v":-1.0811633927211937E-2},null,{"$f":"'Sheet3 (2)'!U1","v":-1.9729852784943916E-3},null,{"$f":"'Sheet3 (2)'!W1","v":8.037094281298238E-3},null,{"$f":"'Sheet3 (2)'!Y1","v":-5.3467766575006773E-3},null,{"$f":"'Sheet3 (2)'!AA1","v":-2.7829313543600311E-3}]
[null,{"$f":"'Sheet3 (2)'!I2","v":2.467232074017129E-3},{"$f":"'Sheet3 (2)'!K2","v":-3.5987404408456274E-3},{"$f":"CORREL($B$1:B2,$C$1:C2)","v":1},{"$f":"'Sheet3 (2)'!M2","v":7.2158749248346964E-3},{"$f":"CORREL($B$1:B2,$E$1:E2)","v":-1},{"$f":"'Sheet3 (2)'!O2","v":-5.1297525648763337E-3},{"$f":"CORREL($B$1:B2,$G$1:G2)","v":-1},{"$f":"'Sheet3 (2)'!Q2","v":-9.0867787369381E-4},{"$f":"CORREL($B$1:B2,$I$1:I2)","v":1.0000000000000002},{"$f":"'Sheet3 (2)'!S2","v":-1.0354804324653674E-2},{"$f":"CORREL($B$1:B2,$K$1:K2)","v":-1},{"$f":"'Sheet3 (2)'!U2","v":-9.1060859007440083E-4},{"$f":"CORREL($B$1:B2,$M$1:M2)","v":-1},{"$f":"'Sheet3 (2)'!W2","v":7.8825347758885757E-3},{"$f":"CORREL($B$1:B2,$O$1:O2)","v":1},{"$f":"'Sheet3 (2)'!Y2","v":-5.6523067522149459E-3},{"$f":"CORREL($B$1:B2,$Q$1:Q2)","v":1.0000000000000002},{"$f":"'Sheet3 (2)'!AA2","v":-4.3290043290043463E-3},{"$f":"CORREL($B$1:B2,$S$1:S2)","v":1}]
[null,{"$f":"'Sheet3 (2)'!I3","v":2.3130300693909901E-3},{"$f":"'Sheet3 (2)'!K3","v":-3.8986354775827096E-3},{"$f":"CORREL($B$1:B3,$C$1:C3)","v":0.99973343995261765},{"$f":"'Sheet3 (2)'!M3","v":6.7648827420325143E-3},{"$f":"CORREL($B$1:B3,$E$1:E3)","v":2.9334390788661968E-13},{"$f":"'Sheet3 (2)'!O3","v":-4.8280024140013181E-3},{"$f":"CORREL($B$1:B3,$G$1:G3)","v":-0.94491118252310624},{"$f":"'Sheet3 (2)'!Q3","v":-9.0867787369381E-4},{"$f":"CORREL($B$1:B3,$I$1:I3)","v":0.98198050606194331},{"$f":"'Sheet3 (2)'!S3","v":-1.0659357393025778E-2},{"$f":"CORREL($B$1:B3,$K$1:K3)","v":-0.61858957413178595},{"$f":"'Sheet3 (2)'!U3","v":-1.0623766884202063E-3},{"$f":"CORREL($B$1:B3,$M$1:M3)","v":-0.94842061403653899},{"$f":"'Sheet3 (2)'!W3","v":8.3462132921173424E-3},{"$f":"CORREL($B$1:B3,$O$1:O3)","v":-0.37115374447898997},{"$f":"'Sheet3 (2)'!Y3","v":-6.4161319890007262E-3},{"$f":"CORREL($B$1:B3,$Q$1:Q3)","v":0.83862786937758094},{"$f":"'Sheet3 (2)'!AA3","v":-3.0921459492888499E-3},{"$f":"CORREL($B$1:B3,$S$1:S3)","v":0.49999999999987321}]
[null,{"$f":"'Sheet3 (2)'!I4","v":3.2382420971473857E-3},{"$f":"'Sheet3 (2)'!K4","v":-3.8986354775827096E-3},{"$f":"CORREL($B$1:B4,$C$1:C4)","v":0.37106440845627109},{"$f":"'Sheet3 (2)'!M4","v":6.4642212868311309E-3},{"$f":"CORREL($B$1:B4,$E$1:E4)","v":-0.54392829322031988},{"$f":"'Sheet3 (2)'!O4","v":-5.2806276403137347E-3},{"$f":"CORREL($B$1:B4,$G$1:G4)","v":-0.86189160737124626},{"$f":"'Sheet3 (2)'!Q4","v":-7.5723156141143657E-4},{"$f":"CORREL($B$1:B4,$I$1:I4)","v":0.65796346501004088},{"$f":"'Sheet3 (2)'!S4","v":-9.8979747220954116E-3},{"$f":"CORREL($B$1:B4,$K$1:K4)","v":0.38516444325986327},{"$f":"'Sheet3 (2)'!U4","v":-1.5176809834580536E-4},{"$f":"CORREL($B$1:B4,$M$1:M4)","v":9.1972251559143764E-2},{"$f":"'Sheet3 (2)'!W4","v":1.0046367851622743E-2},{"$f":"CORREL($B$1:B4,$O$1:O4)","v":0.61394061351497864},{"$f":"'Sheet3 (2)'!Y4","v":-3.971891231286143E-3},{"$f":"CORREL($B$1:B4,$Q$1:Q4)","v":0.88097639184324017},{"$f":"'Sheet3 (2)'!AA4","v":-4.4836116264688657E-3},{"$f":"CORREL($B$1:B4,$S$1:S4)","v":-0.14254579382856156}]
[null,{"$f":"'Sheet3 (2)'!I5","v":4.1634541249037822E-3},{"$f":"'Sheet3 (2)'!K5","v":-4.7983205877941701E-3},{"$f":"CORREL($B$1:B5,$C$1:C5)","v":-0.47744589220015937},{"$f":"'Sheet3 (2)'!M5","v":5.4119061936259687E-3},{"$f":"CORREL($B$1:B5,$E$1:E5)","v":-0.89136041033296876},{"$f":"'Sheet3 (2)'!O5","v":-5.2806276403137347E-3},{"$f":"CORREL($B$1:B5,$G$1:G5)","v":-0.63662103610556475},{"$f":"'Sheet3 (2)'!Q5","v":-1.3630168105407149E-3},{"$f":"CORREL($B$1:B5,$I$1:I5)","v":-0.40974425843161216},{"$f":"'Sheet3 (2)'!S5","v":-9.1365920511650451E-3},{"$f":"CORREL($B$1:B5,$K$1:K5)","v":0.82991015569282456},{"$f":"'Sheet3 (2)'!U5","v":-1.0623766884202063E-3},{"$f":"CORREL($B$1:B5,$M$1:M5)","v":2.7059144814679435E-2},{"$f":"'Sheet3 (2)'!W5","v":8.1916537867079003E-3},{"$f":"CORREL($B$1:B5,$O$1:O5)","v":0.15647116675316647},{"$f":"'Sheet3 (2)'!Y5","v":-5.194011610143435E-3},{"$f":"CORREL($B$1:B5,$Q$1:Q5)","v":0.53509862667409824},{"$f":"'Sheet3 (2)'!AA5","v":-5.1020408163267236E-3},{"$f":"CORREL($B$1:B5,$S$1:S5)","v":-0.6083484016499473}]
[null,{"$f":"'Sheet3 (2)'!I6","v":3.2382420971473857E-3},{"$f":"'Sheet3 (2)'!K6","v":-4.7983205877941701E-3},{"$f":"CORREL($B$1:B6,$C$1:C6)","v":-0.46620285287887508},{"$f":"'Sheet3 (2)'!M6","v":6.4642212868311309E-3},{"$f":"CORREL($B$1:B6,$E$1:E6)","v":-0.89073828713077841},{"$f":"'Sheet3 (2)'!O6","v":-5.2806276403137347E-3},{"$f":"CORREL($B$1:B6,$G$1:G6)","v":-0.64268458691698882},{"$f":"'Sheet3 (2)'!Q6","v":-1.81735574738762E-3},{"$f":"CORREL($B$1:B6,$I$1:I6)","v":-0.35190874599888716},{"$f":"'Sheet3 (2)'!S6","v":-8.9843155169788847E-3},{"$f":"CORREL($B$1:B6,$K$1:K6)","v":0.71460459559887735},{"$f":"'Sheet3 (2)'!U6","v":-1.3659128851116014E-3},{"$f":"CORREL($B$1:B6,$M$1:M6)","v":2.2449276069456239E-14},{"$f":"'Sheet3 (2)'!W6","v":8.500772797527003E-3},{"$f":"CORREL($B$1:B6,$O$1:O6)","v":0.15544735314145333},{"$f":"'Sheet3 (2)'!Y6","v":-4.8884815154291664E-3},{"$f":"CORREL($B$1:B6,$Q$1:Q6)","v":0.54372020865462778},{"$f":"'Sheet3 (2)'!AA6","v":-5.7204700061843613E-3},{"$f":"CORREL($B$1:B6,$S$1:S6)","v":-0.53981584400469729}]
[null,{"$f":"'Sheet3 (2)'!I7","v":2.3130300693909901E-3},{"$f":"'Sheet3 (2)'!K7","v":-5.398110661268548E-3},{"$f":"CORREL($B$1:B7,$C$1:C7)","v":-8.4036025621497978E-2},{"$f":"'Sheet3 (2)'!M7","v":6.1635598316297476E-3},{"$f":"CORREL($B$1:B7,$E$1:E7)","v":-0.67264990868672947},{"$f":"'Sheet3 (2)'!O7","v":-6.3367531683766101E-3},{"$f":"CORREL($B$1:B7,$G$1:G7)","v":0.16243772319355002},{"$f":"'Sheet3 (2)'!Q7","v":-2.1202483719521517E-3},{"$f":"CORREL($B$1:B7,$I$1:I7)","v":4.9641530695228954E-2},{"$f":"'Sheet3 (2)'!S7","v":-8.9843155169788847E-3},{"$f":"CORREL($B$1:B7,$K$1:K7)","v":0.36573613463422006},{"$f":"'Sheet3 (2)'!U7","v":-2.8835938685687922E-3},{"$f":"CORREL($B$1:B7,$M$1:M7)","v":0.33938566379126101},{"$f":"'Sheet3 (2)'!W7","v":8.3462132921173424E-3},{"$f":"CORREL($B$1:B7,$O$1:O7)","v":0.17471423073791403},{"$f":"'Sheet3 (2)'!Y7","v":-3.971891231286143E-3},{"$f":"CORREL($B$1:B7,$Q$1:Q7)","v":0.17414656457164537},{"$f":"'Sheet3 (2)'!AA7","v":-6.1842918985776998E-3},{"$f":"CORREL($B$1:B7,$S$1:S7)","v":-0.14691971709895268}]
[null,{"$f":"'Sheet3 (2)'!I8","v":3.0840400925212469E-3},{"$f":"'Sheet3 (2)'!K8","v":-1.1995801469485638E-2},{"$f":"CORREL($B$1:B8,$C$1:C8)","v":-8.4957568442535172E-2},{"$f":"'Sheet3 (2)'!M8","v":3.6079374624174549E-3},{"$f":"CORREL($B$1:B8,$E$1:E8)","v":-0.37071992306061063},{"$f":"'Sheet3 (2)'!O8","v":-6.1858780929389947E-3},{"$f":"CORREL($B$1:B8,$G$1:G8)","v":9.9987839168178425E-2},{"$f":"'Sheet3 (2)'!Q8","v":-1.81735574738762E-3},{"$f":"CORREL($B$1:B8,$I$1:I8)","v":2.3379238419096161E-2},{"$f":"'Sheet3 (2)'!S8","v":-9.7456981879092512E-3},{"$f":"CORREL($B$1:B8,$K$1:K8)","v":0.36730186973419149},{"$f":"'Sheet3 (2)'!U8","v":-1.0623766884202063E-3},{"$f":"CORREL($B$1:B8,$M$1:M8)","v":0.34384655409013531},{"$f":"'Sheet3 (2)'!W8","v":9.2735703245748723E-3},{"$f":"CORREL($B$1:B8,$O$1:O8)","v":0.1850084347969905},{"$f":"'Sheet3 (2)'!Y8","v":-2.9025358997860945E-3},{"$f":"CORREL($B$1:B8,$Q$1:Q8)","v":0.16977761068277611},{"$f":"'Sheet3 (2)'!AA8","v":-5.2566481137910235E-3},{"$f":"CORREL($B$1:B8,$S$1:S8)","v":-0.15664715310487673}]
[null,{"$f":"'Sheet3 (2)'!I9","v":5.2428681572860977E-3},{"$f":"'Sheet3 (2)'!K9","v":-1.4394961763382723E-2},{"$f":"CORREL($B$1:B9,$C$1:C9)","v":-0.62760569679109601},{"$f":"'Sheet3 (2)'!M9","v":4.8105832832232021E-3},{"$f":"CORREL($B$1:B9,$E$1:E9)","v":-0.50809564774671223},{"$f":"'Sheet3 (2)'!O9","v":-5.2806276403137347E-3},{"$f":"CORREL($B$1:B9,$G$1:G9)","v":0.16184941410631504},{"$f":"'Sheet3 (2)'!Q9","v":0},{"$f":"CORREL($B$1:B9,$I$1:I9)","v":0.4676492038978397},{"$f":"'Sheet3 (2)'!S9","v":-1.0050251256281355E-2},{"$f":"CORREL($B$1:B9,$K$1:K9)","v":0.13717351304722614},{"$f":"'Sheet3 (2)'!U9","v":-1.5176809834571911E-3},{"$f":"CORREL($B$1:B9,$M$1:M9)","v":0.13735508392370921},{"$f":"'Sheet3 (2)'!W9","v":1.0510046367851508E-2},{"$f":"CORREL($B$1:B9,$O$1:O9)","v":0.62669086827037335},{"$f":"'Sheet3 (2)'!Y9","v":-4.2774213260004116E-3},{"$f":"CORREL($B$1:B9,$Q$1:Q9)","v":0.23061982972655384},{"$f":"'Sheet3 (2)'!AA9","v":-5.5658627087200622E-3},{"$f":"CORREL($B$1:B9,$S$1:S9)","v":-0.30611163832721267}]
[null,{"$f":"'Sheet3 (2)'!I10","v":5.3970701619122366E-3},{"$f":"'Sheet3 (2)'!K10","v":-1.364522417153991E-2},{"$f":"CORREL($B$1:B10,$C$1:C10)","v":-0.74176586511154319},{"$f":"'Sheet3 (2)'!M10","v":3.9085989176188387E-3},{"$f":"CORREL($B$1:B10,$E$1:E10)","v":-0.6576332106262901},{"$f":"'Sheet3 (2)'!O10","v":-5.1297525648763337E-3},{"$f":"CORREL($B$1:B10,$G$1:G10)","v":0.2545267102533979},{"$f":"'Sheet3 (2)'!Q10","v":1.6659094351052465E-3},{"$f":"CORREL($B$1:B10,$I$1:I10)","v":0.70681537663785532},{"$f":"'Sheet3 (2)'!S10","v":-9.2888685853509886E-3},{"$f":"CORREL($B$1:B10,$K$1:K10)","v":0.26245747392679752},{"$f":"'Sheet3 (2)'!U10","v":-2.1247533768401967E-3},{"$f":"CORREL($B$1:B10,$M$1:M10)","v":-9.6488452118941775E-2},{"$f":"'Sheet3 (2)'!W10","v":9.7372488408036389E-3},{"$f":"CORREL($B$1:B10,$O$1:O10)","v":0.66659313191804992},{"$f":"'Sheet3 (2)'!Y10","v":-3.3608310418576058E-3},{"$f":"CORREL($B$1:B10,$Q$1:Q10)","v":0.40977413243962885},{"$f":"'Sheet3 (2)'!AA10","v":-5.2566481137910235E-3},{"$f":"CORREL($B$1:B10,$S$1:S10)","v":-0.33234663942227305}]
[null,{"$f":"'Sheet3 (2)'!I11","v":5.7054741711642957E-3},{"$f":"'Sheet3 (2)'!K11","v":-1.3045434098065746E-2},{"$f":"CORREL($B$1:B11,$C$1:C11)","v":-0.78683397423768942},{"$f":"'Sheet3 (2)'!M11","v":4.3595911004210199E-3},{"$f":"CORREL($B$1:B11,$E$1:E11)","v":-0.70148726992788313},{"$f":"'Sheet3 (2)'!O11","v":-5.8841279420639792E-3},{"$f":"CORREL($B$1:B11,$G$1:G11)","v":4.4646101665056892E-2},{"$f":"'Sheet3 (2)'!Q11","v":1.9688020596697782E-3},{"$f":"CORREL($B$1:B11,$I$1:I11)","v":0.80085860010139365},{"$f":"'Sheet3 (2)'!S11","v":-1.0050251256281355E-2},{"$f":"CORREL($B$1:B11,$K$1:K11)","v":0.15566521747397466},{"$f":"'Sheet3 (2)'!U11","v":-1.8212171801488017E-3},{"$f":"CORREL($B$1:B11,$M$1:M11)","v":-0.17075290158018566},{"$f":"'Sheet3 (2)'!W11","v":1.0046367851622743E-2},{"$f":"CORREL($B$1:B11,$O$1:O11)","v":0.72049885912411149},{"$f":"'Sheet3 (2)'!Y11","v":-3.5135960892146317E-3},{"$f":"CORREL($B$1:B11,$Q$1:Q11)","v":0.49137649872994671},{"$f":"'Sheet3 (2)'!AA11","v":-3.401360544217889E-3},{"$f":"CORREL($B$1:B11,$S$1:S11)","v":-6.5154555873714257E-2}]
[null,{"$f":"'Sheet3 (2)'!I12","v":{"$error":"#N/A"}},{"$f":"'Sheet3 (2)'!K12","v":-1.3795171689908558E-2},{"$f":"CORREL($B$1:B12,$C$1:C12)","v":{"$error":"#N/A"}},{"$f":"'Sheet3 (2)'!M12","v":3.7582681900180399E-3},{"$f":"CORREL($B$1:B12,$E$1:E12)","v":{"$error":"#N/A"}},{"$f":"'Sheet3 (2)'!O12","v":-6.1858780929389947E-3},{"$f":"CORREL($B$1:B12,$G$1:G12)","v":{"$error":"#N/A"}},{"$f":"'Sheet3 (2)'!Q12","v":3.0289262456459614E-3},{"$f":"CORREL($B$1:B12,$I$1:I12)","v":{"$error":"#N/A"}},{"$f":"'Sheet3 (2)'!S12","v":-8.5274859144206221E-3},{"$f":"CORREL($B$1:B12,$K$1:K12)","v":{"$error":"#N/A"}},{"$f":"'Sheet3 (2)'!U12","v":-7.5884049172859555E-4},{"$f":"CORREL($B$1:B12,$M$1:M12)","v":{"$error":"#N/A"}},{"$f":"'Sheet3 (2)'!W12","v":1.1128284389489936E-2},{"$f":"CORREL($B$1:B12,$O$1:O12)","v":{"$error":"#N/A"}},{"$f":"'Sheet3 (2)'!Y12","v":-3.5135960892146317E-3},{"$f":"CORREL($B$1:B12,$Q$1:Q12)","v":{"$error":"#N/A"}},{"$f":"'Sheet3 (2)'!AA12","v":-2.0098948670378733E-3},{"$f":"CORREL($B$1:B12,$S$1:S12)","v":{"$error":"#N/A"}}]
[null,{"$f":"'Sheet3 (2)'!I13","v":{"$error":"#N/A"}},{"$f":"'Sheet3 (2)'!K13","v":-1.3195381616434181E-2},{"$f":"CORREL($B$1:B13,$C$1:C13)","v":{"$error":"#N/A"}},{"$f":"'Sheet3 (2)'!M13","v":3.0066145520144748E-3},{"$f":"CORREL($B$1:B13,$E$1:E13)","v":{"$error":"#N/A"}},{"$f":"'Sheet3 (2)'!O13","v":-5.4315027157513492E-3},{"$f":"CORREL($B$1:B13,$G$1:G13)","v":{"$error":"#N/A"}},{"$f":"'Sheet3 (2)'!Q13","v":3.9376041193397715E-3},{"$f":"CORREL($B$1:B13,$I$1:I13)","v":{"$error":"#N/A"}},{"$f":"'Sheet3 (2)'!S13","v":-2.893254149535522E-3},{"$f":"CORREL($B$1:B13,$K$1:K13)","v":{"$error":"#N/A"}},{"$f":"'Sheet3 (2)'!U13","v":6.0707239338300581E-4},{"$f":"CORREL($B$1:B13,$M$1:M13)","v":{"$error":"#N/A"}},{"$f":"'Sheet3 (2)'!W13","v":1.4064914992271971E-2},{"$f":"CORREL($B$1:B13,$O$1:O13)","v":{"$error":"#N/A"}},{"$f":"'Sheet3 (2)'!Y13","v":-2.5970058050716087E-3},{"$f":"CORREL($B$1:B13,$Q$1:Q13)","v":{"$error":"#N/A"}},{"$f":"'Sheet3 (2)'!AA13","v":-4.0197897340755271E-3},{"$f":"CORREL($B$1:B13,$S$1:S13)","v":{"$error":"#N/A"}}]
[null,{"$f":"'Sheet3 (2)'!I14","v":{"$error":"#N/A"}},{"$f":"'Sheet3 (2)'!K14","v":-1.589443694706856E-2},{"$f":"CORREL($B$1:B14,$C$1:C14)","v":{"$error":"#N/A"}},{"$f":"'Sheet3 (2)'!M14","v":3.6079374624174549E-3},{"$f":"CORREL($B$1:B14,$E$1:E14)","v":{"$error":"#N/A"}},{"$f":"'Sheet3 (2)'!O14","v":-5.8841279420639792E-3},{"$f":"CORREL($B$1:B14,$G$1:G14)","v":{"$error":"#N/A"}},{"$f":"'Sheet3 (2)'!Q14","v":4.0890504316219295E-3},{"$f":"CORREL($B$1:B14,$I$1:I14)","v":{"$error":"#N/A"}},{"$f":"'Sheet3 (2)'!S14","v":-2.5887010811634185E-3},{"$f":"CORREL($B$1:B14,$K$1:K14)","v":{"$error":"#N/A"}},{"$f":"'Sheet3 (2)'!U14","v":1.3659128851116014E-3},{"$f":"CORREL($B$1:B14,$M$1:M14)","v":{"$error":"#N/A"}},{"$f":"'Sheet3 (2)'!W14","v":1.3292117465224101E-2},{"$f":"CORREL($B$1:B14,$O$1:O14)","v":{"$error":"#N/A"}},{"$f":"'Sheet3 (2)'!Y14","v":-1.9859456156430715E-3},{"$f":"CORREL($B$1:B14,$Q$1:Q14)","v":{"$error":"#N/A"}},{"$f":"'Sheet3 (2)'!AA14","v":-3.2467532467533693E-3},{"$f":"CORREL($B$1:B14,$S$1:S14)","v":{"$error":"#N/A"}}]
[null,{"$f":"'Sheet3 (2)'!I15","v":{"$error":"#N/A"}},{"$f":"'Sheet3 (2)'!K15","v":-1.6944069575648455E-2},{"$f":"CORREL($B$1:B15,$C$1:C15)","v":{"$error":"#N/A"}},{"$f":"'Sheet3 (2)'!M15","v":4.5099218280216053E-3},{"$f":"CORREL($B$1:B15,$E$1:E15)","v":{"$error":"#N/A"}},{"$f":"'Sheet3 (2)'!O15","v":-5.5823777911889645E-3},{"$f":"CORREL($B$1:B15,$G$1:G15)","v":{"$error":"#N/A"}},{"$f":"'Sheet3 (2)'!Q15","v":3.786157807057398E-3},{"$f":"CORREL($B$1:B15,$I$1:I15)","v":{"$error":"#N/A"}},{"$f":"'Sheet3 (2)'!S15","v":-2.4364245469772586E-3},{"$f":"CORREL($B$1:B15,$K$1:K15)","v":{"$error":"#N/A"}},{"$f":"'Sheet3 (2)'!U15","v":1.3659128851116014E-3},{"$f":"CORREL($B$1:B15,$M$1:M15)","v":{"$error":"#N/A"}},{"$f":"'Sheet3 (2)'!W15","v":1.3446676970633543E-2},{"$f":"CORREL($B$1:B15,$O$1:O15)","v":{"$error":"#N/A"}},{"$f":"'Sheet3 (2)'!Y15","v":-1.6804155209288029E-3},{"$f":"CORREL($B$1:B15,$Q$1:Q15)","v":{"$error":"#N/A"}},{"$f":"'Sheet3 (2)'!AA15","v":1.5460729746429968E-4},{"$f":"CORREL($B$1:B15,$S$1:S15)","v":{"$error":"#N/A"}}]
[null,{"$f":"'Sheet3 (2)'!I16","v":{"$error":"#N/A"}},{"$f":"'Sheet3 (2)'!K16","v":-1.904333483280846E-2},{"$f":"CORREL($B$1:B16,$C$1:C16)","v":{"$error":"#N/A"}},{"$f":"'Sheet3 (2)'!M16","v":3.1569452796152732E-3},{"$f":"CORREL($B$1:B16,$E$1:E16)","v":{"$error":"#N/A"}},{"$f":"'Sheet3 (2)'!O16","v":-4.6771273385637037E-3},{"$f":"CORREL($B$1:B16,$G$1:G16)","v":{"$error":"#N/A"}},{"$f":"'Sheet3 (2)'!Q16","v":3.786157807057398E-3},{"$f":"CORREL($B$1:B16,$I$1:I16)","v":{"$error":"#N/A"}},{"$f":"'Sheet3 (2)'!S16","v":-2.4364245469772586E-3},{"$f":"CORREL($B$1:B16,$K$1:K16)","v":{"$error":"#N/A"}},{"$f":"'Sheet3 (2)'!U16","v":2.1247533768401967E-3},{"$f":"CORREL($B$1:B16,$M$1:M16)","v":{"$error":"#N/A"}},{"$f":"'Sheet3 (2)'!W16","v":1.391035548686231E-2},{"$f":"CORREL($B$1:B16,$O$1:O16)","v":{"$error":"#N/A"}},{"$f":"'Sheet3 (2)'!Y16","v":-2.7497708524288518E-3},{"$f":"CORREL($B$1:B16,$Q$1:Q16)","v":{"$error":"#N/A"}},{"$f":"'Sheet3 (2)'!AA16","v":-6.1842918985785793E-4},{"$f":"CORREL($B$1:B16,$S$1:S16)","v":{"$error":"#N/A"}}]
[null,{"$f":"'Sheet3 (2)'!I17","v":{"$error":"#N/A"}},{"$f":"'Sheet3 (2)'!K17","v":-2.0542810016494297E-2},{"$f":"CORREL($B$1:B17,$C$1:C17)","v":{"$error":"#N/A"}},{"$f":"'Sheet3 (2)'!M17","v":3.3072760072158582E-3},{"$f":"CORREL($B$1:B17,$E$1:E17)","v":{"$error":"#N/A"}},{"$f":"'Sheet3 (2)'!O17","v":-4.9788774894387192E-3},{"$f":"CORREL($B$1:B17,$G$1:G17)","v":{"$error":"#N/A"}},{"$f":"'Sheet3 (2)'!Q17","v":2.8774799333635883E-3},{"$f":"CORREL($B$1:B17,$I$1:I17)","v":{"$error":"#N/A"}},{"$f":"'Sheet3 (2)'!S17","v":1.9795949444189956E-3},{"$f":"CORREL($B$1:B17,$K$1:K17)","v":{"$error":"#N/A"}},{"$f":"'Sheet3 (2)'!U17","v":3.4906662619517983E-3},{"$f":"CORREL($B$1:B17,$M$1:M17)","v":{"$error":"#N/A"}},{"$f":"'Sheet3 (2)'!W17","v":1.4219474497681633E-2},{"$f":"CORREL($B$1:B17,$O$1:O17)","v":{"$error":"#N/A"}},{"$f":"'Sheet3 (2)'!Y17","v":-2.1387106630003142E-3},{"$f":"CORREL($B$1:B17,$Q$1:Q17)","v":{"$error":"#N/A"}},{"$f":"'Sheet3 (2)'!AA17","v":-2.0098948670378733E-3},{"$f":"CORREL($B$1:B17,$S$1:S17)","v":{"$error":"#N/A"}}]
[null,{"$f":"'Sheet3 (2)'!I18","v":{"$error":"#N/A"}},{"$f":"'Sheet3 (2)'!K18","v":-1.934322986954554E-2},{"$f":"CORREL($B$1:B18,$C$1:C18)","v":{"$error":"#N/A"}},{"$f":"'Sheet3 (2)'!M18","v":3.3072760072158582E-3},{"$f":"CORREL($B$1:B18,$E$1:E18)","v":{"$error":"#N/A"}},{"$f":"'Sheet3 (2)'!O18","v":-1.5087507543752913E-3},{"$f":"CORREL($B$1:B18,$G$1:G18)","v":{"$error":"#N/A"}},{"$f":"'Sheet3 (2)'!Q18","v":3.3318188702104929E-3},{"$f":"CORREL($B$1:B18,$I$1:I18)","v":{"$error":"#N/A"}},{"$f":"'Sheet3 (2)'!S18","v":1.5227653418607326E-3},{"$f":"CORREL($B$1:B18,$K$1:K18)","v":{"$error":"#N/A"}},{"$f":"'Sheet3 (2)'!U18","v":2.5800576718773972E-3},{"$f":"CORREL($B$1:B18,$M$1:M18)","v":{"$error":"#N/A"}},{"$f":"'Sheet3 (2)'!W18","v":1.4992272024729502E-2},{"$f":"CORREL($B$1:B18,$O$1:O18)","v":{"$error":"#N/A"}},{"$f":"'Sheet3 (2)'!Y18","v":-1.8331805682858288E-3},{"$f":"CORREL($B$1:B18,$Q$1:Q18)","v":{"$error":"#N/A"}},{"$f":"'Sheet3 (2)'!AA18","v":4.6382189239311877E-4},{"$f":"CORREL($B$1:B18,$S$1:S18)","v":{"$error":"#N/A"}}]
[null,{"$f":"'Sheet3 (2)'!I19","v":{"$error":"#N/A"}},{"$f":"'Sheet3 (2)'!K19","v":-2.0842705053231377E-2},{"$f":"CORREL($B$1:B19,$C$1:C19)","v":{"$error":"#N/A"}},{"$f":"'Sheet3 (2)'!M19","v":-1.5033072760058488E-4},{"$f":"CORREL($B$1:B19,$E$1:E19)","v":{"$error":"#N/A"}},{"$f":"'Sheet3 (2)'!O19","v":2.1122510561255364E-3},{"$f":"CORREL($B$1:B19,$G$1:G19)","v":{"$error":"#N/A"}},{"$f":"'Sheet3 (2)'!Q19","v":4.3919430561864614E-3},{"$f":"CORREL($B$1:B19,$I$1:I19)","v":{"$error":"#N/A"}},{"$f":"'Sheet3 (2)'!S19","v":7.6138267093036629E-4},{"$f":"CORREL($B$1:B19,$K$1:K19)","v":{"$error":"#N/A"}},{"$f":"'Sheet3 (2)'!U19","v":1.9729852784943916E-3},{"$f":"CORREL($B$1:B19,$M$1:M19)","v":{"$error":"#N/A"}},{"$f":"'Sheet3 (2)'!W19","v":1.4219474497681633E-2},{"$f":"CORREL($B$1:B19,$O$1:O19)","v":{"$error":"#N/A"}},{"$f":"'Sheet3 (2)'!Y19","v":-1.3901619309501935E-2},{"$f":"CORREL($B$1:B19,$Q$1:Q19)","v":{"$error":"#N/A"}},{"$f":"'Sheet3 (2)'!AA19","v":4.6382189239311877E-4},{"$f":"CORREL($B$1:B19,$S$1:S19)","v":{"$error":"#N/A"}}]
[null,{"$f":"'Sheet3 (2)'!I20","v":{"$error":"#N/A"}},{"$f":"'Sheet3 (2)'!K20","v":-2.2192232718548567E-2},{"$f":"CORREL($B$1:B20,$C$1:C20)","v":{"$error":"#N/A"}},{"$f":"'Sheet3 (2)'!M20","v":-1.8039687312085139E-3},{"$f":"CORREL($B$1:B20,$E$1:E20)","v":{"$error":"#N/A"}},{"$f":"'Sheet3 (2)'!O20","v":2.4140012070005519E-3},{"$f":"CORREL($B$1:B20,$G$1:G20)","v":{"$error":"#N/A"}},{"$f":"'Sheet3 (2)'!Q20","v":6.0578524912919228E-3},{"$f":"CORREL($B$1:B20,$I$1:I20)","v":{"$error":"#N/A"}},{"$f":"'Sheet3 (2)'!S20","v":1.8273184102330523E-3},{"$f":"CORREL($B$1:B20,$K$1:K20)","v":{"$error":"#N/A"}},{"$f":"'Sheet3 (2)'!U20","v":2.1247533768401967E-3},{"$f":"CORREL($B$1:B20,$M$1:M20)","v":{"$error":"#N/A"}},{"$f":"'Sheet3 (2)'!W20","v":1.391035548686231E-2},{"$f":"CORREL($B$1:B20,$O$1:O20)","v":{"$error":"#N/A"}},{"$f":"'Sheet3 (2)'!Y20","v":-1.176290864650162E-2},{"$f":"CORREL($B$1:B20,$Q$1:Q20)","v":{"$error":"#N/A"}},{"$f":"'Sheet3 (2)'!AA20","v":1.236858379715496E-3},{"$f":"CORREL($B$1:B20,$S$1:S20)","v":{"$error":"#N/A"}}]
[null,{"$f":"'Sheet3 (2)'!I21","v":{"$error":"#N/A"}},{"$f":"'Sheet3 (2)'!K21","v":-2.1142600089968461E-2},{"$f":"CORREL($B$1:B21,$C$1:C21)","v":{"$error":"#N/A"}},{"$f":"'Sheet3 (2)'!M21","v":-3.7582681900180399E-3},{"$f":"CORREL($B$1:B21,$E$1:E21)","v":{"$error":"#N/A"}},{"$f":"'Sheet3 (2)'!O21","v":2.4140012070005519E-3},{"$f":"CORREL($B$1:B21,$G$1:G21)","v":{"$error":"#N/A"}},{"$f":"'Sheet3 (2)'!Q21","v":7.7237619263971699E-3},{"$f":"CORREL($B$1:B21,$I$1:I21)","v":{"$error":"#N/A"}},{"$f":"'Sheet3 (2)'!S21","v":1.5227653418615981E-4},{"$f":"CORREL($B$1:B21,$K$1:K21)","v":{"$error":"#N/A"}},{"$f":"'Sheet3 (2)'!U21","v":1.5176809834571911E-3},{"$f":"CORREL($B$1:B21,$M$1:M21)","v":{"$error":"#N/A"}},{"$f":"'Sheet3 (2)'!W21","v":1.5146831530139165E-2},{"$f":"CORREL($B$1:B21,$O$1:O21)","v":{"$error":"#N/A"}},{"$f":"'Sheet3 (2)'!Y21","v":-1.4818209593644958E-2},{"$f":"CORREL($B$1:B21,$Q$1:Q21)","v":{"$error":"#N/A"}},{"$f":"'Sheet3 (2)'!AA21","v":-6.1842918985785793E-4},{"$f":"CORREL($B$1:B21,$S$1:S21)","v":{"$error":"#N/A"}}]
[null,{"$f":"'Sheet3 (2)'!I22","v":{"$error":"#N/A"}},{"$f":"'Sheet3 (2)'!K22","v":-2.1592442645074192E-2},{"$f":"CORREL($B$1:B22,$C$1:C22)","v":{"$error":"#N/A"}},{"$f":"'Sheet3 (2)'!M22","v":-3.4576067348164427E-3},{"$f":"CORREL($B$1:B22,$E$1:E22)","v":{"$error":"#N/A"}},{"$f":"'Sheet3 (2)'!O22","v":2.5648762824381668E-3},{"$f":"CORREL($B$1:B22,$G$1:G22)","v":{"$error":"#N/A"}},{"$f":"'Sheet3 (2)'!Q22","v":6.5121914281386127E-3},{"$f":"CORREL($B$1:B22,$I$1:I22)","v":{"$error":"#N/A"}},{"$f":"'Sheet3 (2)'!S22","v":4.5682960255826306E-4},{"$f":"CORREL($B$1:B22,$K$1:K22)","v":{"$error":"#N/A"}},{"$f":"'Sheet3 (2)'!U22","v":3.0353619669139508E-4},{"$f":"CORREL($B$1:B22,$M$1:M22)","v":{"$error":"#N/A"}},{"$f":"'Sheet3 (2)'!W22","v":1.6228748068006137E-2},{"$f":"CORREL($B$1:B22,$O$1:O22)","v":{"$error":"#N/A"}},{"$f":"'Sheet3 (2)'!Y22","v":-1.6345860067216517E-2},{"$f":"CORREL($B$1:B22,$Q$1:Q22)","v":{"$error":"#N/A"}},{"$f":"'Sheet3 (2)'!AA22","v":-2.0098948670378733E-3},{"$f":"CORREL($B$1:B22,$S$1:S22)","v":{"$error":"#N/A"}}]
[null,{"$f":"'Sheet3 (2)'!I23","v":{"$error":"#N/A"}},{"$f":"'Sheet3 (2)'!K23","v":-2.3841655420602841E-2},{"$f":"CORREL($B$1:B23,$C$1:C23)","v":{"$error":"#N/A"}},{"$f":"'Sheet3 (2)'!M23","v":-4.209260372820222E-3},{"$f":"CORREL($B$1:B23,$E$1:E23)","v":{"$error":"#N/A"}},{"$f":"'Sheet3 (2)'!O23","v":1.3578756789378909E-3},{"$f":"CORREL($B$1:B23,$G$1:G23)","v":{"$error":"#N/A"}},{"$f":"'Sheet3 (2)'!Q23","v":5.9064061790095497E-3},{"$f":"CORREL($B$1:B23,$I$1:I23)","v":{"$error":"#N/A"}},{"$f":"'Sheet3 (2)'!S23","v":0},{"$f":"CORREL($B$1:B23,$K$1:K23)","v":{"$error":"#N/A"}},{"$f":"'Sheet3 (2)'!U23","v":7.5884049172859555E-4},{"$f":"CORREL($B$1:B23,$M$1:M23)","v":{"$error":"#N/A"}},{"$f":"'Sheet3 (2)'!W23","v":1.6228748068006137E-2},{"$f":"CORREL($B$1:B23,$O$1:O23)","v":{"$error":"#N/A"}},{"$f":"'Sheet3 (2)'!Y23","v":-1.5582034830430738E-2},{"$f":"CORREL($B$1:B23,$Q$1:Q23)","v":{"$error":"#N/A"}},{"$f":"'Sheet3 (2)'!AA23","v":-1.3914656771800156E-3},{"$f":"CORREL($B$1:B23,$S$1:S23)","v":{"$error":"#N/A"}}]
[null,{"$f":"'Sheet3 (2)'!I24","v":{"$error":"#N/A"}},{"$f":"'Sheet3 (2)'!K24","v":-2.6840605787974092E-2},{"$f":"CORREL($B$1:B24,$C$1:C24)","v":{"$error":"#N/A"}},{"$f":"'Sheet3 (2)'!M24","v":-3.0066145520144748E-3},{"$f":"CORREL($B$1:B24,$E$1:E24)","v":{"$error":"#N/A"}},{"$f":"'Sheet3 (2)'!O24","v":2.2631261315631517E-3},{"$f":"CORREL($B$1:B24,$G$1:G24)","v":{"$error":"#N/A"}},{"$f":"'Sheet3 (2)'!Q24","v":5.7549598667271766E-3},{"$f":"CORREL($B$1:B24,$I$1:I24)","v":{"$error":"#N/A"}},{"$f":"'Sheet3 (2)'!S24","v":-4.5682960255826306E-4},{"$f":"CORREL($B$1:B24,$K$1:K24)","v":{"$error":"#N/A"}},{"$f":"'Sheet3 (2)'!U24","v":-3.7942024586431933E-3},{"$f":"CORREL($B$1:B24,$M$1:M24)","v":{"$error":"#N/A"}},{"$f":"'Sheet3 (2)'!W24","v":1.6228748068006137E-2},{"$f":"CORREL($B$1:B24,$O$1:O24)","v":{"$error":"#N/A"}},{"$f":"'Sheet3 (2)'!Y24","v":-1.4359914451573447E-2},{"$f":"CORREL($B$1:B24,$Q$1:Q24)","v":{"$error":"#N/A"}},{"$f":"'Sheet3 (2)'!AA24","v":6.1842918985763817E-4},{"$f":"CORREL($B$1:B24,$S$1:S24)","v":{"$error":"#N/A"}}]
[null,{"$f":"'Sheet3 (2)'!I25","v":{"$error":"#N/A"}},{"$f":"'Sheet3 (2)'!K25","v":-2.7140500824711387E-2},{"$f":"CORREL($B$1:B25,$C$1:C25)","v":{"$error":"#N/A"}},{"$f":"'Sheet3 (2)'!M25","v":-2.5556223692122927E-3},{"$f":"CORREL($B$1:B25,$E$1:E25)","v":{"$error":"#N/A"}},{"$f":"'Sheet3 (2)'!O25","v":2.8666264333131824E-3},{"$f":"CORREL($B$1:B25,$G$1:G25)","v":{"$error":"#N/A"}},{"$f":"'Sheet3 (2)'!Q25","v":4.6948356807512076E-3},{"$f":"CORREL($B$1:B25,$I$1:I25)","v":{"$error":"#N/A"}},{"$f":"'Sheet3 (2)'!S25","v":-7.6138267093036629E-4},{"$f":"CORREL($B$1:B25,$K$1:K25)","v":{"$error":"#N/A"}},{"$f":"'Sheet3 (2)'!U25","v":-9.4096220974351878E-3},{"$f":"CORREL($B$1:B25,$M$1:M25)","v":{"$error":"#N/A"}},{"$f":"'Sheet3 (2)'!W25","v":1.6692426584234903E-2},{"$f":"CORREL($B$1:B25,$O$1:O25)","v":{"$error":"#N/A"}},{"$f":"'Sheet3 (2)'!Y25","v":-1.3290559120073181E-2},{"$f":"CORREL($B$1:B25,$Q$1:Q25)","v":{"$error":"#N/A"}},{"$f":"'Sheet3 (2)'!AA25","v":-1.3914656771800156E-3},{"$f":"CORREL($B$1:B25,$S$1:S25)","v":{"$error":"#N/A"}}]
[null,{"$f":"'Sheet3 (2)'!I26","v":{"$error":"#N/A"}},{"$f":"'Sheet3 (2)'!K26","v":-2.863997600839701E-2},{"$f":"CORREL($B$1:B26,$C$1:C26)","v":{"$error":"#N/A"}},{"$f":"'Sheet3 (2)'!M26","v":-2.2549609140106956E-3},{"$f":"CORREL($B$1:B26,$E$1:E26)","v":{"$error":"#N/A"}},{"$f":"'Sheet3 (2)'!O26","v":1.5087507543752913E-3},{"$f":"CORREL($B$1:B26,$G$1:G26)","v":{"$error":"#N/A"}},{"$f":"'Sheet3 (2)'!Q26","v":4.8462819930333665E-3},{"$f":"CORREL($B$1:B26,$I$1:I26)","v":{"$error":"#N/A"}},{"$f":"'Sheet3 (2)'!S26","v":-1.5227653418615981E-4},{"$f":"CORREL($B$1:B26,$K$1:K26)","v":{"$error":"#N/A"}},{"$f":"'Sheet3 (2)'!U26","v":-9.7131582941265837E-3},{"$f":"CORREL($B$1:B26,$M$1:M26)","v":{"$error":"#N/A"}},{"$f":"'Sheet3 (2)'!W26","v":1.5765069551777373E-2},{"$f":"CORREL($B$1:B26,$O$1:O26)","v":{"$error":"#N/A"}},{"$f":"'Sheet3 (2)'!Y26","v":-1.4970974641001984E-2},{"$f":"CORREL($B$1:B26,$Q$1:Q26)","v":{"$error":"#N/A"}},{"$f":"'Sheet3 (2)'!AA26","v":-1.5460729746445349E-3},{"$f":"CORREL($B$1:B26,$S$1:S26)","v":{"$error":"#N/A"}}]
[null,{"$f":"'Sheet3 (2)'!I27","v":{"$error":"#N/A"}},{"$f":"'Sheet3 (2)'!K27","v":-2.9239766081871389E-2},{"$f":"CORREL($B$1:B27,$C$1:C27)","v":{"$error":"#N/A"}},{"$f":"'Sheet3 (2)'!M27","v":-1.9542994588093122E-3},{"$f":"CORREL($B$1:B27,$E$1:E27)","v":{"$error":"#N/A"}},{"$f":"'Sheet3 (2)'!O27","v":1.9613759806879215E-3},{"$f":"CORREL($B$1:B27,$G$1:G27)","v":{"$error":"#N/A"}},{"$f":"'Sheet3 (2)'!Q27","v":5.4520672421626446E-3},{"$f":"CORREL($B$1:B27,$I$1:I27)","v":{"$error":"#N/A"}},{"$f":"'Sheet3 (2)'!S27","v":1.8273184102330523E-3},{"$f":"CORREL($B$1:B27,$K$1:K27)","v":{"$error":"#N/A"}},{"$f":"'Sheet3 (2)'!U27","v":-8.4990135073607868E-3},{"$f":"CORREL($B$1:B27,$M$1:M27)","v":{"$error":"#N/A"}},{"$f":"'Sheet3 (2)'!W27","v":1.901081916537873E-2},{"$f":"CORREL($B$1:B27,$O$1:O27)","v":{"$error":"#N/A"}},{"$f":"'Sheet3 (2)'!Y27","v":-1.5887564925145006E-2},{"$f":"CORREL($B$1:B27,$Q$1:Q27)","v":{"$error":"#N/A"}},{"$f":"'Sheet3 (2)'!AA27","v":6.1842918985763817E-4},{"$f":"CORREL($B$1:B27,$S$1:S27)","v":{"$error":"#N/A"}}]
[null,{"$f":"'Sheet3 (2)'!I28","v":{"$error":"#N/A"}},{"$f":"'Sheet3 (2)'!K28","v":-2.8939871045134093E-2},{"$f":"CORREL($B$1:B28,$C$1:C28)","v":{"$error":"#N/A"}},{"$f":"'Sheet3 (2)'!M28","v":-2.104630186410111E-3},{"$f":"CORREL($B$1:B28,$E$1:E28)","v":{"$error":"#N/A"}},{"$f":"'Sheet3 (2)'!O28","v":3.0175015087507973E-3},{"$f":"CORREL($B$1:B28,$G$1:G28)","v":{"$error":"#N/A"}},{"$f":"'Sheet3 (2)'!Q28","v":5.1491746175981127E-3},{"$f":"CORREL($B$1:B28,$I$1:I28)","v":{"$error":"#N/A"}},{"$f":"'Sheet3 (2)'!S28","v":2.893254149535522E-3},{"$f":"CORREL($B$1:B28,$K$1:K28)","v":{"$error":"#N/A"}},{"$f":"'Sheet3 (2)'!U28","v":-8.0437092123235871E-3},{"$f":"CORREL($B$1:B28,$M$1:M28)","v":{"$error":"#N/A"}},{"$f":"'Sheet3 (2)'!W28","v":1.8392581143740303E-2},{"$f":"CORREL($B$1:B28,$O$1:O28)","v":{"$error":"#N/A"}},{"$f":"'Sheet3 (2)'!Y28","v":-1.3748854262144693E-2},{"$f":"CORREL($B$1:B28,$Q$1:Q28)","v":{"$error":"#N/A"}},{"$f":"'Sheet3 (2)'!AA28","v":4.7928262213974646E-3},{"$f":"CORREL($B$1:B28,$S$1:S28)","v":{"$error":"#N/A"}}]
[null,{"$f":"'Sheet3 (2)'!I29","v":{"$error":"#N/A"}},{"$f":"'Sheet3 (2)'!K29","v":-2.8190133453291282E-2},{"$f":"CORREL($B$1:B29,$C$1:C29)","v":{"$error":"#N/A"}},{"$f":"'Sheet3 (2)'!M29","v":-2.5556223692122927E-3},{"$f":"CORREL($B$1:B29,$E$1:E29)","v":{"$error":"#N/A"}},{"$f":"'Sheet3 (2)'!O29","v":3.7718768859384428E-3},{"$f":"CORREL($B$1:B29,$G$1:G29)","v":{"$error":"#N/A"}},{"$f":"'Sheet3 (2)'!Q29","v":5.9064061790095497E-3},{"$f":"CORREL($B$1:B29,$I$1:I29)","v":{"$error":"#N/A"}},{"$f":"'Sheet3 (2)'!S29","v":5.1774021623268371E-3},{"$f":"CORREL($B$1:B29,$K$1:K29)","v":{"$error":"#N/A"}},{"$f":"'Sheet3 (2)'!U29","v":-6.829564425557791E-3},{"$f":"CORREL($B$1:B29,$M$1:M29)","v":{"$error":"#N/A"}},{"$f":"'Sheet3 (2)'!W29","v":1.80834621329212E-2},{"$f":"CORREL($B$1:B29,$O$1:O29)","v":{"$error":"#N/A"}},{"$f":"'Sheet3 (2)'!Y29","v":-1.3290559120073181E-2},{"$f":"CORREL($B$1:B29,$Q$1:Q29)","v":{"$error":"#N/A"}},{"$f":"'Sheet3 (2)'!AA29","v":4.0197897340753077E-3},{"$f":"CORREL($B$1:B29,$S$1:S29)","v":{"$error":"#N/A"}}]
[null,{"$f":"'Sheet3 (2)'!I30","v":{"$error":"#N/A"}},{"$f":"'Sheet3 (2)'!K30","v":-2.99895036737142E-2},{"$f":"CORREL($B$1:B30,$C$1:C30)","v":{"$error":"#N/A"}},{"$f":"'Sheet3 (2)'!M30","v":-3.1569452796150594E-3},{"$f":"CORREL($B$1:B30,$E$1:E30)","v":{"$error":"#N/A"}},{"$f":"'Sheet3 (2)'!O30","v":2.1122510561255364E-3},{"$f":"CORREL($B$1:B30,$G$1:G30)","v":{"$error":"#N/A"}},{"$f":"'Sheet3 (2)'!Q30","v":4.9977283053157396E-3},{"$f":"CORREL($B$1:B30,$I$1:I30)","v":{"$error":"#N/A"}},{"$f":"'Sheet3 (2)'!S30","v":4.7205725597685745E-3},{"$f":"CORREL($B$1:B30,$K$1:K30)","v":{"$error":"#N/A"}},{"$f":"'Sheet3 (2)'!U30","v":-3.6424343602973878E-3},{"$f":"CORREL($B$1:B30,$M$1:M30)","v":{"$error":"#N/A"}},{"$f":"'Sheet3 (2)'!W30","v":1.7465224111282773E-2},{"$f":"CORREL($B$1:B30,$O$1:O30)","v":{"$error":"#N/A"}},{"$f":"'Sheet3 (2)'!Y30","v":-1.2221203788573132E-2},{"$f":"CORREL($B$1:B30,$Q$1:Q30)","v":{"$error":"#N/A"}},{"$f":"'Sheet3 (2)'!AA30","v":3.2467532467531498E-3},{"$f":"CORREL($B$1:B30,$S$1:S30)","v":{"$error":"#N/A"}}]
[null,{"$f":"'Sheet3 (2)'!I31","v":{"$error":"#N/A"}},{"$f":"'Sheet3 (2)'!K31","v":-3.1638926375768477E-2},{"$f":"CORREL($B$1:B31,$C$1:C31)","v":{"$error":"#N/A"}},{"$f":"'Sheet3 (2)'!M31","v":-4.3595911004208066E-3},{"$f":"CORREL($B$1:B31,$E$1:E31)","v":{"$error":"#N/A"}},{"$f":"'Sheet3 (2)'!O31","v":3.6210018105008279E-3},{"$f":"CORREL($B$1:B31,$G$1:G31)","v":{"$error":"#N/A"}},{"$f":"'Sheet3 (2)'!Q31","v":5.7549598667271766E-3},{"$f":"CORREL($B$1:B31,$I$1:I31)","v":{"$error":"#N/A"}},{"$f":"'Sheet3 (2)'!S31","v":4.7205725597685745E-3},{"$f":"CORREL($B$1:B31,$K$1:K31)","v":{"$error":"#N/A"}},{"$f":"'Sheet3 (2)'!U31","v":-4.8565791470633994E-3},{"$f":"CORREL($B$1:B31,$M$1:M31)","v":{"$error":"#N/A"}},{"$f":"'Sheet3 (2)'!W31","v":1.6537867078825243E-2},{"$f":"CORREL($B$1:B31,$O$1:O31)","v":{"$error":"#N/A"}},{"$f":"'Sheet3 (2)'!Y31","v":-1.176290864650162E-2},{"$f":"CORREL($B$1:B31,$Q$1:Q31)","v":{"$error":"#N/A"}},{"$f":"'Sheet3 (2)'!AA31","v":4.174397031539827E-3},{"$f":"CORREL($B$1:B31,$S$1:S31)","v":{"$error":"#N/A"}}]
[null,{"$f":"'Sheet3 (2)'!I32","v":{"$error":"#N/A"}},{"$f":"'Sheet3 (2)'!K32","v":-3.133903133903139E-2},{"$f":"CORREL($B$1:B32,$C$1:C32)","v":{"$error":"#N/A"}},{"$f":"'Sheet3 (2)'!M32","v":-3.6079374624172415E-3},{"$f":"CORREL($B$1:B32,$E$1:E32)","v":{"$error":"#N/A"}},{"$f":"'Sheet3 (2)'!O32","v":3.0175015087507973E-3},{"$f":"CORREL($B$1:B32,$G$1:G32)","v":{"$error":"#N/A"}},{"$f":"'Sheet3 (2)'!Q32","v":3.786157807057398E-3},{"$f":"CORREL($B$1:B32,$I$1:I32)","v":{"$error":"#N/A"}},{"$f":"'Sheet3 (2)'!S32","v":5.3296786965127806E-3},{"$f":"CORREL($B$1:B32,$K$1:K32)","v":{"$error":"#N/A"}},{"$f":"'Sheet3 (2)'!U32","v":-5.4636515404461895E-3},{"$f":"CORREL($B$1:B32,$M$1:M32)","v":{"$error":"#N/A"}},{"$f":"'Sheet3 (2)'!W32","v":1.7774343122101875E-2},{"$f":"CORREL($B$1:B32,$O$1:O32)","v":{"$error":"#N/A"}},{"$f":"'Sheet3 (2)'!Y32","v":-1.0846318362358599E-2},{"$f":"CORREL($B$1:B32,$Q$1:Q32)","v":{"$error":"#N/A"}},{"$f":"'Sheet3 (2)'!AA32","v":3.0921459492886305E-3},{"$f":"CORREL($B$1:B32,$S$1:S32)","v":{"$error":"#N/A"}}]
[null,{"$f":"'Sheet3 (2)'!I33","v":{"$error":"#N/A"}},{"$f":"'Sheet3 (2)'!K33","v":-3.3138401559454099E-2},{"$f":"CORREL($B$1:B33,$C$1:C33)","v":{"$error":"#N/A"}},{"$f":"'Sheet3 (2)'!M33","v":-3.9085989176186244E-3},{"$f":"CORREL($B$1:B33,$E$1:E33)","v":{"$error":"#N/A"}},{"$f":"'Sheet3 (2)'!O33","v":2.8666264333131824E-3},{"$f":"CORREL($B$1:B33,$G$1:G33)","v":{"$error":"#N/A"}},{"$f":"'Sheet3 (2)'!Q33","v":4.0890504316219295E-3},{"$f":"CORREL($B$1:B33,$I$1:I33)","v":{"$error":"#N/A"}},{"$f":"'Sheet3 (2)'!S33","v":7.6138267093040961E-3},{"$f":"CORREL($B$1:B33,$K$1:K33)","v":{"$error":"#N/A"}},{"$f":"'Sheet3 (2)'!U33","v":-4.0977386553345879E-3},{"$f":"CORREL($B$1:B33,$M$1:M33)","v":{"$error":"#N/A"}},{"$f":"'Sheet3 (2)'!W33","v":1.7001545595054006E-2},{"$f":"CORREL($B$1:B33,$O$1:O33)","v":{"$error":"#N/A"}},{"$f":"'Sheet3 (2)'!Y33","v":-1.0846318362358599E-2},{"$f":"CORREL($B$1:B33,$Q$1:Q33)","v":{"$error":"#N/A"}},{"$f":"'Sheet3 (2)'!AA33","v":2.0098948670376538E-3},{"$f":"CORREL($B$1:B33,$S$1:S33)","v":{"$error":"#N/A"}}]
[null,{"$f":"'Sheet3 (2)'!I34","v":{"$error":"#N/A"}},{"$f":"'Sheet3 (2)'!K34","v":-3.358824411455983E-2},{"$f":"CORREL($B$1:B34,$C$1:C34)","v":{"$error":"#N/A"}},{"$f":"'Sheet3 (2)'!M34","v":-2.4052916416114943E-3},{"$f":"CORREL($B$1:B34,$E$1:E34)","v":{"$error":"#N/A"}},{"$f":"'Sheet3 (2)'!O34","v":2.8666264333131824E-3},{"$f":"CORREL($B$1:B34,$G$1:G34)","v":{"$error":"#N/A"}},{"$f":"'Sheet3 (2)'!Q34","v":4.9977283053157396E-3},{"$f":"CORREL($B$1:B34,$I$1:I34)","v":{"$error":"#N/A"}},{"$f":"'Sheet3 (2)'!S34","v":7.3092736409319931E-3},{"$f":"CORREL($B$1:B34,$K$1:K34)","v":{"$error":"#N/A"}},{"$f":"'Sheet3 (2)'!U34","v":-4.7048110487175939E-3},{"$f":"CORREL($B$1:B34,$M$1:M34)","v":{"$error":"#N/A"}},{"$f":"'Sheet3 (2)'!W34","v":1.5610510046367711E-2},{"$f":"CORREL($B$1:B34,$O$1:O34)","v":{"$error":"#N/A"}},{"$f":"'Sheet3 (2)'!Y34","v":-9.6241979835013057E-3},{"$f":"CORREL($B$1:B34,$Q$1:Q34)","v":{"$error":"#N/A"}},{"$f":"'Sheet3 (2)'!AA34","v":1.0822510822509766E-3},{"$f":"CORREL($B$1:B34,$S$1:S34)","v":{"$error":"#N/A"}}]
[null,{"$f":"'Sheet3 (2)'!I35","v":{"$error":"#N/A"}},{"$f":"'Sheet3 (2)'!K35","v":-3.0739241265557014E-2},{"$f":"CORREL($B$1:B35,$C$1:C35)","v":{"$error":"#N/A"}},{"$f":"'Sheet3 (2)'!M35","v":-2.2549609140106956E-3},{"$f":"CORREL($B$1:B35,$E$1:E35)","v":{"$error":"#N/A"}},{"$f":"'Sheet3 (2)'!O35","v":3.0175015087507973E-3},{"$f":"CORREL($B$1:B35,$G$1:G35)","v":{"$error":"#N/A"}},{"$f":"'Sheet3 (2)'!Q35","v":5.3006209298802716E-3},{"$f":"CORREL($B$1:B35,$I$1:I35)","v":{"$error":"#N/A"}},{"$f":"'Sheet3 (2)'!S35","v":6.2433379016293067E-3},{"$f":"CORREL($B$1:B35,$K$1:K35)","v":{"$error":"#N/A"}},{"$f":"'Sheet3 (2)'!U35","v":-6.0707239338291955E-3},{"$f":"CORREL($B$1:B35,$M$1:M35)","v":{"$error":"#N/A"}},{"$f":"'Sheet3 (2)'!W35","v":1.6228748068006137E-2},{"$f":"CORREL($B$1:B35,$O$1:O35)","v":{"$error":"#N/A"}},{"$f":"'Sheet3 (2)'!Y35","v":-1.0388023220287087E-2},{"$f":"CORREL($B$1:B35,$Q$1:Q35)","v":{"$error":"#N/A"}},{"$f":"'Sheet3 (2)'!AA35","v":2.0098948670376538E-3},{"$f":"CORREL($B$1:B35,$S$1:S35)","v":{"$error":"#N/A"}}]
[null,{"$f":"'Sheet3 (2)'!I36","v":{"$error":"#N/A"}},{"$f":"'Sheet3 (2)'!K36","v":-3.1788873894137121E-2},{"$f":"CORREL($B$1:B36,$C$1:C36)","v":{"$error":"#N/A"}},{"$f":"'Sheet3 (2)'!M36","v":-1.6536380036079291E-3},{"$f":"CORREL($B$1:B36,$E$1:E36)","v":{"$error":"#N/A"}},{"$f":"'Sheet3 (2)'!O36","v":2.7157513578755675E-3},{"$f":"CORREL($B$1:B36,$G$1:G36)","v":{"$error":"#N/A"}},{"$f":"'Sheet3 (2)'!Q36","v":4.2404967439043035E-3},{"$f":"CORREL($B$1:B36,$I$1:I36)","v":{"$error":"#N/A"}},{"$f":"'Sheet3 (2)'!S36","v":7.3092736409319931E-3},{"$f":"CORREL($B$1:B36,$K$1:K36)","v":{"$error":"#N/A"}},{"$f":"'Sheet3 (2)'!U36","v":-6.526028228866396E-3},{"$f":"CORREL($B$1:B36,$M$1:M36)","v":{"$error":"#N/A"}},{"$f":"'Sheet3 (2)'!W36","v":1.6074188562596476E-2},{"$f":"CORREL($B$1:B36,$O$1:O36)","v":{"$error":"#N/A"}},{"$f":"'Sheet3 (2)'!Y36","v":-1.0999083409715841E-2},{"$f":"CORREL($B$1:B36,$Q$1:Q36)","v":{"$error":"#N/A"}},{"$f":"'Sheet3 (2)'!AA36","v":1.0822510822509766E-3},{"$f":"CORREL($B$1:B36,$S$1:S36)","v":{"$error":"#N/A"}}]
[null,{"$f":"'Sheet3 (2)'!I37","v":{"$error":"#N/A"}},{"$f":"'Sheet3 (2)'!K37","v":-3.1938821412505557E-2},{"$f":"CORREL($B$1:B37,$C$1:C37)","v":{"$error":"#N/A"}},{"$f":"'Sheet3 (2)'!M37","v":-1.9542994588093122E-3},{"$f":"CORREL($B$1:B37,$E$1:E37)","v":{"$error":"#N/A"}},{"$f":"'Sheet3 (2)'!O37","v":3.0175015087507973E-3},{"$f":"CORREL($B$1:B37,$G$1:G37)","v":{"$error":"#N/A"}},{"$f":"'Sheet3 (2)'!Q37","v":4.6948356807512076E-3},{"$f":"CORREL($B$1:B37,$I$1:I37)","v":{"$error":"#N/A"}},{"$f":"'Sheet3 (2)'!S37","v":6.395614435815467E-3},{"$f":"CORREL($B$1:B37,$K$1:K37)","v":{"$error":"#N/A"}},{"$f":"'Sheet3 (2)'!U37","v":-7.1331006222491861E-3},{"$f":"CORREL($B$1:B37,$M$1:M37)","v":{"$error":"#N/A"}},{"$f":"'Sheet3 (2)'!W37","v":1.7774343122101875E-2},{"$f":"CORREL($B$1:B37,$O$1:O37)","v":{"$error":"#N/A"}},{"$f":"'Sheet3 (2)'!Y37","v":-1.2985029025358912E-2},{"$f":"CORREL($B$1:B37,$Q$1:Q37)","v":{"$error":"#N/A"}},{"$f":"'Sheet3 (2)'!AA37","v":1.5460729746443152E-3},{"$f":"CORREL($B$1:B37,$S$1:S37)","v":{"$error":"#N/A"}}]
[null,{"$f":"'Sheet3 (2)'!I38","v":{"$error":"#N/A"}},{"$f":"'Sheet3 (2)'!K38","v":-3.0889188783925662E-2},{"$f":"CORREL($B$1:B38,$C$1:C38)","v":{"$error":"#N/A"}},{"$f":"'Sheet3 (2)'!M38","v":3.0066145520159698E-4},{"$f":"CORREL($B$1:B38,$E$1:E38)","v":{"$error":"#N/A"}},{"$f":"'Sheet3 (2)'!O38","v":3.1683765841881979E-3},{"$f":"CORREL($B$1:B38,$G$1:G38)","v":{"$error":"#N/A"}},{"$f":"'Sheet3 (2)'!Q38","v":5.3006209298802716E-3},{"$f":"CORREL($B$1:B38,$I$1:I38)","v":{"$error":"#N/A"}},{"$f":"'Sheet3 (2)'!S38","v":5.9387848332572036E-3},{"$f":"CORREL($B$1:B38,$K$1:K38)","v":{"$error":"#N/A"}},{"$f":"'Sheet3 (2)'!U38","v":-6.526028228866396E-3},{"$f":"CORREL($B$1:B38,$M$1:M38)","v":{"$error":"#N/A"}},{"$f":"'Sheet3 (2)'!W38","v":1.7310664605873112E-2},{"$f":"CORREL($B$1:B38,$O$1:O38)","v":{"$error":"#N/A"}},{"$f":"'Sheet3 (2)'!Y38","v":-1.2373968835930158E-2},{"$f":"CORREL($B$1:B38,$Q$1:Q38)","v":{"$error":"#N/A"}},{"$f":"'Sheet3 (2)'!AA38","v":3.7105751391464884E-3},{"$f":"CORREL($B$1:B38,$S$1:S38)","v":{"$error":"#N/A"}}]
[null,{"$f":"'Sheet3 (2)'!I39","v":{"$error":"#N/A"}},{"$f":"'Sheet3 (2)'!K39","v":-3.2238716449242637E-2},{"$f":"CORREL($B$1:B39,$C$1:C39)","v":{"$error":"#N/A"}},{"$f":"'Sheet3 (2)'!M39","v":1.5033072760079849E-4},{"$f":"CORREL($B$1:B39,$E$1:E39)","v":{"$error":"#N/A"}},{"$f":"'Sheet3 (2)'!O39","v":2.1122510561255364E-3},{"$f":"CORREL($B$1:B39,$G$1:G39)","v":{"$error":"#N/A"}},{"$f":"'Sheet3 (2)'!Q39","v":5.6035135544450177E-3},{"$f":"CORREL($B$1:B39,$I$1:I39)","v":{"$error":"#N/A"}},{"$f":"'Sheet3 (2)'!S39","v":6.395614435815467E-3},{"$f":"CORREL($B$1:B39,$K$1:K39)","v":{"$error":"#N/A"}},{"$f":"'Sheet3 (2)'!U39","v":-6.0707239338291955E-3},{"$f":"CORREL($B$1:B39,$M$1:M39)","v":{"$error":"#N/A"}},{"$f":"'Sheet3 (2)'!W39","v":1.6383307573415801E-2},{"$f":"CORREL($B$1:B39,$O$1:O39)","v":{"$error":"#N/A"}},{"$f":"'Sheet3 (2)'!Y39","v":-1.2373968835930158E-2},{"$f":"CORREL($B$1:B39,$Q$1:Q39)","v":{"$error":"#N/A"}},{"$f":"'Sheet3 (2)'!AA39","v":3.5559678416819686E-3},{"$f":"CORREL($B$1:B39,$S$1:S39)","v":{"$error":"#N/A"}}]
[null,{"$f":"'Sheet3 (2)'!I40","v":{"$error":"#N/A"}},{"$f":"'Sheet3 (2)'!K40","v":-3.3138401559454099E-2},{"$f":"CORREL($B$1:B40,$C$1:C40)","v":{"$error":"#N/A"}},{"$f":"'Sheet3 (2)'!M40","v":0},{"$f":"CORREL($B$1:B40,$E$1:E40)","v":{"$error":"#N/A"}},{"$f":"'Sheet3 (2)'!O40","v":3.0175015087507973E-3},{"$f":"CORREL($B$1:B40,$G$1:G40)","v":{"$error":"#N/A"}},{"$f":"'Sheet3 (2)'!Q40","v":5.1491746175981127E-3},{"$f":"CORREL($B$1:B40,$I$1:I40)","v":{"$error":"#N/A"}},{"$f":"'Sheet3 (2)'!S40","v":7.1569971067458327E-3},{"$f":"CORREL($B$1:B40,$K$1:K40)","v":{"$error":"#N/A"}},{"$f":"'Sheet3 (2)'!U40","v":-5.91895583548339E-3},{"$f":"CORREL($B$1:B40,$M$1:M40)","v":{"$error":"#N/A"}},{"$f":"'Sheet3 (2)'!W40","v":1.6383307573415801E-2},{"$f":"CORREL($B$1:B40,$O$1:O40)","v":{"$error":"#N/A"}},{"$f":"'Sheet3 (2)'!Y40","v":-1.3137794072716156E-2},{"$f":"CORREL($B$1:B40,$Q$1:Q40)","v":{"$error":"#N/A"}},{"$f":"'Sheet3 (2)'!AA40","v":2.1645021645019533E-3},{"$f":"CORREL($B$1:B40,$S$1:S40)","v":{"$error":"#N/A"}}]
[null,{"$f":"'Sheet3 (2)'!I41","v":{"$error":"#N/A"}},{"$f":"'Sheet3 (2)'!K41","v":-3.2988454041085663E-2},{"$f":"CORREL($B$1:B41,$C$1:C41)","v":{"$error":"#N/A"}},{"$f":"'Sheet3 (2)'!M41","v":0},{"$f":"CORREL($B$1:B41,$E$1:E41)","v":{"$error":"#N/A"}},{"$f":"'Sheet3 (2)'!O41","v":2.8666264333131824E-3},{"$f":"CORREL($B$1:B41,$G$1:G41)","v":{"$error":"#N/A"}},{"$f":"'Sheet3 (2)'!Q41","v":5.1491746175981127E-3},{"$f":"CORREL($B$1:B41,$I$1:I41)","v":{"$error":"#N/A"}},{"$f":"'Sheet3 (2)'!S41","v":6.7001675041875701E-3},{"$f":"CORREL($B$1:B41,$K$1:K41)","v":{"$error":"#N/A"}},{"$f":"'Sheet3 (2)'!U41","v":-6.6777963272119855E-3},{"$f":"CORREL($B$1:B41,$M$1:M41)","v":{"$error":"#N/A"}},{"$f":"'Sheet3 (2)'!W41","v":1.715610510046367E-2},{"$f":"CORREL($B$1:B41,$O$1:O41)","v":{"$error":"#N/A"}},{"$f":"'Sheet3 (2)'!Y41","v":-1.3596089214787667E-2},{"$f":"CORREL($B$1:B41,$Q$1:Q41)","v":{"$error":"#N/A"}},{"$f":"'Sheet3 (2)'!AA41","v":2.1645021645019533E-3},{"$f":"CORREL($B$1:B41,$S$1:S41)","v":{"$error":"#N/A"}}]
[null,{"$f":"'Sheet3 (2)'!I42","v":{"$error":"#N/A"}},{"$f":"'Sheet3 (2)'!K42","v":-3.2538611485979932E-2},{"$f":"CORREL($B$1:B42,$C$1:C42)","v":{"$error":"#N/A"}},{"$f":"'Sheet3 (2)'!M42","v":-1.0523150932049486E-3},{"$f":"CORREL($B$1:B42,$E$1:E42)","v":{"$error":"#N/A"}},{"$f":"'Sheet3 (2)'!O42","v":3.0175015087507973E-3},{"$f":"CORREL($B$1:B42,$G$1:G42)","v":{"$error":"#N/A"}},{"$f":"'Sheet3 (2)'!Q42","v":5.1491746175981127E-3},{"$f":"CORREL($B$1:B42,$I$1:I42)","v":{"$error":"#N/A"}},{"$f":"'Sheet3 (2)'!S42","v":6.5478909700014097E-3},{"$f":"CORREL($B$1:B42,$K$1:K42)","v":{"$error":"#N/A"}},{"$f":"'Sheet3 (2)'!U42","v":-6.526028228866396E-3},{"$f":"CORREL($B$1:B42,$M$1:M42)","v":{"$error":"#N/A"}},{"$f":"'Sheet3 (2)'!W42","v":1.715610510046367E-2},{"$f":"CORREL($B$1:B42,$O$1:O42)","v":{"$error":"#N/A"}},{"$f":"'Sheet3 (2)'!Y42","v":-1.2221203788573132E-2},{"$f":"CORREL($B$1:B42,$Q$1:Q42)","v":{"$error":"#N/A"}},{"$f":"'Sheet3 (2)'!AA42","v":3.0921459492886305E-3},{"$f":"CORREL($B$1:B42,$S$1:S42)","v":{"$error":"#N/A"}}]
[null,{"$f":"'Sheet3 (2)'!I43","v":{"$error":"#N/A"}},{"$f":"'Sheet3 (2)'!K43","v":-3.3138401559454099E-2},{"$f":"CORREL($B$1:B43,$C$1:C43)","v":{"$error":"#N/A"}},{"$f":"'Sheet3 (2)'!M43","v":-9.0198436560436372E-4},{"$f":"CORREL($B$1:B43,$E$1:E43)","v":{"$error":"#N/A"}},{"$f":"'Sheet3 (2)'!O43","v":3.6210018105008279E-3},{"$f":"CORREL($B$1:B43,$G$1:G43)","v":{"$error":"#N/A"}},{"$f":"'Sheet3 (2)'!Q43","v":4.5433893684688345E-3},{"$f":"CORREL($B$1:B43,$I$1:I43)","v":{"$error":"#N/A"}},{"$f":"'Sheet3 (2)'!S43","v":5.9387848332572036E-3},{"$f":"CORREL($B$1:B43,$K$1:K43)","v":{"$error":"#N/A"}},{"$f":"'Sheet3 (2)'!U43","v":-6.526028228866396E-3},{"$f":"CORREL($B$1:B43,$M$1:M43)","v":{"$error":"#N/A"}},{"$f":"'Sheet3 (2)'!W43","v":1.7465224111282773E-2},{"$f":"CORREL($B$1:B43,$O$1:O43)","v":{"$error":"#N/A"}},{"$f":"'Sheet3 (2)'!Y43","v":-1.2985029025358912E-2},{"$f":"CORREL($B$1:B43,$Q$1:Q43)","v":{"$error":"#N/A"}},{"$f":"'Sheet3 (2)'!AA43","v":3.7105751391464884E-3},{"$f":"CORREL($B$1:B43,$S$1:S43)","v":{"$error":"#N/A"}}]
[null,{"$f":"'Sheet3 (2)'!I44","v":{"$error":"#N/A"}},{"$f":"'Sheet3 (2)'!K44","v":-2.9089818563502741E-2},{"$f":"CORREL($B$1:B44,$C$1:C44)","v":{"$error":"#N/A"}},{"$f":"'Sheet3 (2)'!M44","v":-4.5099218280218186E-4},{"$f":"CORREL($B$1:B44,$E$1:E44)","v":{"$error":"#N/A"}},{"$f":"'Sheet3 (2)'!O44","v":3.0175015087507973E-3},{"$f":"CORREL($B$1:B44,$G$1:G44)","v":{"$error":"#N/A"}},{"$f":"'Sheet3 (2)'!Q44","v":5.3006209298802716E-3},{"$f":"CORREL($B$1:B44,$I$1:I44)","v":{"$error":"#N/A"}},{"$f":"'Sheet3 (2)'!S44","v":4.4160194913962546E-3},{"$f":"CORREL($B$1:B44,$K$1:K44)","v":{"$error":"#N/A"}},{"$f":"'Sheet3 (2)'!U44","v":-5.615419638791995E-3},{"$f":"CORREL($B$1:B44,$M$1:M44)","v":{"$error":"#N/A"}},{"$f":"'Sheet3 (2)'!W44","v":1.7001545595054006E-2},{"$f":"CORREL($B$1:B44,$O$1:O44)","v":{"$error":"#N/A"}},{"$f":"'Sheet3 (2)'!Y44","v":-1.3901619309501935E-2},{"$f":"CORREL($B$1:B44,$Q$1:Q44)","v":{"$error":"#N/A"}},{"$f":"'Sheet3 (2)'!AA44","v":4.947433518861984E-3},{"$f":"CORREL($B$1:B44,$S$1:S44)","v":{"$error":"#N/A"}}]
[null,{"$f":"'Sheet3 (2)'!I45","v":{"$error":"#N/A"}},{"$f":"'Sheet3 (2)'!K45","v":-2.9539661118608472E-2},{"$f":"CORREL($B$1:B45,$C$1:C45)","v":{"$error":"#N/A"}},{"$f":"'Sheet3 (2)'!M45","v":-4.5099218280218186E-4},{"$f":"CORREL($B$1:B45,$E$1:E45)","v":{"$error":"#N/A"}},{"$f":"'Sheet3 (2)'!O45","v":2.7157513578755675E-3},{"$f":"CORREL($B$1:B45,$G$1:G45)","v":{"$error":"#N/A"}},{"$f":"'Sheet3 (2)'!Q45","v":5.1491746175981127E-3},{"$f":"CORREL($B$1:B45,$I$1:I45)","v":{"$error":"#N/A"}},{"$f":"'Sheet3 (2)'!S45","v":4.5682960255824141E-3},{"$f":"CORREL($B$1:B45,$K$1:K45)","v":{"$error":"#N/A"}},{"$f":"'Sheet3 (2)'!U45","v":-4.5530429503717884E-3},{"$f":"CORREL($B$1:B45,$M$1:M45)","v":{"$error":"#N/A"}},{"$f":"'Sheet3 (2)'!W45","v":1.6537867078825243E-2},{"$f":"CORREL($B$1:B45,$O$1:O45)","v":{"$error":"#N/A"}},{"$f":"'Sheet3 (2)'!Y45","v":-1.2221203788573132E-2},{"$f":"CORREL($B$1:B45,$Q$1:Q45)","v":{"$error":"#N/A"}},{"$f":"'Sheet3 (2)'!AA45","v":6.1842918985774804E-3},{"$f":"CORREL($B$1:B45,$S$1:S45)","v":{"$error":"#N/A"}}]
[null,{"$f":"'Sheet3 (2)'!I46","v":{"$error":"#N/A"}},{"$f":"'Sheet3 (2)'!K46","v":-3.0739241265557014E-2},{"$f":"CORREL($B$1:B46,$C$1:C46)","v":{"$error":"#N/A"}},{"$f":"'Sheet3 (2)'!M46","v":-1.0523150932049486E-3},{"$f":"CORREL($B$1:B46,$E$1:E46)","v":{"$error":"#N/A"}},{"$f":"'Sheet3 (2)'!O46","v":2.5648762824381668E-3},{"$f":"CORREL($B$1:B46,$G$1:G46)","v":{"$error":"#N/A"}},{"$f":"'Sheet3 (2)'!Q46","v":4.6948356807512076E-3},{"$f":"CORREL($B$1:B46,$I$1:I46)","v":{"$error":"#N/A"}},{"$f":"'Sheet3 (2)'!S46","v":5.0251256281406776E-3},{"$f":"CORREL($B$1:B46,$K$1:K46)","v":{"$error":"#N/A"}},{"$f":"'Sheet3 (2)'!U46","v":-4.4012748520261989E-3},{"$f":"CORREL($B$1:B46,$M$1:M46)","v":{"$error":"#N/A"}},{"$f":"'Sheet3 (2)'!W46","v":1.6692426584234903E-2},{"$f":"CORREL($B$1:B46,$O$1:O46)","v":{"$error":"#N/A"}},{"$f":"'Sheet3 (2)'!Y46","v":-1.1457378551787353E-2},{"$f":"CORREL($B$1:B46,$Q$1:Q46)","v":{"$error":"#N/A"}},{"$f":"'Sheet3 (2)'!AA46","v":5.1020408163265033E-3},{"$f":"CORREL($B$1:B46,$S$1:S46)","v":{"$error":"#N/A"}}]
[null,{"$f":"'Sheet3 (2)'!I47","v":{"$error":"#N/A"}},{"$f":"'Sheet3 (2)'!K47","v":-2.9389713600239824E-2},{"$f":"CORREL($B$1:B47,$C$1:C47)","v":{"$error":"#N/A"}},{"$f":"'Sheet3 (2)'!M47","v":-9.0198436560436372E-4},{"$f":"CORREL($B$1:B47,$E$1:E47)","v":{"$error":"#N/A"}},{"$f":"'Sheet3 (2)'!O47","v":2.5648762824381668E-3},{"$f":"CORREL($B$1:B47,$G$1:G47)","v":{"$error":"#N/A"}},{"$f":"'Sheet3 (2)'!Q47","v":5.1491746175981127E-3},{"$f":"CORREL($B$1:B47,$I$1:I47)","v":{"$error":"#N/A"}},{"$f":"'Sheet3 (2)'!S47","v":5.3296786965127806E-3},{"$f":"CORREL($B$1:B47,$K$1:K47)","v":{"$error":"#N/A"}},{"$f":"'Sheet3 (2)'!U47","v":-4.8565791470633994E-3},{"$f":"CORREL($B$1:B47,$M$1:M47)","v":{"$error":"#N/A"}},{"$f":"'Sheet3 (2)'!W47","v":1.715610510046367E-2},{"$f":"CORREL($B$1:B47,$O$1:O47)","v":{"$error":"#N/A"}},{"$f":"'Sheet3 (2)'!Y47","v":-1.2373968835930158E-2},{"$f":"CORREL($B$1:B47,$Q$1:Q47)","v":{"$error":"#N/A"}},{"$f":"'Sheet3 (2)'!AA47","v":7.1119356833641576E-3},{"$f":"CORREL($B$1:B47,$S$1:S47)","v":{"$error":"#N/A"}}]
[null,{"$f":"'Sheet3 (2)'!I48","v":{"$error":"#N/A"}},{"$f":"'Sheet3 (2)'!K48","v":-3.0139451192082636E-2},{"$f":"CORREL($B$1:B48,$C$1:C48)","v":{"$error":"#N/A"}},{"$f":"'Sheet3 (2)'!M48","v":-1.0523150932049486E-3},{"$f":"CORREL($B$1:B48,$E$1:E48)","v":{"$error":"#N/A"}},{"$f":"'Sheet3 (2)'!O48","v":3.1683765841881979E-3},{"$f":"CORREL($B$1:B48,$G$1:G48)","v":{"$error":"#N/A"}},{"$f":"'Sheet3 (2)'!Q48","v":4.8462819930333665E-3},{"$f":"CORREL($B$1:B48,$I$1:I48)","v":{"$error":"#N/A"}},{"$f":"'Sheet3 (2)'!S48","v":5.1774021623268371E-3},{"$f":"CORREL($B$1:B48,$K$1:K48)","v":{"$error":"#N/A"}},{"$f":"'Sheet3 (2)'!U48","v":-5.311883442100384E-3},{"$f":"CORREL($B$1:B48,$M$1:M48)","v":{"$error":"#N/A"}},{"$f":"'Sheet3 (2)'!W48","v":1.7465224111282773E-2},{"$f":"CORREL($B$1:B48,$O$1:O48)","v":{"$error":"#N/A"}},{"$f":"'Sheet3 (2)'!Y48","v":-1.3137794072716156E-2},{"$f":"CORREL($B$1:B48,$Q$1:Q48)","v":{"$error":"#N/A"}},{"$f":"'Sheet3 (2)'!AA48","v":5.5658627087198419E-3},{"$f":"CORREL($B$1:B48,$S$1:S48)","v":{"$error":"#N/A"}}]
[null,{"$f":"'Sheet3 (2)'!I49","v":{"$error":"#N/A"}},{"$f":"'Sheet3 (2)'!K49","v":-2.99895036737142E-2},{"$f":"CORREL($B$1:B49,$C$1:C49)","v":{"$error":"#N/A"}},{"$f":"'Sheet3 (2)'!M49","v":-1.5033072760071305E-3},{"$f":"CORREL($B$1:B49,$E$1:E49)","v":{"$error":"#N/A"}},{"$f":"'Sheet3 (2)'!O49","v":5.1297525648763337E-3},{"$f":"CORREL($B$1:B49,$G$1:G49)","v":{"$error":"#N/A"}},{"$f":"'Sheet3 (2)'!Q49","v":4.8462819930333665E-3},{"$f":"CORREL($B$1:B49,$I$1:I49)","v":{"$error":"#N/A"}},{"$f":"'Sheet3 (2)'!S49","v":6.395614435815467E-3},{"$f":"CORREL($B$1:B49,$K$1:K49)","v":{"$error":"#N/A"}},{"$f":"'Sheet3 (2)'!U49","v":-5.1601153437547944E-3},{"$f":"CORREL($B$1:B49,$M$1:M49)","v":{"$error":"#N/A"}},{"$f":"'Sheet3 (2)'!W49","v":1.715610510046367E-2},{"$f":"CORREL($B$1:B49,$O$1:O49)","v":{"$error":"#N/A"}},{"$f":"'Sheet3 (2)'!Y49","v":-1.206843874121589E-2},{"$f":"CORREL($B$1:B49,$Q$1:Q49)","v":{"$error":"#N/A"}},{"$f":"'Sheet3 (2)'!AA49","v":6.648113790970819E-3},{"$f":"CORREL($B$1:B49,$S$1:S49)","v":{"$error":"#N/A"}}]
[null,{"$f":"'Sheet3 (2)'!I50","v":{"$error":"#N/A"}},{"$f":"'Sheet3 (2)'!K50","v":-2.9239766081871389E-2},{"$f":"CORREL($B$1:B50,$C$1:C50)","v":{"$error":"#N/A"}},{"$f":"'Sheet3 (2)'!M50","v":-1.3529765484063319E-3},{"$f":"CORREL($B$1:B50,$E$1:E50)","v":{"$error":"#N/A"}},{"$f":"'Sheet3 (2)'!O50","v":5.4315027157513492E-3},{"$f":"CORREL($B$1:B50,$G$1:G50)","v":{"$error":"#N/A"}},{"$f":"'Sheet3 (2)'!Q50","v":5.1491746175981127E-3},{"$f":"CORREL($B$1:B50,$I$1:I50)","v":{"$error":"#N/A"}},{"$f":"'Sheet3 (2)'!S50","v":6.7001675041875701E-3},{"$f":"CORREL($B$1:B50,$K$1:K50)","v":{"$error":"#N/A"}},{"$f":"'Sheet3 (2)'!U50","v":-4.4012748520261989E-3},{"$f":"CORREL($B$1:B50,$M$1:M50)","v":{"$error":"#N/A"}},{"$f":"'Sheet3 (2)'!W50","v":1.7001545595054006E-2},{"$f":"CORREL($B$1:B50,$O$1:O50)","v":{"$error":"#N/A"}},{"$f":"'Sheet3 (2)'!Y50","v":-1.1304613504430109E-2},{"$f":"CORREL($B$1:B50,$Q$1:Q50)","v":{"$error":"#N/A"}},{"$f":"'Sheet3 (2)'!AA50","v":8.8126159554729917E-3},{"$f":"CORREL($B$1:B50,$S$1:S50)","v":{"$error":"#N/A"}}]
[null,{"$f":"'Sheet3 (2)'!I51","v":{"$error":"#N/A"}},{"$f":"'Sheet3 (2)'!K51","v":-2.8789923526765657E-2},{"$f":"CORREL($B$1:B51,$C$1:C51)","v":{"$error":"#N/A"}},{"$f":"'Sheet3 (2)'!M51","v":-1.2026458208057472E-3},{"$f":"CORREL($B$1:B51,$E$1:E51)","v":{"$error":"#N/A"}},{"$f":"'Sheet3 (2)'!O51","v":5.8841279420639792E-3},{"$f":"CORREL($B$1:B51,$G$1:G51)","v":{"$error":"#N/A"}},{"$f":"'Sheet3 (2)'!Q51","v":4.6948356807512076E-3},{"$f":"CORREL($B$1:B51,$I$1:I51)","v":{"$error":"#N/A"}},{"$f":"'Sheet3 (2)'!S51","v":7.1569971067458327E-3},{"$f":"CORREL($B$1:B51,$K$1:K51)","v":{"$error":"#N/A"}},{"$f":"'Sheet3 (2)'!U51","v":-4.7048110487175939E-3},{"$f":"CORREL($B$1:B51,$M$1:M51)","v":{"$error":"#N/A"}},{"$f":"'Sheet3 (2)'!W51","v":1.7619783616692433E-2},{"$f":"CORREL($B$1:B51,$O$1:O51)","v":{"$error":"#N/A"}},{"$f":"'Sheet3 (2)'!Y51","v":-1.1151848457072866E-2},{"$f":"CORREL($B$1:B51,$Q$1:Q51)","v":{"$error":"#N/A"}},{"$f":"'Sheet3 (2)'!AA51","v":9.4310451453308505E-3},{"$f":"CORREL($B$1:B51,$S$1:S51)","v":{"$error":"#N/A"}}]
[null,{"$f":"'Sheet3 (2)'!I52","v":{"$error":"#N/A"}},{"$f":"'Sheet3 (2)'!K52","v":-2.968960863697712E-2},{"$f":"CORREL($B$1:B52,$C$1:C52)","v":{"$error":"#N/A"}},{"$f":"'Sheet3 (2)'!M52","v":-6.0132291040276679E-4},{"$f":"CORREL($B$1:B52,$E$1:E52)","v":{"$error":"#N/A"}},{"$f":"'Sheet3 (2)'!O52","v":6.7893783946892401E-3},{"$f":"CORREL($B$1:B52,$G$1:G52)","v":{"$error":"#N/A"}},{"$f":"'Sheet3 (2)'!Q52","v":4.9977283053157396E-3},{"$f":"CORREL($B$1:B52,$I$1:I52)","v":{"$error":"#N/A"}},{"$f":"'Sheet3 (2)'!S52","v":6.2433379016293067E-3},{"$f":"CORREL($B$1:B52,$K$1:K52)","v":{"$error":"#N/A"}},{"$f":"'Sheet3 (2)'!U52","v":-4.8565791470633994E-3},{"$f":"CORREL($B$1:B52,$M$1:M52)","v":{"$error":"#N/A"}},{"$f":"'Sheet3 (2)'!W52","v":1.7774343122101875E-2},{"$f":"CORREL($B$1:B52,$O$1:O52)","v":{"$error":"#N/A"}},{"$f":"'Sheet3 (2)'!Y52","v":-1.1457378551787353E-2},{"$f":"CORREL($B$1:B52,$Q$1:Q52)","v":{"$error":"#N/A"}},{"$f":"'Sheet3 (2)'!AA52","v":7.5757575757574962E-3},{"$f":"CORREL($B$1:B52,$S$1:S52)","v":{"$error":"#N/A"}}]
[null,{"$f":"'Sheet3 (2)'!I53","v":{"$error":"#N/A"}},{"$f":"'Sheet3 (2)'!K53","v":-2.99895036737142E-2},{"$f":"CORREL($B$1:B53,$C$1:C53)","v":{"$error":"#N/A"}},{"$f":"'Sheet3 (2)'!M53","v":-1.6536380036079291E-3},{"$f":"CORREL($B$1:B53,$E$1:E53)","v":{"$error":"#N/A"}},{"$f":"'Sheet3 (2)'!O53","v":6.3367531683766101E-3},{"$f":"CORREL($B$1:B53,$G$1:G53)","v":{"$error":"#N/A"}},{"$f":"'Sheet3 (2)'!Q53","v":4.9977283053157396E-3},{"$f":"CORREL($B$1:B53,$I$1:I53)","v":{"$error":"#N/A"}},{"$f":"'Sheet3 (2)'!S53","v":6.0910613674431471E-3},{"$f":"CORREL($B$1:B53,$K$1:K53)","v":{"$error":"#N/A"}},{"$f":"'Sheet3 (2)'!U53","v":-5.0083472454089889E-3},{"$f":"CORREL($B$1:B53,$M$1:M53)","v":{"$error":"#N/A"}},{"$f":"'Sheet3 (2)'!W53","v":1.7310664605873112E-2},{"$f":"CORREL($B$1:B53,$O$1:O53)","v":{"$error":"#N/A"}},{"$f":"'Sheet3 (2)'!Y53","v":-1.0082493125572817E-2},{"$f":"CORREL($B$1:B53,$Q$1:Q53)","v":{"$error":"#N/A"}},{"$f":"'Sheet3 (2)'!AA53","v":6.8027210884353383E-3},{"$f":"CORREL($B$1:B53,$S$1:S53)","v":{"$error":"#N/A"}}]
[null,{"$f":"'Sheet3 (2)'!I54","v":{"$error":"#N/A"}},{"$f":"'Sheet3 (2)'!K54","v":-2.968960863697712E-2},{"$f":"CORREL($B$1:B54,$C$1:C54)","v":{"$error":"#N/A"}},{"$f":"'Sheet3 (2)'!M54","v":-7.5165363800356526E-4},{"$f":"CORREL($B$1:B54,$E$1:E54)","v":{"$error":"#N/A"}},{"$f":"'Sheet3 (2)'!O54","v":6.1858780929389947E-3},{"$f":"CORREL($B$1:B54,$G$1:G54)","v":{"$error":"#N/A"}},{"$f":"'Sheet3 (2)'!Q54","v":4.8462819930333665E-3},{"$f":"CORREL($B$1:B54,$I$1:I54)","v":{"$error":"#N/A"}},{"$f":"'Sheet3 (2)'!S54","v":6.5478909700014097E-3},{"$f":"CORREL($B$1:B54,$K$1:K54)","v":{"$error":"#N/A"}},{"$f":"'Sheet3 (2)'!U54","v":-3.9459705569889984E-3},{"$f":"CORREL($B$1:B54,$M$1:M54)","v":{"$error":"#N/A"}},{"$f":"'Sheet3 (2)'!W54","v":1.6846986089644564E-2},{"$f":"CORREL($B$1:B54,$O$1:O54)","v":{"$error":"#N/A"}},{"$f":"'Sheet3 (2)'!Y54","v":-9.7769630308585497E-3},{"$f":"CORREL($B$1:B54,$Q$1:Q54)","v":{"$error":"#N/A"}},{"$f":"'Sheet3 (2)'!AA54","v":8.8126159554729917E-3},{"$f":"CORREL($B$1:B54,$S$1:S54)","v":{"$error":"#N/A"}}]
[null,{"$f":"'Sheet3 (2)'!I55","v":{"$error":"#N/A"}},{"$f":"'Sheet3 (2)'!K55","v":-2.968960863697712E-2},{"$f":"CORREL($B$1:B55,$C$1:C55)","v":{"$error":"#N/A"}},{"$f":"'Sheet3 (2)'!M55","v":-7.5165363800356526E-4},{"$f":"CORREL($B$1:B55,$E$1:E55)","v":{"$error":"#N/A"}},{"$f":"'Sheet3 (2)'!O55","v":5.8841279420639792E-3},{"$f":"CORREL($B$1:B55,$G$1:G55)","v":{"$error":"#N/A"}},{"$f":"'Sheet3 (2)'!Q55","v":3.0289262456453158E-4},{"$f":"CORREL($B$1:B55,$I$1:I55)","v":{"$error":"#N/A"}},{"$f":"'Sheet3 (2)'!S55","v":6.8524440383737296E-3},{"$f":"CORREL($B$1:B55,$K$1:K55)","v":{"$error":"#N/A"}},{"$f":"'Sheet3 (2)'!U55","v":-3.1871300652601873E-3},{"$f":"CORREL($B$1:B55,$M$1:M55)","v":{"$error":"#N/A"}},{"$f":"'Sheet3 (2)'!W55","v":1.7465224111282773E-2},{"$f":"CORREL($B$1:B55,$O$1:O55)","v":{"$error":"#N/A"}},{"$f":"'Sheet3 (2)'!Y55","v":-9.9297280782155752E-3},{"$f":"CORREL($B$1:B55,$Q$1:Q55)","v":{"$error":"#N/A"}},{"$f":"'Sheet3 (2)'!AA55","v":8.5034013605441734E-3},{"$f":"CORREL($B$1:B55,$S$1:S55)","v":{"$error":"#N/A"}}]
[null,{"$f":"'Sheet3 (2)'!I56","v":{"$error":"#N/A"}},{"$f":"'Sheet3 (2)'!K56","v":-2.8789923526765657E-2},{"$f":"CORREL($B$1:B56,$C$1:C56)","v":{"$error":"#N/A"}},{"$f":"'Sheet3 (2)'!M56","v":-1.5033072760071305E-3},{"$f":"CORREL($B$1:B56,$E$1:E56)","v":{"$error":"#N/A"}},{"$f":"'Sheet3 (2)'!O56","v":6.0350030175015945E-3},{"$f":"CORREL($B$1:B56,$G$1:G56)","v":{"$error":"#N/A"}},{"$f":"'Sheet3 (2)'!Q56","v":0},{"$f":"CORREL($B$1:B56,$I$1:I56)","v":{"$error":"#N/A"}},{"$f":"'Sheet3 (2)'!S56","v":7.1569971067458327E-3},{"$f":"CORREL($B$1:B56,$K$1:K56)","v":{"$error":"#N/A"}},{"$f":"'Sheet3 (2)'!U56","v":-3.0353619669145977E-3},{"$f":"CORREL($B$1:B56,$M$1:M56)","v":{"$error":"#N/A"}},{"$f":"'Sheet3 (2)'!W56","v":1.5765069551777373E-2},{"$f":"CORREL($B$1:B56,$O$1:O56)","v":{"$error":"#N/A"}},{"$f":"'Sheet3 (2)'!Y56","v":-8.55484265200104E-3},{"$f":"CORREL($B$1:B56,$Q$1:Q56)","v":{"$error":"#N/A"}},{"$f":"'Sheet3 (2)'!AA56","v":8.6580086580084724E-3},{"$f":"CORREL($B$1:B56,$S$1:S56)","v":{"$error":"#N/A"}}]
[null,{"$f":"'Sheet3 (2)'!I57","v":{"$error":"#N/A"}},{"$f":"'Sheet3 (2)'!K57","v":-2.8789923526765657E-2},{"$f":"CORREL($B$1:B57,$C$1:C57)","v":{"$error":"#N/A"}},{"$f":"'Sheet3 (2)'!M57","v":-9.0198436560436372E-4},{"$f":"CORREL($B$1:B57,$E$1:E57)","v":{"$error":"#N/A"}},{"$f":"'Sheet3 (2)'!O57","v":6.3367531683766101E-3},{"$f":"CORREL($B$1:B57,$G$1:G57)","v":{"$error":"#N/A"}},{"$f":"'Sheet3 (2)'!Q57","v":1.2115704982583416E-3},{"$f":"CORREL($B$1:B57,$I$1:I57)","v":{"$error":"#N/A"}},{"$f":"'Sheet3 (2)'!S57","v":7.1569971067458327E-3},{"$f":"CORREL($B$1:B57,$K$1:K57)","v":{"$error":"#N/A"}},{"$f":"'Sheet3 (2)'!U57","v":-2.5800576718773972E-3},{"$f":"CORREL($B$1:B57,$M$1:M57)","v":{"$error":"#N/A"}},{"$f":"'Sheet3 (2)'!W57","v":1.5146831530139165E-2},{"$f":"CORREL($B$1:B57,$O$1:O57)","v":{"$error":"#N/A"}},{"$f":"'Sheet3 (2)'!Y57","v":-8.55484265200104E-3},{"$f":"CORREL($B$1:B57,$Q$1:Q57)","v":{"$error":"#N/A"}},{"$f":"'Sheet3 (2)'!AA57","v":8.1941867656151347E-3},{"$f":"CORREL($B$1:B57,$S$1:S57)","v":{"$error":"#N/A"}}]
[null,{"$f":"'Sheet3 (2)'!I58","v":{"$error":"#N/A"}},{"$f":"'Sheet3 (2)'!K58","v":-2.834008097165993E-2},{"$f":"CORREL($B$1:B58,$C$1:C58)","v":{"$error":"#N/A"}},{"$f":"'Sheet3 (2)'!M58","v":-1.0523150932049486E-3},{"$f":"CORREL($B$1:B58,$E$1:E58)","v":{"$error":"#N/A"}},{"$f":"'Sheet3 (2)'!O58","v":6.1858780929389947E-3},{"$f":"CORREL($B$1:B58,$G$1:G58)","v":{"$error":"#N/A"}},{"$f":"'Sheet3 (2)'!Q58","v":2.1202483719521517E-3},{"$f":"CORREL($B$1:B58,$I$1:I58)","v":{"$error":"#N/A"}},{"$f":"'Sheet3 (2)'!S58","v":7.0047205725596732E-3},{"$f":"CORREL($B$1:B58,$K$1:K58)","v":{"$error":"#N/A"}},{"$f":"'Sheet3 (2)'!U58","v":-2.2765214751860022E-3},{"$f":"CORREL($B$1:B58,$M$1:M58)","v":{"$error":"#N/A"}},{"$f":"'Sheet3 (2)'!W58","v":1.6383307573415801E-2},{"$f":"CORREL($B$1:B58,$O$1:O58)","v":{"$error":"#N/A"}},{"$f":"'Sheet3 (2)'!Y58","v":-9.1659028414297957E-3},{"$f":"CORREL($B$1:B58,$Q$1:Q58)","v":{"$error":"#N/A"}},{"$f":"'Sheet3 (2)'!AA58","v":9.8948670377239679E-3},{"$f":"CORREL($B$1:B58,$S$1:S58)","v":{"$error":"#N/A"}}]
[null,{"$f":"'Sheet3 (2)'!I59","v":{"$error":"#N/A"}},{"$f":"'Sheet3 (2)'!K59","v":-2.8190133453291282E-2},{"$f":"CORREL($B$1:B59,$C$1:C59)","v":{"$error":"#N/A"}},{"$f":"'Sheet3 (2)'!M59","v":4.5099218280218186E-4},{"$f":"CORREL($B$1:B59,$E$1:E59)","v":{"$error":"#N/A"}},{"$f":"'Sheet3 (2)'!O59","v":5.8841279420639792E-3},{"$f":"CORREL($B$1:B59,$G$1:G59)","v":{"$error":"#N/A"}},{"$f":"'Sheet3 (2)'!Q59","v":1.81735574738762E-3},{"$f":"CORREL($B$1:B59,$I$1:I59)","v":{"$error":"#N/A"}},{"$f":"'Sheet3 (2)'!S59","v":7.1569971067458327E-3},{"$f":"CORREL($B$1:B59,$K$1:K59)","v":{"$error":"#N/A"}},{"$f":"'Sheet3 (2)'!U59","v":-2.2765214751860022E-3},{"$f":"CORREL($B$1:B59,$M$1:M59)","v":{"$error":"#N/A"}},{"$f":"'Sheet3 (2)'!W59","v":1.5301391035548607E-2},{"$f":"CORREL($B$1:B59,$O$1:O59)","v":{"$error":"#N/A"}},{"$f":"'Sheet3 (2)'!Y59","v":-9.6241979835013057E-3},{"$f":"CORREL($B$1:B59,$Q$1:Q59)","v":{"$error":"#N/A"}},{"$f":"'Sheet3 (2)'!AA59","v":9.2764378478663312E-3},{"$f":"CORREL($B$1:B59,$S$1:S59)","v":{"$error":"#N/A"}}]
[null,{"$f":"'Sheet3 (2)'!I60","v":{"$error":"#N/A"}},{"$f":"'Sheet3 (2)'!K60","v":-2.9239766081871389E-2},{"$f":"CORREL($B$1:B60,$C$1:C60)","v":{"$error":"#N/A"}},{"$f":"'Sheet3 (2)'!M60","v":4.5099218280218186E-4},{"$f":"CORREL($B$1:B60,$E$1:E60)","v":{"$error":"#N/A"}},{"$f":"'Sheet3 (2)'!O60","v":5.2806276403137347E-3},{"$f":"CORREL($B$1:B60,$G$1:G60)","v":{"$error":"#N/A"}},{"$f":"'Sheet3 (2)'!Q60","v":2.8774799333635883E-3},{"$f":"CORREL($B$1:B60,$I$1:I60)","v":{"$error":"#N/A"}},{"$f":"'Sheet3 (2)'!S60","v":6.7001675041875701E-3},{"$f":"CORREL($B$1:B60,$K$1:K60)","v":{"$error":"#N/A"}},{"$f":"'Sheet3 (2)'!U60","v":-2.2765214751860022E-3},{"$f":"CORREL($B$1:B60,$M$1:M60)","v":{"$error":"#N/A"}},{"$f":"'Sheet3 (2)'!W60","v":1.483771251931984E-2},{"$f":"CORREL($B$1:B60,$O$1:O60)","v":{"$error":"#N/A"}},{"$f":"'Sheet3 (2)'!Y60","v":-9.6241979835013057E-3},{"$f":"CORREL($B$1:B60,$Q$1:Q60)","v":{"$error":"#N/A"}},{"$f":"'Sheet3 (2)'!AA60","v":1.0358688930117307E-2},{"$f":"CORREL($B$1:B60,$S$1:S60)","v":{"$error":"#N/A"}}]
[null,{"$f":"'Sheet3 (2)'!I61","v":{"$error":"#N/A"}},{"$f":"'Sheet3 (2)'!K61","v":-2.99895036737142E-2},{"$f":"CORREL($B$1:B61,$C$1:C61)","v":{"$error":"#N/A"}},{"$f":"'Sheet3 (2)'!M61","v":0},{"$f":"CORREL($B$1:B61,$E$1:E61)","v":{"$error":"#N/A"}},{"$f":"'Sheet3 (2)'!O61","v":3.0175015087507973E-3},{"$f":"CORREL($B$1:B61,$G$1:G61)","v":{"$error":"#N/A"}},{"$f":"'Sheet3 (2)'!Q61","v":1.9688020596697782E-3},{"$f":"CORREL($B$1:B61,$I$1:I61)","v":{"$error":"#N/A"}},{"$f":"'Sheet3 (2)'!S61","v":6.8524440383737296E-3},{"$f":"CORREL($B$1:B61,$K$1:K61)","v":{"$error":"#N/A"}},{"$f":"'Sheet3 (2)'!U61","v":-3.1871300652601873E-3},{"$f":"CORREL($B$1:B61,$M$1:M61)","v":{"$error":"#N/A"}},{"$f":"'Sheet3 (2)'!W61","v":1.4992272024729502E-2},{"$f":"CORREL($B$1:B61,$O$1:O61)","v":{"$error":"#N/A"}},{"$f":"'Sheet3 (2)'!Y61","v":-1.0540788267644329E-2},{"$f":"CORREL($B$1:B61,$Q$1:Q61)","v":{"$error":"#N/A"}},{"$f":"'Sheet3 (2)'!AA61","v":9.2764378478663312E-3},{"$f":"CORREL($B$1:B61,$S$1:S61)","v":{"$error":"#N/A"}}]
[null,{"$f":"'Sheet3 (2)'!I62","v":{"$error":"#N/A"}},{"$f":"'Sheet3 (2)'!K62","v":-2.968960863697712E-2},{"$f":"CORREL($B$1:B62,$C$1:C62)","v":{"$error":"#N/A"}},{"$f":"'Sheet3 (2)'!M62","v":0},{"$f":"CORREL($B$1:B62,$E$1:E62)","v":{"$error":"#N/A"}},{"$f":"'Sheet3 (2)'!O62","v":3.4701267350634277E-3},{"$f":"CORREL($B$1:B62,$G$1:G62)","v":{"$error":"#N/A"}},{"$f":"'Sheet3 (2)'!Q62","v":1.5144631228228731E-3},{"$f":"CORREL($B$1:B62,$I$1:I62)","v":{"$error":"#N/A"}},{"$f":"'Sheet3 (2)'!S62","v":6.5478909700014097E-3},{"$f":"CORREL($B$1:B62,$K$1:K62)","v":{"$error":"#N/A"}},{"$f":"'Sheet3 (2)'!U62","v":-2.4282895735315917E-3},{"$f":"CORREL($B$1:B62,$M$1:M62)","v":{"$error":"#N/A"}},{"$f":"'Sheet3 (2)'!W62","v":1.4992272024729502E-2},{"$f":"CORREL($B$1:B62,$O$1:O62)","v":{"$error":"#N/A"}},{"$f":"'Sheet3 (2)'!Y62","v":-1.3137794072716156E-2},{"$f":"CORREL($B$1:B62,$Q$1:Q62)","v":{"$error":"#N/A"}},{"$f":"'Sheet3 (2)'!AA62","v":1.0049474335188487E-2},{"$f":"CORREL($B$1:B62,$S$1:S62)","v":{"$error":"#N/A"}}]
[null,{"$f":"'Sheet3 (2)'!I63","v":{"$error":"#N/A"}},{"$f":"'Sheet3 (2)'!K63","v":-2.99895036737142E-2},{"$f":"CORREL($B$1:B63,$C$1:C63)","v":{"$error":"#N/A"}},{"$f":"'Sheet3 (2)'!M63","v":0},{"$f":"CORREL($B$1:B63,$E$1:E63)","v":{"$error":"#N/A"}},{"$f":"'Sheet3 (2)'!O63","v":4.5262522631260883E-3},{"$f":"CORREL($B$1:B63,$G$1:G63)","v":{"$error":"#N/A"}},{"$f":"'Sheet3 (2)'!Q63","v":1.6659094351052465E-3},{"$f":"CORREL($B$1:B63,$I$1:I63)","v":{"$error":"#N/A"}},{"$f":"'Sheet3 (2)'!S63","v":6.8524440383737296E-3},{"$f":"CORREL($B$1:B63,$K$1:K63)","v":{"$error":"#N/A"}},{"$f":"'Sheet3 (2)'!U63","v":-2.4282895735315917E-3},{"$f":"CORREL($B$1:B63,$M$1:M63)","v":{"$error":"#N/A"}},{"$f":"'Sheet3 (2)'!W63","v":1.5765069551777373E-2},{"$f":"CORREL($B$1:B63,$O$1:O63)","v":{"$error":"#N/A"}},{"$f":"'Sheet3 (2)'!Y63","v":-1.1915673693858646E-2},{"$f":"CORREL($B$1:B63,$Q$1:Q63)","v":{"$error":"#N/A"}},{"$f":"'Sheet3 (2)'!AA63","v":9.2764378478663312E-3},{"$f":"CORREL($B$1:B63,$S$1:S63)","v":{"$error":"#N/A"}}]
[null,{"$f":"'Sheet3 (2)'!I64","v":{"$error":"#N/A"}},{"$f":"'Sheet3 (2)'!K64","v":-3.0289398710451283E-2},{"$f":"CORREL($B$1:B64,$C$1:C64)","v":{"$error":"#N/A"}},{"$f":"'Sheet3 (2)'!M64","v":9.0198436560436372E-4},{"$f":"CORREL($B$1:B64,$E$1:E64)","v":{"$error":"#N/A"}},{"$f":"'Sheet3 (2)'!O64","v":4.6771273385637037E-3},{"$f":"CORREL($B$1:B64,$G$1:G64)","v":{"$error":"#N/A"}},{"$f":"'Sheet3 (2)'!Q64","v":9.0867787369381E-4},{"$f":"CORREL($B$1:B64,$I$1:I64)","v":{"$error":"#N/A"}},{"$f":"'Sheet3 (2)'!S64","v":5.9387848332572036E-3},{"$f":"CORREL($B$1:B64,$K$1:K64)","v":{"$error":"#N/A"}},{"$f":"'Sheet3 (2)'!U64","v":-1.5176809834571911E-3},{"$f":"CORREL($B$1:B64,$M$1:M64)","v":{"$error":"#N/A"}},{"$f":"'Sheet3 (2)'!W64","v":1.483771251931984E-2},{"$f":"CORREL($B$1:B64,$O$1:O64)","v":{"$error":"#N/A"}},{"$f":"'Sheet3 (2)'!Y64","v":-1.2221203788573132E-2},{"$f":"CORREL($B$1:B64,$Q$1:Q64)","v":{"$error":"#N/A"}},{"$f":"'Sheet3 (2)'!AA64","v":1.0977118119975164E-2},{"$f":"CORREL($B$1:B64,$S$1:S64)","v":{"$error":"#N/A"}}]
[null,{"$f":"'Sheet3 (2)'!I65","v":{"$error":"#N/A"}},{"$f":"'Sheet3 (2)'!K65","v":-2.8789923526765657E-2},{"$f":"CORREL($B$1:B65,$C$1:C65)","v":{"$error":"#N/A"}},{"$f":"'Sheet3 (2)'!M65","v":2.104630186410111E-3},{"$f":"CORREL($B$1:B65,$E$1:E65)","v":{"$error":"#N/A"}},{"$f":"'Sheet3 (2)'!O65","v":3.9227519613760581E-3},{"$f":"CORREL($B$1:B65,$G$1:G65)","v":{"$error":"#N/A"}},{"$f":"'Sheet3 (2)'!Q65","v":2.7260336210812148E-3},{"$f":"CORREL($B$1:B65,$I$1:I65)","v":{"$error":"#N/A"}},{"$f":"'Sheet3 (2)'!S65","v":5.0251256281406776E-3},{"$f":"CORREL($B$1:B65,$K$1:K65)","v":{"$error":"#N/A"}},{"$f":"'Sheet3 (2)'!U65","v":-2.2765214751860022E-3},{"$f":"CORREL($B$1:B65,$M$1:M65)","v":{"$error":"#N/A"}},{"$f":"'Sheet3 (2)'!W65","v":1.7774343122101875E-2},{"$f":"CORREL($B$1:B65,$O$1:O65)","v":{"$error":"#N/A"}},{"$f":"'Sheet3 (2)'!Y65","v":-1.405438435685896E-2},{"$f":"CORREL($B$1:B65,$Q$1:Q65)","v":{"$error":"#N/A"}},{"$f":"'Sheet3 (2)'!AA65","v":1.0977118119975164E-2},{"$f":"CORREL($B$1:B65,$S$1:S65)","v":{"$error":"#N/A"}}]
[null,{"$f":"'Sheet3 (2)'!I66","v":{"$error":"#N/A"}},{"$f":"'Sheet3 (2)'!K66","v":-2.7590343379817115E-2},{"$f":"CORREL($B$1:B66,$C$1:C66)","v":{"$error":"#N/A"}},{"$f":"'Sheet3 (2)'!M66","v":2.5556223692122927E-3},{"$f":"CORREL($B$1:B66,$E$1:E66)","v":{"$error":"#N/A"}},{"$f":"'Sheet3 (2)'!O66","v":3.6210018105008279E-3},{"$f":"CORREL($B$1:B66,$G$1:G66)","v":{"$error":"#N/A"}},{"$f":"'Sheet3 (2)'!Q66","v":3.786157807057398E-3},{"$f":"CORREL($B$1:B66,$I$1:I66)","v":{"$error":"#N/A"}},{"$f":"'Sheet3 (2)'!S66","v":5.4819552306989401E-3},{"$f":"CORREL($B$1:B66,$K$1:K66)","v":{"$error":"#N/A"}},{"$f":"'Sheet3 (2)'!U66","v":-3.3388981636059928E-3},{"$f":"CORREL($B$1:B66,$M$1:M66)","v":{"$error":"#N/A"}},{"$f":"'Sheet3 (2)'!W66","v":1.8392581143740303E-2},{"$f":"CORREL($B$1:B66,$O$1:O66)","v":{"$error":"#N/A"}},{"$f":"'Sheet3 (2)'!Y66","v":-1.1610143599144378E-2},{"$f":"CORREL($B$1:B66,$Q$1:Q66)","v":{"$error":"#N/A"}},{"$f":"'Sheet3 (2)'!AA66","v":1.2059369202226142E-2},{"$f":"CORREL($B$1:B66,$S$1:S66)","v":{"$error":"#N/A"}}]
[]
[]
[]
[]
[]
[]
[]
[]
[]
[]
[]
[]
[]
[]
[]
[null,null,null,{"$f":"'Sheet3 (2)'!C2","v":"2018-06-15"},null,{"$f":"'Sheet3 (2)'!C3","v":"2018-06-14"},null,{"$f":"'Sheet3 (2)'!C4","v":"2018-06-13"},null,{"$f":"'Sheet3 (2)'!C5","v":"2018-06-12"},null,{"$f":"'Sheet3 (2)'!C6","v":"2018-06-11"},null,{"$f":"'Sheet3 (2)'!C7","v":"2018-06-08"},null,{"$f":"'Sheet3 (2)'!C8","v":"2018-06-07"},null,{"$f":"'Sheet3 (2)'!C9","v":"2018-06-06"},null,{"$f":"'Sheet3 (2)'!C10","v":"2018-06-05"}]
[null,null,null,{"$f":"LOOKUP(2,1/(ISNUMBER(D1:D66)),D1:D66)","v":-0.78683397423768942},null,{"$f":"LOOKUP(2,1/(ISNUMBER(F1:F66)),F1:F66)","v":-0.70148726992788313},null,{"$f":"LOOKUP(2,1/(ISNUMBER(H1:H81)),H1:H81)","v":4.4646101665056892E-2},null,{"$f":"LOOKUP(2,1/(ISNUMBER(J1:J81)),J1:J81)","v":0.80085860010139365},null,{"$f":"LOOKUP(2,1/(ISNUMBER(L1:L81)),L1:L81)","v":0.15566521747397466},null,{"$f":"LOOKUP(2,1/(ISNUMBER(N1:N81)),N1:N81)","v":-0.17075290158018566},null,{"$f":"LOOKUP(2,1/(ISNUMBER(P1:P81)),P1:P81)","v":0.72049885912411149},null,{"$f":"LOOKUP(2,1/(ISNUMBER(R1:R81)),R1:R81)","v":0.49137649872994671},null,{"$f":"LOOKUP(2,1/(ISNUMBER(T1:T81)),T1:T81)","v":-6.5154555873714257E-2}]
[]
[null,null,{"$f":"RANK(D85,$D$85:$D$93,0)+COUNTIF($D$85:D85,D85)-1","v":9},{"$f":"D83","v":-0.78683397423768942},{"$f":"D82","v":"2018-06-15"},{"$f":"RANK(D85,$D$85:$D$93,0)+COUNTIF($D$85:D85,D85)-1","v":9},{"$f":"VLOOKUP(1,C85:E93,3,FALSE)","v":"2018-06-12"},{"$f":"VLOOKUP(1,C85:E93,2,FALSE)","v":0.80085860010139365},{"$f":"IFERROR(VLOOKUP(G85,'Sheet3 (2)'!AK1:AN10,4,FALSE),1)","v":4}]
[null,null,{"$f":"RANK(D86,$D$85:$D$93,0)+COUNTIF($D$85:D86,D86)-1","v":8},{"$f":"F83","v":-0.70148726992788313},{"$f":"F82","v":"2018-06-14"},{"$f":"RANK(D86,$D$85:$D$93,0)+COUNTIF($D$85:D86,D86)-1","v":8},{"$f":"VLOOKUP(2,C85:E93,3,FALSE)","v":"2018-06-07"},{"$f":"VLOOKUP(2,C85:E93,2,FALSE)","v":0.72049885912411149}]
[null,null,{"$f":"RANK(D87,$D$85:$D$93,0)+COUNTIF($D$85:D87,D87)-1","v":5},{"$f":"H83","v":4.4646101665056892E-2},{"$f":"H82","v":"2018-06-13"},{"$f":"RANK(D87,$D$85:$D$93,0)+COUNTIF($D$85:D87,D87)-1","v":5},{"$f":"VLOOKUP(3,C85:E93,3,FALSE)","v":"2018-06-06"},{"$f":"VLOOKUP(3,C85:E93,2,FALSE)","v":0.49137649872994671}]
[null,null,{"$f":"RANK(D88,$D$85:$D$93,0)+COUNTIF($D$85:D88,D88)-1","v":1},{"$f":"J83","v":0.80085860010139365},{"$f":"J82","v":"2018-06-12"},{"$f":"RANK(D88,$D$85:$D$93,0)+COUNTIF($D$85:D88,D88)-1","v":1},{"$f":"VLOOKUP(4,C85:E93,3,FALSE)","v":"2018-06-11"},{"$f":"VLOOKUP(4,C85:E93,2,FALSE)","v":0.15566521747397466}]
[null,null,{"$f":"RANK(D89,$D$85:$D$93,0)+COUNTIF($D$85:D89,D89)-1","v":4},{"$f":"L83","v":0.15566521747397466},{"$f":"L82","v":"2018-06-11"},{"$f":"RANK(D89,$D$85:$D$93,0)+COUNTIF($D$85:D89,D89)-1","v":4},{"$f":"VLOOKUP(5,C85:E93,3,FALSE)","v":"2018-06-13"},{"$f":"VLOOKUP(5,C85:E93,2,FALSE)","v":4.4646101665056892E-2}]
[null,null,{"$f":"RANK(D90,$D$85:$D$93,0)+COUNTIF($D$85:D90,D90)-1","v":7},{"$f":"N83","v":-0.17075290158018566},{"$f":"N82","v":"2018-06-08"},{"$f":"RANK(D90,$D$85:$D$93,0)+COUNTIF($D$85:D90,D90)-1","v":7},{"$f":"VLOOKUP(6,C85:E93,3,FALSE)","v":"2018-06-05"},{"$f":"VLOOKUP(6,C85:E93,2,FALSE)","v":-6.5154555873714257E-2}]
[null,null,{"$f":"RANK(D91,$D$85:$D$93,0)+COUNTIF($D$85:D91,D91)-1","v":2},{"$f":"P83","v":0.72049885912411149},{"$f":"P82","v":"2018-06-07"},{"$f":"RANK(D91,$D$85:$D$93,0)+COUNTIF($D$85:D91,D91)-1","v":2},{"$f":"VLOOKUP(7,C85:E93,3,FALSE)","v":"2018-06-08"},{"$f":"VLOOKUP(7,C85:E93,2,FALSE)","v":-0.17075290158018566}]
[null,null,{"$f":"RANK(D92,$D$85:$D$93,0)+COUNTIF($D$85:D92,D92)-1","v":3},{"$f":"R83","v":0.49137649872994671},{"$f":"R82","v":"2018-06-06"},{"$f":"RANK(D92,$D$85:$D$93,0)+COUNTIF($D$85:D92,D92)-1","v":3},{"$f":"VLOOKUP(8,C85:E93,3,FALSE)","v":"2018-06-14"},{"$f":"VLOOKUP(8,C85:E93,2,FALSE)","v":-0.70148726992788313}]
[null,null,{"$f":"RANK(D93,$D$85:$D$93,0)+COUNTIF($D$85:D93,D93)-1","v":6},{"$f":"T83","v":-6.5154555873714257E-2},{"$f":"T82","v":"2018-06-05"},{"$f":"RANK(D93,$D$85:$D$93,0)+COUNTIF($D$85:D93,D93)-1","v":6},{"$f":"VLOOKUP(9,C85:E93,3,FALSE)","v":"2018-06-15"},{"$f":"VLOOKUP(9,C85:E93,2,FALSE)","v":-0.78683397423768942}]

{"sheet":"Sheet3 (3)","index":5,"n_rows":78,"n_cols":40,"rows_kept":78,"cut":false,"hidden":true,"merged":[]}
[144,"07:00:00",{"$f":"IF(WEEKDAY(TODAY())=7,TODAY()-1,IF(WEEKDAY(TODAY())=1,TODAY()-2,TODAY()))","v":"2018-06-18"},{"$f":"YEAR(C1)","v":2018},{"$f":"MONTH(C1)","v":6},{"$f":"DAY(C1)","v":18},{"$f":"IF(RTD(\"cqg.rtd\",,\"StudyData\",$D$12,\"Bar\",,\"Time\",\"D\",\"-1\",,,,,\"T\")=C1,1,0)","v":0},{"$f":"RTD(\"cqg.rtd\",,\"StudyData\", \"Close(\"&$D$12&\") when LocalYear(\"&$D$12&\")=\"&$D$1&\" and localMonth(\"&$D$12&\") =\"&$E$1&\" and LocalDay(\"&$D$12&\")=\"&$F$1&\" and Barix(\"&$D$12&\",reference:=StartOfDay)=\"&A1&\"\", \"Bar\", \"\", \"Close\",\"5\",\"0\",\"All\",,,\"False\",\"T\",\"EveryTick\")","v":903.25},{"$f":"IFERROR((H1-$G$2)/$G$2,NA())","v":-2.4848150193263392E-3},{"$f":"RTD(\"cqg.rtd\",,\"StudyData\", \"Close(\"&$D$12&\") when LocalYear(\"&$D$12&\")=\"&$D$2&\" and localMonth(\"&$D$12&\") =\"&$E$2&\" and LocalDay(\"&$D$12&\")=\"&$F$2&\" and Barix(\"&$D$12&\",reference:=StartOfDay)=\"&A1&\"\", \"Bar\", \"\", \"Close\",\"5\",\"0\",\"\",,,\"False\",\"T\",\"EveryTick\")","v":909.75},{"$f":"IFERROR((J1-$G$3)/$G$3,NA())","v":-1.8873011593421408E-2},{"$f":"RTD(\"cqg.rtd\",,\"StudyData\", \"Close(\"&$D$12&\") when LocalYear(\"&$D$12&\")=\"&$D$3&\" and localMonth(\"&$D$12&\") =\"&$E$3&\" and LocalDay(\"&$D$12&\")=\"&$F$3&\" and Barix(\"&$D$12&\",reference:=StartOfDay)=\"&A1&\"\", \"Bar\", \"\", \"Close\",\"5\",\"0\",\"\",,,\"False\",\"T\",\"EveryTick\")","v":932.75},{"$f":"IFERROR((L1-$G$4)/$G$4,NA())","v":-3.472222222222222E-3},{"$f":"RTD(\"cqg.rtd\",,\"StudyData\", \"Close(\"&$D$12&\") when LocalYear(\"&$D$12&\")=\"&$D$4&\" and localMonth(\"&$D$12&\") =\"&$E$4&\" and LocalDay(\"&$D$12&\")=\"&$F$4&\" and Barix(\"&$D$12&\",reference:=StartOfDay)=\"&A1&\"\", \"Bar\", \"\", \"Close\",\"5\",\"0\",\"\",,,\"False\",\"T\",\"EveryTick\")","v":945},{"$f":"IFERROR((N1-$G$5)/$G$5,NA())","v":-9.433962264150943E-3},{"$f":"RTD(\"cqg.rtd\",,\"StudyData\", \"Close(\"&$D$12&\") when LocalYear(\"&$D$12&\")=\"&$D$5&\" and localMonth(\"&$D$12&\") =\"&$E$5&\" and LocalDay(\"&$D$12&\")=\"&$F$5&\" and Barix(\"&$D$12&\",reference:=StartOfDay)=\"&A1&\"\", \"Bar\", \"\", \"Close\",\"5\",\"0\",\"\",,,\"False\",\"T\",\"EveryTick\")","v":956.75},{"$f":"IFERROR((P1-$G$6)/$G$6,NA())","v":3.1454783748361731E-3},{"$f":"RTD(\"cqg.rtd\",,\"StudyData\", \"Close(\"&$D$12&\") when LocalYear(\"&$D$12&\")=\"&$D$6&\" and localMonth(\"&$D$12&\") =\"&$E$6&\" and LocalDay(\"&$D$12&\")=\"&$F$6&\" and Barix(\"&$D$12&\",reference:=StartOfDay)=\"&A1&\"\", \"Bar\", \"\", \"Close\",\"5\",\"0\",\"\",,,\"False\",\"T\",\"EveryTick\")","v":969},{"$f":"IFERROR((R1-$G$7)/$G$7,NA())","v":-2.5793139025019347E-4},{"$f":"RTD(\"cqg.rtd\",,\"StudyData\", \"Close(\"&$D$12&\") when LocalYear(\"&$D$12&\")=\"&$D$7&\" and localMonth(\"&$D$12&\") =\"&$E$7&\" and LocalDay(\"&$D$12&\")=\"&$F$7&\" and Barix(\"&$D$12&\",reference:=StartOfDay)=\"&A1&\"\", \"Bar\", \"\", \"Close\",\"5\",\"0\",\"\",,,\"False\",\"T\",\"EveryTick\")","v":967},{"$f":"IFERROR((T1-$G$8)/$G$8,NA())","v":-7.441621760328458E-3},{"$f":"RTD(\"cqg.rtd\",,\"StudyData\", \"Close(\"&$D$12&\") when LocalYear(\"&$D$12&\")=\"&$D$8&\" and localMonth(\"&$D$12&\") =\"&$E$8&\" and LocalDay(\"&$D$12&\")=\"&$F$8&\" and Barix(\"&$D$12&\",reference:=StartOfDay)=\"&A1&\"\", \"Bar\", \"\", \"Close\",\"5\",\"0\",\"\",,,\"False\",\"T\",\"EveryTick\")","v":995.5},{"$f":"IFERROR((V1-$G$9)/$G$9,NA())","v":1.2572290671360321E-3},{"$f":"RTD(\"cqg.rtd\",,\"StudyData\", \"Close(\"&$D$12&\") when LocalYear(\"&$D$12&\")=\"&$D$9&\" and localMonth(\"&$D$12&\") =\"&$E$9&\" and LocalDay(\"&$D$12&\")=\"&$F$9&\" and Barix(\"&$D$12&\",reference:=StartOfDay)=\"&A1&\"\", \"Bar\", \"\", \"Close\",\"5\",\"0\",\"\",,,\"False\",\"T\",\"EveryTick\")","v":1002.25},{"$f":"IFERROR((X1-$G$10)/$G$10,NA())","v":9.9875156054931333E-4},{"$f":"RTD(\"cqg.rtd\",,\"StudyData\", \"Close(\"&$D$12&\") when LocalYear(\"&$D$12&\")=\"&$D$10&\" and localMonth(\"&$D$12&\") =\"&$E$10&\" and LocalDay(\"&$D$12&\")=\"&$F$10&\" and Barix(\"&$D$12&\",reference:=StartOfDay)=\"&A1&\"\", \"Bar\", \"\", \"Close\",\"5\",\"0\",\"\",,,\"False\",\"T\",\"EveryTick\")","v":1001.75},{"$f":"IFERROR((Z1-$G$11)/$G$11,NA())","v":0},{"$f":"RANK(AD1,$AD$1:$AD$10)+COUNTIF($AD$1:AD1,AD1)-1","v":4},{"$f":"DATE(D1,E1,F1)","v":"2018-06-18"},{"$f":"VLOOKUP(MAX(AE2:AE67),A1:I67,9,FALSE)","v":-8.2827167310877965E-4},null,1,{"$f":"VLOOKUP(AF1,$AB$1:$AD$10,2,FALSE)","v":"2018-06-06"},{"$f":"VLOOKUP(AF1,$AB$1:$AD$10,3,FALSE)","v":7.4906367041198505E-4},null,null,{"$f":"AG1","v":"2018-06-06"},{"$f":"AC1","v":"2018-06-18"},0,{"$f":"VLOOKUP(AK1,$AL$1:$AM$10,2,FALSE)","v":8}]
[{"$f":"A1+1","v":145},{"$f":"B1+0.00347222222222227","v":"07:05:00"},{"$f":"WORKDAY(C1,-G27)","v":"2018-06-15"},{"$f":"YEAR(C2)","v":2018},{"$f":"MONTH(C2)","v":6},{"$f":"DAY(C2)","v":15},{"$f":"IF($G$1=0,RTD(\"cqg.rtd\",,\"StudyData\",$D$12,\"Bar\",,\"Close\",\"D\",\"-1\",\"PrimaryOnly\",,,,\"T\"),RTD(\"cqg.rtd\",,\"StudyData\",$D$12,\"Bar\",,\"Close\",\"D\",\"-2\",\"PrimaryOnly\",,,,\"T\"))","v":905.5},{"$f":"RTD(\"cqg.rtd\",,\"StudyData\", \"Close(\"&$D$12&\") when LocalYear(\"&$D$12&\")=\"&$D$1&\" and localMonth(\"&$D$12&\") =\"&$E$1&\" and LocalDay(\"&$D$12&\")=\"&$F$1&\" and Barix(\"&$D$12&\",reference:=StartOfDay)=\"&A2&\"\", \"Bar\", \"\", \"Close\",\"5\",\"0\",,,,\"False\",\"T\",\"EveryTick\")","v":903.75},{"$f":"IFERROR((H2-$G$2)/$G$2,NA())","v":-1.932633903920486E-3},{"$f":"RTD(\"cqg.rtd\",,\"StudyData\", \"Close(\"&$D$12&\") when LocalYear(\"&$D$12&\")=\"&$D$2&\" and localMonth(\"&$D$12&\") =\"&$E$2&\" and LocalDay(\"&$D$12&\")=\"&$F$2&\" and Barix(\"&$D$12&\",reference:=StartOfDay)=\"&A2&\"\", \"Bar\", \"\", \"Close\",\"5\",\"0\",\"\",,,\"False\",\"T\",\"EveryTick\")","v":909.5},{"$f":"IFERROR((J2-$G$3)/$G$3,NA())","v":-1.9142626044756E-2},{"$f":"RTD(\"cqg.rtd\",,\"StudyData\", \"Close(\"&$D$12&\") when LocalYear(\"&$D$12&\")=\"&$D$3&\" and localMonth(\"&$D$12&\") =\"&$E$3&\" and LocalDay(\"&$D$12&\")=\"&$F$3&\" and Barix(\"&$D$12&\",reference:=StartOfDay)=\"&A2&\"\", \"Bar\", \"\", \"Close\",\"5\",\"0\",\"\",,,\"False\",\"T\",\"EveryTick\")","v":932.5},{"$f":"IFERROR((L2-$G$4)/$G$4,NA())","v":-3.7393162393162395E-3},{"$f":"RTD(\"cqg.rtd\",,\"StudyData\", \"Close(\"&$D$12&\") when LocalYear(\"&$D$12&\")=\"&$D$4&\" and localMonth(\"&$D$12&\") =\"&$E$4&\" and LocalDay(\"&$D$12&\")=\"&$F$4&\" and Barix(\"&$D$12&\",reference:=StartOfDay)=\"&A2&\"\", \"Bar\", \"\", \"Close\",\"5\",\"0\",\"\",,,\"False\",\"T\",\"EveryTick\")","v":945.25},{"$f":"IFERROR((N2-$G$5)/$G$5,NA())","v":-9.1719077568134175E-3},{"$f":"RTD(\"cqg.rtd\",,\"StudyData\", \"Close(\"&$D$12&\") when LocalYear(\"&$D$12&\")=\"&$D$5&\" and localMonth(\"&$D$12&\") =\"&$E$5&\" and LocalDay(\"&$D$12&\")=\"&$F$5&\" and Barix(\"&$D$12&\",reference:=StartOfDay)=\"&A2&\"\", \"Bar\", \"\", \"Close\",\"5\",\"0\",\"\",,,\"False\",\"T\",\"EveryTick\")","v":957.25},{"$f":"IFERROR((P2-$G$6)/$G$6,NA())","v":3.669724770642202E-3},{"$f":"RTD(\"cqg.rtd\",,\"StudyData\", \"Close(\"&$D$12&\") when LocalYear(\"&$D$12&\")=\"&$D$6&\" and localMonth(\"&$D$12&\") =\"&$E$6&\" and LocalDay(\"&$D$12&\")=\"&$F$6&\" and Barix(\"&$D$12&\",reference:=StartOfDay)=\"&A2&\"\", \"Bar\", \"\", \"Close\",\"5\",\"0\",\"\",,,\"False\",\"T\",\"EveryTick\")","v":967.5},{"$f":"IFERROR((R2-$G$7)/$G$7,NA())","v":-1.8055197317513542E-3},{"$f":"RTD(\"cqg.rtd\",,\"StudyData\", \"Close(\"&$D$12&\") when LocalYear(\"&$D$12&\")=\"&$D$7&\" and localMonth(\"&$D$12&\") =\"&$E$7&\" and LocalDay(\"&$D$12&\")=\"&$F$7&\" and Barix(\"&$D$12&\",reference:=StartOfDay)=\"&A2&\"\", \"Bar\", \"\", \"Close\",\"5\",\"0\",\"\",,,\"False\",\"T\",\"EveryTick\")","v":968},{"$f":"IFERROR((T2-$G$8)/$G$8,NA())","v":-6.4151911726969468E-3},{"$f":"RTD(\"cqg.rtd\",,\"StudyData\", \"Close(\"&$D$12&\") when LocalYear(\"&$D$12&\")=\"&$D$8&\" and localMonth(\"&$D$12&\") =\"&$E$8&\" and LocalDay(\"&$D$12&\")=\"&$F$8&\" and Barix(\"&$D$12&\",reference:=StartOfDay)=\"&A2&\"\", \"Bar\", \"\", \"Close\",\"5\",\"0\",\"\",,,\"False\",\"T\",\"EveryTick\")","v":998},{"$f":"IFERROR((V2-$G$9)/$G$9,NA())","v":3.7716872014080965E-3},{"$f":"RTD(\"cqg.rtd\",,\"StudyData\", \"Close(\"&$D$12&\") when LocalYear(\"&$D$12&\")=\"&$D$9&\" and localMonth(\"&$D$12&\") =\"&$E$9&\" and LocalDay(\"&$D$12&\")=\"&$F$9&\" and Barix(\"&$D$12&\",reference:=StartOfDay)=\"&A2&\"\", \"Bar\", \"\", \"Close\",\"5\",\"0\",\"\",,,\"False\",\"T\",\"EveryTick\")","v":1002.5},{"$f":"IFERROR((X2-$G$10)/$G$10,NA())","v":1.2484394506866417E-3},{"$f":"RTD(\"cqg.rtd\",,\"StudyData\", \"Close(\"&$D$12&\") when LocalYear(\"&$D$12&\")=\"&$D$10&\" and localMonth(\"&$D$12&\") =\"&$E$10&\" and LocalDay(\"&$D$12&\")=\"&$F$10&\" and Barix(\"&$D$12&\",reference:=StartOfDay)=\"&A2&\"\", \"Bar\", \"\", \"Close\",\"5\",\"0\",\"\",,,\"False\",\"T\",\"EveryTick\")","v":1002.5},{"$f":"IFERROR((Z2-$G$11)/$G$11,NA())","v":7.4868979286249059E-4},{"$f":"RANK(AD2,$AD$1:$AD$10)+COUNTIF($AD$1:AD2,AD2)-1","v":9},{"$f":"DATE(D2,E2,F2)","v":"2018-06-15"},{"$f":"VLOOKUP(MAX(AE2:AE67),A1:K67,11,FALSE)","v":-1.1863035858722027E-2},{"$f":"IF(AND(H1<>\"\",H2<>\"\",H3=\"\"),A2,\"\")","v":""},2,{"$f":"VLOOKUP(AF2,$AB$1:$AD$10,2,FALSE)","v":"2018-06-12"},{"$f":"VLOOKUP(AF2,$AB$1:$AD$10,3,FALSE)","v":0},null,null,{"$f":"AG2","v":"2018-06-12"},{"$f":"AC2","v":"2018-06-15"},1,{"$f":"VLOOKUP(AK2,$AL$1:$AM$10,2,FALSE)","v":4}]
[{"$f":"A2+1","v":146},{"$f":"B2+0.00347222222222227","v":"07:10:00"},{"$f":"WORKDAY(C2,-G28)","v":"2018-06-14"},2018,6,14,{"$f":"IF(G1=0,RTD(\"cqg.rtd\",,\"StudyData\",$D$12,\"Bar\",,\"Close\",\"D\",\"-2\",\"PrimaryOnly\",,,,\"T\"),RTD(\"cqg.rtd\",,\"StudyData\",$D$12,\"Bar\",,\"Close\",\"D\",\"-3\",\"PrimaryOnly\",,,,\"T\"))","v":927.25},{"$f":"RTD(\"cqg.rtd\",,\"StudyData\", \"Close(\"&$D$12&\") when LocalYear(\"&$D$12&\")=\"&$D$1&\" and localMonth(\"&$D$12&\") =\"&$E$1&\" and LocalDay(\"&$D$12&\")=\"&$F$1&\" and Barix(\"&$D$12&\",reference:=StartOfDay)=\"&A3&\"\", \"Bar\", \"\", \"Close\",\"5\",\"0\",\"\",,,\"False\",\"T\",\"EveryTick\")","v":904},{"$f":"IFERROR((H3-$G$2)/$G$2,NA())","v":-1.6565433462175593E-3},{"$f":"RTD(\"cqg.rtd\",,\"StudyData\", \"Close(\"&$D$12&\") when LocalYear(\"&$D$12&\")=\"&$D$2&\" and localMonth(\"&$D$12&\") =\"&$E$2&\" and LocalDay(\"&$D$12&\")=\"&$F$2&\" and Barix(\"&$D$12&\",reference:=StartOfDay)=\"&A3&\"\", \"Bar\", \"\", \"Close\",\"5\",\"0\",\"\",,,\"False\",\"T\",\"EveryTick\")","v":908.5},-2.0221083850094364E-2,{"$f":"RTD(\"cqg.rtd\",,\"StudyData\", \"Close(\"&$D$12&\") when LocalYear(\"&$D$12&\")=\"&$D$3&\" and localMonth(\"&$D$12&\") =\"&$E$3&\" and LocalDay(\"&$D$12&\")=\"&$F$3&\" and Barix(\"&$D$12&\",reference:=StartOfDay)=\"&A3&\"\", \"Bar\", \"\", \"Close\",\"5\",\"0\",\"\",,,\"False\",\"T\",\"EveryTick\")","v":933.5},-2.670940170940171E-3,{"$f":"RTD(\"cqg.rtd\",,\"StudyData\", \"Close(\"&$D$12&\") when LocalYear(\"&$D$12&\")=\"&$D$4&\" and localMonth(\"&$D$12&\") =\"&$E$4&\" and LocalDay(\"&$D$12&\")=\"&$F$4&\" and Barix(\"&$D$12&\",reference:=StartOfDay)=\"&A3&\"\", \"Bar\", \"\", \"Close\",\"5\",\"0\",\"\",,,\"False\",\"T\",\"EveryTick\")","v":945},-9.433962264150943E-3,{"$f":"RTD(\"cqg.rtd\",,\"StudyData\", \"Close(\"&$D$12&\") when LocalYear(\"&$D$12&\")=\"&$D$5&\" and localMonth(\"&$D$12&\") =\"&$E$5&\" and LocalDay(\"&$D$12&\")=\"&$F$5&\" and Barix(\"&$D$12&\",reference:=StartOfDay)=\"&A3&\"\", \"Bar\", \"\", \"Close\",\"5\",\"0\",\"\",,,\"False\",\"T\",\"EveryTick\")","v":957.25},3.669724770642202E-3,{"$f":"RTD(\"cqg.rtd\",,\"StudyData\", \"Close(\"&$D$12&\") when LocalYear(\"&$D$12&\")=\"&$D$6&\" and localMonth(\"&$D$12&\") =\"&$E$6&\" and LocalDay(\"&$D$12&\")=\"&$F$6&\" and Barix(\"&$D$12&\",reference:=StartOfDay)=\"&A3&\"\", \"Bar\", \"\", \"Close\",\"5\",\"0\",\"\",,,\"False\",\"T\",\"EveryTick\")","v":968},-1.2896569512509672E-3,{"$f":"RTD(\"cqg.rtd\",,\"StudyData\", \"Close(\"&$D$12&\") when LocalYear(\"&$D$12&\")=\"&$D$7&\" and localMonth(\"&$D$12&\") =\"&$E$7&\" and LocalDay(\"&$D$12&\")=\"&$F$7&\" and Barix(\"&$D$12&\",reference:=StartOfDay)=\"&A3&\"\", \"Bar\", \"\", \"Close\",\"5\",\"0\",\"\",,,\"False\",\"T\",\"EveryTick\")","v":968.75},-5.6453682319733125E-3,{"$f":"RTD(\"cqg.rtd\",,\"StudyData\", \"Close(\"&$D$12&\") when LocalYear(\"&$D$12&\")=\"&$D$8&\" and localMonth(\"&$D$12&\") =\"&$E$8&\" and LocalDay(\"&$D$12&\")=\"&$F$8&\" and Barix(\"&$D$12&\",reference:=StartOfDay)=\"&A3&\"\", \"Bar\", \"\", \"Close\",\"5\",\"0\",\"\",,,\"False\",\"T\",\"EveryTick\")","v":997.25},3.0173497611264773E-3,{"$f":"RTD(\"cqg.rtd\",,\"StudyData\", \"Close(\"&$D$12&\") when LocalYear(\"&$D$12&\")=\"&$D$9&\" and localMonth(\"&$D$12&\") =\"&$E$9&\" and LocalDay(\"&$D$12&\")=\"&$F$9&\" and Barix(\"&$D$12&\",reference:=StartOfDay)=\"&A3&\"\", \"Bar\", \"\", \"Close\",\"5\",\"0\",\"\",,,\"False\",\"T\",\"EveryTick\")","v":1002.25},9.9875156054931333E-4,{"$f":"RTD(\"cqg.rtd\",,\"StudyData\", \"Close(\"&$D$12&\") when LocalYear(\"&$D$12&\")=\"&$D$10&\" and localMonth(\"&$D$12&\") =\"&$E$10&\" and LocalDay(\"&$D$12&\")=\"&$F$10&\" and Barix(\"&$D$12&\",reference:=StartOfDay)=\"&A3&\"\", \"Bar\", \"\", \"Close\",\"5\",\"0\",\"\",,,\"False\",\"T\",\"EveryTick\")","v":1002.5},7.4868979286249059E-4,{"$f":"RANK(AD3,$AD$1:$AD$10)+COUNTIF($AD$1:AD3,AD3)-1","v":7},"2018-06-14",{"$f":"VLOOKUP(MAX(AE2:AE67),A1:M67,13,FALSE)","v":-7.745726495726496E-3},{"$f":"IF(AND(H2<>\"\",H3<>\"\",H4=\"\"),A3,\"\")","v":""},3,"2018-06-08",-2.5660764690787786E-4,null,null,"2018-06-08","2018-06-14",2,6]
[147,"07:15:00","2018-06-13",2018,6,13,{"$f":"IF(G1=0,RTD(\"cqg.rtd\",,\"StudyData\",$D$12,\"Bar\",,\"Close\",\"D\",\"-3\",\"PrimaryOnly\",,,,\"T\"),RTD(\"cqg.rtd\",,\"StudyData\",$D$12,\"Bar\",,\"Close\",\"D\",\"-4\",\"PrimaryOnly\",,,,\"T\"))","v":936},{"$f":"RTD(\"cqg.rtd\",,\"StudyData\", \"Close(\"&$D$12&\") when LocalYear(\"&$D$12&\")=\"&$D$1&\" and localMonth(\"&$D$12&\") =\"&$E$1&\" and LocalDay(\"&$D$12&\")=\"&$F$1&\" and Barix(\"&$D$12&\",reference:=StartOfDay)=\"&A4&\"\", \"Bar\", \"\", \"Close\",\"5\",\"0\",\"\",,,\"False\",\"T\",\"EveryTick\")","v":904},-1.6565433462175593E-3,{"$f":"RTD(\"cqg.rtd\",,\"StudyData\", \"Close(\"&$D$12&\") when LocalYear(\"&$D$12&\")=\"&$D$2&\" and localMonth(\"&$D$12&\") =\"&$E$2&\" and LocalDay(\"&$D$12&\")=\"&$F$2&\" and Barix(\"&$D$12&\",reference:=StartOfDay)=\"&A4&\"\", \"Bar\", \"\", \"Close\",\"5\",\"0\",\"\",,,\"False\",\"T\",\"EveryTick\")","v":910},-1.8603397142086815E-2,{"$f":"RTD(\"cqg.rtd\",,\"StudyData\", \"Close(\"&$D$12&\") when LocalYear(\"&$D$12&\")=\"&$D$3&\" and localMonth(\"&$D$12&\") =\"&$E$3&\" and LocalDay(\"&$D$12&\")=\"&$F$3&\" and Barix(\"&$D$12&\",reference:=StartOfDay)=\"&A4&\"\", \"Bar\", \"\", \"Close\",\"5\",\"0\",\"\",,,\"False\",\"T\",\"EveryTick\")","v":933.5},-2.670940170940171E-3,{"$f":"RTD(\"cqg.rtd\",,\"StudyData\", \"Close(\"&$D$12&\") when LocalYear(\"&$D$12&\")=\"&$D$4&\" and localMonth(\"&$D$12&\") =\"&$E$4&\" and LocalDay(\"&$D$12&\")=\"&$F$4&\" and Barix(\"&$D$12&\",reference:=StartOfDay)=\"&A4&\"\", \"Bar\", \"\", \"Close\",\"5\",\"0\",\"\",,,\"False\",\"T\",\"EveryTick\")","v":945},-9.433962264150943E-3,{"$f":"RTD(\"cqg.rtd\",,\"StudyData\", \"Close(\"&$D$12&\") when LocalYear(\"&$D$12&\")=\"&$D$5&\" and localMonth(\"&$D$12&\") =\"&$E$5&\" and LocalDay(\"&$D$12&\")=\"&$F$5&\" and Barix(\"&$D$12&\",reference:=StartOfDay)=\"&A4&\"\", \"Bar\", \"\", \"Close\",\"5\",\"0\",\"\",,,\"False\",\"T\",\"EveryTick\")","v":957.25},3.669724770642202E-3,{"$f":"RTD(\"cqg.rtd\",,\"StudyData\", \"Close(\"&$D$12&\") when LocalYear(\"&$D$12&\")=\"&$D$6&\" and localMonth(\"&$D$12&\") =\"&$E$6&\" and LocalDay(\"&$D$12&\")=\"&$F$6&\" and Barix(\"&$D$12&\",reference:=StartOfDay)=\"&A4&\"\", \"Bar\", \"\", \"Close\",\"5\",\"0\",\"\",,,\"False\",\"T\",\"EveryTick\")","v":967.5},-1.8055197317513542E-3,{"$f":"RTD(\"cqg.rtd\",,\"StudyData\", \"Close(\"&$D$12&\") when LocalYear(\"&$D$12&\")=\"&$D$7&\" and localMonth(\"&$D$12&\") =\"&$E$7&\" and LocalDay(\"&$D$12&\")=\"&$F$7&\" and Barix(\"&$D$12&\",reference:=StartOfDay)=\"&A4&\"\", \"Bar\", \"\", \"Close\",\"5\",\"0\",\"\",,,\"False\",\"T\",\"EveryTick\")","v":968.5},-5.9019758788811903E-3,{"$f":"RTD(\"cqg.rtd\",,\"StudyData\", \"Close(\"&$D$12&\") when LocalYear(\"&$D$12&\")=\"&$D$8&\" and localMonth(\"&$D$12&\") =\"&$E$8&\" and LocalDay(\"&$D$12&\")=\"&$F$8&\" and Barix(\"&$D$12&\",reference:=StartOfDay)=\"&A4&\"\", \"Bar\", \"\", \"Close\",\"5\",\"0\",\"\",,,\"False\",\"T\",\"EveryTick\")","v":996.25},2.0115665074176515E-3,{"$f":"RTD(\"cqg.rtd\",,\"StudyData\", \"Close(\"&$D$12&\") when LocalYear(\"&$D$12&\")=\"&$D$9&\" and localMonth(\"&$D$12&\") =\"&$E$9&\" and LocalDay(\"&$D$12&\")=\"&$F$9&\" and Barix(\"&$D$12&\",reference:=StartOfDay)=\"&A4&\"\", \"Bar\", \"\", \"Close\",\"5\",\"0\",\"\",,,\"False\",\"T\",\"EveryTick\")","v":1002.5},1.2484394506866417E-3,{"$f":"RTD(\"cqg.rtd\",,\"StudyData\", \"Close(\"&$D$12&\") when LocalYear(\"&$D$12&\")=\"&$D$10&\" and localMonth(\"&$D$12&\") =\"&$E$10&\" and LocalDay(\"&$D$12&\")=\"&$F$10&\" and Barix(\"&$D$12&\",reference:=StartOfDay)=\"&A4&\"\", \"Bar\", \"\", \"Close\",\"5\",\"0\",\"\",,,\"False\",\"T\",\"EveryTick\")","v":1002.5},7.4868979286249059E-4,{"$f":"RANK(AD4,$AD$1:$AD$10)+COUNTIF($AD$1:AD4,AD4)-1","v":10},"2018-06-13",{"$f":"VLOOKUP(MAX(AE2:AE67),A1:O67,15,FALSE)","v":-1.7033542976939202E-2},"",4,"2018-06-18",-8.2827167310877965E-4,null,null,"2018-06-18","2018-06-13",3,0]
[148,"07:20:00","2018-06-12",2018,6,12,{"$f":"IF(G1=0,RTD(\"cqg.rtd\",,\"StudyData\",$D$12,\"Bar\",,\"Close\",\"D\",\"-4\",\"PrimaryOnly\",,,,\"T\"),RTD(\"cqg.rtd\",,\"StudyData\",$D$12,\"Bar\",,\"Close\",\"D\",\"-5\",\"PrimaryOnly\",,,,\"T\"))","v":954},{"$f":"RTD(\"cqg.rtd\",,\"StudyData\", \"Close(\"&$D$12&\") when LocalYear(\"&$D$12&\")=\"&$D$1&\" and localMonth(\"&$D$12&\") =\"&$E$1&\" and LocalDay(\"&$D$12&\")=\"&$F$1&\" and Barix(\"&$D$12&\",reference:=StartOfDay)=\"&A5&\"\", \"Bar\", \"\", \"Close\",\"5\",\"0\",\"\",,,\"False\",\"T\",\"EveryTick\")","v":903.75},-1.932633903920486E-3,{"$f":"RTD(\"cqg.rtd\",,\"StudyData\", \"Close(\"&$D$12&\") when LocalYear(\"&$D$12&\")=\"&$D$2&\" and localMonth(\"&$D$12&\") =\"&$E$2&\" and LocalDay(\"&$D$12&\")=\"&$F$2&\" and Barix(\"&$D$12&\",reference:=StartOfDay)=\"&A5&\"\", \"Bar\", \"\", \"Close\",\"5\",\"0\",\"\",,,\"False\",\"T\",\"EveryTick\")","v":908},-2.0760312752763549E-2,{"$f":"RTD(\"cqg.rtd\",,\"StudyData\", \"Close(\"&$D$12&\") when LocalYear(\"&$D$12&\")=\"&$D$3&\" and localMonth(\"&$D$12&\") =\"&$E$3&\" and LocalDay(\"&$D$12&\")=\"&$F$3&\" and Barix(\"&$D$12&\",reference:=StartOfDay)=\"&A5&\"\", \"Bar\", \"\", \"Close\",\"5\",\"0\",\"\",,,\"False\",\"T\",\"EveryTick\")","v":932.25},-4.0064102564102561E-3,{"$f":"RTD(\"cqg.rtd\",,\"StudyData\", \"Close(\"&$D$12&\") when LocalYear(\"&$D$12&\")=\"&$D$4&\" and localMonth(\"&$D$12&\") =\"&$E$4&\" and LocalDay(\"&$D$12&\")=\"&$F$4&\" and Barix(\"&$D$12&\",reference:=StartOfDay)=\"&A5&\"\", \"Bar\", \"\", \"Close\",\"5\",\"0\",\"\",,,\"False\",\"T\",\"EveryTick\")","v":945.5},-8.9098532494758902E-3,{"$f":"RTD(\"cqg.rtd\",,\"StudyData\", \"Close(\"&$D$12&\") when LocalYear(\"&$D$12&\")=\"&$D$5&\" and localMonth(\"&$D$12&\") =\"&$E$5&\" and LocalDay(\"&$D$12&\")=\"&$F$5&\" and Barix(\"&$D$12&\",reference:=StartOfDay)=\"&A5&\"\", \"Bar\", \"\", \"Close\",\"5\",\"0\",\"\",,,\"False\",\"T\",\"EveryTick\")","v":957.5},3.9318479685452159E-3,{"$f":"RTD(\"cqg.rtd\",,\"StudyData\", \"Close(\"&$D$12&\") when LocalYear(\"&$D$12&\")=\"&$D$6&\" and localMonth(\"&$D$12&\") =\"&$E$6&\" and LocalDay(\"&$D$12&\")=\"&$F$6&\" and Barix(\"&$D$12&\",reference:=StartOfDay)=\"&A5&\"\", \"Bar\", \"\", \"Close\",\"5\",\"0\",\"\",,,\"False\",\"T\",\"EveryTick\")","v":967.5},-1.8055197317513542E-3,{"$f":"RTD(\"cqg.rtd\",,\"StudyData\", \"Close(\"&$D$12&\") when LocalYear(\"&$D$12&\")=\"&$D$7&\" and localMonth(\"&$D$12&\") =\"&$E$7&\" and LocalDay(\"&$D$12&\")=\"&$F$7&\" and Barix(\"&$D$12&\",reference:=StartOfDay)=\"&A5&\"\", \"Bar\", \"\", \"Close\",\"5\",\"0\",\"\",,,\"False\",\"T\",\"EveryTick\")","v":968.75},-5.6453682319733125E-3,{"$f":"RTD(\"cqg.rtd\",,\"StudyData\", \"Close(\"&$D$12&\") when LocalYear(\"&$D$12&\")=\"&$D$8&\" and localMonth(\"&$D$12&\") =\"&$E$8&\" and LocalDay(\"&$D$12&\")=\"&$F$8&\" and Barix(\"&$D$12&\",reference:=StartOfDay)=\"&A5&\"\", \"Bar\", \"\", \"Close\",\"5\",\"0\",\"\",,,\"False\",\"T\",\"EveryTick\")","v":996.25},2.0115665074176515E-3,{"$f":"RTD(\"cqg.rtd\",,\"StudyData\", \"Close(\"&$D$12&\") when LocalYear(\"&$D$12&\")=\"&$D$9&\" and localMonth(\"&$D$12&\") =\"&$E$9&\" and LocalDay(\"&$D$12&\")=\"&$F$9&\" and Barix(\"&$D$12&\",reference:=StartOfDay)=\"&A5&\"\", \"Bar\", \"\", \"Close\",\"5\",\"0\",\"\",,,\"False\",\"T\",\"EveryTick\")","v":1002.5},1.2484394506866417E-3,{"$f":"RTD(\"cqg.rtd\",,\"StudyData\", \"Close(\"&$D$12&\") when LocalYear(\"&$D$12&\")=\"&$D$10&\" and localMonth(\"&$D$12&\") =\"&$E$10&\" and LocalDay(\"&$D$12&\")=\"&$F$10&\" and Barix(\"&$D$12&\",reference:=StartOfDay)=\"&A5&\"\", \"Bar\", \"\", \"Close\",\"5\",\"0\",\"\",,,\"False\",\"T\",\"EveryTick\")","v":1002.75},9.9825305714998759E-4,{"$f":"RANK(AD5,$AD$1:$AD$10)+COUNTIF($AD$1:AD5,AD5)-1","v":2},"2018-06-12",{"$f":"VLOOKUP(MAX(AE2:AE67),A1:Q67,17,FALSE)","v":0},"",5,"2018-06-05",-1.9965061142999752E-3,null,null,"2018-06-05","2018-06-12",4,9]
[149,"07:25:00","2018-06-11",2018,6,11,{"$f":"IF(G1=0,RTD(\"cqg.rtd\",,\"StudyData\",$D$12,\"Bar\",,\"Close\",\"D\",\"-5\",\"PrimaryOnly\",,,,\"T\"),RTD(\"cqg.rtd\",,\"StudyData\",$D$12,\"Bar\",,\"Close\",\"D\",\"-6\",\"PrimaryOnly\",,,,\"T\"))","v":953.75},{"$f":"RTD(\"cqg.rtd\",,\"StudyData\", \"Close(\"&$D$12&\") when LocalYear(\"&$D$12&\")=\"&$D$1&\" and localMonth(\"&$D$12&\") =\"&$E$1&\" and LocalDay(\"&$D$12&\")=\"&$F$1&\" and Barix(\"&$D$12&\",reference:=StartOfDay)=\"&A6&\"\", \"Bar\", \"\", \"Close\",\"5\",\"0\",\"\",,,\"False\",\"T\",\"EveryTick\")","v":903.75},-1.932633903920486E-3,{"$f":"RTD(\"cqg.rtd\",,\"StudyData\", \"Close(\"&$D$12&\") when LocalYear(\"&$D$12&\")=\"&$D$2&\" and localMonth(\"&$D$12&\") =\"&$E$2&\" and LocalDay(\"&$D$12&\")=\"&$F$2&\" and Barix(\"&$D$12&\",reference:=StartOfDay)=\"&A6&\"\", \"Bar\", \"\", \"Close\",\"5\",\"0\",\"\",,,\"False\",\"T\",\"EveryTick\")","v":907.5},-2.1299541655432731E-2,{"$f":"RTD(\"cqg.rtd\",,\"StudyData\", \"Close(\"&$D$12&\") when LocalYear(\"&$D$12&\")=\"&$D$3&\" and localMonth(\"&$D$12&\") =\"&$E$3&\" and LocalDay(\"&$D$12&\")=\"&$F$3&\" and Barix(\"&$D$12&\",reference:=StartOfDay)=\"&A6&\"\", \"Bar\", \"\", \"Close\",\"5\",\"0\",\"\",,,\"False\",\"T\",\"EveryTick\")","v":932},-4.2735042735042739E-3,{"$f":"RTD(\"cqg.rtd\",,\"StudyData\", \"Close(\"&$D$12&\") when LocalYear(\"&$D$12&\")=\"&$D$4&\" and localMonth(\"&$D$12&\") =\"&$E$4&\" and LocalDay(\"&$D$12&\")=\"&$F$4&\" and Barix(\"&$D$12&\",reference:=StartOfDay)=\"&A6&\"\", \"Bar\", \"\", \"Close\",\"5\",\"0\",\"\",,,\"False\",\"T\",\"EveryTick\")","v":945.25},-9.1719077568134175E-3,{"$f":"RTD(\"cqg.rtd\",,\"StudyData\", \"Close(\"&$D$12&\") when LocalYear(\"&$D$12&\")=\"&$D$5&\" and localMonth(\"&$D$12&\") =\"&$E$5&\" and LocalDay(\"&$D$12&\")=\"&$F$5&\" and Barix(\"&$D$12&\",reference:=StartOfDay)=\"&A6&\"\", \"Bar\", \"\", \"Close\",\"5\",\"0\",\"\",,,\"False\",\"T\",\"EveryTick\")","v":957.5},3.9318479685452159E-3,{"$f":"RTD(\"cqg.rtd\",,\"StudyData\", \"Close(\"&$D$12&\") when LocalYear(\"&$D$12&\")=\"&$D$6&\" and localMonth(\"&$D$12&\") =\"&$E$6&\" and LocalDay(\"&$D$12&\")=\"&$F$6&\" and Barix(\"&$D$12&\",reference:=StartOfDay)=\"&A6&\"\", \"Bar\", \"\", \"Close\",\"5\",\"0\",\"\",,,\"False\",\"T\",\"EveryTick\")","v":966.75},-2.5793139025019345E-3,{"$f":"RTD(\"cqg.rtd\",,\"StudyData\", \"Close(\"&$D$12&\") when LocalYear(\"&$D$12&\")=\"&$D$7&\" and localMonth(\"&$D$12&\") =\"&$E$7&\" and LocalDay(\"&$D$12&\")=\"&$F$7&\" and Barix(\"&$D$12&\",reference:=StartOfDay)=\"&A6&\"\", \"Bar\", \"\", \"Close\",\"5\",\"0\",\"\",,,\"False\",\"T\",\"EveryTick\")","v":970.5},-3.8491147036181679E-3,{"$f":"RTD(\"cqg.rtd\",,\"StudyData\", \"Close(\"&$D$12&\") when LocalYear(\"&$D$12&\")=\"&$D$8&\" and localMonth(\"&$D$12&\") =\"&$E$8&\" and LocalDay(\"&$D$12&\")=\"&$F$8&\" and Barix(\"&$D$12&\",reference:=StartOfDay)=\"&A6&\"\", \"Bar\", \"\", \"Close\",\"5\",\"0\",\"\",,,\"False\",\"T\",\"EveryTick\")","v":995.75},1.5086748805632386E-3,{"$f":"RTD(\"cqg.rtd\",,\"StudyData\", \"Close(\"&$D$12&\") when LocalYear(\"&$D$12&\")=\"&$D$9&\" and localMonth(\"&$D$12&\") =\"&$E$9&\" and LocalDay(\"&$D$12&\")=\"&$F$9&\" and Barix(\"&$D$12&\",reference:=StartOfDay)=\"&A6&\"\", \"Bar\", \"\", \"Close\",\"5\",\"0\",\"\",,,\"False\",\"T\",\"EveryTick\")","v":1002},7.4906367041198505E-4,{"$f":"RTD(\"cqg.rtd\",,\"StudyData\", \"Close(\"&$D$12&\") when LocalYear(\"&$D$12&\")=\"&$D$10&\" and localMonth(\"&$D$12&\") =\"&$E$10&\" and LocalDay(\"&$D$12&\")=\"&$F$10&\" and Barix(\"&$D$12&\",reference:=StartOfDay)=\"&A6&\"\", \"Bar\", \"\", \"Close\",\"5\",\"0\",\"\",,,\"False\",\"T\",\"EveryTick\")","v":1003.25},1.4973795857249812E-3,{"$f":"RANK(AD6,$AD$1:$AD$10)+COUNTIF($AD$1:AD6,AD6)-1","v":8},"2018-06-11",{"$f":"VLOOKUP(MAX(AE2:AE67),A1:S67,19,FALSE)","v":-1.1348981171008512E-2},"",6,"2018-06-07",-4.7774704551169223E-3,null,null,"2018-06-07","2018-06-11",5,7]
[150,"07:30:00","2018-06-08",2018,6,8,{"$f":"IF(G1=0,RTD(\"cqg.rtd\",,\"StudyData\",$D$12,\"Bar\",,\"Close\",\"D\",\"-6\",\"PrimaryOnly\",,,,\"T\"),RTD(\"cqg.rtd\",,\"StudyData\",$D$12,\"Bar\",,\"Close\",\"D\",\"-7\",\"PrimaryOnly\",,,,\"T\"))","v":969.25},{"$f":"RTD(\"cqg.rtd\",,\"StudyData\", \"Close(\"&$D$12&\") when LocalYear(\"&$D$12&\")=\"&$D$1&\" and localMonth(\"&$D$12&\") =\"&$E$1&\" and LocalDay(\"&$D$12&\")=\"&$F$1&\" and Barix(\"&$D$12&\",reference:=StartOfDay)=\"&A7&\"\", \"Bar\", \"\", \"Close\",\"5\",\"0\",\"\",,,\"False\",\"T\",\"EveryTick\")","v":903.75},-1.932633903920486E-3,{"$f":"RTD(\"cqg.rtd\",,\"StudyData\", \"Close(\"&$D$12&\") when LocalYear(\"&$D$12&\")=\"&$D$2&\" and localMonth(\"&$D$12&\") =\"&$E$2&\" and LocalDay(\"&$D$12&\")=\"&$F$2&\" and Barix(\"&$D$12&\",reference:=StartOfDay)=\"&A7&\"\", \"Bar\", \"\", \"Close\",\"5\",\"0\",\"\",,,\"False\",\"T\",\"EveryTick\")","v":903.25},-2.5882987328120787E-2,{"$f":"RTD(\"cqg.rtd\",,\"StudyData\", \"Close(\"&$D$12&\") when LocalYear(\"&$D$12&\")=\"&$D$3&\" and localMonth(\"&$D$12&\") =\"&$E$3&\" and LocalDay(\"&$D$12&\")=\"&$F$3&\" and Barix(\"&$D$12&\",reference:=StartOfDay)=\"&A7&\"\", \"Bar\", \"\", \"Close\",\"5\",\"0\",\"\",,,\"False\",\"T\",\"EveryTick\")","v":933},-3.205128205128205E-3,{"$f":"RTD(\"cqg.rtd\",,\"StudyData\", \"Close(\"&$D$12&\") when LocalYear(\"&$D$12&\")=\"&$D$4&\" and localMonth(\"&$D$12&\") =\"&$E$4&\" and LocalDay(\"&$D$12&\")=\"&$F$4&\" and Barix(\"&$D$12&\",reference:=StartOfDay)=\"&A7&\"\", \"Bar\", \"\", \"Close\",\"5\",\"0\",\"\",,,\"False\",\"T\",\"EveryTick\")","v":945},-9.433962264150943E-3,{"$f":"RTD(\"cqg.rtd\",,\"StudyData\", \"Close(\"&$D$12&\") when LocalYear(\"&$D$12&\")=\"&$D$5&\" and localMonth(\"&$D$12&\") =\"&$E$5&\" and LocalDay(\"&$D$12&\")=\"&$F$5&\" and Barix(\"&$D$12&\",reference:=StartOfDay)=\"&A7&\"\", \"Bar\", \"\", \"Close\",\"5\",\"0\",\"\",,,\"False\",\"T\",\"EveryTick\")","v":957.75},4.1939711664482305E-3,{"$f":"RTD(\"cqg.rtd\",,\"StudyData\", \"Close(\"&$D$12&\") when LocalYear(\"&$D$12&\")=\"&$D$6&\" and localMonth(\"&$D$12&\") =\"&$E$6&\" and LocalDay(\"&$D$12&\")=\"&$F$6&\" and Barix(\"&$D$12&\",reference:=StartOfDay)=\"&A7&\"\", \"Bar\", \"\", \"Close\",\"5\",\"0\",\"\",,,\"False\",\"T\",\"EveryTick\")","v":966.75},-2.5793139025019345E-3,{"$f":"RTD(\"cqg.rtd\",,\"StudyData\", \"Close(\"&$D$12&\") when LocalYear(\"&$D$12&\")=\"&$D$7&\" and localMonth(\"&$D$12&\") =\"&$E$7&\" and LocalDay(\"&$D$12&\")=\"&$F$7&\" and Barix(\"&$D$12&\",reference:=StartOfDay)=\"&A7&\"\", \"Bar\", \"\", \"Close\",\"5\",\"0\",\"\",,,\"False\",\"T\",\"EveryTick\")","v":971.5},-2.8226841159866563E-3,{"$f":"RTD(\"cqg.rtd\",,\"StudyData\", \"Close(\"&$D$12&\") when LocalYear(\"&$D$12&\")=\"&$D$8&\" and localMonth(\"&$D$12&\") =\"&$E$8&\" and LocalDay(\"&$D$12&\")=\"&$F$8&\" and Barix(\"&$D$12&\",reference:=StartOfDay)=\"&A7&\"\", \"Bar\", \"\", \"Close\",\"5\",\"0\",\"\",,,\"False\",\"T\",\"EveryTick\")","v":996},1.760120693990445E-3,{"$f":"RTD(\"cqg.rtd\",,\"StudyData\", \"Close(\"&$D$12&\") when LocalYear(\"&$D$12&\")=\"&$D$9&\" and localMonth(\"&$D$12&\") =\"&$E$9&\" and LocalDay(\"&$D$12&\")=\"&$F$9&\" and Barix(\"&$D$12&\",reference:=StartOfDay)=\"&A7&\"\", \"Bar\", \"\", \"Close\",\"5\",\"0\",\"\",,,\"False\",\"T\",\"EveryTick\")","v":1002.25},9.9875156054931333E-4,{"$f":"RTD(\"cqg.rtd\",,\"StudyData\", \"Close(\"&$D$12&\") when LocalYear(\"&$D$12&\")=\"&$D$10&\" and localMonth(\"&$D$12&\") =\"&$E$10&\" and LocalDay(\"&$D$12&\")=\"&$F$10&\" and Barix(\"&$D$12&\",reference:=StartOfDay)=\"&A7&\"\", \"Bar\", \"\", \"Close\",\"5\",\"0\",\"\",,,\"False\",\"T\",\"EveryTick\")","v":1003.25},1.4973795857249812E-3,{"$f":"RANK(AD7,$AD$1:$AD$10)+COUNTIF($AD$1:AD7,AD7)-1","v":3},"2018-06-08",{"$f":"VLOOKUP(MAX(AE2:AE67),A1:U67,21,FALSE)","v":-2.5660764690787786E-4},"",7,"2018-06-14",-7.745726495726496E-3,null,null,"2018-06-14","2018-06-08",6,2]
[151,"07:35:00","2018-06-07",2018,6,7,{"$f":"IF(G1=0,RTD(\"cqg.rtd\",,\"StudyData\",$D$12,\"Bar\",,\"Close\",\"D\",\"-7\",\"PrimaryOnly\",,,,\"T\"),RTD(\"cqg.rtd\",,\"StudyData\",$D$12,\"Bar\",,\"Close\",\"D\",\"-8\",\"PrimaryOnly\",,,,\"T\"))","v":974.25},{"$f":"RTD(\"cqg.rtd\",,\"StudyData\", \"Close(\"&$D$12&\") when LocalYear(\"&$D$12&\")=\"&$D$1&\" and localMonth(\"&$D$12&\") =\"&$E$1&\" and LocalDay(\"&$D$12&\")=\"&$F$1&\" and Barix(\"&$D$12&\",reference:=StartOfDay)=\"&A8&\"\", \"Bar\", \"\", \"Close\",\"5\",\"0\",\"\",,,\"False\",\"T\",\"EveryTick\")","v":903},-2.7609055770292656E-3,{"$f":"RTD(\"cqg.rtd\",,\"StudyData\", \"Close(\"&$D$12&\") when LocalYear(\"&$D$12&\")=\"&$D$2&\" and localMonth(\"&$D$12&\") =\"&$E$2&\" and LocalDay(\"&$D$12&\")=\"&$F$2&\" and Barix(\"&$D$12&\",reference:=StartOfDay)=\"&A8&\"\", \"Bar\", \"\", \"Close\",\"5\",\"0\",\"\",,,\"False\",\"T\",\"EveryTick\")","v":904.5},-2.4534915071447831E-2,{"$f":"RTD(\"cqg.rtd\",,\"StudyData\", \"Close(\"&$D$12&\") when LocalYear(\"&$D$12&\")=\"&$D$3&\" and localMonth(\"&$D$12&\") =\"&$E$3&\" and LocalDay(\"&$D$12&\")=\"&$F$3&\" and Barix(\"&$D$12&\",reference:=StartOfDay)=\"&A8&\"\", \"Bar\", \"\", \"Close\",\"5\",\"0\",\"\",,,\"False\",\"T\",\"EveryTick\")","v":932.25},-4.0064102564102561E-3,{"$f":"RTD(\"cqg.rtd\",,\"StudyData\", \"Close(\"&$D$12&\") when LocalYear(\"&$D$12&\")=\"&$D$4&\" and localMonth(\"&$D$12&\") =\"&$E$4&\" and LocalDay(\"&$D$12&\")=\"&$F$4&\" and Barix(\"&$D$12&\",reference:=StartOfDay)=\"&A8&\"\", \"Bar\", \"\", \"Close\",\"5\",\"0\",\"\",,,\"False\",\"T\",\"EveryTick\")","v":944.5},-9.9580712788259959E-3,{"$f":"RTD(\"cqg.rtd\",,\"StudyData\", \"Close(\"&$D$12&\") when LocalYear(\"&$D$12&\")=\"&$D$5&\" and localMonth(\"&$D$12&\") =\"&$E$5&\" and LocalDay(\"&$D$12&\")=\"&$F$5&\" and Barix(\"&$D$12&\",reference:=StartOfDay)=\"&A8&\"\", \"Bar\", \"\", \"Close\",\"5\",\"0\",\"\",,,\"False\",\"T\",\"EveryTick\")","v":958},4.4560943643512452E-3,{"$f":"RTD(\"cqg.rtd\",,\"StudyData\", \"Close(\"&$D$12&\") when LocalYear(\"&$D$12&\")=\"&$D$6&\" and localMonth(\"&$D$12&\") =\"&$E$6&\" and LocalDay(\"&$D$12&\")=\"&$F$6&\" and Barix(\"&$D$12&\",reference:=StartOfDay)=\"&A8&\"\", \"Bar\", \"\", \"Close\",\"5\",\"0\",\"\",,,\"False\",\"T\",\"EveryTick\")","v":966},-3.3531080732525148E-3,{"$f":"RTD(\"cqg.rtd\",,\"StudyData\", \"Close(\"&$D$12&\") when LocalYear(\"&$D$12&\")=\"&$D$7&\" and localMonth(\"&$D$12&\") =\"&$E$7&\" and LocalDay(\"&$D$12&\")=\"&$F$7&\" and Barix(\"&$D$12&\",reference:=StartOfDay)=\"&A8&\"\", \"Bar\", \"\", \"Close\",\"5\",\"0\",\"\",,,\"False\",\"T\",\"EveryTick\")","v":971.5},-2.8226841159866563E-3,{"$f":"RTD(\"cqg.rtd\",,\"StudyData\", \"Close(\"&$D$12&\") when LocalYear(\"&$D$12&\")=\"&$D$8&\" and localMonth(\"&$D$12&\") =\"&$E$8&\" and LocalDay(\"&$D$12&\")=\"&$F$8&\" and Barix(\"&$D$12&\",reference:=StartOfDay)=\"&A8&\"\", \"Bar\", \"\", \"Close\",\"5\",\"0\",\"\",,,\"False\",\"T\",\"EveryTick\")","v":995.5},1.2572290671360321E-3,{"$f":"RTD(\"cqg.rtd\",,\"StudyData\", \"Close(\"&$D$12&\") when LocalYear(\"&$D$12&\")=\"&$D$9&\" and localMonth(\"&$D$12&\") =\"&$E$9&\" and LocalDay(\"&$D$12&\")=\"&$F$9&\" and Barix(\"&$D$12&\",reference:=StartOfDay)=\"&A8&\"\", \"Bar\", \"\", \"Close\",\"5\",\"0\",\"\",,,\"False\",\"T\",\"EveryTick\")","v":1001.5},2.4968789013732833E-4,{"$f":"RTD(\"cqg.rtd\",,\"StudyData\", \"Close(\"&$D$12&\") when LocalYear(\"&$D$12&\")=\"&$D$10&\" and localMonth(\"&$D$12&\") =\"&$E$10&\" and LocalDay(\"&$D$12&\")=\"&$F$10&\" and Barix(\"&$D$12&\",reference:=StartOfDay)=\"&A8&\"\", \"Bar\", \"\", \"Close\",\"5\",\"0\",\"\",,,\"False\",\"T\",\"EveryTick\")","v":1003.5},1.7469428500124782E-3,{"$f":"RANK(AD8,$AD$1:$AD$10)+COUNTIF($AD$1:AD8,AD8)-1","v":6},"2018-06-07",{"$f":"VLOOKUP(MAX(AE2:AE67),A1:W67,23,FALSE)","v":-4.7774704551169223E-3},"",8,"2018-06-11",-1.1348981171008512E-2,null,null,"2018-06-11","2018-06-07",7,5]
[152,"07:40:00","2018-06-06",2018,6,6,{"$f":"IF(G1=0,RTD(\"cqg.rtd\",,\"StudyData\",$D$12,\"Bar\",,\"Close\",\"D\",\"-8\",\"PrimaryOnly\",,,,\"T\"),RTD(\"cqg.rtd\",,\"StudyData\",$D$12,\"Bar\",,\"Close\",\"D\",\"-9\",\"PrimaryOnly\",,,,\"T\"))","v":994.25},{"$f":"RTD(\"cqg.rtd\",,\"StudyData\", \"Close(\"&$D$12&\") when LocalYear(\"&$D$12&\")=\"&$D$1&\" and localMonth(\"&$D$12&\") =\"&$E$1&\" and LocalDay(\"&$D$12&\")=\"&$F$1&\" and Barix(\"&$D$12&\",reference:=StartOfDay)=\"&A9&\"\", \"Bar\", \"\", \"Close\",\"5\",\"0\",\"\",,,\"False\",\"T\",\"EveryTick\")","v":903.5},-2.2087244616234127E-3,{"$f":"RTD(\"cqg.rtd\",,\"StudyData\", \"Close(\"&$D$12&\") when LocalYear(\"&$D$12&\")=\"&$D$2&\" and localMonth(\"&$D$12&\") =\"&$E$2&\" and LocalDay(\"&$D$12&\")=\"&$F$2&\" and Barix(\"&$D$12&\",reference:=StartOfDay)=\"&A9&\"\", \"Bar\", \"\", \"Close\",\"5\",\"0\",\"\",,,\"False\",\"T\",\"EveryTick\")","v":907.5},-2.1299541655432731E-2,{"$f":"RTD(\"cqg.rtd\",,\"StudyData\", \"Close(\"&$D$12&\") when LocalYear(\"&$D$12&\")=\"&$D$3&\" and localMonth(\"&$D$12&\") =\"&$E$3&\" and LocalDay(\"&$D$12&\")=\"&$F$3&\" and Barix(\"&$D$12&\",reference:=StartOfDay)=\"&A9&\"\", \"Bar\", \"\", \"Close\",\"5\",\"0\",\"\",,,\"False\",\"T\",\"EveryTick\")","v":932},-4.2735042735042739E-3,{"$f":"RTD(\"cqg.rtd\",,\"StudyData\", \"Close(\"&$D$12&\") when LocalYear(\"&$D$12&\")=\"&$D$4&\" and localMonth(\"&$D$12&\") =\"&$E$4&\" and LocalDay(\"&$D$12&\")=\"&$F$4&\" and Barix(\"&$D$12&\",reference:=StartOfDay)=\"&A9&\"\", \"Bar\", \"\", \"Close\",\"5\",\"0\",\"\",,,\"False\",\"T\",\"EveryTick\")","v":944.25},-1.0220125786163521E-2,{"$f":"RTD(\"cqg.rtd\",,\"StudyData\", \"Close(\"&$D$12&\") when LocalYear(\"&$D$12&\")=\"&$D$5&\" and localMonth(\"&$D$12&\") =\"&$E$5&\" and LocalDay(\"&$D$12&\")=\"&$F$5&\" and Barix(\"&$D$12&\",reference:=StartOfDay)=\"&A9&\"\", \"Bar\", \"\", \"Close\",\"5\",\"0\",\"\",,,\"False\",\"T\",\"EveryTick\")","v":958},4.4560943643512452E-3,{"$f":"RTD(\"cqg.rtd\",,\"StudyData\", \"Close(\"&$D$12&\") when LocalYear(\"&$D$12&\")=\"&$D$6&\" and localMonth(\"&$D$12&\") =\"&$E$6&\" and LocalDay(\"&$D$12&\")=\"&$F$6&\" and Barix(\"&$D$12&\",reference:=StartOfDay)=\"&A9&\"\", \"Bar\", \"\", \"Close\",\"5\",\"0\",\"\",,,\"False\",\"T\",\"EveryTick\")","v":967.25},-2.0634511220015478E-3,{"$f":"RTD(\"cqg.rtd\",,\"StudyData\", \"Close(\"&$D$12&\") when LocalYear(\"&$D$12&\")=\"&$D$7&\" and localMonth(\"&$D$12&\") =\"&$E$7&\" and LocalDay(\"&$D$12&\")=\"&$F$7&\" and Barix(\"&$D$12&\",reference:=StartOfDay)=\"&A9&\"\", \"Bar\", \"\", \"Close\",\"5\",\"0\",\"\",,,\"False\",\"T\",\"EveryTick\")","v":971},-3.3358994098024123E-3,{"$f":"RTD(\"cqg.rtd\",,\"StudyData\", \"Close(\"&$D$12&\") when LocalYear(\"&$D$12&\")=\"&$D$8&\" and localMonth(\"&$D$12&\") =\"&$E$8&\" and LocalDay(\"&$D$12&\")=\"&$F$8&\" and Barix(\"&$D$12&\",reference:=StartOfDay)=\"&A9&\"\", \"Bar\", \"\", \"Close\",\"5\",\"0\",\"\",,,\"False\",\"T\",\"EveryTick\")","v":994.5},2.5144581342720644E-4,{"$f":"RTD(\"cqg.rtd\",,\"StudyData\", \"Close(\"&$D$12&\") when LocalYear(\"&$D$12&\")=\"&$D$9&\" and localMonth(\"&$D$12&\") =\"&$E$9&\" and LocalDay(\"&$D$12&\")=\"&$F$9&\" and Barix(\"&$D$12&\",reference:=StartOfDay)=\"&A9&\"\", \"Bar\", \"\", \"Close\",\"5\",\"0\",\"\",,,\"False\",\"T\",\"EveryTick\")","v":1001.5},2.4968789013732833E-4,{"$f":"RTD(\"cqg.rtd\",,\"StudyData\", \"Close(\"&$D$12&\") when LocalYear(\"&$D$12&\")=\"&$D$10&\" and localMonth(\"&$D$12&\") =\"&$E$10&\" and LocalDay(\"&$D$12&\")=\"&$F$10&\" and Barix(\"&$D$12&\",reference:=StartOfDay)=\"&A9&\"\", \"Bar\", \"\", \"Close\",\"5\",\"0\",\"\",,,\"False\",\"T\",\"EveryTick\")","v":1003.75},1.9965061142999752E-3,{"$f":"RANK(AD9,$AD$1:$AD$10)+COUNTIF($AD$1:AD9,AD9)-1","v":1},"2018-06-06",{"$f":"VLOOKUP(MAX(AE2:AE67),A1:Y67,25,FALSE)","v":7.4906367041198505E-4},"",9,"2018-06-15",-1.1863035858722027E-2,null,null,"2018-06-15","2018-06-06",8,1]
[153,{"$f":"B9+(10*0.00347222222222227)","v":"08:30:00"},"2018-06-05",2018,6,5,{"$f":"IF(G1=0,RTD(\"cqg.rtd\",,\"StudyData\",$D$12,\"Bar\",,\"Close\",\"D\",\"-9\",\"PrimaryOnly\",,,,\"T\"),RTD(\"cqg.rtd\",,\"StudyData\",$D$12,\"Bar\",,\"Close\",\"D\",\"-10\",\"PrimaryOnly\",,,,\"T\"))","v":1001.25},{"$f":"RTD(\"cqg.rtd\",,\"StudyData\", \"Close(\"&$D$12&\") when LocalYear(\"&$D$12&\")=\"&$D$1&\" and localMonth(\"&$D$12&\") =\"&$E$1&\" and LocalDay(\"&$D$12&\")=\"&$F$1&\" and Barix(\"&$D$12&\",reference:=StartOfDay)=\"&A10&\"\", \"Bar\", \"\", \"Close\",\"5\",\"0\",\"\",,,\"False\",\"T\",\"EveryTick\")","v":900.5},-5.5218111540585313E-3,{"$f":"RTD(\"cqg.rtd\",,\"StudyData\", \"Close(\"&$D$12&\") when LocalYear(\"&$D$12&\")=\"&$D$2&\" and localMonth(\"&$D$12&\") =\"&$E$2&\" and LocalDay(\"&$D$12&\")=\"&$F$2&\" and Barix(\"&$D$12&\",reference:=StartOfDay)=\"&A10&\"\", \"Bar\", \"\", \"Close\",\"5\",\"0\",\"\",,,\"False\",\"T\",\"EveryTick\")","v":910},-1.8603397142086815E-2,{"$f":"RTD(\"cqg.rtd\",,\"StudyData\", \"Close(\"&$D$12&\") when LocalYear(\"&$D$12&\")=\"&$D$3&\" and localMonth(\"&$D$12&\") =\"&$E$3&\" and LocalDay(\"&$D$12&\")=\"&$F$3&\" and Barix(\"&$D$12&\",reference:=StartOfDay)=\"&A10&\"\", \"Bar\", \"\", \"Close\",\"5\",\"0\",\"\",,,\"False\",\"T\",\"EveryTick\")","v":931},-5.341880341880342E-3,{"$f":"RTD(\"cqg.rtd\",,\"StudyData\", \"Close(\"&$D$12&\") when LocalYear(\"&$D$12&\")=\"&$D$4&\" and localMonth(\"&$D$12&\") =\"&$E$4&\" and LocalDay(\"&$D$12&\")=\"&$F$4&\" and Barix(\"&$D$12&\",reference:=StartOfDay)=\"&A10&\"\", \"Bar\", \"\", \"Close\",\"5\",\"0\",\"\",,,\"False\",\"T\",\"EveryTick\")","v":940.25},-1.4412997903563941E-2,{"$f":"RTD(\"cqg.rtd\",,\"StudyData\", \"Close(\"&$D$12&\") when LocalYear(\"&$D$12&\")=\"&$D$5&\" and localMonth(\"&$D$12&\") =\"&$E$5&\" and LocalDay(\"&$D$12&\")=\"&$F$5&\" and Barix(\"&$D$12&\",reference:=StartOfDay)=\"&A10&\"\", \"Bar\", \"\", \"Close\",\"5\",\"0\",\"\",,,\"False\",\"T\",\"EveryTick\")","v":954.75},1.0484927916120576E-3,{"$f":"RTD(\"cqg.rtd\",,\"StudyData\", \"Close(\"&$D$12&\") when LocalYear(\"&$D$12&\")=\"&$D$6&\" and localMonth(\"&$D$12&\") =\"&$E$6&\" and LocalDay(\"&$D$12&\")=\"&$F$6&\" and Barix(\"&$D$12&\",reference:=StartOfDay)=\"&A10&\"\", \"Bar\", \"\", \"Close\",\"5\",\"0\",\"\",,,\"False\",\"T\",\"EveryTick\")","v":963},-6.448284756254836E-3,{"$f":"RTD(\"cqg.rtd\",,\"StudyData\", \"Close(\"&$D$12&\") when LocalYear(\"&$D$12&\")=\"&$D$7&\" and localMonth(\"&$D$12&\") =\"&$E$7&\" and LocalDay(\"&$D$12&\")=\"&$F$7&\" and Barix(\"&$D$12&\",reference:=StartOfDay)=\"&A10&\"\", \"Bar\", \"\", \"Close\",\"5\",\"0\",\"\",,,\"False\",\"T\",\"EveryTick\")","v":971.5},-2.8226841159866563E-3,{"$f":"RTD(\"cqg.rtd\",,\"StudyData\", \"Close(\"&$D$12&\") when LocalYear(\"&$D$12&\")=\"&$D$8&\" and localMonth(\"&$D$12&\") =\"&$E$8&\" and LocalDay(\"&$D$12&\")=\"&$F$8&\" and Barix(\"&$D$12&\",reference:=StartOfDay)=\"&A10&\"\", \"Bar\", \"\", \"Close\",\"5\",\"0\",\"\",,,\"False\",\"T\",\"EveryTick\")","v":991},-3.2687955745536838E-3,{"$f":"RTD(\"cqg.rtd\",,\"StudyData\", \"Close(\"&$D$12&\") when LocalYear(\"&$D$12&\")=\"&$D$9&\" and localMonth(\"&$D$12&\") =\"&$E$9&\" and LocalDay(\"&$D$12&\")=\"&$F$9&\" and Barix(\"&$D$12&\",reference:=StartOfDay)=\"&A10&\"\", \"Bar\", \"\", \"Close\",\"5\",\"0\",\"\",,,\"False\",\"T\",\"EveryTick\")","v":1000.75},-4.9937578027465666E-4,{"$f":"RTD(\"cqg.rtd\",,\"StudyData\", \"Close(\"&$D$12&\") when LocalYear(\"&$D$12&\")=\"&$D$10&\" and localMonth(\"&$D$12&\") =\"&$E$10&\" and LocalDay(\"&$D$12&\")=\"&$F$10&\" and Barix(\"&$D$12&\",reference:=StartOfDay)=\"&A10&\"\", \"Bar\", \"\", \"Close\",\"5\",\"0\",\"\",,,\"False\",\"T\",\"EveryTick\")","v":999},-2.7451959071624656E-3,{"$f":"RANK(AD10,$AD$1:$AD$10)+COUNTIF($AD$1:AD10,AD10)-1","v":5},"2018-06-05",{"$f":"VLOOKUP(MAX(AE2:AE67),A1:AA67,27,FALSE)","v":-1.9965061142999752E-3},"",10,"2018-06-13",-1.7033542976939202E-2,null,null,"2018-06-13","2018-06-05",9,3]
[154,"08:35:00","2018-06-04",2018,6,4,{"$f":"IF(G1=0,RTD(\"cqg.rtd\",,\"StudyData\",$D$12,\"Bar\",,\"Close\",\"D\",\"-10\",\"PrimaryOnly\",,,,\"T\"),RTD(\"cqg.rtd\",,\"StudyData\",$D$12,\"Bar\",,\"Close\",\"D\",\"-11\",\"PrimaryOnly\",,,,\"T\"))","v":1001.75},{"$f":"RTD(\"cqg.rtd\",,\"StudyData\", \"Close(\"&$D$12&\") when LocalYear(\"&$D$12&\")=\"&$D$1&\" and localMonth(\"&$D$12&\") =\"&$E$1&\" and LocalDay(\"&$D$12&\")=\"&$F$1&\" and Barix(\"&$D$12&\",reference:=StartOfDay)=\"&A11&\"\", \"Bar\", \"\", \"Close\",\"5\",\"0\",\"\",,,\"False\",\"T\",\"EveryTick\")","v":901},-4.9696300386526783E-3,{"$f":"RTD(\"cqg.rtd\",,\"StudyData\", \"Close(\"&$D$12&\") when LocalYear(\"&$D$12&\")=\"&$D$2&\" and localMonth(\"&$D$12&\") =\"&$E$2&\" and LocalDay(\"&$D$12&\")=\"&$F$2&\" and Barix(\"&$D$12&\",reference:=StartOfDay)=\"&A11&\"\", \"Bar\", \"\", \"Close\",\"5\",\"0\",\"\",,,\"False\",\"T\",\"EveryTick\")","v":913},-1.5368023726071718E-2,{"$f":"RTD(\"cqg.rtd\",,\"StudyData\", \"Close(\"&$D$12&\") when LocalYear(\"&$D$12&\")=\"&$D$3&\" and localMonth(\"&$D$12&\") =\"&$E$3&\" and LocalDay(\"&$D$12&\")=\"&$F$3&\" and Barix(\"&$D$12&\",reference:=StartOfDay)=\"&A11&\"\", \"Bar\", \"\", \"Close\",\"5\",\"0\",\"\",,,\"False\",\"T\",\"EveryTick\")","v":929},-7.478632478632479E-3,{"$f":"RTD(\"cqg.rtd\",,\"StudyData\", \"Close(\"&$D$12&\") when LocalYear(\"&$D$12&\")=\"&$D$4&\" and localMonth(\"&$D$12&\") =\"&$E$4&\" and LocalDay(\"&$D$12&\")=\"&$F$4&\" and Barix(\"&$D$12&\",reference:=StartOfDay)=\"&A11&\"\", \"Bar\", \"\", \"Close\",\"5\",\"0\",\"\",,,\"False\",\"T\",\"EveryTick\")","v":941.25},-1.3364779874213837E-2,{"$f":"RTD(\"cqg.rtd\",,\"StudyData\", \"Close(\"&$D$12&\") when LocalYear(\"&$D$12&\")=\"&$D$5&\" and localMonth(\"&$D$12&\") =\"&$E$5&\" and LocalDay(\"&$D$12&\")=\"&$F$5&\" and Barix(\"&$D$12&\",reference:=StartOfDay)=\"&A11&\"\", \"Bar\", \"\", \"Close\",\"5\",\"0\",\"\",,,\"False\",\"T\",\"EveryTick\")","v":954.25},5.2424639580602882E-4,{"$f":"RTD(\"cqg.rtd\",,\"StudyData\", \"Close(\"&$D$12&\") when LocalYear(\"&$D$12&\")=\"&$D$6&\" and localMonth(\"&$D$12&\") =\"&$E$6&\" and LocalDay(\"&$D$12&\")=\"&$F$6&\" and Barix(\"&$D$12&\",reference:=StartOfDay)=\"&A11&\"\", \"Bar\", \"\", \"Close\",\"5\",\"0\",\"\",,,\"False\",\"T\",\"EveryTick\")","v":962.5},-6.9641475367552231E-3,{"$f":"RTD(\"cqg.rtd\",,\"StudyData\", \"Close(\"&$D$12&\") when LocalYear(\"&$D$12&\")=\"&$D$7&\" and localMonth(\"&$D$12&\") =\"&$E$7&\" and LocalDay(\"&$D$12&\")=\"&$F$7&\" and Barix(\"&$D$12&\",reference:=StartOfDay)=\"&A11&\"\", \"Bar\", \"\", \"Close\",\"5\",\"0\",\"\",,,\"False\",\"T\",\"EveryTick\")","v":973.5},-7.6982294072363352E-4,{"$f":"RTD(\"cqg.rtd\",,\"StudyData\", \"Close(\"&$D$12&\") when LocalYear(\"&$D$12&\")=\"&$D$8&\" and localMonth(\"&$D$12&\") =\"&$E$8&\" and LocalDay(\"&$D$12&\")=\"&$F$8&\" and Barix(\"&$D$12&\",reference:=StartOfDay)=\"&A11&\"\", \"Bar\", \"\", \"Close\",\"5\",\"0\",\"\",,,\"False\",\"T\",\"EveryTick\")","v":990.75},-3.5202413879808899E-3,{"$f":"RTD(\"cqg.rtd\",,\"StudyData\", \"Close(\"&$D$12&\") when LocalYear(\"&$D$12&\")=\"&$D$9&\" and localMonth(\"&$D$12&\") =\"&$E$9&\" and LocalDay(\"&$D$12&\")=\"&$F$9&\" and Barix(\"&$D$12&\",reference:=StartOfDay)=\"&A11&\"\", \"Bar\", \"\", \"Close\",\"5\",\"0\",\"\",,,\"False\",\"T\",\"EveryTick\")","v":1002.75},1.4981273408239701E-3,{"$f":"RTD(\"cqg.rtd\",,\"StudyData\", \"Close(\"&$D$12&\") when LocalYear(\"&$D$12&\")=\"&$D$10&\" and localMonth(\"&$D$12&\") =\"&$E$10&\" and LocalDay(\"&$D$12&\")=\"&$F$10&\" and Barix(\"&$D$12&\",reference:=StartOfDay)=\"&A11&\"\", \"Bar\", \"\", \"Close\",\"5\",\"0\",\"\",,,\"False\",\"T\",\"EveryTick\")","v":1000},-1.7469428500124782E-3,null,null,null,""]
[155,"08:40:00",null,{"$f":"MainDisplay!B31","v":"ZSE"},null,null,{"$f":"RTD(\"cqg.rtd\",,\"StudyData\",$D$12,\"Bar\",,\"Time\",\"D\",\"-1\",,,,,\"T\")","v":"2018-06-15"},{"$f":"RTD(\"cqg.rtd\",,\"StudyData\", \"Close(\"&$D$12&\") when LocalYear(\"&$D$12&\")=\"&$D$1&\" and localMonth(\"&$D$12&\") =\"&$E$1&\" and LocalDay(\"&$D$12&\")=\"&$F$1&\" and Barix(\"&$D$12&\",reference:=StartOfDay)=\"&A12&\"\", \"Bar\", \"\", \"Close\",\"5\",\"0\",\"\",,,\"False\",\"T\",\"EveryTick\")","v":906},5.5218111540585317E-4,{"$f":"RTD(\"cqg.rtd\",,\"StudyData\", \"Close(\"&$D$12&\") when LocalYear(\"&$D$12&\")=\"&$D$2&\" and localMonth(\"&$D$12&\") =\"&$E$2&\" and LocalDay(\"&$D$12&\")=\"&$F$2&\" and Barix(\"&$D$12&\",reference:=StartOfDay)=\"&A12&\"\", \"Bar\", \"\", \"Close\",\"5\",\"0\",\"\",,,\"False\",\"T\",\"EveryTick\")","v":910.25},-1.8333782690752223E-2,{"$f":"RTD(\"cqg.rtd\",,\"StudyData\", \"Close(\"&$D$12&\") when LocalYear(\"&$D$12&\")=\"&$D$3&\" and localMonth(\"&$D$12&\") =\"&$E$3&\" and LocalDay(\"&$D$12&\")=\"&$F$3&\" and Barix(\"&$D$12&\",reference:=StartOfDay)=\"&A12&\"\", \"Bar\", \"\", \"Close\",\"5\",\"0\",\"\",,,\"False\",\"T\",\"EveryTick\")","v":929.25},-7.2115384615384619E-3,{"$f":"RTD(\"cqg.rtd\",,\"StudyData\", \"Close(\"&$D$12&\") when LocalYear(\"&$D$12&\")=\"&$D$4&\" and localMonth(\"&$D$12&\") =\"&$E$4&\" and LocalDay(\"&$D$12&\")=\"&$F$4&\" and Barix(\"&$D$12&\",reference:=StartOfDay)=\"&A12&\"\", \"Bar\", \"\", \"Close\",\"5\",\"0\",\"\",,,\"False\",\"T\",\"EveryTick\")","v":941.5},-1.310272536687631E-2,{"$f":"RTD(\"cqg.rtd\",,\"StudyData\", \"Close(\"&$D$12&\") when LocalYear(\"&$D$12&\")=\"&$D$5&\" and localMonth(\"&$D$12&\") =\"&$E$5&\" and LocalDay(\"&$D$12&\")=\"&$F$5&\" and Barix(\"&$D$12&\",reference:=StartOfDay)=\"&A12&\"\", \"Bar\", \"\", \"Close\",\"5\",\"0\",\"\",,,\"False\",\"T\",\"EveryTick\")","v":955.75},2.0969855832241153E-3,{"$f":"RTD(\"cqg.rtd\",,\"StudyData\", \"Close(\"&$D$12&\") when LocalYear(\"&$D$12&\")=\"&$D$6&\" and localMonth(\"&$D$12&\") =\"&$E$6&\" and LocalDay(\"&$D$12&\")=\"&$F$6&\" and Barix(\"&$D$12&\",reference:=StartOfDay)=\"&A12&\"\", \"Bar\", \"\", \"Close\",\"5\",\"0\",\"\",,,\"False\",\"T\",\"EveryTick\")","v":960.25},-9.2855300490069636E-3,{"$f":"RTD(\"cqg.rtd\",,\"StudyData\", \"Close(\"&$D$12&\") when LocalYear(\"&$D$12&\")=\"&$D$7&\" and localMonth(\"&$D$12&\") =\"&$E$7&\" and LocalDay(\"&$D$12&\")=\"&$F$7&\" and Barix(\"&$D$12&\",reference:=StartOfDay)=\"&A12&\"\", \"Bar\", \"\", \"Close\",\"5\",\"0\",\"\",,,\"False\",\"T\",\"EveryTick\")","v":972},-2.3094688221709007E-3,{"$f":"RTD(\"cqg.rtd\",,\"StudyData\", \"Close(\"&$D$12&\") when LocalYear(\"&$D$12&\")=\"&$D$8&\" and localMonth(\"&$D$12&\") =\"&$E$8&\" and LocalDay(\"&$D$12&\")=\"&$F$8&\" and Barix(\"&$D$12&\",reference:=StartOfDay)=\"&A12&\"\", \"Bar\", \"\", \"Close\",\"5\",\"0\",\"\",,,\"False\",\"T\",\"EveryTick\")","v":991},-3.2687955745536838E-3,{"$f":"RTD(\"cqg.rtd\",,\"StudyData\", \"Close(\"&$D$12&\") when LocalYear(\"&$D$12&\")=\"&$D$9&\" and localMonth(\"&$D$12&\") =\"&$E$9&\" and LocalDay(\"&$D$12&\")=\"&$F$9&\" and Barix(\"&$D$12&\",reference:=StartOfDay)=\"&A12&\"\", \"Bar\", \"\", \"Close\",\"5\",\"0\",\"\",,,\"False\",\"T\",\"EveryTick\")","v":1001.5},2.4968789013732833E-4,{"$f":"RTD(\"cqg.rtd\",,\"StudyData\", \"Close(\"&$D$12&\") when LocalYear(\"&$D$12&\")=\"&$D$10&\" and localMonth(\"&$D$12&\") =\"&$E$10&\" and LocalDay(\"&$D$12&\")=\"&$F$10&\" and Barix(\"&$D$12&\",reference:=StartOfDay)=\"&A12&\"\", \"Bar\", \"\", \"Close\",\"5\",\"0\",\"\",,,\"False\",\"T\",\"EveryTick\")","v":997.75},-3.9930122285999504E-3,null,{"$f":"VLOOKUP(MAX(AE2:AE67),A1:B67,2,FALSE)","v":"08:50:00"},null,""]
[156,"08:45:00",null,{"$f":"RTD(\"cqg.rtd\", ,\"ContractData\",D12, \"LastQuoteToday\",, \"T\")","v":905.25},null,null,{"$f":"C1","v":"2018-06-18"},{"$f":"RTD(\"cqg.rtd\",,\"StudyData\", \"Close(\"&$D$12&\") when LocalYear(\"&$D$12&\")=\"&$D$1&\" and localMonth(\"&$D$12&\") =\"&$E$1&\" and LocalDay(\"&$D$12&\")=\"&$F$1&\" and Barix(\"&$D$12&\",reference:=StartOfDay)=\"&A13&\"\", \"Bar\", \"\", \"Close\",\"5\",\"0\",\"\",,,\"False\",\"T\",\"EveryTick\")","v":904.75},-8.2827167310877965E-4,{"$f":"RTD(\"cqg.rtd\",,\"StudyData\", \"Close(\"&$D$12&\") when LocalYear(\"&$D$12&\")=\"&$D$2&\" and localMonth(\"&$D$12&\") =\"&$E$2&\" and LocalDay(\"&$D$12&\")=\"&$F$2&\" and Barix(\"&$D$12&\",reference:=StartOfDay)=\"&A13&\"\", \"Bar\", \"\", \"Close\",\"5\",\"0\",\"\",,,\"False\",\"T\",\"EveryTick\")","v":911.5},-1.6985710434079267E-2,{"$f":"RTD(\"cqg.rtd\",,\"StudyData\", \"Close(\"&$D$12&\") when LocalYear(\"&$D$12&\")=\"&$D$3&\" and localMonth(\"&$D$12&\") =\"&$E$3&\" and LocalDay(\"&$D$12&\")=\"&$F$3&\" and Barix(\"&$D$12&\",reference:=StartOfDay)=\"&A13&\"\", \"Bar\", \"\", \"Close\",\"5\",\"0\",\"\",,,\"False\",\"T\",\"EveryTick\")","v":928.5},-8.0128205128205121E-3,{"$f":"RTD(\"cqg.rtd\",,\"StudyData\", \"Close(\"&$D$12&\") when LocalYear(\"&$D$12&\")=\"&$D$4&\" and localMonth(\"&$D$12&\") =\"&$E$4&\" and LocalDay(\"&$D$12&\")=\"&$F$4&\" and Barix(\"&$D$12&\",reference:=StartOfDay)=\"&A13&\"\", \"Bar\", \"\", \"Close\",\"5\",\"0\",\"\",,,\"False\",\"T\",\"EveryTick\")","v":940},-1.4675052410901468E-2,{"$f":"RTD(\"cqg.rtd\",,\"StudyData\", \"Close(\"&$D$12&\") when LocalYear(\"&$D$12&\")=\"&$D$5&\" and localMonth(\"&$D$12&\") =\"&$E$5&\" and LocalDay(\"&$D$12&\")=\"&$F$5&\" and Barix(\"&$D$12&\",reference:=StartOfDay)=\"&A13&\"\", \"Bar\", \"\", \"Close\",\"5\",\"0\",\"\",,,\"False\",\"T\",\"EveryTick\")","v":954.25},5.2424639580602882E-4,{"$f":"RTD(\"cqg.rtd\",,\"StudyData\", \"Close(\"&$D$12&\") when LocalYear(\"&$D$12&\")=\"&$D$6&\" and localMonth(\"&$D$12&\") =\"&$E$6&\" and LocalDay(\"&$D$12&\")=\"&$F$6&\" and Barix(\"&$D$12&\",reference:=StartOfDay)=\"&A13&\"\", \"Bar\", \"\", \"Close\",\"5\",\"0\",\"\",,,\"False\",\"T\",\"EveryTick\")","v":958.75},-1.0833118390508125E-2,{"$f":"RTD(\"cqg.rtd\",,\"StudyData\", \"Close(\"&$D$12&\") when LocalYear(\"&$D$12&\")=\"&$D$7&\" and localMonth(\"&$D$12&\") =\"&$E$7&\" and LocalDay(\"&$D$12&\")=\"&$F$7&\" and Barix(\"&$D$12&\",reference:=StartOfDay)=\"&A13&\"\", \"Bar\", \"\", \"Close\",\"5\",\"0\",\"\",,,\"False\",\"T\",\"EveryTick\")","v":974.25},0,{"$f":"RTD(\"cqg.rtd\",,\"StudyData\", \"Close(\"&$D$12&\") when LocalYear(\"&$D$12&\")=\"&$D$8&\" and localMonth(\"&$D$12&\") =\"&$E$8&\" and LocalDay(\"&$D$12&\")=\"&$F$8&\" and Barix(\"&$D$12&\",reference:=StartOfDay)=\"&A13&\"\", \"Bar\", \"\", \"Close\",\"5\",\"0\",\"\",,,\"False\",\"T\",\"EveryTick\")","v":989.5},-4.7774704551169223E-3,{"$f":"RTD(\"cqg.rtd\",,\"StudyData\", \"Close(\"&$D$12&\") when LocalYear(\"&$D$12&\")=\"&$D$9&\" and localMonth(\"&$D$12&\") =\"&$E$9&\" and LocalDay(\"&$D$12&\")=\"&$F$9&\" and Barix(\"&$D$12&\",reference:=StartOfDay)=\"&A13&\"\", \"Bar\", \"\", \"Close\",\"5\",\"0\",\"\",,,\"False\",\"T\",\"EveryTick\")","v":1000.5},-7.4906367041198505E-4,{"$f":"RTD(\"cqg.rtd\",,\"StudyData\", \"Close(\"&$D$12&\") when LocalYear(\"&$D$12&\")=\"&$D$10&\" and localMonth(\"&$D$12&\") =\"&$E$10&\" and LocalDay(\"&$D$12&\")=\"&$F$10&\" and Barix(\"&$D$12&\",reference:=StartOfDay)=\"&A13&\"\", \"Bar\", \"\", \"Close\",\"5\",\"0\",\"\",,,\"False\",\"T\",\"EveryTick\")","v":1000.25},-1.4973795857249812E-3,null,null,null,""]
[157,"08:50:00",null,{"$f":"RTD(\"cqg.rtd\", ,\"ContractData\",D12, \"LongDescription\",, \"T\")","v":"Soybeans (Globex), Jul 18"},null,null,{"$f":"C2","v":"2018-06-15"},{"$f":"RTD(\"cqg.rtd\",,\"StudyData\", \"Close(\"&$D$12&\") when LocalYear(\"&$D$12&\")=\"&$D$1&\" and localMonth(\"&$D$12&\") =\"&$E$1&\" and LocalDay(\"&$D$12&\")=\"&$F$1&\" and Barix(\"&$D$12&\",reference:=StartOfDay)=\"&A14&\"\", \"Bar\", \"\", \"Close\",\"5\",\"0\",\"\",,,\"False\",\"T\",\"EveryTick\")","v":904.75},-8.2827167310877965E-4,{"$f":"RTD(\"cqg.rtd\",,\"StudyData\", \"Close(\"&$D$12&\") when LocalYear(\"&$D$12&\")=\"&$D$2&\" and localMonth(\"&$D$12&\") =\"&$E$2&\" and LocalDay(\"&$D$12&\")=\"&$F$2&\" and Barix(\"&$D$12&\",reference:=StartOfDay)=\"&A14&\"\", \"Bar\", \"\", \"Close\",\"5\",\"0\",\"\",,,\"False\",\"T\",\"EveryTick\")","v":916.25},-1.1863035858722027E-2,{"$f":"RTD(\"cqg.rtd\",,\"StudyData\", \"Close(\"&$D$12&\") when LocalYear(\"&$D$12&\")=\"&$D$3&\" and localMonth(\"&$D$12&\") =\"&$E$3&\" and LocalDay(\"&$D$12&\")=\"&$F$3&\" and Barix(\"&$D$12&\",reference:=StartOfDay)=\"&A14&\"\", \"Bar\", \"\", \"Close\",\"5\",\"0\",\"\",,,\"False\",\"T\",\"EveryTick\")","v":928.75},-7.745726495726496E-3,{"$f":"RTD(\"cqg.rtd\",,\"StudyData\", \"Close(\"&$D$12&\") when LocalYear(\"&$D$12&\")=\"&$D$4&\" and localMonth(\"&$D$12&\") =\"&$E$4&\" and LocalDay(\"&$D$12&\")=\"&$F$4&\" and Barix(\"&$D$12&\",reference:=StartOfDay)=\"&A14&\"\", \"Bar\", \"\", \"Close\",\"5\",\"0\",\"\",,,\"False\",\"T\",\"EveryTick\")","v":937.75},-1.7033542976939202E-2,{"$f":"RTD(\"cqg.rtd\",,\"StudyData\", \"Close(\"&$D$12&\") when LocalYear(\"&$D$12&\")=\"&$D$5&\" and localMonth(\"&$D$12&\") =\"&$E$5&\" and LocalDay(\"&$D$12&\")=\"&$F$5&\" and Barix(\"&$D$12&\",reference:=StartOfDay)=\"&A14&\"\", \"Bar\", \"\", \"Close\",\"5\",\"0\",\"\",,,\"False\",\"T\",\"EveryTick\")","v":953.75},0,{"$f":"RTD(\"cqg.rtd\",,\"StudyData\", \"Close(\"&$D$12&\") when LocalYear(\"&$D$12&\")=\"&$D$6&\" and localMonth(\"&$D$12&\") =\"&$E$6&\" and LocalDay(\"&$D$12&\")=\"&$F$6&\" and Barix(\"&$D$12&\",reference:=StartOfDay)=\"&A14&\"\", \"Bar\", \"\", \"Close\",\"5\",\"0\",\"\",,,\"False\",\"T\",\"EveryTick\")","v":958.25},-1.1348981171008512E-2,{"$f":"RTD(\"cqg.rtd\",,\"StudyData\", \"Close(\"&$D$12&\") when LocalYear(\"&$D$12&\")=\"&$D$7&\" and localMonth(\"&$D$12&\") =\"&$E$7&\" and LocalDay(\"&$D$12&\")=\"&$F$7&\" and Barix(\"&$D$12&\",reference:=StartOfDay)=\"&A14&\"\", \"Bar\", \"\", \"Close\",\"5\",\"0\",\"\",,,\"False\",\"T\",\"EveryTick\")","v":974},-2.5660764690787786E-4,{"$f":"RTD(\"cqg.rtd\",,\"StudyData\", \"Close(\"&$D$12&\") when LocalYear(\"&$D$12&\")=\"&$D$8&\" and localMonth(\"&$D$12&\") =\"&$E$8&\" and LocalDay(\"&$D$12&\")=\"&$F$8&\" and Barix(\"&$D$12&\",reference:=StartOfDay)=\"&A14&\"\", \"Bar\", \"\", \"Close\",\"5\",\"0\",\"\",,,\"False\",\"T\",\"EveryTick\")","v":989.5},-4.7774704551169223E-3,{"$f":"RTD(\"cqg.rtd\",,\"StudyData\", \"Close(\"&$D$12&\") when LocalYear(\"&$D$12&\")=\"&$D$9&\" and localMonth(\"&$D$12&\") =\"&$E$9&\" and LocalDay(\"&$D$12&\")=\"&$F$9&\" and Barix(\"&$D$12&\",reference:=StartOfDay)=\"&A14&\"\", \"Bar\", \"\", \"Close\",\"5\",\"0\",\"\",,,\"False\",\"T\",\"EveryTick\")","v":1002},7.4906367041198505E-4,{"$f":"RTD(\"cqg.rtd\",,\"StudyData\", \"Close(\"&$D$12&\") when LocalYear(\"&$D$12&\")=\"&$D$10&\" and localMonth(\"&$D$12&\") =\"&$E$10&\" and LocalDay(\"&$D$12&\")=\"&$F$10&\" and Barix(\"&$D$12&\",reference:=StartOfDay)=\"&A14&\"\", \"Bar\", \"\", \"Close\",\"5\",\"0\",\"\",,,\"False\",\"T\",\"EveryTick\")","v":999.75},-1.9965061142999752E-3,null,null,null,157]
[158,"08:55:00",null,null,null,null,"2018-06-14",{"$f":"RTD(\"cqg.rtd\",,\"StudyData\", \"Close(\"&$D$12&\") when LocalYear(\"&$D$12&\")=\"&$D$1&\" and localMonth(\"&$D$12&\") =\"&$E$1&\" and LocalDay(\"&$D$12&\")=\"&$F$1&\" and Barix(\"&$D$12&\",reference:=StartOfDay)=\"&A15&\"\", \"Bar\", \"\", \"Close\",\"5\",\"0\",\"\",,,\"False\",\"T\",\"EveryTick\")","v":""},{"$error":"#N/A"},{"$f":"RTD(\"cqg.rtd\",,\"StudyData\", \"Close(\"&$D$12&\") when LocalYear(\"&$D$12&\")=\"&$D$2&\" and localMonth(\"&$D$12&\") =\"&$E$2&\" and LocalDay(\"&$D$12&\")=\"&$F$2&\" and Barix(\"&$D$12&\",reference:=StartOfDay)=\"&A15&\"\", \"Bar\", \"\", \"Close\",\"5\",\"0\",\"\",,,\"False\",\"T\",\"EveryTick\")","v":921},-6.7403612833647885E-3,{"$f":"RTD(\"cqg.rtd\",,\"StudyData\", \"Close(\"&$D$12&\") when LocalYear(\"&$D$12&\")=\"&$D$3&\" and localMonth(\"&$D$12&\") =\"&$E$3&\" and LocalDay(\"&$D$12&\")=\"&$F$3&\" and Barix(\"&$D$12&\",reference:=StartOfDay)=\"&A15&\"\", \"Bar\", \"\", \"Close\",\"5\",\"0\",\"\",,,\"False\",\"T\",\"EveryTick\")","v":929.5},-6.9444444444444441E-3,{"$f":"RTD(\"cqg.rtd\",,\"StudyData\", \"Close(\"&$D$12&\") when LocalYear(\"&$D$12&\")=\"&$D$4&\" and localMonth(\"&$D$12&\") =\"&$E$4&\" and LocalDay(\"&$D$12&\")=\"&$F$4&\" and Barix(\"&$D$12&\",reference:=StartOfDay)=\"&A15&\"\", \"Bar\", \"\", \"Close\",\"5\",\"0\",\"\",,,\"False\",\"T\",\"EveryTick\")","v":936.5},-1.8343815513626835E-2,{"$f":"RTD(\"cqg.rtd\",,\"StudyData\", \"Close(\"&$D$12&\") when LocalYear(\"&$D$12&\")=\"&$D$5&\" and localMonth(\"&$D$12&\") =\"&$E$5&\" and LocalDay(\"&$D$12&\")=\"&$F$5&\" and Barix(\"&$D$12&\",reference:=StartOfDay)=\"&A15&\"\", \"Bar\", \"\", \"Close\",\"5\",\"0\",\"\",,,\"False\",\"T\",\"EveryTick\")","v":955.75},2.0969855832241153E-3,{"$f":"RTD(\"cqg.rtd\",,\"StudyData\", \"Close(\"&$D$12&\") when LocalYear(\"&$D$12&\")=\"&$D$6&\" and localMonth(\"&$D$12&\") =\"&$E$6&\" and LocalDay(\"&$D$12&\")=\"&$F$6&\" and Barix(\"&$D$12&\",reference:=StartOfDay)=\"&A15&\"\", \"Bar\", \"\", \"Close\",\"5\",\"0\",\"\",,,\"False\",\"T\",\"EveryTick\")","v":958.25},-1.1348981171008512E-2,{"$f":"RTD(\"cqg.rtd\",,\"StudyData\", \"Close(\"&$D$12&\") when LocalYear(\"&$D$12&\")=\"&$D$7&\" and localMonth(\"&$D$12&\") =\"&$E$7&\" and LocalDay(\"&$D$12&\")=\"&$F$7&\" and Barix(\"&$D$12&\",reference:=StartOfDay)=\"&A15&\"\", \"Bar\", \"\", \"Close\",\"5\",\"0\",\"\",,,\"False\",\"T\",\"EveryTick\")","v":973.25},-1.0264305876315114E-3,{"$f":"RTD(\"cqg.rtd\",,\"StudyData\", \"Close(\"&$D$12&\") when LocalYear(\"&$D$12&\")=\"&$D$8&\" and localMonth(\"&$D$12&\") =\"&$E$8&\" and LocalDay(\"&$D$12&\")=\"&$F$8&\" and Barix(\"&$D$12&\",reference:=StartOfDay)=\"&A15&\"\", \"Bar\", \"\", \"Close\",\"5\",\"0\",\"\",,,\"False\",\"T\",\"EveryTick\")","v":989},-5.2803620819713354E-3,{"$f":"RTD(\"cqg.rtd\",,\"StudyData\", \"Close(\"&$D$12&\") when LocalYear(\"&$D$12&\")=\"&$D$9&\" and localMonth(\"&$D$12&\") =\"&$E$9&\" and LocalDay(\"&$D$12&\")=\"&$F$9&\" and Barix(\"&$D$12&\",reference:=StartOfDay)=\"&A15&\"\", \"Bar\", \"\", \"Close\",\"5\",\"0\",\"\",,,\"False\",\"T\",\"EveryTick\")","v":1002},7.4906367041198505E-4,{"$f":"RTD(\"cqg.rtd\",,\"StudyData\", \"Close(\"&$D$12&\") when LocalYear(\"&$D$12&\")=\"&$D$10&\" and localMonth(\"&$D$12&\") =\"&$E$10&\" and LocalDay(\"&$D$12&\")=\"&$F$10&\" and Barix(\"&$D$12&\",reference:=StartOfDay)=\"&A15&\"\", \"Bar\", \"\", \"Close\",\"5\",\"0\",\"\",,,\"False\",\"T\",\"EveryTick\")","v":999},-2.7451959071624656E-3,null,null,null,""]
[159,"09:00:00",null,{"$f":"RTD(\"cqg.rtd\", ,\"ContractData\",D12, \"Ticksize\",, \"T\")","v":0.25},null,null,"2018-06-13",{"$f":"RTD(\"cqg.rtd\",,\"StudyData\", \"Close(\"&$D$12&\") when LocalYear(\"&$D$12&\")=\"&$D$1&\" and localMonth(\"&$D$12&\") =\"&$E$1&\" and LocalDay(\"&$D$12&\")=\"&$F$1&\" and Barix(\"&$D$12&\",reference:=StartOfDay)=\"&A16&\"\", \"Bar\", \"\", \"Close\",\"5\",\"0\",\"\",,,\"False\",\"T\",\"EveryTick\")","v":""},{"$error":"#N/A"},{"$f":"RTD(\"cqg.rtd\",,\"StudyData\", \"Close(\"&$D$12&\") when LocalYear(\"&$D$12&\")=\"&$D$2&\" and localMonth(\"&$D$12&\") =\"&$E$2&\" and LocalDay(\"&$D$12&\")=\"&$F$2&\" and Barix(\"&$D$12&\",reference:=StartOfDay)=\"&A16&\"\", \"Bar\", \"\", \"Close\",\"5\",\"0\",\"\",,,\"False\",\"T\",\"EveryTick\")","v":923.5},-4.0442167700188731E-3,{"$f":"RTD(\"cqg.rtd\",,\"StudyData\", \"Close(\"&$D$12&\") when LocalYear(\"&$D$12&\")=\"&$D$3&\" and localMonth(\"&$D$12&\") =\"&$E$3&\" and LocalDay(\"&$D$12&\")=\"&$F$3&\" and Barix(\"&$D$12&\",reference:=StartOfDay)=\"&A16&\"\", \"Bar\", \"\", \"Close\",\"5\",\"0\",\"\",,,\"False\",\"T\",\"EveryTick\")","v":927.5},-9.0811965811965819E-3,{"$f":"RTD(\"cqg.rtd\",,\"StudyData\", \"Close(\"&$D$12&\") when LocalYear(\"&$D$12&\")=\"&$D$4&\" and localMonth(\"&$D$12&\") =\"&$E$4&\" and LocalDay(\"&$D$12&\")=\"&$F$4&\" and Barix(\"&$D$12&\",reference:=StartOfDay)=\"&A16&\"\", \"Bar\", \"\", \"Close\",\"5\",\"0\",\"\",,,\"False\",\"T\",\"EveryTick\")","v":936.75},-1.8081761006289308E-2,{"$f":"RTD(\"cqg.rtd\",,\"StudyData\", \"Close(\"&$D$12&\") when LocalYear(\"&$D$12&\")=\"&$D$5&\" and localMonth(\"&$D$12&\") =\"&$E$5&\" and LocalDay(\"&$D$12&\")=\"&$F$5&\" and Barix(\"&$D$12&\",reference:=StartOfDay)=\"&A16&\"\", \"Bar\", \"\", \"Close\",\"5\",\"0\",\"\",,,\"False\",\"T\",\"EveryTick\")","v":954.25},5.2424639580602882E-4,{"$f":"RTD(\"cqg.rtd\",,\"StudyData\", \"Close(\"&$D$12&\") when LocalYear(\"&$D$12&\")=\"&$D$6&\" and localMonth(\"&$D$12&\") =\"&$E$6&\" and LocalDay(\"&$D$12&\")=\"&$F$6&\" and Barix(\"&$D$12&\",reference:=StartOfDay)=\"&A16&\"\", \"Bar\", \"\", \"Close\",\"5\",\"0\",\"\",,,\"False\",\"T\",\"EveryTick\")","v":959.5},-1.0059324219757545E-2,{"$f":"RTD(\"cqg.rtd\",,\"StudyData\", \"Close(\"&$D$12&\") when LocalYear(\"&$D$12&\")=\"&$D$7&\" and localMonth(\"&$D$12&\") =\"&$E$7&\" and LocalDay(\"&$D$12&\")=\"&$F$7&\" and Barix(\"&$D$12&\",reference:=StartOfDay)=\"&A16&\"\", \"Bar\", \"\", \"Close\",\"5\",\"0\",\"\",,,\"False\",\"T\",\"EveryTick\")","v":970.75},-3.5925070567102901E-3,{"$f":"RTD(\"cqg.rtd\",,\"StudyData\", \"Close(\"&$D$12&\") when LocalYear(\"&$D$12&\")=\"&$D$8&\" and localMonth(\"&$D$12&\") =\"&$E$8&\" and LocalDay(\"&$D$12&\")=\"&$F$8&\" and Barix(\"&$D$12&\",reference:=StartOfDay)=\"&A16&\"\", \"Bar\", \"\", \"Close\",\"5\",\"0\",\"\",,,\"False\",\"T\",\"EveryTick\")","v":988.25},-6.0346995222529546E-3,{"$f":"RTD(\"cqg.rtd\",,\"StudyData\", \"Close(\"&$D$12&\") when LocalYear(\"&$D$12&\")=\"&$D$9&\" and localMonth(\"&$D$12&\") =\"&$E$9&\" and LocalDay(\"&$D$12&\")=\"&$F$9&\" and Barix(\"&$D$12&\",reference:=StartOfDay)=\"&A16&\"\", \"Bar\", \"\", \"Close\",\"5\",\"0\",\"\",,,\"False\",\"T\",\"EveryTick\")","v":1002.5},1.2484394506866417E-3,{"$f":"RTD(\"cqg.rtd\",,\"StudyData\", \"Close(\"&$D$12&\") when LocalYear(\"&$D$12&\")=\"&$D$10&\" and localMonth(\"&$D$12&\") =\"&$E$10&\" and LocalDay(\"&$D$12&\")=\"&$F$10&\" and Barix(\"&$D$12&\",reference:=StartOfDay)=\"&A16&\"\", \"Bar\", \"\", \"Close\",\"5\",\"0\",\"\",,,\"False\",\"T\",\"EveryTick\")","v":999.5},-2.246069378587472E-3,null,null,null,""]
[160,"09:05:00",null,{"$f":"IF(D16>=1,0,IF(LEN(D16)-2=1,2,LEN(D16)-2))","v":2},null,{"$f":"VLOOKUP(D17,D18:E25,2,FALSE)","v":"#.00"},"2018-06-12",{"$f":"RTD(\"cqg.rtd\",,\"StudyData\", \"Close(\"&$D$12&\") when LocalYear(\"&$D$12&\")=\"&$D$1&\" and localMonth(\"&$D$12&\") =\"&$E$1&\" and LocalDay(\"&$D$12&\")=\"&$F$1&\" and Barix(\"&$D$12&\",reference:=StartOfDay)=\"&A17&\"\", \"Bar\", \"\", \"Close\",\"5\",\"0\",\"\",,,\"False\",\"T\",\"EveryTick\")","v":""},{"$error":"#N/A"},{"$f":"RTD(\"cqg.rtd\",,\"StudyData\", \"Close(\"&$D$12&\") when LocalYear(\"&$D$12&\")=\"&$D$2&\" and localMonth(\"&$D$12&\") =\"&$E$2&\" and LocalDay(\"&$D$12&\")=\"&$F$2&\" and Barix(\"&$D$12&\",reference:=StartOfDay)=\"&A17&\"\", \"Bar\", \"\", \"Close\",\"5\",\"0\",\"\",,,\"False\",\"T\",\"EveryTick\")","v":922.5},-5.1226745753572391E-3,{"$f":"RTD(\"cqg.rtd\",,\"StudyData\", \"Close(\"&$D$12&\") when LocalYear(\"&$D$12&\")=\"&$D$3&\" and localMonth(\"&$D$12&\") =\"&$E$3&\" and LocalDay(\"&$D$12&\")=\"&$F$3&\" and Barix(\"&$D$12&\",reference:=StartOfDay)=\"&A17&\"\", \"Bar\", \"\", \"Close\",\"5\",\"0\",\"\",,,\"False\",\"T\",\"EveryTick\")","v":925.5},-1.1217948717948718E-2,{"$f":"RTD(\"cqg.rtd\",,\"StudyData\", \"Close(\"&$D$12&\") when LocalYear(\"&$D$12&\")=\"&$D$4&\" and localMonth(\"&$D$12&\") =\"&$E$4&\" and LocalDay(\"&$D$12&\")=\"&$F$4&\" and Barix(\"&$D$12&\",reference:=StartOfDay)=\"&A17&\"\", \"Bar\", \"\", \"Close\",\"5\",\"0\",\"\",,,\"False\",\"T\",\"EveryTick\")","v":938.75},-1.59853249475891E-2,{"$f":"RTD(\"cqg.rtd\",,\"StudyData\", \"Close(\"&$D$12&\") when LocalYear(\"&$D$12&\")=\"&$D$5&\" and localMonth(\"&$D$12&\") =\"&$E$5&\" and LocalDay(\"&$D$12&\")=\"&$F$5&\" and Barix(\"&$D$12&\",reference:=StartOfDay)=\"&A17&\"\", \"Bar\", \"\", \"Close\",\"5\",\"0\",\"\",,,\"False\",\"T\",\"EveryTick\")","v":954.5},7.8636959370904328E-4,{"$f":"RTD(\"cqg.rtd\",,\"StudyData\", \"Close(\"&$D$12&\") when LocalYear(\"&$D$12&\")=\"&$D$6&\" and localMonth(\"&$D$12&\") =\"&$E$6&\" and LocalDay(\"&$D$12&\")=\"&$F$6&\" and Barix(\"&$D$12&\",reference:=StartOfDay)=\"&A17&\"\", \"Bar\", \"\", \"Close\",\"5\",\"0\",\"\",,,\"False\",\"T\",\"EveryTick\")","v":959},-1.0575187000257931E-2,{"$f":"RTD(\"cqg.rtd\",,\"StudyData\", \"Close(\"&$D$12&\") when LocalYear(\"&$D$12&\")=\"&$D$7&\" and localMonth(\"&$D$12&\") =\"&$E$7&\" and LocalDay(\"&$D$12&\")=\"&$F$7&\" and Barix(\"&$D$12&\",reference:=StartOfDay)=\"&A17&\"\", \"Bar\", \"\", \"Close\",\"5\",\"0\",\"\",,,\"False\",\"T\",\"EveryTick\")","v":969.25},-5.1321529381575569E-3,{"$f":"RTD(\"cqg.rtd\",,\"StudyData\", \"Close(\"&$D$12&\") when LocalYear(\"&$D$12&\")=\"&$D$8&\" and localMonth(\"&$D$12&\") =\"&$E$8&\" and LocalDay(\"&$D$12&\")=\"&$F$8&\" and Barix(\"&$D$12&\",reference:=StartOfDay)=\"&A17&\"\", \"Bar\", \"\", \"Close\",\"5\",\"0\",\"\",,,\"False\",\"T\",\"EveryTick\")","v":988},-6.2861453356801607E-3,{"$f":"RTD(\"cqg.rtd\",,\"StudyData\", \"Close(\"&$D$12&\") when LocalYear(\"&$D$12&\")=\"&$D$9&\" and localMonth(\"&$D$12&\") =\"&$E$9&\" and LocalDay(\"&$D$12&\")=\"&$F$9&\" and Barix(\"&$D$12&\",reference:=StartOfDay)=\"&A17&\"\", \"Bar\", \"\", \"Close\",\"5\",\"0\",\"\",,,\"False\",\"T\",\"EveryTick\")","v":1005.5},4.2446941323345819E-3,{"$f":"RTD(\"cqg.rtd\",,\"StudyData\", \"Close(\"&$D$12&\") when LocalYear(\"&$D$12&\")=\"&$D$10&\" and localMonth(\"&$D$12&\") =\"&$E$10&\" and LocalDay(\"&$D$12&\")=\"&$F$10&\" and Barix(\"&$D$12&\",reference:=StartOfDay)=\"&A17&\"\", \"Bar\", \"\", \"Close\",\"5\",\"0\",\"\",,,\"False\",\"T\",\"EveryTick\")","v":999.25},-2.4956326428749688E-3,null,null,null,""]
[161,"09:10:00",null,0,"#",null,"2018-06-11",{"$f":"RTD(\"cqg.rtd\",,\"StudyData\", \"Close(\"&$D$12&\") when LocalYear(\"&$D$12&\")=\"&$D$1&\" and localMonth(\"&$D$12&\") =\"&$E$1&\" and LocalDay(\"&$D$12&\")=\"&$F$1&\" and Barix(\"&$D$12&\",reference:=StartOfDay)=\"&A18&\"\", \"Bar\", \"\", \"Close\",\"5\",\"0\",\"\",,,\"False\",\"T\",\"EveryTick\")","v":""},{"$error":"#N/A"},{"$f":"RTD(\"cqg.rtd\",,\"StudyData\", \"Close(\"&$D$12&\") when LocalYear(\"&$D$12&\")=\"&$D$2&\" and localMonth(\"&$D$12&\") =\"&$E$2&\" and LocalDay(\"&$D$12&\")=\"&$F$2&\" and Barix(\"&$D$12&\",reference:=StartOfDay)=\"&A18&\"\", \"Bar\", \"\", \"Close\",\"5\",\"0\",\"\",,,\"False\",\"T\",\"EveryTick\")","v":926.75},-5.392289026691831E-4,{"$f":"RTD(\"cqg.rtd\",,\"StudyData\", \"Close(\"&$D$12&\") when LocalYear(\"&$D$12&\")=\"&$D$3&\" and localMonth(\"&$D$12&\") =\"&$E$3&\" and LocalDay(\"&$D$12&\")=\"&$F$3&\" and Barix(\"&$D$12&\",reference:=StartOfDay)=\"&A18&\"\", \"Bar\", \"\", \"Close\",\"5\",\"0\",\"\",,,\"False\",\"T\",\"EveryTick\")","v":924.5},-1.2286324786324786E-2,{"$f":"RTD(\"cqg.rtd\",,\"StudyData\", \"Close(\"&$D$12&\") when LocalYear(\"&$D$12&\")=\"&$D$4&\" and localMonth(\"&$D$12&\") =\"&$E$4&\" and LocalDay(\"&$D$12&\")=\"&$F$4&\" and Barix(\"&$D$12&\",reference:=StartOfDay)=\"&A18&\"\", \"Bar\", \"\", \"Close\",\"5\",\"0\",\"\",,,\"False\",\"T\",\"EveryTick\")","v":937.5},-1.7295597484276729E-2,{"$f":"RTD(\"cqg.rtd\",,\"StudyData\", \"Close(\"&$D$12&\") when LocalYear(\"&$D$12&\")=\"&$D$5&\" and localMonth(\"&$D$12&\") =\"&$E$5&\" and LocalDay(\"&$D$12&\")=\"&$F$5&\" and Barix(\"&$D$12&\",reference:=StartOfDay)=\"&A18&\"\", \"Bar\", \"\", \"Close\",\"5\",\"0\",\"\",,,\"False\",\"T\",\"EveryTick\")","v":955.25},1.5727391874180866E-3,{"$f":"RTD(\"cqg.rtd\",,\"StudyData\", \"Close(\"&$D$12&\") when LocalYear(\"&$D$12&\")=\"&$D$6&\" and localMonth(\"&$D$12&\") =\"&$E$6&\" and LocalDay(\"&$D$12&\")=\"&$F$6&\" and Barix(\"&$D$12&\",reference:=StartOfDay)=\"&A18&\"\", \"Bar\", \"\", \"Close\",\"5\",\"0\",\"\",,,\"False\",\"T\",\"EveryTick\")","v":959},-1.0575187000257931E-2,{"$f":"RTD(\"cqg.rtd\",,\"StudyData\", \"Close(\"&$D$12&\") when LocalYear(\"&$D$12&\")=\"&$D$7&\" and localMonth(\"&$D$12&\") =\"&$E$7&\" and LocalDay(\"&$D$12&\")=\"&$F$7&\" and Barix(\"&$D$12&\",reference:=StartOfDay)=\"&A18&\"\", \"Bar\", \"\", \"Close\",\"5\",\"0\",\"\",,,\"False\",\"T\",\"EveryTick\")","v":969.25},-5.1321529381575569E-3,{"$f":"RTD(\"cqg.rtd\",,\"StudyData\", \"Close(\"&$D$12&\") when LocalYear(\"&$D$12&\")=\"&$D$8&\" and localMonth(\"&$D$12&\") =\"&$E$8&\" and LocalDay(\"&$D$12&\")=\"&$F$8&\" and Barix(\"&$D$12&\",reference:=StartOfDay)=\"&A18&\"\", \"Bar\", \"\", \"Close\",\"5\",\"0\",\"\",,,\"False\",\"T\",\"EveryTick\")","v":987.75},-6.5375911491073677E-3,{"$f":"RTD(\"cqg.rtd\",,\"StudyData\", \"Close(\"&$D$12&\") when LocalYear(\"&$D$12&\")=\"&$D$9&\" and localMonth(\"&$D$12&\") =\"&$E$9&\" and LocalDay(\"&$D$12&\")=\"&$F$9&\" and Barix(\"&$D$12&\",reference:=StartOfDay)=\"&A18&\"\", \"Bar\", \"\", \"Close\",\"5\",\"0\",\"\",,,\"False\",\"T\",\"EveryTick\")","v":1004.5},3.2459425717852684E-3,{"$f":"RTD(\"cqg.rtd\",,\"StudyData\", \"Close(\"&$D$12&\") when LocalYear(\"&$D$12&\")=\"&$D$10&\" and localMonth(\"&$D$12&\") =\"&$E$10&\" and LocalDay(\"&$D$12&\")=\"&$F$10&\" and Barix(\"&$D$12&\",reference:=StartOfDay)=\"&A18&\"\", \"Bar\", \"\", \"Close\",\"5\",\"0\",\"\",,,\"False\",\"T\",\"EveryTick\")","v":998.25},-3.4938857000249564E-3,null,null,null,""]
[162,"09:15:00",null,1,"#.0",null,"2018-06-08",{"$f":"RTD(\"cqg.rtd\",,\"StudyData\", \"Close(\"&$D$12&\") when LocalYear(\"&$D$12&\")=\"&$D$1&\" and localMonth(\"&$D$12&\") =\"&$E$1&\" and LocalDay(\"&$D$12&\")=\"&$F$1&\" and Barix(\"&$D$12&\",reference:=StartOfDay)=\"&A19&\"\", \"Bar\", \"\", \"Close\",\"5\",\"0\",\"\",,,\"False\",\"T\",\"EveryTick\")","v":""},{"$error":"#N/A"},{"$f":"RTD(\"cqg.rtd\",,\"StudyData\", \"Close(\"&$D$12&\") when LocalYear(\"&$D$12&\")=\"&$D$2&\" and localMonth(\"&$D$12&\") =\"&$E$2&\" and LocalDay(\"&$D$12&\")=\"&$F$2&\" and Barix(\"&$D$12&\",reference:=StartOfDay)=\"&A19&\"\", \"Bar\", \"\", \"Close\",\"5\",\"0\",\"\",,,\"False\",\"T\",\"EveryTick\")","v":926},-1.3480722566729577E-3,{"$f":"RTD(\"cqg.rtd\",,\"StudyData\", \"Close(\"&$D$12&\") when LocalYear(\"&$D$12&\")=\"&$D$3&\" and localMonth(\"&$D$12&\") =\"&$E$3&\" and LocalDay(\"&$D$12&\")=\"&$F$3&\" and Barix(\"&$D$12&\",reference:=StartOfDay)=\"&A19&\"\", \"Bar\", \"\", \"Close\",\"5\",\"0\",\"\",,,\"False\",\"T\",\"EveryTick\")","v":926.25},-1.0416666666666666E-2,{"$f":"RTD(\"cqg.rtd\",,\"StudyData\", \"Close(\"&$D$12&\") when LocalYear(\"&$D$12&\")=\"&$D$4&\" and localMonth(\"&$D$12&\") =\"&$E$4&\" and LocalDay(\"&$D$12&\")=\"&$F$4&\" and Barix(\"&$D$12&\",reference:=StartOfDay)=\"&A19&\"\", \"Bar\", \"\", \"Close\",\"5\",\"0\",\"\",,,\"False\",\"T\",\"EveryTick\")","v":938.5},-1.6247379454926623E-2,{"$f":"RTD(\"cqg.rtd\",,\"StudyData\", \"Close(\"&$D$12&\") when LocalYear(\"&$D$12&\")=\"&$D$5&\" and localMonth(\"&$D$12&\") =\"&$E$5&\" and LocalDay(\"&$D$12&\")=\"&$F$5&\" and Barix(\"&$D$12&\",reference:=StartOfDay)=\"&A19&\"\", \"Bar\", \"\", \"Close\",\"5\",\"0\",\"\",,,\"False\",\"T\",\"EveryTick\")","v":954},2.6212319790301441E-4,{"$f":"RTD(\"cqg.rtd\",,\"StudyData\", \"Close(\"&$D$12&\") when LocalYear(\"&$D$12&\")=\"&$D$6&\" and localMonth(\"&$D$12&\") =\"&$E$6&\" and LocalDay(\"&$D$12&\")=\"&$F$6&\" and Barix(\"&$D$12&\",reference:=StartOfDay)=\"&A19&\"\", \"Bar\", \"\", \"Close\",\"5\",\"0\",\"\",,,\"False\",\"T\",\"EveryTick\")","v":958.75},-1.0833118390508125E-2,{"$f":"RTD(\"cqg.rtd\",,\"StudyData\", \"Close(\"&$D$12&\") when LocalYear(\"&$D$12&\")=\"&$D$7&\" and localMonth(\"&$D$12&\") =\"&$E$7&\" and LocalDay(\"&$D$12&\")=\"&$F$7&\" and Barix(\"&$D$12&\",reference:=StartOfDay)=\"&A19&\"\", \"Bar\", \"\", \"Close\",\"5\",\"0\",\"\",,,\"False\",\"T\",\"EveryTick\")","v":972},-2.3094688221709007E-3,{"$f":"RTD(\"cqg.rtd\",,\"StudyData\", \"Close(\"&$D$12&\") when LocalYear(\"&$D$12&\")=\"&$D$8&\" and localMonth(\"&$D$12&\") =\"&$E$8&\" and LocalDay(\"&$D$12&\")=\"&$F$8&\" and Barix(\"&$D$12&\",reference:=StartOfDay)=\"&A19&\"\", \"Bar\", \"\", \"Close\",\"5\",\"0\",\"\",,,\"False\",\"T\",\"EveryTick\")","v":987.5},-6.7890369625345738E-3,{"$f":"RTD(\"cqg.rtd\",,\"StudyData\", \"Close(\"&$D$12&\") when LocalYear(\"&$D$12&\")=\"&$D$9&\" and localMonth(\"&$D$12&\") =\"&$E$9&\" and LocalDay(\"&$D$12&\")=\"&$F$9&\" and Barix(\"&$D$12&\",reference:=StartOfDay)=\"&A19&\"\", \"Bar\", \"\", \"Close\",\"5\",\"0\",\"\",,,\"False\",\"T\",\"EveryTick\")","v":1003},1.7478152309612985E-3,{"$f":"RTD(\"cqg.rtd\",,\"StudyData\", \"Close(\"&$D$12&\") when LocalYear(\"&$D$12&\")=\"&$D$10&\" and localMonth(\"&$D$12&\") =\"&$E$10&\" and LocalDay(\"&$D$12&\")=\"&$F$10&\" and Barix(\"&$D$12&\",reference:=StartOfDay)=\"&A19&\"\", \"Bar\", \"\", \"Close\",\"5\",\"0\",\"\",,,\"False\",\"T\",\"EveryTick\")","v":998.25},-3.4938857000249564E-3,null,null,null,""]
[163,"09:20:00",null,2,"#.00",null,"2018-06-07",{"$f":"RTD(\"cqg.rtd\",,\"StudyData\", \"Close(\"&$D$12&\") when LocalYear(\"&$D$12&\")=\"&$D$1&\" and localMonth(\"&$D$12&\") =\"&$E$1&\" and LocalDay(\"&$D$12&\")=\"&$F$1&\" and Barix(\"&$D$12&\",reference:=StartOfDay)=\"&A20&\"\", \"Bar\", \"\", \"Close\",\"5\",\"0\",\"\",,,\"False\",\"T\",\"EveryTick\")","v":""},{"$error":"#N/A"},{"$f":"RTD(\"cqg.rtd\",,\"StudyData\", \"Close(\"&$D$12&\") when LocalYear(\"&$D$12&\")=\"&$D$2&\" and localMonth(\"&$D$12&\") =\"&$E$2&\" and LocalDay(\"&$D$12&\")=\"&$F$2&\" and Barix(\"&$D$12&\",reference:=StartOfDay)=\"&A20&\"\", \"Bar\", \"\", \"Close\",\"5\",\"0\",\"\",,,\"False\",\"T\",\"EveryTick\")","v":923.5},-4.0442167700188731E-3,{"$f":"RTD(\"cqg.rtd\",,\"StudyData\", \"Close(\"&$D$12&\") when LocalYear(\"&$D$12&\")=\"&$D$3&\" and localMonth(\"&$D$12&\") =\"&$E$3&\" and LocalDay(\"&$D$12&\")=\"&$F$3&\" and Barix(\"&$D$12&\",reference:=StartOfDay)=\"&A20&\"\", \"Bar\", \"\", \"Close\",\"5\",\"0\",\"\",,,\"False\",\"T\",\"EveryTick\")","v":926},-1.0683760683760684E-2,{"$f":"RTD(\"cqg.rtd\",,\"StudyData\", \"Close(\"&$D$12&\") when LocalYear(\"&$D$12&\")=\"&$D$4&\" and localMonth(\"&$D$12&\") =\"&$E$4&\" and LocalDay(\"&$D$12&\")=\"&$F$4&\" and Barix(\"&$D$12&\",reference:=StartOfDay)=\"&A20&\"\", \"Bar\", \"\", \"Close\",\"5\",\"0\",\"\",,,\"False\",\"T\",\"EveryTick\")","v":938.25},-1.6509433962264151E-2,{"$f":"RTD(\"cqg.rtd\",,\"StudyData\", \"Close(\"&$D$12&\") when LocalYear(\"&$D$12&\")=\"&$D$5&\" and localMonth(\"&$D$12&\") =\"&$E$5&\" and LocalDay(\"&$D$12&\")=\"&$F$5&\" and Barix(\"&$D$12&\",reference:=StartOfDay)=\"&A20&\"\", \"Bar\", \"\", \"Close\",\"5\",\"0\",\"\",,,\"False\",\"T\",\"EveryTick\")","v":953},-7.8636959370904328E-4,{"$f":"RTD(\"cqg.rtd\",,\"StudyData\", \"Close(\"&$D$12&\") when LocalYear(\"&$D$12&\")=\"&$D$6&\" and localMonth(\"&$D$12&\") =\"&$E$6&\" and LocalDay(\"&$D$12&\")=\"&$F$6&\" and Barix(\"&$D$12&\",reference:=StartOfDay)=\"&A20&\"\", \"Bar\", \"\", \"Close\",\"5\",\"0\",\"\",,,\"False\",\"T\",\"EveryTick\")","v":960},-9.543461439257158E-3,{"$f":"RTD(\"cqg.rtd\",,\"StudyData\", \"Close(\"&$D$12&\") when LocalYear(\"&$D$12&\")=\"&$D$7&\" and localMonth(\"&$D$12&\") =\"&$E$7&\" and LocalDay(\"&$D$12&\")=\"&$F$7&\" and Barix(\"&$D$12&\",reference:=StartOfDay)=\"&A20&\"\", \"Bar\", \"\", \"Close\",\"5\",\"0\",\"\",,,\"False\",\"T\",\"EveryTick\")","v":972.75},-1.539645881447267E-3,{"$f":"RTD(\"cqg.rtd\",,\"StudyData\", \"Close(\"&$D$12&\") when LocalYear(\"&$D$12&\")=\"&$D$8&\" and localMonth(\"&$D$12&\") =\"&$E$8&\" and LocalDay(\"&$D$12&\")=\"&$F$8&\" and Barix(\"&$D$12&\",reference:=StartOfDay)=\"&A20&\"\", \"Bar\", \"\", \"Close\",\"5\",\"0\",\"\",,,\"False\",\"T\",\"EveryTick\")","v":987},-7.2919285893889869E-3,{"$f":"RTD(\"cqg.rtd\",,\"StudyData\", \"Close(\"&$D$12&\") when LocalYear(\"&$D$12&\")=\"&$D$9&\" and localMonth(\"&$D$12&\") =\"&$E$9&\" and LocalDay(\"&$D$12&\")=\"&$F$9&\" and Barix(\"&$D$12&\",reference:=StartOfDay)=\"&A20&\"\", \"Bar\", \"\", \"Close\",\"5\",\"0\",\"\",,,\"False\",\"T\",\"EveryTick\")","v":1002.25},9.9875156054931333E-4,{"$f":"RTD(\"cqg.rtd\",,\"StudyData\", \"Close(\"&$D$12&\") when LocalYear(\"&$D$12&\")=\"&$D$10&\" and localMonth(\"&$D$12&\") =\"&$E$10&\" and LocalDay(\"&$D$12&\")=\"&$F$10&\" and Barix(\"&$D$12&\",reference:=StartOfDay)=\"&A20&\"\", \"Bar\", \"\", \"Close\",\"5\",\"0\",\"\",,,\"False\",\"T\",\"EveryTick\")","v":999},-2.7451959071624656E-3,null,null,null,""]
[164,"09:25:00",null,3,"#.000",null,"2018-06-06",{"$f":"RTD(\"cqg.rtd\",,\"StudyData\", \"Close(\"&$D$12&\") when LocalYear(\"&$D$12&\")=\"&$D$1&\" and localMonth(\"&$D$12&\") =\"&$E$1&\" and LocalDay(\"&$D$12&\")=\"&$F$1&\" and Barix(\"&$D$12&\",reference:=StartOfDay)=\"&A21&\"\", \"Bar\", \"\", \"Close\",\"5\",\"0\",\"\",,,\"False\",\"T\",\"EveryTick\")","v":""},{"$error":"#N/A"},{"$f":"RTD(\"cqg.rtd\",,\"StudyData\", \"Close(\"&$D$12&\") when LocalYear(\"&$D$12&\")=\"&$D$2&\" and localMonth(\"&$D$12&\") =\"&$E$2&\" and LocalDay(\"&$D$12&\")=\"&$F$2&\" and Barix(\"&$D$12&\",reference:=StartOfDay)=\"&A21&\"\", \"Bar\", \"\", \"Close\",\"5\",\"0\",\"\",,,\"False\",\"T\",\"EveryTick\")","v":921.75},-5.9315179293610134E-3,{"$f":"RTD(\"cqg.rtd\",,\"StudyData\", \"Close(\"&$D$12&\") when LocalYear(\"&$D$12&\")=\"&$D$3&\" and localMonth(\"&$D$12&\") =\"&$E$3&\" and LocalDay(\"&$D$12&\")=\"&$F$3&\" and Barix(\"&$D$12&\",reference:=StartOfDay)=\"&A21&\"\", \"Bar\", \"\", \"Close\",\"5\",\"0\",\"\",,,\"False\",\"T\",\"EveryTick\")","v":926.75},-9.8824786324786321E-3,{"$f":"RTD(\"cqg.rtd\",,\"StudyData\", \"Close(\"&$D$12&\") when LocalYear(\"&$D$12&\")=\"&$D$4&\" and localMonth(\"&$D$12&\") =\"&$E$4&\" and LocalDay(\"&$D$12&\")=\"&$F$4&\" and Barix(\"&$D$12&\",reference:=StartOfDay)=\"&A21&\"\", \"Bar\", \"\", \"Close\",\"5\",\"0\",\"\",,,\"False\",\"T\",\"EveryTick\")","v":939.75},-1.4937106918238994E-2,{"$f":"RTD(\"cqg.rtd\",,\"StudyData\", \"Close(\"&$D$12&\") when LocalYear(\"&$D$12&\")=\"&$D$5&\" and localMonth(\"&$D$12&\") =\"&$E$5&\" and LocalDay(\"&$D$12&\")=\"&$F$5&\" and Barix(\"&$D$12&\",reference:=StartOfDay)=\"&A21&\"\", \"Bar\", \"\", \"Close\",\"5\",\"0\",\"\",,,\"False\",\"T\",\"EveryTick\")","v":953},-7.8636959370904328E-4,{"$f":"RTD(\"cqg.rtd\",,\"StudyData\", \"Close(\"&$D$12&\") when LocalYear(\"&$D$12&\")=\"&$D$6&\" and localMonth(\"&$D$12&\") =\"&$E$6&\" and LocalDay(\"&$D$12&\")=\"&$F$6&\" and Barix(\"&$D$12&\",reference:=StartOfDay)=\"&A21&\"\", \"Bar\", \"\", \"Close\",\"5\",\"0\",\"\",,,\"False\",\"T\",\"EveryTick\")","v":960},-9.543461439257158E-3,{"$f":"RTD(\"cqg.rtd\",,\"StudyData\", \"Close(\"&$D$12&\") when LocalYear(\"&$D$12&\")=\"&$D$7&\" and localMonth(\"&$D$12&\") =\"&$E$7&\" and LocalDay(\"&$D$12&\")=\"&$F$7&\" and Barix(\"&$D$12&\",reference:=StartOfDay)=\"&A21&\"\", \"Bar\", \"\", \"Close\",\"5\",\"0\",\"\",,,\"False\",\"T\",\"EveryTick\")","v":971},-3.3358994098024123E-3,{"$f":"RTD(\"cqg.rtd\",,\"StudyData\", \"Close(\"&$D$12&\") when LocalYear(\"&$D$12&\")=\"&$D$8&\" and localMonth(\"&$D$12&\") =\"&$E$8&\" and LocalDay(\"&$D$12&\")=\"&$F$8&\" and Barix(\"&$D$12&\",reference:=StartOfDay)=\"&A21&\"\", \"Bar\", \"\", \"Close\",\"5\",\"0\",\"\",,,\"False\",\"T\",\"EveryTick\")","v":987.25},-7.0404827759617799E-3,{"$f":"RTD(\"cqg.rtd\",,\"StudyData\", \"Close(\"&$D$12&\") when LocalYear(\"&$D$12&\")=\"&$D$9&\" and localMonth(\"&$D$12&\") =\"&$E$9&\" and LocalDay(\"&$D$12&\")=\"&$F$9&\" and Barix(\"&$D$12&\",reference:=StartOfDay)=\"&A21&\"\", \"Bar\", \"\", \"Close\",\"5\",\"0\",\"\",,,\"False\",\"T\",\"EveryTick\")","v":1002.75},1.4981273408239701E-3,{"$f":"RTD(\"cqg.rtd\",,\"StudyData\", \"Close(\"&$D$12&\") when LocalYear(\"&$D$12&\")=\"&$D$10&\" and localMonth(\"&$D$12&\") =\"&$E$10&\" and LocalDay(\"&$D$12&\")=\"&$F$10&\" and Barix(\"&$D$12&\",reference:=StartOfDay)=\"&A21&\"\", \"Bar\", \"\", \"Close\",\"5\",\"0\",\"\",,,\"False\",\"T\",\"EveryTick\")","v":998.5},-3.2443224357374596E-3,null,null,null,""]
[165,"09:30:00",null,4,"#.0000",null,"2018-06-05",{"$f":"RTD(\"cqg.rtd\",,\"StudyData\", \"Close(\"&$D$12&\") when LocalYear(\"&$D$12&\")=\"&$D$1&\" and localMonth(\"&$D$12&\") =\"&$E$1&\" and LocalDay(\"&$D$12&\")=\"&$F$1&\" and Barix(\"&$D$12&\",reference:=StartOfDay)=\"&A22&\"\", \"Bar\", \"\", \"Close\",\"5\",\"0\",\"\",,,\"False\",\"T\",\"EveryTick\")","v":""},{"$error":"#N/A"},{"$f":"RTD(\"cqg.rtd\",,\"StudyData\", \"Close(\"&$D$12&\") when LocalYear(\"&$D$12&\")=\"&$D$2&\" and localMonth(\"&$D$12&\") =\"&$E$2&\" and LocalDay(\"&$D$12&\")=\"&$F$2&\" and Barix(\"&$D$12&\",reference:=StartOfDay)=\"&A22&\"\", \"Bar\", \"\", \"Close\",\"5\",\"0\",\"\",,,\"False\",\"T\",\"EveryTick\")","v":920.75},-7.0099757346993802E-3,{"$f":"RTD(\"cqg.rtd\",,\"StudyData\", \"Close(\"&$D$12&\") when LocalYear(\"&$D$12&\")=\"&$D$3&\" and localMonth(\"&$D$12&\") =\"&$E$3&\" and LocalDay(\"&$D$12&\")=\"&$F$3&\" and Barix(\"&$D$12&\",reference:=StartOfDay)=\"&A22&\"\", \"Bar\", \"\", \"Close\",\"5\",\"0\",\"\",,,\"False\",\"T\",\"EveryTick\")","v":928},-8.5470085470085479E-3,{"$f":"RTD(\"cqg.rtd\",,\"StudyData\", \"Close(\"&$D$12&\") when LocalYear(\"&$D$12&\")=\"&$D$4&\" and localMonth(\"&$D$12&\") =\"&$E$4&\" and LocalDay(\"&$D$12&\")=\"&$F$4&\" and Barix(\"&$D$12&\",reference:=StartOfDay)=\"&A22&\"\", \"Bar\", \"\", \"Close\",\"5\",\"0\",\"\",,,\"False\",\"T\",\"EveryTick\")","v":941},-1.3626834381551363E-2,{"$f":"RTD(\"cqg.rtd\",,\"StudyData\", \"Close(\"&$D$12&\") when LocalYear(\"&$D$12&\")=\"&$D$5&\" and localMonth(\"&$D$12&\") =\"&$E$5&\" and LocalDay(\"&$D$12&\")=\"&$F$5&\" and Barix(\"&$D$12&\",reference:=StartOfDay)=\"&A22&\"\", \"Bar\", \"\", \"Close\",\"5\",\"0\",\"\",,,\"False\",\"T\",\"EveryTick\")","v":953.75},0,{"$f":"RTD(\"cqg.rtd\",,\"StudyData\", \"Close(\"&$D$12&\") when LocalYear(\"&$D$12&\")=\"&$D$6&\" and localMonth(\"&$D$12&\") =\"&$E$6&\" and LocalDay(\"&$D$12&\")=\"&$F$6&\" and Barix(\"&$D$12&\",reference:=StartOfDay)=\"&A22&\"\", \"Bar\", \"\", \"Close\",\"5\",\"0\",\"\",,,\"False\",\"T\",\"EveryTick\")","v":959},-1.0575187000257931E-2,{"$f":"RTD(\"cqg.rtd\",,\"StudyData\", \"Close(\"&$D$12&\") when LocalYear(\"&$D$12&\")=\"&$D$7&\" and localMonth(\"&$D$12&\") =\"&$E$7&\" and LocalDay(\"&$D$12&\")=\"&$F$7&\" and Barix(\"&$D$12&\",reference:=StartOfDay)=\"&A22&\"\", \"Bar\", \"\", \"Close\",\"5\",\"0\",\"\",,,\"False\",\"T\",\"EveryTick\")","v":971},-3.3358994098024123E-3,{"$f":"RTD(\"cqg.rtd\",,\"StudyData\", \"Close(\"&$D$12&\") when LocalYear(\"&$D$12&\")=\"&$D$8&\" and localMonth(\"&$D$12&\") =\"&$E$8&\" and LocalDay(\"&$D$12&\")=\"&$F$8&\" and Barix(\"&$D$12&\",reference:=StartOfDay)=\"&A22&\"\", \"Bar\", \"\", \"Close\",\"5\",\"0\",\"\",,,\"False\",\"T\",\"EveryTick\")","v":986.75},-7.543374402816193E-3,{"$f":"RTD(\"cqg.rtd\",,\"StudyData\", \"Close(\"&$D$12&\") when LocalYear(\"&$D$12&\")=\"&$D$9&\" and localMonth(\"&$D$12&\") =\"&$E$9&\" and LocalDay(\"&$D$12&\")=\"&$F$9&\" and Barix(\"&$D$12&\",reference:=StartOfDay)=\"&A22&\"\", \"Bar\", \"\", \"Close\",\"5\",\"0\",\"\",,,\"False\",\"T\",\"EveryTick\")","v":1001},-2.4968789013732833E-4,{"$f":"RTD(\"cqg.rtd\",,\"StudyData\", \"Close(\"&$D$12&\") when LocalYear(\"&$D$12&\")=\"&$D$10&\" and localMonth(\"&$D$12&\") =\"&$E$10&\" and LocalDay(\"&$D$12&\")=\"&$F$10&\" and Barix(\"&$D$12&\",reference:=StartOfDay)=\"&A22&\"\", \"Bar\", \"\", \"Close\",\"5\",\"0\",\"\",,,\"False\",\"T\",\"EveryTick\")","v":998.75},-2.9947591714499623E-3,null,null,null,""]
[166,"09:35:00",null,5,"#.00000",null,null,{"$f":"RTD(\"cqg.rtd\",,\"StudyData\", \"Close(\"&$D$12&\") when LocalYear(\"&$D$12&\")=\"&$D$1&\" and localMonth(\"&$D$12&\") =\"&$E$1&\" and LocalDay(\"&$D$12&\")=\"&$F$1&\" and Barix(\"&$D$12&\",reference:=StartOfDay)=\"&A23&\"\", \"Bar\", \"\", \"Close\",\"5\",\"0\",\"\",,,\"False\",\"T\",\"EveryTick\")","v":""},{"$error":"#N/A"},{"$f":"RTD(\"cqg.rtd\",,\"StudyData\", \"Close(\"&$D$12&\") when LocalYear(\"&$D$12&\")=\"&$D$2&\" and localMonth(\"&$D$12&\") =\"&$E$2&\" and LocalDay(\"&$D$12&\")=\"&$F$2&\" and Barix(\"&$D$12&\",reference:=StartOfDay)=\"&A23&\"\", \"Bar\", \"\", \"Close\",\"5\",\"0\",\"\",,,\"False\",\"T\",\"EveryTick\")","v":922},-5.6619034780264225E-3,{"$f":"RTD(\"cqg.rtd\",,\"StudyData\", \"Close(\"&$D$12&\") when LocalYear(\"&$D$12&\")=\"&$D$3&\" and localMonth(\"&$D$12&\") =\"&$E$3&\" and LocalDay(\"&$D$12&\")=\"&$F$3&\" and Barix(\"&$D$12&\",reference:=StartOfDay)=\"&A23&\"\", \"Bar\", \"\", \"Close\",\"5\",\"0\",\"\",,,\"False\",\"T\",\"EveryTick\")","v":926},-1.0683760683760684E-2,{"$f":"RTD(\"cqg.rtd\",,\"StudyData\", \"Close(\"&$D$12&\") when LocalYear(\"&$D$12&\")=\"&$D$4&\" and localMonth(\"&$D$12&\") =\"&$E$4&\" and LocalDay(\"&$D$12&\")=\"&$F$4&\" and Barix(\"&$D$12&\",reference:=StartOfDay)=\"&A23&\"\", \"Bar\", \"\", \"Close\",\"5\",\"0\",\"\",,,\"False\",\"T\",\"EveryTick\")","v":940.75},-1.3888888888888888E-2,{"$f":"RTD(\"cqg.rtd\",,\"StudyData\", \"Close(\"&$D$12&\") when LocalYear(\"&$D$12&\")=\"&$D$5&\" and localMonth(\"&$D$12&\") =\"&$E$5&\" and LocalDay(\"&$D$12&\")=\"&$F$5&\" and Barix(\"&$D$12&\",reference:=StartOfDay)=\"&A23&\"\", \"Bar\", \"\", \"Close\",\"5\",\"0\",\"\",,,\"False\",\"T\",\"EveryTick\")","v":954},2.6212319790301441E-4,{"$f":"RTD(\"cqg.rtd\",,\"StudyData\", \"Close(\"&$D$12&\") when LocalYear(\"&$D$12&\")=\"&$D$6&\" and localMonth(\"&$D$12&\") =\"&$E$6&\" and LocalDay(\"&$D$12&\")=\"&$F$6&\" and Barix(\"&$D$12&\",reference:=StartOfDay)=\"&A23&\"\", \"Bar\", \"\", \"Close\",\"5\",\"0\",\"\",,,\"False\",\"T\",\"EveryTick\")","v":958.75},-1.0833118390508125E-2,{"$f":"RTD(\"cqg.rtd\",,\"StudyData\", \"Close(\"&$D$12&\") when LocalYear(\"&$D$12&\")=\"&$D$7&\" and localMonth(\"&$D$12&\") =\"&$E$7&\" and LocalDay(\"&$D$12&\")=\"&$F$7&\" and Barix(\"&$D$12&\",reference:=StartOfDay)=\"&A23&\"\", \"Bar\", \"\", \"Close\",\"5\",\"0\",\"\",,,\"False\",\"T\",\"EveryTick\")","v":972.25},-2.0528611752630229E-3,{"$f":"RTD(\"cqg.rtd\",,\"StudyData\", \"Close(\"&$D$12&\") when LocalYear(\"&$D$12&\")=\"&$D$8&\" and localMonth(\"&$D$12&\") =\"&$E$8&\" and LocalDay(\"&$D$12&\")=\"&$F$8&\" and Barix(\"&$D$12&\",reference:=StartOfDay)=\"&A23&\"\", \"Bar\", \"\", \"Close\",\"5\",\"0\",\"\",,,\"False\",\"T\",\"EveryTick\")","v":987.75},-6.5375911491073677E-3,{"$f":"RTD(\"cqg.rtd\",,\"StudyData\", \"Close(\"&$D$12&\") when LocalYear(\"&$D$12&\")=\"&$D$9&\" and localMonth(\"&$D$12&\") =\"&$E$9&\" and LocalDay(\"&$D$12&\")=\"&$F$9&\" and Barix(\"&$D$12&\",reference:=StartOfDay)=\"&A23&\"\", \"Bar\", \"\", \"Close\",\"5\",\"0\",\"\",,,\"False\",\"T\",\"EveryTick\")","v":1001.5},2.4968789013732833E-4,{"$f":"RTD(\"cqg.rtd\",,\"StudyData\", \"Close(\"&$D$12&\") when LocalYear(\"&$D$12&\")=\"&$D$10&\" and localMonth(\"&$D$12&\") =\"&$E$10&\" and LocalDay(\"&$D$12&\")=\"&$F$10&\" and Barix(\"&$D$12&\",reference:=StartOfDay)=\"&A23&\"\", \"Bar\", \"\", \"Close\",\"5\",\"0\",\"\",,,\"False\",\"T\",\"EveryTick\")","v":998.25},-3.4938857000249564E-3,null,null,null,""]
[167,"09:40:00",null,6,"#.000000",null,null,{"$f":"RTD(\"cqg.rtd\",,\"StudyData\", \"Close(\"&$D$12&\") when LocalYear(\"&$D$12&\")=\"&$D$1&\" and localMonth(\"&$D$12&\") =\"&$E$1&\" and LocalDay(\"&$D$12&\")=\"&$F$1&\" and Barix(\"&$D$12&\",reference:=StartOfDay)=\"&A24&\"\", \"Bar\", \"\", \"Close\",\"5\",\"0\",\"\",,,\"False\",\"T\",\"EveryTick\")","v":""},{"$error":"#N/A"},{"$f":"RTD(\"cqg.rtd\",,\"StudyData\", \"Close(\"&$D$12&\") when LocalYear(\"&$D$12&\")=\"&$D$2&\" and localMonth(\"&$D$12&\") =\"&$E$2&\" and LocalDay(\"&$D$12&\")=\"&$F$2&\" and Barix(\"&$D$12&\",reference:=StartOfDay)=\"&A24&\"\", \"Bar\", \"\", \"Close\",\"5\",\"0\",\"\",,,\"False\",\"T\",\"EveryTick\")","v":921.75},-5.9315179293610134E-3,{"$f":"RTD(\"cqg.rtd\",,\"StudyData\", \"Close(\"&$D$12&\") when LocalYear(\"&$D$12&\")=\"&$D$3&\" and localMonth(\"&$D$12&\") =\"&$E$3&\" and LocalDay(\"&$D$12&\")=\"&$F$3&\" and Barix(\"&$D$12&\",reference:=StartOfDay)=\"&A24&\"\", \"Bar\", \"\", \"Close\",\"5\",\"0\",\"\",,,\"False\",\"T\",\"EveryTick\")","v":926},-1.0683760683760684E-2,{"$f":"RTD(\"cqg.rtd\",,\"StudyData\", \"Close(\"&$D$12&\") when LocalYear(\"&$D$12&\")=\"&$D$4&\" and localMonth(\"&$D$12&\") =\"&$E$4&\" and LocalDay(\"&$D$12&\")=\"&$F$4&\" and Barix(\"&$D$12&\",reference:=StartOfDay)=\"&A24&\"\", \"Bar\", \"\", \"Close\",\"5\",\"0\",\"\",,,\"False\",\"T\",\"EveryTick\")","v":940},-1.4675052410901468E-2,{"$f":"RTD(\"cqg.rtd\",,\"StudyData\", \"Close(\"&$D$12&\") when LocalYear(\"&$D$12&\")=\"&$D$5&\" and localMonth(\"&$D$12&\") =\"&$E$5&\" and LocalDay(\"&$D$12&\")=\"&$F$5&\" and Barix(\"&$D$12&\",reference:=StartOfDay)=\"&A24&\"\", \"Bar\", \"\", \"Close\",\"5\",\"0\",\"\",,,\"False\",\"T\",\"EveryTick\")","v":953.25},-5.2424639580602882E-4,{"$f":"RTD(\"cqg.rtd\",,\"StudyData\", \"Close(\"&$D$12&\") when LocalYear(\"&$D$12&\")=\"&$D$6&\" and localMonth(\"&$D$12&\") =\"&$E$6&\" and LocalDay(\"&$D$12&\")=\"&$F$6&\" and Barix(\"&$D$12&\",reference:=StartOfDay)=\"&A24&\"\", \"Bar\", \"\", \"Close\",\"5\",\"0\",\"\",,,\"False\",\"T\",\"EveryTick\")","v":958.5},-1.1091049780758318E-2,{"$f":"RTD(\"cqg.rtd\",,\"StudyData\", \"Close(\"&$D$12&\") when LocalYear(\"&$D$12&\")=\"&$D$7&\" and localMonth(\"&$D$12&\") =\"&$E$7&\" and LocalDay(\"&$D$12&\")=\"&$F$7&\" and Barix(\"&$D$12&\",reference:=StartOfDay)=\"&A24&\"\", \"Bar\", \"\", \"Close\",\"5\",\"0\",\"\",,,\"False\",\"T\",\"EveryTick\")","v":972.25},-2.0528611752630229E-3,{"$f":"RTD(\"cqg.rtd\",,\"StudyData\", \"Close(\"&$D$12&\") when LocalYear(\"&$D$12&\")=\"&$D$8&\" and localMonth(\"&$D$12&\") =\"&$E$8&\" and LocalDay(\"&$D$12&\")=\"&$F$8&\" and Barix(\"&$D$12&\",reference:=StartOfDay)=\"&A24&\"\", \"Bar\", \"\", \"Close\",\"5\",\"0\",\"\",,,\"False\",\"T\",\"EveryTick\")","v":987},-7.2919285893889869E-3,{"$f":"RTD(\"cqg.rtd\",,\"StudyData\", \"Close(\"&$D$12&\") when LocalYear(\"&$D$12&\")=\"&$D$9&\" and localMonth(\"&$D$12&\") =\"&$E$9&\" and LocalDay(\"&$D$12&\")=\"&$F$9&\" and Barix(\"&$D$12&\",reference:=StartOfDay)=\"&A24&\"\", \"Bar\", \"\", \"Close\",\"5\",\"0\",\"\",,,\"False\",\"T\",\"EveryTick\")","v":1000.5},-7.4906367041198505E-4,{"$f":"RTD(\"cqg.rtd\",,\"StudyData\", \"Close(\"&$D$12&\") when LocalYear(\"&$D$12&\")=\"&$D$10&\" and localMonth(\"&$D$12&\") =\"&$E$10&\" and LocalDay(\"&$D$12&\")=\"&$F$10&\" and Barix(\"&$D$12&\",reference:=StartOfDay)=\"&A24&\"\", \"Bar\", \"\", \"Close\",\"5\",\"0\",\"\",,,\"False\",\"T\",\"EveryTick\")","v":998.25},-3.4938857000249564E-3,null,null,null,""]
[168,"09:45:00",null,7,"#.0000000",null,null,{"$f":"RTD(\"cqg.rtd\",,\"StudyData\", \"Close(\"&$D$12&\") when LocalYear(\"&$D$12&\")=\"&$D$1&\" and localMonth(\"&$D$12&\") =\"&$E$1&\" and LocalDay(\"&$D$12&\")=\"&$F$1&\" and Barix(\"&$D$12&\",reference:=StartOfDay)=\"&A25&\"\", \"Bar\", \"\", \"Close\",\"5\",\"0\",\"\",,,\"False\",\"T\",\"EveryTick\")","v":""},{"$error":"#N/A"},{"$f":"RTD(\"cqg.rtd\",,\"StudyData\", \"Close(\"&$D$12&\") when LocalYear(\"&$D$12&\")=\"&$D$2&\" and localMonth(\"&$D$12&\") =\"&$E$2&\" and LocalDay(\"&$D$12&\")=\"&$F$2&\" and Barix(\"&$D$12&\",reference:=StartOfDay)=\"&A25&\"\", \"Bar\", \"\", \"Close\",\"5\",\"0\",\"\",,,\"False\",\"T\",\"EveryTick\")","v":921},-6.7403612833647885E-3,{"$f":"RTD(\"cqg.rtd\",,\"StudyData\", \"Close(\"&$D$12&\") when LocalYear(\"&$D$12&\")=\"&$D$3&\" and localMonth(\"&$D$12&\") =\"&$E$3&\" and LocalDay(\"&$D$12&\")=\"&$F$3&\" and Barix(\"&$D$12&\",reference:=StartOfDay)=\"&A25&\"\", \"Bar\", \"\", \"Close\",\"5\",\"0\",\"\",,,\"False\",\"T\",\"EveryTick\")","v":926.5},-1.014957264957265E-2,{"$f":"RTD(\"cqg.rtd\",,\"StudyData\", \"Close(\"&$D$12&\") when LocalYear(\"&$D$12&\")=\"&$D$4&\" and localMonth(\"&$D$12&\") =\"&$E$4&\" and LocalDay(\"&$D$12&\")=\"&$F$4&\" and Barix(\"&$D$12&\",reference:=StartOfDay)=\"&A25&\"\", \"Bar\", \"\", \"Close\",\"5\",\"0\",\"\",,,\"False\",\"T\",\"EveryTick\")","v":942.25},-1.2316561844863731E-2,{"$f":"RTD(\"cqg.rtd\",,\"StudyData\", \"Close(\"&$D$12&\") when LocalYear(\"&$D$12&\")=\"&$D$5&\" and localMonth(\"&$D$12&\") =\"&$E$5&\" and LocalDay(\"&$D$12&\")=\"&$F$5&\" and Barix(\"&$D$12&\",reference:=StartOfDay)=\"&A25&\"\", \"Bar\", \"\", \"Close\",\"5\",\"0\",\"\",,,\"False\",\"T\",\"EveryTick\")","v":954},2.6212319790301441E-4,{"$f":"RTD(\"cqg.rtd\",,\"StudyData\", \"Close(\"&$D$12&\") when LocalYear(\"&$D$12&\")=\"&$D$6&\" and localMonth(\"&$D$12&\") =\"&$E$6&\" and LocalDay(\"&$D$12&\")=\"&$F$6&\" and Barix(\"&$D$12&\",reference:=StartOfDay)=\"&A25&\"\", \"Bar\", \"\", \"Close\",\"5\",\"0\",\"\",,,\"False\",\"T\",\"EveryTick\")","v":958},-1.1606912561258705E-2,{"$f":"RTD(\"cqg.rtd\",,\"StudyData\", \"Close(\"&$D$12&\") when LocalYear(\"&$D$12&\")=\"&$D$7&\" and localMonth(\"&$D$12&\") =\"&$E$7&\" and LocalDay(\"&$D$12&\")=\"&$F$7&\" and Barix(\"&$D$12&\",reference:=StartOfDay)=\"&A25&\"\", \"Bar\", \"\", \"Close\",\"5\",\"0\",\"\",,,\"False\",\"T\",\"EveryTick\")","v":970.75},-3.5925070567102901E-3,{"$f":"RTD(\"cqg.rtd\",,\"StudyData\", \"Close(\"&$D$12&\") when LocalYear(\"&$D$12&\")=\"&$D$8&\" and localMonth(\"&$D$12&\") =\"&$E$8&\" and LocalDay(\"&$D$12&\")=\"&$F$8&\" and Barix(\"&$D$12&\",reference:=StartOfDay)=\"&A25&\"\", \"Bar\", \"\", \"Close\",\"5\",\"0\",\"\",,,\"False\",\"T\",\"EveryTick\")","v":988},-6.2861453356801607E-3,{"$f":"RTD(\"cqg.rtd\",,\"StudyData\", \"Close(\"&$D$12&\") when LocalYear(\"&$D$12&\")=\"&$D$9&\" and localMonth(\"&$D$12&\") =\"&$E$9&\" and LocalDay(\"&$D$12&\")=\"&$F$9&\" and Barix(\"&$D$12&\",reference:=StartOfDay)=\"&A25&\"\", \"Bar\", \"\", \"Close\",\"5\",\"0\",\"\",,,\"False\",\"T\",\"EveryTick\")","v":1000.5},-7.4906367041198505E-4,{"$f":"RTD(\"cqg.rtd\",,\"StudyData\", \"Close(\"&$D$12&\") when LocalYear(\"&$D$12&\")=\"&$D$10&\" and localMonth(\"&$D$12&\") =\"&$E$10&\" and LocalDay(\"&$D$12&\")=\"&$F$10&\" and Barix(\"&$D$12&\",reference:=StartOfDay)=\"&A25&\"\", \"Bar\", \"\", \"Close\",\"5\",\"0\",\"\",,,\"False\",\"T\",\"EveryTick\")","v":997.5},-4.2425754928874472E-3,null,null,null,""]
[169,"09:50:00",{"$f":"IF(WEEKDAY(TODAY())=7,TODAY()-1,IF(WEEKDAY(TODAY())=1,TODAY()-2,TODAY()))","v":"2018-06-18"},{"$f":"YEAR(C26)","v":2018},{"$f":"MONTH(C26)","v":6},{"$f":"DAY(C26)","v":18},null,{"$f":"RTD(\"cqg.rtd\",,\"StudyData\", \"Close(\"&$D$12&\") when LocalYear(\"&$D$12&\")=\"&$D$1&\" and localMonth(\"&$D$12&\") =\"&$E$1&\" and LocalDay(\"&$D$12&\")=\"&$F$1&\" and Barix(\"&$D$12&\",reference:=StartOfDay)=\"&A26&\"\", \"Bar\", \"\", \"Close\",\"5\",\"0\",\"\",,,\"False\",\"T\",\"EveryTick\")","v":""},{"$error":"#N/A"},{"$f":"RTD(\"cqg.rtd\",,\"StudyData\", \"Close(\"&$D$12&\") when LocalYear(\"&$D$12&\")=\"&$D$2&\" and localMonth(\"&$D$12&\") =\"&$E$2&\" and LocalDay(\"&$D$12&\")=\"&$F$2&\" and Barix(\"&$D$12&\",reference:=StartOfDay)=\"&A26&\"\", \"Bar\", \"\", \"Close\",\"5\",\"0\",\"\",,,\"False\",\"T\",\"EveryTick\")","v":921.25},-6.4707468320301968E-3,{"$f":"RTD(\"cqg.rtd\",,\"StudyData\", \"Close(\"&$D$12&\") when LocalYear(\"&$D$12&\")=\"&$D$3&\" and localMonth(\"&$D$12&\") =\"&$E$3&\" and LocalDay(\"&$D$12&\")=\"&$F$3&\" and Barix(\"&$D$12&\",reference:=StartOfDay)=\"&A26&\"\", \"Bar\", \"\", \"Close\",\"5\",\"0\",\"\",,,\"False\",\"T\",\"EveryTick\")","v":926.75},-9.8824786324786321E-3,{"$f":"RTD(\"cqg.rtd\",,\"StudyData\", \"Close(\"&$D$12&\") when LocalYear(\"&$D$12&\")=\"&$D$4&\" and localMonth(\"&$D$12&\") =\"&$E$4&\" and LocalDay(\"&$D$12&\")=\"&$F$4&\" and Barix(\"&$D$12&\",reference:=StartOfDay)=\"&A26&\"\", \"Bar\", \"\", \"Close\",\"5\",\"0\",\"\",,,\"False\",\"T\",\"EveryTick\")","v":942.25},-1.2316561844863731E-2,{"$f":"RTD(\"cqg.rtd\",,\"StudyData\", \"Close(\"&$D$12&\") when LocalYear(\"&$D$12&\")=\"&$D$5&\" and localMonth(\"&$D$12&\") =\"&$E$5&\" and LocalDay(\"&$D$12&\")=\"&$F$5&\" and Barix(\"&$D$12&\",reference:=StartOfDay)=\"&A26&\"\", \"Bar\", \"\", \"Close\",\"5\",\"0\",\"\",,,\"False\",\"T\",\"EveryTick\")","v":953.25},-5.2424639580602882E-4,{"$f":"RTD(\"cqg.rtd\",,\"StudyData\", \"Close(\"&$D$12&\") when LocalYear(\"&$D$12&\")=\"&$D$6&\" and localMonth(\"&$D$12&\") =\"&$E$6&\" and LocalDay(\"&$D$12&\")=\"&$F$6&\" and Barix(\"&$D$12&\",reference:=StartOfDay)=\"&A26&\"\", \"Bar\", \"\", \"Close\",\"5\",\"0\",\"\",,,\"False\",\"T\",\"EveryTick\")","v":957.25},-1.2380706732009285E-2,{"$f":"RTD(\"cqg.rtd\",,\"StudyData\", \"Close(\"&$D$12&\") when LocalYear(\"&$D$12&\")=\"&$D$7&\" and localMonth(\"&$D$12&\") =\"&$E$7&\" and LocalDay(\"&$D$12&\")=\"&$F$7&\" and Barix(\"&$D$12&\",reference:=StartOfDay)=\"&A26&\"\", \"Bar\", \"\", \"Close\",\"5\",\"0\",\"\",,,\"False\",\"T\",\"EveryTick\")","v":970},-4.3623299974339235E-3,{"$f":"RTD(\"cqg.rtd\",,\"StudyData\", \"Close(\"&$D$12&\") when LocalYear(\"&$D$12&\")=\"&$D$8&\" and localMonth(\"&$D$12&\") =\"&$E$8&\" and LocalDay(\"&$D$12&\")=\"&$F$8&\" and Barix(\"&$D$12&\",reference:=StartOfDay)=\"&A26&\"\", \"Bar\", \"\", \"Close\",\"5\",\"0\",\"\",,,\"False\",\"T\",\"EveryTick\")","v":987.25},-7.0404827759617799E-3,{"$f":"RTD(\"cqg.rtd\",,\"StudyData\", \"Close(\"&$D$12&\") when LocalYear(\"&$D$12&\")=\"&$D$9&\" and localMonth(\"&$D$12&\") =\"&$E$9&\" and LocalDay(\"&$D$12&\")=\"&$F$9&\" and Barix(\"&$D$12&\",reference:=StartOfDay)=\"&A26&\"\", \"Bar\", \"\", \"Close\",\"5\",\"0\",\"\",,,\"False\",\"T\",\"EveryTick\")","v":1000.25},-9.9875156054931333E-4,{"$f":"RTD(\"cqg.rtd\",,\"StudyData\", \"Close(\"&$D$12&\") when LocalYear(\"&$D$12&\")=\"&$D$10&\" and localMonth(\"&$D$12&\") =\"&$E$10&\" and LocalDay(\"&$D$12&\")=\"&$F$10&\" and Barix(\"&$D$12&\",reference:=StartOfDay)=\"&A26&\"\", \"Bar\", \"\", \"Close\",\"5\",\"0\",\"\",,,\"False\",\"T\",\"EveryTick\")","v":998},-3.7434489643124532E-3,null,null,null,""]
[170,"09:55:00",{"$f":"WORKDAY(C26,-1)","v":"2018-06-15"},{"$f":"YEAR(C27)","v":2018},{"$f":"MONTH(C27)","v":6},{"$f":"DAY(C27)","v":15},{"$f":"IF(RTD(\"cqg.rtd\",,\"StudyData\", \"Close(\"&$D$12&\") when LocalYear(\"&$D$12&\")=\"&D27&\" and localMonth(\"&$D$12&\") =\"&E27&\" and LocalDay(\"&$D$12&\")=\"&F27&\" and Barix(\"&$D$12&\",reference:=StartOfSession)=56\", \"Bar\", \"\", \"Close\",\"5\",\"0\",\"PrimaryOnly\",,,\"False\",\"T\",\"EveryTick\")=\"\",2,1)","v":1},{"$f":"RTD(\"cqg.rtd\",,\"StudyData\", \"Close(\"&$D$12&\") when LocalYear(\"&$D$12&\")=\"&$D$1&\" and localMonth(\"&$D$12&\") =\"&$E$1&\" and LocalDay(\"&$D$12&\")=\"&$F$1&\" and Barix(\"&$D$12&\",reference:=StartOfDay)=\"&A27&\"\", \"Bar\", \"\", \"Close\",\"5\",\"0\",\"\",,,\"False\",\"T\",\"EveryTick\")","v":""},{"$error":"#N/A"},{"$f":"RTD(\"cqg.rtd\",,\"StudyData\", \"Close(\"&$D$12&\") when LocalYear(\"&$D$12&\")=\"&$D$2&\" and localMonth(\"&$D$12&\") =\"&$E$2&\" and LocalDay(\"&$D$12&\")=\"&$F$2&\" and Barix(\"&$D$12&\",reference:=StartOfDay)=\"&A27&\"\", \"Bar\", \"\", \"Close\",\"5\",\"0\",\"\",,,\"False\",\"T\",\"EveryTick\")","v":922.25},-5.3922890266918308E-3,{"$f":"RTD(\"cqg.rtd\",,\"StudyData\", \"Close(\"&$D$12&\") when LocalYear(\"&$D$12&\")=\"&$D$3&\" and localMonth(\"&$D$12&\") =\"&$E$3&\" and LocalDay(\"&$D$12&\")=\"&$F$3&\" and Barix(\"&$D$12&\",reference:=StartOfDay)=\"&A27&\"\", \"Bar\", \"\", \"Close\",\"5\",\"0\",\"\",,,\"False\",\"T\",\"EveryTick\")","v":928},-8.5470085470085479E-3,{"$f":"RTD(\"cqg.rtd\",,\"StudyData\", \"Close(\"&$D$12&\") when LocalYear(\"&$D$12&\")=\"&$D$4&\" and localMonth(\"&$D$12&\") =\"&$E$4&\" and LocalDay(\"&$D$12&\")=\"&$F$4&\" and Barix(\"&$D$12&\",reference:=StartOfDay)=\"&A27&\"\", \"Bar\", \"\", \"Close\",\"5\",\"0\",\"\",,,\"False\",\"T\",\"EveryTick\")","v":942.75},-1.179245283018868E-2,{"$f":"RTD(\"cqg.rtd\",,\"StudyData\", \"Close(\"&$D$12&\") when LocalYear(\"&$D$12&\")=\"&$D$5&\" and localMonth(\"&$D$12&\") =\"&$E$5&\" and LocalDay(\"&$D$12&\")=\"&$F$5&\" and Barix(\"&$D$12&\",reference:=StartOfDay)=\"&A27&\"\", \"Bar\", \"\", \"Close\",\"5\",\"0\",\"\",,,\"False\",\"T\",\"EveryTick\")","v":954.25},5.2424639580602882E-4,{"$f":"RTD(\"cqg.rtd\",,\"StudyData\", \"Close(\"&$D$12&\") when LocalYear(\"&$D$12&\")=\"&$D$6&\" and localMonth(\"&$D$12&\") =\"&$E$6&\" and LocalDay(\"&$D$12&\")=\"&$F$6&\" and Barix(\"&$D$12&\",reference:=StartOfDay)=\"&A27&\"\", \"Bar\", \"\", \"Close\",\"5\",\"0\",\"\",,,\"False\",\"T\",\"EveryTick\")","v":957.75},-1.1864843951508899E-2,{"$f":"RTD(\"cqg.rtd\",,\"StudyData\", \"Close(\"&$D$12&\") when LocalYear(\"&$D$12&\")=\"&$D$7&\" and localMonth(\"&$D$12&\") =\"&$E$7&\" and LocalDay(\"&$D$12&\")=\"&$F$7&\" and Barix(\"&$D$12&\",reference:=StartOfDay)=\"&A27&\"\", \"Bar\", \"\", \"Close\",\"5\",\"0\",\"\",,,\"False\",\"T\",\"EveryTick\")","v":970.5},-3.8491147036181679E-3,{"$f":"RTD(\"cqg.rtd\",,\"StudyData\", \"Close(\"&$D$12&\") when LocalYear(\"&$D$12&\")=\"&$D$8&\" and localMonth(\"&$D$12&\") =\"&$E$8&\" and LocalDay(\"&$D$12&\")=\"&$F$8&\" and Barix(\"&$D$12&\",reference:=StartOfDay)=\"&A27&\"\", \"Bar\", \"\", \"Close\",\"5\",\"0\",\"\",,,\"False\",\"T\",\"EveryTick\")","v":986.5},-7.7948202162434E-3,{"$f":"RTD(\"cqg.rtd\",,\"StudyData\", \"Close(\"&$D$12&\") when LocalYear(\"&$D$12&\")=\"&$D$9&\" and localMonth(\"&$D$12&\") =\"&$E$9&\" and LocalDay(\"&$D$12&\")=\"&$F$9&\" and Barix(\"&$D$12&\",reference:=StartOfDay)=\"&A27&\"\", \"Bar\", \"\", \"Close\",\"5\",\"0\",\"\",,,\"False\",\"T\",\"EveryTick\")","v":1000.75},-4.9937578027465666E-4,{"$f":"RTD(\"cqg.rtd\",,\"StudyData\", \"Close(\"&$D$12&\") when LocalYear(\"&$D$12&\")=\"&$D$10&\" and localMonth(\"&$D$12&\") =\"&$E$10&\" and LocalDay(\"&$D$12&\")=\"&$F$10&\" and Barix(\"&$D$12&\",reference:=StartOfDay)=\"&A27&\"\", \"Bar\", \"\", \"Close\",\"5\",\"0\",\"\",,,\"False\",\"T\",\"EveryTick\")","v":998.75},-2.9947591714499623E-3,null,null,null,""]
[171,"10:00:00",{"$f":"WORKDAY(C27,-1)","v":"2018-06-14"},2018,6,14,{"$f":"IF(RTD(\"cqg.rtd\",,\"StudyData\", \"Close(\"&$D$12&\") when LocalYear(\"&$D$12&\")=\"&D28&\" and localMonth(\"&$D$12&\") =\"&E28&\" and LocalDay(\"&$D$12&\")=\"&F28&\" and Barix(\"&$D$12&\",reference:=StartOfSession)=56\", \"Bar\", \"\", \"Close\",\"5\",\"0\",\"PrimaryOnly\",,,\"False\",\"T\",\"EveryTick\")=\"\",2,1)","v":1},{"$f":"RTD(\"cqg.rtd\",,\"StudyData\", \"Close(\"&$D$12&\") when LocalYear(\"&$D$12&\")=\"&$D$1&\" and localMonth(\"&$D$12&\") =\"&$E$1&\" and LocalDay(\"&$D$12&\")=\"&$F$1&\" and Barix(\"&$D$12&\",reference:=StartOfDay)=\"&A28&\"\", \"Bar\", \"\", \"Close\",\"5\",\"0\",\"\",,,\"False\",\"T\",\"EveryTick\")","v":""},{"$error":"#N/A"},{"$f":"RTD(\"cqg.rtd\",,\"StudyData\", \"Close(\"&$D$12&\") when LocalYear(\"&$D$12&\")=\"&$D$2&\" and localMonth(\"&$D$12&\") =\"&$E$2&\" and LocalDay(\"&$D$12&\")=\"&$F$2&\" and Barix(\"&$D$12&\",reference:=StartOfDay)=\"&A28&\"\", \"Bar\", \"\", \"Close\",\"5\",\"0\",\"\",,,\"False\",\"T\",\"EveryTick\")","v":921.25},-6.4707468320301968E-3,{"$f":"RTD(\"cqg.rtd\",,\"StudyData\", \"Close(\"&$D$12&\") when LocalYear(\"&$D$12&\")=\"&$D$3&\" and localMonth(\"&$D$12&\") =\"&$E$3&\" and LocalDay(\"&$D$12&\")=\"&$F$3&\" and Barix(\"&$D$12&\",reference:=StartOfDay)=\"&A28&\"\", \"Bar\", \"\", \"Close\",\"5\",\"0\",\"\",,,\"False\",\"T\",\"EveryTick\")","v":926.75},-9.8824786324786321E-3,{"$f":"RTD(\"cqg.rtd\",,\"StudyData\", \"Close(\"&$D$12&\") when LocalYear(\"&$D$12&\")=\"&$D$4&\" and localMonth(\"&$D$12&\") =\"&$E$4&\" and LocalDay(\"&$D$12&\")=\"&$F$4&\" and Barix(\"&$D$12&\",reference:=StartOfDay)=\"&A28&\"\", \"Bar\", \"\", \"Close\",\"5\",\"0\",\"\",,,\"False\",\"T\",\"EveryTick\")","v":941.75},-1.2840670859538784E-2,{"$f":"RTD(\"cqg.rtd\",,\"StudyData\", \"Close(\"&$D$12&\") when LocalYear(\"&$D$12&\")=\"&$D$5&\" and localMonth(\"&$D$12&\") =\"&$E$5&\" and LocalDay(\"&$D$12&\")=\"&$F$5&\" and Barix(\"&$D$12&\",reference:=StartOfDay)=\"&A28&\"\", \"Bar\", \"\", \"Close\",\"5\",\"0\",\"\",,,\"False\",\"T\",\"EveryTick\")","v":953.25},-5.2424639580602882E-4,{"$f":"RTD(\"cqg.rtd\",,\"StudyData\", \"Close(\"&$D$12&\") when LocalYear(\"&$D$12&\")=\"&$D$6&\" and localMonth(\"&$D$12&\") =\"&$E$6&\" and LocalDay(\"&$D$12&\")=\"&$F$6&\" and Barix(\"&$D$12&\",reference:=StartOfDay)=\"&A28&\"\", \"Bar\", \"\", \"Close\",\"5\",\"0\",\"\",,,\"False\",\"T\",\"EveryTick\")","v":956.75},-1.2896569512509672E-2,{"$f":"RTD(\"cqg.rtd\",,\"StudyData\", \"Close(\"&$D$12&\") when LocalYear(\"&$D$12&\")=\"&$D$7&\" and localMonth(\"&$D$12&\") =\"&$E$7&\" and LocalDay(\"&$D$12&\")=\"&$F$7&\" and Barix(\"&$D$12&\",reference:=StartOfDay)=\"&A28&\"\", \"Bar\", \"\", \"Close\",\"5\",\"0\",\"\",,,\"False\",\"T\",\"EveryTick\")","v":969.25},-5.1321529381575569E-3,{"$f":"RTD(\"cqg.rtd\",,\"StudyData\", \"Close(\"&$D$12&\") when LocalYear(\"&$D$12&\")=\"&$D$8&\" and localMonth(\"&$D$12&\") =\"&$E$8&\" and LocalDay(\"&$D$12&\")=\"&$F$8&\" and Barix(\"&$D$12&\",reference:=StartOfDay)=\"&A28&\"\", \"Bar\", \"\", \"Close\",\"5\",\"0\",\"\",,,\"False\",\"T\",\"EveryTick\")","v":986},-8.2977118430978131E-3,{"$f":"RTD(\"cqg.rtd\",,\"StudyData\", \"Close(\"&$D$12&\") when LocalYear(\"&$D$12&\")=\"&$D$9&\" and localMonth(\"&$D$12&\") =\"&$E$9&\" and LocalDay(\"&$D$12&\")=\"&$F$9&\" and Barix(\"&$D$12&\",reference:=StartOfDay)=\"&A28&\"\", \"Bar\", \"\", \"Close\",\"5\",\"0\",\"\",,,\"False\",\"T\",\"EveryTick\")","v":1000.5},-7.4906367041198505E-4,{"$f":"RTD(\"cqg.rtd\",,\"StudyData\", \"Close(\"&$D$12&\") when LocalYear(\"&$D$12&\")=\"&$D$10&\" and localMonth(\"&$D$12&\") =\"&$E$10&\" and LocalDay(\"&$D$12&\")=\"&$F$10&\" and Barix(\"&$D$12&\",reference:=StartOfDay)=\"&A28&\"\", \"Bar\", \"\", \"Close\",\"5\",\"0\",\"\",,,\"False\",\"T\",\"EveryTick\")","v":999.75},-1.9965061142999752E-3,null,null,null,""]
[172,"10:05:00","2018-06-13",2018,6,13,{"$f":"IF(RTD(\"cqg.rtd\",,\"StudyData\", \"Close(\"&$D$12&\") when LocalYear(\"&$D$12&\")=\"&D29&\" and localMonth(\"&$D$12&\") =\"&E29&\" and LocalDay(\"&$D$12&\")=\"&F29&\" and Barix(\"&$D$12&\",reference:=StartOfSession)=56\", \"Bar\", \"\", \"Close\",\"5\",\"0\",\"PrimaryOnly\",,,\"False\",\"T\",\"EveryTick\")=\"\",2,1)","v":1},{"$f":"RTD(\"cqg.rtd\",,\"StudyData\", \"Close(\"&$D$12&\") when LocalYear(\"&$D$12&\")=\"&$D$1&\" and localMonth(\"&$D$12&\") =\"&$E$1&\" and LocalDay(\"&$D$12&\")=\"&$F$1&\" and Barix(\"&$D$12&\",reference:=StartOfDay)=\"&A29&\"\", \"Bar\", \"\", \"Close\",\"5\",\"0\",\"\",,,\"False\",\"T\",\"EveryTick\")","v":""},{"$error":"#N/A"},{"$f":"RTD(\"cqg.rtd\",,\"StudyData\", \"Close(\"&$D$12&\") when LocalYear(\"&$D$12&\")=\"&$D$2&\" and localMonth(\"&$D$12&\") =\"&$E$2&\" and LocalDay(\"&$D$12&\")=\"&$F$2&\" and Barix(\"&$D$12&\",reference:=StartOfDay)=\"&A29&\"\", \"Bar\", \"\", \"Close\",\"5\",\"0\",\"\",,,\"False\",\"T\",\"EveryTick\")","v":921.25},-6.4707468320301968E-3,{"$f":"RTD(\"cqg.rtd\",,\"StudyData\", \"Close(\"&$D$12&\") when LocalYear(\"&$D$12&\")=\"&$D$3&\" and localMonth(\"&$D$12&\") =\"&$E$3&\" and LocalDay(\"&$D$12&\")=\"&$F$3&\" and Barix(\"&$D$12&\",reference:=StartOfDay)=\"&A29&\"\", \"Bar\", \"\", \"Close\",\"5\",\"0\",\"\",,,\"False\",\"T\",\"EveryTick\")","v":928.25},-8.27991452991453E-3,{"$f":"RTD(\"cqg.rtd\",,\"StudyData\", \"Close(\"&$D$12&\") when LocalYear(\"&$D$12&\")=\"&$D$4&\" and localMonth(\"&$D$12&\") =\"&$E$4&\" and LocalDay(\"&$D$12&\")=\"&$F$4&\" and Barix(\"&$D$12&\",reference:=StartOfDay)=\"&A29&\"\", \"Bar\", \"\", \"Close\",\"5\",\"0\",\"\",,,\"False\",\"T\",\"EveryTick\")","v":943.75},-1.0744234800838574E-2,{"$f":"RTD(\"cqg.rtd\",,\"StudyData\", \"Close(\"&$D$12&\") when LocalYear(\"&$D$12&\")=\"&$D$5&\" and localMonth(\"&$D$12&\") =\"&$E$5&\" and LocalDay(\"&$D$12&\")=\"&$F$5&\" and Barix(\"&$D$12&\",reference:=StartOfDay)=\"&A29&\"\", \"Bar\", \"\", \"Close\",\"5\",\"0\",\"\",,,\"False\",\"T\",\"EveryTick\")","v":953.25},-5.2424639580602882E-4,{"$f":"RTD(\"cqg.rtd\",,\"StudyData\", \"Close(\"&$D$12&\") when LocalYear(\"&$D$12&\")=\"&$D$6&\" and localMonth(\"&$D$12&\") =\"&$E$6&\" and LocalDay(\"&$D$12&\")=\"&$F$6&\" and Barix(\"&$D$12&\",reference:=StartOfDay)=\"&A29&\"\", \"Bar\", \"\", \"Close\",\"5\",\"0\",\"\",,,\"False\",\"T\",\"EveryTick\")","v":956.5},-1.3154500902759866E-2,{"$f":"RTD(\"cqg.rtd\",,\"StudyData\", \"Close(\"&$D$12&\") when LocalYear(\"&$D$12&\")=\"&$D$7&\" and localMonth(\"&$D$12&\") =\"&$E$7&\" and LocalDay(\"&$D$12&\")=\"&$F$7&\" and Barix(\"&$D$12&\",reference:=StartOfDay)=\"&A29&\"\", \"Bar\", \"\", \"Close\",\"5\",\"0\",\"\",,,\"False\",\"T\",\"EveryTick\")","v":970},-4.3623299974339235E-3,{"$f":"RTD(\"cqg.rtd\",,\"StudyData\", \"Close(\"&$D$12&\") when LocalYear(\"&$D$12&\")=\"&$D$8&\" and localMonth(\"&$D$12&\") =\"&$E$8&\" and LocalDay(\"&$D$12&\")=\"&$F$8&\" and Barix(\"&$D$12&\",reference:=StartOfDay)=\"&A29&\"\", \"Bar\", \"\", \"Close\",\"5\",\"0\",\"\",,,\"False\",\"T\",\"EveryTick\")","v":986},-8.2977118430978131E-3,{"$f":"RTD(\"cqg.rtd\",,\"StudyData\", \"Close(\"&$D$12&\") when LocalYear(\"&$D$12&\")=\"&$D$9&\" and localMonth(\"&$D$12&\") =\"&$E$9&\" and LocalDay(\"&$D$12&\")=\"&$F$9&\" and Barix(\"&$D$12&\",reference:=StartOfDay)=\"&A29&\"\", \"Bar\", \"\", \"Close\",\"5\",\"0\",\"\",,,\"False\",\"T\",\"EveryTick\")","v":1000.75},-4.9937578027465666E-4,{"$f":"RTD(\"cqg.rtd\",,\"StudyData\", \"Close(\"&$D$12&\") when LocalYear(\"&$D$12&\")=\"&$D$10&\" and localMonth(\"&$D$12&\") =\"&$E$10&\" and LocalDay(\"&$D$12&\")=\"&$F$10&\" and Barix(\"&$D$12&\",reference:=StartOfDay)=\"&A29&\"\", \"Bar\", \"\", \"Close\",\"5\",\"0\",\"\",,,\"False\",\"T\",\"EveryTick\")","v":1001.75},0,null,null,null,""]
[173,"10:10:00","2018-06-12",2018,6,12,{"$f":"IF(RTD(\"cqg.rtd\",,\"StudyData\", \"Close(\"&$D$12&\") when LocalYear(\"&$D$12&\")=\"&D30&\" and localMonth(\"&$D$12&\") =\"&E30&\" and LocalDay(\"&$D$12&\")=\"&F30&\" and Barix(\"&$D$12&\",reference:=StartOfSession)=56\", \"Bar\", \"\", \"Close\",\"5\",\"0\",\"PrimaryOnly\",,,\"False\",\"T\",\"EveryTick\")=\"\",2,1)","v":1},{"$f":"RTD(\"cqg.rtd\",,\"StudyData\", \"Close(\"&$D$12&\") when LocalYear(\"&$D$12&\")=\"&$D$1&\" and localMonth(\"&$D$12&\") =\"&$E$1&\" and LocalDay(\"&$D$12&\")=\"&$F$1&\" and Barix(\"&$D$12&\",reference:=StartOfDay)=\"&A30&\"\", \"Bar\", \"\", \"Close\",\"5\",\"0\",\"\",,,\"False\",\"T\",\"EveryTick\")","v":""},{"$error":"#N/A"},{"$f":"RTD(\"cqg.rtd\",,\"StudyData\", \"Close(\"&$D$12&\") when LocalYear(\"&$D$12&\")=\"&$D$2&\" and localMonth(\"&$D$12&\") =\"&$E$2&\" and LocalDay(\"&$D$12&\")=\"&$F$2&\" and Barix(\"&$D$12&\",reference:=StartOfDay)=\"&A30&\"\", \"Bar\", \"\", \"Close\",\"5\",\"0\",\"\",,,\"False\",\"T\",\"EveryTick\")","v":922.5},-5.1226745753572391E-3,{"$f":"RTD(\"cqg.rtd\",,\"StudyData\", \"Close(\"&$D$12&\") when LocalYear(\"&$D$12&\")=\"&$D$3&\" and localMonth(\"&$D$12&\") =\"&$E$3&\" and LocalDay(\"&$D$12&\")=\"&$F$3&\" and Barix(\"&$D$12&\",reference:=StartOfDay)=\"&A30&\"\", \"Bar\", \"\", \"Close\",\"5\",\"0\",\"\",,,\"False\",\"T\",\"EveryTick\")","v":928.25},-8.27991452991453E-3,{"$f":"RTD(\"cqg.rtd\",,\"StudyData\", \"Close(\"&$D$12&\") when LocalYear(\"&$D$12&\")=\"&$D$4&\" and localMonth(\"&$D$12&\") =\"&$E$4&\" and LocalDay(\"&$D$12&\")=\"&$F$4&\" and Barix(\"&$D$12&\",reference:=StartOfDay)=\"&A30&\"\", \"Bar\", \"\", \"Close\",\"5\",\"0\",\"\",,,\"False\",\"T\",\"EveryTick\")","v":942},-1.2578616352201259E-2,{"$f":"RTD(\"cqg.rtd\",,\"StudyData\", \"Close(\"&$D$12&\") when LocalYear(\"&$D$12&\")=\"&$D$5&\" and localMonth(\"&$D$12&\") =\"&$E$5&\" and LocalDay(\"&$D$12&\")=\"&$F$5&\" and Barix(\"&$D$12&\",reference:=StartOfDay)=\"&A30&\"\", \"Bar\", \"\", \"Close\",\"5\",\"0\",\"\",,,\"False\",\"T\",\"EveryTick\")","v":954.75},1.0484927916120576E-3,{"$f":"RTD(\"cqg.rtd\",,\"StudyData\", \"Close(\"&$D$12&\") when LocalYear(\"&$D$12&\")=\"&$D$6&\" and localMonth(\"&$D$12&\") =\"&$E$6&\" and LocalDay(\"&$D$12&\")=\"&$F$6&\" and Barix(\"&$D$12&\",reference:=StartOfDay)=\"&A30&\"\", \"Bar\", \"\", \"Close\",\"5\",\"0\",\"\",,,\"False\",\"T\",\"EveryTick\")","v":956.75},-1.2896569512509672E-2,{"$f":"RTD(\"cqg.rtd\",,\"StudyData\", \"Close(\"&$D$12&\") when LocalYear(\"&$D$12&\")=\"&$D$7&\" and localMonth(\"&$D$12&\") =\"&$E$7&\" and LocalDay(\"&$D$12&\")=\"&$F$7&\" and Barix(\"&$D$12&\",reference:=StartOfDay)=\"&A30&\"\", \"Bar\", \"\", \"Close\",\"5\",\"0\",\"\",,,\"False\",\"T\",\"EveryTick\")","v":968.75},-5.6453682319733125E-3,{"$f":"RTD(\"cqg.rtd\",,\"StudyData\", \"Close(\"&$D$12&\") when LocalYear(\"&$D$12&\")=\"&$D$8&\" and localMonth(\"&$D$12&\") =\"&$E$8&\" and LocalDay(\"&$D$12&\")=\"&$F$8&\" and Barix(\"&$D$12&\",reference:=StartOfDay)=\"&A30&\"\", \"Bar\", \"\", \"Close\",\"5\",\"0\",\"\",,,\"False\",\"T\",\"EveryTick\")","v":985.5},-8.8006034699522253E-3,{"$f":"RTD(\"cqg.rtd\",,\"StudyData\", \"Close(\"&$D$12&\") when LocalYear(\"&$D$12&\")=\"&$D$9&\" and localMonth(\"&$D$12&\") =\"&$E$9&\" and LocalDay(\"&$D$12&\")=\"&$F$9&\" and Barix(\"&$D$12&\",reference:=StartOfDay)=\"&A30&\"\", \"Bar\", \"\", \"Close\",\"5\",\"0\",\"\",,,\"False\",\"T\",\"EveryTick\")","v":1000},-1.2484394506866417E-3,{"$f":"RTD(\"cqg.rtd\",,\"StudyData\", \"Close(\"&$D$12&\") when LocalYear(\"&$D$12&\")=\"&$D$10&\" and localMonth(\"&$D$12&\") =\"&$E$10&\" and LocalDay(\"&$D$12&\")=\"&$F$10&\" and Barix(\"&$D$12&\",reference:=StartOfDay)=\"&A30&\"\", \"Bar\", \"\", \"Close\",\"5\",\"0\",\"\",,,\"False\",\"T\",\"EveryTick\")","v":1001.75},0,null,null,null,""]
[174,"10:15:00","2018-06-11",2018,6,11,{"$f":"IF(RTD(\"cqg.rtd\",,\"StudyData\", \"Close(\"&$D$12&\") when LocalYear(\"&$D$12&\")=\"&D31&\" and localMonth(\"&$D$12&\") =\"&E31&\" and LocalDay(\"&$D$12&\")=\"&F31&\" and Barix(\"&$D$12&\",reference:=StartOfSession)=56\", \"Bar\", \"\", \"Close\",\"5\",\"0\",\"PrimaryOnly\",,,\"False\",\"T\",\"EveryTick\")=\"\",2,1)","v":1},{"$f":"RTD(\"cqg.rtd\",,\"StudyData\", \"Close(\"&$D$12&\") when LocalYear(\"&$D$12&\")=\"&$D$1&\" and localMonth(\"&$D$12&\") =\"&$E$1&\" and LocalDay(\"&$D$12&\")=\"&$F$1&\" and Barix(\"&$D$12&\",reference:=StartOfDay)=\"&A31&\"\", \"Bar\", \"\", \"Close\",\"5\",\"0\",\"\",,,\"False\",\"T\",\"EveryTick\")","v":""},{"$error":"#N/A"},{"$f":"RTD(\"cqg.rtd\",,\"StudyData\", \"Close(\"&$D$12&\") when LocalYear(\"&$D$12&\")=\"&$D$2&\" and localMonth(\"&$D$12&\") =\"&$E$2&\" and LocalDay(\"&$D$12&\")=\"&$F$2&\" and Barix(\"&$D$12&\",reference:=StartOfDay)=\"&A31&\"\", \"Bar\", \"\", \"Close\",\"5\",\"0\",\"\",,,\"False\",\"T\",\"EveryTick\")","v":923},-4.5834456726880557E-3,{"$f":"RTD(\"cqg.rtd\",,\"StudyData\", \"Close(\"&$D$12&\") when LocalYear(\"&$D$12&\")=\"&$D$3&\" and localMonth(\"&$D$12&\") =\"&$E$3&\" and LocalDay(\"&$D$12&\")=\"&$F$3&\" and Barix(\"&$D$12&\",reference:=StartOfDay)=\"&A31&\"\", \"Bar\", \"\", \"Close\",\"5\",\"0\",\"\",,,\"False\",\"T\",\"EveryTick\")","v":928.75},-7.745726495726496E-3,{"$f":"RTD(\"cqg.rtd\",,\"StudyData\", \"Close(\"&$D$12&\") when LocalYear(\"&$D$12&\")=\"&$D$4&\" and localMonth(\"&$D$12&\") =\"&$E$4&\" and LocalDay(\"&$D$12&\")=\"&$F$4&\" and Barix(\"&$D$12&\",reference:=StartOfDay)=\"&A31&\"\", \"Bar\", \"\", \"Close\",\"5\",\"0\",\"\",,,\"False\",\"T\",\"EveryTick\")","v":940.75},-1.3888888888888888E-2,{"$f":"RTD(\"cqg.rtd\",,\"StudyData\", \"Close(\"&$D$12&\") when LocalYear(\"&$D$12&\")=\"&$D$5&\" and localMonth(\"&$D$12&\") =\"&$E$5&\" and LocalDay(\"&$D$12&\")=\"&$F$5&\" and Barix(\"&$D$12&\",reference:=StartOfDay)=\"&A31&\"\", \"Bar\", \"\", \"Close\",\"5\",\"0\",\"\",,,\"False\",\"T\",\"EveryTick\")","v":954.5},7.8636959370904328E-4,{"$f":"RTD(\"cqg.rtd\",,\"StudyData\", \"Close(\"&$D$12&\") when LocalYear(\"&$D$12&\")=\"&$D$6&\" and localMonth(\"&$D$12&\") =\"&$E$6&\" and LocalDay(\"&$D$12&\")=\"&$F$6&\" and Barix(\"&$D$12&\",reference:=StartOfDay)=\"&A31&\"\", \"Bar\", \"\", \"Close\",\"5\",\"0\",\"\",,,\"False\",\"T\",\"EveryTick\")","v":956.5},-1.3154500902759866E-2,{"$f":"RTD(\"cqg.rtd\",,\"StudyData\", \"Close(\"&$D$12&\") when LocalYear(\"&$D$12&\")=\"&$D$7&\" and localMonth(\"&$D$12&\") =\"&$E$7&\" and LocalDay(\"&$D$12&\")=\"&$F$7&\" and Barix(\"&$D$12&\",reference:=StartOfDay)=\"&A31&\"\", \"Bar\", \"\", \"Close\",\"5\",\"0\",\"\",,,\"False\",\"T\",\"EveryTick\")","v":969},-5.3887605850654347E-3,{"$f":"RTD(\"cqg.rtd\",,\"StudyData\", \"Close(\"&$D$12&\") when LocalYear(\"&$D$12&\")=\"&$D$8&\" and localMonth(\"&$D$12&\") =\"&$E$8&\" and LocalDay(\"&$D$12&\")=\"&$F$8&\" and Barix(\"&$D$12&\",reference:=StartOfDay)=\"&A31&\"\", \"Bar\", \"\", \"Close\",\"5\",\"0\",\"\",,,\"False\",\"T\",\"EveryTick\")","v":985.25},-9.0520492833794323E-3,{"$f":"RTD(\"cqg.rtd\",,\"StudyData\", \"Close(\"&$D$12&\") when LocalYear(\"&$D$12&\")=\"&$D$9&\" and localMonth(\"&$D$12&\") =\"&$E$9&\" and LocalDay(\"&$D$12&\")=\"&$F$9&\" and Barix(\"&$D$12&\",reference:=StartOfDay)=\"&A31&\"\", \"Bar\", \"\", \"Close\",\"5\",\"0\",\"\",,,\"False\",\"T\",\"EveryTick\")","v":1000.75},-4.9937578027465666E-4,{"$f":"RTD(\"cqg.rtd\",,\"StudyData\", \"Close(\"&$D$12&\") when LocalYear(\"&$D$12&\")=\"&$D$10&\" and localMonth(\"&$D$12&\") =\"&$E$10&\" and LocalDay(\"&$D$12&\")=\"&$F$10&\" and Barix(\"&$D$12&\",reference:=StartOfDay)=\"&A31&\"\", \"Bar\", \"\", \"Close\",\"5\",\"0\",\"\",,,\"False\",\"T\",\"EveryTick\")","v":1005.75},3.9930122285999504E-3,null,null,null,""]
[175,"10:20:00","2018-06-08",2018,6,8,{"$f":"IF(RTD(\"cqg.rtd\",,\"StudyData\", \"Close(\"&$D$12&\") when LocalYear(\"&$D$12&\")=\"&D32&\" and localMonth(\"&$D$12&\") =\"&E32&\" and LocalDay(\"&$D$12&\")=\"&F32&\" and Barix(\"&$D$12&\",reference:=StartOfSession)=56\", \"Bar\", \"\", \"Close\",\"5\",\"0\",\"PrimaryOnly\",,,\"False\",\"T\",\"EveryTick\")=\"\",2,1)","v":1},{"$f":"RTD(\"cqg.rtd\",,\"StudyData\", \"Close(\"&$D$12&\") when LocalYear(\"&$D$12&\")=\"&$D$1&\" and localMonth(\"&$D$12&\") =\"&$E$1&\" and LocalDay(\"&$D$12&\")=\"&$F$1&\" and Barix(\"&$D$12&\",reference:=StartOfDay)=\"&A32&\"\", \"Bar\", \"\", \"Close\",\"5\",\"0\",\"\",,,\"False\",\"T\",\"EveryTick\")","v":""},{"$error":"#N/A"},{"$f":"RTD(\"cqg.rtd\",,\"StudyData\", \"Close(\"&$D$12&\") when LocalYear(\"&$D$12&\")=\"&$D$2&\" and localMonth(\"&$D$12&\") =\"&$E$2&\" and LocalDay(\"&$D$12&\")=\"&$F$2&\" and Barix(\"&$D$12&\",reference:=StartOfDay)=\"&A32&\"\", \"Bar\", \"\", \"Close\",\"5\",\"0\",\"\",,,\"False\",\"T\",\"EveryTick\")","v":921.25},-6.4707468320301968E-3,{"$f":"RTD(\"cqg.rtd\",,\"StudyData\", \"Close(\"&$D$12&\") when LocalYear(\"&$D$12&\")=\"&$D$3&\" and localMonth(\"&$D$12&\") =\"&$E$3&\" and LocalDay(\"&$D$12&\")=\"&$F$3&\" and Barix(\"&$D$12&\",reference:=StartOfDay)=\"&A32&\"\", \"Bar\", \"\", \"Close\",\"5\",\"0\",\"\",,,\"False\",\"T\",\"EveryTick\")","v":929.75},-6.677350427350427E-3,{"$f":"RTD(\"cqg.rtd\",,\"StudyData\", \"Close(\"&$D$12&\") when LocalYear(\"&$D$12&\")=\"&$D$4&\" and localMonth(\"&$D$12&\") =\"&$E$4&\" and LocalDay(\"&$D$12&\")=\"&$F$4&\" and Barix(\"&$D$12&\",reference:=StartOfDay)=\"&A32&\"\", \"Bar\", \"\", \"Close\",\"5\",\"0\",\"\",,,\"False\",\"T\",\"EveryTick\")","v":940},-1.4675052410901468E-2,{"$f":"RTD(\"cqg.rtd\",,\"StudyData\", \"Close(\"&$D$12&\") when LocalYear(\"&$D$12&\")=\"&$D$5&\" and localMonth(\"&$D$12&\") =\"&$E$5&\" and LocalDay(\"&$D$12&\")=\"&$F$5&\" and Barix(\"&$D$12&\",reference:=StartOfDay)=\"&A32&\"\", \"Bar\", \"\", \"Close\",\"5\",\"0\",\"\",,,\"False\",\"T\",\"EveryTick\")","v":955},1.3106159895150721E-3,{"$f":"RTD(\"cqg.rtd\",,\"StudyData\", \"Close(\"&$D$12&\") when LocalYear(\"&$D$12&\")=\"&$D$6&\" and localMonth(\"&$D$12&\") =\"&$E$6&\" and LocalDay(\"&$D$12&\")=\"&$F$6&\" and Barix(\"&$D$12&\",reference:=StartOfDay)=\"&A32&\"\", \"Bar\", \"\", \"Close\",\"5\",\"0\",\"\",,,\"False\",\"T\",\"EveryTick\")","v":957.75},-1.1864843951508899E-2,{"$f":"RTD(\"cqg.rtd\",,\"StudyData\", \"Close(\"&$D$12&\") when LocalYear(\"&$D$12&\")=\"&$D$7&\" and localMonth(\"&$D$12&\") =\"&$E$7&\" and LocalDay(\"&$D$12&\")=\"&$F$7&\" and Barix(\"&$D$12&\",reference:=StartOfDay)=\"&A32&\"\", \"Bar\", \"\", \"Close\",\"5\",\"0\",\"\",,,\"False\",\"T\",\"EveryTick\")","v":969.5},-4.8755452912496791E-3,{"$f":"RTD(\"cqg.rtd\",,\"StudyData\", \"Close(\"&$D$12&\") when LocalYear(\"&$D$12&\")=\"&$D$8&\" and localMonth(\"&$D$12&\") =\"&$E$8&\" and LocalDay(\"&$D$12&\")=\"&$F$8&\" and Barix(\"&$D$12&\",reference:=StartOfDay)=\"&A32&\"\", \"Bar\", \"\", \"Close\",\"5\",\"0\",\"\",,,\"False\",\"T\",\"EveryTick\")","v":984.5},-9.8063867236610515E-3,{"$f":"RTD(\"cqg.rtd\",,\"StudyData\", \"Close(\"&$D$12&\") when LocalYear(\"&$D$12&\")=\"&$D$9&\" and localMonth(\"&$D$12&\") =\"&$E$9&\" and LocalDay(\"&$D$12&\")=\"&$F$9&\" and Barix(\"&$D$12&\",reference:=StartOfDay)=\"&A32&\"\", \"Bar\", \"\", \"Close\",\"5\",\"0\",\"\",,,\"False\",\"T\",\"EveryTick\")","v":1000},-1.2484394506866417E-3,{"$f":"RTD(\"cqg.rtd\",,\"StudyData\", \"Close(\"&$D$12&\") when LocalYear(\"&$D$12&\")=\"&$D$10&\" and localMonth(\"&$D$12&\") =\"&$E$10&\" and LocalDay(\"&$D$12&\")=\"&$F$10&\" and Barix(\"&$D$12&\",reference:=StartOfDay)=\"&A32&\"\", \"Bar\", \"\", \"Close\",\"5\",\"0\",\"\",,,\"False\",\"T\",\"EveryTick\")","v":1003.75},1.9965061142999752E-3,null,null,null,""]
[176,"10:25:00","2018-06-07",2018,6,7,{"$f":"IF(RTD(\"cqg.rtd\",,\"StudyData\", \"Close(\"&$D$12&\") when LocalYear(\"&$D$12&\")=\"&D33&\" and localMonth(\"&$D$12&\") =\"&E33&\" and LocalDay(\"&$D$12&\")=\"&F33&\" and Barix(\"&$D$12&\",reference:=StartOfSession)=56\", \"Bar\", \"\", \"Close\",\"5\",\"0\",\"PrimaryOnly\",,,\"False\",\"T\",\"EveryTick\")=\"\",2,1)","v":1},{"$f":"RTD(\"cqg.rtd\",,\"StudyData\", \"Close(\"&$D$12&\") when LocalYear(\"&$D$12&\")=\"&$D$1&\" and localMonth(\"&$D$12&\") =\"&$E$1&\" and LocalDay(\"&$D$12&\")=\"&$F$1&\" and Barix(\"&$D$12&\",reference:=StartOfDay)=\"&A33&\"\", \"Bar\", \"\", \"Close\",\"5\",\"0\",\"\",,,\"False\",\"T\",\"EveryTick\")","v":""},{"$error":"#N/A"},{"$f":"RTD(\"cqg.rtd\",,\"StudyData\", \"Close(\"&$D$12&\") when LocalYear(\"&$D$12&\")=\"&$D$2&\" and localMonth(\"&$D$12&\") =\"&$E$2&\" and LocalDay(\"&$D$12&\")=\"&$F$2&\" and Barix(\"&$D$12&\",reference:=StartOfDay)=\"&A33&\"\", \"Bar\", \"\", \"Close\",\"5\",\"0\",\"\",,,\"False\",\"T\",\"EveryTick\")","v":922.5},-5.1226745753572391E-3,{"$f":"RTD(\"cqg.rtd\",,\"StudyData\", \"Close(\"&$D$12&\") when LocalYear(\"&$D$12&\")=\"&$D$3&\" and localMonth(\"&$D$12&\") =\"&$E$3&\" and LocalDay(\"&$D$12&\")=\"&$F$3&\" and Barix(\"&$D$12&\",reference:=StartOfDay)=\"&A33&\"\", \"Bar\", \"\", \"Close\",\"5\",\"0\",\"\",,,\"False\",\"T\",\"EveryTick\")","v":929},-7.478632478632479E-3,{"$f":"RTD(\"cqg.rtd\",,\"StudyData\", \"Close(\"&$D$12&\") when LocalYear(\"&$D$12&\")=\"&$D$4&\" and localMonth(\"&$D$12&\") =\"&$E$4&\" and LocalDay(\"&$D$12&\")=\"&$F$4&\" and Barix(\"&$D$12&\",reference:=StartOfDay)=\"&A33&\"\", \"Bar\", \"\", \"Close\",\"5\",\"0\",\"\",,,\"False\",\"T\",\"EveryTick\")","v":940.75},-1.3888888888888888E-2,{"$f":"RTD(\"cqg.rtd\",,\"StudyData\", \"Close(\"&$D$12&\") when LocalYear(\"&$D$12&\")=\"&$D$5&\" and localMonth(\"&$D$12&\") =\"&$E$5&\" and LocalDay(\"&$D$12&\")=\"&$F$5&\" and Barix(\"&$D$12&\",reference:=StartOfDay)=\"&A33&\"\", \"Bar\", \"\", \"Close\",\"5\",\"0\",\"\",,,\"False\",\"T\",\"EveryTick\")","v":954.75},1.0484927916120576E-3,{"$f":"RTD(\"cqg.rtd\",,\"StudyData\", \"Close(\"&$D$12&\") when LocalYear(\"&$D$12&\")=\"&$D$6&\" and localMonth(\"&$D$12&\") =\"&$E$6&\" and LocalDay(\"&$D$12&\")=\"&$F$6&\" and Barix(\"&$D$12&\",reference:=StartOfDay)=\"&A33&\"\", \"Bar\", \"\", \"Close\",\"5\",\"0\",\"\",,,\"False\",\"T\",\"EveryTick\")","v":958},-1.1606912561258705E-2,{"$f":"RTD(\"cqg.rtd\",,\"StudyData\", \"Close(\"&$D$12&\") when LocalYear(\"&$D$12&\")=\"&$D$7&\" and localMonth(\"&$D$12&\") =\"&$E$7&\" and LocalDay(\"&$D$12&\")=\"&$F$7&\" and Barix(\"&$D$12&\",reference:=StartOfDay)=\"&A33&\"\", \"Bar\", \"\", \"Close\",\"5\",\"0\",\"\",,,\"False\",\"T\",\"EveryTick\")","v":967.25},-7.1850141134205802E-3,{"$f":"RTD(\"cqg.rtd\",,\"StudyData\", \"Close(\"&$D$12&\") when LocalYear(\"&$D$12&\")=\"&$D$8&\" and localMonth(\"&$D$12&\") =\"&$E$8&\" and LocalDay(\"&$D$12&\")=\"&$F$8&\" and Barix(\"&$D$12&\",reference:=StartOfDay)=\"&A33&\"\", \"Bar\", \"\", \"Close\",\"5\",\"0\",\"\",,,\"False\",\"T\",\"EveryTick\")","v":984.5},-9.8063867236610515E-3,{"$f":"RTD(\"cqg.rtd\",,\"StudyData\", \"Close(\"&$D$12&\") when LocalYear(\"&$D$12&\")=\"&$D$9&\" and localMonth(\"&$D$12&\") =\"&$E$9&\" and LocalDay(\"&$D$12&\")=\"&$F$9&\" and Barix(\"&$D$12&\",reference:=StartOfDay)=\"&A33&\"\", \"Bar\", \"\", \"Close\",\"5\",\"0\",\"\",,,\"False\",\"T\",\"EveryTick\")","v":999.5},-1.7478152309612985E-3,{"$f":"RTD(\"cqg.rtd\",,\"StudyData\", \"Close(\"&$D$12&\") when LocalYear(\"&$D$12&\")=\"&$D$10&\" and localMonth(\"&$D$12&\") =\"&$E$10&\" and LocalDay(\"&$D$12&\")=\"&$F$10&\" and Barix(\"&$D$12&\",reference:=StartOfDay)=\"&A33&\"\", \"Bar\", \"\", \"Close\",\"5\",\"0\",\"\",,,\"False\",\"T\",\"EveryTick\")","v":1004.25},2.4956326428749688E-3,null,null,null,""]
[177,"10:30:00","2018-06-06",2018,6,6,{"$f":"IF(RTD(\"cqg.rtd\",,\"StudyData\", \"Close(\"&$D$12&\") when LocalYear(\"&$D$12&\")=\"&D34&\" and localMonth(\"&$D$12&\") =\"&E34&\" and LocalDay(\"&$D$12&\")=\"&F34&\" and Barix(\"&$D$12&\",reference:=StartOfSession)=56\", \"Bar\", \"\", \"Close\",\"5\",\"0\",\"PrimaryOnly\",,,\"False\",\"T\",\"EveryTick\")=\"\",2,1)","v":1},{"$f":"RTD(\"cqg.rtd\",,\"StudyData\", \"Close(\"&$D$12&\") when LocalYear(\"&$D$12&\")=\"&$D$1&\" and localMonth(\"&$D$12&\") =\"&$E$1&\" and LocalDay(\"&$D$12&\")=\"&$F$1&\" and Barix(\"&$D$12&\",reference:=StartOfDay)=\"&A34&\"\", \"Bar\", \"\", \"Close\",\"5\",\"0\",\"\",,,\"False\",\"T\",\"EveryTick\")","v":""},{"$error":"#N/A"},{"$f":"RTD(\"cqg.rtd\",,\"StudyData\", \"Close(\"&$D$12&\") when LocalYear(\"&$D$12&\")=\"&$D$2&\" and localMonth(\"&$D$12&\") =\"&$E$2&\" and LocalDay(\"&$D$12&\")=\"&$F$2&\" and Barix(\"&$D$12&\",reference:=StartOfDay)=\"&A34&\"\", \"Bar\", \"\", \"Close\",\"5\",\"0\",\"\",,,\"False\",\"T\",\"EveryTick\")","v":920.75},-7.0099757346993802E-3,{"$f":"RTD(\"cqg.rtd\",,\"StudyData\", \"Close(\"&$D$12&\") when LocalYear(\"&$D$12&\")=\"&$D$3&\" and localMonth(\"&$D$12&\") =\"&$E$3&\" and LocalDay(\"&$D$12&\")=\"&$F$3&\" and Barix(\"&$D$12&\",reference:=StartOfDay)=\"&A34&\"\", \"Bar\", \"\", \"Close\",\"5\",\"0\",\"\",,,\"False\",\"T\",\"EveryTick\")","v":928.5},-8.0128205128205121E-3,{"$f":"RTD(\"cqg.rtd\",,\"StudyData\", \"Close(\"&$D$12&\") when LocalYear(\"&$D$12&\")=\"&$D$4&\" and localMonth(\"&$D$12&\") =\"&$E$4&\" and LocalDay(\"&$D$12&\")=\"&$F$4&\" and Barix(\"&$D$12&\",reference:=StartOfDay)=\"&A34&\"\", \"Bar\", \"\", \"Close\",\"5\",\"0\",\"\",,,\"False\",\"T\",\"EveryTick\")","v":940},-1.4675052410901468E-2,{"$f":"RTD(\"cqg.rtd\",,\"StudyData\", \"Close(\"&$D$12&\") when LocalYear(\"&$D$12&\")=\"&$D$5&\" and localMonth(\"&$D$12&\") =\"&$E$5&\" and LocalDay(\"&$D$12&\")=\"&$F$5&\" and Barix(\"&$D$12&\",reference:=StartOfDay)=\"&A34&\"\", \"Bar\", \"\", \"Close\",\"5\",\"0\",\"\",,,\"False\",\"T\",\"EveryTick\")","v":954.75},1.0484927916120576E-3,{"$f":"RTD(\"cqg.rtd\",,\"StudyData\", \"Close(\"&$D$12&\") when LocalYear(\"&$D$12&\")=\"&$D$6&\" and localMonth(\"&$D$12&\") =\"&$E$6&\" and LocalDay(\"&$D$12&\")=\"&$F$6&\" and Barix(\"&$D$12&\",reference:=StartOfDay)=\"&A34&\"\", \"Bar\", \"\", \"Close\",\"5\",\"0\",\"\",,,\"False\",\"T\",\"EveryTick\")","v":957.5},-1.2122775341759092E-2,{"$f":"RTD(\"cqg.rtd\",,\"StudyData\", \"Close(\"&$D$12&\") when LocalYear(\"&$D$12&\")=\"&$D$7&\" and localMonth(\"&$D$12&\") =\"&$E$7&\" and LocalDay(\"&$D$12&\")=\"&$F$7&\" and Barix(\"&$D$12&\",reference:=StartOfDay)=\"&A34&\"\", \"Bar\", \"\", \"Close\",\"5\",\"0\",\"\",,,\"False\",\"T\",\"EveryTick\")","v":967.5},-6.9284064665127024E-3,{"$f":"RTD(\"cqg.rtd\",,\"StudyData\", \"Close(\"&$D$12&\") when LocalYear(\"&$D$12&\")=\"&$D$8&\" and localMonth(\"&$D$12&\") =\"&$E$8&\" and LocalDay(\"&$D$12&\")=\"&$F$8&\" and Barix(\"&$D$12&\",reference:=StartOfDay)=\"&A34&\"\", \"Bar\", \"\", \"Close\",\"5\",\"0\",\"\",,,\"False\",\"T\",\"EveryTick\")","v":983.5},-1.0812169977369876E-2,{"$f":"RTD(\"cqg.rtd\",,\"StudyData\", \"Close(\"&$D$12&\") when LocalYear(\"&$D$12&\")=\"&$D$9&\" and localMonth(\"&$D$12&\") =\"&$E$9&\" and LocalDay(\"&$D$12&\")=\"&$F$9&\" and Barix(\"&$D$12&\",reference:=StartOfDay)=\"&A34&\"\", \"Bar\", \"\", \"Close\",\"5\",\"0\",\"\",,,\"False\",\"T\",\"EveryTick\")","v":999.25},-1.9975031210986267E-3,{"$f":"RTD(\"cqg.rtd\",,\"StudyData\", \"Close(\"&$D$12&\") when LocalYear(\"&$D$12&\")=\"&$D$10&\" and localMonth(\"&$D$12&\") =\"&$E$10&\" and LocalDay(\"&$D$12&\")=\"&$F$10&\" and Barix(\"&$D$12&\",reference:=StartOfDay)=\"&A34&\"\", \"Bar\", \"\", \"Close\",\"5\",\"0\",\"\",,,\"False\",\"T\",\"EveryTick\")","v":1003.75},1.9965061142999752E-3,null,null,null,""]
[178,"10:35:00","2018-06-05",2018,6,5,{"$f":"IF(RTD(\"cqg.rtd\",,\"StudyData\", \"Close(\"&$D$12&\") when LocalYear(\"&$D$12&\")=\"&D35&\" and localMonth(\"&$D$12&\") =\"&E35&\" and LocalDay(\"&$D$12&\")=\"&F35&\" and Barix(\"&$D$12&\",reference:=StartOfSession)=56\", \"Bar\", \"\", \"Close\",\"5\",\"0\",\"PrimaryOnly\",,,\"False\",\"T\",\"EveryTick\")=\"\",2,1)","v":1},{"$f":"RTD(\"cqg.rtd\",,\"StudyData\", \"Close(\"&$D$12&\") when LocalYear(\"&$D$12&\")=\"&$D$1&\" and localMonth(\"&$D$12&\") =\"&$E$1&\" and LocalDay(\"&$D$12&\")=\"&$F$1&\" and Barix(\"&$D$12&\",reference:=StartOfDay)=\"&A35&\"\", \"Bar\", \"\", \"Close\",\"5\",\"0\",\"\",,,\"False\",\"T\",\"EveryTick\")","v":""},{"$error":"#N/A"},{"$f":"RTD(\"cqg.rtd\",,\"StudyData\", \"Close(\"&$D$12&\") when LocalYear(\"&$D$12&\")=\"&$D$2&\" and localMonth(\"&$D$12&\") =\"&$E$2&\" and LocalDay(\"&$D$12&\")=\"&$F$2&\" and Barix(\"&$D$12&\",reference:=StartOfDay)=\"&A35&\"\", \"Bar\", \"\", \"Close\",\"5\",\"0\",\"\",,,\"False\",\"T\",\"EveryTick\")","v":919.25},-8.6276624427069296E-3,{"$f":"RTD(\"cqg.rtd\",,\"StudyData\", \"Close(\"&$D$12&\") when LocalYear(\"&$D$12&\")=\"&$D$3&\" and localMonth(\"&$D$12&\") =\"&$E$3&\" and LocalDay(\"&$D$12&\")=\"&$F$3&\" and Barix(\"&$D$12&\",reference:=StartOfDay)=\"&A35&\"\", \"Bar\", \"\", \"Close\",\"5\",\"0\",\"\",,,\"False\",\"T\",\"EveryTick\")","v":929},-7.478632478632479E-3,{"$f":"RTD(\"cqg.rtd\",,\"StudyData\", \"Close(\"&$D$12&\") when LocalYear(\"&$D$12&\")=\"&$D$4&\" and localMonth(\"&$D$12&\") =\"&$E$4&\" and LocalDay(\"&$D$12&\")=\"&$F$4&\" and Barix(\"&$D$12&\",reference:=StartOfDay)=\"&A35&\"\", \"Bar\", \"\", \"Close\",\"5\",\"0\",\"\",,,\"False\",\"T\",\"EveryTick\")","v":938.75},-1.59853249475891E-2,{"$f":"RTD(\"cqg.rtd\",,\"StudyData\", \"Close(\"&$D$12&\") when LocalYear(\"&$D$12&\")=\"&$D$5&\" and localMonth(\"&$D$12&\") =\"&$E$5&\" and LocalDay(\"&$D$12&\")=\"&$F$5&\" and Barix(\"&$D$12&\",reference:=StartOfDay)=\"&A35&\"\", \"Bar\", \"\", \"Close\",\"5\",\"0\",\"\",,,\"False\",\"T\",\"EveryTick\")","v":954.25},5.2424639580602882E-4,{"$f":"RTD(\"cqg.rtd\",,\"StudyData\", \"Close(\"&$D$12&\") when LocalYear(\"&$D$12&\")=\"&$D$6&\" and localMonth(\"&$D$12&\") =\"&$E$6&\" and LocalDay(\"&$D$12&\")=\"&$F$6&\" and Barix(\"&$D$12&\",reference:=StartOfDay)=\"&A35&\"\", \"Bar\", \"\", \"Close\",\"5\",\"0\",\"\",,,\"False\",\"T\",\"EveryTick\")","v":957.25},-1.2380706732009285E-2,{"$f":"RTD(\"cqg.rtd\",,\"StudyData\", \"Close(\"&$D$12&\") when LocalYear(\"&$D$12&\")=\"&$D$7&\" and localMonth(\"&$D$12&\") =\"&$E$7&\" and LocalDay(\"&$D$12&\")=\"&$F$7&\" and Barix(\"&$D$12&\",reference:=StartOfDay)=\"&A35&\"\", \"Bar\", \"\", \"Close\",\"5\",\"0\",\"\",,,\"False\",\"T\",\"EveryTick\")","v":966.5},-7.9548370541442127E-3,{"$f":"RTD(\"cqg.rtd\",,\"StudyData\", \"Close(\"&$D$12&\") when LocalYear(\"&$D$12&\")=\"&$D$8&\" and localMonth(\"&$D$12&\") =\"&$E$8&\" and LocalDay(\"&$D$12&\")=\"&$F$8&\" and Barix(\"&$D$12&\",reference:=StartOfDay)=\"&A35&\"\", \"Bar\", \"\", \"Close\",\"5\",\"0\",\"\",,,\"False\",\"T\",\"EveryTick\")","v":983.75},-1.0560724163942671E-2,{"$f":"RTD(\"cqg.rtd\",,\"StudyData\", \"Close(\"&$D$12&\") when LocalYear(\"&$D$12&\")=\"&$D$9&\" and localMonth(\"&$D$12&\") =\"&$E$9&\" and LocalDay(\"&$D$12&\")=\"&$F$9&\" and Barix(\"&$D$12&\",reference:=StartOfDay)=\"&A35&\"\", \"Bar\", \"\", \"Close\",\"5\",\"0\",\"\",,,\"False\",\"T\",\"EveryTick\")","v":998.75},-2.4968789013732834E-3,{"$f":"RTD(\"cqg.rtd\",,\"StudyData\", \"Close(\"&$D$12&\") when LocalYear(\"&$D$12&\")=\"&$D$10&\" and localMonth(\"&$D$12&\") =\"&$E$10&\" and LocalDay(\"&$D$12&\")=\"&$F$10&\" and Barix(\"&$D$12&\",reference:=StartOfDay)=\"&A35&\"\", \"Bar\", \"\", \"Close\",\"5\",\"0\",\"\",,,\"False\",\"T\",\"EveryTick\")","v":1003.25},1.4973795857249812E-3,null,null,null,""]
[179,"10:40:00","2018-06-04",2018,6,4,{"$f":"IF(RTD(\"cqg.rtd\",,\"StudyData\", \"Close(\"&$D$12&\") when LocalYear(\"&$D$12&\")=\"&D36&\" and localMonth(\"&$D$12&\") =\"&E36&\" and LocalDay(\"&$D$12&\")=\"&F36&\" and Barix(\"&$D$12&\",reference:=StartOfSession)=56\", \"Bar\", \"\", \"Close\",\"5\",\"0\",\"PrimaryOnly\",,,\"False\",\"T\",\"EveryTick\")=\"\",2,1)","v":1},{"$f":"RTD(\"cqg.rtd\",,\"StudyData\", \"Close(\"&$D$12&\") when LocalYear(\"&$D$12&\")=\"&$D$1&\" and localMonth(\"&$D$12&\") =\"&$E$1&\" and LocalDay(\"&$D$12&\")=\"&$F$1&\" and Barix(\"&$D$12&\",reference:=StartOfDay)=\"&A36&\"\", \"Bar\", \"\", \"Close\",\"5\",\"0\",\"\",,,\"False\",\"T\",\"EveryTick\")","v":""},{"$error":"#N/A"},{"$f":"RTD(\"cqg.rtd\",,\"StudyData\", \"Close(\"&$D$12&\") when LocalYear(\"&$D$12&\")=\"&$D$2&\" and localMonth(\"&$D$12&\") =\"&$E$2&\" and LocalDay(\"&$D$12&\")=\"&$F$2&\" and Barix(\"&$D$12&\",reference:=StartOfDay)=\"&A36&\"\", \"Bar\", \"\", \"Close\",\"5\",\"0\",\"\",,,\"False\",\"T\",\"EveryTick\")","v":920.75},-7.0099757346993802E-3,{"$f":"RTD(\"cqg.rtd\",,\"StudyData\", \"Close(\"&$D$12&\") when LocalYear(\"&$D$12&\")=\"&$D$3&\" and localMonth(\"&$D$12&\") =\"&$E$3&\" and LocalDay(\"&$D$12&\")=\"&$F$3&\" and Barix(\"&$D$12&\",reference:=StartOfDay)=\"&A36&\"\", \"Bar\", \"\", \"Close\",\"5\",\"0\",\"\",,,\"False\",\"T\",\"EveryTick\")","v":927.75},-8.814102564102564E-3,{"$f":"RTD(\"cqg.rtd\",,\"StudyData\", \"Close(\"&$D$12&\") when LocalYear(\"&$D$12&\")=\"&$D$4&\" and localMonth(\"&$D$12&\") =\"&$E$4&\" and LocalDay(\"&$D$12&\")=\"&$F$4&\" and Barix(\"&$D$12&\",reference:=StartOfDay)=\"&A36&\"\", \"Bar\", \"\", \"Close\",\"5\",\"0\",\"\",,,\"False\",\"T\",\"EveryTick\")","v":939.25},-1.5461215932914047E-2,{"$f":"RTD(\"cqg.rtd\",,\"StudyData\", \"Close(\"&$D$12&\") when LocalYear(\"&$D$12&\")=\"&$D$5&\" and localMonth(\"&$D$12&\") =\"&$E$5&\" and LocalDay(\"&$D$12&\")=\"&$F$5&\" and Barix(\"&$D$12&\",reference:=StartOfDay)=\"&A36&\"\", \"Bar\", \"\", \"Close\",\"5\",\"0\",\"\",,,\"False\",\"T\",\"EveryTick\")","v":954.5},7.8636959370904328E-4,{"$f":"RTD(\"cqg.rtd\",,\"StudyData\", \"Close(\"&$D$12&\") when LocalYear(\"&$D$12&\")=\"&$D$6&\" and localMonth(\"&$D$12&\") =\"&$E$6&\" and LocalDay(\"&$D$12&\")=\"&$F$6&\" and Barix(\"&$D$12&\",reference:=StartOfDay)=\"&A36&\"\", \"Bar\", \"\", \"Close\",\"5\",\"0\",\"\",,,\"False\",\"T\",\"EveryTick\")","v":957.25},-1.2380706732009285E-2,{"$f":"RTD(\"cqg.rtd\",,\"StudyData\", \"Close(\"&$D$12&\") when LocalYear(\"&$D$12&\")=\"&$D$7&\" and localMonth(\"&$D$12&\") =\"&$E$7&\" and LocalDay(\"&$D$12&\")=\"&$F$7&\" and Barix(\"&$D$12&\",reference:=StartOfDay)=\"&A36&\"\", \"Bar\", \"\", \"Close\",\"5\",\"0\",\"\",,,\"False\",\"T\",\"EveryTick\")","v":967},-7.441621760328458E-3,{"$f":"RTD(\"cqg.rtd\",,\"StudyData\", \"Close(\"&$D$12&\") when LocalYear(\"&$D$12&\")=\"&$D$8&\" and localMonth(\"&$D$12&\") =\"&$E$8&\" and LocalDay(\"&$D$12&\")=\"&$F$8&\" and Barix(\"&$D$12&\",reference:=StartOfDay)=\"&A36&\"\", \"Bar\", \"\", \"Close\",\"5\",\"0\",\"\",,,\"False\",\"T\",\"EveryTick\")","v":983.75},-1.0560724163942671E-2,{"$f":"RTD(\"cqg.rtd\",,\"StudyData\", \"Close(\"&$D$12&\") when LocalYear(\"&$D$12&\")=\"&$D$9&\" and localMonth(\"&$D$12&\") =\"&$E$9&\" and LocalDay(\"&$D$12&\")=\"&$F$9&\" and Barix(\"&$D$12&\",reference:=StartOfDay)=\"&A36&\"\", \"Bar\", \"\", \"Close\",\"5\",\"0\",\"\",,,\"False\",\"T\",\"EveryTick\")","v":998.75},-2.4968789013732834E-3,{"$f":"RTD(\"cqg.rtd\",,\"StudyData\", \"Close(\"&$D$12&\") when LocalYear(\"&$D$12&\")=\"&$D$10&\" and localMonth(\"&$D$12&\") =\"&$E$10&\" and LocalDay(\"&$D$12&\")=\"&$F$10&\" and Barix(\"&$D$12&\",reference:=StartOfDay)=\"&A36&\"\", \"Bar\", \"\", \"Close\",\"5\",\"0\",\"\",,,\"False\",\"T\",\"EveryTick\")","v":1002.5},7.4868979286249059E-4,null,null,null,""]
[180,"10:45:00",null,null,null,null,null,{"$f":"RTD(\"cqg.rtd\",,\"StudyData\", \"Close(\"&$D$12&\") when LocalYear(\"&$D$12&\")=\"&$D$1&\" and localMonth(\"&$D$12&\") =\"&$E$1&\" and LocalDay(\"&$D$12&\")=\"&$F$1&\" and Barix(\"&$D$12&\",reference:=StartOfDay)=\"&A37&\"\", \"Bar\", \"\", \"Close\",\"5\",\"0\",\"\",,,\"False\",\"T\",\"EveryTick\")","v":""},{"$error":"#N/A"},{"$f":"RTD(\"cqg.rtd\",,\"StudyData\", \"Close(\"&$D$12&\") when LocalYear(\"&$D$12&\")=\"&$D$2&\" and localMonth(\"&$D$12&\") =\"&$E$2&\" and LocalDay(\"&$D$12&\")=\"&$F$2&\" and Barix(\"&$D$12&\",reference:=StartOfDay)=\"&A37&\"\", \"Bar\", \"\", \"Close\",\"5\",\"0\",\"\",,,\"False\",\"T\",\"EveryTick\")","v":919},-8.8972768940415205E-3,{"$f":"RTD(\"cqg.rtd\",,\"StudyData\", \"Close(\"&$D$12&\") when LocalYear(\"&$D$12&\")=\"&$D$3&\" and localMonth(\"&$D$12&\") =\"&$E$3&\" and LocalDay(\"&$D$12&\")=\"&$F$3&\" and Barix(\"&$D$12&\",reference:=StartOfDay)=\"&A37&\"\", \"Bar\", \"\", \"Close\",\"5\",\"0\",\"\",,,\"False\",\"T\",\"EveryTick\")","v":927.75},-8.814102564102564E-3,{"$f":"RTD(\"cqg.rtd\",,\"StudyData\", \"Close(\"&$D$12&\") when LocalYear(\"&$D$12&\")=\"&$D$4&\" and localMonth(\"&$D$12&\") =\"&$E$4&\" and LocalDay(\"&$D$12&\")=\"&$F$4&\" and Barix(\"&$D$12&\",reference:=StartOfDay)=\"&A37&\"\", \"Bar\", \"\", \"Close\",\"5\",\"0\",\"\",,,\"False\",\"T\",\"EveryTick\")","v":939},-1.5723270440251572E-2,{"$f":"RTD(\"cqg.rtd\",,\"StudyData\", \"Close(\"&$D$12&\") when LocalYear(\"&$D$12&\")=\"&$D$5&\" and localMonth(\"&$D$12&\") =\"&$E$5&\" and LocalDay(\"&$D$12&\")=\"&$F$5&\" and Barix(\"&$D$12&\",reference:=StartOfDay)=\"&A37&\"\", \"Bar\", \"\", \"Close\",\"5\",\"0\",\"\",,,\"False\",\"T\",\"EveryTick\")","v":954.25},5.2424639580602882E-4,{"$f":"RTD(\"cqg.rtd\",,\"StudyData\", \"Close(\"&$D$12&\") when LocalYear(\"&$D$12&\")=\"&$D$6&\" and localMonth(\"&$D$12&\") =\"&$E$6&\" and LocalDay(\"&$D$12&\")=\"&$F$6&\" and Barix(\"&$D$12&\",reference:=StartOfDay)=\"&A37&\"\", \"Bar\", \"\", \"Close\",\"5\",\"0\",\"\",,,\"False\",\"T\",\"EveryTick\")","v":958.25},-1.1348981171008512E-2,{"$f":"RTD(\"cqg.rtd\",,\"StudyData\", \"Close(\"&$D$12&\") when LocalYear(\"&$D$12&\")=\"&$D$7&\" and localMonth(\"&$D$12&\") =\"&$E$7&\" and LocalDay(\"&$D$12&\")=\"&$F$7&\" and Barix(\"&$D$12&\",reference:=StartOfDay)=\"&A37&\"\", \"Bar\", \"\", \"Close\",\"5\",\"0\",\"\",,,\"False\",\"T\",\"EveryTick\")","v":967.5},-6.9284064665127024E-3,{"$f":"RTD(\"cqg.rtd\",,\"StudyData\", \"Close(\"&$D$12&\") when LocalYear(\"&$D$12&\")=\"&$D$8&\" and localMonth(\"&$D$12&\") =\"&$E$8&\" and LocalDay(\"&$D$12&\")=\"&$F$8&\" and Barix(\"&$D$12&\",reference:=StartOfDay)=\"&A37&\"\", \"Bar\", \"\", \"Close\",\"5\",\"0\",\"\",,,\"False\",\"T\",\"EveryTick\")","v":983.25},-1.1063615790797083E-2,{"$f":"RTD(\"cqg.rtd\",,\"StudyData\", \"Close(\"&$D$12&\") when LocalYear(\"&$D$12&\")=\"&$D$9&\" and localMonth(\"&$D$12&\") =\"&$E$9&\" and LocalDay(\"&$D$12&\")=\"&$F$9&\" and Barix(\"&$D$12&\",reference:=StartOfDay)=\"&A37&\"\", \"Bar\", \"\", \"Close\",\"5\",\"0\",\"\",,,\"False\",\"T\",\"EveryTick\")","v":999.25},-1.9975031210986267E-3,{"$f":"RTD(\"cqg.rtd\",,\"StudyData\", \"Close(\"&$D$12&\") when LocalYear(\"&$D$12&\")=\"&$D$10&\" and localMonth(\"&$D$12&\") =\"&$E$10&\" and LocalDay(\"&$D$12&\")=\"&$F$10&\" and Barix(\"&$D$12&\",reference:=StartOfDay)=\"&A37&\"\", \"Bar\", \"\", \"Close\",\"5\",\"0\",\"\",,,\"False\",\"T\",\"EveryTick\")","v":1002.25},4.991265285749938E-4,null,null,null,""]
[181,"10:50:00",-40,{"$f":" RTD(\"cqg.rtd\",,\"StudyData\", $D$12,  \"Tick\", \"FlatTicks=0\", \"Tick\",\"D\",C38,\"PrimaryOnly\")","v":905},null,"ZSE",null,{"$f":"RTD(\"cqg.rtd\",,\"StudyData\", \"Close(\"&$D$12&\") when LocalYear(\"&$D$12&\")=\"&$D$1&\" and localMonth(\"&$D$12&\") =\"&$E$1&\" and LocalDay(\"&$D$12&\")=\"&$F$1&\" and Barix(\"&$D$12&\",reference:=StartOfDay)=\"&A38&\"\", \"Bar\", \"\", \"Close\",\"5\",\"0\",\"\",,,\"False\",\"T\",\"EveryTick\")","v":""},{"$error":"#N/A"},{"$f":"RTD(\"cqg.rtd\",,\"StudyData\", \"Close(\"&$D$12&\") when LocalYear(\"&$D$12&\")=\"&$D$2&\" and localMonth(\"&$D$12&\") =\"&$E$2&\" and LocalDay(\"&$D$12&\")=\"&$F$2&\" and Barix(\"&$D$12&\",reference:=StartOfDay)=\"&A38&\"\", \"Bar\", \"\", \"Close\",\"5\",\"0\",\"\",,,\"False\",\"T\",\"EveryTick\")","v":918.25},-9.7061202480452947E-3,{"$f":"RTD(\"cqg.rtd\",,\"StudyData\", \"Close(\"&$D$12&\") when LocalYear(\"&$D$12&\")=\"&$D$3&\" and localMonth(\"&$D$12&\") =\"&$E$3&\" and LocalDay(\"&$D$12&\")=\"&$F$3&\" and Barix(\"&$D$12&\",reference:=StartOfDay)=\"&A38&\"\", \"Bar\", \"\", \"Close\",\"5\",\"0\",\"\",,,\"False\",\"T\",\"EveryTick\")","v":931.5},-4.807692307692308E-3,{"$f":"RTD(\"cqg.rtd\",,\"StudyData\", \"Close(\"&$D$12&\") when LocalYear(\"&$D$12&\")=\"&$D$4&\" and localMonth(\"&$D$12&\") =\"&$E$4&\" and LocalDay(\"&$D$12&\")=\"&$F$4&\" and Barix(\"&$D$12&\",reference:=StartOfDay)=\"&A38&\"\", \"Bar\", \"\", \"Close\",\"5\",\"0\",\"\",,,\"False\",\"T\",\"EveryTick\")","v":938.5},-1.6247379454926623E-2,{"$f":"RTD(\"cqg.rtd\",,\"StudyData\", \"Close(\"&$D$12&\") when LocalYear(\"&$D$12&\")=\"&$D$5&\" and localMonth(\"&$D$12&\") =\"&$E$5&\" and LocalDay(\"&$D$12&\")=\"&$F$5&\" and Barix(\"&$D$12&\",reference:=StartOfDay)=\"&A38&\"\", \"Bar\", \"\", \"Close\",\"5\",\"0\",\"\",,,\"False\",\"T\",\"EveryTick\")","v":955.25},1.5727391874180866E-3,{"$f":"RTD(\"cqg.rtd\",,\"StudyData\", \"Close(\"&$D$12&\") when LocalYear(\"&$D$12&\")=\"&$D$6&\" and localMonth(\"&$D$12&\") =\"&$E$6&\" and LocalDay(\"&$D$12&\")=\"&$F$6&\" and Barix(\"&$D$12&\",reference:=StartOfDay)=\"&A38&\"\", \"Bar\", \"\", \"Close\",\"5\",\"0\",\"\",,,\"False\",\"T\",\"EveryTick\")","v":957.5},-1.2122775341759092E-2,{"$f":"RTD(\"cqg.rtd\",,\"StudyData\", \"Close(\"&$D$12&\") when LocalYear(\"&$D$12&\")=\"&$D$7&\" and localMonth(\"&$D$12&\") =\"&$E$7&\" and LocalDay(\"&$D$12&\")=\"&$F$7&\" and Barix(\"&$D$12&\",reference:=StartOfDay)=\"&A38&\"\", \"Bar\", \"\", \"Close\",\"5\",\"0\",\"\",,,\"False\",\"T\",\"EveryTick\")","v":969.25},-5.1321529381575569E-3,{"$f":"RTD(\"cqg.rtd\",,\"StudyData\", \"Close(\"&$D$12&\") when LocalYear(\"&$D$12&\")=\"&$D$8&\" and localMonth(\"&$D$12&\") =\"&$E$8&\" and LocalDay(\"&$D$12&\")=\"&$F$8&\" and Barix(\"&$D$12&\",reference:=StartOfDay)=\"&A38&\"\", \"Bar\", \"\", \"Close\",\"5\",\"0\",\"\",,,\"False\",\"T\",\"EveryTick\")","v":983.25},-1.1063615790797083E-2,{"$f":"RTD(\"cqg.rtd\",,\"StudyData\", \"Close(\"&$D$12&\") when LocalYear(\"&$D$12&\")=\"&$D$9&\" and localMonth(\"&$D$12&\") =\"&$E$9&\" and LocalDay(\"&$D$12&\")=\"&$F$9&\" and Barix(\"&$D$12&\",reference:=StartOfDay)=\"&A38&\"\", \"Bar\", \"\", \"Close\",\"5\",\"0\",\"\",,,\"False\",\"T\",\"EveryTick\")","v":998.25},-2.9962546816479402E-3,{"$f":"RTD(\"cqg.rtd\",,\"StudyData\", \"Close(\"&$D$12&\") when LocalYear(\"&$D$12&\")=\"&$D$10&\" and localMonth(\"&$D$12&\") =\"&$E$10&\" and LocalDay(\"&$D$12&\")=\"&$F$10&\" and Barix(\"&$D$12&\",reference:=StartOfDay)=\"&A38&\"\", \"Bar\", \"\", \"Close\",\"5\",\"0\",\"\",,,\"False\",\"T\",\"EveryTick\")","v":1001.75},0,null,null,null,""]
[182,"10:55:00",{"$f":"C38+1","v":-39},{"$f":" RTD(\"cqg.rtd\",,\"StudyData\", $D$12,  \"Tick\", \"FlatTicks=0\", \"Tick\",\"D\",C39,\"PrimaryOnly\")","v":904.75},null,"ZLE",null,{"$f":"RTD(\"cqg.rtd\",,\"StudyData\", \"Close(\"&$D$12&\") when LocalYear(\"&$D$12&\")=\"&$D$1&\" and localMonth(\"&$D$12&\") =\"&$E$1&\" and LocalDay(\"&$D$12&\")=\"&$F$1&\" and Barix(\"&$D$12&\",reference:=StartOfDay)=\"&A39&\"\", \"Bar\", \"\", \"Close\",\"5\",\"0\",\"\",,,\"False\",\"T\",\"EveryTick\")","v":""},{"$error":"#N/A"},{"$f":"RTD(\"cqg.rtd\",,\"StudyData\", \"Close(\"&$D$12&\") when LocalYear(\"&$D$12&\")=\"&$D$2&\" and localMonth(\"&$D$12&\") =\"&$E$2&\" and LocalDay(\"&$D$12&\")=\"&$F$2&\" and Barix(\"&$D$12&\",reference:=StartOfDay)=\"&A39&\"\", \"Bar\", \"\", \"Close\",\"5\",\"0\",\"\",,,\"False\",\"T\",\"EveryTick\")","v":916.5},-1.1593421407387436E-2,{"$f":"RTD(\"cqg.rtd\",,\"StudyData\", \"Close(\"&$D$12&\") when LocalYear(\"&$D$12&\")=\"&$D$3&\" and localMonth(\"&$D$12&\") =\"&$E$3&\" and LocalDay(\"&$D$12&\")=\"&$F$3&\" and Barix(\"&$D$12&\",reference:=StartOfDay)=\"&A39&\"\", \"Bar\", \"\", \"Close\",\"5\",\"0\",\"\",,,\"False\",\"T\",\"EveryTick\")","v":933.75},-2.403846153846154E-3,{"$f":"RTD(\"cqg.rtd\",,\"StudyData\", \"Close(\"&$D$12&\") when LocalYear(\"&$D$12&\")=\"&$D$4&\" and localMonth(\"&$D$12&\") =\"&$E$4&\" and LocalDay(\"&$D$12&\")=\"&$F$4&\" and Barix(\"&$D$12&\",reference:=StartOfDay)=\"&A39&\"\", \"Bar\", \"\", \"Close\",\"5\",\"0\",\"\",,,\"False\",\"T\",\"EveryTick\")","v":939.75},-1.4937106918238994E-2,{"$f":"RTD(\"cqg.rtd\",,\"StudyData\", \"Close(\"&$D$12&\") when LocalYear(\"&$D$12&\")=\"&$D$5&\" and localMonth(\"&$D$12&\") =\"&$E$5&\" and LocalDay(\"&$D$12&\")=\"&$F$5&\" and Barix(\"&$D$12&\",reference:=StartOfDay)=\"&A39&\"\", \"Bar\", \"\", \"Close\",\"5\",\"0\",\"\",,,\"False\",\"T\",\"EveryTick\")","v":956.25},2.6212319790301442E-3,{"$f":"RTD(\"cqg.rtd\",,\"StudyData\", \"Close(\"&$D$12&\") when LocalYear(\"&$D$12&\")=\"&$D$6&\" and localMonth(\"&$D$12&\") =\"&$E$6&\" and LocalDay(\"&$D$12&\")=\"&$F$6&\" and Barix(\"&$D$12&\",reference:=StartOfDay)=\"&A39&\"\", \"Bar\", \"\", \"Close\",\"5\",\"0\",\"\",,,\"False\",\"T\",\"EveryTick\")","v":956.75},-1.2896569512509672E-2,{"$f":"RTD(\"cqg.rtd\",,\"StudyData\", \"Close(\"&$D$12&\") when LocalYear(\"&$D$12&\")=\"&$D$7&\" and localMonth(\"&$D$12&\") =\"&$E$7&\" and LocalDay(\"&$D$12&\")=\"&$F$7&\" and Barix(\"&$D$12&\",reference:=StartOfDay)=\"&A39&\"\", \"Bar\", \"\", \"Close\",\"5\",\"0\",\"\",,,\"False\",\"T\",\"EveryTick\")","v":971},-3.3358994098024123E-3,{"$f":"RTD(\"cqg.rtd\",,\"StudyData\", \"Close(\"&$D$12&\") when LocalYear(\"&$D$12&\")=\"&$D$8&\" and localMonth(\"&$D$12&\") =\"&$E$8&\" and LocalDay(\"&$D$12&\")=\"&$F$8&\" and Barix(\"&$D$12&\",reference:=StartOfDay)=\"&A39&\"\", \"Bar\", \"\", \"Close\",\"5\",\"0\",\"\",,,\"False\",\"T\",\"EveryTick\")","v":982.5},-1.1817953231078702E-2,{"$f":"RTD(\"cqg.rtd\",,\"StudyData\", \"Close(\"&$D$12&\") when LocalYear(\"&$D$12&\")=\"&$D$9&\" and localMonth(\"&$D$12&\") =\"&$E$9&\" and LocalDay(\"&$D$12&\")=\"&$F$9&\" and Barix(\"&$D$12&\",reference:=StartOfDay)=\"&A39&\"\", \"Bar\", \"\", \"Close\",\"5\",\"0\",\"\",,,\"False\",\"T\",\"EveryTick\")","v":998.25},-2.9962546816479402E-3,{"$f":"RTD(\"cqg.rtd\",,\"StudyData\", \"Close(\"&$D$12&\") when LocalYear(\"&$D$12&\")=\"&$D$10&\" and localMonth(\"&$D$12&\") =\"&$E$10&\" and LocalDay(\"&$D$12&\")=\"&$F$10&\" and Barix(\"&$D$12&\",reference:=StartOfDay)=\"&A39&\"\", \"Bar\", \"\", \"Close\",\"5\",\"0\",\"\",,,\"False\",\"T\",\"EveryTick\")","v":1003.25},1.4973795857249812E-3,null,null,null,""]
[183,"11:00:00",{"$f":"C39+1","v":-38},{"$f":" RTD(\"cqg.rtd\",,\"StudyData\", $D$12,  \"Tick\", \"FlatTicks=0\", \"Tick\",\"D\",C40,\"PrimaryOnly\")","v":905},null,"ZME",null,{"$f":"RTD(\"cqg.rtd\",,\"StudyData\", \"Close(\"&$D$12&\") when LocalYear(\"&$D$12&\")=\"&$D$1&\" and localMonth(\"&$D$12&\") =\"&$E$1&\" and LocalDay(\"&$D$12&\")=\"&$F$1&\" and Barix(\"&$D$12&\",reference:=StartOfDay)=\"&A40&\"\", \"Bar\", \"\", \"Close\",\"5\",\"0\",\"\",,,\"False\",\"T\",\"EveryTick\")","v":""},{"$error":"#N/A"},{"$f":"RTD(\"cqg.rtd\",,\"StudyData\", \"Close(\"&$D$12&\") when LocalYear(\"&$D$12&\")=\"&$D$2&\" and localMonth(\"&$D$12&\") =\"&$E$2&\" and LocalDay(\"&$D$12&\")=\"&$F$2&\" and Barix(\"&$D$12&\",reference:=StartOfDay)=\"&A40&\"\", \"Bar\", \"\", \"Close\",\"5\",\"0\",\"\",,,\"False\",\"T\",\"EveryTick\")","v":919.25},-8.6276624427069296E-3,{"$f":"RTD(\"cqg.rtd\",,\"StudyData\", \"Close(\"&$D$12&\") when LocalYear(\"&$D$12&\")=\"&$D$3&\" and localMonth(\"&$D$12&\") =\"&$E$3&\" and LocalDay(\"&$D$12&\")=\"&$F$3&\" and Barix(\"&$D$12&\",reference:=StartOfDay)=\"&A40&\"\", \"Bar\", \"\", \"Close\",\"5\",\"0\",\"\",,,\"False\",\"T\",\"EveryTick\")","v":933.5},-2.670940170940171E-3,{"$f":"RTD(\"cqg.rtd\",,\"StudyData\", \"Close(\"&$D$12&\") when LocalYear(\"&$D$12&\")=\"&$D$4&\" and localMonth(\"&$D$12&\") =\"&$E$4&\" and LocalDay(\"&$D$12&\")=\"&$F$4&\" and Barix(\"&$D$12&\",reference:=StartOfDay)=\"&A40&\"\", \"Bar\", \"\", \"Close\",\"5\",\"0\",\"\",,,\"False\",\"T\",\"EveryTick\")","v":941},-1.3626834381551363E-2,{"$f":"RTD(\"cqg.rtd\",,\"StudyData\", \"Close(\"&$D$12&\") when LocalYear(\"&$D$12&\")=\"&$D$5&\" and localMonth(\"&$D$12&\") =\"&$E$5&\" and LocalDay(\"&$D$12&\")=\"&$F$5&\" and Barix(\"&$D$12&\",reference:=StartOfDay)=\"&A40&\"\", \"Bar\", \"\", \"Close\",\"5\",\"0\",\"\",,,\"False\",\"T\",\"EveryTick\")","v":961.5},8.1258191349934464E-3,{"$f":"RTD(\"cqg.rtd\",,\"StudyData\", \"Close(\"&$D$12&\") when LocalYear(\"&$D$12&\")=\"&$D$6&\" and localMonth(\"&$D$12&\") =\"&$E$6&\" and LocalDay(\"&$D$12&\")=\"&$F$6&\" and Barix(\"&$D$12&\",reference:=StartOfDay)=\"&A40&\"\", \"Bar\", \"\", \"Close\",\"5\",\"0\",\"\",,,\"False\",\"T\",\"EveryTick\")","v":956.25},-1.3412432293010059E-2,{"$f":"RTD(\"cqg.rtd\",,\"StudyData\", \"Close(\"&$D$12&\") when LocalYear(\"&$D$12&\")=\"&$D$7&\" and localMonth(\"&$D$12&\") =\"&$E$7&\" and LocalDay(\"&$D$12&\")=\"&$F$7&\" and Barix(\"&$D$12&\",reference:=StartOfDay)=\"&A40&\"\", \"Bar\", \"\", \"Close\",\"5\",\"0\",\"\",,,\"False\",\"T\",\"EveryTick\")","v":970},-4.3623299974339235E-3,{"$f":"RTD(\"cqg.rtd\",,\"StudyData\", \"Close(\"&$D$12&\") when LocalYear(\"&$D$12&\")=\"&$D$8&\" and localMonth(\"&$D$12&\") =\"&$E$8&\" and LocalDay(\"&$D$12&\")=\"&$F$8&\" and Barix(\"&$D$12&\",reference:=StartOfDay)=\"&A40&\"\", \"Bar\", \"\", \"Close\",\"5\",\"0\",\"\",,,\"False\",\"T\",\"EveryTick\")","v":983.25},-1.1063615790797083E-2,{"$f":"RTD(\"cqg.rtd\",,\"StudyData\", \"Close(\"&$D$12&\") when LocalYear(\"&$D$12&\")=\"&$D$9&\" and localMonth(\"&$D$12&\") =\"&$E$9&\" and LocalDay(\"&$D$12&\")=\"&$F$9&\" and Barix(\"&$D$12&\",reference:=StartOfDay)=\"&A40&\"\", \"Bar\", \"\", \"Close\",\"5\",\"0\",\"\",,,\"False\",\"T\",\"EveryTick\")","v":998},-3.2459425717852684E-3,{"$f":"RTD(\"cqg.rtd\",,\"StudyData\", \"Close(\"&$D$12&\") when LocalYear(\"&$D$12&\")=\"&$D$10&\" and localMonth(\"&$D$12&\") =\"&$E$10&\" and LocalDay(\"&$D$12&\")=\"&$F$10&\" and Barix(\"&$D$12&\",reference:=StartOfDay)=\"&A40&\"\", \"Bar\", \"\", \"Close\",\"5\",\"0\",\"\",,,\"False\",\"T\",\"EveryTick\")","v":1003.75},1.9965061142999752E-3,null,null,null,""]
[184,"11:05:00",-37,{"$f":" RTD(\"cqg.rtd\",,\"StudyData\", $D$12,  \"Tick\", \"FlatTicks=0\", \"Tick\",\"D\",C41,\"PrimaryOnly\")","v":905.25},null,"ZCE",null,{"$f":"RTD(\"cqg.rtd\",,\"StudyData\", \"Close(\"&$D$12&\") when LocalYear(\"&$D$12&\")=\"&$D$1&\" and localMonth(\"&$D$12&\") =\"&$E$1&\" and LocalDay(\"&$D$12&\")=\"&$F$1&\" and Barix(\"&$D$12&\",reference:=StartOfDay)=\"&A41&\"\", \"Bar\", \"\", \"Close\",\"5\",\"0\",\"\",,,\"False\",\"T\",\"EveryTick\")","v":""},{"$error":"#N/A"},{"$f":"RTD(\"cqg.rtd\",,\"StudyData\", \"Close(\"&$D$12&\") when LocalYear(\"&$D$12&\")=\"&$D$2&\" and localMonth(\"&$D$12&\") =\"&$E$2&\" and LocalDay(\"&$D$12&\")=\"&$F$2&\" and Barix(\"&$D$12&\",reference:=StartOfDay)=\"&A41&\"\", \"Bar\", \"\", \"Close\",\"5\",\"0\",\"\",,,\"False\",\"T\",\"EveryTick\")","v":918.25},-9.7061202480452947E-3,{"$f":"RTD(\"cqg.rtd\",,\"StudyData\", \"Close(\"&$D$12&\") when LocalYear(\"&$D$12&\")=\"&$D$3&\" and localMonth(\"&$D$12&\") =\"&$E$3&\" and LocalDay(\"&$D$12&\")=\"&$F$3&\" and Barix(\"&$D$12&\",reference:=StartOfDay)=\"&A41&\"\", \"Bar\", \"\", \"Close\",\"5\",\"0\",\"\",,,\"False\",\"T\",\"EveryTick\")","v":933.5},-2.670940170940171E-3,{"$f":"RTD(\"cqg.rtd\",,\"StudyData\", \"Close(\"&$D$12&\") when LocalYear(\"&$D$12&\")=\"&$D$4&\" and localMonth(\"&$D$12&\") =\"&$E$4&\" and LocalDay(\"&$D$12&\")=\"&$F$4&\" and Barix(\"&$D$12&\",reference:=StartOfDay)=\"&A41&\"\", \"Bar\", \"\", \"Close\",\"5\",\"0\",\"\",,,\"False\",\"T\",\"EveryTick\")","v":941.25},-1.3364779874213837E-2,{"$f":"RTD(\"cqg.rtd\",,\"StudyData\", \"Close(\"&$D$12&\") when LocalYear(\"&$D$12&\")=\"&$D$5&\" and localMonth(\"&$D$12&\") =\"&$E$5&\" and LocalDay(\"&$D$12&\")=\"&$F$5&\" and Barix(\"&$D$12&\",reference:=StartOfDay)=\"&A41&\"\", \"Bar\", \"\", \"Close\",\"5\",\"0\",\"\",,,\"False\",\"T\",\"EveryTick\")","v":958.5},4.9803407601572737E-3,{"$f":"RTD(\"cqg.rtd\",,\"StudyData\", \"Close(\"&$D$12&\") when LocalYear(\"&$D$12&\")=\"&$D$6&\" and localMonth(\"&$D$12&\") =\"&$E$6&\" and LocalDay(\"&$D$12&\")=\"&$F$6&\" and Barix(\"&$D$12&\",reference:=StartOfDay)=\"&A41&\"\", \"Bar\", \"\", \"Close\",\"5\",\"0\",\"\",,,\"False\",\"T\",\"EveryTick\")","v":955.75},-1.3928295073510446E-2,{"$f":"RTD(\"cqg.rtd\",,\"StudyData\", \"Close(\"&$D$12&\") when LocalYear(\"&$D$12&\")=\"&$D$7&\" and localMonth(\"&$D$12&\") =\"&$E$7&\" and LocalDay(\"&$D$12&\")=\"&$F$7&\" and Barix(\"&$D$12&\",reference:=StartOfDay)=\"&A41&\"\", \"Bar\", \"\", \"Close\",\"5\",\"0\",\"\",,,\"False\",\"T\",\"EveryTick\")","v":969.75},-4.6189376443418013E-3,{"$f":"RTD(\"cqg.rtd\",,\"StudyData\", \"Close(\"&$D$12&\") when LocalYear(\"&$D$12&\")=\"&$D$8&\" and localMonth(\"&$D$12&\") =\"&$E$8&\" and LocalDay(\"&$D$12&\")=\"&$F$8&\" and Barix(\"&$D$12&\",reference:=StartOfDay)=\"&A41&\"\", \"Bar\", \"\", \"Close\",\"5\",\"0\",\"\",,,\"False\",\"T\",\"EveryTick\")","v":983},-1.131506160422429E-2,{"$f":"RTD(\"cqg.rtd\",,\"StudyData\", \"Close(\"&$D$12&\") when LocalYear(\"&$D$12&\")=\"&$D$9&\" and localMonth(\"&$D$12&\") =\"&$E$9&\" and LocalDay(\"&$D$12&\")=\"&$F$9&\" and Barix(\"&$D$12&\",reference:=StartOfDay)=\"&A41&\"\", \"Bar\", \"\", \"Close\",\"5\",\"0\",\"\",,,\"False\",\"T\",\"EveryTick\")","v":997.75},-3.495630461922597E-3,{"$f":"RTD(\"cqg.rtd\",,\"StudyData\", \"Close(\"&$D$12&\") when LocalYear(\"&$D$12&\")=\"&$D$10&\" and localMonth(\"&$D$12&\") =\"&$E$10&\" and LocalDay(\"&$D$12&\")=\"&$F$10&\" and Barix(\"&$D$12&\",reference:=StartOfDay)=\"&A41&\"\", \"Bar\", \"\", \"Close\",\"5\",\"0\",\"\",,,\"False\",\"T\",\"EveryTick\")","v":1003.5},1.7469428500124782E-3,null,null,null,""]
[185,"11:10:00",-36,{"$f":" RTD(\"cqg.rtd\",,\"StudyData\", $D$12,  \"Tick\", \"FlatTicks=0\", \"Tick\",\"D\",C42,\"PrimaryOnly\")","v":905},null,"ZWA",null,{"$f":"RTD(\"cqg.rtd\",,\"StudyData\", \"Close(\"&$D$12&\") when LocalYear(\"&$D$12&\")=\"&$D$1&\" and localMonth(\"&$D$12&\") =\"&$E$1&\" and LocalDay(\"&$D$12&\")=\"&$F$1&\" and Barix(\"&$D$12&\",reference:=StartOfDay)=\"&A42&\"\", \"Bar\", \"\", \"Close\",\"5\",\"0\",\"\",,,\"False\",\"T\",\"EveryTick\")","v":""},{"$error":"#N/A"},{"$f":"RTD(\"cqg.rtd\",,\"StudyData\", \"Close(\"&$D$12&\") when LocalYear(\"&$D$12&\")=\"&$D$2&\" and localMonth(\"&$D$12&\") =\"&$E$2&\" and LocalDay(\"&$D$12&\")=\"&$F$2&\" and Barix(\"&$D$12&\",reference:=StartOfDay)=\"&A42&\"\", \"Bar\", \"\", \"Close\",\"5\",\"0\",\"\",,,\"False\",\"T\",\"EveryTick\")","v":915.5},-1.2671879212725803E-2,{"$f":"RTD(\"cqg.rtd\",,\"StudyData\", \"Close(\"&$D$12&\") when LocalYear(\"&$D$12&\")=\"&$D$3&\" and localMonth(\"&$D$12&\") =\"&$E$3&\" and LocalDay(\"&$D$12&\")=\"&$F$3&\" and Barix(\"&$D$12&\",reference:=StartOfDay)=\"&A42&\"\", \"Bar\", \"\", \"Close\",\"5\",\"0\",\"\",,,\"False\",\"T\",\"EveryTick\")","v":932.75},-3.472222222222222E-3,{"$f":"RTD(\"cqg.rtd\",,\"StudyData\", \"Close(\"&$D$12&\") when LocalYear(\"&$D$12&\")=\"&$D$4&\" and localMonth(\"&$D$12&\") =\"&$E$4&\" and LocalDay(\"&$D$12&\")=\"&$F$4&\" and Barix(\"&$D$12&\",reference:=StartOfDay)=\"&A42&\"\", \"Bar\", \"\", \"Close\",\"5\",\"0\",\"\",,,\"False\",\"T\",\"EveryTick\")","v":941.25},-1.3364779874213837E-2,{"$f":"RTD(\"cqg.rtd\",,\"StudyData\", \"Close(\"&$D$12&\") when LocalYear(\"&$D$12&\")=\"&$D$5&\" and localMonth(\"&$D$12&\") =\"&$E$5&\" and LocalDay(\"&$D$12&\")=\"&$F$5&\" and Barix(\"&$D$12&\",reference:=StartOfDay)=\"&A42&\"\", \"Bar\", \"\", \"Close\",\"5\",\"0\",\"\",,,\"False\",\"T\",\"EveryTick\")","v":960},6.55307994757536E-3,{"$f":"RTD(\"cqg.rtd\",,\"StudyData\", \"Close(\"&$D$12&\") when LocalYear(\"&$D$12&\")=\"&$D$6&\" and localMonth(\"&$D$12&\") =\"&$E$6&\" and LocalDay(\"&$D$12&\")=\"&$F$6&\" and Barix(\"&$D$12&\",reference:=StartOfDay)=\"&A42&\"\", \"Bar\", \"\", \"Close\",\"5\",\"0\",\"\",,,\"False\",\"T\",\"EveryTick\")","v":957},-1.2638638122259479E-2,{"$f":"RTD(\"cqg.rtd\",,\"StudyData\", \"Close(\"&$D$12&\") when LocalYear(\"&$D$12&\")=\"&$D$7&\" and localMonth(\"&$D$12&\") =\"&$E$7&\" and LocalDay(\"&$D$12&\")=\"&$F$7&\" and Barix(\"&$D$12&\",reference:=StartOfDay)=\"&A42&\"\", \"Bar\", \"\", \"Close\",\"5\",\"0\",\"\",,,\"False\",\"T\",\"EveryTick\")","v":968.25},-6.1585835257890681E-3,{"$f":"RTD(\"cqg.rtd\",,\"StudyData\", \"Close(\"&$D$12&\") when LocalYear(\"&$D$12&\")=\"&$D$8&\" and localMonth(\"&$D$12&\") =\"&$E$8&\" and LocalDay(\"&$D$12&\")=\"&$F$8&\" and Barix(\"&$D$12&\",reference:=StartOfDay)=\"&A42&\"\", \"Bar\", \"\", \"Close\",\"5\",\"0\",\"\",,,\"False\",\"T\",\"EveryTick\")","v":982.75},-1.1566507417651497E-2,{"$f":"RTD(\"cqg.rtd\",,\"StudyData\", \"Close(\"&$D$12&\") when LocalYear(\"&$D$12&\")=\"&$D$9&\" and localMonth(\"&$D$12&\") =\"&$E$9&\" and LocalDay(\"&$D$12&\")=\"&$F$9&\" and Barix(\"&$D$12&\",reference:=StartOfDay)=\"&A42&\"\", \"Bar\", \"\", \"Close\",\"5\",\"0\",\"\",,,\"False\",\"T\",\"EveryTick\")","v":997.75},-3.495630461922597E-3,{"$f":"RTD(\"cqg.rtd\",,\"StudyData\", \"Close(\"&$D$12&\") when LocalYear(\"&$D$12&\")=\"&$D$10&\" and localMonth(\"&$D$12&\") =\"&$E$10&\" and LocalDay(\"&$D$12&\")=\"&$F$10&\" and Barix(\"&$D$12&\",reference:=StartOfDay)=\"&A42&\"\", \"Bar\", \"\", \"Close\",\"5\",\"0\",\"\",,,\"False\",\"T\",\"EveryTick\")","v":1003.5},1.7469428500124782E-3,null,null,null,""]
[186,"11:15:00",-35,{"$f":" RTD(\"cqg.rtd\",,\"StudyData\", $D$12,  \"Tick\", \"FlatTicks=0\", \"Tick\",\"D\",C43,\"PrimaryOnly\")","v":905.25},null,"KWE",null,{"$f":"RTD(\"cqg.rtd\",,\"StudyData\", \"Close(\"&$D$12&\") when LocalYear(\"&$D$12&\")=\"&$D$1&\" and localMonth(\"&$D$12&\") =\"&$E$1&\" and LocalDay(\"&$D$12&\")=\"&$F$1&\" and Barix(\"&$D$12&\",reference:=StartOfDay)=\"&A43&\"\", \"Bar\", \"\", \"Close\",\"5\",\"0\",\"\",,,\"False\",\"T\",\"EveryTick\")","v":""},{"$error":"#N/A"},{"$f":"RTD(\"cqg.rtd\",,\"StudyData\", \"Close(\"&$D$12&\") when LocalYear(\"&$D$12&\")=\"&$D$2&\" and localMonth(\"&$D$12&\") =\"&$E$2&\" and LocalDay(\"&$D$12&\")=\"&$F$2&\" and Barix(\"&$D$12&\",reference:=StartOfDay)=\"&A43&\"\", \"Bar\", \"\", \"Close\",\"5\",\"0\",\"\",,,\"False\",\"T\",\"EveryTick\")","v":915},-1.3211108115394984E-2,{"$f":"RTD(\"cqg.rtd\",,\"StudyData\", \"Close(\"&$D$12&\") when LocalYear(\"&$D$12&\")=\"&$D$3&\" and localMonth(\"&$D$12&\") =\"&$E$3&\" and LocalDay(\"&$D$12&\")=\"&$F$3&\" and Barix(\"&$D$12&\",reference:=StartOfDay)=\"&A43&\"\", \"Bar\", \"\", \"Close\",\"5\",\"0\",\"\",,,\"False\",\"T\",\"EveryTick\")","v":930.25},-6.143162393162393E-3,{"$f":"RTD(\"cqg.rtd\",,\"StudyData\", \"Close(\"&$D$12&\") when LocalYear(\"&$D$12&\")=\"&$D$4&\" and localMonth(\"&$D$12&\") =\"&$E$4&\" and LocalDay(\"&$D$12&\")=\"&$F$4&\" and Barix(\"&$D$12&\",reference:=StartOfDay)=\"&A43&\"\", \"Bar\", \"\", \"Close\",\"5\",\"0\",\"\",,,\"False\",\"T\",\"EveryTick\")","v":941.25},-1.3364779874213837E-2,{"$f":"RTD(\"cqg.rtd\",,\"StudyData\", \"Close(\"&$D$12&\") when LocalYear(\"&$D$12&\")=\"&$D$5&\" and localMonth(\"&$D$12&\") =\"&$E$5&\" and LocalDay(\"&$D$12&\")=\"&$F$5&\" and Barix(\"&$D$12&\",reference:=StartOfDay)=\"&A43&\"\", \"Bar\", \"\", \"Close\",\"5\",\"0\",\"\",,,\"False\",\"T\",\"EveryTick\")","v":961.75},8.3879423328964611E-3,{"$f":"RTD(\"cqg.rtd\",,\"StudyData\", \"Close(\"&$D$12&\") when LocalYear(\"&$D$12&\")=\"&$D$6&\" and localMonth(\"&$D$12&\") =\"&$E$6&\" and LocalDay(\"&$D$12&\")=\"&$F$6&\" and Barix(\"&$D$12&\",reference:=StartOfDay)=\"&A43&\"\", \"Bar\", \"\", \"Close\",\"5\",\"0\",\"\",,,\"False\",\"T\",\"EveryTick\")","v":957.25},-1.2380706732009285E-2,{"$f":"RTD(\"cqg.rtd\",,\"StudyData\", \"Close(\"&$D$12&\") when LocalYear(\"&$D$12&\")=\"&$D$7&\" and localMonth(\"&$D$12&\") =\"&$E$7&\" and LocalDay(\"&$D$12&\")=\"&$F$7&\" and Barix(\"&$D$12&\",reference:=StartOfDay)=\"&A43&\"\", \"Bar\", \"\", \"Close\",\"5\",\"0\",\"\",,,\"False\",\"T\",\"EveryTick\")","v":968.5},-5.9019758788811903E-3,{"$f":"RTD(\"cqg.rtd\",,\"StudyData\", \"Close(\"&$D$12&\") when LocalYear(\"&$D$12&\")=\"&$D$8&\" and localMonth(\"&$D$12&\") =\"&$E$8&\" and LocalDay(\"&$D$12&\")=\"&$F$8&\" and Barix(\"&$D$12&\",reference:=StartOfDay)=\"&A43&\"\", \"Bar\", \"\", \"Close\",\"5\",\"0\",\"\",,,\"False\",\"T\",\"EveryTick\")","v":982.75},-1.1566507417651497E-2,{"$f":"RTD(\"cqg.rtd\",,\"StudyData\", \"Close(\"&$D$12&\") when LocalYear(\"&$D$12&\")=\"&$D$9&\" and localMonth(\"&$D$12&\") =\"&$E$9&\" and LocalDay(\"&$D$12&\")=\"&$F$9&\" and Barix(\"&$D$12&\",reference:=StartOfDay)=\"&A43&\"\", \"Bar\", \"\", \"Close\",\"5\",\"0\",\"\",,,\"False\",\"T\",\"EveryTick\")","v":998},-3.2459425717852684E-3,{"$f":"RTD(\"cqg.rtd\",,\"StudyData\", \"Close(\"&$D$12&\") when LocalYear(\"&$D$12&\")=\"&$D$10&\" and localMonth(\"&$D$12&\") =\"&$E$10&\" and LocalDay(\"&$D$12&\")=\"&$F$10&\" and Barix(\"&$D$12&\",reference:=StartOfDay)=\"&A43&\"\", \"Bar\", \"\", \"Close\",\"5\",\"0\",\"\",,,\"False\",\"T\",\"EveryTick\")","v":1003},1.2478163214374844E-3,null,null,null,""]
[187,"11:20:00",-34,{"$f":" RTD(\"cqg.rtd\",,\"StudyData\", $D$12,  \"Tick\", \"FlatTicks=0\", \"Tick\",\"D\",C44,\"PrimaryOnly\")","v":905.5},null,"MWE",null,{"$f":"RTD(\"cqg.rtd\",,\"StudyData\", \"Close(\"&$D$12&\") when LocalYear(\"&$D$12&\")=\"&$D$1&\" and localMonth(\"&$D$12&\") =\"&$E$1&\" and LocalDay(\"&$D$12&\")=\"&$F$1&\" and Barix(\"&$D$12&\",reference:=StartOfDay)=\"&A44&\"\", \"Bar\", \"\", \"Close\",\"5\",\"0\",\"\",,,\"False\",\"T\",\"EveryTick\")","v":""},{"$error":"#N/A"},{"$f":"RTD(\"cqg.rtd\",,\"StudyData\", \"Close(\"&$D$12&\") when LocalYear(\"&$D$12&\")=\"&$D$2&\" and localMonth(\"&$D$12&\") =\"&$E$2&\" and LocalDay(\"&$D$12&\")=\"&$F$2&\" and Barix(\"&$D$12&\",reference:=StartOfDay)=\"&A44&\"\", \"Bar\", \"\", \"Close\",\"5\",\"0\",\"\",,,\"False\",\"T\",\"EveryTick\")","v":915.25},-1.2941493664060394E-2,{"$f":"RTD(\"cqg.rtd\",,\"StudyData\", \"Close(\"&$D$12&\") when LocalYear(\"&$D$12&\")=\"&$D$3&\" and localMonth(\"&$D$12&\") =\"&$E$3&\" and LocalDay(\"&$D$12&\")=\"&$F$3&\" and Barix(\"&$D$12&\",reference:=StartOfDay)=\"&A44&\"\", \"Bar\", \"\", \"Close\",\"5\",\"0\",\"\",,,\"False\",\"T\",\"EveryTick\")","v":929.75},-6.677350427350427E-3,{"$f":"RTD(\"cqg.rtd\",,\"StudyData\", \"Close(\"&$D$12&\") when LocalYear(\"&$D$12&\")=\"&$D$4&\" and localMonth(\"&$D$12&\") =\"&$E$4&\" and LocalDay(\"&$D$12&\")=\"&$F$4&\" and Barix(\"&$D$12&\",reference:=StartOfDay)=\"&A44&\"\", \"Bar\", \"\", \"Close\",\"5\",\"0\",\"\",,,\"False\",\"T\",\"EveryTick\")","v":940.5},-1.4150943396226415E-2,{"$f":"RTD(\"cqg.rtd\",,\"StudyData\", \"Close(\"&$D$12&\") when LocalYear(\"&$D$12&\")=\"&$D$5&\" and localMonth(\"&$D$12&\") =\"&$E$5&\" and LocalDay(\"&$D$12&\")=\"&$F$5&\" and Barix(\"&$D$12&\",reference:=StartOfDay)=\"&A44&\"\", \"Bar\", \"\", \"Close\",\"5\",\"0\",\"\",,,\"False\",\"T\",\"EveryTick\")","v":960.25},6.8152031454783747E-3,{"$f":"RTD(\"cqg.rtd\",,\"StudyData\", \"Close(\"&$D$12&\") when LocalYear(\"&$D$12&\")=\"&$D$6&\" and localMonth(\"&$D$12&\") =\"&$E$6&\" and LocalDay(\"&$D$12&\")=\"&$F$6&\" and Barix(\"&$D$12&\",reference:=StartOfDay)=\"&A44&\"\", \"Bar\", \"\", \"Close\",\"5\",\"0\",\"\",,,\"False\",\"T\",\"EveryTick\")","v":956.75},-1.2896569512509672E-2,{"$f":"RTD(\"cqg.rtd\",,\"StudyData\", \"Close(\"&$D$12&\") when LocalYear(\"&$D$12&\")=\"&$D$7&\" and localMonth(\"&$D$12&\") =\"&$E$7&\" and LocalDay(\"&$D$12&\")=\"&$F$7&\" and Barix(\"&$D$12&\",reference:=StartOfDay)=\"&A44&\"\", \"Bar\", \"\", \"Close\",\"5\",\"0\",\"\",,,\"False\",\"T\",\"EveryTick\")","v":968.75},-5.6453682319733125E-3,{"$f":"RTD(\"cqg.rtd\",,\"StudyData\", \"Close(\"&$D$12&\") when LocalYear(\"&$D$12&\")=\"&$D$8&\" and localMonth(\"&$D$12&\") =\"&$E$8&\" and LocalDay(\"&$D$12&\")=\"&$F$8&\" and Barix(\"&$D$12&\",reference:=StartOfDay)=\"&A44&\"\", \"Bar\", \"\", \"Close\",\"5\",\"0\",\"\",,,\"False\",\"T\",\"EveryTick\")","v":982.5},-1.1817953231078702E-2,{"$f":"RTD(\"cqg.rtd\",,\"StudyData\", \"Close(\"&$D$12&\") when LocalYear(\"&$D$12&\")=\"&$D$9&\" and localMonth(\"&$D$12&\") =\"&$E$9&\" and LocalDay(\"&$D$12&\")=\"&$F$9&\" and Barix(\"&$D$12&\",reference:=StartOfDay)=\"&A44&\"\", \"Bar\", \"\", \"Close\",\"5\",\"0\",\"\",,,\"False\",\"T\",\"EveryTick\")","v":997.75},-3.495630461922597E-3,{"$f":"RTD(\"cqg.rtd\",,\"StudyData\", \"Close(\"&$D$12&\") when LocalYear(\"&$D$12&\")=\"&$D$10&\" and localMonth(\"&$D$12&\") =\"&$E$10&\" and LocalDay(\"&$D$12&\")=\"&$F$10&\" and Barix(\"&$D$12&\",reference:=StartOfDay)=\"&A44&\"\", \"Bar\", \"\", \"Close\",\"5\",\"0\",\"\",,,\"False\",\"T\",\"EveryTick\")","v":1003.25},1.4973795857249812E-3,null,null,null,""]
[188,"11:25:00",-33,{"$f":" RTD(\"cqg.rtd\",,\"StudyData\", $D$12,  \"Tick\", \"FlatTicks=0\", \"Tick\",\"D\",C45,\"PrimaryOnly\")","v":905.25},null,null,null,{"$f":"RTD(\"cqg.rtd\",,\"StudyData\", \"Close(\"&$D$12&\") when LocalYear(\"&$D$12&\")=\"&$D$1&\" and localMonth(\"&$D$12&\") =\"&$E$1&\" and LocalDay(\"&$D$12&\")=\"&$F$1&\" and Barix(\"&$D$12&\",reference:=StartOfDay)=\"&A45&\"\", \"Bar\", \"\", \"Close\",\"5\",\"0\",\"\",,,\"False\",\"T\",\"EveryTick\")","v":""},{"$error":"#N/A"},{"$f":"RTD(\"cqg.rtd\",,\"StudyData\", \"Close(\"&$D$12&\") when LocalYear(\"&$D$12&\")=\"&$D$2&\" and localMonth(\"&$D$12&\") =\"&$E$2&\" and LocalDay(\"&$D$12&\")=\"&$F$2&\" and Barix(\"&$D$12&\",reference:=StartOfDay)=\"&A45&\"\", \"Bar\", \"\", \"Close\",\"5\",\"0\",\"\",,,\"False\",\"T\",\"EveryTick\")","v":914.5},-1.3750337018064168E-2,{"$f":"RTD(\"cqg.rtd\",,\"StudyData\", \"Close(\"&$D$12&\") when LocalYear(\"&$D$12&\")=\"&$D$3&\" and localMonth(\"&$D$12&\") =\"&$E$3&\" and LocalDay(\"&$D$12&\")=\"&$F$3&\" and Barix(\"&$D$12&\",reference:=StartOfDay)=\"&A45&\"\", \"Bar\", \"\", \"Close\",\"5\",\"0\",\"\",,,\"False\",\"T\",\"EveryTick\")","v":930},-6.41025641025641E-3,{"$f":"RTD(\"cqg.rtd\",,\"StudyData\", \"Close(\"&$D$12&\") when LocalYear(\"&$D$12&\")=\"&$D$4&\" and localMonth(\"&$D$12&\") =\"&$E$4&\" and LocalDay(\"&$D$12&\")=\"&$F$4&\" and Barix(\"&$D$12&\",reference:=StartOfDay)=\"&A45&\"\", \"Bar\", \"\", \"Close\",\"5\",\"0\",\"\",,,\"False\",\"T\",\"EveryTick\")","v":940.75},-1.3888888888888888E-2,{"$f":"RTD(\"cqg.rtd\",,\"StudyData\", \"Close(\"&$D$12&\") when LocalYear(\"&$D$12&\")=\"&$D$5&\" and localMonth(\"&$D$12&\") =\"&$E$5&\" and LocalDay(\"&$D$12&\")=\"&$F$5&\" and Barix(\"&$D$12&\",reference:=StartOfDay)=\"&A45&\"\", \"Bar\", \"\", \"Close\",\"5\",\"0\",\"\",,,\"False\",\"T\",\"EveryTick\")","v":957.75},4.1939711664482305E-3,{"$f":"RTD(\"cqg.rtd\",,\"StudyData\", \"Close(\"&$D$12&\") when LocalYear(\"&$D$12&\")=\"&$D$6&\" and localMonth(\"&$D$12&\") =\"&$E$6&\" and LocalDay(\"&$D$12&\")=\"&$F$6&\" and Barix(\"&$D$12&\",reference:=StartOfDay)=\"&A45&\"\", \"Bar\", \"\", \"Close\",\"5\",\"0\",\"\",,,\"False\",\"T\",\"EveryTick\")","v":958},-1.1606912561258705E-2,{"$f":"RTD(\"cqg.rtd\",,\"StudyData\", \"Close(\"&$D$12&\") when LocalYear(\"&$D$12&\")=\"&$D$7&\" and localMonth(\"&$D$12&\") =\"&$E$7&\" and LocalDay(\"&$D$12&\")=\"&$F$7&\" and Barix(\"&$D$12&\",reference:=StartOfDay)=\"&A45&\"\", \"Bar\", \"\", \"Close\",\"5\",\"0\",\"\",,,\"False\",\"T\",\"EveryTick\")","v":968.5},-5.9019758788811903E-3,{"$f":"RTD(\"cqg.rtd\",,\"StudyData\", \"Close(\"&$D$12&\") when LocalYear(\"&$D$12&\")=\"&$D$8&\" and localMonth(\"&$D$12&\") =\"&$E$8&\" and LocalDay(\"&$D$12&\")=\"&$F$8&\" and Barix(\"&$D$12&\",reference:=StartOfDay)=\"&A45&\"\", \"Bar\", \"\", \"Close\",\"5\",\"0\",\"\",,,\"False\",\"T\",\"EveryTick\")","v":981.25},-1.3075182298214735E-2,{"$f":"RTD(\"cqg.rtd\",,\"StudyData\", \"Close(\"&$D$12&\") when LocalYear(\"&$D$12&\")=\"&$D$9&\" and localMonth(\"&$D$12&\") =\"&$E$9&\" and LocalDay(\"&$D$12&\")=\"&$F$9&\" and Barix(\"&$D$12&\",reference:=StartOfDay)=\"&A45&\"\", \"Bar\", \"\", \"Close\",\"5\",\"0\",\"\",,,\"False\",\"T\",\"EveryTick\")","v":997.25},-3.9950062421972533E-3,{"$f":"RTD(\"cqg.rtd\",,\"StudyData\", \"Close(\"&$D$12&\") when LocalYear(\"&$D$12&\")=\"&$D$10&\" and localMonth(\"&$D$12&\") =\"&$E$10&\" and LocalDay(\"&$D$12&\")=\"&$F$10&\" and Barix(\"&$D$12&\",reference:=StartOfDay)=\"&A45&\"\", \"Bar\", \"\", \"Close\",\"5\",\"0\",\"\",,,\"False\",\"T\",\"EveryTick\")","v":1003.25},1.4973795857249812E-3,null,null,null,""]
[189,"11:30:00",-32,{"$f":" RTD(\"cqg.rtd\",,\"StudyData\", $D$12,  \"Tick\", \"FlatTicks=0\", \"Tick\",\"D\",C46,\"PrimaryOnly\")","v":905},null,null,null,{"$f":"RTD(\"cqg.rtd\",,\"StudyData\", \"Close(\"&$D$12&\") when LocalYear(\"&$D$12&\")=\"&$D$1&\" and localMonth(\"&$D$12&\") =\"&$E$1&\" and LocalDay(\"&$D$12&\")=\"&$F$1&\" and Barix(\"&$D$12&\",reference:=StartOfDay)=\"&A46&\"\", \"Bar\", \"\", \"Close\",\"5\",\"0\",\"\",,,\"False\",\"T\",\"EveryTick\")","v":""},{"$error":"#N/A"},{"$f":"RTD(\"cqg.rtd\",,\"StudyData\", \"Close(\"&$D$12&\") when LocalYear(\"&$D$12&\")=\"&$D$2&\" and localMonth(\"&$D$12&\") =\"&$E$2&\" and LocalDay(\"&$D$12&\")=\"&$F$2&\" and Barix(\"&$D$12&\",reference:=StartOfDay)=\"&A46&\"\", \"Bar\", \"\", \"Close\",\"5\",\"0\",\"\",,,\"False\",\"T\",\"EveryTick\")","v":914.5},-1.3750337018064168E-2,{"$f":"RTD(\"cqg.rtd\",,\"StudyData\", \"Close(\"&$D$12&\") when LocalYear(\"&$D$12&\")=\"&$D$3&\" and localMonth(\"&$D$12&\") =\"&$E$3&\" and LocalDay(\"&$D$12&\")=\"&$F$3&\" and Barix(\"&$D$12&\",reference:=StartOfDay)=\"&A46&\"\", \"Bar\", \"\", \"Close\",\"5\",\"0\",\"\",,,\"False\",\"T\",\"EveryTick\")","v":929.75},-6.677350427350427E-3,{"$f":"RTD(\"cqg.rtd\",,\"StudyData\", \"Close(\"&$D$12&\") when LocalYear(\"&$D$12&\")=\"&$D$4&\" and localMonth(\"&$D$12&\") =\"&$E$4&\" and LocalDay(\"&$D$12&\")=\"&$F$4&\" and Barix(\"&$D$12&\",reference:=StartOfDay)=\"&A46&\"\", \"Bar\", \"\", \"Close\",\"5\",\"0\",\"\",,,\"False\",\"T\",\"EveryTick\")","v":942},-1.2578616352201259E-2,{"$f":"RTD(\"cqg.rtd\",,\"StudyData\", \"Close(\"&$D$12&\") when LocalYear(\"&$D$12&\")=\"&$D$5&\" and localMonth(\"&$D$12&\") =\"&$E$5&\" and LocalDay(\"&$D$12&\")=\"&$F$5&\" and Barix(\"&$D$12&\",reference:=StartOfDay)=\"&A46&\"\", \"Bar\", \"\", \"Close\",\"5\",\"0\",\"\",,,\"False\",\"T\",\"EveryTick\")","v":957.25},3.669724770642202E-3,{"$f":"RTD(\"cqg.rtd\",,\"StudyData\", \"Close(\"&$D$12&\") when LocalYear(\"&$D$12&\")=\"&$D$6&\" and localMonth(\"&$D$12&\") =\"&$E$6&\" and LocalDay(\"&$D$12&\")=\"&$F$6&\" and Barix(\"&$D$12&\",reference:=StartOfDay)=\"&A46&\"\", \"Bar\", \"\", \"Close\",\"5\",\"0\",\"\",,,\"False\",\"T\",\"EveryTick\")","v":957.5},-1.2122775341759092E-2,{"$f":"RTD(\"cqg.rtd\",,\"StudyData\", \"Close(\"&$D$12&\") when LocalYear(\"&$D$12&\")=\"&$D$7&\" and localMonth(\"&$D$12&\") =\"&$E$7&\" and LocalDay(\"&$D$12&\")=\"&$F$7&\" and Barix(\"&$D$12&\",reference:=StartOfDay)=\"&A46&\"\", \"Bar\", \"\", \"Close\",\"5\",\"0\",\"\",,,\"False\",\"T\",\"EveryTick\")","v":968.75},-5.6453682319733125E-3,{"$f":"RTD(\"cqg.rtd\",,\"StudyData\", \"Close(\"&$D$12&\") when LocalYear(\"&$D$12&\")=\"&$D$8&\" and localMonth(\"&$D$12&\") =\"&$E$8&\" and LocalDay(\"&$D$12&\")=\"&$F$8&\" and Barix(\"&$D$12&\",reference:=StartOfDay)=\"&A46&\"\", \"Bar\", \"\", \"Close\",\"5\",\"0\",\"\",,,\"False\",\"T\",\"EveryTick\")","v":981},-1.3326628111641941E-2,{"$f":"RTD(\"cqg.rtd\",,\"StudyData\", \"Close(\"&$D$12&\") when LocalYear(\"&$D$12&\")=\"&$D$9&\" and localMonth(\"&$D$12&\") =\"&$E$9&\" and LocalDay(\"&$D$12&\")=\"&$F$9&\" and Barix(\"&$D$12&\",reference:=StartOfDay)=\"&A46&\"\", \"Bar\", \"\", \"Close\",\"5\",\"0\",\"\",,,\"False\",\"T\",\"EveryTick\")","v":996.75},-4.4943820224719105E-3,{"$f":"RTD(\"cqg.rtd\",,\"StudyData\", \"Close(\"&$D$12&\") when LocalYear(\"&$D$12&\")=\"&$D$10&\" and localMonth(\"&$D$12&\") =\"&$E$10&\" and LocalDay(\"&$D$12&\")=\"&$F$10&\" and Barix(\"&$D$12&\",reference:=StartOfDay)=\"&A46&\"\", \"Bar\", \"\", \"Close\",\"5\",\"0\",\"\",,,\"False\",\"T\",\"EveryTick\")","v":1003},1.2478163214374844E-3,null,null,null,""]
[190,"11:35:00",-31,{"$f":" RTD(\"cqg.rtd\",,\"StudyData\", $D$12,  \"Tick\", \"FlatTicks=0\", \"Tick\",\"D\",C47,\"PrimaryOnly\")","v":905.25},null,null,null,{"$f":"RTD(\"cqg.rtd\",,\"StudyData\", \"Close(\"&$D$12&\") when LocalYear(\"&$D$12&\")=\"&$D$1&\" and localMonth(\"&$D$12&\") =\"&$E$1&\" and LocalDay(\"&$D$12&\")=\"&$F$1&\" and Barix(\"&$D$12&\",reference:=StartOfDay)=\"&A47&\"\", \"Bar\", \"\", \"Close\",\"5\",\"0\",\"\",,,\"False\",\"T\",\"EveryTick\")","v":""},{"$error":"#N/A"},{"$f":"RTD(\"cqg.rtd\",,\"StudyData\", \"Close(\"&$D$12&\") when LocalYear(\"&$D$12&\")=\"&$D$2&\" and localMonth(\"&$D$12&\") =\"&$E$2&\" and LocalDay(\"&$D$12&\")=\"&$F$2&\" and Barix(\"&$D$12&\",reference:=StartOfDay)=\"&A47&\"\", \"Bar\", \"\", \"Close\",\"5\",\"0\",\"\",,,\"False\",\"T\",\"EveryTick\")","v":915.5},-1.2671879212725803E-2,{"$f":"RTD(\"cqg.rtd\",,\"StudyData\", \"Close(\"&$D$12&\") when LocalYear(\"&$D$12&\")=\"&$D$3&\" and localMonth(\"&$D$12&\") =\"&$E$3&\" and LocalDay(\"&$D$12&\")=\"&$F$3&\" and Barix(\"&$D$12&\",reference:=StartOfDay)=\"&A47&\"\", \"Bar\", \"\", \"Close\",\"5\",\"0\",\"\",,,\"False\",\"T\",\"EveryTick\")","v":929.75},-6.677350427350427E-3,{"$f":"RTD(\"cqg.rtd\",,\"StudyData\", \"Close(\"&$D$12&\") when LocalYear(\"&$D$12&\")=\"&$D$4&\" and localMonth(\"&$D$12&\") =\"&$E$4&\" and LocalDay(\"&$D$12&\")=\"&$F$4&\" and Barix(\"&$D$12&\",reference:=StartOfDay)=\"&A47&\"\", \"Bar\", \"\", \"Close\",\"5\",\"0\",\"\",,,\"False\",\"T\",\"EveryTick\")","v":942.25},-1.2316561844863731E-2,{"$f":"RTD(\"cqg.rtd\",,\"StudyData\", \"Close(\"&$D$12&\") when LocalYear(\"&$D$12&\")=\"&$D$5&\" and localMonth(\"&$D$12&\") =\"&$E$5&\" and LocalDay(\"&$D$12&\")=\"&$F$5&\" and Barix(\"&$D$12&\",reference:=StartOfDay)=\"&A47&\"\", \"Bar\", \"\", \"Close\",\"5\",\"0\",\"\",,,\"False\",\"T\",\"EveryTick\")","v":958.5},4.9803407601572737E-3,{"$f":"RTD(\"cqg.rtd\",,\"StudyData\", \"Close(\"&$D$12&\") when LocalYear(\"&$D$12&\")=\"&$D$6&\" and localMonth(\"&$D$12&\") =\"&$E$6&\" and LocalDay(\"&$D$12&\")=\"&$F$6&\" and Barix(\"&$D$12&\",reference:=StartOfDay)=\"&A47&\"\", \"Bar\", \"\", \"Close\",\"5\",\"0\",\"\",,,\"False\",\"T\",\"EveryTick\")","v":958.25},-1.1348981171008512E-2,{"$f":"RTD(\"cqg.rtd\",,\"StudyData\", \"Close(\"&$D$12&\") when LocalYear(\"&$D$12&\")=\"&$D$7&\" and localMonth(\"&$D$12&\") =\"&$E$7&\" and LocalDay(\"&$D$12&\")=\"&$F$7&\" and Barix(\"&$D$12&\",reference:=StartOfDay)=\"&A47&\"\", \"Bar\", \"\", \"Close\",\"5\",\"0\",\"\",,,\"False\",\"T\",\"EveryTick\")","v":969.25},-5.1321529381575569E-3,{"$f":"RTD(\"cqg.rtd\",,\"StudyData\", \"Close(\"&$D$12&\") when LocalYear(\"&$D$12&\")=\"&$D$8&\" and localMonth(\"&$D$12&\") =\"&$E$8&\" and LocalDay(\"&$D$12&\")=\"&$F$8&\" and Barix(\"&$D$12&\",reference:=StartOfDay)=\"&A47&\"\", \"Bar\", \"\", \"Close\",\"5\",\"0\",\"\",,,\"False\",\"T\",\"EveryTick\")","v":980.75},-1.3578073925069148E-2,{"$f":"RTD(\"cqg.rtd\",,\"StudyData\", \"Close(\"&$D$12&\") when LocalYear(\"&$D$12&\")=\"&$D$9&\" and localMonth(\"&$D$12&\") =\"&$E$9&\" and LocalDay(\"&$D$12&\")=\"&$F$9&\" and Barix(\"&$D$12&\",reference:=StartOfDay)=\"&A47&\"\", \"Bar\", \"\", \"Close\",\"5\",\"0\",\"\",,,\"False\",\"T\",\"EveryTick\")","v":996.5},-4.7440699126092382E-3,{"$f":"RTD(\"cqg.rtd\",,\"StudyData\", \"Close(\"&$D$12&\") when LocalYear(\"&$D$12&\")=\"&$D$10&\" and localMonth(\"&$D$12&\") =\"&$E$10&\" and LocalDay(\"&$D$12&\")=\"&$F$10&\" and Barix(\"&$D$12&\",reference:=StartOfDay)=\"&A47&\"\", \"Bar\", \"\", \"Close\",\"5\",\"0\",\"\",,,\"False\",\"T\",\"EveryTick\")","v":1004.75},2.9947591714499623E-3,null,null,null,""]
[191,"11:40:00",-30,{"$f":" RTD(\"cqg.rtd\",,\"StudyData\", $D$12,  \"Tick\", \"FlatTicks=0\", \"Tick\",\"D\",C48,\"PrimaryOnly\")","v":905},null,null,null,{"$f":"RTD(\"cqg.rtd\",,\"StudyData\", \"Close(\"&$D$12&\") when LocalYear(\"&$D$12&\")=\"&$D$1&\" and localMonth(\"&$D$12&\") =\"&$E$1&\" and LocalDay(\"&$D$12&\")=\"&$F$1&\" and Barix(\"&$D$12&\",reference:=StartOfDay)=\"&A48&\"\", \"Bar\", \"\", \"Close\",\"5\",\"0\",\"\",,,\"False\",\"T\",\"EveryTick\")","v":""},{"$error":"#N/A"},{"$f":"RTD(\"cqg.rtd\",,\"StudyData\", \"Close(\"&$D$12&\") when LocalYear(\"&$D$12&\")=\"&$D$2&\" and localMonth(\"&$D$12&\") =\"&$E$2&\" and LocalDay(\"&$D$12&\")=\"&$F$2&\" and Barix(\"&$D$12&\",reference:=StartOfDay)=\"&A48&\"\", \"Bar\", \"\", \"Close\",\"5\",\"0\",\"\",,,\"False\",\"T\",\"EveryTick\")","v":916.25},-1.1863035858722027E-2,{"$f":"RTD(\"cqg.rtd\",,\"StudyData\", \"Close(\"&$D$12&\") when LocalYear(\"&$D$12&\")=\"&$D$3&\" and localMonth(\"&$D$12&\") =\"&$E$3&\" and LocalDay(\"&$D$12&\")=\"&$F$3&\" and Barix(\"&$D$12&\",reference:=StartOfDay)=\"&A48&\"\", \"Bar\", \"\", \"Close\",\"5\",\"0\",\"\",,,\"False\",\"T\",\"EveryTick\")","v":928.25},-8.27991452991453E-3,{"$f":"RTD(\"cqg.rtd\",,\"StudyData\", \"Close(\"&$D$12&\") when LocalYear(\"&$D$12&\")=\"&$D$4&\" and localMonth(\"&$D$12&\") =\"&$E$4&\" and LocalDay(\"&$D$12&\")=\"&$F$4&\" and Barix(\"&$D$12&\",reference:=StartOfDay)=\"&A48&\"\", \"Bar\", \"\", \"Close\",\"5\",\"0\",\"\",,,\"False\",\"T\",\"EveryTick\")","v":941.75},-1.2840670859538784E-2,{"$f":"RTD(\"cqg.rtd\",,\"StudyData\", \"Close(\"&$D$12&\") when LocalYear(\"&$D$12&\")=\"&$D$5&\" and localMonth(\"&$D$12&\") =\"&$E$5&\" and LocalDay(\"&$D$12&\")=\"&$F$5&\" and Barix(\"&$D$12&\",reference:=StartOfDay)=\"&A48&\"\", \"Bar\", \"\", \"Close\",\"5\",\"0\",\"\",,,\"False\",\"T\",\"EveryTick\")","v":958.75},5.2424639580602884E-3,{"$f":"RTD(\"cqg.rtd\",,\"StudyData\", \"Close(\"&$D$12&\") when LocalYear(\"&$D$12&\")=\"&$D$6&\" and localMonth(\"&$D$12&\") =\"&$E$6&\" and LocalDay(\"&$D$12&\")=\"&$F$6&\" and Barix(\"&$D$12&\",reference:=StartOfDay)=\"&A48&\"\", \"Bar\", \"\", \"Close\",\"5\",\"0\",\"\",,,\"False\",\"T\",\"EveryTick\")","v":959.25},-1.0317255610007738E-2,{"$f":"RTD(\"cqg.rtd\",,\"StudyData\", \"Close(\"&$D$12&\") when LocalYear(\"&$D$12&\")=\"&$D$7&\" and localMonth(\"&$D$12&\") =\"&$E$7&\" and LocalDay(\"&$D$12&\")=\"&$F$7&\" and Barix(\"&$D$12&\",reference:=StartOfDay)=\"&A48&\"\", \"Bar\", \"\", \"Close\",\"5\",\"0\",\"\",,,\"False\",\"T\",\"EveryTick\")","v":969},-5.3887605850654347E-3,{"$f":"RTD(\"cqg.rtd\",,\"StudyData\", \"Close(\"&$D$12&\") when LocalYear(\"&$D$12&\")=\"&$D$8&\" and localMonth(\"&$D$12&\") =\"&$E$8&\" and LocalDay(\"&$D$12&\")=\"&$F$8&\" and Barix(\"&$D$12&\",reference:=StartOfDay)=\"&A48&\"\", \"Bar\", \"\", \"Close\",\"5\",\"0\",\"\",,,\"False\",\"T\",\"EveryTick\")","v":980.75},-1.3578073925069148E-2,{"$f":"RTD(\"cqg.rtd\",,\"StudyData\", \"Close(\"&$D$12&\") when LocalYear(\"&$D$12&\")=\"&$D$9&\" and localMonth(\"&$D$12&\") =\"&$E$9&\" and LocalDay(\"&$D$12&\")=\"&$F$9&\" and Barix(\"&$D$12&\",reference:=StartOfDay)=\"&A48&\"\", \"Bar\", \"\", \"Close\",\"5\",\"0\",\"\",,,\"False\",\"T\",\"EveryTick\")","v":997},-4.2446941323345819E-3,{"$f":"RTD(\"cqg.rtd\",,\"StudyData\", \"Close(\"&$D$12&\") when LocalYear(\"&$D$12&\")=\"&$D$10&\" and localMonth(\"&$D$12&\") =\"&$E$10&\" and LocalDay(\"&$D$12&\")=\"&$F$10&\" and Barix(\"&$D$12&\",reference:=StartOfDay)=\"&A48&\"\", \"Bar\", \"\", \"Close\",\"5\",\"0\",\"\",,,\"False\",\"T\",\"EveryTick\")","v":1005},3.2443224357374596E-3,null,null,null,""]
[192,"11:45:00",-29,{"$f":" RTD(\"cqg.rtd\",,\"StudyData\", $D$12,  \"Tick\", \"FlatTicks=0\", \"Tick\",\"D\",C49,\"PrimaryOnly\")","v":904.75},null,null,null,{"$f":"RTD(\"cqg.rtd\",,\"StudyData\", \"Close(\"&$D$12&\") when LocalYear(\"&$D$12&\")=\"&$D$1&\" and localMonth(\"&$D$12&\") =\"&$E$1&\" and LocalDay(\"&$D$12&\")=\"&$F$1&\" and Barix(\"&$D$12&\",reference:=StartOfDay)=\"&A49&\"\", \"Bar\", \"\", \"Close\",\"5\",\"0\",\"\",,,\"False\",\"T\",\"EveryTick\")","v":""},{"$error":"#N/A"},{"$f":"RTD(\"cqg.rtd\",,\"StudyData\", \"Close(\"&$D$12&\") when LocalYear(\"&$D$12&\")=\"&$D$2&\" and localMonth(\"&$D$12&\") =\"&$E$2&\" and LocalDay(\"&$D$12&\")=\"&$F$2&\" and Barix(\"&$D$12&\",reference:=StartOfDay)=\"&A49&\"\", \"Bar\", \"\", \"Close\",\"5\",\"0\",\"\",,,\"False\",\"T\",\"EveryTick\")","v":916},-1.2132650310056619E-2,{"$f":"RTD(\"cqg.rtd\",,\"StudyData\", \"Close(\"&$D$12&\") when LocalYear(\"&$D$12&\")=\"&$D$3&\" and localMonth(\"&$D$12&\") =\"&$E$3&\" and LocalDay(\"&$D$12&\")=\"&$F$3&\" and Barix(\"&$D$12&\",reference:=StartOfDay)=\"&A49&\"\", \"Bar\", \"\", \"Close\",\"5\",\"0\",\"\",,,\"False\",\"T\",\"EveryTick\")","v":928.75},-7.745726495726496E-3,{"$f":"RTD(\"cqg.rtd\",,\"StudyData\", \"Close(\"&$D$12&\") when LocalYear(\"&$D$12&\")=\"&$D$4&\" and localMonth(\"&$D$12&\") =\"&$E$4&\" and LocalDay(\"&$D$12&\")=\"&$F$4&\" and Barix(\"&$D$12&\",reference:=StartOfDay)=\"&A49&\"\", \"Bar\", \"\", \"Close\",\"5\",\"0\",\"\",,,\"False\",\"T\",\"EveryTick\")","v":942.25},-1.2316561844863731E-2,{"$f":"RTD(\"cqg.rtd\",,\"StudyData\", \"Close(\"&$D$12&\") when LocalYear(\"&$D$12&\")=\"&$D$5&\" and localMonth(\"&$D$12&\") =\"&$E$5&\" and LocalDay(\"&$D$12&\")=\"&$F$5&\" and Barix(\"&$D$12&\",reference:=StartOfDay)=\"&A49&\"\", \"Bar\", \"\", \"Close\",\"5\",\"0\",\"\",,,\"False\",\"T\",\"EveryTick\")","v":959.75},6.2909567496723462E-3,{"$f":"RTD(\"cqg.rtd\",,\"StudyData\", \"Close(\"&$D$12&\") when LocalYear(\"&$D$12&\")=\"&$D$6&\" and localMonth(\"&$D$12&\") =\"&$E$6&\" and LocalDay(\"&$D$12&\")=\"&$F$6&\" and Barix(\"&$D$12&\",reference:=StartOfDay)=\"&A49&\"\", \"Bar\", \"\", \"Close\",\"5\",\"0\",\"\",,,\"False\",\"T\",\"EveryTick\")","v":959.75},-9.8013928295073507E-3,{"$f":"RTD(\"cqg.rtd\",,\"StudyData\", \"Close(\"&$D$12&\") when LocalYear(\"&$D$12&\")=\"&$D$7&\" and localMonth(\"&$D$12&\") =\"&$E$7&\" and LocalDay(\"&$D$12&\")=\"&$F$7&\" and Barix(\"&$D$12&\",reference:=StartOfDay)=\"&A49&\"\", \"Bar\", \"\", \"Close\",\"5\",\"0\",\"\",,,\"False\",\"T\",\"EveryTick\")","v":968.5},-5.9019758788811903E-3,{"$f":"RTD(\"cqg.rtd\",,\"StudyData\", \"Close(\"&$D$12&\") when LocalYear(\"&$D$12&\")=\"&$D$8&\" and localMonth(\"&$D$12&\") =\"&$E$8&\" and LocalDay(\"&$D$12&\")=\"&$F$8&\" and Barix(\"&$D$12&\",reference:=StartOfDay)=\"&A49&\"\", \"Bar\", \"\", \"Close\",\"5\",\"0\",\"\",,,\"False\",\"T\",\"EveryTick\")","v":979},-1.5338194619059593E-2,{"$f":"RTD(\"cqg.rtd\",,\"StudyData\", \"Close(\"&$D$12&\") when LocalYear(\"&$D$12&\")=\"&$D$9&\" and localMonth(\"&$D$12&\") =\"&$E$9&\" and LocalDay(\"&$D$12&\")=\"&$F$9&\" and Barix(\"&$D$12&\",reference:=StartOfDay)=\"&A49&\"\", \"Bar\", \"\", \"Close\",\"5\",\"0\",\"\",,,\"False\",\"T\",\"EveryTick\")","v":996.5},-4.7440699126092382E-3,{"$f":"RTD(\"cqg.rtd\",,\"StudyData\", \"Close(\"&$D$12&\") when LocalYear(\"&$D$12&\")=\"&$D$10&\" and localMonth(\"&$D$12&\") =\"&$E$10&\" and LocalDay(\"&$D$12&\")=\"&$F$10&\" and Barix(\"&$D$12&\",reference:=StartOfDay)=\"&A49&\"\", \"Bar\", \"\", \"Close\",\"5\",\"0\",\"\",,,\"False\",\"T\",\"EveryTick\")","v":1004.75},2.9947591714499623E-3,null,null,null,""]
[193,"11:50:00",-28,{"$f":" RTD(\"cqg.rtd\",,\"StudyData\", $D$12,  \"Tick\", \"FlatTicks=0\", \"Tick\",\"D\",C50,\"PrimaryOnly\")","v":905},null,null,null,{"$f":"RTD(\"cqg.rtd\",,\"StudyData\", \"Close(\"&$D$12&\") when LocalYear(\"&$D$12&\")=\"&$D$1&\" and localMonth(\"&$D$12&\") =\"&$E$1&\" and LocalDay(\"&$D$12&\")=\"&$F$1&\" and Barix(\"&$D$12&\",reference:=StartOfDay)=\"&A50&\"\", \"Bar\", \"\", \"Close\",\"5\",\"0\",\"\",,,\"False\",\"T\",\"EveryTick\")","v":""},{"$error":"#N/A"},{"$f":"RTD(\"cqg.rtd\",,\"StudyData\", \"Close(\"&$D$12&\") when LocalYear(\"&$D$12&\")=\"&$D$2&\" and localMonth(\"&$D$12&\") =\"&$E$2&\" and LocalDay(\"&$D$12&\")=\"&$F$2&\" and Barix(\"&$D$12&\",reference:=StartOfDay)=\"&A50&\"\", \"Bar\", \"\", \"Close\",\"5\",\"0\",\"\",,,\"False\",\"T\",\"EveryTick\")","v":915.75},-1.240226476139121E-2,{"$f":"RTD(\"cqg.rtd\",,\"StudyData\", \"Close(\"&$D$12&\") when LocalYear(\"&$D$12&\")=\"&$D$3&\" and localMonth(\"&$D$12&\") =\"&$E$3&\" and LocalDay(\"&$D$12&\")=\"&$F$3&\" and Barix(\"&$D$12&\",reference:=StartOfDay)=\"&A50&\"\", \"Bar\", \"\", \"Close\",\"5\",\"0\",\"\",,,\"False\",\"T\",\"EveryTick\")","v":928.75},-7.745726495726496E-3,{"$f":"RTD(\"cqg.rtd\",,\"StudyData\", \"Close(\"&$D$12&\") when LocalYear(\"&$D$12&\")=\"&$D$4&\" and localMonth(\"&$D$12&\") =\"&$E$4&\" and LocalDay(\"&$D$12&\")=\"&$F$4&\" and Barix(\"&$D$12&\",reference:=StartOfDay)=\"&A50&\"\", \"Bar\", \"\", \"Close\",\"5\",\"0\",\"\",,,\"False\",\"T\",\"EveryTick\")","v":940},-1.4675052410901468E-2,{"$f":"RTD(\"cqg.rtd\",,\"StudyData\", \"Close(\"&$D$12&\") when LocalYear(\"&$D$12&\")=\"&$D$5&\" and localMonth(\"&$D$12&\") =\"&$E$5&\" and LocalDay(\"&$D$12&\")=\"&$F$5&\" and Barix(\"&$D$12&\",reference:=StartOfDay)=\"&A50&\"\", \"Bar\", \"\", \"Close\",\"5\",\"0\",\"\",,,\"False\",\"T\",\"EveryTick\")","v":959.5},6.0288335517693315E-3,{"$f":"RTD(\"cqg.rtd\",,\"StudyData\", \"Close(\"&$D$12&\") when LocalYear(\"&$D$12&\")=\"&$D$6&\" and localMonth(\"&$D$12&\") =\"&$E$6&\" and LocalDay(\"&$D$12&\")=\"&$F$6&\" and Barix(\"&$D$12&\",reference:=StartOfDay)=\"&A50&\"\", \"Bar\", \"\", \"Close\",\"5\",\"0\",\"\",,,\"False\",\"T\",\"EveryTick\")","v":959},-1.0575187000257931E-2,{"$f":"RTD(\"cqg.rtd\",,\"StudyData\", \"Close(\"&$D$12&\") when LocalYear(\"&$D$12&\")=\"&$D$7&\" and localMonth(\"&$D$12&\") =\"&$E$7&\" and LocalDay(\"&$D$12&\")=\"&$F$7&\" and Barix(\"&$D$12&\",reference:=StartOfDay)=\"&A50&\"\", \"Bar\", \"\", \"Close\",\"5\",\"0\",\"\",,,\"False\",\"T\",\"EveryTick\")","v":969},-5.3887605850654347E-3,{"$f":"RTD(\"cqg.rtd\",,\"StudyData\", \"Close(\"&$D$12&\") when LocalYear(\"&$D$12&\")=\"&$D$8&\" and localMonth(\"&$D$12&\") =\"&$E$8&\" and LocalDay(\"&$D$12&\")=\"&$F$8&\" and Barix(\"&$D$12&\",reference:=StartOfDay)=\"&A50&\"\", \"Bar\", \"\", \"Close\",\"5\",\"0\",\"\",,,\"False\",\"T\",\"EveryTick\")","v":979},-1.5338194619059593E-2,{"$f":"RTD(\"cqg.rtd\",,\"StudyData\", \"Close(\"&$D$12&\") when LocalYear(\"&$D$12&\")=\"&$D$9&\" and localMonth(\"&$D$12&\") =\"&$E$9&\" and LocalDay(\"&$D$12&\")=\"&$F$9&\" and Barix(\"&$D$12&\",reference:=StartOfDay)=\"&A50&\"\", \"Bar\", \"\", \"Close\",\"5\",\"0\",\"\",,,\"False\",\"T\",\"EveryTick\")","v":996},-5.2434456928838954E-3,{"$f":"RTD(\"cqg.rtd\",,\"StudyData\", \"Close(\"&$D$12&\") when LocalYear(\"&$D$12&\")=\"&$D$10&\" and localMonth(\"&$D$12&\") =\"&$E$10&\" and LocalDay(\"&$D$12&\")=\"&$F$10&\" and Barix(\"&$D$12&\",reference:=StartOfDay)=\"&A50&\"\", \"Bar\", \"\", \"Close\",\"5\",\"0\",\"\",,,\"False\",\"T\",\"EveryTick\")","v":1004.75},2.9947591714499623E-3,null,null,null,""]
[194,"11:55:00",-27,{"$f":" RTD(\"cqg.rtd\",,\"StudyData\", $D$12,  \"Tick\", \"FlatTicks=0\", \"Tick\",\"D\",C51,\"PrimaryOnly\")","v":904.75},null,null,null,{"$f":"RTD(\"cqg.rtd\",,\"StudyData\", \"Close(\"&$D$12&\") when LocalYear(\"&$D$12&\")=\"&$D$1&\" and localMonth(\"&$D$12&\") =\"&$E$1&\" and LocalDay(\"&$D$12&\")=\"&$F$1&\" and Barix(\"&$D$12&\",reference:=StartOfDay)=\"&A51&\"\", \"Bar\", \"\", \"Close\",\"5\",\"0\",\"\",,,\"False\",\"T\",\"EveryTick\")","v":""},{"$error":"#N/A"},{"$f":"RTD(\"cqg.rtd\",,\"StudyData\", \"Close(\"&$D$12&\") when LocalYear(\"&$D$12&\")=\"&$D$2&\" and localMonth(\"&$D$12&\") =\"&$E$2&\" and LocalDay(\"&$D$12&\")=\"&$F$2&\" and Barix(\"&$D$12&\",reference:=StartOfDay)=\"&A51&\"\", \"Bar\", \"\", \"Close\",\"5\",\"0\",\"\",,,\"False\",\"T\",\"EveryTick\")","v":916.75},-1.1323806956052845E-2,{"$f":"RTD(\"cqg.rtd\",,\"StudyData\", \"Close(\"&$D$12&\") when LocalYear(\"&$D$12&\")=\"&$D$3&\" and localMonth(\"&$D$12&\") =\"&$E$3&\" and LocalDay(\"&$D$12&\")=\"&$F$3&\" and Barix(\"&$D$12&\",reference:=StartOfDay)=\"&A51&\"\", \"Bar\", \"\", \"Close\",\"5\",\"0\",\"\",,,\"False\",\"T\",\"EveryTick\")","v":930},-6.41025641025641E-3,{"$f":"RTD(\"cqg.rtd\",,\"StudyData\", \"Close(\"&$D$12&\") when LocalYear(\"&$D$12&\")=\"&$D$4&\" and localMonth(\"&$D$12&\") =\"&$E$4&\" and LocalDay(\"&$D$12&\")=\"&$F$4&\" and Barix(\"&$D$12&\",reference:=StartOfDay)=\"&A51&\"\", \"Bar\", \"\", \"Close\",\"5\",\"0\",\"\",,,\"False\",\"T\",\"EveryTick\")","v":939},-1.5723270440251572E-2,{"$f":"RTD(\"cqg.rtd\",,\"StudyData\", \"Close(\"&$D$12&\") when LocalYear(\"&$D$12&\")=\"&$D$5&\" and localMonth(\"&$D$12&\") =\"&$E$5&\" and LocalDay(\"&$D$12&\")=\"&$F$5&\" and Barix(\"&$D$12&\",reference:=StartOfDay)=\"&A51&\"\", \"Bar\", \"\", \"Close\",\"5\",\"0\",\"\",,,\"False\",\"T\",\"EveryTick\")","v":960.25},6.8152031454783747E-3,{"$f":"RTD(\"cqg.rtd\",,\"StudyData\", \"Close(\"&$D$12&\") when LocalYear(\"&$D$12&\")=\"&$D$6&\" and localMonth(\"&$D$12&\") =\"&$E$6&\" and LocalDay(\"&$D$12&\")=\"&$F$6&\" and Barix(\"&$D$12&\",reference:=StartOfDay)=\"&A51&\"\", \"Bar\", \"\", \"Close\",\"5\",\"0\",\"\",,,\"False\",\"T\",\"EveryTick\")","v":959.25},-1.0317255610007738E-2,{"$f":"RTD(\"cqg.rtd\",,\"StudyData\", \"Close(\"&$D$12&\") when LocalYear(\"&$D$12&\")=\"&$D$7&\" and localMonth(\"&$D$12&\") =\"&$E$7&\" and LocalDay(\"&$D$12&\")=\"&$F$7&\" and Barix(\"&$D$12&\",reference:=StartOfDay)=\"&A51&\"\", \"Bar\", \"\", \"Close\",\"5\",\"0\",\"\",,,\"False\",\"T\",\"EveryTick\")","v":970.5},-3.8491147036181679E-3,{"$f":"RTD(\"cqg.rtd\",,\"StudyData\", \"Close(\"&$D$12&\") when LocalYear(\"&$D$12&\")=\"&$D$8&\" and localMonth(\"&$D$12&\") =\"&$E$8&\" and LocalDay(\"&$D$12&\")=\"&$F$8&\" and Barix(\"&$D$12&\",reference:=StartOfDay)=\"&A51&\"\", \"Bar\", \"\", \"Close\",\"5\",\"0\",\"\",,,\"False\",\"T\",\"EveryTick\")","v":979},-1.5338194619059593E-2,{"$f":"RTD(\"cqg.rtd\",,\"StudyData\", \"Close(\"&$D$12&\") when LocalYear(\"&$D$12&\")=\"&$D$9&\" and localMonth(\"&$D$12&\") =\"&$E$9&\" and LocalDay(\"&$D$12&\")=\"&$F$9&\" and Barix(\"&$D$12&\",reference:=StartOfDay)=\"&A51&\"\", \"Bar\", \"\", \"Close\",\"5\",\"0\",\"\",,,\"False\",\"T\",\"EveryTick\")","v":996.75},-4.4943820224719105E-3,{"$f":"RTD(\"cqg.rtd\",,\"StudyData\", \"Close(\"&$D$12&\") when LocalYear(\"&$D$12&\")=\"&$D$10&\" and localMonth(\"&$D$12&\") =\"&$E$10&\" and LocalDay(\"&$D$12&\")=\"&$F$10&\" and Barix(\"&$D$12&\",reference:=StartOfDay)=\"&A51&\"\", \"Bar\", \"\", \"Close\",\"5\",\"0\",\"\",,,\"False\",\"T\",\"EveryTick\")","v":1004.75},2.9947591714499623E-3,null,null,null,""]
[195,"12:00:00",-26,{"$f":" RTD(\"cqg.rtd\",,\"StudyData\", $D$12,  \"Tick\", \"FlatTicks=0\", \"Tick\",\"D\",C52,\"PrimaryOnly\")","v":905},null,null,null,{"$f":"RTD(\"cqg.rtd\",,\"StudyData\", \"Close(\"&$D$12&\") when LocalYear(\"&$D$12&\")=\"&$D$1&\" and localMonth(\"&$D$12&\") =\"&$E$1&\" and LocalDay(\"&$D$12&\")=\"&$F$1&\" and Barix(\"&$D$12&\",reference:=StartOfDay)=\"&A52&\"\", \"Bar\", \"\", \"Close\",\"5\",\"0\",\"\",,,\"False\",\"T\",\"EveryTick\")","v":""},{"$error":"#N/A"},{"$f":"RTD(\"cqg.rtd\",,\"StudyData\", \"Close(\"&$D$12&\") when LocalYear(\"&$D$12&\")=\"&$D$2&\" and localMonth(\"&$D$12&\") =\"&$E$2&\" and LocalDay(\"&$D$12&\")=\"&$F$2&\" and Barix(\"&$D$12&\",reference:=StartOfDay)=\"&A52&\"\", \"Bar\", \"\", \"Close\",\"5\",\"0\",\"\",,,\"False\",\"T\",\"EveryTick\")","v":918.75},-9.1668913453761113E-3,{"$f":"RTD(\"cqg.rtd\",,\"StudyData\", \"Close(\"&$D$12&\") when LocalYear(\"&$D$12&\")=\"&$D$3&\" and localMonth(\"&$D$12&\") =\"&$E$3&\" and LocalDay(\"&$D$12&\")=\"&$F$3&\" and Barix(\"&$D$12&\",reference:=StartOfDay)=\"&A52&\"\", \"Bar\", \"\", \"Close\",\"5\",\"0\",\"\",,,\"False\",\"T\",\"EveryTick\")","v":929.25},-7.2115384615384619E-3,{"$f":"RTD(\"cqg.rtd\",,\"StudyData\", \"Close(\"&$D$12&\") when LocalYear(\"&$D$12&\")=\"&$D$4&\" and localMonth(\"&$D$12&\") =\"&$E$4&\" and LocalDay(\"&$D$12&\")=\"&$F$4&\" and Barix(\"&$D$12&\",reference:=StartOfDay)=\"&A52&\"\", \"Bar\", \"\", \"Close\",\"5\",\"0\",\"\",,,\"False\",\"T\",\"EveryTick\")","v":940},-1.4675052410901468E-2,{"$f":"RTD(\"cqg.rtd\",,\"StudyData\", \"Close(\"&$D$12&\") when LocalYear(\"&$D$12&\")=\"&$D$5&\" and localMonth(\"&$D$12&\") =\"&$E$5&\" and LocalDay(\"&$D$12&\")=\"&$F$5&\" and Barix(\"&$D$12&\",reference:=StartOfDay)=\"&A52&\"\", \"Bar\", \"\", \"Close\",\"5\",\"0\",\"\",,,\"False\",\"T\",\"EveryTick\")","v":959.5},6.0288335517693315E-3,{"$f":"RTD(\"cqg.rtd\",,\"StudyData\", \"Close(\"&$D$12&\") when LocalYear(\"&$D$12&\")=\"&$D$6&\" and localMonth(\"&$D$12&\") =\"&$E$6&\" and LocalDay(\"&$D$12&\")=\"&$F$6&\" and Barix(\"&$D$12&\",reference:=StartOfDay)=\"&A52&\"\", \"Bar\", \"\", \"Close\",\"5\",\"0\",\"\",,,\"False\",\"T\",\"EveryTick\")","v":958.75},-1.0833118390508125E-2,{"$f":"RTD(\"cqg.rtd\",,\"StudyData\", \"Close(\"&$D$12&\") when LocalYear(\"&$D$12&\")=\"&$D$7&\" and localMonth(\"&$D$12&\") =\"&$E$7&\" and LocalDay(\"&$D$12&\")=\"&$F$7&\" and Barix(\"&$D$12&\",reference:=StartOfDay)=\"&A52&\"\", \"Bar\", \"\", \"Close\",\"5\",\"0\",\"\",,,\"False\",\"T\",\"EveryTick\")","v":970.25},-4.1057223505260457E-3,{"$f":"RTD(\"cqg.rtd\",,\"StudyData\", \"Close(\"&$D$12&\") when LocalYear(\"&$D$12&\")=\"&$D$8&\" and localMonth(\"&$D$12&\") =\"&$E$8&\" and LocalDay(\"&$D$12&\")=\"&$F$8&\" and Barix(\"&$D$12&\",reference:=StartOfDay)=\"&A52&\"\", \"Bar\", \"\", \"Close\",\"5\",\"0\",\"\",,,\"False\",\"T\",\"EveryTick\")","v":978},-1.6343977872768419E-2,{"$f":"RTD(\"cqg.rtd\",,\"StudyData\", \"Close(\"&$D$12&\") when LocalYear(\"&$D$12&\")=\"&$D$9&\" and localMonth(\"&$D$12&\") =\"&$E$9&\" and LocalDay(\"&$D$12&\")=\"&$F$9&\" and Barix(\"&$D$12&\",reference:=StartOfDay)=\"&A52&\"\", \"Bar\", \"\", \"Close\",\"5\",\"0\",\"\",,,\"False\",\"T\",\"EveryTick\")","v":997},-4.2446941323345819E-3,{"$f":"RTD(\"cqg.rtd\",,\"StudyData\", \"Close(\"&$D$12&\") when LocalYear(\"&$D$12&\")=\"&$D$10&\" and localMonth(\"&$D$12&\") =\"&$E$10&\" and LocalDay(\"&$D$12&\")=\"&$F$10&\" and Barix(\"&$D$12&\",reference:=StartOfDay)=\"&A52&\"\", \"Bar\", \"\", \"Close\",\"5\",\"0\",\"\",,,\"False\",\"T\",\"EveryTick\")","v":1004.75},2.9947591714499623E-3,null,null,null,""]
[196,"12:05:00",-25,{"$f":" RTD(\"cqg.rtd\",,\"StudyData\", $D$12,  \"Tick\", \"FlatTicks=0\", \"Tick\",\"D\",C53,\"PrimaryOnly\")","v":905.25},null,null,null,{"$f":"RTD(\"cqg.rtd\",,\"StudyData\", \"Close(\"&$D$12&\") when LocalYear(\"&$D$12&\")=\"&$D$1&\" and localMonth(\"&$D$12&\") =\"&$E$1&\" and LocalDay(\"&$D$12&\")=\"&$F$1&\" and Barix(\"&$D$12&\",reference:=StartOfDay)=\"&A53&\"\", \"Bar\", \"\", \"Close\",\"5\",\"0\",\"\",,,\"False\",\"T\",\"EveryTick\")","v":""},{"$error":"#N/A"},{"$f":"RTD(\"cqg.rtd\",,\"StudyData\", \"Close(\"&$D$12&\") when LocalYear(\"&$D$12&\")=\"&$D$2&\" and localMonth(\"&$D$12&\") =\"&$E$2&\" and LocalDay(\"&$D$12&\")=\"&$F$2&\" and Barix(\"&$D$12&\",reference:=StartOfDay)=\"&A53&\"\", \"Bar\", \"\", \"Close\",\"5\",\"0\",\"\",,,\"False\",\"T\",\"EveryTick\")","v":918.5},-9.4365057967107039E-3,{"$f":"RTD(\"cqg.rtd\",,\"StudyData\", \"Close(\"&$D$12&\") when LocalYear(\"&$D$12&\")=\"&$D$3&\" and localMonth(\"&$D$12&\") =\"&$E$3&\" and LocalDay(\"&$D$12&\")=\"&$F$3&\" and Barix(\"&$D$12&\",reference:=StartOfDay)=\"&A53&\"\", \"Bar\", \"\", \"Close\",\"5\",\"0\",\"\",,,\"False\",\"T\",\"EveryTick\")","v":930.5},-5.876068376068376E-3,{"$f":"RTD(\"cqg.rtd\",,\"StudyData\", \"Close(\"&$D$12&\") when LocalYear(\"&$D$12&\")=\"&$D$4&\" and localMonth(\"&$D$12&\") =\"&$E$4&\" and LocalDay(\"&$D$12&\")=\"&$F$4&\" and Barix(\"&$D$12&\",reference:=StartOfDay)=\"&A53&\"\", \"Bar\", \"\", \"Close\",\"5\",\"0\",\"\",,,\"False\",\"T\",\"EveryTick\")","v":939.75},-1.4937106918238994E-2,{"$f":"RTD(\"cqg.rtd\",,\"StudyData\", \"Close(\"&$D$12&\") when LocalYear(\"&$D$12&\")=\"&$D$5&\" and localMonth(\"&$D$12&\") =\"&$E$5&\" and LocalDay(\"&$D$12&\")=\"&$F$5&\" and Barix(\"&$D$12&\",reference:=StartOfDay)=\"&A53&\"\", \"Bar\", \"\", \"Close\",\"5\",\"0\",\"\",,,\"False\",\"T\",\"EveryTick\")","v":958.5},4.9803407601572737E-3,{"$f":"RTD(\"cqg.rtd\",,\"StudyData\", \"Close(\"&$D$12&\") when LocalYear(\"&$D$12&\")=\"&$D$6&\" and localMonth(\"&$D$12&\") =\"&$E$6&\" and LocalDay(\"&$D$12&\")=\"&$F$6&\" and Barix(\"&$D$12&\",reference:=StartOfDay)=\"&A53&\"\", \"Bar\", \"\", \"Close\",\"5\",\"0\",\"\",,,\"False\",\"T\",\"EveryTick\")","v":960},-9.543461439257158E-3,{"$f":"RTD(\"cqg.rtd\",,\"StudyData\", \"Close(\"&$D$12&\") when LocalYear(\"&$D$12&\")=\"&$D$7&\" and localMonth(\"&$D$12&\") =\"&$E$7&\" and LocalDay(\"&$D$12&\")=\"&$F$7&\" and Barix(\"&$D$12&\",reference:=StartOfDay)=\"&A53&\"\", \"Bar\", \"\", \"Close\",\"5\",\"0\",\"\",,,\"False\",\"T\",\"EveryTick\")","v":970.25},-4.1057223505260457E-3,{"$f":"RTD(\"cqg.rtd\",,\"StudyData\", \"Close(\"&$D$12&\") when LocalYear(\"&$D$12&\")=\"&$D$8&\" and localMonth(\"&$D$12&\") =\"&$E$8&\" and LocalDay(\"&$D$12&\")=\"&$F$8&\" and Barix(\"&$D$12&\",reference:=StartOfDay)=\"&A53&\"\", \"Bar\", \"\", \"Close\",\"5\",\"0\",\"\",,,\"False\",\"T\",\"EveryTick\")","v":978.75},-1.55896404324868E-2,{"$f":"RTD(\"cqg.rtd\",,\"StudyData\", \"Close(\"&$D$12&\") when LocalYear(\"&$D$12&\")=\"&$D$9&\" and localMonth(\"&$D$12&\") =\"&$E$9&\" and LocalDay(\"&$D$12&\")=\"&$F$9&\" and Barix(\"&$D$12&\",reference:=StartOfDay)=\"&A53&\"\", \"Bar\", \"\", \"Close\",\"5\",\"0\",\"\",,,\"False\",\"T\",\"EveryTick\")","v":996.75},-4.4943820224719105E-3,{"$f":"RTD(\"cqg.rtd\",,\"StudyData\", \"Close(\"&$D$12&\") when LocalYear(\"&$D$12&\")=\"&$D$10&\" and localMonth(\"&$D$12&\") =\"&$E$10&\" and LocalDay(\"&$D$12&\")=\"&$F$10&\" and Barix(\"&$D$12&\",reference:=StartOfDay)=\"&A53&\"\", \"Bar\", \"\", \"Close\",\"5\",\"0\",\"\",,,\"False\",\"T\",\"EveryTick\")","v":1004},2.246069378587472E-3,null,null,null,""]
[197,"12:10:00",-24,{"$f":" RTD(\"cqg.rtd\",,\"StudyData\", $D$12,  \"Tick\", \"FlatTicks=0\", \"Tick\",\"D\",C54,\"PrimaryOnly\")","v":905},null,null,null,{"$f":"RTD(\"cqg.rtd\",,\"StudyData\", \"Close(\"&$D$12&\") when LocalYear(\"&$D$12&\")=\"&$D$1&\" and localMonth(\"&$D$12&\") =\"&$E$1&\" and LocalDay(\"&$D$12&\")=\"&$F$1&\" and Barix(\"&$D$12&\",reference:=StartOfDay)=\"&A54&\"\", \"Bar\", \"\", \"Close\",\"5\",\"0\",\"\",,,\"False\",\"T\",\"EveryTick\")","v":""},{"$error":"#N/A"},{"$f":"RTD(\"cqg.rtd\",,\"StudyData\", \"Close(\"&$D$12&\") when LocalYear(\"&$D$12&\")=\"&$D$2&\" and localMonth(\"&$D$12&\") =\"&$E$2&\" and LocalDay(\"&$D$12&\")=\"&$F$2&\" and Barix(\"&$D$12&\",reference:=StartOfDay)=\"&A54&\"\", \"Bar\", \"\", \"Close\",\"5\",\"0\",\"\",,,\"False\",\"T\",\"EveryTick\")","v":919.25},-8.6276624427069296E-3,{"$f":"RTD(\"cqg.rtd\",,\"StudyData\", \"Close(\"&$D$12&\") when LocalYear(\"&$D$12&\")=\"&$D$3&\" and localMonth(\"&$D$12&\") =\"&$E$3&\" and LocalDay(\"&$D$12&\")=\"&$F$3&\" and Barix(\"&$D$12&\",reference:=StartOfDay)=\"&A54&\"\", \"Bar\", \"\", \"Close\",\"5\",\"0\",\"\",,,\"False\",\"T\",\"EveryTick\")","v":930},-6.41025641025641E-3,{"$f":"RTD(\"cqg.rtd\",,\"StudyData\", \"Close(\"&$D$12&\") when LocalYear(\"&$D$12&\")=\"&$D$4&\" and localMonth(\"&$D$12&\") =\"&$E$4&\" and LocalDay(\"&$D$12&\")=\"&$F$4&\" and Barix(\"&$D$12&\",reference:=StartOfDay)=\"&A54&\"\", \"Bar\", \"\", \"Close\",\"5\",\"0\",\"\",,,\"False\",\"T\",\"EveryTick\")","v":939},-1.5723270440251572E-2,{"$f":"RTD(\"cqg.rtd\",,\"StudyData\", \"Close(\"&$D$12&\") when LocalYear(\"&$D$12&\")=\"&$D$5&\" and localMonth(\"&$D$12&\") =\"&$E$5&\" and LocalDay(\"&$D$12&\")=\"&$F$5&\" and Barix(\"&$D$12&\",reference:=StartOfDay)=\"&A54&\"\", \"Bar\", \"\", \"Close\",\"5\",\"0\",\"\",,,\"False\",\"T\",\"EveryTick\")","v":956.75},3.1454783748361731E-3,{"$f":"RTD(\"cqg.rtd\",,\"StudyData\", \"Close(\"&$D$12&\") when LocalYear(\"&$D$12&\")=\"&$D$6&\" and localMonth(\"&$D$12&\") =\"&$E$6&\" and LocalDay(\"&$D$12&\")=\"&$F$6&\" and Barix(\"&$D$12&\",reference:=StartOfDay)=\"&A54&\"\", \"Bar\", \"\", \"Close\",\"5\",\"0\",\"\",,,\"False\",\"T\",\"EveryTick\")","v":959.75},-9.8013928295073507E-3,{"$f":"RTD(\"cqg.rtd\",,\"StudyData\", \"Close(\"&$D$12&\") when LocalYear(\"&$D$12&\")=\"&$D$7&\" and localMonth(\"&$D$12&\") =\"&$E$7&\" and LocalDay(\"&$D$12&\")=\"&$F$7&\" and Barix(\"&$D$12&\",reference:=StartOfDay)=\"&A54&\"\", \"Bar\", \"\", \"Close\",\"5\",\"0\",\"\",,,\"False\",\"T\",\"EveryTick\")","v":969},-5.3887605850654347E-3,{"$f":"RTD(\"cqg.rtd\",,\"StudyData\", \"Close(\"&$D$12&\") when LocalYear(\"&$D$12&\")=\"&$D$8&\" and localMonth(\"&$D$12&\") =\"&$E$8&\" and LocalDay(\"&$D$12&\")=\"&$F$8&\" and Barix(\"&$D$12&\",reference:=StartOfDay)=\"&A54&\"\", \"Bar\", \"\", \"Close\",\"5\",\"0\",\"\",,,\"False\",\"T\",\"EveryTick\")","v":978.5},-1.5841086245914005E-2,{"$f":"RTD(\"cqg.rtd\",,\"StudyData\", \"Close(\"&$D$12&\") when LocalYear(\"&$D$12&\")=\"&$D$9&\" and localMonth(\"&$D$12&\") =\"&$E$9&\" and LocalDay(\"&$D$12&\")=\"&$F$9&\" and Barix(\"&$D$12&\",reference:=StartOfDay)=\"&A54&\"\", \"Bar\", \"\", \"Close\",\"5\",\"0\",\"\",,,\"False\",\"T\",\"EveryTick\")","v":996.75},-4.4943820224719105E-3,{"$f":"RTD(\"cqg.rtd\",,\"StudyData\", \"Close(\"&$D$12&\") when LocalYear(\"&$D$12&\")=\"&$D$10&\" and localMonth(\"&$D$12&\") =\"&$E$10&\" and LocalDay(\"&$D$12&\")=\"&$F$10&\" and Barix(\"&$D$12&\",reference:=StartOfDay)=\"&A54&\"\", \"Bar\", \"\", \"Close\",\"5\",\"0\",\"\",,,\"False\",\"T\",\"EveryTick\")","v":1003},1.2478163214374844E-3,null,null,null,""]
[198,"12:15:00",-23,{"$f":" RTD(\"cqg.rtd\",,\"StudyData\", $D$12,  \"Tick\", \"FlatTicks=0\", \"Tick\",\"D\",C55,\"PrimaryOnly\")","v":904.75},null,null,null,{"$f":"RTD(\"cqg.rtd\",,\"StudyData\", \"Close(\"&$D$12&\") when LocalYear(\"&$D$12&\")=\"&$D$1&\" and localMonth(\"&$D$12&\") =\"&$E$1&\" and LocalDay(\"&$D$12&\")=\"&$F$1&\" and Barix(\"&$D$12&\",reference:=StartOfDay)=\"&A55&\"\", \"Bar\", \"\", \"Close\",\"5\",\"0\",\"\",,,\"False\",\"T\",\"EveryTick\")","v":""},{"$error":"#N/A"},{"$f":"RTD(\"cqg.rtd\",,\"StudyData\", \"Close(\"&$D$12&\") when LocalYear(\"&$D$12&\")=\"&$D$2&\" and localMonth(\"&$D$12&\") =\"&$E$2&\" and LocalDay(\"&$D$12&\")=\"&$F$2&\" and Barix(\"&$D$12&\",reference:=StartOfDay)=\"&A55&\"\", \"Bar\", \"\", \"Close\",\"5\",\"0\",\"\",,,\"False\",\"T\",\"EveryTick\")","v":916.75},-1.1323806956052845E-2,{"$f":"RTD(\"cqg.rtd\",,\"StudyData\", \"Close(\"&$D$12&\") when LocalYear(\"&$D$12&\")=\"&$D$3&\" and localMonth(\"&$D$12&\") =\"&$E$3&\" and LocalDay(\"&$D$12&\")=\"&$F$3&\" and Barix(\"&$D$12&\",reference:=StartOfDay)=\"&A55&\"\", \"Bar\", \"\", \"Close\",\"5\",\"0\",\"\",,,\"False\",\"T\",\"EveryTick\")","v":929.25},-7.2115384615384619E-3,{"$f":"RTD(\"cqg.rtd\",,\"StudyData\", \"Close(\"&$D$12&\") when LocalYear(\"&$D$12&\")=\"&$D$4&\" and localMonth(\"&$D$12&\") =\"&$E$4&\" and LocalDay(\"&$D$12&\")=\"&$F$4&\" and Barix(\"&$D$12&\",reference:=StartOfDay)=\"&A55&\"\", \"Bar\", \"\", \"Close\",\"5\",\"0\",\"\",,,\"False\",\"T\",\"EveryTick\")","v":938.75},-1.59853249475891E-2,{"$f":"RTD(\"cqg.rtd\",,\"StudyData\", \"Close(\"&$D$12&\") when LocalYear(\"&$D$12&\")=\"&$D$5&\" and localMonth(\"&$D$12&\") =\"&$E$5&\" and LocalDay(\"&$D$12&\")=\"&$F$5&\" and Barix(\"&$D$12&\",reference:=StartOfDay)=\"&A55&\"\", \"Bar\", \"\", \"Close\",\"5\",\"0\",\"\",,,\"False\",\"T\",\"EveryTick\")","v":957.5},3.9318479685452159E-3,{"$f":"RTD(\"cqg.rtd\",,\"StudyData\", \"Close(\"&$D$12&\") when LocalYear(\"&$D$12&\")=\"&$D$6&\" and localMonth(\"&$D$12&\") =\"&$E$6&\" and LocalDay(\"&$D$12&\")=\"&$F$6&\" and Barix(\"&$D$12&\",reference:=StartOfDay)=\"&A55&\"\", \"Bar\", \"\", \"Close\",\"5\",\"0\",\"\",,,\"False\",\"T\",\"EveryTick\")","v":960.25},-9.2855300490069636E-3,{"$f":"RTD(\"cqg.rtd\",,\"StudyData\", \"Close(\"&$D$12&\") when LocalYear(\"&$D$12&\")=\"&$D$7&\" and localMonth(\"&$D$12&\") =\"&$E$7&\" and LocalDay(\"&$D$12&\")=\"&$F$7&\" and Barix(\"&$D$12&\",reference:=StartOfDay)=\"&A55&\"\", \"Bar\", \"\", \"Close\",\"5\",\"0\",\"\",,,\"False\",\"T\",\"EveryTick\")","v":969.25},-5.1321529381575569E-3,{"$f":"RTD(\"cqg.rtd\",,\"StudyData\", \"Close(\"&$D$12&\") when LocalYear(\"&$D$12&\")=\"&$D$8&\" and localMonth(\"&$D$12&\") =\"&$E$8&\" and LocalDay(\"&$D$12&\")=\"&$F$8&\" and Barix(\"&$D$12&\",reference:=StartOfDay)=\"&A55&\"\", \"Bar\", \"\", \"Close\",\"5\",\"0\",\"\",,,\"False\",\"T\",\"EveryTick\")","v":978},-1.6343977872768419E-2,{"$f":"RTD(\"cqg.rtd\",,\"StudyData\", \"Close(\"&$D$12&\") when LocalYear(\"&$D$12&\")=\"&$D$9&\" and localMonth(\"&$D$12&\") =\"&$E$9&\" and LocalDay(\"&$D$12&\")=\"&$F$9&\" and Barix(\"&$D$12&\",reference:=StartOfDay)=\"&A55&\"\", \"Bar\", \"\", \"Close\",\"5\",\"0\",\"\",,,\"False\",\"T\",\"EveryTick\")","v":996},-5.2434456928838954E-3,{"$f":"RTD(\"cqg.rtd\",,\"StudyData\", \"Close(\"&$D$12&\") when LocalYear(\"&$D$12&\")=\"&$D$10&\" and localMonth(\"&$D$12&\") =\"&$E$10&\" and LocalDay(\"&$D$12&\")=\"&$F$10&\" and Barix(\"&$D$12&\",reference:=StartOfDay)=\"&A55&\"\", \"Bar\", \"\", \"Close\",\"5\",\"0\",\"\",,,\"False\",\"T\",\"EveryTick\")","v":1002.75},9.9825305714998759E-4,null,null,null,""]
[199,"12:20:00",-22,{"$f":" RTD(\"cqg.rtd\",,\"StudyData\", $D$12,  \"Tick\", \"FlatTicks=0\", \"Tick\",\"D\",C56,\"PrimaryOnly\")","v":905.25},null,null,null,{"$f":"RTD(\"cqg.rtd\",,\"StudyData\", \"Close(\"&$D$12&\") when LocalYear(\"&$D$12&\")=\"&$D$1&\" and localMonth(\"&$D$12&\") =\"&$E$1&\" and LocalDay(\"&$D$12&\")=\"&$F$1&\" and Barix(\"&$D$12&\",reference:=StartOfDay)=\"&A56&\"\", \"Bar\", \"\", \"Close\",\"5\",\"0\",\"\",,,\"False\",\"T\",\"EveryTick\")","v":""},{"$error":"#N/A"},{"$f":"RTD(\"cqg.rtd\",,\"StudyData\", \"Close(\"&$D$12&\") when LocalYear(\"&$D$12&\")=\"&$D$2&\" and localMonth(\"&$D$12&\") =\"&$E$2&\" and LocalDay(\"&$D$12&\")=\"&$F$2&\" and Barix(\"&$D$12&\",reference:=StartOfDay)=\"&A56&\"\", \"Bar\", \"\", \"Close\",\"5\",\"0\",\"\",,,\"False\",\"T\",\"EveryTick\")","v":916.75},-1.1323806956052845E-2,{"$f":"RTD(\"cqg.rtd\",,\"StudyData\", \"Close(\"&$D$12&\") when LocalYear(\"&$D$12&\")=\"&$D$3&\" and localMonth(\"&$D$12&\") =\"&$E$3&\" and LocalDay(\"&$D$12&\")=\"&$F$3&\" and Barix(\"&$D$12&\",reference:=StartOfDay)=\"&A56&\"\", \"Bar\", \"\", \"Close\",\"5\",\"0\",\"\",,,\"False\",\"T\",\"EveryTick\")","v":929.5},-6.9444444444444441E-3,{"$f":"RTD(\"cqg.rtd\",,\"StudyData\", \"Close(\"&$D$12&\") when LocalYear(\"&$D$12&\")=\"&$D$4&\" and localMonth(\"&$D$12&\") =\"&$E$4&\" and LocalDay(\"&$D$12&\")=\"&$F$4&\" and Barix(\"&$D$12&\",reference:=StartOfDay)=\"&A56&\"\", \"Bar\", \"\", \"Close\",\"5\",\"0\",\"\",,,\"False\",\"T\",\"EveryTick\")","v":938.25},-1.6509433962264151E-2,{"$f":"RTD(\"cqg.rtd\",,\"StudyData\", \"Close(\"&$D$12&\") when LocalYear(\"&$D$12&\")=\"&$D$5&\" and localMonth(\"&$D$12&\") =\"&$E$5&\" and LocalDay(\"&$D$12&\")=\"&$F$5&\" and Barix(\"&$D$12&\",reference:=StartOfDay)=\"&A56&\"\", \"Bar\", \"\", \"Close\",\"5\",\"0\",\"\",,,\"False\",\"T\",\"EveryTick\")","v":957},3.4076015727391874E-3,{"$f":"RTD(\"cqg.rtd\",,\"StudyData\", \"Close(\"&$D$12&\") when LocalYear(\"&$D$12&\")=\"&$D$6&\" and localMonth(\"&$D$12&\") =\"&$E$6&\" and LocalDay(\"&$D$12&\")=\"&$F$6&\" and Barix(\"&$D$12&\",reference:=StartOfDay)=\"&A56&\"\", \"Bar\", \"\", \"Close\",\"5\",\"0\",\"\",,,\"False\",\"T\",\"EveryTick\")","v":959.5},-1.0059324219757545E-2,{"$f":"RTD(\"cqg.rtd\",,\"StudyData\", \"Close(\"&$D$12&\") when LocalYear(\"&$D$12&\")=\"&$D$7&\" and localMonth(\"&$D$12&\") =\"&$E$7&\" and LocalDay(\"&$D$12&\")=\"&$F$7&\" and Barix(\"&$D$12&\",reference:=StartOfDay)=\"&A56&\"\", \"Bar\", \"\", \"Close\",\"5\",\"0\",\"\",,,\"False\",\"T\",\"EveryTick\")","v":969.5},-4.8755452912496791E-3,{"$f":"RTD(\"cqg.rtd\",,\"StudyData\", \"Close(\"&$D$12&\") when LocalYear(\"&$D$12&\")=\"&$D$8&\" and localMonth(\"&$D$12&\") =\"&$E$8&\" and LocalDay(\"&$D$12&\")=\"&$F$8&\" and Barix(\"&$D$12&\",reference:=StartOfDay)=\"&A56&\"\", \"Bar\", \"\", \"Close\",\"5\",\"0\",\"\",,,\"False\",\"T\",\"EveryTick\")","v":976.5},-1.7852652753331658E-2,{"$f":"RTD(\"cqg.rtd\",,\"StudyData\", \"Close(\"&$D$12&\") when LocalYear(\"&$D$12&\")=\"&$D$9&\" and localMonth(\"&$D$12&\") =\"&$E$9&\" and LocalDay(\"&$D$12&\")=\"&$F$9&\" and Barix(\"&$D$12&\",reference:=StartOfDay)=\"&A56&\"\", \"Bar\", \"\", \"Close\",\"5\",\"0\",\"\",,,\"False\",\"T\",\"EveryTick\")","v":996.25},-4.9937578027465668E-3,{"$f":"RTD(\"cqg.rtd\",,\"StudyData\", \"Close(\"&$D$12&\") when LocalYear(\"&$D$12&\")=\"&$D$10&\" and localMonth(\"&$D$12&\") =\"&$E$10&\" and LocalDay(\"&$D$12&\")=\"&$F$10&\" and Barix(\"&$D$12&\",reference:=StartOfDay)=\"&A56&\"\", \"Bar\", \"\", \"Close\",\"5\",\"0\",\"\",,,\"False\",\"T\",\"EveryTick\")","v":1002.75},9.9825305714998759E-4,null,null,null,""]
[200,"12:25:00",-21,{"$f":" RTD(\"cqg.rtd\",,\"StudyData\", $D$12,  \"Tick\", \"FlatTicks=0\", \"Tick\",\"D\",C57,\"PrimaryOnly\")","v":905},null,null,null,{"$f":"RTD(\"cqg.rtd\",,\"StudyData\", \"Close(\"&$D$12&\") when LocalYear(\"&$D$12&\")=\"&$D$1&\" and localMonth(\"&$D$12&\") =\"&$E$1&\" and LocalDay(\"&$D$12&\")=\"&$F$1&\" and Barix(\"&$D$12&\",reference:=StartOfDay)=\"&A57&\"\", \"Bar\", \"\", \"Close\",\"5\",\"0\",\"\",,,\"False\",\"T\",\"EveryTick\")","v":""},{"$error":"#N/A"},{"$f":"RTD(\"cqg.rtd\",,\"StudyData\", \"Close(\"&$D$12&\") when LocalYear(\"&$D$12&\")=\"&$D$2&\" and localMonth(\"&$D$12&\") =\"&$E$2&\" and LocalDay(\"&$D$12&\")=\"&$F$2&\" and Barix(\"&$D$12&\",reference:=StartOfDay)=\"&A57&\"\", \"Bar\", \"\", \"Close\",\"5\",\"0\",\"\",,,\"False\",\"T\",\"EveryTick\")","v":916.25},-1.1863035858722027E-2,{"$f":"RTD(\"cqg.rtd\",,\"StudyData\", \"Close(\"&$D$12&\") when LocalYear(\"&$D$12&\")=\"&$D$3&\" and localMonth(\"&$D$12&\") =\"&$E$3&\" and LocalDay(\"&$D$12&\")=\"&$F$3&\" and Barix(\"&$D$12&\",reference:=StartOfDay)=\"&A57&\"\", \"Bar\", \"\", \"Close\",\"5\",\"0\",\"\",,,\"False\",\"T\",\"EveryTick\")","v":930},-6.41025641025641E-3,{"$f":"RTD(\"cqg.rtd\",,\"StudyData\", \"Close(\"&$D$12&\") when LocalYear(\"&$D$12&\")=\"&$D$4&\" and localMonth(\"&$D$12&\") =\"&$E$4&\" and LocalDay(\"&$D$12&\")=\"&$F$4&\" and Barix(\"&$D$12&\",reference:=StartOfDay)=\"&A57&\"\", \"Bar\", \"\", \"Close\",\"5\",\"0\",\"\",,,\"False\",\"T\",\"EveryTick\")","v":937.25},-1.7557651991614256E-2,{"$f":"RTD(\"cqg.rtd\",,\"StudyData\", \"Close(\"&$D$12&\") when LocalYear(\"&$D$12&\")=\"&$D$5&\" and localMonth(\"&$D$12&\") =\"&$E$5&\" and LocalDay(\"&$D$12&\")=\"&$F$5&\" and Barix(\"&$D$12&\",reference:=StartOfDay)=\"&A57&\"\", \"Bar\", \"\", \"Close\",\"5\",\"0\",\"\",,,\"False\",\"T\",\"EveryTick\")","v":957},3.4076015727391874E-3,{"$f":"RTD(\"cqg.rtd\",,\"StudyData\", \"Close(\"&$D$12&\") when LocalYear(\"&$D$12&\")=\"&$D$6&\" and localMonth(\"&$D$12&\") =\"&$E$6&\" and LocalDay(\"&$D$12&\")=\"&$F$6&\" and Barix(\"&$D$12&\",reference:=StartOfDay)=\"&A57&\"\", \"Bar\", \"\", \"Close\",\"5\",\"0\",\"\",,,\"False\",\"T\",\"EveryTick\")","v":958.5},-1.1091049780758318E-2,{"$f":"RTD(\"cqg.rtd\",,\"StudyData\", \"Close(\"&$D$12&\") when LocalYear(\"&$D$12&\")=\"&$D$7&\" and localMonth(\"&$D$12&\") =\"&$E$7&\" and LocalDay(\"&$D$12&\")=\"&$F$7&\" and Barix(\"&$D$12&\",reference:=StartOfDay)=\"&A57&\"\", \"Bar\", \"\", \"Close\",\"5\",\"0\",\"\",,,\"False\",\"T\",\"EveryTick\")","v":969.75},-4.6189376443418013E-3,{"$f":"RTD(\"cqg.rtd\",,\"StudyData\", \"Close(\"&$D$12&\") when LocalYear(\"&$D$12&\")=\"&$D$8&\" and localMonth(\"&$D$12&\") =\"&$E$8&\" and LocalDay(\"&$D$12&\")=\"&$F$8&\" and Barix(\"&$D$12&\",reference:=StartOfDay)=\"&A57&\"\", \"Bar\", \"\", \"Close\",\"5\",\"0\",\"\",,,\"False\",\"T\",\"EveryTick\")","v":978.5},-1.5841086245914005E-2,{"$f":"RTD(\"cqg.rtd\",,\"StudyData\", \"Close(\"&$D$12&\") when LocalYear(\"&$D$12&\")=\"&$D$9&\" and localMonth(\"&$D$12&\") =\"&$E$9&\" and LocalDay(\"&$D$12&\")=\"&$F$9&\" and Barix(\"&$D$12&\",reference:=StartOfDay)=\"&A57&\"\", \"Bar\", \"\", \"Close\",\"5\",\"0\",\"\",,,\"False\",\"T\",\"EveryTick\")","v":996},-5.2434456928838954E-3,{"$f":"RTD(\"cqg.rtd\",,\"StudyData\", \"Close(\"&$D$12&\") when LocalYear(\"&$D$12&\")=\"&$D$10&\" and localMonth(\"&$D$12&\") =\"&$E$10&\" and LocalDay(\"&$D$12&\")=\"&$F$10&\" and Barix(\"&$D$12&\",reference:=StartOfDay)=\"&A57&\"\", \"Bar\", \"\", \"Close\",\"5\",\"0\",\"\",,,\"False\",\"T\",\"EveryTick\")","v":1003.25},1.4973795857249812E-3,null,null,null,""]
[201,"12:30:00",-20,{"$f":" RTD(\"cqg.rtd\",,\"StudyData\", $D$12,  \"Tick\", \"FlatTicks=0\", \"Tick\",\"D\",C58,\"PrimaryOnly\")","v":905.25},null,null,null,{"$f":"RTD(\"cqg.rtd\",,\"StudyData\", \"Close(\"&$D$12&\") when LocalYear(\"&$D$12&\")=\"&$D$1&\" and localMonth(\"&$D$12&\") =\"&$E$1&\" and LocalDay(\"&$D$12&\")=\"&$F$1&\" and Barix(\"&$D$12&\",reference:=StartOfDay)=\"&A58&\"\", \"Bar\", \"\", \"Close\",\"5\",\"0\",\"\",,,\"False\",\"T\",\"EveryTick\")","v":""},{"$f":"IFERROR((H58-$G$2)/$G$2,NA())","v":{"$error":"#N/A"}},{"$f":"RTD(\"cqg.rtd\",,\"StudyData\", \"Close(\"&$D$12&\") when LocalYear(\"&$D$12&\")=\"&$D$2&\" and localMonth(\"&$D$12&\") =\"&$E$2&\" and LocalDay(\"&$D$12&\")=\"&$F$2&\" and Barix(\"&$D$12&\",reference:=StartOfDay)=\"&A58&\"\", \"Bar\", \"\", \"Close\",\"5\",\"0\",\"\",,,\"False\",\"T\",\"EveryTick\")","v":917.75},{"$f":"IFERROR((J58-$G$3)/$G$3,NA())","v":-1.0245349150714478E-2},{"$f":"RTD(\"cqg.rtd\",,\"StudyData\", \"Close(\"&$D$12&\") when LocalYear(\"&$D$12&\")=\"&$D$3&\" and localMonth(\"&$D$12&\") =\"&$E$3&\" and LocalDay(\"&$D$12&\")=\"&$F$3&\" and Barix(\"&$D$12&\",reference:=StartOfDay)=\"&A58&\"\", \"Bar\", \"\", \"Close\",\"5\",\"0\",\"\",,,\"False\",\"T\",\"EveryTick\")","v":930},{"$f":"IFERROR((L58-$G$4)/$G$4,NA())","v":-6.41025641025641E-3},{"$f":"RTD(\"cqg.rtd\",,\"StudyData\", \"Close(\"&$D$12&\") when LocalYear(\"&$D$12&\")=\"&$D$4&\" and localMonth(\"&$D$12&\") =\"&$E$4&\" and LocalDay(\"&$D$12&\")=\"&$F$4&\" and Barix(\"&$D$12&\",reference:=StartOfDay)=\"&A58&\"\", \"Bar\", \"\", \"Close\",\"5\",\"0\",\"\",,,\"False\",\"T\",\"EveryTick\")","v":937.25},{"$f":"IFERROR((N58-$G$5)/$G$5,NA())","v":-1.7557651991614256E-2},{"$f":"RTD(\"cqg.rtd\",,\"StudyData\", \"Close(\"&$D$12&\") when LocalYear(\"&$D$12&\")=\"&$D$5&\" and localMonth(\"&$D$12&\") =\"&$E$5&\" and LocalDay(\"&$D$12&\")=\"&$F$5&\" and Barix(\"&$D$12&\",reference:=StartOfDay)=\"&A58&\"\", \"Bar\", \"\", \"Close\",\"5\",\"0\",\"\",,,\"False\",\"T\",\"EveryTick\")","v":955.75},{"$f":"IFERROR((P58-$G$6)/$G$6,NA())","v":2.0969855832241153E-3},{"$f":"RTD(\"cqg.rtd\",,\"StudyData\", \"Close(\"&$D$12&\") when LocalYear(\"&$D$12&\")=\"&$D$6&\" and localMonth(\"&$D$12&\") =\"&$E$6&\" and LocalDay(\"&$D$12&\")=\"&$F$6&\" and Barix(\"&$D$12&\",reference:=StartOfDay)=\"&A58&\"\", \"Bar\", \"\", \"Close\",\"5\",\"0\",\"\",,,\"False\",\"T\",\"EveryTick\")","v":958.5},{"$f":"IFERROR((R58-$G$7)/$G$7,NA())","v":-1.1091049780758318E-2},{"$f":"RTD(\"cqg.rtd\",,\"StudyData\", \"Close(\"&$D$12&\") when LocalYear(\"&$D$12&\")=\"&$D$7&\" and localMonth(\"&$D$12&\") =\"&$E$7&\" and LocalDay(\"&$D$12&\")=\"&$F$7&\" and Barix(\"&$D$12&\",reference:=StartOfDay)=\"&A58&\"\", \"Bar\", \"\", \"Close\",\"5\",\"0\",\"\",,,\"False\",\"T\",\"EveryTick\")","v":969.75},{"$f":"IFERROR((T58-$G$8)/$G$8,NA())","v":-4.6189376443418013E-3},{"$f":"RTD(\"cqg.rtd\",,\"StudyData\", \"Close(\"&$D$12&\") when LocalYear(\"&$D$12&\")=\"&$D$8&\" and localMonth(\"&$D$12&\") =\"&$E$8&\" and LocalDay(\"&$D$12&\")=\"&$F$8&\" and Barix(\"&$D$12&\",reference:=StartOfDay)=\"&A58&\"\", \"Bar\", \"\", \"Close\",\"5\",\"0\",\"\",,,\"False\",\"T\",\"EveryTick\")","v":976.75},{"$f":"IFERROR((V58-$G$9)/$G$9,NA())","v":-1.7601206939904451E-2},{"$f":"RTD(\"cqg.rtd\",,\"StudyData\", \"Close(\"&$D$12&\") when LocalYear(\"&$D$12&\")=\"&$D$9&\" and localMonth(\"&$D$12&\") =\"&$E$9&\" and LocalDay(\"&$D$12&\")=\"&$F$9&\" and Barix(\"&$D$12&\",reference:=StartOfDay)=\"&A58&\"\", \"Bar\", \"\", \"Close\",\"5\",\"0\",\"\",,,\"False\",\"T\",\"EveryTick\")","v":995.75},{"$f":"IFERROR((X58-$G$10)/$G$10,NA())","v":-5.4931335830212232E-3},{"$f":"RTD(\"cqg.rtd\",,\"StudyData\", \"Close(\"&$D$12&\") when LocalYear(\"&$D$12&\")=\"&$D$10&\" and localMonth(\"&$D$12&\") =\"&$E$10&\" and LocalDay(\"&$D$12&\")=\"&$F$10&\" and Barix(\"&$D$12&\",reference:=StartOfDay)=\"&A58&\"\", \"Bar\", \"\", \"Close\",\"5\",\"0\",\"\",,,\"False\",\"T\",\"EveryTick\")","v":1002.75},{"$f":"IFERROR((Z58-$G$11)/$G$11,NA())","v":9.9825305714998759E-4},null,null,null,""]
[202,"12:35:00",-19,{"$f":" RTD(\"cqg.rtd\",,\"StudyData\", $D$12,  \"Tick\", \"FlatTicks=0\", \"Tick\",\"D\",C59,\"PrimaryOnly\")","v":905.5},null,null,null,{"$f":"RTD(\"cqg.rtd\",,\"StudyData\", \"Close(\"&$D$12&\") when LocalYear(\"&$D$12&\")=\"&$D$1&\" and localMonth(\"&$D$12&\") =\"&$E$1&\" and LocalDay(\"&$D$12&\")=\"&$F$1&\" and Barix(\"&$D$12&\",reference:=StartOfDay)=\"&A59&\"\", \"Bar\", \"\", \"Close\",\"5\",\"0\",\"\",,,\"False\",\"T\",\"EveryTick\")","v":""},{"$error":"#N/A"},{"$f":"RTD(\"cqg.rtd\",,\"StudyData\", \"Close(\"&$D$12&\") when LocalYear(\"&$D$12&\")=\"&$D$2&\" and localMonth(\"&$D$12&\") =\"&$E$2&\" and LocalDay(\"&$D$12&\")=\"&$F$2&\" and Barix(\"&$D$12&\",reference:=StartOfDay)=\"&A59&\"\", \"Bar\", \"\", \"Close\",\"5\",\"0\",\"\",,,\"False\",\"T\",\"EveryTick\")","v":917},-1.1054192504718252E-2,{"$f":"RTD(\"cqg.rtd\",,\"StudyData\", \"Close(\"&$D$12&\") when LocalYear(\"&$D$12&\")=\"&$D$3&\" and localMonth(\"&$D$12&\") =\"&$E$3&\" and LocalDay(\"&$D$12&\")=\"&$F$3&\" and Barix(\"&$D$12&\",reference:=StartOfDay)=\"&A59&\"\", \"Bar\", \"\", \"Close\",\"5\",\"0\",\"\",,,\"False\",\"T\",\"EveryTick\")","v":933},-3.205128205128205E-3,{"$f":"RTD(\"cqg.rtd\",,\"StudyData\", \"Close(\"&$D$12&\") when LocalYear(\"&$D$12&\")=\"&$D$4&\" and localMonth(\"&$D$12&\") =\"&$E$4&\" and LocalDay(\"&$D$12&\")=\"&$F$4&\" and Barix(\"&$D$12&\",reference:=StartOfDay)=\"&A59&\"\", \"Bar\", \"\", \"Close\",\"5\",\"0\",\"\",,,\"False\",\"T\",\"EveryTick\")","v":938},-1.6771488469601678E-2,{"$f":"RTD(\"cqg.rtd\",,\"StudyData\", \"Close(\"&$D$12&\") when LocalYear(\"&$D$12&\")=\"&$D$5&\" and localMonth(\"&$D$12&\") =\"&$E$5&\" and LocalDay(\"&$D$12&\")=\"&$F$5&\" and Barix(\"&$D$12&\",reference:=StartOfDay)=\"&A59&\"\", \"Bar\", \"\", \"Close\",\"5\",\"0\",\"\",,,\"False\",\"T\",\"EveryTick\")","v":955.25},1.5727391874180866E-3,{"$f":"RTD(\"cqg.rtd\",,\"StudyData\", \"Close(\"&$D$12&\") when LocalYear(\"&$D$12&\")=\"&$D$6&\" and localMonth(\"&$D$12&\") =\"&$E$6&\" and LocalDay(\"&$D$12&\")=\"&$F$6&\" and Barix(\"&$D$12&\",reference:=StartOfDay)=\"&A59&\"\", \"Bar\", \"\", \"Close\",\"5\",\"0\",\"\",,,\"False\",\"T\",\"EveryTick\")","v":958},-1.1606912561258705E-2,{"$f":"RTD(\"cqg.rtd\",,\"StudyData\", \"Close(\"&$D$12&\") when LocalYear(\"&$D$12&\")=\"&$D$7&\" and localMonth(\"&$D$12&\") =\"&$E$7&\" and LocalDay(\"&$D$12&\")=\"&$F$7&\" and Barix(\"&$D$12&\",reference:=StartOfDay)=\"&A59&\"\", \"Bar\", \"\", \"Close\",\"5\",\"0\",\"\",,,\"False\",\"T\",\"EveryTick\")","v":970},-4.3623299974339235E-3,{"$f":"RTD(\"cqg.rtd\",,\"StudyData\", \"Close(\"&$D$12&\") when LocalYear(\"&$D$12&\")=\"&$D$8&\" and localMonth(\"&$D$12&\") =\"&$E$8&\" and LocalDay(\"&$D$12&\")=\"&$F$8&\" and Barix(\"&$D$12&\",reference:=StartOfDay)=\"&A59&\"\", \"Bar\", \"\", \"Close\",\"5\",\"0\",\"\",,,\"False\",\"T\",\"EveryTick\")","v":976.25},-1.8104098566758865E-2,{"$f":"RTD(\"cqg.rtd\",,\"StudyData\", \"Close(\"&$D$12&\") when LocalYear(\"&$D$12&\")=\"&$D$9&\" and localMonth(\"&$D$12&\") =\"&$E$9&\" and LocalDay(\"&$D$12&\")=\"&$F$9&\" and Barix(\"&$D$12&\",reference:=StartOfDay)=\"&A59&\"\", \"Bar\", \"\", \"Close\",\"5\",\"0\",\"\",,,\"False\",\"T\",\"EveryTick\")","v":995.5},-5.7428214731585518E-3,{"$f":"RTD(\"cqg.rtd\",,\"StudyData\", \"Close(\"&$D$12&\") when LocalYear(\"&$D$12&\")=\"&$D$10&\" and localMonth(\"&$D$12&\") =\"&$E$10&\" and LocalDay(\"&$D$12&\")=\"&$F$10&\" and Barix(\"&$D$12&\",reference:=StartOfDay)=\"&A59&\"\", \"Bar\", \"\", \"Close\",\"5\",\"0\",\"\",,,\"False\",\"T\",\"EveryTick\")","v":1004.75},2.9947591714499623E-3,null,null,null,""]
[203,"12:40:00",-18,{"$f":" RTD(\"cqg.rtd\",,\"StudyData\", $D$12,  \"Tick\", \"FlatTicks=0\", \"Tick\",\"D\",C60,\"PrimaryOnly\")","v":905.25},null,null,null,{"$f":"RTD(\"cqg.rtd\",,\"StudyData\", \"Close(\"&$D$12&\") when LocalYear(\"&$D$12&\")=\"&$D$1&\" and localMonth(\"&$D$12&\") =\"&$E$1&\" and LocalDay(\"&$D$12&\")=\"&$F$1&\" and Barix(\"&$D$12&\",reference:=StartOfDay)=\"&A60&\"\", \"Bar\", \"\", \"Close\",\"5\",\"0\",\"\",,,\"False\",\"T\",\"EveryTick\")","v":""},{"$error":"#N/A"},{"$f":"RTD(\"cqg.rtd\",,\"StudyData\", \"Close(\"&$D$12&\") when LocalYear(\"&$D$12&\")=\"&$D$2&\" and localMonth(\"&$D$12&\") =\"&$E$2&\" and LocalDay(\"&$D$12&\")=\"&$F$2&\" and Barix(\"&$D$12&\",reference:=StartOfDay)=\"&A60&\"\", \"Bar\", \"\", \"Close\",\"5\",\"0\",\"\",,,\"False\",\"T\",\"EveryTick\")","v":916.5},-1.1593421407387436E-2,{"$f":"RTD(\"cqg.rtd\",,\"StudyData\", \"Close(\"&$D$12&\") when LocalYear(\"&$D$12&\")=\"&$D$3&\" and localMonth(\"&$D$12&\") =\"&$E$3&\" and LocalDay(\"&$D$12&\")=\"&$F$3&\" and Barix(\"&$D$12&\",reference:=StartOfDay)=\"&A60&\"\", \"Bar\", \"\", \"Close\",\"5\",\"0\",\"\",,,\"False\",\"T\",\"EveryTick\")","v":932},-4.2735042735042739E-3,{"$f":"RTD(\"cqg.rtd\",,\"StudyData\", \"Close(\"&$D$12&\") when LocalYear(\"&$D$12&\")=\"&$D$4&\" and localMonth(\"&$D$12&\") =\"&$E$4&\" and LocalDay(\"&$D$12&\")=\"&$F$4&\" and Barix(\"&$D$12&\",reference:=StartOfDay)=\"&A60&\"\", \"Bar\", \"\", \"Close\",\"5\",\"0\",\"\",,,\"False\",\"T\",\"EveryTick\")","v":940},-1.4675052410901468E-2,{"$f":"RTD(\"cqg.rtd\",,\"StudyData\", \"Close(\"&$D$12&\") when LocalYear(\"&$D$12&\")=\"&$D$5&\" and localMonth(\"&$D$12&\") =\"&$E$5&\" and LocalDay(\"&$D$12&\")=\"&$F$5&\" and Barix(\"&$D$12&\",reference:=StartOfDay)=\"&A60&\"\", \"Bar\", \"\", \"Close\",\"5\",\"0\",\"\",,,\"False\",\"T\",\"EveryTick\")","v":956},2.3591087811271299E-3,{"$f":"RTD(\"cqg.rtd\",,\"StudyData\", \"Close(\"&$D$12&\") when LocalYear(\"&$D$12&\")=\"&$D$6&\" and localMonth(\"&$D$12&\") =\"&$E$6&\" and LocalDay(\"&$D$12&\")=\"&$F$6&\" and Barix(\"&$D$12&\",reference:=StartOfDay)=\"&A60&\"\", \"Bar\", \"\", \"Close\",\"5\",\"0\",\"\",,,\"False\",\"T\",\"EveryTick\")","v":958},-1.1606912561258705E-2,{"$f":"RTD(\"cqg.rtd\",,\"StudyData\", \"Close(\"&$D$12&\") when LocalYear(\"&$D$12&\")=\"&$D$7&\" and localMonth(\"&$D$12&\") =\"&$E$7&\" and LocalDay(\"&$D$12&\")=\"&$F$7&\" and Barix(\"&$D$12&\",reference:=StartOfDay)=\"&A60&\"\", \"Bar\", \"\", \"Close\",\"5\",\"0\",\"\",,,\"False\",\"T\",\"EveryTick\")","v":970.25},-4.1057223505260457E-3,{"$f":"RTD(\"cqg.rtd\",,\"StudyData\", \"Close(\"&$D$12&\") when LocalYear(\"&$D$12&\")=\"&$D$8&\" and localMonth(\"&$D$12&\") =\"&$E$8&\" and LocalDay(\"&$D$12&\")=\"&$F$8&\" and Barix(\"&$D$12&\",reference:=StartOfDay)=\"&A60&\"\", \"Bar\", \"\", \"Close\",\"5\",\"0\",\"\",,,\"False\",\"T\",\"EveryTick\")","v":975.75},-1.8606990193613275E-2,{"$f":"RTD(\"cqg.rtd\",,\"StudyData\", \"Close(\"&$D$12&\") when LocalYear(\"&$D$12&\")=\"&$D$9&\" and localMonth(\"&$D$12&\") =\"&$E$9&\" and LocalDay(\"&$D$12&\")=\"&$F$9&\" and Barix(\"&$D$12&\",reference:=StartOfDay)=\"&A60&\"\", \"Bar\", \"\", \"Close\",\"5\",\"0\",\"\",,,\"False\",\"T\",\"EveryTick\")","v":995.25},-5.9925093632958804E-3,{"$f":"RTD(\"cqg.rtd\",,\"StudyData\", \"Close(\"&$D$12&\") when LocalYear(\"&$D$12&\")=\"&$D$10&\" and localMonth(\"&$D$12&\") =\"&$E$10&\" and LocalDay(\"&$D$12&\")=\"&$F$10&\" and Barix(\"&$D$12&\",reference:=StartOfDay)=\"&A60&\"\", \"Bar\", \"\", \"Close\",\"5\",\"0\",\"\",,,\"False\",\"T\",\"EveryTick\")","v":1004.75},2.9947591714499623E-3,null,null,null,""]
[204,"12:45:00",-17,{"$f":" RTD(\"cqg.rtd\",,\"StudyData\", $D$12,  \"Tick\", \"FlatTicks=0\", \"Tick\",\"D\",C61,\"PrimaryOnly\")","v":905.5},null,null,null,{"$f":"RTD(\"cqg.rtd\",,\"StudyData\", \"Close(\"&$D$12&\") when LocalYear(\"&$D$12&\")=\"&$D$1&\" and localMonth(\"&$D$12&\") =\"&$E$1&\" and LocalDay(\"&$D$12&\")=\"&$F$1&\" and Barix(\"&$D$12&\",reference:=StartOfDay)=\"&A61&\"\", \"Bar\", \"\", \"Close\",\"5\",\"0\",\"\",,,\"False\",\"T\",\"EveryTick\")","v":""},{"$error":"#N/A"},{"$f":"RTD(\"cqg.rtd\",,\"StudyData\", \"Close(\"&$D$12&\") when LocalYear(\"&$D$12&\")=\"&$D$2&\" and localMonth(\"&$D$12&\") =\"&$E$2&\" and LocalDay(\"&$D$12&\")=\"&$F$2&\" and Barix(\"&$D$12&\",reference:=StartOfDay)=\"&A61&\"\", \"Bar\", \"\", \"Close\",\"5\",\"0\",\"\",,,\"False\",\"T\",\"EveryTick\")","v":914.5},-1.3750337018064168E-2,{"$f":"RTD(\"cqg.rtd\",,\"StudyData\", \"Close(\"&$D$12&\") when LocalYear(\"&$D$12&\")=\"&$D$3&\" and localMonth(\"&$D$12&\") =\"&$E$3&\" and LocalDay(\"&$D$12&\")=\"&$F$3&\" and Barix(\"&$D$12&\",reference:=StartOfDay)=\"&A61&\"\", \"Bar\", \"\", \"Close\",\"5\",\"0\",\"\",,,\"False\",\"T\",\"EveryTick\")","v":932.25},-4.0064102564102561E-3,{"$f":"RTD(\"cqg.rtd\",,\"StudyData\", \"Close(\"&$D$12&\") when LocalYear(\"&$D$12&\")=\"&$D$4&\" and localMonth(\"&$D$12&\") =\"&$E$4&\" and LocalDay(\"&$D$12&\")=\"&$F$4&\" and Barix(\"&$D$12&\",reference:=StartOfDay)=\"&A61&\"\", \"Bar\", \"\", \"Close\",\"5\",\"0\",\"\",,,\"False\",\"T\",\"EveryTick\")","v":939},-1.5723270440251572E-2,{"$f":"RTD(\"cqg.rtd\",,\"StudyData\", \"Close(\"&$D$12&\") when LocalYear(\"&$D$12&\")=\"&$D$5&\" and localMonth(\"&$D$12&\") =\"&$E$5&\" and LocalDay(\"&$D$12&\")=\"&$F$5&\" and Barix(\"&$D$12&\",reference:=StartOfDay)=\"&A61&\"\", \"Bar\", \"\", \"Close\",\"5\",\"0\",\"\",,,\"False\",\"T\",\"EveryTick\")","v":956.5},2.8833551769331584E-3,{"$f":"RTD(\"cqg.rtd\",,\"StudyData\", \"Close(\"&$D$12&\") when LocalYear(\"&$D$12&\")=\"&$D$6&\" and localMonth(\"&$D$12&\") =\"&$E$6&\" and LocalDay(\"&$D$12&\")=\"&$F$6&\" and Barix(\"&$D$12&\",reference:=StartOfDay)=\"&A61&\"\", \"Bar\", \"\", \"Close\",\"5\",\"0\",\"\",,,\"False\",\"T\",\"EveryTick\")","v":957.25},-1.2380706732009285E-2,{"$f":"RTD(\"cqg.rtd\",,\"StudyData\", \"Close(\"&$D$12&\") when LocalYear(\"&$D$12&\")=\"&$D$7&\" and localMonth(\"&$D$12&\") =\"&$E$7&\" and LocalDay(\"&$D$12&\")=\"&$F$7&\" and Barix(\"&$D$12&\",reference:=StartOfDay)=\"&A61&\"\", \"Bar\", \"\", \"Close\",\"5\",\"0\",\"\",,,\"False\",\"T\",\"EveryTick\")","v":971.5},-2.8226841159866563E-3,{"$f":"RTD(\"cqg.rtd\",,\"StudyData\", \"Close(\"&$D$12&\") when LocalYear(\"&$D$12&\")=\"&$D$8&\" and localMonth(\"&$D$12&\") =\"&$E$8&\" and LocalDay(\"&$D$12&\")=\"&$F$8&\" and Barix(\"&$D$12&\",reference:=StartOfDay)=\"&A61&\"\", \"Bar\", \"\", \"Close\",\"5\",\"0\",\"\",,,\"False\",\"T\",\"EveryTick\")","v":974.25},-2.0115665074176513E-2,{"$f":"RTD(\"cqg.rtd\",,\"StudyData\", \"Close(\"&$D$12&\") when LocalYear(\"&$D$12&\")=\"&$D$9&\" and localMonth(\"&$D$12&\") =\"&$E$9&\" and LocalDay(\"&$D$12&\")=\"&$F$9&\" and Barix(\"&$D$12&\",reference:=StartOfDay)=\"&A61&\"\", \"Bar\", \"\", \"Close\",\"5\",\"0\",\"\",,,\"False\",\"T\",\"EveryTick\")","v":995.25},-5.9925093632958804E-3,{"$f":"RTD(\"cqg.rtd\",,\"StudyData\", \"Close(\"&$D$12&\") when LocalYear(\"&$D$12&\")=\"&$D$10&\" and localMonth(\"&$D$12&\") =\"&$E$10&\" and LocalDay(\"&$D$12&\")=\"&$F$10&\" and Barix(\"&$D$12&\",reference:=StartOfDay)=\"&A61&\"\", \"Bar\", \"\", \"Close\",\"5\",\"0\",\"\",,,\"False\",\"T\",\"EveryTick\")","v":1003.5},1.7469428500124782E-3,null,null,null,""]
[205,"12:50:00",-16,{"$f":" RTD(\"cqg.rtd\",,\"StudyData\", $D$12,  \"Tick\", \"FlatTicks=0\", \"Tick\",\"D\",C62,\"PrimaryOnly\")","v":905.25},null,null,null,{"$f":"RTD(\"cqg.rtd\",,\"StudyData\", \"Close(\"&$D$12&\") when LocalYear(\"&$D$12&\")=\"&$D$1&\" and localMonth(\"&$D$12&\") =\"&$E$1&\" and LocalDay(\"&$D$12&\")=\"&$F$1&\" and Barix(\"&$D$12&\",reference:=StartOfDay)=\"&A62&\"\", \"Bar\", \"\", \"Close\",\"5\",\"0\",\"\",,,\"False\",\"T\",\"EveryTick\")","v":""},{"$error":"#N/A"},{"$f":"RTD(\"cqg.rtd\",,\"StudyData\", \"Close(\"&$D$12&\") when LocalYear(\"&$D$12&\")=\"&$D$2&\" and localMonth(\"&$D$12&\") =\"&$E$2&\" and LocalDay(\"&$D$12&\")=\"&$F$2&\" and Barix(\"&$D$12&\",reference:=StartOfDay)=\"&A62&\"\", \"Bar\", \"\", \"Close\",\"5\",\"0\",\"\",,,\"False\",\"T\",\"EveryTick\")","v":912.5},-1.59072526287409E-2,{"$f":"RTD(\"cqg.rtd\",,\"StudyData\", \"Close(\"&$D$12&\") when LocalYear(\"&$D$12&\")=\"&$D$3&\" and localMonth(\"&$D$12&\") =\"&$E$3&\" and LocalDay(\"&$D$12&\")=\"&$F$3&\" and Barix(\"&$D$12&\",reference:=StartOfDay)=\"&A62&\"\", \"Bar\", \"\", \"Close\",\"5\",\"0\",\"\",,,\"False\",\"T\",\"EveryTick\")","v":930.75},-5.608974358974359E-3,{"$f":"RTD(\"cqg.rtd\",,\"StudyData\", \"Close(\"&$D$12&\") when LocalYear(\"&$D$12&\")=\"&$D$4&\" and localMonth(\"&$D$12&\") =\"&$E$4&\" and LocalDay(\"&$D$12&\")=\"&$F$4&\" and Barix(\"&$D$12&\",reference:=StartOfDay)=\"&A62&\"\", \"Bar\", \"\", \"Close\",\"5\",\"0\",\"\",,,\"False\",\"T\",\"EveryTick\")","v":939.5},-1.5199161425576519E-2,{"$f":"RTD(\"cqg.rtd\",,\"StudyData\", \"Close(\"&$D$12&\") when LocalYear(\"&$D$12&\")=\"&$D$5&\" and localMonth(\"&$D$12&\") =\"&$E$5&\" and LocalDay(\"&$D$12&\")=\"&$F$5&\" and Barix(\"&$D$12&\",reference:=StartOfDay)=\"&A62&\"\", \"Bar\", \"\", \"Close\",\"5\",\"0\",\"\",,,\"False\",\"T\",\"EveryTick\")","v":956.75},3.1454783748361731E-3,{"$f":"RTD(\"cqg.rtd\",,\"StudyData\", \"Close(\"&$D$12&\") when LocalYear(\"&$D$12&\")=\"&$D$6&\" and localMonth(\"&$D$12&\") =\"&$E$6&\" and LocalDay(\"&$D$12&\")=\"&$F$6&\" and Barix(\"&$D$12&\",reference:=StartOfDay)=\"&A62&\"\", \"Bar\", \"\", \"Close\",\"5\",\"0\",\"\",,,\"False\",\"T\",\"EveryTick\")","v":957.25},-1.2380706732009285E-2,{"$f":"RTD(\"cqg.rtd\",,\"StudyData\", \"Close(\"&$D$12&\") when LocalYear(\"&$D$12&\")=\"&$D$7&\" and localMonth(\"&$D$12&\") =\"&$E$7&\" and LocalDay(\"&$D$12&\")=\"&$F$7&\" and Barix(\"&$D$12&\",reference:=StartOfDay)=\"&A62&\"\", \"Bar\", \"\", \"Close\",\"5\",\"0\",\"\",,,\"False\",\"T\",\"EveryTick\")","v":971.25},-3.0792917628945341E-3,{"$f":"RTD(\"cqg.rtd\",,\"StudyData\", \"Close(\"&$D$12&\") when LocalYear(\"&$D$12&\")=\"&$D$8&\" and localMonth(\"&$D$12&\") =\"&$E$8&\" and LocalDay(\"&$D$12&\")=\"&$F$8&\" and Barix(\"&$D$12&\",reference:=StartOfDay)=\"&A62&\"\", \"Bar\", \"\", \"Close\",\"5\",\"0\",\"\",,,\"False\",\"T\",\"EveryTick\")","v":973.5},-2.0870002514458134E-2,{"$f":"RTD(\"cqg.rtd\",,\"StudyData\", \"Close(\"&$D$12&\") when LocalYear(\"&$D$12&\")=\"&$D$9&\" and localMonth(\"&$D$12&\") =\"&$E$9&\" and LocalDay(\"&$D$12&\")=\"&$F$9&\" and Barix(\"&$D$12&\",reference:=StartOfDay)=\"&A62&\"\", \"Bar\", \"\", \"Close\",\"5\",\"0\",\"\",,,\"False\",\"T\",\"EveryTick\")","v":994.75},-6.4918851435705367E-3,{"$f":"RTD(\"cqg.rtd\",,\"StudyData\", \"Close(\"&$D$12&\") when LocalYear(\"&$D$12&\")=\"&$D$10&\" and localMonth(\"&$D$12&\") =\"&$E$10&\" and LocalDay(\"&$D$12&\")=\"&$F$10&\" and Barix(\"&$D$12&\",reference:=StartOfDay)=\"&A62&\"\", \"Bar\", \"\", \"Close\",\"5\",\"0\",\"\",,,\"False\",\"T\",\"EveryTick\")","v":1004.25},2.4956326428749688E-3,null,null,null,""]
[206,"12:55:00",-15,{"$f":" RTD(\"cqg.rtd\",,\"StudyData\", $D$12,  \"Tick\", \"FlatTicks=0\", \"Tick\",\"D\",C63,\"PrimaryOnly\")","v":905},null,null,null,{"$f":"RTD(\"cqg.rtd\",,\"StudyData\", \"Close(\"&$D$12&\") when LocalYear(\"&$D$12&\")=\"&$D$1&\" and localMonth(\"&$D$12&\") =\"&$E$1&\" and LocalDay(\"&$D$12&\")=\"&$F$1&\" and Barix(\"&$D$12&\",reference:=StartOfDay)=\"&A63&\"\", \"Bar\", \"\", \"Close\",\"5\",\"0\",\"\",,,\"False\",\"T\",\"EveryTick\")","v":""},{"$error":"#N/A"},{"$f":"RTD(\"cqg.rtd\",,\"StudyData\", \"Close(\"&$D$12&\") when LocalYear(\"&$D$12&\")=\"&$D$2&\" and localMonth(\"&$D$12&\") =\"&$E$2&\" and LocalDay(\"&$D$12&\")=\"&$F$2&\" and Barix(\"&$D$12&\",reference:=StartOfDay)=\"&A63&\"\", \"Bar\", \"\", \"Close\",\"5\",\"0\",\"\",,,\"False\",\"T\",\"EveryTick\")","v":911.25},-1.7255324885413859E-2,{"$f":"RTD(\"cqg.rtd\",,\"StudyData\", \"Close(\"&$D$12&\") when LocalYear(\"&$D$12&\")=\"&$D$3&\" and localMonth(\"&$D$12&\") =\"&$E$3&\" and LocalDay(\"&$D$12&\")=\"&$F$3&\" and Barix(\"&$D$12&\",reference:=StartOfDay)=\"&A63&\"\", \"Bar\", \"\", \"Close\",\"5\",\"0\",\"\",,,\"False\",\"T\",\"EveryTick\")","v":930.5},-5.876068376068376E-3,{"$f":"RTD(\"cqg.rtd\",,\"StudyData\", \"Close(\"&$D$12&\") when LocalYear(\"&$D$12&\")=\"&$D$4&\" and localMonth(\"&$D$12&\") =\"&$E$4&\" and LocalDay(\"&$D$12&\")=\"&$F$4&\" and Barix(\"&$D$12&\",reference:=StartOfDay)=\"&A63&\"\", \"Bar\", \"\", \"Close\",\"5\",\"0\",\"\",,,\"False\",\"T\",\"EveryTick\")","v":940.25},-1.4412997903563941E-2,{"$f":"RTD(\"cqg.rtd\",,\"StudyData\", \"Close(\"&$D$12&\") when LocalYear(\"&$D$12&\")=\"&$D$5&\" and localMonth(\"&$D$12&\") =\"&$E$5&\" and LocalDay(\"&$D$12&\")=\"&$F$5&\" and Barix(\"&$D$12&\",reference:=StartOfDay)=\"&A63&\"\", \"Bar\", \"\", \"Close\",\"5\",\"0\",\"\",,,\"False\",\"T\",\"EveryTick\")","v":957.25},3.669724770642202E-3,{"$f":"RTD(\"cqg.rtd\",,\"StudyData\", \"Close(\"&$D$12&\") when LocalYear(\"&$D$12&\")=\"&$D$6&\" and localMonth(\"&$D$12&\") =\"&$E$6&\" and LocalDay(\"&$D$12&\")=\"&$F$6&\" and Barix(\"&$D$12&\",reference:=StartOfDay)=\"&A63&\"\", \"Bar\", \"\", \"Close\",\"5\",\"0\",\"\",,,\"False\",\"T\",\"EveryTick\")","v":957.5},-1.2122775341759092E-2,{"$f":"RTD(\"cqg.rtd\",,\"StudyData\", \"Close(\"&$D$12&\") when LocalYear(\"&$D$12&\")=\"&$D$7&\" and localMonth(\"&$D$12&\") =\"&$E$7&\" and LocalDay(\"&$D$12&\")=\"&$F$7&\" and Barix(\"&$D$12&\",reference:=StartOfDay)=\"&A63&\"\", \"Bar\", \"\", \"Close\",\"5\",\"0\",\"\",,,\"False\",\"T\",\"EveryTick\")","v":970.5},-3.8491147036181679E-3,{"$f":"RTD(\"cqg.rtd\",,\"StudyData\", \"Close(\"&$D$12&\") when LocalYear(\"&$D$12&\")=\"&$D$8&\" and localMonth(\"&$D$12&\") =\"&$E$8&\" and LocalDay(\"&$D$12&\")=\"&$F$8&\" and Barix(\"&$D$12&\",reference:=StartOfDay)=\"&A63&\"\", \"Bar\", \"\", \"Close\",\"5\",\"0\",\"\",,,\"False\",\"T\",\"EveryTick\")","v":973},-2.1372894141312548E-2,{"$f":"RTD(\"cqg.rtd\",,\"StudyData\", \"Close(\"&$D$12&\") when LocalYear(\"&$D$12&\")=\"&$D$9&\" and localMonth(\"&$D$12&\") =\"&$E$9&\" and LocalDay(\"&$D$12&\")=\"&$F$9&\" and Barix(\"&$D$12&\",reference:=StartOfDay)=\"&A63&\"\", \"Bar\", \"\", \"Close\",\"5\",\"0\",\"\",,,\"False\",\"T\",\"EveryTick\")","v":994.75},-6.4918851435705367E-3,{"$f":"RTD(\"cqg.rtd\",,\"StudyData\", \"Close(\"&$D$12&\") when LocalYear(\"&$D$12&\")=\"&$D$10&\" and localMonth(\"&$D$12&\") =\"&$E$10&\" and LocalDay(\"&$D$12&\")=\"&$F$10&\" and Barix(\"&$D$12&\",reference:=StartOfDay)=\"&A63&\"\", \"Bar\", \"\", \"Close\",\"5\",\"0\",\"\",,,\"False\",\"T\",\"EveryTick\")","v":1004.5},2.7451959071624656E-3,null,null,null,""]
[207,"13:00:00",-14,{"$f":" RTD(\"cqg.rtd\",,\"StudyData\", $D$12,  \"Tick\", \"FlatTicks=0\", \"Tick\",\"D\",C64,\"PrimaryOnly\")","v":905.25},null,null,null,{"$f":"RTD(\"cqg.rtd\",,\"StudyData\", \"Close(\"&$D$12&\") when LocalYear(\"&$D$12&\")=\"&$D$1&\" and localMonth(\"&$D$12&\") =\"&$E$1&\" and LocalDay(\"&$D$12&\")=\"&$F$1&\" and Barix(\"&$D$12&\",reference:=StartOfDay)=\"&A64&\"\", \"Bar\", \"\", \"Close\",\"5\",\"0\",\"\",,,\"False\",\"T\",\"EveryTick\")","v":""},{"$error":"#N/A"},{"$f":"RTD(\"cqg.rtd\",,\"StudyData\", \"Close(\"&$D$12&\") when LocalYear(\"&$D$12&\")=\"&$D$2&\" and localMonth(\"&$D$12&\") =\"&$E$2&\" and LocalDay(\"&$D$12&\")=\"&$F$2&\" and Barix(\"&$D$12&\",reference:=StartOfDay)=\"&A64&\"\", \"Bar\", \"\", \"Close\",\"5\",\"0\",\"\",,,\"False\",\"T\",\"EveryTick\")","v":909.25},-1.9412240496090589E-2,{"$f":"RTD(\"cqg.rtd\",,\"StudyData\", \"Close(\"&$D$12&\") when LocalYear(\"&$D$12&\")=\"&$D$3&\" and localMonth(\"&$D$12&\") =\"&$E$3&\" and LocalDay(\"&$D$12&\")=\"&$F$3&\" and Barix(\"&$D$12&\",reference:=StartOfDay)=\"&A64&\"\", \"Bar\", \"\", \"Close\",\"5\",\"0\",\"\",,,\"False\",\"T\",\"EveryTick\")","v":928.5},-8.0128205128205121E-3,{"$f":"RTD(\"cqg.rtd\",,\"StudyData\", \"Close(\"&$D$12&\") when LocalYear(\"&$D$12&\")=\"&$D$4&\" and localMonth(\"&$D$12&\") =\"&$E$4&\" and LocalDay(\"&$D$12&\")=\"&$F$4&\" and Barix(\"&$D$12&\",reference:=StartOfDay)=\"&A64&\"\", \"Bar\", \"\", \"Close\",\"5\",\"0\",\"\",,,\"False\",\"T\",\"EveryTick\")","v":936.5},-1.8343815513626835E-2,{"$f":"RTD(\"cqg.rtd\",,\"StudyData\", \"Close(\"&$D$12&\") when LocalYear(\"&$D$12&\")=\"&$D$5&\" and localMonth(\"&$D$12&\") =\"&$E$5&\" and LocalDay(\"&$D$12&\")=\"&$F$5&\" and Barix(\"&$D$12&\",reference:=StartOfDay)=\"&A64&\"\", \"Bar\", \"\", \"Close\",\"5\",\"0\",\"\",,,\"False\",\"T\",\"EveryTick\")","v":956.5},2.8833551769331584E-3,{"$f":"RTD(\"cqg.rtd\",,\"StudyData\", \"Close(\"&$D$12&\") when LocalYear(\"&$D$12&\")=\"&$D$6&\" and localMonth(\"&$D$12&\") =\"&$E$6&\" and LocalDay(\"&$D$12&\")=\"&$F$6&\" and Barix(\"&$D$12&\",reference:=StartOfDay)=\"&A64&\"\", \"Bar\", \"\", \"Close\",\"5\",\"0\",\"\",,,\"False\",\"T\",\"EveryTick\")","v":956.75},-1.2896569512509672E-2,{"$f":"RTD(\"cqg.rtd\",,\"StudyData\", \"Close(\"&$D$12&\") when LocalYear(\"&$D$12&\")=\"&$D$7&\" and localMonth(\"&$D$12&\") =\"&$E$7&\" and LocalDay(\"&$D$12&\")=\"&$F$7&\" and Barix(\"&$D$12&\",reference:=StartOfDay)=\"&A64&\"\", \"Bar\", \"\", \"Close\",\"5\",\"0\",\"\",,,\"False\",\"T\",\"EveryTick\")","v":969.25},-5.1321529381575569E-3,{"$f":"RTD(\"cqg.rtd\",,\"StudyData\", \"Close(\"&$D$12&\") when LocalYear(\"&$D$12&\")=\"&$D$8&\" and localMonth(\"&$D$12&\") =\"&$E$8&\" and LocalDay(\"&$D$12&\")=\"&$F$8&\" and Barix(\"&$D$12&\",reference:=StartOfDay)=\"&A64&\"\", \"Bar\", \"\", \"Close\",\"5\",\"0\",\"\",,,\"False\",\"T\",\"EveryTick\")","v":977.5},-1.684686949962283E-2,{"$f":"RTD(\"cqg.rtd\",,\"StudyData\", \"Close(\"&$D$12&\") when LocalYear(\"&$D$12&\")=\"&$D$9&\" and localMonth(\"&$D$12&\") =\"&$E$9&\" and LocalDay(\"&$D$12&\")=\"&$F$9&\" and Barix(\"&$D$12&\",reference:=StartOfDay)=\"&A64&\"\", \"Bar\", \"\", \"Close\",\"5\",\"0\",\"\",,,\"False\",\"T\",\"EveryTick\")","v":995.25},-5.9925093632958804E-3,{"$f":"RTD(\"cqg.rtd\",,\"StudyData\", \"Close(\"&$D$12&\") when LocalYear(\"&$D$12&\")=\"&$D$10&\" and localMonth(\"&$D$12&\") =\"&$E$10&\" and LocalDay(\"&$D$12&\")=\"&$F$10&\" and Barix(\"&$D$12&\",reference:=StartOfDay)=\"&A64&\"\", \"Bar\", \"\", \"Close\",\"5\",\"0\",\"\",,,\"False\",\"T\",\"EveryTick\")","v":1005.5},3.7434489643124532E-3,null,null,null,""]
[208,"13:05:00",-13,{"$f":" RTD(\"cqg.rtd\",,\"StudyData\", $D$12,  \"Tick\", \"FlatTicks=0\", \"Tick\",\"D\",C65,\"PrimaryOnly\")","v":905},null,null,null,{"$f":"RTD(\"cqg.rtd\",,\"StudyData\", \"Close(\"&$D$12&\") when LocalYear(\"&$D$12&\")=\"&$D$1&\" and localMonth(\"&$D$12&\") =\"&$E$1&\" and LocalDay(\"&$D$12&\")=\"&$F$1&\" and Barix(\"&$D$12&\",reference:=StartOfDay)=\"&A65&\"\", \"Bar\", \"\", \"Close\",\"5\",\"0\",\"\",,,\"False\",\"T\",\"EveryTick\")","v":""},{"$error":"#N/A"},{"$f":"RTD(\"cqg.rtd\",,\"StudyData\", \"Close(\"&$D$12&\") when LocalYear(\"&$D$12&\")=\"&$D$2&\" and localMonth(\"&$D$12&\") =\"&$E$2&\" and LocalDay(\"&$D$12&\")=\"&$F$2&\" and Barix(\"&$D$12&\",reference:=StartOfDay)=\"&A65&\"\", \"Bar\", \"\", \"Close\",\"5\",\"0\",\"\",,,\"False\",\"T\",\"EveryTick\")","v":906},-2.2917228363440279E-2,{"$f":"RTD(\"cqg.rtd\",,\"StudyData\", \"Close(\"&$D$12&\") when LocalYear(\"&$D$12&\")=\"&$D$3&\" and localMonth(\"&$D$12&\") =\"&$E$3&\" and LocalDay(\"&$D$12&\")=\"&$F$3&\" and Barix(\"&$D$12&\",reference:=StartOfDay)=\"&A65&\"\", \"Bar\", \"\", \"Close\",\"5\",\"0\",\"\",,,\"False\",\"T\",\"EveryTick\")","v":927.5},-9.0811965811965819E-3,{"$f":"RTD(\"cqg.rtd\",,\"StudyData\", \"Close(\"&$D$12&\") when LocalYear(\"&$D$12&\")=\"&$D$4&\" and localMonth(\"&$D$12&\") =\"&$E$4&\" and LocalDay(\"&$D$12&\")=\"&$F$4&\" and Barix(\"&$D$12&\",reference:=StartOfDay)=\"&A65&\"\", \"Bar\", \"\", \"Close\",\"5\",\"0\",\"\",,,\"False\",\"T\",\"EveryTick\")","v":936.5},-1.8343815513626835E-2,{"$f":"RTD(\"cqg.rtd\",,\"StudyData\", \"Close(\"&$D$12&\") when LocalYear(\"&$D$12&\")=\"&$D$5&\" and localMonth(\"&$D$12&\") =\"&$E$5&\" and LocalDay(\"&$D$12&\")=\"&$F$5&\" and Barix(\"&$D$12&\",reference:=StartOfDay)=\"&A65&\"\", \"Bar\", \"\", \"Close\",\"5\",\"0\",\"\",,,\"False\",\"T\",\"EveryTick\")","v":956},2.3591087811271299E-3,{"$f":"RTD(\"cqg.rtd\",,\"StudyData\", \"Close(\"&$D$12&\") when LocalYear(\"&$D$12&\")=\"&$D$6&\" and localMonth(\"&$D$12&\") =\"&$E$6&\" and LocalDay(\"&$D$12&\")=\"&$F$6&\" and Barix(\"&$D$12&\",reference:=StartOfDay)=\"&A65&\"\", \"Bar\", \"\", \"Close\",\"5\",\"0\",\"\",,,\"False\",\"T\",\"EveryTick\")","v":955.5},-1.4186226463760639E-2,{"$f":"RTD(\"cqg.rtd\",,\"StudyData\", \"Close(\"&$D$12&\") when LocalYear(\"&$D$12&\")=\"&$D$7&\" and localMonth(\"&$D$12&\") =\"&$E$7&\" and LocalDay(\"&$D$12&\")=\"&$F$7&\" and Barix(\"&$D$12&\",reference:=StartOfDay)=\"&A65&\"\", \"Bar\", \"\", \"Close\",\"5\",\"0\",\"\",,,\"False\",\"T\",\"EveryTick\")","v":970.25},-4.1057223505260457E-3,{"$f":"RTD(\"cqg.rtd\",,\"StudyData\", \"Close(\"&$D$12&\") when LocalYear(\"&$D$12&\")=\"&$D$8&\" and localMonth(\"&$D$12&\") =\"&$E$8&\" and LocalDay(\"&$D$12&\")=\"&$F$8&\" and Barix(\"&$D$12&\",reference:=StartOfDay)=\"&A65&\"\", \"Bar\", \"\", \"Close\",\"5\",\"0\",\"\",,,\"False\",\"T\",\"EveryTick\")","v":976.5},-1.7852652753331658E-2,{"$f":"RTD(\"cqg.rtd\",,\"StudyData\", \"Close(\"&$D$12&\") when LocalYear(\"&$D$12&\")=\"&$D$9&\" and localMonth(\"&$D$12&\") =\"&$E$9&\" and LocalDay(\"&$D$12&\")=\"&$F$9&\" and Barix(\"&$D$12&\",reference:=StartOfDay)=\"&A65&\"\", \"Bar\", \"\", \"Close\",\"5\",\"0\",\"\",,,\"False\",\"T\",\"EveryTick\")","v":994.25},-6.9912609238451939E-3,{"$f":"RTD(\"cqg.rtd\",,\"StudyData\", \"Close(\"&$D$12&\") when LocalYear(\"&$D$12&\")=\"&$D$10&\" and localMonth(\"&$D$12&\") =\"&$E$10&\" and LocalDay(\"&$D$12&\")=\"&$F$10&\" and Barix(\"&$D$12&\",reference:=StartOfDay)=\"&A65&\"\", \"Bar\", \"\", \"Close\",\"5\",\"0\",\"\",,,\"False\",\"T\",\"EveryTick\")","v":1004},2.246069378587472E-3,null,null,null,""]
[209,"13:10:00",-12,{"$f":" RTD(\"cqg.rtd\",,\"StudyData\", $D$12,  \"Tick\", \"FlatTicks=0\", \"Tick\",\"D\",C66,\"PrimaryOnly\")","v":904.75},null,null,null,{"$f":"RTD(\"cqg.rtd\",,\"StudyData\", \"Close(\"&$D$12&\") when LocalYear(\"&$D$12&\")=\"&$D$1&\" and localMonth(\"&$D$12&\") =\"&$E$1&\" and LocalDay(\"&$D$12&\")=\"&$F$1&\" and Barix(\"&$D$12&\",reference:=StartOfDay)=\"&A66&\"\", \"Bar\", \"\", \"Close\",\"5\",\"0\",\"\",,,\"False\",\"T\",\"EveryTick\")","v":""},{"$error":"#N/A"},{"$f":"RTD(\"cqg.rtd\",,\"StudyData\", \"Close(\"&$D$12&\") when LocalYear(\"&$D$12&\")=\"&$D$2&\" and localMonth(\"&$D$12&\") =\"&$E$2&\" and LocalDay(\"&$D$12&\")=\"&$F$2&\" and Barix(\"&$D$12&\",reference:=StartOfDay)=\"&A66&\"\", \"Bar\", \"\", \"Close\",\"5\",\"0\",\"\",,,\"False\",\"T\",\"EveryTick\")","v":905.5},-2.3456457266109464E-2,{"$f":"RTD(\"cqg.rtd\",,\"StudyData\", \"Close(\"&$D$12&\") when LocalYear(\"&$D$12&\")=\"&$D$3&\" and localMonth(\"&$D$12&\") =\"&$E$3&\" and LocalDay(\"&$D$12&\")=\"&$F$3&\" and Barix(\"&$D$12&\",reference:=StartOfDay)=\"&A66&\"\", \"Bar\", \"\", \"Close\",\"5\",\"0\",\"\",,,\"False\",\"T\",\"EveryTick\")","v":927.25},-9.348290598290598E-3,{"$f":"RTD(\"cqg.rtd\",,\"StudyData\", \"Close(\"&$D$12&\") when LocalYear(\"&$D$12&\")=\"&$D$4&\" and localMonth(\"&$D$12&\") =\"&$E$4&\" and LocalDay(\"&$D$12&\")=\"&$F$4&\" and Barix(\"&$D$12&\",reference:=StartOfDay)=\"&A66&\"\", \"Bar\", \"\", \"Close\",\"5\",\"0\",\"\",,,\"False\",\"T\",\"EveryTick\")","v":936},-1.8867924528301886E-2,{"$f":"RTD(\"cqg.rtd\",,\"StudyData\", \"Close(\"&$D$12&\") when LocalYear(\"&$D$12&\")=\"&$D$5&\" and localMonth(\"&$D$12&\") =\"&$E$5&\" and LocalDay(\"&$D$12&\")=\"&$F$5&\" and Barix(\"&$D$12&\",reference:=StartOfDay)=\"&A66&\"\", \"Bar\", \"\", \"Close\",\"5\",\"0\",\"\",,,\"False\",\"T\",\"EveryTick\")","v":954},2.6212319790301441E-4,{"$f":"RTD(\"cqg.rtd\",,\"StudyData\", \"Close(\"&$D$12&\") when LocalYear(\"&$D$12&\")=\"&$D$6&\" and localMonth(\"&$D$12&\") =\"&$E$6&\" and LocalDay(\"&$D$12&\")=\"&$F$6&\" and Barix(\"&$D$12&\",reference:=StartOfDay)=\"&A66&\"\", \"Bar\", \"\", \"Close\",\"5\",\"0\",\"\",,,\"False\",\"T\",\"EveryTick\")","v":953.75},-1.5991746195511993E-2,{"$f":"RTD(\"cqg.rtd\",,\"StudyData\", \"Close(\"&$D$12&\") when LocalYear(\"&$D$12&\")=\"&$D$7&\" and localMonth(\"&$D$12&\") =\"&$E$7&\" and LocalDay(\"&$D$12&\")=\"&$F$7&\" and Barix(\"&$D$12&\",reference:=StartOfDay)=\"&A66&\"\", \"Bar\", \"\", \"Close\",\"5\",\"0\",\"\",,,\"False\",\"T\",\"EveryTick\")","v":969.25},-5.1321529381575569E-3,{"$f":"RTD(\"cqg.rtd\",,\"StudyData\", \"Close(\"&$D$12&\") when LocalYear(\"&$D$12&\")=\"&$D$8&\" and localMonth(\"&$D$12&\") =\"&$E$8&\" and LocalDay(\"&$D$12&\")=\"&$F$8&\" and Barix(\"&$D$12&\",reference:=StartOfDay)=\"&A66&\"\", \"Bar\", \"\", \"Close\",\"5\",\"0\",\"\",,,\"False\",\"T\",\"EveryTick\")","v":974.25},-2.0115665074176513E-2,{"$f":"RTD(\"cqg.rtd\",,\"StudyData\", \"Close(\"&$D$12&\") when LocalYear(\"&$D$12&\")=\"&$D$9&\" and localMonth(\"&$D$12&\") =\"&$E$9&\" and LocalDay(\"&$D$12&\")=\"&$F$9&\" and Barix(\"&$D$12&\",reference:=StartOfDay)=\"&A66&\"\", \"Bar\", \"\", \"Close\",\"5\",\"0\",\"\",,,\"False\",\"T\",\"EveryTick\")","v":994.25},-6.9912609238451939E-3,{"$f":"RTD(\"cqg.rtd\",,\"StudyData\", \"Close(\"&$D$12&\") when LocalYear(\"&$D$12&\")=\"&$D$10&\" and localMonth(\"&$D$12&\") =\"&$E$10&\" and LocalDay(\"&$D$12&\")=\"&$F$10&\" and Barix(\"&$D$12&\",reference:=StartOfDay)=\"&A66&\"\", \"Bar\", \"\", \"Close\",\"5\",\"0\",\"\",,,\"False\",\"T\",\"EveryTick\")","v":1001.25},-4.991265285749938E-4,null,null,null,""]
[{"$f":"A66+1","v":210},{"$f":"B66+0.00347222222222227","v":"13:15:00"},-11,{"$f":" RTD(\"cqg.rtd\",,\"StudyData\", $D$12,  \"Tick\", \"FlatTicks=0\", \"Tick\",\"D\",C67,\"PrimaryOnly\")","v":904.5},null,null,null,{"$f":"RTD(\"cqg.rtd\",,\"StudyData\", \"Close(\"&$D$12&\") when LocalYear(\"&$D$12&\")=\"&$D$1&\" and localMonth(\"&$D$12&\") =\"&$E$1&\" and LocalDay(\"&$D$12&\")=\"&$F$1&\" and Barix(\"&$D$12&\",reference:=StartOfDay)=\"&A67&\"\", \"Bar\", \"\", \"Close\",\"5\",\"0\",\"\",,,\"False\",\"T\",\"EveryTick\")","v":""},{"$error":"#N/A"},{"$f":"RTD(\"cqg.rtd\",,\"StudyData\", \"Close(\"&$D$12&\") when LocalYear(\"&$D$12&\")=\"&$D$2&\" and localMonth(\"&$D$12&\") =\"&$E$2&\" and LocalDay(\"&$D$12&\")=\"&$F$2&\" and Barix(\"&$D$12&\",reference:=StartOfDay)=\"&A67&\"\", \"Bar\", \"\", \"Close\",\"5\",\"0\",\"\",,,\"False\",\"T\",\"EveryTick\")","v":904.25},-2.480452952278242E-2,{"$f":"RTD(\"cqg.rtd\",,\"StudyData\", \"Close(\"&$D$12&\") when LocalYear(\"&$D$12&\")=\"&$D$3&\" and localMonth(\"&$D$12&\") =\"&$E$3&\" and LocalDay(\"&$D$12&\")=\"&$F$3&\" and Barix(\"&$D$12&\",reference:=StartOfDay)=\"&A67&\"\", \"Bar\", \"\", \"Close\",\"5\",\"0\",\"\",,,\"False\",\"T\",\"EveryTick\")","v":926.25},-1.0416666666666666E-2,{"$f":"RTD(\"cqg.rtd\",,\"StudyData\", \"Close(\"&$D$12&\") when LocalYear(\"&$D$12&\")=\"&$D$4&\" and localMonth(\"&$D$12&\") =\"&$E$4&\" and LocalDay(\"&$D$12&\")=\"&$F$4&\" and Barix(\"&$D$12&\",reference:=StartOfDay)=\"&A67&\"\", \"Bar\", \"\", \"Close\",\"5\",\"0\",\"\",,,\"False\",\"T\",\"EveryTick\")","v":936.25},-1.8605870020964362E-2,{"$f":"RTD(\"cqg.rtd\",,\"StudyData\", \"Close(\"&$D$12&\") when LocalYear(\"&$D$12&\")=\"&$D$5&\" and localMonth(\"&$D$12&\") =\"&$E$5&\" and LocalDay(\"&$D$12&\")=\"&$F$5&\" and Barix(\"&$D$12&\",reference:=StartOfDay)=\"&A67&\"\", \"Bar\", \"\", \"Close\",\"5\",\"0\",\"\",,,\"False\",\"T\",\"EveryTick\")","v":954},2.6212319790301441E-4,{"$f":"RTD(\"cqg.rtd\",,\"StudyData\", \"Close(\"&$D$12&\") when LocalYear(\"&$D$12&\")=\"&$D$6&\" and localMonth(\"&$D$12&\") =\"&$E$6&\" and LocalDay(\"&$D$12&\")=\"&$F$6&\" and Barix(\"&$D$12&\",reference:=StartOfDay)=\"&A67&\"\", \"Bar\", \"\", \"Close\",\"5\",\"0\",\"\",,,\"False\",\"T\",\"EveryTick\")","v":953.5},-1.6249677585762186E-2,{"$f":"RTD(\"cqg.rtd\",,\"StudyData\", \"Close(\"&$D$12&\") when LocalYear(\"&$D$12&\")=\"&$D$7&\" and localMonth(\"&$D$12&\") =\"&$E$7&\" and LocalDay(\"&$D$12&\")=\"&$F$7&\" and Barix(\"&$D$12&\",reference:=StartOfDay)=\"&A67&\"\", \"Bar\", \"\", \"Close\",\"5\",\"0\",\"\",,,\"False\",\"T\",\"EveryTick\")","v":969.25},-5.1321529381575569E-3,{"$f":"RTD(\"cqg.rtd\",,\"StudyData\", \"Close(\"&$D$12&\") when LocalYear(\"&$D$12&\")=\"&$D$8&\" and localMonth(\"&$D$12&\") =\"&$E$8&\" and LocalDay(\"&$D$12&\")=\"&$F$8&\" and Barix(\"&$D$12&\",reference:=StartOfDay)=\"&A67&\"\", \"Bar\", \"\", \"Close\",\"5\",\"0\",\"\",,,\"False\",\"T\",\"EveryTick\")","v":973.75},-2.0618556701030927E-2,{"$f":"RTD(\"cqg.rtd\",,\"StudyData\", \"Close(\"&$D$12&\") when LocalYear(\"&$D$12&\")=\"&$D$9&\" and localMonth(\"&$D$12&\") =\"&$E$9&\" and LocalDay(\"&$D$12&\")=\"&$F$9&\" and Barix(\"&$D$12&\",reference:=StartOfDay)=\"&A67&\"\", \"Bar\", \"\", \"Close\",\"5\",\"0\",\"\",,,\"False\",\"T\",\"EveryTick\")","v":994.75},-6.4918851435705367E-3,{"$f":"RTD(\"cqg.rtd\",,\"StudyData\", \"Close(\"&$D$12&\") when LocalYear(\"&$D$12&\")=\"&$D$10&\" and localMonth(\"&$D$12&\") =\"&$E$10&\" and LocalDay(\"&$D$12&\")=\"&$F$10&\" and Barix(\"&$D$12&\",reference:=StartOfDay)=\"&A67&\"\", \"Bar\", \"\", \"Close\",\"5\",\"0\",\"\",,,\"False\",\"T\",\"EveryTick\")","v":1001.5},-2.495632642874969E-4,null,null,null,{"$f":"IF(AND(H66<>\"\",H67<>\"\",H68=\"\"),A67,\"\")","v":""}]
[null,null,-10,{"$f":" RTD(\"cqg.rtd\",,\"StudyData\", $D$12,  \"Tick\", \"FlatTicks=0\", \"Tick\",\"D\",C68,\"PrimaryOnly\")","v":904.25}]
[null,null,-9,{"$f":" RTD(\"cqg.rtd\",,\"StudyData\", $D$12,  \"Tick\", \"FlatTicks=0\", \"Tick\",\"D\",C69,\"PrimaryOnly\")","v":904.5}]
[null,null,-8,{"$f":" RTD(\"cqg.rtd\",,\"StudyData\", $D$12,  \"Tick\", \"FlatTicks=0\", \"Tick\",\"D\",C70,\"PrimaryOnly\")","v":904.75}]
[null,null,-7,{"$f":" RTD(\"cqg.rtd\",,\"StudyData\", $D$12,  \"Tick\", \"FlatTicks=0\", \"Tick\",\"D\",C71,\"PrimaryOnly\")","v":905}]
[null,null,-6,{"$f":" RTD(\"cqg.rtd\",,\"StudyData\", $D$12,  \"Tick\", \"FlatTicks=0\", \"Tick\",\"D\",C72,\"PrimaryOnly\")","v":904.75}]
[null,null,-5,{"$f":" RTD(\"cqg.rtd\",,\"StudyData\", $D$12,  \"Tick\", \"FlatTicks=0\", \"Tick\",\"D\",C73,\"PrimaryOnly\")","v":905}]
[null,null,-4,{"$f":" RTD(\"cqg.rtd\",,\"StudyData\", $D$12,  \"Tick\", \"FlatTicks=0\", \"Tick\",\"D\",C74,\"PrimaryOnly\")","v":904.75}]
[null,null,-3,{"$f":" RTD(\"cqg.rtd\",,\"StudyData\", $D$12,  \"Tick\", \"FlatTicks=0\", \"Tick\",\"D\",C75,\"PrimaryOnly\")","v":905}]
[null,null,-2,{"$f":" RTD(\"cqg.rtd\",,\"StudyData\", $D$12,  \"Tick\", \"FlatTicks=0\", \"Tick\",\"D\",C76,\"PrimaryOnly\")","v":905.25}]
[null,null,-1,{"$f":" RTD(\"cqg.rtd\",,\"StudyData\", $D$12,  \"Tick\", \"FlatTicks=0\", \"Tick\",\"D\",C77,\"PrimaryOnly\")","v":905}]
[null,null,0,{"$f":" RTD(\"cqg.rtd\",,\"StudyData\", $D$12,  \"Tick\", \"FlatTicks=0\", \"Tick\",\"D\",C78,\"PrimaryOnly\")","v":904.75}]

{"sheet":"Sheet4 (3)","index":6,"n_rows":81,"n_cols":20,"rows_kept":81,"cut":false,"hidden":true,"merged":[]}
[null,{"$f":"'Sheet3 (3)'!I1","v":-2.4848150193263392E-3},{"$f":"'Sheet3 (3)'!K1","v":-1.8873011593421408E-2},null,{"$f":"'Sheet3 (3)'!M1","v":-3.472222222222222E-3},null,{"$f":"'Sheet3 (3)'!O1","v":-9.433962264150943E-3},null,{"$f":"'Sheet3 (3)'!Q1","v":3.1454783748361731E-3},null,{"$f":"'Sheet3 (3)'!S1","v":-2.5793139025019347E-4},null,{"$f":"'Sheet3 (3)'!U1","v":-7.441621760328458E-3},null,{"$f":"'Sheet3 (3)'!W1","v":1.2572290671360321E-3},null,{"$f":"'Sheet3 (3)'!Y1","v":9.9875156054931333E-4},null,{"$f":"'Sheet3 (3)'!AA1","v":0}]
[null,{"$f":"'Sheet3 (3)'!I2","v":-1.932633903920486E-3},{"$f":"'Sheet3 (3)'!K2","v":-1.9142626044756E-2},{"$f":"CORREL($B$1:B2,$C$1:C2)","v":-1.0000000000000002},{"$f":"'Sheet3 (3)'!M2","v":-3.7393162393162395E-3},{"$f":"CORREL($B$1:B2,$E$1:E2)","v":-1},{"$f":"'Sheet3 (3)'!O2","v":-9.1719077568134175E-3},{"$f":"CORREL($B$1:B2,$G$1:G2)","v":1},{"$f":"'Sheet3 (3)'!Q2","v":3.669724770642202E-3},{"$f":"CORREL($B$1:B2,$I$1:I2)","v":0.99999999999999978},{"$f":"'Sheet3 (3)'!S2","v":-1.8055197317513542E-3},{"$f":"CORREL($B$1:B2,$K$1:K2)","v":-1},{"$f":"'Sheet3 (3)'!U2","v":-6.4151911726969468E-3},{"$f":"CORREL($B$1:B2,$M$1:M2)","v":1},{"$f":"'Sheet3 (3)'!W2","v":3.7716872014080965E-3},{"$f":"CORREL($B$1:B2,$O$1:O2)","v":0.99999999999999989},{"$f":"'Sheet3 (3)'!Y2","v":1.2484394506866417E-3},{"$f":"CORREL($B$1:B2,$Q$1:Q2)","v":1},{"$f":"'Sheet3 (3)'!AA2","v":7.4868979286249059E-4},{"$f":"CORREL($B$1:B2,$S$1:S2)","v":1}]
[null,{"$f":"'Sheet3 (3)'!I3","v":-1.6565433462175593E-3},{"$f":"'Sheet3 (3)'!K3","v":-2.0221083850094364E-2},{"$f":"CORREL($B$1:B3,$C$1:C3)","v":-0.86602540378443915},{"$f":"'Sheet3 (3)'!M3","v":-2.670940170940171E-3},{"$f":"CORREL($B$1:B3,$E$1:E3)","v":0.57655666019705487},{"$f":"'Sheet3 (3)'!O3","v":-9.433962264150943E-3},{"$f":"CORREL($B$1:B3,$G$1:G3)","v":0.18898223650461357},{"$f":"'Sheet3 (3)'!Q3","v":3.669724770642202E-3},{"$f":"CORREL($B$1:B3,$I$1:I3)","v":0.94491118252306805},{"$f":"'Sheet3 (3)'!S3","v":-1.2896569512509672E-3},{"$f":"CORREL($B$1:B3,$K$1:K3)","v":-0.7857142857142857},{"$f":"'Sheet3 (3)'!U3","v":-5.6453682319733125E-3},{"$f":"CORREL($B$1:B3,$M$1:M3)","v":0.99419162560192031},{"$f":"'Sheet3 (3)'!W3","v":3.0173497611264773E-3},{"$f":"CORREL($B$1:B3,$O$1:O3)","v":0.80796218556886845},{"$f":"'Sheet3 (3)'!Y3","v":9.9875156054931333E-4},{"$f":"CORREL($B$1:B3,$Q$1:Q3)","v":0.18898223650461352},{"$f":"'Sheet3 (3)'!AA3","v":7.4868979286249059E-4},{"$f":"CORREL($B$1:B3,$S$1:S3)","v":0.94491118252306805}]
[null,{"$f":"'Sheet3 (3)'!I4","v":-1.6565433462175593E-3},{"$f":"'Sheet3 (3)'!K4","v":-1.8603397142086815E-2},{"$f":"CORREL($B$1:B4,$C$1:C4)","v":-0.35848857195857609},{"$f":"'Sheet3 (3)'!M4","v":-2.670940170940171E-3},{"$f":"CORREL($B$1:B4,$E$1:E4)","v":0.68599434057003528},{"$f":"'Sheet3 (3)'!O4","v":-9.433962264150943E-3},{"$f":"CORREL($B$1:B4,$G$1:G4)","v":-8.6232481648547242E-17},{"$f":"'Sheet3 (3)'!Q4","v":3.669724770642202E-3},{"$f":"CORREL($B$1:B4,$I$1:I4)","v":0.94280904158206336},{"$f":"'Sheet3 (3)'!S4","v":-1.8055197317513542E-3},{"$f":"CORREL($B$1:B4,$K$1:K4)","v":-0.83333333333333337},{"$f":"'Sheet3 (3)'!U4","v":-5.9019758788811903E-3},{"$f":"CORREL($B$1:B4,$M$1:M4)","v":0.9898030839149452},{"$f":"'Sheet3 (3)'!W4","v":2.0115665074176515E-3},{"$f":"CORREL($B$1:B4,$O$1:O4)","v":0.53605626741889745},{"$f":"'Sheet3 (3)'!Y4","v":1.2484394506866417E-3},{"$f":"CORREL($B$1:B4,$Q$1:Q4)","v":0.40824829046386291},{"$f":"'Sheet3 (3)'!AA4","v":7.4868979286249059E-4},{"$f":"CORREL($B$1:B4,$S$1:S4)","v":0.94280904158206347}]
[null,{"$f":"'Sheet3 (3)'!I5","v":-1.932633903920486E-3},{"$f":"'Sheet3 (3)'!K5","v":-2.0760312752763549E-2},{"$f":"CORREL($B$1:B5,$C$1:C5)","v":-0.23769134427076355},{"$f":"'Sheet3 (3)'!M5","v":-4.0064102564102561E-3},{"$f":"CORREL($B$1:B5,$E$1:E5)","v":0.53199517659893147},{"$f":"'Sheet3 (3)'!O5","v":-8.9098532494758902E-3},{"$f":"CORREL($B$1:B5,$G$1:G5)","v":-8.3039136452364279E-17},{"$f":"'Sheet3 (3)'!Q5","v":3.9318479685452159E-3},{"$f":"CORREL($B$1:B5,$I$1:I5)","v":0.74535599249993034},{"$f":"'Sheet3 (3)'!S5","v":-1.8055197317513542E-3},{"$f":"CORREL($B$1:B5,$K$1:K5)","v":-0.7827803638564369},{"$f":"'Sheet3 (3)'!U5","v":-5.6453682319733125E-3},{"$f":"CORREL($B$1:B5,$M$1:M5)","v":0.89965936508218303},{"$f":"'Sheet3 (3)'!W5","v":2.0115665074176515E-3},{"$f":"CORREL($B$1:B5,$O$1:O5)","v":0.52185357590429127},{"$f":"'Sheet3 (3)'!Y5","v":1.2484394506866417E-3},{"$f":"CORREL($B$1:B5,$Q$1:Q5)","v":0.37267799624996495},{"$f":"'Sheet3 (3)'!AA5","v":9.9825305714998759E-4},{"$f":"CORREL($B$1:B5,$S$1:S5)","v":0.80757285308724802}]
[null,{"$f":"'Sheet3 (3)'!I6","v":-1.932633903920486E-3},{"$f":"'Sheet3 (3)'!K6","v":-2.1299541655432731E-2},{"$f":"CORREL($B$1:B6,$C$1:C6)","v":-0.17870682064350765},{"$f":"'Sheet3 (3)'!M6","v":-4.2735042735042739E-3},{"$f":"CORREL($B$1:B6,$E$1:E6)","v":0.43301270189221919},{"$f":"'Sheet3 (3)'!O6","v":-9.1719077568134175E-3},{"$f":"CORREL($B$1:B6,$G$1:G6)","v":-1.0996252311286834E-16},{"$f":"'Sheet3 (3)'!Q6","v":3.9318479685452159E-3},{"$f":"CORREL($B$1:B6,$I$1:I6)","v":0.66666666666666707},{"$f":"'Sheet3 (3)'!S6","v":-2.5793139025019345E-3},{"$f":"CORREL($B$1:B6,$K$1:K6)","v":-0.60971076084969233},{"$f":"'Sheet3 (3)'!U6","v":-3.8491147036181679E-3},{"$f":"CORREL($B$1:B6,$M$1:M6)","v":0.51711223471422452},{"$f":"'Sheet3 (3)'!W6","v":1.5086748805632386E-3},{"$f":"CORREL($B$1:B6,$O$1:O6)","v":0.48112522432468807},{"$f":"'Sheet3 (3)'!Y6","v":7.4906367041198505E-4},{"$f":"CORREL($B$1:B6,$Q$1:Q6)","v":0.22360679774997899},{"$f":"'Sheet3 (3)'!AA6","v":1.4973795857249812E-3},{"$f":"CORREL($B$1:B6,$S$1:S6)","v":0.56443252103015817}]
[null,{"$f":"'Sheet3 (3)'!I7","v":-1.932633903920486E-3},{"$f":"'Sheet3 (3)'!K7","v":-2.5882987328120787E-2},{"$f":"CORREL($B$1:B7,$C$1:C7)","v":-7.1789208175425626E-2},{"$f":"'Sheet3 (3)'!M7","v":-3.205128205128205E-3},{"$f":"CORREL($B$1:B7,$E$1:E7)","v":0.42732738696715178},{"$f":"'Sheet3 (3)'!O7","v":-9.433962264150943E-3},{"$f":"CORREL($B$1:B7,$G$1:G7)","v":-7.5931916873430643E-17},{"$f":"'Sheet3 (3)'!Q7","v":4.1939711664482305E-3},{"$f":"CORREL($B$1:B7,$I$1:I7)","v":0.53181602347831081},{"$f":"'Sheet3 (3)'!S7","v":-2.5793139025019345E-3},{"$f":"CORREL($B$1:B7,$K$1:K7)","v":-0.53871661262954484},{"$f":"'Sheet3 (3)'!U7","v":-2.8226841159866563E-3},{"$f":"CORREL($B$1:B7,$M$1:M7)","v":0.35619780582827409},{"$f":"'Sheet3 (3)'!W7","v":1.760120693990445E-3},{"$f":"CORREL($B$1:B7,$O$1:O7)","v":0.47006339568147171},{"$f":"'Sheet3 (3)'!Y7","v":9.9875156054931333E-4},{"$f":"CORREL($B$1:B7,$Q$1:Q7)","v":0.22047927592204924},{"$f":"'Sheet3 (3)'!AA7","v":1.4973795857249812E-3},{"$f":"CORREL($B$1:B7,$S$1:S7)","v":0.48304589153964789}]
[null,{"$f":"'Sheet3 (3)'!I8","v":-2.7609055770292656E-3},{"$f":"'Sheet3 (3)'!K8","v":-2.4534915071447831E-2},{"$f":"CORREL($B$1:B8,$C$1:C8)","v":0.340897401903904},{"$f":"'Sheet3 (3)'!M8","v":-4.0064102564102561E-3},{"$f":"CORREL($B$1:B8,$E$1:E8)","v":0.51393766989656242},{"$f":"'Sheet3 (3)'!O8","v":-9.9580712788259959E-3},{"$f":"CORREL($B$1:B8,$G$1:G8)","v":0.58792980101761183},{"$f":"'Sheet3 (3)'!Q8","v":4.4560943643512452E-3},{"$f":"CORREL($B$1:B8,$I$1:I8)","v":-0.21056038149883305},{"$f":"'Sheet3 (3)'!S8","v":-3.3531080732525148E-3},{"$f":"CORREL($B$1:B8,$K$1:K8)","v":0.18192942507195292},{"$f":"'Sheet3 (3)'!U8","v":-2.8226841159866563E-3},{"$f":"CORREL($B$1:B8,$M$1:M8)","v":-0.20219436859599374},{"$f":"'Sheet3 (3)'!W8","v":1.2572290671360321E-3},{"$f":"CORREL($B$1:B8,$O$1:O8)","v":0.56682184263399849},{"$f":"'Sheet3 (3)'!Y8","v":2.4968789013732833E-4},{"$f":"CORREL($B$1:B8,$Q$1:Q8)","v":0.72012953537038105},{"$f":"'Sheet3 (3)'!AA8","v":1.7469428500124782E-3},{"$f":"CORREL($B$1:B8,$S$1:S8)","v":-0.13423121104280483}]
[null,{"$f":"'Sheet3 (3)'!I9","v":-2.2087244616234127E-3},{"$f":"'Sheet3 (3)'!K9","v":-2.1299541655432731E-2},{"$f":"CORREL($B$1:B9,$C$1:C9)","v":0.33944811671110658},{"$f":"'Sheet3 (3)'!M9","v":-4.2735042735042739E-3},{"$f":"CORREL($B$1:B9,$E$1:E9)","v":0.52723039622494972},{"$f":"'Sheet3 (3)'!O9","v":-1.0220125786163521E-2},{"$f":"CORREL($B$1:B9,$G$1:G9)","v":0.52198891412614157},{"$f":"'Sheet3 (3)'!Q9","v":4.4560943643512452E-3},{"$f":"CORREL($B$1:B9,$I$1:I9)","v":-0.25785531156469843},{"$f":"'Sheet3 (3)'!S9","v":-2.0634511220015478E-3},{"$f":"CORREL($B$1:B9,$K$1:K9)","v":0.18714826446314242},{"$f":"'Sheet3 (3)'!U9","v":-3.3358994098024123E-3},{"$f":"CORREL($B$1:B9,$M$1:M9)","v":-0.24095235154338232},{"$f":"'Sheet3 (3)'!W9","v":2.5144581342720644E-4},{"$f":"CORREL($B$1:B9,$O$1:O9)","v":0.54422103180321302},{"$f":"'Sheet3 (3)'!Y9","v":2.4968789013732833E-4},{"$f":"CORREL($B$1:B9,$Q$1:Q9)","v":0.66172980318071095},{"$f":"'Sheet3 (3)'!AA9","v":1.9965061142999752E-3},{"$f":"CORREL($B$1:B9,$S$1:S9)","v":-0.19539959341358598}]
[null,{"$f":"'Sheet3 (3)'!I10","v":-5.5218111540585313E-3},{"$f":"'Sheet3 (3)'!K10","v":-1.8603397142086815E-2},{"$f":"CORREL($B$1:B10,$C$1:C10)","v":-0.21286342225137617},{"$f":"'Sheet3 (3)'!M10","v":-5.341880341880342E-3},{"$f":"CORREL($B$1:B10,$E$1:E10)","v":0.767424264945053},{"$f":"'Sheet3 (3)'!O10","v":-1.4412997903563941E-2},{"$f":"CORREL($B$1:B10,$G$1:G10)","v":0.96363388804503591},{"$f":"'Sheet3 (3)'!Q10","v":1.0484927916120576E-3},{"$f":"CORREL($B$1:B10,$I$1:I10)","v":0.84034554162494413},{"$f":"'Sheet3 (3)'!S10","v":-6.448284756254836E-3},{"$f":"CORREL($B$1:B10,$K$1:K10)","v":0.85293494864635255},{"$f":"'Sheet3 (3)'!U10","v":-2.8226841159866563E-3},{"$f":"CORREL($B$1:B10,$M$1:M10)","v":-0.42578047503208161},{"$f":"'Sheet3 (3)'!W10","v":-3.2687955745536838E-3},{"$f":"CORREL($B$1:B10,$O$1:O10)","v":0.90269833054821136},{"$f":"'Sheet3 (3)'!Y10","v":-4.9937578027465666E-4},{"$f":"CORREL($B$1:B10,$Q$1:Q10)","v":0.85488884357605788},{"$f":"'Sheet3 (3)'!AA10","v":-2.7451959071624656E-3},{"$f":"CORREL($B$1:B10,$S$1:S10)","v":0.83255805588468479}]
[null,{"$f":"'Sheet3 (3)'!I11","v":-4.9696300386526783E-3},{"$f":"'Sheet3 (3)'!K11","v":-1.5368023726071718E-2},{"$f":"CORREL($B$1:B11,$C$1:C11)","v":-0.4751118114830995},{"$f":"'Sheet3 (3)'!M11","v":-7.478632478632479E-3},{"$f":"CORREL($B$1:B11,$E$1:E11)","v":0.83141580625396994},{"$f":"'Sheet3 (3)'!O11","v":-1.3364779874213837E-2},{"$f":"CORREL($B$1:B11,$G$1:G11)","v":0.97506551973718181},{"$f":"'Sheet3 (3)'!Q11","v":5.2424639580602882E-4},{"$f":"CORREL($B$1:B11,$I$1:I11)","v":0.89397690744540848},{"$f":"'Sheet3 (3)'!S11","v":-6.9641475367552231E-3},{"$f":"CORREL($B$1:B11,$K$1:K11)","v":0.90448904894279802},{"$f":"'Sheet3 (3)'!U11","v":-7.6982294072363352E-4},{"$f":"CORREL($B$1:B11,$M$1:M11)","v":-0.61957868982911246},{"$f":"'Sheet3 (3)'!W11","v":-3.5202413879808899E-3},{"$f":"CORREL($B$1:B11,$O$1:O11)","v":0.93623522942322046},{"$f":"'Sheet3 (3)'!Y11","v":1.4981273408239701E-3},{"$f":"CORREL($B$1:B11,$Q$1:Q11)","v":0.42352731551025424},{"$f":"'Sheet3 (3)'!AA11","v":-1.7469428500124782E-3},{"$f":"CORREL($B$1:B11,$S$1:S11)","v":0.87768184254138459}]
[null,{"$f":"'Sheet3 (3)'!I12","v":5.5218111540585317E-4},{"$f":"'Sheet3 (3)'!K12","v":-1.8333782690752223E-2},{"$f":"CORREL($B$1:B12,$C$1:C12)","v":-0.25255799796016065},{"$f":"'Sheet3 (3)'!M12","v":-7.2115384615384619E-3},{"$f":"CORREL($B$1:B12,$E$1:E12)","v":0.22097904827529524},{"$f":"'Sheet3 (3)'!O12","v":-1.310272536687631E-2},{"$f":"CORREL($B$1:B12,$G$1:G12)","v":0.46946399927732235},{"$f":"'Sheet3 (3)'!Q12","v":2.0969855832241153E-3},{"$f":"CORREL($B$1:B12,$I$1:I12)","v":0.53763029238026983},{"$f":"'Sheet3 (3)'!S12","v":-9.2855300490069636E-3},{"$f":"CORREL($B$1:B12,$K$1:K12)","v":0.13292298165589903},{"$f":"'Sheet3 (3)'!U12","v":-2.3094688221709007E-3},{"$f":"CORREL($B$1:B12,$M$1:M12)","v":-0.31236208814415428},{"$f":"'Sheet3 (3)'!W12","v":-3.2687955745536838E-3},{"$f":"CORREL($B$1:B12,$O$1:O12)","v":0.38632177032068321},{"$f":"'Sheet3 (3)'!Y12","v":2.4968789013732833E-4},{"$f":"CORREL($B$1:B12,$Q$1:Q12)","v":0.16672060987527618},{"$f":"'Sheet3 (3)'!AA12","v":-3.9930122285999504E-3},{"$f":"CORREL($B$1:B12,$S$1:S12)","v":0.12966002735303414}]
[null,{"$f":"'Sheet3 (3)'!I13","v":-8.2827167310877965E-4},{"$f":"'Sheet3 (3)'!K13","v":-1.6985710434079267E-2},{"$f":"CORREL($B$1:B13,$C$1:C13)","v":-0.14435634185510526},{"$f":"'Sheet3 (3)'!M13","v":-8.0128205128205121E-3},{"$f":"CORREL($B$1:B13,$E$1:E13)","v":2.4272383691263669E-2},{"$f":"'Sheet3 (3)'!O13","v":-1.4675052410901468E-2},{"$f":"CORREL($B$1:B13,$G$1:G13)","v":0.23859734704568325},{"$f":"'Sheet3 (3)'!Q13","v":5.2424639580602882E-4},{"$f":"CORREL($B$1:B13,$I$1:I13)","v":0.30330462488436338},{"$f":"'Sheet3 (3)'!S13","v":-1.0833118390508125E-2},{"$f":"CORREL($B$1:B13,$K$1:K13)","v":-6.9903793063647329E-2},{"$f":"'Sheet3 (3)'!U13","v":0},{"$f":"CORREL($B$1:B13,$M$1:M13)","v":-0.11757898765430704},{"$f":"'Sheet3 (3)'!W13","v":-4.7774704551169223E-3},{"$f":"CORREL($B$1:B13,$O$1:O13)","v":0.17382935861552792},{"$f":"'Sheet3 (3)'!Y13","v":-7.4906367041198505E-4},{"$f":"CORREL($B$1:B13,$Q$1:Q13)","v":-3.5349336937424959E-2},{"$f":"'Sheet3 (3)'!AA13","v":-1.4973795857249812E-3},{"$f":"CORREL($B$1:B13,$S$1:S13)","v":5.6215096934018743E-2}]
[null,{"$f":"'Sheet3 (3)'!I14","v":-8.2827167310877965E-4},{"$f":"'Sheet3 (3)'!K14","v":-1.1863035858722027E-2},{"$f":"CORREL($B$1:B14,$C$1:C14)","v":4.2117748662549727E-2},{"$f":"'Sheet3 (3)'!M14","v":-7.745726495726496E-3},{"$f":"CORREL($B$1:B14,$E$1:E14)","v":-8.3948722479875545E-2},{"$f":"'Sheet3 (3)'!O14","v":-1.7033542976939202E-2},{"$f":"CORREL($B$1:B14,$G$1:G14)","v":2.9492516929367094E-2},{"$f":"'Sheet3 (3)'!Q14","v":0},{"$f":"CORREL($B$1:B14,$I$1:I14)","v":0.13256205117870756},{"$f":"'Sheet3 (3)'!S14","v":-1.1348981171008512E-2},{"$f":"CORREL($B$1:B14,$K$1:K14)","v":-0.18668954076377298},{"$f":"'Sheet3 (3)'!U14","v":-2.5660764690787786E-4},{"$f":"CORREL($B$1:B14,$M$1:M14)","v":-4.7952426148810713E-3},{"$f":"'Sheet3 (3)'!W14","v":-4.7774704551169223E-3},{"$f":"CORREL($B$1:B14,$O$1:O14)","v":4.4804578125111509E-2},{"$f":"'Sheet3 (3)'!Y14","v":7.4906367041198505E-4},{"$f":"CORREL($B$1:B14,$Q$1:Q14)","v":-2.4933830310391054E-2},{"$f":"'Sheet3 (3)'!AA14","v":-1.9965061142999752E-3},{"$f":"CORREL($B$1:B14,$S$1:S14)","v":-1.6744384759090417E-2}]
[null,{"$f":"'Sheet3 (3)'!I15","v":{"$error":"#N/A"}},{"$f":"'Sheet3 (3)'!K15","v":-6.7403612833647885E-3},{"$f":"CORREL($B$1:B15,$C$1:C15)","v":{"$error":"#N/A"}},{"$f":"'Sheet3 (3)'!M15","v":-6.9444444444444441E-3},{"$f":"CORREL($B$1:B15,$E$1:E15)","v":{"$error":"#N/A"}},{"$f":"'Sheet3 (3)'!O15","v":-1.8343815513626835E-2},{"$f":"CORREL($B$1:B15,$G$1:G15)","v":{"$error":"#N/A"}},{"$f":"'Sheet3 (3)'!Q15","v":2.0969855832241153E-3},{"$f":"CORREL($B$1:B15,$I$1:I15)","v":{"$error":"#N/A"}},{"$f":"'Sheet3 (3)'!S15","v":-1.1348981171008512E-2},{"$f":"CORREL($B$1:B15,$K$1:K15)","v":{"$error":"#N/A"}},{"$f":"'Sheet3 (3)'!U15","v":-1.0264305876315114E-3},{"$f":"CORREL($B$1:B15,$M$1:M15)","v":{"$error":"#N/A"}},{"$f":"'Sheet3 (3)'!W15","v":-5.2803620819713354E-3},{"$f":"CORREL($B$1:B15,$O$1:O15)","v":{"$error":"#N/A"}},{"$f":"'Sheet3 (3)'!Y15","v":7.4906367041198505E-4},{"$f":"CORREL($B$1:B15,$Q$1:Q15)","v":{"$error":"#N/A"}},{"$f":"'Sheet3 (3)'!AA15","v":-2.7451959071624656E-3},{"$f":"CORREL($B$1:B15,$S$1:S15)","v":{"$error":"#N/A"}}]
[null,{"$f":"'Sheet3 (3)'!I16","v":{"$error":"#N/A"}},{"$f":"'Sheet3 (3)'!K16","v":-4.0442167700188731E-3},{"$f":"CORREL($B$1:B16,$C$1:C16)","v":{"$error":"#N/A"}},{"$f":"'Sheet3 (3)'!M16","v":-9.0811965811965819E-3},{"$f":"CORREL($B$1:B16,$E$1:E16)","v":{"$error":"#N/A"}},{"$f":"'Sheet3 (3)'!O16","v":-1.8081761006289308E-2},{"$f":"CORREL($B$1:B16,$G$1:G16)","v":{"$error":"#N/A"}},{"$f":"'Sheet3 (3)'!Q16","v":5.2424639580602882E-4},{"$f":"CORREL($B$1:B16,$I$1:I16)","v":{"$error":"#N/A"}},{"$f":"'Sheet3 (3)'!S16","v":-1.0059324219757545E-2},{"$f":"CORREL($B$1:B16,$K$1:K16)","v":{"$error":"#N/A"}},{"$f":"'Sheet3 (3)'!U16","v":-3.5925070567102901E-3},{"$f":"CORREL($B$1:B16,$M$1:M16)","v":{"$error":"#N/A"}},{"$f":"'Sheet3 (3)'!W16","v":-6.0346995222529546E-3},{"$f":"CORREL($B$1:B16,$O$1:O16)","v":{"$error":"#N/A"}},{"$f":"'Sheet3 (3)'!Y16","v":1.2484394506866417E-3},{"$f":"CORREL($B$1:B16,$Q$1:Q16)","v":{"$error":"#N/A"}},{"$f":"'Sheet3 (3)'!AA16","v":-2.246069378587472E-3},{"$f":"CORREL($B$1:B16,$S$1:S16)","v":{"$error":"#N/A"}}]
[null,{"$f":"'Sheet3 (3)'!I17","v":{"$error":"#N/A"}},{"$f":"'Sheet3 (3)'!K17","v":-5.1226745753572391E-3},{"$f":"CORREL($B$1:B17,$C$1:C17)","v":{"$error":"#N/A"}},{"$f":"'Sheet3 (3)'!M17","v":-1.1217948717948718E-2},{"$f":"CORREL($B$1:B17,$E$1:E17)","v":{"$error":"#N/A"}},{"$f":"'Sheet3 (3)'!O17","v":-1.59853249475891E-2},{"$f":"CORREL($B$1:B17,$G$1:G17)","v":{"$error":"#N/A"}},{"$f":"'Sheet3 (3)'!Q17","v":7.8636959370904328E-4},{"$f":"CORREL($B$1:B17,$I$1:I17)","v":{"$error":"#N/A"}},{"$f":"'Sheet3 (3)'!S17","v":-1.0575187000257931E-2},{"$f":"CORREL($B$1:B17,$K$1:K17)","v":{"$error":"#N/A"}},{"$f":"'Sheet3 (3)'!U17","v":-5.1321529381575569E-3},{"$f":"CORREL($B$1:B17,$M$1:M17)","v":{"$error":"#N/A"}},{"$f":"'Sheet3 (3)'!W17","v":-6.2861453356801607E-3},{"$f":"CORREL($B$1:B17,$O$1:O17)","v":{"$error":"#N/A"}},{"$f":"'Sheet3 (3)'!Y17","v":4.2446941323345819E-3},{"$f":"CORREL($B$1:B17,$Q$1:Q17)","v":{"$error":"#N/A"}},{"$f":"'Sheet3 (3)'!AA17","v":-2.4956326428749688E-3},{"$f":"CORREL($B$1:B17,$S$1:S17)","v":{"$error":"#N/A"}}]
[null,{"$f":"'Sheet3 (3)'!I18","v":{"$error":"#N/A"}},{"$f":"'Sheet3 (3)'!K18","v":-5.392289026691831E-4},{"$f":"CORREL($B$1:B18,$C$1:C18)","v":{"$error":"#N/A"}},{"$f":"'Sheet3 (3)'!M18","v":-1.2286324786324786E-2},{"$f":"CORREL($B$1:B18,$E$1:E18)","v":{"$error":"#N/A"}},{"$f":"'Sheet3 (3)'!O18","v":-1.7295597484276729E-2},{"$f":"CORREL($B$1:B18,$G$1:G18)","v":{"$error":"#N/A"}},{"$f":"'Sheet3 (3)'!Q18","v":1.5727391874180866E-3},{"$f":"CORREL($B$1:B18,$I$1:I18)","v":{"$error":"#N/A"}},{"$f":"'Sheet3 (3)'!S18","v":-1.0575187000257931E-2},{"$f":"CORREL($B$1:B18,$K$1:K18)","v":{"$error":"#N/A"}},{"$f":"'Sheet3 (3)'!U18","v":-5.1321529381575569E-3},{"$f":"CORREL($B$1:B18,$M$1:M18)","v":{"$error":"#N/A"}},{"$f":"'Sheet3 (3)'!W18","v":-6.5375911491073677E-3},{"$f":"CORREL($B$1:B18,$O$1:O18)","v":{"$error":"#N/A"}},{"$f":"'Sheet3 (3)'!Y18","v":3.2459425717852684E-3},{"$f":"CORREL($B$1:B18,$Q$1:Q18)","v":{"$error":"#N/A"}},{"$f":"'Sheet3 (3)'!AA18","v":-3.4938857000249564E-3},{"$f":"CORREL($B$1:B18,$S$1:S18)","v":{"$error":"#N/A"}}]
[null,{"$f":"'Sheet3 (3)'!I19","v":{"$error":"#N/A"}},{"$f":"'Sheet3 (3)'!K19","v":-1.3480722566729577E-3},{"$f":"CORREL($B$1:B19,$C$1:C19)","v":{"$error":"#N/A"}},{"$f":"'Sheet3 (3)'!M19","v":-1.0416666666666666E-2},{"$f":"CORREL($B$1:B19,$E$1:E19)","v":{"$error":"#N/A"}},{"$f":"'Sheet3 (3)'!O19","v":-1.6247379454926623E-2},{"$f":"CORREL($B$1:B19,$G$1:G19)","v":{"$error":"#N/A"}},{"$f":"'Sheet3 (3)'!Q19","v":2.6212319790301441E-4},{"$f":"CORREL($B$1:B19,$I$1:I19)","v":{"$error":"#N/A"}},{"$f":"'Sheet3 (3)'!S19","v":-1.0833118390508125E-2},{"$f":"CORREL($B$1:B19,$K$1:K19)","v":{"$error":"#N/A"}},{"$f":"'Sheet3 (3)'!U19","v":-2.3094688221709007E-3},{"$f":"CORREL($B$1:B19,$M$1:M19)","v":{"$error":"#N/A"}},{"$f":"'Sheet3 (3)'!W19","v":-6.7890369625345738E-3},{"$f":"CORREL($B$1:B19,$O$1:O19)","v":{"$error":"#N/A"}},{"$f":"'Sheet3 (3)'!Y19","v":1.7478152309612985E-3},{"$f":"CORREL($B$1:B19,$Q$1:Q19)","v":{"$error":"#N/A"}},{"$f":"'Sheet3 (3)'!AA19","v":-3.4938857000249564E-3},{"$f":"CORREL($B$1:B19,$S$1:S19)","v":{"$error":"#N/A"}}]
[null,{"$f":"'Sheet3 (3)'!I20","v":{"$error":"#N/A"}},{"$f":"'Sheet3 (3)'!K20","v":-4.0442167700188731E-3},{"$f":"CORREL($B$1:B20,$C$1:C20)","v":{"$error":"#N/A"}},{"$f":"'Sheet3 (3)'!M20","v":-1.0683760683760684E-2},{"$f":"CORREL($B$1:B20,$E$1:E20)","v":{"$error":"#N/A"}},{"$f":"'Sheet3 (3)'!O20","v":-1.6509433962264151E-2},{"$f":"CORREL($B$1:B20,$G$1:G20)","v":{"$error":"#N/A"}},{"$f":"'Sheet3 (3)'!Q20","v":-7.8636959370904328E-4},{"$f":"CORREL($B$1:B20,$I$1:I20)","v":{"$error":"#N/A"}},{"$f":"'Sheet3 (3)'!S20","v":-9.543461439257158E-3},{"$f":"CORREL($B$1:B20,$K$1:K20)","v":{"$error":"#N/A"}},{"$f":"'Sheet3 (3)'!U20","v":-1.539645881447267E-3},{"$f":"CORREL($B$1:B20,$M$1:M20)","v":{"$error":"#N/A"}},{"$f":"'Sheet3 (3)'!W20","v":-7.2919285893889869E-3},{"$f":"CORREL($B$1:B20,$O$1:O20)","v":{"$error":"#N/A"}},{"$f":"'Sheet3 (3)'!Y20","v":9.9875156054931333E-4},{"$f":"CORREL($B$1:B20,$Q$1:Q20)","v":{"$error":"#N/A"}},{"$f":"'Sheet3 (3)'!AA20","v":-2.7451959071624656E-3},{"$f":"CORREL($B$1:B20,$S$1:S20)","v":{"$error":"#N/A"}}]
[null,{"$f":"'Sheet3 (3)'!I21","v":{"$error":"#N/A"}},{"$f":"'Sheet3 (3)'!K21","v":-5.9315179293610134E-3},{"$f":"CORREL($B$1:B21,$C$1:C21)","v":{"$error":"#N/A"}},{"$f":"'Sheet3 (3)'!M21","v":-9.8824786324786321E-3},{"$f":"CORREL($B$1:B21,$E$1:E21)","v":{"$error":"#N/A"}},{"$f":"'Sheet3 (3)'!O21","v":-1.4937106918238994E-2},{"$f":"CORREL($B$1:B21,$G$1:G21)","v":{"$error":"#N/A"}},{"$f":"'Sheet3 (3)'!Q21","v":-7.8636959370904328E-4},{"$f":"CORREL($B$1:B21,$I$1:I21)","v":{"$error":"#N/A"}},{"$f":"'Sheet3 (3)'!S21","v":-9.543461439257158E-3},{"$f":"CORREL($B$1:B21,$K$1:K21)","v":{"$error":"#N/A"}},{"$f":"'Sheet3 (3)'!U21","v":-3.3358994098024123E-3},{"$f":"CORREL($B$1:B21,$M$1:M21)","v":{"$error":"#N/A"}},{"$f":"'Sheet3 (3)'!W21","v":-7.0404827759617799E-3},{"$f":"CORREL($B$1:B21,$O$1:O21)","v":{"$error":"#N/A"}},{"$f":"'Sheet3 (3)'!Y21","v":1.4981273408239701E-3},{"$f":"CORREL($B$1:B21,$Q$1:Q21)","v":{"$error":"#N/A"}},{"$f":"'Sheet3 (3)'!AA21","v":-3.2443224357374596E-3},{"$f":"CORREL($B$1:B21,$S$1:S21)","v":{"$error":"#N/A"}}]
[null,{"$f":"'Sheet3 (3)'!I22","v":{"$error":"#N/A"}},{"$f":"'Sheet3 (3)'!K22","v":-7.0099757346993802E-3},{"$f":"CORREL($B$1:B22,$C$1:C22)","v":{"$error":"#N/A"}},{"$f":"'Sheet3 (3)'!M22","v":-8.5470085470085479E-3},{"$f":"CORREL($B$1:B22,$E$1:E22)","v":{"$error":"#N/A"}},{"$f":"'Sheet3 (3)'!O22","v":-1.3626834381551363E-2},{"$f":"CORREL($B$1:B22,$G$1:G22)","v":{"$error":"#N/A"}},{"$f":"'Sheet3 (3)'!Q22","v":0},{"$f":"CORREL($B$1:B22,$I$1:I22)","v":{"$error":"#N/A"}},{"$f":"'Sheet3 (3)'!S22","v":-1.0575187000257931E-2},{"$f":"CORREL($B$1:B22,$K$1:K22)","v":{"$error":"#N/A"}},{"$f":"'Sheet3 (3)'!U22","v":-3.3358994098024123E-3},{"$f":"CORREL($B$1:B22,$M$1:M22)","v":{"$error":"#N/A"}},{"$f":"'Sheet3 (3)'!W22","v":-7.543374402816193E-3},{"$f":"CORREL($B$1:B22,$O$1:O22)","v":{"$error":"#N/A"}},{"$f":"'Sheet3 (3)'!Y22","v":-2.4968789013732833E-4},{"$f":"CORREL($B$1:B22,$Q$1:Q22)","v":{"$error":"#N/A"}},{"$f":"'Sheet3 (3)'!AA22","v":-2.9947591714499623E-3},{"$f":"CORREL($B$1:B22,$S$1:S22)","v":{"$error":"#N/A"}}]
[null,{"$f":"'Sheet3 (3)'!I23","v":{"$error":"#N/A"}},{"$f":"'Sheet3 (3)'!K23","v":-5.6619034780264225E-3},{"$f":"CORREL($B$1:B23,$C$1:C23)","v":{"$error":"#N/A"}},{"$f":"'Sheet3 (3)'!M23","v":-1.0683760683760684E-2},{"$f":"CORREL($B$1:B23,$E$1:E23)","v":{"$error":"#N/A"}},{"$f":"'Sheet3 (3)'!O23","v":-1.3888888888888888E-2},{"$f":"CORREL($B$1:B23,$G$1:G23)","v":{"$error":"#N/A"}},{"$f":"'Sheet3 (3)'!Q23","v":2.6212319790301441E-4},{"$f":"CORREL($B$1:B23,$I$1:I23)","v":{"$error":"#N/A"}},{"$f":"'Sheet3 (3)'!S23","v":-1.0833118390508125E-2},{"$f":"CORREL($B$1:B23,$K$1:K23)","v":{"$error":"#N/A"}},{"$f":"'Sheet3 (3)'!U23","v":-2.0528611752630229E-3},{"$f":"CORREL($B$1:B23,$M$1:M23)","v":{"$error":"#N/A"}},{"$f":"'Sheet3 (3)'!W23","v":-6.5375911491073677E-3},{"$f":"CORREL($B$1:B23,$O$1:O23)","v":{"$error":"#N/A"}},{"$f":"'Sheet3 (3)'!Y23","v":2.4968789013732833E-4},{"$f":"CORREL($B$1:B23,$Q$1:Q23)","v":{"$error":"#N/A"}},{"$f":"'Sheet3 (3)'!AA23","v":-3.4938857000249564E-3},{"$f":"CORREL($B$1:B23,$S$1:S23)","v":{"$error":"#N/A"}}]
[null,{"$f":"'Sheet3 (3)'!I24","v":{"$error":"#N/A"}},{"$f":"'Sheet3 (3)'!K24","v":-5.9315179293610134E-3},{"$f":"CORREL($B$1:B24,$C$1:C24)","v":{"$error":"#N/A"}},{"$f":"'Sheet3 (3)'!M24","v":-1.0683760683760684E-2},{"$f":"CORREL($B$1:B24,$E$1:E24)","v":{"$error":"#N/A"}},{"$f":"'Sheet3 (3)'!O24","v":-1.4675052410901468E-2},{"$f":"CORREL($B$1:B24,$G$1:G24)","v":{"$error":"#N/A"}},{"$f":"'Sheet3 (3)'!Q24","v":-5.2424639580602882E-4},{"$f":"CORREL($B$1:B24,$I$1:I24)","v":{"$error":"#N/A"}},{"$f":"'Sheet3 (3)'!S24","v":-1.1091049780758318E-2},{"$f":"CORREL($B$1:B24,$K$1:K24)","v":{"$error":"#N/A"}},{"$f":"'Sheet3 (3)'!U24","v":-2.0528611752630229E-3},{"$f":"CORREL($B$1:B24,$M$1:M24)","v":{"$error":"#N/A"}},{"$f":"'Sheet3 (3)'!W24","v":-7.2919285893889869E-3},{"$f":"CORREL($B$1:B24,$O$1:O24)","v":{"$error":"#N/A"}},{"$f":"'Sheet3 (3)'!Y24","v":-7.4906367041198505E-4},{"$f":"CORREL($B$1:B24,$Q$1:Q24)","v":{"$error":"#N/A"}},{"$f":"'Sheet3 (3)'!AA24","v":-3.4938857000249564E-3},{"$f":"CORREL($B$1:B24,$S$1:S24)","v":{"$error":"#N/A"}}]
[null,{"$f":"'Sheet3 (3)'!I25","v":{"$error":"#N/A"}},{"$f":"'Sheet3 (3)'!K25","v":-6.7403612833647885E-3},{"$f":"CORREL($B$1:B25,$C$1:C25)","v":{"$error":"#N/A"}},{"$f":"'Sheet3 (3)'!M25","v":-1.014957264957265E-2},{"$f":"CORREL($B$1:B25,$E$1:E25)","v":{"$error":"#N/A"}},{"$f":"'Sheet3 (3)'!O25","v":-1.2316561844863731E-2},{"$f":"CORREL($B$1:B25,$G$1:G25)","v":{"$error":"#N/A"}},{"$f":"'Sheet3 (3)'!Q25","v":2.6212319790301441E-4},{"$f":"CORREL($B$1:B25,$I$1:I25)","v":{"$error":"#N/A"}},{"$f":"'Sheet3 (3)'!S25","v":-1.1606912561258705E-2},{"$f":"CORREL($B$1:B25,$K$1:K25)","v":{"$error":"#N/A"}},{"$f":"'Sheet3 (3)'!U25","v":-3.5925070567102901E-3},{"$f":"CORREL($B$1:B25,$M$1:M25)","v":{"$error":"#N/A"}},{"$f":"'Sheet3 (3)'!W25","v":-6.2861453356801607E-3},{"$f":"CORREL($B$1:B25,$O$1:O25)","v":{"$error":"#N/A"}},{"$f":"'Sheet3 (3)'!Y25","v":-7.4906367041198505E-4},{"$f":"CORREL($B$1:B25,$Q$1:Q25)","v":{"$error":"#N/A"}},{"$f":"'Sheet3 (3)'!AA25","v":-4.2425754928874472E-3},{"$f":"CORREL($B$1:B25,$S$1:S25)","v":{"$error":"#N/A"}}]
[null,{"$f":"'Sheet3 (3)'!I26","v":{"$error":"#N/A"}},{"$f":"'Sheet3 (3)'!K26","v":-6.4707468320301968E-3},{"$f":"CORREL($B$1:B26,$C$1:C26)","v":{"$error":"#N/A"}},{"$f":"'Sheet3 (3)'!M26","v":-9.8824786324786321E-3},{"$f":"CORREL($B$1:B26,$E$1:E26)","v":{"$error":"#N/A"}},{"$f":"'Sheet3 (3)'!O26","v":-1.2316561844863731E-2},{"$f":"CORREL($B$1:B26,$G$1:G26)","v":{"$error":"#N/A"}},{"$f":"'Sheet3 (3)'!Q26","v":-5.2424639580602882E-4},{"$f":"CORREL($B$1:B26,$I$1:I26)","v":{"$error":"#N/A"}},{"$f":"'Sheet3 (3)'!S26","v":-1.2380706732009285E-2},{"$f":"CORREL($B$1:B26,$K$1:K26)","v":{"$error":"#N/A"}},{"$f":"'Sheet3 (3)'!U26","v":-4.3623299974339235E-3},{"$f":"CORREL($B$1:B26,$M$1:M26)","v":{"$error":"#N/A"}},{"$f":"'Sheet3 (3)'!W26","v":-7.0404827759617799E-3},{"$f":"CORREL($B$1:B26,$O$1:O26)","v":{"$error":"#N/A"}},{"$f":"'Sheet3 (3)'!Y26","v":-9.9875156054931333E-4},{"$f":"CORREL($B$1:B26,$Q$1:Q26)","v":{"$error":"#N/A"}},{"$f":"'Sheet3 (3)'!AA26","v":-3.7434489643124532E-3},{"$f":"CORREL($B$1:B26,$S$1:S26)","v":{"$error":"#N/A"}}]
[null,{"$f":"'Sheet3 (3)'!I27","v":{"$error":"#N/A"}},{"$f":"'Sheet3 (3)'!K27","v":-5.3922890266918308E-3},{"$f":"CORREL($B$1:B27,$C$1:C27)","v":{"$error":"#N/A"}},{"$f":"'Sheet3 (3)'!M27","v":-8.5470085470085479E-3},{"$f":"CORREL($B$1:B27,$E$1:E27)","v":{"$error":"#N/A"}},{"$f":"'Sheet3 (3)'!O27","v":-1.179245283018868E-2},{"$f":"CORREL($B$1:B27,$G$1:G27)","v":{"$error":"#N/A"}},{"$f":"'Sheet3 (3)'!Q27","v":5.2424639580602882E-4},{"$f":"CORREL($B$1:B27,$I$1:I27)","v":{"$error":"#N/A"}},{"$f":"'Sheet3 (3)'!S27","v":-1.1864843951508899E-2},{"$f":"CORREL($B$1:B27,$K$1:K27)","v":{"$error":"#N/A"}},{"$f":"'Sheet3 (3)'!U27","v":-3.8491147036181679E-3},{"$f":"CORREL($B$1:B27,$M$1:M27)","v":{"$error":"#N/A"}},{"$f":"'Sheet3 (3)'!W27","v":-7.7948202162434E-3},{"$f":"CORREL($B$1:B27,$O$1:O27)","v":{"$error":"#N/A"}},{"$f":"'Sheet3 (3)'!Y27","v":-4.9937578027465666E-4},{"$f":"CORREL($B$1:B27,$Q$1:Q27)","v":{"$error":"#N/A"}},{"$f":"'Sheet3 (3)'!AA27","v":-2.9947591714499623E-3},{"$f":"CORREL($B$1:B27,$S$1:S27)","v":{"$error":"#N/A"}}]
[null,{"$f":"'Sheet3 (3)'!I28","v":{"$error":"#N/A"}},{"$f":"'Sheet3 (3)'!K28","v":-6.4707468320301968E-3},{"$f":"CORREL($B$1:B28,$C$1:C28)","v":{"$error":"#N/A"}},{"$f":"'Sheet3 (3)'!M28","v":-9.8824786324786321E-3},{"$f":"CORREL($B$1:B28,$E$1:E28)","v":{"$error":"#N/A"}},{"$f":"'Sheet3 (3)'!O28","v":-1.2840670859538784E-2},{"$f":"CORREL($B$1:B28,$G$1:G28)","v":{"$error":"#N/A"}},{"$f":"'Sheet3 (3)'!Q28","v":-5.2424639580602882E-4},{"$f":"CORREL($B$1:B28,$I$1:I28)","v":{"$error":"#N/A"}},{"$f":"'Sheet3 (3)'!S28","v":-1.2896569512509672E-2},{"$f":"CORREL($B$1:B28,$K$1:K28)","v":{"$error":"#N/A"}},{"$f":"'Sheet3 (3)'!U28","v":-5.1321529381575569E-3},{"$f":"CORREL($B$1:B28,$M$1:M28)","v":{"$error":"#N/A"}},{"$f":"'Sheet3 (3)'!W28","v":-8.2977118430978131E-3},{"$f":"CORREL($B$1:B28,$O$1:O28)","v":{"$error":"#N/A"}},{"$f":"'Sheet3 (3)'!Y28","v":-7.4906367041198505E-4},{"$f":"CORREL($B$1:B28,$Q$1:Q28)","v":{"$error":"#N/A"}},{"$f":"'Sheet3 (3)'!AA28","v":-1.9965061142999752E-3},{"$f":"CORREL($B$1:B28,$S$1:S28)","v":{"$error":"#N/A"}}]
[null,{"$f":"'Sheet3 (3)'!I29","v":{"$error":"#N/A"}},{"$f":"'Sheet3 (3)'!K29","v":-6.4707468320301968E-3},{"$f":"CORREL($B$1:B29,$C$1:C29)","v":{"$error":"#N/A"}},{"$f":"'Sheet3 (3)'!M29","v":-8.27991452991453E-3},{"$f":"CORREL($B$1:B29,$E$1:E29)","v":{"$error":"#N/A"}},{"$f":"'Sheet3 (3)'!O29","v":-1.0744234800838574E-2},{"$f":"CORREL($B$1:B29,$G$1:G29)","v":{"$error":"#N/A"}},{"$f":"'Sheet3 (3)'!Q29","v":-5.2424639580602882E-4},{"$f":"CORREL($B$1:B29,$I$1:I29)","v":{"$error":"#N/A"}},{"$f":"'Sheet3 (3)'!S29","v":-1.3154500902759866E-2},{"$f":"CORREL($B$1:B29,$K$1:K29)","v":{"$error":"#N/A"}},{"$f":"'Sheet3 (3)'!U29","v":-4.3623299974339235E-3},{"$f":"CORREL($B$1:B29,$M$1:M29)","v":{"$error":"#N/A"}},{"$f":"'Sheet3 (3)'!W29","v":-8.2977118430978131E-3},{"$f":"CORREL($B$1:B29,$O$1:O29)","v":{"$error":"#N/A"}},{"$f":"'Sheet3 (3)'!Y29","v":-4.9937578027465666E-4},{"$f":"CORREL($B$1:B29,$Q$1:Q29)","v":{"$error":"#N/A"}},{"$f":"'Sheet3 (3)'!AA29","v":0},{"$f":"CORREL($B$1:B29,$S$1:S29)","v":{"$error":"#N/A"}}]
[null,{"$f":"'Sheet3 (3)'!I30","v":{"$error":"#N/A"}},{"$f":"'Sheet3 (3)'!K30","v":-5.1226745753572391E-3},{"$f":"CORREL($B$1:B30,$C$1:C30)","v":{"$error":"#N/A"}},{"$f":"'Sheet3 (3)'!M30","v":-8.27991452991453E-3},{"$f":"CORREL($B$1:B30,$E$1:E30)","v":{"$error":"#N/A"}},{"$f":"'Sheet3 (3)'!O30","v":-1.2578616352201259E-2},{"$f":"CORREL($B$1:B30,$G$1:G30)","v":{"$error":"#N/A"}},{"$f":"'Sheet3 (3)'!Q30","v":1.0484927916120576E-3},{"$f":"CORREL($B$1:B30,$I$1:I30)","v":{"$error":"#N/A"}},{"$f":"'Sheet3 (3)'!S30","v":-1.2896569512509672E-2},{"$f":"CORREL($B$1:B30,$K$1:K30)","v":{"$error":"#N/A"}},{"$f":"'Sheet3 (3)'!U30","v":-5.6453682319733125E-3},{"$f":"CORREL($B$1:B30,$M$1:M30)","v":{"$error":"#N/A"}},{"$f":"'Sheet3 (3)'!W30","v":-8.8006034699522253E-3},{"$f":"CORREL($B$1:B30,$O$1:O30)","v":{"$error":"#N/A"}},{"$f":"'Sheet3 (3)'!Y30","v":-1.2484394506866417E-3},{"$f":"CORREL($B$1:B30,$Q$1:Q30)","v":{"$error":"#N/A"}},{"$f":"'Sheet3 (3)'!AA30","v":0},{"$f":"CORREL($B$1:B30,$S$1:S30)","v":{"$error":"#N/A"}}]
[null,{"$f":"'Sheet3 (3)'!I31","v":{"$error":"#N/A"}},{"$f":"'Sheet3 (3)'!K31","v":-4.5834456726880557E-3},{"$f":"CORREL($B$1:B31,$C$1:C31)","v":{"$error":"#N/A"}},{"$f":"'Sheet3 (3)'!M31","v":-7.745726495726496E-3},{"$f":"CORREL($B$1:B31,$E$1:E31)","v":{"$error":"#N/A"}},{"$f":"'Sheet3 (3)'!O31","v":-1.3888888888888888E-2},{"$f":"CORREL($B$1:B31,$G$1:G31)","v":{"$error":"#N/A"}},{"$f":"'Sheet3 (3)'!Q31","v":7.8636959370904328E-4},{"$f":"CORREL($B$1:B31,$I$1:I31)","v":{"$error":"#N/A"}},{"$f":"'Sheet3 (3)'!S31","v":-1.3154500902759866E-2},{"$f":"CORREL($B$1:B31,$K$1:K31)","v":{"$error":"#N/A"}},{"$f":"'Sheet3 (3)'!U31","v":-5.3887605850654347E-3},{"$f":"CORREL($B$1:B31,$M$1:M31)","v":{"$error":"#N/A"}},{"$f":"'Sheet3 (3)'!W31","v":-9.0520492833794323E-3},{"$f":"CORREL($B$1:B31,$O$1:O31)","v":{"$error":"#N/A"}},{"$f":"'Sheet3 (3)'!Y31","v":-4.9937578027465666E-4},{"$f":"CORREL($B$1:B31,$Q$1:Q31)","v":{"$error":"#N/A"}},{"$f":"'Sheet3 (3)'!AA31","v":3.9930122285999504E-3},{"$f":"CORREL($B$1:B31,$S$1:S31)","v":{"$error":"#N/A"}}]
[null,{"$f":"'Sheet3 (3)'!I32","v":{"$error":"#N/A"}},{"$f":"'Sheet3 (3)'!K32","v":-6.4707468320301968E-3},{"$f":"CORREL($B$1:B32,$C$1:C32)","v":{"$error":"#N/A"}},{"$f":"'Sheet3 (3)'!M32","v":-6.677350427350427E-3},{"$f":"CORREL($B$1:B32,$E$1:E32)","v":{"$error":"#N/A"}},{"$f":"'Sheet3 (3)'!O32","v":-1.4675052410901468E-2},{"$f":"CORREL($B$1:B32,$G$1:G32)","v":{"$error":"#N/A"}},{"$f":"'Sheet3 (3)'!Q32","v":1.3106159895150721E-3},{"$f":"CORREL($B$1:B32,$I$1:I32)","v":{"$error":"#N/A"}},{"$f":"'Sheet3 (3)'!S32","v":-1.1864843951508899E-2},{"$f":"CORREL($B$1:B32,$K$1:K32)","v":{"$error":"#N/A"}},{"$f":"'Sheet3 (3)'!U32","v":-4.8755452912496791E-3},{"$f":"CORREL($B$1:B32,$M$1:M32)","v":{"$error":"#N/A"}},{"$f":"'Sheet3 (3)'!W32","v":-9.8063867236610515E-3},{"$f":"CORREL($B$1:B32,$O$1:O32)","v":{"$error":"#N/A"}},{"$f":"'Sheet3 (3)'!Y32","v":-1.2484394506866417E-3},{"$f":"CORREL($B$1:B32,$Q$1:Q32)","v":{"$error":"#N/A"}},{"$f":"'Sheet3 (3)'!AA32","v":1.9965061142999752E-3},{"$f":"CORREL($B$1:B32,$S$1:S32)","v":{"$error":"#N/A"}}]
[null,{"$f":"'Sheet3 (3)'!I33","v":{"$error":"#N/A"}},{"$f":"'Sheet3 (3)'!K33","v":-5.1226745753572391E-3},{"$f":"CORREL($B$1:B33,$C$1:C33)","v":{"$error":"#N/A"}},{"$f":"'Sheet3 (3)'!M33","v":-7.478632478632479E-3},{"$f":"CORREL($B$1:B33,$E$1:E33)","v":{"$error":"#N/A"}},{"$f":"'Sheet3 (3)'!O33","v":-1.3888888888888888E-2},{"$f":"CORREL($B$1:B33,$G$1:G33)","v":{"$error":"#N/A"}},{"$f":"'Sheet3 (3)'!Q33","v":1.0484927916120576E-3},{"$f":"CORREL($B$1:B33,$I$1:I33)","v":{"$error":"#N/A"}},{"$f":"'Sheet3 (3)'!S33","v":-1.1606912561258705E-2},{"$f":"CORREL($B$1:B33,$K$1:K33)","v":{"$error":"#N/A"}},{"$f":"'Sheet3 (3)'!U33","v":-7.1850141134205802E-3},{"$f":"CORREL($B$1:B33,$M$1:M33)","v":{"$error":"#N/A"}},{"$f":"'Sheet3 (3)'!W33","v":-9.8063867236610515E-3},{"$f":"CORREL($B$1:B33,$O$1:O33)","v":{"$error":"#N/A"}},{"$f":"'Sheet3 (3)'!Y33","v":-1.7478152309612985E-3},{"$f":"CORREL($B$1:B33,$Q$1:Q33)","v":{"$error":"#N/A"}},{"$f":"'Sheet3 (3)'!AA33","v":2.4956326428749688E-3},{"$f":"CORREL($B$1:B33,$S$1:S33)","v":{"$error":"#N/A"}}]
[null,{"$f":"'Sheet3 (3)'!I34","v":{"$error":"#N/A"}},{"$f":"'Sheet3 (3)'!K34","v":-7.0099757346993802E-3},{"$f":"CORREL($B$1:B34,$C$1:C34)","v":{"$error":"#N/A"}},{"$f":"'Sheet3 (3)'!M34","v":-8.0128205128205121E-3},{"$f":"CORREL($B$1:B34,$E$1:E34)","v":{"$error":"#N/A"}},{"$f":"'Sheet3 (3)'!O34","v":-1.4675052410901468E-2},{"$f":"CORREL($B$1:B34,$G$1:G34)","v":{"$error":"#N/A"}},{"$f":"'Sheet3 (3)'!Q34","v":1.0484927916120576E-3},{"$f":"CORREL($B$1:B34,$I$1:I34)","v":{"$error":"#N/A"}},{"$f":"'Sheet3 (3)'!S34","v":-1.2122775341759092E-2},{"$f":"CORREL($B$1:B34,$K$1:K34)","v":{"$error":"#N/A"}},{"$f":"'Sheet3 (3)'!U34","v":-6.9284064665127024E-3},{"$f":"CORREL($B$1:B34,$M$1:M34)","v":{"$error":"#N/A"}},{"$f":"'Sheet3 (3)'!W34","v":-1.0812169977369876E-2},{"$f":"CORREL($B$1:B34,$O$1:O34)","v":{"$error":"#N/A"}},{"$f":"'Sheet3 (3)'!Y34","v":-1.9975031210986267E-3},{"$f":"CORREL($B$1:B34,$Q$1:Q34)","v":{"$error":"#N/A"}},{"$f":"'Sheet3 (3)'!AA34","v":1.9965061142999752E-3},{"$f":"CORREL($B$1:B34,$S$1:S34)","v":{"$error":"#N/A"}}]
[null,{"$f":"'Sheet3 (3)'!I35","v":{"$error":"#N/A"}},{"$f":"'Sheet3 (3)'!K35","v":-8.6276624427069296E-3},{"$f":"CORREL($B$1:B35,$C$1:C35)","v":{"$error":"#N/A"}},{"$f":"'Sheet3 (3)'!M35","v":-7.478632478632479E-3},{"$f":"CORREL($B$1:B35,$E$1:E35)","v":{"$error":"#N/A"}},{"$f":"'Sheet3 (3)'!O35","v":-1.59853249475891E-2},{"$f":"CORREL($B$1:B35,$G$1:G35)","v":{"$error":"#N/A"}},{"$f":"'Sheet3 (3)'!Q35","v":5.2424639580602882E-4},{"$f":"CORREL($B$1:B35,$I$1:I35)","v":{"$error":"#N/A"}},{"$f":"'Sheet3 (3)'!S35","v":-1.2380706732009285E-2},{"$f":"CORREL($B$1:B35,$K$1:K35)","v":{"$error":"#N/A"}},{"$f":"'Sheet3 (3)'!U35","v":-7.9548370541442127E-3},{"$f":"CORREL($B$1:B35,$M$1:M35)","v":{"$error":"#N/A"}},{"$f":"'Sheet3 (3)'!W35","v":-1.0560724163942671E-2},{"$f":"CORREL($B$1:B35,$O$1:O35)","v":{"$error":"#N/A"}},{"$f":"'Sheet3 (3)'!Y35","v":-2.4968789013732834E-3},{"$f":"CORREL($B$1:B35,$Q$1:Q35)","v":{"$error":"#N/A"}},{"$f":"'Sheet3 (3)'!AA35","v":1.4973795857249812E-3},{"$f":"CORREL($B$1:B35,$S$1:S35)","v":{"$error":"#N/A"}}]
[null,{"$f":"'Sheet3 (3)'!I36","v":{"$error":"#N/A"}},{"$f":"'Sheet3 (3)'!K36","v":-7.0099757346993802E-3},{"$f":"CORREL($B$1:B36,$C$1:C36)","v":{"$error":"#N/A"}},{"$f":"'Sheet3 (3)'!M36","v":-8.814102564102564E-3},{"$f":"CORREL($B$1:B36,$E$1:E36)","v":{"$error":"#N/A"}},{"$f":"'Sheet3 (3)'!O36","v":-1.5461215932914047E-2},{"$f":"CORREL($B$1:B36,$G$1:G36)","v":{"$error":"#N/A"}},{"$f":"'Sheet3 (3)'!Q36","v":7.8636959370904328E-4},{"$f":"CORREL($B$1:B36,$I$1:I36)","v":{"$error":"#N/A"}},{"$f":"'Sheet3 (3)'!S36","v":-1.2380706732009285E-2},{"$f":"CORREL($B$1:B36,$K$1:K36)","v":{"$error":"#N/A"}},{"$f":"'Sheet3 (3)'!U36","v":-7.441621760328458E-3},{"$f":"CORREL($B$1:B36,$M$1:M36)","v":{"$error":"#N/A"}},{"$f":"'Sheet3 (3)'!W36","v":-1.0560724163942671E-2},{"$f":"CORREL($B$1:B36,$O$1:O36)","v":{"$error":"#N/A"}},{"$f":"'Sheet3 (3)'!Y36","v":-2.4968789013732834E-3},{"$f":"CORREL($B$1:B36,$Q$1:Q36)","v":{"$error":"#N/A"}},{"$f":"'Sheet3 (3)'!AA36","v":7.4868979286249059E-4},{"$f":"CORREL($B$1:B36,$S$1:S36)","v":{"$error":"#N/A"}}]
[null,{"$f":"'Sheet3 (3)'!I37","v":{"$error":"#N/A"}},{"$f":"'Sheet3 (3)'!K37","v":-8.8972768940415205E-3},{"$f":"CORREL($B$1:B37,$C$1:C37)","v":{"$error":"#N/A"}},{"$f":"'Sheet3 (3)'!M37","v":-8.814102564102564E-3},{"$f":"CORREL($B$1:B37,$E$1:E37)","v":{"$error":"#N/A"}},{"$f":"'Sheet3 (3)'!O37","v":-1.5723270440251572E-2},{"$f":"CORREL($B$1:B37,$G$1:G37)","v":{"$error":"#N/A"}},{"$f":"'Sheet3 (3)'!Q37","v":5.2424639580602882E-4},{"$f":"CORREL($B$1:B37,$I$1:I37)","v":{"$error":"#N/A"}},{"$f":"'Sheet3 (3)'!S37","v":-1.1348981171008512E-2},{"$f":"CORREL($B$1:B37,$K$1:K37)","v":{"$error":"#N/A"}},{"$f":"'Sheet3 (3)'!U37","v":-6.9284064665127024E-3},{"$f":"CORREL($B$1:B37,$M$1:M37)","v":{"$error":"#N/A"}},{"$f":"'Sheet3 (3)'!W37","v":-1.1063615790797083E-2},{"$f":"CORREL($B$1:B37,$O$1:O37)","v":{"$error":"#N/A"}},{"$f":"'Sheet3 (3)'!Y37","v":-1.9975031210986267E-3},{"$f":"CORREL($B$1:B37,$Q$1:Q37)","v":{"$error":"#N/A"}},{"$f":"'Sheet3 (3)'!AA37","v":4.991265285749938E-4},{"$f":"CORREL($B$1:B37,$S$1:S37)","v":{"$error":"#N/A"}}]
[null,{"$f":"'Sheet3 (3)'!I38","v":{"$error":"#N/A"}},{"$f":"'Sheet3 (3)'!K38","v":-9.7061202480452947E-3},{"$f":"CORREL($B$1:B38,$C$1:C38)","v":{"$error":"#N/A"}},{"$f":"'Sheet3 (3)'!M38","v":-4.807692307692308E-3},{"$f":"CORREL($B$1:B38,$E$1:E38)","v":{"$error":"#N/A"}},{"$f":"'Sheet3 (3)'!O38","v":-1.6247379454926623E-2},{"$f":"CORREL($B$1:B38,$G$1:G38)","v":{"$error":"#N/A"}},{"$f":"'Sheet3 (3)'!Q38","v":1.5727391874180866E-3},{"$f":"CORREL($B$1:B38,$I$1:I38)","v":{"$error":"#N/A"}},{"$f":"'Sheet3 (3)'!S38","v":-1.2122775341759092E-2},{"$f":"CORREL($B$1:B38,$K$1:K38)","v":{"$error":"#N/A"}},{"$f":"'Sheet3 (3)'!U38","v":-5.1321529381575569E-3},{"$f":"CORREL($B$1:B38,$M$1:M38)","v":{"$error":"#N/A"}},{"$f":"'Sheet3 (3)'!W38","v":-1.1063615790797083E-2},{"$f":"CORREL($B$1:B38,$O$1:O38)","v":{"$error":"#N/A"}},{"$f":"'Sheet3 (3)'!Y38","v":-2.9962546816479402E-3},{"$f":"CORREL($B$1:B38,$Q$1:Q38)","v":{"$error":"#N/A"}},{"$f":"'Sheet3 (3)'!AA38","v":0},{"$f":"CORREL($B$1:B38,$S$1:S38)","v":{"$error":"#N/A"}}]
[null,{"$f":"'Sheet3 (3)'!I39","v":{"$error":"#N/A"}},{"$f":"'Sheet3 (3)'!K39","v":-1.1593421407387436E-2},{"$f":"CORREL($B$1:B39,$C$1:C39)","v":{"$error":"#N/A"}},{"$f":"'Sheet3 (3)'!M39","v":-2.403846153846154E-3},{"$f":"CORREL($B$1:B39,$E$1:E39)","v":{"$error":"#N/A"}},{"$f":"'Sheet3 (3)'!O39","v":-1.4937106918238994E-2},{"$f":"CORREL($B$1:B39,$G$1:G39)","v":{"$error":"#N/A"}},{"$f":"'Sheet3 (3)'!Q39","v":2.6212319790301442E-3},{"$f":"CORREL($B$1:B39,$I$1:I39)","v":{"$error":"#N/A"}},{"$f":"'Sheet3 (3)'!S39","v":-1.2896569512509672E-2},{"$f":"CORREL($B$1:B39,$K$1:K39)","v":{"$error":"#N/A"}},{"$f":"'Sheet3 (3)'!U39","v":-3.3358994098024123E-3},{"$f":"CORREL($B$1:B39,$M$1:M39)","v":{"$error":"#N/A"}},{"$f":"'Sheet3 (3)'!W39","v":-1.1817953231078702E-2},{"$f":"CORREL($B$1:B39,$O$1:O39)","v":{"$error":"#N/A"}},{"$f":"'Sheet3 (3)'!Y39","v":-2.9962546816479402E-3},{"$f":"CORREL($B$1:B39,$Q$1:Q39)","v":{"$error":"#N/A"}},{"$f":"'Sheet3 (3)'!AA39","v":1.4973795857249812E-3},{"$f":"CORREL($B$1:B39,$S$1:S39)","v":{"$error":"#N/A"}}]
[null,{"$f":"'Sheet3 (3)'!I40","v":{"$error":"#N/A"}},{"$f":"'Sheet3 (3)'!K40","v":-8.6276624427069296E-3},{"$f":"CORREL($B$1:B40,$C$1:C40)","v":{"$error":"#N/A"}},{"$f":"'Sheet3 (3)'!M40","v":-2.670940170940171E-3},{"$f":"CORREL($B$1:B40,$E$1:E40)","v":{"$error":"#N/A"}},{"$f":"'Sheet3 (3)'!O40","v":-1.3626834381551363E-2},{"$f":"CORREL($B$1:B40,$G$1:G40)","v":{"$error":"#N/A"}},{"$f":"'Sheet3 (3)'!Q40","v":8.1258191349934464E-3},{"$f":"CORREL($B$1:B40,$I$1:I40)","v":{"$error":"#N/A"}},{"$f":"'Sheet3 (3)'!S40","v":-1.3412432293010059E-2},{"$f":"CORREL($B$1:B40,$K$1:K40)","v":{"$error":"#N/A"}},{"$f":"'Sheet3 (3)'!U40","v":-4.3623299974339235E-3},{"$f":"CORREL($B$1:B40,$M$1:M40)","v":{"$error":"#N/A"}},{"$f":"'Sheet3 (3)'!W40","v":-1.1063615790797083E-2},{"$f":"CORREL($B$1:B40,$O$1:O40)","v":{"$error":"#N/A"}},{"$f":"'Sheet3 (3)'!Y40","v":-3.2459425717852684E-3},{"$f":"CORREL($B$1:B40,$Q$1:Q40)","v":{"$error":"#N/A"}},{"$f":"'Sheet3 (3)'!AA40","v":1.9965061142999752E-3},{"$f":"CORREL($B$1:B40,$S$1:S40)","v":{"$error":"#N/A"}}]
[null,{"$f":"'Sheet3 (3)'!I41","v":{"$error":"#N/A"}},{"$f":"'Sheet3 (3)'!K41","v":-9.7061202480452947E-3},{"$f":"CORREL($B$1:B41,$C$1:C41)","v":{"$error":"#N/A"}},{"$f":"'Sheet3 (3)'!M41","v":-2.670940170940171E-3},{"$f":"CORREL($B$1:B41,$E$1:E41)","v":{"$error":"#N/A"}},{"$f":"'Sheet3 (3)'!O41","v":-1.3364779874213837E-2},{"$f":"CORREL($B$1:B41,$G$1:G41)","v":{"$error":"#N/A"}},{"$f":"'Sheet3 (3)'!Q41","v":4.9803407601572737E-3},{"$f":"CORREL($B$1:B41,$I$1:I41)","v":{"$error":"#N/A"}},{"$f":"'Sheet3 (3)'!S41","v":-1.3928295073510446E-2},{"$f":"CORREL($B$1:B41,$K$1:K41)","v":{"$error":"#N/A"}},{"$f":"'Sheet3 (3)'!U41","v":-4.6189376443418013E-3},{"$f":"CORREL($B$1:B41,$M$1:M41)","v":{"$error":"#N/A"}},{"$f":"'Sheet3 (3)'!W41","v":-1.131506160422429E-2},{"$f":"CORREL($B$1:B41,$O$1:O41)","v":{"$error":"#N/A"}},{"$f":"'Sheet3 (3)'!Y41","v":-3.495630461922597E-3},{"$f":"CORREL($B$1:B41,$Q$1:Q41)","v":{"$error":"#N/A"}},{"$f":"'Sheet3 (3)'!AA41","v":1.7469428500124782E-3},{"$f":"CORREL($B$1:B41,$S$1:S41)","v":{"$error":"#N/A"}}]
[null,{"$f":"'Sheet3 (3)'!I42","v":{"$error":"#N/A"}},{"$f":"'Sheet3 (3)'!K42","v":-1.2671879212725803E-2},{"$f":"CORREL($B$1:B42,$C$1:C42)","v":{"$error":"#N/A"}},{"$f":"'Sheet3 (3)'!M42","v":-3.472222222222222E-3},{"$f":"CORREL($B$1:B42,$E$1:E42)","v":{"$error":"#N/A"}},{"$f":"'Sheet3 (3)'!O42","v":-1.3364779874213837E-2},{"$f":"CORREL($B$1:B42,$G$1:G42)","v":{"$error":"#N/A"}},{"$f":"'Sheet3 (3)'!Q42","v":6.55307994757536E-3},{"$f":"CORREL($B$1:B42,$I$1:I42)","v":{"$error":"#N/A"}},{"$f":"'Sheet3 (3)'!S42","v":-1.2638638122259479E-2},{"$f":"CORREL($B$1:B42,$K$1:K42)","v":{"$error":"#N/A"}},{"$f":"'Sheet3 (3)'!U42","v":-6.1585835257890681E-3},{"$f":"CORREL($B$1:B42,$M$1:M42)","v":{"$error":"#N/A"}},{"$f":"'Sheet3 (3)'!W42","v":-1.1566507417651497E-2},{"$f":"CORREL($B$1:B42,$O$1:O42)","v":{"$error":"#N/A"}},{"$f":"'Sheet3 (3)'!Y42","v":-3.495630461922597E-3},{"$f":"CORREL($B$1:B42,$Q$1:Q42)","v":{"$error":"#N/A"}},{"$f":"'Sheet3 (3)'!AA42","v":1.7469428500124782E-3},{"$f":"CORREL($B$1:B42,$S$1:S42)","v":{"$error":"#N/A"}}]
[null,{"$f":"'Sheet3 (3)'!I43","v":{"$error":"#N/A"}},{"$f":"'Sheet3 (3)'!K43","v":-1.3211108115394984E-2},{"$f":"CORREL($B$1:B43,$C$1:C43)","v":{"$error":"#N/A"}},{"$f":"'Sheet3 (3)'!M43","v":-6.143162393162393E-3},{"$f":"CORREL($B$1:B43,$E$1:E43)","v":{"$error":"#N/A"}},{"$f":"'Sheet3 (3)'!O43","v":-1.3364779874213837E-2},{"$f":"CORREL($B$1:B43,$G$1:G43)","v":{"$error":"#N/A"}},{"$f":"'Sheet3 (3)'!Q43","v":8.3879423328964611E-3},{"$f":"CORREL($B$1:B43,$I$1:I43)","v":{"$error":"#N/A"}},{"$f":"'Sheet3 (3)'!S43","v":-1.2380706732009285E-2},{"$f":"CORREL($B$1:B43,$K$1:K43)","v":{"$error":"#N/A"}},{"$f":"'Sheet3 (3)'!U43","v":-5.9019758788811903E-3},{"$f":"CORREL($B$1:B43,$M$1:M43)","v":{"$error":"#N/A"}},{"$f":"'Sheet3 (3)'!W43","v":-1.1566507417651497E-2},{"$f":"CORREL($B$1:B43,$O$1:O43)","v":{"$error":"#N/A"}},{"$f":"'Sheet3 (3)'!Y43","v":-3.2459425717852684E-3},{"$f":"CORREL($B$1:B43,$Q$1:Q43)","v":{"$error":"#N/A"}},{"$f":"'Sheet3 (3)'!AA43","v":1.2478163214374844E-3},{"$f":"CORREL($B$1:B43,$S$1:S43)","v":{"$error":"#N/A"}}]
[null,{"$f":"'Sheet3 (3)'!I44","v":{"$error":"#N/A"}},{"$f":"'Sheet3 (3)'!K44","v":-1.2941493664060394E-2},{"$f":"CORREL($B$1:B44,$C$1:C44)","v":{"$error":"#N/A"}},{"$f":"'Sheet3 (3)'!M44","v":-6.677350427350427E-3},{"$f":"CORREL($B$1:B44,$E$1:E44)","v":{"$error":"#N/A"}},{"$f":"'Sheet3 (3)'!O44","v":-1.4150943396226415E-2},{"$f":"CORREL($B$1:B44,$G$1:G44)","v":{"$error":"#N/A"}},{"$f":"'Sheet3 (3)'!Q44","v":6.8152031454783747E-3},{"$f":"CORREL($B$1:B44,$I$1:I44)","v":{"$error":"#N/A"}},{"$f":"'Sheet3 (3)'!S44","v":-1.2896569512509672E-2},{"$f":"CORREL($B$1:B44,$K$1:K44)","v":{"$error":"#N/A"}},{"$f":"'Sheet3 (3)'!U44","v":-5.6453682319733125E-3},{"$f":"CORREL($B$1:B44,$M$1:M44)","v":{"$error":"#N/A"}},{"$f":"'Sheet3 (3)'!W44","v":-1.1817953231078702E-2},{"$f":"CORREL($B$1:B44,$O$1:O44)","v":{"$error":"#N/A"}},{"$f":"'Sheet3 (3)'!Y44","v":-3.495630461922597E-3},{"$f":"CORREL($B$1:B44,$Q$1:Q44)","v":{"$error":"#N/A"}},{"$f":"'Sheet3 (3)'!AA44","v":1.4973795857249812E-3},{"$f":"CORREL($B$1:B44,$S$1:S44)","v":{"$error":"#N/A"}}]
[null,{"$f":"'Sheet3 (3)'!I45","v":{"$error":"#N/A"}},{"$f":"'Sheet3 (3)'!K45","v":-1.3750337018064168E-2},{"$f":"CORREL($B$1:B45,$C$1:C45)","v":{"$error":"#N/A"}},{"$f":"'Sheet3 (3)'!M45","v":-6.41025641025641E-3},{"$f":"CORREL($B$1:B45,$E$1:E45)","v":{"$error":"#N/A"}},{"$f":"'Sheet3 (3)'!O45","v":-1.3888888888888888E-2},{"$f":"CORREL($B$1:B45,$G$1:G45)","v":{"$error":"#N/A"}},{"$f":"'Sheet3 (3)'!Q45","v":4.1939711664482305E-3},{"$f":"CORREL($B$1:B45,$I$1:I45)","v":{"$error":"#N/A"}},{"$f":"'Sheet3 (3)'!S45","v":-1.1606912561258705E-2},{"$f":"CORREL($B$1:B45,$K$1:K45)","v":{"$error":"#N/A"}},{"$f":"'Sheet3 (3)'!U45","v":-5.9019758788811903E-3},{"$f":"CORREL($B$1:B45,$M$1:M45)","v":{"$error":"#N/A"}},{"$f":"'Sheet3 (3)'!W45","v":-1.3075182298214735E-2},{"$f":"CORREL($B$1:B45,$O$1:O45)","v":{"$error":"#N/A"}},{"$f":"'Sheet3 (3)'!Y45","v":-3.9950062421972533E-3},{"$f":"CORREL($B$1:B45,$Q$1:Q45)","v":{"$error":"#N/A"}},{"$f":"'Sheet3 (3)'!AA45","v":1.4973795857249812E-3},{"$f":"CORREL($B$1:B45,$S$1:S45)","v":{"$error":"#N/A"}}]
[null,{"$f":"'Sheet3 (3)'!I46","v":{"$error":"#N/A"}},{"$f":"'Sheet3 (3)'!K46","v":-1.3750337018064168E-2},{"$f":"CORREL($B$1:B46,$C$1:C46)","v":{"$error":"#N/A"}},{"$f":"'Sheet3 (3)'!M46","v":-6.677350427350427E-3},{"$f":"CORREL($B$1:B46,$E$1:E46)","v":{"$error":"#N/A"}},{"$f":"'Sheet3 (3)'!O46","v":-1.2578616352201259E-2},{"$f":"CORREL($B$1:B46,$G$1:G46)","v":{"$error":"#N/A"}},{"$f":"'Sheet3 (3)'!Q46","v":3.669724770642202E-3},{"$f":"CORREL($B$1:B46,$I$1:I46)","v":{"$error":"#N/A"}},{"$f":"'Sheet3 (3)'!S46","v":-1.2122775341759092E-2},{"$f":"CORREL($B$1:B46,$K$1:K46)","v":{"$error":"#N/A"}},{"$f":"'Sheet3 (3)'!U46","v":-5.6453682319733125E-3},{"$f":"CORREL($B$1:B46,$M$1:M46)","v":{"$error":"#N/A"}},{"$f":"'Sheet3 (3)'!W46","v":-1.3326628111641941E-2},{"$f":"CORREL($B$1:B46,$O$1:O46)","v":{"$error":"#N/A"}},{"$f":"'Sheet3 (3)'!Y46","v":-4.4943820224719105E-3},{"$f":"CORREL($B$1:B46,$Q$1:Q46)","v":{"$error":"#N/A"}},{"$f":"'Sheet3 (3)'!AA46","v":1.2478163214374844E-3},{"$f":"CORREL($B$1:B46,$S$1:S46)","v":{"$error":"#N/A"}}]
[null,{"$f":"'Sheet3 (3)'!I47","v":{"$error":"#N/A"}},{"$f":"'Sheet3 (3)'!K47","v":-1.2671879212725803E-2},{"$f":"CORREL($B$1:B47,$C$1:C47)","v":{"$error":"#N/A"}},{"$f":"'Sheet3 (3)'!M47","v":-6.677350427350427E-3},{"$f":"CORREL($B$1:B47,$E$1:E47)","v":{"$error":"#N/A"}},{"$f":"'Sheet3 (3)'!O47","v":-1.2316561844863731E-2},{"$f":"CORREL($B$1:B47,$G$1:G47)","v":{"$error":"#N/A"}},{"$f":"'Sheet3 (3)'!Q47","v":4.9803407601572737E-3},{"$f":"CORREL($B$1:B47,$I$1:I47)","v":{"$error":"#N/A"}},{"$f":"'Sheet3 (3)'!S47","v":-1.1348981171008512E-2},{"$f":"CORREL($B$1:B47,$K$1:K47)","v":{"$error":"#N/A"}},{"$f":"'Sheet3 (3)'!U47","v":-5.1321529381575569E-3},{"$f":"CORREL($B$1:B47,$M$1:M47)","v":{"$error":"#N/A"}},{"$f":"'Sheet3 (3)'!W47","v":-1.3578073925069148E-2},{"$f":"CORREL($B$1:B47,$O$1:O47)","v":{"$error":"#N/A"}},{"$f":"'Sheet3 (3)'!Y47","v":-4.7440699126092382E-3},{"$f":"CORREL($B$1:B47,$Q$1:Q47)","v":{"$error":"#N/A"}},{"$f":"'Sheet3 (3)'!AA47","v":2.9947591714499623E-3},{"$f":"CORREL($B$1:B47,$S$1:S47)","v":{"$error":"#N/A"}}]
[null,{"$f":"'Sheet3 (3)'!I48","v":{"$error":"#N/A"}},{"$f":"'Sheet3 (3)'!K48","v":-1.1863035858722027E-2},{"$f":"CORREL($B$1:B48,$C$1:C48)","v":{"$error":"#N/A"}},{"$f":"'Sheet3 (3)'!M48","v":-8.27991452991453E-3},{"$f":"CORREL($B$1:B48,$E$1:E48)","v":{"$error":"#N/A"}},{"$f":"'Sheet3 (3)'!O48","v":-1.2840670859538784E-2},{"$f":"CORREL($B$1:B48,$G$1:G48)","v":{"$error":"#N/A"}},{"$f":"'Sheet3 (3)'!Q48","v":5.2424639580602884E-3},{"$f":"CORREL($B$1:B48,$I$1:I48)","v":{"$error":"#N/A"}},{"$f":"'Sheet3 (3)'!S48","v":-1.0317255610007738E-2},{"$f":"CORREL($B$1:B48,$K$1:K48)","v":{"$error":"#N/A"}},{"$f":"'Sheet3 (3)'!U48","v":-5.3887605850654347E-3},{"$f":"CORREL($B$1:B48,$M$1:M48)","v":{"$error":"#N/A"}},{"$f":"'Sheet3 (3)'!W48","v":-1.3578073925069148E-2},{"$f":"CORREL($B$1:B48,$O$1:O48)","v":{"$error":"#N/A"}},{"$f":"'Sheet3 (3)'!Y48","v":-4.2446941323345819E-3},{"$f":"CORREL($B$1:B48,$Q$1:Q48)","v":{"$error":"#N/A"}},{"$f":"'Sheet3 (3)'!AA48","v":3.2443224357374596E-3},{"$f":"CORREL($B$1:B48,$S$1:S48)","v":{"$error":"#N/A"}}]
[null,{"$f":"'Sheet3 (3)'!I49","v":{"$error":"#N/A"}},{"$f":"'Sheet3 (3)'!K49","v":-1.2132650310056619E-2},{"$f":"CORREL($B$1:B49,$C$1:C49)","v":{"$error":"#N/A"}},{"$f":"'Sheet3 (3)'!M49","v":-7.745726495726496E-3},{"$f":"CORREL($B$1:B49,$E$1:E49)","v":{"$error":"#N/A"}},{"$f":"'Sheet3 (3)'!O49","v":-1.2316561844863731E-2},{"$f":"CORREL($B$1:B49,$G$1:G49)","v":{"$error":"#N/A"}},{"$f":"'Sheet3 (3)'!Q49","v":6.2909567496723462E-3},{"$f":"CORREL($B$1:B49,$I$1:I49)","v":{"$error":"#N/A"}},{"$f":"'Sheet3 (3)'!S49","v":-9.8013928295073507E-3},{"$f":"CORREL($B$1:B49,$K$1:K49)","v":{"$error":"#N/A"}},{"$f":"'Sheet3 (3)'!U49","v":-5.9019758788811903E-3},{"$f":"CORREL($B$1:B49,$M$1:M49)","v":{"$error":"#N/A"}},{"$f":"'Sheet3 (3)'!W49","v":-1.5338194619059593E-2},{"$f":"CORREL($B$1:B49,$O$1:O49)","v":{"$error":"#N/A"}},{"$f":"'Sheet3 (3)'!Y49","v":-4.7440699126092382E-3},{"$f":"CORREL($B$1:B49,$Q$1:Q49)","v":{"$error":"#N/A"}},{"$f":"'Sheet3 (3)'!AA49","v":2.9947591714499623E-3},{"$f":"CORREL($B$1:B49,$S$1:S49)","v":{"$error":"#N/A"}}]
[null,{"$f":"'Sheet3 (3)'!I50","v":{"$error":"#N/A"}},{"$f":"'Sheet3 (3)'!K50","v":-1.240226476139121E-2},{"$f":"CORREL($B$1:B50,$C$1:C50)","v":{"$error":"#N/A"}},{"$f":"'Sheet3 (3)'!M50","v":-7.745726495726496E-3},{"$f":"CORREL($B$1:B50,$E$1:E50)","v":{"$error":"#N/A"}},{"$f":"'Sheet3 (3)'!O50","v":-1.4675052410901468E-2},{"$f":"CORREL($B$1:B50,$G$1:G50)","v":{"$error":"#N/A"}},{"$f":"'Sheet3 (3)'!Q50","v":6.0288335517693315E-3},{"$f":"CORREL($B$1:B50,$I$1:I50)","v":{"$error":"#N/A"}},{"$f":"'Sheet3 (3)'!S50","v":-1.0575187000257931E-2},{"$f":"CORREL($B$1:B50,$K$1:K50)","v":{"$error":"#N/A"}},{"$f":"'Sheet3 (3)'!U50","v":-5.3887605850654347E-3},{"$f":"CORREL($B$1:B50,$M$1:M50)","v":{"$error":"#N/A"}},{"$f":"'Sheet3 (3)'!W50","v":-1.5338194619059593E-2},{"$f":"CORREL($B$1:B50,$O$1:O50)","v":{"$error":"#N/A"}},{"$f":"'Sheet3 (3)'!Y50","v":-5.2434456928838954E-3},{"$f":"CORREL($B$1:B50,$Q$1:Q50)","v":{"$error":"#N/A"}},{"$f":"'Sheet3 (3)'!AA50","v":2.9947591714499623E-3},{"$f":"CORREL($B$1:B50,$S$1:S50)","v":{"$error":"#N/A"}}]
[null,{"$f":"'Sheet3 (3)'!I51","v":{"$error":"#N/A"}},{"$f":"'Sheet3 (3)'!K51","v":-1.1323806956052845E-2},{"$f":"CORREL($B$1:B51,$C$1:C51)","v":{"$error":"#N/A"}},{"$f":"'Sheet3 (3)'!M51","v":-6.41025641025641E-3},{"$f":"CORREL($B$1:B51,$E$1:E51)","v":{"$error":"#N/A"}},{"$f":"'Sheet3 (3)'!O51","v":-1.5723270440251572E-2},{"$f":"CORREL($B$1:B51,$G$1:G51)","v":{"$error":"#N/A"}},{"$f":"'Sheet3 (3)'!Q51","v":6.8152031454783747E-3},{"$f":"CORREL($B$1:B51,$I$1:I51)","v":{"$error":"#N/A"}},{"$f":"'Sheet3 (3)'!S51","v":-1.0317255610007738E-2},{"$f":"CORREL($B$1:B51,$K$1:K51)","v":{"$error":"#N/A"}},{"$f":"'Sheet3 (3)'!U51","v":-3.8491147036181679E-3},{"$f":"CORREL($B$1:B51,$M$1:M51)","v":{"$error":"#N/A"}},{"$f":"'Sheet3 (3)'!W51","v":-1.5338194619059593E-2},{"$f":"CORREL($B$1:B51,$O$1:O51)","v":{"$error":"#N/A"}},{"$f":"'Sheet3 (3)'!Y51","v":-4.4943820224719105E-3},{"$f":"CORREL($B$1:B51,$Q$1:Q51)","v":{"$error":"#N/A"}},{"$f":"'Sheet3 (3)'!AA51","v":2.9947591714499623E-3},{"$f":"CORREL($B$1:B51,$S$1:S51)","v":{"$error":"#N/A"}}]
[null,{"$f":"'Sheet3 (3)'!I52","v":{"$error":"#N/A"}},{"$f":"'Sheet3 (3)'!K52","v":-9.1668913453761113E-3},{"$f":"CORREL($B$1:B52,$C$1:C52)","v":{"$error":"#N/A"}},{"$f":"'Sheet3 (3)'!M52","v":-7.2115384615384619E-3},{"$f":"CORREL($B$1:B52,$E$1:E52)","v":{"$error":"#N/A"}},{"$f":"'Sheet3 (3)'!O52","v":-1.4675052410901468E-2},{"$f":"CORREL($B$1:B52,$G$1:G52)","v":{"$error":"#N/A"}},{"$f":"'Sheet3 (3)'!Q52","v":6.0288335517693315E-3},{"$f":"CORREL($B$1:B52,$I$1:I52)","v":{"$error":"#N/A"}},{"$f":"'Sheet3 (3)'!S52","v":-1.0833118390508125E-2},{"$f":"CORREL($B$1:B52,$K$1:K52)","v":{"$error":"#N/A"}},{"$f":"'Sheet3 (3)'!U52","v":-4.1057223505260457E-3},{"$f":"CORREL($B$1:B52,$M$1:M52)","v":{"$error":"#N/A"}},{"$f":"'Sheet3 (3)'!W52","v":-1.6343977872768419E-2},{"$f":"CORREL($B$1:B52,$O$1:O52)","v":{"$error":"#N/A"}},{"$f":"'Sheet3 (3)'!Y52","v":-4.2446941323345819E-3},{"$f":"CORREL($B$1:B52,$Q$1:Q52)","v":{"$error":"#N/A"}},{"$f":"'Sheet3 (3)'!AA52","v":2.9947591714499623E-3},{"$f":"CORREL($B$1:B52,$S$1:S52)","v":{"$error":"#N/A"}}]
[null,{"$f":"'Sheet3 (3)'!I53","v":{"$error":"#N/A"}},{"$f":"'Sheet3 (3)'!K53","v":-9.4365057967107039E-3},{"$f":"CORREL($B$1:B53,$C$1:C53)","v":{"$error":"#N/A"}},{"$f":"'Sheet3 (3)'!M53","v":-5.876068376068376E-3},{"$f":"CORREL($B$1:B53,$E$1:E53)","v":{"$error":"#N/A"}},{"$f":"'Sheet3 (3)'!O53","v":-1.4937106918238994E-2},{"$f":"CORREL($B$1:B53,$G$1:G53)","v":{"$error":"#N/A"}},{"$f":"'Sheet3 (3)'!Q53","v":4.9803407601572737E-3},{"$f":"CORREL($B$1:B53,$I$1:I53)","v":{"$error":"#N/A"}},{"$f":"'Sheet3 (3)'!S53","v":-9.543461439257158E-3},{"$f":"CORREL($B$1:B53,$K$1:K53)","v":{"$error":"#N/A"}},{"$f":"'Sheet3 (3)'!U53","v":-4.1057223505260457E-3},{"$f":"CORREL($B$1:B53,$M$1:M53)","v":{"$error":"#N/A"}},{"$f":"'Sheet3 (3)'!W53","v":-1.55896404324868E-2},{"$f":"CORREL($B$1:B53,$O$1:O53)","v":{"$error":"#N/A"}},{"$f":"'Sheet3 (3)'!Y53","v":-4.4943820224719105E-3},{"$f":"CORREL($B$1:B53,$Q$1:Q53)","v":{"$error":"#N/A"}},{"$f":"'Sheet3 (3)'!AA53","v":2.246069378587472E-3},{"$f":"CORREL($B$1:B53,$S$1:S53)","v":{"$error":"#N/A"}}]
[null,{"$f":"'Sheet3 (3)'!I54","v":{"$error":"#N/A"}},{"$f":"'Sheet3 (3)'!K54","v":-8.6276624427069296E-3},{"$f":"CORREL($B$1:B54,$C$1:C54)","v":{"$error":"#N/A"}},{"$f":"'Sheet3 (3)'!M54","v":-6.41025641025641E-3},{"$f":"CORREL($B$1:B54,$E$1:E54)","v":{"$error":"#N/A"}},{"$f":"'Sheet3 (3)'!O54","v":-1.5723270440251572E-2},{"$f":"CORREL($B$1:B54,$G$1:G54)","v":{"$error":"#N/A"}},{"$f":"'Sheet3 (3)'!Q54","v":3.1454783748361731E-3},{"$f":"CORREL($B$1:B54,$I$1:I54)","v":{"$error":"#N/A"}},{"$f":"'Sheet3 (3)'!S54","v":-9.8013928295073507E-3},{"$f":"CORREL($B$1:B54,$K$1:K54)","v":{"$error":"#N/A"}},{"$f":"'Sheet3 (3)'!U54","v":-5.3887605850654347E-3},{"$f":"CORREL($B$1:B54,$M$1:M54)","v":{"$error":"#N/A"}},{"$f":"'Sheet3 (3)'!W54","v":-1.5841086245914005E-2},{"$f":"CORREL($B$1:B54,$O$1:O54)","v":{"$error":"#N/A"}},{"$f":"'Sheet3 (3)'!Y54","v":-4.4943820224719105E-3},{"$f":"CORREL($B$1:B54,$Q$1:Q54)","v":{"$error":"#N/A"}},{"$f":"'Sheet3 (3)'!AA54","v":1.2478163214374844E-3},{"$f":"CORREL($B$1:B54,$S$1:S54)","v":{"$error":"#N/A"}}]
[null,{"$f":"'Sheet3 (3)'!I55","v":{"$error":"#N/A"}},{"$f":"'Sheet3 (3)'!K55","v":-1.1323806956052845E-2},{"$f":"CORREL($B$1:B55,$C$1:C55)","v":{"$error":"#N/A"}},{"$f":"'Sheet3 (3)'!M55","v":-7.2115384615384619E-3},{"$f":"CORREL($B$1:B55,$E$1:E55)","v":{"$error":"#N/A"}},{"$f":"'Sheet3 (3)'!O55","v":-1.59853249475891E-2},{"$f":"CORREL($B$1:B55,$G$1:G55)","v":{"$error":"#N/A"}},{"$f":"'Sheet3 (3)'!Q55","v":3.9318479685452159E-3},{"$f":"CORREL($B$1:B55,$I$1:I55)","v":{"$error":"#N/A"}},{"$f":"'Sheet3 (3)'!S55","v":-9.2855300490069636E-3},{"$f":"CORREL($B$1:B55,$K$1:K55)","v":{"$error":"#N/A"}},{"$f":"'Sheet3 (3)'!U55","v":-5.1321529381575569E-3},{"$f":"CORREL($B$1:B55,$M$1:M55)","v":{"$error":"#N/A"}},{"$f":"'Sheet3 (3)'!W55","v":-1.6343977872768419E-2},{"$f":"CORREL($B$1:B55,$O$1:O55)","v":{"$error":"#N/A"}},{"$f":"'Sheet3 (3)'!Y55","v":-5.2434456928838954E-3},{"$f":"CORREL($B$1:B55,$Q$1:Q55)","v":{"$error":"#N/A"}},{"$f":"'Sheet3 (3)'!AA55","v":9.9825305714998759E-4},{"$f":"CORREL($B$1:B55,$S$1:S55)","v":{"$error":"#N/A"}}]
[null,{"$f":"'Sheet3 (3)'!I56","v":{"$error":"#N/A"}},{"$f":"'Sheet3 (3)'!K56","v":-1.1323806956052845E-2},{"$f":"CORREL($B$1:B56,$C$1:C56)","v":{"$error":"#N/A"}},{"$f":"'Sheet3 (3)'!M56","v":-6.9444444444444441E-3},{"$f":"CORREL($B$1:B56,$E$1:E56)","v":{"$error":"#N/A"}},{"$f":"'Sheet3 (3)'!O56","v":-1.6509433962264151E-2},{"$f":"CORREL($B$1:B56,$G$1:G56)","v":{"$error":"#N/A"}},{"$f":"'Sheet3 (3)'!Q56","v":3.4076015727391874E-3},{"$f":"CORREL($B$1:B56,$I$1:I56)","v":{"$error":"#N/A"}},{"$f":"'Sheet3 (3)'!S56","v":-1.0059324219757545E-2},{"$f":"CORREL($B$1:B56,$K$1:K56)","v":{"$error":"#N/A"}},{"$f":"'Sheet3 (3)'!U56","v":-4.8755452912496791E-3},{"$f":"CORREL($B$1:B56,$M$1:M56)","v":{"$error":"#N/A"}},{"$f":"'Sheet3 (3)'!W56","v":-1.7852652753331658E-2},{"$f":"CORREL($B$1:B56,$O$1:O56)","v":{"$error":"#N/A"}},{"$f":"'Sheet3 (3)'!Y56","v":-4.9937578027465668E-3},{"$f":"CORREL($B$1:B56,$Q$1:Q56)","v":{"$error":"#N/A"}},{"$f":"'Sheet3 (3)'!AA56","v":9.9825305714998759E-4},{"$f":"CORREL($B$1:B56,$S$1:S56)","v":{"$error":"#N/A"}}]
[null,{"$f":"'Sheet3 (3)'!I57","v":{"$error":"#N/A"}},{"$f":"'Sheet3 (3)'!K57","v":-1.1863035858722027E-2},{"$f":"CORREL($B$1:B57,$C$1:C57)","v":{"$error":"#N/A"}},{"$f":"'Sheet3 (3)'!M57","v":-6.41025641025641E-3},{"$f":"CORREL($B$1:B57,$E$1:E57)","v":{"$error":"#N/A"}},{"$f":"'Sheet3 (3)'!O57","v":-1.7557651991614256E-2},{"$f":"CORREL($B$1:B57,$G$1:G57)","v":{"$error":"#N/A"}},{"$f":"'Sheet3 (3)'!Q57","v":3.4076015727391874E-3},{"$f":"CORREL($B$1:B57,$I$1:I57)","v":{"$error":"#N/A"}},{"$f":"'Sheet3 (3)'!S57","v":-1.1091049780758318E-2},{"$f":"CORREL($B$1:B57,$K$1:K57)","v":{"$error":"#N/A"}},{"$f":"'Sheet3 (3)'!U57","v":-4.6189376443418013E-3},{"$f":"CORREL($B$1:B57,$M$1:M57)","v":{"$error":"#N/A"}},{"$f":"'Sheet3 (3)'!W57","v":-1.5841086245914005E-2},{"$f":"CORREL($B$1:B57,$O$1:O57)","v":{"$error":"#N/A"}},{"$f":"'Sheet3 (3)'!Y57","v":-5.2434456928838954E-3},{"$f":"CORREL($B$1:B57,$Q$1:Q57)","v":{"$error":"#N/A"}},{"$f":"'Sheet3 (3)'!AA57","v":1.4973795857249812E-3},{"$f":"CORREL($B$1:B57,$S$1:S57)","v":{"$error":"#N/A"}}]
[null,{"$f":"'Sheet3 (3)'!I58","v":{"$error":"#N/A"}},{"$f":"'Sheet3 (3)'!K58","v":-1.0245349150714478E-2},{"$f":"CORREL($B$1:B58,$C$1:C58)","v":{"$error":"#N/A"}},{"$f":"'Sheet3 (3)'!M58","v":-6.41025641025641E-3},{"$f":"CORREL($B$1:B58,$E$1:E58)","v":{"$error":"#N/A"}},{"$f":"'Sheet3 (3)'!O58","v":-1.7557651991614256E-2},{"$f":"CORREL($B$1:B58,$G$1:G58)","v":{"$error":"#N/A"}},{"$f":"'Sheet3 (3)'!Q58","v":2.0969855832241153E-3},{"$f":"CORREL($B$1:B58,$I$1:I58)","v":{"$error":"#N/A"}},{"$f":"'Sheet3 (3)'!S58","v":-1.1091049780758318E-2},{"$f":"CORREL($B$1:B58,$K$1:K58)","v":{"$error":"#N/A"}},{"$f":"'Sheet3 (3)'!U58","v":-4.6189376443418013E-3},{"$f":"CORREL($B$1:B58,$M$1:M58)","v":{"$error":"#N/A"}},{"$f":"'Sheet3 (3)'!W58","v":-1.7601206939904451E-2},{"$f":"CORREL($B$1:B58,$O$1:O58)","v":{"$error":"#N/A"}},{"$f":"'Sheet3 (3)'!Y58","v":-5.4931335830212232E-3},{"$f":"CORREL($B$1:B58,$Q$1:Q58)","v":{"$error":"#N/A"}},{"$f":"'Sheet3 (3)'!AA58","v":9.9825305714998759E-4},{"$f":"CORREL($B$1:B58,$S$1:S58)","v":{"$error":"#N/A"}}]
[null,{"$f":"'Sheet3 (3)'!I59","v":{"$error":"#N/A"}},{"$f":"'Sheet3 (3)'!K59","v":-1.1054192504718252E-2},{"$f":"CORREL($B$1:B59,$C$1:C59)","v":{"$error":"#N/A"}},{"$f":"'Sheet3 (3)'!M59","v":-3.205128205128205E-3},{"$f":"CORREL($B$1:B59,$E$1:E59)","v":{"$error":"#N/A"}},{"$f":"'Sheet3 (3)'!O59","v":-1.6771488469601678E-2},{"$f":"CORREL($B$1:B59,$G$1:G59)","v":{"$error":"#N/A"}},{"$f":"'Sheet3 (3)'!Q59","v":1.5727391874180866E-3},{"$f":"CORREL($B$1:B59,$I$1:I59)","v":{"$error":"#N/A"}},{"$f":"'Sheet3 (3)'!S59","v":-1.1606912561258705E-2},{"$f":"CORREL($B$1:B59,$K$1:K59)","v":{"$error":"#N/A"}},{"$f":"'Sheet3 (3)'!U59","v":-4.3623299974339235E-3},{"$f":"CORREL($B$1:B59,$M$1:M59)","v":{"$error":"#N/A"}},{"$f":"'Sheet3 (3)'!W59","v":-1.8104098566758865E-2},{"$f":"CORREL($B$1:B59,$O$1:O59)","v":{"$error":"#N/A"}},{"$f":"'Sheet3 (3)'!Y59","v":-5.7428214731585518E-3},{"$f":"CORREL($B$1:B59,$Q$1:Q59)","v":{"$error":"#N/A"}},{"$f":"'Sheet3 (3)'!AA59","v":2.9947591714499623E-3},{"$f":"CORREL($B$1:B59,$S$1:S59)","v":{"$error":"#N/A"}}]
[null,{"$f":"'Sheet3 (3)'!I60","v":{"$error":"#N/A"}},{"$f":"'Sheet3 (3)'!K60","v":-1.1593421407387436E-2},{"$f":"CORREL($B$1:B60,$C$1:C60)","v":{"$error":"#N/A"}},{"$f":"'Sheet3 (3)'!M60","v":-4.2735042735042739E-3},{"$f":"CORREL($B$1:B60,$E$1:E60)","v":{"$error":"#N/A"}},{"$f":"'Sheet3 (3)'!O60","v":-1.4675052410901468E-2},{"$f":"CORREL($B$1:B60,$G$1:G60)","v":{"$error":"#N/A"}},{"$f":"'Sheet3 (3)'!Q60","v":2.3591087811271299E-3},{"$f":"CORREL($B$1:B60,$I$1:I60)","v":{"$error":"#N/A"}},{"$f":"'Sheet3 (3)'!S60","v":-1.1606912561258705E-2},{"$f":"CORREL($B$1:B60,$K$1:K60)","v":{"$error":"#N/A"}},{"$f":"'Sheet3 (3)'!U60","v":-4.1057223505260457E-3},{"$f":"CORREL($B$1:B60,$M$1:M60)","v":{"$error":"#N/A"}},{"$f":"'Sheet3 (3)'!W60","v":-1.8606990193613275E-2},{"$f":"CORREL($B$1:B60,$O$1:O60)","v":{"$error":"#N/A"}},{"$f":"'Sheet3 (3)'!Y60","v":-5.9925093632958804E-3},{"$f":"CORREL($B$1:B60,$Q$1:Q60)","v":{"$error":"#N/A"}},{"$f":"'Sheet3 (3)'!AA60","v":2.9947591714499623E-3},{"$f":"CORREL($B$1:B60,$S$1:S60)","v":{"$error":"#N/A"}}]
[null,{"$f":"'Sheet3 (3)'!I61","v":{"$error":"#N/A"}},{"$f":"'Sheet3 (3)'!K61","v":-1.3750337018064168E-2},{"$f":"CORREL($B$1:B61,$C$1:C61)","v":{"$error":"#N/A"}},{"$f":"'Sheet3 (3)'!M61","v":-4.0064102564102561E-3},{"$f":"CORREL($B$1:B61,$E$1:E61)","v":{"$error":"#N/A"}},{"$f":"'Sheet3 (3)'!O61","v":-1.5723270440251572E-2},{"$f":"CORREL($B$1:B61,$G$1:G61)","v":{"$error":"#N/A"}},{"$f":"'Sheet3 (3)'!Q61","v":2.8833551769331584E-3},{"$f":"CORREL($B$1:B61,$I$1:I61)","v":{"$error":"#N/A"}},{"$f":"'Sheet3 (3)'!S61","v":-1.2380706732009285E-2},{"$f":"CORREL($B$1:B61,$K$1:K61)","v":{"$error":"#N/A"}},{"$f":"'Sheet3 (3)'!U61","v":-2.8226841159866563E-3},{"$f":"CORREL($B$1:B61,$M$1:M61)","v":{"$error":"#N/A"}},{"$f":"'Sheet3 (3)'!W61","v":-2.0115665074176513E-2},{"$f":"CORREL($B$1:B61,$O$1:O61)","v":{"$error":"#N/A"}},{"$f":"'Sheet3 (3)'!Y61","v":-5.9925093632958804E-3},{"$f":"CORREL($B$1:B61,$Q$1:Q61)","v":{"$error":"#N/A"}},{"$f":"'Sheet3 (3)'!AA61","v":1.7469428500124782E-3},{"$f":"CORREL($B$1:B61,$S$1:S61)","v":{"$error":"#N/A"}}]
[null,{"$f":"'Sheet3 (3)'!I62","v":{"$error":"#N/A"}},{"$f":"'Sheet3 (3)'!K62","v":-1.59072526287409E-2},{"$f":"CORREL($B$1:B62,$C$1:C62)","v":{"$error":"#N/A"}},{"$f":"'Sheet3 (3)'!M62","v":-5.608974358974359E-3},{"$f":"CORREL($B$1:B62,$E$1:E62)","v":{"$error":"#N/A"}},{"$f":"'Sheet3 (3)'!O62","v":-1.5199161425576519E-2},{"$f":"CORREL($B$1:B62,$G$1:G62)","v":{"$error":"#N/A"}},{"$f":"'Sheet3 (3)'!Q62","v":3.1454783748361731E-3},{"$f":"CORREL($B$1:B62,$I$1:I62)","v":{"$error":"#N/A"}},{"$f":"'Sheet3 (3)'!S62","v":-1.2380706732009285E-2},{"$f":"CORREL($B$1:B62,$K$1:K62)","v":{"$error":"#N/A"}},{"$f":"'Sheet3 (3)'!U62","v":-3.0792917628945341E-3},{"$f":"CORREL($B$1:B62,$M$1:M62)","v":{"$error":"#N/A"}},{"$f":"'Sheet3 (3)'!W62","v":-2.0870002514458134E-2},{"$f":"CORREL($B$1:B62,$O$1:O62)","v":{"$error":"#N/A"}},{"$f":"'Sheet3 (3)'!Y62","v":-6.4918851435705367E-3},{"$f":"CORREL($B$1:B62,$Q$1:Q62)","v":{"$error":"#N/A"}},{"$f":"'Sheet3 (3)'!AA62","v":2.4956326428749688E-3},{"$f":"CORREL($B$1:B62,$S$1:S62)","v":{"$error":"#N/A"}}]
[null,{"$f":"'Sheet3 (3)'!I63","v":{"$error":"#N/A"}},{"$f":"'Sheet3 (3)'!K63","v":-1.7255324885413859E-2},{"$f":"CORREL($B$1:B63,$C$1:C63)","v":{"$error":"#N/A"}},{"$f":"'Sheet3 (3)'!M63","v":-5.876068376068376E-3},{"$f":"CORREL($B$1:B63,$E$1:E63)","v":{"$error":"#N/A"}},{"$f":"'Sheet3 (3)'!O63","v":-1.4412997903563941E-2},{"$f":"CORREL($B$1:B63,$G$1:G63)","v":{"$error":"#N/A"}},{"$f":"'Sheet3 (3)'!Q63","v":3.669724770642202E-3},{"$f":"CORREL($B$1:B63,$I$1:I63)","v":{"$error":"#N/A"}},{"$f":"'Sheet3 (3)'!S63","v":-1.2122775341759092E-2},{"$f":"CORREL($B$1:B63,$K$1:K63)","v":{"$error":"#N/A"}},{"$f":"'Sheet3 (3)'!U63","v":-3.8491147036181679E-3},{"$f":"CORREL($B$1:B63,$M$1:M63)","v":{"$error":"#N/A"}},{"$f":"'Sheet3 (3)'!W63","v":-2.1372894141312548E-2},{"$f":"CORREL($B$1:B63,$O$1:O63)","v":{"$error":"#N/A"}},{"$f":"'Sheet3 (3)'!Y63","v":-6.4918851435705367E-3},{"$f":"CORREL($B$1:B63,$Q$1:Q63)","v":{"$error":"#N/A"}},{"$f":"'Sheet3 (3)'!AA63","v":2.7451959071624656E-3},{"$f":"CORREL($B$1:B63,$S$1:S63)","v":{"$error":"#N/A"}}]
[null,{"$f":"'Sheet3 (3)'!I64","v":{"$error":"#N/A"}},{"$f":"'Sheet3 (3)'!K64","v":-1.9412240496090589E-2},{"$f":"CORREL($B$1:B64,$C$1:C64)","v":{"$error":"#N/A"}},{"$f":"'Sheet3 (3)'!M64","v":-8.0128205128205121E-3},{"$f":"CORREL($B$1:B64,$E$1:E64)","v":{"$error":"#N/A"}},{"$f":"'Sheet3 (3)'!O64","v":-1.8343815513626835E-2},{"$f":"CORREL($B$1:B64,$G$1:G64)","v":{"$error":"#N/A"}},{"$f":"'Sheet3 (3)'!Q64","v":2.8833551769331584E-3},{"$f":"CORREL($B$1:B64,$I$1:I64)","v":{"$error":"#N/A"}},{"$f":"'Sheet3 (3)'!S64","v":-1.2896569512509672E-2},{"$f":"CORREL($B$1:B64,$K$1:K64)","v":{"$error":"#N/A"}},{"$f":"'Sheet3 (3)'!U64","v":-5.1321529381575569E-3},{"$f":"CORREL($B$1:B64,$M$1:M64)","v":{"$error":"#N/A"}},{"$f":"'Sheet3 (3)'!W64","v":-1.684686949962283E-2},{"$f":"CORREL($B$1:B64,$O$1:O64)","v":{"$error":"#N/A"}},{"$f":"'Sheet3 (3)'!Y64","v":-5.9925093632958804E-3},{"$f":"CORREL($B$1:B64,$Q$1:Q64)","v":{"$error":"#N/A"}},{"$f":"'Sheet3 (3)'!AA64","v":3.7434489643124532E-3},{"$f":"CORREL($B$1:B64,$S$1:S64)","v":{"$error":"#N/A"}}]
[null,{"$f":"'Sheet3 (3)'!I65","v":{"$error":"#N/A"}},{"$f":"'Sheet3 (3)'!K65","v":-2.2917228363440279E-2},{"$f":"CORREL($B$1:B65,$C$1:C65)","v":{"$error":"#N/A"}},{"$f":"'Sheet3 (3)'!M65","v":-9.0811965811965819E-3},{"$f":"CORREL($B$1:B65,$E$1:E65)","v":{"$error":"#N/A"}},{"$f":"'Sheet3 (3)'!O65","v":-1.8343815513626835E-2},{"$f":"CORREL($B$1:B65,$G$1:G65)","v":{"$error":"#N/A"}},{"$f":"'Sheet3 (3)'!Q65","v":2.3591087811271299E-3},{"$f":"CORREL($B$1:B65,$I$1:I65)","v":{"$error":"#N/A"}},{"$f":"'Sheet3 (3)'!S65","v":-1.4186226463760639E-2},{"$f":"CORREL($B$1:B65,$K$1:K65)","v":{"$error":"#N/A"}},{"$f":"'Sheet3 (3)'!U65","v":-4.1057223505260457E-3},{"$f":"CORREL($B$1:B65,$M$1:M65)","v":{"$error":"#N/A"}},{"$f":"'Sheet3 (3)'!W65","v":-1.7852652753331658E-2},{"$f":"CORREL($B$1:B65,$O$1:O65)","v":{"$error":"#N/A"}},{"$f":"'Sheet3 (3)'!Y65","v":-6.9912609238451939E-3},{"$f":"CORREL($B$1:B65,$Q$1:Q65)","v":{"$error":"#N/A"}},{"$f":"'Sheet3 (3)'!AA65","v":2.246069378587472E-3},{"$f":"CORREL($B$1:B65,$S$1:S65)","v":{"$error":"#N/A"}}]
[null,{"$f":"'Sheet3 (3)'!I66","v":{"$error":"#N/A"}},{"$f":"'Sheet3 (3)'!K66","v":-2.3456457266109464E-2},{"$f":"CORREL($B$1:B66,$C$1:C66)","v":{"$error":"#N/A"}},{"$f":"'Sheet3 (3)'!M66","v":-9.348290598290598E-3},{"$f":"CORREL($B$1:B66,$E$1:E66)","v":{"$error":"#N/A"}},{"$f":"'Sheet3 (3)'!O66","v":-1.8867924528301886E-2},{"$f":"CORREL($B$1:B66,$G$1:G66)","v":{"$error":"#N/A"}},{"$f":"'Sheet3 (3)'!Q66","v":2.6212319790301441E-4},{"$f":"CORREL($B$1:B66,$I$1:I66)","v":{"$error":"#N/A"}},{"$f":"'Sheet3 (3)'!S66","v":-1.5991746195511993E-2},{"$f":"CORREL($B$1:B66,$K$1:K66)","v":{"$error":"#N/A"}},{"$f":"'Sheet3 (3)'!U66","v":-5.1321529381575569E-3},{"$f":"CORREL($B$1:B66,$M$1:M66)","v":{"$error":"#N/A"}},{"$f":"'Sheet3 (3)'!W66","v":-2.0115665074176513E-2},{"$f":"CORREL($B$1:B66,$O$1:O66)","v":{"$error":"#N/A"}},{"$f":"'Sheet3 (3)'!Y66","v":-6.9912609238451939E-3},{"$f":"CORREL($B$1:B66,$Q$1:Q66)","v":{"$error":"#N/A"}},{"$f":"'Sheet3 (3)'!AA66","v":-4.991265285749938E-4},{"$f":"CORREL($B$1:B66,$S$1:S66)","v":{"$error":"#N/A"}}]
[null,{"$f":"'Sheet3 (3)'!I67","v":{"$error":"#N/A"}},{"$f":"'Sheet3 (3)'!K67","v":-2.480452952278242E-2},{"$f":"CORREL($B$1:B67,$C$1:C67)","v":{"$error":"#N/A"}},{"$f":"'Sheet3 (3)'!M67","v":-1.0416666666666666E-2},{"$f":"CORREL($B$1:B67,$E$1:E67)","v":{"$error":"#N/A"}},{"$f":"'Sheet3 (3)'!O67","v":-1.8605870020964362E-2},{"$f":"CORREL($B$1:B67,$G$1:G67)","v":{"$error":"#N/A"}},{"$f":"'Sheet3 (3)'!Q67","v":2.6212319790301441E-4},{"$f":"CORREL($B$1:B67,$I$1:I67)","v":{"$error":"#N/A"}},{"$f":"'Sheet3 (3)'!S67","v":-1.6249677585762186E-2},{"$f":"CORREL($B$1:B67,$K$1:K67)","v":{"$error":"#N/A"}},{"$f":"'Sheet3 (3)'!U67","v":-5.1321529381575569E-3},{"$f":"CORREL($B$1:B67,$M$1:M67)","v":{"$error":"#N/A"}},{"$f":"'Sheet3 (3)'!W67","v":-2.0618556701030927E-2},{"$f":"CORREL($B$1:B67,$O$1:O67)","v":{"$error":"#N/A"}},{"$f":"'Sheet3 (3)'!Y67","v":-6.4918851435705367E-3},{"$f":"CORREL($B$1:B67,$Q$1:Q67)","v":{"$error":"#N/A"}},{"$f":"'Sheet3 (3)'!AA67","v":-2.495632642874969E-4},{"$f":"CORREL($B$1:B67,$S$1:S67)","v":{"$error":"#N/A"}}]
[]
[]
[null,null,null,{"$f":"'Sheet3 (3)'!C2","v":"2018-06-15"},null,{"$f":"'Sheet3 (3)'!C3","v":"2018-06-14"},null,{"$f":"'Sheet3 (3)'!C4","v":"2018-06-13"},null,{"$f":"'Sheet3 (3)'!C5","v":"2018-06-12"},null,{"$f":"'Sheet3 (3)'!C6","v":"2018-06-11"},null,{"$f":"'Sheet3 (3)'!C7","v":"2018-06-08"},null,{"$f":"'Sheet3 (3)'!C8","v":"2018-06-07"},null,{"$f":"'Sheet3 (3)'!C9","v":"2018-06-06"},null,{"$f":"'Sheet3 (3)'!C10","v":"2018-06-05"}]
[null,null,null,{"$f":"LOOKUP(2,1/(ISNUMBER(D1:D67)),D1:D67)","v":4.2117748662549727E-2},null,{"$f":"LOOKUP(2,1/(ISNUMBER(F1:F67)),F1:F67)","v":-8.3948722479875545E-2},null,{"$f":"LOOKUP(2,1/(ISNUMBER(H1:H67)),H1:H67)","v":2.9492516929367094E-2},null,{"$f":"LOOKUP(2,1/(ISNUMBER(J1:J67)),J1:J67)","v":0.13256205117870756},null,{"$f":"LOOKUP(2,1/(ISNUMBER(L1:L67)),L1:L67)","v":-0.18668954076377298},null,{"$f":"LOOKUP(2,1/(ISNUMBER(N1:N67)),N1:N67)","v":-4.7952426148810713E-3},null,{"$f":"LOOKUP(2,1/(ISNUMBER(P1:P67)),P1:P67)","v":4.4804578125111509E-2},null,{"$f":"LOOKUP(2,1/(ISNUMBER(R1:R67)),R1:R67)","v":-2.4933830310391054E-2},null,{"$f":"LOOKUP(2,1/(ISNUMBER(T1:T67)),T1:T67)","v":-1.6744384759090417E-2}]
[]
[null,null,{"$f":"RANK(D73,$D$73:$D$81,0)+COUNTIF($D$73:D73,D73)-1","v":3},{"$f":"D71","v":4.2117748662549727E-2},{"$f":"D70","v":"2018-06-15"},{"$f":"RANK(D73,$D$73:$D$81,0)+COUNTIF($D$73:D73,D73)-1","v":3},{"$f":"VLOOKUP(1,C73:E81,3,FALSE)","v":"2018-06-12"},{"$f":"VLOOKUP(1,C73:E81,2,FALSE)","v":0.13256205117870756},{"$f":"IFERROR(VLOOKUP(G73,'Sheet3 (3)'!AK1:AN10,4,FALSE),1)","v":4}]
[null,null,{"$f":"RANK(D74,$D$73:$D$81,0)+COUNTIF($D$73:D74,D74)-1","v":8},{"$f":"F71","v":-8.3948722479875545E-2},{"$f":"F70","v":"2018-06-14"},{"$f":"RANK(D74,$D$73:$D$81,0)+COUNTIF($D$73:D74,D74)-1","v":8},{"$f":"VLOOKUP(2,C73:E81,3,FALSE)","v":"2018-06-07"},{"$f":"VLOOKUP(2,C73:E81,2,FALSE)","v":4.4804578125111509E-2}]
[null,null,{"$f":"RANK(D75,$D$73:$D$81,0)+COUNTIF($D$73:D75,D75)-1","v":4},{"$f":"H71","v":2.9492516929367094E-2},{"$f":"H70","v":"2018-06-13"},{"$f":"RANK(D75,$D$73:$D$81,0)+COUNTIF($D$73:D75,D75)-1","v":4},{"$f":"VLOOKUP(3,C73:E81,3,FALSE)","v":"2018-06-15"},{"$f":"VLOOKUP(3,C73:E81,2,FALSE)","v":4.2117748662549727E-2}]
[null,null,{"$f":"RANK(D76,$D$73:$D$81,0)+COUNTIF($D$73:D76,D76)-1","v":1},{"$f":"J71","v":0.13256205117870756},{"$f":"J70","v":"2018-06-12"},{"$f":"RANK(D76,$D$73:$D$81,0)+COUNTIF($D$73:D76,D76)-1","v":1},{"$f":"VLOOKUP(4,C73:E81,3,FALSE)","v":"2018-06-13"},{"$f":"VLOOKUP(4,C73:E81,2,FALSE)","v":2.9492516929367094E-2}]
[null,null,{"$f":"RANK(D77,$D$73:$D$81,0)+COUNTIF($D$73:D77,D77)-1","v":9},{"$f":"L71","v":-0.18668954076377298},{"$f":"L70","v":"2018-06-11"},{"$f":"RANK(D77,$D$73:$D$81,0)+COUNTIF($D$73:D77,D77)-1","v":9},{"$f":"VLOOKUP(5,C73:E81,3,FALSE)","v":"2018-06-08"},{"$f":"VLOOKUP(5,C73:E81,2,FALSE)","v":-4.7952426148810713E-3}]
[null,null,{"$f":"RANK(D78,$D$73:$D$81,0)+COUNTIF($D$73:D78,D78)-1","v":5},{"$f":"N71","v":-4.7952426148810713E-3},{"$f":"N70","v":"2018-06-08"},{"$f":"RANK(D78,$D$73:$D$81,0)+COUNTIF($D$73:D78,D78)-1","v":5},{"$f":"VLOOKUP(6,C73:E81,3,FALSE)","v":"2018-06-05"},{"$f":"VLOOKUP(6,C73:E81,2,FALSE)","v":-1.6744384759090417E-2}]
[null,null,{"$f":"RANK(D79,$D$73:$D$81,0)+COUNTIF($D$73:D79,D79)-1","v":2},{"$f":"P71","v":4.4804578125111509E-2},{"$f":"P70","v":"2018-06-07"},{"$f":"RANK(D79,$D$73:$D$81,0)+COUNTIF($D$73:D79,D79)-1","v":2},{"$f":"VLOOKUP(7,C73:E81,3,FALSE)","v":"2018-06-06"},{"$f":"VLOOKUP(7,C73:E81,2,FALSE)","v":-2.4933830310391054E-2}]
[null,null,{"$f":"RANK(D80,$D$73:$D$81,0)+COUNTIF($D$73:D80,D80)-1","v":7},{"$f":"R71","v":-2.4933830310391054E-2},{"$f":"R70","v":"2018-06-06"},{"$f":"RANK(D80,$D$73:$D$81,0)+COUNTIF($D$73:D80,D80)-1","v":7},{"$f":"VLOOKUP(8,C73:E81,3,FALSE)","v":"2018-06-14"},{"$f":"VLOOKUP(8,C73:E81,2,FALSE)","v":-8.3948722479875545E-2}]
[null,null,{"$f":"RANK(D81,$D$73:$D$81,0)+COUNTIF($D$73:D81,D81)-1","v":6},{"$f":"T71","v":-1.6744384759090417E-2},{"$f":"T70","v":"2018-06-05"},{"$f":"RANK(D81,$D$73:$D$81,0)+COUNTIF($D$73:D81,D81)-1","v":6},{"$f":"VLOOKUP(9,C73:E81,3,FALSE)","v":"2018-06-11"},{"$f":"VLOOKUP(9,C73:E81,2,FALSE)","v":-0.18668954076377298}]

{"sheet":"Sheet3 (4)","index":7,"n_rows":78,"n_cols":40,"rows_kept":78,"cut":false,"hidden":true,"merged":[]}
[0,"08:30:00",{"$f":"IF(WEEKDAY(TODAY())=7,TODAY()-1,IF(WEEKDAY(TODAY())=1,TODAY()-2,TODAY()))","v":"2018-06-18"},{"$f":"YEAR(C1)","v":2018},{"$f":"MONTH(C1)","v":6},{"$f":"DAY(C1)","v":18},null,{"$f":"RTD(\"cqg.rtd\",,\"StudyData\", \"Close(\"&$D$12&\") when LocalYear(\"&$D$12&\")=\"&$D$1&\" and localMonth(\"&$D$12&\") =\"&$E$1&\" and LocalDay(\"&$D$12&\")=\"&$F$1&\" and Barix(\"&$D$12&\",reference:=StartOfSession)=\"&A1&\"\", \"Bar\", \"\", \"Close\",\"5\",\"0\",\"PrimaryOnly\",,,\"False\",\"T\",\"EveryTick\")","v":104.75},{"$f":"IFERROR((H1-$G$2)/$G$2,NA())","v":-2.3860653781919048E-4},{"$f":"RTD(\"cqg.rtd\",,\"StudyData\", \"Close(\"&$D$12&\") when LocalYear(\"&$D$12&\")=\"&$D$2&\" and localMonth(\"&$D$12&\") =\"&$E$2&\" and LocalDay(\"&$D$12&\")=\"&$F$2&\" and Barix(\"&$D$12&\",reference:=StartOfSession)=\"&A1&\"\", \"Bar\", \"\", \"Close\",\"5\",\"0\",\"PrimaryOnly\",,,\"False\",\"T\",\"EveryTick\")","v":100.97499999999999},{"$f":"IFERROR((J1-$G$3)/$G$3,NA())","v":-8.8343558282209141E-3},{"$f":"RTD(\"cqg.rtd\",,\"StudyData\", \"Close(\"&$D$12&\") when LocalYear(\"&$D$12&\")=\"&$D$3&\" and localMonth(\"&$D$12&\") =\"&$E$3&\" and LocalDay(\"&$D$12&\")=\"&$F$3&\" and Barix(\"&$D$12&\",reference:=StartOfSession)=\"&A1&\"\", \"Bar\", \"\", \"Close\",\"5\",\"0\",\"PrimaryOnly\",,,\"False\",\"T\",\"EveryTick\")","v":103.625},{"$f":"IFERROR((L1-$G$4)/$G$4,NA())","v":-2.6467757459095829E-3},{"$f":"RTD(\"cqg.rtd\",,\"StudyData\", \"Close(\"&$D$12&\") when LocalYear(\"&$D$12&\")=\"&$D$4&\" and localMonth(\"&$D$12&\") =\"&$E$4&\" and LocalDay(\"&$D$12&\")=\"&$F$4&\" and Barix(\"&$D$12&\",reference:=StartOfSession)=\"&A1&\"\", \"Bar\", \"\", \"Close\",\"5\",\"0\",\"PrimaryOnly\",,,\"False\",\"T\",\"EveryTick\")","v":104.25},{"$f":"IFERROR((N1-$G$5)/$G$5,NA())","v":-4.7938638542662664E-4},{"$f":"RTD(\"cqg.rtd\",,\"StudyData\", \"Close(\"&$D$12&\") when LocalYear(\"&$D$12&\")=\"&$D$5&\" and localMonth(\"&$D$12&\") =\"&$E$5&\" and LocalDay(\"&$D$12&\")=\"&$F$5&\" and Barix(\"&$D$12&\",reference:=StartOfSession)=\"&A1&\"\", \"Bar\", \"\", \"Close\",\"5\",\"0\",\"PrimaryOnly\",,,\"False\",\"T\",\"EveryTick\")","v":104.02500000000001},{"$f":"IFERROR((P1-$G$6)/$G$6,NA())","v":-1.439884809215181E-3},{"$f":"RTD(\"cqg.rtd\",,\"StudyData\", \"Close(\"&$D$12&\") when LocalYear(\"&$D$12&\")=\"&$D$6&\" and localMonth(\"&$D$12&\") =\"&$E$6&\" and LocalDay(\"&$D$12&\")=\"&$F$6&\" and Barix(\"&$D$12&\",reference:=StartOfSession)=\"&A1&\"\", \"Bar\", \"\", \"Close\",\"5\",\"0\",\"PrimaryOnly\",,,\"False\",\"T\",\"EveryTick\")","v":106},{"$f":"IFERROR((R1-$G$7)/$G$7,NA())","v":2.1271567005435527E-3},{"$f":"RTD(\"cqg.rtd\",,\"StudyData\", \"Close(\"&$D$12&\") when LocalYear(\"&$D$12&\")=\"&$D$7&\" and localMonth(\"&$D$12&\") =\"&$E$7&\" and LocalDay(\"&$D$12&\")=\"&$F$7&\" and Barix(\"&$D$12&\",reference:=StartOfSession)=\"&A1&\"\", \"Bar\", \"\", \"Close\",\"5\",\"0\",\"PrimaryOnly\",,,\"False\",\"T\",\"EveryTick\")","v":104.72499999999999},{"$f":"IFERROR((T1-$G$8)/$G$8,NA())","v":5.5208833413345039E-3},{"$f":"RTD(\"cqg.rtd\",,\"StudyData\", \"Close(\"&$D$12&\") when LocalYear(\"&$D$12&\")=\"&$D$8&\" and localMonth(\"&$D$12&\") =\"&$E$8&\" and LocalDay(\"&$D$12&\")=\"&$F$8&\" and Barix(\"&$D$12&\",reference:=StartOfSession)=\"&A1&\"\", \"Bar\", \"\", \"Close\",\"5\",\"0\",\"PrimaryOnly\",,,\"False\",\"T\",\"EveryTick\")","v":104.95},{"$f":"IFERROR((V1-$G$9)/$G$9,NA())","v":3.5859431030360986E-3},{"$f":"RTD(\"cqg.rtd\",,\"StudyData\", \"Close(\"&$D$12&\") when LocalYear(\"&$D$12&\")=\"&$D$9&\" and localMonth(\"&$D$12&\") =\"&$E$9&\" and LocalDay(\"&$D$12&\")=\"&$F$9&\" and Barix(\"&$D$12&\",reference:=StartOfSession)=\"&A1&\"\", \"Bar\", \"\", \"Close\",\"5\",\"0\",\"PrimaryOnly\",,,\"False\",\"T\",\"EveryTick\")","v":104.925},{"$f":"IFERROR((X1-$G$10)/$G$10,NA())","v":8.4094185487746283E-3},{"$f":"RTD(\"cqg.rtd\",,\"StudyData\", \"Close(\"&$D$12&\") when LocalYear(\"&$D$12&\")=\"&$D$10&\" and localMonth(\"&$D$12&\") =\"&$E$10&\" and LocalDay(\"&$D$12&\")=\"&$F$10&\" and Barix(\"&$D$12&\",reference:=StartOfSession)=\"&A1&\"\", \"Bar\", \"\", \"Close\",\"5\",\"0\",\"PrimaryOnly\",,,\"False\",\"T\",\"EveryTick\")","v":102.575},{"$f":"IFERROR((Z1-$G$11)/$G$11,NA())","v":1.2201073694485115E-3},{"$f":"RANK(AD1,$AD$1:$AD$10)+COUNTIF($AD$1:AD1,AD1)-1","v":8},{"$f":"DATE(D1,E1,F1)","v":"2018-06-18"},{"$f":"VLOOKUP(MAX(AE2:AE55),A1:I55,9,FALSE)","v":-3.5790980672870433E-3},null,1,{"$f":"VLOOKUP(AF1,$AB$1:$AD$10,2,FALSE)","v":"2018-06-08"},{"$f":"VLOOKUP(AF1,$AB$1:$AD$10,3,FALSE)","v":7.6812289966394342E-3},null,null,{"$f":"AG1","v":"2018-06-08"},{"$f":"AC1","v":"2018-06-18"},0,{"$f":"VLOOKUP(AK1,$AL$1:$AM$10,2,FALSE)","v":6}]
[{"$f":"A1+1","v":1},{"$f":"B1+0.00347222222222227","v":"08:35:00"},{"$f":"RTD(\"cqg.rtd\",,\"StudyData\",$D$12,\"Bar\",,\"Time\",\"D\",\"-1\",,,,,\"T\")","v":"2018-06-15"},{"$f":"YEAR(C2)","v":2018},{"$f":"MONTH(C2)","v":6},{"$f":"DAY(C2)","v":15},{"$f":"RTD(\"cqg.rtd\",,\"StudyData\",$D$12,\"Bar\",,\"Close\",\"D\",\"-1\",,,,,\"T\")","v":104.77500000000001},{"$f":"RTD(\"cqg.rtd\",,\"StudyData\", \"Close(\"&$D$12&\") when LocalYear(\"&$D$12&\")=\"&$D$1&\" and localMonth(\"&$D$12&\") =\"&$E$1&\" and LocalDay(\"&$D$12&\")=\"&$F$1&\" and Barix(\"&$D$12&\",reference:=StartOfSession)=\"&A2&\"\", \"Bar\", \"\", \"Close\",\"5\",\"0\",\"PrimaryOnly\",,,\"False\",\"T\",\"EveryTick\")","v":104.7},{"$f":"IFERROR((H2-$G$2)/$G$2,NA())","v":-7.1581961345743581E-4},{"$f":"RTD(\"cqg.rtd\",,\"StudyData\", \"Close(\"&$D$12&\") when LocalYear(\"&$D$12&\")=\"&$D$2&\" and localMonth(\"&$D$12&\") =\"&$E$2&\" and LocalDay(\"&$D$12&\")=\"&$F$2&\" and Barix(\"&$D$12&\",reference:=StartOfSession)=\"&A2&\"\", \"Bar\", \"\", \"Close\",\"5\",\"0\",\"PrimaryOnly\",,,\"False\",\"T\",\"EveryTick\")","v":100.8},{"$f":"IFERROR((J2-$G$3)/$G$3,NA())","v":-1.0552147239263832E-2},{"$f":"RTD(\"cqg.rtd\",,\"StudyData\", \"Close(\"&$D$12&\") when LocalYear(\"&$D$12&\")=\"&$D$3&\" and localMonth(\"&$D$12&\") =\"&$E$3&\" and LocalDay(\"&$D$12&\")=\"&$F$3&\" and Barix(\"&$D$12&\",reference:=StartOfSession)=\"&A2&\"\", \"Bar\", \"\", \"Close\",\"5\",\"0\",\"PrimaryOnly\",,,\"False\",\"T\",\"EveryTick\")","v":103.1},{"$f":"IFERROR((L2-$G$4)/$G$4,NA())","v":-7.6997112608278278E-3},{"$f":"RTD(\"cqg.rtd\",,\"StudyData\", \"Close(\"&$D$12&\") when LocalYear(\"&$D$12&\")=\"&$D$4&\" and localMonth(\"&$D$12&\") =\"&$E$4&\" and LocalDay(\"&$D$12&\")=\"&$F$4&\" and Barix(\"&$D$12&\",reference:=StartOfSession)=\"&A2&\"\", \"Bar\", \"\", \"Close\",\"5\",\"0\",\"PrimaryOnly\",,,\"False\",\"T\",\"EveryTick\")","v":104.2},{"$f":"IFERROR((N2-$G$5)/$G$5,NA())","v":-9.5877277085325329E-4},{"$f":"RTD(\"cqg.rtd\",,\"StudyData\", \"Close(\"&$D$12&\") when LocalYear(\"&$D$12&\")=\"&$D$5&\" and localMonth(\"&$D$12&\") =\"&$E$5&\" and LocalDay(\"&$D$12&\")=\"&$F$5&\" and Barix(\"&$D$12&\",reference:=StartOfSession)=\"&A2&\"\", \"Bar\", \"\", \"Close\",\"5\",\"0\",\"PrimaryOnly\",,,\"False\",\"T\",\"EveryTick\")","v":104.2},{"$f":"IFERROR((P2-$G$6)/$G$6,NA())","v":2.3998080153593169E-4},{"$f":"RTD(\"cqg.rtd\",,\"StudyData\", \"Close(\"&$D$12&\") when LocalYear(\"&$D$12&\")=\"&$D$6&\" and localMonth(\"&$D$12&\") =\"&$E$6&\" and LocalDay(\"&$D$12&\")=\"&$F$6&\" and Barix(\"&$D$12&\",reference:=StartOfSession)=\"&A2&\"\", \"Bar\", \"\", \"Close\",\"5\",\"0\",\"PrimaryOnly\",,,\"False\",\"T\",\"EveryTick\")","v":106},{"$f":"IFERROR((R2-$G$7)/$G$7,NA())","v":2.1271567005435527E-3},{"$f":"RTD(\"cqg.rtd\",,\"StudyData\", \"Close(\"&$D$12&\") when LocalYear(\"&$D$12&\")=\"&$D$7&\" and localMonth(\"&$D$12&\") =\"&$E$7&\" and LocalDay(\"&$D$12&\")=\"&$F$7&\" and Barix(\"&$D$12&\",reference:=StartOfSession)=\"&A2&\"\", \"Bar\", \"\", \"Close\",\"5\",\"0\",\"PrimaryOnly\",,,\"False\",\"T\",\"EveryTick\")","v":104.95},{"$f":"IFERROR((T2-$G$8)/$G$8,NA())","v":7.6812289966394342E-3},{"$f":"RTD(\"cqg.rtd\",,\"StudyData\", \"Close(\"&$D$12&\") when LocalYear(\"&$D$12&\")=\"&$D$8&\" and localMonth(\"&$D$12&\") =\"&$E$8&\" and LocalDay(\"&$D$12&\")=\"&$F$8&\" and Barix(\"&$D$12&\",reference:=StartOfSession)=\"&A2&\"\", \"Bar\", \"\", \"Close\",\"5\",\"0\",\"PrimaryOnly\",,,\"False\",\"T\",\"EveryTick\")","v":104.97499999999999},{"$f":"IFERROR((V2-$G$9)/$G$9,NA())","v":3.8250059765717569E-3},{"$f":"RTD(\"cqg.rtd\",,\"StudyData\", \"Close(\"&$D$12&\") when LocalYear(\"&$D$12&\")=\"&$D$9&\" and localMonth(\"&$D$12&\") =\"&$E$9&\" and LocalDay(\"&$D$12&\")=\"&$F$9&\" and Barix(\"&$D$12&\",reference:=StartOfSession)=\"&A2&\"\", \"Bar\", \"\", \"Close\",\"5\",\"0\",\"PrimaryOnly\",,,\"False\",\"T\",\"EveryTick\")","v":104.875},{"$f":"IFERROR((X2-$G$10)/$G$10,NA())","v":7.928880345987533E-3},{"$f":"RTD(\"cqg.rtd\",,\"StudyData\", \"Close(\"&$D$12&\") when LocalYear(\"&$D$12&\")=\"&$D$10&\" and localMonth(\"&$D$12&\") =\"&$E$10&\" and LocalDay(\"&$D$12&\")=\"&$F$10&\" and Barix(\"&$D$12&\",reference:=StartOfSession)=\"&A2&\"\", \"Bar\", \"\", \"Close\",\"5\",\"0\",\"PrimaryOnly\",,,\"False\",\"T\",\"EveryTick\")","v":102.6},{"$f":"IFERROR((Z2-$G$11)/$G$11,NA())","v":1.4641288433381305E-3},{"$f":"RANK(AD2,$AD$1:$AD$10)+COUNTIF($AD$1:AD2,AD2)-1","v":9},{"$f":"DATE(D2,E2,F2)","v":"2018-06-15"},{"$f":"VLOOKUP(MAX(AE2:AE55),A1:K55,11,FALSE)","v":-3.6809815950920245E-3},{"$f":"IF(AND(H1<>\"\",H2<>\"\",H3=\"\"),A2,\"\")","v":""},2,{"$f":"VLOOKUP(AF2,$AB$1:$AD$10,2,FALSE)","v":"2018-06-06"},{"$f":"VLOOKUP(AF2,$AB$1:$AD$10,3,FALSE)","v":4.8053820278712162E-3},null,null,{"$f":"AG2","v":"2018-06-06"},{"$f":"AC2","v":"2018-06-15"},1,{"$f":"VLOOKUP(AK2,$AL$1:$AM$10,2,FALSE)","v":8}]
[{"$f":"A2+1","v":2},{"$f":"B2+0.00347222222222227","v":"08:40:00"},{"$f":"RTD(\"cqg.rtd\",,\"StudyData\",$D$12,\"Bar\",,\"Time\",\"D\",\"-2\",,,,,\"T\")","v":"2018-06-14"},2018,6,14,{"$f":"RTD(\"cqg.rtd\",,\"StudyData\",$D$12,\"Bar\",,\"Close\",\"D\",\"-2\",,,,,\"T\")","v":101.875},{"$f":"RTD(\"cqg.rtd\",,\"StudyData\", \"Close(\"&$D$12&\") when LocalYear(\"&$D$12&\")=\"&$D$1&\" and localMonth(\"&$D$12&\") =\"&$E$1&\" and LocalDay(\"&$D$12&\")=\"&$F$1&\" and Barix(\"&$D$12&\",reference:=StartOfSession)=\"&A3&\"\", \"Bar\", \"\", \"Close\",\"5\",\"0\",\"PrimaryOnly\",,,\"False\",\"T\",\"EveryTick\")","v":104.4},{"$f":"IFERROR((H3-$G$2)/$G$2,NA())","v":-3.5790980672870433E-3},{"$f":"RTD(\"cqg.rtd\",,\"StudyData\", \"Close(\"&$D$12&\") when LocalYear(\"&$D$12&\")=\"&$D$2&\" and localMonth(\"&$D$12&\") =\"&$E$2&\" and LocalDay(\"&$D$12&\")=\"&$F$2&\" and Barix(\"&$D$12&\",reference:=StartOfSession)=\"&A3&\"\", \"Bar\", \"\", \"Close\",\"5\",\"0\",\"PrimaryOnly\",,,\"False\",\"T\",\"EveryTick\")","v":100.925},-9.3251533742331576E-3,{"$f":"RTD(\"cqg.rtd\",,\"StudyData\", \"Close(\"&$D$12&\") when LocalYear(\"&$D$12&\")=\"&$D$3&\" and localMonth(\"&$D$12&\") =\"&$E$3&\" and LocalDay(\"&$D$12&\")=\"&$F$3&\" and Barix(\"&$D$12&\",reference:=StartOfSession)=\"&A3&\"\", \"Bar\", \"\", \"Close\",\"5\",\"0\",\"PrimaryOnly\",,,\"False\",\"T\",\"EveryTick\")","v":103.27500000000001},-6.0153994225216551E-3,{"$f":"RTD(\"cqg.rtd\",,\"StudyData\", \"Close(\"&$D$12&\") when LocalYear(\"&$D$12&\")=\"&$D$4&\" and localMonth(\"&$D$12&\") =\"&$E$4&\" and LocalDay(\"&$D$12&\")=\"&$F$4&\" and Barix(\"&$D$12&\",reference:=StartOfSession)=\"&A3&\"\", \"Bar\", \"\", \"Close\",\"5\",\"0\",\"PrimaryOnly\",,,\"False\",\"T\",\"EveryTick\")","v":104.22499999999999},-7.1907957814000805E-4,{"$f":"RTD(\"cqg.rtd\",,\"StudyData\", \"Close(\"&$D$12&\") when LocalYear(\"&$D$12&\")=\"&$D$5&\" and localMonth(\"&$D$12&\") =\"&$E$5&\" and LocalDay(\"&$D$12&\")=\"&$F$5&\" and Barix(\"&$D$12&\",reference:=StartOfSession)=\"&A3&\"\", \"Bar\", \"\", \"Close\",\"5\",\"0\",\"PrimaryOnly\",,,\"False\",\"T\",\"EveryTick\")","v":104.175},0,{"$f":"RTD(\"cqg.rtd\",,\"StudyData\", \"Close(\"&$D$12&\") when LocalYear(\"&$D$12&\")=\"&$D$6&\" and localMonth(\"&$D$12&\") =\"&$E$6&\" and LocalDay(\"&$D$12&\")=\"&$F$6&\" and Barix(\"&$D$12&\",reference:=StartOfSession)=\"&A3&\"\", \"Bar\", \"\", \"Close\",\"5\",\"0\",\"PrimaryOnly\",,,\"False\",\"T\",\"EveryTick\")","v":105.675},-9.4540297801946134E-4,{"$f":"RTD(\"cqg.rtd\",,\"StudyData\", \"Close(\"&$D$12&\") when LocalYear(\"&$D$12&\")=\"&$D$7&\" and localMonth(\"&$D$12&\") =\"&$E$7&\" and LocalDay(\"&$D$12&\")=\"&$F$7&\" and Barix(\"&$D$12&\",reference:=StartOfSession)=\"&A3&\"\", \"Bar\", \"\", \"Close\",\"5\",\"0\",\"PrimaryOnly\",,,\"False\",\"T\",\"EveryTick\")","v":104.925},7.4411905904943967E-3,{"$f":"RTD(\"cqg.rtd\",,\"StudyData\", \"Close(\"&$D$12&\") when LocalYear(\"&$D$12&\")=\"&$D$8&\" and localMonth(\"&$D$12&\") =\"&$E$8&\" and LocalDay(\"&$D$12&\")=\"&$F$8&\" and Barix(\"&$D$12&\",reference:=StartOfSession)=\"&A3&\"\", \"Bar\", \"\", \"Close\",\"5\",\"0\",\"PrimaryOnly\",,,\"False\",\"T\",\"EveryTick\")","v":104.75},1.6734401147501521E-3,{"$f":"RTD(\"cqg.rtd\",,\"StudyData\", \"Close(\"&$D$12&\") when LocalYear(\"&$D$12&\")=\"&$D$9&\" and localMonth(\"&$D$12&\") =\"&$E$9&\" and LocalDay(\"&$D$12&\")=\"&$F$9&\" and Barix(\"&$D$12&\",reference:=StartOfSession)=\"&A3&\"\", \"Bar\", \"\", \"Close\",\"5\",\"0\",\"PrimaryOnly\",,,\"False\",\"T\",\"EveryTick\")","v":104.825},7.4483421432004395E-3,{"$f":"RTD(\"cqg.rtd\",,\"StudyData\", \"Close(\"&$D$12&\") when LocalYear(\"&$D$12&\")=\"&$D$10&\" and localMonth(\"&$D$12&\") =\"&$E$10&\" and LocalDay(\"&$D$12&\")=\"&$F$10&\" and Barix(\"&$D$12&\",reference:=StartOfSession)=\"&A3&\"\", \"Bar\", \"\", \"Close\",\"5\",\"0\",\"PrimaryOnly\",,,\"False\",\"T\",\"EveryTick\")","v":102.47499999999999},2.4402147388961906E-4,{"$f":"RANK(AD3,$AD$1:$AD$10)+COUNTIF($AD$1:AD3,AD3)-1","v":10},"2018-06-14",{"$f":"VLOOKUP(MAX(AE2:AE55),A1:M55,13,FALSE)","v":-5.5341674687199504E-3},{"$f":"IF(AND(H2<>\"\",H3<>\"\",H4=\"\"),A3,\"\")","v":""},3,"2018-06-05",4.8804294777937685E-4,null,null,"2018-06-05","2018-06-14",2,9]
[3,"08:45:00",{"$f":"RTD(\"cqg.rtd\",,\"StudyData\",$D$12,\"Bar\",,\"Time\",\"D\",\"-3\",,,,,\"T\")","v":"2018-06-13"},2018,6,13,{"$f":"RTD(\"cqg.rtd\",,\"StudyData\",$D$12,\"Bar\",,\"Close\",\"D\",\"-3\",,,,,\"T\")","v":103.9},{"$f":"RTD(\"cqg.rtd\",,\"StudyData\", \"Close(\"&$D$12&\") when LocalYear(\"&$D$12&\")=\"&$D$1&\" and localMonth(\"&$D$12&\") =\"&$E$1&\" and LocalDay(\"&$D$12&\")=\"&$F$1&\" and Barix(\"&$D$12&\",reference:=StartOfSession)=\"&A4&\"\", \"Bar\", \"\", \"Close\",\"5\",\"0\",\"PrimaryOnly\",,,\"False\",\"T\",\"EveryTick\")","v":104.2},-5.4879503698401604E-3,{"$f":"RTD(\"cqg.rtd\",,\"StudyData\", \"Close(\"&$D$12&\") when LocalYear(\"&$D$12&\")=\"&$D$2&\" and localMonth(\"&$D$12&\") =\"&$E$2&\" and LocalDay(\"&$D$12&\")=\"&$F$2&\" and Barix(\"&$D$12&\",reference:=StartOfSession)=\"&A4&\"\", \"Bar\", \"\", \"Close\",\"5\",\"0\",\"PrimaryOnly\",,,\"False\",\"T\",\"EveryTick\")","v":101.075},-7.8527607361962917E-3,{"$f":"RTD(\"cqg.rtd\",,\"StudyData\", \"Close(\"&$D$12&\") when LocalYear(\"&$D$12&\")=\"&$D$3&\" and localMonth(\"&$D$12&\") =\"&$E$3&\" and LocalDay(\"&$D$12&\")=\"&$F$3&\" and Barix(\"&$D$12&\",reference:=StartOfSession)=\"&A4&\"\", \"Bar\", \"\", \"Close\",\"5\",\"0\",\"PrimaryOnly\",,,\"False\",\"T\",\"EveryTick\")","v":103.125},-7.4590952839269069E-3,{"$f":"RTD(\"cqg.rtd\",,\"StudyData\", \"Close(\"&$D$12&\") when LocalYear(\"&$D$12&\")=\"&$D$4&\" and localMonth(\"&$D$12&\") =\"&$E$4&\" and LocalDay(\"&$D$12&\")=\"&$F$4&\" and Barix(\"&$D$12&\",reference:=StartOfSession)=\"&A4&\"\", \"Bar\", \"\", \"Close\",\"5\",\"0\",\"PrimaryOnly\",,,\"False\",\"T\",\"EveryTick\")","v":104.05},-2.3969319271332696E-3,{"$f":"RTD(\"cqg.rtd\",,\"StudyData\", \"Close(\"&$D$12&\") when LocalYear(\"&$D$12&\")=\"&$D$5&\" and localMonth(\"&$D$12&\") =\"&$E$5&\" and LocalDay(\"&$D$12&\")=\"&$F$5&\" and Barix(\"&$D$12&\",reference:=StartOfSession)=\"&A4&\"\", \"Bar\", \"\", \"Close\",\"5\",\"0\",\"PrimaryOnly\",,,\"False\",\"T\",\"EveryTick\")","v":104.22499999999999},4.7996160307172699E-4,{"$f":"RTD(\"cqg.rtd\",,\"StudyData\", \"Close(\"&$D$12&\") when LocalYear(\"&$D$12&\")=\"&$D$6&\" and localMonth(\"&$D$12&\") =\"&$E$6&\" and LocalDay(\"&$D$12&\")=\"&$F$6&\" and Barix(\"&$D$12&\",reference:=StartOfSession)=\"&A4&\"\", \"Bar\", \"\", \"Close\",\"5\",\"0\",\"PrimaryOnly\",,,\"False\",\"T\",\"EveryTick\")","v":105.7},-7.0905223351456245E-4,{"$f":"RTD(\"cqg.rtd\",,\"StudyData\", \"Close(\"&$D$12&\") when LocalYear(\"&$D$12&\")=\"&$D$7&\" and localMonth(\"&$D$12&\") =\"&$E$7&\" and LocalDay(\"&$D$12&\")=\"&$F$7&\" and Barix(\"&$D$12&\",reference:=StartOfSession)=\"&A4&\"\", \"Bar\", \"\", \"Close\",\"5\",\"0\",\"PrimaryOnly\",,,\"False\",\"T\",\"EveryTick\")","v":105.125},9.3614978396542904E-3,{"$f":"RTD(\"cqg.rtd\",,\"StudyData\", \"Close(\"&$D$12&\") when LocalYear(\"&$D$12&\")=\"&$D$8&\" and localMonth(\"&$D$12&\") =\"&$E$8&\" and LocalDay(\"&$D$12&\")=\"&$F$8&\" and Barix(\"&$D$12&\",reference:=StartOfSession)=\"&A4&\"\", \"Bar\", \"\", \"Close\",\"5\",\"0\",\"PrimaryOnly\",,,\"False\",\"T\",\"EveryTick\")","v":104.85},2.6296916088930575E-3,{"$f":"RTD(\"cqg.rtd\",,\"StudyData\", \"Close(\"&$D$12&\") when LocalYear(\"&$D$12&\")=\"&$D$9&\" and localMonth(\"&$D$12&\") =\"&$E$9&\" and LocalDay(\"&$D$12&\")=\"&$F$9&\" and Barix(\"&$D$12&\",reference:=StartOfSession)=\"&A4&\"\", \"Bar\", \"\", \"Close\",\"5\",\"0\",\"PrimaryOnly\",,,\"False\",\"T\",\"EveryTick\")","v":104.72499999999999},6.4872657376261137E-3,{"$f":"RTD(\"cqg.rtd\",,\"StudyData\", \"Close(\"&$D$12&\") when LocalYear(\"&$D$12&\")=\"&$D$10&\" and localMonth(\"&$D$12&\") =\"&$E$10&\" and LocalDay(\"&$D$12&\")=\"&$F$10&\" and Barix(\"&$D$12&\",reference:=StartOfSession)=\"&A4&\"\", \"Bar\", \"\", \"Close\",\"5\",\"0\",\"PrimaryOnly\",,,\"False\",\"T\",\"EveryTick\")","v":102.675},2.1961932650072652E-3,{"$f":"RANK(AD4,$AD$1:$AD$10)+COUNTIF($AD$1:AD4,AD4)-1","v":5},"2018-06-13",{"$f":"VLOOKUP(MAX(AE2:AE55),A1:O55,15,FALSE)","v":-9.5877277085325329E-4},"",4,"2018-06-07",2.3906287353565837E-4,null,null,"2018-06-07","2018-06-13",3,7]
[4,"08:50:00",{"$f":"RTD(\"cqg.rtd\",,\"StudyData\",$D$12,\"Bar\",,\"Time\",\"D\",\"-4\",,,,,\"T\")","v":"2018-06-12"},2018,6,12,{"$f":"RTD(\"cqg.rtd\",,\"StudyData\",$D$12,\"Bar\",,\"Close\",\"D\",\"-4\",,,,,\"T\")","v":104.3},{"$f":"RTD(\"cqg.rtd\",,\"StudyData\", \"Close(\"&$D$12&\") when LocalYear(\"&$D$12&\")=\"&$D$1&\" and localMonth(\"&$D$12&\") =\"&$E$1&\" and LocalDay(\"&$D$12&\")=\"&$F$1&\" and Barix(\"&$D$12&\",reference:=StartOfSession)=\"&A5&\"\", \"Bar\", \"\", \"Close\",\"5\",\"0\",\"PrimaryOnly\",,,\"False\",\"T\",\"EveryTick\")","v":104.4},-3.5790980672870433E-3,{"$f":"RTD(\"cqg.rtd\",,\"StudyData\", \"Close(\"&$D$12&\") when LocalYear(\"&$D$12&\")=\"&$D$2&\" and localMonth(\"&$D$12&\") =\"&$E$2&\" and LocalDay(\"&$D$12&\")=\"&$F$2&\" and Barix(\"&$D$12&\",reference:=StartOfSession)=\"&A5&\"\", \"Bar\", \"\", \"Close\",\"5\",\"0\",\"PrimaryOnly\",,,\"False\",\"T\",\"EveryTick\")","v":101.5},-3.6809815950920245E-3,{"$f":"RTD(\"cqg.rtd\",,\"StudyData\", \"Close(\"&$D$12&\") when LocalYear(\"&$D$12&\")=\"&$D$3&\" and localMonth(\"&$D$12&\") =\"&$E$3&\" and LocalDay(\"&$D$12&\")=\"&$F$3&\" and Barix(\"&$D$12&\",reference:=StartOfSession)=\"&A5&\"\", \"Bar\", \"\", \"Close\",\"5\",\"0\",\"PrimaryOnly\",,,\"False\",\"T\",\"EveryTick\")","v":103.325},-5.5341674687199504E-3,{"$f":"RTD(\"cqg.rtd\",,\"StudyData\", \"Close(\"&$D$12&\") when LocalYear(\"&$D$12&\")=\"&$D$4&\" and localMonth(\"&$D$12&\") =\"&$E$4&\" and LocalDay(\"&$D$12&\")=\"&$F$4&\" and Barix(\"&$D$12&\",reference:=StartOfSession)=\"&A5&\"\", \"Bar\", \"\", \"Close\",\"5\",\"0\",\"PrimaryOnly\",,,\"False\",\"T\",\"EveryTick\")","v":104.2},-9.5877277085325329E-4,{"$f":"RTD(\"cqg.rtd\",,\"StudyData\", \"Close(\"&$D$12&\") when LocalYear(\"&$D$12&\")=\"&$D$5&\" and localMonth(\"&$D$12&\") =\"&$E$5&\" and LocalDay(\"&$D$12&\")=\"&$F$5&\" and Barix(\"&$D$12&\",reference:=StartOfSession)=\"&A5&\"\", \"Bar\", \"\", \"Close\",\"5\",\"0\",\"PrimaryOnly\",,,\"False\",\"T\",\"EveryTick\")","v":103.95},-2.1598272138228397E-3,{"$f":"RTD(\"cqg.rtd\",,\"StudyData\", \"Close(\"&$D$12&\") when LocalYear(\"&$D$12&\")=\"&$D$6&\" and localMonth(\"&$D$12&\") =\"&$E$6&\" and LocalDay(\"&$D$12&\")=\"&$F$6&\" and Barix(\"&$D$12&\",reference:=StartOfSession)=\"&A5&\"\", \"Bar\", \"\", \"Close\",\"5\",\"0\",\"PrimaryOnly\",,,\"False\",\"T\",\"EveryTick\")","v":105.575},-1.8908059560387882E-3,{"$f":"RTD(\"cqg.rtd\",,\"StudyData\", \"Close(\"&$D$12&\") when LocalYear(\"&$D$12&\")=\"&$D$7&\" and localMonth(\"&$D$12&\") =\"&$E$7&\" and LocalDay(\"&$D$12&\")=\"&$F$7&\" and Barix(\"&$D$12&\",reference:=StartOfSession)=\"&A5&\"\", \"Bar\", \"\", \"Close\",\"5\",\"0\",\"PrimaryOnly\",,,\"False\",\"T\",\"EveryTick\")","v":104.95},7.6812289966394342E-3,{"$f":"RTD(\"cqg.rtd\",,\"StudyData\", \"Close(\"&$D$12&\") when LocalYear(\"&$D$12&\")=\"&$D$8&\" and localMonth(\"&$D$12&\") =\"&$E$8&\" and LocalDay(\"&$D$12&\")=\"&$F$8&\" and Barix(\"&$D$12&\",reference:=StartOfSession)=\"&A5&\"\", \"Bar\", \"\", \"Close\",\"5\",\"0\",\"PrimaryOnly\",,,\"False\",\"T\",\"EveryTick\")","v":104.6},2.3906287353565837E-4,{"$f":"RTD(\"cqg.rtd\",,\"StudyData\", \"Close(\"&$D$12&\") when LocalYear(\"&$D$12&\")=\"&$D$9&\" and localMonth(\"&$D$12&\") =\"&$E$9&\" and LocalDay(\"&$D$12&\")=\"&$F$9&\" and Barix(\"&$D$12&\",reference:=StartOfSession)=\"&A5&\"\", \"Bar\", \"\", \"Close\",\"5\",\"0\",\"PrimaryOnly\",,,\"False\",\"T\",\"EveryTick\")","v":104.55},4.8053820278712162E-3,{"$f":"RTD(\"cqg.rtd\",,\"StudyData\", \"Close(\"&$D$12&\") when LocalYear(\"&$D$12&\")=\"&$D$10&\" and localMonth(\"&$D$12&\") =\"&$E$10&\" and LocalDay(\"&$D$12&\")=\"&$F$10&\" and Barix(\"&$D$12&\",reference:=StartOfSession)=\"&A5&\"\", \"Bar\", \"\", \"Close\",\"5\",\"0\",\"PrimaryOnly\",,,\"False\",\"T\",\"EveryTick\")","v":102.5},4.8804294777937685E-4,{"$f":"RANK(AD5,$AD$1:$AD$10)+COUNTIF($AD$1:AD5,AD5)-1","v":7},"2018-06-12",{"$f":"VLOOKUP(MAX(AE2:AE55),A1:Q55,17,FALSE)","v":-2.1598272138228397E-3},4,5,"2018-06-13",-9.5877277085325329E-4,null,null,"2018-06-13","2018-06-12",4,3]
[5,"08:55:00",{"$f":"RTD(\"cqg.rtd\",,\"StudyData\",$D$12,\"Bar\",,\"Time\",\"D\",\"-5\",,,,,\"T\")","v":"2018-06-11"},2018,6,11,{"$f":"RTD(\"cqg.rtd\",,\"StudyData\",$D$12,\"Bar\",,\"Close\",\"D\",\"-5\",,,,,\"T\")","v":104.175},{"$f":"RTD(\"cqg.rtd\",,\"StudyData\", \"Close(\"&$D$12&\") when LocalYear(\"&$D$12&\")=\"&$D$1&\" and localMonth(\"&$D$12&\") =\"&$E$1&\" and LocalDay(\"&$D$12&\")=\"&$F$1&\" and Barix(\"&$D$12&\",reference:=StartOfSession)=\"&A6&\"\", \"Bar\", \"\", \"Close\",\"5\",\"0\",\"PrimaryOnly\",,,\"False\",\"T\",\"EveryTick\")","v":""},{"$error":"#N/A"},{"$f":"RTD(\"cqg.rtd\",,\"StudyData\", \"Close(\"&$D$12&\") when LocalYear(\"&$D$12&\")=\"&$D$2&\" and localMonth(\"&$D$12&\") =\"&$E$2&\" and LocalDay(\"&$D$12&\")=\"&$F$2&\" and Barix(\"&$D$12&\",reference:=StartOfSession)=\"&A6&\"\", \"Bar\", \"\", \"Close\",\"5\",\"0\",\"PrimaryOnly\",,,\"False\",\"T\",\"EveryTick\")","v":101.95},7.3619631901843282E-4,{"$f":"RTD(\"cqg.rtd\",,\"StudyData\", \"Close(\"&$D$12&\") when LocalYear(\"&$D$12&\")=\"&$D$3&\" and localMonth(\"&$D$12&\") =\"&$E$3&\" and LocalDay(\"&$D$12&\")=\"&$F$3&\" and Barix(\"&$D$12&\",reference:=StartOfSession)=\"&A6&\"\", \"Bar\", \"\", \"Close\",\"5\",\"0\",\"PrimaryOnly\",,,\"False\",\"T\",\"EveryTick\")","v":103.5},-3.8498556304139139E-3,{"$f":"RTD(\"cqg.rtd\",,\"StudyData\", \"Close(\"&$D$12&\") when LocalYear(\"&$D$12&\")=\"&$D$4&\" and localMonth(\"&$D$12&\") =\"&$E$4&\" and LocalDay(\"&$D$12&\")=\"&$F$4&\" and Barix(\"&$D$12&\",reference:=StartOfSession)=\"&A6&\"\", \"Bar\", \"\", \"Close\",\"5\",\"0\",\"PrimaryOnly\",,,\"False\",\"T\",\"EveryTick\")","v":104},-2.876318312559896E-3,{"$f":"RTD(\"cqg.rtd\",,\"StudyData\", \"Close(\"&$D$12&\") when LocalYear(\"&$D$12&\")=\"&$D$5&\" and localMonth(\"&$D$12&\") =\"&$E$5&\" and LocalDay(\"&$D$12&\")=\"&$F$5&\" and Barix(\"&$D$12&\",reference:=StartOfSession)=\"&A6&\"\", \"Bar\", \"\", \"Close\",\"5\",\"0\",\"PrimaryOnly\",,,\"False\",\"T\",\"EveryTick\")","v":104.25},7.1994240460765868E-4,{"$f":"RTD(\"cqg.rtd\",,\"StudyData\", \"Close(\"&$D$12&\") when LocalYear(\"&$D$12&\")=\"&$D$6&\" and localMonth(\"&$D$12&\") =\"&$E$6&\" and LocalDay(\"&$D$12&\")=\"&$F$6&\" and Barix(\"&$D$12&\",reference:=StartOfSession)=\"&A6&\"\", \"Bar\", \"\", \"Close\",\"5\",\"0\",\"PrimaryOnly\",,,\"False\",\"T\",\"EveryTick\")","v":105.5},-2.5998581895533505E-3,{"$f":"RTD(\"cqg.rtd\",,\"StudyData\", \"Close(\"&$D$12&\") when LocalYear(\"&$D$12&\")=\"&$D$7&\" and localMonth(\"&$D$12&\") =\"&$E$7&\" and LocalDay(\"&$D$12&\")=\"&$F$7&\" and Barix(\"&$D$12&\",reference:=StartOfSession)=\"&A6&\"\", \"Bar\", \"\", \"Close\",\"5\",\"0\",\"PrimaryOnly\",,,\"False\",\"T\",\"EveryTick\")","v":105.125},9.3614978396542904E-3,{"$f":"RTD(\"cqg.rtd\",,\"StudyData\", \"Close(\"&$D$12&\") when LocalYear(\"&$D$12&\")=\"&$D$8&\" and localMonth(\"&$D$12&\") =\"&$E$8&\" and LocalDay(\"&$D$12&\")=\"&$F$8&\" and Barix(\"&$D$12&\",reference:=StartOfSession)=\"&A6&\"\", \"Bar\", \"\", \"Close\",\"5\",\"0\",\"PrimaryOnly\",,,\"False\",\"T\",\"EveryTick\")","v":104.55},-2.3906287353579425E-4,{"$f":"RTD(\"cqg.rtd\",,\"StudyData\", \"Close(\"&$D$12&\") when LocalYear(\"&$D$12&\")=\"&$D$9&\" and localMonth(\"&$D$12&\") =\"&$E$9&\" and LocalDay(\"&$D$12&\")=\"&$F$9&\" and Barix(\"&$D$12&\",reference:=StartOfSession)=\"&A6&\"\", \"Bar\", \"\", \"Close\",\"5\",\"0\",\"PrimaryOnly\",,,\"False\",\"T\",\"EveryTick\")","v":104.575},5.0456511292648314E-3,{"$f":"RTD(\"cqg.rtd\",,\"StudyData\", \"Close(\"&$D$12&\") when LocalYear(\"&$D$12&\")=\"&$D$10&\" and localMonth(\"&$D$12&\") =\"&$E$10&\" and LocalDay(\"&$D$12&\")=\"&$F$10&\" and Barix(\"&$D$12&\",reference:=StartOfSession)=\"&A6&\"\", \"Bar\", \"\", \"Close\",\"5\",\"0\",\"PrimaryOnly\",,,\"False\",\"T\",\"EveryTick\")","v":102.375},-7.3206442166913466E-4,{"$f":"RANK(AD6,$AD$1:$AD$10)+COUNTIF($AD$1:AD6,AD6)-1","v":6},"2018-06-11",{"$f":"VLOOKUP(MAX(AE2:AE55),A1:S55,19,FALSE)","v":-1.8908059560387882E-3},"",6,"2018-06-11",-1.8908059560387882E-3,null,null,"2018-06-11","2018-06-11",5,5]
[6,"09:00:00",{"$f":"RTD(\"cqg.rtd\",,\"StudyData\",$D$12,\"Bar\",,\"Time\",\"D\",\"-6\",,,,,\"T\")","v":"2018-06-08"},2018,6,8,{"$f":"RTD(\"cqg.rtd\",,\"StudyData\",$D$12,\"Bar\",,\"Close\",\"D\",\"-6\",,,,,\"T\")","v":105.77500000000001},{"$f":"RTD(\"cqg.rtd\",,\"StudyData\", \"Close(\"&$D$12&\") when LocalYear(\"&$D$12&\")=\"&$D$1&\" and localMonth(\"&$D$12&\") =\"&$E$1&\" and LocalDay(\"&$D$12&\")=\"&$F$1&\" and Barix(\"&$D$12&\",reference:=StartOfSession)=\"&A7&\"\", \"Bar\", \"\", \"Close\",\"5\",\"0\",\"PrimaryOnly\",,,\"False\",\"T\",\"EveryTick\")","v":""},{"$error":"#N/A"},{"$f":"RTD(\"cqg.rtd\",,\"StudyData\", \"Close(\"&$D$12&\") when LocalYear(\"&$D$12&\")=\"&$D$2&\" and localMonth(\"&$D$12&\") =\"&$E$2&\" and LocalDay(\"&$D$12&\")=\"&$F$2&\" and Barix(\"&$D$12&\",reference:=StartOfSession)=\"&A7&\"\", \"Bar\", \"\", \"Close\",\"5\",\"0\",\"PrimaryOnly\",,,\"False\",\"T\",\"EveryTick\")","v":101.65},-2.2085889570551591E-3,{"$f":"RTD(\"cqg.rtd\",,\"StudyData\", \"Close(\"&$D$12&\") when LocalYear(\"&$D$12&\")=\"&$D$3&\" and localMonth(\"&$D$12&\") =\"&$E$3&\" and LocalDay(\"&$D$12&\")=\"&$F$3&\" and Barix(\"&$D$12&\",reference:=StartOfSession)=\"&A7&\"\", \"Bar\", \"\", \"Close\",\"5\",\"0\",\"PrimaryOnly\",,,\"False\",\"T\",\"EveryTick\")","v":103.45},-4.3310875842156194E-3,{"$f":"RTD(\"cqg.rtd\",,\"StudyData\", \"Close(\"&$D$12&\") when LocalYear(\"&$D$12&\")=\"&$D$4&\" and localMonth(\"&$D$12&\") =\"&$E$4&\" and LocalDay(\"&$D$12&\")=\"&$F$4&\" and Barix(\"&$D$12&\",reference:=StartOfSession)=\"&A7&\"\", \"Bar\", \"\", \"Close\",\"5\",\"0\",\"PrimaryOnly\",,,\"False\",\"T\",\"EveryTick\")","v":104.22499999999999},-7.1907957814000805E-4,{"$f":"RTD(\"cqg.rtd\",,\"StudyData\", \"Close(\"&$D$12&\") when LocalYear(\"&$D$12&\")=\"&$D$5&\" and localMonth(\"&$D$12&\") =\"&$E$5&\" and LocalDay(\"&$D$12&\")=\"&$F$5&\" and Barix(\"&$D$12&\",reference:=StartOfSession)=\"&A7&\"\", \"Bar\", \"\", \"Close\",\"5\",\"0\",\"PrimaryOnly\",,,\"False\",\"T\",\"EveryTick\")","v":104.02500000000001},-1.439884809215181E-3,{"$f":"RTD(\"cqg.rtd\",,\"StudyData\", \"Close(\"&$D$12&\") when LocalYear(\"&$D$12&\")=\"&$D$6&\" and localMonth(\"&$D$12&\") =\"&$E$6&\" and LocalDay(\"&$D$12&\")=\"&$F$6&\" and Barix(\"&$D$12&\",reference:=StartOfSession)=\"&A7&\"\", \"Bar\", \"\", \"Close\",\"5\",\"0\",\"PrimaryOnly\",,,\"False\",\"T\",\"EveryTick\")","v":105.325},-4.2543134010872398E-3,{"$f":"RTD(\"cqg.rtd\",,\"StudyData\", \"Close(\"&$D$12&\") when LocalYear(\"&$D$12&\")=\"&$D$7&\" and localMonth(\"&$D$12&\") =\"&$E$7&\" and LocalDay(\"&$D$12&\")=\"&$F$7&\" and Barix(\"&$D$12&\",reference:=StartOfSession)=\"&A7&\"\", \"Bar\", \"\", \"Close\",\"5\",\"0\",\"PrimaryOnly\",,,\"False\",\"T\",\"EveryTick\")","v":105.15},9.6015362457993279E-3,{"$f":"RTD(\"cqg.rtd\",,\"StudyData\", \"Close(\"&$D$12&\") when LocalYear(\"&$D$12&\")=\"&$D$8&\" and localMonth(\"&$D$12&\") =\"&$E$8&\" and LocalDay(\"&$D$12&\")=\"&$F$8&\" and Barix(\"&$D$12&\",reference:=StartOfSession)=\"&A7&\"\", \"Bar\", \"\", \"Close\",\"5\",\"0\",\"PrimaryOnly\",,,\"False\",\"T\",\"EveryTick\")","v":104.65},7.171886206072468E-4,{"$f":"RTD(\"cqg.rtd\",,\"StudyData\", \"Close(\"&$D$12&\") when LocalYear(\"&$D$12&\")=\"&$D$9&\" and localMonth(\"&$D$12&\") =\"&$E$9&\" and LocalDay(\"&$D$12&\")=\"&$F$9&\" and Barix(\"&$D$12&\",reference:=StartOfSession)=\"&A7&\"\", \"Bar\", \"\", \"Close\",\"5\",\"0\",\"PrimaryOnly\",,,\"False\",\"T\",\"EveryTick\")","v":104.7},6.2469966362326355E-3,{"$f":"RTD(\"cqg.rtd\",,\"StudyData\", \"Close(\"&$D$12&\") when LocalYear(\"&$D$12&\")=\"&$D$10&\" and localMonth(\"&$D$12&\") =\"&$E$10&\" and LocalDay(\"&$D$12&\")=\"&$F$10&\" and Barix(\"&$D$12&\",reference:=StartOfSession)=\"&A7&\"\", \"Bar\", \"\", \"Close\",\"5\",\"0\",\"PrimaryOnly\",,,\"False\",\"T\",\"EveryTick\")","v":102.52500000000001},7.3206442166913466E-4,{"$f":"RANK(AD7,$AD$1:$AD$10)+COUNTIF($AD$1:AD7,AD7)-1","v":1},"2018-06-08",{"$f":"VLOOKUP(MAX(AE2:AE55),A1:U55,21,FALSE)","v":7.6812289966394342E-3},"",7,"2018-06-12",-2.1598272138228397E-3,null,null,"2018-06-12","2018-06-08",6,4]
[7,"09:05:00",{"$f":"RTD(\"cqg.rtd\",,\"StudyData\",$D$12,\"Bar\",,\"Time\",\"D\",\"-7\",,,,,\"T\")","v":"2018-06-07"},2018,6,7,{"$f":"RTD(\"cqg.rtd\",,\"StudyData\",$D$12,\"Bar\",,\"Close\",\"D\",\"-7\",,,,,\"T\")","v":104.15},{"$f":"RTD(\"cqg.rtd\",,\"StudyData\", \"Close(\"&$D$12&\") when LocalYear(\"&$D$12&\")=\"&$D$1&\" and localMonth(\"&$D$12&\") =\"&$E$1&\" and LocalDay(\"&$D$12&\")=\"&$F$1&\" and Barix(\"&$D$12&\",reference:=StartOfSession)=\"&A8&\"\", \"Bar\", \"\", \"Close\",\"5\",\"0\",\"PrimaryOnly\",,,\"False\",\"T\",\"EveryTick\")","v":""},{"$error":"#N/A"},{"$f":"RTD(\"cqg.rtd\",,\"StudyData\", \"Close(\"&$D$12&\") when LocalYear(\"&$D$12&\")=\"&$D$2&\" and localMonth(\"&$D$12&\") =\"&$E$2&\" and LocalDay(\"&$D$12&\")=\"&$F$2&\" and Barix(\"&$D$12&\",reference:=StartOfSession)=\"&A8&\"\", \"Bar\", \"\", \"Close\",\"5\",\"0\",\"PrimaryOnly\",,,\"False\",\"T\",\"EveryTick\")","v":101.825},-4.90797546012242E-4,{"$f":"RTD(\"cqg.rtd\",,\"StudyData\", \"Close(\"&$D$12&\") when LocalYear(\"&$D$12&\")=\"&$D$3&\" and localMonth(\"&$D$12&\") =\"&$E$3&\" and LocalDay(\"&$D$12&\")=\"&$F$3&\" and Barix(\"&$D$12&\",reference:=StartOfSession)=\"&A8&\"\", \"Bar\", \"\", \"Close\",\"5\",\"0\",\"PrimaryOnly\",,,\"False\",\"T\",\"EveryTick\")","v":103.1},-7.6997112608278278E-3,{"$f":"RTD(\"cqg.rtd\",,\"StudyData\", \"Close(\"&$D$12&\") when LocalYear(\"&$D$12&\")=\"&$D$4&\" and localMonth(\"&$D$12&\") =\"&$E$4&\" and LocalDay(\"&$D$12&\")=\"&$F$4&\" and Barix(\"&$D$12&\",reference:=StartOfSession)=\"&A8&\"\", \"Bar\", \"\", \"Close\",\"5\",\"0\",\"PrimaryOnly\",,,\"False\",\"T\",\"EveryTick\")","v":104.27500000000001},-2.3969319271324521E-4,{"$f":"RTD(\"cqg.rtd\",,\"StudyData\", \"Close(\"&$D$12&\") when LocalYear(\"&$D$12&\")=\"&$D$5&\" and localMonth(\"&$D$12&\") =\"&$E$5&\" and LocalDay(\"&$D$12&\")=\"&$F$5&\" and Barix(\"&$D$12&\",reference:=StartOfSession)=\"&A8&\"\", \"Bar\", \"\", \"Close\",\"5\",\"0\",\"PrimaryOnly\",,,\"False\",\"T\",\"EveryTick\")","v":104.05},-1.1999040076793857E-3,{"$f":"RTD(\"cqg.rtd\",,\"StudyData\", \"Close(\"&$D$12&\") when LocalYear(\"&$D$12&\")=\"&$D$6&\" and localMonth(\"&$D$12&\") =\"&$E$6&\" and LocalDay(\"&$D$12&\")=\"&$F$6&\" and Barix(\"&$D$12&\",reference:=StartOfSession)=\"&A8&\"\", \"Bar\", \"\", \"Close\",\"5\",\"0\",\"PrimaryOnly\",,,\"False\",\"T\",\"EveryTick\")","v":105.27500000000001},-4.7270148900969032E-3,{"$f":"RTD(\"cqg.rtd\",,\"StudyData\", \"Close(\"&$D$12&\") when LocalYear(\"&$D$12&\")=\"&$D$7&\" and localMonth(\"&$D$12&\") =\"&$E$7&\" and LocalDay(\"&$D$12&\")=\"&$F$7&\" and Barix(\"&$D$12&\",reference:=StartOfSession)=\"&A8&\"\", \"Bar\", \"\", \"Close\",\"5\",\"0\",\"PrimaryOnly\",,,\"False\",\"T\",\"EveryTick\")","v":105},8.1613058089293738E-3,{"$f":"RTD(\"cqg.rtd\",,\"StudyData\", \"Close(\"&$D$12&\") when LocalYear(\"&$D$12&\")=\"&$D$8&\" and localMonth(\"&$D$12&\") =\"&$E$8&\" and LocalDay(\"&$D$12&\")=\"&$F$8&\" and Barix(\"&$D$12&\",reference:=StartOfSession)=\"&A8&\"\", \"Bar\", \"\", \"Close\",\"5\",\"0\",\"PrimaryOnly\",,,\"False\",\"T\",\"EveryTick\")","v":104.55},-2.3906287353579425E-4,{"$f":"RTD(\"cqg.rtd\",,\"StudyData\", \"Close(\"&$D$12&\") when LocalYear(\"&$D$12&\")=\"&$D$9&\" and localMonth(\"&$D$12&\") =\"&$E$9&\" and LocalDay(\"&$D$12&\")=\"&$F$9&\" and Barix(\"&$D$12&\",reference:=StartOfSession)=\"&A8&\"\", \"Bar\", \"\", \"Close\",\"5\",\"0\",\"PrimaryOnly\",,,\"False\",\"T\",\"EveryTick\")","v":104.6},5.2859202306583105E-3,{"$f":"RTD(\"cqg.rtd\",,\"StudyData\", \"Close(\"&$D$12&\") when LocalYear(\"&$D$12&\")=\"&$D$10&\" and localMonth(\"&$D$12&\") =\"&$E$10&\" and LocalDay(\"&$D$12&\")=\"&$F$10&\" and Barix(\"&$D$12&\",reference:=StartOfSession)=\"&A8&\"\", \"Bar\", \"\", \"Close\",\"5\",\"0\",\"PrimaryOnly\",,,\"False\",\"T\",\"EveryTick\")","v":102.72499999999999},2.684236212786642E-3,{"$f":"RANK(AD8,$AD$1:$AD$10)+COUNTIF($AD$1:AD8,AD8)-1","v":4},"2018-06-07",{"$f":"VLOOKUP(MAX(AE2:AE55),A1:W55,23,FALSE)","v":2.3906287353565837E-4},"",8,{"$f":"VLOOKUP(AF8,$AB$1:$AD$10,2,FALSE)","v":"2018-06-18"},-3.5790980672870433E-3,null,null,"2018-06-18","2018-06-07",7,0]
[8,"09:10:00",{"$f":"RTD(\"cqg.rtd\",,\"StudyData\",$D$12,\"Bar\",,\"Time\",\"D\",\"-8\",,,,,\"T\")","v":"2018-06-06"},2018,6,6,{"$f":"RTD(\"cqg.rtd\",,\"StudyData\",$D$12,\"Bar\",,\"Close\",\"D\",\"-8\",,,,,\"T\")","v":104.575},{"$f":"RTD(\"cqg.rtd\",,\"StudyData\", \"Close(\"&$D$12&\") when LocalYear(\"&$D$12&\")=\"&$D$1&\" and localMonth(\"&$D$12&\") =\"&$E$1&\" and LocalDay(\"&$D$12&\")=\"&$F$1&\" and Barix(\"&$D$12&\",reference:=StartOfSession)=\"&A9&\"\", \"Bar\", \"\", \"Close\",\"5\",\"0\",\"PrimaryOnly\",,,\"False\",\"T\",\"EveryTick\")","v":""},{"$error":"#N/A"},{"$f":"RTD(\"cqg.rtd\",,\"StudyData\", \"Close(\"&$D$12&\") when LocalYear(\"&$D$12&\")=\"&$D$2&\" and localMonth(\"&$D$12&\") =\"&$E$2&\" and LocalDay(\"&$D$12&\")=\"&$F$2&\" and Barix(\"&$D$12&\",reference:=StartOfSession)=\"&A9&\"\", \"Bar\", \"\", \"Close\",\"5\",\"0\",\"PrimaryOnly\",,,\"False\",\"T\",\"EveryTick\")","v":102.05},1.7177914110429169E-3,{"$f":"RTD(\"cqg.rtd\",,\"StudyData\", \"Close(\"&$D$12&\") when LocalYear(\"&$D$12&\")=\"&$D$3&\" and localMonth(\"&$D$12&\") =\"&$E$3&\" and LocalDay(\"&$D$12&\")=\"&$F$3&\" and Barix(\"&$D$12&\",reference:=StartOfSession)=\"&A9&\"\", \"Bar\", \"\", \"Close\",\"5\",\"0\",\"PrimaryOnly\",,,\"False\",\"T\",\"EveryTick\")","v":103.35},-5.2935514918191658E-3,{"$f":"RTD(\"cqg.rtd\",,\"StudyData\", \"Close(\"&$D$12&\") when LocalYear(\"&$D$12&\")=\"&$D$4&\" and localMonth(\"&$D$12&\") =\"&$E$4&\" and LocalDay(\"&$D$12&\")=\"&$F$4&\" and Barix(\"&$D$12&\",reference:=StartOfSession)=\"&A9&\"\", \"Bar\", \"\", \"Close\",\"5\",\"0\",\"PrimaryOnly\",,,\"False\",\"T\",\"EveryTick\")","v":104.22499999999999},-7.1907957814000805E-4,{"$f":"RTD(\"cqg.rtd\",,\"StudyData\", \"Close(\"&$D$12&\") when LocalYear(\"&$D$12&\")=\"&$D$5&\" and localMonth(\"&$D$12&\") =\"&$E$5&\" and LocalDay(\"&$D$12&\")=\"&$F$5&\" and Barix(\"&$D$12&\",reference:=StartOfSession)=\"&A9&\"\", \"Bar\", \"\", \"Close\",\"5\",\"0\",\"PrimaryOnly\",,,\"False\",\"T\",\"EveryTick\")","v":103.85},-3.1197504199664302E-3,{"$f":"RTD(\"cqg.rtd\",,\"StudyData\", \"Close(\"&$D$12&\") when LocalYear(\"&$D$12&\")=\"&$D$6&\" and localMonth(\"&$D$12&\") =\"&$E$6&\" and LocalDay(\"&$D$12&\")=\"&$F$6&\" and Barix(\"&$D$12&\",reference:=StartOfSession)=\"&A9&\"\", \"Bar\", \"\", \"Close\",\"5\",\"0\",\"PrimaryOnly\",,,\"False\",\"T\",\"EveryTick\")","v":105.52500000000001},-2.3635074450484516E-3,{"$f":"RTD(\"cqg.rtd\",,\"StudyData\", \"Close(\"&$D$12&\") when LocalYear(\"&$D$12&\")=\"&$D$7&\" and localMonth(\"&$D$12&\") =\"&$E$7&\" and LocalDay(\"&$D$12&\")=\"&$F$7&\" and Barix(\"&$D$12&\",reference:=StartOfSession)=\"&A9&\"\", \"Bar\", \"\", \"Close\",\"5\",\"0\",\"PrimaryOnly\",,,\"False\",\"T\",\"EveryTick\")","v":105.125},9.3614978396542904E-3,{"$f":"RTD(\"cqg.rtd\",,\"StudyData\", \"Close(\"&$D$12&\") when LocalYear(\"&$D$12&\")=\"&$D$8&\" and localMonth(\"&$D$12&\") =\"&$E$8&\" and LocalDay(\"&$D$12&\")=\"&$F$8&\" and Barix(\"&$D$12&\",reference:=StartOfSession)=\"&A9&\"\", \"Bar\", \"\", \"Close\",\"5\",\"0\",\"PrimaryOnly\",,,\"False\",\"T\",\"EveryTick\")","v":104.7},1.1953143676786994E-3,{"$f":"RTD(\"cqg.rtd\",,\"StudyData\", \"Close(\"&$D$12&\") when LocalYear(\"&$D$12&\")=\"&$D$9&\" and localMonth(\"&$D$12&\") =\"&$E$9&\" and LocalDay(\"&$D$12&\")=\"&$F$9&\" and Barix(\"&$D$12&\",reference:=StartOfSession)=\"&A9&\"\", \"Bar\", \"\", \"Close\",\"5\",\"0\",\"PrimaryOnly\",,,\"False\",\"T\",\"EveryTick\")","v":104.9},8.1691494473811483E-3,{"$f":"RTD(\"cqg.rtd\",,\"StudyData\", \"Close(\"&$D$12&\") when LocalYear(\"&$D$12&\")=\"&$D$10&\" and localMonth(\"&$D$12&\") =\"&$E$10&\" and LocalDay(\"&$D$12&\")=\"&$F$10&\" and Barix(\"&$D$12&\",reference:=StartOfSession)=\"&A9&\"\", \"Bar\", \"\", \"Close\",\"5\",\"0\",\"PrimaryOnly\",,,\"False\",\"T\",\"EveryTick\")","v":102.95},4.880429477794046E-3,{"$f":"RANK(AD9,$AD$1:$AD$10)+COUNTIF($AD$1:AD9,AD9)-1","v":2},"2018-06-06",{"$f":"VLOOKUP(MAX(AE2:AE55),A1:Y55,25,FALSE)","v":4.8053820278712162E-3},"",9,"2018-06-15",-3.6809815950920245E-3,null,null,"2018-06-15","2018-06-06",8,1]
[9,"09:15:00",{"$f":"RTD(\"cqg.rtd\",,\"StudyData\",$D$12,\"Bar\",,\"Time\",\"D\",\"-9\",,,,,\"T\")","v":"2018-06-05"},2018,6,5,{"$f":"RTD(\"cqg.rtd\",,\"StudyData\",$D$12,\"Bar\",,\"Close\",\"D\",\"-9\",,,,,\"T\")","v":104.05},{"$f":"RTD(\"cqg.rtd\",,\"StudyData\", \"Close(\"&$D$12&\") when LocalYear(\"&$D$12&\")=\"&$D$1&\" and localMonth(\"&$D$12&\") =\"&$E$1&\" and LocalDay(\"&$D$12&\")=\"&$F$1&\" and Barix(\"&$D$12&\",reference:=StartOfSession)=\"&A10&\"\", \"Bar\", \"\", \"Close\",\"5\",\"0\",\"PrimaryOnly\",,,\"False\",\"T\",\"EveryTick\")","v":""},{"$error":"#N/A"},{"$f":"RTD(\"cqg.rtd\",,\"StudyData\", \"Close(\"&$D$12&\") when LocalYear(\"&$D$12&\")=\"&$D$2&\" and localMonth(\"&$D$12&\") =\"&$E$2&\" and LocalDay(\"&$D$12&\")=\"&$F$2&\" and Barix(\"&$D$12&\",reference:=StartOfSession)=\"&A10&\"\", \"Bar\", \"\", \"Close\",\"5\",\"0\",\"PrimaryOnly\",,,\"False\",\"T\",\"EveryTick\")","v":102.3},4.1717791411042668E-3,{"$f":"RTD(\"cqg.rtd\",,\"StudyData\", \"Close(\"&$D$12&\") when LocalYear(\"&$D$12&\")=\"&$D$3&\" and localMonth(\"&$D$12&\") =\"&$E$3&\" and LocalDay(\"&$D$12&\")=\"&$F$3&\" and Barix(\"&$D$12&\",reference:=StartOfSession)=\"&A10&\"\", \"Bar\", \"\", \"Close\",\"5\",\"0\",\"PrimaryOnly\",,,\"False\",\"T\",\"EveryTick\")","v":103.325},-5.5341674687199504E-3,{"$f":"RTD(\"cqg.rtd\",,\"StudyData\", \"Close(\"&$D$12&\") when LocalYear(\"&$D$12&\")=\"&$D$4&\" and localMonth(\"&$D$12&\") =\"&$E$4&\" and LocalDay(\"&$D$12&\")=\"&$F$4&\" and Barix(\"&$D$12&\",reference:=StartOfSession)=\"&A10&\"\", \"Bar\", \"\", \"Close\",\"5\",\"0\",\"PrimaryOnly\",,,\"False\",\"T\",\"EveryTick\")","v":104.375},7.1907957814000805E-4,{"$f":"RTD(\"cqg.rtd\",,\"StudyData\", \"Close(\"&$D$12&\") when LocalYear(\"&$D$12&\")=\"&$D$5&\" and localMonth(\"&$D$12&\") =\"&$E$5&\" and LocalDay(\"&$D$12&\")=\"&$F$5&\" and Barix(\"&$D$12&\",reference:=StartOfSession)=\"&A10&\"\", \"Bar\", \"\", \"Close\",\"5\",\"0\",\"PrimaryOnly\",,,\"False\",\"T\",\"EveryTick\")","v":103.625},-5.2795776337892699E-3,{"$f":"RTD(\"cqg.rtd\",,\"StudyData\", \"Close(\"&$D$12&\") when LocalYear(\"&$D$12&\")=\"&$D$6&\" and localMonth(\"&$D$12&\") =\"&$E$6&\" and LocalDay(\"&$D$12&\")=\"&$F$6&\" and Barix(\"&$D$12&\",reference:=StartOfSession)=\"&A10&\"\", \"Bar\", \"\", \"Close\",\"5\",\"0\",\"PrimaryOnly\",,,\"False\",\"T\",\"EveryTick\")","v":105.7},-7.0905223351456245E-4,{"$f":"RTD(\"cqg.rtd\",,\"StudyData\", \"Close(\"&$D$12&\") when LocalYear(\"&$D$12&\")=\"&$D$7&\" and localMonth(\"&$D$12&\") =\"&$E$7&\" and LocalDay(\"&$D$12&\")=\"&$F$7&\" and Barix(\"&$D$12&\",reference:=StartOfSession)=\"&A10&\"\", \"Bar\", \"\", \"Close\",\"5\",\"0\",\"PrimaryOnly\",,,\"False\",\"T\",\"EveryTick\")","v":104.97499999999999},7.9212674027843363E-3,{"$f":"RTD(\"cqg.rtd\",,\"StudyData\", \"Close(\"&$D$12&\") when LocalYear(\"&$D$12&\")=\"&$D$8&\" and localMonth(\"&$D$12&\") =\"&$E$8&\" and LocalDay(\"&$D$12&\")=\"&$F$8&\" and Barix(\"&$D$12&\",reference:=StartOfSession)=\"&A10&\"\", \"Bar\", \"\", \"Close\",\"5\",\"0\",\"PrimaryOnly\",,,\"False\",\"T\",\"EveryTick\")","v":104.55},-2.3906287353579425E-4,{"$f":"RTD(\"cqg.rtd\",,\"StudyData\", \"Close(\"&$D$12&\") when LocalYear(\"&$D$12&\")=\"&$D$9&\" and localMonth(\"&$D$12&\") =\"&$E$9&\" and LocalDay(\"&$D$12&\")=\"&$F$9&\" and Barix(\"&$D$12&\",reference:=StartOfSession)=\"&A10&\"\", \"Bar\", \"\", \"Close\",\"5\",\"0\",\"PrimaryOnly\",,,\"False\",\"T\",\"EveryTick\")","v":105.05},9.6107640557424323E-3,{"$f":"RTD(\"cqg.rtd\",,\"StudyData\", \"Close(\"&$D$12&\") when LocalYear(\"&$D$12&\")=\"&$D$10&\" and localMonth(\"&$D$12&\") =\"&$E$10&\" and LocalDay(\"&$D$12&\")=\"&$F$10&\" and Barix(\"&$D$12&\",reference:=StartOfSession)=\"&A10&\"\", \"Bar\", \"\", \"Close\",\"5\",\"0\",\"PrimaryOnly\",,,\"False\",\"T\",\"EveryTick\")","v":102.825},3.6603221083455345E-3,{"$f":"RANK(AD10,$AD$1:$AD$10)+COUNTIF($AD$1:AD10,AD10)-1","v":3},"2018-06-05",{"$f":"VLOOKUP(MAX(AE2:AE55),A1:AA55,27,FALSE)","v":4.8804294777937685E-4},"",10,"2018-06-14",-5.5341674687199504E-3,null,null,"2018-06-14","2018-06-05",9,2]
[10,"09:20:00",{"$f":"RTD(\"cqg.rtd\",,\"StudyData\",$D$12,\"Bar\",,\"Time\",\"D\",\"-10\",,,,,\"T\")","v":"2018-06-04"},2018,6,4,{"$f":"RTD(\"cqg.rtd\",,\"StudyData\",$D$12,\"Bar\",,\"Close\",\"D\",\"-10\",,,,,\"T\")","v":102.45},{"$f":"RTD(\"cqg.rtd\",,\"StudyData\", \"Close(\"&$D$12&\") when LocalYear(\"&$D$12&\")=\"&$D$1&\" and localMonth(\"&$D$12&\") =\"&$E$1&\" and LocalDay(\"&$D$12&\")=\"&$F$1&\" and Barix(\"&$D$12&\",reference:=StartOfSession)=\"&A11&\"\", \"Bar\", \"\", \"Close\",\"5\",\"0\",\"PrimaryOnly\",,,\"False\",\"T\",\"EveryTick\")","v":""},{"$error":"#N/A"},{"$f":"RTD(\"cqg.rtd\",,\"StudyData\", \"Close(\"&$D$12&\") when LocalYear(\"&$D$12&\")=\"&$D$2&\" and localMonth(\"&$D$12&\") =\"&$E$2&\" and LocalDay(\"&$D$12&\")=\"&$F$2&\" and Barix(\"&$D$12&\",reference:=StartOfSession)=\"&A11&\"\", \"Bar\", \"\", \"Close\",\"5\",\"0\",\"PrimaryOnly\",,,\"False\",\"T\",\"EveryTick\")","v":102.22499999999999},3.4355828220858338E-3,{"$f":"RTD(\"cqg.rtd\",,\"StudyData\", \"Close(\"&$D$12&\") when LocalYear(\"&$D$12&\")=\"&$D$3&\" and localMonth(\"&$D$12&\") =\"&$E$3&\" and LocalDay(\"&$D$12&\")=\"&$F$3&\" and Barix(\"&$D$12&\",reference:=StartOfSession)=\"&A11&\"\", \"Bar\", \"\", \"Close\",\"5\",\"0\",\"PrimaryOnly\",,,\"False\",\"T\",\"EveryTick\")","v":103.55},-3.3686236766122088E-3,{"$f":"RTD(\"cqg.rtd\",,\"StudyData\", \"Close(\"&$D$12&\") when LocalYear(\"&$D$12&\")=\"&$D$4&\" and localMonth(\"&$D$12&\") =\"&$E$4&\" and LocalDay(\"&$D$12&\")=\"&$F$4&\" and Barix(\"&$D$12&\",reference:=StartOfSession)=\"&A11&\"\", \"Bar\", \"\", \"Close\",\"5\",\"0\",\"PrimaryOnly\",,,\"False\",\"T\",\"EveryTick\")","v":104.25},-4.7938638542662664E-4,{"$f":"RTD(\"cqg.rtd\",,\"StudyData\", \"Close(\"&$D$12&\") when LocalYear(\"&$D$12&\")=\"&$D$5&\" and localMonth(\"&$D$12&\") =\"&$E$5&\" and LocalDay(\"&$D$12&\")=\"&$F$5&\" and Barix(\"&$D$12&\",reference:=StartOfSession)=\"&A11&\"\", \"Bar\", \"\", \"Close\",\"5\",\"0\",\"PrimaryOnly\",,,\"False\",\"T\",\"EveryTick\")","v":103.425},-7.199424046076314E-3,{"$f":"RTD(\"cqg.rtd\",,\"StudyData\", \"Close(\"&$D$12&\") when LocalYear(\"&$D$12&\")=\"&$D$6&\" and localMonth(\"&$D$12&\") =\"&$E$6&\" and LocalDay(\"&$D$12&\")=\"&$F$6&\" and Barix(\"&$D$12&\",reference:=StartOfSession)=\"&A11&\"\", \"Bar\", \"\", \"Close\",\"5\",\"0\",\"PrimaryOnly\",,,\"False\",\"T\",\"EveryTick\")","v":105.7},-7.0905223351456245E-4,{"$f":"RTD(\"cqg.rtd\",,\"StudyData\", \"Close(\"&$D$12&\") when LocalYear(\"&$D$12&\")=\"&$D$7&\" and localMonth(\"&$D$12&\") =\"&$E$7&\" and LocalDay(\"&$D$12&\")=\"&$F$7&\" and Barix(\"&$D$12&\",reference:=StartOfSession)=\"&A11&\"\", \"Bar\", \"\", \"Close\",\"5\",\"0\",\"PrimaryOnly\",,,\"False\",\"T\",\"EveryTick\")","v":105.27500000000001},1.0801728276524243E-2,{"$f":"RTD(\"cqg.rtd\",,\"StudyData\", \"Close(\"&$D$12&\") when LocalYear(\"&$D$12&\")=\"&$D$8&\" and localMonth(\"&$D$12&\") =\"&$E$8&\" and LocalDay(\"&$D$12&\")=\"&$F$8&\" and Barix(\"&$D$12&\",reference:=StartOfSession)=\"&A11&\"\", \"Bar\", \"\", \"Close\",\"5\",\"0\",\"PrimaryOnly\",,,\"False\",\"T\",\"EveryTick\")","v":104.72499999999999},1.4343772412143579E-3,{"$f":"RTD(\"cqg.rtd\",,\"StudyData\", \"Close(\"&$D$12&\") when LocalYear(\"&$D$12&\")=\"&$D$9&\" and localMonth(\"&$D$12&\") =\"&$E$9&\" and LocalDay(\"&$D$12&\")=\"&$F$9&\" and Barix(\"&$D$12&\",reference:=StartOfSession)=\"&A11&\"\", \"Bar\", \"\", \"Close\",\"5\",\"0\",\"PrimaryOnly\",,,\"False\",\"T\",\"EveryTick\")","v":104.75},6.7275348390197299E-3,{"$f":"RTD(\"cqg.rtd\",,\"StudyData\", \"Close(\"&$D$12&\") when LocalYear(\"&$D$12&\")=\"&$D$10&\" and localMonth(\"&$D$12&\") =\"&$E$10&\" and LocalDay(\"&$D$12&\")=\"&$F$10&\" and Barix(\"&$D$12&\",reference:=StartOfSession)=\"&A11&\"\", \"Bar\", \"\", \"Close\",\"5\",\"0\",\"PrimaryOnly\",,,\"False\",\"T\",\"EveryTick\")","v":102.875},4.1483650561249114E-3,null,null,null,""]
[11,"09:25:00",null,{"$f":"MainDisplay!R31","v":"GLE"},null,null,null,{"$f":"RTD(\"cqg.rtd\",,\"StudyData\", \"Close(\"&$D$12&\") when LocalYear(\"&$D$12&\")=\"&$D$1&\" and localMonth(\"&$D$12&\") =\"&$E$1&\" and LocalDay(\"&$D$12&\")=\"&$F$1&\" and Barix(\"&$D$12&\",reference:=StartOfSession)=\"&A12&\"\", \"Bar\", \"\", \"Close\",\"5\",\"0\",\"PrimaryOnly\",,,\"False\",\"T\",\"EveryTick\")","v":""},{"$error":"#N/A"},{"$f":"RTD(\"cqg.rtd\",,\"StudyData\", \"Close(\"&$D$12&\") when LocalYear(\"&$D$12&\")=\"&$D$2&\" and localMonth(\"&$D$12&\") =\"&$E$2&\" and LocalDay(\"&$D$12&\")=\"&$F$2&\" and Barix(\"&$D$12&\",reference:=StartOfSession)=\"&A12&\"\", \"Bar\", \"\", \"Close\",\"5\",\"0\",\"PrimaryOnly\",,,\"False\",\"T\",\"EveryTick\")","v":102.45},5.6441717791411326E-3,{"$f":"RTD(\"cqg.rtd\",,\"StudyData\", \"Close(\"&$D$12&\") when LocalYear(\"&$D$12&\")=\"&$D$3&\" and localMonth(\"&$D$12&\") =\"&$E$3&\" and LocalDay(\"&$D$12&\")=\"&$F$3&\" and Barix(\"&$D$12&\",reference:=StartOfSession)=\"&A12&\"\", \"Bar\", \"\", \"Close\",\"5\",\"0\",\"PrimaryOnly\",,,\"False\",\"T\",\"EveryTick\")","v":103.65},-2.406159769008662E-3,{"$f":"RTD(\"cqg.rtd\",,\"StudyData\", \"Close(\"&$D$12&\") when LocalYear(\"&$D$12&\")=\"&$D$4&\" and localMonth(\"&$D$12&\") =\"&$E$4&\" and LocalDay(\"&$D$12&\")=\"&$F$4&\" and Barix(\"&$D$12&\",reference:=StartOfSession)=\"&A12&\"\", \"Bar\", \"\", \"Close\",\"5\",\"0\",\"PrimaryOnly\",,,\"False\",\"T\",\"EveryTick\")","v":104.4},9.5877277085338957E-4,{"$f":"RTD(\"cqg.rtd\",,\"StudyData\", \"Close(\"&$D$12&\") when LocalYear(\"&$D$12&\")=\"&$D$5&\" and localMonth(\"&$D$12&\") =\"&$E$5&\" and LocalDay(\"&$D$12&\")=\"&$F$5&\" and Barix(\"&$D$12&\",reference:=StartOfSession)=\"&A12&\"\", \"Bar\", \"\", \"Close\",\"5\",\"0\",\"PrimaryOnly\",,,\"False\",\"T\",\"EveryTick\")","v":103.625},-5.2795776337892699E-3,{"$f":"RTD(\"cqg.rtd\",,\"StudyData\", \"Close(\"&$D$12&\") when LocalYear(\"&$D$12&\")=\"&$D$6&\" and localMonth(\"&$D$12&\") =\"&$E$6&\" and LocalDay(\"&$D$12&\")=\"&$F$6&\" and Barix(\"&$D$12&\",reference:=StartOfSession)=\"&A12&\"\", \"Bar\", \"\", \"Close\",\"5\",\"0\",\"PrimaryOnly\",,,\"False\",\"T\",\"EveryTick\")","v":105.575},-1.8908059560387882E-3,{"$f":"RTD(\"cqg.rtd\",,\"StudyData\", \"Close(\"&$D$12&\") when LocalYear(\"&$D$12&\")=\"&$D$7&\" and localMonth(\"&$D$12&\") =\"&$E$7&\" and LocalDay(\"&$D$12&\")=\"&$F$7&\" and Barix(\"&$D$12&\",reference:=StartOfSession)=\"&A12&\"\", \"Bar\", \"\", \"Close\",\"5\",\"0\",\"PrimaryOnly\",,,\"False\",\"T\",\"EveryTick\")","v":104.97499999999999},7.9212674027843363E-3,{"$f":"RTD(\"cqg.rtd\",,\"StudyData\", \"Close(\"&$D$12&\") when LocalYear(\"&$D$12&\")=\"&$D$8&\" and localMonth(\"&$D$12&\") =\"&$E$8&\" and LocalDay(\"&$D$12&\")=\"&$F$8&\" and Barix(\"&$D$12&\",reference:=StartOfSession)=\"&A12&\"\", \"Bar\", \"\", \"Close\",\"5\",\"0\",\"PrimaryOnly\",,,\"False\",\"T\",\"EveryTick\")","v":104.9},3.1078173559646459E-3,{"$f":"RTD(\"cqg.rtd\",,\"StudyData\", \"Close(\"&$D$12&\") when LocalYear(\"&$D$12&\")=\"&$D$9&\" and localMonth(\"&$D$12&\") =\"&$E$9&\" and LocalDay(\"&$D$12&\")=\"&$F$9&\" and Barix(\"&$D$12&\",reference:=StartOfSession)=\"&A12&\"\", \"Bar\", \"\", \"Close\",\"5\",\"0\",\"PrimaryOnly\",,,\"False\",\"T\",\"EveryTick\")","v":104.72499999999999},6.4872657376261137E-3,{"$f":"RTD(\"cqg.rtd\",,\"StudyData\", \"Close(\"&$D$12&\") when LocalYear(\"&$D$12&\")=\"&$D$10&\" and localMonth(\"&$D$12&\") =\"&$E$10&\" and LocalDay(\"&$D$12&\")=\"&$F$10&\" and Barix(\"&$D$12&\",reference:=StartOfSession)=\"&A12&\"\", \"Bar\", \"\", \"Close\",\"5\",\"0\",\"PrimaryOnly\",,,\"False\",\"T\",\"EveryTick\")","v":103},5.3684724255734229E-3,null,{"$f":"VLOOKUP(MAX(AE2:AE55),A1:B55,2,FALSE)","v":"08:50:00"},null,""]
[12,"09:30:00",null,{"$f":"RTD(\"cqg.rtd\", ,\"ContractData\",D12, \"LastQuoteToday\",, \"T\")","v":104.375},null,null,{"$f":"C1","v":"2018-06-18"},{"$f":"RTD(\"cqg.rtd\",,\"StudyData\", \"Close(\"&$D$12&\") when LocalYear(\"&$D$12&\")=\"&$D$1&\" and localMonth(\"&$D$12&\") =\"&$E$1&\" and LocalDay(\"&$D$12&\")=\"&$F$1&\" and Barix(\"&$D$12&\",reference:=StartOfSession)=\"&A13&\"\", \"Bar\", \"\", \"Close\",\"5\",\"0\",\"PrimaryOnly\",,,\"False\",\"T\",\"EveryTick\")","v":""},{"$error":"#N/A"},{"$f":"RTD(\"cqg.rtd\",,\"StudyData\", \"Close(\"&$D$12&\") when LocalYear(\"&$D$12&\")=\"&$D$2&\" and localMonth(\"&$D$12&\") =\"&$E$2&\" and LocalDay(\"&$D$12&\")=\"&$F$2&\" and Barix(\"&$D$12&\",reference:=StartOfSession)=\"&A13&\"\", \"Bar\", \"\", \"Close\",\"5\",\"0\",\"PrimaryOnly\",,,\"False\",\"T\",\"EveryTick\")","v":102.25},3.6809815950920245E-3,{"$f":"RTD(\"cqg.rtd\",,\"StudyData\", \"Close(\"&$D$12&\") when LocalYear(\"&$D$12&\")=\"&$D$3&\" and localMonth(\"&$D$12&\") =\"&$E$3&\" and LocalDay(\"&$D$12&\")=\"&$F$3&\" and Barix(\"&$D$12&\",reference:=StartOfSession)=\"&A13&\"\", \"Bar\", \"\", \"Close\",\"5\",\"0\",\"PrimaryOnly\",,,\"False\",\"T\",\"EveryTick\")","v":103.55},-3.3686236766122088E-3,{"$f":"RTD(\"cqg.rtd\",,\"StudyData\", \"Close(\"&$D$12&\") when LocalYear(\"&$D$12&\")=\"&$D$4&\" and localMonth(\"&$D$12&\") =\"&$E$4&\" and LocalDay(\"&$D$12&\")=\"&$F$4&\" and Barix(\"&$D$12&\",reference:=StartOfSession)=\"&A13&\"\", \"Bar\", \"\", \"Close\",\"5\",\"0\",\"PrimaryOnly\",,,\"False\",\"T\",\"EveryTick\")","v":104.425},1.1984659635666348E-3,{"$f":"RTD(\"cqg.rtd\",,\"StudyData\", \"Close(\"&$D$12&\") when LocalYear(\"&$D$12&\")=\"&$D$5&\" and localMonth(\"&$D$12&\") =\"&$E$5&\" and LocalDay(\"&$D$12&\")=\"&$F$5&\" and Barix(\"&$D$12&\",reference:=StartOfSession)=\"&A13&\"\", \"Bar\", \"\", \"Close\",\"5\",\"0\",\"PrimaryOnly\",,,\"False\",\"T\",\"EveryTick\")","v":103.75},-4.0796736261098842E-3,{"$f":"RTD(\"cqg.rtd\",,\"StudyData\", \"Close(\"&$D$12&\") when LocalYear(\"&$D$12&\")=\"&$D$6&\" and localMonth(\"&$D$12&\") =\"&$E$6&\" and LocalDay(\"&$D$12&\")=\"&$F$6&\" and Barix(\"&$D$12&\",reference:=StartOfSession)=\"&A13&\"\", \"Bar\", \"\", \"Close\",\"5\",\"0\",\"PrimaryOnly\",,,\"False\",\"T\",\"EveryTick\")","v":105.3},-4.4906641455921392E-3,{"$f":"RTD(\"cqg.rtd\",,\"StudyData\", \"Close(\"&$D$12&\") when LocalYear(\"&$D$12&\")=\"&$D$7&\" and localMonth(\"&$D$12&\") =\"&$E$7&\" and LocalDay(\"&$D$12&\")=\"&$F$7&\" and Barix(\"&$D$12&\",reference:=StartOfSession)=\"&A13&\"\", \"Bar\", \"\", \"Close\",\"5\",\"0\",\"PrimaryOnly\",,,\"False\",\"T\",\"EveryTick\")","v":105.1},9.1214594335092512E-3,{"$f":"RTD(\"cqg.rtd\",,\"StudyData\", \"Close(\"&$D$12&\") when LocalYear(\"&$D$12&\")=\"&$D$8&\" and localMonth(\"&$D$12&\") =\"&$E$8&\" and LocalDay(\"&$D$12&\")=\"&$F$8&\" and Barix(\"&$D$12&\",reference:=StartOfSession)=\"&A13&\"\", \"Bar\", \"\", \"Close\",\"5\",\"0\",\"PrimaryOnly\",,,\"False\",\"T\",\"EveryTick\")","v":104.72499999999999},1.4343772412143579E-3,{"$f":"RTD(\"cqg.rtd\",,\"StudyData\", \"Close(\"&$D$12&\") when LocalYear(\"&$D$12&\")=\"&$D$9&\" and localMonth(\"&$D$12&\") =\"&$E$9&\" and LocalDay(\"&$D$12&\")=\"&$F$9&\" and Barix(\"&$D$12&\",reference:=StartOfSession)=\"&A13&\"\", \"Bar\", \"\", \"Close\",\"5\",\"0\",\"PrimaryOnly\",,,\"False\",\"T\",\"EveryTick\")","v":104.77500000000001},6.9678039404133451E-3,{"$f":"RTD(\"cqg.rtd\",,\"StudyData\", \"Close(\"&$D$12&\") when LocalYear(\"&$D$12&\")=\"&$D$10&\" and localMonth(\"&$D$12&\") =\"&$E$10&\" and LocalDay(\"&$D$12&\")=\"&$F$10&\" and Barix(\"&$D$12&\",reference:=StartOfSession)=\"&A13&\"\", \"Bar\", \"\", \"Close\",\"5\",\"0\",\"PrimaryOnly\",,,\"False\",\"T\",\"EveryTick\")","v":103.075},6.1005368472425575E-3,null,null,null,""]
[13,"09:35:00",null,{"$f":"RTD(\"cqg.rtd\", ,\"ContractData\",D12, \"LongDescription\",, \"T\")","v":"Live Cattle (Globex), Aug 18"},null,null,{"$f":"C2","v":"2018-06-15"},{"$f":"RTD(\"cqg.rtd\",,\"StudyData\", \"Close(\"&$D$12&\") when LocalYear(\"&$D$12&\")=\"&$D$1&\" and localMonth(\"&$D$12&\") =\"&$E$1&\" and LocalDay(\"&$D$12&\")=\"&$F$1&\" and Barix(\"&$D$12&\",reference:=StartOfSession)=\"&A14&\"\", \"Bar\", \"\", \"Close\",\"5\",\"0\",\"PrimaryOnly\",,,\"False\",\"T\",\"EveryTick\")","v":""},{"$error":"#N/A"},{"$f":"RTD(\"cqg.rtd\",,\"StudyData\", \"Close(\"&$D$12&\") when LocalYear(\"&$D$12&\")=\"&$D$2&\" and localMonth(\"&$D$12&\") =\"&$E$2&\" and LocalDay(\"&$D$12&\")=\"&$F$2&\" and Barix(\"&$D$12&\",reference:=StartOfSession)=\"&A14&\"\", \"Bar\", \"\", \"Close\",\"5\",\"0\",\"PrimaryOnly\",,,\"False\",\"T\",\"EveryTick\")","v":102.175},2.9447852760735916E-3,{"$f":"RTD(\"cqg.rtd\",,\"StudyData\", \"Close(\"&$D$12&\") when LocalYear(\"&$D$12&\")=\"&$D$3&\" and localMonth(\"&$D$12&\") =\"&$E$3&\" and LocalDay(\"&$D$12&\")=\"&$F$3&\" and Barix(\"&$D$12&\",reference:=StartOfSession)=\"&A14&\"\", \"Bar\", \"\", \"Close\",\"5\",\"0\",\"PrimaryOnly\",,,\"False\",\"T\",\"EveryTick\")","v":103.52500000000001},-3.609239653512993E-3,{"$f":"RTD(\"cqg.rtd\",,\"StudyData\", \"Close(\"&$D$12&\") when LocalYear(\"&$D$12&\")=\"&$D$4&\" and localMonth(\"&$D$12&\") =\"&$E$4&\" and LocalDay(\"&$D$12&\")=\"&$F$4&\" and Barix(\"&$D$12&\",reference:=StartOfSession)=\"&A14&\"\", \"Bar\", \"\", \"Close\",\"5\",\"0\",\"PrimaryOnly\",,,\"False\",\"T\",\"EveryTick\")","v":104.6},2.876318312559896E-3,{"$f":"RTD(\"cqg.rtd\",,\"StudyData\", \"Close(\"&$D$12&\") when LocalYear(\"&$D$12&\")=\"&$D$5&\" and localMonth(\"&$D$12&\") =\"&$E$5&\" and LocalDay(\"&$D$12&\")=\"&$F$5&\" and Barix(\"&$D$12&\",reference:=StartOfSession)=\"&A14&\"\", \"Bar\", \"\", \"Close\",\"5\",\"0\",\"PrimaryOnly\",,,\"False\",\"T\",\"EveryTick\")","v":103.85},-3.1197504199664302E-3,{"$f":"RTD(\"cqg.rtd\",,\"StudyData\", \"Close(\"&$D$12&\") when LocalYear(\"&$D$12&\")=\"&$D$6&\" and localMonth(\"&$D$12&\") =\"&$E$6&\" and LocalDay(\"&$D$12&\")=\"&$F$6&\" and Barix(\"&$D$12&\",reference:=StartOfSession)=\"&A14&\"\", \"Bar\", \"\", \"Close\",\"5\",\"0\",\"PrimaryOnly\",,,\"False\",\"T\",\"EveryTick\")","v":105.7},-7.0905223351456245E-4,{"$f":"RTD(\"cqg.rtd\",,\"StudyData\", \"Close(\"&$D$12&\") when LocalYear(\"&$D$12&\")=\"&$D$7&\" and localMonth(\"&$D$12&\") =\"&$E$7&\" and LocalDay(\"&$D$12&\")=\"&$F$7&\" and Barix(\"&$D$12&\",reference:=StartOfSession)=\"&A14&\"\", \"Bar\", \"\", \"Close\",\"5\",\"0\",\"PrimaryOnly\",,,\"False\",\"T\",\"EveryTick\")","v":105.1},9.1214594335092512E-3,{"$f":"RTD(\"cqg.rtd\",,\"StudyData\", \"Close(\"&$D$12&\") when LocalYear(\"&$D$12&\")=\"&$D$8&\" and localMonth(\"&$D$12&\") =\"&$E$8&\" and LocalDay(\"&$D$12&\")=\"&$F$8&\" and Barix(\"&$D$12&\",reference:=StartOfSession)=\"&A14&\"\", \"Bar\", \"\", \"Close\",\"5\",\"0\",\"PrimaryOnly\",,,\"False\",\"T\",\"EveryTick\")","v":104.625},4.7812574707145259E-4,{"$f":"RTD(\"cqg.rtd\",,\"StudyData\", \"Close(\"&$D$12&\") when LocalYear(\"&$D$12&\")=\"&$D$9&\" and localMonth(\"&$D$12&\") =\"&$E$9&\" and LocalDay(\"&$D$12&\")=\"&$F$9&\" and Barix(\"&$D$12&\",reference:=StartOfSession)=\"&A14&\"\", \"Bar\", \"\", \"Close\",\"5\",\"0\",\"PrimaryOnly\",,,\"False\",\"T\",\"EveryTick\")","v":104.675},6.0067275348390202E-3,{"$f":"RTD(\"cqg.rtd\",,\"StudyData\", \"Close(\"&$D$12&\") when LocalYear(\"&$D$12&\")=\"&$D$10&\" and localMonth(\"&$D$12&\") =\"&$E$10&\" and LocalDay(\"&$D$12&\")=\"&$F$10&\" and Barix(\"&$D$12&\",reference:=StartOfSession)=\"&A14&\"\", \"Bar\", \"\", \"Close\",\"5\",\"0\",\"PrimaryOnly\",,,\"False\",\"T\",\"EveryTick\")","v":103.1},6.3445583211321765E-3,null,null,null,""]
[14,"09:40:00","",null,null,{"$f":"RTD(\"cqg.rtd\", ,\"ContractData\",\"TYA\", \"Ticksize\",, \"T\")","v":1.5625E-2},"2018-06-14",{"$f":"RTD(\"cqg.rtd\",,\"StudyData\", \"Close(\"&$D$12&\") when LocalYear(\"&$D$12&\")=\"&$D$1&\" and localMonth(\"&$D$12&\") =\"&$E$1&\" and LocalDay(\"&$D$12&\")=\"&$F$1&\" and Barix(\"&$D$12&\",reference:=StartOfSession)=\"&A15&\"\", \"Bar\", \"\", \"Close\",\"5\",\"0\",\"PrimaryOnly\",,,\"False\",\"T\",\"EveryTick\")","v":""},{"$error":"#N/A"},{"$f":"RTD(\"cqg.rtd\",,\"StudyData\", \"Close(\"&$D$12&\") when LocalYear(\"&$D$12&\")=\"&$D$2&\" and localMonth(\"&$D$12&\") =\"&$E$2&\" and LocalDay(\"&$D$12&\")=\"&$F$2&\" and Barix(\"&$D$12&\",reference:=StartOfSession)=\"&A15&\"\", \"Bar\", \"\", \"Close\",\"5\",\"0\",\"PrimaryOnly\",,,\"False\",\"T\",\"EveryTick\")","v":102.27500000000001},3.9263803680982153E-3,{"$f":"RTD(\"cqg.rtd\",,\"StudyData\", \"Close(\"&$D$12&\") when LocalYear(\"&$D$12&\")=\"&$D$3&\" and localMonth(\"&$D$12&\") =\"&$E$3&\" and LocalDay(\"&$D$12&\")=\"&$F$3&\" and Barix(\"&$D$12&\",reference:=StartOfSession)=\"&A15&\"\", \"Bar\", \"\", \"Close\",\"5\",\"0\",\"PrimaryOnly\",,,\"False\",\"T\",\"EveryTick\")","v":103.25},-6.2560153994225759E-3,{"$f":"RTD(\"cqg.rtd\",,\"StudyData\", \"Close(\"&$D$12&\") when LocalYear(\"&$D$12&\")=\"&$D$4&\" and localMonth(\"&$D$12&\") =\"&$E$4&\" and LocalDay(\"&$D$12&\")=\"&$F$4&\" and Barix(\"&$D$12&\",reference:=StartOfSession)=\"&A15&\"\", \"Bar\", \"\", \"Close\",\"5\",\"0\",\"PrimaryOnly\",,,\"False\",\"T\",\"EveryTick\")","v":104.52500000000001},2.1572387344200245E-3,{"$f":"RTD(\"cqg.rtd\",,\"StudyData\", \"Close(\"&$D$12&\") when LocalYear(\"&$D$12&\")=\"&$D$5&\" and localMonth(\"&$D$12&\") =\"&$E$5&\" and LocalDay(\"&$D$12&\")=\"&$F$5&\" and Barix(\"&$D$12&\",reference:=StartOfSession)=\"&A15&\"\", \"Bar\", \"\", \"Close\",\"5\",\"0\",\"PrimaryOnly\",,,\"False\",\"T\",\"EveryTick\")","v":103.97499999999999},-1.9198464122870444E-3,{"$f":"RTD(\"cqg.rtd\",,\"StudyData\", \"Close(\"&$D$12&\") when LocalYear(\"&$D$12&\")=\"&$D$6&\" and localMonth(\"&$D$12&\") =\"&$E$6&\" and LocalDay(\"&$D$12&\")=\"&$F$6&\" and Barix(\"&$D$12&\",reference:=StartOfSession)=\"&A15&\"\", \"Bar\", \"\", \"Close\",\"5\",\"0\",\"PrimaryOnly\",,,\"False\",\"T\",\"EveryTick\")","v":105.8},2.3635074450476456E-4,{"$f":"RTD(\"cqg.rtd\",,\"StudyData\", \"Close(\"&$D$12&\") when LocalYear(\"&$D$12&\")=\"&$D$7&\" and localMonth(\"&$D$12&\") =\"&$E$7&\" and LocalDay(\"&$D$12&\")=\"&$F$7&\" and Barix(\"&$D$12&\",reference:=StartOfSession)=\"&A15&\"\", \"Bar\", \"\", \"Close\",\"5\",\"0\",\"PrimaryOnly\",,,\"False\",\"T\",\"EveryTick\")","v":105.02500000000001},8.4013442150744112E-3,{"$f":"RTD(\"cqg.rtd\",,\"StudyData\", \"Close(\"&$D$12&\") when LocalYear(\"&$D$12&\")=\"&$D$8&\" and localMonth(\"&$D$12&\") =\"&$E$8&\" and LocalDay(\"&$D$12&\")=\"&$F$8&\" and Barix(\"&$D$12&\",reference:=StartOfSession)=\"&A15&\"\", \"Bar\", \"\", \"Close\",\"5\",\"0\",\"PrimaryOnly\",,,\"False\",\"T\",\"EveryTick\")","v":104.625},4.7812574707145259E-4,{"$f":"RTD(\"cqg.rtd\",,\"StudyData\", \"Close(\"&$D$12&\") when LocalYear(\"&$D$12&\")=\"&$D$9&\" and localMonth(\"&$D$12&\") =\"&$E$9&\" and LocalDay(\"&$D$12&\")=\"&$F$9&\" and Barix(\"&$D$12&\",reference:=StartOfSession)=\"&A15&\"\", \"Bar\", \"\", \"Close\",\"5\",\"0\",\"PrimaryOnly\",,,\"False\",\"T\",\"EveryTick\")","v":104.925},8.4094185487746283E-3,{"$f":"RTD(\"cqg.rtd\",,\"StudyData\", \"Close(\"&$D$12&\") when LocalYear(\"&$D$12&\")=\"&$D$10&\" and localMonth(\"&$D$12&\") =\"&$E$10&\" and LocalDay(\"&$D$12&\")=\"&$F$10&\" and Barix(\"&$D$12&\",reference:=StartOfSession)=\"&A15&\"\", \"Bar\", \"\", \"Close\",\"5\",\"0\",\"PrimaryOnly\",,,\"False\",\"T\",\"EveryTick\")","v":103.22499999999999},7.5646656905806881E-3,null,null,null,""]
[15,"09:45:00",null,{"$f":"RTD(\"cqg.rtd\", ,\"ContractData\",D12, \"Ticksize\",, \"T\")","v":2.5000000000000001E-2},null,{"$f":"IF(OR(D16=0.0078125,D16=0.015625,D16=0.03125),\"B\",F17)","v":"#.000"},"2018-06-13",{"$f":"RTD(\"cqg.rtd\",,\"StudyData\", \"Close(\"&$D$12&\") when LocalYear(\"&$D$12&\")=\"&$D$1&\" and localMonth(\"&$D$12&\") =\"&$E$1&\" and LocalDay(\"&$D$12&\")=\"&$F$1&\" and Barix(\"&$D$12&\",reference:=StartOfSession)=\"&A16&\"\", \"Bar\", \"\", \"Close\",\"5\",\"0\",\"PrimaryOnly\",,,\"False\",\"T\",\"EveryTick\")","v":""},{"$error":"#N/A"},{"$f":"RTD(\"cqg.rtd\",,\"StudyData\", \"Close(\"&$D$12&\") when LocalYear(\"&$D$12&\")=\"&$D$2&\" and localMonth(\"&$D$12&\") =\"&$E$2&\" and LocalDay(\"&$D$12&\")=\"&$F$2&\" and Barix(\"&$D$12&\",reference:=StartOfSession)=\"&A16&\"\", \"Bar\", \"\", \"Close\",\"5\",\"0\",\"PrimaryOnly\",,,\"False\",\"T\",\"EveryTick\")","v":102.325},4.417177914110457E-3,{"$f":"RTD(\"cqg.rtd\",,\"StudyData\", \"Close(\"&$D$12&\") when LocalYear(\"&$D$12&\")=\"&$D$3&\" and localMonth(\"&$D$12&\") =\"&$E$3&\" and LocalDay(\"&$D$12&\")=\"&$F$3&\" and Barix(\"&$D$12&\",reference:=StartOfSession)=\"&A16&\"\", \"Bar\", \"\", \"Close\",\"5\",\"0\",\"PrimaryOnly\",,,\"False\",\"T\",\"EveryTick\")","v":103.325},-5.5341674687199504E-3,{"$f":"RTD(\"cqg.rtd\",,\"StudyData\", \"Close(\"&$D$12&\") when LocalYear(\"&$D$12&\")=\"&$D$4&\" and localMonth(\"&$D$12&\") =\"&$E$4&\" and LocalDay(\"&$D$12&\")=\"&$F$4&\" and Barix(\"&$D$12&\",reference:=StartOfSession)=\"&A16&\"\", \"Bar\", \"\", \"Close\",\"5\",\"0\",\"PrimaryOnly\",,,\"False\",\"T\",\"EveryTick\")","v":104.6},2.876318312559896E-3,{"$f":"RTD(\"cqg.rtd\",,\"StudyData\", \"Close(\"&$D$12&\") when LocalYear(\"&$D$12&\")=\"&$D$5&\" and localMonth(\"&$D$12&\") =\"&$E$5&\" and LocalDay(\"&$D$12&\")=\"&$F$5&\" and Barix(\"&$D$12&\",reference:=StartOfSession)=\"&A16&\"\", \"Bar\", \"\", \"Close\",\"5\",\"0\",\"PrimaryOnly\",,,\"False\",\"T\",\"EveryTick\")","v":104},-1.6798656107511127E-3,{"$f":"RTD(\"cqg.rtd\",,\"StudyData\", \"Close(\"&$D$12&\") when LocalYear(\"&$D$12&\")=\"&$D$6&\" and localMonth(\"&$D$12&\") =\"&$E$6&\" and LocalDay(\"&$D$12&\")=\"&$F$6&\" and Barix(\"&$D$12&\",reference:=StartOfSession)=\"&A16&\"\", \"Bar\", \"\", \"Close\",\"5\",\"0\",\"PrimaryOnly\",,,\"False\",\"T\",\"EveryTick\")","v":105.8},2.3635074450476456E-4,{"$f":"RTD(\"cqg.rtd\",,\"StudyData\", \"Close(\"&$D$12&\") when LocalYear(\"&$D$12&\")=\"&$D$7&\" and localMonth(\"&$D$12&\") =\"&$E$7&\" and LocalDay(\"&$D$12&\")=\"&$F$7&\" and Barix(\"&$D$12&\",reference:=StartOfSession)=\"&A16&\"\", \"Bar\", \"\", \"Close\",\"5\",\"0\",\"PrimaryOnly\",,,\"False\",\"T\",\"EveryTick\")","v":105.15},9.6015362457993279E-3,{"$f":"RTD(\"cqg.rtd\",,\"StudyData\", \"Close(\"&$D$12&\") when LocalYear(\"&$D$12&\")=\"&$D$8&\" and localMonth(\"&$D$12&\") =\"&$E$8&\" and LocalDay(\"&$D$12&\")=\"&$F$8&\" and Barix(\"&$D$12&\",reference:=StartOfSession)=\"&A16&\"\", \"Bar\", \"\", \"Close\",\"5\",\"0\",\"PrimaryOnly\",,,\"False\",\"T\",\"EveryTick\")","v":104.625},4.7812574707145259E-4,{"$f":"RTD(\"cqg.rtd\",,\"StudyData\", \"Close(\"&$D$12&\") when LocalYear(\"&$D$12&\")=\"&$D$9&\" and localMonth(\"&$D$12&\") =\"&$E$9&\" and LocalDay(\"&$D$12&\")=\"&$F$9&\" and Barix(\"&$D$12&\",reference:=StartOfSession)=\"&A16&\"\", \"Bar\", \"\", \"Close\",\"5\",\"0\",\"PrimaryOnly\",,,\"False\",\"T\",\"EveryTick\")","v":104.95},8.6496876501682435E-3,{"$f":"RTD(\"cqg.rtd\",,\"StudyData\", \"Close(\"&$D$12&\") when LocalYear(\"&$D$12&\")=\"&$D$10&\" and localMonth(\"&$D$12&\") =\"&$E$10&\" and LocalDay(\"&$D$12&\")=\"&$F$10&\" and Barix(\"&$D$12&\",reference:=StartOfSession)=\"&A16&\"\", \"Bar\", \"\", \"Close\",\"5\",\"0\",\"PrimaryOnly\",,,\"False\",\"T\",\"EveryTick\")","v":103.05},5.8565153733527997E-3,null,null,null,""]
[16,"09:50:00",null,{"$f":"IF(D16>=1,0,IF(LEN(D16)-2=1,2,LEN(D16)-2))","v":3},null,{"$f":"VLOOKUP(D17,D18:E25,2,FALSE)","v":"#.000"},"2018-06-12",{"$f":"RTD(\"cqg.rtd\",,\"StudyData\", \"Close(\"&$D$12&\") when LocalYear(\"&$D$12&\")=\"&$D$1&\" and localMonth(\"&$D$12&\") =\"&$E$1&\" and LocalDay(\"&$D$12&\")=\"&$F$1&\" and Barix(\"&$D$12&\",reference:=StartOfSession)=\"&A17&\"\", \"Bar\", \"\", \"Close\",\"5\",\"0\",\"PrimaryOnly\",,,\"False\",\"T\",\"EveryTick\")","v":""},{"$error":"#N/A"},{"$f":"RTD(\"cqg.rtd\",,\"StudyData\", \"Close(\"&$D$12&\") when LocalYear(\"&$D$12&\")=\"&$D$2&\" and localMonth(\"&$D$12&\") =\"&$E$2&\" and LocalDay(\"&$D$12&\")=\"&$F$2&\" and Barix(\"&$D$12&\",reference:=StartOfSession)=\"&A17&\"\", \"Bar\", \"\", \"Close\",\"5\",\"0\",\"PrimaryOnly\",,,\"False\",\"T\",\"EveryTick\")","v":102.27500000000001},3.9263803680982153E-3,{"$f":"RTD(\"cqg.rtd\",,\"StudyData\", \"Close(\"&$D$12&\") when LocalYear(\"&$D$12&\")=\"&$D$3&\" and localMonth(\"&$D$12&\") =\"&$E$3&\" and LocalDay(\"&$D$12&\")=\"&$F$3&\" and Barix(\"&$D$12&\",reference:=StartOfSession)=\"&A17&\"\", \"Bar\", \"\", \"Close\",\"5\",\"0\",\"PrimaryOnly\",,,\"False\",\"T\",\"EveryTick\")","v":103.2},-6.7372473532242814E-3,{"$f":"RTD(\"cqg.rtd\",,\"StudyData\", \"Close(\"&$D$12&\") when LocalYear(\"&$D$12&\")=\"&$D$4&\" and localMonth(\"&$D$12&\") =\"&$E$4&\" and LocalDay(\"&$D$12&\")=\"&$F$4&\" and Barix(\"&$D$12&\",reference:=StartOfSession)=\"&A17&\"\", \"Bar\", \"\", \"Close\",\"5\",\"0\",\"PrimaryOnly\",,,\"False\",\"T\",\"EveryTick\")","v":104.65},3.3557046979866591E-3,{"$f":"RTD(\"cqg.rtd\",,\"StudyData\", \"Close(\"&$D$12&\") when LocalYear(\"&$D$12&\")=\"&$D$5&\" and localMonth(\"&$D$12&\") =\"&$E$5&\" and LocalDay(\"&$D$12&\")=\"&$F$5&\" and Barix(\"&$D$12&\",reference:=StartOfSession)=\"&A17&\"\", \"Bar\", \"\", \"Close\",\"5\",\"0\",\"PrimaryOnly\",,,\"False\",\"T\",\"EveryTick\")","v":104.125},-4.7996160307172699E-4,{"$f":"RTD(\"cqg.rtd\",,\"StudyData\", \"Close(\"&$D$12&\") when LocalYear(\"&$D$12&\")=\"&$D$6&\" and localMonth(\"&$D$12&\") =\"&$E$6&\" and LocalDay(\"&$D$12&\")=\"&$F$6&\" and Barix(\"&$D$12&\",reference:=StartOfSession)=\"&A17&\"\", \"Bar\", \"\", \"Close\",\"5\",\"0\",\"PrimaryOnly\",,,\"False\",\"T\",\"EveryTick\")","v":105.72499999999999},-4.7270148900979784E-4,{"$f":"RTD(\"cqg.rtd\",,\"StudyData\", \"Close(\"&$D$12&\") when LocalYear(\"&$D$12&\")=\"&$D$7&\" and localMonth(\"&$D$12&\") =\"&$E$7&\" and LocalDay(\"&$D$12&\")=\"&$F$7&\" and Barix(\"&$D$12&\",reference:=StartOfSession)=\"&A17&\"\", \"Bar\", \"\", \"Close\",\"5\",\"0\",\"PrimaryOnly\",,,\"False\",\"T\",\"EveryTick\")","v":105.3},1.1041766682669145E-2,{"$f":"RTD(\"cqg.rtd\",,\"StudyData\", \"Close(\"&$D$12&\") when LocalYear(\"&$D$12&\")=\"&$D$8&\" and localMonth(\"&$D$12&\") =\"&$E$8&\" and LocalDay(\"&$D$12&\")=\"&$F$8&\" and Barix(\"&$D$12&\",reference:=StartOfSession)=\"&A17&\"\", \"Bar\", \"\", \"Close\",\"5\",\"0\",\"PrimaryOnly\",,,\"False\",\"T\",\"EveryTick\")","v":104.65},7.171886206072468E-4,{"$f":"RTD(\"cqg.rtd\",,\"StudyData\", \"Close(\"&$D$12&\") when LocalYear(\"&$D$12&\")=\"&$D$9&\" and localMonth(\"&$D$12&\") =\"&$E$9&\" and LocalDay(\"&$D$12&\")=\"&$F$9&\" and Barix(\"&$D$12&\",reference:=StartOfSession)=\"&A17&\"\", \"Bar\", \"\", \"Close\",\"5\",\"0\",\"PrimaryOnly\",,,\"False\",\"T\",\"EveryTick\")","v":104.97499999999999},8.8899567515617218E-3,{"$f":"RTD(\"cqg.rtd\",,\"StudyData\", \"Close(\"&$D$12&\") when LocalYear(\"&$D$12&\")=\"&$D$10&\" and localMonth(\"&$D$12&\") =\"&$E$10&\" and LocalDay(\"&$D$12&\")=\"&$F$10&\" and Barix(\"&$D$12&\",reference:=StartOfSession)=\"&A17&\"\", \"Bar\", \"\", \"Close\",\"5\",\"0\",\"PrimaryOnly\",,,\"False\",\"T\",\"EveryTick\")","v":103.55},1.0736944851146846E-2,null,null,null,""]
[17,"09:55:00",null,0,"#",null,"2018-06-11",{"$f":"RTD(\"cqg.rtd\",,\"StudyData\", \"Close(\"&$D$12&\") when LocalYear(\"&$D$12&\")=\"&$D$1&\" and localMonth(\"&$D$12&\") =\"&$E$1&\" and LocalDay(\"&$D$12&\")=\"&$F$1&\" and Barix(\"&$D$12&\",reference:=StartOfSession)=\"&A18&\"\", \"Bar\", \"\", \"Close\",\"5\",\"0\",\"PrimaryOnly\",,,\"False\",\"T\",\"EveryTick\")","v":""},{"$error":"#N/A"},{"$f":"RTD(\"cqg.rtd\",,\"StudyData\", \"Close(\"&$D$12&\") when LocalYear(\"&$D$12&\")=\"&$D$2&\" and localMonth(\"&$D$12&\") =\"&$E$2&\" and LocalDay(\"&$D$12&\")=\"&$F$2&\" and Barix(\"&$D$12&\",reference:=StartOfSession)=\"&A18&\"\", \"Bar\", \"\", \"Close\",\"5\",\"0\",\"PrimaryOnly\",,,\"False\",\"T\",\"EveryTick\")","v":102.45},5.6441717791411326E-3,{"$f":"RTD(\"cqg.rtd\",,\"StudyData\", \"Close(\"&$D$12&\") when LocalYear(\"&$D$12&\")=\"&$D$3&\" and localMonth(\"&$D$12&\") =\"&$E$3&\" and LocalDay(\"&$D$12&\")=\"&$F$3&\" and Barix(\"&$D$12&\",reference:=StartOfSession)=\"&A18&\"\", \"Bar\", \"\", \"Close\",\"5\",\"0\",\"PrimaryOnly\",,,\"False\",\"T\",\"EveryTick\")","v":103.15},-7.2184793070259861E-3,{"$f":"RTD(\"cqg.rtd\",,\"StudyData\", \"Close(\"&$D$12&\") when LocalYear(\"&$D$12&\")=\"&$D$4&\" and localMonth(\"&$D$12&\") =\"&$E$4&\" and LocalDay(\"&$D$12&\")=\"&$F$4&\" and Barix(\"&$D$12&\",reference:=StartOfSession)=\"&A18&\"\", \"Bar\", \"\", \"Close\",\"5\",\"0\",\"PrimaryOnly\",,,\"False\",\"T\",\"EveryTick\")","v":104.625},3.1160115052732778E-3,{"$f":"RTD(\"cqg.rtd\",,\"StudyData\", \"Close(\"&$D$12&\") when LocalYear(\"&$D$12&\")=\"&$D$5&\" and localMonth(\"&$D$12&\") =\"&$E$5&\" and LocalDay(\"&$D$12&\")=\"&$F$5&\" and Barix(\"&$D$12&\",reference:=StartOfSession)=\"&A18&\"\", \"Bar\", \"\", \"Close\",\"5\",\"0\",\"PrimaryOnly\",,,\"False\",\"T\",\"EveryTick\")","v":104.35},1.6798656107511127E-3,{"$f":"RTD(\"cqg.rtd\",,\"StudyData\", \"Close(\"&$D$12&\") when LocalYear(\"&$D$12&\")=\"&$D$6&\" and localMonth(\"&$D$12&\") =\"&$E$6&\" and LocalDay(\"&$D$12&\")=\"&$F$6&\" and Barix(\"&$D$12&\",reference:=StartOfSession)=\"&A18&\"\", \"Bar\", \"\", \"Close\",\"5\",\"0\",\"PrimaryOnly\",,,\"False\",\"T\",\"EveryTick\")","v":105.9},1.1817537225242258E-3,{"$f":"RTD(\"cqg.rtd\",,\"StudyData\", \"Close(\"&$D$12&\") when LocalYear(\"&$D$12&\")=\"&$D$7&\" and localMonth(\"&$D$12&\") =\"&$E$7&\" and LocalDay(\"&$D$12&\")=\"&$F$7&\" and Barix(\"&$D$12&\",reference:=StartOfSession)=\"&A18&\"\", \"Bar\", \"\", \"Close\",\"5\",\"0\",\"PrimaryOnly\",,,\"False\",\"T\",\"EveryTick\")","v":105.175},9.8415746519442283E-3,{"$f":"RTD(\"cqg.rtd\",,\"StudyData\", \"Close(\"&$D$12&\") when LocalYear(\"&$D$12&\")=\"&$D$8&\" and localMonth(\"&$D$12&\") =\"&$E$8&\" and LocalDay(\"&$D$12&\")=\"&$F$8&\" and Barix(\"&$D$12&\",reference:=StartOfSession)=\"&A18&\"\", \"Bar\", \"\", \"Close\",\"5\",\"0\",\"PrimaryOnly\",,,\"False\",\"T\",\"EveryTick\")","v":104.8},2.1515658618216048E-3,{"$f":"RTD(\"cqg.rtd\",,\"StudyData\", \"Close(\"&$D$12&\") when LocalYear(\"&$D$12&\")=\"&$D$9&\" and localMonth(\"&$D$12&\") =\"&$E$9&\" and LocalDay(\"&$D$12&\")=\"&$F$9&\" and Barix(\"&$D$12&\",reference:=StartOfSession)=\"&A18&\"\", \"Bar\", \"\", \"Close\",\"5\",\"0\",\"PrimaryOnly\",,,\"False\",\"T\",\"EveryTick\")","v":104.9},8.1691494473811483E-3,{"$f":"RTD(\"cqg.rtd\",,\"StudyData\", \"Close(\"&$D$12&\") when LocalYear(\"&$D$12&\")=\"&$D$10&\" and localMonth(\"&$D$12&\") =\"&$E$10&\" and LocalDay(\"&$D$12&\")=\"&$F$10&\" and Barix(\"&$D$12&\",reference:=StartOfSession)=\"&A18&\"\", \"Bar\", \"\", \"Close\",\"5\",\"0\",\"PrimaryOnly\",,,\"False\",\"T\",\"EveryTick\")","v":103.5},1.0248901903367469E-2,null,null,null,""]
[18,"10:00:00",null,1,"#.0",null,"2018-06-08",{"$f":"RTD(\"cqg.rtd\",,\"StudyData\", \"Close(\"&$D$12&\") when LocalYear(\"&$D$12&\")=\"&$D$1&\" and localMonth(\"&$D$12&\") =\"&$E$1&\" and LocalDay(\"&$D$12&\")=\"&$F$1&\" and Barix(\"&$D$12&\",reference:=StartOfSession)=\"&A19&\"\", \"Bar\", \"\", \"Close\",\"5\",\"0\",\"PrimaryOnly\",,,\"False\",\"T\",\"EveryTick\")","v":""},{"$error":"#N/A"},{"$f":"RTD(\"cqg.rtd\",,\"StudyData\", \"Close(\"&$D$12&\") when LocalYear(\"&$D$12&\")=\"&$D$2&\" and localMonth(\"&$D$12&\") =\"&$E$2&\" and LocalDay(\"&$D$12&\")=\"&$F$2&\" and Barix(\"&$D$12&\",reference:=StartOfSession)=\"&A19&\"\", \"Bar\", \"\", \"Close\",\"5\",\"0\",\"PrimaryOnly\",,,\"False\",\"T\",\"EveryTick\")","v":102.52500000000001},6.3803680981595647E-3,{"$f":"RTD(\"cqg.rtd\",,\"StudyData\", \"Close(\"&$D$12&\") when LocalYear(\"&$D$12&\")=\"&$D$3&\" and localMonth(\"&$D$12&\") =\"&$E$3&\" and LocalDay(\"&$D$12&\")=\"&$F$3&\" and Barix(\"&$D$12&\",reference:=StartOfSession)=\"&A19&\"\", \"Bar\", \"\", \"Close\",\"5\",\"0\",\"PrimaryOnly\",,,\"False\",\"T\",\"EveryTick\")","v":103.05},-8.1809432146295324E-3,{"$f":"RTD(\"cqg.rtd\",,\"StudyData\", \"Close(\"&$D$12&\") when LocalYear(\"&$D$12&\")=\"&$D$4&\" and localMonth(\"&$D$12&\") =\"&$E$4&\" and LocalDay(\"&$D$12&\")=\"&$F$4&\" and Barix(\"&$D$12&\",reference:=StartOfSession)=\"&A19&\"\", \"Bar\", \"\", \"Close\",\"5\",\"0\",\"PrimaryOnly\",,,\"False\",\"T\",\"EveryTick\")","v":104.5},1.9175455417066428E-3,{"$f":"RTD(\"cqg.rtd\",,\"StudyData\", \"Close(\"&$D$12&\") when LocalYear(\"&$D$12&\")=\"&$D$5&\" and localMonth(\"&$D$12&\") =\"&$E$5&\" and LocalDay(\"&$D$12&\")=\"&$F$5&\" and Barix(\"&$D$12&\",reference:=StartOfSession)=\"&A19&\"\", \"Bar\", \"\", \"Close\",\"5\",\"0\",\"PrimaryOnly\",,,\"False\",\"T\",\"EveryTick\")","v":104.4},2.1598272138229763E-3,{"$f":"RTD(\"cqg.rtd\",,\"StudyData\", \"Close(\"&$D$12&\") when LocalYear(\"&$D$12&\")=\"&$D$6&\" and localMonth(\"&$D$12&\") =\"&$E$6&\" and LocalDay(\"&$D$12&\")=\"&$F$6&\" and Barix(\"&$D$12&\",reference:=StartOfSession)=\"&A19&\"\", \"Bar\", \"\", \"Close\",\"5\",\"0\",\"PrimaryOnly\",,,\"False\",\"T\",\"EveryTick\")","v":106.325},5.1997163791065674E-3,{"$f":"RTD(\"cqg.rtd\",,\"StudyData\", \"Close(\"&$D$12&\") when LocalYear(\"&$D$12&\")=\"&$D$7&\" and localMonth(\"&$D$12&\") =\"&$E$7&\" and LocalDay(\"&$D$12&\")=\"&$F$7&\" and Barix(\"&$D$12&\",reference:=StartOfSession)=\"&A19&\"\", \"Bar\", \"\", \"Close\",\"5\",\"0\",\"PrimaryOnly\",,,\"False\",\"T\",\"EveryTick\")","v":105.2},1.0081613058089266E-2,{"$f":"RTD(\"cqg.rtd\",,\"StudyData\", \"Close(\"&$D$12&\") when LocalYear(\"&$D$12&\")=\"&$D$8&\" and localMonth(\"&$D$12&\") =\"&$E$8&\" and LocalDay(\"&$D$12&\")=\"&$F$8&\" and Barix(\"&$D$12&\",reference:=StartOfSession)=\"&A19&\"\", \"Bar\", \"\", \"Close\",\"5\",\"0\",\"PrimaryOnly\",,,\"False\",\"T\",\"EveryTick\")","v":104.925},3.3468802295003042E-3,{"$f":"RTD(\"cqg.rtd\",,\"StudyData\", \"Close(\"&$D$12&\") when LocalYear(\"&$D$12&\")=\"&$D$9&\" and localMonth(\"&$D$12&\") =\"&$E$9&\" and LocalDay(\"&$D$12&\")=\"&$F$9&\" and Barix(\"&$D$12&\",reference:=StartOfSession)=\"&A19&\"\", \"Bar\", \"\", \"Close\",\"5\",\"0\",\"PrimaryOnly\",,,\"False\",\"T\",\"EveryTick\")","v":105.1},1.0091302258529526E-2,{"$f":"RTD(\"cqg.rtd\",,\"StudyData\", \"Close(\"&$D$12&\") when LocalYear(\"&$D$12&\")=\"&$D$10&\" and localMonth(\"&$D$12&\") =\"&$E$10&\" and LocalDay(\"&$D$12&\")=\"&$F$10&\" and Barix(\"&$D$12&\",reference:=StartOfSession)=\"&A19&\"\", \"Bar\", \"\", \"Close\",\"5\",\"0\",\"PrimaryOnly\",,,\"False\",\"T\",\"EveryTick\")","v":103.47499999999999},1.0004880429477711E-2,null,null,null,""]
[19,"10:05:00",null,2,"#.00",null,"2018-06-07",{"$f":"RTD(\"cqg.rtd\",,\"StudyData\", \"Close(\"&$D$12&\") when LocalYear(\"&$D$12&\")=\"&$D$1&\" and localMonth(\"&$D$12&\") =\"&$E$1&\" and LocalDay(\"&$D$12&\")=\"&$F$1&\" and Barix(\"&$D$12&\",reference:=StartOfSession)=\"&A20&\"\", \"Bar\", \"\", \"Close\",\"5\",\"0\",\"PrimaryOnly\",,,\"False\",\"T\",\"EveryTick\")","v":""},{"$error":"#N/A"},{"$f":"RTD(\"cqg.rtd\",,\"StudyData\", \"Close(\"&$D$12&\") when LocalYear(\"&$D$12&\")=\"&$D$2&\" and localMonth(\"&$D$12&\") =\"&$E$2&\" and LocalDay(\"&$D$12&\")=\"&$F$2&\" and Barix(\"&$D$12&\",reference:=StartOfSession)=\"&A20&\"\", \"Bar\", \"\", \"Close\",\"5\",\"0\",\"PrimaryOnly\",,,\"False\",\"T\",\"EveryTick\")","v":102.575},6.8711656441718073E-3,{"$f":"RTD(\"cqg.rtd\",,\"StudyData\", \"Close(\"&$D$12&\") when LocalYear(\"&$D$12&\")=\"&$D$3&\" and localMonth(\"&$D$12&\") =\"&$E$3&\" and LocalDay(\"&$D$12&\")=\"&$F$3&\" and Barix(\"&$D$12&\",reference:=StartOfSession)=\"&A20&\"\", \"Bar\", \"\", \"Close\",\"5\",\"0\",\"PrimaryOnly\",,,\"False\",\"T\",\"EveryTick\")","v":103.1},-7.6997112608278278E-3,{"$f":"RTD(\"cqg.rtd\",,\"StudyData\", \"Close(\"&$D$12&\") when LocalYear(\"&$D$12&\")=\"&$D$4&\" and localMonth(\"&$D$12&\") =\"&$E$4&\" and LocalDay(\"&$D$12&\")=\"&$F$4&\" and Barix(\"&$D$12&\",reference:=StartOfSession)=\"&A20&\"\", \"Bar\", \"\", \"Close\",\"5\",\"0\",\"PrimaryOnly\",,,\"False\",\"T\",\"EveryTick\")","v":104.5},1.9175455417066428E-3,{"$f":"RTD(\"cqg.rtd\",,\"StudyData\", \"Close(\"&$D$12&\") when LocalYear(\"&$D$12&\")=\"&$D$5&\" and localMonth(\"&$D$12&\") =\"&$E$5&\" and LocalDay(\"&$D$12&\")=\"&$F$5&\" and Barix(\"&$D$12&\",reference:=StartOfSession)=\"&A20&\"\", \"Bar\", \"\", \"Close\",\"5\",\"0\",\"PrimaryOnly\",,,\"False\",\"T\",\"EveryTick\")","v":104.22499999999999},4.7996160307172699E-4,{"$f":"RTD(\"cqg.rtd\",,\"StudyData\", \"Close(\"&$D$12&\") when LocalYear(\"&$D$12&\")=\"&$D$6&\" and localMonth(\"&$D$12&\") =\"&$E$6&\" and LocalDay(\"&$D$12&\")=\"&$F$6&\" and Barix(\"&$D$12&\",reference:=StartOfSession)=\"&A20&\"\", \"Bar\", \"\", \"Close\",\"5\",\"0\",\"PrimaryOnly\",,,\"False\",\"T\",\"EveryTick\")","v":106.3},4.9633656346016681E-3,{"$f":"RTD(\"cqg.rtd\",,\"StudyData\", \"Close(\"&$D$12&\") when LocalYear(\"&$D$12&\")=\"&$D$7&\" and localMonth(\"&$D$12&\") =\"&$E$7&\" and LocalDay(\"&$D$12&\")=\"&$F$7&\" and Barix(\"&$D$12&\",reference:=StartOfSession)=\"&A20&\"\", \"Bar\", \"\", \"Close\",\"5\",\"0\",\"PrimaryOnly\",,,\"False\",\"T\",\"EveryTick\")","v":105.175},9.8415746519442283E-3,{"$f":"RTD(\"cqg.rtd\",,\"StudyData\", \"Close(\"&$D$12&\") when LocalYear(\"&$D$12&\")=\"&$D$8&\" and localMonth(\"&$D$12&\") =\"&$E$8&\" and LocalDay(\"&$D$12&\")=\"&$F$8&\" and Barix(\"&$D$12&\",reference:=StartOfSession)=\"&A20&\"\", \"Bar\", \"\", \"Close\",\"5\",\"0\",\"PrimaryOnly\",,,\"False\",\"T\",\"EveryTick\")","v":105.05},4.5421945971790036E-3,{"$f":"RTD(\"cqg.rtd\",,\"StudyData\", \"Close(\"&$D$12&\") when LocalYear(\"&$D$12&\")=\"&$D$9&\" and localMonth(\"&$D$12&\") =\"&$E$9&\" and LocalDay(\"&$D$12&\")=\"&$F$9&\" and Barix(\"&$D$12&\",reference:=StartOfSession)=\"&A20&\"\", \"Bar\", \"\", \"Close\",\"5\",\"0\",\"PrimaryOnly\",,,\"False\",\"T\",\"EveryTick\")","v":104.97499999999999},8.8899567515617218E-3,{"$f":"RTD(\"cqg.rtd\",,\"StudyData\", \"Close(\"&$D$12&\") when LocalYear(\"&$D$12&\")=\"&$D$10&\" and localMonth(\"&$D$12&\") =\"&$E$10&\" and LocalDay(\"&$D$12&\")=\"&$F$10&\" and Barix(\"&$D$12&\",reference:=StartOfSession)=\"&A20&\"\", \"Bar\", \"\", \"Close\",\"5\",\"0\",\"PrimaryOnly\",,,\"False\",\"T\",\"EveryTick\")","v":103.375},9.0287945339189574E-3,null,null,null,""]
[20,"10:10:00",null,3,"#.000",null,"2018-06-06",{"$f":"RTD(\"cqg.rtd\",,\"StudyData\", \"Close(\"&$D$12&\") when LocalYear(\"&$D$12&\")=\"&$D$1&\" and localMonth(\"&$D$12&\") =\"&$E$1&\" and LocalDay(\"&$D$12&\")=\"&$F$1&\" and Barix(\"&$D$12&\",reference:=StartOfSession)=\"&A21&\"\", \"Bar\", \"\", \"Close\",\"5\",\"0\",\"PrimaryOnly\",,,\"False\",\"T\",\"EveryTick\")","v":""},{"$error":"#N/A"},{"$f":"RTD(\"cqg.rtd\",,\"StudyData\", \"Close(\"&$D$12&\") when LocalYear(\"&$D$12&\")=\"&$D$2&\" and localMonth(\"&$D$12&\") =\"&$E$2&\" and LocalDay(\"&$D$12&\")=\"&$F$2&\" and Barix(\"&$D$12&\",reference:=StartOfSession)=\"&A21&\"\", \"Bar\", \"\", \"Close\",\"5\",\"0\",\"PrimaryOnly\",,,\"False\",\"T\",\"EveryTick\")","v":102.675},7.8527607361962917E-3,{"$f":"RTD(\"cqg.rtd\",,\"StudyData\", \"Close(\"&$D$12&\") when LocalYear(\"&$D$12&\")=\"&$D$3&\" and localMonth(\"&$D$12&\") =\"&$E$3&\" and LocalDay(\"&$D$12&\")=\"&$F$3&\" and Barix(\"&$D$12&\",reference:=StartOfSession)=\"&A21&\"\", \"Bar\", \"\", \"Close\",\"5\",\"0\",\"PrimaryOnly\",,,\"False\",\"T\",\"EveryTick\")","v":103.075},-7.9403272377286116E-3,{"$f":"RTD(\"cqg.rtd\",,\"StudyData\", \"Close(\"&$D$12&\") when LocalYear(\"&$D$12&\")=\"&$D$4&\" and localMonth(\"&$D$12&\") =\"&$E$4&\" and LocalDay(\"&$D$12&\")=\"&$F$4&\" and Barix(\"&$D$12&\",reference:=StartOfSession)=\"&A21&\"\", \"Bar\", \"\", \"Close\",\"5\",\"0\",\"PrimaryOnly\",,,\"False\",\"T\",\"EveryTick\")","v":104.35},4.7938638542662664E-4,{"$f":"RTD(\"cqg.rtd\",,\"StudyData\", \"Close(\"&$D$12&\") when LocalYear(\"&$D$12&\")=\"&$D$5&\" and localMonth(\"&$D$12&\") =\"&$E$5&\" and LocalDay(\"&$D$12&\")=\"&$F$5&\" and Barix(\"&$D$12&\",reference:=StartOfSession)=\"&A21&\"\", \"Bar\", \"\", \"Close\",\"5\",\"0\",\"PrimaryOnly\",,,\"False\",\"T\",\"EveryTick\")","v":103.9},-2.6397888168945669E-3,{"$f":"RTD(\"cqg.rtd\",,\"StudyData\", \"Close(\"&$D$12&\") when LocalYear(\"&$D$12&\")=\"&$D$6&\" and localMonth(\"&$D$12&\") =\"&$E$6&\" and LocalDay(\"&$D$12&\")=\"&$F$6&\" and Barix(\"&$D$12&\",reference:=StartOfSession)=\"&A21&\"\", \"Bar\", \"\", \"Close\",\"5\",\"0\",\"PrimaryOnly\",,,\"False\",\"T\",\"EveryTick\")","v":106.375},5.6724178681162307E-3,{"$f":"RTD(\"cqg.rtd\",,\"StudyData\", \"Close(\"&$D$12&\") when LocalYear(\"&$D$12&\")=\"&$D$7&\" and localMonth(\"&$D$12&\") =\"&$E$7&\" and LocalDay(\"&$D$12&\")=\"&$F$7&\" and Barix(\"&$D$12&\",reference:=StartOfSession)=\"&A21&\"\", \"Bar\", \"\", \"Close\",\"5\",\"0\",\"PrimaryOnly\",,,\"False\",\"T\",\"EveryTick\")","v":105.125},9.3614978396542904E-3,{"$f":"RTD(\"cqg.rtd\",,\"StudyData\", \"Close(\"&$D$12&\") when LocalYear(\"&$D$12&\")=\"&$D$8&\" and localMonth(\"&$D$12&\") =\"&$E$8&\" and LocalDay(\"&$D$12&\")=\"&$F$8&\" and Barix(\"&$D$12&\",reference:=StartOfSession)=\"&A21&\"\", \"Bar\", \"\", \"Close\",\"5\",\"0\",\"PrimaryOnly\",,,\"False\",\"T\",\"EveryTick\")","v":105.075},4.7812574707147976E-3,{"$f":"RTD(\"cqg.rtd\",,\"StudyData\", \"Close(\"&$D$12&\") when LocalYear(\"&$D$12&\")=\"&$D$9&\" and localMonth(\"&$D$12&\") =\"&$E$9&\" and LocalDay(\"&$D$12&\")=\"&$F$9&\" and Barix(\"&$D$12&\",reference:=StartOfSession)=\"&A21&\"\", \"Bar\", \"\", \"Close\",\"5\",\"0\",\"PrimaryOnly\",,,\"False\",\"T\",\"EveryTick\")","v":104.97499999999999},8.8899567515617218E-3,{"$f":"RTD(\"cqg.rtd\",,\"StudyData\", \"Close(\"&$D$12&\") when LocalYear(\"&$D$12&\")=\"&$D$10&\" and localMonth(\"&$D$12&\") =\"&$E$10&\" and LocalDay(\"&$D$12&\")=\"&$F$10&\" and Barix(\"&$D$12&\",reference:=StartOfSession)=\"&A21&\"\", \"Bar\", \"\", \"Close\",\"5\",\"0\",\"PrimaryOnly\",,,\"False\",\"T\",\"EveryTick\")","v":103.52500000000001},1.0492923377257227E-2,null,null,null,""]
[21,"10:15:00",null,4,"#.0000",null,"2018-06-05",{"$f":"RTD(\"cqg.rtd\",,\"StudyData\", \"Close(\"&$D$12&\") when LocalYear(\"&$D$12&\")=\"&$D$1&\" and localMonth(\"&$D$12&\") =\"&$E$1&\" and LocalDay(\"&$D$12&\")=\"&$F$1&\" and Barix(\"&$D$12&\",reference:=StartOfSession)=\"&A22&\"\", \"Bar\", \"\", \"Close\",\"5\",\"0\",\"PrimaryOnly\",,,\"False\",\"T\",\"EveryTick\")","v":""},{"$error":"#N/A"},{"$f":"RTD(\"cqg.rtd\",,\"StudyData\", \"Close(\"&$D$12&\") when LocalYear(\"&$D$12&\")=\"&$D$2&\" and localMonth(\"&$D$12&\") =\"&$E$2&\" and LocalDay(\"&$D$12&\")=\"&$F$2&\" and Barix(\"&$D$12&\",reference:=StartOfSession)=\"&A22&\"\", \"Bar\", \"\", \"Close\",\"5\",\"0\",\"PrimaryOnly\",,,\"False\",\"T\",\"EveryTick\")","v":103.45},1.5460122699386531E-2,{"$f":"RTD(\"cqg.rtd\",,\"StudyData\", \"Close(\"&$D$12&\") when LocalYear(\"&$D$12&\")=\"&$D$3&\" and localMonth(\"&$D$12&\") =\"&$E$3&\" and LocalDay(\"&$D$12&\")=\"&$F$3&\" and Barix(\"&$D$12&\",reference:=StartOfSession)=\"&A22&\"\", \"Bar\", \"\", \"Close\",\"5\",\"0\",\"PrimaryOnly\",,,\"False\",\"T\",\"EveryTick\")","v":103.075},-7.9403272377286116E-3,{"$f":"RTD(\"cqg.rtd\",,\"StudyData\", \"Close(\"&$D$12&\") when LocalYear(\"&$D$12&\")=\"&$D$4&\" and localMonth(\"&$D$12&\") =\"&$E$4&\" and LocalDay(\"&$D$12&\")=\"&$F$4&\" and Barix(\"&$D$12&\",reference:=StartOfSession)=\"&A22&\"\", \"Bar\", \"\", \"Close\",\"5\",\"0\",\"PrimaryOnly\",,,\"False\",\"T\",\"EveryTick\")","v":104.3},0,{"$f":"RTD(\"cqg.rtd\",,\"StudyData\", \"Close(\"&$D$12&\") when LocalYear(\"&$D$12&\")=\"&$D$5&\" and localMonth(\"&$D$12&\") =\"&$E$5&\" and LocalDay(\"&$D$12&\")=\"&$F$5&\" and Barix(\"&$D$12&\",reference:=StartOfSession)=\"&A22&\"\", \"Bar\", \"\", \"Close\",\"5\",\"0\",\"PrimaryOnly\",,,\"False\",\"T\",\"EveryTick\")","v":104.075},-9.5992320614345398E-4,{"$f":"RTD(\"cqg.rtd\",,\"StudyData\", \"Close(\"&$D$12&\") when LocalYear(\"&$D$12&\")=\"&$D$6&\" and localMonth(\"&$D$12&\") =\"&$E$6&\" and LocalDay(\"&$D$12&\")=\"&$F$6&\" and Barix(\"&$D$12&\",reference:=StartOfSession)=\"&A22&\"\", \"Bar\", \"\", \"Close\",\"5\",\"0\",\"PrimaryOnly\",,,\"False\",\"T\",\"EveryTick\")","v":106.6},7.7995745686597834E-3,{"$f":"RTD(\"cqg.rtd\",,\"StudyData\", \"Close(\"&$D$12&\") when LocalYear(\"&$D$12&\")=\"&$D$7&\" and localMonth(\"&$D$12&\") =\"&$E$7&\" and LocalDay(\"&$D$12&\")=\"&$F$7&\" and Barix(\"&$D$12&\",reference:=StartOfSession)=\"&A22&\"\", \"Bar\", \"\", \"Close\",\"5\",\"0\",\"PrimaryOnly\",,,\"False\",\"T\",\"EveryTick\")","v":105.22499999999999},1.0321651464234168E-2,{"$f":"RTD(\"cqg.rtd\",,\"StudyData\", \"Close(\"&$D$12&\") when LocalYear(\"&$D$12&\")=\"&$D$8&\" and localMonth(\"&$D$12&\") =\"&$E$8&\" and LocalDay(\"&$D$12&\")=\"&$F$8&\" and Barix(\"&$D$12&\",reference:=StartOfSession)=\"&A22&\"\", \"Bar\", \"\", \"Close\",\"5\",\"0\",\"PrimaryOnly\",,,\"False\",\"T\",\"EveryTick\")","v":105.075},4.7812574707147976E-3,{"$f":"RTD(\"cqg.rtd\",,\"StudyData\", \"Close(\"&$D$12&\") when LocalYear(\"&$D$12&\")=\"&$D$9&\" and localMonth(\"&$D$12&\") =\"&$E$9&\" and LocalDay(\"&$D$12&\")=\"&$F$9&\" and Barix(\"&$D$12&\",reference:=StartOfSession)=\"&A22&\"\", \"Bar\", \"\", \"Close\",\"5\",\"0\",\"PrimaryOnly\",,,\"False\",\"T\",\"EveryTick\")","v":104.9},8.1691494473811483E-3,{"$f":"RTD(\"cqg.rtd\",,\"StudyData\", \"Close(\"&$D$12&\") when LocalYear(\"&$D$12&\")=\"&$D$10&\" and localMonth(\"&$D$12&\") =\"&$E$10&\" and LocalDay(\"&$D$12&\")=\"&$F$10&\" and Barix(\"&$D$12&\",reference:=StartOfSession)=\"&A22&\"\", \"Bar\", \"\", \"Close\",\"5\",\"0\",\"PrimaryOnly\",,,\"False\",\"T\",\"EveryTick\")","v":103.675},1.1957052220595357E-2,null,null,null,""]
[22,"10:20:00",null,5,"#.00000",null,null,{"$f":"RTD(\"cqg.rtd\",,\"StudyData\", \"Close(\"&$D$12&\") when LocalYear(\"&$D$12&\")=\"&$D$1&\" and localMonth(\"&$D$12&\") =\"&$E$1&\" and LocalDay(\"&$D$12&\")=\"&$F$1&\" and Barix(\"&$D$12&\",reference:=StartOfSession)=\"&A23&\"\", \"Bar\", \"\", \"Close\",\"5\",\"0\",\"PrimaryOnly\",,,\"False\",\"T\",\"EveryTick\")","v":""},{"$error":"#N/A"},{"$f":"RTD(\"cqg.rtd\",,\"StudyData\", \"Close(\"&$D$12&\") when LocalYear(\"&$D$12&\")=\"&$D$2&\" and localMonth(\"&$D$12&\") =\"&$E$2&\" and LocalDay(\"&$D$12&\")=\"&$F$2&\" and Barix(\"&$D$12&\",reference:=StartOfSession)=\"&A23&\"\", \"Bar\", \"\", \"Close\",\"5\",\"0\",\"PrimaryOnly\",,,\"False\",\"T\",\"EveryTick\")","v":104.1},2.1840490797545957E-2,{"$f":"RTD(\"cqg.rtd\",,\"StudyData\", \"Close(\"&$D$12&\") when LocalYear(\"&$D$12&\")=\"&$D$3&\" and localMonth(\"&$D$12&\") =\"&$E$3&\" and LocalDay(\"&$D$12&\")=\"&$F$3&\" and Barix(\"&$D$12&\",reference:=StartOfSession)=\"&A23&\"\", \"Bar\", \"\", \"Close\",\"5\",\"0\",\"PrimaryOnly\",,,\"False\",\"T\",\"EveryTick\")","v":102.15},-1.6843118383060636E-2,{"$f":"RTD(\"cqg.rtd\",,\"StudyData\", \"Close(\"&$D$12&\") when LocalYear(\"&$D$12&\")=\"&$D$4&\" and localMonth(\"&$D$12&\") =\"&$E$4&\" and LocalDay(\"&$D$12&\")=\"&$F$4&\" and Barix(\"&$D$12&\",reference:=StartOfSession)=\"&A23&\"\", \"Bar\", \"\", \"Close\",\"5\",\"0\",\"PrimaryOnly\",,,\"False\",\"T\",\"EveryTick\")","v":104.425},1.1984659635666348E-3,{"$f":"RTD(\"cqg.rtd\",,\"StudyData\", \"Close(\"&$D$12&\") when LocalYear(\"&$D$12&\")=\"&$D$5&\" and localMonth(\"&$D$12&\") =\"&$E$5&\" and LocalDay(\"&$D$12&\")=\"&$F$5&\" and Barix(\"&$D$12&\",reference:=StartOfSession)=\"&A23&\"\", \"Bar\", \"\", \"Close\",\"5\",\"0\",\"PrimaryOnly\",,,\"False\",\"T\",\"EveryTick\")","v":103.825},-3.3597312215022253E-3,{"$f":"RTD(\"cqg.rtd\",,\"StudyData\", \"Close(\"&$D$12&\") when LocalYear(\"&$D$12&\")=\"&$D$6&\" and localMonth(\"&$D$12&\") =\"&$E$6&\" and LocalDay(\"&$D$12&\")=\"&$F$6&\" and Barix(\"&$D$12&\",reference:=StartOfSession)=\"&A23&\"\", \"Bar\", \"\", \"Close\",\"5\",\"0\",\"PrimaryOnly\",,,\"False\",\"T\",\"EveryTick\")","v":106.6},7.7995745686597834E-3,{"$f":"RTD(\"cqg.rtd\",,\"StudyData\", \"Close(\"&$D$12&\") when LocalYear(\"&$D$12&\")=\"&$D$7&\" and localMonth(\"&$D$12&\") =\"&$E$7&\" and LocalDay(\"&$D$12&\")=\"&$F$7&\" and Barix(\"&$D$12&\",reference:=StartOfSession)=\"&A23&\"\", \"Bar\", \"\", \"Close\",\"5\",\"0\",\"PrimaryOnly\",,,\"False\",\"T\",\"EveryTick\")","v":105.22499999999999},1.0321651464234168E-2,{"$f":"RTD(\"cqg.rtd\",,\"StudyData\", \"Close(\"&$D$12&\") when LocalYear(\"&$D$12&\")=\"&$D$8&\" and localMonth(\"&$D$12&\") =\"&$E$8&\" and LocalDay(\"&$D$12&\")=\"&$F$8&\" and Barix(\"&$D$12&\",reference:=StartOfSession)=\"&A23&\"\", \"Bar\", \"\", \"Close\",\"5\",\"0\",\"PrimaryOnly\",,,\"False\",\"T\",\"EveryTick\")","v":105.075},4.7812574707147976E-3,{"$f":"RTD(\"cqg.rtd\",,\"StudyData\", \"Close(\"&$D$12&\") when LocalYear(\"&$D$12&\")=\"&$D$9&\" and localMonth(\"&$D$12&\") =\"&$E$9&\" and LocalDay(\"&$D$12&\")=\"&$F$9&\" and Barix(\"&$D$12&\",reference:=StartOfSession)=\"&A23&\"\", \"Bar\", \"\", \"Close\",\"5\",\"0\",\"PrimaryOnly\",,,\"False\",\"T\",\"EveryTick\")","v":104.8},7.2080730418068242E-3,{"$f":"RTD(\"cqg.rtd\",,\"StudyData\", \"Close(\"&$D$12&\") when LocalYear(\"&$D$12&\")=\"&$D$10&\" and localMonth(\"&$D$12&\") =\"&$E$10&\" and LocalDay(\"&$D$12&\")=\"&$F$10&\" and Barix(\"&$D$12&\",reference:=StartOfSession)=\"&A23&\"\", \"Bar\", \"\", \"Close\",\"5\",\"0\",\"PrimaryOnly\",,,\"False\",\"T\",\"EveryTick\")","v":103.825},1.3421181063933627E-2,null,null,null,""]
[23,"10:25:00",null,6,"#.000000",null,null,{"$f":"RTD(\"cqg.rtd\",,\"StudyData\", \"Close(\"&$D$12&\") when LocalYear(\"&$D$12&\")=\"&$D$1&\" and localMonth(\"&$D$12&\") =\"&$E$1&\" and LocalDay(\"&$D$12&\")=\"&$F$1&\" and Barix(\"&$D$12&\",reference:=StartOfSession)=\"&A24&\"\", \"Bar\", \"\", \"Close\",\"5\",\"0\",\"PrimaryOnly\",,,\"False\",\"T\",\"EveryTick\")","v":""},{"$error":"#N/A"},{"$f":"RTD(\"cqg.rtd\",,\"StudyData\", \"Close(\"&$D$12&\") when LocalYear(\"&$D$12&\")=\"&$D$2&\" and localMonth(\"&$D$12&\") =\"&$E$2&\" and LocalDay(\"&$D$12&\")=\"&$F$2&\" and Barix(\"&$D$12&\",reference:=StartOfSession)=\"&A24&\"\", \"Bar\", \"\", \"Close\",\"5\",\"0\",\"PrimaryOnly\",,,\"False\",\"T\",\"EveryTick\")","v":104.325},2.4049079754601254E-2,{"$f":"RTD(\"cqg.rtd\",,\"StudyData\", \"Close(\"&$D$12&\") when LocalYear(\"&$D$12&\")=\"&$D$3&\" and localMonth(\"&$D$12&\") =\"&$E$3&\" and LocalDay(\"&$D$12&\")=\"&$F$3&\" and Barix(\"&$D$12&\",reference:=StartOfSession)=\"&A24&\"\", \"Bar\", \"\", \"Close\",\"5\",\"0\",\"PrimaryOnly\",,,\"False\",\"T\",\"EveryTick\")","v":102.175},-1.660250240615985E-2,{"$f":"RTD(\"cqg.rtd\",,\"StudyData\", \"Close(\"&$D$12&\") when LocalYear(\"&$D$12&\")=\"&$D$4&\" and localMonth(\"&$D$12&\") =\"&$E$4&\" and LocalDay(\"&$D$12&\")=\"&$F$4&\" and Barix(\"&$D$12&\",reference:=StartOfSession)=\"&A24&\"\", \"Bar\", \"\", \"Close\",\"5\",\"0\",\"PrimaryOnly\",,,\"False\",\"T\",\"EveryTick\")","v":104.425},1.1984659635666348E-3,{"$f":"RTD(\"cqg.rtd\",,\"StudyData\", \"Close(\"&$D$12&\") when LocalYear(\"&$D$12&\")=\"&$D$5&\" and localMonth(\"&$D$12&\") =\"&$E$5&\" and LocalDay(\"&$D$12&\")=\"&$F$5&\" and Barix(\"&$D$12&\",reference:=StartOfSession)=\"&A24&\"\", \"Bar\", \"\", \"Close\",\"5\",\"0\",\"PrimaryOnly\",,,\"False\",\"T\",\"EveryTick\")","v":103.97499999999999},-1.9198464122870444E-3,{"$f":"RTD(\"cqg.rtd\",,\"StudyData\", \"Close(\"&$D$12&\") when LocalYear(\"&$D$12&\")=\"&$D$6&\" and localMonth(\"&$D$12&\") =\"&$E$6&\" and LocalDay(\"&$D$12&\")=\"&$F$6&\" and Barix(\"&$D$12&\",reference:=StartOfSession)=\"&A24&\"\", \"Bar\", \"\", \"Close\",\"5\",\"0\",\"PrimaryOnly\",,,\"False\",\"T\",\"EveryTick\")","v":106.27500000000001},4.7270148900969032E-3,{"$f":"RTD(\"cqg.rtd\",,\"StudyData\", \"Close(\"&$D$12&\") when LocalYear(\"&$D$12&\")=\"&$D$7&\" and localMonth(\"&$D$12&\") =\"&$E$7&\" and LocalDay(\"&$D$12&\")=\"&$F$7&\" and Barix(\"&$D$12&\",reference:=StartOfSession)=\"&A24&\"\", \"Bar\", \"\", \"Close\",\"5\",\"0\",\"PrimaryOnly\",,,\"False\",\"T\",\"EveryTick\")","v":105.25},1.0561689870379205E-2,{"$f":"RTD(\"cqg.rtd\",,\"StudyData\", \"Close(\"&$D$12&\") when LocalYear(\"&$D$12&\")=\"&$D$8&\" and localMonth(\"&$D$12&\") =\"&$E$8&\" and LocalDay(\"&$D$12&\")=\"&$F$8&\" and Barix(\"&$D$12&\",reference:=StartOfSession)=\"&A24&\"\", \"Bar\", \"\", \"Close\",\"5\",\"0\",\"PrimaryOnly\",,,\"False\",\"T\",\"EveryTick\")","v":105},4.0640688501075509E-3,{"$f":"RTD(\"cqg.rtd\",,\"StudyData\", \"Close(\"&$D$12&\") when LocalYear(\"&$D$12&\")=\"&$D$9&\" and localMonth(\"&$D$12&\") =\"&$E$9&\" and LocalDay(\"&$D$12&\")=\"&$F$9&\" and Barix(\"&$D$12&\",reference:=StartOfSession)=\"&A24&\"\", \"Bar\", \"\", \"Close\",\"5\",\"0\",\"PrimaryOnly\",,,\"False\",\"T\",\"EveryTick\")","v":104.8},7.2080730418068242E-3,{"$f":"RTD(\"cqg.rtd\",,\"StudyData\", \"Close(\"&$D$12&\") when LocalYear(\"&$D$12&\")=\"&$D$10&\" and localMonth(\"&$D$12&\") =\"&$E$10&\" and LocalDay(\"&$D$12&\")=\"&$F$10&\" and Barix(\"&$D$12&\",reference:=StartOfSession)=\"&A24&\"\", \"Bar\", \"\", \"Close\",\"5\",\"0\",\"PrimaryOnly\",,,\"False\",\"T\",\"EveryTick\")","v":103.675},1.1957052220595357E-2,null,null,null,""]
[24,"10:30:00",null,7,"#.0000000",null,null,{"$f":"RTD(\"cqg.rtd\",,\"StudyData\", \"Close(\"&$D$12&\") when LocalYear(\"&$D$12&\")=\"&$D$1&\" and localMonth(\"&$D$12&\") =\"&$E$1&\" and LocalDay(\"&$D$12&\")=\"&$F$1&\" and Barix(\"&$D$12&\",reference:=StartOfSession)=\"&A25&\"\", \"Bar\", \"\", \"Close\",\"5\",\"0\",\"PrimaryOnly\",,,\"False\",\"T\",\"EveryTick\")","v":""},{"$error":"#N/A"},{"$f":"RTD(\"cqg.rtd\",,\"StudyData\", \"Close(\"&$D$12&\") when LocalYear(\"&$D$12&\")=\"&$D$2&\" and localMonth(\"&$D$12&\") =\"&$E$2&\" and LocalDay(\"&$D$12&\")=\"&$F$2&\" and Barix(\"&$D$12&\",reference:=StartOfSession)=\"&A25&\"\", \"Bar\", \"\", \"Close\",\"5\",\"0\",\"PrimaryOnly\",,,\"False\",\"T\",\"EveryTick\")","v":104.35},2.4294478527607306E-2,{"$f":"RTD(\"cqg.rtd\",,\"StudyData\", \"Close(\"&$D$12&\") when LocalYear(\"&$D$12&\")=\"&$D$3&\" and localMonth(\"&$D$12&\") =\"&$E$3&\" and LocalDay(\"&$D$12&\")=\"&$F$3&\" and Barix(\"&$D$12&\",reference:=StartOfSession)=\"&A25&\"\", \"Bar\", \"\", \"Close\",\"5\",\"0\",\"PrimaryOnly\",,,\"False\",\"T\",\"EveryTick\")","v":102.125},-1.7083734359961557E-2,{"$f":"RTD(\"cqg.rtd\",,\"StudyData\", \"Close(\"&$D$12&\") when LocalYear(\"&$D$12&\")=\"&$D$4&\" and localMonth(\"&$D$12&\") =\"&$E$4&\" and LocalDay(\"&$D$12&\")=\"&$F$4&\" and Barix(\"&$D$12&\",reference:=StartOfSession)=\"&A25&\"\", \"Bar\", \"\", \"Close\",\"5\",\"0\",\"PrimaryOnly\",,,\"False\",\"T\",\"EveryTick\")","v":104.35},4.7938638542662664E-4,{"$f":"RTD(\"cqg.rtd\",,\"StudyData\", \"Close(\"&$D$12&\") when LocalYear(\"&$D$12&\")=\"&$D$5&\" and localMonth(\"&$D$12&\") =\"&$E$5&\" and LocalDay(\"&$D$12&\")=\"&$F$5&\" and Barix(\"&$D$12&\",reference:=StartOfSession)=\"&A25&\"\", \"Bar\", \"\", \"Close\",\"5\",\"0\",\"PrimaryOnly\",,,\"False\",\"T\",\"EveryTick\")","v":104.02500000000001},-1.439884809215181E-3,{"$f":"RTD(\"cqg.rtd\",,\"StudyData\", \"Close(\"&$D$12&\") when LocalYear(\"&$D$12&\")=\"&$D$6&\" and localMonth(\"&$D$12&\") =\"&$E$6&\" and LocalDay(\"&$D$12&\")=\"&$F$6&\" and Barix(\"&$D$12&\",reference:=StartOfSession)=\"&A25&\"\", \"Bar\", \"\", \"Close\",\"5\",\"0\",\"PrimaryOnly\",,,\"False\",\"T\",\"EveryTick\")","v":106.27500000000001},4.7270148900969032E-3,{"$f":"RTD(\"cqg.rtd\",,\"StudyData\", \"Close(\"&$D$12&\") when LocalYear(\"&$D$12&\")=\"&$D$7&\" and localMonth(\"&$D$12&\") =\"&$E$7&\" and LocalDay(\"&$D$12&\")=\"&$F$7&\" and Barix(\"&$D$12&\",reference:=StartOfSession)=\"&A25&\"\", \"Bar\", \"\", \"Close\",\"5\",\"0\",\"PrimaryOnly\",,,\"False\",\"T\",\"EveryTick\")","v":105.15},9.6015362457993279E-3,{"$f":"RTD(\"cqg.rtd\",,\"StudyData\", \"Close(\"&$D$12&\") when LocalYear(\"&$D$12&\")=\"&$D$8&\" and localMonth(\"&$D$12&\") =\"&$E$8&\" and LocalDay(\"&$D$12&\")=\"&$F$8&\" and Barix(\"&$D$12&\",reference:=StartOfSession)=\"&A25&\"\", \"Bar\", \"\", \"Close\",\"5\",\"0\",\"PrimaryOnly\",,,\"False\",\"T\",\"EveryTick\")","v":105},4.0640688501075509E-3,{"$f":"RTD(\"cqg.rtd\",,\"StudyData\", \"Close(\"&$D$12&\") when LocalYear(\"&$D$12&\")=\"&$D$9&\" and localMonth(\"&$D$12&\") =\"&$E$9&\" and LocalDay(\"&$D$12&\")=\"&$F$9&\" and Barix(\"&$D$12&\",reference:=StartOfSession)=\"&A25&\"\", \"Bar\", \"\", \"Close\",\"5\",\"0\",\"PrimaryOnly\",,,\"False\",\"T\",\"EveryTick\")","v":104.8},7.2080730418068242E-3,{"$f":"RTD(\"cqg.rtd\",,\"StudyData\", \"Close(\"&$D$12&\") when LocalYear(\"&$D$12&\")=\"&$D$10&\" and localMonth(\"&$D$12&\") =\"&$E$10&\" and LocalDay(\"&$D$12&\")=\"&$F$10&\" and Barix(\"&$D$12&\",reference:=StartOfSession)=\"&A25&\"\", \"Bar\", \"\", \"Close\",\"5\",\"0\",\"PrimaryOnly\",,,\"False\",\"T\",\"EveryTick\")","v":103.575},1.0980966325036604E-2,null,null,null,""]
[25,"10:35:00",{"$f":"IF(WEEKDAY(TODAY())=7,TODAY()-1,IF(WEEKDAY(TODAY())=1,TODAY()-2,TODAY()))","v":"2018-06-18"},{"$f":"YEAR(C26)","v":2018},{"$f":"MONTH(C26)","v":6},{"$f":"DAY(C26)","v":18},null,{"$f":"RTD(\"cqg.rtd\",,\"StudyData\", \"Close(\"&$D$12&\") when LocalYear(\"&$D$12&\")=\"&$D$1&\" and localMonth(\"&$D$12&\") =\"&$E$1&\" and LocalDay(\"&$D$12&\")=\"&$F$1&\" and Barix(\"&$D$12&\",reference:=StartOfSession)=\"&A26&\"\", \"Bar\", \"\", \"Close\",\"5\",\"0\",\"PrimaryOnly\",,,\"False\",\"T\",\"EveryTick\")","v":""},{"$error":"#N/A"},{"$f":"RTD(\"cqg.rtd\",,\"StudyData\", \"Close(\"&$D$12&\") when LocalYear(\"&$D$12&\")=\"&$D$2&\" and localMonth(\"&$D$12&\") =\"&$E$2&\" and LocalDay(\"&$D$12&\")=\"&$F$2&\" and Barix(\"&$D$12&\",reference:=StartOfSession)=\"&A26&\"\", \"Bar\", \"\", \"Close\",\"5\",\"0\",\"PrimaryOnly\",,,\"False\",\"T\",\"EveryTick\")","v":104.45},2.5276073619631929E-2,{"$f":"RTD(\"cqg.rtd\",,\"StudyData\", \"Close(\"&$D$12&\") when LocalYear(\"&$D$12&\")=\"&$D$3&\" and localMonth(\"&$D$12&\") =\"&$E$3&\" and LocalDay(\"&$D$12&\")=\"&$F$3&\" and Barix(\"&$D$12&\",reference:=StartOfSession)=\"&A26&\"\", \"Bar\", \"\", \"Close\",\"5\",\"0\",\"PrimaryOnly\",,,\"False\",\"T\",\"EveryTick\")","v":101.52500000000001},-2.285851780558229E-2,{"$f":"RTD(\"cqg.rtd\",,\"StudyData\", \"Close(\"&$D$12&\") when LocalYear(\"&$D$12&\")=\"&$D$4&\" and localMonth(\"&$D$12&\") =\"&$E$4&\" and LocalDay(\"&$D$12&\")=\"&$F$4&\" and Barix(\"&$D$12&\",reference:=StartOfSession)=\"&A26&\"\", \"Bar\", \"\", \"Close\",\"5\",\"0\",\"PrimaryOnly\",,,\"False\",\"T\",\"EveryTick\")","v":104.1},-1.9175455417066428E-3,{"$f":"RTD(\"cqg.rtd\",,\"StudyData\", \"Close(\"&$D$12&\") when LocalYear(\"&$D$12&\")=\"&$D$5&\" and localMonth(\"&$D$12&\") =\"&$E$5&\" and LocalDay(\"&$D$12&\")=\"&$F$5&\" and Barix(\"&$D$12&\",reference:=StartOfSession)=\"&A26&\"\", \"Bar\", \"\", \"Close\",\"5\",\"0\",\"PrimaryOnly\",,,\"False\",\"T\",\"EveryTick\")","v":103.97499999999999},-1.9198464122870444E-3,{"$f":"RTD(\"cqg.rtd\",,\"StudyData\", \"Close(\"&$D$12&\") when LocalYear(\"&$D$12&\")=\"&$D$6&\" and localMonth(\"&$D$12&\") =\"&$E$6&\" and LocalDay(\"&$D$12&\")=\"&$F$6&\" and Barix(\"&$D$12&\",reference:=StartOfSession)=\"&A26&\"\", \"Bar\", \"\", \"Close\",\"5\",\"0\",\"PrimaryOnly\",,,\"False\",\"T\",\"EveryTick\")","v":106.4},5.9087686126211292E-3,{"$f":"RTD(\"cqg.rtd\",,\"StudyData\", \"Close(\"&$D$12&\") when LocalYear(\"&$D$12&\")=\"&$D$7&\" and localMonth(\"&$D$12&\") =\"&$E$7&\" and LocalDay(\"&$D$12&\")=\"&$F$7&\" and Barix(\"&$D$12&\",reference:=StartOfSession)=\"&A26&\"\", \"Bar\", \"\", \"Close\",\"5\",\"0\",\"PrimaryOnly\",,,\"False\",\"T\",\"EveryTick\")","v":105.1},9.1214594335092512E-3,{"$f":"RTD(\"cqg.rtd\",,\"StudyData\", \"Close(\"&$D$12&\") when LocalYear(\"&$D$12&\")=\"&$D$8&\" and localMonth(\"&$D$12&\") =\"&$E$8&\" and LocalDay(\"&$D$12&\")=\"&$F$8&\" and Barix(\"&$D$12&\",reference:=StartOfSession)=\"&A26&\"\", \"Bar\", \"\", \"Close\",\"5\",\"0\",\"PrimaryOnly\",,,\"False\",\"T\",\"EveryTick\")","v":105.1},5.0203203442504563E-3,{"$f":"RTD(\"cqg.rtd\",,\"StudyData\", \"Close(\"&$D$12&\") when LocalYear(\"&$D$12&\")=\"&$D$9&\" and localMonth(\"&$D$12&\") =\"&$E$9&\" and LocalDay(\"&$D$12&\")=\"&$F$9&\" and Barix(\"&$D$12&\",reference:=StartOfSession)=\"&A26&\"\", \"Bar\", \"\", \"Close\",\"5\",\"0\",\"PrimaryOnly\",,,\"False\",\"T\",\"EveryTick\")","v":104.8},7.2080730418068242E-3,{"$f":"RTD(\"cqg.rtd\",,\"StudyData\", \"Close(\"&$D$12&\") when LocalYear(\"&$D$12&\")=\"&$D$10&\" and localMonth(\"&$D$12&\") =\"&$E$10&\" and LocalDay(\"&$D$12&\")=\"&$F$10&\" and Barix(\"&$D$12&\",reference:=StartOfSession)=\"&A26&\"\", \"Bar\", \"\", \"Close\",\"5\",\"0\",\"PrimaryOnly\",,,\"False\",\"T\",\"EveryTick\")","v":103.72499999999999},1.2445095168374734E-2,null,null,null,""]
[26,"10:40:00",{"$f":"WORKDAY(C26,-1)","v":"2018-06-15"},{"$f":"YEAR(C27)","v":2018},{"$f":"MONTH(C27)","v":6},{"$f":"DAY(C27)","v":15},{"$f":"IF(RTD(\"cqg.rtd\",,\"StudyData\", \"Close(EP) when LocalYear(\"&$D$12&\")=\"&D27&\" and localMonth(\"&$D$12&\") =\"&E27&\" and LocalDay(\"&$D$12&\")=\"&F27&\" and Barix(\"&$D$12&\",reference:=StartOfSession)=54\", \"Bar\", \"\", \"Close\",\"5\",\"0\",\"PrimaryOnly\",,,\"False\",\"T\",\"EveryTick\")=\"\",2,1)","v":1},{"$f":"RTD(\"cqg.rtd\",,\"StudyData\", \"Close(\"&$D$12&\") when LocalYear(\"&$D$12&\")=\"&$D$1&\" and localMonth(\"&$D$12&\") =\"&$E$1&\" and LocalDay(\"&$D$12&\")=\"&$F$1&\" and Barix(\"&$D$12&\",reference:=StartOfSession)=\"&A27&\"\", \"Bar\", \"\", \"Close\",\"5\",\"0\",\"PrimaryOnly\",,,\"False\",\"T\",\"EveryTick\")","v":""},{"$error":"#N/A"},{"$f":"RTD(\"cqg.rtd\",,\"StudyData\", \"Close(\"&$D$12&\") when LocalYear(\"&$D$12&\")=\"&$D$2&\" and localMonth(\"&$D$12&\") =\"&$E$2&\" and LocalDay(\"&$D$12&\")=\"&$F$2&\" and Barix(\"&$D$12&\",reference:=StartOfSession)=\"&A27&\"\", \"Bar\", \"\", \"Close\",\"5\",\"0\",\"PrimaryOnly\",,,\"False\",\"T\",\"EveryTick\")","v":104.52500000000001},2.6012269938650363E-2,{"$f":"RTD(\"cqg.rtd\",,\"StudyData\", \"Close(\"&$D$12&\") when LocalYear(\"&$D$12&\")=\"&$D$3&\" and localMonth(\"&$D$12&\") =\"&$E$3&\" and LocalDay(\"&$D$12&\")=\"&$F$3&\" and Barix(\"&$D$12&\",reference:=StartOfSession)=\"&A27&\"\", \"Bar\", \"\", \"Close\",\"5\",\"0\",\"PrimaryOnly\",,,\"False\",\"T\",\"EveryTick\")","v":101.72499999999999},-2.0933589990375468E-2,{"$f":"RTD(\"cqg.rtd\",,\"StudyData\", \"Close(\"&$D$12&\") when LocalYear(\"&$D$12&\")=\"&$D$4&\" and localMonth(\"&$D$12&\") =\"&$E$4&\" and LocalDay(\"&$D$12&\")=\"&$F$4&\" and Barix(\"&$D$12&\",reference:=StartOfSession)=\"&A27&\"\", \"Bar\", \"\", \"Close\",\"5\",\"0\",\"PrimaryOnly\",,,\"False\",\"T\",\"EveryTick\")","v":104.15},-1.4381591562798799E-3,{"$f":"RTD(\"cqg.rtd\",,\"StudyData\", \"Close(\"&$D$12&\") when LocalYear(\"&$D$12&\")=\"&$D$5&\" and localMonth(\"&$D$12&\") =\"&$E$5&\" and LocalDay(\"&$D$12&\")=\"&$F$5&\" and Barix(\"&$D$12&\",reference:=StartOfSession)=\"&A27&\"\", \"Bar\", \"\", \"Close\",\"5\",\"0\",\"PrimaryOnly\",,,\"False\",\"T\",\"EveryTick\")","v":103.8},-3.599712023038157E-3,{"$f":"RTD(\"cqg.rtd\",,\"StudyData\", \"Close(\"&$D$12&\") when LocalYear(\"&$D$12&\")=\"&$D$6&\" and localMonth(\"&$D$12&\") =\"&$E$6&\" and LocalDay(\"&$D$12&\")=\"&$F$6&\" and Barix(\"&$D$12&\",reference:=StartOfSession)=\"&A27&\"\", \"Bar\", \"\", \"Close\",\"5\",\"0\",\"PrimaryOnly\",,,\"False\",\"T\",\"EveryTick\")","v":106.45},6.3814701016307925E-3,{"$f":"RTD(\"cqg.rtd\",,\"StudyData\", \"Close(\"&$D$12&\") when LocalYear(\"&$D$12&\")=\"&$D$7&\" and localMonth(\"&$D$12&\") =\"&$E$7&\" and LocalDay(\"&$D$12&\")=\"&$F$7&\" and Barix(\"&$D$12&\",reference:=StartOfSession)=\"&A27&\"\", \"Bar\", \"\", \"Close\",\"5\",\"0\",\"PrimaryOnly\",,,\"False\",\"T\",\"EveryTick\")","v":105.2},1.0081613058089266E-2,{"$f":"RTD(\"cqg.rtd\",,\"StudyData\", \"Close(\"&$D$12&\") when LocalYear(\"&$D$12&\")=\"&$D$8&\" and localMonth(\"&$D$12&\") =\"&$E$8&\" and LocalDay(\"&$D$12&\")=\"&$F$8&\" and Barix(\"&$D$12&\",reference:=StartOfSession)=\"&A27&\"\", \"Bar\", \"\", \"Close\",\"5\",\"0\",\"PrimaryOnly\",,,\"False\",\"T\",\"EveryTick\")","v":105.27500000000001},6.6937604590007445E-3,{"$f":"RTD(\"cqg.rtd\",,\"StudyData\", \"Close(\"&$D$12&\") when LocalYear(\"&$D$12&\")=\"&$D$9&\" and localMonth(\"&$D$12&\") =\"&$E$9&\" and LocalDay(\"&$D$12&\")=\"&$F$9&\" and Barix(\"&$D$12&\",reference:=StartOfSession)=\"&A27&\"\", \"Bar\", \"\", \"Close\",\"5\",\"0\",\"PrimaryOnly\",,,\"False\",\"T\",\"EveryTick\")","v":104.825},7.4483421432004395E-3,{"$f":"RTD(\"cqg.rtd\",,\"StudyData\", \"Close(\"&$D$12&\") when LocalYear(\"&$D$12&\")=\"&$D$10&\" and localMonth(\"&$D$12&\") =\"&$E$10&\" and LocalDay(\"&$D$12&\")=\"&$F$10&\" and Barix(\"&$D$12&\",reference:=StartOfSession)=\"&A27&\"\", \"Bar\", \"\", \"Close\",\"5\",\"0\",\"PrimaryOnly\",,,\"False\",\"T\",\"EveryTick\")","v":103.675},1.1957052220595357E-2,null,null,null,""]
[27,"10:45:00",{"$f":"WORKDAY(C27,-1)","v":"2018-06-14"},2018,6,14,{"$f":"IF(RTD(\"cqg.rtd\",,\"StudyData\", \"Close(EP) when LocalYear(\"&$D$12&\")=\"&D28&\" and localMonth(\"&$D$12&\") =\"&E28&\" and LocalDay(\"&$D$12&\")=\"&F28&\" and Barix(\"&$D$12&\",reference:=StartOfSession)=54\", \"Bar\", \"\", \"Close\",\"5\",\"0\",\"PrimaryOnly\",,,\"False\",\"T\",\"EveryTick\")=\"\",2,1)","v":1},{"$f":"RTD(\"cqg.rtd\",,\"StudyData\", \"Close(\"&$D$12&\") when LocalYear(\"&$D$12&\")=\"&$D$1&\" and localMonth(\"&$D$12&\") =\"&$E$1&\" and LocalDay(\"&$D$12&\")=\"&$F$1&\" and Barix(\"&$D$12&\",reference:=StartOfSession)=\"&A28&\"\", \"Bar\", \"\", \"Close\",\"5\",\"0\",\"PrimaryOnly\",,,\"False\",\"T\",\"EveryTick\")","v":""},{"$error":"#N/A"},{"$f":"RTD(\"cqg.rtd\",,\"StudyData\", \"Close(\"&$D$12&\") when LocalYear(\"&$D$12&\")=\"&$D$2&\" and localMonth(\"&$D$12&\") =\"&$E$2&\" and LocalDay(\"&$D$12&\")=\"&$F$2&\" and Barix(\"&$D$12&\",reference:=StartOfSession)=\"&A28&\"\", \"Bar\", \"\", \"Close\",\"5\",\"0\",\"PrimaryOnly\",,,\"False\",\"T\",\"EveryTick\")","v":104.6},2.6748466257668656E-2,{"$f":"RTD(\"cqg.rtd\",,\"StudyData\", \"Close(\"&$D$12&\") when LocalYear(\"&$D$12&\")=\"&$D$3&\" and localMonth(\"&$D$12&\") =\"&$E$3&\" and LocalDay(\"&$D$12&\")=\"&$F$3&\" and Barix(\"&$D$12&\",reference:=StartOfSession)=\"&A28&\"\", \"Bar\", \"\", \"Close\",\"5\",\"0\",\"PrimaryOnly\",,,\"False\",\"T\",\"EveryTick\")","v":101.65},-2.165543792107796E-2,{"$f":"RTD(\"cqg.rtd\",,\"StudyData\", \"Close(\"&$D$12&\") when LocalYear(\"&$D$12&\")=\"&$D$4&\" and localMonth(\"&$D$12&\") =\"&$E$4&\" and LocalDay(\"&$D$12&\")=\"&$F$4&\" and Barix(\"&$D$12&\",reference:=StartOfSession)=\"&A28&\"\", \"Bar\", \"\", \"Close\",\"5\",\"0\",\"PrimaryOnly\",,,\"False\",\"T\",\"EveryTick\")","v":104.175},-1.1984659635666348E-3,{"$f":"RTD(\"cqg.rtd\",,\"StudyData\", \"Close(\"&$D$12&\") when LocalYear(\"&$D$12&\")=\"&$D$5&\" and localMonth(\"&$D$12&\") =\"&$E$5&\" and LocalDay(\"&$D$12&\")=\"&$F$5&\" and Barix(\"&$D$12&\",reference:=StartOfSession)=\"&A28&\"\", \"Bar\", \"\", \"Close\",\"5\",\"0\",\"PrimaryOnly\",,,\"False\",\"T\",\"EveryTick\")","v":103.675},-4.7996160307175427E-3,{"$f":"RTD(\"cqg.rtd\",,\"StudyData\", \"Close(\"&$D$12&\") when LocalYear(\"&$D$12&\")=\"&$D$6&\" and localMonth(\"&$D$12&\") =\"&$E$6&\" and LocalDay(\"&$D$12&\")=\"&$F$6&\" and Barix(\"&$D$12&\",reference:=StartOfSession)=\"&A28&\"\", \"Bar\", \"\", \"Close\",\"5\",\"0\",\"PrimaryOnly\",,,\"False\",\"T\",\"EveryTick\")","v":106.55},7.3268730796501201E-3,{"$f":"RTD(\"cqg.rtd\",,\"StudyData\", \"Close(\"&$D$12&\") when LocalYear(\"&$D$12&\")=\"&$D$7&\" and localMonth(\"&$D$12&\") =\"&$E$7&\" and LocalDay(\"&$D$12&\")=\"&$F$7&\" and Barix(\"&$D$12&\",reference:=StartOfSession)=\"&A28&\"\", \"Bar\", \"\", \"Close\",\"5\",\"0\",\"PrimaryOnly\",,,\"False\",\"T\",\"EveryTick\")","v":105.2},1.0081613058089266E-2,{"$f":"RTD(\"cqg.rtd\",,\"StudyData\", \"Close(\"&$D$12&\") when LocalYear(\"&$D$12&\")=\"&$D$8&\" and localMonth(\"&$D$12&\") =\"&$E$8&\" and LocalDay(\"&$D$12&\")=\"&$F$8&\" and Barix(\"&$D$12&\",reference:=StartOfSession)=\"&A28&\"\", \"Bar\", \"\", \"Close\",\"5\",\"0\",\"PrimaryOnly\",,,\"False\",\"T\",\"EveryTick\")","v":105.075},4.7812574707147976E-3,{"$f":"RTD(\"cqg.rtd\",,\"StudyData\", \"Close(\"&$D$12&\") when LocalYear(\"&$D$12&\")=\"&$D$9&\" and localMonth(\"&$D$12&\") =\"&$E$9&\" and LocalDay(\"&$D$12&\")=\"&$F$9&\" and Barix(\"&$D$12&\",reference:=StartOfSession)=\"&A28&\"\", \"Bar\", \"\", \"Close\",\"5\",\"0\",\"PrimaryOnly\",,,\"False\",\"T\",\"EveryTick\")","v":104.85},7.6886112445939177E-3,{"$f":"RTD(\"cqg.rtd\",,\"StudyData\", \"Close(\"&$D$12&\") when LocalYear(\"&$D$12&\")=\"&$D$10&\" and localMonth(\"&$D$12&\") =\"&$E$10&\" and LocalDay(\"&$D$12&\")=\"&$F$10&\" and Barix(\"&$D$12&\",reference:=StartOfSession)=\"&A28&\"\", \"Bar\", \"\", \"Close\",\"5\",\"0\",\"PrimaryOnly\",,,\"False\",\"T\",\"EveryTick\")","v":103.625},1.146900927281598E-2,null,null,null,""]
[28,"10:50:00","2018-06-13",2018,6,13,{"$f":"IF(RTD(\"cqg.rtd\",,\"StudyData\", \"Close(EP) when LocalYear(\"&$D$12&\")=\"&D29&\" and localMonth(\"&$D$12&\") =\"&E29&\" and LocalDay(\"&$D$12&\")=\"&F29&\" and Barix(\"&$D$12&\",reference:=StartOfSession)=54\", \"Bar\", \"\", \"Close\",\"5\",\"0\",\"PrimaryOnly\",,,\"False\",\"T\",\"EveryTick\")=\"\",2,1)","v":1},{"$f":"RTD(\"cqg.rtd\",,\"StudyData\", \"Close(\"&$D$12&\") when LocalYear(\"&$D$12&\")=\"&$D$1&\" and localMonth(\"&$D$12&\") =\"&$E$1&\" and LocalDay(\"&$D$12&\")=\"&$F$1&\" and Barix(\"&$D$12&\",reference:=StartOfSession)=\"&A29&\"\", \"Bar\", \"\", \"Close\",\"5\",\"0\",\"PrimaryOnly\",,,\"False\",\"T\",\"EveryTick\")","v":""},{"$error":"#N/A"},{"$f":"RTD(\"cqg.rtd\",,\"StudyData\", \"Close(\"&$D$12&\") when LocalYear(\"&$D$12&\")=\"&$D$2&\" and localMonth(\"&$D$12&\") =\"&$E$2&\" and LocalDay(\"&$D$12&\")=\"&$F$2&\" and Barix(\"&$D$12&\",reference:=StartOfSession)=\"&A29&\"\", \"Bar\", \"\", \"Close\",\"5\",\"0\",\"PrimaryOnly\",,,\"False\",\"T\",\"EveryTick\")","v":104.6},2.6748466257668656E-2,{"$f":"RTD(\"cqg.rtd\",,\"StudyData\", \"Close(\"&$D$12&\") when LocalYear(\"&$D$12&\")=\"&$D$3&\" and localMonth(\"&$D$12&\") =\"&$E$3&\" and LocalDay(\"&$D$12&\")=\"&$F$3&\" and Barix(\"&$D$12&\",reference:=StartOfSession)=\"&A29&\"\", \"Bar\", \"\", \"Close\",\"5\",\"0\",\"PrimaryOnly\",,,\"False\",\"T\",\"EveryTick\")","v":101.825},-1.9971126082771923E-2,{"$f":"RTD(\"cqg.rtd\",,\"StudyData\", \"Close(\"&$D$12&\") when LocalYear(\"&$D$12&\")=\"&$D$4&\" and localMonth(\"&$D$12&\") =\"&$E$4&\" and LocalDay(\"&$D$12&\")=\"&$F$4&\" and Barix(\"&$D$12&\",reference:=StartOfSession)=\"&A29&\"\", \"Bar\", \"\", \"Close\",\"5\",\"0\",\"PrimaryOnly\",,,\"False\",\"T\",\"EveryTick\")","v":104.15},-1.4381591562798799E-3,{"$f":"RTD(\"cqg.rtd\",,\"StudyData\", \"Close(\"&$D$12&\") when LocalYear(\"&$D$12&\")=\"&$D$5&\" and localMonth(\"&$D$12&\") =\"&$E$5&\" and LocalDay(\"&$D$12&\")=\"&$F$5&\" and Barix(\"&$D$12&\",reference:=StartOfSession)=\"&A29&\"\", \"Bar\", \"\", \"Close\",\"5\",\"0\",\"PrimaryOnly\",,,\"False\",\"T\",\"EveryTick\")","v":104.05},-1.1999040076793857E-3,{"$f":"RTD(\"cqg.rtd\",,\"StudyData\", \"Close(\"&$D$12&\") when LocalYear(\"&$D$12&\")=\"&$D$6&\" and localMonth(\"&$D$12&\") =\"&$E$6&\" and LocalDay(\"&$D$12&\")=\"&$F$6&\" and Barix(\"&$D$12&\",reference:=StartOfSession)=\"&A29&\"\", \"Bar\", \"\", \"Close\",\"5\",\"0\",\"PrimaryOnly\",,,\"False\",\"T\",\"EveryTick\")","v":106.575},7.5632238241550185E-3,{"$f":"RTD(\"cqg.rtd\",,\"StudyData\", \"Close(\"&$D$12&\") when LocalYear(\"&$D$12&\")=\"&$D$7&\" and localMonth(\"&$D$12&\") =\"&$E$7&\" and LocalDay(\"&$D$12&\")=\"&$F$7&\" and Barix(\"&$D$12&\",reference:=StartOfSession)=\"&A29&\"\", \"Bar\", \"\", \"Close\",\"5\",\"0\",\"PrimaryOnly\",,,\"False\",\"T\",\"EveryTick\")","v":105.175},9.8415746519442283E-3,{"$f":"RTD(\"cqg.rtd\",,\"StudyData\", \"Close(\"&$D$12&\") when LocalYear(\"&$D$12&\")=\"&$D$8&\" and localMonth(\"&$D$12&\") =\"&$E$8&\" and LocalDay(\"&$D$12&\")=\"&$F$8&\" and Barix(\"&$D$12&\",reference:=StartOfSession)=\"&A29&\"\", \"Bar\", \"\", \"Close\",\"5\",\"0\",\"PrimaryOnly\",,,\"False\",\"T\",\"EveryTick\")","v":105.1},5.0203203442504563E-3,{"$f":"RTD(\"cqg.rtd\",,\"StudyData\", \"Close(\"&$D$12&\") when LocalYear(\"&$D$12&\")=\"&$D$9&\" and localMonth(\"&$D$12&\") =\"&$E$9&\" and LocalDay(\"&$D$12&\")=\"&$F$9&\" and Barix(\"&$D$12&\",reference:=StartOfSession)=\"&A29&\"\", \"Bar\", \"\", \"Close\",\"5\",\"0\",\"PrimaryOnly\",,,\"False\",\"T\",\"EveryTick\")","v":104.85},7.6886112445939177E-3,{"$f":"RTD(\"cqg.rtd\",,\"StudyData\", \"Close(\"&$D$12&\") when LocalYear(\"&$D$12&\")=\"&$D$10&\" and localMonth(\"&$D$12&\") =\"&$E$10&\" and LocalDay(\"&$D$12&\")=\"&$F$10&\" and Barix(\"&$D$12&\",reference:=StartOfSession)=\"&A29&\"\", \"Bar\", \"\", \"Close\",\"5\",\"0\",\"PrimaryOnly\",,,\"False\",\"T\",\"EveryTick\")","v":103.7},1.2201073694485115E-2,null,null,null,""]
[29,"10:55:00","2018-06-12",2018,6,12,{"$f":"IF(RTD(\"cqg.rtd\",,\"StudyData\", \"Close(EP) when LocalYear(\"&$D$12&\")=\"&D30&\" and localMonth(\"&$D$12&\") =\"&E30&\" and LocalDay(\"&$D$12&\")=\"&F30&\" and Barix(\"&$D$12&\",reference:=StartOfSession)=54\", \"Bar\", \"\", \"Close\",\"5\",\"0\",\"PrimaryOnly\",,,\"False\",\"T\",\"EveryTick\")=\"\",2,1)","v":1},{"$f":"RTD(\"cqg.rtd\",,\"StudyData\", \"Close(\"&$D$12&\") when LocalYear(\"&$D$12&\")=\"&$D$1&\" and localMonth(\"&$D$12&\") =\"&$E$1&\" and LocalDay(\"&$D$12&\")=\"&$F$1&\" and Barix(\"&$D$12&\",reference:=StartOfSession)=\"&A30&\"\", \"Bar\", \"\", \"Close\",\"5\",\"0\",\"PrimaryOnly\",,,\"False\",\"T\",\"EveryTick\")","v":""},{"$error":"#N/A"},{"$f":"RTD(\"cqg.rtd\",,\"StudyData\", \"Close(\"&$D$12&\") when LocalYear(\"&$D$12&\")=\"&$D$2&\" and localMonth(\"&$D$12&\") =\"&$E$2&\" and LocalDay(\"&$D$12&\")=\"&$F$2&\" and Barix(\"&$D$12&\",reference:=StartOfSession)=\"&A30&\"\", \"Bar\", \"\", \"Close\",\"5\",\"0\",\"PrimaryOnly\",,,\"False\",\"T\",\"EveryTick\")","v":104.65},2.7239263803681038E-2,{"$f":"RTD(\"cqg.rtd\",,\"StudyData\", \"Close(\"&$D$12&\") when LocalYear(\"&$D$12&\")=\"&$D$3&\" and localMonth(\"&$D$12&\") =\"&$E$3&\" and LocalDay(\"&$D$12&\")=\"&$F$3&\" and Barix(\"&$D$12&\",reference:=StartOfSession)=\"&A30&\"\", \"Bar\", \"\", \"Close\",\"5\",\"0\",\"PrimaryOnly\",,,\"False\",\"T\",\"EveryTick\")","v":102.075},-1.756496631376326E-2,{"$f":"RTD(\"cqg.rtd\",,\"StudyData\", \"Close(\"&$D$12&\") when LocalYear(\"&$D$12&\")=\"&$D$4&\" and localMonth(\"&$D$12&\") =\"&$E$4&\" and LocalDay(\"&$D$12&\")=\"&$F$4&\" and Barix(\"&$D$12&\",reference:=StartOfSession)=\"&A30&\"\", \"Bar\", \"\", \"Close\",\"5\",\"0\",\"PrimaryOnly\",,,\"False\",\"T\",\"EveryTick\")","v":104},-2.876318312559896E-3,{"$f":"RTD(\"cqg.rtd\",,\"StudyData\", \"Close(\"&$D$12&\") when LocalYear(\"&$D$12&\")=\"&$D$5&\" and localMonth(\"&$D$12&\") =\"&$E$5&\" and LocalDay(\"&$D$12&\")=\"&$F$5&\" and Barix(\"&$D$12&\",reference:=StartOfSession)=\"&A30&\"\", \"Bar\", \"\", \"Close\",\"5\",\"0\",\"PrimaryOnly\",,,\"False\",\"T\",\"EveryTick\")","v":103.85},-3.1197504199664302E-3,{"$f":"RTD(\"cqg.rtd\",,\"StudyData\", \"Close(\"&$D$12&\") when LocalYear(\"&$D$12&\")=\"&$D$6&\" and localMonth(\"&$D$12&\") =\"&$E$6&\" and LocalDay(\"&$D$12&\")=\"&$F$6&\" and Barix(\"&$D$12&\",reference:=StartOfSession)=\"&A30&\"\", \"Bar\", \"\", \"Close\",\"5\",\"0\",\"PrimaryOnly\",,,\"False\",\"T\",\"EveryTick\")","v":106.575},7.5632238241550185E-3,{"$f":"RTD(\"cqg.rtd\",,\"StudyData\", \"Close(\"&$D$12&\") when LocalYear(\"&$D$12&\")=\"&$D$7&\" and localMonth(\"&$D$12&\") =\"&$E$7&\" and LocalDay(\"&$D$12&\")=\"&$F$7&\" and Barix(\"&$D$12&\",reference:=StartOfSession)=\"&A30&\"\", \"Bar\", \"\", \"Close\",\"5\",\"0\",\"PrimaryOnly\",,,\"False\",\"T\",\"EveryTick\")","v":105.25},1.0561689870379205E-2,{"$f":"RTD(\"cqg.rtd\",,\"StudyData\", \"Close(\"&$D$12&\") when LocalYear(\"&$D$12&\")=\"&$D$8&\" and localMonth(\"&$D$12&\") =\"&$E$8&\" and LocalDay(\"&$D$12&\")=\"&$F$8&\" and Barix(\"&$D$12&\",reference:=StartOfSession)=\"&A30&\"\", \"Bar\", \"\", \"Close\",\"5\",\"0\",\"PrimaryOnly\",,,\"False\",\"T\",\"EveryTick\")","v":105.05},4.5421945971790036E-3,{"$f":"RTD(\"cqg.rtd\",,\"StudyData\", \"Close(\"&$D$12&\") when LocalYear(\"&$D$12&\")=\"&$D$9&\" and localMonth(\"&$D$12&\") =\"&$E$9&\" and LocalDay(\"&$D$12&\")=\"&$F$9&\" and Barix(\"&$D$12&\",reference:=StartOfSession)=\"&A30&\"\", \"Bar\", \"\", \"Close\",\"5\",\"0\",\"PrimaryOnly\",,,\"False\",\"T\",\"EveryTick\")","v":104.925},8.4094185487746283E-3,{"$f":"RTD(\"cqg.rtd\",,\"StudyData\", \"Close(\"&$D$12&\") when LocalYear(\"&$D$12&\")=\"&$D$10&\" and localMonth(\"&$D$12&\") =\"&$E$10&\" and LocalDay(\"&$D$12&\")=\"&$F$10&\" and Barix(\"&$D$12&\",reference:=StartOfSession)=\"&A30&\"\", \"Bar\", \"\", \"Close\",\"5\",\"0\",\"PrimaryOnly\",,,\"False\",\"T\",\"EveryTick\")","v":103.8},1.3177159590043869E-2,null,null,null,""]
[30,"11:00:00","2018-06-11",2018,6,11,{"$f":"IF(RTD(\"cqg.rtd\",,\"StudyData\", \"Close(EP) when LocalYear(\"&$D$12&\")=\"&D31&\" and localMonth(\"&$D$12&\") =\"&E31&\" and LocalDay(\"&$D$12&\")=\"&F31&\" and Barix(\"&$D$12&\",reference:=StartOfSession)=54\", \"Bar\", \"\", \"Close\",\"5\",\"0\",\"PrimaryOnly\",,,\"False\",\"T\",\"EveryTick\")=\"\",2,1)","v":1},{"$f":"RTD(\"cqg.rtd\",,\"StudyData\", \"Close(\"&$D$12&\") when LocalYear(\"&$D$12&\")=\"&$D$1&\" and localMonth(\"&$D$12&\") =\"&$E$1&\" and LocalDay(\"&$D$12&\")=\"&$F$1&\" and Barix(\"&$D$12&\",reference:=StartOfSession)=\"&A31&\"\", \"Bar\", \"\", \"Close\",\"5\",\"0\",\"PrimaryOnly\",,,\"False\",\"T\",\"EveryTick\")","v":""},{"$error":"#N/A"},{"$f":"RTD(\"cqg.rtd\",,\"StudyData\", \"Close(\"&$D$12&\") when LocalYear(\"&$D$12&\")=\"&$D$2&\" and localMonth(\"&$D$12&\") =\"&$E$2&\" and LocalDay(\"&$D$12&\")=\"&$F$2&\" and Barix(\"&$D$12&\",reference:=StartOfSession)=\"&A31&\"\", \"Bar\", \"\", \"Close\",\"5\",\"0\",\"PrimaryOnly\",,,\"False\",\"T\",\"EveryTick\")","v":104.675},2.7484662576687087E-2,{"$f":"RTD(\"cqg.rtd\",,\"StudyData\", \"Close(\"&$D$12&\") when LocalYear(\"&$D$12&\")=\"&$D$3&\" and localMonth(\"&$D$12&\") =\"&$E$3&\" and LocalDay(\"&$D$12&\")=\"&$F$3&\" and Barix(\"&$D$12&\",reference:=StartOfSession)=\"&A31&\"\", \"Bar\", \"\", \"Close\",\"5\",\"0\",\"PrimaryOnly\",,,\"False\",\"T\",\"EveryTick\")","v":102.25},-1.5880654475457223E-2,{"$f":"RTD(\"cqg.rtd\",,\"StudyData\", \"Close(\"&$D$12&\") when LocalYear(\"&$D$12&\")=\"&$D$4&\" and localMonth(\"&$D$12&\") =\"&$E$4&\" and LocalDay(\"&$D$12&\")=\"&$F$4&\" and Barix(\"&$D$12&\",reference:=StartOfSession)=\"&A31&\"\", \"Bar\", \"\", \"Close\",\"5\",\"0\",\"PrimaryOnly\",,,\"False\",\"T\",\"EveryTick\")","v":104.075},-2.1572387344198879E-3,{"$f":"RTD(\"cqg.rtd\",,\"StudyData\", \"Close(\"&$D$12&\") when LocalYear(\"&$D$12&\")=\"&$D$5&\" and localMonth(\"&$D$12&\") =\"&$E$5&\" and LocalDay(\"&$D$12&\")=\"&$F$5&\" and Barix(\"&$D$12&\",reference:=StartOfSession)=\"&A31&\"\", \"Bar\", \"\", \"Close\",\"5\",\"0\",\"PrimaryOnly\",,,\"False\",\"T\",\"EveryTick\")","v":103.875},-2.8797696184304986E-3,{"$f":"RTD(\"cqg.rtd\",,\"StudyData\", \"Close(\"&$D$12&\") when LocalYear(\"&$D$12&\")=\"&$D$6&\" and localMonth(\"&$D$12&\") =\"&$E$6&\" and LocalDay(\"&$D$12&\")=\"&$F$6&\" and Barix(\"&$D$12&\",reference:=StartOfSession)=\"&A31&\"\", \"Bar\", \"\", \"Close\",\"5\",\"0\",\"PrimaryOnly\",,,\"False\",\"T\",\"EveryTick\")","v":106.52500000000001},7.0905223351453552E-3,{"$f":"RTD(\"cqg.rtd\",,\"StudyData\", \"Close(\"&$D$12&\") when LocalYear(\"&$D$12&\")=\"&$D$7&\" and localMonth(\"&$D$12&\") =\"&$E$7&\" and LocalDay(\"&$D$12&\")=\"&$F$7&\" and Barix(\"&$D$12&\",reference:=StartOfSession)=\"&A31&\"\", \"Bar\", \"\", \"Close\",\"5\",\"0\",\"PrimaryOnly\",,,\"False\",\"T\",\"EveryTick\")","v":105.22499999999999},1.0321651464234168E-2,{"$f":"RTD(\"cqg.rtd\",,\"StudyData\", \"Close(\"&$D$12&\") when LocalYear(\"&$D$12&\")=\"&$D$8&\" and localMonth(\"&$D$12&\") =\"&$E$8&\" and LocalDay(\"&$D$12&\")=\"&$F$8&\" and Barix(\"&$D$12&\",reference:=StartOfSession)=\"&A31&\"\", \"Bar\", \"\", \"Close\",\"5\",\"0\",\"PrimaryOnly\",,,\"False\",\"T\",\"EveryTick\")","v":105.1},5.0203203442504563E-3,{"$f":"RTD(\"cqg.rtd\",,\"StudyData\", \"Close(\"&$D$12&\") when LocalYear(\"&$D$12&\")=\"&$D$9&\" and localMonth(\"&$D$12&\") =\"&$E$9&\" and LocalDay(\"&$D$12&\")=\"&$F$9&\" and Barix(\"&$D$12&\",reference:=StartOfSession)=\"&A31&\"\", \"Bar\", \"\", \"Close\",\"5\",\"0\",\"PrimaryOnly\",,,\"False\",\"T\",\"EveryTick\")","v":104.925},8.4094185487746283E-3,{"$f":"RTD(\"cqg.rtd\",,\"StudyData\", \"Close(\"&$D$12&\") when LocalYear(\"&$D$12&\")=\"&$D$10&\" and localMonth(\"&$D$12&\") =\"&$E$10&\" and LocalDay(\"&$D$12&\")=\"&$F$10&\" and Barix(\"&$D$12&\",reference:=StartOfSession)=\"&A31&\"\", \"Bar\", \"\", \"Close\",\"5\",\"0\",\"PrimaryOnly\",,,\"False\",\"T\",\"EveryTick\")","v":103.85},1.3665202537823246E-2,null,null,null,""]
[31,"11:05:00","2018-06-08",2018,6,8,{"$f":"IF(RTD(\"cqg.rtd\",,\"StudyData\", \"Close(EP) when LocalYear(\"&$D$12&\")=\"&D32&\" and localMonth(\"&$D$12&\") =\"&E32&\" and LocalDay(\"&$D$12&\")=\"&F32&\" and Barix(\"&$D$12&\",reference:=StartOfSession)=54\", \"Bar\", \"\", \"Close\",\"5\",\"0\",\"PrimaryOnly\",,,\"False\",\"T\",\"EveryTick\")=\"\",2,1)","v":1},{"$f":"RTD(\"cqg.rtd\",,\"StudyData\", \"Close(\"&$D$12&\") when LocalYear(\"&$D$12&\")=\"&$D$1&\" and localMonth(\"&$D$12&\") =\"&$E$1&\" and LocalDay(\"&$D$12&\")=\"&$F$1&\" and Barix(\"&$D$12&\",reference:=StartOfSession)=\"&A32&\"\", \"Bar\", \"\", \"Close\",\"5\",\"0\",\"PrimaryOnly\",,,\"False\",\"T\",\"EveryTick\")","v":""},{"$error":"#N/A"},{"$f":"RTD(\"cqg.rtd\",,\"StudyData\", \"Close(\"&$D$12&\") when LocalYear(\"&$D$12&\")=\"&$D$2&\" and localMonth(\"&$D$12&\") =\"&$E$2&\" and LocalDay(\"&$D$12&\")=\"&$F$2&\" and Barix(\"&$D$12&\",reference:=StartOfSession)=\"&A32&\"\", \"Bar\", \"\", \"Close\",\"5\",\"0\",\"PrimaryOnly\",,,\"False\",\"T\",\"EveryTick\")","v":104.7},2.7730061349693278E-2,{"$f":"RTD(\"cqg.rtd\",,\"StudyData\", \"Close(\"&$D$12&\") when LocalYear(\"&$D$12&\")=\"&$D$3&\" and localMonth(\"&$D$12&\") =\"&$E$3&\" and LocalDay(\"&$D$12&\")=\"&$F$3&\" and Barix(\"&$D$12&\",reference:=StartOfSession)=\"&A32&\"\", \"Bar\", \"\", \"Close\",\"5\",\"0\",\"PrimaryOnly\",,,\"False\",\"T\",\"EveryTick\")","v":102.2},-1.636188642925893E-2,{"$f":"RTD(\"cqg.rtd\",,\"StudyData\", \"Close(\"&$D$12&\") when LocalYear(\"&$D$12&\")=\"&$D$4&\" and localMonth(\"&$D$12&\") =\"&$E$4&\" and LocalDay(\"&$D$12&\")=\"&$F$4&\" and Barix(\"&$D$12&\",reference:=StartOfSession)=\"&A32&\"\", \"Bar\", \"\", \"Close\",\"5\",\"0\",\"PrimaryOnly\",,,\"False\",\"T\",\"EveryTick\")","v":104.075},-2.1572387344198879E-3,{"$f":"RTD(\"cqg.rtd\",,\"StudyData\", \"Close(\"&$D$12&\") when LocalYear(\"&$D$12&\")=\"&$D$5&\" and localMonth(\"&$D$12&\") =\"&$E$5&\" and LocalDay(\"&$D$12&\")=\"&$F$5&\" and Barix(\"&$D$12&\",reference:=StartOfSession)=\"&A32&\"\", \"Bar\", \"\", \"Close\",\"5\",\"0\",\"PrimaryOnly\",,,\"False\",\"T\",\"EveryTick\")","v":104.05},-1.1999040076793857E-3,{"$f":"RTD(\"cqg.rtd\",,\"StudyData\", \"Close(\"&$D$12&\") when LocalYear(\"&$D$12&\")=\"&$D$6&\" and localMonth(\"&$D$12&\") =\"&$E$6&\" and LocalDay(\"&$D$12&\")=\"&$F$6&\" and Barix(\"&$D$12&\",reference:=StartOfSession)=\"&A32&\"\", \"Bar\", \"\", \"Close\",\"5\",\"0\",\"PrimaryOnly\",,,\"False\",\"T\",\"EveryTick\")","v":106.575},7.5632238241550185E-3,{"$f":"RTD(\"cqg.rtd\",,\"StudyData\", \"Close(\"&$D$12&\") when LocalYear(\"&$D$12&\")=\"&$D$7&\" and localMonth(\"&$D$12&\") =\"&$E$7&\" and LocalDay(\"&$D$12&\")=\"&$F$7&\" and Barix(\"&$D$12&\",reference:=StartOfSession)=\"&A32&\"\", \"Bar\", \"\", \"Close\",\"5\",\"0\",\"PrimaryOnly\",,,\"False\",\"T\",\"EveryTick\")","v":105.22499999999999},1.0321651464234168E-2,{"$f":"RTD(\"cqg.rtd\",,\"StudyData\", \"Close(\"&$D$12&\") when LocalYear(\"&$D$12&\")=\"&$D$8&\" and localMonth(\"&$D$12&\") =\"&$E$8&\" and LocalDay(\"&$D$12&\")=\"&$F$8&\" and Barix(\"&$D$12&\",reference:=StartOfSession)=\"&A32&\"\", \"Bar\", \"\", \"Close\",\"5\",\"0\",\"PrimaryOnly\",,,\"False\",\"T\",\"EveryTick\")","v":105.075},4.7812574707147976E-3,{"$f":"RTD(\"cqg.rtd\",,\"StudyData\", \"Close(\"&$D$12&\") when LocalYear(\"&$D$12&\")=\"&$D$9&\" and localMonth(\"&$D$12&\") =\"&$E$9&\" and LocalDay(\"&$D$12&\")=\"&$F$9&\" and Barix(\"&$D$12&\",reference:=StartOfSession)=\"&A32&\"\", \"Bar\", \"\", \"Close\",\"5\",\"0\",\"PrimaryOnly\",,,\"False\",\"T\",\"EveryTick\")","v":104.9},8.1691494473811483E-3,{"$f":"RTD(\"cqg.rtd\",,\"StudyData\", \"Close(\"&$D$12&\") when LocalYear(\"&$D$12&\")=\"&$D$10&\" and localMonth(\"&$D$12&\") =\"&$E$10&\" and LocalDay(\"&$D$12&\")=\"&$F$10&\" and Barix(\"&$D$12&\",reference:=StartOfSession)=\"&A32&\"\", \"Bar\", \"\", \"Close\",\"5\",\"0\",\"PrimaryOnly\",,,\"False\",\"T\",\"EveryTick\")","v":104.125},1.6349438750610026E-2,null,null,null,""]
[32,"11:10:00","2018-06-07",2018,6,7,{"$f":"IF(RTD(\"cqg.rtd\",,\"StudyData\", \"Close(EP) when LocalYear(\"&$D$12&\")=\"&D33&\" and localMonth(\"&$D$12&\") =\"&E33&\" and LocalDay(\"&$D$12&\")=\"&F33&\" and Barix(\"&$D$12&\",reference:=StartOfSession)=54\", \"Bar\", \"\", \"Close\",\"5\",\"0\",\"PrimaryOnly\",,,\"False\",\"T\",\"EveryTick\")=\"\",2,1)","v":1},{"$f":"RTD(\"cqg.rtd\",,\"StudyData\", \"Close(\"&$D$12&\") when LocalYear(\"&$D$12&\")=\"&$D$1&\" and localMonth(\"&$D$12&\") =\"&$E$1&\" and LocalDay(\"&$D$12&\")=\"&$F$1&\" and Barix(\"&$D$12&\",reference:=StartOfSession)=\"&A33&\"\", \"Bar\", \"\", \"Close\",\"5\",\"0\",\"PrimaryOnly\",,,\"False\",\"T\",\"EveryTick\")","v":""},{"$error":"#N/A"},{"$f":"RTD(\"cqg.rtd\",,\"StudyData\", \"Close(\"&$D$12&\") when LocalYear(\"&$D$12&\")=\"&$D$2&\" and localMonth(\"&$D$12&\") =\"&$E$2&\" and LocalDay(\"&$D$12&\")=\"&$F$2&\" and Barix(\"&$D$12&\",reference:=StartOfSession)=\"&A33&\"\", \"Bar\", \"\", \"Close\",\"5\",\"0\",\"PrimaryOnly\",,,\"False\",\"T\",\"EveryTick\")","v":104.75},2.8220858895705522E-2,{"$f":"RTD(\"cqg.rtd\",,\"StudyData\", \"Close(\"&$D$12&\") when LocalYear(\"&$D$12&\")=\"&$D$3&\" and localMonth(\"&$D$12&\") =\"&$E$3&\" and LocalDay(\"&$D$12&\")=\"&$F$3&\" and Barix(\"&$D$12&\",reference:=StartOfSession)=\"&A33&\"\", \"Bar\", \"\", \"Close\",\"5\",\"0\",\"PrimaryOnly\",,,\"False\",\"T\",\"EveryTick\")","v":102.05},-1.7805582290664181E-2,{"$f":"RTD(\"cqg.rtd\",,\"StudyData\", \"Close(\"&$D$12&\") when LocalYear(\"&$D$12&\")=\"&$D$4&\" and localMonth(\"&$D$12&\") =\"&$E$4&\" and LocalDay(\"&$D$12&\")=\"&$F$4&\" and Barix(\"&$D$12&\",reference:=StartOfSession)=\"&A33&\"\", \"Bar\", \"\", \"Close\",\"5\",\"0\",\"PrimaryOnly\",,,\"False\",\"T\",\"EveryTick\")","v":104},-2.876318312559896E-3,{"$f":"RTD(\"cqg.rtd\",,\"StudyData\", \"Close(\"&$D$12&\") when LocalYear(\"&$D$12&\")=\"&$D$5&\" and localMonth(\"&$D$12&\") =\"&$E$5&\" and LocalDay(\"&$D$12&\")=\"&$F$5&\" and Barix(\"&$D$12&\",reference:=StartOfSession)=\"&A33&\"\", \"Bar\", \"\", \"Close\",\"5\",\"0\",\"PrimaryOnly\",,,\"False\",\"T\",\"EveryTick\")","v":104.27500000000001},9.5992320614359038E-4,{"$f":"RTD(\"cqg.rtd\",,\"StudyData\", \"Close(\"&$D$12&\") when LocalYear(\"&$D$12&\")=\"&$D$6&\" and localMonth(\"&$D$12&\") =\"&$E$6&\" and LocalDay(\"&$D$12&\")=\"&$F$6&\" and Barix(\"&$D$12&\",reference:=StartOfSession)=\"&A33&\"\", \"Bar\", \"\", \"Close\",\"5\",\"0\",\"PrimaryOnly\",,,\"False\",\"T\",\"EveryTick\")","v":106.55},7.3268730796501201E-3,{"$f":"RTD(\"cqg.rtd\",,\"StudyData\", \"Close(\"&$D$12&\") when LocalYear(\"&$D$12&\")=\"&$D$7&\" and localMonth(\"&$D$12&\") =\"&$E$7&\" and LocalDay(\"&$D$12&\")=\"&$F$7&\" and Barix(\"&$D$12&\",reference:=StartOfSession)=\"&A33&\"\", \"Bar\", \"\", \"Close\",\"5\",\"0\",\"PrimaryOnly\",,,\"False\",\"T\",\"EveryTick\")","v":105.27500000000001},1.0801728276524243E-2,{"$f":"RTD(\"cqg.rtd\",,\"StudyData\", \"Close(\"&$D$12&\") when LocalYear(\"&$D$12&\")=\"&$D$8&\" and localMonth(\"&$D$12&\") =\"&$E$8&\" and LocalDay(\"&$D$12&\")=\"&$F$8&\" and Barix(\"&$D$12&\",reference:=StartOfSession)=\"&A33&\"\", \"Bar\", \"\", \"Close\",\"5\",\"0\",\"PrimaryOnly\",,,\"False\",\"T\",\"EveryTick\")","v":105.175},5.737508964857703E-3,{"$f":"RTD(\"cqg.rtd\",,\"StudyData\", \"Close(\"&$D$12&\") when LocalYear(\"&$D$12&\")=\"&$D$9&\" and localMonth(\"&$D$12&\") =\"&$E$9&\" and LocalDay(\"&$D$12&\")=\"&$F$9&\" and Barix(\"&$D$12&\",reference:=StartOfSession)=\"&A33&\"\", \"Bar\", \"\", \"Close\",\"5\",\"0\",\"PrimaryOnly\",,,\"False\",\"T\",\"EveryTick\")","v":104.95},8.6496876501682435E-3,{"$f":"RTD(\"cqg.rtd\",,\"StudyData\", \"Close(\"&$D$12&\") when LocalYear(\"&$D$12&\")=\"&$D$10&\" and localMonth(\"&$D$12&\") =\"&$E$10&\" and LocalDay(\"&$D$12&\")=\"&$F$10&\" and Barix(\"&$D$12&\",reference:=StartOfSession)=\"&A33&\"\", \"Bar\", \"\", \"Close\",\"5\",\"0\",\"PrimaryOnly\",,,\"False\",\"T\",\"EveryTick\")","v":104.375},1.8789653489507049E-2,null,null,null,""]
[33,"11:15:00","2018-06-06",2018,6,6,{"$f":"IF(RTD(\"cqg.rtd\",,\"StudyData\", \"Close(EP) when LocalYear(\"&$D$12&\")=\"&D34&\" and localMonth(\"&$D$12&\") =\"&E34&\" and LocalDay(\"&$D$12&\")=\"&F34&\" and Barix(\"&$D$12&\",reference:=StartOfSession)=54\", \"Bar\", \"\", \"Close\",\"5\",\"0\",\"PrimaryOnly\",,,\"False\",\"T\",\"EveryTick\")=\"\",2,1)","v":1},{"$f":"RTD(\"cqg.rtd\",,\"StudyData\", \"Close(\"&$D$12&\") when LocalYear(\"&$D$12&\")=\"&$D$1&\" and localMonth(\"&$D$12&\") =\"&$E$1&\" and LocalDay(\"&$D$12&\")=\"&$F$1&\" and Barix(\"&$D$12&\",reference:=StartOfSession)=\"&A34&\"\", \"Bar\", \"\", \"Close\",\"5\",\"0\",\"PrimaryOnly\",,,\"False\",\"T\",\"EveryTick\")","v":""},{"$error":"#N/A"},{"$f":"RTD(\"cqg.rtd\",,\"StudyData\", \"Close(\"&$D$12&\") when LocalYear(\"&$D$12&\")=\"&$D$2&\" and localMonth(\"&$D$12&\") =\"&$E$2&\" and LocalDay(\"&$D$12&\")=\"&$F$2&\" and Barix(\"&$D$12&\",reference:=StartOfSession)=\"&A34&\"\", \"Bar\", \"\", \"Close\",\"5\",\"0\",\"PrimaryOnly\",,,\"False\",\"T\",\"EveryTick\")","v":104.77500000000001},2.8466257668711713E-2,{"$f":"RTD(\"cqg.rtd\",,\"StudyData\", \"Close(\"&$D$12&\") when LocalYear(\"&$D$12&\")=\"&$D$3&\" and localMonth(\"&$D$12&\") =\"&$E$3&\" and LocalDay(\"&$D$12&\")=\"&$F$3&\" and Barix(\"&$D$12&\",reference:=StartOfSession)=\"&A34&\"\", \"Bar\", \"\", \"Close\",\"5\",\"0\",\"PrimaryOnly\",,,\"False\",\"T\",\"EveryTick\")","v":102.02500000000001},-1.8046198267564966E-2,{"$f":"RTD(\"cqg.rtd\",,\"StudyData\", \"Close(\"&$D$12&\") when LocalYear(\"&$D$12&\")=\"&$D$4&\" and localMonth(\"&$D$12&\") =\"&$E$4&\" and LocalDay(\"&$D$12&\")=\"&$F$4&\" and Barix(\"&$D$12&\",reference:=StartOfSession)=\"&A34&\"\", \"Bar\", \"\", \"Close\",\"5\",\"0\",\"PrimaryOnly\",,,\"False\",\"T\",\"EveryTick\")","v":103.95},-3.3557046979865229E-3,{"$f":"RTD(\"cqg.rtd\",,\"StudyData\", \"Close(\"&$D$12&\") when LocalYear(\"&$D$12&\")=\"&$D$5&\" and localMonth(\"&$D$12&\") =\"&$E$5&\" and LocalDay(\"&$D$12&\")=\"&$F$5&\" and Barix(\"&$D$12&\",reference:=StartOfSession)=\"&A34&\"\", \"Bar\", \"\", \"Close\",\"5\",\"0\",\"PrimaryOnly\",,,\"False\",\"T\",\"EveryTick\")","v":104.27500000000001},9.5992320614359038E-4,{"$f":"RTD(\"cqg.rtd\",,\"StudyData\", \"Close(\"&$D$12&\") when LocalYear(\"&$D$12&\")=\"&$D$6&\" and localMonth(\"&$D$12&\") =\"&$E$6&\" and LocalDay(\"&$D$12&\")=\"&$F$6&\" and Barix(\"&$D$12&\",reference:=StartOfSession)=\"&A34&\"\", \"Bar\", \"\", \"Close\",\"5\",\"0\",\"PrimaryOnly\",,,\"False\",\"T\",\"EveryTick\")","v":106.65},8.2722760576695812E-3,{"$f":"RTD(\"cqg.rtd\",,\"StudyData\", \"Close(\"&$D$12&\") when LocalYear(\"&$D$12&\")=\"&$D$7&\" and localMonth(\"&$D$12&\") =\"&$E$7&\" and LocalDay(\"&$D$12&\")=\"&$F$7&\" and Barix(\"&$D$12&\",reference:=StartOfSession)=\"&A34&\"\", \"Bar\", \"\", \"Close\",\"5\",\"0\",\"PrimaryOnly\",,,\"False\",\"T\",\"EveryTick\")","v":105.65},1.4402304368698991E-2,{"$f":"RTD(\"cqg.rtd\",,\"StudyData\", \"Close(\"&$D$12&\") when LocalYear(\"&$D$12&\")=\"&$D$8&\" and localMonth(\"&$D$12&\") =\"&$E$8&\" and LocalDay(\"&$D$12&\")=\"&$F$8&\" and Barix(\"&$D$12&\",reference:=StartOfSession)=\"&A34&\"\", \"Bar\", \"\", \"Close\",\"5\",\"0\",\"PrimaryOnly\",,,\"False\",\"T\",\"EveryTick\")","v":105.15},5.4984460913220451E-3,{"$f":"RTD(\"cqg.rtd\",,\"StudyData\", \"Close(\"&$D$12&\") when LocalYear(\"&$D$12&\")=\"&$D$9&\" and localMonth(\"&$D$12&\") =\"&$E$9&\" and LocalDay(\"&$D$12&\")=\"&$F$9&\" and Barix(\"&$D$12&\",reference:=StartOfSession)=\"&A34&\"\", \"Bar\", \"\", \"Close\",\"5\",\"0\",\"PrimaryOnly\",,,\"False\",\"T\",\"EveryTick\")","v":104.97499999999999},8.8899567515617218E-3,{"$f":"RTD(\"cqg.rtd\",,\"StudyData\", \"Close(\"&$D$12&\") when LocalYear(\"&$D$12&\")=\"&$D$10&\" and localMonth(\"&$D$12&\") =\"&$E$10&\" and LocalDay(\"&$D$12&\")=\"&$F$10&\" and Barix(\"&$D$12&\",reference:=StartOfSession)=\"&A34&\"\", \"Bar\", \"\", \"Close\",\"5\",\"0\",\"PrimaryOnly\",,,\"False\",\"T\",\"EveryTick\")","v":104.375},1.8789653489507049E-2,null,null,null,""]
[34,"11:20:00","2018-06-05",2018,6,5,{"$f":"IF(RTD(\"cqg.rtd\",,\"StudyData\", \"Close(EP) when LocalYear(\"&$D$12&\")=\"&D35&\" and localMonth(\"&$D$12&\") =\"&E35&\" and LocalDay(\"&$D$12&\")=\"&F35&\" and Barix(\"&$D$12&\",reference:=StartOfSession)=54\", \"Bar\", \"\", \"Close\",\"5\",\"0\",\"PrimaryOnly\",,,\"False\",\"T\",\"EveryTick\")=\"\",2,1)","v":1},{"$f":"RTD(\"cqg.rtd\",,\"StudyData\", \"Close(\"&$D$12&\") when LocalYear(\"&$D$12&\")=\"&$D$1&\" and localMonth(\"&$D$12&\") =\"&$E$1&\" and LocalDay(\"&$D$12&\")=\"&$F$1&\" and Barix(\"&$D$12&\",reference:=StartOfSession)=\"&A35&\"\", \"Bar\", \"\", \"Close\",\"5\",\"0\",\"PrimaryOnly\",,,\"False\",\"T\",\"EveryTick\")","v":""},{"$error":"#N/A"},{"$f":"RTD(\"cqg.rtd\",,\"StudyData\", \"Close(\"&$D$12&\") when LocalYear(\"&$D$12&\")=\"&$D$2&\" and localMonth(\"&$D$12&\") =\"&$E$2&\" and LocalDay(\"&$D$12&\")=\"&$F$2&\" and Barix(\"&$D$12&\",reference:=StartOfSession)=\"&A35&\"\", \"Bar\", \"\", \"Close\",\"5\",\"0\",\"PrimaryOnly\",,,\"False\",\"T\",\"EveryTick\")","v":104.8},2.8711656441717765E-2,{"$f":"RTD(\"cqg.rtd\",,\"StudyData\", \"Close(\"&$D$12&\") when LocalYear(\"&$D$12&\")=\"&$D$3&\" and localMonth(\"&$D$12&\") =\"&$E$3&\" and LocalDay(\"&$D$12&\")=\"&$F$3&\" and Barix(\"&$D$12&\",reference:=StartOfSession)=\"&A35&\"\", \"Bar\", \"\", \"Close\",\"5\",\"0\",\"PrimaryOnly\",,,\"False\",\"T\",\"EveryTick\")","v":102.15},-1.6843118383060636E-2,{"$f":"RTD(\"cqg.rtd\",,\"StudyData\", \"Close(\"&$D$12&\") when LocalYear(\"&$D$12&\")=\"&$D$4&\" and localMonth(\"&$D$12&\") =\"&$E$4&\" and LocalDay(\"&$D$12&\")=\"&$F$4&\" and Barix(\"&$D$12&\",reference:=StartOfSession)=\"&A35&\"\", \"Bar\", \"\", \"Close\",\"5\",\"0\",\"PrimaryOnly\",,,\"False\",\"T\",\"EveryTick\")","v":103.75},-5.2732502396931656E-3,{"$f":"RTD(\"cqg.rtd\",,\"StudyData\", \"Close(\"&$D$12&\") when LocalYear(\"&$D$12&\")=\"&$D$5&\" and localMonth(\"&$D$12&\") =\"&$E$5&\" and LocalDay(\"&$D$12&\")=\"&$F$5&\" and Barix(\"&$D$12&\",reference:=StartOfSession)=\"&A35&\"\", \"Bar\", \"\", \"Close\",\"5\",\"0\",\"PrimaryOnly\",,,\"False\",\"T\",\"EveryTick\")","v":104.1},-7.1994240460765868E-4,{"$f":"RTD(\"cqg.rtd\",,\"StudyData\", \"Close(\"&$D$12&\") when LocalYear(\"&$D$12&\")=\"&$D$6&\" and localMonth(\"&$D$12&\") =\"&$E$6&\" and LocalDay(\"&$D$12&\")=\"&$F$6&\" and Barix(\"&$D$12&\",reference:=StartOfSession)=\"&A35&\"\", \"Bar\", \"\", \"Close\",\"5\",\"0\",\"PrimaryOnly\",,,\"False\",\"T\",\"EveryTick\")","v":106.65},8.2722760576695812E-3,{"$f":"RTD(\"cqg.rtd\",,\"StudyData\", \"Close(\"&$D$12&\") when LocalYear(\"&$D$12&\")=\"&$D$7&\" and localMonth(\"&$D$12&\") =\"&$E$7&\" and LocalDay(\"&$D$12&\")=\"&$F$7&\" and Barix(\"&$D$12&\",reference:=StartOfSession)=\"&A35&\"\", \"Bar\", \"\", \"Close\",\"5\",\"0\",\"PrimaryOnly\",,,\"False\",\"T\",\"EveryTick\")","v":105.675},1.4642342774843893E-2,{"$f":"RTD(\"cqg.rtd\",,\"StudyData\", \"Close(\"&$D$12&\") when LocalYear(\"&$D$12&\")=\"&$D$8&\" and localMonth(\"&$D$12&\") =\"&$E$8&\" and LocalDay(\"&$D$12&\")=\"&$F$8&\" and Barix(\"&$D$12&\",reference:=StartOfSession)=\"&A35&\"\", \"Bar\", \"\", \"Close\",\"5\",\"0\",\"PrimaryOnly\",,,\"False\",\"T\",\"EveryTick\")","v":105.15},5.4984460913220451E-3,{"$f":"RTD(\"cqg.rtd\",,\"StudyData\", \"Close(\"&$D$12&\") when LocalYear(\"&$D$12&\")=\"&$D$9&\" and localMonth(\"&$D$12&\") =\"&$E$9&\" and LocalDay(\"&$D$12&\")=\"&$F$9&\" and Barix(\"&$D$12&\",reference:=StartOfSession)=\"&A35&\"\", \"Bar\", \"\", \"Close\",\"5\",\"0\",\"PrimaryOnly\",,,\"False\",\"T\",\"EveryTick\")","v":104.97499999999999},8.8899567515617218E-3,{"$f":"RTD(\"cqg.rtd\",,\"StudyData\", \"Close(\"&$D$12&\") when LocalYear(\"&$D$12&\")=\"&$D$10&\" and localMonth(\"&$D$12&\") =\"&$E$10&\" and LocalDay(\"&$D$12&\")=\"&$F$10&\" and Barix(\"&$D$12&\",reference:=StartOfSession)=\"&A35&\"\", \"Bar\", \"\", \"Close\",\"5\",\"0\",\"PrimaryOnly\",,,\"False\",\"T\",\"EveryTick\")","v":104.3},1.8057589067837915E-2,null,null,null,""]
[35,"11:25:00","2018-06-04",2018,6,4,{"$f":"IF(RTD(\"cqg.rtd\",,\"StudyData\", \"Close(EP) when LocalYear(\"&$D$12&\")=\"&D36&\" and localMonth(\"&$D$12&\") =\"&E36&\" and LocalDay(\"&$D$12&\")=\"&F36&\" and Barix(\"&$D$12&\",reference:=StartOfSession)=54\", \"Bar\", \"\", \"Close\",\"5\",\"0\",\"PrimaryOnly\",,,\"False\",\"T\",\"EveryTick\")=\"\",2,1)","v":1},{"$f":"RTD(\"cqg.rtd\",,\"StudyData\", \"Close(\"&$D$12&\") when LocalYear(\"&$D$12&\")=\"&$D$1&\" and localMonth(\"&$D$12&\") =\"&$E$1&\" and LocalDay(\"&$D$12&\")=\"&$F$1&\" and Barix(\"&$D$12&\",reference:=StartOfSession)=\"&A36&\"\", \"Bar\", \"\", \"Close\",\"5\",\"0\",\"PrimaryOnly\",,,\"False\",\"T\",\"EveryTick\")","v":""},{"$error":"#N/A"},{"$f":"RTD(\"cqg.rtd\",,\"StudyData\", \"Close(\"&$D$12&\") when LocalYear(\"&$D$12&\")=\"&$D$2&\" and localMonth(\"&$D$12&\") =\"&$E$2&\" and LocalDay(\"&$D$12&\")=\"&$F$2&\" and Barix(\"&$D$12&\",reference:=StartOfSession)=\"&A36&\"\", \"Bar\", \"\", \"Close\",\"5\",\"0\",\"PrimaryOnly\",,,\"False\",\"T\",\"EveryTick\")","v":104.825},2.8957055214723953E-2,{"$f":"RTD(\"cqg.rtd\",,\"StudyData\", \"Close(\"&$D$12&\") when LocalYear(\"&$D$12&\")=\"&$D$3&\" and localMonth(\"&$D$12&\") =\"&$E$3&\" and LocalDay(\"&$D$12&\")=\"&$F$3&\" and Barix(\"&$D$12&\",reference:=StartOfSession)=\"&A36&\"\", \"Bar\", \"\", \"Close\",\"5\",\"0\",\"PrimaryOnly\",,,\"False\",\"T\",\"EveryTick\")","v":102.175},-1.660250240615985E-2,{"$f":"RTD(\"cqg.rtd\",,\"StudyData\", \"Close(\"&$D$12&\") when LocalYear(\"&$D$12&\")=\"&$D$4&\" and localMonth(\"&$D$12&\") =\"&$E$4&\" and LocalDay(\"&$D$12&\")=\"&$F$4&\" and Barix(\"&$D$12&\",reference:=StartOfSession)=\"&A36&\"\", \"Bar\", \"\", \"Close\",\"5\",\"0\",\"PrimaryOnly\",,,\"False\",\"T\",\"EveryTick\")","v":104},-2.876318312559896E-3,{"$f":"RTD(\"cqg.rtd\",,\"StudyData\", \"Close(\"&$D$12&\") when LocalYear(\"&$D$12&\")=\"&$D$5&\" and localMonth(\"&$D$12&\") =\"&$E$5&\" and LocalDay(\"&$D$12&\")=\"&$F$5&\" and Barix(\"&$D$12&\",reference:=StartOfSession)=\"&A36&\"\", \"Bar\", \"\", \"Close\",\"5\",\"0\",\"PrimaryOnly\",,,\"False\",\"T\",\"EveryTick\")","v":104.1},-7.1994240460765868E-4,{"$f":"RTD(\"cqg.rtd\",,\"StudyData\", \"Close(\"&$D$12&\") when LocalYear(\"&$D$12&\")=\"&$D$6&\" and localMonth(\"&$D$12&\") =\"&$E$6&\" and LocalDay(\"&$D$12&\")=\"&$F$6&\" and Barix(\"&$D$12&\",reference:=StartOfSession)=\"&A36&\"\", \"Bar\", \"\", \"Close\",\"5\",\"0\",\"PrimaryOnly\",,,\"False\",\"T\",\"EveryTick\")","v":106.625},8.0359253131646827E-3,{"$f":"RTD(\"cqg.rtd\",,\"StudyData\", \"Close(\"&$D$12&\") when LocalYear(\"&$D$12&\")=\"&$D$7&\" and localMonth(\"&$D$12&\") =\"&$E$7&\" and LocalDay(\"&$D$12&\")=\"&$F$7&\" and Barix(\"&$D$12&\",reference:=StartOfSession)=\"&A36&\"\", \"Bar\", \"\", \"Close\",\"5\",\"0\",\"PrimaryOnly\",,,\"False\",\"T\",\"EveryTick\")","v":105.7},1.4882381180988931E-2,{"$f":"RTD(\"cqg.rtd\",,\"StudyData\", \"Close(\"&$D$12&\") when LocalYear(\"&$D$12&\")=\"&$D$8&\" and localMonth(\"&$D$12&\") =\"&$E$8&\" and LocalDay(\"&$D$12&\")=\"&$F$8&\" and Barix(\"&$D$12&\",reference:=StartOfSession)=\"&A36&\"\", \"Bar\", \"\", \"Close\",\"5\",\"0\",\"PrimaryOnly\",,,\"False\",\"T\",\"EveryTick\")","v":105.25},6.4546975854649496E-3,{"$f":"RTD(\"cqg.rtd\",,\"StudyData\", \"Close(\"&$D$12&\") when LocalYear(\"&$D$12&\")=\"&$D$9&\" and localMonth(\"&$D$12&\") =\"&$E$9&\" and LocalDay(\"&$D$12&\")=\"&$F$9&\" and Barix(\"&$D$12&\",reference:=StartOfSession)=\"&A36&\"\", \"Bar\", \"\", \"Close\",\"5\",\"0\",\"PrimaryOnly\",,,\"False\",\"T\",\"EveryTick\")","v":104.95},8.6496876501682435E-3,{"$f":"RTD(\"cqg.rtd\",,\"StudyData\", \"Close(\"&$D$12&\") when LocalYear(\"&$D$12&\")=\"&$D$10&\" and localMonth(\"&$D$12&\") =\"&$E$10&\" and LocalDay(\"&$D$12&\")=\"&$F$10&\" and Barix(\"&$D$12&\",reference:=StartOfSession)=\"&A36&\"\", \"Bar\", \"\", \"Close\",\"5\",\"0\",\"PrimaryOnly\",,,\"False\",\"T\",\"EveryTick\")","v":104.3},1.8057589067837915E-2,null,null,null,""]
[36,"11:30:00",null,null,null,null,null,{"$f":"RTD(\"cqg.rtd\",,\"StudyData\", \"Close(\"&$D$12&\") when LocalYear(\"&$D$12&\")=\"&$D$1&\" and localMonth(\"&$D$12&\") =\"&$E$1&\" and LocalDay(\"&$D$12&\")=\"&$F$1&\" and Barix(\"&$D$12&\",reference:=StartOfSession)=\"&A37&\"\", \"Bar\", \"\", \"Close\",\"5\",\"0\",\"PrimaryOnly\",,,\"False\",\"T\",\"EveryTick\")","v":""},{"$error":"#N/A"},{"$f":"RTD(\"cqg.rtd\",,\"StudyData\", \"Close(\"&$D$12&\") when LocalYear(\"&$D$12&\")=\"&$D$2&\" and localMonth(\"&$D$12&\") =\"&$E$2&\" and LocalDay(\"&$D$12&\")=\"&$F$2&\" and Barix(\"&$D$12&\",reference:=StartOfSession)=\"&A37&\"\", \"Bar\", \"\", \"Close\",\"5\",\"0\",\"PrimaryOnly\",,,\"False\",\"T\",\"EveryTick\")","v":104.72499999999999},2.797546012269933E-2,{"$f":"RTD(\"cqg.rtd\",,\"StudyData\", \"Close(\"&$D$12&\") when LocalYear(\"&$D$12&\")=\"&$D$3&\" and localMonth(\"&$D$12&\") =\"&$E$3&\" and LocalDay(\"&$D$12&\")=\"&$F$3&\" and Barix(\"&$D$12&\",reference:=StartOfSession)=\"&A37&\"\", \"Bar\", \"\", \"Close\",\"5\",\"0\",\"PrimaryOnly\",,,\"False\",\"T\",\"EveryTick\")","v":102.22499999999999},-1.6121270452358144E-2,{"$f":"RTD(\"cqg.rtd\",,\"StudyData\", \"Close(\"&$D$12&\") when LocalYear(\"&$D$12&\")=\"&$D$4&\" and localMonth(\"&$D$12&\") =\"&$E$4&\" and LocalDay(\"&$D$12&\")=\"&$F$4&\" and Barix(\"&$D$12&\",reference:=StartOfSession)=\"&A37&\"\", \"Bar\", \"\", \"Close\",\"5\",\"0\",\"PrimaryOnly\",,,\"False\",\"T\",\"EveryTick\")","v":104.02500000000001},-2.6366251198465147E-3,{"$f":"RTD(\"cqg.rtd\",,\"StudyData\", \"Close(\"&$D$12&\") when LocalYear(\"&$D$12&\")=\"&$D$5&\" and localMonth(\"&$D$12&\") =\"&$E$5&\" and LocalDay(\"&$D$12&\")=\"&$F$5&\" and Barix(\"&$D$12&\",reference:=StartOfSession)=\"&A37&\"\", \"Bar\", \"\", \"Close\",\"5\",\"0\",\"PrimaryOnly\",,,\"False\",\"T\",\"EveryTick\")","v":104.125},-4.7996160307172699E-4,{"$f":"RTD(\"cqg.rtd\",,\"StudyData\", \"Close(\"&$D$12&\") when LocalYear(\"&$D$12&\")=\"&$D$6&\" and localMonth(\"&$D$12&\") =\"&$E$6&\" and LocalDay(\"&$D$12&\")=\"&$F$6&\" and Barix(\"&$D$12&\",reference:=StartOfSession)=\"&A37&\"\", \"Bar\", \"\", \"Close\",\"5\",\"0\",\"PrimaryOnly\",,,\"False\",\"T\",\"EveryTick\")","v":106.375},5.6724178681162307E-3,{"$f":"RTD(\"cqg.rtd\",,\"StudyData\", \"Close(\"&$D$12&\") when LocalYear(\"&$D$12&\")=\"&$D$7&\" and localMonth(\"&$D$12&\") =\"&$E$7&\" and LocalDay(\"&$D$12&\")=\"&$F$7&\" and Barix(\"&$D$12&\",reference:=StartOfSession)=\"&A37&\"\", \"Bar\", \"\", \"Close\",\"5\",\"0\",\"PrimaryOnly\",,,\"False\",\"T\",\"EveryTick\")","v":105.625},1.4162265962553953E-2,{"$f":"RTD(\"cqg.rtd\",,\"StudyData\", \"Close(\"&$D$12&\") when LocalYear(\"&$D$12&\")=\"&$D$8&\" and localMonth(\"&$D$12&\") =\"&$E$8&\" and LocalDay(\"&$D$12&\")=\"&$F$8&\" and Barix(\"&$D$12&\",reference:=StartOfSession)=\"&A37&\"\", \"Bar\", \"\", \"Close\",\"5\",\"0\",\"PrimaryOnly\",,,\"False\",\"T\",\"EveryTick\")","v":105.2},5.976571838393497E-3,{"$f":"RTD(\"cqg.rtd\",,\"StudyData\", \"Close(\"&$D$12&\") when LocalYear(\"&$D$12&\")=\"&$D$9&\" and localMonth(\"&$D$12&\") =\"&$E$9&\" and LocalDay(\"&$D$12&\")=\"&$F$9&\" and Barix(\"&$D$12&\",reference:=StartOfSession)=\"&A37&\"\", \"Bar\", \"\", \"Close\",\"5\",\"0\",\"PrimaryOnly\",,,\"False\",\"T\",\"EveryTick\")","v":105.3},1.201345506967804E-2,{"$f":"RTD(\"cqg.rtd\",,\"StudyData\", \"Close(\"&$D$12&\") when LocalYear(\"&$D$12&\")=\"&$D$10&\" and localMonth(\"&$D$12&\") =\"&$E$10&\" and LocalDay(\"&$D$12&\")=\"&$F$10&\" and Barix(\"&$D$12&\",reference:=StartOfSession)=\"&A37&\"\", \"Bar\", \"\", \"Close\",\"5\",\"0\",\"PrimaryOnly\",,,\"False\",\"T\",\"EveryTick\")","v":104.575},2.0741825280624696E-2,null,null,null,""]
[37,"11:35:00",-40,{"$f":" RTD(\"cqg.rtd\",,\"StudyData\", $D$12,  \"Tick\", \"FlatTicks=0\", \"Tick\",\"D\",C38,\"PrimaryOnly\")","v":104.35},null,"GLE",null,{"$f":"RTD(\"cqg.rtd\",,\"StudyData\", \"Close(\"&$D$12&\") when LocalYear(\"&$D$12&\")=\"&$D$1&\" and localMonth(\"&$D$12&\") =\"&$E$1&\" and LocalDay(\"&$D$12&\")=\"&$F$1&\" and Barix(\"&$D$12&\",reference:=StartOfSession)=\"&A38&\"\", \"Bar\", \"\", \"Close\",\"5\",\"0\",\"PrimaryOnly\",,,\"False\",\"T\",\"EveryTick\")","v":""},{"$error":"#N/A"},{"$f":"RTD(\"cqg.rtd\",,\"StudyData\", \"Close(\"&$D$12&\") when LocalYear(\"&$D$12&\")=\"&$D$2&\" and localMonth(\"&$D$12&\") =\"&$E$2&\" and LocalDay(\"&$D$12&\")=\"&$F$2&\" and Barix(\"&$D$12&\",reference:=StartOfSession)=\"&A38&\"\", \"Bar\", \"\", \"Close\",\"5\",\"0\",\"PrimaryOnly\",,,\"False\",\"T\",\"EveryTick\")","v":104.6},2.6748466257668656E-2,{"$f":"RTD(\"cqg.rtd\",,\"StudyData\", \"Close(\"&$D$12&\") when LocalYear(\"&$D$12&\")=\"&$D$3&\" and localMonth(\"&$D$12&\") =\"&$E$3&\" and LocalDay(\"&$D$12&\")=\"&$F$3&\" and Barix(\"&$D$12&\",reference:=StartOfSession)=\"&A38&\"\", \"Bar\", \"\", \"Close\",\"5\",\"0\",\"PrimaryOnly\",,,\"False\",\"T\",\"EveryTick\")","v":102.02500000000001},-1.8046198267564966E-2,{"$f":"RTD(\"cqg.rtd\",,\"StudyData\", \"Close(\"&$D$12&\") when LocalYear(\"&$D$12&\")=\"&$D$4&\" and localMonth(\"&$D$12&\") =\"&$E$4&\" and LocalDay(\"&$D$12&\")=\"&$F$4&\" and Barix(\"&$D$12&\",reference:=StartOfSession)=\"&A38&\"\", \"Bar\", \"\", \"Close\",\"5\",\"0\",\"PrimaryOnly\",,,\"False\",\"T\",\"EveryTick\")","v":103.875},-4.0747842761265311E-3,{"$f":"RTD(\"cqg.rtd\",,\"StudyData\", \"Close(\"&$D$12&\") when LocalYear(\"&$D$12&\")=\"&$D$5&\" and localMonth(\"&$D$12&\") =\"&$E$5&\" and LocalDay(\"&$D$12&\")=\"&$F$5&\" and Barix(\"&$D$12&\",reference:=StartOfSession)=\"&A38&\"\", \"Bar\", \"\", \"Close\",\"5\",\"0\",\"PrimaryOnly\",,,\"False\",\"T\",\"EveryTick\")","v":104.22499999999999},4.7996160307172699E-4,{"$f":"RTD(\"cqg.rtd\",,\"StudyData\", \"Close(\"&$D$12&\") when LocalYear(\"&$D$12&\")=\"&$D$6&\" and localMonth(\"&$D$12&\") =\"&$E$6&\" and LocalDay(\"&$D$12&\")=\"&$F$6&\" and Barix(\"&$D$12&\",reference:=StartOfSession)=\"&A38&\"\", \"Bar\", \"\", \"Close\",\"5\",\"0\",\"PrimaryOnly\",,,\"False\",\"T\",\"EveryTick\")","v":106.55},7.3268730796501201E-3,{"$f":"RTD(\"cqg.rtd\",,\"StudyData\", \"Close(\"&$D$12&\") when LocalYear(\"&$D$12&\")=\"&$D$7&\" and localMonth(\"&$D$12&\") =\"&$E$7&\" and LocalDay(\"&$D$12&\")=\"&$F$7&\" and Barix(\"&$D$12&\",reference:=StartOfSession)=\"&A38&\"\", \"Bar\", \"\", \"Close\",\"5\",\"0\",\"PrimaryOnly\",,,\"False\",\"T\",\"EveryTick\")","v":105.65},1.4402304368698991E-2,{"$f":"RTD(\"cqg.rtd\",,\"StudyData\", \"Close(\"&$D$12&\") when LocalYear(\"&$D$12&\")=\"&$D$8&\" and localMonth(\"&$D$12&\") =\"&$E$8&\" and LocalDay(\"&$D$12&\")=\"&$F$8&\" and Barix(\"&$D$12&\",reference:=StartOfSession)=\"&A38&\"\", \"Bar\", \"\", \"Close\",\"5\",\"0\",\"PrimaryOnly\",,,\"False\",\"T\",\"EveryTick\")","v":105.27500000000001},6.6937604590007445E-3,{"$f":"RTD(\"cqg.rtd\",,\"StudyData\", \"Close(\"&$D$12&\") when LocalYear(\"&$D$12&\")=\"&$D$9&\" and localMonth(\"&$D$12&\") =\"&$E$9&\" and LocalDay(\"&$D$12&\")=\"&$F$9&\" and Barix(\"&$D$12&\",reference:=StartOfSession)=\"&A38&\"\", \"Bar\", \"\", \"Close\",\"5\",\"0\",\"PrimaryOnly\",,,\"False\",\"T\",\"EveryTick\")","v":105.25},1.1532916866890945E-2,{"$f":"RTD(\"cqg.rtd\",,\"StudyData\", \"Close(\"&$D$12&\") when LocalYear(\"&$D$12&\")=\"&$D$10&\" and localMonth(\"&$D$12&\") =\"&$E$10&\" and LocalDay(\"&$D$12&\")=\"&$F$10&\" and Barix(\"&$D$12&\",reference:=StartOfSession)=\"&A38&\"\", \"Bar\", \"\", \"Close\",\"5\",\"0\",\"PrimaryOnly\",,,\"False\",\"T\",\"EveryTick\")","v":104.425},1.9277696437286426E-2,null,null,null,""]
[38,"11:40:00",{"$f":"C38+1","v":-39},{"$f":" RTD(\"cqg.rtd\",,\"StudyData\", $D$12,  \"Tick\", \"FlatTicks=0\", \"Tick\",\"D\",C39,\"PrimaryOnly\")","v":104.325},null,"GF",null,{"$f":"RTD(\"cqg.rtd\",,\"StudyData\", \"Close(\"&$D$12&\") when LocalYear(\"&$D$12&\")=\"&$D$1&\" and localMonth(\"&$D$12&\") =\"&$E$1&\" and LocalDay(\"&$D$12&\")=\"&$F$1&\" and Barix(\"&$D$12&\",reference:=StartOfSession)=\"&A39&\"\", \"Bar\", \"\", \"Close\",\"5\",\"0\",\"PrimaryOnly\",,,\"False\",\"T\",\"EveryTick\")","v":""},{"$error":"#N/A"},{"$f":"RTD(\"cqg.rtd\",,\"StudyData\", \"Close(\"&$D$12&\") when LocalYear(\"&$D$12&\")=\"&$D$2&\" and localMonth(\"&$D$12&\") =\"&$E$2&\" and LocalDay(\"&$D$12&\")=\"&$F$2&\" and Barix(\"&$D$12&\",reference:=StartOfSession)=\"&A39&\"\", \"Bar\", \"\", \"Close\",\"5\",\"0\",\"PrimaryOnly\",,,\"False\",\"T\",\"EveryTick\")","v":104.625},2.6993865030674847E-2,{"$f":"RTD(\"cqg.rtd\",,\"StudyData\", \"Close(\"&$D$12&\") when LocalYear(\"&$D$12&\")=\"&$D$3&\" and localMonth(\"&$D$12&\") =\"&$E$3&\" and LocalDay(\"&$D$12&\")=\"&$F$3&\" and Barix(\"&$D$12&\",reference:=StartOfSession)=\"&A39&\"\", \"Bar\", \"\", \"Close\",\"5\",\"0\",\"PrimaryOnly\",,,\"False\",\"T\",\"EveryTick\")","v":102.02500000000001},-1.8046198267564966E-2,{"$f":"RTD(\"cqg.rtd\",,\"StudyData\", \"Close(\"&$D$12&\") when LocalYear(\"&$D$12&\")=\"&$D$4&\" and localMonth(\"&$D$12&\") =\"&$E$4&\" and LocalDay(\"&$D$12&\")=\"&$F$4&\" and Barix(\"&$D$12&\",reference:=StartOfSession)=\"&A39&\"\", \"Bar\", \"\", \"Close\",\"5\",\"0\",\"PrimaryOnly\",,,\"False\",\"T\",\"EveryTick\")","v":103.75},-5.2732502396931656E-3,{"$f":"RTD(\"cqg.rtd\",,\"StudyData\", \"Close(\"&$D$12&\") when LocalYear(\"&$D$12&\")=\"&$D$5&\" and localMonth(\"&$D$12&\") =\"&$E$5&\" and LocalDay(\"&$D$12&\")=\"&$F$5&\" and Barix(\"&$D$12&\",reference:=StartOfSession)=\"&A39&\"\", \"Bar\", \"\", \"Close\",\"5\",\"0\",\"PrimaryOnly\",,,\"False\",\"T\",\"EveryTick\")","v":104.02500000000001},-1.439884809215181E-3,{"$f":"RTD(\"cqg.rtd\",,\"StudyData\", \"Close(\"&$D$12&\") when LocalYear(\"&$D$12&\")=\"&$D$6&\" and localMonth(\"&$D$12&\") =\"&$E$6&\" and LocalDay(\"&$D$12&\")=\"&$F$6&\" and Barix(\"&$D$12&\",reference:=StartOfSession)=\"&A39&\"\", \"Bar\", \"\", \"Close\",\"5\",\"0\",\"PrimaryOnly\",,,\"False\",\"T\",\"EveryTick\")","v":106.575},7.5632238241550185E-3,{"$f":"RTD(\"cqg.rtd\",,\"StudyData\", \"Close(\"&$D$12&\") when LocalYear(\"&$D$12&\")=\"&$D$7&\" and localMonth(\"&$D$12&\") =\"&$E$7&\" and LocalDay(\"&$D$12&\")=\"&$F$7&\" and Barix(\"&$D$12&\",reference:=StartOfSession)=\"&A39&\"\", \"Bar\", \"\", \"Close\",\"5\",\"0\",\"PrimaryOnly\",,,\"False\",\"T\",\"EveryTick\")","v":105.75},1.5362457993278868E-2,{"$f":"RTD(\"cqg.rtd\",,\"StudyData\", \"Close(\"&$D$12&\") when LocalYear(\"&$D$12&\")=\"&$D$8&\" and localMonth(\"&$D$12&\") =\"&$E$8&\" and LocalDay(\"&$D$12&\")=\"&$F$8&\" and Barix(\"&$D$12&\",reference:=StartOfSession)=\"&A39&\"\", \"Bar\", \"\", \"Close\",\"5\",\"0\",\"PrimaryOnly\",,,\"False\",\"T\",\"EveryTick\")","v":105.25},6.4546975854649496E-3,{"$f":"RTD(\"cqg.rtd\",,\"StudyData\", \"Close(\"&$D$12&\") when LocalYear(\"&$D$12&\")=\"&$D$9&\" and localMonth(\"&$D$12&\") =\"&$E$9&\" and LocalDay(\"&$D$12&\")=\"&$F$9&\" and Barix(\"&$D$12&\",reference:=StartOfSession)=\"&A39&\"\", \"Bar\", \"\", \"Close\",\"5\",\"0\",\"PrimaryOnly\",,,\"False\",\"T\",\"EveryTick\")","v":105.325},1.2253724171071656E-2,{"$f":"RTD(\"cqg.rtd\",,\"StudyData\", \"Close(\"&$D$12&\") when LocalYear(\"&$D$12&\")=\"&$D$10&\" and localMonth(\"&$D$12&\") =\"&$E$10&\" and LocalDay(\"&$D$12&\")=\"&$F$10&\" and Barix(\"&$D$12&\",reference:=StartOfSession)=\"&A39&\"\", \"Bar\", \"\", \"Close\",\"5\",\"0\",\"PrimaryOnly\",,,\"False\",\"T\",\"EveryTick\")","v":104.47499999999999},1.9765739385065803E-2,null,null,null,""]
[39,"11:45:00",{"$f":"C39+1","v":-38},{"$f":" RTD(\"cqg.rtd\",,\"StudyData\", $D$12,  \"Tick\", \"FlatTicks=0\", \"Tick\",\"D\",C40,\"PrimaryOnly\")","v":104.3},null,"HE",null,{"$f":"RTD(\"cqg.rtd\",,\"StudyData\", \"Close(\"&$D$12&\") when LocalYear(\"&$D$12&\")=\"&$D$1&\" and localMonth(\"&$D$12&\") =\"&$E$1&\" and LocalDay(\"&$D$12&\")=\"&$F$1&\" and Barix(\"&$D$12&\",reference:=StartOfSession)=\"&A40&\"\", \"Bar\", \"\", \"Close\",\"5\",\"0\",\"PrimaryOnly\",,,\"False\",\"T\",\"EveryTick\")","v":""},{"$error":"#N/A"},{"$f":"RTD(\"cqg.rtd\",,\"StudyData\", \"Close(\"&$D$12&\") when LocalYear(\"&$D$12&\")=\"&$D$2&\" and localMonth(\"&$D$12&\") =\"&$E$2&\" and LocalDay(\"&$D$12&\")=\"&$F$2&\" and Barix(\"&$D$12&\",reference:=StartOfSession)=\"&A40&\"\", \"Bar\", \"\", \"Close\",\"5\",\"0\",\"PrimaryOnly\",,,\"False\",\"T\",\"EveryTick\")","v":104.72499999999999},2.797546012269933E-2,{"$f":"RTD(\"cqg.rtd\",,\"StudyData\", \"Close(\"&$D$12&\") when LocalYear(\"&$D$12&\")=\"&$D$3&\" and localMonth(\"&$D$12&\") =\"&$E$3&\" and LocalDay(\"&$D$12&\")=\"&$F$3&\" and Barix(\"&$D$12&\",reference:=StartOfSession)=\"&A40&\"\", \"Bar\", \"\", \"Close\",\"5\",\"0\",\"PrimaryOnly\",,,\"False\",\"T\",\"EveryTick\")","v":102.02500000000001},-1.8046198267564966E-2,{"$f":"RTD(\"cqg.rtd\",,\"StudyData\", \"Close(\"&$D$12&\") when LocalYear(\"&$D$12&\")=\"&$D$4&\" and localMonth(\"&$D$12&\") =\"&$E$4&\" and LocalDay(\"&$D$12&\")=\"&$F$4&\" and Barix(\"&$D$12&\",reference:=StartOfSession)=\"&A40&\"\", \"Bar\", \"\", \"Close\",\"5\",\"0\",\"PrimaryOnly\",,,\"False\",\"T\",\"EveryTick\")","v":103.95},-3.3557046979865229E-3,{"$f":"RTD(\"cqg.rtd\",,\"StudyData\", \"Close(\"&$D$12&\") when LocalYear(\"&$D$12&\")=\"&$D$5&\" and localMonth(\"&$D$12&\") =\"&$E$5&\" and LocalDay(\"&$D$12&\")=\"&$F$5&\" and Barix(\"&$D$12&\",reference:=StartOfSession)=\"&A40&\"\", \"Bar\", \"\", \"Close\",\"5\",\"0\",\"PrimaryOnly\",,,\"False\",\"T\",\"EveryTick\")","v":104.22499999999999},4.7996160307172699E-4,{"$f":"RTD(\"cqg.rtd\",,\"StudyData\", \"Close(\"&$D$12&\") when LocalYear(\"&$D$12&\")=\"&$D$6&\" and localMonth(\"&$D$12&\") =\"&$E$6&\" and LocalDay(\"&$D$12&\")=\"&$F$6&\" and Barix(\"&$D$12&\",reference:=StartOfSession)=\"&A40&\"\", \"Bar\", \"\", \"Close\",\"5\",\"0\",\"PrimaryOnly\",,,\"False\",\"T\",\"EveryTick\")","v":106.45},6.3814701016307925E-3,{"$f":"RTD(\"cqg.rtd\",,\"StudyData\", \"Close(\"&$D$12&\") when LocalYear(\"&$D$12&\")=\"&$D$7&\" and localMonth(\"&$D$12&\") =\"&$E$7&\" and LocalDay(\"&$D$12&\")=\"&$F$7&\" and Barix(\"&$D$12&\",reference:=StartOfSession)=\"&A40&\"\", \"Bar\", \"\", \"Close\",\"5\",\"0\",\"PrimaryOnly\",,,\"False\",\"T\",\"EveryTick\")","v":105.675},1.4642342774843893E-2,{"$f":"RTD(\"cqg.rtd\",,\"StudyData\", \"Close(\"&$D$12&\") when LocalYear(\"&$D$12&\")=\"&$D$8&\" and localMonth(\"&$D$12&\") =\"&$E$8&\" and LocalDay(\"&$D$12&\")=\"&$F$8&\" and Barix(\"&$D$12&\",reference:=StartOfSession)=\"&A40&\"\", \"Bar\", \"\", \"Close\",\"5\",\"0\",\"PrimaryOnly\",,,\"False\",\"T\",\"EveryTick\")","v":105.05},4.5421945971790036E-3,{"$f":"RTD(\"cqg.rtd\",,\"StudyData\", \"Close(\"&$D$12&\") when LocalYear(\"&$D$12&\")=\"&$D$9&\" and localMonth(\"&$D$12&\") =\"&$E$9&\" and LocalDay(\"&$D$12&\")=\"&$F$9&\" and Barix(\"&$D$12&\",reference:=StartOfSession)=\"&A40&\"\", \"Bar\", \"\", \"Close\",\"5\",\"0\",\"PrimaryOnly\",,,\"False\",\"T\",\"EveryTick\")","v":105.1},1.0091302258529526E-2,{"$f":"RTD(\"cqg.rtd\",,\"StudyData\", \"Close(\"&$D$12&\") when LocalYear(\"&$D$12&\")=\"&$D$10&\" and localMonth(\"&$D$12&\") =\"&$E$10&\" and LocalDay(\"&$D$12&\")=\"&$F$10&\" and Barix(\"&$D$12&\",reference:=StartOfSession)=\"&A40&\"\", \"Bar\", \"\", \"Close\",\"5\",\"0\",\"PrimaryOnly\",,,\"False\",\"T\",\"EveryTick\")","v":104.3},1.8057589067837915E-2,null,null,null,""]
[40,"11:50:00",-37,{"$f":" RTD(\"cqg.rtd\",,\"StudyData\", $D$12,  \"Tick\", \"FlatTicks=0\", \"Tick\",\"D\",C41,\"PrimaryOnly\")","v":104.27500000000001},null,null,null,{"$f":"RTD(\"cqg.rtd\",,\"StudyData\", \"Close(\"&$D$12&\") when LocalYear(\"&$D$12&\")=\"&$D$1&\" and localMonth(\"&$D$12&\") =\"&$E$1&\" and LocalDay(\"&$D$12&\")=\"&$F$1&\" and Barix(\"&$D$12&\",reference:=StartOfSession)=\"&A41&\"\", \"Bar\", \"\", \"Close\",\"5\",\"0\",\"PrimaryOnly\",,,\"False\",\"T\",\"EveryTick\")","v":""},{"$error":"#N/A"},{"$f":"RTD(\"cqg.rtd\",,\"StudyData\", \"Close(\"&$D$12&\") when LocalYear(\"&$D$12&\")=\"&$D$2&\" and localMonth(\"&$D$12&\") =\"&$E$2&\" and LocalDay(\"&$D$12&\")=\"&$F$2&\" and Barix(\"&$D$12&\",reference:=StartOfSession)=\"&A41&\"\", \"Bar\", \"\", \"Close\",\"5\",\"0\",\"PrimaryOnly\",,,\"False\",\"T\",\"EveryTick\")","v":104.75},2.8220858895705522E-2,{"$f":"RTD(\"cqg.rtd\",,\"StudyData\", \"Close(\"&$D$12&\") when LocalYear(\"&$D$12&\")=\"&$D$3&\" and localMonth(\"&$D$12&\") =\"&$E$3&\" and LocalDay(\"&$D$12&\")=\"&$F$3&\" and Barix(\"&$D$12&\",reference:=StartOfSession)=\"&A41&\"\", \"Bar\", \"\", \"Close\",\"5\",\"0\",\"PrimaryOnly\",,,\"False\",\"T\",\"EveryTick\")","v":102.02500000000001},-1.8046198267564966E-2,{"$f":"RTD(\"cqg.rtd\",,\"StudyData\", \"Close(\"&$D$12&\") when LocalYear(\"&$D$12&\")=\"&$D$4&\" and localMonth(\"&$D$12&\") =\"&$E$4&\" and LocalDay(\"&$D$12&\")=\"&$F$4&\" and Barix(\"&$D$12&\",reference:=StartOfSession)=\"&A41&\"\", \"Bar\", \"\", \"Close\",\"5\",\"0\",\"PrimaryOnly\",,,\"False\",\"T\",\"EveryTick\")","v":104},-2.876318312559896E-3,{"$f":"RTD(\"cqg.rtd\",,\"StudyData\", \"Close(\"&$D$12&\") when LocalYear(\"&$D$12&\")=\"&$D$5&\" and localMonth(\"&$D$12&\") =\"&$E$5&\" and LocalDay(\"&$D$12&\")=\"&$F$5&\" and Barix(\"&$D$12&\",reference:=StartOfSession)=\"&A41&\"\", \"Bar\", \"\", \"Close\",\"5\",\"0\",\"PrimaryOnly\",,,\"False\",\"T\",\"EveryTick\")","v":104.425},2.3998080153587713E-3,{"$f":"RTD(\"cqg.rtd\",,\"StudyData\", \"Close(\"&$D$12&\") when LocalYear(\"&$D$12&\")=\"&$D$6&\" and localMonth(\"&$D$12&\") =\"&$E$6&\" and LocalDay(\"&$D$12&\")=\"&$F$6&\" and Barix(\"&$D$12&\",reference:=StartOfSession)=\"&A41&\"\", \"Bar\", \"\", \"Close\",\"5\",\"0\",\"PrimaryOnly\",,,\"False\",\"T\",\"EveryTick\")","v":106.45},6.3814701016307925E-3,{"$f":"RTD(\"cqg.rtd\",,\"StudyData\", \"Close(\"&$D$12&\") when LocalYear(\"&$D$12&\")=\"&$D$7&\" and localMonth(\"&$D$12&\") =\"&$E$7&\" and LocalDay(\"&$D$12&\")=\"&$F$7&\" and Barix(\"&$D$12&\",reference:=StartOfSession)=\"&A41&\"\", \"Bar\", \"\", \"Close\",\"5\",\"0\",\"PrimaryOnly\",,,\"False\",\"T\",\"EveryTick\")","v":105.575},1.3682189150264014E-2,{"$f":"RTD(\"cqg.rtd\",,\"StudyData\", \"Close(\"&$D$12&\") when LocalYear(\"&$D$12&\")=\"&$D$8&\" and localMonth(\"&$D$12&\") =\"&$E$8&\" and LocalDay(\"&$D$12&\")=\"&$F$8&\" and Barix(\"&$D$12&\",reference:=StartOfSession)=\"&A41&\"\", \"Bar\", \"\", \"Close\",\"5\",\"0\",\"PrimaryOnly\",,,\"False\",\"T\",\"EveryTick\")","v":105.075},4.7812574707147976E-3,{"$f":"RTD(\"cqg.rtd\",,\"StudyData\", \"Close(\"&$D$12&\") when LocalYear(\"&$D$12&\")=\"&$D$9&\" and localMonth(\"&$D$12&\") =\"&$E$9&\" and LocalDay(\"&$D$12&\")=\"&$F$9&\" and Barix(\"&$D$12&\",reference:=StartOfSession)=\"&A41&\"\", \"Bar\", \"\", \"Close\",\"5\",\"0\",\"PrimaryOnly\",,,\"False\",\"T\",\"EveryTick\")","v":104.97499999999999},8.8899567515617218E-3,{"$f":"RTD(\"cqg.rtd\",,\"StudyData\", \"Close(\"&$D$12&\") when LocalYear(\"&$D$12&\")=\"&$D$10&\" and localMonth(\"&$D$12&\") =\"&$E$10&\" and LocalDay(\"&$D$12&\")=\"&$F$10&\" and Barix(\"&$D$12&\",reference:=StartOfSession)=\"&A41&\"\", \"Bar\", \"\", \"Close\",\"5\",\"0\",\"PrimaryOnly\",,,\"False\",\"T\",\"EveryTick\")","v":104.175},1.6837481698389403E-2,null,null,null,""]
[41,"11:55:00",-36,{"$f":" RTD(\"cqg.rtd\",,\"StudyData\", $D$12,  \"Tick\", \"FlatTicks=0\", \"Tick\",\"D\",C42,\"PrimaryOnly\")","v":104.25},null,null,null,{"$f":"RTD(\"cqg.rtd\",,\"StudyData\", \"Close(\"&$D$12&\") when LocalYear(\"&$D$12&\")=\"&$D$1&\" and localMonth(\"&$D$12&\") =\"&$E$1&\" and LocalDay(\"&$D$12&\")=\"&$F$1&\" and Barix(\"&$D$12&\",reference:=StartOfSession)=\"&A42&\"\", \"Bar\", \"\", \"Close\",\"5\",\"0\",\"PrimaryOnly\",,,\"False\",\"T\",\"EveryTick\")","v":""},{"$error":"#N/A"},{"$f":"RTD(\"cqg.rtd\",,\"StudyData\", \"Close(\"&$D$12&\") when LocalYear(\"&$D$12&\")=\"&$D$2&\" and localMonth(\"&$D$12&\") =\"&$E$2&\" and LocalDay(\"&$D$12&\")=\"&$F$2&\" and Barix(\"&$D$12&\",reference:=StartOfSession)=\"&A42&\"\", \"Bar\", \"\", \"Close\",\"5\",\"0\",\"PrimaryOnly\",,,\"False\",\"T\",\"EveryTick\")","v":104.77500000000001},2.8466257668711713E-2,{"$f":"RTD(\"cqg.rtd\",,\"StudyData\", \"Close(\"&$D$12&\") when LocalYear(\"&$D$12&\")=\"&$D$3&\" and localMonth(\"&$D$12&\") =\"&$E$3&\" and LocalDay(\"&$D$12&\")=\"&$F$3&\" and Barix(\"&$D$12&\",reference:=StartOfSession)=\"&A42&\"\", \"Bar\", \"\", \"Close\",\"5\",\"0\",\"PrimaryOnly\",,,\"False\",\"T\",\"EveryTick\")","v":102.1},-1.7324350336862478E-2,{"$f":"RTD(\"cqg.rtd\",,\"StudyData\", \"Close(\"&$D$12&\") when LocalYear(\"&$D$12&\")=\"&$D$4&\" and localMonth(\"&$D$12&\") =\"&$E$4&\" and LocalDay(\"&$D$12&\")=\"&$F$4&\" and Barix(\"&$D$12&\",reference:=StartOfSession)=\"&A42&\"\", \"Bar\", \"\", \"Close\",\"5\",\"0\",\"PrimaryOnly\",,,\"False\",\"T\",\"EveryTick\")","v":104.02500000000001},-2.6366251198465147E-3,{"$f":"RTD(\"cqg.rtd\",,\"StudyData\", \"Close(\"&$D$12&\") when LocalYear(\"&$D$12&\")=\"&$D$5&\" and localMonth(\"&$D$12&\") =\"&$E$5&\" and LocalDay(\"&$D$12&\")=\"&$F$5&\" and Barix(\"&$D$12&\",reference:=StartOfSession)=\"&A42&\"\", \"Bar\", \"\", \"Close\",\"5\",\"0\",\"PrimaryOnly\",,,\"False\",\"T\",\"EveryTick\")","v":104.425},2.3998080153587713E-3,{"$f":"RTD(\"cqg.rtd\",,\"StudyData\", \"Close(\"&$D$12&\") when LocalYear(\"&$D$12&\")=\"&$D$6&\" and localMonth(\"&$D$12&\") =\"&$E$6&\" and LocalDay(\"&$D$12&\")=\"&$F$6&\" and Barix(\"&$D$12&\",reference:=StartOfSession)=\"&A42&\"\", \"Bar\", \"\", \"Close\",\"5\",\"0\",\"PrimaryOnly\",,,\"False\",\"T\",\"EveryTick\")","v":106.45},6.3814701016307925E-3,{"$f":"RTD(\"cqg.rtd\",,\"StudyData\", \"Close(\"&$D$12&\") when LocalYear(\"&$D$12&\")=\"&$D$7&\" and localMonth(\"&$D$12&\") =\"&$E$7&\" and LocalDay(\"&$D$12&\")=\"&$F$7&\" and Barix(\"&$D$12&\",reference:=StartOfSession)=\"&A42&\"\", \"Bar\", \"\", \"Close\",\"5\",\"0\",\"PrimaryOnly\",,,\"False\",\"T\",\"EveryTick\")","v":105.65},1.4402304368698991E-2,{"$f":"RTD(\"cqg.rtd\",,\"StudyData\", \"Close(\"&$D$12&\") when LocalYear(\"&$D$12&\")=\"&$D$8&\" and localMonth(\"&$D$12&\") =\"&$E$8&\" and LocalDay(\"&$D$12&\")=\"&$F$8&\" and Barix(\"&$D$12&\",reference:=StartOfSession)=\"&A42&\"\", \"Bar\", \"\", \"Close\",\"5\",\"0\",\"PrimaryOnly\",,,\"False\",\"T\",\"EveryTick\")","v":105.05},4.5421945971790036E-3,{"$f":"RTD(\"cqg.rtd\",,\"StudyData\", \"Close(\"&$D$12&\") when LocalYear(\"&$D$12&\")=\"&$D$9&\" and localMonth(\"&$D$12&\") =\"&$E$9&\" and LocalDay(\"&$D$12&\")=\"&$F$9&\" and Barix(\"&$D$12&\",reference:=StartOfSession)=\"&A42&\"\", \"Bar\", \"\", \"Close\",\"5\",\"0\",\"PrimaryOnly\",,,\"False\",\"T\",\"EveryTick\")","v":104.72499999999999},6.4872657376261137E-3,{"$f":"RTD(\"cqg.rtd\",,\"StudyData\", \"Close(\"&$D$12&\") when LocalYear(\"&$D$12&\")=\"&$D$10&\" and localMonth(\"&$D$12&\") =\"&$E$10&\" and LocalDay(\"&$D$12&\")=\"&$F$10&\" and Barix(\"&$D$12&\",reference:=StartOfSession)=\"&A42&\"\", \"Bar\", \"\", \"Close\",\"5\",\"0\",\"PrimaryOnly\",,,\"False\",\"T\",\"EveryTick\")","v":104.27500000000001},1.7813567593948296E-2,null,null,null,""]
[42,"12:00:00",-35,{"$f":" RTD(\"cqg.rtd\",,\"StudyData\", $D$12,  \"Tick\", \"FlatTicks=0\", \"Tick\",\"D\",C43,\"PrimaryOnly\")","v":104.22499999999999},null,null,null,{"$f":"RTD(\"cqg.rtd\",,\"StudyData\", \"Close(\"&$D$12&\") when LocalYear(\"&$D$12&\")=\"&$D$1&\" and localMonth(\"&$D$12&\") =\"&$E$1&\" and LocalDay(\"&$D$12&\")=\"&$F$1&\" and Barix(\"&$D$12&\",reference:=StartOfSession)=\"&A43&\"\", \"Bar\", \"\", \"Close\",\"5\",\"0\",\"PrimaryOnly\",,,\"False\",\"T\",\"EveryTick\")","v":""},{"$error":"#N/A"},{"$f":"RTD(\"cqg.rtd\",,\"StudyData\", \"Close(\"&$D$12&\") when LocalYear(\"&$D$12&\")=\"&$D$2&\" and localMonth(\"&$D$12&\") =\"&$E$2&\" and LocalDay(\"&$D$12&\")=\"&$F$2&\" and Barix(\"&$D$12&\",reference:=StartOfSession)=\"&A43&\"\", \"Bar\", \"\", \"Close\",\"5\",\"0\",\"PrimaryOnly\",,,\"False\",\"T\",\"EveryTick\")","v":104.8},2.8711656441717765E-2,{"$f":"RTD(\"cqg.rtd\",,\"StudyData\", \"Close(\"&$D$12&\") when LocalYear(\"&$D$12&\")=\"&$D$3&\" and localMonth(\"&$D$12&\") =\"&$E$3&\" and LocalDay(\"&$D$12&\")=\"&$F$3&\" and Barix(\"&$D$12&\",reference:=StartOfSession)=\"&A43&\"\", \"Bar\", \"\", \"Close\",\"5\",\"0\",\"PrimaryOnly\",,,\"False\",\"T\",\"EveryTick\")","v":102.1},-1.7324350336862478E-2,{"$f":"RTD(\"cqg.rtd\",,\"StudyData\", \"Close(\"&$D$12&\") when LocalYear(\"&$D$12&\")=\"&$D$4&\" and localMonth(\"&$D$12&\") =\"&$E$4&\" and LocalDay(\"&$D$12&\")=\"&$F$4&\" and Barix(\"&$D$12&\",reference:=StartOfSession)=\"&A43&\"\", \"Bar\", \"\", \"Close\",\"5\",\"0\",\"PrimaryOnly\",,,\"False\",\"T\",\"EveryTick\")","v":104},-2.876318312559896E-3,{"$f":"RTD(\"cqg.rtd\",,\"StudyData\", \"Close(\"&$D$12&\") when LocalYear(\"&$D$12&\")=\"&$D$5&\" and localMonth(\"&$D$12&\") =\"&$E$5&\" and LocalDay(\"&$D$12&\")=\"&$F$5&\" and Barix(\"&$D$12&\",reference:=StartOfSession)=\"&A43&\"\", \"Bar\", \"\", \"Close\",\"5\",\"0\",\"PrimaryOnly\",,,\"False\",\"T\",\"EveryTick\")","v":104.55},3.599712023038157E-3,{"$f":"RTD(\"cqg.rtd\",,\"StudyData\", \"Close(\"&$D$12&\") when LocalYear(\"&$D$12&\")=\"&$D$6&\" and localMonth(\"&$D$12&\") =\"&$E$6&\" and LocalDay(\"&$D$12&\")=\"&$F$6&\" and Barix(\"&$D$12&\",reference:=StartOfSession)=\"&A43&\"\", \"Bar\", \"\", \"Close\",\"5\",\"0\",\"PrimaryOnly\",,,\"False\",\"T\",\"EveryTick\")","v":106.55},7.3268730796501201E-3,{"$f":"RTD(\"cqg.rtd\",,\"StudyData\", \"Close(\"&$D$12&\") when LocalYear(\"&$D$12&\")=\"&$D$7&\" and localMonth(\"&$D$12&\") =\"&$E$7&\" and LocalDay(\"&$D$12&\")=\"&$F$7&\" and Barix(\"&$D$12&\",reference:=StartOfSession)=\"&A43&\"\", \"Bar\", \"\", \"Close\",\"5\",\"0\",\"PrimaryOnly\",,,\"False\",\"T\",\"EveryTick\")","v":105.77500000000001},1.5602496399423908E-2,{"$f":"RTD(\"cqg.rtd\",,\"StudyData\", \"Close(\"&$D$12&\") when LocalYear(\"&$D$12&\")=\"&$D$8&\" and localMonth(\"&$D$12&\") =\"&$E$8&\" and LocalDay(\"&$D$12&\")=\"&$F$8&\" and Barix(\"&$D$12&\",reference:=StartOfSession)=\"&A43&\"\", \"Bar\", \"\", \"Close\",\"5\",\"0\",\"PrimaryOnly\",,,\"False\",\"T\",\"EveryTick\")","v":105},4.0640688501075509E-3,{"$f":"RTD(\"cqg.rtd\",,\"StudyData\", \"Close(\"&$D$12&\") when LocalYear(\"&$D$12&\")=\"&$D$9&\" and localMonth(\"&$D$12&\") =\"&$E$9&\" and LocalDay(\"&$D$12&\")=\"&$F$9&\" and Barix(\"&$D$12&\",reference:=StartOfSession)=\"&A43&\"\", \"Bar\", \"\", \"Close\",\"5\",\"0\",\"PrimaryOnly\",,,\"False\",\"T\",\"EveryTick\")","v":104.65},5.7664584334455411E-3,{"$f":"RTD(\"cqg.rtd\",,\"StudyData\", \"Close(\"&$D$12&\") when LocalYear(\"&$D$12&\")=\"&$D$10&\" and localMonth(\"&$D$12&\") =\"&$E$10&\" and LocalDay(\"&$D$12&\")=\"&$F$10&\" and Barix(\"&$D$12&\",reference:=StartOfSession)=\"&A43&\"\", \"Bar\", \"\", \"Close\",\"5\",\"0\",\"PrimaryOnly\",,,\"False\",\"T\",\"EveryTick\")","v":104.4},1.9033674963396807E-2,null,null,null,""]
[43,"12:05:00",-34,{"$f":" RTD(\"cqg.rtd\",,\"StudyData\", $D$12,  \"Tick\", \"FlatTicks=0\", \"Tick\",\"D\",C44,\"PrimaryOnly\")","v":104.2},null,null,null,{"$f":"RTD(\"cqg.rtd\",,\"StudyData\", \"Close(\"&$D$12&\") when LocalYear(\"&$D$12&\")=\"&$D$1&\" and localMonth(\"&$D$12&\") =\"&$E$1&\" and LocalDay(\"&$D$12&\")=\"&$F$1&\" and Barix(\"&$D$12&\",reference:=StartOfSession)=\"&A44&\"\", \"Bar\", \"\", \"Close\",\"5\",\"0\",\"PrimaryOnly\",,,\"False\",\"T\",\"EveryTick\")","v":""},{"$error":"#N/A"},{"$f":"RTD(\"cqg.rtd\",,\"StudyData\", \"Close(\"&$D$12&\") when LocalYear(\"&$D$12&\")=\"&$D$2&\" and localMonth(\"&$D$12&\") =\"&$E$2&\" and LocalDay(\"&$D$12&\")=\"&$F$2&\" and Barix(\"&$D$12&\",reference:=StartOfSession)=\"&A44&\"\", \"Bar\", \"\", \"Close\",\"5\",\"0\",\"PrimaryOnly\",,,\"False\",\"T\",\"EveryTick\")","v":104.875},2.9447852760736196E-2,{"$f":"RTD(\"cqg.rtd\",,\"StudyData\", \"Close(\"&$D$12&\") when LocalYear(\"&$D$12&\")=\"&$D$3&\" and localMonth(\"&$D$12&\") =\"&$E$3&\" and LocalDay(\"&$D$12&\")=\"&$F$3&\" and Barix(\"&$D$12&\",reference:=StartOfSession)=\"&A44&\"\", \"Bar\", \"\", \"Close\",\"5\",\"0\",\"PrimaryOnly\",,,\"False\",\"T\",\"EveryTick\")","v":102.15},-1.6843118383060636E-2,{"$f":"RTD(\"cqg.rtd\",,\"StudyData\", \"Close(\"&$D$12&\") when LocalYear(\"&$D$12&\")=\"&$D$4&\" and localMonth(\"&$D$12&\") =\"&$E$4&\" and LocalDay(\"&$D$12&\")=\"&$F$4&\" and Barix(\"&$D$12&\",reference:=StartOfSession)=\"&A44&\"\", \"Bar\", \"\", \"Close\",\"5\",\"0\",\"PrimaryOnly\",,,\"False\",\"T\",\"EveryTick\")","v":103.95},-3.3557046979865229E-3,{"$f":"RTD(\"cqg.rtd\",,\"StudyData\", \"Close(\"&$D$12&\") when LocalYear(\"&$D$12&\")=\"&$D$5&\" and localMonth(\"&$D$12&\") =\"&$E$5&\" and LocalDay(\"&$D$12&\")=\"&$F$5&\" and Barix(\"&$D$12&\",reference:=StartOfSession)=\"&A44&\"\", \"Bar\", \"\", \"Close\",\"5\",\"0\",\"PrimaryOnly\",,,\"False\",\"T\",\"EveryTick\")","v":104.47499999999999},2.8797696184304986E-3,{"$f":"RTD(\"cqg.rtd\",,\"StudyData\", \"Close(\"&$D$12&\") when LocalYear(\"&$D$12&\")=\"&$D$6&\" and localMonth(\"&$D$12&\") =\"&$E$6&\" and LocalDay(\"&$D$12&\")=\"&$F$6&\" and Barix(\"&$D$12&\",reference:=StartOfSession)=\"&A44&\"\", \"Bar\", \"\", \"Close\",\"5\",\"0\",\"PrimaryOnly\",,,\"False\",\"T\",\"EveryTick\")","v":106.3},4.9633656346016681E-3,{"$f":"RTD(\"cqg.rtd\",,\"StudyData\", \"Close(\"&$D$12&\") when LocalYear(\"&$D$12&\")=\"&$D$7&\" and localMonth(\"&$D$12&\") =\"&$E$7&\" and LocalDay(\"&$D$12&\")=\"&$F$7&\" and Barix(\"&$D$12&\",reference:=StartOfSession)=\"&A44&\"\", \"Bar\", \"\", \"Close\",\"5\",\"0\",\"PrimaryOnly\",,,\"False\",\"T\",\"EveryTick\")","v":105.875},1.6562650024003787E-2,{"$f":"RTD(\"cqg.rtd\",,\"StudyData\", \"Close(\"&$D$12&\") when LocalYear(\"&$D$12&\")=\"&$D$8&\" and localMonth(\"&$D$12&\") =\"&$E$8&\" and LocalDay(\"&$D$12&\")=\"&$F$8&\" and Barix(\"&$D$12&\",reference:=StartOfSession)=\"&A44&\"\", \"Bar\", \"\", \"Close\",\"5\",\"0\",\"PrimaryOnly\",,,\"False\",\"T\",\"EveryTick\")","v":104.925},3.3468802295003042E-3,{"$f":"RTD(\"cqg.rtd\",,\"StudyData\", \"Close(\"&$D$12&\") when LocalYear(\"&$D$12&\")=\"&$D$9&\" and localMonth(\"&$D$12&\") =\"&$E$9&\" and LocalDay(\"&$D$12&\")=\"&$F$9&\" and Barix(\"&$D$12&\",reference:=StartOfSession)=\"&A44&\"\", \"Bar\", \"\", \"Close\",\"5\",\"0\",\"PrimaryOnly\",,,\"False\",\"T\",\"EveryTick\")","v":104.72499999999999},6.4872657376261137E-3,{"$f":"RTD(\"cqg.rtd\",,\"StudyData\", \"Close(\"&$D$12&\") when LocalYear(\"&$D$12&\")=\"&$D$10&\" and localMonth(\"&$D$12&\") =\"&$E$10&\" and LocalDay(\"&$D$12&\")=\"&$F$10&\" and Barix(\"&$D$12&\",reference:=StartOfSession)=\"&A44&\"\", \"Bar\", \"\", \"Close\",\"5\",\"0\",\"PrimaryOnly\",,,\"False\",\"T\",\"EveryTick\")","v":104.25},1.7569546120058538E-2,null,null,null,""]
[44,"12:10:00",-33,{"$f":" RTD(\"cqg.rtd\",,\"StudyData\", $D$12,  \"Tick\", \"FlatTicks=0\", \"Tick\",\"D\",C45,\"PrimaryOnly\")","v":104.175},null,null,null,{"$f":"RTD(\"cqg.rtd\",,\"StudyData\", \"Close(\"&$D$12&\") when LocalYear(\"&$D$12&\")=\"&$D$1&\" and localMonth(\"&$D$12&\") =\"&$E$1&\" and LocalDay(\"&$D$12&\")=\"&$F$1&\" and Barix(\"&$D$12&\",reference:=StartOfSession)=\"&A45&\"\", \"Bar\", \"\", \"Close\",\"5\",\"0\",\"PrimaryOnly\",,,\"False\",\"T\",\"EveryTick\")","v":""},{"$error":"#N/A"},{"$f":"RTD(\"cqg.rtd\",,\"StudyData\", \"Close(\"&$D$12&\") when LocalYear(\"&$D$12&\")=\"&$D$2&\" and localMonth(\"&$D$12&\") =\"&$E$2&\" and LocalDay(\"&$D$12&\")=\"&$F$2&\" and Barix(\"&$D$12&\",reference:=StartOfSession)=\"&A45&\"\", \"Bar\", \"\", \"Close\",\"5\",\"0\",\"PrimaryOnly\",,,\"False\",\"T\",\"EveryTick\")","v":104.875},2.9447852760736196E-2,{"$f":"RTD(\"cqg.rtd\",,\"StudyData\", \"Close(\"&$D$12&\") when LocalYear(\"&$D$12&\")=\"&$D$3&\" and localMonth(\"&$D$12&\") =\"&$E$3&\" and LocalDay(\"&$D$12&\")=\"&$F$3&\" and Barix(\"&$D$12&\",reference:=StartOfSession)=\"&A45&\"\", \"Bar\", \"\", \"Close\",\"5\",\"0\",\"PrimaryOnly\",,,\"False\",\"T\",\"EveryTick\")","v":102.125},-1.7083734359961557E-2,{"$f":"RTD(\"cqg.rtd\",,\"StudyData\", \"Close(\"&$D$12&\") when LocalYear(\"&$D$12&\")=\"&$D$4&\" and localMonth(\"&$D$12&\") =\"&$E$4&\" and LocalDay(\"&$D$12&\")=\"&$F$4&\" and Barix(\"&$D$12&\",reference:=StartOfSession)=\"&A45&\"\", \"Bar\", \"\", \"Close\",\"5\",\"0\",\"PrimaryOnly\",,,\"False\",\"T\",\"EveryTick\")","v":103.85},-4.3144774688399119E-3,{"$f":"RTD(\"cqg.rtd\",,\"StudyData\", \"Close(\"&$D$12&\") when LocalYear(\"&$D$12&\")=\"&$D$5&\" and localMonth(\"&$D$12&\") =\"&$E$5&\" and LocalDay(\"&$D$12&\")=\"&$F$5&\" and Barix(\"&$D$12&\",reference:=StartOfSession)=\"&A45&\"\", \"Bar\", \"\", \"Close\",\"5\",\"0\",\"PrimaryOnly\",,,\"False\",\"T\",\"EveryTick\")","v":104.5},3.1197504199664302E-3,{"$f":"RTD(\"cqg.rtd\",,\"StudyData\", \"Close(\"&$D$12&\") when LocalYear(\"&$D$12&\")=\"&$D$6&\" and localMonth(\"&$D$12&\") =\"&$E$6&\" and LocalDay(\"&$D$12&\")=\"&$F$6&\" and Barix(\"&$D$12&\",reference:=StartOfSession)=\"&A45&\"\", \"Bar\", \"\", \"Close\",\"5\",\"0\",\"PrimaryOnly\",,,\"False\",\"T\",\"EveryTick\")","v":106.05},2.5998581895532165E-3,{"$f":"RTD(\"cqg.rtd\",,\"StudyData\", \"Close(\"&$D$12&\") when LocalYear(\"&$D$12&\")=\"&$D$7&\" and localMonth(\"&$D$12&\") =\"&$E$7&\" and LocalDay(\"&$D$12&\")=\"&$F$7&\" and Barix(\"&$D$12&\",reference:=StartOfSession)=\"&A45&\"\", \"Bar\", \"\", \"Close\",\"5\",\"0\",\"PrimaryOnly\",,,\"False\",\"T\",\"EveryTick\")","v":105.825},1.6082573211713847E-2,{"$f":"RTD(\"cqg.rtd\",,\"StudyData\", \"Close(\"&$D$12&\") when LocalYear(\"&$D$12&\")=\"&$D$8&\" and localMonth(\"&$D$12&\") =\"&$E$8&\" and LocalDay(\"&$D$12&\")=\"&$F$8&\" and Barix(\"&$D$12&\",reference:=StartOfSession)=\"&A45&\"\", \"Bar\", \"\", \"Close\",\"5\",\"0\",\"PrimaryOnly\",,,\"False\",\"T\",\"EveryTick\")","v":104.85},2.6296916088930575E-3,{"$f":"RTD(\"cqg.rtd\",,\"StudyData\", \"Close(\"&$D$12&\") when LocalYear(\"&$D$12&\")=\"&$D$9&\" and localMonth(\"&$D$12&\") =\"&$E$9&\" and LocalDay(\"&$D$12&\")=\"&$F$9&\" and Barix(\"&$D$12&\",reference:=StartOfSession)=\"&A45&\"\", \"Bar\", \"\", \"Close\",\"5\",\"0\",\"PrimaryOnly\",,,\"False\",\"T\",\"EveryTick\")","v":104.7},6.2469966362326355E-3,{"$f":"RTD(\"cqg.rtd\",,\"StudyData\", \"Close(\"&$D$12&\") when LocalYear(\"&$D$12&\")=\"&$D$10&\" and localMonth(\"&$D$12&\") =\"&$E$10&\" and LocalDay(\"&$D$12&\")=\"&$F$10&\" and Barix(\"&$D$12&\",reference:=StartOfSession)=\"&A45&\"\", \"Bar\", \"\", \"Close\",\"5\",\"0\",\"PrimaryOnly\",,,\"False\",\"T\",\"EveryTick\")","v":104.4},1.9033674963396807E-2,null,null,null,""]
[45,"12:15:00",-32,{"$f":" RTD(\"cqg.rtd\",,\"StudyData\", $D$12,  \"Tick\", \"FlatTicks=0\", \"Tick\",\"D\",C46,\"PrimaryOnly\")","v":104.15},null,null,null,{"$f":"RTD(\"cqg.rtd\",,\"StudyData\", \"Close(\"&$D$12&\") when LocalYear(\"&$D$12&\")=\"&$D$1&\" and localMonth(\"&$D$12&\") =\"&$E$1&\" and LocalDay(\"&$D$12&\")=\"&$F$1&\" and Barix(\"&$D$12&\",reference:=StartOfSession)=\"&A46&\"\", \"Bar\", \"\", \"Close\",\"5\",\"0\",\"PrimaryOnly\",,,\"False\",\"T\",\"EveryTick\")","v":""},{"$error":"#N/A"},{"$f":"RTD(\"cqg.rtd\",,\"StudyData\", \"Close(\"&$D$12&\") when LocalYear(\"&$D$12&\")=\"&$D$2&\" and localMonth(\"&$D$12&\") =\"&$E$2&\" and LocalDay(\"&$D$12&\")=\"&$F$2&\" and Barix(\"&$D$12&\",reference:=StartOfSession)=\"&A46&\"\", \"Bar\", \"\", \"Close\",\"5\",\"0\",\"PrimaryOnly\",,,\"False\",\"T\",\"EveryTick\")","v":104.875},2.9447852760736196E-2,{"$f":"RTD(\"cqg.rtd\",,\"StudyData\", \"Close(\"&$D$12&\") when LocalYear(\"&$D$12&\")=\"&$D$3&\" and localMonth(\"&$D$12&\") =\"&$E$3&\" and LocalDay(\"&$D$12&\")=\"&$F$3&\" and Barix(\"&$D$12&\",reference:=StartOfSession)=\"&A46&\"\", \"Bar\", \"\", \"Close\",\"5\",\"0\",\"PrimaryOnly\",,,\"False\",\"T\",\"EveryTick\")","v":102.075},-1.756496631376326E-2,{"$f":"RTD(\"cqg.rtd\",,\"StudyData\", \"Close(\"&$D$12&\") when LocalYear(\"&$D$12&\")=\"&$D$4&\" and localMonth(\"&$D$12&\") =\"&$E$4&\" and LocalDay(\"&$D$12&\")=\"&$F$4&\" and Barix(\"&$D$12&\",reference:=StartOfSession)=\"&A46&\"\", \"Bar\", \"\", \"Close\",\"5\",\"0\",\"PrimaryOnly\",,,\"False\",\"T\",\"EveryTick\")","v":103.825},-4.5541706615531575E-3,{"$f":"RTD(\"cqg.rtd\",,\"StudyData\", \"Close(\"&$D$12&\") when LocalYear(\"&$D$12&\")=\"&$D$5&\" and localMonth(\"&$D$12&\") =\"&$E$5&\" and LocalDay(\"&$D$12&\")=\"&$F$5&\" and Barix(\"&$D$12&\",reference:=StartOfSession)=\"&A46&\"\", \"Bar\", \"\", \"Close\",\"5\",\"0\",\"PrimaryOnly\",,,\"False\",\"T\",\"EveryTick\")","v":104.6},4.0796736261098842E-3,{"$f":"RTD(\"cqg.rtd\",,\"StudyData\", \"Close(\"&$D$12&\") when LocalYear(\"&$D$12&\")=\"&$D$6&\" and localMonth(\"&$D$12&\") =\"&$E$6&\" and LocalDay(\"&$D$12&\")=\"&$F$6&\" and Barix(\"&$D$12&\",reference:=StartOfSession)=\"&A46&\"\", \"Bar\", \"\", \"Close\",\"5\",\"0\",\"PrimaryOnly\",,,\"False\",\"T\",\"EveryTick\")","v":105.6},-1.6544552115340238E-3,{"$f":"RTD(\"cqg.rtd\",,\"StudyData\", \"Close(\"&$D$12&\") when LocalYear(\"&$D$12&\")=\"&$D$7&\" and localMonth(\"&$D$12&\") =\"&$E$7&\" and LocalDay(\"&$D$12&\")=\"&$F$7&\" and Barix(\"&$D$12&\",reference:=StartOfSession)=\"&A46&\"\", \"Bar\", \"\", \"Close\",\"5\",\"0\",\"PrimaryOnly\",,,\"False\",\"T\",\"EveryTick\")","v":105.8},1.5842534805568808E-2,{"$f":"RTD(\"cqg.rtd\",,\"StudyData\", \"Close(\"&$D$12&\") when LocalYear(\"&$D$12&\")=\"&$D$8&\" and localMonth(\"&$D$12&\") =\"&$E$8&\" and LocalDay(\"&$D$12&\")=\"&$F$8&\" and Barix(\"&$D$12&\",reference:=StartOfSession)=\"&A46&\"\", \"Bar\", \"\", \"Close\",\"5\",\"0\",\"PrimaryOnly\",,,\"False\",\"T\",\"EveryTick\")","v":104.72499999999999},1.4343772412143579E-3,{"$f":"RTD(\"cqg.rtd\",,\"StudyData\", \"Close(\"&$D$12&\") when LocalYear(\"&$D$12&\")=\"&$D$9&\" and localMonth(\"&$D$12&\") =\"&$E$9&\" and LocalDay(\"&$D$12&\")=\"&$F$9&\" and Barix(\"&$D$12&\",reference:=StartOfSession)=\"&A46&\"\", \"Bar\", \"\", \"Close\",\"5\",\"0\",\"PrimaryOnly\",,,\"False\",\"T\",\"EveryTick\")","v":104.55},4.8053820278712162E-3,{"$f":"RTD(\"cqg.rtd\",,\"StudyData\", \"Close(\"&$D$12&\") when LocalYear(\"&$D$12&\")=\"&$D$10&\" and localMonth(\"&$D$12&\") =\"&$E$10&\" and LocalDay(\"&$D$12&\")=\"&$F$10&\" and Barix(\"&$D$12&\",reference:=StartOfSession)=\"&A46&\"\", \"Bar\", \"\", \"Close\",\"5\",\"0\",\"PrimaryOnly\",,,\"False\",\"T\",\"EveryTick\")","v":104.4},1.9033674963396807E-2,null,null,null,""]
[46,"12:20:00",-31,{"$f":" RTD(\"cqg.rtd\",,\"StudyData\", $D$12,  \"Tick\", \"FlatTicks=0\", \"Tick\",\"D\",C47,\"PrimaryOnly\")","v":104.175},null,null,null,{"$f":"RTD(\"cqg.rtd\",,\"StudyData\", \"Close(\"&$D$12&\") when LocalYear(\"&$D$12&\")=\"&$D$1&\" and localMonth(\"&$D$12&\") =\"&$E$1&\" and LocalDay(\"&$D$12&\")=\"&$F$1&\" and Barix(\"&$D$12&\",reference:=StartOfSession)=\"&A47&\"\", \"Bar\", \"\", \"Close\",\"5\",\"0\",\"PrimaryOnly\",,,\"False\",\"T\",\"EveryTick\")","v":""},{"$error":"#N/A"},{"$f":"RTD(\"cqg.rtd\",,\"StudyData\", \"Close(\"&$D$12&\") when LocalYear(\"&$D$12&\")=\"&$D$2&\" and localMonth(\"&$D$12&\") =\"&$E$2&\" and LocalDay(\"&$D$12&\")=\"&$F$2&\" and Barix(\"&$D$12&\",reference:=StartOfSession)=\"&A47&\"\", \"Bar\", \"\", \"Close\",\"5\",\"0\",\"PrimaryOnly\",,,\"False\",\"T\",\"EveryTick\")","v":104.8},2.8711656441717765E-2,{"$f":"RTD(\"cqg.rtd\",,\"StudyData\", \"Close(\"&$D$12&\") when LocalYear(\"&$D$12&\")=\"&$D$3&\" and localMonth(\"&$D$12&\") =\"&$E$3&\" and LocalDay(\"&$D$12&\")=\"&$F$3&\" and Barix(\"&$D$12&\",reference:=StartOfSession)=\"&A47&\"\", \"Bar\", \"\", \"Close\",\"5\",\"0\",\"PrimaryOnly\",,,\"False\",\"T\",\"EveryTick\")","v":102},-1.8286814244465887E-2,{"$f":"RTD(\"cqg.rtd\",,\"StudyData\", \"Close(\"&$D$12&\") when LocalYear(\"&$D$12&\")=\"&$D$4&\" and localMonth(\"&$D$12&\") =\"&$E$4&\" and LocalDay(\"&$D$12&\")=\"&$F$4&\" and Barix(\"&$D$12&\",reference:=StartOfSession)=\"&A47&\"\", \"Bar\", \"\", \"Close\",\"5\",\"0\",\"PrimaryOnly\",,,\"False\",\"T\",\"EveryTick\")","v":103.8},-4.7938638542665392E-3,{"$f":"RTD(\"cqg.rtd\",,\"StudyData\", \"Close(\"&$D$12&\") when LocalYear(\"&$D$12&\")=\"&$D$5&\" and localMonth(\"&$D$12&\") =\"&$E$5&\" and LocalDay(\"&$D$12&\")=\"&$F$5&\" and Barix(\"&$D$12&\",reference:=StartOfSession)=\"&A47&\"\", \"Bar\", \"\", \"Close\",\"5\",\"0\",\"PrimaryOnly\",,,\"False\",\"T\",\"EveryTick\")","v":104.6},4.0796736261098842E-3,{"$f":"RTD(\"cqg.rtd\",,\"StudyData\", \"Close(\"&$D$12&\") when LocalYear(\"&$D$12&\")=\"&$D$6&\" and localMonth(\"&$D$12&\") =\"&$E$6&\" and LocalDay(\"&$D$12&\")=\"&$F$6&\" and Barix(\"&$D$12&\",reference:=StartOfSession)=\"&A47&\"\", \"Bar\", \"\", \"Close\",\"5\",\"0\",\"PrimaryOnly\",,,\"False\",\"T\",\"EveryTick\")","v":104.97499999999999},-7.563223824155153E-3,{"$f":"RTD(\"cqg.rtd\",,\"StudyData\", \"Close(\"&$D$12&\") when LocalYear(\"&$D$12&\")=\"&$D$7&\" and localMonth(\"&$D$12&\") =\"&$E$7&\" and LocalDay(\"&$D$12&\")=\"&$F$7&\" and Barix(\"&$D$12&\",reference:=StartOfSession)=\"&A47&\"\", \"Bar\", \"\", \"Close\",\"5\",\"0\",\"PrimaryOnly\",,,\"False\",\"T\",\"EveryTick\")","v":105.675},1.4642342774843893E-2,{"$f":"RTD(\"cqg.rtd\",,\"StudyData\", \"Close(\"&$D$12&\") when LocalYear(\"&$D$12&\")=\"&$D$8&\" and localMonth(\"&$D$12&\") =\"&$E$8&\" and LocalDay(\"&$D$12&\")=\"&$F$8&\" and Barix(\"&$D$12&\",reference:=StartOfSession)=\"&A47&\"\", \"Bar\", \"\", \"Close\",\"5\",\"0\",\"PrimaryOnly\",,,\"False\",\"T\",\"EveryTick\")","v":104.675},9.5625149414290517E-4,{"$f":"RTD(\"cqg.rtd\",,\"StudyData\", \"Close(\"&$D$12&\") when LocalYear(\"&$D$12&\")=\"&$D$9&\" and localMonth(\"&$D$12&\") =\"&$E$9&\" and LocalDay(\"&$D$12&\")=\"&$F$9&\" and Barix(\"&$D$12&\",reference:=StartOfSession)=\"&A47&\"\", \"Bar\", \"\", \"Close\",\"5\",\"0\",\"PrimaryOnly\",,,\"False\",\"T\",\"EveryTick\")","v":104.5},4.3248438250841218E-3,{"$f":"RTD(\"cqg.rtd\",,\"StudyData\", \"Close(\"&$D$12&\") when LocalYear(\"&$D$12&\")=\"&$D$10&\" and localMonth(\"&$D$12&\") =\"&$E$10&\" and LocalDay(\"&$D$12&\")=\"&$F$10&\" and Barix(\"&$D$12&\",reference:=StartOfSession)=\"&A47&\"\", \"Bar\", \"\", \"Close\",\"5\",\"0\",\"PrimaryOnly\",,,\"False\",\"T\",\"EveryTick\")","v":104.27500000000001},1.7813567593948296E-2,null,null,null,""]
[47,"12:25:00",-30,{"$f":" RTD(\"cqg.rtd\",,\"StudyData\", $D$12,  \"Tick\", \"FlatTicks=0\", \"Tick\",\"D\",C48,\"PrimaryOnly\")","v":104.2},null,null,null,{"$f":"RTD(\"cqg.rtd\",,\"StudyData\", \"Close(\"&$D$12&\") when LocalYear(\"&$D$12&\")=\"&$D$1&\" and localMonth(\"&$D$12&\") =\"&$E$1&\" and LocalDay(\"&$D$12&\")=\"&$F$1&\" and Barix(\"&$D$12&\",reference:=StartOfSession)=\"&A48&\"\", \"Bar\", \"\", \"Close\",\"5\",\"0\",\"PrimaryOnly\",,,\"False\",\"T\",\"EveryTick\")","v":""},{"$error":"#N/A"},{"$f":"RTD(\"cqg.rtd\",,\"StudyData\", \"Close(\"&$D$12&\") when LocalYear(\"&$D$12&\")=\"&$D$2&\" and localMonth(\"&$D$12&\") =\"&$E$2&\" and LocalDay(\"&$D$12&\")=\"&$F$2&\" and Barix(\"&$D$12&\",reference:=StartOfSession)=\"&A48&\"\", \"Bar\", \"\", \"Close\",\"5\",\"0\",\"PrimaryOnly\",,,\"False\",\"T\",\"EveryTick\")","v":104.875},2.9447852760736196E-2,{"$f":"RTD(\"cqg.rtd\",,\"StudyData\", \"Close(\"&$D$12&\") when LocalYear(\"&$D$12&\")=\"&$D$3&\" and localMonth(\"&$D$12&\") =\"&$E$3&\" and LocalDay(\"&$D$12&\")=\"&$F$3&\" and Barix(\"&$D$12&\",reference:=StartOfSession)=\"&A48&\"\", \"Bar\", \"\", \"Close\",\"5\",\"0\",\"PrimaryOnly\",,,\"False\",\"T\",\"EveryTick\")","v":101.825},-1.9971126082771923E-2,{"$f":"RTD(\"cqg.rtd\",,\"StudyData\", \"Close(\"&$D$12&\") when LocalYear(\"&$D$12&\")=\"&$D$4&\" and localMonth(\"&$D$12&\") =\"&$E$4&\" and LocalDay(\"&$D$12&\")=\"&$F$4&\" and Barix(\"&$D$12&\",reference:=StartOfSession)=\"&A48&\"\", \"Bar\", \"\", \"Close\",\"5\",\"0\",\"PrimaryOnly\",,,\"False\",\"T\",\"EveryTick\")","v":103.75},-5.2732502396931656E-3,{"$f":"RTD(\"cqg.rtd\",,\"StudyData\", \"Close(\"&$D$12&\") when LocalYear(\"&$D$12&\")=\"&$D$5&\" and localMonth(\"&$D$12&\") =\"&$E$5&\" and LocalDay(\"&$D$12&\")=\"&$F$5&\" and Barix(\"&$D$12&\",reference:=StartOfSession)=\"&A48&\"\", \"Bar\", \"\", \"Close\",\"5\",\"0\",\"PrimaryOnly\",,,\"False\",\"T\",\"EveryTick\")","v":104.55},3.599712023038157E-3,{"$f":"RTD(\"cqg.rtd\",,\"StudyData\", \"Close(\"&$D$12&\") when LocalYear(\"&$D$12&\")=\"&$D$6&\" and localMonth(\"&$D$12&\") =\"&$E$6&\" and LocalDay(\"&$D$12&\")=\"&$F$6&\" and Barix(\"&$D$12&\",reference:=StartOfSession)=\"&A48&\"\", \"Bar\", \"\", \"Close\",\"5\",\"0\",\"PrimaryOnly\",,,\"False\",\"T\",\"EveryTick\")","v":104.85},-8.7449775466793798E-3,{"$f":"RTD(\"cqg.rtd\",,\"StudyData\", \"Close(\"&$D$12&\") when LocalYear(\"&$D$12&\")=\"&$D$7&\" and localMonth(\"&$D$12&\") =\"&$E$7&\" and LocalDay(\"&$D$12&\")=\"&$F$7&\" and Barix(\"&$D$12&\",reference:=StartOfSession)=\"&A48&\"\", \"Bar\", \"\", \"Close\",\"5\",\"0\",\"PrimaryOnly\",,,\"False\",\"T\",\"EveryTick\")","v":105.77500000000001},1.5602496399423908E-2,{"$f":"RTD(\"cqg.rtd\",,\"StudyData\", \"Close(\"&$D$12&\") when LocalYear(\"&$D$12&\")=\"&$D$8&\" and localMonth(\"&$D$12&\") =\"&$E$8&\" and LocalDay(\"&$D$12&\")=\"&$F$8&\" and Barix(\"&$D$12&\",reference:=StartOfSession)=\"&A48&\"\", \"Bar\", \"\", \"Close\",\"5\",\"0\",\"PrimaryOnly\",,,\"False\",\"T\",\"EveryTick\")","v":104.65},7.171886206072468E-4,{"$f":"RTD(\"cqg.rtd\",,\"StudyData\", \"Close(\"&$D$12&\") when LocalYear(\"&$D$12&\")=\"&$D$9&\" and localMonth(\"&$D$12&\") =\"&$E$9&\" and LocalDay(\"&$D$12&\")=\"&$F$9&\" and Barix(\"&$D$12&\",reference:=StartOfSession)=\"&A48&\"\", \"Bar\", \"\", \"Close\",\"5\",\"0\",\"PrimaryOnly\",,,\"False\",\"T\",\"EveryTick\")","v":104.375},3.1234983181163177E-3,{"$f":"RTD(\"cqg.rtd\",,\"StudyData\", \"Close(\"&$D$12&\") when LocalYear(\"&$D$12&\")=\"&$D$10&\" and localMonth(\"&$D$12&\") =\"&$E$10&\" and LocalDay(\"&$D$12&\")=\"&$F$10&\" and Barix(\"&$D$12&\",reference:=StartOfSession)=\"&A48&\"\", \"Bar\", \"\", \"Close\",\"5\",\"0\",\"PrimaryOnly\",,,\"False\",\"T\",\"EveryTick\")","v":104.4},1.9033674963396807E-2,null,null,null,""]
[48,"12:30:00",-29,{"$f":" RTD(\"cqg.rtd\",,\"StudyData\", $D$12,  \"Tick\", \"FlatTicks=0\", \"Tick\",\"D\",C49,\"PrimaryOnly\")","v":104.22499999999999},null,null,null,{"$f":"RTD(\"cqg.rtd\",,\"StudyData\", \"Close(\"&$D$12&\") when LocalYear(\"&$D$12&\")=\"&$D$1&\" and localMonth(\"&$D$12&\") =\"&$E$1&\" and LocalDay(\"&$D$12&\")=\"&$F$1&\" and Barix(\"&$D$12&\",reference:=StartOfSession)=\"&A49&\"\", \"Bar\", \"\", \"Close\",\"5\",\"0\",\"PrimaryOnly\",,,\"False\",\"T\",\"EveryTick\")","v":""},{"$error":"#N/A"},{"$f":"RTD(\"cqg.rtd\",,\"StudyData\", \"Close(\"&$D$12&\") when LocalYear(\"&$D$12&\")=\"&$D$2&\" and localMonth(\"&$D$12&\") =\"&$E$2&\" and LocalDay(\"&$D$12&\")=\"&$F$2&\" and Barix(\"&$D$12&\",reference:=StartOfSession)=\"&A49&\"\", \"Bar\", \"\", \"Close\",\"5\",\"0\",\"PrimaryOnly\",,,\"False\",\"T\",\"EveryTick\")","v":104.875},2.9447852760736196E-2,{"$f":"RTD(\"cqg.rtd\",,\"StudyData\", \"Close(\"&$D$12&\") when LocalYear(\"&$D$12&\")=\"&$D$3&\" and localMonth(\"&$D$12&\") =\"&$E$3&\" and LocalDay(\"&$D$12&\")=\"&$F$3&\" and Barix(\"&$D$12&\",reference:=StartOfSession)=\"&A49&\"\", \"Bar\", \"\", \"Close\",\"5\",\"0\",\"PrimaryOnly\",,,\"False\",\"T\",\"EveryTick\")","v":101.875},-1.9489894128970217E-2,{"$f":"RTD(\"cqg.rtd\",,\"StudyData\", \"Close(\"&$D$12&\") when LocalYear(\"&$D$12&\")=\"&$D$4&\" and localMonth(\"&$D$12&\") =\"&$E$4&\" and LocalDay(\"&$D$12&\")=\"&$F$4&\" and Barix(\"&$D$12&\",reference:=StartOfSession)=\"&A49&\"\", \"Bar\", \"\", \"Close\",\"5\",\"0\",\"PrimaryOnly\",,,\"False\",\"T\",\"EveryTick\")","v":103.75},-5.2732502396931656E-3,{"$f":"RTD(\"cqg.rtd\",,\"StudyData\", \"Close(\"&$D$12&\") when LocalYear(\"&$D$12&\")=\"&$D$5&\" and localMonth(\"&$D$12&\") =\"&$E$5&\" and LocalDay(\"&$D$12&\")=\"&$F$5&\" and Barix(\"&$D$12&\",reference:=StartOfSession)=\"&A49&\"\", \"Bar\", \"\", \"Close\",\"5\",\"0\",\"PrimaryOnly\",,,\"False\",\"T\",\"EveryTick\")","v":104.25},7.1994240460765868E-4,{"$f":"RTD(\"cqg.rtd\",,\"StudyData\", \"Close(\"&$D$12&\") when LocalYear(\"&$D$12&\")=\"&$D$6&\" and localMonth(\"&$D$12&\") =\"&$E$6&\" and LocalDay(\"&$D$12&\")=\"&$F$6&\" and Barix(\"&$D$12&\",reference:=StartOfSession)=\"&A49&\"\", \"Bar\", \"\", \"Close\",\"5\",\"0\",\"PrimaryOnly\",,,\"False\",\"T\",\"EveryTick\")","v":104.8},-9.2176790356890432E-3,{"$f":"RTD(\"cqg.rtd\",,\"StudyData\", \"Close(\"&$D$12&\") when LocalYear(\"&$D$12&\")=\"&$D$7&\" and localMonth(\"&$D$12&\") =\"&$E$7&\" and LocalDay(\"&$D$12&\")=\"&$F$7&\" and Barix(\"&$D$12&\",reference:=StartOfSession)=\"&A49&\"\", \"Bar\", \"\", \"Close\",\"5\",\"0\",\"PrimaryOnly\",,,\"False\",\"T\",\"EveryTick\")","v":105.8},1.5842534805568808E-2,{"$f":"RTD(\"cqg.rtd\",,\"StudyData\", \"Close(\"&$D$12&\") when LocalYear(\"&$D$12&\")=\"&$D$8&\" and localMonth(\"&$D$12&\") =\"&$E$8&\" and LocalDay(\"&$D$12&\")=\"&$F$8&\" and Barix(\"&$D$12&\",reference:=StartOfSession)=\"&A49&\"\", \"Bar\", \"\", \"Close\",\"5\",\"0\",\"PrimaryOnly\",,,\"False\",\"T\",\"EveryTick\")","v":104.575},0,{"$f":"RTD(\"cqg.rtd\",,\"StudyData\", \"Close(\"&$D$12&\") when LocalYear(\"&$D$12&\")=\"&$D$9&\" and localMonth(\"&$D$12&\") =\"&$E$9&\" and LocalDay(\"&$D$12&\")=\"&$F$9&\" and Barix(\"&$D$12&\",reference:=StartOfSession)=\"&A49&\"\", \"Bar\", \"\", \"Close\",\"5\",\"0\",\"PrimaryOnly\",,,\"False\",\"T\",\"EveryTick\")","v":104.52500000000001},4.5651129264777371E-3,{"$f":"RTD(\"cqg.rtd\",,\"StudyData\", \"Close(\"&$D$12&\") when LocalYear(\"&$D$12&\")=\"&$D$10&\" and localMonth(\"&$D$12&\") =\"&$E$10&\" and LocalDay(\"&$D$12&\")=\"&$F$10&\" and Barix(\"&$D$12&\",reference:=StartOfSession)=\"&A49&\"\", \"Bar\", \"\", \"Close\",\"5\",\"0\",\"PrimaryOnly\",,,\"False\",\"T\",\"EveryTick\")","v":104.375},1.8789653489507049E-2,null,null,null,""]
[49,"12:35:00",-28,{"$f":" RTD(\"cqg.rtd\",,\"StudyData\", $D$12,  \"Tick\", \"FlatTicks=0\", \"Tick\",\"D\",C50,\"PrimaryOnly\")","v":104.25},null,null,null,{"$f":"RTD(\"cqg.rtd\",,\"StudyData\", \"Close(\"&$D$12&\") when LocalYear(\"&$D$12&\")=\"&$D$1&\" and localMonth(\"&$D$12&\") =\"&$E$1&\" and LocalDay(\"&$D$12&\")=\"&$F$1&\" and Barix(\"&$D$12&\",reference:=StartOfSession)=\"&A50&\"\", \"Bar\", \"\", \"Close\",\"5\",\"0\",\"PrimaryOnly\",,,\"False\",\"T\",\"EveryTick\")","v":""},{"$error":"#N/A"},{"$f":"RTD(\"cqg.rtd\",,\"StudyData\", \"Close(\"&$D$12&\") when LocalYear(\"&$D$12&\")=\"&$D$2&\" and localMonth(\"&$D$12&\") =\"&$E$2&\" and LocalDay(\"&$D$12&\")=\"&$F$2&\" and Barix(\"&$D$12&\",reference:=StartOfSession)=\"&A50&\"\", \"Bar\", \"\", \"Close\",\"5\",\"0\",\"PrimaryOnly\",,,\"False\",\"T\",\"EveryTick\")","v":104.8},2.8711656441717765E-2,{"$f":"RTD(\"cqg.rtd\",,\"StudyData\", \"Close(\"&$D$12&\") when LocalYear(\"&$D$12&\")=\"&$D$3&\" and localMonth(\"&$D$12&\") =\"&$E$3&\" and LocalDay(\"&$D$12&\")=\"&$F$3&\" and Barix(\"&$D$12&\",reference:=StartOfSession)=\"&A50&\"\", \"Bar\", \"\", \"Close\",\"5\",\"0\",\"PrimaryOnly\",,,\"False\",\"T\",\"EveryTick\")","v":101.825},-1.9971126082771923E-2,{"$f":"RTD(\"cqg.rtd\",,\"StudyData\", \"Close(\"&$D$12&\") when LocalYear(\"&$D$12&\")=\"&$D$4&\" and localMonth(\"&$D$12&\") =\"&$E$4&\" and LocalDay(\"&$D$12&\")=\"&$F$4&\" and Barix(\"&$D$12&\",reference:=StartOfSession)=\"&A50&\"\", \"Bar\", \"\", \"Close\",\"5\",\"0\",\"PrimaryOnly\",,,\"False\",\"T\",\"EveryTick\")","v":103.97499999999999},-3.1160115052732778E-3,{"$f":"RTD(\"cqg.rtd\",,\"StudyData\", \"Close(\"&$D$12&\") when LocalYear(\"&$D$12&\")=\"&$D$5&\" and localMonth(\"&$D$12&\") =\"&$E$5&\" and LocalDay(\"&$D$12&\")=\"&$F$5&\" and Barix(\"&$D$12&\",reference:=StartOfSession)=\"&A50&\"\", \"Bar\", \"\", \"Close\",\"5\",\"0\",\"PrimaryOnly\",,,\"False\",\"T\",\"EveryTick\")","v":104.3},1.1999040076793857E-3,{"$f":"RTD(\"cqg.rtd\",,\"StudyData\", \"Close(\"&$D$12&\") when LocalYear(\"&$D$12&\")=\"&$D$6&\" and localMonth(\"&$D$12&\") =\"&$E$6&\" and LocalDay(\"&$D$12&\")=\"&$F$6&\" and Barix(\"&$D$12&\",reference:=StartOfSession)=\"&A50&\"\", \"Bar\", \"\", \"Close\",\"5\",\"0\",\"PrimaryOnly\",,,\"False\",\"T\",\"EveryTick\")","v":104.3},-1.3944693925785945E-2,{"$f":"RTD(\"cqg.rtd\",,\"StudyData\", \"Close(\"&$D$12&\") when LocalYear(\"&$D$12&\")=\"&$D$7&\" and localMonth(\"&$D$12&\") =\"&$E$7&\" and LocalDay(\"&$D$12&\")=\"&$F$7&\" and Barix(\"&$D$12&\",reference:=StartOfSession)=\"&A50&\"\", \"Bar\", \"\", \"Close\",\"5\",\"0\",\"PrimaryOnly\",,,\"False\",\"T\",\"EveryTick\")","v":105.95},1.7282765242438762E-2,{"$f":"RTD(\"cqg.rtd\",,\"StudyData\", \"Close(\"&$D$12&\") when LocalYear(\"&$D$12&\")=\"&$D$8&\" and localMonth(\"&$D$12&\") =\"&$E$8&\" and LocalDay(\"&$D$12&\")=\"&$F$8&\" and Barix(\"&$D$12&\",reference:=StartOfSession)=\"&A50&\"\", \"Bar\", \"\", \"Close\",\"5\",\"0\",\"PrimaryOnly\",,,\"False\",\"T\",\"EveryTick\")","v":104.35},-2.1515658618217405E-3,{"$f":"RTD(\"cqg.rtd\",,\"StudyData\", \"Close(\"&$D$12&\") when LocalYear(\"&$D$12&\")=\"&$D$9&\" and localMonth(\"&$D$12&\") =\"&$E$9&\" and LocalDay(\"&$D$12&\")=\"&$F$9&\" and Barix(\"&$D$12&\",reference:=StartOfSession)=\"&A50&\"\", \"Bar\", \"\", \"Close\",\"5\",\"0\",\"PrimaryOnly\",,,\"False\",\"T\",\"EveryTick\")","v":104.575},5.0456511292648314E-3,{"$f":"RTD(\"cqg.rtd\",,\"StudyData\", \"Close(\"&$D$12&\") when LocalYear(\"&$D$12&\")=\"&$D$10&\" and localMonth(\"&$D$12&\") =\"&$E$10&\" and LocalDay(\"&$D$12&\")=\"&$F$10&\" and Barix(\"&$D$12&\",reference:=StartOfSession)=\"&A50&\"\", \"Bar\", \"\", \"Close\",\"5\",\"0\",\"PrimaryOnly\",,,\"False\",\"T\",\"EveryTick\")","v":104.55},2.0497803806734938E-2,null,null,null,""]
[50,"12:40:00",-27,{"$f":" RTD(\"cqg.rtd\",,\"StudyData\", $D$12,  \"Tick\", \"FlatTicks=0\", \"Tick\",\"D\",C51,\"PrimaryOnly\")","v":104.27500000000001},null,null,null,{"$f":"RTD(\"cqg.rtd\",,\"StudyData\", \"Close(\"&$D$12&\") when LocalYear(\"&$D$12&\")=\"&$D$1&\" and localMonth(\"&$D$12&\") =\"&$E$1&\" and LocalDay(\"&$D$12&\")=\"&$F$1&\" and Barix(\"&$D$12&\",reference:=StartOfSession)=\"&A51&\"\", \"Bar\", \"\", \"Close\",\"5\",\"0\",\"PrimaryOnly\",,,\"False\",\"T\",\"EveryTick\")","v":""},{"$error":"#N/A"},{"$f":"RTD(\"cqg.rtd\",,\"StudyData\", \"Close(\"&$D$12&\") when LocalYear(\"&$D$12&\")=\"&$D$2&\" and localMonth(\"&$D$12&\") =\"&$E$2&\" and LocalDay(\"&$D$12&\")=\"&$F$2&\" and Barix(\"&$D$12&\",reference:=StartOfSession)=\"&A51&\"\", \"Bar\", \"\", \"Close\",\"5\",\"0\",\"PrimaryOnly\",,,\"False\",\"T\",\"EveryTick\")","v":104.75},2.8220858895705522E-2,{"$f":"RTD(\"cqg.rtd\",,\"StudyData\", \"Close(\"&$D$12&\") when LocalYear(\"&$D$12&\")=\"&$D$3&\" and localMonth(\"&$D$12&\") =\"&$E$3&\" and LocalDay(\"&$D$12&\")=\"&$F$3&\" and Barix(\"&$D$12&\",reference:=StartOfSession)=\"&A51&\"\", \"Bar\", \"\", \"Close\",\"5\",\"0\",\"PrimaryOnly\",,,\"False\",\"T\",\"EveryTick\")","v":101.75},-2.0692974013474547E-2,{"$f":"RTD(\"cqg.rtd\",,\"StudyData\", \"Close(\"&$D$12&\") when LocalYear(\"&$D$12&\")=\"&$D$4&\" and localMonth(\"&$D$12&\") =\"&$E$4&\" and LocalDay(\"&$D$12&\")=\"&$F$4&\" and Barix(\"&$D$12&\",reference:=StartOfSession)=\"&A51&\"\", \"Bar\", \"\", \"Close\",\"5\",\"0\",\"PrimaryOnly\",,,\"False\",\"T\",\"EveryTick\")","v":104.02500000000001},-2.6366251198465147E-3,{"$f":"RTD(\"cqg.rtd\",,\"StudyData\", \"Close(\"&$D$12&\") when LocalYear(\"&$D$12&\")=\"&$D$5&\" and localMonth(\"&$D$12&\") =\"&$E$5&\" and LocalDay(\"&$D$12&\")=\"&$F$5&\" and Barix(\"&$D$12&\",reference:=StartOfSession)=\"&A51&\"\", \"Bar\", \"\", \"Close\",\"5\",\"0\",\"PrimaryOnly\",,,\"False\",\"T\",\"EveryTick\")","v":104.47499999999999},2.8797696184304986E-3,{"$f":"RTD(\"cqg.rtd\",,\"StudyData\", \"Close(\"&$D$12&\") when LocalYear(\"&$D$12&\")=\"&$D$6&\" and localMonth(\"&$D$12&\") =\"&$E$6&\" and LocalDay(\"&$D$12&\")=\"&$F$6&\" and Barix(\"&$D$12&\",reference:=StartOfSession)=\"&A51&\"\", \"Bar\", \"\", \"Close\",\"5\",\"0\",\"PrimaryOnly\",,,\"False\",\"T\",\"EveryTick\")","v":104.175},-1.5126447648310172E-2,{"$f":"RTD(\"cqg.rtd\",,\"StudyData\", \"Close(\"&$D$12&\") when LocalYear(\"&$D$12&\")=\"&$D$7&\" and localMonth(\"&$D$12&\") =\"&$E$7&\" and LocalDay(\"&$D$12&\")=\"&$F$7&\" and Barix(\"&$D$12&\",reference:=StartOfSession)=\"&A51&\"\", \"Bar\", \"\", \"Close\",\"5\",\"0\",\"PrimaryOnly\",,,\"False\",\"T\",\"EveryTick\")","v":105.95},1.7282765242438762E-2,{"$f":"RTD(\"cqg.rtd\",,\"StudyData\", \"Close(\"&$D$12&\") when LocalYear(\"&$D$12&\")=\"&$D$8&\" and localMonth(\"&$D$12&\") =\"&$E$8&\" and LocalDay(\"&$D$12&\")=\"&$F$8&\" and Barix(\"&$D$12&\",reference:=StartOfSession)=\"&A51&\"\", \"Bar\", \"\", \"Close\",\"5\",\"0\",\"PrimaryOnly\",,,\"False\",\"T\",\"EveryTick\")","v":103.9},-6.4546975854649496E-3,{"$f":"RTD(\"cqg.rtd\",,\"StudyData\", \"Close(\"&$D$12&\") when LocalYear(\"&$D$12&\")=\"&$D$9&\" and localMonth(\"&$D$12&\") =\"&$E$9&\" and LocalDay(\"&$D$12&\")=\"&$F$9&\" and Barix(\"&$D$12&\",reference:=StartOfSession)=\"&A51&\"\", \"Bar\", \"\", \"Close\",\"5\",\"0\",\"PrimaryOnly\",,,\"False\",\"T\",\"EveryTick\")","v":104.65},5.7664584334455411E-3,{"$f":"RTD(\"cqg.rtd\",,\"StudyData\", \"Close(\"&$D$12&\") when LocalYear(\"&$D$12&\")=\"&$D$10&\" and localMonth(\"&$D$12&\") =\"&$E$10&\" and LocalDay(\"&$D$12&\")=\"&$F$10&\" and Barix(\"&$D$12&\",reference:=StartOfSession)=\"&A51&\"\", \"Bar\", \"\", \"Close\",\"5\",\"0\",\"PrimaryOnly\",,,\"False\",\"T\",\"EveryTick\")","v":104.55},2.0497803806734938E-2,null,null,null,""]
[51,"12:45:00",-26,{"$f":" RTD(\"cqg.rtd\",,\"StudyData\", $D$12,  \"Tick\", \"FlatTicks=0\", \"Tick\",\"D\",C52,\"PrimaryOnly\")","v":104.22499999999999},null,null,null,{"$f":"RTD(\"cqg.rtd\",,\"StudyData\", \"Close(\"&$D$12&\") when LocalYear(\"&$D$12&\")=\"&$D$1&\" and localMonth(\"&$D$12&\") =\"&$E$1&\" and LocalDay(\"&$D$12&\")=\"&$F$1&\" and Barix(\"&$D$12&\",reference:=StartOfSession)=\"&A52&\"\", \"Bar\", \"\", \"Close\",\"5\",\"0\",\"PrimaryOnly\",,,\"False\",\"T\",\"EveryTick\")","v":""},{"$error":"#N/A"},{"$f":"RTD(\"cqg.rtd\",,\"StudyData\", \"Close(\"&$D$12&\") when LocalYear(\"&$D$12&\")=\"&$D$2&\" and localMonth(\"&$D$12&\") =\"&$E$2&\" and LocalDay(\"&$D$12&\")=\"&$F$2&\" and Barix(\"&$D$12&\",reference:=StartOfSession)=\"&A52&\"\", \"Bar\", \"\", \"Close\",\"5\",\"0\",\"PrimaryOnly\",,,\"False\",\"T\",\"EveryTick\")","v":104.825},2.8957055214723953E-2,{"$f":"RTD(\"cqg.rtd\",,\"StudyData\", \"Close(\"&$D$12&\") when LocalYear(\"&$D$12&\")=\"&$D$3&\" and localMonth(\"&$D$12&\") =\"&$E$3&\" and LocalDay(\"&$D$12&\")=\"&$F$3&\" and Barix(\"&$D$12&\",reference:=StartOfSession)=\"&A52&\"\", \"Bar\", \"\", \"Close\",\"5\",\"0\",\"PrimaryOnly\",,,\"False\",\"T\",\"EveryTick\")","v":101.8},-2.0211742059672844E-2,{"$f":"RTD(\"cqg.rtd\",,\"StudyData\", \"Close(\"&$D$12&\") when LocalYear(\"&$D$12&\")=\"&$D$4&\" and localMonth(\"&$D$12&\") =\"&$E$4&\" and LocalDay(\"&$D$12&\")=\"&$F$4&\" and Barix(\"&$D$12&\",reference:=StartOfSession)=\"&A52&\"\", \"Bar\", \"\", \"Close\",\"5\",\"0\",\"PrimaryOnly\",,,\"False\",\"T\",\"EveryTick\")","v":104.05},-2.3969319271332696E-3,{"$f":"RTD(\"cqg.rtd\",,\"StudyData\", \"Close(\"&$D$12&\") when LocalYear(\"&$D$12&\")=\"&$D$5&\" and localMonth(\"&$D$12&\") =\"&$E$5&\" and LocalDay(\"&$D$12&\")=\"&$F$5&\" and Barix(\"&$D$12&\",reference:=StartOfSession)=\"&A52&\"\", \"Bar\", \"\", \"Close\",\"5\",\"0\",\"PrimaryOnly\",,,\"False\",\"T\",\"EveryTick\")","v":104.425},2.3998080153587713E-3,{"$f":"RTD(\"cqg.rtd\",,\"StudyData\", \"Close(\"&$D$12&\") when LocalYear(\"&$D$12&\")=\"&$D$6&\" and localMonth(\"&$D$12&\") =\"&$E$6&\" and LocalDay(\"&$D$12&\")=\"&$F$6&\" and Barix(\"&$D$12&\",reference:=StartOfSession)=\"&A52&\"\", \"Bar\", \"\", \"Close\",\"5\",\"0\",\"PrimaryOnly\",,,\"False\",\"T\",\"EveryTick\")","v":104.15},-1.5362798392814937E-2,{"$f":"RTD(\"cqg.rtd\",,\"StudyData\", \"Close(\"&$D$12&\") when LocalYear(\"&$D$12&\")=\"&$D$7&\" and localMonth(\"&$D$12&\") =\"&$E$7&\" and LocalDay(\"&$D$12&\")=\"&$F$7&\" and Barix(\"&$D$12&\",reference:=StartOfSession)=\"&A52&\"\", \"Bar\", \"\", \"Close\",\"5\",\"0\",\"PrimaryOnly\",,,\"False\",\"T\",\"EveryTick\")","v":105.97499999999999},1.7522803648583662E-2,{"$f":"RTD(\"cqg.rtd\",,\"StudyData\", \"Close(\"&$D$12&\") when LocalYear(\"&$D$12&\")=\"&$D$8&\" and localMonth(\"&$D$12&\") =\"&$E$8&\" and LocalDay(\"&$D$12&\")=\"&$F$8&\" and Barix(\"&$D$12&\",reference:=StartOfSession)=\"&A52&\"\", \"Bar\", \"\", \"Close\",\"5\",\"0\",\"PrimaryOnly\",,,\"False\",\"T\",\"EveryTick\")","v":103.9},-6.4546975854649496E-3,{"$f":"RTD(\"cqg.rtd\",,\"StudyData\", \"Close(\"&$D$12&\") when LocalYear(\"&$D$12&\")=\"&$D$9&\" and localMonth(\"&$D$12&\") =\"&$E$9&\" and LocalDay(\"&$D$12&\")=\"&$F$9&\" and Barix(\"&$D$12&\",reference:=StartOfSession)=\"&A52&\"\", \"Bar\", \"\", \"Close\",\"5\",\"0\",\"PrimaryOnly\",,,\"False\",\"T\",\"EveryTick\")","v":104.72499999999999},6.4872657376261137E-3,{"$f":"RTD(\"cqg.rtd\",,\"StudyData\", \"Close(\"&$D$12&\") when LocalYear(\"&$D$12&\")=\"&$D$10&\" and localMonth(\"&$D$12&\") =\"&$E$10&\" and LocalDay(\"&$D$12&\")=\"&$F$10&\" and Barix(\"&$D$12&\",reference:=StartOfSession)=\"&A52&\"\", \"Bar\", \"\", \"Close\",\"5\",\"0\",\"PrimaryOnly\",,,\"False\",\"T\",\"EveryTick\")","v":104.52500000000001},2.0253782332845319E-2,null,null,null,""]
[52,"12:50:00",-25,{"$f":" RTD(\"cqg.rtd\",,\"StudyData\", $D$12,  \"Tick\", \"FlatTicks=0\", \"Tick\",\"D\",C53,\"PrimaryOnly\")","v":104.2},null,null,null,{"$f":"RTD(\"cqg.rtd\",,\"StudyData\", \"Close(\"&$D$12&\") when LocalYear(\"&$D$12&\")=\"&$D$1&\" and localMonth(\"&$D$12&\") =\"&$E$1&\" and LocalDay(\"&$D$12&\")=\"&$F$1&\" and Barix(\"&$D$12&\",reference:=StartOfSession)=\"&A53&\"\", \"Bar\", \"\", \"Close\",\"5\",\"0\",\"PrimaryOnly\",,,\"False\",\"T\",\"EveryTick\")","v":""},{"$error":"#N/A"},{"$f":"RTD(\"cqg.rtd\",,\"StudyData\", \"Close(\"&$D$12&\") when LocalYear(\"&$D$12&\")=\"&$D$2&\" and localMonth(\"&$D$12&\") =\"&$E$2&\" and LocalDay(\"&$D$12&\")=\"&$F$2&\" and Barix(\"&$D$12&\",reference:=StartOfSession)=\"&A53&\"\", \"Bar\", \"\", \"Close\",\"5\",\"0\",\"PrimaryOnly\",,,\"False\",\"T\",\"EveryTick\")","v":104.825},2.8957055214723953E-2,{"$f":"RTD(\"cqg.rtd\",,\"StudyData\", \"Close(\"&$D$12&\") when LocalYear(\"&$D$12&\")=\"&$D$3&\" and localMonth(\"&$D$12&\") =\"&$E$3&\" and LocalDay(\"&$D$12&\")=\"&$F$3&\" and Barix(\"&$D$12&\",reference:=StartOfSession)=\"&A53&\"\", \"Bar\", \"\", \"Close\",\"5\",\"0\",\"PrimaryOnly\",,,\"False\",\"T\",\"EveryTick\")","v":102.075},-1.756496631376326E-2,{"$f":"RTD(\"cqg.rtd\",,\"StudyData\", \"Close(\"&$D$12&\") when LocalYear(\"&$D$12&\")=\"&$D$4&\" and localMonth(\"&$D$12&\") =\"&$E$4&\" and LocalDay(\"&$D$12&\")=\"&$F$4&\" and Barix(\"&$D$12&\",reference:=StartOfSession)=\"&A53&\"\", \"Bar\", \"\", \"Close\",\"5\",\"0\",\"PrimaryOnly\",,,\"False\",\"T\",\"EveryTick\")","v":103.925},-3.5953978906999042E-3,{"$f":"RTD(\"cqg.rtd\",,\"StudyData\", \"Close(\"&$D$12&\") when LocalYear(\"&$D$12&\")=\"&$D$5&\" and localMonth(\"&$D$12&\") =\"&$E$5&\" and LocalDay(\"&$D$12&\")=\"&$F$5&\" and Barix(\"&$D$12&\",reference:=StartOfSession)=\"&A53&\"\", \"Bar\", \"\", \"Close\",\"5\",\"0\",\"PrimaryOnly\",,,\"False\",\"T\",\"EveryTick\")","v":104.425},2.3998080153587713E-3,{"$f":"RTD(\"cqg.rtd\",,\"StudyData\", \"Close(\"&$D$12&\") when LocalYear(\"&$D$12&\")=\"&$D$6&\" and localMonth(\"&$D$12&\") =\"&$E$6&\" and LocalDay(\"&$D$12&\")=\"&$F$6&\" and Barix(\"&$D$12&\",reference:=StartOfSession)=\"&A53&\"\", \"Bar\", \"\", \"Close\",\"5\",\"0\",\"PrimaryOnly\",,,\"False\",\"T\",\"EveryTick\")","v":104.2},-1.4890096903805274E-2,{"$f":"RTD(\"cqg.rtd\",,\"StudyData\", \"Close(\"&$D$12&\") when LocalYear(\"&$D$12&\")=\"&$D$7&\" and localMonth(\"&$D$12&\") =\"&$E$7&\" and LocalDay(\"&$D$12&\")=\"&$F$7&\" and Barix(\"&$D$12&\",reference:=StartOfSession)=\"&A53&\"\", \"Bar\", \"\", \"Close\",\"5\",\"0\",\"PrimaryOnly\",,,\"False\",\"T\",\"EveryTick\")","v":106.125},1.8963034085453617E-2,{"$f":"RTD(\"cqg.rtd\",,\"StudyData\", \"Close(\"&$D$12&\") when LocalYear(\"&$D$12&\")=\"&$D$8&\" and localMonth(\"&$D$12&\") =\"&$E$8&\" and LocalDay(\"&$D$12&\")=\"&$F$8&\" and Barix(\"&$D$12&\",reference:=StartOfSession)=\"&A53&\"\", \"Bar\", \"\", \"Close\",\"5\",\"0\",\"PrimaryOnly\",,,\"False\",\"T\",\"EveryTick\")","v":103.925},-6.2156347119292918E-3,{"$f":"RTD(\"cqg.rtd\",,\"StudyData\", \"Close(\"&$D$12&\") when LocalYear(\"&$D$12&\")=\"&$D$9&\" and localMonth(\"&$D$12&\") =\"&$E$9&\" and LocalDay(\"&$D$12&\")=\"&$F$9&\" and Barix(\"&$D$12&\",reference:=StartOfSession)=\"&A53&\"\", \"Bar\", \"\", \"Close\",\"5\",\"0\",\"PrimaryOnly\",,,\"False\",\"T\",\"EveryTick\")","v":104.8},7.2080730418068242E-3,{"$f":"RTD(\"cqg.rtd\",,\"StudyData\", \"Close(\"&$D$12&\") when LocalYear(\"&$D$12&\")=\"&$D$10&\" and localMonth(\"&$D$12&\") =\"&$E$10&\" and LocalDay(\"&$D$12&\")=\"&$F$10&\" and Barix(\"&$D$12&\",reference:=StartOfSession)=\"&A53&\"\", \"Bar\", \"\", \"Close\",\"5\",\"0\",\"PrimaryOnly\",,,\"False\",\"T\",\"EveryTick\")","v":104.5},2.0009760858955561E-2,null,null,null,""]
[53,"12:55:00",-24,{"$f":" RTD(\"cqg.rtd\",,\"StudyData\", $D$12,  \"Tick\", \"FlatTicks=0\", \"Tick\",\"D\",C54,\"PrimaryOnly\")","v":104.175},null,null,null,{"$f":"RTD(\"cqg.rtd\",,\"StudyData\", \"Close(\"&$D$12&\") when LocalYear(\"&$D$12&\")=\"&$D$1&\" and localMonth(\"&$D$12&\") =\"&$E$1&\" and LocalDay(\"&$D$12&\")=\"&$F$1&\" and Barix(\"&$D$12&\",reference:=StartOfSession)=\"&A54&\"\", \"Bar\", \"\", \"Close\",\"5\",\"0\",\"PrimaryOnly\",,,\"False\",\"T\",\"EveryTick\")","v":""},{"$error":"#N/A"},{"$f":"RTD(\"cqg.rtd\",,\"StudyData\", \"Close(\"&$D$12&\") when LocalYear(\"&$D$12&\")=\"&$D$2&\" and localMonth(\"&$D$12&\") =\"&$E$2&\" and LocalDay(\"&$D$12&\")=\"&$F$2&\" and Barix(\"&$D$12&\",reference:=StartOfSession)=\"&A54&\"\", \"Bar\", \"\", \"Close\",\"5\",\"0\",\"PrimaryOnly\",,,\"False\",\"T\",\"EveryTick\")","v":104.77500000000001},2.8466257668711713E-2,{"$f":"RTD(\"cqg.rtd\",,\"StudyData\", \"Close(\"&$D$12&\") when LocalYear(\"&$D$12&\")=\"&$D$3&\" and localMonth(\"&$D$12&\") =\"&$E$3&\" and LocalDay(\"&$D$12&\")=\"&$F$3&\" and Barix(\"&$D$12&\",reference:=StartOfSession)=\"&A54&\"\", \"Bar\", \"\", \"Close\",\"5\",\"0\",\"PrimaryOnly\",,,\"False\",\"T\",\"EveryTick\")","v":101.875},-1.9489894128970217E-2,{"$f":"RTD(\"cqg.rtd\",,\"StudyData\", \"Close(\"&$D$12&\") when LocalYear(\"&$D$12&\")=\"&$D$4&\" and localMonth(\"&$D$12&\") =\"&$E$4&\" and LocalDay(\"&$D$12&\")=\"&$F$4&\" and Barix(\"&$D$12&\",reference:=StartOfSession)=\"&A54&\"\", \"Bar\", \"\", \"Close\",\"5\",\"0\",\"PrimaryOnly\",,,\"False\",\"T\",\"EveryTick\")","v":103.9},-3.8350910834131493E-3,{"$f":"RTD(\"cqg.rtd\",,\"StudyData\", \"Close(\"&$D$12&\") when LocalYear(\"&$D$12&\")=\"&$D$5&\" and localMonth(\"&$D$12&\") =\"&$E$5&\" and LocalDay(\"&$D$12&\")=\"&$F$5&\" and Barix(\"&$D$12&\",reference:=StartOfSession)=\"&A54&\"\", \"Bar\", \"\", \"Close\",\"5\",\"0\",\"PrimaryOnly\",,,\"False\",\"T\",\"EveryTick\")","v":104.3},1.1999040076793857E-3,{"$f":"RTD(\"cqg.rtd\",,\"StudyData\", \"Close(\"&$D$12&\") when LocalYear(\"&$D$12&\")=\"&$D$6&\" and localMonth(\"&$D$12&\") =\"&$E$6&\" and LocalDay(\"&$D$12&\")=\"&$F$6&\" and Barix(\"&$D$12&\",reference:=StartOfSession)=\"&A54&\"\", \"Bar\", \"\", \"Close\",\"5\",\"0\",\"PrimaryOnly\",,,\"False\",\"T\",\"EveryTick\")","v":104.175},-1.5126447648310172E-2,{"$f":"RTD(\"cqg.rtd\",,\"StudyData\", \"Close(\"&$D$12&\") when LocalYear(\"&$D$12&\")=\"&$D$7&\" and localMonth(\"&$D$12&\") =\"&$E$7&\" and LocalDay(\"&$D$12&\")=\"&$F$7&\" and Barix(\"&$D$12&\",reference:=StartOfSession)=\"&A54&\"\", \"Bar\", \"\", \"Close\",\"5\",\"0\",\"PrimaryOnly\",,,\"False\",\"T\",\"EveryTick\")","v":105.77500000000001},1.5602496399423908E-2,{"$f":"RTD(\"cqg.rtd\",,\"StudyData\", \"Close(\"&$D$12&\") when LocalYear(\"&$D$12&\")=\"&$D$8&\" and localMonth(\"&$D$12&\") =\"&$E$8&\" and LocalDay(\"&$D$12&\")=\"&$F$8&\" and Barix(\"&$D$12&\",reference:=StartOfSession)=\"&A54&\"\", \"Bar\", \"\", \"Close\",\"5\",\"0\",\"PrimaryOnly\",,,\"False\",\"T\",\"EveryTick\")","v":104.15},-4.0640688501075509E-3,{"$f":"RTD(\"cqg.rtd\",,\"StudyData\", \"Close(\"&$D$12&\") when LocalYear(\"&$D$12&\")=\"&$D$9&\" and localMonth(\"&$D$12&\") =\"&$E$9&\" and LocalDay(\"&$D$12&\")=\"&$F$9&\" and Barix(\"&$D$12&\",reference:=StartOfSession)=\"&A54&\"\", \"Bar\", \"\", \"Close\",\"5\",\"0\",\"PrimaryOnly\",,,\"False\",\"T\",\"EveryTick\")","v":104.575},5.0456511292648314E-3,{"$f":"RTD(\"cqg.rtd\",,\"StudyData\", \"Close(\"&$D$12&\") when LocalYear(\"&$D$12&\")=\"&$D$10&\" and localMonth(\"&$D$12&\") =\"&$E$10&\" and LocalDay(\"&$D$12&\")=\"&$F$10&\" and Barix(\"&$D$12&\",reference:=StartOfSession)=\"&A54&\"\", \"Bar\", \"\", \"Close\",\"5\",\"0\",\"PrimaryOnly\",,,\"False\",\"T\",\"EveryTick\")","v":104.05},1.5617374328940892E-2,null,null,null,""]
[54,"13:00:00",-23,{"$f":" RTD(\"cqg.rtd\",,\"StudyData\", $D$12,  \"Tick\", \"FlatTicks=0\", \"Tick\",\"D\",C55,\"PrimaryOnly\")","v":104.15},null,null,null,{"$f":"RTD(\"cqg.rtd\",,\"StudyData\", \"Close(\"&$D$12&\") when LocalYear(\"&$D$12&\")=\"&$D$1&\" and localMonth(\"&$D$12&\") =\"&$E$1&\" and LocalDay(\"&$D$12&\")=\"&$F$1&\" and Barix(\"&$D$12&\",reference:=StartOfSession)=\"&A55&\"\", \"Bar\", \"\", \"Close\",\"5\",\"0\",\"PrimaryOnly\",,,\"False\",\"T\",\"EveryTick\")","v":""},{"$error":"#N/A"},{"$f":"RTD(\"cqg.rtd\",,\"StudyData\", \"Close(\"&$D$12&\") when LocalYear(\"&$D$12&\")=\"&$D$2&\" and localMonth(\"&$D$12&\") =\"&$E$2&\" and LocalDay(\"&$D$12&\")=\"&$F$2&\" and Barix(\"&$D$12&\",reference:=StartOfSession)=\"&A55&\"\", \"Bar\", \"\", \"Close\",\"5\",\"0\",\"PrimaryOnly\",,,\"False\",\"T\",\"EveryTick\")","v":104.875},2.9447852760736196E-2,{"$f":"RTD(\"cqg.rtd\",,\"StudyData\", \"Close(\"&$D$12&\") when LocalYear(\"&$D$12&\")=\"&$D$3&\" and localMonth(\"&$D$12&\") =\"&$E$3&\" and LocalDay(\"&$D$12&\")=\"&$F$3&\" and Barix(\"&$D$12&\",reference:=StartOfSession)=\"&A55&\"\", \"Bar\", \"\", \"Close\",\"5\",\"0\",\"PrimaryOnly\",,,\"False\",\"T\",\"EveryTick\")","v":101.5},-2.3099133782483211E-2,{"$f":"RTD(\"cqg.rtd\",,\"StudyData\", \"Close(\"&$D$12&\") when LocalYear(\"&$D$12&\")=\"&$D$4&\" and localMonth(\"&$D$12&\") =\"&$E$4&\" and LocalDay(\"&$D$12&\")=\"&$F$4&\" and Barix(\"&$D$12&\",reference:=StartOfSession)=\"&A55&\"\", \"Bar\", \"\", \"Close\",\"5\",\"0\",\"PrimaryOnly\",,,\"False\",\"T\",\"EveryTick\")","v":103.85},-4.3144774688399119E-3,{"$f":"RTD(\"cqg.rtd\",,\"StudyData\", \"Close(\"&$D$12&\") when LocalYear(\"&$D$12&\")=\"&$D$5&\" and localMonth(\"&$D$12&\") =\"&$E$5&\" and LocalDay(\"&$D$12&\")=\"&$F$5&\" and Barix(\"&$D$12&\",reference:=StartOfSession)=\"&A55&\"\", \"Bar\", \"\", \"Close\",\"5\",\"0\",\"PrimaryOnly\",,,\"False\",\"T\",\"EveryTick\")","v":104.75},5.5195584353252012E-3,{"$f":"RTD(\"cqg.rtd\",,\"StudyData\", \"Close(\"&$D$12&\") when LocalYear(\"&$D$12&\")=\"&$D$6&\" and localMonth(\"&$D$12&\") =\"&$E$6&\" and LocalDay(\"&$D$12&\")=\"&$F$6&\" and Barix(\"&$D$12&\",reference:=StartOfSession)=\"&A55&\"\", \"Bar\", \"\", \"Close\",\"5\",\"0\",\"PrimaryOnly\",,,\"False\",\"T\",\"EveryTick\")","v":104.4},-1.2999290947766485E-2,{"$f":"RTD(\"cqg.rtd\",,\"StudyData\", \"Close(\"&$D$12&\") when LocalYear(\"&$D$12&\")=\"&$D$7&\" and localMonth(\"&$D$12&\") =\"&$E$7&\" and LocalDay(\"&$D$12&\")=\"&$F$7&\" and Barix(\"&$D$12&\",reference:=StartOfSession)=\"&A55&\"\", \"Bar\", \"\", \"Close\",\"5\",\"0\",\"PrimaryOnly\",,,\"False\",\"T\",\"EveryTick\")","v":106.2},1.9683149303888595E-2,{"$f":"RTD(\"cqg.rtd\",,\"StudyData\", \"Close(\"&$D$12&\") when LocalYear(\"&$D$12&\")=\"&$D$8&\" and localMonth(\"&$D$12&\") =\"&$E$8&\" and LocalDay(\"&$D$12&\")=\"&$F$8&\" and Barix(\"&$D$12&\",reference:=StartOfSession)=\"&A55&\"\", \"Bar\", \"\", \"Close\",\"5\",\"0\",\"PrimaryOnly\",,,\"False\",\"T\",\"EveryTick\")","v":104.47499999999999},-9.5625149414304113E-4,{"$f":"RTD(\"cqg.rtd\",,\"StudyData\", \"Close(\"&$D$12&\") when LocalYear(\"&$D$12&\")=\"&$D$9&\" and localMonth(\"&$D$12&\") =\"&$E$9&\" and LocalDay(\"&$D$12&\")=\"&$F$9&\" and Barix(\"&$D$12&\",reference:=StartOfSession)=\"&A55&\"\", \"Bar\", \"\", \"Close\",\"5\",\"0\",\"PrimaryOnly\",,,\"False\",\"T\",\"EveryTick\")","v":104.85},7.6886112445939177E-3,{"$f":"RTD(\"cqg.rtd\",,\"StudyData\", \"Close(\"&$D$12&\") when LocalYear(\"&$D$12&\")=\"&$D$10&\" and localMonth(\"&$D$12&\") =\"&$E$10&\" and LocalDay(\"&$D$12&\")=\"&$F$10&\" and Barix(\"&$D$12&\",reference:=StartOfSession)=\"&A55&\"\", \"Bar\", \"\", \"Close\",\"5\",\"0\",\"PrimaryOnly\",,,\"False\",\"T\",\"EveryTick\")","v":104.2},1.7081503172279161E-2,null,null,null,""]
[null,null,-22,{"$f":" RTD(\"cqg.rtd\",,\"StudyData\", $D$12,  \"Tick\", \"FlatTicks=0\", \"Tick\",\"D\",C56,\"PrimaryOnly\")","v":104.125}]
[null,null,-21,{"$f":" RTD(\"cqg.rtd\",,\"StudyData\", $D$12,  \"Tick\", \"FlatTicks=0\", \"Tick\",\"D\",C57,\"PrimaryOnly\")","v":104.175}]
[null,null,-20,{"$f":" RTD(\"cqg.rtd\",,\"StudyData\", $D$12,  \"Tick\", \"FlatTicks=0\", \"Tick\",\"D\",C58,\"PrimaryOnly\")","v":104.15}]
[null,null,-19,{"$f":" RTD(\"cqg.rtd\",,\"StudyData\", $D$12,  \"Tick\", \"FlatTicks=0\", \"Tick\",\"D\",C59,\"PrimaryOnly\")","v":104.175}]
[null,null,-18,{"$f":" RTD(\"cqg.rtd\",,\"StudyData\", $D$12,  \"Tick\", \"FlatTicks=0\", \"Tick\",\"D\",C60,\"PrimaryOnly\")","v":104.2}]
[null,null,-17,{"$f":" RTD(\"cqg.rtd\",,\"StudyData\", $D$12,  \"Tick\", \"FlatTicks=0\", \"Tick\",\"D\",C61,\"PrimaryOnly\")","v":104.25}]
[null,null,-16,{"$f":" RTD(\"cqg.rtd\",,\"StudyData\", $D$12,  \"Tick\", \"FlatTicks=0\", \"Tick\",\"D\",C62,\"PrimaryOnly\")","v":104.27500000000001}]
[null,null,-15,{"$f":" RTD(\"cqg.rtd\",,\"StudyData\", $D$12,  \"Tick\", \"FlatTicks=0\", \"Tick\",\"D\",C63,\"PrimaryOnly\")","v":104.25}]
[null,null,-14,{"$f":" RTD(\"cqg.rtd\",,\"StudyData\", $D$12,  \"Tick\", \"FlatTicks=0\", \"Tick\",\"D\",C64,\"PrimaryOnly\")","v":104.3}]
[null,null,-13,{"$f":" RTD(\"cqg.rtd\",,\"StudyData\", $D$12,  \"Tick\", \"FlatTicks=0\", \"Tick\",\"D\",C65,\"PrimaryOnly\")","v":104.325}]
[null,null,-12,{"$f":" RTD(\"cqg.rtd\",,\"StudyData\", $D$12,  \"Tick\", \"FlatTicks=0\", \"Tick\",\"D\",C66,\"PrimaryOnly\")","v":104.3}]
[null,null,-11,{"$f":" RTD(\"cqg.rtd\",,\"StudyData\", $D$12,  \"Tick\", \"FlatTicks=0\", \"Tick\",\"D\",C67,\"PrimaryOnly\")","v":104.27500000000001}]
[null,null,-10,{"$f":" RTD(\"cqg.rtd\",,\"StudyData\", $D$12,  \"Tick\", \"FlatTicks=0\", \"Tick\",\"D\",C68,\"PrimaryOnly\")","v":104.3}]
[null,null,-9,{"$f":" RTD(\"cqg.rtd\",,\"StudyData\", $D$12,  \"Tick\", \"FlatTicks=0\", \"Tick\",\"D\",C69,\"PrimaryOnly\")","v":104.27500000000001}]
[null,null,-8,{"$f":" RTD(\"cqg.rtd\",,\"StudyData\", $D$12,  \"Tick\", \"FlatTicks=0\", \"Tick\",\"D\",C70,\"PrimaryOnly\")","v":104.3}]
[null,null,-7,{"$f":" RTD(\"cqg.rtd\",,\"StudyData\", $D$12,  \"Tick\", \"FlatTicks=0\", \"Tick\",\"D\",C71,\"PrimaryOnly\")","v":104.325}]
[null,null,-6,{"$f":" RTD(\"cqg.rtd\",,\"StudyData\", $D$12,  \"Tick\", \"FlatTicks=0\", \"Tick\",\"D\",C72,\"PrimaryOnly\")","v":104.35}]
[null,null,-5,{"$f":" RTD(\"cqg.rtd\",,\"StudyData\", $D$12,  \"Tick\", \"FlatTicks=0\", \"Tick\",\"D\",C73,\"PrimaryOnly\")","v":104.375}]
[null,null,-4,{"$f":" RTD(\"cqg.rtd\",,\"StudyData\", $D$12,  \"Tick\", \"FlatTicks=0\", \"Tick\",\"D\",C74,\"PrimaryOnly\")","v":104.4}]
[null,null,-3,{"$f":" RTD(\"cqg.rtd\",,\"StudyData\", $D$12,  \"Tick\", \"FlatTicks=0\", \"Tick\",\"D\",C75,\"PrimaryOnly\")","v":104.425}]
[null,null,-2,{"$f":" RTD(\"cqg.rtd\",,\"StudyData\", $D$12,  \"Tick\", \"FlatTicks=0\", \"Tick\",\"D\",C76,\"PrimaryOnly\")","v":104.4}]
[null,null,-1,{"$f":" RTD(\"cqg.rtd\",,\"StudyData\", $D$12,  \"Tick\", \"FlatTicks=0\", \"Tick\",\"D\",C77,\"PrimaryOnly\")","v":104.375}]
[null,null,0,{"$f":" RTD(\"cqg.rtd\",,\"StudyData\", $D$12,  \"Tick\", \"FlatTicks=0\", \"Tick\",\"D\",C78,\"PrimaryOnly\")","v":104.4}]

{"sheet":"Sheet4 (4)","index":8,"n_rows":68,"n_cols":20,"rows_kept":68,"cut":false,"hidden":true,"merged":[]}
[null,{"$f":"'Sheet3 (4)'!I1","v":-2.3860653781919048E-4},{"$f":"'Sheet3 (4)'!K1","v":-8.8343558282209141E-3},null,{"$f":"'Sheet3 (4)'!M1","v":-2.6467757459095829E-3},null,{"$f":"'Sheet3 (4)'!O1","v":-4.7938638542662664E-4},null,{"$f":"'Sheet3 (4)'!Q1","v":-1.439884809215181E-3},null,{"$f":"'Sheet3 (4)'!S1","v":2.1271567005435527E-3},null,{"$f":"'Sheet3 (4)'!U1","v":5.5208833413345039E-3},null,{"$f":"'Sheet3 (4)'!W1","v":3.5859431030360986E-3},null,{"$f":"'Sheet3 (4)'!Y1","v":8.4094185487746283E-3},null,{"$f":"'Sheet3 (4)'!AA1","v":1.2201073694485115E-3}]
[null,{"$f":"'Sheet3 (4)'!I2","v":-7.1581961345743581E-4},{"$f":"'Sheet3 (4)'!K2","v":-1.0552147239263832E-2},{"$f":"CORREL($B$1:B2,$C$1:C2)","v":1},{"$f":"'Sheet3 (4)'!M2","v":-7.6997112608278278E-3},{"$f":"CORREL($B$1:B2,$E$1:E2)","v":1},{"$f":"'Sheet3 (4)'!O2","v":-9.5877277085325329E-4},{"$f":"CORREL($B$1:B2,$G$1:G2)","v":1},{"$f":"'Sheet3 (4)'!Q2","v":2.3998080153593169E-4},{"$f":"CORREL($B$1:B2,$I$1:I2)","v":-1},{"$f":"'Sheet3 (4)'!S2","v":2.1271567005435527E-3},{"$f":"CORREL($B$1:B2,$K$1:K2)","v":{"$error":"#DIV/0!"}},{"$f":"'Sheet3 (4)'!U2","v":7.6812289966394342E-3},{"$f":"CORREL($B$1:B2,$M$1:M2)","v":-1},{"$f":"'Sheet3 (4)'!W2","v":3.8250059765717569E-3},{"$f":"CORREL($B$1:B2,$O$1:O2)","v":-1},{"$f":"'Sheet3 (4)'!Y2","v":7.928880345987533E-3},{"$f":"CORREL($B$1:B2,$Q$1:Q2)","v":1},{"$f":"'Sheet3 (4)'!AA2","v":1.4641288433381305E-3},{"$f":"CORREL($B$1:B2,$S$1:S2)","v":-1}]
[null,{"$f":"'Sheet3 (4)'!I3","v":-3.5790980672870433E-3},{"$f":"'Sheet3 (4)'!K3","v":-9.3251533742331576E-3},{"$f":"CORREL($B$1:B3,$C$1:C3)","v":-0.10988691536375603},{"$f":"'Sheet3 (4)'!M3","v":-6.0153994225216551E-3},{"$f":"CORREL($B$1:B3,$E$1:E3)","v":0.31701472973730482},{"$f":"'Sheet3 (4)'!O3","v":-7.1907957814000805E-4},{"$f":"CORREL($B$1:B3,$G$1:G3)","v":0.13206763594900048},{"$f":"'Sheet3 (4)'!Q3","v":0},{"$f":"CORREL($B$1:B3,$I$1:I3)","v":-0.49999999999996525},{"$f":"'Sheet3 (4)'!S3","v":-9.4540297801946134E-4},{"$f":"CORREL($B$1:B3,$K$1:K3)","v":0.99124070716193113},{"$f":"'Sheet3 (4)'!U3","v":7.4411905904943967E-3},{"$f":"CORREL($B$1:B3,$M$1:M3)","v":-0.52653392471616467},{"$f":"'Sheet3 (4)'!W3","v":1.6734401147501521E-3},{"$f":"CORREL($B$1:B3,$O$1:O3)","v":0.97274911515364215},{"$f":"'Sheet3 (4)'!Y3","v":7.4483421432004395E-3},{"$f":"CORREL($B$1:B3,$Q$1:Q3)","v":0.92447345164190242},{"$f":"'Sheet3 (4)'!AA3","v":2.4402147388961906E-4},{"$f":"CORREL($B$1:B3,$S$1:S3)","v":0.94842061403662781}]
[null,{"$f":"'Sheet3 (4)'!I4","v":-5.4879503698401604E-3},{"$f":"'Sheet3 (4)'!K4","v":-7.8527607361962917E-3},{"$f":"CORREL($B$1:B4,$C$1:C4)","v":-0.65675514637482346},{"$f":"'Sheet3 (4)'!M4","v":-7.4590952839269069E-3},{"$f":"CORREL($B$1:B4,$E$1:E4)","v":0.51637980564763974},{"$f":"'Sheet3 (4)'!O4","v":-2.3969319271332696E-3},{"$f":"CORREL($B$1:B4,$G$1:G4)","v":0.79999250970230285},{"$f":"'Sheet3 (4)'!Q4","v":4.7996160307172699E-4},{"$f":"CORREL($B$1:B4,$I$1:I4)","v":-0.66591555276890335},{"$f":"'Sheet3 (4)'!S4","v":-7.0905223351456245E-4},{"$f":"CORREL($B$1:B4,$K$1:K4)","v":0.92661862102079529},{"$f":"'Sheet3 (4)'!U4","v":9.3614978396542904E-3},{"$f":"CORREL($B$1:B4,$M$1:M4)","v":-0.82627578454605011},{"$f":"'Sheet3 (4)'!W4","v":2.6296916088930575E-3},{"$f":"CORREL($B$1:B4,$O$1:O4)","v":0.73028490929401768},{"$f":"'Sheet3 (4)'!Y4","v":6.4872657376261137E-3},{"$f":"CORREL($B$1:B4,$Q$1:Q4)","v":0.96872819774013652},{"$f":"'Sheet3 (4)'!AA4","v":2.1961932650072652E-3},{"$f":"CORREL($B$1:B4,$S$1:S4)","v":-0.23820955128726393}]
[null,{"$f":"'Sheet3 (4)'!I5","v":-3.5790980672870433E-3},{"$f":"'Sheet3 (4)'!K5","v":-3.6809815950920245E-3},{"$f":"CORREL($B$1:B5,$C$1:C5)","v":-0.44005817611786846},{"$f":"'Sheet3 (4)'!M5","v":-5.5341674687199504E-3},{"$f":"CORREL($B$1:B5,$E$1:E5)","v":0.48138691020630048},{"$f":"'Sheet3 (4)'!O5","v":-9.5877277085325329E-4},{"$f":"CORREL($B$1:B5,$G$1:G5)","v":0.75274654332689961},{"$f":"'Sheet3 (4)'!Q5","v":-2.1598272138228397E-3},{"$f":"CORREL($B$1:B5,$I$1:I5)","v":-0.25196611283655701},{"$f":"'Sheet3 (4)'!S5","v":-1.8908059560387882E-3},{"$f":"CORREL($B$1:B5,$K$1:K5)","v":0.8502497749072585},{"$f":"'Sheet3 (4)'!U5","v":7.6812289966394342E-3},{"$f":"CORREL($B$1:B5,$M$1:M5)","v":-0.81779524624554456},{"$f":"'Sheet3 (4)'!W5","v":2.3906287353565837E-4},{"$f":"CORREL($B$1:B5,$O$1:O5)","v":0.59014004111154961},{"$f":"'Sheet3 (4)'!Y5","v":4.8053820278712162E-3},{"$f":"CORREL($B$1:B5,$Q$1:Q5)","v":0.66075117490415358},{"$f":"'Sheet3 (4)'!AA5","v":4.8804294777937685E-4},{"$f":"CORREL($B$1:B5,$S$1:S5)","v":-0.10827630825903656}]
[null,{"$f":"'Sheet3 (4)'!I6","v":{"$error":"#N/A"}},{"$f":"'Sheet3 (4)'!K6","v":7.3619631901843282E-4},{"$f":"CORREL($B$1:B6,$C$1:C6)","v":{"$error":"#N/A"}},{"$f":"'Sheet3 (4)'!M6","v":-3.8498556304139139E-3},{"$f":"CORREL($B$1:B6,$E$1:E6)","v":{"$error":"#N/A"}},{"$f":"'Sheet3 (4)'!O6","v":-2.876318312559896E-3},{"$f":"CORREL($B$1:B6,$G$1:G6)","v":{"$error":"#N/A"}},{"$f":"'Sheet3 (4)'!Q6","v":7.1994240460765868E-4},{"$f":"CORREL($B$1:B6,$I$1:I6)","v":{"$error":"#N/A"}},{"$f":"'Sheet3 (4)'!S6","v":-2.5998581895533505E-3},{"$f":"CORREL($B$1:B6,$K$1:K6)","v":{"$error":"#N/A"}},{"$f":"'Sheet3 (4)'!U6","v":9.3614978396542904E-3},{"$f":"CORREL($B$1:B6,$M$1:M6)","v":{"$error":"#N/A"}},{"$f":"'Sheet3 (4)'!W6","v":-2.3906287353579425E-4},{"$f":"CORREL($B$1:B6,$O$1:O6)","v":{"$error":"#N/A"}},{"$f":"'Sheet3 (4)'!Y6","v":5.0456511292648314E-3},{"$f":"CORREL($B$1:B6,$Q$1:Q6)","v":{"$error":"#N/A"}},{"$f":"'Sheet3 (4)'!AA6","v":-7.3206442166913466E-4},{"$f":"CORREL($B$1:B6,$S$1:S6)","v":{"$error":"#N/A"}}]
[null,{"$f":"'Sheet3 (4)'!I7","v":{"$error":"#N/A"}},{"$f":"'Sheet3 (4)'!K7","v":-2.2085889570551591E-3},{"$f":"CORREL($B$1:B7,$C$1:C7)","v":{"$error":"#N/A"}},{"$f":"'Sheet3 (4)'!M7","v":-4.3310875842156194E-3},{"$f":"CORREL($B$1:B7,$E$1:E7)","v":{"$error":"#N/A"}},{"$f":"'Sheet3 (4)'!O7","v":-7.1907957814000805E-4},{"$f":"CORREL($B$1:B7,$G$1:G7)","v":{"$error":"#N/A"}},{"$f":"'Sheet3 (4)'!Q7","v":-1.439884809215181E-3},{"$f":"CORREL($B$1:B7,$I$1:I7)","v":{"$error":"#N/A"}},{"$f":"'Sheet3 (4)'!S7","v":-4.2543134010872398E-3},{"$f":"CORREL($B$1:B7,$K$1:K7)","v":{"$error":"#N/A"}},{"$f":"'Sheet3 (4)'!U7","v":9.6015362457993279E-3},{"$f":"CORREL($B$1:B7,$M$1:M7)","v":{"$error":"#N/A"}},{"$f":"'Sheet3 (4)'!W7","v":7.171886206072468E-4},{"$f":"CORREL($B$1:B7,$O$1:O7)","v":{"$error":"#N/A"}},{"$f":"'Sheet3 (4)'!Y7","v":6.2469966362326355E-3},{"$f":"CORREL($B$1:B7,$Q$1:Q7)","v":{"$error":"#N/A"}},{"$f":"'Sheet3 (4)'!AA7","v":7.3206442166913466E-4},{"$f":"CORREL($B$1:B7,$S$1:S7)","v":{"$error":"#N/A"}}]
[null,{"$f":"'Sheet3 (4)'!I8","v":{"$error":"#N/A"}},{"$f":"'Sheet3 (4)'!K8","v":-4.90797546012242E-4},{"$f":"CORREL($B$1:B8,$C$1:C8)","v":{"$error":"#N/A"}},{"$f":"'Sheet3 (4)'!M8","v":-7.6997112608278278E-3},{"$f":"CORREL($B$1:B8,$E$1:E8)","v":{"$error":"#N/A"}},{"$f":"'Sheet3 (4)'!O8","v":-2.3969319271324521E-4},{"$f":"CORREL($B$1:B8,$G$1:G8)","v":{"$error":"#N/A"}},{"$f":"'Sheet3 (4)'!Q8","v":-1.1999040076793857E-3},{"$f":"CORREL($B$1:B8,$I$1:I8)","v":{"$error":"#N/A"}},{"$f":"'Sheet3 (4)'!S8","v":-4.7270148900969032E-3},{"$f":"CORREL($B$1:B8,$K$1:K8)","v":{"$error":"#N/A"}},{"$f":"'Sheet3 (4)'!U8","v":8.1613058089293738E-3},{"$f":"CORREL($B$1:B8,$M$1:M8)","v":{"$error":"#N/A"}},{"$f":"'Sheet3 (4)'!W8","v":-2.3906287353579425E-4},{"$f":"CORREL($B$1:B8,$O$1:O8)","v":{"$error":"#N/A"}},{"$f":"'Sheet3 (4)'!Y8","v":5.2859202306583105E-3},{"$f":"CORREL($B$1:B8,$Q$1:Q8)","v":{"$error":"#N/A"}},{"$f":"'Sheet3 (4)'!AA8","v":2.684236212786642E-3},{"$f":"CORREL($B$1:B8,$S$1:S8)","v":{"$error":"#N/A"}}]
[null,{"$f":"'Sheet3 (4)'!I9","v":{"$error":"#N/A"}},{"$f":"'Sheet3 (4)'!K9","v":1.7177914110429169E-3},{"$f":"CORREL($B$1:B9,$C$1:C9)","v":{"$error":"#N/A"}},{"$f":"'Sheet3 (4)'!M9","v":-5.2935514918191658E-3},{"$f":"CORREL($B$1:B9,$E$1:E9)","v":{"$error":"#N/A"}},{"$f":"'Sheet3 (4)'!O9","v":-7.1907957814000805E-4},{"$f":"CORREL($B$1:B9,$G$1:G9)","v":{"$error":"#N/A"}},{"$f":"'Sheet3 (4)'!Q9","v":-3.1197504199664302E-3},{"$f":"CORREL($B$1:B9,$I$1:I9)","v":{"$error":"#N/A"}},{"$f":"'Sheet3 (4)'!S9","v":-2.3635074450484516E-3},{"$f":"CORREL($B$1:B9,$K$1:K9)","v":{"$error":"#N/A"}},{"$f":"'Sheet3 (4)'!U9","v":9.3614978396542904E-3},{"$f":"CORREL($B$1:B9,$M$1:M9)","v":{"$error":"#N/A"}},{"$f":"'Sheet3 (4)'!W9","v":1.1953143676786994E-3},{"$f":"CORREL($B$1:B9,$O$1:O9)","v":{"$error":"#N/A"}},{"$f":"'Sheet3 (4)'!Y9","v":8.1691494473811483E-3},{"$f":"CORREL($B$1:B9,$Q$1:Q9)","v":{"$error":"#N/A"}},{"$f":"'Sheet3 (4)'!AA9","v":4.880429477794046E-3},{"$f":"CORREL($B$1:B9,$S$1:S9)","v":{"$error":"#N/A"}}]
[null,{"$f":"'Sheet3 (4)'!I10","v":{"$error":"#N/A"}},{"$f":"'Sheet3 (4)'!K10","v":4.1717791411042668E-3},{"$f":"CORREL($B$1:B10,$C$1:C10)","v":{"$error":"#N/A"}},{"$f":"'Sheet3 (4)'!M10","v":-5.5341674687199504E-3},{"$f":"CORREL($B$1:B10,$E$1:E10)","v":{"$error":"#N/A"}},{"$f":"'Sheet3 (4)'!O10","v":7.1907957814000805E-4},{"$f":"CORREL($B$1:B10,$G$1:G10)","v":{"$error":"#N/A"}},{"$f":"'Sheet3 (4)'!Q10","v":-5.2795776337892699E-3},{"$f":"CORREL($B$1:B10,$I$1:I10)","v":{"$error":"#N/A"}},{"$f":"'Sheet3 (4)'!S10","v":-7.0905223351456245E-4},{"$f":"CORREL($B$1:B10,$K$1:K10)","v":{"$error":"#N/A"}},{"$f":"'Sheet3 (4)'!U10","v":7.9212674027843363E-3},{"$f":"CORREL($B$1:B10,$M$1:M10)","v":{"$error":"#N/A"}},{"$f":"'Sheet3 (4)'!W10","v":-2.3906287353579425E-4},{"$f":"CORREL($B$1:B10,$O$1:O10)","v":{"$error":"#N/A"}},{"$f":"'Sheet3 (4)'!Y10","v":9.6107640557424323E-3},{"$f":"CORREL($B$1:B10,$Q$1:Q10)","v":{"$error":"#N/A"}},{"$f":"'Sheet3 (4)'!AA10","v":3.6603221083455345E-3},{"$f":"CORREL($B$1:B10,$S$1:S10)","v":{"$error":"#N/A"}}]
[null,{"$f":"'Sheet3 (4)'!I11","v":{"$error":"#N/A"}},{"$f":"'Sheet3 (4)'!K11","v":3.4355828220858338E-3},{"$f":"CORREL($B$1:B11,$C$1:C11)","v":{"$error":"#N/A"}},{"$f":"'Sheet3 (4)'!M11","v":-3.3686236766122088E-3},{"$f":"CORREL($B$1:B11,$E$1:E11)","v":{"$error":"#N/A"}},{"$f":"'Sheet3 (4)'!O11","v":-4.7938638542662664E-4},{"$f":"CORREL($B$1:B11,$G$1:G11)","v":{"$error":"#N/A"}},{"$f":"'Sheet3 (4)'!Q11","v":-7.199424046076314E-3},{"$f":"CORREL($B$1:B11,$I$1:I11)","v":{"$error":"#N/A"}},{"$f":"'Sheet3 (4)'!S11","v":-7.0905223351456245E-4},{"$f":"CORREL($B$1:B11,$K$1:K11)","v":{"$error":"#N/A"}},{"$f":"'Sheet3 (4)'!U11","v":1.0801728276524243E-2},{"$f":"CORREL($B$1:B11,$M$1:M11)","v":{"$error":"#N/A"}},{"$f":"'Sheet3 (4)'!W11","v":1.4343772412143579E-3},{"$f":"CORREL($B$1:B11,$O$1:O11)","v":{"$error":"#N/A"}},{"$f":"'Sheet3 (4)'!Y11","v":6.7275348390197299E-3},{"$f":"CORREL($B$1:B11,$Q$1:Q11)","v":{"$error":"#N/A"}},{"$f":"'Sheet3 (4)'!AA11","v":4.1483650561249114E-3},{"$f":"CORREL($B$1:B11,$S$1:S11)","v":{"$error":"#N/A"}}]
[null,{"$f":"'Sheet3 (4)'!I12","v":{"$error":"#N/A"}},{"$f":"'Sheet3 (4)'!K12","v":5.6441717791411326E-3},{"$f":"CORREL($B$1:B12,$C$1:C12)","v":{"$error":"#N/A"}},{"$f":"'Sheet3 (4)'!M12","v":-2.406159769008662E-3},{"$f":"CORREL($B$1:B12,$E$1:E12)","v":{"$error":"#N/A"}},{"$f":"'Sheet3 (4)'!O12","v":9.5877277085338957E-4},{"$f":"CORREL($B$1:B12,$G$1:G12)","v":{"$error":"#N/A"}},{"$f":"'Sheet3 (4)'!Q12","v":-5.2795776337892699E-3},{"$f":"CORREL($B$1:B12,$I$1:I12)","v":{"$error":"#N/A"}},{"$f":"'Sheet3 (4)'!S12","v":-1.8908059560387882E-3},{"$f":"CORREL($B$1:B12,$K$1:K12)","v":{"$error":"#N/A"}},{"$f":"'Sheet3 (4)'!U12","v":7.9212674027843363E-3},{"$f":"CORREL($B$1:B12,$M$1:M12)","v":{"$error":"#N/A"}},{"$f":"'Sheet3 (4)'!W12","v":3.1078173559646459E-3},{"$f":"CORREL($B$1:B12,$O$1:O12)","v":{"$error":"#N/A"}},{"$f":"'Sheet3 (4)'!Y12","v":6.4872657376261137E-3},{"$f":"CORREL($B$1:B12,$Q$1:Q12)","v":{"$error":"#N/A"}},{"$f":"'Sheet3 (4)'!AA12","v":5.3684724255734229E-3},{"$f":"CORREL($B$1:B12,$S$1:S12)","v":{"$error":"#N/A"}}]
[null,{"$f":"'Sheet3 (4)'!I13","v":{"$error":"#N/A"}},{"$f":"'Sheet3 (4)'!K13","v":3.6809815950920245E-3},{"$f":"CORREL($B$1:B13,$C$1:C13)","v":{"$error":"#N/A"}},{"$f":"'Sheet3 (4)'!M13","v":-3.3686236766122088E-3},{"$f":"CORREL($B$1:B13,$E$1:E13)","v":{"$error":"#N/A"}},{"$f":"'Sheet3 (4)'!O13","v":1.1984659635666348E-3},{"$f":"CORREL($B$1:B13,$G$1:G13)","v":{"$error":"#N/A"}},{"$f":"'Sheet3 (4)'!Q13","v":-4.0796736261098842E-3},{"$f":"CORREL($B$1:B13,$I$1:I13)","v":{"$error":"#N/A"}},{"$f":"'Sheet3 (4)'!S13","v":-4.4906641455921392E-3},{"$f":"CORREL($B$1:B13,$K$1:K13)","v":{"$error":"#N/A"}},{"$f":"'Sheet3 (4)'!U13","v":9.1214594335092512E-3},{"$f":"CORREL($B$1:B13,$M$1:M13)","v":{"$error":"#N/A"}},{"$f":"'Sheet3 (4)'!W13","v":1.4343772412143579E-3},{"$f":"CORREL($B$1:B13,$O$1:O13)","v":{"$error":"#N/A"}},{"$f":"'Sheet3 (4)'!Y13","v":6.9678039404133451E-3},{"$f":"CORREL($B$1:B13,$Q$1:Q13)","v":{"$error":"#N/A"}},{"$f":"'Sheet3 (4)'!AA13","v":6.1005368472425575E-3},{"$f":"CORREL($B$1:B13,$S$1:S13)","v":{"$error":"#N/A"}}]
[null,{"$f":"'Sheet3 (4)'!I14","v":{"$error":"#N/A"}},{"$f":"'Sheet3 (4)'!K14","v":2.9447852760735916E-3},{"$f":"CORREL($B$1:B14,$C$1:C14)","v":{"$error":"#N/A"}},{"$f":"'Sheet3 (4)'!M14","v":-3.609239653512993E-3},{"$f":"CORREL($B$1:B14,$E$1:E14)","v":{"$error":"#N/A"}},{"$f":"'Sheet3 (4)'!O14","v":2.876318312559896E-3},{"$f":"CORREL($B$1:B14,$G$1:G14)","v":{"$error":"#N/A"}},{"$f":"'Sheet3 (4)'!Q14","v":-3.1197504199664302E-3},{"$f":"CORREL($B$1:B14,$I$1:I14)","v":{"$error":"#N/A"}},{"$f":"'Sheet3 (4)'!S14","v":-7.0905223351456245E-4},{"$f":"CORREL($B$1:B14,$K$1:K14)","v":{"$error":"#N/A"}},{"$f":"'Sheet3 (4)'!U14","v":9.1214594335092512E-3},{"$f":"CORREL($B$1:B14,$M$1:M14)","v":{"$error":"#N/A"}},{"$f":"'Sheet3 (4)'!W14","v":4.7812574707145259E-4},{"$f":"CORREL($B$1:B14,$O$1:O14)","v":{"$error":"#N/A"}},{"$f":"'Sheet3 (4)'!Y14","v":6.0067275348390202E-3},{"$f":"CORREL($B$1:B14,$Q$1:Q14)","v":{"$error":"#N/A"}},{"$f":"'Sheet3 (4)'!AA14","v":6.3445583211321765E-3},{"$f":"CORREL($B$1:B14,$S$1:S14)","v":{"$error":"#N/A"}}]
[null,{"$f":"'Sheet3 (4)'!I15","v":{"$error":"#N/A"}},{"$f":"'Sheet3 (4)'!K15","v":3.9263803680982153E-3},{"$f":"CORREL($B$1:B15,$C$1:C15)","v":{"$error":"#N/A"}},{"$f":"'Sheet3 (4)'!M15","v":-6.2560153994225759E-3},{"$f":"CORREL($B$1:B15,$E$1:E15)","v":{"$error":"#N/A"}},{"$f":"'Sheet3 (4)'!O15","v":2.1572387344200245E-3},{"$f":"CORREL($B$1:B15,$G$1:G15)","v":{"$error":"#N/A"}},{"$f":"'Sheet3 (4)'!Q15","v":-1.9198464122870444E-3},{"$f":"CORREL($B$1:B15,$I$1:I15)","v":{"$error":"#N/A"}},{"$f":"'Sheet3 (4)'!S15","v":2.3635074450476456E-4},{"$f":"CORREL($B$1:B15,$K$1:K15)","v":{"$error":"#N/A"}},{"$f":"'Sheet3 (4)'!U15","v":8.4013442150744112E-3},{"$f":"CORREL($B$1:B15,$M$1:M15)","v":{"$error":"#N/A"}},{"$f":"'Sheet3 (4)'!W15","v":4.7812574707145259E-4},{"$f":"CORREL($B$1:B15,$O$1:O15)","v":{"$error":"#N/A"}},{"$f":"'Sheet3 (4)'!Y15","v":8.4094185487746283E-3},{"$f":"CORREL($B$1:B15,$Q$1:Q15)","v":{"$error":"#N/A"}},{"$f":"'Sheet3 (4)'!AA15","v":7.5646656905806881E-3},{"$f":"CORREL($B$1:B15,$S$1:S15)","v":{"$error":"#N/A"}}]
[null,{"$f":"'Sheet3 (4)'!I16","v":{"$error":"#N/A"}},{"$f":"'Sheet3 (4)'!K16","v":4.417177914110457E-3},{"$f":"CORREL($B$1:B16,$C$1:C16)","v":{"$error":"#N/A"}},{"$f":"'Sheet3 (4)'!M16","v":-5.5341674687199504E-3},{"$f":"CORREL($B$1:B16,$E$1:E16)","v":{"$error":"#N/A"}},{"$f":"'Sheet3 (4)'!O16","v":2.876318312559896E-3},{"$f":"CORREL($B$1:B16,$G$1:G16)","v":{"$error":"#N/A"}},{"$f":"'Sheet3 (4)'!Q16","v":-1.6798656107511127E-3},{"$f":"CORREL($B$1:B16,$I$1:I16)","v":{"$error":"#N/A"}},{"$f":"'Sheet3 (4)'!S16","v":2.3635074450476456E-4},{"$f":"CORREL($B$1:B16,$K$1:K16)","v":{"$error":"#N/A"}},{"$f":"'Sheet3 (4)'!U16","v":9.6015362457993279E-3},{"$f":"CORREL($B$1:B16,$M$1:M16)","v":{"$error":"#N/A"}},{"$f":"'Sheet3 (4)'!W16","v":4.7812574707145259E-4},{"$f":"CORREL($B$1:B16,$O$1:O16)","v":{"$error":"#N/A"}},{"$f":"'Sheet3 (4)'!Y16","v":8.6496876501682435E-3},{"$f":"CORREL($B$1:B16,$Q$1:Q16)","v":{"$error":"#N/A"}},{"$f":"'Sheet3 (4)'!AA16","v":5.8565153733527997E-3},{"$f":"CORREL($B$1:B16,$S$1:S16)","v":{"$error":"#N/A"}}]
[null,{"$f":"'Sheet3 (4)'!I17","v":{"$error":"#N/A"}},{"$f":"'Sheet3 (4)'!K17","v":3.9263803680982153E-3},{"$f":"CORREL($B$1:B17,$C$1:C17)","v":{"$error":"#N/A"}},{"$f":"'Sheet3 (4)'!M17","v":-6.7372473532242814E-3},{"$f":"CORREL($B$1:B17,$E$1:E17)","v":{"$error":"#N/A"}},{"$f":"'Sheet3 (4)'!O17","v":3.3557046979866591E-3},{"$f":"CORREL($B$1:B17,$G$1:G17)","v":{"$error":"#N/A"}},{"$f":"'Sheet3 (4)'!Q17","v":-4.7996160307172699E-4},{"$f":"CORREL($B$1:B17,$I$1:I17)","v":{"$error":"#N/A"}},{"$f":"'Sheet3 (4)'!S17","v":-4.7270148900979784E-4},{"$f":"CORREL($B$1:B17,$K$1:K17)","v":{"$error":"#N/A"}},{"$f":"'Sheet3 (4)'!U17","v":1.1041766682669145E-2},{"$f":"CORREL($B$1:B17,$M$1:M17)","v":{"$error":"#N/A"}},{"$f":"'Sheet3 (4)'!W17","v":7.171886206072468E-4},{"$f":"CORREL($B$1:B17,$O$1:O17)","v":{"$error":"#N/A"}},{"$f":"'Sheet3 (4)'!Y17","v":8.8899567515617218E-3},{"$f":"CORREL($B$1:B17,$Q$1:Q17)","v":{"$error":"#N/A"}},{"$f":"'Sheet3 (4)'!AA17","v":1.0736944851146846E-2},{"$f":"CORREL($B$1:B17,$S$1:S17)","v":{"$error":"#N/A"}}]
[null,{"$f":"'Sheet3 (4)'!I18","v":{"$error":"#N/A"}},{"$f":"'Sheet3 (4)'!K18","v":5.6441717791411326E-3},{"$f":"CORREL($B$1:B18,$C$1:C18)","v":{"$error":"#N/A"}},{"$f":"'Sheet3 (4)'!M18","v":-7.2184793070259861E-3},{"$f":"CORREL($B$1:B18,$E$1:E18)","v":{"$error":"#N/A"}},{"$f":"'Sheet3 (4)'!O18","v":3.1160115052732778E-3},{"$f":"CORREL($B$1:B18,$G$1:G18)","v":{"$error":"#N/A"}},{"$f":"'Sheet3 (4)'!Q18","v":1.6798656107511127E-3},{"$f":"CORREL($B$1:B18,$I$1:I18)","v":{"$error":"#N/A"}},{"$f":"'Sheet3 (4)'!S18","v":1.1817537225242258E-3},{"$f":"CORREL($B$1:B18,$K$1:K18)","v":{"$error":"#N/A"}},{"$f":"'Sheet3 (4)'!U18","v":9.8415746519442283E-3},{"$f":"CORREL($B$1:B18,$M$1:M18)","v":{"$error":"#N/A"}},{"$f":"'Sheet3 (4)'!W18","v":2.1515658618216048E-3},{"$f":"CORREL($B$1:B18,$O$1:O18)","v":{"$error":"#N/A"}},{"$f":"'Sheet3 (4)'!Y18","v":8.1691494473811483E-3},{"$f":"CORREL($B$1:B18,$Q$1:Q18)","v":{"$error":"#N/A"}},{"$f":"'Sheet3 (4)'!AA18","v":1.0248901903367469E-2},{"$f":"CORREL($B$1:B18,$S$1:S18)","v":{"$error":"#N/A"}}]
[null,{"$f":"'Sheet3 (4)'!I19","v":{"$error":"#N/A"}},{"$f":"'Sheet3 (4)'!K19","v":6.3803680981595647E-3},{"$f":"CORREL($B$1:B19,$C$1:C19)","v":{"$error":"#N/A"}},{"$f":"'Sheet3 (4)'!M19","v":-8.1809432146295324E-3},{"$f":"CORREL($B$1:B19,$E$1:E19)","v":{"$error":"#N/A"}},{"$f":"'Sheet3 (4)'!O19","v":1.9175455417066428E-3},{"$f":"CORREL($B$1:B19,$G$1:G19)","v":{"$error":"#N/A"}},{"$f":"'Sheet3 (4)'!Q19","v":2.1598272138229763E-3},{"$f":"CORREL($B$1:B19,$I$1:I19)","v":{"$error":"#N/A"}},{"$f":"'Sheet3 (4)'!S19","v":5.1997163791065674E-3},{"$f":"CORREL($B$1:B19,$K$1:K19)","v":{"$error":"#N/A"}},{"$f":"'Sheet3 (4)'!U19","v":1.0081613058089266E-2},{"$f":"CORREL($B$1:B19,$M$1:M19)","v":{"$error":"#N/A"}},{"$f":"'Sheet3 (4)'!W19","v":3.3468802295003042E-3},{"$f":"CORREL($B$1:B19,$O$1:O19)","v":{"$error":"#N/A"}},{"$f":"'Sheet3 (4)'!Y19","v":1.0091302258529526E-2},{"$f":"CORREL($B$1:B19,$Q$1:Q19)","v":{"$error":"#N/A"}},{"$f":"'Sheet3 (4)'!AA19","v":1.0004880429477711E-2},{"$f":"CORREL($B$1:B19,$S$1:S19)","v":{"$error":"#N/A"}}]
[null,{"$f":"'Sheet3 (4)'!I20","v":{"$error":"#N/A"}},{"$f":"'Sheet3 (4)'!K20","v":6.8711656441718073E-3},{"$f":"CORREL($B$1:B20,$C$1:C20)","v":{"$error":"#N/A"}},{"$f":"'Sheet3 (4)'!M20","v":-7.6997112608278278E-3},{"$f":"CORREL($B$1:B20,$E$1:E20)","v":{"$error":"#N/A"}},{"$f":"'Sheet3 (4)'!O20","v":1.9175455417066428E-3},{"$f":"CORREL($B$1:B20,$G$1:G20)","v":{"$error":"#N/A"}},{"$f":"'Sheet3 (4)'!Q20","v":4.7996160307172699E-4},{"$f":"CORREL($B$1:B20,$I$1:I20)","v":{"$error":"#N/A"}},{"$f":"'Sheet3 (4)'!S20","v":4.9633656346016681E-3},{"$f":"CORREL($B$1:B20,$K$1:K20)","v":{"$error":"#N/A"}},{"$f":"'Sheet3 (4)'!U20","v":9.8415746519442283E-3},{"$f":"CORREL($B$1:B20,$M$1:M20)","v":{"$error":"#N/A"}},{"$f":"'Sheet3 (4)'!W20","v":4.5421945971790036E-3},{"$f":"CORREL($B$1:B20,$O$1:O20)","v":{"$error":"#N/A"}},{"$f":"'Sheet3 (4)'!Y20","v":8.8899567515617218E-3},{"$f":"CORREL($B$1:B20,$Q$1:Q20)","v":{"$error":"#N/A"}},{"$f":"'Sheet3 (4)'!AA20","v":9.0287945339189574E-3},{"$f":"CORREL($B$1:B20,$S$1:S20)","v":{"$error":"#N/A"}}]
[null,{"$f":"'Sheet3 (4)'!I21","v":{"$error":"#N/A"}},{"$f":"'Sheet3 (4)'!K21","v":7.8527607361962917E-3},{"$f":"CORREL($B$1:B21,$C$1:C21)","v":{"$error":"#N/A"}},{"$f":"'Sheet3 (4)'!M21","v":-7.9403272377286116E-3},{"$f":"CORREL($B$1:B21,$E$1:E21)","v":{"$error":"#N/A"}},{"$f":"'Sheet3 (4)'!O21","v":4.7938638542662664E-4},{"$f":"CORREL($B$1:B21,$G$1:G21)","v":{"$error":"#N/A"}},{"$f":"'Sheet3 (4)'!Q21","v":-2.6397888168945669E-3},{"$f":"CORREL($B$1:B21,$I$1:I21)","v":{"$error":"#N/A"}},{"$f":"'Sheet3 (4)'!S21","v":5.6724178681162307E-3},{"$f":"CORREL($B$1:B21,$K$1:K21)","v":{"$error":"#N/A"}},{"$f":"'Sheet3 (4)'!U21","v":9.3614978396542904E-3},{"$f":"CORREL($B$1:B21,$M$1:M21)","v":{"$error":"#N/A"}},{"$f":"'Sheet3 (4)'!W21","v":4.7812574707147976E-3},{"$f":"CORREL($B$1:B21,$O$1:O21)","v":{"$error":"#N/A"}},{"$f":"'Sheet3 (4)'!Y21","v":8.8899567515617218E-3},{"$f":"CORREL($B$1:B21,$Q$1:Q21)","v":{"$error":"#N/A"}},{"$f":"'Sheet3 (4)'!AA21","v":1.0492923377257227E-2},{"$f":"CORREL($B$1:B21,$S$1:S21)","v":{"$error":"#N/A"}}]
[null,{"$f":"'Sheet3 (4)'!I22","v":{"$error":"#N/A"}},{"$f":"'Sheet3 (4)'!K22","v":1.5460122699386531E-2},{"$f":"CORREL($B$1:B22,$C$1:C22)","v":{"$error":"#N/A"}},{"$f":"'Sheet3 (4)'!M22","v":-7.9403272377286116E-3},{"$f":"CORREL($B$1:B22,$E$1:E22)","v":{"$error":"#N/A"}},{"$f":"'Sheet3 (4)'!O22","v":0},{"$f":"CORREL($B$1:B22,$G$1:G22)","v":{"$error":"#N/A"}},{"$f":"'Sheet3 (4)'!Q22","v":-9.5992320614345398E-4},{"$f":"CORREL($B$1:B22,$I$1:I22)","v":{"$error":"#N/A"}},{"$f":"'Sheet3 (4)'!S22","v":7.7995745686597834E-3},{"$f":"CORREL($B$1:B22,$K$1:K22)","v":{"$error":"#N/A"}},{"$f":"'Sheet3 (4)'!U22","v":1.0321651464234168E-2},{"$f":"CORREL($B$1:B22,$M$1:M22)","v":{"$error":"#N/A"}},{"$f":"'Sheet3 (4)'!W22","v":4.7812574707147976E-3},{"$f":"CORREL($B$1:B22,$O$1:O22)","v":{"$error":"#N/A"}},{"$f":"'Sheet3 (4)'!Y22","v":8.1691494473811483E-3},{"$f":"CORREL($B$1:B22,$Q$1:Q22)","v":{"$error":"#N/A"}},{"$f":"'Sheet3 (4)'!AA22","v":1.1957052220595357E-2},{"$f":"CORREL($B$1:B22,$S$1:S22)","v":{"$error":"#N/A"}}]
[null,{"$f":"'Sheet3 (4)'!I23","v":{"$error":"#N/A"}},{"$f":"'Sheet3 (4)'!K23","v":2.1840490797545957E-2},{"$f":"CORREL($B$1:B23,$C$1:C23)","v":{"$error":"#N/A"}},{"$f":"'Sheet3 (4)'!M23","v":-1.6843118383060636E-2},{"$f":"CORREL($B$1:B23,$E$1:E23)","v":{"$error":"#N/A"}},{"$f":"'Sheet3 (4)'!O23","v":1.1984659635666348E-3},{"$f":"CORREL($B$1:B23,$G$1:G23)","v":{"$error":"#N/A"}},{"$f":"'Sheet3 (4)'!Q23","v":-3.3597312215022253E-3},{"$f":"CORREL($B$1:B23,$I$1:I23)","v":{"$error":"#N/A"}},{"$f":"'Sheet3 (4)'!S23","v":7.7995745686597834E-3},{"$f":"CORREL($B$1:B23,$K$1:K23)","v":{"$error":"#N/A"}},{"$f":"'Sheet3 (4)'!U23","v":1.0321651464234168E-2},{"$f":"CORREL($B$1:B23,$M$1:M23)","v":{"$error":"#N/A"}},{"$f":"'Sheet3 (4)'!W23","v":4.7812574707147976E-3},{"$f":"CORREL($B$1:B23,$O$1:O23)","v":{"$error":"#N/A"}},{"$f":"'Sheet3 (4)'!Y23","v":7.2080730418068242E-3},{"$f":"CORREL($B$1:B23,$Q$1:Q23)","v":{"$error":"#N/A"}},{"$f":"'Sheet3 (4)'!AA23","v":1.3421181063933627E-2},{"$f":"CORREL($B$1:B23,$S$1:S23)","v":{"$error":"#N/A"}}]
[null,{"$f":"'Sheet3 (4)'!I24","v":{"$error":"#N/A"}},{"$f":"'Sheet3 (4)'!K24","v":2.4049079754601254E-2},{"$f":"CORREL($B$1:B24,$C$1:C24)","v":{"$error":"#N/A"}},{"$f":"'Sheet3 (4)'!M24","v":-1.660250240615985E-2},{"$f":"CORREL($B$1:B24,$E$1:E24)","v":{"$error":"#N/A"}},{"$f":"'Sheet3 (4)'!O24","v":1.1984659635666348E-3},{"$f":"CORREL($B$1:B24,$G$1:G24)","v":{"$error":"#N/A"}},{"$f":"'Sheet3 (4)'!Q24","v":-1.9198464122870444E-3},{"$f":"CORREL($B$1:B24,$I$1:I24)","v":{"$error":"#N/A"}},{"$f":"'Sheet3 (4)'!S24","v":4.7270148900969032E-3},{"$f":"CORREL($B$1:B24,$K$1:K24)","v":{"$error":"#N/A"}},{"$f":"'Sheet3 (4)'!U24","v":1.0561689870379205E-2},{"$f":"CORREL($B$1:B24,$M$1:M24)","v":{"$error":"#N/A"}},{"$f":"'Sheet3 (4)'!W24","v":4.0640688501075509E-3},{"$f":"CORREL($B$1:B24,$O$1:O24)","v":{"$error":"#N/A"}},{"$f":"'Sheet3 (4)'!Y24","v":7.2080730418068242E-3},{"$f":"CORREL($B$1:B24,$Q$1:Q24)","v":{"$error":"#N/A"}},{"$f":"'Sheet3 (4)'!AA24","v":1.1957052220595357E-2},{"$f":"CORREL($B$1:B24,$S$1:S24)","v":{"$error":"#N/A"}}]
[null,{"$f":"'Sheet3 (4)'!I25","v":{"$error":"#N/A"}},{"$f":"'Sheet3 (4)'!K25","v":2.4294478527607306E-2},{"$f":"CORREL($B$1:B25,$C$1:C25)","v":{"$error":"#N/A"}},{"$f":"'Sheet3 (4)'!M25","v":-1.7083734359961557E-2},{"$f":"CORREL($B$1:B25,$E$1:E25)","v":{"$error":"#N/A"}},{"$f":"'Sheet3 (4)'!O25","v":4.7938638542662664E-4},{"$f":"CORREL($B$1:B25,$G$1:G25)","v":{"$error":"#N/A"}},{"$f":"'Sheet3 (4)'!Q25","v":-1.439884809215181E-3},{"$f":"CORREL($B$1:B25,$I$1:I25)","v":{"$error":"#N/A"}},{"$f":"'Sheet3 (4)'!S25","v":4.7270148900969032E-3},{"$f":"CORREL($B$1:B25,$K$1:K25)","v":{"$error":"#N/A"}},{"$f":"'Sheet3 (4)'!U25","v":9.6015362457993279E-3},{"$f":"CORREL($B$1:B25,$M$1:M25)","v":{"$error":"#N/A"}},{"$f":"'Sheet3 (4)'!W25","v":4.0640688501075509E-3},{"$f":"CORREL($B$1:B25,$O$1:O25)","v":{"$error":"#N/A"}},{"$f":"'Sheet3 (4)'!Y25","v":7.2080730418068242E-3},{"$f":"CORREL($B$1:B25,$Q$1:Q25)","v":{"$error":"#N/A"}},{"$f":"'Sheet3 (4)'!AA25","v":1.0980966325036604E-2},{"$f":"CORREL($B$1:B25,$S$1:S25)","v":{"$error":"#N/A"}}]
[null,{"$f":"'Sheet3 (4)'!I26","v":{"$error":"#N/A"}},{"$f":"'Sheet3 (4)'!K26","v":2.5276073619631929E-2},{"$f":"CORREL($B$1:B26,$C$1:C26)","v":{"$error":"#N/A"}},{"$f":"'Sheet3 (4)'!M26","v":-2.285851780558229E-2},{"$f":"CORREL($B$1:B26,$E$1:E26)","v":{"$error":"#N/A"}},{"$f":"'Sheet3 (4)'!O26","v":-1.9175455417066428E-3},{"$f":"CORREL($B$1:B26,$G$1:G26)","v":{"$error":"#N/A"}},{"$f":"'Sheet3 (4)'!Q26","v":-1.9198464122870444E-3},{"$f":"CORREL($B$1:B26,$I$1:I26)","v":{"$error":"#N/A"}},{"$f":"'Sheet3 (4)'!S26","v":5.9087686126211292E-3},{"$f":"CORREL($B$1:B26,$K$1:K26)","v":{"$error":"#N/A"}},{"$f":"'Sheet3 (4)'!U26","v":9.1214594335092512E-3},{"$f":"CORREL($B$1:B26,$M$1:M26)","v":{"$error":"#N/A"}},{"$f":"'Sheet3 (4)'!W26","v":5.0203203442504563E-3},{"$f":"CORREL($B$1:B26,$O$1:O26)","v":{"$error":"#N/A"}},{"$f":"'Sheet3 (4)'!Y26","v":7.2080730418068242E-3},{"$f":"CORREL($B$1:B26,$Q$1:Q26)","v":{"$error":"#N/A"}},{"$f":"'Sheet3 (4)'!AA26","v":1.2445095168374734E-2},{"$f":"CORREL($B$1:B26,$S$1:S26)","v":{"$error":"#N/A"}}]
[null,{"$f":"'Sheet3 (4)'!I27","v":{"$error":"#N/A"}},{"$f":"'Sheet3 (4)'!K27","v":2.6012269938650363E-2},{"$f":"CORREL($B$1:B27,$C$1:C27)","v":{"$error":"#N/A"}},{"$f":"'Sheet3 (4)'!M27","v":-2.0933589990375468E-2},{"$f":"CORREL($B$1:B27,$E$1:E27)","v":{"$error":"#N/A"}},{"$f":"'Sheet3 (4)'!O27","v":-1.4381591562798799E-3},{"$f":"CORREL($B$1:B27,$G$1:G27)","v":{"$error":"#N/A"}},{"$f":"'Sheet3 (4)'!Q27","v":-3.599712023038157E-3},{"$f":"CORREL($B$1:B27,$I$1:I27)","v":{"$error":"#N/A"}},{"$f":"'Sheet3 (4)'!S27","v":6.3814701016307925E-3},{"$f":"CORREL($B$1:B27,$K$1:K27)","v":{"$error":"#N/A"}},{"$f":"'Sheet3 (4)'!U27","v":1.0081613058089266E-2},{"$f":"CORREL($B$1:B27,$M$1:M27)","v":{"$error":"#N/A"}},{"$f":"'Sheet3 (4)'!W27","v":6.6937604590007445E-3},{"$f":"CORREL($B$1:B27,$O$1:O27)","v":{"$error":"#N/A"}},{"$f":"'Sheet3 (4)'!Y27","v":7.4483421432004395E-3},{"$f":"CORREL($B$1:B27,$Q$1:Q27)","v":{"$error":"#N/A"}},{"$f":"'Sheet3 (4)'!AA27","v":1.1957052220595357E-2},{"$f":"CORREL($B$1:B27,$S$1:S27)","v":{"$error":"#N/A"}}]
[null,{"$f":"'Sheet3 (4)'!I28","v":{"$error":"#N/A"}},{"$f":"'Sheet3 (4)'!K28","v":2.6748466257668656E-2},{"$f":"CORREL($B$1:B28,$C$1:C28)","v":{"$error":"#N/A"}},{"$f":"'Sheet3 (4)'!M28","v":-2.165543792107796E-2},{"$f":"CORREL($B$1:B28,$E$1:E28)","v":{"$error":"#N/A"}},{"$f":"'Sheet3 (4)'!O28","v":-1.1984659635666348E-3},{"$f":"CORREL($B$1:B28,$G$1:G28)","v":{"$error":"#N/A"}},{"$f":"'Sheet3 (4)'!Q28","v":-4.7996160307175427E-3},{"$f":"CORREL($B$1:B28,$I$1:I28)","v":{"$error":"#N/A"}},{"$f":"'Sheet3 (4)'!S28","v":7.3268730796501201E-3},{"$f":"CORREL($B$1:B28,$K$1:K28)","v":{"$error":"#N/A"}},{"$f":"'Sheet3 (4)'!U28","v":1.0081613058089266E-2},{"$f":"CORREL($B$1:B28,$M$1:M28)","v":{"$error":"#N/A"}},{"$f":"'Sheet3 (4)'!W28","v":4.7812574707147976E-3},{"$f":"CORREL($B$1:B28,$O$1:O28)","v":{"$error":"#N/A"}},{"$f":"'Sheet3 (4)'!Y28","v":7.6886112445939177E-3},{"$f":"CORREL($B$1:B28,$Q$1:Q28)","v":{"$error":"#N/A"}},{"$f":"'Sheet3 (4)'!AA28","v":1.146900927281598E-2},{"$f":"CORREL($B$1:B28,$S$1:S28)","v":{"$error":"#N/A"}}]
[null,{"$f":"'Sheet3 (4)'!I29","v":{"$error":"#N/A"}},{"$f":"'Sheet3 (4)'!K29","v":2.6748466257668656E-2},{"$f":"CORREL($B$1:B29,$C$1:C29)","v":{"$error":"#N/A"}},{"$f":"'Sheet3 (4)'!M29","v":-1.9971126082771923E-2},{"$f":"CORREL($B$1:B29,$E$1:E29)","v":{"$error":"#N/A"}},{"$f":"'Sheet3 (4)'!O29","v":-1.4381591562798799E-3},{"$f":"CORREL($B$1:B29,$G$1:G29)","v":{"$error":"#N/A"}},{"$f":"'Sheet3 (4)'!Q29","v":-1.1999040076793857E-3},{"$f":"CORREL($B$1:B29,$I$1:I29)","v":{"$error":"#N/A"}},{"$f":"'Sheet3 (4)'!S29","v":7.5632238241550185E-3},{"$f":"CORREL($B$1:B29,$K$1:K29)","v":{"$error":"#N/A"}},{"$f":"'Sheet3 (4)'!U29","v":9.8415746519442283E-3},{"$f":"CORREL($B$1:B29,$M$1:M29)","v":{"$error":"#N/A"}},{"$f":"'Sheet3 (4)'!W29","v":5.0203203442504563E-3},{"$f":"CORREL($B$1:B29,$O$1:O29)","v":{"$error":"#N/A"}},{"$f":"'Sheet3 (4)'!Y29","v":7.6886112445939177E-3},{"$f":"CORREL($B$1:B29,$Q$1:Q29)","v":{"$error":"#N/A"}},{"$f":"'Sheet3 (4)'!AA29","v":1.2201073694485115E-2},{"$f":"CORREL($B$1:B29,$S$1:S29)","v":{"$error":"#N/A"}}]
[null,{"$f":"'Sheet3 (4)'!I30","v":{"$error":"#N/A"}},{"$f":"'Sheet3 (4)'!K30","v":2.7239263803681038E-2},{"$f":"CORREL($B$1:B30,$C$1:C30)","v":{"$error":"#N/A"}},{"$f":"'Sheet3 (4)'!M30","v":-1.756496631376326E-2},{"$f":"CORREL($B$1:B30,$E$1:E30)","v":{"$error":"#N/A"}},{"$f":"'Sheet3 (4)'!O30","v":-2.876318312559896E-3},{"$f":"CORREL($B$1:B30,$G$1:G30)","v":{"$error":"#N/A"}},{"$f":"'Sheet3 (4)'!Q30","v":-3.1197504199664302E-3},{"$f":"CORREL($B$1:B30,$I$1:I30)","v":{"$error":"#N/A"}},{"$f":"'Sheet3 (4)'!S30","v":7.5632238241550185E-3},{"$f":"CORREL($B$1:B30,$K$1:K30)","v":{"$error":"#N/A"}},{"$f":"'Sheet3 (4)'!U30","v":1.0561689870379205E-2},{"$f":"CORREL($B$1:B30,$M$1:M30)","v":{"$error":"#N/A"}},{"$f":"'Sheet3 (4)'!W30","v":4.5421945971790036E-3},{"$f":"CORREL($B$1:B30,$O$1:O30)","v":{"$error":"#N/A"}},{"$f":"'Sheet3 (4)'!Y30","v":8.4094185487746283E-3},{"$f":"CORREL($B$1:B30,$Q$1:Q30)","v":{"$error":"#N/A"}},{"$f":"'Sheet3 (4)'!AA30","v":1.3177159590043869E-2},{"$f":"CORREL($B$1:B30,$S$1:S30)","v":{"$error":"#N/A"}}]
[null,{"$f":"'Sheet3 (4)'!I31","v":{"$error":"#N/A"}},{"$f":"'Sheet3 (4)'!K31","v":2.7484662576687087E-2},{"$f":"CORREL($B$1:B31,$C$1:C31)","v":{"$error":"#N/A"}},{"$f":"'Sheet3 (4)'!M31","v":-1.5880654475457223E-2},{"$f":"CORREL($B$1:B31,$E$1:E31)","v":{"$error":"#N/A"}},{"$f":"'Sheet3 (4)'!O31","v":-2.1572387344198879E-3},{"$f":"CORREL($B$1:B31,$G$1:G31)","v":{"$error":"#N/A"}},{"$f":"'Sheet3 (4)'!Q31","v":-2.8797696184304986E-3},{"$f":"CORREL($B$1:B31,$I$1:I31)","v":{"$error":"#N/A"}},{"$f":"'Sheet3 (4)'!S31","v":7.0905223351453552E-3},{"$f":"CORREL($B$1:B31,$K$1:K31)","v":{"$error":"#N/A"}},{"$f":"'Sheet3 (4)'!U31","v":1.0321651464234168E-2},{"$f":"CORREL($B$1:B31,$M$1:M31)","v":{"$error":"#N/A"}},{"$f":"'Sheet3 (4)'!W31","v":5.0203203442504563E-3},{"$f":"CORREL($B$1:B31,$O$1:O31)","v":{"$error":"#N/A"}},{"$f":"'Sheet3 (4)'!Y31","v":8.4094185487746283E-3},{"$f":"CORREL($B$1:B31,$Q$1:Q31)","v":{"$error":"#N/A"}},{"$f":"'Sheet3 (4)'!AA31","v":1.3665202537823246E-2},{"$f":"CORREL($B$1:B31,$S$1:S31)","v":{"$error":"#N/A"}}]
[null,{"$f":"'Sheet3 (4)'!I32","v":{"$error":"#N/A"}},{"$f":"'Sheet3 (4)'!K32","v":2.7730061349693278E-2},{"$f":"CORREL($B$1:B32,$C$1:C32)","v":{"$error":"#N/A"}},{"$f":"'Sheet3 (4)'!M32","v":-1.636188642925893E-2},{"$f":"CORREL($B$1:B32,$E$1:E32)","v":{"$error":"#N/A"}},{"$f":"'Sheet3 (4)'!O32","v":-2.1572387344198879E-3},{"$f":"CORREL($B$1:B32,$G$1:G32)","v":{"$error":"#N/A"}},{"$f":"'Sheet3 (4)'!Q32","v":-1.1999040076793857E-3},{"$f":"CORREL($B$1:B32,$I$1:I32)","v":{"$error":"#N/A"}},{"$f":"'Sheet3 (4)'!S32","v":7.5632238241550185E-3},{"$f":"CORREL($B$1:B32,$K$1:K32)","v":{"$error":"#N/A"}},{"$f":"'Sheet3 (4)'!U32","v":1.0321651464234168E-2},{"$f":"CORREL($B$1:B32,$M$1:M32)","v":{"$error":"#N/A"}},{"$f":"'Sheet3 (4)'!W32","v":4.7812574707147976E-3},{"$f":"CORREL($B$1:B32,$O$1:O32)","v":{"$error":"#N/A"}},{"$f":"'Sheet3 (4)'!Y32","v":8.1691494473811483E-3},{"$f":"CORREL($B$1:B32,$Q$1:Q32)","v":{"$error":"#N/A"}},{"$f":"'Sheet3 (4)'!AA32","v":1.6349438750610026E-2},{"$f":"CORREL($B$1:B32,$S$1:S32)","v":{"$error":"#N/A"}}]
[null,{"$f":"'Sheet3 (4)'!I33","v":{"$error":"#N/A"}},{"$f":"'Sheet3 (4)'!K33","v":2.8220858895705522E-2},{"$f":"CORREL($B$1:B33,$C$1:C33)","v":{"$error":"#N/A"}},{"$f":"'Sheet3 (4)'!M33","v":-1.7805582290664181E-2},{"$f":"CORREL($B$1:B33,$E$1:E33)","v":{"$error":"#N/A"}},{"$f":"'Sheet3 (4)'!O33","v":-2.876318312559896E-3},{"$f":"CORREL($B$1:B33,$G$1:G33)","v":{"$error":"#N/A"}},{"$f":"'Sheet3 (4)'!Q33","v":9.5992320614359038E-4},{"$f":"CORREL($B$1:B33,$I$1:I33)","v":{"$error":"#N/A"}},{"$f":"'Sheet3 (4)'!S33","v":7.3268730796501201E-3},{"$f":"CORREL($B$1:B33,$K$1:K33)","v":{"$error":"#N/A"}},{"$f":"'Sheet3 (4)'!U33","v":1.0801728276524243E-2},{"$f":"CORREL($B$1:B33,$M$1:M33)","v":{"$error":"#N/A"}},{"$f":"'Sheet3 (4)'!W33","v":5.737508964857703E-3},{"$f":"CORREL($B$1:B33,$O$1:O33)","v":{"$error":"#N/A"}},{"$f":"'Sheet3 (4)'!Y33","v":8.6496876501682435E-3},{"$f":"CORREL($B$1:B33,$Q$1:Q33)","v":{"$error":"#N/A"}},{"$f":"'Sheet3 (4)'!AA33","v":1.8789653489507049E-2},{"$f":"CORREL($B$1:B33,$S$1:S33)","v":{"$error":"#N/A"}}]
[null,{"$f":"'Sheet3 (4)'!I34","v":{"$error":"#N/A"}},{"$f":"'Sheet3 (4)'!K34","v":2.8466257668711713E-2},{"$f":"CORREL($B$1:B34,$C$1:C34)","v":{"$error":"#N/A"}},{"$f":"'Sheet3 (4)'!M34","v":-1.8046198267564966E-2},{"$f":"CORREL($B$1:B34,$E$1:E34)","v":{"$error":"#N/A"}},{"$f":"'Sheet3 (4)'!O34","v":-3.3557046979865229E-3},{"$f":"CORREL($B$1:B34,$G$1:G34)","v":{"$error":"#N/A"}},{"$f":"'Sheet3 (4)'!Q34","v":9.5992320614359038E-4},{"$f":"CORREL($B$1:B34,$I$1:I34)","v":{"$error":"#N/A"}},{"$f":"'Sheet3 (4)'!S34","v":8.2722760576695812E-3},{"$f":"CORREL($B$1:B34,$K$1:K34)","v":{"$error":"#N/A"}},{"$f":"'Sheet3 (4)'!U34","v":1.4402304368698991E-2},{"$f":"CORREL($B$1:B34,$M$1:M34)","v":{"$error":"#N/A"}},{"$f":"'Sheet3 (4)'!W34","v":5.4984460913220451E-3},{"$f":"CORREL($B$1:B34,$O$1:O34)","v":{"$error":"#N/A"}},{"$f":"'Sheet3 (4)'!Y34","v":8.8899567515617218E-3},{"$f":"CORREL($B$1:B34,$Q$1:Q34)","v":{"$error":"#N/A"}},{"$f":"'Sheet3 (4)'!AA34","v":1.8789653489507049E-2},{"$f":"CORREL($B$1:B34,$S$1:S34)","v":{"$error":"#N/A"}}]
[null,{"$f":"'Sheet3 (4)'!I35","v":{"$error":"#N/A"}},{"$f":"'Sheet3 (4)'!K35","v":2.8711656441717765E-2},{"$f":"CORREL($B$1:B35,$C$1:C35)","v":{"$error":"#N/A"}},{"$f":"'Sheet3 (4)'!M35","v":-1.6843118383060636E-2},{"$f":"CORREL($B$1:B35,$E$1:E35)","v":{"$error":"#N/A"}},{"$f":"'Sheet3 (4)'!O35","v":-5.2732502396931656E-3},{"$f":"CORREL($B$1:B35,$G$1:G35)","v":{"$error":"#N/A"}},{"$f":"'Sheet3 (4)'!Q35","v":-7.1994240460765868E-4},{"$f":"CORREL($B$1:B35,$I$1:I35)","v":{"$error":"#N/A"}},{"$f":"'Sheet3 (4)'!S35","v":8.2722760576695812E-3},{"$f":"CORREL($B$1:B35,$K$1:K35)","v":{"$error":"#N/A"}},{"$f":"'Sheet3 (4)'!U35","v":1.4642342774843893E-2},{"$f":"CORREL($B$1:B35,$M$1:M35)","v":{"$error":"#N/A"}},{"$f":"'Sheet3 (4)'!W35","v":5.4984460913220451E-3},{"$f":"CORREL($B$1:B35,$O$1:O35)","v":{"$error":"#N/A"}},{"$f":"'Sheet3 (4)'!Y35","v":8.8899567515617218E-3},{"$f":"CORREL($B$1:B35,$Q$1:Q35)","v":{"$error":"#N/A"}},{"$f":"'Sheet3 (4)'!AA35","v":1.8057589067837915E-2},{"$f":"CORREL($B$1:B35,$S$1:S35)","v":{"$error":"#N/A"}}]
[null,{"$f":"'Sheet3 (4)'!I36","v":{"$error":"#N/A"}},{"$f":"'Sheet3 (4)'!K36","v":2.8957055214723953E-2},{"$f":"CORREL($B$1:B36,$C$1:C36)","v":{"$error":"#N/A"}},{"$f":"'Sheet3 (4)'!M36","v":-1.660250240615985E-2},{"$f":"CORREL($B$1:B36,$E$1:E36)","v":{"$error":"#N/A"}},{"$f":"'Sheet3 (4)'!O36","v":-2.876318312559896E-3},{"$f":"CORREL($B$1:B36,$G$1:G36)","v":{"$error":"#N/A"}},{"$f":"'Sheet3 (4)'!Q36","v":-7.1994240460765868E-4},{"$f":"CORREL($B$1:B36,$I$1:I36)","v":{"$error":"#N/A"}},{"$f":"'Sheet3 (4)'!S36","v":8.0359253131646827E-3},{"$f":"CORREL($B$1:B36,$K$1:K36)","v":{"$error":"#N/A"}},{"$f":"'Sheet3 (4)'!U36","v":1.4882381180988931E-2},{"$f":"CORREL($B$1:B36,$M$1:M36)","v":{"$error":"#N/A"}},{"$f":"'Sheet3 (4)'!W36","v":6.4546975854649496E-3},{"$f":"CORREL($B$1:B36,$O$1:O36)","v":{"$error":"#N/A"}},{"$f":"'Sheet3 (4)'!Y36","v":8.6496876501682435E-3},{"$f":"CORREL($B$1:B36,$Q$1:Q36)","v":{"$error":"#N/A"}},{"$f":"'Sheet3 (4)'!AA36","v":1.8057589067837915E-2},{"$f":"CORREL($B$1:B36,$S$1:S36)","v":{"$error":"#N/A"}}]
[null,{"$f":"'Sheet3 (4)'!I37","v":{"$error":"#N/A"}},{"$f":"'Sheet3 (4)'!K37","v":2.797546012269933E-2},{"$f":"CORREL($B$1:B37,$C$1:C37)","v":{"$error":"#N/A"}},{"$f":"'Sheet3 (4)'!M37","v":-1.6121270452358144E-2},{"$f":"CORREL($B$1:B37,$E$1:E37)","v":{"$error":"#N/A"}},{"$f":"'Sheet3 (4)'!O37","v":-2.6366251198465147E-3},{"$f":"CORREL($B$1:B37,$G$1:G37)","v":{"$error":"#N/A"}},{"$f":"'Sheet3 (4)'!Q37","v":-4.7996160307172699E-4},{"$f":"CORREL($B$1:B37,$I$1:I37)","v":{"$error":"#N/A"}},{"$f":"'Sheet3 (4)'!S37","v":5.6724178681162307E-3},{"$f":"CORREL($B$1:B37,$K$1:K37)","v":{"$error":"#N/A"}},{"$f":"'Sheet3 (4)'!U37","v":1.4162265962553953E-2},{"$f":"CORREL($B$1:B37,$M$1:M37)","v":{"$error":"#N/A"}},{"$f":"'Sheet3 (4)'!W37","v":5.976571838393497E-3},{"$f":"CORREL($B$1:B37,$O$1:O37)","v":{"$error":"#N/A"}},{"$f":"'Sheet3 (4)'!Y37","v":1.201345506967804E-2},{"$f":"CORREL($B$1:B37,$Q$1:Q37)","v":{"$error":"#N/A"}},{"$f":"'Sheet3 (4)'!AA37","v":2.0741825280624696E-2},{"$f":"CORREL($B$1:B37,$S$1:S37)","v":{"$error":"#N/A"}}]
[null,{"$f":"'Sheet3 (4)'!I38","v":{"$error":"#N/A"}},{"$f":"'Sheet3 (4)'!K38","v":2.6748466257668656E-2},{"$f":"CORREL($B$1:B38,$C$1:C38)","v":{"$error":"#N/A"}},{"$f":"'Sheet3 (4)'!M38","v":-1.8046198267564966E-2},{"$f":"CORREL($B$1:B38,$E$1:E38)","v":{"$error":"#N/A"}},{"$f":"'Sheet3 (4)'!O38","v":-4.0747842761265311E-3},{"$f":"CORREL($B$1:B38,$G$1:G38)","v":{"$error":"#N/A"}},{"$f":"'Sheet3 (4)'!Q38","v":4.7996160307172699E-4},{"$f":"CORREL($B$1:B38,$I$1:I38)","v":{"$error":"#N/A"}},{"$f":"'Sheet3 (4)'!S38","v":7.3268730796501201E-3},{"$f":"CORREL($B$1:B38,$K$1:K38)","v":{"$error":"#N/A"}},{"$f":"'Sheet3 (4)'!U38","v":1.4402304368698991E-2},{"$f":"CORREL($B$1:B38,$M$1:M38)","v":{"$error":"#N/A"}},{"$f":"'Sheet3 (4)'!W38","v":6.6937604590007445E-3},{"$f":"CORREL($B$1:B38,$O$1:O38)","v":{"$error":"#N/A"}},{"$f":"'Sheet3 (4)'!Y38","v":1.1532916866890945E-2},{"$f":"CORREL($B$1:B38,$Q$1:Q38)","v":{"$error":"#N/A"}},{"$f":"'Sheet3 (4)'!AA38","v":1.9277696437286426E-2},{"$f":"CORREL($B$1:B38,$S$1:S38)","v":{"$error":"#N/A"}}]
[null,{"$f":"'Sheet3 (4)'!I39","v":{"$error":"#N/A"}},{"$f":"'Sheet3 (4)'!K39","v":2.6993865030674847E-2},{"$f":"CORREL($B$1:B39,$C$1:C39)","v":{"$error":"#N/A"}},{"$f":"'Sheet3 (4)'!M39","v":-1.8046198267564966E-2},{"$f":"CORREL($B$1:B39,$E$1:E39)","v":{"$error":"#N/A"}},{"$f":"'Sheet3 (4)'!O39","v":-5.2732502396931656E-3},{"$f":"CORREL($B$1:B39,$G$1:G39)","v":{"$error":"#N/A"}},{"$f":"'Sheet3 (4)'!Q39","v":-1.439884809215181E-3},{"$f":"CORREL($B$1:B39,$I$1:I39)","v":{"$error":"#N/A"}},{"$f":"'Sheet3 (4)'!S39","v":7.5632238241550185E-3},{"$f":"CORREL($B$1:B39,$K$1:K39)","v":{"$error":"#N/A"}},{"$f":"'Sheet3 (4)'!U39","v":1.5362457993278868E-2},{"$f":"CORREL($B$1:B39,$M$1:M39)","v":{"$error":"#N/A"}},{"$f":"'Sheet3 (4)'!W39","v":6.4546975854649496E-3},{"$f":"CORREL($B$1:B39,$O$1:O39)","v":{"$error":"#N/A"}},{"$f":"'Sheet3 (4)'!Y39","v":1.2253724171071656E-2},{"$f":"CORREL($B$1:B39,$Q$1:Q39)","v":{"$error":"#N/A"}},{"$f":"'Sheet3 (4)'!AA39","v":1.9765739385065803E-2},{"$f":"CORREL($B$1:B39,$S$1:S39)","v":{"$error":"#N/A"}}]
[null,{"$f":"'Sheet3 (4)'!I40","v":{"$error":"#N/A"}},{"$f":"'Sheet3 (4)'!K40","v":2.797546012269933E-2},{"$f":"CORREL($B$1:B40,$C$1:C40)","v":{"$error":"#N/A"}},{"$f":"'Sheet3 (4)'!M40","v":-1.8046198267564966E-2},{"$f":"CORREL($B$1:B40,$E$1:E40)","v":{"$error":"#N/A"}},{"$f":"'Sheet3 (4)'!O40","v":-3.3557046979865229E-3},{"$f":"CORREL($B$1:B40,$G$1:G40)","v":{"$error":"#N/A"}},{"$f":"'Sheet3 (4)'!Q40","v":4.7996160307172699E-4},{"$f":"CORREL($B$1:B40,$I$1:I40)","v":{"$error":"#N/A"}},{"$f":"'Sheet3 (4)'!S40","v":6.3814701016307925E-3},{"$f":"CORREL($B$1:B40,$K$1:K40)","v":{"$error":"#N/A"}},{"$f":"'Sheet3 (4)'!U40","v":1.4642342774843893E-2},{"$f":"CORREL($B$1:B40,$M$1:M40)","v":{"$error":"#N/A"}},{"$f":"'Sheet3 (4)'!W40","v":4.5421945971790036E-3},{"$f":"CORREL($B$1:B40,$O$1:O40)","v":{"$error":"#N/A"}},{"$f":"'Sheet3 (4)'!Y40","v":1.0091302258529526E-2},{"$f":"CORREL($B$1:B40,$Q$1:Q40)","v":{"$error":"#N/A"}},{"$f":"'Sheet3 (4)'!AA40","v":1.8057589067837915E-2},{"$f":"CORREL($B$1:B40,$S$1:S40)","v":{"$error":"#N/A"}}]
[null,{"$f":"'Sheet3 (4)'!I41","v":{"$error":"#N/A"}},{"$f":"'Sheet3 (4)'!K41","v":2.8220858895705522E-2},{"$f":"CORREL($B$1:B41,$C$1:C41)","v":{"$error":"#N/A"}},{"$f":"'Sheet3 (4)'!M41","v":-1.8046198267564966E-2},{"$f":"CORREL($B$1:B41,$E$1:E41)","v":{"$error":"#N/A"}},{"$f":"'Sheet3 (4)'!O41","v":-2.876318312559896E-3},{"$f":"CORREL($B$1:B41,$G$1:G41)","v":{"$error":"#N/A"}},{"$f":"'Sheet3 (4)'!Q41","v":2.3998080153587713E-3},{"$f":"CORREL($B$1:B41,$I$1:I41)","v":{"$error":"#N/A"}},{"$f":"'Sheet3 (4)'!S41","v":6.3814701016307925E-3},{"$f":"CORREL($B$1:B41,$K$1:K41)","v":{"$error":"#N/A"}},{"$f":"'Sheet3 (4)'!U41","v":1.3682189150264014E-2},{"$f":"CORREL($B$1:B41,$M$1:M41)","v":{"$error":"#N/A"}},{"$f":"'Sheet3 (4)'!W41","v":4.7812574707147976E-3},{"$f":"CORREL($B$1:B41,$O$1:O41)","v":{"$error":"#N/A"}},{"$f":"'Sheet3 (4)'!Y41","v":8.8899567515617218E-3},{"$f":"CORREL($B$1:B41,$Q$1:Q41)","v":{"$error":"#N/A"}},{"$f":"'Sheet3 (4)'!AA41","v":1.6837481698389403E-2},{"$f":"CORREL($B$1:B41,$S$1:S41)","v":{"$error":"#N/A"}}]
[null,{"$f":"'Sheet3 (4)'!I42","v":{"$error":"#N/A"}},{"$f":"'Sheet3 (4)'!K42","v":2.8466257668711713E-2},{"$f":"CORREL($B$1:B42,$C$1:C42)","v":{"$error":"#N/A"}},{"$f":"'Sheet3 (4)'!M42","v":-1.7324350336862478E-2},{"$f":"CORREL($B$1:B42,$E$1:E42)","v":{"$error":"#N/A"}},{"$f":"'Sheet3 (4)'!O42","v":-2.6366251198465147E-3},{"$f":"CORREL($B$1:B42,$G$1:G42)","v":{"$error":"#N/A"}},{"$f":"'Sheet3 (4)'!Q42","v":2.3998080153587713E-3},{"$f":"CORREL($B$1:B42,$I$1:I42)","v":{"$error":"#N/A"}},{"$f":"'Sheet3 (4)'!S42","v":6.3814701016307925E-3},{"$f":"CORREL($B$1:B42,$K$1:K42)","v":{"$error":"#N/A"}},{"$f":"'Sheet3 (4)'!U42","v":1.4402304368698991E-2},{"$f":"CORREL($B$1:B42,$M$1:M42)","v":{"$error":"#N/A"}},{"$f":"'Sheet3 (4)'!W42","v":4.5421945971790036E-3},{"$f":"CORREL($B$1:B42,$O$1:O42)","v":{"$error":"#N/A"}},{"$f":"'Sheet3 (4)'!Y42","v":6.4872657376261137E-3},{"$f":"CORREL($B$1:B42,$Q$1:Q42)","v":{"$error":"#N/A"}},{"$f":"'Sheet3 (4)'!AA42","v":1.7813567593948296E-2},{"$f":"CORREL($B$1:B42,$S$1:S42)","v":{"$error":"#N/A"}}]
[null,{"$f":"'Sheet3 (4)'!I43","v":{"$error":"#N/A"}},{"$f":"'Sheet3 (4)'!K43","v":2.8711656441717765E-2},{"$f":"CORREL($B$1:B43,$C$1:C43)","v":{"$error":"#N/A"}},{"$f":"'Sheet3 (4)'!M43","v":-1.7324350336862478E-2},{"$f":"CORREL($B$1:B43,$E$1:E43)","v":{"$error":"#N/A"}},{"$f":"'Sheet3 (4)'!O43","v":-2.876318312559896E-3},{"$f":"CORREL($B$1:B43,$G$1:G43)","v":{"$error":"#N/A"}},{"$f":"'Sheet3 (4)'!Q43","v":3.599712023038157E-3},{"$f":"CORREL($B$1:B43,$I$1:I43)","v":{"$error":"#N/A"}},{"$f":"'Sheet3 (4)'!S43","v":7.3268730796501201E-3},{"$f":"CORREL($B$1:B43,$K$1:K43)","v":{"$error":"#N/A"}},{"$f":"'Sheet3 (4)'!U43","v":1.5602496399423908E-2},{"$f":"CORREL($B$1:B43,$M$1:M43)","v":{"$error":"#N/A"}},{"$f":"'Sheet3 (4)'!W43","v":4.0640688501075509E-3},{"$f":"CORREL($B$1:B43,$O$1:O43)","v":{"$error":"#N/A"}},{"$f":"'Sheet3 (4)'!Y43","v":5.7664584334455411E-3},{"$f":"CORREL($B$1:B43,$Q$1:Q43)","v":{"$error":"#N/A"}},{"$f":"'Sheet3 (4)'!AA43","v":1.9033674963396807E-2},{"$f":"CORREL($B$1:B43,$S$1:S43)","v":{"$error":"#N/A"}}]
[null,{"$f":"'Sheet3 (4)'!I44","v":{"$error":"#N/A"}},{"$f":"'Sheet3 (4)'!K44","v":2.9447852760736196E-2},{"$f":"CORREL($B$1:B44,$C$1:C44)","v":{"$error":"#N/A"}},{"$f":"'Sheet3 (4)'!M44","v":-1.6843118383060636E-2},{"$f":"CORREL($B$1:B44,$E$1:E44)","v":{"$error":"#N/A"}},{"$f":"'Sheet3 (4)'!O44","v":-3.3557046979865229E-3},{"$f":"CORREL($B$1:B44,$G$1:G44)","v":{"$error":"#N/A"}},{"$f":"'Sheet3 (4)'!Q44","v":2.8797696184304986E-3},{"$f":"CORREL($B$1:B44,$I$1:I44)","v":{"$error":"#N/A"}},{"$f":"'Sheet3 (4)'!S44","v":4.9633656346016681E-3},{"$f":"CORREL($B$1:B44,$K$1:K44)","v":{"$error":"#N/A"}},{"$f":"'Sheet3 (4)'!U44","v":1.6562650024003787E-2},{"$f":"CORREL($B$1:B44,$M$1:M44)","v":{"$error":"#N/A"}},{"$f":"'Sheet3 (4)'!W44","v":3.3468802295003042E-3},{"$f":"CORREL($B$1:B44,$O$1:O44)","v":{"$error":"#N/A"}},{"$f":"'Sheet3 (4)'!Y44","v":6.4872657376261137E-3},{"$f":"CORREL($B$1:B44,$Q$1:Q44)","v":{"$error":"#N/A"}},{"$f":"'Sheet3 (4)'!AA44","v":1.7569546120058538E-2},{"$f":"CORREL($B$1:B44,$S$1:S44)","v":{"$error":"#N/A"}}]
[null,{"$f":"'Sheet3 (4)'!I45","v":{"$error":"#N/A"}},{"$f":"'Sheet3 (4)'!K45","v":2.9447852760736196E-2},{"$f":"CORREL($B$1:B45,$C$1:C45)","v":{"$error":"#N/A"}},{"$f":"'Sheet3 (4)'!M45","v":-1.7083734359961557E-2},{"$f":"CORREL($B$1:B45,$E$1:E45)","v":{"$error":"#N/A"}},{"$f":"'Sheet3 (4)'!O45","v":-4.3144774688399119E-3},{"$f":"CORREL($B$1:B45,$G$1:G45)","v":{"$error":"#N/A"}},{"$f":"'Sheet3 (4)'!Q45","v":3.1197504199664302E-3},{"$f":"CORREL($B$1:B45,$I$1:I45)","v":{"$error":"#N/A"}},{"$f":"'Sheet3 (4)'!S45","v":2.5998581895532165E-3},{"$f":"CORREL($B$1:B45,$K$1:K45)","v":{"$error":"#N/A"}},{"$f":"'Sheet3 (4)'!U45","v":1.6082573211713847E-2},{"$f":"CORREL($B$1:B45,$M$1:M45)","v":{"$error":"#N/A"}},{"$f":"'Sheet3 (4)'!W45","v":2.6296916088930575E-3},{"$f":"CORREL($B$1:B45,$O$1:O45)","v":{"$error":"#N/A"}},{"$f":"'Sheet3 (4)'!Y45","v":6.2469966362326355E-3},{"$f":"CORREL($B$1:B45,$Q$1:Q45)","v":{"$error":"#N/A"}},{"$f":"'Sheet3 (4)'!AA45","v":1.9033674963396807E-2},{"$f":"CORREL($B$1:B45,$S$1:S45)","v":{"$error":"#N/A"}}]
[null,{"$f":"'Sheet3 (4)'!I46","v":{"$error":"#N/A"}},{"$f":"'Sheet3 (4)'!K46","v":2.9447852760736196E-2},{"$f":"CORREL($B$1:B46,$C$1:C46)","v":{"$error":"#N/A"}},{"$f":"'Sheet3 (4)'!M46","v":-1.756496631376326E-2},{"$f":"CORREL($B$1:B46,$E$1:E46)","v":{"$error":"#N/A"}},{"$f":"'Sheet3 (4)'!O46","v":-4.5541706615531575E-3},{"$f":"CORREL($B$1:B46,$G$1:G46)","v":{"$error":"#N/A"}},{"$f":"'Sheet3 (4)'!Q46","v":4.0796736261098842E-3},{"$f":"CORREL($B$1:B46,$I$1:I46)","v":{"$error":"#N/A"}},{"$f":"'Sheet3 (4)'!S46","v":-1.6544552115340238E-3},{"$f":"CORREL($B$1:B46,$K$1:K46)","v":{"$error":"#N/A"}},{"$f":"'Sheet3 (4)'!U46","v":1.5842534805568808E-2},{"$f":"CORREL($B$1:B46,$M$1:M46)","v":{"$error":"#N/A"}},{"$f":"'Sheet3 (4)'!W46","v":1.4343772412143579E-3},{"$f":"CORREL($B$1:B46,$O$1:O46)","v":{"$error":"#N/A"}},{"$f":"'Sheet3 (4)'!Y46","v":4.8053820278712162E-3},{"$f":"CORREL($B$1:B46,$Q$1:Q46)","v":{"$error":"#N/A"}},{"$f":"'Sheet3 (4)'!AA46","v":1.9033674963396807E-2},{"$f":"CORREL($B$1:B46,$S$1:S46)","v":{"$error":"#N/A"}}]
[null,{"$f":"'Sheet3 (4)'!I47","v":{"$error":"#N/A"}},{"$f":"'Sheet3 (4)'!K47","v":2.8711656441717765E-2},{"$f":"CORREL($B$1:B47,$C$1:C47)","v":{"$error":"#N/A"}},{"$f":"'Sheet3 (4)'!M47","v":-1.8286814244465887E-2},{"$f":"CORREL($B$1:B47,$E$1:E47)","v":{"$error":"#N/A"}},{"$f":"'Sheet3 (4)'!O47","v":-4.7938638542665392E-3},{"$f":"CORREL($B$1:B47,$G$1:G47)","v":{"$error":"#N/A"}},{"$f":"'Sheet3 (4)'!Q47","v":4.0796736261098842E-3},{"$f":"CORREL($B$1:B47,$I$1:I47)","v":{"$error":"#N/A"}},{"$f":"'Sheet3 (4)'!S47","v":-7.563223824155153E-3},{"$f":"CORREL($B$1:B47,$K$1:K47)","v":{"$error":"#N/A"}},{"$f":"'Sheet3 (4)'!U47","v":1.4642342774843893E-2},{"$f":"CORREL($B$1:B47,$M$1:M47)","v":{"$error":"#N/A"}},{"$f":"'Sheet3 (4)'!W47","v":9.5625149414290517E-4},{"$f":"CORREL($B$1:B47,$O$1:O47)","v":{"$error":"#N/A"}},{"$f":"'Sheet3 (4)'!Y47","v":4.3248438250841218E-3},{"$f":"CORREL($B$1:B47,$Q$1:Q47)","v":{"$error":"#N/A"}},{"$f":"'Sheet3 (4)'!AA47","v":1.7813567593948296E-2},{"$f":"CORREL($B$1:B47,$S$1:S47)","v":{"$error":"#N/A"}}]
[null,{"$f":"'Sheet3 (4)'!I48","v":{"$error":"#N/A"}},{"$f":"'Sheet3 (4)'!K48","v":2.9447852760736196E-2},{"$f":"CORREL($B$1:B48,$C$1:C48)","v":{"$error":"#N/A"}},{"$f":"'Sheet3 (4)'!M48","v":-1.9971126082771923E-2},{"$f":"CORREL($B$1:B48,$E$1:E48)","v":{"$error":"#N/A"}},{"$f":"'Sheet3 (4)'!O48","v":-5.2732502396931656E-3},{"$f":"CORREL($B$1:B48,$G$1:G48)","v":{"$error":"#N/A"}},{"$f":"'Sheet3 (4)'!Q48","v":3.599712023038157E-3},{"$f":"CORREL($B$1:B48,$I$1:I48)","v":{"$error":"#N/A"}},{"$f":"'Sheet3 (4)'!S48","v":-8.7449775466793798E-3},{"$f":"CORREL($B$1:B48,$K$1:K48)","v":{"$error":"#N/A"}},{"$f":"'Sheet3 (4)'!U48","v":1.5602496399423908E-2},{"$f":"CORREL($B$1:B48,$M$1:M48)","v":{"$error":"#N/A"}},{"$f":"'Sheet3 (4)'!W48","v":7.171886206072468E-4},{"$f":"CORREL($B$1:B48,$O$1:O48)","v":{"$error":"#N/A"}},{"$f":"'Sheet3 (4)'!Y48","v":3.1234983181163177E-3},{"$f":"CORREL($B$1:B48,$Q$1:Q48)","v":{"$error":"#N/A"}},{"$f":"'Sheet3 (4)'!AA48","v":1.9033674963396807E-2},{"$f":"CORREL($B$1:B48,$S$1:S48)","v":{"$error":"#N/A"}}]
[null,{"$f":"'Sheet3 (4)'!I49","v":{"$error":"#N/A"}},{"$f":"'Sheet3 (4)'!K49","v":2.9447852760736196E-2},{"$f":"CORREL($B$1:B49,$C$1:C49)","v":{"$error":"#N/A"}},{"$f":"'Sheet3 (4)'!M49","v":-1.9489894128970217E-2},{"$f":"CORREL($B$1:B49,$E$1:E49)","v":{"$error":"#N/A"}},{"$f":"'Sheet3 (4)'!O49","v":-5.2732502396931656E-3},{"$f":"CORREL($B$1:B49,$G$1:G49)","v":{"$error":"#N/A"}},{"$f":"'Sheet3 (4)'!Q49","v":7.1994240460765868E-4},{"$f":"CORREL($B$1:B49,$I$1:I49)","v":{"$error":"#N/A"}},{"$f":"'Sheet3 (4)'!S49","v":-9.2176790356890432E-3},{"$f":"CORREL($B$1:B49,$K$1:K49)","v":{"$error":"#N/A"}},{"$f":"'Sheet3 (4)'!U49","v":1.5842534805568808E-2},{"$f":"CORREL($B$1:B49,$M$1:M49)","v":{"$error":"#N/A"}},{"$f":"'Sheet3 (4)'!W49","v":0},{"$f":"CORREL($B$1:B49,$O$1:O49)","v":{"$error":"#N/A"}},{"$f":"'Sheet3 (4)'!Y49","v":4.5651129264777371E-3},{"$f":"CORREL($B$1:B49,$Q$1:Q49)","v":{"$error":"#N/A"}},{"$f":"'Sheet3 (4)'!AA49","v":1.8789653489507049E-2},{"$f":"CORREL($B$1:B49,$S$1:S49)","v":{"$error":"#N/A"}}]
[null,{"$f":"'Sheet3 (4)'!I50","v":{"$error":"#N/A"}},{"$f":"'Sheet3 (4)'!K50","v":2.8711656441717765E-2},{"$f":"CORREL($B$1:B50,$C$1:C50)","v":{"$error":"#N/A"}},{"$f":"'Sheet3 (4)'!M50","v":-1.9971126082771923E-2},{"$f":"CORREL($B$1:B50,$E$1:E50)","v":{"$error":"#N/A"}},{"$f":"'Sheet3 (4)'!O50","v":-3.1160115052732778E-3},{"$f":"CORREL($B$1:B50,$G$1:G50)","v":{"$error":"#N/A"}},{"$f":"'Sheet3 (4)'!Q50","v":1.1999040076793857E-3},{"$f":"CORREL($B$1:B50,$I$1:I50)","v":{"$error":"#N/A"}},{"$f":"'Sheet3 (4)'!S50","v":-1.3944693925785945E-2},{"$f":"CORREL($B$1:B50,$K$1:K50)","v":{"$error":"#N/A"}},{"$f":"'Sheet3 (4)'!U50","v":1.7282765242438762E-2},{"$f":"CORREL($B$1:B50,$M$1:M50)","v":{"$error":"#N/A"}},{"$f":"'Sheet3 (4)'!W50","v":-2.1515658618217405E-3},{"$f":"CORREL($B$1:B50,$O$1:O50)","v":{"$error":"#N/A"}},{"$f":"'Sheet3 (4)'!Y50","v":5.0456511292648314E-3},{"$f":"CORREL($B$1:B50,$Q$1:Q50)","v":{"$error":"#N/A"}},{"$f":"'Sheet3 (4)'!AA50","v":2.0497803806734938E-2},{"$f":"CORREL($B$1:B50,$S$1:S50)","v":{"$error":"#N/A"}}]
[null,{"$f":"'Sheet3 (4)'!I51","v":{"$error":"#N/A"}},{"$f":"'Sheet3 (4)'!K51","v":2.8220858895705522E-2},{"$f":"CORREL($B$1:B51,$C$1:C51)","v":{"$error":"#N/A"}},{"$f":"'Sheet3 (4)'!M51","v":-2.0692974013474547E-2},{"$f":"CORREL($B$1:B51,$E$1:E51)","v":{"$error":"#N/A"}},{"$f":"'Sheet3 (4)'!O51","v":-2.6366251198465147E-3},{"$f":"CORREL($B$1:B51,$G$1:G51)","v":{"$error":"#N/A"}},{"$f":"'Sheet3 (4)'!Q51","v":2.8797696184304986E-3},{"$f":"CORREL($B$1:B51,$I$1:I51)","v":{"$error":"#N/A"}},{"$f":"'Sheet3 (4)'!S51","v":-1.5126447648310172E-2},{"$f":"CORREL($B$1:B51,$K$1:K51)","v":{"$error":"#N/A"}},{"$f":"'Sheet3 (4)'!U51","v":1.7282765242438762E-2},{"$f":"CORREL($B$1:B51,$M$1:M51)","v":{"$error":"#N/A"}},{"$f":"'Sheet3 (4)'!W51","v":-6.4546975854649496E-3},{"$f":"CORREL($B$1:B51,$O$1:O51)","v":{"$error":"#N/A"}},{"$f":"'Sheet3 (4)'!Y51","v":5.7664584334455411E-3},{"$f":"CORREL($B$1:B51,$Q$1:Q51)","v":{"$error":"#N/A"}},{"$f":"'Sheet3 (4)'!AA51","v":2.0497803806734938E-2},{"$f":"CORREL($B$1:B51,$S$1:S51)","v":{"$error":"#N/A"}}]
[null,{"$f":"'Sheet3 (4)'!I52","v":{"$error":"#N/A"}},{"$f":"'Sheet3 (4)'!K52","v":2.8957055214723953E-2},{"$f":"CORREL($B$1:B52,$C$1:C52)","v":{"$error":"#N/A"}},{"$f":"'Sheet3 (4)'!M52","v":-2.0211742059672844E-2},{"$f":"CORREL($B$1:B52,$E$1:E52)","v":{"$error":"#N/A"}},{"$f":"'Sheet3 (4)'!O52","v":-2.3969319271332696E-3},{"$f":"CORREL($B$1:B52,$G$1:G52)","v":{"$error":"#N/A"}},{"$f":"'Sheet3 (4)'!Q52","v":2.3998080153587713E-3},{"$f":"CORREL($B$1:B52,$I$1:I52)","v":{"$error":"#N/A"}},{"$f":"'Sheet3 (4)'!S52","v":-1.5362798392814937E-2},{"$f":"CORREL($B$1:B52,$K$1:K52)","v":{"$error":"#N/A"}},{"$f":"'Sheet3 (4)'!U52","v":1.7522803648583662E-2},{"$f":"CORREL($B$1:B52,$M$1:M52)","v":{"$error":"#N/A"}},{"$f":"'Sheet3 (4)'!W52","v":-6.4546975854649496E-3},{"$f":"CORREL($B$1:B52,$O$1:O52)","v":{"$error":"#N/A"}},{"$f":"'Sheet3 (4)'!Y52","v":6.4872657376261137E-3},{"$f":"CORREL($B$1:B52,$Q$1:Q52)","v":{"$error":"#N/A"}},{"$f":"'Sheet3 (4)'!AA52","v":2.0253782332845319E-2},{"$f":"CORREL($B$1:B52,$S$1:S52)","v":{"$error":"#N/A"}}]
[null,{"$f":"'Sheet3 (4)'!I53","v":{"$error":"#N/A"}},{"$f":"'Sheet3 (4)'!K53","v":2.8957055214723953E-2},{"$f":"CORREL($B$1:B53,$C$1:C53)","v":{"$error":"#N/A"}},{"$f":"'Sheet3 (4)'!M53","v":-1.756496631376326E-2},{"$f":"CORREL($B$1:B53,$E$1:E53)","v":{"$error":"#N/A"}},{"$f":"'Sheet3 (4)'!O53","v":-3.5953978906999042E-3},{"$f":"CORREL($B$1:B53,$G$1:G53)","v":{"$error":"#N/A"}},{"$f":"'Sheet3 (4)'!Q53","v":2.3998080153587713E-3},{"$f":"CORREL($B$1:B53,$I$1:I53)","v":{"$error":"#N/A"}},{"$f":"'Sheet3 (4)'!S53","v":-1.4890096903805274E-2},{"$f":"CORREL($B$1:B53,$K$1:K53)","v":{"$error":"#N/A"}},{"$f":"'Sheet3 (4)'!U53","v":1.8963034085453617E-2},{"$f":"CORREL($B$1:B53,$M$1:M53)","v":{"$error":"#N/A"}},{"$f":"'Sheet3 (4)'!W53","v":-6.2156347119292918E-3},{"$f":"CORREL($B$1:B53,$O$1:O53)","v":{"$error":"#N/A"}},{"$f":"'Sheet3 (4)'!Y53","v":7.2080730418068242E-3},{"$f":"CORREL($B$1:B53,$Q$1:Q53)","v":{"$error":"#N/A"}},{"$f":"'Sheet3 (4)'!AA53","v":2.0009760858955561E-2},{"$f":"CORREL($B$1:B53,$S$1:S53)","v":{"$error":"#N/A"}}]
[null,{"$f":"'Sheet3 (4)'!I54","v":{"$error":"#N/A"}},{"$f":"'Sheet3 (4)'!K54","v":2.8466257668711713E-2},{"$f":"CORREL($B$1:B54,$C$1:C54)","v":{"$error":"#N/A"}},{"$f":"'Sheet3 (4)'!M54","v":-1.9489894128970217E-2},{"$f":"CORREL($B$1:B54,$E$1:E54)","v":{"$error":"#N/A"}},{"$f":"'Sheet3 (4)'!O54","v":-3.8350910834131493E-3},{"$f":"CORREL($B$1:B54,$G$1:G54)","v":{"$error":"#N/A"}},{"$f":"'Sheet3 (4)'!Q54","v":1.1999040076793857E-3},{"$f":"CORREL($B$1:B54,$I$1:I54)","v":{"$error":"#N/A"}},{"$f":"'Sheet3 (4)'!S54","v":-1.5126447648310172E-2},{"$f":"CORREL($B$1:B54,$K$1:K54)","v":{"$error":"#N/A"}},{"$f":"'Sheet3 (4)'!U54","v":1.5602496399423908E-2},{"$f":"CORREL($B$1:B54,$M$1:M54)","v":{"$error":"#N/A"}},{"$f":"'Sheet3 (4)'!W54","v":-4.0640688501075509E-3},{"$f":"CORREL($B$1:B54,$O$1:O54)","v":{"$error":"#N/A"}},{"$f":"'Sheet3 (4)'!Y54","v":5.0456511292648314E-3},{"$f":"CORREL($B$1:B54,$Q$1:Q54)","v":{"$error":"#N/A"}},{"$f":"'Sheet3 (4)'!AA54","v":1.5617374328940892E-2},{"$f":"CORREL($B$1:B54,$S$1:S54)","v":{"$error":"#N/A"}}]
[null,{"$f":"'Sheet3 (4)'!I55","v":{"$error":"#N/A"}},{"$f":"'Sheet3 (4)'!K55","v":2.9447852760736196E-2},{"$f":"CORREL($B$1:B55,$C$1:C55)","v":{"$error":"#N/A"}},{"$f":"'Sheet3 (4)'!M55","v":-2.3099133782483211E-2},{"$f":"CORREL($B$1:B55,$E$1:E55)","v":{"$error":"#N/A"}},{"$f":"'Sheet3 (4)'!O55","v":-4.3144774688399119E-3},{"$f":"CORREL($B$1:B55,$G$1:G55)","v":{"$error":"#N/A"}},{"$f":"'Sheet3 (4)'!Q55","v":5.5195584353252012E-3},{"$f":"CORREL($B$1:B55,$I$1:I55)","v":{"$error":"#N/A"}},{"$f":"'Sheet3 (4)'!S55","v":-1.2999290947766485E-2},{"$f":"CORREL($B$1:B55,$K$1:K55)","v":{"$error":"#N/A"}},{"$f":"'Sheet3 (4)'!U55","v":1.9683149303888595E-2},{"$f":"CORREL($B$1:B55,$M$1:M55)","v":{"$error":"#N/A"}},{"$f":"'Sheet3 (4)'!W55","v":-9.5625149414304113E-4},{"$f":"CORREL($B$1:B55,$O$1:O55)","v":{"$error":"#N/A"}},{"$f":"'Sheet3 (4)'!Y55","v":7.6886112445939177E-3},{"$f":"CORREL($B$1:B55,$Q$1:Q55)","v":{"$error":"#N/A"}},{"$f":"'Sheet3 (4)'!AA55","v":1.7081503172279161E-2},{"$f":"CORREL($B$1:B55,$S$1:S55)","v":{"$error":"#N/A"}}]
[]
[null,null,null,{"$f":"'Sheet3 (4)'!C2","v":"2018-06-15"},null,{"$f":"'Sheet3 (4)'!C3","v":"2018-06-14"},null,{"$f":"'Sheet3 (4)'!C4","v":"2018-06-13"},null,{"$f":"'Sheet3 (4)'!C5","v":"2018-06-12"},null,{"$f":"'Sheet3 (4)'!C6","v":"2018-06-11"},null,{"$f":"'Sheet3 (4)'!C7","v":"2018-06-08"},null,{"$f":"'Sheet3 (4)'!C8","v":"2018-06-07"},null,{"$f":"'Sheet3 (4)'!C9","v":"2018-06-06"},null,{"$f":"'Sheet3 (4)'!C10","v":"2018-06-05"}]
[null,null,null,{"$f":"LOOKUP(2,1/(ISNUMBER(D1:D55)),D1:D55)","v":-0.44005817611786846},null,{"$f":"LOOKUP(2,1/(ISNUMBER(F1:F55)),F1:F55)","v":0.48138691020630048},null,{"$f":"LOOKUP(2,1/(ISNUMBER(H1:H55)),H1:H55)","v":0.75274654332689961},null,{"$f":"LOOKUP(2,1/(ISNUMBER(J1:J55)),J1:J55)","v":-0.25196611283655701},null,{"$f":"LOOKUP(2,1/(ISNUMBER(L1:L55)),L1:L55)","v":0.8502497749072585},null,{"$f":"LOOKUP(2,1/(ISNUMBER(N1:N55)),N1:N55)","v":-0.81779524624554456},null,{"$f":"LOOKUP(2,1/(ISNUMBER(P1:P55)),P1:P55)","v":0.59014004111154961},null,{"$f":"LOOKUP(2,1/(ISNUMBER(R1:R55)),R1:R55)","v":0.66075117490415358},null,{"$f":"LOOKUP(2,1/(ISNUMBER(T1:T55)),T1:T55)","v":-0.10827630825903656}]
[]
[null,null,{"$f":"RANK(D60,$D$60:$D$68,0)+COUNTIF($D$60:D60,D60)-1","v":8},{"$f":"D58","v":-0.44005817611786846},{"$f":"D57","v":"2018-06-15"},{"$f":"RANK(D60,$D$60:$D$68,0)+COUNTIF($D$60:D60,D60)-1","v":8},{"$f":"VLOOKUP(1,C60:E68,3,FALSE)","v":"2018-06-11"},{"$f":"VLOOKUP(1,C60:E68,2,FALSE)","v":0.8502497749072585},{"$f":"IFERROR(VLOOKUP(G60,'Sheet3 (4)'!AK1:AN10,4,FALSE),1)","v":5}]
[null,null,{"$f":"RANK(D61,$D$60:$D$68,0)+COUNTIF($D$60:D61,D61)-1","v":5},{"$f":"F58","v":0.48138691020630048},{"$f":"F57","v":"2018-06-14"},{"$f":"RANK(D61,$D$60:$D$68,0)+COUNTIF($D$60:D61,D61)-1","v":5},{"$f":"VLOOKUP(2,C60:E68,3,FALSE)","v":"2018-06-13"},{"$f":"VLOOKUP(2,C60:E68,2,FALSE)","v":0.75274654332689961}]
[null,null,{"$f":"RANK(D62,$D$60:$D$68,0)+COUNTIF($D$60:D62,D62)-1","v":2},{"$f":"H58","v":0.75274654332689961},{"$f":"H57","v":"2018-06-13"},{"$f":"RANK(D62,$D$60:$D$68,0)+COUNTIF($D$60:D62,D62)-1","v":2},{"$f":"VLOOKUP(3,C60:E68,3,FALSE)","v":"2018-06-06"},{"$f":"VLOOKUP(3,C60:E68,2,FALSE)","v":0.66075117490415358}]
[null,null,{"$f":"RANK(D63,$D$60:$D$68,0)+COUNTIF($D$60:D63,D63)-1","v":7},{"$f":"J58","v":-0.25196611283655701},{"$f":"J57","v":"2018-06-12"},{"$f":"RANK(D63,$D$60:$D$68,0)+COUNTIF($D$60:D63,D63)-1","v":7},{"$f":"VLOOKUP(4,C60:E68,3,FALSE)","v":"2018-06-07"},{"$f":"VLOOKUP(4,C60:E68,2,FALSE)","v":0.59014004111154961}]
[null,null,{"$f":"RANK(D64,$D$60:$D$68,0)+COUNTIF($D$60:D64,D64)-1","v":1},{"$f":"L58","v":0.8502497749072585},{"$f":"L57","v":"2018-06-11"},{"$f":"RANK(D64,$D$60:$D$68,0)+COUNTIF($D$60:D64,D64)-1","v":1},{"$f":"VLOOKUP(5,C60:E68,3,FALSE)","v":"2018-06-14"},{"$f":"VLOOKUP(5,C60:E68,2,FALSE)","v":0.48138691020630048}]
[null,null,{"$f":"RANK(D65,$D$60:$D$68,0)+COUNTIF($D$60:D65,D65)-1","v":9},{"$f":"N58","v":-0.81779524624554456},{"$f":"N57","v":"2018-06-08"},{"$f":"RANK(D65,$D$60:$D$68,0)+COUNTIF($D$60:D65,D65)-1","v":9},{"$f":"VLOOKUP(6,C60:E68,3,FALSE)","v":"2018-06-05"},{"$f":"VLOOKUP(6,C60:E68,2,FALSE)","v":-0.10827630825903656}]
[null,null,{"$f":"RANK(D66,$D$60:$D$68,0)+COUNTIF($D$60:D66,D66)-1","v":4},{"$f":"P58","v":0.59014004111154961},{"$f":"P57","v":"2018-06-07"},{"$f":"RANK(D66,$D$60:$D$68,0)+COUNTIF($D$60:D66,D66)-1","v":4},{"$f":"VLOOKUP(7,C60:E68,3,FALSE)","v":"2018-06-12"},{"$f":"VLOOKUP(7,C60:E68,2,FALSE)","v":-0.25196611283655701}]
[null,null,{"$f":"RANK(D67,$D$60:$D$68,0)+COUNTIF($D$60:D67,D67)-1","v":3},{"$f":"R58","v":0.66075117490415358},{"$f":"R57","v":"2018-06-06"},{"$f":"RANK(D67,$D$60:$D$68,0)+COUNTIF($D$60:D67,D67)-1","v":3},{"$f":"VLOOKUP(8,C60:E68,3,FALSE)","v":"2018-06-15"},{"$f":"VLOOKUP(8,C60:E68,2,FALSE)","v":-0.44005817611786846}]
[null,null,{"$f":"RANK(D68,$D$60:$D$68,0)+COUNTIF($D$60:D68,D68)-1","v":6},{"$f":"T58","v":-0.10827630825903656},{"$f":"T57","v":"2018-06-05"},{"$f":"RANK(D68,$D$60:$D$68,0)+COUNTIF($D$60:D68,D68)-1","v":6},{"$f":"VLOOKUP(9,C60:E68,3,FALSE)","v":"2018-06-08"},{"$f":"VLOOKUP(9,C60:E68,2,FALSE)","v":-0.81779524624554456}]