{"text_format":"1","workbook":"xlsx","n_sheets":9,"sheets":["MainDisplay","Sheet3","Sheet4","Sheet3 (2)","Sheet4 (2)","Sheet3 (3)","Sheet4 (3)","Sheet3 (4)","Sheet4 (4)"],"not_rendered":{"charts":4,"images":6,"macros":1,"external_links":0,"defined_names":0,"comments":0,"pivot_tables":0},"unopened":[],"bounds":{"document_bytes":16777216,"sheet_cells":100000,"rows_first":2000,"rows_last":500,"rows_between":2000,"halvings":0,"cell_chars":16384,"cell_head_chars":4096},"cells_cut":0,"cells_raw":0,"read":"whole","date_system":"1900"}

{"sheet":"MainDisplay","index":0,"n_rows":55,"n_cols":31,"rows_kept":55,"cut":false,"hidden":false,"merged":[[9,28,10,30],[9,12,10,14],[8,12,8,14],[33,2,34,3],[30,12,31,15],[35,28,36,30],[29,26,30,27],[30,18,31,21],[33,18,34,19],[33,20,34,21],[33,22,34,23],[33,24,34,25],[29,19,29,20],[29,23,30,24],[29,28,29,31],[30,28,31,31],[33,26,33,27],[34,28,34,30],[33,28,33,30],[1,26,2,31],[3,23,4,24],[3,26,4,27],[4,18,5,21],[7,18,8,19],[7,20,8,21],[7,22,8,23],[7,24,8,25],[8,28,8,30],[3,19,3,20],[3,28,3,31],[4,28,5,31],[7,26,7,27],[7,28,7,30],[1,1,2,4],[29,3,29,4],[29,7,30,8],[29,10,30,11],[30,2,31,5],[1,5,2,25],[3,3,3,4],[3,7,4,8],[3,10,4,11],[7,2,8,3],[7,4,8,5],[7,6,8,7],[7,8,8,9],[4,2,5,5],[3,12,3,15],[29,12,29,15],[4,12,5,15],[53,1,53,11],[53,17,53,27],[33,4,34,5],[33,6,34,7],[33,8,34,9],[34,12,34,14],[35,12,36,14],[7,10,7,11],[33,10,33,11],[27,1,27,11],[27,17,27,27],[7,12,7,14],[33,12,33,14]]}
[null,null,null,null,null,null,null,null,null,null,null,null,null,null,{"$f":"TODAY()","v":"2018-07-13"}]
[null,{"$f":"MOD(RTD(\"cqg.rtd\", ,\"SystemInfo\", \"Linetime\"),1)","v":"10:23:12"},null,null,null,"CQG NYSE & NASDAQ Equities 10-Day Map",null,null,null,null,null,null,null,null,null,null,null,null,null,null,null,null,null,null,null,null,{"$f":"RTD(\"cqg.rtd\", ,\"SystemInfo\", \"Linetime\")","v":43294.43277777778}]
[]
[null,"Symbol",null,"Equities",null,{"$f":"IF(RTD(\"cqg.rtd\", ,\"ContractData\",Sheet3!$D$12, \"NetLastTradeToday\",, \"T\")>=0,\"+\",0)","v":"+"},"Last",{"$f":"TEXT(RTD(\"cqg.rtd\", ,\"ContractData\",Sheet3!$D$12, \"LastTradeToday\",, \"T\"),Sheet3!$F$17)","v":"191.48"},null,"Net",{"$f":"IF(F4=\"+\",\"+\"&TEXT(RTD(\"cqg.rtd\", ,\"ContractData\",Sheet3!$D$12, \"NetLastTradeToday\",, \"T\"),Sheet3!$F$17),TEXT(RTD(\"cqg.rtd\", ,\"ContractData\",Sheet3!$D$12, \"NetLastTradeToday\",, \"T\"),Sheet3!$F$17))","v":"+.45"},null,"Net $ Change",null,null,null,null,"Symbol",null,"Equities",null,{"$f":"IF(RTD(\"cqg.rtd\", ,\"ContractData\",'Sheet3 (2)'!$D$12, \"NetLastTradeToday\",, \"T\")>=0,\"+\",0)","v":"+"},"Last",{"$f":"TEXT(RTD(\"cqg.rtd\", ,\"ContractData\",'Sheet3 (2)'!$D$12, \"LastTradeToday\",, \"T\"),'Sheet3 (2)'!$F$17)","v":"1808.12"},null,"Net",{"$f":"IF(V4=\"+\",\"+\"&TEXT(RTD(\"cqg.rtd\", ,\"ContractData\",'Sheet3 (2)'!$D$12, \"NetLastTradeToday\",, \"T\"),'Sheet3 (2)'!$F$17),TEXT(RTD(\"cqg.rtd\", ,\"ContractData\",'Sheet3 (2)'!$D$12, \"NetLastTradeToday\",, \"T\"),'Sheet3 (2)'!$F$17))","v":"+11.50"},null,"Net $ Change"]
[null,"S.AAPL",{"$f":"\" \"&RTD(\"cqg.rtd\", ,\"ContractData\",Sheet3!$D$12, \"LongDescription\",, \"T\")&\" \"","v":" Apple Inc "},null,null,null,"Trade",null,null,"Change",null,null,{"$f":"IFERROR(1/RTD(\"cqg.rtd\",,\"ContractData\",\"Tsize(\"&B5&\")\",\"LastQuoteToday\",,\"T\")*RTD(\"cqg.rtd\",,\"ContractData\",\"PriceToDollar(Tsize(\"&B5&\"))\",\"LastQuoteToday\")*RTD(\"cqg.rtd\", ,\"ContractData\", B5, \"NetLastTrade\"),\"\")","v":0.45},null,null,null,null,"S.AMZN",{"$f":"\" \"&RTD(\"cqg.rtd\", ,\"ContractData\",'Sheet3 (2)'!D12, \"LongDescription\",, \"T\")&\" \"","v":" Amazon.com Inc "},null,null,null,"Trade",null,null,"Change",null,null,{"$f":"IFERROR(1/RTD(\"cqg.rtd\",,\"ContractData\",\"Tsize(\"&R5&\")\",\"LastQuoteToday\",,\"T\")*RTD(\"cqg.rtd\",,\"ContractData\",\"PriceToDollar(Tsize(\"&R5&\"))\",\"LastQuoteToday\")*RTD(\"cqg.rtd\", ,\"ContractData\", R5, \"NetLastTrade\"),\"\")","v":11.5}]
[null,{"$f":"2*RTD(\"cqg.rtd\",,\"ContractData\",\"Tsize(\"&B5&\")\",\"LastQuoteToday\",,\"T\")","v":0.02},null,null,null,null,"Open",{"$f":"TEXT(RTD(\"cqg.rtd\", ,\"ContractData\",Sheet3!$D$12, \"Open\",, \"T\"),Sheet3!$F$17)","v":"191.08"},"High",{"$f":"TEXT(RTD(\"cqg.rtd\", ,\"ContractData\",Sheet3!$D$12, \"High\",, \"T\"),Sheet3!$F$17)","v":"191.84"},"Low",{"$f":"TEXT(RTD(\"cqg.rtd\", ,\"ContractData\",Sheet3!$D$12, \"Low\",, \"T\"),Sheet3!$F$17)","v":"190.90"},null,null,null,null,null,{"$f":"2*RTD(\"cqg.rtd\",,\"ContractData\",\"Tsize(\"&R5&\")\",\"LastQuoteToday\",,\"T\")","v":0.02},null,null,null,null,"Open",{"$f":"TEXT(RTD(\"cqg.rtd\", ,\"ContractData\",'Sheet3 (2)'!$D$12, \"Open\",, \"T\"),'Sheet3 (2)'!$F$17)","v":"1803.93"},"High",{"$f":"TEXT(RTD(\"cqg.rtd\", ,\"ContractData\",'Sheet3 (2)'!$D$12, \"High\",, \"T\"),'Sheet3 (2)'!$F$17)","v":"1815.19"},"Low",{"$f":"TEXT(RTD(\"cqg.rtd\", ,\"ContractData\",'Sheet3 (2)'!$D$12, \"Low\",, \"T\"),'Sheet3 (2)'!$F$17)","v":"1795.22"}]
[null,null,null,null,null,null,null,null,null,null,null,null,{"$f":"IF(J6-H4<=B6,1,0)","v":0},null,{"$f":"IF(H4-L6<=B6,1,0)","v":0},null,null,null,null,null,null,null,null,null,null,null,null,null,{"$f":"IF(Z6-X4<=R6,1,0)","v":0},null,{"$f":"IF(X4-AB6<=R6,1,0)","v":0}]
[null,{"$f":"Sheet4!I85+1","v":9},{"$f":"RTD(\"cqg.rtd\", ,\"ContractData\",Sheet3!$D$12, \"MT_LastBidVolume\",, \"T\")","v":100},null,{"$f":"TEXT(RTD(\"cqg.rtd\", ,\"ContractData\",Sheet3!$D$12, \"Bid\",, \"T\"),Sheet3!$F$17)","v":"191.48"},null,{"$f":"TEXT(RTD(\"cqg.rtd\", ,\"ContractData\",Sheet3!$D$12, \"Ask\",, \"T\"),Sheet3!$F$17)","v":"191.49"},null,{"$f":"RTD(\"cqg.rtd\", ,\"ContractData\",Sheet3!$D$12, \"MT_LastAskVolume\",, \"T\")","v":500},null,"Top Correlation to:",null,"Highlight",null,null,null,null,{"$f":"'Sheet4 (2)'!I85+1","v":5},{"$f":"RTD(\"cqg.rtd\", ,\"ContractData\",'Sheet3 (2)'!$D$12, \"MT_LastBidVolume\",, \"T\")","v":100},null,{"$f":"TEXT(RTD(\"cqg.rtd\", ,\"ContractData\",'Sheet3 (2)'!$D$12, \"Bid\",, \"T\"),'Sheet3 (2)'!$F$17)","v":"1808.06"},null,{"$f":"TEXT(RTD(\"cqg.rtd\", ,\"ContractData\",'Sheet3 (2)'!$D$12, \"Ask\",, \"T\"),'Sheet3 (2)'!$F$17)","v":"1808.73"},null,{"$f":"RTD(\"cqg.rtd\", ,\"ContractData\",'Sheet3 (2)'!$D$12, \"MT_LastAskVolume\",, \"T\")","v":100},null,"Top Correlation to:",null,"Highlight"]
[null,null,null,null,null,null,null,null,null,null,{"$f":"Sheet4!G85","v":"2018-07-02"},{"$f":"Sheet4!H85","v":0.46540638718597171},"Reset",null,null,null,null,null,null,null,null,null,null,null,null,null,{"$f":"'Sheet4 (2)'!G85","v":"2018-07-09"},{"$f":"'Sheet4 (2)'!H85","v":0.43355339378174956},"Reset"]
[{"$f":"IF(M14=$O$1,1,0)","v":0},null,null,null,null,null,null,null,null,null,null,null,null,null,null,null,{"$f":"IF(AC14=$O$1,1,0)","v":0}]
[0,null,null,null,null,null,null,null,null,null,null,null,null,null,null,null,{"$f":"IF(AC15=$O$1,1,0)","v":0}]
[0,null,null,null,null,null,null,null,null,null,null,null,"Bar Time","Corr",{"$f":"IFERROR(IF(TIME(0,5,0)-(MOD(B2,1)-M13)<0,1,TIME(0,5,0)-(MOD(B2,1)-M13)),\"\")","v":"00:01:48"},null,{"$f":"IF(AC16=$O$1,1,0)","v":0},null,null,null,null,null,null,null,null,null,null,null,"Bar Time","Corr",{"$f":"IFERROR(IF(TIME(0,5,0)-(MOD(B2,1)-AC13)<0,1,TIME(0,5,0)-(MOD(B2,1)-AC13)),\"\")","v":"00:01:48"}]
[0,null,null,null,null,null,null,null,null,null,null,null,{"$f":"IFERROR(Sheet3!AC12,\"\")","v":"10:20:00"},"Now","% NC",null,{"$f":"IF(AC17=$O$1,1,0)","v":1},null,null,null,null,null,null,null,null,null,null,null,{"$f":"IFERROR('Sheet3 (2)'!AC12,\"\")","v":"10:20:00"},"Now","% NC"]
[0,null,null,null,null,null,null,null,null,null,null,null,{"$f":"IFERROR(Sheet3!AG1,\"\")","v":"2018-07-12"},{"$f":"IFERROR(VLOOKUP(M14,Sheet4!$G$85:$H$93,2,FALSE),\"\")","v":0.27654400555768593},{"$f":"IFERROR(Sheet3!AH1,\"\")","v":1.335959122844364E-2},null,{"$f":"IF(AC18=$O$1,1,0)","v":0},null,null,null,null,null,null,null,null,null,null,null,{"$f":"IFERROR('Sheet3 (2)'!AG1,\"\")","v":"2018-07-12"},{"$f":"IFERROR(VLOOKUP(AC14,'Sheet4 (2)'!$G$85:$H$93,2,FALSE),\"\")","v":0.16361075655817062},{"$f":"IFERROR('Sheet3 (2)'!AH1,\"\")","v":1.5538461538461529E-2}]
[0,null,null,null,null,null,null,null,null,null,null,null,{"$f":"IFERROR(Sheet3!AG2,\"\")","v":"2018-07-09"},{"$f":"IFERROR(VLOOKUP(M15,Sheet4!$G$85:$H$93,2,FALSE),\"\")","v":-5.4002319763576945E-2},{"$f":"IFERROR(Sheet3!AH2,\"\")","v":1.2076395169441987E-2},null,0,null,null,null,null,null,null,null,null,null,null,null,{"$f":"IFERROR('Sheet3 (2)'!AG2,\"\")","v":"2018-07-09"},{"$f":"IFERROR(VLOOKUP(AC15,'Sheet4 (2)'!$G$85:$H$93,2,FALSE),\"\")","v":0.43355339378174956},{"$f":"IFERROR('Sheet3 (2)'!AH2,\"\")","v":1.0978411462443645E-2}]
[1,null,null,null,null,null,null,null,null,null,null,null,{"$f":"IFERROR(Sheet3!AG3,\"\")","v":"2018-07-06"},{"$f":"IFERROR(VLOOKUP(M16,Sheet4!$G$85:$H$93,2,FALSE),\"\")","v":-9.3011611698789437E-2},{"$f":"IFERROR(Sheet3!AH3,\"\")","v":9.5469255663429443E-3},null,0,null,null,null,null,null,null,null,null,null,null,null,{"$f":"IFERROR('Sheet3 (2)'!AG3,\"\")","v":"2018-06-29"},{"$f":"IFERROR(VLOOKUP(AC16,'Sheet4 (2)'!$G$85:$H$93,2,FALSE),\"\")","v":1.3978953659836401E-2},{"$f":"IFERROR('Sheet3 (2)'!AH3,\"\")","v":8.2341532222516035E-3}]
[0,null,null,null,null,null,null,null,null,null,null,null,{"$f":"IFERROR(Sheet3!AG4,\"\")","v":"2018-07-02"},{"$f":"IFERROR(VLOOKUP(M17,Sheet4!$G$85:$H$93,2,FALSE),\"\")","v":0.46540638718597171},{"$f":"IFERROR(Sheet3!AH4,\"\")","v":7.0228512776186209E-3},null,0,null,null,null,null,null,null,null,null,null,null,null,{"$f":"IFERROR('Sheet3 (2)'!AG4,\"\")","v":"2018-07-13"},{"$f":"IFERROR(VLOOKUP(AC17,'Sheet4 (2)'!$G$85:$H$93,2,FALSE),\"\")","v":""},{"$f":"IFERROR('Sheet3 (2)'!AH4,\"\")","v":6.4009083723881519E-3}]
[0,null,null,null,null,null,null,null,null,null,null,null,{"$f":"IFERROR(Sheet3!AG5,\"\")","v":"2018-07-05"},{"$f":"IFERROR(VLOOKUP(M18,Sheet4!$G$85:$H$93,2,FALSE),\"\")","v":-0.27705020078843662},{"$f":"IFERROR(Sheet3!AH5,\"\")","v":6.9051761635494256E-3},null,0,null,null,null,null,null,null,null,null,null,null,null,{"$f":"IFERROR('Sheet3 (2)'!AG5,\"\")","v":"2018-07-06"},{"$f":"IFERROR(VLOOKUP(AC18,'Sheet4 (2)'!$G$85:$H$93,2,FALSE),\"\")","v":0.42728971735149157},{"$f":"IFERROR('Sheet3 (2)'!AH5,\"\")","v":5.6714890011942323E-3}]
[0,null,null,null,null,null,null,null,null,null,null,null,{"$f":"IFERROR(Sheet3!AG6,\"\")","v":"2018-06-29"},{"$f":"IFERROR(VLOOKUP(M19,Sheet4!$G$85:$H$93,2,FALSE),\"\")","v":-0.46636632271943024},{"$f":"IFERROR(Sheet3!AH6,\"\")","v":4.7978436657681207E-3},null,0,null,null,null,null,null,null,null,null,null,null,null,{"$f":"IFERROR('Sheet3 (2)'!AG6,\"\")","v":"2018-07-10"},{"$f":"IFERROR(VLOOKUP(AC19,'Sheet4 (2)'!$G$85:$H$93,2,FALSE),\"\")","v":0.28855311493619573},{"$f":"IFERROR('Sheet3 (2)'!AH6,\"\")","v":4.0942599855091476E-3}]
[null,null,null,null,null,null,null,null,null,null,null,null,{"$f":"IFERROR(Sheet3!AG7,\"\")","v":"2018-07-13"},{"$f":"IFERROR(VLOOKUP(M20,Sheet4!$G$85:$H$93,2,FALSE),\"\")","v":""},{"$f":"IFERROR(Sheet3!AH7,\"\")","v":2.4603465424278851E-3},null,null,null,null,null,null,null,null,null,null,null,null,null,{"$f":"IFERROR('Sheet3 (2)'!AG7,\"\")","v":"2018-07-11"},{"$f":"IFERROR(VLOOKUP(AC20,'Sheet4 (2)'!$G$85:$H$93,2,FALSE),\"\")","v":8.7510416728021456E-2},{"$f":"IFERROR('Sheet3 (2)'!AH7,\"\")","v":1.4227770542778078E-3}]
[null,null,null,null,null,null,null,null,null,null,null,null,{"$f":"IFERROR(Sheet3!AG8,\"\")","v":"2018-07-10"},{"$f":"IFERROR(VLOOKUP(M21,Sheet4!$G$85:$H$93,2,FALSE),\"\")","v":9.8875842033449943E-2},{"$f":"IFERROR(Sheet3!AH8,\"\")","v":1.4691992863889239E-3},null,null,null,null,null,null,null,null,null,null,null,null,null,{"$f":"IFERROR('Sheet3 (2)'!AG8,\"\")","v":"2018-07-05"},{"$f":"IFERROR(VLOOKUP(AC21,'Sheet4 (2)'!$G$85:$H$93,2,FALSE),\"\")","v":-0.178308003577695},{"$f":"IFERROR('Sheet3 (2)'!AH8,\"\")","v":-5.0178280478885946E-4}]
[null,null,null,null,null,null,null,null,null,null,null,null,{"$f":"IFERROR(Sheet3!AG9,\"\")","v":"2018-07-03"},{"$f":"IFERROR(VLOOKUP(M22,Sheet4!$G$85:$H$93,2,FALSE),\"\")","v":8.3634691932953517E-2},{"$f":"IFERROR(Sheet3!AH9,\"\")","v":-3.41916871460634E-3},null,null,null,null,null,null,null,null,null,null,null,null,null,{"$f":"IFERROR('Sheet3 (2)'!AG9,\"\")","v":"2018-07-02"},{"$f":"IFERROR(VLOOKUP(AC22,'Sheet4 (2)'!$G$85:$H$93,2,FALSE),\"\")","v":0.29395369456455089},{"$f":"IFERROR('Sheet3 (2)'!AH9,\"\")","v":-1.7884456994940367E-3}]
[null,null,null,null,null,null,null,null,null,null,null,null,{"$f":"IFERROR(Sheet3!AG10,\"\")","v":"2018-07-11"},{"$f":"IFERROR(VLOOKUP(M23,Sheet4!$G$85:$H$93,2,FALSE),\"\")","v":-0.29100719110847545},{"$f":"IFERROR(Sheet3!AH10,\"\")","v":-9.2986603624900539E-3},null,null,null,null,null,null,null,null,null,null,null,null,null,{"$f":"IFERROR('Sheet3 (2)'!AG10,\"\")","v":"2018-07-03"},{"$f":"IFERROR(VLOOKUP(AC23,'Sheet4 (2)'!$G$85:$H$93,2,FALSE),\"\")","v":-0.21080787790619399},{"$f":"IFERROR('Sheet3 (2)'!AH10,\"\")","v":-3.3726616018391934E-3}]
[]
[]
[]
[]
[null,"Session: 8:30 - 15:15",null,null,null,null,null,null,null,null,null,null,null,null,null,null,null,"Session: 8:30 - 15:15"]
[]
[null,"Symbol",null,"Equities",null,{"$f":"IF(RTD(\"cqg.rtd\", ,\"ContractData\",'Sheet3 (3)'!$D$12, \"NetLastTradeToday\",, \"T\")=\"\",\"\",IF(RTD(\"cqg.rtd\", ,\"ContractData\",'Sheet3 (3)'!$D$12, \"NetLastTradeToday\",, \"T\")>=0,\"+\",0))","v":0},"Last",{"$f":"TEXT(RTD(\"cqg.rtd\", ,\"ContractData\",'Sheet3 (3)'!$D$12, \"LastTradeToday\",, \"T\"),'Sheet3 (3)'!$F$17)","v":"165.73"},null,"Net",{"$f":"IF(F30=\"\",\"\",IF(F30=\"+\",\"+\"&TEXT(RTD(\"cqg.rtd\", ,\"ContractData\",'Sheet3 (3)'!$D$12, \"NetLastTradeToday\",, \"T\"),'Sheet3 (3)'!$F$17),TEXT(RTD(\"cqg.rtd\", ,\"ContractData\",'Sheet3 (3)'!$D$12, \"NetLastTradeToday\",, \"T\"),'Sheet3 (3)'!$F$17)))","v":"-.10"},null,"Net $ Change",null,null,null,null,"Symbol",null,"Equities",null,{"$f":"IF(RTD(\"cqg.rtd\", ,\"ContractData\",'Sheet3 (4)'!$D$12, \"NetLastTradeToday\",, \"T\")>=0,\"+\",0)","v":0},"Last",{"$f":"TEXT(RTD(\"cqg.rtd\", ,\"ContractData\",'Sheet3 (4)'!$D$12, \"LastTradeToday\",, \"T\"),'Sheet3 (3)'!$F$17)","v":"400.80"},null,"Net",{"$f":"IF(V30=\"\",\"\",IF(V30=\"+\",\"+\"&TEXT(RTD(\"cqg.rtd\", ,\"ContractData\",'Sheet3 (4)'!$D$12, \"NetLastTradeToday\",, \"T\"),'Sheet3 (4)'!$F$17),TEXT(RTD(\"cqg.rtd\", ,\"ContractData\",'Sheet3 (4)'!$D$12, \"NetLastTradeToday\",, \"T\"),'Sheet3 (4)'!$F$17)))","v":"-12.67"},null,"Net $ Change"]
[null,"S.RYT",{"$f":"\" \"&RTD(\"cqg.rtd\", ,\"ContractData\",'Sheet3 (3)'!$D$12, \"LongDescription\",, \"T\")&\" \"","v":" Guggenheim S&P 500 Eq Wt Technology ETF "},null,null,null,"Trade",null,null,"Change",null,null,{"$f":"IFERROR(1/RTD(\"cqg.rtd\",,\"ContractData\",\"Tsize(\"&B31&\")\",\"LastQuoteToday\",,\"T\")*RTD(\"cqg.rtd\",,\"ContractData\",\"PriceToDollar(Tsize(\"&B31&\"))\",\"LastQuoteToday\")*RTD(\"cqg.rtd\", ,\"ContractData\", B31, \"NetLastTrade\"),\"\")","v":-0.1},null,null,null,null,"S.NFLX",{"$f":"\" \"&RTD(\"cqg.rtd\", ,\"ContractData\",'Sheet3 (4)'!D12, \"LongDescription\",, \"T\")&\" \"","v":" Netflix Inc "},null,null,null,"Trade",null,null,"Change",null,null,{"$f":"IFERROR(1/RTD(\"cqg.rtd\",,\"ContractData\",\"Tsize(\"&R31&\")\",\"LastQuoteToday\",,\"T\")*RTD(\"cqg.rtd\",,\"ContractData\",\"PriceToDollar(Tsize(\"&R31&\"))\",\"LastQuoteToday\")*RTD(\"cqg.rtd\", ,\"ContractData\", R31, \"NetLastTrade\",,\"T\"),\"\")","v":-12.699999999999989}]
[null,{"$f":"2*RTD(\"cqg.rtd\",,\"ContractData\",\"Tsize(\"&B31&\")\",\"LastQuoteToday\",,\"T\")","v":0.02},null,null,null,null,"Open",{"$f":"TEXT(RTD(\"cqg.rtd\", ,\"ContractData\",'Sheet3 (3)'!$D$12, \"Open\",, \"T\"),'Sheet3 (3)'!$F$17)","v":"165.81"},"High",{"$f":"TEXT(RTD(\"cqg.rtd\", ,\"ContractData\",'Sheet3 (3)'!$D$12, \"High\",, \"T\"),'Sheet3 (3)'!$F$17)","v":"165.97"},"Low",{"$f":"TEXT(RTD(\"cqg.rtd\", ,\"ContractData\",'Sheet3 (3)'!$D$12, \"Low\",, \"T\"),'Sheet3 (3)'!$F$17)","v":"164.97"},null,null,null,null,null,{"$f":"2*RTD(\"cqg.rtd\",,\"ContractData\",\"Tsize(\"&R31&\")\",\"LastQuoteToday\",,\"T\")","v":0.02},null,null,null,null,"Open",{"$f":"TEXT(RTD(\"cqg.rtd\", ,\"ContractData\",'Sheet3 (4)'!$D$12, \"Open\",, \"T\"),'Sheet3 (3)'!$F$17)","v":"409.19"},"High",{"$f":"TEXT(RTD(\"cqg.rtd\", ,\"ContractData\",'Sheet3 (4)'!$D$12, \"High\",, \"T\"),'Sheet3 (3)'!$F$17)","v":"410.00"},"Low",{"$f":"TEXT(RTD(\"cqg.rtd\", ,\"ContractData\",'Sheet3 (4)'!$D$12, \"Low\",, \"T\"),'Sheet3 (4)'!$F$17)","v":"395.58"}]
[null,null,null,null,null,null,null,null,null,null,null,null,{"$f":"IF(J32-H30<=B32,1,0)","v":0},null,{"$f":"IF(H30-L32<=B32,1,0)","v":0},null,null,null,null,null,null,null,null,null,null,null,null,null,{"$f":"IF(Z32-X30<=R32,1,0)","v":0},null,{"$f":"IF(X30-AB32<=R32,1,0)","v":0}]
[null,{"$f":"'Sheet4 (3)'!I85+1","v":4},{"$f":"RTD(\"cqg.rtd\", ,\"ContractData\",'Sheet3 (3)'!$D$12, \"MT_LastBidVolume\",, \"T\")","v":200},null,{"$f":"TEXT(RTD(\"cqg.rtd\", ,\"ContractData\",'Sheet3 (3)'!$D$12, \"Bid\",, \"T\"),'Sheet3 (3)'!$F$17)","v":"165.68"},null,{"$f":"TEXT(RTD(\"cqg.rtd\", ,\"ContractData\",'Sheet3 (3)'!$D$12, \"Ask\",, \"T\"),'Sheet3 (3)'!$F$17)","v":"165.73"},null,{"$f":"RTD(\"cqg.rtd\", ,\"ContractData\",'Sheet3 (3)'!$D$12, \"MT_LastAskVolume\",, \"T\")","v":1200},null,"Top Correlation to:",null,"Highlight",null,null,null,null,{"$f":"'Sheet4 (4)'!I85+1","v":10},{"$f":"RTD(\"cqg.rtd\", ,\"ContractData\",'Sheet3 (4)'!$D$12, \"MT_LastBidVolume\",, \"T\")","v":100},null,{"$f":"TEXT(RTD(\"cqg.rtd\", ,\"ContractData\",'Sheet3 (4)'!$D$12, \"Bid\",, \"T\"),'Sheet3 (3)'!$F$17)","v":"400.69"},null,{"$f":"TEXT(RTD(\"cqg.rtd\", ,\"ContractData\",'Sheet3 (4)'!$D$12, \"Ask\",, \"T\"),'Sheet3 (4)'!$F$17)","v":"400.90"},null,{"$f":"RTD(\"cqg.rtd\", ,\"ContractData\",'Sheet3 (4)'!$D$12, \"MT_LastAskVolume\",, \"T\")","v":300},null,"Top Correlation to:",null,"Highlight"]
[null,null,null,null,null,null,null,null,null,null,{"$f":"'Sheet4 (3)'!G85","v":"2018-07-10"},{"$f":"'Sheet4 (3)'!H85","v":0.2796470735662302},"Reset",null,null,null,null,null,null,null,null,null,null,null,null,null,{"$f":"'Sheet4 (4)'!G85","v":"2018-06-29"},{"$f":"'Sheet4 (4)'!H85","v":0.78703596913891227},"Reset"]
[{"$f":"IF(M40=$O$1,1,0)","v":0},null,null,null,null,null,null,null,null,null,null,null,null,null,null,null,{"$f":"IF(AC40=$O$1,1,0)","v":0}]
[0,null,null,null,null,null,null,null,null,null,null,null,null,null,null,null,{"$f":"IF(AC41=$O$1,1,0)","v":0}]
[0,null,null,null,null,null,null,null,null,null,null,null,"Bar Time","Corr",{"$f":"IFERROR(IF(TIME(0,5,0)-(MOD(B2,1)-M39)<0,1,TIME(0,5,0)-(MOD(B2,1)-M39)),\"\")","v":"00:01:48"},null,0,null,null,null,null,null,null,null,null,null,null,null,"Bar Time","Corr",{"$f":"IFERROR(IF(TIME(0,5,0)-(MOD(B2,1)-AC39)<0,1,TIME(0,5,0)-(MOD(B2,1)-AC39)),\"\")","v":"00:01:48"}]
[0,null,null,null,null,null,null,null,null,null,null,null,{"$f":"IFERROR('Sheet3 (3)'!AC12,\"\")","v":"10:20:00"},"Now","% NC",null,0,null,null,null,null,null,null,null,null,null,null,null,{"$f":"IFERROR('Sheet3 (4)'!AC12,\"\")","v":"10:20:00"},"Now","% NC"]
[0,null,null,null,null,null,null,null,null,null,null,null,{"$f":"IFERROR('Sheet3 (3)'!AG1,\"\")","v":"2018-07-12"},{"$f":"IFERROR(VLOOKUP(M40,'Sheet4 (3)'!$G$85:$H$93,2,FALSE),\"\")","v":7.037752239306852E-2},{"$f":"IFERROR('Sheet3 (3)'!AH1,\"\")","v":1.5433806800713219E-2},null,0,null,null,null,null,null,null,null,null,null,null,null,{"$f":"IFERROR('Sheet3 (4)'!AG1,\"\")","v":"2018-07-09"},{"$f":"IFERROR(VLOOKUP(AC40,'Sheet4 (4)'!$G$85:$H$93,2,FALSE),\"\")","v":0.67986868321619531},{"$f":"IFERROR('Sheet3 (4)'!AH1,\"\")","v":1.7342314758113861E-2}]
[0,null,null,null,null,null,null,null,null,null,null,null,{"$f":"IFERROR('Sheet3 (3)'!AG2,\"\")","v":"2018-06-29"},{"$f":"IFERROR(VLOOKUP(M41,'Sheet4 (3)'!$G$85:$H$93,2,FALSE),\"\")","v":0.21029662094986623},{"$f":"IFERROR('Sheet3 (3)'!AH2,\"\")","v":8.4735044896926993E-3},null,0,null,null,null,null,null,null,null,null,null,null,null,{"$f":"IFERROR('Sheet3 (4)'!AG2,\"\")","v":"2018-07-06"},{"$f":"IFERROR(VLOOKUP(AC41,'Sheet4 (4)'!$G$85:$H$93,2,FALSE),\"\")","v":-0.76417170433654102},{"$f":"IFERROR('Sheet3 (4)'!AH2,\"\")","v":1.4558598358392559E-2}]
[0,null,null,null,null,null,null,null,null,null,null,null,{"$f":"IFERROR('Sheet3 (3)'!AG3,\"\")","v":"2018-07-06"},{"$f":"IFERROR(VLOOKUP(M42,'Sheet4 (3)'!$G$85:$H$93,2,FALSE),\"\")","v":0.1856839557626333},{"$f":"IFERROR('Sheet3 (3)'!AH3,\"\")","v":6.5383896880253003E-3},null,0,null,null,null,null,null,null,null,null,null,null,null,{"$f":"IFERROR('Sheet3 (4)'!AG3,\"\")","v":"2018-07-05"},{"$f":"IFERROR(VLOOKUP(AC42,'Sheet4 (4)'!$G$85:$H$93,2,FALSE),\"\")","v":0.33468212981224493},{"$f":"IFERROR('Sheet3 (4)'!AH3,\"\")","v":8.5783058486121663E-3}]
[1,null,null,null,null,null,null,null,null,null,null,null,{"$f":"IFERROR('Sheet3 (3)'!AG4,\"\")","v":"2018-07-05"},{"$f":"IFERROR(VLOOKUP(M43,'Sheet4 (3)'!$G$85:$H$93,2,FALSE),\"\")","v":0.16738410404215021},{"$f":"IFERROR('Sheet3 (3)'!AH4,\"\")","v":6.1896039916629177E-3},null,0,null,null,null,null,null,null,null,null,null,null,null,{"$f":"IFERROR('Sheet3 (4)'!AG4,\"\")","v":"2018-07-11"},{"$f":"IFERROR(VLOOKUP(AC43,'Sheet4 (4)'!$G$85:$H$93,2,FALSE),\"\")","v":-0.56690575576126978},{"$f":"IFERROR('Sheet3 (4)'!AH4,\"\")","v":1.1789331857662083E-3}]
[0,null,null,null,null,null,null,null,null,null,null,null,{"$f":"IFERROR('Sheet3 (3)'!AG5,\"\")","v":"2018-07-10"},{"$f":"IFERROR(VLOOKUP(M44,'Sheet4 (3)'!$G$85:$H$93,2,FALSE),\"\")","v":0.2796470735662302},{"$f":"IFERROR('Sheet3 (3)'!AH5,\"\")","v":2.7549895922614706E-3},null,0,null,null,null,null,null,null,null,null,null,null,null,{"$f":"IFERROR('Sheet3 (4)'!AG5,\"\")","v":"2018-06-29"},{"$f":"IFERROR(VLOOKUP(AC44,'Sheet4 (4)'!$G$85:$H$93,2,FALSE),\"\")","v":0.78703596913891227},{"$f":"IFERROR('Sheet3 (4)'!AH5,\"\")","v":-1.1633200141622487E-3}]
[0,null,null,null,null,null,null,null,null,null,null,null,{"$f":"IFERROR('Sheet3 (3)'!AG6,\"\")","v":"2018-07-09"},{"$f":"IFERROR(VLOOKUP(M45,'Sheet4 (3)'!$G$85:$H$93,2,FALSE),\"\")","v":0.17995938832708192},{"$f":"IFERROR('Sheet3 (3)'!AH6,\"\")","v":8.0167735569804794E-4},null,1,null,null,null,null,null,null,null,null,null,null,null,{"$f":"IFERROR('Sheet3 (4)'!AG6,\"\")","v":"2018-07-02"},{"$f":"IFERROR(VLOOKUP(AC45,'Sheet4 (4)'!$G$85:$H$93,2,FALSE),\"\")","v":-0.62616657740707049},{"$f":"IFERROR('Sheet3 (4)'!AH6,\"\")","v":-2.4014510895945577E-3}]
[null,null,null,null,null,null,null,null,null,null,null,null,{"$f":"IFERROR('Sheet3 (3)'!AG7,\"\")","v":"2018-07-02"},{"$f":"IFERROR(VLOOKUP(M46,'Sheet4 (3)'!$G$85:$H$93,2,FALSE),\"\")","v":4.518879971043066E-2},{"$f":"IFERROR('Sheet3 (3)'!AH7,\"\")","v":-1.2622278321225503E-4},null,null,null,null,null,null,null,null,null,null,null,null,null,{"$f":"IFERROR('Sheet3 (4)'!AG7,\"\")","v":"2018-07-10"},{"$f":"IFERROR(VLOOKUP(AC46,'Sheet4 (4)'!$G$85:$H$93,2,FALSE),\"\")","v":-0.44586542300126497},{"$f":"IFERROR('Sheet3 (4)'!AH7,\"\")","v":-2.7209585411844361E-3}]
[null,null,null,null,null,null,null,null,null,null,null,null,{"$f":"IFERROR('Sheet3 (3)'!AG8,\"\")","v":"2018-07-13"},{"$f":"IFERROR(VLOOKUP(M47,'Sheet4 (3)'!$G$85:$H$93,2,FALSE),\"\")","v":""},{"$f":"IFERROR('Sheet3 (3)'!AH8,\"\")","v":-6.0302719652670042E-4},null,null,null,null,null,null,null,null,null,null,null,null,null,{"$f":"IFERROR('Sheet3 (4)'!AG8,\"\")","v":"2018-07-03"},{"$f":"IFERROR(VLOOKUP(AC47,'Sheet4 (4)'!$G$85:$H$93,2,FALSE),\"\")","v":0.14362491375372102},{"$f":"IFERROR('Sheet3 (4)'!AH8,\"\")","v":-6.2283389421869959E-3}]
[null,null,null,null,null,null,null,null,null,null,null,null,{"$f":"IFERROR('Sheet3 (3)'!AG9,\"\")","v":"2018-07-03"},{"$f":"IFERROR(VLOOKUP(M48,'Sheet4 (3)'!$G$85:$H$93,2,FALSE),\"\")","v":0.18223862431924712},{"$f":"IFERROR('Sheet3 (3)'!AH9,\"\")","v":-1.8138603952964226E-3},null,null,null,null,null,null,null,null,null,null,null,null,null,{"$f":"IFERROR('Sheet3 (4)'!AG9,\"\")","v":"2018-07-12"},{"$f":"IFERROR(VLOOKUP(AC48,'Sheet4 (4)'!$G$85:$H$93,2,FALSE),\"\")","v":0.48141230491449427},{"$f":"IFERROR('Sheet3 (4)'!AH9,\"\")","v":-2.2548668338707747E-2}]
[null,null,null,null,null,null,null,null,null,null,null,null,{"$f":"IFERROR('Sheet3 (3)'!AG10,\"\")","v":"2018-07-11"},{"$f":"IFERROR(VLOOKUP(M49,'Sheet4 (3)'!$G$85:$H$93,2,FALSE),\"\")","v":0.21659114112624483},{"$f":"IFERROR('Sheet3 (3)'!AH10,\"\")","v":-8.176714669270219E-3},null,null,null,null,null,null,null,null,null,null,null,null,null,{"$f":"IFERROR('Sheet3 (4)'!AG10,\"\")","v":"2018-07-13"},{"$f":"IFERROR(VLOOKUP(AC49,'Sheet4 (4)'!$G$85:$H$93,2,FALSE),\"\")","v":""},{"$f":"IFERROR('Sheet3 (4)'!AH10,\"\")","v":-3.071342200725511E-2}]
[]
[]
[]
[]
[null,"Session: 8:30 - 15:15",null,null,null,null,null,null,null,null,null,null,null,null,null,null,null,"Session: 8:30 - 15:15"]
[null,null,null,"  Copyright © 2018",null,null,null,null,null,"Designed by Thom Hartle"]

{"sheet":"Sheet3","index":1,"n_rows":83,"n_cols":40,"rows_kept":83,"cut":false,"hidden":true,"merged":[]}
[0,"08:30:00",{"$f":" RTD(\"cqg.rtd\",,\"StudyData\",$D$12, \"Bar\", \"\", \"Time\",\"D\",\"0\",,,,,\"T\")","v":"2018-07-13"},{"$f":"YEAR(C1)","v":2018},{"$f":"MONTH(C1)","v":7},{"$f":"DAY(C1)","v":13},null,{"$f":"RTD(\"cqg.rtd\",,\"StudyData\", \"Close(\"&$D$12&\") when LocalYear(\"&$D$12&\")=\"&$D$1&\" and localMonth(\"&$D$12&\") =\"&$E$1&\" and LocalDay(\"&$D$12&\")=\"&$F$1&\" and Barix(\"&$D$12&\",reference:=StartOfSession)=\"&A1&\"\", \"Bar\", \"\", \"Close\",\"5\",\"0\",\"PrimaryOnly\",,,\"False\",\"T\",\"EveryTick\")","v":191.13},{"$f":"IFERROR((H1-$G$2)/$G$2,NA())","v":5.2347798775058537E-4},{"$f":"RTD(\"cqg.rtd\",,\"StudyData\", \"Close(\"&$D$12&\") when LocalYear(\"&$D$12&\")=\"&$D$2&\" and localMonth(\"&$D$12&\") =\"&$E$2&\" and LocalDay(\"&$D$12&\")=\"&$F$2&\" and Barix(\"&$D$12&\",reference:=StartOfSession)=\"&A1&\"\", \"Bar\", \"\", \"Close\",\"5\",\"0\",\"PrimaryOnly\",,,\"False\",\"T\",\"EveryTick\")","v":190.23},{"$f":"IFERROR((J1-$G$3)/$G$3,NA())","v":1.2507983819459199E-2},{"$f":"RTD(\"cqg.rtd\",,\"StudyData\", \"Close(\"&$D$12&\") when LocalYear(\"&$D$12&\")=\"&$D$3&\" and localMonth(\"&$D$12&\") =\"&$E$3&\" and LocalDay(\"&$D$12&\")=\"&$F$3&\" and Barix(\"&$D$12&\",reference:=StartOfSession)=\"&A1&\"\", \"Bar\", \"\", \"Close\",\"5\",\"0\",\"PrimaryOnly\",,,\"False\",\"T\",\"EveryTick\")","v":189.69},{"$f":"IFERROR((L1-$G$4)/$G$4,NA())","v":-3.4672970843183429E-3},{"$f":"RTD(\"cqg.rtd\",,\"StudyData\", \"Close(\"&$D$12&\") when LocalYear(\"&$D$12&\")=\"&$D$4&\" and localMonth(\"&$D$12&\") =\"&$E$4&\" and LocalDay(\"&$D$12&\")=\"&$F$4&\" and Barix(\"&$D$12&\",reference:=StartOfSession)=\"&A1&\"\", \"Bar\", \"\", \"Close\",\"5\",\"0\",\"PrimaryOnly\",,,\"False\",\"T\",\"EveryTick\")","v":190.65},{"$f":"IFERROR((N1-$G$5)/$G$5,NA())","v":3.6729982159719368E-4},{"$f":"RTD(\"cqg.rtd\",,\"StudyData\", \"Close(\"&$D$12&\") when LocalYear(\"&$D$12&\")=\"&$D$5&\" and localMonth(\"&$D$12&\") =\"&$E$5&\" and LocalDay(\"&$D$12&\")=\"&$F$5&\" and Barix(\"&$D$12&\",reference:=StartOfSession)=\"&A1&\"\", \"Bar\", \"\", \"Close\",\"5\",\"0\",\"PrimaryOnly\",,,\"False\",\"T\",\"EveryTick\")","v":189.94},{"$f":"IFERROR((P1-$G$6)/$G$6,NA())","v":1.048039580784167E-2},{"$f":"RTD(\"cqg.rtd\",,\"StudyData\", \"Close(\"&$D$12&\") when LocalYear(\"&$D$12&\")=\"&$D$6&\" and localMonth(\"&$D$12&\") =\"&$E$6&\" and LocalDay(\"&$D$12&\")=\"&$F$6&\" and Barix(\"&$D$12&\",reference:=StartOfSession)=\"&A1&\"\", \"Bar\", \"\", \"Close\",\"5\",\"0\",\"PrimaryOnly\",,,\"False\",\"T\",\"EveryTick\")","v":186.07},{"$f":"IFERROR((R1-$G$7)/$G$7,NA())","v":3.6138079827399542E-3},{"$f":"RTD(\"cqg.rtd\",,\"StudyData\", \"Close(\"&$D$12&\") when LocalYear(\"&$D$12&\")=\"&$D$7&\" and localMonth(\"&$D$12&\") =\"&$E$7&\" and LocalDay(\"&$D$12&\")=\"&$F$7&\" and Barix(\"&$D$12&\",reference:=StartOfSession)=\"&A1&\"\", \"Bar\", \"\", \"Close\",\"5\",\"0\",\"PrimaryOnly\",,,\"False\",\"T\",\"EveryTick\")","v":186.07},{"$f":"IFERROR((T1-$G$8)/$G$8,NA())","v":1.1689865158764712E-2},{"$f":"RTD(\"cqg.rtd\",,\"StudyData\", \"Close(\"&$D$12&\") when LocalYear(\"&$D$12&\")=\"&$D$8&\" and localMonth(\"&$D$12&\") =\"&$E$8&\" and LocalDay(\"&$D$12&\")=\"&$F$8&\" and Barix(\"&$D$12&\",reference:=StartOfSession)=\"&A1&\"\", \"Bar\", \"\", \"Close\",\"5\",\"0\",\"PrimaryOnly\",,,\"False\",\"T\",\"EveryTick\")","v":187.26},{"$f":"IFERROR((V1-$G$9)/$G$9,NA())","v":4.2739608932569763E-4},{"$f":"RTD(\"cqg.rtd\",,\"StudyData\", \"Close(\"&$D$12&\") when LocalYear(\"&$D$12&\")=\"&$D$9&\" and localMonth(\"&$D$12&\") =\"&$E$9&\" and LocalDay(\"&$D$12&\")=\"&$F$9&\" and Barix(\"&$D$12&\",reference:=StartOfSession)=\"&A1&\"\", \"Bar\", \"\", \"Close\",\"5\",\"0\",\"PrimaryOnly\",,,\"False\",\"T\",\"EveryTick\")","v":184.35},{"$f":"IFERROR((X1-$G$10)/$G$10,NA())","v":-4.1056669007618132E-3},{"$f":"RTD(\"cqg.rtd\",,\"StudyData\", \"Close(\"&$D$12&\") when LocalYear(\"&$D$12&\")=\"&$D$10&\" and localMonth(\"&$D$12&\") =\"&$E$10&\" and LocalDay(\"&$D$12&\")=\"&$F$10&\" and Barix(\"&$D$12&\",reference:=StartOfSession)=\"&A1&\"\", \"Bar\", \"\", \"Close\",\"5\",\"0\",\"PrimaryOnly\",,,\"False\",\"T\",\"EveryTick\")","v":186.72},{"$f":"IFERROR((Z1-$G$11)/$G$11,NA())","v":6.5768194070080803E-3},{"$f":"RANK(AD1,$AD$1:$AD$10)+COUNTIF($AD$1:AD1,AD1)-1","v":7},{"$f":"DATE(D1,E1,F1)","v":"2018-07-13"},{"$f":"IFERROR(VLOOKUP(MAX(AE2:AE81),A1:I81,9,FALSE),\"\")","v":2.4603465424278851E-3},null,1,{"$f":"VLOOKUP(AF1,$AB$1:$AD$10,2,FALSE)","v":"2018-07-12"},{"$f":"VLOOKUP(AF1,$AB$1:$AD$10,3,FALSE)","v":1.335959122844364E-2},null,null,{"$f":"AG1","v":"2018-07-12"},{"$f":"AC1","v":"2018-07-13"},0,{"$f":"VLOOKUP(AK1,$AL$1:$AM$10,2,FALSE)","v":1}]
[{"$f":"A1+1","v":1},"08:35:00",{"$f":" RTD(\"cqg.rtd\",,\"StudyData\",$D$12, \"Bar\", \"\", \"Time\",\"D\",\"-1\",,,,,\"T\")","v":"2018-07-12"},{"$f":"YEAR(C2)","v":2018},{"$f":"MONTH(C2)","v":7},{"$f":"DAY(C2)","v":12},{"$f":"RTD(\"cqg.rtd\",,\"StudyData\",$D$12,\"Bar\",,\"Close\",\"D\",\"-1\",,,,,\"T\")","v":191.03},{"$f":"RTD(\"cqg.rtd\",,\"StudyData\", \"Close(\"&$D$12&\") when LocalYear(\"&$D$12&\")=\"&$D$1&\" and localMonth(\"&$D$12&\") =\"&$E$1&\" and LocalDay(\"&$D$12&\")=\"&$F$1&\" and Barix(\"&$D$12&\",reference:=StartOfSession)=\"&A2&\"\", \"Bar\", \"\", \"Close\",\"5\",\"0\",\"PrimaryOnly\",,,\"False\",\"T\",\"EveryTick\")","v":191.26},{"$f":"IFERROR((H2-$G$2)/$G$2,NA())","v":1.2039993718263612E-3},{"$f":"RTD(\"cqg.rtd\",,\"StudyData\", \"Close(\"&$D$12&\") when LocalYear(\"&$D$12&\")=\"&$D$2&\" and localMonth(\"&$D$12&\") =\"&$E$2&\" and LocalDay(\"&$D$12&\")=\"&$F$2&\" and Barix(\"&$D$12&\",reference:=StartOfSession)=\"&A2&\"\", \"Bar\", \"\", \"Close\",\"5\",\"0\",\"PrimaryOnly\",,,\"False\",\"T\",\"EveryTick\")","v":189.94},{"$f":"IFERROR((J2-$G$3)/$G$3,NA())","v":1.0964445390674911E-2},{"$f":"RTD(\"cqg.rtd\",,\"StudyData\", \"Close(\"&$D$12&\") when LocalYear(\"&$D$12&\")=\"&$D$3&\" and localMonth(\"&$D$12&\") =\"&$E$3&\" and LocalDay(\"&$D$12&\")=\"&$F$3&\" and Barix(\"&$D$12&\",reference:=StartOfSession)=\"&A2&\"\", \"Bar\", \"\", \"Close\",\"5\",\"0\",\"PrimaryOnly\",,,\"False\",\"T\",\"EveryTick\")","v":189.29},{"$f":"IFERROR((L2-$G$4)/$G$4,NA())","v":-5.5686892566325311E-3},{"$f":"RTD(\"cqg.rtd\",,\"StudyData\", \"Close(\"&$D$12&\") when LocalYear(\"&$D$12&\")=\"&$D$4&\" and localMonth(\"&$D$12&\") =\"&$E$4&\" and LocalDay(\"&$D$12&\")=\"&$F$4&\" and Barix(\"&$D$12&\",reference:=StartOfSession)=\"&A2&\"\", \"Bar\", \"\", \"Close\",\"5\",\"0\",\"PrimaryOnly\",,,\"False\",\"T\",\"EveryTick\")","v":190.51},{"$f":"IFERROR((N2-$G$5)/$G$5,NA())","v":-3.6729982159734281E-4},{"$f":"RTD(\"cqg.rtd\",,\"StudyData\", \"Close(\"&$D$12&\") when LocalYear(\"&$D$12&\")=\"&$D$5&\" and localMonth(\"&$D$12&\") =\"&$E$5&\" and LocalDay(\"&$D$12&\")=\"&$F$5&\" and Barix(\"&$D$12&\",reference:=StartOfSession)=\"&A2&\"\", \"Bar\", \"\", \"Close\",\"5\",\"0\",\"PrimaryOnly\",,,\"False\",\"T\",\"EveryTick\")","v":190.19},{"$f":"IFERROR((P2-$G$6)/$G$6,NA())","v":1.1810395275841884E-2},{"$f":"RTD(\"cqg.rtd\",,\"StudyData\", \"Close(\"&$D$12&\") when LocalYear(\"&$D$12&\")=\"&$D$6&\" and localMonth(\"&$D$12&\") =\"&$E$6&\" and LocalDay(\"&$D$12&\")=\"&$F$6&\" and Barix(\"&$D$12&\",reference:=StartOfSession)=\"&A2&\"\", \"Bar\", \"\", \"Close\",\"5\",\"0\",\"PrimaryOnly\",,,\"False\",\"T\",\"EveryTick\")","v":186.41},{"$f":"IFERROR((R2-$G$7)/$G$7,NA())","v":5.4476806903990876E-3},{"$f":"RTD(\"cqg.rtd\",,\"StudyData\", \"Close(\"&$D$12&\") when LocalYear(\"&$D$12&\")=\"&$D$7&\" and localMonth(\"&$D$12&\") =\"&$E$7&\" and LocalDay(\"&$D$12&\")=\"&$F$7&\" and Barix(\"&$D$12&\",reference:=StartOfSession)=\"&A2&\"\", \"Bar\", \"\", \"Close\",\"5\",\"0\",\"PrimaryOnly\",,,\"False\",\"T\",\"EveryTick\")","v":186.34},{"$f":"IFERROR((T2-$G$8)/$G$8,NA())","v":1.3157894736842193E-2},{"$f":"RTD(\"cqg.rtd\",,\"StudyData\", \"Close(\"&$D$12&\") when LocalYear(\"&$D$12&\")=\"&$D$8&\" and localMonth(\"&$D$12&\") =\"&$E$8&\" and LocalDay(\"&$D$12&\")=\"&$F$8&\" and Barix(\"&$D$12&\",reference:=StartOfSession)=\"&A2&\"\", \"Bar\", \"\", \"Close\",\"5\",\"0\",\"PrimaryOnly\",,,\"False\",\"T\",\"EveryTick\")","v":186.63},{"$f":"IFERROR((V2-$G$9)/$G$9,NA())","v":-2.9383481141148165E-3},{"$f":"RTD(\"cqg.rtd\",,\"StudyData\", \"Close(\"&$D$12&\") when LocalYear(\"&$D$12&\")=\"&$D$9&\" and localMonth(\"&$D$12&\") =\"&$E$9&\" and LocalDay(\"&$D$12&\")=\"&$F$9&\" and Barix(\"&$D$12&\",reference:=StartOfSession)=\"&A2&\"\", \"Bar\", \"\", \"Close\",\"5\",\"0\",\"PrimaryOnly\",,,\"False\",\"T\",\"EveryTick\")","v":184.99},{"$f":"IFERROR((X2-$G$10)/$G$10,NA())","v":-6.4826319485713655E-4},{"$f":"RTD(\"cqg.rtd\",,\"StudyData\", \"Close(\"&$D$12&\") when LocalYear(\"&$D$12&\")=\"&$D$10&\" and localMonth(\"&$D$12&\") =\"&$E$10&\" and LocalDay(\"&$D$12&\")=\"&$F$10&\" and Barix(\"&$D$12&\",reference:=StartOfSession)=\"&A2&\"\", \"Bar\", \"\", \"Close\",\"5\",\"0\",\"PrimaryOnly\",,,\"False\",\"T\",\"EveryTick\")","v":186.81},{"$f":"IFERROR((Z2-$G$11)/$G$11,NA())","v":7.0619946091644327E-3},{"$f":"RANK(AD2,$AD$1:$AD$10)+COUNTIF($AD$1:AD2,AD2)-1","v":1},{"$f":"DATE(D2,E2,F2)","v":"2018-07-12"},{"$f":"IFERROR(VLOOKUP(MAX(AE2:AE81),A1:K81,11,FALSE),\"\")","v":1.335959122844364E-2},{"$f":"IF(AND(H1<>\"\",H2<>\"\",H3=\"\"),A2,\"\")","v":""},2,{"$f":"VLOOKUP(AF2,$AB$1:$AD$10,2,FALSE)","v":"2018-07-09"},{"$f":"VLOOKUP(AF2,$AB$1:$AD$10,3,FALSE)","v":1.2076395169441987E-2},null,null,{"$f":"AG2","v":"2018-07-09"},{"$f":"AC2","v":"2018-07-12"},1,{"$f":"VLOOKUP(AK2,$AL$1:$AM$10,2,FALSE)","v":4}]
[{"$f":"A2+1","v":2},"08:40:00",{"$f":" RTD(\"cqg.rtd\",,\"StudyData\",$D$12, \"Bar\", \"\", \"Time\",\"D\",\"-2\",,,,,\"T\")","v":"2018-07-11"},2018,7,11,{"$f":"RTD(\"cqg.rtd\",,\"StudyData\",$D$12,\"Bar\",,\"Close\",\"D\",\"-2\",,,,,\"T\")","v":187.88},{"$f":"RTD(\"cqg.rtd\",,\"StudyData\", \"Close(\"&$D$12&\") when LocalYear(\"&$D$12&\")=\"&$D$1&\" and localMonth(\"&$D$12&\") =\"&$E$1&\" and LocalDay(\"&$D$12&\")=\"&$F$1&\" and Barix(\"&$D$12&\",reference:=StartOfSession)=\"&A3&\"\", \"Bar\", \"\", \"Close\",\"5\",\"0\",\"PrimaryOnly\",,,\"False\",\"T\",\"EveryTick\")","v":191.57},{"$f":"IFERROR((H3-$G$2)/$G$2,NA())","v":2.8267811338532796E-3},{"$f":"RTD(\"cqg.rtd\",,\"StudyData\", \"Close(\"&$D$12&\") when LocalYear(\"&$D$12&\")=\"&$D$2&\" and localMonth(\"&$D$12&\") =\"&$E$2&\" and LocalDay(\"&$D$12&\")=\"&$F$2&\" and Barix(\"&$D$12&\",reference:=StartOfSession)=\"&A3&\"\", \"Bar\", \"\", \"Close\",\"5\",\"0\",\"PrimaryOnly\",,,\"False\",\"T\",\"EveryTick\")","v":189.79},1.0166063444751952E-2,{"$f":"RTD(\"cqg.rtd\",,\"StudyData\", \"Close(\"&$D$12&\") when LocalYear(\"&$D$12&\")=\"&$D$3&\" and localMonth(\"&$D$12&\") =\"&$E$3&\" and LocalDay(\"&$D$12&\")=\"&$F$3&\" and Barix(\"&$D$12&\",reference:=StartOfSession)=\"&A3&\"\", \"Bar\", \"\", \"Close\",\"5\",\"0\",\"PrimaryOnly\",,,\"False\",\"T\",\"EveryTick\")","v":189.12},-6.4617809298659823E-3,{"$f":"RTD(\"cqg.rtd\",,\"StudyData\", \"Close(\"&$D$12&\") when LocalYear(\"&$D$12&\")=\"&$D$4&\" and localMonth(\"&$D$12&\") =\"&$E$4&\" and LocalDay(\"&$D$12&\")=\"&$F$4&\" and Barix(\"&$D$12&\",reference:=StartOfSession)=\"&A3&\"\", \"Bar\", \"\", \"Close\",\"5\",\"0\",\"PrimaryOnly\",,,\"False\",\"T\",\"EveryTick\")","v":190.6},1.0494280617054155E-4,{"$f":"RTD(\"cqg.rtd\",,\"StudyData\", \"Close(\"&$D$12&\") when LocalYear(\"&$D$12&\")=\"&$D$5&\" and localMonth(\"&$D$12&\") =\"&$E$5&\" and LocalDay(\"&$D$12&\")=\"&$F$5&\" and Barix(\"&$D$12&\",reference:=StartOfSession)=\"&A3&\"\", \"Bar\", \"\", \"Close\",\"5\",\"0\",\"PrimaryOnly\",,,\"False\",\"T\",\"EveryTick\")","v":190.53},1.3619194552322191E-2,{"$f":"RTD(\"cqg.rtd\",,\"StudyData\", \"Close(\"&$D$12&\") when LocalYear(\"&$D$12&\")=\"&$D$6&\" and localMonth(\"&$D$12&\") =\"&$E$6&\" and LocalDay(\"&$D$12&\")=\"&$F$6&\" and Barix(\"&$D$12&\",reference:=StartOfSession)=\"&A3&\"\", \"Bar\", \"\", \"Close\",\"5\",\"0\",\"PrimaryOnly\",,,\"False\",\"T\",\"EveryTick\")","v":186.44},5.6094929881337213E-3,{"$f":"RTD(\"cqg.rtd\",,\"StudyData\", \"Close(\"&$D$12&\") when LocalYear(\"&$D$12&\")=\"&$D$7&\" and localMonth(\"&$D$12&\") =\"&$E$7&\" and LocalDay(\"&$D$12&\")=\"&$F$7&\" and Barix(\"&$D$12&\",reference:=StartOfSession)=\"&A3&\"\", \"Bar\", \"\", \"Close\",\"5\",\"0\",\"PrimaryOnly\",,,\"False\",\"T\",\"EveryTick\")","v":186.28},1.2831665941713864E-2,{"$f":"RTD(\"cqg.rtd\",,\"StudyData\", \"Close(\"&$D$12&\") when LocalYear(\"&$D$12&\")=\"&$D$8&\" and localMonth(\"&$D$12&\") =\"&$E$8&\" and LocalDay(\"&$D$12&\")=\"&$F$8&\" and Barix(\"&$D$12&\",reference:=StartOfSession)=\"&A3&\"\", \"Bar\", \"\", \"Close\",\"5\",\"0\",\"PrimaryOnly\",,,\"False\",\"T\",\"EveryTick\")","v":186.5},-3.632866759269189E-3,{"$f":"RTD(\"cqg.rtd\",,\"StudyData\", \"Close(\"&$D$12&\") when LocalYear(\"&$D$12&\")=\"&$D$9&\" and localMonth(\"&$D$12&\") =\"&$E$9&\" and LocalDay(\"&$D$12&\")=\"&$F$9&\" and Barix(\"&$D$12&\",reference:=StartOfSession)=\"&A3&\"\", \"Bar\", \"\", \"Close\",\"5\",\"0\",\"PrimaryOnly\",,,\"False\",\"T\",\"EveryTick\")","v":185.09},-1.0804386580957393E-4,{"$f":"RTD(\"cqg.rtd\",,\"StudyData\", \"Close(\"&$D$12&\") when LocalYear(\"&$D$12&\")=\"&$D$10&\" and localMonth(\"&$D$12&\") =\"&$E$10&\" and LocalDay(\"&$D$12&\")=\"&$F$10&\" and Barix(\"&$D$12&\",reference:=StartOfSession)=\"&A3&\"\", \"Bar\", \"\", \"Close\",\"5\",\"0\",\"PrimaryOnly\",,,\"False\",\"T\",\"EveryTick\")","v":186.84},7.2237196765498838E-3,{"$f":"RANK(AD3,$AD$1:$AD$10)+COUNTIF($AD$1:AD3,AD3)-1","v":10},"2018-07-11",{"$f":"IFERROR(VLOOKUP(MAX(AE2:AE81),A1:M81,13,FALSE),\"\")","v":-9.2986603624900539E-3},{"$f":"IF(AND(H2<>\"\",H3<>\"\",H4=\"\"),A3,\"\")","v":""},3,"2018-07-06",9.5469255663429443E-3,null,null,"2018-07-06","2018-07-11",2,5]
[3,"08:45:00",{"$f":" RTD(\"cqg.rtd\",,\"StudyData\",$D$12, \"Bar\", \"\", \"Time\",\"D\",\"-3\",,,,,\"T\")","v":"2018-07-10"},2018,7,10,{"$f":"RTD(\"cqg.rtd\",,\"StudyData\",$D$12,\"Bar\",,\"Close\",\"D\",\"-3\",,,,,\"T\")","v":190.35},{"$f":"RTD(\"cqg.rtd\",,\"StudyData\", \"Close(\"&$D$12&\") when LocalYear(\"&$D$12&\")=\"&$D$1&\" and localMonth(\"&$D$12&\") =\"&$E$1&\" and LocalDay(\"&$D$12&\")=\"&$F$1&\" and Barix(\"&$D$12&\",reference:=StartOfSession)=\"&A4&\"\", \"Bar\", \"\", \"Close\",\"5\",\"0\",\"PrimaryOnly\",,,\"False\",\"T\",\"EveryTick\")","v":191.76},3.8213893105794364E-3,{"$f":"RTD(\"cqg.rtd\",,\"StudyData\", \"Close(\"&$D$12&\") when LocalYear(\"&$D$12&\")=\"&$D$2&\" and localMonth(\"&$D$12&\") =\"&$E$2&\" and LocalDay(\"&$D$12&\")=\"&$F$2&\" and Barix(\"&$D$12&\",reference:=StartOfSession)=\"&A4&\"\", \"Bar\", \"\", \"Close\",\"5\",\"0\",\"PrimaryOnly\",,,\"False\",\"T\",\"EveryTick\")","v":189.9},1.0751543538428839E-2,{"$f":"RTD(\"cqg.rtd\",,\"StudyData\", \"Close(\"&$D$12&\") when LocalYear(\"&$D$12&\")=\"&$D$3&\" and localMonth(\"&$D$12&\") =\"&$E$3&\" and LocalDay(\"&$D$12&\")=\"&$F$3&\" and Barix(\"&$D$12&\",reference:=StartOfSession)=\"&A4&\"\", \"Bar\", \"\", \"Close\",\"5\",\"0\",\"PrimaryOnly\",,,\"False\",\"T\",\"EveryTick\")","v":189.28},-5.6212240609403372E-3,{"$f":"RTD(\"cqg.rtd\",,\"StudyData\", \"Close(\"&$D$12&\") when LocalYear(\"&$D$12&\")=\"&$D$4&\" and localMonth(\"&$D$12&\") =\"&$E$4&\" and LocalDay(\"&$D$12&\")=\"&$F$4&\" and Barix(\"&$D$12&\",reference:=StartOfSession)=\"&A4&\"\", \"Bar\", \"\", \"Close\",\"5\",\"0\",\"PrimaryOnly\",,,\"False\",\"T\",\"EveryTick\")","v":190.36},-1.154370867877001E-3,{"$f":"RTD(\"cqg.rtd\",,\"StudyData\", \"Close(\"&$D$12&\") when LocalYear(\"&$D$12&\")=\"&$D$5&\" and localMonth(\"&$D$12&\") =\"&$E$5&\" and LocalDay(\"&$D$12&\")=\"&$F$5&\" and Barix(\"&$D$12&\",reference:=StartOfSession)=\"&A4&\"\", \"Bar\", \"\", \"Close\",\"5\",\"0\",\"PrimaryOnly\",,,\"False\",\"T\",\"EveryTick\")","v":190.57},1.3831994467202183E-2,{"$f":"RTD(\"cqg.rtd\",,\"StudyData\", \"Close(\"&$D$12&\") when LocalYear(\"&$D$12&\")=\"&$D$6&\" and localMonth(\"&$D$12&\") =\"&$E$6&\" and LocalDay(\"&$D$12&\")=\"&$F$6&\" and Barix(\"&$D$12&\",reference:=StartOfSession)=\"&A4&\"\", \"Bar\", \"\", \"Close\",\"5\",\"0\",\"PrimaryOnly\",,,\"False\",\"T\",\"EveryTick\")","v":186.55},6.2028047464940976E-3,{"$f":"RTD(\"cqg.rtd\",,\"StudyData\", \"Close(\"&$D$12&\") when LocalYear(\"&$D$12&\")=\"&$D$7&\" and localMonth(\"&$D$12&\") =\"&$E$7&\" and LocalDay(\"&$D$12&\")=\"&$F$7&\" and Barix(\"&$D$12&\",reference:=StartOfSession)=\"&A4&\"\", \"Bar\", \"\", \"Close\",\"5\",\"0\",\"PrimaryOnly\",,,\"False\",\"T\",\"EveryTick\")","v":186.12},1.1961722488038371E-2,{"$f":"RTD(\"cqg.rtd\",,\"StudyData\", \"Close(\"&$D$12&\") when LocalYear(\"&$D$12&\")=\"&$D$8&\" and localMonth(\"&$D$12&\") =\"&$E$8&\" and LocalDay(\"&$D$12&\")=\"&$F$8&\" and Barix(\"&$D$12&\",reference:=StartOfSession)=\"&A4&\"\", \"Bar\", \"\", \"Close\",\"5\",\"0\",\"PrimaryOnly\",,,\"False\",\"T\",\"EveryTick\")","v":186.73},-2.4041030024576186E-3,{"$f":"RTD(\"cqg.rtd\",,\"StudyData\", \"Close(\"&$D$12&\") when LocalYear(\"&$D$12&\")=\"&$D$9&\" and localMonth(\"&$D$12&\") =\"&$E$9&\" and LocalDay(\"&$D$12&\")=\"&$F$9&\" and Barix(\"&$D$12&\",reference:=StartOfSession)=\"&A4&\"\", \"Bar\", \"\", \"Close\",\"5\",\"0\",\"PrimaryOnly\",,,\"False\",\"T\",\"EveryTick\")","v":186.16},5.6723029549996373E-3,{"$f":"RTD(\"cqg.rtd\",,\"StudyData\", \"Close(\"&$D$12&\") when LocalYear(\"&$D$12&\")=\"&$D$10&\" and localMonth(\"&$D$12&\") =\"&$E$10&\" and LocalDay(\"&$D$12&\")=\"&$F$10&\" and Barix(\"&$D$12&\",reference:=StartOfSession)=\"&A4&\"\", \"Bar\", \"\", \"Close\",\"5\",\"0\",\"PrimaryOnly\",,,\"False\",\"T\",\"EveryTick\")","v":186.45},5.1212938005390221E-3,{"$f":"RANK(AD4,$AD$1:$AD$10)+COUNTIF($AD$1:AD4,AD4)-1","v":8},"2018-07-10",{"$f":"IFERROR(VLOOKUP(MAX(AE2:AE81),A1:O81,15,FALSE),\"\")","v":1.4691992863889239E-3},"",4,"2018-07-02",7.0228512776186209E-3,null,null,"2018-07-02","2018-07-10",3,8]
[4,"08:50:00",{"$f":" RTD(\"cqg.rtd\",,\"StudyData\",$D$12, \"Bar\", \"\", \"Time\",\"D\",\"-4\",,,,,\"T\")","v":"2018-07-09"},2018,7,9,{"$f":"RTD(\"cqg.rtd\",,\"StudyData\",$D$12,\"Bar\",,\"Close\",\"D\",\"-4\",,,,,\"T\")","v":190.58},{"$f":"RTD(\"cqg.rtd\",,\"StudyData\", \"Close(\"&$D$12&\") when LocalYear(\"&$D$12&\")=\"&$D$1&\" and localMonth(\"&$D$12&\") =\"&$E$1&\" and LocalDay(\"&$D$12&\")=\"&$F$1&\" and Barix(\"&$D$12&\",reference:=StartOfSession)=\"&A5&\"\", \"Bar\", \"\", \"Close\",\"5\",\"0\",\"PrimaryOnly\",,,\"False\",\"T\",\"EveryTick\")","v":191.37},1.7798251583521091E-3,{"$f":"RTD(\"cqg.rtd\",,\"StudyData\", \"Close(\"&$D$12&\") when LocalYear(\"&$D$12&\")=\"&$D$2&\" and localMonth(\"&$D$12&\") =\"&$E$2&\" and LocalDay(\"&$D$12&\")=\"&$F$2&\" and Barix(\"&$D$12&\",reference:=StartOfSession)=\"&A5&\"\", \"Bar\", \"\", \"Close\",\"5\",\"0\",\"PrimaryOnly\",,,\"False\",\"T\",\"EveryTick\")","v":190.11},1.1869278262720983E-2,{"$f":"RTD(\"cqg.rtd\",,\"StudyData\", \"Close(\"&$D$12&\") when LocalYear(\"&$D$12&\")=\"&$D$3&\" and localMonth(\"&$D$12&\") =\"&$E$3&\" and LocalDay(\"&$D$12&\")=\"&$F$3&\" and Barix(\"&$D$12&\",reference:=StartOfSession)=\"&A5&\"\", \"Bar\", \"\", \"Close\",\"5\",\"0\",\"PrimaryOnly\",,,\"False\",\"T\",\"EveryTick\")","v":188.99},-7.1447333858680601E-3,{"$f":"RTD(\"cqg.rtd\",,\"StudyData\", \"Close(\"&$D$12&\") when LocalYear(\"&$D$12&\")=\"&$D$4&\" and localMonth(\"&$D$12&\") =\"&$E$4&\" and LocalDay(\"&$D$12&\")=\"&$F$4&\" and Barix(\"&$D$12&\",reference:=StartOfSession)=\"&A5&\"\", \"Bar\", \"\", \"Close\",\"5\",\"0\",\"PrimaryOnly\",,,\"False\",\"T\",\"EveryTick\")","v":190.35},-1.206842270962421E-3,{"$f":"RTD(\"cqg.rtd\",,\"StudyData\", \"Close(\"&$D$12&\") when LocalYear(\"&$D$12&\")=\"&$D$5&\" and localMonth(\"&$D$12&\") =\"&$E$5&\" and LocalDay(\"&$D$12&\")=\"&$F$5&\" and Barix(\"&$D$12&\",reference:=StartOfSession)=\"&A5&\"\", \"Bar\", \"\", \"Close\",\"5\",\"0\",\"PrimaryOnly\",,,\"False\",\"T\",\"EveryTick\")","v":190.03},1.0959195616321766E-2,{"$f":"RTD(\"cqg.rtd\",,\"StudyData\", \"Close(\"&$D$12&\") when LocalYear(\"&$D$12&\")=\"&$D$6&\" and localMonth(\"&$D$12&\") =\"&$E$6&\" and LocalDay(\"&$D$12&\")=\"&$F$6&\" and Barix(\"&$D$12&\",reference:=StartOfSession)=\"&A5&\"\", \"Bar\", \"\", \"Close\",\"5\",\"0\",\"PrimaryOnly\",,,\"False\",\"T\",\"EveryTick\")","v":186.88},7.9827400215749175E-3,{"$f":"RTD(\"cqg.rtd\",,\"StudyData\", \"Close(\"&$D$12&\") when LocalYear(\"&$D$12&\")=\"&$D$7&\" and localMonth(\"&$D$12&\") =\"&$E$7&\" and LocalDay(\"&$D$12&\")=\"&$F$7&\" and Barix(\"&$D$12&\",reference:=StartOfSession)=\"&A5&\"\", \"Bar\", \"\", \"Close\",\"5\",\"0\",\"PrimaryOnly\",,,\"False\",\"T\",\"EveryTick\")","v":185.95},1.1037407568508054E-2,{"$f":"RTD(\"cqg.rtd\",,\"StudyData\", \"Close(\"&$D$12&\") when LocalYear(\"&$D$12&\")=\"&$D$8&\" and localMonth(\"&$D$12&\") =\"&$E$8&\" and LocalDay(\"&$D$12&\")=\"&$F$8&\" and Barix(\"&$D$12&\",reference:=StartOfSession)=\"&A5&\"\", \"Bar\", \"\", \"Close\",\"5\",\"0\",\"PrimaryOnly\",,,\"False\",\"T\",\"EveryTick\")","v":186.66},-2.7780745806176418E-3,{"$f":"RTD(\"cqg.rtd\",,\"StudyData\", \"Close(\"&$D$12&\") when LocalYear(\"&$D$12&\")=\"&$D$9&\" and localMonth(\"&$D$12&\") =\"&$E$9&\" and LocalDay(\"&$D$12&\")=\"&$F$9&\" and Barix(\"&$D$12&\",reference:=StartOfSession)=\"&A5&\"\", \"Bar\", \"\", \"Close\",\"5\",\"0\",\"PrimaryOnly\",,,\"False\",\"T\",\"EveryTick\")","v":186.05},5.0780616930473643E-3,{"$f":"RTD(\"cqg.rtd\",,\"StudyData\", \"Close(\"&$D$12&\") when LocalYear(\"&$D$12&\")=\"&$D$10&\" and localMonth(\"&$D$12&\") =\"&$E$10&\" and LocalDay(\"&$D$12&\")=\"&$F$10&\" and Barix(\"&$D$12&\",reference:=StartOfSession)=\"&A5&\"\", \"Bar\", \"\", \"Close\",\"5\",\"0\",\"PrimaryOnly\",,,\"False\",\"T\",\"EveryTick\")","v":186.46},5.1752021563342748E-3,{"$f":"RANK(AD5,$AD$1:$AD$10)+COUNTIF($AD$1:AD5,AD5)-1","v":2},"2018-07-09",{"$f":"IFERROR(VLOOKUP(MAX(AE2:AE81),A1:Q81,17,FALSE),\"\")","v":1.2076395169441987E-2},"",5,"2018-07-05",6.9051761635494256E-3,null,null,"2018-07-05","2018-07-09",4,6]
[5,"08:55:00",{"$f":" RTD(\"cqg.rtd\",,\"StudyData\",$D$12, \"Bar\", \"\", \"Time\",\"D\",\"-5\",,,,,\"T\")","v":"2018-07-06"},2018,7,6,{"$f":"RTD(\"cqg.rtd\",,\"StudyData\",$D$12,\"Bar\",,\"Close\",\"D\",\"-5\",,,,,\"T\")","v":187.97},{"$f":"RTD(\"cqg.rtd\",,\"StudyData\", \"Close(\"&$D$12&\") when LocalYear(\"&$D$12&\")=\"&$D$1&\" and localMonth(\"&$D$12&\") =\"&$E$1&\" and LocalDay(\"&$D$12&\")=\"&$F$1&\" and Barix(\"&$D$12&\",reference:=StartOfSession)=\"&A6&\"\", \"Bar\", \"\", \"Close\",\"5\",\"0\",\"PrimaryOnly\",,,\"False\",\"T\",\"EveryTick\")","v":191.2},8.8991257917598015E-4,{"$f":"RTD(\"cqg.rtd\",,\"StudyData\", \"Close(\"&$D$12&\") when LocalYear(\"&$D$12&\")=\"&$D$2&\" and localMonth(\"&$D$12&\") =\"&$E$2&\" and LocalDay(\"&$D$12&\")=\"&$F$2&\" and Barix(\"&$D$12&\",reference:=StartOfSession)=\"&A6&\"\", \"Bar\", \"\", \"Close\",\"5\",\"0\",\"PrimaryOnly\",,,\"False\",\"T\",\"EveryTick\")","v":190.02},1.1390249095167207E-2,{"$f":"RTD(\"cqg.rtd\",,\"StudyData\", \"Close(\"&$D$12&\") when LocalYear(\"&$D$12&\")=\"&$D$3&\" and localMonth(\"&$D$12&\") =\"&$E$3&\" and LocalDay(\"&$D$12&\")=\"&$F$3&\" and Barix(\"&$D$12&\",reference:=StartOfSession)=\"&A6&\"\", \"Bar\", \"\", \"Close\",\"5\",\"0\",\"PrimaryOnly\",,,\"False\",\"T\",\"EveryTick\")","v":188.95},-7.3548726030995834E-3,{"$f":"RTD(\"cqg.rtd\",,\"StudyData\", \"Close(\"&$D$12&\") when LocalYear(\"&$D$12&\")=\"&$D$4&\" and localMonth(\"&$D$12&\") =\"&$E$4&\" and LocalDay(\"&$D$12&\")=\"&$F$4&\" and Barix(\"&$D$12&\",reference:=StartOfSession)=\"&A6&\"\", \"Bar\", \"\", \"Close\",\"5\",\"0\",\"PrimaryOnly\",,,\"False\",\"T\",\"EveryTick\")","v":190.6},1.0494280617054155E-4,{"$f":"RTD(\"cqg.rtd\",,\"StudyData\", \"Close(\"&$D$12&\") when LocalYear(\"&$D$12&\")=\"&$D$5&\" and localMonth(\"&$D$12&\") =\"&$E$5&\" and LocalDay(\"&$D$12&\")=\"&$F$5&\" and Barix(\"&$D$12&\",reference:=StartOfSession)=\"&A6&\"\", \"Bar\", \"\", \"Close\",\"5\",\"0\",\"PrimaryOnly\",,,\"False\",\"T\",\"EveryTick\")","v":190.21},1.1916795233281955E-2,{"$f":"RTD(\"cqg.rtd\",,\"StudyData\", \"Close(\"&$D$12&\") when LocalYear(\"&$D$12&\")=\"&$D$6&\" and localMonth(\"&$D$12&\") =\"&$E$6&\" and LocalDay(\"&$D$12&\")=\"&$F$6&\" and Barix(\"&$D$12&\",reference:=StartOfSession)=\"&A6&\"\", \"Bar\", \"\", \"Close\",\"5\",\"0\",\"PrimaryOnly\",,,\"False\",\"T\",\"EveryTick\")","v":187.13},9.3311758360301502E-3,{"$f":"RTD(\"cqg.rtd\",,\"StudyData\", \"Close(\"&$D$12&\") when LocalYear(\"&$D$12&\")=\"&$D$7&\" and localMonth(\"&$D$12&\") =\"&$E$7&\" and LocalDay(\"&$D$12&\")=\"&$F$7&\" and Barix(\"&$D$12&\",reference:=StartOfSession)=\"&A6&\"\", \"Bar\", \"\", \"Close\",\"5\",\"0\",\"PrimaryOnly\",,,\"False\",\"T\",\"EveryTick\")","v":185.56},8.9169204001740693E-3,{"$f":"RTD(\"cqg.rtd\",,\"StudyData\", \"Close(\"&$D$12&\") when LocalYear(\"&$D$12&\")=\"&$D$8&\" and localMonth(\"&$D$12&\") =\"&$E$8&\" and LocalDay(\"&$D$12&\")=\"&$F$8&\" and Barix(\"&$D$12&\",reference:=StartOfSession)=\"&A6&\"\", \"Bar\", \"\", \"Close\",\"5\",\"0\",\"PrimaryOnly\",,,\"False\",\"T\",\"EveryTick\")","v":186.7},-2.5643765359547933E-3,{"$f":"RTD(\"cqg.rtd\",,\"StudyData\", \"Close(\"&$D$12&\") when LocalYear(\"&$D$12&\")=\"&$D$9&\" and localMonth(\"&$D$12&\") =\"&$E$9&\" and LocalDay(\"&$D$12&\")=\"&$F$9&\" and Barix(\"&$D$12&\",reference:=StartOfSession)=\"&A6&\"\", \"Bar\", \"\", \"Close\",\"5\",\"0\",\"PrimaryOnly\",,,\"False\",\"T\",\"EveryTick\")","v":186.12},5.4562152233806433E-3,{"$f":"RTD(\"cqg.rtd\",,\"StudyData\", \"Close(\"&$D$12&\") when LocalYear(\"&$D$12&\")=\"&$D$10&\" and localMonth(\"&$D$12&\") =\"&$E$10&\" and LocalDay(\"&$D$12&\")=\"&$F$10&\" and Barix(\"&$D$12&\",reference:=StartOfSession)=\"&A6&\"\", \"Bar\", \"\", \"Close\",\"5\",\"0\",\"PrimaryOnly\",,,\"False\",\"T\",\"EveryTick\")","v":186.5},5.3908355795148251E-3,{"$f":"RANK(AD6,$AD$1:$AD$10)+COUNTIF($AD$1:AD6,AD6)-1","v":3},"2018-07-06",{"$f":"IFERROR(VLOOKUP(MAX(AE2:AE81),A1:S81,19,FALSE),\"\")","v":9.5469255663429443E-3},"",6,"2018-06-29",4.7978436657681207E-3,null,null,"2018-06-29","2018-07-06",5,9]
[6,"09:00:00",{"$f":" RTD(\"cqg.rtd\",,\"StudyData\",$D$12, \"Bar\", \"\", \"Time\",\"D\",\"-6\",,,,,\"T\")","v":"2018-07-05"},2018,7,5,{"$f":"RTD(\"cqg.rtd\",,\"StudyData\",$D$12,\"Bar\",,\"Close\",\"D\",\"-6\",,,,,\"T\")","v":185.4},{"$f":"RTD(\"cqg.rtd\",,\"StudyData\", \"Close(\"&$D$12&\") when LocalYear(\"&$D$12&\")=\"&$D$1&\" and localMonth(\"&$D$12&\") =\"&$E$1&\" and LocalDay(\"&$D$12&\")=\"&$F$1&\" and Barix(\"&$D$12&\",reference:=StartOfSession)=\"&A7&\"\", \"Bar\", \"\", \"Close\",\"5\",\"0\",\"PrimaryOnly\",,,\"False\",\"T\",\"EveryTick\")","v":191.39},1.8845207559021369E-3,{"$f":"RTD(\"cqg.rtd\",,\"StudyData\", \"Close(\"&$D$12&\") when LocalYear(\"&$D$12&\")=\"&$D$2&\" and localMonth(\"&$D$12&\") =\"&$E$2&\" and LocalDay(\"&$D$12&\")=\"&$F$2&\" and Barix(\"&$D$12&\",reference:=StartOfSession)=\"&A7&\"\", \"Bar\", \"\", \"Close\",\"5\",\"0\",\"PrimaryOnly\",,,\"False\",\"T\",\"EveryTick\")","v":190.14},1.2028954651905423E-2,{"$f":"RTD(\"cqg.rtd\",,\"StudyData\", \"Close(\"&$D$12&\") when LocalYear(\"&$D$12&\")=\"&$D$3&\" and localMonth(\"&$D$12&\") =\"&$E$3&\" and LocalDay(\"&$D$12&\")=\"&$F$3&\" and Barix(\"&$D$12&\",reference:=StartOfSession)=\"&A7&\"\", \"Bar\", \"\", \"Close\",\"5\",\"0\",\"PrimaryOnly\",,,\"False\",\"T\",\"EveryTick\")","v":189.19},-6.0940372997110408E-3,{"$f":"RTD(\"cqg.rtd\",,\"StudyData\", \"Close(\"&$D$12&\") when LocalYear(\"&$D$12&\")=\"&$D$4&\" and localMonth(\"&$D$12&\") =\"&$E$4&\" and LocalDay(\"&$D$12&\")=\"&$F$4&\" and Barix(\"&$D$12&\",reference:=StartOfSession)=\"&A7&\"\", \"Bar\", \"\", \"Close\",\"5\",\"0\",\"PrimaryOnly\",,,\"False\",\"T\",\"EveryTick\")","v":190.48},-5.247140308533043E-4,{"$f":"RTD(\"cqg.rtd\",,\"StudyData\", \"Close(\"&$D$12&\") when LocalYear(\"&$D$12&\")=\"&$D$5&\" and localMonth(\"&$D$12&\") =\"&$E$5&\" and LocalDay(\"&$D$12&\")=\"&$F$5&\" and Barix(\"&$D$12&\",reference:=StartOfSession)=\"&A7&\"\", \"Bar\", \"\", \"Close\",\"5\",\"0\",\"PrimaryOnly\",,,\"False\",\"T\",\"EveryTick\")","v":190.18},1.1757195297121924E-2,{"$f":"RTD(\"cqg.rtd\",,\"StudyData\", \"Close(\"&$D$12&\") when LocalYear(\"&$D$12&\")=\"&$D$6&\" and localMonth(\"&$D$12&\") =\"&$E$6&\" and LocalDay(\"&$D$12&\")=\"&$F$6&\" and Barix(\"&$D$12&\",reference:=StartOfSession)=\"&A7&\"\", \"Bar\", \"\", \"Close\",\"5\",\"0\",\"PrimaryOnly\",,,\"False\",\"T\",\"EveryTick\")","v":186.71},7.0658036677454274E-3,{"$f":"RTD(\"cqg.rtd\",,\"StudyData\", \"Close(\"&$D$12&\") when LocalYear(\"&$D$12&\")=\"&$D$7&\" and localMonth(\"&$D$12&\") =\"&$E$7&\" and LocalDay(\"&$D$12&\")=\"&$F$7&\" and Barix(\"&$D$12&\",reference:=StartOfSession)=\"&A7&\"\", \"Bar\", \"\", \"Close\",\"5\",\"0\",\"PrimaryOnly\",,,\"False\",\"T\",\"EveryTick\")","v":185.37},7.883862548934412E-3,{"$f":"RTD(\"cqg.rtd\",,\"StudyData\", \"Close(\"&$D$12&\") when LocalYear(\"&$D$12&\")=\"&$D$8&\" and localMonth(\"&$D$12&\") =\"&$E$8&\" and LocalDay(\"&$D$12&\")=\"&$F$8&\" and Barix(\"&$D$12&\",reference:=StartOfSession)=\"&A7&\"\", \"Bar\", \"\", \"Close\",\"5\",\"0\",\"PrimaryOnly\",,,\"False\",\"T\",\"EveryTick\")","v":186.74},-2.3506784912917925E-3,{"$f":"RTD(\"cqg.rtd\",,\"StudyData\", \"Close(\"&$D$12&\") when LocalYear(\"&$D$12&\")=\"&$D$9&\" and localMonth(\"&$D$12&\") =\"&$E$9&\" and LocalDay(\"&$D$12&\")=\"&$F$9&\" and Barix(\"&$D$12&\",reference:=StartOfSession)=\"&A7&\"\", \"Bar\", \"\", \"Close\",\"5\",\"0\",\"PrimaryOnly\",,,\"False\",\"T\",\"EveryTick\")","v":186.06},5.1320836259520749E-3,{"$f":"RTD(\"cqg.rtd\",,\"StudyData\", \"Close(\"&$D$12&\") when LocalYear(\"&$D$12&\")=\"&$D$10&\" and localMonth(\"&$D$12&\") =\"&$E$10&\" and LocalDay(\"&$D$12&\")=\"&$F$10&\" and Barix(\"&$D$12&\",reference:=StartOfSession)=\"&A7&\"\", \"Bar\", \"\", \"Close\",\"5\",\"0\",\"PrimaryOnly\",,,\"False\",\"T\",\"EveryTick\")","v":186.58},5.8221024258760783E-3,{"$f":"RANK(AD7,$AD$1:$AD$10)+COUNTIF($AD$1:AD7,AD7)-1","v":5},"2018-07-05",{"$f":"IFERROR(VLOOKUP(MAX(AE2:AE81),A1:U81,21,FALSE),\"\")","v":6.9051761635494256E-3},"",7,"2018-07-13",2.4603465424278851E-3,null,null,"2018-07-13","2018-07-05",6,0]
[7,"09:05:00",{"$f":" RTD(\"cqg.rtd\",,\"StudyData\",$D$12, \"Bar\", \"\", \"Time\",\"D\",\"-7\",,,,,\"T\")","v":"2018-07-03"},2018,7,3,{"$f":"RTD(\"cqg.rtd\",,\"StudyData\",$D$12,\"Bar\",,\"Close\",\"D\",\"-7\",,,,,\"T\")","v":183.92},{"$f":"RTD(\"cqg.rtd\",,\"StudyData\", \"Close(\"&$D$12&\") when LocalYear(\"&$D$12&\")=\"&$D$1&\" and localMonth(\"&$D$12&\") =\"&$E$1&\" and LocalDay(\"&$D$12&\")=\"&$F$1&\" and Barix(\"&$D$12&\",reference:=StartOfSession)=\"&A8&\"\", \"Bar\", \"\", \"Close\",\"5\",\"0\",\"PrimaryOnly\",,,\"False\",\"T\",\"EveryTick\")","v":191.64},3.1932157252786745E-3,{"$f":"RTD(\"cqg.rtd\",,\"StudyData\", \"Close(\"&$D$12&\") when LocalYear(\"&$D$12&\")=\"&$D$2&\" and localMonth(\"&$D$12&\") =\"&$E$2&\" and LocalDay(\"&$D$12&\")=\"&$F$2&\" and Barix(\"&$D$12&\",reference:=StartOfSession)=\"&A8&\"\", \"Bar\", \"\", \"Close\",\"5\",\"0\",\"PrimaryOnly\",,,\"False\",\"T\",\"EveryTick\")","v":190.48},1.3838620395997415E-2,{"$f":"RTD(\"cqg.rtd\",,\"StudyData\", \"Close(\"&$D$12&\") when LocalYear(\"&$D$12&\")=\"&$D$3&\" and localMonth(\"&$D$12&\") =\"&$E$3&\" and LocalDay(\"&$D$12&\")=\"&$F$3&\" and Barix(\"&$D$12&\",reference:=StartOfSession)=\"&A8&\"\", \"Bar\", \"\", \"Close\",\"5\",\"0\",\"PrimaryOnly\",,,\"False\",\"T\",\"EveryTick\")","v":188.97},-7.2498029944838222E-3,{"$f":"RTD(\"cqg.rtd\",,\"StudyData\", \"Close(\"&$D$12&\") when LocalYear(\"&$D$12&\")=\"&$D$4&\" and localMonth(\"&$D$12&\") =\"&$E$4&\" and LocalDay(\"&$D$12&\")=\"&$F$4&\" and Barix(\"&$D$12&\",reference:=StartOfSession)=\"&A8&\"\", \"Bar\", \"\", \"Close\",\"5\",\"0\",\"PrimaryOnly\",,,\"False\",\"T\",\"EveryTick\")","v":190.37},-1.1018994647917302E-3,{"$f":"RTD(\"cqg.rtd\",,\"StudyData\", \"Close(\"&$D$12&\") when LocalYear(\"&$D$12&\")=\"&$D$5&\" and localMonth(\"&$D$12&\") =\"&$E$5&\" and LocalDay(\"&$D$12&\")=\"&$F$5&\" and Barix(\"&$D$12&\",reference:=StartOfSession)=\"&A8&\"\", \"Bar\", \"\", \"Close\",\"5\",\"0\",\"PrimaryOnly\",,,\"False\",\"T\",\"EveryTick\")","v":190},1.0799595680161735E-2,{"$f":"RTD(\"cqg.rtd\",,\"StudyData\", \"Close(\"&$D$12&\") when LocalYear(\"&$D$12&\")=\"&$D$6&\" and localMonth(\"&$D$12&\") =\"&$E$6&\" and LocalDay(\"&$D$12&\")=\"&$F$6&\" and Barix(\"&$D$12&\",reference:=StartOfSession)=\"&A8&\"\", \"Bar\", \"\", \"Close\",\"5\",\"0\",\"PrimaryOnly\",,,\"False\",\"T\",\"EveryTick\")","v":186.77},7.3894282632146957E-3,{"$f":"RTD(\"cqg.rtd\",,\"StudyData\", \"Close(\"&$D$12&\") when LocalYear(\"&$D$12&\")=\"&$D$7&\" and localMonth(\"&$D$12&\") =\"&$E$7&\" and LocalDay(\"&$D$12&\")=\"&$F$7&\" and Barix(\"&$D$12&\",reference:=StartOfSession)=\"&A8&\"\", \"Bar\", \"\", \"Close\",\"5\",\"0\",\"PrimaryOnly\",,,\"False\",\"T\",\"EveryTick\")","v":185.52},8.6994345367552347E-3,{"$f":"RTD(\"cqg.rtd\",,\"StudyData\", \"Close(\"&$D$12&\") when LocalYear(\"&$D$12&\")=\"&$D$8&\" and localMonth(\"&$D$12&\") =\"&$E$8&\" and LocalDay(\"&$D$12&\")=\"&$F$8&\" and Barix(\"&$D$12&\",reference:=StartOfSession)=\"&A8&\"\", \"Bar\", \"\", \"Close\",\"5\",\"0\",\"PrimaryOnly\",,,\"False\",\"T\",\"EveryTick\")","v":186.6},-3.0986216476119911E-3,{"$f":"RTD(\"cqg.rtd\",,\"StudyData\", \"Close(\"&$D$12&\") when LocalYear(\"&$D$12&\")=\"&$D$9&\" and localMonth(\"&$D$12&\") =\"&$E$9&\" and LocalDay(\"&$D$12&\")=\"&$F$9&\" and Barix(\"&$D$12&\",reference:=StartOfSession)=\"&A8&\"\", \"Bar\", \"\", \"Close\",\"5\",\"0\",\"PrimaryOnly\",,,\"False\",\"T\",\"EveryTick\")","v":186.14},5.5642590891900635E-3,{"$f":"RTD(\"cqg.rtd\",,\"StudyData\", \"Close(\"&$D$12&\") when LocalYear(\"&$D$12&\")=\"&$D$10&\" and localMonth(\"&$D$12&\") =\"&$E$10&\" and LocalDay(\"&$D$12&\")=\"&$F$10&\" and Barix(\"&$D$12&\",reference:=StartOfSession)=\"&A8&\"\", \"Bar\", \"\", \"Close\",\"5\",\"0\",\"PrimaryOnly\",,,\"False\",\"T\",\"EveryTick\")","v":186.36},4.6361185983828232E-3,{"$f":"RANK(AD8,$AD$1:$AD$10)+COUNTIF($AD$1:AD8,AD8)-1","v":9},"2018-07-03",{"$f":"IFERROR(VLOOKUP(MAX(AE2:AE81),A1:W81,23,FALSE),\"\")","v":-3.41916871460634E-3},"",8,"2018-07-10",1.4691992863889239E-3,null,null,"2018-07-10","2018-07-03",7,3]
[8,"09:10:00",{"$f":" RTD(\"cqg.rtd\",,\"StudyData\",$D$12, \"Bar\", \"\", \"Time\",\"D\",\"-8\",,,,,\"T\")","v":"2018-07-02"},2018,7,2,{"$f":"RTD(\"cqg.rtd\",,\"StudyData\",$D$12,\"Bar\",,\"Close\",\"D\",\"-8\",,,,,\"T\")","v":187.18},{"$f":"RTD(\"cqg.rtd\",,\"StudyData\", \"Close(\"&$D$12&\") when LocalYear(\"&$D$12&\")=\"&$D$1&\" and localMonth(\"&$D$12&\") =\"&$E$1&\" and LocalDay(\"&$D$12&\")=\"&$F$1&\" and Barix(\"&$D$12&\",reference:=StartOfSession)=\"&A9&\"\", \"Bar\", \"\", \"Close\",\"5\",\"0\",\"PrimaryOnly\",,,\"False\",\"T\",\"EveryTick\")","v":191.61},3.0361723289536327E-3,{"$f":"RTD(\"cqg.rtd\",,\"StudyData\", \"Close(\"&$D$12&\") when LocalYear(\"&$D$12&\")=\"&$D$2&\" and localMonth(\"&$D$12&\") =\"&$E$2&\" and LocalDay(\"&$D$12&\")=\"&$F$2&\" and Barix(\"&$D$12&\",reference:=StartOfSession)=\"&A9&\"\", \"Bar\", \"\", \"Close\",\"5\",\"0\",\"PrimaryOnly\",,,\"False\",\"T\",\"EveryTick\")","v":190.37},1.3253140302320679E-2,{"$f":"RTD(\"cqg.rtd\",,\"StudyData\", \"Close(\"&$D$12&\") when LocalYear(\"&$D$12&\")=\"&$D$3&\" and localMonth(\"&$D$12&\") =\"&$E$3&\" and LocalDay(\"&$D$12&\")=\"&$F$3&\" and Barix(\"&$D$12&\",reference:=StartOfSession)=\"&A9&\"\", \"Bar\", \"\", \"Close\",\"5\",\"0\",\"PrimaryOnly\",,,\"False\",\"T\",\"EveryTick\")","v":188.73},-8.5106382978723649E-3,{"$f":"RTD(\"cqg.rtd\",,\"StudyData\", \"Close(\"&$D$12&\") when LocalYear(\"&$D$12&\")=\"&$D$4&\" and localMonth(\"&$D$12&\") =\"&$E$4&\" and LocalDay(\"&$D$12&\")=\"&$F$4&\" and Barix(\"&$D$12&\",reference:=StartOfSession)=\"&A9&\"\", \"Bar\", \"\", \"Close\",\"5\",\"0\",\"PrimaryOnly\",,,\"False\",\"T\",\"EveryTick\")","v":190.3},-1.4691992863889239E-3,{"$f":"RTD(\"cqg.rtd\",,\"StudyData\", \"Close(\"&$D$12&\") when LocalYear(\"&$D$12&\")=\"&$D$5&\" and localMonth(\"&$D$12&\") =\"&$E$5&\" and LocalDay(\"&$D$12&\")=\"&$F$5&\" and Barix(\"&$D$12&\",reference:=StartOfSession)=\"&A9&\"\", \"Bar\", \"\", \"Close\",\"5\",\"0\",\"PrimaryOnly\",,,\"False\",\"T\",\"EveryTick\")","v":189.57},8.5119965952013318E-3,{"$f":"RTD(\"cqg.rtd\",,\"StudyData\", \"Close(\"&$D$12&\") when LocalYear(\"&$D$12&\")=\"&$D$6&\" and localMonth(\"&$D$12&\") =\"&$E$6&\" and LocalDay(\"&$D$12&\")=\"&$F$6&\" and Barix(\"&$D$12&\",reference:=StartOfSession)=\"&A9&\"\", \"Bar\", \"\", \"Close\",\"5\",\"0\",\"PrimaryOnly\",,,\"False\",\"T\",\"EveryTick\")","v":186.76},7.3354908306363818E-3,{"$f":"RTD(\"cqg.rtd\",,\"StudyData\", \"Close(\"&$D$12&\") when LocalYear(\"&$D$12&\")=\"&$D$7&\" and localMonth(\"&$D$12&\") =\"&$E$7&\" and LocalDay(\"&$D$12&\")=\"&$F$7&\" and Barix(\"&$D$12&\",reference:=StartOfSession)=\"&A9&\"\", \"Bar\", \"\", \"Close\",\"5\",\"0\",\"PrimaryOnly\",,,\"False\",\"T\",\"EveryTick\")","v":185.23},7.1226620269682602E-3,{"$f":"RTD(\"cqg.rtd\",,\"StudyData\", \"Close(\"&$D$12&\") when LocalYear(\"&$D$12&\")=\"&$D$8&\" and localMonth(\"&$D$12&\") =\"&$E$8&\" and LocalDay(\"&$D$12&\")=\"&$F$8&\" and Barix(\"&$D$12&\",reference:=StartOfSession)=\"&A9&\"\", \"Bar\", \"\", \"Close\",\"5\",\"0\",\"PrimaryOnly\",,,\"False\",\"T\",\"EveryTick\")","v":186.69},-2.6178010471204671E-3,{"$f":"RTD(\"cqg.rtd\",,\"StudyData\", \"Close(\"&$D$12&\") when LocalYear(\"&$D$12&\")=\"&$D$9&\" and localMonth(\"&$D$12&\") =\"&$E$9&\" and LocalDay(\"&$D$12&\")=\"&$F$9&\" and Barix(\"&$D$12&\",reference:=StartOfSession)=\"&A9&\"\", \"Bar\", \"\", \"Close\",\"5\",\"0\",\"PrimaryOnly\",,,\"False\",\"T\",\"EveryTick\")","v":185.69},3.1332721084759551E-3,{"$f":"RTD(\"cqg.rtd\",,\"StudyData\", \"Close(\"&$D$12&\") when LocalYear(\"&$D$12&\")=\"&$D$10&\" and localMonth(\"&$D$12&\") =\"&$E$10&\" and LocalDay(\"&$D$12&\")=\"&$F$10&\" and Barix(\"&$D$12&\",reference:=StartOfSession)=\"&A9&\"\", \"Bar\", \"\", \"Close\",\"5\",\"0\",\"PrimaryOnly\",,,\"False\",\"T\",\"EveryTick\")","v":186.21},3.8274932614555685E-3,{"$f":"RANK(AD9,$AD$1:$AD$10)+COUNTIF($AD$1:AD9,AD9)-1","v":4},"2018-07-02",{"$f":"IFERROR(VLOOKUP(MAX(AE2:AE81),A1:Y81,25,FALSE),\"\")","v":7.0228512776186209E-3},"",9,"2018-07-03",-3.41916871460634E-3,null,null,"2018-07-03","2018-07-02",8,7]
[9,"09:15:00",{"$f":" RTD(\"cqg.rtd\",,\"StudyData\",$D$12, \"Bar\", \"\", \"Time\",\"D\",\"-9\",,,,,\"T\")","v":"2018-06-29"},2018,6,29,{"$f":"RTD(\"cqg.rtd\",,\"StudyData\",$D$12,\"Bar\",,\"Close\",\"D\",\"-9\",,,,,\"T\")","v":185.11},{"$f":"RTD(\"cqg.rtd\",,\"StudyData\", \"Close(\"&$D$12&\") when LocalYear(\"&$D$12&\")=\"&$D$1&\" and localMonth(\"&$D$12&\") =\"&$E$1&\" and LocalDay(\"&$D$12&\")=\"&$F$1&\" and Barix(\"&$D$12&\",reference:=StartOfSession)=\"&A10&\"\", \"Bar\", \"\", \"Close\",\"5\",\"0\",\"PrimaryOnly\",,,\"False\",\"T\",\"EveryTick\")","v":191.52},2.5650421399780617E-3,{"$f":"RTD(\"cqg.rtd\",,\"StudyData\", \"Close(\"&$D$12&\") when LocalYear(\"&$D$12&\")=\"&$D$2&\" and localMonth(\"&$D$12&\") =\"&$E$2&\" and LocalDay(\"&$D$12&\")=\"&$F$2&\" and Barix(\"&$D$12&\",reference:=StartOfSession)=\"&A10&\"\", \"Bar\", \"\", \"Close\",\"5\",\"0\",\"PrimaryOnly\",,,\"False\",\"T\",\"EveryTick\")","v":190.42},1.3519267617628231E-2,{"$f":"RTD(\"cqg.rtd\",,\"StudyData\", \"Close(\"&$D$12&\") when LocalYear(\"&$D$12&\")=\"&$D$3&\" and localMonth(\"&$D$12&\") =\"&$E$3&\" and LocalDay(\"&$D$12&\")=\"&$F$3&\" and Barix(\"&$D$12&\",reference:=StartOfSession)=\"&A10&\"\", \"Bar\", \"\", \"Close\",\"5\",\"0\",\"PrimaryOnly\",,,\"False\",\"T\",\"EveryTick\")","v":189.06},-6.7769897557131186E-3,{"$f":"RTD(\"cqg.rtd\",,\"StudyData\", \"Close(\"&$D$12&\") when LocalYear(\"&$D$12&\")=\"&$D$4&\" and localMonth(\"&$D$12&\") =\"&$E$4&\" and LocalDay(\"&$D$12&\")=\"&$F$4&\" and Barix(\"&$D$12&\",reference:=StartOfSession)=\"&A10&\"\", \"Bar\", \"\", \"Close\",\"5\",\"0\",\"PrimaryOnly\",,,\"False\",\"T\",\"EveryTick\")","v":190.7},6.296568370236967E-4,{"$f":"RTD(\"cqg.rtd\",,\"StudyData\", \"Close(\"&$D$12&\") when LocalYear(\"&$D$12&\")=\"&$D$5&\" and localMonth(\"&$D$12&\") =\"&$E$5&\" and LocalDay(\"&$D$12&\")=\"&$F$5&\" and Barix(\"&$D$12&\",reference:=StartOfSession)=\"&A10&\"\", \"Bar\", \"\", \"Close\",\"5\",\"0\",\"PrimaryOnly\",,,\"False\",\"T\",\"EveryTick\")","v":189.62},8.7779964888014348E-3,{"$f":"RTD(\"cqg.rtd\",,\"StudyData\", \"Close(\"&$D$12&\") when LocalYear(\"&$D$12&\")=\"&$D$6&\" and localMonth(\"&$D$12&\") =\"&$E$6&\" and LocalDay(\"&$D$12&\")=\"&$F$6&\" and Barix(\"&$D$12&\",reference:=StartOfSession)=\"&A10&\"\", \"Bar\", \"\", \"Close\",\"5\",\"0\",\"PrimaryOnly\",,,\"False\",\"T\",\"EveryTick\")","v":186.59},6.4185544768068916E-3,{"$f":"RTD(\"cqg.rtd\",,\"StudyData\", \"Close(\"&$D$12&\") when LocalYear(\"&$D$12&\")=\"&$D$7&\" and localMonth(\"&$D$12&\") =\"&$E$7&\" and LocalDay(\"&$D$12&\")=\"&$F$7&\" and Barix(\"&$D$12&\",reference:=StartOfSession)=\"&A10&\"\", \"Bar\", \"\", \"Close\",\"5\",\"0\",\"PrimaryOnly\",,,\"False\",\"T\",\"EveryTick\")","v":185.1},6.415832970856932E-3,{"$f":"RTD(\"cqg.rtd\",,\"StudyData\", \"Close(\"&$D$12&\") when LocalYear(\"&$D$12&\")=\"&$D$8&\" and localMonth(\"&$D$12&\") =\"&$E$8&\" and LocalDay(\"&$D$12&\")=\"&$F$8&\" and Barix(\"&$D$12&\",reference:=StartOfSession)=\"&A10&\"\", \"Bar\", \"\", \"Close\",\"5\",\"0\",\"PrimaryOnly\",,,\"False\",\"T\",\"EveryTick\")","v":187},-9.6164120098304743E-4,{"$f":"RTD(\"cqg.rtd\",,\"StudyData\", \"Close(\"&$D$12&\") when LocalYear(\"&$D$12&\")=\"&$D$9&\" and localMonth(\"&$D$12&\") =\"&$E$9&\" and LocalDay(\"&$D$12&\")=\"&$F$9&\" and Barix(\"&$D$12&\",reference:=StartOfSession)=\"&A10&\"\", \"Bar\", \"\", \"Close\",\"5\",\"0\",\"PrimaryOnly\",,,\"False\",\"T\",\"EveryTick\")","v":186.07},5.1861055588567854E-3,{"$f":"RTD(\"cqg.rtd\",,\"StudyData\", \"Close(\"&$D$12&\") when LocalYear(\"&$D$12&\")=\"&$D$10&\" and localMonth(\"&$D$12&\") =\"&$E$10&\" and LocalDay(\"&$D$12&\")=\"&$F$10&\" and Barix(\"&$D$12&\",reference:=StartOfSession)=\"&A10&\"\", \"Bar\", \"\", \"Close\",\"5\",\"0\",\"PrimaryOnly\",,,\"False\",\"T\",\"EveryTick\")","v":186.24},3.9892183288410196E-3,{"$f":"RANK(AD10,$AD$1:$AD$10)+COUNTIF($AD$1:AD10,AD10)-1","v":6},"2018-06-29",{"$f":"IFERROR(VLOOKUP(MAX(AE2:AE81),A1:AA81,27,FALSE),\"\")","v":4.7978436657681207E-3},"",10,"2018-07-11",-9.2986603624900539E-3,null,null,"2018-07-11","2018-06-29",9,2]
[10,"09:20:00",{"$f":" RTD(\"cqg.rtd\",,\"StudyData\",$D$12, \"Bar\", \"\", \"Time\",\"D\",\"-10\",,,,,\"T\")","v":"2018-06-28"},2018,{"$f":"MONTH(C11)","v":6},{"$f":"DAY(C11)","v":28},{"$f":"RTD(\"cqg.rtd\",,\"StudyData\",$D$12,\"Bar\",,\"Close\",\"D\",\"-10\",,,,,\"T\")","v":185.5},{"$f":"RTD(\"cqg.rtd\",,\"StudyData\", \"Close(\"&$D$12&\") when LocalYear(\"&$D$12&\")=\"&$D$1&\" and localMonth(\"&$D$12&\") =\"&$E$1&\" and LocalDay(\"&$D$12&\")=\"&$F$1&\" and Barix(\"&$D$12&\",reference:=StartOfSession)=\"&A11&\"\", \"Bar\", \"\", \"Close\",\"5\",\"0\",\"PrimaryOnly\",,,\"False\",\"T\",\"EveryTick\")","v":191.56},2.7744333350782661E-3,{"$f":"RTD(\"cqg.rtd\",,\"StudyData\", \"Close(\"&$D$12&\") when LocalYear(\"&$D$12&\")=\"&$D$2&\" and localMonth(\"&$D$12&\") =\"&$E$2&\" and LocalDay(\"&$D$12&\")=\"&$F$2&\" and Barix(\"&$D$12&\",reference:=StartOfSession)=\"&A11&\"\", \"Bar\", \"\", \"Close\",\"5\",\"0\",\"PrimaryOnly\",,,\"False\",\"T\",\"EveryTick\")","v":190.26},1.266766020864379E-2,{"$f":"RTD(\"cqg.rtd\",,\"StudyData\", \"Close(\"&$D$12&\") when LocalYear(\"&$D$12&\")=\"&$D$3&\" and localMonth(\"&$D$12&\") =\"&$E$3&\" and LocalDay(\"&$D$12&\")=\"&$F$3&\" and Barix(\"&$D$12&\",reference:=StartOfSession)=\"&A11&\"\", \"Bar\", \"\", \"Close\",\"5\",\"0\",\"PrimaryOnly\",,,\"False\",\"T\",\"EveryTick\")","v":189.09},-6.6193853427895504E-3,{"$f":"RTD(\"cqg.rtd\",,\"StudyData\", \"Close(\"&$D$12&\") when LocalYear(\"&$D$12&\")=\"&$D$4&\" and localMonth(\"&$D$12&\") =\"&$E$4&\" and LocalDay(\"&$D$12&\")=\"&$F$4&\" and Barix(\"&$D$12&\",reference:=StartOfSession)=\"&A11&\"\", \"Bar\", \"\", \"Close\",\"5\",\"0\",\"PrimaryOnly\",,,\"False\",\"T\",\"EveryTick\")","v":190.67},4.7224262776773525E-4,{"$f":"RTD(\"cqg.rtd\",,\"StudyData\", \"Close(\"&$D$12&\") when LocalYear(\"&$D$12&\")=\"&$D$5&\" and localMonth(\"&$D$12&\") =\"&$E$5&\" and LocalDay(\"&$D$12&\")=\"&$F$5&\" and Barix(\"&$D$12&\",reference:=StartOfSession)=\"&A11&\"\", \"Bar\", \"\", \"Close\",\"5\",\"0\",\"PrimaryOnly\",,,\"False\",\"T\",\"EveryTick\")","v":189.77},9.575996169601593E-3,{"$f":"RTD(\"cqg.rtd\",,\"StudyData\", \"Close(\"&$D$12&\") when LocalYear(\"&$D$12&\")=\"&$D$6&\" and localMonth(\"&$D$12&\") =\"&$E$6&\" and LocalDay(\"&$D$12&\")=\"&$F$6&\" and Barix(\"&$D$12&\",reference:=StartOfSession)=\"&A11&\"\", \"Bar\", \"\", \"Close\",\"5\",\"0\",\"PrimaryOnly\",,,\"False\",\"T\",\"EveryTick\")","v":186.35},5.1240560949298202E-3,{"$f":"RTD(\"cqg.rtd\",,\"StudyData\", \"Close(\"&$D$12&\") when LocalYear(\"&$D$12&\")=\"&$D$7&\" and localMonth(\"&$D$12&\") =\"&$E$7&\" and LocalDay(\"&$D$12&\")=\"&$F$7&\" and Barix(\"&$D$12&\",reference:=StartOfSession)=\"&A11&\"\", \"Bar\", \"\", \"Close\",\"5\",\"0\",\"PrimaryOnly\",,,\"False\",\"T\",\"EveryTick\")","v":184.97},5.7090039147456037E-3,{"$f":"RTD(\"cqg.rtd\",,\"StudyData\", \"Close(\"&$D$12&\") when LocalYear(\"&$D$12&\")=\"&$D$8&\" and localMonth(\"&$D$12&\") =\"&$E$8&\" and LocalDay(\"&$D$12&\")=\"&$F$8&\" and Barix(\"&$D$12&\",reference:=StartOfSession)=\"&A11&\"\", \"Bar\", \"\", \"Close\",\"5\",\"0\",\"PrimaryOnly\",,,\"False\",\"T\",\"EveryTick\")","v":187.18},0,{"$f":"RTD(\"cqg.rtd\",,\"StudyData\", \"Close(\"&$D$12&\") when LocalYear(\"&$D$12&\")=\"&$D$9&\" and localMonth(\"&$D$12&\") =\"&$E$9&\" and LocalDay(\"&$D$12&\")=\"&$F$9&\" and Barix(\"&$D$12&\",reference:=StartOfSession)=\"&A11&\"\", \"Bar\", \"\", \"Close\",\"5\",\"0\",\"PrimaryOnly\",,,\"False\",\"T\",\"EveryTick\")","v":186.04},5.0240397601425011E-3,{"$f":"RTD(\"cqg.rtd\",,\"StudyData\", \"Close(\"&$D$12&\") when LocalYear(\"&$D$12&\")=\"&$D$10&\" and localMonth(\"&$D$12&\") =\"&$E$10&\" and LocalDay(\"&$D$12&\")=\"&$F$10&\" and Barix(\"&$D$12&\",reference:=StartOfSession)=\"&A11&\"\", \"Bar\", \"\", \"Close\",\"5\",\"0\",\"PrimaryOnly\",,,\"False\",\"T\",\"EveryTick\")","v":186.43},5.0134770889488237E-3,null,null,null,""]
[11,"09:25:00",null,{"$f":"MainDisplay!B5","v":"S.AAPL"},null,null,null,{"$f":"RTD(\"cqg.rtd\",,\"StudyData\", \"Close(\"&$D$12&\") when LocalYear(\"&$D$12&\")=\"&$D$1&\" and localMonth(\"&$D$12&\") =\"&$E$1&\" and LocalDay(\"&$D$12&\")=\"&$F$1&\" and Barix(\"&$D$12&\",reference:=StartOfSession)=\"&A12&\"\", \"Bar\", \"\", \"Close\",\"5\",\"0\",\"PrimaryOnly\",,,\"False\",\"T\",\"EveryTick\")","v":191.54},2.6697377375280891E-3,{"$f":"RTD(\"cqg.rtd\",,\"StudyData\", \"Close(\"&$D$12&\") when LocalYear(\"&$D$12&\")=\"&$D$2&\" and localMonth(\"&$D$12&\") =\"&$E$2&\" and LocalDay(\"&$D$12&\")=\"&$F$2&\" and Barix(\"&$D$12&\",reference:=StartOfSession)=\"&A12&\"\", \"Bar\", \"\", \"Close\",\"5\",\"0\",\"PrimaryOnly\",,,\"False\",\"T\",\"EveryTick\")","v":190.41},1.3466042154566751E-2,{"$f":"RTD(\"cqg.rtd\",,\"StudyData\", \"Close(\"&$D$12&\") when LocalYear(\"&$D$12&\")=\"&$D$3&\" and localMonth(\"&$D$12&\") =\"&$E$3&\" and LocalDay(\"&$D$12&\")=\"&$F$3&\" and Barix(\"&$D$12&\",reference:=StartOfSession)=\"&A12&\"\", \"Bar\", \"\", \"Close\",\"5\",\"0\",\"PrimaryOnly\",,,\"False\",\"T\",\"EveryTick\")","v":188.94},-7.4074074074073895E-3,{"$f":"RTD(\"cqg.rtd\",,\"StudyData\", \"Close(\"&$D$12&\") when LocalYear(\"&$D$12&\")=\"&$D$4&\" and localMonth(\"&$D$12&\") =\"&$E$4&\" and LocalDay(\"&$D$12&\")=\"&$F$4&\" and Barix(\"&$D$12&\",reference:=StartOfSession)=\"&A12&\"\", \"Bar\", \"\", \"Close\",\"5\",\"0\",\"PrimaryOnly\",,,\"False\",\"T\",\"EveryTick\")","v":190.91},1.731556301815427E-3,{"$f":"RTD(\"cqg.rtd\",,\"StudyData\", \"Close(\"&$D$12&\") when LocalYear(\"&$D$12&\")=\"&$D$5&\" and localMonth(\"&$D$12&\") =\"&$E$5&\" and LocalDay(\"&$D$12&\")=\"&$F$5&\" and Barix(\"&$D$12&\",reference:=StartOfSession)=\"&A12&\"\", \"Bar\", \"\", \"Close\",\"5\",\"0\",\"PrimaryOnly\",,,\"False\",\"T\",\"EveryTick\")","v":189.7},9.2035963185614182E-3,{"$f":"RTD(\"cqg.rtd\",,\"StudyData\", \"Close(\"&$D$12&\") when LocalYear(\"&$D$12&\")=\"&$D$6&\" and localMonth(\"&$D$12&\") =\"&$E$6&\" and LocalDay(\"&$D$12&\")=\"&$F$6&\" and Barix(\"&$D$12&\",reference:=StartOfSession)=\"&A12&\"\", \"Bar\", \"\", \"Close\",\"5\",\"0\",\"PrimaryOnly\",,,\"False\",\"T\",\"EveryTick\")","v":186.39},5.3398058252426142E-3,{"$f":"RTD(\"cqg.rtd\",,\"StudyData\", \"Close(\"&$D$12&\") when LocalYear(\"&$D$12&\")=\"&$D$7&\" and localMonth(\"&$D$12&\") =\"&$E$7&\" and LocalDay(\"&$D$12&\")=\"&$F$7&\" and Barix(\"&$D$12&\",reference:=StartOfSession)=\"&A12&\"\", \"Bar\", \"\", \"Close\",\"5\",\"0\",\"PrimaryOnly\",,,\"False\",\"T\",\"EveryTick\")","v":184.92},5.4371465854719447E-3,{"$f":"RTD(\"cqg.rtd\",,\"StudyData\", \"Close(\"&$D$12&\") when LocalYear(\"&$D$12&\")=\"&$D$8&\" and localMonth(\"&$D$12&\") =\"&$E$8&\" and LocalDay(\"&$D$12&\")=\"&$F$8&\" and Barix(\"&$D$12&\",reference:=StartOfSession)=\"&A12&\"\", \"Bar\", \"\", \"Close\",\"5\",\"0\",\"PrimaryOnly\",,,\"False\",\"T\",\"EveryTick\")","v":186.99},-1.0150657121487216E-3,{"$f":"RTD(\"cqg.rtd\",,\"StudyData\", \"Close(\"&$D$12&\") when LocalYear(\"&$D$12&\")=\"&$D$9&\" and localMonth(\"&$D$12&\") =\"&$E$9&\" and LocalDay(\"&$D$12&\")=\"&$F$9&\" and Barix(\"&$D$12&\",reference:=StartOfSession)=\"&A12&\"\", \"Bar\", \"\", \"Close\",\"5\",\"0\",\"PrimaryOnly\",,,\"False\",\"T\",\"EveryTick\")","v":186.33},6.5906758143806322E-3,{"$f":"RTD(\"cqg.rtd\",,\"StudyData\", \"Close(\"&$D$12&\") when LocalYear(\"&$D$12&\")=\"&$D$10&\" and localMonth(\"&$D$12&\") =\"&$E$10&\" and LocalDay(\"&$D$12&\")=\"&$F$10&\" and Barix(\"&$D$12&\",reference:=StartOfSession)=\"&A12&\"\", \"Bar\", \"\", \"Close\",\"5\",\"0\",\"PrimaryOnly\",,,\"False\",\"T\",\"EveryTick\")","v":186.23},3.9353099730457669E-3,null,{"$f":"VLOOKUP(MAX(AE2:AE81),A1:B81,2,FALSE)","v":"10:20:00"},null,""]
[12,"09:30:00",null,{"$f":"RTD(\"cqg.rtd\", ,\"ContractData\",D12, \"LastQuoteToday\",, \"T\")","v":191.48000000000002},null,null,{"$f":"C1","v":"2018-07-13"},{"$f":"RTD(\"cqg.rtd\",,\"StudyData\", \"Close(\"&$D$12&\") when LocalYear(\"&$D$12&\")=\"&$D$1&\" and localMonth(\"&$D$12&\") =\"&$E$1&\" and LocalDay(\"&$D$12&\")=\"&$F$1&\" and Barix(\"&$D$12&\",reference:=StartOfSession)=\"&A13&\"\", \"Bar\", \"\", \"Close\",\"5\",\"0\",\"PrimaryOnly\",,,\"False\",\"T\",\"EveryTick\")","v":191.58},2.8791289326284427E-3,{"$f":"RTD(\"cqg.rtd\",,\"StudyData\", \"Close(\"&$D$12&\") when LocalYear(\"&$D$12&\")=\"&$D$2&\" and localMonth(\"&$D$12&\") =\"&$E$2&\" and LocalDay(\"&$D$12&\")=\"&$F$2&\" and Barix(\"&$D$12&\",reference:=StartOfSession)=\"&A13&\"\", \"Bar\", \"\", \"Close\",\"5\",\"0\",\"PrimaryOnly\",,,\"False\",\"T\",\"EveryTick\")","v":190.64},1.4690227804981856E-2,{"$f":"RTD(\"cqg.rtd\",,\"StudyData\", \"Close(\"&$D$12&\") when LocalYear(\"&$D$12&\")=\"&$D$3&\" and localMonth(\"&$D$12&\") =\"&$E$3&\" and LocalDay(\"&$D$12&\")=\"&$F$3&\" and Barix(\"&$D$12&\",reference:=StartOfSession)=\"&A13&\"\", \"Bar\", \"\", \"Close\",\"5\",\"0\",\"PrimaryOnly\",,,\"False\",\"T\",\"EveryTick\")","v":188.88},-7.7226162332545258E-3,{"$f":"RTD(\"cqg.rtd\",,\"StudyData\", \"Close(\"&$D$12&\") when LocalYear(\"&$D$12&\")=\"&$D$4&\" and localMonth(\"&$D$12&\") =\"&$E$4&\" and LocalDay(\"&$D$12&\")=\"&$F$4&\" and Barix(\"&$D$12&\",reference:=StartOfSession)=\"&A13&\"\", \"Bar\", \"\", \"Close\",\"5\",\"0\",\"PrimaryOnly\",,,\"False\",\"T\",\"EveryTick\")","v":190.99},2.1513275264980407E-3,{"$f":"RTD(\"cqg.rtd\",,\"StudyData\", \"Close(\"&$D$12&\") when LocalYear(\"&$D$12&\")=\"&$D$5&\" and localMonth(\"&$D$12&\") =\"&$E$5&\" and LocalDay(\"&$D$12&\")=\"&$F$5&\" and Barix(\"&$D$12&\",reference:=StartOfSession)=\"&A13&\"\", \"Bar\", \"\", \"Close\",\"5\",\"0\",\"PrimaryOnly\",,,\"False\",\"T\",\"EveryTick\")","v":189.76},9.5227961908814808E-3,{"$f":"RTD(\"cqg.rtd\",,\"StudyData\", \"Close(\"&$D$12&\") when LocalYear(\"&$D$12&\")=\"&$D$6&\" and localMonth(\"&$D$12&\") =\"&$E$6&\" and LocalDay(\"&$D$12&\")=\"&$F$6&\" and Barix(\"&$D$12&\",reference:=StartOfSession)=\"&A13&\"\", \"Bar\", \"\", \"Close\",\"5\",\"0\",\"PrimaryOnly\",,,\"False\",\"T\",\"EveryTick\")","v":186.1},3.7756202804745879E-3,{"$f":"RTD(\"cqg.rtd\",,\"StudyData\", \"Close(\"&$D$12&\") when LocalYear(\"&$D$12&\")=\"&$D$7&\" and localMonth(\"&$D$12&\") =\"&$E$7&\" and LocalDay(\"&$D$12&\")=\"&$F$7&\" and Barix(\"&$D$12&\",reference:=StartOfSession)=\"&A13&\"\", \"Bar\", \"\", \"Close\",\"5\",\"0\",\"PrimaryOnly\",,,\"False\",\"T\",\"EveryTick\")","v":184.88},5.2196607220531101E-3,{"$f":"RTD(\"cqg.rtd\",,\"StudyData\", \"Close(\"&$D$12&\") when LocalYear(\"&$D$12&\")=\"&$D$8&\" and localMonth(\"&$D$12&\") =\"&$E$8&\" and LocalDay(\"&$D$12&\")=\"&$F$8&\" and Barix(\"&$D$12&\",reference:=StartOfSession)=\"&A13&\"\", \"Bar\", \"\", \"Close\",\"5\",\"0\",\"PrimaryOnly\",,,\"False\",\"T\",\"EveryTick\")","v":187.24},3.2054706699434916E-4,{"$f":"RTD(\"cqg.rtd\",,\"StudyData\", \"Close(\"&$D$12&\") when LocalYear(\"&$D$12&\")=\"&$D$9&\" and localMonth(\"&$D$12&\") =\"&$E$9&\" and LocalDay(\"&$D$12&\")=\"&$F$9&\" and Barix(\"&$D$12&\",reference:=StartOfSession)=\"&A13&\"\", \"Bar\", \"\", \"Close\",\"5\",\"0\",\"PrimaryOnly\",,,\"False\",\"T\",\"EveryTick\")","v":186.49},7.4550267408567631E-3,{"$f":"RTD(\"cqg.rtd\",,\"StudyData\", \"Close(\"&$D$12&\") when LocalYear(\"&$D$12&\")=\"&$D$10&\" and localMonth(\"&$D$12&\") =\"&$E$10&\" and LocalDay(\"&$D$12&\")=\"&$F$10&\" and Barix(\"&$D$12&\",reference:=StartOfSession)=\"&A13&\"\", \"Bar\", \"\", \"Close\",\"5\",\"0\",\"PrimaryOnly\",,,\"False\",\"T\",\"EveryTick\")","v":186.33},4.4743935309973721E-3,null,null,null,""]
[13,"09:35:00",null,{"$f":"RTD(\"cqg.rtd\", ,\"ContractData\",D12, \"LongDescription\",, \"T\")","v":"Apple Inc"},null,null,{"$f":"C2","v":"2018-07-12"},{"$f":"RTD(\"cqg.rtd\",,\"StudyData\", \"Close(\"&$D$12&\") when LocalYear(\"&$D$12&\")=\"&$D$1&\" and localMonth(\"&$D$12&\") =\"&$E$1&\" and LocalDay(\"&$D$12&\")=\"&$F$1&\" and Barix(\"&$D$12&\",reference:=StartOfSession)=\"&A14&\"\", \"Bar\", \"\", \"Close\",\"5\",\"0\",\"PrimaryOnly\",,,\"False\",\"T\",\"EveryTick\")","v":191.67},3.350259121603865E-3,{"$f":"RTD(\"cqg.rtd\",,\"StudyData\", \"Close(\"&$D$12&\") when LocalYear(\"&$D$12&\")=\"&$D$2&\" and localMonth(\"&$D$12&\") =\"&$E$2&\" and LocalDay(\"&$D$12&\")=\"&$F$2&\" and Barix(\"&$D$12&\",reference:=StartOfSession)=\"&A14&\"\", \"Bar\", \"\", \"Close\",\"5\",\"0\",\"PrimaryOnly\",,,\"False\",\"T\",\"EveryTick\")","v":190.41},1.3466042154566751E-2,{"$f":"RTD(\"cqg.rtd\",,\"StudyData\", \"Close(\"&$D$12&\") when LocalYear(\"&$D$12&\")=\"&$D$3&\" and localMonth(\"&$D$12&\") =\"&$E$3&\" and LocalDay(\"&$D$12&\")=\"&$F$3&\" and Barix(\"&$D$12&\",reference:=StartOfSession)=\"&A14&\"\", \"Bar\", \"\", \"Close\",\"5\",\"0\",\"PrimaryOnly\",,,\"False\",\"T\",\"EveryTick\")","v":188.97},-7.2498029944838222E-3,{"$f":"RTD(\"cqg.rtd\",,\"StudyData\", \"Close(\"&$D$12&\") when LocalYear(\"&$D$12&\")=\"&$D$4&\" and localMonth(\"&$D$12&\") =\"&$E$4&\" and LocalDay(\"&$D$12&\")=\"&$F$4&\" and Barix(\"&$D$12&\",reference:=StartOfSession)=\"&A14&\"\", \"Bar\", \"\", \"Close\",\"5\",\"0\",\"PrimaryOnly\",,,\"False\",\"T\",\"EveryTick\")","v":191.16},3.0433413789483893E-3,{"$f":"RTD(\"cqg.rtd\",,\"StudyData\", \"Close(\"&$D$12&\") when LocalYear(\"&$D$12&\")=\"&$D$5&\" and localMonth(\"&$D$12&\") =\"&$E$5&\" and LocalDay(\"&$D$12&\")=\"&$F$5&\" and Barix(\"&$D$12&\",reference:=StartOfSession)=\"&A14&\"\", \"Bar\", \"\", \"Close\",\"5\",\"0\",\"PrimaryOnly\",,,\"False\",\"T\",\"EveryTick\")","v":190.04},1.1012395595041725E-2,{"$f":"RTD(\"cqg.rtd\",,\"StudyData\", \"Close(\"&$D$12&\") when LocalYear(\"&$D$12&\")=\"&$D$6&\" and localMonth(\"&$D$12&\") =\"&$E$6&\" and LocalDay(\"&$D$12&\")=\"&$F$6&\" and Barix(\"&$D$12&\",reference:=StartOfSession)=\"&A14&\"\", \"Bar\", \"\", \"Close\",\"5\",\"0\",\"PrimaryOnly\",,,\"False\",\"T\",\"EveryTick\")","v":186.23},4.4768069039912844E-3,{"$f":"RTD(\"cqg.rtd\",,\"StudyData\", \"Close(\"&$D$12&\") when LocalYear(\"&$D$12&\")=\"&$D$7&\" and localMonth(\"&$D$12&\") =\"&$E$7&\" and LocalDay(\"&$D$12&\")=\"&$F$7&\" and Barix(\"&$D$12&\",reference:=StartOfSession)=\"&A14&\"\", \"Bar\", \"\", \"Close\",\"5\",\"0\",\"PrimaryOnly\",,,\"False\",\"T\",\"EveryTick\")","v":184.87},5.1652892561984401E-3,{"$f":"RTD(\"cqg.rtd\",,\"StudyData\", \"Close(\"&$D$12&\") when LocalYear(\"&$D$12&\")=\"&$D$8&\" and localMonth(\"&$D$12&\") =\"&$E$8&\" and LocalDay(\"&$D$12&\")=\"&$F$8&\" and Barix(\"&$D$12&\",reference:=StartOfSession)=\"&A14&\"\", \"Bar\", \"\", \"Close\",\"5\",\"0\",\"PrimaryOnly\",,,\"False\",\"T\",\"EveryTick\")","v":187.34},8.5479217865154706E-4,{"$f":"RTD(\"cqg.rtd\",,\"StudyData\", \"Close(\"&$D$12&\") when LocalYear(\"&$D$12&\")=\"&$D$9&\" and localMonth(\"&$D$12&\") =\"&$E$9&\" and LocalDay(\"&$D$12&\")=\"&$F$9&\" and Barix(\"&$D$12&\",reference:=StartOfSession)=\"&A14&\"\", \"Bar\", \"\", \"Close\",\"5\",\"0\",\"PrimaryOnly\",,,\"False\",\"T\",\"EveryTick\")","v":186.37},6.8067635459996261E-3,{"$f":"RTD(\"cqg.rtd\",,\"StudyData\", \"Close(\"&$D$12&\") when LocalYear(\"&$D$12&\")=\"&$D$10&\" and localMonth(\"&$D$12&\") =\"&$E$10&\" and LocalDay(\"&$D$12&\")=\"&$F$10&\" and Barix(\"&$D$12&\",reference:=StartOfSession)=\"&A14&\"\", \"Bar\", \"\", \"Close\",\"5\",\"0\",\"PrimaryOnly\",,,\"False\",\"T\",\"EveryTick\")","v":186.25},4.0431266846361188E-3,null,null,null,""]
[14,"09:40:00","",null,null,null,"2018-07-11",{"$f":"RTD(\"cqg.rtd\",,\"StudyData\", \"Close(\"&$D$12&\") when LocalYear(\"&$D$12&\")=\"&$D$1&\" and localMonth(\"&$D$12&\") =\"&$E$1&\" and LocalDay(\"&$D$12&\")=\"&$F$1&\" and Barix(\"&$D$12&\",reference:=StartOfSession)=\"&A15&\"\", \"Bar\", \"\", \"Close\",\"5\",\"0\",\"PrimaryOnly\",,,\"False\",\"T\",\"EveryTick\")","v":191.6},2.9838245301784701E-3,{"$f":"RTD(\"cqg.rtd\",,\"StudyData\", \"Close(\"&$D$12&\") when LocalYear(\"&$D$12&\")=\"&$D$2&\" and localMonth(\"&$D$12&\") =\"&$E$2&\" and LocalDay(\"&$D$12&\")=\"&$F$2&\" and Barix(\"&$D$12&\",reference:=StartOfSession)=\"&A15&\"\", \"Bar\", \"\", \"Close\",\"5\",\"0\",\"PrimaryOnly\",,,\"False\",\"T\",\"EveryTick\")","v":190.27},1.2720885671705423E-2,{"$f":"RTD(\"cqg.rtd\",,\"StudyData\", \"Close(\"&$D$12&\") when LocalYear(\"&$D$12&\")=\"&$D$3&\" and localMonth(\"&$D$12&\") =\"&$E$3&\" and LocalDay(\"&$D$12&\")=\"&$F$3&\" and Barix(\"&$D$12&\",reference:=StartOfSession)=\"&A15&\"\", \"Bar\", \"\", \"Close\",\"5\",\"0\",\"PrimaryOnly\",,,\"False\",\"T\",\"EveryTick\")","v":188.98},-7.1972681901760153E-3,{"$f":"RTD(\"cqg.rtd\",,\"StudyData\", \"Close(\"&$D$12&\") when LocalYear(\"&$D$12&\")=\"&$D$4&\" and localMonth(\"&$D$12&\") =\"&$E$4&\" and LocalDay(\"&$D$12&\")=\"&$F$4&\" and Barix(\"&$D$12&\",reference:=StartOfSession)=\"&A15&\"\", \"Bar\", \"\", \"Close\",\"5\",\"0\",\"PrimaryOnly\",,,\"False\",\"T\",\"EveryTick\")","v":191.05},2.4661559450099633E-3,{"$f":"RTD(\"cqg.rtd\",,\"StudyData\", \"Close(\"&$D$12&\") when LocalYear(\"&$D$12&\")=\"&$D$5&\" and localMonth(\"&$D$12&\") =\"&$E$5&\" and LocalDay(\"&$D$12&\")=\"&$F$5&\" and Barix(\"&$D$12&\",reference:=StartOfSession)=\"&A15&\"\", \"Bar\", \"\", \"Close\",\"5\",\"0\",\"PrimaryOnly\",,,\"False\",\"T\",\"EveryTick\")","v":189.72},9.30999627600149E-3,{"$f":"RTD(\"cqg.rtd\",,\"StudyData\", \"Close(\"&$D$12&\") when LocalYear(\"&$D$12&\")=\"&$D$6&\" and localMonth(\"&$D$12&\") =\"&$E$6&\" and LocalDay(\"&$D$12&\")=\"&$F$6&\" and Barix(\"&$D$12&\",reference:=StartOfSession)=\"&A15&\"\", \"Bar\", \"\", \"Close\",\"5\",\"0\",\"PrimaryOnly\",,,\"False\",\"T\",\"EveryTick\")","v":186.7},7.0118662351671135E-3,{"$f":"RTD(\"cqg.rtd\",,\"StudyData\", \"Close(\"&$D$12&\") when LocalYear(\"&$D$12&\")=\"&$D$7&\" and localMonth(\"&$D$12&\") =\"&$E$7&\" and LocalDay(\"&$D$12&\")=\"&$F$7&\" and Barix(\"&$D$12&\",reference:=StartOfSession)=\"&A15&\"\", \"Bar\", \"\", \"Close\",\"5\",\"0\",\"PrimaryOnly\",,,\"False\",\"T\",\"EveryTick\")","v":185.03},6.0352327098739328E-3,{"$f":"RTD(\"cqg.rtd\",,\"StudyData\", \"Close(\"&$D$12&\") when LocalYear(\"&$D$12&\")=\"&$D$8&\" and localMonth(\"&$D$12&\") =\"&$E$8&\" and LocalDay(\"&$D$12&\")=\"&$F$8&\" and Barix(\"&$D$12&\",reference:=StartOfSession)=\"&A15&\"\", \"Bar\", \"\", \"Close\",\"5\",\"0\",\"PrimaryOnly\",,,\"False\",\"T\",\"EveryTick\")","v":187.24},3.2054706699434916E-4,{"$f":"RTD(\"cqg.rtd\",,\"StudyData\", \"Close(\"&$D$12&\") when LocalYear(\"&$D$12&\")=\"&$D$9&\" and localMonth(\"&$D$12&\") =\"&$E$9&\" and LocalDay(\"&$D$12&\")=\"&$F$9&\" and Barix(\"&$D$12&\",reference:=StartOfSession)=\"&A15&\"\", \"Bar\", \"\", \"Close\",\"5\",\"0\",\"PrimaryOnly\",,,\"False\",\"T\",\"EveryTick\")","v":186.62},8.1573118686186098E-3,{"$f":"RTD(\"cqg.rtd\",,\"StudyData\", \"Close(\"&$D$12&\") when LocalYear(\"&$D$12&\")=\"&$D$10&\" and localMonth(\"&$D$12&\") =\"&$E$10&\" and LocalDay(\"&$D$12&\")=\"&$F$10&\" and Barix(\"&$D$12&\",reference:=StartOfSession)=\"&A15&\"\", \"Bar\", \"\", \"Close\",\"5\",\"0\",\"PrimaryOnly\",,,\"False\",\"T\",\"EveryTick\")","v":186.16},3.5579514824797659E-3,null,null,null,""]
[15,"09:45:00",null,{"$f":"RTD(\"cqg.rtd\", ,\"ContractData\",D12, \"Ticksize\",, \"T\")","v":0.01},null,null,"2018-07-10",{"$f":"RTD(\"cqg.rtd\",,\"StudyData\", \"Close(\"&$D$12&\") when LocalYear(\"&$D$12&\")=\"&$D$1&\" and localMonth(\"&$D$12&\") =\"&$E$1&\" and LocalDay(\"&$D$12&\")=\"&$F$1&\" and Barix(\"&$D$12&\",reference:=StartOfSession)=\"&A16&\"\", \"Bar\", \"\", \"Close\",\"5\",\"0\",\"PrimaryOnly\",,,\"False\",\"T\",\"EveryTick\")","v":191.41},1.9892163534523137E-3,{"$f":"RTD(\"cqg.rtd\",,\"StudyData\", \"Close(\"&$D$12&\") when LocalYear(\"&$D$12&\")=\"&$D$2&\" and localMonth(\"&$D$12&\") =\"&$E$2&\" and LocalDay(\"&$D$12&\")=\"&$F$2&\" and Barix(\"&$D$12&\",reference:=StartOfSession)=\"&A16&\"\", \"Bar\", \"\", \"Close\",\"5\",\"0\",\"PrimaryOnly\",,,\"False\",\"T\",\"EveryTick\")","v":190.13},1.1975729188843943E-2,{"$f":"RTD(\"cqg.rtd\",,\"StudyData\", \"Close(\"&$D$12&\") when LocalYear(\"&$D$12&\")=\"&$D$3&\" and localMonth(\"&$D$12&\") =\"&$E$3&\" and LocalDay(\"&$D$12&\")=\"&$F$3&\" and Barix(\"&$D$12&\",reference:=StartOfSession)=\"&A16&\"\", \"Bar\", \"\", \"Close\",\"5\",\"0\",\"PrimaryOnly\",,,\"False\",\"T\",\"EveryTick\")","v":188.69},-8.7207775151037382E-3,{"$f":"RTD(\"cqg.rtd\",,\"StudyData\", \"Close(\"&$D$12&\") when LocalYear(\"&$D$12&\")=\"&$D$4&\" and localMonth(\"&$D$12&\") =\"&$E$4&\" and LocalDay(\"&$D$12&\")=\"&$F$4&\" and Barix(\"&$D$12&\",reference:=StartOfSession)=\"&A16&\"\", \"Bar\", \"\", \"Close\",\"5\",\"0\",\"PrimaryOnly\",,,\"False\",\"T\",\"EveryTick\")","v":190.91},1.731556301815427E-3,{"$f":"RTD(\"cqg.rtd\",,\"StudyData\", \"Close(\"&$D$12&\") when LocalYear(\"&$D$12&\")=\"&$D$5&\" and localMonth(\"&$D$12&\") =\"&$E$5&\" and LocalDay(\"&$D$12&\")=\"&$F$5&\" and Barix(\"&$D$12&\",reference:=StartOfSession)=\"&A16&\"\", \"Bar\", \"\", \"Close\",\"5\",\"0\",\"PrimaryOnly\",,,\"False\",\"T\",\"EveryTick\")","v":189.96},1.0586795765281742E-2,{"$f":"RTD(\"cqg.rtd\",,\"StudyData\", \"Close(\"&$D$12&\") when LocalYear(\"&$D$12&\")=\"&$D$6&\" and localMonth(\"&$D$12&\") =\"&$E$6&\" and LocalDay(\"&$D$12&\")=\"&$F$6&\" and Barix(\"&$D$12&\",reference:=StartOfSession)=\"&A16&\"\", \"Bar\", \"\", \"Close\",\"5\",\"0\",\"PrimaryOnly\",,,\"False\",\"T\",\"EveryTick\")","v":186.74},7.2276159654800611E-3,{"$f":"RTD(\"cqg.rtd\",,\"StudyData\", \"Close(\"&$D$12&\") when LocalYear(\"&$D$12&\")=\"&$D$7&\" and localMonth(\"&$D$12&\") =\"&$E$7&\" and LocalDay(\"&$D$12&\")=\"&$F$7&\" and Barix(\"&$D$12&\",reference:=StartOfSession)=\"&A16&\"\", \"Bar\", \"\", \"Close\",\"5\",\"0\",\"PrimaryOnly\",,,\"False\",\"T\",\"EveryTick\")","v":185.2},6.9595476294040956E-3,{"$f":"RTD(\"cqg.rtd\",,\"StudyData\", \"Close(\"&$D$12&\") when LocalYear(\"&$D$12&\")=\"&$D$8&\" and localMonth(\"&$D$12&\") =\"&$E$8&\" and LocalDay(\"&$D$12&\")=\"&$F$8&\" and Barix(\"&$D$12&\",reference:=StartOfSession)=\"&A16&\"\", \"Bar\", \"\", \"Close\",\"5\",\"0\",\"PrimaryOnly\",,,\"False\",\"T\",\"EveryTick\")","v":186.86},-1.7095843573030941E-3,{"$f":"RTD(\"cqg.rtd\",,\"StudyData\", \"Close(\"&$D$12&\") when LocalYear(\"&$D$12&\")=\"&$D$9&\" and localMonth(\"&$D$12&\") =\"&$E$9&\" and LocalDay(\"&$D$12&\")=\"&$F$9&\" and Barix(\"&$D$12&\",reference:=StartOfSession)=\"&A16&\"\", \"Bar\", \"\", \"Close\",\"5\",\"0\",\"PrimaryOnly\",,,\"False\",\"T\",\"EveryTick\")","v":186.48},7.4010048079518991E-3,{"$f":"RTD(\"cqg.rtd\",,\"StudyData\", \"Close(\"&$D$12&\") when LocalYear(\"&$D$12&\")=\"&$D$10&\" and localMonth(\"&$D$12&\") =\"&$E$10&\" and LocalDay(\"&$D$12&\")=\"&$F$10&\" and Barix(\"&$D$12&\",reference:=StartOfSession)=\"&A16&\"\", \"Bar\", \"\", \"Close\",\"5\",\"0\",\"PrimaryOnly\",,,\"False\",\"T\",\"EveryTick\")","v":186.22},3.8814016172506677E-3,null,null,null,""]
[16,"09:50:00",null,{"$f":"IF(D16>=1,0,IF(LEN(D16)-2=1,2,LEN(D16)-2))","v":2},null,{"$f":"VLOOKUP(D17,D18:E25,2,FALSE)","v":"#.00"},"2018-07-09",{"$f":"RTD(\"cqg.rtd\",,\"StudyData\", \"Close(\"&$D$12&\") when LocalYear(\"&$D$12&\")=\"&$D$1&\" and localMonth(\"&$D$12&\") =\"&$E$1&\" and LocalDay(\"&$D$12&\")=\"&$F$1&\" and Barix(\"&$D$12&\",reference:=StartOfSession)=\"&A17&\"\", \"Bar\", \"\", \"Close\",\"5\",\"0\",\"PrimaryOnly\",,,\"False\",\"T\",\"EveryTick\")","v":191.5},2.4603465424278851E-3,{"$f":"RTD(\"cqg.rtd\",,\"StudyData\", \"Close(\"&$D$12&\") when LocalYear(\"&$D$12&\")=\"&$D$2&\" and localMonth(\"&$D$12&\") =\"&$E$2&\" and LocalDay(\"&$D$12&\")=\"&$F$2&\" and Barix(\"&$D$12&\",reference:=StartOfSession)=\"&A17&\"\", \"Bar\", \"\", \"Close\",\"5\",\"0\",\"PrimaryOnly\",,,\"False\",\"T\",\"EveryTick\")","v":190.2},1.2348307430274607E-2,{"$f":"RTD(\"cqg.rtd\",,\"StudyData\", \"Close(\"&$D$12&\") when LocalYear(\"&$D$12&\")=\"&$D$3&\" and localMonth(\"&$D$12&\") =\"&$E$3&\" and LocalDay(\"&$D$12&\")=\"&$F$3&\" and Barix(\"&$D$12&\",reference:=StartOfSession)=\"&A17&\"\", \"Bar\", \"\", \"Close\",\"5\",\"0\",\"PrimaryOnly\",,,\"False\",\"T\",\"EveryTick\")","v":188.82},-8.0378250591016612E-3,{"$f":"RTD(\"cqg.rtd\",,\"StudyData\", \"Close(\"&$D$12&\") when LocalYear(\"&$D$12&\")=\"&$D$4&\" and localMonth(\"&$D$12&\") =\"&$E$4&\" and LocalDay(\"&$D$12&\")=\"&$F$4&\" and Barix(\"&$D$12&\",reference:=StartOfSession)=\"&A17&\"\", \"Bar\", \"\", \"Close\",\"5\",\"0\",\"PrimaryOnly\",,,\"False\",\"T\",\"EveryTick\")","v":191.07},2.5710987511805049E-3,{"$f":"RTD(\"cqg.rtd\",,\"StudyData\", \"Close(\"&$D$12&\") when LocalYear(\"&$D$12&\")=\"&$D$5&\" and localMonth(\"&$D$12&\") =\"&$E$5&\" and LocalDay(\"&$D$12&\")=\"&$F$5&\" and Barix(\"&$D$12&\",reference:=StartOfSession)=\"&A17&\"\", \"Bar\", \"\", \"Close\",\"5\",\"0\",\"PrimaryOnly\",,,\"False\",\"T\",\"EveryTick\")","v":190.01},1.0852795658881694E-2,{"$f":"RTD(\"cqg.rtd\",,\"StudyData\", \"Close(\"&$D$12&\") when LocalYear(\"&$D$12&\")=\"&$D$6&\" and localMonth(\"&$D$12&\") =\"&$E$6&\" and LocalDay(\"&$D$12&\")=\"&$F$6&\" and Barix(\"&$D$12&\",reference:=StartOfSession)=\"&A17&\"\", \"Bar\", \"\", \"Close\",\"5\",\"0\",\"PrimaryOnly\",,,\"False\",\"T\",\"EveryTick\")","v":186.81},7.6051779935274897E-3,{"$f":"RTD(\"cqg.rtd\",,\"StudyData\", \"Close(\"&$D$12&\") when LocalYear(\"&$D$12&\")=\"&$D$7&\" and localMonth(\"&$D$12&\") =\"&$E$7&\" and LocalDay(\"&$D$12&\")=\"&$F$7&\" and Barix(\"&$D$12&\",reference:=StartOfSession)=\"&A17&\"\", \"Bar\", \"\", \"Close\",\"5\",\"0\",\"PrimaryOnly\",,,\"False\",\"T\",\"EveryTick\")","v":184.44},2.8273162244454668E-3,{"$f":"RTD(\"cqg.rtd\",,\"StudyData\", \"Close(\"&$D$12&\") when LocalYear(\"&$D$12&\")=\"&$D$8&\" and localMonth(\"&$D$12&\") =\"&$E$8&\" and LocalDay(\"&$D$12&\")=\"&$F$8&\" and Barix(\"&$D$12&\",reference:=StartOfSession)=\"&A17&\"\", \"Bar\", \"\", \"Close\",\"5\",\"0\",\"PrimaryOnly\",,,\"False\",\"T\",\"EveryTick\")","v":186.9},-1.4958863126402454E-3,{"$f":"RTD(\"cqg.rtd\",,\"StudyData\", \"Close(\"&$D$12&\") when LocalYear(\"&$D$12&\")=\"&$D$9&\" and localMonth(\"&$D$12&\") =\"&$E$9&\" and LocalDay(\"&$D$12&\")=\"&$F$9&\" and Barix(\"&$D$12&\",reference:=StartOfSession)=\"&A17&\"\", \"Bar\", \"\", \"Close\",\"5\",\"0\",\"PrimaryOnly\",,,\"False\",\"T\",\"EveryTick\")","v":186.43},7.1308951434281946E-3,{"$f":"RTD(\"cqg.rtd\",,\"StudyData\", \"Close(\"&$D$12&\") when LocalYear(\"&$D$12&\")=\"&$D$10&\" and localMonth(\"&$D$12&\") =\"&$E$10&\" and LocalDay(\"&$D$12&\")=\"&$F$10&\" and Barix(\"&$D$12&\",reference:=StartOfSession)=\"&A17&\"\", \"Bar\", \"\", \"Close\",\"5\",\"0\",\"PrimaryOnly\",,,\"False\",\"T\",\"EveryTick\")","v":186.23},3.9353099730457669E-3,null,null,null,""]
[17,"09:55:00",null,0,"#",null,"2018-07-06",{"$f":"RTD(\"cqg.rtd\",,\"StudyData\", \"Close(\"&$D$12&\") when LocalYear(\"&$D$12&\")=\"&$D$1&\" and localMonth(\"&$D$12&\") =\"&$E$1&\" and LocalDay(\"&$D$12&\")=\"&$F$1&\" and Barix(\"&$D$12&\",reference:=StartOfSession)=\"&A18&\"\", \"Bar\", \"\", \"Close\",\"5\",\"0\",\"PrimaryOnly\",,,\"False\",\"T\",\"EveryTick\")","v":191.41},1.9892163534523137E-3,{"$f":"RTD(\"cqg.rtd\",,\"StudyData\", \"Close(\"&$D$12&\") when LocalYear(\"&$D$12&\")=\"&$D$2&\" and localMonth(\"&$D$12&\") =\"&$E$2&\" and LocalDay(\"&$D$12&\")=\"&$F$2&\" and Barix(\"&$D$12&\",reference:=StartOfSession)=\"&A18&\"\", \"Bar\", \"\", \"Close\",\"5\",\"0\",\"PrimaryOnly\",,,\"False\",\"T\",\"EveryTick\")","v":190.03},1.1443474558228688E-2,{"$f":"RTD(\"cqg.rtd\",,\"StudyData\", \"Close(\"&$D$12&\") when LocalYear(\"&$D$12&\")=\"&$D$3&\" and localMonth(\"&$D$12&\") =\"&$E$3&\" and LocalDay(\"&$D$12&\")=\"&$F$3&\" and Barix(\"&$D$12&\",reference:=StartOfSession)=\"&A18&\"\", \"Bar\", \"\", \"Close\",\"5\",\"0\",\"PrimaryOnly\",,,\"False\",\"T\",\"EveryTick\")","v":188.96},-7.3023377987916282E-3,{"$f":"RTD(\"cqg.rtd\",,\"StudyData\", \"Close(\"&$D$12&\") when LocalYear(\"&$D$12&\")=\"&$D$4&\" and localMonth(\"&$D$12&\") =\"&$E$4&\" and LocalDay(\"&$D$12&\")=\"&$F$4&\" and Barix(\"&$D$12&\",reference:=StartOfSession)=\"&A18&\"\", \"Bar\", \"\", \"Close\",\"5\",\"0\",\"PrimaryOnly\",,,\"False\",\"T\",\"EveryTick\")","v":190.97},2.0463847203273499E-3,{"$f":"RTD(\"cqg.rtd\",,\"StudyData\", \"Close(\"&$D$12&\") when LocalYear(\"&$D$12&\")=\"&$D$5&\" and localMonth(\"&$D$12&\") =\"&$E$5&\" and LocalDay(\"&$D$12&\")=\"&$F$5&\" and Barix(\"&$D$12&\",reference:=StartOfSession)=\"&A18&\"\", \"Bar\", \"\", \"Close\",\"5\",\"0\",\"PrimaryOnly\",,,\"False\",\"T\",\"EveryTick\")","v":190.08},1.1225195509921869E-2,{"$f":"RTD(\"cqg.rtd\",,\"StudyData\", \"Close(\"&$D$12&\") when LocalYear(\"&$D$12&\")=\"&$D$6&\" and localMonth(\"&$D$12&\") =\"&$E$6&\" and LocalDay(\"&$D$12&\")=\"&$F$6&\" and Barix(\"&$D$12&\",reference:=StartOfSession)=\"&A18&\"\", \"Bar\", \"\", \"Close\",\"5\",\"0\",\"PrimaryOnly\",,,\"False\",\"T\",\"EveryTick\")","v":186.67},6.8500539374324798E-3,{"$f":"RTD(\"cqg.rtd\",,\"StudyData\", \"Close(\"&$D$12&\") when LocalYear(\"&$D$12&\")=\"&$D$7&\" and localMonth(\"&$D$12&\") =\"&$E$7&\" and LocalDay(\"&$D$12&\")=\"&$F$7&\" and Barix(\"&$D$12&\",reference:=StartOfSession)=\"&A18&\"\", \"Bar\", \"\", \"Close\",\"5\",\"0\",\"PrimaryOnly\",,,\"False\",\"T\",\"EveryTick\")","v":184.55},3.425402348847455E-3,{"$f":"RTD(\"cqg.rtd\",,\"StudyData\", \"Close(\"&$D$12&\") when LocalYear(\"&$D$12&\")=\"&$D$8&\" and localMonth(\"&$D$12&\") =\"&$E$8&\" and LocalDay(\"&$D$12&\")=\"&$F$8&\" and Barix(\"&$D$12&\",reference:=StartOfSession)=\"&A18&\"\", \"Bar\", \"\", \"Close\",\"5\",\"0\",\"PrimaryOnly\",,,\"False\",\"T\",\"EveryTick\")","v":186.97},-1.121914734480222E-3,{"$f":"RTD(\"cqg.rtd\",,\"StudyData\", \"Close(\"&$D$12&\") when LocalYear(\"&$D$12&\")=\"&$D$9&\" and localMonth(\"&$D$12&\") =\"&$E$9&\" and LocalDay(\"&$D$12&\")=\"&$F$9&\" and Barix(\"&$D$12&\",reference:=StartOfSession)=\"&A18&\"\", \"Bar\", \"\", \"Close\",\"5\",\"0\",\"PrimaryOnly\",,,\"False\",\"T\",\"EveryTick\")","v":186.57},7.8872022040947509E-3,{"$f":"RTD(\"cqg.rtd\",,\"StudyData\", \"Close(\"&$D$12&\") when LocalYear(\"&$D$12&\")=\"&$D$10&\" and localMonth(\"&$D$12&\") =\"&$E$10&\" and LocalDay(\"&$D$12&\")=\"&$F$10&\" and Barix(\"&$D$12&\",reference:=StartOfSession)=\"&A18&\"\", \"Bar\", \"\", \"Close\",\"5\",\"0\",\"PrimaryOnly\",,,\"False\",\"T\",\"EveryTick\")","v":186.21},3.8274932614555685E-3,null,null,null,""]
[18,"10:00:00",null,1,"#.0",null,"2018-07-05",{"$f":"RTD(\"cqg.rtd\",,\"StudyData\", \"Close(\"&$D$12&\") when LocalYear(\"&$D$12&\")=\"&$D$1&\" and localMonth(\"&$D$12&\") =\"&$E$1&\" and LocalDay(\"&$D$12&\")=\"&$F$1&\" and Barix(\"&$D$12&\",reference:=StartOfSession)=\"&A19&\"\", \"Bar\", \"\", \"Close\",\"5\",\"0\",\"PrimaryOnly\",,,\"False\",\"T\",\"EveryTick\")","v":191.55},2.7220855363032522E-3,{"$f":"RTD(\"cqg.rtd\",,\"StudyData\", \"Close(\"&$D$12&\") when LocalYear(\"&$D$12&\")=\"&$D$2&\" and localMonth(\"&$D$12&\") =\"&$E$2&\" and LocalDay(\"&$D$12&\")=\"&$F$2&\" and Barix(\"&$D$12&\",reference:=StartOfSession)=\"&A19&\"\", \"Bar\", \"\", \"Close\",\"5\",\"0\",\"PrimaryOnly\",,,\"False\",\"T\",\"EveryTick\")","v":190.21},1.2401532893336238E-2,{"$f":"RTD(\"cqg.rtd\",,\"StudyData\", \"Close(\"&$D$12&\") when LocalYear(\"&$D$12&\")=\"&$D$3&\" and localMonth(\"&$D$12&\") =\"&$E$3&\" and LocalDay(\"&$D$12&\")=\"&$F$3&\" and Barix(\"&$D$12&\",reference:=StartOfSession)=\"&A19&\"\", \"Bar\", \"\", \"Close\",\"5\",\"0\",\"PrimaryOnly\",,,\"False\",\"T\",\"EveryTick\")","v":188.85},-7.880220646178094E-3,{"$f":"RTD(\"cqg.rtd\",,\"StudyData\", \"Close(\"&$D$12&\") when LocalYear(\"&$D$12&\")=\"&$D$4&\" and localMonth(\"&$D$12&\") =\"&$E$4&\" and LocalDay(\"&$D$12&\")=\"&$F$4&\" and Barix(\"&$D$12&\",reference:=StartOfSession)=\"&A19&\"\", \"Bar\", \"\", \"Close\",\"5\",\"0\",\"PrimaryOnly\",,,\"False\",\"T\",\"EveryTick\")","v":191.06},2.5186273480952343E-3,{"$f":"RTD(\"cqg.rtd\",,\"StudyData\", \"Close(\"&$D$12&\") when LocalYear(\"&$D$12&\")=\"&$D$5&\" and localMonth(\"&$D$12&\") =\"&$E$5&\" and LocalDay(\"&$D$12&\")=\"&$F$5&\" and Barix(\"&$D$12&\",reference:=StartOfSession)=\"&A19&\"\", \"Bar\", \"\", \"Close\",\"5\",\"0\",\"PrimaryOnly\",,,\"False\",\"T\",\"EveryTick\")","v":190.21},1.1916795233281955E-2,{"$f":"RTD(\"cqg.rtd\",,\"StudyData\", \"Close(\"&$D$12&\") when LocalYear(\"&$D$12&\")=\"&$D$6&\" and localMonth(\"&$D$12&\") =\"&$E$6&\" and LocalDay(\"&$D$12&\")=\"&$F$6&\" and Barix(\"&$D$12&\",reference:=StartOfSession)=\"&A19&\"\", \"Bar\", \"\", \"Close\",\"5\",\"0\",\"PrimaryOnly\",,,\"False\",\"T\",\"EveryTick\")","v":186.79},7.4973031283710155E-3,{"$f":"RTD(\"cqg.rtd\",,\"StudyData\", \"Close(\"&$D$12&\") when LocalYear(\"&$D$12&\")=\"&$D$7&\" and localMonth(\"&$D$12&\") =\"&$E$7&\" and LocalDay(\"&$D$12&\")=\"&$F$7&\" and Barix(\"&$D$12&\",reference:=StartOfSession)=\"&A19&\"\", \"Bar\", \"\", \"Close\",\"5\",\"0\",\"PrimaryOnly\",,,\"False\",\"T\",\"EveryTick\")","v":184.56},3.479773814702125E-3,{"$f":"RTD(\"cqg.rtd\",,\"StudyData\", \"Close(\"&$D$12&\") when LocalYear(\"&$D$12&\")=\"&$D$8&\" and localMonth(\"&$D$12&\") =\"&$E$8&\" and LocalDay(\"&$D$12&\")=\"&$F$8&\" and Barix(\"&$D$12&\",reference:=StartOfSession)=\"&A19&\"\", \"Bar\", \"\", \"Close\",\"5\",\"0\",\"PrimaryOnly\",,,\"False\",\"T\",\"EveryTick\")","v":186.93},-1.3356127791430707E-3,{"$f":"RTD(\"cqg.rtd\",,\"StudyData\", \"Close(\"&$D$12&\") when LocalYear(\"&$D$12&\")=\"&$D$9&\" and localMonth(\"&$D$12&\") =\"&$E$9&\" and LocalDay(\"&$D$12&\")=\"&$F$9&\" and Barix(\"&$D$12&\",reference:=StartOfSession)=\"&A19&\"\", \"Bar\", \"\", \"Close\",\"5\",\"0\",\"PrimaryOnly\",,,\"False\",\"T\",\"EveryTick\")","v":186.68},8.4814434660471782E-3,{"$f":"RTD(\"cqg.rtd\",,\"StudyData\", \"Close(\"&$D$12&\") when LocalYear(\"&$D$12&\")=\"&$D$10&\" and localMonth(\"&$D$12&\") =\"&$E$10&\" and LocalDay(\"&$D$12&\")=\"&$F$10&\" and Barix(\"&$D$12&\",reference:=StartOfSession)=\"&A19&\"\", \"Bar\", \"\", \"Close\",\"5\",\"0\",\"PrimaryOnly\",,,\"False\",\"T\",\"EveryTick\")","v":186.33},4.4743935309973721E-3,null,null,null,""]
[19,"10:05:00",null,2,"#.00",null,"2018-07-03",{"$f":"RTD(\"cqg.rtd\",,\"StudyData\", \"Close(\"&$D$12&\") when LocalYear(\"&$D$12&\")=\"&$D$1&\" and localMonth(\"&$D$12&\") =\"&$E$1&\" and LocalDay(\"&$D$12&\")=\"&$F$1&\" and Barix(\"&$D$12&\",reference:=StartOfSession)=\"&A20&\"\", \"Bar\", \"\", \"Close\",\"5\",\"0\",\"PrimaryOnly\",,,\"False\",\"T\",\"EveryTick\")","v":191.47},2.3033031461026946E-3,{"$f":"RTD(\"cqg.rtd\",,\"StudyData\", \"Close(\"&$D$12&\") when LocalYear(\"&$D$12&\")=\"&$D$2&\" and localMonth(\"&$D$12&\") =\"&$E$2&\" and LocalDay(\"&$D$12&\")=\"&$F$2&\" and Barix(\"&$D$12&\",reference:=StartOfSession)=\"&A20&\"\", \"Bar\", \"\", \"Close\",\"5\",\"0\",\"PrimaryOnly\",,,\"False\",\"T\",\"EveryTick\")","v":190.17},1.2188631041090015E-2,{"$f":"RTD(\"cqg.rtd\",,\"StudyData\", \"Close(\"&$D$12&\") when LocalYear(\"&$D$12&\")=\"&$D$3&\" and localMonth(\"&$D$12&\") =\"&$E$3&\" and LocalDay(\"&$D$12&\")=\"&$F$3&\" and Barix(\"&$D$12&\",reference:=StartOfSession)=\"&A20&\"\", \"Bar\", \"\", \"Close\",\"5\",\"0\",\"PrimaryOnly\",,,\"False\",\"T\",\"EveryTick\")","v":188.74},-8.4581034935644096E-3,{"$f":"RTD(\"cqg.rtd\",,\"StudyData\", \"Close(\"&$D$12&\") when LocalYear(\"&$D$12&\")=\"&$D$4&\" and localMonth(\"&$D$12&\") =\"&$E$4&\" and LocalDay(\"&$D$12&\")=\"&$F$4&\" and Barix(\"&$D$12&\",reference:=StartOfSession)=\"&A20&\"\", \"Bar\", \"\", \"Close\",\"5\",\"0\",\"PrimaryOnly\",,,\"False\",\"T\",\"EveryTick\")","v":191.07},2.5710987511805049E-3,{"$f":"RTD(\"cqg.rtd\",,\"StudyData\", \"Close(\"&$D$12&\") when LocalYear(\"&$D$12&\")=\"&$D$5&\" and localMonth(\"&$D$12&\") =\"&$E$5&\" and LocalDay(\"&$D$12&\")=\"&$F$5&\" and Barix(\"&$D$12&\",reference:=StartOfSession)=\"&A20&\"\", \"Bar\", \"\", \"Close\",\"5\",\"0\",\"PrimaryOnly\",,,\"False\",\"T\",\"EveryTick\")","v":190.23},1.2023195190721876E-2,{"$f":"RTD(\"cqg.rtd\",,\"StudyData\", \"Close(\"&$D$12&\") when LocalYear(\"&$D$12&\")=\"&$D$6&\" and localMonth(\"&$D$12&\") =\"&$E$6&\" and LocalDay(\"&$D$12&\")=\"&$F$6&\" and Barix(\"&$D$12&\",reference:=StartOfSession)=\"&A20&\"\", \"Bar\", \"\", \"Close\",\"5\",\"0\",\"PrimaryOnly\",,,\"False\",\"T\",\"EveryTick\")","v":187.02},8.7378640776699275E-3,{"$f":"RTD(\"cqg.rtd\",,\"StudyData\", \"Close(\"&$D$12&\") when LocalYear(\"&$D$12&\")=\"&$D$7&\" and localMonth(\"&$D$12&\") =\"&$E$7&\" and LocalDay(\"&$D$12&\")=\"&$F$7&\" and Barix(\"&$D$12&\",reference:=StartOfSession)=\"&A20&\"\", \"Bar\", \"\", \"Close\",\"5\",\"0\",\"PrimaryOnly\",,,\"False\",\"T\",\"EveryTick\")","v":184.68},4.1322314049587828E-3,{"$f":"RTD(\"cqg.rtd\",,\"StudyData\", \"Close(\"&$D$12&\") when LocalYear(\"&$D$12&\")=\"&$D$8&\" and localMonth(\"&$D$12&\") =\"&$E$8&\" and LocalDay(\"&$D$12&\")=\"&$F$8&\" and Barix(\"&$D$12&\",reference:=StartOfSession)=\"&A20&\"\", \"Bar\", \"\", \"Close\",\"5\",\"0\",\"PrimaryOnly\",,,\"False\",\"T\",\"EveryTick\")","v":186.65},-2.8314990917833161E-3,{"$f":"RTD(\"cqg.rtd\",,\"StudyData\", \"Close(\"&$D$12&\") when LocalYear(\"&$D$12&\")=\"&$D$9&\" and localMonth(\"&$D$12&\") =\"&$E$9&\" and LocalDay(\"&$D$12&\")=\"&$F$9&\" and Barix(\"&$D$12&\",reference:=StartOfSession)=\"&A20&\"\", \"Bar\", \"\", \"Close\",\"5\",\"0\",\"PrimaryOnly\",,,\"False\",\"T\",\"EveryTick\")","v":186.6},8.049268002809036E-3,{"$f":"RTD(\"cqg.rtd\",,\"StudyData\", \"Close(\"&$D$12&\") when LocalYear(\"&$D$12&\")=\"&$D$10&\" and localMonth(\"&$D$12&\") =\"&$E$10&\" and LocalDay(\"&$D$12&\")=\"&$F$10&\" and Barix(\"&$D$12&\",reference:=StartOfSession)=\"&A20&\"\", \"Bar\", \"\", \"Close\",\"5\",\"0\",\"PrimaryOnly\",,,\"False\",\"T\",\"EveryTick\")","v":186.43},5.0134770889488237E-3,null,null,null,""]
[20,"10:10:00",null,3,"#.000",null,"2018-07-02",{"$f":"RTD(\"cqg.rtd\",,\"StudyData\", \"Close(\"&$D$12&\") when LocalYear(\"&$D$12&\")=\"&$D$1&\" and localMonth(\"&$D$12&\") =\"&$E$1&\" and LocalDay(\"&$D$12&\")=\"&$F$1&\" and Barix(\"&$D$12&\",reference:=StartOfSession)=\"&A21&\"\", \"Bar\", \"\", \"Close\",\"5\",\"0\",\"PrimaryOnly\",,,\"False\",\"T\",\"EveryTick\")","v":191.46},2.2509553473276807E-3,{"$f":"RTD(\"cqg.rtd\",,\"StudyData\", \"Close(\"&$D$12&\") when LocalYear(\"&$D$12&\")=\"&$D$2&\" and localMonth(\"&$D$12&\") =\"&$E$2&\" and LocalDay(\"&$D$12&\")=\"&$F$2&\" and Barix(\"&$D$12&\",reference:=StartOfSession)=\"&A21&\"\", \"Bar\", \"\", \"Close\",\"5\",\"0\",\"PrimaryOnly\",,,\"False\",\"T\",\"EveryTick\")","v":190.4},1.3412816691505271E-2,{"$f":"RTD(\"cqg.rtd\",,\"StudyData\", \"Close(\"&$D$12&\") when LocalYear(\"&$D$12&\")=\"&$D$3&\" and localMonth(\"&$D$12&\") =\"&$E$3&\" and LocalDay(\"&$D$12&\")=\"&$F$3&\" and Barix(\"&$D$12&\",reference:=StartOfSession)=\"&A21&\"\", \"Bar\", \"\", \"Close\",\"5\",\"0\",\"PrimaryOnly\",,,\"False\",\"T\",\"EveryTick\")","v":188.59},-9.2461255581822478E-3,{"$f":"RTD(\"cqg.rtd\",,\"StudyData\", \"Close(\"&$D$12&\") when LocalYear(\"&$D$12&\")=\"&$D$4&\" and localMonth(\"&$D$12&\") =\"&$E$4&\" and LocalDay(\"&$D$12&\")=\"&$F$4&\" and Barix(\"&$D$12&\",reference:=StartOfSession)=\"&A21&\"\", \"Bar\", \"\", \"Close\",\"5\",\"0\",\"PrimaryOnly\",,,\"False\",\"T\",\"EveryTick\")","v":190.89},1.6266134956447363E-3,{"$f":"RTD(\"cqg.rtd\",,\"StudyData\", \"Close(\"&$D$12&\") when LocalYear(\"&$D$12&\")=\"&$D$5&\" and localMonth(\"&$D$12&\") =\"&$E$5&\" and LocalDay(\"&$D$12&\")=\"&$F$5&\" and Barix(\"&$D$12&\",reference:=StartOfSession)=\"&A21&\"\", \"Bar\", \"\", \"Close\",\"5\",\"0\",\"PrimaryOnly\",,,\"False\",\"T\",\"EveryTick\")","v":190.21},1.1916795233281955E-2,{"$f":"RTD(\"cqg.rtd\",,\"StudyData\", \"Close(\"&$D$12&\") when LocalYear(\"&$D$12&\")=\"&$D$6&\" and localMonth(\"&$D$12&\") =\"&$E$6&\" and LocalDay(\"&$D$12&\")=\"&$F$6&\" and Barix(\"&$D$12&\",reference:=StartOfSession)=\"&A21&\"\", \"Bar\", \"\", \"Close\",\"5\",\"0\",\"PrimaryOnly\",,,\"False\",\"T\",\"EveryTick\")","v":187.06},8.9536138079827216E-3,{"$f":"RTD(\"cqg.rtd\",,\"StudyData\", \"Close(\"&$D$12&\") when LocalYear(\"&$D$12&\")=\"&$D$7&\" and localMonth(\"&$D$12&\") =\"&$E$7&\" and LocalDay(\"&$D$12&\")=\"&$F$7&\" and Barix(\"&$D$12&\",reference:=StartOfSession)=\"&A21&\"\", \"Bar\", \"\", \"Close\",\"5\",\"0\",\"PrimaryOnly\",,,\"False\",\"T\",\"EveryTick\")","v":184.91},5.3827751196172747E-3,{"$f":"RTD(\"cqg.rtd\",,\"StudyData\", \"Close(\"&$D$12&\") when LocalYear(\"&$D$12&\")=\"&$D$8&\" and localMonth(\"&$D$12&\") =\"&$E$8&\" and LocalDay(\"&$D$12&\")=\"&$F$8&\" and Barix(\"&$D$12&\",reference:=StartOfSession)=\"&A21&\"\", \"Bar\", \"\", \"Close\",\"5\",\"0\",\"PrimaryOnly\",,,\"False\",\"T\",\"EveryTick\")","v":186.64},-2.8849236029491422E-3,{"$f":"RTD(\"cqg.rtd\",,\"StudyData\", \"Close(\"&$D$12&\") when LocalYear(\"&$D$12&\")=\"&$D$9&\" and localMonth(\"&$D$12&\") =\"&$E$9&\" and LocalDay(\"&$D$12&\")=\"&$F$9&\" and Barix(\"&$D$12&\",reference:=StartOfSession)=\"&A21&\"\", \"Bar\", \"\", \"Close\",\"5\",\"0\",\"PrimaryOnly\",,,\"False\",\"T\",\"EveryTick\")","v":186.38},6.8607854789043366E-3,{"$f":"RTD(\"cqg.rtd\",,\"StudyData\", \"Close(\"&$D$12&\") when LocalYear(\"&$D$12&\")=\"&$D$10&\" and localMonth(\"&$D$12&\") =\"&$E$10&\" and LocalDay(\"&$D$12&\")=\"&$F$10&\" and Barix(\"&$D$12&\",reference:=StartOfSession)=\"&A21&\"\", \"Bar\", \"\", \"Close\",\"5\",\"0\",\"PrimaryOnly\",,,\"False\",\"T\",\"EveryTick\")","v":186.37},4.6900269541779224E-3,null,null,null,""]
[21,"10:15:00",null,4,"#.0000",null,"2018-06-29",{"$f":"RTD(\"cqg.rtd\",,\"StudyData\", \"Close(\"&$D$12&\") when LocalYear(\"&$D$12&\")=\"&$D$1&\" and localMonth(\"&$D$12&\") =\"&$E$1&\" and LocalDay(\"&$D$12&\")=\"&$F$1&\" and Barix(\"&$D$12&\",reference:=StartOfSession)=\"&A22&\"\", \"Bar\", \"\", \"Close\",\"5\",\"0\",\"PrimaryOnly\",,,\"False\",\"T\",\"EveryTick\")","v":191.47},2.3033031461026946E-3,{"$f":"RTD(\"cqg.rtd\",,\"StudyData\", \"Close(\"&$D$12&\") when LocalYear(\"&$D$12&\")=\"&$D$2&\" and localMonth(\"&$D$12&\") =\"&$E$2&\" and LocalDay(\"&$D$12&\")=\"&$F$2&\" and Barix(\"&$D$12&\",reference:=StartOfSession)=\"&A22&\"\", \"Bar\", \"\", \"Close\",\"5\",\"0\",\"PrimaryOnly\",,,\"False\",\"T\",\"EveryTick\")","v":190.42},1.3519267617628231E-2,{"$f":"RTD(\"cqg.rtd\",,\"StudyData\", \"Close(\"&$D$12&\") when LocalYear(\"&$D$12&\")=\"&$D$3&\" and localMonth(\"&$D$12&\") =\"&$E$3&\" and LocalDay(\"&$D$12&\")=\"&$F$3&\" and Barix(\"&$D$12&\",reference:=StartOfSession)=\"&A22&\"\", \"Bar\", \"\", \"Close\",\"5\",\"0\",\"PrimaryOnly\",,,\"False\",\"T\",\"EveryTick\")","v":188.56},-9.4037299711058168E-3,{"$f":"RTD(\"cqg.rtd\",,\"StudyData\", \"Close(\"&$D$12&\") when LocalYear(\"&$D$12&\")=\"&$D$4&\" and localMonth(\"&$D$12&\") =\"&$E$4&\" and LocalDay(\"&$D$12&\")=\"&$F$4&\" and Barix(\"&$D$12&\",reference:=StartOfSession)=\"&A22&\"\", \"Bar\", \"\", \"Close\",\"5\",\"0\",\"PrimaryOnly\",,,\"False\",\"T\",\"EveryTick\")","v":191},2.2037989295833112E-3,{"$f":"RTD(\"cqg.rtd\",,\"StudyData\", \"Close(\"&$D$12&\") when LocalYear(\"&$D$12&\")=\"&$D$5&\" and localMonth(\"&$D$12&\") =\"&$E$5&\" and LocalDay(\"&$D$12&\")=\"&$F$5&\" and Barix(\"&$D$12&\",reference:=StartOfSession)=\"&A22&\"\", \"Bar\", \"\", \"Close\",\"5\",\"0\",\"PrimaryOnly\",,,\"False\",\"T\",\"EveryTick\")","v":190.23},1.2023195190721876E-2,{"$f":"RTD(\"cqg.rtd\",,\"StudyData\", \"Close(\"&$D$12&\") when LocalYear(\"&$D$12&\")=\"&$D$6&\" and localMonth(\"&$D$12&\") =\"&$E$6&\" and LocalDay(\"&$D$12&\")=\"&$F$6&\" and Barix(\"&$D$12&\",reference:=StartOfSession)=\"&A22&\"\", \"Bar\", \"\", \"Close\",\"5\",\"0\",\"PrimaryOnly\",,,\"False\",\"T\",\"EveryTick\")","v":187.16},9.4929881337647831E-3,{"$f":"RTD(\"cqg.rtd\",,\"StudyData\", \"Close(\"&$D$12&\") when LocalYear(\"&$D$12&\")=\"&$D$7&\" and localMonth(\"&$D$12&\") =\"&$E$7&\" and LocalDay(\"&$D$12&\")=\"&$F$7&\" and Barix(\"&$D$12&\",reference:=StartOfSession)=\"&A22&\"\", \"Bar\", \"\", \"Close\",\"5\",\"0\",\"PrimaryOnly\",,,\"False\",\"T\",\"EveryTick\")","v":185.2},6.9595476294040956E-3,{"$f":"RTD(\"cqg.rtd\",,\"StudyData\", \"Close(\"&$D$12&\") when LocalYear(\"&$D$12&\")=\"&$D$8&\" and localMonth(\"&$D$12&\") =\"&$E$8&\" and LocalDay(\"&$D$12&\")=\"&$F$8&\" and Barix(\"&$D$12&\",reference:=StartOfSession)=\"&A22&\"\", \"Bar\", \"\", \"Close\",\"5\",\"0\",\"PrimaryOnly\",,,\"False\",\"T\",\"EveryTick\")","v":186.69},-2.6178010471204671E-3,{"$f":"RTD(\"cqg.rtd\",,\"StudyData\", \"Close(\"&$D$12&\") when LocalYear(\"&$D$12&\")=\"&$D$9&\" and localMonth(\"&$D$12&\") =\"&$E$9&\" and LocalDay(\"&$D$12&\")=\"&$F$9&\" and Barix(\"&$D$12&\",reference:=StartOfSession)=\"&A22&\"\", \"Bar\", \"\", \"Close\",\"5\",\"0\",\"PrimaryOnly\",,,\"False\",\"T\",\"EveryTick\")","v":186.36},6.7527416130949165E-3,{"$f":"RTD(\"cqg.rtd\",,\"StudyData\", \"Close(\"&$D$12&\") when LocalYear(\"&$D$12&\")=\"&$D$10&\" and localMonth(\"&$D$12&\") =\"&$E$10&\" and LocalDay(\"&$D$12&\")=\"&$F$10&\" and Barix(\"&$D$12&\",reference:=StartOfSession)=\"&A22&\"\", \"Bar\", \"\", \"Close\",\"5\",\"0\",\"PrimaryOnly\",,,\"False\",\"T\",\"EveryTick\")","v":186.35},4.5822102425875704E-3,null,null,null,""]
[22,"10:20:00",null,5,"#.00000",null,null,{"$f":"RTD(\"cqg.rtd\",,\"StudyData\", \"Close(\"&$D$12&\") when LocalYear(\"&$D$12&\")=\"&$D$1&\" and localMonth(\"&$D$12&\") =\"&$E$1&\" and LocalDay(\"&$D$12&\")=\"&$F$1&\" and Barix(\"&$D$12&\",reference:=StartOfSession)=\"&A23&\"\", \"Bar\", \"\", \"Close\",\"5\",\"0\",\"PrimaryOnly\",,,\"False\",\"T\",\"EveryTick\")","v":191.5},2.4603465424278851E-3,{"$f":"RTD(\"cqg.rtd\",,\"StudyData\", \"Close(\"&$D$12&\") when LocalYear(\"&$D$12&\")=\"&$D$2&\" and localMonth(\"&$D$12&\") =\"&$E$2&\" and LocalDay(\"&$D$12&\")=\"&$F$2&\" and Barix(\"&$D$12&\",reference:=StartOfSession)=\"&A23&\"\", \"Bar\", \"\", \"Close\",\"5\",\"0\",\"PrimaryOnly\",,,\"False\",\"T\",\"EveryTick\")","v":190.39},1.335959122844364E-2,{"$f":"RTD(\"cqg.rtd\",,\"StudyData\", \"Close(\"&$D$12&\") when LocalYear(\"&$D$12&\")=\"&$D$3&\" and localMonth(\"&$D$12&\") =\"&$E$3&\" and LocalDay(\"&$D$12&\")=\"&$F$3&\" and Barix(\"&$D$12&\",reference:=StartOfSession)=\"&A23&\"\", \"Bar\", \"\", \"Close\",\"5\",\"0\",\"PrimaryOnly\",,,\"False\",\"T\",\"EveryTick\")","v":188.58},-9.2986603624900539E-3,{"$f":"RTD(\"cqg.rtd\",,\"StudyData\", \"Close(\"&$D$12&\") when LocalYear(\"&$D$12&\")=\"&$D$4&\" and localMonth(\"&$D$12&\") =\"&$E$4&\" and LocalDay(\"&$D$12&\")=\"&$F$4&\" and Barix(\"&$D$12&\",reference:=StartOfSession)=\"&A23&\"\", \"Bar\", \"\", \"Close\",\"5\",\"0\",\"PrimaryOnly\",,,\"False\",\"T\",\"EveryTick\")","v":190.86},1.4691992863889239E-3,{"$f":"RTD(\"cqg.rtd\",,\"StudyData\", \"Close(\"&$D$12&\") when LocalYear(\"&$D$12&\")=\"&$D$5&\" and localMonth(\"&$D$12&\") =\"&$E$5&\" and LocalDay(\"&$D$12&\")=\"&$F$5&\" and Barix(\"&$D$12&\",reference:=StartOfSession)=\"&A23&\"\", \"Bar\", \"\", \"Close\",\"5\",\"0\",\"PrimaryOnly\",,,\"False\",\"T\",\"EveryTick\")","v":190.24},1.2076395169441987E-2,{"$f":"RTD(\"cqg.rtd\",,\"StudyData\", \"Close(\"&$D$12&\") when LocalYear(\"&$D$12&\")=\"&$D$6&\" and localMonth(\"&$D$12&\") =\"&$E$6&\" and LocalDay(\"&$D$12&\")=\"&$F$6&\" and Barix(\"&$D$12&\",reference:=StartOfSession)=\"&A23&\"\", \"Bar\", \"\", \"Close\",\"5\",\"0\",\"PrimaryOnly\",,,\"False\",\"T\",\"EveryTick\")","v":187.17},9.5469255663429443E-3,{"$f":"RTD(\"cqg.rtd\",,\"StudyData\", \"Close(\"&$D$12&\") when LocalYear(\"&$D$12&\")=\"&$D$7&\" and localMonth(\"&$D$12&\") =\"&$E$7&\" and LocalDay(\"&$D$12&\")=\"&$F$7&\" and Barix(\"&$D$12&\",reference:=StartOfSession)=\"&A23&\"\", \"Bar\", \"\", \"Close\",\"5\",\"0\",\"PrimaryOnly\",,,\"False\",\"T\",\"EveryTick\")","v":185.19},6.9051761635494256E-3,{"$f":"RTD(\"cqg.rtd\",,\"StudyData\", \"Close(\"&$D$12&\") when LocalYear(\"&$D$12&\")=\"&$D$8&\" and localMonth(\"&$D$12&\") =\"&$E$8&\" and LocalDay(\"&$D$12&\")=\"&$F$8&\" and Barix(\"&$D$12&\",reference:=StartOfSession)=\"&A23&\"\", \"Bar\", \"\", \"Close\",\"5\",\"0\",\"PrimaryOnly\",,,\"False\",\"T\",\"EveryTick\")","v":186.54},-3.41916871460634E-3,{"$f":"RTD(\"cqg.rtd\",,\"StudyData\", \"Close(\"&$D$12&\") when LocalYear(\"&$D$12&\")=\"&$D$9&\" and localMonth(\"&$D$12&\") =\"&$E$9&\" and LocalDay(\"&$D$12&\")=\"&$F$9&\" and Barix(\"&$D$12&\",reference:=StartOfSession)=\"&A23&\"\", \"Bar\", \"\", \"Close\",\"5\",\"0\",\"PrimaryOnly\",,,\"False\",\"T\",\"EveryTick\")","v":186.41},7.0228512776186209E-3,{"$f":"RTD(\"cqg.rtd\",,\"StudyData\", \"Close(\"&$D$12&\") when LocalYear(\"&$D$12&\")=\"&$D$10&\" and localMonth(\"&$D$12&\") =\"&$E$10&\" and LocalDay(\"&$D$12&\")=\"&$F$10&\" and Barix(\"&$D$12&\",reference:=StartOfSession)=\"&A23&\"\", \"Bar\", \"\", \"Close\",\"5\",\"0\",\"PrimaryOnly\",,,\"False\",\"T\",\"EveryTick\")","v":186.39},4.7978436657681207E-3,null,null,null,22]
[23,"10:25:00",null,6,"#.000000",null,null,{"$f":"RTD(\"cqg.rtd\",,\"StudyData\", \"Close(\"&$D$12&\") when LocalYear(\"&$D$12&\")=\"&$D$1&\" and localMonth(\"&$D$12&\") =\"&$E$1&\" and LocalDay(\"&$D$12&\")=\"&$F$1&\" and Barix(\"&$D$12&\",reference:=StartOfSession)=\"&A24&\"\", \"Bar\", \"\", \"Close\",\"5\",\"0\",\"PrimaryOnly\",,,\"False\",\"T\",\"EveryTick\")","v":""},{"$error":"#N/A"},{"$f":"RTD(\"cqg.rtd\",,\"StudyData\", \"Close(\"&$D$12&\") when LocalYear(\"&$D$12&\")=\"&$D$2&\" and localMonth(\"&$D$12&\") =\"&$E$2&\" and LocalDay(\"&$D$12&\")=\"&$F$2&\" and Barix(\"&$D$12&\",reference:=StartOfSession)=\"&A24&\"\", \"Bar\", \"\", \"Close\",\"5\",\"0\",\"PrimaryOnly\",,,\"False\",\"T\",\"EveryTick\")","v":190.49},1.3891845859059046E-2,{"$f":"RTD(\"cqg.rtd\",,\"StudyData\", \"Close(\"&$D$12&\") when LocalYear(\"&$D$12&\")=\"&$D$3&\" and localMonth(\"&$D$12&\") =\"&$E$3&\" and LocalDay(\"&$D$12&\")=\"&$F$3&\" and Barix(\"&$D$12&\",reference:=StartOfSession)=\"&A24&\"\", \"Bar\", \"\", \"Close\",\"5\",\"0\",\"PrimaryOnly\",,,\"False\",\"T\",\"EveryTick\")","v":188.41},-1.0191752035723655E-2,{"$f":"RTD(\"cqg.rtd\",,\"StudyData\", \"Close(\"&$D$12&\") when LocalYear(\"&$D$12&\")=\"&$D$4&\" and localMonth(\"&$D$12&\") =\"&$E$4&\" and LocalDay(\"&$D$12&\")=\"&$F$4&\" and Barix(\"&$D$12&\",reference:=StartOfSession)=\"&A24&\"\", \"Bar\", \"\", \"Close\",\"5\",\"0\",\"PrimaryOnly\",,,\"False\",\"T\",\"EveryTick\")","v":191.04},2.4136845419245436E-3,{"$f":"RTD(\"cqg.rtd\",,\"StudyData\", \"Close(\"&$D$12&\") when LocalYear(\"&$D$12&\")=\"&$D$5&\" and localMonth(\"&$D$12&\") =\"&$E$5&\" and LocalDay(\"&$D$12&\")=\"&$F$5&\" and Barix(\"&$D$12&\",reference:=StartOfSession)=\"&A24&\"\", \"Bar\", \"\", \"Close\",\"5\",\"0\",\"PrimaryOnly\",,,\"False\",\"T\",\"EveryTick\")","v":190.33},1.2555194977922082E-2,{"$f":"RTD(\"cqg.rtd\",,\"StudyData\", \"Close(\"&$D$12&\") when LocalYear(\"&$D$12&\")=\"&$D$6&\" and localMonth(\"&$D$12&\") =\"&$E$6&\" and LocalDay(\"&$D$12&\")=\"&$F$6&\" and Barix(\"&$D$12&\",reference:=StartOfSession)=\"&A24&\"\", \"Bar\", \"\", \"Close\",\"5\",\"0\",\"PrimaryOnly\",,,\"False\",\"T\",\"EveryTick\")","v":187.36},1.057173678532906E-2,{"$f":"RTD(\"cqg.rtd\",,\"StudyData\", \"Close(\"&$D$12&\") when LocalYear(\"&$D$12&\")=\"&$D$7&\" and localMonth(\"&$D$12&\") =\"&$E$7&\" and LocalDay(\"&$D$12&\")=\"&$F$7&\" and Barix(\"&$D$12&\",reference:=StartOfSession)=\"&A24&\"\", \"Bar\", \"\", \"Close\",\"5\",\"0\",\"PrimaryOnly\",,,\"False\",\"T\",\"EveryTick\")","v":185.34},7.7207481513702483E-3,{"$f":"RTD(\"cqg.rtd\",,\"StudyData\", \"Close(\"&$D$12&\") when LocalYear(\"&$D$12&\")=\"&$D$8&\" and localMonth(\"&$D$12&\") =\"&$E$8&\" and LocalDay(\"&$D$12&\")=\"&$F$8&\" and Barix(\"&$D$12&\",reference:=StartOfSession)=\"&A24&\"\", \"Bar\", \"\", \"Close\",\"5\",\"0\",\"PrimaryOnly\",,,\"False\",\"T\",\"EveryTick\")","v":186.71},-2.5109520247889672E-3,{"$f":"RTD(\"cqg.rtd\",,\"StudyData\", \"Close(\"&$D$12&\") when LocalYear(\"&$D$12&\")=\"&$D$9&\" and localMonth(\"&$D$12&\") =\"&$E$9&\" and LocalDay(\"&$D$12&\")=\"&$F$9&\" and Barix(\"&$D$12&\",reference:=StartOfSession)=\"&A24&\"\", \"Bar\", \"\", \"Close\",\"5\",\"0\",\"PrimaryOnly\",,,\"False\",\"T\",\"EveryTick\")","v":186.3},6.428610015666348E-3,{"$f":"RTD(\"cqg.rtd\",,\"StudyData\", \"Close(\"&$D$12&\") when LocalYear(\"&$D$12&\")=\"&$D$10&\" and localMonth(\"&$D$12&\") =\"&$E$10&\" and LocalDay(\"&$D$12&\")=\"&$F$10&\" and Barix(\"&$D$12&\",reference:=StartOfSession)=\"&A24&\"\", \"Bar\", \"\", \"Close\",\"5\",\"0\",\"PrimaryOnly\",,,\"False\",\"T\",\"EveryTick\")","v":186.29},4.2587601078166691E-3,null,null,null,""]
[24,"10:30:00",null,7,"#.0000000",null,null,{"$f":"RTD(\"cqg.rtd\",,\"StudyData\", \"Close(\"&$D$12&\") when LocalYear(\"&$D$12&\")=\"&$D$1&\" and localMonth(\"&$D$12&\") =\"&$E$1&\" and LocalDay(\"&$D$12&\")=\"&$F$1&\" and Barix(\"&$D$12&\",reference:=StartOfSession)=\"&A25&\"\", \"Bar\", \"\", \"Close\",\"5\",\"0\",\"PrimaryOnly\",,,\"False\",\"T\",\"EveryTick\")","v":""},{"$error":"#N/A"},{"$f":"RTD(\"cqg.rtd\",,\"StudyData\", \"Close(\"&$D$12&\") when LocalYear(\"&$D$12&\")=\"&$D$2&\" and localMonth(\"&$D$12&\") =\"&$E$2&\" and LocalDay(\"&$D$12&\")=\"&$F$2&\" and Barix(\"&$D$12&\",reference:=StartOfSession)=\"&A25&\"\", \"Bar\", \"\", \"Close\",\"5\",\"0\",\"PrimaryOnly\",,,\"False\",\"T\",\"EveryTick\")","v":190.49},1.3891845859059046E-2,{"$f":"RTD(\"cqg.rtd\",,\"StudyData\", \"Close(\"&$D$12&\") when LocalYear(\"&$D$12&\")=\"&$D$3&\" and localMonth(\"&$D$12&\") =\"&$E$3&\" and LocalDay(\"&$D$12&\")=\"&$F$3&\" and Barix(\"&$D$12&\",reference:=StartOfSession)=\"&A25&\"\", \"Bar\", \"\", \"Close\",\"5\",\"0\",\"PrimaryOnly\",,,\"False\",\"T\",\"EveryTick\")","v":188.26},-1.0979774100341495E-2,{"$f":"RTD(\"cqg.rtd\",,\"StudyData\", \"Close(\"&$D$12&\") when LocalYear(\"&$D$12&\")=\"&$D$4&\" and localMonth(\"&$D$12&\") =\"&$E$4&\" and LocalDay(\"&$D$12&\")=\"&$F$4&\" and Barix(\"&$D$12&\",reference:=StartOfSession)=\"&A25&\"\", \"Bar\", \"\", \"Close\",\"5\",\"0\",\"PrimaryOnly\",,,\"False\",\"T\",\"EveryTick\")","v":190.85},1.4167278833035039E-3,{"$f":"RTD(\"cqg.rtd\",,\"StudyData\", \"Close(\"&$D$12&\") when LocalYear(\"&$D$12&\")=\"&$D$5&\" and localMonth(\"&$D$12&\") =\"&$E$5&\" and LocalDay(\"&$D$12&\")=\"&$F$5&\" and Barix(\"&$D$12&\",reference:=StartOfSession)=\"&A25&\"\", \"Bar\", \"\", \"Close\",\"5\",\"0\",\"PrimaryOnly\",,,\"False\",\"T\",\"EveryTick\")","v":190.13},1.1491195403521821E-2,{"$f":"RTD(\"cqg.rtd\",,\"StudyData\", \"Close(\"&$D$12&\") when LocalYear(\"&$D$12&\")=\"&$D$6&\" and localMonth(\"&$D$12&\") =\"&$E$6&\" and LocalDay(\"&$D$12&\")=\"&$F$6&\" and Barix(\"&$D$12&\",reference:=StartOfSession)=\"&A25&\"\", \"Bar\", \"\", \"Close\",\"5\",\"0\",\"PrimaryOnly\",,,\"False\",\"T\",\"EveryTick\")","v":187.45},1.105717367853281E-2,{"$f":"RTD(\"cqg.rtd\",,\"StudyData\", \"Close(\"&$D$12&\") when LocalYear(\"&$D$12&\")=\"&$D$7&\" and localMonth(\"&$D$12&\") =\"&$E$7&\" and LocalDay(\"&$D$12&\")=\"&$F$7&\" and Barix(\"&$D$12&\",reference:=StartOfSession)=\"&A25&\"\", \"Bar\", \"\", \"Close\",\"5\",\"0\",\"PrimaryOnly\",,,\"False\",\"T\",\"EveryTick\")","v":185.48},8.4819486733362457E-3,{"$f":"RTD(\"cqg.rtd\",,\"StudyData\", \"Close(\"&$D$12&\") when LocalYear(\"&$D$12&\")=\"&$D$8&\" and localMonth(\"&$D$12&\") =\"&$E$8&\" and LocalDay(\"&$D$12&\")=\"&$F$8&\" and Barix(\"&$D$12&\",reference:=StartOfSession)=\"&A25&\"\", \"Bar\", \"\", \"Close\",\"5\",\"0\",\"PrimaryOnly\",,,\"False\",\"T\",\"EveryTick\")","v":186.66},-2.7780745806176418E-3,{"$f":"RTD(\"cqg.rtd\",,\"StudyData\", \"Close(\"&$D$12&\") when LocalYear(\"&$D$12&\")=\"&$D$9&\" and localMonth(\"&$D$12&\") =\"&$E$9&\" and LocalDay(\"&$D$12&\")=\"&$F$9&\" and Barix(\"&$D$12&\",reference:=StartOfSession)=\"&A25&\"\", \"Bar\", \"\", \"Close\",\"5\",\"0\",\"PrimaryOnly\",,,\"False\",\"T\",\"EveryTick\")","v":186.07},5.1861055588567854E-3,{"$f":"RTD(\"cqg.rtd\",,\"StudyData\", \"Close(\"&$D$12&\") when LocalYear(\"&$D$12&\")=\"&$D$10&\" and localMonth(\"&$D$12&\") =\"&$E$10&\" and LocalDay(\"&$D$12&\")=\"&$F$10&\" and Barix(\"&$D$12&\",reference:=StartOfSession)=\"&A25&\"\", \"Bar\", \"\", \"Close\",\"5\",\"0\",\"PrimaryOnly\",,,\"False\",\"T\",\"EveryTick\")","v":186.2},3.7735849056603162E-3,null,null,null,""]
[25,"10:35:00",null,null,null,null,null,{"$f":"RTD(\"cqg.rtd\",,\"StudyData\", \"Close(\"&$D$12&\") when LocalYear(\"&$D$12&\")=\"&$D$1&\" and localMonth(\"&$D$12&\") =\"&$E$1&\" and LocalDay(\"&$D$12&\")=\"&$F$1&\" and Barix(\"&$D$12&\",reference:=StartOfSession)=\"&A26&\"\", \"Bar\", \"\", \"Close\",\"5\",\"0\",\"PrimaryOnly\",,,\"False\",\"T\",\"EveryTick\")","v":""},{"$error":"#N/A"},{"$f":"RTD(\"cqg.rtd\",,\"StudyData\", \"Close(\"&$D$12&\") when LocalYear(\"&$D$12&\")=\"&$D$2&\" and localMonth(\"&$D$12&\") =\"&$E$2&\" and LocalDay(\"&$D$12&\")=\"&$F$2&\" and Barix(\"&$D$12&\",reference:=StartOfSession)=\"&A26&\"\", \"Bar\", \"\", \"Close\",\"5\",\"0\",\"PrimaryOnly\",,,\"False\",\"T\",\"EveryTick\")","v":190.59},1.4424100489674303E-2,{"$f":"RTD(\"cqg.rtd\",,\"StudyData\", \"Close(\"&$D$12&\") when LocalYear(\"&$D$12&\")=\"&$D$3&\" and localMonth(\"&$D$12&\") =\"&$E$3&\" and LocalDay(\"&$D$12&\")=\"&$F$3&\" and Barix(\"&$D$12&\",reference:=StartOfSession)=\"&A26&\"\", \"Bar\", \"\", \"Close\",\"5\",\"0\",\"PrimaryOnly\",,,\"False\",\"T\",\"EveryTick\")","v":188.27},-1.092723929603354E-2,{"$f":"RTD(\"cqg.rtd\",,\"StudyData\", \"Close(\"&$D$12&\") when LocalYear(\"&$D$12&\")=\"&$D$4&\" and localMonth(\"&$D$12&\") =\"&$E$4&\" and LocalDay(\"&$D$12&\")=\"&$F$4&\" and Barix(\"&$D$12&\",reference:=StartOfSession)=\"&A26&\"\", \"Bar\", \"\", \"Close\",\"5\",\"0\",\"PrimaryOnly\",,,\"False\",\"T\",\"EveryTick\")","v":190.95},1.9414419141566591E-3,{"$f":"RTD(\"cqg.rtd\",,\"StudyData\", \"Close(\"&$D$12&\") when LocalYear(\"&$D$12&\")=\"&$D$5&\" and localMonth(\"&$D$12&\") =\"&$E$5&\" and LocalDay(\"&$D$12&\")=\"&$F$5&\" and Barix(\"&$D$12&\",reference:=StartOfSession)=\"&A26&\"\", \"Bar\", \"\", \"Close\",\"5\",\"0\",\"PrimaryOnly\",,,\"False\",\"T\",\"EveryTick\")","v":190.21},1.1916795233281955E-2,{"$f":"RTD(\"cqg.rtd\",,\"StudyData\", \"Close(\"&$D$12&\") when LocalYear(\"&$D$12&\")=\"&$D$6&\" and localMonth(\"&$D$12&\") =\"&$E$6&\" and LocalDay(\"&$D$12&\")=\"&$F$6&\" and Barix(\"&$D$12&\",reference:=StartOfSession)=\"&A26&\"\", \"Bar\", \"\", \"Close\",\"5\",\"0\",\"PrimaryOnly\",,,\"False\",\"T\",\"EveryTick\")","v":187.69},1.2351672060409881E-2,{"$f":"RTD(\"cqg.rtd\",,\"StudyData\", \"Close(\"&$D$12&\") when LocalYear(\"&$D$12&\")=\"&$D$7&\" and localMonth(\"&$D$12&\") =\"&$E$7&\" and LocalDay(\"&$D$12&\")=\"&$F$7&\" and Barix(\"&$D$12&\",reference:=StartOfSession)=\"&A26&\"\", \"Bar\", \"\", \"Close\",\"5\",\"0\",\"PrimaryOnly\",,,\"False\",\"T\",\"EveryTick\")","v":185.4},8.0469769464985765E-3,{"$f":"RTD(\"cqg.rtd\",,\"StudyData\", \"Close(\"&$D$12&\") when LocalYear(\"&$D$12&\")=\"&$D$8&\" and localMonth(\"&$D$12&\") =\"&$E$8&\" and LocalDay(\"&$D$12&\")=\"&$F$8&\" and Barix(\"&$D$12&\",reference:=StartOfSession)=\"&A26&\"\", \"Bar\", \"\", \"Close\",\"5\",\"0\",\"PrimaryOnly\",,,\"False\",\"T\",\"EveryTick\")","v":186.62},-2.9917726252804908E-3,{"$f":"RTD(\"cqg.rtd\",,\"StudyData\", \"Close(\"&$D$12&\") when LocalYear(\"&$D$12&\")=\"&$D$9&\" and localMonth(\"&$D$12&\") =\"&$E$9&\" and LocalDay(\"&$D$12&\")=\"&$F$9&\" and Barix(\"&$D$12&\",reference:=StartOfSession)=\"&A26&\"\", \"Bar\", \"\", \"Close\",\"5\",\"0\",\"PrimaryOnly\",,,\"False\",\"T\",\"EveryTick\")","v":185.96},4.5918642969045124E-3,{"$f":"RTD(\"cqg.rtd\",,\"StudyData\", \"Close(\"&$D$12&\") when LocalYear(\"&$D$12&\")=\"&$D$10&\" and localMonth(\"&$D$12&\") =\"&$E$10&\" and LocalDay(\"&$D$12&\")=\"&$F$10&\" and Barix(\"&$D$12&\",reference:=StartOfSession)=\"&A26&\"\", \"Bar\", \"\", \"Close\",\"5\",\"0\",\"PrimaryOnly\",,,\"False\",\"T\",\"EveryTick\")","v":186.23},3.9353099730457669E-3,null,null,null,""]
[26,"10:40:00",null,null,null,null,null,{"$f":"RTD(\"cqg.rtd\",,\"StudyData\", \"Close(\"&$D$12&\") when LocalYear(\"&$D$12&\")=\"&$D$1&\" and localMonth(\"&$D$12&\") =\"&$E$1&\" and LocalDay(\"&$D$12&\")=\"&$F$1&\" and Barix(\"&$D$12&\",reference:=StartOfSession)=\"&A27&\"\", \"Bar\", \"\", \"Close\",\"5\",\"0\",\"PrimaryOnly\",,,\"False\",\"T\",\"EveryTick\")","v":""},{"$error":"#N/A"},{"$f":"RTD(\"cqg.rtd\",,\"StudyData\", \"Close(\"&$D$12&\") when LocalYear(\"&$D$12&\")=\"&$D$2&\" and localMonth(\"&$D$12&\") =\"&$E$2&\" and LocalDay(\"&$D$12&\")=\"&$F$2&\" and Barix(\"&$D$12&\",reference:=StartOfSession)=\"&A27&\"\", \"Bar\", \"\", \"Close\",\"5\",\"0\",\"PrimaryOnly\",,,\"False\",\"T\",\"EveryTick\")","v":190.67},1.4849904194166447E-2,{"$f":"RTD(\"cqg.rtd\",,\"StudyData\", \"Close(\"&$D$12&\") when LocalYear(\"&$D$12&\")=\"&$D$3&\" and localMonth(\"&$D$12&\") =\"&$E$3&\" and LocalDay(\"&$D$12&\")=\"&$F$3&\" and Barix(\"&$D$12&\",reference:=StartOfSession)=\"&A27&\"\", \"Bar\", \"\", \"Close\",\"5\",\"0\",\"PrimaryOnly\",,,\"False\",\"T\",\"EveryTick\")","v":188.07},-1.1977935382190708E-2,{"$f":"RTD(\"cqg.rtd\",,\"StudyData\", \"Close(\"&$D$12&\") when LocalYear(\"&$D$12&\")=\"&$D$4&\" and localMonth(\"&$D$12&\") =\"&$E$4&\" and LocalDay(\"&$D$12&\")=\"&$F$4&\" and Barix(\"&$D$12&\",reference:=StartOfSession)=\"&A27&\"\", \"Bar\", \"\", \"Close\",\"5\",\"0\",\"PrimaryOnly\",,,\"False\",\"T\",\"EveryTick\")","v":191.05},2.4661559450099633E-3,{"$f":"RTD(\"cqg.rtd\",,\"StudyData\", \"Close(\"&$D$12&\") when LocalYear(\"&$D$12&\")=\"&$D$5&\" and localMonth(\"&$D$12&\") =\"&$E$5&\" and LocalDay(\"&$D$12&\")=\"&$F$5&\" and Barix(\"&$D$12&\",reference:=StartOfSession)=\"&A27&\"\", \"Bar\", \"\", \"Close\",\"5\",\"0\",\"PrimaryOnly\",,,\"False\",\"T\",\"EveryTick\")","v":190.3},1.2395595041762049E-2,{"$f":"RTD(\"cqg.rtd\",,\"StudyData\", \"Close(\"&$D$12&\") when LocalYear(\"&$D$12&\")=\"&$D$6&\" and localMonth(\"&$D$12&\") =\"&$E$6&\" and LocalDay(\"&$D$12&\")=\"&$F$6&\" and Barix(\"&$D$12&\",reference:=StartOfSession)=\"&A27&\"\", \"Bar\", \"\", \"Close\",\"5\",\"0\",\"PrimaryOnly\",,,\"False\",\"T\",\"EveryTick\")","v":187.6},1.1866235167205979E-2,{"$f":"RTD(\"cqg.rtd\",,\"StudyData\", \"Close(\"&$D$12&\") when LocalYear(\"&$D$12&\")=\"&$D$7&\" and localMonth(\"&$D$12&\") =\"&$E$7&\" and LocalDay(\"&$D$12&\")=\"&$F$7&\" and Barix(\"&$D$12&\",reference:=StartOfSession)=\"&A27&\"\", \"Bar\", \"\", \"Close\",\"5\",\"0\",\"PrimaryOnly\",,,\"False\",\"T\",\"EveryTick\")","v":185.42},8.1557198782079166E-3,{"$f":"RTD(\"cqg.rtd\",,\"StudyData\", \"Close(\"&$D$12&\") when LocalYear(\"&$D$12&\")=\"&$D$8&\" and localMonth(\"&$D$12&\") =\"&$E$8&\" and LocalDay(\"&$D$12&\")=\"&$F$8&\" and Barix(\"&$D$12&\",reference:=StartOfSession)=\"&A27&\"\", \"Bar\", \"\", \"Close\",\"5\",\"0\",\"PrimaryOnly\",,,\"False\",\"T\",\"EveryTick\")","v":186.57},-3.2588951811091658E-3,{"$f":"RTD(\"cqg.rtd\",,\"StudyData\", \"Close(\"&$D$12&\") when LocalYear(\"&$D$12&\")=\"&$D$9&\" and localMonth(\"&$D$12&\") =\"&$E$9&\" and LocalDay(\"&$D$12&\")=\"&$F$9&\" and Barix(\"&$D$12&\",reference:=StartOfSession)=\"&A27&\"\", \"Bar\", \"\", \"Close\",\"5\",\"0\",\"PrimaryOnly\",,,\"False\",\"T\",\"EveryTick\")","v":185.9},4.267732699475944E-3,{"$f":"RTD(\"cqg.rtd\",,\"StudyData\", \"Close(\"&$D$12&\") when LocalYear(\"&$D$12&\")=\"&$D$10&\" and localMonth(\"&$D$12&\") =\"&$E$10&\" and LocalDay(\"&$D$12&\")=\"&$F$10&\" and Barix(\"&$D$12&\",reference:=StartOfSession)=\"&A27&\"\", \"Bar\", \"\", \"Close\",\"5\",\"0\",\"PrimaryOnly\",,,\"False\",\"T\",\"EveryTick\")","v":186.34},4.5283018867924713E-3,null,null,null,""]
[27,"10:45:00",null,null,null,null,null,{"$f":"RTD(\"cqg.rtd\",,\"StudyData\", \"Close(\"&$D$12&\") when LocalYear(\"&$D$12&\")=\"&$D$1&\" and localMonth(\"&$D$12&\") =\"&$E$1&\" and LocalDay(\"&$D$12&\")=\"&$F$1&\" and Barix(\"&$D$12&\",reference:=StartOfSession)=\"&A28&\"\", \"Bar\", \"\", \"Close\",\"5\",\"0\",\"PrimaryOnly\",,,\"False\",\"T\",\"EveryTick\")","v":""},{"$error":"#N/A"},{"$f":"RTD(\"cqg.rtd\",,\"StudyData\", \"Close(\"&$D$12&\") when LocalYear(\"&$D$12&\")=\"&$D$2&\" and localMonth(\"&$D$12&\") =\"&$E$2&\" and LocalDay(\"&$D$12&\")=\"&$F$2&\" and Barix(\"&$D$12&\",reference:=StartOfSession)=\"&A28&\"\", \"Bar\", \"\", \"Close\",\"5\",\"0\",\"PrimaryOnly\",,,\"False\",\"T\",\"EveryTick\")","v":190.78},1.5435384287843334E-2,{"$f":"RTD(\"cqg.rtd\",,\"StudyData\", \"Close(\"&$D$12&\") when LocalYear(\"&$D$12&\")=\"&$D$3&\" and localMonth(\"&$D$12&\") =\"&$E$3&\" and LocalDay(\"&$D$12&\")=\"&$F$3&\" and Barix(\"&$D$12&\",reference:=StartOfSession)=\"&A28&\"\", \"Bar\", \"\", \"Close\",\"5\",\"0\",\"PrimaryOnly\",,,\"False\",\"T\",\"EveryTick\")","v":188.13},-1.1662726556343572E-2,{"$f":"RTD(\"cqg.rtd\",,\"StudyData\", \"Close(\"&$D$12&\") when LocalYear(\"&$D$12&\")=\"&$D$4&\" and localMonth(\"&$D$12&\") =\"&$E$4&\" and LocalDay(\"&$D$12&\")=\"&$F$4&\" and Barix(\"&$D$12&\",reference:=StartOfSession)=\"&A28&\"\", \"Bar\", \"\", \"Close\",\"5\",\"0\",\"PrimaryOnly\",,,\"False\",\"T\",\"EveryTick\")","v":191.04},2.4136845419245436E-3,{"$f":"RTD(\"cqg.rtd\",,\"StudyData\", \"Close(\"&$D$12&\") when LocalYear(\"&$D$12&\")=\"&$D$5&\" and localMonth(\"&$D$12&\") =\"&$E$5&\" and LocalDay(\"&$D$12&\")=\"&$F$5&\" and Barix(\"&$D$12&\",reference:=StartOfSession)=\"&A28&\"\", \"Bar\", \"\", \"Close\",\"5\",\"0\",\"PrimaryOnly\",,,\"False\",\"T\",\"EveryTick\")","v":190.37},1.2767994892802073E-2,{"$f":"RTD(\"cqg.rtd\",,\"StudyData\", \"Close(\"&$D$12&\") when LocalYear(\"&$D$12&\")=\"&$D$6&\" and localMonth(\"&$D$12&\") =\"&$E$6&\" and LocalDay(\"&$D$12&\")=\"&$F$6&\" and Barix(\"&$D$12&\",reference:=StartOfSession)=\"&A28&\"\", \"Bar\", \"\", \"Close\",\"5\",\"0\",\"PrimaryOnly\",,,\"False\",\"T\",\"EveryTick\")","v":187.61},1.1920172599784293E-2,{"$f":"RTD(\"cqg.rtd\",,\"StudyData\", \"Close(\"&$D$12&\") when LocalYear(\"&$D$12&\")=\"&$D$7&\" and localMonth(\"&$D$12&\") =\"&$E$7&\" and LocalDay(\"&$D$12&\")=\"&$F$7&\" and Barix(\"&$D$12&\",reference:=StartOfSession)=\"&A28&\"\", \"Bar\", \"\", \"Close\",\"5\",\"0\",\"PrimaryOnly\",,,\"False\",\"T\",\"EveryTick\")","v":185.49},8.5363201391910701E-3,{"$f":"RTD(\"cqg.rtd\",,\"StudyData\", \"Close(\"&$D$12&\") when LocalYear(\"&$D$12&\")=\"&$D$8&\" and localMonth(\"&$D$12&\") =\"&$E$8&\" and LocalDay(\"&$D$12&\")=\"&$F$8&\" and Barix(\"&$D$12&\",reference:=StartOfSession)=\"&A28&\"\", \"Bar\", \"\", \"Close\",\"5\",\"0\",\"PrimaryOnly\",,,\"False\",\"T\",\"EveryTick\")","v":186.57},-3.2588951811091658E-3,{"$f":"RTD(\"cqg.rtd\",,\"StudyData\", \"Close(\"&$D$12&\") when LocalYear(\"&$D$12&\")=\"&$D$9&\" and localMonth(\"&$D$12&\") =\"&$E$9&\" and LocalDay(\"&$D$12&\")=\"&$F$9&\" and Barix(\"&$D$12&\",reference:=StartOfSession)=\"&A28&\"\", \"Bar\", \"\", \"Close\",\"5\",\"0\",\"PrimaryOnly\",,,\"False\",\"T\",\"EveryTick\")","v":185.76},3.5114256388092337E-3,{"$f":"RTD(\"cqg.rtd\",,\"StudyData\", \"Close(\"&$D$12&\") when LocalYear(\"&$D$12&\")=\"&$D$10&\" and localMonth(\"&$D$12&\") =\"&$E$10&\" and LocalDay(\"&$D$12&\")=\"&$F$10&\" and Barix(\"&$D$12&\",reference:=StartOfSession)=\"&A28&\"\", \"Bar\", \"\", \"Close\",\"5\",\"0\",\"PrimaryOnly\",,,\"False\",\"T\",\"EveryTick\")","v":186.36},4.6361185983828232E-3,null,null,null,""]
[28,"10:50:00",null,null,null,null,null,{"$f":"RTD(\"cqg.rtd\",,\"StudyData\", \"Close(\"&$D$12&\") when LocalYear(\"&$D$12&\")=\"&$D$1&\" and localMonth(\"&$D$12&\") =\"&$E$1&\" and LocalDay(\"&$D$12&\")=\"&$F$1&\" and Barix(\"&$D$12&\",reference:=StartOfSession)=\"&A29&\"\", \"Bar\", \"\", \"Close\",\"5\",\"0\",\"PrimaryOnly\",,,\"False\",\"T\",\"EveryTick\")","v":""},{"$error":"#N/A"},{"$f":"RTD(\"cqg.rtd\",,\"StudyData\", \"Close(\"&$D$12&\") when LocalYear(\"&$D$12&\")=\"&$D$2&\" and localMonth(\"&$D$12&\") =\"&$E$2&\" and LocalDay(\"&$D$12&\")=\"&$F$2&\" and Barix(\"&$D$12&\",reference:=StartOfSession)=\"&A29&\"\", \"Bar\", \"\", \"Close\",\"5\",\"0\",\"PrimaryOnly\",,,\"False\",\"T\",\"EveryTick\")","v":190.82},1.5648286140089406E-2,{"$f":"RTD(\"cqg.rtd\",,\"StudyData\", \"Close(\"&$D$12&\") when LocalYear(\"&$D$12&\")=\"&$D$3&\" and localMonth(\"&$D$12&\") =\"&$E$3&\" and LocalDay(\"&$D$12&\")=\"&$F$3&\" and Barix(\"&$D$12&\",reference:=StartOfSession)=\"&A29&\"\", \"Bar\", \"\", \"Close\",\"5\",\"0\",\"PrimaryOnly\",,,\"False\",\"T\",\"EveryTick\")","v":188.13},-1.1662726556343572E-2,{"$f":"RTD(\"cqg.rtd\",,\"StudyData\", \"Close(\"&$D$12&\") when LocalYear(\"&$D$12&\")=\"&$D$4&\" and localMonth(\"&$D$12&\") =\"&$E$4&\" and LocalDay(\"&$D$12&\")=\"&$F$4&\" and Barix(\"&$D$12&\",reference:=StartOfSession)=\"&A29&\"\", \"Bar\", \"\", \"Close\",\"5\",\"0\",\"PrimaryOnly\",,,\"False\",\"T\",\"EveryTick\")","v":191.14},2.9383985727776986E-3,{"$f":"RTD(\"cqg.rtd\",,\"StudyData\", \"Close(\"&$D$12&\") when LocalYear(\"&$D$12&\")=\"&$D$5&\" and localMonth(\"&$D$12&\") =\"&$E$5&\" and LocalDay(\"&$D$12&\")=\"&$F$5&\" and Barix(\"&$D$12&\",reference:=StartOfSession)=\"&A29&\"\", \"Bar\", \"\", \"Close\",\"5\",\"0\",\"PrimaryOnly\",,,\"False\",\"T\",\"EveryTick\")","v":190.41},1.2980794807682066E-2,{"$f":"RTD(\"cqg.rtd\",,\"StudyData\", \"Close(\"&$D$12&\") when LocalYear(\"&$D$12&\")=\"&$D$6&\" and localMonth(\"&$D$12&\") =\"&$E$6&\" and LocalDay(\"&$D$12&\")=\"&$F$6&\" and Barix(\"&$D$12&\",reference:=StartOfSession)=\"&A29&\"\", \"Bar\", \"\", \"Close\",\"5\",\"0\",\"PrimaryOnly\",,,\"False\",\"T\",\"EveryTick\")","v":187.43},1.0949298813376489E-2,{"$f":"RTD(\"cqg.rtd\",,\"StudyData\", \"Close(\"&$D$12&\") when LocalYear(\"&$D$12&\")=\"&$D$7&\" and localMonth(\"&$D$12&\") =\"&$E$7&\" and LocalDay(\"&$D$12&\")=\"&$F$7&\" and Barix(\"&$D$12&\",reference:=StartOfSession)=\"&A29&\"\", \"Bar\", \"\", \"Close\",\"5\",\"0\",\"PrimaryOnly\",,,\"False\",\"T\",\"EveryTick\")","v":185.64},9.3518921270117385E-3,{"$f":"RTD(\"cqg.rtd\",,\"StudyData\", \"Close(\"&$D$12&\") when LocalYear(\"&$D$12&\")=\"&$D$8&\" and localMonth(\"&$D$12&\") =\"&$E$8&\" and LocalDay(\"&$D$12&\")=\"&$F$8&\" and Barix(\"&$D$12&\",reference:=StartOfSession)=\"&A29&\"\", \"Bar\", \"\", \"Close\",\"5\",\"0\",\"PrimaryOnly\",,,\"False\",\"T\",\"EveryTick\")","v":186.29},-4.7547814937494107E-3,{"$f":"RTD(\"cqg.rtd\",,\"StudyData\", \"Close(\"&$D$12&\") when LocalYear(\"&$D$12&\")=\"&$D$9&\" and localMonth(\"&$D$12&\") =\"&$E$9&\" and LocalDay(\"&$D$12&\")=\"&$F$9&\" and Barix(\"&$D$12&\",reference:=StartOfSession)=\"&A29&\"\", \"Bar\", \"\", \"Close\",\"5\",\"0\",\"PrimaryOnly\",,,\"False\",\"T\",\"EveryTick\")","v":185.92},4.3757765652853641E-3,{"$f":"RTD(\"cqg.rtd\",,\"StudyData\", \"Close(\"&$D$12&\") when LocalYear(\"&$D$12&\")=\"&$D$10&\" and localMonth(\"&$D$12&\") =\"&$E$10&\" and LocalDay(\"&$D$12&\")=\"&$F$10&\" and Barix(\"&$D$12&\",reference:=StartOfSession)=\"&A29&\"\", \"Bar\", \"\", \"Close\",\"5\",\"0\",\"PrimaryOnly\",,,\"False\",\"T\",\"EveryTick\")","v":186.12},3.3423180592992161E-3,null,null,null,""]
[29,"10:55:00",null,null,null,null,null,{"$f":"RTD(\"cqg.rtd\",,\"StudyData\", \"Close(\"&$D$12&\") when LocalYear(\"&$D$12&\")=\"&$D$1&\" and localMonth(\"&$D$12&\") =\"&$E$1&\" and LocalDay(\"&$D$12&\")=\"&$F$1&\" and Barix(\"&$D$12&\",reference:=StartOfSession)=\"&A30&\"\", \"Bar\", \"\", \"Close\",\"5\",\"0\",\"PrimaryOnly\",,,\"False\",\"T\",\"EveryTick\")","v":""},{"$error":"#N/A"},{"$f":"RTD(\"cqg.rtd\",,\"StudyData\", \"Close(\"&$D$12&\") when LocalYear(\"&$D$12&\")=\"&$D$2&\" and localMonth(\"&$D$12&\") =\"&$E$2&\" and LocalDay(\"&$D$12&\")=\"&$F$2&\" and Barix(\"&$D$12&\",reference:=StartOfSession)=\"&A30&\"\", \"Bar\", \"\", \"Close\",\"5\",\"0\",\"PrimaryOnly\",,,\"False\",\"T\",\"EveryTick\")","v":190.97},1.6446668086012368E-2,{"$f":"RTD(\"cqg.rtd\",,\"StudyData\", \"Close(\"&$D$12&\") when LocalYear(\"&$D$12&\")=\"&$D$3&\" and localMonth(\"&$D$12&\") =\"&$E$3&\" and LocalDay(\"&$D$12&\")=\"&$F$3&\" and Barix(\"&$D$12&\",reference:=StartOfSession)=\"&A30&\"\", \"Bar\", \"\", \"Close\",\"5\",\"0\",\"PrimaryOnly\",,,\"False\",\"T\",\"EveryTick\")","v":187.97},-1.2503283425269218E-2,{"$f":"RTD(\"cqg.rtd\",,\"StudyData\", \"Close(\"&$D$12&\") when LocalYear(\"&$D$12&\")=\"&$D$4&\" and localMonth(\"&$D$12&\") =\"&$E$4&\" and LocalDay(\"&$D$12&\")=\"&$F$4&\" and Barix(\"&$D$12&\",reference:=StartOfSession)=\"&A30&\"\", \"Bar\", \"\", \"Close\",\"5\",\"0\",\"PrimaryOnly\",,,\"False\",\"T\",\"EveryTick\")","v":191.19},3.2007555882043507E-3,{"$f":"RTD(\"cqg.rtd\",,\"StudyData\", \"Close(\"&$D$12&\") when LocalYear(\"&$D$12&\")=\"&$D$5&\" and localMonth(\"&$D$12&\") =\"&$E$5&\" and LocalDay(\"&$D$12&\")=\"&$F$5&\" and Barix(\"&$D$12&\",reference:=StartOfSession)=\"&A30&\"\", \"Bar\", \"\", \"Close\",\"5\",\"0\",\"PrimaryOnly\",,,\"False\",\"T\",\"EveryTick\")","v":190.31},1.2448795020482011E-2,{"$f":"RTD(\"cqg.rtd\",,\"StudyData\", \"Close(\"&$D$12&\") when LocalYear(\"&$D$12&\")=\"&$D$6&\" and localMonth(\"&$D$12&\") =\"&$E$6&\" and LocalDay(\"&$D$12&\")=\"&$F$6&\" and Barix(\"&$D$12&\",reference:=StartOfSession)=\"&A30&\"\", \"Bar\", \"\", \"Close\",\"5\",\"0\",\"PrimaryOnly\",,,\"False\",\"T\",\"EveryTick\")","v":187.4},1.0787486515641855E-2,{"$f":"RTD(\"cqg.rtd\",,\"StudyData\", \"Close(\"&$D$12&\") when LocalYear(\"&$D$12&\")=\"&$D$7&\" and localMonth(\"&$D$12&\") =\"&$E$7&\" and LocalDay(\"&$D$12&\")=\"&$F$7&\" and Barix(\"&$D$12&\",reference:=StartOfSession)=\"&A30&\"\", \"Bar\", \"\", \"Close\",\"5\",\"0\",\"PrimaryOnly\",,,\"False\",\"T\",\"EveryTick\")","v":185.44},8.2644628099174111E-3,{"$f":"RTD(\"cqg.rtd\",,\"StudyData\", \"Close(\"&$D$12&\") when LocalYear(\"&$D$12&\")=\"&$D$8&\" and localMonth(\"&$D$12&\") =\"&$E$8&\" and LocalDay(\"&$D$12&\")=\"&$F$8&\" and Barix(\"&$D$12&\",reference:=StartOfSession)=\"&A30&\"\", \"Bar\", \"\", \"Close\",\"5\",\"0\",\"PrimaryOnly\",,,\"False\",\"T\",\"EveryTick\")","v":186.44},-3.9534138262635379E-3,{"$f":"RTD(\"cqg.rtd\",,\"StudyData\", \"Close(\"&$D$12&\") when LocalYear(\"&$D$12&\")=\"&$D$9&\" and localMonth(\"&$D$12&\") =\"&$E$9&\" and LocalDay(\"&$D$12&\")=\"&$F$9&\" and Barix(\"&$D$12&\",reference:=StartOfSession)=\"&A30&\"\", \"Bar\", \"\", \"Close\",\"5\",\"0\",\"PrimaryOnly\",,,\"False\",\"T\",\"EveryTick\")","v":185.98},4.6999081627139326E-3,{"$f":"RTD(\"cqg.rtd\",,\"StudyData\", \"Close(\"&$D$12&\") when LocalYear(\"&$D$12&\")=\"&$D$10&\" and localMonth(\"&$D$12&\") =\"&$E$10&\" and LocalDay(\"&$D$12&\")=\"&$F$10&\" and Barix(\"&$D$12&\",reference:=StartOfSession)=\"&A30&\"\", \"Bar\", \"\", \"Close\",\"5\",\"0\",\"PrimaryOnly\",,,\"False\",\"T\",\"EveryTick\")","v":186.13},3.3962264150943153E-3,null,null,null,""]
[30,"11:00:00",null,null,null,null,null,{"$f":"RTD(\"cqg.rtd\",,\"StudyData\", \"Close(\"&$D$12&\") when LocalYear(\"&$D$12&\")=\"&$D$1&\" and localMonth(\"&$D$12&\") =\"&$E$1&\" and LocalDay(\"&$D$12&\")=\"&$F$1&\" and Barix(\"&$D$12&\",reference:=StartOfSession)=\"&A31&\"\", \"Bar\", \"\", \"Close\",\"5\",\"0\",\"PrimaryOnly\",,,\"False\",\"T\",\"EveryTick\")","v":""},{"$error":"#N/A"},{"$f":"RTD(\"cqg.rtd\",,\"StudyData\", \"Close(\"&$D$12&\") when LocalYear(\"&$D$12&\")=\"&$D$2&\" and localMonth(\"&$D$12&\") =\"&$E$2&\" and LocalDay(\"&$D$12&\")=\"&$F$2&\" and Barix(\"&$D$12&\",reference:=StartOfSession)=\"&A31&\"\", \"Bar\", \"\", \"Close\",\"5\",\"0\",\"PrimaryOnly\",,,\"False\",\"T\",\"EveryTick\")","v":190.93},1.6233766233766295E-2,{"$f":"RTD(\"cqg.rtd\",,\"StudyData\", \"Close(\"&$D$12&\") when LocalYear(\"&$D$12&\")=\"&$D$3&\" and localMonth(\"&$D$12&\") =\"&$E$3&\" and LocalDay(\"&$D$12&\")=\"&$F$3&\" and Barix(\"&$D$12&\",reference:=StartOfSession)=\"&A31&\"\", \"Bar\", \"\", \"Close\",\"5\",\"0\",\"PrimaryOnly\",,,\"False\",\"T\",\"EveryTick\")","v":187.84},-1.3186235881271295E-2,{"$f":"RTD(\"cqg.rtd\",,\"StudyData\", \"Close(\"&$D$12&\") when LocalYear(\"&$D$12&\")=\"&$D$4&\" and localMonth(\"&$D$12&\") =\"&$E$4&\" and LocalDay(\"&$D$12&\")=\"&$F$4&\" and Barix(\"&$D$12&\",reference:=StartOfSession)=\"&A31&\"\", \"Bar\", \"\", \"Close\",\"5\",\"0\",\"PrimaryOnly\",,,\"False\",\"T\",\"EveryTick\")","v":191.21},3.3056983943750414E-3,{"$f":"RTD(\"cqg.rtd\",,\"StudyData\", \"Close(\"&$D$12&\") when LocalYear(\"&$D$12&\")=\"&$D$5&\" and localMonth(\"&$D$12&\") =\"&$E$5&\" and LocalDay(\"&$D$12&\")=\"&$F$5&\" and Barix(\"&$D$12&\",reference:=StartOfSession)=\"&A31&\"\", \"Bar\", \"\", \"Close\",\"5\",\"0\",\"PrimaryOnly\",,,\"False\",\"T\",\"EveryTick\")","v":190.41},1.2980794807682066E-2,{"$f":"RTD(\"cqg.rtd\",,\"StudyData\", \"Close(\"&$D$12&\") when LocalYear(\"&$D$12&\")=\"&$D$6&\" and localMonth(\"&$D$12&\") =\"&$E$6&\" and LocalDay(\"&$D$12&\")=\"&$F$6&\" and Barix(\"&$D$12&\",reference:=StartOfSession)=\"&A31&\"\", \"Bar\", \"\", \"Close\",\"5\",\"0\",\"PrimaryOnly\",,,\"False\",\"T\",\"EveryTick\")","v":187.5},1.1326860841423918E-2,{"$f":"RTD(\"cqg.rtd\",,\"StudyData\", \"Close(\"&$D$12&\") when LocalYear(\"&$D$12&\")=\"&$D$7&\" and localMonth(\"&$D$12&\") =\"&$E$7&\" and LocalDay(\"&$D$12&\")=\"&$F$7&\" and Barix(\"&$D$12&\",reference:=StartOfSession)=\"&A31&\"\", \"Bar\", \"\", \"Close\",\"5\",\"0\",\"PrimaryOnly\",,,\"False\",\"T\",\"EveryTick\")","v":185.64},9.3518921270117385E-3,{"$f":"RTD(\"cqg.rtd\",,\"StudyData\", \"Close(\"&$D$12&\") when LocalYear(\"&$D$12&\")=\"&$D$8&\" and localMonth(\"&$D$12&\") =\"&$E$8&\" and LocalDay(\"&$D$12&\")=\"&$F$8&\" and Barix(\"&$D$12&\",reference:=StartOfSession)=\"&A31&\"\", \"Bar\", \"\", \"Close\",\"5\",\"0\",\"PrimaryOnly\",,,\"False\",\"T\",\"EveryTick\")","v":186.42},-4.0602628485950382E-3,{"$f":"RTD(\"cqg.rtd\",,\"StudyData\", \"Close(\"&$D$12&\") when LocalYear(\"&$D$12&\")=\"&$D$9&\" and localMonth(\"&$D$12&\") =\"&$E$9&\" and LocalDay(\"&$D$12&\")=\"&$F$9&\" and Barix(\"&$D$12&\",reference:=StartOfSession)=\"&A31&\"\", \"Bar\", \"\", \"Close\",\"5\",\"0\",\"PrimaryOnly\",,,\"False\",\"T\",\"EveryTick\")","v":185.8},3.7275133704283816E-3,{"$f":"RTD(\"cqg.rtd\",,\"StudyData\", \"Close(\"&$D$12&\") when LocalYear(\"&$D$12&\")=\"&$D$10&\" and localMonth(\"&$D$12&\") =\"&$E$10&\" and LocalDay(\"&$D$12&\")=\"&$F$10&\" and Barix(\"&$D$12&\",reference:=StartOfSession)=\"&A31&\"\", \"Bar\", \"\", \"Close\",\"5\",\"0\",\"PrimaryOnly\",,,\"False\",\"T\",\"EveryTick\")","v":186.2},3.7735849056603162E-3,null,null,null,""]
[31,"11:05:00",null,null,null,null,null,{"$f":"RTD(\"cqg.rtd\",,\"StudyData\", \"Close(\"&$D$12&\") when LocalYear(\"&$D$12&\")=\"&$D$1&\" and localMonth(\"&$D$12&\") =\"&$E$1&\" and LocalDay(\"&$D$12&\")=\"&$F$1&\" and Barix(\"&$D$12&\",reference:=StartOfSession)=\"&A32&\"\", \"Bar\", \"\", \"Close\",\"5\",\"0\",\"PrimaryOnly\",,,\"False\",\"T\",\"EveryTick\")","v":""},{"$error":"#N/A"},{"$f":"RTD(\"cqg.rtd\",,\"StudyData\", \"Close(\"&$D$12&\") when LocalYear(\"&$D$12&\")=\"&$D$2&\" and localMonth(\"&$D$12&\") =\"&$E$2&\" and LocalDay(\"&$D$12&\")=\"&$F$2&\" and Barix(\"&$D$12&\",reference:=StartOfSession)=\"&A32&\"\", \"Bar\", \"\", \"Close\",\"5\",\"0\",\"PrimaryOnly\",,,\"False\",\"T\",\"EveryTick\")","v":190.95},1.6340217159889255E-2,{"$f":"RTD(\"cqg.rtd\",,\"StudyData\", \"Close(\"&$D$12&\") when LocalYear(\"&$D$12&\")=\"&$D$3&\" and localMonth(\"&$D$12&\") =\"&$E$3&\" and LocalDay(\"&$D$12&\")=\"&$F$3&\" and Barix(\"&$D$12&\",reference:=StartOfSession)=\"&A32&\"\", \"Bar\", \"\", \"Close\",\"5\",\"0\",\"PrimaryOnly\",,,\"False\",\"T\",\"EveryTick\")","v":187.83},-1.3238770685579101E-2,{"$f":"RTD(\"cqg.rtd\",,\"StudyData\", \"Close(\"&$D$12&\") when LocalYear(\"&$D$12&\")=\"&$D$4&\" and localMonth(\"&$D$12&\") =\"&$E$4&\" and LocalDay(\"&$D$12&\")=\"&$F$4&\" and Barix(\"&$D$12&\",reference:=StartOfSession)=\"&A32&\"\", \"Bar\", \"\", \"Close\",\"5\",\"0\",\"PrimaryOnly\",,,\"False\",\"T\",\"EveryTick\")","v":191.13},2.885927169692428E-3,{"$f":"RTD(\"cqg.rtd\",,\"StudyData\", \"Close(\"&$D$12&\") when LocalYear(\"&$D$12&\")=\"&$D$5&\" and localMonth(\"&$D$12&\") =\"&$E$5&\" and LocalDay(\"&$D$12&\")=\"&$F$5&\" and Barix(\"&$D$12&\",reference:=StartOfSession)=\"&A32&\"\", \"Bar\", \"\", \"Close\",\"5\",\"0\",\"PrimaryOnly\",,,\"False\",\"T\",\"EveryTick\")","v":190.33},1.2555194977922082E-2,{"$f":"RTD(\"cqg.rtd\",,\"StudyData\", \"Close(\"&$D$12&\") when LocalYear(\"&$D$12&\")=\"&$D$6&\" and localMonth(\"&$D$12&\") =\"&$E$6&\" and LocalDay(\"&$D$12&\")=\"&$F$6&\" and Barix(\"&$D$12&\",reference:=StartOfSession)=\"&A32&\"\", \"Bar\", \"\", \"Close\",\"5\",\"0\",\"PrimaryOnly\",,,\"False\",\"T\",\"EveryTick\")","v":187.51},1.1380798274002077E-2,{"$f":"RTD(\"cqg.rtd\",,\"StudyData\", \"Close(\"&$D$12&\") when LocalYear(\"&$D$12&\")=\"&$D$7&\" and localMonth(\"&$D$12&\") =\"&$E$7&\" and LocalDay(\"&$D$12&\")=\"&$F$7&\" and Barix(\"&$D$12&\",reference:=StartOfSession)=\"&A32&\"\", \"Bar\", \"\", \"Close\",\"5\",\"0\",\"PrimaryOnly\",,,\"False\",\"T\",\"EveryTick\")","v":185.83},1.038494997825155E-2,{"$f":"RTD(\"cqg.rtd\",,\"StudyData\", \"Close(\"&$D$12&\") when LocalYear(\"&$D$12&\")=\"&$D$8&\" and localMonth(\"&$D$12&\") =\"&$E$8&\" and LocalDay(\"&$D$12&\")=\"&$F$8&\" and Barix(\"&$D$12&\",reference:=StartOfSession)=\"&A32&\"\", \"Bar\", \"\", \"Close\",\"5\",\"0\",\"PrimaryOnly\",,,\"False\",\"T\",\"EveryTick\")","v":186.28},-4.8082060049150855E-3,{"$f":"RTD(\"cqg.rtd\",,\"StudyData\", \"Close(\"&$D$12&\") when LocalYear(\"&$D$12&\")=\"&$D$9&\" and localMonth(\"&$D$12&\") =\"&$E$9&\" and LocalDay(\"&$D$12&\")=\"&$F$9&\" and Barix(\"&$D$12&\",reference:=StartOfSession)=\"&A32&\"\", \"Bar\", \"\", \"Close\",\"5\",\"0\",\"PrimaryOnly\",,,\"False\",\"T\",\"EveryTick\")","v":185.84},3.9436011020473755E-3,{"$f":"RTD(\"cqg.rtd\",,\"StudyData\", \"Close(\"&$D$12&\") when LocalYear(\"&$D$12&\")=\"&$D$10&\" and localMonth(\"&$D$12&\") =\"&$E$10&\" and LocalDay(\"&$D$12&\")=\"&$F$10&\" and Barix(\"&$D$12&\",reference:=StartOfSession)=\"&A32&\"\", \"Bar\", \"\", \"Close\",\"5\",\"0\",\"PrimaryOnly\",,,\"False\",\"T\",\"EveryTick\")","v":186.47},5.229110512129374E-3,null,null,null,""]
[32,"11:10:00",null,null,null,null,null,{"$f":"RTD(\"cqg.rtd\",,\"StudyData\", \"Close(\"&$D$12&\") when LocalYear(\"&$D$12&\")=\"&$D$1&\" and localMonth(\"&$D$12&\") =\"&$E$1&\" and LocalDay(\"&$D$12&\")=\"&$F$1&\" and Barix(\"&$D$12&\",reference:=StartOfSession)=\"&A33&\"\", \"Bar\", \"\", \"Close\",\"5\",\"0\",\"PrimaryOnly\",,,\"False\",\"T\",\"EveryTick\")","v":""},{"$error":"#N/A"},{"$f":"RTD(\"cqg.rtd\",,\"StudyData\", \"Close(\"&$D$12&\") when LocalYear(\"&$D$12&\")=\"&$D$2&\" and localMonth(\"&$D$12&\") =\"&$E$2&\" and LocalDay(\"&$D$12&\")=\"&$F$2&\" and Barix(\"&$D$12&\",reference:=StartOfSession)=\"&A33&\"\", \"Bar\", \"\", \"Close\",\"5\",\"0\",\"PrimaryOnly\",,,\"False\",\"T\",\"EveryTick\")","v":191.11},1.7191824568873845E-2,{"$f":"RTD(\"cqg.rtd\",,\"StudyData\", \"Close(\"&$D$12&\") when LocalYear(\"&$D$12&\")=\"&$D$3&\" and localMonth(\"&$D$12&\") =\"&$E$3&\" and LocalDay(\"&$D$12&\")=\"&$F$3&\" and Barix(\"&$D$12&\",reference:=StartOfSession)=\"&A33&\"\", \"Bar\", \"\", \"Close\",\"5\",\"0\",\"PrimaryOnly\",,,\"False\",\"T\",\"EveryTick\")","v":188.09},-1.1872865773574945E-2,{"$f":"RTD(\"cqg.rtd\",,\"StudyData\", \"Close(\"&$D$12&\") when LocalYear(\"&$D$12&\")=\"&$D$4&\" and localMonth(\"&$D$12&\") =\"&$E$4&\" and LocalDay(\"&$D$12&\")=\"&$F$4&\" and Barix(\"&$D$12&\",reference:=StartOfSession)=\"&A33&\"\", \"Bar\", \"\", \"Close\",\"5\",\"0\",\"PrimaryOnly\",,,\"False\",\"T\",\"EveryTick\")","v":191.09},2.6760415573511957E-3,{"$f":"RTD(\"cqg.rtd\",,\"StudyData\", \"Close(\"&$D$12&\") when LocalYear(\"&$D$12&\")=\"&$D$5&\" and localMonth(\"&$D$12&\") =\"&$E$5&\" and LocalDay(\"&$D$12&\")=\"&$F$5&\" and Barix(\"&$D$12&\",reference:=StartOfSession)=\"&A33&\"\", \"Bar\", \"\", \"Close\",\"5\",\"0\",\"PrimaryOnly\",,,\"False\",\"T\",\"EveryTick\")","v":190.35},1.2661594935362001E-2,{"$f":"RTD(\"cqg.rtd\",,\"StudyData\", \"Close(\"&$D$12&\") when LocalYear(\"&$D$12&\")=\"&$D$6&\" and localMonth(\"&$D$12&\") =\"&$E$6&\" and LocalDay(\"&$D$12&\")=\"&$F$6&\" and Barix(\"&$D$12&\",reference:=StartOfSession)=\"&A33&\"\", \"Bar\", \"\", \"Close\",\"5\",\"0\",\"PrimaryOnly\",,,\"False\",\"T\",\"EveryTick\")","v":187.65},1.2135922330097087E-2,{"$f":"RTD(\"cqg.rtd\",,\"StudyData\", \"Close(\"&$D$12&\") when LocalYear(\"&$D$12&\")=\"&$D$7&\" and localMonth(\"&$D$12&\") =\"&$E$7&\" and LocalDay(\"&$D$12&\")=\"&$F$7&\" and Barix(\"&$D$12&\",reference:=StartOfSession)=\"&A33&\"\", \"Bar\", \"\", \"Close\",\"5\",\"0\",\"PrimaryOnly\",,,\"False\",\"T\",\"EveryTick\")","v":185.9},1.0765550239234549E-2,{"$f":"RTD(\"cqg.rtd\",,\"StudyData\", \"Close(\"&$D$12&\") when LocalYear(\"&$D$12&\")=\"&$D$8&\" and localMonth(\"&$D$12&\") =\"&$E$8&\" and LocalDay(\"&$D$12&\")=\"&$F$8&\" and Barix(\"&$D$12&\",reference:=StartOfSession)=\"&A33&\"\", \"Bar\", \"\", \"Close\",\"5\",\"0\",\"PrimaryOnly\",,,\"False\",\"T\",\"EveryTick\")","v":185.77},-7.5328560743669008E-3,{"$f":"RTD(\"cqg.rtd\",,\"StudyData\", \"Close(\"&$D$12&\") when LocalYear(\"&$D$12&\")=\"&$D$9&\" and localMonth(\"&$D$12&\") =\"&$E$9&\" and LocalDay(\"&$D$12&\")=\"&$F$9&\" and Barix(\"&$D$12&\",reference:=StartOfSession)=\"&A33&\"\", \"Bar\", \"\", \"Close\",\"5\",\"0\",\"PrimaryOnly\",,,\"False\",\"T\",\"EveryTick\")","v":185.73},3.3493598400949494E-3,{"$f":"RTD(\"cqg.rtd\",,\"StudyData\", \"Close(\"&$D$12&\") when LocalYear(\"&$D$12&\")=\"&$D$10&\" and localMonth(\"&$D$12&\") =\"&$E$10&\" and LocalDay(\"&$D$12&\")=\"&$F$10&\" and Barix(\"&$D$12&\",reference:=StartOfSession)=\"&A33&\"\", \"Bar\", \"\", \"Close\",\"5\",\"0\",\"PrimaryOnly\",,,\"False\",\"T\",\"EveryTick\")","v":186.4},4.8517520215633726E-3,null,null,null,""]
[33,"11:15:00",null,null,null,null,null,{"$f":"RTD(\"cqg.rtd\",,\"StudyData\", \"Close(\"&$D$12&\") when LocalYear(\"&$D$12&\")=\"&$D$1&\" and localMonth(\"&$D$12&\") =\"&$E$1&\" and LocalDay(\"&$D$12&\")=\"&$F$1&\" and Barix(\"&$D$12&\",reference:=StartOfSession)=\"&A34&\"\", \"Bar\", \"\", \"Close\",\"5\",\"0\",\"PrimaryOnly\",,,\"False\",\"T\",\"EveryTick\")","v":""},{"$error":"#N/A"},{"$f":"RTD(\"cqg.rtd\",,\"StudyData\", \"Close(\"&$D$12&\") when LocalYear(\"&$D$12&\")=\"&$D$2&\" and localMonth(\"&$D$12&\") =\"&$E$2&\" and LocalDay(\"&$D$12&\")=\"&$F$2&\" and Barix(\"&$D$12&\",reference:=StartOfSession)=\"&A34&\"\", \"Bar\", \"\", \"Close\",\"5\",\"0\",\"PrimaryOnly\",,,\"False\",\"T\",\"EveryTick\")","v":191.22},1.7777304662550581E-2,{"$f":"RTD(\"cqg.rtd\",,\"StudyData\", \"Close(\"&$D$12&\") when LocalYear(\"&$D$12&\")=\"&$D$3&\" and localMonth(\"&$D$12&\") =\"&$E$3&\" and LocalDay(\"&$D$12&\")=\"&$F$3&\" and Barix(\"&$D$12&\",reference:=StartOfSession)=\"&A34&\"\", \"Bar\", \"\", \"Close\",\"5\",\"0\",\"PrimaryOnly\",,,\"False\",\"T\",\"EveryTick\")","v":188.08},-1.1925400577882753E-2,{"$f":"RTD(\"cqg.rtd\",,\"StudyData\", \"Close(\"&$D$12&\") when LocalYear(\"&$D$12&\")=\"&$D$4&\" and localMonth(\"&$D$12&\") =\"&$E$4&\" and LocalDay(\"&$D$12&\")=\"&$F$4&\" and Barix(\"&$D$12&\",reference:=StartOfSession)=\"&A34&\"\", \"Bar\", \"\", \"Close\",\"5\",\"0\",\"PrimaryOnly\",,,\"False\",\"T\",\"EveryTick\")","v":191.06},2.5186273480952343E-3,{"$f":"RTD(\"cqg.rtd\",,\"StudyData\", \"Close(\"&$D$12&\") when LocalYear(\"&$D$12&\")=\"&$D$5&\" and localMonth(\"&$D$12&\") =\"&$E$5&\" and LocalDay(\"&$D$12&\")=\"&$F$5&\" and Barix(\"&$D$12&\",reference:=StartOfSession)=\"&A34&\"\", \"Bar\", \"\", \"Close\",\"5\",\"0\",\"PrimaryOnly\",,,\"False\",\"T\",\"EveryTick\")","v":190.15},1.1597595360961893E-2,{"$f":"RTD(\"cqg.rtd\",,\"StudyData\", \"Close(\"&$D$12&\") when LocalYear(\"&$D$12&\")=\"&$D$6&\" and localMonth(\"&$D$12&\") =\"&$E$6&\" and LocalDay(\"&$D$12&\")=\"&$F$6&\" and Barix(\"&$D$12&\",reference:=StartOfSession)=\"&A34&\"\", \"Bar\", \"\", \"Close\",\"5\",\"0\",\"PrimaryOnly\",,,\"False\",\"T\",\"EveryTick\")","v":187.61},1.1920172599784293E-2,{"$f":"RTD(\"cqg.rtd\",,\"StudyData\", \"Close(\"&$D$12&\") when LocalYear(\"&$D$12&\")=\"&$D$7&\" and localMonth(\"&$D$12&\") =\"&$E$7&\" and LocalDay(\"&$D$12&\")=\"&$F$7&\" and Barix(\"&$D$12&\",reference:=StartOfSession)=\"&A34&\"\", \"Bar\", \"\", \"Close\",\"5\",\"0\",\"PrimaryOnly\",,,\"False\",\"T\",\"EveryTick\")","v":185.92},1.0874293170943889E-2,{"$f":"RTD(\"cqg.rtd\",,\"StudyData\", \"Close(\"&$D$12&\") when LocalYear(\"&$D$12&\")=\"&$D$8&\" and localMonth(\"&$D$12&\") =\"&$E$8&\" and LocalDay(\"&$D$12&\")=\"&$F$8&\" and Barix(\"&$D$12&\",reference:=StartOfSession)=\"&A34&\"\", \"Bar\", \"\", \"Close\",\"5\",\"0\",\"PrimaryOnly\",,,\"False\",\"T\",\"EveryTick\")","v":185.73},-7.7465541190299015E-3,{"$f":"RTD(\"cqg.rtd\",,\"StudyData\", \"Close(\"&$D$12&\") when LocalYear(\"&$D$12&\")=\"&$D$9&\" and localMonth(\"&$D$12&\") =\"&$E$9&\" and LocalDay(\"&$D$12&\")=\"&$F$9&\" and Barix(\"&$D$12&\",reference:=StartOfSession)=\"&A34&\"\", \"Bar\", \"\", \"Close\",\"5\",\"0\",\"PrimaryOnly\",,,\"False\",\"T\",\"EveryTick\")","v":185.7},3.1872940413806652E-3,{"$f":"RTD(\"cqg.rtd\",,\"StudyData\", \"Close(\"&$D$12&\") when LocalYear(\"&$D$12&\")=\"&$D$10&\" and localMonth(\"&$D$12&\") =\"&$E$10&\" and LocalDay(\"&$D$12&\")=\"&$F$10&\" and Barix(\"&$D$12&\",reference:=StartOfSession)=\"&A34&\"\", \"Bar\", \"\", \"Close\",\"5\",\"0\",\"PrimaryOnly\",,,\"False\",\"T\",\"EveryTick\")","v":186.49},5.3369272237197259E-3,null,null,null,""]
[34,"11:20:00",null,null,null,null,null,{"$f":"RTD(\"cqg.rtd\",,\"StudyData\", \"Close(\"&$D$12&\") when LocalYear(\"&$D$12&\")=\"&$D$1&\" and localMonth(\"&$D$12&\") =\"&$E$1&\" and LocalDay(\"&$D$12&\")=\"&$F$1&\" and Barix(\"&$D$12&\",reference:=StartOfSession)=\"&A35&\"\", \"Bar\", \"\", \"Close\",\"5\",\"0\",\"PrimaryOnly\",,,\"False\",\"T\",\"EveryTick\")","v":""},{"$error":"#N/A"},{"$f":"RTD(\"cqg.rtd\",,\"StudyData\", \"Close(\"&$D$12&\") when LocalYear(\"&$D$12&\")=\"&$D$2&\" and localMonth(\"&$D$12&\") =\"&$E$2&\" and LocalDay(\"&$D$12&\")=\"&$F$2&\" and Barix(\"&$D$12&\",reference:=StartOfSession)=\"&A35&\"\", \"Bar\", \"\", \"Close\",\"5\",\"0\",\"PrimaryOnly\",,,\"False\",\"T\",\"EveryTick\")","v":191.02},1.671279540132007E-2,{"$f":"RTD(\"cqg.rtd\",,\"StudyData\", \"Close(\"&$D$12&\") when LocalYear(\"&$D$12&\")=\"&$D$3&\" and localMonth(\"&$D$12&\") =\"&$E$3&\" and LocalDay(\"&$D$12&\")=\"&$F$3&\" and Barix(\"&$D$12&\",reference:=StartOfSession)=\"&A35&\"\", \"Bar\", \"\", \"Close\",\"5\",\"0\",\"PrimaryOnly\",,,\"False\",\"T\",\"EveryTick\")","v":187.9},-1.2871027055424158E-2,{"$f":"RTD(\"cqg.rtd\",,\"StudyData\", \"Close(\"&$D$12&\") when LocalYear(\"&$D$12&\")=\"&$D$4&\" and localMonth(\"&$D$12&\") =\"&$E$4&\" and LocalDay(\"&$D$12&\")=\"&$F$4&\" and Barix(\"&$D$12&\",reference:=StartOfSession)=\"&A35&\"\", \"Bar\", \"\", \"Close\",\"5\",\"0\",\"PrimaryOnly\",,,\"False\",\"T\",\"EveryTick\")","v":191.02},2.308741735754002E-3,{"$f":"RTD(\"cqg.rtd\",,\"StudyData\", \"Close(\"&$D$12&\") when LocalYear(\"&$D$12&\")=\"&$D$5&\" and localMonth(\"&$D$12&\") =\"&$E$5&\" and LocalDay(\"&$D$12&\")=\"&$F$5&\" and Barix(\"&$D$12&\",reference:=StartOfSession)=\"&A35&\"\", \"Bar\", \"\", \"Close\",\"5\",\"0\",\"PrimaryOnly\",,,\"False\",\"T\",\"EveryTick\")","v":190.17},1.1703995318401812E-2,{"$f":"RTD(\"cqg.rtd\",,\"StudyData\", \"Close(\"&$D$12&\") when LocalYear(\"&$D$12&\")=\"&$D$6&\" and localMonth(\"&$D$12&\") =\"&$E$6&\" and LocalDay(\"&$D$12&\")=\"&$F$6&\" and Barix(\"&$D$12&\",reference:=StartOfSession)=\"&A35&\"\", \"Bar\", \"\", \"Close\",\"5\",\"0\",\"PrimaryOnly\",,,\"False\",\"T\",\"EveryTick\")","v":187.72},1.2513484358144516E-2,{"$f":"RTD(\"cqg.rtd\",,\"StudyData\", \"Close(\"&$D$12&\") when LocalYear(\"&$D$12&\")=\"&$D$7&\" and localMonth(\"&$D$12&\") =\"&$E$7&\" and LocalDay(\"&$D$12&\")=\"&$F$7&\" and Barix(\"&$D$12&\",reference:=StartOfSession)=\"&A35&\"\", \"Bar\", \"\", \"Close\",\"5\",\"0\",\"PrimaryOnly\",,,\"False\",\"T\",\"EveryTick\")","v":185.97},1.1146150500217548E-2,{"$f":"RTD(\"cqg.rtd\",,\"StudyData\", \"Close(\"&$D$12&\") when LocalYear(\"&$D$12&\")=\"&$D$8&\" and localMonth(\"&$D$12&\") =\"&$E$8&\" and LocalDay(\"&$D$12&\")=\"&$F$8&\" and Barix(\"&$D$12&\",reference:=StartOfSession)=\"&A35&\"\", \"Bar\", \"\", \"Close\",\"5\",\"0\",\"PrimaryOnly\",,,\"False\",\"T\",\"EveryTick\")","v":185.58},-8.5479217865156235E-3,{"$f":"RTD(\"cqg.rtd\",,\"StudyData\", \"Close(\"&$D$12&\") when LocalYear(\"&$D$12&\")=\"&$D$9&\" and localMonth(\"&$D$12&\") =\"&$E$9&\" and LocalDay(\"&$D$12&\")=\"&$F$9&\" and Barix(\"&$D$12&\",reference:=StartOfSession)=\"&A35&\"\", \"Bar\", \"\", \"Close\",\"5\",\"0\",\"PrimaryOnly\",,,\"False\",\"T\",\"EveryTick\")","v":185.88},4.1596888336663702E-3,{"$f":"RTD(\"cqg.rtd\",,\"StudyData\", \"Close(\"&$D$12&\") when LocalYear(\"&$D$12&\")=\"&$D$10&\" and localMonth(\"&$D$12&\") =\"&$E$10&\" and LocalDay(\"&$D$12&\")=\"&$F$10&\" and Barix(\"&$D$12&\",reference:=StartOfSession)=\"&A35&\"\", \"Bar\", \"\", \"Close\",\"5\",\"0\",\"PrimaryOnly\",,,\"False\",\"T\",\"EveryTick\")","v":186.49},5.3369272237197259E-3,null,null,null,""]
[35,"11:25:00",null,null,null,null,null,{"$f":"RTD(\"cqg.rtd\",,\"StudyData\", \"Close(\"&$D$12&\") when LocalYear(\"&$D$12&\")=\"&$D$1&\" and localMonth(\"&$D$12&\") =\"&$E$1&\" and LocalDay(\"&$D$12&\")=\"&$F$1&\" and Barix(\"&$D$12&\",reference:=StartOfSession)=\"&A36&\"\", \"Bar\", \"\", \"Close\",\"5\",\"0\",\"PrimaryOnly\",,,\"False\",\"T\",\"EveryTick\")","v":""},{"$error":"#N/A"},{"$f":"RTD(\"cqg.rtd\",,\"StudyData\", \"Close(\"&$D$12&\") when LocalYear(\"&$D$12&\")=\"&$D$2&\" and localMonth(\"&$D$12&\") =\"&$E$2&\" and LocalDay(\"&$D$12&\")=\"&$F$2&\" and Barix(\"&$D$12&\",reference:=StartOfSession)=\"&A36&\"\", \"Bar\", \"\", \"Close\",\"5\",\"0\",\"PrimaryOnly\",,,\"False\",\"T\",\"EveryTick\")","v":191.03},1.6766020864381552E-2,{"$f":"RTD(\"cqg.rtd\",,\"StudyData\", \"Close(\"&$D$12&\") when LocalYear(\"&$D$12&\")=\"&$D$3&\" and localMonth(\"&$D$12&\") =\"&$E$3&\" and LocalDay(\"&$D$12&\")=\"&$F$3&\" and Barix(\"&$D$12&\",reference:=StartOfSession)=\"&A36&\"\", \"Bar\", \"\", \"Close\",\"5\",\"0\",\"PrimaryOnly\",,,\"False\",\"T\",\"EveryTick\")","v":188.04},-1.2135539795114276E-2,{"$f":"RTD(\"cqg.rtd\",,\"StudyData\", \"Close(\"&$D$12&\") when LocalYear(\"&$D$12&\")=\"&$D$4&\" and localMonth(\"&$D$12&\") =\"&$E$4&\" and LocalDay(\"&$D$12&\")=\"&$F$4&\" and Barix(\"&$D$12&\",reference:=StartOfSession)=\"&A36&\"\", \"Bar\", \"\", \"Close\",\"5\",\"0\",\"PrimaryOnly\",,,\"False\",\"T\",\"EveryTick\")","v":191.09},2.6760415573511957E-3,{"$f":"RTD(\"cqg.rtd\",,\"StudyData\", \"Close(\"&$D$12&\") when LocalYear(\"&$D$12&\")=\"&$D$5&\" and localMonth(\"&$D$12&\") =\"&$E$5&\" and LocalDay(\"&$D$12&\")=\"&$F$5&\" and Barix(\"&$D$12&\",reference:=StartOfSession)=\"&A36&\"\", \"Bar\", \"\", \"Close\",\"5\",\"0\",\"PrimaryOnly\",,,\"False\",\"T\",\"EveryTick\")","v":190.06},1.1118795552481797E-2,{"$f":"RTD(\"cqg.rtd\",,\"StudyData\", \"Close(\"&$D$12&\") when LocalYear(\"&$D$12&\")=\"&$D$6&\" and localMonth(\"&$D$12&\") =\"&$E$6&\" and LocalDay(\"&$D$12&\")=\"&$F$6&\" and Barix(\"&$D$12&\",reference:=StartOfSession)=\"&A36&\"\", \"Bar\", \"\", \"Close\",\"5\",\"0\",\"PrimaryOnly\",,,\"False\",\"T\",\"EveryTick\")","v":187.67},1.2243797195253408E-2,{"$f":"RTD(\"cqg.rtd\",,\"StudyData\", \"Close(\"&$D$12&\") when LocalYear(\"&$D$12&\")=\"&$D$7&\" and localMonth(\"&$D$12&\") =\"&$E$7&\" and LocalDay(\"&$D$12&\")=\"&$F$7&\" and Barix(\"&$D$12&\",reference:=StartOfSession)=\"&A36&\"\", \"Bar\", \"\", \"Close\",\"5\",\"0\",\"PrimaryOnly\",,,\"False\",\"T\",\"EveryTick\")","v":185.99},1.1254893431927043E-2,{"$f":"RTD(\"cqg.rtd\",,\"StudyData\", \"Close(\"&$D$12&\") when LocalYear(\"&$D$12&\")=\"&$D$8&\" and localMonth(\"&$D$12&\") =\"&$E$8&\" and LocalDay(\"&$D$12&\")=\"&$F$8&\" and Barix(\"&$D$12&\",reference:=StartOfSession)=\"&A36&\"\", \"Bar\", \"\", \"Close\",\"5\",\"0\",\"PrimaryOnly\",,,\"False\",\"T\",\"EveryTick\")","v":185.22},-1.0471204188481718E-2,{"$f":"RTD(\"cqg.rtd\",,\"StudyData\", \"Close(\"&$D$12&\") when LocalYear(\"&$D$12&\")=\"&$D$9&\" and localMonth(\"&$D$12&\") =\"&$E$9&\" and LocalDay(\"&$D$12&\")=\"&$F$9&\" and Barix(\"&$D$12&\",reference:=StartOfSession)=\"&A36&\"\", \"Bar\", \"\", \"Close\",\"5\",\"0\",\"PrimaryOnly\",,,\"False\",\"T\",\"EveryTick\")","v":185.95},4.5378423639996484E-3,{"$f":"RTD(\"cqg.rtd\",,\"StudyData\", \"Close(\"&$D$12&\") when LocalYear(\"&$D$12&\")=\"&$D$10&\" and localMonth(\"&$D$12&\") =\"&$E$10&\" and LocalDay(\"&$D$12&\")=\"&$F$10&\" and Barix(\"&$D$12&\",reference:=StartOfSession)=\"&A36&\"\", \"Bar\", \"\", \"Close\",\"5\",\"0\",\"PrimaryOnly\",,,\"False\",\"T\",\"EveryTick\")","v":186.44},5.0673854447439229E-3,null,null,null,""]
[36,"11:30:00",null,null,null,null,null,{"$f":"RTD(\"cqg.rtd\",,\"StudyData\", \"Close(\"&$D$12&\") when LocalYear(\"&$D$12&\")=\"&$D$1&\" and localMonth(\"&$D$12&\") =\"&$E$1&\" and LocalDay(\"&$D$12&\")=\"&$F$1&\" and Barix(\"&$D$12&\",reference:=StartOfSession)=\"&A37&\"\", \"Bar\", \"\", \"Close\",\"5\",\"0\",\"PrimaryOnly\",,,\"False\",\"T\",\"EveryTick\")","v":""},{"$error":"#N/A"},{"$f":"RTD(\"cqg.rtd\",,\"StudyData\", \"Close(\"&$D$12&\") when LocalYear(\"&$D$12&\")=\"&$D$2&\" and localMonth(\"&$D$12&\") =\"&$E$2&\" and LocalDay(\"&$D$12&\")=\"&$F$2&\" and Barix(\"&$D$12&\",reference:=StartOfSession)=\"&A37&\"\", \"Bar\", \"\", \"Close\",\"5\",\"0\",\"PrimaryOnly\",,,\"False\",\"T\",\"EveryTick\")","v":191.01},1.6659569938258439E-2,{"$f":"RTD(\"cqg.rtd\",,\"StudyData\", \"Close(\"&$D$12&\") when LocalYear(\"&$D$12&\")=\"&$D$3&\" and localMonth(\"&$D$12&\") =\"&$E$3&\" and LocalDay(\"&$D$12&\")=\"&$F$3&\" and Barix(\"&$D$12&\",reference:=StartOfSession)=\"&A37&\"\", \"Bar\", \"\", \"Close\",\"5\",\"0\",\"PrimaryOnly\",,,\"False\",\"T\",\"EveryTick\")","v":188.23},-1.1137378513265062E-2,{"$f":"RTD(\"cqg.rtd\",,\"StudyData\", \"Close(\"&$D$12&\") when LocalYear(\"&$D$12&\")=\"&$D$4&\" and localMonth(\"&$D$12&\") =\"&$E$4&\" and LocalDay(\"&$D$12&\")=\"&$F$4&\" and Barix(\"&$D$12&\",reference:=StartOfSession)=\"&A37&\"\", \"Bar\", \"\", \"Close\",\"5\",\"0\",\"PrimaryOnly\",,,\"False\",\"T\",\"EveryTick\")","v":191.07},2.5710987511805049E-3,{"$f":"RTD(\"cqg.rtd\",,\"StudyData\", \"Close(\"&$D$12&\") when LocalYear(\"&$D$12&\")=\"&$D$5&\" and localMonth(\"&$D$12&\") =\"&$E$5&\" and LocalDay(\"&$D$12&\")=\"&$F$5&\" and Barix(\"&$D$12&\",reference:=StartOfSession)=\"&A37&\"\", \"Bar\", \"\", \"Close\",\"5\",\"0\",\"PrimaryOnly\",,,\"False\",\"T\",\"EveryTick\")","v":190.08},1.1225195509921869E-2,{"$f":"RTD(\"cqg.rtd\",,\"StudyData\", \"Close(\"&$D$12&\") when LocalYear(\"&$D$12&\")=\"&$D$6&\" and localMonth(\"&$D$12&\") =\"&$E$6&\" and LocalDay(\"&$D$12&\")=\"&$F$6&\" and Barix(\"&$D$12&\",reference:=StartOfSession)=\"&A37&\"\", \"Bar\", \"\", \"Close\",\"5\",\"0\",\"PrimaryOnly\",,,\"False\",\"T\",\"EveryTick\")","v":187.7},1.2405609492988041E-2,{"$f":"RTD(\"cqg.rtd\",,\"StudyData\", \"Close(\"&$D$12&\") when LocalYear(\"&$D$12&\")=\"&$D$7&\" and localMonth(\"&$D$12&\") =\"&$E$7&\" and LocalDay(\"&$D$12&\")=\"&$F$7&\" and Barix(\"&$D$12&\",reference:=StartOfSession)=\"&A37&\"\", \"Bar\", \"\", \"Close\",\"5\",\"0\",\"PrimaryOnly\",,,\"False\",\"T\",\"EveryTick\")","v":185.89},1.0711178773379725E-2,{"$f":"RTD(\"cqg.rtd\",,\"StudyData\", \"Close(\"&$D$12&\") when LocalYear(\"&$D$12&\")=\"&$D$8&\" and localMonth(\"&$D$12&\") =\"&$E$8&\" and LocalDay(\"&$D$12&\")=\"&$F$8&\" and Barix(\"&$D$12&\",reference:=StartOfSession)=\"&A37&\"\", \"Bar\", \"\", \"Close\",\"5\",\"0\",\"PrimaryOnly\",,,\"False\",\"T\",\"EveryTick\")","v":185.17},-1.0738326744310392E-2,{"$f":"RTD(\"cqg.rtd\",,\"StudyData\", \"Close(\"&$D$12&\") when LocalYear(\"&$D$12&\")=\"&$D$9&\" and localMonth(\"&$D$12&\") =\"&$E$9&\" and LocalDay(\"&$D$12&\")=\"&$F$9&\" and Barix(\"&$D$12&\",reference:=StartOfSession)=\"&A37&\"\", \"Bar\", \"\", \"Close\",\"5\",\"0\",\"PrimaryOnly\",,,\"False\",\"T\",\"EveryTick\")","v":185.89},4.2137107665710799E-3,{"$f":"RTD(\"cqg.rtd\",,\"StudyData\", \"Close(\"&$D$12&\") when LocalYear(\"&$D$12&\")=\"&$D$10&\" and localMonth(\"&$D$12&\") =\"&$E$10&\" and LocalDay(\"&$D$12&\")=\"&$F$10&\" and Barix(\"&$D$12&\",reference:=StartOfSession)=\"&A37&\"\", \"Bar\", \"\", \"Close\",\"5\",\"0\",\"PrimaryOnly\",,,\"False\",\"T\",\"EveryTick\")","v":186.27},4.1509433962264699E-3,null,null,null,""]
[37,"11:35:00",-40,{"$f":" RTD(\"cqg.rtd\",,\"StudyData\", $D$12,  \"Tick\", \"FlatTicks=0\", \"Tick\",\"D\",C38,\"PrimaryOnly\")","v":191.46},null,"EP",null,{"$f":"RTD(\"cqg.rtd\",,\"StudyData\", \"Close(\"&$D$12&\") when LocalYear(\"&$D$12&\")=\"&$D$1&\" and localMonth(\"&$D$12&\") =\"&$E$1&\" and LocalDay(\"&$D$12&\")=\"&$F$1&\" and Barix(\"&$D$12&\",reference:=StartOfSession)=\"&A38&\"\", \"Bar\", \"\", \"Close\",\"5\",\"0\",\"PrimaryOnly\",,,\"False\",\"T\",\"EveryTick\")","v":""},{"$error":"#N/A"},{"$f":"RTD(\"cqg.rtd\",,\"StudyData\", \"Close(\"&$D$12&\") when LocalYear(\"&$D$12&\")=\"&$D$2&\" and localMonth(\"&$D$12&\") =\"&$E$2&\" and LocalDay(\"&$D$12&\")=\"&$F$2&\" and Barix(\"&$D$12&\",reference:=StartOfSession)=\"&A38&\"\", \"Bar\", \"\", \"Close\",\"5\",\"0\",\"PrimaryOnly\",,,\"False\",\"T\",\"EveryTick\")","v":190.97},1.6446668086012368E-2,{"$f":"RTD(\"cqg.rtd\",,\"StudyData\", \"Close(\"&$D$12&\") when LocalYear(\"&$D$12&\")=\"&$D$3&\" and localMonth(\"&$D$12&\") =\"&$E$3&\" and LocalDay(\"&$D$12&\")=\"&$F$3&\" and Barix(\"&$D$12&\",reference:=StartOfSession)=\"&A38&\"\", \"Bar\", \"\", \"Close\",\"5\",\"0\",\"PrimaryOnly\",,,\"False\",\"T\",\"EveryTick\")","v":188.2},-1.129498292618863E-2,{"$f":"RTD(\"cqg.rtd\",,\"StudyData\", \"Close(\"&$D$12&\") when LocalYear(\"&$D$12&\")=\"&$D$4&\" and localMonth(\"&$D$12&\") =\"&$E$4&\" and LocalDay(\"&$D$12&\")=\"&$F$4&\" and Barix(\"&$D$12&\",reference:=StartOfSession)=\"&A38&\"\", \"Bar\", \"\", \"Close\",\"5\",\"0\",\"PrimaryOnly\",,,\"False\",\"T\",\"EveryTick\")","v":191.08},2.6235701542659251E-3,{"$f":"RTD(\"cqg.rtd\",,\"StudyData\", \"Close(\"&$D$12&\") when LocalYear(\"&$D$12&\")=\"&$D$5&\" and localMonth(\"&$D$12&\") =\"&$E$5&\" and LocalDay(\"&$D$12&\")=\"&$F$5&\" and Barix(\"&$D$12&\",reference:=StartOfSession)=\"&A38&\"\", \"Bar\", \"\", \"Close\",\"5\",\"0\",\"PrimaryOnly\",,,\"False\",\"T\",\"EveryTick\")","v":190.03},1.0959195616321766E-2,{"$f":"RTD(\"cqg.rtd\",,\"StudyData\", \"Close(\"&$D$12&\") when LocalYear(\"&$D$12&\")=\"&$D$6&\" and localMonth(\"&$D$12&\") =\"&$E$6&\" and LocalDay(\"&$D$12&\")=\"&$F$6&\" and Barix(\"&$D$12&\",reference:=StartOfSession)=\"&A38&\"\", \"Bar\", \"\", \"Close\",\"5\",\"0\",\"PrimaryOnly\",,,\"False\",\"T\",\"EveryTick\")","v":187.82},1.3052858683926577E-2,{"$f":"RTD(\"cqg.rtd\",,\"StudyData\", \"Close(\"&$D$12&\") when LocalYear(\"&$D$12&\")=\"&$D$7&\" and localMonth(\"&$D$12&\") =\"&$E$7&\" and LocalDay(\"&$D$12&\")=\"&$F$7&\" and Barix(\"&$D$12&\",reference:=StartOfSession)=\"&A38&\"\", \"Bar\", \"\", \"Close\",\"5\",\"0\",\"PrimaryOnly\",,,\"False\",\"T\",\"EveryTick\")","v":185.87},1.0602435841670385E-2,{"$f":"RTD(\"cqg.rtd\",,\"StudyData\", \"Close(\"&$D$12&\") when LocalYear(\"&$D$12&\")=\"&$D$8&\" and localMonth(\"&$D$12&\") =\"&$E$8&\" and LocalDay(\"&$D$12&\")=\"&$F$8&\" and Barix(\"&$D$12&\",reference:=StartOfSession)=\"&A38&\"\", \"Bar\", \"\", \"Close\",\"5\",\"0\",\"PrimaryOnly\",,,\"False\",\"T\",\"EveryTick\")","v":185.08},-1.1219147344801764E-2,{"$f":"RTD(\"cqg.rtd\",,\"StudyData\", \"Close(\"&$D$12&\") when LocalYear(\"&$D$12&\")=\"&$D$9&\" and localMonth(\"&$D$12&\") =\"&$E$9&\" and LocalDay(\"&$D$12&\")=\"&$F$9&\" and Barix(\"&$D$12&\",reference:=StartOfSession)=\"&A38&\"\", \"Bar\", \"\", \"Close\",\"5\",\"0\",\"PrimaryOnly\",,,\"False\",\"T\",\"EveryTick\")","v":185.71},3.2413159742855288E-3,{"$f":"RTD(\"cqg.rtd\",,\"StudyData\", \"Close(\"&$D$12&\") when LocalYear(\"&$D$12&\")=\"&$D$10&\" and localMonth(\"&$D$12&\") =\"&$E$10&\" and LocalDay(\"&$D$12&\")=\"&$F$10&\" and Barix(\"&$D$12&\",reference:=StartOfSession)=\"&A38&\"\", \"Bar\", \"\", \"Close\",\"5\",\"0\",\"PrimaryOnly\",,,\"False\",\"T\",\"EveryTick\")","v":186.32},4.4204851752021193E-3,null,null,null,""]
[38,"11:40:00",{"$f":"C38+1","v":-39},{"$f":" RTD(\"cqg.rtd\",,\"StudyData\", $D$12,  \"Tick\", \"FlatTicks=0\", \"Tick\",\"D\",C39,\"PrimaryOnly\")","v":191.47},null,"ENQ",null,{"$f":"RTD(\"cqg.rtd\",,\"StudyData\", \"Close(\"&$D$12&\") when LocalYear(\"&$D$12&\")=\"&$D$1&\" and localMonth(\"&$D$12&\") =\"&$E$1&\" and LocalDay(\"&$D$12&\")=\"&$F$1&\" and Barix(\"&$D$12&\",reference:=StartOfSession)=\"&A39&\"\", \"Bar\", \"\", \"Close\",\"5\",\"0\",\"PrimaryOnly\",,,\"False\",\"T\",\"EveryTick\")","v":""},{"$error":"#N/A"},{"$f":"RTD(\"cqg.rtd\",,\"StudyData\", \"Close(\"&$D$12&\") when LocalYear(\"&$D$12&\")=\"&$D$2&\" and localMonth(\"&$D$12&\") =\"&$E$2&\" and LocalDay(\"&$D$12&\")=\"&$F$2&\" and Barix(\"&$D$12&\",reference:=StartOfSession)=\"&A39&\"\", \"Bar\", \"\", \"Close\",\"5\",\"0\",\"PrimaryOnly\",,,\"False\",\"T\",\"EveryTick\")","v":190.92},1.6180540770704663E-2,{"$f":"RTD(\"cqg.rtd\",,\"StudyData\", \"Close(\"&$D$12&\") when LocalYear(\"&$D$12&\")=\"&$D$3&\" and localMonth(\"&$D$12&\") =\"&$E$3&\" and LocalDay(\"&$D$12&\")=\"&$F$3&\" and Barix(\"&$D$12&\",reference:=StartOfSession)=\"&A39&\"\", \"Bar\", \"\", \"Close\",\"5\",\"0\",\"PrimaryOnly\",,,\"False\",\"T\",\"EveryTick\")","v":188.23},-1.1137378513265062E-2,{"$f":"RTD(\"cqg.rtd\",,\"StudyData\", \"Close(\"&$D$12&\") when LocalYear(\"&$D$12&\")=\"&$D$4&\" and localMonth(\"&$D$12&\") =\"&$E$4&\" and LocalDay(\"&$D$12&\")=\"&$F$4&\" and Barix(\"&$D$12&\",reference:=StartOfSession)=\"&A39&\"\", \"Bar\", \"\", \"Close\",\"5\",\"0\",\"PrimaryOnly\",,,\"False\",\"T\",\"EveryTick\")","v":190.97},2.0463847203273499E-3,{"$f":"RTD(\"cqg.rtd\",,\"StudyData\", \"Close(\"&$D$12&\") when LocalYear(\"&$D$12&\")=\"&$D$5&\" and localMonth(\"&$D$12&\") =\"&$E$5&\" and LocalDay(\"&$D$12&\")=\"&$F$5&\" and Barix(\"&$D$12&\",reference:=StartOfSession)=\"&A39&\"\", \"Bar\", \"\", \"Close\",\"5\",\"0\",\"PrimaryOnly\",,,\"False\",\"T\",\"EveryTick\")","v":190.04},1.1012395595041725E-2,{"$f":"RTD(\"cqg.rtd\",,\"StudyData\", \"Close(\"&$D$12&\") when LocalYear(\"&$D$12&\")=\"&$D$6&\" and localMonth(\"&$D$12&\") =\"&$E$6&\" and LocalDay(\"&$D$12&\")=\"&$F$6&\" and Barix(\"&$D$12&\",reference:=StartOfSession)=\"&A39&\"\", \"Bar\", \"\", \"Close\",\"5\",\"0\",\"PrimaryOnly\",,,\"False\",\"T\",\"EveryTick\")","v":187.66},1.2189859762675247E-2,{"$f":"RTD(\"cqg.rtd\",,\"StudyData\", \"Close(\"&$D$12&\") when LocalYear(\"&$D$12&\")=\"&$D$7&\" and localMonth(\"&$D$12&\") =\"&$E$7&\" and LocalDay(\"&$D$12&\")=\"&$F$7&\" and Barix(\"&$D$12&\",reference:=StartOfSession)=\"&A39&\"\", \"Bar\", \"\", \"Close\",\"5\",\"0\",\"PrimaryOnly\",,,\"False\",\"T\",\"EveryTick\")","v":185.91},1.0819921705089219E-2,{"$f":"RTD(\"cqg.rtd\",,\"StudyData\", \"Close(\"&$D$12&\") when LocalYear(\"&$D$12&\")=\"&$D$8&\" and localMonth(\"&$D$12&\") =\"&$E$8&\" and LocalDay(\"&$D$12&\")=\"&$F$8&\" and Barix(\"&$D$12&\",reference:=StartOfSession)=\"&A39&\"\", \"Bar\", \"\", \"Close\",\"5\",\"0\",\"PrimaryOnly\",,,\"False\",\"T\",\"EveryTick\")","v":185.07},-1.1272571855967591E-2,{"$f":"RTD(\"cqg.rtd\",,\"StudyData\", \"Close(\"&$D$12&\") when LocalYear(\"&$D$12&\")=\"&$D$9&\" and localMonth(\"&$D$12&\") =\"&$E$9&\" and LocalDay(\"&$D$12&\")=\"&$F$9&\" and Barix(\"&$D$12&\",reference:=StartOfSession)=\"&A39&\"\", \"Bar\", \"\", \"Close\",\"5\",\"0\",\"PrimaryOnly\",,,\"False\",\"T\",\"EveryTick\")","v":185.69},3.1332721084759551E-3,{"$f":"RTD(\"cqg.rtd\",,\"StudyData\", \"Close(\"&$D$12&\") when LocalYear(\"&$D$12&\")=\"&$D$10&\" and localMonth(\"&$D$12&\") =\"&$E$10&\" and LocalDay(\"&$D$12&\")=\"&$F$10&\" and Barix(\"&$D$12&\",reference:=StartOfSession)=\"&A39&\"\", \"Bar\", \"\", \"Close\",\"5\",\"0\",\"PrimaryOnly\",,,\"False\",\"T\",\"EveryTick\")","v":186.4},4.8517520215633726E-3,null,null,null,""]
[39,"11:45:00",{"$f":"C39+1","v":-38},{"$f":" RTD(\"cqg.rtd\",,\"StudyData\", $D$12,  \"Tick\", \"FlatTicks=0\", \"Tick\",\"D\",C40,\"PrimaryOnly\")","v":191.46},null,"YM",null,{"$f":"RTD(\"cqg.rtd\",,\"StudyData\", \"Close(\"&$D$12&\") when LocalYear(\"&$D$12&\")=\"&$D$1&\" and localMonth(\"&$D$12&\") =\"&$E$1&\" and LocalDay(\"&$D$12&\")=\"&$F$1&\" and Barix(\"&$D$12&\",reference:=StartOfSession)=\"&A40&\"\", \"Bar\", \"\", \"Close\",\"5\",\"0\",\"PrimaryOnly\",,,\"False\",\"T\",\"EveryTick\")","v":""},{"$error":"#N/A"},{"$f":"RTD(\"cqg.rtd\",,\"StudyData\", \"Close(\"&$D$12&\") when LocalYear(\"&$D$12&\")=\"&$D$2&\" and localMonth(\"&$D$12&\") =\"&$E$2&\" and LocalDay(\"&$D$12&\")=\"&$F$2&\" and Barix(\"&$D$12&\",reference:=StartOfSession)=\"&A40&\"\", \"Bar\", \"\", \"Close\",\"5\",\"0\",\"PrimaryOnly\",,,\"False\",\"T\",\"EveryTick\")","v":190.99},1.6553119012135478E-2,{"$f":"RTD(\"cqg.rtd\",,\"StudyData\", \"Close(\"&$D$12&\") when LocalYear(\"&$D$12&\")=\"&$D$3&\" and localMonth(\"&$D$12&\") =\"&$E$3&\" and LocalDay(\"&$D$12&\")=\"&$F$3&\" and Barix(\"&$D$12&\",reference:=StartOfSession)=\"&A40&\"\", \"Bar\", \"\", \"Close\",\"5\",\"0\",\"PrimaryOnly\",,,\"False\",\"T\",\"EveryTick\")","v":188.28},-1.0874704491725732E-2,{"$f":"RTD(\"cqg.rtd\",,\"StudyData\", \"Close(\"&$D$12&\") when LocalYear(\"&$D$12&\")=\"&$D$4&\" and localMonth(\"&$D$12&\") =\"&$E$4&\" and LocalDay(\"&$D$12&\")=\"&$F$4&\" and Barix(\"&$D$12&\",reference:=StartOfSession)=\"&A40&\"\", \"Bar\", \"\", \"Close\",\"5\",\"0\",\"PrimaryOnly\",,,\"False\",\"T\",\"EveryTick\")","v":190.97},2.0463847203273499E-3,{"$f":"RTD(\"cqg.rtd\",,\"StudyData\", \"Close(\"&$D$12&\") when LocalYear(\"&$D$12&\")=\"&$D$5&\" and localMonth(\"&$D$12&\") =\"&$E$5&\" and LocalDay(\"&$D$12&\")=\"&$F$5&\" and Barix(\"&$D$12&\",reference:=StartOfSession)=\"&A40&\"\", \"Bar\", \"\", \"Close\",\"5\",\"0\",\"PrimaryOnly\",,,\"False\",\"T\",\"EveryTick\")","v":189.99},1.0746395701441773E-2,{"$f":"RTD(\"cqg.rtd\",,\"StudyData\", \"Close(\"&$D$12&\") when LocalYear(\"&$D$12&\")=\"&$D$6&\" and localMonth(\"&$D$12&\") =\"&$E$6&\" and LocalDay(\"&$D$12&\")=\"&$F$6&\" and Barix(\"&$D$12&\",reference:=StartOfSession)=\"&A40&\"\", \"Bar\", \"\", \"Close\",\"5\",\"0\",\"PrimaryOnly\",,,\"False\",\"T\",\"EveryTick\")","v":187.54},1.1542610571736712E-2,{"$f":"RTD(\"cqg.rtd\",,\"StudyData\", \"Close(\"&$D$12&\") when LocalYear(\"&$D$12&\")=\"&$D$7&\" and localMonth(\"&$D$12&\") =\"&$E$7&\" and LocalDay(\"&$D$12&\")=\"&$F$7&\" and Barix(\"&$D$12&\",reference:=StartOfSession)=\"&A40&\"\", \"Bar\", \"\", \"Close\",\"5\",\"0\",\"PrimaryOnly\",,,\"False\",\"T\",\"EveryTick\")","v":185.75},9.9499782514137266E-3,{"$f":"RTD(\"cqg.rtd\",,\"StudyData\", \"Close(\"&$D$12&\") when LocalYear(\"&$D$12&\")=\"&$D$8&\" and localMonth(\"&$D$12&\") =\"&$E$8&\" and LocalDay(\"&$D$12&\")=\"&$F$8&\" and Barix(\"&$D$12&\",reference:=StartOfSession)=\"&A40&\"\", \"Bar\", \"\", \"Close\",\"5\",\"0\",\"PrimaryOnly\",,,\"False\",\"T\",\"EveryTick\")","v":184.77},-1.2875307190939184E-2,{"$f":"RTD(\"cqg.rtd\",,\"StudyData\", \"Close(\"&$D$12&\") when LocalYear(\"&$D$12&\")=\"&$D$9&\" and localMonth(\"&$D$12&\") =\"&$E$9&\" and LocalDay(\"&$D$12&\")=\"&$F$9&\" and Barix(\"&$D$12&\",reference:=StartOfSession)=\"&A40&\"\", \"Bar\", \"\", \"Close\",\"5\",\"0\",\"PrimaryOnly\",,,\"False\",\"T\",\"EveryTick\")","v":185.9},4.267732699475944E-3,{"$f":"RTD(\"cqg.rtd\",,\"StudyData\", \"Close(\"&$D$12&\") when LocalYear(\"&$D$12&\")=\"&$D$10&\" and localMonth(\"&$D$12&\") =\"&$E$10&\" and LocalDay(\"&$D$12&\")=\"&$F$10&\" and Barix(\"&$D$12&\",reference:=StartOfSession)=\"&A40&\"\", \"Bar\", \"\", \"Close\",\"5\",\"0\",\"PrimaryOnly\",,,\"False\",\"T\",\"EveryTick\")","v":186.2},3.7735849056603162E-3,null,null,null,""]
[40,"11:50:00",-37,{"$f":" RTD(\"cqg.rtd\",,\"StudyData\", $D$12,  \"Tick\", \"FlatTicks=0\", \"Tick\",\"D\",C41,\"PrimaryOnly\")","v":191.45},null,"RTY",null,{"$f":"RTD(\"cqg.rtd\",,\"StudyData\", \"Close(\"&$D$12&\") when LocalYear(\"&$D$12&\")=\"&$D$1&\" and localMonth(\"&$D$12&\") =\"&$E$1&\" and LocalDay(\"&$D$12&\")=\"&$F$1&\" and Barix(\"&$D$12&\",reference:=StartOfSession)=\"&A41&\"\", \"Bar\", \"\", \"Close\",\"5\",\"0\",\"PrimaryOnly\",,,\"False\",\"T\",\"EveryTick\")","v":""},{"$error":"#N/A"},{"$f":"RTD(\"cqg.rtd\",,\"StudyData\", \"Close(\"&$D$12&\") when LocalYear(\"&$D$12&\")=\"&$D$2&\" and localMonth(\"&$D$12&\") =\"&$E$2&\" and LocalDay(\"&$D$12&\")=\"&$F$2&\" and Barix(\"&$D$12&\",reference:=StartOfSession)=\"&A41&\"\", \"Bar\", \"\", \"Close\",\"5\",\"0\",\"PrimaryOnly\",,,\"False\",\"T\",\"EveryTick\")","v":191.21},1.7724079199489103E-2,{"$f":"RTD(\"cqg.rtd\",,\"StudyData\", \"Close(\"&$D$12&\") when LocalYear(\"&$D$12&\")=\"&$D$3&\" and localMonth(\"&$D$12&\") =\"&$E$3&\" and LocalDay(\"&$D$12&\")=\"&$F$3&\" and Barix(\"&$D$12&\",reference:=StartOfSession)=\"&A41&\"\", \"Bar\", \"\", \"Close\",\"5\",\"0\",\"PrimaryOnly\",,,\"False\",\"T\",\"EveryTick\")","v":188.18},-1.1400052534804243E-2,{"$f":"RTD(\"cqg.rtd\",,\"StudyData\", \"Close(\"&$D$12&\") when LocalYear(\"&$D$12&\")=\"&$D$4&\" and localMonth(\"&$D$12&\") =\"&$E$4&\" and LocalDay(\"&$D$12&\")=\"&$F$4&\" and Barix(\"&$D$12&\",reference:=StartOfSession)=\"&A41&\"\", \"Bar\", \"\", \"Close\",\"5\",\"0\",\"PrimaryOnly\",,,\"False\",\"T\",\"EveryTick\")","v":190.94},1.8889705110713883E-3,{"$f":"RTD(\"cqg.rtd\",,\"StudyData\", \"Close(\"&$D$12&\") when LocalYear(\"&$D$12&\")=\"&$D$5&\" and localMonth(\"&$D$12&\") =\"&$E$5&\" and LocalDay(\"&$D$12&\")=\"&$F$5&\" and Barix(\"&$D$12&\",reference:=StartOfSession)=\"&A41&\"\", \"Bar\", \"\", \"Close\",\"5\",\"0\",\"PrimaryOnly\",,,\"False\",\"T\",\"EveryTick\")","v":190.02},1.0905995637601806E-2,{"$f":"RTD(\"cqg.rtd\",,\"StudyData\", \"Close(\"&$D$12&\") when LocalYear(\"&$D$12&\")=\"&$D$6&\" and localMonth(\"&$D$12&\") =\"&$E$6&\" and LocalDay(\"&$D$12&\")=\"&$F$6&\" and Barix(\"&$D$12&\",reference:=StartOfSession)=\"&A41&\"\", \"Bar\", \"\", \"Close\",\"5\",\"0\",\"PrimaryOnly\",,,\"False\",\"T\",\"EveryTick\")","v":187.6},1.1866235167205979E-2,{"$f":"RTD(\"cqg.rtd\",,\"StudyData\", \"Close(\"&$D$12&\") when LocalYear(\"&$D$12&\")=\"&$D$7&\" and localMonth(\"&$D$12&\") =\"&$E$7&\" and LocalDay(\"&$D$12&\")=\"&$F$7&\" and Barix(\"&$D$12&\",reference:=StartOfSession)=\"&A41&\"\", \"Bar\", \"\", \"Close\",\"5\",\"0\",\"PrimaryOnly\",,,\"False\",\"T\",\"EveryTick\")","v":185.74},9.8956067855590565E-3,{"$f":"RTD(\"cqg.rtd\",,\"StudyData\", \"Close(\"&$D$12&\") when LocalYear(\"&$D$12&\")=\"&$D$8&\" and localMonth(\"&$D$12&\") =\"&$E$8&\" and LocalDay(\"&$D$12&\")=\"&$F$8&\" and Barix(\"&$D$12&\",reference:=StartOfSession)=\"&A41&\"\", \"Bar\", \"\", \"Close\",\"5\",\"0\",\"PrimaryOnly\",,,\"False\",\"T\",\"EveryTick\")","v":184.12},-1.6347900416711199E-2,{"$f":"RTD(\"cqg.rtd\",,\"StudyData\", \"Close(\"&$D$12&\") when LocalYear(\"&$D$12&\")=\"&$D$9&\" and localMonth(\"&$D$12&\") =\"&$E$9&\" and LocalDay(\"&$D$12&\")=\"&$F$9&\" and Barix(\"&$D$12&\",reference:=StartOfSession)=\"&A41&\"\", \"Bar\", \"\", \"Close\",\"5\",\"0\",\"PrimaryOnly\",,,\"False\",\"T\",\"EveryTick\")","v":185.88},4.1596888336663702E-3,{"$f":"RTD(\"cqg.rtd\",,\"StudyData\", \"Close(\"&$D$12&\") when LocalYear(\"&$D$12&\")=\"&$D$10&\" and localMonth(\"&$D$12&\") =\"&$E$10&\" and LocalDay(\"&$D$12&\")=\"&$F$10&\" and Barix(\"&$D$12&\",reference:=StartOfSession)=\"&A41&\"\", \"Bar\", \"\", \"Close\",\"5\",\"0\",\"PrimaryOnly\",,,\"False\",\"T\",\"EveryTick\")","v":186.12},3.3423180592992161E-3,null,null,null,""]
[41,"11:55:00",-36,{"$f":" RTD(\"cqg.rtd\",,\"StudyData\", $D$12,  \"Tick\", \"FlatTicks=0\", \"Tick\",\"D\",C42,\"PrimaryOnly\")","v":191.46},null,"EMD",null,{"$f":"RTD(\"cqg.rtd\",,\"StudyData\", \"Close(\"&$D$12&\") when LocalYear(\"&$D$12&\")=\"&$D$1&\" and localMonth(\"&$D$12&\") =\"&$E$1&\" and LocalDay(\"&$D$12&\")=\"&$F$1&\" and Barix(\"&$D$12&\",reference:=StartOfSession)=\"&A42&\"\", \"Bar\", \"\", \"Close\",\"5\",\"0\",\"PrimaryOnly\",,,\"False\",\"T\",\"EveryTick\")","v":""},{"$error":"#N/A"},{"$f":"RTD(\"cqg.rtd\",,\"StudyData\", \"Close(\"&$D$12&\") when LocalYear(\"&$D$12&\")=\"&$D$2&\" and localMonth(\"&$D$12&\") =\"&$E$2&\" and LocalDay(\"&$D$12&\")=\"&$F$2&\" and Barix(\"&$D$12&\",reference:=StartOfSession)=\"&A42&\"\", \"Bar\", \"\", \"Close\",\"5\",\"0\",\"PrimaryOnly\",,,\"False\",\"T\",\"EveryTick\")","v":191.2},1.7670853736427471E-2,{"$f":"RTD(\"cqg.rtd\",,\"StudyData\", \"Close(\"&$D$12&\") when LocalYear(\"&$D$12&\")=\"&$D$3&\" and localMonth(\"&$D$12&\") =\"&$E$3&\" and LocalDay(\"&$D$12&\")=\"&$F$3&\" and Barix(\"&$D$12&\",reference:=StartOfSession)=\"&A42&\"\", \"Bar\", \"\", \"Close\",\"5\",\"0\",\"PrimaryOnly\",,,\"False\",\"T\",\"EveryTick\")","v":187.99},-1.2398213816653455E-2,{"$f":"RTD(\"cqg.rtd\",,\"StudyData\", \"Close(\"&$D$12&\") when LocalYear(\"&$D$12&\")=\"&$D$4&\" and localMonth(\"&$D$12&\") =\"&$E$4&\" and LocalDay(\"&$D$12&\")=\"&$F$4&\" and Barix(\"&$D$12&\",reference:=StartOfSession)=\"&A42&\"\", \"Bar\", \"\", \"Close\",\"5\",\"0\",\"PrimaryOnly\",,,\"False\",\"T\",\"EveryTick\")","v":190.87},1.5216706894741947E-3,{"$f":"RTD(\"cqg.rtd\",,\"StudyData\", \"Close(\"&$D$12&\") when LocalYear(\"&$D$12&\")=\"&$D$5&\" and localMonth(\"&$D$12&\") =\"&$E$5&\" and LocalDay(\"&$D$12&\")=\"&$F$5&\" and Barix(\"&$D$12&\",reference:=StartOfSession)=\"&A42&\"\", \"Bar\", \"\", \"Close\",\"5\",\"0\",\"PrimaryOnly\",,,\"False\",\"T\",\"EveryTick\")","v":189.97},1.0639995744001703E-2,{"$f":"RTD(\"cqg.rtd\",,\"StudyData\", \"Close(\"&$D$12&\") when LocalYear(\"&$D$12&\")=\"&$D$6&\" and localMonth(\"&$D$12&\") =\"&$E$6&\" and LocalDay(\"&$D$12&\")=\"&$F$6&\" and Barix(\"&$D$12&\",reference:=StartOfSession)=\"&A42&\"\", \"Bar\", \"\", \"Close\",\"5\",\"0\",\"PrimaryOnly\",,,\"False\",\"T\",\"EveryTick\")","v":187.68},1.2297734627831722E-2,{"$f":"RTD(\"cqg.rtd\",,\"StudyData\", \"Close(\"&$D$12&\") when LocalYear(\"&$D$12&\")=\"&$D$7&\" and localMonth(\"&$D$12&\") =\"&$E$7&\" and LocalDay(\"&$D$12&\")=\"&$F$7&\" and Barix(\"&$D$12&\",reference:=StartOfSession)=\"&A42&\"\", \"Bar\", \"\", \"Close\",\"5\",\"0\",\"PrimaryOnly\",,,\"False\",\"T\",\"EveryTick\")","v":185.81},1.0276207046542056E-2,{"$f":"RTD(\"cqg.rtd\",,\"StudyData\", \"Close(\"&$D$12&\") when LocalYear(\"&$D$12&\")=\"&$D$8&\" and localMonth(\"&$D$12&\") =\"&$E$8&\" and LocalDay(\"&$D$12&\")=\"&$F$8&\" and Barix(\"&$D$12&\",reference:=StartOfSession)=\"&A42&\"\", \"Bar\", \"\", \"Close\",\"5\",\"0\",\"PrimaryOnly\",,,\"False\",\"T\",\"EveryTick\")","v":183.64},-1.8912276952665993E-2,{"$f":"RTD(\"cqg.rtd\",,\"StudyData\", \"Close(\"&$D$12&\") when LocalYear(\"&$D$12&\")=\"&$D$9&\" and localMonth(\"&$D$12&\") =\"&$E$9&\" and LocalDay(\"&$D$12&\")=\"&$F$9&\" and Barix(\"&$D$12&\",reference:=StartOfSession)=\"&A42&\"\", \"Bar\", \"\", \"Close\",\"5\",\"0\",\"PrimaryOnly\",,,\"False\",\"T\",\"EveryTick\")","v":185.81},3.7815353033330916E-3,{"$f":"RTD(\"cqg.rtd\",,\"StudyData\", \"Close(\"&$D$12&\") when LocalYear(\"&$D$12&\")=\"&$D$10&\" and localMonth(\"&$D$12&\") =\"&$E$10&\" and LocalDay(\"&$D$12&\")=\"&$F$10&\" and Barix(\"&$D$12&\",reference:=StartOfSession)=\"&A42&\"\", \"Bar\", \"\", \"Close\",\"5\",\"0\",\"PrimaryOnly\",,,\"False\",\"T\",\"EveryTick\")","v":186.13},3.3962264150943153E-3,null,null,null,""]
[42,"12:00:00",-35,{"$f":" RTD(\"cqg.rtd\",,\"StudyData\", $D$12,  \"Tick\", \"FlatTicks=0\", \"Tick\",\"D\",C43,\"PrimaryOnly\")","v":191.47},null,"FTS",null,{"$f":"RTD(\"cqg.rtd\",,\"StudyData\", \"Close(\"&$D$12&\") when LocalYear(\"&$D$12&\")=\"&$D$1&\" and localMonth(\"&$D$12&\") =\"&$E$1&\" and LocalDay(\"&$D$12&\")=\"&$F$1&\" and Barix(\"&$D$12&\",reference:=StartOfSession)=\"&A43&\"\", \"Bar\", \"\", \"Close\",\"5\",\"0\",\"PrimaryOnly\",,,\"False\",\"T\",\"EveryTick\")","v":""},{"$error":"#N/A"},{"$f":"RTD(\"cqg.rtd\",,\"StudyData\", \"Close(\"&$D$12&\") when LocalYear(\"&$D$12&\")=\"&$D$2&\" and localMonth(\"&$D$12&\") =\"&$E$2&\" and LocalDay(\"&$D$12&\")=\"&$F$2&\" and Barix(\"&$D$12&\",reference:=StartOfSession)=\"&A43&\"\", \"Bar\", \"\", \"Close\",\"5\",\"0\",\"PrimaryOnly\",,,\"False\",\"T\",\"EveryTick\")","v":191.34},1.8416010219288952E-2,{"$f":"RTD(\"cqg.rtd\",,\"StudyData\", \"Close(\"&$D$12&\") when LocalYear(\"&$D$12&\")=\"&$D$3&\" and localMonth(\"&$D$12&\") =\"&$E$3&\" and LocalDay(\"&$D$12&\")=\"&$F$3&\" and Barix(\"&$D$12&\",reference:=StartOfSession)=\"&A43&\"\", \"Bar\", \"\", \"Close\",\"5\",\"0\",\"PrimaryOnly\",,,\"False\",\"T\",\"EveryTick\")","v":188.01},-1.2293144208037843E-2,{"$f":"RTD(\"cqg.rtd\",,\"StudyData\", \"Close(\"&$D$12&\") when LocalYear(\"&$D$12&\")=\"&$D$4&\" and localMonth(\"&$D$12&\") =\"&$E$4&\" and LocalDay(\"&$D$12&\")=\"&$F$4&\" and Barix(\"&$D$12&\",reference:=StartOfSession)=\"&A43&\"\", \"Bar\", \"\", \"Close\",\"5\",\"0\",\"PrimaryOnly\",,,\"False\",\"T\",\"EveryTick\")","v":190.89},1.6266134956447363E-3,{"$f":"RTD(\"cqg.rtd\",,\"StudyData\", \"Close(\"&$D$12&\") when LocalYear(\"&$D$12&\")=\"&$D$5&\" and localMonth(\"&$D$12&\") =\"&$E$5&\" and LocalDay(\"&$D$12&\")=\"&$F$5&\" and Barix(\"&$D$12&\",reference:=StartOfSession)=\"&A43&\"\", \"Bar\", \"\", \"Close\",\"5\",\"0\",\"PrimaryOnly\",,,\"False\",\"T\",\"EveryTick\")","v":189.91},1.0320795871681639E-2,{"$f":"RTD(\"cqg.rtd\",,\"StudyData\", \"Close(\"&$D$12&\") when LocalYear(\"&$D$12&\")=\"&$D$6&\" and localMonth(\"&$D$12&\") =\"&$E$6&\" and LocalDay(\"&$D$12&\")=\"&$F$6&\" and Barix(\"&$D$12&\",reference:=StartOfSession)=\"&A43&\"\", \"Bar\", \"\", \"Close\",\"5\",\"0\",\"PrimaryOnly\",,,\"False\",\"T\",\"EveryTick\")","v":187.71},1.2459546925566355E-2,{"$f":"RTD(\"cqg.rtd\",,\"StudyData\", \"Close(\"&$D$12&\") when LocalYear(\"&$D$12&\")=\"&$D$7&\" and localMonth(\"&$D$12&\") =\"&$E$7&\" and LocalDay(\"&$D$12&\")=\"&$F$7&\" and Barix(\"&$D$12&\",reference:=StartOfSession)=\"&A43&\"\", \"Bar\", \"\", \"Close\",\"5\",\"0\",\"PrimaryOnly\",,,\"False\",\"T\",\"EveryTick\")","v":185.9},1.0765550239234549E-2,{"$f":"RTD(\"cqg.rtd\",,\"StudyData\", \"Close(\"&$D$12&\") when LocalYear(\"&$D$12&\")=\"&$D$8&\" and localMonth(\"&$D$12&\") =\"&$E$8&\" and LocalDay(\"&$D$12&\")=\"&$F$8&\" and Barix(\"&$D$12&\",reference:=StartOfSession)=\"&A43&\"\", \"Bar\", \"\", \"Close\",\"5\",\"0\",\"PrimaryOnly\",,,\"False\",\"T\",\"EveryTick\")","v":""},{"$error":"#N/A"},{"$f":"RTD(\"cqg.rtd\",,\"StudyData\", \"Close(\"&$D$12&\") when LocalYear(\"&$D$12&\")=\"&$D$9&\" and localMonth(\"&$D$12&\") =\"&$E$9&\" and LocalDay(\"&$D$12&\")=\"&$F$9&\" and Barix(\"&$D$12&\",reference:=StartOfSession)=\"&A43&\"\", \"Bar\", \"\", \"Close\",\"5\",\"0\",\"PrimaryOnly\",,,\"False\",\"T\",\"EveryTick\")","v":185.76},3.5114256388092337E-3,{"$f":"RTD(\"cqg.rtd\",,\"StudyData\", \"Close(\"&$D$12&\") when LocalYear(\"&$D$12&\")=\"&$D$10&\" and localMonth(\"&$D$12&\") =\"&$E$10&\" and LocalDay(\"&$D$12&\")=\"&$F$10&\" and Barix(\"&$D$12&\",reference:=StartOfSession)=\"&A43&\"\", \"Bar\", \"\", \"Close\",\"5\",\"0\",\"PrimaryOnly\",,,\"False\",\"T\",\"EveryTick\")","v":186.08},3.1266846361186658E-3,null,null,null,""]
[43,"12:05:00",-34,{"$f":" RTD(\"cqg.rtd\",,\"StudyData\", $D$12,  \"Tick\", \"FlatTicks=0\", \"Tick\",\"D\",C44,\"PrimaryOnly\")","v":191.48},null,"BTC",null,{"$f":"RTD(\"cqg.rtd\",,\"StudyData\", \"Close(\"&$D$12&\") when LocalYear(\"&$D$12&\")=\"&$D$1&\" and localMonth(\"&$D$12&\") =\"&$E$1&\" and LocalDay(\"&$D$12&\")=\"&$F$1&\" and Barix(\"&$D$12&\",reference:=StartOfSession)=\"&A44&\"\", \"Bar\", \"\", \"Close\",\"5\",\"0\",\"PrimaryOnly\",,,\"False\",\"T\",\"EveryTick\")","v":""},{"$error":"#N/A"},{"$f":"RTD(\"cqg.rtd\",,\"StudyData\", \"Close(\"&$D$12&\") when LocalYear(\"&$D$12&\")=\"&$D$2&\" and localMonth(\"&$D$12&\") =\"&$E$2&\" and LocalDay(\"&$D$12&\")=\"&$F$2&\" and Barix(\"&$D$12&\",reference:=StartOfSession)=\"&A44&\"\", \"Bar\", \"\", \"Close\",\"5\",\"0\",\"PrimaryOnly\",,,\"False\",\"T\",\"EveryTick\")","v":191.32},1.8309559293165838E-2,{"$f":"RTD(\"cqg.rtd\",,\"StudyData\", \"Close(\"&$D$12&\") when LocalYear(\"&$D$12&\")=\"&$D$3&\" and localMonth(\"&$D$12&\") =\"&$E$3&\" and LocalDay(\"&$D$12&\")=\"&$F$3&\" and Barix(\"&$D$12&\",reference:=StartOfSession)=\"&A44&\"\", \"Bar\", \"\", \"Close\",\"5\",\"0\",\"PrimaryOnly\",,,\"False\",\"T\",\"EveryTick\")","v":187.98},-1.2450748620961412E-2,{"$f":"RTD(\"cqg.rtd\",,\"StudyData\", \"Close(\"&$D$12&\") when LocalYear(\"&$D$12&\")=\"&$D$4&\" and localMonth(\"&$D$12&\") =\"&$E$4&\" and LocalDay(\"&$D$12&\")=\"&$F$4&\" and Barix(\"&$D$12&\",reference:=StartOfSession)=\"&A44&\"\", \"Bar\", \"\", \"Close\",\"5\",\"0\",\"PrimaryOnly\",,,\"False\",\"T\",\"EveryTick\")","v":190.66},4.1977122468246446E-4,{"$f":"RTD(\"cqg.rtd\",,\"StudyData\", \"Close(\"&$D$12&\") when LocalYear(\"&$D$12&\")=\"&$D$5&\" and localMonth(\"&$D$12&\") =\"&$E$5&\" and LocalDay(\"&$D$12&\")=\"&$F$5&\" and Barix(\"&$D$12&\",reference:=StartOfSession)=\"&A44&\"\", \"Bar\", \"\", \"Close\",\"5\",\"0\",\"PrimaryOnly\",,,\"False\",\"T\",\"EveryTick\")","v":189.88},1.0161195935521608E-2,{"$f":"RTD(\"cqg.rtd\",,\"StudyData\", \"Close(\"&$D$12&\") when LocalYear(\"&$D$12&\")=\"&$D$6&\" and localMonth(\"&$D$12&\") =\"&$E$6&\" and LocalDay(\"&$D$12&\")=\"&$F$6&\" and Barix(\"&$D$12&\",reference:=StartOfSession)=\"&A44&\"\", \"Bar\", \"\", \"Close\",\"5\",\"0\",\"PrimaryOnly\",,,\"False\",\"T\",\"EveryTick\")","v":187.6},1.1866235167205979E-2,{"$f":"RTD(\"cqg.rtd\",,\"StudyData\", \"Close(\"&$D$12&\") when LocalYear(\"&$D$12&\")=\"&$D$7&\" and localMonth(\"&$D$12&\") =\"&$E$7&\" and LocalDay(\"&$D$12&\")=\"&$F$7&\" and Barix(\"&$D$12&\",reference:=StartOfSession)=\"&A44&\"\", \"Bar\", \"\", \"Close\",\"5\",\"0\",\"PrimaryOnly\",,,\"False\",\"T\",\"EveryTick\")","v":185.73},9.8412353197042321E-3,{"$f":"RTD(\"cqg.rtd\",,\"StudyData\", \"Close(\"&$D$12&\") when LocalYear(\"&$D$12&\")=\"&$D$8&\" and localMonth(\"&$D$12&\") =\"&$E$8&\" and LocalDay(\"&$D$12&\")=\"&$F$8&\" and Barix(\"&$D$12&\",reference:=StartOfSession)=\"&A44&\"\", \"Bar\", \"\", \"Close\",\"5\",\"0\",\"PrimaryOnly\",,,\"False\",\"T\",\"EveryTick\")","v":""},{"$error":"#N/A"},{"$f":"RTD(\"cqg.rtd\",,\"StudyData\", \"Close(\"&$D$12&\") when LocalYear(\"&$D$12&\")=\"&$D$9&\" and localMonth(\"&$D$12&\") =\"&$E$9&\" and LocalDay(\"&$D$12&\")=\"&$F$9&\" and Barix(\"&$D$12&\",reference:=StartOfSession)=\"&A44&\"\", \"Bar\", \"\", \"Close\",\"5\",\"0\",\"PrimaryOnly\",,,\"False\",\"T\",\"EveryTick\")","v":185.68},3.079250175571245E-3,{"$f":"RTD(\"cqg.rtd\",,\"StudyData\", \"Close(\"&$D$12&\") when LocalYear(\"&$D$12&\")=\"&$D$10&\" and localMonth(\"&$D$12&\") =\"&$E$10&\" and LocalDay(\"&$D$12&\")=\"&$F$10&\" and Barix(\"&$D$12&\",reference:=StartOfSession)=\"&A44&\"\", \"Bar\", \"\", \"Close\",\"5\",\"0\",\"PrimaryOnly\",,,\"False\",\"T\",\"EveryTick\")","v":186.19},3.719676549865217E-3,null,null,null,""]
[44,"12:10:00",-33,{"$f":" RTD(\"cqg.rtd\",,\"StudyData\", $D$12,  \"Tick\", \"FlatTicks=0\", \"Tick\",\"D\",C45,\"PrimaryOnly\")","v":191.47},null,null,null,{"$f":"RTD(\"cqg.rtd\",,\"StudyData\", \"Close(\"&$D$12&\") when LocalYear(\"&$D$12&\")=\"&$D$1&\" and localMonth(\"&$D$12&\") =\"&$E$1&\" and LocalDay(\"&$D$12&\")=\"&$F$1&\" and Barix(\"&$D$12&\",reference:=StartOfSession)=\"&A45&\"\", \"Bar\", \"\", \"Close\",\"5\",\"0\",\"PrimaryOnly\",,,\"False\",\"T\",\"EveryTick\")","v":""},{"$error":"#N/A"},{"$f":"RTD(\"cqg.rtd\",,\"StudyData\", \"Close(\"&$D$12&\") when LocalYear(\"&$D$12&\")=\"&$D$2&\" and localMonth(\"&$D$12&\") =\"&$E$2&\" and LocalDay(\"&$D$12&\")=\"&$F$2&\" and Barix(\"&$D$12&\",reference:=StartOfSession)=\"&A45&\"\", \"Bar\", \"\", \"Close\",\"5\",\"0\",\"PrimaryOnly\",,,\"False\",\"T\",\"EveryTick\")","v":191.17},1.751117734724288E-2,{"$f":"RTD(\"cqg.rtd\",,\"StudyData\", \"Close(\"&$D$12&\") when LocalYear(\"&$D$12&\")=\"&$D$3&\" and localMonth(\"&$D$12&\") =\"&$E$3&\" and LocalDay(\"&$D$12&\")=\"&$F$3&\" and Barix(\"&$D$12&\",reference:=StartOfSession)=\"&A45&\"\", \"Bar\", \"\", \"Close\",\"5\",\"0\",\"PrimaryOnly\",,,\"False\",\"T\",\"EveryTick\")","v":188.04},-1.2135539795114276E-2,{"$f":"RTD(\"cqg.rtd\",,\"StudyData\", \"Close(\"&$D$12&\") when LocalYear(\"&$D$12&\")=\"&$D$4&\" and localMonth(\"&$D$12&\") =\"&$E$4&\" and LocalDay(\"&$D$12&\")=\"&$F$4&\" and Barix(\"&$D$12&\",reference:=StartOfSession)=\"&A45&\"\", \"Bar\", \"\", \"Close\",\"5\",\"0\",\"PrimaryOnly\",,,\"False\",\"T\",\"EveryTick\")","v":190.74},8.3954244936507811E-4,{"$f":"RTD(\"cqg.rtd\",,\"StudyData\", \"Close(\"&$D$12&\") when LocalYear(\"&$D$12&\")=\"&$D$5&\" and localMonth(\"&$D$12&\") =\"&$E$5&\" and LocalDay(\"&$D$12&\")=\"&$F$5&\" and Barix(\"&$D$12&\",reference:=StartOfSession)=\"&A45&\"\", \"Bar\", \"\", \"Close\",\"5\",\"0\",\"PrimaryOnly\",,,\"False\",\"T\",\"EveryTick\")","v":189.88},1.0161195935521608E-2,{"$f":"RTD(\"cqg.rtd\",,\"StudyData\", \"Close(\"&$D$12&\") when LocalYear(\"&$D$12&\")=\"&$D$6&\" and localMonth(\"&$D$12&\") =\"&$E$6&\" and LocalDay(\"&$D$12&\")=\"&$F$6&\" and Barix(\"&$D$12&\",reference:=StartOfSession)=\"&A45&\"\", \"Bar\", \"\", \"Close\",\"5\",\"0\",\"PrimaryOnly\",,,\"False\",\"T\",\"EveryTick\")","v":187.44},1.1003236245954649E-2,{"$f":"RTD(\"cqg.rtd\",,\"StudyData\", \"Close(\"&$D$12&\") when LocalYear(\"&$D$12&\")=\"&$D$7&\" and localMonth(\"&$D$12&\") =\"&$E$7&\" and LocalDay(\"&$D$12&\")=\"&$F$7&\" and Barix(\"&$D$12&\",reference:=StartOfSession)=\"&A45&\"\", \"Bar\", \"\", \"Close\",\"5\",\"0\",\"PrimaryOnly\",,,\"False\",\"T\",\"EveryTick\")","v":185.77},1.0058721183123221E-2,{"$f":"RTD(\"cqg.rtd\",,\"StudyData\", \"Close(\"&$D$12&\") when LocalYear(\"&$D$12&\")=\"&$D$8&\" and localMonth(\"&$D$12&\") =\"&$E$8&\" and LocalDay(\"&$D$12&\")=\"&$F$8&\" and Barix(\"&$D$12&\",reference:=StartOfSession)=\"&A45&\"\", \"Bar\", \"\", \"Close\",\"5\",\"0\",\"PrimaryOnly\",,,\"False\",\"T\",\"EveryTick\")","v":""},{"$error":"#N/A"},{"$f":"RTD(\"cqg.rtd\",,\"StudyData\", \"Close(\"&$D$12&\") when LocalYear(\"&$D$12&\")=\"&$D$9&\" and localMonth(\"&$D$12&\") =\"&$E$9&\" and LocalDay(\"&$D$12&\")=\"&$F$9&\" and Barix(\"&$D$12&\",reference:=StartOfSession)=\"&A45&\"\", \"Bar\", \"\", \"Close\",\"5\",\"0\",\"PrimaryOnly\",,,\"False\",\"T\",\"EveryTick\")","v":185.43},1.7287018529522616E-3,{"$f":"RTD(\"cqg.rtd\",,\"StudyData\", \"Close(\"&$D$12&\") when LocalYear(\"&$D$12&\")=\"&$D$10&\" and localMonth(\"&$D$12&\") =\"&$E$10&\" and LocalDay(\"&$D$12&\")=\"&$F$10&\" and Barix(\"&$D$12&\",reference:=StartOfSession)=\"&A45&\"\", \"Bar\", \"\", \"Close\",\"5\",\"0\",\"PrimaryOnly\",,,\"False\",\"T\",\"EveryTick\")","v":186.24},3.9892183288410196E-3,null,null,null,""]
[45,"12:15:00",-32,{"$f":" RTD(\"cqg.rtd\",,\"StudyData\", $D$12,  \"Tick\", \"FlatTicks=0\", \"Tick\",\"D\",C46,\"PrimaryOnly\")","v":191.45},null,null,null,{"$f":"RTD(\"cqg.rtd\",,\"StudyData\", \"Close(\"&$D$12&\") when LocalYear(\"&$D$12&\")=\"&$D$1&\" and localMonth(\"&$D$12&\") =\"&$E$1&\" and LocalDay(\"&$D$12&\")=\"&$F$1&\" and Barix(\"&$D$12&\",reference:=StartOfSession)=\"&A46&\"\", \"Bar\", \"\", \"Close\",\"5\",\"0\",\"PrimaryOnly\",,,\"False\",\"T\",\"EveryTick\")","v":""},{"$error":"#N/A"},{"$f":"RTD(\"cqg.rtd\",,\"StudyData\", \"Close(\"&$D$12&\") when LocalYear(\"&$D$12&\")=\"&$D$2&\" and localMonth(\"&$D$12&\") =\"&$E$2&\" and LocalDay(\"&$D$12&\")=\"&$F$2&\" and Barix(\"&$D$12&\",reference:=StartOfSession)=\"&A46&\"\", \"Bar\", \"\", \"Close\",\"5\",\"0\",\"PrimaryOnly\",,,\"False\",\"T\",\"EveryTick\")","v":191.16},1.7457951884181398E-2,{"$f":"RTD(\"cqg.rtd\",,\"StudyData\", \"Close(\"&$D$12&\") when LocalYear(\"&$D$12&\")=\"&$D$3&\" and localMonth(\"&$D$12&\") =\"&$E$3&\" and LocalDay(\"&$D$12&\")=\"&$F$3&\" and Barix(\"&$D$12&\",reference:=StartOfSession)=\"&A46&\"\", \"Bar\", \"\", \"Close\",\"5\",\"0\",\"PrimaryOnly\",,,\"False\",\"T\",\"EveryTick\")","v":188.12},-1.1715261360651378E-2,{"$f":"RTD(\"cqg.rtd\",,\"StudyData\", \"Close(\"&$D$12&\") when LocalYear(\"&$D$12&\")=\"&$D$4&\" and localMonth(\"&$D$12&\") =\"&$E$4&\" and LocalDay(\"&$D$12&\")=\"&$F$4&\" and Barix(\"&$D$12&\",reference:=StartOfSession)=\"&A46&\"\", \"Bar\", \"\", \"Close\",\"5\",\"0\",\"PrimaryOnly\",,,\"False\",\"T\",\"EveryTick\")","v":190.74},8.3954244936507811E-4,{"$f":"RTD(\"cqg.rtd\",,\"StudyData\", \"Close(\"&$D$12&\") when LocalYear(\"&$D$12&\")=\"&$D$5&\" and localMonth(\"&$D$12&\") =\"&$E$5&\" and LocalDay(\"&$D$12&\")=\"&$F$5&\" and Barix(\"&$D$12&\",reference:=StartOfSession)=\"&A46&\"\", \"Bar\", \"\", \"Close\",\"5\",\"0\",\"PrimaryOnly\",,,\"False\",\"T\",\"EveryTick\")","v":190.06},1.1118795552481797E-2,{"$f":"RTD(\"cqg.rtd\",,\"StudyData\", \"Close(\"&$D$12&\") when LocalYear(\"&$D$12&\")=\"&$D$6&\" and localMonth(\"&$D$12&\") =\"&$E$6&\" and LocalDay(\"&$D$12&\")=\"&$F$6&\" and Barix(\"&$D$12&\",reference:=StartOfSession)=\"&A46&\"\", \"Bar\", \"\", \"Close\",\"5\",\"0\",\"PrimaryOnly\",,,\"False\",\"T\",\"EveryTick\")","v":187.55},1.1596548004315026E-2,{"$f":"RTD(\"cqg.rtd\",,\"StudyData\", \"Close(\"&$D$12&\") when LocalYear(\"&$D$12&\")=\"&$D$7&\" and localMonth(\"&$D$12&\") =\"&$E$7&\" and LocalDay(\"&$D$12&\")=\"&$F$7&\" and Barix(\"&$D$12&\",reference:=StartOfSession)=\"&A46&\"\", \"Bar\", \"\", \"Close\",\"5\",\"0\",\"PrimaryOnly\",,,\"False\",\"T\",\"EveryTick\")","v":185.81},1.0276207046542056E-2,{"$f":"RTD(\"cqg.rtd\",,\"StudyData\", \"Close(\"&$D$12&\") when LocalYear(\"&$D$12&\")=\"&$D$8&\" and localMonth(\"&$D$12&\") =\"&$E$8&\" and LocalDay(\"&$D$12&\")=\"&$F$8&\" and Barix(\"&$D$12&\",reference:=StartOfSession)=\"&A46&\"\", \"Bar\", \"\", \"Close\",\"5\",\"0\",\"PrimaryOnly\",,,\"False\",\"T\",\"EveryTick\")","v":""},{"$error":"#N/A"},{"$f":"RTD(\"cqg.rtd\",,\"StudyData\", \"Close(\"&$D$12&\") when LocalYear(\"&$D$12&\")=\"&$D$9&\" and localMonth(\"&$D$12&\") =\"&$E$9&\" and LocalDay(\"&$D$12&\")=\"&$F$9&\" and Barix(\"&$D$12&\",reference:=StartOfSession)=\"&A46&\"\", \"Bar\", \"\", \"Close\",\"5\",\"0\",\"PrimaryOnly\",,,\"False\",\"T\",\"EveryTick\")","v":185.39},1.5126141213331137E-3,{"$f":"RTD(\"cqg.rtd\",,\"StudyData\", \"Close(\"&$D$12&\") when LocalYear(\"&$D$12&\")=\"&$D$10&\" and localMonth(\"&$D$12&\") =\"&$E$10&\" and LocalDay(\"&$D$12&\")=\"&$F$10&\" and Barix(\"&$D$12&\",reference:=StartOfSession)=\"&A46&\"\", \"Bar\", \"\", \"Close\",\"5\",\"0\",\"PrimaryOnly\",,,\"False\",\"T\",\"EveryTick\")","v":186.28},4.2048517520215691E-3,null,null,null,""]
[46,"12:20:00",-31,{"$f":" RTD(\"cqg.rtd\",,\"StudyData\", $D$12,  \"Tick\", \"FlatTicks=0\", \"Tick\",\"D\",C47,\"PrimaryOnly\")","v":191.46},null,null,null,{"$f":"RTD(\"cqg.rtd\",,\"StudyData\", \"Close(\"&$D$12&\") when LocalYear(\"&$D$12&\")=\"&$D$1&\" and localMonth(\"&$D$12&\") =\"&$E$1&\" and LocalDay(\"&$D$12&\")=\"&$F$1&\" and Barix(\"&$D$12&\",reference:=StartOfSession)=\"&A47&\"\", \"Bar\", \"\", \"Close\",\"5\",\"0\",\"PrimaryOnly\",,,\"False\",\"T\",\"EveryTick\")","v":""},{"$error":"#N/A"},{"$f":"RTD(\"cqg.rtd\",,\"StudyData\", \"Close(\"&$D$12&\") when LocalYear(\"&$D$12&\")=\"&$D$2&\" and localMonth(\"&$D$12&\") =\"&$E$2&\" and LocalDay(\"&$D$12&\")=\"&$F$2&\" and Barix(\"&$D$12&\",reference:=StartOfSession)=\"&A47&\"\", \"Bar\", \"\", \"Close\",\"5\",\"0\",\"PrimaryOnly\",,,\"False\",\"T\",\"EveryTick\")","v":191.08},1.7032148179689253E-2,{"$f":"RTD(\"cqg.rtd\",,\"StudyData\", \"Close(\"&$D$12&\") when LocalYear(\"&$D$12&\")=\"&$D$3&\" and localMonth(\"&$D$12&\") =\"&$E$3&\" and LocalDay(\"&$D$12&\")=\"&$F$3&\" and Barix(\"&$D$12&\",reference:=StartOfSession)=\"&A47&\"\", \"Bar\", \"\", \"Close\",\"5\",\"0\",\"PrimaryOnly\",,,\"False\",\"T\",\"EveryTick\")","v":188.44},-1.0034147622800088E-2,{"$f":"RTD(\"cqg.rtd\",,\"StudyData\", \"Close(\"&$D$12&\") when LocalYear(\"&$D$12&\")=\"&$D$4&\" and localMonth(\"&$D$12&\") =\"&$E$4&\" and LocalDay(\"&$D$12&\")=\"&$F$4&\" and Barix(\"&$D$12&\",reference:=StartOfSession)=\"&A47&\"\", \"Bar\", \"\", \"Close\",\"5\",\"0\",\"PrimaryOnly\",,,\"False\",\"T\",\"EveryTick\")","v":190.62},2.0988561234123223E-4,{"$f":"RTD(\"cqg.rtd\",,\"StudyData\", \"Close(\"&$D$12&\") when LocalYear(\"&$D$12&\")=\"&$D$5&\" and localMonth(\"&$D$12&\") =\"&$E$5&\" and LocalDay(\"&$D$12&\")=\"&$F$5&\" and Barix(\"&$D$12&\",reference:=StartOfSession)=\"&A47&\"\", \"Bar\", \"\", \"Close\",\"5\",\"0\",\"PrimaryOnly\",,,\"False\",\"T\",\"EveryTick\")","v":190.24},1.2076395169441987E-2,{"$f":"RTD(\"cqg.rtd\",,\"StudyData\", \"Close(\"&$D$12&\") when LocalYear(\"&$D$12&\")=\"&$D$6&\" and localMonth(\"&$D$12&\") =\"&$E$6&\" and LocalDay(\"&$D$12&\")=\"&$F$6&\" and Barix(\"&$D$12&\",reference:=StartOfSession)=\"&A47&\"\", \"Bar\", \"\", \"Close\",\"5\",\"0\",\"PrimaryOnly\",,,\"False\",\"T\",\"EveryTick\")","v":187.48},1.1218985976267443E-2,{"$f":"RTD(\"cqg.rtd\",,\"StudyData\", \"Close(\"&$D$12&\") when LocalYear(\"&$D$12&\")=\"&$D$7&\" and localMonth(\"&$D$12&\") =\"&$E$7&\" and LocalDay(\"&$D$12&\")=\"&$F$7&\" and Barix(\"&$D$12&\",reference:=StartOfSession)=\"&A47&\"\", \"Bar\", \"\", \"Close\",\"5\",\"0\",\"PrimaryOnly\",,,\"False\",\"T\",\"EveryTick\")","v":185.74},9.8956067855590565E-3,{"$f":"RTD(\"cqg.rtd\",,\"StudyData\", \"Close(\"&$D$12&\") when LocalYear(\"&$D$12&\")=\"&$D$8&\" and localMonth(\"&$D$12&\") =\"&$E$8&\" and LocalDay(\"&$D$12&\")=\"&$F$8&\" and Barix(\"&$D$12&\",reference:=StartOfSession)=\"&A47&\"\", \"Bar\", \"\", \"Close\",\"5\",\"0\",\"PrimaryOnly\",,,\"False\",\"T\",\"EveryTick\")","v":""},{"$error":"#N/A"},{"$f":"RTD(\"cqg.rtd\",,\"StudyData\", \"Close(\"&$D$12&\") when LocalYear(\"&$D$12&\")=\"&$D$9&\" and localMonth(\"&$D$12&\") =\"&$E$9&\" and LocalDay(\"&$D$12&\")=\"&$F$9&\" and Barix(\"&$D$12&\",reference:=StartOfSession)=\"&A47&\"\", \"Bar\", \"\", \"Close\",\"5\",\"0\",\"PrimaryOnly\",,,\"False\",\"T\",\"EveryTick\")","v":185.44},1.7827237858569719E-3,{"$f":"RTD(\"cqg.rtd\",,\"StudyData\", \"Close(\"&$D$12&\") when LocalYear(\"&$D$12&\")=\"&$D$10&\" and localMonth(\"&$D$12&\") =\"&$E$10&\" and LocalDay(\"&$D$12&\")=\"&$F$10&\" and Barix(\"&$D$12&\",reference:=StartOfSession)=\"&A47&\"\", \"Bar\", \"\", \"Close\",\"5\",\"0\",\"PrimaryOnly\",,,\"False\",\"T\",\"EveryTick\")","v":186.21},3.8274932614555685E-3,null,null,null,""]
[47,"12:25:00",-30,{"$f":" RTD(\"cqg.rtd\",,\"StudyData\", $D$12,  \"Tick\", \"FlatTicks=0\", \"Tick\",\"D\",C48,\"PrimaryOnly\")","v":191.45},null,null,null,{"$f":"RTD(\"cqg.rtd\",,\"StudyData\", \"Close(\"&$D$12&\") when LocalYear(\"&$D$12&\")=\"&$D$1&\" and localMonth(\"&$D$12&\") =\"&$E$1&\" and LocalDay(\"&$D$12&\")=\"&$F$1&\" and Barix(\"&$D$12&\",reference:=StartOfSession)=\"&A48&\"\", \"Bar\", \"\", \"Close\",\"5\",\"0\",\"PrimaryOnly\",,,\"False\",\"T\",\"EveryTick\")","v":""},{"$error":"#N/A"},{"$f":"RTD(\"cqg.rtd\",,\"StudyData\", \"Close(\"&$D$12&\") when LocalYear(\"&$D$12&\")=\"&$D$2&\" and localMonth(\"&$D$12&\") =\"&$E$2&\" and LocalDay(\"&$D$12&\")=\"&$F$2&\" and Barix(\"&$D$12&\",reference:=StartOfSession)=\"&A48&\"\", \"Bar\", \"\", \"Close\",\"5\",\"0\",\"PrimaryOnly\",,,\"False\",\"T\",\"EveryTick\")","v":191.13},1.7298275494996806E-2,{"$f":"RTD(\"cqg.rtd\",,\"StudyData\", \"Close(\"&$D$12&\") when LocalYear(\"&$D$12&\")=\"&$D$3&\" and localMonth(\"&$D$12&\") =\"&$E$3&\" and LocalDay(\"&$D$12&\")=\"&$F$3&\" and Barix(\"&$D$12&\",reference:=StartOfSession)=\"&A48&\"\", \"Bar\", \"\", \"Close\",\"5\",\"0\",\"PrimaryOnly\",,,\"False\",\"T\",\"EveryTick\")","v":188.42},-1.0139217231415849E-2,{"$f":"RTD(\"cqg.rtd\",,\"StudyData\", \"Close(\"&$D$12&\") when LocalYear(\"&$D$12&\")=\"&$D$4&\" and localMonth(\"&$D$12&\") =\"&$E$4&\" and LocalDay(\"&$D$12&\")=\"&$F$4&\" and Barix(\"&$D$12&\",reference:=StartOfSession)=\"&A48&\"\", \"Bar\", \"\", \"Close\",\"5\",\"0\",\"PrimaryOnly\",,,\"False\",\"T\",\"EveryTick\")","v":190.64},3.1482841851177381E-4,{"$f":"RTD(\"cqg.rtd\",,\"StudyData\", \"Close(\"&$D$12&\") when LocalYear(\"&$D$12&\")=\"&$D$5&\" and localMonth(\"&$D$12&\") =\"&$E$5&\" and LocalDay(\"&$D$12&\")=\"&$F$5&\" and Barix(\"&$D$12&\",reference:=StartOfSession)=\"&A48&\"\", \"Bar\", \"\", \"Close\",\"5\",\"0\",\"PrimaryOnly\",,,\"False\",\"T\",\"EveryTick\")","v":190.22},1.1969995212001915E-2,{"$f":"RTD(\"cqg.rtd\",,\"StudyData\", \"Close(\"&$D$12&\") when LocalYear(\"&$D$12&\")=\"&$D$6&\" and localMonth(\"&$D$12&\") =\"&$E$6&\" and LocalDay(\"&$D$12&\")=\"&$F$6&\" and Barix(\"&$D$12&\",reference:=StartOfSession)=\"&A48&\"\", \"Bar\", \"\", \"Close\",\"5\",\"0\",\"PrimaryOnly\",,,\"False\",\"T\",\"EveryTick\")","v":187.48},1.1218985976267443E-2,{"$f":"RTD(\"cqg.rtd\",,\"StudyData\", \"Close(\"&$D$12&\") when LocalYear(\"&$D$12&\")=\"&$D$7&\" and localMonth(\"&$D$12&\") =\"&$E$7&\" and LocalDay(\"&$D$12&\")=\"&$F$7&\" and Barix(\"&$D$12&\",reference:=StartOfSession)=\"&A48&\"\", \"Bar\", \"\", \"Close\",\"5\",\"0\",\"PrimaryOnly\",,,\"False\",\"T\",\"EveryTick\")","v":185.71},9.732492387994892E-3,{"$f":"RTD(\"cqg.rtd\",,\"StudyData\", \"Close(\"&$D$12&\") when LocalYear(\"&$D$12&\")=\"&$D$8&\" and localMonth(\"&$D$12&\") =\"&$E$8&\" and LocalDay(\"&$D$12&\")=\"&$F$8&\" and Barix(\"&$D$12&\",reference:=StartOfSession)=\"&A48&\"\", \"Bar\", \"\", \"Close\",\"5\",\"0\",\"PrimaryOnly\",,,\"False\",\"T\",\"EveryTick\")","v":""},{"$error":"#N/A"},{"$f":"RTD(\"cqg.rtd\",,\"StudyData\", \"Close(\"&$D$12&\") when LocalYear(\"&$D$12&\")=\"&$D$9&\" and localMonth(\"&$D$12&\") =\"&$E$9&\" and LocalDay(\"&$D$12&\")=\"&$F$9&\" and Barix(\"&$D$12&\",reference:=StartOfSession)=\"&A48&\"\", \"Bar\", \"\", \"Close\",\"5\",\"0\",\"PrimaryOnly\",,,\"False\",\"T\",\"EveryTick\")","v":185.44},1.7827237858569719E-3,{"$f":"RTD(\"cqg.rtd\",,\"StudyData\", \"Close(\"&$D$12&\") when LocalYear(\"&$D$12&\")=\"&$D$10&\" and localMonth(\"&$D$12&\") =\"&$E$10&\" and LocalDay(\"&$D$12&\")=\"&$F$10&\" and Barix(\"&$D$12&\",reference:=StartOfSession)=\"&A48&\"\", \"Bar\", \"\", \"Close\",\"5\",\"0\",\"PrimaryOnly\",,,\"False\",\"T\",\"EveryTick\")","v":186.18},3.6657681940701174E-3,null,null,null,""]
[48,"12:30:00",-29,{"$f":" RTD(\"cqg.rtd\",,\"StudyData\", $D$12,  \"Tick\", \"FlatTicks=0\", \"Tick\",\"D\",C49,\"PrimaryOnly\")","v":191.46},null,null,null,{"$f":"RTD(\"cqg.rtd\",,\"StudyData\", \"Close(\"&$D$12&\") when LocalYear(\"&$D$12&\")=\"&$D$1&\" and localMonth(\"&$D$12&\") =\"&$E$1&\" and LocalDay(\"&$D$12&\")=\"&$F$1&\" and Barix(\"&$D$12&\",reference:=StartOfSession)=\"&A49&\"\", \"Bar\", \"\", \"Close\",\"5\",\"0\",\"PrimaryOnly\",,,\"False\",\"T\",\"EveryTick\")","v":""},{"$error":"#N/A"},{"$f":"RTD(\"cqg.rtd\",,\"StudyData\", \"Close(\"&$D$12&\") when LocalYear(\"&$D$12&\")=\"&$D$2&\" and localMonth(\"&$D$12&\") =\"&$E$2&\" and LocalDay(\"&$D$12&\")=\"&$F$2&\" and Barix(\"&$D$12&\",reference:=StartOfSession)=\"&A49&\"\", \"Bar\", \"\", \"Close\",\"5\",\"0\",\"PrimaryOnly\",,,\"False\",\"T\",\"EveryTick\")","v":190.89},1.6020864381520072E-2,{"$f":"RTD(\"cqg.rtd\",,\"StudyData\", \"Close(\"&$D$12&\") when LocalYear(\"&$D$12&\")=\"&$D$3&\" and localMonth(\"&$D$12&\") =\"&$E$3&\" and LocalDay(\"&$D$12&\")=\"&$F$3&\" and Barix(\"&$D$12&\",reference:=StartOfSession)=\"&A49&\"\", \"Bar\", \"\", \"Close\",\"5\",\"0\",\"PrimaryOnly\",,,\"False\",\"T\",\"EveryTick\")","v":188.41},-1.0191752035723655E-2,{"$f":"RTD(\"cqg.rtd\",,\"StudyData\", \"Close(\"&$D$12&\") when LocalYear(\"&$D$12&\")=\"&$D$4&\" and localMonth(\"&$D$12&\") =\"&$E$4&\" and LocalDay(\"&$D$12&\")=\"&$F$4&\" and Barix(\"&$D$12&\",reference:=StartOfSession)=\"&A49&\"\", \"Bar\", \"\", \"Close\",\"5\",\"0\",\"PrimaryOnly\",,,\"False\",\"T\",\"EveryTick\")","v":190.53},-2.6235701542665215E-4,{"$f":"RTD(\"cqg.rtd\",,\"StudyData\", \"Close(\"&$D$12&\") when LocalYear(\"&$D$12&\")=\"&$D$5&\" and localMonth(\"&$D$12&\") =\"&$E$5&\" and LocalDay(\"&$D$12&\")=\"&$F$5&\" and Barix(\"&$D$12&\",reference:=StartOfSession)=\"&A49&\"\", \"Bar\", \"\", \"Close\",\"5\",\"0\",\"PrimaryOnly\",,,\"False\",\"T\",\"EveryTick\")","v":190.25},1.2129595148161946E-2,{"$f":"RTD(\"cqg.rtd\",,\"StudyData\", \"Close(\"&$D$12&\") when LocalYear(\"&$D$12&\")=\"&$D$6&\" and localMonth(\"&$D$12&\") =\"&$E$6&\" and LocalDay(\"&$D$12&\")=\"&$F$6&\" and Barix(\"&$D$12&\",reference:=StartOfSession)=\"&A49&\"\", \"Bar\", \"\", \"Close\",\"5\",\"0\",\"PrimaryOnly\",,,\"False\",\"T\",\"EveryTick\")","v":187.5},1.1326860841423918E-2,{"$f":"RTD(\"cqg.rtd\",,\"StudyData\", \"Close(\"&$D$12&\") when LocalYear(\"&$D$12&\")=\"&$D$7&\" and localMonth(\"&$D$12&\") =\"&$E$7&\" and LocalDay(\"&$D$12&\")=\"&$F$7&\" and Barix(\"&$D$12&\",reference:=StartOfSession)=\"&A49&\"\", \"Bar\", \"\", \"Close\",\"5\",\"0\",\"PrimaryOnly\",,,\"False\",\"T\",\"EveryTick\")","v":185.61},9.1887777294477283E-3,{"$f":"RTD(\"cqg.rtd\",,\"StudyData\", \"Close(\"&$D$12&\") when LocalYear(\"&$D$12&\")=\"&$D$8&\" and localMonth(\"&$D$12&\") =\"&$E$8&\" and LocalDay(\"&$D$12&\")=\"&$F$8&\" and Barix(\"&$D$12&\",reference:=StartOfSession)=\"&A49&\"\", \"Bar\", \"\", \"Close\",\"5\",\"0\",\"PrimaryOnly\",,,\"False\",\"T\",\"EveryTick\")","v":""},{"$error":"#N/A"},{"$f":"RTD(\"cqg.rtd\",,\"StudyData\", \"Close(\"&$D$12&\") when LocalYear(\"&$D$12&\")=\"&$D$9&\" and localMonth(\"&$D$12&\") =\"&$E$9&\" and LocalDay(\"&$D$12&\")=\"&$F$9&\" and Barix(\"&$D$12&\",reference:=StartOfSession)=\"&A49&\"\", \"Bar\", \"\", \"Close\",\"5\",\"0\",\"PrimaryOnly\",,,\"False\",\"T\",\"EveryTick\")","v":185.48},1.9988115174759662E-3,{"$f":"RTD(\"cqg.rtd\",,\"StudyData\", \"Close(\"&$D$12&\") when LocalYear(\"&$D$12&\")=\"&$D$10&\" and localMonth(\"&$D$12&\") =\"&$E$10&\" and LocalDay(\"&$D$12&\")=\"&$F$10&\" and Barix(\"&$D$12&\",reference:=StartOfSession)=\"&A49&\"\", \"Bar\", \"\", \"Close\",\"5\",\"0\",\"PrimaryOnly\",,,\"False\",\"T\",\"EveryTick\")","v":186.09},3.180592991913765E-3,null,null,null,""]
[49,"12:35:00",-28,{"$f":" RTD(\"cqg.rtd\",,\"StudyData\", $D$12,  \"Tick\", \"FlatTicks=0\", \"Tick\",\"D\",C50,\"PrimaryOnly\")","v":191.48},null,null,null,{"$f":"RTD(\"cqg.rtd\",,\"StudyData\", \"Close(\"&$D$12&\") when LocalYear(\"&$D$12&\")=\"&$D$1&\" and localMonth(\"&$D$12&\") =\"&$E$1&\" and LocalDay(\"&$D$12&\")=\"&$F$1&\" and Barix(\"&$D$12&\",reference:=StartOfSession)=\"&A50&\"\", \"Bar\", \"\", \"Close\",\"5\",\"0\",\"PrimaryOnly\",,,\"False\",\"T\",\"EveryTick\")","v":""},{"$error":"#N/A"},{"$f":"RTD(\"cqg.rtd\",,\"StudyData\", \"Close(\"&$D$12&\") when LocalYear(\"&$D$12&\")=\"&$D$2&\" and localMonth(\"&$D$12&\") =\"&$E$2&\" and LocalDay(\"&$D$12&\")=\"&$F$2&\" and Barix(\"&$D$12&\",reference:=StartOfSession)=\"&A50&\"\", \"Bar\", \"\", \"Close\",\"5\",\"0\",\"PrimaryOnly\",,,\"False\",\"T\",\"EveryTick\")","v":191.02},1.671279540132007E-2,{"$f":"RTD(\"cqg.rtd\",,\"StudyData\", \"Close(\"&$D$12&\") when LocalYear(\"&$D$12&\")=\"&$D$3&\" and localMonth(\"&$D$12&\") =\"&$E$3&\" and LocalDay(\"&$D$12&\")=\"&$F$3&\" and Barix(\"&$D$12&\",reference:=StartOfSession)=\"&A50&\"\", \"Bar\", \"\", \"Close\",\"5\",\"0\",\"PrimaryOnly\",,,\"False\",\"T\",\"EveryTick\")","v":188.3},-1.0769634883109971E-2,{"$f":"RTD(\"cqg.rtd\",,\"StudyData\", \"Close(\"&$D$12&\") when LocalYear(\"&$D$12&\")=\"&$D$4&\" and localMonth(\"&$D$12&\") =\"&$E$4&\" and LocalDay(\"&$D$12&\")=\"&$F$4&\" and Barix(\"&$D$12&\",reference:=StartOfSession)=\"&A50&\"\", \"Bar\", \"\", \"Close\",\"5\",\"0\",\"PrimaryOnly\",,,\"False\",\"T\",\"EveryTick\")","v":190.46},-6.2965683702384588E-4,{"$f":"RTD(\"cqg.rtd\",,\"StudyData\", \"Close(\"&$D$12&\") when LocalYear(\"&$D$12&\")=\"&$D$5&\" and localMonth(\"&$D$12&\") =\"&$E$5&\" and LocalDay(\"&$D$12&\")=\"&$F$5&\" and Barix(\"&$D$12&\",reference:=StartOfSession)=\"&A50&\"\", \"Bar\", \"\", \"Close\",\"5\",\"0\",\"PrimaryOnly\",,,\"False\",\"T\",\"EveryTick\")","v":190.18},1.1757195297121924E-2,{"$f":"RTD(\"cqg.rtd\",,\"StudyData\", \"Close(\"&$D$12&\") when LocalYear(\"&$D$12&\")=\"&$D$6&\" and localMonth(\"&$D$12&\") =\"&$E$6&\" and LocalDay(\"&$D$12&\")=\"&$F$6&\" and Barix(\"&$D$12&\",reference:=StartOfSession)=\"&A50&\"\", \"Bar\", \"\", \"Close\",\"5\",\"0\",\"PrimaryOnly\",,,\"False\",\"T\",\"EveryTick\")","v":187.5},1.1326860841423918E-2,{"$f":"RTD(\"cqg.rtd\",,\"StudyData\", \"Close(\"&$D$12&\") when LocalYear(\"&$D$12&\")=\"&$D$7&\" and localMonth(\"&$D$12&\") =\"&$E$7&\" and LocalDay(\"&$D$12&\")=\"&$F$7&\" and Barix(\"&$D$12&\",reference:=StartOfSession)=\"&A50&\"\", \"Bar\", \"\", \"Close\",\"5\",\"0\",\"PrimaryOnly\",,,\"False\",\"T\",\"EveryTick\")","v":185.56},8.9169204001740693E-3,{"$f":"RTD(\"cqg.rtd\",,\"StudyData\", \"Close(\"&$D$12&\") when LocalYear(\"&$D$12&\")=\"&$D$8&\" and localMonth(\"&$D$12&\") =\"&$E$8&\" and LocalDay(\"&$D$12&\")=\"&$F$8&\" and Barix(\"&$D$12&\",reference:=StartOfSession)=\"&A50&\"\", \"Bar\", \"\", \"Close\",\"5\",\"0\",\"PrimaryOnly\",,,\"False\",\"T\",\"EveryTick\")","v":""},{"$error":"#N/A"},{"$f":"RTD(\"cqg.rtd\",,\"StudyData\", \"Close(\"&$D$12&\") when LocalYear(\"&$D$12&\")=\"&$D$9&\" and localMonth(\"&$D$12&\") =\"&$E$9&\" and LocalDay(\"&$D$12&\")=\"&$F$9&\" and Barix(\"&$D$12&\",reference:=StartOfSession)=\"&A50&\"\", \"Bar\", \"\", \"Close\",\"5\",\"0\",\"PrimaryOnly\",,,\"False\",\"T\",\"EveryTick\")","v":185.69},3.1332721084759551E-3,{"$f":"RTD(\"cqg.rtd\",,\"StudyData\", \"Close(\"&$D$12&\") when LocalYear(\"&$D$12&\")=\"&$D$10&\" and localMonth(\"&$D$12&\") =\"&$E$10&\" and LocalDay(\"&$D$12&\")=\"&$F$10&\" and Barix(\"&$D$12&\",reference:=StartOfSession)=\"&A50&\"\", \"Bar\", \"\", \"Close\",\"5\",\"0\",\"PrimaryOnly\",,,\"False\",\"T\",\"EveryTick\")","v":186.18},3.6657681940701174E-3,null,null,null,""]
[50,"12:40:00",-27,{"$f":" RTD(\"cqg.rtd\",,\"StudyData\", $D$12,  \"Tick\", \"FlatTicks=0\", \"Tick\",\"D\",C51,\"PrimaryOnly\")","v":191.49},null,null,null,{"$f":"RTD(\"cqg.rtd\",,\"StudyData\", \"Close(\"&$D$12&\") when LocalYear(\"&$D$12&\")=\"&$D$1&\" and localMonth(\"&$D$12&\") =\"&$E$1&\" and LocalDay(\"&$D$12&\")=\"&$F$1&\" and Barix(\"&$D$12&\",reference:=StartOfSession)=\"&A51&\"\", \"Bar\", \"\", \"Close\",\"5\",\"0\",\"PrimaryOnly\",,,\"False\",\"T\",\"EveryTick\")","v":""},{"$error":"#N/A"},{"$f":"RTD(\"cqg.rtd\",,\"StudyData\", \"Close(\"&$D$12&\") when LocalYear(\"&$D$12&\")=\"&$D$2&\" and localMonth(\"&$D$12&\") =\"&$E$2&\" and LocalDay(\"&$D$12&\")=\"&$F$2&\" and Barix(\"&$D$12&\",reference:=StartOfSession)=\"&A51&\"\", \"Bar\", \"\", \"Close\",\"5\",\"0\",\"PrimaryOnly\",,,\"False\",\"T\",\"EveryTick\")","v":191.02},1.671279540132007E-2,{"$f":"RTD(\"cqg.rtd\",,\"StudyData\", \"Close(\"&$D$12&\") when LocalYear(\"&$D$12&\")=\"&$D$3&\" and localMonth(\"&$D$12&\") =\"&$E$3&\" and LocalDay(\"&$D$12&\")=\"&$F$3&\" and Barix(\"&$D$12&\",reference:=StartOfSession)=\"&A51&\"\", \"Bar\", \"\", \"Close\",\"5\",\"0\",\"PrimaryOnly\",,,\"False\",\"T\",\"EveryTick\")","v":188.34},-1.0559495665878597E-2,{"$f":"RTD(\"cqg.rtd\",,\"StudyData\", \"Close(\"&$D$12&\") when LocalYear(\"&$D$12&\")=\"&$D$4&\" and localMonth(\"&$D$12&\") =\"&$E$4&\" and LocalDay(\"&$D$12&\")=\"&$F$4&\" and Barix(\"&$D$12&\",reference:=StartOfSession)=\"&A51&\"\", \"Bar\", \"\", \"Close\",\"5\",\"0\",\"PrimaryOnly\",,,\"False\",\"T\",\"EveryTick\")","v":190.56},-1.0494280617069068E-4,{"$f":"RTD(\"cqg.rtd\",,\"StudyData\", \"Close(\"&$D$12&\") when LocalYear(\"&$D$12&\")=\"&$D$5&\" and localMonth(\"&$D$12&\") =\"&$E$5&\" and LocalDay(\"&$D$12&\")=\"&$F$5&\" and Barix(\"&$D$12&\",reference:=StartOfSession)=\"&A51&\"\", \"Bar\", \"\", \"Close\",\"5\",\"0\",\"PrimaryOnly\",,,\"False\",\"T\",\"EveryTick\")","v":190.03},1.0959195616321766E-2,{"$f":"RTD(\"cqg.rtd\",,\"StudyData\", \"Close(\"&$D$12&\") when LocalYear(\"&$D$12&\")=\"&$D$6&\" and localMonth(\"&$D$12&\") =\"&$E$6&\" and LocalDay(\"&$D$12&\")=\"&$F$6&\" and Barix(\"&$D$12&\",reference:=StartOfSession)=\"&A51&\"\", \"Bar\", \"\", \"Close\",\"5\",\"0\",\"PrimaryOnly\",,,\"False\",\"T\",\"EveryTick\")","v":187.48},1.1218985976267443E-2,{"$f":"RTD(\"cqg.rtd\",,\"StudyData\", \"Close(\"&$D$12&\") when LocalYear(\"&$D$12&\")=\"&$D$7&\" and localMonth(\"&$D$12&\") =\"&$E$7&\" and LocalDay(\"&$D$12&\")=\"&$F$7&\" and Barix(\"&$D$12&\",reference:=StartOfSession)=\"&A51&\"\", \"Bar\", \"\", \"Close\",\"5\",\"0\",\"PrimaryOnly\",,,\"False\",\"T\",\"EveryTick\")","v":185.55},8.8625489343193992E-3,{"$f":"RTD(\"cqg.rtd\",,\"StudyData\", \"Close(\"&$D$12&\") when LocalYear(\"&$D$12&\")=\"&$D$8&\" and localMonth(\"&$D$12&\") =\"&$E$8&\" and LocalDay(\"&$D$12&\")=\"&$F$8&\" and Barix(\"&$D$12&\",reference:=StartOfSession)=\"&A51&\"\", \"Bar\", \"\", \"Close\",\"5\",\"0\",\"PrimaryOnly\",,,\"False\",\"T\",\"EveryTick\")","v":""},{"$error":"#N/A"},{"$f":"RTD(\"cqg.rtd\",,\"StudyData\", \"Close(\"&$D$12&\") when LocalYear(\"&$D$12&\")=\"&$D$9&\" and localMonth(\"&$D$12&\") =\"&$E$9&\" and LocalDay(\"&$D$12&\")=\"&$F$9&\" and Barix(\"&$D$12&\",reference:=StartOfSession)=\"&A51&\"\", \"Bar\", \"\", \"Close\",\"5\",\"0\",\"PrimaryOnly\",,,\"False\",\"T\",\"EveryTick\")","v":185.83},3.8895791691426654E-3,{"$f":"RTD(\"cqg.rtd\",,\"StudyData\", \"Close(\"&$D$12&\") when LocalYear(\"&$D$12&\")=\"&$D$10&\" and localMonth(\"&$D$12&\") =\"&$E$10&\" and LocalDay(\"&$D$12&\")=\"&$F$10&\" and Barix(\"&$D$12&\",reference:=StartOfSession)=\"&A51&\"\", \"Bar\", \"\", \"Close\",\"5\",\"0\",\"PrimaryOnly\",,,\"False\",\"T\",\"EveryTick\")","v":186.27},4.1509433962264699E-3,null,null,null,""]
[51,"12:45:00",-26,{"$f":" RTD(\"cqg.rtd\",,\"StudyData\", $D$12,  \"Tick\", \"FlatTicks=0\", \"Tick\",\"D\",C52,\"PrimaryOnly\")","v":191.48},null,null,null,{"$f":"RTD(\"cqg.rtd\",,\"StudyData\", \"Close(\"&$D$12&\") when LocalYear(\"&$D$12&\")=\"&$D$1&\" and localMonth(\"&$D$12&\") =\"&$E$1&\" and LocalDay(\"&$D$12&\")=\"&$F$1&\" and Barix(\"&$D$12&\",reference:=StartOfSession)=\"&A52&\"\", \"Bar\", \"\", \"Close\",\"5\",\"0\",\"PrimaryOnly\",,,\"False\",\"T\",\"EveryTick\")","v":""},{"$error":"#N/A"},{"$f":"RTD(\"cqg.rtd\",,\"StudyData\", \"Close(\"&$D$12&\") when LocalYear(\"&$D$12&\")=\"&$D$2&\" and localMonth(\"&$D$12&\") =\"&$E$2&\" and LocalDay(\"&$D$12&\")=\"&$F$2&\" and Barix(\"&$D$12&\",reference:=StartOfSession)=\"&A52&\"\", \"Bar\", \"\", \"Close\",\"5\",\"0\",\"PrimaryOnly\",,,\"False\",\"T\",\"EveryTick\")","v":190.92},1.6180540770704663E-2,{"$f":"RTD(\"cqg.rtd\",,\"StudyData\", \"Close(\"&$D$12&\") when LocalYear(\"&$D$12&\")=\"&$D$3&\" and localMonth(\"&$D$12&\") =\"&$E$3&\" and LocalDay(\"&$D$12&\")=\"&$F$3&\" and Barix(\"&$D$12&\",reference:=StartOfSession)=\"&A52&\"\", \"Bar\", \"\", \"Close\",\"5\",\"0\",\"PrimaryOnly\",,,\"False\",\"T\",\"EveryTick\")","v":188.24},-1.1084843708957107E-2,{"$f":"RTD(\"cqg.rtd\",,\"StudyData\", \"Close(\"&$D$12&\") when LocalYear(\"&$D$12&\")=\"&$D$4&\" and localMonth(\"&$D$12&\") =\"&$E$4&\" and LocalDay(\"&$D$12&\")=\"&$F$4&\" and Barix(\"&$D$12&\",reference:=StartOfSession)=\"&A52&\"\", \"Bar\", \"\", \"Close\",\"5\",\"0\",\"PrimaryOnly\",,,\"False\",\"T\",\"EveryTick\")","v":190.35},-1.206842270962421E-3,{"$f":"RTD(\"cqg.rtd\",,\"StudyData\", \"Close(\"&$D$12&\") when LocalYear(\"&$D$12&\")=\"&$D$5&\" and localMonth(\"&$D$12&\") =\"&$E$5&\" and LocalDay(\"&$D$12&\")=\"&$F$5&\" and Barix(\"&$D$12&\",reference:=StartOfSession)=\"&A52&\"\", \"Bar\", \"\", \"Close\",\"5\",\"0\",\"PrimaryOnly\",,,\"False\",\"T\",\"EveryTick\")","v":190.17},1.1703995318401812E-2,{"$f":"RTD(\"cqg.rtd\",,\"StudyData\", \"Close(\"&$D$12&\") when LocalYear(\"&$D$12&\")=\"&$D$6&\" and localMonth(\"&$D$12&\") =\"&$E$6&\" and LocalDay(\"&$D$12&\")=\"&$F$6&\" and Barix(\"&$D$12&\",reference:=StartOfSession)=\"&A52&\"\", \"Bar\", \"\", \"Close\",\"5\",\"0\",\"PrimaryOnly\",,,\"False\",\"T\",\"EveryTick\")","v":187.58},1.1758360302049659E-2,{"$f":"RTD(\"cqg.rtd\",,\"StudyData\", \"Close(\"&$D$12&\") when LocalYear(\"&$D$12&\")=\"&$D$7&\" and localMonth(\"&$D$12&\") =\"&$E$7&\" and LocalDay(\"&$D$12&\")=\"&$F$7&\" and Barix(\"&$D$12&\",reference:=StartOfSession)=\"&A52&\"\", \"Bar\", \"\", \"Close\",\"5\",\"0\",\"PrimaryOnly\",,,\"False\",\"T\",\"EveryTick\")","v":185.57},8.9712918660287393E-3,{"$f":"RTD(\"cqg.rtd\",,\"StudyData\", \"Close(\"&$D$12&\") when LocalYear(\"&$D$12&\")=\"&$D$8&\" and localMonth(\"&$D$12&\") =\"&$E$8&\" and LocalDay(\"&$D$12&\")=\"&$F$8&\" and Barix(\"&$D$12&\",reference:=StartOfSession)=\"&A52&\"\", \"Bar\", \"\", \"Close\",\"5\",\"0\",\"PrimaryOnly\",,,\"False\",\"T\",\"EveryTick\")","v":""},{"$error":"#N/A"},{"$f":"RTD(\"cqg.rtd\",,\"StudyData\", \"Close(\"&$D$12&\") when LocalYear(\"&$D$12&\")=\"&$D$9&\" and localMonth(\"&$D$12&\") =\"&$E$9&\" and LocalDay(\"&$D$12&\")=\"&$F$9&\" and Barix(\"&$D$12&\",reference:=StartOfSession)=\"&A52&\"\", \"Bar\", \"\", \"Close\",\"5\",\"0\",\"PrimaryOnly\",,,\"False\",\"T\",\"EveryTick\")","v":186.24},6.1044784182377795E-3,{"$f":"RTD(\"cqg.rtd\",,\"StudyData\", \"Close(\"&$D$12&\") when LocalYear(\"&$D$12&\")=\"&$D$10&\" and localMonth(\"&$D$12&\") =\"&$E$10&\" and LocalDay(\"&$D$12&\")=\"&$F$10&\" and Barix(\"&$D$12&\",reference:=StartOfSession)=\"&A52&\"\", \"Bar\", \"\", \"Close\",\"5\",\"0\",\"PrimaryOnly\",,,\"False\",\"T\",\"EveryTick\")","v":186.2},3.7735849056603162E-3,null,null,null,""]
[52,"12:50:00",-25,{"$f":" RTD(\"cqg.rtd\",,\"StudyData\", $D$12,  \"Tick\", \"FlatTicks=0\", \"Tick\",\"D\",C53,\"PrimaryOnly\")","v":191.49},null,null,null,{"$f":"RTD(\"cqg.rtd\",,\"StudyData\", \"Close(\"&$D$12&\") when LocalYear(\"&$D$12&\")=\"&$D$1&\" and localMonth(\"&$D$12&\") =\"&$E$1&\" and LocalDay(\"&$D$12&\")=\"&$F$1&\" and Barix(\"&$D$12&\",reference:=StartOfSession)=\"&A53&\"\", \"Bar\", \"\", \"Close\",\"5\",\"0\",\"PrimaryOnly\",,,\"False\",\"T\",\"EveryTick\")","v":""},{"$error":"#N/A"},{"$f":"RTD(\"cqg.rtd\",,\"StudyData\", \"Close(\"&$D$12&\") when LocalYear(\"&$D$12&\")=\"&$D$2&\" and localMonth(\"&$D$12&\") =\"&$E$2&\" and LocalDay(\"&$D$12&\")=\"&$F$2&\" and Barix(\"&$D$12&\",reference:=StartOfSession)=\"&A53&\"\", \"Bar\", \"\", \"Close\",\"5\",\"0\",\"PrimaryOnly\",,,\"False\",\"T\",\"EveryTick\")","v":190.81},1.5595060677027928E-2,{"$f":"RTD(\"cqg.rtd\",,\"StudyData\", \"Close(\"&$D$12&\") when LocalYear(\"&$D$12&\")=\"&$D$3&\" and localMonth(\"&$D$12&\") =\"&$E$3&\" and LocalDay(\"&$D$12&\")=\"&$F$3&\" and Barix(\"&$D$12&\",reference:=StartOfSession)=\"&A53&\"\", \"Bar\", \"\", \"Close\",\"5\",\"0\",\"PrimaryOnly\",,,\"False\",\"T\",\"EveryTick\")","v":188.15},-1.1557656947727811E-2,{"$f":"RTD(\"cqg.rtd\",,\"StudyData\", \"Close(\"&$D$12&\") when LocalYear(\"&$D$12&\")=\"&$D$4&\" and localMonth(\"&$D$12&\") =\"&$E$4&\" and LocalDay(\"&$D$12&\")=\"&$F$4&\" and Barix(\"&$D$12&\",reference:=StartOfSession)=\"&A53&\"\", \"Bar\", \"\", \"Close\",\"5\",\"0\",\"PrimaryOnly\",,,\"False\",\"T\",\"EveryTick\")","v":190.42},-8.3954244936522719E-4,{"$f":"RTD(\"cqg.rtd\",,\"StudyData\", \"Close(\"&$D$12&\") when LocalYear(\"&$D$12&\")=\"&$D$5&\" and localMonth(\"&$D$12&\") =\"&$E$5&\" and LocalDay(\"&$D$12&\")=\"&$F$5&\" and Barix(\"&$D$12&\",reference:=StartOfSession)=\"&A53&\"\", \"Bar\", \"\", \"Close\",\"5\",\"0\",\"PrimaryOnly\",,,\"False\",\"T\",\"EveryTick\")","v":190.3},1.2395595041762049E-2,{"$f":"RTD(\"cqg.rtd\",,\"StudyData\", \"Close(\"&$D$12&\") when LocalYear(\"&$D$12&\")=\"&$D$6&\" and localMonth(\"&$D$12&\") =\"&$E$6&\" and LocalDay(\"&$D$12&\")=\"&$F$6&\" and Barix(\"&$D$12&\",reference:=StartOfSession)=\"&A53&\"\", \"Bar\", \"\", \"Close\",\"5\",\"0\",\"PrimaryOnly\",,,\"False\",\"T\",\"EveryTick\")","v":187.68},1.2297734627831722E-2,{"$f":"RTD(\"cqg.rtd\",,\"StudyData\", \"Close(\"&$D$12&\") when LocalYear(\"&$D$12&\")=\"&$D$7&\" and localMonth(\"&$D$12&\") =\"&$E$7&\" and LocalDay(\"&$D$12&\")=\"&$F$7&\" and Barix(\"&$D$12&\",reference:=StartOfSession)=\"&A53&\"\", \"Bar\", \"\", \"Close\",\"5\",\"0\",\"PrimaryOnly\",,,\"False\",\"T\",\"EveryTick\")","v":185.45},8.3188342757720812E-3,{"$f":"RTD(\"cqg.rtd\",,\"StudyData\", \"Close(\"&$D$12&\") when LocalYear(\"&$D$12&\")=\"&$D$8&\" and localMonth(\"&$D$12&\") =\"&$E$8&\" and LocalDay(\"&$D$12&\")=\"&$F$8&\" and Barix(\"&$D$12&\",reference:=StartOfSession)=\"&A53&\"\", \"Bar\", \"\", \"Close\",\"5\",\"0\",\"PrimaryOnly\",,,\"False\",\"T\",\"EveryTick\")","v":""},{"$error":"#N/A"},{"$f":"RTD(\"cqg.rtd\",,\"StudyData\", \"Close(\"&$D$12&\") when LocalYear(\"&$D$12&\")=\"&$D$9&\" and localMonth(\"&$D$12&\") =\"&$E$9&\" and LocalDay(\"&$D$12&\")=\"&$F$9&\" and Barix(\"&$D$12&\",reference:=StartOfSession)=\"&A53&\"\", \"Bar\", \"\", \"Close\",\"5\",\"0\",\"PrimaryOnly\",,,\"False\",\"T\",\"EveryTick\")","v":186.38},6.8607854789043366E-3,{"$f":"RTD(\"cqg.rtd\",,\"StudyData\", \"Close(\"&$D$12&\") when LocalYear(\"&$D$12&\")=\"&$D$10&\" and localMonth(\"&$D$12&\") =\"&$E$10&\" and LocalDay(\"&$D$12&\")=\"&$F$10&\" and Barix(\"&$D$12&\",reference:=StartOfSession)=\"&A53&\"\", \"Bar\", \"\", \"Close\",\"5\",\"0\",\"PrimaryOnly\",,,\"False\",\"T\",\"EveryTick\")","v":186.38},4.7439353099730215E-3,null,null,null,""]
[53,"12:55:00",-24,{"$f":" RTD(\"cqg.rtd\",,\"StudyData\", $D$12,  \"Tick\", \"FlatTicks=0\", \"Tick\",\"D\",C54,\"PrimaryOnly\")","v":191.48},null,null,null,{"$f":"RTD(\"cqg.rtd\",,\"StudyData\", \"Close(\"&$D$12&\") when LocalYear(\"&$D$12&\")=\"&$D$1&\" and localMonth(\"&$D$12&\") =\"&$E$1&\" and LocalDay(\"&$D$12&\")=\"&$F$1&\" and Barix(\"&$D$12&\",reference:=StartOfSession)=\"&A54&\"\", \"Bar\", \"\", \"Close\",\"5\",\"0\",\"PrimaryOnly\",,,\"False\",\"T\",\"EveryTick\")","v":""},{"$error":"#N/A"},{"$f":"RTD(\"cqg.rtd\",,\"StudyData\", \"Close(\"&$D$12&\") when LocalYear(\"&$D$12&\")=\"&$D$2&\" and localMonth(\"&$D$12&\") =\"&$E$2&\" and LocalDay(\"&$D$12&\")=\"&$F$2&\" and Barix(\"&$D$12&\",reference:=StartOfSession)=\"&A54&\"\", \"Bar\", \"\", \"Close\",\"5\",\"0\",\"PrimaryOnly\",,,\"False\",\"T\",\"EveryTick\")","v":190.76},1.5328933361720223E-2,{"$f":"RTD(\"cqg.rtd\",,\"StudyData\", \"Close(\"&$D$12&\") when LocalYear(\"&$D$12&\")=\"&$D$3&\" and localMonth(\"&$D$12&\") =\"&$E$3&\" and LocalDay(\"&$D$12&\")=\"&$F$3&\" and Barix(\"&$D$12&\",reference:=StartOfSession)=\"&A54&\"\", \"Bar\", \"\", \"Close\",\"5\",\"0\",\"PrimaryOnly\",,,\"False\",\"T\",\"EveryTick\")","v":188.14},-1.1610191752035766E-2,{"$f":"RTD(\"cqg.rtd\",,\"StudyData\", \"Close(\"&$D$12&\") when LocalYear(\"&$D$12&\")=\"&$D$4&\" and localMonth(\"&$D$12&\") =\"&$E$4&\" and LocalDay(\"&$D$12&\")=\"&$F$4&\" and Barix(\"&$D$12&\",reference:=StartOfSession)=\"&A54&\"\", \"Bar\", \"\", \"Close\",\"5\",\"0\",\"PrimaryOnly\",,,\"False\",\"T\",\"EveryTick\")","v":190.5},-4.197712246826136E-4,{"$f":"RTD(\"cqg.rtd\",,\"StudyData\", \"Close(\"&$D$12&\") when LocalYear(\"&$D$12&\")=\"&$D$5&\" and localMonth(\"&$D$12&\") =\"&$E$5&\" and LocalDay(\"&$D$12&\")=\"&$F$5&\" and Barix(\"&$D$12&\",reference:=StartOfSession)=\"&A54&\"\", \"Bar\", \"\", \"Close\",\"5\",\"0\",\"PrimaryOnly\",,,\"False\",\"T\",\"EveryTick\")","v":190.28},1.2289195084321979E-2,{"$f":"RTD(\"cqg.rtd\",,\"StudyData\", \"Close(\"&$D$12&\") when LocalYear(\"&$D$12&\")=\"&$D$6&\" and localMonth(\"&$D$12&\") =\"&$E$6&\" and LocalDay(\"&$D$12&\")=\"&$F$6&\" and Barix(\"&$D$12&\",reference:=StartOfSession)=\"&A54&\"\", \"Bar\", \"\", \"Close\",\"5\",\"0\",\"PrimaryOnly\",,,\"False\",\"T\",\"EveryTick\")","v":187.68},1.2297734627831722E-2,{"$f":"RTD(\"cqg.rtd\",,\"StudyData\", \"Close(\"&$D$12&\") when LocalYear(\"&$D$12&\")=\"&$D$7&\" and localMonth(\"&$D$12&\") =\"&$E$7&\" and LocalDay(\"&$D$12&\")=\"&$F$7&\" and Barix(\"&$D$12&\",reference:=StartOfSession)=\"&A54&\"\", \"Bar\", \"\", \"Close\",\"5\",\"0\",\"PrimaryOnly\",,,\"False\",\"T\",\"EveryTick\")","v":185.56},8.9169204001740693E-3,{"$f":"RTD(\"cqg.rtd\",,\"StudyData\", \"Close(\"&$D$12&\") when LocalYear(\"&$D$12&\")=\"&$D$8&\" and localMonth(\"&$D$12&\") =\"&$E$8&\" and LocalDay(\"&$D$12&\")=\"&$F$8&\" and Barix(\"&$D$12&\",reference:=StartOfSession)=\"&A54&\"\", \"Bar\", \"\", \"Close\",\"5\",\"0\",\"PrimaryOnly\",,,\"False\",\"T\",\"EveryTick\")","v":""},{"$error":"#N/A"},{"$f":"RTD(\"cqg.rtd\",,\"StudyData\", \"Close(\"&$D$12&\") when LocalYear(\"&$D$12&\")=\"&$D$9&\" and localMonth(\"&$D$12&\") =\"&$E$9&\" and LocalDay(\"&$D$12&\")=\"&$F$9&\" and Barix(\"&$D$12&\",reference:=StartOfSession)=\"&A54&\"\", \"Bar\", \"\", \"Close\",\"5\",\"0\",\"PrimaryOnly\",,,\"False\",\"T\",\"EveryTick\")","v":186.42},7.0768732105233306E-3,{"$f":"RTD(\"cqg.rtd\",,\"StudyData\", \"Close(\"&$D$12&\") when LocalYear(\"&$D$12&\")=\"&$D$10&\" and localMonth(\"&$D$12&\") =\"&$E$10&\" and LocalDay(\"&$D$12&\")=\"&$F$10&\" and Barix(\"&$D$12&\",reference:=StartOfSession)=\"&A54&\"\", \"Bar\", \"\", \"Close\",\"5\",\"0\",\"PrimaryOnly\",,,\"False\",\"T\",\"EveryTick\")","v":186.31},4.3665768194070202E-3,null,null,null,""]
[54,"13:00:00",-23,{"$f":" RTD(\"cqg.rtd\",,\"StudyData\", $D$12,  \"Tick\", \"FlatTicks=0\", \"Tick\",\"D\",C55,\"PrimaryOnly\")","v":191.49},null,null,null,{"$f":"RTD(\"cqg.rtd\",,\"StudyData\", \"Close(\"&$D$12&\") when LocalYear(\"&$D$12&\")=\"&$D$1&\" and localMonth(\"&$D$12&\") =\"&$E$1&\" and LocalDay(\"&$D$12&\")=\"&$F$1&\" and Barix(\"&$D$12&\",reference:=StartOfSession)=\"&A55&\"\", \"Bar\", \"\", \"Close\",\"5\",\"0\",\"PrimaryOnly\",,,\"False\",\"T\",\"EveryTick\")","v":""},{"$error":"#N/A"},{"$f":"RTD(\"cqg.rtd\",,\"StudyData\", \"Close(\"&$D$12&\") when LocalYear(\"&$D$12&\")=\"&$D$2&\" and localMonth(\"&$D$12&\") =\"&$E$2&\" and LocalDay(\"&$D$12&\")=\"&$F$2&\" and Barix(\"&$D$12&\",reference:=StartOfSession)=\"&A55&\"\", \"Bar\", \"\", \"Close\",\"5\",\"0\",\"PrimaryOnly\",,,\"False\",\"T\",\"EveryTick\")","v":190.78},1.5435384287843334E-2,{"$f":"RTD(\"cqg.rtd\",,\"StudyData\", \"Close(\"&$D$12&\") when LocalYear(\"&$D$12&\")=\"&$D$3&\" and localMonth(\"&$D$12&\") =\"&$E$3&\" and LocalDay(\"&$D$12&\")=\"&$F$3&\" and Barix(\"&$D$12&\",reference:=StartOfSession)=\"&A55&\"\", \"Bar\", \"\", \"Close\",\"5\",\"0\",\"PrimaryOnly\",,,\"False\",\"T\",\"EveryTick\")","v":188.19},-1.1347517730496436E-2,{"$f":"RTD(\"cqg.rtd\",,\"StudyData\", \"Close(\"&$D$12&\") when LocalYear(\"&$D$12&\")=\"&$D$4&\" and localMonth(\"&$D$12&\") =\"&$E$4&\" and LocalDay(\"&$D$12&\")=\"&$F$4&\" and Barix(\"&$D$12&\",reference:=StartOfSession)=\"&A55&\"\", \"Bar\", \"\", \"Close\",\"5\",\"0\",\"PrimaryOnly\",,,\"False\",\"T\",\"EveryTick\")","v":190.52},-3.1482841851192294E-4,{"$f":"RTD(\"cqg.rtd\",,\"StudyData\", \"Close(\"&$D$12&\") when LocalYear(\"&$D$12&\")=\"&$D$5&\" and localMonth(\"&$D$12&\") =\"&$E$5&\" and LocalDay(\"&$D$12&\")=\"&$F$5&\" and Barix(\"&$D$12&\",reference:=StartOfSession)=\"&A55&\"\", \"Bar\", \"\", \"Close\",\"5\",\"0\",\"PrimaryOnly\",,,\"False\",\"T\",\"EveryTick\")","v":190.24},1.2076395169441987E-2,{"$f":"RTD(\"cqg.rtd\",,\"StudyData\", \"Close(\"&$D$12&\") when LocalYear(\"&$D$12&\")=\"&$D$6&\" and localMonth(\"&$D$12&\") =\"&$E$6&\" and LocalDay(\"&$D$12&\")=\"&$F$6&\" and Barix(\"&$D$12&\",reference:=StartOfSession)=\"&A55&\"\", \"Bar\", \"\", \"Close\",\"5\",\"0\",\"PrimaryOnly\",,,\"False\",\"T\",\"EveryTick\")","v":187.73},1.2567421790722675E-2,{"$f":"RTD(\"cqg.rtd\",,\"StudyData\", \"Close(\"&$D$12&\") when LocalYear(\"&$D$12&\")=\"&$D$7&\" and localMonth(\"&$D$12&\") =\"&$E$7&\" and LocalDay(\"&$D$12&\")=\"&$F$7&\" and Barix(\"&$D$12&\",reference:=StartOfSession)=\"&A55&\"\", \"Bar\", \"\", \"Close\",\"5\",\"0\",\"PrimaryOnly\",,,\"False\",\"T\",\"EveryTick\")","v":185.3},7.5032622879514137E-3,{"$f":"RTD(\"cqg.rtd\",,\"StudyData\", \"Close(\"&$D$12&\") when LocalYear(\"&$D$12&\")=\"&$D$8&\" and localMonth(\"&$D$12&\") =\"&$E$8&\" and LocalDay(\"&$D$12&\")=\"&$F$8&\" and Barix(\"&$D$12&\",reference:=StartOfSession)=\"&A55&\"\", \"Bar\", \"\", \"Close\",\"5\",\"0\",\"PrimaryOnly\",,,\"False\",\"T\",\"EveryTick\")","v":""},{"$error":"#N/A"},{"$f":"RTD(\"cqg.rtd\",,\"StudyData\", \"Close(\"&$D$12&\") when LocalYear(\"&$D$12&\")=\"&$D$9&\" and localMonth(\"&$D$12&\") =\"&$E$9&\" and LocalDay(\"&$D$12&\")=\"&$F$9&\" and Barix(\"&$D$12&\",reference:=StartOfSession)=\"&A55&\"\", \"Bar\", \"\", \"Close\",\"5\",\"0\",\"PrimaryOnly\",,,\"False\",\"T\",\"EveryTick\")","v":186.7},8.5894873318565976E-3,{"$f":"RTD(\"cqg.rtd\",,\"StudyData\", \"Close(\"&$D$12&\") when LocalYear(\"&$D$12&\")=\"&$D$10&\" and localMonth(\"&$D$12&\") =\"&$E$10&\" and LocalDay(\"&$D$12&\")=\"&$F$10&\" and Barix(\"&$D$12&\",reference:=StartOfSession)=\"&A55&\"\", \"Bar\", \"\", \"Close\",\"5\",\"0\",\"PrimaryOnly\",,,\"False\",\"T\",\"EveryTick\")","v":186.33},4.4743935309973721E-3,null,null,null,""]
[55,"13:05:00",-22,{"$f":" RTD(\"cqg.rtd\",,\"StudyData\", $D$12,  \"Tick\", \"FlatTicks=0\", \"Tick\",\"D\",C56,\"PrimaryOnly\")","v":191.48},null,null,null,{"$f":"RTD(\"cqg.rtd\",,\"StudyData\", \"Close(\"&$D$12&\") when LocalYear(\"&$D$12&\")=\"&$D$1&\" and localMonth(\"&$D$12&\") =\"&$E$1&\" and LocalDay(\"&$D$12&\")=\"&$F$1&\" and Barix(\"&$D$12&\",reference:=StartOfSession)=\"&A56&\"\", \"Bar\", \"\", \"Close\",\"5\",\"0\",\"PrimaryOnly\",,,\"False\",\"T\",\"EveryTick\")","v":""},{"$error":"#N/A"},{"$f":"RTD(\"cqg.rtd\",,\"StudyData\", \"Close(\"&$D$12&\") when LocalYear(\"&$D$12&\")=\"&$D$2&\" and localMonth(\"&$D$12&\") =\"&$E$2&\" and LocalDay(\"&$D$12&\")=\"&$F$2&\" and Barix(\"&$D$12&\",reference:=StartOfSession)=\"&A56&\"\", \"Bar\", \"\", \"Close\",\"5\",\"0\",\"PrimaryOnly\",,,\"False\",\"T\",\"EveryTick\")","v":190.66},1.4796678731104967E-2,{"$f":"RTD(\"cqg.rtd\",,\"StudyData\", \"Close(\"&$D$12&\") when LocalYear(\"&$D$12&\")=\"&$D$3&\" and localMonth(\"&$D$12&\") =\"&$E$3&\" and LocalDay(\"&$D$12&\")=\"&$F$3&\" and Barix(\"&$D$12&\",reference:=StartOfSession)=\"&A56&\"\", \"Bar\", \"\", \"Close\",\"5\",\"0\",\"PrimaryOnly\",,,\"False\",\"T\",\"EveryTick\")","v":188.14},-1.1610191752035766E-2,{"$f":"RTD(\"cqg.rtd\",,\"StudyData\", \"Close(\"&$D$12&\") when LocalYear(\"&$D$12&\")=\"&$D$4&\" and localMonth(\"&$D$12&\") =\"&$E$4&\" and LocalDay(\"&$D$12&\")=\"&$F$4&\" and Barix(\"&$D$12&\",reference:=StartOfSession)=\"&A56&\"\", \"Bar\", \"\", \"Close\",\"5\",\"0\",\"PrimaryOnly\",,,\"False\",\"T\",\"EveryTick\")","v":190.53},-2.6235701542665215E-4,{"$f":"RTD(\"cqg.rtd\",,\"StudyData\", \"Close(\"&$D$12&\") when LocalYear(\"&$D$12&\")=\"&$D$5&\" and localMonth(\"&$D$12&\") =\"&$E$5&\" and LocalDay(\"&$D$12&\")=\"&$F$5&\" and Barix(\"&$D$12&\",reference:=StartOfSession)=\"&A56&\"\", \"Bar\", \"\", \"Close\",\"5\",\"0\",\"PrimaryOnly\",,,\"False\",\"T\",\"EveryTick\")","v":190.11},1.13847954460819E-2,{"$f":"RTD(\"cqg.rtd\",,\"StudyData\", \"Close(\"&$D$12&\") when LocalYear(\"&$D$12&\")=\"&$D$6&\" and localMonth(\"&$D$12&\") =\"&$E$6&\" and LocalDay(\"&$D$12&\")=\"&$F$6&\" and Barix(\"&$D$12&\",reference:=StartOfSession)=\"&A56&\"\", \"Bar\", \"\", \"Close\",\"5\",\"0\",\"PrimaryOnly\",,,\"False\",\"T\",\"EveryTick\")","v":187.67},1.2243797195253408E-2,{"$f":"RTD(\"cqg.rtd\",,\"StudyData\", \"Close(\"&$D$12&\") when LocalYear(\"&$D$12&\")=\"&$D$7&\" and localMonth(\"&$D$12&\") =\"&$E$7&\" and LocalDay(\"&$D$12&\")=\"&$F$7&\" and Barix(\"&$D$12&\",reference:=StartOfSession)=\"&A56&\"\", \"Bar\", \"\", \"Close\",\"5\",\"0\",\"PrimaryOnly\",,,\"False\",\"T\",\"EveryTick\")","v":185.28},7.3945193562419192E-3,{"$f":"RTD(\"cqg.rtd\",,\"StudyData\", \"Close(\"&$D$12&\") when LocalYear(\"&$D$12&\")=\"&$D$8&\" and localMonth(\"&$D$12&\") =\"&$E$8&\" and LocalDay(\"&$D$12&\")=\"&$F$8&\" and Barix(\"&$D$12&\",reference:=StartOfSession)=\"&A56&\"\", \"Bar\", \"\", \"Close\",\"5\",\"0\",\"PrimaryOnly\",,,\"False\",\"T\",\"EveryTick\")","v":""},{"$error":"#N/A"},{"$f":"RTD(\"cqg.rtd\",,\"StudyData\", \"Close(\"&$D$12&\") when LocalYear(\"&$D$12&\")=\"&$D$9&\" and localMonth(\"&$D$12&\") =\"&$E$9&\" and LocalDay(\"&$D$12&\")=\"&$F$9&\" and Barix(\"&$D$12&\",reference:=StartOfSession)=\"&A56&\"\", \"Bar\", \"\", \"Close\",\"5\",\"0\",\"PrimaryOnly\",,,\"False\",\"T\",\"EveryTick\")","v":186.69},8.5354653989518879E-3,{"$f":"RTD(\"cqg.rtd\",,\"StudyData\", \"Close(\"&$D$12&\") when LocalYear(\"&$D$12&\")=\"&$D$10&\" and localMonth(\"&$D$12&\") =\"&$E$10&\" and LocalDay(\"&$D$12&\")=\"&$F$10&\" and Barix(\"&$D$12&\",reference:=StartOfSession)=\"&A56&\"\", \"Bar\", \"\", \"Close\",\"5\",\"0\",\"PrimaryOnly\",,,\"False\",\"T\",\"EveryTick\")","v":186.25},4.0431266846361188E-3,null,null,null,""]
[56,"13:10:00",-21,{"$f":" RTD(\"cqg.rtd\",,\"StudyData\", $D$12,  \"Tick\", \"FlatTicks=0\", \"Tick\",\"D\",C57,\"PrimaryOnly\")","v":191.49},null,null,null,{"$f":"RTD(\"cqg.rtd\",,\"StudyData\", \"Close(\"&$D$12&\") when LocalYear(\"&$D$12&\")=\"&$D$1&\" and localMonth(\"&$D$12&\") =\"&$E$1&\" and LocalDay(\"&$D$12&\")=\"&$F$1&\" and Barix(\"&$D$12&\",reference:=StartOfSession)=\"&A57&\"\", \"Bar\", \"\", \"Close\",\"5\",\"0\",\"PrimaryOnly\",,,\"False\",\"T\",\"EveryTick\")","v":""},{"$error":"#N/A"},{"$f":"RTD(\"cqg.rtd\",,\"StudyData\", \"Close(\"&$D$12&\") when LocalYear(\"&$D$12&\")=\"&$D$2&\" and localMonth(\"&$D$12&\") =\"&$E$2&\" and LocalDay(\"&$D$12&\")=\"&$F$2&\" and Barix(\"&$D$12&\",reference:=StartOfSession)=\"&A57&\"\", \"Bar\", \"\", \"Close\",\"5\",\"0\",\"PrimaryOnly\",,,\"False\",\"T\",\"EveryTick\")","v":190.79},1.5488609750904814E-2,{"$f":"RTD(\"cqg.rtd\",,\"StudyData\", \"Close(\"&$D$12&\") when LocalYear(\"&$D$12&\")=\"&$D$3&\" and localMonth(\"&$D$12&\") =\"&$E$3&\" and LocalDay(\"&$D$12&\")=\"&$F$3&\" and Barix(\"&$D$12&\",reference:=StartOfSession)=\"&A57&\"\", \"Bar\", \"\", \"Close\",\"5\",\"0\",\"PrimaryOnly\",,,\"False\",\"T\",\"EveryTick\")","v":187.87},-1.3028631468347728E-2,{"$f":"RTD(\"cqg.rtd\",,\"StudyData\", \"Close(\"&$D$12&\") when LocalYear(\"&$D$12&\")=\"&$D$4&\" and localMonth(\"&$D$12&\") =\"&$E$4&\" and LocalDay(\"&$D$12&\")=\"&$F$4&\" and Barix(\"&$D$12&\",reference:=StartOfSession)=\"&A57&\"\", \"Bar\", \"\", \"Close\",\"5\",\"0\",\"PrimaryOnly\",,,\"False\",\"T\",\"EveryTick\")","v":190.52},-3.1482841851192294E-4,{"$f":"RTD(\"cqg.rtd\",,\"StudyData\", \"Close(\"&$D$12&\") when LocalYear(\"&$D$12&\")=\"&$D$5&\" and localMonth(\"&$D$12&\") =\"&$E$5&\" and LocalDay(\"&$D$12&\")=\"&$F$5&\" and Barix(\"&$D$12&\",reference:=StartOfSession)=\"&A57&\"\", \"Bar\", \"\", \"Close\",\"5\",\"0\",\"PrimaryOnly\",,,\"False\",\"T\",\"EveryTick\")","v":190.17},1.1703995318401812E-2,{"$f":"RTD(\"cqg.rtd\",,\"StudyData\", \"Close(\"&$D$12&\") when LocalYear(\"&$D$12&\")=\"&$D$6&\" and localMonth(\"&$D$12&\") =\"&$E$6&\" and LocalDay(\"&$D$12&\")=\"&$F$6&\" and Barix(\"&$D$12&\",reference:=StartOfSession)=\"&A57&\"\", \"Bar\", \"\", \"Close\",\"5\",\"0\",\"PrimaryOnly\",,,\"False\",\"T\",\"EveryTick\")","v":187.63},1.2028047464940614E-2,{"$f":"RTD(\"cqg.rtd\",,\"StudyData\", \"Close(\"&$D$12&\") when LocalYear(\"&$D$12&\")=\"&$D$7&\" and localMonth(\"&$D$12&\") =\"&$E$7&\" and LocalDay(\"&$D$12&\")=\"&$F$7&\" and Barix(\"&$D$12&\",reference:=StartOfSession)=\"&A57&\"\", \"Bar\", \"\", \"Close\",\"5\",\"0\",\"PrimaryOnly\",,,\"False\",\"T\",\"EveryTick\")","v":185.08},6.3070900391475919E-3,{"$f":"RTD(\"cqg.rtd\",,\"StudyData\", \"Close(\"&$D$12&\") when LocalYear(\"&$D$12&\")=\"&$D$8&\" and localMonth(\"&$D$12&\") =\"&$E$8&\" and LocalDay(\"&$D$12&\")=\"&$F$8&\" and Barix(\"&$D$12&\",reference:=StartOfSession)=\"&A57&\"\", \"Bar\", \"\", \"Close\",\"5\",\"0\",\"PrimaryOnly\",,,\"False\",\"T\",\"EveryTick\")","v":""},{"$error":"#N/A"},{"$f":"RTD(\"cqg.rtd\",,\"StudyData\", \"Close(\"&$D$12&\") when LocalYear(\"&$D$12&\")=\"&$D$9&\" and localMonth(\"&$D$12&\") =\"&$E$9&\" and LocalDay(\"&$D$12&\")=\"&$F$9&\" and Barix(\"&$D$12&\",reference:=StartOfSession)=\"&A57&\"\", \"Bar\", \"\", \"Close\",\"5\",\"0\",\"PrimaryOnly\",,,\"False\",\"T\",\"EveryTick\")","v":186.69},8.5354653989518879E-3,{"$f":"RTD(\"cqg.rtd\",,\"StudyData\", \"Close(\"&$D$12&\") when LocalYear(\"&$D$12&\")=\"&$D$10&\" and localMonth(\"&$D$12&\") =\"&$E$10&\" and LocalDay(\"&$D$12&\")=\"&$F$10&\" and Barix(\"&$D$12&\",reference:=StartOfSession)=\"&A57&\"\", \"Bar\", \"\", \"Close\",\"5\",\"0\",\"PrimaryOnly\",,,\"False\",\"T\",\"EveryTick\")","v":186.23},3.9353099730457669E-3,null,null,null,""]
[57,"13:15:00",-20,{"$f":" RTD(\"cqg.rtd\",,\"StudyData\", $D$12,  \"Tick\", \"FlatTicks=0\", \"Tick\",\"D\",C58,\"PrimaryOnly\")","v":191.48},null,null,null,{"$f":"RTD(\"cqg.rtd\",,\"StudyData\", \"Close(\"&$D$12&\") when LocalYear(\"&$D$12&\")=\"&$D$1&\" and localMonth(\"&$D$12&\") =\"&$E$1&\" and LocalDay(\"&$D$12&\")=\"&$F$1&\" and Barix(\"&$D$12&\",reference:=StartOfSession)=\"&A58&\"\", \"Bar\", \"\", \"Close\",\"5\",\"0\",\"PrimaryOnly\",,,\"False\",\"T\",\"EveryTick\")","v":""},{"$error":"#N/A"},{"$f":"RTD(\"cqg.rtd\",,\"StudyData\", \"Close(\"&$D$12&\") when LocalYear(\"&$D$12&\")=\"&$D$2&\" and localMonth(\"&$D$12&\") =\"&$E$2&\" and LocalDay(\"&$D$12&\")=\"&$F$2&\" and Barix(\"&$D$12&\",reference:=StartOfSession)=\"&A58&\"\", \"Bar\", \"\", \"Close\",\"5\",\"0\",\"PrimaryOnly\",,,\"False\",\"T\",\"EveryTick\")","v":190.93},1.6233766233766295E-2,{"$f":"RTD(\"cqg.rtd\",,\"StudyData\", \"Close(\"&$D$12&\") when LocalYear(\"&$D$12&\")=\"&$D$3&\" and localMonth(\"&$D$12&\") =\"&$E$3&\" and LocalDay(\"&$D$12&\")=\"&$F$3&\" and Barix(\"&$D$12&\",reference:=StartOfSession)=\"&A58&\"\", \"Bar\", \"\", \"Close\",\"5\",\"0\",\"PrimaryOnly\",,,\"False\",\"T\",\"EveryTick\")","v":188},-1.2345679012345649E-2,{"$f":"RTD(\"cqg.rtd\",,\"StudyData\", \"Close(\"&$D$12&\") when LocalYear(\"&$D$12&\")=\"&$D$4&\" and localMonth(\"&$D$12&\") =\"&$E$4&\" and LocalDay(\"&$D$12&\")=\"&$F$4&\" and Barix(\"&$D$12&\",reference:=StartOfSession)=\"&A58&\"\", \"Bar\", \"\", \"Close\",\"5\",\"0\",\"PrimaryOnly\",,,\"False\",\"T\",\"EveryTick\")","v":190.38},-1.0494280617064594E-3,{"$f":"RTD(\"cqg.rtd\",,\"StudyData\", \"Close(\"&$D$12&\") when LocalYear(\"&$D$12&\")=\"&$D$5&\" and localMonth(\"&$D$12&\") =\"&$E$5&\" and LocalDay(\"&$D$12&\")=\"&$F$5&\" and Barix(\"&$D$12&\",reference:=StartOfSession)=\"&A58&\"\", \"Bar\", \"\", \"Close\",\"5\",\"0\",\"PrimaryOnly\",,,\"False\",\"T\",\"EveryTick\")","v":190.28},1.2289195084321979E-2,{"$f":"RTD(\"cqg.rtd\",,\"StudyData\", \"Close(\"&$D$12&\") when LocalYear(\"&$D$12&\")=\"&$D$6&\" and localMonth(\"&$D$12&\") =\"&$E$6&\" and LocalDay(\"&$D$12&\")=\"&$F$6&\" and Barix(\"&$D$12&\",reference:=StartOfSession)=\"&A58&\"\", \"Bar\", \"\", \"Close\",\"5\",\"0\",\"PrimaryOnly\",,,\"False\",\"T\",\"EveryTick\")","v":187.61},1.1920172599784293E-2,{"$f":"RTD(\"cqg.rtd\",,\"StudyData\", \"Close(\"&$D$12&\") when LocalYear(\"&$D$12&\")=\"&$D$7&\" and localMonth(\"&$D$12&\") =\"&$E$7&\" and LocalDay(\"&$D$12&\")=\"&$F$7&\" and Barix(\"&$D$12&\",reference:=StartOfSession)=\"&A58&\"\", \"Bar\", \"\", \"Close\",\"5\",\"0\",\"PrimaryOnly\",,,\"False\",\"T\",\"EveryTick\")","v":185.37},7.883862548934412E-3,{"$f":"RTD(\"cqg.rtd\",,\"StudyData\", \"Close(\"&$D$12&\") when LocalYear(\"&$D$12&\")=\"&$D$8&\" and localMonth(\"&$D$12&\") =\"&$E$8&\" and LocalDay(\"&$D$12&\")=\"&$F$8&\" and Barix(\"&$D$12&\",reference:=StartOfSession)=\"&A58&\"\", \"Bar\", \"\", \"Close\",\"5\",\"0\",\"PrimaryOnly\",,,\"False\",\"T\",\"EveryTick\")","v":""},{"$error":"#N/A"},{"$f":"RTD(\"cqg.rtd\",,\"StudyData\", \"Close(\"&$D$12&\") when LocalYear(\"&$D$12&\")=\"&$D$9&\" and localMonth(\"&$D$12&\") =\"&$E$9&\" and LocalDay(\"&$D$12&\")=\"&$F$9&\" and Barix(\"&$D$12&\",reference:=StartOfSession)=\"&A58&\"\", \"Bar\", \"\", \"Close\",\"5\",\"0\",\"PrimaryOnly\",,,\"False\",\"T\",\"EveryTick\")","v":186.85},9.3998163254280179E-3,{"$f":"RTD(\"cqg.rtd\",,\"StudyData\", \"Close(\"&$D$12&\") when LocalYear(\"&$D$12&\")=\"&$D$10&\" and localMonth(\"&$D$12&\") =\"&$E$10&\" and LocalDay(\"&$D$12&\")=\"&$F$10&\" and Barix(\"&$D$12&\",reference:=StartOfSession)=\"&A58&\"\", \"Bar\", \"\", \"Close\",\"5\",\"0\",\"PrimaryOnly\",,,\"False\",\"T\",\"EveryTick\")","v":186.17},3.6118598382748651E-3,null,null,null,""]
[58,"13:20:00",{"$f":"C58+1","v":-19},{"$f":" RTD(\"cqg.rtd\",,\"StudyData\", $D$12,  \"Tick\", \"FlatTicks=0\", \"Tick\",\"D\",C59,\"PrimaryOnly\")","v":191.49},null,null,null,{"$f":"RTD(\"cqg.rtd\",,\"StudyData\", \"Close(\"&$D$12&\") when LocalYear(\"&$D$12&\")=\"&$D$1&\" and localMonth(\"&$D$12&\") =\"&$E$1&\" and LocalDay(\"&$D$12&\")=\"&$F$1&\" and Barix(\"&$D$12&\",reference:=StartOfSession)=\"&A59&\"\", \"Bar\", \"\", \"Close\",\"5\",\"0\",\"PrimaryOnly\",,,\"False\",\"T\",\"EveryTick\")","v":""},{"$error":"#N/A"},{"$f":"RTD(\"cqg.rtd\",,\"StudyData\", \"Close(\"&$D$12&\") when LocalYear(\"&$D$12&\")=\"&$D$2&\" and localMonth(\"&$D$12&\") =\"&$E$2&\" and LocalDay(\"&$D$12&\")=\"&$F$2&\" and Barix(\"&$D$12&\",reference:=StartOfSession)=\"&A59&\"\", \"Bar\", \"\", \"Close\",\"5\",\"0\",\"PrimaryOnly\",,,\"False\",\"T\",\"EveryTick\")","v":190.96},1.6393442622950886E-2,{"$f":"RTD(\"cqg.rtd\",,\"StudyData\", \"Close(\"&$D$12&\") when LocalYear(\"&$D$12&\")=\"&$D$3&\" and localMonth(\"&$D$12&\") =\"&$E$3&\" and LocalDay(\"&$D$12&\")=\"&$F$3&\" and Barix(\"&$D$12&\",reference:=StartOfSession)=\"&A59&\"\", \"Bar\", \"\", \"Close\",\"5\",\"0\",\"PrimaryOnly\",,,\"False\",\"T\",\"EveryTick\")","v":188.17},-1.1452587339112199E-2,{"$f":"RTD(\"cqg.rtd\",,\"StudyData\", \"Close(\"&$D$12&\") when LocalYear(\"&$D$12&\")=\"&$D$4&\" and localMonth(\"&$D$12&\") =\"&$E$4&\" and LocalDay(\"&$D$12&\")=\"&$F$4&\" and Barix(\"&$D$12&\",reference:=StartOfSession)=\"&A59&\"\", \"Bar\", \"\", \"Close\",\"5\",\"0\",\"PrimaryOnly\",,,\"False\",\"T\",\"EveryTick\")","v":190.4},-9.4448525553576877E-4,{"$f":"RTD(\"cqg.rtd\",,\"StudyData\", \"Close(\"&$D$12&\") when LocalYear(\"&$D$12&\")=\"&$D$5&\" and localMonth(\"&$D$12&\") =\"&$E$5&\" and LocalDay(\"&$D$12&\")=\"&$F$5&\" and Barix(\"&$D$12&\",reference:=StartOfSession)=\"&A59&\"\", \"Bar\", \"\", \"Close\",\"5\",\"0\",\"PrimaryOnly\",,,\"False\",\"T\",\"EveryTick\")","v":190.18},1.1757195297121924E-2,{"$f":"RTD(\"cqg.rtd\",,\"StudyData\", \"Close(\"&$D$12&\") when LocalYear(\"&$D$12&\")=\"&$D$6&\" and localMonth(\"&$D$12&\") =\"&$E$6&\" and LocalDay(\"&$D$12&\")=\"&$F$6&\" and Barix(\"&$D$12&\",reference:=StartOfSession)=\"&A59&\"\", \"Bar\", \"\", \"Close\",\"5\",\"0\",\"PrimaryOnly\",,,\"False\",\"T\",\"EveryTick\")","v":187.64},1.2081984897518773E-2,{"$f":"RTD(\"cqg.rtd\",,\"StudyData\", \"Close(\"&$D$12&\") when LocalYear(\"&$D$12&\")=\"&$D$7&\" and localMonth(\"&$D$12&\") =\"&$E$7&\" and LocalDay(\"&$D$12&\")=\"&$F$7&\" and Barix(\"&$D$12&\",reference:=StartOfSession)=\"&A59&\"\", \"Bar\", \"\", \"Close\",\"5\",\"0\",\"PrimaryOnly\",,,\"False\",\"T\",\"EveryTick\")","v":185.42},8.1557198782079166E-3,{"$f":"RTD(\"cqg.rtd\",,\"StudyData\", \"Close(\"&$D$12&\") when LocalYear(\"&$D$12&\")=\"&$D$8&\" and localMonth(\"&$D$12&\") =\"&$E$8&\" and LocalDay(\"&$D$12&\")=\"&$F$8&\" and Barix(\"&$D$12&\",reference:=StartOfSession)=\"&A59&\"\", \"Bar\", \"\", \"Close\",\"5\",\"0\",\"PrimaryOnly\",,,\"False\",\"T\",\"EveryTick\")","v":""},{"$error":"#N/A"},{"$f":"RTD(\"cqg.rtd\",,\"StudyData\", \"Close(\"&$D$12&\") when LocalYear(\"&$D$12&\")=\"&$D$9&\" and localMonth(\"&$D$12&\") =\"&$E$9&\" and LocalDay(\"&$D$12&\")=\"&$F$9&\" and Barix(\"&$D$12&\",reference:=StartOfSession)=\"&A59&\"\", \"Bar\", \"\", \"Close\",\"5\",\"0\",\"PrimaryOnly\",,,\"False\",\"T\",\"EveryTick\")","v":186.89},9.6159040570470127E-3,{"$f":"RTD(\"cqg.rtd\",,\"StudyData\", \"Close(\"&$D$12&\") when LocalYear(\"&$D$12&\")=\"&$D$10&\" and localMonth(\"&$D$12&\") =\"&$E$10&\" and LocalDay(\"&$D$12&\")=\"&$F$10&\" and Barix(\"&$D$12&\",reference:=StartOfSession)=\"&A59&\"\", \"Bar\", \"\", \"Close\",\"5\",\"0\",\"PrimaryOnly\",,,\"False\",\"T\",\"EveryTick\")","v":186.29},4.2587601078166691E-3,null,null,null,""]
[59,"13:25:00",{"$f":"C59+1","v":-18},{"$f":" RTD(\"cqg.rtd\",,\"StudyData\", $D$12,  \"Tick\", \"FlatTicks=0\", \"Tick\",\"D\",C60,\"PrimaryOnly\")","v":191.48},null,null,null,{"$f":"RTD(\"cqg.rtd\",,\"StudyData\", \"Close(\"&$D$12&\") when LocalYear(\"&$D$12&\")=\"&$D$1&\" and localMonth(\"&$D$12&\") =\"&$E$1&\" and LocalDay(\"&$D$12&\")=\"&$F$1&\" and Barix(\"&$D$12&\",reference:=StartOfSession)=\"&A60&\"\", \"Bar\", \"\", \"Close\",\"5\",\"0\",\"PrimaryOnly\",,,\"False\",\"T\",\"EveryTick\")","v":""},{"$error":"#N/A"},{"$f":"RTD(\"cqg.rtd\",,\"StudyData\", \"Close(\"&$D$12&\") when LocalYear(\"&$D$12&\")=\"&$D$2&\" and localMonth(\"&$D$12&\") =\"&$E$2&\" and LocalDay(\"&$D$12&\")=\"&$F$2&\" and Barix(\"&$D$12&\",reference:=StartOfSession)=\"&A60&\"\", \"Bar\", \"\", \"Close\",\"5\",\"0\",\"PrimaryOnly\",,,\"False\",\"T\",\"EveryTick\")","v":190.97},1.6446668086012368E-2,{"$f":"RTD(\"cqg.rtd\",,\"StudyData\", \"Close(\"&$D$12&\") when LocalYear(\"&$D$12&\")=\"&$D$3&\" and localMonth(\"&$D$12&\") =\"&$E$3&\" and LocalDay(\"&$D$12&\")=\"&$F$3&\" and Barix(\"&$D$12&\",reference:=StartOfSession)=\"&A60&\"\", \"Bar\", \"\", \"Close\",\"5\",\"0\",\"PrimaryOnly\",,,\"False\",\"T\",\"EveryTick\")","v":188.29},-1.0822169687417926E-2,{"$f":"RTD(\"cqg.rtd\",,\"StudyData\", \"Close(\"&$D$12&\") when LocalYear(\"&$D$12&\")=\"&$D$4&\" and localMonth(\"&$D$12&\") =\"&$E$4&\" and LocalDay(\"&$D$12&\")=\"&$F$4&\" and Barix(\"&$D$12&\",reference:=StartOfSession)=\"&A60&\"\", \"Bar\", \"\", \"Close\",\"5\",\"0\",\"PrimaryOnly\",,,\"False\",\"T\",\"EveryTick\")","v":190.42},-8.3954244936522719E-4,{"$f":"RTD(\"cqg.rtd\",,\"StudyData\", \"Close(\"&$D$12&\") when LocalYear(\"&$D$12&\")=\"&$D$5&\" and localMonth(\"&$D$12&\") =\"&$E$5&\" and LocalDay(\"&$D$12&\")=\"&$F$5&\" and Barix(\"&$D$12&\",reference:=StartOfSession)=\"&A60&\"\", \"Bar\", \"\", \"Close\",\"5\",\"0\",\"PrimaryOnly\",,,\"False\",\"T\",\"EveryTick\")","v":190.18},1.1757195297121924E-2,{"$f":"RTD(\"cqg.rtd\",,\"StudyData\", \"Close(\"&$D$12&\") when LocalYear(\"&$D$12&\")=\"&$D$6&\" and localMonth(\"&$D$12&\") =\"&$E$6&\" and LocalDay(\"&$D$12&\")=\"&$F$6&\" and Barix(\"&$D$12&\",reference:=StartOfSession)=\"&A60&\"\", \"Bar\", \"\", \"Close\",\"5\",\"0\",\"PrimaryOnly\",,,\"False\",\"T\",\"EveryTick\")","v":187.64},1.2081984897518773E-2,{"$f":"RTD(\"cqg.rtd\",,\"StudyData\", \"Close(\"&$D$12&\") when LocalYear(\"&$D$12&\")=\"&$D$7&\" and localMonth(\"&$D$12&\") =\"&$E$7&\" and LocalDay(\"&$D$12&\")=\"&$F$7&\" and Barix(\"&$D$12&\",reference:=StartOfSession)=\"&A60&\"\", \"Bar\", \"\", \"Close\",\"5\",\"0\",\"PrimaryOnly\",,,\"False\",\"T\",\"EveryTick\")","v":185.59},9.0800347977382338E-3,{"$f":"RTD(\"cqg.rtd\",,\"StudyData\", \"Close(\"&$D$12&\") when LocalYear(\"&$D$12&\")=\"&$D$8&\" and localMonth(\"&$D$12&\") =\"&$E$8&\" and LocalDay(\"&$D$12&\")=\"&$F$8&\" and Barix(\"&$D$12&\",reference:=StartOfSession)=\"&A60&\"\", \"Bar\", \"\", \"Close\",\"5\",\"0\",\"PrimaryOnly\",,,\"False\",\"T\",\"EveryTick\")","v":""},{"$error":"#N/A"},{"$f":"RTD(\"cqg.rtd\",,\"StudyData\", \"Close(\"&$D$12&\") when LocalYear(\"&$D$12&\")=\"&$D$9&\" and localMonth(\"&$D$12&\") =\"&$E$9&\" and LocalDay(\"&$D$12&\")=\"&$F$9&\" and Barix(\"&$D$12&\",reference:=StartOfSession)=\"&A60&\"\", \"Bar\", \"\", \"Close\",\"5\",\"0\",\"PrimaryOnly\",,,\"False\",\"T\",\"EveryTick\")","v":186.87},9.5078601912375934E-3,{"$f":"RTD(\"cqg.rtd\",,\"StudyData\", \"Close(\"&$D$12&\") when LocalYear(\"&$D$12&\")=\"&$D$10&\" and localMonth(\"&$D$12&\") =\"&$E$10&\" and LocalDay(\"&$D$12&\")=\"&$F$10&\" and Barix(\"&$D$12&\",reference:=StartOfSession)=\"&A60&\"\", \"Bar\", \"\", \"Close\",\"5\",\"0\",\"PrimaryOnly\",,,\"False\",\"T\",\"EveryTick\")","v":186.37},4.6900269541779224E-3,null,null,null,""]
[60,"13:30:00",-17,{"$f":" RTD(\"cqg.rtd\",,\"StudyData\", $D$12,  \"Tick\", \"FlatTicks=0\", \"Tick\",\"D\",C61,\"PrimaryOnly\")","v":191.49},null,null,null,{"$f":"RTD(\"cqg.rtd\",,\"StudyData\", \"Close(\"&$D$12&\") when LocalYear(\"&$D$12&\")=\"&$D$1&\" and localMonth(\"&$D$12&\") =\"&$E$1&\" and LocalDay(\"&$D$12&\")=\"&$F$1&\" and Barix(\"&$D$12&\",reference:=StartOfSession)=\"&A61&\"\", \"Bar\", \"\", \"Close\",\"5\",\"0\",\"PrimaryOnly\",,,\"False\",\"T\",\"EveryTick\")","v":""},{"$error":"#N/A"},{"$f":"RTD(\"cqg.rtd\",,\"StudyData\", \"Close(\"&$D$12&\") when LocalYear(\"&$D$12&\")=\"&$D$2&\" and localMonth(\"&$D$12&\") =\"&$E$2&\" and LocalDay(\"&$D$12&\")=\"&$F$2&\" and Barix(\"&$D$12&\",reference:=StartOfSession)=\"&A61&\"\", \"Bar\", \"\", \"Close\",\"5\",\"0\",\"PrimaryOnly\",,,\"False\",\"T\",\"EveryTick\")","v":190.92},1.6180540770704663E-2,{"$f":"RTD(\"cqg.rtd\",,\"StudyData\", \"Close(\"&$D$12&\") when LocalYear(\"&$D$12&\")=\"&$D$3&\" and localMonth(\"&$D$12&\") =\"&$E$3&\" and LocalDay(\"&$D$12&\")=\"&$F$3&\" and Barix(\"&$D$12&\",reference:=StartOfSession)=\"&A61&\"\", \"Bar\", \"\", \"Close\",\"5\",\"0\",\"PrimaryOnly\",,,\"False\",\"T\",\"EveryTick\")","v":188.24},-1.1084843708957107E-2,{"$f":"RTD(\"cqg.rtd\",,\"StudyData\", \"Close(\"&$D$12&\") when LocalYear(\"&$D$12&\")=\"&$D$4&\" and localMonth(\"&$D$12&\") =\"&$E$4&\" and LocalDay(\"&$D$12&\")=\"&$F$4&\" and Barix(\"&$D$12&\",reference:=StartOfSession)=\"&A61&\"\", \"Bar\", \"\", \"Close\",\"5\",\"0\",\"PrimaryOnly\",,,\"False\",\"T\",\"EveryTick\")","v":190.4},-9.4448525553576877E-4,{"$f":"RTD(\"cqg.rtd\",,\"StudyData\", \"Close(\"&$D$12&\") when LocalYear(\"&$D$12&\")=\"&$D$5&\" and localMonth(\"&$D$12&\") =\"&$E$5&\" and LocalDay(\"&$D$12&\")=\"&$F$5&\" and Barix(\"&$D$12&\",reference:=StartOfSession)=\"&A61&\"\", \"Bar\", \"\", \"Close\",\"5\",\"0\",\"PrimaryOnly\",,,\"False\",\"T\",\"EveryTick\")","v":190.16},1.1650795339681852E-2,{"$f":"RTD(\"cqg.rtd\",,\"StudyData\", \"Close(\"&$D$12&\") when LocalYear(\"&$D$12&\")=\"&$D$6&\" and localMonth(\"&$D$12&\") =\"&$E$6&\" and LocalDay(\"&$D$12&\")=\"&$F$6&\" and Barix(\"&$D$12&\",reference:=StartOfSession)=\"&A61&\"\", \"Bar\", \"\", \"Close\",\"5\",\"0\",\"PrimaryOnly\",,,\"False\",\"T\",\"EveryTick\")","v":187.6},1.1866235167205979E-2,{"$f":"RTD(\"cqg.rtd\",,\"StudyData\", \"Close(\"&$D$12&\") when LocalYear(\"&$D$12&\")=\"&$D$7&\" and localMonth(\"&$D$12&\") =\"&$E$7&\" and LocalDay(\"&$D$12&\")=\"&$F$7&\" and Barix(\"&$D$12&\",reference:=StartOfSession)=\"&A61&\"\", \"Bar\", \"\", \"Close\",\"5\",\"0\",\"PrimaryOnly\",,,\"False\",\"T\",\"EveryTick\")","v":185.66},9.460635058721233E-3,{"$f":"RTD(\"cqg.rtd\",,\"StudyData\", \"Close(\"&$D$12&\") when LocalYear(\"&$D$12&\")=\"&$D$8&\" and localMonth(\"&$D$12&\") =\"&$E$8&\" and LocalDay(\"&$D$12&\")=\"&$F$8&\" and Barix(\"&$D$12&\",reference:=StartOfSession)=\"&A61&\"\", \"Bar\", \"\", \"Close\",\"5\",\"0\",\"PrimaryOnly\",,,\"False\",\"T\",\"EveryTick\")","v":""},{"$error":"#N/A"},{"$f":"RTD(\"cqg.rtd\",,\"StudyData\", \"Close(\"&$D$12&\") when LocalYear(\"&$D$12&\")=\"&$D$9&\" and localMonth(\"&$D$12&\") =\"&$E$9&\" and LocalDay(\"&$D$12&\")=\"&$F$9&\" and Barix(\"&$D$12&\",reference:=StartOfSession)=\"&A61&\"\", \"Bar\", \"\", \"Close\",\"5\",\"0\",\"PrimaryOnly\",,,\"False\",\"T\",\"EveryTick\")","v":186.88},9.5618821241423031E-3,{"$f":"RTD(\"cqg.rtd\",,\"StudyData\", \"Close(\"&$D$12&\") when LocalYear(\"&$D$12&\")=\"&$D$10&\" and localMonth(\"&$D$12&\") =\"&$E$10&\" and LocalDay(\"&$D$12&\")=\"&$F$10&\" and Barix(\"&$D$12&\",reference:=StartOfSession)=\"&A61&\"\", \"Bar\", \"\", \"Close\",\"5\",\"0\",\"PrimaryOnly\",,,\"False\",\"T\",\"EveryTick\")","v":186.26},4.097035040431218E-3,null,null,null,""]
[61,"13:35:00",-16,{"$f":" RTD(\"cqg.rtd\",,\"StudyData\", $D$12,  \"Tick\", \"FlatTicks=0\", \"Tick\",\"D\",C62,\"PrimaryOnly\")","v":191.48},null,null,null,{"$f":"RTD(\"cqg.rtd\",,\"StudyData\", \"Close(\"&$D$12&\") when LocalYear(\"&$D$12&\")=\"&$D$1&\" and localMonth(\"&$D$12&\") =\"&$E$1&\" and LocalDay(\"&$D$12&\")=\"&$F$1&\" and Barix(\"&$D$12&\",reference:=StartOfSession)=\"&A62&\"\", \"Bar\", \"\", \"Close\",\"5\",\"0\",\"PrimaryOnly\",,,\"False\",\"T\",\"EveryTick\")","v":""},{"$error":"#N/A"},{"$f":"RTD(\"cqg.rtd\",,\"StudyData\", \"Close(\"&$D$12&\") when LocalYear(\"&$D$12&\")=\"&$D$2&\" and localMonth(\"&$D$12&\") =\"&$E$2&\" and LocalDay(\"&$D$12&\")=\"&$F$2&\" and Barix(\"&$D$12&\",reference:=StartOfSession)=\"&A62&\"\", \"Bar\", \"\", \"Close\",\"5\",\"0\",\"PrimaryOnly\",,,\"False\",\"T\",\"EveryTick\")","v":190.82},1.5648286140089406E-2,{"$f":"RTD(\"cqg.rtd\",,\"StudyData\", \"Close(\"&$D$12&\") when LocalYear(\"&$D$12&\")=\"&$D$3&\" and localMonth(\"&$D$12&\") =\"&$E$3&\" and LocalDay(\"&$D$12&\")=\"&$F$3&\" and Barix(\"&$D$12&\",reference:=StartOfSession)=\"&A62&\"\", \"Bar\", \"\", \"Close\",\"5\",\"0\",\"PrimaryOnly\",,,\"False\",\"T\",\"EveryTick\")","v":188.22},-1.1189913317572868E-2,{"$f":"RTD(\"cqg.rtd\",,\"StudyData\", \"Close(\"&$D$12&\") when LocalYear(\"&$D$12&\")=\"&$D$4&\" and localMonth(\"&$D$12&\") =\"&$E$4&\" and LocalDay(\"&$D$12&\")=\"&$F$4&\" and Barix(\"&$D$12&\",reference:=StartOfSession)=\"&A62&\"\", \"Bar\", \"\", \"Close\",\"5\",\"0\",\"PrimaryOnly\",,,\"False\",\"T\",\"EveryTick\")","v":190.37},-1.1018994647917302E-3,{"$f":"RTD(\"cqg.rtd\",,\"StudyData\", \"Close(\"&$D$12&\") when LocalYear(\"&$D$12&\")=\"&$D$5&\" and localMonth(\"&$D$12&\") =\"&$E$5&\" and LocalDay(\"&$D$12&\")=\"&$F$5&\" and Barix(\"&$D$12&\",reference:=StartOfSession)=\"&A62&\"\", \"Bar\", \"\", \"Close\",\"5\",\"0\",\"PrimaryOnly\",,,\"False\",\"T\",\"EveryTick\")","v":190.2},1.1863595254561843E-2,{"$f":"RTD(\"cqg.rtd\",,\"StudyData\", \"Close(\"&$D$12&\") when LocalYear(\"&$D$12&\")=\"&$D$6&\" and localMonth(\"&$D$12&\") =\"&$E$6&\" and LocalDay(\"&$D$12&\")=\"&$F$6&\" and Barix(\"&$D$12&\",reference:=StartOfSession)=\"&A62&\"\", \"Bar\", \"\", \"Close\",\"5\",\"0\",\"PrimaryOnly\",,,\"False\",\"T\",\"EveryTick\")","v":187.44},1.1003236245954649E-2,{"$f":"RTD(\"cqg.rtd\",,\"StudyData\", \"Close(\"&$D$12&\") when LocalYear(\"&$D$12&\")=\"&$D$7&\" and localMonth(\"&$D$12&\") =\"&$E$7&\" and LocalDay(\"&$D$12&\")=\"&$F$7&\" and Barix(\"&$D$12&\",reference:=StartOfSession)=\"&A62&\"\", \"Bar\", \"\", \"Close\",\"5\",\"0\",\"PrimaryOnly\",,,\"False\",\"T\",\"EveryTick\")","v":185.65},9.4062635928665629E-3,{"$f":"RTD(\"cqg.rtd\",,\"StudyData\", \"Close(\"&$D$12&\") when LocalYear(\"&$D$12&\")=\"&$D$8&\" and localMonth(\"&$D$12&\") =\"&$E$8&\" and LocalDay(\"&$D$12&\")=\"&$F$8&\" and Barix(\"&$D$12&\",reference:=StartOfSession)=\"&A62&\"\", \"Bar\", \"\", \"Close\",\"5\",\"0\",\"PrimaryOnly\",,,\"False\",\"T\",\"EveryTick\")","v":""},{"$error":"#N/A"},{"$f":"RTD(\"cqg.rtd\",,\"StudyData\", \"Close(\"&$D$12&\") when LocalYear(\"&$D$12&\")=\"&$D$9&\" and localMonth(\"&$D$12&\") =\"&$E$9&\" and LocalDay(\"&$D$12&\")=\"&$F$9&\" and Barix(\"&$D$12&\",reference:=StartOfSession)=\"&A62&\"\", \"Bar\", \"\", \"Close\",\"5\",\"0\",\"PrimaryOnly\",,,\"False\",\"T\",\"EveryTick\")","v":186.83},9.2917724596185986E-3,{"$f":"RTD(\"cqg.rtd\",,\"StudyData\", \"Close(\"&$D$12&\") when LocalYear(\"&$D$12&\")=\"&$D$10&\" and localMonth(\"&$D$12&\") =\"&$E$10&\" and LocalDay(\"&$D$12&\")=\"&$F$10&\" and Barix(\"&$D$12&\",reference:=StartOfSession)=\"&A62&\"\", \"Bar\", \"\", \"Close\",\"5\",\"0\",\"PrimaryOnly\",,,\"False\",\"T\",\"EveryTick\")","v":186.28},4.2048517520215691E-3,null,null,null,""]
[62,"13:40:00",-15,{"$f":" RTD(\"cqg.rtd\",,\"StudyData\", $D$12,  \"Tick\", \"FlatTicks=0\", \"Tick\",\"D\",C63,\"PrimaryOnly\")","v":191.49},null,null,null,{"$f":"RTD(\"cqg.rtd\",,\"StudyData\", \"Close(\"&$D$12&\") when LocalYear(\"&$D$12&\")=\"&$D$1&\" and localMonth(\"&$D$12&\") =\"&$E$1&\" and LocalDay(\"&$D$12&\")=\"&$F$1&\" and Barix(\"&$D$12&\",reference:=StartOfSession)=\"&A63&\"\", \"Bar\", \"\", \"Close\",\"5\",\"0\",\"PrimaryOnly\",,,\"False\",\"T\",\"EveryTick\")","v":""},{"$error":"#N/A"},{"$f":"RTD(\"cqg.rtd\",,\"StudyData\", \"Close(\"&$D$12&\") when LocalYear(\"&$D$12&\")=\"&$D$2&\" and localMonth(\"&$D$12&\") =\"&$E$2&\" and LocalDay(\"&$D$12&\")=\"&$F$2&\" and Barix(\"&$D$12&\",reference:=StartOfSession)=\"&A63&\"\", \"Bar\", \"\", \"Close\",\"5\",\"0\",\"PrimaryOnly\",,,\"False\",\"T\",\"EveryTick\")","v":190.83},1.5701511603151037E-2,{"$f":"RTD(\"cqg.rtd\",,\"StudyData\", \"Close(\"&$D$12&\") when LocalYear(\"&$D$12&\")=\"&$D$3&\" and localMonth(\"&$D$12&\") =\"&$E$3&\" and LocalDay(\"&$D$12&\")=\"&$F$3&\" and Barix(\"&$D$12&\",reference:=StartOfSession)=\"&A63&\"\", \"Bar\", \"\", \"Close\",\"5\",\"0\",\"PrimaryOnly\",,,\"False\",\"T\",\"EveryTick\")","v":188.32},-1.0664565274494359E-2,{"$f":"RTD(\"cqg.rtd\",,\"StudyData\", \"Close(\"&$D$12&\") when LocalYear(\"&$D$12&\")=\"&$D$4&\" and localMonth(\"&$D$12&\") =\"&$E$4&\" and LocalDay(\"&$D$12&\")=\"&$F$4&\" and Barix(\"&$D$12&\",reference:=StartOfSession)=\"&A63&\"\", \"Bar\", \"\", \"Close\",\"5\",\"0\",\"PrimaryOnly\",,,\"False\",\"T\",\"EveryTick\")","v":190.29},-1.5216706894743439E-3,{"$f":"RTD(\"cqg.rtd\",,\"StudyData\", \"Close(\"&$D$12&\") when LocalYear(\"&$D$12&\")=\"&$D$5&\" and localMonth(\"&$D$12&\") =\"&$E$5&\" and LocalDay(\"&$D$12&\")=\"&$F$5&\" and Barix(\"&$D$12&\",reference:=StartOfSession)=\"&A63&\"\", \"Bar\", \"\", \"Close\",\"5\",\"0\",\"PrimaryOnly\",,,\"False\",\"T\",\"EveryTick\")","v":190.25},1.2129595148161946E-2,{"$f":"RTD(\"cqg.rtd\",,\"StudyData\", \"Close(\"&$D$12&\") when LocalYear(\"&$D$12&\")=\"&$D$6&\" and localMonth(\"&$D$12&\") =\"&$E$6&\" and LocalDay(\"&$D$12&\")=\"&$F$6&\" and Barix(\"&$D$12&\",reference:=StartOfSession)=\"&A63&\"\", \"Bar\", \"\", \"Close\",\"5\",\"0\",\"PrimaryOnly\",,,\"False\",\"T\",\"EveryTick\")","v":187.56},1.1650485436893185E-2,{"$f":"RTD(\"cqg.rtd\",,\"StudyData\", \"Close(\"&$D$12&\") when LocalYear(\"&$D$12&\")=\"&$D$7&\" and localMonth(\"&$D$12&\") =\"&$E$7&\" and LocalDay(\"&$D$12&\")=\"&$F$7&\" and Barix(\"&$D$12&\",reference:=StartOfSession)=\"&A63&\"\", \"Bar\", \"\", \"Close\",\"5\",\"0\",\"PrimaryOnly\",,,\"False\",\"T\",\"EveryTick\")","v":185.55},8.8625489343193992E-3,{"$f":"RTD(\"cqg.rtd\",,\"StudyData\", \"Close(\"&$D$12&\") when LocalYear(\"&$D$12&\")=\"&$D$8&\" and localMonth(\"&$D$12&\") =\"&$E$8&\" and LocalDay(\"&$D$12&\")=\"&$F$8&\" and Barix(\"&$D$12&\",reference:=StartOfSession)=\"&A63&\"\", \"Bar\", \"\", \"Close\",\"5\",\"0\",\"PrimaryOnly\",,,\"False\",\"T\",\"EveryTick\")","v":""},{"$error":"#N/A"},{"$f":"RTD(\"cqg.rtd\",,\"StudyData\", \"Close(\"&$D$12&\") when LocalYear(\"&$D$12&\")=\"&$D$9&\" and localMonth(\"&$D$12&\") =\"&$E$9&\" and LocalDay(\"&$D$12&\")=\"&$F$9&\" and Barix(\"&$D$12&\",reference:=StartOfSession)=\"&A63&\"\", \"Bar\", \"\", \"Close\",\"5\",\"0\",\"PrimaryOnly\",,,\"False\",\"T\",\"EveryTick\")","v":186.82},9.2377505267137346E-3,{"$f":"RTD(\"cqg.rtd\",,\"StudyData\", \"Close(\"&$D$12&\") when LocalYear(\"&$D$12&\")=\"&$D$10&\" and localMonth(\"&$D$12&\") =\"&$E$10&\" and LocalDay(\"&$D$12&\")=\"&$F$10&\" and Barix(\"&$D$12&\",reference:=StartOfSession)=\"&A63&\"\", \"Bar\", \"\", \"Close\",\"5\",\"0\",\"PrimaryOnly\",,,\"False\",\"T\",\"EveryTick\")","v":186.24},3.9892183288410196E-3,null,null,null,""]
[63,"13:45:00",-14,{"$f":" RTD(\"cqg.rtd\",,\"StudyData\", $D$12,  \"Tick\", \"FlatTicks=0\", \"Tick\",\"D\",C64,\"PrimaryOnly\")","v":191.48},null,null,null,{"$f":"RTD(\"cqg.rtd\",,\"StudyData\", \"Close(\"&$D$12&\") when LocalYear(\"&$D$12&\")=\"&$D$1&\" and localMonth(\"&$D$12&\") =\"&$E$1&\" and LocalDay(\"&$D$12&\")=\"&$F$1&\" and Barix(\"&$D$12&\",reference:=StartOfSession)=\"&A64&\"\", \"Bar\", \"\", \"Close\",\"5\",\"0\",\"PrimaryOnly\",,,\"False\",\"T\",\"EveryTick\")","v":""},{"$error":"#N/A"},{"$f":"RTD(\"cqg.rtd\",,\"StudyData\", \"Close(\"&$D$12&\") when LocalYear(\"&$D$12&\")=\"&$D$2&\" and localMonth(\"&$D$12&\") =\"&$E$2&\" and LocalDay(\"&$D$12&\")=\"&$F$2&\" and Barix(\"&$D$12&\",reference:=StartOfSession)=\"&A64&\"\", \"Bar\", \"\", \"Close\",\"5\",\"0\",\"PrimaryOnly\",,,\"False\",\"T\",\"EveryTick\")","v":190.83},1.5701511603151037E-2,{"$f":"RTD(\"cqg.rtd\",,\"StudyData\", \"Close(\"&$D$12&\") when LocalYear(\"&$D$12&\")=\"&$D$3&\" and localMonth(\"&$D$12&\") =\"&$E$3&\" and LocalDay(\"&$D$12&\")=\"&$F$3&\" and Barix(\"&$D$12&\",reference:=StartOfSession)=\"&A64&\"\", \"Bar\", \"\", \"Close\",\"5\",\"0\",\"PrimaryOnly\",,,\"False\",\"T\",\"EveryTick\")","v":188.27},-1.092723929603354E-2,{"$f":"RTD(\"cqg.rtd\",,\"StudyData\", \"Close(\"&$D$12&\") when LocalYear(\"&$D$12&\")=\"&$D$4&\" and localMonth(\"&$D$12&\") =\"&$E$4&\" and LocalDay(\"&$D$12&\")=\"&$F$4&\" and Barix(\"&$D$12&\",reference:=StartOfSession)=\"&A64&\"\", \"Bar\", \"\", \"Close\",\"5\",\"0\",\"PrimaryOnly\",,,\"False\",\"T\",\"EveryTick\")","v":190.46},-6.2965683702384588E-4,{"$f":"RTD(\"cqg.rtd\",,\"StudyData\", \"Close(\"&$D$12&\") when LocalYear(\"&$D$12&\")=\"&$D$5&\" and localMonth(\"&$D$12&\") =\"&$E$5&\" and LocalDay(\"&$D$12&\")=\"&$F$5&\" and Barix(\"&$D$12&\",reference:=StartOfSession)=\"&A64&\"\", \"Bar\", \"\", \"Close\",\"5\",\"0\",\"PrimaryOnly\",,,\"False\",\"T\",\"EveryTick\")","v":190.32},1.250199499920197E-2,{"$f":"RTD(\"cqg.rtd\",,\"StudyData\", \"Close(\"&$D$12&\") when LocalYear(\"&$D$12&\")=\"&$D$6&\" and localMonth(\"&$D$12&\") =\"&$E$6&\" and LocalDay(\"&$D$12&\")=\"&$F$6&\" and Barix(\"&$D$12&\",reference:=StartOfSession)=\"&A64&\"\", \"Bar\", \"\", \"Close\",\"5\",\"0\",\"PrimaryOnly\",,,\"False\",\"T\",\"EveryTick\")","v":187.62},1.1974110032362453E-2,{"$f":"RTD(\"cqg.rtd\",,\"StudyData\", \"Close(\"&$D$12&\") when LocalYear(\"&$D$12&\")=\"&$D$7&\" and localMonth(\"&$D$12&\") =\"&$E$7&\" and LocalDay(\"&$D$12&\")=\"&$F$7&\" and Barix(\"&$D$12&\",reference:=StartOfSession)=\"&A64&\"\", \"Bar\", \"\", \"Close\",\"5\",\"0\",\"PrimaryOnly\",,,\"False\",\"T\",\"EveryTick\")","v":185.6},9.1344062635929039E-3,{"$f":"RTD(\"cqg.rtd\",,\"StudyData\", \"Close(\"&$D$12&\") when LocalYear(\"&$D$12&\")=\"&$D$8&\" and localMonth(\"&$D$12&\") =\"&$E$8&\" and LocalDay(\"&$D$12&\")=\"&$F$8&\" and Barix(\"&$D$12&\",reference:=StartOfSession)=\"&A64&\"\", \"Bar\", \"\", \"Close\",\"5\",\"0\",\"PrimaryOnly\",,,\"False\",\"T\",\"EveryTick\")","v":""},{"$error":"#N/A"},{"$f":"RTD(\"cqg.rtd\",,\"StudyData\", \"Close(\"&$D$12&\") when LocalYear(\"&$D$12&\")=\"&$D$9&\" and localMonth(\"&$D$12&\") =\"&$E$9&\" and LocalDay(\"&$D$12&\")=\"&$F$9&\" and Barix(\"&$D$12&\",reference:=StartOfSession)=\"&A64&\"\", \"Bar\", \"\", \"Close\",\"5\",\"0\",\"PrimaryOnly\",,,\"False\",\"T\",\"EveryTick\")","v":186.68},8.4814434660471782E-3,{"$f":"RTD(\"cqg.rtd\",,\"StudyData\", \"Close(\"&$D$12&\") when LocalYear(\"&$D$12&\")=\"&$D$10&\" and localMonth(\"&$D$12&\") =\"&$E$10&\" and LocalDay(\"&$D$12&\")=\"&$F$10&\" and Barix(\"&$D$12&\",reference:=StartOfSession)=\"&A64&\"\", \"Bar\", \"\", \"Close\",\"5\",\"0\",\"PrimaryOnly\",,,\"False\",\"T\",\"EveryTick\")","v":186.31},4.3665768194070202E-3,null,null,null,""]
[64,"13:50:00",-13,{"$f":" RTD(\"cqg.rtd\",,\"StudyData\", $D$12,  \"Tick\", \"FlatTicks=0\", \"Tick\",\"D\",C65,\"PrimaryOnly\")","v":191.47},null,null,null,{"$f":"RTD(\"cqg.rtd\",,\"StudyData\", \"Close(\"&$D$12&\") when LocalYear(\"&$D$12&\")=\"&$D$1&\" and localMonth(\"&$D$12&\") =\"&$E$1&\" and LocalDay(\"&$D$12&\")=\"&$F$1&\" and Barix(\"&$D$12&\",reference:=StartOfSession)=\"&A65&\"\", \"Bar\", \"\", \"Close\",\"5\",\"0\",\"PrimaryOnly\",,,\"False\",\"T\",\"EveryTick\")","v":""},{"$error":"#N/A"},{"$f":"RTD(\"cqg.rtd\",,\"StudyData\", \"Close(\"&$D$12&\") when LocalYear(\"&$D$12&\")=\"&$D$2&\" and localMonth(\"&$D$12&\") =\"&$E$2&\" and LocalDay(\"&$D$12&\")=\"&$F$2&\" and Barix(\"&$D$12&\",reference:=StartOfSession)=\"&A65&\"\", \"Bar\", \"\", \"Close\",\"5\",\"0\",\"PrimaryOnly\",,,\"False\",\"T\",\"EveryTick\")","v":190.98},1.6499893549073847E-2,{"$f":"RTD(\"cqg.rtd\",,\"StudyData\", \"Close(\"&$D$12&\") when LocalYear(\"&$D$12&\")=\"&$D$3&\" and localMonth(\"&$D$12&\") =\"&$E$3&\" and LocalDay(\"&$D$12&\")=\"&$F$3&\" and Barix(\"&$D$12&\",reference:=StartOfSession)=\"&A65&\"\", \"Bar\", \"\", \"Close\",\"5\",\"0\",\"PrimaryOnly\",,,\"False\",\"T\",\"EveryTick\")","v":188.27},-1.092723929603354E-2,{"$f":"RTD(\"cqg.rtd\",,\"StudyData\", \"Close(\"&$D$12&\") when LocalYear(\"&$D$12&\")=\"&$D$4&\" and localMonth(\"&$D$12&\") =\"&$E$4&\" and LocalDay(\"&$D$12&\")=\"&$F$4&\" and Barix(\"&$D$12&\",reference:=StartOfSession)=\"&A65&\"\", \"Bar\", \"\", \"Close\",\"5\",\"0\",\"PrimaryOnly\",,,\"False\",\"T\",\"EveryTick\")","v":190.43},-7.8707104627980732E-4,{"$f":"RTD(\"cqg.rtd\",,\"StudyData\", \"Close(\"&$D$12&\") when LocalYear(\"&$D$12&\")=\"&$D$5&\" and localMonth(\"&$D$12&\") =\"&$E$5&\" and LocalDay(\"&$D$12&\")=\"&$F$5&\" and Barix(\"&$D$12&\",reference:=StartOfSession)=\"&A65&\"\", \"Bar\", \"\", \"Close\",\"5\",\"0\",\"PrimaryOnly\",,,\"False\",\"T\",\"EveryTick\")","v":190.42},1.3033994786402025E-2,{"$f":"RTD(\"cqg.rtd\",,\"StudyData\", \"Close(\"&$D$12&\") when LocalYear(\"&$D$12&\")=\"&$D$6&\" and localMonth(\"&$D$12&\") =\"&$E$6&\" and LocalDay(\"&$D$12&\")=\"&$F$6&\" and Barix(\"&$D$12&\",reference:=StartOfSession)=\"&A65&\"\", \"Bar\", \"\", \"Close\",\"5\",\"0\",\"PrimaryOnly\",,,\"False\",\"T\",\"EveryTick\")","v":187.59},1.181229773462782E-2,{"$f":"RTD(\"cqg.rtd\",,\"StudyData\", \"Close(\"&$D$12&\") when LocalYear(\"&$D$12&\")=\"&$D$7&\" and localMonth(\"&$D$12&\") =\"&$E$7&\" and LocalDay(\"&$D$12&\")=\"&$F$7&\" and Barix(\"&$D$12&\",reference:=StartOfSession)=\"&A65&\"\", \"Bar\", \"\", \"Close\",\"5\",\"0\",\"PrimaryOnly\",,,\"False\",\"T\",\"EveryTick\")","v":185.61},9.1887777294477283E-3,{"$f":"RTD(\"cqg.rtd\",,\"StudyData\", \"Close(\"&$D$12&\") when LocalYear(\"&$D$12&\")=\"&$D$8&\" and localMonth(\"&$D$12&\") =\"&$E$8&\" and LocalDay(\"&$D$12&\")=\"&$F$8&\" and Barix(\"&$D$12&\",reference:=StartOfSession)=\"&A65&\"\", \"Bar\", \"\", \"Close\",\"5\",\"0\",\"PrimaryOnly\",,,\"False\",\"T\",\"EveryTick\")","v":""},{"$error":"#N/A"},{"$f":"RTD(\"cqg.rtd\",,\"StudyData\", \"Close(\"&$D$12&\") when LocalYear(\"&$D$12&\")=\"&$D$9&\" and localMonth(\"&$D$12&\") =\"&$E$9&\" and LocalDay(\"&$D$12&\")=\"&$F$9&\" and Barix(\"&$D$12&\",reference:=StartOfSession)=\"&A65&\"\", \"Bar\", \"\", \"Close\",\"5\",\"0\",\"PrimaryOnly\",,,\"False\",\"T\",\"EveryTick\")","v":186.53},7.671114472475757E-3,{"$f":"RTD(\"cqg.rtd\",,\"StudyData\", \"Close(\"&$D$12&\") when LocalYear(\"&$D$12&\")=\"&$D$10&\" and localMonth(\"&$D$12&\") =\"&$E$10&\" and LocalDay(\"&$D$12&\")=\"&$F$10&\" and Barix(\"&$D$12&\",reference:=StartOfSession)=\"&A65&\"\", \"Bar\", \"\", \"Close\",\"5\",\"0\",\"PrimaryOnly\",,,\"False\",\"T\",\"EveryTick\")","v":186.34},4.5283018867924713E-3,null,null,null,""]
[65,"13:55:00",-12,{"$f":" RTD(\"cqg.rtd\",,\"StudyData\", $D$12,  \"Tick\", \"FlatTicks=0\", \"Tick\",\"D\",C66,\"PrimaryOnly\")","v":191.46},null,null,null,{"$f":"RTD(\"cqg.rtd\",,\"StudyData\", \"Close(\"&$D$12&\") when LocalYear(\"&$D$12&\")=\"&$D$1&\" and localMonth(\"&$D$12&\") =\"&$E$1&\" and LocalDay(\"&$D$12&\")=\"&$F$1&\" and Barix(\"&$D$12&\",reference:=StartOfSession)=\"&A66&\"\", \"Bar\", \"\", \"Close\",\"5\",\"0\",\"PrimaryOnly\",,,\"False\",\"T\",\"EveryTick\")","v":""},{"$error":"#N/A"},{"$f":"RTD(\"cqg.rtd\",,\"StudyData\", \"Close(\"&$D$12&\") when LocalYear(\"&$D$12&\")=\"&$D$2&\" and localMonth(\"&$D$12&\") =\"&$E$2&\" and LocalDay(\"&$D$12&\")=\"&$F$2&\" and Barix(\"&$D$12&\",reference:=StartOfSession)=\"&A66&\"\", \"Bar\", \"\", \"Close\",\"5\",\"0\",\"PrimaryOnly\",,,\"False\",\"T\",\"EveryTick\")","v":191.06},{"$f":"IFERROR((J66-$G$3)/$G$3,NA())","v":1.6925697253566144E-2},{"$f":"RTD(\"cqg.rtd\",,\"StudyData\", \"Close(\"&$D$12&\") when LocalYear(\"&$D$12&\")=\"&$D$3&\" and localMonth(\"&$D$12&\") =\"&$E$3&\" and LocalDay(\"&$D$12&\")=\"&$F$3&\" and Barix(\"&$D$12&\",reference:=StartOfSession)=\"&A66&\"\", \"Bar\", \"\", \"Close\",\"5\",\"0\",\"PrimaryOnly\",,,\"False\",\"T\",\"EveryTick\")","v":188.21},{"$f":"IFERROR((L66-$G$4)/$G$4,NA())","v":-1.1242448121880674E-2},{"$f":"RTD(\"cqg.rtd\",,\"StudyData\", \"Close(\"&$D$12&\") when LocalYear(\"&$D$12&\")=\"&$D$4&\" and localMonth(\"&$D$12&\") =\"&$E$4&\" and LocalDay(\"&$D$12&\")=\"&$F$4&\" and Barix(\"&$D$12&\",reference:=StartOfSession)=\"&A66&\"\", \"Bar\", \"\", \"Close\",\"5\",\"0\",\"PrimaryOnly\",,,\"False\",\"T\",\"EveryTick\")","v":190.58},{"$f":"IFERROR((N66-$G$5)/$G$5,NA())","v":0},{"$f":"RTD(\"cqg.rtd\",,\"StudyData\", \"Close(\"&$D$12&\") when LocalYear(\"&$D$12&\")=\"&$D$5&\" and localMonth(\"&$D$12&\") =\"&$E$5&\" and LocalDay(\"&$D$12&\")=\"&$F$5&\" and Barix(\"&$D$12&\",reference:=StartOfSession)=\"&A66&\"\", \"Bar\", \"\", \"Close\",\"5\",\"0\",\"PrimaryOnly\",,,\"False\",\"T\",\"EveryTick\")","v":190.44},{"$f":"IFERROR((P66-$G$6)/$G$6,NA())","v":1.3140394743842097E-2},{"$f":"RTD(\"cqg.rtd\",,\"StudyData\", \"Close(\"&$D$12&\") when LocalYear(\"&$D$12&\")=\"&$D$6&\" and localMonth(\"&$D$12&\") =\"&$E$6&\" and LocalDay(\"&$D$12&\")=\"&$F$6&\" and Barix(\"&$D$12&\",reference:=StartOfSession)=\"&A66&\"\", \"Bar\", \"\", \"Close\",\"5\",\"0\",\"PrimaryOnly\",,,\"False\",\"T\",\"EveryTick\")","v":187.62},{"$f":"IFERROR((R66-$G$7)/$G$7,NA())","v":1.1974110032362453E-2},{"$f":"RTD(\"cqg.rtd\",,\"StudyData\", \"Close(\"&$D$12&\") when LocalYear(\"&$D$12&\")=\"&$D$7&\" and localMonth(\"&$D$12&\") =\"&$E$7&\" and LocalDay(\"&$D$12&\")=\"&$F$7&\" and Barix(\"&$D$12&\",reference:=StartOfSession)=\"&A66&\"\", \"Bar\", \"\", \"Close\",\"5\",\"0\",\"PrimaryOnly\",,,\"False\",\"T\",\"EveryTick\")","v":185.67},{"$f":"IFERROR((T66-$G$8)/$G$8,NA())","v":9.515006524575903E-3},{"$f":"RTD(\"cqg.rtd\",,\"StudyData\", \"Close(\"&$D$12&\") when LocalYear(\"&$D$12&\")=\"&$D$8&\" and localMonth(\"&$D$12&\") =\"&$E$8&\" and LocalDay(\"&$D$12&\")=\"&$F$8&\" and Barix(\"&$D$12&\",reference:=StartOfSession)=\"&A66&\"\", \"Bar\", \"\", \"Close\",\"5\",\"0\",\"PrimaryOnly\",,,\"False\",\"T\",\"EveryTick\")","v":""},{"$f":"IFERROR((V66-$G$9)/$G$9,NA())","v":{"$error":"#N/A"}},{"$f":"RTD(\"cqg.rtd\",,\"StudyData\", \"Close(\"&$D$12&\") when LocalYear(\"&$D$12&\")=\"&$D$9&\" and localMonth(\"&$D$12&\") =\"&$E$9&\" and LocalDay(\"&$D$12&\")=\"&$F$9&\" and Barix(\"&$D$12&\",reference:=StartOfSession)=\"&A66&\"\", \"Bar\", \"\", \"Close\",\"5\",\"0\",\"PrimaryOnly\",,,\"False\",\"T\",\"EveryTick\")","v":186.39},{"$f":"IFERROR((X66-$G$10)/$G$10,NA())","v":6.9148074118090463E-3},{"$f":"RTD(\"cqg.rtd\",,\"StudyData\", \"Close(\"&$D$12&\") when LocalYear(\"&$D$12&\")=\"&$D$10&\" and localMonth(\"&$D$12&\") =\"&$E$10&\" and LocalDay(\"&$D$12&\")=\"&$F$10&\" and Barix(\"&$D$12&\",reference:=StartOfSession)=\"&A66&\"\", \"Bar\", \"\", \"Close\",\"5\",\"0\",\"PrimaryOnly\",,,\"False\",\"T\",\"EveryTick\")","v":186.4},{"$f":"IFERROR((Z66-$G$11)/$G$11,NA())","v":4.8517520215633726E-3},null,null,null,""]
[{"$f":"A66+1","v":66},"14:00:00",-11,{"$f":" RTD(\"cqg.rtd\",,\"StudyData\", $D$12,  \"Tick\", \"FlatTicks=0\", \"Tick\",\"D\",C67,\"PrimaryOnly\")","v":191.45},null,null,null,{"$f":"RTD(\"cqg.rtd\",,\"StudyData\", \"Close(\"&$D$12&\") when LocalYear(\"&$D$12&\")=\"&$D$1&\" and localMonth(\"&$D$12&\") =\"&$E$1&\" and LocalDay(\"&$D$12&\")=\"&$F$1&\" and Barix(\"&$D$12&\",reference:=StartOfSession)=\"&A67&\"\", \"Bar\", \"\", \"Close\",\"5\",\"0\",\"PrimaryOnly\",,,\"False\",\"T\",\"EveryTick\")","v":""},{"$f":"IFERROR((H67-$G$2)/$G$2,NA())","v":{"$error":"#N/A"}},{"$f":"RTD(\"cqg.rtd\",,\"StudyData\", \"Close(\"&$D$12&\") when LocalYear(\"&$D$12&\")=\"&$D$2&\" and localMonth(\"&$D$12&\") =\"&$E$2&\" and LocalDay(\"&$D$12&\")=\"&$F$2&\" and Barix(\"&$D$12&\",reference:=StartOfSession)=\"&A67&\"\", \"Bar\", \"\", \"Close\",\"5\",\"0\",\"PrimaryOnly\",,,\"False\",\"T\",\"EveryTick\")","v":191.11},1.7191824568873845E-2,{"$f":"RTD(\"cqg.rtd\",,\"StudyData\", \"Close(\"&$D$12&\") when LocalYear(\"&$D$12&\")=\"&$D$3&\" and localMonth(\"&$D$12&\") =\"&$E$3&\" and LocalDay(\"&$D$12&\")=\"&$F$3&\" and Barix(\"&$D$12&\",reference:=StartOfSession)=\"&A67&\"\", \"Bar\", \"\", \"Close\",\"5\",\"0\",\"PrimaryOnly\",,,\"False\",\"T\",\"EveryTick\")","v":188.14},-1.1610191752035766E-2,{"$f":"RTD(\"cqg.rtd\",,\"StudyData\", \"Close(\"&$D$12&\") when LocalYear(\"&$D$12&\")=\"&$D$4&\" and localMonth(\"&$D$12&\") =\"&$E$4&\" and LocalDay(\"&$D$12&\")=\"&$F$4&\" and Barix(\"&$D$12&\",reference:=StartOfSession)=\"&A67&\"\", \"Bar\", \"\", \"Close\",\"5\",\"0\",\"PrimaryOnly\",,,\"False\",\"T\",\"EveryTick\")","v":190.64},3.1482841851177381E-4,{"$f":"RTD(\"cqg.rtd\",,\"StudyData\", \"Close(\"&$D$12&\") when LocalYear(\"&$D$12&\")=\"&$D$5&\" and localMonth(\"&$D$12&\") =\"&$E$5&\" and LocalDay(\"&$D$12&\")=\"&$F$5&\" and Barix(\"&$D$12&\",reference:=StartOfSession)=\"&A67&\"\", \"Bar\", \"\", \"Close\",\"5\",\"0\",\"PrimaryOnly\",,,\"False\",\"T\",\"EveryTick\")","v":190.39},1.2874394850241994E-2,{"$f":"RTD(\"cqg.rtd\",,\"StudyData\", \"Close(\"&$D$12&\") when LocalYear(\"&$D$12&\")=\"&$D$6&\" and localMonth(\"&$D$12&\") =\"&$E$6&\" and LocalDay(\"&$D$12&\")=\"&$F$6&\" and Barix(\"&$D$12&\",reference:=StartOfSession)=\"&A67&\"\", \"Bar\", \"\", \"Close\",\"5\",\"0\",\"PrimaryOnly\",,,\"False\",\"T\",\"EveryTick\")","v":187.78},1.2837108953613783E-2,{"$f":"RTD(\"cqg.rtd\",,\"StudyData\", \"Close(\"&$D$12&\") when LocalYear(\"&$D$12&\")=\"&$D$7&\" and localMonth(\"&$D$12&\") =\"&$E$7&\" and LocalDay(\"&$D$12&\")=\"&$F$7&\" and Barix(\"&$D$12&\",reference:=StartOfSession)=\"&A67&\"\", \"Bar\", \"\", \"Close\",\"5\",\"0\",\"PrimaryOnly\",,,\"False\",\"T\",\"EveryTick\")","v":185.9},1.0765550239234549E-2,{"$f":"RTD(\"cqg.rtd\",,\"StudyData\", \"Close(\"&$D$12&\") when LocalYear(\"&$D$12&\")=\"&$D$8&\" and localMonth(\"&$D$12&\") =\"&$E$8&\" and LocalDay(\"&$D$12&\")=\"&$F$8&\" and Barix(\"&$D$12&\",reference:=StartOfSession)=\"&A67&\"\", \"Bar\", \"\", \"Close\",\"5\",\"0\",\"PrimaryOnly\",,,\"False\",\"T\",\"EveryTick\")","v":""},{"$error":"#N/A"},{"$f":"RTD(\"cqg.rtd\",,\"StudyData\", \"Close(\"&$D$12&\") when LocalYear(\"&$D$12&\")=\"&$D$9&\" and localMonth(\"&$D$12&\") =\"&$E$9&\" and LocalDay(\"&$D$12&\")=\"&$F$9&\" and Barix(\"&$D$12&\",reference:=StartOfSession)=\"&A67&\"\", \"Bar\", \"\", \"Close\",\"5\",\"0\",\"PrimaryOnly\",,,\"False\",\"T\",\"EveryTick\")","v":186.36},6.7527416130949165E-3,{"$f":"RTD(\"cqg.rtd\",,\"StudyData\", \"Close(\"&$D$12&\") when LocalYear(\"&$D$12&\")=\"&$D$10&\" and localMonth(\"&$D$12&\") =\"&$E$10&\" and LocalDay(\"&$D$12&\")=\"&$F$10&\" and Barix(\"&$D$12&\",reference:=StartOfSession)=\"&A67&\"\", \"Bar\", \"\", \"Close\",\"5\",\"0\",\"PrimaryOnly\",,,\"False\",\"T\",\"EveryTick\")","v":186.38},4.7439353099730215E-3,null,null,null,{"$f":"IF(AND(H66<>\"\",H67<>\"\",H68=\"\"),A67,\"\")","v":""}]
[67,"14:05:00",-10,{"$f":" RTD(\"cqg.rtd\",,\"StudyData\", $D$12,  \"Tick\", \"FlatTicks=0\", \"Tick\",\"D\",C68,\"PrimaryOnly\")","v":191.44},null,null,null,{"$f":"RTD(\"cqg.rtd\",,\"StudyData\", \"Close(\"&$D$12&\") when LocalYear(\"&$D$12&\")=\"&$D$1&\" and localMonth(\"&$D$12&\") =\"&$E$1&\" and LocalDay(\"&$D$12&\")=\"&$F$1&\" and Barix(\"&$D$12&\",reference:=StartOfSession)=\"&A68&\"\", \"Bar\", \"\", \"Close\",\"5\",\"0\",\"PrimaryOnly\",,,\"False\",\"T\",\"EveryTick\")","v":""},{"$error":"#N/A"},{"$f":"RTD(\"cqg.rtd\",,\"StudyData\", \"Close(\"&$D$12&\") when LocalYear(\"&$D$12&\")=\"&$D$2&\" and localMonth(\"&$D$12&\") =\"&$E$2&\" and LocalDay(\"&$D$12&\")=\"&$F$2&\" and Barix(\"&$D$12&\",reference:=StartOfSession)=\"&A68&\"\", \"Bar\", \"\", \"Close\",\"5\",\"0\",\"PrimaryOnly\",,,\"False\",\"T\",\"EveryTick\")","v":191.05},1.6872471790504662E-2,{"$f":"RTD(\"cqg.rtd\",,\"StudyData\", \"Close(\"&$D$12&\") when LocalYear(\"&$D$12&\")=\"&$D$3&\" and localMonth(\"&$D$12&\") =\"&$E$3&\" and LocalDay(\"&$D$12&\")=\"&$F$3&\" and Barix(\"&$D$12&\",reference:=StartOfSession)=\"&A68&\"\", \"Bar\", \"\", \"Close\",\"5\",\"0\",\"PrimaryOnly\",,,\"False\",\"T\",\"EveryTick\")","v":188.32},-1.0664565274494359E-2,{"$f":"RTD(\"cqg.rtd\",,\"StudyData\", \"Close(\"&$D$12&\") when LocalYear(\"&$D$12&\")=\"&$D$4&\" and localMonth(\"&$D$12&\") =\"&$E$4&\" and LocalDay(\"&$D$12&\")=\"&$F$4&\" and Barix(\"&$D$12&\",reference:=StartOfSession)=\"&A68&\"\", \"Bar\", \"\", \"Close\",\"5\",\"0\",\"PrimaryOnly\",,,\"False\",\"T\",\"EveryTick\")","v":190.66},4.1977122468246446E-4,{"$f":"RTD(\"cqg.rtd\",,\"StudyData\", \"Close(\"&$D$12&\") when LocalYear(\"&$D$12&\")=\"&$D$5&\" and localMonth(\"&$D$12&\") =\"&$E$5&\" and LocalDay(\"&$D$12&\")=\"&$F$5&\" and Barix(\"&$D$12&\",reference:=StartOfSession)=\"&A68&\"\", \"Bar\", \"\", \"Close\",\"5\",\"0\",\"PrimaryOnly\",,,\"False\",\"T\",\"EveryTick\")","v":190.48},1.3353194658722088E-2,{"$f":"RTD(\"cqg.rtd\",,\"StudyData\", \"Close(\"&$D$12&\") when LocalYear(\"&$D$12&\")=\"&$D$6&\" and localMonth(\"&$D$12&\") =\"&$E$6&\" and LocalDay(\"&$D$12&\")=\"&$F$6&\" and Barix(\"&$D$12&\",reference:=StartOfSession)=\"&A68&\"\", \"Bar\", \"\", \"Close\",\"5\",\"0\",\"PrimaryOnly\",,,\"False\",\"T\",\"EveryTick\")","v":187.89},1.3430420711974006E-2,{"$f":"RTD(\"cqg.rtd\",,\"StudyData\", \"Close(\"&$D$12&\") when LocalYear(\"&$D$12&\")=\"&$D$7&\" and localMonth(\"&$D$12&\") =\"&$E$7&\" and LocalDay(\"&$D$12&\")=\"&$F$7&\" and Barix(\"&$D$12&\",reference:=StartOfSession)=\"&A68&\"\", \"Bar\", \"\", \"Close\",\"5\",\"0\",\"PrimaryOnly\",,,\"False\",\"T\",\"EveryTick\")","v":185.7},9.6781209221400676E-3,{"$f":"RTD(\"cqg.rtd\",,\"StudyData\", \"Close(\"&$D$12&\") when LocalYear(\"&$D$12&\")=\"&$D$8&\" and localMonth(\"&$D$12&\") =\"&$E$8&\" and LocalDay(\"&$D$12&\")=\"&$F$8&\" and Barix(\"&$D$12&\",reference:=StartOfSession)=\"&A68&\"\", \"Bar\", \"\", \"Close\",\"5\",\"0\",\"PrimaryOnly\",,,\"False\",\"T\",\"EveryTick\")","v":""},{"$error":"#N/A"},{"$f":"RTD(\"cqg.rtd\",,\"StudyData\", \"Close(\"&$D$12&\") when LocalYear(\"&$D$12&\")=\"&$D$9&\" and localMonth(\"&$D$12&\") =\"&$E$9&\" and LocalDay(\"&$D$12&\")=\"&$F$9&\" and Barix(\"&$D$12&\",reference:=StartOfSession)=\"&A68&\"\", \"Bar\", \"\", \"Close\",\"5\",\"0\",\"PrimaryOnly\",,,\"False\",\"T\",\"EveryTick\")","v":186.46},7.2929609421424789E-3,{"$f":"RTD(\"cqg.rtd\",,\"StudyData\", \"Close(\"&$D$12&\") when LocalYear(\"&$D$12&\")=\"&$D$10&\" and localMonth(\"&$D$12&\") =\"&$E$10&\" and LocalDay(\"&$D$12&\")=\"&$F$10&\" and Barix(\"&$D$12&\",reference:=StartOfSession)=\"&A68&\"\", \"Bar\", \"\", \"Close\",\"5\",\"0\",\"PrimaryOnly\",,,\"False\",\"T\",\"EveryTick\")","v":186.38},4.7439353099730215E-3,null,null,null,""]
[68,"14:10:00",{"$f":"C68+1","v":-9},{"$f":" RTD(\"cqg.rtd\",,\"StudyData\", $D$12,  \"Tick\", \"FlatTicks=0\", \"Tick\",\"D\",C69,\"PrimaryOnly\")","v":191.43},null,null,null,{"$f":"RTD(\"cqg.rtd\",,\"StudyData\", \"Close(\"&$D$12&\") when LocalYear(\"&$D$12&\")=\"&$D$1&\" and localMonth(\"&$D$12&\") =\"&$E$1&\" and LocalDay(\"&$D$12&\")=\"&$F$1&\" and Barix(\"&$D$12&\",reference:=StartOfSession)=\"&A69&\"\", \"Bar\", \"\", \"Close\",\"5\",\"0\",\"PrimaryOnly\",,,\"False\",\"T\",\"EveryTick\")","v":""},{"$error":"#N/A"},{"$f":"RTD(\"cqg.rtd\",,\"StudyData\", \"Close(\"&$D$12&\") when LocalYear(\"&$D$12&\")=\"&$D$2&\" and localMonth(\"&$D$12&\") =\"&$E$2&\" and LocalDay(\"&$D$12&\")=\"&$F$2&\" and Barix(\"&$D$12&\",reference:=StartOfSession)=\"&A69&\"\", \"Bar\", \"\", \"Close\",\"5\",\"0\",\"PrimaryOnly\",,,\"False\",\"T\",\"EveryTick\")","v":190.93},1.6233766233766295E-2,{"$f":"RTD(\"cqg.rtd\",,\"StudyData\", \"Close(\"&$D$12&\") when LocalYear(\"&$D$12&\")=\"&$D$3&\" and localMonth(\"&$D$12&\") =\"&$E$3&\" and LocalDay(\"&$D$12&\")=\"&$F$3&\" and Barix(\"&$D$12&\",reference:=StartOfSession)=\"&A69&\"\", \"Bar\", \"\", \"Close\",\"5\",\"0\",\"PrimaryOnly\",,,\"False\",\"T\",\"EveryTick\")","v":188.16},-1.1505122143420005E-2,{"$f":"RTD(\"cqg.rtd\",,\"StudyData\", \"Close(\"&$D$12&\") when LocalYear(\"&$D$12&\")=\"&$D$4&\" and localMonth(\"&$D$12&\") =\"&$E$4&\" and LocalDay(\"&$D$12&\")=\"&$F$4&\" and Barix(\"&$D$12&\",reference:=StartOfSession)=\"&A69&\"\", \"Bar\", \"\", \"Close\",\"5\",\"0\",\"PrimaryOnly\",,,\"False\",\"T\",\"EveryTick\")","v":190.72},7.3459964319438735E-4,{"$f":"RTD(\"cqg.rtd\",,\"StudyData\", \"Close(\"&$D$12&\") when LocalYear(\"&$D$12&\")=\"&$D$5&\" and localMonth(\"&$D$12&\") =\"&$E$5&\" and LocalDay(\"&$D$12&\")=\"&$F$5&\" and Barix(\"&$D$12&\",reference:=StartOfSession)=\"&A69&\"\", \"Bar\", \"\", \"Close\",\"5\",\"0\",\"PrimaryOnly\",,,\"False\",\"T\",\"EveryTick\")","v":190.43},1.3087194765122136E-2,{"$f":"RTD(\"cqg.rtd\",,\"StudyData\", \"Close(\"&$D$12&\") when LocalYear(\"&$D$12&\")=\"&$D$6&\" and localMonth(\"&$D$12&\") =\"&$E$6&\" and LocalDay(\"&$D$12&\")=\"&$F$6&\" and Barix(\"&$D$12&\",reference:=StartOfSession)=\"&A69&\"\", \"Bar\", \"\", \"Close\",\"5\",\"0\",\"PrimaryOnly\",,,\"False\",\"T\",\"EveryTick\")","v":187.92},1.3592233009708639E-2,{"$f":"RTD(\"cqg.rtd\",,\"StudyData\", \"Close(\"&$D$12&\") when LocalYear(\"&$D$12&\")=\"&$D$7&\" and localMonth(\"&$D$12&\") =\"&$E$7&\" and LocalDay(\"&$D$12&\")=\"&$F$7&\" and Barix(\"&$D$12&\",reference:=StartOfSession)=\"&A69&\"\", \"Bar\", \"\", \"Close\",\"5\",\"0\",\"PrimaryOnly\",,,\"False\",\"T\",\"EveryTick\")","v":185.7},9.6781209221400676E-3,{"$f":"RTD(\"cqg.rtd\",,\"StudyData\", \"Close(\"&$D$12&\") when LocalYear(\"&$D$12&\")=\"&$D$8&\" and localMonth(\"&$D$12&\") =\"&$E$8&\" and LocalDay(\"&$D$12&\")=\"&$F$8&\" and Barix(\"&$D$12&\",reference:=StartOfSession)=\"&A69&\"\", \"Bar\", \"\", \"Close\",\"5\",\"0\",\"PrimaryOnly\",,,\"False\",\"T\",\"EveryTick\")","v":""},{"$error":"#N/A"},{"$f":"RTD(\"cqg.rtd\",,\"StudyData\", \"Close(\"&$D$12&\") when LocalYear(\"&$D$12&\")=\"&$D$9&\" and localMonth(\"&$D$12&\") =\"&$E$9&\" and LocalDay(\"&$D$12&\")=\"&$F$9&\" and Barix(\"&$D$12&\",reference:=StartOfSession)=\"&A69&\"\", \"Bar\", \"\", \"Close\",\"5\",\"0\",\"PrimaryOnly\",,,\"False\",\"T\",\"EveryTick\")","v":186.51},7.5630706066661833E-3,{"$f":"RTD(\"cqg.rtd\",,\"StudyData\", \"Close(\"&$D$12&\") when LocalYear(\"&$D$12&\")=\"&$D$10&\" and localMonth(\"&$D$12&\") =\"&$E$10&\" and LocalDay(\"&$D$12&\")=\"&$F$10&\" and Barix(\"&$D$12&\",reference:=StartOfSession)=\"&A69&\"\", \"Bar\", \"\", \"Close\",\"5\",\"0\",\"PrimaryOnly\",,,\"False\",\"T\",\"EveryTick\")","v":186.24},3.9892183288410196E-3,null,null,null,""]
[69,"14:15:00",-8,{"$f":" RTD(\"cqg.rtd\",,\"StudyData\", $D$12,  \"Tick\", \"FlatTicks=0\", \"Tick\",\"D\",C70,\"PrimaryOnly\")","v":191.44},null,null,null,{"$f":"RTD(\"cqg.rtd\",,\"StudyData\", \"Close(\"&$D$12&\") when LocalYear(\"&$D$12&\")=\"&$D$1&\" and localMonth(\"&$D$12&\") =\"&$E$1&\" and LocalDay(\"&$D$12&\")=\"&$F$1&\" and Barix(\"&$D$12&\",reference:=StartOfSession)=\"&A70&\"\", \"Bar\", \"\", \"Close\",\"5\",\"0\",\"PrimaryOnly\",,,\"False\",\"T\",\"EveryTick\")","v":""},{"$error":"#N/A"},{"$f":"RTD(\"cqg.rtd\",,\"StudyData\", \"Close(\"&$D$12&\") when LocalYear(\"&$D$12&\")=\"&$D$2&\" and localMonth(\"&$D$12&\") =\"&$E$2&\" and LocalDay(\"&$D$12&\")=\"&$F$2&\" and Barix(\"&$D$12&\",reference:=StartOfSession)=\"&A70&\"\", \"Bar\", \"\", \"Close\",\"5\",\"0\",\"PrimaryOnly\",,,\"False\",\"T\",\"EveryTick\")","v":190.98},1.6499893549073847E-2,{"$f":"RTD(\"cqg.rtd\",,\"StudyData\", \"Close(\"&$D$12&\") when LocalYear(\"&$D$12&\")=\"&$D$3&\" and localMonth(\"&$D$12&\") =\"&$E$3&\" and LocalDay(\"&$D$12&\")=\"&$F$3&\" and Barix(\"&$D$12&\",reference:=StartOfSession)=\"&A70&\"\", \"Bar\", \"\", \"Close\",\"5\",\"0\",\"PrimaryOnly\",,,\"False\",\"T\",\"EveryTick\")","v":188.15},-1.1557656947727811E-2,{"$f":"RTD(\"cqg.rtd\",,\"StudyData\", \"Close(\"&$D$12&\") when LocalYear(\"&$D$12&\")=\"&$D$4&\" and localMonth(\"&$D$12&\") =\"&$E$4&\" and LocalDay(\"&$D$12&\")=\"&$F$4&\" and Barix(\"&$D$12&\",reference:=StartOfSession)=\"&A70&\"\", \"Bar\", \"\", \"Close\",\"5\",\"0\",\"PrimaryOnly\",,,\"False\",\"T\",\"EveryTick\")","v":190.77},9.9695665862103945E-4,{"$f":"RTD(\"cqg.rtd\",,\"StudyData\", \"Close(\"&$D$12&\") when LocalYear(\"&$D$12&\")=\"&$D$5&\" and localMonth(\"&$D$12&\") =\"&$E$5&\" and LocalDay(\"&$D$12&\")=\"&$F$5&\" and Barix(\"&$D$12&\",reference:=StartOfSession)=\"&A70&\"\", \"Bar\", \"\", \"Close\",\"5\",\"0\",\"PrimaryOnly\",,,\"False\",\"T\",\"EveryTick\")","v":190.39},1.2874394850241994E-2,{"$f":"RTD(\"cqg.rtd\",,\"StudyData\", \"Close(\"&$D$12&\") when LocalYear(\"&$D$12&\")=\"&$D$6&\" and localMonth(\"&$D$12&\") =\"&$E$6&\" and LocalDay(\"&$D$12&\")=\"&$F$6&\" and Barix(\"&$D$12&\",reference:=StartOfSession)=\"&A70&\"\", \"Bar\", \"\", \"Close\",\"5\",\"0\",\"PrimaryOnly\",,,\"False\",\"T\",\"EveryTick\")","v":187.91},1.3538295577130479E-2,{"$f":"RTD(\"cqg.rtd\",,\"StudyData\", \"Close(\"&$D$12&\") when LocalYear(\"&$D$12&\")=\"&$D$7&\" and localMonth(\"&$D$12&\") =\"&$E$7&\" and LocalDay(\"&$D$12&\")=\"&$F$7&\" and Barix(\"&$D$12&\",reference:=StartOfSession)=\"&A70&\"\", \"Bar\", \"\", \"Close\",\"5\",\"0\",\"PrimaryOnly\",,,\"False\",\"T\",\"EveryTick\")","v":185.78},1.0113092648977891E-2,{"$f":"RTD(\"cqg.rtd\",,\"StudyData\", \"Close(\"&$D$12&\") when LocalYear(\"&$D$12&\")=\"&$D$8&\" and localMonth(\"&$D$12&\") =\"&$E$8&\" and LocalDay(\"&$D$12&\")=\"&$F$8&\" and Barix(\"&$D$12&\",reference:=StartOfSession)=\"&A70&\"\", \"Bar\", \"\", \"Close\",\"5\",\"0\",\"PrimaryOnly\",,,\"False\",\"T\",\"EveryTick\")","v":""},{"$error":"#N/A"},{"$f":"RTD(\"cqg.rtd\",,\"StudyData\", \"Close(\"&$D$12&\") when LocalYear(\"&$D$12&\")=\"&$D$9&\" and localMonth(\"&$D$12&\") =\"&$E$9&\" and LocalDay(\"&$D$12&\")=\"&$F$9&\" and Barix(\"&$D$12&\",reference:=StartOfSession)=\"&A70&\"\", \"Bar\", \"\", \"Close\",\"5\",\"0\",\"PrimaryOnly\",,,\"False\",\"T\",\"EveryTick\")","v":186.56},7.8331802711900413E-3,{"$f":"RTD(\"cqg.rtd\",,\"StudyData\", \"Close(\"&$D$12&\") when LocalYear(\"&$D$12&\")=\"&$D$10&\" and localMonth(\"&$D$12&\") =\"&$E$10&\" and LocalDay(\"&$D$12&\")=\"&$F$10&\" and Barix(\"&$D$12&\",reference:=StartOfSession)=\"&A70&\"\", \"Bar\", \"\", \"Close\",\"5\",\"0\",\"PrimaryOnly\",,,\"False\",\"T\",\"EveryTick\")","v":186.27},4.1509433962264699E-3,null,null,null,""]
[70,"14:20:00",-7,{"$f":" RTD(\"cqg.rtd\",,\"StudyData\", $D$12,  \"Tick\", \"FlatTicks=0\", \"Tick\",\"D\",C71,\"PrimaryOnly\")","v":191.46},null,null,null,{"$f":"RTD(\"cqg.rtd\",,\"StudyData\", \"Close(\"&$D$12&\") when LocalYear(\"&$D$12&\")=\"&$D$1&\" and localMonth(\"&$D$12&\") =\"&$E$1&\" and LocalDay(\"&$D$12&\")=\"&$F$1&\" and Barix(\"&$D$12&\",reference:=StartOfSession)=\"&A71&\"\", \"Bar\", \"\", \"Close\",\"5\",\"0\",\"PrimaryOnly\",,,\"False\",\"T\",\"EveryTick\")","v":""},{"$error":"#N/A"},{"$f":"RTD(\"cqg.rtd\",,\"StudyData\", \"Close(\"&$D$12&\") when LocalYear(\"&$D$12&\")=\"&$D$2&\" and localMonth(\"&$D$12&\") =\"&$E$2&\" and LocalDay(\"&$D$12&\")=\"&$F$2&\" and Barix(\"&$D$12&\",reference:=StartOfSession)=\"&A71&\"\", \"Bar\", \"\", \"Close\",\"5\",\"0\",\"PrimaryOnly\",,,\"False\",\"T\",\"EveryTick\")","v":190.76},1.5328933361720223E-2,{"$f":"RTD(\"cqg.rtd\",,\"StudyData\", \"Close(\"&$D$12&\") when LocalYear(\"&$D$12&\")=\"&$D$3&\" and localMonth(\"&$D$12&\") =\"&$E$3&\" and LocalDay(\"&$D$12&\")=\"&$F$3&\" and Barix(\"&$D$12&\",reference:=StartOfSession)=\"&A71&\"\", \"Bar\", \"\", \"Close\",\"5\",\"0\",\"PrimaryOnly\",,,\"False\",\"T\",\"EveryTick\")","v":187.99},-1.2398213816653455E-2,{"$f":"RTD(\"cqg.rtd\",,\"StudyData\", \"Close(\"&$D$12&\") when LocalYear(\"&$D$12&\")=\"&$D$4&\" and localMonth(\"&$D$12&\") =\"&$E$4&\" and LocalDay(\"&$D$12&\")=\"&$F$4&\" and Barix(\"&$D$12&\",reference:=StartOfSession)=\"&A71&\"\", \"Bar\", \"\", \"Close\",\"5\",\"0\",\"PrimaryOnly\",,,\"False\",\"T\",\"EveryTick\")","v":190.76},9.4448525553561958E-4,{"$f":"RTD(\"cqg.rtd\",,\"StudyData\", \"Close(\"&$D$12&\") when LocalYear(\"&$D$12&\")=\"&$D$5&\" and localMonth(\"&$D$12&\") =\"&$E$5&\" and LocalDay(\"&$D$12&\")=\"&$F$5&\" and Barix(\"&$D$12&\",reference:=StartOfSession)=\"&A71&\"\", \"Bar\", \"\", \"Close\",\"5\",\"0\",\"PrimaryOnly\",,,\"False\",\"T\",\"EveryTick\")","v":190.46},1.3246794701282169E-2,{"$f":"RTD(\"cqg.rtd\",,\"StudyData\", \"Close(\"&$D$12&\") when LocalYear(\"&$D$12&\")=\"&$D$6&\" and localMonth(\"&$D$12&\") =\"&$E$6&\" and LocalDay(\"&$D$12&\")=\"&$F$6&\" and Barix(\"&$D$12&\",reference:=StartOfSession)=\"&A71&\"\", \"Bar\", \"\", \"Close\",\"5\",\"0\",\"PrimaryOnly\",,,\"False\",\"T\",\"EveryTick\")","v":188.12},1.4670981661272916E-2,{"$f":"RTD(\"cqg.rtd\",,\"StudyData\", \"Close(\"&$D$12&\") when LocalYear(\"&$D$12&\")=\"&$D$7&\" and localMonth(\"&$D$12&\") =\"&$E$7&\" and LocalDay(\"&$D$12&\")=\"&$F$7&\" and Barix(\"&$D$12&\",reference:=StartOfSession)=\"&A71&\"\", \"Bar\", \"\", \"Close\",\"5\",\"0\",\"PrimaryOnly\",,,\"False\",\"T\",\"EveryTick\")","v":185.6},9.1344062635929039E-3,{"$f":"RTD(\"cqg.rtd\",,\"StudyData\", \"Close(\"&$D$12&\") when LocalYear(\"&$D$12&\")=\"&$D$8&\" and localMonth(\"&$D$12&\") =\"&$E$8&\" and LocalDay(\"&$D$12&\")=\"&$F$8&\" and Barix(\"&$D$12&\",reference:=StartOfSession)=\"&A71&\"\", \"Bar\", \"\", \"Close\",\"5\",\"0\",\"PrimaryOnly\",,,\"False\",\"T\",\"EveryTick\")","v":""},{"$error":"#N/A"},{"$f":"RTD(\"cqg.rtd\",,\"StudyData\", \"Close(\"&$D$12&\") when LocalYear(\"&$D$12&\")=\"&$D$9&\" and localMonth(\"&$D$12&\") =\"&$E$9&\" and LocalDay(\"&$D$12&\")=\"&$F$9&\" and Barix(\"&$D$12&\",reference:=StartOfSession)=\"&A71&\"\", \"Bar\", \"\", \"Close\",\"5\",\"0\",\"PrimaryOnly\",,,\"False\",\"T\",\"EveryTick\")","v":186.74},8.8055750634757467E-3,{"$f":"RTD(\"cqg.rtd\",,\"StudyData\", \"Close(\"&$D$12&\") when LocalYear(\"&$D$12&\")=\"&$D$10&\" and localMonth(\"&$D$12&\") =\"&$E$10&\" and LocalDay(\"&$D$12&\")=\"&$F$10&\" and Barix(\"&$D$12&\",reference:=StartOfSession)=\"&A71&\"\", \"Bar\", \"\", \"Close\",\"5\",\"0\",\"PrimaryOnly\",,,\"False\",\"T\",\"EveryTick\")","v":186.26},4.097035040431218E-3,null,null,null,""]
[71,"14:25:00",-6,{"$f":" RTD(\"cqg.rtd\",,\"StudyData\", $D$12,  \"Tick\", \"FlatTicks=0\", \"Tick\",\"D\",C72,\"PrimaryOnly\")","v":191.47},null,null,null,{"$f":"RTD(\"cqg.rtd\",,\"StudyData\", \"Close(\"&$D$12&\") when LocalYear(\"&$D$12&\")=\"&$D$1&\" and localMonth(\"&$D$12&\") =\"&$E$1&\" and LocalDay(\"&$D$12&\")=\"&$F$1&\" and Barix(\"&$D$12&\",reference:=StartOfSession)=\"&A72&\"\", \"Bar\", \"\", \"Close\",\"5\",\"0\",\"PrimaryOnly\",,,\"False\",\"T\",\"EveryTick\")","v":""},{"$error":"#N/A"},{"$f":"RTD(\"cqg.rtd\",,\"StudyData\", \"Close(\"&$D$12&\") when LocalYear(\"&$D$12&\")=\"&$D$2&\" and localMonth(\"&$D$12&\") =\"&$E$2&\" and LocalDay(\"&$D$12&\")=\"&$F$2&\" and Barix(\"&$D$12&\",reference:=StartOfSession)=\"&A72&\"\", \"Bar\", \"\", \"Close\",\"5\",\"0\",\"PrimaryOnly\",,,\"False\",\"T\",\"EveryTick\")","v":190.91},1.6127315307643181E-2,{"$f":"RTD(\"cqg.rtd\",,\"StudyData\", \"Close(\"&$D$12&\") when LocalYear(\"&$D$12&\")=\"&$D$3&\" and localMonth(\"&$D$12&\") =\"&$E$3&\" and LocalDay(\"&$D$12&\")=\"&$F$3&\" and Barix(\"&$D$12&\",reference:=StartOfSession)=\"&A72&\"\", \"Bar\", \"\", \"Close\",\"5\",\"0\",\"PrimaryOnly\",,,\"False\",\"T\",\"EveryTick\")","v":187.92},-1.2765957446808546E-2,{"$f":"RTD(\"cqg.rtd\",,\"StudyData\", \"Close(\"&$D$12&\") when LocalYear(\"&$D$12&\")=\"&$D$4&\" and localMonth(\"&$D$12&\") =\"&$E$4&\" and LocalDay(\"&$D$12&\")=\"&$F$4&\" and Barix(\"&$D$12&\",reference:=StartOfSession)=\"&A72&\"\", \"Bar\", \"\", \"Close\",\"5\",\"0\",\"PrimaryOnly\",,,\"False\",\"T\",\"EveryTick\")","v":190.64},3.1482841851177381E-4,{"$f":"RTD(\"cqg.rtd\",,\"StudyData\", \"Close(\"&$D$12&\") when LocalYear(\"&$D$12&\")=\"&$D$5&\" and localMonth(\"&$D$12&\") =\"&$E$5&\" and LocalDay(\"&$D$12&\")=\"&$F$5&\" and Barix(\"&$D$12&\",reference:=StartOfSession)=\"&A72&\"\", \"Bar\", \"\", \"Close\",\"5\",\"0\",\"PrimaryOnly\",,,\"False\",\"T\",\"EveryTick\")","v":190.48},1.3353194658722088E-2,{"$f":"RTD(\"cqg.rtd\",,\"StudyData\", \"Close(\"&$D$12&\") when LocalYear(\"&$D$12&\")=\"&$D$6&\" and localMonth(\"&$D$12&\") =\"&$E$6&\" and LocalDay(\"&$D$12&\")=\"&$F$6&\" and Barix(\"&$D$12&\",reference:=StartOfSession)=\"&A72&\"\", \"Bar\", \"\", \"Close\",\"5\",\"0\",\"PrimaryOnly\",,,\"False\",\"T\",\"EveryTick\")","v":188.33},1.5803667745415355E-2,{"$f":"RTD(\"cqg.rtd\",,\"StudyData\", \"Close(\"&$D$12&\") when LocalYear(\"&$D$12&\")=\"&$D$7&\" and localMonth(\"&$D$12&\") =\"&$E$7&\" and LocalDay(\"&$D$12&\")=\"&$F$7&\" and Barix(\"&$D$12&\",reference:=StartOfSession)=\"&A72&\"\", \"Bar\", \"\", \"Close\",\"5\",\"0\",\"PrimaryOnly\",,,\"False\",\"T\",\"EveryTick\")","v":185.53},8.7538060026099047E-3,{"$f":"RTD(\"cqg.rtd\",,\"StudyData\", \"Close(\"&$D$12&\") when LocalYear(\"&$D$12&\")=\"&$D$8&\" and localMonth(\"&$D$12&\") =\"&$E$8&\" and LocalDay(\"&$D$12&\")=\"&$F$8&\" and Barix(\"&$D$12&\",reference:=StartOfSession)=\"&A72&\"\", \"Bar\", \"\", \"Close\",\"5\",\"0\",\"PrimaryOnly\",,,\"False\",\"T\",\"EveryTick\")","v":""},{"$error":"#N/A"},{"$f":"RTD(\"cqg.rtd\",,\"StudyData\", \"Close(\"&$D$12&\") when LocalYear(\"&$D$12&\")=\"&$D$9&\" and localMonth(\"&$D$12&\") =\"&$E$9&\" and LocalDay(\"&$D$12&\")=\"&$F$9&\" and Barix(\"&$D$12&\",reference:=StartOfSession)=\"&A72&\"\", \"Bar\", \"\", \"Close\",\"5\",\"0\",\"PrimaryOnly\",,,\"False\",\"T\",\"EveryTick\")","v":186.87},9.5078601912375934E-3,{"$f":"RTD(\"cqg.rtd\",,\"StudyData\", \"Close(\"&$D$12&\") when LocalYear(\"&$D$12&\")=\"&$D$10&\" and localMonth(\"&$D$12&\") =\"&$E$10&\" and LocalDay(\"&$D$12&\")=\"&$F$10&\" and Barix(\"&$D$12&\",reference:=StartOfSession)=\"&A72&\"\", \"Bar\", \"\", \"Close\",\"5\",\"0\",\"PrimaryOnly\",,,\"False\",\"T\",\"EveryTick\")","v":186.2},3.7735849056603162E-3,null,null,null,""]
[72,"14:30:00",-5,{"$f":" RTD(\"cqg.rtd\",,\"StudyData\", $D$12,  \"Tick\", \"FlatTicks=0\", \"Tick\",\"D\",C73,\"PrimaryOnly\")","v":191.49},null,null,null,{"$f":"RTD(\"cqg.rtd\",,\"StudyData\", \"Close(\"&$D$12&\") when LocalYear(\"&$D$12&\")=\"&$D$1&\" and localMonth(\"&$D$12&\") =\"&$E$1&\" and LocalDay(\"&$D$12&\")=\"&$F$1&\" and Barix(\"&$D$12&\",reference:=StartOfSession)=\"&A73&\"\", \"Bar\", \"\", \"Close\",\"5\",\"0\",\"PrimaryOnly\",,,\"False\",\"T\",\"EveryTick\")","v":""},{"$error":"#N/A"},{"$f":"RTD(\"cqg.rtd\",,\"StudyData\", \"Close(\"&$D$12&\") when LocalYear(\"&$D$12&\")=\"&$D$2&\" and localMonth(\"&$D$12&\") =\"&$E$2&\" and LocalDay(\"&$D$12&\")=\"&$F$2&\" and Barix(\"&$D$12&\",reference:=StartOfSession)=\"&A73&\"\", \"Bar\", \"\", \"Close\",\"5\",\"0\",\"PrimaryOnly\",,,\"False\",\"T\",\"EveryTick\")","v":190.92},1.6180540770704663E-2,{"$f":"RTD(\"cqg.rtd\",,\"StudyData\", \"Close(\"&$D$12&\") when LocalYear(\"&$D$12&\")=\"&$D$3&\" and localMonth(\"&$D$12&\") =\"&$E$3&\" and LocalDay(\"&$D$12&\")=\"&$F$3&\" and Barix(\"&$D$12&\",reference:=StartOfSession)=\"&A73&\"\", \"Bar\", \"\", \"Close\",\"5\",\"0\",\"PrimaryOnly\",,,\"False\",\"T\",\"EveryTick\")","v":187.92},-1.2765957446808546E-2,{"$f":"RTD(\"cqg.rtd\",,\"StudyData\", \"Close(\"&$D$12&\") when LocalYear(\"&$D$12&\")=\"&$D$4&\" and localMonth(\"&$D$12&\") =\"&$E$4&\" and LocalDay(\"&$D$12&\")=\"&$F$4&\" and Barix(\"&$D$12&\",reference:=StartOfSession)=\"&A73&\"\", \"Bar\", \"\", \"Close\",\"5\",\"0\",\"PrimaryOnly\",,,\"False\",\"T\",\"EveryTick\")","v":190.77},9.9695665862103945E-4,{"$f":"RTD(\"cqg.rtd\",,\"StudyData\", \"Close(\"&$D$12&\") when LocalYear(\"&$D$12&\")=\"&$D$5&\" and localMonth(\"&$D$12&\") =\"&$E$5&\" and LocalDay(\"&$D$12&\")=\"&$F$5&\" and Barix(\"&$D$12&\",reference:=StartOfSession)=\"&A73&\"\", \"Bar\", \"\", \"Close\",\"5\",\"0\",\"PrimaryOnly\",,,\"False\",\"T\",\"EveryTick\")","v":190.4},1.2927594828962104E-2,{"$f":"RTD(\"cqg.rtd\",,\"StudyData\", \"Close(\"&$D$12&\") when LocalYear(\"&$D$12&\")=\"&$D$6&\" and localMonth(\"&$D$12&\") =\"&$E$6&\" and LocalDay(\"&$D$12&\")=\"&$F$6&\" and Barix(\"&$D$12&\",reference:=StartOfSession)=\"&A73&\"\", \"Bar\", \"\", \"Close\",\"5\",\"0\",\"PrimaryOnly\",,,\"False\",\"T\",\"EveryTick\")","v":188.28},1.5533980582524247E-2,{"$f":"RTD(\"cqg.rtd\",,\"StudyData\", \"Close(\"&$D$12&\") when LocalYear(\"&$D$12&\")=\"&$D$7&\" and localMonth(\"&$D$12&\") =\"&$E$7&\" and LocalDay(\"&$D$12&\")=\"&$F$7&\" and Barix(\"&$D$12&\",reference:=StartOfSession)=\"&A73&\"\", \"Bar\", \"\", \"Close\",\"5\",\"0\",\"PrimaryOnly\",,,\"False\",\"T\",\"EveryTick\")","v":185.69},9.6237494562853975E-3,{"$f":"RTD(\"cqg.rtd\",,\"StudyData\", \"Close(\"&$D$12&\") when LocalYear(\"&$D$12&\")=\"&$D$8&\" and localMonth(\"&$D$12&\") =\"&$E$8&\" and LocalDay(\"&$D$12&\")=\"&$F$8&\" and Barix(\"&$D$12&\",reference:=StartOfSession)=\"&A73&\"\", \"Bar\", \"\", \"Close\",\"5\",\"0\",\"PrimaryOnly\",,,\"False\",\"T\",\"EveryTick\")","v":""},{"$error":"#N/A"},{"$f":"RTD(\"cqg.rtd\",,\"StudyData\", \"Close(\"&$D$12&\") when LocalYear(\"&$D$12&\")=\"&$D$9&\" and localMonth(\"&$D$12&\") =\"&$E$9&\" and LocalDay(\"&$D$12&\")=\"&$F$9&\" and Barix(\"&$D$12&\",reference:=StartOfSession)=\"&A73&\"\", \"Bar\", \"\", \"Close\",\"5\",\"0\",\"PrimaryOnly\",,,\"False\",\"T\",\"EveryTick\")","v":186.79},9.0756847279994512E-3,{"$f":"RTD(\"cqg.rtd\",,\"StudyData\", \"Close(\"&$D$12&\") when LocalYear(\"&$D$12&\")=\"&$D$10&\" and localMonth(\"&$D$12&\") =\"&$E$10&\" and LocalDay(\"&$D$12&\")=\"&$F$10&\" and Barix(\"&$D$12&\",reference:=StartOfSession)=\"&A73&\"\", \"Bar\", \"\", \"Close\",\"5\",\"0\",\"PrimaryOnly\",,,\"False\",\"T\",\"EveryTick\")","v":186.11},3.2884097035041165E-3,null,null,null,""]
[73,"14:35:00",-4,{"$f":" RTD(\"cqg.rtd\",,\"StudyData\", $D$12,  \"Tick\", \"FlatTicks=0\", \"Tick\",\"D\",C74,\"PrimaryOnly\")","v":191.5},null,null,null,{"$f":"RTD(\"cqg.rtd\",,\"StudyData\", \"Close(\"&$D$12&\") when LocalYear(\"&$D$12&\")=\"&$D$1&\" and localMonth(\"&$D$12&\") =\"&$E$1&\" and LocalDay(\"&$D$12&\")=\"&$F$1&\" and Barix(\"&$D$12&\",reference:=StartOfSession)=\"&A74&\"\", \"Bar\", \"\", \"Close\",\"5\",\"0\",\"PrimaryOnly\",,,\"False\",\"T\",\"EveryTick\")","v":""},{"$error":"#N/A"},{"$f":"RTD(\"cqg.rtd\",,\"StudyData\", \"Close(\"&$D$12&\") when LocalYear(\"&$D$12&\")=\"&$D$2&\" and localMonth(\"&$D$12&\") =\"&$E$2&\" and LocalDay(\"&$D$12&\")=\"&$F$2&\" and Barix(\"&$D$12&\",reference:=StartOfSession)=\"&A74&\"\", \"Bar\", \"\", \"Close\",\"5\",\"0\",\"PrimaryOnly\",,,\"False\",\"T\",\"EveryTick\")","v":190.88},1.596763891845859E-2,{"$f":"RTD(\"cqg.rtd\",,\"StudyData\", \"Close(\"&$D$12&\") when LocalYear(\"&$D$12&\")=\"&$D$3&\" and localMonth(\"&$D$12&\") =\"&$E$3&\" and LocalDay(\"&$D$12&\")=\"&$F$3&\" and Barix(\"&$D$12&\",reference:=StartOfSession)=\"&A74&\"\", \"Bar\", \"\", \"Close\",\"5\",\"0\",\"PrimaryOnly\",,,\"False\",\"T\",\"EveryTick\")","v":187.99},-1.2398213816653455E-2,{"$f":"RTD(\"cqg.rtd\",,\"StudyData\", \"Close(\"&$D$12&\") when LocalYear(\"&$D$12&\")=\"&$D$4&\" and localMonth(\"&$D$12&\") =\"&$E$4&\" and LocalDay(\"&$D$12&\")=\"&$F$4&\" and Barix(\"&$D$12&\",reference:=StartOfSession)=\"&A74&\"\", \"Bar\", \"\", \"Close\",\"5\",\"0\",\"PrimaryOnly\",,,\"False\",\"T\",\"EveryTick\")","v":190.73},7.8707104627965814E-4,{"$f":"RTD(\"cqg.rtd\",,\"StudyData\", \"Close(\"&$D$12&\") when LocalYear(\"&$D$12&\")=\"&$D$5&\" and localMonth(\"&$D$12&\") =\"&$E$5&\" and LocalDay(\"&$D$12&\")=\"&$F$5&\" and Barix(\"&$D$12&\",reference:=StartOfSession)=\"&A74&\"\", \"Bar\", \"\", \"Close\",\"5\",\"0\",\"PrimaryOnly\",,,\"False\",\"T\",\"EveryTick\")","v":190.52},1.3565994573602231E-2,{"$f":"RTD(\"cqg.rtd\",,\"StudyData\", \"Close(\"&$D$12&\") when LocalYear(\"&$D$12&\")=\"&$D$6&\" and localMonth(\"&$D$12&\") =\"&$E$6&\" and LocalDay(\"&$D$12&\")=\"&$F$6&\" and Barix(\"&$D$12&\",reference:=StartOfSession)=\"&A74&\"\", \"Bar\", \"\", \"Close\",\"5\",\"0\",\"PrimaryOnly\",,,\"False\",\"T\",\"EveryTick\")","v":188.35},1.5911542610571674E-2,{"$f":"RTD(\"cqg.rtd\",,\"StudyData\", \"Close(\"&$D$12&\") when LocalYear(\"&$D$12&\")=\"&$D$7&\" and localMonth(\"&$D$12&\") =\"&$E$7&\" and LocalDay(\"&$D$12&\")=\"&$F$7&\" and Barix(\"&$D$12&\",reference:=StartOfSession)=\"&A74&\"\", \"Bar\", \"\", \"Close\",\"5\",\"0\",\"PrimaryOnly\",,,\"False\",\"T\",\"EveryTick\")","v":185.56},8.9169204001740693E-3,{"$f":"RTD(\"cqg.rtd\",,\"StudyData\", \"Close(\"&$D$12&\") when LocalYear(\"&$D$12&\")=\"&$D$8&\" and localMonth(\"&$D$12&\") =\"&$E$8&\" and LocalDay(\"&$D$12&\")=\"&$F$8&\" and Barix(\"&$D$12&\",reference:=StartOfSession)=\"&A74&\"\", \"Bar\", \"\", \"Close\",\"5\",\"0\",\"PrimaryOnly\",,,\"False\",\"T\",\"EveryTick\")","v":""},{"$error":"#N/A"},{"$f":"RTD(\"cqg.rtd\",,\"StudyData\", \"Close(\"&$D$12&\") when LocalYear(\"&$D$12&\")=\"&$D$9&\" and localMonth(\"&$D$12&\") =\"&$E$9&\" and LocalDay(\"&$D$12&\")=\"&$F$9&\" and Barix(\"&$D$12&\",reference:=StartOfSession)=\"&A74&\"\", \"Bar\", \"\", \"Close\",\"5\",\"0\",\"PrimaryOnly\",,,\"False\",\"T\",\"EveryTick\")","v":187},1.021014531899944E-2,{"$f":"RTD(\"cqg.rtd\",,\"StudyData\", \"Close(\"&$D$12&\") when LocalYear(\"&$D$12&\")=\"&$D$10&\" and localMonth(\"&$D$12&\") =\"&$E$10&\" and LocalDay(\"&$D$12&\")=\"&$F$10&\" and Barix(\"&$D$12&\",reference:=StartOfSession)=\"&A74&\"\", \"Bar\", \"\", \"Close\",\"5\",\"0\",\"PrimaryOnly\",,,\"False\",\"T\",\"EveryTick\")","v":185.96},2.4797843665768622E-3,null,null,null,""]
[74,"14:40:00",-3,{"$f":" RTD(\"cqg.rtd\",,\"StudyData\", $D$12,  \"Tick\", \"FlatTicks=0\", \"Tick\",\"D\",C75,\"PrimaryOnly\")","v":191.49},null,null,null,{"$f":"RTD(\"cqg.rtd\",,\"StudyData\", \"Close(\"&$D$12&\") when LocalYear(\"&$D$12&\")=\"&$D$1&\" and localMonth(\"&$D$12&\") =\"&$E$1&\" and LocalDay(\"&$D$12&\")=\"&$F$1&\" and Barix(\"&$D$12&\",reference:=StartOfSession)=\"&A75&\"\", \"Bar\", \"\", \"Close\",\"5\",\"0\",\"PrimaryOnly\",,,\"False\",\"T\",\"EveryTick\")","v":""},{"$error":"#N/A"},{"$f":"RTD(\"cqg.rtd\",,\"StudyData\", \"Close(\"&$D$12&\") when LocalYear(\"&$D$12&\")=\"&$D$2&\" and localMonth(\"&$D$12&\") =\"&$E$2&\" and LocalDay(\"&$D$12&\")=\"&$F$2&\" and Barix(\"&$D$12&\",reference:=StartOfSession)=\"&A75&\"\", \"Bar\", \"\", \"Close\",\"5\",\"0\",\"PrimaryOnly\",,,\"False\",\"T\",\"EveryTick\")","v":190.88},1.596763891845859E-2,{"$f":"RTD(\"cqg.rtd\",,\"StudyData\", \"Close(\"&$D$12&\") when LocalYear(\"&$D$12&\")=\"&$D$3&\" and localMonth(\"&$D$12&\") =\"&$E$3&\" and LocalDay(\"&$D$12&\")=\"&$F$3&\" and Barix(\"&$D$12&\",reference:=StartOfSession)=\"&A75&\"\", \"Bar\", \"\", \"Close\",\"5\",\"0\",\"PrimaryOnly\",,,\"False\",\"T\",\"EveryTick\")","v":187.83},-1.3238770685579101E-2,{"$f":"RTD(\"cqg.rtd\",,\"StudyData\", \"Close(\"&$D$12&\") when LocalYear(\"&$D$12&\")=\"&$D$4&\" and localMonth(\"&$D$12&\") =\"&$E$4&\" and LocalDay(\"&$D$12&\")=\"&$F$4&\" and Barix(\"&$D$12&\",reference:=StartOfSession)=\"&A75&\"\", \"Bar\", \"\", \"Close\",\"5\",\"0\",\"PrimaryOnly\",,,\"False\",\"T\",\"EveryTick\")","v":190.55},-1.5741420925596147E-4,{"$f":"RTD(\"cqg.rtd\",,\"StudyData\", \"Close(\"&$D$12&\") when LocalYear(\"&$D$12&\")=\"&$D$5&\" and localMonth(\"&$D$12&\") =\"&$E$5&\" and LocalDay(\"&$D$12&\")=\"&$F$5&\" and Barix(\"&$D$12&\",reference:=StartOfSession)=\"&A75&\"\", \"Bar\", \"\", \"Close\",\"5\",\"0\",\"PrimaryOnly\",,,\"False\",\"T\",\"EveryTick\")","v":190.58},1.3885194445922294E-2,{"$f":"RTD(\"cqg.rtd\",,\"StudyData\", \"Close(\"&$D$12&\") when LocalYear(\"&$D$12&\")=\"&$D$6&\" and localMonth(\"&$D$12&\") =\"&$E$6&\" and LocalDay(\"&$D$12&\")=\"&$F$6&\" and Barix(\"&$D$12&\",reference:=StartOfSession)=\"&A75&\"\", \"Bar\", \"\", \"Close\",\"5\",\"0\",\"PrimaryOnly\",,,\"False\",\"T\",\"EveryTick\")","v":188.13},1.4724919093851077E-2,{"$f":"RTD(\"cqg.rtd\",,\"StudyData\", \"Close(\"&$D$12&\") when LocalYear(\"&$D$12&\")=\"&$D$7&\" and localMonth(\"&$D$12&\") =\"&$E$7&\" and LocalDay(\"&$D$12&\")=\"&$F$7&\" and Barix(\"&$D$12&\",reference:=StartOfSession)=\"&A75&\"\", \"Bar\", \"\", \"Close\",\"5\",\"0\",\"PrimaryOnly\",,,\"False\",\"T\",\"EveryTick\")","v":185.63},9.2975206611570684E-3,{"$f":"RTD(\"cqg.rtd\",,\"StudyData\", \"Close(\"&$D$12&\") when LocalYear(\"&$D$12&\")=\"&$D$8&\" and localMonth(\"&$D$12&\") =\"&$E$8&\" and LocalDay(\"&$D$12&\")=\"&$F$8&\" and Barix(\"&$D$12&\",reference:=StartOfSession)=\"&A75&\"\", \"Bar\", \"\", \"Close\",\"5\",\"0\",\"PrimaryOnly\",,,\"False\",\"T\",\"EveryTick\")","v":""},{"$error":"#N/A"},{"$f":"RTD(\"cqg.rtd\",,\"StudyData\", \"Close(\"&$D$12&\") when LocalYear(\"&$D$12&\")=\"&$D$9&\" and localMonth(\"&$D$12&\") =\"&$E$9&\" and LocalDay(\"&$D$12&\")=\"&$F$9&\" and Barix(\"&$D$12&\",reference:=StartOfSession)=\"&A75&\"\", \"Bar\", \"\", \"Close\",\"5\",\"0\",\"PrimaryOnly\",,,\"False\",\"T\",\"EveryTick\")","v":187},1.021014531899944E-2,{"$f":"RTD(\"cqg.rtd\",,\"StudyData\", \"Close(\"&$D$12&\") when LocalYear(\"&$D$12&\")=\"&$D$10&\" and localMonth(\"&$D$12&\") =\"&$E$10&\" and LocalDay(\"&$D$12&\")=\"&$F$10&\" and Barix(\"&$D$12&\",reference:=StartOfSession)=\"&A75&\"\", \"Bar\", \"\", \"Close\",\"5\",\"0\",\"PrimaryOnly\",,,\"False\",\"T\",\"EveryTick\")","v":186.15},3.5040431266846668E-3,null,null,null,""]
[75,"14:45:00",-2,{"$f":" RTD(\"cqg.rtd\",,\"StudyData\", $D$12,  \"Tick\", \"FlatTicks=0\", \"Tick\",\"D\",C76,\"PrimaryOnly\")","v":191.5},null,null,null,{"$f":"RTD(\"cqg.rtd\",,\"StudyData\", \"Close(\"&$D$12&\") when LocalYear(\"&$D$12&\")=\"&$D$1&\" and localMonth(\"&$D$12&\") =\"&$E$1&\" and LocalDay(\"&$D$12&\")=\"&$F$1&\" and Barix(\"&$D$12&\",reference:=StartOfSession)=\"&A76&\"\", \"Bar\", \"\", \"Close\",\"5\",\"0\",\"PrimaryOnly\",,,\"False\",\"T\",\"EveryTick\")","v":""},{"$error":"#N/A"},{"$f":"RTD(\"cqg.rtd\",,\"StudyData\", \"Close(\"&$D$12&\") when LocalYear(\"&$D$12&\")=\"&$D$2&\" and localMonth(\"&$D$12&\") =\"&$E$2&\" and LocalDay(\"&$D$12&\")=\"&$F$2&\" and Barix(\"&$D$12&\",reference:=StartOfSession)=\"&A76&\"\", \"Bar\", \"\", \"Close\",\"5\",\"0\",\"PrimaryOnly\",,,\"False\",\"T\",\"EveryTick\")","v":190.94},1.6286991696827773E-2,{"$f":"RTD(\"cqg.rtd\",,\"StudyData\", \"Close(\"&$D$12&\") when LocalYear(\"&$D$12&\")=\"&$D$3&\" and localMonth(\"&$D$12&\") =\"&$E$3&\" and LocalDay(\"&$D$12&\")=\"&$F$3&\" and Barix(\"&$D$12&\",reference:=StartOfSession)=\"&A76&\"\", \"Bar\", \"\", \"Close\",\"5\",\"0\",\"PrimaryOnly\",,,\"False\",\"T\",\"EveryTick\")","v":188},-1.2345679012345649E-2,{"$f":"RTD(\"cqg.rtd\",,\"StudyData\", \"Close(\"&$D$12&\") when LocalYear(\"&$D$12&\")=\"&$D$4&\" and localMonth(\"&$D$12&\") =\"&$E$4&\" and LocalDay(\"&$D$12&\")=\"&$F$4&\" and Barix(\"&$D$12&\",reference:=StartOfSession)=\"&A76&\"\", \"Bar\", \"\", \"Close\",\"5\",\"0\",\"PrimaryOnly\",,,\"False\",\"T\",\"EveryTick\")","v":190.3},-1.4691992863889239E-3,{"$f":"RTD(\"cqg.rtd\",,\"StudyData\", \"Close(\"&$D$12&\") when LocalYear(\"&$D$12&\")=\"&$D$5&\" and localMonth(\"&$D$12&\") =\"&$E$5&\" and LocalDay(\"&$D$12&\")=\"&$F$5&\" and Barix(\"&$D$12&\",reference:=StartOfSession)=\"&A76&\"\", \"Bar\", \"\", \"Close\",\"5\",\"0\",\"PrimaryOnly\",,,\"False\",\"T\",\"EveryTick\")","v":190.62},1.4097994360802286E-2,{"$f":"RTD(\"cqg.rtd\",,\"StudyData\", \"Close(\"&$D$12&\") when LocalYear(\"&$D$12&\")=\"&$D$6&\" and localMonth(\"&$D$12&\") =\"&$E$6&\" and LocalDay(\"&$D$12&\")=\"&$F$6&\" and Barix(\"&$D$12&\",reference:=StartOfSession)=\"&A76&\"\", \"Bar\", \"\", \"Close\",\"5\",\"0\",\"PrimaryOnly\",,,\"False\",\"T\",\"EveryTick\")","v":187.7},1.2405609492988041E-2,{"$f":"RTD(\"cqg.rtd\",,\"StudyData\", \"Close(\"&$D$12&\") when LocalYear(\"&$D$12&\")=\"&$D$7&\" and localMonth(\"&$D$12&\") =\"&$E$7&\" and LocalDay(\"&$D$12&\")=\"&$F$7&\" and Barix(\"&$D$12&\",reference:=StartOfSession)=\"&A76&\"\", \"Bar\", \"\", \"Close\",\"5\",\"0\",\"PrimaryOnly\",,,\"False\",\"T\",\"EveryTick\")","v":185.51},8.6450630709004102E-3,{"$f":"RTD(\"cqg.rtd\",,\"StudyData\", \"Close(\"&$D$12&\") when LocalYear(\"&$D$12&\")=\"&$D$8&\" and localMonth(\"&$D$12&\") =\"&$E$8&\" and LocalDay(\"&$D$12&\")=\"&$F$8&\" and Barix(\"&$D$12&\",reference:=StartOfSession)=\"&A76&\"\", \"Bar\", \"\", \"Close\",\"5\",\"0\",\"PrimaryOnly\",,,\"False\",\"T\",\"EveryTick\")","v":""},{"$error":"#N/A"},{"$f":"RTD(\"cqg.rtd\",,\"StudyData\", \"Close(\"&$D$12&\") when LocalYear(\"&$D$12&\")=\"&$D$9&\" and localMonth(\"&$D$12&\") =\"&$E$9&\" and LocalDay(\"&$D$12&\")=\"&$F$9&\" and Barix(\"&$D$12&\",reference:=StartOfSession)=\"&A76&\"\", \"Bar\", \"\", \"Close\",\"5\",\"0\",\"PrimaryOnly\",,,\"False\",\"T\",\"EveryTick\")","v":186.95},9.9400356544755812E-3,{"$f":"RTD(\"cqg.rtd\",,\"StudyData\", \"Close(\"&$D$12&\") when LocalYear(\"&$D$12&\")=\"&$D$10&\" and localMonth(\"&$D$12&\") =\"&$E$10&\" and LocalDay(\"&$D$12&\")=\"&$F$10&\" and Barix(\"&$D$12&\",reference:=StartOfSession)=\"&A76&\"\", \"Bar\", \"\", \"Close\",\"5\",\"0\",\"PrimaryOnly\",,,\"False\",\"T\",\"EveryTick\")","v":185.97},2.5336927223719614E-3,null,null,null,""]
[76,"14:50:00",-1,{"$f":" RTD(\"cqg.rtd\",,\"StudyData\", $D$12,  \"Tick\", \"FlatTicks=0\", \"Tick\",\"D\",C77,\"PrimaryOnly\")","v":191.51},null,null,null,{"$f":"RTD(\"cqg.rtd\",,\"StudyData\", \"Close(\"&$D$12&\") when LocalYear(\"&$D$12&\")=\"&$D$1&\" and localMonth(\"&$D$12&\") =\"&$E$1&\" and LocalDay(\"&$D$12&\")=\"&$F$1&\" and Barix(\"&$D$12&\",reference:=StartOfSession)=\"&A77&\"\", \"Bar\", \"\", \"Close\",\"5\",\"0\",\"PrimaryOnly\",,,\"False\",\"T\",\"EveryTick\")","v":""},{"$error":"#N/A"},{"$f":"RTD(\"cqg.rtd\",,\"StudyData\", \"Close(\"&$D$12&\") when LocalYear(\"&$D$12&\")=\"&$D$2&\" and localMonth(\"&$D$12&\") =\"&$E$2&\" and LocalDay(\"&$D$12&\")=\"&$F$2&\" and Barix(\"&$D$12&\",reference:=StartOfSession)=\"&A77&\"\", \"Bar\", \"\", \"Close\",\"5\",\"0\",\"PrimaryOnly\",,,\"False\",\"T\",\"EveryTick\")","v":190.86},1.5861187992335629E-2,{"$f":"RTD(\"cqg.rtd\",,\"StudyData\", \"Close(\"&$D$12&\") when LocalYear(\"&$D$12&\")=\"&$D$3&\" and localMonth(\"&$D$12&\") =\"&$E$3&\" and LocalDay(\"&$D$12&\")=\"&$F$3&\" and Barix(\"&$D$12&\",reference:=StartOfSession)=\"&A77&\"\", \"Bar\", \"\", \"Close\",\"5\",\"0\",\"PrimaryOnly\",,,\"False\",\"T\",\"EveryTick\")","v":187.82},-1.3291305489887056E-2,{"$f":"RTD(\"cqg.rtd\",,\"StudyData\", \"Close(\"&$D$12&\") when LocalYear(\"&$D$12&\")=\"&$D$4&\" and localMonth(\"&$D$12&\") =\"&$E$4&\" and LocalDay(\"&$D$12&\")=\"&$F$4&\" and Barix(\"&$D$12&\",reference:=StartOfSession)=\"&A77&\"\", \"Bar\", \"\", \"Close\",\"5\",\"0\",\"PrimaryOnly\",,,\"False\",\"T\",\"EveryTick\")","v":190.45},-6.8212824010926575E-4,{"$f":"RTD(\"cqg.rtd\",,\"StudyData\", \"Close(\"&$D$12&\") when LocalYear(\"&$D$12&\")=\"&$D$5&\" and localMonth(\"&$D$12&\") =\"&$E$5&\" and LocalDay(\"&$D$12&\")=\"&$F$5&\" and Barix(\"&$D$12&\",reference:=StartOfSession)=\"&A77&\"\", \"Bar\", \"\", \"Close\",\"5\",\"0\",\"PrimaryOnly\",,,\"False\",\"T\",\"EveryTick\")","v":190.5},1.345959461616216E-2,{"$f":"RTD(\"cqg.rtd\",,\"StudyData\", \"Close(\"&$D$12&\") when LocalYear(\"&$D$12&\")=\"&$D$6&\" and localMonth(\"&$D$12&\") =\"&$E$6&\" and LocalDay(\"&$D$12&\")=\"&$F$6&\" and Barix(\"&$D$12&\",reference:=StartOfSession)=\"&A77&\"\", \"Bar\", \"\", \"Close\",\"5\",\"0\",\"PrimaryOnly\",,,\"False\",\"T\",\"EveryTick\")","v":187.85},1.3214670981661212E-2,{"$f":"RTD(\"cqg.rtd\",,\"StudyData\", \"Close(\"&$D$12&\") when LocalYear(\"&$D$12&\")=\"&$D$7&\" and localMonth(\"&$D$12&\") =\"&$E$7&\" and LocalDay(\"&$D$12&\")=\"&$F$7&\" and Barix(\"&$D$12&\",reference:=StartOfSession)=\"&A77&\"\", \"Bar\", \"\", \"Close\",\"5\",\"0\",\"PrimaryOnly\",,,\"False\",\"T\",\"EveryTick\")","v":185.5},8.5906916050457402E-3,{"$f":"RTD(\"cqg.rtd\",,\"StudyData\", \"Close(\"&$D$12&\") when LocalYear(\"&$D$12&\")=\"&$D$8&\" and localMonth(\"&$D$12&\") =\"&$E$8&\" and LocalDay(\"&$D$12&\")=\"&$F$8&\" and Barix(\"&$D$12&\",reference:=StartOfSession)=\"&A77&\"\", \"Bar\", \"\", \"Close\",\"5\",\"0\",\"PrimaryOnly\",,,\"False\",\"T\",\"EveryTick\")","v":""},{"$error":"#N/A"},{"$f":"RTD(\"cqg.rtd\",,\"StudyData\", \"Close(\"&$D$12&\") when LocalYear(\"&$D$12&\")=\"&$D$9&\" and localMonth(\"&$D$12&\") =\"&$E$9&\" and LocalDay(\"&$D$12&\")=\"&$F$9&\" and Barix(\"&$D$12&\",reference:=StartOfSession)=\"&A77&\"\", \"Bar\", \"\", \"Close\",\"5\",\"0\",\"PrimaryOnly\",,,\"False\",\"T\",\"EveryTick\")","v":187.04},1.0426233050618433E-2,{"$f":"RTD(\"cqg.rtd\",,\"StudyData\", \"Close(\"&$D$12&\") when LocalYear(\"&$D$12&\")=\"&$D$10&\" and localMonth(\"&$D$12&\") =\"&$E$10&\" and LocalDay(\"&$D$12&\")=\"&$F$10&\" and Barix(\"&$D$12&\",reference:=StartOfSession)=\"&A77&\"\", \"Bar\", \"\", \"Close\",\"5\",\"0\",\"PrimaryOnly\",,,\"False\",\"T\",\"EveryTick\")","v":185.7},1.0781671159029037E-3,null,null,null,""]
[77,"14:55:00",{"$f":"C77+1","v":0},{"$f":" RTD(\"cqg.rtd\",,\"StudyData\", $D$12,  \"Tick\", \"FlatTicks=0\", \"Tick\",\"D\",C78,\"PrimaryOnly\")","v":191.5},null,null,null,{"$f":"RTD(\"cqg.rtd\",,\"StudyData\", \"Close(\"&$D$12&\") when LocalYear(\"&$D$12&\")=\"&$D$1&\" and localMonth(\"&$D$12&\") =\"&$E$1&\" and LocalDay(\"&$D$12&\")=\"&$F$1&\" and Barix(\"&$D$12&\",reference:=StartOfSession)=\"&A78&\"\", \"Bar\", \"\", \"Close\",\"5\",\"0\",\"PrimaryOnly\",,,\"False\",\"T\",\"EveryTick\")","v":""},{"$error":"#N/A"},{"$f":"RTD(\"cqg.rtd\",,\"StudyData\", \"Close(\"&$D$12&\") when LocalYear(\"&$D$12&\")=\"&$D$2&\" and localMonth(\"&$D$12&\") =\"&$E$2&\" and LocalDay(\"&$D$12&\")=\"&$F$2&\" and Barix(\"&$D$12&\",reference:=StartOfSession)=\"&A78&\"\", \"Bar\", \"\", \"Close\",\"5\",\"0\",\"PrimaryOnly\",,,\"False\",\"T\",\"EveryTick\")","v":191.11},1.7191824568873845E-2,{"$f":"RTD(\"cqg.rtd\",,\"StudyData\", \"Close(\"&$D$12&\") when LocalYear(\"&$D$12&\")=\"&$D$3&\" and localMonth(\"&$D$12&\") =\"&$E$3&\" and LocalDay(\"&$D$12&\")=\"&$F$3&\" and Barix(\"&$D$12&\",reference:=StartOfSession)=\"&A78&\"\", \"Bar\", \"\", \"Close\",\"5\",\"0\",\"PrimaryOnly\",,,\"False\",\"T\",\"EveryTick\")","v":187.88},-1.2976096664039921E-2,{"$f":"RTD(\"cqg.rtd\",,\"StudyData\", \"Close(\"&$D$12&\") when LocalYear(\"&$D$12&\")=\"&$D$4&\" and localMonth(\"&$D$12&\") =\"&$E$4&\" and LocalDay(\"&$D$12&\")=\"&$F$4&\" and Barix(\"&$D$12&\",reference:=StartOfSession)=\"&A78&\"\", \"Bar\", \"\", \"Close\",\"5\",\"0\",\"PrimaryOnly\",,,\"False\",\"T\",\"EveryTick\")","v":190.35},-1.206842270962421E-3,{"$f":"RTD(\"cqg.rtd\",,\"StudyData\", \"Close(\"&$D$12&\") when LocalYear(\"&$D$12&\")=\"&$D$5&\" and localMonth(\"&$D$12&\") =\"&$E$5&\" and LocalDay(\"&$D$12&\")=\"&$F$5&\" and Barix(\"&$D$12&\",reference:=StartOfSession)=\"&A78&\"\", \"Bar\", \"\", \"Close\",\"5\",\"0\",\"PrimaryOnly\",,,\"False\",\"T\",\"EveryTick\")","v":190.58},1.3885194445922294E-2,{"$f":"RTD(\"cqg.rtd\",,\"StudyData\", \"Close(\"&$D$12&\") when LocalYear(\"&$D$12&\")=\"&$D$6&\" and localMonth(\"&$D$12&\") =\"&$E$6&\" and LocalDay(\"&$D$12&\")=\"&$F$6&\" and Barix(\"&$D$12&\",reference:=StartOfSession)=\"&A78&\"\", \"Bar\", \"\", \"Close\",\"5\",\"0\",\"PrimaryOnly\",,,\"False\",\"T\",\"EveryTick\")","v":187.97},1.3861920172599747E-2,{"$f":"RTD(\"cqg.rtd\",,\"StudyData\", \"Close(\"&$D$12&\") when LocalYear(\"&$D$12&\")=\"&$D$7&\" and localMonth(\"&$D$12&\") =\"&$E$7&\" and LocalDay(\"&$D$12&\")=\"&$F$7&\" and Barix(\"&$D$12&\",reference:=StartOfSession)=\"&A78&\"\", \"Bar\", \"\", \"Close\",\"5\",\"0\",\"PrimaryOnly\",,,\"False\",\"T\",\"EveryTick\")","v":185.4},8.0469769464985765E-3,{"$f":"RTD(\"cqg.rtd\",,\"StudyData\", \"Close(\"&$D$12&\") when LocalYear(\"&$D$12&\")=\"&$D$8&\" and localMonth(\"&$D$12&\") =\"&$E$8&\" and LocalDay(\"&$D$12&\")=\"&$F$8&\" and Barix(\"&$D$12&\",reference:=StartOfSession)=\"&A78&\"\", \"Bar\", \"\", \"Close\",\"5\",\"0\",\"PrimaryOnly\",,,\"False\",\"T\",\"EveryTick\")","v":""},{"$error":"#N/A"},{"$f":"RTD(\"cqg.rtd\",,\"StudyData\", \"Close(\"&$D$12&\") when LocalYear(\"&$D$12&\")=\"&$D$9&\" and localMonth(\"&$D$12&\") =\"&$E$9&\" and LocalDay(\"&$D$12&\")=\"&$F$9&\" and Barix(\"&$D$12&\",reference:=StartOfSession)=\"&A78&\"\", \"Bar\", \"\", \"Close\",\"5\",\"0\",\"PrimaryOnly\",,,\"False\",\"T\",\"EveryTick\")","v":187.18},1.1182540111285144E-2,{"$f":"RTD(\"cqg.rtd\",,\"StudyData\", \"Close(\"&$D$12&\") when LocalYear(\"&$D$12&\")=\"&$D$10&\" and localMonth(\"&$D$12&\") =\"&$E$10&\" and LocalDay(\"&$D$12&\")=\"&$F$10&\" and Barix(\"&$D$12&\",reference:=StartOfSession)=\"&A78&\"\", \"Bar\", \"\", \"Close\",\"5\",\"0\",\"PrimaryOnly\",,,\"False\",\"T\",\"EveryTick\")","v":185.11},-2.1024258760107082E-3,null,null,null,""]
[78,"15:00:00",null,null,null,null,null,{"$f":"RTD(\"cqg.rtd\",,\"StudyData\", \"Close(\"&$D$12&\") when LocalYear(\"&$D$12&\")=\"&$D$1&\" and localMonth(\"&$D$12&\") =\"&$E$1&\" and LocalDay(\"&$D$12&\")=\"&$F$1&\" and Barix(\"&$D$12&\",reference:=StartOfSession)=\"&A79&\"\", \"Bar\", \"\", \"Close\",\"5\",\"0\",\"PrimaryOnly\",,,\"False\",\"T\",\"EveryTick\")","v":""},{"$error":"#N/A"},{"$f":"RTD(\"cqg.rtd\",,\"StudyData\", \"Close(\"&$D$12&\") when LocalYear(\"&$D$12&\")=\"&$D$2&\" and localMonth(\"&$D$12&\") =\"&$E$2&\" and LocalDay(\"&$D$12&\")=\"&$F$2&\" and Barix(\"&$D$12&\",reference:=StartOfSession)=\"&A79&\"\", \"Bar\", \"\", \"Close\",\"5\",\"0\",\"PrimaryOnly\",,,\"False\",\"T\",\"EveryTick\")","v":""},{"$error":"#N/A"},{"$f":"RTD(\"cqg.rtd\",,\"StudyData\", \"Close(\"&$D$12&\") when LocalYear(\"&$D$12&\")=\"&$D$3&\" and localMonth(\"&$D$12&\") =\"&$E$3&\" and LocalDay(\"&$D$12&\")=\"&$F$3&\" and Barix(\"&$D$12&\",reference:=StartOfSession)=\"&A79&\"\", \"Bar\", \"\", \"Close\",\"5\",\"0\",\"PrimaryOnly\",,,\"False\",\"T\",\"EveryTick\")","v":""},{"$error":"#N/A"},{"$f":"RTD(\"cqg.rtd\",,\"StudyData\", \"Close(\"&$D$12&\") when LocalYear(\"&$D$12&\")=\"&$D$4&\" and localMonth(\"&$D$12&\") =\"&$E$4&\" and LocalDay(\"&$D$12&\")=\"&$F$4&\" and Barix(\"&$D$12&\",reference:=StartOfSession)=\"&A79&\"\", \"Bar\", \"\", \"Close\",\"5\",\"0\",\"PrimaryOnly\",,,\"False\",\"T\",\"EveryTick\")","v":""},{"$error":"#N/A"},{"$f":"RTD(\"cqg.rtd\",,\"StudyData\", \"Close(\"&$D$12&\") when LocalYear(\"&$D$12&\")=\"&$D$5&\" and localMonth(\"&$D$12&\") =\"&$E$5&\" and LocalDay(\"&$D$12&\")=\"&$F$5&\" and Barix(\"&$D$12&\",reference:=StartOfSession)=\"&A79&\"\", \"Bar\", \"\", \"Close\",\"5\",\"0\",\"PrimaryOnly\",,,\"False\",\"T\",\"EveryTick\")","v":""},{"$error":"#N/A"},{"$f":"RTD(\"cqg.rtd\",,\"StudyData\", \"Close(\"&$D$12&\") when LocalYear(\"&$D$12&\")=\"&$D$6&\" and localMonth(\"&$D$12&\") =\"&$E$6&\" and LocalDay(\"&$D$12&\")=\"&$F$6&\" and Barix(\"&$D$12&\",reference:=StartOfSession)=\"&A79&\"\", \"Bar\", \"\", \"Close\",\"5\",\"0\",\"PrimaryOnly\",,,\"False\",\"T\",\"EveryTick\")","v":""},{"$error":"#N/A"},{"$f":"RTD(\"cqg.rtd\",,\"StudyData\", \"Close(\"&$D$12&\") when LocalYear(\"&$D$12&\")=\"&$D$7&\" and localMonth(\"&$D$12&\") =\"&$E$7&\" and LocalDay(\"&$D$12&\")=\"&$F$7&\" and Barix(\"&$D$12&\",reference:=StartOfSession)=\"&A79&\"\", \"Bar\", \"\", \"Close\",\"5\",\"0\",\"PrimaryOnly\",,,\"False\",\"T\",\"EveryTick\")","v":""},{"$error":"#N/A"},{"$f":"RTD(\"cqg.rtd\",,\"StudyData\", \"Close(\"&$D$12&\") when LocalYear(\"&$D$12&\")=\"&$D$8&\" and localMonth(\"&$D$12&\") =\"&$E$8&\" and LocalDay(\"&$D$12&\")=\"&$F$8&\" and Barix(\"&$D$12&\",reference:=StartOfSession)=\"&A79&\"\", \"Bar\", \"\", \"Close\",\"5\",\"0\",\"PrimaryOnly\",,,\"False\",\"T\",\"EveryTick\")","v":""},{"$error":"#N/A"},{"$f":"RTD(\"cqg.rtd\",,\"StudyData\", \"Close(\"&$D$12&\") when LocalYear(\"&$D$12&\")=\"&$D$9&\" and localMonth(\"&$D$12&\") =\"&$E$9&\" and LocalDay(\"&$D$12&\")=\"&$F$9&\" and Barix(\"&$D$12&\",reference:=StartOfSession)=\"&A79&\"\", \"Bar\", \"\", \"Close\",\"5\",\"0\",\"PrimaryOnly\",,,\"False\",\"T\",\"EveryTick\")","v":""},{"$error":"#N/A"},{"$f":"RTD(\"cqg.rtd\",,\"StudyData\", \"Close(\"&$D$12&\") when LocalYear(\"&$D$12&\")=\"&$D$10&\" and localMonth(\"&$D$12&\") =\"&$E$10&\" and LocalDay(\"&$D$12&\")=\"&$F$10&\" and Barix(\"&$D$12&\",reference:=StartOfSession)=\"&A79&\"\", \"Bar\", \"\", \"Close\",\"5\",\"0\",\"PrimaryOnly\",,,\"False\",\"T\",\"EveryTick\")","v":""},{"$error":"#N/A"},null,null,null,""]
[79,"15:05:00",null,null,null,null,null,{"$f":"RTD(\"cqg.rtd\",,\"StudyData\", \"Close(\"&$D$12&\") when LocalYear(\"&$D$12&\")=\"&$D$1&\" and localMonth(\"&$D$12&\") =\"&$E$1&\" and LocalDay(\"&$D$12&\")=\"&$F$1&\" and Barix(\"&$D$12&\",reference:=StartOfSession)=\"&A80&\"\", \"Bar\", \"\", \"Close\",\"5\",\"0\",\"PrimaryOnly\",,,\"False\",\"T\",\"EveryTick\")","v":""},{"$error":"#N/A"},{"$f":"RTD(\"cqg.rtd\",,\"StudyData\", \"Close(\"&$D$12&\") when LocalYear(\"&$D$12&\")=\"&$D$2&\" and localMonth(\"&$D$12&\") =\"&$E$2&\" and LocalDay(\"&$D$12&\")=\"&$F$2&\" and Barix(\"&$D$12&\",reference:=StartOfSession)=\"&A80&\"\", \"Bar\", \"\", \"Close\",\"5\",\"0\",\"PrimaryOnly\",,,\"False\",\"T\",\"EveryTick\")","v":""},{"$error":"#N/A"},{"$f":"RTD(\"cqg.rtd\",,\"StudyData\", \"Close(\"&$D$12&\") when LocalYear(\"&$D$12&\")=\"&$D$3&\" and localMonth(\"&$D$12&\") =\"&$E$3&\" and LocalDay(\"&$D$12&\")=\"&$F$3&\" and Barix(\"&$D$12&\",reference:=StartOfSession)=\"&A80&\"\", \"Bar\", \"\", \"Close\",\"5\",\"0\",\"PrimaryOnly\",,,\"False\",\"T\",\"EveryTick\")","v":""},{"$error":"#N/A"},{"$f":"RTD(\"cqg.rtd\",,\"StudyData\", \"Close(\"&$D$12&\") when LocalYear(\"&$D$12&\")=\"&$D$4&\" and localMonth(\"&$D$12&\") =\"&$E$4&\" and LocalDay(\"&$D$12&\")=\"&$F$4&\" and Barix(\"&$D$12&\",reference:=StartOfSession)=\"&A80&\"\", \"Bar\", \"\", \"Close\",\"5\",\"0\",\"PrimaryOnly\",,,\"False\",\"T\",\"EveryTick\")","v":""},{"$error":"#N/A"},{"$f":"RTD(\"cqg.rtd\",,\"StudyData\", \"Close(\"&$D$12&\") when LocalYear(\"&$D$12&\")=\"&$D$5&\" and localMonth(\"&$D$12&\") =\"&$E$5&\" and LocalDay(\"&$D$12&\")=\"&$F$5&\" and Barix(\"&$D$12&\",reference:=StartOfSession)=\"&A80&\"\", \"Bar\", \"\", \"Close\",\"5\",\"0\",\"PrimaryOnly\",,,\"False\",\"T\",\"EveryTick\")","v":""},{"$error":"#N/A"},{"$f":"RTD(\"cqg.rtd\",,\"StudyData\", \"Close(\"&$D$12&\") when LocalYear(\"&$D$12&\")=\"&$D$6&\" and localMonth(\"&$D$12&\") =\"&$E$6&\" and LocalDay(\"&$D$12&\")=\"&$F$6&\" and Barix(\"&$D$12&\",reference:=StartOfSession)=\"&A80&\"\", \"Bar\", \"\", \"Close\",\"5\",\"0\",\"PrimaryOnly\",,,\"False\",\"T\",\"EveryTick\")","v":""},{"$error":"#N/A"},{"$f":"RTD(\"cqg.rtd\",,\"StudyData\", \"Close(\"&$D$12&\") when LocalYear(\"&$D$12&\")=\"&$D$7&\" and localMonth(\"&$D$12&\") =\"&$E$7&\" and LocalDay(\"&$D$12&\")=\"&$F$7&\" and Barix(\"&$D$12&\",reference:=StartOfSession)=\"&A80&\"\", \"Bar\", \"\", \"Close\",\"5\",\"0\",\"PrimaryOnly\",,,\"False\",\"T\",\"EveryTick\")","v":""},{"$error":"#N/A"},{"$f":"RTD(\"cqg.rtd\",,\"StudyData\", \"Close(\"&$D$12&\") when LocalYear(\"&$D$12&\")=\"&$D$8&\" and localMonth(\"&$D$12&\") =\"&$E$8&\" and LocalDay(\"&$D$12&\")=\"&$F$8&\" and Barix(\"&$D$12&\",reference:=StartOfSession)=\"&A80&\"\", \"Bar\", \"\", \"Close\",\"5\",\"0\",\"PrimaryOnly\",,,\"False\",\"T\",\"EveryTick\")","v":""},{"$error":"#N/A"},{"$f":"RTD(\"cqg.rtd\",,\"StudyData\", \"Close(\"&$D$12&\") when LocalYear(\"&$D$12&\")=\"&$D$9&\" and localMonth(\"&$D$12&\") =\"&$E$9&\" and LocalDay(\"&$D$12&\")=\"&$F$9&\" and Barix(\"&$D$12&\",reference:=StartOfSession)=\"&A80&\"\", \"Bar\", \"\", \"Close\",\"5\",\"0\",\"PrimaryOnly\",,,\"False\",\"T\",\"EveryTick\")","v":""},{"$error":"#N/A"},{"$f":"RTD(\"cqg.rtd\",,\"StudyData\", \"Close(\"&$D$12&\") when LocalYear(\"&$D$12&\")=\"&$D$10&\" and localMonth(\"&$D$12&\") =\"&$E$10&\" and LocalDay(\"&$D$12&\")=\"&$F$10&\" and Barix(\"&$D$12&\",reference:=StartOfSession)=\"&A80&\"\", \"Bar\", \"\", \"Close\",\"5\",\"0\",\"PrimaryOnly\",,,\"False\",\"T\",\"EveryTick\")","v":""},{"$error":"#N/A"},null,null,null,""]
[80,"15:10:00",null,null,null,null,null,{"$f":"RTD(\"cqg.rtd\",,\"StudyData\", \"Close(\"&$D$12&\") when LocalYear(\"&$D$12&\")=\"&$D$1&\" and localMonth(\"&$D$12&\") =\"&$E$1&\" and LocalDay(\"&$D$12&\")=\"&$F$1&\" and Barix(\"&$D$12&\",reference:=StartOfSession)=\"&A81&\"\", \"Bar\", \"\", \"Close\",\"5\",\"0\",\"PrimaryOnly\",,,\"False\",\"T\",\"EveryTick\")","v":""},{"$error":"#N/A"},{"$f":"RTD(\"cqg.rtd\",,\"StudyData\", \"Close(\"&$D$12&\") when LocalYear(\"&$D$12&\")=\"&$D$2&\" and localMonth(\"&$D$12&\") =\"&$E$2&\" and LocalDay(\"&$D$12&\")=\"&$F$2&\" and Barix(\"&$D$12&\",reference:=StartOfSession)=\"&A81&\"\", \"Bar\", \"\", \"Close\",\"5\",\"0\",\"PrimaryOnly\",,,\"False\",\"T\",\"EveryTick\")","v":""},{"$error":"#N/A"},{"$f":"RTD(\"cqg.rtd\",,\"StudyData\", \"Close(\"&$D$12&\") when LocalYear(\"&$D$12&\")=\"&$D$3&\" and localMonth(\"&$D$12&\") =\"&$E$3&\" and LocalDay(\"&$D$12&\")=\"&$F$3&\" and Barix(\"&$D$12&\",reference:=StartOfSession)=\"&A81&\"\", \"Bar\", \"\", \"Close\",\"5\",\"0\",\"PrimaryOnly\",,,\"False\",\"T\",\"EveryTick\")","v":""},{"$error":"#N/A"},{"$f":"RTD(\"cqg.rtd\",,\"StudyData\", \"Close(\"&$D$12&\") when LocalYear(\"&$D$12&\")=\"&$D$4&\" and localMonth(\"&$D$12&\") =\"&$E$4&\" and LocalDay(\"&$D$12&\")=\"&$F$4&\" and Barix(\"&$D$12&\",reference:=StartOfSession)=\"&A81&\"\", \"Bar\", \"\", \"Close\",\"5\",\"0\",\"PrimaryOnly\",,,\"False\",\"T\",\"EveryTick\")","v":""},{"$error":"#N/A"},{"$f":"RTD(\"cqg.rtd\",,\"StudyData\", \"Close(\"&$D$12&\") when LocalYear(\"&$D$12&\")=\"&$D$5&\" and localMonth(\"&$D$12&\") =\"&$E$5&\" and LocalDay(\"&$D$12&\")=\"&$F$5&\" and Barix(\"&$D$12&\",reference:=StartOfSession)=\"&A81&\"\", \"Bar\", \"\", \"Close\",\"5\",\"0\",\"PrimaryOnly\",,,\"False\",\"T\",\"EveryTick\")","v":""},{"$error":"#N/A"},{"$f":"RTD(\"cqg.rtd\",,\"StudyData\", \"Close(\"&$D$12&\") when LocalYear(\"&$D$12&\")=\"&$D$6&\" and localMonth(\"&$D$12&\") =\"&$E$6&\" and LocalDay(\"&$D$12&\")=\"&$F$6&\" and Barix(\"&$D$12&\",reference:=StartOfSession)=\"&A81&\"\", \"Bar\", \"\", \"Close\",\"5\",\"0\",\"PrimaryOnly\",,,\"False\",\"T\",\"EveryTick\")","v":""},{"$error":"#N/A"},{"$f":"RTD(\"cqg.rtd\",,\"StudyData\", \"Close(\"&$D$12&\") when LocalYear(\"&$D$12&\")=\"&$D$7&\" and localMonth(\"&$D$12&\") =\"&$E$7&\" and LocalDay(\"&$D$12&\")=\"&$F$7&\" and Barix(\"&$D$12&\",reference:=StartOfSession)=\"&A81&\"\", \"Bar\", \"\", \"Close\",\"5\",\"0\",\"PrimaryOnly\",,,\"False\",\"T\",\"EveryTick\")","v":""},{"$error":"#N/A"},{"$f":"RTD(\"cqg.rtd\",,\"StudyData\", \"Close(\"&$D$12&\") when LocalYear(\"&$D$12&\")=\"&$D$8&\" and localMonth(\"&$D$12&\") =\"&$E$8&\" and LocalDay(\"&$D$12&\")=\"&$F$8&\" and Barix(\"&$D$12&\",reference:=StartOfSession)=\"&A81&\"\", \"Bar\", \"\", \"Close\",\"5\",\"0\",\"PrimaryOnly\",,,\"False\",\"T\",\"EveryTick\")","v":""},{"$error":"#N/A"},{"$f":"RTD(\"cqg.rtd\",,\"StudyData\", \"Close(\"&$D$12&\") when LocalYear(\"&$D$12&\")=\"&$D$9&\" and localMonth(\"&$D$12&\") =\"&$E$9&\" and LocalDay(\"&$D$12&\")=\"&$F$9&\" and Barix(\"&$D$12&\",reference:=StartOfSession)=\"&A81&\"\", \"Bar\", \"\", \"Close\",\"5\",\"0\",\"PrimaryOnly\",,,\"False\",\"T\",\"EveryTick\")","v":""},{"$error":"#N/A"},{"$f":"RTD(\"cqg.rtd\",,\"StudyData\", \"Close(\"&$D$12&\") when LocalYear(\"&$D$12&\")=\"&$D$10&\" and localMonth(\"&$D$12&\") =\"&$E$10&\" and LocalDay(\"&$D$12&\")=\"&$F$10&\" and Barix(\"&$D$12&\",reference:=StartOfSession)=\"&A81&\"\", \"Bar\", \"\", \"Close\",\"5\",\"0\",\"PrimaryOnly\",,,\"False\",\"T\",\"EveryTick\")","v":""},{"$error":"#N/A"},null,null,null,""]
[]
[null,null,null,null,null,null,null,null,null,null,null,null,null,null,null,null,null,null,null,null,null,null,null,null,null,null,null,null,null,null,{"$f":"MAX(AE1:AE81)","v":22}]

{"sheet":"Sheet4","index":2,"n_rows":93,"n_cols":20,"rows_kept":93,"cut":false,"hidden":true,"merged":[]}
[null,{"$f":"Sheet3!I1","v":5.2347798775058537E-4},{"$f":"Sheet3!K1","v":1.2507983819459199E-2},null,{"$f":"Sheet3!M1","v":-3.4672970843183429E-3},null,{"$f":"Sheet3!O1","v":3.6729982159719368E-4},null,{"$f":"Sheet3!Q1","v":1.048039580784167E-2},null,{"$f":"Sheet3!S1","v":3.6138079827399542E-3},null,{"$f":"Sheet3!U1","v":1.1689865158764712E-2},null,{"$f":"Sheet3!W1","v":4.2739608932569763E-4},null,{"$f":"Sheet3!Y1","v":-4.1056669007618132E-3},null,{"$f":"Sheet3!AA1","v":6.5768194070080803E-3}]
[null,{"$f":"Sheet3!I2","v":1.2039993718263612E-3},{"$f":"Sheet3!K2","v":1.0964445390674911E-2},{"$f":"IF(ISNUMBER(C2),CORREL($B$1:B2,$C$1:C2),\"\")","v":-1},{"$f":"Sheet3!M2","v":-5.5686892566325311E-3},{"$f":"IF(ISNUMBER(E2),CORREL($B$1:B2,$E$1:E2),\"\")","v":-1.0000000000000002},{"$f":"Sheet3!O2","v":-3.6729982159734281E-4},{"$f":"IF(ISNUMBER(G2),CORREL($B$1:B2,$G$1:G2),\"\")","v":-1},{"$f":"Sheet3!Q2","v":1.1810395275841884E-2},{"$f":"IF(ISNUMBER(I2),CORREL($B$1:B2,$I$1:I2),\"\")","v":1},{"$f":"Sheet3!S2","v":5.4476806903990876E-3},{"$f":"IF(ISNUMBER(K2),CORREL($B$1:B2,$K$1:K2),\"\")","v":1.0000000000000002},{"$f":"Sheet3!U2","v":1.3157894736842193E-2},{"$f":"IF(ISNUMBER(M2),CORREL($B$1:B2,$M$1:M2),\"\")","v":1},{"$f":"Sheet3!W2","v":-2.9383481141148165E-3},{"$f":"IF(ISNUMBER(O2),CORREL($B$1:B2,$O$1:O2),\"\")","v":-0.99999999999999978},{"$f":"Sheet3!Y2","v":-6.4826319485713655E-4},{"$f":"IF(ISNUMBER(Q2),CORREL($B$1:B2,$Q$1:Q2),\"\")","v":1},{"$f":"Sheet3!AA2","v":7.0619946091644327E-3},{"$f":"IF(ISNUMBER(S2),CORREL($B$1:B2,$S$1:S2),\"\")","v":1}]
[null,{"$f":"Sheet3!I3","v":2.8267811338532796E-3},{"$f":"Sheet3!K3","v":1.0166063444751952E-2},{"$f":"IF(ISNUMBER(C3),CORREL($B$1:B3,$C$1:C3),\"\")","v":-0.91567387212791806},{"$f":"Sheet3!M3","v":-6.4617809298659823E-3},{"$f":"IF(ISNUMBER(E3),CORREL($B$1:B3,$E$1:E3),\"\")","v":-0.89568743089805158},{"$f":"Sheet3!O3","v":1.0494280617054155E-4},{"$f":"IF(ISNUMBER(G3),CORREL($B$1:B3,$G$1:G3),\"\")","v":-0.12782493033353828},{"$f":"Sheet3!Q3","v":1.3619194552322191E-2},{"$f":"IF(ISNUMBER(I3),CORREL($B$1:B3,$I$1:I3),\"\")","v":0.98963634320907645},{"$f":"Sheet3!S3","v":5.6094929881337213E-3},{"$f":"IF(ISNUMBER(K3),CORREL($B$1:B3,$K$1:K3),\"\")","v":0.77600968034652495},{"$f":"Sheet3!U3","v":1.2831665941713864E-2},{"$f":"IF(ISNUMBER(M3),CORREL($B$1:B3,$M$1:M3),\"\")","v":0.56632815171954975},{"$f":"Sheet3!W3","v":-3.632866759269189E-3},{"$f":"IF(ISNUMBER(O3),CORREL($B$1:B3,$O$1:O3),\"\")","v":-0.82818121328640038},{"$f":"Sheet3!Y3","v":-1.0804386580957393E-4},{"$f":"IF(ISNUMBER(Q3),CORREL($B$1:B3,$Q$1:Q3),\"\")","v":0.80762732786555902},{"$f":"Sheet3!AA3","v":7.2237196765498838E-3},{"$f":"IF(ISNUMBER(S3),CORREL($B$1:B3,$S$1:S3),\"\")","v":0.8712892542803502}]
[null,{"$f":"Sheet3!I4","v":3.8213893105794364E-3},{"$f":"Sheet3!K4","v":1.0751543538428839E-2},{"$f":"IF(ISNUMBER(C4),CORREL($B$1:B4,$C$1:C4),\"\")","v":-0.74948902639404613},{"$f":"Sheet3!M4","v":-5.6212240609403372E-3},{"$f":"IF(ISNUMBER(E4),CORREL($B$1:B4,$E$1:E4),\"\")","v":-0.70315150172692897},{"$f":"Sheet3!O4","v":-1.154370867877001E-3},{"$f":"IF(ISNUMBER(G4),CORREL($B$1:B4,$G$1:G4),\"\")","v":-0.71954675828010373},{"$f":"Sheet3!Q4","v":1.3831994467202183E-2},{"$f":"IF(ISNUMBER(I4),CORREL($B$1:B4,$I$1:I4),\"\")","v":0.96443433654093413},{"$f":"Sheet3!S4","v":6.2028047464940976E-3},{"$f":"IF(ISNUMBER(K4),CORREL($B$1:B4,$K$1:K4),\"\")","v":0.85349460491760809},{"$f":"Sheet3!U4","v":1.1961722488038371E-2},{"$f":"IF(ISNUMBER(M4),CORREL($B$1:B4,$M$1:M4),\"\")","v":2.4460442370792068E-14},{"$f":"Sheet3!W4","v":-2.4041030024576186E-3},{"$f":"IF(ISNUMBER(O4),CORREL($B$1:B4,$O$1:O4),\"\")","v":-0.60618493198527956},{"$f":"Sheet3!Y4","v":5.6723029549996373E-3},{"$f":"IF(ISNUMBER(Q4),CORREL($B$1:B4,$Q$1:Q4),\"\")","v":0.91589362465911262},{"$f":"Sheet3!AA4","v":5.1212938005390221E-3},{"$f":"IF(ISNUMBER(S4),CORREL($B$1:B4,$S$1:S4),\"\")","v":-0.57291257430812426}]
[null,{"$f":"Sheet3!I5","v":1.7798251583521091E-3},{"$f":"Sheet3!K5","v":1.1869278262720983E-2},{"$f":"IF(ISNUMBER(C5),CORREL($B$1:B5,$C$1:C5),\"\")","v":-0.73187334699103768},{"$f":"Sheet3!M5","v":-7.1447333858680601E-3},{"$f":"IF(ISNUMBER(E5),CORREL($B$1:B5,$E$1:E5),\"\")","v":-0.49331815460075612},{"$f":"Sheet3!O5","v":-1.206842270962421E-3},{"$f":"IF(ISNUMBER(G5),CORREL($B$1:B5,$G$1:G5),\"\")","v":-0.51446833458708929},{"$f":"Sheet3!Q5","v":1.0959195616321766E-2},{"$f":"IF(ISNUMBER(I5),CORREL($B$1:B5,$I$1:I5),\"\")","v":0.91083737809101051},{"$f":"Sheet3!S5","v":7.9827400215749175E-3},{"$f":"IF(ISNUMBER(K5),CORREL($B$1:B5,$K$1:K5),\"\")","v":0.43875081032385332},{"$f":"Sheet3!U5","v":1.1037407568508054E-2},{"$f":"IF(ISNUMBER(M5),CORREL($B$1:B5,$M$1:M5),\"\")","v":7.6503690187426143E-2},{"$f":"Sheet3!W5","v":-2.7780745806176418E-3},{"$f":"IF(ISNUMBER(O5),CORREL($B$1:B5,$O$1:O5),\"\")","v":-0.57295602870024043},{"$f":"Sheet3!Y5","v":5.0780616930473643E-3},{"$f":"IF(ISNUMBER(Q5),CORREL($B$1:B5,$Q$1:Q5),\"\")","v":0.7169611557133786},{"$f":"Sheet3!AA5","v":5.1752021563342748E-3},{"$f":"IF(ISNUMBER(S5),CORREL($B$1:B5,$S$1:S5),\"\")","v":-0.40155713253924563}]
[null,{"$f":"Sheet3!I6","v":8.8991257917598015E-4},{"$f":"Sheet3!K6","v":1.1390249095167207E-2},{"$f":"IF(ISNUMBER(C6),CORREL($B$1:B6,$C$1:C6),\"\")","v":-0.7034921663905559},{"$f":"Sheet3!M6","v":-7.3548726030995834E-3},{"$f":"IF(ISNUMBER(E6),CORREL($B$1:B6,$E$1:E6),\"\")","v":-0.21882804777820361},{"$f":"Sheet3!O6","v":1.0494280617054155E-4},{"$f":"IF(ISNUMBER(G6),CORREL($B$1:B6,$G$1:G6),\"\")","v":-0.57405623551163543},{"$f":"Sheet3!Q6","v":1.1916795233281955E-2},{"$f":"IF(ISNUMBER(I6),CORREL($B$1:B6,$I$1:I6),\"\")","v":0.86910604324440122},{"$f":"Sheet3!S6","v":9.3311758360301502E-3},{"$f":"IF(ISNUMBER(K6),CORREL($B$1:B6,$K$1:K6),\"\")","v":1.7512450145257426E-2},{"$f":"Sheet3!U6","v":8.9169204001740693E-3},{"$f":"IF(ISNUMBER(M6),CORREL($B$1:B6,$M$1:M6),\"\")","v":0.35484114055014793},{"$f":"Sheet3!W6","v":-2.5643765359547933E-3},{"$f":"IF(ISNUMBER(O6),CORREL($B$1:B6,$O$1:O6),\"\")","v":-0.49834466507840453},{"$f":"Sheet3!Y6","v":5.4562152233806433E-3},{"$f":"IF(ISNUMBER(Q6),CORREL($B$1:B6,$Q$1:Q6),\"\")","v":0.44440606427966212},{"$f":"Sheet3!AA6","v":5.3908355795148251E-3},{"$f":"IF(ISNUMBER(S6),CORREL($B$1:B6,$S$1:S6),\"\")","v":-0.21865267056076002}]
[null,{"$f":"Sheet3!I7","v":1.8845207559021369E-3},{"$f":"Sheet3!K7","v":1.2028954651905423E-2},{"$f":"IF(ISNUMBER(C7),CORREL($B$1:B7,$C$1:C7),\"\")","v":-0.65386453152392399},{"$f":"Sheet3!M7","v":-6.0940372997110408E-3},{"$f":"IF(ISNUMBER(E7),CORREL($B$1:B7,$E$1:E7),\"\")","v":-0.21923268307098956},{"$f":"Sheet3!O7","v":-5.247140308533043E-4},{"$f":"IF(ISNUMBER(G7),CORREL($B$1:B7,$G$1:G7),\"\")","v":-0.57252193941262031},{"$f":"Sheet3!Q7","v":1.1757195297121924E-2},{"$f":"IF(ISNUMBER(I7),CORREL($B$1:B7,$I$1:I7),\"\")","v":0.86280036124297299},{"$f":"Sheet3!S7","v":7.0658036677454274E-3},{"$f":"IF(ISNUMBER(K7),CORREL($B$1:B7,$K$1:K7),\"\")","v":1.9370037440667013E-2},{"$f":"Sheet3!U7","v":7.883862548934412E-3},{"$f":"IF(ISNUMBER(M7),CORREL($B$1:B7,$M$1:M7),\"\")","v":0.23944866926301908},{"$f":"Sheet3!W7","v":-2.3506784912917925E-3},{"$f":"IF(ISNUMBER(O7),CORREL($B$1:B7,$O$1:O7),\"\")","v":-0.49841614940502832},{"$f":"Sheet3!Y7","v":5.1320836259520749E-3},{"$f":"IF(ISNUMBER(Q7),CORREL($B$1:B7,$Q$1:Q7),\"\")","v":0.42666393193800034},{"$f":"Sheet3!AA7","v":5.8221024258760783E-3},{"$f":"IF(ISNUMBER(S7),CORREL($B$1:B7,$S$1:S7),\"\")","v":-0.21883853731240463}]
[null,{"$f":"Sheet3!I8","v":3.1932157252786745E-3},{"$f":"Sheet3!K8","v":1.3838620395997415E-2},{"$f":"IF(ISNUMBER(C8),CORREL($B$1:B8,$C$1:C8),\"\")","v":-8.3227777529775476E-2},{"$f":"Sheet3!M8","v":-7.2498029944838222E-3},{"$f":"IF(ISNUMBER(E8),CORREL($B$1:B8,$E$1:E8),\"\")","v":-0.3319773772730279},{"$f":"Sheet3!O8","v":-1.1018994647917302E-3},{"$f":"IF(ISNUMBER(G8),CORREL($B$1:B8,$G$1:G8),\"\")","v":-0.6428242661741348},{"$f":"Sheet3!Q8","v":1.0799595680161735E-2},{"$f":"IF(ISNUMBER(I8),CORREL($B$1:B8,$I$1:I8),\"\")","v":0.59063111370807364},{"$f":"Sheet3!S8","v":7.3894282632146957E-3},{"$f":"IF(ISNUMBER(K8),CORREL($B$1:B8,$K$1:K8),\"\")","v":9.3293863352962123E-2},{"$f":"Sheet3!U8","v":8.6994345367552347E-3},{"$f":"IF(ISNUMBER(M8),CORREL($B$1:B8,$M$1:M8),\"\")","v":2.9007579431350565E-2},{"$f":"Sheet3!W8","v":-3.0986216476119911E-3},{"$f":"IF(ISNUMBER(O8),CORREL($B$1:B8,$O$1:O8),\"\")","v":-0.535216244433255},{"$f":"Sheet3!Y8","v":5.5642590891900635E-3},{"$f":"IF(ISNUMBER(Q8),CORREL($B$1:B8,$Q$1:Q8),\"\")","v":0.49339025267362124},{"$f":"Sheet3!AA8","v":4.6361185983828232E-3},{"$f":"IF(ISNUMBER(S8),CORREL($B$1:B8,$S$1:S8),\"\")","v":-0.38215718830613904}]
[null,{"$f":"Sheet3!I9","v":3.0361723289536327E-3},{"$f":"Sheet3!K9","v":1.3253140302320679E-2},{"$f":"IF(ISNUMBER(C9),CORREL($B$1:B9,$C$1:C9),\"\")","v":5.8289529467227583E-2},{"$f":"Sheet3!M9","v":-8.5106382978723649E-3},{"$f":"IF(ISNUMBER(E9),CORREL($B$1:B9,$E$1:E9),\"\")","v":-0.4286016946656086},{"$f":"Sheet3!O9","v":-1.4691992863889239E-3},{"$f":"IF(ISNUMBER(G9),CORREL($B$1:B9,$G$1:G9),\"\")","v":-0.68077174458491285},{"$f":"Sheet3!Q9","v":8.5119965952013318E-3},{"$f":"IF(ISNUMBER(I9),CORREL($B$1:B9,$I$1:I9),\"\")","v":0.19758248555318852},{"$f":"Sheet3!S9","v":7.3354908306363818E-3},{"$f":"IF(ISNUMBER(K9),CORREL($B$1:B9,$K$1:K9),\"\")","v":0.13311107523483509},{"$f":"Sheet3!U9","v":7.1226620269682602E-3},{"$f":"IF(ISNUMBER(M9),CORREL($B$1:B9,$M$1:M9),\"\")","v":-0.13829722710395659},{"$f":"Sheet3!W9","v":-2.6178010471204671E-3},{"$f":"IF(ISNUMBER(O9),CORREL($B$1:B9,$O$1:O9),\"\")","v":-0.52744465394996753},{"$f":"Sheet3!Y9","v":3.1332721084759551E-3},{"$f":"IF(ISNUMBER(Q9),CORREL($B$1:B9,$Q$1:Q9),\"\")","v":0.48125901566398371},{"$f":"Sheet3!AA9","v":3.8274932614555685E-3},{"$f":"IF(ISNUMBER(S9),CORREL($B$1:B9,$S$1:S9),\"\")","v":-0.47049546337323017}]
[null,{"$f":"Sheet3!I10","v":2.5650421399780617E-3},{"$f":"Sheet3!K10","v":1.3519267617628231E-2},{"$f":"IF(ISNUMBER(C10),CORREL($B$1:B10,$C$1:C10),\"\")","v":0.10593387209638903},{"$f":"Sheet3!M10","v":-6.7769897557131186E-3},{"$f":"IF(ISNUMBER(E10),CORREL($B$1:B10,$E$1:E10),\"\")","v":-0.43488584020231436},{"$f":"Sheet3!O10","v":6.296568370236967E-4},{"$f":"IF(ISNUMBER(G10),CORREL($B$1:B10,$G$1:G10),\"\")","v":-0.51354021209610867},{"$f":"Sheet3!Q10","v":8.7779964888014348E-3},{"$f":"IF(ISNUMBER(I10),CORREL($B$1:B10,$I$1:I10),\"\")","v":0.10777390623593515},{"$f":"Sheet3!S10","v":6.4185544768068916E-3},{"$f":"IF(ISNUMBER(K10),CORREL($B$1:B10,$K$1:K10),\"\")","v":0.12558525610474688},{"$f":"Sheet3!U10","v":6.415832970856932E-3},{"$f":"IF(ISNUMBER(M10),CORREL($B$1:B10,$M$1:M10),\"\")","v":-0.18269177065666556},{"$f":"Sheet3!W10","v":-9.6164120098304743E-4},{"$f":"IF(ISNUMBER(O10),CORREL($B$1:B10,$O$1:O10),\"\")","v":-0.42972096547871119},{"$f":"Sheet3!Y10","v":5.1861055588567854E-3},{"$f":"IF(ISNUMBER(Q10),CORREL($B$1:B10,$Q$1:Q10),\"\")","v":0.49358283116082136},{"$f":"Sheet3!AA10","v":3.9892183288410196E-3},{"$f":"IF(ISNUMBER(S10),CORREL($B$1:B10,$S$1:S10),\"\")","v":-0.47487156321009338}]
[null,{"$f":"Sheet3!I11","v":2.7744333350782661E-3},{"$f":"Sheet3!K11","v":1.266766020864379E-2},{"$f":"IF(ISNUMBER(C11),CORREL($B$1:B11,$C$1:C11),\"\")","v":0.13092348570355364},{"$f":"Sheet3!M11","v":-6.6193853427895504E-3},{"$f":"IF(ISNUMBER(E11),CORREL($B$1:B11,$E$1:E11),\"\")","v":-0.43569863409330267},{"$f":"Sheet3!O11","v":4.7224262776773525E-4},{"$f":"IF(ISNUMBER(G11),CORREL($B$1:B11,$G$1:G11),\"\")","v":-0.40563373684729875},{"$f":"Sheet3!Q11","v":9.575996169601593E-3},{"$f":"IF(ISNUMBER(I11),CORREL($B$1:B11,$I$1:I11),\"\")","v":5.1447867270545337E-2},{"$f":"Sheet3!S11","v":5.1240560949298202E-3},{"$f":"IF(ISNUMBER(K11),CORREL($B$1:B11,$K$1:K11),\"\")","v":6.7342701609530861E-2},{"$f":"Sheet3!U11","v":5.7090039147456037E-3},{"$f":"IF(ISNUMBER(M11),CORREL($B$1:B11,$M$1:M11),\"\")","v":-0.24131096345464612},{"$f":"Sheet3!W11","v":0},{"$f":"IF(ISNUMBER(O11),CORREL($B$1:B11,$O$1:O11),\"\")","v":-0.26859292548672337},{"$f":"Sheet3!Y11","v":5.0240397601425011E-3},{"$f":"IF(ISNUMBER(Q11),CORREL($B$1:B11,$Q$1:Q11),\"\")","v":0.50940797175800012},{"$f":"Sheet3!AA11","v":5.0134770889488237E-3},{"$f":"IF(ISNUMBER(S11),CORREL($B$1:B11,$S$1:S11),\"\")","v":-0.48559582586459371}]
[null,{"$f":"Sheet3!I12","v":2.6697377375280891E-3},{"$f":"Sheet3!K12","v":1.3466042154566751E-2},{"$f":"IF(ISNUMBER(C12),CORREL($B$1:B12,$C$1:C12),\"\")","v":0.16449016651192466},{"$f":"Sheet3!M12","v":-7.4074074074073895E-3},{"$f":"IF(ISNUMBER(E12),CORREL($B$1:B12,$E$1:E12),\"\")","v":-0.44951114113711488},{"$f":"Sheet3!O12","v":1.731556301815427E-3},{"$f":"IF(ISNUMBER(G12),CORREL($B$1:B12,$G$1:G12),\"\")","v":-0.22658554876260459},{"$f":"Sheet3!Q12","v":9.2035963185614182E-3},{"$f":"IF(ISNUMBER(I12),CORREL($B$1:B12,$I$1:I12),\"\")","v":8.8180743788179149E-3},{"$f":"Sheet3!S12","v":5.3398058252426142E-3},{"$f":"IF(ISNUMBER(K12),CORREL($B$1:B12,$K$1:K12),\"\")","v":3.7167620012846424E-2},{"$f":"Sheet3!U12","v":5.4371465854719447E-3},{"$f":"IF(ISNUMBER(M12),CORREL($B$1:B12,$M$1:M12),\"\")","v":-0.27065479078554361},{"$f":"Sheet3!W12","v":-1.0150657121487216E-3},{"$f":"IF(ISNUMBER(O12),CORREL($B$1:B12,$O$1:O12),\"\")","v":-0.22830722420225544},{"$f":"Sheet3!Y12","v":6.5906758143806322E-3},{"$f":"IF(ISNUMBER(Q12),CORREL($B$1:B12,$Q$1:Q12),\"\")","v":0.52028939660477191},{"$f":"Sheet3!AA12","v":3.9353099730457669E-3},{"$f":"IF(ISNUMBER(S12),CORREL($B$1:B12,$S$1:S12),\"\")","v":-0.49436267792346716}]
[null,{"$f":"Sheet3!I13","v":2.8791289326284427E-3},{"$f":"Sheet3!K13","v":1.4690227804981856E-2},{"$f":"IF(ISNUMBER(C13),CORREL($B$1:B13,$C$1:C13),\"\")","v":0.2284787995664263},{"$f":"Sheet3!M13","v":-7.7226162332545258E-3},{"$f":"IF(ISNUMBER(E13),CORREL($B$1:B13,$E$1:E13),\"\")","v":-0.4729791228394335},{"$f":"Sheet3!O13","v":2.1513275264980407E-3},{"$f":"IF(ISNUMBER(G13),CORREL($B$1:B13,$G$1:G13),\"\")","v":-7.9228132545796137E-2},{"$f":"Sheet3!Q13","v":9.5227961908814808E-3},{"$f":"IF(ISNUMBER(I13),CORREL($B$1:B13,$I$1:I13),\"\")","v":-3.1341524057044247E-2},{"$f":"Sheet3!S13","v":3.7756202804745879E-3},{"$f":"IF(ISNUMBER(K13),CORREL($B$1:B13,$K$1:K13),\"\")","v":-4.5310302340773087E-2},{"$f":"Sheet3!U13","v":5.2196607220531101E-3},{"$f":"IF(ISNUMBER(M13),CORREL($B$1:B13,$M$1:M13),\"\")","v":-0.3129951615406989},{"$f":"Sheet3!W13","v":3.2054706699434916E-4},{"$f":"IF(ISNUMBER(O13),CORREL($B$1:B13,$O$1:O13),\"\")","v":-0.1189810793410547},{"$f":"Sheet3!Y13","v":7.4550267408567631E-3},{"$f":"IF(ISNUMBER(Q13),CORREL($B$1:B13,$Q$1:Q13),\"\")","v":0.54117223612956622},{"$f":"Sheet3!AA13","v":4.4743935309973721E-3},{"$f":"IF(ISNUMBER(S13),CORREL($B$1:B13,$S$1:S13),\"\")","v":-0.51210868148245914}]
[null,{"$f":"Sheet3!I14","v":3.350259121603865E-3},{"$f":"Sheet3!K14","v":1.3466042154566751E-2},{"$f":"IF(ISNUMBER(C14),CORREL($B$1:B14,$C$1:C14),\"\")","v":0.27525933369421707},{"$f":"Sheet3!M14","v":-7.2498029944838222E-3},{"$f":"IF(ISNUMBER(E14),CORREL($B$1:B14,$E$1:E14),\"\")","v":-0.4885625733155522},{"$f":"Sheet3!O14","v":3.0433413789483893E-3},{"$f":"IF(ISNUMBER(G14),CORREL($B$1:B14,$G$1:G14),\"\")","v":0.11143174854288668},{"$f":"Sheet3!Q14","v":1.1012395595041725E-2},{"$f":"IF(ISNUMBER(I14),CORREL($B$1:B14,$I$1:I14),\"\")","v":-2.1604151919916981E-2},{"$f":"Sheet3!S14","v":4.4768069039912844E-3},{"$f":"IF(ISNUMBER(K14),CORREL($B$1:B14,$K$1:K14),\"\")","v":-0.1217498802325518},{"$f":"Sheet3!U14","v":5.1652892561984401E-3},{"$f":"IF(ISNUMBER(M14),CORREL($B$1:B14,$M$1:M14),\"\")","v":-0.37840850759397748},{"$f":"Sheet3!W14","v":8.5479217865154706E-4},{"$f":"IF(ISNUMBER(O14),CORREL($B$1:B14,$O$1:O14),\"\")","v":3.2792595662197416E-2},{"$f":"Sheet3!Y14","v":6.8067635459996261E-3},{"$f":"IF(ISNUMBER(Q14),CORREL($B$1:B14,$Q$1:Q14),\"\")","v":0.57205434860190152},{"$f":"Sheet3!AA14","v":4.0431266846361188E-3},{"$f":"IF(ISNUMBER(S14),CORREL($B$1:B14,$S$1:S14),\"\")","v":-0.55104552509688476}]
[null,{"$f":"Sheet3!I15","v":2.9838245301784701E-3},{"$f":"Sheet3!K15","v":1.2720885671705423E-2},{"$f":"IF(ISNUMBER(C15),CORREL($B$1:B15,$C$1:C15),\"\")","v":0.27948593907462527},{"$f":"Sheet3!M15","v":-7.1972681901760153E-3},{"$f":"IF(ISNUMBER(E15),CORREL($B$1:B15,$E$1:E15),\"\")","v":-0.4977293430588311},{"$f":"Sheet3!O15","v":2.4661559450099633E-3},{"$f":"IF(ISNUMBER(G15),CORREL($B$1:B15,$G$1:G15),\"\")","v":0.16653068832739792},{"$f":"Sheet3!Q15","v":9.30999627600149E-3},{"$f":"IF(ISNUMBER(I15),CORREL($B$1:B15,$I$1:I15),\"\")","v":-5.9602122057182558E-2},{"$f":"Sheet3!S15","v":7.0118662351671135E-3},{"$f":"IF(ISNUMBER(K15),CORREL($B$1:B15,$K$1:K15),\"\")","v":-9.4348876207555832E-2},{"$f":"Sheet3!U15","v":6.0352327098739328E-3},{"$f":"IF(ISNUMBER(M15),CORREL($B$1:B15,$M$1:M15),\"\")","v":-0.40059940268830713},{"$f":"Sheet3!W15","v":3.2054706699434916E-4},{"$f":"IF(ISNUMBER(O15),CORREL($B$1:B15,$O$1:O15),\"\")","v":8.3117063862283513E-2},{"$f":"Sheet3!Y15","v":8.1573118686186098E-3},{"$f":"IF(ISNUMBER(Q15),CORREL($B$1:B15,$Q$1:Q15),\"\")","v":0.58661613306339511},{"$f":"Sheet3!AA15","v":3.5579514824797659E-3},{"$f":"IF(ISNUMBER(S15),CORREL($B$1:B15,$S$1:S15),\"\")","v":-0.5658389992283096}]
[null,{"$f":"Sheet3!I16","v":1.9892163534523137E-3},{"$f":"Sheet3!K16","v":1.1975729188843943E-2},{"$f":"IF(ISNUMBER(C16),CORREL($B$1:B16,$C$1:C16),\"\")","v":0.28814663675978097},{"$f":"Sheet3!M16","v":-8.7207775151037382E-3},{"$f":"IF(ISNUMBER(E16),CORREL($B$1:B16,$E$1:E16),\"\")","v":-0.40465979295350801},{"$f":"Sheet3!O16","v":1.731556301815427E-3},{"$f":"IF(ISNUMBER(G16),CORREL($B$1:B16,$G$1:G16),\"\")","v":0.13193675414762365},{"$f":"Sheet3!Q16","v":1.0586795765281742E-2},{"$f":"IF(ISNUMBER(I16),CORREL($B$1:B16,$I$1:I16),\"\")","v":-5.6356931220858351E-2},{"$f":"Sheet3!S16","v":7.2276159654800611E-3},{"$f":"IF(ISNUMBER(K16),CORREL($B$1:B16,$K$1:K16),\"\")","v":-0.11264568969859955},{"$f":"Sheet3!U16","v":6.9595476294040956E-3},{"$f":"IF(ISNUMBER(M16),CORREL($B$1:B16,$M$1:M16),\"\")","v":-0.37870643241631002},{"$f":"Sheet3!W16","v":-1.7095843573030941E-3},{"$f":"IF(ISNUMBER(O16),CORREL($B$1:B16,$O$1:O16),\"\")","v":8.6683621009220724E-2},{"$f":"Sheet3!Y16","v":7.4010048079518991E-3},{"$f":"IF(ISNUMBER(Q16),CORREL($B$1:B16,$Q$1:Q16),\"\")","v":0.53959692970153594},{"$f":"Sheet3!AA16","v":3.8814016172506677E-3},{"$f":"IF(ISNUMBER(S16),CORREL($B$1:B16,$S$1:S16),\"\")","v":-0.51484751808866636}]
[null,{"$f":"Sheet3!I17","v":2.4603465424278851E-3},{"$f":"Sheet3!K17","v":1.2348307430274607E-2},{"$f":"IF(ISNUMBER(C17),CORREL($B$1:B17,$C$1:C17),\"\")","v":0.28768054613870186},{"$f":"Sheet3!M17","v":-8.0378250591016612E-3},{"$f":"IF(ISNUMBER(E17),CORREL($B$1:B17,$E$1:E17),\"\")","v":-0.39709150388559417},{"$f":"Sheet3!O17","v":2.5710987511805049E-3},{"$f":"IF(ISNUMBER(G17),CORREL($B$1:B17,$G$1:G17),\"\")","v":0.12935215443568299},{"$f":"Sheet3!Q17","v":1.0852795658881694E-2},{"$f":"IF(ISNUMBER(I17),CORREL($B$1:B17,$I$1:I17),\"\")","v":-5.6013336118952123E-2},{"$f":"Sheet3!S17","v":7.6051779935274897E-3},{"$f":"IF(ISNUMBER(K17),CORREL($B$1:B17,$K$1:K17),\"\")","v":-0.10625211906990667},{"$f":"Sheet3!U17","v":2.8273162244454668E-3},{"$f":"IF(ISNUMBER(M17),CORREL($B$1:B17,$M$1:M17),\"\")","v":-0.34784647269437952},{"$f":"Sheet3!W17","v":-1.4958863126402454E-3},{"$f":"IF(ISNUMBER(O17),CORREL($B$1:B17,$O$1:O17),\"\")","v":8.6708754621580925E-2},{"$f":"Sheet3!Y17","v":7.1308951434281946E-3},{"$f":"IF(ISNUMBER(Q17),CORREL($B$1:B17,$Q$1:Q17),\"\")","v":0.53254432711941313},{"$f":"Sheet3!AA17","v":3.9353099730457669E-3},{"$f":"IF(ISNUMBER(S17),CORREL($B$1:B17,$S$1:S17),\"\")","v":-0.50605326795326444}]
[null,{"$f":"Sheet3!I18","v":1.9892163534523137E-3},{"$f":"Sheet3!K18","v":1.1443474558228688E-2},{"$f":"IF(ISNUMBER(C18),CORREL($B$1:B18,$C$1:C18),\"\")","v":0.30219894546751058},{"$f":"Sheet3!M18","v":-7.3023377987916282E-3},{"$f":"IF(ISNUMBER(E18),CORREL($B$1:B18,$E$1:E18),\"\")","v":-0.38465929861127734},{"$f":"Sheet3!O18","v":2.0463847203273499E-3},{"$f":"IF(ISNUMBER(G18),CORREL($B$1:B18,$G$1:G18),\"\")","v":9.8514340595360406E-2},{"$f":"Sheet3!Q18","v":1.1225195509921869E-2},{"$f":"IF(ISNUMBER(I18),CORREL($B$1:B18,$I$1:I18),\"\")","v":-6.4018780489200303E-2},{"$f":"Sheet3!S18","v":6.8500539374324798E-3},{"$f":"IF(ISNUMBER(K18),CORREL($B$1:B18,$K$1:K18),\"\")","v":-0.11484249854067724},{"$f":"Sheet3!U18","v":3.425402348847455E-3},{"$f":"IF(ISNUMBER(M18),CORREL($B$1:B18,$M$1:M18),\"\")","v":-0.28683251790347092},{"$f":"Sheet3!W18","v":-1.121914734480222E-3},{"$f":"IF(ISNUMBER(O18),CORREL($B$1:B18,$O$1:O18),\"\")","v":7.8831933207061985E-2},{"$f":"Sheet3!Y18","v":7.8872022040947509E-3},{"$f":"IF(ISNUMBER(Q18),CORREL($B$1:B18,$Q$1:Q18),\"\")","v":0.48928848327511626},{"$f":"Sheet3!AA18","v":3.8274932614555685E-3},{"$f":"IF(ISNUMBER(S18),CORREL($B$1:B18,$S$1:S18),\"\")","v":-0.46583082102992562}]
[null,{"$f":"Sheet3!I19","v":2.7220855363032522E-3},{"$f":"Sheet3!K19","v":1.2401532893336238E-2},{"$f":"IF(ISNUMBER(C19),CORREL($B$1:B19,$C$1:C19),\"\")","v":0.30108748796878204},{"$f":"Sheet3!M19","v":-7.880220646178094E-3},{"$f":"IF(ISNUMBER(E19),CORREL($B$1:B19,$E$1:E19),\"\")","v":-0.39337068446140322},{"$f":"Sheet3!O19","v":2.5186273480952343E-3},{"$f":"IF(ISNUMBER(G19),CORREL($B$1:B19,$G$1:G19),\"\")","v":0.12037815716683653},{"$f":"Sheet3!Q19","v":1.1916795233281955E-2},{"$f":"IF(ISNUMBER(I19),CORREL($B$1:B19,$I$1:I19),\"\")","v":-4.6287475373503098E-2},{"$f":"Sheet3!S19","v":7.4973031283710155E-3},{"$f":"IF(ISNUMBER(K19),CORREL($B$1:B19,$K$1:K19),\"\")","v":-9.589884109012195E-2},{"$f":"Sheet3!U19","v":3.479773814702125E-3},{"$f":"IF(ISNUMBER(M19),CORREL($B$1:B19,$M$1:M19),\"\")","v":-0.29997409469344272},{"$f":"Sheet3!W19","v":-1.3356127791430707E-3},{"$f":"IF(ISNUMBER(O19),CORREL($B$1:B19,$O$1:O19),\"\")","v":8.0804605885287067E-2},{"$f":"Sheet3!Y19","v":8.4814434660471782E-3},{"$f":"IF(ISNUMBER(Q19),CORREL($B$1:B19,$Q$1:Q19),\"\")","v":0.49456617473177755},{"$f":"Sheet3!AA19","v":4.4743935309973721E-3},{"$f":"IF(ISNUMBER(S19),CORREL($B$1:B19,$S$1:S19),\"\")","v":-0.46962493510451969}]
[null,{"$f":"Sheet3!I20","v":2.3033031461026946E-3},{"$f":"Sheet3!K20","v":1.2188631041090015E-2},{"$f":"IF(ISNUMBER(C20),CORREL($B$1:B20,$C$1:C20),\"\")","v":0.30176187501451573},{"$f":"Sheet3!M20","v":-8.4581034935644096E-3},{"$f":"IF(ISNUMBER(E20),CORREL($B$1:B20,$E$1:E20),\"\")","v":-0.37127028453959182},{"$f":"Sheet3!O20","v":2.5710987511805049E-3},{"$f":"IF(ISNUMBER(G20),CORREL($B$1:B20,$G$1:G20),\"\")","v":0.10903268919221787},{"$f":"Sheet3!Q20","v":1.2023195190721876E-2},{"$f":"IF(ISNUMBER(I20),CORREL($B$1:B20,$I$1:I20),\"\")","v":-5.0082682469449177E-2},{"$f":"Sheet3!S20","v":8.7378640776699275E-3},{"$f":"IF(ISNUMBER(K20),CORREL($B$1:B20,$K$1:K20),\"\")","v":-9.8664300400978455E-2},{"$f":"Sheet3!U20","v":4.1322314049587828E-3},{"$f":"IF(ISNUMBER(M20),CORREL($B$1:B20,$M$1:M20),\"\")","v":-0.28544926007739629},{"$f":"Sheet3!W20","v":-2.8314990917833161E-3},{"$f":"IF(ISNUMBER(O20),CORREL($B$1:B20,$O$1:O20),\"\")","v":8.4322875828248961E-2},{"$f":"Sheet3!Y20","v":8.049268002809036E-3},{"$f":"IF(ISNUMBER(Q20),CORREL($B$1:B20,$Q$1:Q20),\"\")","v":0.47869054593199922},{"$f":"Sheet3!AA20","v":5.0134770889488237E-3},{"$f":"IF(ISNUMBER(S20),CORREL($B$1:B20,$S$1:S20),\"\")","v":-0.47006768977127578}]
[null,{"$f":"Sheet3!I21","v":2.2509553473276807E-3},{"$f":"Sheet3!K21","v":1.3412816691505271E-2},{"$f":"IF(ISNUMBER(C21),CORREL($B$1:B21,$C$1:C21),\"\")","v":0.28783259209316642},{"$f":"Sheet3!M21","v":-9.2461255581822478E-3},{"$f":"IF(ISNUMBER(E21),CORREL($B$1:B21,$E$1:E21),\"\")","v":-0.32947194340671354},{"$f":"Sheet3!O21","v":1.6266134956447363E-3},{"$f":"IF(ISNUMBER(G21),CORREL($B$1:B21,$G$1:G21),\"\")","v":0.10378678674744547},{"$f":"Sheet3!Q21","v":1.1916795233281955E-2},{"$f":"IF(ISNUMBER(I21),CORREL($B$1:B21,$I$1:I21),\"\")","v":-5.5340235311012682E-2},{"$f":"Sheet3!S21","v":8.9536138079827216E-3},{"$f":"IF(ISNUMBER(K21),CORREL($B$1:B21,$K$1:K21),\"\")","v":-0.10556525741270309},{"$f":"Sheet3!U21","v":5.3827751196172747E-3},{"$f":"IF(ISNUMBER(M21),CORREL($B$1:B21,$M$1:M21),\"\")","v":-0.27732205756007627},{"$f":"Sheet3!W21","v":-2.8849236029491422E-3},{"$f":"IF(ISNUMBER(O21),CORREL($B$1:B21,$O$1:O21),\"\")","v":9.0414302933252477E-2},{"$f":"Sheet3!Y21","v":6.8607854789043366E-3},{"$f":"IF(ISNUMBER(Q21),CORREL($B$1:B21,$Q$1:Q21),\"\")","v":0.47090010014463279},{"$f":"Sheet3!AA21","v":4.6900269541779224E-3},{"$f":"IF(ISNUMBER(S21),CORREL($B$1:B21,$S$1:S21),\"\")","v":-0.46826526637570787}]
[null,{"$f":"Sheet3!I22","v":2.3033031461026946E-3},{"$f":"Sheet3!K22","v":1.3519267617628231E-2},{"$f":"IF(ISNUMBER(C22),CORREL($B$1:B22,$C$1:C22),\"\")","v":0.27693749036458082},{"$f":"Sheet3!M22","v":-9.4037299711058168E-3},{"$f":"IF(ISNUMBER(E22),CORREL($B$1:B22,$E$1:E22),\"\")","v":-0.29937212553529596},{"$f":"Sheet3!O22","v":2.2037989295833112E-3},{"$f":"IF(ISNUMBER(G22),CORREL($B$1:B22,$G$1:G22),\"\")","v":9.7558180372174438E-2},{"$f":"Sheet3!Q22","v":1.2023195190721876E-2},{"$f":"IF(ISNUMBER(I22),CORREL($B$1:B22,$I$1:I22),\"\")","v":-5.8175984008383669E-2},{"$f":"Sheet3!S22","v":9.4929881337647831E-3},{"$f":"IF(ISNUMBER(K22),CORREL($B$1:B22,$K$1:K22),\"\")","v":-0.10627847633895554},{"$f":"Sheet3!U22","v":6.9595476294040956E-3},{"$f":"IF(ISNUMBER(M22),CORREL($B$1:B22,$M$1:M22),\"\")","v":-0.27665156813927727},{"$f":"Sheet3!W22","v":-2.6178010471204671E-3},{"$f":"IF(ISNUMBER(O22),CORREL($B$1:B22,$O$1:O22),\"\")","v":9.2749786279890598E-2},{"$f":"Sheet3!Y22","v":6.7527416130949165E-3},{"$f":"IF(ISNUMBER(Q22),CORREL($B$1:B22,$Q$1:Q22),\"\")","v":0.46614850037118871},{"$f":"Sheet3!AA22","v":4.5822102425875704E-3},{"$f":"IF(ISNUMBER(S22),CORREL($B$1:B22,$S$1:S22),\"\")","v":-0.46634313388191895}]
[null,{"$f":"Sheet3!I23","v":2.4603465424278851E-3},{"$f":"Sheet3!K23","v":1.335959122844364E-2},{"$f":"IF(ISNUMBER(C23),CORREL($B$1:B23,$C$1:C23),\"\")","v":0.27654400555768593},{"$f":"Sheet3!M23","v":-9.2986603624900539E-3},{"$f":"IF(ISNUMBER(E23),CORREL($B$1:B23,$E$1:E23),\"\")","v":-0.29100719110847545},{"$f":"Sheet3!O23","v":1.4691992863889239E-3},{"$f":"IF(ISNUMBER(G23),CORREL($B$1:B23,$G$1:G23),\"\")","v":9.8875842033449943E-2},{"$f":"Sheet3!Q23","v":1.2076395169441987E-2},{"$f":"IF(ISNUMBER(I23),CORREL($B$1:B23,$I$1:I23),\"\")","v":-5.4002319763576945E-2},{"$f":"Sheet3!S23","v":9.5469255663429443E-3},{"$f":"IF(ISNUMBER(K23),CORREL($B$1:B23,$K$1:K23),\"\")","v":-9.3011611698789437E-2},{"$f":"Sheet3!U23","v":6.9051761635494256E-3},{"$f":"IF(ISNUMBER(M23),CORREL($B$1:B23,$M$1:M23),\"\")","v":-0.27705020078843662},{"$f":"Sheet3!W23","v":-3.41916871460634E-3},{"$f":"IF(ISNUMBER(O23),CORREL($B$1:B23,$O$1:O23),\"\")","v":8.3634691932953517E-2},{"$f":"Sheet3!Y23","v":7.0228512776186209E-3},{"$f":"IF(ISNUMBER(Q23),CORREL($B$1:B23,$Q$1:Q23),\"\")","v":0.46540638718597171},{"$f":"Sheet3!AA23","v":4.7978436657681207E-3},{"$f":"IF(ISNUMBER(S23),CORREL($B$1:B23,$S$1:S23),\"\")","v":-0.46636632271943024}]
[null,{"$f":"Sheet3!I24","v":{"$error":"#N/A"}},{"$f":"Sheet3!K24","v":1.3891845859059046E-2},{"$f":"IF(ISNUMBER(C24),CORREL($B$1:B24,$C$1:C24),\"\")","v":{"$error":"#N/A"}},{"$f":"Sheet3!M24","v":-1.0191752035723655E-2},{"$f":"IF(ISNUMBER(E24),CORREL($B$1:B24,$E$1:E24),\"\")","v":{"$error":"#N/A"}},{"$f":"Sheet3!O24","v":2.4136845419245436E-3},{"$f":"IF(ISNUMBER(G24),CORREL($B$1:B24,$G$1:G24),\"\")","v":{"$error":"#N/A"}},{"$f":"Sheet3!Q24","v":1.2555194977922082E-2},{"$f":"IF(ISNUMBER(I24),CORREL($B$1:B24,$I$1:I24),\"\")","v":{"$error":"#N/A"}},{"$f":"Sheet3!S24","v":1.057173678532906E-2},{"$f":"IF(ISNUMBER(K24),CORREL($B$1:B24,$K$1:K24),\"\")","v":{"$error":"#N/A"}},{"$f":"Sheet3!U24","v":7.7207481513702483E-3},{"$f":"IF(ISNUMBER(M24),CORREL($B$1:B24,$M$1:M24),\"\")","v":{"$error":"#N/A"}},{"$f":"Sheet3!W24","v":-2.5109520247889672E-3},{"$f":"IF(ISNUMBER(O24),CORREL($B$1:B24,$O$1:O24),\"\")","v":{"$error":"#N/A"}},{"$f":"Sheet3!Y24","v":6.428610015666348E-3},{"$f":"IF(ISNUMBER(Q24),CORREL($B$1:B24,$Q$1:Q24),\"\")","v":{"$error":"#N/A"}},{"$f":"Sheet3!AA24","v":4.2587601078166691E-3},{"$f":"IF(ISNUMBER(S24),CORREL($B$1:B24,$S$1:S24),\"\")","v":{"$error":"#N/A"}}]
[null,{"$f":"Sheet3!I25","v":{"$error":"#N/A"}},{"$f":"Sheet3!K25","v":1.3891845859059046E-2},{"$f":"IF(ISNUMBER(C25),CORREL($B$1:B25,$C$1:C25),\"\")","v":{"$error":"#N/A"}},{"$f":"Sheet3!M25","v":-1.0979774100341495E-2},{"$f":"IF(ISNUMBER(E25),CORREL($B$1:B25,$E$1:E25),\"\")","v":{"$error":"#N/A"}},{"$f":"Sheet3!O25","v":1.4167278833035039E-3},{"$f":"IF(ISNUMBER(G25),CORREL($B$1:B25,$G$1:G25),\"\")","v":{"$error":"#N/A"}},{"$f":"Sheet3!Q25","v":1.1491195403521821E-2},{"$f":"IF(ISNUMBER(I25),CORREL($B$1:B25,$I$1:I25),\"\")","v":{"$error":"#N/A"}},{"$f":"Sheet3!S25","v":1.105717367853281E-2},{"$f":"IF(ISNUMBER(K25),CORREL($B$1:B25,$K$1:K25),\"\")","v":{"$error":"#N/A"}},{"$f":"Sheet3!U25","v":8.4819486733362457E-3},{"$f":"IF(ISNUMBER(M25),CORREL($B$1:B25,$M$1:M25),\"\")","v":{"$error":"#N/A"}},{"$f":"Sheet3!W25","v":-2.7780745806176418E-3},{"$f":"IF(ISNUMBER(O25),CORREL($B$1:B25,$O$1:O25),\"\")","v":{"$error":"#N/A"}},{"$f":"Sheet3!Y25","v":5.1861055588567854E-3},{"$f":"IF(ISNUMBER(Q25),CORREL($B$1:B25,$Q$1:Q25),\"\")","v":{"$error":"#N/A"}},{"$f":"Sheet3!AA25","v":3.7735849056603162E-3},{"$f":"IF(ISNUMBER(S25),CORREL($B$1:B25,$S$1:S25),\"\")","v":{"$error":"#N/A"}}]
[null,{"$f":"Sheet3!I26","v":{"$error":"#N/A"}},{"$f":"Sheet3!K26","v":1.4424100489674303E-2},{"$f":"IF(ISNUMBER(C26),CORREL($B$1:B26,$C$1:C26),\"\")","v":{"$error":"#N/A"}},{"$f":"Sheet3!M26","v":-1.092723929603354E-2},{"$f":"IF(ISNUMBER(E26),CORREL($B$1:B26,$E$1:E26),\"\")","v":{"$error":"#N/A"}},{"$f":"Sheet3!O26","v":1.9414419141566591E-3},{"$f":"IF(ISNUMBER(G26),CORREL($B$1:B26,$G$1:G26),\"\")","v":{"$error":"#N/A"}},{"$f":"Sheet3!Q26","v":1.1916795233281955E-2},{"$f":"IF(ISNUMBER(I26),CORREL($B$1:B26,$I$1:I26),\"\")","v":{"$error":"#N/A"}},{"$f":"Sheet3!S26","v":1.2351672060409881E-2},{"$f":"IF(ISNUMBER(K26),CORREL($B$1:B26,$K$1:K26),\"\")","v":{"$error":"#N/A"}},{"$f":"Sheet3!U26","v":8.0469769464985765E-3},{"$f":"IF(ISNUMBER(M26),CORREL($B$1:B26,$M$1:M26),\"\")","v":{"$error":"#N/A"}},{"$f":"Sheet3!W26","v":-2.9917726252804908E-3},{"$f":"IF(ISNUMBER(O26),CORREL($B$1:B26,$O$1:O26),\"\")","v":{"$error":"#N/A"}},{"$f":"Sheet3!Y26","v":4.5918642969045124E-3},{"$f":"IF(ISNUMBER(Q26),CORREL($B$1:B26,$Q$1:Q26),\"\")","v":{"$error":"#N/A"}},{"$f":"Sheet3!AA26","v":3.9353099730457669E-3},{"$f":"IF(ISNUMBER(S26),CORREL($B$1:B26,$S$1:S26),\"\")","v":{"$error":"#N/A"}}]
[null,{"$f":"Sheet3!I27","v":{"$error":"#N/A"}},{"$f":"Sheet3!K27","v":1.4849904194166447E-2},{"$f":"IF(ISNUMBER(C27),CORREL($B$1:B27,$C$1:C27),\"\")","v":{"$error":"#N/A"}},{"$f":"Sheet3!M27","v":-1.1977935382190708E-2},{"$f":"IF(ISNUMBER(E27),CORREL($B$1:B27,$E$1:E27),\"\")","v":{"$error":"#N/A"}},{"$f":"Sheet3!O27","v":2.4661559450099633E-3},{"$f":"IF(ISNUMBER(G27),CORREL($B$1:B27,$G$1:G27),\"\")","v":{"$error":"#N/A"}},{"$f":"Sheet3!Q27","v":1.2395595041762049E-2},{"$f":"IF(ISNUMBER(I27),CORREL($B$1:B27,$I$1:I27),\"\")","v":{"$error":"#N/A"}},{"$f":"Sheet3!S27","v":1.1866235167205979E-2},{"$f":"IF(ISNUMBER(K27),CORREL($B$1:B27,$K$1:K27),\"\")","v":{"$error":"#N/A"}},{"$f":"Sheet3!U27","v":8.1557198782079166E-3},{"$f":"IF(ISNUMBER(M27),CORREL($B$1:B27,$M$1:M27),\"\")","v":{"$error":"#N/A"}},{"$f":"Sheet3!W27","v":-3.2588951811091658E-3},{"$f":"IF(ISNUMBER(O27),CORREL($B$1:B27,$O$1:O27),\"\")","v":{"$error":"#N/A"}},{"$f":"Sheet3!Y27","v":4.267732699475944E-3},{"$f":"IF(ISNUMBER(Q27),CORREL($B$1:B27,$Q$1:Q27),\"\")","v":{"$error":"#N/A"}},{"$f":"Sheet3!AA27","v":4.5283018867924713E-3},{"$f":"IF(ISNUMBER(S27),CORREL($B$1:B27,$S$1:S27),\"\")","v":{"$error":"#N/A"}}]
[null,{"$f":"Sheet3!I28","v":{"$error":"#N/A"}},{"$f":"Sheet3!K28","v":1.5435384287843334E-2},{"$f":"IF(ISNUMBER(C28),CORREL($B$1:B28,$C$1:C28),\"\")","v":{"$error":"#N/A"}},{"$f":"Sheet3!M28","v":-1.1662726556343572E-2},{"$f":"IF(ISNUMBER(E28),CORREL($B$1:B28,$E$1:E28),\"\")","v":{"$error":"#N/A"}},{"$f":"Sheet3!O28","v":2.4136845419245436E-3},{"$f":"IF(ISNUMBER(G28),CORREL($B$1:B28,$G$1:G28),\"\")","v":{"$error":"#N/A"}},{"$f":"Sheet3!Q28","v":1.2767994892802073E-2},{"$f":"IF(ISNUMBER(I28),CORREL($B$1:B28,$I$1:I28),\"\")","v":{"$error":"#N/A"}},{"$f":"Sheet3!S28","v":1.1920172599784293E-2},{"$f":"IF(ISNUMBER(K28),CORREL($B$1:B28,$K$1:K28),\"\")","v":{"$error":"#N/A"}},{"$f":"Sheet3!U28","v":8.5363201391910701E-3},{"$f":"IF(ISNUMBER(M28),CORREL($B$1:B28,$M$1:M28),\"\")","v":{"$error":"#N/A"}},{"$f":"Sheet3!W28","v":-3.2588951811091658E-3},{"$f":"IF(ISNUMBER(O28),CORREL($B$1:B28,$O$1:O28),\"\")","v":{"$error":"#N/A"}},{"$f":"Sheet3!Y28","v":3.5114256388092337E-3},{"$f":"IF(ISNUMBER(Q28),CORREL($B$1:B28,$Q$1:Q28),\"\")","v":{"$error":"#N/A"}},{"$f":"Sheet3!AA28","v":4.6361185983828232E-3},{"$f":"IF(ISNUMBER(S28),CORREL($B$1:B28,$S$1:S28),\"\")","v":{"$error":"#N/A"}}]
[null,{"$f":"Sheet3!I29","v":{"$error":"#N/A"}},{"$f":"Sheet3!K29","v":1.5648286140089406E-2},{"$f":"IF(ISNUMBER(C29),CORREL($B$1:B29,$C$1:C29),\"\")","v":{"$error":"#N/A"}},{"$f":"Sheet3!M29","v":-1.1662726556343572E-2},{"$f":"IF(ISNUMBER(E29),CORREL($B$1:B29,$E$1:E29),\"\")","v":{"$error":"#N/A"}},{"$f":"Sheet3!O29","v":2.9383985727776986E-3},{"$f":"IF(ISNUMBER(G29),CORREL($B$1:B29,$G$1:G29),\"\")","v":{"$error":"#N/A"}},{"$f":"Sheet3!Q29","v":1.2980794807682066E-2},{"$f":"IF(ISNUMBER(I29),CORREL($B$1:B29,$I$1:I29),\"\")","v":{"$error":"#N/A"}},{"$f":"Sheet3!S29","v":1.0949298813376489E-2},{"$f":"IF(ISNUMBER(K29),CORREL($B$1:B29,$K$1:K29),\"\")","v":{"$error":"#N/A"}},{"$f":"Sheet3!U29","v":9.3518921270117385E-3},{"$f":"IF(ISNUMBER(M29),CORREL($B$1:B29,$M$1:M29),\"\")","v":{"$error":"#N/A"}},{"$f":"Sheet3!W29","v":-4.7547814937494107E-3},{"$f":"IF(ISNUMBER(O29),CORREL($B$1:B29,$O$1:O29),\"\")","v":{"$error":"#N/A"}},{"$f":"Sheet3!Y29","v":4.3757765652853641E-3},{"$f":"IF(ISNUMBER(Q29),CORREL($B$1:B29,$Q$1:Q29),\"\")","v":{"$error":"#N/A"}},{"$f":"Sheet3!AA29","v":3.3423180592992161E-3},{"$f":"IF(ISNUMBER(S29),CORREL($B$1:B29,$S$1:S29),\"\")","v":{"$error":"#N/A"}}]
[null,{"$f":"Sheet3!I30","v":{"$error":"#N/A"}},{"$f":"Sheet3!K30","v":1.6446668086012368E-2},{"$f":"IF(ISNUMBER(C30),CORREL($B$1:B30,$C$1:C30),\"\")","v":{"$error":"#N/A"}},{"$f":"Sheet3!M30","v":-1.2503283425269218E-2},{"$f":"IF(ISNUMBER(E30),CORREL($B$1:B30,$E$1:E30),\"\")","v":{"$error":"#N/A"}},{"$f":"Sheet3!O30","v":3.2007555882043507E-3},{"$f":"IF(ISNUMBER(G30),CORREL($B$1:B30,$G$1:G30),\"\")","v":{"$error":"#N/A"}},{"$f":"Sheet3!Q30","v":1.2448795020482011E-2},{"$f":"IF(ISNUMBER(I30),CORREL($B$1:B30,$I$1:I30),\"\")","v":{"$error":"#N/A"}},{"$f":"Sheet3!S30","v":1.0787486515641855E-2},{"$f":"IF(ISNUMBER(K30),CORREL($B$1:B30,$K$1:K30),\"\")","v":{"$error":"#N/A"}},{"$f":"Sheet3!U30","v":8.2644628099174111E-3},{"$f":"IF(ISNUMBER(M30),CORREL($B$1:B30,$M$1:M30),\"\")","v":{"$error":"#N/A"}},{"$f":"Sheet3!W30","v":-3.9534138262635379E-3},{"$f":"IF(ISNUMBER(O30),CORREL($B$1:B30,$O$1:O30),\"\")","v":{"$error":"#N/A"}},{"$f":"Sheet3!Y30","v":4.6999081627139326E-3},{"$f":"IF(ISNUMBER(Q30),CORREL($B$1:B30,$Q$1:Q30),\"\")","v":{"$error":"#N/A"}},{"$f":"Sheet3!AA30","v":3.3962264150943153E-3},{"$f":"IF(ISNUMBER(S30),CORREL($B$1:B30,$S$1:S30),\"\")","v":{"$error":"#N/A"}}]
[null,{"$f":"Sheet3!I31","v":{"$error":"#N/A"}},{"$f":"Sheet3!K31","v":1.6233766233766295E-2},{"$f":"IF(ISNUMBER(C31),CORREL($B$1:B31,$C$1:C31),\"\")","v":{"$error":"#N/A"}},{"$f":"Sheet3!M31","v":-1.3186235881271295E-2},{"$f":"IF(ISNUMBER(E31),CORREL($B$1:B31,$E$1:E31),\"\")","v":{"$error":"#N/A"}},{"$f":"Sheet3!O31","v":3.3056983943750414E-3},{"$f":"IF(ISNUMBER(G31),CORREL($B$1:B31,$G$1:G31),\"\")","v":{"$error":"#N/A"}},{"$f":"Sheet3!Q31","v":1.2980794807682066E-2},{"$f":"IF(ISNUMBER(I31),CORREL($B$1:B31,$I$1:I31),\"\")","v":{"$error":"#N/A"}},{"$f":"Sheet3!S31","v":1.1326860841423918E-2},{"$f":"IF(ISNUMBER(K31),CORREL($B$1:B31,$K$1:K31),\"\")","v":{"$error":"#N/A"}},{"$f":"Sheet3!U31","v":9.3518921270117385E-3},{"$f":"IF(ISNUMBER(M31),CORREL($B$1:B31,$M$1:M31),\"\")","v":{"$error":"#N/A"}},{"$f":"Sheet3!W31","v":-4.0602628485950382E-3},{"$f":"IF(ISNUMBER(O31),CORREL($B$1:B31,$O$1:O31),\"\")","v":{"$error":"#N/A"}},{"$f":"Sheet3!Y31","v":3.7275133704283816E-3},{"$f":"IF(ISNUMBER(Q31),CORREL($B$1:B31,$Q$1:Q31),\"\")","v":{"$error":"#N/A"}},{"$f":"Sheet3!AA31","v":3.7735849056603162E-3},{"$f":"IF(ISNUMBER(S31),CORREL($B$1:B31,$S$1:S31),\"\")","v":{"$error":"#N/A"}}]
[null,{"$f":"Sheet3!I32","v":{"$error":"#N/A"}},{"$f":"Sheet3!K32","v":1.6340217159889255E-2},{"$f":"IF(ISNUMBER(C32),CORREL($B$1:B32,$C$1:C32),\"\")","v":{"$error":"#N/A"}},{"$f":"Sheet3!M32","v":-1.3238770685579101E-2},{"$f":"IF(ISNUMBER(E32),CORREL($B$1:B32,$E$1:E32),\"\")","v":{"$error":"#N/A"}},{"$f":"Sheet3!O32","v":2.885927169692428E-3},{"$f":"IF(ISNUMBER(G32),CORREL($B$1:B32,$G$1:G32),\"\")","v":{"$error":"#N/A"}},{"$f":"Sheet3!Q32","v":1.2555194977922082E-2},{"$f":"IF(ISNUMBER(I32),CORREL($B$1:B32,$I$1:I32),\"\")","v":{"$error":"#N/A"}},{"$f":"Sheet3!S32","v":1.1380798274002077E-2},{"$f":"IF(ISNUMBER(K32),CORREL($B$1:B32,$K$1:K32),\"\")","v":{"$error":"#N/A"}},{"$f":"Sheet3!U32","v":1.038494997825155E-2},{"$f":"IF(ISNUMBER(M32),CORREL($B$1:B32,$M$1:M32),\"\")","v":{"$error":"#N/A"}},{"$f":"Sheet3!W32","v":-4.8082060049150855E-3},{"$f":"IF(ISNUMBER(O32),CORREL($B$1:B32,$O$1:O32),\"\")","v":{"$error":"#N/A"}},{"$f":"Sheet3!Y32","v":3.9436011020473755E-3},{"$f":"IF(ISNUMBER(Q32),CORREL($B$1:B32,$Q$1:Q32),\"\")","v":{"$error":"#N/A"}},{"$f":"Sheet3!AA32","v":5.229110512129374E-3},{"$f":"IF(ISNUMBER(S32),CORREL($B$1:B32,$S$1:S32),\"\")","v":{"$error":"#N/A"}}]
[null,{"$f":"Sheet3!I33","v":{"$error":"#N/A"}},{"$f":"Sheet3!K33","v":1.7191824568873845E-2},{"$f":"IF(ISNUMBER(C33),CORREL($B$1:B33,$C$1:C33),\"\")","v":{"$error":"#N/A"}},{"$f":"Sheet3!M33","v":-1.1872865773574945E-2},{"$f":"IF(ISNUMBER(E33),CORREL($B$1:B33,$E$1:E33),\"\")","v":{"$error":"#N/A"}},{"$f":"Sheet3!O33","v":2.6760415573511957E-3},{"$f":"IF(ISNUMBER(G33),CORREL($B$1:B33,$G$1:G33),\"\")","v":{"$error":"#N/A"}},{"$f":"Sheet3!Q33","v":1.2661594935362001E-2},{"$f":"IF(ISNUMBER(I33),CORREL($B$1:B33,$I$1:I33),\"\")","v":{"$error":"#N/A"}},{"$f":"Sheet3!S33","v":1.2135922330097087E-2},{"$f":"IF(ISNUMBER(K33),CORREL($B$1:B33,$K$1:K33),\"\")","v":{"$error":"#N/A"}},{"$f":"Sheet3!U33","v":1.0765550239234549E-2},{"$f":"IF(ISNUMBER(M33),CORREL($B$1:B33,$M$1:M33),\"\")","v":{"$error":"#N/A"}},{"$f":"Sheet3!W33","v":-7.5328560743669008E-3},{"$f":"IF(ISNUMBER(O33),CORREL($B$1:B33,$O$1:O33),\"\")","v":{"$error":"#N/A"}},{"$f":"Sheet3!Y33","v":3.3493598400949494E-3},{"$f":"IF(ISNUMBER(Q33),CORREL($B$1:B33,$Q$1:Q33),\"\")","v":{"$error":"#N/A"}},{"$f":"Sheet3!AA33","v":4.8517520215633726E-3},{"$f":"IF(ISNUMBER(S33),CORREL($B$1:B33,$S$1:S33),\"\")","v":{"$error":"#N/A"}}]
[null,{"$f":"Sheet3!I34","v":{"$error":"#N/A"}},{"$f":"Sheet3!K34","v":1.7777304662550581E-2},{"$f":"IF(ISNUMBER(C34),CORREL($B$1:B34,$C$1:C34),\"\")","v":{"$error":"#N/A"}},{"$f":"Sheet3!M34","v":-1.1925400577882753E-2},{"$f":"IF(ISNUMBER(E34),CORREL($B$1:B34,$E$1:E34),\"\")","v":{"$error":"#N/A"}},{"$f":"Sheet3!O34","v":2.5186273480952343E-3},{"$f":"IF(ISNUMBER(G34),CORREL($B$1:B34,$G$1:G34),\"\")","v":{"$error":"#N/A"}},{"$f":"Sheet3!Q34","v":1.1597595360961893E-2},{"$f":"IF(ISNUMBER(I34),CORREL($B$1:B34,$I$1:I34),\"\")","v":{"$error":"#N/A"}},{"$f":"Sheet3!S34","v":1.1920172599784293E-2},{"$f":"IF(ISNUMBER(K34),CORREL($B$1:B34,$K$1:K34),\"\")","v":{"$error":"#N/A"}},{"$f":"Sheet3!U34","v":1.0874293170943889E-2},{"$f":"IF(ISNUMBER(M34),CORREL($B$1:B34,$M$1:M34),\"\")","v":{"$error":"#N/A"}},{"$f":"Sheet3!W34","v":-7.7465541190299015E-3},{"$f":"IF(ISNUMBER(O34),CORREL($B$1:B34,$O$1:O34),\"\")","v":{"$error":"#N/A"}},{"$f":"Sheet3!Y34","v":3.1872940413806652E-3},{"$f":"IF(ISNUMBER(Q34),CORREL($B$1:B34,$Q$1:Q34),\"\")","v":{"$error":"#N/A"}},{"$f":"Sheet3!AA34","v":5.3369272237197259E-3},{"$f":"IF(ISNUMBER(S34),CORREL($B$1:B34,$S$1:S34),\"\")","v":{"$error":"#N/A"}}]
[null,{"$f":"Sheet3!I35","v":{"$error":"#N/A"}},{"$f":"Sheet3!K35","v":1.671279540132007E-2},{"$f":"IF(ISNUMBER(C35),CORREL($B$1:B35,$C$1:C35),\"\")","v":{"$error":"#N/A"}},{"$f":"Sheet3!M35","v":-1.2871027055424158E-2},{"$f":"IF(ISNUMBER(E35),CORREL($B$1:B35,$E$1:E35),\"\")","v":{"$error":"#N/A"}},{"$f":"Sheet3!O35","v":2.308741735754002E-3},{"$f":"IF(ISNUMBER(G35),CORREL($B$1:B35,$G$1:G35),\"\")","v":{"$error":"#N/A"}},{"$f":"Sheet3!Q35","v":1.1703995318401812E-2},{"$f":"IF(ISNUMBER(I35),CORREL($B$1:B35,$I$1:I35),\"\")","v":{"$error":"#N/A"}},{"$f":"Sheet3!S35","v":1.2513484358144516E-2},{"$f":"IF(ISNUMBER(K35),CORREL($B$1:B35,$K$1:K35),\"\")","v":{"$error":"#N/A"}},{"$f":"Sheet3!U35","v":1.1146150500217548E-2},{"$f":"IF(ISNUMBER(M35),CORREL($B$1:B35,$M$1:M35),\"\")","v":{"$error":"#N/A"}},{"$f":"Sheet3!W35","v":-8.5479217865156235E-3},{"$f":"IF(ISNUMBER(O35),CORREL($B$1:B35,$O$1:O35),\"\")","v":{"$error":"#N/A"}},{"$f":"Sheet3!Y35","v":4.1596888336663702E-3},{"$f":"IF(ISNUMBER(Q35),CORREL($B$1:B35,$Q$1:Q35),\"\")","v":{"$error":"#N/A"}},{"$f":"Sheet3!AA35","v":5.3369272237197259E-3},{"$f":"IF(ISNUMBER(S35),CORREL($B$1:B35,$S$1:S35),\"\")","v":{"$error":"#N/A"}}]
[null,{"$f":"Sheet3!I36","v":{"$error":"#N/A"}},{"$f":"Sheet3!K36","v":1.6766020864381552E-2},{"$f":"IF(ISNUMBER(C36),CORREL($B$1:B36,$C$1:C36),\"\")","v":{"$error":"#N/A"}},{"$f":"Sheet3!M36","v":-1.2135539795114276E-2},{"$f":"IF(ISNUMBER(E36),CORREL($B$1:B36,$E$1:E36),\"\")","v":{"$error":"#N/A"}},{"$f":"Sheet3!O36","v":2.6760415573511957E-3},{"$f":"IF(ISNUMBER(G36),CORREL($B$1:B36,$G$1:G36),\"\")","v":{"$error":"#N/A"}},{"$f":"Sheet3!Q36","v":1.1118795552481797E-2},{"$f":"IF(ISNUMBER(I36),CORREL($B$1:B36,$I$1:I36),\"\")","v":{"$error":"#N/A"}},{"$f":"Sheet3!S36","v":1.2243797195253408E-2},{"$f":"IF(ISNUMBER(K36),CORREL($B$1:B36,$K$1:K36),\"\")","v":{"$error":"#N/A"}},{"$f":"Sheet3!U36","v":1.1254893431927043E-2},{"$f":"IF(ISNUMBER(M36),CORREL($B$1:B36,$M$1:M36),\"\")","v":{"$error":"#N/A"}},{"$f":"Sheet3!W36","v":-1.0471204188481718E-2},{"$f":"IF(ISNUMBER(O36),CORREL($B$1:B36,$O$1:O36),\"\")","v":{"$error":"#N/A"}},{"$f":"Sheet3!Y36","v":4.5378423639996484E-3},{"$f":"IF(ISNUMBER(Q36),CORREL($B$1:B36,$Q$1:Q36),\"\")","v":{"$error":"#N/A"}},{"$f":"Sheet3!AA36","v":5.0673854447439229E-3},{"$f":"IF(ISNUMBER(S36),CORREL($B$1:B36,$S$1:S36),\"\")","v":{"$error":"#N/A"}}]
[null,{"$f":"Sheet3!I37","v":{"$error":"#N/A"}},{"$f":"Sheet3!K37","v":1.6659569938258439E-2},{"$f":"IF(ISNUMBER(C37),CORREL($B$1:B37,$C$1:C37),\"\")","v":{"$error":"#N/A"}},{"$f":"Sheet3!M37","v":-1.1137378513265062E-2},{"$f":"IF(ISNUMBER(E37),CORREL($B$1:B37,$E$1:E37),\"\")","v":{"$error":"#N/A"}},{"$f":"Sheet3!O37","v":2.5710987511805049E-3},{"$f":"IF(ISNUMBER(G37),CORREL($B$1:B37,$G$1:G37),\"\")","v":{"$error":"#N/A"}},{"$f":"Sheet3!Q37","v":1.1225195509921869E-2},{"$f":"IF(ISNUMBER(I37),CORREL($B$1:B37,$I$1:I37),\"\")","v":{"$error":"#N/A"}},{"$f":"Sheet3!S37","v":1.2405609492988041E-2},{"$f":"IF(ISNUMBER(K37),CORREL($B$1:B37,$K$1:K37),\"\")","v":{"$error":"#N/A"}},{"$f":"Sheet3!U37","v":1.0711178773379725E-2},{"$f":"IF(ISNUMBER(M37),CORREL($B$1:B37,$M$1:M37),\"\")","v":{"$error":"#N/A"}},{"$f":"Sheet3!W37","v":-1.0738326744310392E-2},{"$f":"IF(ISNUMBER(O37),CORREL($B$1:B37,$O$1:O37),\"\")","v":{"$error":"#N/A"}},{"$f":"Sheet3!Y37","v":4.2137107665710799E-3},{"$f":"IF(ISNUMBER(Q37),CORREL($B$1:B37,$Q$1:Q37),\"\")","v":{"$error":"#N/A"}},{"$f":"Sheet3!AA37","v":4.1509433962264699E-3},{"$f":"IF(ISNUMBER(S37),CORREL($B$1:B37,$S$1:S37),\"\")","v":{"$error":"#N/A"}}]
[null,{"$f":"Sheet3!I38","v":{"$error":"#N/A"}},{"$f":"Sheet3!K38","v":1.6446668086012368E-2},{"$f":"IF(ISNUMBER(C38),CORREL($B$1:B38,$C$1:C38),\"\")","v":{"$error":"#N/A"}},{"$f":"Sheet3!M38","v":-1.129498292618863E-2},{"$f":"IF(ISNUMBER(E38),CORREL($B$1:B38,$E$1:E38),\"\")","v":{"$error":"#N/A"}},{"$f":"Sheet3!O38","v":2.6235701542659251E-3},{"$f":"IF(ISNUMBER(G38),CORREL($B$1:B38,$G$1:G38),\"\")","v":{"$error":"#N/A"}},{"$f":"Sheet3!Q38","v":1.0959195616321766E-2},{"$f":"IF(ISNUMBER(I38),CORREL($B$1:B38,$I$1:I38),\"\")","v":{"$error":"#N/A"}},{"$f":"Sheet3!S38","v":1.3052858683926577E-2},{"$f":"IF(ISNUMBER(K38),CORREL($B$1:B38,$K$1:K38),\"\")","v":{"$error":"#N/A"}},{"$f":"Sheet3!U38","v":1.0602435841670385E-2},{"$f":"IF(ISNUMBER(M38),CORREL($B$1:B38,$M$1:M38),\"\")","v":{"$error":"#N/A"}},{"$f":"Sheet3!W38","v":-1.1219147344801764E-2},{"$f":"IF(ISNUMBER(O38),CORREL($B$1:B38,$O$1:O38),\"\")","v":{"$error":"#N/A"}},{"$f":"Sheet3!Y38","v":3.2413159742855288E-3},{"$f":"IF(ISNUMBER(Q38),CORREL($B$1:B38,$Q$1:Q38),\"\")","v":{"$error":"#N/A"}},{"$f":"Sheet3!AA38","v":4.4204851752021193E-3},{"$f":"IF(ISNUMBER(S38),CORREL($B$1:B38,$S$1:S38),\"\")","v":{"$error":"#N/A"}}]
[null,{"$f":"Sheet3!I39","v":{"$error":"#N/A"}},{"$f":"Sheet3!K39","v":1.6180540770704663E-2},{"$f":"IF(ISNUMBER(C39),CORREL($B$1:B39,$C$1:C39),\"\")","v":{"$error":"#N/A"}},{"$f":"Sheet3!M39","v":-1.1137378513265062E-2},{"$f":"IF(ISNUMBER(E39),CORREL($B$1:B39,$E$1:E39),\"\")","v":{"$error":"#N/A"}},{"$f":"Sheet3!O39","v":2.0463847203273499E-3},{"$f":"IF(ISNUMBER(G39),CORREL($B$1:B39,$G$1:G39),\"\")","v":{"$error":"#N/A"}},{"$f":"Sheet3!Q39","v":1.1012395595041725E-2},{"$f":"IF(ISNUMBER(I39),CORREL($B$1:B39,$I$1:I39),\"\")","v":{"$error":"#N/A"}},{"$f":"Sheet3!S39","v":1.2189859762675247E-2},{"$f":"IF(ISNUMBER(K39),CORREL($B$1:B39,$K$1:K39),\"\")","v":{"$error":"#N/A"}},{"$f":"Sheet3!U39","v":1.0819921705089219E-2},{"$f":"IF(ISNUMBER(M39),CORREL($B$1:B39,$M$1:M39),\"\")","v":{"$error":"#N/A"}},{"$f":"Sheet3!W39","v":-1.1272571855967591E-2},{"$f":"IF(ISNUMBER(O39),CORREL($B$1:B39,$O$1:O39),\"\")","v":{"$error":"#N/A"}},{"$f":"Sheet3!Y39","v":3.1332721084759551E-3},{"$f":"IF(ISNUMBER(Q39),CORREL($B$1:B39,$Q$1:Q39),\"\")","v":{"$error":"#N/A"}},{"$f":"Sheet3!AA39","v":4.8517520215633726E-3},{"$f":"IF(ISNUMBER(S39),CORREL($B$1:B39,$S$1:S39),\"\")","v":{"$error":"#N/A"}}]
[null,{"$f":"Sheet3!I40","v":{"$error":"#N/A"}},{"$f":"Sheet3!K40","v":1.6553119012135478E-2},{"$f":"IF(ISNUMBER(C40),CORREL($B$1:B40,$C$1:C40),\"\")","v":{"$error":"#N/A"}},{"$f":"Sheet3!M40","v":-1.0874704491725732E-2},{"$f":"IF(ISNUMBER(E40),CORREL($B$1:B40,$E$1:E40),\"\")","v":{"$error":"#N/A"}},{"$f":"Sheet3!O40","v":2.0463847203273499E-3},{"$f":"IF(ISNUMBER(G40),CORREL($B$1:B40,$G$1:G40),\"\")","v":{"$error":"#N/A"}},{"$f":"Sheet3!Q40","v":1.0746395701441773E-2},{"$f":"IF(ISNUMBER(I40),CORREL($B$1:B40,$I$1:I40),\"\")","v":{"$error":"#N/A"}},{"$f":"Sheet3!S40","v":1.1542610571736712E-2},{"$f":"IF(ISNUMBER(K40),CORREL($B$1:B40,$K$1:K40),\"\")","v":{"$error":"#N/A"}},{"$f":"Sheet3!U40","v":9.9499782514137266E-3},{"$f":"IF(ISNUMBER(M40),CORREL($B$1:B40,$M$1:M40),\"\")","v":{"$error":"#N/A"}},{"$f":"Sheet3!W40","v":-1.2875307190939184E-2},{"$f":"IF(ISNUMBER(O40),CORREL($B$1:B40,$O$1:O40),\"\")","v":{"$error":"#N/A"}},{"$f":"Sheet3!Y40","v":4.267732699475944E-3},{"$f":"IF(ISNUMBER(Q40),CORREL($B$1:B40,$Q$1:Q40),\"\")","v":{"$error":"#N/A"}},{"$f":"Sheet3!AA40","v":3.7735849056603162E-3},{"$f":"IF(ISNUMBER(S40),CORREL($B$1:B40,$S$1:S40),\"\")","v":{"$error":"#N/A"}}]
[null,{"$f":"Sheet3!I41","v":{"$error":"#N/A"}},{"$f":"Sheet3!K41","v":1.7724079199489103E-2},{"$f":"IF(ISNUMBER(C41),CORREL($B$1:B41,$C$1:C41),\"\")","v":{"$error":"#N/A"}},{"$f":"Sheet3!M41","v":-1.1400052534804243E-2},{"$f":"IF(ISNUMBER(E41),CORREL($B$1:B41,$E$1:E41),\"\")","v":{"$error":"#N/A"}},{"$f":"Sheet3!O41","v":1.8889705110713883E-3},{"$f":"IF(ISNUMBER(G41),CORREL($B$1:B41,$G$1:G41),\"\")","v":{"$error":"#N/A"}},{"$f":"Sheet3!Q41","v":1.0905995637601806E-2},{"$f":"IF(ISNUMBER(I41),CORREL($B$1:B41,$I$1:I41),\"\")","v":{"$error":"#N/A"}},{"$f":"Sheet3!S41","v":1.1866235167205979E-2},{"$f":"IF(ISNUMBER(K41),CORREL($B$1:B41,$K$1:K41),\"\")","v":{"$error":"#N/A"}},{"$f":"Sheet3!U41","v":9.8956067855590565E-3},{"$f":"IF(ISNUMBER(M41),CORREL($B$1:B41,$M$1:M41),\"\")","v":{"$error":"#N/A"}},{"$f":"Sheet3!W41","v":-1.6347900416711199E-2},{"$f":"IF(ISNUMBER(O41),CORREL($B$1:B41,$O$1:O41),\"\")","v":{"$error":"#N/A"}},{"$f":"Sheet3!Y41","v":4.1596888336663702E-3},{"$f":"IF(ISNUMBER(Q41),CORREL($B$1:B41,$Q$1:Q41),\"\")","v":{"$error":"#N/A"}},{"$f":"Sheet3!AA41","v":3.3423180592992161E-3},{"$f":"IF(ISNUMBER(S41),CORREL($B$1:B41,$S$1:S41),\"\")","v":{"$error":"#N/A"}}]
[null,{"$f":"Sheet3!I42","v":{"$error":"#N/A"}},{"$f":"Sheet3!K42","v":1.7670853736427471E-2},{"$f":"IF(ISNUMBER(C42),CORREL($B$1:B42,$C$1:C42),\"\")","v":{"$error":"#N/A"}},{"$f":"Sheet3!M42","v":-1.2398213816653455E-2},{"$f":"IF(ISNUMBER(E42),CORREL($B$1:B42,$E$1:E42),\"\")","v":{"$error":"#N/A"}},{"$f":"Sheet3!O42","v":1.5216706894741947E-3},{"$f":"IF(ISNUMBER(G42),CORREL($B$1:B42,$G$1:G42),\"\")","v":{"$error":"#N/A"}},{"$f":"Sheet3!Q42","v":1.0639995744001703E-2},{"$f":"IF(ISNUMBER(I42),CORREL($B$1:B42,$I$1:I42),\"\")","v":{"$error":"#N/A"}},{"$f":"Sheet3!S42","v":1.2297734627831722E-2},{"$f":"IF(ISNUMBER(K42),CORREL($B$1:B42,$K$1:K42),\"\")","v":{"$error":"#N/A"}},{"$f":"Sheet3!U42","v":1.0276207046542056E-2},{"$f":"IF(ISNUMBER(M42),CORREL($B$1:B42,$M$1:M42),\"\")","v":{"$error":"#N/A"}},{"$f":"Sheet3!W42","v":-1.8912276952665993E-2},{"$f":"IF(ISNUMBER(O42),CORREL($B$1:B42,$O$1:O42),\"\")","v":{"$error":"#N/A"}},{"$f":"Sheet3!Y42","v":3.7815353033330916E-3},{"$f":"IF(ISNUMBER(Q42),CORREL($B$1:B42,$Q$1:Q42),\"\")","v":{"$error":"#N/A"}},{"$f":"Sheet3!AA42","v":3.3962264150943153E-3},{"$f":"IF(ISNUMBER(S42),CORREL($B$1:B42,$S$1:S42),\"\")","v":{"$error":"#N/A"}}]
[null,{"$f":"Sheet3!I43","v":{"$error":"#N/A"}},{"$f":"Sheet3!K43","v":1.8416010219288952E-2},{"$f":"IF(ISNUMBER(C43),CORREL($B$1:B43,$C$1:C43),\"\")","v":{"$error":"#N/A"}},{"$f":"Sheet3!M43","v":-1.2293144208037843E-2},{"$f":"IF(ISNUMBER(E43),CORREL($B$1:B43,$E$1:E43),\"\")","v":{"$error":"#N/A"}},{"$f":"Sheet3!O43","v":1.6266134956447363E-3},{"$f":"IF(ISNUMBER(G43),CORREL($B$1:B43,$G$1:G43),\"\")","v":{"$error":"#N/A"}},{"$f":"Sheet3!Q43","v":1.0320795871681639E-2},{"$f":"IF(ISNUMBER(I43),CORREL($B$1:B43,$I$1:I43),\"\")","v":{"$error":"#N/A"}},{"$f":"Sheet3!S43","v":1.2459546925566355E-2},{"$f":"IF(ISNUMBER(K43),CORREL($B$1:B43,$K$1:K43),\"\")","v":{"$error":"#N/A"}},{"$f":"Sheet3!U43","v":1.0765550239234549E-2},{"$f":"IF(ISNUMBER(M43),CORREL($B$1:B43,$M$1:M43),\"\")","v":{"$error":"#N/A"}},{"$f":"Sheet3!W43","v":{"$error":"#N/A"}},{"$f":"IF(ISNUMBER(O43),CORREL($B$1:B43,$O$1:O43),\"\")","v":""},{"$f":"Sheet3!Y43","v":3.5114256388092337E-3},{"$f":"IF(ISNUMBER(Q43),CORREL($B$1:B43,$Q$1:Q43),\"\")","v":{"$error":"#N/A"}},{"$f":"Sheet3!AA43","v":3.1266846361186658E-3},{"$f":"IF(ISNUMBER(S43),CORREL($B$1:B43,$S$1:S43),\"\")","v":{"$error":"#N/A"}}]
[null,{"$f":"Sheet3!I44","v":{"$error":"#N/A"}},{"$f":"Sheet3!K44","v":1.8309559293165838E-2},{"$f":"IF(ISNUMBER(C44),CORREL($B$1:B44,$C$1:C44),\"\")","v":{"$error":"#N/A"}},{"$f":"Sheet3!M44","v":-1.2450748620961412E-2},{"$f":"IF(ISNUMBER(E44),CORREL($B$1:B44,$E$1:E44),\"\")","v":{"$error":"#N/A"}},{"$f":"Sheet3!O44","v":4.1977122468246446E-4},{"$f":"IF(ISNUMBER(G44),CORREL($B$1:B44,$G$1:G44),\"\")","v":{"$error":"#N/A"}},{"$f":"Sheet3!Q44","v":1.0161195935521608E-2},{"$f":"IF(ISNUMBER(I44),CORREL($B$1:B44,$I$1:I44),\"\")","v":{"$error":"#N/A"}},{"$f":"Sheet3!S44","v":1.1866235167205979E-2},{"$f":"IF(ISNUMBER(K44),CORREL($B$1:B44,$K$1:K44),\"\")","v":{"$error":"#N/A"}},{"$f":"Sheet3!U44","v":9.8412353197042321E-3},{"$f":"IF(ISNUMBER(M44),CORREL($B$1:B44,$M$1:M44),\"\")","v":{"$error":"#N/A"}},{"$f":"Sheet3!W44","v":{"$error":"#N/A"}},{"$f":"IF(ISNUMBER(O44),CORREL($B$1:B44,$O$1:O44),\"\")","v":""},{"$f":"Sheet3!Y44","v":3.079250175571245E-3},{"$f":"IF(ISNUMBER(Q44),CORREL($B$1:B44,$Q$1:Q44),\"\")","v":{"$error":"#N/A"}},{"$f":"Sheet3!AA44","v":3.719676549865217E-3},{"$f":"IF(ISNUMBER(S44),CORREL($B$1:B44,$S$1:S44),\"\")","v":{"$error":"#N/A"}}]
[null,{"$f":"Sheet3!I45","v":{"$error":"#N/A"}},{"$f":"Sheet3!K45","v":1.751117734724288E-2},{"$f":"IF(ISNUMBER(C45),CORREL($B$1:B45,$C$1:C45),\"\")","v":{"$error":"#N/A"}},{"$f":"Sheet3!M45","v":-1.2135539795114276E-2},{"$f":"IF(ISNUMBER(E45),CORREL($B$1:B45,$E$1:E45),\"\")","v":{"$error":"#N/A"}},{"$f":"Sheet3!O45","v":8.3954244936507811E-4},{"$f":"IF(ISNUMBER(G45),CORREL($B$1:B45,$G$1:G45),\"\")","v":{"$error":"#N/A"}},{"$f":"Sheet3!Q45","v":1.0161195935521608E-2},{"$f":"IF(ISNUMBER(I45),CORREL($B$1:B45,$I$1:I45),\"\")","v":{"$error":"#N/A"}},{"$f":"Sheet3!S45","v":1.1003236245954649E-2},{"$f":"IF(ISNUMBER(K45),CORREL($B$1:B45,$K$1:K45),\"\")","v":{"$error":"#N/A"}},{"$f":"Sheet3!U45","v":1.0058721183123221E-2},{"$f":"IF(ISNUMBER(M45),CORREL($B$1:B45,$M$1:M45),\"\")","v":{"$error":"#N/A"}},{"$f":"Sheet3!W45","v":{"$error":"#N/A"}},{"$f":"IF(ISNUMBER(O45),CORREL($B$1:B45,$O$1:O45),\"\")","v":""},{"$f":"Sheet3!Y45","v":1.7287018529522616E-3},{"$f":"IF(ISNUMBER(Q45),CORREL($B$1:B45,$Q$1:Q45),\"\")","v":{"$error":"#N/A"}},{"$f":"Sheet3!AA45","v":3.9892183288410196E-3},{"$f":"IF(ISNUMBER(S45),CORREL($B$1:B45,$S$1:S45),\"\")","v":{"$error":"#N/A"}}]
[null,{"$f":"Sheet3!I46","v":{"$error":"#N/A"}},{"$f":"Sheet3!K46","v":1.7457951884181398E-2},{"$f":"IF(ISNUMBER(C46),CORREL($B$1:B46,$C$1:C46),\"\")","v":{"$error":"#N/A"}},{"$f":"Sheet3!M46","v":-1.1715261360651378E-2},{"$f":"IF(ISNUMBER(E46),CORREL($B$1:B46,$E$1:E46),\"\")","v":{"$error":"#N/A"}},{"$f":"Sheet3!O46","v":8.3954244936507811E-4},{"$f":"IF(ISNUMBER(G46),CORREL($B$1:B46,$G$1:G46),\"\")","v":{"$error":"#N/A"}},{"$f":"Sheet3!Q46","v":1.1118795552481797E-2},{"$f":"IF(ISNUMBER(I46),CORREL($B$1:B46,$I$1:I46),\"\")","v":{"$error":"#N/A"}},{"$f":"Sheet3!S46","v":1.1596548004315026E-2},{"$f":"IF(ISNUMBER(K46),CORREL($B$1:B46,$K$1:K46),\"\")","v":{"$error":"#N/A"}},{"$f":"Sheet3!U46","v":1.0276207046542056E-2},{"$f":"IF(ISNUMBER(M46),CORREL($B$1:B46,$M$1:M46),\"\")","v":{"$error":"#N/A"}},{"$f":"Sheet3!W46","v":{"$error":"#N/A"}},{"$f":"IF(ISNUMBER(O46),CORREL($B$1:B46,$O$1:O46),\"\")","v":""},{"$f":"Sheet3!Y46","v":1.5126141213331137E-3},{"$f":"IF(ISNUMBER(Q46),CORREL($B$1:B46,$Q$1:Q46),\"\")","v":{"$error":"#N/A"}},{"$f":"Sheet3!AA46","v":4.2048517520215691E-3},{"$f":"IF(ISNUMBER(S46),CORREL($B$1:B46,$S$1:S46),\"\")","v":{"$error":"#N/A"}}]
[null,{"$f":"Sheet3!I47","v":{"$error":"#N/A"}},{"$f":"Sheet3!K47","v":1.7032148179689253E-2},{"$f":"IF(ISNUMBER(C47),CORREL($B$1:B47,$C$1:C47),\"\")","v":{"$error":"#N/A"}},{"$f":"Sheet3!M47","v":-1.0034147622800088E-2},{"$f":"IF(ISNUMBER(E47),CORREL($B$1:B47,$E$1:E47),\"\")","v":{"$error":"#N/A"}},{"$f":"Sheet3!O47","v":2.0988561234123223E-4},{"$f":"IF(ISNUMBER(G47),CORREL($B$1:B47,$G$1:G47),\"\")","v":{"$error":"#N/A"}},{"$f":"Sheet3!Q47","v":1.2076395169441987E-2},{"$f":"IF(ISNUMBER(I47),CORREL($B$1:B47,$I$1:I47),\"\")","v":{"$error":"#N/A"}},{"$f":"Sheet3!S47","v":1.1218985976267443E-2},{"$f":"IF(ISNUMBER(K47),CORREL($B$1:B47,$K$1:K47),\"\")","v":{"$error":"#N/A"}},{"$f":"Sheet3!U47","v":9.8956067855590565E-3},{"$f":"IF(ISNUMBER(M47),CORREL($B$1:B47,$M$1:M47),\"\")","v":{"$error":"#N/A"}},{"$f":"Sheet3!W47","v":{"$error":"#N/A"}},{"$f":"IF(ISNUMBER(O47),CORREL($B$1:B47,$O$1:O47),\"\")","v":""},{"$f":"Sheet3!Y47","v":1.7827237858569719E-3},{"$f":"IF(ISNUMBER(Q47),CORREL($B$1:B47,$Q$1:Q47),\"\")","v":{"$error":"#N/A"}},{"$f":"Sheet3!AA47","v":3.8274932614555685E-3},{"$f":"IF(ISNUMBER(S47),CORREL($B$1:B47,$S$1:S47),\"\")","v":{"$error":"#N/A"}}]
[null,{"$f":"Sheet3!I48","v":{"$error":"#N/A"}},{"$f":"Sheet3!K48","v":1.7298275494996806E-2},{"$f":"IF(ISNUMBER(C48),CORREL($B$1:B48,$C$1:C48),\"\")","v":{"$error":"#N/A"}},{"$f":"Sheet3!M48","v":-1.0139217231415849E-2},{"$f":"IF(ISNUMBER(E48),CORREL($B$1:B48,$E$1:E48),\"\")","v":{"$error":"#N/A"}},{"$f":"Sheet3!O48","v":3.1482841851177381E-4},{"$f":"IF(ISNUMBER(G48),CORREL($B$1:B48,$G$1:G48),\"\")","v":{"$error":"#N/A"}},{"$f":"Sheet3!Q48","v":1.1969995212001915E-2},{"$f":"IF(ISNUMBER(I48),CORREL($B$1:B48,$I$1:I48),\"\")","v":{"$error":"#N/A"}},{"$f":"Sheet3!S48","v":1.1218985976267443E-2},{"$f":"IF(ISNUMBER(K48),CORREL($B$1:B48,$K$1:K48),\"\")","v":{"$error":"#N/A"}},{"$f":"Sheet3!U48","v":9.732492387994892E-3},{"$f":"IF(ISNUMBER(M48),CORREL($B$1:B48,$M$1:M48),\"\")","v":{"$error":"#N/A"}},{"$f":"Sheet3!W48","v":{"$error":"#N/A"}},{"$f":"IF(ISNUMBER(O48),CORREL($B$1:B48,$O$1:O48),\"\")","v":""},{"$f":"Sheet3!Y48","v":1.7827237858569719E-3},{"$f":"IF(ISNUMBER(Q48),CORREL($B$1:B48,$Q$1:Q48),\"\")","v":{"$error":"#N/A"}},{"$f":"Sheet3!AA48","v":3.6657681940701174E-3},{"$f":"IF(ISNUMBER(S48),CORREL($B$1:B48,$S$1:S48),\"\")","v":{"$error":"#N/A"}}]
[null,{"$f":"Sheet3!I49","v":{"$error":"#N/A"}},{"$f":"Sheet3!K49","v":1.6020864381520072E-2},{"$f":"IF(ISNUMBER(C49),CORREL($B$1:B49,$C$1:C49),\"\")","v":{"$error":"#N/A"}},{"$f":"Sheet3!M49","v":-1.0191752035723655E-2},{"$f":"IF(ISNUMBER(E49),CORREL($B$1:B49,$E$1:E49),\"\")","v":{"$error":"#N/A"}},{"$f":"Sheet3!O49","v":-2.6235701542665215E-4},{"$f":"IF(ISNUMBER(G49),CORREL($B$1:B49,$G$1:G49),\"\")","v":{"$error":"#N/A"}},{"$f":"Sheet3!Q49","v":1.2129595148161946E-2},{"$f":"IF(ISNUMBER(I49),CORREL($B$1:B49,$I$1:I49),\"\")","v":{"$error":"#N/A"}},{"$f":"Sheet3!S49","v":1.1326860841423918E-2},{"$f":"IF(ISNUMBER(K49),CORREL($B$1:B49,$K$1:K49),\"\")","v":{"$error":"#N/A"}},{"$f":"Sheet3!U49","v":9.1887777294477283E-3},{"$f":"IF(ISNUMBER(M49),CORREL($B$1:B49,$M$1:M49),\"\")","v":{"$error":"#N/A"}},{"$f":"Sheet3!W49","v":{"$error":"#N/A"}},{"$f":"IF(ISNUMBER(O49),CORREL($B$1:B49,$O$1:O49),\"\")","v":""},{"$f":"Sheet3!Y49","v":1.9988115174759662E-3},{"$f":"IF(ISNUMBER(Q49),CORREL($B$1:B49,$Q$1:Q49),\"\")","v":{"$error":"#N/A"}},{"$f":"Sheet3!AA49","v":3.180592991913765E-3},{"$f":"IF(ISNUMBER(S49),CORREL($B$1:B49,$S$1:S49),\"\")","v":{"$error":"#N/A"}}]
[null,{"$f":"Sheet3!I50","v":{"$error":"#N/A"}},{"$f":"Sheet3!K50","v":1.671279540132007E-2},{"$f":"IF(ISNUMBER(C50),CORREL($B$1:B50,$C$1:C50),\"\")","v":{"$error":"#N/A"}},{"$f":"Sheet3!M50","v":-1.0769634883109971E-2},{"$f":"IF(ISNUMBER(E50),CORREL($B$1:B50,$E$1:E50),\"\")","v":{"$error":"#N/A"}},{"$f":"Sheet3!O50","v":-6.2965683702384588E-4},{"$f":"IF(ISNUMBER(G50),CORREL($B$1:B50,$G$1:G50),\"\")","v":{"$error":"#N/A"}},{"$f":"Sheet3!Q50","v":1.1757195297121924E-2},{"$f":"IF(ISNUMBER(I50),CORREL($B$1:B50,$I$1:I50),\"\")","v":{"$error":"#N/A"}},{"$f":"Sheet3!S50","v":1.1326860841423918E-2},{"$f":"IF(ISNUMBER(K50),CORREL($B$1:B50,$K$1:K50),\"\")","v":{"$error":"#N/A"}},{"$f":"Sheet3!U50","v":8.9169204001740693E-3},{"$f":"IF(ISNUMBER(M50),CORREL($B$1:B50,$M$1:M50),\"\")","v":{"$error":"#N/A"}},{"$f":"Sheet3!W50","v":{"$error":"#N/A"}},{"$f":"IF(ISNUMBER(O50),CORREL($B$1:B50,$O$1:O50),\"\")","v":""},{"$f":"Sheet3!Y50","v":3.1332721084759551E-3},{"$f":"IF(ISNUMBER(Q50),CORREL($B$1:B50,$Q$1:Q50),\"\")","v":{"$error":"#N/A"}},{"$f":"Sheet3!AA50","v":3.6657681940701174E-3},{"$f":"IF(ISNUMBER(S50),CORREL($B$1:B50,$S$1:S50),\"\")","v":{"$error":"#N/A"}}]
[null,{"$f":"Sheet3!I51","v":{"$error":"#N/A"}},{"$f":"Sheet3!K51","v":1.671279540132007E-2},{"$f":"IF(ISNUMBER(C51),CORREL($B$1:B51,$C$1:C51),\"\")","v":{"$error":"#N/A"}},{"$f":"Sheet3!M51","v":-1.0559495665878597E-2},{"$f":"IF(ISNUMBER(E51),CORREL($B$1:B51,$E$1:E51),\"\")","v":{"$error":"#N/A"}},{"$f":"Sheet3!O51","v":-1.0494280617069068E-4},{"$f":"IF(ISNUMBER(G51),CORREL($B$1:B51,$G$1:G51),\"\")","v":{"$error":"#N/A"}},{"$f":"Sheet3!Q51","v":1.0959195616321766E-2},{"$f":"IF(ISNUMBER(I51),CORREL($B$1:B51,$I$1:I51),\"\")","v":{"$error":"#N/A"}},{"$f":"Sheet3!S51","v":1.1218985976267443E-2},{"$f":"IF(ISNUMBER(K51),CORREL($B$1:B51,$K$1:K51),\"\")","v":{"$error":"#N/A"}},{"$f":"Sheet3!U51","v":8.8625489343193992E-3},{"$f":"IF(ISNUMBER(M51),CORREL($B$1:B51,$M$1:M51),\"\")","v":{"$error":"#N/A"}},{"$f":"Sheet3!W51","v":{"$error":"#N/A"}},{"$f":"IF(ISNUMBER(O51),CORREL($B$1:B51,$O$1:O51),\"\")","v":""},{"$f":"Sheet3!Y51","v":3.8895791691426654E-3},{"$f":"IF(ISNUMBER(Q51),CORREL($B$1:B51,$Q$1:Q51),\"\")","v":{"$error":"#N/A"}},{"$f":"Sheet3!AA51","v":4.1509433962264699E-3},{"$f":"IF(ISNUMBER(S51),CORREL($B$1:B51,$S$1:S51),\"\")","v":{"$error":"#N/A"}}]
[null,{"$f":"Sheet3!I52","v":{"$error":"#N/A"}},{"$f":"Sheet3!K52","v":1.6180540770704663E-2},{"$f":"IF(ISNUMBER(C52),CORREL($B$1:B52,$C$1:C52),\"\")","v":{"$error":"#N/A"}},{"$f":"Sheet3!M52","v":-1.1084843708957107E-2},{"$f":"IF(ISNUMBER(E52),CORREL($B$1:B52,$E$1:E52),\"\")","v":{"$error":"#N/A"}},{"$f":"Sheet3!O52","v":-1.206842270962421E-3},{"$f":"IF(ISNUMBER(G52),CORREL($B$1:B52,$G$1:G52),\"\")","v":{"$error":"#N/A"}},{"$f":"Sheet3!Q52","v":1.1703995318401812E-2},{"$f":"IF(ISNUMBER(I52),CORREL($B$1:B52,$I$1:I52),\"\")","v":{"$error":"#N/A"}},{"$f":"Sheet3!S52","v":1.1758360302049659E-2},{"$f":"IF(ISNUMBER(K52),CORREL($B$1:B52,$K$1:K52),\"\")","v":{"$error":"#N/A"}},{"$f":"Sheet3!U52","v":8.9712918660287393E-3},{"$f":"IF(ISNUMBER(M52),CORREL($B$1:B52,$M$1:M52),\"\")","v":{"$error":"#N/A"}},{"$f":"Sheet3!W52","v":{"$error":"#N/A"}},{"$f":"IF(ISNUMBER(O52),CORREL($B$1:B52,$O$1:O52),\"\")","v":""},{"$f":"Sheet3!Y52","v":6.1044784182377795E-3},{"$f":"IF(ISNUMBER(Q52),CORREL($B$1:B52,$Q$1:Q52),\"\")","v":{"$error":"#N/A"}},{"$f":"Sheet3!AA52","v":3.7735849056603162E-3},{"$f":"IF(ISNUMBER(S52),CORREL($B$1:B52,$S$1:S52),\"\")","v":{"$error":"#N/A"}}]
[null,{"$f":"Sheet3!I53","v":{"$error":"#N/A"}},{"$f":"Sheet3!K53","v":1.5595060677027928E-2},{"$f":"IF(ISNUMBER(C53),CORREL($B$1:B53,$C$1:C53),\"\")","v":{"$error":"#N/A"}},{"$f":"Sheet3!M53","v":-1.1557656947727811E-2},{"$f":"IF(ISNUMBER(E53),CORREL($B$1:B53,$E$1:E53),\"\")","v":{"$error":"#N/A"}},{"$f":"Sheet3!O53","v":-8.3954244936522719E-4},{"$f":"IF(ISNUMBER(G53),CORREL($B$1:B53,$G$1:G53),\"\")","v":{"$error":"#N/A"}},{"$f":"Sheet3!Q53","v":1.2395595041762049E-2},{"$f":"IF(ISNUMBER(I53),CORREL($B$1:B53,$I$1:I53),\"\")","v":{"$error":"#N/A"}},{"$f":"Sheet3!S53","v":1.2297734627831722E-2},{"$f":"IF(ISNUMBER(K53),CORREL($B$1:B53,$K$1:K53),\"\")","v":{"$error":"#N/A"}},{"$f":"Sheet3!U53","v":8.3188342757720812E-3},{"$f":"IF(ISNUMBER(M53),CORREL($B$1:B53,$M$1:M53),\"\")","v":{"$error":"#N/A"}},{"$f":"Sheet3!W53","v":{"$error":"#N/A"}},{"$f":"IF(ISNUMBER(O53),CORREL($B$1:B53,$O$1:O53),\"\")","v":""},{"$f":"Sheet3!Y53","v":6.8607854789043366E-3},{"$f":"IF(ISNUMBER(Q53),CORREL($B$1:B53,$Q$1:Q53),\"\")","v":{"$error":"#N/A"}},{"$f":"Sheet3!AA53","v":4.7439353099730215E-3},{"$f":"IF(ISNUMBER(S53),CORREL($B$1:B53,$S$1:S53),\"\")","v":{"$error":"#N/A"}}]
[null,{"$f":"Sheet3!I54","v":{"$error":"#N/A"}},{"$f":"Sheet3!K54","v":1.5328933361720223E-2},{"$f":"IF(ISNUMBER(C54),CORREL($B$1:B54,$C$1:C54),\"\")","v":{"$error":"#N/A"}},{"$f":"Sheet3!M54","v":-1.1610191752035766E-2},{"$f":"IF(ISNUMBER(E54),CORREL($B$1:B54,$E$1:E54),\"\")","v":{"$error":"#N/A"}},{"$f":"Sheet3!O54","v":-4.197712246826136E-4},{"$f":"IF(ISNUMBER(G54),CORREL($B$1:B54,$G$1:G54),\"\")","v":{"$error":"#N/A"}},{"$f":"Sheet3!Q54","v":1.2289195084321979E-2},{"$f":"IF(ISNUMBER(I54),CORREL($B$1:B54,$I$1:I54),\"\")","v":{"$error":"#N/A"}},{"$f":"Sheet3!S54","v":1.2297734627831722E-2},{"$f":"IF(ISNUMBER(K54),CORREL($B$1:B54,$K$1:K54),\"\")","v":{"$error":"#N/A"}},{"$f":"Sheet3!U54","v":8.9169204001740693E-3},{"$f":"IF(ISNUMBER(M54),CORREL($B$1:B54,$M$1:M54),\"\")","v":{"$error":"#N/A"}},{"$f":"Sheet3!W54","v":{"$error":"#N/A"}},{"$f":"IF(ISNUMBER(O54),CORREL($B$1:B54,$O$1:O54),\"\")","v":""},{"$f":"Sheet3!Y54","v":7.0768732105233306E-3},{"$f":"IF(ISNUMBER(Q54),CORREL($B$1:B54,$Q$1:Q54),\"\")","v":{"$error":"#N/A"}},{"$f":"Sheet3!AA54","v":4.3665768194070202E-3},{"$f":"IF(ISNUMBER(S54),CORREL($B$1:B54,$S$1:S54),\"\")","v":{"$error":"#N/A"}}]
[null,{"$f":"Sheet3!I55","v":{"$error":"#N/A"}},{"$f":"Sheet3!K55","v":1.5435384287843334E-2},{"$f":"IF(ISNUMBER(C55),CORREL($B$1:B55,$C$1:C55),\"\")","v":{"$error":"#N/A"}},{"$f":"Sheet3!M55","v":-1.1347517730496436E-2},{"$f":"IF(ISNUMBER(E55),CORREL($B$1:B55,$E$1:E55),\"\")","v":{"$error":"#N/A"}},{"$f":"Sheet3!O55","v":-3.1482841851192294E-4},{"$f":"IF(ISNUMBER(G55),CORREL($B$1:B55,$G$1:G55),\"\")","v":{"$error":"#N/A"}},{"$f":"Sheet3!Q55","v":1.2076395169441987E-2},{"$f":"IF(ISNUMBER(I55),CORREL($B$1:B55,$I$1:I55),\"\")","v":{"$error":"#N/A"}},{"$f":"Sheet3!S55","v":1.2567421790722675E-2},{"$f":"IF(ISNUMBER(K55),CORREL($B$1:B55,$K$1:K55),\"\")","v":{"$error":"#N/A"}},{"$f":"Sheet3!U55","v":7.5032622879514137E-3},{"$f":"IF(ISNUMBER(M55),CORREL($B$1:B55,$M$1:M55),\"\")","v":{"$error":"#N/A"}},{"$f":"Sheet3!W55","v":{"$error":"#N/A"}},{"$f":"IF(ISNUMBER(O55),CORREL($B$1:B55,$O$1:O55),\"\")","v":""},{"$f":"Sheet3!Y55","v":8.5894873318565976E-3},{"$f":"IF(ISNUMBER(Q55),CORREL($B$1:B55,$Q$1:Q55),\"\")","v":{"$error":"#N/A"}},{"$f":"Sheet3!AA55","v":4.4743935309973721E-3},{"$f":"IF(ISNUMBER(S55),CORREL($B$1:B55,$S$1:S55),\"\")","v":{"$error":"#N/A"}}]
[null,{"$f":"Sheet3!I56","v":{"$error":"#N/A"}},{"$f":"Sheet3!K56","v":1.4796678731104967E-2},{"$f":"IF(ISNUMBER(C56),CORREL($B$1:B56,$C$1:C56),\"\")","v":{"$error":"#N/A"}},{"$f":"Sheet3!M56","v":-1.1610191752035766E-2},{"$f":"IF(ISNUMBER(E56),CORREL($B$1:B56,$E$1:E56),\"\")","v":{"$error":"#N/A"}},{"$f":"Sheet3!O56","v":-2.6235701542665215E-4},{"$f":"IF(ISNUMBER(G56),CORREL($B$1:B56,$G$1:G56),\"\")","v":{"$error":"#N/A"}},{"$f":"Sheet3!Q56","v":1.13847954460819E-2},{"$f":"IF(ISNUMBER(I56),CORREL($B$1:B56,$I$1:I56),\"\")","v":{"$error":"#N/A"}},{"$f":"Sheet3!S56","v":1.2243797195253408E-2},{"$f":"IF(ISNUMBER(K56),CORREL($B$1:B56,$K$1:K56),\"\")","v":{"$error":"#N/A"}},{"$f":"Sheet3!U56","v":7.3945193562419192E-3},{"$f":"IF(ISNUMBER(M56),CORREL($B$1:B56,$M$1:M56),\"\")","v":{"$error":"#N/A"}},{"$f":"Sheet3!W56","v":{"$error":"#N/A"}},{"$f":"IF(ISNUMBER(O56),CORREL($B$1:B56,$O$1:O56),\"\")","v":""},{"$f":"Sheet3!Y56","v":8.5354653989518879E-3},{"$f":"IF(ISNUMBER(Q56),CORREL($B$1:B56,$Q$1:Q56),\"\")","v":{"$error":"#N/A"}},{"$f":"Sheet3!AA56","v":4.0431266846361188E-3},{"$f":"IF(ISNUMBER(S56),CORREL($B$1:B56,$S$1:S56),\"\")","v":{"$error":"#N/A"}}]
[null,{"$f":"Sheet3!I57","v":{"$error":"#N/A"}},{"$f":"Sheet3!K57","v":1.5488609750904814E-2},{"$f":"IF(ISNUMBER(C57),CORREL($B$1:B57,$C$1:C57),\"\")","v":{"$error":"#N/A"}},{"$f":"Sheet3!M57","v":-1.3028631468347728E-2},{"$f":"IF(ISNUMBER(E57),CORREL($B$1:B57,$E$1:E57),\"\")","v":{"$error":"#N/A"}},{"$f":"Sheet3!O57","v":-3.1482841851192294E-4},{"$f":"IF(ISNUMBER(G57),CORREL($B$1:B57,$G$1:G57),\"\")","v":{"$error":"#N/A"}},{"$f":"Sheet3!Q57","v":1.1703995318401812E-2},{"$f":"IF(ISNUMBER(I57),CORREL($B$1:B57,$I$1:I57),\"\")","v":{"$error":"#N/A"}},{"$f":"Sheet3!S57","v":1.2028047464940614E-2},{"$f":"IF(ISNUMBER(K57),CORREL($B$1:B57,$K$1:K57),\"\")","v":{"$error":"#N/A"}},{"$f":"Sheet3!U57","v":6.3070900391475919E-3},{"$f":"IF(ISNUMBER(M57),CORREL($B$1:B57,$M$1:M57),\"\")","v":{"$error":"#N/A"}},{"$f":"Sheet3!W57","v":{"$error":"#N/A"}},{"$f":"IF(ISNUMBER(O57),CORREL($B$1:B57,$O$1:O57),\"\")","v":""},{"$f":"Sheet3!Y57","v":8.5354653989518879E-3},{"$f":"IF(ISNUMBER(Q57),CORREL($B$1:B57,$Q$1:Q57),\"\")","v":{"$error":"#N/A"}},{"$f":"Sheet3!AA57","v":3.9353099730457669E-3},{"$f":"IF(ISNUMBER(S57),CORREL($B$1:B57,$S$1:S57),\"\")","v":{"$error":"#N/A"}}]
[null,{"$f":"Sheet3!I58","v":{"$error":"#N/A"}},{"$f":"Sheet3!K58","v":1.6233766233766295E-2},{"$f":"IF(ISNUMBER(C58),CORREL($B$1:B58,$C$1:C58),\"\")","v":{"$error":"#N/A"}},{"$f":"Sheet3!M58","v":-1.2345679012345649E-2},{"$f":"IF(ISNUMBER(E58),CORREL($B$1:B58,$E$1:E58),\"\")","v":{"$error":"#N/A"}},{"$f":"Sheet3!O58","v":-1.0494280617064594E-3},{"$f":"IF(ISNUMBER(G58),CORREL($B$1:B58,$G$1:G58),\"\")","v":{"$error":"#N/A"}},{"$f":"Sheet3!Q58","v":1.2289195084321979E-2},{"$f":"IF(ISNUMBER(I58),CORREL($B$1:B58,$I$1:I58),\"\")","v":{"$error":"#N/A"}},{"$f":"Sheet3!S58","v":1.1920172599784293E-2},{"$f":"IF(ISNUMBER(K58),CORREL($B$1:B58,$K$1:K58),\"\")","v":{"$error":"#N/A"}},{"$f":"Sheet3!U58","v":7.883862548934412E-3},{"$f":"IF(ISNUMBER(M58),CORREL($B$1:B58,$M$1:M58),\"\")","v":{"$error":"#N/A"}},{"$f":"Sheet3!W58","v":{"$error":"#N/A"}},{"$f":"IF(ISNUMBER(O58),CORREL($B$1:B58,$O$1:O58),\"\")","v":""},{"$f":"Sheet3!Y58","v":9.3998163254280179E-3},{"$f":"IF(ISNUMBER(Q58),CORREL($B$1:B58,$Q$1:Q58),\"\")","v":{"$error":"#N/A"}},{"$f":"Sheet3!AA58","v":3.6118598382748651E-3},{"$f":"IF(ISNUMBER(S58),CORREL($B$1:B58,$S$1:S58),\"\")","v":{"$error":"#N/A"}}]
[null,{"$f":"Sheet3!I59","v":{"$error":"#N/A"}},{"$f":"Sheet3!K59","v":1.6393442622950886E-2},{"$f":"IF(ISNUMBER(C59),CORREL($B$1:B59,$C$1:C59),\"\")","v":{"$error":"#N/A"}},{"$f":"Sheet3!M59","v":-1.1452587339112199E-2},{"$f":"IF(ISNUMBER(E59),CORREL($B$1:B59,$E$1:E59),\"\")","v":{"$error":"#N/A"}},{"$f":"Sheet3!O59","v":-9.4448525553576877E-4},{"$f":"IF(ISNUMBER(G59),CORREL($B$1:B59,$G$1:G59),\"\")","v":{"$error":"#N/A"}},{"$f":"Sheet3!Q59","v":1.1757195297121924E-2},{"$f":"IF(ISNUMBER(I59),CORREL($B$1:B59,$I$1:I59),\"\")","v":{"$error":"#N/A"}},{"$f":"Sheet3!S59","v":1.2081984897518773E-2},{"$f":"IF(ISNUMBER(K59),CORREL($B$1:B59,$K$1:K59),\"\")","v":{"$error":"#N/A"}},{"$f":"Sheet3!U59","v":8.1557198782079166E-3},{"$f":"IF(ISNUMBER(M59),CORREL($B$1:B59,$M$1:M59),\"\")","v":{"$error":"#N/A"}},{"$f":"Sheet3!W59","v":{"$error":"#N/A"}},{"$f":"IF(ISNUMBER(O59),CORREL($B$1:B59,$O$1:O59),\"\")","v":""},{"$f":"Sheet3!Y59","v":9.6159040570470127E-3},{"$f":"IF(ISNUMBER(Q59),CORREL($B$1:B59,$Q$1:Q59),\"\")","v":{"$error":"#N/A"}},{"$f":"Sheet3!AA59","v":4.2587601078166691E-3},{"$f":"IF(ISNUMBER(S59),CORREL($B$1:B59,$S$1:S59),\"\")","v":{"$error":"#N/A"}}]
[null,{"$f":"Sheet3!I60","v":{"$error":"#N/A"}},{"$f":"Sheet3!K60","v":1.6446668086012368E-2},{"$f":"IF(ISNUMBER(C60),CORREL($B$1:B60,$C$1:C60),\"\")","v":{"$error":"#N/A"}},{"$f":"Sheet3!M60","v":-1.0822169687417926E-2},{"$f":"IF(ISNUMBER(E60),CORREL($B$1:B60,$E$1:E60),\"\")","v":{"$error":"#N/A"}},{"$f":"Sheet3!O60","v":-8.3954244936522719E-4},{"$f":"IF(ISNUMBER(G60),CORREL($B$1:B60,$G$1:G60),\"\")","v":{"$error":"#N/A"}},{"$f":"Sheet3!Q60","v":1.1757195297121924E-2},{"$f":"IF(ISNUMBER(I60),CORREL($B$1:B60,$I$1:I60),\"\")","v":{"$error":"#N/A"}},{"$f":"Sheet3!S60","v":1.2081984897518773E-2},{"$f":"IF(ISNUMBER(K60),CORREL($B$1:B60,$K$1:K60),\"\")","v":{"$error":"#N/A"}},{"$f":"Sheet3!U60","v":9.0800347977382338E-3},{"$f":"IF(ISNUMBER(M60),CORREL($B$1:B60,$M$1:M60),\"\")","v":{"$error":"#N/A"}},{"$f":"Sheet3!W60","v":{"$error":"#N/A"}},{"$f":"IF(ISNUMBER(O60),CORREL($B$1:B60,$O$1:O60),\"\")","v":""},{"$f":"Sheet3!Y60","v":9.5078601912375934E-3},{"$f":"IF(ISNUMBER(Q60),CORREL($B$1:B60,$Q$1:Q60),\"\")","v":{"$error":"#N/A"}},{"$f":"Sheet3!AA60","v":4.6900269541779224E-3},{"$f":"IF(ISNUMBER(S60),CORREL($B$1:B60,$S$1:S60),\"\")","v":{"$error":"#N/A"}}]
[null,{"$f":"Sheet3!I61","v":{"$error":"#N/A"}},{"$f":"Sheet3!K61","v":1.6180540770704663E-2},{"$f":"IF(ISNUMBER(C61),CORREL($B$1:B61,$C$1:C61),\"\")","v":{"$error":"#N/A"}},{"$f":"Sheet3!M61","v":-1.1084843708957107E-2},{"$f":"IF(ISNUMBER(E61),CORREL($B$1:B61,$E$1:E61),\"\")","v":{"$error":"#N/A"}},{"$f":"Sheet3!O61","v":-9.4448525553576877E-4},{"$f":"IF(ISNUMBER(G61),CORREL($B$1:B61,$G$1:G61),\"\")","v":{"$error":"#N/A"}},{"$f":"Sheet3!Q61","v":1.1650795339681852E-2},{"$f":"IF(ISNUMBER(I61),CORREL($B$1:B61,$I$1:I61),\"\")","v":{"$error":"#N/A"}},{"$f":"Sheet3!S61","v":1.1866235167205979E-2},{"$f":"IF(ISNUMBER(K61),CORREL($B$1:B61,$K$1:K61),\"\")","v":{"$error":"#N/A"}},{"$f":"Sheet3!U61","v":9.460635058721233E-3},{"$f":"IF(ISNUMBER(M61),CORREL($B$1:B61,$M$1:M61),\"\")","v":{"$error":"#N/A"}},{"$f":"Sheet3!W61","v":{"$error":"#N/A"}},{"$f":"IF(ISNUMBER(O61),CORREL($B$1:B61,$O$1:O61),\"\")","v":""},{"$f":"Sheet3!Y61","v":9.5618821241423031E-3},{"$f":"IF(ISNUMBER(Q61),CORREL($B$1:B61,$Q$1:Q61),\"\")","v":{"$error":"#N/A"}},{"$f":"Sheet3!AA61","v":4.097035040431218E-3},{"$f":"IF(ISNUMBER(S61),CORREL($B$1:B61,$S$1:S61),\"\")","v":{"$error":"#N/A"}}]
[null,{"$f":"Sheet3!I62","v":{"$error":"#N/A"}},{"$f":"Sheet3!K62","v":1.5648286140089406E-2},{"$f":"IF(ISNUMBER(C62),CORREL($B$1:B62,$C$1:C62),\"\")","v":{"$error":"#N/A"}},{"$f":"Sheet3!M62","v":-1.1189913317572868E-2},{"$f":"IF(ISNUMBER(E62),CORREL($B$1:B62,$E$1:E62),\"\")","v":{"$error":"#N/A"}},{"$f":"Sheet3!O62","v":-1.1018994647917302E-3},{"$f":"IF(ISNUMBER(G62),CORREL($B$1:B62,$G$1:G62),\"\")","v":{"$error":"#N/A"}},{"$f":"Sheet3!Q62","v":1.1863595254561843E-2},{"$f":"IF(ISNUMBER(I62),CORREL($B$1:B62,$I$1:I62),\"\")","v":{"$error":"#N/A"}},{"$f":"Sheet3!S62","v":1.1003236245954649E-2},{"$f":"IF(ISNUMBER(K62),CORREL($B$1:B62,$K$1:K62),\"\")","v":{"$error":"#N/A"}},{"$f":"Sheet3!U62","v":9.4062635928665629E-3},{"$f":"IF(ISNUMBER(M62),CORREL($B$1:B62,$M$1:M62),\"\")","v":{"$error":"#N/A"}},{"$f":"Sheet3!W62","v":{"$error":"#N/A"}},{"$f":"IF(ISNUMBER(O62),CORREL($B$1:B62,$O$1:O62),\"\")","v":""},{"$f":"Sheet3!Y62","v":9.2917724596185986E-3},{"$f":"IF(ISNUMBER(Q62),CORREL($B$1:B62,$Q$1:Q62),\"\")","v":{"$error":"#N/A"}},{"$f":"Sheet3!AA62","v":4.2048517520215691E-3},{"$f":"IF(ISNUMBER(S62),CORREL($B$1:B62,$S$1:S62),\"\")","v":{"$error":"#N/A"}}]
[null,{"$f":"Sheet3!I63","v":{"$error":"#N/A"}},{"$f":"Sheet3!K63","v":1.5701511603151037E-2},{"$f":"IF(ISNUMBER(C63),CORREL($B$1:B63,$C$1:C63),\"\")","v":{"$error":"#N/A"}},{"$f":"Sheet3!M63","v":-1.0664565274494359E-2},{"$f":"IF(ISNUMBER(E63),CORREL($B$1:B63,$E$1:E63),\"\")","v":{"$error":"#N/A"}},{"$f":"Sheet3!O63","v":-1.5216706894743439E-3},{"$f":"IF(ISNUMBER(G63),CORREL($B$1:B63,$G$1:G63),\"\")","v":{"$error":"#N/A"}},{"$f":"Sheet3!Q63","v":1.2129595148161946E-2},{"$f":"IF(ISNUMBER(I63),CORREL($B$1:B63,$I$1:I63),\"\")","v":{"$error":"#N/A"}},{"$f":"Sheet3!S63","v":1.1650485436893185E-2},{"$f":"IF(ISNUMBER(K63),CORREL($B$1:B63,$K$1:K63),\"\")","v":{"$error":"#N/A"}},{"$f":"Sheet3!U63","v":8.8625489343193992E-3},{"$f":"IF(ISNUMBER(M63),CORREL($B$1:B63,$M$1:M63),\"\")","v":{"$error":"#N/A"}},{"$f":"Sheet3!W63","v":{"$error":"#N/A"}},{"$f":"IF(ISNUMBER(O63),CORREL($B$1:B63,$O$1:O63),\"\")","v":""},{"$f":"Sheet3!Y63","v":9.2377505267137346E-3},{"$f":"IF(ISNUMBER(Q63),CORREL($B$1:B63,$Q$1:Q63),\"\")","v":{"$error":"#N/A"}},{"$f":"Sheet3!AA63","v":3.9892183288410196E-3},{"$f":"IF(ISNUMBER(S63),CORREL($B$1:B63,$S$1:S63),\"\")","v":{"$error":"#N/A"}}]
[null,{"$f":"Sheet3!I64","v":{"$error":"#N/A"}},{"$f":"Sheet3!K64","v":1.5701511603151037E-2},{"$f":"IF(ISNUMBER(C64),CORREL($B$1:B64,$C$1:C64),\"\")","v":{"$error":"#N/A"}},{"$f":"Sheet3!M64","v":-1.092723929603354E-2},{"$f":"IF(ISNUMBER(E64),CORREL($B$1:B64,$E$1:E64),\"\")","v":{"$error":"#N/A"}},{"$f":"Sheet3!O64","v":-6.2965683702384588E-4},{"$f":"IF(ISNUMBER(G64),CORREL($B$1:B64,$G$1:G64),\"\")","v":{"$error":"#N/A"}},{"$f":"Sheet3!Q64","v":1.250199499920197E-2},{"$f":"IF(ISNUMBER(I64),CORREL($B$1:B64,$I$1:I64),\"\")","v":{"$error":"#N/A"}},{"$f":"Sheet3!S64","v":1.1974110032362453E-2},{"$f":"IF(ISNUMBER(K64),CORREL($B$1:B64,$K$1:K64),\"\")","v":{"$error":"#N/A"}},{"$f":"Sheet3!U64","v":9.1344062635929039E-3},{"$f":"IF(ISNUMBER(M64),CORREL($B$1:B64,$M$1:M64),\"\")","v":{"$error":"#N/A"}},{"$f":"Sheet3!W64","v":{"$error":"#N/A"}},{"$f":"IF(ISNUMBER(O64),CORREL($B$1:B64,$O$1:O64),\"\")","v":""},{"$f":"Sheet3!Y64","v":8.4814434660471782E-3},{"$f":"IF(ISNUMBER(Q64),CORREL($B$1:B64,$Q$1:Q64),\"\")","v":{"$error":"#N/A"}},{"$f":"Sheet3!AA64","v":4.3665768194070202E-3},{"$f":"IF(ISNUMBER(S64),CORREL($B$1:B64,$S$1:S64),\"\")","v":{"$error":"#N/A"}}]
[null,{"$f":"Sheet3!I65","v":{"$error":"#N/A"}},{"$f":"Sheet3!K65","v":1.6499893549073847E-2},{"$f":"IF(ISNUMBER(C65),CORREL($B$1:B65,$C$1:C65),\"\")","v":{"$error":"#N/A"}},{"$f":"Sheet3!M65","v":-1.092723929603354E-2},{"$f":"IF(ISNUMBER(E65),CORREL($B$1:B65,$E$1:E65),\"\")","v":{"$error":"#N/A"}},{"$f":"Sheet3!O65","v":-7.8707104627980732E-4},{"$f":"IF(ISNUMBER(G65),CORREL($B$1:B65,$G$1:G65),\"\")","v":{"$error":"#N/A"}},{"$f":"Sheet3!Q65","v":1.3033994786402025E-2},{"$f":"IF(ISNUMBER(I65),CORREL($B$1:B65,$I$1:I65),\"\")","v":{"$error":"#N/A"}},{"$f":"Sheet3!S65","v":1.181229773462782E-2},{"$f":"IF(ISNUMBER(K65),CORREL($B$1:B65,$K$1:K65),\"\")","v":{"$error":"#N/A"}},{"$f":"Sheet3!U65","v":9.1887777294477283E-3},{"$f":"IF(ISNUMBER(M65),CORREL($B$1:B65,$M$1:M65),\"\")","v":{"$error":"#N/A"}},{"$f":"Sheet3!W65","v":{"$error":"#N/A"}},{"$f":"IF(ISNUMBER(O65),CORREL($B$1:B65,$O$1:O65),\"\")","v":""},{"$f":"Sheet3!Y65","v":7.671114472475757E-3},{"$f":"IF(ISNUMBER(Q65),CORREL($B$1:B65,$Q$1:Q65),\"\")","v":{"$error":"#N/A"}},{"$f":"Sheet3!AA65","v":4.5283018867924713E-3},{"$f":"IF(ISNUMBER(S65),CORREL($B$1:B65,$S$1:S65),\"\")","v":{"$error":"#N/A"}}]
[null,{"$f":"Sheet3!I66","v":{"$error":"#N/A"}},{"$f":"Sheet3!K66","v":1.6925697253566144E-2},{"$f":"IF(ISNUMBER(C66),CORREL($B$1:B66,$C$1:C66),\"\")","v":{"$error":"#N/A"}},{"$f":"Sheet3!M66","v":-1.1242448121880674E-2},{"$f":"IF(ISNUMBER(E66),CORREL($B$1:B66,$E$1:E66),\"\")","v":{"$error":"#N/A"}},{"$f":"Sheet3!O66","v":0},{"$f":"IF(ISNUMBER(G66),CORREL($B$1:B66,$G$1:G66),\"\")","v":{"$error":"#N/A"}},{"$f":"Sheet3!Q66","v":1.3140394743842097E-2},{"$f":"IF(ISNUMBER(I66),CORREL($B$1:B66,$I$1:I66),\"\")","v":{"$error":"#N/A"}},{"$f":"Sheet3!S66","v":1.1974110032362453E-2},{"$f":"IF(ISNUMBER(K66),CORREL($B$1:B66,$K$1:K66),\"\")","v":{"$error":"#N/A"}},{"$f":"Sheet3!U66","v":9.515006524575903E-3},{"$f":"IF(ISNUMBER(M66),CORREL($B$1:B66,$M$1:M66),\"\")","v":{"$error":"#N/A"}},{"$f":"Sheet3!W66","v":{"$error":"#N/A"}},{"$f":"IF(ISNUMBER(O66),CORREL($B$1:B66,$O$1:O66),\"\")","v":""},{"$f":"Sheet3!Y66","v":6.9148074118090463E-3},{"$f":"IF(ISNUMBER(Q66),CORREL($B$1:B66,$Q$1:Q66),\"\")","v":{"$error":"#N/A"}},{"$f":"Sheet3!AA66","v":4.8517520215633726E-3},{"$f":"IF(ISNUMBER(S66),CORREL($B$1:B66,$S$1:S66),\"\")","v":{"$error":"#N/A"}}]
[null,{"$f":"Sheet3!I67","v":{"$error":"#N/A"}},{"$f":"Sheet3!K67","v":1.7191824568873845E-2},{"$f":"IF(ISNUMBER(C67),CORREL($B$1:B67,$C$1:C67),\"\")","v":{"$error":"#N/A"}},{"$f":"Sheet3!M67","v":-1.1610191752035766E-2},{"$f":"IF(ISNUMBER(E67),CORREL($B$1:B67,$E$1:E67),\"\")","v":{"$error":"#N/A"}},{"$f":"Sheet3!O67","v":3.1482841851177381E-4},{"$f":"IF(ISNUMBER(G67),CORREL($B$1:B67,$G$1:G67),\"\")","v":{"$error":"#N/A"}},{"$f":"Sheet3!Q67","v":1.2874394850241994E-2},{"$f":"IF(ISNUMBER(I67),CORREL($B$1:B67,$I$1:I67),\"\")","v":{"$error":"#N/A"}},{"$f":"Sheet3!S67","v":1.2837108953613783E-2},{"$f":"IF(ISNUMBER(K67),CORREL($B$1:B67,$K$1:K67),\"\")","v":{"$error":"#N/A"}},{"$f":"Sheet3!U67","v":1.0765550239234549E-2},{"$f":"IF(ISNUMBER(M67),CORREL($B$1:B67,$M$1:M67),\"\")","v":{"$error":"#N/A"}},{"$f":"Sheet3!W67","v":{"$error":"#N/A"}},{"$f":"IF(ISNUMBER(O67),CORREL($B$1:B67,$O$1:O67),\"\")","v":""},{"$f":"Sheet3!Y67","v":6.7527416130949165E-3},{"$f":"IF(ISNUMBER(Q67),CORREL($B$1:B67,$Q$1:Q67),\"\")","v":{"$error":"#N/A"}},{"$f":"Sheet3!AA67","v":4.7439353099730215E-3},{"$f":"IF(ISNUMBER(S67),CORREL($B$1:B67,$S$1:S67),\"\")","v":{"$error":"#N/A"}}]
[null,{"$f":"Sheet3!I68","v":{"$error":"#N/A"}},{"$f":"Sheet3!K68","v":1.6872471790504662E-2},{"$f":"IF(ISNUMBER(C68),CORREL($B$1:B68,$C$1:C68),\"\")","v":{"$error":"#N/A"}},{"$f":"Sheet3!M68","v":-1.0664565274494359E-2},{"$f":"IF(ISNUMBER(E68),CORREL($B$1:B68,$E$1:E68),\"\")","v":{"$error":"#N/A"}},{"$f":"Sheet3!O68","v":4.1977122468246446E-4},{"$f":"IF(ISNUMBER(G68),CORREL($B$1:B68,$G$1:G68),\"\")","v":{"$error":"#N/A"}},{"$f":"Sheet3!Q68","v":1.3353194658722088E-2},{"$f":"IF(ISNUMBER(I68),CORREL($B$1:B68,$I$1:I68),\"\")","v":{"$error":"#N/A"}},{"$f":"Sheet3!S68","v":1.3430420711974006E-2},{"$f":"IF(ISNUMBER(K68),CORREL($B$1:B68,$K$1:K68),\"\")","v":{"$error":"#N/A"}},{"$f":"Sheet3!U68","v":9.6781209221400676E-3},{"$f":"IF(ISNUMBER(M68),CORREL($B$1:B68,$M$1:M68),\"\")","v":{"$error":"#N/A"}},{"$f":"Sheet3!W68","v":{"$error":"#N/A"}},{"$f":"IF(ISNUMBER(O68),CORREL($B$1:B68,$O$1:O68),\"\")","v":""},{"$f":"Sheet3!Y68","v":7.2929609421424789E-3},{"$f":"IF(ISNUMBER(Q68),CORREL($B$1:B68,$Q$1:Q68),\"\")","v":{"$error":"#N/A"}},{"$f":"Sheet3!AA68","v":4.7439353099730215E-3},{"$f":"IF(ISNUMBER(S68),CORREL($B$1:B68,$S$1:S68),\"\")","v":{"$error":"#N/A"}}]
[null,{"$f":"Sheet3!I69","v":{"$error":"#N/A"}},{"$f":"Sheet3!K69","v":1.6233766233766295E-2},{"$f":"IF(ISNUMBER(C69),CORREL($B$1:B69,$C$1:C69),\"\")","v":{"$error":"#N/A"}},{"$f":"Sheet3!M69","v":-1.1505122143420005E-2},{"$f":"IF(ISNUMBER(E69),CORREL($B$1:B69,$E$1:E69),\"\")","v":{"$error":"#N/A"}},{"$f":"Sheet3!O69","v":7.3459964319438735E-4},{"$f":"IF(ISNUMBER(G69),CORREL($B$1:B69,$G$1:G69),\"\")","v":{"$error":"#N/A"}},{"$f":"Sheet3!Q69","v":1.3087194765122136E-2},{"$f":"IF(ISNUMBER(I69),CORREL($B$1:B69,$I$1:I69),\"\")","v":{"$error":"#N/A"}},{"$f":"Sheet3!S69","v":1.3592233009708639E-2},{"$f":"IF(ISNUMBER(K69),CORREL($B$1:B69,$K$1:K69),\"\")","v":{"$error":"#N/A"}},{"$f":"Sheet3!U69","v":9.6781209221400676E-3},{"$f":"IF(ISNUMBER(M69),CORREL($B$1:B69,$M$1:M69),\"\")","v":{"$error":"#N/A"}},{"$f":"Sheet3!W69","v":{"$error":"#N/A"}},{"$f":"IF(ISNUMBER(O69),CORREL($B$1:B69,$O$1:O69),\"\")","v":""},{"$f":"Sheet3!Y69","v":7.5630706066661833E-3},{"$f":"IF(ISNUMBER(Q69),CORREL($B$1:B69,$Q$1:Q69),\"\")","v":{"$error":"#N/A"}},{"$f":"Sheet3!AA69","v":3.9892183288410196E-3},{"$f":"IF(ISNUMBER(S69),CORREL($B$1:B69,$S$1:S69),\"\")","v":{"$error":"#N/A"}}]
[null,{"$f":"Sheet3!I70","v":{"$error":"#N/A"}},{"$f":"Sheet3!K70","v":1.6499893549073847E-2},{"$f":"IF(ISNUMBER(C70),CORREL($B$1:B70,$C$1:C70),\"\")","v":{"$error":"#N/A"}},{"$f":"Sheet3!M70","v":-1.1557656947727811E-2},{"$f":"IF(ISNUMBER(E70),CORREL($B$1:B70,$E$1:E70),\"\")","v":{"$error":"#N/A"}},{"$f":"Sheet3!O70","v":9.9695665862103945E-4},{"$f":"IF(ISNUMBER(G70),CORREL($B$1:B70,$G$1:G70),\"\")","v":{"$error":"#N/A"}},{"$f":"Sheet3!Q70","v":1.2874394850241994E-2},{"$f":"IF(ISNUMBER(I70),CORREL($B$1:B70,$I$1:I70),\"\")","v":{"$error":"#N/A"}},{"$f":"Sheet3!S70","v":1.3538295577130479E-2},{"$f":"IF(ISNUMBER(K70),CORREL($B$1:B70,$K$1:K70),\"\")","v":{"$error":"#N/A"}},{"$f":"Sheet3!U70","v":1.0113092648977891E-2},{"$f":"IF(ISNUMBER(M70),CORREL($B$1:B70,$M$1:M70),\"\")","v":{"$error":"#N/A"}},{"$f":"Sheet3!W70","v":{"$error":"#N/A"}},{"$f":"IF(ISNUMBER(O70),CORREL($B$1:B70,$O$1:O70),\"\")","v":""},{"$f":"Sheet3!Y70","v":7.8331802711900413E-3},{"$f":"IF(ISNUMBER(Q70),CORREL($B$1:B70,$Q$1:Q70),\"\")","v":{"$error":"#N/A"}},{"$f":"Sheet3!AA70","v":4.1509433962264699E-3},{"$f":"IF(ISNUMBER(S70),CORREL($B$1:B70,$S$1:S70),\"\")","v":{"$error":"#N/A"}}]
[null,{"$f":"Sheet3!I71","v":{"$error":"#N/A"}},{"$f":"Sheet3!K71","v":1.5328933361720223E-2},{"$f":"IF(ISNUMBER(C71),CORREL($B$1:B71,$C$1:C71),\"\")","v":{"$error":"#N/A"}},{"$f":"Sheet3!M71","v":-1.2398213816653455E-2},{"$f":"IF(ISNUMBER(E71),CORREL($B$1:B71,$E$1:E71),\"\")","v":{"$error":"#N/A"}},{"$f":"Sheet3!O71","v":9.4448525553561958E-4},{"$f":"IF(ISNUMBER(G71),CORREL($B$1:B71,$G$1:G71),\"\")","v":{"$error":"#N/A"}},{"$f":"Sheet3!Q71","v":1.3246794701282169E-2},{"$f":"IF(ISNUMBER(I71),CORREL($B$1:B71,$I$1:I71),\"\")","v":{"$error":"#N/A"}},{"$f":"Sheet3!S71","v":1.4670981661272916E-2},{"$f":"IF(ISNUMBER(K71),CORREL($B$1:B71,$K$1:K71),\"\")","v":{"$error":"#N/A"}},{"$f":"Sheet3!U71","v":9.1344062635929039E-3},{"$f":"IF(ISNUMBER(M71),CORREL($B$1:B71,$M$1:M71),\"\")","v":{"$error":"#N/A"}},{"$f":"Sheet3!W71","v":{"$error":"#N/A"}},{"$f":"IF(ISNUMBER(O71),CORREL($B$1:B71,$O$1:O71),\"\")","v":""},{"$f":"Sheet3!Y71","v":8.8055750634757467E-3},{"$f":"IF(ISNUMBER(Q71),CORREL($B$1:B71,$Q$1:Q71),\"\")","v":{"$error":"#N/A"}},{"$f":"Sheet3!AA71","v":4.097035040431218E-3},{"$f":"IF(ISNUMBER(S71),CORREL($B$1:B71,$S$1:S71),\"\")","v":{"$error":"#N/A"}}]
[null,{"$f":"Sheet3!I72","v":{"$error":"#N/A"}},{"$f":"Sheet3!K72","v":1.6127315307643181E-2},{"$f":"IF(ISNUMBER(C72),CORREL($B$1:B72,$C$1:C72),\"\")","v":{"$error":"#N/A"}},{"$f":"Sheet3!M72","v":-1.2765957446808546E-2},{"$f":"IF(ISNUMBER(E72),CORREL($B$1:B72,$E$1:E72),\"\")","v":{"$error":"#N/A"}},{"$f":"Sheet3!O72","v":3.1482841851177381E-4},{"$f":"IF(ISNUMBER(G72),CORREL($B$1:B72,$G$1:G72),\"\")","v":{"$error":"#N/A"}},{"$f":"Sheet3!Q72","v":1.3353194658722088E-2},{"$f":"IF(ISNUMBER(I72),CORREL($B$1:B72,$I$1:I72),\"\")","v":{"$error":"#N/A"}},{"$f":"Sheet3!S72","v":1.5803667745415355E-2},{"$f":"IF(ISNUMBER(K72),CORREL($B$1:B72,$K$1:K72),\"\")","v":{"$error":"#N/A"}},{"$f":"Sheet3!U72","v":8.7538060026099047E-3},{"$f":"IF(ISNUMBER(M72),CORREL($B$1:B72,$M$1:M72),\"\")","v":{"$error":"#N/A"}},{"$f":"Sheet3!W72","v":{"$error":"#N/A"}},{"$f":"IF(ISNUMBER(O72),CORREL($B$1:B72,$O$1:O72),\"\")","v":""},{"$f":"Sheet3!Y72","v":9.5078601912375934E-3},{"$f":"IF(ISNUMBER(Q72),CORREL($B$1:B72,$Q$1:Q72),\"\")","v":{"$error":"#N/A"}},{"$f":"Sheet3!AA72","v":3.7735849056603162E-3},{"$f":"IF(ISNUMBER(S72),CORREL($B$1:B72,$S$1:S72),\"\")","v":{"$error":"#N/A"}}]
[null,{"$f":"Sheet3!I73","v":{"$error":"#N/A"}},{"$f":"Sheet3!K73","v":1.6180540770704663E-2},{"$f":"IF(ISNUMBER(C73),CORREL($B$1:B73,$C$1:C73),\"\")","v":{"$error":"#N/A"}},{"$f":"Sheet3!M73","v":-1.2765957446808546E-2},{"$f":"IF(ISNUMBER(E73),CORREL($B$1:B73,$E$1:E73),\"\")","v":{"$error":"#N/A"}},{"$f":"Sheet3!O73","v":9.9695665862103945E-4},{"$f":"IF(ISNUMBER(G73),CORREL($B$1:B73,$G$1:G73),\"\")","v":{"$error":"#N/A"}},{"$f":"Sheet3!Q73","v":1.2927594828962104E-2},{"$f":"IF(ISNUMBER(I73),CORREL($B$1:B73,$I$1:I73),\"\")","v":{"$error":"#N/A"}},{"$f":"Sheet3!S73","v":1.5533980582524247E-2},{"$f":"IF(ISNUMBER(K73),CORREL($B$1:B73,$K$1:K73),\"\")","v":{"$error":"#N/A"}},{"$f":"Sheet3!U73","v":9.6237494562853975E-3},{"$f":"IF(ISNUMBER(M73),CORREL($B$1:B73,$M$1:M73),\"\")","v":{"$error":"#N/A"}},{"$f":"Sheet3!W73","v":{"$error":"#N/A"}},{"$f":"IF(ISNUMBER(O73),CORREL($B$1:B73,$O$1:O73),\"\")","v":""},{"$f":"Sheet3!Y73","v":9.0756847279994512E-3},{"$f":"IF(ISNUMBER(Q73),CORREL($B$1:B73,$Q$1:Q73),\"\")","v":{"$error":"#N/A"}},{"$f":"Sheet3!AA73","v":3.2884097035041165E-3},{"$f":"IF(ISNUMBER(S73),CORREL($B$1:B73,$S$1:S73),\"\")","v":{"$error":"#N/A"}}]
[null,{"$f":"Sheet3!I74","v":{"$error":"#N/A"}},{"$f":"Sheet3!K74","v":1.596763891845859E-2},{"$f":"IF(ISNUMBER(C74),CORREL($B$1:B74,$C$1:C74),\"\")","v":{"$error":"#N/A"}},{"$f":"Sheet3!M74","v":-1.2398213816653455E-2},{"$f":"IF(ISNUMBER(E74),CORREL($B$1:B74,$E$1:E74),\"\")","v":{"$error":"#N/A"}},{"$f":"Sheet3!O74","v":7.8707104627965814E-4},{"$f":"IF(ISNUMBER(G74),CORREL($B$1:B74,$G$1:G74),\"\")","v":{"$error":"#N/A"}},{"$f":"Sheet3!Q74","v":1.3565994573602231E-2},{"$f":"IF(ISNUMBER(I74),CORREL($B$1:B74,$I$1:I74),\"\")","v":{"$error":"#N/A"}},{"$f":"Sheet3!S74","v":1.5911542610571674E-2},{"$f":"IF(ISNUMBER(K74),CORREL($B$1:B74,$K$1:K74),\"\")","v":{"$error":"#N/A"}},{"$f":"Sheet3!U74","v":8.9169204001740693E-3},{"$f":"IF(ISNUMBER(M74),CORREL($B$1:B74,$M$1:M74),\"\")","v":{"$error":"#N/A"}},{"$f":"Sheet3!W74","v":{"$error":"#N/A"}},{"$f":"IF(ISNUMBER(O74),CORREL($B$1:B74,$O$1:O74),\"\")","v":""},{"$f":"Sheet3!Y74","v":1.021014531899944E-2},{"$f":"IF(ISNUMBER(Q74),CORREL($B$1:B74,$Q$1:Q74),\"\")","v":{"$error":"#N/A"}},{"$f":"Sheet3!AA74","v":2.4797843665768622E-3},{"$f":"IF(ISNUMBER(S74),CORREL($B$1:B74,$S$1:S74),\"\")","v":{"$error":"#N/A"}}]
[null,{"$f":"Sheet3!I75","v":{"$error":"#N/A"}},{"$f":"Sheet3!K75","v":1.596763891845859E-2},{"$f":"IF(ISNUMBER(C75),CORREL($B$1:B75,$C$1:C75),\"\")","v":{"$error":"#N/A"}},{"$f":"Sheet3!M75","v":-1.3238770685579101E-2},{"$f":"IF(ISNUMBER(E75),CORREL($B$1:B75,$E$1:E75),\"\")","v":{"$error":"#N/A"}},{"$f":"Sheet3!O75","v":-1.5741420925596147E-4},{"$f":"IF(ISNUMBER(G75),CORREL($B$1:B75,$G$1:G75),\"\")","v":{"$error":"#N/A"}},{"$f":"Sheet3!Q75","v":1.3885194445922294E-2},{"$f":"IF(ISNUMBER(I75),CORREL($B$1:B75,$I$1:I75),\"\")","v":{"$error":"#N/A"}},{"$f":"Sheet3!S75","v":1.4724919093851077E-2},{"$f":"IF(ISNUMBER(K75),CORREL($B$1:B75,$K$1:K75),\"\")","v":{"$error":"#N/A"}},{"$f":"Sheet3!U75","v":9.2975206611570684E-3},{"$f":"IF(ISNUMBER(M75),CORREL($B$1:B75,$M$1:M75),\"\")","v":{"$error":"#N/A"}},{"$f":"Sheet3!W75","v":{"$error":"#N/A"}},{"$f":"IF(ISNUMBER(O75),CORREL($B$1:B75,$O$1:O75),\"\")","v":""},{"$f":"Sheet3!Y75","v":1.021014531899944E-2},{"$f":"IF(ISNUMBER(Q75),CORREL($B$1:B75,$Q$1:Q75),\"\")","v":{"$error":"#N/A"}},{"$f":"Sheet3!AA75","v":3.5040431266846668E-3},{"$f":"IF(ISNUMBER(S75),CORREL($B$1:B75,$S$1:S75),\"\")","v":{"$error":"#N/A"}}]
[null,{"$f":"Sheet3!I76","v":{"$error":"#N/A"}},{"$f":"Sheet3!K76","v":1.6286991696827773E-2},{"$f":"IF(ISNUMBER(C76),CORREL($B$1:B76,$C$1:C76),\"\")","v":{"$error":"#N/A"}},{"$f":"Sheet3!M76","v":-1.2345679012345649E-2},{"$f":"IF(ISNUMBER(E76),CORREL($B$1:B76,$E$1:E76),\"\")","v":{"$error":"#N/A"}},{"$f":"Sheet3!O76","v":-1.4691992863889239E-3},{"$f":"IF(ISNUMBER(G76),CORREL($B$1:B76,$G$1:G76),\"\")","v":{"$error":"#N/A"}},{"$f":"Sheet3!Q76","v":1.4097994360802286E-2},{"$f":"IF(ISNUMBER(I76),CORREL($B$1:B76,$I$1:I76),\"\")","v":{"$error":"#N/A"}},{"$f":"Sheet3!S76","v":1.2405609492988041E-2},{"$f":"IF(ISNUMBER(K76),CORREL($B$1:B76,$K$1:K76),\"\")","v":{"$error":"#N/A"}},{"$f":"Sheet3!U76","v":8.6450630709004102E-3},{"$f":"IF(ISNUMBER(M76),CORREL($B$1:B76,$M$1:M76),\"\")","v":{"$error":"#N/A"}},{"$f":"Sheet3!W76","v":{"$error":"#N/A"}},{"$f":"IF(ISNUMBER(O76),CORREL($B$1:B76,$O$1:O76),\"\")","v":""},{"$f":"Sheet3!Y76","v":9.9400356544755812E-3},{"$f":"IF(ISNUMBER(Q76),CORREL($B$1:B76,$Q$1:Q76),\"\")","v":{"$error":"#N/A"}},{"$f":"Sheet3!AA76","v":2.5336927223719614E-3},{"$f":"IF(ISNUMBER(S76),CORREL($B$1:B76,$S$1:S76),\"\")","v":{"$error":"#N/A"}}]
[null,{"$f":"Sheet3!I77","v":{"$error":"#N/A"}},{"$f":"Sheet3!K77","v":1.5861187992335629E-2},{"$f":"IF(ISNUMBER(C77),CORREL($B$1:B77,$C$1:C77),\"\")","v":{"$error":"#N/A"}},{"$f":"Sheet3!M77","v":-1.3291305489887056E-2},{"$f":"IF(ISNUMBER(E77),CORREL($B$1:B77,$E$1:E77),\"\")","v":{"$error":"#N/A"}},{"$f":"Sheet3!O77","v":-6.8212824010926575E-4},{"$f":"IF(ISNUMBER(G77),CORREL($B$1:B77,$G$1:G77),\"\")","v":{"$error":"#N/A"}},{"$f":"Sheet3!Q77","v":1.345959461616216E-2},{"$f":"IF(ISNUMBER(I77),CORREL($B$1:B77,$I$1:I77),\"\")","v":{"$error":"#N/A"}},{"$f":"Sheet3!S77","v":1.3214670981661212E-2},{"$f":"IF(ISNUMBER(K77),CORREL($B$1:B77,$K$1:K77),\"\")","v":{"$error":"#N/A"}},{"$f":"Sheet3!U77","v":8.5906916050457402E-3},{"$f":"IF(ISNUMBER(M77),CORREL($B$1:B77,$M$1:M77),\"\")","v":{"$error":"#N/A"}},{"$f":"Sheet3!W77","v":{"$error":"#N/A"}},{"$f":"IF(ISNUMBER(O77),CORREL($B$1:B77,$O$1:O77),\"\")","v":""},{"$f":"Sheet3!Y77","v":1.0426233050618433E-2},{"$f":"IF(ISNUMBER(Q77),CORREL($B$1:B77,$Q$1:Q77),\"\")","v":{"$error":"#N/A"}},{"$f":"Sheet3!AA77","v":1.0781671159029037E-3},{"$f":"IF(ISNUMBER(S77),CORREL($B$1:B77,$S$1:S77),\"\")","v":{"$error":"#N/A"}}]
[null,{"$f":"Sheet3!I78","v":{"$error":"#N/A"}},{"$f":"Sheet3!K78","v":1.7191824568873845E-2},{"$f":"IF(ISNUMBER(C78),CORREL($B$1:B78,$C$1:C78),\"\")","v":{"$error":"#N/A"}},{"$f":"Sheet3!M78","v":-1.2976096664039921E-2},{"$f":"IF(ISNUMBER(E78),CORREL($B$1:B78,$E$1:E78),\"\")","v":{"$error":"#N/A"}},{"$f":"Sheet3!O78","v":-1.206842270962421E-3},{"$f":"IF(ISNUMBER(G78),CORREL($B$1:B78,$G$1:G78),\"\")","v":{"$error":"#N/A"}},{"$f":"Sheet3!Q78","v":1.3885194445922294E-2},{"$f":"IF(ISNUMBER(I78),CORREL($B$1:B78,$I$1:I78),\"\")","v":{"$error":"#N/A"}},{"$f":"Sheet3!S78","v":1.3861920172599747E-2},{"$f":"IF(ISNUMBER(K78),CORREL($B$1:B78,$K$1:K78),\"\")","v":{"$error":"#N/A"}},{"$f":"Sheet3!U78","v":8.0469769464985765E-3},{"$f":"IF(ISNUMBER(M78),CORREL($B$1:B78,$M$1:M78),\"\")","v":{"$error":"#N/A"}},{"$f":"Sheet3!W78","v":{"$error":"#N/A"}},{"$f":"IF(ISNUMBER(O78),CORREL($B$1:B78,$O$1:O78),\"\")","v":""},{"$f":"Sheet3!Y78","v":1.1182540111285144E-2},{"$f":"IF(ISNUMBER(Q78),CORREL($B$1:B78,$Q$1:Q78),\"\")","v":{"$error":"#N/A"}},{"$f":"Sheet3!AA78","v":-2.1024258760107082E-3},{"$f":"IF(ISNUMBER(S78),CORREL($B$1:B78,$S$1:S78),\"\")","v":{"$error":"#N/A"}}]
[null,{"$f":"Sheet3!I79","v":{"$error":"#N/A"}},{"$f":"Sheet3!K79","v":{"$error":"#N/A"}},{"$f":"IF(ISNUMBER(C79),CORREL($B$1:B79,$C$1:C79),\"\")","v":""},{"$f":"Sheet3!M79","v":{"$error":"#N/A"}},{"$f":"IF(ISNUMBER(E79),CORREL($B$1:B79,$E$1:E79),\"\")","v":""},{"$f":"Sheet3!O79","v":{"$error":"#N/A"}},{"$f":"IF(ISNUMBER(G79),CORREL($B$1:B79,$G$1:G79),\"\")","v":""},{"$f":"Sheet3!Q79","v":{"$error":"#N/A"}},{"$f":"IF(ISNUMBER(I79),CORREL($B$1:B79,$I$1:I79),\"\")","v":""},{"$f":"Sheet3!S79","v":{"$error":"#N/A"}},{"$f":"IF(ISNUMBER(K79),CORREL($B$1:B79,$K$1:K79),\"\")","v":""},{"$f":"Sheet3!U79","v":{"$error":"#N/A"}},{"$f":"IF(ISNUMBER(M79),CORREL($B$1:B79,$M$1:M79),\"\")","v":""},{"$f":"Sheet3!W79","v":{"$error":"#N/A"}},{"$f":"IF(ISNUMBER(O79),CORREL($B$1:B79,$O$1:O79),\"\")","v":""},{"$f":"Sheet3!Y79","v":{"$error":"#N/A"}},{"$f":"IF(ISNUMBER(Q79),CORREL($B$1:B79,$Q$1:Q79),\"\")","v":""},{"$f":"Sheet3!AA79","v":{"$error":"#N/A"}},{"$f":"IF(ISNUMBER(S79),CORREL($B$1:B79,$S$1:S79),\"\")","v":""}]
[null,{"$f":"Sheet3!I80","v":{"$error":"#N/A"}},{"$f":"Sheet3!K80","v":{"$error":"#N/A"}},{"$f":"IF(ISNUMBER(C80),CORREL($B$1:B80,$C$1:C80),\"\")","v":""},{"$f":"Sheet3!M80","v":{"$error":"#N/A"}},{"$f":"IF(ISNUMBER(E80),CORREL($B$1:B80,$E$1:E80),\"\")","v":""},{"$f":"Sheet3!O80","v":{"$error":"#N/A"}},{"$f":"IF(ISNUMBER(G80),CORREL($B$1:B80,$G$1:G80),\"\")","v":""},{"$f":"Sheet3!Q80","v":{"$error":"#N/A"}},{"$f":"IF(ISNUMBER(I80),CORREL($B$1:B80,$I$1:I80),\"\")","v":""},{"$f":"Sheet3!S80","v":{"$error":"#N/A"}},{"$f":"IF(ISNUMBER(K80),CORREL($B$1:B80,$K$1:K80),\"\")","v":""},{"$f":"Sheet3!U80","v":{"$error":"#N/A"}},{"$f":"IF(ISNUMBER(M80),CORREL($B$1:B80,$M$1:M80),\"\")","v":""},{"$f":"Sheet3!W80","v":{"$error":"#N/A"}},{"$f":"IF(ISNUMBER(O80),CORREL($B$1:B80,$O$1:O80),\"\")","v":""},{"$f":"Sheet3!Y80","v":{"$error":"#N/A"}},{"$f":"IF(ISNUMBER(Q80),CORREL($B$1:B80,$Q$1:Q80),\"\")","v":""},{"$f":"Sheet3!AA80","v":{"$error":"#N/A"}},{"$f":"IF(ISNUMBER(S80),CORREL($B$1:B80,$S$1:S80),\"\")","v":""}]
[null,{"$f":"Sheet3!I81","v":{"$error":"#N/A"}},{"$f":"Sheet3!K81","v":{"$error":"#N/A"}},{"$f":"IF(ISNUMBER(C81),CORREL($B$1:B81,$C$1:C81),\"\")","v":""},{"$f":"Sheet3!M81","v":{"$error":"#N/A"}},{"$f":"IF(ISNUMBER(E81),CORREL($B$1:B81,$E$1:E81),\"\")","v":""},{"$f":"Sheet3!O81","v":{"$error":"#N/A"}},{"$f":"IF(ISNUMBER(G81),CORREL($B$1:B81,$G$1:G81),\"\")","v":""},{"$f":"Sheet3!Q81","v":{"$error":"#N/A"}},{"$f":"IF(ISNUMBER(I81),CORREL($B$1:B81,$I$1:I81),\"\")","v":""},{"$f":"Sheet3!S81","v":{"$error":"#N/A"}},{"$f":"IF(ISNUMBER(K81),CORREL($B$1:B81,$K$1:K81),\"\")","v":""},{"$f":"Sheet3!U81","v":{"$error":"#N/A"}},{"$f":"IF(ISNUMBER(M81),CORREL($B$1:B81,$M$1:M81),\"\")","v":""},{"$f":"Sheet3!W81","v":{"$error":"#N/A"}},{"$f":"IF(ISNUMBER(O81),CORREL($B$1:B81,$O$1:O81),\"\")","v":""},{"$f":"Sheet3!Y81","v":{"$error":"#N/A"}},{"$f":"IF(ISNUMBER(Q81),CORREL($B$1:B81,$Q$1:Q81),\"\")","v":""},{"$f":"Sheet3!AA81","v":{"$error":"#N/A"}},{"$f":"IF(ISNUMBER(S81),CORREL($B$1:B81,$S$1:S81),\"\")","v":""}]
[null,null,null,{"$f":"Sheet3!C2","v":"2018-07-12"},null,{"$f":"Sheet3!C3","v":"2018-07-11"},null,{"$f":"Sheet3!C4","v":"2018-07-10"},null,{"$f":"Sheet3!C5","v":"2018-07-09"},null,{"$f":"Sheet3!C6","v":"2018-07-06"},null,{"$f":"Sheet3!C7","v":"2018-07-05"},null,{"$f":"Sheet3!C8","v":"2018-07-03"},null,{"$f":"Sheet3!C9","v":"2018-07-02"},null,{"$f":"Sheet3!C10","v":"2018-06-29"}]
[null,null,null,{"$f":"IF(ISNUMBER(INDIRECT(\"D\"&(Sheet3!$AE$83)+1))=FALSE,\"\",LOOKUP(2,1/(ISNUMBER(D1:D78)),D1:D78))","v":0.27654400555768593},null,{"$f":"IF(ISNUMBER(INDIRECT(\"F\"&(Sheet3!$AE$83)+1))=FALSE,\"\",LOOKUP(2,1/(ISNUMBER(F1:F78)),F1:F78))","v":-0.29100719110847545},null,{"$f":"IF(ISNUMBER(INDIRECT(\"H\"&(Sheet3!$AE$83)+1))=FALSE,\"\",LOOKUP(2,1/(ISNUMBER(H1:H78)),H1:H78))","v":9.8875842033449943E-2},null,{"$f":"IF(ISNUMBER(INDIRECT(\"J\"&(Sheet3!$AE$83)+1))=FALSE,\"\",LOOKUP(2,1/(ISNUMBER(J1:J78)),J1:J78))","v":-5.4002319763576945E-2},null,{"$f":"IF(ISNUMBER(INDIRECT(\"L\"&(Sheet3!$AE$83)+1))=FALSE,\"\",LOOKUP(2,1/(ISNUMBER(L1:L78)),L1:L78))","v":-9.3011611698789437E-2},null,{"$f":"IF(ISNUMBER(INDIRECT(\"N\"&(Sheet3!$AE$83)+1))=FALSE,\"\",LOOKUP(2,1/(ISNUMBER(N1:N78)),N1:N78))","v":-0.27705020078843662},null,{"$f":"IF(ISNUMBER(INDIRECT(\"P\"&(Sheet3!$AE$83)+1))=FALSE,\"\",LOOKUP(2,1/(ISNUMBER(P1:P78)),P1:P78))","v":8.3634691932953517E-2},null,{"$f":"IF(ISNUMBER(INDIRECT(\"R\"&(Sheet3!$AE$83)+1))=FALSE,\"\",LOOKUP(2,1/(ISNUMBER(R1:R78)),R1:R78))","v":0.46540638718597171},null,{"$f":"IF(ISNUMBER(INDIRECT(\"T\"&(Sheet3!$AE$83)+1))=FALSE,\"\",LOOKUP(2,1/(ISNUMBER(T1:T78)),T1:T78))","v":-0.46636632271943024}]
[]
[null,null,{"$f":"RANK(D85,$D$85:$D$93,0)+COUNTIF($D$85:D85,D85)-1","v":2},{"$f":"D83","v":0.27654400555768593},{"$f":"D82","v":"2018-07-12"},{"$f":"RANK(D85,$D$85:$D$93,0)+COUNTIF($D$85:D85,D85)-1","v":2},{"$f":"VLOOKUP(1,C85:E93,3,FALSE)","v":"2018-07-02"},{"$f":"VLOOKUP(1,C85:E93,2,FALSE)","v":0.46540638718597171},{"$f":"IFERROR(VLOOKUP(G85,Sheet3!AK1:AN10,4,FALSE),1)","v":8}]
[null,null,{"$f":"RANK(D86,$D$85:$D$93,0)+COUNTIF($D$85:D86,D86)-1","v":8},{"$f":"F83","v":-0.29100719110847545},{"$f":"F82","v":"2018-07-11"},{"$f":"RANK(D86,$D$85:$D$93,0)+COUNTIF($D$85:D86,D86)-1","v":8},{"$f":"VLOOKUP(2,C85:E93,3,FALSE)","v":"2018-07-12"},{"$f":"VLOOKUP(2,C85:E93,2,FALSE)","v":0.27654400555768593}]
[null,null,{"$f":"RANK(D87,$D$85:$D$93,0)+COUNTIF($D$85:D87,D87)-1","v":3},{"$f":"H83","v":9.8875842033449943E-2},{"$f":"H82","v":"2018-07-10"},{"$f":"RANK(D87,$D$85:$D$93,0)+COUNTIF($D$85:D87,D87)-1","v":3},{"$f":"VLOOKUP(3,C85:E93,3,FALSE)","v":"2018-07-10"},{"$f":"VLOOKUP(3,C85:E93,2,FALSE)","v":9.8875842033449943E-2}]
[null,null,{"$f":"RANK(D88,$D$85:$D$93,0)+COUNTIF($D$85:D88,D88)-1","v":5},{"$f":"J83","v":-5.4002319763576945E-2},{"$f":"J82","v":"2018-07-09"},{"$f":"RANK(D88,$D$85:$D$93,0)+COUNTIF($D$85:D88,D88)-1","v":5},{"$f":"VLOOKUP(4,C85:E93,3,FALSE)","v":"2018-07-03"},{"$f":"VLOOKUP(4,C85:E93,2,FALSE)","v":8.3634691932953517E-2}]
[null,null,{"$f":"RANK(D89,$D$85:$D$93,0)+COUNTIF($D$85:D89,D89)-1","v":6},{"$f":"L83","v":-9.3011611698789437E-2},{"$f":"L82","v":"2018-07-06"},{"$f":"RANK(D89,$D$85:$D$93,0)+COUNTIF($D$85:D89,D89)-1","v":6},{"$f":"VLOOKUP(5,C85:E93,3,FALSE)","v":"2018-07-09"},{"$f":"VLOOKUP(5,C85:E93,2,FALSE)","v":-5.4002319763576945E-2}]
[null,null,{"$f":"RANK(D90,$D$85:$D$93,0)+COUNTIF($D$85:D90,D90)-1","v":7},{"$f":"N83","v":-0.27705020078843662},{"$f":"N82","v":"2018-07-05"},{"$f":"RANK(D90,$D$85:$D$93,0)+COUNTIF($D$85:D90,D90)-1","v":7},{"$f":"VLOOKUP(6,C85:E93,3,FALSE)","v":"2018-07-06"},{"$f":"VLOOKUP(6,C85:E93,2,FALSE)","v":-9.3011611698789437E-2}]
[null,null,{"$f":"RANK(D91,$D$85:$D$93,0)+COUNTIF($D$85:D91,D91)-1","v":4},{"$f":"P83","v":8.3634691932953517E-2},{"$f":"P82","v":"2018-07-03"},{"$f":"RANK(D91,$D$85:$D$93,0)+COUNTIF($D$85:D91,D91)-1","v":4},{"$f":"VLOOKUP(7,C85:E93,3,FALSE)","v":"2018-07-05"},{"$f":"VLOOKUP(7,C85:E93,2,FALSE)","v":-0.27705020078843662}]
[null,null,{"$f":"RANK(D92,$D$85:$D$93,0)+COUNTIF($D$85:D92,D92)-1","v":1},{"$f":"R83","v":0.46540638718597171},{"$f":"R82","v":"2018-07-02"},{"$f":"RANK(D92,$D$85:$D$93,0)+COUNTIF($D$85:D92,D92)-1","v":1},{"$f":"VLOOKUP(8,C85:E93,3,FALSE)","v":"2018-07-11"},{"$f":"VLOOKUP(8,C85:E93,2,FALSE)","v":-0.29100719110847545}]
[null,null,{"$f":"RANK(D93,$D$85:$D$93,0)+COUNTIF($D$85:D93,D93)-1","v":9},{"$f":"T83","v":-0.46636632271943024},{"$f":"T82","v":"2018-06-29"},{"$f":"RANK(D93,$D$85:$D$93,0)+COUNTIF($D$85:D93,D93)-1","v":9},{"$f":"VLOOKUP(9,C85:E93,3,FALSE)","v":"2018-06-29"},{"$f":"VLOOKUP(9,C85:E93,2,FALSE)","v":-0.46636632271943024}]

{"sheet":"Sheet3 (2)","index":3,"n_rows":83,"n_cols":40,"rows_kept":83,"cut":false,"hidden":true,"merged":[]}
[0,"08:30:00",{"$f":" RTD(\"cqg.rtd\",,\"StudyData\",$D$12, \"Bar\", \"\", \"Time\",\"D\",\"0\",,,,,\"T\")","v":"2018-07-13"},{"$f":"YEAR(C1)","v":2018},{"$f":"MONTH(C1)","v":7},{"$f":"DAY(C1)","v":13},null,{"$f":"RTD(\"cqg.rtd\",,\"StudyData\", \"Close(\"&$D$12&\") when LocalYear(\"&$D$12&\")=\"&$D$1&\" and localMonth(\"&$D$12&\") =\"&$E$1&\" and LocalDay(\"&$D$12&\")=\"&$F$1&\" and Barix(\"&$D$12&\",reference:=StartOfSession)=\"&A1&\"\", \"Bar\", \"\", \"Close\",\"5\",\"0\",\"PrimaryOnly\",,,\"False\",\"T\",\"EveryTick\")","v":1801.58},{"$f":"IFERROR((H1-$G$2)/$G$2,NA())","v":2.7607396110474317E-3},{"$f":"RTD(\"cqg.rtd\",,\"StudyData\", \"Close(\"&$D$12&\") when LocalYear(\"&$D$12&\")=\"&$D$2&\" and localMonth(\"&$D$12&\") =\"&$E$2&\" and LocalDay(\"&$D$12&\")=\"&$F$2&\" and Barix(\"&$D$12&\",reference:=StartOfSession)=\"&A1&\"\", \"Bar\", \"\", \"Close\",\"5\",\"0\",\"PrimaryOnly\",,,\"False\",\"T\",\"EveryTick\")","v":1767.61},{"$f":"IFERROR((J1-$G$3)/$G$3,NA())","v":7.1851851851851278E-3},{"$f":"RTD(\"cqg.rtd\",,\"StudyData\", \"Close(\"&$D$12&\") when LocalYear(\"&$D$12&\")=\"&$D$3&\" and localMonth(\"&$D$12&\") =\"&$E$3&\" and LocalDay(\"&$D$12&\")=\"&$F$3&\" and Barix(\"&$D$12&\",reference:=StartOfSession)=\"&A1&\"\", \"Bar\", \"\", \"Close\",\"5\",\"0\",\"PrimaryOnly\",,,\"False\",\"T\",\"EveryTick\")","v":1741},{"$f":"IFERROR((L1-$G$4)/$G$4,NA())","v":-1.1875598799818345E-3},{"$f":"RTD(\"cqg.rtd\",,\"StudyData\", \"Close(\"&$D$12&\") when LocalYear(\"&$D$12&\")=\"&$D$4&\" and localMonth(\"&$D$12&\") =\"&$E$4&\" and LocalDay(\"&$D$12&\")=\"&$F$4&\" and Barix(\"&$D$12&\",reference:=StartOfSession)=\"&A1&\"\", \"Bar\", \"\", \"Close\",\"5\",\"0\",\"PrimaryOnly\",,,\"False\",\"T\",\"EveryTick\")","v":1733.66},{"$f":"IFERROR((N1-$G$5)/$G$5,NA())","v":-3.0821957194281263E-3},{"$f":"RTD(\"cqg.rtd\",,\"StudyData\", \"Close(\"&$D$12&\") when LocalYear(\"&$D$12&\")=\"&$D$5&\" and localMonth(\"&$D$12&\") =\"&$E$5&\" and LocalDay(\"&$D$12&\")=\"&$F$5&\" and Barix(\"&$D$12&\",reference:=StartOfSession)=\"&A1&\"\", \"Bar\", \"\", \"Close\",\"5\",\"0\",\"PrimaryOnly\",,,\"False\",\"T\",\"EveryTick\")","v":1720.98},{"$f":"IFERROR((P1-$G$6)/$G$6,NA())","v":6.0504024832955744E-3},{"$f":"RTD(\"cqg.rtd\",,\"StudyData\", \"Close(\"&$D$12&\") when LocalYear(\"&$D$12&\")=\"&$D$6&\" and localMonth(\"&$D$12&\") =\"&$E$6&\" and LocalDay(\"&$D$12&\")=\"&$F$6&\" and Barix(\"&$D$12&\",reference:=StartOfSession)=\"&A1&\"\", \"Bar\", \"\", \"Close\",\"5\",\"0\",\"PrimaryOnly\",,,\"False\",\"T\",\"EveryTick\")","v":1693.56},{"$f":"IFERROR((R1-$G$7)/$G$7,NA())","v":-3.6299882922582248E-3},{"$f":"RTD(\"cqg.rtd\",,\"StudyData\", \"Close(\"&$D$12&\") when LocalYear(\"&$D$12&\")=\"&$D$7&\" and localMonth(\"&$D$12&\") =\"&$E$7&\" and LocalDay(\"&$D$12&\")=\"&$F$7&\" and Barix(\"&$D$12&\",reference:=StartOfSession)=\"&A1&\"\", \"Bar\", \"\", \"Close\",\"5\",\"0\",\"PrimaryOnly\",,,\"False\",\"T\",\"EveryTick\")","v":1704.47},{"$f":"IFERROR((T1-$G$8)/$G$8,NA())","v":6.204396798035367E-3},{"$f":"RTD(\"cqg.rtd\",,\"StudyData\", \"Close(\"&$D$12&\") when LocalYear(\"&$D$12&\")=\"&$D$8&\" and localMonth(\"&$D$12&\") =\"&$E$8&\" and LocalDay(\"&$D$12&\")=\"&$F$8&\" and Barix(\"&$D$12&\",reference:=StartOfSession)=\"&A1&\"\", \"Bar\", \"\", \"Close\",\"5\",\"0\",\"PrimaryOnly\",,,\"False\",\"T\",\"EveryTick\")","v":1717.86},{"$f":"IFERROR((V1-$G$9)/$G$9,NA())","v":2.3807023071805758E-3},{"$f":"RTD(\"cqg.rtd\",,\"StudyData\", \"Close(\"&$D$12&\") when LocalYear(\"&$D$12&\")=\"&$D$9&\" and localMonth(\"&$D$12&\") =\"&$E$9&\" and LocalDay(\"&$D$12&\")=\"&$F$9&\" and Barix(\"&$D$12&\",reference:=StartOfSession)=\"&A1&\"\", \"Bar\", \"\", \"Close\",\"5\",\"0\",\"PrimaryOnly\",,,\"False\",\"T\",\"EveryTick\")","v":1683.14},{"$f":"IFERROR((X1-$G$10)/$G$10,NA())","v":-9.801153076832483E-3},{"$f":"RTD(\"cqg.rtd\",,\"StudyData\", \"Close(\"&$D$12&\") when LocalYear(\"&$D$12&\")=\"&$D$10&\" and localMonth(\"&$D$12&\") =\"&$E$10&\" and LocalDay(\"&$D$12&\")=\"&$F$10&\" and Barix(\"&$D$12&\",reference:=StartOfSession)=\"&A1&\"\", \"Bar\", \"\", \"Close\",\"5\",\"0\",\"PrimaryOnly\",,,\"False\",\"T\",\"EveryTick\")","v":1717.84},{"$f":"IFERROR((Z1-$G$11)/$G$11,NA())","v":9.6329601222485944E-3},{"$f":"RANK(AD1,$AD$1:$AD$10)+COUNTIF($AD$1:AD1,AD1)-1","v":4},{"$f":"DATE(D1,E1,F1)","v":"2018-07-13"},{"$f":"IFERROR(VLOOKUP(MAX(AE2:AE81),A1:I81,9,FALSE),\"\")","v":6.4009083723881519E-3},null,1,{"$f":"VLOOKUP(AF1,$AB$1:$AD$10,2,FALSE)","v":"2018-07-12"},{"$f":"VLOOKUP(AF1,$AB$1:$AD$10,3,FALSE)","v":1.5538461538461529E-2},null,null,{"$f":"AG1","v":"2018-07-12"},{"$f":"AC1","v":"2018-07-13"},0,{"$f":"VLOOKUP(AK1,$AL$1:$AM$10,2,FALSE)","v":1}]
[{"$f":"A1+1","v":1},"08:35:00",{"$f":" RTD(\"cqg.rtd\",,\"StudyData\",$D$12, \"Bar\", \"\", \"Time\",\"D\",\"-1\",,,,,\"T\")","v":"2018-07-12"},{"$f":"YEAR(C2)","v":2018},{"$f":"MONTH(C2)","v":7},{"$f":"DAY(C2)","v":12},{"$f":"RTD(\"cqg.rtd\",,\"StudyData\",$D$12,\"Bar\",,\"Close\",\"D\",\"-1\",,,,,\"T\")","v":1796.62},{"$f":"RTD(\"cqg.rtd\",,\"StudyData\", \"Close(\"&$D$12&\") when LocalYear(\"&$D$12&\")=\"&$D$1&\" and localMonth(\"&$D$12&\") =\"&$E$1&\" and LocalDay(\"&$D$12&\")=\"&$F$1&\" and Barix(\"&$D$12&\",reference:=StartOfSession)=\"&A2&\"\", \"Bar\", \"\", \"Close\",\"5\",\"0\",\"PrimaryOnly\",,,\"False\",\"T\",\"EveryTick\")","v":1804.48},{"$f":"IFERROR((H2-$G$2)/$G$2,NA())","v":4.3748817223453638E-3},{"$f":"RTD(\"cqg.rtd\",,\"StudyData\", \"Close(\"&$D$12&\") when LocalYear(\"&$D$12&\")=\"&$D$2&\" and localMonth(\"&$D$12&\") =\"&$E$2&\" and LocalDay(\"&$D$12&\")=\"&$F$2&\" and Barix(\"&$D$12&\",reference:=StartOfSession)=\"&A2&\"\", \"Bar\", \"\", \"Close\",\"5\",\"0\",\"PrimaryOnly\",,,\"False\",\"T\",\"EveryTick\")","v":1767.33},{"$f":"IFERROR((J2-$G$3)/$G$3,NA())","v":7.0256410256409841E-3},{"$f":"RTD(\"cqg.rtd\",,\"StudyData\", \"Close(\"&$D$12&\") when LocalYear(\"&$D$12&\")=\"&$D$3&\" and localMonth(\"&$D$12&\") =\"&$E$3&\" and LocalDay(\"&$D$12&\")=\"&$F$3&\" and Barix(\"&$D$12&\",reference:=StartOfSession)=\"&A2&\"\", \"Bar\", \"\", \"Close\",\"5\",\"0\",\"PrimaryOnly\",,,\"False\",\"T\",\"EveryTick\")","v":1741.99},{"$f":"IFERROR((L2-$G$4)/$G$4,NA())","v":-6.1959645912093445E-4},{"$f":"RTD(\"cqg.rtd\",,\"StudyData\", \"Close(\"&$D$12&\") when LocalYear(\"&$D$12&\")=\"&$D$4&\" and localMonth(\"&$D$12&\") =\"&$E$4&\" and LocalDay(\"&$D$12&\")=\"&$F$4&\" and Barix(\"&$D$12&\",reference:=StartOfSession)=\"&A2&\"\", \"Bar\", \"\", \"Close\",\"5\",\"0\",\"PrimaryOnly\",,,\"False\",\"T\",\"EveryTick\")","v":1736.02},{"$f":"IFERROR((N2-$G$5)/$G$5,NA())","v":-1.725109544456073E-3},{"$f":"RTD(\"cqg.rtd\",,\"StudyData\", \"Close(\"&$D$12&\") when LocalYear(\"&$D$12&\")=\"&$D$5&\" and localMonth(\"&$D$12&\") =\"&$E$5&\" and LocalDay(\"&$D$12&\")=\"&$F$5&\" and Barix(\"&$D$12&\",reference:=StartOfSession)=\"&A2&\"\", \"Bar\", \"\", \"Close\",\"5\",\"0\",\"PrimaryOnly\",,,\"False\",\"T\",\"EveryTick\")","v":1719.22},{"$f":"IFERROR((P2-$G$6)/$G$6,NA())","v":5.021541771160285E-3},{"$f":"RTD(\"cqg.rtd\",,\"StudyData\", \"Close(\"&$D$12&\") when LocalYear(\"&$D$12&\")=\"&$D$6&\" and localMonth(\"&$D$12&\") =\"&$E$6&\" and LocalDay(\"&$D$12&\")=\"&$F$6&\" and Barix(\"&$D$12&\",reference:=StartOfSession)=\"&A2&\"\", \"Bar\", \"\", \"Close\",\"5\",\"0\",\"PrimaryOnly\",,,\"False\",\"T\",\"EveryTick\")","v":1700.56},{"$f":"IFERROR((R2-$G$7)/$G$7,NA())","v":4.883128496878488E-4},{"$f":"RTD(\"cqg.rtd\",,\"StudyData\", \"Close(\"&$D$12&\") when LocalYear(\"&$D$12&\")=\"&$D$7&\" and localMonth(\"&$D$12&\") =\"&$E$7&\" and LocalDay(\"&$D$12&\")=\"&$F$7&\" and Barix(\"&$D$12&\",reference:=StartOfSession)=\"&A2&\"\", \"Bar\", \"\", \"Close\",\"5\",\"0\",\"PrimaryOnly\",,,\"False\",\"T\",\"EveryTick\")","v":1709.28},{"$f":"IFERROR((T2-$G$8)/$G$8,NA())","v":9.0438971404283083E-3},{"$f":"RTD(\"cqg.rtd\",,\"StudyData\", \"Close(\"&$D$12&\") when LocalYear(\"&$D$12&\")=\"&$D$8&\" and localMonth(\"&$D$12&\") =\"&$E$8&\" and LocalDay(\"&$D$12&\")=\"&$F$8&\" and Barix(\"&$D$12&\",reference:=StartOfSession)=\"&A2&\"\", \"Bar\", \"\", \"Close\",\"5\",\"0\",\"PrimaryOnly\",,,\"False\",\"T\",\"EveryTick\")","v":1712.85},{"$f":"IFERROR((V2-$G$9)/$G$9,NA())","v":-5.4266008472503107E-4},{"$f":"RTD(\"cqg.rtd\",,\"StudyData\", \"Close(\"&$D$12&\") when LocalYear(\"&$D$12&\")=\"&$D$9&\" and localMonth(\"&$D$12&\") =\"&$E$9&\" and LocalDay(\"&$D$12&\")=\"&$F$9&\" and Barix(\"&$D$12&\",reference:=StartOfSession)=\"&A2&\"\", \"Bar\", \"\", \"Close\",\"5\",\"0\",\"PrimaryOnly\",,,\"False\",\"T\",\"EveryTick\")","v":1691.3},{"$f":"IFERROR((X2-$G$10)/$G$10,NA())","v":-5.0005883045064125E-3},{"$f":"RTD(\"cqg.rtd\",,\"StudyData\", \"Close(\"&$D$12&\") when LocalYear(\"&$D$12&\")=\"&$D$10&\" and localMonth(\"&$D$12&\") =\"&$E$10&\" and LocalDay(\"&$D$12&\")=\"&$F$10&\" and Barix(\"&$D$12&\",reference:=StartOfSession)=\"&A2&\"\", \"Bar\", \"\", \"Close\",\"5\",\"0\",\"PrimaryOnly\",,,\"False\",\"T\",\"EveryTick\")","v":1717.9},{"$f":"IFERROR((Z2-$G$11)/$G$11,NA())","v":9.6682241617444212E-3},{"$f":"RANK(AD2,$AD$1:$AD$10)+COUNTIF($AD$1:AD2,AD2)-1","v":1},{"$f":"DATE(D2,E2,F2)","v":"2018-07-12"},{"$f":"IFERROR(VLOOKUP(MAX(AE2:AE81),A1:K81,11,FALSE),\"\")","v":1.5538461538461529E-2},{"$f":"IF(AND(H1<>\"\",H2<>\"\",H3=\"\"),A2,\"\")","v":""},2,{"$f":"VLOOKUP(AF2,$AB$1:$AD$10,2,FALSE)","v":"2018-07-09"},{"$f":"VLOOKUP(AF2,$AB$1:$AD$10,3,FALSE)","v":1.0978411462443645E-2},null,null,{"$f":"AG2","v":"2018-07-09"},{"$f":"AC2","v":"2018-07-12"},1,{"$f":"VLOOKUP(AK2,$AL$1:$AM$10,2,FALSE)","v":4}]
[{"$f":"A2+1","v":2},"08:40:00",{"$f":" RTD(\"cqg.rtd\",,\"StudyData\",$D$12, \"Bar\", \"\", \"Time\",\"D\",\"-2\",,,,,\"T\")","v":"2018-07-11"},2018,7,11,{"$f":"RTD(\"cqg.rtd\",,\"StudyData\",$D$12,\"Bar\",,\"Close\",\"D\",\"-2\",,,,,\"T\")","v":1755},{"$f":"RTD(\"cqg.rtd\",,\"StudyData\", \"Close(\"&$D$12&\") when LocalYear(\"&$D$12&\")=\"&$D$1&\" and localMonth(\"&$D$12&\") =\"&$E$1&\" and LocalDay(\"&$D$12&\")=\"&$F$1&\" and Barix(\"&$D$12&\",reference:=StartOfSession)=\"&A3&\"\", \"Bar\", \"\", \"Close\",\"5\",\"0\",\"PrimaryOnly\",,,\"False\",\"T\",\"EveryTick\")","v":1808.28},{"$f":"IFERROR((H3-$G$2)/$G$2,NA())","v":6.4899644888735978E-3},{"$f":"RTD(\"cqg.rtd\",,\"StudyData\", \"Close(\"&$D$12&\") when LocalYear(\"&$D$12&\")=\"&$D$2&\" and localMonth(\"&$D$12&\") =\"&$E$2&\" and LocalDay(\"&$D$12&\")=\"&$F$2&\" and Barix(\"&$D$12&\",reference:=StartOfSession)=\"&A3&\"\", \"Bar\", \"\", \"Close\",\"5\",\"0\",\"PrimaryOnly\",,,\"False\",\"T\",\"EveryTick\")","v":1767.64},7.2022792022792591E-3,{"$f":"RTD(\"cqg.rtd\",,\"StudyData\", \"Close(\"&$D$12&\") when LocalYear(\"&$D$12&\")=\"&$D$3&\" and localMonth(\"&$D$12&\") =\"&$E$3&\" and LocalDay(\"&$D$12&\")=\"&$F$3&\" and Barix(\"&$D$12&\",reference:=StartOfSession)=\"&A3&\"\", \"Bar\", \"\", \"Close\",\"5\",\"0\",\"PrimaryOnly\",,,\"False\",\"T\",\"EveryTick\")","v":1741},-1.1875598799818345E-3,{"$f":"RTD(\"cqg.rtd\",,\"StudyData\", \"Close(\"&$D$12&\") when LocalYear(\"&$D$12&\")=\"&$D$4&\" and localMonth(\"&$D$12&\") =\"&$E$4&\" and LocalDay(\"&$D$12&\")=\"&$F$4&\" and Barix(\"&$D$12&\",reference:=StartOfSession)=\"&A3&\"\", \"Bar\", \"\", \"Close\",\"5\",\"0\",\"PrimaryOnly\",,,\"False\",\"T\",\"EveryTick\")","v":1737.95},-6.1528907085596279E-4,{"$f":"RTD(\"cqg.rtd\",,\"StudyData\", \"Close(\"&$D$12&\") when LocalYear(\"&$D$12&\")=\"&$D$5&\" and localMonth(\"&$D$12&\") =\"&$E$5&\" and LocalDay(\"&$D$12&\")=\"&$F$5&\" and Barix(\"&$D$12&\",reference:=StartOfSession)=\"&A3&\"\", \"Bar\", \"\", \"Close\",\"5\",\"0\",\"PrimaryOnly\",,,\"False\",\"T\",\"EveryTick\")","v":1721.34},6.2608512653231901E-3,{"$f":"RTD(\"cqg.rtd\",,\"StudyData\", \"Close(\"&$D$12&\") when LocalYear(\"&$D$12&\")=\"&$D$6&\" and localMonth(\"&$D$12&\") =\"&$E$6&\" and LocalDay(\"&$D$12&\")=\"&$F$6&\" and Barix(\"&$D$12&\",reference:=StartOfSession)=\"&A3&\"\", \"Bar\", \"\", \"Close\",\"5\",\"0\",\"PrimaryOnly\",,,\"False\",\"T\",\"EveryTick\")","v":1704.06},2.5474634206608857E-3,{"$f":"RTD(\"cqg.rtd\",,\"StudyData\", \"Close(\"&$D$12&\") when LocalYear(\"&$D$12&\")=\"&$D$7&\" and localMonth(\"&$D$12&\") =\"&$E$7&\" and LocalDay(\"&$D$12&\")=\"&$F$7&\" and Barix(\"&$D$12&\",reference:=StartOfSession)=\"&A3&\"\", \"Bar\", \"\", \"Close\",\"5\",\"0\",\"PrimaryOnly\",,,\"False\",\"T\",\"EveryTick\")","v":1706.48},7.3909655481829454E-3,{"$f":"RTD(\"cqg.rtd\",,\"StudyData\", \"Close(\"&$D$12&\") when LocalYear(\"&$D$12&\")=\"&$D$8&\" and localMonth(\"&$D$12&\") =\"&$E$8&\" and LocalDay(\"&$D$12&\")=\"&$F$8&\" and Barix(\"&$D$12&\",reference:=StartOfSession)=\"&A3&\"\", \"Bar\", \"\", \"Close\",\"5\",\"0\",\"PrimaryOnly\",,,\"False\",\"T\",\"EveryTick\")","v":1712.99},-4.6096931928250043E-4,{"$f":"RTD(\"cqg.rtd\",,\"StudyData\", \"Close(\"&$D$12&\") when LocalYear(\"&$D$12&\")=\"&$D$9&\" and localMonth(\"&$D$12&\") =\"&$E$9&\" and LocalDay(\"&$D$12&\")=\"&$F$9&\" and Barix(\"&$D$12&\",reference:=StartOfSession)=\"&A3&\"\", \"Bar\", \"\", \"Close\",\"5\",\"0\",\"PrimaryOnly\",,,\"False\",\"T\",\"EveryTick\")","v":1689.24},-6.2124955877161702E-3,{"$f":"RTD(\"cqg.rtd\",,\"StudyData\", \"Close(\"&$D$12&\") when LocalYear(\"&$D$12&\")=\"&$D$10&\" and localMonth(\"&$D$12&\") =\"&$E$10&\" and LocalDay(\"&$D$12&\")=\"&$F$10&\" and Barix(\"&$D$12&\",reference:=StartOfSession)=\"&A3&\"\", \"Bar\", \"\", \"Close\",\"5\",\"0\",\"PrimaryOnly\",,,\"False\",\"T\",\"EveryTick\")","v":1720.12},1.09729936230861E-2,{"$f":"RANK(AD3,$AD$1:$AD$10)+COUNTIF($AD$1:AD3,AD3)-1","v":7},"2018-07-11",{"$f":"IFERROR(VLOOKUP(MAX(AE2:AE81),A1:M81,13,FALSE),\"\")","v":1.4227770542778078E-3},{"$f":"IF(AND(H2<>\"\",H3<>\"\",H4=\"\"),A3,\"\")","v":""},3,"2018-06-29",8.2341532222516035E-3,null,null,"2018-06-29","2018-07-11",2,9]
[3,"08:45:00",{"$f":" RTD(\"cqg.rtd\",,\"StudyData\",$D$12, \"Bar\", \"\", \"Time\",\"D\",\"-3\",,,,,\"T\")","v":"2018-07-10"},2018,7,10,{"$f":"RTD(\"cqg.rtd\",,\"StudyData\",$D$12,\"Bar\",,\"Close\",\"D\",\"-3\",,,,,\"T\")","v":1743.07},{"$f":"RTD(\"cqg.rtd\",,\"StudyData\", \"Close(\"&$D$12&\") when LocalYear(\"&$D$12&\")=\"&$D$1&\" and localMonth(\"&$D$12&\") =\"&$E$1&\" and LocalDay(\"&$D$12&\")=\"&$F$1&\" and Barix(\"&$D$12&\",reference:=StartOfSession)=\"&A4&\"\", \"Bar\", \"\", \"Close\",\"5\",\"0\",\"PrimaryOnly\",,,\"False\",\"T\",\"EveryTick\")","v":1812.13},8.6328772918036201E-3,{"$f":"RTD(\"cqg.rtd\",,\"StudyData\", \"Close(\"&$D$12&\") when LocalYear(\"&$D$12&\")=\"&$D$2&\" and localMonth(\"&$D$12&\") =\"&$E$2&\" and LocalDay(\"&$D$12&\")=\"&$F$2&\" and Barix(\"&$D$12&\",reference:=StartOfSession)=\"&A4&\"\", \"Bar\", \"\", \"Close\",\"5\",\"0\",\"PrimaryOnly\",,,\"False\",\"T\",\"EveryTick\")","v":1767.57},7.1623931623931263E-3,{"$f":"RTD(\"cqg.rtd\",,\"StudyData\", \"Close(\"&$D$12&\") when LocalYear(\"&$D$12&\")=\"&$D$3&\" and localMonth(\"&$D$12&\") =\"&$E$3&\" and LocalDay(\"&$D$12&\")=\"&$F$3&\" and Barix(\"&$D$12&\",reference:=StartOfSession)=\"&A4&\"\", \"Bar\", \"\", \"Close\",\"5\",\"0\",\"PrimaryOnly\",,,\"False\",\"T\",\"EveryTick\")","v":1744.5},8.20391607910218E-4,{"$f":"RTD(\"cqg.rtd\",,\"StudyData\", \"Close(\"&$D$12&\") when LocalYear(\"&$D$12&\")=\"&$D$4&\" and localMonth(\"&$D$12&\") =\"&$E$4&\" and LocalDay(\"&$D$12&\")=\"&$F$4&\" and Barix(\"&$D$12&\",reference:=StartOfSession)=\"&A4&\"\", \"Bar\", \"\", \"Close\",\"5\",\"0\",\"PrimaryOnly\",,,\"False\",\"T\",\"EveryTick\")","v":1736.98},-1.1730744902301088E-3,{"$f":"RTD(\"cqg.rtd\",,\"StudyData\", \"Close(\"&$D$12&\") when LocalYear(\"&$D$12&\")=\"&$D$5&\" and localMonth(\"&$D$12&\") =\"&$E$5&\" and LocalDay(\"&$D$12&\")=\"&$F$5&\" and Barix(\"&$D$12&\",reference:=StartOfSession)=\"&A4&\"\", \"Bar\", \"\", \"Close\",\"5\",\"0\",\"PrimaryOnly\",,,\"False\",\"T\",\"EveryTick\")","v":1724.87},8.3244184890945323E-3,{"$f":"RTD(\"cqg.rtd\",,\"StudyData\", \"Close(\"&$D$12&\") when LocalYear(\"&$D$12&\")=\"&$D$6&\" and localMonth(\"&$D$12&\") =\"&$E$6&\" and LocalDay(\"&$D$12&\")=\"&$F$6&\" and Barix(\"&$D$12&\",reference:=StartOfSession)=\"&A4&\"\", \"Bar\", \"\", \"Close\",\"5\",\"0\",\"PrimaryOnly\",,,\"False\",\"T\",\"EveryTick\")","v":1703.59},2.2709489154159189E-3,{"$f":"RTD(\"cqg.rtd\",,\"StudyData\", \"Close(\"&$D$12&\") when LocalYear(\"&$D$12&\")=\"&$D$7&\" and localMonth(\"&$D$12&\") =\"&$E$7&\" and LocalDay(\"&$D$12&\")=\"&$F$7&\" and Barix(\"&$D$12&\",reference:=StartOfSession)=\"&A4&\"\", \"Bar\", \"\", \"Close\",\"5\",\"0\",\"PrimaryOnly\",,,\"False\",\"T\",\"EveryTick\")","v":1707.62},8.0639448393113496E-3,{"$f":"RTD(\"cqg.rtd\",,\"StudyData\", \"Close(\"&$D$12&\") when LocalYear(\"&$D$12&\")=\"&$D$8&\" and localMonth(\"&$D$12&\") =\"&$E$8&\" and LocalDay(\"&$D$12&\")=\"&$F$8&\" and Barix(\"&$D$12&\",reference:=StartOfSession)=\"&A4&\"\", \"Bar\", \"\", \"Close\",\"5\",\"0\",\"PrimaryOnly\",,,\"False\",\"T\",\"EveryTick\")","v":1713.3},-2.8008262437420102E-4,{"$f":"RTD(\"cqg.rtd\",,\"StudyData\", \"Close(\"&$D$12&\") when LocalYear(\"&$D$12&\")=\"&$D$9&\" and localMonth(\"&$D$12&\") =\"&$E$9&\" and LocalDay(\"&$D$12&\")=\"&$F$9&\" and Barix(\"&$D$12&\",reference:=StartOfSession)=\"&A4&\"\", \"Bar\", \"\", \"Close\",\"5\",\"0\",\"PrimaryOnly\",,,\"False\",\"T\",\"EveryTick\")","v":1694},-3.4121661371925844E-3,{"$f":"RTD(\"cqg.rtd\",,\"StudyData\", \"Close(\"&$D$12&\") when LocalYear(\"&$D$12&\")=\"&$D$10&\" and localMonth(\"&$D$12&\") =\"&$E$10&\" and LocalDay(\"&$D$12&\")=\"&$F$10&\" and Barix(\"&$D$12&\",reference:=StartOfSession)=\"&A4&\"\", \"Bar\", \"\", \"Close\",\"5\",\"0\",\"PrimaryOnly\",,,\"False\",\"T\",\"EveryTick\")","v":1722.78},1.2536366040729923E-2,{"$f":"RANK(AD4,$AD$1:$AD$10)+COUNTIF($AD$1:AD4,AD4)-1","v":6},"2018-07-10",{"$f":"IFERROR(VLOOKUP(MAX(AE2:AE81),A1:O81,15,FALSE),\"\")","v":4.0942599855091476E-3},"",4,"2018-07-13",6.4009083723881519E-3,null,null,"2018-07-13","2018-07-10",3,0]
[4,"08:50:00",{"$f":" RTD(\"cqg.rtd\",,\"StudyData\",$D$12, \"Bar\", \"\", \"Time\",\"D\",\"-4\",,,,,\"T\")","v":"2018-07-09"},2018,7,9,{"$f":"RTD(\"cqg.rtd\",,\"StudyData\",$D$12,\"Bar\",,\"Close\",\"D\",\"-4\",,,,,\"T\")","v":1739.02},{"$f":"RTD(\"cqg.rtd\",,\"StudyData\", \"Close(\"&$D$12&\") when LocalYear(\"&$D$12&\")=\"&$D$1&\" and localMonth(\"&$D$12&\") =\"&$E$1&\" and LocalDay(\"&$D$12&\")=\"&$F$1&\" and Barix(\"&$D$12&\",reference:=StartOfSession)=\"&A5&\"\", \"Bar\", \"\", \"Close\",\"5\",\"0\",\"PrimaryOnly\",,,\"False\",\"T\",\"EveryTick\")","v":1804.3},4.274693591299253E-3,{"$f":"RTD(\"cqg.rtd\",,\"StudyData\", \"Close(\"&$D$12&\") when LocalYear(\"&$D$12&\")=\"&$D$2&\" and localMonth(\"&$D$12&\") =\"&$E$2&\" and LocalDay(\"&$D$12&\")=\"&$F$2&\" and Barix(\"&$D$12&\",reference:=StartOfSession)=\"&A5&\"\", \"Bar\", \"\", \"Close\",\"5\",\"0\",\"PrimaryOnly\",,,\"False\",\"T\",\"EveryTick\")","v":1771.14},9.1965811965812536E-3,{"$f":"RTD(\"cqg.rtd\",,\"StudyData\", \"Close(\"&$D$12&\") when LocalYear(\"&$D$12&\")=\"&$D$3&\" and localMonth(\"&$D$12&\") =\"&$E$3&\" and LocalDay(\"&$D$12&\")=\"&$F$3&\" and Barix(\"&$D$12&\",reference:=StartOfSession)=\"&A5&\"\", \"Bar\", \"\", \"Close\",\"5\",\"0\",\"PrimaryOnly\",,,\"False\",\"T\",\"EveryTick\")","v":1747.44},2.5070708577395735E-3,{"$f":"RTD(\"cqg.rtd\",,\"StudyData\", \"Close(\"&$D$12&\") when LocalYear(\"&$D$12&\")=\"&$D$4&\" and localMonth(\"&$D$12&\") =\"&$E$4&\" and LocalDay(\"&$D$12&\")=\"&$F$4&\" and Barix(\"&$D$12&\",reference:=StartOfSession)=\"&A5&\"\", \"Bar\", \"\", \"Close\",\"5\",\"0\",\"PrimaryOnly\",,,\"False\",\"T\",\"EveryTick\")","v":1737.73},-7.4179710411609041E-4,{"$f":"RTD(\"cqg.rtd\",,\"StudyData\", \"Close(\"&$D$12&\") when LocalYear(\"&$D$12&\")=\"&$D$5&\" and localMonth(\"&$D$12&\") =\"&$E$5&\" and LocalDay(\"&$D$12&\")=\"&$F$5&\" and Barix(\"&$D$12&\",reference:=StartOfSession)=\"&A5&\"\", \"Bar\", \"\", \"Close\",\"5\",\"0\",\"PrimaryOnly\",,,\"False\",\"T\",\"EveryTick\")","v":1719},4.8929341821433566E-3,{"$f":"RTD(\"cqg.rtd\",,\"StudyData\", \"Close(\"&$D$12&\") when LocalYear(\"&$D$12&\")=\"&$D$6&\" and localMonth(\"&$D$12&\") =\"&$E$6&\" and LocalDay(\"&$D$12&\")=\"&$F$6&\" and Barix(\"&$D$12&\",reference:=StartOfSession)=\"&A5&\"\", \"Bar\", \"\", \"Close\",\"5\",\"0\",\"PrimaryOnly\",,,\"False\",\"T\",\"EveryTick\")","v":1705.4},3.3358239249763623E-3,{"$f":"RTD(\"cqg.rtd\",,\"StudyData\", \"Close(\"&$D$12&\") when LocalYear(\"&$D$12&\")=\"&$D$7&\" and localMonth(\"&$D$12&\") =\"&$E$7&\" and LocalDay(\"&$D$12&\")=\"&$F$7&\" and Barix(\"&$D$12&\",reference:=StartOfSession)=\"&A5&\"\", \"Bar\", \"\", \"Close\",\"5\",\"0\",\"PrimaryOnly\",,,\"False\",\"T\",\"EveryTick\")","v":1706.03},7.125315828000623E-3,{"$f":"RTD(\"cqg.rtd\",,\"StudyData\", \"Close(\"&$D$12&\") when LocalYear(\"&$D$12&\")=\"&$D$8&\" and localMonth(\"&$D$12&\") =\"&$E$8&\" and LocalDay(\"&$D$12&\")=\"&$F$8&\" and Barix(\"&$D$12&\",reference:=StartOfSession)=\"&A5&\"\", \"Bar\", \"\", \"Close\",\"5\",\"0\",\"PrimaryOnly\",,,\"False\",\"T\",\"EveryTick\")","v":1709.15},-2.7016303142759759E-3,{"$f":"RTD(\"cqg.rtd\",,\"StudyData\", \"Close(\"&$D$12&\") when LocalYear(\"&$D$12&\")=\"&$D$9&\" and localMonth(\"&$D$12&\") =\"&$E$9&\" and LocalDay(\"&$D$12&\")=\"&$F$9&\" and Barix(\"&$D$12&\",reference:=StartOfSession)=\"&A5&\"\", \"Bar\", \"\", \"Close\",\"5\",\"0\",\"PrimaryOnly\",,,\"False\",\"T\",\"EveryTick\")","v":1694.12},-3.3415695964231461E-3,{"$f":"RTD(\"cqg.rtd\",,\"StudyData\", \"Close(\"&$D$12&\") when LocalYear(\"&$D$12&\")=\"&$D$10&\" and localMonth(\"&$D$12&\") =\"&$E$10&\" and LocalDay(\"&$D$12&\")=\"&$F$10&\" and Barix(\"&$D$12&\",reference:=StartOfSession)=\"&A5&\"\", \"Bar\", \"\", \"Close\",\"5\",\"0\",\"PrimaryOnly\",,,\"False\",\"T\",\"EveryTick\")","v":1721.48},1.1772311851655923E-2,{"$f":"RANK(AD5,$AD$1:$AD$10)+COUNTIF($AD$1:AD5,AD5)-1","v":2},"2018-07-09",{"$f":"IFERROR(VLOOKUP(MAX(AE2:AE81),A1:Q81,17,FALSE),\"\")","v":1.0978411462443645E-2},"",5,"2018-07-06",5.6714890011942323E-3,null,null,"2018-07-06","2018-07-09",4,5]
[5,"08:55:00",{"$f":" RTD(\"cqg.rtd\",,\"StudyData\",$D$12, \"Bar\", \"\", \"Time\",\"D\",\"-5\",,,,,\"T\")","v":"2018-07-06"},2018,7,6,{"$f":"RTD(\"cqg.rtd\",,\"StudyData\",$D$12,\"Bar\",,\"Close\",\"D\",\"-5\",,,,,\"T\")","v":1710.63},{"$f":"RTD(\"cqg.rtd\",,\"StudyData\", \"Close(\"&$D$12&\") when LocalYear(\"&$D$12&\")=\"&$D$1&\" and localMonth(\"&$D$12&\") =\"&$E$1&\" and LocalDay(\"&$D$12&\")=\"&$F$1&\" and Barix(\"&$D$12&\",reference:=StartOfSession)=\"&A6&\"\", \"Bar\", \"\", \"Close\",\"5\",\"0\",\"PrimaryOnly\",,,\"False\",\"T\",\"EveryTick\")","v":1802.98},3.5399806302947355E-3,{"$f":"RTD(\"cqg.rtd\",,\"StudyData\", \"Close(\"&$D$12&\") when LocalYear(\"&$D$12&\")=\"&$D$2&\" and localMonth(\"&$D$12&\") =\"&$E$2&\" and LocalDay(\"&$D$12&\")=\"&$F$2&\" and Barix(\"&$D$12&\",reference:=StartOfSession)=\"&A6&\"\", \"Bar\", \"\", \"Close\",\"5\",\"0\",\"PrimaryOnly\",,,\"False\",\"T\",\"EveryTick\")","v":1773.58},1.0586894586894545E-2,{"$f":"RTD(\"cqg.rtd\",,\"StudyData\", \"Close(\"&$D$12&\") when LocalYear(\"&$D$12&\")=\"&$D$3&\" and localMonth(\"&$D$12&\") =\"&$E$3&\" and LocalDay(\"&$D$12&\")=\"&$F$3&\" and Barix(\"&$D$12&\",reference:=StartOfSession)=\"&A6&\"\", \"Bar\", \"\", \"Close\",\"5\",\"0\",\"PrimaryOnly\",,,\"False\",\"T\",\"EveryTick\")","v":1745.66},1.4858841010402025E-3,{"$f":"RTD(\"cqg.rtd\",,\"StudyData\", \"Close(\"&$D$12&\") when LocalYear(\"&$D$12&\")=\"&$D$4&\" and localMonth(\"&$D$12&\") =\"&$E$4&\" and LocalDay(\"&$D$12&\")=\"&$F$4&\" and Barix(\"&$D$12&\",reference:=StartOfSession)=\"&A6&\"\", \"Bar\", \"\", \"Close\",\"5\",\"0\",\"PrimaryOnly\",,,\"False\",\"T\",\"EveryTick\")","v":1740.5},8.5105404193167315E-4,{"$f":"RTD(\"cqg.rtd\",,\"StudyData\", \"Close(\"&$D$12&\") when LocalYear(\"&$D$12&\")=\"&$D$5&\" and localMonth(\"&$D$12&\") =\"&$E$5&\" and LocalDay(\"&$D$12&\")=\"&$F$5&\" and Barix(\"&$D$12&\",reference:=StartOfSession)=\"&A6&\"\", \"Bar\", \"\", \"Close\",\"5\",\"0\",\"PrimaryOnly\",,,\"False\",\"T\",\"EveryTick\")","v":1722.04},6.6700572303770274E-3,{"$f":"RTD(\"cqg.rtd\",,\"StudyData\", \"Close(\"&$D$12&\") when LocalYear(\"&$D$12&\")=\"&$D$6&\" and localMonth(\"&$D$12&\") =\"&$E$6&\" and LocalDay(\"&$D$12&\")=\"&$F$6&\" and Barix(\"&$D$12&\",reference:=StartOfSession)=\"&A6&\"\", \"Bar\", \"\", \"Close\",\"5\",\"0\",\"PrimaryOnly\",,,\"False\",\"T\",\"EveryTick\")","v":1706.58},4.0300518317614616E-3,{"$f":"RTD(\"cqg.rtd\",,\"StudyData\", \"Close(\"&$D$12&\") when LocalYear(\"&$D$12&\")=\"&$D$7&\" and localMonth(\"&$D$12&\") =\"&$E$7&\" and LocalDay(\"&$D$12&\")=\"&$F$7&\" and Barix(\"&$D$12&\",reference:=StartOfSession)=\"&A6&\"\", \"Bar\", \"\", \"Close\",\"5\",\"0\",\"PrimaryOnly\",,,\"False\",\"T\",\"EveryTick\")","v":1702.7},5.159507898651685E-3,{"$f":"RTD(\"cqg.rtd\",,\"StudyData\", \"Close(\"&$D$12&\") when LocalYear(\"&$D$12&\")=\"&$D$8&\" and localMonth(\"&$D$12&\") =\"&$E$8&\" and LocalDay(\"&$D$12&\")=\"&$F$8&\" and Barix(\"&$D$12&\",reference:=StartOfSession)=\"&A6&\"\", \"Bar\", \"\", \"Close\",\"5\",\"0\",\"PrimaryOnly\",,,\"False\",\"T\",\"EveryTick\")","v":1710.82},-1.727176183640862E-3,{"$f":"RTD(\"cqg.rtd\",,\"StudyData\", \"Close(\"&$D$12&\") when LocalYear(\"&$D$12&\")=\"&$D$9&\" and localMonth(\"&$D$12&\") =\"&$E$9&\" and LocalDay(\"&$D$12&\")=\"&$F$9&\" and Barix(\"&$D$12&\",reference:=StartOfSession)=\"&A6&\"\", \"Bar\", \"\", \"Close\",\"5\",\"0\",\"PrimaryOnly\",,,\"False\",\"T\",\"EveryTick\")","v":1690.98},-5.1888457465583812E-3,{"$f":"RTD(\"cqg.rtd\",,\"StudyData\", \"Close(\"&$D$12&\") when LocalYear(\"&$D$12&\")=\"&$D$10&\" and localMonth(\"&$D$12&\") =\"&$E$10&\" and LocalDay(\"&$D$12&\")=\"&$F$10&\" and Barix(\"&$D$12&\",reference:=StartOfSession)=\"&A6&\"\", \"Bar\", \"\", \"Close\",\"5\",\"0\",\"PrimaryOnly\",,,\"False\",\"T\",\"EveryTick\")","v":1719.18},1.0420523670986523E-2,{"$f":"RANK(AD6,$AD$1:$AD$10)+COUNTIF($AD$1:AD6,AD6)-1","v":5},"2018-07-06",{"$f":"IFERROR(VLOOKUP(MAX(AE2:AE81),A1:S81,19,FALSE),\"\")","v":5.6714890011942323E-3},"",6,"2018-07-10",4.0942599855091476E-3,null,null,"2018-07-10","2018-07-06",5,3]
[6,"09:00:00",{"$f":" RTD(\"cqg.rtd\",,\"StudyData\",$D$12, \"Bar\", \"\", \"Time\",\"D\",\"-6\",,,,,\"T\")","v":"2018-07-05"},2018,7,5,{"$f":"RTD(\"cqg.rtd\",,\"StudyData\",$D$12,\"Bar\",,\"Close\",\"D\",\"-6\",,,,,\"T\")","v":1699.73},{"$f":"RTD(\"cqg.rtd\",,\"StudyData\", \"Close(\"&$D$12&\") when LocalYear(\"&$D$12&\")=\"&$D$1&\" and localMonth(\"&$D$12&\") =\"&$E$1&\" and LocalDay(\"&$D$12&\")=\"&$F$1&\" and Barix(\"&$D$12&\",reference:=StartOfSession)=\"&A7&\"\", \"Bar\", \"\", \"Close\",\"5\",\"0\",\"PrimaryOnly\",,,\"False\",\"T\",\"EveryTick\")","v":1806.3},5.3878950473667574E-3,{"$f":"RTD(\"cqg.rtd\",,\"StudyData\", \"Close(\"&$D$12&\") when LocalYear(\"&$D$12&\")=\"&$D$2&\" and localMonth(\"&$D$12&\") =\"&$E$2&\" and LocalDay(\"&$D$12&\")=\"&$F$2&\" and Barix(\"&$D$12&\",reference:=StartOfSession)=\"&A7&\"\", \"Bar\", \"\", \"Close\",\"5\",\"0\",\"PrimaryOnly\",,,\"False\",\"T\",\"EveryTick\")","v":1774.81},1.1287749287749256E-2,{"$f":"RTD(\"cqg.rtd\",,\"StudyData\", \"Close(\"&$D$12&\") when LocalYear(\"&$D$12&\")=\"&$D$3&\" and localMonth(\"&$D$12&\") =\"&$E$3&\" and LocalDay(\"&$D$12&\")=\"&$F$3&\" and Barix(\"&$D$12&\",reference:=StartOfSession)=\"&A7&\"\", \"Bar\", \"\", \"Close\",\"5\",\"0\",\"PrimaryOnly\",,,\"False\",\"T\",\"EveryTick\")","v":1749.8},3.8610038610038715E-3,{"$f":"RTD(\"cqg.rtd\",,\"StudyData\", \"Close(\"&$D$12&\") when LocalYear(\"&$D$12&\")=\"&$D$4&\" and localMonth(\"&$D$12&\") =\"&$E$4&\" and LocalDay(\"&$D$12&\")=\"&$F$4&\" and Barix(\"&$D$12&\",reference:=StartOfSession)=\"&A7&\"\", \"Bar\", \"\", \"Close\",\"5\",\"0\",\"PrimaryOnly\",,,\"False\",\"T\",\"EveryTick\")","v":1742.15},1.7998642913825656E-3,{"$f":"RTD(\"cqg.rtd\",,\"StudyData\", \"Close(\"&$D$12&\") when LocalYear(\"&$D$12&\")=\"&$D$5&\" and localMonth(\"&$D$12&\") =\"&$E$5&\" and LocalDay(\"&$D$12&\")=\"&$F$5&\" and Barix(\"&$D$12&\",reference:=StartOfSession)=\"&A7&\"\", \"Bar\", \"\", \"Close\",\"5\",\"0\",\"PrimaryOnly\",,,\"False\",\"T\",\"EveryTick\")","v":1722.8},7.1143379924354447E-3,{"$f":"RTD(\"cqg.rtd\",,\"StudyData\", \"Close(\"&$D$12&\") when LocalYear(\"&$D$12&\")=\"&$D$6&\" and localMonth(\"&$D$12&\") =\"&$E$6&\" and LocalDay(\"&$D$12&\")=\"&$F$6&\" and Barix(\"&$D$12&\",reference:=StartOfSession)=\"&A7&\"\", \"Bar\", \"\", \"Close\",\"5\",\"0\",\"PrimaryOnly\",,,\"False\",\"T\",\"EveryTick\")","v":1707.98},4.8537120601507295E-3,{"$f":"RTD(\"cqg.rtd\",,\"StudyData\", \"Close(\"&$D$12&\") when LocalYear(\"&$D$12&\")=\"&$D$7&\" and localMonth(\"&$D$12&\") =\"&$E$7&\" and LocalDay(\"&$D$12&\")=\"&$F$7&\" and Barix(\"&$D$12&\",reference:=StartOfSession)=\"&A7&\"\", \"Bar\", \"\", \"Close\",\"5\",\"0\",\"PrimaryOnly\",,,\"False\",\"T\",\"EveryTick\")","v":1700.07},3.6069328673639873E-3,{"$f":"RTD(\"cqg.rtd\",,\"StudyData\", \"Close(\"&$D$12&\") when LocalYear(\"&$D$12&\")=\"&$D$8&\" and localMonth(\"&$D$12&\") =\"&$E$8&\" and LocalDay(\"&$D$12&\")=\"&$F$8&\" and Barix(\"&$D$12&\",reference:=StartOfSession)=\"&A7&\"\", \"Bar\", \"\", \"Close\",\"5\",\"0\",\"PrimaryOnly\",,,\"False\",\"T\",\"EveryTick\")","v":1708.37},-3.1567645788841518E-3,{"$f":"RTD(\"cqg.rtd\",,\"StudyData\", \"Close(\"&$D$12&\") when LocalYear(\"&$D$12&\")=\"&$D$9&\" and localMonth(\"&$D$12&\") =\"&$E$9&\" and LocalDay(\"&$D$12&\")=\"&$F$9&\" and Barix(\"&$D$12&\",reference:=StartOfSession)=\"&A7&\"\", \"Bar\", \"\", \"Close\",\"5\",\"0\",\"PrimaryOnly\",,,\"False\",\"T\",\"EveryTick\")","v":1694.56},-3.0827156136016055E-3,{"$f":"RTD(\"cqg.rtd\",,\"StudyData\", \"Close(\"&$D$12&\") when LocalYear(\"&$D$12&\")=\"&$D$10&\" and localMonth(\"&$D$12&\") =\"&$E$10&\" and LocalDay(\"&$D$12&\")=\"&$F$10&\" and Barix(\"&$D$12&\",reference:=StartOfSession)=\"&A7&\"\", \"Bar\", \"\", \"Close\",\"5\",\"0\",\"PrimaryOnly\",,,\"False\",\"T\",\"EveryTick\")","v":1721.22},1.1619501013841125E-2,{"$f":"RANK(AD7,$AD$1:$AD$10)+COUNTIF($AD$1:AD7,AD7)-1","v":8},"2018-07-05",{"$f":"IFERROR(VLOOKUP(MAX(AE2:AE81),A1:U81,21,FALSE),\"\")","v":-5.0178280478885946E-4},"",7,"2018-07-11",1.4227770542778078E-3,null,null,"2018-07-11","2018-07-05",6,2]
[7,"09:05:00",{"$f":" RTD(\"cqg.rtd\",,\"StudyData\",$D$12, \"Bar\", \"\", \"Time\",\"D\",\"-7\",,,,,\"T\")","v":"2018-07-03"},2018,7,3,{"$f":"RTD(\"cqg.rtd\",,\"StudyData\",$D$12,\"Bar\",,\"Close\",\"D\",\"-7\",,,,,\"T\")","v":1693.96},{"$f":"RTD(\"cqg.rtd\",,\"StudyData\", \"Close(\"&$D$12&\") when LocalYear(\"&$D$12&\")=\"&$D$1&\" and localMonth(\"&$D$12&\") =\"&$E$1&\" and LocalDay(\"&$D$12&\")=\"&$F$1&\" and Barix(\"&$D$12&\",reference:=StartOfSession)=\"&A8&\"\", \"Bar\", \"\", \"Close\",\"5\",\"0\",\"PrimaryOnly\",,,\"False\",\"T\",\"EveryTick\")","v":1809.24},7.0243011877860195E-3,{"$f":"RTD(\"cqg.rtd\",,\"StudyData\", \"Close(\"&$D$12&\") when LocalYear(\"&$D$12&\")=\"&$D$2&\" and localMonth(\"&$D$12&\") =\"&$E$2&\" and LocalDay(\"&$D$12&\")=\"&$F$2&\" and Barix(\"&$D$12&\",reference:=StartOfSession)=\"&A8&\"\", \"Bar\", \"\", \"Close\",\"5\",\"0\",\"PrimaryOnly\",,,\"False\",\"T\",\"EveryTick\")","v":1773.21},1.0376068376068397E-2,{"$f":"RTD(\"cqg.rtd\",,\"StudyData\", \"Close(\"&$D$12&\") when LocalYear(\"&$D$12&\")=\"&$D$3&\" and localMonth(\"&$D$12&\") =\"&$E$3&\" and LocalDay(\"&$D$12&\")=\"&$F$3&\" and Barix(\"&$D$12&\",reference:=StartOfSession)=\"&A8&\"\", \"Bar\", \"\", \"Close\",\"5\",\"0\",\"PrimaryOnly\",,,\"False\",\"T\",\"EveryTick\")","v":1749.95},3.947058924770726E-3,{"$f":"RTD(\"cqg.rtd\",,\"StudyData\", \"Close(\"&$D$12&\") when LocalYear(\"&$D$12&\")=\"&$D$4&\" and localMonth(\"&$D$12&\") =\"&$E$4&\" and LocalDay(\"&$D$12&\")=\"&$F$4&\" and Barix(\"&$D$12&\",reference:=StartOfSession)=\"&A8&\"\", \"Bar\", \"\", \"Close\",\"5\",\"0\",\"PrimaryOnly\",,,\"False\",\"T\",\"EveryTick\")","v":1742.49},1.9953767064208733E-3,{"$f":"RTD(\"cqg.rtd\",,\"StudyData\", \"Close(\"&$D$12&\") when LocalYear(\"&$D$12&\")=\"&$D$5&\" and localMonth(\"&$D$12&\") =\"&$E$5&\" and LocalDay(\"&$D$12&\")=\"&$F$5&\" and Barix(\"&$D$12&\",reference:=StartOfSession)=\"&A8&\"\", \"Bar\", \"\", \"Close\",\"5\",\"0\",\"PrimaryOnly\",,,\"False\",\"T\",\"EveryTick\")","v":1723.14},7.3130951754616664E-3,{"$f":"RTD(\"cqg.rtd\",,\"StudyData\", \"Close(\"&$D$12&\") when LocalYear(\"&$D$12&\")=\"&$D$6&\" and localMonth(\"&$D$12&\") =\"&$E$6&\" and LocalDay(\"&$D$12&\")=\"&$F$6&\" and Barix(\"&$D$12&\",reference:=StartOfSession)=\"&A8&\"\", \"Bar\", \"\", \"Close\",\"5\",\"0\",\"PrimaryOnly\",,,\"False\",\"T\",\"EveryTick\")","v":1707.78},4.736046313237958E-3,{"$f":"RTD(\"cqg.rtd\",,\"StudyData\", \"Close(\"&$D$12&\") when LocalYear(\"&$D$12&\")=\"&$D$7&\" and localMonth(\"&$D$12&\") =\"&$E$7&\" and LocalDay(\"&$D$12&\")=\"&$F$7&\" and Barix(\"&$D$12&\",reference:=StartOfSession)=\"&A8&\"\", \"Bar\", \"\", \"Close\",\"5\",\"0\",\"PrimaryOnly\",,,\"False\",\"T\",\"EveryTick\")","v":1703.66},5.7262273017072689E-3,{"$f":"RTD(\"cqg.rtd\",,\"StudyData\", \"Close(\"&$D$12&\") when LocalYear(\"&$D$12&\")=\"&$D$8&\" and localMonth(\"&$D$12&\") =\"&$E$8&\" and LocalDay(\"&$D$12&\")=\"&$F$8&\" and Barix(\"&$D$12&\",reference:=StartOfSession)=\"&A8&\"\", \"Bar\", \"\", \"Close\",\"5\",\"0\",\"PrimaryOnly\",,,\"False\",\"T\",\"EveryTick\")","v":1708.05},-3.3434863284669083E-3,{"$f":"RTD(\"cqg.rtd\",,\"StudyData\", \"Close(\"&$D$12&\") when LocalYear(\"&$D$12&\")=\"&$D$9&\" and localMonth(\"&$D$12&\") =\"&$E$9&\" and LocalDay(\"&$D$12&\")=\"&$F$9&\" and Barix(\"&$D$12&\",reference:=StartOfSession)=\"&A8&\"\", \"Bar\", \"\", \"Close\",\"5\",\"0\",\"PrimaryOnly\",,,\"False\",\"T\",\"EveryTick\")","v":1696.5},-1.9414048711612864E-3,{"$f":"RTD(\"cqg.rtd\",,\"StudyData\", \"Close(\"&$D$12&\") when LocalYear(\"&$D$12&\")=\"&$D$10&\" and localMonth(\"&$D$12&\") =\"&$E$10&\" and LocalDay(\"&$D$12&\")=\"&$F$10&\" and Barix(\"&$D$12&\",reference:=StartOfSession)=\"&A8&\"\", \"Bar\", \"\", \"Close\",\"5\",\"0\",\"PrimaryOnly\",,,\"False\",\"T\",\"EveryTick\")","v":1716.51},8.8512739134267507E-3,{"$f":"RANK(AD8,$AD$1:$AD$10)+COUNTIF($AD$1:AD8,AD8)-1","v":10},"2018-07-03",{"$f":"IFERROR(VLOOKUP(MAX(AE2:AE81),A1:W81,23,FALSE),\"\")","v":-3.3726616018391934E-3},"",8,"2018-07-05",-5.0178280478885946E-4,null,null,"2018-07-05","2018-07-03",7,6]
[8,"09:10:00",{"$f":" RTD(\"cqg.rtd\",,\"StudyData\",$D$12, \"Bar\", \"\", \"Time\",\"D\",\"-8\",,,,,\"T\")","v":"2018-07-02"},2018,7,2,{"$f":"RTD(\"cqg.rtd\",,\"StudyData\",$D$12,\"Bar\",,\"Close\",\"D\",\"-8\",,,,,\"T\")","v":1713.78},{"$f":"RTD(\"cqg.rtd\",,\"StudyData\", \"Close(\"&$D$12&\") when LocalYear(\"&$D$12&\")=\"&$D$1&\" and localMonth(\"&$D$12&\") =\"&$E$1&\" and LocalDay(\"&$D$12&\")=\"&$F$1&\" and Barix(\"&$D$12&\",reference:=StartOfSession)=\"&A9&\"\", \"Bar\", \"\", \"Close\",\"5\",\"0\",\"PrimaryOnly\",,,\"False\",\"T\",\"EveryTick\")","v":1806.12},5.2877069163206466E-3,{"$f":"RTD(\"cqg.rtd\",,\"StudyData\", \"Close(\"&$D$12&\") when LocalYear(\"&$D$12&\")=\"&$D$2&\" and localMonth(\"&$D$12&\") =\"&$E$2&\" and LocalDay(\"&$D$12&\")=\"&$F$2&\" and Barix(\"&$D$12&\",reference:=StartOfSession)=\"&A9&\"\", \"Bar\", \"\", \"Close\",\"5\",\"0\",\"PrimaryOnly\",,,\"False\",\"T\",\"EveryTick\")","v":1773.16},1.0347578347578395E-2,{"$f":"RTD(\"cqg.rtd\",,\"StudyData\", \"Close(\"&$D$12&\") when LocalYear(\"&$D$12&\")=\"&$D$3&\" and localMonth(\"&$D$12&\") =\"&$E$3&\" and LocalDay(\"&$D$12&\")=\"&$F$3&\" and Barix(\"&$D$12&\",reference:=StartOfSession)=\"&A9&\"\", \"Bar\", \"\", \"Close\",\"5\",\"0\",\"PrimaryOnly\",,,\"False\",\"T\",\"EveryTick\")","v":1748.4},3.0578232658471289E-3,{"$f":"RTD(\"cqg.rtd\",,\"StudyData\", \"Close(\"&$D$12&\") when LocalYear(\"&$D$12&\")=\"&$D$4&\" and localMonth(\"&$D$12&\") =\"&$E$4&\" and LocalDay(\"&$D$12&\")=\"&$F$4&\" and Barix(\"&$D$12&\",reference:=StartOfSession)=\"&A9&\"\", \"Bar\", \"\", \"Close\",\"5\",\"0\",\"PrimaryOnly\",,,\"False\",\"T\",\"EveryTick\")","v":1741.74},1.5640993203068553E-3,{"$f":"RTD(\"cqg.rtd\",,\"StudyData\", \"Close(\"&$D$12&\") when LocalYear(\"&$D$12&\")=\"&$D$5&\" and localMonth(\"&$D$12&\") =\"&$E$5&\" and LocalDay(\"&$D$12&\")=\"&$F$5&\" and Barix(\"&$D$12&\",reference:=StartOfSession)=\"&A9&\"\", \"Bar\", \"\", \"Close\",\"5\",\"0\",\"PrimaryOnly\",,,\"False\",\"T\",\"EveryTick\")","v":1718.15},4.3960412245780687E-3,{"$f":"RTD(\"cqg.rtd\",,\"StudyData\", \"Close(\"&$D$12&\") when LocalYear(\"&$D$12&\")=\"&$D$6&\" and localMonth(\"&$D$12&\") =\"&$E$6&\" and LocalDay(\"&$D$12&\")=\"&$F$6&\" and Barix(\"&$D$12&\",reference:=StartOfSession)=\"&A9&\"\", \"Bar\", \"\", \"Close\",\"5\",\"0\",\"PrimaryOnly\",,,\"False\",\"T\",\"EveryTick\")","v":1706.64},4.0653515558353864E-3,{"$f":"RTD(\"cqg.rtd\",,\"StudyData\", \"Close(\"&$D$12&\") when LocalYear(\"&$D$12&\")=\"&$D$7&\" and localMonth(\"&$D$12&\") =\"&$E$7&\" and LocalDay(\"&$D$12&\")=\"&$F$7&\" and Barix(\"&$D$12&\",reference:=StartOfSession)=\"&A9&\"\", \"Bar\", \"\", \"Close\",\"5\",\"0\",\"PrimaryOnly\",,,\"False\",\"T\",\"EveryTick\")","v":1698.64},2.762757089895903E-3,{"$f":"RTD(\"cqg.rtd\",,\"StudyData\", \"Close(\"&$D$12&\") when LocalYear(\"&$D$12&\")=\"&$D$8&\" and localMonth(\"&$D$12&\") =\"&$E$8&\" and LocalDay(\"&$D$12&\")=\"&$F$8&\" and Barix(\"&$D$12&\",reference:=StartOfSession)=\"&A9&\"\", \"Bar\", \"\", \"Close\",\"5\",\"0\",\"PrimaryOnly\",,,\"False\",\"T\",\"EveryTick\")","v":1712.16},-9.4527885726282889E-4,{"$f":"RTD(\"cqg.rtd\",,\"StudyData\", \"Close(\"&$D$12&\") when LocalYear(\"&$D$12&\")=\"&$D$9&\" and localMonth(\"&$D$12&\") =\"&$E$9&\" and LocalDay(\"&$D$12&\")=\"&$F$9&\" and Barix(\"&$D$12&\",reference:=StartOfSession)=\"&A9&\"\", \"Bar\", \"\", \"Close\",\"5\",\"0\",\"PrimaryOnly\",,,\"False\",\"T\",\"EveryTick\")","v":1692.84},-4.0945993646311542E-3,{"$f":"RTD(\"cqg.rtd\",,\"StudyData\", \"Close(\"&$D$12&\") when LocalYear(\"&$D$12&\")=\"&$D$10&\" and localMonth(\"&$D$12&\") =\"&$E$10&\" and LocalDay(\"&$D$12&\")=\"&$F$10&\" and Barix(\"&$D$12&\",reference:=StartOfSession)=\"&A9&\"\", \"Bar\", \"\", \"Close\",\"5\",\"0\",\"PrimaryOnly\",,,\"False\",\"T\",\"EveryTick\")","v":1714.85},7.8756354873783328E-3,{"$f":"RANK(AD9,$AD$1:$AD$10)+COUNTIF($AD$1:AD9,AD9)-1","v":9},"2018-07-02",{"$f":"IFERROR(VLOOKUP(MAX(AE2:AE81),A1:Y81,25,FALSE),\"\")","v":-1.7884456994940367E-3},"",9,"2018-07-02",-1.7884456994940367E-3,null,null,"2018-07-02","2018-07-02",8,8]
[9,"09:15:00",{"$f":" RTD(\"cqg.rtd\",,\"StudyData\",$D$12, \"Bar\", \"\", \"Time\",\"D\",\"-9\",,,,,\"T\")","v":"2018-06-29"},2018,6,29,{"$f":"RTD(\"cqg.rtd\",,\"StudyData\",$D$12,\"Bar\",,\"Close\",\"D\",\"-9\",,,,,\"T\")","v":1699.8},{"$f":"RTD(\"cqg.rtd\",,\"StudyData\", \"Close(\"&$D$12&\") when LocalYear(\"&$D$12&\")=\"&$D$1&\" and localMonth(\"&$D$12&\") =\"&$E$1&\" and LocalDay(\"&$D$12&\")=\"&$F$1&\" and Barix(\"&$D$12&\",reference:=StartOfSession)=\"&A10&\"\", \"Bar\", \"\", \"Close\",\"5\",\"0\",\"PrimaryOnly\",,,\"False\",\"T\",\"EveryTick\")","v":1801.68},2.8163996838508829E-3,{"$f":"RTD(\"cqg.rtd\",,\"StudyData\", \"Close(\"&$D$12&\") when LocalYear(\"&$D$12&\")=\"&$D$2&\" and localMonth(\"&$D$12&\") =\"&$E$2&\" and LocalDay(\"&$D$12&\")=\"&$F$2&\" and Barix(\"&$D$12&\",reference:=StartOfSession)=\"&A10&\"\", \"Bar\", \"\", \"Close\",\"5\",\"0\",\"PrimaryOnly\",,,\"False\",\"T\",\"EveryTick\")","v":1776.98},1.2524216524216534E-2,{"$f":"RTD(\"cqg.rtd\",,\"StudyData\", \"Close(\"&$D$12&\") when LocalYear(\"&$D$12&\")=\"&$D$3&\" and localMonth(\"&$D$12&\") =\"&$E$3&\" and LocalDay(\"&$D$12&\")=\"&$F$3&\" and Barix(\"&$D$12&\",reference:=StartOfSession)=\"&A10&\"\", \"Bar\", \"\", \"Close\",\"5\",\"0\",\"PrimaryOnly\",,,\"False\",\"T\",\"EveryTick\")","v":1750.96},4.5264963541338556E-3,{"$f":"RTD(\"cqg.rtd\",,\"StudyData\", \"Close(\"&$D$12&\") when LocalYear(\"&$D$12&\")=\"&$D$4&\" and localMonth(\"&$D$12&\") =\"&$E$4&\" and LocalDay(\"&$D$12&\")=\"&$F$4&\" and Barix(\"&$D$12&\",reference:=StartOfSession)=\"&A10&\"\", \"Bar\", \"\", \"Close\",\"5\",\"0\",\"PrimaryOnly\",,,\"False\",\"T\",\"EveryTick\")","v":1743},2.2886453289784007E-3,{"$f":"RTD(\"cqg.rtd\",,\"StudyData\", \"Close(\"&$D$12&\") when LocalYear(\"&$D$12&\")=\"&$D$5&\" and localMonth(\"&$D$12&\") =\"&$E$5&\" and LocalDay(\"&$D$12&\")=\"&$F$5&\" and Barix(\"&$D$12&\",reference:=StartOfSession)=\"&A10&\"\", \"Bar\", \"\", \"Close\",\"5\",\"0\",\"PrimaryOnly\",,,\"False\",\"T\",\"EveryTick\")","v":1718.94},4.8578593851387759E-3,{"$f":"RTD(\"cqg.rtd\",,\"StudyData\", \"Close(\"&$D$12&\") when LocalYear(\"&$D$12&\")=\"&$D$6&\" and localMonth(\"&$D$12&\") =\"&$E$6&\" and LocalDay(\"&$D$12&\")=\"&$F$6&\" and Barix(\"&$D$12&\",reference:=StartOfSession)=\"&A10&\"\", \"Bar\", \"\", \"Close\",\"5\",\"0\",\"PrimaryOnly\",,,\"False\",\"T\",\"EveryTick\")","v":1705.24},3.2416913274461185E-3,{"$f":"RTD(\"cqg.rtd\",,\"StudyData\", \"Close(\"&$D$12&\") when LocalYear(\"&$D$12&\")=\"&$D$7&\" and localMonth(\"&$D$12&\") =\"&$E$7&\" and LocalDay(\"&$D$12&\")=\"&$F$7&\" and Barix(\"&$D$12&\",reference:=StartOfSession)=\"&A10&\"\", \"Bar\", \"\", \"Close\",\"5\",\"0\",\"PrimaryOnly\",,,\"False\",\"T\",\"EveryTick\")","v":1698.54},2.7037238187442012E-3,{"$f":"RTD(\"cqg.rtd\",,\"StudyData\", \"Close(\"&$D$12&\") when LocalYear(\"&$D$12&\")=\"&$D$8&\" and localMonth(\"&$D$12&\") =\"&$E$8&\" and LocalDay(\"&$D$12&\")=\"&$F$8&\" and Barix(\"&$D$12&\",reference:=StartOfSession)=\"&A10&\"\", \"Bar\", \"\", \"Close\",\"5\",\"0\",\"PrimaryOnly\",,,\"False\",\"T\",\"EveryTick\")","v":1714.5},4.201239365613015E-4,{"$f":"RTD(\"cqg.rtd\",,\"StudyData\", \"Close(\"&$D$12&\") when LocalYear(\"&$D$12&\")=\"&$D$9&\" and localMonth(\"&$D$12&\") =\"&$E$9&\" and LocalDay(\"&$D$12&\")=\"&$F$9&\" and Barix(\"&$D$12&\",reference:=StartOfSession)=\"&A10&\"\", \"Bar\", \"\", \"Close\",\"5\",\"0\",\"PrimaryOnly\",,,\"False\",\"T\",\"EveryTick\")","v":1699.34},-2.7062007294978023E-4,{"$f":"RTD(\"cqg.rtd\",,\"StudyData\", \"Close(\"&$D$12&\") when LocalYear(\"&$D$12&\")=\"&$D$10&\" and localMonth(\"&$D$12&\") =\"&$E$10&\" and LocalDay(\"&$D$12&\")=\"&$F$10&\" and Barix(\"&$D$12&\",reference:=StartOfSession)=\"&A10&\"\", \"Bar\", \"\", \"Close\",\"5\",\"0\",\"PrimaryOnly\",,,\"False\",\"T\",\"EveryTick\")","v":1715.31},8.1459931235122393E-3,{"$f":"RANK(AD10,$AD$1:$AD$10)+COUNTIF($AD$1:AD10,AD10)-1","v":3},"2018-06-29",{"$f":"IFERROR(VLOOKUP(MAX(AE2:AE81),A1:AA81,27,FALSE),\"\")","v":8.2341532222516035E-3},"",10,"2018-07-03",-3.3726616018391934E-3,null,null,"2018-07-03","2018-06-29",9,7]
[10,"09:20:00",{"$f":" RTD(\"cqg.rtd\",,\"StudyData\",$D$12, \"Bar\", \"\", \"Time\",\"D\",\"-10\",,,,,\"T\")","v":"2018-06-28"},2018,6,28,{"$f":"RTD(\"cqg.rtd\",,\"StudyData\",$D$12,\"Bar\",,\"Close\",\"D\",\"-10\",,,,,\"T\")","v":1701.45},{"$f":"RTD(\"cqg.rtd\",,\"StudyData\", \"Close(\"&$D$12&\") when LocalYear(\"&$D$12&\")=\"&$D$1&\" and localMonth(\"&$D$12&\") =\"&$E$1&\" and LocalDay(\"&$D$12&\")=\"&$F$1&\" and Barix(\"&$D$12&\",reference:=StartOfSession)=\"&A11&\"\", \"Bar\", \"\", \"Close\",\"5\",\"0\",\"PrimaryOnly\",,,\"False\",\"T\",\"EveryTick\")","v":1805.66},5.0316705814252268E-3,{"$f":"RTD(\"cqg.rtd\",,\"StudyData\", \"Close(\"&$D$12&\") when LocalYear(\"&$D$12&\")=\"&$D$2&\" and localMonth(\"&$D$12&\") =\"&$E$2&\" and LocalDay(\"&$D$12&\")=\"&$F$2&\" and Barix(\"&$D$12&\",reference:=StartOfSession)=\"&A11&\"\", \"Bar\", \"\", \"Close\",\"5\",\"0\",\"PrimaryOnly\",,,\"False\",\"T\",\"EveryTick\")","v":1776},1.1965811965811967E-2,{"$f":"RTD(\"cqg.rtd\",,\"StudyData\", \"Close(\"&$D$12&\") when LocalYear(\"&$D$12&\")=\"&$D$3&\" and localMonth(\"&$D$12&\") =\"&$E$3&\" and LocalDay(\"&$D$12&\")=\"&$F$3&\" and Barix(\"&$D$12&\",reference:=StartOfSession)=\"&A11&\"\", \"Bar\", \"\", \"Close\",\"5\",\"0\",\"PrimaryOnly\",,,\"False\",\"T\",\"EveryTick\")","v":1751.01},4.5551813753894306E-3,{"$f":"RTD(\"cqg.rtd\",,\"StudyData\", \"Close(\"&$D$12&\") when LocalYear(\"&$D$12&\")=\"&$D$4&\" and localMonth(\"&$D$12&\") =\"&$E$4&\" and LocalDay(\"&$D$12&\")=\"&$F$4&\" and Barix(\"&$D$12&\",reference:=StartOfSession)=\"&A11&\"\", \"Bar\", \"\", \"Close\",\"5\",\"0\",\"PrimaryOnly\",,,\"False\",\"T\",\"EveryTick\")","v":1744.07},2.9039343998343635E-3,{"$f":"RTD(\"cqg.rtd\",,\"StudyData\", \"Close(\"&$D$12&\") when LocalYear(\"&$D$12&\")=\"&$D$5&\" and localMonth(\"&$D$12&\") =\"&$E$5&\" and LocalDay(\"&$D$12&\")=\"&$F$5&\" and Barix(\"&$D$12&\",reference:=StartOfSession)=\"&A11&\"\", \"Bar\", \"\", \"Close\",\"5\",\"0\",\"PrimaryOnly\",,,\"False\",\"T\",\"EveryTick\")","v":1722.17},6.7460526238870841E-3,{"$f":"RTD(\"cqg.rtd\",,\"StudyData\", \"Close(\"&$D$12&\") when LocalYear(\"&$D$12&\")=\"&$D$6&\" and localMonth(\"&$D$12&\") =\"&$E$6&\" and LocalDay(\"&$D$12&\")=\"&$F$6&\" and Barix(\"&$D$12&\",reference:=StartOfSession)=\"&A11&\"\", \"Bar\", \"\", \"Close\",\"5\",\"0\",\"PrimaryOnly\",,,\"False\",\"T\",\"EveryTick\")","v":1706.22},3.8182534873185793E-3,{"$f":"RTD(\"cqg.rtd\",,\"StudyData\", \"Close(\"&$D$12&\") when LocalYear(\"&$D$12&\")=\"&$D$7&\" and localMonth(\"&$D$12&\") =\"&$E$7&\" and LocalDay(\"&$D$12&\")=\"&$F$7&\" and Barix(\"&$D$12&\",reference:=StartOfSession)=\"&A11&\"\", \"Bar\", \"\", \"Close\",\"5\",\"0\",\"PrimaryOnly\",,,\"False\",\"T\",\"EveryTick\")","v":1695.34},8.1465914189230077E-4,{"$f":"RTD(\"cqg.rtd\",,\"StudyData\", \"Close(\"&$D$12&\") when LocalYear(\"&$D$12&\")=\"&$D$8&\" and localMonth(\"&$D$12&\") =\"&$E$8&\" and LocalDay(\"&$D$12&\")=\"&$F$8&\" and Barix(\"&$D$12&\",reference:=StartOfSession)=\"&A11&\"\", \"Bar\", \"\", \"Close\",\"5\",\"0\",\"PrimaryOnly\",,,\"False\",\"T\",\"EveryTick\")","v":1713.95},9.9195929465901558E-5,{"$f":"RTD(\"cqg.rtd\",,\"StudyData\", \"Close(\"&$D$12&\") when LocalYear(\"&$D$12&\")=\"&$D$9&\" and localMonth(\"&$D$12&\") =\"&$E$9&\" and LocalDay(\"&$D$12&\")=\"&$F$9&\" and Barix(\"&$D$12&\",reference:=StartOfSession)=\"&A11&\"\", \"Bar\", \"\", \"Close\",\"5\",\"0\",\"PrimaryOnly\",,,\"False\",\"T\",\"EveryTick\")","v":1698.5},-7.6479585833624808E-4,{"$f":"RTD(\"cqg.rtd\",,\"StudyData\", \"Close(\"&$D$12&\") when LocalYear(\"&$D$12&\")=\"&$D$10&\" and localMonth(\"&$D$12&\") =\"&$E$10&\" and LocalDay(\"&$D$12&\")=\"&$F$10&\" and Barix(\"&$D$12&\",reference:=StartOfSession)=\"&A11&\"\", \"Bar\", \"\", \"Close\",\"5\",\"0\",\"PrimaryOnly\",,,\"False\",\"T\",\"EveryTick\")","v":1718.48},1.0009109876869713E-2,null,null,null,""]
[11,"09:25:00",null,{"$f":"MainDisplay!R5","v":"S.AMZN"},null,null,null,{"$f":"RTD(\"cqg.rtd\",,\"StudyData\", \"Close(\"&$D$12&\") when LocalYear(\"&$D$12&\")=\"&$D$1&\" and localMonth(\"&$D$12&\") =\"&$E$1&\" and LocalDay(\"&$D$12&\")=\"&$F$1&\" and Barix(\"&$D$12&\",reference:=StartOfSession)=\"&A12&\"\", \"Bar\", \"\", \"Close\",\"5\",\"0\",\"PrimaryOnly\",,,\"False\",\"T\",\"EveryTick\")","v":1808.01},6.3396822923044941E-3,{"$f":"RTD(\"cqg.rtd\",,\"StudyData\", \"Close(\"&$D$12&\") when LocalYear(\"&$D$12&\")=\"&$D$2&\" and localMonth(\"&$D$12&\") =\"&$E$2&\" and LocalDay(\"&$D$12&\")=\"&$F$2&\" and Barix(\"&$D$12&\",reference:=StartOfSession)=\"&A12&\"\", \"Bar\", \"\", \"Close\",\"5\",\"0\",\"PrimaryOnly\",,,\"False\",\"T\",\"EveryTick\")","v":1778.88},1.3606837606837669E-2,{"$f":"RTD(\"cqg.rtd\",,\"StudyData\", \"Close(\"&$D$12&\") when LocalYear(\"&$D$12&\")=\"&$D$3&\" and localMonth(\"&$D$12&\") =\"&$E$3&\" and LocalDay(\"&$D$12&\")=\"&$F$3&\" and Barix(\"&$D$12&\",reference:=StartOfSession)=\"&A12&\"\", \"Bar\", \"\", \"Close\",\"5\",\"0\",\"PrimaryOnly\",,,\"False\",\"T\",\"EveryTick\")","v":1751.71},4.9567716729678676E-3,{"$f":"RTD(\"cqg.rtd\",,\"StudyData\", \"Close(\"&$D$12&\") when LocalYear(\"&$D$12&\")=\"&$D$4&\" and localMonth(\"&$D$12&\") =\"&$E$4&\" and LocalDay(\"&$D$12&\")=\"&$F$4&\" and Barix(\"&$D$12&\",reference:=StartOfSession)=\"&A12&\"\", \"Bar\", \"\", \"Close\",\"5\",\"0\",\"PrimaryOnly\",,,\"False\",\"T\",\"EveryTick\")","v":1743.93},2.82342928775982E-3,{"$f":"RTD(\"cqg.rtd\",,\"StudyData\", \"Close(\"&$D$12&\") when LocalYear(\"&$D$12&\")=\"&$D$5&\" and localMonth(\"&$D$12&\") =\"&$E$5&\" and LocalDay(\"&$D$12&\")=\"&$F$5&\" and Barix(\"&$D$12&\",reference:=StartOfSession)=\"&A12&\"\", \"Bar\", \"\", \"Close\",\"5\",\"0\",\"PrimaryOnly\",,,\"False\",\"T\",\"EveryTick\")","v":1721.06},6.0971688793016818E-3,{"$f":"RTD(\"cqg.rtd\",,\"StudyData\", \"Close(\"&$D$12&\") when LocalYear(\"&$D$12&\")=\"&$D$6&\" and localMonth(\"&$D$12&\") =\"&$E$6&\" and LocalDay(\"&$D$12&\")=\"&$F$6&\" and Barix(\"&$D$12&\",reference:=StartOfSession)=\"&A12&\"\", \"Bar\", \"\", \"Close\",\"5\",\"0\",\"PrimaryOnly\",,,\"False\",\"T\",\"EveryTick\")","v":1707.53},4.5889641295970268E-3,{"$f":"RTD(\"cqg.rtd\",,\"StudyData\", \"Close(\"&$D$12&\") when LocalYear(\"&$D$12&\")=\"&$D$7&\" and localMonth(\"&$D$12&\") =\"&$E$7&\" and LocalDay(\"&$D$12&\")=\"&$F$7&\" and Barix(\"&$D$12&\",reference:=StartOfSession)=\"&A12&\"\", \"Bar\", \"\", \"Close\",\"5\",\"0\",\"PrimaryOnly\",,,\"False\",\"T\",\"EveryTick\")","v":1694.73},4.5455618786747137E-4,{"$f":"RTD(\"cqg.rtd\",,\"StudyData\", \"Close(\"&$D$12&\") when LocalYear(\"&$D$12&\")=\"&$D$8&\" and localMonth(\"&$D$12&\") =\"&$E$8&\" and LocalDay(\"&$D$12&\")=\"&$F$8&\" and Barix(\"&$D$12&\",reference:=StartOfSession)=\"&A12&\"\", \"Bar\", \"\", \"Close\",\"5\",\"0\",\"PrimaryOnly\",,,\"False\",\"T\",\"EveryTick\")","v":1712.45},-7.7606227170344338E-4,{"$f":"RTD(\"cqg.rtd\",,\"StudyData\", \"Close(\"&$D$12&\") when LocalYear(\"&$D$12&\")=\"&$D$9&\" and localMonth(\"&$D$12&\") =\"&$E$9&\" and LocalDay(\"&$D$12&\")=\"&$F$9&\" and Barix(\"&$D$12&\",reference:=StartOfSession)=\"&A12&\"\", \"Bar\", \"\", \"Close\",\"5\",\"0\",\"PrimaryOnly\",,,\"False\",\"T\",\"EveryTick\")","v":1701.68},1.1060124720556001E-3,{"$f":"RTD(\"cqg.rtd\",,\"StudyData\", \"Close(\"&$D$12&\") when LocalYear(\"&$D$12&\")=\"&$D$10&\" and localMonth(\"&$D$12&\") =\"&$E$10&\" and LocalDay(\"&$D$12&\")=\"&$F$10&\" and Barix(\"&$D$12&\",reference:=StartOfSession)=\"&A12&\"\", \"Bar\", \"\", \"Close\",\"5\",\"0\",\"PrimaryOnly\",,,\"False\",\"T\",\"EveryTick\")","v":1714},7.3760615945222922E-3,null,{"$f":"VLOOKUP(MAX(AE2:AE81),A1:B81,2,FALSE)","v":"10:20:00"},null,""]
[12,"09:30:00",null,{"$f":"RTD(\"cqg.rtd\", ,\"ContractData\",D12, \"LastQuoteToday\",, \"T\")","v":1808.73},null,null,{"$f":"C1","v":"2018-07-13"},{"$f":"RTD(\"cqg.rtd\",,\"StudyData\", \"Close(\"&$D$12&\") when LocalYear(\"&$D$12&\")=\"&$D$1&\" and localMonth(\"&$D$12&\") =\"&$E$1&\" and LocalDay(\"&$D$12&\")=\"&$F$1&\" and Barix(\"&$D$12&\",reference:=StartOfSession)=\"&A13&\"\", \"Bar\", \"\", \"Close\",\"5\",\"0\",\"PrimaryOnly\",,,\"False\",\"T\",\"EveryTick\")","v":1806.89},5.7162894769067522E-3,{"$f":"RTD(\"cqg.rtd\",,\"StudyData\", \"Close(\"&$D$12&\") when LocalYear(\"&$D$12&\")=\"&$D$2&\" and localMonth(\"&$D$12&\") =\"&$E$2&\" and LocalDay(\"&$D$12&\")=\"&$F$2&\" and Barix(\"&$D$12&\",reference:=StartOfSession)=\"&A13&\"\", \"Bar\", \"\", \"Close\",\"5\",\"0\",\"PrimaryOnly\",,,\"False\",\"T\",\"EveryTick\")","v":1778.25},1.3247863247863248E-2,{"$f":"RTD(\"cqg.rtd\",,\"StudyData\", \"Close(\"&$D$12&\") when LocalYear(\"&$D$12&\")=\"&$D$3&\" and localMonth(\"&$D$12&\") =\"&$E$3&\" and LocalDay(\"&$D$12&\")=\"&$F$3&\" and Barix(\"&$D$12&\",reference:=StartOfSession)=\"&A13&\"\", \"Bar\", \"\", \"Close\",\"5\",\"0\",\"PrimaryOnly\",,,\"False\",\"T\",\"EveryTick\")","v":1748.58},3.1610893423671977E-3,{"$f":"RTD(\"cqg.rtd\",,\"StudyData\", \"Close(\"&$D$12&\") when LocalYear(\"&$D$12&\")=\"&$D$4&\" and localMonth(\"&$D$12&\") =\"&$E$4&\" and LocalDay(\"&$D$12&\")=\"&$F$4&\" and Barix(\"&$D$12&\",reference:=StartOfSession)=\"&A13&\"\", \"Bar\", \"\", \"Close\",\"5\",\"0\",\"PrimaryOnly\",,,\"False\",\"T\",\"EveryTick\")","v":1744.9},3.381214707133966E-3,{"$f":"RTD(\"cqg.rtd\",,\"StudyData\", \"Close(\"&$D$12&\") when LocalYear(\"&$D$12&\")=\"&$D$5&\" and localMonth(\"&$D$12&\") =\"&$E$5&\" and LocalDay(\"&$D$12&\")=\"&$F$5&\" and Barix(\"&$D$12&\",reference:=StartOfSession)=\"&A13&\"\", \"Bar\", \"\", \"Close\",\"5\",\"0\",\"PrimaryOnly\",,,\"False\",\"T\",\"EveryTick\")","v":1719.18},4.9981585731572308E-3,{"$f":"RTD(\"cqg.rtd\",,\"StudyData\", \"Close(\"&$D$12&\") when LocalYear(\"&$D$12&\")=\"&$D$6&\" and localMonth(\"&$D$12&\") =\"&$E$6&\" and LocalDay(\"&$D$12&\")=\"&$F$6&\" and Barix(\"&$D$12&\",reference:=StartOfSession)=\"&A13&\"\", \"Bar\", \"\", \"Close\",\"5\",\"0\",\"PrimaryOnly\",,,\"False\",\"T\",\"EveryTick\")","v":1705.07},3.1416754425702422E-3,{"$f":"RTD(\"cqg.rtd\",,\"StudyData\", \"Close(\"&$D$12&\") when LocalYear(\"&$D$12&\")=\"&$D$7&\" and localMonth(\"&$D$12&\") =\"&$E$7&\" and LocalDay(\"&$D$12&\")=\"&$F$7&\" and Barix(\"&$D$12&\",reference:=StartOfSession)=\"&A13&\"\", \"Bar\", \"\", \"Close\",\"5\",\"0\",\"PrimaryOnly\",,,\"False\",\"T\",\"EveryTick\")","v":1690.62},-1.9717112564642289E-3,{"$f":"RTD(\"cqg.rtd\",,\"StudyData\", \"Close(\"&$D$12&\") when LocalYear(\"&$D$12&\")=\"&$D$8&\" and localMonth(\"&$D$12&\") =\"&$E$8&\" and LocalDay(\"&$D$12&\")=\"&$F$8&\" and Barix(\"&$D$12&\",reference:=StartOfSession)=\"&A13&\"\", \"Bar\", \"\", \"Close\",\"5\",\"0\",\"PrimaryOnly\",,,\"False\",\"T\",\"EveryTick\")","v":1714.43},3.7927855384010256E-4,{"$f":"RTD(\"cqg.rtd\",,\"StudyData\", \"Close(\"&$D$12&\") when LocalYear(\"&$D$12&\")=\"&$D$9&\" and localMonth(\"&$D$12&\") =\"&$E$9&\" and LocalDay(\"&$D$12&\")=\"&$F$9&\" and Barix(\"&$D$12&\",reference:=StartOfSession)=\"&A13&\"\", \"Bar\", \"\", \"Close\",\"5\",\"0\",\"PrimaryOnly\",,,\"False\",\"T\",\"EveryTick\")","v":1701.85},1.2060242381456375E-3,{"$f":"RTD(\"cqg.rtd\",,\"StudyData\", \"Close(\"&$D$12&\") when LocalYear(\"&$D$12&\")=\"&$D$10&\" and localMonth(\"&$D$12&\") =\"&$E$10&\" and LocalDay(\"&$D$12&\")=\"&$F$10&\" and Barix(\"&$D$12&\",reference:=StartOfSession)=\"&A13&\"\", \"Bar\", \"\", \"Close\",\"5\",\"0\",\"PrimaryOnly\",,,\"False\",\"T\",\"EveryTick\")","v":1713.46},7.0586852390607958E-3,null,null,null,""]
[13,"09:35:00",null,{"$f":"RTD(\"cqg.rtd\", ,\"ContractData\",D12, \"LongDescription\",, \"T\")","v":"Amazon.com Inc"},null,null,{"$f":"C2","v":"2018-07-12"},{"$f":"RTD(\"cqg.rtd\",,\"StudyData\", \"Close(\"&$D$12&\") when LocalYear(\"&$D$12&\")=\"&$D$1&\" and localMonth(\"&$D$12&\") =\"&$E$1&\" and LocalDay(\"&$D$12&\")=\"&$F$1&\" and Barix(\"&$D$12&\",reference:=StartOfSession)=\"&A14&\"\", \"Bar\", \"\", \"Close\",\"5\",\"0\",\"PrimaryOnly\",,,\"False\",\"T\",\"EveryTick\")","v":1808.69},6.718170787367481E-3,{"$f":"RTD(\"cqg.rtd\",,\"StudyData\", \"Close(\"&$D$12&\") when LocalYear(\"&$D$12&\")=\"&$D$2&\" and localMonth(\"&$D$12&\") =\"&$E$2&\" and LocalDay(\"&$D$12&\")=\"&$F$2&\" and Barix(\"&$D$12&\",reference:=StartOfSession)=\"&A14&\"\", \"Bar\", \"\", \"Close\",\"5\",\"0\",\"PrimaryOnly\",,,\"False\",\"T\",\"EveryTick\")","v":1780.42},1.4484330484330525E-2,{"$f":"RTD(\"cqg.rtd\",,\"StudyData\", \"Close(\"&$D$12&\") when LocalYear(\"&$D$12&\")=\"&$D$3&\" and localMonth(\"&$D$12&\") =\"&$E$3&\" and LocalDay(\"&$D$12&\")=\"&$F$3&\" and Barix(\"&$D$12&\",reference:=StartOfSession)=\"&A14&\"\", \"Bar\", \"\", \"Close\",\"5\",\"0\",\"PrimaryOnly\",,,\"False\",\"T\",\"EveryTick\")","v":1749.2},3.5167836059367148E-3,{"$f":"RTD(\"cqg.rtd\",,\"StudyData\", \"Close(\"&$D$12&\") when LocalYear(\"&$D$12&\")=\"&$D$4&\" and localMonth(\"&$D$12&\") =\"&$E$4&\" and LocalDay(\"&$D$12&\")=\"&$F$4&\" and Barix(\"&$D$12&\",reference:=StartOfSession)=\"&A14&\"\", \"Bar\", \"\", \"Close\",\"5\",\"0\",\"PrimaryOnly\",,,\"False\",\"T\",\"EveryTick\")","v":1748.3},5.3363388575174368E-3,{"$f":"RTD(\"cqg.rtd\",,\"StudyData\", \"Close(\"&$D$12&\") when LocalYear(\"&$D$12&\")=\"&$D$5&\" and localMonth(\"&$D$12&\") =\"&$E$5&\" and LocalDay(\"&$D$12&\")=\"&$F$5&\" and Barix(\"&$D$12&\",reference:=StartOfSession)=\"&A14&\"\", \"Bar\", \"\", \"Close\",\"5\",\"0\",\"PrimaryOnly\",,,\"False\",\"T\",\"EveryTick\")","v":1722.83},7.1318753909377346E-3,{"$f":"RTD(\"cqg.rtd\",,\"StudyData\", \"Close(\"&$D$12&\") when LocalYear(\"&$D$12&\")=\"&$D$6&\" and localMonth(\"&$D$12&\") =\"&$E$6&\" and LocalDay(\"&$D$12&\")=\"&$F$6&\" and Barix(\"&$D$12&\",reference:=StartOfSession)=\"&A14&\"\", \"Bar\", \"\", \"Close\",\"5\",\"0\",\"PrimaryOnly\",,,\"False\",\"T\",\"EveryTick\")","v":1706.03},3.7064710277514394E-3,{"$f":"RTD(\"cqg.rtd\",,\"StudyData\", \"Close(\"&$D$12&\") when LocalYear(\"&$D$12&\")=\"&$D$7&\" and localMonth(\"&$D$12&\") =\"&$E$7&\" and LocalDay(\"&$D$12&\")=\"&$F$7&\" and Barix(\"&$D$12&\",reference:=StartOfSession)=\"&A14&\"\", \"Bar\", \"\", \"Close\",\"5\",\"0\",\"PrimaryOnly\",,,\"False\",\"T\",\"EveryTick\")","v":1689.42},-2.6801105102835744E-3,{"$f":"RTD(\"cqg.rtd\",,\"StudyData\", \"Close(\"&$D$12&\") when LocalYear(\"&$D$12&\")=\"&$D$8&\" and localMonth(\"&$D$12&\") =\"&$E$8&\" and LocalDay(\"&$D$12&\")=\"&$F$8&\" and Barix(\"&$D$12&\",reference:=StartOfSession)=\"&A14&\"\", \"Bar\", \"\", \"Close\",\"5\",\"0\",\"PrimaryOnly\",,,\"False\",\"T\",\"EveryTick\")","v":1716.81},1.768021566362061E-3,{"$f":"RTD(\"cqg.rtd\",,\"StudyData\", \"Close(\"&$D$12&\") when LocalYear(\"&$D$12&\")=\"&$D$9&\" and localMonth(\"&$D$12&\") =\"&$E$9&\" and LocalDay(\"&$D$12&\")=\"&$F$9&\" and Barix(\"&$D$12&\",reference:=StartOfSession)=\"&A14&\"\", \"Bar\", \"\", \"Close\",\"5\",\"0\",\"PrimaryOnly\",,,\"False\",\"T\",\"EveryTick\")","v":1700.94},6.7066713731033065E-4,{"$f":"RTD(\"cqg.rtd\",,\"StudyData\", \"Close(\"&$D$12&\") when LocalYear(\"&$D$12&\")=\"&$D$10&\" and localMonth(\"&$D$12&\") =\"&$E$10&\" and LocalDay(\"&$D$12&\")=\"&$F$10&\" and Barix(\"&$D$12&\",reference:=StartOfSession)=\"&A14&\"\", \"Bar\", \"\", \"Close\",\"5\",\"0\",\"PrimaryOnly\",,,\"False\",\"T\",\"EveryTick\")","v":1714},7.3760615945222922E-3,null,null,null,""]
[14,"09:40:00","",null,null,null,"2018-07-11",{"$f":"RTD(\"cqg.rtd\",,\"StudyData\", \"Close(\"&$D$12&\") when LocalYear(\"&$D$12&\")=\"&$D$1&\" and localMonth(\"&$D$12&\") =\"&$E$1&\" and LocalDay(\"&$D$12&\")=\"&$F$1&\" and Barix(\"&$D$12&\",reference:=StartOfSession)=\"&A15&\"\", \"Bar\", \"\", \"Close\",\"5\",\"0\",\"PrimaryOnly\",,,\"False\",\"T\",\"EveryTick\")","v":1806.6},5.5548752657768579E-3,{"$f":"RTD(\"cqg.rtd\",,\"StudyData\", \"Close(\"&$D$12&\") when LocalYear(\"&$D$12&\")=\"&$D$2&\" and localMonth(\"&$D$12&\") =\"&$E$2&\" and LocalDay(\"&$D$12&\")=\"&$F$2&\" and Barix(\"&$D$12&\",reference:=StartOfSession)=\"&A15&\"\", \"Bar\", \"\", \"Close\",\"5\",\"0\",\"PrimaryOnly\",,,\"False\",\"T\",\"EveryTick\")","v":1781.86},1.5304843304843248E-2,{"$f":"RTD(\"cqg.rtd\",,\"StudyData\", \"Close(\"&$D$12&\") when LocalYear(\"&$D$12&\")=\"&$D$3&\" and localMonth(\"&$D$12&\") =\"&$E$3&\" and LocalDay(\"&$D$12&\")=\"&$F$3&\" and Barix(\"&$D$12&\",reference:=StartOfSession)=\"&A15&\"\", \"Bar\", \"\", \"Close\",\"5\",\"0\",\"PrimaryOnly\",,,\"False\",\"T\",\"EveryTick\")","v":1749.31},3.5798906526989791E-3,{"$f":"RTD(\"cqg.rtd\",,\"StudyData\", \"Close(\"&$D$12&\") when LocalYear(\"&$D$12&\")=\"&$D$4&\" and localMonth(\"&$D$12&\") =\"&$E$4&\" and LocalDay(\"&$D$12&\")=\"&$F$4&\" and Barix(\"&$D$12&\",reference:=StartOfSession)=\"&A15&\"\", \"Bar\", \"\", \"Close\",\"5\",\"0\",\"PrimaryOnly\",,,\"False\",\"T\",\"EveryTick\")","v":1748.48},5.4398454301848378E-3,{"$f":"RTD(\"cqg.rtd\",,\"StudyData\", \"Close(\"&$D$12&\") when LocalYear(\"&$D$12&\")=\"&$D$5&\" and localMonth(\"&$D$12&\") =\"&$E$5&\" and LocalDay(\"&$D$12&\")=\"&$F$5&\" and Barix(\"&$D$12&\",reference:=StartOfSession)=\"&A15&\"\", \"Bar\", \"\", \"Close\",\"5\",\"0\",\"PrimaryOnly\",,,\"False\",\"T\",\"EveryTick\")","v":1722},6.6466740323739733E-3,{"$f":"RTD(\"cqg.rtd\",,\"StudyData\", \"Close(\"&$D$12&\") when LocalYear(\"&$D$12&\")=\"&$D$6&\" and localMonth(\"&$D$12&\") =\"&$E$6&\" and LocalDay(\"&$D$12&\")=\"&$F$6&\" and Barix(\"&$D$12&\",reference:=StartOfSession)=\"&A15&\"\", \"Bar\", \"\", \"Close\",\"5\",\"0\",\"PrimaryOnly\",,,\"False\",\"T\",\"EveryTick\")","v":1707.31},4.4595318079929912E-3,{"$f":"RTD(\"cqg.rtd\",,\"StudyData\", \"Close(\"&$D$12&\") when LocalYear(\"&$D$12&\")=\"&$D$7&\" and localMonth(\"&$D$12&\") =\"&$E$7&\" and LocalDay(\"&$D$12&\")=\"&$F$7&\" and Barix(\"&$D$12&\",reference:=StartOfSession)=\"&A15&\"\", \"Bar\", \"\", \"Close\",\"5\",\"0\",\"PrimaryOnly\",,,\"False\",\"T\",\"EveryTick\")","v":1692},-1.1570521145717941E-3,{"$f":"RTD(\"cqg.rtd\",,\"StudyData\", \"Close(\"&$D$12&\") when LocalYear(\"&$D$12&\")=\"&$D$8&\" and localMonth(\"&$D$12&\") =\"&$E$8&\" and LocalDay(\"&$D$12&\")=\"&$F$8&\" and Barix(\"&$D$12&\",reference:=StartOfSession)=\"&A15&\"\", \"Bar\", \"\", \"Close\",\"5\",\"0\",\"PrimaryOnly\",,,\"False\",\"T\",\"EveryTick\")","v":1715.72},1.132000606845718E-3,{"$f":"RTD(\"cqg.rtd\",,\"StudyData\", \"Close(\"&$D$12&\") when LocalYear(\"&$D$12&\")=\"&$D$9&\" and localMonth(\"&$D$12&\") =\"&$E$9&\" and LocalDay(\"&$D$12&\")=\"&$F$9&\" and Barix(\"&$D$12&\",reference:=StartOfSession)=\"&A15&\"\", \"Bar\", \"\", \"Close\",\"5\",\"0\",\"PrimaryOnly\",,,\"False\",\"T\",\"EveryTick\")","v":1699.92},7.0596540769571849E-5,{"$f":"RTD(\"cqg.rtd\",,\"StudyData\", \"Close(\"&$D$12&\") when LocalYear(\"&$D$12&\")=\"&$D$10&\" and localMonth(\"&$D$12&\") =\"&$E$10&\" and LocalDay(\"&$D$12&\")=\"&$F$10&\" and Barix(\"&$D$12&\",reference:=StartOfSession)=\"&A15&\"\", \"Bar\", \"\", \"Close\",\"5\",\"0\",\"PrimaryOnly\",,,\"False\",\"T\",\"EveryTick\")","v":1712.83},6.6884128243556266E-3,null,null,null,""]
[15,"09:45:00",null,{"$f":"RTD(\"cqg.rtd\", ,\"ContractData\",D12, \"Ticksize\",, \"T\")","v":0.01},null,null,"2018-07-10",{"$f":"RTD(\"cqg.rtd\",,\"StudyData\", \"Close(\"&$D$12&\") when LocalYear(\"&$D$12&\")=\"&$D$1&\" and localMonth(\"&$D$12&\") =\"&$E$1&\" and LocalDay(\"&$D$12&\")=\"&$F$1&\" and Barix(\"&$D$12&\",reference:=StartOfSession)=\"&A16&\"\", \"Bar\", \"\", \"Close\",\"5\",\"0\",\"PrimaryOnly\",,,\"False\",\"T\",\"EveryTick\")","v":1804.7},4.4973338825128051E-3,{"$f":"RTD(\"cqg.rtd\",,\"StudyData\", \"Close(\"&$D$12&\") when LocalYear(\"&$D$12&\")=\"&$D$2&\" and localMonth(\"&$D$12&\") =\"&$E$2&\" and LocalDay(\"&$D$12&\")=\"&$F$2&\" and Barix(\"&$D$12&\",reference:=StartOfSession)=\"&A16&\"\", \"Bar\", \"\", \"Close\",\"5\",\"0\",\"PrimaryOnly\",,,\"False\",\"T\",\"EveryTick\")","v":1780.04},1.4267806267806247E-2,{"$f":"RTD(\"cqg.rtd\",,\"StudyData\", \"Close(\"&$D$12&\") when LocalYear(\"&$D$12&\")=\"&$D$3&\" and localMonth(\"&$D$12&\") =\"&$E$3&\" and LocalDay(\"&$D$12&\")=\"&$F$3&\" and Barix(\"&$D$12&\",reference:=StartOfSession)=\"&A16&\"\", \"Bar\", \"\", \"Close\",\"5\",\"0\",\"PrimaryOnly\",,,\"False\",\"T\",\"EveryTick\")","v":1748.92},3.3561474869053661E-3,{"$f":"RTD(\"cqg.rtd\",,\"StudyData\", \"Close(\"&$D$12&\") when LocalYear(\"&$D$12&\")=\"&$D$4&\" and localMonth(\"&$D$12&\") =\"&$E$4&\" and LocalDay(\"&$D$12&\")=\"&$F$4&\" and Barix(\"&$D$12&\",reference:=StartOfSession)=\"&A16&\"\", \"Bar\", \"\", \"Close\",\"5\",\"0\",\"PrimaryOnly\",,,\"False\",\"T\",\"EveryTick\")","v":1746.7},4.4162804338075835E-3,{"$f":"RTD(\"cqg.rtd\",,\"StudyData\", \"Close(\"&$D$12&\") when LocalYear(\"&$D$12&\")=\"&$D$5&\" and localMonth(\"&$D$12&\") =\"&$E$5&\" and LocalDay(\"&$D$12&\")=\"&$F$5&\" and Barix(\"&$D$12&\",reference:=StartOfSession)=\"&A16&\"\", \"Bar\", \"\", \"Close\",\"5\",\"0\",\"PrimaryOnly\",,,\"False\",\"T\",\"EveryTick\")","v":1724.01},7.821679732028481E-3,{"$f":"RTD(\"cqg.rtd\",,\"StudyData\", \"Close(\"&$D$12&\") when LocalYear(\"&$D$12&\")=\"&$D$6&\" and localMonth(\"&$D$12&\") =\"&$E$6&\" and LocalDay(\"&$D$12&\")=\"&$F$6&\" and Barix(\"&$D$12&\",reference:=StartOfSession)=\"&A16&\"\", \"Bar\", \"\", \"Close\",\"5\",\"0\",\"PrimaryOnly\",,,\"False\",\"T\",\"EveryTick\")","v":1707.28},4.4418819459560955E-3,{"$f":"RTD(\"cqg.rtd\",,\"StudyData\", \"Close(\"&$D$12&\") when LocalYear(\"&$D$12&\")=\"&$D$7&\" and localMonth(\"&$D$12&\") =\"&$E$7&\" and LocalDay(\"&$D$12&\")=\"&$F$7&\" and Barix(\"&$D$12&\",reference:=StartOfSession)=\"&A16&\"\", \"Bar\", \"\", \"Close\",\"5\",\"0\",\"PrimaryOnly\",,,\"False\",\"T\",\"EveryTick\")","v":1692.18},-1.0507922264988386E-3,{"$f":"RTD(\"cqg.rtd\",,\"StudyData\", \"Close(\"&$D$12&\") when LocalYear(\"&$D$12&\")=\"&$D$8&\" and localMonth(\"&$D$12&\") =\"&$E$8&\" and LocalDay(\"&$D$12&\")=\"&$F$8&\" and Barix(\"&$D$12&\",reference:=StartOfSession)=\"&A16&\"\", \"Bar\", \"\", \"Close\",\"5\",\"0\",\"PrimaryOnly\",,,\"False\",\"T\",\"EveryTick\")","v":1711.02},-1.6104750901515894E-3,{"$f":"RTD(\"cqg.rtd\",,\"StudyData\", \"Close(\"&$D$12&\") when LocalYear(\"&$D$12&\")=\"&$D$9&\" and localMonth(\"&$D$12&\") =\"&$E$9&\" and LocalDay(\"&$D$12&\")=\"&$F$9&\" and Barix(\"&$D$12&\",reference:=StartOfSession)=\"&A16&\"\", \"Bar\", \"\", \"Close\",\"5\",\"0\",\"PrimaryOnly\",,,\"False\",\"T\",\"EveryTick\")","v":1695.92},-2.2826214848805045E-3,{"$f":"RTD(\"cqg.rtd\",,\"StudyData\", \"Close(\"&$D$12&\") when LocalYear(\"&$D$12&\")=\"&$D$10&\" and localMonth(\"&$D$12&\") =\"&$E$10&\" and LocalDay(\"&$D$12&\")=\"&$F$10&\" and Barix(\"&$D$12&\",reference:=StartOfSession)=\"&A16&\"\", \"Bar\", \"\", \"Close\",\"5\",\"0\",\"PrimaryOnly\",,,\"False\",\"T\",\"EveryTick\")","v":1714.5},7.6699285903199946E-3,null,null,null,""]
[16,"09:50:00",null,{"$f":"IF(D16>=1,0,IF(LEN(D16)-2=1,2,LEN(D16)-2))","v":2},null,{"$f":"VLOOKUP(D17,D18:E25,2,FALSE)","v":"#.00"},"2018-07-09",{"$f":"RTD(\"cqg.rtd\",,\"StudyData\", \"Close(\"&$D$12&\") when LocalYear(\"&$D$12&\")=\"&$D$1&\" and localMonth(\"&$D$12&\") =\"&$E$1&\" and LocalDay(\"&$D$12&\")=\"&$F$1&\" and Barix(\"&$D$12&\",reference:=StartOfSession)=\"&A17&\"\", \"Bar\", \"\", \"Close\",\"5\",\"0\",\"PrimaryOnly\",,,\"False\",\"T\",\"EveryTick\")","v":1807.91},6.2840222195011701E-3,{"$f":"RTD(\"cqg.rtd\",,\"StudyData\", \"Close(\"&$D$12&\") when LocalYear(\"&$D$12&\")=\"&$D$2&\" and localMonth(\"&$D$12&\") =\"&$E$2&\" and LocalDay(\"&$D$12&\")=\"&$F$2&\" and Barix(\"&$D$12&\",reference:=StartOfSession)=\"&A17&\"\", \"Bar\", \"\", \"Close\",\"5\",\"0\",\"PrimaryOnly\",,,\"False\",\"T\",\"EveryTick\")","v":1778.81},1.3566951566951535E-2,{"$f":"RTD(\"cqg.rtd\",,\"StudyData\", \"Close(\"&$D$12&\") when LocalYear(\"&$D$12&\")=\"&$D$3&\" and localMonth(\"&$D$12&\") =\"&$E$3&\" and LocalDay(\"&$D$12&\")=\"&$F$3&\" and Barix(\"&$D$12&\",reference:=StartOfSession)=\"&A17&\"\", \"Bar\", \"\", \"Close\",\"5\",\"0\",\"PrimaryOnly\",,,\"False\",\"T\",\"EveryTick\")","v":1747.15},2.3406977344571098E-3,{"$f":"RTD(\"cqg.rtd\",,\"StudyData\", \"Close(\"&$D$12&\") when LocalYear(\"&$D$12&\")=\"&$D$4&\" and localMonth(\"&$D$12&\") =\"&$E$4&\" and LocalDay(\"&$D$12&\")=\"&$F$4&\" and Barix(\"&$D$12&\",reference:=StartOfSession)=\"&A17&\"\", \"Bar\", \"\", \"Close\",\"5\",\"0\",\"PrimaryOnly\",,,\"False\",\"T\",\"EveryTick\")","v":1747.49},4.8705592805143288E-3,{"$f":"RTD(\"cqg.rtd\",,\"StudyData\", \"Close(\"&$D$12&\") when LocalYear(\"&$D$12&\")=\"&$D$5&\" and localMonth(\"&$D$12&\") =\"&$E$5&\" and LocalDay(\"&$D$12&\")=\"&$F$5&\" and Barix(\"&$D$12&\",reference:=StartOfSession)=\"&A17&\"\", \"Bar\", \"\", \"Close\",\"5\",\"0\",\"PrimaryOnly\",,,\"False\",\"T\",\"EveryTick\")","v":1728.19},1.0265223923349845E-2,{"$f":"RTD(\"cqg.rtd\",,\"StudyData\", \"Close(\"&$D$12&\") when LocalYear(\"&$D$12&\")=\"&$D$6&\" and localMonth(\"&$D$12&\") =\"&$E$6&\" and LocalDay(\"&$D$12&\")=\"&$F$6&\" and Barix(\"&$D$12&\",reference:=StartOfSession)=\"&A17&\"\", \"Bar\", \"\", \"Close\",\"5\",\"0\",\"PrimaryOnly\",,,\"False\",\"T\",\"EveryTick\")","v":1706.59},4.0359351191070932E-3,{"$f":"RTD(\"cqg.rtd\",,\"StudyData\", \"Close(\"&$D$12&\") when LocalYear(\"&$D$12&\")=\"&$D$7&\" and localMonth(\"&$D$12&\") =\"&$E$7&\" and LocalDay(\"&$D$12&\")=\"&$F$7&\" and Barix(\"&$D$12&\",reference:=StartOfSession)=\"&A17&\"\", \"Bar\", \"\", \"Close\",\"5\",\"0\",\"PrimaryOnly\",,,\"False\",\"T\",\"EveryTick\")","v":1686.08},-4.6518217667478037E-3,{"$f":"RTD(\"cqg.rtd\",,\"StudyData\", \"Close(\"&$D$12&\") when LocalYear(\"&$D$12&\")=\"&$D$8&\" and localMonth(\"&$D$12&\") =\"&$E$8&\" and LocalDay(\"&$D$12&\")=\"&$F$8&\" and Barix(\"&$D$12&\",reference:=StartOfSession)=\"&A17&\"\", \"Bar\", \"\", \"Close\",\"5\",\"0\",\"PrimaryOnly\",,,\"False\",\"T\",\"EveryTick\")","v":1712.79},-5.77670412771773E-4,{"$f":"RTD(\"cqg.rtd\",,\"StudyData\", \"Close(\"&$D$12&\") when LocalYear(\"&$D$12&\")=\"&$D$9&\" and localMonth(\"&$D$12&\") =\"&$E$9&\" and LocalDay(\"&$D$12&\")=\"&$F$9&\" and Barix(\"&$D$12&\",reference:=StartOfSession)=\"&A17&\"\", \"Bar\", \"\", \"Close\",\"5\",\"0\",\"PrimaryOnly\",,,\"False\",\"T\",\"EveryTick\")","v":1693.26},-3.8475114719378539E-3,{"$f":"RTD(\"cqg.rtd\",,\"StudyData\", \"Close(\"&$D$12&\") when LocalYear(\"&$D$12&\")=\"&$D$10&\" and localMonth(\"&$D$12&\") =\"&$E$10&\" and LocalDay(\"&$D$12&\")=\"&$F$10&\" and Barix(\"&$D$12&\",reference:=StartOfSession)=\"&A17&\"\", \"Bar\", \"\", \"Close\",\"5\",\"0\",\"PrimaryOnly\",,,\"False\",\"T\",\"EveryTick\")","v":1715.69},8.3693320403185577E-3,null,null,null,""]
[17,"09:55:00",null,0,"#",null,"2018-07-06",{"$f":"RTD(\"cqg.rtd\",,\"StudyData\", \"Close(\"&$D$12&\") when LocalYear(\"&$D$12&\")=\"&$D$1&\" and localMonth(\"&$D$12&\") =\"&$E$1&\" and LocalDay(\"&$D$12&\")=\"&$F$1&\" and Barix(\"&$D$12&\",reference:=StartOfSession)=\"&A18&\"\", \"Bar\", \"\", \"Close\",\"5\",\"0\",\"PrimaryOnly\",,,\"False\",\"T\",\"EveryTick\")","v":1807.21},5.8944017098775175E-3,{"$f":"RTD(\"cqg.rtd\",,\"StudyData\", \"Close(\"&$D$12&\") when LocalYear(\"&$D$12&\")=\"&$D$2&\" and localMonth(\"&$D$12&\") =\"&$E$2&\" and LocalDay(\"&$D$12&\")=\"&$F$2&\" and Barix(\"&$D$12&\",reference:=StartOfSession)=\"&A18&\"\", \"Bar\", \"\", \"Close\",\"5\",\"0\",\"PrimaryOnly\",,,\"False\",\"T\",\"EveryTick\")","v":1776.27},1.211965811965811E-2,{"$f":"RTD(\"cqg.rtd\",,\"StudyData\", \"Close(\"&$D$12&\") when LocalYear(\"&$D$12&\")=\"&$D$3&\" and localMonth(\"&$D$12&\") =\"&$E$3&\" and LocalDay(\"&$D$12&\")=\"&$F$3&\" and Barix(\"&$D$12&\",reference:=StartOfSession)=\"&A18&\"\", \"Bar\", \"\", \"Close\",\"5\",\"0\",\"PrimaryOnly\",,,\"False\",\"T\",\"EveryTick\")","v":1749.27},3.5569426356945192E-3,{"$f":"RTD(\"cqg.rtd\",,\"StudyData\", \"Close(\"&$D$12&\") when LocalYear(\"&$D$12&\")=\"&$D$4&\" and localMonth(\"&$D$12&\") =\"&$E$4&\" and LocalDay(\"&$D$12&\")=\"&$F$4&\" and Barix(\"&$D$12&\",reference:=StartOfSession)=\"&A18&\"\", \"Bar\", \"\", \"Close\",\"5\",\"0\",\"PrimaryOnly\",,,\"False\",\"T\",\"EveryTick\")","v":1748.33},5.3535899529619816E-3,{"$f":"RTD(\"cqg.rtd\",,\"StudyData\", \"Close(\"&$D$12&\") when LocalYear(\"&$D$12&\")=\"&$D$5&\" and localMonth(\"&$D$12&\") =\"&$E$5&\" and LocalDay(\"&$D$12&\")=\"&$F$5&\" and Barix(\"&$D$12&\",reference:=StartOfSession)=\"&A18&\"\", \"Bar\", \"\", \"Close\",\"5\",\"0\",\"PrimaryOnly\",,,\"False\",\"T\",\"EveryTick\")","v":1728},1.0154153732835207E-2,{"$f":"RTD(\"cqg.rtd\",,\"StudyData\", \"Close(\"&$D$12&\") when LocalYear(\"&$D$12&\")=\"&$D$6&\" and localMonth(\"&$D$12&\") =\"&$E$6&\" and LocalDay(\"&$D$12&\")=\"&$F$6&\" and Barix(\"&$D$12&\",reference:=StartOfSession)=\"&A18&\"\", \"Bar\", \"\", \"Close\",\"5\",\"0\",\"PrimaryOnly\",,,\"False\",\"T\",\"EveryTick\")","v":1706.87},4.20066716478492E-3,{"$f":"RTD(\"cqg.rtd\",,\"StudyData\", \"Close(\"&$D$12&\") when LocalYear(\"&$D$12&\")=\"&$D$7&\" and localMonth(\"&$D$12&\") =\"&$E$7&\" and LocalDay(\"&$D$12&\")=\"&$F$7&\" and Barix(\"&$D$12&\",reference:=StartOfSession)=\"&A18&\"\", \"Bar\", \"\", \"Close\",\"5\",\"0\",\"PrimaryOnly\",,,\"False\",\"T\",\"EveryTick\")","v":1684.81},-5.4015443103733801E-3,{"$f":"RTD(\"cqg.rtd\",,\"StudyData\", \"Close(\"&$D$12&\") when LocalYear(\"&$D$12&\")=\"&$D$8&\" and localMonth(\"&$D$12&\") =\"&$E$8&\" and LocalDay(\"&$D$12&\")=\"&$F$8&\" and Barix(\"&$D$12&\",reference:=StartOfSession)=\"&A18&\"\", \"Bar\", \"\", \"Close\",\"5\",\"0\",\"PrimaryOnly\",,,\"False\",\"T\",\"EveryTick\")","v":1711},-1.6221451995005033E-3,{"$f":"RTD(\"cqg.rtd\",,\"StudyData\", \"Close(\"&$D$12&\") when LocalYear(\"&$D$12&\")=\"&$D$9&\" and localMonth(\"&$D$12&\") =\"&$E$9&\" and LocalDay(\"&$D$12&\")=\"&$F$9&\" and Barix(\"&$D$12&\",reference:=StartOfSession)=\"&A18&\"\", \"Bar\", \"\", \"Close\",\"5\",\"0\",\"PrimaryOnly\",,,\"False\",\"T\",\"EveryTick\")","v":1695.6},-2.4708789269326072E-3,{"$f":"RTD(\"cqg.rtd\",,\"StudyData\", \"Close(\"&$D$12&\") when LocalYear(\"&$D$12&\")=\"&$D$10&\" and localMonth(\"&$D$12&\") =\"&$E$10&\" and LocalDay(\"&$D$12&\")=\"&$F$10&\" and Barix(\"&$D$12&\",reference:=StartOfSession)=\"&A18&\"\", \"Bar\", \"\", \"Close\",\"5\",\"0\",\"PrimaryOnly\",,,\"False\",\"T\",\"EveryTick\")","v":1716.25},8.6984630756119508E-3,null,null,null,""]
[18,"10:00:00",null,1,"#.0",null,"2018-07-05",{"$f":"RTD(\"cqg.rtd\",,\"StudyData\", \"Close(\"&$D$12&\") when LocalYear(\"&$D$12&\")=\"&$D$1&\" and localMonth(\"&$D$12&\") =\"&$E$1&\" and LocalDay(\"&$D$12&\")=\"&$F$1&\" and Barix(\"&$D$12&\",reference:=StartOfSession)=\"&A19&\"\", \"Bar\", \"\", \"Close\",\"5\",\"0\",\"PrimaryOnly\",,,\"False\",\"T\",\"EveryTick\")","v":1807.41},6.005721855484294E-3,{"$f":"RTD(\"cqg.rtd\",,\"StudyData\", \"Close(\"&$D$12&\") when LocalYear(\"&$D$12&\")=\"&$D$2&\" and localMonth(\"&$D$12&\") =\"&$E$2&\" and LocalDay(\"&$D$12&\")=\"&$F$2&\" and Barix(\"&$D$12&\",reference:=StartOfSession)=\"&A19&\"\", \"Bar\", \"\", \"Close\",\"5\",\"0\",\"PrimaryOnly\",,,\"False\",\"T\",\"EveryTick\")","v":1779.46},1.3937321937321959E-2,{"$f":"RTD(\"cqg.rtd\",,\"StudyData\", \"Close(\"&$D$12&\") when LocalYear(\"&$D$12&\")=\"&$D$3&\" and localMonth(\"&$D$12&\") =\"&$E$3&\" and LocalDay(\"&$D$12&\")=\"&$F$3&\" and Barix(\"&$D$12&\",reference:=StartOfSession)=\"&A19&\"\", \"Bar\", \"\", \"Close\",\"5\",\"0\",\"PrimaryOnly\",,,\"False\",\"T\",\"EveryTick\")","v":1749.41},3.637260695210259E-3,{"$f":"RTD(\"cqg.rtd\",,\"StudyData\", \"Close(\"&$D$12&\") when LocalYear(\"&$D$12&\")=\"&$D$4&\" and localMonth(\"&$D$12&\") =\"&$E$4&\" and LocalDay(\"&$D$12&\")=\"&$F$4&\" and Barix(\"&$D$12&\",reference:=StartOfSession)=\"&A19&\"\", \"Bar\", \"\", \"Close\",\"5\",\"0\",\"PrimaryOnly\",,,\"False\",\"T\",\"EveryTick\")","v":1749.74},6.1643914388563835E-3,{"$f":"RTD(\"cqg.rtd\",,\"StudyData\", \"Close(\"&$D$12&\") when LocalYear(\"&$D$12&\")=\"&$D$5&\" and localMonth(\"&$D$12&\") =\"&$E$5&\" and LocalDay(\"&$D$12&\")=\"&$F$5&\" and Barix(\"&$D$12&\",reference:=StartOfSession)=\"&A19&\"\", \"Bar\", \"\", \"Close\",\"5\",\"0\",\"PrimaryOnly\",,,\"False\",\"T\",\"EveryTick\")","v":1728.42},1.0399677311867535E-2,{"$f":"RTD(\"cqg.rtd\",,\"StudyData\", \"Close(\"&$D$12&\") when LocalYear(\"&$D$12&\")=\"&$D$6&\" and localMonth(\"&$D$12&\") =\"&$E$6&\" and LocalDay(\"&$D$12&\")=\"&$F$6&\" and Barix(\"&$D$12&\",reference:=StartOfSession)=\"&A19&\"\", \"Bar\", \"\", \"Close\",\"5\",\"0\",\"PrimaryOnly\",,,\"False\",\"T\",\"EveryTick\")","v":1707.41},4.5183646814494442E-3,{"$f":"RTD(\"cqg.rtd\",,\"StudyData\", \"Close(\"&$D$12&\") when LocalYear(\"&$D$12&\")=\"&$D$7&\" and localMonth(\"&$D$12&\") =\"&$E$7&\" and LocalDay(\"&$D$12&\")=\"&$F$7&\" and Barix(\"&$D$12&\",reference:=StartOfSession)=\"&A19&\"\", \"Bar\", \"\", \"Close\",\"5\",\"0\",\"PrimaryOnly\",,,\"False\",\"T\",\"EveryTick\")","v":1685.58},-4.9469881225059084E-3,{"$f":"RTD(\"cqg.rtd\",,\"StudyData\", \"Close(\"&$D$12&\") when LocalYear(\"&$D$12&\")=\"&$D$8&\" and localMonth(\"&$D$12&\") =\"&$E$8&\" and LocalDay(\"&$D$12&\")=\"&$F$8&\" and Barix(\"&$D$12&\",reference:=StartOfSession)=\"&A19&\"\", \"Bar\", \"\", \"Close\",\"5\",\"0\",\"PrimaryOnly\",,,\"False\",\"T\",\"EveryTick\")","v":1711.45},-1.3595677391496734E-3,{"$f":"RTD(\"cqg.rtd\",,\"StudyData\", \"Close(\"&$D$12&\") when LocalYear(\"&$D$12&\")=\"&$D$9&\" and localMonth(\"&$D$12&\") =\"&$E$9&\" and LocalDay(\"&$D$12&\")=\"&$F$9&\" and Barix(\"&$D$12&\",reference:=StartOfSession)=\"&A19&\"\", \"Bar\", \"\", \"Close\",\"5\",\"0\",\"PrimaryOnly\",,,\"False\",\"T\",\"EveryTick\")","v":1698.65},-6.7655018237431676E-4,{"$f":"RTD(\"cqg.rtd\",,\"StudyData\", \"Close(\"&$D$12&\") when LocalYear(\"&$D$12&\")=\"&$D$10&\" and localMonth(\"&$D$12&\") =\"&$E$10&\" and LocalDay(\"&$D$12&\")=\"&$F$10&\" and Barix(\"&$D$12&\",reference:=StartOfSession)=\"&A19&\"\", \"Bar\", \"\", \"Close\",\"5\",\"0\",\"PrimaryOnly\",,,\"False\",\"T\",\"EveryTick\")","v":1714.64},7.7522113491434097E-3,null,null,null,""]
[19,"10:05:00",null,2,"#.00",null,"2018-07-03",{"$f":"RTD(\"cqg.rtd\",,\"StudyData\", \"Close(\"&$D$12&\") when LocalYear(\"&$D$12&\")=\"&$D$1&\" and localMonth(\"&$D$12&\") =\"&$E$1&\" and LocalDay(\"&$D$12&\")=\"&$F$1&\" and Barix(\"&$D$12&\",reference:=StartOfSession)=\"&A20&\"\", \"Bar\", \"\", \"Close\",\"5\",\"0\",\"PrimaryOnly\",,,\"False\",\"T\",\"EveryTick\")","v":1805.98},5.2097828143959921E-3,{"$f":"RTD(\"cqg.rtd\",,\"StudyData\", \"Close(\"&$D$12&\") when LocalYear(\"&$D$12&\")=\"&$D$2&\" and localMonth(\"&$D$12&\") =\"&$E$2&\" and LocalDay(\"&$D$12&\")=\"&$F$2&\" and Barix(\"&$D$12&\",reference:=StartOfSession)=\"&A20&\"\", \"Bar\", \"\", \"Close\",\"5\",\"0\",\"PrimaryOnly\",,,\"False\",\"T\",\"EveryTick\")","v":1779.91},1.4193732193732241E-2,{"$f":"RTD(\"cqg.rtd\",,\"StudyData\", \"Close(\"&$D$12&\") when LocalYear(\"&$D$12&\")=\"&$D$3&\" and localMonth(\"&$D$12&\") =\"&$E$3&\" and LocalDay(\"&$D$12&\")=\"&$F$3&\" and Barix(\"&$D$12&\",reference:=StartOfSession)=\"&A20&\"\", \"Bar\", \"\", \"Close\",\"5\",\"0\",\"PrimaryOnly\",,,\"False\",\"T\",\"EveryTick\")","v":1749.39},3.6257866867080287E-3,{"$f":"RTD(\"cqg.rtd\",,\"StudyData\", \"Close(\"&$D$12&\") when LocalYear(\"&$D$12&\")=\"&$D$4&\" and localMonth(\"&$D$12&\") =\"&$E$4&\" and LocalDay(\"&$D$12&\")=\"&$F$4&\" and Barix(\"&$D$12&\",reference:=StartOfSession)=\"&A20&\"\", \"Bar\", \"\", \"Close\",\"5\",\"0\",\"PrimaryOnly\",,,\"False\",\"T\",\"EveryTick\")","v":1749},5.7388644178905466E-3,{"$f":"RTD(\"cqg.rtd\",,\"StudyData\", \"Close(\"&$D$12&\") when LocalYear(\"&$D$12&\")=\"&$D$5&\" and localMonth(\"&$D$12&\") =\"&$E$5&\" and LocalDay(\"&$D$12&\")=\"&$F$5&\" and Barix(\"&$D$12&\",reference:=StartOfSession)=\"&A20&\"\", \"Bar\", \"\", \"Close\",\"5\",\"0\",\"PrimaryOnly\",,,\"False\",\"T\",\"EveryTick\")","v":1728.95},1.0709504685408261E-2,{"$f":"RTD(\"cqg.rtd\",,\"StudyData\", \"Close(\"&$D$12&\") when LocalYear(\"&$D$12&\")=\"&$D$6&\" and localMonth(\"&$D$12&\") =\"&$E$6&\" and LocalDay(\"&$D$12&\")=\"&$F$6&\" and Barix(\"&$D$12&\",reference:=StartOfSession)=\"&A20&\"\", \"Bar\", \"\", \"Close\",\"5\",\"0\",\"PrimaryOnly\",,,\"False\",\"T\",\"EveryTick\")","v":1707.44},4.5360145434863398E-3,{"$f":"RTD(\"cqg.rtd\",,\"StudyData\", \"Close(\"&$D$12&\") when LocalYear(\"&$D$12&\")=\"&$D$7&\" and localMonth(\"&$D$12&\") =\"&$E$7&\" and LocalDay(\"&$D$12&\")=\"&$F$7&\" and Barix(\"&$D$12&\",reference:=StartOfSession)=\"&A20&\"\", \"Bar\", \"\", \"Close\",\"5\",\"0\",\"PrimaryOnly\",,,\"False\",\"T\",\"EveryTick\")","v":1687.23},-3.9729391485041074E-3,{"$f":"RTD(\"cqg.rtd\",,\"StudyData\", \"Close(\"&$D$12&\") when LocalYear(\"&$D$12&\")=\"&$D$8&\" and localMonth(\"&$D$12&\") =\"&$E$8&\" and LocalDay(\"&$D$12&\")=\"&$F$8&\" and Barix(\"&$D$12&\",reference:=StartOfSession)=\"&A20&\"\", \"Bar\", \"\", \"Close\",\"5\",\"0\",\"PrimaryOnly\",,,\"False\",\"T\",\"EveryTick\")","v":1709.52},-2.4857332913209343E-3,{"$f":"RTD(\"cqg.rtd\",,\"StudyData\", \"Close(\"&$D$12&\") when LocalYear(\"&$D$12&\")=\"&$D$9&\" and localMonth(\"&$D$12&\") =\"&$E$9&\" and LocalDay(\"&$D$12&\")=\"&$F$9&\" and Barix(\"&$D$12&\",reference:=StartOfSession)=\"&A20&\"\", \"Bar\", \"\", \"Close\",\"5\",\"0\",\"PrimaryOnly\",,,\"False\",\"T\",\"EveryTick\")","v":1698.35},-8.5304153429817951E-4,{"$f":"RTD(\"cqg.rtd\",,\"StudyData\", \"Close(\"&$D$12&\") when LocalYear(\"&$D$12&\")=\"&$D$10&\" and localMonth(\"&$D$12&\") =\"&$E$10&\" and LocalDay(\"&$D$12&\")=\"&$F$10&\" and Barix(\"&$D$12&\",reference:=StartOfSession)=\"&A20&\"\", \"Bar\", \"\", \"Close\",\"5\",\"0\",\"PrimaryOnly\",,,\"False\",\"T\",\"EveryTick\")","v":1716.88},9.0687354903171199E-3,null,null,null,""]
[20,"10:10:00",null,3,"#.000",null,"2018-07-02",{"$f":"RTD(\"cqg.rtd\",,\"StudyData\", \"Close(\"&$D$12&\") when LocalYear(\"&$D$12&\")=\"&$D$1&\" and localMonth(\"&$D$12&\") =\"&$E$1&\" and LocalDay(\"&$D$12&\")=\"&$F$1&\" and Barix(\"&$D$12&\",reference:=StartOfSession)=\"&A21&\"\", \"Bar\", \"\", \"Close\",\"5\",\"0\",\"PrimaryOnly\",,,\"False\",\"T\",\"EveryTick\")","v":1807.13},5.8498736516348583E-3,{"$f":"RTD(\"cqg.rtd\",,\"StudyData\", \"Close(\"&$D$12&\") when LocalYear(\"&$D$12&\")=\"&$D$2&\" and localMonth(\"&$D$12&\") =\"&$E$2&\" and LocalDay(\"&$D$12&\")=\"&$F$2&\" and Barix(\"&$D$12&\",reference:=StartOfSession)=\"&A21&\"\", \"Bar\", \"\", \"Close\",\"5\",\"0\",\"PrimaryOnly\",,,\"False\",\"T\",\"EveryTick\")","v":1781.55},1.5128205128205102E-2,{"$f":"RTD(\"cqg.rtd\",,\"StudyData\", \"Close(\"&$D$12&\") when LocalYear(\"&$D$12&\")=\"&$D$3&\" and localMonth(\"&$D$12&\") =\"&$E$3&\" and LocalDay(\"&$D$12&\")=\"&$F$3&\" and Barix(\"&$D$12&\",reference:=StartOfSession)=\"&A21&\"\", \"Bar\", \"\", \"Close\",\"5\",\"0\",\"PrimaryOnly\",,,\"False\",\"T\",\"EveryTick\")","v":1747.31},2.4324898024749488E-3,{"$f":"RTD(\"cqg.rtd\",,\"StudyData\", \"Close(\"&$D$12&\") when LocalYear(\"&$D$12&\")=\"&$D$4&\" and localMonth(\"&$D$12&\") =\"&$E$4&\" and LocalDay(\"&$D$12&\")=\"&$F$4&\" and Barix(\"&$D$12&\",reference:=StartOfSession)=\"&A21&\"\", \"Bar\", \"\", \"Close\",\"5\",\"0\",\"PrimaryOnly\",,,\"False\",\"T\",\"EveryTick\")","v":1745.74},3.8642453795816193E-3,{"$f":"RTD(\"cqg.rtd\",,\"StudyData\", \"Close(\"&$D$12&\") when LocalYear(\"&$D$12&\")=\"&$D$5&\" and localMonth(\"&$D$12&\") =\"&$E$5&\" and LocalDay(\"&$D$12&\")=\"&$F$5&\" and Barix(\"&$D$12&\",reference:=StartOfSession)=\"&A21&\"\", \"Bar\", \"\", \"Close\",\"5\",\"0\",\"PrimaryOnly\",,,\"False\",\"T\",\"EveryTick\")","v":1730.47},1.1598066209525098E-2,{"$f":"RTD(\"cqg.rtd\",,\"StudyData\", \"Close(\"&$D$12&\") when LocalYear(\"&$D$12&\")=\"&$D$6&\" and localMonth(\"&$D$12&\") =\"&$E$6&\" and LocalDay(\"&$D$12&\")=\"&$F$6&\" and Barix(\"&$D$12&\",reference:=StartOfSession)=\"&A21&\"\", \"Bar\", \"\", \"Close\",\"5\",\"0\",\"PrimaryOnly\",,,\"False\",\"T\",\"EveryTick\")","v":1707.43},4.5301312561407082E-3,{"$f":"RTD(\"cqg.rtd\",,\"StudyData\", \"Close(\"&$D$12&\") when LocalYear(\"&$D$12&\")=\"&$D$7&\" and localMonth(\"&$D$12&\") =\"&$E$7&\" and LocalDay(\"&$D$12&\")=\"&$F$7&\" and Barix(\"&$D$12&\",reference:=StartOfSession)=\"&A21&\"\", \"Bar\", \"\", \"Close\",\"5\",\"0\",\"PrimaryOnly\",,,\"False\",\"T\",\"EveryTick\")","v":1690.95},-1.7769014616637884E-3,{"$f":"RTD(\"cqg.rtd\",,\"StudyData\", \"Close(\"&$D$12&\") when LocalYear(\"&$D$12&\")=\"&$D$8&\" and localMonth(\"&$D$12&\") =\"&$E$8&\" and LocalDay(\"&$D$12&\")=\"&$F$8&\" and Barix(\"&$D$12&\",reference:=StartOfSession)=\"&A21&\"\", \"Bar\", \"\", \"Close\",\"5\",\"0\",\"PrimaryOnly\",,,\"False\",\"T\",\"EveryTick\")","v":1709.23},-2.6549498768803199E-3,{"$f":"RTD(\"cqg.rtd\",,\"StudyData\", \"Close(\"&$D$12&\") when LocalYear(\"&$D$12&\")=\"&$D$9&\" and localMonth(\"&$D$12&\") =\"&$E$9&\" and LocalDay(\"&$D$12&\")=\"&$F$9&\" and Barix(\"&$D$12&\",reference:=StartOfSession)=\"&A21&\"\", \"Bar\", \"\", \"Close\",\"5\",\"0\",\"PrimaryOnly\",,,\"False\",\"T\",\"EveryTick\")","v":1694.21},-3.2886221908459338E-3,{"$f":"RTD(\"cqg.rtd\",,\"StudyData\", \"Close(\"&$D$12&\") when LocalYear(\"&$D$12&\")=\"&$D$10&\" and localMonth(\"&$D$12&\") =\"&$E$10&\" and LocalDay(\"&$D$12&\")=\"&$F$10&\" and Barix(\"&$D$12&\",reference:=StartOfSession)=\"&A21&\"\", \"Bar\", \"\", \"Close\",\"5\",\"0\",\"PrimaryOnly\",,,\"False\",\"T\",\"EveryTick\")","v":1715.84},8.4574921390577866E-3,null,null,null,""]
[21,"10:15:00",null,4,"#.0000",null,"2018-06-29",{"$f":"RTD(\"cqg.rtd\",,\"StudyData\", \"Close(\"&$D$12&\") when LocalYear(\"&$D$12&\")=\"&$D$1&\" and localMonth(\"&$D$12&\") =\"&$E$1&\" and LocalDay(\"&$D$12&\")=\"&$F$1&\" and Barix(\"&$D$12&\",reference:=StartOfSession)=\"&A22&\"\", \"Bar\", \"\", \"Close\",\"5\",\"0\",\"PrimaryOnly\",,,\"False\",\"T\",\"EveryTick\")","v":1808.37},6.5400585543965899E-3,{"$f":"RTD(\"cqg.rtd\",,\"StudyData\", \"Close(\"&$D$12&\") when LocalYear(\"&$D$12&\")=\"&$D$2&\" and localMonth(\"&$D$12&\") =\"&$E$2&\" and LocalDay(\"&$D$12&\")=\"&$F$2&\" and Barix(\"&$D$12&\",reference:=StartOfSession)=\"&A22&\"\", \"Bar\", \"\", \"Close\",\"5\",\"0\",\"PrimaryOnly\",,,\"False\",\"T\",\"EveryTick\")","v":1783.18},1.6056980056980093E-2,{"$f":"RTD(\"cqg.rtd\",,\"StudyData\", \"Close(\"&$D$12&\") when LocalYear(\"&$D$12&\")=\"&$D$3&\" and localMonth(\"&$D$12&\") =\"&$E$3&\" and LocalDay(\"&$D$12&\")=\"&$F$3&\" and Barix(\"&$D$12&\",reference:=StartOfSession)=\"&A22&\"\", \"Bar\", \"\", \"Close\",\"5\",\"0\",\"PrimaryOnly\",,,\"False\",\"T\",\"EveryTick\")","v":1747.79},2.7078660065287265E-3,{"$f":"RTD(\"cqg.rtd\",,\"StudyData\", \"Close(\"&$D$12&\") when LocalYear(\"&$D$12&\")=\"&$D$4&\" and localMonth(\"&$D$12&\") =\"&$E$4&\" and LocalDay(\"&$D$12&\")=\"&$F$4&\" and Barix(\"&$D$12&\",reference:=StartOfSession)=\"&A22&\"\", \"Bar\", \"\", \"Close\",\"5\",\"0\",\"PrimaryOnly\",,,\"False\",\"T\",\"EveryTick\")","v":1747.81},5.0545709652562729E-3,{"$f":"RTD(\"cqg.rtd\",,\"StudyData\", \"Close(\"&$D$12&\") when LocalYear(\"&$D$12&\")=\"&$D$5&\" and localMonth(\"&$D$12&\") =\"&$E$5&\" and LocalDay(\"&$D$12&\")=\"&$F$5&\" and Barix(\"&$D$12&\",reference:=StartOfSession)=\"&A22&\"\", \"Bar\", \"\", \"Close\",\"5\",\"0\",\"PrimaryOnly\",,,\"False\",\"T\",\"EveryTick\")","v":1730.69},1.1726673798542024E-2,{"$f":"RTD(\"cqg.rtd\",,\"StudyData\", \"Close(\"&$D$12&\") when LocalYear(\"&$D$12&\")=\"&$D$6&\" and localMonth(\"&$D$12&\") =\"&$E$6&\" and LocalDay(\"&$D$12&\")=\"&$F$6&\" and Barix(\"&$D$12&\",reference:=StartOfSession)=\"&A22&\"\", \"Bar\", \"\", \"Close\",\"5\",\"0\",\"PrimaryOnly\",,,\"False\",\"T\",\"EveryTick\")","v":1708.63},5.2361257376172046E-3,{"$f":"RTD(\"cqg.rtd\",,\"StudyData\", \"Close(\"&$D$12&\") when LocalYear(\"&$D$12&\")=\"&$D$7&\" and localMonth(\"&$D$12&\") =\"&$E$7&\" and LocalDay(\"&$D$12&\")=\"&$F$7&\" and Barix(\"&$D$12&\",reference:=StartOfSession)=\"&A22&\"\", \"Bar\", \"\", \"Close\",\"5\",\"0\",\"PrimaryOnly\",,,\"False\",\"T\",\"EveryTick\")","v":1693.81},-8.8549906727485272E-5,{"$f":"RTD(\"cqg.rtd\",,\"StudyData\", \"Close(\"&$D$12&\") when LocalYear(\"&$D$12&\")=\"&$D$8&\" and localMonth(\"&$D$12&\") =\"&$E$8&\" and LocalDay(\"&$D$12&\")=\"&$F$8&\" and Barix(\"&$D$12&\",reference:=StartOfSession)=\"&A22&\"\", \"Bar\", \"\", \"Close\",\"5\",\"0\",\"PrimaryOnly\",,,\"False\",\"T\",\"EveryTick\")","v":1710.07},-2.1648052842255343E-3,{"$f":"RTD(\"cqg.rtd\",,\"StudyData\", \"Close(\"&$D$12&\") when LocalYear(\"&$D$12&\")=\"&$D$9&\" and localMonth(\"&$D$12&\") =\"&$E$9&\" and LocalDay(\"&$D$12&\")=\"&$F$9&\" and Barix(\"&$D$12&\",reference:=StartOfSession)=\"&A22&\"\", \"Bar\", \"\", \"Close\",\"5\",\"0\",\"PrimaryOnly\",,,\"False\",\"T\",\"EveryTick\")","v":1693.05},-3.9710554182845045E-3,{"$f":"RTD(\"cqg.rtd\",,\"StudyData\", \"Close(\"&$D$12&\") when LocalYear(\"&$D$12&\")=\"&$D$10&\" and localMonth(\"&$D$12&\") =\"&$E$10&\" and LocalDay(\"&$D$12&\")=\"&$F$10&\" and Barix(\"&$D$12&\",reference:=StartOfSession)=\"&A22&\"\", \"Bar\", \"\", \"Close\",\"5\",\"0\",\"PrimaryOnly\",,,\"False\",\"T\",\"EveryTick\")","v":1715.89},8.4868788386376643E-3,null,null,null,""]
[22,"10:20:00",null,5,"#.00000",null,null,{"$f":"RTD(\"cqg.rtd\",,\"StudyData\", \"Close(\"&$D$12&\") when LocalYear(\"&$D$12&\")=\"&$D$1&\" and localMonth(\"&$D$12&\") =\"&$E$1&\" and LocalDay(\"&$D$12&\")=\"&$F$1&\" and Barix(\"&$D$12&\",reference:=StartOfSession)=\"&A23&\"\", \"Bar\", \"\", \"Close\",\"5\",\"0\",\"PrimaryOnly\",,,\"False\",\"T\",\"EveryTick\")","v":1808.12},6.4009083723881519E-3,{"$f":"RTD(\"cqg.rtd\",,\"StudyData\", \"Close(\"&$D$12&\") when LocalYear(\"&$D$12&\")=\"&$D$2&\" and localMonth(\"&$D$12&\") =\"&$E$2&\" and LocalDay(\"&$D$12&\")=\"&$F$2&\" and Barix(\"&$D$12&\",reference:=StartOfSession)=\"&A23&\"\", \"Bar\", \"\", \"Close\",\"5\",\"0\",\"PrimaryOnly\",,,\"False\",\"T\",\"EveryTick\")","v":1782.27},1.5538461538461529E-2,{"$f":"RTD(\"cqg.rtd\",,\"StudyData\", \"Close(\"&$D$12&\") when LocalYear(\"&$D$12&\")=\"&$D$3&\" and localMonth(\"&$D$12&\") =\"&$E$3&\" and LocalDay(\"&$D$12&\")=\"&$F$3&\" and Barix(\"&$D$12&\",reference:=StartOfSession)=\"&A23&\"\", \"Bar\", \"\", \"Close\",\"5\",\"0\",\"PrimaryOnly\",,,\"False\",\"T\",\"EveryTick\")","v":1745.55},1.4227770542778078E-3,{"$f":"RTD(\"cqg.rtd\",,\"StudyData\", \"Close(\"&$D$12&\") when LocalYear(\"&$D$12&\")=\"&$D$4&\" and localMonth(\"&$D$12&\") =\"&$E$4&\" and LocalDay(\"&$D$12&\")=\"&$F$4&\" and Barix(\"&$D$12&\",reference:=StartOfSession)=\"&A23&\"\", \"Bar\", \"\", \"Close\",\"5\",\"0\",\"PrimaryOnly\",,,\"False\",\"T\",\"EveryTick\")","v":1746.14},4.0942599855091476E-3,{"$f":"RTD(\"cqg.rtd\",,\"StudyData\", \"Close(\"&$D$12&\") when LocalYear(\"&$D$12&\")=\"&$D$5&\" and localMonth(\"&$D$12&\") =\"&$E$5&\" and LocalDay(\"&$D$12&\")=\"&$F$5&\" and Barix(\"&$D$12&\",reference:=StartOfSession)=\"&A23&\"\", \"Bar\", \"\", \"Close\",\"5\",\"0\",\"PrimaryOnly\",,,\"False\",\"T\",\"EveryTick\")","v":1729.41},1.0978411462443645E-2,{"$f":"RTD(\"cqg.rtd\",,\"StudyData\", \"Close(\"&$D$12&\") when LocalYear(\"&$D$12&\")=\"&$D$6&\" and localMonth(\"&$D$12&\") =\"&$E$6&\" and LocalDay(\"&$D$12&\")=\"&$F$6&\" and Barix(\"&$D$12&\",reference:=StartOfSession)=\"&A23&\"\", \"Bar\", \"\", \"Close\",\"5\",\"0\",\"PrimaryOnly\",,,\"False\",\"T\",\"EveryTick\")","v":1709.37},5.6714890011942323E-3,{"$f":"RTD(\"cqg.rtd\",,\"StudyData\", \"Close(\"&$D$12&\") when LocalYear(\"&$D$12&\")=\"&$D$7&\" and localMonth(\"&$D$12&\") =\"&$E$7&\" and LocalDay(\"&$D$12&\")=\"&$F$7&\" and Barix(\"&$D$12&\",reference:=StartOfSession)=\"&A23&\"\", \"Bar\", \"\", \"Close\",\"5\",\"0\",\"PrimaryOnly\",,,\"False\",\"T\",\"EveryTick\")","v":1693.11},-5.0178280478885946E-4,{"$f":"RTD(\"cqg.rtd\",,\"StudyData\", \"Close(\"&$D$12&\") when LocalYear(\"&$D$12&\")=\"&$D$8&\" and localMonth(\"&$D$12&\") =\"&$E$8&\" and LocalDay(\"&$D$12&\")=\"&$F$8&\" and Barix(\"&$D$12&\",reference:=StartOfSession)=\"&A23&\"\", \"Bar\", \"\", \"Close\",\"5\",\"0\",\"PrimaryOnly\",,,\"False\",\"T\",\"EveryTick\")","v":1708},-3.3726616018391934E-3,{"$f":"RTD(\"cqg.rtd\",,\"StudyData\", \"Close(\"&$D$12&\") when LocalYear(\"&$D$12&\")=\"&$D$9&\" and localMonth(\"&$D$12&\") =\"&$E$9&\" and LocalDay(\"&$D$12&\")=\"&$F$9&\" and Barix(\"&$D$12&\",reference:=StartOfSession)=\"&A23&\"\", \"Bar\", \"\", \"Close\",\"5\",\"0\",\"PrimaryOnly\",,,\"False\",\"T\",\"EveryTick\")","v":1696.76},-1.7884456994940367E-3,{"$f":"RTD(\"cqg.rtd\",,\"StudyData\", \"Close(\"&$D$12&\") when LocalYear(\"&$D$12&\")=\"&$D$10&\" and localMonth(\"&$D$12&\") =\"&$E$10&\" and LocalDay(\"&$D$12&\")=\"&$F$10&\" and Barix(\"&$D$12&\",reference:=StartOfSession)=\"&A23&\"\", \"Bar\", \"\", \"Close\",\"5\",\"0\",\"PrimaryOnly\",,,\"False\",\"T\",\"EveryTick\")","v":1715.46},8.2341532222516035E-3,null,null,null,22]
[23,"10:25:00",null,6,"#.000000",null,null,{"$f":"RTD(\"cqg.rtd\",,\"StudyData\", \"Close(\"&$D$12&\") when LocalYear(\"&$D$12&\")=\"&$D$1&\" and localMonth(\"&$D$12&\") =\"&$E$1&\" and LocalDay(\"&$D$12&\")=\"&$F$1&\" and Barix(\"&$D$12&\",reference:=StartOfSession)=\"&A24&\"\", \"Bar\", \"\", \"Close\",\"5\",\"0\",\"PrimaryOnly\",,,\"False\",\"T\",\"EveryTick\")","v":""},{"$error":"#N/A"},{"$f":"RTD(\"cqg.rtd\",,\"StudyData\", \"Close(\"&$D$12&\") when LocalYear(\"&$D$12&\")=\"&$D$2&\" and localMonth(\"&$D$12&\") =\"&$E$2&\" and LocalDay(\"&$D$12&\")=\"&$F$2&\" and Barix(\"&$D$12&\",reference:=StartOfSession)=\"&A24&\"\", \"Bar\", \"\", \"Close\",\"5\",\"0\",\"PrimaryOnly\",,,\"False\",\"T\",\"EveryTick\")","v":1784.14},1.6603988603988661E-2,{"$f":"RTD(\"cqg.rtd\",,\"StudyData\", \"Close(\"&$D$12&\") when LocalYear(\"&$D$12&\")=\"&$D$3&\" and localMonth(\"&$D$12&\") =\"&$E$3&\" and LocalDay(\"&$D$12&\")=\"&$F$3&\" and Barix(\"&$D$12&\",reference:=StartOfSession)=\"&A24&\"\", \"Bar\", \"\", \"Close\",\"5\",\"0\",\"PrimaryOnly\",,,\"False\",\"T\",\"EveryTick\")","v":1744.64},9.0070966742595746E-4,{"$f":"RTD(\"cqg.rtd\",,\"StudyData\", \"Close(\"&$D$12&\") when LocalYear(\"&$D$12&\")=\"&$D$4&\" and localMonth(\"&$D$12&\") =\"&$E$4&\" and LocalDay(\"&$D$12&\")=\"&$F$4&\" and Barix(\"&$D$12&\",reference:=StartOfSession)=\"&A24&\"\", \"Bar\", \"\", \"Close\",\"5\",\"0\",\"PrimaryOnly\",,,\"False\",\"T\",\"EveryTick\")","v":1743.4},2.5186599349059295E-3,{"$f":"RTD(\"cqg.rtd\",,\"StudyData\", \"Close(\"&$D$12&\") when LocalYear(\"&$D$12&\")=\"&$D$5&\" and localMonth(\"&$D$12&\") =\"&$E$5&\" and LocalDay(\"&$D$12&\")=\"&$F$5&\" and Barix(\"&$D$12&\",reference:=StartOfSession)=\"&A24&\"\", \"Bar\", \"\", \"Close\",\"5\",\"0\",\"PrimaryOnly\",,,\"False\",\"T\",\"EveryTick\")","v":1728.96},1.0715350484909025E-2,{"$f":"RTD(\"cqg.rtd\",,\"StudyData\", \"Close(\"&$D$12&\") when LocalYear(\"&$D$12&\")=\"&$D$6&\" and localMonth(\"&$D$12&\") =\"&$E$6&\" and LocalDay(\"&$D$12&\")=\"&$F$6&\" and Barix(\"&$D$12&\",reference:=StartOfSession)=\"&A24&\"\", \"Bar\", \"\", \"Close\",\"5\",\"0\",\"PrimaryOnly\",,,\"False\",\"T\",\"EveryTick\")","v":1710.95},6.6010484018050085E-3,{"$f":"RTD(\"cqg.rtd\",,\"StudyData\", \"Close(\"&$D$12&\") when LocalYear(\"&$D$12&\")=\"&$D$7&\" and localMonth(\"&$D$12&\") =\"&$E$7&\" and LocalDay(\"&$D$12&\")=\"&$F$7&\" and Barix(\"&$D$12&\",reference:=StartOfSession)=\"&A24&\"\", \"Bar\", \"\", \"Close\",\"5\",\"0\",\"PrimaryOnly\",,,\"False\",\"T\",\"EveryTick\")","v":1696.45},1.4699284516753695E-3,{"$f":"RTD(\"cqg.rtd\",,\"StudyData\", \"Close(\"&$D$12&\") when LocalYear(\"&$D$12&\")=\"&$D$8&\" and localMonth(\"&$D$12&\") =\"&$E$8&\" and LocalDay(\"&$D$12&\")=\"&$F$8&\" and Barix(\"&$D$12&\",reference:=StartOfSession)=\"&A24&\"\", \"Bar\", \"\", \"Close\",\"5\",\"0\",\"PrimaryOnly\",,,\"False\",\"T\",\"EveryTick\")","v":1707.84},-3.4660224766306378E-3,{"$f":"RTD(\"cqg.rtd\",,\"StudyData\", \"Close(\"&$D$12&\") when LocalYear(\"&$D$12&\")=\"&$D$9&\" and localMonth(\"&$D$12&\") =\"&$E$9&\" and LocalDay(\"&$D$12&\")=\"&$F$9&\" and Barix(\"&$D$12&\",reference:=StartOfSession)=\"&A24&\"\", \"Bar\", \"\", \"Close\",\"5\",\"0\",\"PrimaryOnly\",,,\"False\",\"T\",\"EveryTick\")","v":1696.42},-1.988469231674245E-3,{"$f":"RTD(\"cqg.rtd\",,\"StudyData\", \"Close(\"&$D$12&\") when LocalYear(\"&$D$12&\")=\"&$D$10&\" and localMonth(\"&$D$12&\") =\"&$E$10&\" and LocalDay(\"&$D$12&\")=\"&$F$10&\" and Barix(\"&$D$12&\",reference:=StartOfSession)=\"&A24&\"\", \"Bar\", \"\", \"Close\",\"5\",\"0\",\"PrimaryOnly\",,,\"False\",\"T\",\"EveryTick\")","v":1714},7.3760615945222922E-3,null,null,null,""]
[24,"10:30:00",null,7,"#.0000000",null,null,{"$f":"RTD(\"cqg.rtd\",,\"StudyData\", \"Close(\"&$D$12&\") when LocalYear(\"&$D$12&\")=\"&$D$1&\" and localMonth(\"&$D$12&\") =\"&$E$1&\" and LocalDay(\"&$D$12&\")=\"&$F$1&\" and Barix(\"&$D$12&\",reference:=StartOfSession)=\"&A25&\"\", \"Bar\", \"\", \"Close\",\"5\",\"0\",\"PrimaryOnly\",,,\"False\",\"T\",\"EveryTick\")","v":""},{"$error":"#N/A"},{"$f":"RTD(\"cqg.rtd\",,\"StudyData\", \"Close(\"&$D$12&\") when LocalYear(\"&$D$12&\")=\"&$D$2&\" and localMonth(\"&$D$12&\") =\"&$E$2&\" and LocalDay(\"&$D$12&\")=\"&$F$2&\" and Barix(\"&$D$12&\",reference:=StartOfSession)=\"&A25&\"\", \"Bar\", \"\", \"Close\",\"5\",\"0\",\"PrimaryOnly\",,,\"False\",\"T\",\"EveryTick\")","v":1782.99},1.5948717948717953E-2,{"$f":"RTD(\"cqg.rtd\",,\"StudyData\", \"Close(\"&$D$12&\") when LocalYear(\"&$D$12&\")=\"&$D$3&\" and localMonth(\"&$D$12&\") =\"&$E$3&\" and LocalDay(\"&$D$12&\")=\"&$F$3&\" and Barix(\"&$D$12&\",reference:=StartOfSession)=\"&A25&\"\", \"Bar\", \"\", \"Close\",\"5\",\"0\",\"PrimaryOnly\",,,\"False\",\"T\",\"EveryTick\")","v":1744.08},5.7943742936312993E-4,{"$f":"RTD(\"cqg.rtd\",,\"StudyData\", \"Close(\"&$D$12&\") when LocalYear(\"&$D$12&\")=\"&$D$4&\" and localMonth(\"&$D$12&\") =\"&$E$4&\" and LocalDay(\"&$D$12&\")=\"&$F$4&\" and Barix(\"&$D$12&\",reference:=StartOfSession)=\"&A25&\"\", \"Bar\", \"\", \"Close\",\"5\",\"0\",\"PrimaryOnly\",,,\"False\",\"T\",\"EveryTick\")","v":1743.93},2.82342928775982E-3,{"$f":"RTD(\"cqg.rtd\",,\"StudyData\", \"Close(\"&$D$12&\") when LocalYear(\"&$D$12&\")=\"&$D$5&\" and localMonth(\"&$D$12&\") =\"&$E$5&\" and LocalDay(\"&$D$12&\")=\"&$F$5&\" and Barix(\"&$D$12&\",reference:=StartOfSession)=\"&A25&\"\", \"Bar\", \"\", \"Close\",\"5\",\"0\",\"PrimaryOnly\",,,\"False\",\"T\",\"EveryTick\")","v":1729.41},1.0978411462443645E-2,{"$f":"RTD(\"cqg.rtd\",,\"StudyData\", \"Close(\"&$D$12&\") when LocalYear(\"&$D$12&\")=\"&$D$6&\" and localMonth(\"&$D$12&\") =\"&$E$6&\" and LocalDay(\"&$D$12&\")=\"&$F$6&\" and Barix(\"&$D$12&\",reference:=StartOfSession)=\"&A25&\"\", \"Bar\", \"\", \"Close\",\"5\",\"0\",\"PrimaryOnly\",,,\"False\",\"T\",\"EveryTick\")","v":1711.85},7.1305442629122804E-3,{"$f":"RTD(\"cqg.rtd\",,\"StudyData\", \"Close(\"&$D$12&\") when LocalYear(\"&$D$12&\")=\"&$D$7&\" and localMonth(\"&$D$12&\") =\"&$E$7&\" and LocalDay(\"&$D$12&\")=\"&$F$7&\" and Barix(\"&$D$12&\",reference:=StartOfSession)=\"&A25&\"\", \"Bar\", \"\", \"Close\",\"5\",\"0\",\"PrimaryOnly\",,,\"False\",\"T\",\"EveryTick\")","v":1696.48},1.4876384330208398E-3,{"$f":"RTD(\"cqg.rtd\",,\"StudyData\", \"Close(\"&$D$12&\") when LocalYear(\"&$D$12&\")=\"&$D$8&\" and localMonth(\"&$D$12&\") =\"&$E$8&\" and LocalDay(\"&$D$12&\")=\"&$F$8&\" and Barix(\"&$D$12&\",reference:=StartOfSession)=\"&A25&\"\", \"Bar\", \"\", \"Close\",\"5\",\"0\",\"PrimaryOnly\",,,\"False\",\"T\",\"EveryTick\")","v":1707.02},-3.9444969599365092E-3,{"$f":"RTD(\"cqg.rtd\",,\"StudyData\", \"Close(\"&$D$12&\") when LocalYear(\"&$D$12&\")=\"&$D$9&\" and localMonth(\"&$D$12&\") =\"&$E$9&\" and LocalDay(\"&$D$12&\")=\"&$F$9&\" and Barix(\"&$D$12&\",reference:=StartOfSession)=\"&A25&\"\", \"Bar\", \"\", \"Close\",\"5\",\"0\",\"PrimaryOnly\",,,\"False\",\"T\",\"EveryTick\")","v":1693.36},-3.7886810212966553E-3,{"$f":"RTD(\"cqg.rtd\",,\"StudyData\", \"Close(\"&$D$12&\") when LocalYear(\"&$D$12&\")=\"&$D$10&\" and localMonth(\"&$D$12&\") =\"&$E$10&\" and LocalDay(\"&$D$12&\")=\"&$F$10&\" and Barix(\"&$D$12&\",reference:=StartOfSession)=\"&A25&\"\", \"Bar\", \"\", \"Close\",\"5\",\"0\",\"PrimaryOnly\",,,\"False\",\"T\",\"EveryTick\")","v":1712.69},6.6061300655323452E-3,null,null,null,""]
[25,"10:35:00",null,null,null,null,null,{"$f":"RTD(\"cqg.rtd\",,\"StudyData\", \"Close(\"&$D$12&\") when LocalYear(\"&$D$12&\")=\"&$D$1&\" and localMonth(\"&$D$12&\") =\"&$E$1&\" and LocalDay(\"&$D$12&\")=\"&$F$1&\" and Barix(\"&$D$12&\",reference:=StartOfSession)=\"&A26&\"\", \"Bar\", \"\", \"Close\",\"5\",\"0\",\"PrimaryOnly\",,,\"False\",\"T\",\"EveryTick\")","v":""},{"$error":"#N/A"},{"$f":"RTD(\"cqg.rtd\",,\"StudyData\", \"Close(\"&$D$12&\") when LocalYear(\"&$D$12&\")=\"&$D$2&\" and localMonth(\"&$D$12&\") =\"&$E$2&\" and LocalDay(\"&$D$12&\")=\"&$F$2&\" and Barix(\"&$D$12&\",reference:=StartOfSession)=\"&A26&\"\", \"Bar\", \"\", \"Close\",\"5\",\"0\",\"PrimaryOnly\",,,\"False\",\"T\",\"EveryTick\")","v":1783.11},1.6017094017093961E-2,{"$f":"RTD(\"cqg.rtd\",,\"StudyData\", \"Close(\"&$D$12&\") when LocalYear(\"&$D$12&\")=\"&$D$3&\" and localMonth(\"&$D$12&\") =\"&$E$3&\" and LocalDay(\"&$D$12&\")=\"&$F$3&\" and Barix(\"&$D$12&\",reference:=StartOfSession)=\"&A26&\"\", \"Bar\", \"\", \"Close\",\"5\",\"0\",\"PrimaryOnly\",,,\"False\",\"T\",\"EveryTick\")","v":1745.6},1.4514620755333824E-3,{"$f":"RTD(\"cqg.rtd\",,\"StudyData\", \"Close(\"&$D$12&\") when LocalYear(\"&$D$12&\")=\"&$D$4&\" and localMonth(\"&$D$12&\") =\"&$E$4&\" and LocalDay(\"&$D$12&\")=\"&$F$4&\" and Barix(\"&$D$12&\",reference:=StartOfSession)=\"&A26&\"\", \"Bar\", \"\", \"Close\",\"5\",\"0\",\"PrimaryOnly\",,,\"False\",\"T\",\"EveryTick\")","v":1745.28},3.5997285827650003E-3,{"$f":"RTD(\"cqg.rtd\",,\"StudyData\", \"Close(\"&$D$12&\") when LocalYear(\"&$D$12&\")=\"&$D$5&\" and localMonth(\"&$D$12&\") =\"&$E$5&\" and LocalDay(\"&$D$12&\")=\"&$F$5&\" and Barix(\"&$D$12&\",reference:=StartOfSession)=\"&A26&\"\", \"Bar\", \"\", \"Close\",\"5\",\"0\",\"PrimaryOnly\",,,\"False\",\"T\",\"EveryTick\")","v":1730.04},1.1346696830992004E-2,{"$f":"RTD(\"cqg.rtd\",,\"StudyData\", \"Close(\"&$D$12&\") when LocalYear(\"&$D$12&\")=\"&$D$6&\" and localMonth(\"&$D$12&\") =\"&$E$6&\" and LocalDay(\"&$D$12&\")=\"&$F$6&\" and Barix(\"&$D$12&\",reference:=StartOfSession)=\"&A26&\"\", \"Bar\", \"\", \"Close\",\"5\",\"0\",\"PrimaryOnly\",,,\"False\",\"T\",\"EveryTick\")","v":1711.92},7.1717272743318378E-3,{"$f":"RTD(\"cqg.rtd\",,\"StudyData\", \"Close(\"&$D$12&\") when LocalYear(\"&$D$12&\")=\"&$D$7&\" and localMonth(\"&$D$12&\") =\"&$E$7&\" and LocalDay(\"&$D$12&\")=\"&$F$7&\" and Barix(\"&$D$12&\",reference:=StartOfSession)=\"&A26&\"\", \"Bar\", \"\", \"Close\",\"5\",\"0\",\"PrimaryOnly\",,,\"False\",\"T\",\"EveryTick\")","v":1694.03},4.1323289806097154E-5,{"$f":"RTD(\"cqg.rtd\",,\"StudyData\", \"Close(\"&$D$12&\") when LocalYear(\"&$D$12&\")=\"&$D$8&\" and localMonth(\"&$D$12&\") =\"&$E$8&\" and LocalDay(\"&$D$12&\")=\"&$F$8&\" and Barix(\"&$D$12&\",reference:=StartOfSession)=\"&A26&\"\", \"Bar\", \"\", \"Close\",\"5\",\"0\",\"PrimaryOnly\",,,\"False\",\"T\",\"EveryTick\")","v":1706.68},-4.1428888188681798E-3,{"$f":"RTD(\"cqg.rtd\",,\"StudyData\", \"Close(\"&$D$12&\") when LocalYear(\"&$D$12&\")=\"&$D$9&\" and localMonth(\"&$D$12&\") =\"&$E$9&\" and LocalDay(\"&$D$12&\")=\"&$F$9&\" and Barix(\"&$D$12&\",reference:=StartOfSession)=\"&A26&\"\", \"Bar\", \"\", \"Close\",\"5\",\"0\",\"PrimaryOnly\",,,\"False\",\"T\",\"EveryTick\")","v":1694.27},-3.2533239204612149E-3,{"$f":"RTD(\"cqg.rtd\",,\"StudyData\", \"Close(\"&$D$12&\") when LocalYear(\"&$D$12&\")=\"&$D$10&\" and localMonth(\"&$D$12&\") =\"&$E$10&\" and LocalDay(\"&$D$12&\")=\"&$F$10&\" and Barix(\"&$D$12&\",reference:=StartOfSession)=\"&A26&\"\", \"Bar\", \"\", \"Close\",\"5\",\"0\",\"PrimaryOnly\",,,\"False\",\"T\",\"EveryTick\")","v":1710.23},5.16030444620763E-3,null,null,null,""]
[26,"10:40:00",null,null,null,null,null,{"$f":"RTD(\"cqg.rtd\",,\"StudyData\", \"Close(\"&$D$12&\") when LocalYear(\"&$D$12&\")=\"&$D$1&\" and localMonth(\"&$D$12&\") =\"&$E$1&\" and LocalDay(\"&$D$12&\")=\"&$F$1&\" and Barix(\"&$D$12&\",reference:=StartOfSession)=\"&A27&\"\", \"Bar\", \"\", \"Close\",\"5\",\"0\",\"PrimaryOnly\",,,\"False\",\"T\",\"EveryTick\")","v":""},{"$error":"#N/A"},{"$f":"RTD(\"cqg.rtd\",,\"StudyData\", \"Close(\"&$D$12&\") when LocalYear(\"&$D$12&\")=\"&$D$2&\" and localMonth(\"&$D$12&\") =\"&$E$2&\" and LocalDay(\"&$D$12&\")=\"&$F$2&\" and Barix(\"&$D$12&\",reference:=StartOfSession)=\"&A27&\"\", \"Bar\", \"\", \"Close\",\"5\",\"0\",\"PrimaryOnly\",,,\"False\",\"T\",\"EveryTick\")","v":1781.71},1.521937321937324E-2,{"$f":"RTD(\"cqg.rtd\",,\"StudyData\", \"Close(\"&$D$12&\") when LocalYear(\"&$D$12&\")=\"&$D$3&\" and localMonth(\"&$D$12&\") =\"&$E$3&\" and LocalDay(\"&$D$12&\")=\"&$F$3&\" and Barix(\"&$D$12&\",reference:=StartOfSession)=\"&A27&\"\", \"Bar\", \"\", \"Close\",\"5\",\"0\",\"PrimaryOnly\",,,\"False\",\"T\",\"EveryTick\")","v":1746.05},1.7096272668338153E-3,{"$f":"RTD(\"cqg.rtd\",,\"StudyData\", \"Close(\"&$D$12&\") when LocalYear(\"&$D$12&\")=\"&$D$4&\" and localMonth(\"&$D$12&\") =\"&$E$4&\" and LocalDay(\"&$D$12&\")=\"&$F$4&\" and Barix(\"&$D$12&\",reference:=StartOfSession)=\"&A27&\"\", \"Bar\", \"\", \"Close\",\"5\",\"0\",\"PrimaryOnly\",,,\"False\",\"T\",\"EveryTick\")","v":1745.38},3.6572322342469481E-3,{"$f":"RTD(\"cqg.rtd\",,\"StudyData\", \"Close(\"&$D$12&\") when LocalYear(\"&$D$12&\")=\"&$D$5&\" and localMonth(\"&$D$12&\") =\"&$E$5&\" and LocalDay(\"&$D$12&\")=\"&$F$5&\" and Barix(\"&$D$12&\",reference:=StartOfSession)=\"&A27&\"\", \"Bar\", \"\", \"Close\",\"5\",\"0\",\"PrimaryOnly\",,,\"False\",\"T\",\"EveryTick\")","v":1730.41},1.1562991412520516E-2,{"$f":"RTD(\"cqg.rtd\",,\"StudyData\", \"Close(\"&$D$12&\") when LocalYear(\"&$D$12&\")=\"&$D$6&\" and localMonth(\"&$D$12&\") =\"&$E$6&\" and LocalDay(\"&$D$12&\")=\"&$F$6&\" and Barix(\"&$D$12&\",reference:=StartOfSession)=\"&A27&\"\", \"Bar\", \"\", \"Close\",\"5\",\"0\",\"PrimaryOnly\",,,\"False\",\"T\",\"EveryTick\")","v":1712.98},7.795355732969354E-3,{"$f":"RTD(\"cqg.rtd\",,\"StudyData\", \"Close(\"&$D$12&\") when LocalYear(\"&$D$12&\")=\"&$D$7&\" and localMonth(\"&$D$12&\") =\"&$E$7&\" and LocalDay(\"&$D$12&\")=\"&$F$7&\" and Barix(\"&$D$12&\",reference:=StartOfSession)=\"&A27&\"\", \"Bar\", \"\", \"Close\",\"5\",\"0\",\"PrimaryOnly\",,,\"False\",\"T\",\"EveryTick\")","v":1694},2.3613308460626944E-5,{"$f":"RTD(\"cqg.rtd\",,\"StudyData\", \"Close(\"&$D$12&\") when LocalYear(\"&$D$12&\")=\"&$D$8&\" and localMonth(\"&$D$12&\") =\"&$E$8&\" and LocalDay(\"&$D$12&\")=\"&$F$8&\" and Barix(\"&$D$12&\",reference:=StartOfSession)=\"&A27&\"\", \"Bar\", \"\", \"Close\",\"5\",\"0\",\"PrimaryOnly\",,,\"False\",\"T\",\"EveryTick\")","v":1705.93},-4.5805179194528525E-3,{"$f":"RTD(\"cqg.rtd\",,\"StudyData\", \"Close(\"&$D$12&\") when LocalYear(\"&$D$12&\")=\"&$D$9&\" and localMonth(\"&$D$12&\") =\"&$E$9&\" and LocalDay(\"&$D$12&\")=\"&$F$9&\" and Barix(\"&$D$12&\",reference:=StartOfSession)=\"&A27&\"\", \"Bar\", \"\", \"Close\",\"5\",\"0\",\"PrimaryOnly\",,,\"False\",\"T\",\"EveryTick\")","v":1692.9},-4.0593010942463021E-3,{"$f":"RTD(\"cqg.rtd\",,\"StudyData\", \"Close(\"&$D$12&\") when LocalYear(\"&$D$12&\")=\"&$D$10&\" and localMonth(\"&$D$12&\") =\"&$E$10&\" and LocalDay(\"&$D$12&\")=\"&$F$10&\" and Barix(\"&$D$12&\",reference:=StartOfSession)=\"&A27&\"\", \"Bar\", \"\", \"Close\",\"5\",\"0\",\"PrimaryOnly\",,,\"False\",\"T\",\"EveryTick\")","v":1707.84},3.755620206294556E-3,null,null,null,""]
[27,"10:45:00",null,null,null,null,null,{"$f":"RTD(\"cqg.rtd\",,\"StudyData\", \"Close(\"&$D$12&\") when LocalYear(\"&$D$12&\")=\"&$D$1&\" and localMonth(\"&$D$12&\") =\"&$E$1&\" and LocalDay(\"&$D$12&\")=\"&$F$1&\" and Barix(\"&$D$12&\",reference:=StartOfSession)=\"&A28&\"\", \"Bar\", \"\", \"Close\",\"5\",\"0\",\"PrimaryOnly\",,,\"False\",\"T\",\"EveryTick\")","v":""},{"$error":"#N/A"},{"$f":"RTD(\"cqg.rtd\",,\"StudyData\", \"Close(\"&$D$12&\") when LocalYear(\"&$D$12&\")=\"&$D$2&\" and localMonth(\"&$D$12&\") =\"&$E$2&\" and LocalDay(\"&$D$12&\")=\"&$F$2&\" and Barix(\"&$D$12&\",reference:=StartOfSession)=\"&A28&\"\", \"Bar\", \"\", \"Close\",\"5\",\"0\",\"PrimaryOnly\",,,\"False\",\"T\",\"EveryTick\")","v":1782.61},1.5732193732193676E-2,{"$f":"RTD(\"cqg.rtd\",,\"StudyData\", \"Close(\"&$D$12&\") when LocalYear(\"&$D$12&\")=\"&$D$3&\" and localMonth(\"&$D$12&\") =\"&$E$3&\" and LocalDay(\"&$D$12&\")=\"&$F$3&\" and Barix(\"&$D$12&\",reference:=StartOfSession)=\"&A28&\"\", \"Bar\", \"\", \"Close\",\"5\",\"0\",\"PrimaryOnly\",,,\"False\",\"T\",\"EveryTick\")","v":1745.85},1.5948871818113862E-3,{"$f":"RTD(\"cqg.rtd\",,\"StudyData\", \"Close(\"&$D$12&\") when LocalYear(\"&$D$12&\")=\"&$D$4&\" and localMonth(\"&$D$12&\") =\"&$E$4&\" and LocalDay(\"&$D$12&\")=\"&$F$4&\" and Barix(\"&$D$12&\",reference:=StartOfSession)=\"&A28&\"\", \"Bar\", \"\", \"Close\",\"5\",\"0\",\"PrimaryOnly\",,,\"False\",\"T\",\"EveryTick\")","v":1746.74},4.4392818944003105E-3,{"$f":"RTD(\"cqg.rtd\",,\"StudyData\", \"Close(\"&$D$12&\") when LocalYear(\"&$D$12&\")=\"&$D$5&\" and localMonth(\"&$D$12&\") =\"&$E$5&\" and LocalDay(\"&$D$12&\")=\"&$F$5&\" and Barix(\"&$D$12&\",reference:=StartOfSession)=\"&A28&\"\", \"Bar\", \"\", \"Close\",\"5\",\"0\",\"PrimaryOnly\",,,\"False\",\"T\",\"EveryTick\")","v":1729.67},1.1130402249463626E-2,{"$f":"RTD(\"cqg.rtd\",,\"StudyData\", \"Close(\"&$D$12&\") when LocalYear(\"&$D$12&\")=\"&$D$6&\" and localMonth(\"&$D$12&\") =\"&$E$6&\" and LocalDay(\"&$D$12&\")=\"&$F$6&\" and Barix(\"&$D$12&\",reference:=StartOfSession)=\"&A28&\"\", \"Bar\", \"\", \"Close\",\"5\",\"0\",\"PrimaryOnly\",,,\"False\",\"T\",\"EveryTick\")","v":1713.57},8.1424696863619042E-3,{"$f":"RTD(\"cqg.rtd\",,\"StudyData\", \"Close(\"&$D$12&\") when LocalYear(\"&$D$12&\")=\"&$D$7&\" and localMonth(\"&$D$12&\") =\"&$E$7&\" and LocalDay(\"&$D$12&\")=\"&$F$7&\" and Barix(\"&$D$12&\",reference:=StartOfSession)=\"&A28&\"\", \"Bar\", \"\", \"Close\",\"5\",\"0\",\"PrimaryOnly\",,,\"False\",\"T\",\"EveryTick\")","v":1696.5},1.4994450872511532E-3,{"$f":"RTD(\"cqg.rtd\",,\"StudyData\", \"Close(\"&$D$12&\") when LocalYear(\"&$D$12&\")=\"&$D$8&\" and localMonth(\"&$D$12&\") =\"&$E$8&\" and LocalDay(\"&$D$12&\")=\"&$F$8&\" and Barix(\"&$D$12&\",reference:=StartOfSession)=\"&A28&\"\", \"Bar\", \"\", \"Close\",\"5\",\"0\",\"PrimaryOnly\",,,\"False\",\"T\",\"EveryTick\")","v":1706.74},-4.1078784908214379E-3,{"$f":"RTD(\"cqg.rtd\",,\"StudyData\", \"Close(\"&$D$12&\") when LocalYear(\"&$D$12&\")=\"&$D$9&\" and localMonth(\"&$D$12&\") =\"&$E$9&\" and LocalDay(\"&$D$12&\")=\"&$F$9&\" and Barix(\"&$D$12&\",reference:=StartOfSession)=\"&A28&\"\", \"Bar\", \"\", \"Close\",\"5\",\"0\",\"PrimaryOnly\",,,\"False\",\"T\",\"EveryTick\")","v":1691.92},-4.6358395105305815E-3,{"$f":"RTD(\"cqg.rtd\",,\"StudyData\", \"Close(\"&$D$12&\") when LocalYear(\"&$D$12&\")=\"&$D$10&\" and localMonth(\"&$D$12&\") =\"&$E$10&\" and LocalDay(\"&$D$12&\")=\"&$F$10&\" and Barix(\"&$D$12&\",reference:=StartOfSession)=\"&A28&\"\", \"Bar\", \"\", \"Close\",\"5\",\"0\",\"PrimaryOnly\",,,\"False\",\"T\",\"EveryTick\")","v":1708.55},4.1729113403273146E-3,null,null,null,""]
[28,"10:50:00",null,null,null,null,null,{"$f":"RTD(\"cqg.rtd\",,\"StudyData\", \"Close(\"&$D$12&\") when LocalYear(\"&$D$12&\")=\"&$D$1&\" and localMonth(\"&$D$12&\") =\"&$E$1&\" and LocalDay(\"&$D$12&\")=\"&$F$1&\" and Barix(\"&$D$12&\",reference:=StartOfSession)=\"&A29&\"\", \"Bar\", \"\", \"Close\",\"5\",\"0\",\"PrimaryOnly\",,,\"False\",\"T\",\"EveryTick\")","v":""},{"$error":"#N/A"},{"$f":"RTD(\"cqg.rtd\",,\"StudyData\", \"Close(\"&$D$12&\") when LocalYear(\"&$D$12&\")=\"&$D$2&\" and localMonth(\"&$D$12&\") =\"&$E$2&\" and LocalDay(\"&$D$12&\")=\"&$F$2&\" and Barix(\"&$D$12&\",reference:=StartOfSession)=\"&A29&\"\", \"Bar\", \"\", \"Close\",\"5\",\"0\",\"PrimaryOnly\",,,\"False\",\"T\",\"EveryTick\")","v":1783.55},1.6267806267806242E-2,{"$f":"RTD(\"cqg.rtd\",,\"StudyData\", \"Close(\"&$D$12&\") when LocalYear(\"&$D$12&\")=\"&$D$3&\" and localMonth(\"&$D$12&\") =\"&$E$3&\" and LocalDay(\"&$D$12&\")=\"&$F$3&\" and Barix(\"&$D$12&\",reference:=StartOfSession)=\"&A29&\"\", \"Bar\", \"\", \"Close\",\"5\",\"0\",\"PrimaryOnly\",,,\"False\",\"T\",\"EveryTick\")","v":1747.98},2.816869087300041E-3,{"$f":"RTD(\"cqg.rtd\",,\"StudyData\", \"Close(\"&$D$12&\") when LocalYear(\"&$D$12&\")=\"&$D$4&\" and localMonth(\"&$D$12&\") =\"&$E$4&\" and LocalDay(\"&$D$12&\")=\"&$F$4&\" and Barix(\"&$D$12&\",reference:=StartOfSession)=\"&A29&\"\", \"Bar\", \"\", \"Close\",\"5\",\"0\",\"PrimaryOnly\",,,\"False\",\"T\",\"EveryTick\")","v":1746.51},4.307023495992001E-3,{"$f":"RTD(\"cqg.rtd\",,\"StudyData\", \"Close(\"&$D$12&\") when LocalYear(\"&$D$12&\")=\"&$D$5&\" and localMonth(\"&$D$12&\") =\"&$E$5&\" and LocalDay(\"&$D$12&\")=\"&$F$5&\" and Barix(\"&$D$12&\",reference:=StartOfSession)=\"&A29&\"\", \"Bar\", \"\", \"Close\",\"5\",\"0\",\"PrimaryOnly\",,,\"False\",\"T\",\"EveryTick\")","v":1728.64},1.0528284900884463E-2,{"$f":"RTD(\"cqg.rtd\",,\"StudyData\", \"Close(\"&$D$12&\") when LocalYear(\"&$D$12&\")=\"&$D$6&\" and localMonth(\"&$D$12&\") =\"&$E$6&\" and LocalDay(\"&$D$12&\")=\"&$F$6&\" and Barix(\"&$D$12&\",reference:=StartOfSession)=\"&A29&\"\", \"Bar\", \"\", \"Close\",\"5\",\"0\",\"PrimaryOnly\",,,\"False\",\"T\",\"EveryTick\")","v":1711.49},6.9187459184693982E-3,{"$f":"RTD(\"cqg.rtd\",,\"StudyData\", \"Close(\"&$D$12&\") when LocalYear(\"&$D$12&\")=\"&$D$7&\" and localMonth(\"&$D$12&\") =\"&$E$7&\" and LocalDay(\"&$D$12&\")=\"&$F$7&\" and Barix(\"&$D$12&\",reference:=StartOfSession)=\"&A29&\"\", \"Bar\", \"\", \"Close\",\"5\",\"0\",\"PrimaryOnly\",,,\"False\",\"T\",\"EveryTick\")","v":1698.82},2.8690169779687241E-3,{"$f":"RTD(\"cqg.rtd\",,\"StudyData\", \"Close(\"&$D$12&\") when LocalYear(\"&$D$12&\")=\"&$D$8&\" and localMonth(\"&$D$12&\") =\"&$E$8&\" and LocalDay(\"&$D$12&\")=\"&$F$8&\" and Barix(\"&$D$12&\",reference:=StartOfSession)=\"&A29&\"\", \"Bar\", \"\", \"Close\",\"5\",\"0\",\"PrimaryOnly\",,,\"False\",\"T\",\"EveryTick\")","v":1703.99},-5.7125185262985705E-3,{"$f":"RTD(\"cqg.rtd\",,\"StudyData\", \"Close(\"&$D$12&\") when LocalYear(\"&$D$12&\")=\"&$D$9&\" and localMonth(\"&$D$12&\") =\"&$E$9&\" and LocalDay(\"&$D$12&\")=\"&$F$9&\" and Barix(\"&$D$12&\",reference:=StartOfSession)=\"&A29&\"\", \"Bar\", \"\", \"Close\",\"5\",\"0\",\"PrimaryOnly\",,,\"False\",\"T\",\"EveryTick\")","v":1693.3},-3.8239792916813743E-3,{"$f":"RTD(\"cqg.rtd\",,\"StudyData\", \"Close(\"&$D$12&\") when LocalYear(\"&$D$12&\")=\"&$D$10&\" and localMonth(\"&$D$12&\") =\"&$E$10&\" and LocalDay(\"&$D$12&\")=\"&$F$10&\" and Barix(\"&$D$12&\",reference:=StartOfSession)=\"&A29&\"\", \"Bar\", \"\", \"Close\",\"5\",\"0\",\"PrimaryOnly\",,,\"False\",\"T\",\"EveryTick\")","v":1703.86},1.4164389197448379E-3,null,null,null,""]
[29,"10:55:00",null,null,null,null,null,{"$f":"RTD(\"cqg.rtd\",,\"StudyData\", \"Close(\"&$D$12&\") when LocalYear(\"&$D$12&\")=\"&$D$1&\" and localMonth(\"&$D$12&\") =\"&$E$1&\" and LocalDay(\"&$D$12&\")=\"&$F$1&\" and Barix(\"&$D$12&\",reference:=StartOfSession)=\"&A30&\"\", \"Bar\", \"\", \"Close\",\"5\",\"0\",\"PrimaryOnly\",,,\"False\",\"T\",\"EveryTick\")","v":""},{"$error":"#N/A"},{"$f":"RTD(\"cqg.rtd\",,\"StudyData\", \"Close(\"&$D$12&\") when LocalYear(\"&$D$12&\")=\"&$D$2&\" and localMonth(\"&$D$12&\") =\"&$E$2&\" and LocalDay(\"&$D$12&\")=\"&$F$2&\" and Barix(\"&$D$12&\",reference:=StartOfSession)=\"&A30&\"\", \"Bar\", \"\", \"Close\",\"5\",\"0\",\"PrimaryOnly\",,,\"False\",\"T\",\"EveryTick\")","v":1784.93},1.7054131054131092E-2,{"$f":"RTD(\"cqg.rtd\",,\"StudyData\", \"Close(\"&$D$12&\") when LocalYear(\"&$D$12&\")=\"&$D$3&\" and localMonth(\"&$D$12&\") =\"&$E$3&\" and LocalDay(\"&$D$12&\")=\"&$F$3&\" and Barix(\"&$D$12&\",reference:=StartOfSession)=\"&A30&\"\", \"Bar\", \"\", \"Close\",\"5\",\"0\",\"PrimaryOnly\",,,\"False\",\"T\",\"EveryTick\")","v":1747.19},2.3636457514615698E-3,{"$f":"RTD(\"cqg.rtd\",,\"StudyData\", \"Close(\"&$D$12&\") when LocalYear(\"&$D$12&\")=\"&$D$4&\" and localMonth(\"&$D$12&\") =\"&$E$4&\" and LocalDay(\"&$D$12&\")=\"&$F$4&\" and Barix(\"&$D$12&\",reference:=StartOfSession)=\"&A30&\"\", \"Bar\", \"\", \"Close\",\"5\",\"0\",\"PrimaryOnly\",,,\"False\",\"T\",\"EveryTick\")","v":1747},4.5887913882531649E-3,{"$f":"RTD(\"cqg.rtd\",,\"StudyData\", \"Close(\"&$D$12&\") when LocalYear(\"&$D$12&\")=\"&$D$5&\" and localMonth(\"&$D$12&\") =\"&$E$5&\" and LocalDay(\"&$D$12&\")=\"&$F$5&\" and Barix(\"&$D$12&\",reference:=StartOfSession)=\"&A30&\"\", \"Bar\", \"\", \"Close\",\"5\",\"0\",\"PrimaryOnly\",,,\"False\",\"T\",\"EveryTick\")","v":1729.19},1.0849803873426716E-2,{"$f":"RTD(\"cqg.rtd\",,\"StudyData\", \"Close(\"&$D$12&\") when LocalYear(\"&$D$12&\")=\"&$D$6&\" and localMonth(\"&$D$12&\") =\"&$E$6&\" and LocalDay(\"&$D$12&\")=\"&$F$6&\" and Barix(\"&$D$12&\",reference:=StartOfSession)=\"&A30&\"\", \"Bar\", \"\", \"Close\",\"5\",\"0\",\"PrimaryOnly\",,,\"False\",\"T\",\"EveryTick\")","v":1711.82},7.1128944008753848E-3,{"$f":"RTD(\"cqg.rtd\",,\"StudyData\", \"Close(\"&$D$12&\") when LocalYear(\"&$D$12&\")=\"&$D$7&\" and localMonth(\"&$D$12&\") =\"&$E$7&\" and LocalDay(\"&$D$12&\")=\"&$F$7&\" and Barix(\"&$D$12&\",reference:=StartOfSession)=\"&A30&\"\", \"Bar\", \"\", \"Close\",\"5\",\"0\",\"PrimaryOnly\",,,\"False\",\"T\",\"EveryTick\")","v":1699.77},3.4298330539091508E-3,{"$f":"RTD(\"cqg.rtd\",,\"StudyData\", \"Close(\"&$D$12&\") when LocalYear(\"&$D$12&\")=\"&$D$8&\" and localMonth(\"&$D$12&\") =\"&$E$8&\" and LocalDay(\"&$D$12&\")=\"&$F$8&\" and Barix(\"&$D$12&\",reference:=StartOfSession)=\"&A30&\"\", \"Bar\", \"\", \"Close\",\"5\",\"0\",\"PrimaryOnly\",,,\"False\",\"T\",\"EveryTick\")","v":1705.28},-4.959796473292955E-3,{"$f":"RTD(\"cqg.rtd\",,\"StudyData\", \"Close(\"&$D$12&\") when LocalYear(\"&$D$12&\")=\"&$D$9&\" and localMonth(\"&$D$12&\") =\"&$E$9&\" and LocalDay(\"&$D$12&\")=\"&$F$9&\" and Barix(\"&$D$12&\",reference:=StartOfSession)=\"&A30&\"\", \"Bar\", \"\", \"Close\",\"5\",\"0\",\"PrimaryOnly\",,,\"False\",\"T\",\"EveryTick\")","v":1693.88},-3.4827626779620224E-3,{"$f":"RTD(\"cqg.rtd\",,\"StudyData\", \"Close(\"&$D$12&\") when LocalYear(\"&$D$12&\")=\"&$D$10&\" and localMonth(\"&$D$12&\") =\"&$E$10&\" and LocalDay(\"&$D$12&\")=\"&$F$10&\" and Barix(\"&$D$12&\",reference:=StartOfSession)=\"&A30&\"\", \"Bar\", \"\", \"Close\",\"5\",\"0\",\"PrimaryOnly\",,,\"False\",\"T\",\"EveryTick\")","v":1706.79},3.1384995151194088E-3,null,null,null,""]
[30,"11:00:00",null,null,null,null,null,{"$f":"RTD(\"cqg.rtd\",,\"StudyData\", \"Close(\"&$D$12&\") when LocalYear(\"&$D$12&\")=\"&$D$1&\" and localMonth(\"&$D$12&\") =\"&$E$1&\" and LocalDay(\"&$D$12&\")=\"&$F$1&\" and Barix(\"&$D$12&\",reference:=StartOfSession)=\"&A31&\"\", \"Bar\", \"\", \"Close\",\"5\",\"0\",\"PrimaryOnly\",,,\"False\",\"T\",\"EveryTick\")","v":""},{"$error":"#N/A"},{"$f":"RTD(\"cqg.rtd\",,\"StudyData\", \"Close(\"&$D$12&\") when LocalYear(\"&$D$12&\")=\"&$D$2&\" and localMonth(\"&$D$12&\") =\"&$E$2&\" and LocalDay(\"&$D$12&\")=\"&$F$2&\" and Barix(\"&$D$12&\",reference:=StartOfSession)=\"&A31&\"\", \"Bar\", \"\", \"Close\",\"5\",\"0\",\"PrimaryOnly\",,,\"False\",\"T\",\"EveryTick\")","v":1784.19},1.6632478632478662E-2,{"$f":"RTD(\"cqg.rtd\",,\"StudyData\", \"Close(\"&$D$12&\") when LocalYear(\"&$D$12&\")=\"&$D$3&\" and localMonth(\"&$D$12&\") =\"&$E$3&\" and LocalDay(\"&$D$12&\")=\"&$F$3&\" and Barix(\"&$D$12&\",reference:=StartOfSession)=\"&A31&\"\", \"Bar\", \"\", \"Close\",\"5\",\"0\",\"PrimaryOnly\",,,\"False\",\"T\",\"EveryTick\")","v":1748},2.8283430958022707E-3,{"$f":"RTD(\"cqg.rtd\",,\"StudyData\", \"Close(\"&$D$12&\") when LocalYear(\"&$D$12&\")=\"&$D$4&\" and localMonth(\"&$D$12&\") =\"&$E$4&\" and LocalDay(\"&$D$12&\")=\"&$F$4&\" and Barix(\"&$D$12&\",reference:=StartOfSession)=\"&A31&\"\", \"Bar\", \"\", \"Close\",\"5\",\"0\",\"PrimaryOnly\",,,\"False\",\"T\",\"EveryTick\")","v":1745.46},3.7032351554324014E-3,{"$f":"RTD(\"cqg.rtd\",,\"StudyData\", \"Close(\"&$D$12&\") when LocalYear(\"&$D$12&\")=\"&$D$5&\" and localMonth(\"&$D$12&\") =\"&$E$5&\" and LocalDay(\"&$D$12&\")=\"&$F$5&\" and Barix(\"&$D$12&\",reference:=StartOfSession)=\"&A31&\"\", \"Bar\", \"\", \"Close\",\"5\",\"0\",\"PrimaryOnly\",,,\"False\",\"T\",\"EveryTick\")","v":1727.89},1.008984993832681E-2,{"$f":"RTD(\"cqg.rtd\",,\"StudyData\", \"Close(\"&$D$12&\") when LocalYear(\"&$D$12&\")=\"&$D$6&\" and localMonth(\"&$D$12&\") =\"&$E$6&\" and LocalDay(\"&$D$12&\")=\"&$F$6&\" and Barix(\"&$D$12&\",reference:=StartOfSession)=\"&A31&\"\", \"Bar\", \"\", \"Close\",\"5\",\"0\",\"PrimaryOnly\",,,\"False\",\"T\",\"EveryTick\")","v":1711.48},6.9128626311237666E-3,{"$f":"RTD(\"cqg.rtd\",,\"StudyData\", \"Close(\"&$D$12&\") when LocalYear(\"&$D$12&\")=\"&$D$7&\" and localMonth(\"&$D$12&\") =\"&$E$7&\" and LocalDay(\"&$D$12&\")=\"&$F$7&\" and Barix(\"&$D$12&\",reference:=StartOfSession)=\"&A31&\"\", \"Bar\", \"\", \"Close\",\"5\",\"0\",\"PrimaryOnly\",,,\"False\",\"T\",\"EveryTick\")","v":1701.48},4.4393019906018927E-3,{"$f":"RTD(\"cqg.rtd\",,\"StudyData\", \"Close(\"&$D$12&\") when LocalYear(\"&$D$12&\")=\"&$D$8&\" and localMonth(\"&$D$12&\") =\"&$E$8&\" and LocalDay(\"&$D$12&\")=\"&$F$8&\" and Barix(\"&$D$12&\",reference:=StartOfSession)=\"&A31&\"\", \"Bar\", \"\", \"Close\",\"5\",\"0\",\"PrimaryOnly\",,,\"False\",\"T\",\"EveryTick\")","v":1704},-5.7066834716241136E-3,{"$f":"RTD(\"cqg.rtd\",,\"StudyData\", \"Close(\"&$D$12&\") when LocalYear(\"&$D$12&\")=\"&$D$9&\" and localMonth(\"&$D$12&\") =\"&$E$9&\" and LocalDay(\"&$D$12&\")=\"&$F$9&\" and Barix(\"&$D$12&\",reference:=StartOfSession)=\"&A31&\"\", \"Bar\", \"\", \"Close\",\"5\",\"0\",\"PrimaryOnly\",,,\"False\",\"T\",\"EveryTick\")","v":1693.93},-3.4533474526414233E-3,{"$f":"RTD(\"cqg.rtd\",,\"StudyData\", \"Close(\"&$D$12&\") when LocalYear(\"&$D$12&\")=\"&$D$10&\" and localMonth(\"&$D$12&\") =\"&$E$10&\" and LocalDay(\"&$D$12&\")=\"&$F$10&\" and Barix(\"&$D$12&\",reference:=StartOfSession)=\"&A31&\"\", \"Bar\", \"\", \"Close\",\"5\",\"0\",\"PrimaryOnly\",,,\"False\",\"T\",\"EveryTick\")","v":1708},3.8496576449498689E-3,null,null,null,""]
[31,"11:05:00",null,null,null,null,null,{"$f":"RTD(\"cqg.rtd\",,\"StudyData\", \"Close(\"&$D$12&\") when LocalYear(\"&$D$12&\")=\"&$D$1&\" and localMonth(\"&$D$12&\") =\"&$E$1&\" and LocalDay(\"&$D$12&\")=\"&$F$1&\" and Barix(\"&$D$12&\",reference:=StartOfSession)=\"&A32&\"\", \"Bar\", \"\", \"Close\",\"5\",\"0\",\"PrimaryOnly\",,,\"False\",\"T\",\"EveryTick\")","v":""},{"$error":"#N/A"},{"$f":"RTD(\"cqg.rtd\",,\"StudyData\", \"Close(\"&$D$12&\") when LocalYear(\"&$D$12&\")=\"&$D$2&\" and localMonth(\"&$D$12&\") =\"&$E$2&\" and LocalDay(\"&$D$12&\")=\"&$F$2&\" and Barix(\"&$D$12&\",reference:=StartOfSession)=\"&A32&\"\", \"Bar\", \"\", \"Close\",\"5\",\"0\",\"PrimaryOnly\",,,\"False\",\"T\",\"EveryTick\")","v":1785.9},1.760683760683766E-2,{"$f":"RTD(\"cqg.rtd\",,\"StudyData\", \"Close(\"&$D$12&\") when LocalYear(\"&$D$12&\")=\"&$D$3&\" and localMonth(\"&$D$12&\") =\"&$E$3&\" and LocalDay(\"&$D$12&\")=\"&$F$3&\" and Barix(\"&$D$12&\",reference:=StartOfSession)=\"&A32&\"\", \"Bar\", \"\", \"Close\",\"5\",\"0\",\"PrimaryOnly\",,,\"False\",\"T\",\"EveryTick\")","v":1746.2},1.7956823306006697E-3,{"$f":"RTD(\"cqg.rtd\",,\"StudyData\", \"Close(\"&$D$12&\") when LocalYear(\"&$D$12&\")=\"&$D$4&\" and localMonth(\"&$D$12&\") =\"&$E$4&\" and LocalDay(\"&$D$12&\")=\"&$F$4&\" and Barix(\"&$D$12&\",reference:=StartOfSession)=\"&A32&\"\", \"Bar\", \"\", \"Close\",\"5\",\"0\",\"PrimaryOnly\",,,\"False\",\"T\",\"EveryTick\")","v":1744.72},3.2777081344665649E-3,{"$f":"RTD(\"cqg.rtd\",,\"StudyData\", \"Close(\"&$D$12&\") when LocalYear(\"&$D$12&\")=\"&$D$5&\" and localMonth(\"&$D$12&\") =\"&$E$5&\" and LocalDay(\"&$D$12&\")=\"&$F$5&\" and Barix(\"&$D$12&\",reference:=StartOfSession)=\"&A32&\"\", \"Bar\", \"\", \"Close\",\"5\",\"0\",\"PrimaryOnly\",,,\"False\",\"T\",\"EveryTick\")","v":1729.04},1.0762116880915133E-2,{"$f":"RTD(\"cqg.rtd\",,\"StudyData\", \"Close(\"&$D$12&\") when LocalYear(\"&$D$12&\")=\"&$D$6&\" and localMonth(\"&$D$12&\") =\"&$E$6&\" and LocalDay(\"&$D$12&\")=\"&$F$6&\" and Barix(\"&$D$12&\",reference:=StartOfSession)=\"&A32&\"\", \"Bar\", \"\", \"Close\",\"5\",\"0\",\"PrimaryOnly\",,,\"False\",\"T\",\"EveryTick\")","v":1712.09},7.2717431592075801E-3,{"$f":"RTD(\"cqg.rtd\",,\"StudyData\", \"Close(\"&$D$12&\") when LocalYear(\"&$D$12&\")=\"&$D$7&\" and localMonth(\"&$D$12&\") =\"&$E$7&\" and LocalDay(\"&$D$12&\")=\"&$F$7&\" and Barix(\"&$D$12&\",reference:=StartOfSession)=\"&A32&\"\", \"Bar\", \"\", \"Close\",\"5\",\"0\",\"PrimaryOnly\",,,\"False\",\"T\",\"EveryTick\")","v":1699.59},3.3235731658361953E-3,{"$f":"RTD(\"cqg.rtd\",,\"StudyData\", \"Close(\"&$D$12&\") when LocalYear(\"&$D$12&\")=\"&$D$8&\" and localMonth(\"&$D$12&\") =\"&$E$8&\" and LocalDay(\"&$D$12&\")=\"&$F$8&\" and Barix(\"&$D$12&\",reference:=StartOfSession)=\"&A32&\"\", \"Bar\", \"\", \"Close\",\"5\",\"0\",\"PrimaryOnly\",,,\"False\",\"T\",\"EveryTick\")","v":1703.73},-5.8642299478345846E-3,{"$f":"RTD(\"cqg.rtd\",,\"StudyData\", \"Close(\"&$D$12&\") when LocalYear(\"&$D$12&\")=\"&$D$9&\" and localMonth(\"&$D$12&\") =\"&$E$9&\" and LocalDay(\"&$D$12&\")=\"&$F$9&\" and Barix(\"&$D$12&\",reference:=StartOfSession)=\"&A32&\"\", \"Bar\", \"\", \"Close\",\"5\",\"0\",\"PrimaryOnly\",,,\"False\",\"T\",\"EveryTick\")","v":1693.09},-3.9475232380280249E-3,{"$f":"RTD(\"cqg.rtd\",,\"StudyData\", \"Close(\"&$D$12&\") when LocalYear(\"&$D$12&\")=\"&$D$10&\" and localMonth(\"&$D$12&\") =\"&$E$10&\" and LocalDay(\"&$D$12&\")=\"&$F$10&\" and Barix(\"&$D$12&\",reference:=StartOfSession)=\"&A32&\"\", \"Bar\", \"\", \"Close\",\"5\",\"0\",\"PrimaryOnly\",,,\"False\",\"T\",\"EveryTick\")","v":1708.52},4.1552793205794679E-3,null,null,null,""]
[32,"11:10:00",null,null,null,null,null,{"$f":"RTD(\"cqg.rtd\",,\"StudyData\", \"Close(\"&$D$12&\") when LocalYear(\"&$D$12&\")=\"&$D$1&\" and localMonth(\"&$D$12&\") =\"&$E$1&\" and LocalDay(\"&$D$12&\")=\"&$F$1&\" and Barix(\"&$D$12&\",reference:=StartOfSession)=\"&A33&\"\", \"Bar\", \"\", \"Close\",\"5\",\"0\",\"PrimaryOnly\",,,\"False\",\"T\",\"EveryTick\")","v":""},{"$error":"#N/A"},{"$f":"RTD(\"cqg.rtd\",,\"StudyData\", \"Close(\"&$D$12&\") when LocalYear(\"&$D$12&\")=\"&$D$2&\" and localMonth(\"&$D$12&\") =\"&$E$2&\" and LocalDay(\"&$D$12&\")=\"&$F$2&\" and Barix(\"&$D$12&\",reference:=StartOfSession)=\"&A33&\"\", \"Bar\", \"\", \"Close\",\"5\",\"0\",\"PrimaryOnly\",,,\"False\",\"T\",\"EveryTick\")","v":1786.1},1.7720797720797668E-2,{"$f":"RTD(\"cqg.rtd\",,\"StudyData\", \"Close(\"&$D$12&\") when LocalYear(\"&$D$12&\")=\"&$D$3&\" and localMonth(\"&$D$12&\") =\"&$E$3&\" and LocalDay(\"&$D$12&\")=\"&$F$3&\" and Barix(\"&$D$12&\",reference:=StartOfSession)=\"&A33&\"\", \"Bar\", \"\", \"Close\",\"5\",\"0\",\"PrimaryOnly\",,,\"False\",\"T\",\"EveryTick\")","v":1746.07},1.721101275336045E-3,{"$f":"RTD(\"cqg.rtd\",,\"StudyData\", \"Close(\"&$D$12&\") when LocalYear(\"&$D$12&\")=\"&$D$4&\" and localMonth(\"&$D$12&\") =\"&$E$4&\" and LocalDay(\"&$D$12&\")=\"&$F$4&\" and Barix(\"&$D$12&\",reference:=StartOfSession)=\"&A33&\"\", \"Bar\", \"\", \"Close\",\"5\",\"0\",\"PrimaryOnly\",,,\"False\",\"T\",\"EveryTick\")","v":1746.02},4.0252556037308372E-3,{"$f":"RTD(\"cqg.rtd\",,\"StudyData\", \"Close(\"&$D$12&\") when LocalYear(\"&$D$12&\")=\"&$D$5&\" and localMonth(\"&$D$12&\") =\"&$E$5&\" and LocalDay(\"&$D$12&\")=\"&$F$5&\" and Barix(\"&$D$12&\",reference:=StartOfSession)=\"&A33&\"\", \"Bar\", \"\", \"Close\",\"5\",\"0\",\"PrimaryOnly\",,,\"False\",\"T\",\"EveryTick\")","v":1729},1.073873368291208E-2,{"$f":"RTD(\"cqg.rtd\",,\"StudyData\", \"Close(\"&$D$12&\") when LocalYear(\"&$D$12&\")=\"&$D$6&\" and localMonth(\"&$D$12&\") =\"&$E$6&\" and LocalDay(\"&$D$12&\")=\"&$F$6&\" and Barix(\"&$D$12&\",reference:=StartOfSession)=\"&A33&\"\", \"Bar\", \"\", \"Close\",\"5\",\"0\",\"PrimaryOnly\",,,\"False\",\"T\",\"EveryTick\")","v":1712.6},7.5717908138350741E-3,{"$f":"RTD(\"cqg.rtd\",,\"StudyData\", \"Close(\"&$D$12&\") when LocalYear(\"&$D$12&\")=\"&$D$7&\" and localMonth(\"&$D$12&\") =\"&$E$7&\" and LocalDay(\"&$D$12&\")=\"&$F$7&\" and Barix(\"&$D$12&\",reference:=StartOfSession)=\"&A33&\"\", \"Bar\", \"\", \"Close\",\"5\",\"0\",\"PrimaryOnly\",,,\"False\",\"T\",\"EveryTick\")","v":1701.8},4.628208458287042E-3,{"$f":"RTD(\"cqg.rtd\",,\"StudyData\", \"Close(\"&$D$12&\") when LocalYear(\"&$D$12&\")=\"&$D$8&\" and localMonth(\"&$D$12&\") =\"&$E$8&\" and LocalDay(\"&$D$12&\")=\"&$F$8&\" and Barix(\"&$D$12&\",reference:=StartOfSession)=\"&A33&\"\", \"Bar\", \"\", \"Close\",\"5\",\"0\",\"PrimaryOnly\",,,\"False\",\"T\",\"EveryTick\")","v":1699.61},-8.2682724737131209E-3,{"$f":"RTD(\"cqg.rtd\",,\"StudyData\", \"Close(\"&$D$12&\") when LocalYear(\"&$D$12&\")=\"&$D$9&\" and localMonth(\"&$D$12&\") =\"&$E$9&\" and LocalDay(\"&$D$12&\")=\"&$F$9&\" and Barix(\"&$D$12&\",reference:=StartOfSession)=\"&A33&\"\", \"Bar\", \"\", \"Close\",\"5\",\"0\",\"PrimaryOnly\",,,\"False\",\"T\",\"EveryTick\")","v":1691.59},-4.8299799976468036E-3,{"$f":"RTD(\"cqg.rtd\",,\"StudyData\", \"Close(\"&$D$12&\") when LocalYear(\"&$D$12&\")=\"&$D$10&\" and localMonth(\"&$D$12&\") =\"&$E$10&\" and LocalDay(\"&$D$12&\")=\"&$F$10&\" and Barix(\"&$D$12&\",reference:=StartOfSession)=\"&A33&\"\", \"Bar\", \"\", \"Close\",\"5\",\"0\",\"PrimaryOnly\",,,\"False\",\"T\",\"EveryTick\")","v":1705.5},2.3803226659613592E-3,null,null,null,""]
[33,"11:15:00",null,null,null,null,null,{"$f":"RTD(\"cqg.rtd\",,\"StudyData\", \"Close(\"&$D$12&\") when LocalYear(\"&$D$12&\")=\"&$D$1&\" and localMonth(\"&$D$12&\") =\"&$E$1&\" and LocalDay(\"&$D$12&\")=\"&$F$1&\" and Barix(\"&$D$12&\",reference:=StartOfSession)=\"&A34&\"\", \"Bar\", \"\", \"Close\",\"5\",\"0\",\"PrimaryOnly\",,,\"False\",\"T\",\"EveryTick\")","v":""},{"$error":"#N/A"},{"$f":"RTD(\"cqg.rtd\",,\"StudyData\", \"Close(\"&$D$12&\") when LocalYear(\"&$D$12&\")=\"&$D$2&\" and localMonth(\"&$D$12&\") =\"&$E$2&\" and LocalDay(\"&$D$12&\")=\"&$F$2&\" and Barix(\"&$D$12&\",reference:=StartOfSession)=\"&A34&\"\", \"Bar\", \"\", \"Close\",\"5\",\"0\",\"PrimaryOnly\",,,\"False\",\"T\",\"EveryTick\")","v":1785.85},1.7578347578347527E-2,{"$f":"RTD(\"cqg.rtd\",,\"StudyData\", \"Close(\"&$D$12&\") when LocalYear(\"&$D$12&\")=\"&$D$3&\" and localMonth(\"&$D$12&\") =\"&$E$3&\" and LocalDay(\"&$D$12&\")=\"&$F$3&\" and Barix(\"&$D$12&\",reference:=StartOfSession)=\"&A34&\"\", \"Bar\", \"\", \"Close\",\"5\",\"0\",\"PrimaryOnly\",,,\"False\",\"T\",\"EveryTick\")","v":1745.92},1.6350462115693211E-3,{"$f":"RTD(\"cqg.rtd\",,\"StudyData\", \"Close(\"&$D$12&\") when LocalYear(\"&$D$12&\")=\"&$D$4&\" and localMonth(\"&$D$12&\") =\"&$E$4&\" and LocalDay(\"&$D$12&\")=\"&$F$4&\" and Barix(\"&$D$12&\",reference:=StartOfSession)=\"&A34&\"\", \"Bar\", \"\", \"Close\",\"5\",\"0\",\"PrimaryOnly\",,,\"False\",\"T\",\"EveryTick\")","v":1745.44},3.6917344251360378E-3,{"$f":"RTD(\"cqg.rtd\",,\"StudyData\", \"Close(\"&$D$12&\") when LocalYear(\"&$D$12&\")=\"&$D$5&\" and localMonth(\"&$D$12&\") =\"&$E$5&\" and LocalDay(\"&$D$12&\")=\"&$F$5&\" and Barix(\"&$D$12&\",reference:=StartOfSession)=\"&A34&\"\", \"Bar\", \"\", \"Close\",\"5\",\"0\",\"PrimaryOnly\",,,\"False\",\"T\",\"EveryTick\")","v":1728.02},1.0165845331836733E-2,{"$f":"RTD(\"cqg.rtd\",,\"StudyData\", \"Close(\"&$D$12&\") when LocalYear(\"&$D$12&\")=\"&$D$6&\" and localMonth(\"&$D$12&\") =\"&$E$6&\" and LocalDay(\"&$D$12&\")=\"&$F$6&\" and Barix(\"&$D$12&\",reference:=StartOfSession)=\"&A34&\"\", \"Bar\", \"\", \"Close\",\"5\",\"0\",\"PrimaryOnly\",,,\"False\",\"T\",\"EveryTick\")","v":1713},7.807122307660618E-3,{"$f":"RTD(\"cqg.rtd\",,\"StudyData\", \"Close(\"&$D$12&\") when LocalYear(\"&$D$12&\")=\"&$D$7&\" and localMonth(\"&$D$12&\") =\"&$E$7&\" and LocalDay(\"&$D$12&\")=\"&$F$7&\" and Barix(\"&$D$12&\",reference:=StartOfSession)=\"&A34&\"\", \"Bar\", \"\", \"Close\",\"5\",\"0\",\"PrimaryOnly\",,,\"False\",\"T\",\"EveryTick\")","v":1700.72},3.9906491298495779E-3,{"$f":"RTD(\"cqg.rtd\",,\"StudyData\", \"Close(\"&$D$12&\") when LocalYear(\"&$D$12&\")=\"&$D$8&\" and localMonth(\"&$D$12&\") =\"&$E$8&\" and LocalDay(\"&$D$12&\")=\"&$F$8&\" and Barix(\"&$D$12&\",reference:=StartOfSession)=\"&A34&\"\", \"Bar\", \"\", \"Close\",\"5\",\"0\",\"PrimaryOnly\",,,\"False\",\"T\",\"EveryTick\")","v":1702.1},-6.8153438597720033E-3,{"$f":"RTD(\"cqg.rtd\",,\"StudyData\", \"Close(\"&$D$12&\") when LocalYear(\"&$D$12&\")=\"&$D$9&\" and localMonth(\"&$D$12&\") =\"&$E$9&\" and LocalDay(\"&$D$12&\")=\"&$F$9&\" and Barix(\"&$D$12&\",reference:=StartOfSession)=\"&A34&\"\", \"Bar\", \"\", \"Close\",\"5\",\"0\",\"PrimaryOnly\",,,\"False\",\"T\",\"EveryTick\")","v":1692.26},-4.435815978350373E-3,{"$f":"RTD(\"cqg.rtd\",,\"StudyData\", \"Close(\"&$D$12&\") when LocalYear(\"&$D$12&\")=\"&$D$10&\" and localMonth(\"&$D$12&\") =\"&$E$10&\" and LocalDay(\"&$D$12&\")=\"&$F$10&\" and Barix(\"&$D$12&\",reference:=StartOfSession)=\"&A34&\"\", \"Bar\", \"\", \"Close\",\"5\",\"0\",\"PrimaryOnly\",,,\"False\",\"T\",\"EveryTick\")","v":1706.31},2.8563871991536044E-3,null,null,null,""]
[34,"11:20:00",null,null,null,null,null,{"$f":"RTD(\"cqg.rtd\",,\"StudyData\", \"Close(\"&$D$12&\") when LocalYear(\"&$D$12&\")=\"&$D$1&\" and localMonth(\"&$D$12&\") =\"&$E$1&\" and LocalDay(\"&$D$12&\")=\"&$F$1&\" and Barix(\"&$D$12&\",reference:=StartOfSession)=\"&A35&\"\", \"Bar\", \"\", \"Close\",\"5\",\"0\",\"PrimaryOnly\",,,\"False\",\"T\",\"EveryTick\")","v":""},{"$error":"#N/A"},{"$f":"RTD(\"cqg.rtd\",,\"StudyData\", \"Close(\"&$D$12&\") when LocalYear(\"&$D$12&\")=\"&$D$2&\" and localMonth(\"&$D$12&\") =\"&$E$2&\" and LocalDay(\"&$D$12&\")=\"&$F$2&\" and Barix(\"&$D$12&\",reference:=StartOfSession)=\"&A35&\"\", \"Bar\", \"\", \"Close\",\"5\",\"0\",\"PrimaryOnly\",,,\"False\",\"T\",\"EveryTick\")","v":1786.34},1.7857549857549809E-2,{"$f":"RTD(\"cqg.rtd\",,\"StudyData\", \"Close(\"&$D$12&\") when LocalYear(\"&$D$12&\")=\"&$D$3&\" and localMonth(\"&$D$12&\") =\"&$E$3&\" and LocalDay(\"&$D$12&\")=\"&$F$3&\" and Barix(\"&$D$12&\",reference:=StartOfSession)=\"&A35&\"\", \"Bar\", \"\", \"Close\",\"5\",\"0\",\"PrimaryOnly\",,,\"False\",\"T\",\"EveryTick\")","v":1746.12},1.7497862965916197E-3,{"$f":"RTD(\"cqg.rtd\",,\"StudyData\", \"Close(\"&$D$12&\") when LocalYear(\"&$D$12&\")=\"&$D$4&\" and localMonth(\"&$D$12&\") =\"&$E$4&\" and LocalDay(\"&$D$12&\")=\"&$F$4&\" and Barix(\"&$D$12&\",reference:=StartOfSession)=\"&A35&\"\", \"Bar\", \"\", \"Close\",\"5\",\"0\",\"PrimaryOnly\",,,\"False\",\"T\",\"EveryTick\")","v":1745.36},3.645731503950454E-3,{"$f":"RTD(\"cqg.rtd\",,\"StudyData\", \"Close(\"&$D$12&\") when LocalYear(\"&$D$12&\")=\"&$D$5&\" and localMonth(\"&$D$12&\") =\"&$E$5&\" and LocalDay(\"&$D$12&\")=\"&$F$5&\" and Barix(\"&$D$12&\",reference:=StartOfSession)=\"&A35&\"\", \"Bar\", \"\", \"Close\",\"5\",\"0\",\"PrimaryOnly\",,,\"False\",\"T\",\"EveryTick\")","v":1728.05},1.0183382730339023E-2,{"$f":"RTD(\"cqg.rtd\",,\"StudyData\", \"Close(\"&$D$12&\") when LocalYear(\"&$D$12&\")=\"&$D$6&\" and localMonth(\"&$D$12&\") =\"&$E$6&\" and LocalDay(\"&$D$12&\")=\"&$F$6&\" and Barix(\"&$D$12&\",reference:=StartOfSession)=\"&A35&\"\", \"Bar\", \"\", \"Close\",\"5\",\"0\",\"PrimaryOnly\",,,\"False\",\"T\",\"EveryTick\")","v":1713.34},8.0071540774122353E-3,{"$f":"RTD(\"cqg.rtd\",,\"StudyData\", \"Close(\"&$D$12&\") when LocalYear(\"&$D$12&\")=\"&$D$7&\" and localMonth(\"&$D$12&\") =\"&$E$7&\" and LocalDay(\"&$D$12&\")=\"&$F$7&\" and Barix(\"&$D$12&\",reference:=StartOfSession)=\"&A35&\"\", \"Bar\", \"\", \"Close\",\"5\",\"0\",\"PrimaryOnly\",,,\"False\",\"T\",\"EveryTick\")","v":1700.76},4.0142624383102043E-3,{"$f":"RTD(\"cqg.rtd\",,\"StudyData\", \"Close(\"&$D$12&\") when LocalYear(\"&$D$12&\")=\"&$D$8&\" and localMonth(\"&$D$12&\") =\"&$E$8&\" and LocalDay(\"&$D$12&\")=\"&$F$8&\" and Barix(\"&$D$12&\",reference:=StartOfSession)=\"&A35&\"\", \"Bar\", \"\", \"Close\",\"5\",\"0\",\"PrimaryOnly\",,,\"False\",\"T\",\"EveryTick\")","v":1704.62},-5.3449100818075143E-3,{"$f":"RTD(\"cqg.rtd\",,\"StudyData\", \"Close(\"&$D$12&\") when LocalYear(\"&$D$12&\")=\"&$D$9&\" and localMonth(\"&$D$12&\") =\"&$E$9&\" and LocalDay(\"&$D$12&\")=\"&$F$9&\" and Barix(\"&$D$12&\",reference:=StartOfSession)=\"&A35&\"\", \"Bar\", \"\", \"Close\",\"5\",\"0\",\"PrimaryOnly\",,,\"False\",\"T\",\"EveryTick\")","v":1693.2},-3.8828097423225729E-3,{"$f":"RTD(\"cqg.rtd\",,\"StudyData\", \"Close(\"&$D$12&\") when LocalYear(\"&$D$12&\")=\"&$D$10&\" and localMonth(\"&$D$12&\") =\"&$E$10&\" and LocalDay(\"&$D$12&\")=\"&$F$10&\" and Barix(\"&$D$12&\",reference:=StartOfSession)=\"&A35&\"\", \"Bar\", \"\", \"Close\",\"5\",\"0\",\"PrimaryOnly\",,,\"False\",\"T\",\"EveryTick\")","v":1704.55},1.8219753739456986E-3,null,null,null,""]
[35,"11:25:00",null,null,null,null,null,{"$f":"RTD(\"cqg.rtd\",,\"StudyData\", \"Close(\"&$D$12&\") when LocalYear(\"&$D$12&\")=\"&$D$1&\" and localMonth(\"&$D$12&\") =\"&$E$1&\" and LocalDay(\"&$D$12&\")=\"&$F$1&\" and Barix(\"&$D$12&\",reference:=StartOfSession)=\"&A36&\"\", \"Bar\", \"\", \"Close\",\"5\",\"0\",\"PrimaryOnly\",,,\"False\",\"T\",\"EveryTick\")","v":""},{"$error":"#N/A"},{"$f":"RTD(\"cqg.rtd\",,\"StudyData\", \"Close(\"&$D$12&\") when LocalYear(\"&$D$12&\")=\"&$D$2&\" and localMonth(\"&$D$12&\") =\"&$E$2&\" and LocalDay(\"&$D$12&\")=\"&$F$2&\" and Barix(\"&$D$12&\",reference:=StartOfSession)=\"&A36&\"\", \"Bar\", \"\", \"Close\",\"5\",\"0\",\"PrimaryOnly\",,,\"False\",\"T\",\"EveryTick\")","v":1786.31},1.7840455840455811E-2,{"$f":"RTD(\"cqg.rtd\",,\"StudyData\", \"Close(\"&$D$12&\") when LocalYear(\"&$D$12&\")=\"&$D$3&\" and localMonth(\"&$D$12&\") =\"&$E$3&\" and LocalDay(\"&$D$12&\")=\"&$F$3&\" and Barix(\"&$D$12&\",reference:=StartOfSession)=\"&A36&\"\", \"Bar\", \"\", \"Close\",\"5\",\"0\",\"PrimaryOnly\",,,\"False\",\"T\",\"EveryTick\")","v":1747.12},2.3234867217036348E-3,{"$f":"RTD(\"cqg.rtd\",,\"StudyData\", \"Close(\"&$D$12&\") when LocalYear(\"&$D$12&\")=\"&$D$4&\" and localMonth(\"&$D$12&\") =\"&$E$4&\" and LocalDay(\"&$D$12&\")=\"&$F$4&\" and Barix(\"&$D$12&\",reference:=StartOfSession)=\"&A36&\"\", \"Bar\", \"\", \"Close\",\"5\",\"0\",\"PrimaryOnly\",,,\"False\",\"T\",\"EveryTick\")","v":1745.88},3.9447504916562933E-3,{"$f":"RTD(\"cqg.rtd\",,\"StudyData\", \"Close(\"&$D$12&\") when LocalYear(\"&$D$12&\")=\"&$D$5&\" and localMonth(\"&$D$12&\") =\"&$E$5&\" and LocalDay(\"&$D$12&\")=\"&$F$5&\" and Barix(\"&$D$12&\",reference:=StartOfSession)=\"&A36&\"\", \"Bar\", \"\", \"Close\",\"5\",\"0\",\"PrimaryOnly\",,,\"False\",\"T\",\"EveryTick\")","v":1726.58},9.3240502037260052E-3,{"$f":"RTD(\"cqg.rtd\",,\"StudyData\", \"Close(\"&$D$12&\") when LocalYear(\"&$D$12&\")=\"&$D$6&\" and localMonth(\"&$D$12&\") =\"&$E$6&\" and LocalDay(\"&$D$12&\")=\"&$F$6&\" and Barix(\"&$D$12&\",reference:=StartOfSession)=\"&A36&\"\", \"Bar\", \"\", \"Close\",\"5\",\"0\",\"PrimaryOnly\",,,\"False\",\"T\",\"EveryTick\")","v":1714.33},8.5895995246303286E-3,{"$f":"RTD(\"cqg.rtd\",,\"StudyData\", \"Close(\"&$D$12&\") when LocalYear(\"&$D$12&\")=\"&$D$7&\" and localMonth(\"&$D$12&\") =\"&$E$7&\" and LocalDay(\"&$D$12&\")=\"&$F$7&\" and Barix(\"&$D$12&\",reference:=StartOfSession)=\"&A36&\"\", \"Bar\", \"\", \"Close\",\"5\",\"0\",\"PrimaryOnly\",,,\"False\",\"T\",\"EveryTick\")","v":1699.46},3.2468299133391579E-3,{"$f":"RTD(\"cqg.rtd\",,\"StudyData\", \"Close(\"&$D$12&\") when LocalYear(\"&$D$12&\")=\"&$D$8&\" and localMonth(\"&$D$12&\") =\"&$E$8&\" and LocalDay(\"&$D$12&\")=\"&$F$8&\" and Barix(\"&$D$12&\",reference:=StartOfSession)=\"&A36&\"\", \"Bar\", \"\", \"Close\",\"5\",\"0\",\"PrimaryOnly\",,,\"False\",\"T\",\"EveryTick\")","v":1702.18},-6.768663422376215E-3,{"$f":"RTD(\"cqg.rtd\",,\"StudyData\", \"Close(\"&$D$12&\") when LocalYear(\"&$D$12&\")=\"&$D$9&\" and localMonth(\"&$D$12&\") =\"&$E$9&\" and LocalDay(\"&$D$12&\")=\"&$F$9&\" and Barix(\"&$D$12&\",reference:=StartOfSession)=\"&A36&\"\", \"Bar\", \"\", \"Close\",\"5\",\"0\",\"PrimaryOnly\",,,\"False\",\"T\",\"EveryTick\")","v":1693.12},-3.9298741028356652E-3,{"$f":"RTD(\"cqg.rtd\",,\"StudyData\", \"Close(\"&$D$12&\") when LocalYear(\"&$D$12&\")=\"&$D$10&\" and localMonth(\"&$D$12&\") =\"&$E$10&\" and LocalDay(\"&$D$12&\")=\"&$F$10&\" and Barix(\"&$D$12&\",reference:=StartOfSession)=\"&A36&\"\", \"Bar\", \"\", \"Close\",\"5\",\"0\",\"PrimaryOnly\",,,\"False\",\"T\",\"EveryTick\")","v":1701.71},1.5281083781479968E-4,null,null,null,""]
[36,"11:30:00",null,null,null,null,null,{"$f":"RTD(\"cqg.rtd\",,\"StudyData\", \"Close(\"&$D$12&\") when LocalYear(\"&$D$12&\")=\"&$D$1&\" and localMonth(\"&$D$12&\") =\"&$E$1&\" and LocalDay(\"&$D$12&\")=\"&$F$1&\" and Barix(\"&$D$12&\",reference:=StartOfSession)=\"&A37&\"\", \"Bar\", \"\", \"Close\",\"5\",\"0\",\"PrimaryOnly\",,,\"False\",\"T\",\"EveryTick\")","v":""},{"$error":"#N/A"},{"$f":"RTD(\"cqg.rtd\",,\"StudyData\", \"Close(\"&$D$12&\") when LocalYear(\"&$D$12&\")=\"&$D$2&\" and localMonth(\"&$D$12&\") =\"&$E$2&\" and LocalDay(\"&$D$12&\")=\"&$F$2&\" and Barix(\"&$D$12&\",reference:=StartOfSession)=\"&A37&\"\", \"Bar\", \"\", \"Close\",\"5\",\"0\",\"PrimaryOnly\",,,\"False\",\"T\",\"EveryTick\")","v":1787.43},1.8478632478632514E-2,{"$f":"RTD(\"cqg.rtd\",,\"StudyData\", \"Close(\"&$D$12&\") when LocalYear(\"&$D$12&\")=\"&$D$3&\" and localMonth(\"&$D$12&\") =\"&$E$3&\" and LocalDay(\"&$D$12&\")=\"&$F$3&\" and Barix(\"&$D$12&\",reference:=StartOfSession)=\"&A37&\"\", \"Bar\", \"\", \"Close\",\"5\",\"0\",\"PrimaryOnly\",,,\"False\",\"T\",\"EveryTick\")","v":1748.62},3.1840373593716572E-3,{"$f":"RTD(\"cqg.rtd\",,\"StudyData\", \"Close(\"&$D$12&\") when LocalYear(\"&$D$12&\")=\"&$D$4&\" and localMonth(\"&$D$12&\") =\"&$E$4&\" and LocalDay(\"&$D$12&\")=\"&$F$4&\" and Barix(\"&$D$12&\",reference:=StartOfSession)=\"&A37&\"\", \"Bar\", \"\", \"Close\",\"5\",\"0\",\"PrimaryOnly\",,,\"False\",\"T\",\"EveryTick\")","v":1746.75},4.4450322595484919E-3,{"$f":"RTD(\"cqg.rtd\",,\"StudyData\", \"Close(\"&$D$12&\") when LocalYear(\"&$D$12&\")=\"&$D$5&\" and localMonth(\"&$D$12&\") =\"&$E$5&\" and LocalDay(\"&$D$12&\")=\"&$F$5&\" and Barix(\"&$D$12&\",reference:=StartOfSession)=\"&A37&\"\", \"Bar\", \"\", \"Close\",\"5\",\"0\",\"PrimaryOnly\",,,\"False\",\"T\",\"EveryTick\")","v":1728.58},1.049321010387975E-2,{"$f":"RTD(\"cqg.rtd\",,\"StudyData\", \"Close(\"&$D$12&\") when LocalYear(\"&$D$12&\")=\"&$D$6&\" and localMonth(\"&$D$12&\") =\"&$E$6&\" and LocalDay(\"&$D$12&\")=\"&$F$6&\" and Barix(\"&$D$12&\",reference:=StartOfSession)=\"&A37&\"\", \"Bar\", \"\", \"Close\",\"5\",\"0\",\"PrimaryOnly\",,,\"False\",\"T\",\"EveryTick\")","v":1715.17},9.0837956616639428E-3,{"$f":"RTD(\"cqg.rtd\",,\"StudyData\", \"Close(\"&$D$12&\") when LocalYear(\"&$D$12&\")=\"&$D$7&\" and localMonth(\"&$D$12&\") =\"&$E$7&\" and LocalDay(\"&$D$12&\")=\"&$F$7&\" and Barix(\"&$D$12&\",reference:=StartOfSession)=\"&A37&\"\", \"Bar\", \"\", \"Close\",\"5\",\"0\",\"PrimaryOnly\",,,\"False\",\"T\",\"EveryTick\")","v":1699.6},3.3294764929513521E-3,{"$f":"RTD(\"cqg.rtd\",,\"StudyData\", \"Close(\"&$D$12&\") when LocalYear(\"&$D$12&\")=\"&$D$8&\" and localMonth(\"&$D$12&\") =\"&$E$8&\" and LocalDay(\"&$D$12&\")=\"&$F$8&\" and Barix(\"&$D$12&\",reference:=StartOfSession)=\"&A37&\"\", \"Bar\", \"\", \"Close\",\"5\",\"0\",\"PrimaryOnly\",,,\"False\",\"T\",\"EveryTick\")","v":1699.99},-8.0465403960834903E-3,{"$f":"RTD(\"cqg.rtd\",,\"StudyData\", \"Close(\"&$D$12&\") when LocalYear(\"&$D$12&\")=\"&$D$9&\" and localMonth(\"&$D$12&\") =\"&$E$9&\" and LocalDay(\"&$D$12&\")=\"&$F$9&\" and Barix(\"&$D$12&\",reference:=StartOfSession)=\"&A37&\"\", \"Bar\", \"\", \"Close\",\"5\",\"0\",\"PrimaryOnly\",,,\"False\",\"T\",\"EveryTick\")","v":1694.46},-3.1415460642428041E-3,{"$f":"RTD(\"cqg.rtd\",,\"StudyData\", \"Close(\"&$D$12&\") when LocalYear(\"&$D$12&\")=\"&$D$10&\" and localMonth(\"&$D$12&\") =\"&$E$10&\" and LocalDay(\"&$D$12&\")=\"&$F$10&\" and Barix(\"&$D$12&\",reference:=StartOfSession)=\"&A37&\"\", \"Bar\", \"\", \"Close\",\"5\",\"0\",\"PrimaryOnly\",,,\"False\",\"T\",\"EveryTick\")","v":1700.23},-7.1703546974640885E-4,null,null,null,""]
[37,"11:35:00",-40,{"$f":" RTD(\"cqg.rtd\",,\"StudyData\", $D$12,  \"Tick\", \"FlatTicks=0\", \"Tick\",\"D\",C38,\"PrimaryOnly\")","v":1808.15},null,"EP",null,{"$f":"RTD(\"cqg.rtd\",,\"StudyData\", \"Close(\"&$D$12&\") when LocalYear(\"&$D$12&\")=\"&$D$1&\" and localMonth(\"&$D$12&\") =\"&$E$1&\" and LocalDay(\"&$D$12&\")=\"&$F$1&\" and Barix(\"&$D$12&\",reference:=StartOfSession)=\"&A38&\"\", \"Bar\", \"\", \"Close\",\"5\",\"0\",\"PrimaryOnly\",,,\"False\",\"T\",\"EveryTick\")","v":""},{"$error":"#N/A"},{"$f":"RTD(\"cqg.rtd\",,\"StudyData\", \"Close(\"&$D$12&\") when LocalYear(\"&$D$12&\")=\"&$D$2&\" and localMonth(\"&$D$12&\") =\"&$E$2&\" and LocalDay(\"&$D$12&\")=\"&$F$2&\" and Barix(\"&$D$12&\",reference:=StartOfSession)=\"&A38&\"\", \"Bar\", \"\", \"Close\",\"5\",\"0\",\"PrimaryOnly\",,,\"False\",\"T\",\"EveryTick\")","v":1786.4},1.7891737891737945E-2,{"$f":"RTD(\"cqg.rtd\",,\"StudyData\", \"Close(\"&$D$12&\") when LocalYear(\"&$D$12&\")=\"&$D$3&\" and localMonth(\"&$D$12&\") =\"&$E$3&\" and LocalDay(\"&$D$12&\")=\"&$F$3&\" and Barix(\"&$D$12&\",reference:=StartOfSession)=\"&A38&\"\", \"Bar\", \"\", \"Close\",\"5\",\"0\",\"PrimaryOnly\",,,\"False\",\"T\",\"EveryTick\")","v":1749.33},3.5913646612012089E-3,{"$f":"RTD(\"cqg.rtd\",,\"StudyData\", \"Close(\"&$D$12&\") when LocalYear(\"&$D$12&\")=\"&$D$4&\" and localMonth(\"&$D$12&\") =\"&$E$4&\" and LocalDay(\"&$D$12&\")=\"&$F$4&\" and Barix(\"&$D$12&\",reference:=StartOfSession)=\"&A38&\"\", \"Bar\", \"\", \"Close\",\"5\",\"0\",\"PrimaryOnly\",,,\"False\",\"T\",\"EveryTick\")","v":1745.94},3.9792526825453839E-3,{"$f":"RTD(\"cqg.rtd\",,\"StudyData\", \"Close(\"&$D$12&\") when LocalYear(\"&$D$12&\")=\"&$D$5&\" and localMonth(\"&$D$12&\") =\"&$E$5&\" and LocalDay(\"&$D$12&\")=\"&$F$5&\" and Barix(\"&$D$12&\",reference:=StartOfSession)=\"&A38&\"\", \"Bar\", \"\", \"Close\",\"5\",\"0\",\"PrimaryOnly\",,,\"False\",\"T\",\"EveryTick\")","v":1727.54},9.885246955799825E-3,{"$f":"RTD(\"cqg.rtd\",,\"StudyData\", \"Close(\"&$D$12&\") when LocalYear(\"&$D$12&\")=\"&$D$6&\" and localMonth(\"&$D$12&\") =\"&$E$6&\" and LocalDay(\"&$D$12&\")=\"&$F$6&\" and Barix(\"&$D$12&\",reference:=StartOfSession)=\"&A38&\"\", \"Bar\", \"\", \"Close\",\"5\",\"0\",\"PrimaryOnly\",,,\"False\",\"T\",\"EveryTick\")","v":1715},8.9837797767880669E-3,{"$f":"RTD(\"cqg.rtd\",,\"StudyData\", \"Close(\"&$D$12&\") when LocalYear(\"&$D$12&\")=\"&$D$7&\" and localMonth(\"&$D$12&\") =\"&$E$7&\" and LocalDay(\"&$D$12&\")=\"&$F$7&\" and Barix(\"&$D$12&\",reference:=StartOfSession)=\"&A38&\"\", \"Bar\", \"\", \"Close\",\"5\",\"0\",\"PrimaryOnly\",,,\"False\",\"T\",\"EveryTick\")","v":1700.51},3.8666792604311519E-3,{"$f":"RTD(\"cqg.rtd\",,\"StudyData\", \"Close(\"&$D$12&\") when LocalYear(\"&$D$12&\")=\"&$D$8&\" and localMonth(\"&$D$12&\") =\"&$E$8&\" and LocalDay(\"&$D$12&\")=\"&$F$8&\" and Barix(\"&$D$12&\",reference:=StartOfSession)=\"&A38&\"\", \"Bar\", \"\", \"Close\",\"5\",\"0\",\"PrimaryOnly\",,,\"False\",\"T\",\"EveryTick\")","v":1697.4},-9.557819556769178E-3,{"$f":"RTD(\"cqg.rtd\",,\"StudyData\", \"Close(\"&$D$12&\") when LocalYear(\"&$D$12&\")=\"&$D$9&\" and localMonth(\"&$D$12&\") =\"&$E$9&\" and LocalDay(\"&$D$12&\")=\"&$F$9&\" and Barix(\"&$D$12&\",reference:=StartOfSession)=\"&A38&\"\", \"Bar\", \"\", \"Close\",\"5\",\"0\",\"PrimaryOnly\",,,\"False\",\"T\",\"EveryTick\")","v":1692.36},-4.3769855277091749E-3,{"$f":"RTD(\"cqg.rtd\",,\"StudyData\", \"Close(\"&$D$12&\") when LocalYear(\"&$D$12&\")=\"&$D$10&\" and localMonth(\"&$D$12&\") =\"&$E$10&\" and LocalDay(\"&$D$12&\")=\"&$F$10&\" and Barix(\"&$D$12&\",reference:=StartOfSession)=\"&A38&\"\", \"Bar\", \"\", \"Close\",\"5\",\"0\",\"PrimaryOnly\",,,\"False\",\"T\",\"EveryTick\")","v":1700.54},-5.3483793235186566E-4,null,null,null,""]
[38,"11:40:00",{"$f":"C38+1","v":-39},{"$f":" RTD(\"cqg.rtd\",,\"StudyData\", $D$12,  \"Tick\", \"FlatTicks=0\", \"Tick\",\"D\",C39,\"PrimaryOnly\")","v":1808.12},null,"ENQ",null,{"$f":"RTD(\"cqg.rtd\",,\"StudyData\", \"Close(\"&$D$12&\") when LocalYear(\"&$D$12&\")=\"&$D$1&\" and localMonth(\"&$D$12&\") =\"&$E$1&\" and LocalDay(\"&$D$12&\")=\"&$F$1&\" and Barix(\"&$D$12&\",reference:=StartOfSession)=\"&A39&\"\", \"Bar\", \"\", \"Close\",\"5\",\"0\",\"PrimaryOnly\",,,\"False\",\"T\",\"EveryTick\")","v":""},{"$error":"#N/A"},{"$f":"RTD(\"cqg.rtd\",,\"StudyData\", \"Close(\"&$D$12&\") when LocalYear(\"&$D$12&\")=\"&$D$2&\" and localMonth(\"&$D$12&\") =\"&$E$2&\" and LocalDay(\"&$D$12&\")=\"&$F$2&\" and Barix(\"&$D$12&\",reference:=StartOfSession)=\"&A39&\"\", \"Bar\", \"\", \"Close\",\"5\",\"0\",\"PrimaryOnly\",,,\"False\",\"T\",\"EveryTick\")","v":1785.88},1.7595441595441658E-2,{"$f":"RTD(\"cqg.rtd\",,\"StudyData\", \"Close(\"&$D$12&\") when LocalYear(\"&$D$12&\")=\"&$D$3&\" and localMonth(\"&$D$12&\") =\"&$E$3&\" and LocalDay(\"&$D$12&\")=\"&$F$3&\" and Barix(\"&$D$12&\",reference:=StartOfSession)=\"&A39&\"\", \"Bar\", \"\", \"Close\",\"5\",\"0\",\"PrimaryOnly\",,,\"False\",\"T\",\"EveryTick\")","v":1749},3.4020435209142857E-3,{"$f":"RTD(\"cqg.rtd\",,\"StudyData\", \"Close(\"&$D$12&\") when LocalYear(\"&$D$12&\")=\"&$D$4&\" and localMonth(\"&$D$12&\") =\"&$E$4&\" and LocalDay(\"&$D$12&\")=\"&$F$4&\" and Barix(\"&$D$12&\",reference:=StartOfSession)=\"&A39&\"\", \"Bar\", \"\", \"Close\",\"5\",\"0\",\"PrimaryOnly\",,,\"False\",\"T\",\"EveryTick\")","v":1746.05},4.0425066991753821E-3,{"$f":"RTD(\"cqg.rtd\",,\"StudyData\", \"Close(\"&$D$12&\") when LocalYear(\"&$D$12&\")=\"&$D$5&\" and localMonth(\"&$D$12&\") =\"&$E$5&\" and LocalDay(\"&$D$12&\")=\"&$F$5&\" and Barix(\"&$D$12&\",reference:=StartOfSession)=\"&A39&\"\", \"Bar\", \"\", \"Close\",\"5\",\"0\",\"PrimaryOnly\",,,\"False\",\"T\",\"EveryTick\")","v":1726.75},9.4234287952391169E-3,{"$f":"RTD(\"cqg.rtd\",,\"StudyData\", \"Close(\"&$D$12&\") when LocalYear(\"&$D$12&\")=\"&$D$6&\" and localMonth(\"&$D$12&\") =\"&$E$6&\" and LocalDay(\"&$D$12&\")=\"&$F$6&\" and Barix(\"&$D$12&\",reference:=StartOfSession)=\"&A39&\"\", \"Bar\", \"\", \"Close\",\"5\",\"0\",\"PrimaryOnly\",,,\"False\",\"T\",\"EveryTick\")","v":1713.82},8.2895518700028346E-3,{"$f":"RTD(\"cqg.rtd\",,\"StudyData\", \"Close(\"&$D$12&\") when LocalYear(\"&$D$12&\")=\"&$D$7&\" and localMonth(\"&$D$12&\") =\"&$E$7&\" and LocalDay(\"&$D$12&\")=\"&$F$7&\" and Barix(\"&$D$12&\",reference:=StartOfSession)=\"&A39&\"\", \"Bar\", \"\", \"Close\",\"5\",\"0\",\"PrimaryOnly\",,,\"False\",\"T\",\"EveryTick\")","v":1702.37},4.9646981038512445E-3,{"$f":"RTD(\"cqg.rtd\",,\"StudyData\", \"Close(\"&$D$12&\") when LocalYear(\"&$D$12&\")=\"&$D$8&\" and localMonth(\"&$D$12&\") =\"&$E$8&\" and LocalDay(\"&$D$12&\")=\"&$F$8&\" and Barix(\"&$D$12&\",reference:=StartOfSession)=\"&A39&\"\", \"Bar\", \"\", \"Close\",\"5\",\"0\",\"PrimaryOnly\",,,\"False\",\"T\",\"EveryTick\")","v":1699.08},-8.5775303714596077E-3,{"$f":"RTD(\"cqg.rtd\",,\"StudyData\", \"Close(\"&$D$12&\") when LocalYear(\"&$D$12&\")=\"&$D$9&\" and localMonth(\"&$D$12&\") =\"&$E$9&\" and LocalDay(\"&$D$12&\")=\"&$F$9&\" and Barix(\"&$D$12&\",reference:=StartOfSession)=\"&A39&\"\", \"Bar\", \"\", \"Close\",\"5\",\"0\",\"PrimaryOnly\",,,\"False\",\"T\",\"EveryTick\")","v":1691.96},-4.6123073302741019E-3,{"$f":"RTD(\"cqg.rtd\",,\"StudyData\", \"Close(\"&$D$12&\") when LocalYear(\"&$D$12&\")=\"&$D$10&\" and localMonth(\"&$D$12&\") =\"&$E$10&\" and LocalDay(\"&$D$12&\")=\"&$F$10&\" and Barix(\"&$D$12&\",reference:=StartOfSession)=\"&A39&\"\", \"Bar\", \"\", \"Close\",\"5\",\"0\",\"PrimaryOnly\",,,\"False\",\"T\",\"EveryTick\")","v":1701.96},2.9974433571365063E-4,null,null,null,""]
[39,"11:45:00",{"$f":"C39+1","v":-38},{"$f":" RTD(\"cqg.rtd\",,\"StudyData\", $D$12,  \"Tick\", \"FlatTicks=0\", \"Tick\",\"D\",C40,\"PrimaryOnly\")","v":1807.6},null,"YM",null,{"$f":"RTD(\"cqg.rtd\",,\"StudyData\", \"Close(\"&$D$12&\") when LocalYear(\"&$D$12&\")=\"&$D$1&\" and localMonth(\"&$D$12&\") =\"&$E$1&\" and LocalDay(\"&$D$12&\")=\"&$F$1&\" and Barix(\"&$D$12&\",reference:=StartOfSession)=\"&A40&\"\", \"Bar\", \"\", \"Close\",\"5\",\"0\",\"PrimaryOnly\",,,\"False\",\"T\",\"EveryTick\")","v":""},{"$error":"#N/A"},{"$f":"RTD(\"cqg.rtd\",,\"StudyData\", \"Close(\"&$D$12&\") when LocalYear(\"&$D$12&\")=\"&$D$2&\" and localMonth(\"&$D$12&\") =\"&$E$2&\" and LocalDay(\"&$D$12&\")=\"&$F$2&\" and Barix(\"&$D$12&\",reference:=StartOfSession)=\"&A40&\"\", \"Bar\", \"\", \"Close\",\"5\",\"0\",\"PrimaryOnly\",,,\"False\",\"T\",\"EveryTick\")","v":1787.95},1.8774928774928801E-2,{"$f":"RTD(\"cqg.rtd\",,\"StudyData\", \"Close(\"&$D$12&\") when LocalYear(\"&$D$12&\")=\"&$D$3&\" and localMonth(\"&$D$12&\") =\"&$E$3&\" and LocalDay(\"&$D$12&\")=\"&$F$3&\" and Barix(\"&$D$12&\",reference:=StartOfSession)=\"&A40&\"\", \"Bar\", \"\", \"Close\",\"5\",\"0\",\"PrimaryOnly\",,,\"False\",\"T\",\"EveryTick\")","v":1748.75},3.2586184146362819E-3,{"$f":"RTD(\"cqg.rtd\",,\"StudyData\", \"Close(\"&$D$12&\") when LocalYear(\"&$D$12&\")=\"&$D$4&\" and localMonth(\"&$D$12&\") =\"&$E$4&\" and LocalDay(\"&$D$12&\")=\"&$F$4&\" and Barix(\"&$D$12&\",reference:=StartOfSession)=\"&A40&\"\", \"Bar\", \"\", \"Close\",\"5\",\"0\",\"PrimaryOnly\",,,\"False\",\"T\",\"EveryTick\")","v":1745.81},3.9044979356188908E-3,{"$f":"RTD(\"cqg.rtd\",,\"StudyData\", \"Close(\"&$D$12&\") when LocalYear(\"&$D$12&\")=\"&$D$5&\" and localMonth(\"&$D$12&\") =\"&$E$5&\" and LocalDay(\"&$D$12&\")=\"&$F$5&\" and Barix(\"&$D$12&\",reference:=StartOfSession)=\"&A40&\"\", \"Bar\", \"\", \"Close\",\"5\",\"0\",\"PrimaryOnly\",,,\"False\",\"T\",\"EveryTick\")","v":1726.77},9.4351203942406436E-3,{"$f":"RTD(\"cqg.rtd\",,\"StudyData\", \"Close(\"&$D$12&\") when LocalYear(\"&$D$12&\")=\"&$D$6&\" and localMonth(\"&$D$12&\") =\"&$E$6&\" and LocalDay(\"&$D$12&\")=\"&$F$6&\" and Barix(\"&$D$12&\",reference:=StartOfSession)=\"&A40&\"\", \"Bar\", \"\", \"Close\",\"5\",\"0\",\"PrimaryOnly\",,,\"False\",\"T\",\"EveryTick\")","v":1713.2},7.9247880545733895E-3,{"$f":"RTD(\"cqg.rtd\",,\"StudyData\", \"Close(\"&$D$12&\") when LocalYear(\"&$D$12&\")=\"&$D$7&\" and localMonth(\"&$D$12&\") =\"&$E$7&\" and LocalDay(\"&$D$12&\")=\"&$F$7&\" and Barix(\"&$D$12&\",reference:=StartOfSession)=\"&A40&\"\", \"Bar\", \"\", \"Close\",\"5\",\"0\",\"PrimaryOnly\",,,\"False\",\"T\",\"EveryTick\")","v":1698.08},2.4321707714467229E-3,{"$f":"RTD(\"cqg.rtd\",,\"StudyData\", \"Close(\"&$D$12&\") when LocalYear(\"&$D$12&\")=\"&$D$8&\" and localMonth(\"&$D$12&\") =\"&$E$8&\" and LocalDay(\"&$D$12&\")=\"&$F$8&\" and Barix(\"&$D$12&\",reference:=StartOfSession)=\"&A40&\"\", \"Bar\", \"\", \"Close\",\"5\",\"0\",\"PrimaryOnly\",,,\"False\",\"T\",\"EveryTick\")","v":1696.84},-9.8845826185391672E-3,{"$f":"RTD(\"cqg.rtd\",,\"StudyData\", \"Close(\"&$D$12&\") when LocalYear(\"&$D$12&\")=\"&$D$9&\" and localMonth(\"&$D$12&\") =\"&$E$9&\" and LocalDay(\"&$D$12&\")=\"&$F$9&\" and Barix(\"&$D$12&\",reference:=StartOfSession)=\"&A40&\"\", \"Bar\", \"\", \"Close\",\"5\",\"0\",\"PrimaryOnly\",,,\"False\",\"T\",\"EveryTick\")","v":1692.95},-4.0298858689257026E-3,{"$f":"RTD(\"cqg.rtd\",,\"StudyData\", \"Close(\"&$D$12&\") when LocalYear(\"&$D$12&\")=\"&$D$10&\" and localMonth(\"&$D$12&\") =\"&$E$10&\" and LocalDay(\"&$D$12&\")=\"&$F$10&\" and Barix(\"&$D$12&\",reference:=StartOfSession)=\"&A40&\"\", \"Bar\", \"\", \"Close\",\"5\",\"0\",\"PrimaryOnly\",,,\"False\",\"T\",\"EveryTick\")","v":1700},-8.5221428781336235E-4,null,null,null,""]
[40,"11:50:00",-37,{"$f":" RTD(\"cqg.rtd\",,\"StudyData\", $D$12,  \"Tick\", \"FlatTicks=0\", \"Tick\",\"D\",C41,\"PrimaryOnly\")","v":1807.85},null,"RTY",null,{"$f":"RTD(\"cqg.rtd\",,\"StudyData\", \"Close(\"&$D$12&\") when LocalYear(\"&$D$12&\")=\"&$D$1&\" and localMonth(\"&$D$12&\") =\"&$E$1&\" and LocalDay(\"&$D$12&\")=\"&$F$1&\" and Barix(\"&$D$12&\",reference:=StartOfSession)=\"&A41&\"\", \"Bar\", \"\", \"Close\",\"5\",\"0\",\"PrimaryOnly\",,,\"False\",\"T\",\"EveryTick\")","v":""},{"$error":"#N/A"},{"$f":"RTD(\"cqg.rtd\",,\"StudyData\", \"Close(\"&$D$12&\") when LocalYear(\"&$D$12&\")=\"&$D$2&\" and localMonth(\"&$D$12&\") =\"&$E$2&\" and LocalDay(\"&$D$12&\")=\"&$F$2&\" and Barix(\"&$D$12&\",reference:=StartOfSession)=\"&A41&\"\", \"Bar\", \"\", \"Close\",\"5\",\"0\",\"PrimaryOnly\",,,\"False\",\"T\",\"EveryTick\")","v":1789.46},1.9635327635327656E-2,{"$f":"RTD(\"cqg.rtd\",,\"StudyData\", \"Close(\"&$D$12&\") when LocalYear(\"&$D$12&\")=\"&$D$3&\" and localMonth(\"&$D$12&\") =\"&$E$3&\" and LocalDay(\"&$D$12&\")=\"&$F$3&\" and Barix(\"&$D$12&\",reference:=StartOfSession)=\"&A41&\"\", \"Bar\", \"\", \"Close\",\"5\",\"0\",\"PrimaryOnly\",,,\"False\",\"T\",\"EveryTick\")","v":1748.9},3.3446734784031364E-3,{"$f":"RTD(\"cqg.rtd\",,\"StudyData\", \"Close(\"&$D$12&\") when LocalYear(\"&$D$12&\")=\"&$D$4&\" and localMonth(\"&$D$12&\") =\"&$E$4&\" and LocalDay(\"&$D$12&\")=\"&$F$4&\" and Barix(\"&$D$12&\",reference:=StartOfSession)=\"&A41&\"\", \"Bar\", \"\", \"Close\",\"5\",\"0\",\"PrimaryOnly\",,,\"False\",\"T\",\"EveryTick\")","v":1745.67},3.8239928235443473E-3,{"$f":"RTD(\"cqg.rtd\",,\"StudyData\", \"Close(\"&$D$12&\") when LocalYear(\"&$D$12&\")=\"&$D$5&\" and localMonth(\"&$D$12&\") =\"&$E$5&\" and LocalDay(\"&$D$12&\")=\"&$F$5&\" and Barix(\"&$D$12&\",reference:=StartOfSession)=\"&A41&\"\", \"Bar\", \"\", \"Close\",\"5\",\"0\",\"PrimaryOnly\",,,\"False\",\"T\",\"EveryTick\")","v":1724.83},8.3010352910914791E-3,{"$f":"RTD(\"cqg.rtd\",,\"StudyData\", \"Close(\"&$D$12&\") when LocalYear(\"&$D$12&\")=\"&$D$6&\" and localMonth(\"&$D$12&\") =\"&$E$6&\" and LocalDay(\"&$D$12&\")=\"&$F$6&\" and Barix(\"&$D$12&\",reference:=StartOfSession)=\"&A41&\"\", \"Bar\", \"\", \"Close\",\"5\",\"0\",\"PrimaryOnly\",,,\"False\",\"T\",\"EveryTick\")","v":1713.65},8.1895359851270923E-3,{"$f":"RTD(\"cqg.rtd\",,\"StudyData\", \"Close(\"&$D$12&\") when LocalYear(\"&$D$12&\")=\"&$D$7&\" and localMonth(\"&$D$12&\") =\"&$E$7&\" and LocalDay(\"&$D$12&\")=\"&$F$7&\" and Barix(\"&$D$12&\",reference:=StartOfSession)=\"&A41&\"\", \"Bar\", \"\", \"Close\",\"5\",\"0\",\"PrimaryOnly\",,,\"False\",\"T\",\"EveryTick\")","v":1699.71},3.3944130912182107E-3,{"$f":"RTD(\"cqg.rtd\",,\"StudyData\", \"Close(\"&$D$12&\") when LocalYear(\"&$D$12&\")=\"&$D$8&\" and localMonth(\"&$D$12&\") =\"&$E$8&\" and LocalDay(\"&$D$12&\")=\"&$F$8&\" and Barix(\"&$D$12&\",reference:=StartOfSession)=\"&A41&\"\", \"Bar\", \"\", \"Close\",\"5\",\"0\",\"PrimaryOnly\",,,\"False\",\"T\",\"EveryTick\")","v":1697.53},-9.4819638460012373E-3,{"$f":"RTD(\"cqg.rtd\",,\"StudyData\", \"Close(\"&$D$12&\") when LocalYear(\"&$D$12&\")=\"&$D$9&\" and localMonth(\"&$D$12&\") =\"&$E$9&\" and LocalDay(\"&$D$12&\")=\"&$F$9&\" and Barix(\"&$D$12&\",reference:=StartOfSession)=\"&A41&\"\", \"Bar\", \"\", \"Close\",\"5\",\"0\",\"PrimaryOnly\",,,\"False\",\"T\",\"EveryTick\")","v":1692.56},-4.2593246264266442E-3,{"$f":"RTD(\"cqg.rtd\",,\"StudyData\", \"Close(\"&$D$12&\") when LocalYear(\"&$D$12&\")=\"&$D$10&\" and localMonth(\"&$D$12&\") =\"&$E$10&\" and LocalDay(\"&$D$12&\")=\"&$F$10&\" and Barix(\"&$D$12&\",reference:=StartOfSession)=\"&A41&\"\", \"Bar\", \"\", \"Close\",\"5\",\"0\",\"PrimaryOnly\",,,\"False\",\"T\",\"EveryTick\")","v":1698.41},-1.7867113344500064E-3,null,null,null,""]
[41,"11:55:00",-36,{"$f":" RTD(\"cqg.rtd\",,\"StudyData\", $D$12,  \"Tick\", \"FlatTicks=0\", \"Tick\",\"D\",C42,\"PrimaryOnly\")","v":1807.53},null,"EMD",null,{"$f":"RTD(\"cqg.rtd\",,\"StudyData\", \"Close(\"&$D$12&\") when LocalYear(\"&$D$12&\")=\"&$D$1&\" and localMonth(\"&$D$12&\") =\"&$E$1&\" and LocalDay(\"&$D$12&\")=\"&$F$1&\" and Barix(\"&$D$12&\",reference:=StartOfSession)=\"&A42&\"\", \"Bar\", \"\", \"Close\",\"5\",\"0\",\"PrimaryOnly\",,,\"False\",\"T\",\"EveryTick\")","v":""},{"$error":"#N/A"},{"$f":"RTD(\"cqg.rtd\",,\"StudyData\", \"Close(\"&$D$12&\") when LocalYear(\"&$D$12&\")=\"&$D$2&\" and localMonth(\"&$D$12&\") =\"&$E$2&\" and LocalDay(\"&$D$12&\")=\"&$F$2&\" and Barix(\"&$D$12&\",reference:=StartOfSession)=\"&A42&\"\", \"Bar\", \"\", \"Close\",\"5\",\"0\",\"PrimaryOnly\",,,\"False\",\"T\",\"EveryTick\")","v":1788.82},1.9270655270655235E-2,{"$f":"RTD(\"cqg.rtd\",,\"StudyData\", \"Close(\"&$D$12&\") when LocalYear(\"&$D$12&\")=\"&$D$3&\" and localMonth(\"&$D$12&\") =\"&$E$3&\" and LocalDay(\"&$D$12&\")=\"&$F$3&\" and Barix(\"&$D$12&\",reference:=StartOfSession)=\"&A42&\"\", \"Bar\", \"\", \"Close\",\"5\",\"0\",\"PrimaryOnly\",,,\"False\",\"T\",\"EveryTick\")","v":1747.19},2.3636457514615698E-3,{"$f":"RTD(\"cqg.rtd\",,\"StudyData\", \"Close(\"&$D$12&\") when LocalYear(\"&$D$12&\")=\"&$D$4&\" and localMonth(\"&$D$12&\") =\"&$E$4&\" and LocalDay(\"&$D$12&\")=\"&$F$4&\" and Barix(\"&$D$12&\",reference:=StartOfSession)=\"&A42&\"\", \"Bar\", \"\", \"Close\",\"5\",\"0\",\"PrimaryOnly\",,,\"False\",\"T\",\"EveryTick\")","v":1745.5},3.726236616025128E-3,{"$f":"RTD(\"cqg.rtd\",,\"StudyData\", \"Close(\"&$D$12&\") when LocalYear(\"&$D$12&\")=\"&$D$5&\" and localMonth(\"&$D$12&\") =\"&$E$5&\" and LocalDay(\"&$D$12&\")=\"&$F$5&\" and Barix(\"&$D$12&\",reference:=StartOfSession)=\"&A42&\"\", \"Bar\", \"\", \"Close\",\"5\",\"0\",\"PrimaryOnly\",,,\"False\",\"T\",\"EveryTick\")","v":1726.37},9.2012884142098419E-3,{"$f":"RTD(\"cqg.rtd\",,\"StudyData\", \"Close(\"&$D$12&\") when LocalYear(\"&$D$12&\")=\"&$D$6&\" and localMonth(\"&$D$12&\") =\"&$E$6&\" and LocalDay(\"&$D$12&\")=\"&$F$6&\" and Barix(\"&$D$12&\",reference:=StartOfSession)=\"&A42&\"\", \"Bar\", \"\", \"Close\",\"5\",\"0\",\"PrimaryOnly\",,,\"False\",\"T\",\"EveryTick\")","v":1714.11},8.460167203026293E-3,{"$f":"RTD(\"cqg.rtd\",,\"StudyData\", \"Close(\"&$D$12&\") when LocalYear(\"&$D$12&\")=\"&$D$7&\" and localMonth(\"&$D$12&\") =\"&$E$7&\" and LocalDay(\"&$D$12&\")=\"&$F$7&\" and Barix(\"&$D$12&\",reference:=StartOfSession)=\"&A42&\"\", \"Bar\", \"\", \"Close\",\"5\",\"0\",\"PrimaryOnly\",,,\"False\",\"T\",\"EveryTick\")","v":1701.9},4.6872417294387438E-3,{"$f":"RTD(\"cqg.rtd\",,\"StudyData\", \"Close(\"&$D$12&\") when LocalYear(\"&$D$12&\")=\"&$D$8&\" and localMonth(\"&$D$12&\") =\"&$E$8&\" and LocalDay(\"&$D$12&\")=\"&$F$8&\" and Barix(\"&$D$12&\",reference:=StartOfSession)=\"&A42&\"\", \"Bar\", \"\", \"Close\",\"5\",\"0\",\"PrimaryOnly\",,,\"False\",\"T\",\"EveryTick\")","v":1694.88},-1.1028253334733668E-2,{"$f":"RTD(\"cqg.rtd\",,\"StudyData\", \"Close(\"&$D$12&\") when LocalYear(\"&$D$12&\")=\"&$D$9&\" and localMonth(\"&$D$12&\") =\"&$E$9&\" and LocalDay(\"&$D$12&\")=\"&$F$9&\" and Barix(\"&$D$12&\",reference:=StartOfSession)=\"&A42&\"\", \"Bar\", \"\", \"Close\",\"5\",\"0\",\"PrimaryOnly\",,,\"False\",\"T\",\"EveryTick\")","v":1691.86},-4.6711377809154344E-3,{"$f":"RTD(\"cqg.rtd\",,\"StudyData\", \"Close(\"&$D$12&\") when LocalYear(\"&$D$12&\")=\"&$D$10&\" and localMonth(\"&$D$12&\") =\"&$E$10&\" and LocalDay(\"&$D$12&\")=\"&$F$10&\" and Barix(\"&$D$12&\",reference:=StartOfSession)=\"&A42&\"\", \"Bar\", \"\", \"Close\",\"5\",\"0\",\"PrimaryOnly\",,,\"False\",\"T\",\"EveryTick\")","v":1698.92},-1.4869669987363559E-3,null,null,null,""]
[42,"12:00:00",-35,{"$f":" RTD(\"cqg.rtd\",,\"StudyData\", $D$12,  \"Tick\", \"FlatTicks=0\", \"Tick\",\"D\",C43,\"PrimaryOnly\")","v":1807.54},null,"FTS",null,{"$f":"RTD(\"cqg.rtd\",,\"StudyData\", \"Close(\"&$D$12&\") when LocalYear(\"&$D$12&\")=\"&$D$1&\" and localMonth(\"&$D$12&\") =\"&$E$1&\" and LocalDay(\"&$D$12&\")=\"&$F$1&\" and Barix(\"&$D$12&\",reference:=StartOfSession)=\"&A43&\"\", \"Bar\", \"\", \"Close\",\"5\",\"0\",\"PrimaryOnly\",,,\"False\",\"T\",\"EveryTick\")","v":""},{"$error":"#N/A"},{"$f":"RTD(\"cqg.rtd\",,\"StudyData\", \"Close(\"&$D$12&\") when LocalYear(\"&$D$12&\")=\"&$D$2&\" and localMonth(\"&$D$12&\") =\"&$E$2&\" and LocalDay(\"&$D$12&\")=\"&$F$2&\" and Barix(\"&$D$12&\",reference:=StartOfSession)=\"&A43&\"\", \"Bar\", \"\", \"Close\",\"5\",\"0\",\"PrimaryOnly\",,,\"False\",\"T\",\"EveryTick\")","v":1790.7},2.0341880341880367E-2,{"$f":"RTD(\"cqg.rtd\",,\"StudyData\", \"Close(\"&$D$12&\") when LocalYear(\"&$D$12&\")=\"&$D$3&\" and localMonth(\"&$D$12&\") =\"&$E$3&\" and LocalDay(\"&$D$12&\")=\"&$F$3&\" and Barix(\"&$D$12&\",reference:=StartOfSession)=\"&A43&\"\", \"Bar\", \"\", \"Close\",\"5\",\"0\",\"PrimaryOnly\",,,\"False\",\"T\",\"EveryTick\")","v":1749.25},3.5454686271922894E-3,{"$f":"RTD(\"cqg.rtd\",,\"StudyData\", \"Close(\"&$D$12&\") when LocalYear(\"&$D$12&\")=\"&$D$4&\" and localMonth(\"&$D$12&\") =\"&$E$4&\" and LocalDay(\"&$D$12&\")=\"&$F$4&\" and Barix(\"&$D$12&\",reference:=StartOfSession)=\"&A43&\"\", \"Bar\", \"\", \"Close\",\"5\",\"0\",\"PrimaryOnly\",,,\"False\",\"T\",\"EveryTick\")","v":1746.36},4.2207680187691448E-3,{"$f":"RTD(\"cqg.rtd\",,\"StudyData\", \"Close(\"&$D$12&\") when LocalYear(\"&$D$12&\")=\"&$D$5&\" and localMonth(\"&$D$12&\") =\"&$E$5&\" and LocalDay(\"&$D$12&\")=\"&$F$5&\" and Barix(\"&$D$12&\",reference:=StartOfSession)=\"&A43&\"\", \"Bar\", \"\", \"Close\",\"5\",\"0\",\"PrimaryOnly\",,,\"False\",\"T\",\"EveryTick\")","v":1726.64},9.3591250007307187E-3,{"$f":"RTD(\"cqg.rtd\",,\"StudyData\", \"Close(\"&$D$12&\") when LocalYear(\"&$D$12&\")=\"&$D$6&\" and localMonth(\"&$D$12&\") =\"&$E$6&\" and LocalDay(\"&$D$12&\")=\"&$F$6&\" and Barix(\"&$D$12&\",reference:=StartOfSession)=\"&A43&\"\", \"Bar\", \"\", \"Close\",\"5\",\"0\",\"PrimaryOnly\",,,\"False\",\"T\",\"EveryTick\")","v":1714.78},8.8543474551840314E-3,{"$f":"RTD(\"cqg.rtd\",,\"StudyData\", \"Close(\"&$D$12&\") when LocalYear(\"&$D$12&\")=\"&$D$7&\" and localMonth(\"&$D$12&\") =\"&$E$7&\" and LocalDay(\"&$D$12&\")=\"&$F$7&\" and Barix(\"&$D$12&\",reference:=StartOfSession)=\"&A43&\"\", \"Bar\", \"\", \"Close\",\"5\",\"0\",\"PrimaryOnly\",,,\"False\",\"T\",\"EveryTick\")","v":1703.21},5.4605775815249474E-3,{"$f":"RTD(\"cqg.rtd\",,\"StudyData\", \"Close(\"&$D$12&\") when LocalYear(\"&$D$12&\")=\"&$D$8&\" and localMonth(\"&$D$12&\") =\"&$E$8&\" and LocalDay(\"&$D$12&\")=\"&$F$8&\" and Barix(\"&$D$12&\",reference:=StartOfSession)=\"&A43&\"\", \"Bar\", \"\", \"Close\",\"5\",\"0\",\"PrimaryOnly\",,,\"False\",\"T\",\"EveryTick\")","v":""},{"$error":"#N/A"},{"$f":"RTD(\"cqg.rtd\",,\"StudyData\", \"Close(\"&$D$12&\") when LocalYear(\"&$D$12&\")=\"&$D$9&\" and localMonth(\"&$D$12&\") =\"&$E$9&\" and LocalDay(\"&$D$12&\")=\"&$F$9&\" and Barix(\"&$D$12&\",reference:=StartOfSession)=\"&A43&\"\", \"Bar\", \"\", \"Close\",\"5\",\"0\",\"PrimaryOnly\",,,\"False\",\"T\",\"EveryTick\")","v":1691.11},-5.1123661607248233E-3,{"$f":"RTD(\"cqg.rtd\",,\"StudyData\", \"Close(\"&$D$12&\") when LocalYear(\"&$D$12&\")=\"&$D$10&\" and localMonth(\"&$D$12&\") =\"&$E$10&\" and LocalDay(\"&$D$12&\")=\"&$F$10&\" and Barix(\"&$D$12&\",reference:=StartOfSession)=\"&A43&\"\", \"Bar\", \"\", \"Close\",\"5\",\"0\",\"PrimaryOnly\",,,\"False\",\"T\",\"EveryTick\")","v":1697.52},-2.3097945869699748E-3,null,null,null,""]
[43,"12:05:00",-34,{"$f":" RTD(\"cqg.rtd\",,\"StudyData\", $D$12,  \"Tick\", \"FlatTicks=0\", \"Tick\",\"D\",C44,\"PrimaryOnly\")","v":1807.87},null,"BTC",null,{"$f":"RTD(\"cqg.rtd\",,\"StudyData\", \"Close(\"&$D$12&\") when LocalYear(\"&$D$12&\")=\"&$D$1&\" and localMonth(\"&$D$12&\") =\"&$E$1&\" and LocalDay(\"&$D$12&\")=\"&$F$1&\" and Barix(\"&$D$12&\",reference:=StartOfSession)=\"&A44&\"\", \"Bar\", \"\", \"Close\",\"5\",\"0\",\"PrimaryOnly\",,,\"False\",\"T\",\"EveryTick\")","v":""},{"$error":"#N/A"},{"$f":"RTD(\"cqg.rtd\",,\"StudyData\", \"Close(\"&$D$12&\") when LocalYear(\"&$D$12&\")=\"&$D$2&\" and localMonth(\"&$D$12&\") =\"&$E$2&\" and LocalDay(\"&$D$12&\")=\"&$F$2&\" and Barix(\"&$D$12&\",reference:=StartOfSession)=\"&A44&\"\", \"Bar\", \"\", \"Close\",\"5\",\"0\",\"PrimaryOnly\",,,\"False\",\"T\",\"EveryTick\")","v":1790.23},2.0074074074074084E-2,{"$f":"RTD(\"cqg.rtd\",,\"StudyData\", \"Close(\"&$D$12&\") when LocalYear(\"&$D$12&\")=\"&$D$3&\" and localMonth(\"&$D$12&\") =\"&$E$3&\" and LocalDay(\"&$D$12&\")=\"&$F$3&\" and Barix(\"&$D$12&\",reference:=StartOfSession)=\"&A44&\"\", \"Bar\", \"\", \"Close\",\"5\",\"0\",\"PrimaryOnly\",,,\"False\",\"T\",\"EveryTick\")","v":1747.88},2.7594990447888912E-3,{"$f":"RTD(\"cqg.rtd\",,\"StudyData\", \"Close(\"&$D$12&\") when LocalYear(\"&$D$12&\")=\"&$D$4&\" and localMonth(\"&$D$12&\") =\"&$E$4&\" and LocalDay(\"&$D$12&\")=\"&$F$4&\" and Barix(\"&$D$12&\",reference:=StartOfSession)=\"&A44&\"\", \"Bar\", \"\", \"Close\",\"5\",\"0\",\"PrimaryOnly\",,,\"False\",\"T\",\"EveryTick\")","v":1744.03},2.8809329392416368E-3,{"$f":"RTD(\"cqg.rtd\",,\"StudyData\", \"Close(\"&$D$12&\") when LocalYear(\"&$D$12&\")=\"&$D$5&\" and localMonth(\"&$D$12&\") =\"&$E$5&\" and LocalDay(\"&$D$12&\")=\"&$F$5&\" and Barix(\"&$D$12&\",reference:=StartOfSession)=\"&A44&\"\", \"Bar\", \"\", \"Close\",\"5\",\"0\",\"PrimaryOnly\",,,\"False\",\"T\",\"EveryTick\")","v":1725.01},8.4062596821053541E-3,{"$f":"RTD(\"cqg.rtd\",,\"StudyData\", \"Close(\"&$D$12&\") when LocalYear(\"&$D$12&\")=\"&$D$6&\" and localMonth(\"&$D$12&\") =\"&$E$6&\" and LocalDay(\"&$D$12&\")=\"&$F$6&\" and Barix(\"&$D$12&\",reference:=StartOfSession)=\"&A44&\"\", \"Bar\", \"\", \"Close\",\"5\",\"0\",\"PrimaryOnly\",,,\"False\",\"T\",\"EveryTick\")","v":1713.89},8.330734881422391E-3,{"$f":"RTD(\"cqg.rtd\",,\"StudyData\", \"Close(\"&$D$12&\") when LocalYear(\"&$D$12&\")=\"&$D$7&\" and localMonth(\"&$D$12&\") =\"&$E$7&\" and LocalDay(\"&$D$12&\")=\"&$F$7&\" and Barix(\"&$D$12&\",reference:=StartOfSession)=\"&A44&\"\", \"Bar\", \"\", \"Close\",\"5\",\"0\",\"PrimaryOnly\",,,\"False\",\"T\",\"EveryTick\")","v":1702.1},4.8053082717418785E-3,{"$f":"RTD(\"cqg.rtd\",,\"StudyData\", \"Close(\"&$D$12&\") when LocalYear(\"&$D$12&\")=\"&$D$8&\" and localMonth(\"&$D$12&\") =\"&$E$8&\" and LocalDay(\"&$D$12&\")=\"&$F$8&\" and Barix(\"&$D$12&\",reference:=StartOfSession)=\"&A44&\"\", \"Bar\", \"\", \"Close\",\"5\",\"0\",\"PrimaryOnly\",,,\"False\",\"T\",\"EveryTick\")","v":""},{"$error":"#N/A"},{"$f":"RTD(\"cqg.rtd\",,\"StudyData\", \"Close(\"&$D$12&\") when LocalYear(\"&$D$12&\")=\"&$D$9&\" and localMonth(\"&$D$12&\") =\"&$E$9&\" and LocalDay(\"&$D$12&\")=\"&$F$9&\" and Barix(\"&$D$12&\",reference:=StartOfSession)=\"&A44&\"\", \"Bar\", \"\", \"Close\",\"5\",\"0\",\"PrimaryOnly\",,,\"False\",\"T\",\"EveryTick\")","v":1690.39},-5.5359454053417198E-3,{"$f":"RTD(\"cqg.rtd\",,\"StudyData\", \"Close(\"&$D$12&\") when LocalYear(\"&$D$12&\")=\"&$D$10&\" and localMonth(\"&$D$12&\") =\"&$E$10&\" and LocalDay(\"&$D$12&\")=\"&$F$10&\" and Barix(\"&$D$12&\",reference:=StartOfSession)=\"&A44&\"\", \"Bar\", \"\", \"Close\",\"5\",\"0\",\"PrimaryOnly\",,,\"False\",\"T\",\"EveryTick\")","v":1699.53},-1.1284492638632183E-3,null,null,null,""]
[44,"12:10:00",-33,{"$f":" RTD(\"cqg.rtd\",,\"StudyData\", $D$12,  \"Tick\", \"FlatTicks=0\", \"Tick\",\"D\",C45,\"PrimaryOnly\")","v":1807.53},null,null,null,{"$f":"RTD(\"cqg.rtd\",,\"StudyData\", \"Close(\"&$D$12&\") when LocalYear(\"&$D$12&\")=\"&$D$1&\" and localMonth(\"&$D$12&\") =\"&$E$1&\" and LocalDay(\"&$D$12&\")=\"&$F$1&\" and Barix(\"&$D$12&\",reference:=StartOfSession)=\"&A45&\"\", \"Bar\", \"\", \"Close\",\"5\",\"0\",\"PrimaryOnly\",,,\"False\",\"T\",\"EveryTick\")","v":""},{"$error":"#N/A"},{"$f":"RTD(\"cqg.rtd\",,\"StudyData\", \"Close(\"&$D$12&\") when LocalYear(\"&$D$12&\")=\"&$D$2&\" and localMonth(\"&$D$12&\") =\"&$E$2&\" and LocalDay(\"&$D$12&\")=\"&$F$2&\" and Barix(\"&$D$12&\",reference:=StartOfSession)=\"&A45&\"\", \"Bar\", \"\", \"Close\",\"5\",\"0\",\"PrimaryOnly\",,,\"False\",\"T\",\"EveryTick\")","v":1790.18},2.0045584045584083E-2,{"$f":"RTD(\"cqg.rtd\",,\"StudyData\", \"Close(\"&$D$12&\") when LocalYear(\"&$D$12&\")=\"&$D$3&\" and localMonth(\"&$D$12&\") =\"&$E$3&\" and LocalDay(\"&$D$12&\")=\"&$F$3&\" and Barix(\"&$D$12&\",reference:=StartOfSession)=\"&A45&\"\", \"Bar\", \"\", \"Close\",\"5\",\"0\",\"PrimaryOnly\",,,\"False\",\"T\",\"EveryTick\")","v":1748.4},3.0578232658471289E-3,{"$f":"RTD(\"cqg.rtd\",,\"StudyData\", \"Close(\"&$D$12&\") when LocalYear(\"&$D$12&\")=\"&$D$4&\" and localMonth(\"&$D$12&\") =\"&$E$4&\" and LocalDay(\"&$D$12&\")=\"&$F$4&\" and Barix(\"&$D$12&\",reference:=StartOfSession)=\"&A45&\"\", \"Bar\", \"\", \"Close\",\"5\",\"0\",\"PrimaryOnly\",,,\"False\",\"T\",\"EveryTick\")","v":1744.99},3.432967993467601E-3,{"$f":"RTD(\"cqg.rtd\",,\"StudyData\", \"Close(\"&$D$12&\") when LocalYear(\"&$D$12&\")=\"&$D$5&\" and localMonth(\"&$D$12&\") =\"&$E$5&\" and LocalDay(\"&$D$12&\")=\"&$F$5&\" and Barix(\"&$D$12&\",reference:=StartOfSession)=\"&A45&\"\", \"Bar\", \"\", \"Close\",\"5\",\"0\",\"PrimaryOnly\",,,\"False\",\"T\",\"EveryTick\")","v":1725.31},8.581633667128389E-3,{"$f":"RTD(\"cqg.rtd\",,\"StudyData\", \"Close(\"&$D$12&\") when LocalYear(\"&$D$12&\")=\"&$D$6&\" and localMonth(\"&$D$12&\") =\"&$E$6&\" and LocalDay(\"&$D$12&\")=\"&$F$6&\" and Barix(\"&$D$12&\",reference:=StartOfSession)=\"&A45&\"\", \"Bar\", \"\", \"Close\",\"5\",\"0\",\"PrimaryOnly\",,,\"False\",\"T\",\"EveryTick\")","v":1712.57},7.5541409517981785E-3,{"$f":"RTD(\"cqg.rtd\",,\"StudyData\", \"Close(\"&$D$12&\") when LocalYear(\"&$D$12&\")=\"&$D$7&\" and localMonth(\"&$D$12&\") =\"&$E$7&\" and LocalDay(\"&$D$12&\")=\"&$F$7&\" and Barix(\"&$D$12&\",reference:=StartOfSession)=\"&A45&\"\", \"Bar\", \"\", \"Close\",\"5\",\"0\",\"PrimaryOnly\",,,\"False\",\"T\",\"EveryTick\")","v":1703.83},5.8265838626649332E-3,{"$f":"RTD(\"cqg.rtd\",,\"StudyData\", \"Close(\"&$D$12&\") when LocalYear(\"&$D$12&\")=\"&$D$8&\" and localMonth(\"&$D$12&\") =\"&$E$8&\" and LocalDay(\"&$D$12&\")=\"&$F$8&\" and Barix(\"&$D$12&\",reference:=StartOfSession)=\"&A45&\"\", \"Bar\", \"\", \"Close\",\"5\",\"0\",\"PrimaryOnly\",,,\"False\",\"T\",\"EveryTick\")","v":""},{"$error":"#N/A"},{"$f":"RTD(\"cqg.rtd\",,\"StudyData\", \"Close(\"&$D$12&\") when LocalYear(\"&$D$12&\")=\"&$D$9&\" and localMonth(\"&$D$12&\") =\"&$E$9&\" and LocalDay(\"&$D$12&\")=\"&$F$9&\" and Barix(\"&$D$12&\",reference:=StartOfSession)=\"&A45&\"\", \"Bar\", \"\", \"Close\",\"5\",\"0\",\"PrimaryOnly\",,,\"False\",\"T\",\"EveryTick\")","v":1689.92},-5.8124485233556197E-3,{"$f":"RTD(\"cqg.rtd\",,\"StudyData\", \"Close(\"&$D$12&\") when LocalYear(\"&$D$12&\")=\"&$D$10&\" and localMonth(\"&$D$12&\") =\"&$E$10&\" and LocalDay(\"&$D$12&\")=\"&$F$10&\" and Barix(\"&$D$12&\",reference:=StartOfSession)=\"&A45&\"\", \"Bar\", \"\", \"Close\",\"5\",\"0\",\"PrimaryOnly\",,,\"False\",\"T\",\"EveryTick\")","v":1699.93},-8.9335566722500319E-4,null,null,null,""]
[45,"12:15:00",-32,{"$f":" RTD(\"cqg.rtd\",,\"StudyData\", $D$12,  \"Tick\", \"FlatTicks=0\", \"Tick\",\"D\",C46,\"PrimaryOnly\")","v":1807.85},null,null,null,{"$f":"RTD(\"cqg.rtd\",,\"StudyData\", \"Close(\"&$D$12&\") when LocalYear(\"&$D$12&\")=\"&$D$1&\" and localMonth(\"&$D$12&\") =\"&$E$1&\" and LocalDay(\"&$D$12&\")=\"&$F$1&\" and Barix(\"&$D$12&\",reference:=StartOfSession)=\"&A46&\"\", \"Bar\", \"\", \"Close\",\"5\",\"0\",\"PrimaryOnly\",,,\"False\",\"T\",\"EveryTick\")","v":""},{"$error":"#N/A"},{"$f":"RTD(\"cqg.rtd\",,\"StudyData\", \"Close(\"&$D$12&\") when LocalYear(\"&$D$12&\")=\"&$D$2&\" and localMonth(\"&$D$12&\") =\"&$E$2&\" and LocalDay(\"&$D$12&\")=\"&$F$2&\" and Barix(\"&$D$12&\",reference:=StartOfSession)=\"&A46&\"\", \"Bar\", \"\", \"Close\",\"5\",\"0\",\"PrimaryOnly\",,,\"False\",\"T\",\"EveryTick\")","v":1791.28},2.0672364672364656E-2,{"$f":"RTD(\"cqg.rtd\",,\"StudyData\", \"Close(\"&$D$12&\") when LocalYear(\"&$D$12&\")=\"&$D$3&\" and localMonth(\"&$D$12&\") =\"&$E$3&\" and LocalDay(\"&$D$12&\")=\"&$F$3&\" and Barix(\"&$D$12&\",reference:=StartOfSession)=\"&A46&\"\", \"Bar\", \"\", \"Close\",\"5\",\"0\",\"PrimaryOnly\",,,\"False\",\"T\",\"EveryTick\")","v":1750.26},4.1249060565554194E-3,{"$f":"RTD(\"cqg.rtd\",,\"StudyData\", \"Close(\"&$D$12&\") when LocalYear(\"&$D$12&\")=\"&$D$4&\" and localMonth(\"&$D$12&\") =\"&$E$4&\" and LocalDay(\"&$D$12&\")=\"&$F$4&\" and Barix(\"&$D$12&\",reference:=StartOfSession)=\"&A46&\"\", \"Bar\", \"\", \"Close\",\"5\",\"0\",\"PrimaryOnly\",,,\"False\",\"T\",\"EveryTick\")","v":1742.66},2.0931329139400926E-3,{"$f":"RTD(\"cqg.rtd\",,\"StudyData\", \"Close(\"&$D$12&\") when LocalYear(\"&$D$12&\")=\"&$D$5&\" and localMonth(\"&$D$12&\") =\"&$E$5&\" and LocalDay(\"&$D$12&\")=\"&$F$5&\" and Barix(\"&$D$12&\",reference:=StartOfSession)=\"&A46&\"\", \"Bar\", \"\", \"Close\",\"5\",\"0\",\"PrimaryOnly\",,,\"False\",\"T\",\"EveryTick\")","v":1726.53},9.2948212062221886E-3,{"$f":"RTD(\"cqg.rtd\",,\"StudyData\", \"Close(\"&$D$12&\") when LocalYear(\"&$D$12&\")=\"&$D$6&\" and localMonth(\"&$D$12&\") =\"&$E$6&\" and LocalDay(\"&$D$12&\")=\"&$F$6&\" and Barix(\"&$D$12&\",reference:=StartOfSession)=\"&A46&\"\", \"Bar\", \"\", \"Close\",\"5\",\"0\",\"PrimaryOnly\",,,\"False\",\"T\",\"EveryTick\")","v":1713.78},8.2660187206203065E-3,{"$f":"RTD(\"cqg.rtd\",,\"StudyData\", \"Close(\"&$D$12&\") when LocalYear(\"&$D$12&\")=\"&$D$7&\" and localMonth(\"&$D$12&\") =\"&$E$7&\" and LocalDay(\"&$D$12&\")=\"&$F$7&\" and Barix(\"&$D$12&\",reference:=StartOfSession)=\"&A46&\"\", \"Bar\", \"\", \"Close\",\"5\",\"0\",\"PrimaryOnly\",,,\"False\",\"T\",\"EveryTick\")","v":1703.84},5.83248718978009E-3,{"$f":"RTD(\"cqg.rtd\",,\"StudyData\", \"Close(\"&$D$12&\") when LocalYear(\"&$D$12&\")=\"&$D$8&\" and localMonth(\"&$D$12&\") =\"&$E$8&\" and LocalDay(\"&$D$12&\")=\"&$F$8&\" and Barix(\"&$D$12&\",reference:=StartOfSession)=\"&A46&\"\", \"Bar\", \"\", \"Close\",\"5\",\"0\",\"PrimaryOnly\",,,\"False\",\"T\",\"EveryTick\")","v":""},{"$error":"#N/A"},{"$f":"RTD(\"cqg.rtd\",,\"StudyData\", \"Close(\"&$D$12&\") when LocalYear(\"&$D$12&\")=\"&$D$9&\" and localMonth(\"&$D$12&\") =\"&$E$9&\" and LocalDay(\"&$D$12&\")=\"&$F$9&\" and Barix(\"&$D$12&\",reference:=StartOfSession)=\"&A46&\"\", \"Bar\", \"\", \"Close\",\"5\",\"0\",\"PrimaryOnly\",,,\"False\",\"T\",\"EveryTick\")","v":1690.15},-5.6771384868807293E-3,{"$f":"RTD(\"cqg.rtd\",,\"StudyData\", \"Close(\"&$D$12&\") when LocalYear(\"&$D$12&\")=\"&$D$10&\" and localMonth(\"&$D$12&\") =\"&$E$10&\" and LocalDay(\"&$D$12&\")=\"&$F$10&\" and Barix(\"&$D$12&\",reference:=StartOfSession)=\"&A46&\"\", \"Bar\", \"\", \"Close\",\"5\",\"0\",\"PrimaryOnly\",,,\"False\",\"T\",\"EveryTick\")","v":1702.35},5.2896059243578335E-4,null,null,null,""]
[46,"12:20:00",-31,{"$f":" RTD(\"cqg.rtd\",,\"StudyData\", $D$12,  \"Tick\", \"FlatTicks=0\", \"Tick\",\"D\",C47,\"PrimaryOnly\")","v":1807.82},null,null,null,{"$f":"RTD(\"cqg.rtd\",,\"StudyData\", \"Close(\"&$D$12&\") when LocalYear(\"&$D$12&\")=\"&$D$1&\" and localMonth(\"&$D$12&\") =\"&$E$1&\" and LocalDay(\"&$D$12&\")=\"&$F$1&\" and Barix(\"&$D$12&\",reference:=StartOfSession)=\"&A47&\"\", \"Bar\", \"\", \"Close\",\"5\",\"0\",\"PrimaryOnly\",,,\"False\",\"T\",\"EveryTick\")","v":""},{"$error":"#N/A"},{"$f":"RTD(\"cqg.rtd\",,\"StudyData\", \"Close(\"&$D$12&\") when LocalYear(\"&$D$12&\")=\"&$D$2&\" and localMonth(\"&$D$12&\") =\"&$E$2&\" and LocalDay(\"&$D$12&\")=\"&$F$2&\" and Barix(\"&$D$12&\",reference:=StartOfSession)=\"&A47&\"\", \"Bar\", \"\", \"Close\",\"5\",\"0\",\"PrimaryOnly\",,,\"False\",\"T\",\"EveryTick\")","v":1791.3},2.0683760683760658E-2,{"$f":"RTD(\"cqg.rtd\",,\"StudyData\", \"Close(\"&$D$12&\") when LocalYear(\"&$D$12&\")=\"&$D$3&\" and localMonth(\"&$D$12&\") =\"&$E$3&\" and LocalDay(\"&$D$12&\")=\"&$F$3&\" and Barix(\"&$D$12&\",reference:=StartOfSession)=\"&A47&\"\", \"Bar\", \"\", \"Close\",\"5\",\"0\",\"PrimaryOnly\",,,\"False\",\"T\",\"EveryTick\")","v":1752.5},5.4099950088063384E-3,{"$f":"RTD(\"cqg.rtd\",,\"StudyData\", \"Close(\"&$D$12&\") when LocalYear(\"&$D$12&\")=\"&$D$4&\" and localMonth(\"&$D$12&\") =\"&$E$4&\" and LocalDay(\"&$D$12&\")=\"&$F$4&\" and Barix(\"&$D$12&\",reference:=StartOfSession)=\"&A47&\"\", \"Bar\", \"\", \"Close\",\"5\",\"0\",\"PrimaryOnly\",,,\"False\",\"T\",\"EveryTick\")","v":1743.18},2.3921519016458018E-3,{"$f":"RTD(\"cqg.rtd\",,\"StudyData\", \"Close(\"&$D$12&\") when LocalYear(\"&$D$12&\")=\"&$D$5&\" and localMonth(\"&$D$12&\") =\"&$E$5&\" and LocalDay(\"&$D$12&\")=\"&$F$5&\" and Barix(\"&$D$12&\",reference:=StartOfSession)=\"&A47&\"\", \"Bar\", \"\", \"Close\",\"5\",\"0\",\"PrimaryOnly\",,,\"False\",\"T\",\"EveryTick\")","v":1727.63},9.9378591513068285E-3,{"$f":"RTD(\"cqg.rtd\",,\"StudyData\", \"Close(\"&$D$12&\") when LocalYear(\"&$D$12&\")=\"&$D$6&\" and localMonth(\"&$D$12&\") =\"&$E$6&\" and LocalDay(\"&$D$12&\")=\"&$F$6&\" and Barix(\"&$D$12&\",reference:=StartOfSession)=\"&A47&\"\", \"Bar\", \"\", \"Close\",\"5\",\"0\",\"PrimaryOnly\",,,\"False\",\"T\",\"EveryTick\")","v":1713.51},8.1071699622881112E-3,{"$f":"RTD(\"cqg.rtd\",,\"StudyData\", \"Close(\"&$D$12&\") when LocalYear(\"&$D$12&\")=\"&$D$7&\" and localMonth(\"&$D$12&\") =\"&$E$7&\" and LocalDay(\"&$D$12&\")=\"&$F$7&\" and Barix(\"&$D$12&\",reference:=StartOfSession)=\"&A47&\"\", \"Bar\", \"\", \"Close\",\"5\",\"0\",\"PrimaryOnly\",,,\"False\",\"T\",\"EveryTick\")","v":1703.15},5.4251576188340065E-3,{"$f":"RTD(\"cqg.rtd\",,\"StudyData\", \"Close(\"&$D$12&\") when LocalYear(\"&$D$12&\")=\"&$D$8&\" and localMonth(\"&$D$12&\") =\"&$E$8&\" and LocalDay(\"&$D$12&\")=\"&$F$8&\" and Barix(\"&$D$12&\",reference:=StartOfSession)=\"&A47&\"\", \"Bar\", \"\", \"Close\",\"5\",\"0\",\"PrimaryOnly\",,,\"False\",\"T\",\"EveryTick\")","v":""},{"$error":"#N/A"},{"$f":"RTD(\"cqg.rtd\",,\"StudyData\", \"Close(\"&$D$12&\") when LocalYear(\"&$D$12&\")=\"&$D$9&\" and localMonth(\"&$D$12&\") =\"&$E$9&\" and LocalDay(\"&$D$12&\")=\"&$F$9&\" and Barix(\"&$D$12&\",reference:=StartOfSession)=\"&A47&\"\", \"Bar\", \"\", \"Close\",\"5\",\"0\",\"PrimaryOnly\",,,\"False\",\"T\",\"EveryTick\")","v":1689.52},-6.0477703259206803E-3,{"$f":"RTD(\"cqg.rtd\",,\"StudyData\", \"Close(\"&$D$12&\") when LocalYear(\"&$D$12&\")=\"&$D$10&\" and localMonth(\"&$D$12&\") =\"&$E$10&\" and LocalDay(\"&$D$12&\")=\"&$F$10&\" and Barix(\"&$D$12&\",reference:=StartOfSession)=\"&A47&\"\", \"Bar\", \"\", \"Close\",\"5\",\"0\",\"PrimaryOnly\",,,\"False\",\"T\",\"EveryTick\")","v":1702.54},6.406300508389421E-4,null,null,null,""]
[47,"12:25:00",-30,{"$f":" RTD(\"cqg.rtd\",,\"StudyData\", $D$12,  \"Tick\", \"FlatTicks=0\", \"Tick\",\"D\",C48,\"PrimaryOnly\")","v":1807.87},null,null,null,{"$f":"RTD(\"cqg.rtd\",,\"StudyData\", \"Close(\"&$D$12&\") when LocalYear(\"&$D$12&\")=\"&$D$1&\" and localMonth(\"&$D$12&\") =\"&$E$1&\" and LocalDay(\"&$D$12&\")=\"&$F$1&\" and Barix(\"&$D$12&\",reference:=StartOfSession)=\"&A48&\"\", \"Bar\", \"\", \"Close\",\"5\",\"0\",\"PrimaryOnly\",,,\"False\",\"T\",\"EveryTick\")","v":""},{"$error":"#N/A"},{"$f":"RTD(\"cqg.rtd\",,\"StudyData\", \"Close(\"&$D$12&\") when LocalYear(\"&$D$12&\")=\"&$D$2&\" and localMonth(\"&$D$12&\") =\"&$E$2&\" and LocalDay(\"&$D$12&\")=\"&$F$2&\" and Barix(\"&$D$12&\",reference:=StartOfSession)=\"&A48&\"\", \"Bar\", \"\", \"Close\",\"5\",\"0\",\"PrimaryOnly\",,,\"False\",\"T\",\"EveryTick\")","v":1793.07},2.1692307692307657E-2,{"$f":"RTD(\"cqg.rtd\",,\"StudyData\", \"Close(\"&$D$12&\") when LocalYear(\"&$D$12&\")=\"&$D$3&\" and localMonth(\"&$D$12&\") =\"&$E$3&\" and LocalDay(\"&$D$12&\")=\"&$F$3&\" and Barix(\"&$D$12&\",reference:=StartOfSession)=\"&A48&\"\", \"Bar\", \"\", \"Close\",\"5\",\"0\",\"PrimaryOnly\",,,\"False\",\"T\",\"EveryTick\")","v":1751.78},4.996930702725672E-3,{"$f":"RTD(\"cqg.rtd\",,\"StudyData\", \"Close(\"&$D$12&\") when LocalYear(\"&$D$12&\")=\"&$D$4&\" and localMonth(\"&$D$12&\") =\"&$E$4&\" and LocalDay(\"&$D$12&\")=\"&$F$4&\" and Barix(\"&$D$12&\",reference:=StartOfSession)=\"&A48&\"\", \"Bar\", \"\", \"Close\",\"5\",\"0\",\"PrimaryOnly\",,,\"False\",\"T\",\"EveryTick\")","v":1742.75},2.1448862002737277E-3,{"$f":"RTD(\"cqg.rtd\",,\"StudyData\", \"Close(\"&$D$12&\") when LocalYear(\"&$D$12&\")=\"&$D$5&\" and localMonth(\"&$D$12&\") =\"&$E$5&\" and LocalDay(\"&$D$12&\")=\"&$F$5&\" and Barix(\"&$D$12&\",reference:=StartOfSession)=\"&A48&\"\", \"Bar\", \"\", \"Close\",\"5\",\"0\",\"PrimaryOnly\",,,\"False\",\"T\",\"EveryTick\")","v":1727.86},1.0072312539824387E-2,{"$f":"RTD(\"cqg.rtd\",,\"StudyData\", \"Close(\"&$D$12&\") when LocalYear(\"&$D$12&\")=\"&$D$6&\" and localMonth(\"&$D$12&\") =\"&$E$6&\" and LocalDay(\"&$D$12&\")=\"&$F$6&\" and Barix(\"&$D$12&\",reference:=StartOfSession)=\"&A48&\"\", \"Bar\", \"\", \"Close\",\"5\",\"0\",\"PrimaryOnly\",,,\"False\",\"T\",\"EveryTick\")","v":1713.26},7.9600877786471808E-3,{"$f":"RTD(\"cqg.rtd\",,\"StudyData\", \"Close(\"&$D$12&\") when LocalYear(\"&$D$12&\")=\"&$D$7&\" and localMonth(\"&$D$12&\") =\"&$E$7&\" and LocalDay(\"&$D$12&\")=\"&$F$7&\" and Barix(\"&$D$12&\",reference:=StartOfSession)=\"&A48&\"\", \"Bar\", \"\", \"Close\",\"5\",\"0\",\"PrimaryOnly\",,,\"False\",\"T\",\"EveryTick\")","v":1702.94},5.3011877494155814E-3,{"$f":"RTD(\"cqg.rtd\",,\"StudyData\", \"Close(\"&$D$12&\") when LocalYear(\"&$D$12&\")=\"&$D$8&\" and localMonth(\"&$D$12&\") =\"&$E$8&\" and LocalDay(\"&$D$12&\")=\"&$F$8&\" and Barix(\"&$D$12&\",reference:=StartOfSession)=\"&A48&\"\", \"Bar\", \"\", \"Close\",\"5\",\"0\",\"PrimaryOnly\",,,\"False\",\"T\",\"EveryTick\")","v":""},{"$error":"#N/A"},{"$f":"RTD(\"cqg.rtd\",,\"StudyData\", \"Close(\"&$D$12&\") when LocalYear(\"&$D$12&\")=\"&$D$9&\" and localMonth(\"&$D$12&\") =\"&$E$9&\" and LocalDay(\"&$D$12&\")=\"&$F$9&\" and Barix(\"&$D$12&\",reference:=StartOfSession)=\"&A48&\"\", \"Bar\", \"\", \"Close\",\"5\",\"0\",\"PrimaryOnly\",,,\"False\",\"T\",\"EveryTick\")","v":1689.04},-6.3301564889987009E-3,{"$f":"RTD(\"cqg.rtd\",,\"StudyData\", \"Close(\"&$D$12&\") when LocalYear(\"&$D$12&\")=\"&$D$10&\" and localMonth(\"&$D$12&\") =\"&$E$10&\" and LocalDay(\"&$D$12&\")=\"&$F$10&\" and Barix(\"&$D$12&\",reference:=StartOfSession)=\"&A48&\"\", \"Bar\", \"\", \"Close\",\"5\",\"0\",\"PrimaryOnly\",,,\"False\",\"T\",\"EveryTick\")","v":1703.05},9.4037438655259278E-4,null,null,null,""]
[48,"12:30:00",-29,{"$f":" RTD(\"cqg.rtd\",,\"StudyData\", $D$12,  \"Tick\", \"FlatTicks=0\", \"Tick\",\"D\",C49,\"PrimaryOnly\")","v":1808.11},null,null,null,{"$f":"RTD(\"cqg.rtd\",,\"StudyData\", \"Close(\"&$D$12&\") when LocalYear(\"&$D$12&\")=\"&$D$1&\" and localMonth(\"&$D$12&\") =\"&$E$1&\" and LocalDay(\"&$D$12&\")=\"&$F$1&\" and Barix(\"&$D$12&\",reference:=StartOfSession)=\"&A49&\"\", \"Bar\", \"\", \"Close\",\"5\",\"0\",\"PrimaryOnly\",,,\"False\",\"T\",\"EveryTick\")","v":""},{"$error":"#N/A"},{"$f":"RTD(\"cqg.rtd\",,\"StudyData\", \"Close(\"&$D$12&\") when LocalYear(\"&$D$12&\")=\"&$D$2&\" and localMonth(\"&$D$12&\") =\"&$E$2&\" and LocalDay(\"&$D$12&\")=\"&$F$2&\" and Barix(\"&$D$12&\",reference:=StartOfSession)=\"&A49&\"\", \"Bar\", \"\", \"Close\",\"5\",\"0\",\"PrimaryOnly\",,,\"False\",\"T\",\"EveryTick\")","v":1793.73},2.206837606837608E-2,{"$f":"RTD(\"cqg.rtd\",,\"StudyData\", \"Close(\"&$D$12&\") when LocalYear(\"&$D$12&\")=\"&$D$3&\" and localMonth(\"&$D$12&\") =\"&$E$3&\" and LocalDay(\"&$D$12&\")=\"&$F$3&\" and Barix(\"&$D$12&\",reference:=StartOfSession)=\"&A49&\"\", \"Bar\", \"\", \"Close\",\"5\",\"0\",\"PrimaryOnly\",,,\"False\",\"T\",\"EveryTick\")","v":1751.45},4.8076095624387484E-3,{"$f":"RTD(\"cqg.rtd\",,\"StudyData\", \"Close(\"&$D$12&\") when LocalYear(\"&$D$12&\")=\"&$D$4&\" and localMonth(\"&$D$12&\") =\"&$E$4&\" and LocalDay(\"&$D$12&\")=\"&$F$4&\" and Barix(\"&$D$12&\",reference:=StartOfSession)=\"&A49&\"\", \"Bar\", \"\", \"Close\",\"5\",\"0\",\"PrimaryOnly\",,,\"False\",\"T\",\"EveryTick\")","v":1740.66},9.4305988430271081E-4,{"$f":"RTD(\"cqg.rtd\",,\"StudyData\", \"Close(\"&$D$12&\") when LocalYear(\"&$D$12&\")=\"&$D$5&\" and localMonth(\"&$D$12&\") =\"&$E$5&\" and LocalDay(\"&$D$12&\")=\"&$F$5&\" and Barix(\"&$D$12&\",reference:=StartOfSession)=\"&A49&\"\", \"Bar\", \"\", \"Close\",\"5\",\"0\",\"PrimaryOnly\",,,\"False\",\"T\",\"EveryTick\")","v":1728.66},1.053997649988599E-2,{"$f":"RTD(\"cqg.rtd\",,\"StudyData\", \"Close(\"&$D$12&\") when LocalYear(\"&$D$12&\")=\"&$D$6&\" and localMonth(\"&$D$12&\") =\"&$E$6&\" and LocalDay(\"&$D$12&\")=\"&$F$6&\" and Barix(\"&$D$12&\",reference:=StartOfSession)=\"&A49&\"\", \"Bar\", \"\", \"Close\",\"5\",\"0\",\"PrimaryOnly\",,,\"False\",\"T\",\"EveryTick\")","v":1712.3},7.3952921934659832E-3,{"$f":"RTD(\"cqg.rtd\",,\"StudyData\", \"Close(\"&$D$12&\") when LocalYear(\"&$D$12&\")=\"&$D$7&\" and localMonth(\"&$D$12&\") =\"&$E$7&\" and LocalDay(\"&$D$12&\")=\"&$F$7&\" and Barix(\"&$D$12&\",reference:=StartOfSession)=\"&A49&\"\", \"Bar\", \"\", \"Close\",\"5\",\"0\",\"PrimaryOnly\",,,\"False\",\"T\",\"EveryTick\")","v":1700.4},3.8017426621644278E-3,{"$f":"RTD(\"cqg.rtd\",,\"StudyData\", \"Close(\"&$D$12&\") when LocalYear(\"&$D$12&\")=\"&$D$8&\" and localMonth(\"&$D$12&\") =\"&$E$8&\" and LocalDay(\"&$D$12&\")=\"&$F$8&\" and Barix(\"&$D$12&\",reference:=StartOfSession)=\"&A49&\"\", \"Bar\", \"\", \"Close\",\"5\",\"0\",\"PrimaryOnly\",,,\"False\",\"T\",\"EveryTick\")","v":""},{"$error":"#N/A"},{"$f":"RTD(\"cqg.rtd\",,\"StudyData\", \"Close(\"&$D$12&\") when LocalYear(\"&$D$12&\")=\"&$D$9&\" and localMonth(\"&$D$12&\") =\"&$E$9&\" and LocalDay(\"&$D$12&\")=\"&$F$9&\" and Barix(\"&$D$12&\",reference:=StartOfSession)=\"&A49&\"\", \"Bar\", \"\", \"Close\",\"5\",\"0\",\"PrimaryOnly\",,,\"False\",\"T\",\"EveryTick\")","v":1691.18},-5.0711848452758505E-3,{"$f":"RTD(\"cqg.rtd\",,\"StudyData\", \"Close(\"&$D$12&\") when LocalYear(\"&$D$12&\")=\"&$D$10&\" and localMonth(\"&$D$12&\") =\"&$E$10&\" and LocalDay(\"&$D$12&\")=\"&$F$10&\" and Barix(\"&$D$12&\",reference:=StartOfSession)=\"&A49&\"\", \"Bar\", \"\", \"Close\",\"5\",\"0\",\"PrimaryOnly\",,,\"False\",\"T\",\"EveryTick\")","v":1703.03},9.2861970672069541E-4,null,null,null,""]
[49,"12:35:00",-28,{"$f":" RTD(\"cqg.rtd\",,\"StudyData\", $D$12,  \"Tick\", \"FlatTicks=0\", \"Tick\",\"D\",C50,\"PrimaryOnly\")","v":1808.06},null,null,null,{"$f":"RTD(\"cqg.rtd\",,\"StudyData\", \"Close(\"&$D$12&\") when LocalYear(\"&$D$12&\")=\"&$D$1&\" and localMonth(\"&$D$12&\") =\"&$E$1&\" and LocalDay(\"&$D$12&\")=\"&$F$1&\" and Barix(\"&$D$12&\",reference:=StartOfSession)=\"&A50&\"\", \"Bar\", \"\", \"Close\",\"5\",\"0\",\"PrimaryOnly\",,,\"False\",\"T\",\"EveryTick\")","v":""},{"$error":"#N/A"},{"$f":"RTD(\"cqg.rtd\",,\"StudyData\", \"Close(\"&$D$12&\") when LocalYear(\"&$D$12&\")=\"&$D$2&\" and localMonth(\"&$D$12&\") =\"&$E$2&\" and LocalDay(\"&$D$12&\")=\"&$F$2&\" and Barix(\"&$D$12&\",reference:=StartOfSession)=\"&A50&\"\", \"Bar\", \"\", \"Close\",\"5\",\"0\",\"PrimaryOnly\",,,\"False\",\"T\",\"EveryTick\")","v":1797.43},2.4176638176638211E-2,{"$f":"RTD(\"cqg.rtd\",,\"StudyData\", \"Close(\"&$D$12&\") when LocalYear(\"&$D$12&\")=\"&$D$3&\" and localMonth(\"&$D$12&\") =\"&$E$3&\" and LocalDay(\"&$D$12&\")=\"&$F$3&\" and Barix(\"&$D$12&\",reference:=StartOfSession)=\"&A50&\"\", \"Bar\", \"\", \"Close\",\"5\",\"0\",\"PrimaryOnly\",,,\"False\",\"T\",\"EveryTick\")","v":1751.44},4.8018725581876337E-3,{"$f":"RTD(\"cqg.rtd\",,\"StudyData\", \"Close(\"&$D$12&\") when LocalYear(\"&$D$12&\")=\"&$D$4&\" and localMonth(\"&$D$12&\") =\"&$E$4&\" and LocalDay(\"&$D$12&\")=\"&$F$4&\" and Barix(\"&$D$12&\",reference:=StartOfSession)=\"&A50&\"\", \"Bar\", \"\", \"Close\",\"5\",\"0\",\"PrimaryOnly\",,,\"False\",\"T\",\"EveryTick\")","v":1736.64},-1.3685869052684166E-3,{"$f":"RTD(\"cqg.rtd\",,\"StudyData\", \"Close(\"&$D$12&\") when LocalYear(\"&$D$12&\")=\"&$D$5&\" and localMonth(\"&$D$12&\") =\"&$E$5&\" and LocalDay(\"&$D$12&\")=\"&$F$5&\" and Barix(\"&$D$12&\",reference:=StartOfSession)=\"&A50&\"\", \"Bar\", \"\", \"Close\",\"5\",\"0\",\"PrimaryOnly\",,,\"False\",\"T\",\"EveryTick\")","v":1729.4},1.0972565662942881E-2,{"$f":"RTD(\"cqg.rtd\",,\"StudyData\", \"Close(\"&$D$12&\") when LocalYear(\"&$D$12&\")=\"&$D$6&\" and localMonth(\"&$D$12&\") =\"&$E$6&\" and LocalDay(\"&$D$12&\")=\"&$F$6&\" and Barix(\"&$D$12&\",reference:=StartOfSession)=\"&A50&\"\", \"Bar\", \"\", \"Close\",\"5\",\"0\",\"PrimaryOnly\",,,\"False\",\"T\",\"EveryTick\")","v":1713},7.807122307660618E-3,{"$f":"RTD(\"cqg.rtd\",,\"StudyData\", \"Close(\"&$D$12&\") when LocalYear(\"&$D$12&\")=\"&$D$7&\" and localMonth(\"&$D$12&\") =\"&$E$7&\" and LocalDay(\"&$D$12&\")=\"&$F$7&\" and Barix(\"&$D$12&\",reference:=StartOfSession)=\"&A50&\"\", \"Bar\", \"\", \"Close\",\"5\",\"0\",\"PrimaryOnly\",,,\"False\",\"T\",\"EveryTick\")","v":1699.27},3.1346666981510456E-3,{"$f":"RTD(\"cqg.rtd\",,\"StudyData\", \"Close(\"&$D$12&\") when LocalYear(\"&$D$12&\")=\"&$D$8&\" and localMonth(\"&$D$12&\") =\"&$E$8&\" and LocalDay(\"&$D$12&\")=\"&$F$8&\" and Barix(\"&$D$12&\",reference:=StartOfSession)=\"&A50&\"\", \"Bar\", \"\", \"Close\",\"5\",\"0\",\"PrimaryOnly\",,,\"False\",\"T\",\"EveryTick\")","v":""},{"$error":"#N/A"},{"$f":"RTD(\"cqg.rtd\",,\"StudyData\", \"Close(\"&$D$12&\") when LocalYear(\"&$D$12&\")=\"&$D$9&\" and localMonth(\"&$D$12&\") =\"&$E$9&\" and LocalDay(\"&$D$12&\")=\"&$F$9&\" and Barix(\"&$D$12&\",reference:=StartOfSession)=\"&A50&\"\", \"Bar\", \"\", \"Close\",\"5\",\"0\",\"PrimaryOnly\",,,\"False\",\"T\",\"EveryTick\")","v":1691.59},-4.8299799976468036E-3,{"$f":"RTD(\"cqg.rtd\",,\"StudyData\", \"Close(\"&$D$12&\") when LocalYear(\"&$D$12&\")=\"&$D$10&\" and localMonth(\"&$D$12&\") =\"&$E$10&\" and LocalDay(\"&$D$12&\")=\"&$F$10&\" and Barix(\"&$D$12&\",reference:=StartOfSession)=\"&A50&\"\", \"Bar\", \"\", \"Close\",\"5\",\"0\",\"PrimaryOnly\",,,\"False\",\"T\",\"EveryTick\")","v":1702.63},6.93526110082614E-4,null,null,null,""]
[50,"12:40:00",-27,{"$f":" RTD(\"cqg.rtd\",,\"StudyData\", $D$12,  \"Tick\", \"FlatTicks=0\", \"Tick\",\"D\",C51,\"PrimaryOnly\")","v":1808.12},null,null,null,{"$f":"RTD(\"cqg.rtd\",,\"StudyData\", \"Close(\"&$D$12&\") when LocalYear(\"&$D$12&\")=\"&$D$1&\" and localMonth(\"&$D$12&\") =\"&$E$1&\" and LocalDay(\"&$D$12&\")=\"&$F$1&\" and Barix(\"&$D$12&\",reference:=StartOfSession)=\"&A51&\"\", \"Bar\", \"\", \"Close\",\"5\",\"0\",\"PrimaryOnly\",,,\"False\",\"T\",\"EveryTick\")","v":""},{"$error":"#N/A"},{"$f":"RTD(\"cqg.rtd\",,\"StudyData\", \"Close(\"&$D$12&\") when LocalYear(\"&$D$12&\")=\"&$D$2&\" and localMonth(\"&$D$12&\") =\"&$E$2&\" and LocalDay(\"&$D$12&\")=\"&$F$2&\" and Barix(\"&$D$12&\",reference:=StartOfSession)=\"&A51&\"\", \"Bar\", \"\", \"Close\",\"5\",\"0\",\"PrimaryOnly\",,,\"False\",\"T\",\"EveryTick\")","v":1795.3},2.2962962962962939E-2,{"$f":"RTD(\"cqg.rtd\",,\"StudyData\", \"Close(\"&$D$12&\") when LocalYear(\"&$D$12&\")=\"&$D$3&\" and localMonth(\"&$D$12&\") =\"&$E$3&\" and LocalDay(\"&$D$12&\")=\"&$F$3&\" and Barix(\"&$D$12&\",reference:=StartOfSession)=\"&A51&\"\", \"Bar\", \"\", \"Close\",\"5\",\"0\",\"PrimaryOnly\",,,\"False\",\"T\",\"EveryTick\")","v":1751.1},4.6068144136494652E-3,{"$f":"RTD(\"cqg.rtd\",,\"StudyData\", \"Close(\"&$D$12&\") when LocalYear(\"&$D$12&\")=\"&$D$4&\" and localMonth(\"&$D$12&\") =\"&$E$4&\" and LocalDay(\"&$D$12&\")=\"&$F$4&\" and Barix(\"&$D$12&\",reference:=StartOfSession)=\"&A51&\"\", \"Bar\", \"\", \"Close\",\"5\",\"0\",\"PrimaryOnly\",,,\"False\",\"T\",\"EveryTick\")","v":1737.49},-8.7980586767258157E-4,{"$f":"RTD(\"cqg.rtd\",,\"StudyData\", \"Close(\"&$D$12&\") when LocalYear(\"&$D$12&\")=\"&$D$5&\" and localMonth(\"&$D$12&\") =\"&$E$5&\" and LocalDay(\"&$D$12&\")=\"&$F$5&\" and Barix(\"&$D$12&\",reference:=StartOfSession)=\"&A51&\"\", \"Bar\", \"\", \"Close\",\"5\",\"0\",\"PrimaryOnly\",,,\"False\",\"T\",\"EveryTick\")","v":1729.65},1.11187106504621E-2,{"$f":"RTD(\"cqg.rtd\",,\"StudyData\", \"Close(\"&$D$12&\") when LocalYear(\"&$D$12&\")=\"&$D$6&\" and localMonth(\"&$D$12&\") =\"&$E$6&\" and LocalDay(\"&$D$12&\")=\"&$F$6&\" and Barix(\"&$D$12&\",reference:=StartOfSession)=\"&A51&\"\", \"Bar\", \"\", \"Close\",\"5\",\"0\",\"PrimaryOnly\",,,\"False\",\"T\",\"EveryTick\")","v":1712.2},7.3364593200096646E-3,{"$f":"RTD(\"cqg.rtd\",,\"StudyData\", \"Close(\"&$D$12&\") when LocalYear(\"&$D$12&\")=\"&$D$7&\" and localMonth(\"&$D$12&\") =\"&$E$7&\" and LocalDay(\"&$D$12&\")=\"&$F$7&\" and Barix(\"&$D$12&\",reference:=StartOfSession)=\"&A51&\"\", \"Bar\", \"\", \"Close\",\"5\",\"0\",\"PrimaryOnly\",,,\"False\",\"T\",\"EveryTick\")","v":1701.62},4.5219485702140865E-3,{"$f":"RTD(\"cqg.rtd\",,\"StudyData\", \"Close(\"&$D$12&\") when LocalYear(\"&$D$12&\")=\"&$D$8&\" and localMonth(\"&$D$12&\") =\"&$E$8&\" and LocalDay(\"&$D$12&\")=\"&$F$8&\" and Barix(\"&$D$12&\",reference:=StartOfSession)=\"&A51&\"\", \"Bar\", \"\", \"Close\",\"5\",\"0\",\"PrimaryOnly\",,,\"False\",\"T\",\"EveryTick\")","v":""},{"$error":"#N/A"},{"$f":"RTD(\"cqg.rtd\",,\"StudyData\", \"Close(\"&$D$12&\") when LocalYear(\"&$D$12&\")=\"&$D$9&\" and localMonth(\"&$D$12&\") =\"&$E$9&\" and LocalDay(\"&$D$12&\")=\"&$F$9&\" and Barix(\"&$D$12&\",reference:=StartOfSession)=\"&A51&\"\", \"Bar\", \"\", \"Close\",\"5\",\"0\",\"PrimaryOnly\",,,\"False\",\"T\",\"EveryTick\")","v":1693.07},-3.9592893281562647E-3,{"$f":"RTD(\"cqg.rtd\",,\"StudyData\", \"Close(\"&$D$12&\") when LocalYear(\"&$D$12&\")=\"&$D$10&\" and localMonth(\"&$D$12&\") =\"&$E$10&\" and LocalDay(\"&$D$12&\")=\"&$F$10&\" and Barix(\"&$D$12&\",reference:=StartOfSession)=\"&A51&\"\", \"Bar\", \"\", \"Close\",\"5\",\"0\",\"PrimaryOnly\",,,\"False\",\"T\",\"EveryTick\")","v":1706.5},2.9680566575567631E-3,null,null,null,""]
[51,"12:45:00",-26,{"$f":" RTD(\"cqg.rtd\",,\"StudyData\", $D$12,  \"Tick\", \"FlatTicks=0\", \"Tick\",\"D\",C52,\"PrimaryOnly\")","v":1808.24},null,null,null,{"$f":"RTD(\"cqg.rtd\",,\"StudyData\", \"Close(\"&$D$12&\") when LocalYear(\"&$D$12&\")=\"&$D$1&\" and localMonth(\"&$D$12&\") =\"&$E$1&\" and LocalDay(\"&$D$12&\")=\"&$F$1&\" and Barix(\"&$D$12&\",reference:=StartOfSession)=\"&A52&\"\", \"Bar\", \"\", \"Close\",\"5\",\"0\",\"PrimaryOnly\",,,\"False\",\"T\",\"EveryTick\")","v":""},{"$error":"#N/A"},{"$f":"RTD(\"cqg.rtd\",,\"StudyData\", \"Close(\"&$D$12&\") when LocalYear(\"&$D$12&\")=\"&$D$2&\" and localMonth(\"&$D$12&\") =\"&$E$2&\" and LocalDay(\"&$D$12&\")=\"&$F$2&\" and Barix(\"&$D$12&\",reference:=StartOfSession)=\"&A52&\"\", \"Bar\", \"\", \"Close\",\"5\",\"0\",\"PrimaryOnly\",,,\"False\",\"T\",\"EveryTick\")","v":1795.77},2.3230769230769222E-2,{"$f":"RTD(\"cqg.rtd\",,\"StudyData\", \"Close(\"&$D$12&\") when LocalYear(\"&$D$12&\")=\"&$D$3&\" and localMonth(\"&$D$12&\") =\"&$E$3&\" and LocalDay(\"&$D$12&\")=\"&$F$3&\" and Barix(\"&$D$12&\",reference:=StartOfSession)=\"&A52&\"\", \"Bar\", \"\", \"Close\",\"5\",\"0\",\"PrimaryOnly\",,,\"False\",\"T\",\"EveryTick\")","v":1749.9},3.9183739035151518E-3,{"$f":"RTD(\"cqg.rtd\",,\"StudyData\", \"Close(\"&$D$12&\") when LocalYear(\"&$D$12&\")=\"&$D$4&\" and localMonth(\"&$D$12&\") =\"&$E$4&\" and LocalDay(\"&$D$12&\")=\"&$F$4&\" and Barix(\"&$D$12&\",reference:=StartOfSession)=\"&A52&\"\", \"Bar\", \"\", \"Close\",\"5\",\"0\",\"PrimaryOnly\",,,\"False\",\"T\",\"EveryTick\")","v":1733.48},-3.1857022920955273E-3,{"$f":"RTD(\"cqg.rtd\",,\"StudyData\", \"Close(\"&$D$12&\") when LocalYear(\"&$D$12&\")=\"&$D$5&\" and localMonth(\"&$D$12&\") =\"&$E$5&\" and LocalDay(\"&$D$12&\")=\"&$F$5&\" and Barix(\"&$D$12&\",reference:=StartOfSession)=\"&A52&\"\", \"Bar\", \"\", \"Close\",\"5\",\"0\",\"PrimaryOnly\",,,\"False\",\"T\",\"EveryTick\")","v":1729.45},1.1001794660446698E-2,{"$f":"RTD(\"cqg.rtd\",,\"StudyData\", \"Close(\"&$D$12&\") when LocalYear(\"&$D$12&\")=\"&$D$6&\" and localMonth(\"&$D$12&\") =\"&$E$6&\" and LocalDay(\"&$D$12&\")=\"&$F$6&\" and Barix(\"&$D$12&\",reference:=StartOfSession)=\"&A52&\"\", \"Bar\", \"\", \"Close\",\"5\",\"0\",\"PrimaryOnly\",,,\"False\",\"T\",\"EveryTick\")","v":1712.31},7.4011754808116156E-3,{"$f":"RTD(\"cqg.rtd\",,\"StudyData\", \"Close(\"&$D$12&\") when LocalYear(\"&$D$12&\")=\"&$D$7&\" and localMonth(\"&$D$12&\") =\"&$E$7&\" and LocalDay(\"&$D$12&\")=\"&$F$7&\" and Barix(\"&$D$12&\",reference:=StartOfSession)=\"&A52&\"\", \"Bar\", \"\", \"Close\",\"5\",\"0\",\"PrimaryOnly\",,,\"False\",\"T\",\"EveryTick\")","v":1701.67},4.551465205790005E-3,{"$f":"RTD(\"cqg.rtd\",,\"StudyData\", \"Close(\"&$D$12&\") when LocalYear(\"&$D$12&\")=\"&$D$8&\" and localMonth(\"&$D$12&\") =\"&$E$8&\" and LocalDay(\"&$D$12&\")=\"&$F$8&\" and Barix(\"&$D$12&\",reference:=StartOfSession)=\"&A52&\"\", \"Bar\", \"\", \"Close\",\"5\",\"0\",\"PrimaryOnly\",,,\"False\",\"T\",\"EveryTick\")","v":""},{"$error":"#N/A"},{"$f":"RTD(\"cqg.rtd\",,\"StudyData\", \"Close(\"&$D$12&\") when LocalYear(\"&$D$12&\")=\"&$D$9&\" and localMonth(\"&$D$12&\") =\"&$E$9&\" and LocalDay(\"&$D$12&\")=\"&$F$9&\" and Barix(\"&$D$12&\",reference:=StartOfSession)=\"&A52&\"\", \"Bar\", \"\", \"Close\",\"5\",\"0\",\"PrimaryOnly\",,,\"False\",\"T\",\"EveryTick\")","v":1696.62},-1.8708083303918483E-3,{"$f":"RTD(\"cqg.rtd\",,\"StudyData\", \"Close(\"&$D$12&\") when LocalYear(\"&$D$12&\")=\"&$D$10&\" and localMonth(\"&$D$12&\") =\"&$E$10&\" and LocalDay(\"&$D$12&\")=\"&$F$10&\" and Barix(\"&$D$12&\",reference:=StartOfSession)=\"&A52&\"\", \"Bar\", \"\", \"Close\",\"5\",\"0\",\"PrimaryOnly\",,,\"False\",\"T\",\"EveryTick\")","v":1705.87},2.5977842428515944E-3,null,null,null,""]
[52,"12:50:00",-25,{"$f":" RTD(\"cqg.rtd\",,\"StudyData\", $D$12,  \"Tick\", \"FlatTicks=0\", \"Tick\",\"D\",C53,\"PrimaryOnly\")","v":1808.26},null,null,null,{"$f":"RTD(\"cqg.rtd\",,\"StudyData\", \"Close(\"&$D$12&\") when LocalYear(\"&$D$12&\")=\"&$D$1&\" and localMonth(\"&$D$12&\") =\"&$E$1&\" and LocalDay(\"&$D$12&\")=\"&$F$1&\" and Barix(\"&$D$12&\",reference:=StartOfSession)=\"&A53&\"\", \"Bar\", \"\", \"Close\",\"5\",\"0\",\"PrimaryOnly\",,,\"False\",\"T\",\"EveryTick\")","v":""},{"$error":"#N/A"},{"$f":"RTD(\"cqg.rtd\",,\"StudyData\", \"Close(\"&$D$12&\") when LocalYear(\"&$D$12&\")=\"&$D$2&\" and localMonth(\"&$D$12&\") =\"&$E$2&\" and LocalDay(\"&$D$12&\")=\"&$F$2&\" and Barix(\"&$D$12&\",reference:=StartOfSession)=\"&A53&\"\", \"Bar\", \"\", \"Close\",\"5\",\"0\",\"PrimaryOnly\",,,\"False\",\"T\",\"EveryTick\")","v":1794.4},2.2450142450142502E-2,{"$f":"RTD(\"cqg.rtd\",,\"StudyData\", \"Close(\"&$D$12&\") when LocalYear(\"&$D$12&\")=\"&$D$3&\" and localMonth(\"&$D$12&\") =\"&$E$3&\" and LocalDay(\"&$D$12&\")=\"&$F$3&\" and Barix(\"&$D$12&\",reference:=StartOfSession)=\"&A53&\"\", \"Bar\", \"\", \"Close\",\"5\",\"0\",\"PrimaryOnly\",,,\"False\",\"T\",\"EveryTick\")","v":1749.55},3.7175787547258678E-3,{"$f":"RTD(\"cqg.rtd\",,\"StudyData\", \"Close(\"&$D$12&\") when LocalYear(\"&$D$12&\")=\"&$D$4&\" and localMonth(\"&$D$12&\") =\"&$E$4&\" and LocalDay(\"&$D$12&\")=\"&$F$4&\" and Barix(\"&$D$12&\",reference:=StartOfSession)=\"&A53&\"\", \"Bar\", \"\", \"Close\",\"5\",\"0\",\"PrimaryOnly\",,,\"False\",\"T\",\"EveryTick\")","v":1735.32},-2.1276351048291828E-3,{"$f":"RTD(\"cqg.rtd\",,\"StudyData\", \"Close(\"&$D$12&\") when LocalYear(\"&$D$12&\")=\"&$D$5&\" and localMonth(\"&$D$12&\") =\"&$E$5&\" and LocalDay(\"&$D$12&\")=\"&$F$5&\" and Barix(\"&$D$12&\",reference:=StartOfSession)=\"&A53&\"\", \"Bar\", \"\", \"Close\",\"5\",\"0\",\"PrimaryOnly\",,,\"False\",\"T\",\"EveryTick\")","v":1729.22},1.0867341271929006E-2,{"$f":"RTD(\"cqg.rtd\",,\"StudyData\", \"Close(\"&$D$12&\") when LocalYear(\"&$D$12&\")=\"&$D$6&\" and localMonth(\"&$D$12&\") =\"&$E$6&\" and LocalDay(\"&$D$12&\")=\"&$F$6&\" and Barix(\"&$D$12&\",reference:=StartOfSession)=\"&A53&\"\", \"Bar\", \"\", \"Close\",\"5\",\"0\",\"PrimaryOnly\",,,\"False\",\"T\",\"EveryTick\")","v":1711.54},6.9481623551975579E-3,{"$f":"RTD(\"cqg.rtd\",,\"StudyData\", \"Close(\"&$D$12&\") when LocalYear(\"&$D$12&\")=\"&$D$7&\" and localMonth(\"&$D$12&\") =\"&$E$7&\" and LocalDay(\"&$D$12&\")=\"&$F$7&\" and Barix(\"&$D$12&\",reference:=StartOfSession)=\"&A53&\"\", \"Bar\", \"\", \"Close\",\"5\",\"0\",\"PrimaryOnly\",,,\"False\",\"T\",\"EveryTick\")","v":1700.72},3.9906491298495779E-3,{"$f":"RTD(\"cqg.rtd\",,\"StudyData\", \"Close(\"&$D$12&\") when LocalYear(\"&$D$12&\")=\"&$D$8&\" and localMonth(\"&$D$12&\") =\"&$E$8&\" and LocalDay(\"&$D$12&\")=\"&$F$8&\" and Barix(\"&$D$12&\",reference:=StartOfSession)=\"&A53&\"\", \"Bar\", \"\", \"Close\",\"5\",\"0\",\"PrimaryOnly\",,,\"False\",\"T\",\"EveryTick\")","v":""},{"$error":"#N/A"},{"$f":"RTD(\"cqg.rtd\",,\"StudyData\", \"Close(\"&$D$12&\") when LocalYear(\"&$D$12&\")=\"&$D$9&\" and localMonth(\"&$D$12&\") =\"&$E$9&\" and LocalDay(\"&$D$12&\")=\"&$F$9&\" and Barix(\"&$D$12&\",reference:=StartOfSession)=\"&A53&\"\", \"Bar\", \"\", \"Close\",\"5\",\"0\",\"PrimaryOnly\",,,\"False\",\"T\",\"EveryTick\")","v":1698.68},-6.5890104718195727E-4,{"$f":"RTD(\"cqg.rtd\",,\"StudyData\", \"Close(\"&$D$12&\") when LocalYear(\"&$D$12&\")=\"&$D$10&\" and localMonth(\"&$D$12&\") =\"&$E$10&\" and LocalDay(\"&$D$12&\")=\"&$F$10&\" and Barix(\"&$D$12&\",reference:=StartOfSession)=\"&A53&\"\", \"Bar\", \"\", \"Close\",\"5\",\"0\",\"PrimaryOnly\",,,\"False\",\"T\",\"EveryTick\")","v":1704.67},1.8925034529372166E-3,null,null,null,""]
[53,"12:55:00",-24,{"$f":" RTD(\"cqg.rtd\",,\"StudyData\", $D$12,  \"Tick\", \"FlatTicks=0\", \"Tick\",\"D\",C54,\"PrimaryOnly\")","v":1807.84},null,null,null,{"$f":"RTD(\"cqg.rtd\",,\"StudyData\", \"Close(\"&$D$12&\") when LocalYear(\"&$D$12&\")=\"&$D$1&\" and localMonth(\"&$D$12&\") =\"&$E$1&\" and LocalDay(\"&$D$12&\")=\"&$F$1&\" and Barix(\"&$D$12&\",reference:=StartOfSession)=\"&A54&\"\", \"Bar\", \"\", \"Close\",\"5\",\"0\",\"PrimaryOnly\",,,\"False\",\"T\",\"EveryTick\")","v":""},{"$error":"#N/A"},{"$f":"RTD(\"cqg.rtd\",,\"StudyData\", \"Close(\"&$D$12&\") when LocalYear(\"&$D$12&\")=\"&$D$2&\" and localMonth(\"&$D$12&\") =\"&$E$2&\" and LocalDay(\"&$D$12&\")=\"&$F$2&\" and Barix(\"&$D$12&\",reference:=StartOfSession)=\"&A54&\"\", \"Bar\", \"\", \"Close\",\"5\",\"0\",\"PrimaryOnly\",,,\"False\",\"T\",\"EveryTick\")","v":1788.88},1.9304843304843368E-2,{"$f":"RTD(\"cqg.rtd\",,\"StudyData\", \"Close(\"&$D$12&\") when LocalYear(\"&$D$12&\")=\"&$D$3&\" and localMonth(\"&$D$12&\") =\"&$E$3&\" and LocalDay(\"&$D$12&\")=\"&$F$3&\" and Barix(\"&$D$12&\",reference:=StartOfSession)=\"&A54&\"\", \"Bar\", \"\", \"Close\",\"5\",\"0\",\"PrimaryOnly\",,,\"False\",\"T\",\"EveryTick\")","v":1748.92},3.3561474869053661E-3,{"$f":"RTD(\"cqg.rtd\",,\"StudyData\", \"Close(\"&$D$12&\") when LocalYear(\"&$D$12&\")=\"&$D$4&\" and localMonth(\"&$D$12&\") =\"&$E$4&\" and LocalDay(\"&$D$12&\")=\"&$F$4&\" and Barix(\"&$D$12&\",reference:=StartOfSession)=\"&A54&\"\", \"Bar\", \"\", \"Close\",\"5\",\"0\",\"PrimaryOnly\",,,\"False\",\"T\",\"EveryTick\")","v":1737.61},-8.1080148589440142E-4,{"$f":"RTD(\"cqg.rtd\",,\"StudyData\", \"Close(\"&$D$12&\") when LocalYear(\"&$D$12&\")=\"&$D$5&\" and localMonth(\"&$D$12&\") =\"&$E$5&\" and LocalDay(\"&$D$12&\")=\"&$F$5&\" and Barix(\"&$D$12&\",reference:=StartOfSession)=\"&A54&\"\", \"Bar\", \"\", \"Close\",\"5\",\"0\",\"PrimaryOnly\",,,\"False\",\"T\",\"EveryTick\")","v":1730.06},1.1358388429993531E-2,{"$f":"RTD(\"cqg.rtd\",,\"StudyData\", \"Close(\"&$D$12&\") when LocalYear(\"&$D$12&\")=\"&$D$6&\" and localMonth(\"&$D$12&\") =\"&$E$6&\" and LocalDay(\"&$D$12&\")=\"&$F$6&\" and Barix(\"&$D$12&\",reference:=StartOfSession)=\"&A54&\"\", \"Bar\", \"\", \"Close\",\"5\",\"0\",\"PrimaryOnly\",,,\"False\",\"T\",\"EveryTick\")","v":1710.44},6.3010007471775145E-3,{"$f":"RTD(\"cqg.rtd\",,\"StudyData\", \"Close(\"&$D$12&\") when LocalYear(\"&$D$12&\")=\"&$D$7&\" and localMonth(\"&$D$12&\") =\"&$E$7&\" and LocalDay(\"&$D$12&\")=\"&$F$7&\" and Barix(\"&$D$12&\",reference:=StartOfSession)=\"&A54&\"\", \"Bar\", \"\", \"Close\",\"5\",\"0\",\"PrimaryOnly\",,,\"False\",\"T\",\"EveryTick\")","v":1701},4.1559422890741007E-3,{"$f":"RTD(\"cqg.rtd\",,\"StudyData\", \"Close(\"&$D$12&\") when LocalYear(\"&$D$12&\")=\"&$D$8&\" and localMonth(\"&$D$12&\") =\"&$E$8&\" and LocalDay(\"&$D$12&\")=\"&$F$8&\" and Barix(\"&$D$12&\",reference:=StartOfSession)=\"&A54&\"\", \"Bar\", \"\", \"Close\",\"5\",\"0\",\"PrimaryOnly\",,,\"False\",\"T\",\"EveryTick\")","v":""},{"$error":"#N/A"},{"$f":"RTD(\"cqg.rtd\",,\"StudyData\", \"Close(\"&$D$12&\") when LocalYear(\"&$D$12&\")=\"&$D$9&\" and localMonth(\"&$D$12&\") =\"&$E$9&\" and LocalDay(\"&$D$12&\")=\"&$F$9&\" and Barix(\"&$D$12&\",reference:=StartOfSession)=\"&A54&\"\", \"Bar\", \"\", \"Close\",\"5\",\"0\",\"PrimaryOnly\",,,\"False\",\"T\",\"EveryTick\")","v":1698.26},-9.0598893987525807E-4,{"$f":"RTD(\"cqg.rtd\",,\"StudyData\", \"Close(\"&$D$12&\") when LocalYear(\"&$D$12&\")=\"&$D$10&\" and localMonth(\"&$D$12&\") =\"&$E$10&\" and LocalDay(\"&$D$12&\")=\"&$F$10&\" and Barix(\"&$D$12&\",reference:=StartOfSession)=\"&A54&\"\", \"Bar\", \"\", \"Close\",\"5\",\"0\",\"PrimaryOnly\",,,\"False\",\"T\",\"EveryTick\")","v":1705.54},2.4038320256251538E-3,null,null,null,""]
[54,"13:00:00",-23,{"$f":" RTD(\"cqg.rtd\",,\"StudyData\", $D$12,  \"Tick\", \"FlatTicks=0\", \"Tick\",\"D\",C55,\"PrimaryOnly\")","v":1808.2},null,null,null,{"$f":"RTD(\"cqg.rtd\",,\"StudyData\", \"Close(\"&$D$12&\") when LocalYear(\"&$D$12&\")=\"&$D$1&\" and localMonth(\"&$D$12&\") =\"&$E$1&\" and LocalDay(\"&$D$12&\")=\"&$F$1&\" and Barix(\"&$D$12&\",reference:=StartOfSession)=\"&A55&\"\", \"Bar\", \"\", \"Close\",\"5\",\"0\",\"PrimaryOnly\",,,\"False\",\"T\",\"EveryTick\")","v":""},{"$error":"#N/A"},{"$f":"RTD(\"cqg.rtd\",,\"StudyData\", \"Close(\"&$D$12&\") when LocalYear(\"&$D$12&\")=\"&$D$2&\" and localMonth(\"&$D$12&\") =\"&$E$2&\" and LocalDay(\"&$D$12&\")=\"&$F$2&\" and Barix(\"&$D$12&\",reference:=StartOfSession)=\"&A55&\"\", \"Bar\", \"\", \"Close\",\"5\",\"0\",\"PrimaryOnly\",,,\"False\",\"T\",\"EveryTick\")","v":1790.92},2.046723646723651E-2,{"$f":"RTD(\"cqg.rtd\",,\"StudyData\", \"Close(\"&$D$12&\") when LocalYear(\"&$D$12&\")=\"&$D$3&\" and localMonth(\"&$D$12&\") =\"&$E$3&\" and LocalDay(\"&$D$12&\")=\"&$F$3&\" and Barix(\"&$D$12&\",reference:=StartOfSession)=\"&A55&\"\", \"Bar\", \"\", \"Close\",\"5\",\"0\",\"PrimaryOnly\",,,\"False\",\"T\",\"EveryTick\")","v":1749.3},3.574153648447864E-3,{"$f":"RTD(\"cqg.rtd\",,\"StudyData\", \"Close(\"&$D$12&\") when LocalYear(\"&$D$12&\")=\"&$D$4&\" and localMonth(\"&$D$12&\") =\"&$E$4&\" and LocalDay(\"&$D$12&\")=\"&$F$4&\" and Barix(\"&$D$12&\",reference:=StartOfSession)=\"&A55&\"\", \"Bar\", \"\", \"Close\",\"5\",\"0\",\"PrimaryOnly\",,,\"False\",\"T\",\"EveryTick\")","v":1739.54},2.9901898770570885E-4,{"$f":"RTD(\"cqg.rtd\",,\"StudyData\", \"Close(\"&$D$12&\") when LocalYear(\"&$D$12&\")=\"&$D$5&\" and localMonth(\"&$D$12&\") =\"&$E$5&\" and LocalDay(\"&$D$12&\")=\"&$F$5&\" and Barix(\"&$D$12&\",reference:=StartOfSession)=\"&A55&\"\", \"Bar\", \"\", \"Close\",\"5\",\"0\",\"PrimaryOnly\",,,\"False\",\"T\",\"EveryTick\")","v":1729.32},1.0925799266936641E-2,{"$f":"RTD(\"cqg.rtd\",,\"StudyData\", \"Close(\"&$D$12&\") when LocalYear(\"&$D$12&\")=\"&$D$6&\" and localMonth(\"&$D$12&\") =\"&$E$6&\" and LocalDay(\"&$D$12&\")=\"&$F$6&\" and Barix(\"&$D$12&\",reference:=StartOfSession)=\"&A55&\"\", \"Bar\", \"\", \"Close\",\"5\",\"0\",\"PrimaryOnly\",,,\"False\",\"T\",\"EveryTick\")","v":1708.85},5.3655580592211058E-3,{"$f":"RTD(\"cqg.rtd\",,\"StudyData\", \"Close(\"&$D$12&\") when LocalYear(\"&$D$12&\")=\"&$D$7&\" and localMonth(\"&$D$12&\") =\"&$E$7&\" and LocalDay(\"&$D$12&\")=\"&$F$7&\" and Barix(\"&$D$12&\",reference:=StartOfSession)=\"&A55&\"\", \"Bar\", \"\", \"Close\",\"5\",\"0\",\"PrimaryOnly\",,,\"False\",\"T\",\"EveryTick\")","v":1698.42},2.6328838933623202E-3,{"$f":"RTD(\"cqg.rtd\",,\"StudyData\", \"Close(\"&$D$12&\") when LocalYear(\"&$D$12&\")=\"&$D$8&\" and localMonth(\"&$D$12&\") =\"&$E$8&\" and LocalDay(\"&$D$12&\")=\"&$F$8&\" and Barix(\"&$D$12&\",reference:=StartOfSession)=\"&A55&\"\", \"Bar\", \"\", \"Close\",\"5\",\"0\",\"PrimaryOnly\",,,\"False\",\"T\",\"EveryTick\")","v":""},{"$error":"#N/A"},{"$f":"RTD(\"cqg.rtd\",,\"StudyData\", \"Close(\"&$D$12&\") when LocalYear(\"&$D$12&\")=\"&$D$9&\" and localMonth(\"&$D$12&\") =\"&$E$9&\" and LocalDay(\"&$D$12&\")=\"&$F$9&\" and Barix(\"&$D$12&\",reference:=StartOfSession)=\"&A55&\"\", \"Bar\", \"\", \"Close\",\"5\",\"0\",\"PrimaryOnly\",,,\"False\",\"T\",\"EveryTick\")","v":1700.39},3.4709965878347191E-4,{"$f":"RTD(\"cqg.rtd\",,\"StudyData\", \"Close(\"&$D$12&\") when LocalYear(\"&$D$12&\")=\"&$D$10&\" and localMonth(\"&$D$12&\") =\"&$E$10&\" and LocalDay(\"&$D$12&\")=\"&$F$10&\" and Barix(\"&$D$12&\",reference:=StartOfSession)=\"&A55&\"\", \"Bar\", \"\", \"Close\",\"5\",\"0\",\"PrimaryOnly\",,,\"False\",\"T\",\"EveryTick\")","v":1705.88},2.6036615827676767E-3,null,null,null,""]
[55,"13:05:00",-22,{"$f":" RTD(\"cqg.rtd\",,\"StudyData\", $D$12,  \"Tick\", \"FlatTicks=0\", \"Tick\",\"D\",C56,\"PrimaryOnly\")","v":1808.02},null,null,null,{"$f":"RTD(\"cqg.rtd\",,\"StudyData\", \"Close(\"&$D$12&\") when LocalYear(\"&$D$12&\")=\"&$D$1&\" and localMonth(\"&$D$12&\") =\"&$E$1&\" and LocalDay(\"&$D$12&\")=\"&$F$1&\" and Barix(\"&$D$12&\",reference:=StartOfSession)=\"&A56&\"\", \"Bar\", \"\", \"Close\",\"5\",\"0\",\"PrimaryOnly\",,,\"False\",\"T\",\"EveryTick\")","v":""},{"$error":"#N/A"},{"$f":"RTD(\"cqg.rtd\",,\"StudyData\", \"Close(\"&$D$12&\") when LocalYear(\"&$D$12&\")=\"&$D$2&\" and localMonth(\"&$D$12&\") =\"&$E$2&\" and LocalDay(\"&$D$12&\")=\"&$F$2&\" and Barix(\"&$D$12&\",reference:=StartOfSession)=\"&A56&\"\", \"Bar\", \"\", \"Close\",\"5\",\"0\",\"PrimaryOnly\",,,\"False\",\"T\",\"EveryTick\")","v":1786.56},1.7982905982905951E-2,{"$f":"RTD(\"cqg.rtd\",,\"StudyData\", \"Close(\"&$D$12&\") when LocalYear(\"&$D$12&\")=\"&$D$3&\" and localMonth(\"&$D$12&\") =\"&$E$3&\" and LocalDay(\"&$D$12&\")=\"&$F$3&\" and Barix(\"&$D$12&\",reference:=StartOfSession)=\"&A56&\"\", \"Bar\", \"\", \"Close\",\"5\",\"0\",\"PrimaryOnly\",,,\"False\",\"T\",\"EveryTick\")","v":1748.54},3.1381413253627377E-3,{"$f":"RTD(\"cqg.rtd\",,\"StudyData\", \"Close(\"&$D$12&\") when LocalYear(\"&$D$12&\")=\"&$D$4&\" and localMonth(\"&$D$12&\") =\"&$E$4&\" and LocalDay(\"&$D$12&\")=\"&$F$4&\" and Barix(\"&$D$12&\",reference:=StartOfSession)=\"&A56&\"\", \"Bar\", \"\", \"Close\",\"5\",\"0\",\"PrimaryOnly\",,,\"False\",\"T\",\"EveryTick\")","v":1738.78},-1.3800876355649108E-4,{"$f":"RTD(\"cqg.rtd\",,\"StudyData\", \"Close(\"&$D$12&\") when LocalYear(\"&$D$12&\")=\"&$D$5&\" and localMonth(\"&$D$12&\") =\"&$E$5&\" and LocalDay(\"&$D$12&\")=\"&$F$5&\" and Barix(\"&$D$12&\",reference:=StartOfSession)=\"&A56&\"\", \"Bar\", \"\", \"Close\",\"5\",\"0\",\"PrimaryOnly\",,,\"False\",\"T\",\"EveryTick\")","v":1729.43},1.0990103061445171E-2,{"$f":"RTD(\"cqg.rtd\",,\"StudyData\", \"Close(\"&$D$12&\") when LocalYear(\"&$D$12&\")=\"&$D$6&\" and localMonth(\"&$D$12&\") =\"&$E$6&\" and LocalDay(\"&$D$12&\")=\"&$F$6&\" and Barix(\"&$D$12&\",reference:=StartOfSession)=\"&A56&\"\", \"Bar\", \"\", \"Close\",\"5\",\"0\",\"PrimaryOnly\",,,\"False\",\"T\",\"EveryTick\")","v":1709.73},5.8832873456372481E-3,{"$f":"RTD(\"cqg.rtd\",,\"StudyData\", \"Close(\"&$D$12&\") when LocalYear(\"&$D$12&\")=\"&$D$7&\" and localMonth(\"&$D$12&\") =\"&$E$7&\" and LocalDay(\"&$D$12&\")=\"&$F$7&\" and Barix(\"&$D$12&\",reference:=StartOfSession)=\"&A56&\"\", \"Bar\", \"\", \"Close\",\"5\",\"0\",\"PrimaryOnly\",,,\"False\",\"T\",\"EveryTick\")","v":1696.5},1.4994450872511532E-3,{"$f":"RTD(\"cqg.rtd\",,\"StudyData\", \"Close(\"&$D$12&\") when LocalYear(\"&$D$12&\")=\"&$D$8&\" and localMonth(\"&$D$12&\") =\"&$E$8&\" and LocalDay(\"&$D$12&\")=\"&$F$8&\" and Barix(\"&$D$12&\",reference:=StartOfSession)=\"&A56&\"\", \"Bar\", \"\", \"Close\",\"5\",\"0\",\"PrimaryOnly\",,,\"False\",\"T\",\"EveryTick\")","v":""},{"$error":"#N/A"},{"$f":"RTD(\"cqg.rtd\",,\"StudyData\", \"Close(\"&$D$12&\") when LocalYear(\"&$D$12&\")=\"&$D$9&\" and localMonth(\"&$D$12&\") =\"&$E$9&\" and LocalDay(\"&$D$12&\")=\"&$F$9&\" and Barix(\"&$D$12&\",reference:=StartOfSession)=\"&A56&\"\", \"Bar\", \"\", \"Close\",\"5\",\"0\",\"PrimaryOnly\",,,\"False\",\"T\",\"EveryTick\")","v":1702.8},1.7649135192375574E-3,{"$f":"RTD(\"cqg.rtd\",,\"StudyData\", \"Close(\"&$D$12&\") when LocalYear(\"&$D$12&\")=\"&$D$10&\" and localMonth(\"&$D$12&\") =\"&$E$10&\" and LocalDay(\"&$D$12&\")=\"&$F$10&\" and Barix(\"&$D$12&\",reference:=StartOfSession)=\"&A56&\"\", \"Bar\", \"\", \"Close\",\"5\",\"0\",\"PrimaryOnly\",,,\"False\",\"T\",\"EveryTick\")","v":1705.76},2.5331335037761587E-3,null,null,null,""]
[56,"13:10:00",-21,{"$f":" RTD(\"cqg.rtd\",,\"StudyData\", $D$12,  \"Tick\", \"FlatTicks=0\", \"Tick\",\"D\",C57,\"PrimaryOnly\")","v":1807.8},null,null,null,{"$f":"RTD(\"cqg.rtd\",,\"StudyData\", \"Close(\"&$D$12&\") when LocalYear(\"&$D$12&\")=\"&$D$1&\" and localMonth(\"&$D$12&\") =\"&$E$1&\" and LocalDay(\"&$D$12&\")=\"&$F$1&\" and Barix(\"&$D$12&\",reference:=StartOfSession)=\"&A57&\"\", \"Bar\", \"\", \"Close\",\"5\",\"0\",\"PrimaryOnly\",,,\"False\",\"T\",\"EveryTick\")","v":""},{"$error":"#N/A"},{"$f":"RTD(\"cqg.rtd\",,\"StudyData\", \"Close(\"&$D$12&\") when LocalYear(\"&$D$12&\")=\"&$D$2&\" and localMonth(\"&$D$12&\") =\"&$E$2&\" and LocalDay(\"&$D$12&\")=\"&$F$2&\" and Barix(\"&$D$12&\",reference:=StartOfSession)=\"&A57&\"\", \"Bar\", \"\", \"Close\",\"5\",\"0\",\"PrimaryOnly\",,,\"False\",\"T\",\"EveryTick\")","v":1789.78},1.9817663817663801E-2,{"$f":"RTD(\"cqg.rtd\",,\"StudyData\", \"Close(\"&$D$12&\") when LocalYear(\"&$D$12&\")=\"&$D$3&\" and localMonth(\"&$D$12&\") =\"&$E$3&\" and LocalDay(\"&$D$12&\")=\"&$F$3&\" and Barix(\"&$D$12&\",reference:=StartOfSession)=\"&A57&\"\", \"Bar\", \"\", \"Close\",\"5\",\"0\",\"PrimaryOnly\",,,\"False\",\"T\",\"EveryTick\")","v":1746.09},1.732575283838275E-3,{"$f":"RTD(\"cqg.rtd\",,\"StudyData\", \"Close(\"&$D$12&\") when LocalYear(\"&$D$12&\")=\"&$D$4&\" and localMonth(\"&$D$12&\") =\"&$E$4&\" and LocalDay(\"&$D$12&\")=\"&$F$4&\" and Barix(\"&$D$12&\",reference:=StartOfSession)=\"&A57&\"\", \"Bar\", \"\", \"Close\",\"5\",\"0\",\"PrimaryOnly\",,,\"False\",\"T\",\"EveryTick\")","v":1740.35},7.6479856470881716E-4,{"$f":"RTD(\"cqg.rtd\",,\"StudyData\", \"Close(\"&$D$12&\") when LocalYear(\"&$D$12&\")=\"&$D$5&\" and localMonth(\"&$D$12&\") =\"&$E$5&\" and LocalDay(\"&$D$12&\")=\"&$F$5&\" and Barix(\"&$D$12&\",reference:=StartOfSession)=\"&A57&\"\", \"Bar\", \"\", \"Close\",\"5\",\"0\",\"PrimaryOnly\",,,\"False\",\"T\",\"EveryTick\")","v":1730.37},1.1539608214517331E-2,{"$f":"RTD(\"cqg.rtd\",,\"StudyData\", \"Close(\"&$D$12&\") when LocalYear(\"&$D$12&\")=\"&$D$6&\" and localMonth(\"&$D$12&\") =\"&$E$6&\" and LocalDay(\"&$D$12&\")=\"&$F$6&\" and Barix(\"&$D$12&\",reference:=StartOfSession)=\"&A57&\"\", \"Bar\", \"\", \"Close\",\"5\",\"0\",\"PrimaryOnly\",,,\"False\",\"T\",\"EveryTick\")","v":1709.62},5.8185711848351635E-3,{"$f":"RTD(\"cqg.rtd\",,\"StudyData\", \"Close(\"&$D$12&\") when LocalYear(\"&$D$12&\")=\"&$D$7&\" and localMonth(\"&$D$12&\") =\"&$E$7&\" and LocalDay(\"&$D$12&\")=\"&$F$7&\" and Barix(\"&$D$12&\",reference:=StartOfSession)=\"&A57&\"\", \"Bar\", \"\", \"Close\",\"5\",\"0\",\"PrimaryOnly\",,,\"False\",\"T\",\"EveryTick\")","v":1694.99},6.0804269286168073E-4,{"$f":"RTD(\"cqg.rtd\",,\"StudyData\", \"Close(\"&$D$12&\") when LocalYear(\"&$D$12&\")=\"&$D$8&\" and localMonth(\"&$D$12&\") =\"&$E$8&\" and LocalDay(\"&$D$12&\")=\"&$F$8&\" and Barix(\"&$D$12&\",reference:=StartOfSession)=\"&A57&\"\", \"Bar\", \"\", \"Close\",\"5\",\"0\",\"PrimaryOnly\",,,\"False\",\"T\",\"EveryTick\")","v":""},{"$error":"#N/A"},{"$f":"RTD(\"cqg.rtd\",,\"StudyData\", \"Close(\"&$D$12&\") when LocalYear(\"&$D$12&\")=\"&$D$9&\" and localMonth(\"&$D$12&\") =\"&$E$9&\" and LocalDay(\"&$D$12&\")=\"&$F$9&\" and Barix(\"&$D$12&\",reference:=StartOfSession)=\"&A57&\"\", \"Bar\", \"\", \"Close\",\"5\",\"0\",\"PrimaryOnly\",,,\"False\",\"T\",\"EveryTick\")","v":1704.99},3.0533003882810064E-3,{"$f":"RTD(\"cqg.rtd\",,\"StudyData\", \"Close(\"&$D$12&\") when LocalYear(\"&$D$12&\")=\"&$D$10&\" and localMonth(\"&$D$12&\") =\"&$E$10&\" and LocalDay(\"&$D$12&\")=\"&$F$10&\" and Barix(\"&$D$12&\",reference:=StartOfSession)=\"&A57&\"\", \"Bar\", \"\", \"Close\",\"5\",\"0\",\"PrimaryOnly\",,,\"False\",\"T\",\"EveryTick\")","v":1705.74},2.5213788239442612E-3,null,null,null,""]
[57,"13:15:00",-20,{"$f":" RTD(\"cqg.rtd\",,\"StudyData\", $D$12,  \"Tick\", \"FlatTicks=0\", \"Tick\",\"D\",C58,\"PrimaryOnly\")","v":1808.34},null,null,null,{"$f":"RTD(\"cqg.rtd\",,\"StudyData\", \"Close(\"&$D$12&\") when LocalYear(\"&$D$12&\")=\"&$D$1&\" and localMonth(\"&$D$12&\") =\"&$E$1&\" and LocalDay(\"&$D$12&\")=\"&$F$1&\" and Barix(\"&$D$12&\",reference:=StartOfSession)=\"&A58&\"\", \"Bar\", \"\", \"Close\",\"5\",\"0\",\"PrimaryOnly\",,,\"False\",\"T\",\"EveryTick\")","v":""},{"$error":"#N/A"},{"$f":"RTD(\"cqg.rtd\",,\"StudyData\", \"Close(\"&$D$12&\") when LocalYear(\"&$D$12&\")=\"&$D$2&\" and localMonth(\"&$D$12&\") =\"&$E$2&\" and LocalDay(\"&$D$12&\")=\"&$F$2&\" and Barix(\"&$D$12&\",reference:=StartOfSession)=\"&A58&\"\", \"Bar\", \"\", \"Close\",\"5\",\"0\",\"PrimaryOnly\",,,\"False\",\"T\",\"EveryTick\")","v":1791.96},2.1059829059829081E-2,{"$f":"RTD(\"cqg.rtd\",,\"StudyData\", \"Close(\"&$D$12&\") when LocalYear(\"&$D$12&\")=\"&$D$3&\" and localMonth(\"&$D$12&\") =\"&$E$3&\" and LocalDay(\"&$D$12&\")=\"&$F$3&\" and Barix(\"&$D$12&\",reference:=StartOfSession)=\"&A58&\"\", \"Bar\", \"\", \"Close\",\"5\",\"0\",\"PrimaryOnly\",,,\"False\",\"T\",\"EveryTick\")","v":1747.08},2.3005387046991749E-3,{"$f":"RTD(\"cqg.rtd\",,\"StudyData\", \"Close(\"&$D$12&\") when LocalYear(\"&$D$12&\")=\"&$D$4&\" and localMonth(\"&$D$12&\") =\"&$E$4&\" and LocalDay(\"&$D$12&\")=\"&$F$4&\" and Barix(\"&$D$12&\",reference:=StartOfSession)=\"&A58&\"\", \"Bar\", \"\", \"Close\",\"5\",\"0\",\"PrimaryOnly\",,,\"False\",\"T\",\"EveryTick\")","v":1739.39},2.1276351048298367E-4,{"$f":"RTD(\"cqg.rtd\",,\"StudyData\", \"Close(\"&$D$12&\") when LocalYear(\"&$D$12&\")=\"&$D$5&\" and localMonth(\"&$D$12&\") =\"&$E$5&\" and LocalDay(\"&$D$12&\")=\"&$F$5&\" and Barix(\"&$D$12&\",reference:=StartOfSession)=\"&A58&\"\", \"Bar\", \"\", \"Close\",\"5\",\"0\",\"PrimaryOnly\",,,\"False\",\"T\",\"EveryTick\")","v":1730.18},1.1428538024002826E-2,{"$f":"RTD(\"cqg.rtd\",,\"StudyData\", \"Close(\"&$D$12&\") when LocalYear(\"&$D$12&\")=\"&$D$6&\" and localMonth(\"&$D$12&\") =\"&$E$6&\" and LocalDay(\"&$D$12&\")=\"&$F$6&\" and Barix(\"&$D$12&\",reference:=StartOfSession)=\"&A58&\"\", \"Bar\", \"\", \"Close\",\"5\",\"0\",\"PrimaryOnly\",,,\"False\",\"T\",\"EveryTick\")","v":1710.36},6.2539344484123256E-3,{"$f":"RTD(\"cqg.rtd\",,\"StudyData\", \"Close(\"&$D$12&\") when LocalYear(\"&$D$12&\")=\"&$D$7&\" and localMonth(\"&$D$12&\") =\"&$E$7&\" and LocalDay(\"&$D$12&\")=\"&$F$7&\" and Barix(\"&$D$12&\",reference:=StartOfSession)=\"&A58&\"\", \"Bar\", \"\", \"Close\",\"5\",\"0\",\"PrimaryOnly\",,,\"False\",\"T\",\"EveryTick\")","v":1697.66},2.1842310326100059E-3,{"$f":"RTD(\"cqg.rtd\",,\"StudyData\", \"Close(\"&$D$12&\") when LocalYear(\"&$D$12&\")=\"&$D$8&\" and localMonth(\"&$D$12&\") =\"&$E$8&\" and LocalDay(\"&$D$12&\")=\"&$F$8&\" and Barix(\"&$D$12&\",reference:=StartOfSession)=\"&A58&\"\", \"Bar\", \"\", \"Close\",\"5\",\"0\",\"PrimaryOnly\",,,\"False\",\"T\",\"EveryTick\")","v":""},{"$error":"#N/A"},{"$f":"RTD(\"cqg.rtd\",,\"StudyData\", \"Close(\"&$D$12&\") when LocalYear(\"&$D$12&\")=\"&$D$9&\" and localMonth(\"&$D$12&\") =\"&$E$9&\" and LocalDay(\"&$D$12&\")=\"&$F$9&\" and Barix(\"&$D$12&\",reference:=StartOfSession)=\"&A58&\"\", \"Bar\", \"\", \"Close\",\"5\",\"0\",\"PrimaryOnly\",,,\"False\",\"T\",\"EveryTick\")","v":1706.91},4.1828450405930863E-3,{"$f":"RTD(\"cqg.rtd\",,\"StudyData\", \"Close(\"&$D$12&\") when LocalYear(\"&$D$12&\")=\"&$D$10&\" and localMonth(\"&$D$12&\") =\"&$E$10&\" and LocalDay(\"&$D$12&\")=\"&$F$10&\" and Barix(\"&$D$12&\",reference:=StartOfSession)=\"&A58&\"\", \"Bar\", \"\", \"Close\",\"5\",\"0\",\"PrimaryOnly\",,,\"False\",\"T\",\"EveryTick\")","v":1706.23},2.8093684798260144E-3,null,null,null,""]
[58,"13:20:00",-19,{"$f":" RTD(\"cqg.rtd\",,\"StudyData\", $D$12,  \"Tick\", \"FlatTicks=0\", \"Tick\",\"D\",C59,\"PrimaryOnly\")","v":1808.35},null,null,null,{"$f":"RTD(\"cqg.rtd\",,\"StudyData\", \"Close(\"&$D$12&\") when LocalYear(\"&$D$12&\")=\"&$D$1&\" and localMonth(\"&$D$12&\") =\"&$E$1&\" and LocalDay(\"&$D$12&\")=\"&$F$1&\" and Barix(\"&$D$12&\",reference:=StartOfSession)=\"&A59&\"\", \"Bar\", \"\", \"Close\",\"5\",\"0\",\"PrimaryOnly\",,,\"False\",\"T\",\"EveryTick\")","v":""},{"$error":"#N/A"},{"$f":"RTD(\"cqg.rtd\",,\"StudyData\", \"Close(\"&$D$12&\") when LocalYear(\"&$D$12&\")=\"&$D$2&\" and localMonth(\"&$D$12&\") =\"&$E$2&\" and LocalDay(\"&$D$12&\")=\"&$F$2&\" and Barix(\"&$D$12&\",reference:=StartOfSession)=\"&A59&\"\", \"Bar\", \"\", \"Close\",\"5\",\"0\",\"PrimaryOnly\",,,\"False\",\"T\",\"EveryTick\")","v":1793.79},2.210256410256408E-2,{"$f":"RTD(\"cqg.rtd\",,\"StudyData\", \"Close(\"&$D$12&\") when LocalYear(\"&$D$12&\")=\"&$D$3&\" and localMonth(\"&$D$12&\") =\"&$E$3&\" and LocalDay(\"&$D$12&\")=\"&$F$3&\" and Barix(\"&$D$12&\",reference:=StartOfSession)=\"&A59&\"\", \"Bar\", \"\", \"Close\",\"5\",\"0\",\"PrimaryOnly\",,,\"False\",\"T\",\"EveryTick\")","v":1748.24},2.9660311978291594E-3,{"$f":"RTD(\"cqg.rtd\",,\"StudyData\", \"Close(\"&$D$12&\") when LocalYear(\"&$D$12&\")=\"&$D$4&\" and localMonth(\"&$D$12&\") =\"&$E$4&\" and LocalDay(\"&$D$12&\")=\"&$F$4&\" and Barix(\"&$D$12&\",reference:=StartOfSession)=\"&A59&\"\", \"Bar\", \"\", \"Close\",\"5\",\"0\",\"PrimaryOnly\",,,\"False\",\"T\",\"EveryTick\")","v":1739.25},1.3225839840830939E-4,{"$f":"RTD(\"cqg.rtd\",,\"StudyData\", \"Close(\"&$D$12&\") when LocalYear(\"&$D$12&\")=\"&$D$5&\" and localMonth(\"&$D$12&\") =\"&$E$5&\" and LocalDay(\"&$D$12&\")=\"&$F$5&\" and Barix(\"&$D$12&\",reference:=StartOfSession)=\"&A59&\"\", \"Bar\", \"\", \"Close\",\"5\",\"0\",\"PrimaryOnly\",,,\"False\",\"T\",\"EveryTick\")","v":1730.84},1.1814360791053476E-2,{"$f":"RTD(\"cqg.rtd\",,\"StudyData\", \"Close(\"&$D$12&\") when LocalYear(\"&$D$12&\")=\"&$D$6&\" and localMonth(\"&$D$12&\") =\"&$E$6&\" and LocalDay(\"&$D$12&\")=\"&$F$6&\" and Barix(\"&$D$12&\",reference:=StartOfSession)=\"&A59&\"\", \"Bar\", \"\", \"Close\",\"5\",\"0\",\"PrimaryOnly\",,,\"False\",\"T\",\"EveryTick\")","v":1710.46},6.3127673218687777E-3,{"$f":"RTD(\"cqg.rtd\",,\"StudyData\", \"Close(\"&$D$12&\") when LocalYear(\"&$D$12&\")=\"&$D$7&\" and localMonth(\"&$D$12&\") =\"&$E$7&\" and LocalDay(\"&$D$12&\")=\"&$F$7&\" and Barix(\"&$D$12&\",reference:=StartOfSession)=\"&A59&\"\", \"Bar\", \"\", \"Close\",\"5\",\"0\",\"PrimaryOnly\",,,\"False\",\"T\",\"EveryTick\")","v":1697.37},2.0130345462701922E-3,{"$f":"RTD(\"cqg.rtd\",,\"StudyData\", \"Close(\"&$D$12&\") when LocalYear(\"&$D$12&\")=\"&$D$8&\" and localMonth(\"&$D$12&\") =\"&$E$8&\" and LocalDay(\"&$D$12&\")=\"&$F$8&\" and Barix(\"&$D$12&\",reference:=StartOfSession)=\"&A59&\"\", \"Bar\", \"\", \"Close\",\"5\",\"0\",\"PrimaryOnly\",,,\"False\",\"T\",\"EveryTick\")","v":""},{"$error":"#N/A"},{"$f":"RTD(\"cqg.rtd\",,\"StudyData\", \"Close(\"&$D$12&\") when LocalYear(\"&$D$12&\")=\"&$D$9&\" and localMonth(\"&$D$12&\") =\"&$E$9&\" and LocalDay(\"&$D$12&\")=\"&$F$9&\" and Barix(\"&$D$12&\",reference:=StartOfSession)=\"&A59&\"\", \"Bar\", \"\", \"Close\",\"5\",\"0\",\"PrimaryOnly\",,,\"False\",\"T\",\"EveryTick\")","v":1707.87},4.7476173667489923E-3,{"$f":"RTD(\"cqg.rtd\",,\"StudyData\", \"Close(\"&$D$12&\") when LocalYear(\"&$D$12&\")=\"&$D$10&\" and localMonth(\"&$D$12&\") =\"&$E$10&\" and LocalDay(\"&$D$12&\")=\"&$F$10&\" and Barix(\"&$D$12&\",reference:=StartOfSession)=\"&A59&\"\", \"Bar\", \"\", \"Close\",\"5\",\"0\",\"PrimaryOnly\",,,\"False\",\"T\",\"EveryTick\")","v":1706.57},3.0091980369684039E-3,null,null,null,""]
[59,"13:25:00",-18,{"$f":" RTD(\"cqg.rtd\",,\"StudyData\", $D$12,  \"Tick\", \"FlatTicks=0\", \"Tick\",\"D\",C60,\"PrimaryOnly\")","v":1808.1},null,null,null,{"$f":"RTD(\"cqg.rtd\",,\"StudyData\", \"Close(\"&$D$12&\") when LocalYear(\"&$D$12&\")=\"&$D$1&\" and localMonth(\"&$D$12&\") =\"&$E$1&\" and LocalDay(\"&$D$12&\")=\"&$F$1&\" and Barix(\"&$D$12&\",reference:=StartOfSession)=\"&A60&\"\", \"Bar\", \"\", \"Close\",\"5\",\"0\",\"PrimaryOnly\",,,\"False\",\"T\",\"EveryTick\")","v":""},{"$error":"#N/A"},{"$f":"RTD(\"cqg.rtd\",,\"StudyData\", \"Close(\"&$D$12&\") when LocalYear(\"&$D$12&\")=\"&$D$2&\" and localMonth(\"&$D$12&\") =\"&$E$2&\" and LocalDay(\"&$D$12&\")=\"&$F$2&\" and Barix(\"&$D$12&\",reference:=StartOfSession)=\"&A60&\"\", \"Bar\", \"\", \"Close\",\"5\",\"0\",\"PrimaryOnly\",,,\"False\",\"T\",\"EveryTick\")","v":1794.78},2.2666666666666651E-2,{"$f":"RTD(\"cqg.rtd\",,\"StudyData\", \"Close(\"&$D$12&\") when LocalYear(\"&$D$12&\")=\"&$D$3&\" and localMonth(\"&$D$12&\") =\"&$E$3&\" and LocalDay(\"&$D$12&\")=\"&$F$3&\" and Barix(\"&$D$12&\",reference:=StartOfSession)=\"&A60&\"\", \"Bar\", \"\", \"Close\",\"5\",\"0\",\"PrimaryOnly\",,,\"False\",\"T\",\"EveryTick\")","v":1749.5},3.6888937334702931E-3,{"$f":"RTD(\"cqg.rtd\",,\"StudyData\", \"Close(\"&$D$12&\") when LocalYear(\"&$D$12&\")=\"&$D$4&\" and localMonth(\"&$D$12&\") =\"&$E$4&\" and LocalDay(\"&$D$12&\")=\"&$F$4&\" and Barix(\"&$D$12&\",reference:=StartOfSession)=\"&A60&\"\", \"Bar\", \"\", \"Close\",\"5\",\"0\",\"PrimaryOnly\",,,\"False\",\"T\",\"EveryTick\")","v":1741.11},1.2018263159710172E-3,{"$f":"RTD(\"cqg.rtd\",,\"StudyData\", \"Close(\"&$D$12&\") when LocalYear(\"&$D$12&\")=\"&$D$5&\" and localMonth(\"&$D$12&\") =\"&$E$5&\" and LocalDay(\"&$D$12&\")=\"&$F$5&\" and Barix(\"&$D$12&\",reference:=StartOfSession)=\"&A60&\"\", \"Bar\", \"\", \"Close\",\"5\",\"0\",\"PrimaryOnly\",,,\"False\",\"T\",\"EveryTick\")","v":1730.43},1.1574683011522044E-2,{"$f":"RTD(\"cqg.rtd\",,\"StudyData\", \"Close(\"&$D$12&\") when LocalYear(\"&$D$12&\")=\"&$D$6&\" and localMonth(\"&$D$12&\") =\"&$E$6&\" and LocalDay(\"&$D$12&\")=\"&$F$6&\" and Barix(\"&$D$12&\",reference:=StartOfSession)=\"&A60&\"\", \"Bar\", \"\", \"Close\",\"5\",\"0\",\"PrimaryOnly\",,,\"False\",\"T\",\"EveryTick\")","v":1710.97},6.6128149764962726E-3,{"$f":"RTD(\"cqg.rtd\",,\"StudyData\", \"Close(\"&$D$12&\") when LocalYear(\"&$D$12&\")=\"&$D$7&\" and localMonth(\"&$D$12&\") =\"&$E$7&\" and LocalDay(\"&$D$12&\")=\"&$F$7&\" and Barix(\"&$D$12&\",reference:=StartOfSession)=\"&A60&\"\", \"Bar\", \"\", \"Close\",\"5\",\"0\",\"PrimaryOnly\",,,\"False\",\"T\",\"EveryTick\")","v":1699.78},3.4357363810243076E-3,{"$f":"RTD(\"cqg.rtd\",,\"StudyData\", \"Close(\"&$D$12&\") when LocalYear(\"&$D$12&\")=\"&$D$8&\" and localMonth(\"&$D$12&\") =\"&$E$8&\" and LocalDay(\"&$D$12&\")=\"&$F$8&\" and Barix(\"&$D$12&\",reference:=StartOfSession)=\"&A60&\"\", \"Bar\", \"\", \"Close\",\"5\",\"0\",\"PrimaryOnly\",,,\"False\",\"T\",\"EveryTick\")","v":""},{"$error":"#N/A"},{"$f":"RTD(\"cqg.rtd\",,\"StudyData\", \"Close(\"&$D$12&\") when LocalYear(\"&$D$12&\")=\"&$D$9&\" and localMonth(\"&$D$12&\") =\"&$E$9&\" and LocalDay(\"&$D$12&\")=\"&$F$9&\" and Barix(\"&$D$12&\",reference:=StartOfSession)=\"&A60&\"\", \"Bar\", \"\", \"Close\",\"5\",\"0\",\"PrimaryOnly\",,,\"False\",\"T\",\"EveryTick\")","v":1708.65},5.2064948817508745E-3,{"$f":"RTD(\"cqg.rtd\",,\"StudyData\", \"Close(\"&$D$12&\") when LocalYear(\"&$D$12&\")=\"&$D$10&\" and localMonth(\"&$D$12&\") =\"&$E$10&\" and LocalDay(\"&$D$12&\")=\"&$F$10&\" and Barix(\"&$D$12&\",reference:=StartOfSession)=\"&A60&\"\", \"Bar\", \"\", \"Close\",\"5\",\"0\",\"PrimaryOnly\",,,\"False\",\"T\",\"EveryTick\")","v":1707.84},3.755620206294556E-3,null,null,null,""]
[60,"13:30:00",-17,{"$f":" RTD(\"cqg.rtd\",,\"StudyData\", $D$12,  \"Tick\", \"FlatTicks=0\", \"Tick\",\"D\",C61,\"PrimaryOnly\")","v":1808.16},null,null,null,{"$f":"RTD(\"cqg.rtd\",,\"StudyData\", \"Close(\"&$D$12&\") when LocalYear(\"&$D$12&\")=\"&$D$1&\" and localMonth(\"&$D$12&\") =\"&$E$1&\" and LocalDay(\"&$D$12&\")=\"&$F$1&\" and Barix(\"&$D$12&\",reference:=StartOfSession)=\"&A61&\"\", \"Bar\", \"\", \"Close\",\"5\",\"0\",\"PrimaryOnly\",,,\"False\",\"T\",\"EveryTick\")","v":""},{"$error":"#N/A"},{"$f":"RTD(\"cqg.rtd\",,\"StudyData\", \"Close(\"&$D$12&\") when LocalYear(\"&$D$12&\")=\"&$D$2&\" and localMonth(\"&$D$12&\") =\"&$E$2&\" and LocalDay(\"&$D$12&\")=\"&$F$2&\" and Barix(\"&$D$12&\",reference:=StartOfSession)=\"&A61&\"\", \"Bar\", \"\", \"Close\",\"5\",\"0\",\"PrimaryOnly\",,,\"False\",\"T\",\"EveryTick\")","v":1793.9},2.2165242165242217E-2,{"$f":"RTD(\"cqg.rtd\",,\"StudyData\", \"Close(\"&$D$12&\") when LocalYear(\"&$D$12&\")=\"&$D$3&\" and localMonth(\"&$D$12&\") =\"&$E$3&\" and LocalDay(\"&$D$12&\")=\"&$F$3&\" and Barix(\"&$D$12&\",reference:=StartOfSession)=\"&A61&\"\", \"Bar\", \"\", \"Close\",\"5\",\"0\",\"PrimaryOnly\",,,\"False\",\"T\",\"EveryTick\")","v":1749.69},3.7978968142416071E-3,{"$f":"RTD(\"cqg.rtd\",,\"StudyData\", \"Close(\"&$D$12&\") when LocalYear(\"&$D$12&\")=\"&$D$4&\" and localMonth(\"&$D$12&\") =\"&$E$4&\" and LocalDay(\"&$D$12&\")=\"&$F$4&\" and Barix(\"&$D$12&\",reference:=StartOfSession)=\"&A61&\"\", \"Bar\", \"\", \"Close\",\"5\",\"0\",\"PrimaryOnly\",,,\"False\",\"T\",\"EveryTick\")","v":1741.37},1.3513358098238715E-3,{"$f":"RTD(\"cqg.rtd\",,\"StudyData\", \"Close(\"&$D$12&\") when LocalYear(\"&$D$12&\")=\"&$D$5&\" and localMonth(\"&$D$12&\") =\"&$E$5&\" and LocalDay(\"&$D$12&\")=\"&$F$5&\" and Barix(\"&$D$12&\",reference:=StartOfSession)=\"&A61&\"\", \"Bar\", \"\", \"Close\",\"5\",\"0\",\"PrimaryOnly\",,,\"False\",\"T\",\"EveryTick\")","v":1730.52},1.1627295207028914E-2,{"$f":"RTD(\"cqg.rtd\",,\"StudyData\", \"Close(\"&$D$12&\") when LocalYear(\"&$D$12&\")=\"&$D$6&\" and localMonth(\"&$D$12&\") =\"&$E$6&\" and LocalDay(\"&$D$12&\")=\"&$F$6&\" and Barix(\"&$D$12&\",reference:=StartOfSession)=\"&A61&\"\", \"Bar\", \"\", \"Close\",\"5\",\"0\",\"PrimaryOnly\",,,\"False\",\"T\",\"EveryTick\")","v":1710.57},6.3774834826707287E-3,{"$f":"RTD(\"cqg.rtd\",,\"StudyData\", \"Close(\"&$D$12&\") when LocalYear(\"&$D$12&\")=\"&$D$7&\" and localMonth(\"&$D$12&\") =\"&$E$7&\" and LocalDay(\"&$D$12&\")=\"&$F$7&\" and Barix(\"&$D$12&\",reference:=StartOfSession)=\"&A61&\"\", \"Bar\", \"\", \"Close\",\"5\",\"0\",\"PrimaryOnly\",,,\"False\",\"T\",\"EveryTick\")","v":1700.7},3.9788424756192643E-3,{"$f":"RTD(\"cqg.rtd\",,\"StudyData\", \"Close(\"&$D$12&\") when LocalYear(\"&$D$12&\")=\"&$D$8&\" and localMonth(\"&$D$12&\") =\"&$E$8&\" and LocalDay(\"&$D$12&\")=\"&$F$8&\" and Barix(\"&$D$12&\",reference:=StartOfSession)=\"&A61&\"\", \"Bar\", \"\", \"Close\",\"5\",\"0\",\"PrimaryOnly\",,,\"False\",\"T\",\"EveryTick\")","v":""},{"$error":"#N/A"},{"$f":"RTD(\"cqg.rtd\",,\"StudyData\", \"Close(\"&$D$12&\") when LocalYear(\"&$D$12&\")=\"&$D$9&\" and localMonth(\"&$D$12&\") =\"&$E$9&\" and LocalDay(\"&$D$12&\")=\"&$F$9&\" and Barix(\"&$D$12&\",reference:=StartOfSession)=\"&A61&\"\", \"Bar\", \"\", \"Close\",\"5\",\"0\",\"PrimaryOnly\",,,\"False\",\"T\",\"EveryTick\")","v":1710.56},6.3301564889987009E-3,{"$f":"RTD(\"cqg.rtd\",,\"StudyData\", \"Close(\"&$D$12&\") when LocalYear(\"&$D$12&\")=\"&$D$10&\" and localMonth(\"&$D$12&\") =\"&$E$10&\" and LocalDay(\"&$D$12&\")=\"&$F$10&\" and Barix(\"&$D$12&\",reference:=StartOfSession)=\"&A61&\"\", \"Bar\", \"\", \"Close\",\"5\",\"0\",\"PrimaryOnly\",,,\"False\",\"T\",\"EveryTick\")","v":1708.68},4.2493167592347813E-3,null,null,null,""]
[61,"13:35:00",-16,{"$f":" RTD(\"cqg.rtd\",,\"StudyData\", $D$12,  \"Tick\", \"FlatTicks=0\", \"Tick\",\"D\",C62,\"PrimaryOnly\")","v":1808.36},null,null,null,{"$f":"RTD(\"cqg.rtd\",,\"StudyData\", \"Close(\"&$D$12&\") when LocalYear(\"&$D$12&\")=\"&$D$1&\" and localMonth(\"&$D$12&\") =\"&$E$1&\" and LocalDay(\"&$D$12&\")=\"&$F$1&\" and Barix(\"&$D$12&\",reference:=StartOfSession)=\"&A62&\"\", \"Bar\", \"\", \"Close\",\"5\",\"0\",\"PrimaryOnly\",,,\"False\",\"T\",\"EveryTick\")","v":""},{"$error":"#N/A"},{"$f":"RTD(\"cqg.rtd\",,\"StudyData\", \"Close(\"&$D$12&\") when LocalYear(\"&$D$12&\")=\"&$D$2&\" and localMonth(\"&$D$12&\") =\"&$E$2&\" and LocalDay(\"&$D$12&\")=\"&$F$2&\" and Barix(\"&$D$12&\",reference:=StartOfSession)=\"&A62&\"\", \"Bar\", \"\", \"Close\",\"5\",\"0\",\"PrimaryOnly\",,,\"False\",\"T\",\"EveryTick\")","v":1794.12},2.2290598290598228E-2,{"$f":"RTD(\"cqg.rtd\",,\"StudyData\", \"Close(\"&$D$12&\") when LocalYear(\"&$D$12&\")=\"&$D$3&\" and localMonth(\"&$D$12&\") =\"&$E$3&\" and LocalDay(\"&$D$12&\")=\"&$F$3&\" and Barix(\"&$D$12&\",reference:=StartOfSession)=\"&A62&\"\", \"Bar\", \"\", \"Close\",\"5\",\"0\",\"PrimaryOnly\",,,\"False\",\"T\",\"EveryTick\")","v":1750.09},4.0273769842863348E-3,{"$f":"RTD(\"cqg.rtd\",,\"StudyData\", \"Close(\"&$D$12&\") when LocalYear(\"&$D$12&\")=\"&$D$4&\" and localMonth(\"&$D$12&\") =\"&$E$4&\" and LocalDay(\"&$D$12&\")=\"&$F$4&\" and Barix(\"&$D$12&\",reference:=StartOfSession)=\"&A62&\"\", \"Bar\", \"\", \"Close\",\"5\",\"0\",\"PrimaryOnly\",,,\"False\",\"T\",\"EveryTick\")","v":1742.04},1.7366102747524363E-3,{"$f":"RTD(\"cqg.rtd\",,\"StudyData\", \"Close(\"&$D$12&\") when LocalYear(\"&$D$12&\")=\"&$D$5&\" and localMonth(\"&$D$12&\") =\"&$E$5&\" and LocalDay(\"&$D$12&\")=\"&$F$5&\" and Barix(\"&$D$12&\",reference:=StartOfSession)=\"&A62&\"\", \"Bar\", \"\", \"Close\",\"5\",\"0\",\"PrimaryOnly\",,,\"False\",\"T\",\"EveryTick\")","v":1731.63},1.2276178951614317E-2,{"$f":"RTD(\"cqg.rtd\",,\"StudyData\", \"Close(\"&$D$12&\") when LocalYear(\"&$D$12&\")=\"&$D$6&\" and localMonth(\"&$D$12&\") =\"&$E$6&\" and LocalDay(\"&$D$12&\")=\"&$F$6&\" and Barix(\"&$D$12&\",reference:=StartOfSession)=\"&A62&\"\", \"Bar\", \"\", \"Close\",\"5\",\"0\",\"PrimaryOnly\",,,\"False\",\"T\",\"EveryTick\")","v":1708.07},4.9066616462614164E-3,{"$f":"RTD(\"cqg.rtd\",,\"StudyData\", \"Close(\"&$D$12&\") when LocalYear(\"&$D$12&\")=\"&$D$7&\" and localMonth(\"&$D$12&\") =\"&$E$7&\" and LocalDay(\"&$D$12&\")=\"&$F$7&\" and Barix(\"&$D$12&\",reference:=StartOfSession)=\"&A62&\"\", \"Bar\", \"\", \"Close\",\"5\",\"0\",\"PrimaryOnly\",,,\"False\",\"T\",\"EveryTick\")","v":1698.75},2.8276936881626268E-3,{"$f":"RTD(\"cqg.rtd\",,\"StudyData\", \"Close(\"&$D$12&\") when LocalYear(\"&$D$12&\")=\"&$D$8&\" and localMonth(\"&$D$12&\") =\"&$E$8&\" and LocalDay(\"&$D$12&\")=\"&$F$8&\" and Barix(\"&$D$12&\",reference:=StartOfSession)=\"&A62&\"\", \"Bar\", \"\", \"Close\",\"5\",\"0\",\"PrimaryOnly\",,,\"False\",\"T\",\"EveryTick\")","v":""},{"$error":"#N/A"},{"$f":"RTD(\"cqg.rtd\",,\"StudyData\", \"Close(\"&$D$12&\") when LocalYear(\"&$D$12&\")=\"&$D$9&\" and localMonth(\"&$D$12&\") =\"&$E$9&\" and LocalDay(\"&$D$12&\")=\"&$F$9&\" and Barix(\"&$D$12&\",reference:=StartOfSession)=\"&A62&\"\", \"Bar\", \"\", \"Close\",\"5\",\"0\",\"PrimaryOnly\",,,\"False\",\"T\",\"EveryTick\")","v":1709.57},5.7477350276503017E-3,{"$f":"RTD(\"cqg.rtd\",,\"StudyData\", \"Close(\"&$D$12&\") when LocalYear(\"&$D$12&\")=\"&$D$10&\" and localMonth(\"&$D$12&\") =\"&$E$10&\" and LocalDay(\"&$D$12&\")=\"&$F$10&\" and Barix(\"&$D$12&\",reference:=StartOfSession)=\"&A62&\"\", \"Bar\", \"\", \"Close\",\"5\",\"0\",\"PrimaryOnly\",,,\"False\",\"T\",\"EveryTick\")","v":1708.16},3.9436950836051815E-3,null,null,null,""]
[62,"13:40:00",-15,{"$f":" RTD(\"cqg.rtd\",,\"StudyData\", $D$12,  \"Tick\", \"FlatTicks=0\", \"Tick\",\"D\",C63,\"PrimaryOnly\")","v":1808.38},null,null,null,{"$f":"RTD(\"cqg.rtd\",,\"StudyData\", \"Close(\"&$D$12&\") when LocalYear(\"&$D$12&\")=\"&$D$1&\" and localMonth(\"&$D$12&\") =\"&$E$1&\" and LocalDay(\"&$D$12&\")=\"&$F$1&\" and Barix(\"&$D$12&\",reference:=StartOfSession)=\"&A63&\"\", \"Bar\", \"\", \"Close\",\"5\",\"0\",\"PrimaryOnly\",,,\"False\",\"T\",\"EveryTick\")","v":""},{"$error":"#N/A"},{"$f":"RTD(\"cqg.rtd\",,\"StudyData\", \"Close(\"&$D$12&\") when LocalYear(\"&$D$12&\")=\"&$D$2&\" and localMonth(\"&$D$12&\") =\"&$E$2&\" and LocalDay(\"&$D$12&\")=\"&$F$2&\" and Barix(\"&$D$12&\",reference:=StartOfSession)=\"&A63&\"\", \"Bar\", \"\", \"Close\",\"5\",\"0\",\"PrimaryOnly\",,,\"False\",\"T\",\"EveryTick\")","v":1794},2.2222222222222223E-2,{"$f":"RTD(\"cqg.rtd\",,\"StudyData\", \"Close(\"&$D$12&\") when LocalYear(\"&$D$12&\")=\"&$D$3&\" and localMonth(\"&$D$12&\") =\"&$E$3&\" and LocalDay(\"&$D$12&\")=\"&$F$3&\" and Barix(\"&$D$12&\",reference:=StartOfSession)=\"&A63&\"\", \"Bar\", \"\", \"Close\",\"5\",\"0\",\"PrimaryOnly\",,,\"False\",\"T\",\"EveryTick\")","v":1750.95},4.5207593498827409E-3,{"$f":"RTD(\"cqg.rtd\",,\"StudyData\", \"Close(\"&$D$12&\") when LocalYear(\"&$D$12&\")=\"&$D$4&\" and localMonth(\"&$D$12&\") =\"&$E$4&\" and LocalDay(\"&$D$12&\")=\"&$F$4&\" and Barix(\"&$D$12&\",reference:=StartOfSession)=\"&A63&\"\", \"Bar\", \"\", \"Close\",\"5\",\"0\",\"PrimaryOnly\",,,\"False\",\"T\",\"EveryTick\")","v":1741.61},1.4893445733803626E-3,{"$f":"RTD(\"cqg.rtd\",,\"StudyData\", \"Close(\"&$D$12&\") when LocalYear(\"&$D$12&\")=\"&$D$5&\" and localMonth(\"&$D$12&\") =\"&$E$5&\" and LocalDay(\"&$D$12&\")=\"&$F$5&\" and Barix(\"&$D$12&\",reference:=StartOfSession)=\"&A63&\"\", \"Bar\", \"\", \"Close\",\"5\",\"0\",\"PrimaryOnly\",,,\"False\",\"T\",\"EveryTick\")","v":1731.89},1.2428169738634299E-2,{"$f":"RTD(\"cqg.rtd\",,\"StudyData\", \"Close(\"&$D$12&\") when LocalYear(\"&$D$12&\")=\"&$D$6&\" and localMonth(\"&$D$12&\") =\"&$E$6&\" and LocalDay(\"&$D$12&\")=\"&$F$6&\" and Barix(\"&$D$12&\",reference:=StartOfSession)=\"&A63&\"\", \"Bar\", \"\", \"Close\",\"5\",\"0\",\"PrimaryOnly\",,,\"False\",\"T\",\"EveryTick\")","v":1710.09},6.0950856900801303E-3,{"$f":"RTD(\"cqg.rtd\",,\"StudyData\", \"Close(\"&$D$12&\") when LocalYear(\"&$D$12&\")=\"&$D$7&\" and localMonth(\"&$D$12&\") =\"&$E$7&\" and LocalDay(\"&$D$12&\")=\"&$F$7&\" and Barix(\"&$D$12&\",reference:=StartOfSession)=\"&A63&\"\", \"Bar\", \"\", \"Close\",\"5\",\"0\",\"PrimaryOnly\",,,\"False\",\"T\",\"EveryTick\")","v":1699.39},3.2055066235330606E-3,{"$f":"RTD(\"cqg.rtd\",,\"StudyData\", \"Close(\"&$D$12&\") when LocalYear(\"&$D$12&\")=\"&$D$8&\" and localMonth(\"&$D$12&\") =\"&$E$8&\" and LocalDay(\"&$D$12&\")=\"&$F$8&\" and Barix(\"&$D$12&\",reference:=StartOfSession)=\"&A63&\"\", \"Bar\", \"\", \"Close\",\"5\",\"0\",\"PrimaryOnly\",,,\"False\",\"T\",\"EveryTick\")","v":""},{"$error":"#N/A"},{"$f":"RTD(\"cqg.rtd\",,\"StudyData\", \"Close(\"&$D$12&\") when LocalYear(\"&$D$12&\")=\"&$D$9&\" and localMonth(\"&$D$12&\") =\"&$E$9&\" and LocalDay(\"&$D$12&\")=\"&$F$9&\" and Barix(\"&$D$12&\",reference:=StartOfSession)=\"&A63&\"\", \"Bar\", \"\", \"Close\",\"5\",\"0\",\"PrimaryOnly\",,,\"False\",\"T\",\"EveryTick\")","v":1709},5.4124014589952028E-3,{"$f":"RTD(\"cqg.rtd\",,\"StudyData\", \"Close(\"&$D$12&\") when LocalYear(\"&$D$12&\")=\"&$D$10&\" and localMonth(\"&$D$12&\") =\"&$E$10&\" and LocalDay(\"&$D$12&\")=\"&$F$10&\" and Barix(\"&$D$12&\",reference:=StartOfSession)=\"&A63&\"\", \"Bar\", \"\", \"Close\",\"5\",\"0\",\"PrimaryOnly\",,,\"False\",\"T\",\"EveryTick\")","v":1708.3},4.025977842428463E-3,null,null,null,""]
[63,"13:45:00",-14,{"$f":" RTD(\"cqg.rtd\",,\"StudyData\", $D$12,  \"Tick\", \"FlatTicks=0\", \"Tick\",\"D\",C64,\"PrimaryOnly\")","v":1808.26},null,null,null,{"$f":"RTD(\"cqg.rtd\",,\"StudyData\", \"Close(\"&$D$12&\") when LocalYear(\"&$D$12&\")=\"&$D$1&\" and localMonth(\"&$D$12&\") =\"&$E$1&\" and LocalDay(\"&$D$12&\")=\"&$F$1&\" and Barix(\"&$D$12&\",reference:=StartOfSession)=\"&A64&\"\", \"Bar\", \"\", \"Close\",\"5\",\"0\",\"PrimaryOnly\",,,\"False\",\"T\",\"EveryTick\")","v":""},{"$error":"#N/A"},{"$f":"RTD(\"cqg.rtd\",,\"StudyData\", \"Close(\"&$D$12&\") when LocalYear(\"&$D$12&\")=\"&$D$2&\" and localMonth(\"&$D$12&\") =\"&$E$2&\" and LocalDay(\"&$D$12&\")=\"&$F$2&\" and Barix(\"&$D$12&\",reference:=StartOfSession)=\"&A64&\"\", \"Bar\", \"\", \"Close\",\"5\",\"0\",\"PrimaryOnly\",,,\"False\",\"T\",\"EveryTick\")","v":1793.9},2.2165242165242217E-2,{"$f":"RTD(\"cqg.rtd\",,\"StudyData\", \"Close(\"&$D$12&\") when LocalYear(\"&$D$12&\")=\"&$D$3&\" and localMonth(\"&$D$12&\") =\"&$E$3&\" and LocalDay(\"&$D$12&\")=\"&$F$3&\" and Barix(\"&$D$12&\",reference:=StartOfSession)=\"&A64&\"\", \"Bar\", \"\", \"Close\",\"5\",\"0\",\"PrimaryOnly\",,,\"False\",\"T\",\"EveryTick\")","v":1751.13},4.6240254264029402E-3,{"$f":"RTD(\"cqg.rtd\",,\"StudyData\", \"Close(\"&$D$12&\") when LocalYear(\"&$D$12&\")=\"&$D$4&\" and localMonth(\"&$D$12&\") =\"&$E$4&\" and LocalDay(\"&$D$12&\")=\"&$F$4&\" and Barix(\"&$D$12&\",reference:=StartOfSession)=\"&A64&\"\", \"Bar\", \"\", \"Close\",\"5\",\"0\",\"PrimaryOnly\",,,\"False\",\"T\",\"EveryTick\")","v":1742.75},2.1448862002737277E-3,{"$f":"RTD(\"cqg.rtd\",,\"StudyData\", \"Close(\"&$D$12&\") when LocalYear(\"&$D$12&\")=\"&$D$5&\" and localMonth(\"&$D$12&\") =\"&$E$5&\" and LocalDay(\"&$D$12&\")=\"&$F$5&\" and Barix(\"&$D$12&\",reference:=StartOfSession)=\"&A64&\"\", \"Bar\", \"\", \"Close\",\"5\",\"0\",\"PrimaryOnly\",,,\"False\",\"T\",\"EveryTick\")","v":1732.06},1.2527548330147275E-2,{"$f":"RTD(\"cqg.rtd\",,\"StudyData\", \"Close(\"&$D$12&\") when LocalYear(\"&$D$12&\")=\"&$D$6&\" and localMonth(\"&$D$12&\") =\"&$E$6&\" and LocalDay(\"&$D$12&\")=\"&$F$6&\" and Barix(\"&$D$12&\",reference:=StartOfSession)=\"&A64&\"\", \"Bar\", \"\", \"Close\",\"5\",\"0\",\"PrimaryOnly\",,,\"False\",\"T\",\"EveryTick\")","v":1710.4},6.2774675977949864E-3,{"$f":"RTD(\"cqg.rtd\",,\"StudyData\", \"Close(\"&$D$12&\") when LocalYear(\"&$D$12&\")=\"&$D$7&\" and localMonth(\"&$D$12&\") =\"&$E$7&\" and LocalDay(\"&$D$12&\")=\"&$F$7&\" and Barix(\"&$D$12&\",reference:=StartOfSession)=\"&A64&\"\", \"Bar\", \"\", \"Close\",\"5\",\"0\",\"PrimaryOnly\",,,\"False\",\"T\",\"EveryTick\")","v":1698.63},2.7568537627807462E-3,{"$f":"RTD(\"cqg.rtd\",,\"StudyData\", \"Close(\"&$D$12&\") when LocalYear(\"&$D$12&\")=\"&$D$8&\" and localMonth(\"&$D$12&\") =\"&$E$8&\" and LocalDay(\"&$D$12&\")=\"&$F$8&\" and Barix(\"&$D$12&\",reference:=StartOfSession)=\"&A64&\"\", \"Bar\", \"\", \"Close\",\"5\",\"0\",\"PrimaryOnly\",,,\"False\",\"T\",\"EveryTick\")","v":""},{"$error":"#N/A"},{"$f":"RTD(\"cqg.rtd\",,\"StudyData\", \"Close(\"&$D$12&\") when LocalYear(\"&$D$12&\")=\"&$D$9&\" and localMonth(\"&$D$12&\") =\"&$E$9&\" and LocalDay(\"&$D$12&\")=\"&$F$9&\" and Barix(\"&$D$12&\",reference:=StartOfSession)=\"&A64&\"\", \"Bar\", \"\", \"Close\",\"5\",\"0\",\"PrimaryOnly\",,,\"False\",\"T\",\"EveryTick\")","v":1708.51},5.1241322508530631E-3,{"$f":"RTD(\"cqg.rtd\",,\"StudyData\", \"Close(\"&$D$12&\") when LocalYear(\"&$D$12&\")=\"&$D$10&\" and localMonth(\"&$D$12&\") =\"&$E$10&\" and LocalDay(\"&$D$12&\")=\"&$F$10&\" and Barix(\"&$D$12&\",reference:=StartOfSession)=\"&A64&\"\", \"Bar\", \"\", \"Close\",\"5\",\"0\",\"PrimaryOnly\",,,\"False\",\"T\",\"EveryTick\")","v":1708.41},4.0906285815040322E-3,null,null,null,""]
[64,"13:50:00",-13,{"$f":" RTD(\"cqg.rtd\",,\"StudyData\", $D$12,  \"Tick\", \"FlatTicks=0\", \"Tick\",\"D\",C65,\"PrimaryOnly\")","v":1808.38},null,null,null,{"$f":"RTD(\"cqg.rtd\",,\"StudyData\", \"Close(\"&$D$12&\") when LocalYear(\"&$D$12&\")=\"&$D$1&\" and localMonth(\"&$D$12&\") =\"&$E$1&\" and LocalDay(\"&$D$12&\")=\"&$F$1&\" and Barix(\"&$D$12&\",reference:=StartOfSession)=\"&A65&\"\", \"Bar\", \"\", \"Close\",\"5\",\"0\",\"PrimaryOnly\",,,\"False\",\"T\",\"EveryTick\")","v":""},{"$error":"#N/A"},{"$f":"RTD(\"cqg.rtd\",,\"StudyData\", \"Close(\"&$D$12&\") when LocalYear(\"&$D$12&\")=\"&$D$2&\" and localMonth(\"&$D$12&\") =\"&$E$2&\" and LocalDay(\"&$D$12&\")=\"&$F$2&\" and Barix(\"&$D$12&\",reference:=StartOfSession)=\"&A65&\"\", \"Bar\", \"\", \"Close\",\"5\",\"0\",\"PrimaryOnly\",,,\"False\",\"T\",\"EveryTick\")","v":1795.62},2.3145299145299083E-2,{"$f":"RTD(\"cqg.rtd\",,\"StudyData\", \"Close(\"&$D$12&\") when LocalYear(\"&$D$12&\")=\"&$D$3&\" and localMonth(\"&$D$12&\") =\"&$E$3&\" and LocalDay(\"&$D$12&\")=\"&$F$3&\" and Barix(\"&$D$12&\",reference:=StartOfSession)=\"&A65&\"\", \"Bar\", \"\", \"Close\",\"5\",\"0\",\"PrimaryOnly\",,,\"False\",\"T\",\"EveryTick\")","v":1752},5.1231447962503309E-3,{"$f":"RTD(\"cqg.rtd\",,\"StudyData\", \"Close(\"&$D$12&\") when LocalYear(\"&$D$12&\")=\"&$D$4&\" and localMonth(\"&$D$12&\") =\"&$E$4&\" and LocalDay(\"&$D$12&\")=\"&$F$4&\" and Barix(\"&$D$12&\",reference:=StartOfSession)=\"&A65&\"\", \"Bar\", \"\", \"Close\",\"5\",\"0\",\"PrimaryOnly\",,,\"False\",\"T\",\"EveryTick\")","v":1743.18},2.3921519016458018E-3,{"$f":"RTD(\"cqg.rtd\",,\"StudyData\", \"Close(\"&$D$12&\") when LocalYear(\"&$D$12&\")=\"&$D$5&\" and localMonth(\"&$D$12&\") =\"&$E$5&\" and LocalDay(\"&$D$12&\")=\"&$F$5&\" and Barix(\"&$D$12&\",reference:=StartOfSession)=\"&A65&\"\", \"Bar\", \"\", \"Close\",\"5\",\"0\",\"PrimaryOnly\",,,\"False\",\"T\",\"EveryTick\")","v":1732.13},1.2568468926652752E-2,{"$f":"RTD(\"cqg.rtd\",,\"StudyData\", \"Close(\"&$D$12&\") when LocalYear(\"&$D$12&\")=\"&$D$6&\" and localMonth(\"&$D$12&\") =\"&$E$6&\" and LocalDay(\"&$D$12&\")=\"&$F$6&\" and Barix(\"&$D$12&\",reference:=StartOfSession)=\"&A65&\"\", \"Bar\", \"\", \"Close\",\"5\",\"0\",\"PrimaryOnly\",,,\"False\",\"T\",\"EveryTick\")","v":1711.54},6.9481623551975579E-3,{"$f":"RTD(\"cqg.rtd\",,\"StudyData\", \"Close(\"&$D$12&\") when LocalYear(\"&$D$12&\")=\"&$D$7&\" and localMonth(\"&$D$12&\") =\"&$E$7&\" and LocalDay(\"&$D$12&\")=\"&$F$7&\" and Barix(\"&$D$12&\",reference:=StartOfSession)=\"&A65&\"\", \"Bar\", \"\", \"Close\",\"5\",\"0\",\"PrimaryOnly\",,,\"False\",\"T\",\"EveryTick\")","v":1699.15},3.063826772769165E-3,{"$f":"RTD(\"cqg.rtd\",,\"StudyData\", \"Close(\"&$D$12&\") when LocalYear(\"&$D$12&\")=\"&$D$8&\" and localMonth(\"&$D$12&\") =\"&$E$8&\" and LocalDay(\"&$D$12&\")=\"&$F$8&\" and Barix(\"&$D$12&\",reference:=StartOfSession)=\"&A65&\"\", \"Bar\", \"\", \"Close\",\"5\",\"0\",\"PrimaryOnly\",,,\"False\",\"T\",\"EveryTick\")","v":""},{"$error":"#N/A"},{"$f":"RTD(\"cqg.rtd\",,\"StudyData\", \"Close(\"&$D$12&\") when LocalYear(\"&$D$12&\")=\"&$D$9&\" and localMonth(\"&$D$12&\") =\"&$E$9&\" and LocalDay(\"&$D$12&\")=\"&$F$9&\" and Barix(\"&$D$12&\",reference:=StartOfSession)=\"&A65&\"\", \"Bar\", \"\", \"Close\",\"5\",\"0\",\"PrimaryOnly\",,,\"False\",\"T\",\"EveryTick\")","v":1708},4.8240969525826837E-3,{"$f":"RTD(\"cqg.rtd\",,\"StudyData\", \"Close(\"&$D$12&\") when LocalYear(\"&$D$12&\")=\"&$D$10&\" and localMonth(\"&$D$12&\") =\"&$E$10&\" and LocalDay(\"&$D$12&\")=\"&$F$10&\" and Barix(\"&$D$12&\",reference:=StartOfSession)=\"&A65&\"\", \"Bar\", \"\", \"Close\",\"5\",\"0\",\"PrimaryOnly\",,,\"False\",\"T\",\"EveryTick\")","v":1707.66},3.6498280878074795E-3,null,null,null,""]
[65,"13:55:00",-12,{"$f":" RTD(\"cqg.rtd\",,\"StudyData\", $D$12,  \"Tick\", \"FlatTicks=0\", \"Tick\",\"D\",C66,\"PrimaryOnly\")","v":1808.36},null,null,null,{"$f":"RTD(\"cqg.rtd\",,\"StudyData\", \"Close(\"&$D$12&\") when LocalYear(\"&$D$12&\")=\"&$D$1&\" and localMonth(\"&$D$12&\") =\"&$E$1&\" and LocalDay(\"&$D$12&\")=\"&$F$1&\" and Barix(\"&$D$12&\",reference:=StartOfSession)=\"&A66&\"\", \"Bar\", \"\", \"Close\",\"5\",\"0\",\"PrimaryOnly\",,,\"False\",\"T\",\"EveryTick\")","v":""},{"$error":"#N/A"},{"$f":"RTD(\"cqg.rtd\",,\"StudyData\", \"Close(\"&$D$12&\") when LocalYear(\"&$D$12&\")=\"&$D$2&\" and localMonth(\"&$D$12&\") =\"&$E$2&\" and LocalDay(\"&$D$12&\")=\"&$F$2&\" and Barix(\"&$D$12&\",reference:=StartOfSession)=\"&A66&\"\", \"Bar\", \"\", \"Close\",\"5\",\"0\",\"PrimaryOnly\",,,\"False\",\"T\",\"EveryTick\")","v":1794.92},{"$f":"IFERROR((J66-$G$3)/$G$3,NA())","v":2.2746438746438787E-2},{"$f":"RTD(\"cqg.rtd\",,\"StudyData\", \"Close(\"&$D$12&\") when LocalYear(\"&$D$12&\")=\"&$D$3&\" and localMonth(\"&$D$12&\") =\"&$E$3&\" and LocalDay(\"&$D$12&\")=\"&$F$3&\" and Barix(\"&$D$12&\",reference:=StartOfSession)=\"&A66&\"\", \"Bar\", \"\", \"Close\",\"5\",\"0\",\"PrimaryOnly\",,,\"False\",\"T\",\"EveryTick\")","v":1752.09},{"$f":"IFERROR((L66-$G$4)/$G$4,NA())","v":5.1747778345103655E-3},{"$f":"RTD(\"cqg.rtd\",,\"StudyData\", \"Close(\"&$D$12&\") when LocalYear(\"&$D$12&\")=\"&$D$4&\" and localMonth(\"&$D$12&\") =\"&$E$4&\" and LocalDay(\"&$D$12&\")=\"&$F$4&\" and Barix(\"&$D$12&\",reference:=StartOfSession)=\"&A66&\"\", \"Bar\", \"\", \"Close\",\"5\",\"0\",\"PrimaryOnly\",,,\"False\",\"T\",\"EveryTick\")","v":1743.66},{"$f":"IFERROR((N66-$G$5)/$G$5,NA())","v":2.6681694287587839E-3},{"$f":"RTD(\"cqg.rtd\",,\"StudyData\", \"Close(\"&$D$12&\") when LocalYear(\"&$D$12&\")=\"&$D$5&\" and localMonth(\"&$D$12&\") =\"&$E$5&\" and LocalDay(\"&$D$12&\")=\"&$F$5&\" and Barix(\"&$D$12&\",reference:=StartOfSession)=\"&A66&\"\", \"Bar\", \"\", \"Close\",\"5\",\"0\",\"PrimaryOnly\",,,\"False\",\"T\",\"EveryTick\")","v":1732.18},{"$f":"IFERROR((P66-$G$6)/$G$6,NA())","v":1.259769792415657E-2},{"$f":"RTD(\"cqg.rtd\",,\"StudyData\", \"Close(\"&$D$12&\") when LocalYear(\"&$D$12&\")=\"&$D$6&\" and localMonth(\"&$D$12&\") =\"&$E$6&\" and LocalDay(\"&$D$12&\")=\"&$F$6&\" and Barix(\"&$D$12&\",reference:=StartOfSession)=\"&A66&\"\", \"Bar\", \"\", \"Close\",\"5\",\"0\",\"PrimaryOnly\",,,\"False\",\"T\",\"EveryTick\")","v":1711.83},{"$f":"IFERROR((R66-$G$7)/$G$7,NA())","v":7.1187776882210172E-3},{"$f":"RTD(\"cqg.rtd\",,\"StudyData\", \"Close(\"&$D$12&\") when LocalYear(\"&$D$12&\")=\"&$D$7&\" and localMonth(\"&$D$12&\") =\"&$E$7&\" and LocalDay(\"&$D$12&\")=\"&$F$7&\" and Barix(\"&$D$12&\",reference:=StartOfSession)=\"&A66&\"\", \"Bar\", \"\", \"Close\",\"5\",\"0\",\"PrimaryOnly\",,,\"False\",\"T\",\"EveryTick\")","v":1701.55},{"$f":"IFERROR((T66-$G$8)/$G$8,NA())","v":4.4806252804079896E-3},{"$f":"RTD(\"cqg.rtd\",,\"StudyData\", \"Close(\"&$D$12&\") when LocalYear(\"&$D$12&\")=\"&$D$8&\" and localMonth(\"&$D$12&\") =\"&$E$8&\" and LocalDay(\"&$D$12&\")=\"&$F$8&\" and Barix(\"&$D$12&\",reference:=StartOfSession)=\"&A66&\"\", \"Bar\", \"\", \"Close\",\"5\",\"0\",\"PrimaryOnly\",,,\"False\",\"T\",\"EveryTick\")","v":""},{"$f":"IFERROR((V66-$G$9)/$G$9,NA())","v":{"$error":"#N/A"}},{"$f":"RTD(\"cqg.rtd\",,\"StudyData\", \"Close(\"&$D$12&\") when LocalYear(\"&$D$12&\")=\"&$D$9&\" and localMonth(\"&$D$12&\") =\"&$E$9&\" and LocalDay(\"&$D$12&\")=\"&$F$9&\" and Barix(\"&$D$12&\",reference:=StartOfSession)=\"&A66&\"\", \"Bar\", \"\", \"Close\",\"5\",\"0\",\"PrimaryOnly\",,,\"False\",\"T\",\"EveryTick\")","v":1704.01},{"$f":"IFERROR((X66-$G$10)/$G$10,NA())","v":2.4767619719967271E-3},{"$f":"RTD(\"cqg.rtd\",,\"StudyData\", \"Close(\"&$D$12&\") when LocalYear(\"&$D$12&\")=\"&$D$10&\" and localMonth(\"&$D$12&\") =\"&$E$10&\" and LocalDay(\"&$D$12&\")=\"&$F$10&\" and Barix(\"&$D$12&\",reference:=StartOfSession)=\"&A66&\"\", \"Bar\", \"\", \"Close\",\"5\",\"0\",\"PrimaryOnly\",,,\"False\",\"T\",\"EveryTick\")","v":1709.96},{"$f":"IFERROR((Z66-$G$11)/$G$11,NA())","v":5.0016162684768817E-3},null,null,null,""]
[{"$f":"A66+1","v":66},"14:00:00",-11,{"$f":" RTD(\"cqg.rtd\",,\"StudyData\", $D$12,  \"Tick\", \"FlatTicks=0\", \"Tick\",\"D\",C67,\"PrimaryOnly\")","v":1808.88},null,null,null,{"$f":"RTD(\"cqg.rtd\",,\"StudyData\", \"Close(\"&$D$12&\") when LocalYear(\"&$D$12&\")=\"&$D$1&\" and localMonth(\"&$D$12&\") =\"&$E$1&\" and LocalDay(\"&$D$12&\")=\"&$F$1&\" and Barix(\"&$D$12&\",reference:=StartOfSession)=\"&A67&\"\", \"Bar\", \"\", \"Close\",\"5\",\"0\",\"PrimaryOnly\",,,\"False\",\"T\",\"EveryTick\")","v":""},{"$f":"IFERROR((H67-$G$2)/$G$2,NA())","v":{"$error":"#N/A"}},{"$f":"RTD(\"cqg.rtd\",,\"StudyData\", \"Close(\"&$D$12&\") when LocalYear(\"&$D$12&\")=\"&$D$2&\" and localMonth(\"&$D$12&\") =\"&$E$2&\" and LocalDay(\"&$D$12&\")=\"&$F$2&\" and Barix(\"&$D$12&\",reference:=StartOfSession)=\"&A67&\"\", \"Bar\", \"\", \"Close\",\"5\",\"0\",\"PrimaryOnly\",,,\"False\",\"T\",\"EveryTick\")","v":1796.06},2.3396011396011364E-2,{"$f":"RTD(\"cqg.rtd\",,\"StudyData\", \"Close(\"&$D$12&\") when LocalYear(\"&$D$12&\")=\"&$D$3&\" and localMonth(\"&$D$12&\") =\"&$E$3&\" and LocalDay(\"&$D$12&\")=\"&$F$3&\" and Barix(\"&$D$12&\",reference:=StartOfSession)=\"&A67&\"\", \"Bar\", \"\", \"Close\",\"5\",\"0\",\"PrimaryOnly\",,,\"False\",\"T\",\"EveryTick\")","v":1751.07},4.5896034008961204E-3,{"$f":"RTD(\"cqg.rtd\",,\"StudyData\", \"Close(\"&$D$12&\") when LocalYear(\"&$D$12&\")=\"&$D$4&\" and localMonth(\"&$D$12&\") =\"&$E$4&\" and LocalDay(\"&$D$12&\")=\"&$F$4&\" and Barix(\"&$D$12&\",reference:=StartOfSession)=\"&A67&\"\", \"Bar\", \"\", \"Close\",\"5\",\"0\",\"PrimaryOnly\",,,\"False\",\"T\",\"EveryTick\")","v":1743.22},2.4151533622385284E-3,{"$f":"RTD(\"cqg.rtd\",,\"StudyData\", \"Close(\"&$D$12&\") when LocalYear(\"&$D$12&\")=\"&$D$5&\" and localMonth(\"&$D$12&\") =\"&$E$5&\" and LocalDay(\"&$D$12&\")=\"&$F$5&\" and Barix(\"&$D$12&\",reference:=StartOfSession)=\"&A67&\"\", \"Bar\", \"\", \"Close\",\"5\",\"0\",\"PrimaryOnly\",,,\"False\",\"T\",\"EveryTick\")","v":1731.78},1.2363865944125767E-2,{"$f":"RTD(\"cqg.rtd\",,\"StudyData\", \"Close(\"&$D$12&\") when LocalYear(\"&$D$12&\")=\"&$D$6&\" and localMonth(\"&$D$12&\") =\"&$E$6&\" and LocalDay(\"&$D$12&\")=\"&$F$6&\" and Barix(\"&$D$12&\",reference:=StartOfSession)=\"&A67&\"\", \"Bar\", \"\", \"Close\",\"5\",\"0\",\"PrimaryOnly\",,,\"False\",\"T\",\"EveryTick\")","v":1712.1},7.2776264465532117E-3,{"$f":"RTD(\"cqg.rtd\",,\"StudyData\", \"Close(\"&$D$12&\") when LocalYear(\"&$D$12&\")=\"&$D$7&\" and localMonth(\"&$D$12&\") =\"&$E$7&\" and LocalDay(\"&$D$12&\")=\"&$F$7&\" and Barix(\"&$D$12&\",reference:=StartOfSession)=\"&A67&\"\", \"Bar\", \"\", \"Close\",\"5\",\"0\",\"PrimaryOnly\",,,\"False\",\"T\",\"EveryTick\")","v":1703.63},5.7085173203617985E-3,{"$f":"RTD(\"cqg.rtd\",,\"StudyData\", \"Close(\"&$D$12&\") when LocalYear(\"&$D$12&\")=\"&$D$8&\" and localMonth(\"&$D$12&\") =\"&$E$8&\" and LocalDay(\"&$D$12&\")=\"&$F$8&\" and Barix(\"&$D$12&\",reference:=StartOfSession)=\"&A67&\"\", \"Bar\", \"\", \"Close\",\"5\",\"0\",\"PrimaryOnly\",,,\"False\",\"T\",\"EveryTick\")","v":""},{"$error":"#N/A"},{"$f":"RTD(\"cqg.rtd\",,\"StudyData\", \"Close(\"&$D$12&\") when LocalYear(\"&$D$12&\")=\"&$D$9&\" and localMonth(\"&$D$12&\") =\"&$E$9&\" and LocalDay(\"&$D$12&\")=\"&$F$9&\" and Barix(\"&$D$12&\",reference:=StartOfSession)=\"&A67&\"\", \"Bar\", \"\", \"Close\",\"5\",\"0\",\"PrimaryOnly\",,,\"False\",\"T\",\"EveryTick\")","v":1705.33},3.2533239204612149E-3,{"$f":"RTD(\"cqg.rtd\",,\"StudyData\", \"Close(\"&$D$12&\") when LocalYear(\"&$D$12&\")=\"&$D$10&\" and localMonth(\"&$D$12&\") =\"&$E$10&\" and LocalDay(\"&$D$12&\")=\"&$F$10&\" and Barix(\"&$D$12&\",reference:=StartOfSession)=\"&A67&\"\", \"Bar\", \"\", \"Close\",\"5\",\"0\",\"PrimaryOnly\",,,\"False\",\"T\",\"EveryTick\")","v":1710.79},5.4894354815010248E-3,null,null,null,{"$f":"IF(AND(H66<>\"\",H67<>\"\",H68=\"\"),A67,\"\")","v":""}]
[67,"14:05:00",-10,{"$f":" RTD(\"cqg.rtd\",,\"StudyData\", $D$12,  \"Tick\", \"FlatTicks=0\", \"Tick\",\"D\",C68,\"PrimaryOnly\")","v":1808.63},null,null,null,{"$f":"RTD(\"cqg.rtd\",,\"StudyData\", \"Close(\"&$D$12&\") when LocalYear(\"&$D$12&\")=\"&$D$1&\" and localMonth(\"&$D$12&\") =\"&$E$1&\" and LocalDay(\"&$D$12&\")=\"&$F$1&\" and Barix(\"&$D$12&\",reference:=StartOfSession)=\"&A68&\"\", \"Bar\", \"\", \"Close\",\"5\",\"0\",\"PrimaryOnly\",,,\"False\",\"T\",\"EveryTick\")","v":""},{"$error":"#N/A"},{"$f":"RTD(\"cqg.rtd\",,\"StudyData\", \"Close(\"&$D$12&\") when LocalYear(\"&$D$12&\")=\"&$D$2&\" and localMonth(\"&$D$12&\") =\"&$E$2&\" and LocalDay(\"&$D$12&\")=\"&$F$2&\" and Barix(\"&$D$12&\",reference:=StartOfSession)=\"&A68&\"\", \"Bar\", \"\", \"Close\",\"5\",\"0\",\"PrimaryOnly\",,,\"False\",\"T\",\"EveryTick\")","v":1795},2.2792022792022793E-2,{"$f":"RTD(\"cqg.rtd\",,\"StudyData\", \"Close(\"&$D$12&\") when LocalYear(\"&$D$12&\")=\"&$D$3&\" and localMonth(\"&$D$12&\") =\"&$E$3&\" and LocalDay(\"&$D$12&\")=\"&$F$3&\" and Barix(\"&$D$12&\",reference:=StartOfSession)=\"&A68&\"\", \"Bar\", \"\", \"Close\",\"5\",\"0\",\"PrimaryOnly\",,,\"False\",\"T\",\"EveryTick\")","v":1751.6},4.8936646262054727E-3,{"$f":"RTD(\"cqg.rtd\",,\"StudyData\", \"Close(\"&$D$12&\") when LocalYear(\"&$D$12&\")=\"&$D$4&\" and localMonth(\"&$D$12&\") =\"&$E$4&\" and LocalDay(\"&$D$12&\")=\"&$F$4&\" and Barix(\"&$D$12&\",reference:=StartOfSession)=\"&A68&\"\", \"Bar\", \"\", \"Close\",\"5\",\"0\",\"PrimaryOnly\",,,\"False\",\"T\",\"EveryTick\")","v":1743.44},2.5416613954986561E-3,{"$f":"RTD(\"cqg.rtd\",,\"StudyData\", \"Close(\"&$D$12&\") when LocalYear(\"&$D$12&\")=\"&$D$5&\" and localMonth(\"&$D$12&\") =\"&$E$5&\" and LocalDay(\"&$D$12&\")=\"&$F$5&\" and Barix(\"&$D$12&\",reference:=StartOfSession)=\"&A68&\"\", \"Bar\", \"\", \"Close\",\"5\",\"0\",\"PrimaryOnly\",,,\"False\",\"T\",\"EveryTick\")","v":1732.92},1.303028708721346E-2,{"$f":"RTD(\"cqg.rtd\",,\"StudyData\", \"Close(\"&$D$12&\") when LocalYear(\"&$D$12&\")=\"&$D$6&\" and localMonth(\"&$D$12&\") =\"&$E$6&\" and LocalDay(\"&$D$12&\")=\"&$F$6&\" and Barix(\"&$D$12&\",reference:=StartOfSession)=\"&A68&\"\", \"Bar\", \"\", \"Close\",\"5\",\"0\",\"PrimaryOnly\",,,\"False\",\"T\",\"EveryTick\")","v":1712.4},7.4541250669224362E-3,{"$f":"RTD(\"cqg.rtd\",,\"StudyData\", \"Close(\"&$D$12&\") when LocalYear(\"&$D$12&\")=\"&$D$7&\" and localMonth(\"&$D$12&\") =\"&$E$7&\" and LocalDay(\"&$D$12&\")=\"&$F$7&\" and Barix(\"&$D$12&\",reference:=StartOfSession)=\"&A68&\"\", \"Bar\", \"\", \"Close\",\"5\",\"0\",\"PrimaryOnly\",,,\"False\",\"T\",\"EveryTick\")","v":1702.57},5.0827646461545136E-3,{"$f":"RTD(\"cqg.rtd\",,\"StudyData\", \"Close(\"&$D$12&\") when LocalYear(\"&$D$12&\")=\"&$D$8&\" and localMonth(\"&$D$12&\") =\"&$E$8&\" and LocalDay(\"&$D$12&\")=\"&$F$8&\" and Barix(\"&$D$12&\",reference:=StartOfSession)=\"&A68&\"\", \"Bar\", \"\", \"Close\",\"5\",\"0\",\"PrimaryOnly\",,,\"False\",\"T\",\"EveryTick\")","v":""},{"$error":"#N/A"},{"$f":"RTD(\"cqg.rtd\",,\"StudyData\", \"Close(\"&$D$12&\") when LocalYear(\"&$D$12&\")=\"&$D$9&\" and localMonth(\"&$D$12&\") =\"&$E$9&\" and LocalDay(\"&$D$12&\")=\"&$F$9&\" and Barix(\"&$D$12&\",reference:=StartOfSession)=\"&A68&\"\", \"Bar\", \"\", \"Close\",\"5\",\"0\",\"PrimaryOnly\",,,\"False\",\"T\",\"EveryTick\")","v":1705.18},3.1650782444994172E-3,{"$f":"RTD(\"cqg.rtd\",,\"StudyData\", \"Close(\"&$D$12&\") when LocalYear(\"&$D$12&\")=\"&$D$10&\" and localMonth(\"&$D$12&\") =\"&$E$10&\" and LocalDay(\"&$D$12&\")=\"&$F$10&\" and Barix(\"&$D$12&\",reference:=StartOfSession)=\"&A68&\"\", \"Bar\", \"\", \"Close\",\"5\",\"0\",\"PrimaryOnly\",,,\"False\",\"T\",\"EveryTick\")","v":1707.65},3.6439507478915308E-3,null,null,null,""]
[68,"14:10:00",-9,{"$f":" RTD(\"cqg.rtd\",,\"StudyData\", $D$12,  \"Tick\", \"FlatTicks=0\", \"Tick\",\"D\",C69,\"PrimaryOnly\")","v":1808.39},null,null,null,{"$f":"RTD(\"cqg.rtd\",,\"StudyData\", \"Close(\"&$D$12&\") when LocalYear(\"&$D$12&\")=\"&$D$1&\" and localMonth(\"&$D$12&\") =\"&$E$1&\" and LocalDay(\"&$D$12&\")=\"&$F$1&\" and Barix(\"&$D$12&\",reference:=StartOfSession)=\"&A69&\"\", \"Bar\", \"\", \"Close\",\"5\",\"0\",\"PrimaryOnly\",,,\"False\",\"T\",\"EveryTick\")","v":""},{"$error":"#N/A"},{"$f":"RTD(\"cqg.rtd\",,\"StudyData\", \"Close(\"&$D$12&\") when LocalYear(\"&$D$12&\")=\"&$D$2&\" and localMonth(\"&$D$12&\") =\"&$E$2&\" and LocalDay(\"&$D$12&\")=\"&$F$2&\" and Barix(\"&$D$12&\",reference:=StartOfSession)=\"&A69&\"\", \"Bar\", \"\", \"Close\",\"5\",\"0\",\"PrimaryOnly\",,,\"False\",\"T\",\"EveryTick\")","v":1793.8},2.2108262108262083E-2,{"$f":"RTD(\"cqg.rtd\",,\"StudyData\", \"Close(\"&$D$12&\") when LocalYear(\"&$D$12&\")=\"&$D$3&\" and localMonth(\"&$D$12&\") =\"&$E$3&\" and LocalDay(\"&$D$12&\")=\"&$F$3&\" and Barix(\"&$D$12&\",reference:=StartOfSession)=\"&A69&\"\", \"Bar\", \"\", \"Close\",\"5\",\"0\",\"PrimaryOnly\",,,\"False\",\"T\",\"EveryTick\")","v":1752.14},5.2034628557660698E-3,{"$f":"RTD(\"cqg.rtd\",,\"StudyData\", \"Close(\"&$D$12&\") when LocalYear(\"&$D$12&\")=\"&$D$4&\" and localMonth(\"&$D$12&\") =\"&$E$4&\" and LocalDay(\"&$D$12&\")=\"&$F$4&\" and Barix(\"&$D$12&\",reference:=StartOfSession)=\"&A69&\"\", \"Bar\", \"\", \"Close\",\"5\",\"0\",\"PrimaryOnly\",,,\"False\",\"T\",\"EveryTick\")","v":1743.13},2.3634000759048934E-3,{"$f":"RTD(\"cqg.rtd\",,\"StudyData\", \"Close(\"&$D$12&\") when LocalYear(\"&$D$12&\")=\"&$D$5&\" and localMonth(\"&$D$12&\") =\"&$E$5&\" and LocalDay(\"&$D$12&\")=\"&$F$5&\" and Barix(\"&$D$12&\",reference:=StartOfSession)=\"&A69&\"\", \"Bar\", \"\", \"Close\",\"5\",\"0\",\"PrimaryOnly\",,,\"False\",\"T\",\"EveryTick\")","v":1732.58},1.2831529904187238E-2,{"$f":"RTD(\"cqg.rtd\",,\"StudyData\", \"Close(\"&$D$12&\") when LocalYear(\"&$D$12&\")=\"&$D$6&\" and localMonth(\"&$D$12&\") =\"&$E$6&\" and LocalDay(\"&$D$12&\")=\"&$F$6&\" and Barix(\"&$D$12&\",reference:=StartOfSession)=\"&A69&\"\", \"Bar\", \"\", \"Close\",\"5\",\"0\",\"PrimaryOnly\",,,\"False\",\"T\",\"EveryTick\")","v":1712.25},7.3658757567378243E-3,{"$f":"RTD(\"cqg.rtd\",,\"StudyData\", \"Close(\"&$D$12&\") when LocalYear(\"&$D$12&\")=\"&$D$7&\" and localMonth(\"&$D$12&\") =\"&$E$7&\" and LocalDay(\"&$D$12&\")=\"&$F$7&\" and Barix(\"&$D$12&\",reference:=StartOfSession)=\"&A69&\"\", \"Bar\", \"\", \"Close\",\"5\",\"0\",\"PrimaryOnly\",,,\"False\",\"T\",\"EveryTick\")","v":1702.48},5.0296347021181031E-3,{"$f":"RTD(\"cqg.rtd\",,\"StudyData\", \"Close(\"&$D$12&\") when LocalYear(\"&$D$12&\")=\"&$D$8&\" and localMonth(\"&$D$12&\") =\"&$E$8&\" and LocalDay(\"&$D$12&\")=\"&$F$8&\" and Barix(\"&$D$12&\",reference:=StartOfSession)=\"&A69&\"\", \"Bar\", \"\", \"Close\",\"5\",\"0\",\"PrimaryOnly\",,,\"False\",\"T\",\"EveryTick\")","v":""},{"$error":"#N/A"},{"$f":"RTD(\"cqg.rtd\",,\"StudyData\", \"Close(\"&$D$12&\") when LocalYear(\"&$D$12&\")=\"&$D$9&\" and localMonth(\"&$D$12&\") =\"&$E$9&\" and LocalDay(\"&$D$12&\")=\"&$F$9&\" and Barix(\"&$D$12&\",reference:=StartOfSession)=\"&A69&\"\", \"Bar\", \"\", \"Close\",\"5\",\"0\",\"PrimaryOnly\",,,\"False\",\"T\",\"EveryTick\")","v":1705.5},3.3533356865513859E-3,{"$f":"RTD(\"cqg.rtd\",,\"StudyData\", \"Close(\"&$D$12&\") when LocalYear(\"&$D$12&\")=\"&$D$10&\" and localMonth(\"&$D$12&\") =\"&$E$10&\" and LocalDay(\"&$D$12&\")=\"&$F$10&\" and Barix(\"&$D$12&\",reference:=StartOfSession)=\"&A69&\"\", \"Bar\", \"\", \"Close\",\"5\",\"0\",\"PrimaryOnly\",,,\"False\",\"T\",\"EveryTick\")","v":1707.98},3.8379029651179715E-3,null,null,null,""]
[69,"14:15:00",-8,{"$f":" RTD(\"cqg.rtd\",,\"StudyData\", $D$12,  \"Tick\", \"FlatTicks=0\", \"Tick\",\"D\",C70,\"PrimaryOnly\")","v":1808.64},null,null,null,{"$f":"RTD(\"cqg.rtd\",,\"StudyData\", \"Close(\"&$D$12&\") when LocalYear(\"&$D$12&\")=\"&$D$1&\" and localMonth(\"&$D$12&\") =\"&$E$1&\" and LocalDay(\"&$D$12&\")=\"&$F$1&\" and Barix(\"&$D$12&\",reference:=StartOfSession)=\"&A70&\"\", \"Bar\", \"\", \"Close\",\"5\",\"0\",\"PrimaryOnly\",,,\"False\",\"T\",\"EveryTick\")","v":""},{"$error":"#N/A"},{"$f":"RTD(\"cqg.rtd\",,\"StudyData\", \"Close(\"&$D$12&\") when LocalYear(\"&$D$12&\")=\"&$D$2&\" and localMonth(\"&$D$12&\") =\"&$E$2&\" and LocalDay(\"&$D$12&\")=\"&$F$2&\" and Barix(\"&$D$12&\",reference:=StartOfSession)=\"&A70&\"\", \"Bar\", \"\", \"Close\",\"5\",\"0\",\"PrimaryOnly\",,,\"False\",\"T\",\"EveryTick\")","v":1794.51},2.2512820512820508E-2,{"$f":"RTD(\"cqg.rtd\",,\"StudyData\", \"Close(\"&$D$12&\") when LocalYear(\"&$D$12&\")=\"&$D$3&\" and localMonth(\"&$D$12&\") =\"&$E$3&\" and LocalDay(\"&$D$12&\")=\"&$F$3&\" and Barix(\"&$D$12&\",reference:=StartOfSession)=\"&A70&\"\", \"Bar\", \"\", \"Close\",\"5\",\"0\",\"PrimaryOnly\",,,\"False\",\"T\",\"EveryTick\")","v":1751.99},5.1174077919992154E-3,{"$f":"RTD(\"cqg.rtd\",,\"StudyData\", \"Close(\"&$D$12&\") when LocalYear(\"&$D$12&\")=\"&$D$4&\" and localMonth(\"&$D$12&\") =\"&$E$4&\" and LocalDay(\"&$D$12&\")=\"&$F$4&\" and Barix(\"&$D$12&\",reference:=StartOfSession)=\"&A70&\"\", \"Bar\", \"\", \"Close\",\"5\",\"0\",\"PrimaryOnly\",,,\"False\",\"T\",\"EveryTick\")","v":1742.04},1.7366102747524363E-3,{"$f":"RTD(\"cqg.rtd\",,\"StudyData\", \"Close(\"&$D$12&\") when LocalYear(\"&$D$12&\")=\"&$D$5&\" and localMonth(\"&$D$12&\") =\"&$E$5&\" and LocalDay(\"&$D$12&\")=\"&$F$5&\" and Barix(\"&$D$12&\",reference:=StartOfSession)=\"&A70&\"\", \"Bar\", \"\", \"Close\",\"5\",\"0\",\"PrimaryOnly\",,,\"False\",\"T\",\"EveryTick\")","v":1732.39},1.2720459713672734E-2,{"$f":"RTD(\"cqg.rtd\",,\"StudyData\", \"Close(\"&$D$12&\") when LocalYear(\"&$D$12&\")=\"&$D$6&\" and localMonth(\"&$D$12&\") =\"&$E$6&\" and LocalDay(\"&$D$12&\")=\"&$F$6&\" and Barix(\"&$D$12&\",reference:=StartOfSession)=\"&A70&\"\", \"Bar\", \"\", \"Close\",\"5\",\"0\",\"PrimaryOnly\",,,\"False\",\"T\",\"EveryTick\")","v":1713.24},7.9483212039559176E-3,{"$f":"RTD(\"cqg.rtd\",,\"StudyData\", \"Close(\"&$D$12&\") when LocalYear(\"&$D$12&\")=\"&$D$7&\" and localMonth(\"&$D$12&\") =\"&$E$7&\" and LocalDay(\"&$D$12&\")=\"&$F$7&\" and Barix(\"&$D$12&\",reference:=StartOfSession)=\"&A70&\"\", \"Bar\", \"\", \"Close\",\"5\",\"0\",\"PrimaryOnly\",,,\"False\",\"T\",\"EveryTick\")","v":1703.48},5.6199674136343135E-3,{"$f":"RTD(\"cqg.rtd\",,\"StudyData\", \"Close(\"&$D$12&\") when LocalYear(\"&$D$12&\")=\"&$D$8&\" and localMonth(\"&$D$12&\") =\"&$E$8&\" and LocalDay(\"&$D$12&\")=\"&$F$8&\" and Barix(\"&$D$12&\",reference:=StartOfSession)=\"&A70&\"\", \"Bar\", \"\", \"Close\",\"5\",\"0\",\"PrimaryOnly\",,,\"False\",\"T\",\"EveryTick\")","v":""},{"$error":"#N/A"},{"$f":"RTD(\"cqg.rtd\",,\"StudyData\", \"Close(\"&$D$12&\") when LocalYear(\"&$D$12&\")=\"&$D$9&\" and localMonth(\"&$D$12&\") =\"&$E$9&\" and LocalDay(\"&$D$12&\")=\"&$F$9&\" and Barix(\"&$D$12&\",reference:=StartOfSession)=\"&A70&\"\", \"Bar\", \"\", \"Close\",\"5\",\"0\",\"PrimaryOnly\",,,\"False\",\"T\",\"EveryTick\")","v":1705.51},3.3592187316155058E-3,{"$f":"RTD(\"cqg.rtd\",,\"StudyData\", \"Close(\"&$D$12&\") when LocalYear(\"&$D$12&\")=\"&$D$10&\" and localMonth(\"&$D$12&\") =\"&$E$10&\" and LocalDay(\"&$D$12&\")=\"&$F$10&\" and Barix(\"&$D$12&\",reference:=StartOfSession)=\"&A70&\"\", \"Bar\", \"\", \"Close\",\"5\",\"0\",\"PrimaryOnly\",,,\"False\",\"T\",\"EveryTick\")","v":1707.36},3.4735078903287515E-3,null,null,null,""]
[70,"14:20:00",-7,{"$f":" RTD(\"cqg.rtd\",,\"StudyData\", $D$12,  \"Tick\", \"FlatTicks=0\", \"Tick\",\"D\",C71,\"PrimaryOnly\")","v":1808.66},null,null,null,{"$f":"RTD(\"cqg.rtd\",,\"StudyData\", \"Close(\"&$D$12&\") when LocalYear(\"&$D$12&\")=\"&$D$1&\" and localMonth(\"&$D$12&\") =\"&$E$1&\" and LocalDay(\"&$D$12&\")=\"&$F$1&\" and Barix(\"&$D$12&\",reference:=StartOfSession)=\"&A71&\"\", \"Bar\", \"\", \"Close\",\"5\",\"0\",\"PrimaryOnly\",,,\"False\",\"T\",\"EveryTick\")","v":""},{"$error":"#N/A"},{"$f":"RTD(\"cqg.rtd\",,\"StudyData\", \"Close(\"&$D$12&\") when LocalYear(\"&$D$12&\")=\"&$D$2&\" and localMonth(\"&$D$12&\") =\"&$E$2&\" and LocalDay(\"&$D$12&\")=\"&$F$2&\" and Barix(\"&$D$12&\",reference:=StartOfSession)=\"&A71&\"\", \"Bar\", \"\", \"Close\",\"5\",\"0\",\"PrimaryOnly\",,,\"False\",\"T\",\"EveryTick\")","v":1791.49},2.0792022792022798E-2,{"$f":"RTD(\"cqg.rtd\",,\"StudyData\", \"Close(\"&$D$12&\") when LocalYear(\"&$D$12&\")=\"&$D$3&\" and localMonth(\"&$D$12&\") =\"&$E$3&\" and LocalDay(\"&$D$12&\")=\"&$F$3&\" and Barix(\"&$D$12&\",reference:=StartOfSession)=\"&A71&\"\", \"Bar\", \"\", \"Close\",\"5\",\"0\",\"PrimaryOnly\",,,\"False\",\"T\",\"EveryTick\")","v":1751.42},4.7903985496854035E-3,{"$f":"RTD(\"cqg.rtd\",,\"StudyData\", \"Close(\"&$D$12&\") when LocalYear(\"&$D$12&\")=\"&$D$4&\" and localMonth(\"&$D$12&\") =\"&$E$4&\" and LocalDay(\"&$D$12&\")=\"&$F$4&\" and Barix(\"&$D$12&\",reference:=StartOfSession)=\"&A71&\"\", \"Bar\", \"\", \"Close\",\"5\",\"0\",\"PrimaryOnly\",,,\"False\",\"T\",\"EveryTick\")","v":1742.05},1.742360639900618E-3,{"$f":"RTD(\"cqg.rtd\",,\"StudyData\", \"Close(\"&$D$12&\") when LocalYear(\"&$D$12&\")=\"&$D$5&\" and localMonth(\"&$D$12&\") =\"&$E$5&\" and LocalDay(\"&$D$12&\")=\"&$F$5&\" and Barix(\"&$D$12&\",reference:=StartOfSession)=\"&A71&\"\", \"Bar\", \"\", \"Close\",\"5\",\"0\",\"PrimaryOnly\",,,\"False\",\"T\",\"EveryTick\")","v":1733.62},1.3439493052267165E-2,{"$f":"RTD(\"cqg.rtd\",,\"StudyData\", \"Close(\"&$D$12&\") when LocalYear(\"&$D$12&\")=\"&$D$6&\" and localMonth(\"&$D$12&\") =\"&$E$6&\" and LocalDay(\"&$D$12&\")=\"&$F$6&\" and Barix(\"&$D$12&\",reference:=StartOfSession)=\"&A71&\"\", \"Bar\", \"\", \"Close\",\"5\",\"0\",\"PrimaryOnly\",,,\"False\",\"T\",\"EveryTick\")","v":1712.86},7.7247562848216369E-3,{"$f":"RTD(\"cqg.rtd\",,\"StudyData\", \"Close(\"&$D$12&\") when LocalYear(\"&$D$12&\")=\"&$D$7&\" and localMonth(\"&$D$12&\") =\"&$E$7&\" and LocalDay(\"&$D$12&\")=\"&$F$7&\" and Barix(\"&$D$12&\",reference:=StartOfSession)=\"&A71&\"\", \"Bar\", \"\", \"Close\",\"5\",\"0\",\"PrimaryOnly\",,,\"False\",\"T\",\"EveryTick\")","v":1702},4.7462750005903111E-3,{"$f":"RTD(\"cqg.rtd\",,\"StudyData\", \"Close(\"&$D$12&\") when LocalYear(\"&$D$12&\")=\"&$D$8&\" and localMonth(\"&$D$12&\") =\"&$E$8&\" and LocalDay(\"&$D$12&\")=\"&$F$8&\" and Barix(\"&$D$12&\",reference:=StartOfSession)=\"&A71&\"\", \"Bar\", \"\", \"Close\",\"5\",\"0\",\"PrimaryOnly\",,,\"False\",\"T\",\"EveryTick\")","v":""},{"$error":"#N/A"},{"$f":"RTD(\"cqg.rtd\",,\"StudyData\", \"Close(\"&$D$12&\") when LocalYear(\"&$D$12&\")=\"&$D$9&\" and localMonth(\"&$D$12&\") =\"&$E$9&\" and LocalDay(\"&$D$12&\")=\"&$F$9&\" and Barix(\"&$D$12&\",reference:=StartOfSession)=\"&A71&\"\", \"Bar\", \"\", \"Close\",\"5\",\"0\",\"PrimaryOnly\",,,\"False\",\"T\",\"EveryTick\")","v":1705.14},3.1415460642429376E-3,{"$f":"RTD(\"cqg.rtd\",,\"StudyData\", \"Close(\"&$D$12&\") when LocalYear(\"&$D$12&\")=\"&$D$10&\" and localMonth(\"&$D$12&\") =\"&$E$10&\" and LocalDay(\"&$D$12&\")=\"&$F$10&\" and Barix(\"&$D$12&\",reference:=StartOfSession)=\"&A71&\"\", \"Bar\", \"\", \"Close\",\"5\",\"0\",\"PrimaryOnly\",,,\"False\",\"T\",\"EveryTick\")","v":1704.79},1.9630315319286011E-3,null,null,null,""]
[71,"14:25:00",-6,{"$f":" RTD(\"cqg.rtd\",,\"StudyData\", $D$12,  \"Tick\", \"FlatTicks=0\", \"Tick\",\"D\",C72,\"PrimaryOnly\")","v":1808.39},null,null,null,{"$f":"RTD(\"cqg.rtd\",,\"StudyData\", \"Close(\"&$D$12&\") when LocalYear(\"&$D$12&\")=\"&$D$1&\" and localMonth(\"&$D$12&\") =\"&$E$1&\" and LocalDay(\"&$D$12&\")=\"&$F$1&\" and Barix(\"&$D$12&\",reference:=StartOfSession)=\"&A72&\"\", \"Bar\", \"\", \"Close\",\"5\",\"0\",\"PrimaryOnly\",,,\"False\",\"T\",\"EveryTick\")","v":""},{"$error":"#N/A"},{"$f":"RTD(\"cqg.rtd\",,\"StudyData\", \"Close(\"&$D$12&\") when LocalYear(\"&$D$12&\")=\"&$D$2&\" and localMonth(\"&$D$12&\") =\"&$E$2&\" and LocalDay(\"&$D$12&\")=\"&$F$2&\" and Barix(\"&$D$12&\",reference:=StartOfSession)=\"&A72&\"\", \"Bar\", \"\", \"Close\",\"5\",\"0\",\"PrimaryOnly\",,,\"False\",\"T\",\"EveryTick\")","v":1794.36},2.2427350427350369E-2,{"$f":"RTD(\"cqg.rtd\",,\"StudyData\", \"Close(\"&$D$12&\") when LocalYear(\"&$D$12&\")=\"&$D$3&\" and localMonth(\"&$D$12&\") =\"&$E$3&\" and LocalDay(\"&$D$12&\")=\"&$F$3&\" and Barix(\"&$D$12&\",reference:=StartOfSession)=\"&A72&\"\", \"Bar\", \"\", \"Close\",\"5\",\"0\",\"PrimaryOnly\",,,\"False\",\"T\",\"EveryTick\")","v":1751.72},4.9625086772189823E-3,{"$f":"RTD(\"cqg.rtd\",,\"StudyData\", \"Close(\"&$D$12&\") when LocalYear(\"&$D$12&\")=\"&$D$4&\" and localMonth(\"&$D$12&\") =\"&$E$4&\" and LocalDay(\"&$D$12&\")=\"&$F$4&\" and Barix(\"&$D$12&\",reference:=StartOfSession)=\"&A72&\"\", \"Bar\", \"\", \"Close\",\"5\",\"0\",\"PrimaryOnly\",,,\"False\",\"T\",\"EveryTick\")","v":1740.5},8.5105404193167315E-4,{"$f":"RTD(\"cqg.rtd\",,\"StudyData\", \"Close(\"&$D$12&\") when LocalYear(\"&$D$12&\")=\"&$D$5&\" and localMonth(\"&$D$12&\") =\"&$E$5&\" and LocalDay(\"&$D$12&\")=\"&$F$5&\" and Barix(\"&$D$12&\",reference:=StartOfSession)=\"&A72&\"\", \"Bar\", \"\", \"Close\",\"5\",\"0\",\"PrimaryOnly\",,,\"False\",\"T\",\"EveryTick\")","v":1733.14},1.3158894676230388E-2,{"$f":"RTD(\"cqg.rtd\",,\"StudyData\", \"Close(\"&$D$12&\") when LocalYear(\"&$D$12&\")=\"&$D$6&\" and localMonth(\"&$D$12&\") =\"&$E$6&\" and LocalDay(\"&$D$12&\")=\"&$F$6&\" and Barix(\"&$D$12&\",reference:=StartOfSession)=\"&A72&\"\", \"Bar\", \"\", \"Close\",\"5\",\"0\",\"PrimaryOnly\",,,\"False\",\"T\",\"EveryTick\")","v":1712.82},7.7012231354391097E-3,{"$f":"RTD(\"cqg.rtd\",,\"StudyData\", \"Close(\"&$D$12&\") when LocalYear(\"&$D$12&\")=\"&$D$7&\" and localMonth(\"&$D$12&\") =\"&$E$7&\" and LocalDay(\"&$D$12&\")=\"&$F$7&\" and Barix(\"&$D$12&\",reference:=StartOfSession)=\"&A72&\"\", \"Bar\", \"\", \"Close\",\"5\",\"0\",\"PrimaryOnly\",,,\"False\",\"T\",\"EveryTick\")","v":1701.38},4.3802687194503254E-3,{"$f":"RTD(\"cqg.rtd\",,\"StudyData\", \"Close(\"&$D$12&\") when LocalYear(\"&$D$12&\")=\"&$D$8&\" and localMonth(\"&$D$12&\") =\"&$E$8&\" and LocalDay(\"&$D$12&\")=\"&$F$8&\" and Barix(\"&$D$12&\",reference:=StartOfSession)=\"&A72&\"\", \"Bar\", \"\", \"Close\",\"5\",\"0\",\"PrimaryOnly\",,,\"False\",\"T\",\"EveryTick\")","v":""},{"$error":"#N/A"},{"$f":"RTD(\"cqg.rtd\",,\"StudyData\", \"Close(\"&$D$12&\") when LocalYear(\"&$D$12&\")=\"&$D$9&\" and localMonth(\"&$D$12&\") =\"&$E$9&\" and LocalDay(\"&$D$12&\")=\"&$F$9&\" and Barix(\"&$D$12&\",reference:=StartOfSession)=\"&A72&\"\", \"Bar\", \"\", \"Close\",\"5\",\"0\",\"PrimaryOnly\",,,\"False\",\"T\",\"EveryTick\")","v":1707.1},4.2946228968113627E-3,{"$f":"RTD(\"cqg.rtd\",,\"StudyData\", \"Close(\"&$D$12&\") when LocalYear(\"&$D$12&\")=\"&$D$10&\" and localMonth(\"&$D$12&\") =\"&$E$10&\" and LocalDay(\"&$D$12&\")=\"&$F$10&\" and Barix(\"&$D$12&\",reference:=StartOfSession)=\"&A72&\"\", \"Bar\", \"\", \"Close\",\"5\",\"0\",\"PrimaryOnly\",,,\"False\",\"T\",\"EveryTick\")","v":1706.49},2.9621793176408144E-3,null,null,null,""]
[72,"14:30:00",-5,{"$f":" RTD(\"cqg.rtd\",,\"StudyData\", $D$12,  \"Tick\", \"FlatTicks=0\", \"Tick\",\"D\",C73,\"PrimaryOnly\")","v":1808.26},null,null,null,{"$f":"RTD(\"cqg.rtd\",,\"StudyData\", \"Close(\"&$D$12&\") when LocalYear(\"&$D$12&\")=\"&$D$1&\" and localMonth(\"&$D$12&\") =\"&$E$1&\" and LocalDay(\"&$D$12&\")=\"&$F$1&\" and Barix(\"&$D$12&\",reference:=StartOfSession)=\"&A73&\"\", \"Bar\", \"\", \"Close\",\"5\",\"0\",\"PrimaryOnly\",,,\"False\",\"T\",\"EveryTick\")","v":""},{"$error":"#N/A"},{"$f":"RTD(\"cqg.rtd\",,\"StudyData\", \"Close(\"&$D$12&\") when LocalYear(\"&$D$12&\")=\"&$D$2&\" and localMonth(\"&$D$12&\") =\"&$E$2&\" and LocalDay(\"&$D$12&\")=\"&$F$2&\" and Barix(\"&$D$12&\",reference:=StartOfSession)=\"&A73&\"\", \"Bar\", \"\", \"Close\",\"5\",\"0\",\"PrimaryOnly\",,,\"False\",\"T\",\"EveryTick\")","v":1794.91},2.2740740740740787E-2,{"$f":"RTD(\"cqg.rtd\",,\"StudyData\", \"Close(\"&$D$12&\") when LocalYear(\"&$D$12&\")=\"&$D$3&\" and localMonth(\"&$D$12&\") =\"&$E$3&\" and LocalDay(\"&$D$12&\")=\"&$F$3&\" and Barix(\"&$D$12&\",reference:=StartOfSession)=\"&A73&\"\", \"Bar\", \"\", \"Close\",\"5\",\"0\",\"PrimaryOnly\",,,\"False\",\"T\",\"EveryTick\")","v":1753.6},6.0410654764295026E-3,{"$f":"RTD(\"cqg.rtd\",,\"StudyData\", \"Close(\"&$D$12&\") when LocalYear(\"&$D$12&\")=\"&$D$4&\" and localMonth(\"&$D$12&\") =\"&$E$4&\" and LocalDay(\"&$D$12&\")=\"&$F$4&\" and Barix(\"&$D$12&\",reference:=StartOfSession)=\"&A73&\"\", \"Bar\", \"\", \"Close\",\"5\",\"0\",\"PrimaryOnly\",,,\"False\",\"T\",\"EveryTick\")","v":1742.28},1.8746190383089273E-3,{"$f":"RTD(\"cqg.rtd\",,\"StudyData\", \"Close(\"&$D$12&\") when LocalYear(\"&$D$12&\")=\"&$D$5&\" and localMonth(\"&$D$12&\") =\"&$E$5&\" and LocalDay(\"&$D$12&\")=\"&$F$5&\" and Barix(\"&$D$12&\",reference:=StartOfSession)=\"&A73&\"\", \"Bar\", \"\", \"Close\",\"5\",\"0\",\"PrimaryOnly\",,,\"False\",\"T\",\"EveryTick\")","v":1734.2},1.3778549423311841E-2,{"$f":"RTD(\"cqg.rtd\",,\"StudyData\", \"Close(\"&$D$12&\") when LocalYear(\"&$D$12&\")=\"&$D$6&\" and localMonth(\"&$D$12&\") =\"&$E$6&\" and LocalDay(\"&$D$12&\")=\"&$F$6&\" and Barix(\"&$D$12&\",reference:=StartOfSession)=\"&A73&\"\", \"Bar\", \"\", \"Close\",\"5\",\"0\",\"PrimaryOnly\",,,\"False\",\"T\",\"EveryTick\")","v":1712.15},7.3070428832815049E-3,{"$f":"RTD(\"cqg.rtd\",,\"StudyData\", \"Close(\"&$D$12&\") when LocalYear(\"&$D$12&\")=\"&$D$7&\" and localMonth(\"&$D$12&\") =\"&$E$7&\" and LocalDay(\"&$D$12&\")=\"&$F$7&\" and Barix(\"&$D$12&\",reference:=StartOfSession)=\"&A73&\"\", \"Bar\", \"\", \"Close\",\"5\",\"0\",\"PrimaryOnly\",,,\"False\",\"T\",\"EveryTick\")","v":1702.33},4.9410847953906181E-3,{"$f":"RTD(\"cqg.rtd\",,\"StudyData\", \"Close(\"&$D$12&\") when LocalYear(\"&$D$12&\")=\"&$D$8&\" and localMonth(\"&$D$12&\") =\"&$E$8&\" and LocalDay(\"&$D$12&\")=\"&$F$8&\" and Barix(\"&$D$12&\",reference:=StartOfSession)=\"&A73&\"\", \"Bar\", \"\", \"Close\",\"5\",\"0\",\"PrimaryOnly\",,,\"False\",\"T\",\"EveryTick\")","v":""},{"$error":"#N/A"},{"$f":"RTD(\"cqg.rtd\",,\"StudyData\", \"Close(\"&$D$12&\") when LocalYear(\"&$D$12&\")=\"&$D$9&\" and localMonth(\"&$D$12&\") =\"&$E$9&\" and LocalDay(\"&$D$12&\")=\"&$F$9&\" and Barix(\"&$D$12&\",reference:=StartOfSession)=\"&A73&\"\", \"Bar\", \"\", \"Close\",\"5\",\"0\",\"PrimaryOnly\",,,\"False\",\"T\",\"EveryTick\")","v":1705.51},3.3592187316155058E-3,{"$f":"RTD(\"cqg.rtd\",,\"StudyData\", \"Close(\"&$D$12&\") when LocalYear(\"&$D$12&\")=\"&$D$10&\" and localMonth(\"&$D$12&\") =\"&$E$10&\" and LocalDay(\"&$D$12&\")=\"&$F$10&\" and Barix(\"&$D$12&\",reference:=StartOfSession)=\"&A73&\"\", \"Bar\", \"\", \"Close\",\"5\",\"0\",\"PrimaryOnly\",,,\"False\",\"T\",\"EveryTick\")","v":1705.49},2.3744453260454105E-3,null,null,null,""]
[73,"14:35:00",-4,{"$f":" RTD(\"cqg.rtd\",,\"StudyData\", $D$12,  \"Tick\", \"FlatTicks=0\", \"Tick\",\"D\",C74,\"PrimaryOnly\")","v":1808.25},null,null,null,{"$f":"RTD(\"cqg.rtd\",,\"StudyData\", \"Close(\"&$D$12&\") when LocalYear(\"&$D$12&\")=\"&$D$1&\" and localMonth(\"&$D$12&\") =\"&$E$1&\" and LocalDay(\"&$D$12&\")=\"&$F$1&\" and Barix(\"&$D$12&\",reference:=StartOfSession)=\"&A74&\"\", \"Bar\", \"\", \"Close\",\"5\",\"0\",\"PrimaryOnly\",,,\"False\",\"T\",\"EveryTick\")","v":""},{"$error":"#N/A"},{"$f":"RTD(\"cqg.rtd\",,\"StudyData\", \"Close(\"&$D$12&\") when LocalYear(\"&$D$12&\")=\"&$D$2&\" and localMonth(\"&$D$12&\") =\"&$E$2&\" and LocalDay(\"&$D$12&\")=\"&$F$2&\" and Barix(\"&$D$12&\",reference:=StartOfSession)=\"&A74&\"\", \"Bar\", \"\", \"Close\",\"5\",\"0\",\"PrimaryOnly\",,,\"False\",\"T\",\"EveryTick\")","v":1795.12},2.2860398860398798E-2,{"$f":"RTD(\"cqg.rtd\",,\"StudyData\", \"Close(\"&$D$12&\") when LocalYear(\"&$D$12&\")=\"&$D$3&\" and localMonth(\"&$D$12&\") =\"&$E$3&\" and LocalDay(\"&$D$12&\")=\"&$F$3&\" and Barix(\"&$D$12&\",reference:=StartOfSession)=\"&A74&\"\", \"Bar\", \"\", \"Close\",\"5\",\"0\",\"PrimaryOnly\",,,\"False\",\"T\",\"EveryTick\")","v":1754.09},6.3221786847343954E-3,{"$f":"RTD(\"cqg.rtd\",,\"StudyData\", \"Close(\"&$D$12&\") when LocalYear(\"&$D$12&\")=\"&$D$4&\" and localMonth(\"&$D$12&\") =\"&$E$4&\" and LocalDay(\"&$D$12&\")=\"&$F$4&\" and Barix(\"&$D$12&\",reference:=StartOfSession)=\"&A74&\"\", \"Bar\", \"\", \"Close\",\"5\",\"0\",\"PrimaryOnly\",,,\"False\",\"T\",\"EveryTick\")","v":1740.85},1.0523168221181626E-3,{"$f":"RTD(\"cqg.rtd\",,\"StudyData\", \"Close(\"&$D$12&\") when LocalYear(\"&$D$12&\")=\"&$D$5&\" and localMonth(\"&$D$12&\") =\"&$E$5&\" and LocalDay(\"&$D$12&\")=\"&$F$5&\" and Barix(\"&$D$12&\",reference:=StartOfSession)=\"&A74&\"\", \"Bar\", \"\", \"Close\",\"5\",\"0\",\"PrimaryOnly\",,,\"False\",\"T\",\"EveryTick\")","v":1735.05},1.4275442380877129E-2,{"$f":"RTD(\"cqg.rtd\",,\"StudyData\", \"Close(\"&$D$12&\") when LocalYear(\"&$D$12&\")=\"&$D$6&\" and localMonth(\"&$D$12&\") =\"&$E$6&\" and LocalDay(\"&$D$12&\")=\"&$F$6&\" and Barix(\"&$D$12&\",reference:=StartOfSession)=\"&A74&\"\", \"Bar\", \"\", \"Close\",\"5\",\"0\",\"PrimaryOnly\",,,\"False\",\"T\",\"EveryTick\")","v":1711.02},6.6422314132244314E-3,{"$f":"RTD(\"cqg.rtd\",,\"StudyData\", \"Close(\"&$D$12&\") when LocalYear(\"&$D$12&\")=\"&$D$7&\" and localMonth(\"&$D$12&\") =\"&$E$7&\" and LocalDay(\"&$D$12&\")=\"&$F$7&\" and Barix(\"&$D$12&\",reference:=StartOfSession)=\"&A74&\"\", \"Bar\", \"\", \"Close\",\"5\",\"0\",\"PrimaryOnly\",,,\"False\",\"T\",\"EveryTick\")","v":1701.06},4.1913622517650408E-3,{"$f":"RTD(\"cqg.rtd\",,\"StudyData\", \"Close(\"&$D$12&\") when LocalYear(\"&$D$12&\")=\"&$D$8&\" and localMonth(\"&$D$12&\") =\"&$E$8&\" and LocalDay(\"&$D$12&\")=\"&$F$8&\" and Barix(\"&$D$12&\",reference:=StartOfSession)=\"&A74&\"\", \"Bar\", \"\", \"Close\",\"5\",\"0\",\"PrimaryOnly\",,,\"False\",\"T\",\"EveryTick\")","v":""},{"$error":"#N/A"},{"$f":"RTD(\"cqg.rtd\",,\"StudyData\", \"Close(\"&$D$12&\") when LocalYear(\"&$D$12&\")=\"&$D$9&\" and localMonth(\"&$D$12&\") =\"&$E$9&\" and LocalDay(\"&$D$12&\")=\"&$F$9&\" and Barix(\"&$D$12&\",reference:=StartOfSession)=\"&A74&\"\", \"Bar\", \"\", \"Close\",\"5\",\"0\",\"PrimaryOnly\",,,\"False\",\"T\",\"EveryTick\")","v":1709.29},5.5830097658548117E-3,{"$f":"RTD(\"cqg.rtd\",,\"StudyData\", \"Close(\"&$D$12&\") when LocalYear(\"&$D$12&\")=\"&$D$10&\" and localMonth(\"&$D$12&\") =\"&$E$10&\" and LocalDay(\"&$D$12&\")=\"&$F$10&\" and Barix(\"&$D$12&\",reference:=StartOfSession)=\"&A74&\"\", \"Bar\", \"\", \"Close\",\"5\",\"0\",\"PrimaryOnly\",,,\"False\",\"T\",\"EveryTick\")","v":1705.26},2.2392665079784568E-3,null,null,null,""]
[74,"14:40:00",-3,{"$f":" RTD(\"cqg.rtd\",,\"StudyData\", $D$12,  \"Tick\", \"FlatTicks=0\", \"Tick\",\"D\",C75,\"PrimaryOnly\")","v":1808.26},null,null,null,{"$f":"RTD(\"cqg.rtd\",,\"StudyData\", \"Close(\"&$D$12&\") when LocalYear(\"&$D$12&\")=\"&$D$1&\" and localMonth(\"&$D$12&\") =\"&$E$1&\" and LocalDay(\"&$D$12&\")=\"&$F$1&\" and Barix(\"&$D$12&\",reference:=StartOfSession)=\"&A75&\"\", \"Bar\", \"\", \"Close\",\"5\",\"0\",\"PrimaryOnly\",,,\"False\",\"T\",\"EveryTick\")","v":""},{"$error":"#N/A"},{"$f":"RTD(\"cqg.rtd\",,\"StudyData\", \"Close(\"&$D$12&\") when LocalYear(\"&$D$12&\")=\"&$D$2&\" and localMonth(\"&$D$12&\") =\"&$E$2&\" and LocalDay(\"&$D$12&\")=\"&$F$2&\" and Barix(\"&$D$12&\",reference:=StartOfSession)=\"&A75&\"\", \"Bar\", \"\", \"Close\",\"5\",\"0\",\"PrimaryOnly\",,,\"False\",\"T\",\"EveryTick\")","v":1793.29},2.1817663817663795E-2,{"$f":"RTD(\"cqg.rtd\",,\"StudyData\", \"Close(\"&$D$12&\") when LocalYear(\"&$D$12&\")=\"&$D$3&\" and localMonth(\"&$D$12&\") =\"&$E$3&\" and LocalDay(\"&$D$12&\")=\"&$F$3&\" and Barix(\"&$D$12&\",reference:=StartOfSession)=\"&A75&\"\", \"Bar\", \"\", \"Close\",\"5\",\"0\",\"PrimaryOnly\",,,\"False\",\"T\",\"EveryTick\")","v":1753.81},6.1615425657030468E-3,{"$f":"RTD(\"cqg.rtd\",,\"StudyData\", \"Close(\"&$D$12&\") when LocalYear(\"&$D$12&\")=\"&$D$4&\" and localMonth(\"&$D$12&\") =\"&$E$4&\" and LocalDay(\"&$D$12&\")=\"&$F$4&\" and Barix(\"&$D$12&\",reference:=StartOfSession)=\"&A75&\"\", \"Bar\", \"\", \"Close\",\"5\",\"0\",\"PrimaryOnly\",,,\"False\",\"T\",\"EveryTick\")","v":1740.73},9.8331244033998243E-4,{"$f":"RTD(\"cqg.rtd\",,\"StudyData\", \"Close(\"&$D$12&\") when LocalYear(\"&$D$12&\")=\"&$D$5&\" and localMonth(\"&$D$12&\") =\"&$E$5&\" and LocalDay(\"&$D$12&\")=\"&$F$5&\" and Barix(\"&$D$12&\",reference:=StartOfSession)=\"&A75&\"\", \"Bar\", \"\", \"Close\",\"5\",\"0\",\"PrimaryOnly\",,,\"False\",\"T\",\"EveryTick\")","v":1738.11},1.6064257028112327E-2,{"$f":"RTD(\"cqg.rtd\",,\"StudyData\", \"Close(\"&$D$12&\") when LocalYear(\"&$D$12&\")=\"&$D$6&\" and localMonth(\"&$D$12&\") =\"&$E$6&\" and LocalDay(\"&$D$12&\")=\"&$F$6&\" and Barix(\"&$D$12&\",reference:=StartOfSession)=\"&A75&\"\", \"Bar\", \"\", \"Close\",\"5\",\"0\",\"PrimaryOnly\",,,\"False\",\"T\",\"EveryTick\")","v":1711.36},6.8422631829760504E-3,{"$f":"RTD(\"cqg.rtd\",,\"StudyData\", \"Close(\"&$D$12&\") when LocalYear(\"&$D$12&\")=\"&$D$7&\" and localMonth(\"&$D$12&\") =\"&$E$7&\" and LocalDay(\"&$D$12&\")=\"&$F$7&\" and Barix(\"&$D$12&\",reference:=StartOfSession)=\"&A75&\"\", \"Bar\", \"\", \"Close\",\"5\",\"0\",\"PrimaryOnly\",,,\"False\",\"T\",\"EveryTick\")","v":1701.4},4.3920753736806381E-3,{"$f":"RTD(\"cqg.rtd\",,\"StudyData\", \"Close(\"&$D$12&\") when LocalYear(\"&$D$12&\")=\"&$D$8&\" and localMonth(\"&$D$12&\") =\"&$E$8&\" and LocalDay(\"&$D$12&\")=\"&$F$8&\" and Barix(\"&$D$12&\",reference:=StartOfSession)=\"&A75&\"\", \"Bar\", \"\", \"Close\",\"5\",\"0\",\"PrimaryOnly\",,,\"False\",\"T\",\"EveryTick\")","v":""},{"$error":"#N/A"},{"$f":"RTD(\"cqg.rtd\",,\"StudyData\", \"Close(\"&$D$12&\") when LocalYear(\"&$D$12&\")=\"&$D$9&\" and localMonth(\"&$D$12&\") =\"&$E$9&\" and LocalDay(\"&$D$12&\")=\"&$F$9&\" and Barix(\"&$D$12&\",reference:=StartOfSession)=\"&A75&\"\", \"Bar\", \"\", \"Close\",\"5\",\"0\",\"PrimaryOnly\",,,\"False\",\"T\",\"EveryTick\")","v":1709.49},5.7006706671373425E-3,{"$f":"RTD(\"cqg.rtd\",,\"StudyData\", \"Close(\"&$D$12&\") when LocalYear(\"&$D$12&\")=\"&$D$10&\" and localMonth(\"&$D$12&\") =\"&$E$10&\" and LocalDay(\"&$D$12&\")=\"&$F$10&\" and Barix(\"&$D$12&\",reference:=StartOfSession)=\"&A75&\"\", \"Bar\", \"\", \"Close\",\"5\",\"0\",\"PrimaryOnly\",,,\"False\",\"T\",\"EveryTick\")","v":1706.41},2.9151605983132249E-3,null,null,null,""]
[75,"14:45:00",-2,{"$f":" RTD(\"cqg.rtd\",,\"StudyData\", $D$12,  \"Tick\", \"FlatTicks=0\", \"Tick\",\"D\",C76,\"PrimaryOnly\")","v":1808.35},null,null,null,{"$f":"RTD(\"cqg.rtd\",,\"StudyData\", \"Close(\"&$D$12&\") when LocalYear(\"&$D$12&\")=\"&$D$1&\" and localMonth(\"&$D$12&\") =\"&$E$1&\" and LocalDay(\"&$D$12&\")=\"&$F$1&\" and Barix(\"&$D$12&\",reference:=StartOfSession)=\"&A76&\"\", \"Bar\", \"\", \"Close\",\"5\",\"0\",\"PrimaryOnly\",,,\"False\",\"T\",\"EveryTick\")","v":""},{"$error":"#N/A"},{"$f":"RTD(\"cqg.rtd\",,\"StudyData\", \"Close(\"&$D$12&\") when LocalYear(\"&$D$12&\")=\"&$D$2&\" and localMonth(\"&$D$12&\") =\"&$E$2&\" and LocalDay(\"&$D$12&\")=\"&$F$2&\" and Barix(\"&$D$12&\",reference:=StartOfSession)=\"&A76&\"\", \"Bar\", \"\", \"Close\",\"5\",\"0\",\"PrimaryOnly\",,,\"False\",\"T\",\"EveryTick\")","v":1796.46},2.3623931623931643E-2,{"$f":"RTD(\"cqg.rtd\",,\"StudyData\", \"Close(\"&$D$12&\") when LocalYear(\"&$D$12&\")=\"&$D$3&\" and localMonth(\"&$D$12&\") =\"&$E$3&\" and LocalDay(\"&$D$12&\")=\"&$F$3&\" and Barix(\"&$D$12&\",reference:=StartOfSession)=\"&A76&\"\", \"Bar\", \"\", \"Close\",\"5\",\"0\",\"PrimaryOnly\",,,\"False\",\"T\",\"EveryTick\")","v":1755.75},7.2745213904203869E-3,{"$f":"RTD(\"cqg.rtd\",,\"StudyData\", \"Close(\"&$D$12&\") when LocalYear(\"&$D$12&\")=\"&$D$4&\" and localMonth(\"&$D$12&\") =\"&$E$4&\" and LocalDay(\"&$D$12&\")=\"&$F$4&\" and Barix(\"&$D$12&\",reference:=StartOfSession)=\"&A76&\"\", \"Bar\", \"\", \"Close\",\"5\",\"0\",\"PrimaryOnly\",,,\"False\",\"T\",\"EveryTick\")","v":1740.02},5.7503651481869095E-4,{"$f":"RTD(\"cqg.rtd\",,\"StudyData\", \"Close(\"&$D$12&\") when LocalYear(\"&$D$12&\")=\"&$D$5&\" and localMonth(\"&$D$12&\") =\"&$E$5&\" and LocalDay(\"&$D$12&\")=\"&$F$5&\" and Barix(\"&$D$12&\",reference:=StartOfSession)=\"&A76&\"\", \"Bar\", \"\", \"Close\",\"5\",\"0\",\"PrimaryOnly\",,,\"False\",\"T\",\"EveryTick\")","v":1739},1.6584533183680802E-2,{"$f":"RTD(\"cqg.rtd\",,\"StudyData\", \"Close(\"&$D$12&\") when LocalYear(\"&$D$12&\")=\"&$D$6&\" and localMonth(\"&$D$12&\") =\"&$E$6&\" and LocalDay(\"&$D$12&\")=\"&$F$6&\" and Barix(\"&$D$12&\",reference:=StartOfSession)=\"&A76&\"\", \"Bar\", \"\", \"Close\",\"5\",\"0\",\"PrimaryOnly\",,,\"False\",\"T\",\"EveryTick\")","v":1710.09},6.0950856900801303E-3,{"$f":"RTD(\"cqg.rtd\",,\"StudyData\", \"Close(\"&$D$12&\") when LocalYear(\"&$D$12&\")=\"&$D$7&\" and localMonth(\"&$D$12&\") =\"&$E$7&\" and LocalDay(\"&$D$12&\")=\"&$F$7&\" and Barix(\"&$D$12&\",reference:=StartOfSession)=\"&A76&\"\", \"Bar\", \"\", \"Close\",\"5\",\"0\",\"PrimaryOnly\",,,\"False\",\"T\",\"EveryTick\")","v":1699.68},3.3767031098727402E-3,{"$f":"RTD(\"cqg.rtd\",,\"StudyData\", \"Close(\"&$D$12&\") when LocalYear(\"&$D$12&\")=\"&$D$8&\" and localMonth(\"&$D$12&\") =\"&$E$8&\" and LocalDay(\"&$D$12&\")=\"&$F$8&\" and Barix(\"&$D$12&\",reference:=StartOfSession)=\"&A76&\"\", \"Bar\", \"\", \"Close\",\"5\",\"0\",\"PrimaryOnly\",,,\"False\",\"T\",\"EveryTick\")","v":""},{"$error":"#N/A"},{"$f":"RTD(\"cqg.rtd\",,\"StudyData\", \"Close(\"&$D$12&\") when LocalYear(\"&$D$12&\")=\"&$D$9&\" and localMonth(\"&$D$12&\") =\"&$E$9&\" and LocalDay(\"&$D$12&\")=\"&$F$9&\" and Barix(\"&$D$12&\",reference:=StartOfSession)=\"&A76&\"\", \"Bar\", \"\", \"Close\",\"5\",\"0\",\"PrimaryOnly\",,,\"False\",\"T\",\"EveryTick\")","v":1710.29},6.1713142722673309E-3,{"$f":"RTD(\"cqg.rtd\",,\"StudyData\", \"Close(\"&$D$12&\") when LocalYear(\"&$D$12&\")=\"&$D$10&\" and localMonth(\"&$D$12&\") =\"&$E$10&\" and LocalDay(\"&$D$12&\")=\"&$F$10&\" and Barix(\"&$D$12&\",reference:=StartOfSession)=\"&A76&\"\", \"Bar\", \"\", \"Close\",\"5\",\"0\",\"PrimaryOnly\",,,\"False\",\"T\",\"EveryTick\")","v":1704.25},1.6456551764671042E-3,null,null,null,""]
[76,"14:50:00",-1,{"$f":" RTD(\"cqg.rtd\",,\"StudyData\", $D$12,  \"Tick\", \"FlatTicks=0\", \"Tick\",\"D\",C77,\"PrimaryOnly\")","v":1808.25},null,null,null,{"$f":"RTD(\"cqg.rtd\",,\"StudyData\", \"Close(\"&$D$12&\") when LocalYear(\"&$D$12&\")=\"&$D$1&\" and localMonth(\"&$D$12&\") =\"&$E$1&\" and LocalDay(\"&$D$12&\")=\"&$F$1&\" and Barix(\"&$D$12&\",reference:=StartOfSession)=\"&A77&\"\", \"Bar\", \"\", \"Close\",\"5\",\"0\",\"PrimaryOnly\",,,\"False\",\"T\",\"EveryTick\")","v":""},{"$error":"#N/A"},{"$f":"RTD(\"cqg.rtd\",,\"StudyData\", \"Close(\"&$D$12&\") when LocalYear(\"&$D$12&\")=\"&$D$2&\" and localMonth(\"&$D$12&\") =\"&$E$2&\" and LocalDay(\"&$D$12&\")=\"&$F$2&\" and Barix(\"&$D$12&\",reference:=StartOfSession)=\"&A77&\"\", \"Bar\", \"\", \"Close\",\"5\",\"0\",\"PrimaryOnly\",,,\"False\",\"T\",\"EveryTick\")","v":1795.96},2.3339031339031358E-2,{"$f":"RTD(\"cqg.rtd\",,\"StudyData\", \"Close(\"&$D$12&\") when LocalYear(\"&$D$12&\")=\"&$D$3&\" and localMonth(\"&$D$12&\") =\"&$E$3&\" and LocalDay(\"&$D$12&\")=\"&$F$3&\" and Barix(\"&$D$12&\",reference:=StartOfSession)=\"&A77&\"\", \"Bar\", \"\", \"Close\",\"5\",\"0\",\"PrimaryOnly\",,,\"False\",\"T\",\"EveryTick\")","v":1756},7.4179464966983907E-3,{"$f":"RTD(\"cqg.rtd\",,\"StudyData\", \"Close(\"&$D$12&\") when LocalYear(\"&$D$12&\")=\"&$D$4&\" and localMonth(\"&$D$12&\") =\"&$E$4&\" and LocalDay(\"&$D$12&\")=\"&$F$4&\" and Barix(\"&$D$12&\",reference:=StartOfSession)=\"&A77&\"\", \"Bar\", \"\", \"Close\",\"5\",\"0\",\"PrimaryOnly\",,,\"False\",\"T\",\"EveryTick\")","v":1742.45},1.9723752458281466E-3,{"$f":"RTD(\"cqg.rtd\",,\"StudyData\", \"Close(\"&$D$12&\") when LocalYear(\"&$D$12&\")=\"&$D$5&\" and localMonth(\"&$D$12&\") =\"&$E$5&\" and LocalDay(\"&$D$12&\")=\"&$F$5&\" and Barix(\"&$D$12&\",reference:=StartOfSession)=\"&A77&\"\", \"Bar\", \"\", \"Close\",\"5\",\"0\",\"PrimaryOnly\",,,\"False\",\"T\",\"EveryTick\")","v":1739},1.6584533183680802E-2,{"$f":"RTD(\"cqg.rtd\",,\"StudyData\", \"Close(\"&$D$12&\") when LocalYear(\"&$D$12&\")=\"&$D$6&\" and localMonth(\"&$D$12&\") =\"&$E$6&\" and LocalDay(\"&$D$12&\")=\"&$F$6&\" and Barix(\"&$D$12&\",reference:=StartOfSession)=\"&A77&\"\", \"Bar\", \"\", \"Close\",\"5\",\"0\",\"PrimaryOnly\",,,\"False\",\"T\",\"EveryTick\")","v":1710.51},6.3421837585969374E-3,{"$f":"RTD(\"cqg.rtd\",,\"StudyData\", \"Close(\"&$D$12&\") when LocalYear(\"&$D$12&\")=\"&$D$7&\" and localMonth(\"&$D$12&\") =\"&$E$7&\" and LocalDay(\"&$D$12&\")=\"&$F$7&\" and Barix(\"&$D$12&\",reference:=StartOfSession)=\"&A77&\"\", \"Bar\", \"\", \"Close\",\"5\",\"0\",\"PrimaryOnly\",,,\"False\",\"T\",\"EveryTick\")","v":1701.35},4.3625587381047205E-3,{"$f":"RTD(\"cqg.rtd\",,\"StudyData\", \"Close(\"&$D$12&\") when LocalYear(\"&$D$12&\")=\"&$D$8&\" and localMonth(\"&$D$12&\") =\"&$E$8&\" and LocalDay(\"&$D$12&\")=\"&$F$8&\" and Barix(\"&$D$12&\",reference:=StartOfSession)=\"&A77&\"\", \"Bar\", \"\", \"Close\",\"5\",\"0\",\"PrimaryOnly\",,,\"False\",\"T\",\"EveryTick\")","v":""},{"$error":"#N/A"},{"$f":"RTD(\"cqg.rtd\",,\"StudyData\", \"Close(\"&$D$12&\") when LocalYear(\"&$D$12&\")=\"&$D$9&\" and localMonth(\"&$D$12&\") =\"&$E$9&\" and LocalDay(\"&$D$12&\")=\"&$F$9&\" and Barix(\"&$D$12&\",reference:=StartOfSession)=\"&A77&\"\", \"Bar\", \"\", \"Close\",\"5\",\"0\",\"PrimaryOnly\",,,\"False\",\"T\",\"EveryTick\")","v":1711.69},6.9949405812449114E-3,{"$f":"RTD(\"cqg.rtd\",,\"StudyData\", \"Close(\"&$D$12&\") when LocalYear(\"&$D$12&\")=\"&$D$10&\" and localMonth(\"&$D$12&\") =\"&$E$10&\" and LocalDay(\"&$D$12&\")=\"&$F$10&\" and Barix(\"&$D$12&\",reference:=StartOfSession)=\"&A77&\"\", \"Bar\", \"\", \"Close\",\"5\",\"0\",\"PrimaryOnly\",,,\"False\",\"T\",\"EveryTick\")","v":1702.56},6.5238473067083958E-4,null,null,null,""]
[77,"14:55:00",0,{"$f":" RTD(\"cqg.rtd\",,\"StudyData\", $D$12,  \"Tick\", \"FlatTicks=0\", \"Tick\",\"D\",C78,\"PrimaryOnly\")","v":1808.12},null,null,null,{"$f":"RTD(\"cqg.rtd\",,\"StudyData\", \"Close(\"&$D$12&\") when LocalYear(\"&$D$12&\")=\"&$D$1&\" and localMonth(\"&$D$12&\") =\"&$E$1&\" and LocalDay(\"&$D$12&\")=\"&$F$1&\" and Barix(\"&$D$12&\",reference:=StartOfSession)=\"&A78&\"\", \"Bar\", \"\", \"Close\",\"5\",\"0\",\"PrimaryOnly\",,,\"False\",\"T\",\"EveryTick\")","v":""},{"$error":"#N/A"},{"$f":"RTD(\"cqg.rtd\",,\"StudyData\", \"Close(\"&$D$12&\") when LocalYear(\"&$D$12&\")=\"&$D$2&\" and localMonth(\"&$D$12&\") =\"&$E$2&\" and LocalDay(\"&$D$12&\")=\"&$F$2&\" and Barix(\"&$D$12&\",reference:=StartOfSession)=\"&A78&\"\", \"Bar\", \"\", \"Close\",\"5\",\"0\",\"PrimaryOnly\",,,\"False\",\"T\",\"EveryTick\")","v":1797.23},2.4062678062678072E-2,{"$f":"RTD(\"cqg.rtd\",,\"StudyData\", \"Close(\"&$D$12&\") when LocalYear(\"&$D$12&\")=\"&$D$3&\" and localMonth(\"&$D$12&\") =\"&$E$3&\" and LocalDay(\"&$D$12&\")=\"&$F$3&\" and Barix(\"&$D$12&\",reference:=StartOfSession)=\"&A78&\"\", \"Bar\", \"\", \"Close\",\"5\",\"0\",\"PrimaryOnly\",,,\"False\",\"T\",\"EveryTick\")","v":1755},6.8442460715863757E-3,{"$f":"RTD(\"cqg.rtd\",,\"StudyData\", \"Close(\"&$D$12&\") when LocalYear(\"&$D$12&\")=\"&$D$4&\" and localMonth(\"&$D$12&\") =\"&$E$4&\" and LocalDay(\"&$D$12&\")=\"&$F$4&\" and Barix(\"&$D$12&\",reference:=StartOfSession)=\"&A78&\"\", \"Bar\", \"\", \"Close\",\"5\",\"0\",\"PrimaryOnly\",,,\"False\",\"T\",\"EveryTick\")","v":1743.07},2.3288978850156722E-3,{"$f":"RTD(\"cqg.rtd\",,\"StudyData\", \"Close(\"&$D$12&\") when LocalYear(\"&$D$12&\")=\"&$D$5&\" and localMonth(\"&$D$12&\") =\"&$E$5&\" and LocalDay(\"&$D$12&\")=\"&$F$5&\" and Barix(\"&$D$12&\",reference:=StartOfSession)=\"&A78&\"\", \"Bar\", \"\", \"Close\",\"5\",\"0\",\"PrimaryOnly\",,,\"False\",\"T\",\"EveryTick\")","v":1739.02},1.6596224782682328E-2,{"$f":"RTD(\"cqg.rtd\",,\"StudyData\", \"Close(\"&$D$12&\") when LocalYear(\"&$D$12&\")=\"&$D$6&\" and localMonth(\"&$D$12&\") =\"&$E$6&\" and LocalDay(\"&$D$12&\")=\"&$F$6&\" and Barix(\"&$D$12&\",reference:=StartOfSession)=\"&A78&\"\", \"Bar\", \"\", \"Close\",\"5\",\"0\",\"PrimaryOnly\",,,\"False\",\"T\",\"EveryTick\")","v":1710.63},6.4127832067446544E-3,{"$f":"RTD(\"cqg.rtd\",,\"StudyData\", \"Close(\"&$D$12&\") when LocalYear(\"&$D$12&\")=\"&$D$7&\" and localMonth(\"&$D$12&\") =\"&$E$7&\" and LocalDay(\"&$D$12&\")=\"&$F$7&\" and Barix(\"&$D$12&\",reference:=StartOfSession)=\"&A78&\"\", \"Bar\", \"\", \"Close\",\"5\",\"0\",\"PrimaryOnly\",,,\"False\",\"T\",\"EveryTick\")","v":1699.73},3.4062197454485239E-3,{"$f":"RTD(\"cqg.rtd\",,\"StudyData\", \"Close(\"&$D$12&\") when LocalYear(\"&$D$12&\")=\"&$D$8&\" and localMonth(\"&$D$12&\") =\"&$E$8&\" and LocalDay(\"&$D$12&\")=\"&$F$8&\" and Barix(\"&$D$12&\",reference:=StartOfSession)=\"&A78&\"\", \"Bar\", \"\", \"Close\",\"5\",\"0\",\"PrimaryOnly\",,,\"False\",\"T\",\"EveryTick\")","v":""},{"$error":"#N/A"},{"$f":"RTD(\"cqg.rtd\",,\"StudyData\", \"Close(\"&$D$12&\") when LocalYear(\"&$D$12&\")=\"&$D$9&\" and localMonth(\"&$D$12&\") =\"&$E$9&\" and LocalDay(\"&$D$12&\")=\"&$F$9&\" and Barix(\"&$D$12&\",reference:=StartOfSession)=\"&A78&\"\", \"Bar\", \"\", \"Close\",\"5\",\"0\",\"PrimaryOnly\",,,\"False\",\"T\",\"EveryTick\")","v":1713.78},8.2244969996470279E-3,{"$f":"RTD(\"cqg.rtd\",,\"StudyData\", \"Close(\"&$D$12&\") when LocalYear(\"&$D$12&\")=\"&$D$10&\" and localMonth(\"&$D$12&\") =\"&$E$10&\" and LocalDay(\"&$D$12&\")=\"&$F$10&\" and Barix(\"&$D$12&\",reference:=StartOfSession)=\"&A78&\"\", \"Bar\", \"\", \"Close\",\"5\",\"0\",\"PrimaryOnly\",,,\"False\",\"T\",\"EveryTick\")","v":1699.8},-9.6976108613246995E-4,null,null,null,""]
[78,"15:00:00",null,null,null,null,null,{"$f":"RTD(\"cqg.rtd\",,\"StudyData\", \"Close(\"&$D$12&\") when LocalYear(\"&$D$12&\")=\"&$D$1&\" and localMonth(\"&$D$12&\") =\"&$E$1&\" and LocalDay(\"&$D$12&\")=\"&$F$1&\" and Barix(\"&$D$12&\",reference:=StartOfSession)=\"&A79&\"\", \"Bar\", \"\", \"Close\",\"5\",\"0\",\"PrimaryOnly\",,,\"False\",\"T\",\"EveryTick\")","v":""},{"$error":"#N/A"},{"$f":"RTD(\"cqg.rtd\",,\"StudyData\", \"Close(\"&$D$12&\") when LocalYear(\"&$D$12&\")=\"&$D$2&\" and localMonth(\"&$D$12&\") =\"&$E$2&\" and LocalDay(\"&$D$12&\")=\"&$F$2&\" and Barix(\"&$D$12&\",reference:=StartOfSession)=\"&A79&\"\", \"Bar\", \"\", \"Close\",\"5\",\"0\",\"PrimaryOnly\",,,\"False\",\"T\",\"EveryTick\")","v":""},{"$error":"#N/A"},{"$f":"RTD(\"cqg.rtd\",,\"StudyData\", \"Close(\"&$D$12&\") when LocalYear(\"&$D$12&\")=\"&$D$3&\" and localMonth(\"&$D$12&\") =\"&$E$3&\" and LocalDay(\"&$D$12&\")=\"&$F$3&\" and Barix(\"&$D$12&\",reference:=StartOfSession)=\"&A79&\"\", \"Bar\", \"\", \"Close\",\"5\",\"0\",\"PrimaryOnly\",,,\"False\",\"T\",\"EveryTick\")","v":""},{"$error":"#N/A"},{"$f":"RTD(\"cqg.rtd\",,\"StudyData\", \"Close(\"&$D$12&\") when LocalYear(\"&$D$12&\")=\"&$D$4&\" and localMonth(\"&$D$12&\") =\"&$E$4&\" and LocalDay(\"&$D$12&\")=\"&$F$4&\" and Barix(\"&$D$12&\",reference:=StartOfSession)=\"&A79&\"\", \"Bar\", \"\", \"Close\",\"5\",\"0\",\"PrimaryOnly\",,,\"False\",\"T\",\"EveryTick\")","v":""},{"$error":"#N/A"},{"$f":"RTD(\"cqg.rtd\",,\"StudyData\", \"Close(\"&$D$12&\") when LocalYear(\"&$D$12&\")=\"&$D$5&\" and localMonth(\"&$D$12&\") =\"&$E$5&\" and LocalDay(\"&$D$12&\")=\"&$F$5&\" and Barix(\"&$D$12&\",reference:=StartOfSession)=\"&A79&\"\", \"Bar\", \"\", \"Close\",\"5\",\"0\",\"PrimaryOnly\",,,\"False\",\"T\",\"EveryTick\")","v":""},{"$error":"#N/A"},{"$f":"RTD(\"cqg.rtd\",,\"StudyData\", \"Close(\"&$D$12&\") when LocalYear(\"&$D$12&\")=\"&$D$6&\" and localMonth(\"&$D$12&\") =\"&$E$6&\" and LocalDay(\"&$D$12&\")=\"&$F$6&\" and Barix(\"&$D$12&\",reference:=StartOfSession)=\"&A79&\"\", \"Bar\", \"\", \"Close\",\"5\",\"0\",\"PrimaryOnly\",,,\"False\",\"T\",\"EveryTick\")","v":""},{"$error":"#N/A"},{"$f":"RTD(\"cqg.rtd\",,\"StudyData\", \"Close(\"&$D$12&\") when LocalYear(\"&$D$12&\")=\"&$D$7&\" and localMonth(\"&$D$12&\") =\"&$E$7&\" and LocalDay(\"&$D$12&\")=\"&$F$7&\" and Barix(\"&$D$12&\",reference:=StartOfSession)=\"&A79&\"\", \"Bar\", \"\", \"Close\",\"5\",\"0\",\"PrimaryOnly\",,,\"False\",\"T\",\"EveryTick\")","v":""},{"$error":"#N/A"},{"$f":"RTD(\"cqg.rtd\",,\"StudyData\", \"Close(\"&$D$12&\") when LocalYear(\"&$D$12&\")=\"&$D$8&\" and localMonth(\"&$D$12&\") =\"&$E$8&\" and LocalDay(\"&$D$12&\")=\"&$F$8&\" and Barix(\"&$D$12&\",reference:=StartOfSession)=\"&A79&\"\", \"Bar\", \"\", \"Close\",\"5\",\"0\",\"PrimaryOnly\",,,\"False\",\"T\",\"EveryTick\")","v":""},{"$error":"#N/A"},{"$f":"RTD(\"cqg.rtd\",,\"StudyData\", \"Close(\"&$D$12&\") when LocalYear(\"&$D$12&\")=\"&$D$9&\" and localMonth(\"&$D$12&\") =\"&$E$9&\" and LocalDay(\"&$D$12&\")=\"&$F$9&\" and Barix(\"&$D$12&\",reference:=StartOfSession)=\"&A79&\"\", \"Bar\", \"\", \"Close\",\"5\",\"0\",\"PrimaryOnly\",,,\"False\",\"T\",\"EveryTick\")","v":""},{"$error":"#N/A"},{"$f":"RTD(\"cqg.rtd\",,\"StudyData\", \"Close(\"&$D$12&\") when LocalYear(\"&$D$12&\")=\"&$D$10&\" and localMonth(\"&$D$12&\") =\"&$E$10&\" and LocalDay(\"&$D$12&\")=\"&$F$10&\" and Barix(\"&$D$12&\",reference:=StartOfSession)=\"&A79&\"\", \"Bar\", \"\", \"Close\",\"5\",\"0\",\"PrimaryOnly\",,,\"False\",\"T\",\"EveryTick\")","v":""},{"$error":"#N/A"},null,null,null,""]
[79,"15:05:00",null,null,null,null,null,{"$f":"RTD(\"cqg.rtd\",,\"StudyData\", \"Close(\"&$D$12&\") when LocalYear(\"&$D$12&\")=\"&$D$1&\" and localMonth(\"&$D$12&\") =\"&$E$1&\" and LocalDay(\"&$D$12&\")=\"&$F$1&\" and Barix(\"&$D$12&\",reference:=StartOfSession)=\"&A80&\"\", \"Bar\", \"\", \"Close\",\"5\",\"0\",\"PrimaryOnly\",,,\"False\",\"T\",\"EveryTick\")","v":""},{"$error":"#N/A"},{"$f":"RTD(\"cqg.rtd\",,\"StudyData\", \"Close(\"&$D$12&\") when LocalYear(\"&$D$12&\")=\"&$D$2&\" and localMonth(\"&$D$12&\") =\"&$E$2&\" and LocalDay(\"&$D$12&\")=\"&$F$2&\" and Barix(\"&$D$12&\",reference:=StartOfSession)=\"&A80&\"\", \"Bar\", \"\", \"Close\",\"5\",\"0\",\"PrimaryOnly\",,,\"False\",\"T\",\"EveryTick\")","v":""},{"$error":"#N/A"},{"$f":"RTD(\"cqg.rtd\",,\"StudyData\", \"Close(\"&$D$12&\") when LocalYear(\"&$D$12&\")=\"&$D$3&\" and localMonth(\"&$D$12&\") =\"&$E$3&\" and LocalDay(\"&$D$12&\")=\"&$F$3&\" and Barix(\"&$D$12&\",reference:=StartOfSession)=\"&A80&\"\", \"Bar\", \"\", \"Close\",\"5\",\"0\",\"PrimaryOnly\",,,\"False\",\"T\",\"EveryTick\")","v":""},{"$error":"#N/A"},{"$f":"RTD(\"cqg.rtd\",,\"StudyData\", \"Close(\"&$D$12&\") when LocalYear(\"&$D$12&\")=\"&$D$4&\" and localMonth(\"&$D$12&\") =\"&$E$4&\" and LocalDay(\"&$D$12&\")=\"&$F$4&\" and Barix(\"&$D$12&\",reference:=StartOfSession)=\"&A80&\"\", \"Bar\", \"\", \"Close\",\"5\",\"0\",\"PrimaryOnly\",,,\"False\",\"T\",\"EveryTick\")","v":""},{"$error":"#N/A"},{"$f":"RTD(\"cqg.rtd\",,\"StudyData\", \"Close(\"&$D$12&\") when LocalYear(\"&$D$12&\")=\"&$D$5&\" and localMonth(\"&$D$12&\") =\"&$E$5&\" and LocalDay(\"&$D$12&\")=\"&$F$5&\" and Barix(\"&$D$12&\",reference:=StartOfSession)=\"&A80&\"\", \"Bar\", \"\", \"Close\",\"5\",\"0\",\"PrimaryOnly\",,,\"False\",\"T\",\"EveryTick\")","v":""},{"$error":"#N/A"},{"$f":"RTD(\"cqg.rtd\",,\"StudyData\", \"Close(\"&$D$12&\") when LocalYear(\"&$D$12&\")=\"&$D$6&\" and localMonth(\"&$D$12&\") =\"&$E$6&\" and LocalDay(\"&$D$12&\")=\"&$F$6&\" and Barix(\"&$D$12&\",reference:=StartOfSession)=\"&A80&\"\", \"Bar\", \"\", \"Close\",\"5\",\"0\",\"PrimaryOnly\",,,\"False\",\"T\",\"EveryTick\")","v":""},{"$error":"#N/A"},{"$f":"RTD(\"cqg.rtd\",,\"StudyData\", \"Close(\"&$D$12&\") when LocalYear(\"&$D$12&\")=\"&$D$7&\" and localMonth(\"&$D$12&\") =\"&$E$7&\" and LocalDay(\"&$D$12&\")=\"&$F$7&\" and Barix(\"&$D$12&\",reference:=StartOfSession)=\"&A80&\"\", \"Bar\", \"\", \"Close\",\"5\",\"0\",\"PrimaryOnly\",,,\"False\",\"T\",\"EveryTick\")","v":""},{"$error":"#N/A"},{"$f":"RTD(\"cqg.rtd\",,\"StudyData\", \"Close(\"&$D$12&\") when LocalYear(\"&$D$12&\")=\"&$D$8&\" and localMonth(\"&$D$12&\") =\"&$E$8&\" and LocalDay(\"&$D$12&\")=\"&$F$8&\" and Barix(\"&$D$12&\",reference:=StartOfSession)=\"&A80&\"\", \"Bar\", \"\", \"Close\",\"5\",\"0\",\"PrimaryOnly\",,,\"False\",\"T\",\"EveryTick\")","v":""},{"$error":"#N/A"},{"$f":"RTD(\"cqg.rtd\",,\"StudyData\", \"Close(\"&$D$12&\") when LocalYear(\"&$D$12&\")=\"&$D$9&\" and localMonth(\"&$D$12&\") =\"&$E$9&\" and LocalDay(\"&$D$12&\")=\"&$F$9&\" and Barix(\"&$D$12&\",reference:=StartOfSession)=\"&A80&\"\", \"Bar\", \"\", \"Close\",\"5\",\"0\",\"PrimaryOnly\",,,\"False\",\"T\",\"EveryTick\")","v":""},{"$error":"#N/A"},{"$f":"RTD(\"cqg.rtd\",,\"StudyData\", \"Close(\"&$D$12&\") when LocalYear(\"&$D$12&\")=\"&$D$10&\" and localMonth(\"&$D$12&\") =\"&$E$10&\" and LocalDay(\"&$D$12&\")=\"&$F$10&\" and Barix(\"&$D$12&\",reference:=StartOfSession)=\"&A80&\"\", \"Bar\", \"\", \"Close\",\"5\",\"0\",\"PrimaryOnly\",,,\"False\",\"T\",\"EveryTick\")","v":""},{"$error":"#N/A"},null,null,null,""]
[80,"15:10:00",null,null,null,null,null,{"$f":"RTD(\"cqg.rtd\",,\"StudyData\", \"Close(\"&$D$12&\") when LocalYear(\"&$D$12&\")=\"&$D$1&\" and localMonth(\"&$D$12&\") =\"&$E$1&\" and LocalDay(\"&$D$12&\")=\"&$F$1&\" and Barix(\"&$D$12&\",reference:=StartOfSession)=\"&A81&\"\", \"Bar\", \"\", \"Close\",\"5\",\"0\",\"PrimaryOnly\",,,\"False\",\"T\",\"EveryTick\")","v":""},{"$error":"#N/A"},{"$f":"RTD(\"cqg.rtd\",,\"StudyData\", \"Close(\"&$D$12&\") when LocalYear(\"&$D$12&\")=\"&$D$2&\" and localMonth(\"&$D$12&\") =\"&$E$2&\" and LocalDay(\"&$D$12&\")=\"&$F$2&\" and Barix(\"&$D$12&\",reference:=StartOfSession)=\"&A81&\"\", \"Bar\", \"\", \"Close\",\"5\",\"0\",\"PrimaryOnly\",,,\"False\",\"T\",\"EveryTick\")","v":""},{"$error":"#N/A"},{"$f":"RTD(\"cqg.rtd\",,\"StudyData\", \"Close(\"&$D$12&\") when LocalYear(\"&$D$12&\")=\"&$D$3&\" and localMonth(\"&$D$12&\") =\"&$E$3&\" and LocalDay(\"&$D$12&\")=\"&$F$3&\" and Barix(\"&$D$12&\",reference:=StartOfSession)=\"&A81&\"\", \"Bar\", \"\", \"Close\",\"5\",\"0\",\"PrimaryOnly\",,,\"False\",\"T\",\"EveryTick\")","v":""},{"$error":"#N/A"},{"$f":"RTD(\"cqg.rtd\",,\"StudyData\", \"Close(\"&$D$12&\") when LocalYear(\"&$D$12&\")=\"&$D$4&\" and localMonth(\"&$D$12&\") =\"&$E$4&\" and LocalDay(\"&$D$12&\")=\"&$F$4&\" and Barix(\"&$D$12&\",reference:=StartOfSession)=\"&A81&\"\", \"Bar\", \"\", \"Close\",\"5\",\"0\",\"PrimaryOnly\",,,\"False\",\"T\",\"EveryTick\")","v":""},{"$error":"#N/A"},{"$f":"RTD(\"cqg.rtd\",,\"StudyData\", \"Close(\"&$D$12&\") when LocalYear(\"&$D$12&\")=\"&$D$5&\" and localMonth(\"&$D$12&\") =\"&$E$5&\" and LocalDay(\"&$D$12&\")=\"&$F$5&\" and Barix(\"&$D$12&\",reference:=StartOfSession)=\"&A81&\"\", \"Bar\", \"\", \"Close\",\"5\",\"0\",\"PrimaryOnly\",,,\"False\",\"T\",\"EveryTick\")","v":""},{"$error":"#N/A"},{"$f":"RTD(\"cqg.rtd\",,\"StudyData\", \"Close(\"&$D$12&\") when LocalYear(\"&$D$12&\")=\"&$D$6&\" and localMonth(\"&$D$12&\") =\"&$E$6&\" and LocalDay(\"&$D$12&\")=\"&$F$6&\" and Barix(\"&$D$12&\",reference:=StartOfSession)=\"&A81&\"\", \"Bar\", \"\", \"Close\",\"5\",\"0\",\"PrimaryOnly\",,,\"False\",\"T\",\"EveryTick\")","v":""},{"$error":"#N/A"},{"$f":"RTD(\"cqg.rtd\",,\"StudyData\", \"Close(\"&$D$12&\") when LocalYear(\"&$D$12&\")=\"&$D$7&\" and localMonth(\"&$D$12&\") =\"&$E$7&\" and LocalDay(\"&$D$12&\")=\"&$F$7&\" and Barix(\"&$D$12&\",reference:=StartOfSession)=\"&A81&\"\", \"Bar\", \"\", \"Close\",\"5\",\"0\",\"PrimaryOnly\",,,\"False\",\"T\",\"EveryTick\")","v":""},{"$error":"#N/A"},{"$f":"RTD(\"cqg.rtd\",,\"StudyData\", \"Close(\"&$D$12&\") when LocalYear(\"&$D$12&\")=\"&$D$8&\" and localMonth(\"&$D$12&\") =\"&$E$8&\" and LocalDay(\"&$D$12&\")=\"&$F$8&\" and Barix(\"&$D$12&\",reference:=StartOfSession)=\"&A81&\"\", \"Bar\", \"\", \"Close\",\"5\",\"0\",\"PrimaryOnly\",,,\"False\",\"T\",\"EveryTick\")","v":""},{"$error":"#N/A"},{"$f":"RTD(\"cqg.rtd\",,\"StudyData\", \"Close(\"&$D$12&\") when LocalYear(\"&$D$12&\")=\"&$D$9&\" and localMonth(\"&$D$12&\") =\"&$E$9&\" and LocalDay(\"&$D$12&\")=\"&$F$9&\" and Barix(\"&$D$12&\",reference:=StartOfSession)=\"&A81&\"\", \"Bar\", \"\", \"Close\",\"5\",\"0\",\"PrimaryOnly\",,,\"False\",\"T\",\"EveryTick\")","v":""},{"$error":"#N/A"},{"$f":"RTD(\"cqg.rtd\",,\"StudyData\", \"Close(\"&$D$12&\") when LocalYear(\"&$D$12&\")=\"&$D$10&\" and localMonth(\"&$D$12&\") =\"&$E$10&\" and LocalDay(\"&$D$12&\")=\"&$F$10&\" and Barix(\"&$D$12&\",reference:=StartOfSession)=\"&A81&\"\", \"Bar\", \"\", \"Close\",\"5\",\"0\",\"PrimaryOnly\",,,\"False\",\"T\",\"EveryTick\")","v":""},{"$error":"#N/A"},null,null,null,""]
[]
[null,null,null,null,null,null,null,null,null,null,null,null,null,null,null,null,null,null,null,null,null,null,null,null,null,null,null,null,null,null,{"$f":"MAX(AE1:AE81)","v":22}]

{"sheet":"Sheet4 (2)","index":4,"n_rows":93,"n_cols":20,"rows_kept":93,"cut":false,"hidden":true,"merged":[]}
[null,{"$f":"'Sheet3 (2)'!I1","v":2.7607396110474317E-3},{"$f":"'Sheet3 (2)'!K1","v":7.1851851851851278E-3},null,{"$f":"'Sheet3 (2)'!M1","v":-1.1875598799818345E-3},null,{"$f":"'Sheet3 (2)'!O1","v":-3.0821957194281263E-3},null,{"$f":"'Sheet3 (2)'!Q1","v":6.0504024832955744E-3},null,{"$f":"'Sheet3 (2)'!S1","v":-3.6299882922582248E-3},null,{"$f":"'Sheet3 (2)'!U1","v":6.204396798035367E-3},null,{"$f":"'Sheet3 (2)'!W1","v":2.3807023071805758E-3},null,{"$f":"'Sheet3 (2)'!Y1","v":-9.801153076832483E-3},null,{"$f":"'Sheet3 (2)'!AA1","v":9.6329601222485944E-3}]
[null,{"$f":"'Sheet3 (2)'!I2","v":4.3748817223453638E-3},{"$f":"'Sheet3 (2)'!K2","v":7.0256410256409841E-3},{"$f":"IF(ISNUMBER(C2),CORREL($B$1:B2,$C$1:C2),\"\")","v":-1},{"$f":"'Sheet3 (2)'!M2","v":-6.1959645912093445E-4},{"$f":"IF(ISNUMBER(E2),CORREL($B$1:B2,$E$1:E2),\"\")","v":1},{"$f":"'Sheet3 (2)'!O2","v":-1.725109544456073E-3},{"$f":"IF(ISNUMBER(G2),CORREL($B$1:B2,$G$1:G2),\"\")","v":1},{"$f":"'Sheet3 (2)'!Q2","v":5.021541771160285E-3},{"$f":"IF(ISNUMBER(I2),CORREL($B$1:B2,$I$1:I2),\"\")","v":-1},{"$f":"'Sheet3 (2)'!S2","v":4.883128496878488E-4},{"$f":"IF(ISNUMBER(K2),CORREL($B$1:B2,$K$1:K2),\"\")","v":1},{"$f":"'Sheet3 (2)'!U2","v":9.0438971404283083E-3},{"$f":"IF(ISNUMBER(M2),CORREL($B$1:B2,$M$1:M2),\"\")","v":1},{"$f":"'Sheet3 (2)'!W2","v":-5.4266008472503107E-4},{"$f":"IF(ISNUMBER(O2),CORREL($B$1:B2,$O$1:O2),\"\")","v":-1},{"$f":"'Sheet3 (2)'!Y2","v":-5.0005883045064125E-3},{"$f":"IF(ISNUMBER(Q2),CORREL($B$1:B2,$Q$1:Q2),\"\")","v":1},{"$f":"'Sheet3 (2)'!AA2","v":9.6682241617444212E-3},{"$f":"IF(ISNUMBER(S2),CORREL($B$1:B2,$S$1:S2),\"\")","v":1}]
[null,{"$f":"'Sheet3 (2)'!I3","v":6.4899644888735978E-3},{"$f":"'Sheet3 (2)'!K3","v":7.2022792022792591E-3},{"$f":"IF(ISNUMBER(C3),CORREL($B$1:B3,$C$1:C3),\"\")","v":0.16449233601707841},{"$f":"'Sheet3 (2)'!M3","v":-1.1875598799818345E-3},{"$f":"IF(ISNUMBER(E3),CORREL($B$1:B3,$E$1:E3),\"\")","v":-7.7322326981129438E-2},{"$f":"'Sheet3 (2)'!O3","v":-6.1528907085596279E-4},{"$f":"IF(ISNUMBER(G3),CORREL($B$1:B3,$G$1:G3),\"\")","v":0.99087375702976432},{"$f":"'Sheet3 (2)'!Q3","v":6.2608512653231901E-3},{"$f":"IF(ISNUMBER(I3),CORREL($B$1:B3,$I$1:I3),\"\")","v":0.23453762493083383},{"$f":"'Sheet3 (2)'!S3","v":2.5474634206608857E-3},{"$f":"IF(ISNUMBER(K3),CORREL($B$1:B3,$K$1:K3),\"\")","v":0.9644280547860552},{"$f":"'Sheet3 (2)'!U3","v":7.3909655481829454E-3},{"$f":"IF(ISNUMBER(M3),CORREL($B$1:B3,$M$1:M3),\"\")","v":0.34445406490403024},{"$f":"'Sheet3 (2)'!W3","v":-4.6096931928250043E-4},{"$f":"IF(ISNUMBER(O3),CORREL($B$1:B3,$O$1:O3),\"\")","v":-0.81064900279700824},{"$f":"'Sheet3 (2)'!Y3","v":-6.2124955877161702E-3},{"$f":"IF(ISNUMBER(Q3),CORREL($B$1:B3,$Q$1:Q3),\"\")","v":0.66285072792067756},{"$f":"'Sheet3 (2)'!AA3","v":1.09729936230861E-2},{"$f":"IF(ISNUMBER(S3),CORREL($B$1:B3,$S$1:S3),\"\")","v":0.91181668488644652}]
[null,{"$f":"'Sheet3 (2)'!I4","v":8.6328772918036201E-3},{"$f":"'Sheet3 (2)'!K4","v":7.1623931623931263E-3},{"$f":"IF(ISNUMBER(C4),CORREL($B$1:B4,$C$1:C4),\"\")","v":0.22013557060831571},{"$f":"'Sheet3 (2)'!M4","v":8.20391607910218E-4},{"$f":"IF(ISNUMBER(E4),CORREL($B$1:B4,$E$1:E4),\"\")","v":0.75564054557745008},{"$f":"'Sheet3 (2)'!O4","v":-1.1730744902301088E-3},{"$f":"IF(ISNUMBER(G4),CORREL($B$1:B4,$G$1:G4),\"\")","v":0.80584201981712944},{"$f":"'Sheet3 (2)'!Q4","v":8.3244184890945323E-3},{"$f":"IF(ISNUMBER(I4),CORREL($B$1:B4,$I$1:I4),\"\")","v":0.79233843009719929},{"$f":"'Sheet3 (2)'!S4","v":2.2709489154159189E-3},{"$f":"IF(ISNUMBER(K4),CORREL($B$1:B4,$K$1:K4),\"\")","v":0.86714820494756817},{"$f":"'Sheet3 (2)'!U4","v":8.0639448393113496E-3},{"$f":"IF(ISNUMBER(M4),CORREL($B$1:B4,$M$1:M4),\"\")","v":0.37498639045656518},{"$f":"'Sheet3 (2)'!W4","v":-2.8008262437420102E-4},{"$f":"IF(ISNUMBER(O4),CORREL($B$1:B4,$O$1:O4),\"\")","v":-0.67819282663943192},{"$f":"'Sheet3 (2)'!Y4","v":-3.4121661371925844E-3},{"$f":"IF(ISNUMBER(Q4),CORREL($B$1:B4,$Q$1:Q4),\"\")","v":0.82730413561990535},{"$f":"'Sheet3 (2)'!AA4","v":1.2536366040729923E-2},{"$f":"IF(ISNUMBER(S4),CORREL($B$1:B4,$S$1:S4),\"\")","v":0.96168239569086966}]
[null,{"$f":"'Sheet3 (2)'!I5","v":4.274693591299253E-3},{"$f":"'Sheet3 (2)'!K5","v":9.1965811965812536E-3},{"$f":"IF(ISNUMBER(C5),CORREL($B$1:B5,$C$1:C5),\"\")","v":-0.2356426388802563},{"$f":"'Sheet3 (2)'!M5","v":2.5070708577395735E-3},{"$f":"IF(ISNUMBER(E5),CORREL($B$1:B5,$E$1:E5),\"\")","v":0.16061665112495616},{"$f":"'Sheet3 (2)'!O5","v":-7.4179710411609041E-4},{"$f":"IF(ISNUMBER(G5),CORREL($B$1:B5,$G$1:G5),\"\")","v":0.61065461499933427},{"$f":"'Sheet3 (2)'!Q5","v":4.8929341821433566E-3},{"$f":"IF(ISNUMBER(I5),CORREL($B$1:B5,$I$1:I5),\"\")","v":0.79136884433913479},{"$f":"'Sheet3 (2)'!S5","v":3.3358239249763623E-3},{"$f":"IF(ISNUMBER(K5),CORREL($B$1:B5,$K$1:K5),\"\")","v":0.62381114477769584},{"$f":"'Sheet3 (2)'!U5","v":7.125315828000623E-3},{"$f":"IF(ISNUMBER(M5),CORREL($B$1:B5,$M$1:M5),\"\")","v":0.41148623821914659},{"$f":"'Sheet3 (2)'!W5","v":-2.7016303142759759E-3},{"$f":"IF(ISNUMBER(O5),CORREL($B$1:B5,$O$1:O5),\"\")","v":-0.25727216040028345},{"$f":"'Sheet3 (2)'!Y5","v":-3.3415695964231461E-3},{"$f":"IF(ISNUMBER(Q5),CORREL($B$1:B5,$Q$1:Q5),\"\")","v":0.59113237286036568},{"$f":"'Sheet3 (2)'!AA5","v":1.1772311851655923E-2},{"$f":"IF(ISNUMBER(S5),CORREL($B$1:B5,$S$1:S5),\"\")","v":0.76893652770483978}]
[null,{"$f":"'Sheet3 (2)'!I6","v":3.5399806302947355E-3},{"$f":"'Sheet3 (2)'!K6","v":1.0586894586894545E-2},{"$f":"IF(ISNUMBER(C6),CORREL($B$1:B6,$C$1:C6),\"\")","v":-0.40018441722310572},{"$f":"'Sheet3 (2)'!M6","v":1.4858841010402025E-3},{"$f":"IF(ISNUMBER(E6),CORREL($B$1:B6,$E$1:E6),\"\")","v":1.4860175553684123E-2},{"$f":"'Sheet3 (2)'!O6","v":8.5105404193167315E-4},{"$f":"IF(ISNUMBER(G6),CORREL($B$1:B6,$G$1:G6),\"\")","v":0.15412061931863735},{"$f":"'Sheet3 (2)'!Q6","v":6.6700572303770274E-3},{"$f":"IF(ISNUMBER(I6),CORREL($B$1:B6,$I$1:I6),\"\")","v":0.67303490565230539},{"$f":"'Sheet3 (2)'!S6","v":4.0300518317614616E-3},{"$f":"IF(ISNUMBER(K6),CORREL($B$1:B6,$K$1:K6),\"\")","v":0.37951320720452431},{"$f":"'Sheet3 (2)'!U6","v":5.159507898651685E-3},{"$f":"IF(ISNUMBER(M6),CORREL($B$1:B6,$M$1:M6),\"\")","v":0.50898993394875203},{"$f":"'Sheet3 (2)'!W6","v":-1.727176183640862E-3},{"$f":"IF(ISNUMBER(O6),CORREL($B$1:B6,$O$1:O6),\"\")","v":-0.11709392102838431},{"$f":"'Sheet3 (2)'!Y6","v":-5.1888457465583812E-3},{"$f":"IF(ISNUMBER(Q6),CORREL($B$1:B6,$Q$1:Q6),\"\")","v":0.53553575072116266},{"$f":"'Sheet3 (2)'!AA6","v":1.0420523670986523E-2},{"$f":"IF(ISNUMBER(S6),CORREL($B$1:B6,$S$1:S6),\"\")","v":0.77195571634320947}]
[null,{"$f":"'Sheet3 (2)'!I7","v":5.3878950473667574E-3},{"$f":"'Sheet3 (2)'!K7","v":1.1287749287749256E-2},{"$f":"IF(ISNUMBER(C7),CORREL($B$1:B7,$C$1:C7),\"\")","v":-0.24899327050333511},{"$f":"'Sheet3 (2)'!M7","v":3.8610038610038715E-3},{"$f":"IF(ISNUMBER(E7),CORREL($B$1:B7,$E$1:E7),\"\")","v":6.0237009179487523E-2},{"$f":"'Sheet3 (2)'!O7","v":1.7998642913825656E-3},{"$f":"IF(ISNUMBER(G7),CORREL($B$1:B7,$G$1:G7),\"\")","v":0.16174063216081544},{"$f":"'Sheet3 (2)'!Q7","v":7.1143379924354447E-3},{"$f":"IF(ISNUMBER(I7),CORREL($B$1:B7,$I$1:I7),\"\")","v":0.66346943058936758},{"$f":"'Sheet3 (2)'!S7","v":4.8537120601507295E-3},{"$f":"IF(ISNUMBER(K7),CORREL($B$1:B7,$K$1:K7),\"\")","v":0.37081508575000455},{"$f":"'Sheet3 (2)'!U7","v":3.6069328673639873E-3},{"$f":"IF(ISNUMBER(M7),CORREL($B$1:B7,$M$1:M7),\"\")","v":0.29277271742727334},{"$f":"'Sheet3 (2)'!W7","v":-3.1567645788841518E-3},{"$f":"IF(ISNUMBER(O7),CORREL($B$1:B7,$O$1:O7),\"\")","v":-0.13698501561309953},{"$f":"'Sheet3 (2)'!Y7","v":-3.0827156136016055E-3},{"$f":"IF(ISNUMBER(Q7),CORREL($B$1:B7,$Q$1:Q7),\"\")","v":0.52034337859393776},{"$f":"'Sheet3 (2)'!AA7","v":1.1619501013841125E-2},{"$f":"IF(ISNUMBER(S7),CORREL($B$1:B7,$S$1:S7),\"\")","v":0.76082363770408779}]
[null,{"$f":"'Sheet3 (2)'!I8","v":7.0243011877860195E-3},{"$f":"'Sheet3 (2)'!K8","v":1.0376068376068397E-2},{"$f":"IF(ISNUMBER(C8),CORREL($B$1:B8,$C$1:C8),\"\")","v":-8.9507795184795666E-2},{"$f":"'Sheet3 (2)'!M8","v":3.947058924770726E-3},{"$f":"IF(ISNUMBER(E8),CORREL($B$1:B8,$E$1:E8),\"\")","v":0.2330551280914861},{"$f":"'Sheet3 (2)'!O8","v":1.9953767064208733E-3},{"$f":"IF(ISNUMBER(G8),CORREL($B$1:B8,$G$1:G8),\"\")","v":0.31627819585446265},{"$f":"'Sheet3 (2)'!Q8","v":7.3130951754616664E-3},{"$f":"IF(ISNUMBER(I8),CORREL($B$1:B8,$I$1:I8),\"\")","v":0.69785603645665639},{"$f":"'Sheet3 (2)'!S8","v":4.736046313237958E-3},{"$f":"IF(ISNUMBER(K8),CORREL($B$1:B8,$K$1:K8),\"\")","v":0.44781892647840815},{"$f":"'Sheet3 (2)'!U8","v":5.7262273017072689E-3},{"$f":"IF(ISNUMBER(M8),CORREL($B$1:B8,$M$1:M8),\"\")","v":0.20185644937814801},{"$f":"'Sheet3 (2)'!W8","v":-3.3434863284669083E-3},{"$f":"IF(ISNUMBER(O8),CORREL($B$1:B8,$O$1:O8),\"\")","v":-0.27232049076011072},{"$f":"'Sheet3 (2)'!Y8","v":-1.9414048711612864E-3},{"$f":"IF(ISNUMBER(Q8),CORREL($B$1:B8,$Q$1:Q8),\"\")","v":0.59471331093059798},{"$f":"'Sheet3 (2)'!AA8","v":8.8512739134267507E-3},{"$f":"IF(ISNUMBER(S8),CORREL($B$1:B8,$S$1:S8),\"\")","v":0.36910863307096509}]
[null,{"$f":"'Sheet3 (2)'!I9","v":5.2877069163206466E-3},{"$f":"'Sheet3 (2)'!K9","v":1.0347578347578395E-2},{"$f":"IF(ISNUMBER(C9),CORREL($B$1:B9,$C$1:C9),\"\")","v":-8.6654770009402582E-2},{"$f":"'Sheet3 (2)'!M9","v":3.0578232658471289E-3},{"$f":"IF(ISNUMBER(E9),CORREL($B$1:B9,$E$1:E9),\"\")","v":0.22119078839618714},{"$f":"'Sheet3 (2)'!O9","v":1.5640993203068553E-3},{"$f":"IF(ISNUMBER(G9),CORREL($B$1:B9,$G$1:G9),\"\")","v":0.29380363198372061},{"$f":"'Sheet3 (2)'!Q9","v":4.3960412245780687E-3},{"$f":"IF(ISNUMBER(I9),CORREL($B$1:B9,$I$1:I9),\"\")","v":0.59183175188452875},{"$f":"'Sheet3 (2)'!S9","v":4.0653515558353864E-3},{"$f":"IF(ISNUMBER(K9),CORREL($B$1:B9,$K$1:K9),\"\")","v":0.43639463145329593},{"$f":"'Sheet3 (2)'!U9","v":2.762757089895903E-3},{"$f":"IF(ISNUMBER(M9),CORREL($B$1:B9,$M$1:M9),\"\")","v":0.16186048604215053},{"$f":"'Sheet3 (2)'!W9","v":-9.4527885726282889E-4},{"$f":"IF(ISNUMBER(O9),CORREL($B$1:B9,$O$1:O9),\"\")","v":-0.27215839572527434},{"$f":"'Sheet3 (2)'!Y9","v":-4.0945993646311542E-3},{"$f":"IF(ISNUMBER(Q9),CORREL($B$1:B9,$Q$1:Q9),\"\")","v":0.59167173675102025},{"$f":"'Sheet3 (2)'!AA9","v":7.8756354873783328E-3},{"$f":"IF(ISNUMBER(S9),CORREL($B$1:B9,$S$1:S9),\"\")","v":0.29174265964430524}]
[null,{"$f":"'Sheet3 (2)'!I10","v":2.8163996838508829E-3},{"$f":"'Sheet3 (2)'!K10","v":1.2524216524216534E-2},{"$f":"IF(ISNUMBER(C10),CORREL($B$1:B10,$C$1:C10),\"\")","v":-0.2979036945580123},{"$f":"'Sheet3 (2)'!M10","v":4.5264963541338556E-3},{"$f":"IF(ISNUMBER(E10),CORREL($B$1:B10,$E$1:E10),\"\")","v":-6.980605860263789E-3},{"$f":"'Sheet3 (2)'!O10","v":2.2886453289784007E-3},{"$f":"IF(ISNUMBER(G10),CORREL($B$1:B10,$G$1:G10),\"\")","v":7.0684342527055702E-2},{"$f":"'Sheet3 (2)'!Q10","v":4.8578593851387759E-3},{"$f":"IF(ISNUMBER(I10),CORREL($B$1:B10,$I$1:I10),\"\")","v":0.64673925975401825},{"$f":"'Sheet3 (2)'!S10","v":3.2416913274461185E-3},{"$f":"IF(ISNUMBER(K10),CORREL($B$1:B10,$K$1:K10),\"\")","v":0.35847882365782624},{"$f":"'Sheet3 (2)'!U10","v":2.7037238187442012E-3},{"$f":"IF(ISNUMBER(M10),CORREL($B$1:B10,$M$1:M10),\"\")","v":0.33076263175129755},{"$f":"'Sheet3 (2)'!W10","v":4.201239365613015E-4},{"$f":"IF(ISNUMBER(O10),CORREL($B$1:B10,$O$1:O10),\"\")","v":-0.35718025198246378},{"$f":"'Sheet3 (2)'!Y10","v":-2.7062007294978023E-4},{"$f":"IF(ISNUMBER(Q10),CORREL($B$1:B10,$Q$1:Q10),\"\")","v":0.23054443233388697},{"$f":"'Sheet3 (2)'!AA10","v":8.1459931235122393E-3},{"$f":"IF(ISNUMBER(S10),CORREL($B$1:B10,$S$1:S10),\"\")","v":0.42192801820311154}]
[null,{"$f":"'Sheet3 (2)'!I11","v":5.0316705814252268E-3},{"$f":"'Sheet3 (2)'!K11","v":1.1965811965811967E-2},{"$f":"IF(ISNUMBER(C11),CORREL($B$1:B11,$C$1:C11),\"\")","v":-0.2764070718274948},{"$f":"'Sheet3 (2)'!M11","v":4.5551813753894306E-3},{"$f":"IF(ISNUMBER(E11),CORREL($B$1:B11,$E$1:E11),\"\")","v":-8.1902366849701379E-3},{"$f":"'Sheet3 (2)'!O11","v":2.9039343998343635E-3},{"$f":"IF(ISNUMBER(G11),CORREL($B$1:B11,$G$1:G11),\"\")","v":6.1663585087610565E-2},{"$f":"'Sheet3 (2)'!Q11","v":6.7460526238870841E-3},{"$f":"IF(ISNUMBER(I11),CORREL($B$1:B11,$I$1:I11),\"\")","v":0.63766065868891897},{"$f":"'Sheet3 (2)'!S11","v":3.8182534873185793E-3},{"$f":"IF(ISNUMBER(K11),CORREL($B$1:B11,$K$1:K11),\"\")","v":0.35365906941263625},{"$f":"'Sheet3 (2)'!U11","v":8.1465914189230077E-4},{"$f":"IF(ISNUMBER(M11),CORREL($B$1:B11,$M$1:M11),\"\")","v":0.27202559182807973},{"$f":"'Sheet3 (2)'!W11","v":9.9195929465901558E-5},{"$f":"IF(ISNUMBER(O11),CORREL($B$1:B11,$O$1:O11),\"\")","v":-0.35085287274839938},{"$f":"'Sheet3 (2)'!Y11","v":-7.6479585833624808E-4},{"$f":"IF(ISNUMBER(Q11),CORREL($B$1:B11,$Q$1:Q11),\"\")","v":0.2102770702486704},{"$f":"'Sheet3 (2)'!AA11","v":1.0009109876869713E-2},{"$f":"IF(ISNUMBER(S11),CORREL($B$1:B11,$S$1:S11),\"\")","v":0.42188471329188171}]
[null,{"$f":"'Sheet3 (2)'!I12","v":6.3396822923044941E-3},{"$f":"'Sheet3 (2)'!K12","v":1.3606837606837669E-2},{"$f":"IF(ISNUMBER(C12),CORREL($B$1:B12,$C$1:C12),\"\")","v":-0.12524108799768055},{"$f":"'Sheet3 (2)'!M12","v":4.9567716729678676E-3},{"$f":"IF(ISNUMBER(E12),CORREL($B$1:B12,$E$1:E12),\"\")","v":7.1048364832360211E-2},{"$f":"'Sheet3 (2)'!O12","v":2.82342928775982E-3},{"$f":"IF(ISNUMBER(G12),CORREL($B$1:B12,$G$1:G12),\"\")","v":0.13181707059145428},{"$f":"'Sheet3 (2)'!Q12","v":6.0971688793016818E-3},{"$f":"IF(ISNUMBER(I12),CORREL($B$1:B12,$I$1:I12),\"\")","v":0.62060245859354435},{"$f":"'Sheet3 (2)'!S12","v":4.5889641295970268E-3},{"$f":"IF(ISNUMBER(K12),CORREL($B$1:B12,$K$1:K12),\"\")","v":0.38457691444446729},{"$f":"'Sheet3 (2)'!U12","v":4.5455618786747137E-4},{"$f":"IF(ISNUMBER(M12),CORREL($B$1:B12,$M$1:M12),\"\")","v":0.12630989385439997},{"$f":"'Sheet3 (2)'!W12","v":-7.7606227170344338E-4},{"$f":"IF(ISNUMBER(O12),CORREL($B$1:B12,$O$1:O12),\"\")","v":-0.33702186847117188},{"$f":"'Sheet3 (2)'!Y12","v":1.1060124720556001E-3},{"$f":"IF(ISNUMBER(Q12),CORREL($B$1:B12,$Q$1:Q12),\"\")","v":0.28287272766104632},{"$f":"'Sheet3 (2)'!AA12","v":7.3760615945222922E-3},{"$f":"IF(ISNUMBER(S12),CORREL($B$1:B12,$S$1:S12),\"\")","v":0.2582596516957823}]
[null,{"$f":"'Sheet3 (2)'!I13","v":5.7162894769067522E-3},{"$f":"'Sheet3 (2)'!K13","v":1.3247863247863248E-2},{"$f":"IF(ISNUMBER(C13),CORREL($B$1:B13,$C$1:C13),\"\")","v":-7.9484725538955303E-2},{"$f":"'Sheet3 (2)'!M13","v":3.1610893423671977E-3},{"$f":"IF(ISNUMBER(E13),CORREL($B$1:B13,$E$1:E13),\"\")","v":8.0838259484200495E-2},{"$f":"'Sheet3 (2)'!O13","v":3.381214707133966E-3},{"$f":"IF(ISNUMBER(G13),CORREL($B$1:B13,$G$1:G13),\"\")","v":0.15590768341394426},{"$f":"'Sheet3 (2)'!Q13","v":4.9981585731572308E-3},{"$f":"IF(ISNUMBER(I13),CORREL($B$1:B13,$I$1:I13),\"\")","v":0.57020750960917244},{"$f":"'Sheet3 (2)'!S13","v":3.1416754425702422E-3},{"$f":"IF(ISNUMBER(K13),CORREL($B$1:B13,$K$1:K13),\"\")","v":0.38584373859111709},{"$f":"'Sheet3 (2)'!U13","v":-1.9717112564642289E-3},{"$f":"IF(ISNUMBER(M13),CORREL($B$1:B13,$M$1:M13),\"\")","v":5.05971409415042E-2},{"$f":"'Sheet3 (2)'!W13","v":3.7927855384010256E-4},{"$f":"IF(ISNUMBER(O13),CORREL($B$1:B13,$O$1:O13),\"\")","v":-0.30664093261183295},{"$f":"'Sheet3 (2)'!Y13","v":1.2060242381456375E-3},{"$f":"IF(ISNUMBER(Q13),CORREL($B$1:B13,$Q$1:Q13),\"\")","v":0.29364382340227208},{"$f":"'Sheet3 (2)'!AA13","v":7.0586852390607958E-3},{"$f":"IF(ISNUMBER(S13),CORREL($B$1:B13,$S$1:S13),\"\")","v":0.18906176433850003}]
[null,{"$f":"'Sheet3 (2)'!I14","v":6.718170787367481E-3},{"$f":"'Sheet3 (2)'!K14","v":1.4484330484330525E-2},{"$f":"IF(ISNUMBER(C14),CORREL($B$1:B14,$C$1:C14),\"\")","v":3.9823037206818429E-2},{"$f":"'Sheet3 (2)'!M14","v":3.5167836059367148E-3},{"$f":"IF(ISNUMBER(E14),CORREL($B$1:B14,$E$1:E14),\"\")","v":0.11391288695898739},{"$f":"'Sheet3 (2)'!O14","v":5.3363388575174368E-3},{"$f":"IF(ISNUMBER(G14),CORREL($B$1:B14,$G$1:G14),\"\")","v":0.25564229870525462},{"$f":"'Sheet3 (2)'!Q14","v":7.1318753909377346E-3},{"$f":"IF(ISNUMBER(I14),CORREL($B$1:B14,$I$1:I14),\"\")","v":0.5958395897195965},{"$f":"'Sheet3 (2)'!S14","v":3.7064710277514394E-3},{"$f":"IF(ISNUMBER(K14),CORREL($B$1:B14,$K$1:K14),\"\")","v":0.39659434963799495},{"$f":"'Sheet3 (2)'!U14","v":-2.6801105102835744E-3},{"$f":"IF(ISNUMBER(M14),CORREL($B$1:B14,$M$1:M14),\"\")","v":-8.0813191445691324E-2},{"$f":"'Sheet3 (2)'!W14","v":1.768021566362061E-3},{"$f":"IF(ISNUMBER(O14),CORREL($B$1:B14,$O$1:O14),\"\")","v":-0.17247593521126556},{"$f":"'Sheet3 (2)'!Y14","v":6.7066713731033065E-4},{"$f":"IF(ISNUMBER(Q14),CORREL($B$1:B14,$Q$1:Q14),\"\")","v":0.34780943503675765},{"$f":"'Sheet3 (2)'!AA14","v":7.3760615945222922E-3},{"$f":"IF(ISNUMBER(S14),CORREL($B$1:B14,$S$1:S14),\"\")","v":8.9428549227535917E-2}]
[null,{"$f":"'Sheet3 (2)'!I15","v":5.5548752657768579E-3},{"$f":"'Sheet3 (2)'!K15","v":1.5304843304843248E-2},{"$f":"IF(ISNUMBER(C15),CORREL($B$1:B15,$C$1:C15),\"\")","v":5.2876752798986293E-2},{"$f":"'Sheet3 (2)'!M15","v":3.5798906526989791E-3},{"$f":"IF(ISNUMBER(E15),CORREL($B$1:B15,$E$1:E15),\"\")","v":0.11824291388562969},{"$f":"'Sheet3 (2)'!O15","v":5.4398454301848378E-3},{"$f":"IF(ISNUMBER(G15),CORREL($B$1:B15,$G$1:G15),\"\")","v":0.2455923314561004},{"$f":"'Sheet3 (2)'!Q15","v":6.6466740323739733E-3},{"$f":"IF(ISNUMBER(I15),CORREL($B$1:B15,$I$1:I15),\"\")","v":0.59580102915570388},{"$f":"'Sheet3 (2)'!S15","v":4.4595318079929912E-3},{"$f":"IF(ISNUMBER(K15),CORREL($B$1:B15,$K$1:K15),\"\")","v":0.39672949567623067},{"$f":"'Sheet3 (2)'!U15","v":-1.1570521145717941E-3},{"$f":"IF(ISNUMBER(M15),CORREL($B$1:B15,$M$1:M15),\"\")","v":-8.9061935072448542E-2},{"$f":"'Sheet3 (2)'!W15","v":1.132000606845718E-3},{"$f":"IF(ISNUMBER(O15),CORREL($B$1:B15,$O$1:O15),\"\")","v":-0.15552912052600415},{"$f":"'Sheet3 (2)'!Y15","v":7.0596540769571849E-5},{"$f":"IF(ISNUMBER(Q15),CORREL($B$1:B15,$Q$1:Q15),\"\")","v":0.34649037844712566},{"$f":"'Sheet3 (2)'!AA15","v":6.6884128243556266E-3},{"$f":"IF(ISNUMBER(S15),CORREL($B$1:B15,$S$1:S15),\"\")","v":6.734588667359942E-2}]
[null,{"$f":"'Sheet3 (2)'!I16","v":4.4973338825128051E-3},{"$f":"'Sheet3 (2)'!K16","v":1.4267806267806247E-2},{"$f":"IF(ISNUMBER(C16),CORREL($B$1:B16,$C$1:C16),\"\")","v":8.969429683856724E-3},{"$f":"'Sheet3 (2)'!M16","v":3.3561474869053661E-3},{"$f":"IF(ISNUMBER(E16),CORREL($B$1:B16,$E$1:E16),\"\")","v":0.10211021243533291},{"$f":"'Sheet3 (2)'!O16","v":4.4162804338075835E-3},{"$f":"IF(ISNUMBER(G16),CORREL($B$1:B16,$G$1:G16),\"\")","v":0.19278500250689837},{"$f":"'Sheet3 (2)'!Q16","v":7.821679732028481E-3},{"$f":"IF(ISNUMBER(I16),CORREL($B$1:B16,$I$1:I16),\"\")","v":0.50520471555692514},{"$f":"'Sheet3 (2)'!S16","v":4.4418819459560955E-3},{"$f":"IF(ISNUMBER(K16),CORREL($B$1:B16,$K$1:K16),\"\")","v":0.36606792210889699},{"$f":"'Sheet3 (2)'!U16","v":-1.0507922264988386E-3},{"$f":"IF(ISNUMBER(M16),CORREL($B$1:B16,$M$1:M16),\"\")","v":-4.4721755637735505E-2},{"$f":"'Sheet3 (2)'!W16","v":-1.6104750901515894E-3},{"$f":"IF(ISNUMBER(O16),CORREL($B$1:B16,$O$1:O16),\"\")","v":-0.13018103192537753},{"$f":"'Sheet3 (2)'!Y16","v":-2.2826214848805045E-3},{"$f":"IF(ISNUMBER(Q16),CORREL($B$1:B16,$Q$1:Q16),\"\")","v":0.33901635346802494},{"$f":"'Sheet3 (2)'!AA16","v":7.6699285903199946E-3},{"$f":"IF(ISNUMBER(S16),CORREL($B$1:B16,$S$1:S16),\"\")","v":9.4570663874885483E-2}]
[null,{"$f":"'Sheet3 (2)'!I17","v":6.2840222195011701E-3},{"$f":"'Sheet3 (2)'!K17","v":1.3566951566951535E-2},{"$f":"IF(ISNUMBER(C17),CORREL($B$1:B17,$C$1:C17),\"\")","v":4.3825665558536148E-2},{"$f":"'Sheet3 (2)'!M17","v":2.3406977344571098E-3},{"$f":"IF(ISNUMBER(E17),CORREL($B$1:B17,$E$1:E17),\"\")","v":9.7311009227001005E-2},{"$f":"'Sheet3 (2)'!O17","v":4.8705592805143288E-3},{"$f":"IF(ISNUMBER(G17),CORREL($B$1:B17,$G$1:G17),\"\")","v":0.2299744585025314},{"$f":"'Sheet3 (2)'!Q17","v":1.0265223923349845E-2},{"$f":"IF(ISNUMBER(I17),CORREL($B$1:B17,$I$1:I17),\"\")","v":0.48144990526095571},{"$f":"'Sheet3 (2)'!S17","v":4.0359351191070932E-3},{"$f":"IF(ISNUMBER(K17),CORREL($B$1:B17,$K$1:K17),\"\")","v":0.37621841437558895},{"$f":"'Sheet3 (2)'!U17","v":-4.6518217667478037E-3},{"$f":"IF(ISNUMBER(M17),CORREL($B$1:B17,$M$1:M17),\"\")","v":-0.11164874768473781},{"$f":"'Sheet3 (2)'!W17","v":-5.77670412771773E-4},{"$f":"IF(ISNUMBER(O17),CORREL($B$1:B17,$O$1:O17),\"\")","v":-0.12836057188991007},{"$f":"'Sheet3 (2)'!Y17","v":-3.8475114719378539E-3},{"$f":"IF(ISNUMBER(Q17),CORREL($B$1:B17,$Q$1:Q17),\"\")","v":0.31740204958547608},{"$f":"'Sheet3 (2)'!AA17","v":8.3693320403185577E-3},{"$f":"IF(ISNUMBER(S17),CORREL($B$1:B17,$S$1:S17),\"\")","v":7.4615558303659221E-2}]
[null,{"$f":"'Sheet3 (2)'!I18","v":5.8944017098775175E-3},{"$f":"'Sheet3 (2)'!K18","v":1.211965811965811E-2},{"$f":"IF(ISNUMBER(C18),CORREL($B$1:B18,$C$1:C18),\"\")","v":5.0888795461369374E-2},{"$f":"'Sheet3 (2)'!M18","v":3.5569426356945192E-3},{"$f":"IF(ISNUMBER(E18),CORREL($B$1:B18,$E$1:E18),\"\")","v":0.10727343012670264},{"$f":"'Sheet3 (2)'!O18","v":5.3535899529619816E-3},{"$f":"IF(ISNUMBER(G18),CORREL($B$1:B18,$G$1:G18),\"\")","v":0.24501094368166032},{"$f":"'Sheet3 (2)'!Q18","v":1.0154153732835207E-2},{"$f":"IF(ISNUMBER(I18),CORREL($B$1:B18,$I$1:I18),\"\")","v":0.45671211697136588},{"$f":"'Sheet3 (2)'!S18","v":4.20066716478492E-3},{"$f":"IF(ISNUMBER(K18),CORREL($B$1:B18,$K$1:K18),\"\")","v":0.38250320109569891},{"$f":"'Sheet3 (2)'!U18","v":-5.4015443103733801E-3},{"$f":"IF(ISNUMBER(M18),CORREL($B$1:B18,$M$1:M18),\"\")","v":-0.13796014305925075},{"$f":"'Sheet3 (2)'!W18","v":-1.6221451995005033E-3},{"$f":"IF(ISNUMBER(O18),CORREL($B$1:B18,$O$1:O18),\"\")","v":-0.13989979934157382},{"$f":"'Sheet3 (2)'!Y18","v":-2.4708789269326072E-3},{"$f":"IF(ISNUMBER(Q18),CORREL($B$1:B18,$Q$1:Q18),\"\")","v":0.31790226215225509},{"$f":"'Sheet3 (2)'!AA18","v":8.6984630756119508E-3},{"$f":"IF(ISNUMBER(S18),CORREL($B$1:B18,$S$1:S18),\"\")","v":6.8575569620871232E-2}]
[null,{"$f":"'Sheet3 (2)'!I19","v":6.005721855484294E-3},{"$f":"'Sheet3 (2)'!K19","v":1.3937321937321959E-2},{"$f":"IF(ISNUMBER(C19),CORREL($B$1:B19,$C$1:C19),\"\")","v":7.2222326006280507E-2},{"$f":"'Sheet3 (2)'!M19","v":3.637260695210259E-3},{"$f":"IF(ISNUMBER(E19),CORREL($B$1:B19,$E$1:E19),\"\")","v":0.11871016126095894},{"$f":"'Sheet3 (2)'!O19","v":6.1643914388563835E-3},{"$f":"IF(ISNUMBER(G19),CORREL($B$1:B19,$G$1:G19),\"\")","v":0.26325842022415546},{"$f":"'Sheet3 (2)'!Q19","v":1.0399677311867535E-2},{"$f":"IF(ISNUMBER(I19),CORREL($B$1:B19,$I$1:I19),\"\")","v":0.44926560469786408},{"$f":"'Sheet3 (2)'!S19","v":4.5183646814494442E-3},{"$f":"IF(ISNUMBER(K19),CORREL($B$1:B19,$K$1:K19),\"\")","v":0.39114778201549977},{"$f":"'Sheet3 (2)'!U19","v":-4.9469881225059084E-3},{"$f":"IF(ISNUMBER(M19),CORREL($B$1:B19,$M$1:M19),\"\")","v":-0.16379721048537049},{"$f":"'Sheet3 (2)'!W19","v":-1.3595677391496734E-3},{"$f":"IF(ISNUMBER(O19),CORREL($B$1:B19,$O$1:O19),\"\")","v":-0.14906776936703395},{"$f":"'Sheet3 (2)'!Y19","v":-6.7655018237431676E-4},{"$f":"IF(ISNUMBER(Q19),CORREL($B$1:B19,$Q$1:Q19),\"\")","v":0.32845840438581109},{"$f":"'Sheet3 (2)'!AA19","v":7.7522113491434097E-3},{"$f":"IF(ISNUMBER(S19),CORREL($B$1:B19,$S$1:S19),\"\")","v":4.8749942560572308E-2}]
[null,{"$f":"'Sheet3 (2)'!I20","v":5.2097828143959921E-3},{"$f":"'Sheet3 (2)'!K20","v":1.4193732193732241E-2},{"$f":"IF(ISNUMBER(C20),CORREL($B$1:B20,$C$1:C20),\"\")","v":6.3190700991248322E-2},{"$f":"'Sheet3 (2)'!M20","v":3.6257866867080287E-3},{"$f":"IF(ISNUMBER(E20),CORREL($B$1:B20,$E$1:E20),\"\")","v":0.1141882335022588},{"$f":"'Sheet3 (2)'!O20","v":5.7388644178905466E-3},{"$f":"IF(ISNUMBER(G20),CORREL($B$1:B20,$G$1:G20),\"\")","v":0.24363565068514498},{"$f":"'Sheet3 (2)'!Q20","v":1.0709504685408261E-2},{"$f":"IF(ISNUMBER(I20),CORREL($B$1:B20,$I$1:I20),\"\")","v":0.39264014085777232},{"$f":"'Sheet3 (2)'!S20","v":4.5360145434863398E-3},{"$f":"IF(ISNUMBER(K20),CORREL($B$1:B20,$K$1:K20),\"\")","v":0.3828445304840275},{"$f":"'Sheet3 (2)'!U20","v":-3.9729391485041074E-3},{"$f":"IF(ISNUMBER(M20),CORREL($B$1:B20,$M$1:M20),\"\")","v":-0.14882530194845073},{"$f":"'Sheet3 (2)'!W20","v":-2.4857332913209343E-3},{"$f":"IF(ISNUMBER(O20),CORREL($B$1:B20,$O$1:O20),\"\")","v":-0.13603581400240033},{"$f":"'Sheet3 (2)'!Y20","v":-8.5304153429817951E-4},{"$f":"IF(ISNUMBER(Q20),CORREL($B$1:B20,$Q$1:Q20),\"\")","v":0.32077341409262145},{"$f":"'Sheet3 (2)'!AA20","v":9.0687354903171199E-3},{"$f":"IF(ISNUMBER(S20),CORREL($B$1:B20,$S$1:S20),\"\")","v":4.8767010297968996E-2}]
[null,{"$f":"'Sheet3 (2)'!I21","v":5.8498736516348583E-3},{"$f":"'Sheet3 (2)'!K21","v":1.5128205128205102E-2},{"$f":"IF(ISNUMBER(C21),CORREL($B$1:B21,$C$1:C21),\"\")","v":8.0847983257941985E-2},{"$f":"'Sheet3 (2)'!M21","v":2.4324898024749488E-3},{"$f":"IF(ISNUMBER(E21),CORREL($B$1:B21,$E$1:E21),\"\")","v":0.11176402202882708},{"$f":"'Sheet3 (2)'!O21","v":3.8642453795816193E-3},{"$f":"IF(ISNUMBER(G21),CORREL($B$1:B21,$G$1:G21),\"\")","v":0.24979955472860407},{"$f":"'Sheet3 (2)'!Q21","v":1.1598066209525098E-2},{"$f":"IF(ISNUMBER(I21),CORREL($B$1:B21,$I$1:I21),\"\")","v":0.38146776795482651},{"$f":"'Sheet3 (2)'!S21","v":4.5301312561407082E-3},{"$f":"IF(ISNUMBER(K21),CORREL($B$1:B21,$K$1:K21),\"\")","v":0.38796574653742799},{"$f":"'Sheet3 (2)'!U21","v":-1.7769014616637884E-3},{"$f":"IF(ISNUMBER(M21),CORREL($B$1:B21,$M$1:M21),\"\")","v":-0.15797520741503096},{"$f":"'Sheet3 (2)'!W21","v":-2.6549498768803199E-3},{"$f":"IF(ISNUMBER(O21),CORREL($B$1:B21,$O$1:O21),\"\")","v":-0.14970817073941931},{"$f":"'Sheet3 (2)'!Y21","v":-3.2886221908459338E-3},{"$f":"IF(ISNUMBER(Q21),CORREL($B$1:B21,$Q$1:Q21),\"\")","v":0.31480077090433517},{"$f":"'Sheet3 (2)'!AA21","v":8.4574921390577866E-3},{"$f":"IF(ISNUMBER(S21),CORREL($B$1:B21,$S$1:S21),\"\")","v":4.265565161724693E-2}]
[null,{"$f":"'Sheet3 (2)'!I22","v":6.5400585543965899E-3},{"$f":"'Sheet3 (2)'!K22","v":1.6056980056980093E-2},{"$f":"IF(ISNUMBER(C22),CORREL($B$1:B22,$C$1:C22),\"\")","v":0.13190579777465739},{"$f":"'Sheet3 (2)'!M22","v":2.7078660065287265E-3},{"$f":"IF(ISNUMBER(E22),CORREL($B$1:B22,$E$1:E22),\"\")","v":0.11099782741634033},{"$f":"'Sheet3 (2)'!O22","v":5.0545709652562729E-3},{"$f":"IF(ISNUMBER(G22),CORREL($B$1:B22,$G$1:G22),\"\")","v":0.27631249114475342},{"$f":"'Sheet3 (2)'!Q22","v":1.1726673798542024E-2},{"$f":"IF(ISNUMBER(I22),CORREL($B$1:B22,$I$1:I22),\"\")","v":0.41375536960060932},{"$f":"'Sheet3 (2)'!S22","v":5.2361257376172046E-3},{"$f":"IF(ISNUMBER(K22),CORREL($B$1:B22,$K$1:K22),\"\")","v":0.40926522395629872},{"$f":"'Sheet3 (2)'!U22","v":-8.8549906727485272E-5},{"$f":"IF(ISNUMBER(M22),CORREL($B$1:B22,$M$1:M22),\"\")","v":-0.16794173760696191},{"$f":"'Sheet3 (2)'!W22","v":-2.1648052842255343E-3},{"$f":"IF(ISNUMBER(O22),CORREL($B$1:B22,$O$1:O22),\"\")","v":-0.17612326956537439},{"$f":"'Sheet3 (2)'!Y22","v":-3.9710554182845045E-3},{"$f":"IF(ISNUMBER(Q22),CORREL($B$1:B22,$Q$1:Q22),\"\")","v":0.28807738343872114},{"$f":"'Sheet3 (2)'!AA22","v":8.4868788386376643E-3},{"$f":"IF(ISNUMBER(S22),CORREL($B$1:B22,$S$1:S22),\"\")","v":2.9129151032137219E-2}]
[null,{"$f":"'Sheet3 (2)'!I23","v":6.4009083723881519E-3},{"$f":"'Sheet3 (2)'!K23","v":1.5538461538461529E-2},{"$f":"IF(ISNUMBER(C23),CORREL($B$1:B23,$C$1:C23),\"\")","v":0.16361075655817062},{"$f":"'Sheet3 (2)'!M23","v":1.4227770542778078E-3},{"$f":"IF(ISNUMBER(E23),CORREL($B$1:B23,$E$1:E23),\"\")","v":8.7510416728021456E-2},{"$f":"'Sheet3 (2)'!O23","v":4.0942599855091476E-3},{"$f":"IF(ISNUMBER(G23),CORREL($B$1:B23,$G$1:G23),\"\")","v":0.28855311493619573},{"$f":"'Sheet3 (2)'!Q23","v":1.0978411462443645E-2},{"$f":"IF(ISNUMBER(I23),CORREL($B$1:B23,$I$1:I23),\"\")","v":0.43355339378174956},{"$f":"'Sheet3 (2)'!S23","v":5.6714890011942323E-3},{"$f":"IF(ISNUMBER(K23),CORREL($B$1:B23,$K$1:K23),\"\")","v":0.42728971735149157},{"$f":"'Sheet3 (2)'!U23","v":-5.0178280478885946E-4},{"$f":"IF(ISNUMBER(M23),CORREL($B$1:B23,$M$1:M23),\"\")","v":-0.178308003577695},{"$f":"'Sheet3 (2)'!W23","v":-3.3726616018391934E-3},{"$f":"IF(ISNUMBER(O23),CORREL($B$1:B23,$O$1:O23),\"\")","v":-0.21080787790619399},{"$f":"'Sheet3 (2)'!Y23","v":-1.7884456994940367E-3},{"$f":"IF(ISNUMBER(Q23),CORREL($B$1:B23,$Q$1:Q23),\"\")","v":0.29395369456455089},{"$f":"'Sheet3 (2)'!AA23","v":8.2341532222516035E-3},{"$f":"IF(ISNUMBER(S23),CORREL($B$1:B23,$S$1:S23),\"\")","v":1.3978953659836401E-2}]
[null,{"$f":"'Sheet3 (2)'!I24","v":{"$error":"#N/A"}},{"$f":"'Sheet3 (2)'!K24","v":1.6603988603988661E-2},{"$f":"IF(ISNUMBER(C24),CORREL($B$1:B24,$C$1:C24),\"\")","v":{"$error":"#N/A"}},{"$f":"'Sheet3 (2)'!M24","v":9.0070966742595746E-4},{"$f":"IF(ISNUMBER(E24),CORREL($B$1:B24,$E$1:E24),\"\")","v":{"$error":"#N/A"}},{"$f":"'Sheet3 (2)'!O24","v":2.5186599349059295E-3},{"$f":"IF(ISNUMBER(G24),CORREL($B$1:B24,$G$1:G24),\"\")","v":{"$error":"#N/A"}},{"$f":"'Sheet3 (2)'!Q24","v":1.0715350484909025E-2},{"$f":"IF(ISNUMBER(I24),CORREL($B$1:B24,$I$1:I24),\"\")","v":{"$error":"#N/A"}},{"$f":"'Sheet3 (2)'!S24","v":6.6010484018050085E-3},{"$f":"IF(ISNUMBER(K24),CORREL($B$1:B24,$K$1:K24),\"\")","v":{"$error":"#N/A"}},{"$f":"'Sheet3 (2)'!U24","v":1.4699284516753695E-3},{"$f":"IF(ISNUMBER(M24),CORREL($B$1:B24,$M$1:M24),\"\")","v":{"$error":"#N/A"}},{"$f":"'Sheet3 (2)'!W24","v":-3.4660224766306378E-3},{"$f":"IF(ISNUMBER(O24),CORREL($B$1:B24,$O$1:O24),\"\")","v":{"$error":"#N/A"}},{"$f":"'Sheet3 (2)'!Y24","v":-1.988469231674245E-3},{"$f":"IF(ISNUMBER(Q24),CORREL($B$1:B24,$Q$1:Q24),\"\")","v":{"$error":"#N/A"}},{"$f":"'Sheet3 (2)'!AA24","v":7.3760615945222922E-3},{"$f":"IF(ISNUMBER(S24),CORREL($B$1:B24,$S$1:S24),\"\")","v":{"$error":"#N/A"}}]
[null,{"$f":"'Sheet3 (2)'!I25","v":{"$error":"#N/A"}},{"$f":"'Sheet3 (2)'!K25","v":1.5948717948717953E-2},{"$f":"IF(ISNUMBER(C25),CORREL($B$1:B25,$C$1:C25),\"\")","v":{"$error":"#N/A"}},{"$f":"'Sheet3 (2)'!M25","v":5.7943742936312993E-4},{"$f":"IF(ISNUMBER(E25),CORREL($B$1:B25,$E$1:E25),\"\")","v":{"$error":"#N/A"}},{"$f":"'Sheet3 (2)'!O25","v":2.82342928775982E-3},{"$f":"IF(ISNUMBER(G25),CORREL($B$1:B25,$G$1:G25),\"\")","v":{"$error":"#N/A"}},{"$f":"'Sheet3 (2)'!Q25","v":1.0978411462443645E-2},{"$f":"IF(ISNUMBER(I25),CORREL($B$1:B25,$I$1:I25),\"\")","v":{"$error":"#N/A"}},{"$f":"'Sheet3 (2)'!S25","v":7.1305442629122804E-3},{"$f":"IF(ISNUMBER(K25),CORREL($B$1:B25,$K$1:K25),\"\")","v":{"$error":"#N/A"}},{"$f":"'Sheet3 (2)'!U25","v":1.4876384330208398E-3},{"$f":"IF(ISNUMBER(M25),CORREL($B$1:B25,$M$1:M25),\"\")","v":{"$error":"#N/A"}},{"$f":"'Sheet3 (2)'!W25","v":-3.9444969599365092E-3},{"$f":"IF(ISNUMBER(O25),CORREL($B$1:B25,$O$1:O25),\"\")","v":{"$error":"#N/A"}},{"$f":"'Sheet3 (2)'!Y25","v":-3.7886810212966553E-3},{"$f":"IF(ISNUMBER(Q25),CORREL($B$1:B25,$Q$1:Q25),\"\")","v":{"$error":"#N/A"}},{"$f":"'Sheet3 (2)'!AA25","v":6.6061300655323452E-3},{"$f":"IF(ISNUMBER(S25),CORREL($B$1:B25,$S$1:S25),\"\")","v":{"$error":"#N/A"}}]
[null,{"$f":"'Sheet3 (2)'!I26","v":{"$error":"#N/A"}},{"$f":"'Sheet3 (2)'!K26","v":1.6017094017093961E-2},{"$f":"IF(ISNUMBER(C26),CORREL($B$1:B26,$C$1:C26),\"\")","v":{"$error":"#N/A"}},{"$f":"'Sheet3 (2)'!M26","v":1.4514620755333824E-3},{"$f":"IF(ISNUMBER(E26),CORREL($B$1:B26,$E$1:E26),\"\")","v":{"$error":"#N/A"}},{"$f":"'Sheet3 (2)'!O26","v":3.5997285827650003E-3},{"$f":"IF(ISNUMBER(G26),CORREL($B$1:B26,$G$1:G26),\"\")","v":{"$error":"#N/A"}},{"$f":"'Sheet3 (2)'!Q26","v":1.1346696830992004E-2},{"$f":"IF(ISNUMBER(I26),CORREL($B$1:B26,$I$1:I26),\"\")","v":{"$error":"#N/A"}},{"$f":"'Sheet3 (2)'!S26","v":7.1717272743318378E-3},{"$f":"IF(ISNUMBER(K26),CORREL($B$1:B26,$K$1:K26),\"\")","v":{"$error":"#N/A"}},{"$f":"'Sheet3 (2)'!U26","v":4.1323289806097154E-5},{"$f":"IF(ISNUMBER(M26),CORREL($B$1:B26,$M$1:M26),\"\")","v":{"$error":"#N/A"}},{"$f":"'Sheet3 (2)'!W26","v":-4.1428888188681798E-3},{"$f":"IF(ISNUMBER(O26),CORREL($B$1:B26,$O$1:O26),\"\")","v":{"$error":"#N/A"}},{"$f":"'Sheet3 (2)'!Y26","v":-3.2533239204612149E-3},{"$f":"IF(ISNUMBER(Q26),CORREL($B$1:B26,$Q$1:Q26),\"\")","v":{"$error":"#N/A"}},{"$f":"'Sheet3 (2)'!AA26","v":5.16030444620763E-3},{"$f":"IF(ISNUMBER(S26),CORREL($B$1:B26,$S$1:S26),\"\")","v":{"$error":"#N/A"}}]
[null,{"$f":"'Sheet3 (2)'!I27","v":{"$error":"#N/A"}},{"$f":"'Sheet3 (2)'!K27","v":1.521937321937324E-2},{"$f":"IF(ISNUMBER(C27),CORREL($B$1:B27,$C$1:C27),\"\")","v":{"$error":"#N/A"}},{"$f":"'Sheet3 (2)'!M27","v":1.7096272668338153E-3},{"$f":"IF(ISNUMBER(E27),CORREL($B$1:B27,$E$1:E27),\"\")","v":{"$error":"#N/A"}},{"$f":"'Sheet3 (2)'!O27","v":3.6572322342469481E-3},{"$f":"IF(ISNUMBER(G27),CORREL($B$1:B27,$G$1:G27),\"\")","v":{"$error":"#N/A"}},{"$f":"'Sheet3 (2)'!Q27","v":1.1562991412520516E-2},{"$f":"IF(ISNUMBER(I27),CORREL($B$1:B27,$I$1:I27),\"\")","v":{"$error":"#N/A"}},{"$f":"'Sheet3 (2)'!S27","v":7.795355732969354E-3},{"$f":"IF(ISNUMBER(K27),CORREL($B$1:B27,$K$1:K27),\"\")","v":{"$error":"#N/A"}},{"$f":"'Sheet3 (2)'!U27","v":2.3613308460626944E-5},{"$f":"IF(ISNUMBER(M27),CORREL($B$1:B27,$M$1:M27),\"\")","v":{"$error":"#N/A"}},{"$f":"'Sheet3 (2)'!W27","v":-4.5805179194528525E-3},{"$f":"IF(ISNUMBER(O27),CORREL($B$1:B27,$O$1:O27),\"\")","v":{"$error":"#N/A"}},{"$f":"'Sheet3 (2)'!Y27","v":-4.0593010942463021E-3},{"$f":"IF(ISNUMBER(Q27),CORREL($B$1:B27,$Q$1:Q27),\"\")","v":{"$error":"#N/A"}},{"$f":"'Sheet3 (2)'!AA27","v":3.755620206294556E-3},{"$f":"IF(ISNUMBER(S27),CORREL($B$1:B27,$S$1:S27),\"\")","v":{"$error":"#N/A"}}]
[null,{"$f":"'Sheet3 (2)'!I28","v":{"$error":"#N/A"}},{"$f":"'Sheet3 (2)'!K28","v":1.5732193732193676E-2},{"$f":"IF(ISNUMBER(C28),CORREL($B$1:B28,$C$1:C28),\"\")","v":{"$error":"#N/A"}},{"$f":"'Sheet3 (2)'!M28","v":1.5948871818113862E-3},{"$f":"IF(ISNUMBER(E28),CORREL($B$1:B28,$E$1:E28),\"\")","v":{"$error":"#N/A"}},{"$f":"'Sheet3 (2)'!O28","v":4.4392818944003105E-3},{"$f":"IF(ISNUMBER(G28),CORREL($B$1:B28,$G$1:G28),\"\")","v":{"$error":"#N/A"}},{"$f":"'Sheet3 (2)'!Q28","v":1.1130402249463626E-2},{"$f":"IF(ISNUMBER(I28),CORREL($B$1:B28,$I$1:I28),\"\")","v":{"$error":"#N/A"}},{"$f":"'Sheet3 (2)'!S28","v":8.1424696863619042E-3},{"$f":"IF(ISNUMBER(K28),CORREL($B$1:B28,$K$1:K28),\"\")","v":{"$error":"#N/A"}},{"$f":"'Sheet3 (2)'!U28","v":1.4994450872511532E-3},{"$f":"IF(ISNUMBER(M28),CORREL($B$1:B28,$M$1:M28),\"\")","v":{"$error":"#N/A"}},{"$f":"'Sheet3 (2)'!W28","v":-4.1078784908214379E-3},{"$f":"IF(ISNUMBER(O28),CORREL($B$1:B28,$O$1:O28),\"\")","v":{"$error":"#N/A"}},{"$f":"'Sheet3 (2)'!Y28","v":-4.6358395105305815E-3},{"$f":"IF(ISNUMBER(Q28),CORREL($B$1:B28,$Q$1:Q28),\"\")","v":{"$error":"#N/A"}},{"$f":"'Sheet3 (2)'!AA28","v":4.1729113403273146E-3},{"$f":"IF(ISNUMBER(S28),CORREL($B$1:B28,$S$1:S28),\"\")","v":{"$error":"#N/A"}}]
[null,{"$f":"'Sheet3 (2)'!I29","v":{"$error":"#N/A"}},{"$f":"'Sheet3 (2)'!K29","v":1.6267806267806242E-2},{"$f":"IF(ISNUMBER(C29),CORREL($B$1:B29,$C$1:C29),\"\")","v":{"$error":"#N/A"}},{"$f":"'Sheet3 (2)'!M29","v":2.816869087300041E-3},{"$f":"IF(ISNUMBER(E29),CORREL($B$1:B29,$E$1:E29),\"\")","v":{"$error":"#N/A"}},{"$f":"'Sheet3 (2)'!O29","v":4.307023495992001E-3},{"$f":"IF(ISNUMBER(G29),CORREL($B$1:B29,$G$1:G29),\"\")","v":{"$error":"#N/A"}},{"$f":"'Sheet3 (2)'!Q29","v":1.0528284900884463E-2},{"$f":"IF(ISNUMBER(I29),CORREL($B$1:B29,$I$1:I29),\"\")","v":{"$error":"#N/A"}},{"$f":"'Sheet3 (2)'!S29","v":6.9187459184693982E-3},{"$f":"IF(ISNUMBER(K29),CORREL($B$1:B29,$K$1:K29),\"\")","v":{"$error":"#N/A"}},{"$f":"'Sheet3 (2)'!U29","v":2.8690169779687241E-3},{"$f":"IF(ISNUMBER(M29),CORREL($B$1:B29,$M$1:M29),\"\")","v":{"$error":"#N/A"}},{"$f":"'Sheet3 (2)'!W29","v":-5.7125185262985705E-3},{"$f":"IF(ISNUMBER(O29),CORREL($B$1:B29,$O$1:O29),\"\")","v":{"$error":"#N/A"}},{"$f":"'Sheet3 (2)'!Y29","v":-3.8239792916813743E-3},{"$f":"IF(ISNUMBER(Q29),CORREL($B$1:B29,$Q$1:Q29),\"\")","v":{"$error":"#N/A"}},{"$f":"'Sheet3 (2)'!AA29","v":1.4164389197448379E-3},{"$f":"IF(ISNUMBER(S29),CORREL($B$1:B29,$S$1:S29),\"\")","v":{"$error":"#N/A"}}]
[null,{"$f":"'Sheet3 (2)'!I30","v":{"$error":"#N/A"}},{"$f":"'Sheet3 (2)'!K30","v":1.7054131054131092E-2},{"$f":"IF(ISNUMBER(C30),CORREL($B$1:B30,$C$1:C30),\"\")","v":{"$error":"#N/A"}},{"$f":"'Sheet3 (2)'!M30","v":2.3636457514615698E-3},{"$f":"IF(ISNUMBER(E30),CORREL($B$1:B30,$E$1:E30),\"\")","v":{"$error":"#N/A"}},{"$f":"'Sheet3 (2)'!O30","v":4.5887913882531649E-3},{"$f":"IF(ISNUMBER(G30),CORREL($B$1:B30,$G$1:G30),\"\")","v":{"$error":"#N/A"}},{"$f":"'Sheet3 (2)'!Q30","v":1.0849803873426716E-2},{"$f":"IF(ISNUMBER(I30),CORREL($B$1:B30,$I$1:I30),\"\")","v":{"$error":"#N/A"}},{"$f":"'Sheet3 (2)'!S30","v":7.1128944008753848E-3},{"$f":"IF(ISNUMBER(K30),CORREL($B$1:B30,$K$1:K30),\"\")","v":{"$error":"#N/A"}},{"$f":"'Sheet3 (2)'!U30","v":3.4298330539091508E-3},{"$f":"IF(ISNUMBER(M30),CORREL($B$1:B30,$M$1:M30),\"\")","v":{"$error":"#N/A"}},{"$f":"'Sheet3 (2)'!W30","v":-4.959796473292955E-3},{"$f":"IF(ISNUMBER(O30),CORREL($B$1:B30,$O$1:O30),\"\")","v":{"$error":"#N/A"}},{"$f":"'Sheet3 (2)'!Y30","v":-3.4827626779620224E-3},{"$f":"IF(ISNUMBER(Q30),CORREL($B$1:B30,$Q$1:Q30),\"\")","v":{"$error":"#N/A"}},{"$f":"'Sheet3 (2)'!AA30","v":3.1384995151194088E-3},{"$f":"IF(ISNUMBER(S30),CORREL($B$1:B30,$S$1:S30),\"\")","v":{"$error":"#N/A"}}]
[null,{"$f":"'Sheet3 (2)'!I31","v":{"$error":"#N/A"}},{"$f":"'Sheet3 (2)'!K31","v":1.6632478632478662E-2},{"$f":"IF(ISNUMBER(C31),CORREL($B$1:B31,$C$1:C31),\"\")","v":{"$error":"#N/A"}},{"$f":"'Sheet3 (2)'!M31","v":2.8283430958022707E-3},{"$f":"IF(ISNUMBER(E31),CORREL($B$1:B31,$E$1:E31),\"\")","v":{"$error":"#N/A"}},{"$f":"'Sheet3 (2)'!O31","v":3.7032351554324014E-3},{"$f":"IF(ISNUMBER(G31),CORREL($B$1:B31,$G$1:G31),\"\")","v":{"$error":"#N/A"}},{"$f":"'Sheet3 (2)'!Q31","v":1.008984993832681E-2},{"$f":"IF(ISNUMBER(I31),CORREL($B$1:B31,$I$1:I31),\"\")","v":{"$error":"#N/A"}},{"$f":"'Sheet3 (2)'!S31","v":6.9128626311237666E-3},{"$f":"IF(ISNUMBER(K31),CORREL($B$1:B31,$K$1:K31),\"\")","v":{"$error":"#N/A"}},{"$f":"'Sheet3 (2)'!U31","v":4.4393019906018927E-3},{"$f":"IF(ISNUMBER(M31),CORREL($B$1:B31,$M$1:M31),\"\")","v":{"$error":"#N/A"}},{"$f":"'Sheet3 (2)'!W31","v":-5.7066834716241136E-3},{"$f":"IF(ISNUMBER(O31),CORREL($B$1:B31,$O$1:O31),\"\")","v":{"$error":"#N/A"}},{"$f":"'Sheet3 (2)'!Y31","v":-3.4533474526414233E-3},{"$f":"IF(ISNUMBER(Q31),CORREL($B$1:B31,$Q$1:Q31),\"\")","v":{"$error":"#N/A"}},{"$f":"'Sheet3 (2)'!AA31","v":3.8496576449498689E-3},{"$f":"IF(ISNUMBER(S31),CORREL($B$1:B31,$S$1:S31),\"\")","v":{"$error":"#N/A"}}]
[null,{"$f":"'Sheet3 (2)'!I32","v":{"$error":"#N/A"}},{"$f":"'Sheet3 (2)'!K32","v":1.760683760683766E-2},{"$f":"IF(ISNUMBER(C32),CORREL($B$1:B32,$C$1:C32),\"\")","v":{"$error":"#N/A"}},{"$f":"'Sheet3 (2)'!M32","v":1.7956823306006697E-3},{"$f":"IF(ISNUMBER(E32),CORREL($B$1:B32,$E$1:E32),\"\")","v":{"$error":"#N/A"}},{"$f":"'Sheet3 (2)'!O32","v":3.2777081344665649E-3},{"$f":"IF(ISNUMBER(G32),CORREL($B$1:B32,$G$1:G32),\"\")","v":{"$error":"#N/A"}},{"$f":"'Sheet3 (2)'!Q32","v":1.0762116880915133E-2},{"$f":"IF(ISNUMBER(I32),CORREL($B$1:B32,$I$1:I32),\"\")","v":{"$error":"#N/A"}},{"$f":"'Sheet3 (2)'!S32","v":7.2717431592075801E-3},{"$f":"IF(ISNUMBER(K32),CORREL($B$1:B32,$K$1:K32),\"\")","v":{"$error":"#N/A"}},{"$f":"'Sheet3 (2)'!U32","v":3.3235731658361953E-3},{"$f":"IF(ISNUMBER(M32),CORREL($B$1:B32,$M$1:M32),\"\")","v":{"$error":"#N/A"}},{"$f":"'Sheet3 (2)'!W32","v":-5.8642299478345846E-3},{"$f":"IF(ISNUMBER(O32),CORREL($B$1:B32,$O$1:O32),\"\")","v":{"$error":"#N/A"}},{"$f":"'Sheet3 (2)'!Y32","v":-3.9475232380280249E-3},{"$f":"IF(ISNUMBER(Q32),CORREL($B$1:B32,$Q$1:Q32),\"\")","v":{"$error":"#N/A"}},{"$f":"'Sheet3 (2)'!AA32","v":4.1552793205794679E-3},{"$f":"IF(ISNUMBER(S32),CORREL($B$1:B32,$S$1:S32),\"\")","v":{"$error":"#N/A"}}]
[null,{"$f":"'Sheet3 (2)'!I33","v":{"$error":"#N/A"}},{"$f":"'Sheet3 (2)'!K33","v":1.7720797720797668E-2},{"$f":"IF(ISNUMBER(C33),CORREL($B$1:B33,$C$1:C33),\"\")","v":{"$error":"#N/A"}},{"$f":"'Sheet3 (2)'!M33","v":1.721101275336045E-3},{"$f":"IF(ISNUMBER(E33),CORREL($B$1:B33,$E$1:E33),\"\")","v":{"$error":"#N/A"}},{"$f":"'Sheet3 (2)'!O33","v":4.0252556037308372E-3},{"$f":"IF(ISNUMBER(G33),CORREL($B$1:B33,$G$1:G33),\"\")","v":{"$error":"#N/A"}},{"$f":"'Sheet3 (2)'!Q33","v":1.073873368291208E-2},{"$f":"IF(ISNUMBER(I33),CORREL($B$1:B33,$I$1:I33),\"\")","v":{"$error":"#N/A"}},{"$f":"'Sheet3 (2)'!S33","v":7.5717908138350741E-3},{"$f":"IF(ISNUMBER(K33),CORREL($B$1:B33,$K$1:K33),\"\")","v":{"$error":"#N/A"}},{"$f":"'Sheet3 (2)'!U33","v":4.628208458287042E-3},{"$f":"IF(ISNUMBER(M33),CORREL($B$1:B33,$M$1:M33),\"\")","v":{"$error":"#N/A"}},{"$f":"'Sheet3 (2)'!W33","v":-8.2682724737131209E-3},{"$f":"IF(ISNUMBER(O33),CORREL($B$1:B33,$O$1:O33),\"\")","v":{"$error":"#N/A"}},{"$f":"'Sheet3 (2)'!Y33","v":-4.8299799976468036E-3},{"$f":"IF(ISNUMBER(Q33),CORREL($B$1:B33,$Q$1:Q33),\"\")","v":{"$error":"#N/A"}},{"$f":"'Sheet3 (2)'!AA33","v":2.3803226659613592E-3},{"$f":"IF(ISNUMBER(S33),CORREL($B$1:B33,$S$1:S33),\"\")","v":{"$error":"#N/A"}}]
[null,{"$f":"'Sheet3 (2)'!I34","v":{"$error":"#N/A"}},{"$f":"'Sheet3 (2)'!K34","v":1.7578347578347527E-2},{"$f":"IF(ISNUMBER(C34),CORREL($B$1:B34,$C$1:C34),\"\")","v":{"$error":"#N/A"}},{"$f":"'Sheet3 (2)'!M34","v":1.6350462115693211E-3},{"$f":"IF(ISNUMBER(E34),CORREL($B$1:B34,$E$1:E34),\"\")","v":{"$error":"#N/A"}},{"$f":"'Sheet3 (2)'!O34","v":3.6917344251360378E-3},{"$f":"IF(ISNUMBER(G34),CORREL($B$1:B34,$G$1:G34),\"\")","v":{"$error":"#N/A"}},{"$f":"'Sheet3 (2)'!Q34","v":1.0165845331836733E-2},{"$f":"IF(ISNUMBER(I34),CORREL($B$1:B34,$I$1:I34),\"\")","v":{"$error":"#N/A"}},{"$f":"'Sheet3 (2)'!S34","v":7.807122307660618E-3},{"$f":"IF(ISNUMBER(K34),CORREL($B$1:B34,$K$1:K34),\"\")","v":{"$error":"#N/A"}},{"$f":"'Sheet3 (2)'!U34","v":3.9906491298495779E-3},{"$f":"IF(ISNUMBER(M34),CORREL($B$1:B34,$M$1:M34),\"\")","v":{"$error":"#N/A"}},{"$f":"'Sheet3 (2)'!W34","v":-6.8153438597720033E-3},{"$f":"IF(ISNUMBER(O34),CORREL($B$1:B34,$O$1:O34),\"\")","v":{"$error":"#N/A"}},{"$f":"'Sheet3 (2)'!Y34","v":-4.435815978350373E-3},{"$f":"IF(ISNUMBER(Q34),CORREL($B$1:B34,$Q$1:Q34),\"\")","v":{"$error":"#N/A"}},{"$f":"'Sheet3 (2)'!AA34","v":2.8563871991536044E-3},{"$f":"IF(ISNUMBER(S34),CORREL($B$1:B34,$S$1:S34),\"\")","v":{"$error":"#N/A"}}]
[null,{"$f":"'Sheet3 (2)'!I35","v":{"$error":"#N/A"}},{"$f":"'Sheet3 (2)'!K35","v":1.7857549857549809E-2},{"$f":"IF(ISNUMBER(C35),CORREL($B$1:B35,$C$1:C35),\"\")","v":{"$error":"#N/A"}},{"$f":"'Sheet3 (2)'!M35","v":1.7497862965916197E-3},{"$f":"IF(ISNUMBER(E35),CORREL($B$1:B35,$E$1:E35),\"\")","v":{"$error":"#N/A"}},{"$f":"'Sheet3 (2)'!O35","v":3.645731503950454E-3},{"$f":"IF(ISNUMBER(G35),CORREL($B$1:B35,$G$1:G35),\"\")","v":{"$error":"#N/A"}},{"$f":"'Sheet3 (2)'!Q35","v":1.0183382730339023E-2},{"$f":"IF(ISNUMBER(I35),CORREL($B$1:B35,$I$1:I35),\"\")","v":{"$error":"#N/A"}},{"$f":"'Sheet3 (2)'!S35","v":8.0071540774122353E-3},{"$f":"IF(ISNUMBER(K35),CORREL($B$1:B35,$K$1:K35),\"\")","v":{"$error":"#N/A"}},{"$f":"'Sheet3 (2)'!U35","v":4.0142624383102043E-3},{"$f":"IF(ISNUMBER(M35),CORREL($B$1:B35,$M$1:M35),\"\")","v":{"$error":"#N/A"}},{"$f":"'Sheet3 (2)'!W35","v":-5.3449100818075143E-3},{"$f":"IF(ISNUMBER(O35),CORREL($B$1:B35,$O$1:O35),\"\")","v":{"$error":"#N/A"}},{"$f":"'Sheet3 (2)'!Y35","v":-3.8828097423225729E-3},{"$f":"IF(ISNUMBER(Q35),CORREL($B$1:B35,$Q$1:Q35),\"\")","v":{"$error":"#N/A"}},{"$f":"'Sheet3 (2)'!AA35","v":1.8219753739456986E-3},{"$f":"IF(ISNUMBER(S35),CORREL($B$1:B35,$S$1:S35),\"\")","v":{"$error":"#N/A"}}]
[null,{"$f":"'Sheet3 (2)'!I36","v":{"$error":"#N/A"}},{"$f":"'Sheet3 (2)'!K36","v":1.7840455840455811E-2},{"$f":"IF(ISNUMBER(C36),CORREL($B$1:B36,$C$1:C36),\"\")","v":{"$error":"#N/A"}},{"$f":"'Sheet3 (2)'!M36","v":2.3234867217036348E-3},{"$f":"IF(ISNUMBER(E36),CORREL($B$1:B36,$E$1:E36),\"\")","v":{"$error":"#N/A"}},{"$f":"'Sheet3 (2)'!O36","v":3.9447504916562933E-3},{"$f":"IF(ISNUMBER(G36),CORREL($B$1:B36,$G$1:G36),\"\")","v":{"$error":"#N/A"}},{"$f":"'Sheet3 (2)'!Q36","v":9.3240502037260052E-3},{"$f":"IF(ISNUMBER(I36),CORREL($B$1:B36,$I$1:I36),\"\")","v":{"$error":"#N/A"}},{"$f":"'Sheet3 (2)'!S36","v":8.5895995246303286E-3},{"$f":"IF(ISNUMBER(K36),CORREL($B$1:B36,$K$1:K36),\"\")","v":{"$error":"#N/A"}},{"$f":"'Sheet3 (2)'!U36","v":3.2468299133391579E-3},{"$f":"IF(ISNUMBER(M36),CORREL($B$1:B36,$M$1:M36),\"\")","v":{"$error":"#N/A"}},{"$f":"'Sheet3 (2)'!W36","v":-6.768663422376215E-3},{"$f":"IF(ISNUMBER(O36),CORREL($B$1:B36,$O$1:O36),\"\")","v":{"$error":"#N/A"}},{"$f":"'Sheet3 (2)'!Y36","v":-3.9298741028356652E-3},{"$f":"IF(ISNUMBER(Q36),CORREL($B$1:B36,$Q$1:Q36),\"\")","v":{"$error":"#N/A"}},{"$f":"'Sheet3 (2)'!AA36","v":1.5281083781479968E-4},{"$f":"IF(ISNUMBER(S36),CORREL($B$1:B36,$S$1:S36),\"\")","v":{"$error":"#N/A"}}]
[null,{"$f":"'Sheet3 (2)'!I37","v":{"$error":"#N/A"}},{"$f":"'Sheet3 (2)'!K37","v":1.8478632478632514E-2},{"$f":"IF(ISNUMBER(C37),CORREL($B$1:B37,$C$1:C37),\"\")","v":{"$error":"#N/A"}},{"$f":"'Sheet3 (2)'!M37","v":3.1840373593716572E-3},{"$f":"IF(ISNUMBER(E37),CORREL($B$1:B37,$E$1:E37),\"\")","v":{"$error":"#N/A"}},{"$f":"'Sheet3 (2)'!O37","v":4.4450322595484919E-3},{"$f":"IF(ISNUMBER(G37),CORREL($B$1:B37,$G$1:G37),\"\")","v":{"$error":"#N/A"}},{"$f":"'Sheet3 (2)'!Q37","v":1.049321010387975E-2},{"$f":"IF(ISNUMBER(I37),CORREL($B$1:B37,$I$1:I37),\"\")","v":{"$error":"#N/A"}},{"$f":"'Sheet3 (2)'!S37","v":9.0837956616639428E-3},{"$f":"IF(ISNUMBER(K37),CORREL($B$1:B37,$K$1:K37),\"\")","v":{"$error":"#N/A"}},{"$f":"'Sheet3 (2)'!U37","v":3.3294764929513521E-3},{"$f":"IF(ISNUMBER(M37),CORREL($B$1:B37,$M$1:M37),\"\")","v":{"$error":"#N/A"}},{"$f":"'Sheet3 (2)'!W37","v":-8.0465403960834903E-3},{"$f":"IF(ISNUMBER(O37),CORREL($B$1:B37,$O$1:O37),\"\")","v":{"$error":"#N/A"}},{"$f":"'Sheet3 (2)'!Y37","v":-3.1415460642428041E-3},{"$f":"IF(ISNUMBER(Q37),CORREL($B$1:B37,$Q$1:Q37),\"\")","v":{"$error":"#N/A"}},{"$f":"'Sheet3 (2)'!AA37","v":-7.1703546974640885E-4},{"$f":"IF(ISNUMBER(S37),CORREL($B$1:B37,$S$1:S37),\"\")","v":{"$error":"#N/A"}}]
[null,{"$f":"'Sheet3 (2)'!I38","v":{"$error":"#N/A"}},{"$f":"'Sheet3 (2)'!K38","v":1.7891737891737945E-2},{"$f":"IF(ISNUMBER(C38),CORREL($B$1:B38,$C$1:C38),\"\")","v":{"$error":"#N/A"}},{"$f":"'Sheet3 (2)'!M38","v":3.5913646612012089E-3},{"$f":"IF(ISNUMBER(E38),CORREL($B$1:B38,$E$1:E38),\"\")","v":{"$error":"#N/A"}},{"$f":"'Sheet3 (2)'!O38","v":3.9792526825453839E-3},{"$f":"IF(ISNUMBER(G38),CORREL($B$1:B38,$G$1:G38),\"\")","v":{"$error":"#N/A"}},{"$f":"'Sheet3 (2)'!Q38","v":9.885246955799825E-3},{"$f":"IF(ISNUMBER(I38),CORREL($B$1:B38,$I$1:I38),\"\")","v":{"$error":"#N/A"}},{"$f":"'Sheet3 (2)'!S38","v":8.9837797767880669E-3},{"$f":"IF(ISNUMBER(K38),CORREL($B$1:B38,$K$1:K38),\"\")","v":{"$error":"#N/A"}},{"$f":"'Sheet3 (2)'!U38","v":3.8666792604311519E-3},{"$f":"IF(ISNUMBER(M38),CORREL($B$1:B38,$M$1:M38),\"\")","v":{"$error":"#N/A"}},{"$f":"'Sheet3 (2)'!W38","v":-9.557819556769178E-3},{"$f":"IF(ISNUMBER(O38),CORREL($B$1:B38,$O$1:O38),\"\")","v":{"$error":"#N/A"}},{"$f":"'Sheet3 (2)'!Y38","v":-4.3769855277091749E-3},{"$f":"IF(ISNUMBER(Q38),CORREL($B$1:B38,$Q$1:Q38),\"\")","v":{"$error":"#N/A"}},{"$f":"'Sheet3 (2)'!AA38","v":-5.3483793235186566E-4},{"$f":"IF(ISNUMBER(S38),CORREL($B$1:B38,$S$1:S38),\"\")","v":{"$error":"#N/A"}}]
[null,{"$f":"'Sheet3 (2)'!I39","v":{"$error":"#N/A"}},{"$f":"'Sheet3 (2)'!K39","v":1.7595441595441658E-2},{"$f":"IF(ISNUMBER(C39),CORREL($B$1:B39,$C$1:C39),\"\")","v":{"$error":"#N/A"}},{"$f":"'Sheet3 (2)'!M39","v":3.4020435209142857E-3},{"$f":"IF(ISNUMBER(E39),CORREL($B$1:B39,$E$1:E39),\"\")","v":{"$error":"#N/A"}},{"$f":"'Sheet3 (2)'!O39","v":4.0425066991753821E-3},{"$f":"IF(ISNUMBER(G39),CORREL($B$1:B39,$G$1:G39),\"\")","v":{"$error":"#N/A"}},{"$f":"'Sheet3 (2)'!Q39","v":9.4234287952391169E-3},{"$f":"IF(ISNUMBER(I39),CORREL($B$1:B39,$I$1:I39),\"\")","v":{"$error":"#N/A"}},{"$f":"'Sheet3 (2)'!S39","v":8.2895518700028346E-3},{"$f":"IF(ISNUMBER(K39),CORREL($B$1:B39,$K$1:K39),\"\")","v":{"$error":"#N/A"}},{"$f":"'Sheet3 (2)'!U39","v":4.9646981038512445E-3},{"$f":"IF(ISNUMBER(M39),CORREL($B$1:B39,$M$1:M39),\"\")","v":{"$error":"#N/A"}},{"$f":"'Sheet3 (2)'!W39","v":-8.5775303714596077E-3},{"$f":"IF(ISNUMBER(O39),CORREL($B$1:B39,$O$1:O39),\"\")","v":{"$error":"#N/A"}},{"$f":"'Sheet3 (2)'!Y39","v":-4.6123073302741019E-3},{"$f":"IF(ISNUMBER(Q39),CORREL($B$1:B39,$Q$1:Q39),\"\")","v":{"$error":"#N/A"}},{"$f":"'Sheet3 (2)'!AA39","v":2.9974433571365063E-4},{"$f":"IF(ISNUMBER(S39),CORREL($B$1:B39,$S$1:S39),\"\")","v":{"$error":"#N/A"}}]
[null,{"$f":"'Sheet3 (2)'!I40","v":{"$error":"#N/A"}},{"$f":"'Sheet3 (2)'!K40","v":1.8774928774928801E-2},{"$f":"IF(ISNUMBER(C40),CORREL($B$1:B40,$C$1:C40),\"\")","v":{"$error":"#N/A"}},{"$f":"'Sheet3 (2)'!M40","v":3.2586184146362819E-3},{"$f":"IF(ISNUMBER(E40),CORREL($B$1:B40,$E$1:E40),\"\")","v":{"$error":"#N/A"}},{"$f":"'Sheet3 (2)'!O40","v":3.9044979356188908E-3},{"$f":"IF(ISNUMBER(G40),CORREL($B$1:B40,$G$1:G40),\"\")","v":{"$error":"#N/A"}},{"$f":"'Sheet3 (2)'!Q40","v":9.4351203942406436E-3},{"$f":"IF(ISNUMBER(I40),CORREL($B$1:B40,$I$1:I40),\"\")","v":{"$error":"#N/A"}},{"$f":"'Sheet3 (2)'!S40","v":7.9247880545733895E-3},{"$f":"IF(ISNUMBER(K40),CORREL($B$1:B40,$K$1:K40),\"\")","v":{"$error":"#N/A"}},{"$f":"'Sheet3 (2)'!U40","v":2.4321707714467229E-3},{"$f":"IF(ISNUMBER(M40),CORREL($B$1:B40,$M$1:M40),\"\")","v":{"$error":"#N/A"}},{"$f":"'Sheet3 (2)'!W40","v":-9.8845826185391672E-3},{"$f":"IF(ISNUMBER(O40),CORREL($B$1:B40,$O$1:O40),\"\")","v":{"$error":"#N/A"}},{"$f":"'Sheet3 (2)'!Y40","v":-4.0298858689257026E-3},{"$f":"IF(ISNUMBER(Q40),CORREL($B$1:B40,$Q$1:Q40),\"\")","v":{"$error":"#N/A"}},{"$f":"'Sheet3 (2)'!AA40","v":-8.5221428781336235E-4},{"$f":"IF(ISNUMBER(S40),CORREL($B$1:B40,$S$1:S40),\"\")","v":{"$error":"#N/A"}}]
[null,{"$f":"'Sheet3 (2)'!I41","v":{"$error":"#N/A"}},{"$f":"'Sheet3 (2)'!K41","v":1.9635327635327656E-2},{"$f":"IF(ISNUMBER(C41),CORREL($B$1:B41,$C$1:C41),\"\")","v":{"$error":"#N/A"}},{"$f":"'Sheet3 (2)'!M41","v":3.3446734784031364E-3},{"$f":"IF(ISNUMBER(E41),CORREL($B$1:B41,$E$1:E41),\"\")","v":{"$error":"#N/A"}},{"$f":"'Sheet3 (2)'!O41","v":3.8239928235443473E-3},{"$f":"IF(ISNUMBER(G41),CORREL($B$1:B41,$G$1:G41),\"\")","v":{"$error":"#N/A"}},{"$f":"'Sheet3 (2)'!Q41","v":8.3010352910914791E-3},{"$f":"IF(ISNUMBER(I41),CORREL($B$1:B41,$I$1:I41),\"\")","v":{"$error":"#N/A"}},{"$f":"'Sheet3 (2)'!S41","v":8.1895359851270923E-3},{"$f":"IF(ISNUMBER(K41),CORREL($B$1:B41,$K$1:K41),\"\")","v":{"$error":"#N/A"}},{"$f":"'Sheet3 (2)'!U41","v":3.3944130912182107E-3},{"$f":"IF(ISNUMBER(M41),CORREL($B$1:B41,$M$1:M41),\"\")","v":{"$error":"#N/A"}},{"$f":"'Sheet3 (2)'!W41","v":-9.4819638460012373E-3},{"$f":"IF(ISNUMBER(O41),CORREL($B$1:B41,$O$1:O41),\"\")","v":{"$error":"#N/A"}},{"$f":"'Sheet3 (2)'!Y41","v":-4.2593246264266442E-3},{"$f":"IF(ISNUMBER(Q41),CORREL($B$1:B41,$Q$1:Q41),\"\")","v":{"$error":"#N/A"}},{"$f":"'Sheet3 (2)'!AA41","v":-1.7867113344500064E-3},{"$f":"IF(ISNUMBER(S41),CORREL($B$1:B41,$S$1:S41),\"\")","v":{"$error":"#N/A"}}]
[null,{"$f":"'Sheet3 (2)'!I42","v":{"$error":"#N/A"}},{"$f":"'Sheet3 (2)'!K42","v":1.9270655270655235E-2},{"$f":"IF(ISNUMBER(C42),CORREL($B$1:B42,$C$1:C42),\"\")","v":{"$error":"#N/A"}},{"$f":"'Sheet3 (2)'!M42","v":2.3636457514615698E-3},{"$f":"IF(ISNUMBER(E42),CORREL($B$1:B42,$E$1:E42),\"\")","v":{"$error":"#N/A"}},{"$f":"'Sheet3 (2)'!O42","v":3.726236616025128E-3},{"$f":"IF(ISNUMBER(G42),CORREL($B$1:B42,$G$1:G42),\"\")","v":{"$error":"#N/A"}},{"$f":"'Sheet3 (2)'!Q42","v":9.2012884142098419E-3},{"$f":"IF(ISNUMBER(I42),CORREL($B$1:B42,$I$1:I42),\"\")","v":{"$error":"#N/A"}},{"$f":"'Sheet3 (2)'!S42","v":8.460167203026293E-3},{"$f":"IF(ISNUMBER(K42),CORREL($B$1:B42,$K$1:K42),\"\")","v":{"$error":"#N/A"}},{"$f":"'Sheet3 (2)'!U42","v":4.6872417294387438E-3},{"$f":"IF(ISNUMBER(M42),CORREL($B$1:B42,$M$1:M42),\"\")","v":{"$error":"#N/A"}},{"$f":"'Sheet3 (2)'!W42","v":-1.1028253334733668E-2},{"$f":"IF(ISNUMBER(O42),CORREL($B$1:B42,$O$1:O42),\"\")","v":{"$error":"#N/A"}},{"$f":"'Sheet3 (2)'!Y42","v":-4.6711377809154344E-3},{"$f":"IF(ISNUMBER(Q42),CORREL($B$1:B42,$Q$1:Q42),\"\")","v":{"$error":"#N/A"}},{"$f":"'Sheet3 (2)'!AA42","v":-1.4869669987363559E-3},{"$f":"IF(ISNUMBER(S42),CORREL($B$1:B42,$S$1:S42),\"\")","v":{"$error":"#N/A"}}]
[null,{"$f":"'Sheet3 (2)'!I43","v":{"$error":"#N/A"}},{"$f":"'Sheet3 (2)'!K43","v":2.0341880341880367E-2},{"$f":"IF(ISNUMBER(C43),CORREL($B$1:B43,$C$1:C43),\"\")","v":{"$error":"#N/A"}},{"$f":"'Sheet3 (2)'!M43","v":3.5454686271922894E-3},{"$f":"IF(ISNUMBER(E43),CORREL($B$1:B43,$E$1:E43),\"\")","v":{"$error":"#N/A"}},{"$f":"'Sheet3 (2)'!O43","v":4.2207680187691448E-3},{"$f":"IF(ISNUMBER(G43),CORREL($B$1:B43,$G$1:G43),\"\")","v":{"$error":"#N/A"}},{"$f":"'Sheet3 (2)'!Q43","v":9.3591250007307187E-3},{"$f":"IF(ISNUMBER(I43),CORREL($B$1:B43,$I$1:I43),\"\")","v":{"$error":"#N/A"}},{"$f":"'Sheet3 (2)'!S43","v":8.8543474551840314E-3},{"$f":"IF(ISNUMBER(K43),CORREL($B$1:B43,$K$1:K43),\"\")","v":{"$error":"#N/A"}},{"$f":"'Sheet3 (2)'!U43","v":5.4605775815249474E-3},{"$f":"IF(ISNUMBER(M43),CORREL($B$1:B43,$M$1:M43),\"\")","v":{"$error":"#N/A"}},{"$f":"'Sheet3 (2)'!W43","v":{"$error":"#N/A"}},{"$f":"IF(ISNUMBER(O43),CORREL($B$1:B43,$O$1:O43),\"\")","v":""},{"$f":"'Sheet3 (2)'!Y43","v":-5.1123661607248233E-3},{"$f":"IF(ISNUMBER(Q43),CORREL($B$1:B43,$Q$1:Q43),\"\")","v":{"$error":"#N/A"}},{"$f":"'Sheet3 (2)'!AA43","v":-2.3097945869699748E-3},{"$f":"IF(ISNUMBER(S43),CORREL($B$1:B43,$S$1:S43),\"\")","v":{"$error":"#N/A"}}]
[null,{"$f":"'Sheet3 (2)'!I44","v":{"$error":"#N/A"}},{"$f":"'Sheet3 (2)'!K44","v":2.0074074074074084E-2},{"$f":"IF(ISNUMBER(C44),CORREL($B$1:B44,$C$1:C44),\"\")","v":{"$error":"#N/A"}},{"$f":"'Sheet3 (2)'!M44","v":2.7594990447888912E-3},{"$f":"IF(ISNUMBER(E44),CORREL($B$1:B44,$E$1:E44),\"\")","v":{"$error":"#N/A"}},{"$f":"'Sheet3 (2)'!O44","v":2.8809329392416368E-3},{"$f":"IF(ISNUMBER(G44),CORREL($B$1:B44,$G$1:G44),\"\")","v":{"$error":"#N/A"}},{"$f":"'Sheet3 (2)'!Q44","v":8.4062596821053541E-3},{"$f":"IF(ISNUMBER(I44),CORREL($B$1:B44,$I$1:I44),\"\")","v":{"$error":"#N/A"}},{"$f":"'Sheet3 (2)'!S44","v":8.330734881422391E-3},{"$f":"IF(ISNUMBER(K44),CORREL($B$1:B44,$K$1:K44),\"\")","v":{"$error":"#N/A"}},{"$f":"'Sheet3 (2)'!U44","v":4.8053082717418785E-3},{"$f":"IF(ISNUMBER(M44),CORREL($B$1:B44,$M$1:M44),\"\")","v":{"$error":"#N/A"}},{"$f":"'Sheet3 (2)'!W44","v":{"$error":"#N/A"}},{"$f":"IF(ISNUMBER(O44),CORREL($B$1:B44,$O$1:O44),\"\")","v":""},{"$f":"'Sheet3 (2)'!Y44","v":-5.5359454053417198E-3},{"$f":"IF(ISNUMBER(Q44),CORREL($B$1:B44,$Q$1:Q44),\"\")","v":{"$error":"#N/A"}},{"$f":"'Sheet3 (2)'!AA44","v":-1.1284492638632183E-3},{"$f":"IF(ISNUMBER(S44),CORREL($B$1:B44,$S$1:S44),\"\")","v":{"$error":"#N/A"}}]
[null,{"$f":"'Sheet3 (2)'!I45","v":{"$error":"#N/A"}},{"$f":"'Sheet3 (2)'!K45","v":2.0045584045584083E-2},{"$f":"IF(ISNUMBER(C45),CORREL($B$1:B45,$C$1:C45),\"\")","v":{"$error":"#N/A"}},{"$f":"'Sheet3 (2)'!M45","v":3.0578232658471289E-3},{"$f":"IF(ISNUMBER(E45),CORREL($B$1:B45,$E$1:E45),\"\")","v":{"$error":"#N/A"}},{"$f":"'Sheet3 (2)'!O45","v":3.432967993467601E-3},{"$f":"IF(ISNUMBER(G45),CORREL($B$1:B45,$G$1:G45),\"\")","v":{"$error":"#N/A"}},{"$f":"'Sheet3 (2)'!Q45","v":8.581633667128389E-3},{"$f":"IF(ISNUMBER(I45),CORREL($B$1:B45,$I$1:I45),\"\")","v":{"$error":"#N/A"}},{"$f":"'Sheet3 (2)'!S45","v":7.5541409517981785E-3},{"$f":"IF(ISNUMBER(K45),CORREL($B$1:B45,$K$1:K45),\"\")","v":{"$error":"#N/A"}},{"$f":"'Sheet3 (2)'!U45","v":5.8265838626649332E-3},{"$f":"IF(ISNUMBER(M45),CORREL($B$1:B45,$M$1:M45),\"\")","v":{"$error":"#N/A"}},{"$f":"'Sheet3 (2)'!W45","v":{"$error":"#N/A"}},{"$f":"IF(ISNUMBER(O45),CORREL($B$1:B45,$O$1:O45),\"\")","v":""},{"$f":"'Sheet3 (2)'!Y45","v":-5.8124485233556197E-3},{"$f":"IF(ISNUMBER(Q45),CORREL($B$1:B45,$Q$1:Q45),\"\")","v":{"$error":"#N/A"}},{"$f":"'Sheet3 (2)'!AA45","v":-8.9335566722500319E-4},{"$f":"IF(ISNUMBER(S45),CORREL($B$1:B45,$S$1:S45),\"\")","v":{"$error":"#N/A"}}]
[null,{"$f":"'Sheet3 (2)'!I46","v":{"$error":"#N/A"}},{"$f":"'Sheet3 (2)'!K46","v":2.0672364672364656E-2},{"$f":"IF(ISNUMBER(C46),CORREL($B$1:B46,$C$1:C46),\"\")","v":{"$error":"#N/A"}},{"$f":"'Sheet3 (2)'!M46","v":4.1249060565554194E-3},{"$f":"IF(ISNUMBER(E46),CORREL($B$1:B46,$E$1:E46),\"\")","v":{"$error":"#N/A"}},{"$f":"'Sheet3 (2)'!O46","v":2.0931329139400926E-3},{"$f":"IF(ISNUMBER(G46),CORREL($B$1:B46,$G$1:G46),\"\")","v":{"$error":"#N/A"}},{"$f":"'Sheet3 (2)'!Q46","v":9.2948212062221886E-3},{"$f":"IF(ISNUMBER(I46),CORREL($B$1:B46,$I$1:I46),\"\")","v":{"$error":"#N/A"}},{"$f":"'Sheet3 (2)'!S46","v":8.2660187206203065E-3},{"$f":"IF(ISNUMBER(K46),CORREL($B$1:B46,$K$1:K46),\"\")","v":{"$error":"#N/A"}},{"$f":"'Sheet3 (2)'!U46","v":5.83248718978009E-3},{"$f":"IF(ISNUMBER(M46),CORREL($B$1:B46,$M$1:M46),\"\")","v":{"$error":"#N/A"}},{"$f":"'Sheet3 (2)'!W46","v":{"$error":"#N/A"}},{"$f":"IF(ISNUMBER(O46),CORREL($B$1:B46,$O$1:O46),\"\")","v":""},{"$f":"'Sheet3 (2)'!Y46","v":-5.6771384868807293E-3},{"$f":"IF(ISNUMBER(Q46),CORREL($B$1:B46,$Q$1:Q46),\"\")","v":{"$error":"#N/A"}},{"$f":"'Sheet3 (2)'!AA46","v":5.2896059243578335E-4},{"$f":"IF(ISNUMBER(S46),CORREL($B$1:B46,$S$1:S46),\"\")","v":{"$error":"#N/A"}}]
[null,{"$f":"'Sheet3 (2)'!I47","v":{"$error":"#N/A"}},{"$f":"'Sheet3 (2)'!K47","v":2.0683760683760658E-2},{"$f":"IF(ISNUMBER(C47),CORREL($B$1:B47,$C$1:C47),\"\")","v":{"$error":"#N/A"}},{"$f":"'Sheet3 (2)'!M47","v":5.4099950088063384E-3},{"$f":"IF(ISNUMBER(E47),CORREL($B$1:B47,$E$1:E47),\"\")","v":{"$error":"#N/A"}},{"$f":"'Sheet3 (2)'!O47","v":2.3921519016458018E-3},{"$f":"IF(ISNUMBER(G47),CORREL($B$1:B47,$G$1:G47),\"\")","v":{"$error":"#N/A"}},{"$f":"'Sheet3 (2)'!Q47","v":9.9378591513068285E-3},{"$f":"IF(ISNUMBER(I47),CORREL($B$1:B47,$I$1:I47),\"\")","v":{"$error":"#N/A"}},{"$f":"'Sheet3 (2)'!S47","v":8.1071699622881112E-3},{"$f":"IF(ISNUMBER(K47),CORREL($B$1:B47,$K$1:K47),\"\")","v":{"$error":"#N/A"}},{"$f":"'Sheet3 (2)'!U47","v":5.4251576188340065E-3},{"$f":"IF(ISNUMBER(M47),CORREL($B$1:B47,$M$1:M47),\"\")","v":{"$error":"#N/A"}},{"$f":"'Sheet3 (2)'!W47","v":{"$error":"#N/A"}},{"$f":"IF(ISNUMBER(O47),CORREL($B$1:B47,$O$1:O47),\"\")","v":""},{"$f":"'Sheet3 (2)'!Y47","v":-6.0477703259206803E-3},{"$f":"IF(ISNUMBER(Q47),CORREL($B$1:B47,$Q$1:Q47),\"\")","v":{"$error":"#N/A"}},{"$f":"'Sheet3 (2)'!AA47","v":6.406300508389421E-4},{"$f":"IF(ISNUMBER(S47),CORREL($B$1:B47,$S$1:S47),\"\")","v":{"$error":"#N/A"}}]
[null,{"$f":"'Sheet3 (2)'!I48","v":{"$error":"#N/A"}},{"$f":"'Sheet3 (2)'!K48","v":2.1692307692307657E-2},{"$f":"IF(ISNUMBER(C48),CORREL($B$1:B48,$C$1:C48),\"\")","v":{"$error":"#N/A"}},{"$f":"'Sheet3 (2)'!M48","v":4.996930702725672E-3},{"$f":"IF(ISNUMBER(E48),CORREL($B$1:B48,$E$1:E48),\"\")","v":{"$error":"#N/A"}},{"$f":"'Sheet3 (2)'!O48","v":2.1448862002737277E-3},{"$f":"IF(ISNUMBER(G48),CORREL($B$1:B48,$G$1:G48),\"\")","v":{"$error":"#N/A"}},{"$f":"'Sheet3 (2)'!Q48","v":1.0072312539824387E-2},{"$f":"IF(ISNUMBER(I48),CORREL($B$1:B48,$I$1:I48),\"\")","v":{"$error":"#N/A"}},{"$f":"'Sheet3 (2)'!S48","v":7.9600877786471808E-3},{"$f":"IF(ISNUMBER(K48),CORREL($B$1:B48,$K$1:K48),\"\")","v":{"$error":"#N/A"}},{"$f":"'Sheet3 (2)'!U48","v":5.3011877494155814E-3},{"$f":"IF(ISNUMBER(M48),CORREL($B$1:B48,$M$1:M48),\"\")","v":{"$error":"#N/A"}},{"$f":"'Sheet3 (2)'!W48","v":{"$error":"#N/A"}},{"$f":"IF(ISNUMBER(O48),CORREL($B$1:B48,$O$1:O48),\"\")","v":""},{"$f":"'Sheet3 (2)'!Y48","v":-6.3301564889987009E-3},{"$f":"IF(ISNUMBER(Q48),CORREL($B$1:B48,$Q$1:Q48),\"\")","v":{"$error":"#N/A"}},{"$f":"'Sheet3 (2)'!AA48","v":9.4037438655259278E-4},{"$f":"IF(ISNUMBER(S48),CORREL($B$1:B48,$S$1:S48),\"\")","v":{"$error":"#N/A"}}]
[null,{"$f":"'Sheet3 (2)'!I49","v":{"$error":"#N/A"}},{"$f":"'Sheet3 (2)'!K49","v":2.206837606837608E-2},{"$f":"IF(ISNUMBER(C49),CORREL($B$1:B49,$C$1:C49),\"\")","v":{"$error":"#N/A"}},{"$f":"'Sheet3 (2)'!M49","v":4.8076095624387484E-3},{"$f":"IF(ISNUMBER(E49),CORREL($B$1:B49,$E$1:E49),\"\")","v":{"$error":"#N/A"}},{"$f":"'Sheet3 (2)'!O49","v":9.4305988430271081E-4},{"$f":"IF(ISNUMBER(G49),CORREL($B$1:B49,$G$1:G49),\"\")","v":{"$error":"#N/A"}},{"$f":"'Sheet3 (2)'!Q49","v":1.053997649988599E-2},{"$f":"IF(ISNUMBER(I49),CORREL($B$1:B49,$I$1:I49),\"\")","v":{"$error":"#N/A"}},{"$f":"'Sheet3 (2)'!S49","v":7.3952921934659832E-3},{"$f":"IF(ISNUMBER(K49),CORREL($B$1:B49,$K$1:K49),\"\")","v":{"$error":"#N/A"}},{"$f":"'Sheet3 (2)'!U49","v":3.8017426621644278E-3},{"$f":"IF(ISNUMBER(M49),CORREL($B$1:B49,$M$1:M49),\"\")","v":{"$error":"#N/A"}},{"$f":"'Sheet3 (2)'!W49","v":{"$error":"#N/A"}},{"$f":"IF(ISNUMBER(O49),CORREL($B$1:B49,$O$1:O49),\"\")","v":""},{"$f":"'Sheet3 (2)'!Y49","v":-5.0711848452758505E-3},{"$f":"IF(ISNUMBER(Q49),CORREL($B$1:B49,$Q$1:Q49),\"\")","v":{"$error":"#N/A"}},{"$f":"'Sheet3 (2)'!AA49","v":9.2861970672069541E-4},{"$f":"IF(ISNUMBER(S49),CORREL($B$1:B49,$S$1:S49),\"\")","v":{"$error":"#N/A"}}]
[null,{"$f":"'Sheet3 (2)'!I50","v":{"$error":"#N/A"}},{"$f":"'Sheet3 (2)'!K50","v":2.4176638176638211E-2},{"$f":"IF(ISNUMBER(C50),CORREL($B$1:B50,$C$1:C50),\"\")","v":{"$error":"#N/A"}},{"$f":"'Sheet3 (2)'!M50","v":4.8018725581876337E-3},{"$f":"IF(ISNUMBER(E50),CORREL($B$1:B50,$E$1:E50),\"\")","v":{"$error":"#N/A"}},{"$f":"'Sheet3 (2)'!O50","v":-1.3685869052684166E-3},{"$f":"IF(ISNUMBER(G50),CORREL($B$1:B50,$G$1:G50),\"\")","v":{"$error":"#N/A"}},{"$f":"'Sheet3 (2)'!Q50","v":1.0972565662942881E-2},{"$f":"IF(ISNUMBER(I50),CORREL($B$1:B50,$I$1:I50),\"\")","v":{"$error":"#N/A"}},{"$f":"'Sheet3 (2)'!S50","v":7.807122307660618E-3},{"$f":"IF(ISNUMBER(K50),CORREL($B$1:B50,$K$1:K50),\"\")","v":{"$error":"#N/A"}},{"$f":"'Sheet3 (2)'!U50","v":3.1346666981510456E-3},{"$f":"IF(ISNUMBER(M50),CORREL($B$1:B50,$M$1:M50),\"\")","v":{"$error":"#N/A"}},{"$f":"'Sheet3 (2)'!W50","v":{"$error":"#N/A"}},{"$f":"IF(ISNUMBER(O50),CORREL($B$1:B50,$O$1:O50),\"\")","v":""},{"$f":"'Sheet3 (2)'!Y50","v":-4.8299799976468036E-3},{"$f":"IF(ISNUMBER(Q50),CORREL($B$1:B50,$Q$1:Q50),\"\")","v":{"$error":"#N/A"}},{"$f":"'Sheet3 (2)'!AA50","v":6.93526110082614E-4},{"$f":"IF(ISNUMBER(S50),CORREL($B$1:B50,$S$1:S50),\"\")","v":{"$error":"#N/A"}}]
[null,{"$f":"'Sheet3 (2)'!I51","v":{"$error":"#N/A"}},{"$f":"'Sheet3 (2)'!K51","v":2.2962962962962939E-2},{"$f":"IF(ISNUMBER(C51),CORREL($B$1:B51,$C$1:C51),\"\")","v":{"$error":"#N/A"}},{"$f":"'Sheet3 (2)'!M51","v":4.6068144136494652E-3},{"$f":"IF(ISNUMBER(E51),CORREL($B$1:B51,$E$1:E51),\"\")","v":{"$error":"#N/A"}},{"$f":"'Sheet3 (2)'!O51","v":-8.7980586767258157E-4},{"$f":"IF(ISNUMBER(G51),CORREL($B$1:B51,$G$1:G51),\"\")","v":{"$error":"#N/A"}},{"$f":"'Sheet3 (2)'!Q51","v":1.11187106504621E-2},{"$f":"IF(ISNUMBER(I51),CORREL($B$1:B51,$I$1:I51),\"\")","v":{"$error":"#N/A"}},{"$f":"'Sheet3 (2)'!S51","v":7.3364593200096646E-3},{"$f":"IF(ISNUMBER(K51),CORREL($B$1:B51,$K$1:K51),\"\")","v":{"$error":"#N/A"}},{"$f":"'Sheet3 (2)'!U51","v":4.5219485702140865E-3},{"$f":"IF(ISNUMBER(M51),CORREL($B$1:B51,$M$1:M51),\"\")","v":{"$error":"#N/A"}},{"$f":"'Sheet3 (2)'!W51","v":{"$error":"#N/A"}},{"$f":"IF(ISNUMBER(O51),CORREL($B$1:B51,$O$1:O51),\"\")","v":""},{"$f":"'Sheet3 (2)'!Y51","v":-3.9592893281562647E-3},{"$f":"IF(ISNUMBER(Q51),CORREL($B$1:B51,$Q$1:Q51),\"\")","v":{"$error":"#N/A"}},{"$f":"'Sheet3 (2)'!AA51","v":2.9680566575567631E-3},{"$f":"IF(ISNUMBER(S51),CORREL($B$1:B51,$S$1:S51),\"\")","v":{"$error":"#N/A"}}]
[null,{"$f":"'Sheet3 (2)'!I52","v":{"$error":"#N/A"}},{"$f":"'Sheet3 (2)'!K52","v":2.3230769230769222E-2},{"$f":"IF(ISNUMBER(C52),CORREL($B$1:B52,$C$1:C52),\"\")","v":{"$error":"#N/A"}},{"$f":"'Sheet3 (2)'!M52","v":3.9183739035151518E-3},{"$f":"IF(ISNUMBER(E52),CORREL($B$1:B52,$E$1:E52),\"\")","v":{"$error":"#N/A"}},{"$f":"'Sheet3 (2)'!O52","v":-3.1857022920955273E-3},{"$f":"IF(ISNUMBER(G52),CORREL($B$1:B52,$G$1:G52),\"\")","v":{"$error":"#N/A"}},{"$f":"'Sheet3 (2)'!Q52","v":1.1001794660446698E-2},{"$f":"IF(ISNUMBER(I52),CORREL($B$1:B52,$I$1:I52),\"\")","v":{"$error":"#N/A"}},{"$f":"'Sheet3 (2)'!S52","v":7.4011754808116156E-3},{"$f":"IF(ISNUMBER(K52),CORREL($B$1:B52,$K$1:K52),\"\")","v":{"$error":"#N/A"}},{"$f":"'Sheet3 (2)'!U52","v":4.551465205790005E-3},{"$f":"IF(ISNUMBER(M52),CORREL($B$1:B52,$M$1:M52),\"\")","v":{"$error":"#N/A"}},{"$f":"'Sheet3 (2)'!W52","v":{"$error":"#N/A"}},{"$f":"IF(ISNUMBER(O52),CORREL($B$1:B52,$O$1:O52),\"\")","v":""},{"$f":"'Sheet3 (2)'!Y52","v":-1.8708083303918483E-3},{"$f":"IF(ISNUMBER(Q52),CORREL($B$1:B52,$Q$1:Q52),\"\")","v":{"$error":"#N/A"}},{"$f":"'Sheet3 (2)'!AA52","v":2.5977842428515944E-3},{"$f":"IF(ISNUMBER(S52),CORREL($B$1:B52,$S$1:S52),\"\")","v":{"$error":"#N/A"}}]
[null,{"$f":"'Sheet3 (2)'!I53","v":{"$error":"#N/A"}},{"$f":"'Sheet3 (2)'!K53","v":2.2450142450142502E-2},{"$f":"IF(ISNUMBER(C53),CORREL($B$1:B53,$C$1:C53),\"\")","v":{"$error":"#N/A"}},{"$f":"'Sheet3 (2)'!M53","v":3.7175787547258678E-3},{"$f":"IF(ISNUMBER(E53),CORREL($B$1:B53,$E$1:E53),\"\")","v":{"$error":"#N/A"}},{"$f":"'Sheet3 (2)'!O53","v":-2.1276351048291828E-3},{"$f":"IF(ISNUMBER(G53),CORREL($B$1:B53,$G$1:G53),\"\")","v":{"$error":"#N/A"}},{"$f":"'Sheet3 (2)'!Q53","v":1.0867341271929006E-2},{"$f":"IF(ISNUMBER(I53),CORREL($B$1:B53,$I$1:I53),\"\")","v":{"$error":"#N/A"}},{"$f":"'Sheet3 (2)'!S53","v":6.9481623551975579E-3},{"$f":"IF(ISNUMBER(K53),CORREL($B$1:B53,$K$1:K53),\"\")","v":{"$error":"#N/A"}},{"$f":"'Sheet3 (2)'!U53","v":3.9906491298495779E-3},{"$f":"IF(ISNUMBER(M53),CORREL($B$1:B53,$M$1:M53),\"\")","v":{"$error":"#N/A"}},{"$f":"'Sheet3 (2)'!W53","v":{"$error":"#N/A"}},{"$f":"IF(ISNUMBER(O53),CORREL($B$1:B53,$O$1:O53),\"\")","v":""},{"$f":"'Sheet3 (2)'!Y53","v":-6.5890104718195727E-4},{"$f":"IF(ISNUMBER(Q53),CORREL($B$1:B53,$Q$1:Q53),\"\")","v":{"$error":"#N/A"}},{"$f":"'Sheet3 (2)'!AA53","v":1.8925034529372166E-3},{"$f":"IF(ISNUMBER(S53),CORREL($B$1:B53,$S$1:S53),\"\")","v":{"$error":"#N/A"}}]
[null,{"$f":"'Sheet3 (2)'!I54","v":{"$error":"#N/A"}},{"$f":"'Sheet3 (2)'!K54","v":1.9304843304843368E-2},{"$f":"IF(ISNUMBER(C54),CORREL($B$1:B54,$C$1:C54),\"\")","v":{"$error":"#N/A"}},{"$f":"'Sheet3 (2)'!M54","v":3.3561474869053661E-3},{"$f":"IF(ISNUMBER(E54),CORREL($B$1:B54,$E$1:E54),\"\")","v":{"$error":"#N/A"}},{"$f":"'Sheet3 (2)'!O54","v":-8.1080148589440142E-4},{"$f":"IF(ISNUMBER(G54),CORREL($B$1:B54,$G$1:G54),\"\")","v":{"$error":"#N/A"}},{"$f":"'Sheet3 (2)'!Q54","v":1.1358388429993531E-2},{"$f":"IF(ISNUMBER(I54),CORREL($B$1:B54,$I$1:I54),\"\")","v":{"$error":"#N/A"}},{"$f":"'Sheet3 (2)'!S54","v":6.3010007471775145E-3},{"$f":"IF(ISNUMBER(K54),CORREL($B$1:B54,$K$1:K54),\"\")","v":{"$error":"#N/A"}},{"$f":"'Sheet3 (2)'!U54","v":4.1559422890741007E-3},{"$f":"IF(ISNUMBER(M54),CORREL($B$1:B54,$M$1:M54),\"\")","v":{"$error":"#N/A"}},{"$f":"'Sheet3 (2)'!W54","v":{"$error":"#N/A"}},{"$f":"IF(ISNUMBER(O54),CORREL($B$1:B54,$O$1:O54),\"\")","v":""},{"$f":"'Sheet3 (2)'!Y54","v":-9.0598893987525807E-4},{"$f":"IF(ISNUMBER(Q54),CORREL($B$1:B54,$Q$1:Q54),\"\")","v":{"$error":"#N/A"}},{"$f":"'Sheet3 (2)'!AA54","v":2.4038320256251538E-3},{"$f":"IF(ISNUMBER(S54),CORREL($B$1:B54,$S$1:S54),\"\")","v":{"$error":"#N/A"}}]
[null,{"$f":"'Sheet3 (2)'!I55","v":{"$error":"#N/A"}},{"$f":"'Sheet3 (2)'!K55","v":2.046723646723651E-2},{"$f":"IF(ISNUMBER(C55),CORREL($B$1:B55,$C$1:C55),\"\")","v":{"$error":"#N/A"}},{"$f":"'Sheet3 (2)'!M55","v":3.574153648447864E-3},{"$f":"IF(ISNUMBER(E55),CORREL($B$1:B55,$E$1:E55),\"\")","v":{"$error":"#N/A"}},{"$f":"'Sheet3 (2)'!O55","v":2.9901898770570885E-4},{"$f":"IF(ISNUMBER(G55),CORREL($B$1:B55,$G$1:G55),\"\")","v":{"$error":"#N/A"}},{"$f":"'Sheet3 (2)'!Q55","v":1.0925799266936641E-2},{"$f":"IF(ISNUMBER(I55),CORREL($B$1:B55,$I$1:I55),\"\")","v":{"$error":"#N/A"}},{"$f":"'Sheet3 (2)'!S55","v":5.3655580592211058E-3},{"$f":"IF(ISNUMBER(K55),CORREL($B$1:B55,$K$1:K55),\"\")","v":{"$error":"#N/A"}},{"$f":"'Sheet3 (2)'!U55","v":2.6328838933623202E-3},{"$f":"IF(ISNUMBER(M55),CORREL($B$1:B55,$M$1:M55),\"\")","v":{"$error":"#N/A"}},{"$f":"'Sheet3 (2)'!W55","v":{"$error":"#N/A"}},{"$f":"IF(ISNUMBER(O55),CORREL($B$1:B55,$O$1:O55),\"\")","v":""},{"$f":"'Sheet3 (2)'!Y55","v":3.4709965878347191E-4},{"$f":"IF(ISNUMBER(Q55),CORREL($B$1:B55,$Q$1:Q55),\"\")","v":{"$error":"#N/A"}},{"$f":"'Sheet3 (2)'!AA55","v":2.6036615827676767E-3},{"$f":"IF(ISNUMBER(S55),CORREL($B$1:B55,$S$1:S55),\"\")","v":{"$error":"#N/A"}}]
[null,{"$f":"'Sheet3 (2)'!I56","v":{"$error":"#N/A"}},{"$f":"'Sheet3 (2)'!K56","v":1.7982905982905951E-2},{"$f":"IF(ISNUMBER(C56),CORREL($B$1:B56,$C$1:C56),\"\")","v":{"$error":"#N/A"}},{"$f":"'Sheet3 (2)'!M56","v":3.1381413253627377E-3},{"$f":"IF(ISNUMBER(E56),CORREL($B$1:B56,$E$1:E56),\"\")","v":{"$error":"#N/A"}},{"$f":"'Sheet3 (2)'!O56","v":-1.3800876355649108E-4},{"$f":"IF(ISNUMBER(G56),CORREL($B$1:B56,$G$1:G56),\"\")","v":{"$error":"#N/A"}},{"$f":"'Sheet3 (2)'!Q56","v":1.0990103061445171E-2},{"$f":"IF(ISNUMBER(I56),CORREL($B$1:B56,$I$1:I56),\"\")","v":{"$error":"#N/A"}},{"$f":"'Sheet3 (2)'!S56","v":5.8832873456372481E-3},{"$f":"IF(ISNUMBER(K56),CORREL($B$1:B56,$K$1:K56),\"\")","v":{"$error":"#N/A"}},{"$f":"'Sheet3 (2)'!U56","v":1.4994450872511532E-3},{"$f":"IF(ISNUMBER(M56),CORREL($B$1:B56,$M$1:M56),\"\")","v":{"$error":"#N/A"}},{"$f":"'Sheet3 (2)'!W56","v":{"$error":"#N/A"}},{"$f":"IF(ISNUMBER(O56),CORREL($B$1:B56,$O$1:O56),\"\")","v":""},{"$f":"'Sheet3 (2)'!Y56","v":1.7649135192375574E-3},{"$f":"IF(ISNUMBER(Q56),CORREL($B$1:B56,$Q$1:Q56),\"\")","v":{"$error":"#N/A"}},{"$f":"'Sheet3 (2)'!AA56","v":2.5331335037761587E-3},{"$f":"IF(ISNUMBER(S56),CORREL($B$1:B56,$S$1:S56),\"\")","v":{"$error":"#N/A"}}]
[null,{"$f":"'Sheet3 (2)'!I57","v":{"$error":"#N/A"}},{"$f":"'Sheet3 (2)'!K57","v":1.9817663817663801E-2},{"$f":"IF(ISNUMBER(C57),CORREL($B$1:B57,$C$1:C57),\"\")","v":{"$error":"#N/A"}},{"$f":"'Sheet3 (2)'!M57","v":1.732575283838275E-3},{"$f":"IF(ISNUMBER(E57),CORREL($B$1:B57,$E$1:E57),\"\")","v":{"$error":"#N/A"}},{"$f":"'Sheet3 (2)'!O57","v":7.6479856470881716E-4},{"$f":"IF(ISNUMBER(G57),CORREL($B$1:B57,$G$1:G57),\"\")","v":{"$error":"#N/A"}},{"$f":"'Sheet3 (2)'!Q57","v":1.1539608214517331E-2},{"$f":"IF(ISNUMBER(I57),CORREL($B$1:B57,$I$1:I57),\"\")","v":{"$error":"#N/A"}},{"$f":"'Sheet3 (2)'!S57","v":5.8185711848351635E-3},{"$f":"IF(ISNUMBER(K57),CORREL($B$1:B57,$K$1:K57),\"\")","v":{"$error":"#N/A"}},{"$f":"'Sheet3 (2)'!U57","v":6.0804269286168073E-4},{"$f":"IF(ISNUMBER(M57),CORREL($B$1:B57,$M$1:M57),\"\")","v":{"$error":"#N/A"}},{"$f":"'Sheet3 (2)'!W57","v":{"$error":"#N/A"}},{"$f":"IF(ISNUMBER(O57),CORREL($B$1:B57,$O$1:O57),\"\")","v":""},{"$f":"'Sheet3 (2)'!Y57","v":3.0533003882810064E-3},{"$f":"IF(ISNUMBER(Q57),CORREL($B$1:B57,$Q$1:Q57),\"\")","v":{"$error":"#N/A"}},{"$f":"'Sheet3 (2)'!AA57","v":2.5213788239442612E-3},{"$f":"IF(ISNUMBER(S57),CORREL($B$1:B57,$S$1:S57),\"\")","v":{"$error":"#N/A"}}]
[null,{"$f":"'Sheet3 (2)'!I58","v":{"$error":"#N/A"}},{"$f":"'Sheet3 (2)'!K58","v":2.1059829059829081E-2},{"$f":"IF(ISNUMBER(C58),CORREL($B$1:B58,$C$1:C58),\"\")","v":{"$error":"#N/A"}},{"$f":"'Sheet3 (2)'!M58","v":2.3005387046991749E-3},{"$f":"IF(ISNUMBER(E58),CORREL($B$1:B58,$E$1:E58),\"\")","v":{"$error":"#N/A"}},{"$f":"'Sheet3 (2)'!O58","v":2.1276351048298367E-4},{"$f":"IF(ISNUMBER(G58),CORREL($B$1:B58,$G$1:G58),\"\")","v":{"$error":"#N/A"}},{"$f":"'Sheet3 (2)'!Q58","v":1.1428538024002826E-2},{"$f":"IF(ISNUMBER(I58),CORREL($B$1:B58,$I$1:I58),\"\")","v":{"$error":"#N/A"}},{"$f":"'Sheet3 (2)'!S58","v":6.2539344484123256E-3},{"$f":"IF(ISNUMBER(K58),CORREL($B$1:B58,$K$1:K58),\"\")","v":{"$error":"#N/A"}},{"$f":"'Sheet3 (2)'!U58","v":2.1842310326100059E-3},{"$f":"IF(ISNUMBER(M58),CORREL($B$1:B58,$M$1:M58),\"\")","v":{"$error":"#N/A"}},{"$f":"'Sheet3 (2)'!W58","v":{"$error":"#N/A"}},{"$f":"IF(ISNUMBER(O58),CORREL($B$1:B58,$O$1:O58),\"\")","v":""},{"$f":"'Sheet3 (2)'!Y58","v":4.1828450405930863E-3},{"$f":"IF(ISNUMBER(Q58),CORREL($B$1:B58,$Q$1:Q58),\"\")","v":{"$error":"#N/A"}},{"$f":"'Sheet3 (2)'!AA58","v":2.8093684798260144E-3},{"$f":"IF(ISNUMBER(S58),CORREL($B$1:B58,$S$1:S58),\"\")","v":{"$error":"#N/A"}}]
[null,{"$f":"'Sheet3 (2)'!I59","v":{"$error":"#N/A"}},{"$f":"'Sheet3 (2)'!K59","v":2.210256410256408E-2},{"$f":"IF(ISNUMBER(C59),CORREL($B$1:B59,$C$1:C59),\"\")","v":{"$error":"#N/A"}},{"$f":"'Sheet3 (2)'!M59","v":2.9660311978291594E-3},{"$f":"IF(ISNUMBER(E59),CORREL($B$1:B59,$E$1:E59),\"\")","v":{"$error":"#N/A"}},{"$f":"'Sheet3 (2)'!O59","v":1.3225839840830939E-4},{"$f":"IF(ISNUMBER(G59),CORREL($B$1:B59,$G$1:G59),\"\")","v":{"$error":"#N/A"}},{"$f":"'Sheet3 (2)'!Q59","v":1.1814360791053476E-2},{"$f":"IF(ISNUMBER(I59),CORREL($B$1:B59,$I$1:I59),\"\")","v":{"$error":"#N/A"}},{"$f":"'Sheet3 (2)'!S59","v":6.3127673218687777E-3},{"$f":"IF(ISNUMBER(K59),CORREL($B$1:B59,$K$1:K59),\"\")","v":{"$error":"#N/A"}},{"$f":"'Sheet3 (2)'!U59","v":2.0130345462701922E-3},{"$f":"IF(ISNUMBER(M59),CORREL($B$1:B59,$M$1:M59),\"\")","v":{"$error":"#N/A"}},{"$f":"'Sheet3 (2)'!W59","v":{"$error":"#N/A"}},{"$f":"IF(ISNUMBER(O59),CORREL($B$1:B59,$O$1:O59),\"\")","v":""},{"$f":"'Sheet3 (2)'!Y59","v":4.7476173667489923E-3},{"$f":"IF(ISNUMBER(Q59),CORREL($B$1:B59,$Q$1:Q59),\"\")","v":{"$error":"#N/A"}},{"$f":"'Sheet3 (2)'!AA59","v":3.0091980369684039E-3},{"$f":"IF(ISNUMBER(S59),CORREL($B$1:B59,$S$1:S59),\"\")","v":{"$error":"#N/A"}}]
[null,{"$f":"'Sheet3 (2)'!I60","v":{"$error":"#N/A"}},{"$f":"'Sheet3 (2)'!K60","v":2.2666666666666651E-2},{"$f":"IF(ISNUMBER(C60),CORREL($B$1:B60,$C$1:C60),\"\")","v":{"$error":"#N/A"}},{"$f":"'Sheet3 (2)'!M60","v":3.6888937334702931E-3},{"$f":"IF(ISNUMBER(E60),CORREL($B$1:B60,$E$1:E60),\"\")","v":{"$error":"#N/A"}},{"$f":"'Sheet3 (2)'!O60","v":1.2018263159710172E-3},{"$f":"IF(ISNUMBER(G60),CORREL($B$1:B60,$G$1:G60),\"\")","v":{"$error":"#N/A"}},{"$f":"'Sheet3 (2)'!Q60","v":1.1574683011522044E-2},{"$f":"IF(ISNUMBER(I60),CORREL($B$1:B60,$I$1:I60),\"\")","v":{"$error":"#N/A"}},{"$f":"'Sheet3 (2)'!S60","v":6.6128149764962726E-3},{"$f":"IF(ISNUMBER(K60),CORREL($B$1:B60,$K$1:K60),\"\")","v":{"$error":"#N/A"}},{"$f":"'Sheet3 (2)'!U60","v":3.4357363810243076E-3},{"$f":"IF(ISNUMBER(M60),CORREL($B$1:B60,$M$1:M60),\"\")","v":{"$error":"#N/A"}},{"$f":"'Sheet3 (2)'!W60","v":{"$error":"#N/A"}},{"$f":"IF(ISNUMBER(O60),CORREL($B$1:B60,$O$1:O60),\"\")","v":""},{"$f":"'Sheet3 (2)'!Y60","v":5.2064948817508745E-3},{"$f":"IF(ISNUMBER(Q60),CORREL($B$1:B60,$Q$1:Q60),\"\")","v":{"$error":"#N/A"}},{"$f":"'Sheet3 (2)'!AA60","v":3.755620206294556E-3},{"$f":"IF(ISNUMBER(S60),CORREL($B$1:B60,$S$1:S60),\"\")","v":{"$error":"#N/A"}}]
[null,{"$f":"'Sheet3 (2)'!I61","v":{"$error":"#N/A"}},{"$f":"'Sheet3 (2)'!K61","v":2.2165242165242217E-2},{"$f":"IF(ISNUMBER(C61),CORREL($B$1:B61,$C$1:C61),\"\")","v":{"$error":"#N/A"}},{"$f":"'Sheet3 (2)'!M61","v":3.7978968142416071E-3},{"$f":"IF(ISNUMBER(E61),CORREL($B$1:B61,$E$1:E61),\"\")","v":{"$error":"#N/A"}},{"$f":"'Sheet3 (2)'!O61","v":1.3513358098238715E-3},{"$f":"IF(ISNUMBER(G61),CORREL($B$1:B61,$G$1:G61),\"\")","v":{"$error":"#N/A"}},{"$f":"'Sheet3 (2)'!Q61","v":1.1627295207028914E-2},{"$f":"IF(ISNUMBER(I61),CORREL($B$1:B61,$I$1:I61),\"\")","v":{"$error":"#N/A"}},{"$f":"'Sheet3 (2)'!S61","v":6.3774834826707287E-3},{"$f":"IF(ISNUMBER(K61),CORREL($B$1:B61,$K$1:K61),\"\")","v":{"$error":"#N/A"}},{"$f":"'Sheet3 (2)'!U61","v":3.9788424756192643E-3},{"$f":"IF(ISNUMBER(M61),CORREL($B$1:B61,$M$1:M61),\"\")","v":{"$error":"#N/A"}},{"$f":"'Sheet3 (2)'!W61","v":{"$error":"#N/A"}},{"$f":"IF(ISNUMBER(O61),CORREL($B$1:B61,$O$1:O61),\"\")","v":""},{"$f":"'Sheet3 (2)'!Y61","v":6.3301564889987009E-3},{"$f":"IF(ISNUMBER(Q61),CORREL($B$1:B61,$Q$1:Q61),\"\")","v":{"$error":"#N/A"}},{"$f":"'Sheet3 (2)'!AA61","v":4.2493167592347813E-3},{"$f":"IF(ISNUMBER(S61),CORREL($B$1:B61,$S$1:S61),\"\")","v":{"$error":"#N/A"}}]
[null,{"$f":"'Sheet3 (2)'!I62","v":{"$error":"#N/A"}},{"$f":"'Sheet3 (2)'!K62","v":2.2290598290598228E-2},{"$f":"IF(ISNUMBER(C62),CORREL($B$1:B62,$C$1:C62),\"\")","v":{"$error":"#N/A"}},{"$f":"'Sheet3 (2)'!M62","v":4.0273769842863348E-3},{"$f":"IF(ISNUMBER(E62),CORREL($B$1:B62,$E$1:E62),\"\")","v":{"$error":"#N/A"}},{"$f":"'Sheet3 (2)'!O62","v":1.7366102747524363E-3},{"$f":"IF(ISNUMBER(G62),CORREL($B$1:B62,$G$1:G62),\"\")","v":{"$error":"#N/A"}},{"$f":"'Sheet3 (2)'!Q62","v":1.2276178951614317E-2},{"$f":"IF(ISNUMBER(I62),CORREL($B$1:B62,$I$1:I62),\"\")","v":{"$error":"#N/A"}},{"$f":"'Sheet3 (2)'!S62","v":4.9066616462614164E-3},{"$f":"IF(ISNUMBER(K62),CORREL($B$1:B62,$K$1:K62),\"\")","v":{"$error":"#N/A"}},{"$f":"'Sheet3 (2)'!U62","v":2.8276936881626268E-3},{"$f":"IF(ISNUMBER(M62),CORREL($B$1:B62,$M$1:M62),\"\")","v":{"$error":"#N/A"}},{"$f":"'Sheet3 (2)'!W62","v":{"$error":"#N/A"}},{"$f":"IF(ISNUMBER(O62),CORREL($B$1:B62,$O$1:O62),\"\")","v":""},{"$f":"'Sheet3 (2)'!Y62","v":5.7477350276503017E-3},{"$f":"IF(ISNUMBER(Q62),CORREL($B$1:B62,$Q$1:Q62),\"\")","v":{"$error":"#N/A"}},{"$f":"'Sheet3 (2)'!AA62","v":3.9436950836051815E-3},{"$f":"IF(ISNUMBER(S62),CORREL($B$1:B62,$S$1:S62),\"\")","v":{"$error":"#N/A"}}]
[null,{"$f":"'Sheet3 (2)'!I63","v":{"$error":"#N/A"}},{"$f":"'Sheet3 (2)'!K63","v":2.2222222222222223E-2},{"$f":"IF(ISNUMBER(C63),CORREL($B$1:B63,$C$1:C63),\"\")","v":{"$error":"#N/A"}},{"$f":"'Sheet3 (2)'!M63","v":4.5207593498827409E-3},{"$f":"IF(ISNUMBER(E63),CORREL($B$1:B63,$E$1:E63),\"\")","v":{"$error":"#N/A"}},{"$f":"'Sheet3 (2)'!O63","v":1.4893445733803626E-3},{"$f":"IF(ISNUMBER(G63),CORREL($B$1:B63,$G$1:G63),\"\")","v":{"$error":"#N/A"}},{"$f":"'Sheet3 (2)'!Q63","v":1.2428169738634299E-2},{"$f":"IF(ISNUMBER(I63),CORREL($B$1:B63,$I$1:I63),\"\")","v":{"$error":"#N/A"}},{"$f":"'Sheet3 (2)'!S63","v":6.0950856900801303E-3},{"$f":"IF(ISNUMBER(K63),CORREL($B$1:B63,$K$1:K63),\"\")","v":{"$error":"#N/A"}},{"$f":"'Sheet3 (2)'!U63","v":3.2055066235330606E-3},{"$f":"IF(ISNUMBER(M63),CORREL($B$1:B63,$M$1:M63),\"\")","v":{"$error":"#N/A"}},{"$f":"'Sheet3 (2)'!W63","v":{"$error":"#N/A"}},{"$f":"IF(ISNUMBER(O63),CORREL($B$1:B63,$O$1:O63),\"\")","v":""},{"$f":"'Sheet3 (2)'!Y63","v":5.4124014589952028E-3},{"$f":"IF(ISNUMBER(Q63),CORREL($B$1:B63,$Q$1:Q63),\"\")","v":{"$error":"#N/A"}},{"$f":"'Sheet3 (2)'!AA63","v":4.025977842428463E-3},{"$f":"IF(ISNUMBER(S63),CORREL($B$1:B63,$S$1:S63),\"\")","v":{"$error":"#N/A"}}]
[null,{"$f":"'Sheet3 (2)'!I64","v":{"$error":"#N/A"}},{"$f":"'Sheet3 (2)'!K64","v":2.2165242165242217E-2},{"$f":"IF(ISNUMBER(C64),CORREL($B$1:B64,$C$1:C64),\"\")","v":{"$error":"#N/A"}},{"$f":"'Sheet3 (2)'!M64","v":4.6240254264029402E-3},{"$f":"IF(ISNUMBER(E64),CORREL($B$1:B64,$E$1:E64),\"\")","v":{"$error":"#N/A"}},{"$f":"'Sheet3 (2)'!O64","v":2.1448862002737277E-3},{"$f":"IF(ISNUMBER(G64),CORREL($B$1:B64,$G$1:G64),\"\")","v":{"$error":"#N/A"}},{"$f":"'Sheet3 (2)'!Q64","v":1.2527548330147275E-2},{"$f":"IF(ISNUMBER(I64),CORREL($B$1:B64,$I$1:I64),\"\")","v":{"$error":"#N/A"}},{"$f":"'Sheet3 (2)'!S64","v":6.2774675977949864E-3},{"$f":"IF(ISNUMBER(K64),CORREL($B$1:B64,$K$1:K64),\"\")","v":{"$error":"#N/A"}},{"$f":"'Sheet3 (2)'!U64","v":2.7568537627807462E-3},{"$f":"IF(ISNUMBER(M64),CORREL($B$1:B64,$M$1:M64),\"\")","v":{"$error":"#N/A"}},{"$f":"'Sheet3 (2)'!W64","v":{"$error":"#N/A"}},{"$f":"IF(ISNUMBER(O64),CORREL($B$1:B64,$O$1:O64),\"\")","v":""},{"$f":"'Sheet3 (2)'!Y64","v":5.1241322508530631E-3},{"$f":"IF(ISNUMBER(Q64),CORREL($B$1:B64,$Q$1:Q64),\"\")","v":{"$error":"#N/A"}},{"$f":"'Sheet3 (2)'!AA64","v":4.0906285815040322E-3},{"$f":"IF(ISNUMBER(S64),CORREL($B$1:B64,$S$1:S64),\"\")","v":{"$error":"#N/A"}}]
[null,{"$f":"'Sheet3 (2)'!I65","v":{"$error":"#N/A"}},{"$f":"'Sheet3 (2)'!K65","v":2.3145299145299083E-2},{"$f":"IF(ISNUMBER(C65),CORREL($B$1:B65,$C$1:C65),\"\")","v":{"$error":"#N/A"}},{"$f":"'Sheet3 (2)'!M65","v":5.1231447962503309E-3},{"$f":"IF(ISNUMBER(E65),CORREL($B$1:B65,$E$1:E65),\"\")","v":{"$error":"#N/A"}},{"$f":"'Sheet3 (2)'!O65","v":2.3921519016458018E-3},{"$f":"IF(ISNUMBER(G65),CORREL($B$1:B65,$G$1:G65),\"\")","v":{"$error":"#N/A"}},{"$f":"'Sheet3 (2)'!Q65","v":1.2568468926652752E-2},{"$f":"IF(ISNUMBER(I65),CORREL($B$1:B65,$I$1:I65),\"\")","v":{"$error":"#N/A"}},{"$f":"'Sheet3 (2)'!S65","v":6.9481623551975579E-3},{"$f":"IF(ISNUMBER(K65),CORREL($B$1:B65,$K$1:K65),\"\")","v":{"$error":"#N/A"}},{"$f":"'Sheet3 (2)'!U65","v":3.063826772769165E-3},{"$f":"IF(ISNUMBER(M65),CORREL($B$1:B65,$M$1:M65),\"\")","v":{"$error":"#N/A"}},{"$f":"'Sheet3 (2)'!W65","v":{"$error":"#N/A"}},{"$f":"IF(ISNUMBER(O65),CORREL($B$1:B65,$O$1:O65),\"\")","v":""},{"$f":"'Sheet3 (2)'!Y65","v":4.8240969525826837E-3},{"$f":"IF(ISNUMBER(Q65),CORREL($B$1:B65,$Q$1:Q65),\"\")","v":{"$error":"#N/A"}},{"$f":"'Sheet3 (2)'!AA65","v":3.6498280878074795E-3},{"$f":"IF(ISNUMBER(S65),CORREL($B$1:B65,$S$1:S65),\"\")","v":{"$error":"#N/A"}}]
[null,{"$f":"'Sheet3 (2)'!I66","v":{"$error":"#N/A"}},{"$f":"'Sheet3 (2)'!K66","v":2.2746438746438787E-2},{"$f":"IF(ISNUMBER(C66),CORREL($B$1:B66,$C$1:C66),\"\")","v":{"$error":"#N/A"}},{"$f":"'Sheet3 (2)'!M66","v":5.1747778345103655E-3},{"$f":"IF(ISNUMBER(E66),CORREL($B$1:B66,$E$1:E66),\"\")","v":{"$error":"#N/A"}},{"$f":"'Sheet3 (2)'!O66","v":2.6681694287587839E-3},{"$f":"IF(ISNUMBER(G66),CORREL($B$1:B66,$G$1:G66),\"\")","v":{"$error":"#N/A"}},{"$f":"'Sheet3 (2)'!Q66","v":1.259769792415657E-2},{"$f":"IF(ISNUMBER(I66),CORREL($B$1:B66,$I$1:I66),\"\")","v":{"$error":"#N/A"}},{"$f":"'Sheet3 (2)'!S66","v":7.1187776882210172E-3},{"$f":"IF(ISNUMBER(K66),CORREL($B$1:B66,$K$1:K66),\"\")","v":{"$error":"#N/A"}},{"$f":"'Sheet3 (2)'!U66","v":4.4806252804079896E-3},{"$f":"IF(ISNUMBER(M66),CORREL($B$1:B66,$M$1:M66),\"\")","v":{"$error":"#N/A"}},{"$f":"'Sheet3 (2)'!W66","v":{"$error":"#N/A"}},{"$f":"IF(ISNUMBER(O66),CORREL($B$1:B66,$O$1:O66),\"\")","v":""},{"$f":"'Sheet3 (2)'!Y66","v":2.4767619719967271E-3},{"$f":"IF(ISNUMBER(Q66),CORREL($B$1:B66,$Q$1:Q66),\"\")","v":{"$error":"#N/A"}},{"$f":"'Sheet3 (2)'!AA66","v":5.0016162684768817E-3},{"$f":"IF(ISNUMBER(S66),CORREL($B$1:B66,$S$1:S66),\"\")","v":{"$error":"#N/A"}}]
[null,{"$f":"'Sheet3 (2)'!I67","v":{"$error":"#N/A"}},{"$f":"'Sheet3 (2)'!K67","v":2.3396011396011364E-2},{"$f":"IF(ISNUMBER(C67),CORREL($B$1:B67,$C$1:C67),\"\")","v":{"$error":"#N/A"}},{"$f":"'Sheet3 (2)'!M67","v":4.5896034008961204E-3},{"$f":"IF(ISNUMBER(E67),CORREL($B$1:B67,$E$1:E67),\"\")","v":{"$error":"#N/A"}},{"$f":"'Sheet3 (2)'!O67","v":2.4151533622385284E-3},{"$f":"IF(ISNUMBER(G67),CORREL($B$1:B67,$G$1:G67),\"\")","v":{"$error":"#N/A"}},{"$f":"'Sheet3 (2)'!Q67","v":1.2363865944125767E-2},{"$f":"IF(ISNUMBER(I67),CORREL($B$1:B67,$I$1:I67),\"\")","v":{"$error":"#N/A"}},{"$f":"'Sheet3 (2)'!S67","v":7.2776264465532117E-3},{"$f":"IF(ISNUMBER(K67),CORREL($B$1:B67,$K$1:K67),\"\")","v":{"$error":"#N/A"}},{"$f":"'Sheet3 (2)'!U67","v":5.7085173203617985E-3},{"$f":"IF(ISNUMBER(M67),CORREL($B$1:B67,$M$1:M67),\"\")","v":{"$error":"#N/A"}},{"$f":"'Sheet3 (2)'!W67","v":{"$error":"#N/A"}},{"$f":"IF(ISNUMBER(O67),CORREL($B$1:B67,$O$1:O67),\"\")","v":""},{"$f":"'Sheet3 (2)'!Y67","v":3.2533239204612149E-3},{"$f":"IF(ISNUMBER(Q67),CORREL($B$1:B67,$Q$1:Q67),\"\")","v":{"$error":"#N/A"}},{"$f":"'Sheet3 (2)'!AA67","v":5.4894354815010248E-3},{"$f":"IF(ISNUMBER(S67),CORREL($B$1:B67,$S$1:S67),\"\")","v":{"$error":"#N/A"}}]
[null,{"$f":"'Sheet3 (2)'!I68","v":{"$error":"#N/A"}},{"$f":"'Sheet3 (2)'!K68","v":2.2792022792022793E-2},{"$f":"IF(ISNUMBER(C68),CORREL($B$1:B68,$C$1:C68),\"\")","v":{"$error":"#N/A"}},{"$f":"'Sheet3 (2)'!M68","v":4.8936646262054727E-3},{"$f":"IF(ISNUMBER(E68),CORREL($B$1:B68,$E$1:E68),\"\")","v":{"$error":"#N/A"}},{"$f":"'Sheet3 (2)'!O68","v":2.5416613954986561E-3},{"$f":"IF(ISNUMBER(G68),CORREL($B$1:B68,$G$1:G68),\"\")","v":{"$error":"#N/A"}},{"$f":"'Sheet3 (2)'!Q68","v":1.303028708721346E-2},{"$f":"IF(ISNUMBER(I68),CORREL($B$1:B68,$I$1:I68),\"\")","v":{"$error":"#N/A"}},{"$f":"'Sheet3 (2)'!S68","v":7.4541250669224362E-3},{"$f":"IF(ISNUMBER(K68),CORREL($B$1:B68,$K$1:K68),\"\")","v":{"$error":"#N/A"}},{"$f":"'Sheet3 (2)'!U68","v":5.0827646461545136E-3},{"$f":"IF(ISNUMBER(M68),CORREL($B$1:B68,$M$1:M68),\"\")","v":{"$error":"#N/A"}},{"$f":"'Sheet3 (2)'!W68","v":{"$error":"#N/A"}},{"$f":"IF(ISNUMBER(O68),CORREL($B$1:B68,$O$1:O68),\"\")","v":""},{"$f":"'Sheet3 (2)'!Y68","v":3.1650782444994172E-3},{"$f":"IF(ISNUMBER(Q68),CORREL($B$1:B68,$Q$1:Q68),\"\")","v":{"$error":"#N/A"}},{"$f":"'Sheet3 (2)'!AA68","v":3.6439507478915308E-3},{"$f":"IF(ISNUMBER(S68),CORREL($B$1:B68,$S$1:S68),\"\")","v":{"$error":"#N/A"}}]
[null,{"$f":"'Sheet3 (2)'!I69","v":{"$error":"#N/A"}},{"$f":"'Sheet3 (2)'!K69","v":2.2108262108262083E-2},{"$f":"IF(ISNUMBER(C69),CORREL($B$1:B69,$C$1:C69),\"\")","v":{"$error":"#N/A"}},{"$f":"'Sheet3 (2)'!M69","v":5.2034628557660698E-3},{"$f":"IF(ISNUMBER(E69),CORREL($B$1:B69,$E$1:E69),\"\")","v":{"$error":"#N/A"}},{"$f":"'Sheet3 (2)'!O69","v":2.3634000759048934E-3},{"$f":"IF(ISNUMBER(G69),CORREL($B$1:B69,$G$1:G69),\"\")","v":{"$error":"#N/A"}},{"$f":"'Sheet3 (2)'!Q69","v":1.2831529904187238E-2},{"$f":"IF(ISNUMBER(I69),CORREL($B$1:B69,$I$1:I69),\"\")","v":{"$error":"#N/A"}},{"$f":"'Sheet3 (2)'!S69","v":7.3658757567378243E-3},{"$f":"IF(ISNUMBER(K69),CORREL($B$1:B69,$K$1:K69),\"\")","v":{"$error":"#N/A"}},{"$f":"'Sheet3 (2)'!U69","v":5.0296347021181031E-3},{"$f":"IF(ISNUMBER(M69),CORREL($B$1:B69,$M$1:M69),\"\")","v":{"$error":"#N/A"}},{"$f":"'Sheet3 (2)'!W69","v":{"$error":"#N/A"}},{"$f":"IF(ISNUMBER(O69),CORREL($B$1:B69,$O$1:O69),\"\")","v":""},{"$f":"'Sheet3 (2)'!Y69","v":3.3533356865513859E-3},{"$f":"IF(ISNUMBER(Q69),CORREL($B$1:B69,$Q$1:Q69),\"\")","v":{"$error":"#N/A"}},{"$f":"'Sheet3 (2)'!AA69","v":3.8379029651179715E-3},{"$f":"IF(ISNUMBER(S69),CORREL($B$1:B69,$S$1:S69),\"\")","v":{"$error":"#N/A"}}]
[null,{"$f":"'Sheet3 (2)'!I70","v":{"$error":"#N/A"}},{"$f":"'Sheet3 (2)'!K70","v":2.2512820512820508E-2},{"$f":"IF(ISNUMBER(C70),CORREL($B$1:B70,$C$1:C70),\"\")","v":{"$error":"#N/A"}},{"$f":"'Sheet3 (2)'!M70","v":5.1174077919992154E-3},{"$f":"IF(ISNUMBER(E70),CORREL($B$1:B70,$E$1:E70),\"\")","v":{"$error":"#N/A"}},{"$f":"'Sheet3 (2)'!O70","v":1.7366102747524363E-3},{"$f":"IF(ISNUMBER(G70),CORREL($B$1:B70,$G$1:G70),\"\")","v":{"$error":"#N/A"}},{"$f":"'Sheet3 (2)'!Q70","v":1.2720459713672734E-2},{"$f":"IF(ISNUMBER(I70),CORREL($B$1:B70,$I$1:I70),\"\")","v":{"$error":"#N/A"}},{"$f":"'Sheet3 (2)'!S70","v":7.9483212039559176E-3},{"$f":"IF(ISNUMBER(K70),CORREL($B$1:B70,$K$1:K70),\"\")","v":{"$error":"#N/A"}},{"$f":"'Sheet3 (2)'!U70","v":5.6199674136343135E-3},{"$f":"IF(ISNUMBER(M70),CORREL($B$1:B70,$M$1:M70),\"\")","v":{"$error":"#N/A"}},{"$f":"'Sheet3 (2)'!W70","v":{"$error":"#N/A"}},{"$f":"IF(ISNUMBER(O70),CORREL($B$1:B70,$O$1:O70),\"\")","v":""},{"$f":"'Sheet3 (2)'!Y70","v":3.3592187316155058E-3},{"$f":"IF(ISNUMBER(Q70),CORREL($B$1:B70,$Q$1:Q70),\"\")","v":{"$error":"#N/A"}},{"$f":"'Sheet3 (2)'!AA70","v":3.4735078903287515E-3},{"$f":"IF(ISNUMBER(S70),CORREL($B$1:B70,$S$1:S70),\"\")","v":{"$error":"#N/A"}}]
[null,{"$f":"'Sheet3 (2)'!I71","v":{"$error":"#N/A"}},{"$f":"'Sheet3 (2)'!K71","v":2.0792022792022798E-2},{"$f":"IF(ISNUMBER(C71),CORREL($B$1:B71,$C$1:C71),\"\")","v":{"$error":"#N/A"}},{"$f":"'Sheet3 (2)'!M71","v":4.7903985496854035E-3},{"$f":"IF(ISNUMBER(E71),CORREL($B$1:B71,$E$1:E71),\"\")","v":{"$error":"#N/A"}},{"$f":"'Sheet3 (2)'!O71","v":1.742360639900618E-3},{"$f":"IF(ISNUMBER(G71),CORREL($B$1:B71,$G$1:G71),\"\")","v":{"$error":"#N/A"}},{"$f":"'Sheet3 (2)'!Q71","v":1.3439493052267165E-2},{"$f":"IF(ISNUMBER(I71),CORREL($B$1:B71,$I$1:I71),\"\")","v":{"$error":"#N/A"}},{"$f":"'Sheet3 (2)'!S71","v":7.7247562848216369E-3},{"$f":"IF(ISNUMBER(K71),CORREL($B$1:B71,$K$1:K71),\"\")","v":{"$error":"#N/A"}},{"$f":"'Sheet3 (2)'!U71","v":4.7462750005903111E-3},{"$f":"IF(ISNUMBER(M71),CORREL($B$1:B71,$M$1:M71),\"\")","v":{"$error":"#N/A"}},{"$f":"'Sheet3 (2)'!W71","v":{"$error":"#N/A"}},{"$f":"IF(ISNUMBER(O71),CORREL($B$1:B71,$O$1:O71),\"\")","v":""},{"$f":"'Sheet3 (2)'!Y71","v":3.1415460642429376E-3},{"$f":"IF(ISNUMBER(Q71),CORREL($B$1:B71,$Q$1:Q71),\"\")","v":{"$error":"#N/A"}},{"$f":"'Sheet3 (2)'!AA71","v":1.9630315319286011E-3},{"$f":"IF(ISNUMBER(S71),CORREL($B$1:B71,$S$1:S71),\"\")","v":{"$error":"#N/A"}}]
[null,{"$f":"'Sheet3 (2)'!I72","v":{"$error":"#N/A"}},{"$f":"'Sheet3 (2)'!K72","v":2.2427350427350369E-2},{"$f":"IF(ISNUMBER(C72),CORREL($B$1:B72,$C$1:C72),\"\")","v":{"$error":"#N/A"}},{"$f":"'Sheet3 (2)'!M72","v":4.9625086772189823E-3},{"$f":"IF(ISNUMBER(E72),CORREL($B$1:B72,$E$1:E72),\"\")","v":{"$error":"#N/A"}},{"$f":"'Sheet3 (2)'!O72","v":8.5105404193167315E-4},{"$f":"IF(ISNUMBER(G72),CORREL($B$1:B72,$G$1:G72),\"\")","v":{"$error":"#N/A"}},{"$f":"'Sheet3 (2)'!Q72","v":1.3158894676230388E-2},{"$f":"IF(ISNUMBER(I72),CORREL($B$1:B72,$I$1:I72),\"\")","v":{"$error":"#N/A"}},{"$f":"'Sheet3 (2)'!S72","v":7.7012231354391097E-3},{"$f":"IF(ISNUMBER(K72),CORREL($B$1:B72,$K$1:K72),\"\")","v":{"$error":"#N/A"}},{"$f":"'Sheet3 (2)'!U72","v":4.3802687194503254E-3},{"$f":"IF(ISNUMBER(M72),CORREL($B$1:B72,$M$1:M72),\"\")","v":{"$error":"#N/A"}},{"$f":"'Sheet3 (2)'!W72","v":{"$error":"#N/A"}},{"$f":"IF(ISNUMBER(O72),CORREL($B$1:B72,$O$1:O72),\"\")","v":""},{"$f":"'Sheet3 (2)'!Y72","v":4.2946228968113627E-3},{"$f":"IF(ISNUMBER(Q72),CORREL($B$1:B72,$Q$1:Q72),\"\")","v":{"$error":"#N/A"}},{"$f":"'Sheet3 (2)'!AA72","v":2.9621793176408144E-3},{"$f":"IF(ISNUMBER(S72),CORREL($B$1:B72,$S$1:S72),\"\")","v":{"$error":"#N/A"}}]
[null,{"$f":"'Sheet3 (2)'!I73","v":{"$error":"#N/A"}},{"$f":"'Sheet3 (2)'!K73","v":2.2740740740740787E-2},{"$f":"IF(ISNUMBER(C73),CORREL($B$1:B73,$C$1:C73),\"\")","v":{"$error":"#N/A"}},{"$f":"'Sheet3 (2)'!M73","v":6.0410654764295026E-3},{"$f":"IF(ISNUMBER(E73),CORREL($B$1:B73,$E$1:E73),\"\")","v":{"$error":"#N/A"}},{"$f":"'Sheet3 (2)'!O73","v":1.8746190383089273E-3},{"$f":"IF(ISNUMBER(G73),CORREL($B$1:B73,$G$1:G73),\"\")","v":{"$error":"#N/A"}},{"$f":"'Sheet3 (2)'!Q73","v":1.3778549423311841E-2},{"$f":"IF(ISNUMBER(I73),CORREL($B$1:B73,$I$1:I73),\"\")","v":{"$error":"#N/A"}},{"$f":"'Sheet3 (2)'!S73","v":7.3070428832815049E-3},{"$f":"IF(ISNUMBER(K73),CORREL($B$1:B73,$K$1:K73),\"\")","v":{"$error":"#N/A"}},{"$f":"'Sheet3 (2)'!U73","v":4.9410847953906181E-3},{"$f":"IF(ISNUMBER(M73),CORREL($B$1:B73,$M$1:M73),\"\")","v":{"$error":"#N/A"}},{"$f":"'Sheet3 (2)'!W73","v":{"$error":"#N/A"}},{"$f":"IF(ISNUMBER(O73),CORREL($B$1:B73,$O$1:O73),\"\")","v":""},{"$f":"'Sheet3 (2)'!Y73","v":3.3592187316155058E-3},{"$f":"IF(ISNUMBER(Q73),CORREL($B$1:B73,$Q$1:Q73),\"\")","v":{"$error":"#N/A"}},{"$f":"'Sheet3 (2)'!AA73","v":2.3744453260454105E-3},{"$f":"IF(ISNUMBER(S73),CORREL($B$1:B73,$S$1:S73),\"\")","v":{"$error":"#N/A"}}]
[null,{"$f":"'Sheet3 (2)'!I74","v":{"$error":"#N/A"}},{"$f":"'Sheet3 (2)'!K74","v":2.2860398860398798E-2},{"$f":"IF(ISNUMBER(C74),CORREL($B$1:B74,$C$1:C74),\"\")","v":{"$error":"#N/A"}},{"$f":"'Sheet3 (2)'!M74","v":6.3221786847343954E-3},{"$f":"IF(ISNUMBER(E74),CORREL($B$1:B74,$E$1:E74),\"\")","v":{"$error":"#N/A"}},{"$f":"'Sheet3 (2)'!O74","v":1.0523168221181626E-3},{"$f":"IF(ISNUMBER(G74),CORREL($B$1:B74,$G$1:G74),\"\")","v":{"$error":"#N/A"}},{"$f":"'Sheet3 (2)'!Q74","v":1.4275442380877129E-2},{"$f":"IF(ISNUMBER(I74),CORREL($B$1:B74,$I$1:I74),\"\")","v":{"$error":"#N/A"}},{"$f":"'Sheet3 (2)'!S74","v":6.6422314132244314E-3},{"$f":"IF(ISNUMBER(K74),CORREL($B$1:B74,$K$1:K74),\"\")","v":{"$error":"#N/A"}},{"$f":"'Sheet3 (2)'!U74","v":4.1913622517650408E-3},{"$f":"IF(ISNUMBER(M74),CORREL($B$1:B74,$M$1:M74),\"\")","v":{"$error":"#N/A"}},{"$f":"'Sheet3 (2)'!W74","v":{"$error":"#N/A"}},{"$f":"IF(ISNUMBER(O74),CORREL($B$1:B74,$O$1:O74),\"\")","v":""},{"$f":"'Sheet3 (2)'!Y74","v":5.5830097658548117E-3},{"$f":"IF(ISNUMBER(Q74),CORREL($B$1:B74,$Q$1:Q74),\"\")","v":{"$error":"#N/A"}},{"$f":"'Sheet3 (2)'!AA74","v":2.2392665079784568E-3},{"$f":"IF(ISNUMBER(S74),CORREL($B$1:B74,$S$1:S74),\"\")","v":{"$error":"#N/A"}}]
[null,{"$f":"'Sheet3 (2)'!I75","v":{"$error":"#N/A"}},{"$f":"'Sheet3 (2)'!K75","v":2.1817663817663795E-2},{"$f":"IF(ISNUMBER(C75),CORREL($B$1:B75,$C$1:C75),\"\")","v":{"$error":"#N/A"}},{"$f":"'Sheet3 (2)'!M75","v":6.1615425657030468E-3},{"$f":"IF(ISNUMBER(E75),CORREL($B$1:B75,$E$1:E75),\"\")","v":{"$error":"#N/A"}},{"$f":"'Sheet3 (2)'!O75","v":9.8331244033998243E-4},{"$f":"IF(ISNUMBER(G75),CORREL($B$1:B75,$G$1:G75),\"\")","v":{"$error":"#N/A"}},{"$f":"'Sheet3 (2)'!Q75","v":1.6064257028112327E-2},{"$f":"IF(ISNUMBER(I75),CORREL($B$1:B75,$I$1:I75),\"\")","v":{"$error":"#N/A"}},{"$f":"'Sheet3 (2)'!S75","v":6.8422631829760504E-3},{"$f":"IF(ISNUMBER(K75),CORREL($B$1:B75,$K$1:K75),\"\")","v":{"$error":"#N/A"}},{"$f":"'Sheet3 (2)'!U75","v":4.3920753736806381E-3},{"$f":"IF(ISNUMBER(M75),CORREL($B$1:B75,$M$1:M75),\"\")","v":{"$error":"#N/A"}},{"$f":"'Sheet3 (2)'!W75","v":{"$error":"#N/A"}},{"$f":"IF(ISNUMBER(O75),CORREL($B$1:B75,$O$1:O75),\"\")","v":""},{"$f":"'Sheet3 (2)'!Y75","v":5.7006706671373425E-3},{"$f":"IF(ISNUMBER(Q75),CORREL($B$1:B75,$Q$1:Q75),\"\")","v":{"$error":"#N/A"}},{"$f":"'Sheet3 (2)'!AA75","v":2.9151605983132249E-3},{"$f":"IF(ISNUMBER(S75),CORREL($B$1:B75,$S$1:S75),\"\")","v":{"$error":"#N/A"}}]
[null,{"$f":"'Sheet3 (2)'!I76","v":{"$error":"#N/A"}},{"$f":"'Sheet3 (2)'!K76","v":2.3623931623931643E-2},{"$f":"IF(ISNUMBER(C76),CORREL($B$1:B76,$C$1:C76),\"\")","v":{"$error":"#N/A"}},{"$f":"'Sheet3 (2)'!M76","v":7.2745213904203869E-3},{"$f":"IF(ISNUMBER(E76),CORREL($B$1:B76,$E$1:E76),\"\")","v":{"$error":"#N/A"}},{"$f":"'Sheet3 (2)'!O76","v":5.7503651481869095E-4},{"$f":"IF(ISNUMBER(G76),CORREL($B$1:B76,$G$1:G76),\"\")","v":{"$error":"#N/A"}},{"$f":"'Sheet3 (2)'!Q76","v":1.6584533183680802E-2},{"$f":"IF(ISNUMBER(I76),CORREL($B$1:B76,$I$1:I76),\"\")","v":{"$error":"#N/A"}},{"$f":"'Sheet3 (2)'!S76","v":6.0950856900801303E-3},{"$f":"IF(ISNUMBER(K76),CORREL($B$1:B76,$K$1:K76),\"\")","v":{"$error":"#N/A"}},{"$f":"'Sheet3 (2)'!U76","v":3.3767031098727402E-3},{"$f":"IF(ISNUMBER(M76),CORREL($B$1:B76,$M$1:M76),\"\")","v":{"$error":"#N/A"}},{"$f":"'Sheet3 (2)'!W76","v":{"$error":"#N/A"}},{"$f":"IF(ISNUMBER(O76),CORREL($B$1:B76,$O$1:O76),\"\")","v":""},{"$f":"'Sheet3 (2)'!Y76","v":6.1713142722673309E-3},{"$f":"IF(ISNUMBER(Q76),CORREL($B$1:B76,$Q$1:Q76),\"\")","v":{"$error":"#N/A"}},{"$f":"'Sheet3 (2)'!AA76","v":1.6456551764671042E-3},{"$f":"IF(ISNUMBER(S76),CORREL($B$1:B76,$S$1:S76),\"\")","v":{"$error":"#N/A"}}]
[null,{"$f":"'Sheet3 (2)'!I77","v":{"$error":"#N/A"}},{"$f":"'Sheet3 (2)'!K77","v":2.3339031339031358E-2},{"$f":"IF(ISNUMBER(C77),CORREL($B$1:B77,$C$1:C77),\"\")","v":{"$error":"#N/A"}},{"$f":"'Sheet3 (2)'!M77","v":7.4179464966983907E-3},{"$f":"IF(ISNUMBER(E77),CORREL($B$1:B77,$E$1:E77),\"\")","v":{"$error":"#N/A"}},{"$f":"'Sheet3 (2)'!O77","v":1.9723752458281466E-3},{"$f":"IF(ISNUMBER(G77),CORREL($B$1:B77,$G$1:G77),\"\")","v":{"$error":"#N/A"}},{"$f":"'Sheet3 (2)'!Q77","v":1.6584533183680802E-2},{"$f":"IF(ISNUMBER(I77),CORREL($B$1:B77,$I$1:I77),\"\")","v":{"$error":"#N/A"}},{"$f":"'Sheet3 (2)'!S77","v":6.3421837585969374E-3},{"$f":"IF(ISNUMBER(K77),CORREL($B$1:B77,$K$1:K77),\"\")","v":{"$error":"#N/A"}},{"$f":"'Sheet3 (2)'!U77","v":4.3625587381047205E-3},{"$f":"IF(ISNUMBER(M77),CORREL($B$1:B77,$M$1:M77),\"\")","v":{"$error":"#N/A"}},{"$f":"'Sheet3 (2)'!W77","v":{"$error":"#N/A"}},{"$f":"IF(ISNUMBER(O77),CORREL($B$1:B77,$O$1:O77),\"\")","v":""},{"$f":"'Sheet3 (2)'!Y77","v":6.9949405812449114E-3},{"$f":"IF(ISNUMBER(Q77),CORREL($B$1:B77,$Q$1:Q77),\"\")","v":{"$error":"#N/A"}},{"$f":"'Sheet3 (2)'!AA77","v":6.5238473067083958E-4},{"$f":"IF(ISNUMBER(S77),CORREL($B$1:B77,$S$1:S77),\"\")","v":{"$error":"#N/A"}}]
[null,{"$f":"'Sheet3 (2)'!I78","v":{"$error":"#N/A"}},{"$f":"'Sheet3 (2)'!K78","v":2.4062678062678072E-2},{"$f":"IF(ISNUMBER(C78),CORREL($B$1:B78,$C$1:C78),\"\")","v":{"$error":"#N/A"}},{"$f":"'Sheet3 (2)'!M78","v":6.8442460715863757E-3},{"$f":"IF(ISNUMBER(E78),CORREL($B$1:B78,$E$1:E78),\"\")","v":{"$error":"#N/A"}},{"$f":"'Sheet3 (2)'!O78","v":2.3288978850156722E-3},{"$f":"IF(ISNUMBER(G78),CORREL($B$1:B78,$G$1:G78),\"\")","v":{"$error":"#N/A"}},{"$f":"'Sheet3 (2)'!Q78","v":1.6596224782682328E-2},{"$f":"IF(ISNUMBER(I78),CORREL($B$1:B78,$I$1:I78),\"\")","v":{"$error":"#N/A"}},{"$f":"'Sheet3 (2)'!S78","v":6.4127832067446544E-3},{"$f":"IF(ISNUMBER(K78),CORREL($B$1:B78,$K$1:K78),\"\")","v":{"$error":"#N/A"}},{"$f":"'Sheet3 (2)'!U78","v":3.4062197454485239E-3},{"$f":"IF(ISNUMBER(M78),CORREL($B$1:B78,$M$1:M78),\"\")","v":{"$error":"#N/A"}},{"$f":"'Sheet3 (2)'!W78","v":{"$error":"#N/A"}},{"$f":"IF(ISNUMBER(O78),CORREL($B$1:B78,$O$1:O78),\"\")","v":""},{"$f":"'Sheet3 (2)'!Y78","v":8.2244969996470279E-3},{"$f":"IF(ISNUMBER(Q78),CORREL($B$1:B78,$Q$1:Q78),\"\")","v":{"$error":"#N/A"}},{"$f":"'Sheet3 (2)'!AA78","v":-9.6976108613246995E-4},{"$f":"IF(ISNUMBER(S78),CORREL($B$1:B78,$S$1:S78),\"\")","v":{"$error":"#N/A"}}]
[null,{"$f":"'Sheet3 (2)'!I79","v":{"$error":"#N/A"}},{"$f":"'Sheet3 (2)'!K79","v":{"$error":"#N/A"}},{"$f":"IF(ISNUMBER(C79),CORREL($B$1:B79,$C$1:C79),\"\")","v":""},{"$f":"'Sheet3 (2)'!M79","v":{"$error":"#N/A"}},{"$f":"IF(ISNUMBER(E79),CORREL($B$1:B79,$E$1:E79),\"\")","v":""},{"$f":"'Sheet3 (2)'!O79","v":{"$error":"#N/A"}},{"$f":"IF(ISNUMBER(G79),CORREL($B$1:B79,$G$1:G79),\"\")","v":""},{"$f":"'Sheet3 (2)'!Q79","v":{"$error":"#N/A"}},{"$f":"IF(ISNUMBER(I79),CORREL($B$1:B79,$I$1:I79),\"\")","v":""},{"$f":"'Sheet3 (2)'!S79","v":{"$error":"#N/A"}},{"$f":"IF(ISNUMBER(K79),CORREL($B$1:B79,$K$1:K79),\"\")","v":""},{"$f":"'Sheet3 (2)'!U79","v":{"$error":"#N/A"}},{"$f":"IF(ISNUMBER(M79),CORREL($B$1:B79,$M$1:M79),\"\")","v":""},{"$f":"'Sheet3 (2)'!W79","v":{"$error":"#N/A"}},{"$f":"IF(ISNUMBER(O79),CORREL($B$1:B79,$O$1:O79),\"\")","v":""},{"$f":"'Sheet3 (2)'!Y79","v":{"$error":"#N/A"}},{"$f":"IF(ISNUMBER(Q79),CORREL($B$1:B79,$Q$1:Q79),\"\")","v":""},{"$f":"'Sheet3 (2)'!AA79","v":{"$error":"#N/A"}},{"$f":"IF(ISNUMBER(S79),CORREL($B$1:B79,$S$1:S79),\"\")","v":""}]
[null,{"$f":"'Sheet3 (2)'!I80","v":{"$error":"#N/A"}},{"$f":"'Sheet3 (2)'!K80","v":{"$error":"#N/A"}},{"$f":"IF(ISNUMBER(C80),CORREL($B$1:B80,$C$1:C80),\"\")","v":""},{"$f":"'Sheet3 (2)'!M80","v":{"$error":"#N/A"}},{"$f":"IF(ISNUMBER(E80),CORREL($B$1:B80,$E$1:E80),\"\")","v":""},{"$f":"'Sheet3 (2)'!O80","v":{"$error":"#N/A"}},{"$f":"IF(ISNUMBER(G80),CORREL($B$1:B80,$G$1:G80),\"\")","v":""},{"$f":"'Sheet3 (2)'!Q80","v":{"$error":"#N/A"}},{"$f":"IF(ISNUMBER(I80),CORREL($B$1:B80,$I$1:I80),\"\")","v":""},{"$f":"'Sheet3 (2)'!S80","v":{"$error":"#N/A"}},{"$f":"IF(ISNUMBER(K80),CORREL($B$1:B80,$K$1:K80),\"\")","v":""},{"$f":"'Sheet3 (2)'!U80","v":{"$error":"#N/A"}},{"$f":"IF(ISNUMBER(M80),CORREL($B$1:B80,$M$1:M80),\"\")","v":""},{"$f":"'Sheet3 (2)'!W80","v":{"$error":"#N/A"}},{"$f":"IF(ISNUMBER(O80),CORREL($B$1:B80,$O$1:O80),\"\")","v":""},{"$f":"'Sheet3 (2)'!Y80","v":{"$error":"#N/A"}},{"$f":"IF(ISNUMBER(Q80),CORREL($B$1:B80,$Q$1:Q80),\"\")","v":""},{"$f":"'Sheet3 (2)'!AA80","v":{"$error":"#N/A"}},{"$f":"IF(ISNUMBER(S80),CORREL($B$1:B80,$S$1:S80),\"\")","v":""}]
[null,{"$f":"'Sheet3 (2)'!I81","v":{"$error":"#N/A"}},{"$f":"'Sheet3 (2)'!K81","v":{"$error":"#N/A"}},{"$f":"IF(ISNUMBER(C81),CORREL($B$1:B81,$C$1:C81),\"\")","v":""},{"$f":"'Sheet3 (2)'!M81","v":{"$error":"#N/A"}},{"$f":"IF(ISNUMBER(E81),CORREL($B$1:B81,$E$1:E81),\"\")","v":""},{"$f":"'Sheet3 (2)'!O81","v":{"$error":"#N/A"}},{"$f":"IF(ISNUMBER(G81),CORREL($B$1:B81,$G$1:G81),\"\")","v":""},{"$f":"'Sheet3 (2)'!Q81","v":{"$error":"#N/A"}},{"$f":"IF(ISNUMBER(I81),CORREL($B$1:B81,$I$1:I81),\"\")","v":""},{"$f":"'Sheet3 (2)'!S81","v":{"$error":"#N/A"}},{"$f":"IF(ISNUMBER(K81),CORREL($B$1:B81,$K$1:K81),\"\")","v":""},{"$f":"'Sheet3 (2)'!U81","v":{"$error":"#N/A"}},{"$f":"IF(ISNUMBER(M81),CORREL($B$1:B81,$M$1:M81),\"\")","v":""},{"$f":"'Sheet3 (2)'!W81","v":{"$error":"#N/A"}},{"$f":"IF(ISNUMBER(O81),CORREL($B$1:B81,$O$1:O81),\"\")","v":""},{"$f":"'Sheet3 (2)'!Y81","v":{"$error":"#N/A"}},{"$f":"IF(ISNUMBER(Q81),CORREL($B$1:B81,$Q$1:Q81),\"\")","v":""},{"$f":"'Sheet3 (2)'!AA81","v":{"$error":"#N/A"}},{"$f":"IF(ISNUMBER(S81),CORREL($B$1:B81,$S$1:S81),\"\")","v":""}]
[null,null,null,{"$f":"'Sheet3 (2)'!C2","v":"2018-07-12"},null,{"$f":"'Sheet3 (2)'!C3","v":"2018-07-11"},null,{"$f":"'Sheet3 (2)'!C4","v":"2018-07-10"},null,{"$f":"'Sheet3 (2)'!C5","v":"2018-07-09"},null,{"$f":"'Sheet3 (2)'!C6","v":"2018-07-06"},null,{"$f":"'Sheet3 (2)'!C7","v":"2018-07-05"},null,{"$f":"'Sheet3 (2)'!C8","v":"2018-07-03"},null,{"$f":"'Sheet3 (2)'!C9","v":"2018-07-02"},null,{"$f":"'Sheet3 (2)'!C10","v":"2018-06-29"}]
[null,null,null,{"$f":"IF(ISNUMBER(INDIRECT(\"D\"&('Sheet3 (2)'!$AE$83)+1))=FALSE,\"\",LOOKUP(2,1/(ISNUMBER(D1:D78)),D1:D78))","v":0.16361075655817062},null,{"$f":"IF(ISNUMBER(INDIRECT(\"F\"&('Sheet3 (2)'!$AE$83)+1))=FALSE,\"\",LOOKUP(2,1/(ISNUMBER(F1:F78)),F1:F78))","v":8.7510416728021456E-2},null,{"$f":"IF(ISNUMBER(INDIRECT(\"H\"&('Sheet3 (2)'!$AE$83)+1))=FALSE,\"\",LOOKUP(2,1/(ISNUMBER(H1:H78)),H1:H78))","v":0.28855311493619573},null,{"$f":"IF(ISNUMBER(INDIRECT(\"J\"&('Sheet3 (2)'!$AE$83)+1))=FALSE,\"\",LOOKUP(2,1/(ISNUMBER(J1:J78)),J1:J78))","v":0.43355339378174956},null,{"$f":"IF(ISNUMBER(INDIRECT(\"L\"&('Sheet3 (2)'!$AE$83)+1))=FALSE,\"\",LOOKUP(2,1/(ISNUMBER(L1:L78)),L1:L78))","v":0.42728971735149157},null,{"$f":"IF(ISNUMBER(INDIRECT(\"N\"&('Sheet3 (2)'!$AE$83)+1))=FALSE,\"\",LOOKUP(2,1/(ISNUMBER(N1:N78)),N1:N78))","v":-0.178308003577695},null,{"$f":"IF(ISNUMBER(INDIRECT(\"P\"&('Sheet3 (2)'!$AE$83)+1))=FALSE,\"\",LOOKUP(2,1/(ISNUMBER(P1:P78)),P1:P78))","v":-0.21080787790619399},null,{"$f":"IF(ISNUMBER(INDIRECT(\"R\"&('Sheet3 (2)'!$AE$83)+1))=FALSE,\"\",LOOKUP(2,1/(ISNUMBER(R1:R78)),R1:R78))","v":0.29395369456455089},null,{"$f":"IF(ISNUMBER(INDIRECT(\"T\"&('Sheet3 (2)'!$AE$83)+1))=FALSE,\"\",LOOKUP(2,1/(ISNUMBER(T1:T78)),T1:T78))","v":1.3978953659836401E-2}]
[]
[null,null,{"$f":"RANK(D85,$D$85:$D$93,0)+COUNTIF($D$85:D85,D85)-1","v":5},{"$f":"D83","v":0.16361075655817062},{"$f":"D82","v":"2018-07-12"},{"$f":"RANK(D85,$D$85:$D$93,0)+COUNTIF($D$85:D85,D85)-1","v":5},{"$f":"VLOOKUP(1,C85:E93,3,FALSE)","v":"2018-07-09"},{"$f":"VLOOKUP(1,C85:E93,2,FALSE)","v":0.43355339378174956},{"$f":"IFERROR(VLOOKUP(G85,'Sheet3 (2)'!AK1:AN10,4,FALSE),1)","v":4}]
[null,null,{"$f":"RANK(D86,$D$85:$D$93,0)+COUNTIF($D$85:D86,D86)-1","v":6},{"$f":"F83","v":8.7510416728021456E-2},{"$f":"F82","v":"2018-07-11"},{"$f":"RANK(D86,$D$85:$D$93,0)+COUNTIF($D$85:D86,D86)-1","v":6},{"$f":"VLOOKUP(2,C85:E93,3,FALSE)","v":"2018-07-06"},{"$f":"VLOOKUP(2,C85:E93,2,FALSE)","v":0.42728971735149157},null,null,null,null,null,null,null,{"$f":"'Sheet3 (2)'!AE83","v":22}]
[null,null,{"$f":"RANK(D87,$D$85:$D$93,0)+COUNTIF($D$85:D87,D87)-1","v":4},{"$f":"H83","v":0.28855311493619573},{"$f":"H82","v":"2018-07-10"},{"$f":"RANK(D87,$D$85:$D$93,0)+COUNTIF($D$85:D87,D87)-1","v":4},{"$f":"VLOOKUP(3,C85:E93,3,FALSE)","v":"2018-07-02"},{"$f":"VLOOKUP(3,C85:E93,2,FALSE)","v":0.29395369456455089}]
[null,null,{"$f":"RANK(D88,$D$85:$D$93,0)+COUNTIF($D$85:D88,D88)-1","v":1},{"$f":"J83","v":0.43355339378174956},{"$f":"J82","v":"2018-07-09"},{"$f":"RANK(D88,$D$85:$D$93,0)+COUNTIF($D$85:D88,D88)-1","v":1},{"$f":"VLOOKUP(4,C85:E93,3,FALSE)","v":"2018-07-10"},{"$f":"VLOOKUP(4,C85:E93,2,FALSE)","v":0.28855311493619573}]
[null,null,{"$f":"RANK(D89,$D$85:$D$93,0)+COUNTIF($D$85:D89,D89)-1","v":2},{"$f":"L83","v":0.42728971735149157},{"$f":"L82","v":"2018-07-06"},{"$f":"RANK(D89,$D$85:$D$93,0)+COUNTIF($D$85:D89,D89)-1","v":2},{"$f":"VLOOKUP(5,C85:E93,3,FALSE)","v":"2018-07-12"},{"$f":"VLOOKUP(5,C85:E93,2,FALSE)","v":0.16361075655817062}]
[null,null,{"$f":"RANK(D90,$D$85:$D$93,0)+COUNTIF($D$85:D90,D90)-1","v":8},{"$f":"N83","v":-0.178308003577695},{"$f":"N82","v":"2018-07-05"},{"$f":"RANK(D90,$D$85:$D$93,0)+COUNTIF($D$85:D90,D90)-1","v":8},{"$f":"VLOOKUP(6,C85:E93,3,FALSE)","v":"2018-07-11"},{"$f":"VLOOKUP(6,C85:E93,2,FALSE)","v":8.7510416728021456E-2}]
[null,null,{"$f":"RANK(D91,$D$85:$D$93,0)+COUNTIF($D$85:D91,D91)-1","v":9},{"$f":"P83","v":-0.21080787790619399},{"$f":"P82","v":"2018-07-03"},{"$f":"RANK(D91,$D$85:$D$93,0)+COUNTIF($D$85:D91,D91)-1","v":9},{"$f":"VLOOKUP(7,C85:E93,3,FALSE)","v":"2018-06-29"},{"$f":"VLOOKUP(7,C85:E93,2,FALSE)","v":1.3978953659836401E-2}]
[null,null,{"$f":"RANK(D92,$D$85:$D$93,0)+COUNTIF($D$85:D92,D92)-1","v":3},{"$f":"R83","v":0.29395369456455089},{"$f":"R82","v":"2018-07-02"},{"$f":"RANK(D92,$D$85:$D$93,0)+COUNTIF($D$85:D92,D92)-1","v":3},{"$f":"VLOOKUP(8,C85:E93,3,FALSE)","v":"2018-07-05"},{"$f":"VLOOKUP(8,C85:E93,2,FALSE)","v":-0.178308003577695}]
[null,null,{"$f":"RANK(D93,$D$85:$D$93,0)+COUNTIF($D$85:D93,D93)-1","v":7},{"$f":"T83","v":1.3978953659836401E-2},{"$f":"T82","v":"2018-06-29"},{"$f":"RANK(D93,$D$85:$D$93,0)+COUNTIF($D$85:D93,D93)-1","v":7},{"$f":"VLOOKUP(9,C85:E93,3,FALSE)","v":"2018-07-03"},{"$f":"VLOOKUP(9,C85:E93,2,FALSE)","v":-0.21080787790619399}]

{"sheet":"Sheet3 (3)","index":5,"n_rows":83,"n_cols":40,"rows_kept":83,"cut":false,"hidden":true,"merged":[]}
[0,"08:30:00",{"$f":" RTD(\"cqg.rtd\",,\"StudyData\",$D$12, \"Bar\", \"\", \"Time\",\"D\",\"0\",,,,,\"T\")","v":"2018-07-13"},{"$f":"YEAR(C1)","v":2018},{"$f":"MONTH(C1)","v":7},{"$f":"DAY(C1)","v":13},null,{"$f":"RTD(\"cqg.rtd\",,\"StudyData\", \"Close(\"&$D$12&\") when LocalYear(\"&$D$12&\")=\"&$D$1&\" and localMonth(\"&$D$12&\") =\"&$E$1&\" and LocalDay(\"&$D$12&\")=\"&$F$1&\" and Barix(\"&$D$12&\",reference:=StartOfSession)=\"&A1&\"\", \"Bar\", \"\", \"Close\",\"5\",\"0\",\"PrimaryOnly\",,,\"False\",\"T\",\"EveryTick\")","v":165.97},{"$f":"IFERROR((H1-$G$2)/$G$2,NA())","v":8.4423807513710637E-4},{"$f":"RTD(\"cqg.rtd\",,\"StudyData\", \"Close(\"&$D$12&\") when LocalYear(\"&$D$12&\")=\"&$D$2&\" and localMonth(\"&$D$12&\") =\"&$E$2&\" and LocalDay(\"&$D$12&\")=\"&$F$2&\" and Barix(\"&$D$12&\",reference:=StartOfSession)=\"&A1&\"\", \"Bar\", \"\", \"Close\",\"5\",\"0\",\"PrimaryOnly\",,,\"False\",\"T\",\"EveryTick\")","v":163.78},{"$f":"IFERROR((J1-$G$3)/$G$3,NA())","v":7.0712660640718543E-3},{"$f":"RTD(\"cqg.rtd\",,\"StudyData\", \"Close(\"&$D$12&\") when LocalYear(\"&$D$12&\")=\"&$D$3&\" and localMonth(\"&$D$12&\") =\"&$E$3&\" and LocalDay(\"&$D$12&\")=\"&$F$3&\" and Barix(\"&$D$12&\",reference:=StartOfSession)=\"&A1&\"\", \"Bar\", \"\", \"Close\",\"5\",\"0\",\"PrimaryOnly\",,,\"False\",\"T\",\"EveryTick\")","v":162.80000000000001},{"$f":"IFERROR((L1-$G$4)/$G$4,NA())","v":-6.5901879423967786E-3},{"$f":"RTD(\"cqg.rtd\",,\"StudyData\", \"Close(\"&$D$12&\") when LocalYear(\"&$D$12&\")=\"&$D$4&\" and localMonth(\"&$D$12&\") =\"&$E$4&\" and LocalDay(\"&$D$12&\")=\"&$F$4&\" and Barix(\"&$D$12&\",reference:=StartOfSession)=\"&A1&\"\", \"Bar\", \"\", \"Close\",\"5\",\"0\",\"PrimaryOnly\",,,\"False\",\"T\",\"EveryTick\")","v":163.31},{"$f":"IFERROR((N1-$G$5)/$G$5,NA())","v":-1.8366597281744299E-4},{"$f":"RTD(\"cqg.rtd\",,\"StudyData\", \"Close(\"&$D$12&\") when LocalYear(\"&$D$12&\")=\"&$D$5&\" and localMonth(\"&$D$12&\") =\"&$E$5&\" and LocalDay(\"&$D$12&\")=\"&$F$5&\" and Barix(\"&$D$12&\",reference:=StartOfSession)=\"&A1&\"\", \"Bar\", \"\", \"Close\",\"5\",\"0\",\"PrimaryOnly\",,,\"False\",\"T\",\"EveryTick\")","v":163.05000000000001},{"$f":"IFERROR((P1-$G$6)/$G$6,NA())","v":5.4884065120869192E-3},{"$f":"RTD(\"cqg.rtd\",,\"StudyData\", \"Close(\"&$D$12&\") when LocalYear(\"&$D$12&\")=\"&$D$6&\" and localMonth(\"&$D$12&\") =\"&$E$6&\" and LocalDay(\"&$D$12&\")=\"&$F$6&\" and Barix(\"&$D$12&\",reference:=StartOfSession)=\"&A1&\"\", \"Bar\", \"\", \"Close\",\"5\",\"0\",\"PrimaryOnly\",,,\"False\",\"T\",\"EveryTick\")","v":160.32},{"$f":"IFERROR((R1-$G$7)/$G$7,NA())","v":-1.681300205492311E-3},{"$f":"RTD(\"cqg.rtd\",,\"StudyData\", \"Close(\"&$D$12&\") when LocalYear(\"&$D$12&\")=\"&$D$7&\" and localMonth(\"&$D$12&\") =\"&$E$7&\" and LocalDay(\"&$D$12&\")=\"&$F$7&\" and Barix(\"&$D$12&\",reference:=StartOfSession)=\"&A1&\"\", \"Bar\", \"\", \"Close\",\"5\",\"0\",\"PrimaryOnly\",,,\"False\",\"T\",\"EveryTick\")","v":159.32},{"$f":"IFERROR((T1-$G$8)/$G$8,NA())","v":6.2527632160675846E-3},{"$f":"RTD(\"cqg.rtd\",,\"StudyData\", \"Close(\"&$D$12&\") when LocalYear(\"&$D$12&\")=\"&$D$8&\" and localMonth(\"&$D$12&\") =\"&$E$8&\" and LocalDay(\"&$D$12&\")=\"&$F$8&\" and Barix(\"&$D$12&\",reference:=StartOfSession)=\"&A1&\"\", \"Bar\", \"\", \"Close\",\"5\",\"0\",\"PrimaryOnly\",,,\"False\",\"T\",\"EveryTick\")","v":160.11000000000001},{"$f":"IFERROR((V1-$G$9)/$G$9,NA())","v":1.4385789342007643E-3},{"$f":"RTD(\"cqg.rtd\",,\"StudyData\", \"Close(\"&$D$12&\") when LocalYear(\"&$D$12&\")=\"&$D$9&\" and localMonth(\"&$D$12&\") =\"&$E$9&\" and LocalDay(\"&$D$12&\")=\"&$F$9&\" and Barix(\"&$D$12&\",reference:=StartOfSession)=\"&A1&\"\", \"Bar\", \"\", \"Close\",\"5\",\"0\",\"PrimaryOnly\",,,\"False\",\"T\",\"EveryTick\")","v":157.19999999999999},{"$f":"IFERROR((X1-$G$10)/$G$10,NA())","v":-7.8889239507731156E-3},{"$f":"RTD(\"cqg.rtd\",,\"StudyData\", \"Close(\"&$D$12&\") when LocalYear(\"&$D$12&\")=\"&$D$10&\" and localMonth(\"&$D$12&\") =\"&$E$10&\" and LocalDay(\"&$D$12&\")=\"&$F$10&\" and Barix(\"&$D$12&\",reference:=StartOfSession)=\"&A1&\"\", \"Bar\", \"\", \"Close\",\"5\",\"0\",\"PrimaryOnly\",,,\"False\",\"T\",\"EveryTick\")","v":159.01},{"$f":"IFERROR((Z1-$G$11)/$G$11,NA())","v":5.501454407487066E-3},{"$f":"RANK(AD1,$AD$1:$AD$10)+COUNTIF($AD$1:AD1,AD1)-1","v":8},{"$f":"DATE(D1,E1,F1)","v":"2018-07-13"},{"$f":"IFERROR(VLOOKUP(MAX(AE2:AE81),A1:I81,9,FALSE),\"\")","v":-6.0302719652670042E-4},null,1,{"$f":"VLOOKUP(AF1,$AB$1:$AD$10,2,FALSE)","v":"2018-07-12"},{"$f":"VLOOKUP(AF1,$AB$1:$AD$10,3,FALSE)","v":1.5433806800713219E-2},null,null,{"$f":"AG1","v":"2018-07-12"},{"$f":"AC1","v":"2018-07-13"},0,{"$f":"VLOOKUP(AK1,$AL$1:$AM$10,2,FALSE)","v":1}]
[{"$f":"A1+1","v":1},"08:35:00",{"$f":" RTD(\"cqg.rtd\",,\"StudyData\",$D$12, \"Bar\", \"\", \"Time\",\"D\",\"-1\",,,,,\"T\")","v":"2018-07-12"},{"$f":"YEAR(C2)","v":2018},{"$f":"MONTH(C2)","v":7},{"$f":"DAY(C2)","v":12},{"$f":"RTD(\"cqg.rtd\",,\"StudyData\",$D$12,\"Bar\",,\"Close\",\"D\",\"-1\",,,,,\"T\")","v":165.83},{"$f":"RTD(\"cqg.rtd\",,\"StudyData\", \"Close(\"&$D$12&\") when LocalYear(\"&$D$12&\")=\"&$D$1&\" and localMonth(\"&$D$12&\") =\"&$E$1&\" and LocalDay(\"&$D$12&\")=\"&$F$1&\" and Barix(\"&$D$12&\",reference:=StartOfSession)=\"&A2&\"\", \"Bar\", \"\", \"Close\",\"5\",\"0\",\"PrimaryOnly\",,,\"False\",\"T\",\"EveryTick\")","v":165.9},{"$f":"IFERROR((H2-$G$2)/$G$2,NA())","v":4.2211903756855318E-4},{"$f":"RTD(\"cqg.rtd\",,\"StudyData\", \"Close(\"&$D$12&\") when LocalYear(\"&$D$12&\")=\"&$D$2&\" and localMonth(\"&$D$12&\") =\"&$E$2&\" and LocalDay(\"&$D$12&\")=\"&$F$2&\" and Barix(\"&$D$12&\",reference:=StartOfSession)=\"&A2&\"\", \"Bar\", \"\", \"Close\",\"5\",\"0\",\"PrimaryOnly\",,,\"False\",\"T\",\"EveryTick\")","v":163.78},{"$f":"IFERROR((J2-$G$3)/$G$3,NA())","v":7.0712660640718543E-3},{"$f":"RTD(\"cqg.rtd\",,\"StudyData\", \"Close(\"&$D$12&\") when LocalYear(\"&$D$12&\")=\"&$D$3&\" and localMonth(\"&$D$12&\") =\"&$E$3&\" and LocalDay(\"&$D$12&\")=\"&$F$3&\" and Barix(\"&$D$12&\",reference:=StartOfSession)=\"&A2&\"\", \"Bar\", \"\", \"Close\",\"5\",\"0\",\"PrimaryOnly\",,,\"False\",\"T\",\"EveryTick\")","v":163.05000000000001},{"$f":"IFERROR((L2-$G$4)/$G$4,NA())","v":-5.0646814742493539E-3},{"$f":"RTD(\"cqg.rtd\",,\"StudyData\", \"Close(\"&$D$12&\") when LocalYear(\"&$D$12&\")=\"&$D$4&\" and localMonth(\"&$D$12&\") =\"&$E$4&\" and LocalDay(\"&$D$12&\")=\"&$F$4&\" and Barix(\"&$D$12&\",reference:=StartOfSession)=\"&A2&\"\", \"Bar\", \"\", \"Close\",\"5\",\"0\",\"PrimaryOnly\",,,\"False\",\"T\",\"EveryTick\")","v":163.69},{"$f":"IFERROR((N2-$G$5)/$G$5,NA())","v":2.1427696828700523E-3},{"$f":"RTD(\"cqg.rtd\",,\"StudyData\", \"Close(\"&$D$12&\") when LocalYear(\"&$D$12&\")=\"&$D$5&\" and localMonth(\"&$D$12&\") =\"&$E$5&\" and LocalDay(\"&$D$12&\")=\"&$F$5&\" and Barix(\"&$D$12&\",reference:=StartOfSession)=\"&A2&\"\", \"Bar\", \"\", \"Close\",\"5\",\"0\",\"PrimaryOnly\",,,\"False\",\"T\",\"EveryTick\")","v":162.91},{"$f":"IFERROR((P2-$G$6)/$G$6,NA())","v":4.6250616674888998E-3},{"$f":"RTD(\"cqg.rtd\",,\"StudyData\", \"Close(\"&$D$12&\") when LocalYear(\"&$D$12&\")=\"&$D$6&\" and localMonth(\"&$D$12&\") =\"&$E$6&\" and LocalDay(\"&$D$12&\")=\"&$F$6&\" and Barix(\"&$D$12&\",reference:=StartOfSession)=\"&A2&\"\", \"Bar\", \"\", \"Close\",\"5\",\"0\",\"PrimaryOnly\",,,\"False\",\"T\",\"EveryTick\")","v":160.57},{"$f":"IFERROR((R2-$G$7)/$G$7,NA())","v":-1.2454075596245241E-4},{"$f":"RTD(\"cqg.rtd\",,\"StudyData\", \"Close(\"&$D$12&\") when LocalYear(\"&$D$12&\")=\"&$D$7&\" and localMonth(\"&$D$12&\") =\"&$E$7&\" and LocalDay(\"&$D$12&\")=\"&$F$7&\" and Barix(\"&$D$12&\",reference:=StartOfSession)=\"&A2&\"\", \"Bar\", \"\", \"Close\",\"5\",\"0\",\"PrimaryOnly\",,,\"False\",\"T\",\"EveryTick\")","v":159.34},{"$f":"IFERROR((T2-$G$8)/$G$8,NA())","v":6.3790816648770969E-3},{"$f":"RTD(\"cqg.rtd\",,\"StudyData\", \"Close(\"&$D$12&\") when LocalYear(\"&$D$12&\")=\"&$D$8&\" and localMonth(\"&$D$12&\") =\"&$E$8&\" and LocalDay(\"&$D$12&\")=\"&$F$8&\" and Barix(\"&$D$12&\",reference:=StartOfSession)=\"&A2&\"\", \"Bar\", \"\", \"Close\",\"5\",\"0\",\"PrimaryOnly\",,,\"False\",\"T\",\"EveryTick\")","v":159.66},{"$f":"IFERROR((V2-$G$9)/$G$9,NA())","v":-1.3760320240180065E-3},{"$f":"RTD(\"cqg.rtd\",,\"StudyData\", \"Close(\"&$D$12&\") when LocalYear(\"&$D$12&\")=\"&$D$9&\" and localMonth(\"&$D$12&\") =\"&$E$9&\" and LocalDay(\"&$D$12&\")=\"&$F$9&\" and Barix(\"&$D$12&\",reference:=StartOfSession)=\"&A2&\"\", \"Bar\", \"\", \"Close\",\"5\",\"0\",\"PrimaryOnly\",,,\"False\",\"T\",\"EveryTick\")","v":157.38999999999999},{"$f":"IFERROR((X2-$G$10)/$G$10,NA())","v":-6.6898075102556163E-3},{"$f":"RTD(\"cqg.rtd\",,\"StudyData\", \"Close(\"&$D$12&\") when LocalYear(\"&$D$12&\")=\"&$D$10&\" and localMonth(\"&$D$12&\") =\"&$E$10&\" and LocalDay(\"&$D$12&\")=\"&$F$10&\" and Barix(\"&$D$12&\",reference:=StartOfSession)=\"&A2&\"\", \"Bar\", \"\", \"Close\",\"5\",\"0\",\"PrimaryOnly\",,,\"False\",\"T\",\"EveryTick\")","v":158.82},{"$f":"IFERROR((Z2-$G$11)/$G$11,NA())","v":4.2999873529784172E-3},{"$f":"RANK(AD2,$AD$1:$AD$10)+COUNTIF($AD$1:AD2,AD2)-1","v":1},{"$f":"DATE(D2,E2,F2)","v":"2018-07-12"},{"$f":"IFERROR(VLOOKUP(MAX(AE2:AE81),A1:K81,11,FALSE),\"\")","v":1.5433806800713219E-2},{"$f":"IF(AND(H1<>\"\",H2<>\"\",H3=\"\"),A2,\"\")","v":""},2,{"$f":"VLOOKUP(AF2,$AB$1:$AD$10,2,FALSE)","v":"2018-06-29"},{"$f":"VLOOKUP(AF2,$AB$1:$AD$10,3,FALSE)","v":8.4735044896926993E-3},null,null,{"$f":"AG2","v":"2018-06-29"},{"$f":"AC2","v":"2018-07-12"},1,{"$f":"VLOOKUP(AK2,$AL$1:$AM$10,2,FALSE)","v":9}]
[{"$f":"A2+1","v":2},"08:40:00",{"$f":" RTD(\"cqg.rtd\",,\"StudyData\",$D$12, \"Bar\", \"\", \"Time\",\"D\",\"-2\",,,,,\"T\")","v":"2018-07-11"},2018,7,11,{"$f":"RTD(\"cqg.rtd\",,\"StudyData\",$D$12,\"Bar\",,\"Close\",\"D\",\"-2\",,,,,\"T\")","v":162.63},{"$f":"RTD(\"cqg.rtd\",,\"StudyData\", \"Close(\"&$D$12&\") when LocalYear(\"&$D$12&\")=\"&$D$1&\" and localMonth(\"&$D$12&\") =\"&$E$1&\" and LocalDay(\"&$D$12&\")=\"&$F$1&\" and Barix(\"&$D$12&\",reference:=StartOfSession)=\"&A3&\"\", \"Bar\", \"\", \"Close\",\"5\",\"0\",\"PrimaryOnly\",,,\"False\",\"T\",\"EveryTick\")","v":165.65},{"$f":"IFERROR((H3-$G$2)/$G$2,NA())","v":-1.0854489537478551E-3},{"$f":"RTD(\"cqg.rtd\",,\"StudyData\", \"Close(\"&$D$12&\") when LocalYear(\"&$D$12&\")=\"&$D$2&\" and localMonth(\"&$D$12&\") =\"&$E$2&\" and LocalDay(\"&$D$12&\")=\"&$F$2&\" and Barix(\"&$D$12&\",reference:=StartOfSession)=\"&A3&\"\", \"Bar\", \"\", \"Close\",\"5\",\"0\",\"PrimaryOnly\",,,\"False\",\"T\",\"EveryTick\")","v":163.78},7.0712660640718543E-3,{"$f":"RTD(\"cqg.rtd\",,\"StudyData\", \"Close(\"&$D$12&\") when LocalYear(\"&$D$12&\")=\"&$D$3&\" and localMonth(\"&$D$12&\") =\"&$E$3&\" and LocalDay(\"&$D$12&\")=\"&$F$3&\" and Barix(\"&$D$12&\",reference:=StartOfSession)=\"&A3&\"\", \"Bar\", \"\", \"Close\",\"5\",\"0\",\"PrimaryOnly\",,,\"False\",\"T\",\"EveryTick\")","v":162.75},-6.8952892360263328E-3,{"$f":"RTD(\"cqg.rtd\",,\"StudyData\", \"Close(\"&$D$12&\") when LocalYear(\"&$D$12&\")=\"&$D$4&\" and localMonth(\"&$D$12&\") =\"&$E$4&\" and LocalDay(\"&$D$12&\")=\"&$F$4&\" and Barix(\"&$D$12&\",reference:=StartOfSession)=\"&A3&\"\", \"Bar\", \"\", \"Close\",\"5\",\"0\",\"PrimaryOnly\",,,\"False\",\"T\",\"EveryTick\")","v":163.69},2.1427696828700523E-3,{"$f":"RTD(\"cqg.rtd\",,\"StudyData\", \"Close(\"&$D$12&\") when LocalYear(\"&$D$12&\")=\"&$D$5&\" and localMonth(\"&$D$12&\") =\"&$E$5&\" and LocalDay(\"&$D$12&\")=\"&$F$5&\" and Barix(\"&$D$12&\",reference:=StartOfSession)=\"&A3&\"\", \"Bar\", \"\", \"Close\",\"5\",\"0\",\"PrimaryOnly\",,,\"False\",\"T\",\"EveryTick\")","v":162.99},5.1184015786877929E-3,{"$f":"RTD(\"cqg.rtd\",,\"StudyData\", \"Close(\"&$D$12&\") when LocalYear(\"&$D$12&\")=\"&$D$6&\" and localMonth(\"&$D$12&\") =\"&$E$6&\" and LocalDay(\"&$D$12&\")=\"&$F$6&\" and Barix(\"&$D$12&\",reference:=StartOfSession)=\"&A3&\"\", \"Bar\", \"\", \"Close\",\"5\",\"0\",\"PrimaryOnly\",,,\"False\",\"T\",\"EveryTick\")","v":160.66},4.3589264586831793E-4,{"$f":"RTD(\"cqg.rtd\",,\"StudyData\", \"Close(\"&$D$12&\") when LocalYear(\"&$D$12&\")=\"&$D$7&\" and localMonth(\"&$D$12&\") =\"&$E$7&\" and LocalDay(\"&$D$12&\")=\"&$F$7&\" and Barix(\"&$D$12&\",reference:=StartOfSession)=\"&A3&\"\", \"Bar\", \"\", \"Close\",\"5\",\"0\",\"PrimaryOnly\",,,\"False\",\"T\",\"EveryTick\")","v":159.34},6.3790816648770969E-3,{"$f":"RTD(\"cqg.rtd\",,\"StudyData\", \"Close(\"&$D$12&\") when LocalYear(\"&$D$12&\")=\"&$D$8&\" and localMonth(\"&$D$12&\") =\"&$E$8&\" and LocalDay(\"&$D$12&\")=\"&$F$8&\" and Barix(\"&$D$12&\",reference:=StartOfSession)=\"&A3&\"\", \"Bar\", \"\", \"Close\",\"5\",\"0\",\"PrimaryOnly\",,,\"False\",\"T\",\"EveryTick\")","v":159.52000000000001},-2.2516887665748387E-3,{"$f":"RTD(\"cqg.rtd\",,\"StudyData\", \"Close(\"&$D$12&\") when LocalYear(\"&$D$12&\")=\"&$D$9&\" and localMonth(\"&$D$12&\") =\"&$E$9&\" and LocalDay(\"&$D$12&\")=\"&$F$9&\" and Barix(\"&$D$12&\",reference:=StartOfSession)=\"&A3&\"\", \"Bar\", \"\", \"Close\",\"5\",\"0\",\"PrimaryOnly\",,,\"False\",\"T\",\"EveryTick\")","v":157.44},-6.3742505522246199E-3,{"$f":"RTD(\"cqg.rtd\",,\"StudyData\", \"Close(\"&$D$12&\") when LocalYear(\"&$D$12&\")=\"&$D$10&\" and localMonth(\"&$D$12&\") =\"&$E$10&\" and LocalDay(\"&$D$12&\")=\"&$F$10&\" and Barix(\"&$D$12&\",reference:=StartOfSession)=\"&A3&\"\", \"Bar\", \"\", \"Close\",\"5\",\"0\",\"PrimaryOnly\",,,\"False\",\"T\",\"EveryTick\")","v":158.91},4.869103326166753E-3,{"$f":"RANK(AD3,$AD$1:$AD$10)+COUNTIF($AD$1:AD3,AD3)-1","v":10},"2018-07-11",{"$f":"IFERROR(VLOOKUP(MAX(AE2:AE81),A1:M81,13,FALSE),\"\")","v":-8.176714669270219E-3},{"$f":"IF(AND(H2<>\"\",H3<>\"\",H4=\"\"),A3,\"\")","v":""},3,"2018-07-06",6.5383896880253003E-3,null,null,"2018-07-06","2018-07-11",2,5]
[3,"08:45:00",{"$f":" RTD(\"cqg.rtd\",,\"StudyData\",$D$12, \"Bar\", \"\", \"Time\",\"D\",\"-3\",,,,,\"T\")","v":"2018-07-10"},2018,7,10,{"$f":"RTD(\"cqg.rtd\",,\"StudyData\",$D$12,\"Bar\",,\"Close\",\"D\",\"-3\",,,,,\"T\")","v":163.88},{"$f":"RTD(\"cqg.rtd\",,\"StudyData\", \"Close(\"&$D$12&\") when LocalYear(\"&$D$12&\")=\"&$D$1&\" and localMonth(\"&$D$12&\") =\"&$E$1&\" and LocalDay(\"&$D$12&\")=\"&$F$1&\" and Barix(\"&$D$12&\",reference:=StartOfSession)=\"&A4&\"\", \"Bar\", \"\", \"Close\",\"5\",\"0\",\"PrimaryOnly\",,,\"False\",\"T\",\"EveryTick\")","v":165.65},-1.0854489537478551E-3,{"$f":"RTD(\"cqg.rtd\",,\"StudyData\", \"Close(\"&$D$12&\") when LocalYear(\"&$D$12&\")=\"&$D$2&\" and localMonth(\"&$D$12&\") =\"&$E$2&\" and LocalDay(\"&$D$12&\")=\"&$F$2&\" and Barix(\"&$D$12&\",reference:=StartOfSession)=\"&A4&\"\", \"Bar\", \"\", \"Close\",\"5\",\"0\",\"PrimaryOnly\",,,\"False\",\"T\",\"EveryTick\")","v":164.09},8.9774334378651417E-3,{"$f":"RTD(\"cqg.rtd\",,\"StudyData\", \"Close(\"&$D$12&\") when LocalYear(\"&$D$12&\")=\"&$D$3&\" and localMonth(\"&$D$12&\") =\"&$E$3&\" and LocalDay(\"&$D$12&\")=\"&$F$3&\" and Barix(\"&$D$12&\",reference:=StartOfSession)=\"&A4&\"\", \"Bar\", \"\", \"Close\",\"5\",\"0\",\"PrimaryOnly\",,,\"False\",\"T\",\"EveryTick\")","v":162.74},-6.9563094947521749E-3,{"$f":"RTD(\"cqg.rtd\",,\"StudyData\", \"Close(\"&$D$12&\") when LocalYear(\"&$D$12&\")=\"&$D$4&\" and localMonth(\"&$D$12&\") =\"&$E$4&\" and LocalDay(\"&$D$12&\")=\"&$F$4&\" and Barix(\"&$D$12&\",reference:=StartOfSession)=\"&A4&\"\", \"Bar\", \"\", \"Close\",\"5\",\"0\",\"PrimaryOnly\",,,\"False\",\"T\",\"EveryTick\")","v":163.69},2.1427696828700523E-3,{"$f":"RTD(\"cqg.rtd\",,\"StudyData\", \"Close(\"&$D$12&\") when LocalYear(\"&$D$12&\")=\"&$D$5&\" and localMonth(\"&$D$12&\") =\"&$E$5&\" and LocalDay(\"&$D$12&\")=\"&$F$5&\" and Barix(\"&$D$12&\",reference:=StartOfSession)=\"&A4&\"\", \"Bar\", \"\", \"Close\",\"5\",\"0\",\"PrimaryOnly\",,,\"False\",\"T\",\"EveryTick\")","v":162.93},4.7483966452886673E-3,{"$f":"RTD(\"cqg.rtd\",,\"StudyData\", \"Close(\"&$D$12&\") when LocalYear(\"&$D$12&\")=\"&$D$6&\" and localMonth(\"&$D$12&\") =\"&$E$6&\" and LocalDay(\"&$D$12&\")=\"&$F$6&\" and Barix(\"&$D$12&\",reference:=StartOfSession)=\"&A4&\"\", \"Bar\", \"\", \"Close\",\"5\",\"0\",\"PrimaryOnly\",,,\"False\",\"T\",\"EveryTick\")","v":160.54},-3.1135188990604254E-4,{"$f":"RTD(\"cqg.rtd\",,\"StudyData\", \"Close(\"&$D$12&\") when LocalYear(\"&$D$12&\")=\"&$D$7&\" and localMonth(\"&$D$12&\") =\"&$E$7&\" and LocalDay(\"&$D$12&\")=\"&$F$7&\" and Barix(\"&$D$12&\",reference:=StartOfSession)=\"&A4&\"\", \"Bar\", \"\", \"Close\",\"5\",\"0\",\"PrimaryOnly\",,,\"False\",\"T\",\"EveryTick\")","v":159.52000000000001},7.5159477041621776E-3,{"$f":"RTD(\"cqg.rtd\",,\"StudyData\", \"Close(\"&$D$12&\") when LocalYear(\"&$D$12&\")=\"&$D$8&\" and localMonth(\"&$D$12&\") =\"&$E$8&\" and LocalDay(\"&$D$12&\")=\"&$F$8&\" and Barix(\"&$D$12&\",reference:=StartOfSession)=\"&A4&\"\", \"Bar\", \"\", \"Close\",\"5\",\"0\",\"PrimaryOnly\",,,\"False\",\"T\",\"EveryTick\")","v":159.68},-1.2509382036526686E-3,{"$f":"RTD(\"cqg.rtd\",,\"StudyData\", \"Close(\"&$D$12&\") when LocalYear(\"&$D$12&\")=\"&$D$9&\" and localMonth(\"&$D$12&\") =\"&$E$9&\" and LocalDay(\"&$D$12&\")=\"&$F$9&\" and Barix(\"&$D$12&\",reference:=StartOfSession)=\"&A4&\"\", \"Bar\", \"\", \"Close\",\"5\",\"0\",\"PrimaryOnly\",,,\"False\",\"T\",\"EveryTick\")","v":157.87},-3.660460713158625E-3,{"$f":"RTD(\"cqg.rtd\",,\"StudyData\", \"Close(\"&$D$12&\") when LocalYear(\"&$D$12&\")=\"&$D$10&\" and localMonth(\"&$D$12&\") =\"&$E$10&\" and LocalDay(\"&$D$12&\")=\"&$F$10&\" and Barix(\"&$D$12&\",reference:=StartOfSession)=\"&A4&\"\", \"Bar\", \"\", \"Close\",\"5\",\"0\",\"PrimaryOnly\",,,\"False\",\"T\",\"EveryTick\")","v":159.16999999999999},6.5132161375996032E-3,{"$f":"RANK(AD4,$AD$1:$AD$10)+COUNTIF($AD$1:AD4,AD4)-1","v":5},"2018-07-10",{"$f":"IFERROR(VLOOKUP(MAX(AE2:AE81),A1:O81,15,FALSE),\"\")","v":2.7549895922614706E-3},"",4,"2018-07-05",6.1896039916629177E-3,null,null,"2018-07-05","2018-07-10",3,6]
[4,"08:50:00",{"$f":" RTD(\"cqg.rtd\",,\"StudyData\",$D$12, \"Bar\", \"\", \"Time\",\"D\",\"-4\",,,,,\"T\")","v":"2018-07-09"},2018,7,9,{"$f":"RTD(\"cqg.rtd\",,\"StudyData\",$D$12,\"Bar\",,\"Close\",\"D\",\"-4\",,,,,\"T\")","v":163.34},{"$f":"RTD(\"cqg.rtd\",,\"StudyData\", \"Close(\"&$D$12&\") when LocalYear(\"&$D$12&\")=\"&$D$1&\" and localMonth(\"&$D$12&\") =\"&$E$1&\" and LocalDay(\"&$D$12&\")=\"&$F$1&\" and Barix(\"&$D$12&\",reference:=StartOfSession)=\"&A5&\"\", \"Bar\", \"\", \"Close\",\"5\",\"0\",\"PrimaryOnly\",,,\"False\",\"T\",\"EveryTick\")","v":165.03},-4.8242175722125746E-3,{"$f":"RTD(\"cqg.rtd\",,\"StudyData\", \"Close(\"&$D$12&\") when LocalYear(\"&$D$12&\")=\"&$D$2&\" and localMonth(\"&$D$12&\") =\"&$E$2&\" and LocalDay(\"&$D$12&\")=\"&$F$2&\" and Barix(\"&$D$12&\",reference:=StartOfSession)=\"&A5&\"\", \"Bar\", \"\", \"Close\",\"5\",\"0\",\"PrimaryOnly\",,,\"False\",\"T\",\"EveryTick\")","v":164.29},1.0207218840312345E-2,{"$f":"RTD(\"cqg.rtd\",,\"StudyData\", \"Close(\"&$D$12&\") when LocalYear(\"&$D$12&\")=\"&$D$3&\" and localMonth(\"&$D$12&\") =\"&$E$3&\" and LocalDay(\"&$D$12&\")=\"&$F$3&\" and Barix(\"&$D$12&\",reference:=StartOfSession)=\"&A5&\"\", \"Bar\", \"\", \"Close\",\"5\",\"0\",\"PrimaryOnly\",,,\"False\",\"T\",\"EveryTick\")","v":162.84},-6.3461069074932392E-3,{"$f":"RTD(\"cqg.rtd\",,\"StudyData\", \"Close(\"&$D$12&\") when LocalYear(\"&$D$12&\")=\"&$D$4&\" and localMonth(\"&$D$12&\") =\"&$E$4&\" and LocalDay(\"&$D$12&\")=\"&$F$4&\" and Barix(\"&$D$12&\",reference:=StartOfSession)=\"&A5&\"\", \"Bar\", \"\", \"Close\",\"5\",\"0\",\"PrimaryOnly\",,,\"False\",\"T\",\"EveryTick\")","v":163.55000000000001},1.2856618097221008E-3,{"$f":"RTD(\"cqg.rtd\",,\"StudyData\", \"Close(\"&$D$12&\") when LocalYear(\"&$D$12&\")=\"&$D$5&\" and localMonth(\"&$D$12&\") =\"&$E$5&\" and LocalDay(\"&$D$12&\")=\"&$F$5&\" and Barix(\"&$D$12&\",reference:=StartOfSession)=\"&A5&\"\", \"Bar\", \"\", \"Close\",\"5\",\"0\",\"PrimaryOnly\",,,\"False\",\"T\",\"EveryTick\")","v":162.5},2.0966946225949891E-3,{"$f":"RTD(\"cqg.rtd\",,\"StudyData\", \"Close(\"&$D$12&\") when LocalYear(\"&$D$12&\")=\"&$D$6&\" and localMonth(\"&$D$12&\") =\"&$E$6&\" and LocalDay(\"&$D$12&\")=\"&$F$6&\" and Barix(\"&$D$12&\",reference:=StartOfSession)=\"&A5&\"\", \"Bar\", \"\", \"Close\",\"5\",\"0\",\"PrimaryOnly\",,,\"False\",\"T\",\"EveryTick\")","v":160.63},2.4908151192472782E-4,{"$f":"RTD(\"cqg.rtd\",,\"StudyData\", \"Close(\"&$D$12&\") when LocalYear(\"&$D$12&\")=\"&$D$7&\" and localMonth(\"&$D$12&\") =\"&$E$7&\" and LocalDay(\"&$D$12&\")=\"&$F$7&\" and Barix(\"&$D$12&\",reference:=StartOfSession)=\"&A5&\"\", \"Bar\", \"\", \"Close\",\"5\",\"0\",\"PrimaryOnly\",,,\"False\",\"T\",\"EveryTick\")","v":159.19999999999999},5.4948525232108641E-3,{"$f":"RTD(\"cqg.rtd\",,\"StudyData\", \"Close(\"&$D$12&\") when LocalYear(\"&$D$12&\")=\"&$D$8&\" and localMonth(\"&$D$12&\") =\"&$E$8&\" and LocalDay(\"&$D$12&\")=\"&$F$8&\" and Barix(\"&$D$12&\",reference:=StartOfSession)=\"&A5&\"\", \"Bar\", \"\", \"Close\",\"5\",\"0\",\"PrimaryOnly\",,,\"False\",\"T\",\"EveryTick\")","v":159.65},-1.4385789342005865E-3,{"$f":"RTD(\"cqg.rtd\",,\"StudyData\", \"Close(\"&$D$12&\") when LocalYear(\"&$D$12&\")=\"&$D$9&\" and localMonth(\"&$D$12&\") =\"&$E$9&\" and LocalDay(\"&$D$12&\")=\"&$F$9&\" and Barix(\"&$D$12&\",reference:=StartOfSession)=\"&A5&\"\", \"Bar\", \"\", \"Close\",\"5\",\"0\",\"PrimaryOnly\",,,\"False\",\"T\",\"EveryTick\")","v":157.79},-4.1653518460081831E-3,{"$f":"RTD(\"cqg.rtd\",,\"StudyData\", \"Close(\"&$D$12&\") when LocalYear(\"&$D$12&\")=\"&$D$10&\" and localMonth(\"&$D$12&\") =\"&$E$10&\" and LocalDay(\"&$D$12&\")=\"&$F$10&\" and Barix(\"&$D$12&\",reference:=StartOfSession)=\"&A5&\"\", \"Bar\", \"\", \"Close\",\"5\",\"0\",\"PrimaryOnly\",,,\"False\",\"T\",\"EveryTick\")","v":159},5.4382192993550887E-3,{"$f":"RANK(AD5,$AD$1:$AD$10)+COUNTIF($AD$1:AD5,AD5)-1","v":6},"2018-07-09",{"$f":"IFERROR(VLOOKUP(MAX(AE2:AE81),A1:Q81,17,FALSE),\"\")","v":8.0167735569804794E-4},"",5,"2018-07-10",2.7549895922614706E-3,null,null,"2018-07-10","2018-07-09",4,3]
[5,"08:55:00",{"$f":" RTD(\"cqg.rtd\",,\"StudyData\",$D$12, \"Bar\", \"\", \"Time\",\"D\",\"-5\",,,,,\"T\")","v":"2018-07-06"},2018,7,6,{"$f":"RTD(\"cqg.rtd\",,\"StudyData\",$D$12,\"Bar\",,\"Close\",\"D\",\"-5\",,,,,\"T\")","v":162.16},{"$f":"RTD(\"cqg.rtd\",,\"StudyData\", \"Close(\"&$D$12&\") when LocalYear(\"&$D$12&\")=\"&$D$1&\" and localMonth(\"&$D$12&\") =\"&$E$1&\" and LocalDay(\"&$D$12&\")=\"&$F$1&\" and Barix(\"&$D$12&\",reference:=StartOfSession)=\"&A6&\"\", \"Bar\", \"\", \"Close\",\"5\",\"0\",\"PrimaryOnly\",,,\"False\",\"T\",\"EveryTick\")","v":164.99},-5.0654284508231525E-3,{"$f":"RTD(\"cqg.rtd\",,\"StudyData\", \"Close(\"&$D$12&\") when LocalYear(\"&$D$12&\")=\"&$D$2&\" and localMonth(\"&$D$12&\") =\"&$E$2&\" and LocalDay(\"&$D$12&\")=\"&$F$2&\" and Barix(\"&$D$12&\",reference:=StartOfSession)=\"&A6&\"\", \"Bar\", \"\", \"Close\",\"5\",\"0\",\"PrimaryOnly\",,,\"False\",\"T\",\"EveryTick\")","v":164.29},1.0207218840312345E-2,{"$f":"RTD(\"cqg.rtd\",,\"StudyData\", \"Close(\"&$D$12&\") when LocalYear(\"&$D$12&\")=\"&$D$3&\" and localMonth(\"&$D$12&\") =\"&$E$3&\" and LocalDay(\"&$D$12&\")=\"&$F$3&\" and Barix(\"&$D$12&\",reference:=StartOfSession)=\"&A6&\"\", \"Bar\", \"\", \"Close\",\"5\",\"0\",\"PrimaryOnly\",,,\"False\",\"T\",\"EveryTick\")","v":162.72999999999999},-7.0173297534781897E-3,{"$f":"RTD(\"cqg.rtd\",,\"StudyData\", \"Close(\"&$D$12&\") when LocalYear(\"&$D$12&\")=\"&$D$4&\" and localMonth(\"&$D$12&\") =\"&$E$4&\" and LocalDay(\"&$D$12&\")=\"&$F$4&\" and Barix(\"&$D$12&\",reference:=StartOfSession)=\"&A6&\"\", \"Bar\", \"\", \"Close\",\"5\",\"0\",\"PrimaryOnly\",,,\"False\",\"T\",\"EveryTick\")","v":163.47},7.958858822088616E-4,{"$f":"RTD(\"cqg.rtd\",,\"StudyData\", \"Close(\"&$D$12&\") when LocalYear(\"&$D$12&\")=\"&$D$5&\" and localMonth(\"&$D$12&\") =\"&$E$5&\" and LocalDay(\"&$D$12&\")=\"&$F$5&\" and Barix(\"&$D$12&\",reference:=StartOfSession)=\"&A6&\"\", \"Bar\", \"\", \"Close\",\"5\",\"0\",\"PrimaryOnly\",,,\"False\",\"T\",\"EveryTick\")","v":162.47},1.9116921558954259E-3,{"$f":"RTD(\"cqg.rtd\",,\"StudyData\", \"Close(\"&$D$12&\") when LocalYear(\"&$D$12&\")=\"&$D$6&\" and localMonth(\"&$D$12&\") =\"&$E$6&\" and LocalDay(\"&$D$12&\")=\"&$F$6&\" and Barix(\"&$D$12&\",reference:=StartOfSession)=\"&A6&\"\", \"Bar\", \"\", \"Close\",\"5\",\"0\",\"PrimaryOnly\",,,\"False\",\"T\",\"EveryTick\")","v":160.63999999999999},3.1135188990586554E-4,{"$f":"RTD(\"cqg.rtd\",,\"StudyData\", \"Close(\"&$D$12&\") when LocalYear(\"&$D$12&\")=\"&$D$7&\" and localMonth(\"&$D$12&\") =\"&$E$7&\" and LocalDay(\"&$D$12&\")=\"&$F$7&\" and Barix(\"&$D$12&\",reference:=StartOfSession)=\"&A6&\"\", \"Bar\", \"\", \"Close\",\"5\",\"0\",\"PrimaryOnly\",,,\"False\",\"T\",\"EveryTick\")","v":159.01},4.2948272595211166E-3,{"$f":"RTD(\"cqg.rtd\",,\"StudyData\", \"Close(\"&$D$12&\") when LocalYear(\"&$D$12&\")=\"&$D$8&\" and localMonth(\"&$D$12&\") =\"&$E$8&\" and LocalDay(\"&$D$12&\")=\"&$F$8&\" and Barix(\"&$D$12&\",reference:=StartOfSession)=\"&A6&\"\", \"Bar\", \"\", \"Close\",\"5\",\"0\",\"PrimaryOnly\",,,\"False\",\"T\",\"EveryTick\")","v":159.65},-1.4385789342005865E-3,{"$f":"RTD(\"cqg.rtd\",,\"StudyData\", \"Close(\"&$D$12&\") when LocalYear(\"&$D$12&\")=\"&$D$9&\" and localMonth(\"&$D$12&\") =\"&$E$9&\" and LocalDay(\"&$D$12&\")=\"&$F$9&\" and Barix(\"&$D$12&\",reference:=StartOfSession)=\"&A6&\"\", \"Bar\", \"\", \"Close\",\"5\",\"0\",\"PrimaryOnly\",,,\"False\",\"T\",\"EveryTick\")","v":157.78},-4.2284632376143111E-3,{"$f":"RTD(\"cqg.rtd\",,\"StudyData\", \"Close(\"&$D$12&\") when LocalYear(\"&$D$12&\")=\"&$D$10&\" and localMonth(\"&$D$12&\") =\"&$E$10&\" and LocalDay(\"&$D$12&\")=\"&$F$10&\" and Barix(\"&$D$12&\",reference:=StartOfSession)=\"&A6&\"\", \"Bar\", \"\", \"Close\",\"5\",\"0\",\"PrimaryOnly\",,,\"False\",\"T\",\"EveryTick\")","v":159},5.4382192993550887E-3,{"$f":"RANK(AD6,$AD$1:$AD$10)+COUNTIF($AD$1:AD6,AD6)-1","v":3},"2018-07-06",{"$f":"IFERROR(VLOOKUP(MAX(AE2:AE81),A1:S81,19,FALSE),\"\")","v":6.5383896880253003E-3},"",6,"2018-07-09",8.0167735569804794E-4,null,null,"2018-07-09","2018-07-06",5,4]
[6,"09:00:00",{"$f":" RTD(\"cqg.rtd\",,\"StudyData\",$D$12, \"Bar\", \"\", \"Time\",\"D\",\"-6\",,,,,\"T\")","v":"2018-07-05"},2018,7,5,{"$f":"RTD(\"cqg.rtd\",,\"StudyData\",$D$12,\"Bar\",,\"Close\",\"D\",\"-6\",,,,,\"T\")","v":160.59},{"$f":"RTD(\"cqg.rtd\",,\"StudyData\", \"Close(\"&$D$12&\") when LocalYear(\"&$D$12&\")=\"&$D$1&\" and localMonth(\"&$D$12&\") =\"&$E$1&\" and LocalDay(\"&$D$12&\")=\"&$F$1&\" and Barix(\"&$D$12&\",reference:=StartOfSession)=\"&A7&\"\", \"Bar\", \"\", \"Close\",\"5\",\"0\",\"PrimaryOnly\",,,\"False\",\"T\",\"EveryTick\")","v":165.36},-2.8342278236748405E-3,{"$f":"RTD(\"cqg.rtd\",,\"StudyData\", \"Close(\"&$D$12&\") when LocalYear(\"&$D$12&\")=\"&$D$2&\" and localMonth(\"&$D$12&\") =\"&$E$2&\" and LocalDay(\"&$D$12&\")=\"&$F$2&\" and Barix(\"&$D$12&\",reference:=StartOfSession)=\"&A7&\"\", \"Bar\", \"\", \"Close\",\"5\",\"0\",\"PrimaryOnly\",,,\"False\",\"T\",\"EveryTick\")","v":164.29},1.0207218840312345E-2,{"$f":"RTD(\"cqg.rtd\",,\"StudyData\", \"Close(\"&$D$12&\") when LocalYear(\"&$D$12&\")=\"&$D$3&\" and localMonth(\"&$D$12&\") =\"&$E$3&\" and LocalDay(\"&$D$12&\")=\"&$F$3&\" and Barix(\"&$D$12&\",reference:=StartOfSession)=\"&A7&\"\", \"Bar\", \"\", \"Close\",\"5\",\"0\",\"PrimaryOnly\",,,\"False\",\"T\",\"EveryTick\")","v":162.72999999999999},-7.0173297534781897E-3,{"$f":"RTD(\"cqg.rtd\",,\"StudyData\", \"Close(\"&$D$12&\") when LocalYear(\"&$D$12&\")=\"&$D$4&\" and localMonth(\"&$D$12&\") =\"&$E$4&\" and LocalDay(\"&$D$12&\")=\"&$F$4&\" and Barix(\"&$D$12&\",reference:=StartOfSession)=\"&A7&\"\", \"Bar\", \"\", \"Close\",\"5\",\"0\",\"PrimaryOnly\",,,\"False\",\"T\",\"EveryTick\")","v":163.58000000000001},1.4693277825395439E-3,{"$f":"RTD(\"cqg.rtd\",,\"StudyData\", \"Close(\"&$D$12&\") when LocalYear(\"&$D$12&\")=\"&$D$5&\" and localMonth(\"&$D$12&\") =\"&$E$5&\" and LocalDay(\"&$D$12&\")=\"&$F$5&\" and Barix(\"&$D$12&\",reference:=StartOfSession)=\"&A7&\"\", \"Bar\", \"\", \"Close\",\"5\",\"0\",\"PrimaryOnly\",,,\"False\",\"T\",\"EveryTick\")","v":162.37},1.295017266896941E-3,{"$f":"RTD(\"cqg.rtd\",,\"StudyData\", \"Close(\"&$D$12&\") when LocalYear(\"&$D$12&\")=\"&$D$6&\" and localMonth(\"&$D$12&\") =\"&$E$6&\" and LocalDay(\"&$D$12&\")=\"&$F$6&\" and Barix(\"&$D$12&\",reference:=StartOfSession)=\"&A7&\"\", \"Bar\", \"\", \"Close\",\"5\",\"0\",\"PrimaryOnly\",,,\"False\",\"T\",\"EveryTick\")","v":160.63999999999999},3.1135188990586554E-4,{"$f":"RTD(\"cqg.rtd\",,\"StudyData\", \"Close(\"&$D$12&\") when LocalYear(\"&$D$12&\")=\"&$D$7&\" and localMonth(\"&$D$12&\") =\"&$E$7&\" and LocalDay(\"&$D$12&\")=\"&$F$7&\" and Barix(\"&$D$12&\",reference:=StartOfSession)=\"&A7&\"\", \"Bar\", \"\", \"Close\",\"5\",\"0\",\"PrimaryOnly\",,,\"False\",\"T\",\"EveryTick\")","v":159.04},4.4843049327352967E-3,{"$f":"RTD(\"cqg.rtd\",,\"StudyData\", \"Close(\"&$D$12&\") when LocalYear(\"&$D$12&\")=\"&$D$8&\" and localMonth(\"&$D$12&\") =\"&$E$8&\" and LocalDay(\"&$D$12&\")=\"&$F$8&\" and Barix(\"&$D$12&\",reference:=StartOfSession)=\"&A7&\"\", \"Bar\", \"\", \"Close\",\"5\",\"0\",\"PrimaryOnly\",,,\"False\",\"T\",\"EveryTick\")","v":159.82},-3.7528146109583609E-4,{"$f":"RTD(\"cqg.rtd\",,\"StudyData\", \"Close(\"&$D$12&\") when LocalYear(\"&$D$12&\")=\"&$D$9&\" and localMonth(\"&$D$12&\") =\"&$E$9&\" and LocalDay(\"&$D$12&\")=\"&$F$9&\" and Barix(\"&$D$12&\",reference:=StartOfSession)=\"&A7&\"\", \"Bar\", \"\", \"Close\",\"5\",\"0\",\"PrimaryOnly\",,,\"False\",\"T\",\"EveryTick\")","v":158.03},-2.6506784474596879E-3,{"$f":"RTD(\"cqg.rtd\",,\"StudyData\", \"Close(\"&$D$12&\") when LocalYear(\"&$D$12&\")=\"&$D$10&\" and localMonth(\"&$D$12&\") =\"&$E$10&\" and LocalDay(\"&$D$12&\")=\"&$F$10&\" and Barix(\"&$D$12&\",reference:=StartOfSession)=\"&A7&\"\", \"Bar\", \"\", \"Close\",\"5\",\"0\",\"PrimaryOnly\",,,\"False\",\"T\",\"EveryTick\")","v":159},5.4382192993550887E-3,{"$f":"RANK(AD7,$AD$1:$AD$10)+COUNTIF($AD$1:AD7,AD7)-1","v":4},"2018-07-05",{"$f":"IFERROR(VLOOKUP(MAX(AE2:AE81),A1:U81,21,FALSE),\"\")","v":6.1896039916629177E-3},"",7,"2018-07-02",-1.2622278321225503E-4,null,null,"2018-07-02","2018-07-05",6,8]
[7,"09:05:00",{"$f":" RTD(\"cqg.rtd\",,\"StudyData\",$D$12, \"Bar\", \"\", \"Time\",\"D\",\"-7\",,,,,\"T\")","v":"2018-07-03"},2018,7,3,{"$f":"RTD(\"cqg.rtd\",,\"StudyData\",$D$12,\"Bar\",,\"Close\",\"D\",\"-7\",,,,,\"T\")","v":158.33000000000001},{"$f":"RTD(\"cqg.rtd\",,\"StudyData\", \"Close(\"&$D$12&\") when LocalYear(\"&$D$12&\")=\"&$D$1&\" and localMonth(\"&$D$12&\") =\"&$E$1&\" and LocalDay(\"&$D$12&\")=\"&$F$1&\" and Barix(\"&$D$12&\",reference:=StartOfSession)=\"&A8&\"\", \"Bar\", \"\", \"Close\",\"5\",\"0\",\"PrimaryOnly\",,,\"False\",\"T\",\"EveryTick\")","v":165.41},-2.5327142254116617E-3,{"$f":"RTD(\"cqg.rtd\",,\"StudyData\", \"Close(\"&$D$12&\") when LocalYear(\"&$D$12&\")=\"&$D$2&\" and localMonth(\"&$D$12&\") =\"&$E$2&\" and LocalDay(\"&$D$12&\")=\"&$F$2&\" and Barix(\"&$D$12&\",reference:=StartOfSession)=\"&A8&\"\", \"Bar\", \"\", \"Close\",\"5\",\"0\",\"PrimaryOnly\",,,\"False\",\"T\",\"EveryTick\")","v":164.29},1.0207218840312345E-2,{"$f":"RTD(\"cqg.rtd\",,\"StudyData\", \"Close(\"&$D$12&\") when LocalYear(\"&$D$12&\")=\"&$D$3&\" and localMonth(\"&$D$12&\") =\"&$E$3&\" and LocalDay(\"&$D$12&\")=\"&$F$3&\" and Barix(\"&$D$12&\",reference:=StartOfSession)=\"&A8&\"\", \"Bar\", \"\", \"Close\",\"5\",\"0\",\"PrimaryOnly\",,,\"False\",\"T\",\"EveryTick\")","v":162.72999999999999},-7.0173297534781897E-3,{"$f":"RTD(\"cqg.rtd\",,\"StudyData\", \"Close(\"&$D$12&\") when LocalYear(\"&$D$12&\")=\"&$D$4&\" and localMonth(\"&$D$12&\") =\"&$E$4&\" and LocalDay(\"&$D$12&\")=\"&$F$4&\" and Barix(\"&$D$12&\",reference:=StartOfSession)=\"&A8&\"\", \"Bar\", \"\", \"Close\",\"5\",\"0\",\"PrimaryOnly\",,,\"False\",\"T\",\"EveryTick\")","v":163.59},1.5305497734786335E-3,{"$f":"RTD(\"cqg.rtd\",,\"StudyData\", \"Close(\"&$D$12&\") when LocalYear(\"&$D$12&\")=\"&$D$5&\" and localMonth(\"&$D$12&\") =\"&$E$5&\" and LocalDay(\"&$D$12&\")=\"&$F$5&\" and Barix(\"&$D$12&\",reference:=StartOfSession)=\"&A8&\"\", \"Bar\", \"\", \"Close\",\"5\",\"0\",\"PrimaryOnly\",,,\"False\",\"T\",\"EveryTick\")","v":162.19999999999999},2.466699555993589E-4,{"$f":"RTD(\"cqg.rtd\",,\"StudyData\", \"Close(\"&$D$12&\") when LocalYear(\"&$D$12&\")=\"&$D$6&\" and localMonth(\"&$D$12&\") =\"&$E$6&\" and LocalDay(\"&$D$12&\")=\"&$F$6&\" and Barix(\"&$D$12&\",reference:=StartOfSession)=\"&A8&\"\", \"Bar\", \"\", \"Close\",\"5\",\"0\",\"PrimaryOnly\",,,\"False\",\"T\",\"EveryTick\")","v":160.81},1.3699483155862684E-3,{"$f":"RTD(\"cqg.rtd\",,\"StudyData\", \"Close(\"&$D$12&\") when LocalYear(\"&$D$12&\")=\"&$D$7&\" and localMonth(\"&$D$12&\") =\"&$E$7&\" and LocalDay(\"&$D$12&\")=\"&$F$7&\" and Barix(\"&$D$12&\",reference:=StartOfSession)=\"&A8&\"\", \"Bar\", \"\", \"Close\",\"5\",\"0\",\"PrimaryOnly\",,,\"False\",\"T\",\"EveryTick\")","v":159.24},5.7474894208298906E-3,{"$f":"RTD(\"cqg.rtd\",,\"StudyData\", \"Close(\"&$D$12&\") when LocalYear(\"&$D$12&\")=\"&$D$8&\" and localMonth(\"&$D$12&\") =\"&$E$8&\" and LocalDay(\"&$D$12&\")=\"&$F$8&\" and Barix(\"&$D$12&\",reference:=StartOfSession)=\"&A8&\"\", \"Bar\", \"\", \"Close\",\"5\",\"0\",\"PrimaryOnly\",,,\"False\",\"T\",\"EveryTick\")","v":159.79},-5.6292219164375413E-4,{"$f":"RTD(\"cqg.rtd\",,\"StudyData\", \"Close(\"&$D$12&\") when LocalYear(\"&$D$12&\")=\"&$D$9&\" and localMonth(\"&$D$12&\") =\"&$E$9&\" and LocalDay(\"&$D$12&\")=\"&$F$9&\" and Barix(\"&$D$12&\",reference:=StartOfSession)=\"&A8&\"\", \"Bar\", \"\", \"Close\",\"5\",\"0\",\"PrimaryOnly\",,,\"False\",\"T\",\"EveryTick\")","v":158.1},-2.2088987062164364E-3,{"$f":"RTD(\"cqg.rtd\",,\"StudyData\", \"Close(\"&$D$12&\") when LocalYear(\"&$D$12&\")=\"&$D$10&\" and localMonth(\"&$D$12&\") =\"&$E$10&\" and LocalDay(\"&$D$12&\")=\"&$F$10&\" and Barix(\"&$D$12&\",reference:=StartOfSession)=\"&A8&\"\", \"Bar\", \"\", \"Close\",\"5\",\"0\",\"PrimaryOnly\",,,\"False\",\"T\",\"EveryTick\")","v":159.24},6.9558618945239842E-3,{"$f":"RANK(AD8,$AD$1:$AD$10)+COUNTIF($AD$1:AD8,AD8)-1","v":9},"2018-07-03",{"$f":"IFERROR(VLOOKUP(MAX(AE2:AE81),A1:W81,23,FALSE),\"\")","v":-1.8138603952964226E-3},"",8,"2018-07-13",-6.0302719652670042E-4,null,null,"2018-07-13","2018-07-03",7,0]
[8,"09:10:00",{"$f":" RTD(\"cqg.rtd\",,\"StudyData\",$D$12, \"Bar\", \"\", \"Time\",\"D\",\"-8\",,,,,\"T\")","v":"2018-07-02"},2018,7,2,{"$f":"RTD(\"cqg.rtd\",,\"StudyData\",$D$12,\"Bar\",,\"Close\",\"D\",\"-8\",,,,,\"T\")","v":159.88},{"$f":"RTD(\"cqg.rtd\",,\"StudyData\", \"Close(\"&$D$12&\") when LocalYear(\"&$D$12&\")=\"&$D$1&\" and localMonth(\"&$D$12&\") =\"&$E$1&\" and LocalDay(\"&$D$12&\")=\"&$F$1&\" and Barix(\"&$D$12&\",reference:=StartOfSession)=\"&A9&\"\", \"Bar\", \"\", \"Close\",\"5\",\"0\",\"PrimaryOnly\",,,\"False\",\"T\",\"EveryTick\")","v":165.52},-1.86938430923236E-3,{"$f":"RTD(\"cqg.rtd\",,\"StudyData\", \"Close(\"&$D$12&\") when LocalYear(\"&$D$12&\")=\"&$D$2&\" and localMonth(\"&$D$12&\") =\"&$E$2&\" and LocalDay(\"&$D$12&\")=\"&$F$2&\" and Barix(\"&$D$12&\",reference:=StartOfSession)=\"&A9&\"\", \"Bar\", \"\", \"Close\",\"5\",\"0\",\"PrimaryOnly\",,,\"False\",\"T\",\"EveryTick\")","v":164.53},1.1682961323249128E-2,{"$f":"RTD(\"cqg.rtd\",,\"StudyData\", \"Close(\"&$D$12&\") when LocalYear(\"&$D$12&\")=\"&$D$3&\" and localMonth(\"&$D$12&\") =\"&$E$3&\" and LocalDay(\"&$D$12&\")=\"&$F$3&\" and Barix(\"&$D$12&\",reference:=StartOfSession)=\"&A9&\"\", \"Bar\", \"\", \"Close\",\"5\",\"0\",\"PrimaryOnly\",,,\"False\",\"T\",\"EveryTick\")","v":162.72999999999999},-7.0173297534781897E-3,{"$f":"RTD(\"cqg.rtd\",,\"StudyData\", \"Close(\"&$D$12&\") when LocalYear(\"&$D$12&\")=\"&$D$4&\" and localMonth(\"&$D$12&\") =\"&$E$4&\" and LocalDay(\"&$D$12&\")=\"&$F$4&\" and Barix(\"&$D$12&\",reference:=StartOfSession)=\"&A9&\"\", \"Bar\", \"\", \"Close\",\"5\",\"0\",\"PrimaryOnly\",,,\"False\",\"T\",\"EveryTick\")","v":163.6},1.5917717644177232E-3,{"$f":"RTD(\"cqg.rtd\",,\"StudyData\", \"Close(\"&$D$12&\") when LocalYear(\"&$D$12&\")=\"&$D$5&\" and localMonth(\"&$D$12&\") =\"&$E$5&\" and LocalDay(\"&$D$12&\")=\"&$F$5&\" and Barix(\"&$D$12&\",reference:=StartOfSession)=\"&A9&\"\", \"Bar\", \"\", \"Close\",\"5\",\"0\",\"PrimaryOnly\",,,\"False\",\"T\",\"EveryTick\")","v":162.21},3.0833744449933008E-4,{"$f":"RTD(\"cqg.rtd\",,\"StudyData\", \"Close(\"&$D$12&\") when LocalYear(\"&$D$12&\")=\"&$D$6&\" and localMonth(\"&$D$12&\") =\"&$E$6&\" and LocalDay(\"&$D$12&\")=\"&$F$6&\" and Barix(\"&$D$12&\",reference:=StartOfSession)=\"&A9&\"\", \"Bar\", \"\", \"Close\",\"5\",\"0\",\"PrimaryOnly\",,,\"False\",\"T\",\"EveryTick\")","v":160.81},1.3699483155862684E-3,{"$f":"RTD(\"cqg.rtd\",,\"StudyData\", \"Close(\"&$D$12&\") when LocalYear(\"&$D$12&\")=\"&$D$7&\" and localMonth(\"&$D$12&\") =\"&$E$7&\" and LocalDay(\"&$D$12&\")=\"&$F$7&\" and Barix(\"&$D$12&\",reference:=StartOfSession)=\"&A9&\"\", \"Bar\", \"\", \"Close\",\"5\",\"0\",\"PrimaryOnly\",,,\"False\",\"T\",\"EveryTick\")","v":159.24},5.7474894208298906E-3,{"$f":"RTD(\"cqg.rtd\",,\"StudyData\", \"Close(\"&$D$12&\") when LocalYear(\"&$D$12&\")=\"&$D$8&\" and localMonth(\"&$D$12&\") =\"&$E$8&\" and LocalDay(\"&$D$12&\")=\"&$F$8&\" and Barix(\"&$D$12&\",reference:=StartOfSession)=\"&A9&\"\", \"Bar\", \"\", \"Close\",\"5\",\"0\",\"PrimaryOnly\",,,\"False\",\"T\",\"EveryTick\")","v":159.91999999999999},2.5018764073049814E-4,{"$f":"RTD(\"cqg.rtd\",,\"StudyData\", \"Close(\"&$D$12&\") when LocalYear(\"&$D$12&\")=\"&$D$9&\" and localMonth(\"&$D$12&\") =\"&$E$9&\" and LocalDay(\"&$D$12&\")=\"&$F$9&\" and Barix(\"&$D$12&\",reference:=StartOfSession)=\"&A9&\"\", \"Bar\", \"\", \"Close\",\"5\",\"0\",\"PrimaryOnly\",,,\"False\",\"T\",\"EveryTick\")","v":157.65},-5.048911328494686E-3,{"$f":"RTD(\"cqg.rtd\",,\"StudyData\", \"Close(\"&$D$12&\") when LocalYear(\"&$D$12&\")=\"&$D$10&\" and localMonth(\"&$D$12&\") =\"&$E$10&\" and LocalDay(\"&$D$12&\")=\"&$F$10&\" and Barix(\"&$D$12&\",reference:=StartOfSession)=\"&A9&\"\", \"Bar\", \"\", \"Close\",\"5\",\"0\",\"PrimaryOnly\",,,\"False\",\"T\",\"EveryTick\")","v":158.94},5.0588086505628646E-3,{"$f":"RANK(AD9,$AD$1:$AD$10)+COUNTIF($AD$1:AD9,AD9)-1","v":7},"2018-07-02",{"$f":"IFERROR(VLOOKUP(MAX(AE2:AE81),A1:Y81,25,FALSE),\"\")","v":-1.2622278321225503E-4},"",9,"2018-07-03",-1.8138603952964226E-3,null,null,"2018-07-03","2018-07-02",8,7]
[9,"09:15:00",{"$f":" RTD(\"cqg.rtd\",,\"StudyData\",$D$12, \"Bar\", \"\", \"Time\",\"D\",\"-9\",,,,,\"T\")","v":"2018-06-29"},2018,6,29,{"$f":"RTD(\"cqg.rtd\",,\"StudyData\",$D$12,\"Bar\",,\"Close\",\"D\",\"-9\",,,,,\"T\")","v":158.44999999999999},{"$f":"RTD(\"cqg.rtd\",,\"StudyData\", \"Close(\"&$D$12&\") when LocalYear(\"&$D$12&\")=\"&$D$1&\" and localMonth(\"&$D$12&\") =\"&$E$1&\" and LocalDay(\"&$D$12&\")=\"&$F$1&\" and Barix(\"&$D$12&\",reference:=StartOfSession)=\"&A10&\"\", \"Bar\", \"\", \"Close\",\"5\",\"0\",\"PrimaryOnly\",,,\"False\",\"T\",\"EveryTick\")","v":165.55},-1.688476150274384E-3,{"$f":"RTD(\"cqg.rtd\",,\"StudyData\", \"Close(\"&$D$12&\") when LocalYear(\"&$D$12&\")=\"&$D$2&\" and localMonth(\"&$D$12&\") =\"&$E$2&\" and LocalDay(\"&$D$12&\")=\"&$F$2&\" and Barix(\"&$D$12&\",reference:=StartOfSession)=\"&A10&\"\", \"Bar\", \"\", \"Close\",\"5\",\"0\",\"PrimaryOnly\",,,\"False\",\"T\",\"EveryTick\")","v":164.53},1.1682961323249128E-2,{"$f":"RTD(\"cqg.rtd\",,\"StudyData\", \"Close(\"&$D$12&\") when LocalYear(\"&$D$12&\")=\"&$D$3&\" and localMonth(\"&$D$12&\") =\"&$E$3&\" and LocalDay(\"&$D$12&\")=\"&$F$3&\" and Barix(\"&$D$12&\",reference:=StartOfSession)=\"&A10&\"\", \"Bar\", \"\", \"Close\",\"5\",\"0\",\"PrimaryOnly\",,,\"False\",\"T\",\"EveryTick\")","v":163.19},-4.2103978520868788E-3,{"$f":"RTD(\"cqg.rtd\",,\"StudyData\", \"Close(\"&$D$12&\") when LocalYear(\"&$D$12&\")=\"&$D$4&\" and localMonth(\"&$D$12&\") =\"&$E$4&\" and LocalDay(\"&$D$12&\")=\"&$F$4&\" and Barix(\"&$D$12&\",reference:=StartOfSession)=\"&A10&\"\", \"Bar\", \"\", \"Close\",\"5\",\"0\",\"PrimaryOnly\",,,\"False\",\"T\",\"EveryTick\")","v":163.54},1.2244398187828372E-3,{"$f":"RTD(\"cqg.rtd\",,\"StudyData\", \"Close(\"&$D$12&\") when LocalYear(\"&$D$12&\")=\"&$D$5&\" and localMonth(\"&$D$12&\") =\"&$E$5&\" and LocalDay(\"&$D$12&\")=\"&$F$5&\" and Barix(\"&$D$12&\",reference:=StartOfSession)=\"&A10&\"\", \"Bar\", \"\", \"Close\",\"5\",\"0\",\"PrimaryOnly\",,,\"False\",\"T\",\"EveryTick\")","v":161.94999999999999},-1.295017266896941E-3,{"$f":"RTD(\"cqg.rtd\",,\"StudyData\", \"Close(\"&$D$12&\") when LocalYear(\"&$D$12&\")=\"&$D$6&\" and localMonth(\"&$D$12&\") =\"&$E$6&\" and LocalDay(\"&$D$12&\")=\"&$F$6&\" and Barix(\"&$D$12&\",reference:=StartOfSession)=\"&A10&\"\", \"Bar\", \"\", \"Close\",\"5\",\"0\",\"PrimaryOnly\",,,\"False\",\"T\",\"EveryTick\")","v":160.81},1.3699483155862684E-3,{"$f":"RTD(\"cqg.rtd\",,\"StudyData\", \"Close(\"&$D$12&\") when LocalYear(\"&$D$12&\")=\"&$D$7&\" and localMonth(\"&$D$12&\") =\"&$E$7&\" and LocalDay(\"&$D$12&\")=\"&$F$7&\" and Barix(\"&$D$12&\",reference:=StartOfSession)=\"&A10&\"\", \"Bar\", \"\", \"Close\",\"5\",\"0\",\"PrimaryOnly\",,,\"False\",\"T\",\"EveryTick\")","v":158.80000000000001},2.9684835470220354E-3,{"$f":"RTD(\"cqg.rtd\",,\"StudyData\", \"Close(\"&$D$12&\") when LocalYear(\"&$D$12&\")=\"&$D$8&\" and localMonth(\"&$D$12&\") =\"&$E$8&\" and LocalDay(\"&$D$12&\")=\"&$F$8&\" and Barix(\"&$D$12&\",reference:=StartOfSession)=\"&A10&\"\", \"Bar\", \"\", \"Close\",\"5\",\"0\",\"PrimaryOnly\",,,\"False\",\"T\",\"EveryTick\")","v":160},7.5056292219167218E-4,{"$f":"RTD(\"cqg.rtd\",,\"StudyData\", \"Close(\"&$D$12&\") when LocalYear(\"&$D$12&\")=\"&$D$9&\" and localMonth(\"&$D$12&\") =\"&$E$9&\" and LocalDay(\"&$D$12&\")=\"&$F$9&\" and Barix(\"&$D$12&\",reference:=StartOfSession)=\"&A10&\"\", \"Bar\", \"\", \"Close\",\"5\",\"0\",\"PrimaryOnly\",,,\"False\",\"T\",\"EveryTick\")","v":157.65},-5.048911328494686E-3,{"$f":"RTD(\"cqg.rtd\",,\"StudyData\", \"Close(\"&$D$12&\") when LocalYear(\"&$D$12&\")=\"&$D$10&\" and localMonth(\"&$D$12&\") =\"&$E$10&\" and LocalDay(\"&$D$12&\")=\"&$F$10&\" and Barix(\"&$D$12&\",reference:=StartOfSession)=\"&A10&\"\", \"Bar\", \"\", \"Close\",\"5\",\"0\",\"PrimaryOnly\",,,\"False\",\"T\",\"EveryTick\")","v":159.07},5.8808650562792901E-3,{"$f":"RANK(AD10,$AD$1:$AD$10)+COUNTIF($AD$1:AD10,AD10)-1","v":2},"2018-06-29",{"$f":"IFERROR(VLOOKUP(MAX(AE2:AE81),A1:AA81,27,FALSE),\"\")","v":8.4735044896926993E-3},"",10,"2018-07-11",-8.176714669270219E-3,null,null,"2018-07-11","2018-06-29",9,2]
[10,"09:20:00",{"$f":" RTD(\"cqg.rtd\",,\"StudyData\",$D$12, \"Bar\", \"\", \"Time\",\"D\",\"-10\",,,,,\"T\")","v":"2018-06-28"},2018,6,28,{"$f":"RTD(\"cqg.rtd\",,\"StudyData\",$D$12,\"Bar\",,\"Close\",\"D\",\"-10\",,,,,\"T\")","v":158.13999999999999},{"$f":"RTD(\"cqg.rtd\",,\"StudyData\", \"Close(\"&$D$12&\") when LocalYear(\"&$D$12&\")=\"&$D$1&\" and localMonth(\"&$D$12&\") =\"&$E$1&\" and LocalDay(\"&$D$12&\")=\"&$F$1&\" and Barix(\"&$D$12&\",reference:=StartOfSession)=\"&A11&\"\", \"Bar\", \"\", \"Close\",\"5\",\"0\",\"PrimaryOnly\",,,\"False\",\"T\",\"EveryTick\")","v":165.55},-1.688476150274384E-3,{"$f":"RTD(\"cqg.rtd\",,\"StudyData\", \"Close(\"&$D$12&\") when LocalYear(\"&$D$12&\")=\"&$D$2&\" and localMonth(\"&$D$12&\") =\"&$E$2&\" and LocalDay(\"&$D$12&\")=\"&$F$2&\" and Barix(\"&$D$12&\",reference:=StartOfSession)=\"&A11&\"\", \"Bar\", \"\", \"Close\",\"5\",\"0\",\"PrimaryOnly\",,,\"False\",\"T\",\"EveryTick\")","v":164.5},1.1498493512882031E-2,{"$f":"RTD(\"cqg.rtd\",,\"StudyData\", \"Close(\"&$D$12&\") when LocalYear(\"&$D$12&\")=\"&$D$3&\" and localMonth(\"&$D$12&\") =\"&$E$3&\" and LocalDay(\"&$D$12&\")=\"&$F$3&\" and Barix(\"&$D$12&\",reference:=StartOfSession)=\"&A11&\"\", \"Bar\", \"\", \"Close\",\"5\",\"0\",\"PrimaryOnly\",,,\"False\",\"T\",\"EveryTick\")","v":163.19},-4.2103978520868788E-3,{"$f":"RTD(\"cqg.rtd\",,\"StudyData\", \"Close(\"&$D$12&\") when LocalYear(\"&$D$12&\")=\"&$D$4&\" and localMonth(\"&$D$12&\") =\"&$E$4&\" and LocalDay(\"&$D$12&\")=\"&$F$4&\" and Barix(\"&$D$12&\",reference:=StartOfSession)=\"&A11&\"\", \"Bar\", \"\", \"Close\",\"5\",\"0\",\"PrimaryOnly\",,,\"False\",\"T\",\"EveryTick\")","v":163.72},2.3264356556874951E-3,{"$f":"RTD(\"cqg.rtd\",,\"StudyData\", \"Close(\"&$D$12&\") when LocalYear(\"&$D$12&\")=\"&$D$5&\" and localMonth(\"&$D$12&\") =\"&$E$5&\" and LocalDay(\"&$D$12&\")=\"&$F$5&\" and Barix(\"&$D$12&\",reference:=StartOfSession)=\"&A11&\"\", \"Bar\", \"\", \"Close\",\"5\",\"0\",\"PrimaryOnly\",,,\"False\",\"T\",\"EveryTick\")","v":162.15},-6.1667488899795909E-5,{"$f":"RTD(\"cqg.rtd\",,\"StudyData\", \"Close(\"&$D$12&\") when LocalYear(\"&$D$12&\")=\"&$D$6&\" and localMonth(\"&$D$12&\") =\"&$E$6&\" and LocalDay(\"&$D$12&\")=\"&$F$6&\" and Barix(\"&$D$12&\",reference:=StartOfSession)=\"&A11&\"\", \"Bar\", \"\", \"Close\",\"5\",\"0\",\"PrimaryOnly\",,,\"False\",\"T\",\"EveryTick\")","v":160.72},8.0951491375549813E-4,{"$f":"RTD(\"cqg.rtd\",,\"StudyData\", \"Close(\"&$D$12&\") when LocalYear(\"&$D$12&\")=\"&$D$7&\" and localMonth(\"&$D$12&\") =\"&$E$7&\" and LocalDay(\"&$D$12&\")=\"&$F$7&\" and Barix(\"&$D$12&\",reference:=StartOfSession)=\"&A11&\"\", \"Bar\", \"\", \"Close\",\"5\",\"0\",\"PrimaryOnly\",,,\"False\",\"T\",\"EveryTick\")","v":158.91999999999999},3.7263942398785758E-3,{"$f":"RTD(\"cqg.rtd\",,\"StudyData\", \"Close(\"&$D$12&\") when LocalYear(\"&$D$12&\")=\"&$D$8&\" and localMonth(\"&$D$12&\") =\"&$E$8&\" and LocalDay(\"&$D$12&\")=\"&$F$8&\" and Barix(\"&$D$12&\",reference:=StartOfSession)=\"&A11&\"\", \"Bar\", \"\", \"Close\",\"5\",\"0\",\"PrimaryOnly\",,,\"False\",\"T\",\"EveryTick\")","v":159.94999999999999},4.3782837127841618E-4,{"$f":"RTD(\"cqg.rtd\",,\"StudyData\", \"Close(\"&$D$12&\") when LocalYear(\"&$D$12&\")=\"&$D$9&\" and localMonth(\"&$D$12&\") =\"&$E$9&\" and LocalDay(\"&$D$12&\")=\"&$F$9&\" and Barix(\"&$D$12&\",reference:=StartOfSession)=\"&A11&\"\", \"Bar\", \"\", \"Close\",\"5\",\"0\",\"PrimaryOnly\",,,\"False\",\"T\",\"EveryTick\")","v":158.02000000000001},-2.7137898390658154E-3,{"$f":"RTD(\"cqg.rtd\",,\"StudyData\", \"Close(\"&$D$12&\") when LocalYear(\"&$D$12&\")=\"&$D$10&\" and localMonth(\"&$D$12&\") =\"&$E$10&\" and LocalDay(\"&$D$12&\")=\"&$F$10&\" and Barix(\"&$D$12&\",reference:=StartOfSession)=\"&A11&\"\", \"Bar\", \"\", \"Close\",\"5\",\"0\",\"PrimaryOnly\",,,\"False\",\"T\",\"EveryTick\")","v":159.07},5.8808650562792901E-3,null,null,null,""]
[11,"09:25:00",null,{"$f":"MainDisplay!B31","v":"S.RYT"},null,null,null,{"$f":"RTD(\"cqg.rtd\",,\"StudyData\", \"Close(\"&$D$12&\") when LocalYear(\"&$D$12&\")=\"&$D$1&\" and localMonth(\"&$D$12&\") =\"&$E$1&\" and LocalDay(\"&$D$12&\")=\"&$F$1&\" and Barix(\"&$D$12&\",reference:=StartOfSession)=\"&A12&\"\", \"Bar\", \"\", \"Close\",\"5\",\"0\",\"PrimaryOnly\",,,\"False\",\"T\",\"EveryTick\")","v":165.63},-1.2060543930532295E-3,{"$f":"RTD(\"cqg.rtd\",,\"StudyData\", \"Close(\"&$D$12&\") when LocalYear(\"&$D$12&\")=\"&$D$2&\" and localMonth(\"&$D$12&\") =\"&$E$2&\" and LocalDay(\"&$D$12&\")=\"&$F$2&\" and Barix(\"&$D$12&\",reference:=StartOfSession)=\"&A12&\"\", \"Bar\", \"\", \"Close\",\"5\",\"0\",\"PrimaryOnly\",,,\"False\",\"T\",\"EveryTick\")","v":164.84},1.3589128697042416E-2,{"$f":"RTD(\"cqg.rtd\",,\"StudyData\", \"Close(\"&$D$12&\") when LocalYear(\"&$D$12&\")=\"&$D$3&\" and localMonth(\"&$D$12&\") =\"&$E$3&\" and LocalDay(\"&$D$12&\")=\"&$F$3&\" and Barix(\"&$D$12&\",reference:=StartOfSession)=\"&A12&\"\", \"Bar\", \"\", \"Close\",\"5\",\"0\",\"PrimaryOnly\",,,\"False\",\"T\",\"EveryTick\")","v":163.37},-3.1120331950206916E-3,{"$f":"RTD(\"cqg.rtd\",,\"StudyData\", \"Close(\"&$D$12&\") when LocalYear(\"&$D$12&\")=\"&$D$4&\" and localMonth(\"&$D$12&\") =\"&$E$4&\" and LocalDay(\"&$D$12&\")=\"&$F$4&\" and Barix(\"&$D$12&\",reference:=StartOfSession)=\"&A12&\"\", \"Bar\", \"\", \"Close\",\"5\",\"0\",\"PrimaryOnly\",,,\"False\",\"T\",\"EveryTick\")","v":163.65},1.8978817191135195E-3,{"$f":"RTD(\"cqg.rtd\",,\"StudyData\", \"Close(\"&$D$12&\") when LocalYear(\"&$D$12&\")=\"&$D$5&\" and localMonth(\"&$D$12&\") =\"&$E$5&\" and LocalDay(\"&$D$12&\")=\"&$F$5&\" and Barix(\"&$D$12&\",reference:=StartOfSession)=\"&A12&\"\", \"Bar\", \"\", \"Close\",\"5\",\"0\",\"PrimaryOnly\",,,\"False\",\"T\",\"EveryTick\")","v":162},-9.8667982239761102E-4,{"$f":"RTD(\"cqg.rtd\",,\"StudyData\", \"Close(\"&$D$12&\") when LocalYear(\"&$D$12&\")=\"&$D$6&\" and localMonth(\"&$D$12&\") =\"&$E$6&\" and LocalDay(\"&$D$12&\")=\"&$F$6&\" and Barix(\"&$D$12&\",reference:=StartOfSession)=\"&A12&\"\", \"Bar\", \"\", \"Close\",\"5\",\"0\",\"PrimaryOnly\",,,\"False\",\"T\",\"EveryTick\")","v":160.88},1.8058409614545865E-3,{"$f":"RTD(\"cqg.rtd\",,\"StudyData\", \"Close(\"&$D$12&\") when LocalYear(\"&$D$12&\")=\"&$D$7&\" and localMonth(\"&$D$12&\") =\"&$E$7&\" and LocalDay(\"&$D$12&\")=\"&$F$7&\" and Barix(\"&$D$12&\",reference:=StartOfSession)=\"&A12&\"\", \"Bar\", \"\", \"Close\",\"5\",\"0\",\"PrimaryOnly\",,,\"False\",\"T\",\"EveryTick\")","v":158.83000000000001},3.157961220236215E-3,{"$f":"RTD(\"cqg.rtd\",,\"StudyData\", \"Close(\"&$D$12&\") when LocalYear(\"&$D$12&\")=\"&$D$8&\" and localMonth(\"&$D$12&\") =\"&$E$8&\" and LocalDay(\"&$D$12&\")=\"&$F$8&\" and Barix(\"&$D$12&\",reference:=StartOfSession)=\"&A12&\"\", \"Bar\", \"\", \"Close\",\"5\",\"0\",\"PrimaryOnly\",,,\"False\",\"T\",\"EveryTick\")","v":159.91999999999999},2.5018764073049814E-4,{"$f":"RTD(\"cqg.rtd\",,\"StudyData\", \"Close(\"&$D$12&\") when LocalYear(\"&$D$12&\")=\"&$D$9&\" and localMonth(\"&$D$12&\") =\"&$E$9&\" and LocalDay(\"&$D$12&\")=\"&$F$9&\" and Barix(\"&$D$12&\",reference:=StartOfSession)=\"&A12&\"\", \"Bar\", \"\", \"Close\",\"5\",\"0\",\"PrimaryOnly\",,,\"False\",\"T\",\"EveryTick\")","v":158.16},-1.8302303565793125E-3,{"$f":"RTD(\"cqg.rtd\",,\"StudyData\", \"Close(\"&$D$12&\") when LocalYear(\"&$D$12&\")=\"&$D$10&\" and localMonth(\"&$D$12&\") =\"&$E$10&\" and LocalDay(\"&$D$12&\")=\"&$F$10&\" and Barix(\"&$D$12&\",reference:=StartOfSession)=\"&A12&\"\", \"Bar\", \"\", \"Close\",\"5\",\"0\",\"PrimaryOnly\",,,\"False\",\"T\",\"EveryTick\")","v":159.22},6.8293916782598491E-3,null,{"$f":"VLOOKUP(MAX(AE2:AE81),A1:B81,2,FALSE)","v":"10:20:00"},null,""]
[12,"09:30:00",null,{"$f":"RTD(\"cqg.rtd\", ,\"ContractData\",D12, \"LastQuoteToday\",, \"T\")","v":165.73},null,null,{"$f":"C1","v":"2018-07-13"},{"$f":"RTD(\"cqg.rtd\",,\"StudyData\", \"Close(\"&$D$12&\") when LocalYear(\"&$D$12&\")=\"&$D$1&\" and localMonth(\"&$D$12&\") =\"&$E$1&\" and LocalDay(\"&$D$12&\")=\"&$F$1&\" and Barix(\"&$D$12&\",reference:=StartOfSession)=\"&A13&\"\", \"Bar\", \"\", \"Close\",\"5\",\"0\",\"PrimaryOnly\",,,\"False\",\"T\",\"EveryTick\")","v":165.63},-1.2060543930532295E-3,{"$f":"RTD(\"cqg.rtd\",,\"StudyData\", \"Close(\"&$D$12&\") when LocalYear(\"&$D$12&\")=\"&$D$2&\" and localMonth(\"&$D$12&\") =\"&$E$2&\" and LocalDay(\"&$D$12&\")=\"&$F$2&\" and Barix(\"&$D$12&\",reference:=StartOfSession)=\"&A13&\"\", \"Bar\", \"\", \"Close\",\"5\",\"0\",\"PrimaryOnly\",,,\"False\",\"T\",\"EveryTick\")","v":164.95},1.4265510668388324E-2,{"$f":"RTD(\"cqg.rtd\",,\"StudyData\", \"Close(\"&$D$12&\") when LocalYear(\"&$D$12&\")=\"&$D$3&\" and localMonth(\"&$D$12&\") =\"&$E$3&\" and LocalDay(\"&$D$12&\")=\"&$F$3&\" and Barix(\"&$D$12&\",reference:=StartOfSession)=\"&A13&\"\", \"Bar\", \"\", \"Close\",\"5\",\"0\",\"PrimaryOnly\",,,\"False\",\"T\",\"EveryTick\")","v":163.34},-3.2950939711983893E-3,{"$f":"RTD(\"cqg.rtd\",,\"StudyData\", \"Close(\"&$D$12&\") when LocalYear(\"&$D$12&\")=\"&$D$4&\" and localMonth(\"&$D$12&\") =\"&$E$4&\" and LocalDay(\"&$D$12&\")=\"&$F$4&\" and Barix(\"&$D$12&\",reference:=StartOfSession)=\"&A13&\"\", \"Bar\", \"\", \"Close\",\"5\",\"0\",\"PrimaryOnly\",,,\"False\",\"T\",\"EveryTick\")","v":163.78},2.6937676013223809E-3,{"$f":"RTD(\"cqg.rtd\",,\"StudyData\", \"Close(\"&$D$12&\") when LocalYear(\"&$D$12&\")=\"&$D$5&\" and localMonth(\"&$D$12&\") =\"&$E$5&\" and LocalDay(\"&$D$12&\")=\"&$F$5&\" and Barix(\"&$D$12&\",reference:=StartOfSession)=\"&A13&\"\", \"Bar\", \"\", \"Close\",\"5\",\"0\",\"PrimaryOnly\",,,\"False\",\"T\",\"EveryTick\")","v":162},-9.8667982239761102E-4,{"$f":"RTD(\"cqg.rtd\",,\"StudyData\", \"Close(\"&$D$12&\") when LocalYear(\"&$D$12&\")=\"&$D$6&\" and localMonth(\"&$D$12&\") =\"&$E$6&\" and LocalDay(\"&$D$12&\")=\"&$F$6&\" and Barix(\"&$D$12&\",reference:=StartOfSession)=\"&A13&\"\", \"Bar\", \"\", \"Close\",\"5\",\"0\",\"PrimaryOnly\",,,\"False\",\"T\",\"EveryTick\")","v":160.93},2.1171928513606291E-3,{"$f":"RTD(\"cqg.rtd\",,\"StudyData\", \"Close(\"&$D$12&\") when LocalYear(\"&$D$12&\")=\"&$D$7&\" and localMonth(\"&$D$12&\") =\"&$E$7&\" and LocalDay(\"&$D$12&\")=\"&$F$7&\" and Barix(\"&$D$12&\",reference:=StartOfSession)=\"&A13&\"\", \"Bar\", \"\", \"Close\",\"5\",\"0\",\"PrimaryOnly\",,,\"False\",\"T\",\"EveryTick\")","v":158.87},3.410598117855062E-3,{"$f":"RTD(\"cqg.rtd\",,\"StudyData\", \"Close(\"&$D$12&\") when LocalYear(\"&$D$12&\")=\"&$D$8&\" and localMonth(\"&$D$12&\") =\"&$E$8&\" and LocalDay(\"&$D$12&\")=\"&$F$8&\" and Barix(\"&$D$12&\",reference:=StartOfSession)=\"&A13&\"\", \"Bar\", \"\", \"Close\",\"5\",\"0\",\"PrimaryOnly\",,,\"False\",\"T\",\"EveryTick\")","v":160.09},1.3134851138354264E-3,{"$f":"RTD(\"cqg.rtd\",,\"StudyData\", \"Close(\"&$D$12&\") when LocalYear(\"&$D$12&\")=\"&$D$9&\" and localMonth(\"&$D$12&\") =\"&$E$9&\" and LocalDay(\"&$D$12&\")=\"&$F$9&\" and Barix(\"&$D$12&\",reference:=StartOfSession)=\"&A13&\"\", \"Bar\", \"\", \"Close\",\"5\",\"0\",\"PrimaryOnly\",,,\"False\",\"T\",\"EveryTick\")","v":158.41},-2.5244556642468945E-4,{"$f":"RTD(\"cqg.rtd\",,\"StudyData\", \"Close(\"&$D$12&\") when LocalYear(\"&$D$12&\")=\"&$D$10&\" and localMonth(\"&$D$12&\") =\"&$E$10&\" and LocalDay(\"&$D$12&\")=\"&$F$10&\" and Barix(\"&$D$12&\",reference:=StartOfSession)=\"&A13&\"\", \"Bar\", \"\", \"Close\",\"5\",\"0\",\"PrimaryOnly\",,,\"False\",\"T\",\"EveryTick\")","v":159.19999999999999},6.7029214619957148E-3,null,null,null,""]
[13,"09:35:00",null,{"$f":"RTD(\"cqg.rtd\", ,\"ContractData\",D12, \"LongDescription\",, \"T\")","v":"Guggenheim S&P 500 Eq Wt Technology ETF"},null,null,{"$f":"C2","v":"2018-07-12"},{"$f":"RTD(\"cqg.rtd\",,\"StudyData\", \"Close(\"&$D$12&\") when LocalYear(\"&$D$12&\")=\"&$D$1&\" and localMonth(\"&$D$12&\") =\"&$E$1&\" and LocalDay(\"&$D$12&\")=\"&$F$1&\" and Barix(\"&$D$12&\",reference:=StartOfSession)=\"&A14&\"\", \"Bar\", \"\", \"Close\",\"5\",\"0\",\"PrimaryOnly\",,,\"False\",\"T\",\"EveryTick\")","v":165.67},-9.6484351444265206E-4,{"$f":"RTD(\"cqg.rtd\",,\"StudyData\", \"Close(\"&$D$12&\") when LocalYear(\"&$D$12&\")=\"&$D$2&\" and localMonth(\"&$D$12&\") =\"&$E$2&\" and LocalDay(\"&$D$12&\")=\"&$F$2&\" and Barix(\"&$D$12&\",reference:=StartOfSession)=\"&A14&\"\", \"Bar\", \"\", \"Close\",\"5\",\"0\",\"PrimaryOnly\",,,\"False\",\"T\",\"EveryTick\")","v":164.95},1.4265510668388324E-2,{"$f":"RTD(\"cqg.rtd\",,\"StudyData\", \"Close(\"&$D$12&\") when LocalYear(\"&$D$12&\")=\"&$D$3&\" and localMonth(\"&$D$12&\") =\"&$E$3&\" and LocalDay(\"&$D$12&\")=\"&$F$3&\" and Barix(\"&$D$12&\",reference:=StartOfSession)=\"&A14&\"\", \"Bar\", \"\", \"Close\",\"5\",\"0\",\"PrimaryOnly\",,,\"False\",\"T\",\"EveryTick\")","v":163.34},-3.2950939711983893E-3,{"$f":"RTD(\"cqg.rtd\",,\"StudyData\", \"Close(\"&$D$12&\") when LocalYear(\"&$D$12&\")=\"&$D$4&\" and localMonth(\"&$D$12&\") =\"&$E$4&\" and LocalDay(\"&$D$12&\")=\"&$F$4&\" and Barix(\"&$D$12&\",reference:=StartOfSession)=\"&A14&\"\", \"Bar\", \"\", \"Close\",\"5\",\"0\",\"PrimaryOnly\",,,\"False\",\"T\",\"EveryTick\")","v":163.84},3.0610995469572671E-3,{"$f":"RTD(\"cqg.rtd\",,\"StudyData\", \"Close(\"&$D$12&\") when LocalYear(\"&$D$12&\")=\"&$D$5&\" and localMonth(\"&$D$12&\") =\"&$E$5&\" and LocalDay(\"&$D$12&\")=\"&$F$5&\" and Barix(\"&$D$12&\",reference:=StartOfSession)=\"&A14&\"\", \"Bar\", \"\", \"Close\",\"5\",\"0\",\"PrimaryOnly\",,,\"False\",\"T\",\"EveryTick\")","v":162.05000000000001},-6.7834237789828088E-4,{"$f":"RTD(\"cqg.rtd\",,\"StudyData\", \"Close(\"&$D$12&\") when LocalYear(\"&$D$12&\")=\"&$D$6&\" and localMonth(\"&$D$12&\") =\"&$E$6&\" and LocalDay(\"&$D$12&\")=\"&$F$6&\" and Barix(\"&$D$12&\",reference:=StartOfSession)=\"&A14&\"\", \"Bar\", \"\", \"Close\",\"5\",\"0\",\"PrimaryOnly\",,,\"False\",\"T\",\"EveryTick\")","v":160.88},1.8058409614545865E-3,{"$f":"RTD(\"cqg.rtd\",,\"StudyData\", \"Close(\"&$D$12&\") when LocalYear(\"&$D$12&\")=\"&$D$7&\" and localMonth(\"&$D$12&\") =\"&$E$7&\" and LocalDay(\"&$D$12&\")=\"&$F$7&\" and Barix(\"&$D$12&\",reference:=StartOfSession)=\"&A14&\"\", \"Bar\", \"\", \"Close\",\"5\",\"0\",\"PrimaryOnly\",,,\"False\",\"T\",\"EveryTick\")","v":158.84},3.2211204446408819E-3,{"$f":"RTD(\"cqg.rtd\",,\"StudyData\", \"Close(\"&$D$12&\") when LocalYear(\"&$D$12&\")=\"&$D$8&\" and localMonth(\"&$D$12&\") =\"&$E$8&\" and LocalDay(\"&$D$12&\")=\"&$F$8&\" and Barix(\"&$D$12&\",reference:=StartOfSession)=\"&A14&\"\", \"Bar\", \"\", \"Close\",\"5\",\"0\",\"PrimaryOnly\",,,\"False\",\"T\",\"EveryTick\")","v":160.15},1.6887665749312625E-3,{"$f":"RTD(\"cqg.rtd\",,\"StudyData\", \"Close(\"&$D$12&\") when LocalYear(\"&$D$12&\")=\"&$D$9&\" and localMonth(\"&$D$12&\") =\"&$E$9&\" and LocalDay(\"&$D$12&\")=\"&$F$9&\" and Barix(\"&$D$12&\",reference:=StartOfSession)=\"&A14&\"\", \"Bar\", \"\", \"Close\",\"5\",\"0\",\"PrimaryOnly\",,,\"False\",\"T\",\"EveryTick\")","v":158.51},3.7866834963712386E-4,{"$f":"RTD(\"cqg.rtd\",,\"StudyData\", \"Close(\"&$D$12&\") when LocalYear(\"&$D$12&\")=\"&$D$10&\" and localMonth(\"&$D$12&\") =\"&$E$10&\" and LocalDay(\"&$D$12&\")=\"&$F$10&\" and Barix(\"&$D$12&\",reference:=StartOfSession)=\"&A14&\"\", \"Bar\", \"\", \"Close\",\"5\",\"0\",\"PrimaryOnly\",,,\"False\",\"T\",\"EveryTick\")","v":159.19999999999999},6.7029214619957148E-3,null,null,null,""]
[14,"09:40:00","",null,null,null,"2018-07-11",{"$f":"RTD(\"cqg.rtd\",,\"StudyData\", \"Close(\"&$D$12&\") when LocalYear(\"&$D$12&\")=\"&$D$1&\" and localMonth(\"&$D$12&\") =\"&$E$1&\" and LocalDay(\"&$D$12&\")=\"&$F$1&\" and Barix(\"&$D$12&\",reference:=StartOfSession)=\"&A15&\"\", \"Bar\", \"\", \"Close\",\"5\",\"0\",\"PrimaryOnly\",,,\"False\",\"T\",\"EveryTick\")","v":165.74},-5.4272447687392757E-4,{"$f":"RTD(\"cqg.rtd\",,\"StudyData\", \"Close(\"&$D$12&\") when LocalYear(\"&$D$12&\")=\"&$D$2&\" and localMonth(\"&$D$12&\") =\"&$E$2&\" and LocalDay(\"&$D$12&\")=\"&$F$2&\" and Barix(\"&$D$12&\",reference:=StartOfSession)=\"&A15&\"\", \"Bar\", \"\", \"Close\",\"5\",\"0\",\"PrimaryOnly\",,,\"False\",\"T\",\"EveryTick\")","v":164.84},1.3589128697042416E-2,{"$f":"RTD(\"cqg.rtd\",,\"StudyData\", \"Close(\"&$D$12&\") when LocalYear(\"&$D$12&\")=\"&$D$3&\" and localMonth(\"&$D$12&\") =\"&$E$3&\" and LocalDay(\"&$D$12&\")=\"&$F$3&\" and Barix(\"&$D$12&\",reference:=StartOfSession)=\"&A15&\"\", \"Bar\", \"\", \"Close\",\"5\",\"0\",\"PrimaryOnly\",,,\"False\",\"T\",\"EveryTick\")","v":163.21},-4.0883573346350227E-3,{"$f":"RTD(\"cqg.rtd\",,\"StudyData\", \"Close(\"&$D$12&\") when LocalYear(\"&$D$12&\")=\"&$D$4&\" and localMonth(\"&$D$12&\") =\"&$E$4&\" and LocalDay(\"&$D$12&\")=\"&$F$4&\" and Barix(\"&$D$12&\",reference:=StartOfSession)=\"&A15&\"\", \"Bar\", \"\", \"Close\",\"5\",\"0\",\"PrimaryOnly\",,,\"False\",\"T\",\"EveryTick\")","v":163.95},3.734541447287775E-3,{"$f":"RTD(\"cqg.rtd\",,\"StudyData\", \"Close(\"&$D$12&\") when LocalYear(\"&$D$12&\")=\"&$D$5&\" and localMonth(\"&$D$12&\") =\"&$E$5&\" and LocalDay(\"&$D$12&\")=\"&$F$5&\" and Barix(\"&$D$12&\",reference:=StartOfSession)=\"&A15&\"\", \"Bar\", \"\", \"Close\",\"5\",\"0\",\"PrimaryOnly\",,,\"False\",\"T\",\"EveryTick\")","v":162.05000000000001},-6.7834237789828088E-4,{"$f":"RTD(\"cqg.rtd\",,\"StudyData\", \"Close(\"&$D$12&\") when LocalYear(\"&$D$12&\")=\"&$D$6&\" and localMonth(\"&$D$12&\") =\"&$E$6&\" and LocalDay(\"&$D$12&\")=\"&$F$6&\" and Barix(\"&$D$12&\",reference:=StartOfSession)=\"&A15&\"\", \"Bar\", \"\", \"Close\",\"5\",\"0\",\"PrimaryOnly\",,,\"False\",\"T\",\"EveryTick\")","v":160.88},1.8058409614545865E-3,{"$f":"RTD(\"cqg.rtd\",,\"StudyData\", \"Close(\"&$D$12&\") when LocalYear(\"&$D$12&\")=\"&$D$7&\" and localMonth(\"&$D$12&\") =\"&$E$7&\" and LocalDay(\"&$D$12&\")=\"&$F$7&\" and Barix(\"&$D$12&\",reference:=StartOfSession)=\"&A15&\"\", \"Bar\", \"\", \"Close\",\"5\",\"0\",\"PrimaryOnly\",,,\"False\",\"T\",\"EveryTick\")","v":158.94999999999999},3.9158719130927564E-3,{"$f":"RTD(\"cqg.rtd\",,\"StudyData\", \"Close(\"&$D$12&\") when LocalYear(\"&$D$12&\")=\"&$D$8&\" and localMonth(\"&$D$12&\") =\"&$E$8&\" and LocalDay(\"&$D$12&\")=\"&$F$8&\" and Barix(\"&$D$12&\",reference:=StartOfSession)=\"&A15&\"\", \"Bar\", \"\", \"Close\",\"5\",\"0\",\"PrimaryOnly\",,,\"False\",\"T\",\"EveryTick\")","v":160.01},8.1310983237425233E-4,{"$f":"RTD(\"cqg.rtd\",,\"StudyData\", \"Close(\"&$D$12&\") when LocalYear(\"&$D$12&\")=\"&$D$9&\" and localMonth(\"&$D$12&\") =\"&$E$9&\" and LocalDay(\"&$D$12&\")=\"&$F$9&\" and Barix(\"&$D$12&\",reference:=StartOfSession)=\"&A15&\"\", \"Bar\", \"\", \"Close\",\"5\",\"0\",\"PrimaryOnly\",,,\"False\",\"T\",\"EveryTick\")","v":158.74},1.8302303565794918E-3,{"$f":"RTD(\"cqg.rtd\",,\"StudyData\", \"Close(\"&$D$12&\") when LocalYear(\"&$D$12&\")=\"&$D$10&\" and localMonth(\"&$D$12&\") =\"&$E$10&\" and LocalDay(\"&$D$12&\")=\"&$F$10&\" and Barix(\"&$D$12&\",reference:=StartOfSession)=\"&A15&\"\", \"Bar\", \"\", \"Close\",\"5\",\"0\",\"PrimaryOnly\",,,\"False\",\"T\",\"EveryTick\")","v":159.41},8.0308587327684988E-3,null,null,null,""]
[15,"09:45:00",null,{"$f":"RTD(\"cqg.rtd\", ,\"ContractData\",D12, \"Ticksize\",, \"T\")","v":0.01},null,null,"2018-07-10",{"$f":"RTD(\"cqg.rtd\",,\"StudyData\", \"Close(\"&$D$12&\") when LocalYear(\"&$D$12&\")=\"&$D$1&\" and localMonth(\"&$D$12&\") =\"&$E$1&\" and LocalDay(\"&$D$12&\")=\"&$F$1&\" and Barix(\"&$D$12&\",reference:=StartOfSession)=\"&A16&\"\", \"Bar\", \"\", \"Close\",\"5\",\"0\",\"PrimaryOnly\",,,\"False\",\"T\",\"EveryTick\")","v":165.57},-1.5678707109691812E-3,{"$f":"RTD(\"cqg.rtd\",,\"StudyData\", \"Close(\"&$D$12&\") when LocalYear(\"&$D$12&\")=\"&$D$2&\" and localMonth(\"&$D$12&\") =\"&$E$2&\" and LocalDay(\"&$D$12&\")=\"&$F$2&\" and Barix(\"&$D$12&\",reference:=StartOfSession)=\"&A16&\"\", \"Bar\", \"\", \"Close\",\"5\",\"0\",\"PrimaryOnly\",,,\"False\",\"T\",\"EveryTick\")","v":164.78},1.322019307630822E-2,{"$f":"RTD(\"cqg.rtd\",,\"StudyData\", \"Close(\"&$D$12&\") when LocalYear(\"&$D$12&\")=\"&$D$3&\" and localMonth(\"&$D$12&\") =\"&$E$3&\" and LocalDay(\"&$D$12&\")=\"&$F$3&\" and Barix(\"&$D$12&\",reference:=StartOfSession)=\"&A16&\"\", \"Bar\", \"\", \"Close\",\"5\",\"0\",\"PrimaryOnly\",,,\"False\",\"T\",\"EveryTick\")","v":163.01},-5.3087625091530668E-3,{"$f":"RTD(\"cqg.rtd\",,\"StudyData\", \"Close(\"&$D$12&\") when LocalYear(\"&$D$12&\")=\"&$D$4&\" and localMonth(\"&$D$12&\") =\"&$E$4&\" and LocalDay(\"&$D$12&\")=\"&$F$4&\" and Barix(\"&$D$12&\",reference:=StartOfSession)=\"&A16&\"\", \"Bar\", \"\", \"Close\",\"5\",\"0\",\"PrimaryOnly\",,,\"False\",\"T\",\"EveryTick\")","v":163.95},3.734541447287775E-3,{"$f":"RTD(\"cqg.rtd\",,\"StudyData\", \"Close(\"&$D$12&\") when LocalYear(\"&$D$12&\")=\"&$D$5&\" and localMonth(\"&$D$12&\") =\"&$E$5&\" and LocalDay(\"&$D$12&\")=\"&$F$5&\" and Barix(\"&$D$12&\",reference:=StartOfSession)=\"&A16&\"\", \"Bar\", \"\", \"Close\",\"5\",\"0\",\"PrimaryOnly\",,,\"False\",\"T\",\"EveryTick\")","v":162.05000000000001},-6.7834237789828088E-4,{"$f":"RTD(\"cqg.rtd\",,\"StudyData\", \"Close(\"&$D$12&\") when LocalYear(\"&$D$12&\")=\"&$D$6&\" and localMonth(\"&$D$12&\") =\"&$E$6&\" and LocalDay(\"&$D$12&\")=\"&$F$6&\" and Barix(\"&$D$12&\",reference:=StartOfSession)=\"&A16&\"\", \"Bar\", \"\", \"Close\",\"5\",\"0\",\"PrimaryOnly\",,,\"False\",\"T\",\"EveryTick\")","v":161.12},3.3003300330033073E-3,{"$f":"RTD(\"cqg.rtd\",,\"StudyData\", \"Close(\"&$D$12&\") when LocalYear(\"&$D$12&\")=\"&$D$7&\" and localMonth(\"&$D$12&\") =\"&$E$7&\" and LocalDay(\"&$D$12&\")=\"&$F$7&\" and Barix(\"&$D$12&\",reference:=StartOfSession)=\"&A16&\"\", \"Bar\", \"\", \"Close\",\"5\",\"0\",\"PrimaryOnly\",,,\"False\",\"T\",\"EveryTick\")","v":159.13999999999999},5.1158971767825039E-3,{"$f":"RTD(\"cqg.rtd\",,\"StudyData\", \"Close(\"&$D$12&\") when LocalYear(\"&$D$12&\")=\"&$D$8&\" and localMonth(\"&$D$12&\") =\"&$E$8&\" and LocalDay(\"&$D$12&\")=\"&$F$8&\" and Barix(\"&$D$12&\",reference:=StartOfSession)=\"&A16&\"\", \"Bar\", \"\", \"Close\",\"5\",\"0\",\"PrimaryOnly\",,,\"False\",\"T\",\"EveryTick\")","v":159.85},-1.8764073054791804E-4,{"$f":"RTD(\"cqg.rtd\",,\"StudyData\", \"Close(\"&$D$12&\") when LocalYear(\"&$D$12&\")=\"&$D$9&\" and localMonth(\"&$D$12&\") =\"&$E$9&\" and LocalDay(\"&$D$12&\")=\"&$F$9&\" and Barix(\"&$D$12&\",reference:=StartOfSession)=\"&A16&\"\", \"Bar\", \"\", \"Close\",\"5\",\"0\",\"PrimaryOnly\",,,\"False\",\"T\",\"EveryTick\")","v":158.41999999999999},-1.8933417481856193E-4,{"$f":"RTD(\"cqg.rtd\",,\"StudyData\", \"Close(\"&$D$12&\") when LocalYear(\"&$D$12&\")=\"&$D$10&\" and localMonth(\"&$D$12&\") =\"&$E$10&\" and LocalDay(\"&$D$12&\")=\"&$F$10&\" and Barix(\"&$D$12&\",reference:=StartOfSession)=\"&A16&\"\", \"Bar\", \"\", \"Close\",\"5\",\"0\",\"PrimaryOnly\",,,\"False\",\"T\",\"EveryTick\")","v":159.51},8.6632098140888118E-3,null,null,null,""]
[16,"09:50:00",null,{"$f":"IF(D16>=1,0,IF(LEN(D16)-2=1,2,LEN(D16)-2))","v":2},null,{"$f":"VLOOKUP(D17,D18:E25,2,FALSE)","v":"#.00"},"2018-07-09",{"$f":"RTD(\"cqg.rtd\",,\"StudyData\", \"Close(\"&$D$12&\") when LocalYear(\"&$D$12&\")=\"&$D$1&\" and localMonth(\"&$D$12&\") =\"&$E$1&\" and LocalDay(\"&$D$12&\")=\"&$F$1&\" and Barix(\"&$D$12&\",reference:=StartOfSession)=\"&A17&\"\", \"Bar\", \"\", \"Close\",\"5\",\"0\",\"PrimaryOnly\",,,\"False\",\"T\",\"EveryTick\")","v":165.61},-1.3266598323584324E-3,{"$f":"RTD(\"cqg.rtd\",,\"StudyData\", \"Close(\"&$D$12&\") when LocalYear(\"&$D$12&\")=\"&$D$2&\" and localMonth(\"&$D$12&\") =\"&$E$2&\" and LocalDay(\"&$D$12&\")=\"&$F$2&\" and Barix(\"&$D$12&\",reference:=StartOfSession)=\"&A17&\"\", \"Bar\", \"\", \"Close\",\"5\",\"0\",\"PrimaryOnly\",,,\"False\",\"T\",\"EveryTick\")","v":164.78},1.322019307630822E-2,{"$f":"RTD(\"cqg.rtd\",,\"StudyData\", \"Close(\"&$D$12&\") when LocalYear(\"&$D$12&\")=\"&$D$3&\" and localMonth(\"&$D$12&\") =\"&$E$3&\" and LocalDay(\"&$D$12&\")=\"&$F$3&\" and Barix(\"&$D$12&\",reference:=StartOfSession)=\"&A17&\"\", \"Bar\", \"\", \"Close\",\"5\",\"0\",\"PrimaryOnly\",,,\"False\",\"T\",\"EveryTick\")","v":162.99},-5.4308030266047493E-3,{"$f":"RTD(\"cqg.rtd\",,\"StudyData\", \"Close(\"&$D$12&\") when LocalYear(\"&$D$12&\")=\"&$D$4&\" and localMonth(\"&$D$12&\") =\"&$E$4&\" and LocalDay(\"&$D$12&\")=\"&$F$4&\" and Barix(\"&$D$12&\",reference:=StartOfSession)=\"&A17&\"\", \"Bar\", \"\", \"Close\",\"5\",\"0\",\"PrimaryOnly\",,,\"False\",\"T\",\"EveryTick\")","v":163.76},2.5713236194440277E-3,{"$f":"RTD(\"cqg.rtd\",,\"StudyData\", \"Close(\"&$D$12&\") when LocalYear(\"&$D$12&\")=\"&$D$5&\" and localMonth(\"&$D$12&\") =\"&$E$5&\" and LocalDay(\"&$D$12&\")=\"&$F$5&\" and Barix(\"&$D$12&\",reference:=StartOfSession)=\"&A17&\"\", \"Bar\", \"\", \"Close\",\"5\",\"0\",\"PrimaryOnly\",,,\"False\",\"T\",\"EveryTick\")","v":162.19999999999999},2.466699555993589E-4,{"$f":"RTD(\"cqg.rtd\",,\"StudyData\", \"Close(\"&$D$12&\") when LocalYear(\"&$D$12&\")=\"&$D$6&\" and localMonth(\"&$D$12&\") =\"&$E$6&\" and LocalDay(\"&$D$12&\")=\"&$F$6&\" and Barix(\"&$D$12&\",reference:=StartOfSession)=\"&A17&\"\", \"Bar\", \"\", \"Close\",\"5\",\"0\",\"PrimaryOnly\",,,\"False\",\"T\",\"EveryTick\")","v":161.09},3.1135188990597173E-3,{"$f":"RTD(\"cqg.rtd\",,\"StudyData\", \"Close(\"&$D$12&\") when LocalYear(\"&$D$12&\")=\"&$D$7&\" and localMonth(\"&$D$12&\") =\"&$E$7&\" and LocalDay(\"&$D$12&\")=\"&$F$7&\" and Barix(\"&$D$12&\",reference:=StartOfSession)=\"&A17&\"\", \"Bar\", \"\", \"Close\",\"5\",\"0\",\"PrimaryOnly\",,,\"False\",\"T\",\"EveryTick\")","v":158.9},3.6000757910692421E-3,{"$f":"RTD(\"cqg.rtd\",,\"StudyData\", \"Close(\"&$D$12&\") when LocalYear(\"&$D$12&\")=\"&$D$8&\" and localMonth(\"&$D$12&\") =\"&$E$8&\" and LocalDay(\"&$D$12&\")=\"&$F$8&\" and Barix(\"&$D$12&\",reference:=StartOfSession)=\"&A17&\"\", \"Bar\", \"\", \"Close\",\"5\",\"0\",\"PrimaryOnly\",,,\"False\",\"T\",\"EveryTick\")","v":159.81},-4.3782837127841618E-4,{"$f":"RTD(\"cqg.rtd\",,\"StudyData\", \"Close(\"&$D$12&\") when LocalYear(\"&$D$12&\")=\"&$D$9&\" and localMonth(\"&$D$12&\") =\"&$E$9&\" and LocalDay(\"&$D$12&\")=\"&$F$9&\" and Barix(\"&$D$12&\",reference:=StartOfSession)=\"&A17&\"\", \"Bar\", \"\", \"Close\",\"5\",\"0\",\"PrimaryOnly\",,,\"False\",\"T\",\"EveryTick\")","v":158.41},-2.5244556642468945E-4,{"$f":"RTD(\"cqg.rtd\",,\"StudyData\", \"Close(\"&$D$12&\") when LocalYear(\"&$D$12&\")=\"&$D$10&\" and localMonth(\"&$D$12&\") =\"&$E$10&\" and LocalDay(\"&$D$12&\")=\"&$F$10&\" and Barix(\"&$D$12&\",reference:=StartOfSession)=\"&A17&\"\", \"Bar\", \"\", \"Close\",\"5\",\"0\",\"PrimaryOnly\",,,\"False\",\"T\",\"EveryTick\")","v":159.51},8.6632098140888118E-3,null,null,null,""]
[17,"09:55:00",null,0,"#",null,"2018-07-06",{"$f":"RTD(\"cqg.rtd\",,\"StudyData\", \"Close(\"&$D$12&\") when LocalYear(\"&$D$12&\")=\"&$D$1&\" and localMonth(\"&$D$12&\") =\"&$E$1&\" and LocalDay(\"&$D$12&\")=\"&$F$1&\" and Barix(\"&$D$12&\",reference:=StartOfSession)=\"&A18&\"\", \"Bar\", \"\", \"Close\",\"5\",\"0\",\"PrimaryOnly\",,,\"False\",\"T\",\"EveryTick\")","v":165.61},-1.3266598323584324E-3,{"$f":"RTD(\"cqg.rtd\",,\"StudyData\", \"Close(\"&$D$12&\") when LocalYear(\"&$D$12&\")=\"&$D$2&\" and localMonth(\"&$D$12&\") =\"&$E$2&\" and LocalDay(\"&$D$12&\")=\"&$F$2&\" and Barix(\"&$D$12&\",reference:=StartOfSession)=\"&A18&\"\", \"Bar\", \"\", \"Close\",\"5\",\"0\",\"PrimaryOnly\",,,\"False\",\"T\",\"EveryTick\")","v":164.8},1.3343171616553009E-2,{"$f":"RTD(\"cqg.rtd\",,\"StudyData\", \"Close(\"&$D$12&\") when LocalYear(\"&$D$12&\")=\"&$D$3&\" and localMonth(\"&$D$12&\") =\"&$E$3&\" and LocalDay(\"&$D$12&\")=\"&$F$3&\" and Barix(\"&$D$12&\",reference:=StartOfSession)=\"&A18&\"\", \"Bar\", \"\", \"Close\",\"5\",\"0\",\"PrimaryOnly\",,,\"False\",\"T\",\"EveryTick\")","v":162.99},-5.4308030266047493E-3,{"$f":"RTD(\"cqg.rtd\",,\"StudyData\", \"Close(\"&$D$12&\") when LocalYear(\"&$D$12&\")=\"&$D$4&\" and localMonth(\"&$D$12&\") =\"&$E$4&\" and LocalDay(\"&$D$12&\")=\"&$F$4&\" and Barix(\"&$D$12&\",reference:=StartOfSession)=\"&A18&\"\", \"Bar\", \"\", \"Close\",\"5\",\"0\",\"PrimaryOnly\",,,\"False\",\"T\",\"EveryTick\")","v":163.79},2.7549895922614706E-3,{"$f":"RTD(\"cqg.rtd\",,\"StudyData\", \"Close(\"&$D$12&\") when LocalYear(\"&$D$12&\")=\"&$D$5&\" and localMonth(\"&$D$12&\") =\"&$E$5&\" and LocalDay(\"&$D$12&\")=\"&$F$5&\" and Barix(\"&$D$12&\",reference:=StartOfSession)=\"&A18&\"\", \"Bar\", \"\", \"Close\",\"5\",\"0\",\"PrimaryOnly\",,,\"False\",\"T\",\"EveryTick\")","v":162.25},5.5500740009868904E-4,{"$f":"RTD(\"cqg.rtd\",,\"StudyData\", \"Close(\"&$D$12&\") when LocalYear(\"&$D$12&\")=\"&$D$6&\" and localMonth(\"&$D$12&\") =\"&$E$6&\" and LocalDay(\"&$D$12&\")=\"&$F$6&\" and Barix(\"&$D$12&\",reference:=StartOfSession)=\"&A18&\"\", \"Bar\", \"\", \"Close\",\"5\",\"0\",\"PrimaryOnly\",,,\"False\",\"T\",\"EveryTick\")","v":161.19999999999999},3.798493056852763E-3,{"$f":"RTD(\"cqg.rtd\",,\"StudyData\", \"Close(\"&$D$12&\") when LocalYear(\"&$D$12&\")=\"&$D$7&\" and localMonth(\"&$D$12&\") =\"&$E$7&\" and LocalDay(\"&$D$12&\")=\"&$F$7&\" and Barix(\"&$D$12&\",reference:=StartOfSession)=\"&A18&\"\", \"Bar\", \"\", \"Close\",\"5\",\"0\",\"PrimaryOnly\",,,\"False\",\"T\",\"EveryTick\")","v":158.93},3.7895534642834222E-3,{"$f":"RTD(\"cqg.rtd\",,\"StudyData\", \"Close(\"&$D$12&\") when LocalYear(\"&$D$12&\")=\"&$D$8&\" and localMonth(\"&$D$12&\") =\"&$E$8&\" and LocalDay(\"&$D$12&\")=\"&$F$8&\" and Barix(\"&$D$12&\",reference:=StartOfSession)=\"&A18&\"\", \"Bar\", \"\", \"Close\",\"5\",\"0\",\"PrimaryOnly\",,,\"False\",\"T\",\"EveryTick\")","v":159.80000000000001},-5.0037528146099628E-4,{"$f":"RTD(\"cqg.rtd\",,\"StudyData\", \"Close(\"&$D$12&\") when LocalYear(\"&$D$12&\")=\"&$D$9&\" and localMonth(\"&$D$12&\") =\"&$E$9&\" and LocalDay(\"&$D$12&\")=\"&$F$9&\" and Barix(\"&$D$12&\",reference:=StartOfSession)=\"&A18&\"\", \"Bar\", \"\", \"Close\",\"5\",\"0\",\"PrimaryOnly\",,,\"False\",\"T\",\"EveryTick\")","v":158.44999999999999},0,{"$f":"RTD(\"cqg.rtd\",,\"StudyData\", \"Close(\"&$D$12&\") when LocalYear(\"&$D$12&\")=\"&$D$10&\" and localMonth(\"&$D$12&\") =\"&$E$10&\" and LocalDay(\"&$D$12&\")=\"&$F$10&\" and Barix(\"&$D$12&\",reference:=StartOfSession)=\"&A18&\"\", \"Bar\", \"\", \"Close\",\"5\",\"0\",\"PrimaryOnly\",,,\"False\",\"T\",\"EveryTick\")","v":159.71},9.9279119767296184E-3,null,null,null,""]
[18,"10:00:00",null,1,"#.0",null,"2018-07-05",{"$f":"RTD(\"cqg.rtd\",,\"StudyData\", \"Close(\"&$D$12&\") when LocalYear(\"&$D$12&\")=\"&$D$1&\" and localMonth(\"&$D$12&\") =\"&$E$1&\" and LocalDay(\"&$D$12&\")=\"&$F$1&\" and Barix(\"&$D$12&\",reference:=StartOfSession)=\"&A19&\"\", \"Bar\", \"\", \"Close\",\"5\",\"0\",\"PrimaryOnly\",,,\"False\",\"T\",\"EveryTick\")","v":165.61},-1.3266598323584324E-3,{"$f":"RTD(\"cqg.rtd\",,\"StudyData\", \"Close(\"&$D$12&\") when LocalYear(\"&$D$12&\")=\"&$D$2&\" and localMonth(\"&$D$12&\") =\"&$E$2&\" and LocalDay(\"&$D$12&\")=\"&$F$2&\" and Barix(\"&$D$12&\",reference:=StartOfSession)=\"&A19&\"\", \"Bar\", \"\", \"Close\",\"5\",\"0\",\"PrimaryOnly\",,,\"False\",\"T\",\"EveryTick\")","v":164.86},1.3712107237287205E-2,{"$f":"RTD(\"cqg.rtd\",,\"StudyData\", \"Close(\"&$D$12&\") when LocalYear(\"&$D$12&\")=\"&$D$3&\" and localMonth(\"&$D$12&\") =\"&$E$3&\" and LocalDay(\"&$D$12&\")=\"&$F$3&\" and Barix(\"&$D$12&\",reference:=StartOfSession)=\"&A19&\"\", \"Bar\", \"\", \"Close\",\"5\",\"0\",\"PrimaryOnly\",,,\"False\",\"T\",\"EveryTick\")","v":163},-5.3697827678789081E-3,{"$f":"RTD(\"cqg.rtd\",,\"StudyData\", \"Close(\"&$D$12&\") when LocalYear(\"&$D$12&\")=\"&$D$4&\" and localMonth(\"&$D$12&\") =\"&$E$4&\" and LocalDay(\"&$D$12&\")=\"&$F$4&\" and Barix(\"&$D$12&\",reference:=StartOfSession)=\"&A19&\"\", \"Bar\", \"\", \"Close\",\"5\",\"0\",\"PrimaryOnly\",,,\"False\",\"T\",\"EveryTick\")","v":164.01},4.1018733929226612E-3,{"$f":"RTD(\"cqg.rtd\",,\"StudyData\", \"Close(\"&$D$12&\") when LocalYear(\"&$D$12&\")=\"&$D$5&\" and localMonth(\"&$D$12&\") =\"&$E$5&\" and LocalDay(\"&$D$12&\")=\"&$F$5&\" and Barix(\"&$D$12&\",reference:=StartOfSession)=\"&A19&\"\", \"Bar\", \"\", \"Close\",\"5\",\"0\",\"PrimaryOnly\",,,\"False\",\"T\",\"EveryTick\")","v":162.28},7.4000986679825201E-4,{"$f":"RTD(\"cqg.rtd\",,\"StudyData\", \"Close(\"&$D$12&\") when LocalYear(\"&$D$12&\")=\"&$D$6&\" and localMonth(\"&$D$12&\") =\"&$E$6&\" and LocalDay(\"&$D$12&\")=\"&$F$6&\" and Barix(\"&$D$12&\",reference:=StartOfSession)=\"&A19&\"\", \"Bar\", \"\", \"Close\",\"5\",\"0\",\"PrimaryOnly\",,,\"False\",\"T\",\"EveryTick\")","v":161.35},4.7325487265707138E-3,{"$f":"RTD(\"cqg.rtd\",,\"StudyData\", \"Close(\"&$D$12&\") when LocalYear(\"&$D$12&\")=\"&$D$7&\" and localMonth(\"&$D$12&\") =\"&$E$7&\" and LocalDay(\"&$D$12&\")=\"&$F$7&\" and Barix(\"&$D$12&\",reference:=StartOfSession)=\"&A19&\"\", \"Bar\", \"\", \"Close\",\"5\",\"0\",\"PrimaryOnly\",,,\"False\",\"T\",\"EveryTick\")","v":159.01},4.2948272595211166E-3,{"$f":"RTD(\"cqg.rtd\",,\"StudyData\", \"Close(\"&$D$12&\") when LocalYear(\"&$D$12&\")=\"&$D$8&\" and localMonth(\"&$D$12&\") =\"&$E$8&\" and LocalDay(\"&$D$12&\")=\"&$F$8&\" and Barix(\"&$D$12&\",reference:=StartOfSession)=\"&A19&\"\", \"Bar\", \"\", \"Close\",\"5\",\"0\",\"PrimaryOnly\",,,\"False\",\"T\",\"EveryTick\")","v":159.66},-1.3760320240180065E-3,{"$f":"RTD(\"cqg.rtd\",,\"StudyData\", \"Close(\"&$D$12&\") when LocalYear(\"&$D$12&\")=\"&$D$9&\" and localMonth(\"&$D$12&\") =\"&$E$9&\" and LocalDay(\"&$D$12&\")=\"&$F$9&\" and Barix(\"&$D$12&\",reference:=StartOfSession)=\"&A19&\"\", \"Bar\", \"\", \"Close\",\"5\",\"0\",\"PrimaryOnly\",,,\"False\",\"T\",\"EveryTick\")","v":158.62},1.0728936573052442E-3,{"$f":"RTD(\"cqg.rtd\",,\"StudyData\", \"Close(\"&$D$12&\") when LocalYear(\"&$D$12&\")=\"&$D$10&\" and localMonth(\"&$D$12&\") =\"&$E$10&\" and LocalDay(\"&$D$12&\")=\"&$F$10&\" and Barix(\"&$D$12&\",reference:=StartOfSession)=\"&A19&\"\", \"Bar\", \"\", \"Close\",\"5\",\"0\",\"PrimaryOnly\",,,\"False\",\"T\",\"EveryTick\")","v":159.41},8.0308587327684988E-3,null,null,null,""]
[19,"10:05:00",null,2,"#.00",null,"2018-07-03",{"$f":"RTD(\"cqg.rtd\",,\"StudyData\", \"Close(\"&$D$12&\") when LocalYear(\"&$D$12&\")=\"&$D$1&\" and localMonth(\"&$D$12&\") =\"&$E$1&\" and LocalDay(\"&$D$12&\")=\"&$F$1&\" and Barix(\"&$D$12&\",reference:=StartOfSession)=\"&A20&\"\", \"Bar\", \"\", \"Close\",\"5\",\"0\",\"PrimaryOnly\",,,\"False\",\"T\",\"EveryTick\")","v":165.65},-1.0854489537478551E-3,{"$f":"RTD(\"cqg.rtd\",,\"StudyData\", \"Close(\"&$D$12&\") when LocalYear(\"&$D$12&\")=\"&$D$2&\" and localMonth(\"&$D$12&\") =\"&$E$2&\" and LocalDay(\"&$D$12&\")=\"&$F$2&\" and Barix(\"&$D$12&\",reference:=StartOfSession)=\"&A20&\"\", \"Bar\", \"\", \"Close\",\"5\",\"0\",\"PrimaryOnly\",,,\"False\",\"T\",\"EveryTick\")","v":164.95},1.4265510668388324E-2,{"$f":"RTD(\"cqg.rtd\",,\"StudyData\", \"Close(\"&$D$12&\") when LocalYear(\"&$D$12&\")=\"&$D$3&\" and localMonth(\"&$D$12&\") =\"&$E$3&\" and LocalDay(\"&$D$12&\")=\"&$F$3&\" and Barix(\"&$D$12&\",reference:=StartOfSession)=\"&A20&\"\", \"Bar\", \"\", \"Close\",\"5\",\"0\",\"PrimaryOnly\",,,\"False\",\"T\",\"EveryTick\")","v":163},-5.3697827678789081E-3,{"$f":"RTD(\"cqg.rtd\",,\"StudyData\", \"Close(\"&$D$12&\") when LocalYear(\"&$D$12&\")=\"&$D$4&\" and localMonth(\"&$D$12&\") =\"&$E$4&\" and LocalDay(\"&$D$12&\")=\"&$F$4&\" and Barix(\"&$D$12&\",reference:=StartOfSession)=\"&A20&\"\", \"Bar\", \"\", \"Close\",\"5\",\"0\",\"PrimaryOnly\",,,\"False\",\"T\",\"EveryTick\")","v":164.01},4.1018733929226612E-3,{"$f":"RTD(\"cqg.rtd\",,\"StudyData\", \"Close(\"&$D$12&\") when LocalYear(\"&$D$12&\")=\"&$D$5&\" and localMonth(\"&$D$12&\") =\"&$E$5&\" and LocalDay(\"&$D$12&\")=\"&$F$5&\" and Barix(\"&$D$12&\",reference:=StartOfSession)=\"&A20&\"\", \"Bar\", \"\", \"Close\",\"5\",\"0\",\"PrimaryOnly\",,,\"False\",\"T\",\"EveryTick\")","v":162.30000000000001},8.6334484459801917E-4,{"$f":"RTD(\"cqg.rtd\",,\"StudyData\", \"Close(\"&$D$12&\") when LocalYear(\"&$D$12&\")=\"&$D$6&\" and localMonth(\"&$D$12&\") =\"&$E$6&\" and LocalDay(\"&$D$12&\")=\"&$F$6&\" and Barix(\"&$D$12&\",reference:=StartOfSession)=\"&A20&\"\", \"Bar\", \"\", \"Close\",\"5\",\"0\",\"PrimaryOnly\",,,\"False\",\"T\",\"EveryTick\")","v":161.56},6.0402266641758446E-3,{"$f":"RTD(\"cqg.rtd\",,\"StudyData\", \"Close(\"&$D$12&\") when LocalYear(\"&$D$12&\")=\"&$D$7&\" and localMonth(\"&$D$12&\") =\"&$E$7&\" and LocalDay(\"&$D$12&\")=\"&$F$7&\" and Barix(\"&$D$12&\",reference:=StartOfSession)=\"&A20&\"\", \"Bar\", \"\", \"Close\",\"5\",\"0\",\"PrimaryOnly\",,,\"False\",\"T\",\"EveryTick\")","v":158.91},3.663235015473909E-3,{"$f":"RTD(\"cqg.rtd\",,\"StudyData\", \"Close(\"&$D$12&\") when LocalYear(\"&$D$12&\")=\"&$D$8&\" and localMonth(\"&$D$12&\") =\"&$E$8&\" and LocalDay(\"&$D$12&\")=\"&$F$8&\" and Barix(\"&$D$12&\",reference:=StartOfSession)=\"&A20&\"\", \"Bar\", \"\", \"Close\",\"5\",\"0\",\"PrimaryOnly\",,,\"False\",\"T\",\"EveryTick\")","v":159.54},-2.1265949462096786E-3,{"$f":"RTD(\"cqg.rtd\",,\"StudyData\", \"Close(\"&$D$12&\") when LocalYear(\"&$D$12&\")=\"&$D$9&\" and localMonth(\"&$D$12&\") =\"&$E$9&\" and LocalDay(\"&$D$12&\")=\"&$F$9&\" and Barix(\"&$D$12&\",reference:=StartOfSession)=\"&A20&\"\", \"Bar\", \"\", \"Close\",\"5\",\"0\",\"PrimaryOnly\",,,\"False\",\"T\",\"EveryTick\")","v":158.55000000000001},6.3111391606199274E-4,{"$f":"RTD(\"cqg.rtd\",,\"StudyData\", \"Close(\"&$D$12&\") when LocalYear(\"&$D$12&\")=\"&$D$10&\" and localMonth(\"&$D$12&\") =\"&$E$10&\" and LocalDay(\"&$D$12&\")=\"&$F$10&\" and Barix(\"&$D$12&\",reference:=StartOfSession)=\"&A20&\"\", \"Bar\", \"\", \"Close\",\"5\",\"0\",\"PrimaryOnly\",,,\"False\",\"T\",\"EveryTick\")","v":159.43},8.1573289490326321E-3,null,null,null,""]
[20,"10:10:00",null,3,"#.000",null,"2018-07-02",{"$f":"RTD(\"cqg.rtd\",,\"StudyData\", \"Close(\"&$D$12&\") when LocalYear(\"&$D$12&\")=\"&$D$1&\" and localMonth(\"&$D$12&\") =\"&$E$1&\" and LocalDay(\"&$D$12&\")=\"&$F$1&\" and Barix(\"&$D$12&\",reference:=StartOfSession)=\"&A21&\"\", \"Bar\", \"\", \"Close\",\"5\",\"0\",\"PrimaryOnly\",,,\"False\",\"T\",\"EveryTick\")","v":165.65},-1.0854489537478551E-3,{"$f":"RTD(\"cqg.rtd\",,\"StudyData\", \"Close(\"&$D$12&\") when LocalYear(\"&$D$12&\")=\"&$D$2&\" and localMonth(\"&$D$12&\") =\"&$E$2&\" and LocalDay(\"&$D$12&\")=\"&$F$2&\" and Barix(\"&$D$12&\",reference:=StartOfSession)=\"&A21&\"\", \"Bar\", \"\", \"Close\",\"5\",\"0\",\"PrimaryOnly\",,,\"False\",\"T\",\"EveryTick\")","v":165.14},1.5433806800713219E-2,{"$f":"RTD(\"cqg.rtd\",,\"StudyData\", \"Close(\"&$D$12&\") when LocalYear(\"&$D$12&\")=\"&$D$3&\" and localMonth(\"&$D$12&\") =\"&$E$3&\" and LocalDay(\"&$D$12&\")=\"&$F$3&\" and Barix(\"&$D$12&\",reference:=StartOfSession)=\"&A21&\"\", \"Bar\", \"\", \"Close\",\"5\",\"0\",\"PrimaryOnly\",,,\"False\",\"T\",\"EveryTick\")","v":162.86000000000001},-6.2240663900413832E-3,{"$f":"RTD(\"cqg.rtd\",,\"StudyData\", \"Close(\"&$D$12&\") when LocalYear(\"&$D$12&\")=\"&$D$4&\" and localMonth(\"&$D$12&\") =\"&$E$4&\" and LocalDay(\"&$D$12&\")=\"&$F$4&\" and Barix(\"&$D$12&\",reference:=StartOfSession)=\"&A21&\"\", \"Bar\", \"\", \"Close\",\"5\",\"0\",\"PrimaryOnly\",,,\"False\",\"T\",\"EveryTick\")","v":163.88},3.3059875107137996E-3,{"$f":"RTD(\"cqg.rtd\",,\"StudyData\", \"Close(\"&$D$12&\") when LocalYear(\"&$D$12&\")=\"&$D$5&\" and localMonth(\"&$D$12&\") =\"&$E$5&\" and LocalDay(\"&$D$12&\")=\"&$F$5&\" and Barix(\"&$D$12&\",reference:=StartOfSession)=\"&A21&\"\", \"Bar\", \"\", \"Close\",\"5\",\"0\",\"PrimaryOnly\",,,\"False\",\"T\",\"EveryTick\")","v":162.30000000000001},8.6334484459801917E-4,{"$f":"RTD(\"cqg.rtd\",,\"StudyData\", \"Close(\"&$D$12&\") when LocalYear(\"&$D$12&\")=\"&$D$6&\" and localMonth(\"&$D$12&\") =\"&$E$6&\" and LocalDay(\"&$D$12&\")=\"&$F$6&\" and Barix(\"&$D$12&\",reference:=StartOfSession)=\"&A21&\"\", \"Bar\", \"\", \"Close\",\"5\",\"0\",\"PrimaryOnly\",,,\"False\",\"T\",\"EveryTick\")","v":161.56},6.0402266641758446E-3,{"$f":"RTD(\"cqg.rtd\",,\"StudyData\", \"Close(\"&$D$12&\") when LocalYear(\"&$D$12&\")=\"&$D$7&\" and localMonth(\"&$D$12&\") =\"&$E$7&\" and LocalDay(\"&$D$12&\")=\"&$F$7&\" and Barix(\"&$D$12&\",reference:=StartOfSession)=\"&A21&\"\", \"Bar\", \"\", \"Close\",\"5\",\"0\",\"PrimaryOnly\",,,\"False\",\"T\",\"EveryTick\")","v":159.16},5.2422156255920171E-3,{"$f":"RTD(\"cqg.rtd\",,\"StudyData\", \"Close(\"&$D$12&\") when LocalYear(\"&$D$12&\")=\"&$D$8&\" and localMonth(\"&$D$12&\") =\"&$E$8&\" and LocalDay(\"&$D$12&\")=\"&$F$8&\" and Barix(\"&$D$12&\",reference:=StartOfSession)=\"&A21&\"\", \"Bar\", \"\", \"Close\",\"5\",\"0\",\"PrimaryOnly\",,,\"False\",\"T\",\"EveryTick\")","v":159.59},-1.8138603952964226E-3,{"$f":"RTD(\"cqg.rtd\",,\"StudyData\", \"Close(\"&$D$12&\") when LocalYear(\"&$D$12&\")=\"&$D$9&\" and localMonth(\"&$D$12&\") =\"&$E$9&\" and LocalDay(\"&$D$12&\")=\"&$F$9&\" and Barix(\"&$D$12&\",reference:=StartOfSession)=\"&A21&\"\", \"Bar\", \"\", \"Close\",\"5\",\"0\",\"PrimaryOnly\",,,\"False\",\"T\",\"EveryTick\")","v":158.35},-6.3111391606181331E-4,{"$f":"RTD(\"cqg.rtd\",,\"StudyData\", \"Close(\"&$D$12&\") when LocalYear(\"&$D$12&\")=\"&$D$10&\" and localMonth(\"&$D$12&\") =\"&$E$10&\" and LocalDay(\"&$D$12&\")=\"&$F$10&\" and Barix(\"&$D$12&\",reference:=StartOfSession)=\"&A21&\"\", \"Bar\", \"\", \"Close\",\"5\",\"0\",\"PrimaryOnly\",,,\"False\",\"T\",\"EveryTick\")","v":159.47999999999999},8.4735044896926993E-3,null,null,null,""]
[21,"10:15:00",null,4,"#.0000",null,"2018-06-29",{"$f":"RTD(\"cqg.rtd\",,\"StudyData\", \"Close(\"&$D$12&\") when LocalYear(\"&$D$12&\")=\"&$D$1&\" and localMonth(\"&$D$12&\") =\"&$E$1&\" and LocalDay(\"&$D$12&\")=\"&$F$1&\" and Barix(\"&$D$12&\",reference:=StartOfSession)=\"&A22&\"\", \"Bar\", \"\", \"Close\",\"5\",\"0\",\"PrimaryOnly\",,,\"False\",\"T\",\"EveryTick\")","v":165.73},-6.0302719652670042E-4,{"$f":"RTD(\"cqg.rtd\",,\"StudyData\", \"Close(\"&$D$12&\") when LocalYear(\"&$D$12&\")=\"&$D$2&\" and localMonth(\"&$D$12&\") =\"&$E$2&\" and LocalDay(\"&$D$12&\")=\"&$F$2&\" and Barix(\"&$D$12&\",reference:=StartOfSession)=\"&A22&\"\", \"Bar\", \"\", \"Close\",\"5\",\"0\",\"PrimaryOnly\",,,\"False\",\"T\",\"EveryTick\")","v":165.14},1.5433806800713219E-2,{"$f":"RTD(\"cqg.rtd\",,\"StudyData\", \"Close(\"&$D$12&\") when LocalYear(\"&$D$12&\")=\"&$D$3&\" and localMonth(\"&$D$12&\") =\"&$E$3&\" and LocalDay(\"&$D$12&\")=\"&$F$3&\" and Barix(\"&$D$12&\",reference:=StartOfSession)=\"&A22&\"\", \"Bar\", \"\", \"Close\",\"5\",\"0\",\"PrimaryOnly\",,,\"False\",\"T\",\"EveryTick\")","v":162.77000000000001},-6.7732487185744768E-3,{"$f":"RTD(\"cqg.rtd\",,\"StudyData\", \"Close(\"&$D$12&\") when LocalYear(\"&$D$12&\")=\"&$D$4&\" and localMonth(\"&$D$12&\") =\"&$E$4&\" and LocalDay(\"&$D$12&\")=\"&$F$4&\" and Barix(\"&$D$12&\",reference:=StartOfSession)=\"&A22&\"\", \"Bar\", \"\", \"Close\",\"5\",\"0\",\"PrimaryOnly\",,,\"False\",\"T\",\"EveryTick\")","v":163.79},2.7549895922614706E-3,{"$f":"RTD(\"cqg.rtd\",,\"StudyData\", \"Close(\"&$D$12&\") when LocalYear(\"&$D$12&\")=\"&$D$5&\" and localMonth(\"&$D$12&\") =\"&$E$5&\" and LocalDay(\"&$D$12&\")=\"&$F$5&\" and Barix(\"&$D$12&\",reference:=StartOfSession)=\"&A22&\"\", \"Bar\", \"\", \"Close\",\"5\",\"0\",\"PrimaryOnly\",,,\"False\",\"T\",\"EveryTick\")","v":162.29},8.0167735569804794E-4,{"$f":"RTD(\"cqg.rtd\",,\"StudyData\", \"Close(\"&$D$12&\") when LocalYear(\"&$D$12&\")=\"&$D$6&\" and localMonth(\"&$D$12&\") =\"&$E$6&\" and LocalDay(\"&$D$12&\")=\"&$F$6&\" and Barix(\"&$D$12&\",reference:=StartOfSession)=\"&A22&\"\", \"Bar\", \"\", \"Close\",\"5\",\"0\",\"PrimaryOnly\",,,\"False\",\"T\",\"EveryTick\")","v":161.63999999999999},6.5383896880253003E-3,{"$f":"RTD(\"cqg.rtd\",,\"StudyData\", \"Close(\"&$D$12&\") when LocalYear(\"&$D$12&\")=\"&$D$7&\" and localMonth(\"&$D$12&\") =\"&$E$7&\" and LocalDay(\"&$D$12&\")=\"&$F$7&\" and Barix(\"&$D$12&\",reference:=StartOfSession)=\"&A22&\"\", \"Bar\", \"\", \"Close\",\"5\",\"0\",\"PrimaryOnly\",,,\"False\",\"T\",\"EveryTick\")","v":159.31},6.1896039916629177E-3,{"$f":"RTD(\"cqg.rtd\",,\"StudyData\", \"Close(\"&$D$12&\") when LocalYear(\"&$D$12&\")=\"&$D$8&\" and localMonth(\"&$D$12&\") =\"&$E$8&\" and LocalDay(\"&$D$12&\")=\"&$F$8&\" and Barix(\"&$D$12&\",reference:=StartOfSession)=\"&A22&\"\", \"Bar\", \"\", \"Close\",\"5\",\"0\",\"PrimaryOnly\",,,\"False\",\"T\",\"EveryTick\")","v":159.53},-2.1891418563922587E-3,{"$f":"RTD(\"cqg.rtd\",,\"StudyData\", \"Close(\"&$D$12&\") when LocalYear(\"&$D$12&\")=\"&$D$9&\" and localMonth(\"&$D$12&\") =\"&$E$9&\" and LocalDay(\"&$D$12&\")=\"&$F$9&\" and Barix(\"&$D$12&\",reference:=StartOfSession)=\"&A22&\"\", \"Bar\", \"\", \"Close\",\"5\",\"0\",\"PrimaryOnly\",,,\"False\",\"T\",\"EveryTick\")","v":158.30000000000001},-9.4667087409263035E-4,{"$f":"RTD(\"cqg.rtd\",,\"StudyData\", \"Close(\"&$D$12&\") when LocalYear(\"&$D$12&\")=\"&$D$10&\" and localMonth(\"&$D$12&\") =\"&$E$10&\" and LocalDay(\"&$D$12&\")=\"&$F$10&\" and Barix(\"&$D$12&\",reference:=StartOfSession)=\"&A22&\"\", \"Bar\", \"\", \"Close\",\"5\",\"0\",\"PrimaryOnly\",,,\"False\",\"T\",\"EveryTick\")","v":159.47999999999999},8.4735044896926993E-3,null,null,null,""]
[22,"10:20:00",null,5,"#.00000",null,null,{"$f":"RTD(\"cqg.rtd\",,\"StudyData\", \"Close(\"&$D$12&\") when LocalYear(\"&$D$12&\")=\"&$D$1&\" and localMonth(\"&$D$12&\") =\"&$E$1&\" and LocalDay(\"&$D$12&\")=\"&$F$1&\" and Barix(\"&$D$12&\",reference:=StartOfSession)=\"&A23&\"\", \"Bar\", \"\", \"Close\",\"5\",\"0\",\"PrimaryOnly\",,,\"False\",\"T\",\"EveryTick\")","v":165.73},-6.0302719652670042E-4,{"$f":"RTD(\"cqg.rtd\",,\"StudyData\", \"Close(\"&$D$12&\") when LocalYear(\"&$D$12&\")=\"&$D$2&\" and localMonth(\"&$D$12&\") =\"&$E$2&\" and LocalDay(\"&$D$12&\")=\"&$F$2&\" and Barix(\"&$D$12&\",reference:=StartOfSession)=\"&A23&\"\", \"Bar\", \"\", \"Close\",\"5\",\"0\",\"PrimaryOnly\",,,\"False\",\"T\",\"EveryTick\")","v":165.14},1.5433806800713219E-2,{"$f":"RTD(\"cqg.rtd\",,\"StudyData\", \"Close(\"&$D$12&\") when LocalYear(\"&$D$12&\")=\"&$D$3&\" and localMonth(\"&$D$12&\") =\"&$E$3&\" and LocalDay(\"&$D$12&\")=\"&$F$3&\" and Barix(\"&$D$12&\",reference:=StartOfSession)=\"&A23&\"\", \"Bar\", \"\", \"Close\",\"5\",\"0\",\"PrimaryOnly\",,,\"False\",\"T\",\"EveryTick\")","v":162.54},-8.176714669270219E-3,{"$f":"RTD(\"cqg.rtd\",,\"StudyData\", \"Close(\"&$D$12&\") when LocalYear(\"&$D$12&\")=\"&$D$4&\" and localMonth(\"&$D$12&\") =\"&$E$4&\" and LocalDay(\"&$D$12&\")=\"&$F$4&\" and Barix(\"&$D$12&\",reference:=StartOfSession)=\"&A23&\"\", \"Bar\", \"\", \"Close\",\"5\",\"0\",\"PrimaryOnly\",,,\"False\",\"T\",\"EveryTick\")","v":163.79},2.7549895922614706E-3,{"$f":"RTD(\"cqg.rtd\",,\"StudyData\", \"Close(\"&$D$12&\") when LocalYear(\"&$D$12&\")=\"&$D$5&\" and localMonth(\"&$D$12&\") =\"&$E$5&\" and LocalDay(\"&$D$12&\")=\"&$F$5&\" and Barix(\"&$D$12&\",reference:=StartOfSession)=\"&A23&\"\", \"Bar\", \"\", \"Close\",\"5\",\"0\",\"PrimaryOnly\",,,\"False\",\"T\",\"EveryTick\")","v":162.29},8.0167735569804794E-4,{"$f":"RTD(\"cqg.rtd\",,\"StudyData\", \"Close(\"&$D$12&\") when LocalYear(\"&$D$12&\")=\"&$D$6&\" and localMonth(\"&$D$12&\") =\"&$E$6&\" and LocalDay(\"&$D$12&\")=\"&$F$6&\" and Barix(\"&$D$12&\",reference:=StartOfSession)=\"&A23&\"\", \"Bar\", \"\", \"Close\",\"5\",\"0\",\"PrimaryOnly\",,,\"False\",\"T\",\"EveryTick\")","v":161.63999999999999},6.5383896880253003E-3,{"$f":"RTD(\"cqg.rtd\",,\"StudyData\", \"Close(\"&$D$12&\") when LocalYear(\"&$D$12&\")=\"&$D$7&\" and localMonth(\"&$D$12&\") =\"&$E$7&\" and LocalDay(\"&$D$12&\")=\"&$F$7&\" and Barix(\"&$D$12&\",reference:=StartOfSession)=\"&A23&\"\", \"Bar\", \"\", \"Close\",\"5\",\"0\",\"PrimaryOnly\",,,\"False\",\"T\",\"EveryTick\")","v":159.31},6.1896039916629177E-3,{"$f":"RTD(\"cqg.rtd\",,\"StudyData\", \"Close(\"&$D$12&\") when LocalYear(\"&$D$12&\")=\"&$D$8&\" and localMonth(\"&$D$12&\") =\"&$E$8&\" and LocalDay(\"&$D$12&\")=\"&$F$8&\" and Barix(\"&$D$12&\",reference:=StartOfSession)=\"&A23&\"\", \"Bar\", \"\", \"Close\",\"5\",\"0\",\"PrimaryOnly\",,,\"False\",\"T\",\"EveryTick\")","v":159.59},-1.8138603952964226E-3,{"$f":"RTD(\"cqg.rtd\",,\"StudyData\", \"Close(\"&$D$12&\") when LocalYear(\"&$D$12&\")=\"&$D$9&\" and localMonth(\"&$D$12&\") =\"&$E$9&\" and LocalDay(\"&$D$12&\")=\"&$F$9&\" and Barix(\"&$D$12&\",reference:=StartOfSession)=\"&A23&\"\", \"Bar\", \"\", \"Close\",\"5\",\"0\",\"PrimaryOnly\",,,\"False\",\"T\",\"EveryTick\")","v":158.43},-1.2622278321225503E-4,{"$f":"RTD(\"cqg.rtd\",,\"StudyData\", \"Close(\"&$D$12&\") when LocalYear(\"&$D$12&\")=\"&$D$10&\" and localMonth(\"&$D$12&\") =\"&$E$10&\" and LocalDay(\"&$D$12&\")=\"&$F$10&\" and Barix(\"&$D$12&\",reference:=StartOfSession)=\"&A23&\"\", \"Bar\", \"\", \"Close\",\"5\",\"0\",\"PrimaryOnly\",,,\"False\",\"T\",\"EveryTick\")","v":159.47999999999999},8.4735044896926993E-3,null,null,null,22]
[23,"10:25:00",null,6,"#.000000",null,null,{"$f":"RTD(\"cqg.rtd\",,\"StudyData\", \"Close(\"&$D$12&\") when LocalYear(\"&$D$12&\")=\"&$D$1&\" and localMonth(\"&$D$12&\") =\"&$E$1&\" and LocalDay(\"&$D$12&\")=\"&$F$1&\" and Barix(\"&$D$12&\",reference:=StartOfSession)=\"&A24&\"\", \"Bar\", \"\", \"Close\",\"5\",\"0\",\"PrimaryOnly\",,,\"False\",\"T\",\"EveryTick\")","v":""},{"$error":"#N/A"},{"$f":"RTD(\"cqg.rtd\",,\"StudyData\", \"Close(\"&$D$12&\") when LocalYear(\"&$D$12&\")=\"&$D$2&\" and localMonth(\"&$D$12&\") =\"&$E$2&\" and LocalDay(\"&$D$12&\")=\"&$F$2&\" and Barix(\"&$D$12&\",reference:=StartOfSession)=\"&A24&\"\", \"Bar\", \"\", \"Close\",\"5\",\"0\",\"PrimaryOnly\",,,\"False\",\"T\",\"EveryTick\")","v":164.98},1.4449978478755423E-2,{"$f":"RTD(\"cqg.rtd\",,\"StudyData\", \"Close(\"&$D$12&\") when LocalYear(\"&$D$12&\")=\"&$D$3&\" and localMonth(\"&$D$12&\") =\"&$E$3&\" and LocalDay(\"&$D$12&\")=\"&$F$3&\" and Barix(\"&$D$12&\",reference:=StartOfSession)=\"&A24&\"\", \"Bar\", \"\", \"Close\",\"5\",\"0\",\"PrimaryOnly\",,,\"False\",\"T\",\"EveryTick\")","v":162.54},-8.176714669270219E-3,{"$f":"RTD(\"cqg.rtd\",,\"StudyData\", \"Close(\"&$D$12&\") when LocalYear(\"&$D$12&\")=\"&$D$4&\" and localMonth(\"&$D$12&\") =\"&$E$4&\" and LocalDay(\"&$D$12&\")=\"&$F$4&\" and Barix(\"&$D$12&\",reference:=StartOfSession)=\"&A24&\"\", \"Bar\", \"\", \"Close\",\"5\",\"0\",\"PrimaryOnly\",,,\"False\",\"T\",\"EveryTick\")","v":163.69},2.1427696828700523E-3,{"$f":"RTD(\"cqg.rtd\",,\"StudyData\", \"Close(\"&$D$12&\") when LocalYear(\"&$D$12&\")=\"&$D$5&\" and localMonth(\"&$D$12&\") =\"&$E$5&\" and LocalDay(\"&$D$12&\")=\"&$F$5&\" and Barix(\"&$D$12&\",reference:=StartOfSession)=\"&A24&\"\", \"Bar\", \"\", \"Close\",\"5\",\"0\",\"PrimaryOnly\",,,\"False\",\"T\",\"EveryTick\")","v":162.22999999999999},4.3167242229892193E-4,{"$f":"RTD(\"cqg.rtd\",,\"StudyData\", \"Close(\"&$D$12&\") when LocalYear(\"&$D$12&\")=\"&$D$6&\" and localMonth(\"&$D$12&\") =\"&$E$6&\" and LocalDay(\"&$D$12&\")=\"&$F$6&\" and Barix(\"&$D$12&\",reference:=StartOfSession)=\"&A24&\"\", \"Bar\", \"\", \"Close\",\"5\",\"0\",\"PrimaryOnly\",,,\"False\",\"T\",\"EveryTick\")","v":161.66999999999999},6.7252008219688903E-3,{"$f":"RTD(\"cqg.rtd\",,\"StudyData\", \"Close(\"&$D$12&\") when LocalYear(\"&$D$12&\")=\"&$D$7&\" and localMonth(\"&$D$12&\") =\"&$E$7&\" and LocalDay(\"&$D$12&\")=\"&$F$7&\" and Barix(\"&$D$12&\",reference:=StartOfSession)=\"&A24&\"\", \"Bar\", \"\", \"Close\",\"5\",\"0\",\"PrimaryOnly\",,,\"False\",\"T\",\"EveryTick\")","v":159.44},7.0106739089243041E-3,{"$f":"RTD(\"cqg.rtd\",,\"StudyData\", \"Close(\"&$D$12&\") when LocalYear(\"&$D$12&\")=\"&$D$8&\" and localMonth(\"&$D$12&\") =\"&$E$8&\" and LocalDay(\"&$D$12&\")=\"&$F$8&\" and Barix(\"&$D$12&\",reference:=StartOfSession)=\"&A24&\"\", \"Bar\", \"\", \"Close\",\"5\",\"0\",\"PrimaryOnly\",,,\"False\",\"T\",\"EveryTick\")","v":159.55000000000001},-2.0640480360269208E-3,{"$f":"RTD(\"cqg.rtd\",,\"StudyData\", \"Close(\"&$D$12&\") when LocalYear(\"&$D$12&\")=\"&$D$9&\" and localMonth(\"&$D$12&\") =\"&$E$9&\" and LocalDay(\"&$D$12&\")=\"&$F$9&\" and Barix(\"&$D$12&\",reference:=StartOfSession)=\"&A24&\"\", \"Bar\", \"\", \"Close\",\"5\",\"0\",\"PrimaryOnly\",,,\"False\",\"T\",\"EveryTick\")","v":158.43},-1.2622278321225503E-4,{"$f":"RTD(\"cqg.rtd\",,\"StudyData\", \"Close(\"&$D$12&\") when LocalYear(\"&$D$12&\")=\"&$D$10&\" and localMonth(\"&$D$12&\") =\"&$E$10&\" and LocalDay(\"&$D$12&\")=\"&$F$10&\" and Barix(\"&$D$12&\",reference:=StartOfSession)=\"&A24&\"\", \"Bar\", \"\", \"Close\",\"5\",\"0\",\"PrimaryOnly\",,,\"False\",\"T\",\"EveryTick\")","v":159.37},7.7779183002404089E-3,null,null,null,""]
[24,"10:30:00",null,7,"#.0000000",null,null,{"$f":"RTD(\"cqg.rtd\",,\"StudyData\", \"Close(\"&$D$12&\") when LocalYear(\"&$D$12&\")=\"&$D$1&\" and localMonth(\"&$D$12&\") =\"&$E$1&\" and LocalDay(\"&$D$12&\")=\"&$F$1&\" and Barix(\"&$D$12&\",reference:=StartOfSession)=\"&A25&\"\", \"Bar\", \"\", \"Close\",\"5\",\"0\",\"PrimaryOnly\",,,\"False\",\"T\",\"EveryTick\")","v":""},{"$error":"#N/A"},{"$f":"RTD(\"cqg.rtd\",,\"StudyData\", \"Close(\"&$D$12&\") when LocalYear(\"&$D$12&\")=\"&$D$2&\" and localMonth(\"&$D$12&\") =\"&$E$2&\" and LocalDay(\"&$D$12&\")=\"&$F$2&\" and Barix(\"&$D$12&\",reference:=StartOfSession)=\"&A25&\"\", \"Bar\", \"\", \"Close\",\"5\",\"0\",\"PrimaryOnly\",,,\"False\",\"T\",\"EveryTick\")","v":165.03},1.4757424829367311E-2,{"$f":"RTD(\"cqg.rtd\",,\"StudyData\", \"Close(\"&$D$12&\") when LocalYear(\"&$D$12&\")=\"&$D$3&\" and localMonth(\"&$D$12&\") =\"&$E$3&\" and LocalDay(\"&$D$12&\")=\"&$F$3&\" and Barix(\"&$D$12&\",reference:=StartOfSession)=\"&A25&\"\", \"Bar\", \"\", \"Close\",\"5\",\"0\",\"PrimaryOnly\",,,\"False\",\"T\",\"EveryTick\")","v":162.41},-8.9699780327068528E-3,{"$f":"RTD(\"cqg.rtd\",,\"StudyData\", \"Close(\"&$D$12&\") when LocalYear(\"&$D$12&\")=\"&$D$4&\" and localMonth(\"&$D$12&\") =\"&$E$4&\" and LocalDay(\"&$D$12&\")=\"&$F$4&\" and Barix(\"&$D$12&\",reference:=StartOfSession)=\"&A25&\"\", \"Bar\", \"\", \"Close\",\"5\",\"0\",\"PrimaryOnly\",,,\"False\",\"T\",\"EveryTick\")","v":163.69},2.1427696828700523E-3,{"$f":"RTD(\"cqg.rtd\",,\"StudyData\", \"Close(\"&$D$12&\") when LocalYear(\"&$D$12&\")=\"&$D$5&\" and localMonth(\"&$D$12&\") =\"&$E$5&\" and LocalDay(\"&$D$12&\")=\"&$F$5&\" and Barix(\"&$D$12&\",reference:=StartOfSession)=\"&A25&\"\", \"Bar\", \"\", \"Close\",\"5\",\"0\",\"PrimaryOnly\",,,\"False\",\"T\",\"EveryTick\")","v":162.11000000000001},-3.0833744449915482E-4,{"$f":"RTD(\"cqg.rtd\",,\"StudyData\", \"Close(\"&$D$12&\") when LocalYear(\"&$D$12&\")=\"&$D$6&\" and localMonth(\"&$D$12&\") =\"&$E$6&\" and LocalDay(\"&$D$12&\")=\"&$F$6&\" and Barix(\"&$D$12&\",reference:=StartOfSession)=\"&A25&\"\", \"Bar\", \"\", \"Close\",\"5\",\"0\",\"PrimaryOnly\",,,\"False\",\"T\",\"EveryTick\")","v":161.68},6.7874711999502046E-3,{"$f":"RTD(\"cqg.rtd\",,\"StudyData\", \"Close(\"&$D$12&\") when LocalYear(\"&$D$12&\")=\"&$D$7&\" and localMonth(\"&$D$12&\") =\"&$E$7&\" and LocalDay(\"&$D$12&\")=\"&$F$7&\" and Barix(\"&$D$12&\",reference:=StartOfSession)=\"&A25&\"\", \"Bar\", \"\", \"Close\",\"5\",\"0\",\"PrimaryOnly\",,,\"False\",\"T\",\"EveryTick\")","v":159.56},7.7685846017810246E-3,{"$f":"RTD(\"cqg.rtd\",,\"StudyData\", \"Close(\"&$D$12&\") when LocalYear(\"&$D$12&\")=\"&$D$8&\" and localMonth(\"&$D$12&\") =\"&$E$8&\" and LocalDay(\"&$D$12&\")=\"&$F$8&\" and Barix(\"&$D$12&\",reference:=StartOfSession)=\"&A25&\"\", \"Bar\", \"\", \"Close\",\"5\",\"0\",\"PrimaryOnly\",,,\"False\",\"T\",\"EveryTick\")","v":159.63},-1.5636727545659244E-3,{"$f":"RTD(\"cqg.rtd\",,\"StudyData\", \"Close(\"&$D$12&\") when LocalYear(\"&$D$12&\")=\"&$D$9&\" and localMonth(\"&$D$12&\") =\"&$E$9&\" and LocalDay(\"&$D$12&\")=\"&$F$9&\" and Barix(\"&$D$12&\",reference:=StartOfSession)=\"&A25&\"\", \"Bar\", \"\", \"Close\",\"5\",\"0\",\"PrimaryOnly\",,,\"False\",\"T\",\"EveryTick\")","v":158.16999999999999},-1.7671189649731849E-3,{"$f":"RTD(\"cqg.rtd\",,\"StudyData\", \"Close(\"&$D$12&\") when LocalYear(\"&$D$12&\")=\"&$D$10&\" and localMonth(\"&$D$12&\") =\"&$E$10&\" and LocalDay(\"&$D$12&\")=\"&$F$10&\" and Barix(\"&$D$12&\",reference:=StartOfSession)=\"&A25&\"\", \"Bar\", \"\", \"Close\",\"5\",\"0\",\"PrimaryOnly\",,,\"False\",\"T\",\"EveryTick\")","v":159.19},6.6396863538637375E-3,null,null,null,""]
[25,"10:35:00",null,null,null,null,null,{"$f":"RTD(\"cqg.rtd\",,\"StudyData\", \"Close(\"&$D$12&\") when LocalYear(\"&$D$12&\")=\"&$D$1&\" and localMonth(\"&$D$12&\") =\"&$E$1&\" and LocalDay(\"&$D$12&\")=\"&$F$1&\" and Barix(\"&$D$12&\",reference:=StartOfSession)=\"&A26&\"\", \"Bar\", \"\", \"Close\",\"5\",\"0\",\"PrimaryOnly\",,,\"False\",\"T\",\"EveryTick\")","v":""},{"$error":"#N/A"},{"$f":"RTD(\"cqg.rtd\",,\"StudyData\", \"Close(\"&$D$12&\") when LocalYear(\"&$D$12&\")=\"&$D$2&\" and localMonth(\"&$D$12&\") =\"&$E$2&\" and LocalDay(\"&$D$12&\")=\"&$F$2&\" and Barix(\"&$D$12&\",reference:=StartOfSession)=\"&A26&\"\", \"Bar\", \"\", \"Close\",\"5\",\"0\",\"PrimaryOnly\",,,\"False\",\"T\",\"EveryTick\")","v":165.02},1.4695935559245003E-2,{"$f":"RTD(\"cqg.rtd\",,\"StudyData\", \"Close(\"&$D$12&\") when LocalYear(\"&$D$12&\")=\"&$D$3&\" and localMonth(\"&$D$12&\") =\"&$E$3&\" and LocalDay(\"&$D$12&\")=\"&$F$3&\" and Barix(\"&$D$12&\",reference:=StartOfSession)=\"&A26&\"\", \"Bar\", \"\", \"Close\",\"5\",\"0\",\"PrimaryOnly\",,,\"False\",\"T\",\"EveryTick\")","v":162.41},-8.9699780327068528E-3,{"$f":"RTD(\"cqg.rtd\",,\"StudyData\", \"Close(\"&$D$12&\") when LocalYear(\"&$D$12&\")=\"&$D$4&\" and localMonth(\"&$D$12&\") =\"&$E$4&\" and LocalDay(\"&$D$12&\")=\"&$F$4&\" and Barix(\"&$D$12&\",reference:=StartOfSession)=\"&A26&\"\", \"Bar\", \"\", \"Close\",\"5\",\"0\",\"PrimaryOnly\",,,\"False\",\"T\",\"EveryTick\")","v":163.69},2.1427696828700523E-3,{"$f":"RTD(\"cqg.rtd\",,\"StudyData\", \"Close(\"&$D$12&\") when LocalYear(\"&$D$12&\")=\"&$D$5&\" and localMonth(\"&$D$12&\") =\"&$E$5&\" and LocalDay(\"&$D$12&\")=\"&$F$5&\" and Barix(\"&$D$12&\",reference:=StartOfSession)=\"&A26&\"\", \"Bar\", \"\", \"Close\",\"5\",\"0\",\"PrimaryOnly\",,,\"False\",\"T\",\"EveryTick\")","v":162.21},3.0833744449933008E-4,{"$f":"RTD(\"cqg.rtd\",,\"StudyData\", \"Close(\"&$D$12&\") when LocalYear(\"&$D$12&\")=\"&$D$6&\" and localMonth(\"&$D$12&\") =\"&$E$6&\" and LocalDay(\"&$D$12&\")=\"&$F$6&\" and Barix(\"&$D$12&\",reference:=StartOfSession)=\"&A26&\"\", \"Bar\", \"\", \"Close\",\"5\",\"0\",\"PrimaryOnly\",,,\"False\",\"T\",\"EveryTick\")","v":162.02000000000001},8.9046640513108337E-3,{"$f":"RTD(\"cqg.rtd\",,\"StudyData\", \"Close(\"&$D$12&\") when LocalYear(\"&$D$12&\")=\"&$D$7&\" and localMonth(\"&$D$12&\") =\"&$E$7&\" and LocalDay(\"&$D$12&\")=\"&$F$7&\" and Barix(\"&$D$12&\",reference:=StartOfSession)=\"&A26&\"\", \"Bar\", \"\", \"Close\",\"5\",\"0\",\"PrimaryOnly\",,,\"False\",\"T\",\"EveryTick\")","v":159.56},7.7685846017810246E-3,{"$f":"RTD(\"cqg.rtd\",,\"StudyData\", \"Close(\"&$D$12&\") when LocalYear(\"&$D$12&\")=\"&$D$8&\" and localMonth(\"&$D$12&\") =\"&$E$8&\" and LocalDay(\"&$D$12&\")=\"&$F$8&\" and Barix(\"&$D$12&\",reference:=StartOfSession)=\"&A26&\"\", \"Bar\", \"\", \"Close\",\"5\",\"0\",\"PrimaryOnly\",,,\"False\",\"T\",\"EveryTick\")","v":159.62},-1.6262196647485047E-3,{"$f":"RTD(\"cqg.rtd\",,\"StudyData\", \"Close(\"&$D$12&\") when LocalYear(\"&$D$12&\")=\"&$D$9&\" and localMonth(\"&$D$12&\") =\"&$E$9&\" and LocalDay(\"&$D$12&\")=\"&$F$9&\" and Barix(\"&$D$12&\",reference:=StartOfSession)=\"&A26&\"\", \"Bar\", \"\", \"Close\",\"5\",\"0\",\"PrimaryOnly\",,,\"False\",\"T\",\"EveryTick\")","v":158.07},-2.3982328810349981E-3,{"$f":"RTD(\"cqg.rtd\",,\"StudyData\", \"Close(\"&$D$12&\") when LocalYear(\"&$D$12&\")=\"&$D$10&\" and localMonth(\"&$D$12&\") =\"&$E$10&\" and LocalDay(\"&$D$12&\")=\"&$F$10&\" and Barix(\"&$D$12&\",reference:=StartOfSession)=\"&A26&\"\", \"Bar\", \"\", \"Close\",\"5\",\"0\",\"PrimaryOnly\",,,\"False\",\"T\",\"EveryTick\")","v":159.19},6.6396863538637375E-3,null,null,null,""]
[26,"10:40:00",null,null,null,null,null,{"$f":"RTD(\"cqg.rtd\",,\"StudyData\", \"Close(\"&$D$12&\") when LocalYear(\"&$D$12&\")=\"&$D$1&\" and localMonth(\"&$D$12&\") =\"&$E$1&\" and LocalDay(\"&$D$12&\")=\"&$F$1&\" and Barix(\"&$D$12&\",reference:=StartOfSession)=\"&A27&\"\", \"Bar\", \"\", \"Close\",\"5\",\"0\",\"PrimaryOnly\",,,\"False\",\"T\",\"EveryTick\")","v":""},{"$error":"#N/A"},{"$f":"RTD(\"cqg.rtd\",,\"StudyData\", \"Close(\"&$D$12&\") when LocalYear(\"&$D$12&\")=\"&$D$2&\" and localMonth(\"&$D$12&\") =\"&$E$2&\" and LocalDay(\"&$D$12&\")=\"&$F$2&\" and Barix(\"&$D$12&\",reference:=StartOfSession)=\"&A27&\"\", \"Bar\", \"\", \"Close\",\"5\",\"0\",\"PrimaryOnly\",,,\"False\",\"T\",\"EveryTick\")","v":165.02},1.4695935559245003E-2,{"$f":"RTD(\"cqg.rtd\",,\"StudyData\", \"Close(\"&$D$12&\") when LocalYear(\"&$D$12&\")=\"&$D$3&\" and localMonth(\"&$D$12&\") =\"&$E$3&\" and LocalDay(\"&$D$12&\")=\"&$F$3&\" and Barix(\"&$D$12&\",reference:=StartOfSession)=\"&A27&\"\", \"Bar\", \"\", \"Close\",\"5\",\"0\",\"PrimaryOnly\",,,\"False\",\"T\",\"EveryTick\")","v":162.59},-7.8716133756406639E-3,{"$f":"RTD(\"cqg.rtd\",,\"StudyData\", \"Close(\"&$D$12&\") when LocalYear(\"&$D$12&\")=\"&$D$4&\" and localMonth(\"&$D$12&\") =\"&$E$4&\" and LocalDay(\"&$D$12&\")=\"&$F$4&\" and Barix(\"&$D$12&\",reference:=StartOfSession)=\"&A27&\"\", \"Bar\", \"\", \"Close\",\"5\",\"0\",\"PrimaryOnly\",,,\"False\",\"T\",\"EveryTick\")","v":163.95},3.734541447287775E-3,{"$f":"RTD(\"cqg.rtd\",,\"StudyData\", \"Close(\"&$D$12&\") when LocalYear(\"&$D$12&\")=\"&$D$5&\" and localMonth(\"&$D$12&\") =\"&$E$5&\" and LocalDay(\"&$D$12&\")=\"&$F$5&\" and Barix(\"&$D$12&\",reference:=StartOfSession)=\"&A27&\"\", \"Bar\", \"\", \"Close\",\"5\",\"0\",\"PrimaryOnly\",,,\"False\",\"T\",\"EveryTick\")","v":162.27000000000001},6.7834237789845609E-4,{"$f":"RTD(\"cqg.rtd\",,\"StudyData\", \"Close(\"&$D$12&\") when LocalYear(\"&$D$12&\")=\"&$D$6&\" and localMonth(\"&$D$12&\") =\"&$E$6&\" and LocalDay(\"&$D$12&\")=\"&$F$6&\" and Barix(\"&$D$12&\",reference:=StartOfSession)=\"&A27&\"\", \"Bar\", \"\", \"Close\",\"5\",\"0\",\"PrimaryOnly\",,,\"False\",\"T\",\"EveryTick\")","v":162.03},8.9669344292919711E-3,{"$f":"RTD(\"cqg.rtd\",,\"StudyData\", \"Close(\"&$D$12&\") when LocalYear(\"&$D$12&\")=\"&$D$7&\" and localMonth(\"&$D$12&\") =\"&$E$7&\" and LocalDay(\"&$D$12&\")=\"&$F$7&\" and Barix(\"&$D$12&\",reference:=StartOfSession)=\"&A27&\"\", \"Bar\", \"\", \"Close\",\"5\",\"0\",\"PrimaryOnly\",,,\"False\",\"T\",\"EveryTick\")","v":159.49},7.3264700309479975E-3,{"$f":"RTD(\"cqg.rtd\",,\"StudyData\", \"Close(\"&$D$12&\") when LocalYear(\"&$D$12&\")=\"&$D$8&\" and localMonth(\"&$D$12&\") =\"&$E$8&\" and LocalDay(\"&$D$12&\")=\"&$F$8&\" and Barix(\"&$D$12&\",reference:=StartOfSession)=\"&A27&\"\", \"Bar\", \"\", \"Close\",\"5\",\"0\",\"PrimaryOnly\",,,\"False\",\"T\",\"EveryTick\")","v":159.58000000000001},-1.8764073054790026E-3,{"$f":"RTD(\"cqg.rtd\",,\"StudyData\", \"Close(\"&$D$12&\") when LocalYear(\"&$D$12&\")=\"&$D$9&\" and localMonth(\"&$D$12&\") =\"&$E$9&\" and LocalDay(\"&$D$12&\")=\"&$F$9&\" and Barix(\"&$D$12&\",reference:=StartOfSession)=\"&A27&\"\", \"Bar\", \"\", \"Close\",\"5\",\"0\",\"PrimaryOnly\",,,\"False\",\"T\",\"EveryTick\")","v":158.07},-2.3982328810349981E-3,{"$f":"RTD(\"cqg.rtd\",,\"StudyData\", \"Close(\"&$D$12&\") when LocalYear(\"&$D$12&\")=\"&$D$10&\" and localMonth(\"&$D$12&\") =\"&$E$10&\" and LocalDay(\"&$D$12&\")=\"&$F$10&\" and Barix(\"&$D$12&\",reference:=StartOfSession)=\"&A27&\"\", \"Bar\", \"\", \"Close\",\"5\",\"0\",\"PrimaryOnly\",,,\"False\",\"T\",\"EveryTick\")","v":159.18},6.5764512457317601E-3,null,null,null,""]
[27,"10:45:00",null,null,null,null,null,{"$f":"RTD(\"cqg.rtd\",,\"StudyData\", \"Close(\"&$D$12&\") when LocalYear(\"&$D$12&\")=\"&$D$1&\" and localMonth(\"&$D$12&\") =\"&$E$1&\" and LocalDay(\"&$D$12&\")=\"&$F$1&\" and Barix(\"&$D$12&\",reference:=StartOfSession)=\"&A28&\"\", \"Bar\", \"\", \"Close\",\"5\",\"0\",\"PrimaryOnly\",,,\"False\",\"T\",\"EveryTick\")","v":""},{"$error":"#N/A"},{"$f":"RTD(\"cqg.rtd\",,\"StudyData\", \"Close(\"&$D$12&\") when LocalYear(\"&$D$12&\")=\"&$D$2&\" and localMonth(\"&$D$12&\") =\"&$E$2&\" and LocalDay(\"&$D$12&\")=\"&$F$2&\" and Barix(\"&$D$12&\",reference:=StartOfSession)=\"&A28&\"\", \"Bar\", \"\", \"Close\",\"5\",\"0\",\"PrimaryOnly\",,,\"False\",\"T\",\"EveryTick\")","v":165.02},1.4695935559245003E-2,{"$f":"RTD(\"cqg.rtd\",,\"StudyData\", \"Close(\"&$D$12&\") when LocalYear(\"&$D$12&\")=\"&$D$3&\" and localMonth(\"&$D$12&\") =\"&$E$3&\" and LocalDay(\"&$D$12&\")=\"&$F$3&\" and Barix(\"&$D$12&\",reference:=StartOfSession)=\"&A28&\"\", \"Bar\", \"\", \"Close\",\"5\",\"0\",\"PrimaryOnly\",,,\"False\",\"T\",\"EveryTick\")","v":162.59},-7.8716133756406639E-3,{"$f":"RTD(\"cqg.rtd\",,\"StudyData\", \"Close(\"&$D$12&\") when LocalYear(\"&$D$12&\")=\"&$D$4&\" and localMonth(\"&$D$12&\") =\"&$E$4&\" and LocalDay(\"&$D$12&\")=\"&$F$4&\" and Barix(\"&$D$12&\",reference:=StartOfSession)=\"&A28&\"\", \"Bar\", \"\", \"Close\",\"5\",\"0\",\"PrimaryOnly\",,,\"False\",\"T\",\"EveryTick\")","v":163.95},3.734541447287775E-3,{"$f":"RTD(\"cqg.rtd\",,\"StudyData\", \"Close(\"&$D$12&\") when LocalYear(\"&$D$12&\")=\"&$D$5&\" and localMonth(\"&$D$12&\") =\"&$E$5&\" and LocalDay(\"&$D$12&\")=\"&$F$5&\" and Barix(\"&$D$12&\",reference:=StartOfSession)=\"&A28&\"\", \"Bar\", \"\", \"Close\",\"5\",\"0\",\"PrimaryOnly\",,,\"False\",\"T\",\"EveryTick\")","v":162.25},5.5500740009868904E-4,{"$f":"RTD(\"cqg.rtd\",,\"StudyData\", \"Close(\"&$D$12&\") when LocalYear(\"&$D$12&\")=\"&$D$6&\" and localMonth(\"&$D$12&\") =\"&$E$6&\" and LocalDay(\"&$D$12&\")=\"&$F$6&\" and Barix(\"&$D$12&\",reference:=StartOfSession)=\"&A28&\"\", \"Bar\", \"\", \"Close\",\"5\",\"0\",\"PrimaryOnly\",,,\"False\",\"T\",\"EveryTick\")","v":162.03},8.9669344292919711E-3,{"$f":"RTD(\"cqg.rtd\",,\"StudyData\", \"Close(\"&$D$12&\") when LocalYear(\"&$D$12&\")=\"&$D$7&\" and localMonth(\"&$D$12&\") =\"&$E$7&\" and LocalDay(\"&$D$12&\")=\"&$F$7&\" and Barix(\"&$D$12&\",reference:=StartOfSession)=\"&A28&\"\", \"Bar\", \"\", \"Close\",\"5\",\"0\",\"PrimaryOnly\",,,\"False\",\"T\",\"EveryTick\")","v":159.61000000000001},8.0843807238047179E-3,{"$f":"RTD(\"cqg.rtd\",,\"StudyData\", \"Close(\"&$D$12&\") when LocalYear(\"&$D$12&\")=\"&$D$8&\" and localMonth(\"&$D$12&\") =\"&$E$8&\" and LocalDay(\"&$D$12&\")=\"&$F$8&\" and Barix(\"&$D$12&\",reference:=StartOfSession)=\"&A28&\"\", \"Bar\", \"\", \"Close\",\"5\",\"0\",\"PrimaryOnly\",,,\"False\",\"T\",\"EveryTick\")","v":159.56},-2.0015011258443407E-3,{"$f":"RTD(\"cqg.rtd\",,\"StudyData\", \"Close(\"&$D$12&\") when LocalYear(\"&$D$12&\")=\"&$D$9&\" and localMonth(\"&$D$12&\") =\"&$E$9&\" and LocalDay(\"&$D$12&\")=\"&$F$9&\" and Barix(\"&$D$12&\",reference:=StartOfSession)=\"&A28&\"\", \"Bar\", \"\", \"Close\",\"5\",\"0\",\"PrimaryOnly\",,,\"False\",\"T\",\"EveryTick\")","v":158.07},-2.3982328810349981E-3,{"$f":"RTD(\"cqg.rtd\",,\"StudyData\", \"Close(\"&$D$12&\") when LocalYear(\"&$D$12&\")=\"&$D$10&\" and localMonth(\"&$D$12&\") =\"&$E$10&\" and LocalDay(\"&$D$12&\")=\"&$F$10&\" and Barix(\"&$D$12&\",reference:=StartOfSession)=\"&A28&\"\", \"Bar\", \"\", \"Close\",\"5\",\"0\",\"PrimaryOnly\",,,\"False\",\"T\",\"EveryTick\")","v":159.18},6.5764512457317601E-3,null,null,null,""]
[28,"10:50:00",null,null,null,null,null,{"$f":"RTD(\"cqg.rtd\",,\"StudyData\", \"Close(\"&$D$12&\") when LocalYear(\"&$D$12&\")=\"&$D$1&\" and localMonth(\"&$D$12&\") =\"&$E$1&\" and LocalDay(\"&$D$12&\")=\"&$F$1&\" and Barix(\"&$D$12&\",reference:=StartOfSession)=\"&A29&\"\", \"Bar\", \"\", \"Close\",\"5\",\"0\",\"PrimaryOnly\",,,\"False\",\"T\",\"EveryTick\")","v":""},{"$error":"#N/A"},{"$f":"RTD(\"cqg.rtd\",,\"StudyData\", \"Close(\"&$D$12&\") when LocalYear(\"&$D$12&\")=\"&$D$2&\" and localMonth(\"&$D$12&\") =\"&$E$2&\" and LocalDay(\"&$D$12&\")=\"&$F$2&\" and Barix(\"&$D$12&\",reference:=StartOfSession)=\"&A29&\"\", \"Bar\", \"\", \"Close\",\"5\",\"0\",\"PrimaryOnly\",,,\"False\",\"T\",\"EveryTick\")","v":165.02},1.4695935559245003E-2,{"$f":"RTD(\"cqg.rtd\",,\"StudyData\", \"Close(\"&$D$12&\") when LocalYear(\"&$D$12&\")=\"&$D$3&\" and localMonth(\"&$D$12&\") =\"&$E$3&\" and LocalDay(\"&$D$12&\")=\"&$F$3&\" and Barix(\"&$D$12&\",reference:=StartOfSession)=\"&A29&\"\", \"Bar\", \"\", \"Close\",\"5\",\"0\",\"PrimaryOnly\",,,\"False\",\"T\",\"EveryTick\")","v":162.54},-8.176714669270219E-3,{"$f":"RTD(\"cqg.rtd\",,\"StudyData\", \"Close(\"&$D$12&\") when LocalYear(\"&$D$12&\")=\"&$D$4&\" and localMonth(\"&$D$12&\") =\"&$E$4&\" and LocalDay(\"&$D$12&\")=\"&$F$4&\" and Barix(\"&$D$12&\",reference:=StartOfSession)=\"&A29&\"\", \"Bar\", \"\", \"Close\",\"5\",\"0\",\"PrimaryOnly\",,,\"False\",\"T\",\"EveryTick\")","v":163.95},3.734541447287775E-3,{"$f":"RTD(\"cqg.rtd\",,\"StudyData\", \"Close(\"&$D$12&\") when LocalYear(\"&$D$12&\")=\"&$D$5&\" and localMonth(\"&$D$12&\") =\"&$E$5&\" and LocalDay(\"&$D$12&\")=\"&$F$5&\" and Barix(\"&$D$12&\",reference:=StartOfSession)=\"&A29&\"\", \"Bar\", \"\", \"Close\",\"5\",\"0\",\"PrimaryOnly\",,,\"False\",\"T\",\"EveryTick\")","v":162.25},5.5500740009868904E-4,{"$f":"RTD(\"cqg.rtd\",,\"StudyData\", \"Close(\"&$D$12&\") when LocalYear(\"&$D$12&\")=\"&$D$6&\" and localMonth(\"&$D$12&\") =\"&$E$6&\" and LocalDay(\"&$D$12&\")=\"&$F$6&\" and Barix(\"&$D$12&\",reference:=StartOfSession)=\"&A29&\"\", \"Bar\", \"\", \"Close\",\"5\",\"0\",\"PrimaryOnly\",,,\"False\",\"T\",\"EveryTick\")","v":161.86000000000001},7.9083380036117455E-3,{"$f":"RTD(\"cqg.rtd\",,\"StudyData\", \"Close(\"&$D$12&\") when LocalYear(\"&$D$12&\")=\"&$D$7&\" and localMonth(\"&$D$12&\") =\"&$E$7&\" and LocalDay(\"&$D$12&\")=\"&$F$7&\" and Barix(\"&$D$12&\",reference:=StartOfSession)=\"&A29&\"\", \"Bar\", \"\", \"Close\",\"5\",\"0\",\"PrimaryOnly\",,,\"False\",\"T\",\"EveryTick\")","v":159.66999999999999},8.4633360702328995E-3,{"$f":"RTD(\"cqg.rtd\",,\"StudyData\", \"Close(\"&$D$12&\") when LocalYear(\"&$D$12&\")=\"&$D$8&\" and localMonth(\"&$D$12&\") =\"&$E$8&\" and LocalDay(\"&$D$12&\")=\"&$F$8&\" and Barix(\"&$D$12&\",reference:=StartOfSession)=\"&A29&\"\", \"Bar\", \"\", \"Close\",\"5\",\"0\",\"PrimaryOnly\",,,\"False\",\"T\",\"EveryTick\")","v":159.56},-2.0015011258443407E-3,{"$f":"RTD(\"cqg.rtd\",,\"StudyData\", \"Close(\"&$D$12&\") when LocalYear(\"&$D$12&\")=\"&$D$9&\" and localMonth(\"&$D$12&\") =\"&$E$9&\" and LocalDay(\"&$D$12&\")=\"&$F$9&\" and Barix(\"&$D$12&\",reference:=StartOfSession)=\"&A29&\"\", \"Bar\", \"\", \"Close\",\"5\",\"0\",\"PrimaryOnly\",,,\"False\",\"T\",\"EveryTick\")","v":158.08000000000001},-2.3351214894286915E-3,{"$f":"RTD(\"cqg.rtd\",,\"StudyData\", \"Close(\"&$D$12&\") when LocalYear(\"&$D$12&\")=\"&$D$10&\" and localMonth(\"&$D$12&\") =\"&$E$10&\" and LocalDay(\"&$D$12&\")=\"&$F$10&\" and Barix(\"&$D$12&\",reference:=StartOfSession)=\"&A29&\"\", \"Bar\", \"\", \"Close\",\"5\",\"0\",\"PrimaryOnly\",,,\"False\",\"T\",\"EveryTick\")","v":159.18},6.5764512457317601E-3,null,null,null,""]
[29,"10:55:00",null,null,null,null,null,{"$f":"RTD(\"cqg.rtd\",,\"StudyData\", \"Close(\"&$D$12&\") when LocalYear(\"&$D$12&\")=\"&$D$1&\" and localMonth(\"&$D$12&\") =\"&$E$1&\" and LocalDay(\"&$D$12&\")=\"&$F$1&\" and Barix(\"&$D$12&\",reference:=StartOfSession)=\"&A30&\"\", \"Bar\", \"\", \"Close\",\"5\",\"0\",\"PrimaryOnly\",,,\"False\",\"T\",\"EveryTick\")","v":""},{"$error":"#N/A"},{"$f":"RTD(\"cqg.rtd\",,\"StudyData\", \"Close(\"&$D$12&\") when LocalYear(\"&$D$12&\")=\"&$D$2&\" and localMonth(\"&$D$12&\") =\"&$E$2&\" and LocalDay(\"&$D$12&\")=\"&$F$2&\" and Barix(\"&$D$12&\",reference:=StartOfSession)=\"&A30&\"\", \"Bar\", \"\", \"Close\",\"5\",\"0\",\"PrimaryOnly\",,,\"False\",\"T\",\"EveryTick\")","v":165.39},1.697103855377231E-2,{"$f":"RTD(\"cqg.rtd\",,\"StudyData\", \"Close(\"&$D$12&\") when LocalYear(\"&$D$12&\")=\"&$D$3&\" and localMonth(\"&$D$12&\") =\"&$E$3&\" and LocalDay(\"&$D$12&\")=\"&$F$3&\" and Barix(\"&$D$12&\",reference:=StartOfSession)=\"&A30&\"\", \"Bar\", \"\", \"Close\",\"5\",\"0\",\"PrimaryOnly\",,,\"False\",\"T\",\"EveryTick\")","v":162.44},-8.7869172565291538E-3,{"$f":"RTD(\"cqg.rtd\",,\"StudyData\", \"Close(\"&$D$12&\") when LocalYear(\"&$D$12&\")=\"&$D$4&\" and localMonth(\"&$D$12&\") =\"&$E$4&\" and LocalDay(\"&$D$12&\")=\"&$F$4&\" and Barix(\"&$D$12&\",reference:=StartOfSession)=\"&A30&\"\", \"Bar\", \"\", \"Close\",\"5\",\"0\",\"PrimaryOnly\",,,\"False\",\"T\",\"EveryTick\")","v":163.95},3.734541447287775E-3,{"$f":"RTD(\"cqg.rtd\",,\"StudyData\", \"Close(\"&$D$12&\") when LocalYear(\"&$D$12&\")=\"&$D$5&\" and localMonth(\"&$D$12&\") =\"&$E$5&\" and LocalDay(\"&$D$12&\")=\"&$F$5&\" and Barix(\"&$D$12&\",reference:=StartOfSession)=\"&A30&\"\", \"Bar\", \"\", \"Close\",\"5\",\"0\",\"PrimaryOnly\",,,\"False\",\"T\",\"EveryTick\")","v":162.30000000000001},8.6334484459801917E-4,{"$f":"RTD(\"cqg.rtd\",,\"StudyData\", \"Close(\"&$D$12&\") when LocalYear(\"&$D$12&\")=\"&$D$6&\" and localMonth(\"&$D$12&\") =\"&$E$6&\" and LocalDay(\"&$D$12&\")=\"&$F$6&\" and Barix(\"&$D$12&\",reference:=StartOfSession)=\"&A30&\"\", \"Bar\", \"\", \"Close\",\"5\",\"0\",\"PrimaryOnly\",,,\"False\",\"T\",\"EveryTick\")","v":161.9},8.1574195155364737E-3,{"$f":"RTD(\"cqg.rtd\",,\"StudyData\", \"Close(\"&$D$12&\") when LocalYear(\"&$D$12&\")=\"&$D$7&\" and localMonth(\"&$D$12&\") =\"&$E$7&\" and LocalDay(\"&$D$12&\")=\"&$F$7&\" and Barix(\"&$D$12&\",reference:=StartOfSession)=\"&A30&\"\", \"Bar\", \"\", \"Close\",\"5\",\"0\",\"PrimaryOnly\",,,\"False\",\"T\",\"EveryTick\")","v":159.65},8.3370176214235658E-3,{"$f":"RTD(\"cqg.rtd\",,\"StudyData\", \"Close(\"&$D$12&\") when LocalYear(\"&$D$12&\")=\"&$D$8&\" and localMonth(\"&$D$12&\") =\"&$E$8&\" and LocalDay(\"&$D$12&\")=\"&$F$8&\" and Barix(\"&$D$12&\",reference:=StartOfSession)=\"&A30&\"\", \"Bar\", \"\", \"Close\",\"5\",\"0\",\"PrimaryOnly\",,,\"False\",\"T\",\"EveryTick\")","v":159.44},-2.7520640480360129E-3,{"$f":"RTD(\"cqg.rtd\",,\"StudyData\", \"Close(\"&$D$12&\") when LocalYear(\"&$D$12&\")=\"&$D$9&\" and localMonth(\"&$D$12&\") =\"&$E$9&\" and LocalDay(\"&$D$12&\")=\"&$F$9&\" and Barix(\"&$D$12&\",reference:=StartOfSession)=\"&A30&\"\", \"Bar\", \"\", \"Close\",\"5\",\"0\",\"PrimaryOnly\",,,\"False\",\"T\",\"EveryTick\")","v":158.38},-4.417797412432514E-4,{"$f":"RTD(\"cqg.rtd\",,\"StudyData\", \"Close(\"&$D$12&\") when LocalYear(\"&$D$12&\")=\"&$D$10&\" and localMonth(\"&$D$12&\") =\"&$E$10&\" and LocalDay(\"&$D$12&\")=\"&$F$10&\" and Barix(\"&$D$12&\",reference:=StartOfSession)=\"&A30&\"\", \"Bar\", \"\", \"Close\",\"5\",\"0\",\"PrimaryOnly\",,,\"False\",\"T\",\"EveryTick\")","v":159.01},5.501454407487066E-3,null,null,null,""]
[30,"11:00:00",null,null,null,null,null,{"$f":"RTD(\"cqg.rtd\",,\"StudyData\", \"Close(\"&$D$12&\") when LocalYear(\"&$D$12&\")=\"&$D$1&\" and localMonth(\"&$D$12&\") =\"&$E$1&\" and LocalDay(\"&$D$12&\")=\"&$F$1&\" and Barix(\"&$D$12&\",reference:=StartOfSession)=\"&A31&\"\", \"Bar\", \"\", \"Close\",\"5\",\"0\",\"PrimaryOnly\",,,\"False\",\"T\",\"EveryTick\")","v":""},{"$error":"#N/A"},{"$f":"RTD(\"cqg.rtd\",,\"StudyData\", \"Close(\"&$D$12&\") when LocalYear(\"&$D$12&\")=\"&$D$2&\" and localMonth(\"&$D$12&\") =\"&$E$2&\" and LocalDay(\"&$D$12&\")=\"&$F$2&\" and Barix(\"&$D$12&\",reference:=StartOfSession)=\"&A31&\"\", \"Bar\", \"\", \"Close\",\"5\",\"0\",\"PrimaryOnly\",,,\"False\",\"T\",\"EveryTick\")","v":165.43},1.7216995634261892E-2,{"$f":"RTD(\"cqg.rtd\",,\"StudyData\", \"Close(\"&$D$12&\") when LocalYear(\"&$D$12&\")=\"&$D$3&\" and localMonth(\"&$D$12&\") =\"&$E$3&\" and LocalDay(\"&$D$12&\")=\"&$F$3&\" and Barix(\"&$D$12&\",reference:=StartOfSession)=\"&A31&\"\", \"Bar\", \"\", \"Close\",\"5\",\"0\",\"PrimaryOnly\",,,\"False\",\"T\",\"EveryTick\")","v":162.46},-8.6648767390772978E-3,{"$f":"RTD(\"cqg.rtd\",,\"StudyData\", \"Close(\"&$D$12&\") when LocalYear(\"&$D$12&\")=\"&$D$4&\" and localMonth(\"&$D$12&\") =\"&$E$4&\" and LocalDay(\"&$D$12&\")=\"&$F$4&\" and Barix(\"&$D$12&\",reference:=StartOfSession)=\"&A31&\"\", \"Bar\", \"\", \"Close\",\"5\",\"0\",\"PrimaryOnly\",,,\"False\",\"T\",\"EveryTick\")","v":164.02},4.1630953838619252E-3,{"$f":"RTD(\"cqg.rtd\",,\"StudyData\", \"Close(\"&$D$12&\") when LocalYear(\"&$D$12&\")=\"&$D$5&\" and localMonth(\"&$D$12&\") =\"&$E$5&\" and LocalDay(\"&$D$12&\")=\"&$F$5&\" and Barix(\"&$D$12&\",reference:=StartOfSession)=\"&A31&\"\", \"Bar\", \"\", \"Close\",\"5\",\"0\",\"PrimaryOnly\",,,\"False\",\"T\",\"EveryTick\")","v":162.30000000000001},8.6334484459801917E-4,{"$f":"RTD(\"cqg.rtd\",,\"StudyData\", \"Close(\"&$D$12&\") when LocalYear(\"&$D$12&\")=\"&$D$6&\" and localMonth(\"&$D$12&\") =\"&$E$6&\" and LocalDay(\"&$D$12&\")=\"&$F$6&\" and Barix(\"&$D$12&\",reference:=StartOfSession)=\"&A31&\"\", \"Bar\", \"\", \"Close\",\"5\",\"0\",\"PrimaryOnly\",,,\"False\",\"T\",\"EveryTick\")","v":161.96},8.5310417834236537E-3,{"$f":"RTD(\"cqg.rtd\",,\"StudyData\", \"Close(\"&$D$12&\") when LocalYear(\"&$D$12&\")=\"&$D$7&\" and localMonth(\"&$D$12&\") =\"&$E$7&\" and LocalDay(\"&$D$12&\")=\"&$F$7&\" and Barix(\"&$D$12&\",reference:=StartOfSession)=\"&A31&\"\", \"Bar\", \"\", \"Close\",\"5\",\"0\",\"PrimaryOnly\",,,\"False\",\"T\",\"EveryTick\")","v":159.65},8.3370176214235658E-3,{"$f":"RTD(\"cqg.rtd\",,\"StudyData\", \"Close(\"&$D$12&\") when LocalYear(\"&$D$12&\")=\"&$D$8&\" and localMonth(\"&$D$12&\") =\"&$E$8&\" and LocalDay(\"&$D$12&\")=\"&$F$8&\" and Barix(\"&$D$12&\",reference:=StartOfSession)=\"&A31&\"\", \"Bar\", \"\", \"Close\",\"5\",\"0\",\"PrimaryOnly\",,,\"False\",\"T\",\"EveryTick\")","v":159.38},-3.1273455091318488E-3,{"$f":"RTD(\"cqg.rtd\",,\"StudyData\", \"Close(\"&$D$12&\") when LocalYear(\"&$D$12&\")=\"&$D$9&\" and localMonth(\"&$D$12&\") =\"&$E$9&\" and LocalDay(\"&$D$12&\")=\"&$F$9&\" and Barix(\"&$D$12&\",reference:=StartOfSession)=\"&A31&\"\", \"Bar\", \"\", \"Close\",\"5\",\"0\",\"PrimaryOnly\",,,\"False\",\"T\",\"EveryTick\")","v":158.38},-4.417797412432514E-4,{"$f":"RTD(\"cqg.rtd\",,\"StudyData\", \"Close(\"&$D$12&\") when LocalYear(\"&$D$12&\")=\"&$D$10&\" and localMonth(\"&$D$12&\") =\"&$E$10&\" and LocalDay(\"&$D$12&\")=\"&$F$10&\" and Barix(\"&$D$12&\",reference:=StartOfSession)=\"&A31&\"\", \"Bar\", \"\", \"Close\",\"5\",\"0\",\"PrimaryOnly\",,,\"False\",\"T\",\"EveryTick\")","v":159.11000000000001},6.1338054888075587E-3,null,null,null,""]
[31,"11:05:00",null,null,null,null,null,{"$f":"RTD(\"cqg.rtd\",,\"StudyData\", \"Close(\"&$D$12&\") when LocalYear(\"&$D$12&\")=\"&$D$1&\" and localMonth(\"&$D$12&\") =\"&$E$1&\" and LocalDay(\"&$D$12&\")=\"&$F$1&\" and Barix(\"&$D$12&\",reference:=StartOfSession)=\"&A32&\"\", \"Bar\", \"\", \"Close\",\"5\",\"0\",\"PrimaryOnly\",,,\"False\",\"T\",\"EveryTick\")","v":""},{"$error":"#N/A"},{"$f":"RTD(\"cqg.rtd\",,\"StudyData\", \"Close(\"&$D$12&\") when LocalYear(\"&$D$12&\")=\"&$D$2&\" and localMonth(\"&$D$12&\") =\"&$E$2&\" and LocalDay(\"&$D$12&\")=\"&$F$2&\" and Barix(\"&$D$12&\",reference:=StartOfSession)=\"&A32&\"\", \"Bar\", \"\", \"Close\",\"5\",\"0\",\"PrimaryOnly\",,,\"False\",\"T\",\"EveryTick\")","v":165.37},1.6848060013527694E-2,{"$f":"RTD(\"cqg.rtd\",,\"StudyData\", \"Close(\"&$D$12&\") when LocalYear(\"&$D$12&\")=\"&$D$3&\" and localMonth(\"&$D$12&\") =\"&$E$3&\" and LocalDay(\"&$D$12&\")=\"&$F$3&\" and Barix(\"&$D$12&\",reference:=StartOfSession)=\"&A32&\"\", \"Bar\", \"\", \"Close\",\"5\",\"0\",\"PrimaryOnly\",,,\"False\",\"T\",\"EveryTick\")","v":162.46},-8.6648767390772978E-3,{"$f":"RTD(\"cqg.rtd\",,\"StudyData\", \"Close(\"&$D$12&\") when LocalYear(\"&$D$12&\")=\"&$D$4&\" and localMonth(\"&$D$12&\") =\"&$E$4&\" and LocalDay(\"&$D$12&\")=\"&$F$4&\" and Barix(\"&$D$12&\",reference:=StartOfSession)=\"&A32&\"\", \"Bar\", \"\", \"Close\",\"5\",\"0\",\"PrimaryOnly\",,,\"False\",\"T\",\"EveryTick\")","v":164.02},4.1630953838619252E-3,{"$f":"RTD(\"cqg.rtd\",,\"StudyData\", \"Close(\"&$D$12&\") when LocalYear(\"&$D$12&\")=\"&$D$5&\" and localMonth(\"&$D$12&\") =\"&$E$5&\" and LocalDay(\"&$D$12&\")=\"&$F$5&\" and Barix(\"&$D$12&\",reference:=StartOfSession)=\"&A32&\"\", \"Bar\", \"\", \"Close\",\"5\",\"0\",\"PrimaryOnly\",,,\"False\",\"T\",\"EveryTick\")","v":162.30000000000001},8.6334484459801917E-4,{"$f":"RTD(\"cqg.rtd\",,\"StudyData\", \"Close(\"&$D$12&\") when LocalYear(\"&$D$12&\")=\"&$D$6&\" and localMonth(\"&$D$12&\") =\"&$E$6&\" and LocalDay(\"&$D$12&\")=\"&$F$6&\" and Barix(\"&$D$12&\",reference:=StartOfSession)=\"&A32&\"\", \"Bar\", \"\", \"Close\",\"5\",\"0\",\"PrimaryOnly\",,,\"False\",\"T\",\"EveryTick\")","v":161.96},8.5310417834236537E-3,{"$f":"RTD(\"cqg.rtd\",,\"StudyData\", \"Close(\"&$D$12&\") when LocalYear(\"&$D$12&\")=\"&$D$7&\" and localMonth(\"&$D$12&\") =\"&$E$7&\" and LocalDay(\"&$D$12&\")=\"&$F$7&\" and Barix(\"&$D$12&\",reference:=StartOfSession)=\"&A32&\"\", \"Bar\", \"\", \"Close\",\"5\",\"0\",\"PrimaryOnly\",,,\"False\",\"T\",\"EveryTick\")","v":159.65},8.3370176214235658E-3,{"$f":"RTD(\"cqg.rtd\",,\"StudyData\", \"Close(\"&$D$12&\") when LocalYear(\"&$D$12&\")=\"&$D$8&\" and localMonth(\"&$D$12&\") =\"&$E$8&\" and LocalDay(\"&$D$12&\")=\"&$F$8&\" and Barix(\"&$D$12&\",reference:=StartOfSession)=\"&A32&\"\", \"Bar\", \"\", \"Close\",\"5\",\"0\",\"PrimaryOnly\",,,\"False\",\"T\",\"EveryTick\")","v":159.4},-3.0022516887665109E-3,{"$f":"RTD(\"cqg.rtd\",,\"StudyData\", \"Close(\"&$D$12&\") when LocalYear(\"&$D$12&\")=\"&$D$9&\" and localMonth(\"&$D$12&\") =\"&$E$9&\" and LocalDay(\"&$D$12&\")=\"&$F$9&\" and Barix(\"&$D$12&\",reference:=StartOfSession)=\"&A32&\"\", \"Bar\", \"\", \"Close\",\"5\",\"0\",\"PrimaryOnly\",,,\"False\",\"T\",\"EveryTick\")","v":158.16},-1.8302303565793125E-3,{"$f":"RTD(\"cqg.rtd\",,\"StudyData\", \"Close(\"&$D$12&\") when LocalYear(\"&$D$12&\")=\"&$D$10&\" and localMonth(\"&$D$12&\") =\"&$E$10&\" and LocalDay(\"&$D$12&\")=\"&$F$10&\" and Barix(\"&$D$12&\",reference:=StartOfSession)=\"&A32&\"\", \"Bar\", \"\", \"Close\",\"5\",\"0\",\"PrimaryOnly\",,,\"False\",\"T\",\"EveryTick\")","v":159.11000000000001},6.1338054888075587E-3,null,null,null,""]
[32,"11:10:00",null,null,null,null,null,{"$f":"RTD(\"cqg.rtd\",,\"StudyData\", \"Close(\"&$D$12&\") when LocalYear(\"&$D$12&\")=\"&$D$1&\" and localMonth(\"&$D$12&\") =\"&$E$1&\" and LocalDay(\"&$D$12&\")=\"&$F$1&\" and Barix(\"&$D$12&\",reference:=StartOfSession)=\"&A33&\"\", \"Bar\", \"\", \"Close\",\"5\",\"0\",\"PrimaryOnly\",,,\"False\",\"T\",\"EveryTick\")","v":""},{"$error":"#N/A"},{"$f":"RTD(\"cqg.rtd\",,\"StudyData\", \"Close(\"&$D$12&\") when LocalYear(\"&$D$12&\")=\"&$D$2&\" and localMonth(\"&$D$12&\") =\"&$E$2&\" and LocalDay(\"&$D$12&\")=\"&$F$2&\" and Barix(\"&$D$12&\",reference:=StartOfSession)=\"&A33&\"\", \"Bar\", \"\", \"Close\",\"5\",\"0\",\"PrimaryOnly\",,,\"False\",\"T\",\"EveryTick\")","v":165.45},1.7339974174506508E-2,{"$f":"RTD(\"cqg.rtd\",,\"StudyData\", \"Close(\"&$D$12&\") when LocalYear(\"&$D$12&\")=\"&$D$3&\" and localMonth(\"&$D$12&\") =\"&$E$3&\" and LocalDay(\"&$D$12&\")=\"&$F$3&\" and Barix(\"&$D$12&\",reference:=StartOfSession)=\"&A33&\"\", \"Bar\", \"\", \"Close\",\"5\",\"0\",\"PrimaryOnly\",,,\"False\",\"T\",\"EveryTick\")","v":162.41},-8.9699780327068528E-3,{"$f":"RTD(\"cqg.rtd\",,\"StudyData\", \"Close(\"&$D$12&\") when LocalYear(\"&$D$12&\")=\"&$D$4&\" and localMonth(\"&$D$12&\") =\"&$E$4&\" and LocalDay(\"&$D$12&\")=\"&$F$4&\" and Barix(\"&$D$12&\",reference:=StartOfSession)=\"&A33&\"\", \"Bar\", \"\", \"Close\",\"5\",\"0\",\"PrimaryOnly\",,,\"False\",\"T\",\"EveryTick\")","v":163.98},3.9182074201052179E-3,{"$f":"RTD(\"cqg.rtd\",,\"StudyData\", \"Close(\"&$D$12&\") when LocalYear(\"&$D$12&\")=\"&$D$5&\" and localMonth(\"&$D$12&\") =\"&$E$5&\" and LocalDay(\"&$D$12&\")=\"&$F$5&\" and Barix(\"&$D$12&\",reference:=StartOfSession)=\"&A33&\"\", \"Bar\", \"\", \"Close\",\"5\",\"0\",\"PrimaryOnly\",,,\"False\",\"T\",\"EveryTick\")","v":162.30000000000001},8.6334484459801917E-4,{"$f":"RTD(\"cqg.rtd\",,\"StudyData\", \"Close(\"&$D$12&\") when LocalYear(\"&$D$12&\")=\"&$D$6&\" and localMonth(\"&$D$12&\") =\"&$E$6&\" and LocalDay(\"&$D$12&\")=\"&$F$6&\" and Barix(\"&$D$12&\",reference:=StartOfSession)=\"&A33&\"\", \"Bar\", \"\", \"Close\",\"5\",\"0\",\"PrimaryOnly\",,,\"False\",\"T\",\"EveryTick\")","v":162.02000000000001},8.9046640513108337E-3,{"$f":"RTD(\"cqg.rtd\",,\"StudyData\", \"Close(\"&$D$12&\") when LocalYear(\"&$D$12&\")=\"&$D$7&\" and localMonth(\"&$D$12&\") =\"&$E$7&\" and LocalDay(\"&$D$12&\")=\"&$F$7&\" and Barix(\"&$D$12&\",reference:=StartOfSession)=\"&A33&\"\", \"Bar\", \"\", \"Close\",\"5\",\"0\",\"PrimaryOnly\",,,\"False\",\"T\",\"EveryTick\")","v":159.65},8.3370176214235658E-3,{"$f":"RTD(\"cqg.rtd\",,\"StudyData\", \"Close(\"&$D$12&\") when LocalYear(\"&$D$12&\")=\"&$D$8&\" and localMonth(\"&$D$12&\") =\"&$E$8&\" and LocalDay(\"&$D$12&\")=\"&$F$8&\" and Barix(\"&$D$12&\",reference:=StartOfSession)=\"&A33&\"\", \"Bar\", \"\", \"Close\",\"5\",\"0\",\"PrimaryOnly\",,,\"False\",\"T\",\"EveryTick\")","v":158.88},-6.2546910182636976E-3,{"$f":"RTD(\"cqg.rtd\",,\"StudyData\", \"Close(\"&$D$12&\") when LocalYear(\"&$D$12&\")=\"&$D$9&\" and localMonth(\"&$D$12&\") =\"&$E$9&\" and LocalDay(\"&$D$12&\")=\"&$F$9&\" and Barix(\"&$D$12&\",reference:=StartOfSession)=\"&A33&\"\", \"Bar\", \"\", \"Close\",\"5\",\"0\",\"PrimaryOnly\",,,\"False\",\"T\",\"EveryTick\")","v":158.16},-1.8302303565793125E-3,{"$f":"RTD(\"cqg.rtd\",,\"StudyData\", \"Close(\"&$D$12&\") when LocalYear(\"&$D$12&\")=\"&$D$10&\" and localMonth(\"&$D$12&\") =\"&$E$10&\" and LocalDay(\"&$D$12&\")=\"&$F$10&\" and Barix(\"&$D$12&\",reference:=StartOfSession)=\"&A33&\"\", \"Bar\", \"\", \"Close\",\"5\",\"0\",\"PrimaryOnly\",,,\"False\",\"T\",\"EveryTick\")","v":159.16999999999999},6.5132161375996032E-3,null,null,null,""]
[33,"11:15:00",null,null,null,null,null,{"$f":"RTD(\"cqg.rtd\",,\"StudyData\", \"Close(\"&$D$12&\") when LocalYear(\"&$D$12&\")=\"&$D$1&\" and localMonth(\"&$D$12&\") =\"&$E$1&\" and LocalDay(\"&$D$12&\")=\"&$F$1&\" and Barix(\"&$D$12&\",reference:=StartOfSession)=\"&A34&\"\", \"Bar\", \"\", \"Close\",\"5\",\"0\",\"PrimaryOnly\",,,\"False\",\"T\",\"EveryTick\")","v":""},{"$error":"#N/A"},{"$f":"RTD(\"cqg.rtd\",,\"StudyData\", \"Close(\"&$D$12&\") when LocalYear(\"&$D$12&\")=\"&$D$2&\" and localMonth(\"&$D$12&\") =\"&$E$2&\" and LocalDay(\"&$D$12&\")=\"&$F$2&\" and Barix(\"&$D$12&\",reference:=StartOfSession)=\"&A34&\"\", \"Bar\", \"\", \"Close\",\"5\",\"0\",\"PrimaryOnly\",,,\"False\",\"T\",\"EveryTick\")","v":165.39},1.697103855377231E-2,{"$f":"RTD(\"cqg.rtd\",,\"StudyData\", \"Close(\"&$D$12&\") when LocalYear(\"&$D$12&\")=\"&$D$3&\" and localMonth(\"&$D$12&\") =\"&$E$3&\" and LocalDay(\"&$D$12&\")=\"&$F$3&\" and Barix(\"&$D$12&\",reference:=StartOfSession)=\"&A34&\"\", \"Bar\", \"\", \"Close\",\"5\",\"0\",\"PrimaryOnly\",,,\"False\",\"T\",\"EveryTick\")","v":162.44},-8.7869172565291538E-3,{"$f":"RTD(\"cqg.rtd\",,\"StudyData\", \"Close(\"&$D$12&\") when LocalYear(\"&$D$12&\")=\"&$D$4&\" and localMonth(\"&$D$12&\") =\"&$E$4&\" and LocalDay(\"&$D$12&\")=\"&$F$4&\" and Barix(\"&$D$12&\",reference:=StartOfSession)=\"&A34&\"\", \"Bar\", \"\", \"Close\",\"5\",\"0\",\"PrimaryOnly\",,,\"False\",\"T\",\"EveryTick\")","v":163.96},3.795763438227039E-3,{"$f":"RTD(\"cqg.rtd\",,\"StudyData\", \"Close(\"&$D$12&\") when LocalYear(\"&$D$12&\")=\"&$D$5&\" and localMonth(\"&$D$12&\") =\"&$E$5&\" and LocalDay(\"&$D$12&\")=\"&$F$5&\" and Barix(\"&$D$12&\",reference:=StartOfSession)=\"&A34&\"\", \"Bar\", \"\", \"Close\",\"5\",\"0\",\"PrimaryOnly\",,,\"False\",\"T\",\"EveryTick\")","v":162.30000000000001},8.6334484459801917E-4,{"$f":"RTD(\"cqg.rtd\",,\"StudyData\", \"Close(\"&$D$12&\") when LocalYear(\"&$D$12&\")=\"&$D$6&\" and localMonth(\"&$D$12&\") =\"&$E$6&\" and LocalDay(\"&$D$12&\")=\"&$F$6&\" and Barix(\"&$D$12&\",reference:=StartOfSession)=\"&A34&\"\", \"Bar\", \"\", \"Close\",\"5\",\"0\",\"PrimaryOnly\",,,\"False\",\"T\",\"EveryTick\")","v":162.02000000000001},8.9046640513108337E-3,{"$f":"RTD(\"cqg.rtd\",,\"StudyData\", \"Close(\"&$D$12&\") when LocalYear(\"&$D$12&\")=\"&$D$7&\" and localMonth(\"&$D$12&\") =\"&$E$7&\" and LocalDay(\"&$D$12&\")=\"&$F$7&\" and Barix(\"&$D$12&\",reference:=StartOfSession)=\"&A34&\"\", \"Bar\", \"\", \"Close\",\"5\",\"0\",\"PrimaryOnly\",,,\"False\",\"T\",\"EveryTick\")","v":160.02000000000001},1.0673908924398394E-2,{"$f":"RTD(\"cqg.rtd\",,\"StudyData\", \"Close(\"&$D$12&\") when LocalYear(\"&$D$12&\")=\"&$D$8&\" and localMonth(\"&$D$12&\") =\"&$E$8&\" and LocalDay(\"&$D$12&\")=\"&$F$8&\" and Barix(\"&$D$12&\",reference:=StartOfSession)=\"&A34&\"\", \"Bar\", \"\", \"Close\",\"5\",\"0\",\"PrimaryOnly\",,,\"False\",\"T\",\"EveryTick\")","v":158.91},-6.0670502877157801E-3,{"$f":"RTD(\"cqg.rtd\",,\"StudyData\", \"Close(\"&$D$12&\") when LocalYear(\"&$D$12&\")=\"&$D$9&\" and localMonth(\"&$D$12&\") =\"&$E$9&\" and LocalDay(\"&$D$12&\")=\"&$F$9&\" and Barix(\"&$D$12&\",reference:=StartOfSession)=\"&A34&\"\", \"Bar\", \"\", \"Close\",\"5\",\"0\",\"PrimaryOnly\",,,\"False\",\"T\",\"EveryTick\")","v":158.16},-1.8302303565793125E-3,{"$f":"RTD(\"cqg.rtd\",,\"StudyData\", \"Close(\"&$D$12&\") when LocalYear(\"&$D$12&\")=\"&$D$10&\" and localMonth(\"&$D$12&\") =\"&$E$10&\" and LocalDay(\"&$D$12&\")=\"&$F$10&\" and Barix(\"&$D$12&\",reference:=StartOfSession)=\"&A34&\"\", \"Bar\", \"\", \"Close\",\"5\",\"0\",\"PrimaryOnly\",,,\"False\",\"T\",\"EveryTick\")","v":159.16999999999999},6.5132161375996032E-3,null,null,null,""]
[34,"11:20:00",null,null,null,null,null,{"$f":"RTD(\"cqg.rtd\",,\"StudyData\", \"Close(\"&$D$12&\") when LocalYear(\"&$D$12&\")=\"&$D$1&\" and localMonth(\"&$D$12&\") =\"&$E$1&\" and LocalDay(\"&$D$12&\")=\"&$F$1&\" and Barix(\"&$D$12&\",reference:=StartOfSession)=\"&A35&\"\", \"Bar\", \"\", \"Close\",\"5\",\"0\",\"PrimaryOnly\",,,\"False\",\"T\",\"EveryTick\")","v":""},{"$error":"#N/A"},{"$f":"RTD(\"cqg.rtd\",,\"StudyData\", \"Close(\"&$D$12&\") when LocalYear(\"&$D$12&\")=\"&$D$2&\" and localMonth(\"&$D$12&\") =\"&$E$2&\" and LocalDay(\"&$D$12&\")=\"&$F$2&\" and Barix(\"&$D$12&\",reference:=StartOfSession)=\"&A35&\"\", \"Bar\", \"\", \"Close\",\"5\",\"0\",\"PrimaryOnly\",,,\"False\",\"T\",\"EveryTick\")","v":165.33},1.660210293303829E-2,{"$f":"RTD(\"cqg.rtd\",,\"StudyData\", \"Close(\"&$D$12&\") when LocalYear(\"&$D$12&\")=\"&$D$3&\" and localMonth(\"&$D$12&\") =\"&$E$3&\" and LocalDay(\"&$D$12&\")=\"&$F$3&\" and Barix(\"&$D$12&\",reference:=StartOfSession)=\"&A35&\"\", \"Bar\", \"\", \"Close\",\"5\",\"0\",\"PrimaryOnly\",,,\"False\",\"T\",\"EveryTick\")","v":162.47},-8.6038564803514565E-3,{"$f":"RTD(\"cqg.rtd\",,\"StudyData\", \"Close(\"&$D$12&\") when LocalYear(\"&$D$12&\")=\"&$D$4&\" and localMonth(\"&$D$12&\") =\"&$E$4&\" and LocalDay(\"&$D$12&\")=\"&$F$4&\" and Barix(\"&$D$12&\",reference:=StartOfSession)=\"&A35&\"\", \"Bar\", \"\", \"Close\",\"5\",\"0\",\"PrimaryOnly\",,,\"False\",\"T\",\"EveryTick\")","v":163.96},3.795763438227039E-3,{"$f":"RTD(\"cqg.rtd\",,\"StudyData\", \"Close(\"&$D$12&\") when LocalYear(\"&$D$12&\")=\"&$D$5&\" and localMonth(\"&$D$12&\") =\"&$E$5&\" and LocalDay(\"&$D$12&\")=\"&$F$5&\" and Barix(\"&$D$12&\",reference:=StartOfSession)=\"&A35&\"\", \"Bar\", \"\", \"Close\",\"5\",\"0\",\"PrimaryOnly\",,,\"False\",\"T\",\"EveryTick\")","v":162.38},1.356684755796737E-3,{"$f":"RTD(\"cqg.rtd\",,\"StudyData\", \"Close(\"&$D$12&\") when LocalYear(\"&$D$12&\")=\"&$D$6&\" and localMonth(\"&$D$12&\") =\"&$E$6&\" and LocalDay(\"&$D$12&\")=\"&$F$6&\" and Barix(\"&$D$12&\",reference:=StartOfSession)=\"&A35&\"\", \"Bar\", \"\", \"Close\",\"5\",\"0\",\"PrimaryOnly\",,,\"False\",\"T\",\"EveryTick\")","v":162.11000000000001},9.4650974531416045E-3,{"$f":"RTD(\"cqg.rtd\",,\"StudyData\", \"Close(\"&$D$12&\") when LocalYear(\"&$D$12&\")=\"&$D$7&\" and localMonth(\"&$D$12&\") =\"&$E$7&\" and LocalDay(\"&$D$12&\")=\"&$F$7&\" and Barix(\"&$D$12&\",reference:=StartOfSession)=\"&A35&\"\", \"Bar\", \"\", \"Close\",\"5\",\"0\",\"PrimaryOnly\",,,\"False\",\"T\",\"EveryTick\")","v":159.91},9.9791574559463404E-3,{"$f":"RTD(\"cqg.rtd\",,\"StudyData\", \"Close(\"&$D$12&\") when LocalYear(\"&$D$12&\")=\"&$D$8&\" and localMonth(\"&$D$12&\") =\"&$E$8&\" and LocalDay(\"&$D$12&\")=\"&$F$8&\" and Barix(\"&$D$12&\",reference:=StartOfSession)=\"&A35&\"\", \"Bar\", \"\", \"Close\",\"5\",\"0\",\"PrimaryOnly\",,,\"False\",\"T\",\"EveryTick\")","v":159.16999999999999},-4.4408306229672756E-3,{"$f":"RTD(\"cqg.rtd\",,\"StudyData\", \"Close(\"&$D$12&\") when LocalYear(\"&$D$12&\")=\"&$D$9&\" and localMonth(\"&$D$12&\") =\"&$E$9&\" and LocalDay(\"&$D$12&\")=\"&$F$9&\" and Barix(\"&$D$12&\",reference:=StartOfSession)=\"&A35&\"\", \"Bar\", \"\", \"Close\",\"5\",\"0\",\"PrimaryOnly\",,,\"False\",\"T\",\"EveryTick\")","v":158.22},-1.4515620069421886E-3,{"$f":"RTD(\"cqg.rtd\",,\"StudyData\", \"Close(\"&$D$12&\") when LocalYear(\"&$D$12&\")=\"&$D$10&\" and localMonth(\"&$D$12&\") =\"&$E$10&\" and LocalDay(\"&$D$12&\")=\"&$F$10&\" and Barix(\"&$D$12&\",reference:=StartOfSession)=\"&A35&\"\", \"Bar\", \"\", \"Close\",\"5\",\"0\",\"PrimaryOnly\",,,\"False\",\"T\",\"EveryTick\")","v":159.27000000000001},7.1455672189200958E-3,null,null,null,""]
[35,"11:25:00",null,null,null,null,null,{"$f":"RTD(\"cqg.rtd\",,\"StudyData\", \"Close(\"&$D$12&\") when LocalYear(\"&$D$12&\")=\"&$D$1&\" and localMonth(\"&$D$12&\") =\"&$E$1&\" and LocalDay(\"&$D$12&\")=\"&$F$1&\" and Barix(\"&$D$12&\",reference:=StartOfSession)=\"&A36&\"\", \"Bar\", \"\", \"Close\",\"5\",\"0\",\"PrimaryOnly\",,,\"False\",\"T\",\"EveryTick\")","v":""},{"$error":"#N/A"},{"$f":"RTD(\"cqg.rtd\",,\"StudyData\", \"Close(\"&$D$12&\") when LocalYear(\"&$D$12&\")=\"&$D$2&\" and localMonth(\"&$D$12&\") =\"&$E$2&\" and LocalDay(\"&$D$12&\")=\"&$F$2&\" and Barix(\"&$D$12&\",reference:=StartOfSession)=\"&A36&\"\", \"Bar\", \"\", \"Close\",\"5\",\"0\",\"PrimaryOnly\",,,\"False\",\"T\",\"EveryTick\")","v":165.33},1.660210293303829E-2,{"$f":"RTD(\"cqg.rtd\",,\"StudyData\", \"Close(\"&$D$12&\") when LocalYear(\"&$D$12&\")=\"&$D$3&\" and localMonth(\"&$D$12&\") =\"&$E$3&\" and LocalDay(\"&$D$12&\")=\"&$F$3&\" and Barix(\"&$D$12&\",reference:=StartOfSession)=\"&A36&\"\", \"Bar\", \"\", \"Close\",\"5\",\"0\",\"PrimaryOnly\",,,\"False\",\"T\",\"EveryTick\")","v":162.5},-8.4207957041737575E-3,{"$f":"RTD(\"cqg.rtd\",,\"StudyData\", \"Close(\"&$D$12&\") when LocalYear(\"&$D$12&\")=\"&$D$4&\" and localMonth(\"&$D$12&\") =\"&$E$4&\" and LocalDay(\"&$D$12&\")=\"&$F$4&\" and Barix(\"&$D$12&\",reference:=StartOfSession)=\"&A36&\"\", \"Bar\", \"\", \"Close\",\"5\",\"0\",\"PrimaryOnly\",,,\"False\",\"T\",\"EveryTick\")","v":164.13},4.8365372841924327E-3,{"$f":"RTD(\"cqg.rtd\",,\"StudyData\", \"Close(\"&$D$12&\") when LocalYear(\"&$D$12&\")=\"&$D$5&\" and localMonth(\"&$D$12&\") =\"&$E$5&\" and LocalDay(\"&$D$12&\")=\"&$F$5&\" and Barix(\"&$D$12&\",reference:=StartOfSession)=\"&A36&\"\", \"Bar\", \"\", \"Close\",\"5\",\"0\",\"PrimaryOnly\",,,\"False\",\"T\",\"EveryTick\")","v":162.38},1.356684755796737E-3,{"$f":"RTD(\"cqg.rtd\",,\"StudyData\", \"Close(\"&$D$12&\") when LocalYear(\"&$D$12&\")=\"&$D$6&\" and localMonth(\"&$D$12&\") =\"&$E$6&\" and LocalDay(\"&$D$12&\")=\"&$F$6&\" and Barix(\"&$D$12&\",reference:=StartOfSession)=\"&A36&\"\", \"Bar\", \"\", \"Close\",\"5\",\"0\",\"PrimaryOnly\",,,\"False\",\"T\",\"EveryTick\")","v":162.07},9.2160159412166993E-3,{"$f":"RTD(\"cqg.rtd\",,\"StudyData\", \"Close(\"&$D$12&\") when LocalYear(\"&$D$12&\")=\"&$D$7&\" and localMonth(\"&$D$12&\") =\"&$E$7&\" and LocalDay(\"&$D$12&\")=\"&$F$7&\" and Barix(\"&$D$12&\",reference:=StartOfSession)=\"&A36&\"\", \"Bar\", \"\", \"Close\",\"5\",\"0\",\"PrimaryOnly\",,,\"False\",\"T\",\"EveryTick\")","v":159.91},9.9791574559463404E-3,{"$f":"RTD(\"cqg.rtd\",,\"StudyData\", \"Close(\"&$D$12&\") when LocalYear(\"&$D$12&\")=\"&$D$8&\" and localMonth(\"&$D$12&\") =\"&$E$8&\" and LocalDay(\"&$D$12&\")=\"&$F$8&\" and Barix(\"&$D$12&\",reference:=StartOfSession)=\"&A36&\"\", \"Bar\", \"\", \"Close\",\"5\",\"0\",\"PrimaryOnly\",,,\"False\",\"T\",\"EveryTick\")","v":158.97},-5.6917688266199442E-3,{"$f":"RTD(\"cqg.rtd\",,\"StudyData\", \"Close(\"&$D$12&\") when LocalYear(\"&$D$12&\")=\"&$D$9&\" and localMonth(\"&$D$12&\") =\"&$E$9&\" and LocalDay(\"&$D$12&\")=\"&$F$9&\" and Barix(\"&$D$12&\",reference:=StartOfSession)=\"&A36&\"\", \"Bar\", \"\", \"Close\",\"5\",\"0\",\"PrimaryOnly\",,,\"False\",\"T\",\"EveryTick\")","v":158.29},-1.0097822656989371E-3,{"$f":"RTD(\"cqg.rtd\",,\"StudyData\", \"Close(\"&$D$12&\") when LocalYear(\"&$D$12&\")=\"&$D$10&\" and localMonth(\"&$D$12&\") =\"&$E$10&\" and LocalDay(\"&$D$12&\")=\"&$F$10&\" and Barix(\"&$D$12&\",reference:=StartOfSession)=\"&A36&\"\", \"Bar\", \"\", \"Close\",\"5\",\"0\",\"PrimaryOnly\",,,\"False\",\"T\",\"EveryTick\")","v":159.16999999999999},6.5132161375996032E-3,null,null,null,""]
[36,"11:30:00",null,null,null,null,null,{"$f":"RTD(\"cqg.rtd\",,\"StudyData\", \"Close(\"&$D$12&\") when LocalYear(\"&$D$12&\")=\"&$D$1&\" and localMonth(\"&$D$12&\") =\"&$E$1&\" and LocalDay(\"&$D$12&\")=\"&$F$1&\" and Barix(\"&$D$12&\",reference:=StartOfSession)=\"&A37&\"\", \"Bar\", \"\", \"Close\",\"5\",\"0\",\"PrimaryOnly\",,,\"False\",\"T\",\"EveryTick\")","v":""},{"$error":"#N/A"},{"$f":"RTD(\"cqg.rtd\",,\"StudyData\", \"Close(\"&$D$12&\") when LocalYear(\"&$D$12&\")=\"&$D$2&\" and localMonth(\"&$D$12&\") =\"&$E$2&\" and LocalDay(\"&$D$12&\")=\"&$F$2&\" and Barix(\"&$D$12&\",reference:=StartOfSession)=\"&A37&\"\", \"Bar\", \"\", \"Close\",\"5\",\"0\",\"PrimaryOnly\",,,\"False\",\"T\",\"EveryTick\")","v":165.33},1.660210293303829E-2,{"$f":"RTD(\"cqg.rtd\",,\"StudyData\", \"Close(\"&$D$12&\") when LocalYear(\"&$D$12&\")=\"&$D$3&\" and localMonth(\"&$D$12&\") =\"&$E$3&\" and LocalDay(\"&$D$12&\")=\"&$F$3&\" and Barix(\"&$D$12&\",reference:=StartOfSession)=\"&A37&\"\", \"Bar\", \"\", \"Close\",\"5\",\"0\",\"PrimaryOnly\",,,\"False\",\"T\",\"EveryTick\")","v":162.5},-8.4207957041737575E-3,{"$f":"RTD(\"cqg.rtd\",,\"StudyData\", \"Close(\"&$D$12&\") when LocalYear(\"&$D$12&\")=\"&$D$4&\" and localMonth(\"&$D$12&\") =\"&$E$4&\" and LocalDay(\"&$D$12&\")=\"&$F$4&\" and Barix(\"&$D$12&\",reference:=StartOfSession)=\"&A37&\"\", \"Bar\", \"\", \"Close\",\"5\",\"0\",\"PrimaryOnly\",,,\"False\",\"T\",\"EveryTick\")","v":164.13},4.8365372841924327E-3,{"$f":"RTD(\"cqg.rtd\",,\"StudyData\", \"Close(\"&$D$12&\") when LocalYear(\"&$D$12&\")=\"&$D$5&\" and localMonth(\"&$D$12&\") =\"&$E$5&\" and LocalDay(\"&$D$12&\")=\"&$F$5&\" and Barix(\"&$D$12&\",reference:=StartOfSession)=\"&A37&\"\", \"Bar\", \"\", \"Close\",\"5\",\"0\",\"PrimaryOnly\",,,\"False\",\"T\",\"EveryTick\")","v":162.33000000000001},1.0483473112975822E-3,{"$f":"RTD(\"cqg.rtd\",,\"StudyData\", \"Close(\"&$D$12&\") when LocalYear(\"&$D$12&\")=\"&$D$6&\" and localMonth(\"&$D$12&\") =\"&$E$6&\" and LocalDay(\"&$D$12&\")=\"&$F$6&\" and Barix(\"&$D$12&\",reference:=StartOfSession)=\"&A37&\"\", \"Bar\", \"\", \"Close\",\"5\",\"0\",\"PrimaryOnly\",,,\"False\",\"T\",\"EveryTick\")","v":162.16},9.7764493430474702E-3,{"$f":"RTD(\"cqg.rtd\",,\"StudyData\", \"Close(\"&$D$12&\") when LocalYear(\"&$D$12&\")=\"&$D$7&\" and localMonth(\"&$D$12&\") =\"&$E$7&\" and LocalDay(\"&$D$12&\")=\"&$F$7&\" and Barix(\"&$D$12&\",reference:=StartOfSession)=\"&A37&\"\", \"Bar\", \"\", \"Close\",\"5\",\"0\",\"PrimaryOnly\",,,\"False\",\"T\",\"EveryTick\")","v":159.91},9.9791574559463404E-3,{"$f":"RTD(\"cqg.rtd\",,\"StudyData\", \"Close(\"&$D$12&\") when LocalYear(\"&$D$12&\")=\"&$D$8&\" and localMonth(\"&$D$12&\") =\"&$E$8&\" and LocalDay(\"&$D$12&\")=\"&$F$8&\" and Barix(\"&$D$12&\",reference:=StartOfSession)=\"&A37&\"\", \"Bar\", \"\", \"Close\",\"5\",\"0\",\"PrimaryOnly\",,,\"False\",\"T\",\"EveryTick\")","v":158.88999999999999},-6.192144108081118E-3,{"$f":"RTD(\"cqg.rtd\",,\"StudyData\", \"Close(\"&$D$12&\") when LocalYear(\"&$D$12&\")=\"&$D$9&\" and localMonth(\"&$D$12&\") =\"&$E$9&\" and LocalDay(\"&$D$12&\")=\"&$F$9&\" and Barix(\"&$D$12&\",reference:=StartOfSession)=\"&A37&\"\", \"Bar\", \"\", \"Close\",\"5\",\"0\",\"PrimaryOnly\",,,\"False\",\"T\",\"EveryTick\")","v":158.30000000000001},-9.4667087409263035E-4,{"$f":"RTD(\"cqg.rtd\",,\"StudyData\", \"Close(\"&$D$12&\") when LocalYear(\"&$D$12&\")=\"&$D$10&\" and localMonth(\"&$D$12&\") =\"&$E$10&\" and LocalDay(\"&$D$12&\")=\"&$F$10&\" and Barix(\"&$D$12&\",reference:=StartOfSession)=\"&A37&\"\", \"Bar\", \"\", \"Close\",\"5\",\"0\",\"PrimaryOnly\",,,\"False\",\"T\",\"EveryTick\")","v":159.07},5.8808650562792901E-3,null,null,null,""]
[37,"11:35:00",-40,{"$f":" RTD(\"cqg.rtd\",,\"StudyData\", $D$12,  \"Tick\", \"FlatTicks=0\", \"Tick\",\"D\",C38,\"PrimaryOnly\")","v":165.45},null,"EP",null,{"$f":"RTD(\"cqg.rtd\",,\"StudyData\", \"Close(\"&$D$12&\") when LocalYear(\"&$D$12&\")=\"&$D$1&\" and localMonth(\"&$D$12&\") =\"&$E$1&\" and LocalDay(\"&$D$12&\")=\"&$F$1&\" and Barix(\"&$D$12&\",reference:=StartOfSession)=\"&A38&\"\", \"Bar\", \"\", \"Close\",\"5\",\"0\",\"PrimaryOnly\",,,\"False\",\"T\",\"EveryTick\")","v":""},{"$error":"#N/A"},{"$f":"RTD(\"cqg.rtd\",,\"StudyData\", \"Close(\"&$D$12&\") when LocalYear(\"&$D$12&\")=\"&$D$2&\" and localMonth(\"&$D$12&\") =\"&$E$2&\" and LocalDay(\"&$D$12&\")=\"&$F$2&\" and Barix(\"&$D$12&\",reference:=StartOfSession)=\"&A38&\"\", \"Bar\", \"\", \"Close\",\"5\",\"0\",\"PrimaryOnly\",,,\"False\",\"T\",\"EveryTick\")","v":165.23},1.5987210231814514E-2,{"$f":"RTD(\"cqg.rtd\",,\"StudyData\", \"Close(\"&$D$12&\") when LocalYear(\"&$D$12&\")=\"&$D$3&\" and localMonth(\"&$D$12&\") =\"&$E$3&\" and LocalDay(\"&$D$12&\")=\"&$F$3&\" and Barix(\"&$D$12&\",reference:=StartOfSession)=\"&A38&\"\", \"Bar\", \"\", \"Close\",\"5\",\"0\",\"PrimaryOnly\",,,\"False\",\"T\",\"EveryTick\")","v":162.5},-8.4207957041737575E-3,{"$f":"RTD(\"cqg.rtd\",,\"StudyData\", \"Close(\"&$D$12&\") when LocalYear(\"&$D$12&\")=\"&$D$4&\" and localMonth(\"&$D$12&\") =\"&$E$4&\" and LocalDay(\"&$D$12&\")=\"&$F$4&\" and Barix(\"&$D$12&\",reference:=StartOfSession)=\"&A38&\"\", \"Bar\", \"\", \"Close\",\"5\",\"0\",\"PrimaryOnly\",,,\"False\",\"T\",\"EveryTick\")","v":164.03},4.2243173748010149E-3,{"$f":"RTD(\"cqg.rtd\",,\"StudyData\", \"Close(\"&$D$12&\") when LocalYear(\"&$D$12&\")=\"&$D$5&\" and localMonth(\"&$D$12&\") =\"&$E$5&\" and LocalDay(\"&$D$12&\")=\"&$F$5&\" and Barix(\"&$D$12&\",reference:=StartOfSession)=\"&A38&\"\", \"Bar\", \"\", \"Close\",\"5\",\"0\",\"PrimaryOnly\",,,\"False\",\"T\",\"EveryTick\")","v":162.35},1.171682289097174E-3,{"$f":"RTD(\"cqg.rtd\",,\"StudyData\", \"Close(\"&$D$12&\") when LocalYear(\"&$D$12&\")=\"&$D$6&\" and localMonth(\"&$D$12&\") =\"&$E$6&\" and LocalDay(\"&$D$12&\")=\"&$F$6&\" and Barix(\"&$D$12&\",reference:=StartOfSession)=\"&A38&\"\", \"Bar\", \"\", \"Close\",\"5\",\"0\",\"PrimaryOnly\",,,\"False\",\"T\",\"EveryTick\")","v":162.16},9.7764493430474702E-3,{"$f":"RTD(\"cqg.rtd\",,\"StudyData\", \"Close(\"&$D$12&\") when LocalYear(\"&$D$12&\")=\"&$D$7&\" and localMonth(\"&$D$12&\") =\"&$E$7&\" and LocalDay(\"&$D$12&\")=\"&$F$7&\" and Barix(\"&$D$12&\",reference:=StartOfSession)=\"&A38&\"\", \"Bar\", \"\", \"Close\",\"5\",\"0\",\"PrimaryOnly\",,,\"False\",\"T\",\"EveryTick\")","v":160},1.054759047558888E-2,{"$f":"RTD(\"cqg.rtd\",,\"StudyData\", \"Close(\"&$D$12&\") when LocalYear(\"&$D$12&\")=\"&$D$8&\" and localMonth(\"&$D$12&\") =\"&$E$8&\" and LocalDay(\"&$D$12&\")=\"&$F$8&\" and Barix(\"&$D$12&\",reference:=StartOfSession)=\"&A38&\"\", \"Bar\", \"\", \"Close\",\"5\",\"0\",\"PrimaryOnly\",,,\"False\",\"T\",\"EveryTick\")","v":158.71},-7.3179884913684486E-3,{"$f":"RTD(\"cqg.rtd\",,\"StudyData\", \"Close(\"&$D$12&\") when LocalYear(\"&$D$12&\")=\"&$D$9&\" and localMonth(\"&$D$12&\") =\"&$E$9&\" and LocalDay(\"&$D$12&\")=\"&$F$9&\" and Barix(\"&$D$12&\",reference:=StartOfSession)=\"&A38&\"\", \"Bar\", \"\", \"Close\",\"5\",\"0\",\"PrimaryOnly\",,,\"False\",\"T\",\"EveryTick\")","v":158.31},-8.8355948248650281E-4,{"$f":"RTD(\"cqg.rtd\",,\"StudyData\", \"Close(\"&$D$12&\") when LocalYear(\"&$D$12&\")=\"&$D$10&\" and localMonth(\"&$D$12&\") =\"&$E$10&\" and LocalDay(\"&$D$12&\")=\"&$F$10&\" and Barix(\"&$D$12&\",reference:=StartOfSession)=\"&A38&\"\", \"Bar\", \"\", \"Close\",\"5\",\"0\",\"PrimaryOnly\",,,\"False\",\"T\",\"EveryTick\")","v":159.07},5.8808650562792901E-3,null,null,null,""]
[38,"11:40:00",{"$f":"C38+1","v":-39},{"$f":" RTD(\"cqg.rtd\",,\"StudyData\", $D$12,  \"Tick\", \"FlatTicks=0\", \"Tick\",\"D\",C39,\"PrimaryOnly\")","v":165.44},null,"ENQ",null,{"$f":"RTD(\"cqg.rtd\",,\"StudyData\", \"Close(\"&$D$12&\") when LocalYear(\"&$D$12&\")=\"&$D$1&\" and localMonth(\"&$D$12&\") =\"&$E$1&\" and LocalDay(\"&$D$12&\")=\"&$F$1&\" and Barix(\"&$D$12&\",reference:=StartOfSession)=\"&A39&\"\", \"Bar\", \"\", \"Close\",\"5\",\"0\",\"PrimaryOnly\",,,\"False\",\"T\",\"EveryTick\")","v":""},{"$error":"#N/A"},{"$f":"RTD(\"cqg.rtd\",,\"StudyData\", \"Close(\"&$D$12&\") when LocalYear(\"&$D$12&\")=\"&$D$2&\" and localMonth(\"&$D$12&\") =\"&$E$2&\" and LocalDay(\"&$D$12&\")=\"&$F$2&\" and Barix(\"&$D$12&\",reference:=StartOfSession)=\"&A39&\"\", \"Bar\", \"\", \"Close\",\"5\",\"0\",\"PrimaryOnly\",,,\"False\",\"T\",\"EveryTick\")","v":165.21},1.5864231691569898E-2,{"$f":"RTD(\"cqg.rtd\",,\"StudyData\", \"Close(\"&$D$12&\") when LocalYear(\"&$D$12&\")=\"&$D$3&\" and localMonth(\"&$D$12&\") =\"&$E$3&\" and LocalDay(\"&$D$12&\")=\"&$F$3&\" and Barix(\"&$D$12&\",reference:=StartOfSession)=\"&A39&\"\", \"Bar\", \"\", \"Close\",\"5\",\"0\",\"PrimaryOnly\",,,\"False\",\"T\",\"EveryTick\")","v":162.5},-8.4207957041737575E-3,{"$f":"RTD(\"cqg.rtd\",,\"StudyData\", \"Close(\"&$D$12&\") when LocalYear(\"&$D$12&\")=\"&$D$4&\" and localMonth(\"&$D$12&\") =\"&$E$4&\" and LocalDay(\"&$D$12&\")=\"&$F$4&\" and Barix(\"&$D$12&\",reference:=StartOfSession)=\"&A39&\"\", \"Bar\", \"\", \"Close\",\"5\",\"0\",\"PrimaryOnly\",,,\"False\",\"T\",\"EveryTick\")","v":164.03},4.2243173748010149E-3,{"$f":"RTD(\"cqg.rtd\",,\"StudyData\", \"Close(\"&$D$12&\") when LocalYear(\"&$D$12&\")=\"&$D$5&\" and localMonth(\"&$D$12&\") =\"&$E$5&\" and LocalDay(\"&$D$12&\")=\"&$F$5&\" and Barix(\"&$D$12&\",reference:=StartOfSession)=\"&A39&\"\", \"Bar\", \"\", \"Close\",\"5\",\"0\",\"PrimaryOnly\",,,\"False\",\"T\",\"EveryTick\")","v":162.34},1.1100148001973781E-3,{"$f":"RTD(\"cqg.rtd\",,\"StudyData\", \"Close(\"&$D$12&\") when LocalYear(\"&$D$12&\")=\"&$D$6&\" and localMonth(\"&$D$12&\") =\"&$E$6&\" and LocalDay(\"&$D$12&\")=\"&$F$6&\" and Barix(\"&$D$12&\",reference:=StartOfSession)=\"&A39&\"\", \"Bar\", \"\", \"Close\",\"5\",\"0\",\"PrimaryOnly\",,,\"False\",\"T\",\"EveryTick\")","v":162.16},9.7764493430474702E-3,{"$f":"RTD(\"cqg.rtd\",,\"StudyData\", \"Close(\"&$D$12&\") when LocalYear(\"&$D$12&\")=\"&$D$7&\" and localMonth(\"&$D$12&\") =\"&$E$7&\" and LocalDay(\"&$D$12&\")=\"&$F$7&\" and Barix(\"&$D$12&\",reference:=StartOfSession)=\"&A39&\"\", \"Bar\", \"\", \"Close\",\"5\",\"0\",\"PrimaryOnly\",,,\"False\",\"T\",\"EveryTick\")","v":159.99},1.0484431251184213E-2,{"$f":"RTD(\"cqg.rtd\",,\"StudyData\", \"Close(\"&$D$12&\") when LocalYear(\"&$D$12&\")=\"&$D$8&\" and localMonth(\"&$D$12&\") =\"&$E$8&\" and LocalDay(\"&$D$12&\")=\"&$F$8&\" and Barix(\"&$D$12&\",reference:=StartOfSession)=\"&A39&\"\", \"Bar\", \"\", \"Close\",\"5\",\"0\",\"PrimaryOnly\",,,\"False\",\"T\",\"EveryTick\")","v":158.79},-6.8176132099074518E-3,{"$f":"RTD(\"cqg.rtd\",,\"StudyData\", \"Close(\"&$D$12&\") when LocalYear(\"&$D$12&\")=\"&$D$9&\" and localMonth(\"&$D$12&\") =\"&$E$9&\" and LocalDay(\"&$D$12&\")=\"&$F$9&\" and Barix(\"&$D$12&\",reference:=StartOfSession)=\"&A39&\"\", \"Bar\", \"\", \"Close\",\"5\",\"0\",\"PrimaryOnly\",,,\"False\",\"T\",\"EveryTick\")","v":158.35},-6.3111391606181331E-4,{"$f":"RTD(\"cqg.rtd\",,\"StudyData\", \"Close(\"&$D$12&\") when LocalYear(\"&$D$12&\")=\"&$D$10&\" and localMonth(\"&$D$12&\") =\"&$E$10&\" and LocalDay(\"&$D$12&\")=\"&$F$10&\" and Barix(\"&$D$12&\",reference:=StartOfSession)=\"&A39&\"\", \"Bar\", \"\", \"Close\",\"5\",\"0\",\"PrimaryOnly\",,,\"False\",\"T\",\"EveryTick\")","v":159.16},6.4499810294676259E-3,null,null,null,""]
[39,"11:45:00",{"$f":"C39+1","v":-38},{"$f":" RTD(\"cqg.rtd\",,\"StudyData\", $D$12,  \"Tick\", \"FlatTicks=0\", \"Tick\",\"D\",C40,\"PrimaryOnly\")","v":165.62},null,"YM",null,{"$f":"RTD(\"cqg.rtd\",,\"StudyData\", \"Close(\"&$D$12&\") when LocalYear(\"&$D$12&\")=\"&$D$1&\" and localMonth(\"&$D$12&\") =\"&$E$1&\" and LocalDay(\"&$D$12&\")=\"&$F$1&\" and Barix(\"&$D$12&\",reference:=StartOfSession)=\"&A40&\"\", \"Bar\", \"\", \"Close\",\"5\",\"0\",\"PrimaryOnly\",,,\"False\",\"T\",\"EveryTick\")","v":""},{"$error":"#N/A"},{"$f":"RTD(\"cqg.rtd\",,\"StudyData\", \"Close(\"&$D$12&\") when LocalYear(\"&$D$12&\")=\"&$D$2&\" and localMonth(\"&$D$12&\") =\"&$E$2&\" and LocalDay(\"&$D$12&\")=\"&$F$2&\" and Barix(\"&$D$12&\",reference:=StartOfSession)=\"&A40&\"\", \"Bar\", \"\", \"Close\",\"5\",\"0\",\"PrimaryOnly\",,,\"False\",\"T\",\"EveryTick\")","v":165.26},1.6171678042181611E-2,{"$f":"RTD(\"cqg.rtd\",,\"StudyData\", \"Close(\"&$D$12&\") when LocalYear(\"&$D$12&\")=\"&$D$3&\" and localMonth(\"&$D$12&\") =\"&$E$3&\" and LocalDay(\"&$D$12&\")=\"&$F$3&\" and Barix(\"&$D$12&\",reference:=StartOfSession)=\"&A40&\"\", \"Bar\", \"\", \"Close\",\"5\",\"0\",\"PrimaryOnly\",,,\"False\",\"T\",\"EveryTick\")","v":162.84},-6.3461069074932392E-3,{"$f":"RTD(\"cqg.rtd\",,\"StudyData\", \"Close(\"&$D$12&\") when LocalYear(\"&$D$12&\")=\"&$D$4&\" and localMonth(\"&$D$12&\") =\"&$E$4&\" and LocalDay(\"&$D$12&\")=\"&$F$4&\" and Barix(\"&$D$12&\",reference:=StartOfSession)=\"&A40&\"\", \"Bar\", \"\", \"Close\",\"5\",\"0\",\"PrimaryOnly\",,,\"False\",\"T\",\"EveryTick\")","v":164.03},4.2243173748010149E-3,{"$f":"RTD(\"cqg.rtd\",,\"StudyData\", \"Close(\"&$D$12&\") when LocalYear(\"&$D$12&\")=\"&$D$5&\" and localMonth(\"&$D$12&\") =\"&$E$5&\" and LocalDay(\"&$D$12&\")=\"&$F$5&\" and Barix(\"&$D$12&\",reference:=StartOfSession)=\"&A40&\"\", \"Bar\", \"\", \"Close\",\"5\",\"0\",\"PrimaryOnly\",,,\"False\",\"T\",\"EveryTick\")","v":162.34},1.1100148001973781E-3,{"$f":"RTD(\"cqg.rtd\",,\"StudyData\", \"Close(\"&$D$12&\") when LocalYear(\"&$D$12&\")=\"&$D$6&\" and localMonth(\"&$D$12&\") =\"&$E$6&\" and LocalDay(\"&$D$12&\")=\"&$F$6&\" and Barix(\"&$D$12&\",reference:=StartOfSession)=\"&A40&\"\", \"Bar\", \"\", \"Close\",\"5\",\"0\",\"PrimaryOnly\",,,\"False\",\"T\",\"EveryTick\")","v":162.16},9.7764493430474702E-3,{"$f":"RTD(\"cqg.rtd\",,\"StudyData\", \"Close(\"&$D$12&\") when LocalYear(\"&$D$12&\")=\"&$D$7&\" and localMonth(\"&$D$12&\") =\"&$E$7&\" and LocalDay(\"&$D$12&\")=\"&$F$7&\" and Barix(\"&$D$12&\",reference:=StartOfSession)=\"&A40&\"\", \"Bar\", \"\", \"Close\",\"5\",\"0\",\"PrimaryOnly\",,,\"False\",\"T\",\"EveryTick\")","v":159.99},1.0484431251184213E-2,{"$f":"RTD(\"cqg.rtd\",,\"StudyData\", \"Close(\"&$D$12&\") when LocalYear(\"&$D$12&\")=\"&$D$8&\" and localMonth(\"&$D$12&\") =\"&$E$8&\" and LocalDay(\"&$D$12&\")=\"&$F$8&\" and Barix(\"&$D$12&\",reference:=StartOfSession)=\"&A40&\"\", \"Bar\", \"\", \"Close\",\"5\",\"0\",\"PrimaryOnly\",,,\"False\",\"T\",\"EveryTick\")","v":158.68},-7.5056292219163661E-3,{"$f":"RTD(\"cqg.rtd\",,\"StudyData\", \"Close(\"&$D$12&\") when LocalYear(\"&$D$12&\")=\"&$D$9&\" and localMonth(\"&$D$12&\") =\"&$E$9&\" and LocalDay(\"&$D$12&\")=\"&$F$9&\" and Barix(\"&$D$12&\",reference:=StartOfSession)=\"&A40&\"\", \"Bar\", \"\", \"Close\",\"5\",\"0\",\"PrimaryOnly\",,,\"False\",\"T\",\"EveryTick\")","v":158.54},5.6800252445568576E-4,{"$f":"RTD(\"cqg.rtd\",,\"StudyData\", \"Close(\"&$D$12&\") when LocalYear(\"&$D$12&\")=\"&$D$10&\" and localMonth(\"&$D$12&\") =\"&$E$10&\" and LocalDay(\"&$D$12&\")=\"&$F$10&\" and Barix(\"&$D$12&\",reference:=StartOfSession)=\"&A40&\"\", \"Bar\", \"\", \"Close\",\"5\",\"0\",\"PrimaryOnly\",,,\"False\",\"T\",\"EveryTick\")","v":159.08000000000001},5.944100164411447E-3,null,null,null,""]
[40,"11:50:00",-37,{"$f":" RTD(\"cqg.rtd\",,\"StudyData\", $D$12,  \"Tick\", \"FlatTicks=0\", \"Tick\",\"D\",C41,\"PrimaryOnly\")","v":165.58},null,"RTY",null,{"$f":"RTD(\"cqg.rtd\",,\"StudyData\", \"Close(\"&$D$12&\") when LocalYear(\"&$D$12&\")=\"&$D$1&\" and localMonth(\"&$D$12&\") =\"&$E$1&\" and LocalDay(\"&$D$12&\")=\"&$F$1&\" and Barix(\"&$D$12&\",reference:=StartOfSession)=\"&A41&\"\", \"Bar\", \"\", \"Close\",\"5\",\"0\",\"PrimaryOnly\",,,\"False\",\"T\",\"EveryTick\")","v":""},{"$error":"#N/A"},{"$f":"RTD(\"cqg.rtd\",,\"StudyData\", \"Close(\"&$D$12&\") when LocalYear(\"&$D$12&\")=\"&$D$2&\" and localMonth(\"&$D$12&\") =\"&$E$2&\" and LocalDay(\"&$D$12&\")=\"&$F$2&\" and Barix(\"&$D$12&\",reference:=StartOfSession)=\"&A41&\"\", \"Bar\", \"\", \"Close\",\"5\",\"0\",\"PrimaryOnly\",,,\"False\",\"T\",\"EveryTick\")","v":165.3},1.6417635122671193E-2,{"$f":"RTD(\"cqg.rtd\",,\"StudyData\", \"Close(\"&$D$12&\") when LocalYear(\"&$D$12&\")=\"&$D$3&\" and localMonth(\"&$D$12&\") =\"&$E$3&\" and LocalDay(\"&$D$12&\")=\"&$F$3&\" and Barix(\"&$D$12&\",reference:=StartOfSession)=\"&A41&\"\", \"Bar\", \"\", \"Close\",\"5\",\"0\",\"PrimaryOnly\",,,\"False\",\"T\",\"EveryTick\")","v":162.84},-6.3461069074932392E-3,{"$f":"RTD(\"cqg.rtd\",,\"StudyData\", \"Close(\"&$D$12&\") when LocalYear(\"&$D$12&\")=\"&$D$4&\" and localMonth(\"&$D$12&\") =\"&$E$4&\" and LocalDay(\"&$D$12&\")=\"&$F$4&\" and Barix(\"&$D$12&\",reference:=StartOfSession)=\"&A41&\"\", \"Bar\", \"\", \"Close\",\"5\",\"0\",\"PrimaryOnly\",,,\"False\",\"T\",\"EveryTick\")","v":164.04},4.2855393657401045E-3,{"$f":"RTD(\"cqg.rtd\",,\"StudyData\", \"Close(\"&$D$12&\") when LocalYear(\"&$D$12&\")=\"&$D$5&\" and localMonth(\"&$D$12&\") =\"&$E$5&\" and LocalDay(\"&$D$12&\")=\"&$F$5&\" and Barix(\"&$D$12&\",reference:=StartOfSession)=\"&A41&\"\", \"Bar\", \"\", \"Close\",\"5\",\"0\",\"PrimaryOnly\",,,\"False\",\"T\",\"EveryTick\")","v":162.34},1.1100148001973781E-3,{"$f":"RTD(\"cqg.rtd\",,\"StudyData\", \"Close(\"&$D$12&\") when LocalYear(\"&$D$12&\")=\"&$D$6&\" and localMonth(\"&$D$12&\") =\"&$E$6&\" and LocalDay(\"&$D$12&\")=\"&$F$6&\" and Barix(\"&$D$12&\",reference:=StartOfSession)=\"&A41&\"\", \"Bar\", \"\", \"Close\",\"5\",\"0\",\"PrimaryOnly\",,,\"False\",\"T\",\"EveryTick\")","v":162.16},9.7764493430474702E-3,{"$f":"RTD(\"cqg.rtd\",,\"StudyData\", \"Close(\"&$D$12&\") when LocalYear(\"&$D$12&\")=\"&$D$7&\" and localMonth(\"&$D$12&\") =\"&$E$7&\" and LocalDay(\"&$D$12&\")=\"&$F$7&\" and Barix(\"&$D$12&\",reference:=StartOfSession)=\"&A41&\"\", \"Bar\", \"\", \"Close\",\"5\",\"0\",\"PrimaryOnly\",,,\"False\",\"T\",\"EveryTick\")","v":159.9},9.9159982315416735E-3,{"$f":"RTD(\"cqg.rtd\",,\"StudyData\", \"Close(\"&$D$12&\") when LocalYear(\"&$D$12&\")=\"&$D$8&\" and localMonth(\"&$D$12&\") =\"&$E$8&\" and LocalDay(\"&$D$12&\")=\"&$F$8&\" and Barix(\"&$D$12&\",reference:=StartOfSession)=\"&A41&\"\", \"Bar\", \"\", \"Close\",\"5\",\"0\",\"PrimaryOnly\",,,\"False\",\"T\",\"EveryTick\")","v":158.28},-1.0007505629221881E-2,{"$f":"RTD(\"cqg.rtd\",,\"StudyData\", \"Close(\"&$D$12&\") when LocalYear(\"&$D$12&\")=\"&$D$9&\" and localMonth(\"&$D$12&\") =\"&$E$9&\" and LocalDay(\"&$D$12&\")=\"&$F$9&\" and Barix(\"&$D$12&\",reference:=StartOfSession)=\"&A41&\"\", \"Bar\", \"\", \"Close\",\"5\",\"0\",\"PrimaryOnly\",,,\"False\",\"T\",\"EveryTick\")","v":158.54},5.6800252445568576E-4,{"$f":"RTD(\"cqg.rtd\",,\"StudyData\", \"Close(\"&$D$12&\") when LocalYear(\"&$D$12&\")=\"&$D$10&\" and localMonth(\"&$D$12&\") =\"&$E$10&\" and LocalDay(\"&$D$12&\")=\"&$F$10&\" and Barix(\"&$D$12&\",reference:=StartOfSession)=\"&A41&\"\", \"Bar\", \"\", \"Close\",\"5\",\"0\",\"PrimaryOnly\",,,\"False\",\"T\",\"EveryTick\")","v":158.99},5.3749841912231113E-3,null,null,null,""]
[41,"11:55:00",-36,{"$f":" RTD(\"cqg.rtd\",,\"StudyData\", $D$12,  \"Tick\", \"FlatTicks=0\", \"Tick\",\"D\",C42,\"PrimaryOnly\")","v":165.6},null,"EMD",null,{"$f":"RTD(\"cqg.rtd\",,\"StudyData\", \"Close(\"&$D$12&\") when LocalYear(\"&$D$12&\")=\"&$D$1&\" and localMonth(\"&$D$12&\") =\"&$E$1&\" and LocalDay(\"&$D$12&\")=\"&$F$1&\" and Barix(\"&$D$12&\",reference:=StartOfSession)=\"&A42&\"\", \"Bar\", \"\", \"Close\",\"5\",\"0\",\"PrimaryOnly\",,,\"False\",\"T\",\"EveryTick\")","v":""},{"$error":"#N/A"},{"$f":"RTD(\"cqg.rtd\",,\"StudyData\", \"Close(\"&$D$12&\") when LocalYear(\"&$D$12&\")=\"&$D$2&\" and localMonth(\"&$D$12&\") =\"&$E$2&\" and LocalDay(\"&$D$12&\")=\"&$F$2&\" and Barix(\"&$D$12&\",reference:=StartOfSession)=\"&A42&\"\", \"Bar\", \"\", \"Close\",\"5\",\"0\",\"PrimaryOnly\",,,\"False\",\"T\",\"EveryTick\")","v":165.38},1.6909549283650002E-2,{"$f":"RTD(\"cqg.rtd\",,\"StudyData\", \"Close(\"&$D$12&\") when LocalYear(\"&$D$12&\")=\"&$D$3&\" and localMonth(\"&$D$12&\") =\"&$E$3&\" and LocalDay(\"&$D$12&\")=\"&$F$3&\" and Barix(\"&$D$12&\",reference:=StartOfSession)=\"&A42&\"\", \"Bar\", \"\", \"Close\",\"5\",\"0\",\"PrimaryOnly\",,,\"False\",\"T\",\"EveryTick\")","v":162.6},-7.8105931169148227E-3,{"$f":"RTD(\"cqg.rtd\",,\"StudyData\", \"Close(\"&$D$12&\") when LocalYear(\"&$D$12&\")=\"&$D$4&\" and localMonth(\"&$D$12&\") =\"&$E$4&\" and LocalDay(\"&$D$12&\")=\"&$F$4&\" and Barix(\"&$D$12&\",reference:=StartOfSession)=\"&A42&\"\", \"Bar\", \"\", \"Close\",\"5\",\"0\",\"PrimaryOnly\",,,\"False\",\"T\",\"EveryTick\")","v":164.04},4.2855393657401045E-3,{"$f":"RTD(\"cqg.rtd\",,\"StudyData\", \"Close(\"&$D$12&\") when LocalYear(\"&$D$12&\")=\"&$D$5&\" and localMonth(\"&$D$12&\") =\"&$E$5&\" and LocalDay(\"&$D$12&\")=\"&$F$5&\" and Barix(\"&$D$12&\",reference:=StartOfSession)=\"&A42&\"\", \"Bar\", \"\", \"Close\",\"5\",\"0\",\"PrimaryOnly\",,,\"False\",\"T\",\"EveryTick\")","v":162.36000000000001},1.2333497779971451E-3,{"$f":"RTD(\"cqg.rtd\",,\"StudyData\", \"Close(\"&$D$12&\") when LocalYear(\"&$D$12&\")=\"&$D$6&\" and localMonth(\"&$D$12&\") =\"&$E$6&\" and LocalDay(\"&$D$12&\")=\"&$F$6&\" and Barix(\"&$D$12&\",reference:=StartOfSession)=\"&A42&\"\", \"Bar\", \"\", \"Close\",\"5\",\"0\",\"PrimaryOnly\",,,\"False\",\"T\",\"EveryTick\")","v":162.16},9.7764493430474702E-3,{"$f":"RTD(\"cqg.rtd\",,\"StudyData\", \"Close(\"&$D$12&\") when LocalYear(\"&$D$12&\")=\"&$D$7&\" and localMonth(\"&$D$12&\") =\"&$E$7&\" and LocalDay(\"&$D$12&\")=\"&$F$7&\" and Barix(\"&$D$12&\",reference:=StartOfSession)=\"&A42&\"\", \"Bar\", \"\", \"Close\",\"5\",\"0\",\"PrimaryOnly\",,,\"False\",\"T\",\"EveryTick\")","v":160.11000000000001},1.1242341944040933E-2,{"$f":"RTD(\"cqg.rtd\",,\"StudyData\", \"Close(\"&$D$12&\") when LocalYear(\"&$D$12&\")=\"&$D$8&\" and localMonth(\"&$D$12&\") =\"&$E$8&\" and LocalDay(\"&$D$12&\")=\"&$F$8&\" and Barix(\"&$D$12&\",reference:=StartOfSession)=\"&A42&\"\", \"Bar\", \"\", \"Close\",\"5\",\"0\",\"PrimaryOnly\",,,\"False\",\"T\",\"EveryTick\")","v":158.33000000000001},-9.6947710783086248E-3,{"$f":"RTD(\"cqg.rtd\",,\"StudyData\", \"Close(\"&$D$12&\") when LocalYear(\"&$D$12&\")=\"&$D$9&\" and localMonth(\"&$D$12&\") =\"&$E$9&\" and LocalDay(\"&$D$12&\")=\"&$F$9&\" and Barix(\"&$D$12&\",reference:=StartOfSession)=\"&A42&\"\", \"Bar\", \"\", \"Close\",\"5\",\"0\",\"PrimaryOnly\",,,\"False\",\"T\",\"EveryTick\")","v":158.49},2.5244556642486883E-4,{"$f":"RTD(\"cqg.rtd\",,\"StudyData\", \"Close(\"&$D$12&\") when LocalYear(\"&$D$12&\")=\"&$D$10&\" and localMonth(\"&$D$12&\") =\"&$E$10&\" and LocalDay(\"&$D$12&\")=\"&$F$10&\" and Barix(\"&$D$12&\",reference:=StartOfSession)=\"&A42&\"\", \"Bar\", \"\", \"Close\",\"5\",\"0\",\"PrimaryOnly\",,,\"False\",\"T\",\"EveryTick\")","v":158.94999999999999},5.1220437586948419E-3,null,null,null,""]
[42,"12:00:00",-35,{"$f":" RTD(\"cqg.rtd\",,\"StudyData\", $D$12,  \"Tick\", \"FlatTicks=0\", \"Tick\",\"D\",C43,\"PrimaryOnly\")","v":165.57},null,"FTS",null,{"$f":"RTD(\"cqg.rtd\",,\"StudyData\", \"Close(\"&$D$12&\") when LocalYear(\"&$D$12&\")=\"&$D$1&\" and localMonth(\"&$D$12&\") =\"&$E$1&\" and LocalDay(\"&$D$12&\")=\"&$F$1&\" and Barix(\"&$D$12&\",reference:=StartOfSession)=\"&A43&\"\", \"Bar\", \"\", \"Close\",\"5\",\"0\",\"PrimaryOnly\",,,\"False\",\"T\",\"EveryTick\")","v":""},{"$error":"#N/A"},{"$f":"RTD(\"cqg.rtd\",,\"StudyData\", \"Close(\"&$D$12&\") when LocalYear(\"&$D$12&\")=\"&$D$2&\" and localMonth(\"&$D$12&\") =\"&$E$2&\" and LocalDay(\"&$D$12&\")=\"&$F$2&\" and Barix(\"&$D$12&\",reference:=StartOfSession)=\"&A43&\"\", \"Bar\", \"\", \"Close\",\"5\",\"0\",\"PrimaryOnly\",,,\"False\",\"T\",\"EveryTick\")","v":165.48},1.7524441984873605E-2,{"$f":"RTD(\"cqg.rtd\",,\"StudyData\", \"Close(\"&$D$12&\") when LocalYear(\"&$D$12&\")=\"&$D$3&\" and localMonth(\"&$D$12&\") =\"&$E$3&\" and LocalDay(\"&$D$12&\")=\"&$F$3&\" and Barix(\"&$D$12&\",reference:=StartOfSession)=\"&A43&\"\", \"Bar\", \"\", \"Close\",\"5\",\"0\",\"PrimaryOnly\",,,\"False\",\"T\",\"EveryTick\")","v":162.68},-7.3224310471075704E-3,{"$f":"RTD(\"cqg.rtd\",,\"StudyData\", \"Close(\"&$D$12&\") when LocalYear(\"&$D$12&\")=\"&$D$4&\" and localMonth(\"&$D$12&\") =\"&$E$4&\" and LocalDay(\"&$D$12&\")=\"&$F$4&\" and Barix(\"&$D$12&\",reference:=StartOfSession)=\"&A43&\"\", \"Bar\", \"\", \"Close\",\"5\",\"0\",\"PrimaryOnly\",,,\"False\",\"T\",\"EveryTick\")","v":164.04},4.2855393657401045E-3,{"$f":"RTD(\"cqg.rtd\",,\"StudyData\", \"Close(\"&$D$12&\") when LocalYear(\"&$D$12&\")=\"&$D$5&\" and localMonth(\"&$D$12&\") =\"&$E$5&\" and LocalDay(\"&$D$12&\")=\"&$F$5&\" and Barix(\"&$D$12&\",reference:=StartOfSession)=\"&A43&\"\", \"Bar\", \"\", \"Close\",\"5\",\"0\",\"PrimaryOnly\",,,\"False\",\"T\",\"EveryTick\")","v":162.36000000000001},1.2333497779971451E-3,{"$f":"RTD(\"cqg.rtd\",,\"StudyData\", \"Close(\"&$D$12&\") when LocalYear(\"&$D$12&\")=\"&$D$6&\" and localMonth(\"&$D$12&\") =\"&$E$6&\" and LocalDay(\"&$D$12&\")=\"&$F$6&\" and Barix(\"&$D$12&\",reference:=StartOfSession)=\"&A43&\"\", \"Bar\", \"\", \"Close\",\"5\",\"0\",\"PrimaryOnly\",,,\"False\",\"T\",\"EveryTick\")","v":162.09},9.3405566971791511E-3,{"$f":"RTD(\"cqg.rtd\",,\"StudyData\", \"Close(\"&$D$12&\") when LocalYear(\"&$D$12&\")=\"&$D$7&\" and localMonth(\"&$D$12&\") =\"&$E$7&\" and LocalDay(\"&$D$12&\")=\"&$F$7&\" and Barix(\"&$D$12&\",reference:=StartOfSession)=\"&A43&\"\", \"Bar\", \"\", \"Close\",\"5\",\"0\",\"PrimaryOnly\",,,\"False\",\"T\",\"EveryTick\")","v":160.18},1.168445651487396E-2,{"$f":"RTD(\"cqg.rtd\",,\"StudyData\", \"Close(\"&$D$12&\") when LocalYear(\"&$D$12&\")=\"&$D$8&\" and localMonth(\"&$D$12&\") =\"&$E$8&\" and LocalDay(\"&$D$12&\")=\"&$F$8&\" and Barix(\"&$D$12&\",reference:=StartOfSession)=\"&A43&\"\", \"Bar\", \"\", \"Close\",\"5\",\"0\",\"PrimaryOnly\",,,\"False\",\"T\",\"EveryTick\")","v":""},{"$error":"#N/A"},{"$f":"RTD(\"cqg.rtd\",,\"StudyData\", \"Close(\"&$D$12&\") when LocalYear(\"&$D$12&\")=\"&$D$9&\" and localMonth(\"&$D$12&\") =\"&$E$9&\" and LocalDay(\"&$D$12&\")=\"&$F$9&\" and Barix(\"&$D$12&\",reference:=StartOfSession)=\"&A43&\"\", \"Bar\", \"\", \"Close\",\"5\",\"0\",\"PrimaryOnly\",,,\"False\",\"T\",\"EveryTick\")","v":158.49},2.5244556642486883E-4,{"$f":"RTD(\"cqg.rtd\",,\"StudyData\", \"Close(\"&$D$12&\") when LocalYear(\"&$D$12&\")=\"&$D$10&\" and localMonth(\"&$D$12&\") =\"&$E$10&\" and LocalDay(\"&$D$12&\")=\"&$F$10&\" and Barix(\"&$D$12&\",reference:=StartOfSession)=\"&A43&\"\", \"Bar\", \"\", \"Close\",\"5\",\"0\",\"PrimaryOnly\",,,\"False\",\"T\",\"EveryTick\")","v":158.94999999999999},5.1220437586948419E-3,null,null,null,""]
[43,"12:05:00",-34,{"$f":" RTD(\"cqg.rtd\",,\"StudyData\", $D$12,  \"Tick\", \"FlatTicks=0\", \"Tick\",\"D\",C44,\"PrimaryOnly\")","v":165.56},null,"BTC",null,{"$f":"RTD(\"cqg.rtd\",,\"StudyData\", \"Close(\"&$D$12&\") when LocalYear(\"&$D$12&\")=\"&$D$1&\" and localMonth(\"&$D$12&\") =\"&$E$1&\" and LocalDay(\"&$D$12&\")=\"&$F$1&\" and Barix(\"&$D$12&\",reference:=StartOfSession)=\"&A44&\"\", \"Bar\", \"\", \"Close\",\"5\",\"0\",\"PrimaryOnly\",,,\"False\",\"T\",\"EveryTick\")","v":""},{"$error":"#N/A"},{"$f":"RTD(\"cqg.rtd\",,\"StudyData\", \"Close(\"&$D$12&\") when LocalYear(\"&$D$12&\")=\"&$D$2&\" and localMonth(\"&$D$12&\") =\"&$E$2&\" and LocalDay(\"&$D$12&\")=\"&$F$2&\" and Barix(\"&$D$12&\",reference:=StartOfSession)=\"&A44&\"\", \"Bar\", \"\", \"Close\",\"5\",\"0\",\"PrimaryOnly\",,,\"False\",\"T\",\"EveryTick\")","v":165.48},1.7524441984873605E-2,{"$f":"RTD(\"cqg.rtd\",,\"StudyData\", \"Close(\"&$D$12&\") when LocalYear(\"&$D$12&\")=\"&$D$3&\" and localMonth(\"&$D$12&\") =\"&$E$3&\" and LocalDay(\"&$D$12&\")=\"&$F$3&\" and Barix(\"&$D$12&\",reference:=StartOfSession)=\"&A44&\"\", \"Bar\", \"\", \"Close\",\"5\",\"0\",\"PrimaryOnly\",,,\"False\",\"T\",\"EveryTick\")","v":162.68},-7.3224310471075704E-3,{"$f":"RTD(\"cqg.rtd\",,\"StudyData\", \"Close(\"&$D$12&\") when LocalYear(\"&$D$12&\")=\"&$D$4&\" and localMonth(\"&$D$12&\") =\"&$E$4&\" and LocalDay(\"&$D$12&\")=\"&$F$4&\" and Barix(\"&$D$12&\",reference:=StartOfSession)=\"&A44&\"\", \"Bar\", \"\", \"Close\",\"5\",\"0\",\"PrimaryOnly\",,,\"False\",\"T\",\"EveryTick\")","v":163.9},3.4284314925921528E-3,{"$f":"RTD(\"cqg.rtd\",,\"StudyData\", \"Close(\"&$D$12&\") when LocalYear(\"&$D$12&\")=\"&$D$5&\" and localMonth(\"&$D$12&\") =\"&$E$5&\" and LocalDay(\"&$D$12&\")=\"&$F$5&\" and Barix(\"&$D$12&\",reference:=StartOfSession)=\"&A44&\"\", \"Bar\", \"\", \"Close\",\"5\",\"0\",\"PrimaryOnly\",,,\"False\",\"T\",\"EveryTick\")","v":162.43},1.665022200296067E-3,{"$f":"RTD(\"cqg.rtd\",,\"StudyData\", \"Close(\"&$D$12&\") when LocalYear(\"&$D$12&\")=\"&$D$6&\" and localMonth(\"&$D$12&\") =\"&$E$6&\" and LocalDay(\"&$D$12&\")=\"&$F$6&\" and Barix(\"&$D$12&\",reference:=StartOfSession)=\"&A44&\"\", \"Bar\", \"\", \"Close\",\"5\",\"0\",\"PrimaryOnly\",,,\"False\",\"T\",\"EveryTick\")","v":162.09},9.3405566971791511E-3,{"$f":"RTD(\"cqg.rtd\",,\"StudyData\", \"Close(\"&$D$12&\") when LocalYear(\"&$D$12&\")=\"&$D$7&\" and localMonth(\"&$D$12&\") =\"&$E$7&\" and LocalDay(\"&$D$12&\")=\"&$F$7&\" and Barix(\"&$D$12&\",reference:=StartOfSession)=\"&A44&\"\", \"Bar\", \"\", \"Close\",\"5\",\"0\",\"PrimaryOnly\",,,\"False\",\"T\",\"EveryTick\")","v":160.18},1.168445651487396E-2,{"$f":"RTD(\"cqg.rtd\",,\"StudyData\", \"Close(\"&$D$12&\") when LocalYear(\"&$D$12&\")=\"&$D$8&\" and localMonth(\"&$D$12&\") =\"&$E$8&\" and LocalDay(\"&$D$12&\")=\"&$F$8&\" and Barix(\"&$D$12&\",reference:=StartOfSession)=\"&A44&\"\", \"Bar\", \"\", \"Close\",\"5\",\"0\",\"PrimaryOnly\",,,\"False\",\"T\",\"EveryTick\")","v":""},{"$error":"#N/A"},{"$f":"RTD(\"cqg.rtd\",,\"StudyData\", \"Close(\"&$D$12&\") when LocalYear(\"&$D$12&\")=\"&$D$9&\" and localMonth(\"&$D$12&\") =\"&$E$9&\" and LocalDay(\"&$D$12&\")=\"&$F$9&\" and Barix(\"&$D$12&\",reference:=StartOfSession)=\"&A44&\"\", \"Bar\", \"\", \"Close\",\"5\",\"0\",\"PrimaryOnly\",,,\"False\",\"T\",\"EveryTick\")","v":158.32},-8.2044809088037526E-4,{"$f":"RTD(\"cqg.rtd\",,\"StudyData\", \"Close(\"&$D$12&\") when LocalYear(\"&$D$12&\")=\"&$D$10&\" and localMonth(\"&$D$12&\") =\"&$E$10&\" and LocalDay(\"&$D$12&\")=\"&$F$10&\" and Barix(\"&$D$12&\",reference:=StartOfSession)=\"&A44&\"\", \"Bar\", \"\", \"Close\",\"5\",\"0\",\"PrimaryOnly\",,,\"False\",\"T\",\"EveryTick\")","v":159.07},5.8808650562792901E-3,null,null,null,""]
[44,"12:10:00",-33,{"$f":" RTD(\"cqg.rtd\",,\"StudyData\", $D$12,  \"Tick\", \"FlatTicks=0\", \"Tick\",\"D\",C45,\"PrimaryOnly\")","v":165.55},null,null,null,{"$f":"RTD(\"cqg.rtd\",,\"StudyData\", \"Close(\"&$D$12&\") when LocalYear(\"&$D$12&\")=\"&$D$1&\" and localMonth(\"&$D$12&\") =\"&$E$1&\" and LocalDay(\"&$D$12&\")=\"&$F$1&\" and Barix(\"&$D$12&\",reference:=StartOfSession)=\"&A45&\"\", \"Bar\", \"\", \"Close\",\"5\",\"0\",\"PrimaryOnly\",,,\"False\",\"T\",\"EveryTick\")","v":""},{"$error":"#N/A"},{"$f":"RTD(\"cqg.rtd\",,\"StudyData\", \"Close(\"&$D$12&\") when LocalYear(\"&$D$12&\")=\"&$D$2&\" and localMonth(\"&$D$12&\") =\"&$E$2&\" and LocalDay(\"&$D$12&\")=\"&$F$2&\" and Barix(\"&$D$12&\",reference:=StartOfSession)=\"&A45&\"\", \"Bar\", \"\", \"Close\",\"5\",\"0\",\"PrimaryOnly\",,,\"False\",\"T\",\"EveryTick\")","v":165.48},1.7524441984873605E-2,{"$f":"RTD(\"cqg.rtd\",,\"StudyData\", \"Close(\"&$D$12&\") when LocalYear(\"&$D$12&\")=\"&$D$3&\" and localMonth(\"&$D$12&\") =\"&$E$3&\" and LocalDay(\"&$D$12&\")=\"&$F$3&\" and Barix(\"&$D$12&\",reference:=StartOfSession)=\"&A45&\"\", \"Bar\", \"\", \"Close\",\"5\",\"0\",\"PrimaryOnly\",,,\"False\",\"T\",\"EveryTick\")","v":162.68},-7.3224310471075704E-3,{"$f":"RTD(\"cqg.rtd\",,\"StudyData\", \"Close(\"&$D$12&\") when LocalYear(\"&$D$12&\")=\"&$D$4&\" and localMonth(\"&$D$12&\") =\"&$E$4&\" and LocalDay(\"&$D$12&\")=\"&$F$4&\" and Barix(\"&$D$12&\",reference:=StartOfSession)=\"&A45&\"\", \"Bar\", \"\", \"Close\",\"5\",\"0\",\"PrimaryOnly\",,,\"False\",\"T\",\"EveryTick\")","v":164.02},4.1630953838619252E-3,{"$f":"RTD(\"cqg.rtd\",,\"StudyData\", \"Close(\"&$D$12&\") when LocalYear(\"&$D$12&\")=\"&$D$5&\" and localMonth(\"&$D$12&\") =\"&$E$5&\" and LocalDay(\"&$D$12&\")=\"&$F$5&\" and Barix(\"&$D$12&\",reference:=StartOfSession)=\"&A45&\"\", \"Bar\", \"\", \"Close\",\"5\",\"0\",\"PrimaryOnly\",,,\"False\",\"T\",\"EveryTick\")","v":162.29},8.0167735569804794E-4,{"$f":"RTD(\"cqg.rtd\",,\"StudyData\", \"Close(\"&$D$12&\") when LocalYear(\"&$D$12&\")=\"&$D$6&\" and localMonth(\"&$D$12&\") =\"&$E$6&\" and LocalDay(\"&$D$12&\")=\"&$F$6&\" and Barix(\"&$D$12&\",reference:=StartOfSession)=\"&A45&\"\", \"Bar\", \"\", \"Close\",\"5\",\"0\",\"PrimaryOnly\",,,\"False\",\"T\",\"EveryTick\")","v":162.13},9.5896382091038793E-3,{"$f":"RTD(\"cqg.rtd\",,\"StudyData\", \"Close(\"&$D$12&\") when LocalYear(\"&$D$12&\")=\"&$D$7&\" and localMonth(\"&$D$12&\") =\"&$E$7&\" and LocalDay(\"&$D$12&\")=\"&$F$7&\" and Barix(\"&$D$12&\",reference:=StartOfSession)=\"&A45&\"\", \"Bar\", \"\", \"Close\",\"5\",\"0\",\"PrimaryOnly\",,,\"False\",\"T\",\"EveryTick\")","v":160.18},1.168445651487396E-2,{"$f":"RTD(\"cqg.rtd\",,\"StudyData\", \"Close(\"&$D$12&\") when LocalYear(\"&$D$12&\")=\"&$D$8&\" and localMonth(\"&$D$12&\") =\"&$E$8&\" and LocalDay(\"&$D$12&\")=\"&$F$8&\" and Barix(\"&$D$12&\",reference:=StartOfSession)=\"&A45&\"\", \"Bar\", \"\", \"Close\",\"5\",\"0\",\"PrimaryOnly\",,,\"False\",\"T\",\"EveryTick\")","v":""},{"$error":"#N/A"},{"$f":"RTD(\"cqg.rtd\",,\"StudyData\", \"Close(\"&$D$12&\") when LocalYear(\"&$D$12&\")=\"&$D$9&\" and localMonth(\"&$D$12&\") =\"&$E$9&\" and LocalDay(\"&$D$12&\")=\"&$F$9&\" and Barix(\"&$D$12&\",reference:=StartOfSession)=\"&A45&\"\", \"Bar\", \"\", \"Close\",\"5\",\"0\",\"PrimaryOnly\",,,\"False\",\"T\",\"EveryTick\")","v":158.29},-1.0097822656989371E-3,{"$f":"RTD(\"cqg.rtd\",,\"StudyData\", \"Close(\"&$D$12&\") when LocalYear(\"&$D$12&\")=\"&$D$10&\" and localMonth(\"&$D$12&\") =\"&$E$10&\" and LocalDay(\"&$D$12&\")=\"&$F$10&\" and Barix(\"&$D$12&\",reference:=StartOfSession)=\"&A45&\"\", \"Bar\", \"\", \"Close\",\"5\",\"0\",\"PrimaryOnly\",,,\"False\",\"T\",\"EveryTick\")","v":159.07},5.8808650562792901E-3,null,null,null,""]
[45,"12:15:00",-32,{"$f":" RTD(\"cqg.rtd\",,\"StudyData\", $D$12,  \"Tick\", \"FlatTicks=0\", \"Tick\",\"D\",C46,\"PrimaryOnly\")","v":165.51},null,null,null,{"$f":"RTD(\"cqg.rtd\",,\"StudyData\", \"Close(\"&$D$12&\") when LocalYear(\"&$D$12&\")=\"&$D$1&\" and localMonth(\"&$D$12&\") =\"&$E$1&\" and LocalDay(\"&$D$12&\")=\"&$F$1&\" and Barix(\"&$D$12&\",reference:=StartOfSession)=\"&A46&\"\", \"Bar\", \"\", \"Close\",\"5\",\"0\",\"PrimaryOnly\",,,\"False\",\"T\",\"EveryTick\")","v":""},{"$error":"#N/A"},{"$f":"RTD(\"cqg.rtd\",,\"StudyData\", \"Close(\"&$D$12&\") when LocalYear(\"&$D$12&\")=\"&$D$2&\" and localMonth(\"&$D$12&\") =\"&$E$2&\" and LocalDay(\"&$D$12&\")=\"&$F$2&\" and Barix(\"&$D$12&\",reference:=StartOfSession)=\"&A46&\"\", \"Bar\", \"\", \"Close\",\"5\",\"0\",\"PrimaryOnly\",,,\"False\",\"T\",\"EveryTick\")","v":165.46},1.7401463444628989E-2,{"$f":"RTD(\"cqg.rtd\",,\"StudyData\", \"Close(\"&$D$12&\") when LocalYear(\"&$D$12&\")=\"&$D$3&\" and localMonth(\"&$D$12&\") =\"&$E$3&\" and LocalDay(\"&$D$12&\")=\"&$F$3&\" and Barix(\"&$D$12&\",reference:=StartOfSession)=\"&A46&\"\", \"Bar\", \"\", \"Close\",\"5\",\"0\",\"PrimaryOnly\",,,\"False\",\"T\",\"EveryTick\")","v":162.68},-7.3224310471075704E-3,{"$f":"RTD(\"cqg.rtd\",,\"StudyData\", \"Close(\"&$D$12&\") when LocalYear(\"&$D$12&\")=\"&$D$4&\" and localMonth(\"&$D$12&\") =\"&$E$4&\" and LocalDay(\"&$D$12&\")=\"&$F$4&\" and Barix(\"&$D$12&\",reference:=StartOfSession)=\"&A46&\"\", \"Bar\", \"\", \"Close\",\"5\",\"0\",\"PrimaryOnly\",,,\"False\",\"T\",\"EveryTick\")","v":163.87},3.24476551977471E-3,{"$f":"RTD(\"cqg.rtd\",,\"StudyData\", \"Close(\"&$D$12&\") when LocalYear(\"&$D$12&\")=\"&$D$5&\" and localMonth(\"&$D$12&\") =\"&$E$5&\" and LocalDay(\"&$D$12&\")=\"&$F$5&\" and Barix(\"&$D$12&\",reference:=StartOfSession)=\"&A46&\"\", \"Bar\", \"\", \"Close\",\"5\",\"0\",\"PrimaryOnly\",,,\"False\",\"T\",\"EveryTick\")","v":162.37},1.295017266896941E-3,{"$f":"RTD(\"cqg.rtd\",,\"StudyData\", \"Close(\"&$D$12&\") when LocalYear(\"&$D$12&\")=\"&$D$6&\" and localMonth(\"&$D$12&\") =\"&$E$6&\" and LocalDay(\"&$D$12&\")=\"&$F$6&\" and Barix(\"&$D$12&\",reference:=StartOfSession)=\"&A46&\"\", \"Bar\", \"\", \"Close\",\"5\",\"0\",\"PrimaryOnly\",,,\"False\",\"T\",\"EveryTick\")","v":162.15},9.7141789650663311E-3,{"$f":"RTD(\"cqg.rtd\",,\"StudyData\", \"Close(\"&$D$12&\") when LocalYear(\"&$D$12&\")=\"&$D$7&\" and localMonth(\"&$D$12&\") =\"&$E$7&\" and LocalDay(\"&$D$12&\")=\"&$F$7&\" and Barix(\"&$D$12&\",reference:=StartOfSession)=\"&A46&\"\", \"Bar\", \"\", \"Close\",\"5\",\"0\",\"PrimaryOnly\",,,\"False\",\"T\",\"EveryTick\")","v":160.18},1.168445651487396E-2,{"$f":"RTD(\"cqg.rtd\",,\"StudyData\", \"Close(\"&$D$12&\") when LocalYear(\"&$D$12&\")=\"&$D$8&\" and localMonth(\"&$D$12&\") =\"&$E$8&\" and LocalDay(\"&$D$12&\")=\"&$F$8&\" and Barix(\"&$D$12&\",reference:=StartOfSession)=\"&A46&\"\", \"Bar\", \"\", \"Close\",\"5\",\"0\",\"PrimaryOnly\",,,\"False\",\"T\",\"EveryTick\")","v":""},{"$error":"#N/A"},{"$f":"RTD(\"cqg.rtd\",,\"StudyData\", \"Close(\"&$D$12&\") when LocalYear(\"&$D$12&\")=\"&$D$9&\" and localMonth(\"&$D$12&\") =\"&$E$9&\" and LocalDay(\"&$D$12&\")=\"&$F$9&\" and Barix(\"&$D$12&\",reference:=StartOfSession)=\"&A46&\"\", \"Bar\", \"\", \"Close\",\"5\",\"0\",\"PrimaryOnly\",,,\"False\",\"T\",\"EveryTick\")","v":158.26},-1.1991164405174991E-3,{"$f":"RTD(\"cqg.rtd\",,\"StudyData\", \"Close(\"&$D$12&\") when LocalYear(\"&$D$12&\")=\"&$D$10&\" and localMonth(\"&$D$12&\") =\"&$E$10&\" and LocalDay(\"&$D$12&\")=\"&$F$10&\" and Barix(\"&$D$12&\",reference:=StartOfSession)=\"&A46&\"\", \"Bar\", \"\", \"Close\",\"5\",\"0\",\"PrimaryOnly\",,,\"False\",\"T\",\"EveryTick\")","v":159.29},7.2720374351840505E-3,null,null,null,""]
[46,"12:20:00",-31,{"$f":" RTD(\"cqg.rtd\",,\"StudyData\", $D$12,  \"Tick\", \"FlatTicks=0\", \"Tick\",\"D\",C47,\"PrimaryOnly\")","v":165.55},null,null,null,{"$f":"RTD(\"cqg.rtd\",,\"StudyData\", \"Close(\"&$D$12&\") when LocalYear(\"&$D$12&\")=\"&$D$1&\" and localMonth(\"&$D$12&\") =\"&$E$1&\" and LocalDay(\"&$D$12&\")=\"&$F$1&\" and Barix(\"&$D$12&\",reference:=StartOfSession)=\"&A47&\"\", \"Bar\", \"\", \"Close\",\"5\",\"0\",\"PrimaryOnly\",,,\"False\",\"T\",\"EveryTick\")","v":""},{"$error":"#N/A"},{"$f":"RTD(\"cqg.rtd\",,\"StudyData\", \"Close(\"&$D$12&\") when LocalYear(\"&$D$12&\")=\"&$D$2&\" and localMonth(\"&$D$12&\") =\"&$E$2&\" and LocalDay(\"&$D$12&\")=\"&$F$2&\" and Barix(\"&$D$12&\",reference:=StartOfSession)=\"&A47&\"\", \"Bar\", \"\", \"Close\",\"5\",\"0\",\"PrimaryOnly\",,,\"False\",\"T\",\"EveryTick\")","v":165.41},1.7094017094017103E-2,{"$f":"RTD(\"cqg.rtd\",,\"StudyData\", \"Close(\"&$D$12&\") when LocalYear(\"&$D$12&\")=\"&$D$3&\" and localMonth(\"&$D$12&\") =\"&$E$3&\" and LocalDay(\"&$D$12&\")=\"&$F$3&\" and Barix(\"&$D$12&\",reference:=StartOfSession)=\"&A47&\"\", \"Bar\", \"\", \"Close\",\"5\",\"0\",\"PrimaryOnly\",,,\"False\",\"T\",\"EveryTick\")","v":162.93},-5.7969245789601456E-3,{"$f":"RTD(\"cqg.rtd\",,\"StudyData\", \"Close(\"&$D$12&\") when LocalYear(\"&$D$12&\")=\"&$D$4&\" and localMonth(\"&$D$12&\") =\"&$E$4&\" and LocalDay(\"&$D$12&\")=\"&$F$4&\" and Barix(\"&$D$12&\",reference:=StartOfSession)=\"&A47&\"\", \"Bar\", \"\", \"Close\",\"5\",\"0\",\"PrimaryOnly\",,,\"False\",\"T\",\"EveryTick\")","v":163.94},3.6733194563486854E-3,{"$f":"RTD(\"cqg.rtd\",,\"StudyData\", \"Close(\"&$D$12&\") when LocalYear(\"&$D$12&\")=\"&$D$5&\" and localMonth(\"&$D$12&\") =\"&$E$5&\" and LocalDay(\"&$D$12&\")=\"&$F$5&\" and Barix(\"&$D$12&\",reference:=StartOfSession)=\"&A47&\"\", \"Bar\", \"\", \"Close\",\"5\",\"0\",\"PrimaryOnly\",,,\"False\",\"T\",\"EveryTick\")","v":162.43},1.665022200296067E-3,{"$f":"RTD(\"cqg.rtd\",,\"StudyData\", \"Close(\"&$D$12&\") when LocalYear(\"&$D$12&\")=\"&$D$6&\" and localMonth(\"&$D$12&\") =\"&$E$6&\" and LocalDay(\"&$D$12&\")=\"&$F$6&\" and Barix(\"&$D$12&\",reference:=StartOfSession)=\"&A47&\"\", \"Bar\", \"\", \"Close\",\"5\",\"0\",\"PrimaryOnly\",,,\"False\",\"T\",\"EveryTick\")","v":162.15},9.7141789650663311E-3,{"$f":"RTD(\"cqg.rtd\",,\"StudyData\", \"Close(\"&$D$12&\") when LocalYear(\"&$D$12&\")=\"&$D$7&\" and localMonth(\"&$D$12&\") =\"&$E$7&\" and LocalDay(\"&$D$12&\")=\"&$F$7&\" and Barix(\"&$D$12&\",reference:=StartOfSession)=\"&A47&\"\", \"Bar\", \"\", \"Close\",\"5\",\"0\",\"PrimaryOnly\",,,\"False\",\"T\",\"EveryTick\")","v":160.21},1.1873934188088141E-2,{"$f":"RTD(\"cqg.rtd\",,\"StudyData\", \"Close(\"&$D$12&\") when LocalYear(\"&$D$12&\")=\"&$D$8&\" and localMonth(\"&$D$12&\") =\"&$E$8&\" and LocalDay(\"&$D$12&\")=\"&$F$8&\" and Barix(\"&$D$12&\",reference:=StartOfSession)=\"&A47&\"\", \"Bar\", \"\", \"Close\",\"5\",\"0\",\"PrimaryOnly\",,,\"False\",\"T\",\"EveryTick\")","v":""},{"$error":"#N/A"},{"$f":"RTD(\"cqg.rtd\",,\"StudyData\", \"Close(\"&$D$12&\") when LocalYear(\"&$D$12&\")=\"&$D$9&\" and localMonth(\"&$D$12&\") =\"&$E$9&\" and LocalDay(\"&$D$12&\")=\"&$F$9&\" and Barix(\"&$D$12&\",reference:=StartOfSession)=\"&A47&\"\", \"Bar\", \"\", \"Close\",\"5\",\"0\",\"PrimaryOnly\",,,\"False\",\"T\",\"EveryTick\")","v":158.35},-6.3111391606181331E-4,{"$f":"RTD(\"cqg.rtd\",,\"StudyData\", \"Close(\"&$D$12&\") when LocalYear(\"&$D$12&\")=\"&$D$10&\" and localMonth(\"&$D$12&\") =\"&$E$10&\" and LocalDay(\"&$D$12&\")=\"&$F$10&\" and Barix(\"&$D$12&\",reference:=StartOfSession)=\"&A47&\"\", \"Bar\", \"\", \"Close\",\"5\",\"0\",\"PrimaryOnly\",,,\"False\",\"T\",\"EveryTick\")","v":159.30000000000001},7.3352725433162074E-3,null,null,null,""]
[47,"12:25:00",-30,{"$f":" RTD(\"cqg.rtd\",,\"StudyData\", $D$12,  \"Tick\", \"FlatTicks=0\", \"Tick\",\"D\",C48,\"PrimaryOnly\")","v":165.65},null,null,null,{"$f":"RTD(\"cqg.rtd\",,\"StudyData\", \"Close(\"&$D$12&\") when LocalYear(\"&$D$12&\")=\"&$D$1&\" and localMonth(\"&$D$12&\") =\"&$E$1&\" and LocalDay(\"&$D$12&\")=\"&$F$1&\" and Barix(\"&$D$12&\",reference:=StartOfSession)=\"&A48&\"\", \"Bar\", \"\", \"Close\",\"5\",\"0\",\"PrimaryOnly\",,,\"False\",\"T\",\"EveryTick\")","v":""},{"$error":"#N/A"},{"$f":"RTD(\"cqg.rtd\",,\"StudyData\", \"Close(\"&$D$12&\") when LocalYear(\"&$D$12&\")=\"&$D$2&\" and localMonth(\"&$D$12&\") =\"&$E$2&\" and LocalDay(\"&$D$12&\")=\"&$F$2&\" and Barix(\"&$D$12&\",reference:=StartOfSession)=\"&A48&\"\", \"Bar\", \"\", \"Close\",\"5\",\"0\",\"PrimaryOnly\",,,\"False\",\"T\",\"EveryTick\")","v":165.55},1.7954866875730283E-2,{"$f":"RTD(\"cqg.rtd\",,\"StudyData\", \"Close(\"&$D$12&\") when LocalYear(\"&$D$12&\")=\"&$D$3&\" and localMonth(\"&$D$12&\") =\"&$E$3&\" and LocalDay(\"&$D$12&\")=\"&$F$3&\" and Barix(\"&$D$12&\",reference:=StartOfSession)=\"&A48&\"\", \"Bar\", \"\", \"Close\",\"5\",\"0\",\"PrimaryOnly\",,,\"False\",\"T\",\"EveryTick\")","v":162.93},-5.7969245789601456E-3,{"$f":"RTD(\"cqg.rtd\",,\"StudyData\", \"Close(\"&$D$12&\") when LocalYear(\"&$D$12&\")=\"&$D$4&\" and localMonth(\"&$D$12&\") =\"&$E$4&\" and LocalDay(\"&$D$12&\")=\"&$F$4&\" and Barix(\"&$D$12&\",reference:=StartOfSession)=\"&A48&\"\", \"Bar\", \"\", \"Close\",\"5\",\"0\",\"PrimaryOnly\",,,\"False\",\"T\",\"EveryTick\")","v":163.94},3.6733194563486854E-3,{"$f":"RTD(\"cqg.rtd\",,\"StudyData\", \"Close(\"&$D$12&\") when LocalYear(\"&$D$12&\")=\"&$D$5&\" and localMonth(\"&$D$12&\") =\"&$E$5&\" and LocalDay(\"&$D$12&\")=\"&$F$5&\" and Barix(\"&$D$12&\",reference:=StartOfSession)=\"&A48&\"\", \"Bar\", \"\", \"Close\",\"5\",\"0\",\"PrimaryOnly\",,,\"False\",\"T\",\"EveryTick\")","v":162.43},1.665022200296067E-3,{"$f":"RTD(\"cqg.rtd\",,\"StudyData\", \"Close(\"&$D$12&\") when LocalYear(\"&$D$12&\")=\"&$D$6&\" and localMonth(\"&$D$12&\") =\"&$E$6&\" and LocalDay(\"&$D$12&\")=\"&$F$6&\" and Barix(\"&$D$12&\",reference:=StartOfSession)=\"&A48&\"\", \"Bar\", \"\", \"Close\",\"5\",\"0\",\"PrimaryOnly\",,,\"False\",\"T\",\"EveryTick\")","v":162.1},9.4028270751602902E-3,{"$f":"RTD(\"cqg.rtd\",,\"StudyData\", \"Close(\"&$D$12&\") when LocalYear(\"&$D$12&\")=\"&$D$7&\" and localMonth(\"&$D$12&\") =\"&$E$7&\" and LocalDay(\"&$D$12&\")=\"&$F$7&\" and Barix(\"&$D$12&\",reference:=StartOfSession)=\"&A48&\"\", \"Bar\", \"\", \"Close\",\"5\",\"0\",\"PrimaryOnly\",,,\"False\",\"T\",\"EveryTick\")","v":160.21},1.1873934188088141E-2,{"$f":"RTD(\"cqg.rtd\",,\"StudyData\", \"Close(\"&$D$12&\") when LocalYear(\"&$D$12&\")=\"&$D$8&\" and localMonth(\"&$D$12&\") =\"&$E$8&\" and LocalDay(\"&$D$12&\")=\"&$F$8&\" and Barix(\"&$D$12&\",reference:=StartOfSession)=\"&A48&\"\", \"Bar\", \"\", \"Close\",\"5\",\"0\",\"PrimaryOnly\",,,\"False\",\"T\",\"EveryTick\")","v":""},{"$error":"#N/A"},{"$f":"RTD(\"cqg.rtd\",,\"StudyData\", \"Close(\"&$D$12&\") when LocalYear(\"&$D$12&\")=\"&$D$9&\" and localMonth(\"&$D$12&\") =\"&$E$9&\" and LocalDay(\"&$D$12&\")=\"&$F$9&\" and Barix(\"&$D$12&\",reference:=StartOfSession)=\"&A48&\"\", \"Bar\", \"\", \"Close\",\"5\",\"0\",\"PrimaryOnly\",,,\"False\",\"T\",\"EveryTick\")","v":158.33000000000001},-7.5733669927406839E-4,{"$f":"RTD(\"cqg.rtd\",,\"StudyData\", \"Close(\"&$D$12&\") when LocalYear(\"&$D$12&\")=\"&$D$10&\" and localMonth(\"&$D$12&\") =\"&$E$10&\" and LocalDay(\"&$D$12&\")=\"&$F$10&\" and Barix(\"&$D$12&\",reference:=StartOfSession)=\"&A48&\"\", \"Bar\", \"\", \"Close\",\"5\",\"0\",\"PrimaryOnly\",,,\"False\",\"T\",\"EveryTick\")","v":159.29},7.2720374351840505E-3,null,null,null,""]
[48,"12:30:00",-29,{"$f":" RTD(\"cqg.rtd\",,\"StudyData\", $D$12,  \"Tick\", \"FlatTicks=0\", \"Tick\",\"D\",C49,\"PrimaryOnly\")","v":165.63},null,null,null,{"$f":"RTD(\"cqg.rtd\",,\"StudyData\", \"Close(\"&$D$12&\") when LocalYear(\"&$D$12&\")=\"&$D$1&\" and localMonth(\"&$D$12&\") =\"&$E$1&\" and LocalDay(\"&$D$12&\")=\"&$F$1&\" and Barix(\"&$D$12&\",reference:=StartOfSession)=\"&A49&\"\", \"Bar\", \"\", \"Close\",\"5\",\"0\",\"PrimaryOnly\",,,\"False\",\"T\",\"EveryTick\")","v":""},{"$error":"#N/A"},{"$f":"RTD(\"cqg.rtd\",,\"StudyData\", \"Close(\"&$D$12&\") when LocalYear(\"&$D$12&\")=\"&$D$2&\" and localMonth(\"&$D$12&\") =\"&$E$2&\" and LocalDay(\"&$D$12&\")=\"&$F$2&\" and Barix(\"&$D$12&\",reference:=StartOfSession)=\"&A49&\"\", \"Bar\", \"\", \"Close\",\"5\",\"0\",\"PrimaryOnly\",,,\"False\",\"T\",\"EveryTick\")","v":165.42},1.7155506364139411E-2,{"$f":"RTD(\"cqg.rtd\",,\"StudyData\", \"Close(\"&$D$12&\") when LocalYear(\"&$D$12&\")=\"&$D$3&\" and localMonth(\"&$D$12&\") =\"&$E$3&\" and LocalDay(\"&$D$12&\")=\"&$F$3&\" and Barix(\"&$D$12&\",reference:=StartOfSession)=\"&A49&\"\", \"Bar\", \"\", \"Close\",\"5\",\"0\",\"PrimaryOnly\",,,\"False\",\"T\",\"EveryTick\")","v":162.93},-5.7969245789601456E-3,{"$f":"RTD(\"cqg.rtd\",,\"StudyData\", \"Close(\"&$D$12&\") when LocalYear(\"&$D$12&\")=\"&$D$4&\" and localMonth(\"&$D$12&\") =\"&$E$4&\" and LocalDay(\"&$D$12&\")=\"&$F$4&\" and Barix(\"&$D$12&\",reference:=StartOfSession)=\"&A49&\"\", \"Bar\", \"\", \"Close\",\"5\",\"0\",\"PrimaryOnly\",,,\"False\",\"T\",\"EveryTick\")","v":163.74},2.4488796375658484E-3,{"$f":"RTD(\"cqg.rtd\",,\"StudyData\", \"Close(\"&$D$12&\") when LocalYear(\"&$D$12&\")=\"&$D$5&\" and localMonth(\"&$D$12&\") =\"&$E$5&\" and LocalDay(\"&$D$12&\")=\"&$F$5&\" and Barix(\"&$D$12&\",reference:=StartOfSession)=\"&A49&\"\", \"Bar\", \"\", \"Close\",\"5\",\"0\",\"PrimaryOnly\",,,\"False\",\"T\",\"EveryTick\")","v":162.43},1.665022200296067E-3,{"$f":"RTD(\"cqg.rtd\",,\"StudyData\", \"Close(\"&$D$12&\") when LocalYear(\"&$D$12&\")=\"&$D$6&\" and localMonth(\"&$D$12&\") =\"&$E$6&\" and LocalDay(\"&$D$12&\")=\"&$F$6&\" and Barix(\"&$D$12&\",reference:=StartOfSession)=\"&A49&\"\", \"Bar\", \"\", \"Close\",\"5\",\"0\",\"PrimaryOnly\",,,\"False\",\"T\",\"EveryTick\")","v":162.1},9.4028270751602902E-3,{"$f":"RTD(\"cqg.rtd\",,\"StudyData\", \"Close(\"&$D$12&\") when LocalYear(\"&$D$12&\")=\"&$D$7&\" and localMonth(\"&$D$12&\") =\"&$E$7&\" and LocalDay(\"&$D$12&\")=\"&$F$7&\" and Barix(\"&$D$12&\",reference:=StartOfSession)=\"&A49&\"\", \"Bar\", \"\", \"Close\",\"5\",\"0\",\"PrimaryOnly\",,,\"False\",\"T\",\"EveryTick\")","v":160.15},1.1494978841659781E-2,{"$f":"RTD(\"cqg.rtd\",,\"StudyData\", \"Close(\"&$D$12&\") when LocalYear(\"&$D$12&\")=\"&$D$8&\" and localMonth(\"&$D$12&\") =\"&$E$8&\" and LocalDay(\"&$D$12&\")=\"&$F$8&\" and Barix(\"&$D$12&\",reference:=StartOfSession)=\"&A49&\"\", \"Bar\", \"\", \"Close\",\"5\",\"0\",\"PrimaryOnly\",,,\"False\",\"T\",\"EveryTick\")","v":""},{"$error":"#N/A"},{"$f":"RTD(\"cqg.rtd\",,\"StudyData\", \"Close(\"&$D$12&\") when LocalYear(\"&$D$12&\")=\"&$D$9&\" and localMonth(\"&$D$12&\") =\"&$E$9&\" and LocalDay(\"&$D$12&\")=\"&$F$9&\" and Barix(\"&$D$12&\",reference:=StartOfSession)=\"&A49&\"\", \"Bar\", \"\", \"Close\",\"5\",\"0\",\"PrimaryOnly\",,,\"False\",\"T\",\"EveryTick\")","v":158.30000000000001},-9.4667087409263035E-4,{"$f":"RTD(\"cqg.rtd\",,\"StudyData\", \"Close(\"&$D$12&\") when LocalYear(\"&$D$12&\")=\"&$D$10&\" and localMonth(\"&$D$12&\") =\"&$E$10&\" and LocalDay(\"&$D$12&\")=\"&$F$10&\" and Barix(\"&$D$12&\",reference:=StartOfSession)=\"&A49&\"\", \"Bar\", \"\", \"Close\",\"5\",\"0\",\"PrimaryOnly\",,,\"False\",\"T\",\"EveryTick\")","v":159.29},7.2720374351840505E-3,null,null,null,""]
[49,"12:35:00",-28,{"$f":" RTD(\"cqg.rtd\",,\"StudyData\", $D$12,  \"Tick\", \"FlatTicks=0\", \"Tick\",\"D\",C50,\"PrimaryOnly\")","v":165.83},null,null,null,{"$f":"RTD(\"cqg.rtd\",,\"StudyData\", \"Close(\"&$D$12&\") when LocalYear(\"&$D$12&\")=\"&$D$1&\" and localMonth(\"&$D$12&\") =\"&$E$1&\" and LocalDay(\"&$D$12&\")=\"&$F$1&\" and Barix(\"&$D$12&\",reference:=StartOfSession)=\"&A50&\"\", \"Bar\", \"\", \"Close\",\"5\",\"0\",\"PrimaryOnly\",,,\"False\",\"T\",\"EveryTick\")","v":""},{"$error":"#N/A"},{"$f":"RTD(\"cqg.rtd\",,\"StudyData\", \"Close(\"&$D$12&\") when LocalYear(\"&$D$12&\")=\"&$D$2&\" and localMonth(\"&$D$12&\") =\"&$E$2&\" and LocalDay(\"&$D$12&\")=\"&$F$2&\" and Barix(\"&$D$12&\",reference:=StartOfSession)=\"&A50&\"\", \"Bar\", \"\", \"Close\",\"5\",\"0\",\"PrimaryOnly\",,,\"False\",\"T\",\"EveryTick\")","v":165.54},1.7893377605607802E-2,{"$f":"RTD(\"cqg.rtd\",,\"StudyData\", \"Close(\"&$D$12&\") when LocalYear(\"&$D$12&\")=\"&$D$3&\" and localMonth(\"&$D$12&\") =\"&$E$3&\" and LocalDay(\"&$D$12&\")=\"&$F$3&\" and Barix(\"&$D$12&\",reference:=StartOfSession)=\"&A50&\"\", \"Bar\", \"\", \"Close\",\"5\",\"0\",\"PrimaryOnly\",,,\"False\",\"T\",\"EveryTick\")","v":162.87},-6.1630461313155411E-3,{"$f":"RTD(\"cqg.rtd\",,\"StudyData\", \"Close(\"&$D$12&\") when LocalYear(\"&$D$12&\")=\"&$D$4&\" and localMonth(\"&$D$12&\") =\"&$E$4&\" and LocalDay(\"&$D$12&\")=\"&$F$4&\" and Barix(\"&$D$12&\",reference:=StartOfSession)=\"&A50&\"\", \"Bar\", \"\", \"Close\",\"5\",\"0\",\"PrimaryOnly\",,,\"False\",\"T\",\"EveryTick\")","v":163.6},1.5917717644177232E-3,{"$f":"RTD(\"cqg.rtd\",,\"StudyData\", \"Close(\"&$D$12&\") when LocalYear(\"&$D$12&\")=\"&$D$5&\" and localMonth(\"&$D$12&\") =\"&$E$5&\" and LocalDay(\"&$D$12&\")=\"&$F$5&\" and Barix(\"&$D$12&\",reference:=StartOfSession)=\"&A50&\"\", \"Bar\", \"\", \"Close\",\"5\",\"0\",\"PrimaryOnly\",,,\"False\",\"T\",\"EveryTick\")","v":162.62},2.836704489393241E-3,{"$f":"RTD(\"cqg.rtd\",,\"StudyData\", \"Close(\"&$D$12&\") when LocalYear(\"&$D$12&\")=\"&$D$6&\" and localMonth(\"&$D$12&\") =\"&$E$6&\" and LocalDay(\"&$D$12&\")=\"&$F$6&\" and Barix(\"&$D$12&\",reference:=StartOfSession)=\"&A50&\"\", \"Bar\", \"\", \"Close\",\"5\",\"0\",\"PrimaryOnly\",,,\"False\",\"T\",\"EveryTick\")","v":162.1},9.4028270751602902E-3,{"$f":"RTD(\"cqg.rtd\",,\"StudyData\", \"Close(\"&$D$12&\") when LocalYear(\"&$D$12&\")=\"&$D$7&\" and localMonth(\"&$D$12&\") =\"&$E$7&\" and LocalDay(\"&$D$12&\")=\"&$F$7&\" and Barix(\"&$D$12&\",reference:=StartOfSession)=\"&A50&\"\", \"Bar\", \"\", \"Close\",\"5\",\"0\",\"PrimaryOnly\",,,\"False\",\"T\",\"EveryTick\")","v":160.15},1.1494978841659781E-2,{"$f":"RTD(\"cqg.rtd\",,\"StudyData\", \"Close(\"&$D$12&\") when LocalYear(\"&$D$12&\")=\"&$D$8&\" and localMonth(\"&$D$12&\") =\"&$E$8&\" and LocalDay(\"&$D$12&\")=\"&$F$8&\" and Barix(\"&$D$12&\",reference:=StartOfSession)=\"&A50&\"\", \"Bar\", \"\", \"Close\",\"5\",\"0\",\"PrimaryOnly\",,,\"False\",\"T\",\"EveryTick\")","v":""},{"$error":"#N/A"},{"$f":"RTD(\"cqg.rtd\",,\"StudyData\", \"Close(\"&$D$12&\") when LocalYear(\"&$D$12&\")=\"&$D$9&\" and localMonth(\"&$D$12&\") =\"&$E$9&\" and LocalDay(\"&$D$12&\")=\"&$F$9&\" and Barix(\"&$D$12&\",reference:=StartOfSession)=\"&A50&\"\", \"Bar\", \"\", \"Close\",\"5\",\"0\",\"PrimaryOnly\",,,\"False\",\"T\",\"EveryTick\")","v":158.30000000000001},-9.4667087409263035E-4,{"$f":"RTD(\"cqg.rtd\",,\"StudyData\", \"Close(\"&$D$12&\") when LocalYear(\"&$D$12&\")=\"&$D$10&\" and localMonth(\"&$D$12&\") =\"&$E$10&\" and LocalDay(\"&$D$12&\")=\"&$F$10&\" and Barix(\"&$D$12&\",reference:=StartOfSession)=\"&A50&\"\", \"Bar\", \"\", \"Close\",\"5\",\"0\",\"PrimaryOnly\",,,\"False\",\"T\",\"EveryTick\")","v":159.22},6.8293916782598491E-3,null,null,null,""]
[50,"12:40:00",-27,{"$f":" RTD(\"cqg.rtd\",,\"StudyData\", $D$12,  \"Tick\", \"FlatTicks=0\", \"Tick\",\"D\",C51,\"PrimaryOnly\")","v":165.81},null,null,null,{"$f":"RTD(\"cqg.rtd\",,\"StudyData\", \"Close(\"&$D$12&\") when LocalYear(\"&$D$12&\")=\"&$D$1&\" and localMonth(\"&$D$12&\") =\"&$E$1&\" and LocalDay(\"&$D$12&\")=\"&$F$1&\" and Barix(\"&$D$12&\",reference:=StartOfSession)=\"&A51&\"\", \"Bar\", \"\", \"Close\",\"5\",\"0\",\"PrimaryOnly\",,,\"False\",\"T\",\"EveryTick\")","v":""},{"$error":"#N/A"},{"$f":"RTD(\"cqg.rtd\",,\"StudyData\", \"Close(\"&$D$12&\") when LocalYear(\"&$D$12&\")=\"&$D$2&\" and localMonth(\"&$D$12&\") =\"&$E$2&\" and LocalDay(\"&$D$12&\")=\"&$F$2&\" and Barix(\"&$D$12&\",reference:=StartOfSession)=\"&A51&\"\", \"Bar\", \"\", \"Close\",\"5\",\"0\",\"PrimaryOnly\",,,\"False\",\"T\",\"EveryTick\")","v":165.52},1.7770399065363186E-2,{"$f":"RTD(\"cqg.rtd\",,\"StudyData\", \"Close(\"&$D$12&\") when LocalYear(\"&$D$12&\")=\"&$D$3&\" and localMonth(\"&$D$12&\") =\"&$E$3&\" and LocalDay(\"&$D$12&\")=\"&$F$3&\" and Barix(\"&$D$12&\",reference:=StartOfSession)=\"&A51&\"\", \"Bar\", \"\", \"Close\",\"5\",\"0\",\"PrimaryOnly\",,,\"False\",\"T\",\"EveryTick\")","v":162.86000000000001},-6.2240663900413832E-3,{"$f":"RTD(\"cqg.rtd\",,\"StudyData\", \"Close(\"&$D$12&\") when LocalYear(\"&$D$12&\")=\"&$D$4&\" and localMonth(\"&$D$12&\") =\"&$E$4&\" and LocalDay(\"&$D$12&\")=\"&$F$4&\" and Barix(\"&$D$12&\",reference:=StartOfSession)=\"&A51&\"\", \"Bar\", \"\", \"Close\",\"5\",\"0\",\"PrimaryOnly\",,,\"False\",\"T\",\"EveryTick\")","v":163.57},1.4081057916002801E-3,{"$f":"RTD(\"cqg.rtd\",,\"StudyData\", \"Close(\"&$D$12&\") when LocalYear(\"&$D$12&\")=\"&$D$5&\" and localMonth(\"&$D$12&\") =\"&$E$5&\" and LocalDay(\"&$D$12&\")=\"&$F$5&\" and Barix(\"&$D$12&\",reference:=StartOfSession)=\"&A51&\"\", \"Bar\", \"\", \"Close\",\"5\",\"0\",\"PrimaryOnly\",,,\"False\",\"T\",\"EveryTick\")","v":162.62},2.836704489393241E-3,{"$f":"RTD(\"cqg.rtd\",,\"StudyData\", \"Close(\"&$D$12&\") when LocalYear(\"&$D$12&\")=\"&$D$6&\" and localMonth(\"&$D$12&\") =\"&$E$6&\" and LocalDay(\"&$D$12&\")=\"&$F$6&\" and Barix(\"&$D$12&\",reference:=StartOfSession)=\"&A51&\"\", \"Bar\", \"\", \"Close\",\"5\",\"0\",\"PrimaryOnly\",,,\"False\",\"T\",\"EveryTick\")","v":162.1},9.4028270751602902E-3,{"$f":"RTD(\"cqg.rtd\",,\"StudyData\", \"Close(\"&$D$12&\") when LocalYear(\"&$D$12&\")=\"&$D$7&\" and localMonth(\"&$D$12&\") =\"&$E$7&\" and LocalDay(\"&$D$12&\")=\"&$F$7&\" and Barix(\"&$D$12&\",reference:=StartOfSession)=\"&A51&\"\", \"Bar\", \"\", \"Close\",\"5\",\"0\",\"PrimaryOnly\",,,\"False\",\"T\",\"EveryTick\")","v":160.05000000000001},1.0863386597612573E-2,{"$f":"RTD(\"cqg.rtd\",,\"StudyData\", \"Close(\"&$D$12&\") when LocalYear(\"&$D$12&\")=\"&$D$8&\" and localMonth(\"&$D$12&\") =\"&$E$8&\" and LocalDay(\"&$D$12&\")=\"&$F$8&\" and Barix(\"&$D$12&\",reference:=StartOfSession)=\"&A51&\"\", \"Bar\", \"\", \"Close\",\"5\",\"0\",\"PrimaryOnly\",,,\"False\",\"T\",\"EveryTick\")","v":""},{"$error":"#N/A"},{"$f":"RTD(\"cqg.rtd\",,\"StudyData\", \"Close(\"&$D$12&\") when LocalYear(\"&$D$12&\")=\"&$D$9&\" and localMonth(\"&$D$12&\") =\"&$E$9&\" and LocalDay(\"&$D$12&\")=\"&$F$9&\" and Barix(\"&$D$12&\",reference:=StartOfSession)=\"&A51&\"\", \"Bar\", \"\", \"Close\",\"5\",\"0\",\"PrimaryOnly\",,,\"False\",\"T\",\"EveryTick\")","v":158.58000000000001},8.204480908805547E-4,{"$f":"RTD(\"cqg.rtd\",,\"StudyData\", \"Close(\"&$D$12&\") when LocalYear(\"&$D$12&\")=\"&$D$10&\" and localMonth(\"&$D$12&\") =\"&$E$10&\" and LocalDay(\"&$D$12&\")=\"&$F$10&\" and Barix(\"&$D$12&\",reference:=StartOfSession)=\"&A51&\"\", \"Bar\", \"\", \"Close\",\"5\",\"0\",\"PrimaryOnly\",,,\"False\",\"T\",\"EveryTick\")","v":159.22},6.8293916782598491E-3,null,null,null,""]
[51,"12:45:00",-26,{"$f":" RTD(\"cqg.rtd\",,\"StudyData\", $D$12,  \"Tick\", \"FlatTicks=0\", \"Tick\",\"D\",C52,\"PrimaryOnly\")","v":165.96},null,null,null,{"$f":"RTD(\"cqg.rtd\",,\"StudyData\", \"Close(\"&$D$12&\") when LocalYear(\"&$D$12&\")=\"&$D$1&\" and localMonth(\"&$D$12&\") =\"&$E$1&\" and LocalDay(\"&$D$12&\")=\"&$F$1&\" and Barix(\"&$D$12&\",reference:=StartOfSession)=\"&A52&\"\", \"Bar\", \"\", \"Close\",\"5\",\"0\",\"PrimaryOnly\",,,\"False\",\"T\",\"EveryTick\")","v":""},{"$error":"#N/A"},{"$f":"RTD(\"cqg.rtd\",,\"StudyData\", \"Close(\"&$D$12&\") when LocalYear(\"&$D$12&\")=\"&$D$2&\" and localMonth(\"&$D$12&\") =\"&$E$2&\" and LocalDay(\"&$D$12&\")=\"&$F$2&\" and Barix(\"&$D$12&\",reference:=StartOfSession)=\"&A52&\"\", \"Bar\", \"\", \"Close\",\"5\",\"0\",\"PrimaryOnly\",,,\"False\",\"T\",\"EveryTick\")","v":165.47},1.7462952714751297E-2,{"$f":"RTD(\"cqg.rtd\",,\"StudyData\", \"Close(\"&$D$12&\") when LocalYear(\"&$D$12&\")=\"&$D$3&\" and localMonth(\"&$D$12&\") =\"&$E$3&\" and LocalDay(\"&$D$12&\")=\"&$F$3&\" and Barix(\"&$D$12&\",reference:=StartOfSession)=\"&A52&\"\", \"Bar\", \"\", \"Close\",\"5\",\"0\",\"PrimaryOnly\",,,\"False\",\"T\",\"EveryTick\")","v":162.86000000000001},-6.2240663900413832E-3,{"$f":"RTD(\"cqg.rtd\",,\"StudyData\", \"Close(\"&$D$12&\") when LocalYear(\"&$D$12&\")=\"&$D$4&\" and localMonth(\"&$D$12&\") =\"&$E$4&\" and LocalDay(\"&$D$12&\")=\"&$F$4&\" and Barix(\"&$D$12&\",reference:=StartOfSession)=\"&A52&\"\", \"Bar\", \"\", \"Close\",\"5\",\"0\",\"PrimaryOnly\",,,\"False\",\"T\",\"EveryTick\")","v":163.53},1.1632178278437476E-3,{"$f":"RTD(\"cqg.rtd\",,\"StudyData\", \"Close(\"&$D$12&\") when LocalYear(\"&$D$12&\")=\"&$D$5&\" and localMonth(\"&$D$12&\") =\"&$E$5&\" and LocalDay(\"&$D$12&\")=\"&$F$5&\" and Barix(\"&$D$12&\",reference:=StartOfSession)=\"&A52&\"\", \"Bar\", \"\", \"Close\",\"5\",\"0\",\"PrimaryOnly\",,,\"False\",\"T\",\"EveryTick\")","v":162.63},2.8983719782930371E-3,{"$f":"RTD(\"cqg.rtd\",,\"StudyData\", \"Close(\"&$D$12&\") when LocalYear(\"&$D$12&\")=\"&$D$6&\" and localMonth(\"&$D$12&\") =\"&$E$6&\" and LocalDay(\"&$D$12&\")=\"&$F$6&\" and Barix(\"&$D$12&\",reference:=StartOfSession)=\"&A52&\"\", \"Bar\", \"\", \"Close\",\"5\",\"0\",\"PrimaryOnly\",,,\"False\",\"T\",\"EveryTick\")","v":162.06},9.1537455632355619E-3,{"$f":"RTD(\"cqg.rtd\",,\"StudyData\", \"Close(\"&$D$12&\") when LocalYear(\"&$D$12&\")=\"&$D$7&\" and localMonth(\"&$D$12&\") =\"&$E$7&\" and LocalDay(\"&$D$12&\")=\"&$F$7&\" and Barix(\"&$D$12&\",reference:=StartOfSession)=\"&A52&\"\", \"Bar\", \"\", \"Close\",\"5\",\"0\",\"PrimaryOnly\",,,\"False\",\"T\",\"EveryTick\")","v":160.05000000000001},1.0863386597612573E-2,{"$f":"RTD(\"cqg.rtd\",,\"StudyData\", \"Close(\"&$D$12&\") when LocalYear(\"&$D$12&\")=\"&$D$8&\" and localMonth(\"&$D$12&\") =\"&$E$8&\" and LocalDay(\"&$D$12&\")=\"&$F$8&\" and Barix(\"&$D$12&\",reference:=StartOfSession)=\"&A52&\"\", \"Bar\", \"\", \"Close\",\"5\",\"0\",\"PrimaryOnly\",,,\"False\",\"T\",\"EveryTick\")","v":""},{"$error":"#N/A"},{"$f":"RTD(\"cqg.rtd\",,\"StudyData\", \"Close(\"&$D$12&\") when LocalYear(\"&$D$12&\")=\"&$D$9&\" and localMonth(\"&$D$12&\") =\"&$E$9&\" and LocalDay(\"&$D$12&\")=\"&$F$9&\" and Barix(\"&$D$12&\",reference:=StartOfSession)=\"&A52&\"\", \"Bar\", \"\", \"Close\",\"5\",\"0\",\"PrimaryOnly\",,,\"False\",\"T\",\"EveryTick\")","v":158.58000000000001},8.204480908805547E-4,{"$f":"RTD(\"cqg.rtd\",,\"StudyData\", \"Close(\"&$D$12&\") when LocalYear(\"&$D$12&\")=\"&$D$10&\" and localMonth(\"&$D$12&\") =\"&$E$10&\" and LocalDay(\"&$D$12&\")=\"&$F$10&\" and Barix(\"&$D$12&\",reference:=StartOfSession)=\"&A52&\"\", \"Bar\", \"\", \"Close\",\"5\",\"0\",\"PrimaryOnly\",,,\"False\",\"T\",\"EveryTick\")","v":159.44},8.2205640571646095E-3,null,null,null,""]
[52,"12:50:00",-25,{"$f":" RTD(\"cqg.rtd\",,\"StudyData\", $D$12,  \"Tick\", \"FlatTicks=0\", \"Tick\",\"D\",C53,\"PrimaryOnly\")","v":165.97},null,null,null,{"$f":"RTD(\"cqg.rtd\",,\"StudyData\", \"Close(\"&$D$12&\") when LocalYear(\"&$D$12&\")=\"&$D$1&\" and localMonth(\"&$D$12&\") =\"&$E$1&\" and LocalDay(\"&$D$12&\")=\"&$F$1&\" and Barix(\"&$D$12&\",reference:=StartOfSession)=\"&A53&\"\", \"Bar\", \"\", \"Close\",\"5\",\"0\",\"PrimaryOnly\",,,\"False\",\"T\",\"EveryTick\")","v":""},{"$error":"#N/A"},{"$f":"RTD(\"cqg.rtd\",,\"StudyData\", \"Close(\"&$D$12&\") when LocalYear(\"&$D$12&\")=\"&$D$2&\" and localMonth(\"&$D$12&\") =\"&$E$2&\" and LocalDay(\"&$D$12&\")=\"&$F$2&\" and Barix(\"&$D$12&\",reference:=StartOfSession)=\"&A53&\"\", \"Bar\", \"\", \"Close\",\"5\",\"0\",\"PrimaryOnly\",,,\"False\",\"T\",\"EveryTick\")","v":165.35},1.6725081473282905E-2,{"$f":"RTD(\"cqg.rtd\",,\"StudyData\", \"Close(\"&$D$12&\") when LocalYear(\"&$D$12&\")=\"&$D$3&\" and localMonth(\"&$D$12&\") =\"&$E$3&\" and LocalDay(\"&$D$12&\")=\"&$F$3&\" and Barix(\"&$D$12&\",reference:=StartOfSession)=\"&A53&\"\", \"Bar\", \"\", \"Close\",\"5\",\"0\",\"PrimaryOnly\",,,\"False\",\"T\",\"EveryTick\")","v":162.86000000000001},-6.2240663900413832E-3,{"$f":"RTD(\"cqg.rtd\",,\"StudyData\", \"Close(\"&$D$12&\") when LocalYear(\"&$D$12&\")=\"&$D$4&\" and localMonth(\"&$D$12&\") =\"&$E$4&\" and LocalDay(\"&$D$12&\")=\"&$F$4&\" and Barix(\"&$D$12&\",reference:=StartOfSession)=\"&A53&\"\", \"Bar\", \"\", \"Close\",\"5\",\"0\",\"PrimaryOnly\",,,\"False\",\"T\",\"EveryTick\")","v":163.44},6.1221990939141862E-4,{"$f":"RTD(\"cqg.rtd\",,\"StudyData\", \"Close(\"&$D$12&\") when LocalYear(\"&$D$12&\")=\"&$D$5&\" and localMonth(\"&$D$12&\") =\"&$E$5&\" and LocalDay(\"&$D$12&\")=\"&$F$5&\" and Barix(\"&$D$12&\",reference:=StartOfSession)=\"&A53&\"\", \"Bar\", \"\", \"Close\",\"5\",\"0\",\"PrimaryOnly\",,,\"False\",\"T\",\"EveryTick\")","v":162.69},3.2683769116921631E-3,{"$f":"RTD(\"cqg.rtd\",,\"StudyData\", \"Close(\"&$D$12&\") when LocalYear(\"&$D$12&\")=\"&$D$6&\" and localMonth(\"&$D$12&\") =\"&$E$6&\" and LocalDay(\"&$D$12&\")=\"&$F$6&\" and Barix(\"&$D$12&\",reference:=StartOfSession)=\"&A53&\"\", \"Bar\", \"\", \"Close\",\"5\",\"0\",\"PrimaryOnly\",,,\"False\",\"T\",\"EveryTick\")","v":162.06},9.1537455632355619E-3,{"$f":"RTD(\"cqg.rtd\",,\"StudyData\", \"Close(\"&$D$12&\") when LocalYear(\"&$D$12&\")=\"&$D$7&\" and localMonth(\"&$D$12&\") =\"&$E$7&\" and LocalDay(\"&$D$12&\")=\"&$F$7&\" and Barix(\"&$D$12&\",reference:=StartOfSession)=\"&A53&\"\", \"Bar\", \"\", \"Close\",\"5\",\"0\",\"PrimaryOnly\",,,\"False\",\"T\",\"EveryTick\")","v":160.03},1.0737068148803061E-2,{"$f":"RTD(\"cqg.rtd\",,\"StudyData\", \"Close(\"&$D$12&\") when LocalYear(\"&$D$12&\")=\"&$D$8&\" and localMonth(\"&$D$12&\") =\"&$E$8&\" and LocalDay(\"&$D$12&\")=\"&$F$8&\" and Barix(\"&$D$12&\",reference:=StartOfSession)=\"&A53&\"\", \"Bar\", \"\", \"Close\",\"5\",\"0\",\"PrimaryOnly\",,,\"False\",\"T\",\"EveryTick\")","v":""},{"$error":"#N/A"},{"$f":"RTD(\"cqg.rtd\",,\"StudyData\", \"Close(\"&$D$12&\") when LocalYear(\"&$D$12&\")=\"&$D$9&\" and localMonth(\"&$D$12&\") =\"&$E$9&\" and LocalDay(\"&$D$12&\")=\"&$F$9&\" and Barix(\"&$D$12&\",reference:=StartOfSession)=\"&A53&\"\", \"Bar\", \"\", \"Close\",\"5\",\"0\",\"PrimaryOnly\",,,\"False\",\"T\",\"EveryTick\")","v":159.03},3.6604607131588045E-3,{"$f":"RTD(\"cqg.rtd\",,\"StudyData\", \"Close(\"&$D$12&\") when LocalYear(\"&$D$12&\")=\"&$D$10&\" and localMonth(\"&$D$12&\") =\"&$E$10&\" and LocalDay(\"&$D$12&\")=\"&$F$10&\" and Barix(\"&$D$12&\",reference:=StartOfSession)=\"&A53&\"\", \"Bar\", \"\", \"Close\",\"5\",\"0\",\"PrimaryOnly\",,,\"False\",\"T\",\"EveryTick\")","v":159.43},8.1573289490326321E-3,null,null,null,""]
[53,"12:55:00",-24,{"$f":" RTD(\"cqg.rtd\",,\"StudyData\", $D$12,  \"Tick\", \"FlatTicks=0\", \"Tick\",\"D\",C54,\"PrimaryOnly\")","v":165.9},null,null,null,{"$f":"RTD(\"cqg.rtd\",,\"StudyData\", \"Close(\"&$D$12&\") when LocalYear(\"&$D$12&\")=\"&$D$1&\" and localMonth(\"&$D$12&\") =\"&$E$1&\" and LocalDay(\"&$D$12&\")=\"&$F$1&\" and Barix(\"&$D$12&\",reference:=StartOfSession)=\"&A54&\"\", \"Bar\", \"\", \"Close\",\"5\",\"0\",\"PrimaryOnly\",,,\"False\",\"T\",\"EveryTick\")","v":""},{"$error":"#N/A"},{"$f":"RTD(\"cqg.rtd\",,\"StudyData\", \"Close(\"&$D$12&\") when LocalYear(\"&$D$12&\")=\"&$D$2&\" and localMonth(\"&$D$12&\") =\"&$E$2&\" and LocalDay(\"&$D$12&\")=\"&$F$2&\" and Barix(\"&$D$12&\",reference:=StartOfSession)=\"&A54&\"\", \"Bar\", \"\", \"Close\",\"5\",\"0\",\"PrimaryOnly\",,,\"False\",\"T\",\"EveryTick\")","v":165.23},1.5987210231814514E-2,{"$f":"RTD(\"cqg.rtd\",,\"StudyData\", \"Close(\"&$D$12&\") when LocalYear(\"&$D$12&\")=\"&$D$3&\" and localMonth(\"&$D$12&\") =\"&$E$3&\" and LocalDay(\"&$D$12&\")=\"&$F$3&\" and Barix(\"&$D$12&\",reference:=StartOfSession)=\"&A54&\"\", \"Bar\", \"\", \"Close\",\"5\",\"0\",\"PrimaryOnly\",,,\"False\",\"T\",\"EveryTick\")","v":162.68},-7.3224310471075704E-3,{"$f":"RTD(\"cqg.rtd\",,\"StudyData\", \"Close(\"&$D$12&\") when LocalYear(\"&$D$12&\")=\"&$D$4&\" and localMonth(\"&$D$12&\") =\"&$E$4&\" and LocalDay(\"&$D$12&\")=\"&$F$4&\" and Barix(\"&$D$12&\",reference:=StartOfSession)=\"&A54&\"\", \"Bar\", \"\", \"Close\",\"5\",\"0\",\"PrimaryOnly\",,,\"False\",\"T\",\"EveryTick\")","v":163.54},1.2244398187828372E-3,{"$f":"RTD(\"cqg.rtd\",,\"StudyData\", \"Close(\"&$D$12&\") when LocalYear(\"&$D$12&\")=\"&$D$5&\" and localMonth(\"&$D$12&\") =\"&$E$5&\" and LocalDay(\"&$D$12&\")=\"&$F$5&\" and Barix(\"&$D$12&\",reference:=StartOfSession)=\"&A54&\"\", \"Bar\", \"\", \"Close\",\"5\",\"0\",\"PrimaryOnly\",,,\"False\",\"T\",\"EveryTick\")","v":162.74},3.5767143561914929E-3,{"$f":"RTD(\"cqg.rtd\",,\"StudyData\", \"Close(\"&$D$12&\") when LocalYear(\"&$D$12&\")=\"&$D$6&\" and localMonth(\"&$D$12&\") =\"&$E$6&\" and LocalDay(\"&$D$12&\")=\"&$F$6&\" and Barix(\"&$D$12&\",reference:=StartOfSession)=\"&A54&\"\", \"Bar\", \"\", \"Close\",\"5\",\"0\",\"PrimaryOnly\",,,\"False\",\"T\",\"EveryTick\")","v":162.05000000000001},9.0914751852544246E-3,{"$f":"RTD(\"cqg.rtd\",,\"StudyData\", \"Close(\"&$D$12&\") when LocalYear(\"&$D$12&\")=\"&$D$7&\" and localMonth(\"&$D$12&\") =\"&$E$7&\" and LocalDay(\"&$D$12&\")=\"&$F$7&\" and Barix(\"&$D$12&\",reference:=StartOfSession)=\"&A54&\"\", \"Bar\", \"\", \"Close\",\"5\",\"0\",\"PrimaryOnly\",,,\"False\",\"T\",\"EveryTick\")","v":160},1.054759047558888E-2,{"$f":"RTD(\"cqg.rtd\",,\"StudyData\", \"Close(\"&$D$12&\") when LocalYear(\"&$D$12&\")=\"&$D$8&\" and localMonth(\"&$D$12&\") =\"&$E$8&\" and LocalDay(\"&$D$12&\")=\"&$F$8&\" and Barix(\"&$D$12&\",reference:=StartOfSession)=\"&A54&\"\", \"Bar\", \"\", \"Close\",\"5\",\"0\",\"PrimaryOnly\",,,\"False\",\"T\",\"EveryTick\")","v":""},{"$error":"#N/A"},{"$f":"RTD(\"cqg.rtd\",,\"StudyData\", \"Close(\"&$D$12&\") when LocalYear(\"&$D$12&\")=\"&$D$9&\" and localMonth(\"&$D$12&\") =\"&$E$9&\" and LocalDay(\"&$D$12&\")=\"&$F$9&\" and Barix(\"&$D$12&\",reference:=StartOfSession)=\"&A54&\"\", \"Bar\", \"\", \"Close\",\"5\",\"0\",\"PrimaryOnly\",,,\"False\",\"T\",\"EveryTick\")","v":159.03},3.6604607131588045E-3,{"$f":"RTD(\"cqg.rtd\",,\"StudyData\", \"Close(\"&$D$12&\") when LocalYear(\"&$D$12&\")=\"&$D$10&\" and localMonth(\"&$D$12&\") =\"&$E$10&\" and LocalDay(\"&$D$12&\")=\"&$F$10&\" and Barix(\"&$D$12&\",reference:=StartOfSession)=\"&A54&\"\", \"Bar\", \"\", \"Close\",\"5\",\"0\",\"PrimaryOnly\",,,\"False\",\"T\",\"EveryTick\")","v":159.43},8.1573289490326321E-3,null,null,null,""]
[54,"13:00:00",-23,{"$f":" RTD(\"cqg.rtd\",,\"StudyData\", $D$12,  \"Tick\", \"FlatTicks=0\", \"Tick\",\"D\",C55,\"PrimaryOnly\")","v":165.65},null,null,null,{"$f":"RTD(\"cqg.rtd\",,\"StudyData\", \"Close(\"&$D$12&\") when LocalYear(\"&$D$12&\")=\"&$D$1&\" and localMonth(\"&$D$12&\") =\"&$E$1&\" and LocalDay(\"&$D$12&\")=\"&$F$1&\" and Barix(\"&$D$12&\",reference:=StartOfSession)=\"&A55&\"\", \"Bar\", \"\", \"Close\",\"5\",\"0\",\"PrimaryOnly\",,,\"False\",\"T\",\"EveryTick\")","v":""},{"$error":"#N/A"},{"$f":"RTD(\"cqg.rtd\",,\"StudyData\", \"Close(\"&$D$12&\") when LocalYear(\"&$D$12&\")=\"&$D$2&\" and localMonth(\"&$D$12&\") =\"&$E$2&\" and LocalDay(\"&$D$12&\")=\"&$F$2&\" and Barix(\"&$D$12&\",reference:=StartOfSession)=\"&A55&\"\", \"Bar\", \"\", \"Close\",\"5\",\"0\",\"PrimaryOnly\",,,\"False\",\"T\",\"EveryTick\")","v":165.23},1.5987210231814514E-2,{"$f":"RTD(\"cqg.rtd\",,\"StudyData\", \"Close(\"&$D$12&\") when LocalYear(\"&$D$12&\")=\"&$D$3&\" and localMonth(\"&$D$12&\") =\"&$E$3&\" and LocalDay(\"&$D$12&\")=\"&$F$3&\" and Barix(\"&$D$12&\",reference:=StartOfSession)=\"&A55&\"\", \"Bar\", \"\", \"Close\",\"5\",\"0\",\"PrimaryOnly\",,,\"False\",\"T\",\"EveryTick\")","v":162.85},-6.2850866487673979E-3,{"$f":"RTD(\"cqg.rtd\",,\"StudyData\", \"Close(\"&$D$12&\") when LocalYear(\"&$D$12&\")=\"&$D$4&\" and localMonth(\"&$D$12&\") =\"&$E$4&\" and LocalDay(\"&$D$12&\")=\"&$F$4&\" and Barix(\"&$D$12&\",reference:=StartOfSession)=\"&A55&\"\", \"Bar\", \"\", \"Close\",\"5\",\"0\",\"PrimaryOnly\",,,\"False\",\"T\",\"EveryTick\")","v":163.62},1.7142157462960764E-3,{"$f":"RTD(\"cqg.rtd\",,\"StudyData\", \"Close(\"&$D$12&\") when LocalYear(\"&$D$12&\")=\"&$D$5&\" and localMonth(\"&$D$12&\") =\"&$E$5&\" and LocalDay(\"&$D$12&\")=\"&$F$5&\" and Barix(\"&$D$12&\",reference:=StartOfSession)=\"&A55&\"\", \"Bar\", \"\", \"Close\",\"5\",\"0\",\"PrimaryOnly\",,,\"False\",\"T\",\"EveryTick\")","v":162.74},3.5767143561914929E-3,{"$f":"RTD(\"cqg.rtd\",,\"StudyData\", \"Close(\"&$D$12&\") when LocalYear(\"&$D$12&\")=\"&$D$6&\" and localMonth(\"&$D$12&\") =\"&$E$6&\" and LocalDay(\"&$D$12&\")=\"&$F$6&\" and Barix(\"&$D$12&\",reference:=StartOfSession)=\"&A55&\"\", \"Bar\", \"\", \"Close\",\"5\",\"0\",\"PrimaryOnly\",,,\"False\",\"T\",\"EveryTick\")","v":162.05000000000001},9.0914751852544246E-3,{"$f":"RTD(\"cqg.rtd\",,\"StudyData\", \"Close(\"&$D$12&\") when LocalYear(\"&$D$12&\")=\"&$D$7&\" and localMonth(\"&$D$12&\") =\"&$E$7&\" and LocalDay(\"&$D$12&\")=\"&$F$7&\" and Barix(\"&$D$12&\",reference:=StartOfSession)=\"&A55&\"\", \"Bar\", \"\", \"Close\",\"5\",\"0\",\"PrimaryOnly\",,,\"False\",\"T\",\"EveryTick\")","v":160.02000000000001},1.0673908924398394E-2,{"$f":"RTD(\"cqg.rtd\",,\"StudyData\", \"Close(\"&$D$12&\") when LocalYear(\"&$D$12&\")=\"&$D$8&\" and localMonth(\"&$D$12&\") =\"&$E$8&\" and LocalDay(\"&$D$12&\")=\"&$F$8&\" and Barix(\"&$D$12&\",reference:=StartOfSession)=\"&A55&\"\", \"Bar\", \"\", \"Close\",\"5\",\"0\",\"PrimaryOnly\",,,\"False\",\"T\",\"EveryTick\")","v":""},{"$error":"#N/A"},{"$f":"RTD(\"cqg.rtd\",,\"StudyData\", \"Close(\"&$D$12&\") when LocalYear(\"&$D$12&\")=\"&$D$9&\" and localMonth(\"&$D$12&\") =\"&$E$9&\" and LocalDay(\"&$D$12&\")=\"&$F$9&\" and Barix(\"&$D$12&\",reference:=StartOfSession)=\"&A55&\"\", \"Bar\", \"\", \"Close\",\"5\",\"0\",\"PrimaryOnly\",,,\"False\",\"T\",\"EveryTick\")","v":159.03},3.6604607131588045E-3,{"$f":"RTD(\"cqg.rtd\",,\"StudyData\", \"Close(\"&$D$12&\") when LocalYear(\"&$D$12&\")=\"&$D$10&\" and localMonth(\"&$D$12&\") =\"&$E$10&\" and LocalDay(\"&$D$12&\")=\"&$F$10&\" and Barix(\"&$D$12&\",reference:=StartOfSession)=\"&A55&\"\", \"Bar\", \"\", \"Close\",\"5\",\"0\",\"PrimaryOnly\",,,\"False\",\"T\",\"EveryTick\")","v":159.37},7.7779183002404089E-3,null,null,null,""]
[55,"13:05:00",-22,{"$f":" RTD(\"cqg.rtd\",,\"StudyData\", $D$12,  \"Tick\", \"FlatTicks=0\", \"Tick\",\"D\",C56,\"PrimaryOnly\")","v":165.03},null,null,null,{"$f":"RTD(\"cqg.rtd\",,\"StudyData\", \"Close(\"&$D$12&\") when LocalYear(\"&$D$12&\")=\"&$D$1&\" and localMonth(\"&$D$12&\") =\"&$E$1&\" and LocalDay(\"&$D$12&\")=\"&$F$1&\" and Barix(\"&$D$12&\",reference:=StartOfSession)=\"&A56&\"\", \"Bar\", \"\", \"Close\",\"5\",\"0\",\"PrimaryOnly\",,,\"False\",\"T\",\"EveryTick\")","v":""},{"$error":"#N/A"},{"$f":"RTD(\"cqg.rtd\",,\"StudyData\", \"Close(\"&$D$12&\") when LocalYear(\"&$D$12&\")=\"&$D$2&\" and localMonth(\"&$D$12&\") =\"&$E$2&\" and LocalDay(\"&$D$12&\")=\"&$F$2&\" and Barix(\"&$D$12&\",reference:=StartOfSession)=\"&A56&\"\", \"Bar\", \"\", \"Close\",\"5\",\"0\",\"PrimaryOnly\",,,\"False\",\"T\",\"EveryTick\")","v":165.24},1.6048699501936995E-2,{"$f":"RTD(\"cqg.rtd\",,\"StudyData\", \"Close(\"&$D$12&\") when LocalYear(\"&$D$12&\")=\"&$D$3&\" and localMonth(\"&$D$12&\") =\"&$E$3&\" and LocalDay(\"&$D$12&\")=\"&$F$3&\" and Barix(\"&$D$12&\",reference:=StartOfSession)=\"&A56&\"\", \"Bar\", \"\", \"Close\",\"5\",\"0\",\"PrimaryOnly\",,,\"False\",\"T\",\"EveryTick\")","v":162.77000000000001},-6.7732487185744768E-3,{"$f":"RTD(\"cqg.rtd\",,\"StudyData\", \"Close(\"&$D$12&\") when LocalYear(\"&$D$12&\")=\"&$D$4&\" and localMonth(\"&$D$12&\") =\"&$E$4&\" and LocalDay(\"&$D$12&\")=\"&$F$4&\" and Barix(\"&$D$12&\",reference:=StartOfSession)=\"&A56&\"\", \"Bar\", \"\", \"Close\",\"5\",\"0\",\"PrimaryOnly\",,,\"False\",\"T\",\"EveryTick\")","v":163.62},1.7142157462960764E-3,{"$f":"RTD(\"cqg.rtd\",,\"StudyData\", \"Close(\"&$D$12&\") when LocalYear(\"&$D$12&\")=\"&$D$5&\" and localMonth(\"&$D$12&\") =\"&$E$5&\" and LocalDay(\"&$D$12&\")=\"&$F$5&\" and Barix(\"&$D$12&\",reference:=StartOfSession)=\"&A56&\"\", \"Bar\", \"\", \"Close\",\"5\",\"0\",\"PrimaryOnly\",,,\"False\",\"T\",\"EveryTick\")","v":162.74},3.5767143561914929E-3,{"$f":"RTD(\"cqg.rtd\",,\"StudyData\", \"Close(\"&$D$12&\") when LocalYear(\"&$D$12&\")=\"&$D$6&\" and localMonth(\"&$D$12&\") =\"&$E$6&\" and LocalDay(\"&$D$12&\")=\"&$F$6&\" and Barix(\"&$D$12&\",reference:=StartOfSession)=\"&A56&\"\", \"Bar\", \"\", \"Close\",\"5\",\"0\",\"PrimaryOnly\",,,\"False\",\"T\",\"EveryTick\")","v":162.09},9.3405566971791511E-3,{"$f":"RTD(\"cqg.rtd\",,\"StudyData\", \"Close(\"&$D$12&\") when LocalYear(\"&$D$12&\")=\"&$D$7&\" and localMonth(\"&$D$12&\") =\"&$E$7&\" and LocalDay(\"&$D$12&\")=\"&$F$7&\" and Barix(\"&$D$12&\",reference:=StartOfSession)=\"&A56&\"\", \"Bar\", \"\", \"Close\",\"5\",\"0\",\"PrimaryOnly\",,,\"False\",\"T\",\"EveryTick\")","v":159.75},8.9686098654707721E-3,{"$f":"RTD(\"cqg.rtd\",,\"StudyData\", \"Close(\"&$D$12&\") when LocalYear(\"&$D$12&\")=\"&$D$8&\" and localMonth(\"&$D$12&\") =\"&$E$8&\" and LocalDay(\"&$D$12&\")=\"&$F$8&\" and Barix(\"&$D$12&\",reference:=StartOfSession)=\"&A56&\"\", \"Bar\", \"\", \"Close\",\"5\",\"0\",\"PrimaryOnly\",,,\"False\",\"T\",\"EveryTick\")","v":""},{"$error":"#N/A"},{"$f":"RTD(\"cqg.rtd\",,\"StudyData\", \"Close(\"&$D$12&\") when LocalYear(\"&$D$12&\")=\"&$D$9&\" and localMonth(\"&$D$12&\") =\"&$E$9&\" and LocalDay(\"&$D$12&\")=\"&$F$9&\" and Barix(\"&$D$12&\",reference:=StartOfSession)=\"&A56&\"\", \"Bar\", \"\", \"Close\",\"5\",\"0\",\"PrimaryOnly\",,,\"False\",\"T\",\"EveryTick\")","v":159.16999999999999},4.5440201956453074E-3,{"$f":"RTD(\"cqg.rtd\",,\"StudyData\", \"Close(\"&$D$12&\") when LocalYear(\"&$D$12&\")=\"&$D$10&\" and localMonth(\"&$D$12&\") =\"&$E$10&\" and LocalDay(\"&$D$12&\")=\"&$F$10&\" and Barix(\"&$D$12&\",reference:=StartOfSession)=\"&A56&\"\", \"Bar\", \"\", \"Close\",\"5\",\"0\",\"PrimaryOnly\",,,\"False\",\"T\",\"EveryTick\")","v":159.31},7.3985076514481857E-3,null,null,null,""]
[56,"13:10:00",-21,{"$f":" RTD(\"cqg.rtd\",,\"StudyData\", $D$12,  \"Tick\", \"FlatTicks=0\", \"Tick\",\"D\",C57,\"PrimaryOnly\")","v":165.04},null,null,null,{"$f":"RTD(\"cqg.rtd\",,\"StudyData\", \"Close(\"&$D$12&\") when LocalYear(\"&$D$12&\")=\"&$D$1&\" and localMonth(\"&$D$12&\") =\"&$E$1&\" and LocalDay(\"&$D$12&\")=\"&$F$1&\" and Barix(\"&$D$12&\",reference:=StartOfSession)=\"&A57&\"\", \"Bar\", \"\", \"Close\",\"5\",\"0\",\"PrimaryOnly\",,,\"False\",\"T\",\"EveryTick\")","v":""},{"$error":"#N/A"},{"$f":"RTD(\"cqg.rtd\",,\"StudyData\", \"Close(\"&$D$12&\") when LocalYear(\"&$D$12&\")=\"&$D$2&\" and localMonth(\"&$D$12&\") =\"&$E$2&\" and LocalDay(\"&$D$12&\")=\"&$F$2&\" and Barix(\"&$D$12&\",reference:=StartOfSession)=\"&A57&\"\", \"Bar\", \"\", \"Close\",\"5\",\"0\",\"PrimaryOnly\",,,\"False\",\"T\",\"EveryTick\")","v":165.27},1.6233167312304096E-2,{"$f":"RTD(\"cqg.rtd\",,\"StudyData\", \"Close(\"&$D$12&\") when LocalYear(\"&$D$12&\")=\"&$D$3&\" and localMonth(\"&$D$12&\") =\"&$E$3&\" and LocalDay(\"&$D$12&\")=\"&$F$3&\" and Barix(\"&$D$12&\",reference:=StartOfSession)=\"&A57&\"\", \"Bar\", \"\", \"Close\",\"5\",\"0\",\"PrimaryOnly\",,,\"False\",\"T\",\"EveryTick\")","v":162.5},-8.4207957041737575E-3,{"$f":"RTD(\"cqg.rtd\",,\"StudyData\", \"Close(\"&$D$12&\") when LocalYear(\"&$D$12&\")=\"&$D$4&\" and localMonth(\"&$D$12&\") =\"&$E$4&\" and LocalDay(\"&$D$12&\")=\"&$F$4&\" and Barix(\"&$D$12&\",reference:=StartOfSession)=\"&A57&\"\", \"Bar\", \"\", \"Close\",\"5\",\"0\",\"PrimaryOnly\",,,\"False\",\"T\",\"EveryTick\")","v":163.68},2.0815476919309626E-3,{"$f":"RTD(\"cqg.rtd\",,\"StudyData\", \"Close(\"&$D$12&\") when LocalYear(\"&$D$12&\")=\"&$D$5&\" and localMonth(\"&$D$12&\") =\"&$E$5&\" and LocalDay(\"&$D$12&\")=\"&$F$5&\" and Barix(\"&$D$12&\",reference:=StartOfSession)=\"&A57&\"\", \"Bar\", \"\", \"Close\",\"5\",\"0\",\"PrimaryOnly\",,,\"False\",\"T\",\"EveryTick\")","v":162.74},3.5767143561914929E-3,{"$f":"RTD(\"cqg.rtd\",,\"StudyData\", \"Close(\"&$D$12&\") when LocalYear(\"&$D$12&\")=\"&$D$6&\" and localMonth(\"&$D$12&\") =\"&$E$6&\" and LocalDay(\"&$D$12&\")=\"&$F$6&\" and Barix(\"&$D$12&\",reference:=StartOfSession)=\"&A57&\"\", \"Bar\", \"\", \"Close\",\"5\",\"0\",\"PrimaryOnly\",,,\"False\",\"T\",\"EveryTick\")","v":162.13},9.5896382091038793E-3,{"$f":"RTD(\"cqg.rtd\",,\"StudyData\", \"Close(\"&$D$12&\") when LocalYear(\"&$D$12&\")=\"&$D$7&\" and localMonth(\"&$D$12&\") =\"&$E$7&\" and LocalDay(\"&$D$12&\")=\"&$F$7&\" and Barix(\"&$D$12&\",reference:=StartOfSession)=\"&A57&\"\", \"Bar\", \"\", \"Close\",\"5\",\"0\",\"PrimaryOnly\",,,\"False\",\"T\",\"EveryTick\")","v":159.66},8.4001768458282326E-3,{"$f":"RTD(\"cqg.rtd\",,\"StudyData\", \"Close(\"&$D$12&\") when LocalYear(\"&$D$12&\")=\"&$D$8&\" and localMonth(\"&$D$12&\") =\"&$E$8&\" and LocalDay(\"&$D$12&\")=\"&$F$8&\" and Barix(\"&$D$12&\",reference:=StartOfSession)=\"&A57&\"\", \"Bar\", \"\", \"Close\",\"5\",\"0\",\"PrimaryOnly\",,,\"False\",\"T\",\"EveryTick\")","v":""},{"$error":"#N/A"},{"$f":"RTD(\"cqg.rtd\",,\"StudyData\", \"Close(\"&$D$12&\") when LocalYear(\"&$D$12&\")=\"&$D$9&\" and localMonth(\"&$D$12&\") =\"&$E$9&\" and LocalDay(\"&$D$12&\")=\"&$F$9&\" and Barix(\"&$D$12&\",reference:=StartOfSession)=\"&A57&\"\", \"Bar\", \"\", \"Close\",\"5\",\"0\",\"PrimaryOnly\",,,\"False\",\"T\",\"EveryTick\")","v":159.22},4.8595771536763038E-3,{"$f":"RTD(\"cqg.rtd\",,\"StudyData\", \"Close(\"&$D$12&\") when LocalYear(\"&$D$12&\")=\"&$D$10&\" and localMonth(\"&$D$12&\") =\"&$E$10&\" and LocalDay(\"&$D$12&\")=\"&$F$10&\" and Barix(\"&$D$12&\",reference:=StartOfSession)=\"&A57&\"\", \"Bar\", \"\", \"Close\",\"5\",\"0\",\"PrimaryOnly\",,,\"False\",\"T\",\"EveryTick\")","v":159.41},8.0308587327684988E-3,null,null,null,""]
[57,"13:15:00",-20,{"$f":" RTD(\"cqg.rtd\",,\"StudyData\", $D$12,  \"Tick\", \"FlatTicks=0\", \"Tick\",\"D\",C58,\"PrimaryOnly\")","v":164.97},null,null,null,{"$f":"RTD(\"cqg.rtd\",,\"StudyData\", \"Close(\"&$D$12&\") when LocalYear(\"&$D$12&\")=\"&$D$1&\" and localMonth(\"&$D$12&\") =\"&$E$1&\" and LocalDay(\"&$D$12&\")=\"&$F$1&\" and Barix(\"&$D$12&\",reference:=StartOfSession)=\"&A58&\"\", \"Bar\", \"\", \"Close\",\"5\",\"0\",\"PrimaryOnly\",,,\"False\",\"T\",\"EveryTick\")","v":""},{"$error":"#N/A"},{"$f":"RTD(\"cqg.rtd\",,\"StudyData\", \"Close(\"&$D$12&\") when LocalYear(\"&$D$12&\")=\"&$D$2&\" and localMonth(\"&$D$12&\") =\"&$E$2&\" and LocalDay(\"&$D$12&\")=\"&$F$2&\" and Barix(\"&$D$12&\",reference:=StartOfSession)=\"&A58&\"\", \"Bar\", \"\", \"Close\",\"5\",\"0\",\"PrimaryOnly\",,,\"False\",\"T\",\"EveryTick\")","v":165.4},1.7032527823894795E-2,{"$f":"RTD(\"cqg.rtd\",,\"StudyData\", \"Close(\"&$D$12&\") when LocalYear(\"&$D$12&\")=\"&$D$3&\" and localMonth(\"&$D$12&\") =\"&$E$3&\" and LocalDay(\"&$D$12&\")=\"&$F$3&\" and Barix(\"&$D$12&\",reference:=StartOfSession)=\"&A58&\"\", \"Bar\", \"\", \"Close\",\"5\",\"0\",\"PrimaryOnly\",,,\"False\",\"T\",\"EveryTick\")","v":162.5},-8.4207957041737575E-3,{"$f":"RTD(\"cqg.rtd\",,\"StudyData\", \"Close(\"&$D$12&\") when LocalYear(\"&$D$12&\")=\"&$D$4&\" and localMonth(\"&$D$12&\") =\"&$E$4&\" and LocalDay(\"&$D$12&\")=\"&$F$4&\" and Barix(\"&$D$12&\",reference:=StartOfSession)=\"&A58&\"\", \"Bar\", \"\", \"Close\",\"5\",\"0\",\"PrimaryOnly\",,,\"False\",\"T\",\"EveryTick\")","v":163.72},2.3264356556874951E-3,{"$f":"RTD(\"cqg.rtd\",,\"StudyData\", \"Close(\"&$D$12&\") when LocalYear(\"&$D$12&\")=\"&$D$5&\" and localMonth(\"&$D$12&\") =\"&$E$5&\" and LocalDay(\"&$D$12&\")=\"&$F$5&\" and Barix(\"&$D$12&\",reference:=StartOfSession)=\"&A58&\"\", \"Bar\", \"\", \"Close\",\"5\",\"0\",\"PrimaryOnly\",,,\"False\",\"T\",\"EveryTick\")","v":162.72},3.4533793783917258E-3,{"$f":"RTD(\"cqg.rtd\",,\"StudyData\", \"Close(\"&$D$12&\") when LocalYear(\"&$D$12&\")=\"&$D$6&\" and localMonth(\"&$D$12&\") =\"&$E$6&\" and LocalDay(\"&$D$12&\")=\"&$F$6&\" and Barix(\"&$D$12&\",reference:=StartOfSession)=\"&A58&\"\", \"Bar\", \"\", \"Close\",\"5\",\"0\",\"PrimaryOnly\",,,\"False\",\"T\",\"EveryTick\")","v":162.16},9.7764493430474702E-3,{"$f":"RTD(\"cqg.rtd\",,\"StudyData\", \"Close(\"&$D$12&\") when LocalYear(\"&$D$12&\")=\"&$D$7&\" and localMonth(\"&$D$12&\") =\"&$E$7&\" and LocalDay(\"&$D$12&\")=\"&$F$7&\" and Barix(\"&$D$12&\",reference:=StartOfSession)=\"&A58&\"\", \"Bar\", \"\", \"Close\",\"5\",\"0\",\"PrimaryOnly\",,,\"False\",\"T\",\"EveryTick\")","v":159.83000000000001},9.4738836607086464E-3,{"$f":"RTD(\"cqg.rtd\",,\"StudyData\", \"Close(\"&$D$12&\") when LocalYear(\"&$D$12&\")=\"&$D$8&\" and localMonth(\"&$D$12&\") =\"&$E$8&\" and LocalDay(\"&$D$12&\")=\"&$F$8&\" and Barix(\"&$D$12&\",reference:=StartOfSession)=\"&A58&\"\", \"Bar\", \"\", \"Close\",\"5\",\"0\",\"PrimaryOnly\",,,\"False\",\"T\",\"EveryTick\")","v":""},{"$error":"#N/A"},{"$f":"RTD(\"cqg.rtd\",,\"StudyData\", \"Close(\"&$D$12&\") when LocalYear(\"&$D$12&\")=\"&$D$9&\" and localMonth(\"&$D$12&\") =\"&$E$9&\" and LocalDay(\"&$D$12&\")=\"&$F$9&\" and Barix(\"&$D$12&\",reference:=StartOfSession)=\"&A58&\"\", \"Bar\", \"\", \"Close\",\"5\",\"0\",\"PrimaryOnly\",,,\"False\",\"T\",\"EveryTick\")","v":159.22},4.8595771536763038E-3,{"$f":"RTD(\"cqg.rtd\",,\"StudyData\", \"Close(\"&$D$12&\") when LocalYear(\"&$D$12&\")=\"&$D$10&\" and localMonth(\"&$D$12&\") =\"&$E$10&\" and LocalDay(\"&$D$12&\")=\"&$F$10&\" and Barix(\"&$D$12&\",reference:=StartOfSession)=\"&A58&\"\", \"Bar\", \"\", \"Close\",\"5\",\"0\",\"PrimaryOnly\",,,\"False\",\"T\",\"EveryTick\")","v":159.33000000000001},7.5249778677123199E-3,null,null,null,""]
[58,"13:20:00",-19,{"$f":" RTD(\"cqg.rtd\",,\"StudyData\", $D$12,  \"Tick\", \"FlatTicks=0\", \"Tick\",\"D\",C59,\"PrimaryOnly\")","v":164.99},null,null,null,{"$f":"RTD(\"cqg.rtd\",,\"StudyData\", \"Close(\"&$D$12&\") when LocalYear(\"&$D$12&\")=\"&$D$1&\" and localMonth(\"&$D$12&\") =\"&$E$1&\" and LocalDay(\"&$D$12&\")=\"&$F$1&\" and Barix(\"&$D$12&\",reference:=StartOfSession)=\"&A59&\"\", \"Bar\", \"\", \"Close\",\"5\",\"0\",\"PrimaryOnly\",,,\"False\",\"T\",\"EveryTick\")","v":""},{"$error":"#N/A"},{"$f":"RTD(\"cqg.rtd\",,\"StudyData\", \"Close(\"&$D$12&\") when LocalYear(\"&$D$12&\")=\"&$D$2&\" and localMonth(\"&$D$12&\") =\"&$E$2&\" and LocalDay(\"&$D$12&\")=\"&$F$2&\" and Barix(\"&$D$12&\",reference:=StartOfSession)=\"&A59&\"\", \"Bar\", \"\", \"Close\",\"5\",\"0\",\"PrimaryOnly\",,,\"False\",\"T\",\"EveryTick\")","v":165.42},1.7155506364139411E-2,{"$f":"RTD(\"cqg.rtd\",,\"StudyData\", \"Close(\"&$D$12&\") when LocalYear(\"&$D$12&\")=\"&$D$3&\" and localMonth(\"&$D$12&\") =\"&$E$3&\" and LocalDay(\"&$D$12&\")=\"&$F$3&\" and Barix(\"&$D$12&\",reference:=StartOfSession)=\"&A59&\"\", \"Bar\", \"\", \"Close\",\"5\",\"0\",\"PrimaryOnly\",,,\"False\",\"T\",\"EveryTick\")","v":162.79},-6.6512082011227934E-3,{"$f":"RTD(\"cqg.rtd\",,\"StudyData\", \"Close(\"&$D$12&\") when LocalYear(\"&$D$12&\")=\"&$D$4&\" and localMonth(\"&$D$12&\") =\"&$E$4&\" and LocalDay(\"&$D$12&\")=\"&$F$4&\" and Barix(\"&$D$12&\",reference:=StartOfSession)=\"&A59&\"\", \"Bar\", \"\", \"Close\",\"5\",\"0\",\"PrimaryOnly\",,,\"False\",\"T\",\"EveryTick\")","v":163.72},2.3264356556874951E-3,{"$f":"RTD(\"cqg.rtd\",,\"StudyData\", \"Close(\"&$D$12&\") when LocalYear(\"&$D$12&\")=\"&$D$5&\" and localMonth(\"&$D$12&\") =\"&$E$5&\" and LocalDay(\"&$D$12&\")=\"&$F$5&\" and Barix(\"&$D$12&\",reference:=StartOfSession)=\"&A59&\"\", \"Bar\", \"\", \"Close\",\"5\",\"0\",\"PrimaryOnly\",,,\"False\",\"T\",\"EveryTick\")","v":162.78},3.8233843117908518E-3,{"$f":"RTD(\"cqg.rtd\",,\"StudyData\", \"Close(\"&$D$12&\") when LocalYear(\"&$D$12&\")=\"&$D$6&\" and localMonth(\"&$D$12&\") =\"&$E$6&\" and LocalDay(\"&$D$12&\")=\"&$F$6&\" and Barix(\"&$D$12&\",reference:=StartOfSession)=\"&A59&\"\", \"Bar\", \"\", \"Close\",\"5\",\"0\",\"PrimaryOnly\",,,\"False\",\"T\",\"EveryTick\")","v":162.16},9.7764493430474702E-3,{"$f":"RTD(\"cqg.rtd\",,\"StudyData\", \"Close(\"&$D$12&\") when LocalYear(\"&$D$12&\")=\"&$D$7&\" and localMonth(\"&$D$12&\") =\"&$E$7&\" and LocalDay(\"&$D$12&\")=\"&$F$7&\" and Barix(\"&$D$12&\",reference:=StartOfSession)=\"&A59&\"\", \"Bar\", \"\", \"Close\",\"5\",\"0\",\"PrimaryOnly\",,,\"False\",\"T\",\"EveryTick\")","v":159.83000000000001},9.4738836607086464E-3,{"$f":"RTD(\"cqg.rtd\",,\"StudyData\", \"Close(\"&$D$12&\") when LocalYear(\"&$D$12&\")=\"&$D$8&\" and localMonth(\"&$D$12&\") =\"&$E$8&\" and LocalDay(\"&$D$12&\")=\"&$F$8&\" and Barix(\"&$D$12&\",reference:=StartOfSession)=\"&A59&\"\", \"Bar\", \"\", \"Close\",\"5\",\"0\",\"PrimaryOnly\",,,\"False\",\"T\",\"EveryTick\")","v":""},{"$error":"#N/A"},{"$f":"RTD(\"cqg.rtd\",,\"StudyData\", \"Close(\"&$D$12&\") when LocalYear(\"&$D$12&\")=\"&$D$9&\" and localMonth(\"&$D$12&\") =\"&$E$9&\" and LocalDay(\"&$D$12&\")=\"&$F$9&\" and Barix(\"&$D$12&\",reference:=StartOfSession)=\"&A59&\"\", \"Bar\", \"\", \"Close\",\"5\",\"0\",\"PrimaryOnly\",,,\"False\",\"T\",\"EveryTick\")","v":159.31},5.427579678131989E-3,{"$f":"RTD(\"cqg.rtd\",,\"StudyData\", \"Close(\"&$D$12&\") when LocalYear(\"&$D$12&\")=\"&$D$10&\" and localMonth(\"&$D$12&\") =\"&$E$10&\" and LocalDay(\"&$D$12&\")=\"&$F$10&\" and Barix(\"&$D$12&\",reference:=StartOfSession)=\"&A59&\"\", \"Bar\", \"\", \"Close\",\"5\",\"0\",\"PrimaryOnly\",,,\"False\",\"T\",\"EveryTick\")","v":159.25},7.0190970026559616E-3,null,null,null,""]
[59,"13:25:00",-18,{"$f":" RTD(\"cqg.rtd\",,\"StudyData\", $D$12,  \"Tick\", \"FlatTicks=0\", \"Tick\",\"D\",C60,\"PrimaryOnly\")","v":165.36},null,null,null,{"$f":"RTD(\"cqg.rtd\",,\"StudyData\", \"Close(\"&$D$12&\") when LocalYear(\"&$D$12&\")=\"&$D$1&\" and localMonth(\"&$D$12&\") =\"&$E$1&\" and LocalDay(\"&$D$12&\")=\"&$F$1&\" and Barix(\"&$D$12&\",reference:=StartOfSession)=\"&A60&\"\", \"Bar\", \"\", \"Close\",\"5\",\"0\",\"PrimaryOnly\",,,\"False\",\"T\",\"EveryTick\")","v":""},{"$error":"#N/A"},{"$f":"RTD(\"cqg.rtd\",,\"StudyData\", \"Close(\"&$D$12&\") when LocalYear(\"&$D$12&\")=\"&$D$2&\" and localMonth(\"&$D$12&\") =\"&$E$2&\" and LocalDay(\"&$D$12&\")=\"&$F$2&\" and Barix(\"&$D$12&\",reference:=StartOfSession)=\"&A60&\"\", \"Bar\", \"\", \"Close\",\"5\",\"0\",\"PrimaryOnly\",,,\"False\",\"T\",\"EveryTick\")","v":165.47},1.7462952714751297E-2,{"$f":"RTD(\"cqg.rtd\",,\"StudyData\", \"Close(\"&$D$12&\") when LocalYear(\"&$D$12&\")=\"&$D$3&\" and localMonth(\"&$D$12&\") =\"&$E$3&\" and LocalDay(\"&$D$12&\")=\"&$F$3&\" and Barix(\"&$D$12&\",reference:=StartOfSession)=\"&A60&\"\", \"Bar\", \"\", \"Close\",\"5\",\"0\",\"PrimaryOnly\",,,\"False\",\"T\",\"EveryTick\")","v":162.79},-6.6512082011227934E-3,{"$f":"RTD(\"cqg.rtd\",,\"StudyData\", \"Close(\"&$D$12&\") when LocalYear(\"&$D$12&\")=\"&$D$4&\" and localMonth(\"&$D$12&\") =\"&$E$4&\" and LocalDay(\"&$D$12&\")=\"&$F$4&\" and Barix(\"&$D$12&\",reference:=StartOfSession)=\"&A60&\"\", \"Bar\", \"\", \"Close\",\"5\",\"0\",\"PrimaryOnly\",,,\"False\",\"T\",\"EveryTick\")","v":163.69999999999999},2.2039916738091419E-3,{"$f":"RTD(\"cqg.rtd\",,\"StudyData\", \"Close(\"&$D$12&\") when LocalYear(\"&$D$12&\")=\"&$D$5&\" and localMonth(\"&$D$12&\") =\"&$E$5&\" and LocalDay(\"&$D$12&\")=\"&$F$5&\" and Barix(\"&$D$12&\",reference:=StartOfSession)=\"&A60&\"\", \"Bar\", \"\", \"Close\",\"5\",\"0\",\"PrimaryOnly\",,,\"False\",\"T\",\"EveryTick\")","v":162.78},3.8233843117908518E-3,{"$f":"RTD(\"cqg.rtd\",,\"StudyData\", \"Close(\"&$D$12&\") when LocalYear(\"&$D$12&\")=\"&$D$6&\" and localMonth(\"&$D$12&\") =\"&$E$6&\" and LocalDay(\"&$D$12&\")=\"&$F$6&\" and Barix(\"&$D$12&\",reference:=StartOfSession)=\"&A60&\"\", \"Bar\", \"\", \"Close\",\"5\",\"0\",\"PrimaryOnly\",,,\"False\",\"T\",\"EveryTick\")","v":162.16},9.7764493430474702E-3,{"$f":"RTD(\"cqg.rtd\",,\"StudyData\", \"Close(\"&$D$12&\") when LocalYear(\"&$D$12&\")=\"&$D$7&\" and localMonth(\"&$D$12&\") =\"&$E$7&\" and LocalDay(\"&$D$12&\")=\"&$F$7&\" and Barix(\"&$D$12&\",reference:=StartOfSession)=\"&A60&\"\", \"Bar\", \"\", \"Close\",\"5\",\"0\",\"PrimaryOnly\",,,\"False\",\"T\",\"EveryTick\")","v":159.83000000000001},9.4738836607086464E-3,{"$f":"RTD(\"cqg.rtd\",,\"StudyData\", \"Close(\"&$D$12&\") when LocalYear(\"&$D$12&\")=\"&$D$8&\" and localMonth(\"&$D$12&\") =\"&$E$8&\" and LocalDay(\"&$D$12&\")=\"&$F$8&\" and Barix(\"&$D$12&\",reference:=StartOfSession)=\"&A60&\"\", \"Bar\", \"\", \"Close\",\"5\",\"0\",\"PrimaryOnly\",,,\"False\",\"T\",\"EveryTick\")","v":""},{"$error":"#N/A"},{"$f":"RTD(\"cqg.rtd\",,\"StudyData\", \"Close(\"&$D$12&\") when LocalYear(\"&$D$12&\")=\"&$D$9&\" and localMonth(\"&$D$12&\") =\"&$E$9&\" and LocalDay(\"&$D$12&\")=\"&$F$9&\" and Barix(\"&$D$12&\",reference:=StartOfSession)=\"&A60&\"\", \"Bar\", \"\", \"Close\",\"5\",\"0\",\"PrimaryOnly\",,,\"False\",\"T\",\"EveryTick\")","v":159.4},5.9955822025876751E-3,{"$f":"RTD(\"cqg.rtd\",,\"StudyData\", \"Close(\"&$D$12&\") when LocalYear(\"&$D$12&\")=\"&$D$10&\" and localMonth(\"&$D$12&\") =\"&$E$10&\" and LocalDay(\"&$D$12&\")=\"&$F$10&\" and Barix(\"&$D$12&\",reference:=StartOfSession)=\"&A60&\"\", \"Bar\", \"\", \"Close\",\"5\",\"0\",\"PrimaryOnly\",,,\"False\",\"T\",\"EveryTick\")","v":159.32},7.461742759580163E-3,null,null,null,""]
[60,"13:30:00",-17,{"$f":" RTD(\"cqg.rtd\",,\"StudyData\", $D$12,  \"Tick\", \"FlatTicks=0\", \"Tick\",\"D\",C61,\"PrimaryOnly\")","v":165.34},null,null,null,{"$f":"RTD(\"cqg.rtd\",,\"StudyData\", \"Close(\"&$D$12&\") when LocalYear(\"&$D$12&\")=\"&$D$1&\" and localMonth(\"&$D$12&\") =\"&$E$1&\" and LocalDay(\"&$D$12&\")=\"&$F$1&\" and Barix(\"&$D$12&\",reference:=StartOfSession)=\"&A61&\"\", \"Bar\", \"\", \"Close\",\"5\",\"0\",\"PrimaryOnly\",,,\"False\",\"T\",\"EveryTick\")","v":""},{"$error":"#N/A"},{"$f":"RTD(\"cqg.rtd\",,\"StudyData\", \"Close(\"&$D$12&\") when LocalYear(\"&$D$12&\")=\"&$D$2&\" and localMonth(\"&$D$12&\") =\"&$E$2&\" and LocalDay(\"&$D$12&\")=\"&$F$2&\" and Barix(\"&$D$12&\",reference:=StartOfSession)=\"&A61&\"\", \"Bar\", \"\", \"Close\",\"5\",\"0\",\"PrimaryOnly\",,,\"False\",\"T\",\"EveryTick\")","v":165.4},1.7032527823894795E-2,{"$f":"RTD(\"cqg.rtd\",,\"StudyData\", \"Close(\"&$D$12&\") when LocalYear(\"&$D$12&\")=\"&$D$3&\" and localMonth(\"&$D$12&\") =\"&$E$3&\" and LocalDay(\"&$D$12&\")=\"&$F$3&\" and Barix(\"&$D$12&\",reference:=StartOfSession)=\"&A61&\"\", \"Bar\", \"\", \"Close\",\"5\",\"0\",\"PrimaryOnly\",,,\"False\",\"T\",\"EveryTick\")","v":162.88},-6.1020258725896998E-3,{"$f":"RTD(\"cqg.rtd\",,\"StudyData\", \"Close(\"&$D$12&\") when LocalYear(\"&$D$12&\")=\"&$D$4&\" and localMonth(\"&$D$12&\") =\"&$E$4&\" and LocalDay(\"&$D$12&\")=\"&$F$4&\" and Barix(\"&$D$12&\",reference:=StartOfSession)=\"&A61&\"\", \"Bar\", \"\", \"Close\",\"5\",\"0\",\"PrimaryOnly\",,,\"False\",\"T\",\"EveryTick\")","v":163.69999999999999},2.2039916738091419E-3,{"$f":"RTD(\"cqg.rtd\",,\"StudyData\", \"Close(\"&$D$12&\") when LocalYear(\"&$D$12&\")=\"&$D$5&\" and localMonth(\"&$D$12&\") =\"&$E$5&\" and LocalDay(\"&$D$12&\")=\"&$F$5&\" and Barix(\"&$D$12&\",reference:=StartOfSession)=\"&A61&\"\", \"Bar\", \"\", \"Close\",\"5\",\"0\",\"PrimaryOnly\",,,\"False\",\"T\",\"EveryTick\")","v":162.9},4.5633941785891037E-3,{"$f":"RTD(\"cqg.rtd\",,\"StudyData\", \"Close(\"&$D$12&\") when LocalYear(\"&$D$12&\")=\"&$D$6&\" and localMonth(\"&$D$12&\") =\"&$E$6&\" and LocalDay(\"&$D$12&\")=\"&$F$6&\" and Barix(\"&$D$12&\",reference:=StartOfSession)=\"&A61&\"\", \"Bar\", \"\", \"Close\",\"5\",\"0\",\"PrimaryOnly\",,,\"False\",\"T\",\"EveryTick\")","v":162.11000000000001},9.4650974531416045E-3,{"$f":"RTD(\"cqg.rtd\",,\"StudyData\", \"Close(\"&$D$12&\") when LocalYear(\"&$D$12&\")=\"&$D$7&\" and localMonth(\"&$D$12&\") =\"&$E$7&\" and LocalDay(\"&$D$12&\")=\"&$F$7&\" and Barix(\"&$D$12&\",reference:=StartOfSession)=\"&A61&\"\", \"Bar\", \"\", \"Close\",\"5\",\"0\",\"PrimaryOnly\",,,\"False\",\"T\",\"EveryTick\")","v":159.83000000000001},9.4738836607086464E-3,{"$f":"RTD(\"cqg.rtd\",,\"StudyData\", \"Close(\"&$D$12&\") when LocalYear(\"&$D$12&\")=\"&$D$8&\" and localMonth(\"&$D$12&\") =\"&$E$8&\" and LocalDay(\"&$D$12&\")=\"&$F$8&\" and Barix(\"&$D$12&\",reference:=StartOfSession)=\"&A61&\"\", \"Bar\", \"\", \"Close\",\"5\",\"0\",\"PrimaryOnly\",,,\"False\",\"T\",\"EveryTick\")","v":""},{"$error":"#N/A"},{"$f":"RTD(\"cqg.rtd\",,\"StudyData\", \"Close(\"&$D$12&\") when LocalYear(\"&$D$12&\")=\"&$D$9&\" and localMonth(\"&$D$12&\") =\"&$E$9&\" and LocalDay(\"&$D$12&\")=\"&$F$9&\" and Barix(\"&$D$12&\",reference:=StartOfSession)=\"&A61&\"\", \"Bar\", \"\", \"Close\",\"5\",\"0\",\"PrimaryOnly\",,,\"False\",\"T\",\"EveryTick\")","v":159.46},6.3742505522247986E-3,{"$f":"RTD(\"cqg.rtd\",,\"StudyData\", \"Close(\"&$D$12&\") when LocalYear(\"&$D$12&\")=\"&$D$10&\" and localMonth(\"&$D$12&\") =\"&$E$10&\" and LocalDay(\"&$D$12&\")=\"&$F$10&\" and Barix(\"&$D$12&\",reference:=StartOfSession)=\"&A61&\"\", \"Bar\", \"\", \"Close\",\"5\",\"0\",\"PrimaryOnly\",,,\"False\",\"T\",\"EveryTick\")","v":159.29},7.2720374351840505E-3,null,null,null,""]
[61,"13:35:00",-16,{"$f":" RTD(\"cqg.rtd\",,\"StudyData\", $D$12,  \"Tick\", \"FlatTicks=0\", \"Tick\",\"D\",C62,\"PrimaryOnly\")","v":165.36},null,null,null,{"$f":"RTD(\"cqg.rtd\",,\"StudyData\", \"Close(\"&$D$12&\") when LocalYear(\"&$D$12&\")=\"&$D$1&\" and localMonth(\"&$D$12&\") =\"&$E$1&\" and LocalDay(\"&$D$12&\")=\"&$F$1&\" and Barix(\"&$D$12&\",reference:=StartOfSession)=\"&A62&\"\", \"Bar\", \"\", \"Close\",\"5\",\"0\",\"PrimaryOnly\",,,\"False\",\"T\",\"EveryTick\")","v":""},{"$error":"#N/A"},{"$f":"RTD(\"cqg.rtd\",,\"StudyData\", \"Close(\"&$D$12&\") when LocalYear(\"&$D$12&\")=\"&$D$2&\" and localMonth(\"&$D$12&\") =\"&$E$2&\" and LocalDay(\"&$D$12&\")=\"&$F$2&\" and Barix(\"&$D$12&\",reference:=StartOfSession)=\"&A62&\"\", \"Bar\", \"\", \"Close\",\"5\",\"0\",\"PrimaryOnly\",,,\"False\",\"T\",\"EveryTick\")","v":165.5},1.7647420525118394E-2,{"$f":"RTD(\"cqg.rtd\",,\"StudyData\", \"Close(\"&$D$12&\") when LocalYear(\"&$D$12&\")=\"&$D$3&\" and localMonth(\"&$D$12&\") =\"&$E$3&\" and LocalDay(\"&$D$12&\")=\"&$F$3&\" and Barix(\"&$D$12&\",reference:=StartOfSession)=\"&A62&\"\", \"Bar\", \"\", \"Close\",\"5\",\"0\",\"PrimaryOnly\",,,\"False\",\"T\",\"EveryTick\")","v":162.83000000000001},-6.4071271662190805E-3,{"$f":"RTD(\"cqg.rtd\",,\"StudyData\", \"Close(\"&$D$12&\") when LocalYear(\"&$D$12&\")=\"&$D$4&\" and localMonth(\"&$D$12&\") =\"&$E$4&\" and LocalDay(\"&$D$12&\")=\"&$F$4&\" and Barix(\"&$D$12&\",reference:=StartOfSession)=\"&A62&\"\", \"Bar\", \"\", \"Close\",\"5\",\"0\",\"PrimaryOnly\",,,\"False\",\"T\",\"EveryTick\")","v":163.66999999999999},2.0203257009916986E-3,{"$f":"RTD(\"cqg.rtd\",,\"StudyData\", \"Close(\"&$D$12&\") when LocalYear(\"&$D$12&\")=\"&$D$5&\" and localMonth(\"&$D$12&\") =\"&$E$5&\" and LocalDay(\"&$D$12&\")=\"&$F$5&\" and Barix(\"&$D$12&\",reference:=StartOfSession)=\"&A62&\"\", \"Bar\", \"\", \"Close\",\"5\",\"0\",\"PrimaryOnly\",,,\"False\",\"T\",\"EveryTick\")","v":162.9},4.5633941785891037E-3,{"$f":"RTD(\"cqg.rtd\",,\"StudyData\", \"Close(\"&$D$12&\") when LocalYear(\"&$D$12&\")=\"&$D$6&\" and localMonth(\"&$D$12&\") =\"&$E$6&\" and LocalDay(\"&$D$12&\")=\"&$F$6&\" and Barix(\"&$D$12&\",reference:=StartOfSession)=\"&A62&\"\", \"Bar\", \"\", \"Close\",\"5\",\"0\",\"PrimaryOnly\",,,\"False\",\"T\",\"EveryTick\")","v":162.11000000000001},9.4650974531416045E-3,{"$f":"RTD(\"cqg.rtd\",,\"StudyData\", \"Close(\"&$D$12&\") when LocalYear(\"&$D$12&\")=\"&$D$7&\" and localMonth(\"&$D$12&\") =\"&$E$7&\" and LocalDay(\"&$D$12&\")=\"&$F$7&\" and Barix(\"&$D$12&\",reference:=StartOfSession)=\"&A62&\"\", \"Bar\", \"\", \"Close\",\"5\",\"0\",\"PrimaryOnly\",,,\"False\",\"T\",\"EveryTick\")","v":159.83000000000001},9.4738836607086464E-3,{"$f":"RTD(\"cqg.rtd\",,\"StudyData\", \"Close(\"&$D$12&\") when LocalYear(\"&$D$12&\")=\"&$D$8&\" and localMonth(\"&$D$12&\") =\"&$E$8&\" and LocalDay(\"&$D$12&\")=\"&$F$8&\" and Barix(\"&$D$12&\",reference:=StartOfSession)=\"&A62&\"\", \"Bar\", \"\", \"Close\",\"5\",\"0\",\"PrimaryOnly\",,,\"False\",\"T\",\"EveryTick\")","v":""},{"$error":"#N/A"},{"$f":"RTD(\"cqg.rtd\",,\"StudyData\", \"Close(\"&$D$12&\") when LocalYear(\"&$D$12&\")=\"&$D$9&\" and localMonth(\"&$D$12&\") =\"&$E$9&\" and LocalDay(\"&$D$12&\")=\"&$F$9&\" and Barix(\"&$D$12&\",reference:=StartOfSession)=\"&A62&\"\", \"Bar\", \"\", \"Close\",\"5\",\"0\",\"PrimaryOnly\",,,\"False\",\"T\",\"EveryTick\")","v":159.46},6.3742505522247986E-3,{"$f":"RTD(\"cqg.rtd\",,\"StudyData\", \"Close(\"&$D$12&\") when LocalYear(\"&$D$12&\")=\"&$D$10&\" and localMonth(\"&$D$12&\") =\"&$E$10&\" and LocalDay(\"&$D$12&\")=\"&$F$10&\" and Barix(\"&$D$12&\",reference:=StartOfSession)=\"&A62&\"\", \"Bar\", \"\", \"Close\",\"5\",\"0\",\"PrimaryOnly\",,,\"False\",\"T\",\"EveryTick\")","v":159.22},6.8293916782598491E-3,null,null,null,""]
[62,"13:40:00",-15,{"$f":" RTD(\"cqg.rtd\",,\"StudyData\", $D$12,  \"Tick\", \"FlatTicks=0\", \"Tick\",\"D\",C63,\"PrimaryOnly\")","v":165.39},null,null,null,{"$f":"RTD(\"cqg.rtd\",,\"StudyData\", \"Close(\"&$D$12&\") when LocalYear(\"&$D$12&\")=\"&$D$1&\" and localMonth(\"&$D$12&\") =\"&$E$1&\" and LocalDay(\"&$D$12&\")=\"&$F$1&\" and Barix(\"&$D$12&\",reference:=StartOfSession)=\"&A63&\"\", \"Bar\", \"\", \"Close\",\"5\",\"0\",\"PrimaryOnly\",,,\"False\",\"T\",\"EveryTick\")","v":""},{"$error":"#N/A"},{"$f":"RTD(\"cqg.rtd\",,\"StudyData\", \"Close(\"&$D$12&\") when LocalYear(\"&$D$12&\")=\"&$D$2&\" and localMonth(\"&$D$12&\") =\"&$E$2&\" and LocalDay(\"&$D$12&\")=\"&$F$2&\" and Barix(\"&$D$12&\",reference:=StartOfSession)=\"&A63&\"\", \"Bar\", \"\", \"Close\",\"5\",\"0\",\"PrimaryOnly\",,,\"False\",\"T\",\"EveryTick\")","v":165.34},1.6663592203160597E-2,{"$f":"RTD(\"cqg.rtd\",,\"StudyData\", \"Close(\"&$D$12&\") when LocalYear(\"&$D$12&\")=\"&$D$3&\" and localMonth(\"&$D$12&\") =\"&$E$3&\" and LocalDay(\"&$D$12&\")=\"&$F$3&\" and Barix(\"&$D$12&\",reference:=StartOfSession)=\"&A63&\"\", \"Bar\", \"\", \"Close\",\"5\",\"0\",\"PrimaryOnly\",,,\"False\",\"T\",\"EveryTick\")","v":162.83000000000001},-6.4071271662190805E-3,{"$f":"RTD(\"cqg.rtd\",,\"StudyData\", \"Close(\"&$D$12&\") when LocalYear(\"&$D$12&\")=\"&$D$4&\" and localMonth(\"&$D$12&\") =\"&$E$4&\" and LocalDay(\"&$D$12&\")=\"&$F$4&\" and Barix(\"&$D$12&\",reference:=StartOfSession)=\"&A63&\"\", \"Bar\", \"\", \"Close\",\"5\",\"0\",\"PrimaryOnly\",,,\"False\",\"T\",\"EveryTick\")","v":163.66},1.959103710052609E-3,{"$f":"RTD(\"cqg.rtd\",,\"StudyData\", \"Close(\"&$D$12&\") when LocalYear(\"&$D$12&\")=\"&$D$5&\" and localMonth(\"&$D$12&\") =\"&$E$5&\" and LocalDay(\"&$D$12&\")=\"&$F$5&\" and Barix(\"&$D$12&\",reference:=StartOfSession)=\"&A63&\"\", \"Bar\", \"\", \"Close\",\"5\",\"0\",\"PrimaryOnly\",,,\"False\",\"T\",\"EveryTick\")","v":162.9},4.5633941785891037E-3,{"$f":"RTD(\"cqg.rtd\",,\"StudyData\", \"Close(\"&$D$12&\") when LocalYear(\"&$D$12&\")=\"&$D$6&\" and localMonth(\"&$D$12&\") =\"&$E$6&\" and LocalDay(\"&$D$12&\")=\"&$F$6&\" and Barix(\"&$D$12&\",reference:=StartOfSession)=\"&A63&\"\", \"Bar\", \"\", \"Close\",\"5\",\"0\",\"PrimaryOnly\",,,\"False\",\"T\",\"EveryTick\")","v":162.11000000000001},9.4650974531416045E-3,{"$f":"RTD(\"cqg.rtd\",,\"StudyData\", \"Close(\"&$D$12&\") when LocalYear(\"&$D$12&\")=\"&$D$7&\" and localMonth(\"&$D$12&\") =\"&$E$7&\" and LocalDay(\"&$D$12&\")=\"&$F$7&\" and Barix(\"&$D$12&\",reference:=StartOfSession)=\"&A63&\"\", \"Bar\", \"\", \"Close\",\"5\",\"0\",\"PrimaryOnly\",,,\"False\",\"T\",\"EveryTick\")","v":159.97},1.0358112802374701E-2,{"$f":"RTD(\"cqg.rtd\",,\"StudyData\", \"Close(\"&$D$12&\") when LocalYear(\"&$D$12&\")=\"&$D$8&\" and localMonth(\"&$D$12&\") =\"&$E$8&\" and LocalDay(\"&$D$12&\")=\"&$F$8&\" and Barix(\"&$D$12&\",reference:=StartOfSession)=\"&A63&\"\", \"Bar\", \"\", \"Close\",\"5\",\"0\",\"PrimaryOnly\",,,\"False\",\"T\",\"EveryTick\")","v":""},{"$error":"#N/A"},{"$f":"RTD(\"cqg.rtd\",,\"StudyData\", \"Close(\"&$D$12&\") when LocalYear(\"&$D$12&\")=\"&$D$9&\" and localMonth(\"&$D$12&\") =\"&$E$9&\" and LocalDay(\"&$D$12&\")=\"&$F$9&\" and Barix(\"&$D$12&\",reference:=StartOfSession)=\"&A63&\"\", \"Bar\", \"\", \"Close\",\"5\",\"0\",\"PrimaryOnly\",,,\"False\",\"T\",\"EveryTick\")","v":159.46},6.3742505522247986E-3,{"$f":"RTD(\"cqg.rtd\",,\"StudyData\", \"Close(\"&$D$12&\") when LocalYear(\"&$D$12&\")=\"&$D$10&\" and localMonth(\"&$D$12&\") =\"&$E$10&\" and LocalDay(\"&$D$12&\")=\"&$F$10&\" and Barix(\"&$D$12&\",reference:=StartOfSession)=\"&A63&\"\", \"Bar\", \"\", \"Close\",\"5\",\"0\",\"PrimaryOnly\",,,\"False\",\"T\",\"EveryTick\")","v":159.19999999999999},6.7029214619957148E-3,null,null,null,""]
[63,"13:45:00",-14,{"$f":" RTD(\"cqg.rtd\",,\"StudyData\", $D$12,  \"Tick\", \"FlatTicks=0\", \"Tick\",\"D\",C64,\"PrimaryOnly\")","v":165.36},null,null,null,{"$f":"RTD(\"cqg.rtd\",,\"StudyData\", \"Close(\"&$D$12&\") when LocalYear(\"&$D$12&\")=\"&$D$1&\" and localMonth(\"&$D$12&\") =\"&$E$1&\" and LocalDay(\"&$D$12&\")=\"&$F$1&\" and Barix(\"&$D$12&\",reference:=StartOfSession)=\"&A64&\"\", \"Bar\", \"\", \"Close\",\"5\",\"0\",\"PrimaryOnly\",,,\"False\",\"T\",\"EveryTick\")","v":""},{"$error":"#N/A"},{"$f":"RTD(\"cqg.rtd\",,\"StudyData\", \"Close(\"&$D$12&\") when LocalYear(\"&$D$12&\")=\"&$D$2&\" and localMonth(\"&$D$12&\") =\"&$E$2&\" and LocalDay(\"&$D$12&\")=\"&$F$2&\" and Barix(\"&$D$12&\",reference:=StartOfSession)=\"&A64&\"\", \"Bar\", \"\", \"Close\",\"5\",\"0\",\"PrimaryOnly\",,,\"False\",\"T\",\"EveryTick\")","v":165.5},1.7647420525118394E-2,{"$f":"RTD(\"cqg.rtd\",,\"StudyData\", \"Close(\"&$D$12&\") when LocalYear(\"&$D$12&\")=\"&$D$3&\" and localMonth(\"&$D$12&\") =\"&$E$3&\" and LocalDay(\"&$D$12&\")=\"&$F$3&\" and Barix(\"&$D$12&\",reference:=StartOfSession)=\"&A64&\"\", \"Bar\", \"\", \"Close\",\"5\",\"0\",\"PrimaryOnly\",,,\"False\",\"T\",\"EveryTick\")","v":162.84},-6.3461069074932392E-3,{"$f":"RTD(\"cqg.rtd\",,\"StudyData\", \"Close(\"&$D$12&\") when LocalYear(\"&$D$12&\")=\"&$D$4&\" and localMonth(\"&$D$12&\") =\"&$E$4&\" and LocalDay(\"&$D$12&\")=\"&$F$4&\" and Barix(\"&$D$12&\",reference:=StartOfSession)=\"&A64&\"\", \"Bar\", \"\", \"Close\",\"5\",\"0\",\"PrimaryOnly\",,,\"False\",\"T\",\"EveryTick\")","v":163.66},1.959103710052609E-3,{"$f":"RTD(\"cqg.rtd\",,\"StudyData\", \"Close(\"&$D$12&\") when LocalYear(\"&$D$12&\")=\"&$D$5&\" and localMonth(\"&$D$12&\") =\"&$E$5&\" and LocalDay(\"&$D$12&\")=\"&$F$5&\" and Barix(\"&$D$12&\",reference:=StartOfSession)=\"&A64&\"\", \"Bar\", \"\", \"Close\",\"5\",\"0\",\"PrimaryOnly\",,,\"False\",\"T\",\"EveryTick\")","v":163.02000000000001},5.3034040453873565E-3,{"$f":"RTD(\"cqg.rtd\",,\"StudyData\", \"Close(\"&$D$12&\") when LocalYear(\"&$D$12&\")=\"&$D$6&\" and localMonth(\"&$D$12&\") =\"&$E$6&\" and LocalDay(\"&$D$12&\")=\"&$F$6&\" and Barix(\"&$D$12&\",reference:=StartOfSession)=\"&A64&\"\", \"Bar\", \"\", \"Close\",\"5\",\"0\",\"PrimaryOnly\",,,\"False\",\"T\",\"EveryTick\")","v":162.11000000000001},9.4650974531416045E-3,{"$f":"RTD(\"cqg.rtd\",,\"StudyData\", \"Close(\"&$D$12&\") when LocalYear(\"&$D$12&\")=\"&$D$7&\" and localMonth(\"&$D$12&\") =\"&$E$7&\" and LocalDay(\"&$D$12&\")=\"&$F$7&\" and Barix(\"&$D$12&\",reference:=StartOfSession)=\"&A64&\"\", \"Bar\", \"\", \"Close\",\"5\",\"0\",\"PrimaryOnly\",,,\"False\",\"T\",\"EveryTick\")","v":159.97},1.0358112802374701E-2,{"$f":"RTD(\"cqg.rtd\",,\"StudyData\", \"Close(\"&$D$12&\") when LocalYear(\"&$D$12&\")=\"&$D$8&\" and localMonth(\"&$D$12&\") =\"&$E$8&\" and LocalDay(\"&$D$12&\")=\"&$F$8&\" and Barix(\"&$D$12&\",reference:=StartOfSession)=\"&A64&\"\", \"Bar\", \"\", \"Close\",\"5\",\"0\",\"PrimaryOnly\",,,\"False\",\"T\",\"EveryTick\")","v":""},{"$error":"#N/A"},{"$f":"RTD(\"cqg.rtd\",,\"StudyData\", \"Close(\"&$D$12&\") when LocalYear(\"&$D$12&\")=\"&$D$9&\" and localMonth(\"&$D$12&\") =\"&$E$9&\" and LocalDay(\"&$D$12&\")=\"&$F$9&\" and Barix(\"&$D$12&\",reference:=StartOfSession)=\"&A64&\"\", \"Bar\", \"\", \"Close\",\"5\",\"0\",\"PrimaryOnly\",,,\"False\",\"T\",\"EveryTick\")","v":159.21},4.7964657620701758E-3,{"$f":"RTD(\"cqg.rtd\",,\"StudyData\", \"Close(\"&$D$12&\") when LocalYear(\"&$D$12&\")=\"&$D$10&\" and localMonth(\"&$D$12&\") =\"&$E$10&\" and LocalDay(\"&$D$12&\")=\"&$F$10&\" and Barix(\"&$D$12&\",reference:=StartOfSession)=\"&A64&\"\", \"Bar\", \"\", \"Close\",\"5\",\"0\",\"PrimaryOnly\",,,\"False\",\"T\",\"EveryTick\")","v":159.30000000000001},7.3352725433162074E-3,null,null,null,""]
[64,"13:50:00",-13,{"$f":" RTD(\"cqg.rtd\",,\"StudyData\", $D$12,  \"Tick\", \"FlatTicks=0\", \"Tick\",\"D\",C65,\"PrimaryOnly\")","v":165.41},null,null,null,{"$f":"RTD(\"cqg.rtd\",,\"StudyData\", \"Close(\"&$D$12&\") when LocalYear(\"&$D$12&\")=\"&$D$1&\" and localMonth(\"&$D$12&\") =\"&$E$1&\" and LocalDay(\"&$D$12&\")=\"&$F$1&\" and Barix(\"&$D$12&\",reference:=StartOfSession)=\"&A65&\"\", \"Bar\", \"\", \"Close\",\"5\",\"0\",\"PrimaryOnly\",,,\"False\",\"T\",\"EveryTick\")","v":""},{"$error":"#N/A"},{"$f":"RTD(\"cqg.rtd\",,\"StudyData\", \"Close(\"&$D$12&\") when LocalYear(\"&$D$12&\")=\"&$D$2&\" and localMonth(\"&$D$12&\") =\"&$E$2&\" and LocalDay(\"&$D$12&\")=\"&$F$2&\" and Barix(\"&$D$12&\",reference:=StartOfSession)=\"&A65&\"\", \"Bar\", \"\", \"Close\",\"5\",\"0\",\"PrimaryOnly\",,,\"False\",\"T\",\"EveryTick\")","v":165.54},1.7893377605607802E-2,{"$f":"RTD(\"cqg.rtd\",,\"StudyData\", \"Close(\"&$D$12&\") when LocalYear(\"&$D$12&\")=\"&$D$3&\" and localMonth(\"&$D$12&\") =\"&$E$3&\" and LocalDay(\"&$D$12&\")=\"&$F$3&\" and Barix(\"&$D$12&\",reference:=StartOfSession)=\"&A65&\"\", \"Bar\", \"\", \"Close\",\"5\",\"0\",\"PrimaryOnly\",,,\"False\",\"T\",\"EveryTick\")","v":162.83000000000001},-6.4071271662190805E-3,{"$f":"RTD(\"cqg.rtd\",,\"StudyData\", \"Close(\"&$D$12&\") when LocalYear(\"&$D$12&\")=\"&$D$4&\" and localMonth(\"&$D$12&\") =\"&$E$4&\" and LocalDay(\"&$D$12&\")=\"&$F$4&\" and Barix(\"&$D$12&\",reference:=StartOfSession)=\"&A65&\"\", \"Bar\", \"\", \"Close\",\"5\",\"0\",\"PrimaryOnly\",,,\"False\",\"T\",\"EveryTick\")","v":163.66},1.959103710052609E-3,{"$f":"RTD(\"cqg.rtd\",,\"StudyData\", \"Close(\"&$D$12&\") when LocalYear(\"&$D$12&\")=\"&$D$5&\" and localMonth(\"&$D$12&\") =\"&$E$5&\" and LocalDay(\"&$D$12&\")=\"&$F$5&\" and Barix(\"&$D$12&\",reference:=StartOfSession)=\"&A65&\"\", \"Bar\", \"\", \"Close\",\"5\",\"0\",\"PrimaryOnly\",,,\"False\",\"T\",\"EveryTick\")","v":163.03},5.3650715342871517E-3,{"$f":"RTD(\"cqg.rtd\",,\"StudyData\", \"Close(\"&$D$12&\") when LocalYear(\"&$D$12&\")=\"&$D$6&\" and localMonth(\"&$D$12&\") =\"&$E$6&\" and LocalDay(\"&$D$12&\")=\"&$F$6&\" and Barix(\"&$D$12&\",reference:=StartOfSession)=\"&A65&\"\", \"Bar\", \"\", \"Close\",\"5\",\"0\",\"PrimaryOnly\",,,\"False\",\"T\",\"EveryTick\")","v":162.11000000000001},9.4650974531416045E-3,{"$f":"RTD(\"cqg.rtd\",,\"StudyData\", \"Close(\"&$D$12&\") when LocalYear(\"&$D$12&\")=\"&$D$7&\" and localMonth(\"&$D$12&\") =\"&$E$7&\" and LocalDay(\"&$D$12&\")=\"&$F$7&\" and Barix(\"&$D$12&\",reference:=StartOfSession)=\"&A65&\"\", \"Bar\", \"\", \"Close\",\"5\",\"0\",\"PrimaryOnly\",,,\"False\",\"T\",\"EveryTick\")","v":159.97},1.0358112802374701E-2,{"$f":"RTD(\"cqg.rtd\",,\"StudyData\", \"Close(\"&$D$12&\") when LocalYear(\"&$D$12&\")=\"&$D$8&\" and localMonth(\"&$D$12&\") =\"&$E$8&\" and LocalDay(\"&$D$12&\")=\"&$F$8&\" and Barix(\"&$D$12&\",reference:=StartOfSession)=\"&A65&\"\", \"Bar\", \"\", \"Close\",\"5\",\"0\",\"PrimaryOnly\",,,\"False\",\"T\",\"EveryTick\")","v":""},{"$error":"#N/A"},{"$f":"RTD(\"cqg.rtd\",,\"StudyData\", \"Close(\"&$D$12&\") when LocalYear(\"&$D$12&\")=\"&$D$9&\" and localMonth(\"&$D$12&\") =\"&$E$9&\" and LocalDay(\"&$D$12&\")=\"&$F$9&\" and Barix(\"&$D$12&\",reference:=StartOfSession)=\"&A65&\"\", \"Bar\", \"\", \"Close\",\"5\",\"0\",\"PrimaryOnly\",,,\"False\",\"T\",\"EveryTick\")","v":159.15},4.4177974124330523E-3,{"$f":"RTD(\"cqg.rtd\",,\"StudyData\", \"Close(\"&$D$12&\") when LocalYear(\"&$D$12&\")=\"&$D$10&\" and localMonth(\"&$D$12&\") =\"&$E$10&\" and LocalDay(\"&$D$12&\")=\"&$F$10&\" and Barix(\"&$D$12&\",reference:=StartOfSession)=\"&A65&\"\", \"Bar\", \"\", \"Close\",\"5\",\"0\",\"PrimaryOnly\",,,\"False\",\"T\",\"EveryTick\")","v":159.31},7.3985076514481857E-3,null,null,null,""]
[65,"13:55:00",-12,{"$f":" RTD(\"cqg.rtd\",,\"StudyData\", $D$12,  \"Tick\", \"FlatTicks=0\", \"Tick\",\"D\",C66,\"PrimaryOnly\")","v":165.56},null,null,null,{"$f":"RTD(\"cqg.rtd\",,\"StudyData\", \"Close(\"&$D$12&\") when LocalYear(\"&$D$12&\")=\"&$D$1&\" and localMonth(\"&$D$12&\") =\"&$E$1&\" and LocalDay(\"&$D$12&\")=\"&$F$1&\" and Barix(\"&$D$12&\",reference:=StartOfSession)=\"&A66&\"\", \"Bar\", \"\", \"Close\",\"5\",\"0\",\"PrimaryOnly\",,,\"False\",\"T\",\"EveryTick\")","v":""},{"$error":"#N/A"},{"$f":"RTD(\"cqg.rtd\",,\"StudyData\", \"Close(\"&$D$12&\") when LocalYear(\"&$D$12&\")=\"&$D$2&\" and localMonth(\"&$D$12&\") =\"&$E$2&\" and LocalDay(\"&$D$12&\")=\"&$F$2&\" and Barix(\"&$D$12&\",reference:=StartOfSession)=\"&A66&\"\", \"Bar\", \"\", \"Close\",\"5\",\"0\",\"PrimaryOnly\",,,\"False\",\"T\",\"EveryTick\")","v":165.58},{"$f":"IFERROR((J66-$G$3)/$G$3,NA())","v":1.813933468609738E-2},{"$f":"RTD(\"cqg.rtd\",,\"StudyData\", \"Close(\"&$D$12&\") when LocalYear(\"&$D$12&\")=\"&$D$3&\" and localMonth(\"&$D$12&\") =\"&$E$3&\" and LocalDay(\"&$D$12&\")=\"&$F$3&\" and Barix(\"&$D$12&\",reference:=StartOfSession)=\"&A66&\"\", \"Bar\", \"\", \"Close\",\"5\",\"0\",\"PrimaryOnly\",,,\"False\",\"T\",\"EveryTick\")","v":162.80000000000001},{"$f":"IFERROR((L66-$G$4)/$G$4,NA())","v":-6.5901879423967786E-3},{"$f":"RTD(\"cqg.rtd\",,\"StudyData\", \"Close(\"&$D$12&\") when LocalYear(\"&$D$12&\")=\"&$D$4&\" and localMonth(\"&$D$12&\") =\"&$E$4&\" and LocalDay(\"&$D$12&\")=\"&$F$4&\" and Barix(\"&$D$12&\",reference:=StartOfSession)=\"&A66&\"\", \"Bar\", \"\", \"Close\",\"5\",\"0\",\"PrimaryOnly\",,,\"False\",\"T\",\"EveryTick\")","v":163.80000000000001},{"$f":"IFERROR((N66-$G$5)/$G$5,NA())","v":2.8162115832007346E-3},{"$f":"RTD(\"cqg.rtd\",,\"StudyData\", \"Close(\"&$D$12&\") when LocalYear(\"&$D$12&\")=\"&$D$5&\" and localMonth(\"&$D$12&\") =\"&$E$5&\" and LocalDay(\"&$D$12&\")=\"&$F$5&\" and Barix(\"&$D$12&\",reference:=StartOfSession)=\"&A66&\"\", \"Bar\", \"\", \"Close\",\"5\",\"0\",\"PrimaryOnly\",,,\"False\",\"T\",\"EveryTick\")","v":163.16999999999999},{"$f":"IFERROR((P66-$G$6)/$G$6,NA())","v":6.2284163788849959E-3},{"$f":"RTD(\"cqg.rtd\",,\"StudyData\", \"Close(\"&$D$12&\") when LocalYear(\"&$D$12&\")=\"&$D$6&\" and localMonth(\"&$D$12&\") =\"&$E$6&\" and LocalDay(\"&$D$12&\")=\"&$F$6&\" and Barix(\"&$D$12&\",reference:=StartOfSession)=\"&A66&\"\", \"Bar\", \"\", \"Close\",\"5\",\"0\",\"PrimaryOnly\",,,\"False\",\"T\",\"EveryTick\")","v":162.22999999999999},{"$f":"IFERROR((R66-$G$7)/$G$7,NA())","v":1.0212341988915788E-2},{"$f":"RTD(\"cqg.rtd\",,\"StudyData\", \"Close(\"&$D$12&\") when LocalYear(\"&$D$12&\")=\"&$D$7&\" and localMonth(\"&$D$12&\") =\"&$E$7&\" and LocalDay(\"&$D$12&\")=\"&$F$7&\" and Barix(\"&$D$12&\",reference:=StartOfSession)=\"&A66&\"\", \"Bar\", \"\", \"Close\",\"5\",\"0\",\"PrimaryOnly\",,,\"False\",\"T\",\"EveryTick\")","v":160.16999999999999},{"$f":"IFERROR((T66-$G$8)/$G$8,NA())","v":1.1621297290469115E-2},{"$f":"RTD(\"cqg.rtd\",,\"StudyData\", \"Close(\"&$D$12&\") when LocalYear(\"&$D$12&\")=\"&$D$8&\" and localMonth(\"&$D$12&\") =\"&$E$8&\" and LocalDay(\"&$D$12&\")=\"&$F$8&\" and Barix(\"&$D$12&\",reference:=StartOfSession)=\"&A66&\"\", \"Bar\", \"\", \"Close\",\"5\",\"0\",\"PrimaryOnly\",,,\"False\",\"T\",\"EveryTick\")","v":""},{"$f":"IFERROR((V66-$G$9)/$G$9,NA())","v":{"$error":"#N/A"}},{"$f":"RTD(\"cqg.rtd\",,\"StudyData\", \"Close(\"&$D$12&\") when LocalYear(\"&$D$12&\")=\"&$D$9&\" and localMonth(\"&$D$12&\") =\"&$E$9&\" and LocalDay(\"&$D$12&\")=\"&$F$9&\" and Barix(\"&$D$12&\",reference:=StartOfSession)=\"&A66&\"\", \"Bar\", \"\", \"Close\",\"5\",\"0\",\"PrimaryOnly\",,,\"False\",\"T\",\"EveryTick\")","v":159.13},{"$f":"IFERROR((X66-$G$10)/$G$10,NA())","v":4.2915746292206177E-3},{"$f":"RTD(\"cqg.rtd\",,\"StudyData\", \"Close(\"&$D$12&\") when LocalYear(\"&$D$12&\")=\"&$D$10&\" and localMonth(\"&$D$12&\") =\"&$E$10&\" and LocalDay(\"&$D$12&\")=\"&$F$10&\" and Barix(\"&$D$12&\",reference:=StartOfSession)=\"&A66&\"\", \"Bar\", \"\", \"Close\",\"5\",\"0\",\"PrimaryOnly\",,,\"False\",\"T\",\"EveryTick\")","v":159.44},{"$f":"IFERROR((Z66-$G$11)/$G$11,NA())","v":8.2205640571646095E-3},null,null,null,""]
[{"$f":"A66+1","v":66},"14:00:00",-11,{"$f":" RTD(\"cqg.rtd\",,\"StudyData\", $D$12,  \"Tick\", \"FlatTicks=0\", \"Tick\",\"D\",C67,\"PrimaryOnly\")","v":165.52},null,null,null,{"$f":"RTD(\"cqg.rtd\",,\"StudyData\", \"Close(\"&$D$12&\") when LocalYear(\"&$D$12&\")=\"&$D$1&\" and localMonth(\"&$D$12&\") =\"&$E$1&\" and LocalDay(\"&$D$12&\")=\"&$F$1&\" and Barix(\"&$D$12&\",reference:=StartOfSession)=\"&A67&\"\", \"Bar\", \"\", \"Close\",\"5\",\"0\",\"PrimaryOnly\",,,\"False\",\"T\",\"EveryTick\")","v":""},{"$f":"IFERROR((H67-$G$2)/$G$2,NA())","v":{"$error":"#N/A"}},{"$f":"RTD(\"cqg.rtd\",,\"StudyData\", \"Close(\"&$D$12&\") when LocalYear(\"&$D$12&\")=\"&$D$2&\" and localMonth(\"&$D$12&\") =\"&$E$2&\" and LocalDay(\"&$D$12&\")=\"&$F$2&\" and Barix(\"&$D$12&\",reference:=StartOfSession)=\"&A67&\"\", \"Bar\", \"\", \"Close\",\"5\",\"0\",\"PrimaryOnly\",,,\"False\",\"T\",\"EveryTick\")","v":165.68},1.8754227387320983E-2,{"$f":"RTD(\"cqg.rtd\",,\"StudyData\", \"Close(\"&$D$12&\") when LocalYear(\"&$D$12&\")=\"&$D$3&\" and localMonth(\"&$D$12&\") =\"&$E$3&\" and LocalDay(\"&$D$12&\")=\"&$F$3&\" and Barix(\"&$D$12&\",reference:=StartOfSession)=\"&A67&\"\", \"Bar\", \"\", \"Close\",\"5\",\"0\",\"PrimaryOnly\",,,\"False\",\"T\",\"EveryTick\")","v":162.82},-6.4681474249450961E-3,{"$f":"RTD(\"cqg.rtd\",,\"StudyData\", \"Close(\"&$D$12&\") when LocalYear(\"&$D$12&\")=\"&$D$4&\" and localMonth(\"&$D$12&\") =\"&$E$4&\" and LocalDay(\"&$D$12&\")=\"&$F$4&\" and Barix(\"&$D$12&\",reference:=StartOfSession)=\"&A67&\"\", \"Bar\", \"\", \"Close\",\"5\",\"0\",\"PrimaryOnly\",,,\"False\",\"T\",\"EveryTick\")","v":163.80000000000001},2.8162115832007346E-3,{"$f":"RTD(\"cqg.rtd\",,\"StudyData\", \"Close(\"&$D$12&\") when LocalYear(\"&$D$12&\")=\"&$D$5&\" and localMonth(\"&$D$12&\") =\"&$E$5&\" and LocalDay(\"&$D$12&\")=\"&$F$5&\" and Barix(\"&$D$12&\",reference:=StartOfSession)=\"&A67&\"\", \"Bar\", \"\", \"Close\",\"5\",\"0\",\"PrimaryOnly\",,,\"False\",\"T\",\"EveryTick\")","v":163.13999999999999},6.0434139121854332E-3,{"$f":"RTD(\"cqg.rtd\",,\"StudyData\", \"Close(\"&$D$12&\") when LocalYear(\"&$D$12&\")=\"&$D$6&\" and localMonth(\"&$D$12&\") =\"&$E$6&\" and LocalDay(\"&$D$12&\")=\"&$F$6&\" and Barix(\"&$D$12&\",reference:=StartOfSession)=\"&A67&\"\", \"Bar\", \"\", \"Close\",\"5\",\"0\",\"PrimaryOnly\",,,\"False\",\"T\",\"EveryTick\")","v":162.22999999999999},1.0212341988915788E-2,{"$f":"RTD(\"cqg.rtd\",,\"StudyData\", \"Close(\"&$D$12&\") when LocalYear(\"&$D$12&\")=\"&$D$7&\" and localMonth(\"&$D$12&\") =\"&$E$7&\" and LocalDay(\"&$D$12&\")=\"&$F$7&\" and Barix(\"&$D$12&\",reference:=StartOfSession)=\"&A67&\"\", \"Bar\", \"\", \"Close\",\"5\",\"0\",\"PrimaryOnly\",,,\"False\",\"T\",\"EveryTick\")","v":160.32},1.2568685656540015E-2,{"$f":"RTD(\"cqg.rtd\",,\"StudyData\", \"Close(\"&$D$12&\") when LocalYear(\"&$D$12&\")=\"&$D$8&\" and localMonth(\"&$D$12&\") =\"&$E$8&\" and LocalDay(\"&$D$12&\")=\"&$F$8&\" and Barix(\"&$D$12&\",reference:=StartOfSession)=\"&A67&\"\", \"Bar\", \"\", \"Close\",\"5\",\"0\",\"PrimaryOnly\",,,\"False\",\"T\",\"EveryTick\")","v":""},{"$error":"#N/A"},{"$f":"RTD(\"cqg.rtd\",,\"StudyData\", \"Close(\"&$D$12&\") when LocalYear(\"&$D$12&\")=\"&$D$9&\" and localMonth(\"&$D$12&\") =\"&$E$9&\" and LocalDay(\"&$D$12&\")=\"&$F$9&\" and Barix(\"&$D$12&\",reference:=StartOfSession)=\"&A67&\"\", \"Bar\", \"\", \"Close\",\"5\",\"0\",\"PrimaryOnly\",,,\"False\",\"T\",\"EveryTick\")","v":159.08000000000001},3.9760176711898009E-3,{"$f":"RTD(\"cqg.rtd\",,\"StudyData\", \"Close(\"&$D$12&\") when LocalYear(\"&$D$12&\")=\"&$D$10&\" and localMonth(\"&$D$12&\") =\"&$E$10&\" and LocalDay(\"&$D$12&\")=\"&$F$10&\" and Barix(\"&$D$12&\",reference:=StartOfSession)=\"&A67&\"\", \"Bar\", \"\", \"Close\",\"5\",\"0\",\"PrimaryOnly\",,,\"False\",\"T\",\"EveryTick\")","v":159.5},8.5999747059568345E-3,null,null,null,{"$f":"IF(AND(H66<>\"\",H67<>\"\",H68=\"\"),A67,\"\")","v":""}]
[67,"14:05:00",-10,{"$f":" RTD(\"cqg.rtd\",,\"StudyData\", $D$12,  \"Tick\", \"FlatTicks=0\", \"Tick\",\"D\",C68,\"PrimaryOnly\")","v":165.55},null,null,null,{"$f":"RTD(\"cqg.rtd\",,\"StudyData\", \"Close(\"&$D$12&\") when LocalYear(\"&$D$12&\")=\"&$D$1&\" and localMonth(\"&$D$12&\") =\"&$E$1&\" and LocalDay(\"&$D$12&\")=\"&$F$1&\" and Barix(\"&$D$12&\",reference:=StartOfSession)=\"&A68&\"\", \"Bar\", \"\", \"Close\",\"5\",\"0\",\"PrimaryOnly\",,,\"False\",\"T\",\"EveryTick\")","v":""},{"$error":"#N/A"},{"$f":"RTD(\"cqg.rtd\",,\"StudyData\", \"Close(\"&$D$12&\") when LocalYear(\"&$D$12&\")=\"&$D$2&\" and localMonth(\"&$D$12&\") =\"&$E$2&\" and LocalDay(\"&$D$12&\")=\"&$F$2&\" and Barix(\"&$D$12&\",reference:=StartOfSession)=\"&A68&\"\", \"Bar\", \"\", \"Close\",\"5\",\"0\",\"PrimaryOnly\",,,\"False\",\"T\",\"EveryTick\")","v":165.73},1.9061673737932695E-2,{"$f":"RTD(\"cqg.rtd\",,\"StudyData\", \"Close(\"&$D$12&\") when LocalYear(\"&$D$12&\")=\"&$D$3&\" and localMonth(\"&$D$12&\") =\"&$E$3&\" and LocalDay(\"&$D$12&\")=\"&$F$3&\" and Barix(\"&$D$12&\",reference:=StartOfSession)=\"&A68&\"\", \"Bar\", \"\", \"Close\",\"5\",\"0\",\"PrimaryOnly\",,,\"False\",\"T\",\"EveryTick\")","v":162.87},-6.1630461313155411E-3,{"$f":"RTD(\"cqg.rtd\",,\"StudyData\", \"Close(\"&$D$12&\") when LocalYear(\"&$D$12&\")=\"&$D$4&\" and localMonth(\"&$D$12&\") =\"&$E$4&\" and LocalDay(\"&$D$12&\")=\"&$F$4&\" and Barix(\"&$D$12&\",reference:=StartOfSession)=\"&A68&\"\", \"Bar\", \"\", \"Close\",\"5\",\"0\",\"PrimaryOnly\",,,\"False\",\"T\",\"EveryTick\")","v":163.80000000000001},2.8162115832007346E-3,{"$f":"RTD(\"cqg.rtd\",,\"StudyData\", \"Close(\"&$D$12&\") when LocalYear(\"&$D$12&\")=\"&$D$5&\" and localMonth(\"&$D$12&\") =\"&$E$5&\" and LocalDay(\"&$D$12&\")=\"&$F$5&\" and Barix(\"&$D$12&\",reference:=StartOfSession)=\"&A68&\"\", \"Bar\", \"\", \"Close\",\"5\",\"0\",\"PrimaryOnly\",,,\"False\",\"T\",\"EveryTick\")","v":163.1},5.7967439565860743E-3,{"$f":"RTD(\"cqg.rtd\",,\"StudyData\", \"Close(\"&$D$12&\") when LocalYear(\"&$D$12&\")=\"&$D$6&\" and localMonth(\"&$D$12&\") =\"&$E$6&\" and LocalDay(\"&$D$12&\")=\"&$F$6&\" and Barix(\"&$D$12&\",reference:=StartOfSession)=\"&A68&\"\", \"Bar\", \"\", \"Close\",\"5\",\"0\",\"PrimaryOnly\",,,\"False\",\"T\",\"EveryTick\")","v":162.21},1.0087801232953513E-2,{"$f":"RTD(\"cqg.rtd\",,\"StudyData\", \"Close(\"&$D$12&\") when LocalYear(\"&$D$12&\")=\"&$D$7&\" and localMonth(\"&$D$12&\") =\"&$E$7&\" and LocalDay(\"&$D$12&\")=\"&$F$7&\" and Barix(\"&$D$12&\",reference:=StartOfSession)=\"&A68&\"\", \"Bar\", \"\", \"Close\",\"5\",\"0\",\"PrimaryOnly\",,,\"False\",\"T\",\"EveryTick\")","v":160.28},1.2316048758921167E-2,{"$f":"RTD(\"cqg.rtd\",,\"StudyData\", \"Close(\"&$D$12&\") when LocalYear(\"&$D$12&\")=\"&$D$8&\" and localMonth(\"&$D$12&\") =\"&$E$8&\" and LocalDay(\"&$D$12&\")=\"&$F$8&\" and Barix(\"&$D$12&\",reference:=StartOfSession)=\"&A68&\"\", \"Bar\", \"\", \"Close\",\"5\",\"0\",\"PrimaryOnly\",,,\"False\",\"T\",\"EveryTick\")","v":""},{"$error":"#N/A"},{"$f":"RTD(\"cqg.rtd\",,\"StudyData\", \"Close(\"&$D$12&\") when LocalYear(\"&$D$12&\")=\"&$D$9&\" and localMonth(\"&$D$12&\") =\"&$E$9&\" and LocalDay(\"&$D$12&\")=\"&$F$9&\" and Barix(\"&$D$12&\",reference:=StartOfSession)=\"&A68&\"\", \"Bar\", \"\", \"Close\",\"5\",\"0\",\"PrimaryOnly\",,,\"False\",\"T\",\"EveryTick\")","v":159.06},3.8497948879773662E-3,{"$f":"RTD(\"cqg.rtd\",,\"StudyData\", \"Close(\"&$D$12&\") when LocalYear(\"&$D$12&\")=\"&$D$10&\" and localMonth(\"&$D$12&\") =\"&$E$10&\" and LocalDay(\"&$D$12&\")=\"&$F$10&\" and Barix(\"&$D$12&\",reference:=StartOfSession)=\"&A68&\"\", \"Bar\", \"\", \"Close\",\"5\",\"0\",\"PrimaryOnly\",,,\"False\",\"T\",\"EveryTick\")","v":159.44},8.2205640571646095E-3,null,null,null,""]
[68,"14:10:00",-9,{"$f":" RTD(\"cqg.rtd\",,\"StudyData\", $D$12,  \"Tick\", \"FlatTicks=0\", \"Tick\",\"D\",C69,\"PrimaryOnly\")","v":165.63},null,null,null,{"$f":"RTD(\"cqg.rtd\",,\"StudyData\", \"Close(\"&$D$12&\") when LocalYear(\"&$D$12&\")=\"&$D$1&\" and localMonth(\"&$D$12&\") =\"&$E$1&\" and LocalDay(\"&$D$12&\")=\"&$F$1&\" and Barix(\"&$D$12&\",reference:=StartOfSession)=\"&A69&\"\", \"Bar\", \"\", \"Close\",\"5\",\"0\",\"PrimaryOnly\",,,\"False\",\"T\",\"EveryTick\")","v":""},{"$error":"#N/A"},{"$f":"RTD(\"cqg.rtd\",,\"StudyData\", \"Close(\"&$D$12&\") when LocalYear(\"&$D$12&\")=\"&$D$2&\" and localMonth(\"&$D$12&\") =\"&$E$2&\" and LocalDay(\"&$D$12&\")=\"&$F$2&\" and Barix(\"&$D$12&\",reference:=StartOfSession)=\"&A69&\"\", \"Bar\", \"\", \"Close\",\"5\",\"0\",\"PrimaryOnly\",,,\"False\",\"T\",\"EveryTick\")","v":165.69},1.881571665744329E-2,{"$f":"RTD(\"cqg.rtd\",,\"StudyData\", \"Close(\"&$D$12&\") when LocalYear(\"&$D$12&\")=\"&$D$3&\" and localMonth(\"&$D$12&\") =\"&$E$3&\" and LocalDay(\"&$D$12&\")=\"&$F$3&\" and Barix(\"&$D$12&\",reference:=StartOfSession)=\"&A69&\"\", \"Bar\", \"\", \"Close\",\"5\",\"0\",\"PrimaryOnly\",,,\"False\",\"T\",\"EveryTick\")","v":162.9},-5.9799853551378438E-3,{"$f":"RTD(\"cqg.rtd\",,\"StudyData\", \"Close(\"&$D$12&\") when LocalYear(\"&$D$12&\")=\"&$D$4&\" and localMonth(\"&$D$12&\") =\"&$E$4&\" and LocalDay(\"&$D$12&\")=\"&$F$4&\" and Barix(\"&$D$12&\",reference:=StartOfSession)=\"&A69&\"\", \"Bar\", \"\", \"Close\",\"5\",\"0\",\"PrimaryOnly\",,,\"False\",\"T\",\"EveryTick\")","v":163.87},3.24476551977471E-3,{"$f":"RTD(\"cqg.rtd\",,\"StudyData\", \"Close(\"&$D$12&\") when LocalYear(\"&$D$12&\")=\"&$D$5&\" and localMonth(\"&$D$12&\") =\"&$E$5&\" and LocalDay(\"&$D$12&\")=\"&$F$5&\" and Barix(\"&$D$12&\",reference:=StartOfSession)=\"&A69&\"\", \"Bar\", \"\", \"Close\",\"5\",\"0\",\"PrimaryOnly\",,,\"False\",\"T\",\"EveryTick\")","v":163.1},5.7967439565860743E-3,{"$f":"RTD(\"cqg.rtd\",,\"StudyData\", \"Close(\"&$D$12&\") when LocalYear(\"&$D$12&\")=\"&$D$6&\" and localMonth(\"&$D$12&\") =\"&$E$6&\" and LocalDay(\"&$D$12&\")=\"&$F$6&\" and Barix(\"&$D$12&\",reference:=StartOfSession)=\"&A69&\"\", \"Bar\", \"\", \"Close\",\"5\",\"0\",\"PrimaryOnly\",,,\"False\",\"T\",\"EveryTick\")","v":162.21},1.0087801232953513E-2,{"$f":"RTD(\"cqg.rtd\",,\"StudyData\", \"Close(\"&$D$12&\") when LocalYear(\"&$D$12&\")=\"&$D$7&\" and localMonth(\"&$D$12&\") =\"&$E$7&\" and LocalDay(\"&$D$12&\")=\"&$F$7&\" and Barix(\"&$D$12&\",reference:=StartOfSession)=\"&A69&\"\", \"Bar\", \"\", \"Close\",\"5\",\"0\",\"PrimaryOnly\",,,\"False\",\"T\",\"EveryTick\")","v":160.24},1.2063411861302321E-2,{"$f":"RTD(\"cqg.rtd\",,\"StudyData\", \"Close(\"&$D$12&\") when LocalYear(\"&$D$12&\")=\"&$D$8&\" and localMonth(\"&$D$12&\") =\"&$E$8&\" and LocalDay(\"&$D$12&\")=\"&$F$8&\" and Barix(\"&$D$12&\",reference:=StartOfSession)=\"&A69&\"\", \"Bar\", \"\", \"Close\",\"5\",\"0\",\"PrimaryOnly\",,,\"False\",\"T\",\"EveryTick\")","v":""},{"$error":"#N/A"},{"$f":"RTD(\"cqg.rtd\",,\"StudyData\", \"Close(\"&$D$12&\") when LocalYear(\"&$D$12&\")=\"&$D$9&\" and localMonth(\"&$D$12&\") =\"&$E$9&\" and LocalDay(\"&$D$12&\")=\"&$F$9&\" and Barix(\"&$D$12&\",reference:=StartOfSession)=\"&A69&\"\", \"Bar\", \"\", \"Close\",\"5\",\"0\",\"PrimaryOnly\",,,\"False\",\"T\",\"EveryTick\")","v":159.06},3.8497948879773662E-3,{"$f":"RTD(\"cqg.rtd\",,\"StudyData\", \"Close(\"&$D$12&\") when LocalYear(\"&$D$12&\")=\"&$D$10&\" and localMonth(\"&$D$12&\") =\"&$E$10&\" and LocalDay(\"&$D$12&\")=\"&$F$10&\" and Barix(\"&$D$12&\",reference:=StartOfSession)=\"&A69&\"\", \"Bar\", \"\", \"Close\",\"5\",\"0\",\"PrimaryOnly\",,,\"False\",\"T\",\"EveryTick\")","v":159.44},8.2205640571646095E-3,null,null,null,""]
[69,"14:15:00",-8,{"$f":" RTD(\"cqg.rtd\",,\"StudyData\", $D$12,  \"Tick\", \"FlatTicks=0\", \"Tick\",\"D\",C70,\"PrimaryOnly\")","v":165.68},null,null,null,{"$f":"RTD(\"cqg.rtd\",,\"StudyData\", \"Close(\"&$D$12&\") when LocalYear(\"&$D$12&\")=\"&$D$1&\" and localMonth(\"&$D$12&\") =\"&$E$1&\" and LocalDay(\"&$D$12&\")=\"&$F$1&\" and Barix(\"&$D$12&\",reference:=StartOfSession)=\"&A70&\"\", \"Bar\", \"\", \"Close\",\"5\",\"0\",\"PrimaryOnly\",,,\"False\",\"T\",\"EveryTick\")","v":""},{"$error":"#N/A"},{"$f":"RTD(\"cqg.rtd\",,\"StudyData\", \"Close(\"&$D$12&\") when LocalYear(\"&$D$12&\")=\"&$D$2&\" and localMonth(\"&$D$12&\") =\"&$E$2&\" and LocalDay(\"&$D$12&\")=\"&$F$2&\" and Barix(\"&$D$12&\",reference:=StartOfSession)=\"&A70&\"\", \"Bar\", \"\", \"Close\",\"5\",\"0\",\"PrimaryOnly\",,,\"False\",\"T\",\"EveryTick\")","v":165.69},1.881571665744329E-2,{"$f":"RTD(\"cqg.rtd\",,\"StudyData\", \"Close(\"&$D$12&\") when LocalYear(\"&$D$12&\")=\"&$D$3&\" and localMonth(\"&$D$12&\") =\"&$E$3&\" and LocalDay(\"&$D$12&\")=\"&$F$3&\" and Barix(\"&$D$12&\",reference:=StartOfSession)=\"&A70&\"\", \"Bar\", \"\", \"Close\",\"5\",\"0\",\"PrimaryOnly\",,,\"False\",\"T\",\"EveryTick\")","v":162.75},-6.8952892360263328E-3,{"$f":"RTD(\"cqg.rtd\",,\"StudyData\", \"Close(\"&$D$12&\") when LocalYear(\"&$D$12&\")=\"&$D$4&\" and localMonth(\"&$D$12&\") =\"&$E$4&\" and LocalDay(\"&$D$12&\")=\"&$F$4&\" and Barix(\"&$D$12&\",reference:=StartOfSession)=\"&A70&\"\", \"Bar\", \"\", \"Close\",\"5\",\"0\",\"PrimaryOnly\",,,\"False\",\"T\",\"EveryTick\")","v":163.87},3.24476551977471E-3,{"$f":"RTD(\"cqg.rtd\",,\"StudyData\", \"Close(\"&$D$12&\") when LocalYear(\"&$D$12&\")=\"&$D$5&\" and localMonth(\"&$D$12&\") =\"&$E$5&\" and LocalDay(\"&$D$12&\")=\"&$F$5&\" and Barix(\"&$D$12&\",reference:=StartOfSession)=\"&A70&\"\", \"Bar\", \"\", \"Close\",\"5\",\"0\",\"PrimaryOnly\",,,\"False\",\"T\",\"EveryTick\")","v":163.1},5.7967439565860743E-3,{"$f":"RTD(\"cqg.rtd\",,\"StudyData\", \"Close(\"&$D$12&\") when LocalYear(\"&$D$12&\")=\"&$D$6&\" and localMonth(\"&$D$12&\") =\"&$E$6&\" and LocalDay(\"&$D$12&\")=\"&$F$6&\" and Barix(\"&$D$12&\",reference:=StartOfSession)=\"&A70&\"\", \"Bar\", \"\", \"Close\",\"5\",\"0\",\"PrimaryOnly\",,,\"False\",\"T\",\"EveryTick\")","v":162.21},1.0087801232953513E-2,{"$f":"RTD(\"cqg.rtd\",,\"StudyData\", \"Close(\"&$D$12&\") when LocalYear(\"&$D$12&\")=\"&$D$7&\" and localMonth(\"&$D$12&\") =\"&$E$7&\" and LocalDay(\"&$D$12&\")=\"&$F$7&\" and Barix(\"&$D$12&\",reference:=StartOfSession)=\"&A70&\"\", \"Bar\", \"\", \"Close\",\"5\",\"0\",\"PrimaryOnly\",,,\"False\",\"T\",\"EveryTick\")","v":160.24},1.2063411861302321E-2,{"$f":"RTD(\"cqg.rtd\",,\"StudyData\", \"Close(\"&$D$12&\") when LocalYear(\"&$D$12&\")=\"&$D$8&\" and localMonth(\"&$D$12&\") =\"&$E$8&\" and LocalDay(\"&$D$12&\")=\"&$F$8&\" and Barix(\"&$D$12&\",reference:=StartOfSession)=\"&A70&\"\", \"Bar\", \"\", \"Close\",\"5\",\"0\",\"PrimaryOnly\",,,\"False\",\"T\",\"EveryTick\")","v":""},{"$error":"#N/A"},{"$f":"RTD(\"cqg.rtd\",,\"StudyData\", \"Close(\"&$D$12&\") when LocalYear(\"&$D$12&\")=\"&$D$9&\" and localMonth(\"&$D$12&\") =\"&$E$9&\" and LocalDay(\"&$D$12&\")=\"&$F$9&\" and Barix(\"&$D$12&\",reference:=StartOfSession)=\"&A70&\"\", \"Bar\", \"\", \"Close\",\"5\",\"0\",\"PrimaryOnly\",,,\"False\",\"T\",\"EveryTick\")","v":159.06},3.8497948879773662E-3,{"$f":"RTD(\"cqg.rtd\",,\"StudyData\", \"Close(\"&$D$12&\") when LocalYear(\"&$D$12&\")=\"&$D$10&\" and localMonth(\"&$D$12&\") =\"&$E$10&\" and LocalDay(\"&$D$12&\")=\"&$F$10&\" and Barix(\"&$D$12&\",reference:=StartOfSession)=\"&A70&\"\", \"Bar\", \"\", \"Close\",\"5\",\"0\",\"PrimaryOnly\",,,\"False\",\"T\",\"EveryTick\")","v":159.21},6.7661565701278717E-3,null,null,null,""]
[70,"14:20:00",-7,{"$f":" RTD(\"cqg.rtd\",,\"StudyData\", $D$12,  \"Tick\", \"FlatTicks=0\", \"Tick\",\"D\",C71,\"PrimaryOnly\")","v":165.67},null,null,null,{"$f":"RTD(\"cqg.rtd\",,\"StudyData\", \"Close(\"&$D$12&\") when LocalYear(\"&$D$12&\")=\"&$D$1&\" and localMonth(\"&$D$12&\") =\"&$E$1&\" and LocalDay(\"&$D$12&\")=\"&$F$1&\" and Barix(\"&$D$12&\",reference:=StartOfSession)=\"&A71&\"\", \"Bar\", \"\", \"Close\",\"5\",\"0\",\"PrimaryOnly\",,,\"False\",\"T\",\"EveryTick\")","v":""},{"$error":"#N/A"},{"$f":"RTD(\"cqg.rtd\",,\"StudyData\", \"Close(\"&$D$12&\") when LocalYear(\"&$D$12&\")=\"&$D$2&\" and localMonth(\"&$D$12&\") =\"&$E$2&\" and LocalDay(\"&$D$12&\")=\"&$F$2&\" and Barix(\"&$D$12&\",reference:=StartOfSession)=\"&A71&\"\", \"Bar\", \"\", \"Close\",\"5\",\"0\",\"PrimaryOnly\",,,\"False\",\"T\",\"EveryTick\")","v":165.44},1.72784849043842E-2,{"$f":"RTD(\"cqg.rtd\",,\"StudyData\", \"Close(\"&$D$12&\") when LocalYear(\"&$D$12&\")=\"&$D$3&\" and localMonth(\"&$D$12&\") =\"&$E$3&\" and LocalDay(\"&$D$12&\")=\"&$F$3&\" and Barix(\"&$D$12&\",reference:=StartOfSession)=\"&A71&\"\", \"Bar\", \"\", \"Close\",\"5\",\"0\",\"PrimaryOnly\",,,\"False\",\"T\",\"EveryTick\")","v":162.71},-7.1393702709298722E-3,{"$f":"RTD(\"cqg.rtd\",,\"StudyData\", \"Close(\"&$D$12&\") when LocalYear(\"&$D$12&\")=\"&$D$4&\" and localMonth(\"&$D$12&\") =\"&$E$4&\" and LocalDay(\"&$D$12&\")=\"&$F$4&\" and Barix(\"&$D$12&\",reference:=StartOfSession)=\"&A71&\"\", \"Bar\", \"\", \"Close\",\"5\",\"0\",\"PrimaryOnly\",,,\"False\",\"T\",\"EveryTick\")","v":163.87},3.24476551977471E-3,{"$f":"RTD(\"cqg.rtd\",,\"StudyData\", \"Close(\"&$D$12&\") when LocalYear(\"&$D$12&\")=\"&$D$5&\" and localMonth(\"&$D$12&\") =\"&$E$5&\" and LocalDay(\"&$D$12&\")=\"&$F$5&\" and Barix(\"&$D$12&\",reference:=StartOfSession)=\"&A71&\"\", \"Bar\", \"\", \"Close\",\"5\",\"0\",\"PrimaryOnly\",,,\"False\",\"T\",\"EveryTick\")","v":163.1},5.7967439565860743E-3,{"$f":"RTD(\"cqg.rtd\",,\"StudyData\", \"Close(\"&$D$12&\") when LocalYear(\"&$D$12&\")=\"&$D$6&\" and localMonth(\"&$D$12&\") =\"&$E$6&\" and LocalDay(\"&$D$12&\")=\"&$F$6&\" and Barix(\"&$D$12&\",reference:=StartOfSession)=\"&A71&\"\", \"Bar\", \"\", \"Close\",\"5\",\"0\",\"PrimaryOnly\",,,\"False\",\"T\",\"EveryTick\")","v":162.22999999999999},1.0212341988915788E-2,{"$f":"RTD(\"cqg.rtd\",,\"StudyData\", \"Close(\"&$D$12&\") when LocalYear(\"&$D$12&\")=\"&$D$7&\" and localMonth(\"&$D$12&\") =\"&$E$7&\" and LocalDay(\"&$D$12&\")=\"&$F$7&\" and Barix(\"&$D$12&\",reference:=StartOfSession)=\"&A71&\"\", \"Bar\", \"\", \"Close\",\"5\",\"0\",\"PrimaryOnly\",,,\"False\",\"T\",\"EveryTick\")","v":160.26},1.2189730310111654E-2,{"$f":"RTD(\"cqg.rtd\",,\"StudyData\", \"Close(\"&$D$12&\") when LocalYear(\"&$D$12&\")=\"&$D$8&\" and localMonth(\"&$D$12&\") =\"&$E$8&\" and LocalDay(\"&$D$12&\")=\"&$F$8&\" and Barix(\"&$D$12&\",reference:=StartOfSession)=\"&A71&\"\", \"Bar\", \"\", \"Close\",\"5\",\"0\",\"PrimaryOnly\",,,\"False\",\"T\",\"EveryTick\")","v":""},{"$error":"#N/A"},{"$f":"RTD(\"cqg.rtd\",,\"StudyData\", \"Close(\"&$D$12&\") when LocalYear(\"&$D$12&\")=\"&$D$9&\" and localMonth(\"&$D$12&\") =\"&$E$9&\" and LocalDay(\"&$D$12&\")=\"&$F$9&\" and Barix(\"&$D$12&\",reference:=StartOfSession)=\"&A71&\"\", \"Bar\", \"\", \"Close\",\"5\",\"0\",\"PrimaryOnly\",,,\"False\",\"T\",\"EveryTick\")","v":159.32},5.490691069738117E-3,{"$f":"RTD(\"cqg.rtd\",,\"StudyData\", \"Close(\"&$D$12&\") when LocalYear(\"&$D$12&\")=\"&$D$10&\" and localMonth(\"&$D$12&\") =\"&$E$10&\" and LocalDay(\"&$D$12&\")=\"&$F$10&\" and Barix(\"&$D$12&\",reference:=StartOfSession)=\"&A71&\"\", \"Bar\", \"\", \"Close\",\"5\",\"0\",\"PrimaryOnly\",,,\"False\",\"T\",\"EveryTick\")","v":159.1},6.0705703806754018E-3,null,null,null,""]
[71,"14:25:00",-6,{"$f":" RTD(\"cqg.rtd\",,\"StudyData\", $D$12,  \"Tick\", \"FlatTicks=0\", \"Tick\",\"D\",C72,\"PrimaryOnly\")","v":165.74},null,null,null,{"$f":"RTD(\"cqg.rtd\",,\"StudyData\", \"Close(\"&$D$12&\") when LocalYear(\"&$D$12&\")=\"&$D$1&\" and localMonth(\"&$D$12&\") =\"&$E$1&\" and LocalDay(\"&$D$12&\")=\"&$F$1&\" and Barix(\"&$D$12&\",reference:=StartOfSession)=\"&A72&\"\", \"Bar\", \"\", \"Close\",\"5\",\"0\",\"PrimaryOnly\",,,\"False\",\"T\",\"EveryTick\")","v":""},{"$error":"#N/A"},{"$f":"RTD(\"cqg.rtd\",,\"StudyData\", \"Close(\"&$D$12&\") when LocalYear(\"&$D$12&\")=\"&$D$2&\" and localMonth(\"&$D$12&\") =\"&$E$2&\" and LocalDay(\"&$D$12&\")=\"&$F$2&\" and Barix(\"&$D$12&\",reference:=StartOfSession)=\"&A72&\"\", \"Bar\", \"\", \"Close\",\"5\",\"0\",\"PrimaryOnly\",,,\"False\",\"T\",\"EveryTick\")","v":165.44},1.72784849043842E-2,{"$f":"RTD(\"cqg.rtd\",,\"StudyData\", \"Close(\"&$D$12&\") when LocalYear(\"&$D$12&\")=\"&$D$3&\" and localMonth(\"&$D$12&\") =\"&$E$3&\" and LocalDay(\"&$D$12&\")=\"&$F$3&\" and Barix(\"&$D$12&\",reference:=StartOfSession)=\"&A72&\"\", \"Bar\", \"\", \"Close\",\"5\",\"0\",\"PrimaryOnly\",,,\"False\",\"T\",\"EveryTick\")","v":162.68},-7.3224310471075704E-3,{"$f":"RTD(\"cqg.rtd\",,\"StudyData\", \"Close(\"&$D$12&\") when LocalYear(\"&$D$12&\")=\"&$D$4&\" and localMonth(\"&$D$12&\") =\"&$E$4&\" and LocalDay(\"&$D$12&\")=\"&$F$4&\" and Barix(\"&$D$12&\",reference:=StartOfSession)=\"&A72&\"\", \"Bar\", \"\", \"Close\",\"5\",\"0\",\"PrimaryOnly\",,,\"False\",\"T\",\"EveryTick\")","v":163.80000000000001},2.8162115832007346E-3,{"$f":"RTD(\"cqg.rtd\",,\"StudyData\", \"Close(\"&$D$12&\") when LocalYear(\"&$D$12&\")=\"&$D$5&\" and localMonth(\"&$D$12&\") =\"&$E$5&\" and LocalDay(\"&$D$12&\")=\"&$F$5&\" and Barix(\"&$D$12&\",reference:=StartOfSession)=\"&A72&\"\", \"Bar\", \"\", \"Close\",\"5\",\"0\",\"PrimaryOnly\",,,\"False\",\"T\",\"EveryTick\")","v":163.1},5.7967439565860743E-3,{"$f":"RTD(\"cqg.rtd\",,\"StudyData\", \"Close(\"&$D$12&\") when LocalYear(\"&$D$12&\")=\"&$D$6&\" and localMonth(\"&$D$12&\") =\"&$E$6&\" and LocalDay(\"&$D$12&\")=\"&$F$6&\" and Barix(\"&$D$12&\",reference:=StartOfSession)=\"&A72&\"\", \"Bar\", \"\", \"Close\",\"5\",\"0\",\"PrimaryOnly\",,,\"False\",\"T\",\"EveryTick\")","v":162.38999999999999},1.1208668036614876E-2,{"$f":"RTD(\"cqg.rtd\",,\"StudyData\", \"Close(\"&$D$12&\") when LocalYear(\"&$D$12&\")=\"&$D$7&\" and localMonth(\"&$D$12&\") =\"&$E$7&\" and LocalDay(\"&$D$12&\")=\"&$F$7&\" and Barix(\"&$D$12&\",reference:=StartOfSession)=\"&A72&\"\", \"Bar\", \"\", \"Close\",\"5\",\"0\",\"PrimaryOnly\",,,\"False\",\"T\",\"EveryTick\")","v":160.26},1.2189730310111654E-2,{"$f":"RTD(\"cqg.rtd\",,\"StudyData\", \"Close(\"&$D$12&\") when LocalYear(\"&$D$12&\")=\"&$D$8&\" and localMonth(\"&$D$12&\") =\"&$E$8&\" and LocalDay(\"&$D$12&\")=\"&$F$8&\" and Barix(\"&$D$12&\",reference:=StartOfSession)=\"&A72&\"\", \"Bar\", \"\", \"Close\",\"5\",\"0\",\"PrimaryOnly\",,,\"False\",\"T\",\"EveryTick\")","v":""},{"$error":"#N/A"},{"$f":"RTD(\"cqg.rtd\",,\"StudyData\", \"Close(\"&$D$12&\") when LocalYear(\"&$D$12&\")=\"&$D$9&\" and localMonth(\"&$D$12&\") =\"&$E$9&\" and LocalDay(\"&$D$12&\")=\"&$F$9&\" and Barix(\"&$D$12&\",reference:=StartOfSession)=\"&A72&\"\", \"Bar\", \"\", \"Close\",\"5\",\"0\",\"PrimaryOnly\",,,\"False\",\"T\",\"EveryTick\")","v":159.47},6.4373619438309266E-3,{"$f":"RTD(\"cqg.rtd\",,\"StudyData\", \"Close(\"&$D$12&\") when LocalYear(\"&$D$12&\")=\"&$D$10&\" and localMonth(\"&$D$12&\") =\"&$E$10&\" and LocalDay(\"&$D$12&\")=\"&$F$10&\" and Barix(\"&$D$12&\",reference:=StartOfSession)=\"&A72&\"\", \"Bar\", \"\", \"Close\",\"5\",\"0\",\"PrimaryOnly\",,,\"False\",\"T\",\"EveryTick\")","v":159.22},6.8293916782598491E-3,null,null,null,""]
[72,"14:30:00",-5,{"$f":" RTD(\"cqg.rtd\",,\"StudyData\", $D$12,  \"Tick\", \"FlatTicks=0\", \"Tick\",\"D\",C73,\"PrimaryOnly\")","v":165.55},null,null,null,{"$f":"RTD(\"cqg.rtd\",,\"StudyData\", \"Close(\"&$D$12&\") when LocalYear(\"&$D$12&\")=\"&$D$1&\" and localMonth(\"&$D$12&\") =\"&$E$1&\" and LocalDay(\"&$D$12&\")=\"&$F$1&\" and Barix(\"&$D$12&\",reference:=StartOfSession)=\"&A73&\"\", \"Bar\", \"\", \"Close\",\"5\",\"0\",\"PrimaryOnly\",,,\"False\",\"T\",\"EveryTick\")","v":""},{"$error":"#N/A"},{"$f":"RTD(\"cqg.rtd\",,\"StudyData\", \"Close(\"&$D$12&\") when LocalYear(\"&$D$12&\")=\"&$D$2&\" and localMonth(\"&$D$12&\") =\"&$E$2&\" and LocalDay(\"&$D$12&\")=\"&$F$2&\" and Barix(\"&$D$12&\",reference:=StartOfSession)=\"&A73&\"\", \"Bar\", \"\", \"Close\",\"5\",\"0\",\"PrimaryOnly\",,,\"False\",\"T\",\"EveryTick\")","v":165.62},1.8385291766586789E-2,{"$f":"RTD(\"cqg.rtd\",,\"StudyData\", \"Close(\"&$D$12&\") when LocalYear(\"&$D$12&\")=\"&$D$3&\" and localMonth(\"&$D$12&\") =\"&$E$3&\" and LocalDay(\"&$D$12&\")=\"&$F$3&\" and Barix(\"&$D$12&\",reference:=StartOfSession)=\"&A73&\"\", \"Bar\", \"\", \"Close\",\"5\",\"0\",\"PrimaryOnly\",,,\"False\",\"T\",\"EveryTick\")","v":162.72999999999999},-7.0173297534781897E-3,{"$f":"RTD(\"cqg.rtd\",,\"StudyData\", \"Close(\"&$D$12&\") when LocalYear(\"&$D$12&\")=\"&$D$4&\" and localMonth(\"&$D$12&\") =\"&$E$4&\" and LocalDay(\"&$D$12&\")=\"&$F$4&\" and Barix(\"&$D$12&\",reference:=StartOfSession)=\"&A73&\"\", \"Bar\", \"\", \"Close\",\"5\",\"0\",\"PrimaryOnly\",,,\"False\",\"T\",\"EveryTick\")","v":163.80000000000001},2.8162115832007346E-3,{"$f":"RTD(\"cqg.rtd\",,\"StudyData\", \"Close(\"&$D$12&\") when LocalYear(\"&$D$12&\")=\"&$D$5&\" and localMonth(\"&$D$12&\") =\"&$E$5&\" and LocalDay(\"&$D$12&\")=\"&$F$5&\" and Barix(\"&$D$12&\",reference:=StartOfSession)=\"&A73&\"\", \"Bar\", \"\", \"Close\",\"5\",\"0\",\"PrimaryOnly\",,,\"False\",\"T\",\"EveryTick\")","v":163.1},5.7967439565860743E-3,{"$f":"RTD(\"cqg.rtd\",,\"StudyData\", \"Close(\"&$D$12&\") when LocalYear(\"&$D$12&\")=\"&$D$6&\" and localMonth(\"&$D$12&\") =\"&$E$6&\" and LocalDay(\"&$D$12&\")=\"&$F$6&\" and Barix(\"&$D$12&\",reference:=StartOfSession)=\"&A73&\"\", \"Bar\", \"\", \"Close\",\"5\",\"0\",\"PrimaryOnly\",,,\"False\",\"T\",\"EveryTick\")","v":162.36000000000001},1.1021856902671462E-2,{"$f":"RTD(\"cqg.rtd\",,\"StudyData\", \"Close(\"&$D$12&\") when LocalYear(\"&$D$12&\")=\"&$D$7&\" and localMonth(\"&$D$12&\") =\"&$E$7&\" and LocalDay(\"&$D$12&\")=\"&$F$7&\" and Barix(\"&$D$12&\",reference:=StartOfSession)=\"&A73&\"\", \"Bar\", \"\", \"Close\",\"5\",\"0\",\"PrimaryOnly\",,,\"False\",\"T\",\"EveryTick\")","v":160.30000000000001},1.2442367207730681E-2,{"$f":"RTD(\"cqg.rtd\",,\"StudyData\", \"Close(\"&$D$12&\") when LocalYear(\"&$D$12&\")=\"&$D$8&\" and localMonth(\"&$D$12&\") =\"&$E$8&\" and LocalDay(\"&$D$12&\")=\"&$F$8&\" and Barix(\"&$D$12&\",reference:=StartOfSession)=\"&A73&\"\", \"Bar\", \"\", \"Close\",\"5\",\"0\",\"PrimaryOnly\",,,\"False\",\"T\",\"EveryTick\")","v":""},{"$error":"#N/A"},{"$f":"RTD(\"cqg.rtd\",,\"StudyData\", \"Close(\"&$D$12&\") when LocalYear(\"&$D$12&\")=\"&$D$9&\" and localMonth(\"&$D$12&\") =\"&$E$9&\" and LocalDay(\"&$D$12&\")=\"&$F$9&\" and Barix(\"&$D$12&\",reference:=StartOfSession)=\"&A73&\"\", \"Bar\", \"\", \"Close\",\"5\",\"0\",\"PrimaryOnly\",,,\"False\",\"T\",\"EveryTick\")","v":159.35},5.6800252445566787E-3,{"$f":"RTD(\"cqg.rtd\",,\"StudyData\", \"Close(\"&$D$12&\") when LocalYear(\"&$D$12&\")=\"&$D$10&\" and localMonth(\"&$D$12&\") =\"&$E$10&\" and LocalDay(\"&$D$12&\")=\"&$F$10&\" and Barix(\"&$D$12&\",reference:=StartOfSession)=\"&A73&\"\", \"Bar\", \"\", \"Close\",\"5\",\"0\",\"PrimaryOnly\",,,\"False\",\"T\",\"EveryTick\")","v":159.09},6.0073352725434244E-3,null,null,null,""]
[73,"14:35:00",-4,{"$f":" RTD(\"cqg.rtd\",,\"StudyData\", $D$12,  \"Tick\", \"FlatTicks=0\", \"Tick\",\"D\",C74,\"PrimaryOnly\")","v":165.57},null,null,null,{"$f":"RTD(\"cqg.rtd\",,\"StudyData\", \"Close(\"&$D$12&\") when LocalYear(\"&$D$12&\")=\"&$D$1&\" and localMonth(\"&$D$12&\") =\"&$E$1&\" and LocalDay(\"&$D$12&\")=\"&$F$1&\" and Barix(\"&$D$12&\",reference:=StartOfSession)=\"&A74&\"\", \"Bar\", \"\", \"Close\",\"5\",\"0\",\"PrimaryOnly\",,,\"False\",\"T\",\"EveryTick\")","v":""},{"$error":"#N/A"},{"$f":"RTD(\"cqg.rtd\",,\"StudyData\", \"Close(\"&$D$12&\") when LocalYear(\"&$D$12&\")=\"&$D$2&\" and localMonth(\"&$D$12&\") =\"&$E$2&\" and LocalDay(\"&$D$12&\")=\"&$F$2&\" and Barix(\"&$D$12&\",reference:=StartOfSession)=\"&A74&\"\", \"Bar\", \"\", \"Close\",\"5\",\"0\",\"PrimaryOnly\",,,\"False\",\"T\",\"EveryTick\")","v":165.62},1.8385291766586789E-2,{"$f":"RTD(\"cqg.rtd\",,\"StudyData\", \"Close(\"&$D$12&\") when LocalYear(\"&$D$12&\")=\"&$D$3&\" and localMonth(\"&$D$12&\") =\"&$E$3&\" and LocalDay(\"&$D$12&\")=\"&$F$3&\" and Barix(\"&$D$12&\",reference:=StartOfSession)=\"&A74&\"\", \"Bar\", \"\", \"Close\",\"5\",\"0\",\"PrimaryOnly\",,,\"False\",\"T\",\"EveryTick\")","v":162.84},-6.3461069074932392E-3,{"$f":"RTD(\"cqg.rtd\",,\"StudyData\", \"Close(\"&$D$12&\") when LocalYear(\"&$D$12&\")=\"&$D$4&\" and localMonth(\"&$D$12&\") =\"&$E$4&\" and LocalDay(\"&$D$12&\")=\"&$F$4&\" and Barix(\"&$D$12&\",reference:=StartOfSession)=\"&A74&\"\", \"Bar\", \"\", \"Close\",\"5\",\"0\",\"PrimaryOnly\",,,\"False\",\"T\",\"EveryTick\")","v":163.85},3.1223215378963567E-3,{"$f":"RTD(\"cqg.rtd\",,\"StudyData\", \"Close(\"&$D$12&\") when LocalYear(\"&$D$12&\")=\"&$D$5&\" and localMonth(\"&$D$12&\") =\"&$E$5&\" and LocalDay(\"&$D$12&\")=\"&$F$5&\" and Barix(\"&$D$12&\",reference:=StartOfSession)=\"&A74&\"\", \"Bar\", \"\", \"Close\",\"5\",\"0\",\"PrimaryOnly\",,,\"False\",\"T\",\"EveryTick\")","v":163.13},5.981746423285637E-3,{"$f":"RTD(\"cqg.rtd\",,\"StudyData\", \"Close(\"&$D$12&\") when LocalYear(\"&$D$12&\")=\"&$D$6&\" and localMonth(\"&$D$12&\") =\"&$E$6&\" and LocalDay(\"&$D$12&\")=\"&$F$6&\" and Barix(\"&$D$12&\",reference:=StartOfSession)=\"&A74&\"\", \"Bar\", \"\", \"Close\",\"5\",\"0\",\"PrimaryOnly\",,,\"False\",\"T\",\"EveryTick\")","v":162.22999999999999},1.0212341988915788E-2,{"$f":"RTD(\"cqg.rtd\",,\"StudyData\", \"Close(\"&$D$12&\") when LocalYear(\"&$D$12&\")=\"&$D$7&\" and localMonth(\"&$D$12&\") =\"&$E$7&\" and LocalDay(\"&$D$12&\")=\"&$F$7&\" and Barix(\"&$D$12&\",reference:=StartOfSession)=\"&A74&\"\", \"Bar\", \"\", \"Close\",\"5\",\"0\",\"PrimaryOnly\",,,\"False\",\"T\",\"EveryTick\")","v":160.24},1.2063411861302321E-2,{"$f":"RTD(\"cqg.rtd\",,\"StudyData\", \"Close(\"&$D$12&\") when LocalYear(\"&$D$12&\")=\"&$D$8&\" and localMonth(\"&$D$12&\") =\"&$E$8&\" and LocalDay(\"&$D$12&\")=\"&$F$8&\" and Barix(\"&$D$12&\",reference:=StartOfSession)=\"&A74&\"\", \"Bar\", \"\", \"Close\",\"5\",\"0\",\"PrimaryOnly\",,,\"False\",\"T\",\"EveryTick\")","v":""},{"$error":"#N/A"},{"$f":"RTD(\"cqg.rtd\",,\"StudyData\", \"Close(\"&$D$12&\") when LocalYear(\"&$D$12&\")=\"&$D$9&\" and localMonth(\"&$D$12&\") =\"&$E$9&\" and LocalDay(\"&$D$12&\")=\"&$F$9&\" and Barix(\"&$D$12&\",reference:=StartOfSession)=\"&A74&\"\", \"Bar\", \"\", \"Close\",\"5\",\"0\",\"PrimaryOnly\",,,\"False\",\"T\",\"EveryTick\")","v":159.41},6.0586935941938022E-3,{"$f":"RTD(\"cqg.rtd\",,\"StudyData\", \"Close(\"&$D$12&\") when LocalYear(\"&$D$12&\")=\"&$D$10&\" and localMonth(\"&$D$12&\") =\"&$E$10&\" and LocalDay(\"&$D$12&\")=\"&$F$10&\" and Barix(\"&$D$12&\",reference:=StartOfSession)=\"&A74&\"\", \"Bar\", \"\", \"Close\",\"5\",\"0\",\"PrimaryOnly\",,,\"False\",\"T\",\"EveryTick\")","v":158.99},5.3749841912231113E-3,null,null,null,""]
[74,"14:40:00",-3,{"$f":" RTD(\"cqg.rtd\",,\"StudyData\", $D$12,  \"Tick\", \"FlatTicks=0\", \"Tick\",\"D\",C75,\"PrimaryOnly\")","v":165.54},null,null,null,{"$f":"RTD(\"cqg.rtd\",,\"StudyData\", \"Close(\"&$D$12&\") when LocalYear(\"&$D$12&\")=\"&$D$1&\" and localMonth(\"&$D$12&\") =\"&$E$1&\" and LocalDay(\"&$D$12&\")=\"&$F$1&\" and Barix(\"&$D$12&\",reference:=StartOfSession)=\"&A75&\"\", \"Bar\", \"\", \"Close\",\"5\",\"0\",\"PrimaryOnly\",,,\"False\",\"T\",\"EveryTick\")","v":""},{"$error":"#N/A"},{"$f":"RTD(\"cqg.rtd\",,\"StudyData\", \"Close(\"&$D$12&\") when LocalYear(\"&$D$12&\")=\"&$D$2&\" and localMonth(\"&$D$12&\") =\"&$E$2&\" and LocalDay(\"&$D$12&\")=\"&$F$2&\" and Barix(\"&$D$12&\",reference:=StartOfSession)=\"&A75&\"\", \"Bar\", \"\", \"Close\",\"5\",\"0\",\"PrimaryOnly\",,,\"False\",\"T\",\"EveryTick\")","v":165.55},1.7954866875730283E-2,{"$f":"RTD(\"cqg.rtd\",,\"StudyData\", \"Close(\"&$D$12&\") when LocalYear(\"&$D$12&\")=\"&$D$3&\" and localMonth(\"&$D$12&\") =\"&$E$3&\" and LocalDay(\"&$D$12&\")=\"&$F$3&\" and Barix(\"&$D$12&\",reference:=StartOfSession)=\"&A75&\"\", \"Bar\", \"\", \"Close\",\"5\",\"0\",\"PrimaryOnly\",,,\"False\",\"T\",\"EveryTick\")","v":162.80000000000001},-6.5901879423967786E-3,{"$f":"RTD(\"cqg.rtd\",,\"StudyData\", \"Close(\"&$D$12&\") when LocalYear(\"&$D$12&\")=\"&$D$4&\" and localMonth(\"&$D$12&\") =\"&$E$4&\" and LocalDay(\"&$D$12&\")=\"&$F$4&\" and Barix(\"&$D$12&\",reference:=StartOfSession)=\"&A75&\"\", \"Bar\", \"\", \"Close\",\"5\",\"0\",\"PrimaryOnly\",,,\"False\",\"T\",\"EveryTick\")","v":163.85},3.1223215378963567E-3,{"$f":"RTD(\"cqg.rtd\",,\"StudyData\", \"Close(\"&$D$12&\") when LocalYear(\"&$D$12&\")=\"&$D$5&\" and localMonth(\"&$D$12&\") =\"&$E$5&\" and LocalDay(\"&$D$12&\")=\"&$F$5&\" and Barix(\"&$D$12&\",reference:=StartOfSession)=\"&A75&\"\", \"Bar\", \"\", \"Close\",\"5\",\"0\",\"PrimaryOnly\",,,\"False\",\"T\",\"EveryTick\")","v":163.13},5.981746423285637E-3,{"$f":"RTD(\"cqg.rtd\",,\"StudyData\", \"Close(\"&$D$12&\") when LocalYear(\"&$D$12&\")=\"&$D$6&\" and localMonth(\"&$D$12&\") =\"&$E$6&\" and LocalDay(\"&$D$12&\")=\"&$F$6&\" and Barix(\"&$D$12&\",reference:=StartOfSession)=\"&A75&\"\", \"Bar\", \"\", \"Close\",\"5\",\"0\",\"PrimaryOnly\",,,\"False\",\"T\",\"EveryTick\")","v":162.13999999999999},9.6519085870850167E-3,{"$f":"RTD(\"cqg.rtd\",,\"StudyData\", \"Close(\"&$D$12&\") when LocalYear(\"&$D$12&\")=\"&$D$7&\" and localMonth(\"&$D$12&\") =\"&$E$7&\" and LocalDay(\"&$D$12&\")=\"&$F$7&\" and Barix(\"&$D$12&\",reference:=StartOfSession)=\"&A75&\"\", \"Bar\", \"\", \"Close\",\"5\",\"0\",\"PrimaryOnly\",,,\"False\",\"T\",\"EveryTick\")","v":160.35},1.2758163329754194E-2,{"$f":"RTD(\"cqg.rtd\",,\"StudyData\", \"Close(\"&$D$12&\") when LocalYear(\"&$D$12&\")=\"&$D$8&\" and localMonth(\"&$D$12&\") =\"&$E$8&\" and LocalDay(\"&$D$12&\")=\"&$F$8&\" and Barix(\"&$D$12&\",reference:=StartOfSession)=\"&A75&\"\", \"Bar\", \"\", \"Close\",\"5\",\"0\",\"PrimaryOnly\",,,\"False\",\"T\",\"EveryTick\")","v":""},{"$error":"#N/A"},{"$f":"RTD(\"cqg.rtd\",,\"StudyData\", \"Close(\"&$D$12&\") when LocalYear(\"&$D$12&\")=\"&$D$9&\" and localMonth(\"&$D$12&\") =\"&$E$9&\" and LocalDay(\"&$D$12&\")=\"&$F$9&\" and Barix(\"&$D$12&\",reference:=StartOfSession)=\"&A75&\"\", \"Bar\", \"\", \"Close\",\"5\",\"0\",\"PrimaryOnly\",,,\"False\",\"T\",\"EveryTick\")","v":159.52000000000001},6.7529189018619229E-3,{"$f":"RTD(\"cqg.rtd\",,\"StudyData\", \"Close(\"&$D$12&\") when LocalYear(\"&$D$12&\")=\"&$D$10&\" and localMonth(\"&$D$12&\") =\"&$E$10&\" and LocalDay(\"&$D$12&\")=\"&$F$10&\" and Barix(\"&$D$12&\",reference:=StartOfSession)=\"&A75&\"\", \"Bar\", \"\", \"Close\",\"5\",\"0\",\"PrimaryOnly\",,,\"False\",\"T\",\"EveryTick\")","v":158.91999999999999},4.9323384342987303E-3,null,null,null,""]
[75,"14:45:00",-2,{"$f":" RTD(\"cqg.rtd\",,\"StudyData\", $D$12,  \"Tick\", \"FlatTicks=0\", \"Tick\",\"D\",C76,\"PrimaryOnly\")","v":165.61},null,null,null,{"$f":"RTD(\"cqg.rtd\",,\"StudyData\", \"Close(\"&$D$12&\") when LocalYear(\"&$D$12&\")=\"&$D$1&\" and localMonth(\"&$D$12&\") =\"&$E$1&\" and LocalDay(\"&$D$12&\")=\"&$F$1&\" and Barix(\"&$D$12&\",reference:=StartOfSession)=\"&A76&\"\", \"Bar\", \"\", \"Close\",\"5\",\"0\",\"PrimaryOnly\",,,\"False\",\"T\",\"EveryTick\")","v":""},{"$error":"#N/A"},{"$f":"RTD(\"cqg.rtd\",,\"StudyData\", \"Close(\"&$D$12&\") when LocalYear(\"&$D$12&\")=\"&$D$2&\" and localMonth(\"&$D$12&\") =\"&$E$2&\" and LocalDay(\"&$D$12&\")=\"&$F$2&\" and Barix(\"&$D$12&\",reference:=StartOfSession)=\"&A76&\"\", \"Bar\", \"\", \"Close\",\"5\",\"0\",\"PrimaryOnly\",,,\"False\",\"T\",\"EveryTick\")","v":165.55},1.7954866875730283E-2,{"$f":"RTD(\"cqg.rtd\",,\"StudyData\", \"Close(\"&$D$12&\") when LocalYear(\"&$D$12&\")=\"&$D$3&\" and localMonth(\"&$D$12&\") =\"&$E$3&\" and LocalDay(\"&$D$12&\")=\"&$F$3&\" and Barix(\"&$D$12&\",reference:=StartOfSession)=\"&A76&\"\", \"Bar\", \"\", \"Close\",\"5\",\"0\",\"PrimaryOnly\",,,\"False\",\"T\",\"EveryTick\")","v":162.80000000000001},-6.5901879423967786E-3,{"$f":"RTD(\"cqg.rtd\",,\"StudyData\", \"Close(\"&$D$12&\") when LocalYear(\"&$D$12&\")=\"&$D$4&\" and localMonth(\"&$D$12&\") =\"&$E$4&\" and LocalDay(\"&$D$12&\")=\"&$F$4&\" and Barix(\"&$D$12&\",reference:=StartOfSession)=\"&A76&\"\", \"Bar\", \"\", \"Close\",\"5\",\"0\",\"PrimaryOnly\",,,\"False\",\"T\",\"EveryTick\")","v":163.71},2.2652136647484055E-3,{"$f":"RTD(\"cqg.rtd\",,\"StudyData\", \"Close(\"&$D$12&\") when LocalYear(\"&$D$12&\")=\"&$D$5&\" and localMonth(\"&$D$12&\") =\"&$E$5&\" and LocalDay(\"&$D$12&\")=\"&$F$5&\" and Barix(\"&$D$12&\",reference:=StartOfSession)=\"&A76&\"\", \"Bar\", \"\", \"Close\",\"5\",\"0\",\"PrimaryOnly\",,,\"False\",\"T\",\"EveryTick\")","v":163.13},5.981746423285637E-3,{"$f":"RTD(\"cqg.rtd\",,\"StudyData\", \"Close(\"&$D$12&\") when LocalYear(\"&$D$12&\")=\"&$D$6&\" and localMonth(\"&$D$12&\") =\"&$E$6&\" and LocalDay(\"&$D$12&\")=\"&$F$6&\" and Barix(\"&$D$12&\",reference:=StartOfSession)=\"&A76&\"\", \"Bar\", \"\", \"Close\",\"5\",\"0\",\"PrimaryOnly\",,,\"False\",\"T\",\"EveryTick\")","v":161.94999999999999},8.4687714054423394E-3,{"$f":"RTD(\"cqg.rtd\",,\"StudyData\", \"Close(\"&$D$12&\") when LocalYear(\"&$D$12&\")=\"&$D$7&\" and localMonth(\"&$D$12&\") =\"&$E$7&\" and LocalDay(\"&$D$12&\")=\"&$F$7&\" and Barix(\"&$D$12&\",reference:=StartOfSession)=\"&A76&\"\", \"Bar\", \"\", \"Close\",\"5\",\"0\",\"PrimaryOnly\",,,\"False\",\"T\",\"EveryTick\")","v":160.35},1.2758163329754194E-2,{"$f":"RTD(\"cqg.rtd\",,\"StudyData\", \"Close(\"&$D$12&\") when LocalYear(\"&$D$12&\")=\"&$D$8&\" and localMonth(\"&$D$12&\") =\"&$E$8&\" and LocalDay(\"&$D$12&\")=\"&$F$8&\" and Barix(\"&$D$12&\",reference:=StartOfSession)=\"&A76&\"\", \"Bar\", \"\", \"Close\",\"5\",\"0\",\"PrimaryOnly\",,,\"False\",\"T\",\"EveryTick\")","v":""},{"$error":"#N/A"},{"$f":"RTD(\"cqg.rtd\",,\"StudyData\", \"Close(\"&$D$12&\") when LocalYear(\"&$D$12&\")=\"&$D$9&\" and localMonth(\"&$D$12&\") =\"&$E$9&\" and LocalDay(\"&$D$12&\")=\"&$F$9&\" and Barix(\"&$D$12&\",reference:=StartOfSession)=\"&A76&\"\", \"Bar\", \"\", \"Close\",\"5\",\"0\",\"PrimaryOnly\",,,\"False\",\"T\",\"EveryTick\")","v":159.59},7.1946986431051744E-3,{"$f":"RTD(\"cqg.rtd\",,\"StudyData\", \"Close(\"&$D$12&\") when LocalYear(\"&$D$12&\")=\"&$D$10&\" and localMonth(\"&$D$12&\") =\"&$E$10&\" and LocalDay(\"&$D$12&\")=\"&$F$10&\" and Barix(\"&$D$12&\",reference:=StartOfSession)=\"&A76&\"\", \"Bar\", \"\", \"Close\",\"5\",\"0\",\"PrimaryOnly\",,,\"False\",\"T\",\"EveryTick\")","v":158.88},4.6793980017706413E-3,null,null,null,""]
[76,"14:50:00",-1,{"$f":" RTD(\"cqg.rtd\",,\"StudyData\", $D$12,  \"Tick\", \"FlatTicks=0\", \"Tick\",\"D\",C77,\"PrimaryOnly\")","v":165.65},null,null,null,{"$f":"RTD(\"cqg.rtd\",,\"StudyData\", \"Close(\"&$D$12&\") when LocalYear(\"&$D$12&\")=\"&$D$1&\" and localMonth(\"&$D$12&\") =\"&$E$1&\" and LocalDay(\"&$D$12&\")=\"&$F$1&\" and Barix(\"&$D$12&\",reference:=StartOfSession)=\"&A77&\"\", \"Bar\", \"\", \"Close\",\"5\",\"0\",\"PrimaryOnly\",,,\"False\",\"T\",\"EveryTick\")","v":""},{"$error":"#N/A"},{"$f":"RTD(\"cqg.rtd\",,\"StudyData\", \"Close(\"&$D$12&\") when LocalYear(\"&$D$12&\")=\"&$D$2&\" and localMonth(\"&$D$12&\") =\"&$E$2&\" and LocalDay(\"&$D$12&\")=\"&$F$2&\" and Barix(\"&$D$12&\",reference:=StartOfSession)=\"&A77&\"\", \"Bar\", \"\", \"Close\",\"5\",\"0\",\"PrimaryOnly\",,,\"False\",\"T\",\"EveryTick\")","v":165.63},1.8446781036709096E-2,{"$f":"RTD(\"cqg.rtd\",,\"StudyData\", \"Close(\"&$D$12&\") when LocalYear(\"&$D$12&\")=\"&$D$3&\" and localMonth(\"&$D$12&\") =\"&$E$3&\" and LocalDay(\"&$D$12&\")=\"&$F$3&\" and Barix(\"&$D$12&\",reference:=StartOfSession)=\"&A77&\"\", \"Bar\", \"\", \"Close\",\"5\",\"0\",\"PrimaryOnly\",,,\"False\",\"T\",\"EveryTick\")","v":162.72999999999999},-7.0173297534781897E-3,{"$f":"RTD(\"cqg.rtd\",,\"StudyData\", \"Close(\"&$D$12&\") when LocalYear(\"&$D$12&\")=\"&$D$4&\" and localMonth(\"&$D$12&\") =\"&$E$4&\" and LocalDay(\"&$D$12&\")=\"&$F$4&\" and Barix(\"&$D$12&\",reference:=StartOfSession)=\"&A77&\"\", \"Bar\", \"\", \"Close\",\"5\",\"0\",\"PrimaryOnly\",,,\"False\",\"T\",\"EveryTick\")","v":163.81},2.8774335741398242E-3,{"$f":"RTD(\"cqg.rtd\",,\"StudyData\", \"Close(\"&$D$12&\") when LocalYear(\"&$D$12&\")=\"&$D$5&\" and localMonth(\"&$D$12&\") =\"&$E$5&\" and LocalDay(\"&$D$12&\")=\"&$F$5&\" and Barix(\"&$D$12&\",reference:=StartOfSession)=\"&A77&\"\", \"Bar\", \"\", \"Close\",\"5\",\"0\",\"PrimaryOnly\",,,\"False\",\"T\",\"EveryTick\")","v":163.13},5.981746423285637E-3,{"$f":"RTD(\"cqg.rtd\",,\"StudyData\", \"Close(\"&$D$12&\") when LocalYear(\"&$D$12&\")=\"&$D$6&\" and localMonth(\"&$D$12&\") =\"&$E$6&\" and LocalDay(\"&$D$12&\")=\"&$F$6&\" and Barix(\"&$D$12&\",reference:=StartOfSession)=\"&A77&\"\", \"Bar\", \"\", \"Close\",\"5\",\"0\",\"PrimaryOnly\",,,\"False\",\"T\",\"EveryTick\")","v":162.08000000000001},9.2782863191980137E-3,{"$f":"RTD(\"cqg.rtd\",,\"StudyData\", \"Close(\"&$D$12&\") when LocalYear(\"&$D$12&\")=\"&$D$7&\" and localMonth(\"&$D$12&\") =\"&$E$7&\" and LocalDay(\"&$D$12&\")=\"&$F$7&\" and Barix(\"&$D$12&\",reference:=StartOfSession)=\"&A77&\"\", \"Bar\", \"\", \"Close\",\"5\",\"0\",\"PrimaryOnly\",,,\"False\",\"T\",\"EveryTick\")","v":160.53},1.3895029369039275E-2,{"$f":"RTD(\"cqg.rtd\",,\"StudyData\", \"Close(\"&$D$12&\") when LocalYear(\"&$D$12&\")=\"&$D$8&\" and localMonth(\"&$D$12&\") =\"&$E$8&\" and LocalDay(\"&$D$12&\")=\"&$F$8&\" and Barix(\"&$D$12&\",reference:=StartOfSession)=\"&A77&\"\", \"Bar\", \"\", \"Close\",\"5\",\"0\",\"PrimaryOnly\",,,\"False\",\"T\",\"EveryTick\")","v":""},{"$error":"#N/A"},{"$f":"RTD(\"cqg.rtd\",,\"StudyData\", \"Close(\"&$D$12&\") when LocalYear(\"&$D$12&\")=\"&$D$9&\" and localMonth(\"&$D$12&\") =\"&$E$9&\" and LocalDay(\"&$D$12&\")=\"&$F$9&\" and Barix(\"&$D$12&\",reference:=StartOfSession)=\"&A77&\"\", \"Bar\", \"\", \"Close\",\"5\",\"0\",\"PrimaryOnly\",,,\"False\",\"T\",\"EveryTick\")","v":159.69999999999999},7.8889239507731156E-3,{"$f":"RTD(\"cqg.rtd\",,\"StudyData\", \"Close(\"&$D$12&\") when LocalYear(\"&$D$12&\")=\"&$D$10&\" and localMonth(\"&$D$12&\") =\"&$E$10&\" and LocalDay(\"&$D$12&\")=\"&$F$10&\" and Barix(\"&$D$12&\",reference:=StartOfSession)=\"&A77&\"\", \"Bar\", \"\", \"Close\",\"5\",\"0\",\"PrimaryOnly\",,,\"False\",\"T\",\"EveryTick\")","v":158.74},3.7941064879222384E-3,null,null,null,""]
[77,"14:55:00",0,{"$f":" RTD(\"cqg.rtd\",,\"StudyData\", $D$12,  \"Tick\", \"FlatTicks=0\", \"Tick\",\"D\",C78,\"PrimaryOnly\")","v":165.73},null,null,null,{"$f":"RTD(\"cqg.rtd\",,\"StudyData\", \"Close(\"&$D$12&\") when LocalYear(\"&$D$12&\")=\"&$D$1&\" and localMonth(\"&$D$12&\") =\"&$E$1&\" and LocalDay(\"&$D$12&\")=\"&$F$1&\" and Barix(\"&$D$12&\",reference:=StartOfSession)=\"&A78&\"\", \"Bar\", \"\", \"Close\",\"5\",\"0\",\"PrimaryOnly\",,,\"False\",\"T\",\"EveryTick\")","v":""},{"$error":"#N/A"},{"$f":"RTD(\"cqg.rtd\",,\"StudyData\", \"Close(\"&$D$12&\") when LocalYear(\"&$D$12&\")=\"&$D$2&\" and localMonth(\"&$D$12&\") =\"&$E$2&\" and LocalDay(\"&$D$12&\")=\"&$F$2&\" and Barix(\"&$D$12&\",reference:=StartOfSession)=\"&A78&\"\", \"Bar\", \"\", \"Close\",\"5\",\"0\",\"PrimaryOnly\",,,\"False\",\"T\",\"EveryTick\")","v":165.83},1.9676566439156471E-2,{"$f":"RTD(\"cqg.rtd\",,\"StudyData\", \"Close(\"&$D$12&\") when LocalYear(\"&$D$12&\")=\"&$D$3&\" and localMonth(\"&$D$12&\") =\"&$E$3&\" and LocalDay(\"&$D$12&\")=\"&$F$3&\" and Barix(\"&$D$12&\",reference:=StartOfSession)=\"&A78&\"\", \"Bar\", \"\", \"Close\",\"5\",\"0\",\"PrimaryOnly\",,,\"False\",\"T\",\"EveryTick\")","v":162.63},-7.6275323407371245E-3,{"$f":"RTD(\"cqg.rtd\",,\"StudyData\", \"Close(\"&$D$12&\") when LocalYear(\"&$D$12&\")=\"&$D$4&\" and localMonth(\"&$D$12&\") =\"&$E$4&\" and LocalDay(\"&$D$12&\")=\"&$F$4&\" and Barix(\"&$D$12&\",reference:=StartOfSession)=\"&A78&\"\", \"Bar\", \"\", \"Close\",\"5\",\"0\",\"PrimaryOnly\",,,\"False\",\"T\",\"EveryTick\")","v":163.88},3.3059875107137996E-3,{"$f":"RTD(\"cqg.rtd\",,\"StudyData\", \"Close(\"&$D$12&\") when LocalYear(\"&$D$12&\")=\"&$D$5&\" and localMonth(\"&$D$12&\") =\"&$E$5&\" and LocalDay(\"&$D$12&\")=\"&$F$5&\" and Barix(\"&$D$12&\",reference:=StartOfSession)=\"&A78&\"\", \"Bar\", \"\", \"Close\",\"5\",\"0\",\"PrimaryOnly\",,,\"False\",\"T\",\"EveryTick\")","v":163.34},7.2767636901825781E-3,{"$f":"RTD(\"cqg.rtd\",,\"StudyData\", \"Close(\"&$D$12&\") when LocalYear(\"&$D$12&\")=\"&$D$6&\" and localMonth(\"&$D$12&\") =\"&$E$6&\" and LocalDay(\"&$D$12&\")=\"&$F$6&\" and Barix(\"&$D$12&\",reference:=StartOfSession)=\"&A78&\"\", \"Bar\", \"\", \"Close\",\"5\",\"0\",\"PrimaryOnly\",,,\"False\",\"T\",\"EveryTick\")","v":162.16},9.7764493430474702E-3,{"$f":"RTD(\"cqg.rtd\",,\"StudyData\", \"Close(\"&$D$12&\") when LocalYear(\"&$D$12&\")=\"&$D$7&\" and localMonth(\"&$D$12&\") =\"&$E$7&\" and LocalDay(\"&$D$12&\")=\"&$F$7&\" and Barix(\"&$D$12&\",reference:=StartOfSession)=\"&A78&\"\", \"Bar\", \"\", \"Close\",\"5\",\"0\",\"PrimaryOnly\",,,\"False\",\"T\",\"EveryTick\")","v":160.59},1.4273984715467635E-2,{"$f":"RTD(\"cqg.rtd\",,\"StudyData\", \"Close(\"&$D$12&\") when LocalYear(\"&$D$12&\")=\"&$D$8&\" and localMonth(\"&$D$12&\") =\"&$E$8&\" and LocalDay(\"&$D$12&\")=\"&$F$8&\" and Barix(\"&$D$12&\",reference:=StartOfSession)=\"&A78&\"\", \"Bar\", \"\", \"Close\",\"5\",\"0\",\"PrimaryOnly\",,,\"False\",\"T\",\"EveryTick\")","v":""},{"$error":"#N/A"},{"$f":"RTD(\"cqg.rtd\",,\"StudyData\", \"Close(\"&$D$12&\") when LocalYear(\"&$D$12&\")=\"&$D$9&\" and localMonth(\"&$D$12&\") =\"&$E$9&\" and LocalDay(\"&$D$12&\")=\"&$F$9&\" and Barix(\"&$D$12&\",reference:=StartOfSession)=\"&A78&\"\", \"Bar\", \"\", \"Close\",\"5\",\"0\",\"PrimaryOnly\",,,\"False\",\"T\",\"EveryTick\")","v":159.88},9.024928999684486E-3,{"$f":"RTD(\"cqg.rtd\",,\"StudyData\", \"Close(\"&$D$12&\") when LocalYear(\"&$D$12&\")=\"&$D$10&\" and localMonth(\"&$D$12&\") =\"&$E$10&\" and LocalDay(\"&$D$12&\")=\"&$F$10&\" and Barix(\"&$D$12&\",reference:=StartOfSession)=\"&A78&\"\", \"Bar\", \"\", \"Close\",\"5\",\"0\",\"PrimaryOnly\",,,\"False\",\"T\",\"EveryTick\")","v":158.44999999999999},1.9602883520930966E-3,null,null,null,""]
[78,"15:00:00",null,null,null,null,null,{"$f":"RTD(\"cqg.rtd\",,\"StudyData\", \"Close(\"&$D$12&\") when LocalYear(\"&$D$12&\")=\"&$D$1&\" and localMonth(\"&$D$12&\") =\"&$E$1&\" and LocalDay(\"&$D$12&\")=\"&$F$1&\" and Barix(\"&$D$12&\",reference:=StartOfSession)=\"&A79&\"\", \"Bar\", \"\", \"Close\",\"5\",\"0\",\"PrimaryOnly\",,,\"False\",\"T\",\"EveryTick\")","v":""},{"$error":"#N/A"},{"$f":"RTD(\"cqg.rtd\",,\"StudyData\", \"Close(\"&$D$12&\") when LocalYear(\"&$D$12&\")=\"&$D$2&\" and localMonth(\"&$D$12&\") =\"&$E$2&\" and LocalDay(\"&$D$12&\")=\"&$F$2&\" and Barix(\"&$D$12&\",reference:=StartOfSession)=\"&A79&\"\", \"Bar\", \"\", \"Close\",\"5\",\"0\",\"PrimaryOnly\",,,\"False\",\"T\",\"EveryTick\")","v":""},{"$error":"#N/A"},{"$f":"RTD(\"cqg.rtd\",,\"StudyData\", \"Close(\"&$D$12&\") when LocalYear(\"&$D$12&\")=\"&$D$3&\" and localMonth(\"&$D$12&\") =\"&$E$3&\" and LocalDay(\"&$D$12&\")=\"&$F$3&\" and Barix(\"&$D$12&\",reference:=StartOfSession)=\"&A79&\"\", \"Bar\", \"\", \"Close\",\"5\",\"0\",\"PrimaryOnly\",,,\"False\",\"T\",\"EveryTick\")","v":""},{"$error":"#N/A"},{"$f":"RTD(\"cqg.rtd\",,\"StudyData\", \"Close(\"&$D$12&\") when LocalYear(\"&$D$12&\")=\"&$D$4&\" and localMonth(\"&$D$12&\") =\"&$E$4&\" and LocalDay(\"&$D$12&\")=\"&$F$4&\" and Barix(\"&$D$12&\",reference:=StartOfSession)=\"&A79&\"\", \"Bar\", \"\", \"Close\",\"5\",\"0\",\"PrimaryOnly\",,,\"False\",\"T\",\"EveryTick\")","v":""},{"$error":"#N/A"},{"$f":"RTD(\"cqg.rtd\",,\"StudyData\", \"Close(\"&$D$12&\") when LocalYear(\"&$D$12&\")=\"&$D$5&\" and localMonth(\"&$D$12&\") =\"&$E$5&\" and LocalDay(\"&$D$12&\")=\"&$F$5&\" and Barix(\"&$D$12&\",reference:=StartOfSession)=\"&A79&\"\", \"Bar\", \"\", \"Close\",\"5\",\"0\",\"PrimaryOnly\",,,\"False\",\"T\",\"EveryTick\")","v":""},{"$error":"#N/A"},{"$f":"RTD(\"cqg.rtd\",,\"StudyData\", \"Close(\"&$D$12&\") when LocalYear(\"&$D$12&\")=\"&$D$6&\" and localMonth(\"&$D$12&\") =\"&$E$6&\" and LocalDay(\"&$D$12&\")=\"&$F$6&\" and Barix(\"&$D$12&\",reference:=StartOfSession)=\"&A79&\"\", \"Bar\", \"\", \"Close\",\"5\",\"0\",\"PrimaryOnly\",,,\"False\",\"T\",\"EveryTick\")","v":""},{"$error":"#N/A"},{"$f":"RTD(\"cqg.rtd\",,\"StudyData\", \"Close(\"&$D$12&\") when LocalYear(\"&$D$12&\")=\"&$D$7&\" and localMonth(\"&$D$12&\") =\"&$E$7&\" and LocalDay(\"&$D$12&\")=\"&$F$7&\" and Barix(\"&$D$12&\",reference:=StartOfSession)=\"&A79&\"\", \"Bar\", \"\", \"Close\",\"5\",\"0\",\"PrimaryOnly\",,,\"False\",\"T\",\"EveryTick\")","v":""},{"$error":"#N/A"},{"$f":"RTD(\"cqg.rtd\",,\"StudyData\", \"Close(\"&$D$12&\") when LocalYear(\"&$D$12&\")=\"&$D$8&\" and localMonth(\"&$D$12&\") =\"&$E$8&\" and LocalDay(\"&$D$12&\")=\"&$F$8&\" and Barix(\"&$D$12&\",reference:=StartOfSession)=\"&A79&\"\", \"Bar\", \"\", \"Close\",\"5\",\"0\",\"PrimaryOnly\",,,\"False\",\"T\",\"EveryTick\")","v":""},{"$error":"#N/A"},{"$f":"RTD(\"cqg.rtd\",,\"StudyData\", \"Close(\"&$D$12&\") when LocalYear(\"&$D$12&\")=\"&$D$9&\" and localMonth(\"&$D$12&\") =\"&$E$9&\" and LocalDay(\"&$D$12&\")=\"&$F$9&\" and Barix(\"&$D$12&\",reference:=StartOfSession)=\"&A79&\"\", \"Bar\", \"\", \"Close\",\"5\",\"0\",\"PrimaryOnly\",,,\"False\",\"T\",\"EveryTick\")","v":""},{"$error":"#N/A"},{"$f":"RTD(\"cqg.rtd\",,\"StudyData\", \"Close(\"&$D$12&\") when LocalYear(\"&$D$12&\")=\"&$D$10&\" and localMonth(\"&$D$12&\") =\"&$E$10&\" and LocalDay(\"&$D$12&\")=\"&$F$10&\" and Barix(\"&$D$12&\",reference:=StartOfSession)=\"&A79&\"\", \"Bar\", \"\", \"Close\",\"5\",\"0\",\"PrimaryOnly\",,,\"False\",\"T\",\"EveryTick\")","v":""},{"$error":"#N/A"},null,null,null,""]
[79,"15:05:00",null,null,null,null,null,{"$f":"RTD(\"cqg.rtd\",,\"StudyData\", \"Close(\"&$D$12&\") when LocalYear(\"&$D$12&\")=\"&$D$1&\" and localMonth(\"&$D$12&\") =\"&$E$1&\" and LocalDay(\"&$D$12&\")=\"&$F$1&\" and Barix(\"&$D$12&\",reference:=StartOfSession)=\"&A80&\"\", \"Bar\", \"\", \"Close\",\"5\",\"0\",\"PrimaryOnly\",,,\"False\",\"T\",\"EveryTick\")","v":""},{"$error":"#N/A"},{"$f":"RTD(\"cqg.rtd\",,\"StudyData\", \"Close(\"&$D$12&\") when LocalYear(\"&$D$12&\")=\"&$D$2&\" and localMonth(\"&$D$12&\") =\"&$E$2&\" and LocalDay(\"&$D$12&\")=\"&$F$2&\" and Barix(\"&$D$12&\",reference:=StartOfSession)=\"&A80&\"\", \"Bar\", \"\", \"Close\",\"5\",\"0\",\"PrimaryOnly\",,,\"False\",\"T\",\"EveryTick\")","v":""},{"$error":"#N/A"},{"$f":"RTD(\"cqg.rtd\",,\"StudyData\", \"Close(\"&$D$12&\") when LocalYear(\"&$D$12&\")=\"&$D$3&\" and localMonth(\"&$D$12&\") =\"&$E$3&\" and LocalDay(\"&$D$12&\")=\"&$F$3&\" and Barix(\"&$D$12&\",reference:=StartOfSession)=\"&A80&\"\", \"Bar\", \"\", \"Close\",\"5\",\"0\",\"PrimaryOnly\",,,\"False\",\"T\",\"EveryTick\")","v":""},{"$error":"#N/A"},{"$f":"RTD(\"cqg.rtd\",,\"StudyData\", \"Close(\"&$D$12&\") when LocalYear(\"&$D$12&\")=\"&$D$4&\" and localMonth(\"&$D$12&\") =\"&$E$4&\" and LocalDay(\"&$D$12&\")=\"&$F$4&\" and Barix(\"&$D$12&\",reference:=StartOfSession)=\"&A80&\"\", \"Bar\", \"\", \"Close\",\"5\",\"0\",\"PrimaryOnly\",,,\"False\",\"T\",\"EveryTick\")","v":""},{"$error":"#N/A"},{"$f":"RTD(\"cqg.rtd\",,\"StudyData\", \"Close(\"&$D$12&\") when LocalYear(\"&$D$12&\")=\"&$D$5&\" and localMonth(\"&$D$12&\") =\"&$E$5&\" and LocalDay(\"&$D$12&\")=\"&$F$5&\" and Barix(\"&$D$12&\",reference:=StartOfSession)=\"&A80&\"\", \"Bar\", \"\", \"Close\",\"5\",\"0\",\"PrimaryOnly\",,,\"False\",\"T\",\"EveryTick\")","v":""},{"$error":"#N/A"},{"$f":"RTD(\"cqg.rtd\",,\"StudyData\", \"Close(\"&$D$12&\") when LocalYear(\"&$D$12&\")=\"&$D$6&\" and localMonth(\"&$D$12&\") =\"&$E$6&\" and LocalDay(\"&$D$12&\")=\"&$F$6&\" and Barix(\"&$D$12&\",reference:=StartOfSession)=\"&A80&\"\", \"Bar\", \"\", \"Close\",\"5\",\"0\",\"PrimaryOnly\",,,\"False\",\"T\",\"EveryTick\")","v":""},{"$error":"#N/A"},{"$f":"RTD(\"cqg.rtd\",,\"StudyData\", \"Close(\"&$D$12&\") when LocalYear(\"&$D$12&\")=\"&$D$7&\" and localMonth(\"&$D$12&\") =\"&$E$7&\" and LocalDay(\"&$D$12&\")=\"&$F$7&\" and Barix(\"&$D$12&\",reference:=StartOfSession)=\"&A80&\"\", \"Bar\", \"\", \"Close\",\"5\",\"0\",\"PrimaryOnly\",,,\"False\",\"T\",\"EveryTick\")","v":""},{"$error":"#N/A"},{"$f":"RTD(\"cqg.rtd\",,\"StudyData\", \"Close(\"&$D$12&\") when LocalYear(\"&$D$12&\")=\"&$D$8&\" and localMonth(\"&$D$12&\") =\"&$E$8&\" and LocalDay(\"&$D$12&\")=\"&$F$8&\" and Barix(\"&$D$12&\",reference:=StartOfSession)=\"&A80&\"\", \"Bar\", \"\", \"Close\",\"5\",\"0\",\"PrimaryOnly\",,,\"False\",\"T\",\"EveryTick\")","v":""},{"$error":"#N/A"},{"$f":"RTD(\"cqg.rtd\",,\"StudyData\", \"Close(\"&$D$12&\") when LocalYear(\"&$D$12&\")=\"&$D$9&\" and localMonth(\"&$D$12&\") =\"&$E$9&\" and LocalDay(\"&$D$12&\")=\"&$F$9&\" and Barix(\"&$D$12&\",reference:=StartOfSession)=\"&A80&\"\", \"Bar\", \"\", \"Close\",\"5\",\"0\",\"PrimaryOnly\",,,\"False\",\"T\",\"EveryTick\")","v":""},{"$error":"#N/A"},{"$f":"RTD(\"cqg.rtd\",,\"StudyData\", \"Close(\"&$D$12&\") when LocalYear(\"&$D$12&\")=\"&$D$10&\" and localMonth(\"&$D$12&\") =\"&$E$10&\" and LocalDay(\"&$D$12&\")=\"&$F$10&\" and Barix(\"&$D$12&\",reference:=StartOfSession)=\"&A80&\"\", \"Bar\", \"\", \"Close\",\"5\",\"0\",\"PrimaryOnly\",,,\"False\",\"T\",\"EveryTick\")","v":""},{"$error":"#N/A"},null,null,null,""]
[80,"15:10:00",null,null,null,null,null,{"$f":"RTD(\"cqg.rtd\",,\"StudyData\", \"Close(\"&$D$12&\") when LocalYear(\"&$D$12&\")=\"&$D$1&\" and localMonth(\"&$D$12&\") =\"&$E$1&\" and LocalDay(\"&$D$12&\")=\"&$F$1&\" and Barix(\"&$D$12&\",reference:=StartOfSession)=\"&A81&\"\", \"Bar\", \"\", \"Close\",\"5\",\"0\",\"PrimaryOnly\",,,\"False\",\"T\",\"EveryTick\")","v":""},{"$error":"#N/A"},{"$f":"RTD(\"cqg.rtd\",,\"StudyData\", \"Close(\"&$D$12&\") when LocalYear(\"&$D$12&\")=\"&$D$2&\" and localMonth(\"&$D$12&\") =\"&$E$2&\" and LocalDay(\"&$D$12&\")=\"&$F$2&\" and Barix(\"&$D$12&\",reference:=StartOfSession)=\"&A81&\"\", \"Bar\", \"\", \"Close\",\"5\",\"0\",\"PrimaryOnly\",,,\"False\",\"T\",\"EveryTick\")","v":""},{"$error":"#N/A"},{"$f":"RTD(\"cqg.rtd\",,\"StudyData\", \"Close(\"&$D$12&\") when LocalYear(\"&$D$12&\")=\"&$D$3&\" and localMonth(\"&$D$12&\") =\"&$E$3&\" and LocalDay(\"&$D$12&\")=\"&$F$3&\" and Barix(\"&$D$12&\",reference:=StartOfSession)=\"&A81&\"\", \"Bar\", \"\", \"Close\",\"5\",\"0\",\"PrimaryOnly\",,,\"False\",\"T\",\"EveryTick\")","v":""},{"$error":"#N/A"},{"$f":"RTD(\"cqg.rtd\",,\"StudyData\", \"Close(\"&$D$12&\") when LocalYear(\"&$D$12&\")=\"&$D$4&\" and localMonth(\"&$D$12&\") =\"&$E$4&\" and LocalDay(\"&$D$12&\")=\"&$F$4&\" and Barix(\"&$D$12&\",reference:=StartOfSession)=\"&A81&\"\", \"Bar\", \"\", \"Close\",\"5\",\"0\",\"PrimaryOnly\",,,\"False\",\"T\",\"EveryTick\")","v":""},{"$error":"#N/A"},{"$f":"RTD(\"cqg.rtd\",,\"StudyData\", \"Close(\"&$D$12&\") when LocalYear(\"&$D$12&\")=\"&$D$5&\" and localMonth(\"&$D$12&\") =\"&$E$5&\" and LocalDay(\"&$D$12&\")=\"&$F$5&\" and Barix(\"&$D$12&\",reference:=StartOfSession)=\"&A81&\"\", \"Bar\", \"\", \"Close\",\"5\",\"0\",\"PrimaryOnly\",,,\"False\",\"T\",\"EveryTick\")","v":""},{"$error":"#N/A"},{"$f":"RTD(\"cqg.rtd\",,\"StudyData\", \"Close(\"&$D$12&\") when LocalYear(\"&$D$12&\")=\"&$D$6&\" and localMonth(\"&$D$12&\") =\"&$E$6&\" and LocalDay(\"&$D$12&\")=\"&$F$6&\" and Barix(\"&$D$12&\",reference:=StartOfSession)=\"&A81&\"\", \"Bar\", \"\", \"Close\",\"5\",\"0\",\"PrimaryOnly\",,,\"False\",\"T\",\"EveryTick\")","v":""},{"$error":"#N/A"},{"$f":"RTD(\"cqg.rtd\",,\"StudyData\", \"Close(\"&$D$12&\") when LocalYear(\"&$D$12&\")=\"&$D$7&\" and localMonth(\"&$D$12&\") =\"&$E$7&\" and LocalDay(\"&$D$12&\")=\"&$F$7&\" and Barix(\"&$D$12&\",reference:=StartOfSession)=\"&A81&\"\", \"Bar\", \"\", \"Close\",\"5\",\"0\",\"PrimaryOnly\",,,\"False\",\"T\",\"EveryTick\")","v":""},{"$error":"#N/A"},{"$f":"RTD(\"cqg.rtd\",,\"StudyData\", \"Close(\"&$D$12&\") when LocalYear(\"&$D$12&\")=\"&$D$8&\" and localMonth(\"&$D$12&\") =\"&$E$8&\" and LocalDay(\"&$D$12&\")=\"&$F$8&\" and Barix(\"&$D$12&\",reference:=StartOfSession)=\"&A81&\"\", \"Bar\", \"\", \"Close\",\"5\",\"0\",\"PrimaryOnly\",,,\"False\",\"T\",\"EveryTick\")","v":""},{"$error":"#N/A"},{"$f":"RTD(\"cqg.rtd\",,\"StudyData\", \"Close(\"&$D$12&\") when LocalYear(\"&$D$12&\")=\"&$D$9&\" and localMonth(\"&$D$12&\") =\"&$E$9&\" and LocalDay(\"&$D$12&\")=\"&$F$9&\" and Barix(\"&$D$12&\",reference:=StartOfSession)=\"&A81&\"\", \"Bar\", \"\", \"Close\",\"5\",\"0\",\"PrimaryOnly\",,,\"False\",\"T\",\"EveryTick\")","v":""},{"$error":"#N/A"},{"$f":"RTD(\"cqg.rtd\",,\"StudyData\", \"Close(\"&$D$12&\") when LocalYear(\"&$D$12&\")=\"&$D$10&\" and localMonth(\"&$D$12&\") =\"&$E$10&\" and LocalDay(\"&$D$12&\")=\"&$F$10&\" and Barix(\"&$D$12&\",reference:=StartOfSession)=\"&A81&\"\", \"Bar\", \"\", \"Close\",\"5\",\"0\",\"PrimaryOnly\",,,\"False\",\"T\",\"EveryTick\")","v":""},{"$error":"#N/A"},null,null,null,""]
[]
[null,null,null,null,null,null,null,null,null,null,null,null,null,null,null,null,null,null,null,null,null,null,null,null,null,null,null,null,null,null,{"$f":"MAX(AE1:AE81)","v":22}]

{"sheet":"Sheet4 (3)","index":6,"n_rows":93,"n_cols":20,"rows_kept":93,"cut":false,"hidden":true,"merged":[]}
[null,{"$f":"'Sheet3 (3)'!I1","v":8.4423807513710637E-4},{"$f":"'Sheet3 (3)'!K1","v":7.0712660640718543E-3},null,{"$f":"'Sheet3 (3)'!M1","v":-6.5901879423967786E-3},null,{"$f":"'Sheet3 (3)'!O1","v":-1.8366597281744299E-4},null,{"$f":"'Sheet3 (3)'!Q1","v":5.4884065120869192E-3},null,{"$f":"'Sheet3 (3)'!S1","v":-1.681300205492311E-3},null,{"$f":"'Sheet3 (3)'!U1","v":6.2527632160675846E-3},null,{"$f":"'Sheet3 (3)'!W1","v":1.4385789342007643E-3},null,{"$f":"'Sheet3 (3)'!Y1","v":-7.8889239507731156E-3},null,{"$f":"'Sheet3 (3)'!AA1","v":5.501454407487066E-3}]
[null,{"$f":"'Sheet3 (3)'!I2","v":4.2211903756855318E-4},{"$f":"'Sheet3 (3)'!K2","v":7.0712660640718543E-3},{"$f":"IF(ISNUMBER(C2),CORREL($B$1:B2,$C$1:C2),\"\")","v":{"$error":"#DIV/0!"}},{"$f":"'Sheet3 (3)'!M2","v":-5.0646814742493539E-3},{"$f":"IF(ISNUMBER(E2),CORREL($B$1:B2,$E$1:E2),\"\")","v":-1},{"$f":"'Sheet3 (3)'!O2","v":2.1427696828700523E-3},{"$f":"IF(ISNUMBER(G2),CORREL($B$1:B2,$G$1:G2),\"\")","v":-1},{"$f":"'Sheet3 (3)'!Q2","v":4.6250616674888998E-3},{"$f":"IF(ISNUMBER(I2),CORREL($B$1:B2,$I$1:I2),\"\")","v":1},{"$f":"'Sheet3 (3)'!S2","v":-1.2454075596245241E-4},{"$f":"IF(ISNUMBER(K2),CORREL($B$1:B2,$K$1:K2),\"\")","v":-1},{"$f":"'Sheet3 (3)'!U2","v":6.3790816648770969E-3},{"$f":"IF(ISNUMBER(M2),CORREL($B$1:B2,$M$1:M2),\"\")","v":-1},{"$f":"'Sheet3 (3)'!W2","v":-1.3760320240180065E-3},{"$f":"IF(ISNUMBER(O2),CORREL($B$1:B2,$O$1:O2),\"\")","v":1},{"$f":"'Sheet3 (3)'!Y2","v":-6.6898075102556163E-3},{"$f":"IF(ISNUMBER(Q2),CORREL($B$1:B2,$Q$1:Q2),\"\")","v":-1},{"$f":"'Sheet3 (3)'!AA2","v":4.2999873529784172E-3},{"$f":"IF(ISNUMBER(S2),CORREL($B$1:B2,$S$1:S2),\"\")","v":1}]
[null,{"$f":"'Sheet3 (3)'!I3","v":-1.0854489537478551E-3},{"$f":"'Sheet3 (3)'!K3","v":7.0712660640718543E-3},{"$f":"IF(ISNUMBER(C3),CORREL($B$1:B3,$C$1:C3),\"\")","v":{"$error":"#DIV/0!"}},{"$f":"'Sheet3 (3)'!M3","v":-6.8952892360263328E-3},{"$f":"IF(ISNUMBER(E3),CORREL($B$1:B3,$E$1:E3),\"\")","v":0.45305679359671475},{"$f":"'Sheet3 (3)'!O3","v":2.1427696828700523E-3},{"$f":"IF(ISNUMBER(G3),CORREL($B$1:B3,$G$1:G3),\"\")","v":-0.66923826747820259},{"$f":"'Sheet3 (3)'!Q3","v":5.1184015786877929E-3},{"$f":"IF(ISNUMBER(I3),CORREL($B$1:B3,$I$1:I3),\"\")","v":0.12694856935311602},{"$f":"'Sheet3 (3)'!S3","v":4.3589264586831793E-4},{"$f":"IF(ISNUMBER(K3),CORREL($B$1:B3,$K$1:K3),\"\")","v":-0.83684350528370877},{"$f":"'Sheet3 (3)'!U3","v":6.3790816648770969E-3},{"$f":"IF(ISNUMBER(M3),CORREL($B$1:B3,$M$1:M3),\"\")","v":-0.6692382674782027},{"$f":"'Sheet3 (3)'!W3","v":-2.2516887665748387E-3},{"$f":"IF(ISNUMBER(O3),CORREL($B$1:B3,$O$1:O3),\"\")","v":0.82048069182856798},{"$f":"'Sheet3 (3)'!Y3","v":-6.3742505522246199E-3},{"$f":"IF(ISNUMBER(Q3),CORREL($B$1:B3,$Q$1:Q3),\"\")","v":-0.80276971817014509},{"$f":"'Sheet3 (3)'!AA3","v":4.869103326166753E-3},{"$f":"IF(ISNUMBER(S3),CORREL($B$1:B3,$S$1:S3),\"\")","v":0.23766561904256539}]
[null,{"$f":"'Sheet3 (3)'!I4","v":-1.0854489537478551E-3},{"$f":"'Sheet3 (3)'!K4","v":8.9774334378651417E-3},{"$f":"IF(ISNUMBER(C4),CORREL($B$1:B4,$C$1:C4),\"\")","v":-0.56883508090482848},{"$f":"'Sheet3 (3)'!M4","v":-6.9563094947521749E-3},{"$f":"IF(ISNUMBER(E4),CORREL($B$1:B4,$E$1:E4),\"\")","v":0.58281670028163357},{"$f":"'Sheet3 (3)'!O4","v":2.1427696828700523E-3},{"$f":"IF(ISNUMBER(G4),CORREL($B$1:B4,$G$1:G4),\"\")","v":-0.70854896042530069},{"$f":"'Sheet3 (3)'!Q4","v":4.7483966452886673E-3},{"$f":"IF(ISNUMBER(I4),CORREL($B$1:B4,$I$1:I4),\"\")","v":0.33451637487455932},{"$f":"'Sheet3 (3)'!S4","v":-3.1135188990604254E-4},{"$f":"IF(ISNUMBER(K4),CORREL($B$1:B4,$K$1:K4),\"\")","v":-0.7319979651398465},{"$f":"'Sheet3 (3)'!U4","v":7.5159477041621776E-3},{"$f":"IF(ISNUMBER(M4),CORREL($B$1:B4,$M$1:M4),\"\")","v":-0.62127378328487048},{"$f":"'Sheet3 (3)'!W4","v":-1.2509382036526686E-3},{"$f":"IF(ISNUMBER(O4),CORREL($B$1:B4,$O$1:O4),\"\")","v":0.75864500812977931},{"$f":"'Sheet3 (3)'!Y4","v":-3.660460713158625E-3},{"$f":"IF(ISNUMBER(Q4),CORREL($B$1:B4,$Q$1:Q4),\"\")","v":-0.77077479621967881},{"$f":"'Sheet3 (3)'!AA4","v":6.5132161375996032E-3},{"$f":"IF(ISNUMBER(S4),CORREL($B$1:B4,$S$1:S4),\"\")","v":-0.38561519389210724}]
[null,{"$f":"'Sheet3 (3)'!I5","v":-4.8242175722125746E-3},{"$f":"'Sheet3 (3)'!K5","v":1.0207218840312345E-2},{"$f":"IF(ISNUMBER(C5),CORREL($B$1:B5,$C$1:C5),\"\")","v":-0.88296040793594777},{"$f":"'Sheet3 (3)'!M5","v":-6.3461069074932392E-3},{"$f":"IF(ISNUMBER(E5),CORREL($B$1:B5,$E$1:E5),\"\")","v":0.21122832769098013},{"$f":"'Sheet3 (3)'!O5","v":1.2856618097221008E-3},{"$f":"IF(ISNUMBER(G5),CORREL($B$1:B5,$G$1:G5),\"\")","v":-0.16286005612390511},{"$f":"'Sheet3 (3)'!Q5","v":2.0966946225949891E-3},{"$f":"IF(ISNUMBER(I5),CORREL($B$1:B5,$I$1:I5),\"\")","v":0.92380199100743465},{"$f":"'Sheet3 (3)'!S5","v":2.4908151192472782E-4},{"$f":"IF(ISNUMBER(K5),CORREL($B$1:B5,$K$1:K5),\"\")","v":-0.59729813478120242},{"$f":"'Sheet3 (3)'!U5","v":5.4948525232108641E-3},{"$f":"IF(ISNUMBER(M5),CORREL($B$1:B5,$M$1:M5),\"\")","v":0.47565725232030742},{"$f":"'Sheet3 (3)'!W5","v":-1.4385789342005865E-3},{"$f":"IF(ISNUMBER(O5),CORREL($B$1:B5,$O$1:O5),\"\")","v":0.46058910791110963},{"$f":"'Sheet3 (3)'!Y5","v":-4.1653518460081831E-3},{"$f":"IF(ISNUMBER(Q5),CORREL($B$1:B5,$Q$1:Q5),\"\")","v":-0.71980417074861558},{"$f":"'Sheet3 (3)'!AA5","v":5.4382192993550887E-3},{"$f":"IF(ISNUMBER(S5),CORREL($B$1:B5,$S$1:S5),\"\")","v":-0.22123299912617533}]
[null,{"$f":"'Sheet3 (3)'!I6","v":-5.0654284508231525E-3},{"$f":"'Sheet3 (3)'!K6","v":1.0207218840312345E-2},{"$f":"IF(ISNUMBER(C6),CORREL($B$1:B6,$C$1:C6),\"\")","v":-0.92057060957852677},{"$f":"'Sheet3 (3)'!M6","v":-7.0173297534781897E-3},{"$f":"IF(ISNUMBER(E6),CORREL($B$1:B6,$E$1:E6),\"\")","v":0.37770698712503847},{"$f":"'Sheet3 (3)'!O6","v":7.958858822088616E-4},{"$f":"IF(ISNUMBER(G6),CORREL($B$1:B6,$G$1:G6),\"\")","v":6.9119916759206299E-2},{"$f":"'Sheet3 (3)'!Q6","v":1.9116921558954259E-3},{"$f":"IF(ISNUMBER(I6),CORREL($B$1:B6,$I$1:I6),\"\")","v":0.95427585154605954},{"$f":"'Sheet3 (3)'!S6","v":3.1135188990586554E-4},{"$f":"IF(ISNUMBER(K6),CORREL($B$1:B6,$K$1:K6),\"\")","v":-0.63749951091826862},{"$f":"'Sheet3 (3)'!U6","v":4.2948272595211166E-3},{"$f":"IF(ISNUMBER(M6),CORREL($B$1:B6,$M$1:M6),\"\")","v":0.72286500105403828},{"$f":"'Sheet3 (3)'!W6","v":-1.4385789342005865E-3},{"$f":"IF(ISNUMBER(O6),CORREL($B$1:B6,$O$1:O6),\"\")","v":0.44839065836749109},{"$f":"'Sheet3 (3)'!Y6","v":-4.2284632376143111E-3},{"$f":"IF(ISNUMBER(Q6),CORREL($B$1:B6,$Q$1:Q6),\"\")","v":-0.7508342356000105},{"$f":"'Sheet3 (3)'!AA6","v":5.4382192993550887E-3},{"$f":"IF(ISNUMBER(S6),CORREL($B$1:B6,$S$1:S6),\"\")","v":-0.21167924909888219}]
[null,{"$f":"'Sheet3 (3)'!I7","v":-2.8342278236748405E-3},{"$f":"'Sheet3 (3)'!K7","v":1.0207218840312345E-2},{"$f":"IF(ISNUMBER(C7),CORREL($B$1:B7,$C$1:C7),\"\")","v":-0.8917893198973178},{"$f":"'Sheet3 (3)'!M7","v":-7.0173297534781897E-3},{"$f":"IF(ISNUMBER(E7),CORREL($B$1:B7,$E$1:E7),\"\")","v":0.40438167456114216},{"$f":"'Sheet3 (3)'!O7","v":1.4693277825395439E-3},{"$f":"IF(ISNUMBER(G7),CORREL($B$1:B7,$G$1:G7),\"\")","v":6.2274229093026295E-2},{"$f":"'Sheet3 (3)'!Q7","v":1.295017266896941E-3},{"$f":"IF(ISNUMBER(I7),CORREL($B$1:B7,$I$1:I7),\"\")","v":0.86284165440842675},{"$f":"'Sheet3 (3)'!S7","v":3.1135188990586554E-4},{"$f":"IF(ISNUMBER(K7),CORREL($B$1:B7,$K$1:K7),\"\")","v":-0.65007326102523311},{"$f":"'Sheet3 (3)'!U7","v":4.4843049327352967E-3},{"$f":"IF(ISNUMBER(M7),CORREL($B$1:B7,$M$1:M7),\"\")","v":0.69577902560027627},{"$f":"'Sheet3 (3)'!W7","v":-3.7528146109583609E-4},{"$f":"IF(ISNUMBER(O7),CORREL($B$1:B7,$O$1:O7),\"\")","v":0.39627056742032296},{"$f":"'Sheet3 (3)'!Y7","v":-2.6506784474596879E-3},{"$f":"IF(ISNUMBER(Q7),CORREL($B$1:B7,$Q$1:Q7),\"\")","v":-0.70348490433355915},{"$f":"'Sheet3 (3)'!AA7","v":5.4382192993550887E-3},{"$f":"IF(ISNUMBER(S7),CORREL($B$1:B7,$S$1:S7),\"\")","v":-0.21725079251581705}]
[null,{"$f":"'Sheet3 (3)'!I8","v":-2.5327142254116617E-3},{"$f":"'Sheet3 (3)'!K8","v":1.0207218840312345E-2},{"$f":"IF(ISNUMBER(C8),CORREL($B$1:B8,$C$1:C8),\"\")","v":-0.86550611523710097},{"$f":"'Sheet3 (3)'!M8","v":-7.0173297534781897E-3},{"$f":"IF(ISNUMBER(E8),CORREL($B$1:B8,$E$1:E8),\"\")","v":0.41336533881801496},{"$f":"'Sheet3 (3)'!O8","v":1.5305497734786335E-3},{"$f":"IF(ISNUMBER(G8),CORREL($B$1:B8,$G$1:G8),\"\")","v":5.6494423431364606E-2},{"$f":"'Sheet3 (3)'!Q8","v":2.466699555993589E-4},{"$f":"IF(ISNUMBER(I8),CORREL($B$1:B8,$I$1:I8),\"\")","v":0.74962011746910562},{"$f":"'Sheet3 (3)'!S8","v":1.3699483155862684E-3},{"$f":"IF(ISNUMBER(K8),CORREL($B$1:B8,$K$1:K8),\"\")","v":-0.57095540252411192},{"$f":"'Sheet3 (3)'!U8","v":5.7474894208298906E-3},{"$f":"IF(ISNUMBER(M8),CORREL($B$1:B8,$M$1:M8),\"\")","v":0.69498418778250937},{"$f":"'Sheet3 (3)'!W8","v":-5.6292219164375413E-4},{"$f":"IF(ISNUMBER(O8),CORREL($B$1:B8,$O$1:O8),\"\")","v":0.37962785837009017},{"$f":"'Sheet3 (3)'!Y8","v":-2.2088987062164364E-3},{"$f":"IF(ISNUMBER(Q8),CORREL($B$1:B8,$Q$1:Q8),\"\")","v":-0.65295924107158021},{"$f":"'Sheet3 (3)'!AA8","v":6.9558618945239842E-3},{"$f":"IF(ISNUMBER(S8),CORREL($B$1:B8,$S$1:S8),\"\")","v":-0.22345484037133886}]
[null,{"$f":"'Sheet3 (3)'!I9","v":-1.86938430923236E-3},{"$f":"'Sheet3 (3)'!K9","v":1.1682961323249128E-2},{"$f":"IF(ISNUMBER(C9),CORREL($B$1:B9,$C$1:C9),\"\")","v":-0.71426131881471433},{"$f":"'Sheet3 (3)'!M9","v":-7.0173297534781897E-3},{"$f":"IF(ISNUMBER(E9),CORREL($B$1:B9,$E$1:E9),\"\")","v":0.39893848640861951},{"$f":"'Sheet3 (3)'!O9","v":1.5917717644177232E-3},{"$f":"IF(ISNUMBER(G9),CORREL($B$1:B9,$G$1:G9),\"\")","v":5.8196329687990718E-2},{"$f":"'Sheet3 (3)'!Q9","v":3.0833744449933008E-4},{"$f":"IF(ISNUMBER(I9),CORREL($B$1:B9,$I$1:I9),\"\")","v":0.65694815186877864},{"$f":"'Sheet3 (3)'!S9","v":1.3699483155862684E-3},{"$f":"IF(ISNUMBER(K9),CORREL($B$1:B9,$K$1:K9),\"\")","v":-0.49149863978693825},{"$f":"'Sheet3 (3)'!U9","v":5.7474894208298906E-3},{"$f":"IF(ISNUMBER(M9),CORREL($B$1:B9,$M$1:M9),\"\")","v":0.69400020358005232},{"$f":"'Sheet3 (3)'!W9","v":2.5018764073049814E-4},{"$f":"IF(ISNUMBER(O9),CORREL($B$1:B9,$O$1:O9),\"\")","v":0.36422890722672141},{"$f":"'Sheet3 (3)'!Y9","v":-5.048911328494686E-3},{"$f":"IF(ISNUMBER(Q9),CORREL($B$1:B9,$Q$1:Q9),\"\")","v":-0.65311504888651872},{"$f":"'Sheet3 (3)'!AA9","v":5.0588086505628646E-3},{"$f":"IF(ISNUMBER(S9),CORREL($B$1:B9,$S$1:S9),\"\")","v":-0.22361690288621738}]
[null,{"$f":"'Sheet3 (3)'!I10","v":-1.688476150274384E-3},{"$f":"'Sheet3 (3)'!K10","v":1.1682961323249128E-2},{"$f":"IF(ISNUMBER(C10),CORREL($B$1:B10,$C$1:C10),\"\")","v":-0.61970611282202703},{"$f":"'Sheet3 (3)'!M10","v":-4.2103978520868788E-3},{"$f":"IF(ISNUMBER(E10),CORREL($B$1:B10,$E$1:E10),\"\")","v":0.28584454652543911},{"$f":"'Sheet3 (3)'!O10","v":1.2244398187828372E-3},{"$f":"IF(ISNUMBER(G10),CORREL($B$1:B10,$G$1:G10),\"\")","v":5.3110142439544365E-2},{"$f":"'Sheet3 (3)'!Q10","v":-1.295017266896941E-3},{"$f":"IF(ISNUMBER(I10),CORREL($B$1:B10,$I$1:I10),\"\")","v":0.51965569653627575},{"$f":"'Sheet3 (3)'!S10","v":1.3699483155862684E-3},{"$f":"IF(ISNUMBER(K10),CORREL($B$1:B10,$K$1:K10),\"\")","v":-0.43219756628154232},{"$f":"'Sheet3 (3)'!U10","v":2.9684835470220354E-3},{"$f":"IF(ISNUMBER(M10),CORREL($B$1:B10,$M$1:M10),\"\")","v":0.46497152725718843},{"$f":"'Sheet3 (3)'!W10","v":7.5056292219167218E-4},{"$f":"IF(ISNUMBER(O10),CORREL($B$1:B10,$O$1:O10),\"\")","v":0.35156729932198827},{"$f":"'Sheet3 (3)'!Y10","v":-5.048911328494686E-3},{"$f":"IF(ISNUMBER(Q10),CORREL($B$1:B10,$Q$1:Q10),\"\")","v":-0.65398990407199875},{"$f":"'Sheet3 (3)'!AA10","v":5.8808650562792901E-3},{"$f":"IF(ISNUMBER(S10),CORREL($B$1:B10,$S$1:S10),\"\")","v":-0.21260249396831171}]
[null,{"$f":"'Sheet3 (3)'!I11","v":-1.688476150274384E-3},{"$f":"'Sheet3 (3)'!K11","v":1.1498493512882031E-2},{"$f":"IF(ISNUMBER(C11),CORREL($B$1:B11,$C$1:C11),\"\")","v":-0.56637769644480462},{"$f":"'Sheet3 (3)'!M11","v":-4.2103978520868788E-3},{"$f":"IF(ISNUMBER(E11),CORREL($B$1:B11,$E$1:E11),\"\")","v":0.25939291770481032},{"$f":"'Sheet3 (3)'!O11","v":2.3264356556874951E-3},{"$f":"IF(ISNUMBER(G11),CORREL($B$1:B11,$G$1:G11),\"\")","v":6.6515051334136377E-2},{"$f":"'Sheet3 (3)'!Q11","v":-6.1667488899795909E-5},{"$f":"IF(ISNUMBER(I11),CORREL($B$1:B11,$I$1:I11),\"\")","v":0.47771146476800297},{"$f":"'Sheet3 (3)'!S11","v":8.0951491375549813E-4},{"$f":"IF(ISNUMBER(K11),CORREL($B$1:B11,$K$1:K11),\"\")","v":-0.41874262107419497},{"$f":"'Sheet3 (3)'!U11","v":3.7263942398785758E-3},{"$f":"IF(ISNUMBER(M11),CORREL($B$1:B11,$M$1:M11),\"\")","v":0.40643527372569482},{"$f":"'Sheet3 (3)'!W11","v":4.3782837127841618E-4},{"$f":"IF(ISNUMBER(O11),CORREL($B$1:B11,$O$1:O11),\"\")","v":0.34998356181156709},{"$f":"'Sheet3 (3)'!Y11","v":-2.7137898390658154E-3},{"$f":"IF(ISNUMBER(Q11),CORREL($B$1:B11,$Q$1:Q11),\"\")","v":-0.59706477871712971},{"$f":"'Sheet3 (3)'!AA11","v":5.8808650562792901E-3},{"$f":"IF(ISNUMBER(S11),CORREL($B$1:B11,$S$1:S11),\"\")","v":-0.20382797710244099}]
[null,{"$f":"'Sheet3 (3)'!I12","v":-1.2060543930532295E-3},{"$f":"'Sheet3 (3)'!K12","v":1.3589128697042416E-2},{"$f":"IF(ISNUMBER(C12),CORREL($B$1:B12,$C$1:C12),\"\")","v":-0.403728092382939},{"$f":"'Sheet3 (3)'!M12","v":-3.1120331950206916E-3},{"$f":"IF(ISNUMBER(E12),CORREL($B$1:B12,$E$1:E12),\"\")","v":0.27542933766039757},{"$f":"'Sheet3 (3)'!O12","v":1.8978817191135195E-3},{"$f":"IF(ISNUMBER(G12),CORREL($B$1:B12,$G$1:G12),\"\")","v":8.477859780108507E-2},{"$f":"'Sheet3 (3)'!Q12","v":-9.8667982239761102E-4},{"$f":"IF(ISNUMBER(I12),CORREL($B$1:B12,$I$1:I12),\"\")","v":0.39408852341401795},{"$f":"'Sheet3 (3)'!S12","v":1.8058409614545865E-3},{"$f":"IF(ISNUMBER(K12),CORREL($B$1:B12,$K$1:K12),\"\")","v":-0.32250386709966539},{"$f":"'Sheet3 (3)'!U12","v":3.157961220236215E-3},{"$f":"IF(ISNUMBER(M12),CORREL($B$1:B12,$M$1:M12),\"\")","v":0.30803630799305493},{"$f":"'Sheet3 (3)'!W12","v":2.5018764073049814E-4},{"$f":"IF(ISNUMBER(O12),CORREL($B$1:B12,$O$1:O12),\"\")","v":0.36463893800970498},{"$f":"'Sheet3 (3)'!Y12","v":-1.8302303565793125E-3},{"$f":"IF(ISNUMBER(Q12),CORREL($B$1:B12,$Q$1:Q12),\"\")","v":-0.48739941624160371},{"$f":"'Sheet3 (3)'!AA12","v":6.8293916782598491E-3},{"$f":"IF(ISNUMBER(S12),CORREL($B$1:B12,$S$1:S12),\"\")","v":-0.12440033901999241}]
[null,{"$f":"'Sheet3 (3)'!I13","v":-1.2060543930532295E-3},{"$f":"'Sheet3 (3)'!K13","v":1.4265510668388324E-2},{"$f":"IF(ISNUMBER(C13),CORREL($B$1:B13,$C$1:C13),\"\")","v":-0.28762098563127059},{"$f":"'Sheet3 (3)'!M13","v":-3.2950939711983893E-3},{"$f":"IF(ISNUMBER(E13),CORREL($B$1:B13,$E$1:E13),\"\")","v":0.29301224593627384},{"$f":"'Sheet3 (3)'!O13","v":2.6937676013223809E-3},{"$f":"IF(ISNUMBER(G13),CORREL($B$1:B13,$G$1:G13),\"\")","v":0.12333227954379986},{"$f":"'Sheet3 (3)'!Q13","v":-9.8667982239761102E-4},{"$f":"IF(ISNUMBER(I13),CORREL($B$1:B13,$I$1:I13),\"\")","v":0.33415201682085893},{"$f":"'Sheet3 (3)'!S13","v":2.1171928513606291E-3},{"$f":"IF(ISNUMBER(K13),CORREL($B$1:B13,$K$1:K13),\"\")","v":-0.23883216386912043},{"$f":"'Sheet3 (3)'!U13","v":3.410598117855062E-3},{"$f":"IF(ISNUMBER(M13),CORREL($B$1:B13,$M$1:M13),\"\")","v":0.25125276600293617},{"$f":"'Sheet3 (3)'!W13","v":1.3134851138354264E-3},{"$f":"IF(ISNUMBER(O13),CORREL($B$1:B13,$O$1:O13),\"\")","v":0.37503293432730361},{"$f":"'Sheet3 (3)'!Y13","v":-2.5244556642468945E-4},{"$f":"IF(ISNUMBER(Q13),CORREL($B$1:B13,$Q$1:Q13),\"\")","v":-0.35231419857309026},{"$f":"'Sheet3 (3)'!AA13","v":6.7029214619957148E-3},{"$f":"IF(ISNUMBER(S13),CORREL($B$1:B13,$S$1:S13),\"\")","v":-7.6953996810350991E-2}]
[null,{"$f":"'Sheet3 (3)'!I14","v":-9.6484351444265206E-4},{"$f":"'Sheet3 (3)'!K14","v":1.4265510668388324E-2},{"$f":"IF(ISNUMBER(C14),CORREL($B$1:B14,$C$1:C14),\"\")","v":-0.19710794012965135},{"$f":"'Sheet3 (3)'!M14","v":-3.2950939711983893E-3},{"$f":"IF(ISNUMBER(E14),CORREL($B$1:B14,$E$1:E14),\"\")","v":0.32187221777962388},{"$f":"'Sheet3 (3)'!O14","v":3.0610995469572671E-3},{"$f":"IF(ISNUMBER(G14),CORREL($B$1:B14,$G$1:G14),\"\")","v":0.17350534552755231},{"$f":"'Sheet3 (3)'!Q14","v":-6.7834237789828088E-4},{"$f":"IF(ISNUMBER(I14),CORREL($B$1:B14,$I$1:I14),\"\")","v":0.2833230629768364},{"$f":"'Sheet3 (3)'!S14","v":1.8058409614545865E-3},{"$f":"IF(ISNUMBER(K14),CORREL($B$1:B14,$K$1:K14),\"\")","v":-0.18183048040915337},{"$f":"'Sheet3 (3)'!U14","v":3.2211204446408819E-3},{"$f":"IF(ISNUMBER(M14),CORREL($B$1:B14,$M$1:M14),\"\")","v":0.18907162377893932},{"$f":"'Sheet3 (3)'!W14","v":1.6887665749312625E-3},{"$f":"IF(ISNUMBER(O14),CORREL($B$1:B14,$O$1:O14),\"\")","v":0.39526069080395781},{"$f":"'Sheet3 (3)'!Y14","v":3.7866834963712386E-4},{"$f":"IF(ISNUMBER(Q14),CORREL($B$1:B14,$Q$1:Q14),\"\")","v":-0.23333248085243094},{"$f":"'Sheet3 (3)'!AA14","v":6.7029214619957148E-3},{"$f":"IF(ISNUMBER(S14),CORREL($B$1:B14,$S$1:S14),\"\")","v":-2.9116304289541838E-2}]
[null,{"$f":"'Sheet3 (3)'!I15","v":-5.4272447687392757E-4},{"$f":"'Sheet3 (3)'!K15","v":1.3589128697042416E-2},{"$f":"IF(ISNUMBER(C15),CORREL($B$1:B15,$C$1:C15),\"\")","v":-0.1233677824801456},{"$f":"'Sheet3 (3)'!M15","v":-4.0883573346350227E-3},{"$f":"IF(ISNUMBER(E15),CORREL($B$1:B15,$E$1:E15),\"\")","v":0.35305006989265564},{"$f":"'Sheet3 (3)'!O15","v":3.734541447287775E-3},{"$f":"IF(ISNUMBER(G15),CORREL($B$1:B15,$G$1:G15),\"\")","v":0.24909212731488509},{"$f":"'Sheet3 (3)'!Q15","v":-6.7834237789828088E-4},{"$f":"IF(ISNUMBER(I15),CORREL($B$1:B15,$I$1:I15),\"\")","v":0.22451993218460367},{"$f":"'Sheet3 (3)'!S15","v":1.8058409614545865E-3},{"$f":"IF(ISNUMBER(K15),CORREL($B$1:B15,$K$1:K15),\"\")","v":-0.11773277869322216},{"$f":"'Sheet3 (3)'!U15","v":3.9158719130927564E-3},{"$f":"IF(ISNUMBER(M15),CORREL($B$1:B15,$M$1:M15),\"\")","v":0.1480244802218591},{"$f":"'Sheet3 (3)'!W15","v":8.1310983237425233E-4},{"$f":"IF(ISNUMBER(O15),CORREL($B$1:B15,$O$1:O15),\"\")","v":0.41985059801925823},{"$f":"'Sheet3 (3)'!Y15","v":1.8302303565794918E-3},{"$f":"IF(ISNUMBER(Q15),CORREL($B$1:B15,$Q$1:Q15),\"\")","v":-9.0923879451451889E-2},{"$f":"'Sheet3 (3)'!AA15","v":8.0308587327684988E-3},{"$f":"IF(ISNUMBER(S15),CORREL($B$1:B15,$S$1:S15),\"\")","v":9.0895289122203959E-2}]
[null,{"$f":"'Sheet3 (3)'!I16","v":-1.5678707109691812E-3},{"$f":"'Sheet3 (3)'!K16","v":1.322019307630822E-2},{"$f":"IF(ISNUMBER(C16),CORREL($B$1:B16,$C$1:C16),\"\")","v":-0.11490386666475523},{"$f":"'Sheet3 (3)'!M16","v":-5.3087625091530668E-3},{"$f":"IF(ISNUMBER(E16),CORREL($B$1:B16,$E$1:E16),\"\")","v":0.35337228711048224},{"$f":"'Sheet3 (3)'!O16","v":3.734541447287775E-3},{"$f":"IF(ISNUMBER(G16),CORREL($B$1:B16,$G$1:G16),\"\")","v":0.23021703796721249},{"$f":"'Sheet3 (3)'!Q16","v":-6.7834237789828088E-4},{"$f":"IF(ISNUMBER(I16),CORREL($B$1:B16,$I$1:I16),\"\")","v":0.21515389206532226},{"$f":"'Sheet3 (3)'!S16","v":3.3003300330033073E-3},{"$f":"IF(ISNUMBER(K16),CORREL($B$1:B16,$K$1:K16),\"\")","v":-8.9209515898379499E-2},{"$f":"'Sheet3 (3)'!U16","v":5.1158971767825039E-3},{"$f":"IF(ISNUMBER(M16),CORREL($B$1:B16,$M$1:M16),\"\")","v":0.14874566632447464},{"$f":"'Sheet3 (3)'!W16","v":-1.8764073054791804E-4},{"$f":"IF(ISNUMBER(O16),CORREL($B$1:B16,$O$1:O16),\"\")","v":0.41944085611635434},{"$f":"'Sheet3 (3)'!Y16","v":-1.8933417481856193E-4},{"$f":"IF(ISNUMBER(Q16),CORREL($B$1:B16,$Q$1:Q16),\"\")","v":-8.1433122421600154E-2},{"$f":"'Sheet3 (3)'!AA16","v":8.6632098140888118E-3},{"$f":"IF(ISNUMBER(S16),CORREL($B$1:B16,$S$1:S16),\"\")","v":8.5017246967101723E-2}]
[null,{"$f":"'Sheet3 (3)'!I17","v":-1.3266598323584324E-3},{"$f":"'Sheet3 (3)'!K17","v":1.322019307630822E-2},{"$f":"IF(ISNUMBER(C17),CORREL($B$1:B17,$C$1:C17),\"\")","v":-9.9194095911541533E-2},{"$f":"'Sheet3 (3)'!M17","v":-5.4308030266047493E-3},{"$f":"IF(ISNUMBER(E17),CORREL($B$1:B17,$E$1:E17),\"\")","v":0.35311887937396097},{"$f":"'Sheet3 (3)'!O17","v":2.5713236194440277E-3},{"$f":"IF(ISNUMBER(G17),CORREL($B$1:B17,$G$1:G17),\"\")","v":0.23556259978239241},{"$f":"'Sheet3 (3)'!Q17","v":2.466699555993589E-4},{"$f":"IF(ISNUMBER(I17),CORREL($B$1:B17,$I$1:I17),\"\")","v":0.20766696117120109},{"$f":"'Sheet3 (3)'!S17","v":3.1135188990597173E-3},{"$f":"IF(ISNUMBER(K17),CORREL($B$1:B17,$K$1:K17),\"\")","v":-5.7200284527537844E-2},{"$f":"'Sheet3 (3)'!U17","v":3.6000757910692421E-3},{"$f":"IF(ISNUMBER(M17),CORREL($B$1:B17,$M$1:M17),\"\")","v":0.13250274393446418},{"$f":"'Sheet3 (3)'!W17","v":-4.3782837127841618E-4},{"$f":"IF(ISNUMBER(O17),CORREL($B$1:B17,$O$1:O17),\"\")","v":0.41409120650154713},{"$f":"'Sheet3 (3)'!Y17","v":-2.5244556642468945E-4},{"$f":"IF(ISNUMBER(Q17),CORREL($B$1:B17,$Q$1:Q17),\"\")","v":-6.4043531156868477E-2},{"$f":"'Sheet3 (3)'!AA17","v":8.6632098140888118E-3},{"$f":"IF(ISNUMBER(S17),CORREL($B$1:B17,$S$1:S17),\"\")","v":0.1014689276491753}]
[null,{"$f":"'Sheet3 (3)'!I18","v":-1.3266598323584324E-3},{"$f":"'Sheet3 (3)'!K18","v":1.3343171616553009E-2},{"$f":"IF(ISNUMBER(C18),CORREL($B$1:B18,$C$1:C18),\"\")","v":-8.5127621196103315E-2},{"$f":"'Sheet3 (3)'!M18","v":-5.4308030266047493E-3},{"$f":"IF(ISNUMBER(E18),CORREL($B$1:B18,$E$1:E18),\"\")","v":0.35289503408650164},{"$f":"'Sheet3 (3)'!O18","v":2.7549895922614706E-3},{"$f":"IF(ISNUMBER(G18),CORREL($B$1:B18,$G$1:G18),\"\")","v":0.24089846662900619},{"$f":"'Sheet3 (3)'!Q18","v":5.5500740009868904E-4},{"$f":"IF(ISNUMBER(I18),CORREL($B$1:B18,$I$1:I18),\"\")","v":0.20330306353814254},{"$f":"'Sheet3 (3)'!S18","v":3.798493056852763E-3},{"$f":"IF(ISNUMBER(K18),CORREL($B$1:B18,$K$1:K18),\"\")","v":-2.5766794695658724E-2},{"$f":"'Sheet3 (3)'!U18","v":3.7895534642834222E-3},{"$f":"IF(ISNUMBER(M18),CORREL($B$1:B18,$M$1:M18),\"\")","v":0.12125730847888516},{"$f":"'Sheet3 (3)'!W18","v":-5.0037528146099628E-4},{"$f":"IF(ISNUMBER(O18),CORREL($B$1:B18,$O$1:O18),\"\")","v":0.40829961584405122},{"$f":"'Sheet3 (3)'!Y18","v":0},{"$f":"IF(ISNUMBER(Q18),CORREL($B$1:B18,$Q$1:Q18),\"\")","v":-4.8219846098000604E-2},{"$f":"'Sheet3 (3)'!AA18","v":9.9279119767296184E-3},{"$f":"IF(ISNUMBER(S18),CORREL($B$1:B18,$S$1:S18),\"\")","v":0.1134477825223752}]
[null,{"$f":"'Sheet3 (3)'!I19","v":-1.3266598323584324E-3},{"$f":"'Sheet3 (3)'!K19","v":1.3712107237287205E-2},{"$f":"IF(ISNUMBER(C19),CORREL($B$1:B19,$C$1:C19),\"\")","v":-7.0900199844552772E-2},{"$f":"'Sheet3 (3)'!M19","v":-5.3697827678789081E-3},{"$f":"IF(ISNUMBER(E19),CORREL($B$1:B19,$E$1:E19),\"\")","v":0.3531557760025143},{"$f":"'Sheet3 (3)'!O19","v":4.1018733929226612E-3},{"$f":"IF(ISNUMBER(G19),CORREL($B$1:B19,$G$1:G19),\"\")","v":0.23810988780568718},{"$f":"'Sheet3 (3)'!Q19","v":7.4000986679825201E-4},{"$f":"IF(ISNUMBER(I19),CORREL($B$1:B19,$I$1:I19),\"\")","v":0.20057898201790864},{"$f":"'Sheet3 (3)'!S19","v":4.7325487265707138E-3},{"$f":"IF(ISNUMBER(K19),CORREL($B$1:B19,$K$1:K19),\"\")","v":3.7393496654473889E-3},{"$f":"'Sheet3 (3)'!U19","v":4.2948272595211166E-3},{"$f":"IF(ISNUMBER(M19),CORREL($B$1:B19,$M$1:M19),\"\")","v":0.11699625336577818},{"$f":"'Sheet3 (3)'!W19","v":-1.3760320240180065E-3},{"$f":"IF(ISNUMBER(O19),CORREL($B$1:B19,$O$1:O19),\"\")","v":0.38259612195623377},{"$f":"'Sheet3 (3)'!Y19","v":1.0728936573052442E-3},{"$f":"IF(ISNUMBER(Q19),CORREL($B$1:B19,$Q$1:Q19),\"\")","v":-2.9789436994838988E-2},{"$f":"'Sheet3 (3)'!AA19","v":8.0308587327684988E-3},{"$f":"IF(ISNUMBER(S19),CORREL($B$1:B19,$S$1:S19),\"\")","v":0.12188991071136721}]
[null,{"$f":"'Sheet3 (3)'!I20","v":-1.0854489537478551E-3},{"$f":"'Sheet3 (3)'!K20","v":1.4265510668388324E-2},{"$f":"IF(ISNUMBER(C20),CORREL($B$1:B20,$C$1:C20),\"\")","v":-4.5505717014819258E-2},{"$f":"'Sheet3 (3)'!M20","v":-5.3697827678789081E-3},{"$f":"IF(ISNUMBER(E20),CORREL($B$1:B20,$E$1:E20),\"\")","v":0.35302912114937091},{"$f":"'Sheet3 (3)'!O20","v":4.1018733929226612E-3},{"$f":"IF(ISNUMBER(G20),CORREL($B$1:B20,$G$1:G20),\"\")","v":0.25188405849360884},{"$f":"'Sheet3 (3)'!Q20","v":8.6334484459801917E-4},{"$f":"IF(ISNUMBER(I20),CORREL($B$1:B20,$I$1:I20),\"\")","v":0.19716616093458694},{"$f":"'Sheet3 (3)'!S20","v":6.0402266641758446E-3},{"$f":"IF(ISNUMBER(K20),CORREL($B$1:B20,$K$1:K20),\"\")","v":5.1217759752628628E-2},{"$f":"'Sheet3 (3)'!U20","v":3.663235015473909E-3},{"$f":"IF(ISNUMBER(M20),CORREL($B$1:B20,$M$1:M20),\"\")","v":9.9579361498232849E-2},{"$f":"'Sheet3 (3)'!W20","v":-2.1265949462096786E-3},{"$f":"IF(ISNUMBER(O20),CORREL($B$1:B20,$O$1:O20),\"\")","v":0.32425588977840381},{"$f":"'Sheet3 (3)'!Y20","v":6.3111391606199274E-4},{"$f":"IF(ISNUMBER(Q20),CORREL($B$1:B20,$Q$1:Q20),\"\")","v":-6.7680638754731414E-3},{"$f":"'Sheet3 (3)'!AA20","v":8.1573289490326321E-3},{"$f":"IF(ISNUMBER(S20),CORREL($B$1:B20,$S$1:S20),\"\")","v":0.13816352699035864}]
[null,{"$f":"'Sheet3 (3)'!I21","v":-1.0854489537478551E-3},{"$f":"'Sheet3 (3)'!K21","v":1.5433806800713219E-2},{"$f":"IF(ISNUMBER(C21),CORREL($B$1:B21,$C$1:C21),\"\")","v":-1.5484810874690044E-2},{"$f":"'Sheet3 (3)'!M21","v":-6.2240663900413832E-3},{"$f":"IF(ISNUMBER(E21),CORREL($B$1:B21,$E$1:E21),\"\")","v":0.33905551179193982},{"$f":"'Sheet3 (3)'!O21","v":3.3059875107137996E-3},{"$f":"IF(ISNUMBER(G21),CORREL($B$1:B21,$G$1:G21),\"\")","v":0.26231277806039921},{"$f":"'Sheet3 (3)'!Q21","v":8.6334484459801917E-4},{"$f":"IF(ISNUMBER(I21),CORREL($B$1:B21,$I$1:I21),\"\")","v":0.19410422281560441},{"$f":"'Sheet3 (3)'!S21","v":6.0402266641758446E-3},{"$f":"IF(ISNUMBER(K21),CORREL($B$1:B21,$K$1:K21),\"\")","v":8.3277630874770997E-2},{"$f":"'Sheet3 (3)'!U21","v":5.2422156255920171E-3},{"$f":"IF(ISNUMBER(M21),CORREL($B$1:B21,$M$1:M21),\"\")","v":0.10675201689482028},{"$f":"'Sheet3 (3)'!W21","v":-1.8138603952964226E-3},{"$f":"IF(ISNUMBER(O21),CORREL($B$1:B21,$O$1:O21),\"\")","v":0.28855984584799022},{"$f":"'Sheet3 (3)'!Y21","v":-6.3111391606181331E-4},{"$f":"IF(ISNUMBER(Q21),CORREL($B$1:B21,$Q$1:Q21),\"\")","v":4.9109189279496071E-3},{"$f":"'Sheet3 (3)'!AA21","v":8.4735044896926993E-3},{"$f":"IF(ISNUMBER(S21),CORREL($B$1:B21,$S$1:S21),\"\")","v":0.15411779344285648}]
[null,{"$f":"'Sheet3 (3)'!I22","v":-6.0302719652670042E-4},{"$f":"'Sheet3 (3)'!K22","v":1.5433806800713219E-2},{"$f":"IF(ISNUMBER(C22),CORREL($B$1:B22,$C$1:C22),\"\")","v":3.1763633665599082E-2},{"$f":"'Sheet3 (3)'!M22","v":-6.7732487185744768E-3},{"$f":"IF(ISNUMBER(E22),CORREL($B$1:B22,$E$1:E22),\"\")","v":0.29734577285933572},{"$f":"'Sheet3 (3)'!O22","v":2.7549895922614706E-3},{"$f":"IF(ISNUMBER(G22),CORREL($B$1:B22,$G$1:G22),\"\")","v":0.27149318417329171},{"$f":"'Sheet3 (3)'!Q22","v":8.0167735569804794E-4},{"$f":"IF(ISNUMBER(I22),CORREL($B$1:B22,$I$1:I22),\"\")","v":0.18661824781079972},{"$f":"'Sheet3 (3)'!S22","v":6.5383896880253003E-3},{"$f":"IF(ISNUMBER(K22),CORREL($B$1:B22,$K$1:K22),\"\")","v":0.14183827176135921},{"$f":"'Sheet3 (3)'!U22","v":6.1896039916629177E-3},{"$f":"IF(ISNUMBER(M22),CORREL($B$1:B22,$M$1:M22),\"\")","v":0.13963332553315977},{"$f":"'Sheet3 (3)'!W22","v":-2.1891418563922587E-3},{"$f":"IF(ISNUMBER(O22),CORREL($B$1:B22,$O$1:O22),\"\")","v":0.22314471414028686},{"$f":"'Sheet3 (3)'!Y22","v":-9.4667087409263035E-4},{"$f":"IF(ISNUMBER(Q22),CORREL($B$1:B22,$Q$1:Q22),\"\")","v":2.1679138479186389E-2},{"$f":"'Sheet3 (3)'!AA22","v":8.4735044896926993E-3},{"$f":"IF(ISNUMBER(S22),CORREL($B$1:B22,$S$1:S22),\"\")","v":0.18455170170308891}]
[null,{"$f":"'Sheet3 (3)'!I23","v":-6.0302719652670042E-4},{"$f":"'Sheet3 (3)'!K23","v":1.5433806800713219E-2},{"$f":"IF(ISNUMBER(C23),CORREL($B$1:B23,$C$1:C23),\"\")","v":7.037752239306852E-2},{"$f":"'Sheet3 (3)'!M23","v":-8.176714669270219E-3},{"$f":"IF(ISNUMBER(E23),CORREL($B$1:B23,$E$1:E23),\"\")","v":0.21659114112624483},{"$f":"'Sheet3 (3)'!O23","v":2.7549895922614706E-3},{"$f":"IF(ISNUMBER(G23),CORREL($B$1:B23,$G$1:G23),\"\")","v":0.2796470735662302},{"$f":"'Sheet3 (3)'!Q23","v":8.0167735569804794E-4},{"$f":"IF(ISNUMBER(I23),CORREL($B$1:B23,$I$1:I23),\"\")","v":0.17995938832708192},{"$f":"'Sheet3 (3)'!S23","v":6.5383896880253003E-3},{"$f":"IF(ISNUMBER(K23),CORREL($B$1:B23,$K$1:K23),\"\")","v":0.1856839557626333},{"$f":"'Sheet3 (3)'!U23","v":6.1896039916629177E-3},{"$f":"IF(ISNUMBER(M23),CORREL($B$1:B23,$M$1:M23),\"\")","v":0.16738410404215021},{"$f":"'Sheet3 (3)'!W23","v":-1.8138603952964226E-3},{"$f":"IF(ISNUMBER(O23),CORREL($B$1:B23,$O$1:O23),\"\")","v":0.18223862431924712},{"$f":"'Sheet3 (3)'!Y23","v":-1.2622278321225503E-4},{"$f":"IF(ISNUMBER(Q23),CORREL($B$1:B23,$Q$1:Q23),\"\")","v":4.518879971043066E-2},{"$f":"'Sheet3 (3)'!AA23","v":8.4735044896926993E-3},{"$f":"IF(ISNUMBER(S23),CORREL($B$1:B23,$S$1:S23),\"\")","v":0.21029662094986623}]
[null,{"$f":"'Sheet3 (3)'!I24","v":{"$error":"#N/A"}},{"$f":"'Sheet3 (3)'!K24","v":1.4449978478755423E-2},{"$f":"IF(ISNUMBER(C24),CORREL($B$1:B24,$C$1:C24),\"\")","v":{"$error":"#N/A"}},{"$f":"'Sheet3 (3)'!M24","v":-8.176714669270219E-3},{"$f":"IF(ISNUMBER(E24),CORREL($B$1:B24,$E$1:E24),\"\")","v":{"$error":"#N/A"}},{"$f":"'Sheet3 (3)'!O24","v":2.1427696828700523E-3},{"$f":"IF(ISNUMBER(G24),CORREL($B$1:B24,$G$1:G24),\"\")","v":{"$error":"#N/A"}},{"$f":"'Sheet3 (3)'!Q24","v":4.3167242229892193E-4},{"$f":"IF(ISNUMBER(I24),CORREL($B$1:B24,$I$1:I24),\"\")","v":{"$error":"#N/A"}},{"$f":"'Sheet3 (3)'!S24","v":6.7252008219688903E-3},{"$f":"IF(ISNUMBER(K24),CORREL($B$1:B24,$K$1:K24),\"\")","v":{"$error":"#N/A"}},{"$f":"'Sheet3 (3)'!U24","v":7.0106739089243041E-3},{"$f":"IF(ISNUMBER(M24),CORREL($B$1:B24,$M$1:M24),\"\")","v":{"$error":"#N/A"}},{"$f":"'Sheet3 (3)'!W24","v":-2.0640480360269208E-3},{"$f":"IF(ISNUMBER(O24),CORREL($B$1:B24,$O$1:O24),\"\")","v":{"$error":"#N/A"}},{"$f":"'Sheet3 (3)'!Y24","v":-1.2622278321225503E-4},{"$f":"IF(ISNUMBER(Q24),CORREL($B$1:B24,$Q$1:Q24),\"\")","v":{"$error":"#N/A"}},{"$f":"'Sheet3 (3)'!AA24","v":7.7779183002404089E-3},{"$f":"IF(ISNUMBER(S24),CORREL($B$1:B24,$S$1:S24),\"\")","v":{"$error":"#N/A"}}]
[null,{"$f":"'Sheet3 (3)'!I25","v":{"$error":"#N/A"}},{"$f":"'Sheet3 (3)'!K25","v":1.4757424829367311E-2},{"$f":"IF(ISNUMBER(C25),CORREL($B$1:B25,$C$1:C25),\"\")","v":{"$error":"#N/A"}},{"$f":"'Sheet3 (3)'!M25","v":-8.9699780327068528E-3},{"$f":"IF(ISNUMBER(E25),CORREL($B$1:B25,$E$1:E25),\"\")","v":{"$error":"#N/A"}},{"$f":"'Sheet3 (3)'!O25","v":2.1427696828700523E-3},{"$f":"IF(ISNUMBER(G25),CORREL($B$1:B25,$G$1:G25),\"\")","v":{"$error":"#N/A"}},{"$f":"'Sheet3 (3)'!Q25","v":-3.0833744449915482E-4},{"$f":"IF(ISNUMBER(I25),CORREL($B$1:B25,$I$1:I25),\"\")","v":{"$error":"#N/A"}},{"$f":"'Sheet3 (3)'!S25","v":6.7874711999502046E-3},{"$f":"IF(ISNUMBER(K25),CORREL($B$1:B25,$K$1:K25),\"\")","v":{"$error":"#N/A"}},{"$f":"'Sheet3 (3)'!U25","v":7.7685846017810246E-3},{"$f":"IF(ISNUMBER(M25),CORREL($B$1:B25,$M$1:M25),\"\")","v":{"$error":"#N/A"}},{"$f":"'Sheet3 (3)'!W25","v":-1.5636727545659244E-3},{"$f":"IF(ISNUMBER(O25),CORREL($B$1:B25,$O$1:O25),\"\")","v":{"$error":"#N/A"}},{"$f":"'Sheet3 (3)'!Y25","v":-1.7671189649731849E-3},{"$f":"IF(ISNUMBER(Q25),CORREL($B$1:B25,$Q$1:Q25),\"\")","v":{"$error":"#N/A"}},{"$f":"'Sheet3 (3)'!AA25","v":6.6396863538637375E-3},{"$f":"IF(ISNUMBER(S25),CORREL($B$1:B25,$S$1:S25),\"\")","v":{"$error":"#N/A"}}]
[null,{"$f":"'Sheet3 (3)'!I26","v":{"$error":"#N/A"}},{"$f":"'Sheet3 (3)'!K26","v":1.4695935559245003E-2},{"$f":"IF(ISNUMBER(C26),CORREL($B$1:B26,$C$1:C26),\"\")","v":{"$error":"#N/A"}},{"$f":"'Sheet3 (3)'!M26","v":-8.9699780327068528E-3},{"$f":"IF(ISNUMBER(E26),CORREL($B$1:B26,$E$1:E26),\"\")","v":{"$error":"#N/A"}},{"$f":"'Sheet3 (3)'!O26","v":2.1427696828700523E-3},{"$f":"IF(ISNUMBER(G26),CORREL($B$1:B26,$G$1:G26),\"\")","v":{"$error":"#N/A"}},{"$f":"'Sheet3 (3)'!Q26","v":3.0833744449933008E-4},{"$f":"IF(ISNUMBER(I26),CORREL($B$1:B26,$I$1:I26),\"\")","v":{"$error":"#N/A"}},{"$f":"'Sheet3 (3)'!S26","v":8.9046640513108337E-3},{"$f":"IF(ISNUMBER(K26),CORREL($B$1:B26,$K$1:K26),\"\")","v":{"$error":"#N/A"}},{"$f":"'Sheet3 (3)'!U26","v":7.7685846017810246E-3},{"$f":"IF(ISNUMBER(M26),CORREL($B$1:B26,$M$1:M26),\"\")","v":{"$error":"#N/A"}},{"$f":"'Sheet3 (3)'!W26","v":-1.6262196647485047E-3},{"$f":"IF(ISNUMBER(O26),CORREL($B$1:B26,$O$1:O26),\"\")","v":{"$error":"#N/A"}},{"$f":"'Sheet3 (3)'!Y26","v":-2.3982328810349981E-3},{"$f":"IF(ISNUMBER(Q26),CORREL($B$1:B26,$Q$1:Q26),\"\")","v":{"$error":"#N/A"}},{"$f":"'Sheet3 (3)'!AA26","v":6.6396863538637375E-3},{"$f":"IF(ISNUMBER(S26),CORREL($B$1:B26,$S$1:S26),\"\")","v":{"$error":"#N/A"}}]
[null,{"$f":"'Sheet3 (3)'!I27","v":{"$error":"#N/A"}},{"$f":"'Sheet3 (3)'!K27","v":1.4695935559245003E-2},{"$f":"IF(ISNUMBER(C27),CORREL($B$1:B27,$C$1:C27),\"\")","v":{"$error":"#N/A"}},{"$f":"'Sheet3 (3)'!M27","v":-7.8716133756406639E-3},{"$f":"IF(ISNUMBER(E27),CORREL($B$1:B27,$E$1:E27),\"\")","v":{"$error":"#N/A"}},{"$f":"'Sheet3 (3)'!O27","v":3.734541447287775E-3},{"$f":"IF(ISNUMBER(G27),CORREL($B$1:B27,$G$1:G27),\"\")","v":{"$error":"#N/A"}},{"$f":"'Sheet3 (3)'!Q27","v":6.7834237789845609E-4},{"$f":"IF(ISNUMBER(I27),CORREL($B$1:B27,$I$1:I27),\"\")","v":{"$error":"#N/A"}},{"$f":"'Sheet3 (3)'!S27","v":8.9669344292919711E-3},{"$f":"IF(ISNUMBER(K27),CORREL($B$1:B27,$K$1:K27),\"\")","v":{"$error":"#N/A"}},{"$f":"'Sheet3 (3)'!U27","v":7.3264700309479975E-3},{"$f":"IF(ISNUMBER(M27),CORREL($B$1:B27,$M$1:M27),\"\")","v":{"$error":"#N/A"}},{"$f":"'Sheet3 (3)'!W27","v":-1.8764073054790026E-3},{"$f":"IF(ISNUMBER(O27),CORREL($B$1:B27,$O$1:O27),\"\")","v":{"$error":"#N/A"}},{"$f":"'Sheet3 (3)'!Y27","v":-2.3982328810349981E-3},{"$f":"IF(ISNUMBER(Q27),CORREL($B$1:B27,$Q$1:Q27),\"\")","v":{"$error":"#N/A"}},{"$f":"'Sheet3 (3)'!AA27","v":6.5764512457317601E-3},{"$f":"IF(ISNUMBER(S27),CORREL($B$1:B27,$S$1:S27),\"\")","v":{"$error":"#N/A"}}]
[null,{"$f":"'Sheet3 (3)'!I28","v":{"$error":"#N/A"}},{"$f":"'Sheet3 (3)'!K28","v":1.4695935559245003E-2},{"$f":"IF(ISNUMBER(C28),CORREL($B$1:B28,$C$1:C28),\"\")","v":{"$error":"#N/A"}},{"$f":"'Sheet3 (3)'!M28","v":-7.8716133756406639E-3},{"$f":"IF(ISNUMBER(E28),CORREL($B$1:B28,$E$1:E28),\"\")","v":{"$error":"#N/A"}},{"$f":"'Sheet3 (3)'!O28","v":3.734541447287775E-3},{"$f":"IF(ISNUMBER(G28),CORREL($B$1:B28,$G$1:G28),\"\")","v":{"$error":"#N/A"}},{"$f":"'Sheet3 (3)'!Q28","v":5.5500740009868904E-4},{"$f":"IF(ISNUMBER(I28),CORREL($B$1:B28,$I$1:I28),\"\")","v":{"$error":"#N/A"}},{"$f":"'Sheet3 (3)'!S28","v":8.9669344292919711E-3},{"$f":"IF(ISNUMBER(K28),CORREL($B$1:B28,$K$1:K28),\"\")","v":{"$error":"#N/A"}},{"$f":"'Sheet3 (3)'!U28","v":8.0843807238047179E-3},{"$f":"IF(ISNUMBER(M28),CORREL($B$1:B28,$M$1:M28),\"\")","v":{"$error":"#N/A"}},{"$f":"'Sheet3 (3)'!W28","v":-2.0015011258443407E-3},{"$f":"IF(ISNUMBER(O28),CORREL($B$1:B28,$O$1:O28),\"\")","v":{"$error":"#N/A"}},{"$f":"'Sheet3 (3)'!Y28","v":-2.3982328810349981E-3},{"$f":"IF(ISNUMBER(Q28),CORREL($B$1:B28,$Q$1:Q28),\"\")","v":{"$error":"#N/A"}},{"$f":"'Sheet3 (3)'!AA28","v":6.5764512457317601E-3},{"$f":"IF(ISNUMBER(S28),CORREL($B$1:B28,$S$1:S28),\"\")","v":{"$error":"#N/A"}}]
[null,{"$f":"'Sheet3 (3)'!I29","v":{"$error":"#N/A"}},{"$f":"'Sheet3 (3)'!K29","v":1.4695935559245003E-2},{"$f":"IF(ISNUMBER(C29),CORREL($B$1:B29,$C$1:C29),\"\")","v":{"$error":"#N/A"}},{"$f":"'Sheet3 (3)'!M29","v":-8.176714669270219E-3},{"$f":"IF(ISNUMBER(E29),CORREL($B$1:B29,$E$1:E29),\"\")","v":{"$error":"#N/A"}},{"$f":"'Sheet3 (3)'!O29","v":3.734541447287775E-3},{"$f":"IF(ISNUMBER(G29),CORREL($B$1:B29,$G$1:G29),\"\")","v":{"$error":"#N/A"}},{"$f":"'Sheet3 (3)'!Q29","v":5.5500740009868904E-4},{"$f":"IF(ISNUMBER(I29),CORREL($B$1:B29,$I$1:I29),\"\")","v":{"$error":"#N/A"}},{"$f":"'Sheet3 (3)'!S29","v":7.9083380036117455E-3},{"$f":"IF(ISNUMBER(K29),CORREL($B$1:B29,$K$1:K29),\"\")","v":{"$error":"#N/A"}},{"$f":"'Sheet3 (3)'!U29","v":8.4633360702328995E-3},{"$f":"IF(ISNUMBER(M29),CORREL($B$1:B29,$M$1:M29),\"\")","v":{"$error":"#N/A"}},{"$f":"'Sheet3 (3)'!W29","v":-2.0015011258443407E-3},{"$f":"IF(ISNUMBER(O29),CORREL($B$1:B29,$O$1:O29),\"\")","v":{"$error":"#N/A"}},{"$f":"'Sheet3 (3)'!Y29","v":-2.3351214894286915E-3},{"$f":"IF(ISNUMBER(Q29),CORREL($B$1:B29,$Q$1:Q29),\"\")","v":{"$error":"#N/A"}},{"$f":"'Sheet3 (3)'!AA29","v":6.5764512457317601E-3},{"$f":"IF(ISNUMBER(S29),CORREL($B$1:B29,$S$1:S29),\"\")","v":{"$error":"#N/A"}}]
[null,{"$f":"'Sheet3 (3)'!I30","v":{"$error":"#N/A"}},{"$f":"'Sheet3 (3)'!K30","v":1.697103855377231E-2},{"$f":"IF(ISNUMBER(C30),CORREL($B$1:B30,$C$1:C30),\"\")","v":{"$error":"#N/A"}},{"$f":"'Sheet3 (3)'!M30","v":-8.7869172565291538E-3},{"$f":"IF(ISNUMBER(E30),CORREL($B$1:B30,$E$1:E30),\"\")","v":{"$error":"#N/A"}},{"$f":"'Sheet3 (3)'!O30","v":3.734541447287775E-3},{"$f":"IF(ISNUMBER(G30),CORREL($B$1:B30,$G$1:G30),\"\")","v":{"$error":"#N/A"}},{"$f":"'Sheet3 (3)'!Q30","v":8.6334484459801917E-4},{"$f":"IF(ISNUMBER(I30),CORREL($B$1:B30,$I$1:I30),\"\")","v":{"$error":"#N/A"}},{"$f":"'Sheet3 (3)'!S30","v":8.1574195155364737E-3},{"$f":"IF(ISNUMBER(K30),CORREL($B$1:B30,$K$1:K30),\"\")","v":{"$error":"#N/A"}},{"$f":"'Sheet3 (3)'!U30","v":8.3370176214235658E-3},{"$f":"IF(ISNUMBER(M30),CORREL($B$1:B30,$M$1:M30),\"\")","v":{"$error":"#N/A"}},{"$f":"'Sheet3 (3)'!W30","v":-2.7520640480360129E-3},{"$f":"IF(ISNUMBER(O30),CORREL($B$1:B30,$O$1:O30),\"\")","v":{"$error":"#N/A"}},{"$f":"'Sheet3 (3)'!Y30","v":-4.417797412432514E-4},{"$f":"IF(ISNUMBER(Q30),CORREL($B$1:B30,$Q$1:Q30),\"\")","v":{"$error":"#N/A"}},{"$f":"'Sheet3 (3)'!AA30","v":5.501454407487066E-3},{"$f":"IF(ISNUMBER(S30),CORREL($B$1:B30,$S$1:S30),\"\")","v":{"$error":"#N/A"}}]
[null,{"$f":"'Sheet3 (3)'!I31","v":{"$error":"#N/A"}},{"$f":"'Sheet3 (3)'!K31","v":1.7216995634261892E-2},{"$f":"IF(ISNUMBER(C31),CORREL($B$1:B31,$C$1:C31),\"\")","v":{"$error":"#N/A"}},{"$f":"'Sheet3 (3)'!M31","v":-8.6648767390772978E-3},{"$f":"IF(ISNUMBER(E31),CORREL($B$1:B31,$E$1:E31),\"\")","v":{"$error":"#N/A"}},{"$f":"'Sheet3 (3)'!O31","v":4.1630953838619252E-3},{"$f":"IF(ISNUMBER(G31),CORREL($B$1:B31,$G$1:G31),\"\")","v":{"$error":"#N/A"}},{"$f":"'Sheet3 (3)'!Q31","v":8.6334484459801917E-4},{"$f":"IF(ISNUMBER(I31),CORREL($B$1:B31,$I$1:I31),\"\")","v":{"$error":"#N/A"}},{"$f":"'Sheet3 (3)'!S31","v":8.5310417834236537E-3},{"$f":"IF(ISNUMBER(K31),CORREL($B$1:B31,$K$1:K31),\"\")","v":{"$error":"#N/A"}},{"$f":"'Sheet3 (3)'!U31","v":8.3370176214235658E-3},{"$f":"IF(ISNUMBER(M31),CORREL($B$1:B31,$M$1:M31),\"\")","v":{"$error":"#N/A"}},{"$f":"'Sheet3 (3)'!W31","v":-3.1273455091318488E-3},{"$f":"IF(ISNUMBER(O31),CORREL($B$1:B31,$O$1:O31),\"\")","v":{"$error":"#N/A"}},{"$f":"'Sheet3 (3)'!Y31","v":-4.417797412432514E-4},{"$f":"IF(ISNUMBER(Q31),CORREL($B$1:B31,$Q$1:Q31),\"\")","v":{"$error":"#N/A"}},{"$f":"'Sheet3 (3)'!AA31","v":6.1338054888075587E-3},{"$f":"IF(ISNUMBER(S31),CORREL($B$1:B31,$S$1:S31),\"\")","v":{"$error":"#N/A"}}]
[null,{"$f":"'Sheet3 (3)'!I32","v":{"$error":"#N/A"}},{"$f":"'Sheet3 (3)'!K32","v":1.6848060013527694E-2},{"$f":"IF(ISNUMBER(C32),CORREL($B$1:B32,$C$1:C32),\"\")","v":{"$error":"#N/A"}},{"$f":"'Sheet3 (3)'!M32","v":-8.6648767390772978E-3},{"$f":"IF(ISNUMBER(E32),CORREL($B$1:B32,$E$1:E32),\"\")","v":{"$error":"#N/A"}},{"$f":"'Sheet3 (3)'!O32","v":4.1630953838619252E-3},{"$f":"IF(ISNUMBER(G32),CORREL($B$1:B32,$G$1:G32),\"\")","v":{"$error":"#N/A"}},{"$f":"'Sheet3 (3)'!Q32","v":8.6334484459801917E-4},{"$f":"IF(ISNUMBER(I32),CORREL($B$1:B32,$I$1:I32),\"\")","v":{"$error":"#N/A"}},{"$f":"'Sheet3 (3)'!S32","v":8.5310417834236537E-3},{"$f":"IF(ISNUMBER(K32),CORREL($B$1:B32,$K$1:K32),\"\")","v":{"$error":"#N/A"}},{"$f":"'Sheet3 (3)'!U32","v":8.3370176214235658E-3},{"$f":"IF(ISNUMBER(M32),CORREL($B$1:B32,$M$1:M32),\"\")","v":{"$error":"#N/A"}},{"$f":"'Sheet3 (3)'!W32","v":-3.0022516887665109E-3},{"$f":"IF(ISNUMBER(O32),CORREL($B$1:B32,$O$1:O32),\"\")","v":{"$error":"#N/A"}},{"$f":"'Sheet3 (3)'!Y32","v":-1.8302303565793125E-3},{"$f":"IF(ISNUMBER(Q32),CORREL($B$1:B32,$Q$1:Q32),\"\")","v":{"$error":"#N/A"}},{"$f":"'Sheet3 (3)'!AA32","v":6.1338054888075587E-3},{"$f":"IF(ISNUMBER(S32),CORREL($B$1:B32,$S$1:S32),\"\")","v":{"$error":"#N/A"}}]
[null,{"$f":"'Sheet3 (3)'!I33","v":{"$error":"#N/A"}},{"$f":"'Sheet3 (3)'!K33","v":1.7339974174506508E-2},{"$f":"IF(ISNUMBER(C33),CORREL($B$1:B33,$C$1:C33),\"\")","v":{"$error":"#N/A"}},{"$f":"'Sheet3 (3)'!M33","v":-8.9699780327068528E-3},{"$f":"IF(ISNUMBER(E33),CORREL($B$1:B33,$E$1:E33),\"\")","v":{"$error":"#N/A"}},{"$f":"'Sheet3 (3)'!O33","v":3.9182074201052179E-3},{"$f":"IF(ISNUMBER(G33),CORREL($B$1:B33,$G$1:G33),\"\")","v":{"$error":"#N/A"}},{"$f":"'Sheet3 (3)'!Q33","v":8.6334484459801917E-4},{"$f":"IF(ISNUMBER(I33),CORREL($B$1:B33,$I$1:I33),\"\")","v":{"$error":"#N/A"}},{"$f":"'Sheet3 (3)'!S33","v":8.9046640513108337E-3},{"$f":"IF(ISNUMBER(K33),CORREL($B$1:B33,$K$1:K33),\"\")","v":{"$error":"#N/A"}},{"$f":"'Sheet3 (3)'!U33","v":8.3370176214235658E-3},{"$f":"IF(ISNUMBER(M33),CORREL($B$1:B33,$M$1:M33),\"\")","v":{"$error":"#N/A"}},{"$f":"'Sheet3 (3)'!W33","v":-6.2546910182636976E-3},{"$f":"IF(ISNUMBER(O33),CORREL($B$1:B33,$O$1:O33),\"\")","v":{"$error":"#N/A"}},{"$f":"'Sheet3 (3)'!Y33","v":-1.8302303565793125E-3},{"$f":"IF(ISNUMBER(Q33),CORREL($B$1:B33,$Q$1:Q33),\"\")","v":{"$error":"#N/A"}},{"$f":"'Sheet3 (3)'!AA33","v":6.5132161375996032E-3},{"$f":"IF(ISNUMBER(S33),CORREL($B$1:B33,$S$1:S33),\"\")","v":{"$error":"#N/A"}}]
[null,{"$f":"'Sheet3 (3)'!I34","v":{"$error":"#N/A"}},{"$f":"'Sheet3 (3)'!K34","v":1.697103855377231E-2},{"$f":"IF(ISNUMBER(C34),CORREL($B$1:B34,$C$1:C34),\"\")","v":{"$error":"#N/A"}},{"$f":"'Sheet3 (3)'!M34","v":-8.7869172565291538E-3},{"$f":"IF(ISNUMBER(E34),CORREL($B$1:B34,$E$1:E34),\"\")","v":{"$error":"#N/A"}},{"$f":"'Sheet3 (3)'!O34","v":3.795763438227039E-3},{"$f":"IF(ISNUMBER(G34),CORREL($B$1:B34,$G$1:G34),\"\")","v":{"$error":"#N/A"}},{"$f":"'Sheet3 (3)'!Q34","v":8.6334484459801917E-4},{"$f":"IF(ISNUMBER(I34),CORREL($B$1:B34,$I$1:I34),\"\")","v":{"$error":"#N/A"}},{"$f":"'Sheet3 (3)'!S34","v":8.9046640513108337E-3},{"$f":"IF(ISNUMBER(K34),CORREL($B$1:B34,$K$1:K34),\"\")","v":{"$error":"#N/A"}},{"$f":"'Sheet3 (3)'!U34","v":1.0673908924398394E-2},{"$f":"IF(ISNUMBER(M34),CORREL($B$1:B34,$M$1:M34),\"\")","v":{"$error":"#N/A"}},{"$f":"'Sheet3 (3)'!W34","v":-6.0670502877157801E-3},{"$f":"IF(ISNUMBER(O34),CORREL($B$1:B34,$O$1:O34),\"\")","v":{"$error":"#N/A"}},{"$f":"'Sheet3 (3)'!Y34","v":-1.8302303565793125E-3},{"$f":"IF(ISNUMBER(Q34),CORREL($B$1:B34,$Q$1:Q34),\"\")","v":{"$error":"#N/A"}},{"$f":"'Sheet3 (3)'!AA34","v":6.5132161375996032E-3},{"$f":"IF(ISNUMBER(S34),CORREL($B$1:B34,$S$1:S34),\"\")","v":{"$error":"#N/A"}}]
[null,{"$f":"'Sheet3 (3)'!I35","v":{"$error":"#N/A"}},{"$f":"'Sheet3 (3)'!K35","v":1.660210293303829E-2},{"$f":"IF(ISNUMBER(C35),CORREL($B$1:B35,$C$1:C35),\"\")","v":{"$error":"#N/A"}},{"$f":"'Sheet3 (3)'!M35","v":-8.6038564803514565E-3},{"$f":"IF(ISNUMBER(E35),CORREL($B$1:B35,$E$1:E35),\"\")","v":{"$error":"#N/A"}},{"$f":"'Sheet3 (3)'!O35","v":3.795763438227039E-3},{"$f":"IF(ISNUMBER(G35),CORREL($B$1:B35,$G$1:G35),\"\")","v":{"$error":"#N/A"}},{"$f":"'Sheet3 (3)'!Q35","v":1.356684755796737E-3},{"$f":"IF(ISNUMBER(I35),CORREL($B$1:B35,$I$1:I35),\"\")","v":{"$error":"#N/A"}},{"$f":"'Sheet3 (3)'!S35","v":9.4650974531416045E-3},{"$f":"IF(ISNUMBER(K35),CORREL($B$1:B35,$K$1:K35),\"\")","v":{"$error":"#N/A"}},{"$f":"'Sheet3 (3)'!U35","v":9.9791574559463404E-3},{"$f":"IF(ISNUMBER(M35),CORREL($B$1:B35,$M$1:M35),\"\")","v":{"$error":"#N/A"}},{"$f":"'Sheet3 (3)'!W35","v":-4.4408306229672756E-3},{"$f":"IF(ISNUMBER(O35),CORREL($B$1:B35,$O$1:O35),\"\")","v":{"$error":"#N/A"}},{"$f":"'Sheet3 (3)'!Y35","v":-1.4515620069421886E-3},{"$f":"IF(ISNUMBER(Q35),CORREL($B$1:B35,$Q$1:Q35),\"\")","v":{"$error":"#N/A"}},{"$f":"'Sheet3 (3)'!AA35","v":7.1455672189200958E-3},{"$f":"IF(ISNUMBER(S35),CORREL($B$1:B35,$S$1:S35),\"\")","v":{"$error":"#N/A"}}]
[null,{"$f":"'Sheet3 (3)'!I36","v":{"$error":"#N/A"}},{"$f":"'Sheet3 (3)'!K36","v":1.660210293303829E-2},{"$f":"IF(ISNUMBER(C36),CORREL($B$1:B36,$C$1:C36),\"\")","v":{"$error":"#N/A"}},{"$f":"'Sheet3 (3)'!M36","v":-8.4207957041737575E-3},{"$f":"IF(ISNUMBER(E36),CORREL($B$1:B36,$E$1:E36),\"\")","v":{"$error":"#N/A"}},{"$f":"'Sheet3 (3)'!O36","v":4.8365372841924327E-3},{"$f":"IF(ISNUMBER(G36),CORREL($B$1:B36,$G$1:G36),\"\")","v":{"$error":"#N/A"}},{"$f":"'Sheet3 (3)'!Q36","v":1.356684755796737E-3},{"$f":"IF(ISNUMBER(I36),CORREL($B$1:B36,$I$1:I36),\"\")","v":{"$error":"#N/A"}},{"$f":"'Sheet3 (3)'!S36","v":9.2160159412166993E-3},{"$f":"IF(ISNUMBER(K36),CORREL($B$1:B36,$K$1:K36),\"\")","v":{"$error":"#N/A"}},{"$f":"'Sheet3 (3)'!U36","v":9.9791574559463404E-3},{"$f":"IF(ISNUMBER(M36),CORREL($B$1:B36,$M$1:M36),\"\")","v":{"$error":"#N/A"}},{"$f":"'Sheet3 (3)'!W36","v":-5.6917688266199442E-3},{"$f":"IF(ISNUMBER(O36),CORREL($B$1:B36,$O$1:O36),\"\")","v":{"$error":"#N/A"}},{"$f":"'Sheet3 (3)'!Y36","v":-1.0097822656989371E-3},{"$f":"IF(ISNUMBER(Q36),CORREL($B$1:B36,$Q$1:Q36),\"\")","v":{"$error":"#N/A"}},{"$f":"'Sheet3 (3)'!AA36","v":6.5132161375996032E-3},{"$f":"IF(ISNUMBER(S36),CORREL($B$1:B36,$S$1:S36),\"\")","v":{"$error":"#N/A"}}]
[null,{"$f":"'Sheet3 (3)'!I37","v":{"$error":"#N/A"}},{"$f":"'Sheet3 (3)'!K37","v":1.660210293303829E-2},{"$f":"IF(ISNUMBER(C37),CORREL($B$1:B37,$C$1:C37),\"\")","v":{"$error":"#N/A"}},{"$f":"'Sheet3 (3)'!M37","v":-8.4207957041737575E-3},{"$f":"IF(ISNUMBER(E37),CORREL($B$1:B37,$E$1:E37),\"\")","v":{"$error":"#N/A"}},{"$f":"'Sheet3 (3)'!O37","v":4.8365372841924327E-3},{"$f":"IF(ISNUMBER(G37),CORREL($B$1:B37,$G$1:G37),\"\")","v":{"$error":"#N/A"}},{"$f":"'Sheet3 (3)'!Q37","v":1.0483473112975822E-3},{"$f":"IF(ISNUMBER(I37),CORREL($B$1:B37,$I$1:I37),\"\")","v":{"$error":"#N/A"}},{"$f":"'Sheet3 (3)'!S37","v":9.7764493430474702E-3},{"$f":"IF(ISNUMBER(K37),CORREL($B$1:B37,$K$1:K37),\"\")","v":{"$error":"#N/A"}},{"$f":"'Sheet3 (3)'!U37","v":9.9791574559463404E-3},{"$f":"IF(ISNUMBER(M37),CORREL($B$1:B37,$M$1:M37),\"\")","v":{"$error":"#N/A"}},{"$f":"'Sheet3 (3)'!W37","v":-6.192144108081118E-3},{"$f":"IF(ISNUMBER(O37),CORREL($B$1:B37,$O$1:O37),\"\")","v":{"$error":"#N/A"}},{"$f":"'Sheet3 (3)'!Y37","v":-9.4667087409263035E-4},{"$f":"IF(ISNUMBER(Q37),CORREL($B$1:B37,$Q$1:Q37),\"\")","v":{"$error":"#N/A"}},{"$f":"'Sheet3 (3)'!AA37","v":5.8808650562792901E-3},{"$f":"IF(ISNUMBER(S37),CORREL($B$1:B37,$S$1:S37),\"\")","v":{"$error":"#N/A"}}]
[null,{"$f":"'Sheet3 (3)'!I38","v":{"$error":"#N/A"}},{"$f":"'Sheet3 (3)'!K38","v":1.5987210231814514E-2},{"$f":"IF(ISNUMBER(C38),CORREL($B$1:B38,$C$1:C38),\"\")","v":{"$error":"#N/A"}},{"$f":"'Sheet3 (3)'!M38","v":-8.4207957041737575E-3},{"$f":"IF(ISNUMBER(E38),CORREL($B$1:B38,$E$1:E38),\"\")","v":{"$error":"#N/A"}},{"$f":"'Sheet3 (3)'!O38","v":4.2243173748010149E-3},{"$f":"IF(ISNUMBER(G38),CORREL($B$1:B38,$G$1:G38),\"\")","v":{"$error":"#N/A"}},{"$f":"'Sheet3 (3)'!Q38","v":1.171682289097174E-3},{"$f":"IF(ISNUMBER(I38),CORREL($B$1:B38,$I$1:I38),\"\")","v":{"$error":"#N/A"}},{"$f":"'Sheet3 (3)'!S38","v":9.7764493430474702E-3},{"$f":"IF(ISNUMBER(K38),CORREL($B$1:B38,$K$1:K38),\"\")","v":{"$error":"#N/A"}},{"$f":"'Sheet3 (3)'!U38","v":1.054759047558888E-2},{"$f":"IF(ISNUMBER(M38),CORREL($B$1:B38,$M$1:M38),\"\")","v":{"$error":"#N/A"}},{"$f":"'Sheet3 (3)'!W38","v":-7.3179884913684486E-3},{"$f":"IF(ISNUMBER(O38),CORREL($B$1:B38,$O$1:O38),\"\")","v":{"$error":"#N/A"}},{"$f":"'Sheet3 (3)'!Y38","v":-8.8355948248650281E-4},{"$f":"IF(ISNUMBER(Q38),CORREL($B$1:B38,$Q$1:Q38),\"\")","v":{"$error":"#N/A"}},{"$f":"'Sheet3 (3)'!AA38","v":5.8808650562792901E-3},{"$f":"IF(ISNUMBER(S38),CORREL($B$1:B38,$S$1:S38),\"\")","v":{"$error":"#N/A"}}]
[null,{"$f":"'Sheet3 (3)'!I39","v":{"$error":"#N/A"}},{"$f":"'Sheet3 (3)'!K39","v":1.5864231691569898E-2},{"$f":"IF(ISNUMBER(C39),CORREL($B$1:B39,$C$1:C39),\"\")","v":{"$error":"#N/A"}},{"$f":"'Sheet3 (3)'!M39","v":-8.4207957041737575E-3},{"$f":"IF(ISNUMBER(E39),CORREL($B$1:B39,$E$1:E39),\"\")","v":{"$error":"#N/A"}},{"$f":"'Sheet3 (3)'!O39","v":4.2243173748010149E-3},{"$f":"IF(ISNUMBER(G39),CORREL($B$1:B39,$G$1:G39),\"\")","v":{"$error":"#N/A"}},{"$f":"'Sheet3 (3)'!Q39","v":1.1100148001973781E-3},{"$f":"IF(ISNUMBER(I39),CORREL($B$1:B39,$I$1:I39),\"\")","v":{"$error":"#N/A"}},{"$f":"'Sheet3 (3)'!S39","v":9.7764493430474702E-3},{"$f":"IF(ISNUMBER(K39),CORREL($B$1:B39,$K$1:K39),\"\")","v":{"$error":"#N/A"}},{"$f":"'Sheet3 (3)'!U39","v":1.0484431251184213E-2},{"$f":"IF(ISNUMBER(M39),CORREL($B$1:B39,$M$1:M39),\"\")","v":{"$error":"#N/A"}},{"$f":"'Sheet3 (3)'!W39","v":-6.8176132099074518E-3},{"$f":"IF(ISNUMBER(O39),CORREL($B$1:B39,$O$1:O39),\"\")","v":{"$error":"#N/A"}},{"$f":"'Sheet3 (3)'!Y39","v":-6.3111391606181331E-4},{"$f":"IF(ISNUMBER(Q39),CORREL($B$1:B39,$Q$1:Q39),\"\")","v":{"$error":"#N/A"}},{"$f":"'Sheet3 (3)'!AA39","v":6.4499810294676259E-3},{"$f":"IF(ISNUMBER(S39),CORREL($B$1:B39,$S$1:S39),\"\")","v":{"$error":"#N/A"}}]
[null,{"$f":"'Sheet3 (3)'!I40","v":{"$error":"#N/A"}},{"$f":"'Sheet3 (3)'!K40","v":1.6171678042181611E-2},{"$f":"IF(ISNUMBER(C40),CORREL($B$1:B40,$C$1:C40),\"\")","v":{"$error":"#N/A"}},{"$f":"'Sheet3 (3)'!M40","v":-6.3461069074932392E-3},{"$f":"IF(ISNUMBER(E40),CORREL($B$1:B40,$E$1:E40),\"\")","v":{"$error":"#N/A"}},{"$f":"'Sheet3 (3)'!O40","v":4.2243173748010149E-3},{"$f":"IF(ISNUMBER(G40),CORREL($B$1:B40,$G$1:G40),\"\")","v":{"$error":"#N/A"}},{"$f":"'Sheet3 (3)'!Q40","v":1.1100148001973781E-3},{"$f":"IF(ISNUMBER(I40),CORREL($B$1:B40,$I$1:I40),\"\")","v":{"$error":"#N/A"}},{"$f":"'Sheet3 (3)'!S40","v":9.7764493430474702E-3},{"$f":"IF(ISNUMBER(K40),CORREL($B$1:B40,$K$1:K40),\"\")","v":{"$error":"#N/A"}},{"$f":"'Sheet3 (3)'!U40","v":1.0484431251184213E-2},{"$f":"IF(ISNUMBER(M40),CORREL($B$1:B40,$M$1:M40),\"\")","v":{"$error":"#N/A"}},{"$f":"'Sheet3 (3)'!W40","v":-7.5056292219163661E-3},{"$f":"IF(ISNUMBER(O40),CORREL($B$1:B40,$O$1:O40),\"\")","v":{"$error":"#N/A"}},{"$f":"'Sheet3 (3)'!Y40","v":5.6800252445568576E-4},{"$f":"IF(ISNUMBER(Q40),CORREL($B$1:B40,$Q$1:Q40),\"\")","v":{"$error":"#N/A"}},{"$f":"'Sheet3 (3)'!AA40","v":5.944100164411447E-3},{"$f":"IF(ISNUMBER(S40),CORREL($B$1:B40,$S$1:S40),\"\")","v":{"$error":"#N/A"}}]
[null,{"$f":"'Sheet3 (3)'!I41","v":{"$error":"#N/A"}},{"$f":"'Sheet3 (3)'!K41","v":1.6417635122671193E-2},{"$f":"IF(ISNUMBER(C41),CORREL($B$1:B41,$C$1:C41),\"\")","v":{"$error":"#N/A"}},{"$f":"'Sheet3 (3)'!M41","v":-6.3461069074932392E-3},{"$f":"IF(ISNUMBER(E41),CORREL($B$1:B41,$E$1:E41),\"\")","v":{"$error":"#N/A"}},{"$f":"'Sheet3 (3)'!O41","v":4.2855393657401045E-3},{"$f":"IF(ISNUMBER(G41),CORREL($B$1:B41,$G$1:G41),\"\")","v":{"$error":"#N/A"}},{"$f":"'Sheet3 (3)'!Q41","v":1.1100148001973781E-3},{"$f":"IF(ISNUMBER(I41),CORREL($B$1:B41,$I$1:I41),\"\")","v":{"$error":"#N/A"}},{"$f":"'Sheet3 (3)'!S41","v":9.7764493430474702E-3},{"$f":"IF(ISNUMBER(K41),CORREL($B$1:B41,$K$1:K41),\"\")","v":{"$error":"#N/A"}},{"$f":"'Sheet3 (3)'!U41","v":9.9159982315416735E-3},{"$f":"IF(ISNUMBER(M41),CORREL($B$1:B41,$M$1:M41),\"\")","v":{"$error":"#N/A"}},{"$f":"'Sheet3 (3)'!W41","v":-1.0007505629221881E-2},{"$f":"IF(ISNUMBER(O41),CORREL($B$1:B41,$O$1:O41),\"\")","v":{"$error":"#N/A"}},{"$f":"'Sheet3 (3)'!Y41","v":5.6800252445568576E-4},{"$f":"IF(ISNUMBER(Q41),CORREL($B$1:B41,$Q$1:Q41),\"\")","v":{"$error":"#N/A"}},{"$f":"'Sheet3 (3)'!AA41","v":5.3749841912231113E-3},{"$f":"IF(ISNUMBER(S41),CORREL($B$1:B41,$S$1:S41),\"\")","v":{"$error":"#N/A"}}]
[null,{"$f":"'Sheet3 (3)'!I42","v":{"$error":"#N/A"}},{"$f":"'Sheet3 (3)'!K42","v":1.6909549283650002E-2},{"$f":"IF(ISNUMBER(C42),CORREL($B$1:B42,$C$1:C42),\"\")","v":{"$error":"#N/A"}},{"$f":"'Sheet3 (3)'!M42","v":-7.8105931169148227E-3},{"$f":"IF(ISNUMBER(E42),CORREL($B$1:B42,$E$1:E42),\"\")","v":{"$error":"#N/A"}},{"$f":"'Sheet3 (3)'!O42","v":4.2855393657401045E-3},{"$f":"IF(ISNUMBER(G42),CORREL($B$1:B42,$G$1:G42),\"\")","v":{"$error":"#N/A"}},{"$f":"'Sheet3 (3)'!Q42","v":1.2333497779971451E-3},{"$f":"IF(ISNUMBER(I42),CORREL($B$1:B42,$I$1:I42),\"\")","v":{"$error":"#N/A"}},{"$f":"'Sheet3 (3)'!S42","v":9.7764493430474702E-3},{"$f":"IF(ISNUMBER(K42),CORREL($B$1:B42,$K$1:K42),\"\")","v":{"$error":"#N/A"}},{"$f":"'Sheet3 (3)'!U42","v":1.1242341944040933E-2},{"$f":"IF(ISNUMBER(M42),CORREL($B$1:B42,$M$1:M42),\"\")","v":{"$error":"#N/A"}},{"$f":"'Sheet3 (3)'!W42","v":-9.6947710783086248E-3},{"$f":"IF(ISNUMBER(O42),CORREL($B$1:B42,$O$1:O42),\"\")","v":{"$error":"#N/A"}},{"$f":"'Sheet3 (3)'!Y42","v":2.5244556642486883E-4},{"$f":"IF(ISNUMBER(Q42),CORREL($B$1:B42,$Q$1:Q42),\"\")","v":{"$error":"#N/A"}},{"$f":"'Sheet3 (3)'!AA42","v":5.1220437586948419E-3},{"$f":"IF(ISNUMBER(S42),CORREL($B$1:B42,$S$1:S42),\"\")","v":{"$error":"#N/A"}}]
[null,{"$f":"'Sheet3 (3)'!I43","v":{"$error":"#N/A"}},{"$f":"'Sheet3 (3)'!K43","v":1.7524441984873605E-2},{"$f":"IF(ISNUMBER(C43),CORREL($B$1:B43,$C$1:C43),\"\")","v":{"$error":"#N/A"}},{"$f":"'Sheet3 (3)'!M43","v":-7.3224310471075704E-3},{"$f":"IF(ISNUMBER(E43),CORREL($B$1:B43,$E$1:E43),\"\")","v":{"$error":"#N/A"}},{"$f":"'Sheet3 (3)'!O43","v":4.2855393657401045E-3},{"$f":"IF(ISNUMBER(G43),CORREL($B$1:B43,$G$1:G43),\"\")","v":{"$error":"#N/A"}},{"$f":"'Sheet3 (3)'!Q43","v":1.2333497779971451E-3},{"$f":"IF(ISNUMBER(I43),CORREL($B$1:B43,$I$1:I43),\"\")","v":{"$error":"#N/A"}},{"$f":"'Sheet3 (3)'!S43","v":9.3405566971791511E-3},{"$f":"IF(ISNUMBER(K43),CORREL($B$1:B43,$K$1:K43),\"\")","v":{"$error":"#N/A"}},{"$f":"'Sheet3 (3)'!U43","v":1.168445651487396E-2},{"$f":"IF(ISNUMBER(M43),CORREL($B$1:B43,$M$1:M43),\"\")","v":{"$error":"#N/A"}},{"$f":"'Sheet3 (3)'!W43","v":{"$error":"#N/A"}},{"$f":"IF(ISNUMBER(O43),CORREL($B$1:B43,$O$1:O43),\"\")","v":""},{"$f":"'Sheet3 (3)'!Y43","v":2.5244556642486883E-4},{"$f":"IF(ISNUMBER(Q43),CORREL($B$1:B43,$Q$1:Q43),\"\")","v":{"$error":"#N/A"}},{"$f":"'Sheet3 (3)'!AA43","v":5.1220437586948419E-3},{"$f":"IF(ISNUMBER(S43),CORREL($B$1:B43,$S$1:S43),\"\")","v":{"$error":"#N/A"}}]
[null,{"$f":"'Sheet3 (3)'!I44","v":{"$error":"#N/A"}},{"$f":"'Sheet3 (3)'!K44","v":1.7524441984873605E-2},{"$f":"IF(ISNUMBER(C44),CORREL($B$1:B44,$C$1:C44),\"\")","v":{"$error":"#N/A"}},{"$f":"'Sheet3 (3)'!M44","v":-7.3224310471075704E-3},{"$f":"IF(ISNUMBER(E44),CORREL($B$1:B44,$E$1:E44),\"\")","v":{"$error":"#N/A"}},{"$f":"'Sheet3 (3)'!O44","v":3.4284314925921528E-3},{"$f":"IF(ISNUMBER(G44),CORREL($B$1:B44,$G$1:G44),\"\")","v":{"$error":"#N/A"}},{"$f":"'Sheet3 (3)'!Q44","v":1.665022200296067E-3},{"$f":"IF(ISNUMBER(I44),CORREL($B$1:B44,$I$1:I44),\"\")","v":{"$error":"#N/A"}},{"$f":"'Sheet3 (3)'!S44","v":9.3405566971791511E-3},{"$f":"IF(ISNUMBER(K44),CORREL($B$1:B44,$K$1:K44),\"\")","v":{"$error":"#N/A"}},{"$f":"'Sheet3 (3)'!U44","v":1.168445651487396E-2},{"$f":"IF(ISNUMBER(M44),CORREL($B$1:B44,$M$1:M44),\"\")","v":{"$error":"#N/A"}},{"$f":"'Sheet3 (3)'!W44","v":{"$error":"#N/A"}},{"$f":"IF(ISNUMBER(O44),CORREL($B$1:B44,$O$1:O44),\"\")","v":""},{"$f":"'Sheet3 (3)'!Y44","v":-8.2044809088037526E-4},{"$f":"IF(ISNUMBER(Q44),CORREL($B$1:B44,$Q$1:Q44),\"\")","v":{"$error":"#N/A"}},{"$f":"'Sheet3 (3)'!AA44","v":5.8808650562792901E-3},{"$f":"IF(ISNUMBER(S44),CORREL($B$1:B44,$S$1:S44),\"\")","v":{"$error":"#N/A"}}]
[null,{"$f":"'Sheet3 (3)'!I45","v":{"$error":"#N/A"}},{"$f":"'Sheet3 (3)'!K45","v":1.7524441984873605E-2},{"$f":"IF(ISNUMBER(C45),CORREL($B$1:B45,$C$1:C45),\"\")","v":{"$error":"#N/A"}},{"$f":"'Sheet3 (3)'!M45","v":-7.3224310471075704E-3},{"$f":"IF(ISNUMBER(E45),CORREL($B$1:B45,$E$1:E45),\"\")","v":{"$error":"#N/A"}},{"$f":"'Sheet3 (3)'!O45","v":4.1630953838619252E-3},{"$f":"IF(ISNUMBER(G45),CORREL($B$1:B45,$G$1:G45),\"\")","v":{"$error":"#N/A"}},{"$f":"'Sheet3 (3)'!Q45","v":8.0167735569804794E-4},{"$f":"IF(ISNUMBER(I45),CORREL($B$1:B45,$I$1:I45),\"\")","v":{"$error":"#N/A"}},{"$f":"'Sheet3 (3)'!S45","v":9.5896382091038793E-3},{"$f":"IF(ISNUMBER(K45),CORREL($B$1:B45,$K$1:K45),\"\")","v":{"$error":"#N/A"}},{"$f":"'Sheet3 (3)'!U45","v":1.168445651487396E-2},{"$f":"IF(ISNUMBER(M45),CORREL($B$1:B45,$M$1:M45),\"\")","v":{"$error":"#N/A"}},{"$f":"'Sheet3 (3)'!W45","v":{"$error":"#N/A"}},{"$f":"IF(ISNUMBER(O45),CORREL($B$1:B45,$O$1:O45),\"\")","v":""},{"$f":"'Sheet3 (3)'!Y45","v":-1.0097822656989371E-3},{"$f":"IF(ISNUMBER(Q45),CORREL($B$1:B45,$Q$1:Q45),\"\")","v":{"$error":"#N/A"}},{"$f":"'Sheet3 (3)'!AA45","v":5.8808650562792901E-3},{"$f":"IF(ISNUMBER(S45),CORREL($B$1:B45,$S$1:S45),\"\")","v":{"$error":"#N/A"}}]
[null,{"$f":"'Sheet3 (3)'!I46","v":{"$error":"#N/A"}},{"$f":"'Sheet3 (3)'!K46","v":1.7401463444628989E-2},{"$f":"IF(ISNUMBER(C46),CORREL($B$1:B46,$C$1:C46),\"\")","v":{"$error":"#N/A"}},{"$f":"'Sheet3 (3)'!M46","v":-7.3224310471075704E-3},{"$f":"IF(ISNUMBER(E46),CORREL($B$1:B46,$E$1:E46),\"\")","v":{"$error":"#N/A"}},{"$f":"'Sheet3 (3)'!O46","v":3.24476551977471E-3},{"$f":"IF(ISNUMBER(G46),CORREL($B$1:B46,$G$1:G46),\"\")","v":{"$error":"#N/A"}},{"$f":"'Sheet3 (3)'!Q46","v":1.295017266896941E-3},{"$f":"IF(ISNUMBER(I46),CORREL($B$1:B46,$I$1:I46),\"\")","v":{"$error":"#N/A"}},{"$f":"'Sheet3 (3)'!S46","v":9.7141789650663311E-3},{"$f":"IF(ISNUMBER(K46),CORREL($B$1:B46,$K$1:K46),\"\")","v":{"$error":"#N/A"}},{"$f":"'Sheet3 (3)'!U46","v":1.168445651487396E-2},{"$f":"IF(ISNUMBER(M46),CORREL($B$1:B46,$M$1:M46),\"\")","v":{"$error":"#N/A"}},{"$f":"'Sheet3 (3)'!W46","v":{"$error":"#N/A"}},{"$f":"IF(ISNUMBER(O46),CORREL($B$1:B46,$O$1:O46),\"\")","v":""},{"$f":"'Sheet3 (3)'!Y46","v":-1.1991164405174991E-3},{"$f":"IF(ISNUMBER(Q46),CORREL($B$1:B46,$Q$1:Q46),\"\")","v":{"$error":"#N/A"}},{"$f":"'Sheet3 (3)'!AA46","v":7.2720374351840505E-3},{"$f":"IF(ISNUMBER(S46),CORREL($B$1:B46,$S$1:S46),\"\")","v":{"$error":"#N/A"}}]
[null,{"$f":"'Sheet3 (3)'!I47","v":{"$error":"#N/A"}},{"$f":"'Sheet3 (3)'!K47","v":1.7094017094017103E-2},{"$f":"IF(ISNUMBER(C47),CORREL($B$1:B47,$C$1:C47),\"\")","v":{"$error":"#N/A"}},{"$f":"'Sheet3 (3)'!M47","v":-5.7969245789601456E-3},{"$f":"IF(ISNUMBER(E47),CORREL($B$1:B47,$E$1:E47),\"\")","v":{"$error":"#N/A"}},{"$f":"'Sheet3 (3)'!O47","v":3.6733194563486854E-3},{"$f":"IF(ISNUMBER(G47),CORREL($B$1:B47,$G$1:G47),\"\")","v":{"$error":"#N/A"}},{"$f":"'Sheet3 (3)'!Q47","v":1.665022200296067E-3},{"$f":"IF(ISNUMBER(I47),CORREL($B$1:B47,$I$1:I47),\"\")","v":{"$error":"#N/A"}},{"$f":"'Sheet3 (3)'!S47","v":9.7141789650663311E-3},{"$f":"IF(ISNUMBER(K47),CORREL($B$1:B47,$K$1:K47),\"\")","v":{"$error":"#N/A"}},{"$f":"'Sheet3 (3)'!U47","v":1.1873934188088141E-2},{"$f":"IF(ISNUMBER(M47),CORREL($B$1:B47,$M$1:M47),\"\")","v":{"$error":"#N/A"}},{"$f":"'Sheet3 (3)'!W47","v":{"$error":"#N/A"}},{"$f":"IF(ISNUMBER(O47),CORREL($B$1:B47,$O$1:O47),\"\")","v":""},{"$f":"'Sheet3 (3)'!Y47","v":-6.3111391606181331E-4},{"$f":"IF(ISNUMBER(Q47),CORREL($B$1:B47,$Q$1:Q47),\"\")","v":{"$error":"#N/A"}},{"$f":"'Sheet3 (3)'!AA47","v":7.3352725433162074E-3},{"$f":"IF(ISNUMBER(S47),CORREL($B$1:B47,$S$1:S47),\"\")","v":{"$error":"#N/A"}}]
[null,{"$f":"'Sheet3 (3)'!I48","v":{"$error":"#N/A"}},{"$f":"'Sheet3 (3)'!K48","v":1.7954866875730283E-2},{"$f":"IF(ISNUMBER(C48),CORREL($B$1:B48,$C$1:C48),\"\")","v":{"$error":"#N/A"}},{"$f":"'Sheet3 (3)'!M48","v":-5.7969245789601456E-3},{"$f":"IF(ISNUMBER(E48),CORREL($B$1:B48,$E$1:E48),\"\")","v":{"$error":"#N/A"}},{"$f":"'Sheet3 (3)'!O48","v":3.6733194563486854E-3},{"$f":"IF(ISNUMBER(G48),CORREL($B$1:B48,$G$1:G48),\"\")","v":{"$error":"#N/A"}},{"$f":"'Sheet3 (3)'!Q48","v":1.665022200296067E-3},{"$f":"IF(ISNUMBER(I48),CORREL($B$1:B48,$I$1:I48),\"\")","v":{"$error":"#N/A"}},{"$f":"'Sheet3 (3)'!S48","v":9.4028270751602902E-3},{"$f":"IF(ISNUMBER(K48),CORREL($B$1:B48,$K$1:K48),\"\")","v":{"$error":"#N/A"}},{"$f":"'Sheet3 (3)'!U48","v":1.1873934188088141E-2},{"$f":"IF(ISNUMBER(M48),CORREL($B$1:B48,$M$1:M48),\"\")","v":{"$error":"#N/A"}},{"$f":"'Sheet3 (3)'!W48","v":{"$error":"#N/A"}},{"$f":"IF(ISNUMBER(O48),CORREL($B$1:B48,$O$1:O48),\"\")","v":""},{"$f":"'Sheet3 (3)'!Y48","v":-7.5733669927406839E-4},{"$f":"IF(ISNUMBER(Q48),CORREL($B$1:B48,$Q$1:Q48),\"\")","v":{"$error":"#N/A"}},{"$f":"'Sheet3 (3)'!AA48","v":7.2720374351840505E-3},{"$f":"IF(ISNUMBER(S48),CORREL($B$1:B48,$S$1:S48),\"\")","v":{"$error":"#N/A"}}]
[null,{"$f":"'Sheet3 (3)'!I49","v":{"$error":"#N/A"}},{"$f":"'Sheet3 (3)'!K49","v":1.7155506364139411E-2},{"$f":"IF(ISNUMBER(C49),CORREL($B$1:B49,$C$1:C49),\"\")","v":{"$error":"#N/A"}},{"$f":"'Sheet3 (3)'!M49","v":-5.7969245789601456E-3},{"$f":"IF(ISNUMBER(E49),CORREL($B$1:B49,$E$1:E49),\"\")","v":{"$error":"#N/A"}},{"$f":"'Sheet3 (3)'!O49","v":2.4488796375658484E-3},{"$f":"IF(ISNUMBER(G49),CORREL($B$1:B49,$G$1:G49),\"\")","v":{"$error":"#N/A"}},{"$f":"'Sheet3 (3)'!Q49","v":1.665022200296067E-3},{"$f":"IF(ISNUMBER(I49),CORREL($B$1:B49,$I$1:I49),\"\")","v":{"$error":"#N/A"}},{"$f":"'Sheet3 (3)'!S49","v":9.4028270751602902E-3},{"$f":"IF(ISNUMBER(K49),CORREL($B$1:B49,$K$1:K49),\"\")","v":{"$error":"#N/A"}},{"$f":"'Sheet3 (3)'!U49","v":1.1494978841659781E-2},{"$f":"IF(ISNUMBER(M49),CORREL($B$1:B49,$M$1:M49),\"\")","v":{"$error":"#N/A"}},{"$f":"'Sheet3 (3)'!W49","v":{"$error":"#N/A"}},{"$f":"IF(ISNUMBER(O49),CORREL($B$1:B49,$O$1:O49),\"\")","v":""},{"$f":"'Sheet3 (3)'!Y49","v":-9.4667087409263035E-4},{"$f":"IF(ISNUMBER(Q49),CORREL($B$1:B49,$Q$1:Q49),\"\")","v":{"$error":"#N/A"}},{"$f":"'Sheet3 (3)'!AA49","v":7.2720374351840505E-3},{"$f":"IF(ISNUMBER(S49),CORREL($B$1:B49,$S$1:S49),\"\")","v":{"$error":"#N/A"}}]
[null,{"$f":"'Sheet3 (3)'!I50","v":{"$error":"#N/A"}},{"$f":"'Sheet3 (3)'!K50","v":1.7893377605607802E-2},{"$f":"IF(ISNUMBER(C50),CORREL($B$1:B50,$C$1:C50),\"\")","v":{"$error":"#N/A"}},{"$f":"'Sheet3 (3)'!M50","v":-6.1630461313155411E-3},{"$f":"IF(ISNUMBER(E50),CORREL($B$1:B50,$E$1:E50),\"\")","v":{"$error":"#N/A"}},{"$f":"'Sheet3 (3)'!O50","v":1.5917717644177232E-3},{"$f":"IF(ISNUMBER(G50),CORREL($B$1:B50,$G$1:G50),\"\")","v":{"$error":"#N/A"}},{"$f":"'Sheet3 (3)'!Q50","v":2.836704489393241E-3},{"$f":"IF(ISNUMBER(I50),CORREL($B$1:B50,$I$1:I50),\"\")","v":{"$error":"#N/A"}},{"$f":"'Sheet3 (3)'!S50","v":9.4028270751602902E-3},{"$f":"IF(ISNUMBER(K50),CORREL($B$1:B50,$K$1:K50),\"\")","v":{"$error":"#N/A"}},{"$f":"'Sheet3 (3)'!U50","v":1.1494978841659781E-2},{"$f":"IF(ISNUMBER(M50),CORREL($B$1:B50,$M$1:M50),\"\")","v":{"$error":"#N/A"}},{"$f":"'Sheet3 (3)'!W50","v":{"$error":"#N/A"}},{"$f":"IF(ISNUMBER(O50),CORREL($B$1:B50,$O$1:O50),\"\")","v":""},{"$f":"'Sheet3 (3)'!Y50","v":-9.4667087409263035E-4},{"$f":"IF(ISNUMBER(Q50),CORREL($B$1:B50,$Q$1:Q50),\"\")","v":{"$error":"#N/A"}},{"$f":"'Sheet3 (3)'!AA50","v":6.8293916782598491E-3},{"$f":"IF(ISNUMBER(S50),CORREL($B$1:B50,$S$1:S50),\"\")","v":{"$error":"#N/A"}}]
[null,{"$f":"'Sheet3 (3)'!I51","v":{"$error":"#N/A"}},{"$f":"'Sheet3 (3)'!K51","v":1.7770399065363186E-2},{"$f":"IF(ISNUMBER(C51),CORREL($B$1:B51,$C$1:C51),\"\")","v":{"$error":"#N/A"}},{"$f":"'Sheet3 (3)'!M51","v":-6.2240663900413832E-3},{"$f":"IF(ISNUMBER(E51),CORREL($B$1:B51,$E$1:E51),\"\")","v":{"$error":"#N/A"}},{"$f":"'Sheet3 (3)'!O51","v":1.4081057916002801E-3},{"$f":"IF(ISNUMBER(G51),CORREL($B$1:B51,$G$1:G51),\"\")","v":{"$error":"#N/A"}},{"$f":"'Sheet3 (3)'!Q51","v":2.836704489393241E-3},{"$f":"IF(ISNUMBER(I51),CORREL($B$1:B51,$I$1:I51),\"\")","v":{"$error":"#N/A"}},{"$f":"'Sheet3 (3)'!S51","v":9.4028270751602902E-3},{"$f":"IF(ISNUMBER(K51),CORREL($B$1:B51,$K$1:K51),\"\")","v":{"$error":"#N/A"}},{"$f":"'Sheet3 (3)'!U51","v":1.0863386597612573E-2},{"$f":"IF(ISNUMBER(M51),CORREL($B$1:B51,$M$1:M51),\"\")","v":{"$error":"#N/A"}},{"$f":"'Sheet3 (3)'!W51","v":{"$error":"#N/A"}},{"$f":"IF(ISNUMBER(O51),CORREL($B$1:B51,$O$1:O51),\"\")","v":""},{"$f":"'Sheet3 (3)'!Y51","v":8.204480908805547E-4},{"$f":"IF(ISNUMBER(Q51),CORREL($B$1:B51,$Q$1:Q51),\"\")","v":{"$error":"#N/A"}},{"$f":"'Sheet3 (3)'!AA51","v":6.8293916782598491E-3},{"$f":"IF(ISNUMBER(S51),CORREL($B$1:B51,$S$1:S51),\"\")","v":{"$error":"#N/A"}}]
[null,{"$f":"'Sheet3 (3)'!I52","v":{"$error":"#N/A"}},{"$f":"'Sheet3 (3)'!K52","v":1.7462952714751297E-2},{"$f":"IF(ISNUMBER(C52),CORREL($B$1:B52,$C$1:C52),\"\")","v":{"$error":"#N/A"}},{"$f":"'Sheet3 (3)'!M52","v":-6.2240663900413832E-3},{"$f":"IF(ISNUMBER(E52),CORREL($B$1:B52,$E$1:E52),\"\")","v":{"$error":"#N/A"}},{"$f":"'Sheet3 (3)'!O52","v":1.1632178278437476E-3},{"$f":"IF(ISNUMBER(G52),CORREL($B$1:B52,$G$1:G52),\"\")","v":{"$error":"#N/A"}},{"$f":"'Sheet3 (3)'!Q52","v":2.8983719782930371E-3},{"$f":"IF(ISNUMBER(I52),CORREL($B$1:B52,$I$1:I52),\"\")","v":{"$error":"#N/A"}},{"$f":"'Sheet3 (3)'!S52","v":9.1537455632355619E-3},{"$f":"IF(ISNUMBER(K52),CORREL($B$1:B52,$K$1:K52),\"\")","v":{"$error":"#N/A"}},{"$f":"'Sheet3 (3)'!U52","v":1.0863386597612573E-2},{"$f":"IF(ISNUMBER(M52),CORREL($B$1:B52,$M$1:M52),\"\")","v":{"$error":"#N/A"}},{"$f":"'Sheet3 (3)'!W52","v":{"$error":"#N/A"}},{"$f":"IF(ISNUMBER(O52),CORREL($B$1:B52,$O$1:O52),\"\")","v":""},{"$f":"'Sheet3 (3)'!Y52","v":8.204480908805547E-4},{"$f":"IF(ISNUMBER(Q52),CORREL($B$1:B52,$Q$1:Q52),\"\")","v":{"$error":"#N/A"}},{"$f":"'Sheet3 (3)'!AA52","v":8.2205640571646095E-3},{"$f":"IF(ISNUMBER(S52),CORREL($B$1:B52,$S$1:S52),\"\")","v":{"$error":"#N/A"}}]
[null,{"$f":"'Sheet3 (3)'!I53","v":{"$error":"#N/A"}},{"$f":"'Sheet3 (3)'!K53","v":1.6725081473282905E-2},{"$f":"IF(ISNUMBER(C53),CORREL($B$1:B53,$C$1:C53),\"\")","v":{"$error":"#N/A"}},{"$f":"'Sheet3 (3)'!M53","v":-6.2240663900413832E-3},{"$f":"IF(ISNUMBER(E53),CORREL($B$1:B53,$E$1:E53),\"\")","v":{"$error":"#N/A"}},{"$f":"'Sheet3 (3)'!O53","v":6.1221990939141862E-4},{"$f":"IF(ISNUMBER(G53),CORREL($B$1:B53,$G$1:G53),\"\")","v":{"$error":"#N/A"}},{"$f":"'Sheet3 (3)'!Q53","v":3.2683769116921631E-3},{"$f":"IF(ISNUMBER(I53),CORREL($B$1:B53,$I$1:I53),\"\")","v":{"$error":"#N/A"}},{"$f":"'Sheet3 (3)'!S53","v":9.1537455632355619E-3},{"$f":"IF(ISNUMBER(K53),CORREL($B$1:B53,$K$1:K53),\"\")","v":{"$error":"#N/A"}},{"$f":"'Sheet3 (3)'!U53","v":1.0737068148803061E-2},{"$f":"IF(ISNUMBER(M53),CORREL($B$1:B53,$M$1:M53),\"\")","v":{"$error":"#N/A"}},{"$f":"'Sheet3 (3)'!W53","v":{"$error":"#N/A"}},{"$f":"IF(ISNUMBER(O53),CORREL($B$1:B53,$O$1:O53),\"\")","v":""},{"$f":"'Sheet3 (3)'!Y53","v":3.6604607131588045E-3},{"$f":"IF(ISNUMBER(Q53),CORREL($B$1:B53,$Q$1:Q53),\"\")","v":{"$error":"#N/A"}},{"$f":"'Sheet3 (3)'!AA53","v":8.1573289490326321E-3},{"$f":"IF(ISNUMBER(S53),CORREL($B$1:B53,$S$1:S53),\"\")","v":{"$error":"#N/A"}}]
[null,{"$f":"'Sheet3 (3)'!I54","v":{"$error":"#N/A"}},{"$f":"'Sheet3 (3)'!K54","v":1.5987210231814514E-2},{"$f":"IF(ISNUMBER(C54),CORREL($B$1:B54,$C$1:C54),\"\")","v":{"$error":"#N/A"}},{"$f":"'Sheet3 (3)'!M54","v":-7.3224310471075704E-3},{"$f":"IF(ISNUMBER(E54),CORREL($B$1:B54,$E$1:E54),\"\")","v":{"$error":"#N/A"}},{"$f":"'Sheet3 (3)'!O54","v":1.2244398187828372E-3},{"$f":"IF(ISNUMBER(G54),CORREL($B$1:B54,$G$1:G54),\"\")","v":{"$error":"#N/A"}},{"$f":"'Sheet3 (3)'!Q54","v":3.5767143561914929E-3},{"$f":"IF(ISNUMBER(I54),CORREL($B$1:B54,$I$1:I54),\"\")","v":{"$error":"#N/A"}},{"$f":"'Sheet3 (3)'!S54","v":9.0914751852544246E-3},{"$f":"IF(ISNUMBER(K54),CORREL($B$1:B54,$K$1:K54),\"\")","v":{"$error":"#N/A"}},{"$f":"'Sheet3 (3)'!U54","v":1.054759047558888E-2},{"$f":"IF(ISNUMBER(M54),CORREL($B$1:B54,$M$1:M54),\"\")","v":{"$error":"#N/A"}},{"$f":"'Sheet3 (3)'!W54","v":{"$error":"#N/A"}},{"$f":"IF(ISNUMBER(O54),CORREL($B$1:B54,$O$1:O54),\"\")","v":""},{"$f":"'Sheet3 (3)'!Y54","v":3.6604607131588045E-3},{"$f":"IF(ISNUMBER(Q54),CORREL($B$1:B54,$Q$1:Q54),\"\")","v":{"$error":"#N/A"}},{"$f":"'Sheet3 (3)'!AA54","v":8.1573289490326321E-3},{"$f":"IF(ISNUMBER(S54),CORREL($B$1:B54,$S$1:S54),\"\")","v":{"$error":"#N/A"}}]
[null,{"$f":"'Sheet3 (3)'!I55","v":{"$error":"#N/A"}},{"$f":"'Sheet3 (3)'!K55","v":1.5987210231814514E-2},{"$f":"IF(ISNUMBER(C55),CORREL($B$1:B55,$C$1:C55),\"\")","v":{"$error":"#N/A"}},{"$f":"'Sheet3 (3)'!M55","v":-6.2850866487673979E-3},{"$f":"IF(ISNUMBER(E55),CORREL($B$1:B55,$E$1:E55),\"\")","v":{"$error":"#N/A"}},{"$f":"'Sheet3 (3)'!O55","v":1.7142157462960764E-3},{"$f":"IF(ISNUMBER(G55),CORREL($B$1:B55,$G$1:G55),\"\")","v":{"$error":"#N/A"}},{"$f":"'Sheet3 (3)'!Q55","v":3.5767143561914929E-3},{"$f":"IF(ISNUMBER(I55),CORREL($B$1:B55,$I$1:I55),\"\")","v":{"$error":"#N/A"}},{"$f":"'Sheet3 (3)'!S55","v":9.0914751852544246E-3},{"$f":"IF(ISNUMBER(K55),CORREL($B$1:B55,$K$1:K55),\"\")","v":{"$error":"#N/A"}},{"$f":"'Sheet3 (3)'!U55","v":1.0673908924398394E-2},{"$f":"IF(ISNUMBER(M55),CORREL($B$1:B55,$M$1:M55),\"\")","v":{"$error":"#N/A"}},{"$f":"'Sheet3 (3)'!W55","v":{"$error":"#N/A"}},{"$f":"IF(ISNUMBER(O55),CORREL($B$1:B55,$O$1:O55),\"\")","v":""},{"$f":"'Sheet3 (3)'!Y55","v":3.6604607131588045E-3},{"$f":"IF(ISNUMBER(Q55),CORREL($B$1:B55,$Q$1:Q55),\"\")","v":{"$error":"#N/A"}},{"$f":"'Sheet3 (3)'!AA55","v":7.7779183002404089E-3},{"$f":"IF(ISNUMBER(S55),CORREL($B$1:B55,$S$1:S55),\"\")","v":{"$error":"#N/A"}}]
[null,{"$f":"'Sheet3 (3)'!I56","v":{"$error":"#N/A"}},{"$f":"'Sheet3 (3)'!K56","v":1.6048699501936995E-2},{"$f":"IF(ISNUMBER(C56),CORREL($B$1:B56,$C$1:C56),\"\")","v":{"$error":"#N/A"}},{"$f":"'Sheet3 (3)'!M56","v":-6.7732487185744768E-3},{"$f":"IF(ISNUMBER(E56),CORREL($B$1:B56,$E$1:E56),\"\")","v":{"$error":"#N/A"}},{"$f":"'Sheet3 (3)'!O56","v":1.7142157462960764E-3},{"$f":"IF(ISNUMBER(G56),CORREL($B$1:B56,$G$1:G56),\"\")","v":{"$error":"#N/A"}},{"$f":"'Sheet3 (3)'!Q56","v":3.5767143561914929E-3},{"$f":"IF(ISNUMBER(I56),CORREL($B$1:B56,$I$1:I56),\"\")","v":{"$error":"#N/A"}},{"$f":"'Sheet3 (3)'!S56","v":9.3405566971791511E-3},{"$f":"IF(ISNUMBER(K56),CORREL($B$1:B56,$K$1:K56),\"\")","v":{"$error":"#N/A"}},{"$f":"'Sheet3 (3)'!U56","v":8.9686098654707721E-3},{"$f":"IF(ISNUMBER(M56),CORREL($B$1:B56,$M$1:M56),\"\")","v":{"$error":"#N/A"}},{"$f":"'Sheet3 (3)'!W56","v":{"$error":"#N/A"}},{"$f":"IF(ISNUMBER(O56),CORREL($B$1:B56,$O$1:O56),\"\")","v":""},{"$f":"'Sheet3 (3)'!Y56","v":4.5440201956453074E-3},{"$f":"IF(ISNUMBER(Q56),CORREL($B$1:B56,$Q$1:Q56),\"\")","v":{"$error":"#N/A"}},{"$f":"'Sheet3 (3)'!AA56","v":7.3985076514481857E-3},{"$f":"IF(ISNUMBER(S56),CORREL($B$1:B56,$S$1:S56),\"\")","v":{"$error":"#N/A"}}]
[null,{"$f":"'Sheet3 (3)'!I57","v":{"$error":"#N/A"}},{"$f":"'Sheet3 (3)'!K57","v":1.6233167312304096E-2},{"$f":"IF(ISNUMBER(C57),CORREL($B$1:B57,$C$1:C57),\"\")","v":{"$error":"#N/A"}},{"$f":"'Sheet3 (3)'!M57","v":-8.4207957041737575E-3},{"$f":"IF(ISNUMBER(E57),CORREL($B$1:B57,$E$1:E57),\"\")","v":{"$error":"#N/A"}},{"$f":"'Sheet3 (3)'!O57","v":2.0815476919309626E-3},{"$f":"IF(ISNUMBER(G57),CORREL($B$1:B57,$G$1:G57),\"\")","v":{"$error":"#N/A"}},{"$f":"'Sheet3 (3)'!Q57","v":3.5767143561914929E-3},{"$f":"IF(ISNUMBER(I57),CORREL($B$1:B57,$I$1:I57),\"\")","v":{"$error":"#N/A"}},{"$f":"'Sheet3 (3)'!S57","v":9.5896382091038793E-3},{"$f":"IF(ISNUMBER(K57),CORREL($B$1:B57,$K$1:K57),\"\")","v":{"$error":"#N/A"}},{"$f":"'Sheet3 (3)'!U57","v":8.4001768458282326E-3},{"$f":"IF(ISNUMBER(M57),CORREL($B$1:B57,$M$1:M57),\"\")","v":{"$error":"#N/A"}},{"$f":"'Sheet3 (3)'!W57","v":{"$error":"#N/A"}},{"$f":"IF(ISNUMBER(O57),CORREL($B$1:B57,$O$1:O57),\"\")","v":""},{"$f":"'Sheet3 (3)'!Y57","v":4.8595771536763038E-3},{"$f":"IF(ISNUMBER(Q57),CORREL($B$1:B57,$Q$1:Q57),\"\")","v":{"$error":"#N/A"}},{"$f":"'Sheet3 (3)'!AA57","v":8.0308587327684988E-3},{"$f":"IF(ISNUMBER(S57),CORREL($B$1:B57,$S$1:S57),\"\")","v":{"$error":"#N/A"}}]
[null,{"$f":"'Sheet3 (3)'!I58","v":{"$error":"#N/A"}},{"$f":"'Sheet3 (3)'!K58","v":1.7032527823894795E-2},{"$f":"IF(ISNUMBER(C58),CORREL($B$1:B58,$C$1:C58),\"\")","v":{"$error":"#N/A"}},{"$f":"'Sheet3 (3)'!M58","v":-8.4207957041737575E-3},{"$f":"IF(ISNUMBER(E58),CORREL($B$1:B58,$E$1:E58),\"\")","v":{"$error":"#N/A"}},{"$f":"'Sheet3 (3)'!O58","v":2.3264356556874951E-3},{"$f":"IF(ISNUMBER(G58),CORREL($B$1:B58,$G$1:G58),\"\")","v":{"$error":"#N/A"}},{"$f":"'Sheet3 (3)'!Q58","v":3.4533793783917258E-3},{"$f":"IF(ISNUMBER(I58),CORREL($B$1:B58,$I$1:I58),\"\")","v":{"$error":"#N/A"}},{"$f":"'Sheet3 (3)'!S58","v":9.7764493430474702E-3},{"$f":"IF(ISNUMBER(K58),CORREL($B$1:B58,$K$1:K58),\"\")","v":{"$error":"#N/A"}},{"$f":"'Sheet3 (3)'!U58","v":9.4738836607086464E-3},{"$f":"IF(ISNUMBER(M58),CORREL($B$1:B58,$M$1:M58),\"\")","v":{"$error":"#N/A"}},{"$f":"'Sheet3 (3)'!W58","v":{"$error":"#N/A"}},{"$f":"IF(ISNUMBER(O58),CORREL($B$1:B58,$O$1:O58),\"\")","v":""},{"$f":"'Sheet3 (3)'!Y58","v":4.8595771536763038E-3},{"$f":"IF(ISNUMBER(Q58),CORREL($B$1:B58,$Q$1:Q58),\"\")","v":{"$error":"#N/A"}},{"$f":"'Sheet3 (3)'!AA58","v":7.5249778677123199E-3},{"$f":"IF(ISNUMBER(S58),CORREL($B$1:B58,$S$1:S58),\"\")","v":{"$error":"#N/A"}}]
[null,{"$f":"'Sheet3 (3)'!I59","v":{"$error":"#N/A"}},{"$f":"'Sheet3 (3)'!K59","v":1.7155506364139411E-2},{"$f":"IF(ISNUMBER(C59),CORREL($B$1:B59,$C$1:C59),\"\")","v":{"$error":"#N/A"}},{"$f":"'Sheet3 (3)'!M59","v":-6.6512082011227934E-3},{"$f":"IF(ISNUMBER(E59),CORREL($B$1:B59,$E$1:E59),\"\")","v":{"$error":"#N/A"}},{"$f":"'Sheet3 (3)'!O59","v":2.3264356556874951E-3},{"$f":"IF(ISNUMBER(G59),CORREL($B$1:B59,$G$1:G59),\"\")","v":{"$error":"#N/A"}},{"$f":"'Sheet3 (3)'!Q59","v":3.8233843117908518E-3},{"$f":"IF(ISNUMBER(I59),CORREL($B$1:B59,$I$1:I59),\"\")","v":{"$error":"#N/A"}},{"$f":"'Sheet3 (3)'!S59","v":9.7764493430474702E-3},{"$f":"IF(ISNUMBER(K59),CORREL($B$1:B59,$K$1:K59),\"\")","v":{"$error":"#N/A"}},{"$f":"'Sheet3 (3)'!U59","v":9.4738836607086464E-3},{"$f":"IF(ISNUMBER(M59),CORREL($B$1:B59,$M$1:M59),\"\")","v":{"$error":"#N/A"}},{"$f":"'Sheet3 (3)'!W59","v":{"$error":"#N/A"}},{"$f":"IF(ISNUMBER(O59),CORREL($B$1:B59,$O$1:O59),\"\")","v":""},{"$f":"'Sheet3 (3)'!Y59","v":5.427579678131989E-3},{"$f":"IF(ISNUMBER(Q59),CORREL($B$1:B59,$Q$1:Q59),\"\")","v":{"$error":"#N/A"}},{"$f":"'Sheet3 (3)'!AA59","v":7.0190970026559616E-3},{"$f":"IF(ISNUMBER(S59),CORREL($B$1:B59,$S$1:S59),\"\")","v":{"$error":"#N/A"}}]
[null,{"$f":"'Sheet3 (3)'!I60","v":{"$error":"#N/A"}},{"$f":"'Sheet3 (3)'!K60","v":1.7462952714751297E-2},{"$f":"IF(ISNUMBER(C60),CORREL($B$1:B60,$C$1:C60),\"\")","v":{"$error":"#N/A"}},{"$f":"'Sheet3 (3)'!M60","v":-6.6512082011227934E-3},{"$f":"IF(ISNUMBER(E60),CORREL($B$1:B60,$E$1:E60),\"\")","v":{"$error":"#N/A"}},{"$f":"'Sheet3 (3)'!O60","v":2.2039916738091419E-3},{"$f":"IF(ISNUMBER(G60),CORREL($B$1:B60,$G$1:G60),\"\")","v":{"$error":"#N/A"}},{"$f":"'Sheet3 (3)'!Q60","v":3.8233843117908518E-3},{"$f":"IF(ISNUMBER(I60),CORREL($B$1:B60,$I$1:I60),\"\")","v":{"$error":"#N/A"}},{"$f":"'Sheet3 (3)'!S60","v":9.7764493430474702E-3},{"$f":"IF(ISNUMBER(K60),CORREL($B$1:B60,$K$1:K60),\"\")","v":{"$error":"#N/A"}},{"$f":"'Sheet3 (3)'!U60","v":9.4738836607086464E-3},{"$f":"IF(ISNUMBER(M60),CORREL($B$1:B60,$M$1:M60),\"\")","v":{"$error":"#N/A"}},{"$f":"'Sheet3 (3)'!W60","v":{"$error":"#N/A"}},{"$f":"IF(ISNUMBER(O60),CORREL($B$1:B60,$O$1:O60),\"\")","v":""},{"$f":"'Sheet3 (3)'!Y60","v":5.9955822025876751E-3},{"$f":"IF(ISNUMBER(Q60),CORREL($B$1:B60,$Q$1:Q60),\"\")","v":{"$error":"#N/A"}},{"$f":"'Sheet3 (3)'!AA60","v":7.461742759580163E-3},{"$f":"IF(ISNUMBER(S60),CORREL($B$1:B60,$S$1:S60),\"\")","v":{"$error":"#N/A"}}]
[null,{"$f":"'Sheet3 (3)'!I61","v":{"$error":"#N/A"}},{"$f":"'Sheet3 (3)'!K61","v":1.7032527823894795E-2},{"$f":"IF(ISNUMBER(C61),CORREL($B$1:B61,$C$1:C61),\"\")","v":{"$error":"#N/A"}},{"$f":"'Sheet3 (3)'!M61","v":-6.1020258725896998E-3},{"$f":"IF(ISNUMBER(E61),CORREL($B$1:B61,$E$1:E61),\"\")","v":{"$error":"#N/A"}},{"$f":"'Sheet3 (3)'!O61","v":2.2039916738091419E-3},{"$f":"IF(ISNUMBER(G61),CORREL($B$1:B61,$G$1:G61),\"\")","v":{"$error":"#N/A"}},{"$f":"'Sheet3 (3)'!Q61","v":4.5633941785891037E-3},{"$f":"IF(ISNUMBER(I61),CORREL($B$1:B61,$I$1:I61),\"\")","v":{"$error":"#N/A"}},{"$f":"'Sheet3 (3)'!S61","v":9.4650974531416045E-3},{"$f":"IF(ISNUMBER(K61),CORREL($B$1:B61,$K$1:K61),\"\")","v":{"$error":"#N/A"}},{"$f":"'Sheet3 (3)'!U61","v":9.4738836607086464E-3},{"$f":"IF(ISNUMBER(M61),CORREL($B$1:B61,$M$1:M61),\"\")","v":{"$error":"#N/A"}},{"$f":"'Sheet3 (3)'!W61","v":{"$error":"#N/A"}},{"$f":"IF(ISNUMBER(O61),CORREL($B$1:B61,$O$1:O61),\"\")","v":""},{"$f":"'Sheet3 (3)'!Y61","v":6.3742505522247986E-3},{"$f":"IF(ISNUMBER(Q61),CORREL($B$1:B61,$Q$1:Q61),\"\")","v":{"$error":"#N/A"}},{"$f":"'Sheet3 (3)'!AA61","v":7.2720374351840505E-3},{"$f":"IF(ISNUMBER(S61),CORREL($B$1:B61,$S$1:S61),\"\")","v":{"$error":"#N/A"}}]
[null,{"$f":"'Sheet3 (3)'!I62","v":{"$error":"#N/A"}},{"$f":"'Sheet3 (3)'!K62","v":1.7647420525118394E-2},{"$f":"IF(ISNUMBER(C62),CORREL($B$1:B62,$C$1:C62),\"\")","v":{"$error":"#N/A"}},{"$f":"'Sheet3 (3)'!M62","v":-6.4071271662190805E-3},{"$f":"IF(ISNUMBER(E62),CORREL($B$1:B62,$E$1:E62),\"\")","v":{"$error":"#N/A"}},{"$f":"'Sheet3 (3)'!O62","v":2.0203257009916986E-3},{"$f":"IF(ISNUMBER(G62),CORREL($B$1:B62,$G$1:G62),\"\")","v":{"$error":"#N/A"}},{"$f":"'Sheet3 (3)'!Q62","v":4.5633941785891037E-3},{"$f":"IF(ISNUMBER(I62),CORREL($B$1:B62,$I$1:I62),\"\")","v":{"$error":"#N/A"}},{"$f":"'Sheet3 (3)'!S62","v":9.4650974531416045E-3},{"$f":"IF(ISNUMBER(K62),CORREL($B$1:B62,$K$1:K62),\"\")","v":{"$error":"#N/A"}},{"$f":"'Sheet3 (3)'!U62","v":9.4738836607086464E-3},{"$f":"IF(ISNUMBER(M62),CORREL($B$1:B62,$M$1:M62),\"\")","v":{"$error":"#N/A"}},{"$f":"'Sheet3 (3)'!W62","v":{"$error":"#N/A"}},{"$f":"IF(ISNUMBER(O62),CORREL($B$1:B62,$O$1:O62),\"\")","v":""},{"$f":"'Sheet3 (3)'!Y62","v":6.3742505522247986E-3},{"$f":"IF(ISNUMBER(Q62),CORREL($B$1:B62,$Q$1:Q62),\"\")","v":{"$error":"#N/A"}},{"$f":"'Sheet3 (3)'!AA62","v":6.8293916782598491E-3},{"$f":"IF(ISNUMBER(S62),CORREL($B$1:B62,$S$1:S62),\"\")","v":{"$error":"#N/A"}}]
[null,{"$f":"'Sheet3 (3)'!I63","v":{"$error":"#N/A"}},{"$f":"'Sheet3 (3)'!K63","v":1.6663592203160597E-2},{"$f":"IF(ISNUMBER(C63),CORREL($B$1:B63,$C$1:C63),\"\")","v":{"$error":"#N/A"}},{"$f":"'Sheet3 (3)'!M63","v":-6.4071271662190805E-3},{"$f":"IF(ISNUMBER(E63),CORREL($B$1:B63,$E$1:E63),\"\")","v":{"$error":"#N/A"}},{"$f":"'Sheet3 (3)'!O63","v":1.959103710052609E-3},{"$f":"IF(ISNUMBER(G63),CORREL($B$1:B63,$G$1:G63),\"\")","v":{"$error":"#N/A"}},{"$f":"'Sheet3 (3)'!Q63","v":4.5633941785891037E-3},{"$f":"IF(ISNUMBER(I63),CORREL($B$1:B63,$I$1:I63),\"\")","v":{"$error":"#N/A"}},{"$f":"'Sheet3 (3)'!S63","v":9.4650974531416045E-3},{"$f":"IF(ISNUMBER(K63),CORREL($B$1:B63,$K$1:K63),\"\")","v":{"$error":"#N/A"}},{"$f":"'Sheet3 (3)'!U63","v":1.0358112802374701E-2},{"$f":"IF(ISNUMBER(M63),CORREL($B$1:B63,$M$1:M63),\"\")","v":{"$error":"#N/A"}},{"$f":"'Sheet3 (3)'!W63","v":{"$error":"#N/A"}},{"$f":"IF(ISNUMBER(O63),CORREL($B$1:B63,$O$1:O63),\"\")","v":""},{"$f":"'Sheet3 (3)'!Y63","v":6.3742505522247986E-3},{"$f":"IF(ISNUMBER(Q63),CORREL($B$1:B63,$Q$1:Q63),\"\")","v":{"$error":"#N/A"}},{"$f":"'Sheet3 (3)'!AA63","v":6.7029214619957148E-3},{"$f":"IF(ISNUMBER(S63),CORREL($B$1:B63,$S$1:S63),\"\")","v":{"$error":"#N/A"}}]
[null,{"$f":"'Sheet3 (3)'!I64","v":{"$error":"#N/A"}},{"$f":"'Sheet3 (3)'!K64","v":1.7647420525118394E-2},{"$f":"IF(ISNUMBER(C64),CORREL($B$1:B64,$C$1:C64),\"\")","v":{"$error":"#N/A"}},{"$f":"'Sheet3 (3)'!M64","v":-6.3461069074932392E-3},{"$f":"IF(ISNUMBER(E64),CORREL($B$1:B64,$E$1:E64),\"\")","v":{"$error":"#N/A"}},{"$f":"'Sheet3 (3)'!O64","v":1.959103710052609E-3},{"$f":"IF(ISNUMBER(G64),CORREL($B$1:B64,$G$1:G64),\"\")","v":{"$error":"#N/A"}},{"$f":"'Sheet3 (3)'!Q64","v":5.3034040453873565E-3},{"$f":"IF(ISNUMBER(I64),CORREL($B$1:B64,$I$1:I64),\"\")","v":{"$error":"#N/A"}},{"$f":"'Sheet3 (3)'!S64","v":9.4650974531416045E-3},{"$f":"IF(ISNUMBER(K64),CORREL($B$1:B64,$K$1:K64),\"\")","v":{"$error":"#N/A"}},{"$f":"'Sheet3 (3)'!U64","v":1.0358112802374701E-2},{"$f":"IF(ISNUMBER(M64),CORREL($B$1:B64,$M$1:M64),\"\")","v":{"$error":"#N/A"}},{"$f":"'Sheet3 (3)'!W64","v":{"$error":"#N/A"}},{"$f":"IF(ISNUMBER(O64),CORREL($B$1:B64,$O$1:O64),\"\")","v":""},{"$f":"'Sheet3 (3)'!Y64","v":4.7964657620701758E-3},{"$f":"IF(ISNUMBER(Q64),CORREL($B$1:B64,$Q$1:Q64),\"\")","v":{"$error":"#N/A"}},{"$f":"'Sheet3 (3)'!AA64","v":7.3352725433162074E-3},{"$f":"IF(ISNUMBER(S64),CORREL($B$1:B64,$S$1:S64),\"\")","v":{"$error":"#N/A"}}]
[null,{"$f":"'Sheet3 (3)'!I65","v":{"$error":"#N/A"}},{"$f":"'Sheet3 (3)'!K65","v":1.7893377605607802E-2},{"$f":"IF(ISNUMBER(C65),CORREL($B$1:B65,$C$1:C65),\"\")","v":{"$error":"#N/A"}},{"$f":"'Sheet3 (3)'!M65","v":-6.4071271662190805E-3},{"$f":"IF(ISNUMBER(E65),CORREL($B$1:B65,$E$1:E65),\"\")","v":{"$error":"#N/A"}},{"$f":"'Sheet3 (3)'!O65","v":1.959103710052609E-3},{"$f":"IF(ISNUMBER(G65),CORREL($B$1:B65,$G$1:G65),\"\")","v":{"$error":"#N/A"}},{"$f":"'Sheet3 (3)'!Q65","v":5.3650715342871517E-3},{"$f":"IF(ISNUMBER(I65),CORREL($B$1:B65,$I$1:I65),\"\")","v":{"$error":"#N/A"}},{"$f":"'Sheet3 (3)'!S65","v":9.4650974531416045E-3},{"$f":"IF(ISNUMBER(K65),CORREL($B$1:B65,$K$1:K65),\"\")","v":{"$error":"#N/A"}},{"$f":"'Sheet3 (3)'!U65","v":1.0358112802374701E-2},{"$f":"IF(ISNUMBER(M65),CORREL($B$1:B65,$M$1:M65),\"\")","v":{"$error":"#N/A"}},{"$f":"'Sheet3 (3)'!W65","v":{"$error":"#N/A"}},{"$f":"IF(ISNUMBER(O65),CORREL($B$1:B65,$O$1:O65),\"\")","v":""},{"$f":"'Sheet3 (3)'!Y65","v":4.4177974124330523E-3},{"$f":"IF(ISNUMBER(Q65),CORREL($B$1:B65,$Q$1:Q65),\"\")","v":{"$error":"#N/A"}},{"$f":"'Sheet3 (3)'!AA65","v":7.3985076514481857E-3},{"$f":"IF(ISNUMBER(S65),CORREL($B$1:B65,$S$1:S65),\"\")","v":{"$error":"#N/A"}}]
[null,{"$f":"'Sheet3 (3)'!I66","v":{"$error":"#N/A"}},{"$f":"'Sheet3 (3)'!K66","v":1.813933468609738E-2},{"$f":"IF(ISNUMBER(C66),CORREL($B$1:B66,$C$1:C66),\"\")","v":{"$error":"#N/A"}},{"$f":"'Sheet3 (3)'!M66","v":-6.5901879423967786E-3},{"$f":"IF(ISNUMBER(E66),CORREL($B$1:B66,$E$1:E66),\"\")","v":{"$error":"#N/A"}},{"$f":"'Sheet3 (3)'!O66","v":2.8162115832007346E-3},{"$f":"IF(ISNUMBER(G66),CORREL($B$1:B66,$G$1:G66),\"\")","v":{"$error":"#N/A"}},{"$f":"'Sheet3 (3)'!Q66","v":6.2284163788849959E-3},{"$f":"IF(ISNUMBER(I66),CORREL($B$1:B66,$I$1:I66),\"\")","v":{"$error":"#N/A"}},{"$f":"'Sheet3 (3)'!S66","v":1.0212341988915788E-2},{"$f":"IF(ISNUMBER(K66),CORREL($B$1:B66,$K$1:K66),\"\")","v":{"$error":"#N/A"}},{"$f":"'Sheet3 (3)'!U66","v":1.1621297290469115E-2},{"$f":"IF(ISNUMBER(M66),CORREL($B$1:B66,$M$1:M66),\"\")","v":{"$error":"#N/A"}},{"$f":"'Sheet3 (3)'!W66","v":{"$error":"#N/A"}},{"$f":"IF(ISNUMBER(O66),CORREL($B$1:B66,$O$1:O66),\"\")","v":""},{"$f":"'Sheet3 (3)'!Y66","v":4.2915746292206177E-3},{"$f":"IF(ISNUMBER(Q66),CORREL($B$1:B66,$Q$1:Q66),\"\")","v":{"$error":"#N/A"}},{"$f":"'Sheet3 (3)'!AA66","v":8.2205640571646095E-3},{"$f":"IF(ISNUMBER(S66),CORREL($B$1:B66,$S$1:S66),\"\")","v":{"$error":"#N/A"}}]
[null,{"$f":"'Sheet3 (3)'!I67","v":{"$error":"#N/A"}},{"$f":"'Sheet3 (3)'!K67","v":1.8754227387320983E-2},{"$f":"IF(ISNUMBER(C67),CORREL($B$1:B67,$C$1:C67),\"\")","v":{"$error":"#N/A"}},{"$f":"'Sheet3 (3)'!M67","v":-6.4681474249450961E-3},{"$f":"IF(ISNUMBER(E67),CORREL($B$1:B67,$E$1:E67),\"\")","v":{"$error":"#N/A"}},{"$f":"'Sheet3 (3)'!O67","v":2.8162115832007346E-3},{"$f":"IF(ISNUMBER(G67),CORREL($B$1:B67,$G$1:G67),\"\")","v":{"$error":"#N/A"}},{"$f":"'Sheet3 (3)'!Q67","v":6.0434139121854332E-3},{"$f":"IF(ISNUMBER(I67),CORREL($B$1:B67,$I$1:I67),\"\")","v":{"$error":"#N/A"}},{"$f":"'Sheet3 (3)'!S67","v":1.0212341988915788E-2},{"$f":"IF(ISNUMBER(K67),CORREL($B$1:B67,$K$1:K67),\"\")","v":{"$error":"#N/A"}},{"$f":"'Sheet3 (3)'!U67","v":1.2568685656540015E-2},{"$f":"IF(ISNUMBER(M67),CORREL($B$1:B67,$M$1:M67),\"\")","v":{"$error":"#N/A"}},{"$f":"'Sheet3 (3)'!W67","v":{"$error":"#N/A"}},{"$f":"IF(ISNUMBER(O67),CORREL($B$1:B67,$O$1:O67),\"\")","v":""},{"$f":"'Sheet3 (3)'!Y67","v":3.9760176711898009E-3},{"$f":"IF(ISNUMBER(Q67),CORREL($B$1:B67,$Q$1:Q67),\"\")","v":{"$error":"#N/A"}},{"$f":"'Sheet3 (3)'!AA67","v":8.5999747059568345E-3},{"$f":"IF(ISNUMBER(S67),CORREL($B$1:B67,$S$1:S67),\"\")","v":{"$error":"#N/A"}}]
[null,{"$f":"'Sheet3 (3)'!I68","v":{"$error":"#N/A"}},{"$f":"'Sheet3 (3)'!K68","v":1.9061673737932695E-2},{"$f":"IF(ISNUMBER(C68),CORREL($B$1:B68,$C$1:C68),\"\")","v":{"$error":"#N/A"}},{"$f":"'Sheet3 (3)'!M68","v":-6.1630461313155411E-3},{"$f":"IF(ISNUMBER(E68),CORREL($B$1:B68,$E$1:E68),\"\")","v":{"$error":"#N/A"}},{"$f":"'Sheet3 (3)'!O68","v":2.8162115832007346E-3},{"$f":"IF(ISNUMBER(G68),CORREL($B$1:B68,$G$1:G68),\"\")","v":{"$error":"#N/A"}},{"$f":"'Sheet3 (3)'!Q68","v":5.7967439565860743E-3},{"$f":"IF(ISNUMBER(I68),CORREL($B$1:B68,$I$1:I68),\"\")","v":{"$error":"#N/A"}},{"$f":"'Sheet3 (3)'!S68","v":1.0087801232953513E-2},{"$f":"IF(ISNUMBER(K68),CORREL($B$1:B68,$K$1:K68),\"\")","v":{"$error":"#N/A"}},{"$f":"'Sheet3 (3)'!U68","v":1.2316048758921167E-2},{"$f":"IF(ISNUMBER(M68),CORREL($B$1:B68,$M$1:M68),\"\")","v":{"$error":"#N/A"}},{"$f":"'Sheet3 (3)'!W68","v":{"$error":"#N/A"}},{"$f":"IF(ISNUMBER(O68),CORREL($B$1:B68,$O$1:O68),\"\")","v":""},{"$f":"'Sheet3 (3)'!Y68","v":3.8497948879773662E-3},{"$f":"IF(ISNUMBER(Q68),CORREL($B$1:B68,$Q$1:Q68),\"\")","v":{"$error":"#N/A"}},{"$f":"'Sheet3 (3)'!AA68","v":8.2205640571646095E-3},{"$f":"IF(ISNUMBER(S68),CORREL($B$1:B68,$S$1:S68),\"\")","v":{"$error":"#N/A"}}]
[null,{"$f":"'Sheet3 (3)'!I69","v":{"$error":"#N/A"}},{"$f":"'Sheet3 (3)'!K69","v":1.881571665744329E-2},{"$f":"IF(ISNUMBER(C69),CORREL($B$1:B69,$C$1:C69),\"\")","v":{"$error":"#N/A"}},{"$f":"'Sheet3 (3)'!M69","v":-5.9799853551378438E-3},{"$f":"IF(ISNUMBER(E69),CORREL($B$1:B69,$E$1:E69),\"\")","v":{"$error":"#N/A"}},{"$f":"'Sheet3 (3)'!O69","v":3.24476551977471E-3},{"$f":"IF(ISNUMBER(G69),CORREL($B$1:B69,$G$1:G69),\"\")","v":{"$error":"#N/A"}},{"$f":"'Sheet3 (3)'!Q69","v":5.7967439565860743E-3},{"$f":"IF(ISNUMBER(I69),CORREL($B$1:B69,$I$1:I69),\"\")","v":{"$error":"#N/A"}},{"$f":"'Sheet3 (3)'!S69","v":1.0087801232953513E-2},{"$f":"IF(ISNUMBER(K69),CORREL($B$1:B69,$K$1:K69),\"\")","v":{"$error":"#N/A"}},{"$f":"'Sheet3 (3)'!U69","v":1.2063411861302321E-2},{"$f":"IF(ISNUMBER(M69),CORREL($B$1:B69,$M$1:M69),\"\")","v":{"$error":"#N/A"}},{"$f":"'Sheet3 (3)'!W69","v":{"$error":"#N/A"}},{"$f":"IF(ISNUMBER(O69),CORREL($B$1:B69,$O$1:O69),\"\")","v":""},{"$f":"'Sheet3 (3)'!Y69","v":3.8497948879773662E-3},{"$f":"IF(ISNUMBER(Q69),CORREL($B$1:B69,$Q$1:Q69),\"\")","v":{"$error":"#N/A"}},{"$f":"'Sheet3 (3)'!AA69","v":8.2205640571646095E-3},{"$f":"IF(ISNUMBER(S69),CORREL($B$1:B69,$S$1:S69),\"\")","v":{"$error":"#N/A"}}]
[null,{"$f":"'Sheet3 (3)'!I70","v":{"$error":"#N/A"}},{"$f":"'Sheet3 (3)'!K70","v":1.881571665744329E-2},{"$f":"IF(ISNUMBER(C70),CORREL($B$1:B70,$C$1:C70),\"\")","v":{"$error":"#N/A"}},{"$f":"'Sheet3 (3)'!M70","v":-6.8952892360263328E-3},{"$f":"IF(ISNUMBER(E70),CORREL($B$1:B70,$E$1:E70),\"\")","v":{"$error":"#N/A"}},{"$f":"'Sheet3 (3)'!O70","v":3.24476551977471E-3},{"$f":"IF(ISNUMBER(G70),CORREL($B$1:B70,$G$1:G70),\"\")","v":{"$error":"#N/A"}},{"$f":"'Sheet3 (3)'!Q70","v":5.7967439565860743E-3},{"$f":"IF(ISNUMBER(I70),CORREL($B$1:B70,$I$1:I70),\"\")","v":{"$error":"#N/A"}},{"$f":"'Sheet3 (3)'!S70","v":1.0087801232953513E-2},{"$f":"IF(ISNUMBER(K70),CORREL($B$1:B70,$K$1:K70),\"\")","v":{"$error":"#N/A"}},{"$f":"'Sheet3 (3)'!U70","v":1.2063411861302321E-2},{"$f":"IF(ISNUMBER(M70),CORREL($B$1:B70,$M$1:M70),\"\")","v":{"$error":"#N/A"}},{"$f":"'Sheet3 (3)'!W70","v":{"$error":"#N/A"}},{"$f":"IF(ISNUMBER(O70),CORREL($B$1:B70,$O$1:O70),\"\")","v":""},{"$f":"'Sheet3 (3)'!Y70","v":3.8497948879773662E-3},{"$f":"IF(ISNUMBER(Q70),CORREL($B$1:B70,$Q$1:Q70),\"\")","v":{"$error":"#N/A"}},{"$f":"'Sheet3 (3)'!AA70","v":6.7661565701278717E-3},{"$f":"IF(ISNUMBER(S70),CORREL($B$1:B70,$S$1:S70),\"\")","v":{"$error":"#N/A"}}]
[null,{"$f":"'Sheet3 (3)'!I71","v":{"$error":"#N/A"}},{"$f":"'Sheet3 (3)'!K71","v":1.72784849043842E-2},{"$f":"IF(ISNUMBER(C71),CORREL($B$1:B71,$C$1:C71),\"\")","v":{"$error":"#N/A"}},{"$f":"'Sheet3 (3)'!M71","v":-7.1393702709298722E-3},{"$f":"IF(ISNUMBER(E71),CORREL($B$1:B71,$E$1:E71),\"\")","v":{"$error":"#N/A"}},{"$f":"'Sheet3 (3)'!O71","v":3.24476551977471E-3},{"$f":"IF(ISNUMBER(G71),CORREL($B$1:B71,$G$1:G71),\"\")","v":{"$error":"#N/A"}},{"$f":"'Sheet3 (3)'!Q71","v":5.7967439565860743E-3},{"$f":"IF(ISNUMBER(I71),CORREL($B$1:B71,$I$1:I71),\"\")","v":{"$error":"#N/A"}},{"$f":"'Sheet3 (3)'!S71","v":1.0212341988915788E-2},{"$f":"IF(ISNUMBER(K71),CORREL($B$1:B71,$K$1:K71),\"\")","v":{"$error":"#N/A"}},{"$f":"'Sheet3 (3)'!U71","v":1.2189730310111654E-2},{"$f":"IF(ISNUMBER(M71),CORREL($B$1:B71,$M$1:M71),\"\")","v":{"$error":"#N/A"}},{"$f":"'Sheet3 (3)'!W71","v":{"$error":"#N/A"}},{"$f":"IF(ISNUMBER(O71),CORREL($B$1:B71,$O$1:O71),\"\")","v":""},{"$f":"'Sheet3 (3)'!Y71","v":5.490691069738117E-3},{"$f":"IF(ISNUMBER(Q71),CORREL($B$1:B71,$Q$1:Q71),\"\")","v":{"$error":"#N/A"}},{"$f":"'Sheet3 (3)'!AA71","v":6.0705703806754018E-3},{"$f":"IF(ISNUMBER(S71),CORREL($B$1:B71,$S$1:S71),\"\")","v":{"$error":"#N/A"}}]
[null,{"$f":"'Sheet3 (3)'!I72","v":{"$error":"#N/A"}},{"$f":"'Sheet3 (3)'!K72","v":1.72784849043842E-2},{"$f":"IF(ISNUMBER(C72),CORREL($B$1:B72,$C$1:C72),\"\")","v":{"$error":"#N/A"}},{"$f":"'Sheet3 (3)'!M72","v":-7.3224310471075704E-3},{"$f":"IF(ISNUMBER(E72),CORREL($B$1:B72,$E$1:E72),\"\")","v":{"$error":"#N/A"}},{"$f":"'Sheet3 (3)'!O72","v":2.8162115832007346E-3},{"$f":"IF(ISNUMBER(G72),CORREL($B$1:B72,$G$1:G72),\"\")","v":{"$error":"#N/A"}},{"$f":"'Sheet3 (3)'!Q72","v":5.7967439565860743E-3},{"$f":"IF(ISNUMBER(I72),CORREL($B$1:B72,$I$1:I72),\"\")","v":{"$error":"#N/A"}},{"$f":"'Sheet3 (3)'!S72","v":1.1208668036614876E-2},{"$f":"IF(ISNUMBER(K72),CORREL($B$1:B72,$K$1:K72),\"\")","v":{"$error":"#N/A"}},{"$f":"'Sheet3 (3)'!U72","v":1.2189730310111654E-2},{"$f":"IF(ISNUMBER(M72),CORREL($B$1:B72,$M$1:M72),\"\")","v":{"$error":"#N/A"}},{"$f":"'Sheet3 (3)'!W72","v":{"$error":"#N/A"}},{"$f":"IF(ISNUMBER(O72),CORREL($B$1:B72,$O$1:O72),\"\")","v":""},{"$f":"'Sheet3 (3)'!Y72","v":6.4373619438309266E-3},{"$f":"IF(ISNUMBER(Q72),CORREL($B$1:B72,$Q$1:Q72),\"\")","v":{"$error":"#N/A"}},{"$f":"'Sheet3 (3)'!AA72","v":6.8293916782598491E-3},{"$f":"IF(ISNUMBER(S72),CORREL($B$1:B72,$S$1:S72),\"\")","v":{"$error":"#N/A"}}]
[null,{"$f":"'Sheet3 (3)'!I73","v":{"$error":"#N/A"}},{"$f":"'Sheet3 (3)'!K73","v":1.8385291766586789E-2},{"$f":"IF(ISNUMBER(C73),CORREL($B$1:B73,$C$1:C73),\"\")","v":{"$error":"#N/A"}},{"$f":"'Sheet3 (3)'!M73","v":-7.0173297534781897E-3},{"$f":"IF(ISNUMBER(E73),CORREL($B$1:B73,$E$1:E73),\"\")","v":{"$error":"#N/A"}},{"$f":"'Sheet3 (3)'!O73","v":2.8162115832007346E-3},{"$f":"IF(ISNUMBER(G73),CORREL($B$1:B73,$G$1:G73),\"\")","v":{"$error":"#N/A"}},{"$f":"'Sheet3 (3)'!Q73","v":5.7967439565860743E-3},{"$f":"IF(ISNUMBER(I73),CORREL($B$1:B73,$I$1:I73),\"\")","v":{"$error":"#N/A"}},{"$f":"'Sheet3 (3)'!S73","v":1.1021856902671462E-2},{"$f":"IF(ISNUMBER(K73),CORREL($B$1:B73,$K$1:K73),\"\")","v":{"$error":"#N/A"}},{"$f":"'Sheet3 (3)'!U73","v":1.2442367207730681E-2},{"$f":"IF(ISNUMBER(M73),CORREL($B$1:B73,$M$1:M73),\"\")","v":{"$error":"#N/A"}},{"$f":"'Sheet3 (3)'!W73","v":{"$error":"#N/A"}},{"$f":"IF(ISNUMBER(O73),CORREL($B$1:B73,$O$1:O73),\"\")","v":""},{"$f":"'Sheet3 (3)'!Y73","v":5.6800252445566787E-3},{"$f":"IF(ISNUMBER(Q73),CORREL($B$1:B73,$Q$1:Q73),\"\")","v":{"$error":"#N/A"}},{"$f":"'Sheet3 (3)'!AA73","v":6.0073352725434244E-3},{"$f":"IF(ISNUMBER(S73),CORREL($B$1:B73,$S$1:S73),\"\")","v":{"$error":"#N/A"}}]
[null,{"$f":"'Sheet3 (3)'!I74","v":{"$error":"#N/A"}},{"$f":"'Sheet3 (3)'!K74","v":1.8385291766586789E-2},{"$f":"IF(ISNUMBER(C74),CORREL($B$1:B74,$C$1:C74),\"\")","v":{"$error":"#N/A"}},{"$f":"'Sheet3 (3)'!M74","v":-6.3461069074932392E-3},{"$f":"IF(ISNUMBER(E74),CORREL($B$1:B74,$E$1:E74),\"\")","v":{"$error":"#N/A"}},{"$f":"'Sheet3 (3)'!O74","v":3.1223215378963567E-3},{"$f":"IF(ISNUMBER(G74),CORREL($B$1:B74,$G$1:G74),\"\")","v":{"$error":"#N/A"}},{"$f":"'Sheet3 (3)'!Q74","v":5.981746423285637E-3},{"$f":"IF(ISNUMBER(I74),CORREL($B$1:B74,$I$1:I74),\"\")","v":{"$error":"#N/A"}},{"$f":"'Sheet3 (3)'!S74","v":1.0212341988915788E-2},{"$f":"IF(ISNUMBER(K74),CORREL($B$1:B74,$K$1:K74),\"\")","v":{"$error":"#N/A"}},{"$f":"'Sheet3 (3)'!U74","v":1.2063411861302321E-2},{"$f":"IF(ISNUMBER(M74),CORREL($B$1:B74,$M$1:M74),\"\")","v":{"$error":"#N/A"}},{"$f":"'Sheet3 (3)'!W74","v":{"$error":"#N/A"}},{"$f":"IF(ISNUMBER(O74),CORREL($B$1:B74,$O$1:O74),\"\")","v":""},{"$f":"'Sheet3 (3)'!Y74","v":6.0586935941938022E-3},{"$f":"IF(ISNUMBER(Q74),CORREL($B$1:B74,$Q$1:Q74),\"\")","v":{"$error":"#N/A"}},{"$f":"'Sheet3 (3)'!AA74","v":5.3749841912231113E-3},{"$f":"IF(ISNUMBER(S74),CORREL($B$1:B74,$S$1:S74),\"\")","v":{"$error":"#N/A"}}]
[null,{"$f":"'Sheet3 (3)'!I75","v":{"$error":"#N/A"}},{"$f":"'Sheet3 (3)'!K75","v":1.7954866875730283E-2},{"$f":"IF(ISNUMBER(C75),CORREL($B$1:B75,$C$1:C75),\"\")","v":{"$error":"#N/A"}},{"$f":"'Sheet3 (3)'!M75","v":-6.5901879423967786E-3},{"$f":"IF(ISNUMBER(E75),CORREL($B$1:B75,$E$1:E75),\"\")","v":{"$error":"#N/A"}},{"$f":"'Sheet3 (3)'!O75","v":3.1223215378963567E-3},{"$f":"IF(ISNUMBER(G75),CORREL($B$1:B75,$G$1:G75),\"\")","v":{"$error":"#N/A"}},{"$f":"'Sheet3 (3)'!Q75","v":5.981746423285637E-3},{"$f":"IF(ISNUMBER(I75),CORREL($B$1:B75,$I$1:I75),\"\")","v":{"$error":"#N/A"}},{"$f":"'Sheet3 (3)'!S75","v":9.6519085870850167E-3},{"$f":"IF(ISNUMBER(K75),CORREL($B$1:B75,$K$1:K75),\"\")","v":{"$error":"#N/A"}},{"$f":"'Sheet3 (3)'!U75","v":1.2758163329754194E-2},{"$f":"IF(ISNUMBER(M75),CORREL($B$1:B75,$M$1:M75),\"\")","v":{"$error":"#N/A"}},{"$f":"'Sheet3 (3)'!W75","v":{"$error":"#N/A"}},{"$f":"IF(ISNUMBER(O75),CORREL($B$1:B75,$O$1:O75),\"\")","v":""},{"$f":"'Sheet3 (3)'!Y75","v":6.7529189018619229E-3},{"$f":"IF(ISNUMBER(Q75),CORREL($B$1:B75,$Q$1:Q75),\"\")","v":{"$error":"#N/A"}},{"$f":"'Sheet3 (3)'!AA75","v":4.9323384342987303E-3},{"$f":"IF(ISNUMBER(S75),CORREL($B$1:B75,$S$1:S75),\"\")","v":{"$error":"#N/A"}}]
[null,{"$f":"'Sheet3 (3)'!I76","v":{"$error":"#N/A"}},{"$f":"'Sheet3 (3)'!K76","v":1.7954866875730283E-2},{"$f":"IF(ISNUMBER(C76),CORREL($B$1:B76,$C$1:C76),\"\")","v":{"$error":"#N/A"}},{"$f":"'Sheet3 (3)'!M76","v":-6.5901879423967786E-3},{"$f":"IF(ISNUMBER(E76),CORREL($B$1:B76,$E$1:E76),\"\")","v":{"$error":"#N/A"}},{"$f":"'Sheet3 (3)'!O76","v":2.2652136647484055E-3},{"$f":"IF(ISNUMBER(G76),CORREL($B$1:B76,$G$1:G76),\"\")","v":{"$error":"#N/A"}},{"$f":"'Sheet3 (3)'!Q76","v":5.981746423285637E-3},{"$f":"IF(ISNUMBER(I76),CORREL($B$1:B76,$I$1:I76),\"\")","v":{"$error":"#N/A"}},{"$f":"'Sheet3 (3)'!S76","v":8.4687714054423394E-3},{"$f":"IF(ISNUMBER(K76),CORREL($B$1:B76,$K$1:K76),\"\")","v":{"$error":"#N/A"}},{"$f":"'Sheet3 (3)'!U76","v":1.2758163329754194E-2},{"$f":"IF(ISNUMBER(M76),CORREL($B$1:B76,$M$1:M76),\"\")","v":{"$error":"#N/A"}},{"$f":"'Sheet3 (3)'!W76","v":{"$error":"#N/A"}},{"$f":"IF(ISNUMBER(O76),CORREL($B$1:B76,$O$1:O76),\"\")","v":""},{"$f":"'Sheet3 (3)'!Y76","v":7.1946986431051744E-3},{"$f":"IF(ISNUMBER(Q76),CORREL($B$1:B76,$Q$1:Q76),\"\")","v":{"$error":"#N/A"}},{"$f":"'Sheet3 (3)'!AA76","v":4.6793980017706413E-3},{"$f":"IF(ISNUMBER(S76),CORREL($B$1:B76,$S$1:S76),\"\")","v":{"$error":"#N/A"}}]
[null,{"$f":"'Sheet3 (3)'!I77","v":{"$error":"#N/A"}},{"$f":"'Sheet3 (3)'!K77","v":1.8446781036709096E-2},{"$f":"IF(ISNUMBER(C77),CORREL($B$1:B77,$C$1:C77),\"\")","v":{"$error":"#N/A"}},{"$f":"'Sheet3 (3)'!M77","v":-7.0173297534781897E-3},{"$f":"IF(ISNUMBER(E77),CORREL($B$1:B77,$E$1:E77),\"\")","v":{"$error":"#N/A"}},{"$f":"'Sheet3 (3)'!O77","v":2.8774335741398242E-3},{"$f":"IF(ISNUMBER(G77),CORREL($B$1:B77,$G$1:G77),\"\")","v":{"$error":"#N/A"}},{"$f":"'Sheet3 (3)'!Q77","v":5.981746423285637E-3},{"$f":"IF(ISNUMBER(I77),CORREL($B$1:B77,$I$1:I77),\"\")","v":{"$error":"#N/A"}},{"$f":"'Sheet3 (3)'!S77","v":9.2782863191980137E-3},{"$f":"IF(ISNUMBER(K77),CORREL($B$1:B77,$K$1:K77),\"\")","v":{"$error":"#N/A"}},{"$f":"'Sheet3 (3)'!U77","v":1.3895029369039275E-2},{"$f":"IF(ISNUMBER(M77),CORREL($B$1:B77,$M$1:M77),\"\")","v":{"$error":"#N/A"}},{"$f":"'Sheet3 (3)'!W77","v":{"$error":"#N/A"}},{"$f":"IF(ISNUMBER(O77),CORREL($B$1:B77,$O$1:O77),\"\")","v":""},{"$f":"'Sheet3 (3)'!Y77","v":7.8889239507731156E-3},{"$f":"IF(ISNUMBER(Q77),CORREL($B$1:B77,$Q$1:Q77),\"\")","v":{"$error":"#N/A"}},{"$f":"'Sheet3 (3)'!AA77","v":3.7941064879222384E-3},{"$f":"IF(ISNUMBER(S77),CORREL($B$1:B77,$S$1:S77),\"\")","v":{"$error":"#N/A"}}]
[null,{"$f":"'Sheet3 (3)'!I78","v":{"$error":"#N/A"}},{"$f":"'Sheet3 (3)'!K78","v":1.9676566439156471E-2},{"$f":"IF(ISNUMBER(C78),CORREL($B$1:B78,$C$1:C78),\"\")","v":{"$error":"#N/A"}},{"$f":"'Sheet3 (3)'!M78","v":-7.6275323407371245E-3},{"$f":"IF(ISNUMBER(E78),CORREL($B$1:B78,$E$1:E78),\"\")","v":{"$error":"#N/A"}},{"$f":"'Sheet3 (3)'!O78","v":3.3059875107137996E-3},{"$f":"IF(ISNUMBER(G78),CORREL($B$1:B78,$G$1:G78),\"\")","v":{"$error":"#N/A"}},{"$f":"'Sheet3 (3)'!Q78","v":7.2767636901825781E-3},{"$f":"IF(ISNUMBER(I78),CORREL($B$1:B78,$I$1:I78),\"\")","v":{"$error":"#N/A"}},{"$f":"'Sheet3 (3)'!S78","v":9.7764493430474702E-3},{"$f":"IF(ISNUMBER(K78),CORREL($B$1:B78,$K$1:K78),\"\")","v":{"$error":"#N/A"}},{"$f":"'Sheet3 (3)'!U78","v":1.4273984715467635E-2},{"$f":"IF(ISNUMBER(M78),CORREL($B$1:B78,$M$1:M78),\"\")","v":{"$error":"#N/A"}},{"$f":"'Sheet3 (3)'!W78","v":{"$error":"#N/A"}},{"$f":"IF(ISNUMBER(O78),CORREL($B$1:B78,$O$1:O78),\"\")","v":""},{"$f":"'Sheet3 (3)'!Y78","v":9.024928999684486E-3},{"$f":"IF(ISNUMBER(Q78),CORREL($B$1:B78,$Q$1:Q78),\"\")","v":{"$error":"#N/A"}},{"$f":"'Sheet3 (3)'!AA78","v":1.9602883520930966E-3},{"$f":"IF(ISNUMBER(S78),CORREL($B$1:B78,$S$1:S78),\"\")","v":{"$error":"#N/A"}}]
[null,{"$f":"'Sheet3 (3)'!I79","v":{"$error":"#N/A"}},{"$f":"'Sheet3 (3)'!K79","v":{"$error":"#N/A"}},{"$f":"IF(ISNUMBER(C79),CORREL($B$1:B79,$C$1:C79),\"\")","v":""},{"$f":"'Sheet3 (3)'!M79","v":{"$error":"#N/A"}},{"$f":"IF(ISNUMBER(E79),CORREL($B$1:B79,$E$1:E79),\"\")","v":""},{"$f":"'Sheet3 (3)'!O79","v":{"$error":"#N/A"}},{"$f":"IF(ISNUMBER(G79),CORREL($B$1:B79,$G$1:G79),\"\")","v":""},{"$f":"'Sheet3 (3)'!Q79","v":{"$error":"#N/A"}},{"$f":"IF(ISNUMBER(I79),CORREL($B$1:B79,$I$1:I79),\"\")","v":""},{"$f":"'Sheet3 (3)'!S79","v":{"$error":"#N/A"}},{"$f":"IF(ISNUMBER(K79),CORREL($B$1:B79,$K$1:K79),\"\")","v":""},{"$f":"'Sheet3 (3)'!U79","v":{"$error":"#N/A"}},{"$f":"IF(ISNUMBER(M79),CORREL($B$1:B79,$M$1:M79),\"\")","v":""},{"$f":"'Sheet3 (3)'!W79","v":{"$error":"#N/A"}},{"$f":"IF(ISNUMBER(O79),CORREL($B$1:B79,$O$1:O79),\"\")","v":""},{"$f":"'Sheet3 (3)'!Y79","v":{"$error":"#N/A"}},{"$f":"IF(ISNUMBER(Q79),CORREL($B$1:B79,$Q$1:Q79),\"\")","v":""},{"$f":"'Sheet3 (3)'!AA79","v":{"$error":"#N/A"}},{"$f":"IF(ISNUMBER(S79),CORREL($B$1:B79,$S$1:S79),\"\")","v":""}]
[null,{"$f":"'Sheet3 (3)'!I80","v":{"$error":"#N/A"}},{"$f":"'Sheet3 (3)'!K80","v":{"$error":"#N/A"}},{"$f":"IF(ISNUMBER(C80),CORREL($B$1:B80,$C$1:C80),\"\")","v":""},{"$f":"'Sheet3 (3)'!M80","v":{"$error":"#N/A"}},{"$f":"IF(ISNUMBER(E80),CORREL($B$1:B80,$E$1:E80),\"\")","v":""},{"$f":"'Sheet3 (3)'!O80","v":{"$error":"#N/A"}},{"$f":"IF(ISNUMBER(G80),CORREL($B$1:B80,$G$1:G80),\"\")","v":""},{"$f":"'Sheet3 (3)'!Q80","v":{"$error":"#N/A"}},{"$f":"IF(ISNUMBER(I80),CORREL($B$1:B80,$I$1:I80),\"\")","v":""},{"$f":"'Sheet3 (3)'!S80","v":{"$error":"#N/A"}},{"$f":"IF(ISNUMBER(K80),CORREL($B$1:B80,$K$1:K80),\"\")","v":""},{"$f":"'Sheet3 (3)'!U80","v":{"$error":"#N/A"}},{"$f":"IF(ISNUMBER(M80),CORREL($B$1:B80,$M$1:M80),\"\")","v":""},{"$f":"'Sheet3 (3)'!W80","v":{"$error":"#N/A"}},{"$f":"IF(ISNUMBER(O80),CORREL($B$1:B80,$O$1:O80),\"\")","v":""},{"$f":"'Sheet3 (3)'!Y80","v":{"$error":"#N/A"}},{"$f":"IF(ISNUMBER(Q80),CORREL($B$1:B80,$Q$1:Q80),\"\")","v":""},{"$f":"'Sheet3 (3)'!AA80","v":{"$error":"#N/A"}},{"$f":"IF(ISNUMBER(S80),CORREL($B$1:B80,$S$1:S80),\"\")","v":""}]
[null,{"$f":"'Sheet3 (3)'!I81","v":{"$error":"#N/A"}},{"$f":"'Sheet3 (3)'!K81","v":{"$error":"#N/A"}},{"$f":"IF(ISNUMBER(C81),CORREL($B$1:B81,$C$1:C81),\"\")","v":""},{"$f":"'Sheet3 (3)'!M81","v":{"$error":"#N/A"}},{"$f":"IF(ISNUMBER(E81),CORREL($B$1:B81,$E$1:E81),\"\")","v":""},{"$f":"'Sheet3 (3)'!O81","v":{"$error":"#N/A"}},{"$f":"IF(ISNUMBER(G81),CORREL($B$1:B81,$G$1:G81),\"\")","v":""},{"$f":"'Sheet3 (3)'!Q81","v":{"$error":"#N/A"}},{"$f":"IF(ISNUMBER(I81),CORREL($B$1:B81,$I$1:I81),\"\")","v":""},{"$f":"'Sheet3 (3)'!S81","v":{"$error":"#N/A"}},{"$f":"IF(ISNUMBER(K81),CORREL($B$1:B81,$K$1:K81),\"\")","v":""},{"$f":"'Sheet3 (3)'!U81","v":{"$error":"#N/A"}},{"$f":"IF(ISNUMBER(M81),CORREL($B$1:B81,$M$1:M81),\"\")","v":""},{"$f":"'Sheet3 (3)'!W81","v":{"$error":"#N/A"}},{"$f":"IF(ISNUMBER(O81),CORREL($B$1:B81,$O$1:O81),\"\")","v":""},{"$f":"'Sheet3 (3)'!Y81","v":{"$error":"#N/A"}},{"$f":"IF(ISNUMBER(Q81),CORREL($B$1:B81,$Q$1:Q81),\"\")","v":""},{"$f":"'Sheet3 (3)'!AA81","v":{"$error":"#N/A"}},{"$f":"IF(ISNUMBER(S81),CORREL($B$1:B81,$S$1:S81),\"\")","v":""}]
[null,null,null,{"$f":"'Sheet3 (3)'!C2","v":"2018-07-12"},null,{"$f":"'Sheet3 (3)'!C3","v":"2018-07-11"},null,{"$f":"'Sheet3 (3)'!C4","v":"2018-07-10"},null,{"$f":"'Sheet3 (3)'!C5","v":"2018-07-09"},null,{"$f":"'Sheet3 (3)'!C6","v":"2018-07-06"},null,{"$f":"'Sheet3 (3)'!C7","v":"2018-07-05"},null,{"$f":"'Sheet3 (3)'!C8","v":"2018-07-03"},null,{"$f":"'Sheet3 (3)'!C9","v":"2018-07-02"},null,{"$f":"'Sheet3 (3)'!C10","v":"2018-06-29"}]
[null,null,null,{"$f":"IF(ISNUMBER(INDIRECT(\"D\"&('Sheet3 (3)'!$AE$83)+1))=FALSE,\"\",LOOKUP(2,1/(ISNUMBER(D1:D78)),D1:D78))","v":7.037752239306852E-2},null,{"$f":"IF(ISNUMBER(INDIRECT(\"F\"&('Sheet3 (3)'!$AE$83)+1))=FALSE,\"\",LOOKUP(2,1/(ISNUMBER(F1:F78)),F1:F78))","v":0.21659114112624483},null,{"$f":"IF(ISNUMBER(INDIRECT(\"H\"&('Sheet3 (3)'!$AE$83)+1))=FALSE,\"\",LOOKUP(2,1/(ISNUMBER(H1:H78)),H1:H78))","v":0.2796470735662302},null,{"$f":"IF(ISNUMBER(INDIRECT(\"J\"&('Sheet3 (3)'!$AE$83)+1))=FALSE,\"\",LOOKUP(2,1/(ISNUMBER(J1:J78)),J1:J78))","v":0.17995938832708192},null,{"$f":"IF(ISNUMBER(INDIRECT(\"L\"&('Sheet3 (3)'!$AE$83)+1))=FALSE,\"\",LOOKUP(2,1/(ISNUMBER(L1:L78)),L1:L78))","v":0.1856839557626333},null,{"$f":"IF(ISNUMBER(INDIRECT(\"N\"&('Sheet3 (3)'!$AE$83)+1))=FALSE,\"\",LOOKUP(2,1/(ISNUMBER(N1:N78)),N1:N78))","v":0.16738410404215021},null,{"$f":"IF(ISNUMBER(INDIRECT(\"P\"&('Sheet3 (3)'!$AE$83)+1))=FALSE,\"\",LOOKUP(2,1/(ISNUMBER(P1:P78)),P1:P78))","v":0.18223862431924712},null,{"$f":"IF(ISNUMBER(INDIRECT(\"R\"&('Sheet3 (3)'!$AE$83)+1))=FALSE,\"\",LOOKUP(2,1/(ISNUMBER(R1:R78)),R1:R78))","v":4.518879971043066E-2},null,{"$f":"IF(ISNUMBER(INDIRECT(\"T\"&('Sheet3 (3)'!$AE$83)+1))=FALSE,\"\",LOOKUP(2,1/(ISNUMBER(T1:T78)),T1:T78))","v":0.21029662094986623}]
[]
[null,null,{"$f":"RANK(D85,$D$85:$D$93,0)+COUNTIF($D$85:D85,D85)-1","v":8},{"$f":"D83","v":7.037752239306852E-2},{"$f":"D82","v":"2018-07-12"},{"$f":"RANK(D85,$D$85:$D$93,0)+COUNTIF($D$85:D85,D85)-1","v":8},{"$f":"VLOOKUP(1,C85:E93,3,FALSE)","v":"2018-07-10"},{"$f":"VLOOKUP(1,C85:E93,2,FALSE)","v":0.2796470735662302},{"$f":"IFERROR(VLOOKUP(G85,'Sheet3 (3)'!AK1:AN10,4,FALSE),1)","v":3}]
[null,null,{"$f":"RANK(D86,$D$85:$D$93,0)+COUNTIF($D$85:D86,D86)-1","v":2},{"$f":"F83","v":0.21659114112624483},{"$f":"F82","v":"2018-07-11"},{"$f":"RANK(D86,$D$85:$D$93,0)+COUNTIF($D$85:D86,D86)-1","v":2},{"$f":"VLOOKUP(2,C85:E93,3,FALSE)","v":"2018-07-11"},{"$f":"VLOOKUP(2,C85:E93,2,FALSE)","v":0.21659114112624483}]
[null,null,{"$f":"RANK(D87,$D$85:$D$93,0)+COUNTIF($D$85:D87,D87)-1","v":1},{"$f":"H83","v":0.2796470735662302},{"$f":"H82","v":"2018-07-10"},{"$f":"RANK(D87,$D$85:$D$93,0)+COUNTIF($D$85:D87,D87)-1","v":1},{"$f":"VLOOKUP(3,C85:E93,3,FALSE)","v":"2018-06-29"},{"$f":"VLOOKUP(3,C85:E93,2,FALSE)","v":0.21029662094986623}]
[null,null,{"$f":"RANK(D88,$D$85:$D$93,0)+COUNTIF($D$85:D88,D88)-1","v":6},{"$f":"J83","v":0.17995938832708192},{"$f":"J82","v":"2018-07-09"},{"$f":"RANK(D88,$D$85:$D$93,0)+COUNTIF($D$85:D88,D88)-1","v":6},{"$f":"VLOOKUP(4,C85:E93,3,FALSE)","v":"2018-07-06"},{"$f":"VLOOKUP(4,C85:E93,2,FALSE)","v":0.1856839557626333}]
[null,null,{"$f":"RANK(D89,$D$85:$D$93,0)+COUNTIF($D$85:D89,D89)-1","v":4},{"$f":"L83","v":0.1856839557626333},{"$f":"L82","v":"2018-07-06"},{"$f":"RANK(D89,$D$85:$D$93,0)+COUNTIF($D$85:D89,D89)-1","v":4},{"$f":"VLOOKUP(5,C85:E93,3,FALSE)","v":"2018-07-03"},{"$f":"VLOOKUP(5,C85:E93,2,FALSE)","v":0.18223862431924712}]
[null,null,{"$f":"RANK(D90,$D$85:$D$93,0)+COUNTIF($D$85:D90,D90)-1","v":7},{"$f":"N83","v":0.16738410404215021},{"$f":"N82","v":"2018-07-05"},{"$f":"RANK(D90,$D$85:$D$93,0)+COUNTIF($D$85:D90,D90)-1","v":7},{"$f":"VLOOKUP(6,C85:E93,3,FALSE)","v":"2018-07-09"},{"$f":"VLOOKUP(6,C85:E93,2,FALSE)","v":0.17995938832708192}]
[null,null,{"$f":"RANK(D91,$D$85:$D$93,0)+COUNTIF($D$85:D91,D91)-1","v":5},{"$f":"P83","v":0.18223862431924712},{"$f":"P82","v":"2018-07-03"},{"$f":"RANK(D91,$D$85:$D$93,0)+COUNTIF($D$85:D91,D91)-1","v":5},{"$f":"VLOOKUP(7,C85:E93,3,FALSE)","v":"2018-07-05"},{"$f":"VLOOKUP(7,C85:E93,2,FALSE)","v":0.16738410404215021}]
[null,null,{"$f":"RANK(D92,$D$85:$D$93,0)+COUNTIF($D$85:D92,D92)-1","v":9},{"$f":"R83","v":4.518879971043066E-2},{"$f":"R82","v":"2018-07-02"},{"$f":"RANK(D92,$D$85:$D$93,0)+COUNTIF($D$85:D92,D92)-1","v":9},{"$f":"VLOOKUP(8,C85:E93,3,FALSE)","v":"2018-07-12"},{"$f":"VLOOKUP(8,C85:E93,2,FALSE)","v":7.037752239306852E-2}]
[null,null,{"$f":"RANK(D93,$D$85:$D$93,0)+COUNTIF($D$85:D93,D93)-1","v":3},{"$f":"T83","v":0.21029662094986623},{"$f":"T82","v":"2018-06-29"},{"$f":"RANK(D93,$D$85:$D$93,0)+COUNTIF($D$85:D93,D93)-1","v":3},{"$f":"VLOOKUP(9,C85:E93,3,FALSE)","v":"2018-07-02"},{"$f":"VLOOKUP(9,C85:E93,2,FALSE)","v":4.518879971043066E-2}]

{"sheet":"Sheet3 (4)","index":7,"n_rows":83,"n_cols":40,"rows_kept":83,"cut":false,"hidden":true,"merged":[]}
[0,"08:30:00",{"$f":" RTD(\"cqg.rtd\",,\"StudyData\",$D$12, \"Bar\", \"\", \"Time\",\"D\",\"0\",,,,,\"T\")","v":"2018-07-13"},{"$f":"YEAR(C1)","v":2018},{"$f":"MONTH(C1)","v":7},{"$f":"DAY(C1)","v":13},null,{"$f":"RTD(\"cqg.rtd\",,\"StudyData\", \"Close(\"&$D$12&\") when LocalYear(\"&$D$12&\")=\"&$D$1&\" and localMonth(\"&$D$12&\") =\"&$E$1&\" and LocalDay(\"&$D$12&\")=\"&$F$1&\" and Barix(\"&$D$12&\",reference:=StartOfSession)=\"&A1&\"\", \"Bar\", \"\", \"Close\",\"5\",\"0\",\"PrimaryOnly\",,,\"False\",\"T\",\"EveryTick\")","v":409.14},{"$f":"IFERROR((H1-$G$2)/$G$2,NA())","v":-1.0544135429262427E-2},{"$f":"RTD(\"cqg.rtd\",,\"StudyData\", \"Close(\"&$D$12&\") when LocalYear(\"&$D$12&\")=\"&$D$2&\" and localMonth(\"&$D$12&\") =\"&$E$2&\" and LocalDay(\"&$D$12&\")=\"&$F$2&\" and Barix(\"&$D$12&\",reference:=StartOfSession)=\"&A1&\"\", \"Bar\", \"\", \"Close\",\"5\",\"0\",\"PrimaryOnly\",,,\"False\",\"T\",\"EveryTick\")","v":414.39},{"$f":"IFERROR((J1-$G$3)/$G$3,NA())","v":-1.0175564313865976E-2},{"$f":"RTD(\"cqg.rtd\",,\"StudyData\", \"Close(\"&$D$12&\") when LocalYear(\"&$D$12&\")=\"&$D$3&\" and localMonth(\"&$D$12&\") =\"&$E$3&\" and LocalDay(\"&$D$12&\")=\"&$F$3&\" and Barix(\"&$D$12&\",reference:=StartOfSession)=\"&A1&\"\", \"Bar\", \"\", \"Close\",\"5\",\"0\",\"PrimaryOnly\",,,\"False\",\"T\",\"EveryTick\")","v":412.64},{"$f":"IFERROR((L1-$G$4)/$G$4,NA())","v":-7.193898419267159E-3},{"$f":"RTD(\"cqg.rtd\",,\"StudyData\", \"Close(\"&$D$12&\") when LocalYear(\"&$D$12&\")=\"&$D$4&\" and localMonth(\"&$D$12&\") =\"&$E$4&\" and LocalDay(\"&$D$12&\")=\"&$F$4&\" and Barix(\"&$D$12&\",reference:=StartOfSession)=\"&A1&\"\", \"Bar\", \"\", \"Close\",\"5\",\"0\",\"PrimaryOnly\",,,\"False\",\"T\",\"EveryTick\")","v":414.75},{"$f":"IFERROR((N1-$G$5)/$G$5,NA())","v":-1.0072320213857859E-2},{"$f":"RTD(\"cqg.rtd\",,\"StudyData\", \"Close(\"&$D$12&\") when LocalYear(\"&$D$12&\")=\"&$D$5&\" and localMonth(\"&$D$12&\") =\"&$E$5&\" and LocalDay(\"&$D$12&\")=\"&$F$5&\" and Barix(\"&$D$12&\",reference:=StartOfSession)=\"&A1&\"\", \"Bar\", \"\", \"Close\",\"5\",\"0\",\"PrimaryOnly\",,,\"False\",\"T\",\"EveryTick\")","v":417.68},{"$f":"IFERROR((P1-$G$6)/$G$6,NA())","v":2.3098591549295791E-2},{"$f":"RTD(\"cqg.rtd\",,\"StudyData\", \"Close(\"&$D$12&\") when LocalYear(\"&$D$12&\")=\"&$D$6&\" and localMonth(\"&$D$12&\") =\"&$E$6&\" and LocalDay(\"&$D$12&\")=\"&$F$6&\" and Barix(\"&$D$12&\",reference:=StartOfSession)=\"&A1&\"\", \"Bar\", \"\", \"Close\",\"5\",\"0\",\"PrimaryOnly\",,,\"False\",\"T\",\"EveryTick\")","v":396.72},{"$f":"IFERROR((R1-$G$7)/$G$7,NA())","v":-4.1918722859508499E-3},{"$f":"RTD(\"cqg.rtd\",,\"StudyData\", \"Close(\"&$D$12&\") when LocalYear(\"&$D$12&\")=\"&$D$7&\" and localMonth(\"&$D$12&\") =\"&$E$7&\" and LocalDay(\"&$D$12&\")=\"&$F$7&\" and Barix(\"&$D$12&\",reference:=StartOfSession)=\"&A1&\"\", \"Bar\", \"\", \"Close\",\"5\",\"0\",\"PrimaryOnly\",,,\"False\",\"T\",\"EveryTick\")","v":394.72},{"$f":"IFERROR((T1-$G$8)/$G$8,NA())","v":1.0754890914677982E-2},{"$f":"RTD(\"cqg.rtd\",,\"StudyData\", \"Close(\"&$D$12&\") when LocalYear(\"&$D$12&\")=\"&$D$8&\" and localMonth(\"&$D$12&\") =\"&$E$8&\" and LocalDay(\"&$D$12&\")=\"&$F$8&\" and Barix(\"&$D$12&\",reference:=StartOfSession)=\"&A1&\"\", \"Bar\", \"\", \"Close\",\"5\",\"0\",\"PrimaryOnly\",,,\"False\",\"T\",\"EveryTick\")","v":397.48},{"$f":"IFERROR((V1-$G$9)/$G$9,NA())","v":-1.7579988949720947E-3},{"$f":"RTD(\"cqg.rtd\",,\"StudyData\", \"Close(\"&$D$12&\") when LocalYear(\"&$D$12&\")=\"&$D$9&\" and localMonth(\"&$D$12&\") =\"&$E$9&\" and LocalDay(\"&$D$12&\")=\"&$F$9&\" and Barix(\"&$D$12&\",reference:=StartOfSession)=\"&A1&\"\", \"Bar\", \"\", \"Close\",\"5\",\"0\",\"PrimaryOnly\",,,\"False\",\"T\",\"EveryTick\")","v":383.5},{"$f":"IFERROR((X1-$G$10)/$G$10,NA())","v":-2.0259050149452028E-2},{"$f":"RTD(\"cqg.rtd\",,\"StudyData\", \"Close(\"&$D$12&\") when LocalYear(\"&$D$12&\")=\"&$D$10&\" and localMonth(\"&$D$12&\") =\"&$E$10&\" and LocalDay(\"&$D$12&\")=\"&$F$10&\" and Barix(\"&$D$12&\",reference:=StartOfSession)=\"&A1&\"\", \"Bar\", \"\", \"Close\",\"5\",\"0\",\"PrimaryOnly\",,,\"False\",\"T\",\"EveryTick\")","v":400.6},{"$f":"IFERROR((Z1-$G$11)/$G$11,NA())","v":1.3099994942086912E-2},{"$f":"RANK(AD1,$AD$1:$AD$10)+COUNTIF($AD$1:AD1,AD1)-1","v":10},{"$f":"DATE(D1,E1,F1)","v":"2018-07-13"},{"$f":"IFERROR(VLOOKUP(MAX(AE2:AE81),A1:I81,9,FALSE),\"\")","v":-3.071342200725511E-2},null,1,{"$f":"VLOOKUP(AF1,$AB$1:$AD$10,2,FALSE)","v":"2018-07-09"},{"$f":"VLOOKUP(AF1,$AB$1:$AD$10,3,FALSE)","v":1.7342314758113861E-2},null,null,{"$f":"AG1","v":"2018-07-09"},{"$f":"AC1","v":"2018-07-13"},0,{"$f":"VLOOKUP(AK1,$AL$1:$AM$10,2,FALSE)","v":4}]
[{"$f":"A1+1","v":1},"08:35:00",{"$f":" RTD(\"cqg.rtd\",,\"StudyData\",$D$12, \"Bar\", \"\", \"Time\",\"D\",\"-1\",,,,,\"T\")","v":"2018-07-12"},{"$f":"YEAR(C2)","v":2018},{"$f":"MONTH(C2)","v":7},{"$f":"DAY(C2)","v":12},{"$f":"RTD(\"cqg.rtd\",,\"StudyData\",$D$12,\"Bar\",,\"Close\",\"D\",\"-1\",,,,,\"T\")","v":413.5},{"$f":"RTD(\"cqg.rtd\",,\"StudyData\", \"Close(\"&$D$12&\") when LocalYear(\"&$D$12&\")=\"&$D$1&\" and localMonth(\"&$D$12&\") =\"&$E$1&\" and LocalDay(\"&$D$12&\")=\"&$F$1&\" and Barix(\"&$D$12&\",reference:=StartOfSession)=\"&A2&\"\", \"Bar\", \"\", \"Close\",\"5\",\"0\",\"PrimaryOnly\",,,\"False\",\"T\",\"EveryTick\")","v":407},{"$f":"IFERROR((H2-$G$2)/$G$2,NA())","v":-1.5719467956469165E-2},{"$f":"RTD(\"cqg.rtd\",,\"StudyData\", \"Close(\"&$D$12&\") when LocalYear(\"&$D$12&\")=\"&$D$2&\" and localMonth(\"&$D$12&\") =\"&$E$2&\" and LocalDay(\"&$D$12&\")=\"&$F$2&\" and Barix(\"&$D$12&\",reference:=StartOfSession)=\"&A2&\"\", \"Bar\", \"\", \"Close\",\"5\",\"0\",\"PrimaryOnly\",,,\"False\",\"T\",\"EveryTick\")","v":416.35},{"$f":"IFERROR((J2-$G$3)/$G$3,NA())","v":-5.4938492774392802E-3},{"$f":"RTD(\"cqg.rtd\",,\"StudyData\", \"Close(\"&$D$12&\") when LocalYear(\"&$D$12&\")=\"&$D$3&\" and localMonth(\"&$D$12&\") =\"&$E$3&\" and LocalDay(\"&$D$12&\")=\"&$F$3&\" and Barix(\"&$D$12&\",reference:=StartOfSession)=\"&A2&\"\", \"Bar\", \"\", \"Close\",\"5\",\"0\",\"PrimaryOnly\",,,\"False\",\"T\",\"EveryTick\")","v":414.07},{"$f":"IFERROR((L2-$G$4)/$G$4,NA())","v":-3.7533383057045985E-3},{"$f":"RTD(\"cqg.rtd\",,\"StudyData\", \"Close(\"&$D$12&\") when LocalYear(\"&$D$12&\")=\"&$D$4&\" and localMonth(\"&$D$12&\") =\"&$E$4&\" and LocalDay(\"&$D$12&\")=\"&$F$4&\" and Barix(\"&$D$12&\",reference:=StartOfSession)=\"&A2&\"\", \"Bar\", \"\", \"Close\",\"5\",\"0\",\"PrimaryOnly\",,,\"False\",\"T\",\"EveryTick\")","v":415.8},{"$f":"IFERROR((N2-$G$5)/$G$5,NA())","v":-7.5661741890827878E-3},{"$f":"RTD(\"cqg.rtd\",,\"StudyData\", \"Close(\"&$D$12&\") when LocalYear(\"&$D$12&\")=\"&$D$5&\" and localMonth(\"&$D$12&\") =\"&$E$5&\" and LocalDay(\"&$D$12&\")=\"&$F$5&\" and Barix(\"&$D$12&\",reference:=StartOfSession)=\"&A2&\"\", \"Bar\", \"\", \"Close\",\"5\",\"0\",\"PrimaryOnly\",,,\"False\",\"T\",\"EveryTick\")","v":416.79},{"$f":"IFERROR((P2-$G$6)/$G$6,NA())","v":2.0918554807103539E-2},{"$f":"RTD(\"cqg.rtd\",,\"StudyData\", \"Close(\"&$D$12&\") when LocalYear(\"&$D$12&\")=\"&$D$6&\" and localMonth(\"&$D$12&\") =\"&$E$6&\" and LocalDay(\"&$D$12&\")=\"&$F$6&\" and Barix(\"&$D$12&\",reference:=StartOfSession)=\"&A2&\"\", \"Bar\", \"\", \"Close\",\"5\",\"0\",\"PrimaryOnly\",,,\"False\",\"T\",\"EveryTick\")","v":400.85},{"$f":"IFERROR((R2-$G$7)/$G$7,NA())","v":6.1748537864907164E-3},{"$f":"RTD(\"cqg.rtd\",,\"StudyData\", \"Close(\"&$D$12&\") when LocalYear(\"&$D$12&\")=\"&$D$7&\" and localMonth(\"&$D$12&\") =\"&$E$7&\" and LocalDay(\"&$D$12&\")=\"&$F$7&\" and Barix(\"&$D$12&\",reference:=StartOfSession)=\"&A2&\"\", \"Bar\", \"\", \"Close\",\"5\",\"0\",\"PrimaryOnly\",,,\"False\",\"T\",\"EveryTick\")","v":397.01},{"$f":"IFERROR((T2-$G$8)/$G$8,NA())","v":1.6618867151490344E-2},{"$f":"RTD(\"cqg.rtd\",,\"StudyData\", \"Close(\"&$D$12&\") when LocalYear(\"&$D$12&\")=\"&$D$8&\" and localMonth(\"&$D$12&\") =\"&$E$8&\" and LocalDay(\"&$D$12&\")=\"&$F$8&\" and Barix(\"&$D$12&\",reference:=StartOfSession)=\"&A2&\"\", \"Bar\", \"\", \"Close\",\"5\",\"0\",\"PrimaryOnly\",,,\"False\",\"T\",\"EveryTick\")","v":396.34},{"$f":"IFERROR((V2-$G$9)/$G$9,NA())","v":-4.6210256667839466E-3},{"$f":"RTD(\"cqg.rtd\",,\"StudyData\", \"Close(\"&$D$12&\") when LocalYear(\"&$D$12&\")=\"&$D$9&\" and localMonth(\"&$D$12&\") =\"&$E$9&\" and LocalDay(\"&$D$12&\")=\"&$F$9&\" and Barix(\"&$D$12&\",reference:=StartOfSession)=\"&A2&\"\", \"Bar\", \"\", \"Close\",\"5\",\"0\",\"PrimaryOnly\",,,\"False\",\"T\",\"EveryTick\")","v":387.09},{"$f":"IFERROR((X2-$G$10)/$G$10,NA())","v":-1.1087550775362215E-2},{"$f":"RTD(\"cqg.rtd\",,\"StudyData\", \"Close(\"&$D$12&\") when LocalYear(\"&$D$12&\")=\"&$D$10&\" and localMonth(\"&$D$12&\") =\"&$E$10&\" and LocalDay(\"&$D$12&\")=\"&$F$10&\" and Barix(\"&$D$12&\",reference:=StartOfSession)=\"&A2&\"\", \"Bar\", \"\", \"Close\",\"5\",\"0\",\"PrimaryOnly\",,,\"False\",\"T\",\"EveryTick\")","v":398.6},{"$f":"IFERROR((Z2-$G$11)/$G$11,NA())","v":8.0420818370340562E-3},{"$f":"RANK(AD2,$AD$1:$AD$10)+COUNTIF($AD$1:AD2,AD2)-1","v":9},{"$f":"DATE(D2,E2,F2)","v":"2018-07-12"},{"$f":"IFERROR(VLOOKUP(MAX(AE2:AE81),A1:K81,11,FALSE),\"\")","v":-2.2548668338707747E-2},{"$f":"IF(AND(H1<>\"\",H2<>\"\",H3=\"\"),A2,\"\")","v":""},2,{"$f":"VLOOKUP(AF2,$AB$1:$AD$10,2,FALSE)","v":"2018-07-06"},{"$f":"VLOOKUP(AF2,$AB$1:$AD$10,3,FALSE)","v":1.4558598358392559E-2},null,null,{"$f":"AG2","v":"2018-07-06"},{"$f":"AC2","v":"2018-07-12"},1,{"$f":"VLOOKUP(AK2,$AL$1:$AM$10,2,FALSE)","v":5}]
[{"$f":"A2+1","v":2},"08:40:00",{"$f":" RTD(\"cqg.rtd\",,\"StudyData\",$D$12, \"Bar\", \"\", \"Time\",\"D\",\"-2\",,,,,\"T\")","v":"2018-07-11"},2018,7,11,{"$f":"RTD(\"cqg.rtd\",,\"StudyData\",$D$12,\"Bar\",,\"Close\",\"D\",\"-2\",,,,,\"T\")","v":418.65},{"$f":"RTD(\"cqg.rtd\",,\"StudyData\", \"Close(\"&$D$12&\") when LocalYear(\"&$D$12&\")=\"&$D$1&\" and localMonth(\"&$D$12&\") =\"&$E$1&\" and LocalDay(\"&$D$12&\")=\"&$F$1&\" and Barix(\"&$D$12&\",reference:=StartOfSession)=\"&A3&\"\", \"Bar\", \"\", \"Close\",\"5\",\"0\",\"PrimaryOnly\",,,\"False\",\"T\",\"EveryTick\")","v":403.28},{"$f":"IFERROR((H3-$G$2)/$G$2,NA())","v":-2.4715840386940816E-2},{"$f":"RTD(\"cqg.rtd\",,\"StudyData\", \"Close(\"&$D$12&\") when LocalYear(\"&$D$12&\")=\"&$D$2&\" and localMonth(\"&$D$12&\") =\"&$E$2&\" and LocalDay(\"&$D$12&\")=\"&$F$2&\" and Barix(\"&$D$12&\",reference:=StartOfSession)=\"&A3&\"\", \"Bar\", \"\", \"Close\",\"5\",\"0\",\"PrimaryOnly\",,,\"False\",\"T\",\"EveryTick\")","v":416.73},-4.5861698316014788E-3,{"$f":"RTD(\"cqg.rtd\",,\"StudyData\", \"Close(\"&$D$12&\") when LocalYear(\"&$D$12&\")=\"&$D$3&\" and localMonth(\"&$D$12&\") =\"&$E$3&\" and LocalDay(\"&$D$12&\")=\"&$F$3&\" and Barix(\"&$D$12&\",reference:=StartOfSession)=\"&A3&\"\", \"Bar\", \"\", \"Close\",\"5\",\"0\",\"PrimaryOnly\",,,\"False\",\"T\",\"EveryTick\")","v":413.48},-5.1728701008107629E-3,{"$f":"RTD(\"cqg.rtd\",,\"StudyData\", \"Close(\"&$D$12&\") when LocalYear(\"&$D$12&\")=\"&$D$4&\" and localMonth(\"&$D$12&\") =\"&$E$4&\" and LocalDay(\"&$D$12&\")=\"&$F$4&\" and Barix(\"&$D$12&\",reference:=StartOfSession)=\"&A3&\"\", \"Bar\", \"\", \"Close\",\"5\",\"0\",\"PrimaryOnly\",,,\"False\",\"T\",\"EveryTick\")","v":415.18},-9.0459937465690154E-3,{"$f":"RTD(\"cqg.rtd\",,\"StudyData\", \"Close(\"&$D$12&\") when LocalYear(\"&$D$12&\")=\"&$D$5&\" and localMonth(\"&$D$12&\") =\"&$E$5&\" and LocalDay(\"&$D$12&\")=\"&$F$5&\" and Barix(\"&$D$12&\",reference:=StartOfSession)=\"&A3&\"\", \"Bar\", \"\", \"Close\",\"5\",\"0\",\"PrimaryOnly\",,,\"False\",\"T\",\"EveryTick\")","v":415.73},1.8322106552357668E-2,{"$f":"RTD(\"cqg.rtd\",,\"StudyData\", \"Close(\"&$D$12&\") when LocalYear(\"&$D$12&\")=\"&$D$6&\" and localMonth(\"&$D$12&\") =\"&$E$6&\" and LocalDay(\"&$D$12&\")=\"&$F$6&\" and Barix(\"&$D$12&\",reference:=StartOfSession)=\"&A3&\"\", \"Bar\", \"\", \"Close\",\"5\",\"0\",\"PrimaryOnly\",,,\"False\",\"T\",\"EveryTick\")","v":402.77},1.0994251863751589E-2,{"$f":"RTD(\"cqg.rtd\",,\"StudyData\", \"Close(\"&$D$12&\") when LocalYear(\"&$D$12&\")=\"&$D$7&\" and localMonth(\"&$D$12&\") =\"&$E$7&\" and LocalDay(\"&$D$12&\")=\"&$F$7&\" and Barix(\"&$D$12&\",reference:=StartOfSession)=\"&A3&\"\", \"Bar\", \"\", \"Close\",\"5\",\"0\",\"PrimaryOnly\",,,\"False\",\"T\",\"EveryTick\")","v":396.44},1.5159274813069794E-2,{"$f":"RTD(\"cqg.rtd\",,\"StudyData\", \"Close(\"&$D$12&\") when LocalYear(\"&$D$12&\")=\"&$D$8&\" and localMonth(\"&$D$12&\") =\"&$E$8&\" and LocalDay(\"&$D$12&\")=\"&$F$8&\" and Barix(\"&$D$12&\",reference:=StartOfSession)=\"&A3&\"\", \"Bar\", \"\", \"Close\",\"5\",\"0\",\"PrimaryOnly\",,,\"False\",\"T\",\"EveryTick\")","v":395.99},-5.500025114269922E-3,{"$f":"RTD(\"cqg.rtd\",,\"StudyData\", \"Close(\"&$D$12&\") when LocalYear(\"&$D$12&\")=\"&$D$9&\" and localMonth(\"&$D$12&\") =\"&$E$9&\" and LocalDay(\"&$D$12&\")=\"&$F$9&\" and Barix(\"&$D$12&\",reference:=StartOfSession)=\"&A3&\"\", \"Bar\", \"\", \"Close\",\"5\",\"0\",\"PrimaryOnly\",,,\"False\",\"T\",\"EveryTick\")","v":387.46},-1.0142298750734555E-2,{"$f":"RTD(\"cqg.rtd\",,\"StudyData\", \"Close(\"&$D$12&\") when LocalYear(\"&$D$12&\")=\"&$D$10&\" and localMonth(\"&$D$12&\") =\"&$E$10&\" and LocalDay(\"&$D$12&\")=\"&$F$10&\" and Barix(\"&$D$12&\",reference:=StartOfSession)=\"&A3&\"\", \"Bar\", \"\", \"Close\",\"5\",\"0\",\"PrimaryOnly\",,,\"False\",\"T\",\"EveryTick\")","v":398},6.5247079055181425E-3,{"$f":"RANK(AD3,$AD$1:$AD$10)+COUNTIF($AD$1:AD3,AD3)-1","v":4},"2018-07-11",{"$f":"IFERROR(VLOOKUP(MAX(AE2:AE81),A1:M81,13,FALSE),\"\")","v":1.1789331857662083E-3},{"$f":"IF(AND(H2<>\"\",H3<>\"\",H4=\"\"),A3,\"\")","v":""},3,"2018-07-05",8.5783058486121663E-3,null,null,"2018-07-05","2018-07-11",2,6]
[3,"08:45:00",{"$f":" RTD(\"cqg.rtd\",,\"StudyData\",$D$12, \"Bar\", \"\", \"Time\",\"D\",\"-3\",,,,,\"T\")","v":"2018-07-10"},2018,7,10,{"$f":"RTD(\"cqg.rtd\",,\"StudyData\",$D$12,\"Bar\",,\"Close\",\"D\",\"-3\",,,,,\"T\")","v":415.63},{"$f":"RTD(\"cqg.rtd\",,\"StudyData\", \"Close(\"&$D$12&\") when LocalYear(\"&$D$12&\")=\"&$D$1&\" and localMonth(\"&$D$12&\") =\"&$E$1&\" and LocalDay(\"&$D$12&\")=\"&$F$1&\" and Barix(\"&$D$12&\",reference:=StartOfSession)=\"&A4&\"\", \"Bar\", \"\", \"Close\",\"5\",\"0\",\"PrimaryOnly\",,,\"False\",\"T\",\"EveryTick\")","v":403.43},-2.4353083434099136E-2,{"$f":"RTD(\"cqg.rtd\",,\"StudyData\", \"Close(\"&$D$12&\") when LocalYear(\"&$D$12&\")=\"&$D$2&\" and localMonth(\"&$D$12&\") =\"&$E$2&\" and LocalDay(\"&$D$12&\")=\"&$F$2&\" and Barix(\"&$D$12&\",reference:=StartOfSession)=\"&A4&\"\", \"Bar\", \"\", \"Close\",\"5\",\"0\",\"PrimaryOnly\",,,\"False\",\"T\",\"EveryTick\")","v":414.6},-9.6739519885344679E-3,{"$f":"RTD(\"cqg.rtd\",,\"StudyData\", \"Close(\"&$D$12&\") when LocalYear(\"&$D$12&\")=\"&$D$3&\" and localMonth(\"&$D$12&\") =\"&$E$3&\" and LocalDay(\"&$D$12&\")=\"&$F$3&\" and Barix(\"&$D$12&\",reference:=StartOfSession)=\"&A4&\"\", \"Bar\", \"\", \"Close\",\"5\",\"0\",\"PrimaryOnly\",,,\"False\",\"T\",\"EveryTick\")","v":414.15},-3.5608594182326065E-3,{"$f":"RTD(\"cqg.rtd\",,\"StudyData\", \"Close(\"&$D$12&\") when LocalYear(\"&$D$12&\")=\"&$D$4&\" and localMonth(\"&$D$12&\") =\"&$E$4&\" and LocalDay(\"&$D$12&\")=\"&$F$4&\" and Barix(\"&$D$12&\",reference:=StartOfSession)=\"&A4&\"\", \"Bar\", \"\", \"Close\",\"5\",\"0\",\"PrimaryOnly\",,,\"False\",\"T\",\"EveryTick\")","v":414.88},-9.7620354679333401E-3,{"$f":"RTD(\"cqg.rtd\",,\"StudyData\", \"Close(\"&$D$12&\") when LocalYear(\"&$D$12&\")=\"&$D$5&\" and localMonth(\"&$D$12&\") =\"&$E$5&\" and LocalDay(\"&$D$12&\")=\"&$F$5&\" and Barix(\"&$D$12&\",reference:=StartOfSession)=\"&A4&\"\", \"Bar\", \"\", \"Close\",\"5\",\"0\",\"PrimaryOnly\",,,\"False\",\"T\",\"EveryTick\")","v":416.31},1.9742804654011029E-2,{"$f":"RTD(\"cqg.rtd\",,\"StudyData\", \"Close(\"&$D$12&\") when LocalYear(\"&$D$12&\")=\"&$D$6&\" and localMonth(\"&$D$12&\") =\"&$E$6&\" and LocalDay(\"&$D$12&\")=\"&$F$6&\" and Barix(\"&$D$12&\",reference:=StartOfSession)=\"&A4&\"\", \"Bar\", \"\", \"Close\",\"5\",\"0\",\"PrimaryOnly\",,,\"False\",\"T\",\"EveryTick\")","v":402.49},1.0291422977484432E-2,{"$f":"RTD(\"cqg.rtd\",,\"StudyData\", \"Close(\"&$D$12&\") when LocalYear(\"&$D$12&\")=\"&$D$7&\" and localMonth(\"&$D$12&\") =\"&$E$7&\" and LocalDay(\"&$D$12&\")=\"&$F$7&\" and Barix(\"&$D$12&\",reference:=StartOfSession)=\"&A4&\"\", \"Bar\", \"\", \"Close\",\"5\",\"0\",\"PrimaryOnly\",,,\"False\",\"T\",\"EveryTick\")","v":396.78},1.6029908839496034E-2,{"$f":"RTD(\"cqg.rtd\",,\"StudyData\", \"Close(\"&$D$12&\") when LocalYear(\"&$D$12&\")=\"&$D$8&\" and localMonth(\"&$D$12&\") =\"&$E$8&\" and LocalDay(\"&$D$12&\")=\"&$F$8&\" and Barix(\"&$D$12&\",reference:=StartOfSession)=\"&A4&\"\", \"Bar\", \"\", \"Close\",\"5\",\"0\",\"PrimaryOnly\",,,\"False\",\"T\",\"EveryTick\")","v":395.4},-6.9817670400322204E-3,{"$f":"RTD(\"cqg.rtd\",,\"StudyData\", \"Close(\"&$D$12&\") when LocalYear(\"&$D$12&\")=\"&$D$9&\" and localMonth(\"&$D$12&\") =\"&$E$9&\" and LocalDay(\"&$D$12&\")=\"&$F$9&\" and Barix(\"&$D$12&\",reference:=StartOfSession)=\"&A4&\"\", \"Bar\", \"\", \"Close\",\"5\",\"0\",\"PrimaryOnly\",,,\"False\",\"T\",\"EveryTick\")","v":389.27},-5.518228035664167E-3,{"$f":"RTD(\"cqg.rtd\",,\"StudyData\", \"Close(\"&$D$12&\") when LocalYear(\"&$D$12&\")=\"&$D$10&\" and localMonth(\"&$D$12&\") =\"&$E$10&\" and LocalDay(\"&$D$12&\")=\"&$F$10&\" and Barix(\"&$D$12&\",reference:=StartOfSession)=\"&A4&\"\", \"Bar\", \"\", \"Close\",\"5\",\"0\",\"PrimaryOnly\",,,\"False\",\"T\",\"EveryTick\")","v":396.5},2.7312730767285014E-3,{"$f":"RANK(AD4,$AD$1:$AD$10)+COUNTIF($AD$1:AD4,AD4)-1","v":7},"2018-07-10",{"$f":"IFERROR(VLOOKUP(MAX(AE2:AE81),A1:O81,15,FALSE),\"\")","v":-2.7209585411844361E-3},"",4,"2018-07-11",1.1789331857662083E-3,null,null,"2018-07-11","2018-07-10",3,2]
[4,"08:50:00",{"$f":" RTD(\"cqg.rtd\",,\"StudyData\",$D$12, \"Bar\", \"\", \"Time\",\"D\",\"-4\",,,,,\"T\")","v":"2018-07-09"},2018,7,9,{"$f":"RTD(\"cqg.rtd\",,\"StudyData\",$D$12,\"Bar\",,\"Close\",\"D\",\"-4\",,,,,\"T\")","v":418.97},{"$f":"RTD(\"cqg.rtd\",,\"StudyData\", \"Close(\"&$D$12&\") when LocalYear(\"&$D$12&\")=\"&$D$1&\" and localMonth(\"&$D$12&\") =\"&$E$1&\" and LocalDay(\"&$D$12&\")=\"&$F$1&\" and Barix(\"&$D$12&\",reference:=StartOfSession)=\"&A5&\"\", \"Bar\", \"\", \"Close\",\"5\",\"0\",\"PrimaryOnly\",,,\"False\",\"T\",\"EveryTick\")","v":398.72},-3.5743651753325209E-2,{"$f":"RTD(\"cqg.rtd\",,\"StudyData\", \"Close(\"&$D$12&\") when LocalYear(\"&$D$12&\")=\"&$D$2&\" and localMonth(\"&$D$12&\") =\"&$E$2&\" and LocalDay(\"&$D$12&\")=\"&$F$2&\" and Barix(\"&$D$12&\",reference:=StartOfSession)=\"&A5&\"\", \"Bar\", \"\", \"Close\",\"5\",\"0\",\"PrimaryOnly\",,,\"False\",\"T\",\"EveryTick\")","v":414.71},-9.4112026752657309E-3,{"$f":"RTD(\"cqg.rtd\",,\"StudyData\", \"Close(\"&$D$12&\") when LocalYear(\"&$D$12&\")=\"&$D$3&\" and localMonth(\"&$D$12&\") =\"&$E$3&\" and LocalDay(\"&$D$12&\")=\"&$F$3&\" and Barix(\"&$D$12&\",reference:=StartOfSession)=\"&A5&\"\", \"Bar\", \"\", \"Close\",\"5\",\"0\",\"PrimaryOnly\",,,\"False\",\"T\",\"EveryTick\")","v":415.33},-7.217958280201414E-4,{"$f":"RTD(\"cqg.rtd\",,\"StudyData\", \"Close(\"&$D$12&\") when LocalYear(\"&$D$12&\")=\"&$D$4&\" and localMonth(\"&$D$12&\") =\"&$E$4&\" and LocalDay(\"&$D$12&\")=\"&$F$4&\" and Barix(\"&$D$12&\",reference:=StartOfSession)=\"&A5&\"\", \"Bar\", \"\", \"Close\",\"5\",\"0\",\"PrimaryOnly\",,,\"False\",\"T\",\"EveryTick\")","v":415.96},-7.1842852710219049E-3,{"$f":"RTD(\"cqg.rtd\",,\"StudyData\", \"Close(\"&$D$12&\") when LocalYear(\"&$D$12&\")=\"&$D$5&\" and localMonth(\"&$D$12&\") =\"&$E$5&\" and LocalDay(\"&$D$12&\")=\"&$F$5&\" and Barix(\"&$D$12&\",reference:=StartOfSession)=\"&A5&\"\", \"Bar\", \"\", \"Close\",\"5\",\"0\",\"PrimaryOnly\",,,\"False\",\"T\",\"EveryTick\")","v":414.2},1.4574402939375355E-2,{"$f":"RTD(\"cqg.rtd\",,\"StudyData\", \"Close(\"&$D$12&\") when LocalYear(\"&$D$12&\")=\"&$D$6&\" and localMonth(\"&$D$12&\") =\"&$E$6&\" and LocalDay(\"&$D$12&\")=\"&$F$6&\" and Barix(\"&$D$12&\",reference:=StartOfSession)=\"&A5&\"\", \"Bar\", \"\", \"Close\",\"5\",\"0\",\"PrimaryOnly\",,,\"False\",\"T\",\"EveryTick\")","v":402.76},1.0969150832099211E-2,{"$f":"RTD(\"cqg.rtd\",,\"StudyData\", \"Close(\"&$D$12&\") when LocalYear(\"&$D$12&\")=\"&$D$7&\" and localMonth(\"&$D$12&\") =\"&$E$7&\" and LocalDay(\"&$D$12&\")=\"&$F$7&\" and Barix(\"&$D$12&\",reference:=StartOfSession)=\"&A5&\"\", \"Bar\", \"\", \"Close\",\"5\",\"0\",\"PrimaryOnly\",,,\"False\",\"T\",\"EveryTick\")","v":396.84},1.6183550138277152E-2,{"$f":"RTD(\"cqg.rtd\",,\"StudyData\", \"Close(\"&$D$12&\") when LocalYear(\"&$D$12&\")=\"&$D$8&\" and localMonth(\"&$D$12&\") =\"&$E$8&\" and LocalDay(\"&$D$12&\")=\"&$F$8&\" and Barix(\"&$D$12&\",reference:=StartOfSession)=\"&A5&\"\", \"Bar\", \"\", \"Close\",\"5\",\"0\",\"PrimaryOnly\",,,\"False\",\"T\",\"EveryTick\")","v":393.67},-1.1326535737606084E-2,{"$f":"RTD(\"cqg.rtd\",,\"StudyData\", \"Close(\"&$D$12&\") when LocalYear(\"&$D$12&\")=\"&$D$9&\" and localMonth(\"&$D$12&\") =\"&$E$9&\" and LocalDay(\"&$D$12&\")=\"&$F$9&\" and Barix(\"&$D$12&\",reference:=StartOfSession)=\"&A5&\"\", \"Bar\", \"\", \"Close\",\"5\",\"0\",\"PrimaryOnly\",,,\"False\",\"T\",\"EveryTick\")","v":389.88},-3.9598395626293621E-3,{"$f":"RTD(\"cqg.rtd\",,\"StudyData\", \"Close(\"&$D$12&\") when LocalYear(\"&$D$12&\")=\"&$D$10&\" and localMonth(\"&$D$12&\") =\"&$E$10&\" and LocalDay(\"&$D$12&\")=\"&$F$10&\" and Barix(\"&$D$12&\",reference:=StartOfSession)=\"&A5&\"\", \"Bar\", \"\", \"Close\",\"5\",\"0\",\"PrimaryOnly\",,,\"False\",\"T\",\"EveryTick\")","v":397.03},4.0716200495674393E-3,{"$f":"RANK(AD5,$AD$1:$AD$10)+COUNTIF($AD$1:AD5,AD5)-1","v":1},"2018-07-09",{"$f":"IFERROR(VLOOKUP(MAX(AE2:AE81),A1:Q81,17,FALSE),\"\")","v":1.7342314758113861E-2},"",5,"2018-06-29",-1.1633200141622487E-3,null,null,"2018-06-29","2018-07-09",4,9]
[5,"08:55:00",{"$f":" RTD(\"cqg.rtd\",,\"StudyData\",$D$12, \"Bar\", \"\", \"Time\",\"D\",\"-5\",,,,,\"T\")","v":"2018-07-06"},2018,7,6,{"$f":"RTD(\"cqg.rtd\",,\"StudyData\",$D$12,\"Bar\",,\"Close\",\"D\",\"-5\",,,,,\"T\")","v":408.25},{"$f":"RTD(\"cqg.rtd\",,\"StudyData\", \"Close(\"&$D$12&\") when LocalYear(\"&$D$12&\")=\"&$D$1&\" and localMonth(\"&$D$12&\") =\"&$E$1&\" and LocalDay(\"&$D$12&\")=\"&$F$1&\" and Barix(\"&$D$12&\",reference:=StartOfSession)=\"&A6&\"\", \"Bar\", \"\", \"Close\",\"5\",\"0\",\"PrimaryOnly\",,,\"False\",\"T\",\"EveryTick\")","v":398.56},-3.6130592503022967E-2,{"$f":"RTD(\"cqg.rtd\",,\"StudyData\", \"Close(\"&$D$12&\") when LocalYear(\"&$D$12&\")=\"&$D$2&\" and localMonth(\"&$D$12&\") =\"&$E$2&\" and LocalDay(\"&$D$12&\")=\"&$F$2&\" and Barix(\"&$D$12&\",reference:=StartOfSession)=\"&A6&\"\", \"Bar\", \"\", \"Close\",\"5\",\"0\",\"PrimaryOnly\",,,\"False\",\"T\",\"EveryTick\")","v":414.11},-1.0844380747641141E-2,{"$f":"RTD(\"cqg.rtd\",,\"StudyData\", \"Close(\"&$D$12&\") when LocalYear(\"&$D$12&\")=\"&$D$3&\" and localMonth(\"&$D$12&\") =\"&$E$3&\" and LocalDay(\"&$D$12&\")=\"&$F$3&\" and Barix(\"&$D$12&\",reference:=StartOfSession)=\"&A6&\"\", \"Bar\", \"\", \"Close\",\"5\",\"0\",\"PrimaryOnly\",,,\"False\",\"T\",\"EveryTick\")","v":414.74},-2.1413276231263055E-3,{"$f":"RTD(\"cqg.rtd\",,\"StudyData\", \"Close(\"&$D$12&\") when LocalYear(\"&$D$12&\")=\"&$D$4&\" and localMonth(\"&$D$12&\") =\"&$E$4&\" and LocalDay(\"&$D$12&\")=\"&$F$4&\" and Barix(\"&$D$12&\",reference:=StartOfSession)=\"&A6&\"\", \"Bar\", \"\", \"Close\",\"5\",\"0\",\"PrimaryOnly\",,,\"False\",\"T\",\"EveryTick\")","v":416.45},-6.0147504594601966E-3,{"$f":"RTD(\"cqg.rtd\",,\"StudyData\", \"Close(\"&$D$12&\") when LocalYear(\"&$D$12&\")=\"&$D$5&\" and localMonth(\"&$D$12&\") =\"&$E$5&\" and LocalDay(\"&$D$12&\")=\"&$F$5&\" and Barix(\"&$D$12&\",reference:=StartOfSession)=\"&A6&\"\", \"Bar\", \"\", \"Close\",\"5\",\"0\",\"PrimaryOnly\",,,\"False\",\"T\",\"EveryTick\")","v":414.99},1.6509491733006757E-2,{"$f":"RTD(\"cqg.rtd\",,\"StudyData\", \"Close(\"&$D$12&\") when LocalYear(\"&$D$12&\")=\"&$D$6&\" and localMonth(\"&$D$12&\") =\"&$E$6&\" and LocalDay(\"&$D$12&\")=\"&$F$6&\" and Barix(\"&$D$12&\",reference:=StartOfSession)=\"&A6&\"\", \"Bar\", \"\", \"Close\",\"5\",\"0\",\"PrimaryOnly\",,,\"False\",\"T\",\"EveryTick\")","v":402.93},1.1395868370190066E-2,{"$f":"RTD(\"cqg.rtd\",,\"StudyData\", \"Close(\"&$D$12&\") when LocalYear(\"&$D$12&\")=\"&$D$7&\" and localMonth(\"&$D$12&\") =\"&$E$7&\" and LocalDay(\"&$D$12&\")=\"&$F$7&\" and Barix(\"&$D$12&\",reference:=StartOfSession)=\"&A6&\"\", \"Bar\", \"\", \"Close\",\"5\",\"0\",\"PrimaryOnly\",,,\"False\",\"T\",\"EveryTick\")","v":395.77},1.3443613643347332E-2,{"$f":"RTD(\"cqg.rtd\",,\"StudyData\", \"Close(\"&$D$12&\") when LocalYear(\"&$D$12&\")=\"&$D$8&\" and localMonth(\"&$D$12&\") =\"&$E$8&\" and LocalDay(\"&$D$12&\")=\"&$F$8&\" and Barix(\"&$D$12&\",reference:=StartOfSession)=\"&A6&\"\", \"Bar\", \"\", \"Close\",\"5\",\"0\",\"PrimaryOnly\",,,\"False\",\"T\",\"EveryTick\")","v":395.89},-5.751167813551711E-3,{"$f":"RTD(\"cqg.rtd\",,\"StudyData\", \"Close(\"&$D$12&\") when LocalYear(\"&$D$12&\")=\"&$D$9&\" and localMonth(\"&$D$12&\") =\"&$E$9&\" and LocalDay(\"&$D$12&\")=\"&$F$9&\" and Barix(\"&$D$12&\",reference:=StartOfSession)=\"&A6&\"\", \"Bar\", \"\", \"Close\",\"5\",\"0\",\"PrimaryOnly\",,,\"False\",\"T\",\"EveryTick\")","v":389.28},-5.4926806836472272E-3,{"$f":"RTD(\"cqg.rtd\",,\"StudyData\", \"Close(\"&$D$12&\") when LocalYear(\"&$D$12&\")=\"&$D$10&\" and localMonth(\"&$D$12&\") =\"&$E$10&\" and LocalDay(\"&$D$12&\")=\"&$F$10&\" and Barix(\"&$D$12&\",reference:=StartOfSession)=\"&A6&\"\", \"Bar\", \"\", \"Close\",\"5\",\"0\",\"PrimaryOnly\",,,\"False\",\"T\",\"EveryTick\")","v":396.35},2.3519295938495949E-3,{"$f":"RANK(AD6,$AD$1:$AD$10)+COUNTIF($AD$1:AD6,AD6)-1","v":2},"2018-07-06",{"$f":"IFERROR(VLOOKUP(MAX(AE2:AE81),A1:S81,19,FALSE),\"\")","v":1.4558598358392559E-2},"",6,"2018-07-02",-2.4014510895945577E-3,null,null,"2018-07-02","2018-07-06",5,8]
[6,"09:00:00",{"$f":" RTD(\"cqg.rtd\",,\"StudyData\",$D$12, \"Bar\", \"\", \"Time\",\"D\",\"-6\",,,,,\"T\")","v":"2018-07-05"},2018,7,5,{"$f":"RTD(\"cqg.rtd\",,\"StudyData\",$D$12,\"Bar\",,\"Close\",\"D\",\"-6\",,,,,\"T\")","v":398.39},{"$f":"RTD(\"cqg.rtd\",,\"StudyData\", \"Close(\"&$D$12&\") when LocalYear(\"&$D$12&\")=\"&$D$1&\" and localMonth(\"&$D$12&\") =\"&$E$1&\" and LocalDay(\"&$D$12&\")=\"&$F$1&\" and Barix(\"&$D$12&\",reference:=StartOfSession)=\"&A7&\"\", \"Bar\", \"\", \"Close\",\"5\",\"0\",\"PrimaryOnly\",,,\"False\",\"T\",\"EveryTick\")","v":400.31},-3.189842805320435E-2,{"$f":"RTD(\"cqg.rtd\",,\"StudyData\", \"Close(\"&$D$12&\") when LocalYear(\"&$D$12&\")=\"&$D$2&\" and localMonth(\"&$D$12&\") =\"&$E$2&\" and LocalDay(\"&$D$12&\")=\"&$F$2&\" and Barix(\"&$D$12&\",reference:=StartOfSession)=\"&A7&\"\", \"Bar\", \"\", \"Close\",\"5\",\"0\",\"PrimaryOnly\",,,\"False\",\"T\",\"EveryTick\")","v":413.33},-1.2707512241729352E-2,{"$f":"RTD(\"cqg.rtd\",,\"StudyData\", \"Close(\"&$D$12&\") when LocalYear(\"&$D$12&\")=\"&$D$3&\" and localMonth(\"&$D$12&\") =\"&$E$3&\" and LocalDay(\"&$D$12&\")=\"&$F$3&\" and Barix(\"&$D$12&\",reference:=StartOfSession)=\"&A7&\"\", \"Bar\", \"\", \"Close\",\"5\",\"0\",\"PrimaryOnly\",,,\"False\",\"T\",\"EveryTick\")","v":416.85},2.9353030339485295E-3,{"$f":"RTD(\"cqg.rtd\",,\"StudyData\", \"Close(\"&$D$12&\") when LocalYear(\"&$D$12&\")=\"&$D$4&\" and localMonth(\"&$D$12&\") =\"&$E$4&\" and LocalDay(\"&$D$12&\")=\"&$F$4&\" and Barix(\"&$D$12&\",reference:=StartOfSession)=\"&A7&\"\", \"Bar\", \"\", \"Close\",\"5\",\"0\",\"PrimaryOnly\",,,\"False\",\"T\",\"EveryTick\")","v":417.29},-4.0098336396400857E-3,{"$f":"RTD(\"cqg.rtd\",,\"StudyData\", \"Close(\"&$D$12&\") when LocalYear(\"&$D$12&\")=\"&$D$5&\" and localMonth(\"&$D$12&\") =\"&$E$5&\" and LocalDay(\"&$D$12&\")=\"&$F$5&\" and Barix(\"&$D$12&\",reference:=StartOfSession)=\"&A7&\"\", \"Bar\", \"\", \"Close\",\"5\",\"0\",\"PrimaryOnly\",,,\"False\",\"T\",\"EveryTick\")","v":415.93},1.8812002449479504E-2,{"$f":"RTD(\"cqg.rtd\",,\"StudyData\", \"Close(\"&$D$12&\") when LocalYear(\"&$D$12&\")=\"&$D$6&\" and localMonth(\"&$D$12&\") =\"&$E$6&\" and LocalDay(\"&$D$12&\")=\"&$F$6&\" and Barix(\"&$D$12&\",reference:=StartOfSession)=\"&A7&\"\", \"Bar\", \"\", \"Close\",\"5\",\"0\",\"PrimaryOnly\",,,\"False\",\"T\",\"EveryTick\")","v":403.38},1.2525414794548079E-2,{"$f":"RTD(\"cqg.rtd\",,\"StudyData\", \"Close(\"&$D$12&\") when LocalYear(\"&$D$12&\")=\"&$D$7&\" and localMonth(\"&$D$12&\") =\"&$E$7&\" and LocalDay(\"&$D$12&\")=\"&$F$7&\" and Barix(\"&$D$12&\",reference:=StartOfSession)=\"&A7&\"\", \"Bar\", \"\", \"Close\",\"5\",\"0\",\"PrimaryOnly\",,,\"False\",\"T\",\"EveryTick\")","v":394.45},1.0063505070162878E-2,{"$f":"RTD(\"cqg.rtd\",,\"StudyData\", \"Close(\"&$D$12&\") when LocalYear(\"&$D$12&\")=\"&$D$8&\" and localMonth(\"&$D$12&\") =\"&$E$8&\" and LocalDay(\"&$D$12&\")=\"&$F$8&\" and Barix(\"&$D$12&\",reference:=StartOfSession)=\"&A7&\"\", \"Bar\", \"\", \"Close\",\"5\",\"0\",\"PrimaryOnly\",,,\"False\",\"T\",\"EveryTick\")","v":396.18},-5.0228539856346371E-3,{"$f":"RTD(\"cqg.rtd\",,\"StudyData\", \"Close(\"&$D$12&\") when LocalYear(\"&$D$12&\")=\"&$D$9&\" and localMonth(\"&$D$12&\") =\"&$E$9&\" and LocalDay(\"&$D$12&\")=\"&$F$9&\" and Barix(\"&$D$12&\",reference:=StartOfSession)=\"&A7&\"\", \"Bar\", \"\", \"Close\",\"5\",\"0\",\"PrimaryOnly\",,,\"False\",\"T\",\"EveryTick\")","v":389.01},-6.1824591881051933E-3,{"$f":"RTD(\"cqg.rtd\",,\"StudyData\", \"Close(\"&$D$12&\") when LocalYear(\"&$D$12&\")=\"&$D$10&\" and localMonth(\"&$D$12&\") =\"&$E$10&\" and LocalDay(\"&$D$12&\")=\"&$F$10&\" and Barix(\"&$D$12&\",reference:=StartOfSession)=\"&A7&\"\", \"Bar\", \"\", \"Close\",\"5\",\"0\",\"PrimaryOnly\",,,\"False\",\"T\",\"EveryTick\")","v":395.6},4.5521217945477421E-4,{"$f":"RANK(AD7,$AD$1:$AD$10)+COUNTIF($AD$1:AD7,AD7)-1","v":3},"2018-07-05",{"$f":"IFERROR(VLOOKUP(MAX(AE2:AE81),A1:U81,21,FALSE),\"\")","v":8.5783058486121663E-3},"",7,"2018-07-10",-2.7209585411844361E-3,null,null,"2018-07-10","2018-07-05",6,3]
[7,"09:05:00",{"$f":" RTD(\"cqg.rtd\",,\"StudyData\",$D$12, \"Bar\", \"\", \"Time\",\"D\",\"-7\",,,,,\"T\")","v":"2018-07-03"},2018,7,3,{"$f":"RTD(\"cqg.rtd\",,\"StudyData\",$D$12,\"Bar\",,\"Close\",\"D\",\"-7\",,,,,\"T\")","v":390.52},{"$f":"RTD(\"cqg.rtd\",,\"StudyData\", \"Close(\"&$D$12&\") when LocalYear(\"&$D$12&\")=\"&$D$1&\" and localMonth(\"&$D$12&\") =\"&$E$1&\" and LocalDay(\"&$D$12&\")=\"&$F$1&\" and Barix(\"&$D$12&\",reference:=StartOfSession)=\"&A8&\"\", \"Bar\", \"\", \"Close\",\"5\",\"0\",\"PrimaryOnly\",,,\"False\",\"T\",\"EveryTick\")","v":399.5},-3.3857315598548973E-2,{"$f":"RTD(\"cqg.rtd\",,\"StudyData\", \"Close(\"&$D$12&\") when LocalYear(\"&$D$12&\")=\"&$D$2&\" and localMonth(\"&$D$12&\") =\"&$E$2&\" and LocalDay(\"&$D$12&\")=\"&$F$2&\" and Barix(\"&$D$12&\",reference:=StartOfSession)=\"&A8&\"\", \"Bar\", \"\", \"Close\",\"5\",\"0\",\"PrimaryOnly\",,,\"False\",\"T\",\"EveryTick\")","v":410.87},-1.8583542338468824E-2,{"$f":"RTD(\"cqg.rtd\",,\"StudyData\", \"Close(\"&$D$12&\") when LocalYear(\"&$D$12&\")=\"&$D$3&\" and localMonth(\"&$D$12&\") =\"&$E$3&\" and LocalDay(\"&$D$12&\")=\"&$F$3&\" and Barix(\"&$D$12&\",reference:=StartOfSession)=\"&A8&\"\", \"Bar\", \"\", \"Close\",\"5\",\"0\",\"PrimaryOnly\",,,\"False\",\"T\",\"EveryTick\")","v":416.12},1.1789331857662083E-3,{"$f":"RTD(\"cqg.rtd\",,\"StudyData\", \"Close(\"&$D$12&\") when LocalYear(\"&$D$12&\")=\"&$D$4&\" and localMonth(\"&$D$12&\") =\"&$E$4&\" and LocalDay(\"&$D$12&\")=\"&$F$4&\" and Barix(\"&$D$12&\",reference:=StartOfSession)=\"&A8&\"\", \"Bar\", \"\", \"Close\",\"5\",\"0\",\"PrimaryOnly\",,,\"False\",\"T\",\"EveryTick\")","v":417.21},-4.2007780986706633E-3,{"$f":"RTD(\"cqg.rtd\",,\"StudyData\", \"Close(\"&$D$12&\") when LocalYear(\"&$D$12&\")=\"&$D$5&\" and localMonth(\"&$D$12&\") =\"&$E$5&\" and LocalDay(\"&$D$12&\")=\"&$F$5&\" and Barix(\"&$D$12&\",reference:=StartOfSession)=\"&A8&\"\", \"Bar\", \"\", \"Close\",\"5\",\"0\",\"PrimaryOnly\",,,\"False\",\"T\",\"EveryTick\")","v":416.54},2.0306184935701212E-2,{"$f":"RTD(\"cqg.rtd\",,\"StudyData\", \"Close(\"&$D$12&\") when LocalYear(\"&$D$12&\")=\"&$D$6&\" and localMonth(\"&$D$12&\") =\"&$E$6&\" and LocalDay(\"&$D$12&\")=\"&$F$6&\" and Barix(\"&$D$12&\",reference:=StartOfSession)=\"&A8&\"\", \"Bar\", \"\", \"Close\",\"5\",\"0\",\"PrimaryOnly\",,,\"False\",\"T\",\"EveryTick\")","v":403.56},1.2977233364291314E-2,{"$f":"RTD(\"cqg.rtd\",,\"StudyData\", \"Close(\"&$D$12&\") when LocalYear(\"&$D$12&\")=\"&$D$7&\" and localMonth(\"&$D$12&\") =\"&$E$7&\" and LocalDay(\"&$D$12&\")=\"&$F$7&\" and Barix(\"&$D$12&\",reference:=StartOfSession)=\"&A8&\"\", \"Bar\", \"\", \"Close\",\"5\",\"0\",\"PrimaryOnly\",,,\"False\",\"T\",\"EveryTick\")","v":395.37},1.2419338318139975E-2,{"$f":"RTD(\"cqg.rtd\",,\"StudyData\", \"Close(\"&$D$12&\") when LocalYear(\"&$D$12&\")=\"&$D$8&\" and localMonth(\"&$D$12&\") =\"&$E$8&\" and LocalDay(\"&$D$12&\")=\"&$F$8&\" and Barix(\"&$D$12&\",reference:=StartOfSession)=\"&A8&\"\", \"Bar\", \"\", \"Close\",\"5\",\"0\",\"PrimaryOnly\",,,\"False\",\"T\",\"EveryTick\")","v":396.03},-5.399568034557321E-3,{"$f":"RTD(\"cqg.rtd\",,\"StudyData\", \"Close(\"&$D$12&\") when LocalYear(\"&$D$12&\")=\"&$D$9&\" and localMonth(\"&$D$12&\") =\"&$E$9&\" and LocalDay(\"&$D$12&\")=\"&$F$9&\" and Barix(\"&$D$12&\",reference:=StartOfSession)=\"&A8&\"\", \"Bar\", \"\", \"Close\",\"5\",\"0\",\"PrimaryOnly\",,,\"False\",\"T\",\"EveryTick\")","v":388.86},-6.5656694683595869E-3,{"$f":"RTD(\"cqg.rtd\",,\"StudyData\", \"Close(\"&$D$12&\") when LocalYear(\"&$D$12&\")=\"&$D$10&\" and localMonth(\"&$D$12&\") =\"&$E$10&\" and LocalDay(\"&$D$12&\")=\"&$F$10&\" and Barix(\"&$D$12&\",reference:=StartOfSession)=\"&A8&\"\", \"Bar\", \"\", \"Close\",\"5\",\"0\",\"PrimaryOnly\",,,\"False\",\"T\",\"EveryTick\")","v":395.56},3.5405391735366537E-4,{"$f":"RANK(AD8,$AD$1:$AD$10)+COUNTIF($AD$1:AD8,AD8)-1","v":8},"2018-07-03",{"$f":"IFERROR(VLOOKUP(MAX(AE2:AE81),A1:W81,23,FALSE),\"\")","v":-6.2283389421869959E-3},"",8,"2018-07-03",-6.2283389421869959E-3,null,null,"2018-07-03","2018-07-03",7,7]
[8,"09:10:00",{"$f":" RTD(\"cqg.rtd\",,\"StudyData\",$D$12, \"Bar\", \"\", \"Time\",\"D\",\"-8\",,,,,\"T\")","v":"2018-07-02"},2018,7,2,{"$f":"RTD(\"cqg.rtd\",,\"StudyData\",$D$12,\"Bar\",,\"Close\",\"D\",\"-8\",,,,,\"T\")","v":398.18},{"$f":"RTD(\"cqg.rtd\",,\"StudyData\", \"Close(\"&$D$12&\") when LocalYear(\"&$D$12&\")=\"&$D$1&\" and localMonth(\"&$D$12&\") =\"&$E$1&\" and LocalDay(\"&$D$12&\")=\"&$F$1&\" and Barix(\"&$D$12&\",reference:=StartOfSession)=\"&A9&\"\", \"Bar\", \"\", \"Close\",\"5\",\"0\",\"PrimaryOnly\",,,\"False\",\"T\",\"EveryTick\")","v":398.54},-3.6178960096735137E-2,{"$f":"RTD(\"cqg.rtd\",,\"StudyData\", \"Close(\"&$D$12&\") when LocalYear(\"&$D$12&\")=\"&$D$2&\" and localMonth(\"&$D$12&\") =\"&$E$2&\" and LocalDay(\"&$D$12&\")=\"&$F$2&\" and Barix(\"&$D$12&\",reference:=StartOfSession)=\"&A9&\"\", \"Bar\", \"\", \"Close\",\"5\",\"0\",\"PrimaryOnly\",,,\"False\",\"T\",\"EveryTick\")","v":411.52},-1.7030932760062095E-2,{"$f":"RTD(\"cqg.rtd\",,\"StudyData\", \"Close(\"&$D$12&\") when LocalYear(\"&$D$12&\")=\"&$D$3&\" and localMonth(\"&$D$12&\") =\"&$E$3&\" and LocalDay(\"&$D$12&\")=\"&$F$3&\" and Barix(\"&$D$12&\",reference:=StartOfSession)=\"&A9&\"\", \"Bar\", \"\", \"Close\",\"5\",\"0\",\"PrimaryOnly\",,,\"False\",\"T\",\"EveryTick\")","v":416.08},1.0826937420301437E-3,{"$f":"RTD(\"cqg.rtd\",,\"StudyData\", \"Close(\"&$D$12&\") when LocalYear(\"&$D$12&\")=\"&$D$4&\" and localMonth(\"&$D$12&\") =\"&$E$4&\" and LocalDay(\"&$D$12&\")=\"&$F$4&\" and Barix(\"&$D$12&\",reference:=StartOfSession)=\"&A9&\"\", \"Bar\", \"\", \"Close\",\"5\",\"0\",\"PrimaryOnly\",,,\"False\",\"T\",\"EveryTick\")","v":415.6},-8.0435353366589604E-3,{"$f":"RTD(\"cqg.rtd\",,\"StudyData\", \"Close(\"&$D$12&\") when LocalYear(\"&$D$12&\")=\"&$D$5&\" and localMonth(\"&$D$12&\") =\"&$E$5&\" and LocalDay(\"&$D$12&\")=\"&$F$5&\" and Barix(\"&$D$12&\",reference:=StartOfSession)=\"&A9&\"\", \"Bar\", \"\", \"Close\",\"5\",\"0\",\"PrimaryOnly\",,,\"False\",\"T\",\"EveryTick\")","v":413.71},1.3374157991426772E-2,{"$f":"RTD(\"cqg.rtd\",,\"StudyData\", \"Close(\"&$D$12&\") when LocalYear(\"&$D$12&\")=\"&$D$6&\" and localMonth(\"&$D$12&\") =\"&$E$6&\" and LocalDay(\"&$D$12&\")=\"&$F$6&\" and Barix(\"&$D$12&\",reference:=StartOfSession)=\"&A9&\"\", \"Bar\", \"\", \"Close\",\"5\",\"0\",\"PrimaryOnly\",,,\"False\",\"T\",\"EveryTick\")","v":403.7},1.3328647807424892E-2,{"$f":"RTD(\"cqg.rtd\",,\"StudyData\", \"Close(\"&$D$12&\") when LocalYear(\"&$D$12&\")=\"&$D$7&\" and localMonth(\"&$D$12&\") =\"&$E$7&\" and LocalDay(\"&$D$12&\")=\"&$F$7&\" and Barix(\"&$D$12&\",reference:=StartOfSession)=\"&A9&\"\", \"Bar\", \"\", \"Close\",\"5\",\"0\",\"PrimaryOnly\",,,\"False\",\"T\",\"EveryTick\")","v":393.45},7.5028167571443384E-3,{"$f":"RTD(\"cqg.rtd\",,\"StudyData\", \"Close(\"&$D$12&\") when LocalYear(\"&$D$12&\")=\"&$D$8&\" and localMonth(\"&$D$12&\") =\"&$E$8&\" and LocalDay(\"&$D$12&\")=\"&$F$8&\" and Barix(\"&$D$12&\",reference:=StartOfSession)=\"&A9&\"\", \"Bar\", \"\", \"Close\",\"5\",\"0\",\"PrimaryOnly\",,,\"False\",\"T\",\"EveryTick\")","v":397.33},-2.1347129438947779E-3,{"$f":"RTD(\"cqg.rtd\",,\"StudyData\", \"Close(\"&$D$12&\") when LocalYear(\"&$D$12&\")=\"&$D$9&\" and localMonth(\"&$D$12&\") =\"&$E$9&\" and LocalDay(\"&$D$12&\")=\"&$F$9&\" and Barix(\"&$D$12&\",reference:=StartOfSession)=\"&A9&\"\", \"Bar\", \"\", \"Close\",\"5\",\"0\",\"PrimaryOnly\",,,\"False\",\"T\",\"EveryTick\")","v":387.98},-8.8138364458523587E-3,{"$f":"RTD(\"cqg.rtd\",,\"StudyData\", \"Close(\"&$D$12&\") when LocalYear(\"&$D$12&\")=\"&$D$10&\" and localMonth(\"&$D$12&\") =\"&$E$10&\" and LocalDay(\"&$D$12&\")=\"&$F$10&\" and Barix(\"&$D$12&\",reference:=StartOfSession)=\"&A9&\"\", \"Bar\", \"\", \"Close\",\"5\",\"0\",\"PrimaryOnly\",,,\"False\",\"T\",\"EveryTick\")","v":393.8},-4.096909615092824E-3,{"$f":"RANK(AD9,$AD$1:$AD$10)+COUNTIF($AD$1:AD9,AD9)-1","v":6},"2018-07-02",{"$f":"IFERROR(VLOOKUP(MAX(AE2:AE81),A1:Y81,25,FALSE),\"\")","v":-2.4014510895945577E-3},"",9,"2018-07-12",-2.2548668338707747E-2,null,null,"2018-07-12","2018-07-02",8,1]
[9,"09:15:00",{"$f":" RTD(\"cqg.rtd\",,\"StudyData\",$D$12, \"Bar\", \"\", \"Time\",\"D\",\"-9\",,,,,\"T\")","v":"2018-06-29"},2018,6,29,{"$f":"RTD(\"cqg.rtd\",,\"StudyData\",$D$12,\"Bar\",,\"Close\",\"D\",\"-9\",,,,,\"T\")","v":391.43},{"$f":"RTD(\"cqg.rtd\",,\"StudyData\", \"Close(\"&$D$12&\") when LocalYear(\"&$D$12&\")=\"&$D$1&\" and localMonth(\"&$D$12&\") =\"&$E$1&\" and LocalDay(\"&$D$12&\")=\"&$F$1&\" and Barix(\"&$D$12&\",reference:=StartOfSession)=\"&A10&\"\", \"Bar\", \"\", \"Close\",\"5\",\"0\",\"PrimaryOnly\",,,\"False\",\"T\",\"EveryTick\")","v":397.69},-3.8234582829504239E-2,{"$f":"RTD(\"cqg.rtd\",,\"StudyData\", \"Close(\"&$D$12&\") when LocalYear(\"&$D$12&\")=\"&$D$2&\" and localMonth(\"&$D$12&\") =\"&$E$2&\" and LocalDay(\"&$D$12&\")=\"&$F$2&\" and Barix(\"&$D$12&\",reference:=StartOfSession)=\"&A10&\"\", \"Bar\", \"\", \"Close\",\"5\",\"0\",\"PrimaryOnly\",,,\"False\",\"T\",\"EveryTick\")","v":411.55},-1.695927385644325E-2,{"$f":"RTD(\"cqg.rtd\",,\"StudyData\", \"Close(\"&$D$12&\") when LocalYear(\"&$D$12&\")=\"&$D$3&\" and localMonth(\"&$D$12&\") =\"&$E$3&\" and LocalDay(\"&$D$12&\")=\"&$F$3&\" and Barix(\"&$D$12&\",reference:=StartOfSession)=\"&A10&\"\", \"Bar\", \"\", \"Close\",\"5\",\"0\",\"PrimaryOnly\",,,\"False\",\"T\",\"EveryTick\")","v":417.79},5.1969299617448811E-3,{"$f":"RTD(\"cqg.rtd\",,\"StudyData\", \"Close(\"&$D$12&\") when LocalYear(\"&$D$12&\")=\"&$D$4&\" and localMonth(\"&$D$12&\") =\"&$E$4&\" and LocalDay(\"&$D$12&\")=\"&$F$4&\" and Barix(\"&$D$12&\",reference:=StartOfSession)=\"&A10&\"\", \"Bar\", \"\", \"Close\",\"5\",\"0\",\"PrimaryOnly\",,,\"False\",\"T\",\"EveryTick\")","v":416.7},-5.4180490249899479E-3,{"$f":"RTD(\"cqg.rtd\",,\"StudyData\", \"Close(\"&$D$12&\") when LocalYear(\"&$D$12&\")=\"&$D$5&\" and localMonth(\"&$D$12&\") =\"&$E$5&\" and LocalDay(\"&$D$12&\")=\"&$F$5&\" and Barix(\"&$D$12&\",reference:=StartOfSession)=\"&A10&\"\", \"Bar\", \"\", \"Close\",\"5\",\"0\",\"PrimaryOnly\",,,\"False\",\"T\",\"EveryTick\")","v":412.62},1.0704225352112687E-2,{"$f":"RTD(\"cqg.rtd\",,\"StudyData\", \"Close(\"&$D$12&\") when LocalYear(\"&$D$12&\")=\"&$D$6&\" and localMonth(\"&$D$12&\") =\"&$E$6&\" and LocalDay(\"&$D$12&\")=\"&$F$6&\" and Barix(\"&$D$12&\",reference:=StartOfSession)=\"&A10&\"\", \"Bar\", \"\", \"Close\",\"5\",\"0\",\"PrimaryOnly\",,,\"False\",\"T\",\"EveryTick\")","v":403.85},1.370516328221099E-2,{"$f":"RTD(\"cqg.rtd\",,\"StudyData\", \"Close(\"&$D$12&\") when LocalYear(\"&$D$12&\")=\"&$D$7&\" and localMonth(\"&$D$12&\") =\"&$E$7&\" and LocalDay(\"&$D$12&\")=\"&$F$7&\" and Barix(\"&$D$12&\",reference:=StartOfSession)=\"&A10&\"\", \"Bar\", \"\", \"Close\",\"5\",\"0\",\"PrimaryOnly\",,,\"False\",\"T\",\"EveryTick\")","v":393.24},6.9650722114104977E-3,{"$f":"RTD(\"cqg.rtd\",,\"StudyData\", \"Close(\"&$D$12&\") when LocalYear(\"&$D$12&\")=\"&$D$8&\" and localMonth(\"&$D$12&\") =\"&$E$8&\" and LocalDay(\"&$D$12&\")=\"&$F$8&\" and Barix(\"&$D$12&\",reference:=StartOfSession)=\"&A10&\"\", \"Bar\", \"\", \"Close\",\"5\",\"0\",\"PrimaryOnly\",,,\"False\",\"T\",\"EveryTick\")","v":397.91},-6.780852880606304E-4,{"$f":"RTD(\"cqg.rtd\",,\"StudyData\", \"Close(\"&$D$12&\") when LocalYear(\"&$D$12&\")=\"&$D$9&\" and localMonth(\"&$D$12&\") =\"&$E$9&\" and LocalDay(\"&$D$12&\")=\"&$F$9&\" and Barix(\"&$D$12&\",reference:=StartOfSession)=\"&A10&\"\", \"Bar\", \"\", \"Close\",\"5\",\"0\",\"PrimaryOnly\",,,\"False\",\"T\",\"EveryTick\")","v":390.32},-2.835756073882977E-3,{"$f":"RTD(\"cqg.rtd\",,\"StudyData\", \"Close(\"&$D$12&\") when LocalYear(\"&$D$12&\")=\"&$D$10&\" and localMonth(\"&$D$12&\") =\"&$E$10&\" and LocalDay(\"&$D$12&\")=\"&$F$10&\" and Barix(\"&$D$12&\",reference:=StartOfSession)=\"&A10&\"\", \"Bar\", \"\", \"Close\",\"5\",\"0\",\"PrimaryOnly\",,,\"False\",\"T\",\"EveryTick\")","v":394.03},-3.5152496080118434E-3,{"$f":"RANK(AD10,$AD$1:$AD$10)+COUNTIF($AD$1:AD10,AD10)-1","v":5},"2018-06-29",{"$f":"IFERROR(VLOOKUP(MAX(AE2:AE81),A1:AA81,27,FALSE),\"\")","v":-1.1633200141622487E-3},"",10,"2018-07-13",-3.071342200725511E-2,null,null,"2018-07-13","2018-06-29",9,0]
[10,"09:20:00",{"$f":" RTD(\"cqg.rtd\",,\"StudyData\",$D$12, \"Bar\", \"\", \"Time\",\"D\",\"-10\",,,,,\"T\")","v":"2018-06-28"},2018,6,28,{"$f":"RTD(\"cqg.rtd\",,\"StudyData\",$D$12,\"Bar\",,\"Close\",\"D\",\"-10\",,,,,\"T\")","v":395.42},{"$f":"RTD(\"cqg.rtd\",,\"StudyData\", \"Close(\"&$D$12&\") when LocalYear(\"&$D$12&\")=\"&$D$1&\" and localMonth(\"&$D$12&\") =\"&$E$1&\" and LocalDay(\"&$D$12&\")=\"&$F$1&\" and Barix(\"&$D$12&\",reference:=StartOfSession)=\"&A11&\"\", \"Bar\", \"\", \"Close\",\"5\",\"0\",\"PrimaryOnly\",,,\"False\",\"T\",\"EveryTick\")","v":401.1},-2.998790810157189E-2,{"$f":"RTD(\"cqg.rtd\",,\"StudyData\", \"Close(\"&$D$12&\") when LocalYear(\"&$D$12&\")=\"&$D$2&\" and localMonth(\"&$D$12&\") =\"&$E$2&\" and LocalDay(\"&$D$12&\")=\"&$F$2&\" and Barix(\"&$D$12&\",reference:=StartOfSession)=\"&A11&\"\", \"Bar\", \"\", \"Close\",\"5\",\"0\",\"PrimaryOnly\",,,\"False\",\"T\",\"EveryTick\")","v":410.66},-1.9085154663800199E-2,{"$f":"RTD(\"cqg.rtd\",,\"StudyData\", \"Close(\"&$D$12&\") when LocalYear(\"&$D$12&\")=\"&$D$3&\" and localMonth(\"&$D$12&\") =\"&$E$3&\" and LocalDay(\"&$D$12&\")=\"&$F$3&\" and Barix(\"&$D$12&\",reference:=StartOfSession)=\"&A11&\"\", \"Bar\", \"\", \"Close\",\"5\",\"0\",\"PrimaryOnly\",,,\"False\",\"T\",\"EveryTick\")","v":418.66},7.2901378630032231E-3,{"$f":"RTD(\"cqg.rtd\",,\"StudyData\", \"Close(\"&$D$12&\") when LocalYear(\"&$D$12&\")=\"&$D$4&\" and localMonth(\"&$D$12&\") =\"&$E$4&\" and LocalDay(\"&$D$12&\")=\"&$F$4&\" and Barix(\"&$D$12&\",reference:=StartOfSession)=\"&A11&\"\", \"Bar\", \"\", \"Close\",\"5\",\"0\",\"PrimaryOnly\",,,\"False\",\"T\",\"EveryTick\")","v":415.85},-7.4468339021887108E-3,{"$f":"RTD(\"cqg.rtd\",,\"StudyData\", \"Close(\"&$D$12&\") when LocalYear(\"&$D$12&\")=\"&$D$5&\" and localMonth(\"&$D$12&\") =\"&$E$5&\" and LocalDay(\"&$D$12&\")=\"&$F$5&\" and Barix(\"&$D$12&\",reference:=StartOfSession)=\"&A11&\"\", \"Bar\", \"\", \"Close\",\"5\",\"0\",\"PrimaryOnly\",,,\"False\",\"T\",\"EveryTick\")","v":414.13},1.440293937538272E-2,{"$f":"RTD(\"cqg.rtd\",,\"StudyData\", \"Close(\"&$D$12&\") when LocalYear(\"&$D$12&\")=\"&$D$6&\" and localMonth(\"&$D$12&\") =\"&$E$6&\" and LocalDay(\"&$D$12&\")=\"&$F$6&\" and Barix(\"&$D$12&\",reference:=StartOfSession)=\"&A11&\"\", \"Bar\", \"\", \"Close\",\"5\",\"0\",\"PrimaryOnly\",,,\"False\",\"T\",\"EveryTick\")","v":403.52},1.2876829237681658E-2,{"$f":"RTD(\"cqg.rtd\",,\"StudyData\", \"Close(\"&$D$12&\") when LocalYear(\"&$D$12&\")=\"&$D$7&\" and localMonth(\"&$D$12&\") =\"&$E$7&\" and LocalDay(\"&$D$12&\")=\"&$F$7&\" and Barix(\"&$D$12&\",reference:=StartOfSession)=\"&A11&\"\", \"Bar\", \"\", \"Close\",\"5\",\"0\",\"PrimaryOnly\",,,\"False\",\"T\",\"EveryTick\")","v":392.82},5.8895831199426698E-3,{"$f":"RTD(\"cqg.rtd\",,\"StudyData\", \"Close(\"&$D$12&\") when LocalYear(\"&$D$12&\")=\"&$D$8&\" and localMonth(\"&$D$12&\") =\"&$E$8&\" and LocalDay(\"&$D$12&\")=\"&$F$8&\" and Barix(\"&$D$12&\",reference:=StartOfSession)=\"&A11&\"\", \"Bar\", \"\", \"Close\",\"5\",\"0\",\"PrimaryOnly\",,,\"False\",\"T\",\"EveryTick\")","v":397.21},-2.4360841830328678E-3,{"$f":"RTD(\"cqg.rtd\",,\"StudyData\", \"Close(\"&$D$12&\") when LocalYear(\"&$D$12&\")=\"&$D$9&\" and localMonth(\"&$D$12&\") =\"&$E$9&\" and LocalDay(\"&$D$12&\")=\"&$F$9&\" and Barix(\"&$D$12&\",reference:=StartOfSession)=\"&A11&\"\", \"Bar\", \"\", \"Close\",\"5\",\"0\",\"PrimaryOnly\",,,\"False\",\"T\",\"EveryTick\")","v":391.07},-9.1970467261071878E-4,{"$f":"RTD(\"cqg.rtd\",,\"StudyData\", \"Close(\"&$D$12&\") when LocalYear(\"&$D$12&\")=\"&$D$10&\" and localMonth(\"&$D$12&\") =\"&$E$10&\" and LocalDay(\"&$D$12&\")=\"&$F$10&\" and Barix(\"&$D$12&\",reference:=StartOfSession)=\"&A11&\"\", \"Bar\", \"\", \"Close\",\"5\",\"0\",\"PrimaryOnly\",,,\"False\",\"T\",\"EveryTick\")","v":395.46},1.011582621009651E-4,null,null,null,""]
[11,"09:25:00",null,{"$f":"MainDisplay!R31","v":"S.NFLX"},null,null,null,{"$f":"RTD(\"cqg.rtd\",,\"StudyData\", \"Close(\"&$D$12&\") when LocalYear(\"&$D$12&\")=\"&$D$1&\" and localMonth(\"&$D$12&\") =\"&$E$1&\" and LocalDay(\"&$D$12&\")=\"&$F$1&\" and Barix(\"&$D$12&\",reference:=StartOfSession)=\"&A12&\"\", \"Bar\", \"\", \"Close\",\"5\",\"0\",\"PrimaryOnly\",,,\"False\",\"T\",\"EveryTick\")","v":401.62},-2.8730350665054402E-2,{"$f":"RTD(\"cqg.rtd\",,\"StudyData\", \"Close(\"&$D$12&\") when LocalYear(\"&$D$12&\")=\"&$D$2&\" and localMonth(\"&$D$12&\") =\"&$E$2&\" and LocalDay(\"&$D$12&\")=\"&$F$2&\" and Barix(\"&$D$12&\",reference:=StartOfSession)=\"&A12&\"\", \"Bar\", \"\", \"Close\",\"5\",\"0\",\"PrimaryOnly\",,,\"False\",\"T\",\"EveryTick\")","v":411.27},-1.762809029021855E-2,{"$f":"RTD(\"cqg.rtd\",,\"StudyData\", \"Close(\"&$D$12&\") when LocalYear(\"&$D$12&\")=\"&$D$3&\" and localMonth(\"&$D$12&\") =\"&$E$3&\" and LocalDay(\"&$D$12&\")=\"&$F$3&\" and Barix(\"&$D$12&\",reference:=StartOfSession)=\"&A12&\"\", \"Bar\", \"\", \"Close\",\"5\",\"0\",\"PrimaryOnly\",,,\"False\",\"T\",\"EveryTick\")","v":418.45},6.784880783389056E-3,{"$f":"RTD(\"cqg.rtd\",,\"StudyData\", \"Close(\"&$D$12&\") when LocalYear(\"&$D$12&\")=\"&$D$4&\" and localMonth(\"&$D$12&\") =\"&$E$4&\" and LocalDay(\"&$D$12&\")=\"&$F$4&\" and Barix(\"&$D$12&\",reference:=StartOfSession)=\"&A12&\"\", \"Bar\", \"\", \"Close\",\"5\",\"0\",\"PrimaryOnly\",,,\"False\",\"T\",\"EveryTick\")","v":415.66},-7.9003269923860944E-3,{"$f":"RTD(\"cqg.rtd\",,\"StudyData\", \"Close(\"&$D$12&\") when LocalYear(\"&$D$12&\")=\"&$D$5&\" and localMonth(\"&$D$12&\") =\"&$E$5&\" and LocalDay(\"&$D$12&\")=\"&$F$5&\" and Barix(\"&$D$12&\",reference:=StartOfSession)=\"&A12&\"\", \"Bar\", \"\", \"Close\",\"5\",\"0\",\"PrimaryOnly\",,,\"False\",\"T\",\"EveryTick\")","v":412.88},1.1341090018371086E-2,{"$f":"RTD(\"cqg.rtd\",,\"StudyData\", \"Close(\"&$D$12&\") when LocalYear(\"&$D$12&\")=\"&$D$6&\" and localMonth(\"&$D$12&\") =\"&$E$6&\" and LocalDay(\"&$D$12&\")=\"&$F$6&\" and Barix(\"&$D$12&\",reference:=StartOfSession)=\"&A12&\"\", \"Bar\", \"\", \"Close\",\"5\",\"0\",\"PrimaryOnly\",,,\"False\",\"T\",\"EveryTick\")","v":404.82},1.6139963352493805E-2,{"$f":"RTD(\"cqg.rtd\",,\"StudyData\", \"Close(\"&$D$12&\") when LocalYear(\"&$D$12&\")=\"&$D$7&\" and localMonth(\"&$D$12&\") =\"&$E$7&\" and LocalDay(\"&$D$12&\")=\"&$F$7&\" and Barix(\"&$D$12&\",reference:=StartOfSession)=\"&A12&\"\", \"Bar\", \"\", \"Close\",\"5\",\"0\",\"PrimaryOnly\",,,\"False\",\"T\",\"EveryTick\")","v":392.87},6.0176175355936262E-3,{"$f":"RTD(\"cqg.rtd\",,\"StudyData\", \"Close(\"&$D$12&\") when LocalYear(\"&$D$12&\")=\"&$D$8&\" and localMonth(\"&$D$12&\") =\"&$E$8&\" and LocalDay(\"&$D$12&\")=\"&$F$8&\" and Barix(\"&$D$12&\",reference:=StartOfSession)=\"&A12&\"\", \"Bar\", \"\", \"Close\",\"5\",\"0\",\"PrimaryOnly\",,,\"False\",\"T\",\"EveryTick\")","v":396.73},-3.6415691395850838E-3,{"$f":"RTD(\"cqg.rtd\",,\"StudyData\", \"Close(\"&$D$12&\") when LocalYear(\"&$D$12&\")=\"&$D$9&\" and localMonth(\"&$D$12&\") =\"&$E$9&\" and LocalDay(\"&$D$12&\")=\"&$F$9&\" and Barix(\"&$D$12&\",reference:=StartOfSession)=\"&A12&\"\", \"Bar\", \"\", \"Close\",\"5\",\"0\",\"PrimaryOnly\",,,\"False\",\"T\",\"EveryTick\")","v":392.31},2.2481669774927714E-3,{"$f":"RTD(\"cqg.rtd\",,\"StudyData\", \"Close(\"&$D$12&\") when LocalYear(\"&$D$12&\")=\"&$D$10&\" and localMonth(\"&$D$12&\") =\"&$E$10&\" and LocalDay(\"&$D$12&\")=\"&$F$10&\" and Barix(\"&$D$12&\",reference:=StartOfSession)=\"&A12&\"\", \"Bar\", \"\", \"Close\",\"5\",\"0\",\"PrimaryOnly\",,,\"False\",\"T\",\"EveryTick\")","v":394.37},-2.6554043801527774E-3,null,{"$f":"VLOOKUP(MAX(AE2:AE81),A1:B81,2,FALSE)","v":"10:20:00"},null,""]
[12,"09:30:00",null,{"$f":"RTD(\"cqg.rtd\", ,\"ContractData\",D12, \"LastQuoteToday\",, \"T\")","v":400.83},null,null,{"$f":"C1","v":"2018-07-13"},{"$f":"RTD(\"cqg.rtd\",,\"StudyData\", \"Close(\"&$D$12&\") when LocalYear(\"&$D$12&\")=\"&$D$1&\" and localMonth(\"&$D$12&\") =\"&$E$1&\" and LocalDay(\"&$D$12&\")=\"&$F$1&\" and Barix(\"&$D$12&\",reference:=StartOfSession)=\"&A13&\"\", \"Bar\", \"\", \"Close\",\"5\",\"0\",\"PrimaryOnly\",,,\"False\",\"T\",\"EveryTick\")","v":400.11},-3.2382103990326448E-2,{"$f":"RTD(\"cqg.rtd\",,\"StudyData\", \"Close(\"&$D$12&\") when LocalYear(\"&$D$12&\")=\"&$D$2&\" and localMonth(\"&$D$12&\") =\"&$E$2&\" and LocalDay(\"&$D$12&\")=\"&$F$2&\" and Barix(\"&$D$12&\",reference:=StartOfSession)=\"&A13&\"\", \"Bar\", \"\", \"Close\",\"5\",\"0\",\"PrimaryOnly\",,,\"False\",\"T\",\"EveryTick\")","v":410.77},-1.8822405350531462E-2,{"$f":"RTD(\"cqg.rtd\",,\"StudyData\", \"Close(\"&$D$12&\") when LocalYear(\"&$D$12&\")=\"&$D$3&\" and localMonth(\"&$D$12&\") =\"&$E$3&\" and LocalDay(\"&$D$12&\")=\"&$F$3&\" and Barix(\"&$D$12&\",reference:=StartOfSession)=\"&A13&\"\", \"Bar\", \"\", \"Close\",\"5\",\"0\",\"PrimaryOnly\",,,\"False\",\"T\",\"EveryTick\")","v":418.25},6.303683564709007E-3,{"$f":"RTD(\"cqg.rtd\",,\"StudyData\", \"Close(\"&$D$12&\") when LocalYear(\"&$D$12&\")=\"&$D$4&\" and localMonth(\"&$D$12&\") =\"&$E$4&\" and LocalDay(\"&$D$12&\")=\"&$F$4&\" and Barix(\"&$D$12&\",reference:=StartOfSession)=\"&A13&\"\", \"Bar\", \"\", \"Close\",\"5\",\"0\",\"PrimaryOnly\",,,\"False\",\"T\",\"EveryTick\")","v":416.54},-5.7999379430508308E-3,{"$f":"RTD(\"cqg.rtd\",,\"StudyData\", \"Close(\"&$D$12&\") when LocalYear(\"&$D$12&\")=\"&$D$5&\" and localMonth(\"&$D$12&\") =\"&$E$5&\" and LocalDay(\"&$D$12&\")=\"&$F$5&\" and Barix(\"&$D$12&\",reference:=StartOfSession)=\"&A13&\"\", \"Bar\", \"\", \"Close\",\"5\",\"0\",\"PrimaryOnly\",,,\"False\",\"T\",\"EveryTick\")","v":412.7},1.0900183710961393E-2,{"$f":"RTD(\"cqg.rtd\",,\"StudyData\", \"Close(\"&$D$12&\") when LocalYear(\"&$D$12&\")=\"&$D$6&\" and localMonth(\"&$D$12&\") =\"&$E$6&\" and LocalDay(\"&$D$12&\")=\"&$F$6&\" and Barix(\"&$D$12&\",reference:=StartOfSession)=\"&A13&\"\", \"Bar\", \"\", \"Close\",\"5\",\"0\",\"PrimaryOnly\",,,\"False\",\"T\",\"EveryTick\")","v":404.39},1.5060618991440549E-2,{"$f":"RTD(\"cqg.rtd\",,\"StudyData\", \"Close(\"&$D$12&\") when LocalYear(\"&$D$12&\")=\"&$D$7&\" and localMonth(\"&$D$12&\") =\"&$E$7&\" and LocalDay(\"&$D$12&\")=\"&$F$7&\" and Barix(\"&$D$12&\",reference:=StartOfSession)=\"&A13&\"\", \"Bar\", \"\", \"Close\",\"5\",\"0\",\"PrimaryOnly\",,,\"False\",\"T\",\"EveryTick\")","v":392.63},5.4030523404691531E-3,{"$f":"RTD(\"cqg.rtd\",,\"StudyData\", \"Close(\"&$D$12&\") when LocalYear(\"&$D$12&\")=\"&$D$8&\" and localMonth(\"&$D$12&\") =\"&$E$8&\" and LocalDay(\"&$D$12&\")=\"&$F$8&\" and Barix(\"&$D$12&\",reference:=StartOfSession)=\"&A13&\"\", \"Bar\", \"\", \"Close\",\"5\",\"0\",\"PrimaryOnly\",,,\"False\",\"T\",\"EveryTick\")","v":397.3},-2.2100557536792291E-3,{"$f":"RTD(\"cqg.rtd\",,\"StudyData\", \"Close(\"&$D$12&\") when LocalYear(\"&$D$12&\")=\"&$D$9&\" and localMonth(\"&$D$12&\") =\"&$E$9&\" and LocalDay(\"&$D$12&\")=\"&$F$9&\" and Barix(\"&$D$12&\",reference:=StartOfSession)=\"&A13&\"\", \"Bar\", \"\", \"Close\",\"5\",\"0\",\"PrimaryOnly\",,,\"False\",\"T\",\"EveryTick\")","v":391.97},1.3795570089160782E-3,{"$f":"RTD(\"cqg.rtd\",,\"StudyData\", \"Close(\"&$D$12&\") when LocalYear(\"&$D$12&\")=\"&$D$10&\" and localMonth(\"&$D$12&\") =\"&$E$10&\" and LocalDay(\"&$D$12&\")=\"&$F$10&\" and Barix(\"&$D$12&\",reference:=StartOfSession)=\"&A13&\"\", \"Bar\", \"\", \"Close\",\"5\",\"0\",\"PrimaryOnly\",,,\"False\",\"T\",\"EveryTick\")","v":394.38},-2.6301148146275362E-3,null,null,null,""]
[13,"09:35:00",null,{"$f":"RTD(\"cqg.rtd\", ,\"ContractData\",D12, \"LongDescription\",, \"T\")","v":"Netflix Inc"},null,null,{"$f":"C2","v":"2018-07-12"},{"$f":"RTD(\"cqg.rtd\",,\"StudyData\", \"Close(\"&$D$12&\") when LocalYear(\"&$D$12&\")=\"&$D$1&\" and localMonth(\"&$D$12&\") =\"&$E$1&\" and LocalDay(\"&$D$12&\")=\"&$F$1&\" and Barix(\"&$D$12&\",reference:=StartOfSession)=\"&A14&\"\", \"Bar\", \"\", \"Close\",\"5\",\"0\",\"PrimaryOnly\",,,\"False\",\"T\",\"EveryTick\")","v":401.38},-2.9310761789600979E-2,{"$f":"RTD(\"cqg.rtd\",,\"StudyData\", \"Close(\"&$D$12&\") when LocalYear(\"&$D$12&\")=\"&$D$2&\" and localMonth(\"&$D$12&\") =\"&$E$2&\" and LocalDay(\"&$D$12&\")=\"&$F$2&\" and Barix(\"&$D$12&\",reference:=StartOfSession)=\"&A14&\"\", \"Bar\", \"\", \"Close\",\"5\",\"0\",\"PrimaryOnly\",,,\"False\",\"T\",\"EveryTick\")","v":411.07},-1.8105816314343687E-2,{"$f":"RTD(\"cqg.rtd\",,\"StudyData\", \"Close(\"&$D$12&\") when LocalYear(\"&$D$12&\")=\"&$D$3&\" and localMonth(\"&$D$12&\") =\"&$E$3&\" and LocalDay(\"&$D$12&\")=\"&$F$3&\" and Barix(\"&$D$12&\",reference:=StartOfSession)=\"&A14&\"\", \"Bar\", \"\", \"Close\",\"5\",\"0\",\"PrimaryOnly\",,,\"False\",\"T\",\"EveryTick\")","v":419.2},8.589370353439341E-3,{"$f":"RTD(\"cqg.rtd\",,\"StudyData\", \"Close(\"&$D$12&\") when LocalYear(\"&$D$12&\")=\"&$D$4&\" and localMonth(\"&$D$12&\") =\"&$E$4&\" and LocalDay(\"&$D$12&\")=\"&$F$4&\" and Barix(\"&$D$12&\",reference:=StartOfSession)=\"&A14&\"\", \"Bar\", \"\", \"Close\",\"5\",\"0\",\"PrimaryOnly\",,,\"False\",\"T\",\"EveryTick\")","v":416.82},-5.1316323364442177E-3,{"$f":"RTD(\"cqg.rtd\",,\"StudyData\", \"Close(\"&$D$12&\") when LocalYear(\"&$D$12&\")=\"&$D$5&\" and localMonth(\"&$D$12&\") =\"&$E$5&\" and LocalDay(\"&$D$12&\")=\"&$F$5&\" and Barix(\"&$D$12&\",reference:=StartOfSession)=\"&A14&\"\", \"Bar\", \"\", \"Close\",\"5\",\"0\",\"PrimaryOnly\",,,\"False\",\"T\",\"EveryTick\")","v":413.82},1.3643600734843829E-2,{"$f":"RTD(\"cqg.rtd\",,\"StudyData\", \"Close(\"&$D$12&\") when LocalYear(\"&$D$12&\")=\"&$D$6&\" and localMonth(\"&$D$12&\") =\"&$E$6&\" and LocalDay(\"&$D$12&\")=\"&$F$6&\" and Barix(\"&$D$12&\",reference:=StartOfSession)=\"&A14&\"\", \"Bar\", \"\", \"Close\",\"5\",\"0\",\"PrimaryOnly\",,,\"False\",\"T\",\"EveryTick\")","v":404.63},1.5663043751098192E-2,{"$f":"RTD(\"cqg.rtd\",,\"StudyData\", \"Close(\"&$D$12&\") when LocalYear(\"&$D$12&\")=\"&$D$7&\" and localMonth(\"&$D$12&\") =\"&$E$7&\" and LocalDay(\"&$D$12&\")=\"&$F$7&\" and Barix(\"&$D$12&\",reference:=StartOfSession)=\"&A14&\"\", \"Bar\", \"\", \"Close\",\"5\",\"0\",\"PrimaryOnly\",,,\"False\",\"T\",\"EveryTick\")","v":391.01},1.2547372733791077E-3,{"$f":"RTD(\"cqg.rtd\",,\"StudyData\", \"Close(\"&$D$12&\") when LocalYear(\"&$D$12&\")=\"&$D$8&\" and localMonth(\"&$D$12&\") =\"&$E$8&\" and LocalDay(\"&$D$12&\")=\"&$F$8&\" and Barix(\"&$D$12&\",reference:=StartOfSession)=\"&A14&\"\", \"Bar\", \"\", \"Close\",\"5\",\"0\",\"PrimaryOnly\",,,\"False\",\"T\",\"EveryTick\")","v":397.77},-1.0296850670551635E-3,{"$f":"RTD(\"cqg.rtd\",,\"StudyData\", \"Close(\"&$D$12&\") when LocalYear(\"&$D$12&\")=\"&$D$9&\" and localMonth(\"&$D$12&\") =\"&$E$9&\" and LocalDay(\"&$D$12&\")=\"&$F$9&\" and Barix(\"&$D$12&\",reference:=StartOfSession)=\"&A14&\"\", \"Bar\", \"\", \"Close\",\"5\",\"0\",\"PrimaryOnly\",,,\"False\",\"T\",\"EveryTick\")","v":392.72},3.2956084101883362E-3,{"$f":"RTD(\"cqg.rtd\",,\"StudyData\", \"Close(\"&$D$12&\") when LocalYear(\"&$D$12&\")=\"&$D$10&\" and localMonth(\"&$D$12&\") =\"&$E$10&\" and LocalDay(\"&$D$12&\")=\"&$F$10&\" and Barix(\"&$D$12&\",reference:=StartOfSession)=\"&A14&\"\", \"Bar\", \"\", \"Close\",\"5\",\"0\",\"PrimaryOnly\",,,\"False\",\"T\",\"EveryTick\")","v":394.81},-1.5426634970411553E-3,null,null,null,""]
[14,"09:40:00","",null,null,null,"2018-07-11",{"$f":"RTD(\"cqg.rtd\",,\"StudyData\", \"Close(\"&$D$12&\") when LocalYear(\"&$D$12&\")=\"&$D$1&\" and localMonth(\"&$D$12&\") =\"&$E$1&\" and LocalDay(\"&$D$12&\")=\"&$F$1&\" and Barix(\"&$D$12&\",reference:=StartOfSession)=\"&A15&\"\", \"Bar\", \"\", \"Close\",\"5\",\"0\",\"PrimaryOnly\",,,\"False\",\"T\",\"EveryTick\")","v":400.2},-3.216444981862155E-2,{"$f":"RTD(\"cqg.rtd\",,\"StudyData\", \"Close(\"&$D$12&\") when LocalYear(\"&$D$12&\")=\"&$D$2&\" and localMonth(\"&$D$12&\") =\"&$E$2&\" and LocalDay(\"&$D$12&\")=\"&$F$2&\" and Barix(\"&$D$12&\",reference:=StartOfSession)=\"&A15&\"\", \"Bar\", \"\", \"Close\",\"5\",\"0\",\"PrimaryOnly\",,,\"False\",\"T\",\"EveryTick\")","v":410.84},-1.8655201242087669E-2,{"$f":"RTD(\"cqg.rtd\",,\"StudyData\", \"Close(\"&$D$12&\") when LocalYear(\"&$D$12&\")=\"&$D$3&\" and localMonth(\"&$D$12&\") =\"&$E$3&\" and LocalDay(\"&$D$12&\")=\"&$F$3&\" and Barix(\"&$D$12&\",reference:=StartOfSession)=\"&A15&\"\", \"Bar\", \"\", \"Close\",\"5\",\"0\",\"PrimaryOnly\",,,\"False\",\"T\",\"EveryTick\")","v":418.06},5.84654620696294E-3,{"$f":"RTD(\"cqg.rtd\",,\"StudyData\", \"Close(\"&$D$12&\") when LocalYear(\"&$D$12&\")=\"&$D$4&\" and localMonth(\"&$D$12&\") =\"&$E$4&\" and LocalDay(\"&$D$12&\")=\"&$F$4&\" and Barix(\"&$D$12&\",reference:=StartOfSession)=\"&A15&\"\", \"Bar\", \"\", \"Close\",\"5\",\"0\",\"PrimaryOnly\",,,\"False\",\"T\",\"EveryTick\")","v":417.12},-4.4155906150798929E-3,{"$f":"RTD(\"cqg.rtd\",,\"StudyData\", \"Close(\"&$D$12&\") when LocalYear(\"&$D$12&\")=\"&$D$5&\" and localMonth(\"&$D$12&\") =\"&$E$5&\" and LocalDay(\"&$D$12&\")=\"&$F$5&\" and Barix(\"&$D$12&\",reference:=StartOfSession)=\"&A15&\"\", \"Bar\", \"\", \"Close\",\"5\",\"0\",\"PrimaryOnly\",,,\"False\",\"T\",\"EveryTick\")","v":413.79},1.3570116350275616E-2,{"$f":"RTD(\"cqg.rtd\",,\"StudyData\", \"Close(\"&$D$12&\") when LocalYear(\"&$D$12&\")=\"&$D$6&\" and localMonth(\"&$D$12&\") =\"&$E$6&\" and LocalDay(\"&$D$12&\")=\"&$F$6&\" and Barix(\"&$D$12&\",reference:=StartOfSession)=\"&A15&\"\", \"Bar\", \"\", \"Close\",\"5\",\"0\",\"PrimaryOnly\",,,\"False\",\"T\",\"EveryTick\")","v":404.87},1.6265468510755839E-2,{"$f":"RTD(\"cqg.rtd\",,\"StudyData\", \"Close(\"&$D$12&\") when LocalYear(\"&$D$12&\")=\"&$D$7&\" and localMonth(\"&$D$12&\") =\"&$E$7&\" and LocalDay(\"&$D$12&\")=\"&$F$7&\" and Barix(\"&$D$12&\",reference:=StartOfSession)=\"&A15&\"\", \"Bar\", \"\", \"Close\",\"5\",\"0\",\"PrimaryOnly\",,,\"False\",\"T\",\"EveryTick\")","v":392.96},6.2480794837652303E-3,{"$f":"RTD(\"cqg.rtd\",,\"StudyData\", \"Close(\"&$D$12&\") when LocalYear(\"&$D$12&\")=\"&$D$8&\" and localMonth(\"&$D$12&\") =\"&$E$8&\" and LocalDay(\"&$D$12&\")=\"&$F$8&\" and Barix(\"&$D$12&\",reference:=StartOfSession)=\"&A15&\"\", \"Bar\", \"\", \"Close\",\"5\",\"0\",\"PrimaryOnly\",,,\"False\",\"T\",\"EveryTick\")","v":396.8},-3.4657692500878884E-3,{"$f":"RTD(\"cqg.rtd\",,\"StudyData\", \"Close(\"&$D$12&\") when LocalYear(\"&$D$12&\")=\"&$D$9&\" and localMonth(\"&$D$12&\") =\"&$E$9&\" and LocalDay(\"&$D$12&\")=\"&$F$9&\" and Barix(\"&$D$12&\",reference:=StartOfSession)=\"&A15&\"\", \"Bar\", \"\", \"Close\",\"5\",\"0\",\"PrimaryOnly\",,,\"False\",\"T\",\"EveryTick\")","v":392.43},2.5547352016963443E-3,{"$f":"RTD(\"cqg.rtd\",,\"StudyData\", \"Close(\"&$D$12&\") when LocalYear(\"&$D$12&\")=\"&$D$10&\" and localMonth(\"&$D$12&\") =\"&$E$10&\" and LocalDay(\"&$D$12&\")=\"&$F$10&\" and Barix(\"&$D$12&\",reference:=StartOfSession)=\"&A15&\"\", \"Bar\", \"\", \"Close\",\"5\",\"0\",\"PrimaryOnly\",,,\"False\",\"T\",\"EveryTick\")","v":393.75},-4.2233574427191743E-3,null,null,null,""]
[15,"09:45:00",null,{"$f":"RTD(\"cqg.rtd\", ,\"ContractData\",D12, \"Ticksize\",, \"T\")","v":0.01},null,null,"2018-07-10",{"$f":"RTD(\"cqg.rtd\",,\"StudyData\", \"Close(\"&$D$12&\") when LocalYear(\"&$D$12&\")=\"&$D$1&\" and localMonth(\"&$D$12&\") =\"&$E$1&\" and LocalDay(\"&$D$12&\")=\"&$F$1&\" and Barix(\"&$D$12&\",reference:=StartOfSession)=\"&A16&\"\", \"Bar\", \"\", \"Close\",\"5\",\"0\",\"PrimaryOnly\",,,\"False\",\"T\",\"EveryTick\")","v":400.21},-3.2140266021765465E-2,{"$f":"RTD(\"cqg.rtd\",,\"StudyData\", \"Close(\"&$D$12&\") when LocalYear(\"&$D$12&\")=\"&$D$2&\" and localMonth(\"&$D$12&\") =\"&$E$2&\" and LocalDay(\"&$D$12&\")=\"&$F$2&\" and Barix(\"&$D$12&\",reference:=StartOfSession)=\"&A16&\"\", \"Bar\", \"\", \"Close\",\"5\",\"0\",\"PrimaryOnly\",,,\"False\",\"T\",\"EveryTick\")","v":410.98},-1.8320793025199952E-2,{"$f":"RTD(\"cqg.rtd\",,\"StudyData\", \"Close(\"&$D$12&\") when LocalYear(\"&$D$12&\")=\"&$D$3&\" and localMonth(\"&$D$12&\") =\"&$E$3&\" and LocalDay(\"&$D$12&\")=\"&$F$3&\" and Barix(\"&$D$12&\",reference:=StartOfSession)=\"&A16&\"\", \"Bar\", \"\", \"Close\",\"5\",\"0\",\"PrimaryOnly\",,,\"False\",\"T\",\"EveryTick\")","v":417.92},5.50970815388692E-3,{"$f":"RTD(\"cqg.rtd\",,\"StudyData\", \"Close(\"&$D$12&\") when LocalYear(\"&$D$12&\")=\"&$D$4&\" and localMonth(\"&$D$12&\") =\"&$E$4&\" and LocalDay(\"&$D$12&\")=\"&$F$4&\" and Barix(\"&$D$12&\",reference:=StartOfSession)=\"&A16&\"\", \"Bar\", \"\", \"Close\",\"5\",\"0\",\"PrimaryOnly\",,,\"False\",\"T\",\"EveryTick\")","v":416.29},-6.3966393775210795E-3,{"$f":"RTD(\"cqg.rtd\",,\"StudyData\", \"Close(\"&$D$12&\") when LocalYear(\"&$D$12&\")=\"&$D$5&\" and localMonth(\"&$D$12&\") =\"&$E$5&\" and LocalDay(\"&$D$12&\")=\"&$F$5&\" and Barix(\"&$D$12&\",reference:=StartOfSession)=\"&A16&\"\", \"Bar\", \"\", \"Close\",\"5\",\"0\",\"PrimaryOnly\",,,\"False\",\"T\",\"EveryTick\")","v":413.21},1.2149418248622118E-2,{"$f":"RTD(\"cqg.rtd\",,\"StudyData\", \"Close(\"&$D$12&\") when LocalYear(\"&$D$12&\")=\"&$D$6&\" and localMonth(\"&$D$12&\") =\"&$E$6&\" and LocalDay(\"&$D$12&\")=\"&$F$6&\" and Barix(\"&$D$12&\",reference:=StartOfSession)=\"&A16&\"\", \"Bar\", \"\", \"Close\",\"5\",\"0\",\"PrimaryOnly\",,,\"False\",\"T\",\"EveryTick\")","v":404.81},1.6114862320841427E-2,{"$f":"RTD(\"cqg.rtd\",,\"StudyData\", \"Close(\"&$D$12&\") when LocalYear(\"&$D$12&\")=\"&$D$7&\" and localMonth(\"&$D$12&\") =\"&$E$7&\" and LocalDay(\"&$D$12&\")=\"&$F$7&\" and Barix(\"&$D$12&\",reference:=StartOfSession)=\"&A16&\"\", \"Bar\", \"\", \"Close\",\"5\",\"0\",\"PrimaryOnly\",,,\"False\",\"T\",\"EveryTick\")","v":393.32},7.1699272764519399E-3,{"$f":"RTD(\"cqg.rtd\",,\"StudyData\", \"Close(\"&$D$12&\") when LocalYear(\"&$D$12&\")=\"&$D$8&\" and localMonth(\"&$D$12&\") =\"&$E$8&\" and LocalDay(\"&$D$12&\")=\"&$F$8&\" and Barix(\"&$D$12&\",reference:=StartOfSession)=\"&A16&\"\", \"Bar\", \"\", \"Close\",\"5\",\"0\",\"PrimaryOnly\",,,\"False\",\"T\",\"EveryTick\")","v":395.96},-5.5753679240545164E-3,{"$f":"RTD(\"cqg.rtd\",,\"StudyData\", \"Close(\"&$D$12&\") when LocalYear(\"&$D$12&\")=\"&$D$9&\" and localMonth(\"&$D$12&\") =\"&$E$9&\" and LocalDay(\"&$D$12&\")=\"&$F$9&\" and Barix(\"&$D$12&\",reference:=StartOfSession)=\"&A16&\"\", \"Bar\", \"\", \"Close\",\"5\",\"0\",\"PrimaryOnly\",,,\"False\",\"T\",\"EveryTick\")","v":391.79},9.1970467261071878E-4,{"$f":"RTD(\"cqg.rtd\",,\"StudyData\", \"Close(\"&$D$12&\") when LocalYear(\"&$D$12&\")=\"&$D$10&\" and localMonth(\"&$D$12&\") =\"&$E$10&\" and LocalDay(\"&$D$12&\")=\"&$F$10&\" and Barix(\"&$D$12&\",reference:=StartOfSession)=\"&A16&\"\", \"Bar\", \"\", \"Close\",\"5\",\"0\",\"PrimaryOnly\",,,\"False\",\"T\",\"EveryTick\")","v":394.04},-3.4899600424864586E-3,null,null,null,""]
[16,"09:50:00",null,{"$f":"IF(D16>=1,0,IF(LEN(D16)-2=1,2,LEN(D16)-2))","v":2},null,{"$f":"VLOOKUP(D17,D18:E25,2,FALSE)","v":"#.00"},"2018-07-09",{"$f":"RTD(\"cqg.rtd\",,\"StudyData\", \"Close(\"&$D$12&\") when LocalYear(\"&$D$12&\")=\"&$D$1&\" and localMonth(\"&$D$12&\") =\"&$E$1&\" and LocalDay(\"&$D$12&\")=\"&$F$1&\" and Barix(\"&$D$12&\",reference:=StartOfSession)=\"&A17&\"\", \"Bar\", \"\", \"Close\",\"5\",\"0\",\"PrimaryOnly\",,,\"False\",\"T\",\"EveryTick\")","v":401.05},-3.0108827085852451E-2,{"$f":"RTD(\"cqg.rtd\",,\"StudyData\", \"Close(\"&$D$12&\") when LocalYear(\"&$D$12&\")=\"&$D$2&\" and localMonth(\"&$D$12&\") =\"&$E$2&\" and LocalDay(\"&$D$12&\")=\"&$F$2&\" and Barix(\"&$D$12&\",reference:=StartOfSession)=\"&A17&\"\", \"Bar\", \"\", \"Close\",\"5\",\"0\",\"PrimaryOnly\",,,\"False\",\"T\",\"EveryTick\")","v":411.15},-1.791472590469366E-2,{"$f":"RTD(\"cqg.rtd\",,\"StudyData\", \"Close(\"&$D$12&\") when LocalYear(\"&$D$12&\")=\"&$D$3&\" and localMonth(\"&$D$12&\") =\"&$E$3&\" and LocalDay(\"&$D$12&\")=\"&$F$3&\" and Barix(\"&$D$12&\",reference:=StartOfSession)=\"&A17&\"\", \"Bar\", \"\", \"Close\",\"5\",\"0\",\"PrimaryOnly\",,,\"False\",\"T\",\"EveryTick\")","v":416.87},2.9834227558164935E-3,{"$f":"RTD(\"cqg.rtd\",,\"StudyData\", \"Close(\"&$D$12&\") when LocalYear(\"&$D$12&\")=\"&$D$4&\" and localMonth(\"&$D$12&\") =\"&$E$4&\" and LocalDay(\"&$D$12&\")=\"&$F$4&\" and Barix(\"&$D$12&\",reference:=StartOfSession)=\"&A17&\"\", \"Bar\", \"\", \"Close\",\"5\",\"0\",\"PrimaryOnly\",,,\"False\",\"T\",\"EveryTick\")","v":416.29},-6.3966393775210795E-3,{"$f":"RTD(\"cqg.rtd\",,\"StudyData\", \"Close(\"&$D$12&\") when LocalYear(\"&$D$12&\")=\"&$D$5&\" and localMonth(\"&$D$12&\") =\"&$E$5&\" and LocalDay(\"&$D$12&\")=\"&$F$5&\" and Barix(\"&$D$12&\",reference:=StartOfSession)=\"&A17&\"\", \"Bar\", \"\", \"Close\",\"5\",\"0\",\"PrimaryOnly\",,,\"False\",\"T\",\"EveryTick\")","v":414.31},1.4843845682792412E-2,{"$f":"RTD(\"cqg.rtd\",,\"StudyData\", \"Close(\"&$D$12&\") when LocalYear(\"&$D$12&\")=\"&$D$6&\" and localMonth(\"&$D$12&\") =\"&$E$6&\" and LocalDay(\"&$D$12&\")=\"&$F$6&\" and Barix(\"&$D$12&\",reference:=StartOfSession)=\"&A17&\"\", \"Bar\", \"\", \"Close\",\"5\",\"0\",\"PrimaryOnly\",,,\"False\",\"T\",\"EveryTick\")","v":404.96},1.6491377795627385E-2,{"$f":"RTD(\"cqg.rtd\",,\"StudyData\", \"Close(\"&$D$12&\") when LocalYear(\"&$D$12&\")=\"&$D$7&\" and localMonth(\"&$D$12&\") =\"&$E$7&\" and LocalDay(\"&$D$12&\")=\"&$F$7&\" and Barix(\"&$D$12&\",reference:=StartOfSession)=\"&A17&\"\", \"Bar\", \"\", \"Close\",\"5\",\"0\",\"PrimaryOnly\",,,\"False\",\"T\",\"EveryTick\")","v":392.29},4.5324183140429139E-3,{"$f":"RTD(\"cqg.rtd\",,\"StudyData\", \"Close(\"&$D$12&\") when LocalYear(\"&$D$12&\")=\"&$D$8&\" and localMonth(\"&$D$12&\") =\"&$E$8&\" and LocalDay(\"&$D$12&\")=\"&$F$8&\" and Barix(\"&$D$12&\",reference:=StartOfSession)=\"&A17&\"\", \"Bar\", \"\", \"Close\",\"5\",\"0\",\"PrimaryOnly\",,,\"False\",\"T\",\"EveryTick\")","v":395.3},-7.2329097393138662E-3,{"$f":"RTD(\"cqg.rtd\",,\"StudyData\", \"Close(\"&$D$12&\") when LocalYear(\"&$D$12&\")=\"&$D$9&\" and localMonth(\"&$D$12&\") =\"&$E$9&\" and LocalDay(\"&$D$12&\")=\"&$F$9&\" and Barix(\"&$D$12&\",reference:=StartOfSession)=\"&A17&\"\", \"Bar\", \"\", \"Close\",\"5\",\"0\",\"PrimaryOnly\",,,\"False\",\"T\",\"EveryTick\")","v":390.68},-1.916051401272258E-3,{"$f":"RTD(\"cqg.rtd\",,\"StudyData\", \"Close(\"&$D$12&\") when LocalYear(\"&$D$12&\")=\"&$D$10&\" and localMonth(\"&$D$12&\") =\"&$E$10&\" and LocalDay(\"&$D$12&\")=\"&$F$10&\" and Barix(\"&$D$12&\",reference:=StartOfSession)=\"&A17&\"\", \"Bar\", \"\", \"Close\",\"5\",\"0\",\"PrimaryOnly\",,,\"False\",\"T\",\"EveryTick\")","v":394.74},-1.7196904557179879E-3,null,null,null,""]
[17,"09:55:00",null,0,"#",null,"2018-07-06",{"$f":"RTD(\"cqg.rtd\",,\"StudyData\", \"Close(\"&$D$12&\") when LocalYear(\"&$D$12&\")=\"&$D$1&\" and localMonth(\"&$D$12&\") =\"&$E$1&\" and LocalDay(\"&$D$12&\")=\"&$F$1&\" and Barix(\"&$D$12&\",reference:=StartOfSession)=\"&A18&\"\", \"Bar\", \"\", \"Close\",\"5\",\"0\",\"PrimaryOnly\",,,\"False\",\"T\",\"EveryTick\")","v":399.76},-3.3228536880290226E-2,{"$f":"RTD(\"cqg.rtd\",,\"StudyData\", \"Close(\"&$D$12&\") when LocalYear(\"&$D$12&\")=\"&$D$2&\" and localMonth(\"&$D$12&\") =\"&$E$2&\" and LocalDay(\"&$D$12&\")=\"&$F$2&\" and Barix(\"&$D$12&\",reference:=StartOfSession)=\"&A18&\"\", \"Bar\", \"\", \"Close\",\"5\",\"0\",\"PrimaryOnly\",,,\"False\",\"T\",\"EveryTick\")","v":410.61},-1.9204586169831516E-2,{"$f":"RTD(\"cqg.rtd\",,\"StudyData\", \"Close(\"&$D$12&\") when LocalYear(\"&$D$12&\")=\"&$D$3&\" and localMonth(\"&$D$12&\") =\"&$E$3&\" and LocalDay(\"&$D$12&\")=\"&$F$3&\" and Barix(\"&$D$12&\",reference:=StartOfSession)=\"&A18&\"\", \"Bar\", \"\", \"Close\",\"5\",\"0\",\"PrimaryOnly\",,,\"False\",\"T\",\"EveryTick\")","v":417.49},4.47513413372474E-3,{"$f":"RTD(\"cqg.rtd\",,\"StudyData\", \"Close(\"&$D$12&\") when LocalYear(\"&$D$12&\")=\"&$D$4&\" and localMonth(\"&$D$12&\") =\"&$E$4&\" and LocalDay(\"&$D$12&\")=\"&$F$4&\" and Barix(\"&$D$12&\",reference:=StartOfSession)=\"&A18&\"\", \"Bar\", \"\", \"Close\",\"5\",\"0\",\"PrimaryOnly\",,,\"False\",\"T\",\"EveryTick\")","v":417.58},-3.3176599756546844E-3,{"$f":"RTD(\"cqg.rtd\",,\"StudyData\", \"Close(\"&$D$12&\") when LocalYear(\"&$D$12&\")=\"&$D$5&\" and localMonth(\"&$D$12&\") =\"&$E$5&\" and LocalDay(\"&$D$12&\")=\"&$F$5&\" and Barix(\"&$D$12&\",reference:=StartOfSession)=\"&A18&\"\", \"Bar\", \"\", \"Close\",\"5\",\"0\",\"PrimaryOnly\",,,\"False\",\"T\",\"EveryTick\")","v":413.71},1.3374157991426772E-2,{"$f":"RTD(\"cqg.rtd\",,\"StudyData\", \"Close(\"&$D$12&\") when LocalYear(\"&$D$12&\")=\"&$D$6&\" and localMonth(\"&$D$12&\") =\"&$E$6&\" and LocalDay(\"&$D$12&\")=\"&$F$6&\" and Barix(\"&$D$12&\",reference:=StartOfSession)=\"&A18&\"\", \"Bar\", \"\", \"Close\",\"5\",\"0\",\"PrimaryOnly\",,,\"False\",\"T\",\"EveryTick\")","v":404.74},1.5939155099274637E-2,{"$f":"RTD(\"cqg.rtd\",,\"StudyData\", \"Close(\"&$D$12&\") when LocalYear(\"&$D$12&\")=\"&$D$7&\" and localMonth(\"&$D$12&\") =\"&$E$7&\" and LocalDay(\"&$D$12&\")=\"&$F$7&\" and Barix(\"&$D$12&\",reference:=StartOfSession)=\"&A18&\"\", \"Bar\", \"\", \"Close\",\"5\",\"0\",\"PrimaryOnly\",,,\"False\",\"T\",\"EveryTick\")","v":392.41},4.8397009116051505E-3,{"$f":"RTD(\"cqg.rtd\",,\"StudyData\", \"Close(\"&$D$12&\") when LocalYear(\"&$D$12&\")=\"&$D$8&\" and localMonth(\"&$D$12&\") =\"&$E$8&\" and LocalDay(\"&$D$12&\")=\"&$F$8&\" and Barix(\"&$D$12&\",reference:=StartOfSession)=\"&A18&\"\", \"Bar\", \"\", \"Close\",\"5\",\"0\",\"PrimaryOnly\",,,\"False\",\"T\",\"EveryTick\")","v":395.6},-6.4794816414686426E-3,{"$f":"RTD(\"cqg.rtd\",,\"StudyData\", \"Close(\"&$D$12&\") when LocalYear(\"&$D$12&\")=\"&$D$9&\" and localMonth(\"&$D$12&\") =\"&$E$9&\" and LocalDay(\"&$D$12&\")=\"&$F$9&\" and Barix(\"&$D$12&\",reference:=StartOfSession)=\"&A18&\"\", \"Bar\", \"\", \"Close\",\"5\",\"0\",\"PrimaryOnly\",,,\"False\",\"T\",\"EveryTick\")","v":390.8},-1.6094831770686851E-3,{"$f":"RTD(\"cqg.rtd\",,\"StudyData\", \"Close(\"&$D$12&\") when LocalYear(\"&$D$12&\")=\"&$D$10&\" and localMonth(\"&$D$12&\") =\"&$E$10&\" and LocalDay(\"&$D$12&\")=\"&$F$10&\" and Barix(\"&$D$12&\",reference:=StartOfSession)=\"&A18&\"\", \"Bar\", \"\", \"Close\",\"5\",\"0\",\"PrimaryOnly\",,,\"False\",\"T\",\"EveryTick\")","v":394.2},-3.0853269940823106E-3,null,null,null,""]
[18,"10:00:00",null,1,"#.0",null,"2018-07-05",{"$f":"RTD(\"cqg.rtd\",,\"StudyData\", \"Close(\"&$D$12&\") when LocalYear(\"&$D$12&\")=\"&$D$1&\" and localMonth(\"&$D$12&\") =\"&$E$1&\" and LocalDay(\"&$D$12&\")=\"&$F$1&\" and Barix(\"&$D$12&\",reference:=StartOfSession)=\"&A19&\"\", \"Bar\", \"\", \"Close\",\"5\",\"0\",\"PrimaryOnly\",,,\"False\",\"T\",\"EveryTick\")","v":400.22},-3.2116082224909248E-2,{"$f":"RTD(\"cqg.rtd\",,\"StudyData\", \"Close(\"&$D$12&\") when LocalYear(\"&$D$12&\")=\"&$D$2&\" and localMonth(\"&$D$12&\") =\"&$E$2&\" and LocalDay(\"&$D$12&\")=\"&$F$2&\" and Barix(\"&$D$12&\",reference:=StartOfSession)=\"&A19&\"\", \"Bar\", \"\", \"Close\",\"5\",\"0\",\"PrimaryOnly\",,,\"False\",\"T\",\"EveryTick\")","v":410.69},-1.9013495760181489E-2,{"$f":"RTD(\"cqg.rtd\",,\"StudyData\", \"Close(\"&$D$12&\") when LocalYear(\"&$D$12&\")=\"&$D$3&\" and localMonth(\"&$D$12&\") =\"&$E$3&\" and LocalDay(\"&$D$12&\")=\"&$F$3&\" and Barix(\"&$D$12&\",reference:=StartOfSession)=\"&A19&\"\", \"Bar\", \"\", \"Close\",\"5\",\"0\",\"PrimaryOnly\",,,\"False\",\"T\",\"EveryTick\")","v":416.28},1.5638909607101925E-3,{"$f":"RTD(\"cqg.rtd\",,\"StudyData\", \"Close(\"&$D$12&\") when LocalYear(\"&$D$12&\")=\"&$D$4&\" and localMonth(\"&$D$12&\") =\"&$E$4&\" and LocalDay(\"&$D$12&\")=\"&$F$4&\" and Barix(\"&$D$12&\",reference:=StartOfSession)=\"&A19&\"\", \"Bar\", \"\", \"Close\",\"5\",\"0\",\"PrimaryOnly\",,,\"False\",\"T\",\"EveryTick\")","v":418.1},-2.0765209919564754E-3,{"$f":"RTD(\"cqg.rtd\",,\"StudyData\", \"Close(\"&$D$12&\") when LocalYear(\"&$D$12&\")=\"&$D$5&\" and localMonth(\"&$D$12&\") =\"&$E$5&\" and LocalDay(\"&$D$12&\")=\"&$F$5&\" and Barix(\"&$D$12&\",reference:=StartOfSession)=\"&A19&\"\", \"Bar\", \"\", \"Close\",\"5\",\"0\",\"PrimaryOnly\",,,\"False\",\"T\",\"EveryTick\")","v":414.6},1.5554194733619162E-2,{"$f":"RTD(\"cqg.rtd\",,\"StudyData\", \"Close(\"&$D$12&\") when LocalYear(\"&$D$12&\")=\"&$D$6&\" and localMonth(\"&$D$12&\") =\"&$E$6&\" and LocalDay(\"&$D$12&\")=\"&$F$6&\" and Barix(\"&$D$12&\",reference:=StartOfSession)=\"&A19&\"\", \"Bar\", \"\", \"Close\",\"5\",\"0\",\"PrimaryOnly\",,,\"False\",\"T\",\"EveryTick\")","v":404.69},1.5813649941012604E-2,{"$f":"RTD(\"cqg.rtd\",,\"StudyData\", \"Close(\"&$D$12&\") when LocalYear(\"&$D$12&\")=\"&$D$7&\" and localMonth(\"&$D$12&\") =\"&$E$7&\" and LocalDay(\"&$D$12&\")=\"&$F$7&\" and Barix(\"&$D$12&\",reference:=StartOfSession)=\"&A19&\"\", \"Bar\", \"\", \"Close\",\"5\",\"0\",\"PrimaryOnly\",,,\"False\",\"T\",\"EveryTick\")","v":391.95},3.6617842876165291E-3,{"$f":"RTD(\"cqg.rtd\",,\"StudyData\", \"Close(\"&$D$12&\") when LocalYear(\"&$D$12&\")=\"&$D$8&\" and localMonth(\"&$D$12&\") =\"&$E$8&\" and LocalDay(\"&$D$12&\")=\"&$F$8&\" and Barix(\"&$D$12&\",reference:=StartOfSession)=\"&A19&\"\", \"Bar\", \"\", \"Close\",\"5\",\"0\",\"PrimaryOnly\",,,\"False\",\"T\",\"EveryTick\")","v":396.6},-3.968054648651324E-3,{"$f":"RTD(\"cqg.rtd\",,\"StudyData\", \"Close(\"&$D$12&\") when LocalYear(\"&$D$12&\")=\"&$D$9&\" and localMonth(\"&$D$12&\") =\"&$E$9&\" and LocalDay(\"&$D$12&\")=\"&$F$9&\" and Barix(\"&$D$12&\",reference:=StartOfSession)=\"&A19&\"\", \"Bar\", \"\", \"Close\",\"5\",\"0\",\"PrimaryOnly\",,,\"False\",\"T\",\"EveryTick\")","v":391.69},6.6423115244102621E-4,{"$f":"RTD(\"cqg.rtd\",,\"StudyData\", \"Close(\"&$D$12&\") when LocalYear(\"&$D$12&\")=\"&$D$10&\" and localMonth(\"&$D$12&\") =\"&$E$10&\" and LocalDay(\"&$D$12&\")=\"&$F$10&\" and Barix(\"&$D$12&\",reference:=StartOfSession)=\"&A19&\"\", \"Bar\", \"\", \"Close\",\"5\",\"0\",\"PrimaryOnly\",,,\"False\",\"T\",\"EveryTick\")","v":393.8},-4.096909615092824E-3,null,null,null,""]
[19,"10:05:00",null,2,"#.00",null,"2018-07-03",{"$f":"RTD(\"cqg.rtd\",,\"StudyData\", \"Close(\"&$D$12&\") when LocalYear(\"&$D$12&\")=\"&$D$1&\" and localMonth(\"&$D$12&\") =\"&$E$1&\" and LocalDay(\"&$D$12&\")=\"&$F$1&\" and Barix(\"&$D$12&\",reference:=StartOfSession)=\"&A20&\"\", \"Bar\", \"\", \"Close\",\"5\",\"0\",\"PrimaryOnly\",,,\"False\",\"T\",\"EveryTick\")","v":400.07},-3.2478839177750921E-2,{"$f":"RTD(\"cqg.rtd\",,\"StudyData\", \"Close(\"&$D$12&\") when LocalYear(\"&$D$12&\")=\"&$D$2&\" and localMonth(\"&$D$12&\") =\"&$E$2&\" and LocalDay(\"&$D$12&\")=\"&$F$2&\" and Barix(\"&$D$12&\",reference:=StartOfSession)=\"&A20&\"\", \"Bar\", \"\", \"Close\",\"5\",\"0\",\"PrimaryOnly\",,,\"False\",\"T\",\"EveryTick\")","v":409.09},-2.2835303953182857E-2,{"$f":"RTD(\"cqg.rtd\",,\"StudyData\", \"Close(\"&$D$12&\") when LocalYear(\"&$D$12&\")=\"&$D$3&\" and localMonth(\"&$D$12&\") =\"&$E$3&\" and LocalDay(\"&$D$12&\")=\"&$F$3&\" and Barix(\"&$D$12&\",reference:=StartOfSession)=\"&A20&\"\", \"Bar\", \"\", \"Close\",\"5\",\"0\",\"PrimaryOnly\",,,\"False\",\"T\",\"EveryTick\")","v":416.5},2.0932079012583415E-3,{"$f":"RTD(\"cqg.rtd\",,\"StudyData\", \"Close(\"&$D$12&\") when LocalYear(\"&$D$12&\")=\"&$D$4&\" and localMonth(\"&$D$12&\") =\"&$E$4&\" and LocalDay(\"&$D$12&\")=\"&$F$4&\" and Barix(\"&$D$12&\",reference:=StartOfSession)=\"&A20&\"\", \"Bar\", \"\", \"Close\",\"5\",\"0\",\"PrimaryOnly\",,,\"False\",\"T\",\"EveryTick\")","v":418.59},-9.0698618039490239E-4,{"$f":"RTD(\"cqg.rtd\",,\"StudyData\", \"Close(\"&$D$12&\") when LocalYear(\"&$D$12&\")=\"&$D$5&\" and localMonth(\"&$D$12&\") =\"&$E$5&\" and LocalDay(\"&$D$12&\")=\"&$F$5&\" and Barix(\"&$D$12&\",reference:=StartOfSession)=\"&A20&\"\", \"Bar\", \"\", \"Close\",\"5\",\"0\",\"PrimaryOnly\",,,\"False\",\"T\",\"EveryTick\")","v":414.22},1.4623392529087635E-2,{"$f":"RTD(\"cqg.rtd\",,\"StudyData\", \"Close(\"&$D$12&\") when LocalYear(\"&$D$12&\")=\"&$D$6&\" and localMonth(\"&$D$12&\") =\"&$E$6&\" and LocalDay(\"&$D$12&\")=\"&$F$6&\" and Barix(\"&$D$12&\",reference:=StartOfSession)=\"&A20&\"\", \"Bar\", \"\", \"Close\",\"5\",\"0\",\"PrimaryOnly\",,,\"False\",\"T\",\"EveryTick\")","v":404.25},1.4709204548306969E-2,{"$f":"RTD(\"cqg.rtd\",,\"StudyData\", \"Close(\"&$D$12&\") when LocalYear(\"&$D$12&\")=\"&$D$7&\" and localMonth(\"&$D$12&\") =\"&$E$7&\" and LocalDay(\"&$D$12&\")=\"&$F$7&\" and Barix(\"&$D$12&\",reference:=StartOfSession)=\"&A20&\"\", \"Bar\", \"\", \"Close\",\"5\",\"0\",\"PrimaryOnly\",,,\"False\",\"T\",\"EveryTick\")","v":392.42},4.8653077947353124E-3,{"$f":"RTD(\"cqg.rtd\",,\"StudyData\", \"Close(\"&$D$12&\") when LocalYear(\"&$D$12&\")=\"&$D$8&\" and localMonth(\"&$D$12&\") =\"&$E$8&\" and LocalDay(\"&$D$12&\")=\"&$F$8&\" and Barix(\"&$D$12&\",reference:=StartOfSession)=\"&A20&\"\", \"Bar\", \"\", \"Close\",\"5\",\"0\",\"PrimaryOnly\",,,\"False\",\"T\",\"EveryTick\")","v":395.93},-5.6507107338389668E-3,{"$f":"RTD(\"cqg.rtd\",,\"StudyData\", \"Close(\"&$D$12&\") when LocalYear(\"&$D$12&\")=\"&$D$9&\" and localMonth(\"&$D$12&\") =\"&$E$9&\" and LocalDay(\"&$D$12&\")=\"&$F$9&\" and Barix(\"&$D$12&\",reference:=StartOfSession)=\"&A20&\"\", \"Bar\", \"\", \"Close\",\"5\",\"0\",\"PrimaryOnly\",,,\"False\",\"T\",\"EveryTick\")","v":392.1},1.7116725851365913E-3,{"$f":"RTD(\"cqg.rtd\",,\"StudyData\", \"Close(\"&$D$12&\") when LocalYear(\"&$D$12&\")=\"&$D$10&\" and localMonth(\"&$D$12&\") =\"&$E$10&\" and LocalDay(\"&$D$12&\")=\"&$F$10&\" and Barix(\"&$D$12&\",reference:=StartOfSession)=\"&A20&\"\", \"Bar\", \"\", \"Close\",\"5\",\"0\",\"PrimaryOnly\",,,\"False\",\"T\",\"EveryTick\")","v":394.78},-1.6185321936170228E-3,null,null,null,""]
[20,"10:10:00",null,3,"#.000",null,"2018-07-02",{"$f":"RTD(\"cqg.rtd\",,\"StudyData\", \"Close(\"&$D$12&\") when LocalYear(\"&$D$12&\")=\"&$D$1&\" and localMonth(\"&$D$12&\") =\"&$E$1&\" and LocalDay(\"&$D$12&\")=\"&$F$1&\" and Barix(\"&$D$12&\",reference:=StartOfSession)=\"&A21&\"\", \"Bar\", \"\", \"Close\",\"5\",\"0\",\"PrimaryOnly\",,,\"False\",\"T\",\"EveryTick\")","v":400.53},-3.1366384522370075E-2,{"$f":"RTD(\"cqg.rtd\",,\"StudyData\", \"Close(\"&$D$12&\") when LocalYear(\"&$D$12&\")=\"&$D$2&\" and localMonth(\"&$D$12&\") =\"&$E$2&\" and LocalDay(\"&$D$12&\")=\"&$F$2&\" and Barix(\"&$D$12&\",reference:=StartOfSession)=\"&A21&\"\", \"Bar\", \"\", \"Close\",\"5\",\"0\",\"PrimaryOnly\",,,\"False\",\"T\",\"EveryTick\")","v":409.3},-2.2333691627851347E-2,{"$f":"RTD(\"cqg.rtd\",,\"StudyData\", \"Close(\"&$D$12&\") when LocalYear(\"&$D$12&\")=\"&$D$3&\" and localMonth(\"&$D$12&\") =\"&$E$3&\" and LocalDay(\"&$D$12&\")=\"&$F$3&\" and Barix(\"&$D$12&\",reference:=StartOfSession)=\"&A21&\"\", \"Bar\", \"\", \"Close\",\"5\",\"0\",\"PrimaryOnly\",,,\"False\",\"T\",\"EveryTick\")","v":416},8.9021485455815163E-4,{"$f":"RTD(\"cqg.rtd\",,\"StudyData\", \"Close(\"&$D$12&\") when LocalYear(\"&$D$12&\")=\"&$D$4&\" and localMonth(\"&$D$12&\") =\"&$E$4&\" and LocalDay(\"&$D$12&\")=\"&$F$4&\" and Barix(\"&$D$12&\",reference:=StartOfSession)=\"&A21&\"\", \"Bar\", \"\", \"Close\",\"5\",\"0\",\"PrimaryOnly\",,,\"False\",\"T\",\"EveryTick\")","v":418.1},-2.0765209919564754E-3,{"$f":"RTD(\"cqg.rtd\",,\"StudyData\", \"Close(\"&$D$12&\") when LocalYear(\"&$D$12&\")=\"&$D$5&\" and localMonth(\"&$D$12&\") =\"&$E$5&\" and LocalDay(\"&$D$12&\")=\"&$F$5&\" and Barix(\"&$D$12&\",reference:=StartOfSession)=\"&A21&\"\", \"Bar\", \"\", \"Close\",\"5\",\"0\",\"PrimaryOnly\",,,\"False\",\"T\",\"EveryTick\")","v":414.52},1.5358236374770316E-2,{"$f":"RTD(\"cqg.rtd\",,\"StudyData\", \"Close(\"&$D$12&\") when LocalYear(\"&$D$12&\")=\"&$D$6&\" and localMonth(\"&$D$12&\") =\"&$E$6&\" and LocalDay(\"&$D$12&\")=\"&$F$6&\" and Barix(\"&$D$12&\",reference:=StartOfSession)=\"&A21&\"\", \"Bar\", \"\", \"Close\",\"5\",\"0\",\"PrimaryOnly\",,,\"False\",\"T\",\"EveryTick\")","v":403.41},1.2600717889505356E-2,{"$f":"RTD(\"cqg.rtd\",,\"StudyData\", \"Close(\"&$D$12&\") when LocalYear(\"&$D$12&\")=\"&$D$7&\" and localMonth(\"&$D$12&\") =\"&$E$7&\" and LocalDay(\"&$D$12&\")=\"&$F$7&\" and Barix(\"&$D$12&\",reference:=StartOfSession)=\"&A21&\"\", \"Bar\", \"\", \"Close\",\"5\",\"0\",\"PrimaryOnly\",,,\"False\",\"T\",\"EveryTick\")","v":392.9},6.094438184984112E-3,{"$f":"RTD(\"cqg.rtd\",,\"StudyData\", \"Close(\"&$D$12&\") when LocalYear(\"&$D$12&\")=\"&$D$8&\" and localMonth(\"&$D$12&\") =\"&$E$8&\" and LocalDay(\"&$D$12&\")=\"&$F$8&\" and Barix(\"&$D$12&\",reference:=StartOfSession)=\"&A21&\"\", \"Bar\", \"\", \"Close\",\"5\",\"0\",\"PrimaryOnly\",,,\"False\",\"T\",\"EveryTick\")","v":395.4},-6.9817670400322204E-3,{"$f":"RTD(\"cqg.rtd\",,\"StudyData\", \"Close(\"&$D$12&\") when LocalYear(\"&$D$12&\")=\"&$D$9&\" and localMonth(\"&$D$12&\") =\"&$E$9&\" and LocalDay(\"&$D$12&\")=\"&$F$9&\" and Barix(\"&$D$12&\",reference:=StartOfSession)=\"&A21&\"\", \"Bar\", \"\", \"Close\",\"5\",\"0\",\"PrimaryOnly\",,,\"False\",\"T\",\"EveryTick\")","v":390.62},-2.0693355133740445E-3,{"$f":"RTD(\"cqg.rtd\",,\"StudyData\", \"Close(\"&$D$12&\") when LocalYear(\"&$D$12&\")=\"&$D$10&\" and localMonth(\"&$D$12&\") =\"&$E$10&\" and LocalDay(\"&$D$12&\")=\"&$F$10&\" and Barix(\"&$D$12&\",reference:=StartOfSession)=\"&A21&\"\", \"Bar\", \"\", \"Close\",\"5\",\"0\",\"PrimaryOnly\",,,\"False\",\"T\",\"EveryTick\")","v":394.95},-1.1886095796874898E-3,null,null,null,""]
[21,"10:15:00",null,4,"#.0000",null,"2018-06-29",{"$f":"RTD(\"cqg.rtd\",,\"StudyData\", \"Close(\"&$D$12&\") when LocalYear(\"&$D$12&\")=\"&$D$1&\" and localMonth(\"&$D$12&\") =\"&$E$1&\" and LocalDay(\"&$D$12&\")=\"&$F$1&\" and Barix(\"&$D$12&\",reference:=StartOfSession)=\"&A22&\"\", \"Bar\", \"\", \"Close\",\"5\",\"0\",\"PrimaryOnly\",,,\"False\",\"T\",\"EveryTick\")","v":401.66},-2.8633615477629926E-2,{"$f":"RTD(\"cqg.rtd\",,\"StudyData\", \"Close(\"&$D$12&\") when LocalYear(\"&$D$12&\")=\"&$D$2&\" and localMonth(\"&$D$12&\") =\"&$E$2&\" and LocalDay(\"&$D$12&\")=\"&$F$2&\" and Barix(\"&$D$12&\",reference:=StartOfSession)=\"&A22&\"\", \"Bar\", \"\", \"Close\",\"5\",\"0\",\"PrimaryOnly\",,,\"False\",\"T\",\"EveryTick\")","v":409.22},-2.2524782037501374E-2,{"$f":"RTD(\"cqg.rtd\",,\"StudyData\", \"Close(\"&$D$12&\") when LocalYear(\"&$D$12&\")=\"&$D$3&\" and localMonth(\"&$D$12&\") =\"&$E$3&\" and LocalDay(\"&$D$12&\")=\"&$F$3&\" and Barix(\"&$D$12&\",reference:=StartOfSession)=\"&A22&\"\", \"Bar\", \"\", \"Close\",\"5\",\"0\",\"PrimaryOnly\",,,\"False\",\"T\",\"EveryTick\")","v":416.12},1.1789331857662083E-3,{"$f":"RTD(\"cqg.rtd\",,\"StudyData\", \"Close(\"&$D$12&\") when LocalYear(\"&$D$12&\")=\"&$D$4&\" and localMonth(\"&$D$12&\") =\"&$E$4&\" and LocalDay(\"&$D$12&\")=\"&$F$4&\" and Barix(\"&$D$12&\",reference:=StartOfSession)=\"&A22&\"\", \"Bar\", \"\", \"Close\",\"5\",\"0\",\"PrimaryOnly\",,,\"False\",\"T\",\"EveryTick\")","v":418.75},-5.2509726233388376E-4,{"$f":"RTD(\"cqg.rtd\",,\"StudyData\", \"Close(\"&$D$12&\") when LocalYear(\"&$D$12&\")=\"&$D$5&\" and localMonth(\"&$D$12&\") =\"&$E$5&\" and LocalDay(\"&$D$12&\")=\"&$F$5&\" and Barix(\"&$D$12&\",reference:=StartOfSession)=\"&A22&\"\", \"Bar\", \"\", \"Close\",\"5\",\"0\",\"PrimaryOnly\",,,\"False\",\"T\",\"EveryTick\")","v":415.62},1.8052663808940612E-2,{"$f":"RTD(\"cqg.rtd\",,\"StudyData\", \"Close(\"&$D$12&\") when LocalYear(\"&$D$12&\")=\"&$D$6&\" and localMonth(\"&$D$12&\") =\"&$E$6&\" and LocalDay(\"&$D$12&\")=\"&$F$6&\" and Barix(\"&$D$12&\",reference:=StartOfSession)=\"&A22&\"\", \"Bar\", \"\", \"Close\",\"5\",\"0\",\"PrimaryOnly\",,,\"False\",\"T\",\"EveryTick\")","v":404.19},1.4558598358392559E-2,{"$f":"RTD(\"cqg.rtd\",,\"StudyData\", \"Close(\"&$D$12&\") when LocalYear(\"&$D$12&\")=\"&$D$7&\" and localMonth(\"&$D$12&\") =\"&$E$7&\" and LocalDay(\"&$D$12&\")=\"&$F$7&\" and Barix(\"&$D$12&\",reference:=StartOfSession)=\"&A22&\"\", \"Bar\", \"\", \"Close\",\"5\",\"0\",\"PrimaryOnly\",,,\"False\",\"T\",\"EveryTick\")","v":393.91},8.6807333811329598E-3,{"$f":"RTD(\"cqg.rtd\",,\"StudyData\", \"Close(\"&$D$12&\") when LocalYear(\"&$D$12&\")=\"&$D$8&\" and localMonth(\"&$D$12&\") =\"&$E$8&\" and LocalDay(\"&$D$12&\")=\"&$F$8&\" and Barix(\"&$D$12&\",reference:=StartOfSession)=\"&A22&\"\", \"Bar\", \"\", \"Close\",\"5\",\"0\",\"PrimaryOnly\",,,\"False\",\"T\",\"EveryTick\")","v":396.37},-4.5456828569993522E-3,{"$f":"RTD(\"cqg.rtd\",,\"StudyData\", \"Close(\"&$D$12&\") when LocalYear(\"&$D$12&\")=\"&$D$9&\" and localMonth(\"&$D$12&\") =\"&$E$9&\" and LocalDay(\"&$D$12&\")=\"&$F$9&\" and Barix(\"&$D$12&\",reference:=StartOfSession)=\"&A22&\"\", \"Bar\", \"\", \"Close\",\"5\",\"0\",\"PrimaryOnly\",,,\"False\",\"T\",\"EveryTick\")","v":389.75},-4.2919551388498752E-3,{"$f":"RTD(\"cqg.rtd\",,\"StudyData\", \"Close(\"&$D$12&\") when LocalYear(\"&$D$12&\")=\"&$D$10&\" and localMonth(\"&$D$12&\") =\"&$E$10&\" and LocalDay(\"&$D$12&\")=\"&$F$10&\" and Barix(\"&$D$12&\",reference:=StartOfSession)=\"&A22&\"\", \"Bar\", \"\", \"Close\",\"5\",\"0\",\"PrimaryOnly\",,,\"False\",\"T\",\"EveryTick\")","v":395.4},-5.0579131050626302E-5,null,null,null,""]
[22,"10:20:00",null,5,"#.00000",null,null,{"$f":"RTD(\"cqg.rtd\",,\"StudyData\", \"Close(\"&$D$12&\") when LocalYear(\"&$D$12&\")=\"&$D$1&\" and localMonth(\"&$D$12&\") =\"&$E$1&\" and LocalDay(\"&$D$12&\")=\"&$F$1&\" and Barix(\"&$D$12&\",reference:=StartOfSession)=\"&A23&\"\", \"Bar\", \"\", \"Close\",\"5\",\"0\",\"PrimaryOnly\",,,\"False\",\"T\",\"EveryTick\")","v":400.8},-3.071342200725511E-2,{"$f":"RTD(\"cqg.rtd\",,\"StudyData\", \"Close(\"&$D$12&\") when LocalYear(\"&$D$12&\")=\"&$D$2&\" and localMonth(\"&$D$12&\") =\"&$E$2&\" and LocalDay(\"&$D$12&\")=\"&$F$2&\" and Barix(\"&$D$12&\",reference:=StartOfSession)=\"&A23&\"\", \"Bar\", \"\", \"Close\",\"5\",\"0\",\"PrimaryOnly\",,,\"False\",\"T\",\"EveryTick\")","v":409.21},-2.2548668338707747E-2,{"$f":"RTD(\"cqg.rtd\",,\"StudyData\", \"Close(\"&$D$12&\") when LocalYear(\"&$D$12&\")=\"&$D$3&\" and localMonth(\"&$D$12&\") =\"&$E$3&\" and LocalDay(\"&$D$12&\")=\"&$F$3&\" and Barix(\"&$D$12&\",reference:=StartOfSession)=\"&A23&\"\", \"Bar\", \"\", \"Close\",\"5\",\"0\",\"PrimaryOnly\",,,\"False\",\"T\",\"EveryTick\")","v":416.12},1.1789331857662083E-3,{"$f":"RTD(\"cqg.rtd\",,\"StudyData\", \"Close(\"&$D$12&\") when LocalYear(\"&$D$12&\")=\"&$D$4&\" and localMonth(\"&$D$12&\") =\"&$E$4&\" and LocalDay(\"&$D$12&\")=\"&$F$4&\" and Barix(\"&$D$12&\",reference:=StartOfSession)=\"&A23&\"\", \"Bar\", \"\", \"Close\",\"5\",\"0\",\"PrimaryOnly\",,,\"False\",\"T\",\"EveryTick\")","v":417.83},-2.7209585411844361E-3,{"$f":"RTD(\"cqg.rtd\",,\"StudyData\", \"Close(\"&$D$12&\") when LocalYear(\"&$D$12&\")=\"&$D$5&\" and localMonth(\"&$D$12&\") =\"&$E$5&\" and LocalDay(\"&$D$12&\")=\"&$F$5&\" and Barix(\"&$D$12&\",reference:=StartOfSession)=\"&A23&\"\", \"Bar\", \"\", \"Close\",\"5\",\"0\",\"PrimaryOnly\",,,\"False\",\"T\",\"EveryTick\")","v":415.33},1.7342314758113861E-2,{"$f":"RTD(\"cqg.rtd\",,\"StudyData\", \"Close(\"&$D$12&\") when LocalYear(\"&$D$12&\")=\"&$D$6&\" and localMonth(\"&$D$12&\") =\"&$E$6&\" and LocalDay(\"&$D$12&\")=\"&$F$6&\" and Barix(\"&$D$12&\",reference:=StartOfSession)=\"&A23&\"\", \"Bar\", \"\", \"Close\",\"5\",\"0\",\"PrimaryOnly\",,,\"False\",\"T\",\"EveryTick\")","v":404.19},1.4558598358392559E-2,{"$f":"RTD(\"cqg.rtd\",,\"StudyData\", \"Close(\"&$D$12&\") when LocalYear(\"&$D$12&\")=\"&$D$7&\" and localMonth(\"&$D$12&\") =\"&$E$7&\" and LocalDay(\"&$D$12&\")=\"&$F$7&\" and Barix(\"&$D$12&\",reference:=StartOfSession)=\"&A23&\"\", \"Bar\", \"\", \"Close\",\"5\",\"0\",\"PrimaryOnly\",,,\"False\",\"T\",\"EveryTick\")","v":393.87},8.5783058486121663E-3,{"$f":"RTD(\"cqg.rtd\",,\"StudyData\", \"Close(\"&$D$12&\") when LocalYear(\"&$D$12&\")=\"&$D$8&\" and localMonth(\"&$D$12&\") =\"&$E$8&\" and LocalDay(\"&$D$12&\")=\"&$F$8&\" and Barix(\"&$D$12&\",reference:=StartOfSession)=\"&A23&\"\", \"Bar\", \"\", \"Close\",\"5\",\"0\",\"PrimaryOnly\",,,\"False\",\"T\",\"EveryTick\")","v":395.7},-6.2283389421869959E-3,{"$f":"RTD(\"cqg.rtd\",,\"StudyData\", \"Close(\"&$D$12&\") when LocalYear(\"&$D$12&\")=\"&$D$9&\" and localMonth(\"&$D$12&\") =\"&$E$9&\" and LocalDay(\"&$D$12&\")=\"&$F$9&\" and Barix(\"&$D$12&\",reference:=StartOfSession)=\"&A23&\"\", \"Bar\", \"\", \"Close\",\"5\",\"0\",\"PrimaryOnly\",,,\"False\",\"T\",\"EveryTick\")","v":390.49},-2.4014510895945577E-3,{"$f":"RTD(\"cqg.rtd\",,\"StudyData\", \"Close(\"&$D$12&\") when LocalYear(\"&$D$12&\")=\"&$D$10&\" and localMonth(\"&$D$12&\") =\"&$E$10&\" and LocalDay(\"&$D$12&\")=\"&$F$10&\" and Barix(\"&$D$12&\",reference:=StartOfSession)=\"&A23&\"\", \"Bar\", \"\", \"Close\",\"5\",\"0\",\"PrimaryOnly\",,,\"False\",\"T\",\"EveryTick\")","v":394.96},-1.1633200141622487E-3,null,null,null,22]
[23,"10:25:00",null,6,"#.000000",null,null,{"$f":"RTD(\"cqg.rtd\",,\"StudyData\", \"Close(\"&$D$12&\") when LocalYear(\"&$D$12&\")=\"&$D$1&\" and localMonth(\"&$D$12&\") =\"&$E$1&\" and LocalDay(\"&$D$12&\")=\"&$F$1&\" and Barix(\"&$D$12&\",reference:=StartOfSession)=\"&A24&\"\", \"Bar\", \"\", \"Close\",\"5\",\"0\",\"PrimaryOnly\",,,\"False\",\"T\",\"EveryTick\")","v":""},{"$error":"#N/A"},{"$f":"RTD(\"cqg.rtd\",,\"StudyData\", \"Close(\"&$D$12&\") when LocalYear(\"&$D$12&\")=\"&$D$2&\" and localMonth(\"&$D$12&\") =\"&$E$2&\" and LocalDay(\"&$D$12&\")=\"&$F$2&\" and Barix(\"&$D$12&\",reference:=StartOfSession)=\"&A24&\"\", \"Bar\", \"\", \"Close\",\"5\",\"0\",\"PrimaryOnly\",,,\"False\",\"T\",\"EveryTick\")","v":410.11},-2.0398901230144425E-2,{"$f":"RTD(\"cqg.rtd\",,\"StudyData\", \"Close(\"&$D$12&\") when LocalYear(\"&$D$12&\")=\"&$D$3&\" and localMonth(\"&$D$12&\") =\"&$E$3&\" and LocalDay(\"&$D$12&\")=\"&$F$3&\" and Barix(\"&$D$12&\",reference:=StartOfSession)=\"&A24&\"\", \"Bar\", \"\", \"Close\",\"5\",\"0\",\"PrimaryOnly\",,,\"False\",\"T\",\"EveryTick\")","v":414.8},-1.9969684575222774E-3,{"$f":"RTD(\"cqg.rtd\",,\"StudyData\", \"Close(\"&$D$12&\") when LocalYear(\"&$D$12&\")=\"&$D$4&\" and localMonth(\"&$D$12&\") =\"&$E$4&\" and LocalDay(\"&$D$12&\")=\"&$F$4&\" and Barix(\"&$D$12&\",reference:=StartOfSession)=\"&A24&\"\", \"Bar\", \"\", \"Close\",\"5\",\"0\",\"PrimaryOnly\",,,\"False\",\"T\",\"EveryTick\")","v":417.7},-3.0312432871089541E-3,{"$f":"RTD(\"cqg.rtd\",,\"StudyData\", \"Close(\"&$D$12&\") when LocalYear(\"&$D$12&\")=\"&$D$5&\" and localMonth(\"&$D$12&\") =\"&$E$5&\" and LocalDay(\"&$D$12&\")=\"&$F$5&\" and Barix(\"&$D$12&\",reference:=StartOfSession)=\"&A24&\"\", \"Bar\", \"\", \"Close\",\"5\",\"0\",\"PrimaryOnly\",,,\"False\",\"T\",\"EveryTick\")","v":415.41},1.7538273116962707E-2,{"$f":"RTD(\"cqg.rtd\",,\"StudyData\", \"Close(\"&$D$12&\") when LocalYear(\"&$D$12&\")=\"&$D$6&\" and localMonth(\"&$D$12&\") =\"&$E$6&\" and LocalDay(\"&$D$12&\")=\"&$F$6&\" and Barix(\"&$D$12&\",reference:=StartOfSession)=\"&A24&\"\", \"Bar\", \"\", \"Close\",\"5\",\"0\",\"PrimaryOnly\",,,\"False\",\"T\",\"EveryTick\")","v":404.44},1.5186124149702582E-2,{"$f":"RTD(\"cqg.rtd\",,\"StudyData\", \"Close(\"&$D$12&\") when LocalYear(\"&$D$12&\")=\"&$D$7&\" and localMonth(\"&$D$12&\") =\"&$E$7&\" and LocalDay(\"&$D$12&\")=\"&$F$7&\" and Barix(\"&$D$12&\",reference:=StartOfSession)=\"&A24&\"\", \"Bar\", \"\", \"Close\",\"5\",\"0\",\"PrimaryOnly\",,,\"False\",\"T\",\"EveryTick\")","v":394.93},1.1292635460411824E-2,{"$f":"RTD(\"cqg.rtd\",,\"StudyData\", \"Close(\"&$D$12&\") when LocalYear(\"&$D$12&\")=\"&$D$8&\" and localMonth(\"&$D$12&\") =\"&$E$8&\" and LocalDay(\"&$D$12&\")=\"&$F$8&\" and Barix(\"&$D$12&\",reference:=StartOfSession)=\"&A24&\"\", \"Bar\", \"\", \"Close\",\"5\",\"0\",\"PrimaryOnly\",,,\"False\",\"T\",\"EveryTick\")","v":395.59},-6.5045959113969355E-3,{"$f":"RTD(\"cqg.rtd\",,\"StudyData\", \"Close(\"&$D$12&\") when LocalYear(\"&$D$12&\")=\"&$D$9&\" and localMonth(\"&$D$12&\") =\"&$E$9&\" and LocalDay(\"&$D$12&\")=\"&$F$9&\" and Barix(\"&$D$12&\",reference:=StartOfSession)=\"&A24&\"\", \"Bar\", \"\", \"Close\",\"5\",\"0\",\"PrimaryOnly\",,,\"False\",\"T\",\"EveryTick\")","v":390.5},-2.3759037375776174E-3,{"$f":"RTD(\"cqg.rtd\",,\"StudyData\", \"Close(\"&$D$12&\") when LocalYear(\"&$D$12&\")=\"&$D$10&\" and localMonth(\"&$D$12&\") =\"&$E$10&\" and LocalDay(\"&$D$12&\")=\"&$F$10&\" and Barix(\"&$D$12&\",reference:=StartOfSession)=\"&A24&\"\", \"Bar\", \"\", \"Close\",\"5\",\"0\",\"PrimaryOnly\",,,\"False\",\"T\",\"EveryTick\")","v":394.38},-2.6301148146275362E-3,null,null,null,""]
[24,"10:30:00",null,7,"#.0000000",null,null,{"$f":"RTD(\"cqg.rtd\",,\"StudyData\", \"Close(\"&$D$12&\") when LocalYear(\"&$D$12&\")=\"&$D$1&\" and localMonth(\"&$D$12&\") =\"&$E$1&\" and LocalDay(\"&$D$12&\")=\"&$F$1&\" and Barix(\"&$D$12&\",reference:=StartOfSession)=\"&A25&\"\", \"Bar\", \"\", \"Close\",\"5\",\"0\",\"PrimaryOnly\",,,\"False\",\"T\",\"EveryTick\")","v":""},{"$error":"#N/A"},{"$f":"RTD(\"cqg.rtd\",,\"StudyData\", \"Close(\"&$D$12&\") when LocalYear(\"&$D$12&\")=\"&$D$2&\" and localMonth(\"&$D$12&\") =\"&$E$2&\" and LocalDay(\"&$D$12&\")=\"&$F$2&\" and Barix(\"&$D$12&\",reference:=StartOfSession)=\"&A25&\"\", \"Bar\", \"\", \"Close\",\"5\",\"0\",\"PrimaryOnly\",,,\"False\",\"T\",\"EveryTick\")","v":410.35},-1.9825630001194208E-2,{"$f":"RTD(\"cqg.rtd\",,\"StudyData\", \"Close(\"&$D$12&\") when LocalYear(\"&$D$12&\")=\"&$D$3&\" and localMonth(\"&$D$12&\") =\"&$E$3&\" and LocalDay(\"&$D$12&\")=\"&$F$3&\" and Barix(\"&$D$12&\",reference:=StartOfSession)=\"&A25&\"\", \"Bar\", \"\", \"Close\",\"5\",\"0\",\"PrimaryOnly\",,,\"False\",\"T\",\"EveryTick\")","v":415.18},-1.0826937420301437E-3,{"$f":"RTD(\"cqg.rtd\",,\"StudyData\", \"Close(\"&$D$12&\") when LocalYear(\"&$D$12&\")=\"&$D$4&\" and localMonth(\"&$D$12&\") =\"&$E$4&\" and LocalDay(\"&$D$12&\")=\"&$F$4&\" and Barix(\"&$D$12&\",reference:=StartOfSession)=\"&A25&\"\", \"Bar\", \"\", \"Close\",\"5\",\"0\",\"PrimaryOnly\",,,\"False\",\"T\",\"EveryTick\")","v":417.23},-4.1530419839129508E-3,{"$f":"RTD(\"cqg.rtd\",,\"StudyData\", \"Close(\"&$D$12&\") when LocalYear(\"&$D$12&\")=\"&$D$5&\" and localMonth(\"&$D$12&\") =\"&$E$5&\" and LocalDay(\"&$D$12&\")=\"&$F$5&\" and Barix(\"&$D$12&\",reference:=StartOfSession)=\"&A25&\"\", \"Bar\", \"\", \"Close\",\"5\",\"0\",\"PrimaryOnly\",,,\"False\",\"T\",\"EveryTick\")","v":415.02},1.658297611757497E-2,{"$f":"RTD(\"cqg.rtd\",,\"StudyData\", \"Close(\"&$D$12&\") when LocalYear(\"&$D$12&\")=\"&$D$6&\" and localMonth(\"&$D$12&\") =\"&$E$6&\" and LocalDay(\"&$D$12&\")=\"&$F$6&\" and Barix(\"&$D$12&\",reference:=StartOfSession)=\"&A25&\"\", \"Bar\", \"\", \"Close\",\"5\",\"0\",\"PrimaryOnly\",,,\"False\",\"T\",\"EveryTick\")","v":404.85},1.6215266447451082E-2,{"$f":"RTD(\"cqg.rtd\",,\"StudyData\", \"Close(\"&$D$12&\") when LocalYear(\"&$D$12&\")=\"&$D$7&\" and localMonth(\"&$D$12&\") =\"&$E$7&\" and LocalDay(\"&$D$12&\")=\"&$F$7&\" and Barix(\"&$D$12&\",reference:=StartOfSession)=\"&A25&\"\", \"Bar\", \"\", \"Close\",\"5\",\"0\",\"PrimaryOnly\",,,\"False\",\"T\",\"EveryTick\")","v":395.17},1.1907200655536297E-2,{"$f":"RTD(\"cqg.rtd\",,\"StudyData\", \"Close(\"&$D$12&\") when LocalYear(\"&$D$12&\")=\"&$D$8&\" and localMonth(\"&$D$12&\") =\"&$E$8&\" and LocalDay(\"&$D$12&\")=\"&$F$8&\" and Barix(\"&$D$12&\",reference:=StartOfSession)=\"&A25&\"\", \"Bar\", \"\", \"Close\",\"5\",\"0\",\"PrimaryOnly\",,,\"False\",\"T\",\"EveryTick\")","v":395.5},-6.7306243407504315E-3,{"$f":"RTD(\"cqg.rtd\",,\"StudyData\", \"Close(\"&$D$12&\") when LocalYear(\"&$D$12&\")=\"&$D$9&\" and localMonth(\"&$D$12&\") =\"&$E$9&\" and LocalDay(\"&$D$12&\")=\"&$F$9&\" and Barix(\"&$D$12&\",reference:=StartOfSession)=\"&A25&\"\", \"Bar\", \"\", \"Close\",\"5\",\"0\",\"PrimaryOnly\",,,\"False\",\"T\",\"EveryTick\")","v":389.46},-5.0328283473418675E-3,{"$f":"RTD(\"cqg.rtd\",,\"StudyData\", \"Close(\"&$D$12&\") when LocalYear(\"&$D$12&\")=\"&$D$10&\" and localMonth(\"&$D$12&\") =\"&$E$10&\" and LocalDay(\"&$D$12&\")=\"&$F$10&\" and Barix(\"&$D$12&\",reference:=StartOfSession)=\"&A25&\"\", \"Bar\", \"\", \"Close\",\"5\",\"0\",\"PrimaryOnly\",,,\"False\",\"T\",\"EveryTick\")","v":394.34},-2.7312730767286453E-3,null,null,null,""]
[25,"10:35:00",null,null,null,null,null,{"$f":"RTD(\"cqg.rtd\",,\"StudyData\", \"Close(\"&$D$12&\") when LocalYear(\"&$D$12&\")=\"&$D$1&\" and localMonth(\"&$D$12&\") =\"&$E$1&\" and LocalDay(\"&$D$12&\")=\"&$F$1&\" and Barix(\"&$D$12&\",reference:=StartOfSession)=\"&A26&\"\", \"Bar\", \"\", \"Close\",\"5\",\"0\",\"PrimaryOnly\",,,\"False\",\"T\",\"EveryTick\")","v":""},{"$error":"#N/A"},{"$f":"RTD(\"cqg.rtd\",,\"StudyData\", \"Close(\"&$D$12&\") when LocalYear(\"&$D$12&\")=\"&$D$2&\" and localMonth(\"&$D$12&\") =\"&$E$2&\" and LocalDay(\"&$D$12&\")=\"&$F$2&\" and Barix(\"&$D$12&\",reference:=StartOfSession)=\"&A26&\"\", \"Bar\", \"\", \"Close\",\"5\",\"0\",\"PrimaryOnly\",,,\"False\",\"T\",\"EveryTick\")","v":409.63},-2.1545443688044865E-2,{"$f":"RTD(\"cqg.rtd\",,\"StudyData\", \"Close(\"&$D$12&\") when LocalYear(\"&$D$12&\")=\"&$D$3&\" and localMonth(\"&$D$12&\") =\"&$E$3&\" and LocalDay(\"&$D$12&\")=\"&$F$3&\" and Barix(\"&$D$12&\",reference:=StartOfSession)=\"&A26&\"\", \"Bar\", \"\", \"Close\",\"5\",\"0\",\"PrimaryOnly\",,,\"False\",\"T\",\"EveryTick\")","v":415.09},-1.2992324904362545E-3,{"$f":"RTD(\"cqg.rtd\",,\"StudyData\", \"Close(\"&$D$12&\") when LocalYear(\"&$D$12&\")=\"&$D$4&\" and localMonth(\"&$D$12&\") =\"&$E$4&\" and LocalDay(\"&$D$12&\")=\"&$F$4&\" and Barix(\"&$D$12&\",reference:=StartOfSession)=\"&A26&\"\", \"Bar\", \"\", \"Close\",\"5\",\"0\",\"PrimaryOnly\",,,\"False\",\"T\",\"EveryTick\")","v":417.86},-2.6493543690479355E-3,{"$f":"RTD(\"cqg.rtd\",,\"StudyData\", \"Close(\"&$D$12&\") when LocalYear(\"&$D$12&\")=\"&$D$5&\" and localMonth(\"&$D$12&\") =\"&$E$5&\" and LocalDay(\"&$D$12&\")=\"&$F$5&\" and Barix(\"&$D$12&\",reference:=StartOfSession)=\"&A26&\"\", \"Bar\", \"\", \"Close\",\"5\",\"0\",\"PrimaryOnly\",,,\"False\",\"T\",\"EveryTick\")","v":414.66},1.5701163502755727E-2,{"$f":"RTD(\"cqg.rtd\",,\"StudyData\", \"Close(\"&$D$12&\") when LocalYear(\"&$D$12&\")=\"&$D$6&\" and localMonth(\"&$D$12&\") =\"&$E$6&\" and LocalDay(\"&$D$12&\")=\"&$F$6&\" and Barix(\"&$D$12&\",reference:=StartOfSession)=\"&A26&\"\", \"Bar\", \"\", \"Close\",\"5\",\"0\",\"PrimaryOnly\",,,\"False\",\"T\",\"EveryTick\")","v":405.11},1.6867893270413482E-2,{"$f":"RTD(\"cqg.rtd\",,\"StudyData\", \"Close(\"&$D$12&\") when LocalYear(\"&$D$12&\")=\"&$D$7&\" and localMonth(\"&$D$12&\") =\"&$E$7&\" and LocalDay(\"&$D$12&\")=\"&$F$7&\" and Barix(\"&$D$12&\",reference:=StartOfSession)=\"&A26&\"\", \"Bar\", \"\", \"Close\",\"5\",\"0\",\"PrimaryOnly\",,,\"False\",\"T\",\"EveryTick\")","v":394.68},1.0652463382157189E-2,{"$f":"RTD(\"cqg.rtd\",,\"StudyData\", \"Close(\"&$D$12&\") when LocalYear(\"&$D$12&\")=\"&$D$8&\" and localMonth(\"&$D$12&\") =\"&$E$8&\" and LocalDay(\"&$D$12&\")=\"&$F$8&\" and Barix(\"&$D$12&\",reference:=StartOfSession)=\"&A26&\"\", \"Bar\", \"\", \"Close\",\"5\",\"0\",\"PrimaryOnly\",,,\"False\",\"T\",\"EveryTick\")","v":395.12},-7.6849665980210013E-3,{"$f":"RTD(\"cqg.rtd\",,\"StudyData\", \"Close(\"&$D$12&\") when LocalYear(\"&$D$12&\")=\"&$D$9&\" and localMonth(\"&$D$12&\") =\"&$E$9&\" and LocalDay(\"&$D$12&\")=\"&$F$9&\" and Barix(\"&$D$12&\",reference:=StartOfSession)=\"&A26&\"\", \"Bar\", \"\", \"Close\",\"5\",\"0\",\"PrimaryOnly\",,,\"False\",\"T\",\"EveryTick\")","v":389.7},-4.4196918989347217E-3,{"$f":"RTD(\"cqg.rtd\",,\"StudyData\", \"Close(\"&$D$12&\") when LocalYear(\"&$D$12&\")=\"&$D$10&\" and localMonth(\"&$D$12&\") =\"&$E$10&\" and LocalDay(\"&$D$12&\")=\"&$F$10&\" and Barix(\"&$D$12&\",reference:=StartOfSession)=\"&A26&\"\", \"Bar\", \"\", \"Close\",\"5\",\"0\",\"PrimaryOnly\",,,\"False\",\"T\",\"EveryTick\")","v":393.93},-3.7681452632644E-3,null,null,null,""]
[26,"10:40:00",null,null,null,null,null,{"$f":"RTD(\"cqg.rtd\",,\"StudyData\", \"Close(\"&$D$12&\") when LocalYear(\"&$D$12&\")=\"&$D$1&\" and localMonth(\"&$D$12&\") =\"&$E$1&\" and LocalDay(\"&$D$12&\")=\"&$F$1&\" and Barix(\"&$D$12&\",reference:=StartOfSession)=\"&A27&\"\", \"Bar\", \"\", \"Close\",\"5\",\"0\",\"PrimaryOnly\",,,\"False\",\"T\",\"EveryTick\")","v":""},{"$error":"#N/A"},{"$f":"RTD(\"cqg.rtd\",,\"StudyData\", \"Close(\"&$D$12&\") when LocalYear(\"&$D$12&\")=\"&$D$2&\" and localMonth(\"&$D$12&\") =\"&$E$2&\" and LocalDay(\"&$D$12&\")=\"&$F$2&\" and Barix(\"&$D$12&\",reference:=StartOfSession)=\"&A27&\"\", \"Bar\", \"\", \"Close\",\"5\",\"0\",\"PrimaryOnly\",,,\"False\",\"T\",\"EveryTick\")","v":409.61},-2.1593216290457337E-2,{"$f":"RTD(\"cqg.rtd\",,\"StudyData\", \"Close(\"&$D$12&\") when LocalYear(\"&$D$12&\")=\"&$D$3&\" and localMonth(\"&$D$12&\") =\"&$E$3&\" and LocalDay(\"&$D$12&\")=\"&$F$3&\" and Barix(\"&$D$12&\",reference:=StartOfSession)=\"&A27&\"\", \"Bar\", \"\", \"Close\",\"5\",\"0\",\"PrimaryOnly\",,,\"False\",\"T\",\"EveryTick\")","v":414.41},-2.9353030339483925E-3,{"$f":"RTD(\"cqg.rtd\",,\"StudyData\", \"Close(\"&$D$12&\") when LocalYear(\"&$D$12&\")=\"&$D$4&\" and localMonth(\"&$D$12&\") =\"&$E$4&\" and LocalDay(\"&$D$12&\")=\"&$F$4&\" and Barix(\"&$D$12&\",reference:=StartOfSession)=\"&A27&\"\", \"Bar\", \"\", \"Close\",\"5\",\"0\",\"PrimaryOnly\",,,\"False\",\"T\",\"EveryTick\")","v":418},-2.3152015657446289E-3,{"$f":"RTD(\"cqg.rtd\",,\"StudyData\", \"Close(\"&$D$12&\") when LocalYear(\"&$D$12&\")=\"&$D$5&\" and localMonth(\"&$D$12&\") =\"&$E$5&\" and LocalDay(\"&$D$12&\")=\"&$F$5&\" and Barix(\"&$D$12&\",reference:=StartOfSession)=\"&A27&\"\", \"Bar\", \"\", \"Close\",\"5\",\"0\",\"PrimaryOnly\",,,\"False\",\"T\",\"EveryTick\")","v":415},1.653398652786283E-2,{"$f":"RTD(\"cqg.rtd\",,\"StudyData\", \"Close(\"&$D$12&\") when LocalYear(\"&$D$12&\")=\"&$D$6&\" and localMonth(\"&$D$12&\") =\"&$E$6&\" and LocalDay(\"&$D$12&\")=\"&$F$6&\" and Barix(\"&$D$12&\",reference:=StartOfSession)=\"&A27&\"\", \"Bar\", \"\", \"Close\",\"5\",\"0\",\"PrimaryOnly\",,,\"False\",\"T\",\"EveryTick\")","v":404.98},1.6541579858932284E-2,{"$f":"RTD(\"cqg.rtd\",,\"StudyData\", \"Close(\"&$D$12&\") when LocalYear(\"&$D$12&\")=\"&$D$7&\" and localMonth(\"&$D$12&\") =\"&$E$7&\" and LocalDay(\"&$D$12&\")=\"&$F$7&\" and Barix(\"&$D$12&\",reference:=StartOfSession)=\"&A27&\"\", \"Bar\", \"\", \"Close\",\"5\",\"0\",\"PrimaryOnly\",,,\"False\",\"T\",\"EveryTick\")","v":395.06},1.1625524941104222E-2,{"$f":"RTD(\"cqg.rtd\",,\"StudyData\", \"Close(\"&$D$12&\") when LocalYear(\"&$D$12&\")=\"&$D$8&\" and localMonth(\"&$D$12&\") =\"&$E$8&\" and LocalDay(\"&$D$12&\")=\"&$F$8&\" and Barix(\"&$D$12&\",reference:=StartOfSession)=\"&A27&\"\", \"Bar\", \"\", \"Close\",\"5\",\"0\",\"PrimaryOnly\",,,\"False\",\"T\",\"EveryTick\")","v":394.7},-8.7397659350043153E-3,{"$f":"RTD(\"cqg.rtd\",,\"StudyData\", \"Close(\"&$D$12&\") when LocalYear(\"&$D$12&\")=\"&$D$9&\" and localMonth(\"&$D$12&\") =\"&$E$9&\" and LocalDay(\"&$D$12&\")=\"&$F$9&\" and Barix(\"&$D$12&\",reference:=StartOfSession)=\"&A27&\"\", \"Bar\", \"\", \"Close\",\"5\",\"0\",\"PrimaryOnly\",,,\"False\",\"T\",\"EveryTick\")","v":389.49},-4.9561862912909016E-3,{"$f":"RTD(\"cqg.rtd\",,\"StudyData\", \"Close(\"&$D$12&\") when LocalYear(\"&$D$12&\")=\"&$D$10&\" and localMonth(\"&$D$12&\") =\"&$E$10&\" and LocalDay(\"&$D$12&\")=\"&$F$10&\" and Barix(\"&$D$12&\",reference:=StartOfSession)=\"&A27&\"\", \"Bar\", \"\", \"Close\",\"5\",\"0\",\"PrimaryOnly\",,,\"False\",\"T\",\"EveryTick\")","v":393.2},-5.6142835466087377E-3,null,null,null,""]
[27,"10:45:00",null,null,null,null,null,{"$f":"RTD(\"cqg.rtd\",,\"StudyData\", \"Close(\"&$D$12&\") when LocalYear(\"&$D$12&\")=\"&$D$1&\" and localMonth(\"&$D$12&\") =\"&$E$1&\" and LocalDay(\"&$D$12&\")=\"&$F$1&\" and Barix(\"&$D$12&\",reference:=StartOfSession)=\"&A28&\"\", \"Bar\", \"\", \"Close\",\"5\",\"0\",\"PrimaryOnly\",,,\"False\",\"T\",\"EveryTick\")","v":""},{"$error":"#N/A"},{"$f":"RTD(\"cqg.rtd\",,\"StudyData\", \"Close(\"&$D$12&\") when LocalYear(\"&$D$12&\")=\"&$D$2&\" and localMonth(\"&$D$12&\") =\"&$E$2&\" and LocalDay(\"&$D$12&\")=\"&$F$2&\" and Barix(\"&$D$12&\",reference:=StartOfSession)=\"&A28&\"\", \"Bar\", \"\", \"Close\",\"5\",\"0\",\"PrimaryOnly\",,,\"False\",\"T\",\"EveryTick\")","v":410.04},-2.0566105338588218E-2,{"$f":"RTD(\"cqg.rtd\",,\"StudyData\", \"Close(\"&$D$12&\") when LocalYear(\"&$D$12&\")=\"&$D$3&\" and localMonth(\"&$D$12&\") =\"&$E$3&\" and LocalDay(\"&$D$12&\")=\"&$F$3&\" and Barix(\"&$D$12&\",reference:=StartOfSession)=\"&A28&\"\", \"Bar\", \"\", \"Close\",\"5\",\"0\",\"PrimaryOnly\",,,\"False\",\"T\",\"EveryTick\")","v":415.44},-4.5713735774606675E-4,{"$f":"RTD(\"cqg.rtd\",,\"StudyData\", \"Close(\"&$D$12&\") when LocalYear(\"&$D$12&\")=\"&$D$4&\" and localMonth(\"&$D$12&\") =\"&$E$4&\" and LocalDay(\"&$D$12&\")=\"&$F$4&\" and Barix(\"&$D$12&\",reference:=StartOfSession)=\"&A28&\"\", \"Bar\", \"\", \"Close\",\"5\",\"0\",\"PrimaryOnly\",,,\"False\",\"T\",\"EveryTick\")","v":418.33},-1.527555672243939E-3,{"$f":"RTD(\"cqg.rtd\",,\"StudyData\", \"Close(\"&$D$12&\") when LocalYear(\"&$D$12&\")=\"&$D$5&\" and localMonth(\"&$D$12&\") =\"&$E$5&\" and LocalDay(\"&$D$12&\")=\"&$F$5&\" and Barix(\"&$D$12&\",reference:=StartOfSession)=\"&A28&\"\", \"Bar\", \"\", \"Close\",\"5\",\"0\",\"PrimaryOnly\",,,\"False\",\"T\",\"EveryTick\")","v":414.47},1.5235762400489962E-2,{"$f":"RTD(\"cqg.rtd\",,\"StudyData\", \"Close(\"&$D$12&\") when LocalYear(\"&$D$12&\")=\"&$D$6&\" and localMonth(\"&$D$12&\") =\"&$E$6&\" and LocalDay(\"&$D$12&\")=\"&$F$6&\" and Barix(\"&$D$12&\",reference:=StartOfSession)=\"&A28&\"\", \"Bar\", \"\", \"Close\",\"5\",\"0\",\"PrimaryOnly\",,,\"False\",\"T\",\"EveryTick\")","v":405.33},1.7420115966766229E-2,{"$f":"RTD(\"cqg.rtd\",,\"StudyData\", \"Close(\"&$D$12&\") when LocalYear(\"&$D$12&\")=\"&$D$7&\" and localMonth(\"&$D$12&\") =\"&$E$7&\" and LocalDay(\"&$D$12&\")=\"&$F$7&\" and Barix(\"&$D$12&\",reference:=StartOfSession)=\"&A28&\"\", \"Bar\", \"\", \"Close\",\"5\",\"0\",\"PrimaryOnly\",,,\"False\",\"T\",\"EveryTick\")","v":395.7},1.3264365461436053E-2,{"$f":"RTD(\"cqg.rtd\",,\"StudyData\", \"Close(\"&$D$12&\") when LocalYear(\"&$D$12&\")=\"&$D$8&\" and localMonth(\"&$D$12&\") =\"&$E$8&\" and LocalDay(\"&$D$12&\")=\"&$F$8&\" and Barix(\"&$D$12&\",reference:=StartOfSession)=\"&A28&\"\", \"Bar\", \"\", \"Close\",\"5\",\"0\",\"PrimaryOnly\",,,\"False\",\"T\",\"EveryTick\")","v":394.59},-9.0160229042142541E-3,{"$f":"RTD(\"cqg.rtd\",,\"StudyData\", \"Close(\"&$D$12&\") when LocalYear(\"&$D$12&\")=\"&$D$9&\" and localMonth(\"&$D$12&\") =\"&$E$9&\" and LocalDay(\"&$D$12&\")=\"&$F$9&\" and Barix(\"&$D$12&\",reference:=StartOfSession)=\"&A28&\"\", \"Bar\", \"\", \"Close\",\"5\",\"0\",\"PrimaryOnly\",,,\"False\",\"T\",\"EveryTick\")","v":388.34},-7.8941317732417852E-3,{"$f":"RTD(\"cqg.rtd\",,\"StudyData\", \"Close(\"&$D$12&\") when LocalYear(\"&$D$12&\")=\"&$D$10&\" and localMonth(\"&$D$12&\") =\"&$E$10&\" and LocalDay(\"&$D$12&\")=\"&$F$10&\" and Barix(\"&$D$12&\",reference:=StartOfSession)=\"&A28&\"\", \"Bar\", \"\", \"Close\",\"5\",\"0\",\"PrimaryOnly\",,,\"False\",\"T\",\"EveryTick\")","v":392.86},-6.4741287744676601E-3,null,null,null,""]
[28,"10:50:00",null,null,null,null,null,{"$f":"RTD(\"cqg.rtd\",,\"StudyData\", \"Close(\"&$D$12&\") when LocalYear(\"&$D$12&\")=\"&$D$1&\" and localMonth(\"&$D$12&\") =\"&$E$1&\" and LocalDay(\"&$D$12&\")=\"&$F$1&\" and Barix(\"&$D$12&\",reference:=StartOfSession)=\"&A29&\"\", \"Bar\", \"\", \"Close\",\"5\",\"0\",\"PrimaryOnly\",,,\"False\",\"T\",\"EveryTick\")","v":""},{"$error":"#N/A"},{"$f":"RTD(\"cqg.rtd\",,\"StudyData\", \"Close(\"&$D$12&\") when LocalYear(\"&$D$12&\")=\"&$D$2&\" and localMonth(\"&$D$12&\") =\"&$E$2&\" and LocalDay(\"&$D$12&\")=\"&$F$2&\" and Barix(\"&$D$12&\",reference:=StartOfSession)=\"&A29&\"\", \"Bar\", \"\", \"Close\",\"5\",\"0\",\"PrimaryOnly\",,,\"False\",\"T\",\"EveryTick\")","v":410.49},-1.9491221784306626E-2,{"$f":"RTD(\"cqg.rtd\",,\"StudyData\", \"Close(\"&$D$12&\") when LocalYear(\"&$D$12&\")=\"&$D$3&\" and localMonth(\"&$D$12&\") =\"&$E$3&\" and LocalDay(\"&$D$12&\")=\"&$F$3&\" and Barix(\"&$D$12&\",reference:=StartOfSession)=\"&A29&\"\", \"Bar\", \"\", \"Close\",\"5\",\"0\",\"PrimaryOnly\",,,\"False\",\"T\",\"EveryTick\")","v":415.67},9.6239443736064438E-5,{"$f":"RTD(\"cqg.rtd\",,\"StudyData\", \"Close(\"&$D$12&\") when LocalYear(\"&$D$12&\")=\"&$D$4&\" and localMonth(\"&$D$12&\") =\"&$E$4&\" and LocalDay(\"&$D$12&\")=\"&$F$4&\" and Barix(\"&$D$12&\",reference:=StartOfSession)=\"&A29&\"\", \"Bar\", \"\", \"Close\",\"5\",\"0\",\"PrimaryOnly\",,,\"False\",\"T\",\"EveryTick\")","v":418.43},-1.2888750984557855E-3,{"$f":"RTD(\"cqg.rtd\",,\"StudyData\", \"Close(\"&$D$12&\") when LocalYear(\"&$D$12&\")=\"&$D$5&\" and localMonth(\"&$D$12&\") =\"&$E$5&\" and LocalDay(\"&$D$12&\")=\"&$F$5&\" and Barix(\"&$D$12&\",reference:=StartOfSession)=\"&A29&\"\", \"Bar\", \"\", \"Close\",\"5\",\"0\",\"PrimaryOnly\",,,\"False\",\"T\",\"EveryTick\")","v":413.87},1.3766074709124321E-2,{"$f":"RTD(\"cqg.rtd\",,\"StudyData\", \"Close(\"&$D$12&\") when LocalYear(\"&$D$12&\")=\"&$D$6&\" and localMonth(\"&$D$12&\") =\"&$E$6&\" and LocalDay(\"&$D$12&\")=\"&$F$6&\" and Barix(\"&$D$12&\",reference:=StartOfSession)=\"&A29&\"\", \"Bar\", \"\", \"Close\",\"5\",\"0\",\"PrimaryOnly\",,,\"False\",\"T\",\"EveryTick\")","v":404.91},1.6365872637365494E-2,{"$f":"RTD(\"cqg.rtd\",,\"StudyData\", \"Close(\"&$D$12&\") when LocalYear(\"&$D$12&\")=\"&$D$7&\" and localMonth(\"&$D$12&\") =\"&$E$7&\" and LocalDay(\"&$D$12&\")=\"&$F$7&\" and Barix(\"&$D$12&\",reference:=StartOfSession)=\"&A29&\"\", \"Bar\", \"\", \"Close\",\"5\",\"0\",\"PrimaryOnly\",,,\"False\",\"T\",\"EveryTick\")","v":396.03},1.4109392604732129E-2,{"$f":"RTD(\"cqg.rtd\",,\"StudyData\", \"Close(\"&$D$12&\") when LocalYear(\"&$D$12&\")=\"&$D$8&\" and localMonth(\"&$D$12&\") =\"&$E$8&\" and LocalDay(\"&$D$12&\")=\"&$F$8&\" and Barix(\"&$D$12&\",reference:=StartOfSession)=\"&A29&\"\", \"Bar\", \"\", \"Close\",\"5\",\"0\",\"PrimaryOnly\",,,\"False\",\"T\",\"EveryTick\")","v":393.05},-1.2883620473152833E-2,{"$f":"RTD(\"cqg.rtd\",,\"StudyData\", \"Close(\"&$D$12&\") when LocalYear(\"&$D$12&\")=\"&$D$9&\" and localMonth(\"&$D$12&\") =\"&$E$9&\" and LocalDay(\"&$D$12&\")=\"&$F$9&\" and Barix(\"&$D$12&\",reference:=StartOfSession)=\"&A29&\"\", \"Bar\", \"\", \"Close\",\"5\",\"0\",\"PrimaryOnly\",,,\"False\",\"T\",\"EveryTick\")","v":389.76},-4.2664077868329355E-3,{"$f":"RTD(\"cqg.rtd\",,\"StudyData\", \"Close(\"&$D$12&\") when LocalYear(\"&$D$12&\")=\"&$D$10&\" and localMonth(\"&$D$12&\") =\"&$E$10&\" and LocalDay(\"&$D$12&\")=\"&$F$10&\" and Barix(\"&$D$12&\",reference:=StartOfSession)=\"&A29&\"\", \"Bar\", \"\", \"Close\",\"5\",\"0\",\"PrimaryOnly\",,,\"False\",\"T\",\"EveryTick\")","v":391.77},-9.2306914167215471E-3,null,null,null,""]
[29,"10:55:00",null,null,null,null,null,{"$f":"RTD(\"cqg.rtd\",,\"StudyData\", \"Close(\"&$D$12&\") when LocalYear(\"&$D$12&\")=\"&$D$1&\" and localMonth(\"&$D$12&\") =\"&$E$1&\" and LocalDay(\"&$D$12&\")=\"&$F$1&\" and Barix(\"&$D$12&\",reference:=StartOfSession)=\"&A30&\"\", \"Bar\", \"\", \"Close\",\"5\",\"0\",\"PrimaryOnly\",,,\"False\",\"T\",\"EveryTick\")","v":""},{"$error":"#N/A"},{"$f":"RTD(\"cqg.rtd\",,\"StudyData\", \"Close(\"&$D$12&\") when LocalYear(\"&$D$12&\")=\"&$D$2&\" and localMonth(\"&$D$12&\") =\"&$E$2&\" and LocalDay(\"&$D$12&\")=\"&$F$2&\" and Barix(\"&$D$12&\",reference:=StartOfSession)=\"&A30&\"\", \"Bar\", \"\", \"Close\",\"5\",\"0\",\"PrimaryOnly\",,,\"False\",\"T\",\"EveryTick\")","v":410.97},-1.8344679326406186E-2,{"$f":"RTD(\"cqg.rtd\",,\"StudyData\", \"Close(\"&$D$12&\") when LocalYear(\"&$D$12&\")=\"&$D$3&\" and localMonth(\"&$D$12&\") =\"&$E$3&\" and LocalDay(\"&$D$12&\")=\"&$F$3&\" and Barix(\"&$D$12&\",reference:=StartOfSession)=\"&A30&\"\", \"Bar\", \"\", \"Close\",\"5\",\"0\",\"PrimaryOnly\",,,\"False\",\"T\",\"EveryTick\")","v":415.93},7.217958280201414E-4,{"$f":"RTD(\"cqg.rtd\",,\"StudyData\", \"Close(\"&$D$12&\") when LocalYear(\"&$D$12&\")=\"&$D$4&\" and localMonth(\"&$D$12&\") =\"&$E$4&\" and LocalDay(\"&$D$12&\")=\"&$F$4&\" and Barix(\"&$D$12&\",reference:=StartOfSession)=\"&A30&\"\", \"Bar\", \"\", \"Close\",\"5\",\"0\",\"PrimaryOnly\",,,\"False\",\"T\",\"EveryTick\")","v":418.54},-1.0263264672888436E-3,{"$f":"RTD(\"cqg.rtd\",,\"StudyData\", \"Close(\"&$D$12&\") when LocalYear(\"&$D$12&\")=\"&$D$5&\" and localMonth(\"&$D$12&\") =\"&$E$5&\" and LocalDay(\"&$D$12&\")=\"&$F$5&\" and Barix(\"&$D$12&\",reference:=StartOfSession)=\"&A30&\"\", \"Bar\", \"\", \"Close\",\"5\",\"0\",\"PrimaryOnly\",,,\"False\",\"T\",\"EveryTick\")","v":413.58},1.3055725658297573E-2,{"$f":"RTD(\"cqg.rtd\",,\"StudyData\", \"Close(\"&$D$12&\") when LocalYear(\"&$D$12&\")=\"&$D$6&\" and localMonth(\"&$D$12&\") =\"&$E$6&\" and LocalDay(\"&$D$12&\")=\"&$F$6&\" and Barix(\"&$D$12&\",reference:=StartOfSession)=\"&A30&\"\", \"Bar\", \"\", \"Close\",\"5\",\"0\",\"PrimaryOnly\",,,\"False\",\"T\",\"EveryTick\")","v":405.04},1.6692186048846695E-2,{"$f":"RTD(\"cqg.rtd\",,\"StudyData\", \"Close(\"&$D$12&\") when LocalYear(\"&$D$12&\")=\"&$D$7&\" and localMonth(\"&$D$12&\") =\"&$E$7&\" and LocalDay(\"&$D$12&\")=\"&$F$7&\" and Barix(\"&$D$12&\",reference:=StartOfSession)=\"&A30&\"\", \"Bar\", \"\", \"Close\",\"5\",\"0\",\"PrimaryOnly\",,,\"False\",\"T\",\"EveryTick\")","v":396.12},1.433985455290388E-2,{"$f":"RTD(\"cqg.rtd\",,\"StudyData\", \"Close(\"&$D$12&\") when LocalYear(\"&$D$12&\")=\"&$D$8&\" and localMonth(\"&$D$12&\") =\"&$E$8&\" and LocalDay(\"&$D$12&\")=\"&$F$8&\" and Barix(\"&$D$12&\",reference:=StartOfSession)=\"&A30&\"\", \"Bar\", \"\", \"Close\",\"5\",\"0\",\"PrimaryOnly\",,,\"False\",\"T\",\"EveryTick\")","v":393.77},-1.1075393038324438E-2,{"$f":"RTD(\"cqg.rtd\",,\"StudyData\", \"Close(\"&$D$12&\") when LocalYear(\"&$D$12&\")=\"&$D$9&\" and localMonth(\"&$D$12&\") =\"&$E$9&\" and LocalDay(\"&$D$12&\")=\"&$F$9&\" and Barix(\"&$D$12&\",reference:=StartOfSession)=\"&A30&\"\", \"Bar\", \"\", \"Close\",\"5\",\"0\",\"PrimaryOnly\",,,\"False\",\"T\",\"EveryTick\")","v":389.85},-4.0364816186801832E-3,{"$f":"RTD(\"cqg.rtd\",,\"StudyData\", \"Close(\"&$D$12&\") when LocalYear(\"&$D$12&\")=\"&$D$10&\" and localMonth(\"&$D$12&\") =\"&$E$10&\" and LocalDay(\"&$D$12&\")=\"&$F$10&\" and Barix(\"&$D$12&\",reference:=StartOfSession)=\"&A30&\"\", \"Bar\", \"\", \"Close\",\"5\",\"0\",\"PrimaryOnly\",,,\"False\",\"T\",\"EveryTick\")","v":393},-6.1200748571139949E-3,null,null,null,""]
[30,"11:00:00",null,null,null,null,null,{"$f":"RTD(\"cqg.rtd\",,\"StudyData\", \"Close(\"&$D$12&\") when LocalYear(\"&$D$12&\")=\"&$D$1&\" and localMonth(\"&$D$12&\") =\"&$E$1&\" and LocalDay(\"&$D$12&\")=\"&$F$1&\" and Barix(\"&$D$12&\",reference:=StartOfSession)=\"&A31&\"\", \"Bar\", \"\", \"Close\",\"5\",\"0\",\"PrimaryOnly\",,,\"False\",\"T\",\"EveryTick\")","v":""},{"$error":"#N/A"},{"$f":"RTD(\"cqg.rtd\",,\"StudyData\", \"Close(\"&$D$12&\") when LocalYear(\"&$D$12&\")=\"&$D$2&\" and localMonth(\"&$D$12&\") =\"&$E$2&\" and LocalDay(\"&$D$12&\")=\"&$F$2&\" and Barix(\"&$D$12&\",reference:=StartOfSession)=\"&A31&\"\", \"Bar\", \"\", \"Close\",\"5\",\"0\",\"PrimaryOnly\",,,\"False\",\"T\",\"EveryTick\")","v":411.08},-1.8081930013137449E-2,{"$f":"RTD(\"cqg.rtd\",,\"StudyData\", \"Close(\"&$D$12&\") when LocalYear(\"&$D$12&\")=\"&$D$3&\" and localMonth(\"&$D$12&\") =\"&$E$3&\" and LocalDay(\"&$D$12&\")=\"&$F$3&\" and Barix(\"&$D$12&\",reference:=StartOfSession)=\"&A31&\"\", \"Bar\", \"\", \"Close\",\"5\",\"0\",\"PrimaryOnly\",,,\"False\",\"T\",\"EveryTick\")","v":416.02},9.3833457642611548E-4,{"$f":"RTD(\"cqg.rtd\",,\"StudyData\", \"Close(\"&$D$12&\") when LocalYear(\"&$D$12&\")=\"&$D$4&\" and localMonth(\"&$D$12&\") =\"&$E$4&\" and LocalDay(\"&$D$12&\")=\"&$F$4&\" and Barix(\"&$D$12&\",reference:=StartOfSession)=\"&A31&\"\", \"Bar\", \"\", \"Close\",\"5\",\"0\",\"PrimaryOnly\",,,\"False\",\"T\",\"EveryTick\")","v":417.94},-2.458409910017494E-3,{"$f":"RTD(\"cqg.rtd\",,\"StudyData\", \"Close(\"&$D$12&\") when LocalYear(\"&$D$12&\")=\"&$D$5&\" and localMonth(\"&$D$12&\") =\"&$E$5&\" and LocalDay(\"&$D$12&\")=\"&$F$5&\" and Barix(\"&$D$12&\",reference:=StartOfSession)=\"&A31&\"\", \"Bar\", \"\", \"Close\",\"5\",\"0\",\"PrimaryOnly\",,,\"False\",\"T\",\"EveryTick\")","v":413.26},1.2271892222902611E-2,{"$f":"RTD(\"cqg.rtd\",,\"StudyData\", \"Close(\"&$D$12&\") when LocalYear(\"&$D$12&\")=\"&$D$6&\" and localMonth(\"&$D$12&\") =\"&$E$6&\" and LocalDay(\"&$D$12&\")=\"&$F$6&\" and Barix(\"&$D$12&\",reference:=StartOfSession)=\"&A31&\"\", \"Bar\", \"\", \"Close\",\"5\",\"0\",\"PrimaryOnly\",,,\"False\",\"T\",\"EveryTick\")","v":405.04},1.6692186048846695E-2,{"$f":"RTD(\"cqg.rtd\",,\"StudyData\", \"Close(\"&$D$12&\") when LocalYear(\"&$D$12&\")=\"&$D$7&\" and localMonth(\"&$D$12&\") =\"&$E$7&\" and LocalDay(\"&$D$12&\")=\"&$F$7&\" and Barix(\"&$D$12&\",reference:=StartOfSession)=\"&A31&\"\", \"Bar\", \"\", \"Close\",\"5\",\"0\",\"PrimaryOnly\",,,\"False\",\"T\",\"EveryTick\")","v":396.45},1.5184881696199956E-2,{"$f":"RTD(\"cqg.rtd\",,\"StudyData\", \"Close(\"&$D$12&\") when LocalYear(\"&$D$12&\")=\"&$D$8&\" and localMonth(\"&$D$12&\") =\"&$E$8&\" and LocalDay(\"&$D$12&\")=\"&$F$8&\" and Barix(\"&$D$12&\",reference:=StartOfSession)=\"&A31&\"\", \"Bar\", \"\", \"Close\",\"5\",\"0\",\"PrimaryOnly\",,,\"False\",\"T\",\"EveryTick\")","v":393.4},-1.2004621025666858E-2,{"$f":"RTD(\"cqg.rtd\",,\"StudyData\", \"Close(\"&$D$12&\") when LocalYear(\"&$D$12&\")=\"&$D$9&\" and localMonth(\"&$D$12&\") =\"&$E$9&\" and LocalDay(\"&$D$12&\")=\"&$F$9&\" and Barix(\"&$D$12&\",reference:=StartOfSession)=\"&A31&\"\", \"Bar\", \"\", \"Close\",\"5\",\"0\",\"PrimaryOnly\",,,\"False\",\"T\",\"EveryTick\")","v":390.64},-2.018240809340164E-3,{"$f":"RTD(\"cqg.rtd\",,\"StudyData\", \"Close(\"&$D$12&\") when LocalYear(\"&$D$12&\")=\"&$D$10&\" and localMonth(\"&$D$12&\") =\"&$E$10&\" and LocalDay(\"&$D$12&\")=\"&$F$10&\" and Barix(\"&$D$12&\",reference:=StartOfSession)=\"&A31&\"\", \"Bar\", \"\", \"Close\",\"5\",\"0\",\"PrimaryOnly\",,,\"False\",\"T\",\"EveryTick\")","v":392.78},-6.6764452986698775E-3,null,null,null,""]
[31,"11:05:00",null,null,null,null,null,{"$f":"RTD(\"cqg.rtd\",,\"StudyData\", \"Close(\"&$D$12&\") when LocalYear(\"&$D$12&\")=\"&$D$1&\" and localMonth(\"&$D$12&\") =\"&$E$1&\" and LocalDay(\"&$D$12&\")=\"&$F$1&\" and Barix(\"&$D$12&\",reference:=StartOfSession)=\"&A32&\"\", \"Bar\", \"\", \"Close\",\"5\",\"0\",\"PrimaryOnly\",,,\"False\",\"T\",\"EveryTick\")","v":""},{"$error":"#N/A"},{"$f":"RTD(\"cqg.rtd\",,\"StudyData\", \"Close(\"&$D$12&\") when LocalYear(\"&$D$12&\")=\"&$D$2&\" and localMonth(\"&$D$12&\") =\"&$E$2&\" and LocalDay(\"&$D$12&\")=\"&$F$2&\" and Barix(\"&$D$12&\",reference:=StartOfSession)=\"&A32&\"\", \"Bar\", \"\", \"Close\",\"5\",\"0\",\"PrimaryOnly\",,,\"False\",\"T\",\"EveryTick\")","v":411.88},-1.6171025916636765E-2,{"$f":"RTD(\"cqg.rtd\",,\"StudyData\", \"Close(\"&$D$12&\") when LocalYear(\"&$D$12&\")=\"&$D$3&\" and localMonth(\"&$D$12&\") =\"&$E$3&\" and LocalDay(\"&$D$12&\")=\"&$F$3&\" and Barix(\"&$D$12&\",reference:=StartOfSession)=\"&A32&\"\", \"Bar\", \"\", \"Close\",\"5\",\"0\",\"PrimaryOnly\",,,\"False\",\"T\",\"EveryTick\")","v":415.39},-5.7743666241611314E-4,{"$f":"RTD(\"cqg.rtd\",,\"StudyData\", \"Close(\"&$D$12&\") when LocalYear(\"&$D$12&\")=\"&$D$4&\" and localMonth(\"&$D$12&\") =\"&$E$4&\" and LocalDay(\"&$D$12&\")=\"&$F$4&\" and Barix(\"&$D$12&\",reference:=StartOfSession)=\"&A32&\"\", \"Bar\", \"\", \"Close\",\"5\",\"0\",\"PrimaryOnly\",,,\"False\",\"T\",\"EveryTick\")","v":417.43},-3.6756808363367791E-3,{"$f":"RTD(\"cqg.rtd\",,\"StudyData\", \"Close(\"&$D$12&\") when LocalYear(\"&$D$12&\")=\"&$D$5&\" and localMonth(\"&$D$12&\") =\"&$E$5&\" and LocalDay(\"&$D$12&\")=\"&$F$5&\" and Barix(\"&$D$12&\",reference:=StartOfSession)=\"&A32&\"\", \"Bar\", \"\", \"Close\",\"5\",\"0\",\"PrimaryOnly\",,,\"False\",\"T\",\"EveryTick\")","v":413.62},1.3153704837721995E-2,{"$f":"RTD(\"cqg.rtd\",,\"StudyData\", \"Close(\"&$D$12&\") when LocalYear(\"&$D$12&\")=\"&$D$6&\" and localMonth(\"&$D$12&\") =\"&$E$6&\" and LocalDay(\"&$D$12&\")=\"&$F$6&\" and Barix(\"&$D$12&\",reference:=StartOfSession)=\"&A32&\"\", \"Bar\", \"\", \"Close\",\"5\",\"0\",\"PrimaryOnly\",,,\"False\",\"T\",\"EveryTick\")","v":405.32},1.7395014935113851E-2,{"$f":"RTD(\"cqg.rtd\",,\"StudyData\", \"Close(\"&$D$12&\") when LocalYear(\"&$D$12&\")=\"&$D$7&\" and localMonth(\"&$D$12&\") =\"&$E$7&\" and LocalDay(\"&$D$12&\")=\"&$F$7&\" and Barix(\"&$D$12&\",reference:=StartOfSession)=\"&A32&\"\", \"Bar\", \"\", \"Close\",\"5\",\"0\",\"PrimaryOnly\",,,\"False\",\"T\",\"EveryTick\")","v":395.94},1.3878930656560524E-2,{"$f":"RTD(\"cqg.rtd\",,\"StudyData\", \"Close(\"&$D$12&\") when LocalYear(\"&$D$12&\")=\"&$D$8&\" and localMonth(\"&$D$12&\") =\"&$E$8&\" and LocalDay(\"&$D$12&\")=\"&$F$8&\" and Barix(\"&$D$12&\",reference:=StartOfSession)=\"&A32&\"\", \"Bar\", \"\", \"Close\",\"5\",\"0\",\"PrimaryOnly\",,,\"False\",\"T\",\"EveryTick\")","v":393.61},-1.1477221357175129E-2,{"$f":"RTD(\"cqg.rtd\",,\"StudyData\", \"Close(\"&$D$12&\") when LocalYear(\"&$D$12&\")=\"&$D$9&\" and localMonth(\"&$D$12&\") =\"&$E$9&\" and LocalDay(\"&$D$12&\")=\"&$F$9&\" and Barix(\"&$D$12&\",reference:=StartOfSession)=\"&A32&\"\", \"Bar\", \"\", \"Close\",\"5\",\"0\",\"PrimaryOnly\",,,\"False\",\"T\",\"EveryTick\")","v":390.63},-2.0437881613571043E-3,{"$f":"RTD(\"cqg.rtd\",,\"StudyData\", \"Close(\"&$D$12&\") when LocalYear(\"&$D$12&\")=\"&$D$10&\" and localMonth(\"&$D$12&\") =\"&$E$10&\" and LocalDay(\"&$D$12&\")=\"&$F$10&\" and Barix(\"&$D$12&\",reference:=StartOfSession)=\"&A32&\"\", \"Bar\", \"\", \"Close\",\"5\",\"0\",\"PrimaryOnly\",,,\"False\",\"T\",\"EveryTick\")","v":393.3},-5.361387891356038E-3,null,null,null,""]
[32,"11:10:00",null,null,null,null,null,{"$f":"RTD(\"cqg.rtd\",,\"StudyData\", \"Close(\"&$D$12&\") when LocalYear(\"&$D$12&\")=\"&$D$1&\" and localMonth(\"&$D$12&\") =\"&$E$1&\" and LocalDay(\"&$D$12&\")=\"&$F$1&\" and Barix(\"&$D$12&\",reference:=StartOfSession)=\"&A33&\"\", \"Bar\", \"\", \"Close\",\"5\",\"0\",\"PrimaryOnly\",,,\"False\",\"T\",\"EveryTick\")","v":""},{"$error":"#N/A"},{"$f":"RTD(\"cqg.rtd\",,\"StudyData\", \"Close(\"&$D$12&\") when LocalYear(\"&$D$12&\")=\"&$D$2&\" and localMonth(\"&$D$12&\") =\"&$E$2&\" and LocalDay(\"&$D$12&\")=\"&$F$2&\" and Barix(\"&$D$12&\",reference:=StartOfSession)=\"&A33&\"\", \"Bar\", \"\", \"Close\",\"5\",\"0\",\"PrimaryOnly\",,,\"False\",\"T\",\"EveryTick\")","v":412.76},-1.4069031410486054E-2,{"$f":"RTD(\"cqg.rtd\",,\"StudyData\", \"Close(\"&$D$12&\") when LocalYear(\"&$D$12&\")=\"&$D$3&\" and localMonth(\"&$D$12&\") =\"&$E$3&\" and LocalDay(\"&$D$12&\")=\"&$F$3&\" and Barix(\"&$D$12&\",reference:=StartOfSession)=\"&A33&\"\", \"Bar\", \"\", \"Close\",\"5\",\"0\",\"PrimaryOnly\",,,\"False\",\"T\",\"EveryTick\")","v":415.79},3.8495777494412098E-4,{"$f":"RTD(\"cqg.rtd\",,\"StudyData\", \"Close(\"&$D$12&\") when LocalYear(\"&$D$12&\")=\"&$D$4&\" and localMonth(\"&$D$12&\") =\"&$E$4&\" and LocalDay(\"&$D$12&\")=\"&$F$4&\" and Barix(\"&$D$12&\",reference:=StartOfSession)=\"&A33&\"\", \"Bar\", \"\", \"Close\",\"5\",\"0\",\"PrimaryOnly\",,,\"False\",\"T\",\"EveryTick\")","v":418.04},-2.2197293362293405E-3,{"$f":"RTD(\"cqg.rtd\",,\"StudyData\", \"Close(\"&$D$12&\") when LocalYear(\"&$D$12&\")=\"&$D$5&\" and localMonth(\"&$D$12&\") =\"&$E$5&\" and LocalDay(\"&$D$12&\")=\"&$F$5&\" and Barix(\"&$D$12&\",reference:=StartOfSession)=\"&A33&\"\", \"Bar\", \"\", \"Close\",\"5\",\"0\",\"PrimaryOnly\",,,\"False\",\"T\",\"EveryTick\")","v":413.1},1.18799755052052E-2,{"$f":"RTD(\"cqg.rtd\",,\"StudyData\", \"Close(\"&$D$12&\") when LocalYear(\"&$D$12&\")=\"&$D$6&\" and localMonth(\"&$D$12&\") =\"&$E$6&\" and LocalDay(\"&$D$12&\")=\"&$F$6&\" and Barix(\"&$D$12&\",reference:=StartOfSession)=\"&A33&\"\", \"Bar\", \"\", \"Close\",\"5\",\"0\",\"PrimaryOnly\",,,\"False\",\"T\",\"EveryTick\")","v":405.46},1.7746429378247431E-2,{"$f":"RTD(\"cqg.rtd\",,\"StudyData\", \"Close(\"&$D$12&\") when LocalYear(\"&$D$12&\")=\"&$D$7&\" and localMonth(\"&$D$12&\") =\"&$E$7&\" and LocalDay(\"&$D$12&\")=\"&$F$7&\" and Barix(\"&$D$12&\",reference:=StartOfSession)=\"&A33&\"\", \"Bar\", \"\", \"Close\",\"5\",\"0\",\"PrimaryOnly\",,,\"False\",\"T\",\"EveryTick\")","v":395.86},1.3674075591519083E-2,{"$f":"RTD(\"cqg.rtd\",,\"StudyData\", \"Close(\"&$D$12&\") when LocalYear(\"&$D$12&\")=\"&$D$8&\" and localMonth(\"&$D$12&\") =\"&$E$8&\" and LocalDay(\"&$D$12&\")=\"&$F$8&\" and Barix(\"&$D$12&\",reference:=StartOfSession)=\"&A33&\"\", \"Bar\", \"\", \"Close\",\"5\",\"0\",\"PrimaryOnly\",,,\"False\",\"T\",\"EveryTick\")","v":391.55},-1.6650760962378813E-2,{"$f":"RTD(\"cqg.rtd\",,\"StudyData\", \"Close(\"&$D$12&\") when LocalYear(\"&$D$12&\")=\"&$D$9&\" and localMonth(\"&$D$12&\") =\"&$E$9&\" and LocalDay(\"&$D$12&\")=\"&$F$9&\" and Barix(\"&$D$12&\",reference:=StartOfSession)=\"&A33&\"\", \"Bar\", \"\", \"Close\",\"5\",\"0\",\"PrimaryOnly\",,,\"False\",\"T\",\"EveryTick\")","v":390.25},-3.0145875380017035E-3,{"$f":"RTD(\"cqg.rtd\",,\"StudyData\", \"Close(\"&$D$12&\") when LocalYear(\"&$D$12&\")=\"&$D$10&\" and localMonth(\"&$D$12&\") =\"&$E$10&\" and LocalDay(\"&$D$12&\")=\"&$F$10&\" and Barix(\"&$D$12&\",reference:=StartOfSession)=\"&A33&\"\", \"Bar\", \"\", \"Close\",\"5\",\"0\",\"PrimaryOnly\",,,\"False\",\"T\",\"EveryTick\")","v":392.71},-6.8534722573467101E-3,null,null,null,""]
[33,"11:15:00",null,null,null,null,null,{"$f":"RTD(\"cqg.rtd\",,\"StudyData\", \"Close(\"&$D$12&\") when LocalYear(\"&$D$12&\")=\"&$D$1&\" and localMonth(\"&$D$12&\") =\"&$E$1&\" and LocalDay(\"&$D$12&\")=\"&$F$1&\" and Barix(\"&$D$12&\",reference:=StartOfSession)=\"&A34&\"\", \"Bar\", \"\", \"Close\",\"5\",\"0\",\"PrimaryOnly\",,,\"False\",\"T\",\"EveryTick\")","v":""},{"$error":"#N/A"},{"$f":"RTD(\"cqg.rtd\",,\"StudyData\", \"Close(\"&$D$12&\") when LocalYear(\"&$D$12&\")=\"&$D$2&\" and localMonth(\"&$D$12&\") =\"&$E$2&\" and LocalDay(\"&$D$12&\")=\"&$F$2&\" and Barix(\"&$D$12&\",reference:=StartOfSession)=\"&A34&\"\", \"Bar\", \"\", \"Close\",\"5\",\"0\",\"PrimaryOnly\",,,\"False\",\"T\",\"EveryTick\")","v":412.46},-1.4785620446673827E-2,{"$f":"RTD(\"cqg.rtd\",,\"StudyData\", \"Close(\"&$D$12&\") when LocalYear(\"&$D$12&\")=\"&$D$3&\" and localMonth(\"&$D$12&\") =\"&$E$3&\" and LocalDay(\"&$D$12&\")=\"&$F$3&\" and Barix(\"&$D$12&\",reference:=StartOfSession)=\"&A34&\"\", \"Bar\", \"\", \"Close\",\"5\",\"0\",\"PrimaryOnly\",,,\"False\",\"T\",\"EveryTick\")","v":416.11},1.1548733248322263E-3,{"$f":"RTD(\"cqg.rtd\",,\"StudyData\", \"Close(\"&$D$12&\") when LocalYear(\"&$D$12&\")=\"&$D$4&\" and localMonth(\"&$D$12&\") =\"&$E$4&\" and LocalDay(\"&$D$12&\")=\"&$F$4&\" and Barix(\"&$D$12&\",reference:=StartOfSession)=\"&A34&\"\", \"Bar\", \"\", \"Close\",\"5\",\"0\",\"PrimaryOnly\",,,\"False\",\"T\",\"EveryTick\")","v":417.84},-2.6970904838056475E-3,{"$f":"RTD(\"cqg.rtd\",,\"StudyData\", \"Close(\"&$D$12&\") when LocalYear(\"&$D$12&\")=\"&$D$5&\" and localMonth(\"&$D$12&\") =\"&$E$5&\" and LocalDay(\"&$D$12&\")=\"&$F$5&\" and Barix(\"&$D$12&\",reference:=StartOfSession)=\"&A34&\"\", \"Bar\", \"\", \"Close\",\"5\",\"0\",\"PrimaryOnly\",,,\"False\",\"T\",\"EveryTick\")","v":412.42},1.0214329454990853E-2,{"$f":"RTD(\"cqg.rtd\",,\"StudyData\", \"Close(\"&$D$12&\") when LocalYear(\"&$D$12&\")=\"&$D$6&\" and localMonth(\"&$D$12&\") =\"&$E$6&\" and LocalDay(\"&$D$12&\")=\"&$F$6&\" and Barix(\"&$D$12&\",reference:=StartOfSession)=\"&A34&\"\", \"Bar\", \"\", \"Close\",\"5\",\"0\",\"PrimaryOnly\",,,\"False\",\"T\",\"EveryTick\")","v":405.53},1.7922136599814217E-2,{"$f":"RTD(\"cqg.rtd\",,\"StudyData\", \"Close(\"&$D$12&\") when LocalYear(\"&$D$12&\")=\"&$D$7&\" and localMonth(\"&$D$12&\") =\"&$E$7&\" and LocalDay(\"&$D$12&\")=\"&$F$7&\" and Barix(\"&$D$12&\",reference:=StartOfSession)=\"&A34&\"\", \"Bar\", \"\", \"Close\",\"5\",\"0\",\"PrimaryOnly\",,,\"False\",\"T\",\"EveryTick\")","v":396.14},1.4391068319164204E-2,{"$f":"RTD(\"cqg.rtd\",,\"StudyData\", \"Close(\"&$D$12&\") when LocalYear(\"&$D$12&\")=\"&$D$8&\" and localMonth(\"&$D$12&\") =\"&$E$8&\" and LocalDay(\"&$D$12&\")=\"&$F$8&\" and Barix(\"&$D$12&\",reference:=StartOfSession)=\"&A34&\"\", \"Bar\", \"\", \"Close\",\"5\",\"0\",\"PrimaryOnly\",,,\"False\",\"T\",\"EveryTick\")","v":392.42},-1.4465819478627732E-2,{"$f":"RTD(\"cqg.rtd\",,\"StudyData\", \"Close(\"&$D$12&\") when LocalYear(\"&$D$12&\")=\"&$D$9&\" and localMonth(\"&$D$12&\") =\"&$E$9&\" and LocalDay(\"&$D$12&\")=\"&$F$9&\" and Barix(\"&$D$12&\",reference:=StartOfSession)=\"&A34&\"\", \"Bar\", \"\", \"Close\",\"5\",\"0\",\"PrimaryOnly\",,,\"False\",\"T\",\"EveryTick\")","v":390.32},-2.835756073882977E-3,{"$f":"RTD(\"cqg.rtd\",,\"StudyData\", \"Close(\"&$D$12&\") when LocalYear(\"&$D$12&\")=\"&$D$10&\" and localMonth(\"&$D$12&\") =\"&$E$10&\" and LocalDay(\"&$D$12&\")=\"&$F$10&\" and Barix(\"&$D$12&\",reference:=StartOfSession)=\"&A34&\"\", \"Bar\", \"\", \"Close\",\"5\",\"0\",\"PrimaryOnly\",,,\"False\",\"T\",\"EveryTick\")","v":392.62},-7.081078347074026E-3,null,null,null,""]
[34,"11:20:00",null,null,null,null,null,{"$f":"RTD(\"cqg.rtd\",,\"StudyData\", \"Close(\"&$D$12&\") when LocalYear(\"&$D$12&\")=\"&$D$1&\" and localMonth(\"&$D$12&\") =\"&$E$1&\" and LocalDay(\"&$D$12&\")=\"&$F$1&\" and Barix(\"&$D$12&\",reference:=StartOfSession)=\"&A35&\"\", \"Bar\", \"\", \"Close\",\"5\",\"0\",\"PrimaryOnly\",,,\"False\",\"T\",\"EveryTick\")","v":""},{"$error":"#N/A"},{"$f":"RTD(\"cqg.rtd\",,\"StudyData\", \"Close(\"&$D$12&\") when LocalYear(\"&$D$12&\")=\"&$D$2&\" and localMonth(\"&$D$12&\") =\"&$E$2&\" and LocalDay(\"&$D$12&\")=\"&$F$2&\" and Barix(\"&$D$12&\",reference:=StartOfSession)=\"&A35&\"\", \"Bar\", \"\", \"Close\",\"5\",\"0\",\"PrimaryOnly\",,,\"False\",\"T\",\"EveryTick\")","v":411.93},-1.6051594410605448E-2,{"$f":"RTD(\"cqg.rtd\",,\"StudyData\", \"Close(\"&$D$12&\") when LocalYear(\"&$D$12&\")=\"&$D$3&\" and localMonth(\"&$D$12&\") =\"&$E$3&\" and LocalDay(\"&$D$12&\")=\"&$F$3&\" and Barix(\"&$D$12&\",reference:=StartOfSession)=\"&A35&\"\", \"Bar\", \"\", \"Close\",\"5\",\"0\",\"PrimaryOnly\",,,\"False\",\"T\",\"EveryTick\")","v":416.97},3.224021365156586E-3,{"$f":"RTD(\"cqg.rtd\",,\"StudyData\", \"Close(\"&$D$12&\") when LocalYear(\"&$D$12&\")=\"&$D$4&\" and localMonth(\"&$D$12&\") =\"&$E$4&\" and LocalDay(\"&$D$12&\")=\"&$F$4&\" and Barix(\"&$D$12&\",reference:=StartOfSession)=\"&A35&\"\", \"Bar\", \"\", \"Close\",\"5\",\"0\",\"PrimaryOnly\",,,\"False\",\"T\",\"EveryTick\")","v":417.48},-3.5563405494427021E-3,{"$f":"RTD(\"cqg.rtd\",,\"StudyData\", \"Close(\"&$D$12&\") when LocalYear(\"&$D$12&\")=\"&$D$5&\" and localMonth(\"&$D$12&\") =\"&$E$5&\" and LocalDay(\"&$D$12&\")=\"&$F$5&\" and Barix(\"&$D$12&\",reference:=StartOfSession)=\"&A35&\"\", \"Bar\", \"\", \"Close\",\"5\",\"0\",\"PrimaryOnly\",,,\"False\",\"T\",\"EveryTick\")","v":411.3},7.4709124311084169E-3,{"$f":"RTD(\"cqg.rtd\",,\"StudyData\", \"Close(\"&$D$12&\") when LocalYear(\"&$D$12&\")=\"&$D$6&\" and localMonth(\"&$D$12&\") =\"&$E$6&\" and LocalDay(\"&$D$12&\")=\"&$F$6&\" and Barix(\"&$D$12&\",reference:=StartOfSession)=\"&A35&\"\", \"Bar\", \"\", \"Close\",\"5\",\"0\",\"PrimaryOnly\",,,\"False\",\"T\",\"EveryTick\")","v":405.62},1.8148045884685906E-2,{"$f":"RTD(\"cqg.rtd\",,\"StudyData\", \"Close(\"&$D$12&\") when LocalYear(\"&$D$12&\")=\"&$D$7&\" and localMonth(\"&$D$12&\") =\"&$E$7&\" and LocalDay(\"&$D$12&\")=\"&$F$7&\" and Barix(\"&$D$12&\",reference:=StartOfSession)=\"&A35&\"\", \"Bar\", \"\", \"Close\",\"5\",\"0\",\"PrimaryOnly\",,,\"False\",\"T\",\"EveryTick\")","v":396.22},1.4595923384205792E-2,{"$f":"RTD(\"cqg.rtd\",,\"StudyData\", \"Close(\"&$D$12&\") when LocalYear(\"&$D$12&\")=\"&$D$8&\" and localMonth(\"&$D$12&\") =\"&$E$8&\" and LocalDay(\"&$D$12&\")=\"&$F$8&\" and Barix(\"&$D$12&\",reference:=StartOfSession)=\"&A35&\"\", \"Bar\", \"\", \"Close\",\"5\",\"0\",\"PrimaryOnly\",,,\"False\",\"T\",\"EveryTick\")","v":393.06},-1.2858506203224684E-2,{"$f":"RTD(\"cqg.rtd\",,\"StudyData\", \"Close(\"&$D$12&\") when LocalYear(\"&$D$12&\")=\"&$D$9&\" and localMonth(\"&$D$12&\") =\"&$E$9&\" and LocalDay(\"&$D$12&\")=\"&$F$9&\" and Barix(\"&$D$12&\",reference:=StartOfSession)=\"&A35&\"\", \"Bar\", \"\", \"Close\",\"5\",\"0\",\"PrimaryOnly\",,,\"False\",\"T\",\"EveryTick\")","v":390.47},-2.4525457936284381E-3,{"$f":"RTD(\"cqg.rtd\",,\"StudyData\", \"Close(\"&$D$12&\") when LocalYear(\"&$D$12&\")=\"&$D$10&\" and localMonth(\"&$D$12&\") =\"&$E$10&\" and LocalDay(\"&$D$12&\")=\"&$F$10&\" and Barix(\"&$D$12&\",reference:=StartOfSession)=\"&A35&\"\", \"Bar\", \"\", \"Close\",\"5\",\"0\",\"PrimaryOnly\",,,\"False\",\"T\",\"EveryTick\")","v":392.1},-8.3961357543877214E-3,null,null,null,""]
[35,"11:25:00",null,null,null,null,null,{"$f":"RTD(\"cqg.rtd\",,\"StudyData\", \"Close(\"&$D$12&\") when LocalYear(\"&$D$12&\")=\"&$D$1&\" and localMonth(\"&$D$12&\") =\"&$E$1&\" and LocalDay(\"&$D$12&\")=\"&$F$1&\" and Barix(\"&$D$12&\",reference:=StartOfSession)=\"&A36&\"\", \"Bar\", \"\", \"Close\",\"5\",\"0\",\"PrimaryOnly\",,,\"False\",\"T\",\"EveryTick\")","v":""},{"$error":"#N/A"},{"$f":"RTD(\"cqg.rtd\",,\"StudyData\", \"Close(\"&$D$12&\") when LocalYear(\"&$D$12&\")=\"&$D$2&\" and localMonth(\"&$D$12&\") =\"&$E$2&\" and LocalDay(\"&$D$12&\")=\"&$F$2&\" and Barix(\"&$D$12&\",reference:=StartOfSession)=\"&A36&\"\", \"Bar\", \"\", \"Close\",\"5\",\"0\",\"PrimaryOnly\",,,\"False\",\"T\",\"EveryTick\")","v":412.24},-1.5311119073211438E-2,{"$f":"RTD(\"cqg.rtd\",,\"StudyData\", \"Close(\"&$D$12&\") when LocalYear(\"&$D$12&\")=\"&$D$3&\" and localMonth(\"&$D$12&\") =\"&$E$3&\" and LocalDay(\"&$D$12&\")=\"&$F$3&\" and Barix(\"&$D$12&\",reference:=StartOfSession)=\"&A36&\"\", \"Bar\", \"\", \"Close\",\"5\",\"0\",\"PrimaryOnly\",,,\"False\",\"T\",\"EveryTick\")","v":417},3.296200947958532E-3,{"$f":"RTD(\"cqg.rtd\",,\"StudyData\", \"Close(\"&$D$12&\") when LocalYear(\"&$D$12&\")=\"&$D$4&\" and localMonth(\"&$D$12&\") =\"&$E$4&\" and LocalDay(\"&$D$12&\")=\"&$F$4&\" and Barix(\"&$D$12&\",reference:=StartOfSession)=\"&A36&\"\", \"Bar\", \"\", \"Close\",\"5\",\"0\",\"PrimaryOnly\",,,\"False\",\"T\",\"EveryTick\")","v":418.18},-1.885576532926034E-3,{"$f":"RTD(\"cqg.rtd\",,\"StudyData\", \"Close(\"&$D$12&\") when LocalYear(\"&$D$12&\")=\"&$D$5&\" and localMonth(\"&$D$12&\") =\"&$E$5&\" and LocalDay(\"&$D$12&\")=\"&$F$5&\" and Barix(\"&$D$12&\",reference:=StartOfSession)=\"&A36&\"\", \"Bar\", \"\", \"Close\",\"5\",\"0\",\"PrimaryOnly\",,,\"False\",\"T\",\"EveryTick\")","v":412.11},9.4549908144519624E-3,{"$f":"RTD(\"cqg.rtd\",,\"StudyData\", \"Close(\"&$D$12&\") when LocalYear(\"&$D$12&\")=\"&$D$6&\" and localMonth(\"&$D$12&\") =\"&$E$6&\" and LocalDay(\"&$D$12&\")=\"&$F$6&\" and Barix(\"&$D$12&\",reference:=StartOfSession)=\"&A36&\"\", \"Bar\", \"\", \"Close\",\"5\",\"0\",\"PrimaryOnly\",,,\"False\",\"T\",\"EveryTick\")","v":406.12},1.9403097467305952E-2,{"$f":"RTD(\"cqg.rtd\",,\"StudyData\", \"Close(\"&$D$12&\") when LocalYear(\"&$D$12&\")=\"&$D$7&\" and localMonth(\"&$D$12&\") =\"&$E$7&\" and LocalDay(\"&$D$12&\")=\"&$F$7&\" and Barix(\"&$D$12&\",reference:=StartOfSession)=\"&A36&\"\", \"Bar\", \"\", \"Close\",\"5\",\"0\",\"PrimaryOnly\",,,\"False\",\"T\",\"EveryTick\")","v":396.96},1.649083273583939E-2,{"$f":"RTD(\"cqg.rtd\",,\"StudyData\", \"Close(\"&$D$12&\") when LocalYear(\"&$D$12&\")=\"&$D$8&\" and localMonth(\"&$D$12&\") =\"&$E$8&\" and LocalDay(\"&$D$12&\")=\"&$F$8&\" and Barix(\"&$D$12&\",reference:=StartOfSession)=\"&A36&\"\", \"Bar\", \"\", \"Close\",\"5\",\"0\",\"PrimaryOnly\",,,\"False\",\"T\",\"EveryTick\")","v":392.41},-1.4490933748555883E-2,{"$f":"RTD(\"cqg.rtd\",,\"StudyData\", \"Close(\"&$D$12&\") when LocalYear(\"&$D$12&\")=\"&$D$9&\" and localMonth(\"&$D$12&\") =\"&$E$9&\" and LocalDay(\"&$D$12&\")=\"&$F$9&\" and Barix(\"&$D$12&\",reference:=StartOfSession)=\"&A36&\"\", \"Bar\", \"\", \"Close\",\"5\",\"0\",\"PrimaryOnly\",,,\"False\",\"T\",\"EveryTick\")","v":391.15},-7.1532585647505185E-4,{"$f":"RTD(\"cqg.rtd\",,\"StudyData\", \"Close(\"&$D$12&\") when LocalYear(\"&$D$12&\")=\"&$D$10&\" and localMonth(\"&$D$12&\") =\"&$E$10&\" and LocalDay(\"&$D$12&\")=\"&$F$10&\" and Barix(\"&$D$12&\",reference:=StartOfSession)=\"&A36&\"\", \"Bar\", \"\", \"Close\",\"5\",\"0\",\"PrimaryOnly\",,,\"False\",\"T\",\"EveryTick\")","v":392.05},-8.5225835820140726E-3,null,null,null,""]
[36,"11:30:00",null,null,null,null,null,{"$f":"RTD(\"cqg.rtd\",,\"StudyData\", \"Close(\"&$D$12&\") when LocalYear(\"&$D$12&\")=\"&$D$1&\" and localMonth(\"&$D$12&\") =\"&$E$1&\" and LocalDay(\"&$D$12&\")=\"&$F$1&\" and Barix(\"&$D$12&\",reference:=StartOfSession)=\"&A37&\"\", \"Bar\", \"\", \"Close\",\"5\",\"0\",\"PrimaryOnly\",,,\"False\",\"T\",\"EveryTick\")","v":""},{"$error":"#N/A"},{"$f":"RTD(\"cqg.rtd\",,\"StudyData\", \"Close(\"&$D$12&\") when LocalYear(\"&$D$12&\")=\"&$D$2&\" and localMonth(\"&$D$12&\") =\"&$E$2&\" and LocalDay(\"&$D$12&\")=\"&$F$2&\" and Barix(\"&$D$12&\",reference:=StartOfSession)=\"&A37&\"\", \"Bar\", \"\", \"Close\",\"5\",\"0\",\"PrimaryOnly\",,,\"False\",\"T\",\"EveryTick\")","v":410.93},-1.8440224531231269E-2,{"$f":"RTD(\"cqg.rtd\",,\"StudyData\", \"Close(\"&$D$12&\") when LocalYear(\"&$D$12&\")=\"&$D$3&\" and localMonth(\"&$D$12&\") =\"&$E$3&\" and LocalDay(\"&$D$12&\")=\"&$F$3&\" and Barix(\"&$D$12&\",reference:=StartOfSession)=\"&A37&\"\", \"Bar\", \"\", \"Close\",\"5\",\"0\",\"PrimaryOnly\",,,\"False\",\"T\",\"EveryTick\")","v":417.53},4.5713735774606679E-3,{"$f":"RTD(\"cqg.rtd\",,\"StudyData\", \"Close(\"&$D$12&\") when LocalYear(\"&$D$12&\")=\"&$D$4&\" and localMonth(\"&$D$12&\") =\"&$E$4&\" and LocalDay(\"&$D$12&\")=\"&$F$4&\" and Barix(\"&$D$12&\",reference:=StartOfSession)=\"&A37&\"\", \"Bar\", \"\", \"Close\",\"5\",\"0\",\"PrimaryOnly\",,,\"False\",\"T\",\"EveryTick\")","v":418.1},-2.0765209919564754E-3,{"$f":"RTD(\"cqg.rtd\",,\"StudyData\", \"Close(\"&$D$12&\") when LocalYear(\"&$D$12&\")=\"&$D$5&\" and localMonth(\"&$D$12&\") =\"&$E$5&\" and LocalDay(\"&$D$12&\")=\"&$F$5&\" and Barix(\"&$D$12&\",reference:=StartOfSession)=\"&A37&\"\", \"Bar\", \"\", \"Close\",\"5\",\"0\",\"PrimaryOnly\",,,\"False\",\"T\",\"EveryTick\")","v":412.78},1.1096142069810098E-2,{"$f":"RTD(\"cqg.rtd\",,\"StudyData\", \"Close(\"&$D$12&\") when LocalYear(\"&$D$12&\")=\"&$D$6&\" and localMonth(\"&$D$12&\") =\"&$E$6&\" and LocalDay(\"&$D$12&\")=\"&$F$6&\" and Barix(\"&$D$12&\",reference:=StartOfSession)=\"&A37&\"\", \"Bar\", \"\", \"Close\",\"5\",\"0\",\"PrimaryOnly\",,,\"False\",\"T\",\"EveryTick\")","v":406.05},1.9227390245739162E-2,{"$f":"RTD(\"cqg.rtd\",,\"StudyData\", \"Close(\"&$D$12&\") when LocalYear(\"&$D$12&\")=\"&$D$7&\" and localMonth(\"&$D$12&\") =\"&$E$7&\" and LocalDay(\"&$D$12&\")=\"&$F$7&\" and Barix(\"&$D$12&\",reference:=StartOfSession)=\"&A37&\"\", \"Bar\", \"\", \"Close\",\"5\",\"0\",\"PrimaryOnly\",,,\"False\",\"T\",\"EveryTick\")","v":396.88},1.6285977670797945E-2,{"$f":"RTD(\"cqg.rtd\",,\"StudyData\", \"Close(\"&$D$12&\") when LocalYear(\"&$D$12&\")=\"&$D$8&\" and localMonth(\"&$D$12&\") =\"&$E$8&\" and LocalDay(\"&$D$12&\")=\"&$F$8&\" and Barix(\"&$D$12&\",reference:=StartOfSession)=\"&A37&\"\", \"Bar\", \"\", \"Close\",\"5\",\"0\",\"PrimaryOnly\",,,\"False\",\"T\",\"EveryTick\")","v":391.85},-1.5897332864533587E-2,{"$f":"RTD(\"cqg.rtd\",,\"StudyData\", \"Close(\"&$D$12&\") when LocalYear(\"&$D$12&\")=\"&$D$9&\" and localMonth(\"&$D$12&\") =\"&$E$9&\" and LocalDay(\"&$D$12&\")=\"&$F$9&\" and Barix(\"&$D$12&\",reference:=StartOfSession)=\"&A37&\"\", \"Bar\", \"\", \"Close\",\"5\",\"0\",\"PrimaryOnly\",,,\"False\",\"T\",\"EveryTick\")","v":391.16},-6.8977850445796644E-4,{"$f":"RTD(\"cqg.rtd\",,\"StudyData\", \"Close(\"&$D$12&\") when LocalYear(\"&$D$12&\")=\"&$D$10&\" and localMonth(\"&$D$12&\") =\"&$E$10&\" and LocalDay(\"&$D$12&\")=\"&$F$10&\" and Barix(\"&$D$12&\",reference:=StartOfSession)=\"&A37&\"\", \"Bar\", \"\", \"Close\",\"5\",\"0\",\"PrimaryOnly\",,,\"False\",\"T\",\"EveryTick\")","v":391.56},-9.761772292752045E-3,null,null,null,""]
[37,"11:35:00",-40,{"$f":" RTD(\"cqg.rtd\",,\"StudyData\", $D$12,  \"Tick\", \"FlatTicks=0\", \"Tick\",\"D\",C38,\"PrimaryOnly\")","v":400.69},null,"EP",null,{"$f":"RTD(\"cqg.rtd\",,\"StudyData\", \"Close(\"&$D$12&\") when LocalYear(\"&$D$12&\")=\"&$D$1&\" and localMonth(\"&$D$12&\") =\"&$E$1&\" and LocalDay(\"&$D$12&\")=\"&$F$1&\" and Barix(\"&$D$12&\",reference:=StartOfSession)=\"&A38&\"\", \"Bar\", \"\", \"Close\",\"5\",\"0\",\"PrimaryOnly\",,,\"False\",\"T\",\"EveryTick\")","v":""},{"$error":"#N/A"},{"$f":"RTD(\"cqg.rtd\",,\"StudyData\", \"Close(\"&$D$12&\") when LocalYear(\"&$D$12&\")=\"&$D$2&\" and localMonth(\"&$D$12&\") =\"&$E$2&\" and LocalDay(\"&$D$12&\")=\"&$F$2&\" and Barix(\"&$D$12&\",reference:=StartOfSession)=\"&A38&\"\", \"Bar\", \"\", \"Close\",\"5\",\"0\",\"PrimaryOnly\",,,\"False\",\"T\",\"EveryTick\")","v":411.14},-1.7938612205899894E-2,{"$f":"RTD(\"cqg.rtd\",,\"StudyData\", \"Close(\"&$D$12&\") when LocalYear(\"&$D$12&\")=\"&$D$3&\" and localMonth(\"&$D$12&\") =\"&$E$3&\" and LocalDay(\"&$D$12&\")=\"&$F$3&\" and Barix(\"&$D$12&\",reference:=StartOfSession)=\"&A38&\"\", \"Bar\", \"\", \"Close\",\"5\",\"0\",\"PrimaryOnly\",,,\"False\",\"T\",\"EveryTick\")","v":417.74},5.076630657074835E-3,{"$f":"RTD(\"cqg.rtd\",,\"StudyData\", \"Close(\"&$D$12&\") when LocalYear(\"&$D$12&\")=\"&$D$4&\" and localMonth(\"&$D$12&\") =\"&$E$4&\" and LocalDay(\"&$D$12&\")=\"&$F$4&\" and Barix(\"&$D$12&\",reference:=StartOfSession)=\"&A38&\"\", \"Bar\", \"\", \"Close\",\"5\",\"0\",\"PrimaryOnly\",,,\"False\",\"T\",\"EveryTick\")","v":418.29},-1.6230279017590921E-3,{"$f":"RTD(\"cqg.rtd\",,\"StudyData\", \"Close(\"&$D$12&\") when LocalYear(\"&$D$12&\")=\"&$D$5&\" and localMonth(\"&$D$12&\") =\"&$E$5&\" and LocalDay(\"&$D$12&\")=\"&$F$5&\" and Barix(\"&$D$12&\",reference:=StartOfSession)=\"&A38&\"\", \"Bar\", \"\", \"Close\",\"5\",\"0\",\"PrimaryOnly\",,,\"False\",\"T\",\"EveryTick\")","v":412.48},1.0361298224127418E-2,{"$f":"RTD(\"cqg.rtd\",,\"StudyData\", \"Close(\"&$D$12&\") when LocalYear(\"&$D$12&\")=\"&$D$6&\" and localMonth(\"&$D$12&\") =\"&$E$6&\" and LocalDay(\"&$D$12&\")=\"&$F$6&\" and Barix(\"&$D$12&\",reference:=StartOfSession)=\"&A38&\"\", \"Bar\", \"\", \"Close\",\"5\",\"0\",\"PrimaryOnly\",,,\"False\",\"T\",\"EveryTick\")","v":406.35},1.998042119531122E-2,{"$f":"RTD(\"cqg.rtd\",,\"StudyData\", \"Close(\"&$D$12&\") when LocalYear(\"&$D$12&\")=\"&$D$7&\" and localMonth(\"&$D$12&\") =\"&$E$7&\" and LocalDay(\"&$D$12&\")=\"&$F$7&\" and Barix(\"&$D$12&\",reference:=StartOfSession)=\"&A38&\"\", \"Bar\", \"\", \"Close\",\"5\",\"0\",\"PrimaryOnly\",,,\"False\",\"T\",\"EveryTick\")","v":396.81},1.6106729488886667E-2,{"$f":"RTD(\"cqg.rtd\",,\"StudyData\", \"Close(\"&$D$12&\") when LocalYear(\"&$D$12&\")=\"&$D$8&\" and localMonth(\"&$D$12&\") =\"&$E$8&\" and LocalDay(\"&$D$12&\")=\"&$F$8&\" and Barix(\"&$D$12&\",reference:=StartOfSession)=\"&A38&\"\", \"Bar\", \"\", \"Close\",\"5\",\"0\",\"PrimaryOnly\",,,\"False\",\"T\",\"EveryTick\")","v":390.74},-1.8685016826560846E-2,{"$f":"RTD(\"cqg.rtd\",,\"StudyData\", \"Close(\"&$D$12&\") when LocalYear(\"&$D$12&\")=\"&$D$9&\" and localMonth(\"&$D$12&\") =\"&$E$9&\" and LocalDay(\"&$D$12&\")=\"&$F$9&\" and Barix(\"&$D$12&\",reference:=StartOfSession)=\"&A38&\"\", \"Bar\", \"\", \"Close\",\"5\",\"0\",\"PrimaryOnly\",,,\"False\",\"T\",\"EveryTick\")","v":390.24},-3.0401348900186437E-3,{"$f":"RTD(\"cqg.rtd\",,\"StudyData\", \"Close(\"&$D$12&\") when LocalYear(\"&$D$12&\")=\"&$D$10&\" and localMonth(\"&$D$12&\") =\"&$E$10&\" and LocalDay(\"&$D$12&\")=\"&$F$10&\" and Barix(\"&$D$12&\",reference:=StartOfSession)=\"&A38&\"\", \"Bar\", \"\", \"Close\",\"5\",\"0\",\"PrimaryOnly\",,,\"False\",\"T\",\"EveryTick\")","v":391.84},-9.0536644580447145E-3,null,null,null,""]
[38,"11:40:00",{"$f":"C38+1","v":-39},{"$f":" RTD(\"cqg.rtd\",,\"StudyData\", $D$12,  \"Tick\", \"FlatTicks=0\", \"Tick\",\"D\",C39,\"PrimaryOnly\")","v":400.7},null,"ENQ",null,{"$f":"RTD(\"cqg.rtd\",,\"StudyData\", \"Close(\"&$D$12&\") when LocalYear(\"&$D$12&\")=\"&$D$1&\" and localMonth(\"&$D$12&\") =\"&$E$1&\" and LocalDay(\"&$D$12&\")=\"&$F$1&\" and Barix(\"&$D$12&\",reference:=StartOfSession)=\"&A39&\"\", \"Bar\", \"\", \"Close\",\"5\",\"0\",\"PrimaryOnly\",,,\"False\",\"T\",\"EveryTick\")","v":""},{"$error":"#N/A"},{"$f":"RTD(\"cqg.rtd\",,\"StudyData\", \"Close(\"&$D$12&\") when LocalYear(\"&$D$12&\")=\"&$D$2&\" and localMonth(\"&$D$12&\") =\"&$E$2&\" and LocalDay(\"&$D$12&\")=\"&$F$2&\" and Barix(\"&$D$12&\",reference:=StartOfSession)=\"&A39&\"\", \"Bar\", \"\", \"Close\",\"5\",\"0\",\"PrimaryOnly\",,,\"False\",\"T\",\"EveryTick\")","v":410.58},-1.9276245073450361E-2,{"$f":"RTD(\"cqg.rtd\",,\"StudyData\", \"Close(\"&$D$12&\") when LocalYear(\"&$D$12&\")=\"&$D$3&\" and localMonth(\"&$D$12&\") =\"&$E$3&\" and LocalDay(\"&$D$12&\")=\"&$F$3&\" and Barix(\"&$D$12&\",reference:=StartOfSession)=\"&A39&\"\", \"Bar\", \"\", \"Close\",\"5\",\"0\",\"PrimaryOnly\",,,\"False\",\"T\",\"EveryTick\")","v":417.43},4.330774968120712E-3,{"$f":"RTD(\"cqg.rtd\",,\"StudyData\", \"Close(\"&$D$12&\") when LocalYear(\"&$D$12&\")=\"&$D$4&\" and localMonth(\"&$D$12&\") =\"&$E$4&\" and LocalDay(\"&$D$12&\")=\"&$F$4&\" and Barix(\"&$D$12&\",reference:=StartOfSession)=\"&A39&\"\", \"Bar\", \"\", \"Close\",\"5\",\"0\",\"PrimaryOnly\",,,\"False\",\"T\",\"EveryTick\")","v":418.27},-1.6707640165168041E-3,{"$f":"RTD(\"cqg.rtd\",,\"StudyData\", \"Close(\"&$D$12&\") when LocalYear(\"&$D$12&\")=\"&$D$5&\" and localMonth(\"&$D$12&\") =\"&$E$5&\" and LocalDay(\"&$D$12&\")=\"&$F$5&\" and Barix(\"&$D$12&\",reference:=StartOfSession)=\"&A39&\"\", \"Bar\", \"\", \"Close\",\"5\",\"0\",\"PrimaryOnly\",,,\"False\",\"T\",\"EveryTick\")","v":413.21},1.2149418248622118E-2,{"$f":"RTD(\"cqg.rtd\",,\"StudyData\", \"Close(\"&$D$12&\") when LocalYear(\"&$D$12&\")=\"&$D$6&\" and localMonth(\"&$D$12&\") =\"&$E$6&\" and LocalDay(\"&$D$12&\")=\"&$F$6&\" and Barix(\"&$D$12&\",reference:=StartOfSession)=\"&A39&\"\", \"Bar\", \"\", \"Close\",\"5\",\"0\",\"PrimaryOnly\",,,\"False\",\"T\",\"EveryTick\")","v":406.14},1.9453299530610708E-2,{"$f":"RTD(\"cqg.rtd\",,\"StudyData\", \"Close(\"&$D$12&\") when LocalYear(\"&$D$12&\")=\"&$D$7&\" and localMonth(\"&$D$12&\") =\"&$E$7&\" and LocalDay(\"&$D$12&\")=\"&$F$7&\" and Barix(\"&$D$12&\",reference:=StartOfSession)=\"&A39&\"\", \"Bar\", \"\", \"Close\",\"5\",\"0\",\"PrimaryOnly\",,,\"False\",\"T\",\"EveryTick\")","v":397.21},1.7131004814094023E-2,{"$f":"RTD(\"cqg.rtd\",,\"StudyData\", \"Close(\"&$D$12&\") when LocalYear(\"&$D$12&\")=\"&$D$8&\" and localMonth(\"&$D$12&\") =\"&$E$8&\" and LocalDay(\"&$D$12&\")=\"&$F$8&\" and Barix(\"&$D$12&\",reference:=StartOfSession)=\"&A39&\"\", \"Bar\", \"\", \"Close\",\"5\",\"0\",\"PrimaryOnly\",,,\"False\",\"T\",\"EveryTick\")","v":390.3},-1.9790044703400459E-2,{"$f":"RTD(\"cqg.rtd\",,\"StudyData\", \"Close(\"&$D$12&\") when LocalYear(\"&$D$12&\")=\"&$D$9&\" and localMonth(\"&$D$12&\") =\"&$E$9&\" and LocalDay(\"&$D$12&\")=\"&$F$9&\" and Barix(\"&$D$12&\",reference:=StartOfSession)=\"&A39&\"\", \"Bar\", \"\", \"Close\",\"5\",\"0\",\"PrimaryOnly\",,,\"False\",\"T\",\"EveryTick\")","v":389.95},-3.7810080985106356E-3,{"$f":"RTD(\"cqg.rtd\",,\"StudyData\", \"Close(\"&$D$12&\") when LocalYear(\"&$D$12&\")=\"&$D$10&\" and localMonth(\"&$D$12&\") =\"&$E$10&\" and LocalDay(\"&$D$12&\")=\"&$F$10&\" and Barix(\"&$D$12&\",reference:=StartOfSession)=\"&A39&\"\", \"Bar\", \"\", \"Close\",\"5\",\"0\",\"PrimaryOnly\",,,\"False\",\"T\",\"EveryTick\")","v":392.21},-8.1179505336099241E-3,null,null,null,""]
[39,"11:45:00",{"$f":"C39+1","v":-38},{"$f":" RTD(\"cqg.rtd\",,\"StudyData\", $D$12,  \"Tick\", \"FlatTicks=0\", \"Tick\",\"D\",C40,\"PrimaryOnly\")","v":400.68},null,"YM",null,{"$f":"RTD(\"cqg.rtd\",,\"StudyData\", \"Close(\"&$D$12&\") when LocalYear(\"&$D$12&\")=\"&$D$1&\" and localMonth(\"&$D$12&\") =\"&$E$1&\" and LocalDay(\"&$D$12&\")=\"&$F$1&\" and Barix(\"&$D$12&\",reference:=StartOfSession)=\"&A40&\"\", \"Bar\", \"\", \"Close\",\"5\",\"0\",\"PrimaryOnly\",,,\"False\",\"T\",\"EveryTick\")","v":""},{"$error":"#N/A"},{"$f":"RTD(\"cqg.rtd\",,\"StudyData\", \"Close(\"&$D$12&\") when LocalYear(\"&$D$12&\")=\"&$D$2&\" and localMonth(\"&$D$12&\") =\"&$E$2&\" and LocalDay(\"&$D$12&\")=\"&$F$2&\" and Barix(\"&$D$12&\",reference:=StartOfSession)=\"&A40&\"\", \"Bar\", \"\", \"Close\",\"5\",\"0\",\"PrimaryOnly\",,,\"False\",\"T\",\"EveryTick\")","v":410.74},-1.8894064254150168E-2,{"$f":"RTD(\"cqg.rtd\",,\"StudyData\", \"Close(\"&$D$12&\") when LocalYear(\"&$D$12&\")=\"&$D$3&\" and localMonth(\"&$D$12&\") =\"&$E$3&\" and LocalDay(\"&$D$12&\")=\"&$F$3&\" and Barix(\"&$D$12&\",reference:=StartOfSession)=\"&A40&\"\", \"Bar\", \"\", \"Close\",\"5\",\"0\",\"PrimaryOnly\",,,\"False\",\"T\",\"EveryTick\")","v":417.61},4.7638524649327961E-3,{"$f":"RTD(\"cqg.rtd\",,\"StudyData\", \"Close(\"&$D$12&\") when LocalYear(\"&$D$12&\")=\"&$D$4&\" and localMonth(\"&$D$12&\") =\"&$E$4&\" and LocalDay(\"&$D$12&\")=\"&$F$4&\" and Barix(\"&$D$12&\",reference:=StartOfSession)=\"&A40&\"\", \"Bar\", \"\", \"Close\",\"5\",\"0\",\"PrimaryOnly\",,,\"False\",\"T\",\"EveryTick\")","v":418.38},-1.4082153853498623E-3,{"$f":"RTD(\"cqg.rtd\",,\"StudyData\", \"Close(\"&$D$12&\") when LocalYear(\"&$D$12&\")=\"&$D$5&\" and localMonth(\"&$D$12&\") =\"&$E$5&\" and LocalDay(\"&$D$12&\")=\"&$F$5&\" and Barix(\"&$D$12&\",reference:=StartOfSession)=\"&A40&\"\", \"Bar\", \"\", \"Close\",\"5\",\"0\",\"PrimaryOnly\",,,\"False\",\"T\",\"EveryTick\")","v":412.97},1.1561543172076002E-2,{"$f":"RTD(\"cqg.rtd\",,\"StudyData\", \"Close(\"&$D$12&\") when LocalYear(\"&$D$12&\")=\"&$D$6&\" and localMonth(\"&$D$12&\") =\"&$E$6&\" and LocalDay(\"&$D$12&\")=\"&$F$6&\" and Barix(\"&$D$12&\",reference:=StartOfSession)=\"&A40&\"\", \"Bar\", \"\", \"Close\",\"5\",\"0\",\"PrimaryOnly\",,,\"False\",\"T\",\"EveryTick\")","v":405.76},1.8499460327819486E-2,{"$f":"RTD(\"cqg.rtd\",,\"StudyData\", \"Close(\"&$D$12&\") when LocalYear(\"&$D$12&\")=\"&$D$7&\" and localMonth(\"&$D$12&\") =\"&$E$7&\" and LocalDay(\"&$D$12&\")=\"&$F$7&\" and Barix(\"&$D$12&\",reference:=StartOfSession)=\"&A40&\"\", \"Bar\", \"\", \"Close\",\"5\",\"0\",\"PrimaryOnly\",,,\"False\",\"T\",\"EveryTick\")","v":396.71},1.5850660657584753E-2,{"$f":"RTD(\"cqg.rtd\",,\"StudyData\", \"Close(\"&$D$12&\") when LocalYear(\"&$D$12&\")=\"&$D$8&\" and localMonth(\"&$D$12&\") =\"&$E$8&\" and LocalDay(\"&$D$12&\")=\"&$F$8&\" and Barix(\"&$D$12&\",reference:=StartOfSession)=\"&A40&\"\", \"Bar\", \"\", \"Close\",\"5\",\"0\",\"PrimaryOnly\",,,\"False\",\"T\",\"EveryTick\")","v":389.78},-2.1095986739665562E-2,{"$f":"RTD(\"cqg.rtd\",,\"StudyData\", \"Close(\"&$D$12&\") when LocalYear(\"&$D$12&\")=\"&$D$9&\" and localMonth(\"&$D$12&\") =\"&$E$9&\" and LocalDay(\"&$D$12&\")=\"&$F$9&\" and Barix(\"&$D$12&\",reference:=StartOfSession)=\"&A40&\"\", \"Bar\", \"\", \"Close\",\"5\",\"0\",\"PrimaryOnly\",,,\"False\",\"T\",\"EveryTick\")","v":390.12},-3.3467031142222167E-3,{"$f":"RTD(\"cqg.rtd\",,\"StudyData\", \"Close(\"&$D$12&\") when LocalYear(\"&$D$12&\")=\"&$D$10&\" and localMonth(\"&$D$12&\") =\"&$E$10&\" and LocalDay(\"&$D$12&\")=\"&$F$10&\" and Barix(\"&$D$12&\",reference:=StartOfSession)=\"&A40&\"\", \"Bar\", \"\", \"Close\",\"5\",\"0\",\"PrimaryOnly\",,,\"False\",\"T\",\"EveryTick\")","v":391.58},-9.7111931617015618E-3,null,null,null,""]
[40,"11:50:00",-37,{"$f":" RTD(\"cqg.rtd\",,\"StudyData\", $D$12,  \"Tick\", \"FlatTicks=0\", \"Tick\",\"D\",C41,\"PrimaryOnly\")","v":400.79},null,"RTY",null,{"$f":"RTD(\"cqg.rtd\",,\"StudyData\", \"Close(\"&$D$12&\") when LocalYear(\"&$D$12&\")=\"&$D$1&\" and localMonth(\"&$D$12&\") =\"&$E$1&\" and LocalDay(\"&$D$12&\")=\"&$F$1&\" and Barix(\"&$D$12&\",reference:=StartOfSession)=\"&A41&\"\", \"Bar\", \"\", \"Close\",\"5\",\"0\",\"PrimaryOnly\",,,\"False\",\"T\",\"EveryTick\")","v":""},{"$error":"#N/A"},{"$f":"RTD(\"cqg.rtd\",,\"StudyData\", \"Close(\"&$D$12&\") when LocalYear(\"&$D$12&\")=\"&$D$2&\" and localMonth(\"&$D$12&\") =\"&$E$2&\" and LocalDay(\"&$D$12&\")=\"&$F$2&\" and Barix(\"&$D$12&\",reference:=StartOfSession)=\"&A41&\"\", \"Bar\", \"\", \"Close\",\"5\",\"0\",\"PrimaryOnly\",,,\"False\",\"T\",\"EveryTick\")","v":410.23},-2.0112265615669318E-2,{"$f":"RTD(\"cqg.rtd\",,\"StudyData\", \"Close(\"&$D$12&\") when LocalYear(\"&$D$12&\")=\"&$D$3&\" and localMonth(\"&$D$12&\") =\"&$E$3&\" and LocalDay(\"&$D$12&\")=\"&$F$3&\" and Barix(\"&$D$12&\",reference:=StartOfSession)=\"&A41&\"\", \"Bar\", \"\", \"Close\",\"5\",\"0\",\"PrimaryOnly\",,,\"False\",\"T\",\"EveryTick\")","v":417.02},3.3443206698264955E-3,{"$f":"RTD(\"cqg.rtd\",,\"StudyData\", \"Close(\"&$D$12&\") when LocalYear(\"&$D$12&\")=\"&$D$4&\" and localMonth(\"&$D$12&\") =\"&$E$4&\" and LocalDay(\"&$D$12&\")=\"&$F$4&\" and Barix(\"&$D$12&\",reference:=StartOfSession)=\"&A41&\"\", \"Bar\", \"\", \"Close\",\"5\",\"0\",\"PrimaryOnly\",,,\"False\",\"T\",\"EveryTick\")","v":418.39},-1.3843473279710741E-3,{"$f":"RTD(\"cqg.rtd\",,\"StudyData\", \"Close(\"&$D$12&\") when LocalYear(\"&$D$12&\")=\"&$D$5&\" and localMonth(\"&$D$12&\") =\"&$E$5&\" and LocalDay(\"&$D$12&\")=\"&$F$5&\" and Barix(\"&$D$12&\",reference:=StartOfSession)=\"&A41&\"\", \"Bar\", \"\", \"Close\",\"5\",\"0\",\"PrimaryOnly\",,,\"False\",\"T\",\"EveryTick\")","v":412.38},1.011635027556643E-2,{"$f":"RTD(\"cqg.rtd\",,\"StudyData\", \"Close(\"&$D$12&\") when LocalYear(\"&$D$12&\")=\"&$D$6&\" and localMonth(\"&$D$12&\") =\"&$E$6&\" and LocalDay(\"&$D$12&\")=\"&$F$6&\" and Barix(\"&$D$12&\",reference:=StartOfSession)=\"&A41&\"\", \"Bar\", \"\", \"Close\",\"5\",\"0\",\"PrimaryOnly\",,,\"False\",\"T\",\"EveryTick\")","v":405.72},1.8399056201209973E-2,{"$f":"RTD(\"cqg.rtd\",,\"StudyData\", \"Close(\"&$D$12&\") when LocalYear(\"&$D$12&\")=\"&$D$7&\" and localMonth(\"&$D$12&\") =\"&$E$7&\" and LocalDay(\"&$D$12&\")=\"&$F$7&\" and Barix(\"&$D$12&\",reference:=StartOfSession)=\"&A41&\"\", \"Bar\", \"\", \"Close\",\"5\",\"0\",\"PrimaryOnly\",,,\"False\",\"T\",\"EveryTick\")","v":396.59},1.5543378060022517E-2,{"$f":"RTD(\"cqg.rtd\",,\"StudyData\", \"Close(\"&$D$12&\") when LocalYear(\"&$D$12&\")=\"&$D$8&\" and localMonth(\"&$D$12&\") =\"&$E$8&\" and LocalDay(\"&$D$12&\")=\"&$F$8&\" and Barix(\"&$D$12&\",reference:=StartOfSession)=\"&A41&\"\", \"Bar\", \"\", \"Close\",\"5\",\"0\",\"PrimaryOnly\",,,\"False\",\"T\",\"EveryTick\")","v":390.93},-1.8207845697925561E-2,{"$f":"RTD(\"cqg.rtd\",,\"StudyData\", \"Close(\"&$D$12&\") when LocalYear(\"&$D$12&\")=\"&$D$9&\" and localMonth(\"&$D$12&\") =\"&$E$9&\" and LocalDay(\"&$D$12&\")=\"&$F$9&\" and Barix(\"&$D$12&\",reference:=StartOfSession)=\"&A41&\"\", \"Bar\", \"\", \"Close\",\"5\",\"0\",\"PrimaryOnly\",,,\"False\",\"T\",\"EveryTick\")","v":389.79},-4.1897657307819695E-3,{"$f":"RTD(\"cqg.rtd\",,\"StudyData\", \"Close(\"&$D$12&\") when LocalYear(\"&$D$12&\")=\"&$D$10&\" and localMonth(\"&$D$12&\") =\"&$E$10&\" and LocalDay(\"&$D$12&\")=\"&$F$10&\" and Barix(\"&$D$12&\",reference:=StartOfSession)=\"&A41&\"\", \"Bar\", \"\", \"Close\",\"5\",\"0\",\"PrimaryOnly\",,,\"False\",\"T\",\"EveryTick\")","v":391.57},-9.7364827272268025E-3,null,null,null,""]
[41,"11:55:00",-36,{"$f":" RTD(\"cqg.rtd\",,\"StudyData\", $D$12,  \"Tick\", \"FlatTicks=0\", \"Tick\",\"D\",C42,\"PrimaryOnly\")","v":400.72},null,"EMD",null,{"$f":"RTD(\"cqg.rtd\",,\"StudyData\", \"Close(\"&$D$12&\") when LocalYear(\"&$D$12&\")=\"&$D$1&\" and localMonth(\"&$D$12&\") =\"&$E$1&\" and LocalDay(\"&$D$12&\")=\"&$F$1&\" and Barix(\"&$D$12&\",reference:=StartOfSession)=\"&A42&\"\", \"Bar\", \"\", \"Close\",\"5\",\"0\",\"PrimaryOnly\",,,\"False\",\"T\",\"EveryTick\")","v":""},{"$error":"#N/A"},{"$f":"RTD(\"cqg.rtd\",,\"StudyData\", \"Close(\"&$D$12&\") when LocalYear(\"&$D$12&\")=\"&$D$2&\" and localMonth(\"&$D$12&\") =\"&$E$2&\" and LocalDay(\"&$D$12&\")=\"&$F$2&\" and Barix(\"&$D$12&\",reference:=StartOfSession)=\"&A42&\"\", \"Bar\", \"\", \"Close\",\"5\",\"0\",\"PrimaryOnly\",,,\"False\",\"T\",\"EveryTick\")","v":409.85},-2.1019945061507117E-2,{"$f":"RTD(\"cqg.rtd\",,\"StudyData\", \"Close(\"&$D$12&\") when LocalYear(\"&$D$12&\")=\"&$D$3&\" and localMonth(\"&$D$12&\") =\"&$E$3&\" and LocalDay(\"&$D$12&\")=\"&$F$3&\" and Barix(\"&$D$12&\",reference:=StartOfSession)=\"&A42&\"\", \"Bar\", \"\", \"Close\",\"5\",\"0\",\"PrimaryOnly\",,,\"False\",\"T\",\"EveryTick\")","v":416.91},3.0796621995525576E-3,{"$f":"RTD(\"cqg.rtd\",,\"StudyData\", \"Close(\"&$D$12&\") when LocalYear(\"&$D$12&\")=\"&$D$4&\" and localMonth(\"&$D$12&\") =\"&$E$4&\" and LocalDay(\"&$D$12&\")=\"&$F$4&\" and Barix(\"&$D$12&\",reference:=StartOfSession)=\"&A42&\"\", \"Bar\", \"\", \"Close\",\"5\",\"0\",\"PrimaryOnly\",,,\"False\",\"T\",\"EveryTick\")","v":418.48},-1.1695348115617085E-3,{"$f":"RTD(\"cqg.rtd\",,\"StudyData\", \"Close(\"&$D$12&\") when LocalYear(\"&$D$12&\")=\"&$D$5&\" and localMonth(\"&$D$12&\") =\"&$E$5&\" and LocalDay(\"&$D$12&\")=\"&$F$5&\" and Barix(\"&$D$12&\",reference:=StartOfSession)=\"&A42&\"\", \"Bar\", \"\", \"Close\",\"5\",\"0\",\"PrimaryOnly\",,,\"False\",\"T\",\"EveryTick\")","v":412.67},1.082669932639318E-2,{"$f":"RTD(\"cqg.rtd\",,\"StudyData\", \"Close(\"&$D$12&\") when LocalYear(\"&$D$12&\")=\"&$D$6&\" and localMonth(\"&$D$12&\") =\"&$E$6&\" and LocalDay(\"&$D$12&\")=\"&$F$6&\" and Barix(\"&$D$12&\",reference:=StartOfSession)=\"&A42&\"\", \"Bar\", \"\", \"Close\",\"5\",\"0\",\"PrimaryOnly\",,,\"False\",\"T\",\"EveryTick\")","v":405.96},1.9001480960867474E-2,{"$f":"RTD(\"cqg.rtd\",,\"StudyData\", \"Close(\"&$D$12&\") when LocalYear(\"&$D$12&\")=\"&$D$7&\" and localMonth(\"&$D$12&\") =\"&$E$7&\" and LocalDay(\"&$D$12&\")=\"&$F$7&\" and Barix(\"&$D$12&\",reference:=StartOfSession)=\"&A42&\"\", \"Bar\", \"\", \"Close\",\"5\",\"0\",\"PrimaryOnly\",,,\"False\",\"T\",\"EveryTick\")","v":397.35},1.7489501177916731E-2,{"$f":"RTD(\"cqg.rtd\",,\"StudyData\", \"Close(\"&$D$12&\") when LocalYear(\"&$D$12&\")=\"&$D$8&\" and localMonth(\"&$D$12&\") =\"&$E$8&\" and LocalDay(\"&$D$12&\")=\"&$F$8&\" and Barix(\"&$D$12&\",reference:=StartOfSession)=\"&A42&\"\", \"Bar\", \"\", \"Close\",\"5\",\"0\",\"PrimaryOnly\",,,\"False\",\"T\",\"EveryTick\")","v":390.37},-1.9614244813903264E-2,{"$f":"RTD(\"cqg.rtd\",,\"StudyData\", \"Close(\"&$D$12&\") when LocalYear(\"&$D$12&\")=\"&$D$9&\" and localMonth(\"&$D$12&\") =\"&$E$9&\" and LocalDay(\"&$D$12&\")=\"&$F$9&\" and Barix(\"&$D$12&\",reference:=StartOfSession)=\"&A42&\"\", \"Bar\", \"\", \"Close\",\"5\",\"0\",\"PrimaryOnly\",,,\"False\",\"T\",\"EveryTick\")","v":390.07},-3.4744398743070627E-3,{"$f":"RTD(\"cqg.rtd\",,\"StudyData\", \"Close(\"&$D$12&\") when LocalYear(\"&$D$12&\")=\"&$D$10&\" and localMonth(\"&$D$12&\") =\"&$E$10&\" and LocalDay(\"&$D$12&\")=\"&$F$10&\" and Barix(\"&$D$12&\",reference:=StartOfSession)=\"&A42&\"\", \"Bar\", \"\", \"Close\",\"5\",\"0\",\"PrimaryOnly\",,,\"False\",\"T\",\"EveryTick\")","v":391.52},-9.8629305548531537E-3,null,null,null,""]
[42,"12:00:00",-35,{"$f":" RTD(\"cqg.rtd\",,\"StudyData\", $D$12,  \"Tick\", \"FlatTicks=0\", \"Tick\",\"D\",C43,\"PrimaryOnly\")","v":400.7},null,"FTS",null,{"$f":"RTD(\"cqg.rtd\",,\"StudyData\", \"Close(\"&$D$12&\") when LocalYear(\"&$D$12&\")=\"&$D$1&\" and localMonth(\"&$D$12&\") =\"&$E$1&\" and LocalDay(\"&$D$12&\")=\"&$F$1&\" and Barix(\"&$D$12&\",reference:=StartOfSession)=\"&A43&\"\", \"Bar\", \"\", \"Close\",\"5\",\"0\",\"PrimaryOnly\",,,\"False\",\"T\",\"EveryTick\")","v":""},{"$error":"#N/A"},{"$f":"RTD(\"cqg.rtd\",,\"StudyData\", \"Close(\"&$D$12&\") when LocalYear(\"&$D$12&\")=\"&$D$2&\" and localMonth(\"&$D$12&\") =\"&$E$2&\" and LocalDay(\"&$D$12&\")=\"&$F$2&\" and Barix(\"&$D$12&\",reference:=StartOfSession)=\"&A43&\"\", \"Bar\", \"\", \"Close\",\"5\",\"0\",\"PrimaryOnly\",,,\"False\",\"T\",\"EveryTick\")","v":409.93},-2.082885465185709E-2,{"$f":"RTD(\"cqg.rtd\",,\"StudyData\", \"Close(\"&$D$12&\") when LocalYear(\"&$D$12&\")=\"&$D$3&\" and localMonth(\"&$D$12&\") =\"&$E$3&\" and LocalDay(\"&$D$12&\")=\"&$F$3&\" and Barix(\"&$D$12&\",reference:=StartOfSession)=\"&A43&\"\", \"Bar\", \"\", \"Close\",\"5\",\"0\",\"PrimaryOnly\",,,\"False\",\"T\",\"EveryTick\")","v":416.91},3.0796621995525576E-3,{"$f":"RTD(\"cqg.rtd\",,\"StudyData\", \"Close(\"&$D$12&\") when LocalYear(\"&$D$12&\")=\"&$D$4&\" and localMonth(\"&$D$12&\") =\"&$E$4&\" and LocalDay(\"&$D$12&\")=\"&$F$4&\" and Barix(\"&$D$12&\",reference:=StartOfSession)=\"&A43&\"\", \"Bar\", \"\", \"Close\",\"5\",\"0\",\"PrimaryOnly\",,,\"False\",\"T\",\"EveryTick\")","v":418.96},-2.3868057378923904E-5,{"$f":"RTD(\"cqg.rtd\",,\"StudyData\", \"Close(\"&$D$12&\") when LocalYear(\"&$D$12&\")=\"&$D$5&\" and localMonth(\"&$D$12&\") =\"&$E$5&\" and LocalDay(\"&$D$12&\")=\"&$F$5&\" and Barix(\"&$D$12&\",reference:=StartOfSession)=\"&A43&\"\", \"Bar\", \"\", \"Close\",\"5\",\"0\",\"PrimaryOnly\",,,\"False\",\"T\",\"EveryTick\")","v":413.49},1.2835272504592796E-2,{"$f":"RTD(\"cqg.rtd\",,\"StudyData\", \"Close(\"&$D$12&\") when LocalYear(\"&$D$12&\")=\"&$D$6&\" and localMonth(\"&$D$12&\") =\"&$E$6&\" and LocalDay(\"&$D$12&\")=\"&$F$6&\" and Barix(\"&$D$12&\",reference:=StartOfSession)=\"&A43&\"\", \"Bar\", \"\", \"Close\",\"5\",\"0\",\"PrimaryOnly\",,,\"False\",\"T\",\"EveryTick\")","v":406.11},1.9377996435653574E-2,{"$f":"RTD(\"cqg.rtd\",,\"StudyData\", \"Close(\"&$D$12&\") when LocalYear(\"&$D$12&\")=\"&$D$7&\" and localMonth(\"&$D$12&\") =\"&$E$7&\" and LocalDay(\"&$D$12&\")=\"&$F$7&\" and Barix(\"&$D$12&\",reference:=StartOfSession)=\"&A43&\"\", \"Bar\", \"\", \"Close\",\"5\",\"0\",\"PrimaryOnly\",,,\"False\",\"T\",\"EveryTick\")","v":398.06},1.9307589880159841E-2,{"$f":"RTD(\"cqg.rtd\",,\"StudyData\", \"Close(\"&$D$12&\") when LocalYear(\"&$D$12&\")=\"&$D$8&\" and localMonth(\"&$D$12&\") =\"&$E$8&\" and LocalDay(\"&$D$12&\")=\"&$F$8&\" and Barix(\"&$D$12&\",reference:=StartOfSession)=\"&A43&\"\", \"Bar\", \"\", \"Close\",\"5\",\"0\",\"PrimaryOnly\",,,\"False\",\"T\",\"EveryTick\")","v":""},{"$error":"#N/A"},{"$f":"RTD(\"cqg.rtd\",,\"StudyData\", \"Close(\"&$D$12&\") when LocalYear(\"&$D$12&\")=\"&$D$9&\" and localMonth(\"&$D$12&\") =\"&$E$9&\" and LocalDay(\"&$D$12&\")=\"&$F$9&\" and Barix(\"&$D$12&\",reference:=StartOfSession)=\"&A43&\"\", \"Bar\", \"\", \"Close\",\"5\",\"0\",\"PrimaryOnly\",,,\"False\",\"T\",\"EveryTick\")","v":389.7},-4.4196918989347217E-3,{"$f":"RTD(\"cqg.rtd\",,\"StudyData\", \"Close(\"&$D$12&\") when LocalYear(\"&$D$12&\")=\"&$D$10&\" and localMonth(\"&$D$12&\") =\"&$E$10&\" and LocalDay(\"&$D$12&\")=\"&$F$10&\" and Barix(\"&$D$12&\",reference:=StartOfSession)=\"&A43&\"\", \"Bar\", \"\", \"Close\",\"5\",\"0\",\"PrimaryOnly\",,,\"False\",\"T\",\"EveryTick\")","v":391.45},-1.0039957513529986E-2,null,null,null,""]
[43,"12:05:00",-34,{"$f":" RTD(\"cqg.rtd\",,\"StudyData\", $D$12,  \"Tick\", \"FlatTicks=0\", \"Tick\",\"D\",C44,\"PrimaryOnly\")","v":400.71},null,"BTC",null,{"$f":"RTD(\"cqg.rtd\",,\"StudyData\", \"Close(\"&$D$12&\") when LocalYear(\"&$D$12&\")=\"&$D$1&\" and localMonth(\"&$D$12&\") =\"&$E$1&\" and LocalDay(\"&$D$12&\")=\"&$F$1&\" and Barix(\"&$D$12&\",reference:=StartOfSession)=\"&A44&\"\", \"Bar\", \"\", \"Close\",\"5\",\"0\",\"PrimaryOnly\",,,\"False\",\"T\",\"EveryTick\")","v":""},{"$error":"#N/A"},{"$f":"RTD(\"cqg.rtd\",,\"StudyData\", \"Close(\"&$D$12&\") when LocalYear(\"&$D$12&\")=\"&$D$2&\" and localMonth(\"&$D$12&\") =\"&$E$2&\" and LocalDay(\"&$D$12&\")=\"&$F$2&\" and Barix(\"&$D$12&\",reference:=StartOfSession)=\"&A44&\"\", \"Bar\", \"\", \"Close\",\"5\",\"0\",\"PrimaryOnly\",,,\"False\",\"T\",\"EveryTick\")","v":409.61},-2.1593216290457337E-2,{"$f":"RTD(\"cqg.rtd\",,\"StudyData\", \"Close(\"&$D$12&\") when LocalYear(\"&$D$12&\")=\"&$D$3&\" and localMonth(\"&$D$12&\") =\"&$E$3&\" and LocalDay(\"&$D$12&\")=\"&$F$3&\" and Barix(\"&$D$12&\",reference:=StartOfSession)=\"&A44&\"\", \"Bar\", \"\", \"Close\",\"5\",\"0\",\"PrimaryOnly\",,,\"False\",\"T\",\"EveryTick\")","v":416.85},2.9353030339485295E-3,{"$f":"RTD(\"cqg.rtd\",,\"StudyData\", \"Close(\"&$D$12&\") when LocalYear(\"&$D$12&\")=\"&$D$4&\" and localMonth(\"&$D$12&\") =\"&$E$4&\" and LocalDay(\"&$D$12&\")=\"&$F$4&\" and Barix(\"&$D$12&\",reference:=StartOfSession)=\"&A44&\"\", \"Bar\", \"\", \"Close\",\"5\",\"0\",\"PrimaryOnly\",,,\"False\",\"T\",\"EveryTick\")","v":418.13},-2.0049168198201105E-3,{"$f":"RTD(\"cqg.rtd\",,\"StudyData\", \"Close(\"&$D$12&\") when LocalYear(\"&$D$12&\")=\"&$D$5&\" and localMonth(\"&$D$12&\") =\"&$E$5&\" and LocalDay(\"&$D$12&\")=\"&$F$5&\" and Barix(\"&$D$12&\",reference:=StartOfSession)=\"&A44&\"\", \"Bar\", \"\", \"Close\",\"5\",\"0\",\"PrimaryOnly\",,,\"False\",\"T\",\"EveryTick\")","v":412.99},1.1610532761788143E-2,{"$f":"RTD(\"cqg.rtd\",,\"StudyData\", \"Close(\"&$D$12&\") when LocalYear(\"&$D$12&\")=\"&$D$6&\" and localMonth(\"&$D$12&\") =\"&$E$6&\" and LocalDay(\"&$D$12&\")=\"&$F$6&\" and Barix(\"&$D$12&\",reference:=StartOfSession)=\"&A44&\"\", \"Bar\", \"\", \"Close\",\"5\",\"0\",\"PrimaryOnly\",,,\"False\",\"T\",\"EveryTick\")","v":406.07},1.9277592309043919E-2,{"$f":"RTD(\"cqg.rtd\",,\"StudyData\", \"Close(\"&$D$12&\") when LocalYear(\"&$D$12&\")=\"&$D$7&\" and localMonth(\"&$D$12&\") =\"&$E$7&\" and LocalDay(\"&$D$12&\")=\"&$F$7&\" and Barix(\"&$D$12&\",reference:=StartOfSession)=\"&A44&\"\", \"Bar\", \"\", \"Close\",\"5\",\"0\",\"PrimaryOnly\",,,\"False\",\"T\",\"EveryTick\")","v":397.74},1.8488169619993926E-2,{"$f":"RTD(\"cqg.rtd\",,\"StudyData\", \"Close(\"&$D$12&\") when LocalYear(\"&$D$12&\")=\"&$D$8&\" and localMonth(\"&$D$12&\") =\"&$E$8&\" and LocalDay(\"&$D$12&\")=\"&$F$8&\" and Barix(\"&$D$12&\",reference:=StartOfSession)=\"&A44&\"\", \"Bar\", \"\", \"Close\",\"5\",\"0\",\"PrimaryOnly\",,,\"False\",\"T\",\"EveryTick\")","v":""},{"$error":"#N/A"},{"$f":"RTD(\"cqg.rtd\",,\"StudyData\", \"Close(\"&$D$12&\") when LocalYear(\"&$D$12&\")=\"&$D$9&\" and localMonth(\"&$D$12&\") =\"&$E$9&\" and LocalDay(\"&$D$12&\")=\"&$F$9&\" and Barix(\"&$D$12&\",reference:=StartOfSession)=\"&A44&\"\", \"Bar\", \"\", \"Close\",\"5\",\"0\",\"PrimaryOnly\",,,\"False\",\"T\",\"EveryTick\")","v":389.64},-4.5729760110365079E-3,{"$f":"RTD(\"cqg.rtd\",,\"StudyData\", \"Close(\"&$D$12&\") when LocalYear(\"&$D$12&\")=\"&$D$10&\" and localMonth(\"&$D$12&\") =\"&$E$10&\" and LocalDay(\"&$D$12&\")=\"&$F$10&\" and Barix(\"&$D$12&\",reference:=StartOfSession)=\"&A44&\"\", \"Bar\", \"\", \"Close\",\"5\",\"0\",\"PrimaryOnly\",,,\"False\",\"T\",\"EveryTick\")","v":391.8},-9.1548227201456792E-3,null,null,null,""]
[44,"12:10:00",-33,{"$f":" RTD(\"cqg.rtd\",,\"StudyData\", $D$12,  \"Tick\", \"FlatTicks=0\", \"Tick\",\"D\",C45,\"PrimaryOnly\")","v":400.69},null,null,null,{"$f":"RTD(\"cqg.rtd\",,\"StudyData\", \"Close(\"&$D$12&\") when LocalYear(\"&$D$12&\")=\"&$D$1&\" and localMonth(\"&$D$12&\") =\"&$E$1&\" and LocalDay(\"&$D$12&\")=\"&$F$1&\" and Barix(\"&$D$12&\",reference:=StartOfSession)=\"&A45&\"\", \"Bar\", \"\", \"Close\",\"5\",\"0\",\"PrimaryOnly\",,,\"False\",\"T\",\"EveryTick\")","v":""},{"$error":"#N/A"},{"$f":"RTD(\"cqg.rtd\",,\"StudyData\", \"Close(\"&$D$12&\") when LocalYear(\"&$D$12&\")=\"&$D$2&\" and localMonth(\"&$D$12&\") =\"&$E$2&\" and LocalDay(\"&$D$12&\")=\"&$F$2&\" and Barix(\"&$D$12&\",reference:=StartOfSession)=\"&A45&\"\", \"Bar\", \"\", \"Close\",\"5\",\"0\",\"PrimaryOnly\",,,\"False\",\"T\",\"EveryTick\")","v":409.94},-2.0804968350650856E-2,{"$f":"RTD(\"cqg.rtd\",,\"StudyData\", \"Close(\"&$D$12&\") when LocalYear(\"&$D$12&\")=\"&$D$3&\" and localMonth(\"&$D$12&\") =\"&$E$3&\" and LocalDay(\"&$D$12&\")=\"&$F$3&\" and Barix(\"&$D$12&\",reference:=StartOfSession)=\"&A45&\"\", \"Bar\", \"\", \"Close\",\"5\",\"0\",\"PrimaryOnly\",,,\"False\",\"T\",\"EveryTick\")","v":417},3.296200947958532E-3,{"$f":"RTD(\"cqg.rtd\",,\"StudyData\", \"Close(\"&$D$12&\") when LocalYear(\"&$D$12&\")=\"&$D$4&\" and localMonth(\"&$D$12&\") =\"&$E$4&\" and LocalDay(\"&$D$12&\")=\"&$F$4&\" and Barix(\"&$D$12&\",reference:=StartOfSession)=\"&A45&\"\", \"Bar\", \"\", \"Close\",\"5\",\"0\",\"PrimaryOnly\",,,\"False\",\"T\",\"EveryTick\")","v":417.79},-2.8164307706995888E-3,{"$f":"RTD(\"cqg.rtd\",,\"StudyData\", \"Close(\"&$D$12&\") when LocalYear(\"&$D$12&\")=\"&$D$5&\" and localMonth(\"&$D$12&\") =\"&$E$5&\" and LocalDay(\"&$D$12&\")=\"&$F$5&\" and Barix(\"&$D$12&\",reference:=StartOfSession)=\"&A45&\"\", \"Bar\", \"\", \"Close\",\"5\",\"0\",\"PrimaryOnly\",,,\"False\",\"T\",\"EveryTick\")","v":412.65},1.07777097366809E-2,{"$f":"RTD(\"cqg.rtd\",,\"StudyData\", \"Close(\"&$D$12&\") when LocalYear(\"&$D$12&\")=\"&$D$6&\" and localMonth(\"&$D$12&\") =\"&$E$6&\" and LocalDay(\"&$D$12&\")=\"&$F$6&\" and Barix(\"&$D$12&\",reference:=StartOfSession)=\"&A45&\"\", \"Bar\", \"\", \"Close\",\"5\",\"0\",\"PrimaryOnly\",,,\"False\",\"T\",\"EveryTick\")","v":405.71},1.8373955169557452E-2,{"$f":"RTD(\"cqg.rtd\",,\"StudyData\", \"Close(\"&$D$12&\") when LocalYear(\"&$D$12&\")=\"&$D$7&\" and localMonth(\"&$D$12&\") =\"&$E$7&\" and LocalDay(\"&$D$12&\")=\"&$F$7&\" and Barix(\"&$D$12&\",reference:=StartOfSession)=\"&A45&\"\", \"Bar\", \"\", \"Close\",\"5\",\"0\",\"PrimaryOnly\",,,\"False\",\"T\",\"EveryTick\")","v":398.36},2.0075796374065431E-2,{"$f":"RTD(\"cqg.rtd\",,\"StudyData\", \"Close(\"&$D$12&\") when LocalYear(\"&$D$12&\")=\"&$D$8&\" and localMonth(\"&$D$12&\") =\"&$E$8&\" and LocalDay(\"&$D$12&\")=\"&$F$8&\" and Barix(\"&$D$12&\",reference:=StartOfSession)=\"&A45&\"\", \"Bar\", \"\", \"Close\",\"5\",\"0\",\"PrimaryOnly\",,,\"False\",\"T\",\"EveryTick\")","v":""},{"$error":"#N/A"},{"$f":"RTD(\"cqg.rtd\",,\"StudyData\", \"Close(\"&$D$12&\") when LocalYear(\"&$D$12&\")=\"&$D$9&\" and localMonth(\"&$D$12&\") =\"&$E$9&\" and LocalDay(\"&$D$12&\")=\"&$F$9&\" and Barix(\"&$D$12&\",reference:=StartOfSession)=\"&A45&\"\", \"Bar\", \"\", \"Close\",\"5\",\"0\",\"PrimaryOnly\",,,\"False\",\"T\",\"EveryTick\")","v":389.45},-5.0583756993588082E-3,{"$f":"RTD(\"cqg.rtd\",,\"StudyData\", \"Close(\"&$D$12&\") when LocalYear(\"&$D$12&\")=\"&$D$10&\" and localMonth(\"&$D$12&\") =\"&$E$10&\" and LocalDay(\"&$D$12&\")=\"&$F$10&\" and Barix(\"&$D$12&\",reference:=StartOfSession)=\"&A45&\"\", \"Bar\", \"\", \"Close\",\"5\",\"0\",\"PrimaryOnly\",,,\"False\",\"T\",\"EveryTick\")","v":391.56},-9.761772292752045E-3,null,null,null,""]
[45,"12:15:00",-32,{"$f":" RTD(\"cqg.rtd\",,\"StudyData\", $D$12,  \"Tick\", \"FlatTicks=0\", \"Tick\",\"D\",C46,\"PrimaryOnly\")","v":400.7},null,null,null,{"$f":"RTD(\"cqg.rtd\",,\"StudyData\", \"Close(\"&$D$12&\") when LocalYear(\"&$D$12&\")=\"&$D$1&\" and localMonth(\"&$D$12&\") =\"&$E$1&\" and LocalDay(\"&$D$12&\")=\"&$F$1&\" and Barix(\"&$D$12&\",reference:=StartOfSession)=\"&A46&\"\", \"Bar\", \"\", \"Close\",\"5\",\"0\",\"PrimaryOnly\",,,\"False\",\"T\",\"EveryTick\")","v":""},{"$error":"#N/A"},{"$f":"RTD(\"cqg.rtd\",,\"StudyData\", \"Close(\"&$D$12&\") when LocalYear(\"&$D$12&\")=\"&$D$2&\" and localMonth(\"&$D$12&\") =\"&$E$2&\" and LocalDay(\"&$D$12&\")=\"&$F$2&\" and Barix(\"&$D$12&\",reference:=StartOfSession)=\"&A46&\"\", \"Bar\", \"\", \"Close\",\"5\",\"0\",\"PrimaryOnly\",,,\"False\",\"T\",\"EveryTick\")","v":410.35},-1.9825630001194208E-2,{"$f":"RTD(\"cqg.rtd\",,\"StudyData\", \"Close(\"&$D$12&\") when LocalYear(\"&$D$12&\")=\"&$D$3&\" and localMonth(\"&$D$12&\") =\"&$E$3&\" and LocalDay(\"&$D$12&\")=\"&$F$3&\" and Barix(\"&$D$12&\",reference:=StartOfSession)=\"&A46&\"\", \"Bar\", \"\", \"Close\",\"5\",\"0\",\"PrimaryOnly\",,,\"False\",\"T\",\"EveryTick\")","v":417.5},4.499193994658722E-3,{"$f":"RTD(\"cqg.rtd\",,\"StudyData\", \"Close(\"&$D$12&\") when LocalYear(\"&$D$12&\")=\"&$D$4&\" and localMonth(\"&$D$12&\") =\"&$E$4&\" and LocalDay(\"&$D$12&\")=\"&$F$4&\" and Barix(\"&$D$12&\",reference:=StartOfSession)=\"&A46&\"\", \"Bar\", \"\", \"Close\",\"5\",\"0\",\"PrimaryOnly\",,,\"False\",\"T\",\"EveryTick\")","v":417.18},-4.2723822708070278E-3,{"$f":"RTD(\"cqg.rtd\",,\"StudyData\", \"Close(\"&$D$12&\") when LocalYear(\"&$D$12&\")=\"&$D$5&\" and localMonth(\"&$D$12&\") =\"&$E$5&\" and LocalDay(\"&$D$12&\")=\"&$F$5&\" and Barix(\"&$D$12&\",reference:=StartOfSession)=\"&A46&\"\", \"Bar\", \"\", \"Close\",\"5\",\"0\",\"PrimaryOnly\",,,\"False\",\"T\",\"EveryTick\")","v":412.94},1.1488058787507648E-2,{"$f":"RTD(\"cqg.rtd\",,\"StudyData\", \"Close(\"&$D$12&\") when LocalYear(\"&$D$12&\")=\"&$D$6&\" and localMonth(\"&$D$12&\") =\"&$E$6&\" and LocalDay(\"&$D$12&\")=\"&$F$6&\" and Barix(\"&$D$12&\",reference:=StartOfSession)=\"&A46&\"\", \"Bar\", \"\", \"Close\",\"5\",\"0\",\"PrimaryOnly\",,,\"False\",\"T\",\"EveryTick\")","v":405.58},1.8047641758076251E-2,{"$f":"RTD(\"cqg.rtd\",,\"StudyData\", \"Close(\"&$D$12&\") when LocalYear(\"&$D$12&\")=\"&$D$7&\" and localMonth(\"&$D$12&\") =\"&$E$7&\" and LocalDay(\"&$D$12&\")=\"&$F$7&\" and Barix(\"&$D$12&\",reference:=StartOfSession)=\"&A46&\"\", \"Bar\", \"\", \"Close\",\"5\",\"0\",\"PrimaryOnly\",,,\"False\",\"T\",\"EveryTick\")","v":398.25},1.9794120659633357E-2,{"$f":"RTD(\"cqg.rtd\",,\"StudyData\", \"Close(\"&$D$12&\") when LocalYear(\"&$D$12&\")=\"&$D$8&\" and localMonth(\"&$D$12&\") =\"&$E$8&\" and LocalDay(\"&$D$12&\")=\"&$F$8&\" and Barix(\"&$D$12&\",reference:=StartOfSession)=\"&A46&\"\", \"Bar\", \"\", \"Close\",\"5\",\"0\",\"PrimaryOnly\",,,\"False\",\"T\",\"EveryTick\")","v":""},{"$error":"#N/A"},{"$f":"RTD(\"cqg.rtd\",,\"StudyData\", \"Close(\"&$D$12&\") when LocalYear(\"&$D$12&\")=\"&$D$9&\" and localMonth(\"&$D$12&\") =\"&$E$9&\" and LocalDay(\"&$D$12&\")=\"&$F$9&\" and Barix(\"&$D$12&\",reference:=StartOfSession)=\"&A46&\"\", \"Bar\", \"\", \"Close\",\"5\",\"0\",\"PrimaryOnly\",,,\"False\",\"T\",\"EveryTick\")","v":389.23},-5.6204174437319279E-3,{"$f":"RTD(\"cqg.rtd\",,\"StudyData\", \"Close(\"&$D$12&\") when LocalYear(\"&$D$12&\")=\"&$D$10&\" and localMonth(\"&$D$12&\") =\"&$E$10&\" and LocalDay(\"&$D$12&\")=\"&$F$10&\" and Barix(\"&$D$12&\",reference:=StartOfSession)=\"&A46&\"\", \"Bar\", \"\", \"Close\",\"5\",\"0\",\"PrimaryOnly\",,,\"False\",\"T\",\"EveryTick\")","v":391.76},-9.2559809822467878E-3,null,null,null,""]
[46,"12:20:00",-31,{"$f":" RTD(\"cqg.rtd\",,\"StudyData\", $D$12,  \"Tick\", \"FlatTicks=0\", \"Tick\",\"D\",C47,\"PrimaryOnly\")","v":400.71},null,null,null,{"$f":"RTD(\"cqg.rtd\",,\"StudyData\", \"Close(\"&$D$12&\") when LocalYear(\"&$D$12&\")=\"&$D$1&\" and localMonth(\"&$D$12&\") =\"&$E$1&\" and LocalDay(\"&$D$12&\")=\"&$F$1&\" and Barix(\"&$D$12&\",reference:=StartOfSession)=\"&A47&\"\", \"Bar\", \"\", \"Close\",\"5\",\"0\",\"PrimaryOnly\",,,\"False\",\"T\",\"EveryTick\")","v":""},{"$error":"#N/A"},{"$f":"RTD(\"cqg.rtd\",,\"StudyData\", \"Close(\"&$D$12&\") when LocalYear(\"&$D$12&\")=\"&$D$2&\" and localMonth(\"&$D$12&\") =\"&$E$2&\" and LocalDay(\"&$D$12&\")=\"&$F$2&\" and Barix(\"&$D$12&\",reference:=StartOfSession)=\"&A47&\"\", \"Bar\", \"\", \"Close\",\"5\",\"0\",\"PrimaryOnly\",,,\"False\",\"T\",\"EveryTick\")","v":410.91},-1.8487997133643741E-2,{"$f":"RTD(\"cqg.rtd\",,\"StudyData\", \"Close(\"&$D$12&\") when LocalYear(\"&$D$12&\")=\"&$D$3&\" and localMonth(\"&$D$12&\") =\"&$E$3&\" and LocalDay(\"&$D$12&\")=\"&$F$3&\" and Barix(\"&$D$12&\",reference:=StartOfSession)=\"&A47&\"\", \"Bar\", \"\", \"Close\",\"5\",\"0\",\"PrimaryOnly\",,,\"False\",\"T\",\"EveryTick\")","v":418.49},6.88112022712512E-3,{"$f":"RTD(\"cqg.rtd\",,\"StudyData\", \"Close(\"&$D$12&\") when LocalYear(\"&$D$12&\")=\"&$D$4&\" and localMonth(\"&$D$12&\") =\"&$E$4&\" and LocalDay(\"&$D$12&\")=\"&$F$4&\" and Barix(\"&$D$12&\",reference:=StartOfSession)=\"&A47&\"\", \"Bar\", \"\", \"Close\",\"5\",\"0\",\"PrimaryOnly\",,,\"False\",\"T\",\"EveryTick\")","v":416.83},-5.1077642790654295E-3,{"$f":"RTD(\"cqg.rtd\",,\"StudyData\", \"Close(\"&$D$12&\") when LocalYear(\"&$D$12&\")=\"&$D$5&\" and localMonth(\"&$D$12&\") =\"&$E$5&\" and LocalDay(\"&$D$12&\")=\"&$F$5&\" and Barix(\"&$D$12&\",reference:=StartOfSession)=\"&A47&\"\", \"Bar\", \"\", \"Close\",\"5\",\"0\",\"PrimaryOnly\",,,\"False\",\"T\",\"EveryTick\")","v":413.46},1.2761788120024445E-2,{"$f":"RTD(\"cqg.rtd\",,\"StudyData\", \"Close(\"&$D$12&\") when LocalYear(\"&$D$12&\")=\"&$D$6&\" and localMonth(\"&$D$12&\") =\"&$E$6&\" and LocalDay(\"&$D$12&\")=\"&$F$6&\" and Barix(\"&$D$12&\",reference:=StartOfSession)=\"&A47&\"\", \"Bar\", \"\", \"Close\",\"5\",\"0\",\"PrimaryOnly\",,,\"False\",\"T\",\"EveryTick\")","v":405.27},1.7269509776851818E-2,{"$f":"RTD(\"cqg.rtd\",,\"StudyData\", \"Close(\"&$D$12&\") when LocalYear(\"&$D$12&\")=\"&$D$7&\" and localMonth(\"&$D$12&\") =\"&$E$7&\" and LocalDay(\"&$D$12&\")=\"&$F$7&\" and Barix(\"&$D$12&\",reference:=StartOfSession)=\"&A47&\"\", \"Bar\", \"\", \"Close\",\"5\",\"0\",\"PrimaryOnly\",,,\"False\",\"T\",\"EveryTick\")","v":398.02},1.9205162347639047E-2,{"$f":"RTD(\"cqg.rtd\",,\"StudyData\", \"Close(\"&$D$12&\") when LocalYear(\"&$D$12&\")=\"&$D$8&\" and localMonth(\"&$D$12&\") =\"&$E$8&\" and LocalDay(\"&$D$12&\")=\"&$F$8&\" and Barix(\"&$D$12&\",reference:=StartOfSession)=\"&A47&\"\", \"Bar\", \"\", \"Close\",\"5\",\"0\",\"PrimaryOnly\",,,\"False\",\"T\",\"EveryTick\")","v":""},{"$error":"#N/A"},{"$f":"RTD(\"cqg.rtd\",,\"StudyData\", \"Close(\"&$D$12&\") when LocalYear(\"&$D$12&\")=\"&$D$9&\" and localMonth(\"&$D$12&\") =\"&$E$9&\" and LocalDay(\"&$D$12&\")=\"&$F$9&\" and Barix(\"&$D$12&\",reference:=StartOfSession)=\"&A47&\"\", \"Bar\", \"\", \"Close\",\"5\",\"0\",\"PrimaryOnly\",,,\"False\",\"T\",\"EveryTick\")","v":389.7},-4.4196918989347217E-3,{"$f":"RTD(\"cqg.rtd\",,\"StudyData\", \"Close(\"&$D$12&\") when LocalYear(\"&$D$12&\")=\"&$D$10&\" and localMonth(\"&$D$12&\") =\"&$E$10&\" and LocalDay(\"&$D$12&\")=\"&$F$10&\" and Barix(\"&$D$12&\",reference:=StartOfSession)=\"&A47&\"\", \"Bar\", \"\", \"Close\",\"5\",\"0\",\"PrimaryOnly\",,,\"False\",\"T\",\"EveryTick\")","v":391.72},-9.3571392443477525E-3,null,null,null,""]
[47,"12:25:00",-30,{"$f":" RTD(\"cqg.rtd\",,\"StudyData\", $D$12,  \"Tick\", \"FlatTicks=0\", \"Tick\",\"D\",C48,\"PrimaryOnly\")","v":400.8},null,null,null,{"$f":"RTD(\"cqg.rtd\",,\"StudyData\", \"Close(\"&$D$12&\") when LocalYear(\"&$D$12&\")=\"&$D$1&\" and localMonth(\"&$D$12&\") =\"&$E$1&\" and LocalDay(\"&$D$12&\")=\"&$F$1&\" and Barix(\"&$D$12&\",reference:=StartOfSession)=\"&A48&\"\", \"Bar\", \"\", \"Close\",\"5\",\"0\",\"PrimaryOnly\",,,\"False\",\"T\",\"EveryTick\")","v":""},{"$error":"#N/A"},{"$f":"RTD(\"cqg.rtd\",,\"StudyData\", \"Close(\"&$D$12&\") when LocalYear(\"&$D$12&\")=\"&$D$2&\" and localMonth(\"&$D$12&\") =\"&$E$2&\" and LocalDay(\"&$D$12&\")=\"&$F$2&\" and Barix(\"&$D$12&\",reference:=StartOfSession)=\"&A48&\"\", \"Bar\", \"\", \"Close\",\"5\",\"0\",\"PrimaryOnly\",,,\"False\",\"T\",\"EveryTick\")","v":411.43},-1.724590947091836E-2,{"$f":"RTD(\"cqg.rtd\",,\"StudyData\", \"Close(\"&$D$12&\") when LocalYear(\"&$D$12&\")=\"&$D$3&\" and localMonth(\"&$D$12&\") =\"&$E$3&\" and LocalDay(\"&$D$12&\")=\"&$F$3&\" and Barix(\"&$D$12&\",reference:=StartOfSession)=\"&A48&\"\", \"Bar\", \"\", \"Close\",\"5\",\"0\",\"PrimaryOnly\",,,\"False\",\"T\",\"EveryTick\")","v":418.4},6.664581478719009E-3,{"$f":"RTD(\"cqg.rtd\",,\"StudyData\", \"Close(\"&$D$12&\") when LocalYear(\"&$D$12&\")=\"&$D$4&\" and localMonth(\"&$D$12&\") =\"&$E$4&\" and LocalDay(\"&$D$12&\")=\"&$F$4&\" and Barix(\"&$D$12&\",reference:=StartOfSession)=\"&A48&\"\", \"Bar\", \"\", \"Close\",\"5\",\"0\",\"PrimaryOnly\",,,\"False\",\"T\",\"EveryTick\")","v":416.9},-4.9406878774137762E-3,{"$f":"RTD(\"cqg.rtd\",,\"StudyData\", \"Close(\"&$D$12&\") when LocalYear(\"&$D$12&\")=\"&$D$5&\" and localMonth(\"&$D$12&\") =\"&$E$5&\" and LocalDay(\"&$D$12&\")=\"&$F$5&\" and Barix(\"&$D$12&\",reference:=StartOfSession)=\"&A48&\"\", \"Bar\", \"\", \"Close\",\"5\",\"0\",\"PrimaryOnly\",,,\"False\",\"T\",\"EveryTick\")","v":414.28},1.4770361298224061E-2,{"$f":"RTD(\"cqg.rtd\",,\"StudyData\", \"Close(\"&$D$12&\") when LocalYear(\"&$D$12&\")=\"&$D$6&\" and localMonth(\"&$D$12&\") =\"&$E$6&\" and LocalDay(\"&$D$12&\")=\"&$F$6&\" and Barix(\"&$D$12&\",reference:=StartOfSession)=\"&A48&\"\", \"Bar\", \"\", \"Close\",\"5\",\"0\",\"PrimaryOnly\",,,\"False\",\"T\",\"EveryTick\")","v":405.46},1.7746429378247431E-2,{"$f":"RTD(\"cqg.rtd\",,\"StudyData\", \"Close(\"&$D$12&\") when LocalYear(\"&$D$12&\")=\"&$D$7&\" and localMonth(\"&$D$12&\") =\"&$E$7&\" and LocalDay(\"&$D$12&\")=\"&$F$7&\" and Barix(\"&$D$12&\",reference:=StartOfSession)=\"&A48&\"\", \"Bar\", \"\", \"Close\",\"5\",\"0\",\"PrimaryOnly\",,,\"False\",\"T\",\"EveryTick\")","v":397.85},1.8769845334426001E-2,{"$f":"RTD(\"cqg.rtd\",,\"StudyData\", \"Close(\"&$D$12&\") when LocalYear(\"&$D$12&\")=\"&$D$8&\" and localMonth(\"&$D$12&\") =\"&$E$8&\" and LocalDay(\"&$D$12&\")=\"&$F$8&\" and Barix(\"&$D$12&\",reference:=StartOfSession)=\"&A48&\"\", \"Bar\", \"\", \"Close\",\"5\",\"0\",\"PrimaryOnly\",,,\"False\",\"T\",\"EveryTick\")","v":""},{"$error":"#N/A"},{"$f":"RTD(\"cqg.rtd\",,\"StudyData\", \"Close(\"&$D$12&\") when LocalYear(\"&$D$12&\")=\"&$D$9&\" and localMonth(\"&$D$12&\") =\"&$E$9&\" and LocalDay(\"&$D$12&\")=\"&$F$9&\" and Barix(\"&$D$12&\",reference:=StartOfSession)=\"&A48&\"\", \"Bar\", \"\", \"Close\",\"5\",\"0\",\"PrimaryOnly\",,,\"False\",\"T\",\"EveryTick\")","v":389.26},-5.5437753876811076E-3,{"$f":"RTD(\"cqg.rtd\",,\"StudyData\", \"Close(\"&$D$12&\") when LocalYear(\"&$D$12&\")=\"&$D$10&\" and localMonth(\"&$D$12&\") =\"&$E$10&\" and LocalDay(\"&$D$12&\")=\"&$F$10&\" and Barix(\"&$D$12&\",reference:=StartOfSession)=\"&A48&\"\", \"Bar\", \"\", \"Close\",\"5\",\"0\",\"PrimaryOnly\",,,\"False\",\"T\",\"EveryTick\")","v":392.25},-8.0167922715088154E-3,null,null,null,""]
[48,"12:30:00",-29,{"$f":" RTD(\"cqg.rtd\",,\"StudyData\", $D$12,  \"Tick\", \"FlatTicks=0\", \"Tick\",\"D\",C49,\"PrimaryOnly\")","v":400.69},null,null,null,{"$f":"RTD(\"cqg.rtd\",,\"StudyData\", \"Close(\"&$D$12&\") when LocalYear(\"&$D$12&\")=\"&$D$1&\" and localMonth(\"&$D$12&\") =\"&$E$1&\" and LocalDay(\"&$D$12&\")=\"&$F$1&\" and Barix(\"&$D$12&\",reference:=StartOfSession)=\"&A49&\"\", \"Bar\", \"\", \"Close\",\"5\",\"0\",\"PrimaryOnly\",,,\"False\",\"T\",\"EveryTick\")","v":""},{"$error":"#N/A"},{"$f":"RTD(\"cqg.rtd\",,\"StudyData\", \"Close(\"&$D$12&\") when LocalYear(\"&$D$12&\")=\"&$D$2&\" and localMonth(\"&$D$12&\") =\"&$E$2&\" and LocalDay(\"&$D$12&\")=\"&$F$2&\" and Barix(\"&$D$12&\",reference:=StartOfSession)=\"&A49&\"\", \"Bar\", \"\", \"Close\",\"5\",\"0\",\"PrimaryOnly\",,,\"False\",\"T\",\"EveryTick\")","v":411.24},-1.7699749193837259E-2,{"$f":"RTD(\"cqg.rtd\",,\"StudyData\", \"Close(\"&$D$12&\") when LocalYear(\"&$D$12&\")=\"&$D$3&\" and localMonth(\"&$D$12&\") =\"&$E$3&\" and LocalDay(\"&$D$12&\")=\"&$F$3&\" and Barix(\"&$D$12&\",reference:=StartOfSession)=\"&A49&\"\", \"Bar\", \"\", \"Close\",\"5\",\"0\",\"PrimaryOnly\",,,\"False\",\"T\",\"EveryTick\")","v":418.1},5.942785650699005E-3,{"$f":"RTD(\"cqg.rtd\",,\"StudyData\", \"Close(\"&$D$12&\") when LocalYear(\"&$D$12&\")=\"&$D$4&\" and localMonth(\"&$D$12&\") =\"&$E$4&\" and LocalDay(\"&$D$12&\")=\"&$F$4&\" and Barix(\"&$D$12&\",reference:=StartOfSession)=\"&A49&\"\", \"Bar\", \"\", \"Close\",\"5\",\"0\",\"PrimaryOnly\",,,\"False\",\"T\",\"EveryTick\")","v":416.07},-6.9217366398549628E-3,{"$f":"RTD(\"cqg.rtd\",,\"StudyData\", \"Close(\"&$D$12&\") when LocalYear(\"&$D$12&\")=\"&$D$5&\" and localMonth(\"&$D$12&\") =\"&$E$5&\" and LocalDay(\"&$D$12&\")=\"&$F$5&\" and Barix(\"&$D$12&\",reference:=StartOfSession)=\"&A49&\"\", \"Bar\", \"\", \"Close\",\"5\",\"0\",\"PrimaryOnly\",,,\"False\",\"T\",\"EveryTick\")","v":414.5},1.5309246785058175E-2,{"$f":"RTD(\"cqg.rtd\",,\"StudyData\", \"Close(\"&$D$12&\") when LocalYear(\"&$D$12&\")=\"&$D$6&\" and localMonth(\"&$D$12&\") =\"&$E$6&\" and LocalDay(\"&$D$12&\")=\"&$F$6&\" and Barix(\"&$D$12&\",reference:=StartOfSession)=\"&A49&\"\", \"Bar\", \"\", \"Close\",\"5\",\"0\",\"PrimaryOnly\",,,\"False\",\"T\",\"EveryTick\")","v":405.12},1.689299430206586E-2,{"$f":"RTD(\"cqg.rtd\",,\"StudyData\", \"Close(\"&$D$12&\") when LocalYear(\"&$D$12&\")=\"&$D$7&\" and localMonth(\"&$D$12&\") =\"&$E$7&\" and LocalDay(\"&$D$12&\")=\"&$F$7&\" and Barix(\"&$D$12&\",reference:=StartOfSession)=\"&A49&\"\", \"Bar\", \"\", \"Close\",\"5\",\"0\",\"PrimaryOnly\",,,\"False\",\"T\",\"EveryTick\")","v":396.94},1.6439618969579066E-2,{"$f":"RTD(\"cqg.rtd\",,\"StudyData\", \"Close(\"&$D$12&\") when LocalYear(\"&$D$12&\")=\"&$D$8&\" and localMonth(\"&$D$12&\") =\"&$E$8&\" and LocalDay(\"&$D$12&\")=\"&$F$8&\" and Barix(\"&$D$12&\",reference:=StartOfSession)=\"&A49&\"\", \"Bar\", \"\", \"Close\",\"5\",\"0\",\"PrimaryOnly\",,,\"False\",\"T\",\"EveryTick\")","v":""},{"$error":"#N/A"},{"$f":"RTD(\"cqg.rtd\",,\"StudyData\", \"Close(\"&$D$12&\") when LocalYear(\"&$D$12&\")=\"&$D$9&\" and localMonth(\"&$D$12&\") =\"&$E$9&\" and LocalDay(\"&$D$12&\")=\"&$F$9&\" and Barix(\"&$D$12&\",reference:=StartOfSession)=\"&A49&\"\", \"Bar\", \"\", \"Close\",\"5\",\"0\",\"PrimaryOnly\",,,\"False\",\"T\",\"EveryTick\")","v":390.45},-2.5036404976624639E-3,{"$f":"RTD(\"cqg.rtd\",,\"StudyData\", \"Close(\"&$D$12&\") when LocalYear(\"&$D$12&\")=\"&$D$10&\" and localMonth(\"&$D$12&\") =\"&$E$10&\" and LocalDay(\"&$D$12&\")=\"&$F$10&\" and Barix(\"&$D$12&\",reference:=StartOfSession)=\"&A49&\"\", \"Bar\", \"\", \"Close\",\"5\",\"0\",\"PrimaryOnly\",,,\"False\",\"T\",\"EveryTick\")","v":392.78},-6.6764452986698775E-3,null,null,null,""]
[49,"12:35:00",-28,{"$f":" RTD(\"cqg.rtd\",,\"StudyData\", $D$12,  \"Tick\", \"FlatTicks=0\", \"Tick\",\"D\",C50,\"PrimaryOnly\")","v":400.7},null,null,null,{"$f":"RTD(\"cqg.rtd\",,\"StudyData\", \"Close(\"&$D$12&\") when LocalYear(\"&$D$12&\")=\"&$D$1&\" and localMonth(\"&$D$12&\") =\"&$E$1&\" and LocalDay(\"&$D$12&\")=\"&$F$1&\" and Barix(\"&$D$12&\",reference:=StartOfSession)=\"&A50&\"\", \"Bar\", \"\", \"Close\",\"5\",\"0\",\"PrimaryOnly\",,,\"False\",\"T\",\"EveryTick\")","v":""},{"$error":"#N/A"},{"$f":"RTD(\"cqg.rtd\",,\"StudyData\", \"Close(\"&$D$12&\") when LocalYear(\"&$D$12&\")=\"&$D$2&\" and localMonth(\"&$D$12&\") =\"&$E$2&\" and LocalDay(\"&$D$12&\")=\"&$F$2&\" and Barix(\"&$D$12&\",reference:=StartOfSession)=\"&A50&\"\", \"Bar\", \"\", \"Close\",\"5\",\"0\",\"PrimaryOnly\",,,\"False\",\"T\",\"EveryTick\")","v":412.13},-1.5573868386480311E-2,{"$f":"RTD(\"cqg.rtd\",,\"StudyData\", \"Close(\"&$D$12&\") when LocalYear(\"&$D$12&\")=\"&$D$3&\" and localMonth(\"&$D$12&\") =\"&$E$3&\" and LocalDay(\"&$D$12&\")=\"&$F$3&\" and Barix(\"&$D$12&\",reference:=StartOfSession)=\"&A50&\"\", \"Bar\", \"\", \"Close\",\"5\",\"0\",\"PrimaryOnly\",,,\"False\",\"T\",\"EveryTick\")","v":418.1},5.942785650699005E-3,{"$f":"RTD(\"cqg.rtd\",,\"StudyData\", \"Close(\"&$D$12&\") when LocalYear(\"&$D$12&\")=\"&$D$4&\" and localMonth(\"&$D$12&\") =\"&$E$4&\" and LocalDay(\"&$D$12&\")=\"&$F$4&\" and Barix(\"&$D$12&\",reference:=StartOfSession)=\"&A50&\"\", \"Bar\", \"\", \"Close\",\"5\",\"0\",\"PrimaryOnly\",,,\"False\",\"T\",\"EveryTick\")","v":414.75},-1.0072320213857859E-2,{"$f":"RTD(\"cqg.rtd\",,\"StudyData\", \"Close(\"&$D$12&\") when LocalYear(\"&$D$12&\")=\"&$D$5&\" and localMonth(\"&$D$12&\") =\"&$E$5&\" and LocalDay(\"&$D$12&\")=\"&$F$5&\" and Barix(\"&$D$12&\",reference:=StartOfSession)=\"&A50&\"\", \"Bar\", \"\", \"Close\",\"5\",\"0\",\"PrimaryOnly\",,,\"False\",\"T\",\"EveryTick\")","v":414.26},1.472137170851192E-2,{"$f":"RTD(\"cqg.rtd\",,\"StudyData\", \"Close(\"&$D$12&\") when LocalYear(\"&$D$12&\")=\"&$D$6&\" and localMonth(\"&$D$12&\") =\"&$E$6&\" and LocalDay(\"&$D$12&\")=\"&$F$6&\" and Barix(\"&$D$12&\",reference:=StartOfSession)=\"&A50&\"\", \"Bar\", \"\", \"Close\",\"5\",\"0\",\"PrimaryOnly\",,,\"False\",\"T\",\"EveryTick\")","v":405.46},1.7746429378247431E-2,{"$f":"RTD(\"cqg.rtd\",,\"StudyData\", \"Close(\"&$D$12&\") when LocalYear(\"&$D$12&\")=\"&$D$7&\" and localMonth(\"&$D$12&\") =\"&$E$7&\" and LocalDay(\"&$D$12&\")=\"&$F$7&\" and Barix(\"&$D$12&\",reference:=StartOfSession)=\"&A50&\"\", \"Bar\", \"\", \"Close\",\"5\",\"0\",\"PrimaryOnly\",,,\"False\",\"T\",\"EveryTick\")","v":396.42},1.510806104680947E-2,{"$f":"RTD(\"cqg.rtd\",,\"StudyData\", \"Close(\"&$D$12&\") when LocalYear(\"&$D$12&\")=\"&$D$8&\" and localMonth(\"&$D$12&\") =\"&$E$8&\" and LocalDay(\"&$D$12&\")=\"&$F$8&\" and Barix(\"&$D$12&\",reference:=StartOfSession)=\"&A50&\"\", \"Bar\", \"\", \"Close\",\"5\",\"0\",\"PrimaryOnly\",,,\"False\",\"T\",\"EveryTick\")","v":""},{"$error":"#N/A"},{"$f":"RTD(\"cqg.rtd\",,\"StudyData\", \"Close(\"&$D$12&\") when LocalYear(\"&$D$12&\")=\"&$D$9&\" and localMonth(\"&$D$12&\") =\"&$E$9&\" and LocalDay(\"&$D$12&\")=\"&$F$9&\" and Barix(\"&$D$12&\",reference:=StartOfSession)=\"&A50&\"\", \"Bar\", \"\", \"Close\",\"5\",\"0\",\"PrimaryOnly\",,,\"False\",\"T\",\"EveryTick\")","v":390.57},-2.1970722734588909E-3,{"$f":"RTD(\"cqg.rtd\",,\"StudyData\", \"Close(\"&$D$12&\") when LocalYear(\"&$D$12&\")=\"&$D$10&\" and localMonth(\"&$D$12&\") =\"&$E$10&\" and LocalDay(\"&$D$12&\")=\"&$F$10&\" and Barix(\"&$D$12&\",reference:=StartOfSession)=\"&A50&\"\", \"Bar\", \"\", \"Close\",\"5\",\"0\",\"PrimaryOnly\",,,\"False\",\"T\",\"EveryTick\")","v":393.02},-6.0694957260635125E-3,null,null,null,""]
[50,"12:40:00",-27,{"$f":" RTD(\"cqg.rtd\",,\"StudyData\", $D$12,  \"Tick\", \"FlatTicks=0\", \"Tick\",\"D\",C51,\"PrimaryOnly\")","v":400.69},null,null,null,{"$f":"RTD(\"cqg.rtd\",,\"StudyData\", \"Close(\"&$D$12&\") when LocalYear(\"&$D$12&\")=\"&$D$1&\" and localMonth(\"&$D$12&\") =\"&$E$1&\" and LocalDay(\"&$D$12&\")=\"&$F$1&\" and Barix(\"&$D$12&\",reference:=StartOfSession)=\"&A51&\"\", \"Bar\", \"\", \"Close\",\"5\",\"0\",\"PrimaryOnly\",,,\"False\",\"T\",\"EveryTick\")","v":""},{"$error":"#N/A"},{"$f":"RTD(\"cqg.rtd\",,\"StudyData\", \"Close(\"&$D$12&\") when LocalYear(\"&$D$12&\")=\"&$D$2&\" and localMonth(\"&$D$12&\") =\"&$E$2&\" and LocalDay(\"&$D$12&\")=\"&$F$2&\" and Barix(\"&$D$12&\",reference:=StartOfSession)=\"&A51&\"\", \"Bar\", \"\", \"Close\",\"5\",\"0\",\"PrimaryOnly\",,,\"False\",\"T\",\"EveryTick\")","v":412.07},-1.5717186193717866E-2,{"$f":"RTD(\"cqg.rtd\",,\"StudyData\", \"Close(\"&$D$12&\") when LocalYear(\"&$D$12&\")=\"&$D$3&\" and localMonth(\"&$D$12&\") =\"&$E$3&\" and LocalDay(\"&$D$12&\")=\"&$F$3&\" and Barix(\"&$D$12&\",reference:=StartOfSession)=\"&A51&\"\", \"Bar\", \"\", \"Close\",\"5\",\"0\",\"PrimaryOnly\",,,\"False\",\"T\",\"EveryTick\")","v":418.1},5.942785650699005E-3,{"$f":"RTD(\"cqg.rtd\",,\"StudyData\", \"Close(\"&$D$12&\") when LocalYear(\"&$D$12&\")=\"&$D$4&\" and localMonth(\"&$D$12&\") =\"&$E$4&\" and LocalDay(\"&$D$12&\")=\"&$F$4&\" and Barix(\"&$D$12&\",reference:=StartOfSession)=\"&A51&\"\", \"Bar\", \"\", \"Close\",\"5\",\"0\",\"PrimaryOnly\",,,\"False\",\"T\",\"EveryTick\")","v":415.42},-8.4731603694775549E-3,{"$f":"RTD(\"cqg.rtd\",,\"StudyData\", \"Close(\"&$D$12&\") when LocalYear(\"&$D$12&\")=\"&$D$5&\" and localMonth(\"&$D$12&\") =\"&$E$5&\" and LocalDay(\"&$D$12&\")=\"&$F$5&\" and Barix(\"&$D$12&\",reference:=StartOfSession)=\"&A51&\"\", \"Bar\", \"\", \"Close\",\"5\",\"0\",\"PrimaryOnly\",,,\"False\",\"T\",\"EveryTick\")","v":414.73},1.5872627066748361E-2,{"$f":"RTD(\"cqg.rtd\",,\"StudyData\", \"Close(\"&$D$12&\") when LocalYear(\"&$D$12&\")=\"&$D$6&\" and localMonth(\"&$D$12&\") =\"&$E$6&\" and LocalDay(\"&$D$12&\")=\"&$F$6&\" and Barix(\"&$D$12&\",reference:=StartOfSession)=\"&A51&\"\", \"Bar\", \"\", \"Close\",\"5\",\"0\",\"PrimaryOnly\",,,\"False\",\"T\",\"EveryTick\")","v":405.44},1.7696227314942675E-2,{"$f":"RTD(\"cqg.rtd\",,\"StudyData\", \"Close(\"&$D$12&\") when LocalYear(\"&$D$12&\")=\"&$D$7&\" and localMonth(\"&$D$12&\") =\"&$E$7&\" and LocalDay(\"&$D$12&\")=\"&$F$7&\" and Barix(\"&$D$12&\",reference:=StartOfSession)=\"&A51&\"\", \"Bar\", \"\", \"Close\",\"5\",\"0\",\"PrimaryOnly\",,,\"False\",\"T\",\"EveryTick\")","v":397.21},1.7131004814094023E-2,{"$f":"RTD(\"cqg.rtd\",,\"StudyData\", \"Close(\"&$D$12&\") when LocalYear(\"&$D$12&\")=\"&$D$8&\" and localMonth(\"&$D$12&\") =\"&$E$8&\" and LocalDay(\"&$D$12&\")=\"&$F$8&\" and Barix(\"&$D$12&\",reference:=StartOfSession)=\"&A51&\"\", \"Bar\", \"\", \"Close\",\"5\",\"0\",\"PrimaryOnly\",,,\"False\",\"T\",\"EveryTick\")","v":""},{"$error":"#N/A"},{"$f":"RTD(\"cqg.rtd\",,\"StudyData\", \"Close(\"&$D$12&\") when LocalYear(\"&$D$12&\")=\"&$D$9&\" and localMonth(\"&$D$12&\") =\"&$E$9&\" and LocalDay(\"&$D$12&\")=\"&$F$9&\" and Barix(\"&$D$12&\",reference:=StartOfSession)=\"&A51&\"\", \"Bar\", \"\", \"Close\",\"5\",\"0\",\"PrimaryOnly\",,,\"False\",\"T\",\"EveryTick\")","v":391.57},3.5766292823745334E-4,{"$f":"RTD(\"cqg.rtd\",,\"StudyData\", \"Close(\"&$D$12&\") when LocalYear(\"&$D$12&\")=\"&$D$10&\" and localMonth(\"&$D$12&\") =\"&$E$10&\" and LocalDay(\"&$D$12&\")=\"&$F$10&\" and Barix(\"&$D$12&\",reference:=StartOfSession)=\"&A51&\"\", \"Bar\", \"\", \"Close\",\"5\",\"0\",\"PrimaryOnly\",,,\"False\",\"T\",\"EveryTick\")","v":393.62},-4.552121794547598E-3,null,null,null,""]
[51,"12:45:00",-26,{"$f":" RTD(\"cqg.rtd\",,\"StudyData\", $D$12,  \"Tick\", \"FlatTicks=0\", \"Tick\",\"D\",C52,\"PrimaryOnly\")","v":400.73},null,null,null,{"$f":"RTD(\"cqg.rtd\",,\"StudyData\", \"Close(\"&$D$12&\") when LocalYear(\"&$D$12&\")=\"&$D$1&\" and localMonth(\"&$D$12&\") =\"&$E$1&\" and LocalDay(\"&$D$12&\")=\"&$F$1&\" and Barix(\"&$D$12&\",reference:=StartOfSession)=\"&A52&\"\", \"Bar\", \"\", \"Close\",\"5\",\"0\",\"PrimaryOnly\",,,\"False\",\"T\",\"EveryTick\")","v":""},{"$error":"#N/A"},{"$f":"RTD(\"cqg.rtd\",,\"StudyData\", \"Close(\"&$D$12&\") when LocalYear(\"&$D$12&\")=\"&$D$2&\" and localMonth(\"&$D$12&\") =\"&$E$2&\" and LocalDay(\"&$D$12&\")=\"&$F$2&\" and Barix(\"&$D$12&\",reference:=StartOfSession)=\"&A52&\"\", \"Bar\", \"\", \"Close\",\"5\",\"0\",\"PrimaryOnly\",,,\"False\",\"T\",\"EveryTick\")","v":411.57},-1.6911501254030775E-2,{"$f":"RTD(\"cqg.rtd\",,\"StudyData\", \"Close(\"&$D$12&\") when LocalYear(\"&$D$12&\")=\"&$D$3&\" and localMonth(\"&$D$12&\") =\"&$E$3&\" and LocalDay(\"&$D$12&\")=\"&$F$3&\" and Barix(\"&$D$12&\",reference:=StartOfSession)=\"&A52&\"\", \"Bar\", \"\", \"Close\",\"5\",\"0\",\"PrimaryOnly\",,,\"False\",\"T\",\"EveryTick\")","v":417.65},4.860091908668724E-3,{"$f":"RTD(\"cqg.rtd\",,\"StudyData\", \"Close(\"&$D$12&\") when LocalYear(\"&$D$12&\")=\"&$D$4&\" and localMonth(\"&$D$12&\") =\"&$E$4&\" and LocalDay(\"&$D$12&\")=\"&$F$4&\" and Barix(\"&$D$12&\",reference:=StartOfSession)=\"&A52&\"\", \"Bar\", \"\", \"Close\",\"5\",\"0\",\"PrimaryOnly\",,,\"False\",\"T\",\"EveryTick\")","v":414.36},-1.1003174451631414E-2,{"$f":"RTD(\"cqg.rtd\",,\"StudyData\", \"Close(\"&$D$12&\") when LocalYear(\"&$D$12&\")=\"&$D$5&\" and localMonth(\"&$D$12&\") =\"&$E$5&\" and LocalDay(\"&$D$12&\")=\"&$F$5&\" and Barix(\"&$D$12&\",reference:=StartOfSession)=\"&A52&\"\", \"Bar\", \"\", \"Close\",\"5\",\"0\",\"PrimaryOnly\",,,\"False\",\"T\",\"EveryTick\")","v":414.76},1.5946111451316573E-2,{"$f":"RTD(\"cqg.rtd\",,\"StudyData\", \"Close(\"&$D$12&\") when LocalYear(\"&$D$12&\")=\"&$D$6&\" and localMonth(\"&$D$12&\") =\"&$E$6&\" and LocalDay(\"&$D$12&\")=\"&$F$6&\" and Barix(\"&$D$12&\",reference:=StartOfSession)=\"&A52&\"\", \"Bar\", \"\", \"Close\",\"5\",\"0\",\"PrimaryOnly\",,,\"False\",\"T\",\"EveryTick\")","v":405.51},1.7871934536509461E-2,{"$f":"RTD(\"cqg.rtd\",,\"StudyData\", \"Close(\"&$D$12&\") when LocalYear(\"&$D$12&\")=\"&$D$7&\" and localMonth(\"&$D$12&\") =\"&$E$7&\" and LocalDay(\"&$D$12&\")=\"&$F$7&\" and Barix(\"&$D$12&\",reference:=StartOfSession)=\"&A52&\"\", \"Bar\", \"\", \"Close\",\"5\",\"0\",\"PrimaryOnly\",,,\"False\",\"T\",\"EveryTick\")","v":396.62},1.562019870941315E-2,{"$f":"RTD(\"cqg.rtd\",,\"StudyData\", \"Close(\"&$D$12&\") when LocalYear(\"&$D$12&\")=\"&$D$8&\" and localMonth(\"&$D$12&\") =\"&$E$8&\" and LocalDay(\"&$D$12&\")=\"&$F$8&\" and Barix(\"&$D$12&\",reference:=StartOfSession)=\"&A52&\"\", \"Bar\", \"\", \"Close\",\"5\",\"0\",\"PrimaryOnly\",,,\"False\",\"T\",\"EveryTick\")","v":""},{"$error":"#N/A"},{"$f":"RTD(\"cqg.rtd\",,\"StudyData\", \"Close(\"&$D$12&\") when LocalYear(\"&$D$12&\")=\"&$D$9&\" and localMonth(\"&$D$12&\") =\"&$E$9&\" and LocalDay(\"&$D$12&\")=\"&$F$9&\" and Barix(\"&$D$12&\",reference:=StartOfSession)=\"&A52&\"\", \"Bar\", \"\", \"Close\",\"5\",\"0\",\"PrimaryOnly\",,,\"False\",\"T\",\"EveryTick\")","v":392.12},1.7627672891704716E-3,{"$f":"RTD(\"cqg.rtd\",,\"StudyData\", \"Close(\"&$D$12&\") when LocalYear(\"&$D$12&\")=\"&$D$10&\" and localMonth(\"&$D$12&\") =\"&$E$10&\" and LocalDay(\"&$D$12&\")=\"&$F$10&\" and Barix(\"&$D$12&\",reference:=StartOfSession)=\"&A52&\"\", \"Bar\", \"\", \"Close\",\"5\",\"0\",\"PrimaryOnly\",,,\"False\",\"T\",\"EveryTick\")","v":393.6},-4.6027009255980812E-3,null,null,null,""]
[52,"12:50:00",-25,{"$f":" RTD(\"cqg.rtd\",,\"StudyData\", $D$12,  \"Tick\", \"FlatTicks=0\", \"Tick\",\"D\",C53,\"PrimaryOnly\")","v":400.72},null,null,null,{"$f":"RTD(\"cqg.rtd\",,\"StudyData\", \"Close(\"&$D$12&\") when LocalYear(\"&$D$12&\")=\"&$D$1&\" and localMonth(\"&$D$12&\") =\"&$E$1&\" and LocalDay(\"&$D$12&\")=\"&$F$1&\" and Barix(\"&$D$12&\",reference:=StartOfSession)=\"&A53&\"\", \"Bar\", \"\", \"Close\",\"5\",\"0\",\"PrimaryOnly\",,,\"False\",\"T\",\"EveryTick\")","v":""},{"$error":"#N/A"},{"$f":"RTD(\"cqg.rtd\",,\"StudyData\", \"Close(\"&$D$12&\") when LocalYear(\"&$D$12&\")=\"&$D$2&\" and localMonth(\"&$D$12&\") =\"&$E$2&\" and LocalDay(\"&$D$12&\")=\"&$F$2&\" and Barix(\"&$D$12&\",reference:=StartOfSession)=\"&A53&\"\", \"Bar\", \"\", \"Close\",\"5\",\"0\",\"PrimaryOnly\",,,\"False\",\"T\",\"EveryTick\")","v":411.67},-1.667263824196814E-2,{"$f":"RTD(\"cqg.rtd\",,\"StudyData\", \"Close(\"&$D$12&\") when LocalYear(\"&$D$12&\")=\"&$D$3&\" and localMonth(\"&$D$12&\") =\"&$E$3&\" and LocalDay(\"&$D$12&\")=\"&$F$3&\" and Barix(\"&$D$12&\",reference:=StartOfSession)=\"&A53&\"\", \"Bar\", \"\", \"Close\",\"5\",\"0\",\"PrimaryOnly\",,,\"False\",\"T\",\"EveryTick\")","v":417.7},4.9803912133387709E-3,{"$f":"RTD(\"cqg.rtd\",,\"StudyData\", \"Close(\"&$D$12&\") when LocalYear(\"&$D$12&\")=\"&$D$4&\" and localMonth(\"&$D$12&\") =\"&$E$4&\" and LocalDay(\"&$D$12&\")=\"&$F$4&\" and Barix(\"&$D$12&\",reference:=StartOfSession)=\"&A53&\"\", \"Bar\", \"\", \"Close\",\"5\",\"0\",\"PrimaryOnly\",,,\"False\",\"T\",\"EveryTick\")","v":415.73},-7.7332505907344411E-3,{"$f":"RTD(\"cqg.rtd\",,\"StudyData\", \"Close(\"&$D$12&\") when LocalYear(\"&$D$12&\")=\"&$D$5&\" and localMonth(\"&$D$12&\") =\"&$E$5&\" and LocalDay(\"&$D$12&\")=\"&$F$5&\" and Barix(\"&$D$12&\",reference:=StartOfSession)=\"&A53&\"\", \"Bar\", \"\", \"Close\",\"5\",\"0\",\"PrimaryOnly\",,,\"False\",\"T\",\"EveryTick\")","v":414.52},1.5358236374770316E-2,{"$f":"RTD(\"cqg.rtd\",,\"StudyData\", \"Close(\"&$D$12&\") when LocalYear(\"&$D$12&\")=\"&$D$6&\" and localMonth(\"&$D$12&\") =\"&$E$6&\" and LocalDay(\"&$D$12&\")=\"&$F$6&\" and Barix(\"&$D$12&\",reference:=StartOfSession)=\"&A53&\"\", \"Bar\", \"\", \"Close\",\"5\",\"0\",\"PrimaryOnly\",,,\"False\",\"T\",\"EveryTick\")","v":405.89},1.8825773739300687E-2,{"$f":"RTD(\"cqg.rtd\",,\"StudyData\", \"Close(\"&$D$12&\") when LocalYear(\"&$D$12&\")=\"&$D$7&\" and localMonth(\"&$D$12&\") =\"&$E$7&\" and LocalDay(\"&$D$12&\")=\"&$F$7&\" and Barix(\"&$D$12&\",reference:=StartOfSession)=\"&A53&\"\", \"Bar\", \"\", \"Close\",\"5\",\"0\",\"PrimaryOnly\",,,\"False\",\"T\",\"EveryTick\")","v":396.25},1.4672744033596278E-2,{"$f":"RTD(\"cqg.rtd\",,\"StudyData\", \"Close(\"&$D$12&\") when LocalYear(\"&$D$12&\")=\"&$D$8&\" and localMonth(\"&$D$12&\") =\"&$E$8&\" and LocalDay(\"&$D$12&\")=\"&$F$8&\" and Barix(\"&$D$12&\",reference:=StartOfSession)=\"&A53&\"\", \"Bar\", \"\", \"Close\",\"5\",\"0\",\"PrimaryOnly\",,,\"False\",\"T\",\"EveryTick\")","v":""},{"$error":"#N/A"},{"$f":"RTD(\"cqg.rtd\",,\"StudyData\", \"Close(\"&$D$12&\") when LocalYear(\"&$D$12&\")=\"&$D$9&\" and localMonth(\"&$D$12&\") =\"&$E$9&\" and LocalDay(\"&$D$12&\")=\"&$F$9&\" and Barix(\"&$D$12&\",reference:=StartOfSession)=\"&A53&\"\", \"Bar\", \"\", \"Close\",\"5\",\"0\",\"PrimaryOnly\",,,\"False\",\"T\",\"EveryTick\")","v":392.77},3.4233451702730374E-3,{"$f":"RTD(\"cqg.rtd\",,\"StudyData\", \"Close(\"&$D$12&\") when LocalYear(\"&$D$12&\")=\"&$D$10&\" and localMonth(\"&$D$12&\") =\"&$E$10&\" and LocalDay(\"&$D$12&\")=\"&$F$10&\" and Barix(\"&$D$12&\",reference:=StartOfSession)=\"&A53&\"\", \"Bar\", \"\", \"Close\",\"5\",\"0\",\"PrimaryOnly\",,,\"False\",\"T\",\"EveryTick\")","v":393.77},-4.172778311668692E-3,null,null,null,""]
[53,"12:55:00",-24,{"$f":" RTD(\"cqg.rtd\",,\"StudyData\", $D$12,  \"Tick\", \"FlatTicks=0\", \"Tick\",\"D\",C54,\"PrimaryOnly\")","v":400.73},null,null,null,{"$f":"RTD(\"cqg.rtd\",,\"StudyData\", \"Close(\"&$D$12&\") when LocalYear(\"&$D$12&\")=\"&$D$1&\" and localMonth(\"&$D$12&\") =\"&$E$1&\" and LocalDay(\"&$D$12&\")=\"&$F$1&\" and Barix(\"&$D$12&\",reference:=StartOfSession)=\"&A54&\"\", \"Bar\", \"\", \"Close\",\"5\",\"0\",\"PrimaryOnly\",,,\"False\",\"T\",\"EveryTick\")","v":""},{"$error":"#N/A"},{"$f":"RTD(\"cqg.rtd\",,\"StudyData\", \"Close(\"&$D$12&\") when LocalYear(\"&$D$12&\")=\"&$D$2&\" and localMonth(\"&$D$12&\") =\"&$E$2&\" and LocalDay(\"&$D$12&\")=\"&$F$2&\" and Barix(\"&$D$12&\",reference:=StartOfSession)=\"&A54&\"\", \"Bar\", \"\", \"Close\",\"5\",\"0\",\"PrimaryOnly\",,,\"False\",\"T\",\"EveryTick\")","v":411.74},-1.6505434133524347E-2,{"$f":"RTD(\"cqg.rtd\",,\"StudyData\", \"Close(\"&$D$12&\") when LocalYear(\"&$D$12&\")=\"&$D$3&\" and localMonth(\"&$D$12&\") =\"&$E$3&\" and LocalDay(\"&$D$12&\")=\"&$F$3&\" and Barix(\"&$D$12&\",reference:=StartOfSession)=\"&A54&\"\", \"Bar\", \"\", \"Close\",\"5\",\"0\",\"PrimaryOnly\",,,\"False\",\"T\",\"EveryTick\")","v":417.57},4.667613021196732E-3,{"$f":"RTD(\"cqg.rtd\",,\"StudyData\", \"Close(\"&$D$12&\") when LocalYear(\"&$D$12&\")=\"&$D$4&\" and localMonth(\"&$D$12&\") =\"&$E$4&\" and LocalDay(\"&$D$12&\")=\"&$F$4&\" and Barix(\"&$D$12&\",reference:=StartOfSession)=\"&A54&\"\", \"Bar\", \"\", \"Close\",\"5\",\"0\",\"PrimaryOnly\",,,\"False\",\"T\",\"EveryTick\")","v":416.31},-6.3489032627635032E-3,{"$f":"RTD(\"cqg.rtd\",,\"StudyData\", \"Close(\"&$D$12&\") when LocalYear(\"&$D$12&\")=\"&$D$5&\" and localMonth(\"&$D$12&\") =\"&$E$5&\" and LocalDay(\"&$D$12&\")=\"&$F$5&\" and Barix(\"&$D$12&\",reference:=StartOfSession)=\"&A54&\"\", \"Bar\", \"\", \"Close\",\"5\",\"0\",\"PrimaryOnly\",,,\"False\",\"T\",\"EveryTick\")","v":414.96},1.6436007348438406E-2,{"$f":"RTD(\"cqg.rtd\",,\"StudyData\", \"Close(\"&$D$12&\") when LocalYear(\"&$D$12&\")=\"&$D$6&\" and localMonth(\"&$D$12&\") =\"&$E$6&\" and LocalDay(\"&$D$12&\")=\"&$F$6&\" and Barix(\"&$D$12&\",reference:=StartOfSession)=\"&A54&\"\", \"Bar\", \"\", \"Close\",\"5\",\"0\",\"PrimaryOnly\",,,\"False\",\"T\",\"EveryTick\")","v":405.83},1.8675167549386276E-2,{"$f":"RTD(\"cqg.rtd\",,\"StudyData\", \"Close(\"&$D$12&\") when LocalYear(\"&$D$12&\")=\"&$D$7&\" and localMonth(\"&$D$12&\") =\"&$E$7&\" and LocalDay(\"&$D$12&\")=\"&$F$7&\" and Barix(\"&$D$12&\",reference:=StartOfSession)=\"&A54&\"\", \"Bar\", \"\", \"Close\",\"5\",\"0\",\"PrimaryOnly\",,,\"False\",\"T\",\"EveryTick\")","v":396.66},1.5722626241933942E-2,{"$f":"RTD(\"cqg.rtd\",,\"StudyData\", \"Close(\"&$D$12&\") when LocalYear(\"&$D$12&\")=\"&$D$8&\" and localMonth(\"&$D$12&\") =\"&$E$8&\" and LocalDay(\"&$D$12&\")=\"&$F$8&\" and Barix(\"&$D$12&\",reference:=StartOfSession)=\"&A54&\"\", \"Bar\", \"\", \"Close\",\"5\",\"0\",\"PrimaryOnly\",,,\"False\",\"T\",\"EveryTick\")","v":""},{"$error":"#N/A"},{"$f":"RTD(\"cqg.rtd\",,\"StudyData\", \"Close(\"&$D$12&\") when LocalYear(\"&$D$12&\")=\"&$D$9&\" and localMonth(\"&$D$12&\") =\"&$E$9&\" and LocalDay(\"&$D$12&\")=\"&$F$9&\" and Barix(\"&$D$12&\",reference:=StartOfSession)=\"&A54&\"\", \"Bar\", \"\", \"Close\",\"5\",\"0\",\"PrimaryOnly\",,,\"False\",\"T\",\"EveryTick\")","v":392.96},3.9087448585953368E-3,{"$f":"RTD(\"cqg.rtd\",,\"StudyData\", \"Close(\"&$D$12&\") when LocalYear(\"&$D$12&\")=\"&$D$10&\" and localMonth(\"&$D$12&\") =\"&$E$10&\" and LocalDay(\"&$D$12&\")=\"&$F$10&\" and Barix(\"&$D$12&\",reference:=StartOfSession)=\"&A54&\"\", \"Bar\", \"\", \"Close\",\"5\",\"0\",\"PrimaryOnly\",,,\"False\",\"T\",\"EveryTick\")","v":393.2},-5.6142835466087377E-3,null,null,null,""]
[54,"13:00:00",-23,{"$f":" RTD(\"cqg.rtd\",,\"StudyData\", $D$12,  \"Tick\", \"FlatTicks=0\", \"Tick\",\"D\",C55,\"PrimaryOnly\")","v":400.79},null,null,null,{"$f":"RTD(\"cqg.rtd\",,\"StudyData\", \"Close(\"&$D$12&\") when LocalYear(\"&$D$12&\")=\"&$D$1&\" and localMonth(\"&$D$12&\") =\"&$E$1&\" and LocalDay(\"&$D$12&\")=\"&$F$1&\" and Barix(\"&$D$12&\",reference:=StartOfSession)=\"&A55&\"\", \"Bar\", \"\", \"Close\",\"5\",\"0\",\"PrimaryOnly\",,,\"False\",\"T\",\"EveryTick\")","v":""},{"$error":"#N/A"},{"$f":"RTD(\"cqg.rtd\",,\"StudyData\", \"Close(\"&$D$12&\") when LocalYear(\"&$D$12&\")=\"&$D$2&\" and localMonth(\"&$D$12&\") =\"&$E$2&\" and LocalDay(\"&$D$12&\")=\"&$F$2&\" and Barix(\"&$D$12&\",reference:=StartOfSession)=\"&A55&\"\", \"Bar\", \"\", \"Close\",\"5\",\"0\",\"PrimaryOnly\",,,\"False\",\"T\",\"EveryTick\")","v":411.66},-1.6696524543174378E-2,{"$f":"RTD(\"cqg.rtd\",,\"StudyData\", \"Close(\"&$D$12&\") when LocalYear(\"&$D$12&\")=\"&$D$3&\" and localMonth(\"&$D$12&\") =\"&$E$3&\" and LocalDay(\"&$D$12&\")=\"&$F$3&\" and Barix(\"&$D$12&\",reference:=StartOfSession)=\"&A55&\"\", \"Bar\", \"\", \"Close\",\"5\",\"0\",\"PrimaryOnly\",,,\"False\",\"T\",\"EveryTick\")","v":417.73},5.052570796140853E-3,{"$f":"RTD(\"cqg.rtd\",,\"StudyData\", \"Close(\"&$D$12&\") when LocalYear(\"&$D$12&\")=\"&$D$4&\" and localMonth(\"&$D$12&\") =\"&$E$4&\" and LocalDay(\"&$D$12&\")=\"&$F$4&\" and Barix(\"&$D$12&\",reference:=StartOfSession)=\"&A55&\"\", \"Bar\", \"\", \"Close\",\"5\",\"0\",\"PrimaryOnly\",,,\"False\",\"T\",\"EveryTick\")","v":415.43},-8.4492923120987658E-3,{"$f":"RTD(\"cqg.rtd\",,\"StudyData\", \"Close(\"&$D$12&\") when LocalYear(\"&$D$12&\")=\"&$D$5&\" and localMonth(\"&$D$12&\") =\"&$E$5&\" and LocalDay(\"&$D$12&\")=\"&$F$5&\" and Barix(\"&$D$12&\",reference:=StartOfSession)=\"&A55&\"\", \"Bar\", \"\", \"Close\",\"5\",\"0\",\"PrimaryOnly\",,,\"False\",\"T\",\"EveryTick\")","v":414.8},1.6044090630740995E-2,{"$f":"RTD(\"cqg.rtd\",,\"StudyData\", \"Close(\"&$D$12&\") when LocalYear(\"&$D$12&\")=\"&$D$6&\" and localMonth(\"&$D$12&\") =\"&$E$6&\" and LocalDay(\"&$D$12&\")=\"&$F$6&\" and Barix(\"&$D$12&\",reference:=StartOfSession)=\"&A55&\"\", \"Bar\", \"\", \"Close\",\"5\",\"0\",\"PrimaryOnly\",,,\"False\",\"T\",\"EveryTick\")","v":405.55},1.7972338663119116E-2,{"$f":"RTD(\"cqg.rtd\",,\"StudyData\", \"Close(\"&$D$12&\") when LocalYear(\"&$D$12&\")=\"&$D$7&\" and localMonth(\"&$D$12&\") =\"&$E$7&\" and LocalDay(\"&$D$12&\")=\"&$F$7&\" and Barix(\"&$D$12&\",reference:=StartOfSession)=\"&A55&\"\", \"Bar\", \"\", \"Close\",\"5\",\"0\",\"PrimaryOnly\",,,\"False\",\"T\",\"EveryTick\")","v":395.88},1.3725289357779407E-2,{"$f":"RTD(\"cqg.rtd\",,\"StudyData\", \"Close(\"&$D$12&\") when LocalYear(\"&$D$12&\")=\"&$D$8&\" and localMonth(\"&$D$12&\") =\"&$E$8&\" and LocalDay(\"&$D$12&\")=\"&$F$8&\" and Barix(\"&$D$12&\",reference:=StartOfSession)=\"&A55&\"\", \"Bar\", \"\", \"Close\",\"5\",\"0\",\"PrimaryOnly\",,,\"False\",\"T\",\"EveryTick\")","v":""},{"$error":"#N/A"},{"$f":"RTD(\"cqg.rtd\",,\"StudyData\", \"Close(\"&$D$12&\") when LocalYear(\"&$D$12&\")=\"&$D$9&\" and localMonth(\"&$D$12&\") =\"&$E$9&\" and LocalDay(\"&$D$12&\")=\"&$F$9&\" and Barix(\"&$D$12&\",reference:=StartOfSession)=\"&A55&\"\", \"Bar\", \"\", \"Close\",\"5\",\"0\",\"PrimaryOnly\",,,\"False\",\"T\",\"EveryTick\")","v":393.49},5.2627545154944749E-3,{"$f":"RTD(\"cqg.rtd\",,\"StudyData\", \"Close(\"&$D$12&\") when LocalYear(\"&$D$12&\")=\"&$D$10&\" and localMonth(\"&$D$12&\") =\"&$E$10&\" and LocalDay(\"&$D$12&\")=\"&$F$10&\" and Barix(\"&$D$12&\",reference:=StartOfSession)=\"&A55&\"\", \"Bar\", \"\", \"Close\",\"5\",\"0\",\"PrimaryOnly\",,,\"False\",\"T\",\"EveryTick\")","v":393.51},-4.8303070153255401E-3,null,null,null,""]
[55,"13:05:00",-22,{"$f":" RTD(\"cqg.rtd\",,\"StudyData\", $D$12,  \"Tick\", \"FlatTicks=0\", \"Tick\",\"D\",C56,\"PrimaryOnly\")","v":400.73},null,null,null,{"$f":"RTD(\"cqg.rtd\",,\"StudyData\", \"Close(\"&$D$12&\") when LocalYear(\"&$D$12&\")=\"&$D$1&\" and localMonth(\"&$D$12&\") =\"&$E$1&\" and LocalDay(\"&$D$12&\")=\"&$F$1&\" and Barix(\"&$D$12&\",reference:=StartOfSession)=\"&A56&\"\", \"Bar\", \"\", \"Close\",\"5\",\"0\",\"PrimaryOnly\",,,\"False\",\"T\",\"EveryTick\")","v":""},{"$error":"#N/A"},{"$f":"RTD(\"cqg.rtd\",,\"StudyData\", \"Close(\"&$D$12&\") when LocalYear(\"&$D$12&\")=\"&$D$2&\" and localMonth(\"&$D$12&\") =\"&$E$2&\" and LocalDay(\"&$D$12&\")=\"&$F$2&\" and Barix(\"&$D$12&\",reference:=StartOfSession)=\"&A56&\"\", \"Bar\", \"\", \"Close\",\"5\",\"0\",\"PrimaryOnly\",,,\"False\",\"T\",\"EveryTick\")","v":411.35},-1.7436999880568387E-2,{"$f":"RTD(\"cqg.rtd\",,\"StudyData\", \"Close(\"&$D$12&\") when LocalYear(\"&$D$12&\")=\"&$D$3&\" and localMonth(\"&$D$12&\") =\"&$E$3&\" and LocalDay(\"&$D$12&\")=\"&$F$3&\" and Barix(\"&$D$12&\",reference:=StartOfSession)=\"&A56&\"\", \"Bar\", \"\", \"Close\",\"5\",\"0\",\"PrimaryOnly\",,,\"False\",\"T\",\"EveryTick\")","v":417.41},4.282655246252748E-3,{"$f":"RTD(\"cqg.rtd\",,\"StudyData\", \"Close(\"&$D$12&\") when LocalYear(\"&$D$12&\")=\"&$D$4&\" and localMonth(\"&$D$12&\") =\"&$E$4&\" and LocalDay(\"&$D$12&\")=\"&$F$4&\" and Barix(\"&$D$12&\",reference:=StartOfSession)=\"&A56&\"\", \"Bar\", \"\", \"Close\",\"5\",\"0\",\"PrimaryOnly\",,,\"False\",\"T\",\"EveryTick\")","v":415.66},-7.9003269923860944E-3,{"$f":"RTD(\"cqg.rtd\",,\"StudyData\", \"Close(\"&$D$12&\") when LocalYear(\"&$D$12&\")=\"&$D$5&\" and localMonth(\"&$D$12&\") =\"&$E$5&\" and LocalDay(\"&$D$12&\")=\"&$F$5&\" and Barix(\"&$D$12&\",reference:=StartOfSession)=\"&A56&\"\", \"Bar\", \"\", \"Close\",\"5\",\"0\",\"PrimaryOnly\",,,\"False\",\"T\",\"EveryTick\")","v":414.71},1.5823637477036079E-2,{"$f":"RTD(\"cqg.rtd\",,\"StudyData\", \"Close(\"&$D$12&\") when LocalYear(\"&$D$12&\")=\"&$D$6&\" and localMonth(\"&$D$12&\") =\"&$E$6&\" and LocalDay(\"&$D$12&\")=\"&$F$6&\" and Barix(\"&$D$12&\",reference:=StartOfSession)=\"&A56&\"\", \"Bar\", \"\", \"Close\",\"5\",\"0\",\"PrimaryOnly\",,,\"False\",\"T\",\"EveryTick\")","v":405.89},1.8825773739300687E-2,{"$f":"RTD(\"cqg.rtd\",,\"StudyData\", \"Close(\"&$D$12&\") when LocalYear(\"&$D$12&\")=\"&$D$7&\" and localMonth(\"&$D$12&\") =\"&$E$7&\" and LocalDay(\"&$D$12&\")=\"&$F$7&\" and Barix(\"&$D$12&\",reference:=StartOfSession)=\"&A56&\"\", \"Bar\", \"\", \"Close\",\"5\",\"0\",\"PrimaryOnly\",,,\"False\",\"T\",\"EveryTick\")","v":395.17},1.1907200655536297E-2,{"$f":"RTD(\"cqg.rtd\",,\"StudyData\", \"Close(\"&$D$12&\") when LocalYear(\"&$D$12&\")=\"&$D$8&\" and localMonth(\"&$D$12&\") =\"&$E$8&\" and LocalDay(\"&$D$12&\")=\"&$F$8&\" and Barix(\"&$D$12&\",reference:=StartOfSession)=\"&A56&\"\", \"Bar\", \"\", \"Close\",\"5\",\"0\",\"PrimaryOnly\",,,\"False\",\"T\",\"EveryTick\")","v":""},{"$error":"#N/A"},{"$f":"RTD(\"cqg.rtd\",,\"StudyData\", \"Close(\"&$D$12&\") when LocalYear(\"&$D$12&\")=\"&$D$9&\" and localMonth(\"&$D$12&\") =\"&$E$9&\" and LocalDay(\"&$D$12&\")=\"&$F$9&\" and Barix(\"&$D$12&\",reference:=StartOfSession)=\"&A56&\"\", \"Bar\", \"\", \"Close\",\"5\",\"0\",\"PrimaryOnly\",,,\"False\",\"T\",\"EveryTick\")","v":393.67},5.7226068517998337E-3,{"$f":"RTD(\"cqg.rtd\",,\"StudyData\", \"Close(\"&$D$12&\") when LocalYear(\"&$D$12&\")=\"&$D$10&\" and localMonth(\"&$D$12&\") =\"&$E$10&\" and LocalDay(\"&$D$12&\")=\"&$F$10&\" and Barix(\"&$D$12&\",reference:=StartOfSession)=\"&A56&\"\", \"Bar\", \"\", \"Close\",\"5\",\"0\",\"PrimaryOnly\",,,\"False\",\"T\",\"EveryTick\")","v":393.17},-5.6901522431844617E-3,null,null,null,""]
[56,"13:10:00",-21,{"$f":" RTD(\"cqg.rtd\",,\"StudyData\", $D$12,  \"Tick\", \"FlatTicks=0\", \"Tick\",\"D\",C57,\"PrimaryOnly\")","v":400.76},null,null,null,{"$f":"RTD(\"cqg.rtd\",,\"StudyData\", \"Close(\"&$D$12&\") when LocalYear(\"&$D$12&\")=\"&$D$1&\" and localMonth(\"&$D$12&\") =\"&$E$1&\" and LocalDay(\"&$D$12&\")=\"&$F$1&\" and Barix(\"&$D$12&\",reference:=StartOfSession)=\"&A57&\"\", \"Bar\", \"\", \"Close\",\"5\",\"0\",\"PrimaryOnly\",,,\"False\",\"T\",\"EveryTick\")","v":""},{"$error":"#N/A"},{"$f":"RTD(\"cqg.rtd\",,\"StudyData\", \"Close(\"&$D$12&\") when LocalYear(\"&$D$12&\")=\"&$D$2&\" and localMonth(\"&$D$12&\") =\"&$E$2&\" and LocalDay(\"&$D$12&\")=\"&$F$2&\" and Barix(\"&$D$12&\",reference:=StartOfSession)=\"&A57&\"\", \"Bar\", \"\", \"Close\",\"5\",\"0\",\"PrimaryOnly\",,,\"False\",\"T\",\"EveryTick\")","v":411.61},-1.6815956049205695E-2,{"$f":"RTD(\"cqg.rtd\",,\"StudyData\", \"Close(\"&$D$12&\") when LocalYear(\"&$D$12&\")=\"&$D$3&\" and localMonth(\"&$D$12&\") =\"&$E$3&\" and LocalDay(\"&$D$12&\")=\"&$F$3&\" and Barix(\"&$D$12&\",reference:=StartOfSession)=\"&A57&\"\", \"Bar\", \"\", \"Close\",\"5\",\"0\",\"PrimaryOnly\",,,\"False\",\"T\",\"EveryTick\")","v":416.87},2.9834227558164935E-3,{"$f":"RTD(\"cqg.rtd\",,\"StudyData\", \"Close(\"&$D$12&\") when LocalYear(\"&$D$12&\")=\"&$D$4&\" and localMonth(\"&$D$12&\") =\"&$E$4&\" and LocalDay(\"&$D$12&\")=\"&$F$4&\" and Barix(\"&$D$12&\",reference:=StartOfSession)=\"&A57&\"\", \"Bar\", \"\", \"Close\",\"5\",\"0\",\"PrimaryOnly\",,,\"False\",\"T\",\"EveryTick\")","v":415.95},-7.2081533284006931E-3,{"$f":"RTD(\"cqg.rtd\",,\"StudyData\", \"Close(\"&$D$12&\") when LocalYear(\"&$D$12&\")=\"&$D$5&\" and localMonth(\"&$D$12&\") =\"&$E$5&\" and LocalDay(\"&$D$12&\")=\"&$F$5&\" and Barix(\"&$D$12&\",reference:=StartOfSession)=\"&A57&\"\", \"Bar\", \"\", \"Close\",\"5\",\"0\",\"PrimaryOnly\",,,\"False\",\"T\",\"EveryTick\")","v":414.94},1.6387017758726266E-2,{"$f":"RTD(\"cqg.rtd\",,\"StudyData\", \"Close(\"&$D$12&\") when LocalYear(\"&$D$12&\")=\"&$D$6&\" and localMonth(\"&$D$12&\") =\"&$E$6&\" and LocalDay(\"&$D$12&\")=\"&$F$6&\" and Barix(\"&$D$12&\",reference:=StartOfSession)=\"&A57&\"\", \"Bar\", \"\", \"Close\",\"5\",\"0\",\"PrimaryOnly\",,,\"False\",\"T\",\"EveryTick\")","v":406.15},1.9478400562263087E-2,{"$f":"RTD(\"cqg.rtd\",,\"StudyData\", \"Close(\"&$D$12&\") when LocalYear(\"&$D$12&\")=\"&$D$7&\" and localMonth(\"&$D$12&\") =\"&$E$7&\" and LocalDay(\"&$D$12&\")=\"&$F$7&\" and Barix(\"&$D$12&\",reference:=StartOfSession)=\"&A57&\"\", \"Bar\", \"\", \"Close\",\"5\",\"0\",\"PrimaryOnly\",,,\"False\",\"T\",\"EveryTick\")","v":395.17},1.1907200655536297E-2,{"$f":"RTD(\"cqg.rtd\",,\"StudyData\", \"Close(\"&$D$12&\") when LocalYear(\"&$D$12&\")=\"&$D$8&\" and localMonth(\"&$D$12&\") =\"&$E$8&\" and LocalDay(\"&$D$12&\")=\"&$F$8&\" and Barix(\"&$D$12&\",reference:=StartOfSession)=\"&A57&\"\", \"Bar\", \"\", \"Close\",\"5\",\"0\",\"PrimaryOnly\",,,\"False\",\"T\",\"EveryTick\")","v":""},{"$error":"#N/A"},{"$f":"RTD(\"cqg.rtd\",,\"StudyData\", \"Close(\"&$D$12&\") when LocalYear(\"&$D$12&\")=\"&$D$9&\" and localMonth(\"&$D$12&\") =\"&$E$9&\" and LocalDay(\"&$D$12&\")=\"&$F$9&\" and Barix(\"&$D$12&\",reference:=StartOfSession)=\"&A57&\"\", \"Bar\", \"\", \"Close\",\"5\",\"0\",\"PrimaryOnly\",,,\"False\",\"T\",\"EveryTick\")","v":394.27},7.255447972817553E-3,{"$f":"RTD(\"cqg.rtd\",,\"StudyData\", \"Close(\"&$D$12&\") when LocalYear(\"&$D$12&\")=\"&$D$10&\" and localMonth(\"&$D$12&\") =\"&$E$10&\" and LocalDay(\"&$D$12&\")=\"&$F$10&\" and Barix(\"&$D$12&\",reference:=StartOfSession)=\"&A57&\"\", \"Bar\", \"\", \"Close\",\"5\",\"0\",\"PrimaryOnly\",,,\"False\",\"T\",\"EveryTick\")","v":393.28},-5.4119670224066644E-3,null,null,null,""]
[57,"13:15:00",-20,{"$f":" RTD(\"cqg.rtd\",,\"StudyData\", $D$12,  \"Tick\", \"FlatTicks=0\", \"Tick\",\"D\",C58,\"PrimaryOnly\")","v":400.73},null,null,null,{"$f":"RTD(\"cqg.rtd\",,\"StudyData\", \"Close(\"&$D$12&\") when LocalYear(\"&$D$12&\")=\"&$D$1&\" and localMonth(\"&$D$12&\") =\"&$E$1&\" and LocalDay(\"&$D$12&\")=\"&$F$1&\" and Barix(\"&$D$12&\",reference:=StartOfSession)=\"&A58&\"\", \"Bar\", \"\", \"Close\",\"5\",\"0\",\"PrimaryOnly\",,,\"False\",\"T\",\"EveryTick\")","v":""},{"$error":"#N/A"},{"$f":"RTD(\"cqg.rtd\",,\"StudyData\", \"Close(\"&$D$12&\") when LocalYear(\"&$D$12&\")=\"&$D$2&\" and localMonth(\"&$D$12&\") =\"&$E$2&\" and LocalDay(\"&$D$12&\")=\"&$F$2&\" and Barix(\"&$D$12&\",reference:=StartOfSession)=\"&A58&\"\", \"Bar\", \"\", \"Close\",\"5\",\"0\",\"PrimaryOnly\",,,\"False\",\"T\",\"EveryTick\")","v":411.67},-1.667263824196814E-2,{"$f":"RTD(\"cqg.rtd\",,\"StudyData\", \"Close(\"&$D$12&\") when LocalYear(\"&$D$12&\")=\"&$D$3&\" and localMonth(\"&$D$12&\") =\"&$E$3&\" and LocalDay(\"&$D$12&\")=\"&$F$3&\" and Barix(\"&$D$12&\",reference:=StartOfSession)=\"&A58&\"\", \"Bar\", \"\", \"Close\",\"5\",\"0\",\"PrimaryOnly\",,,\"False\",\"T\",\"EveryTick\")","v":416.91},3.0796621995525576E-3,{"$f":"RTD(\"cqg.rtd\",,\"StudyData\", \"Close(\"&$D$12&\") when LocalYear(\"&$D$12&\")=\"&$D$4&\" and localMonth(\"&$D$12&\") =\"&$E$4&\" and LocalDay(\"&$D$12&\")=\"&$F$4&\" and Barix(\"&$D$12&\",reference:=StartOfSession)=\"&A58&\"\", \"Bar\", \"\", \"Close\",\"5\",\"0\",\"PrimaryOnly\",,,\"False\",\"T\",\"EveryTick\")","v":415.48},-8.3299520252046906E-3,{"$f":"RTD(\"cqg.rtd\",,\"StudyData\", \"Close(\"&$D$12&\") when LocalYear(\"&$D$12&\")=\"&$D$5&\" and localMonth(\"&$D$12&\") =\"&$E$5&\" and LocalDay(\"&$D$12&\")=\"&$F$5&\" and Barix(\"&$D$12&\",reference:=StartOfSession)=\"&A58&\"\", \"Bar\", \"\", \"Close\",\"5\",\"0\",\"PrimaryOnly\",,,\"False\",\"T\",\"EveryTick\")","v":415.32},1.7317819963257791E-2,{"$f":"RTD(\"cqg.rtd\",,\"StudyData\", \"Close(\"&$D$12&\") when LocalYear(\"&$D$12&\")=\"&$D$6&\" and localMonth(\"&$D$12&\") =\"&$E$6&\" and LocalDay(\"&$D$12&\")=\"&$F$6&\" and Barix(\"&$D$12&\",reference:=StartOfSession)=\"&A58&\"\", \"Bar\", \"\", \"Close\",\"5\",\"0\",\"PrimaryOnly\",,,\"False\",\"T\",\"EveryTick\")","v":406.54},2.045734079670683E-2,{"$f":"RTD(\"cqg.rtd\",,\"StudyData\", \"Close(\"&$D$12&\") when LocalYear(\"&$D$12&\")=\"&$D$7&\" and localMonth(\"&$D$12&\") =\"&$E$7&\" and LocalDay(\"&$D$12&\")=\"&$F$7&\" and Barix(\"&$D$12&\",reference:=StartOfSession)=\"&A58&\"\", \"Bar\", \"\", \"Close\",\"5\",\"0\",\"PrimaryOnly\",,,\"False\",\"T\",\"EveryTick\")","v":396.35},1.4928812864898191E-2,{"$f":"RTD(\"cqg.rtd\",,\"StudyData\", \"Close(\"&$D$12&\") when LocalYear(\"&$D$12&\")=\"&$D$8&\" and localMonth(\"&$D$12&\") =\"&$E$8&\" and LocalDay(\"&$D$12&\")=\"&$F$8&\" and Barix(\"&$D$12&\",reference:=StartOfSession)=\"&A58&\"\", \"Bar\", \"\", \"Close\",\"5\",\"0\",\"PrimaryOnly\",,,\"False\",\"T\",\"EveryTick\")","v":""},{"$error":"#N/A"},{"$f":"RTD(\"cqg.rtd\",,\"StudyData\", \"Close(\"&$D$12&\") when LocalYear(\"&$D$12&\")=\"&$D$9&\" and localMonth(\"&$D$12&\") =\"&$E$9&\" and LocalDay(\"&$D$12&\")=\"&$F$9&\" and Barix(\"&$D$12&\",reference:=StartOfSession)=\"&A58&\"\", \"Bar\", \"\", \"Close\",\"5\",\"0\",\"PrimaryOnly\",,,\"False\",\"T\",\"EveryTick\")","v":394.72},8.4050788135810253E-3,{"$f":"RTD(\"cqg.rtd\",,\"StudyData\", \"Close(\"&$D$12&\") when LocalYear(\"&$D$12&\")=\"&$D$10&\" and localMonth(\"&$D$12&\") =\"&$E$10&\" and LocalDay(\"&$D$12&\")=\"&$F$10&\" and Barix(\"&$D$12&\",reference:=StartOfSession)=\"&A58&\"\", \"Bar\", \"\", \"Close\",\"5\",\"0\",\"PrimaryOnly\",,,\"False\",\"T\",\"EveryTick\")","v":394.04},-3.4899600424864586E-3,null,null,null,""]
[58,"13:20:00",-19,{"$f":" RTD(\"cqg.rtd\",,\"StudyData\", $D$12,  \"Tick\", \"FlatTicks=0\", \"Tick\",\"D\",C59,\"PrimaryOnly\")","v":400.69},null,null,null,{"$f":"RTD(\"cqg.rtd\",,\"StudyData\", \"Close(\"&$D$12&\") when LocalYear(\"&$D$12&\")=\"&$D$1&\" and localMonth(\"&$D$12&\") =\"&$E$1&\" and LocalDay(\"&$D$12&\")=\"&$F$1&\" and Barix(\"&$D$12&\",reference:=StartOfSession)=\"&A59&\"\", \"Bar\", \"\", \"Close\",\"5\",\"0\",\"PrimaryOnly\",,,\"False\",\"T\",\"EveryTick\")","v":""},{"$error":"#N/A"},{"$f":"RTD(\"cqg.rtd\",,\"StudyData\", \"Close(\"&$D$12&\") when LocalYear(\"&$D$12&\")=\"&$D$2&\" and localMonth(\"&$D$12&\") =\"&$E$2&\" and LocalDay(\"&$D$12&\")=\"&$F$2&\" and Barix(\"&$D$12&\",reference:=StartOfSession)=\"&A59&\"\", \"Bar\", \"\", \"Close\",\"5\",\"0\",\"PrimaryOnly\",,,\"False\",\"T\",\"EveryTick\")","v":412.39},-1.4952824555117619E-2,{"$f":"RTD(\"cqg.rtd\",,\"StudyData\", \"Close(\"&$D$12&\") when LocalYear(\"&$D$12&\")=\"&$D$3&\" and localMonth(\"&$D$12&\") =\"&$E$3&\" and LocalDay(\"&$D$12&\")=\"&$F$3&\" and Barix(\"&$D$12&\",reference:=StartOfSession)=\"&A59&\"\", \"Bar\", \"\", \"Close\",\"5\",\"0\",\"PrimaryOnly\",,,\"False\",\"T\",\"EveryTick\")","v":417.5},4.499193994658722E-3,{"$f":"RTD(\"cqg.rtd\",,\"StudyData\", \"Close(\"&$D$12&\") when LocalYear(\"&$D$12&\")=\"&$D$4&\" and localMonth(\"&$D$12&\") =\"&$E$4&\" and LocalDay(\"&$D$12&\")=\"&$F$4&\" and Barix(\"&$D$12&\",reference:=StartOfSession)=\"&A59&\"\", \"Bar\", \"\", \"Close\",\"5\",\"0\",\"PrimaryOnly\",,,\"False\",\"T\",\"EveryTick\")","v":415.5},-8.2822159104471126E-3,{"$f":"RTD(\"cqg.rtd\",,\"StudyData\", \"Close(\"&$D$12&\") when LocalYear(\"&$D$12&\")=\"&$D$5&\" and localMonth(\"&$D$12&\") =\"&$E$5&\" and LocalDay(\"&$D$12&\")=\"&$F$5&\" and Barix(\"&$D$12&\",reference:=StartOfSession)=\"&A59&\"\", \"Bar\", \"\", \"Close\",\"5\",\"0\",\"PrimaryOnly\",,,\"False\",\"T\",\"EveryTick\")","v":415.2},1.7023882424984663E-2,{"$f":"RTD(\"cqg.rtd\",,\"StudyData\", \"Close(\"&$D$12&\") when LocalYear(\"&$D$12&\")=\"&$D$6&\" and localMonth(\"&$D$12&\") =\"&$E$6&\" and LocalDay(\"&$D$12&\")=\"&$F$6&\" and Barix(\"&$D$12&\",reference:=StartOfSession)=\"&A59&\"\", \"Bar\", \"\", \"Close\",\"5\",\"0\",\"PrimaryOnly\",,,\"False\",\"T\",\"EveryTick\")","v":406.55},2.0482441828359208E-2,{"$f":"RTD(\"cqg.rtd\",,\"StudyData\", \"Close(\"&$D$12&\") when LocalYear(\"&$D$12&\")=\"&$D$7&\" and localMonth(\"&$D$12&\") =\"&$E$7&\" and LocalDay(\"&$D$12&\")=\"&$F$7&\" and Barix(\"&$D$12&\",reference:=StartOfSession)=\"&A59&\"\", \"Bar\", \"\", \"Close\",\"5\",\"0\",\"PrimaryOnly\",,,\"False\",\"T\",\"EveryTick\")","v":395.43},1.2572979616921094E-2,{"$f":"RTD(\"cqg.rtd\",,\"StudyData\", \"Close(\"&$D$12&\") when LocalYear(\"&$D$12&\")=\"&$D$8&\" and localMonth(\"&$D$12&\") =\"&$E$8&\" and LocalDay(\"&$D$12&\")=\"&$F$8&\" and Barix(\"&$D$12&\",reference:=StartOfSession)=\"&A59&\"\", \"Bar\", \"\", \"Close\",\"5\",\"0\",\"PrimaryOnly\",,,\"False\",\"T\",\"EveryTick\")","v":""},{"$error":"#N/A"},{"$f":"RTD(\"cqg.rtd\",,\"StudyData\", \"Close(\"&$D$12&\") when LocalYear(\"&$D$12&\")=\"&$D$9&\" and localMonth(\"&$D$12&\") =\"&$E$9&\" and LocalDay(\"&$D$12&\")=\"&$F$9&\" and Barix(\"&$D$12&\",reference:=StartOfSession)=\"&A59&\"\", \"Bar\", \"\", \"Close\",\"5\",\"0\",\"PrimaryOnly\",,,\"False\",\"T\",\"EveryTick\")","v":394.97},9.043762614005111E-3,{"$f":"RTD(\"cqg.rtd\",,\"StudyData\", \"Close(\"&$D$12&\") when LocalYear(\"&$D$12&\")=\"&$D$10&\" and localMonth(\"&$D$12&\") =\"&$E$10&\" and LocalDay(\"&$D$12&\")=\"&$F$10&\" and Barix(\"&$D$12&\",reference:=StartOfSession)=\"&A59&\"\", \"Bar\", \"\", \"Close\",\"5\",\"0\",\"PrimaryOnly\",,,\"False\",\"T\",\"EveryTick\")","v":394.13},-3.2623539527591432E-3,null,null,null,""]
[59,"13:25:00",-18,{"$f":" RTD(\"cqg.rtd\",,\"StudyData\", $D$12,  \"Tick\", \"FlatTicks=0\", \"Tick\",\"D\",C60,\"PrimaryOnly\")","v":400.73},null,null,null,{"$f":"RTD(\"cqg.rtd\",,\"StudyData\", \"Close(\"&$D$12&\") when LocalYear(\"&$D$12&\")=\"&$D$1&\" and localMonth(\"&$D$12&\") =\"&$E$1&\" and LocalDay(\"&$D$12&\")=\"&$F$1&\" and Barix(\"&$D$12&\",reference:=StartOfSession)=\"&A60&\"\", \"Bar\", \"\", \"Close\",\"5\",\"0\",\"PrimaryOnly\",,,\"False\",\"T\",\"EveryTick\")","v":""},{"$error":"#N/A"},{"$f":"RTD(\"cqg.rtd\",,\"StudyData\", \"Close(\"&$D$12&\") when LocalYear(\"&$D$12&\")=\"&$D$2&\" and localMonth(\"&$D$12&\") =\"&$E$2&\" and LocalDay(\"&$D$12&\")=\"&$F$2&\" and Barix(\"&$D$12&\",reference:=StartOfSession)=\"&A60&\"\", \"Bar\", \"\", \"Close\",\"5\",\"0\",\"PrimaryOnly\",,,\"False\",\"T\",\"EveryTick\")","v":412.88},-1.3782395796010946E-2,{"$f":"RTD(\"cqg.rtd\",,\"StudyData\", \"Close(\"&$D$12&\") when LocalYear(\"&$D$12&\")=\"&$D$3&\" and localMonth(\"&$D$12&\") =\"&$E$3&\" and LocalDay(\"&$D$12&\")=\"&$F$3&\" and Barix(\"&$D$12&\",reference:=StartOfSession)=\"&A60&\"\", \"Bar\", \"\", \"Close\",\"5\",\"0\",\"PrimaryOnly\",,,\"False\",\"T\",\"EveryTick\")","v":417.62},4.7879123258667781E-3,{"$f":"RTD(\"cqg.rtd\",,\"StudyData\", \"Close(\"&$D$12&\") when LocalYear(\"&$D$12&\")=\"&$D$4&\" and localMonth(\"&$D$12&\") =\"&$E$4&\" and LocalDay(\"&$D$12&\")=\"&$F$4&\" and Barix(\"&$D$12&\",reference:=StartOfSession)=\"&A60&\"\", \"Bar\", \"\", \"Close\",\"5\",\"0\",\"PrimaryOnly\",,,\"False\",\"T\",\"EveryTick\")","v":416.81},-5.1555003938230058E-3,{"$f":"RTD(\"cqg.rtd\",,\"StudyData\", \"Close(\"&$D$12&\") when LocalYear(\"&$D$12&\")=\"&$D$5&\" and localMonth(\"&$D$12&\") =\"&$E$5&\" and LocalDay(\"&$D$12&\")=\"&$F$5&\" and Barix(\"&$D$12&\",reference:=StartOfSession)=\"&A60&\"\", \"Bar\", \"\", \"Close\",\"5\",\"0\",\"PrimaryOnly\",,,\"False\",\"T\",\"EveryTick\")","v":415.29},1.7244335578689578E-2,{"$f":"RTD(\"cqg.rtd\",,\"StudyData\", \"Close(\"&$D$12&\") when LocalYear(\"&$D$12&\")=\"&$D$6&\" and localMonth(\"&$D$12&\") =\"&$E$6&\" and LocalDay(\"&$D$12&\")=\"&$F$6&\" and Barix(\"&$D$12&\",reference:=StartOfSession)=\"&A60&\"\", \"Bar\", \"\", \"Close\",\"5\",\"0\",\"PrimaryOnly\",,,\"False\",\"T\",\"EveryTick\")","v":406.82},2.1160169682973989E-2,{"$f":"RTD(\"cqg.rtd\",,\"StudyData\", \"Close(\"&$D$12&\") when LocalYear(\"&$D$12&\")=\"&$D$7&\" and localMonth(\"&$D$12&\") =\"&$E$7&\" and LocalDay(\"&$D$12&\")=\"&$F$7&\" and Barix(\"&$D$12&\",reference:=StartOfSession)=\"&A60&\"\", \"Bar\", \"\", \"Close\",\"5\",\"0\",\"PrimaryOnly\",,,\"False\",\"T\",\"EveryTick\")","v":396.36},1.4954419748028353E-2,{"$f":"RTD(\"cqg.rtd\",,\"StudyData\", \"Close(\"&$D$12&\") when LocalYear(\"&$D$12&\")=\"&$D$8&\" and localMonth(\"&$D$12&\") =\"&$E$8&\" and LocalDay(\"&$D$12&\")=\"&$F$8&\" and Barix(\"&$D$12&\",reference:=StartOfSession)=\"&A60&\"\", \"Bar\", \"\", \"Close\",\"5\",\"0\",\"PrimaryOnly\",,,\"False\",\"T\",\"EveryTick\")","v":""},{"$error":"#N/A"},{"$f":"RTD(\"cqg.rtd\",,\"StudyData\", \"Close(\"&$D$12&\") when LocalYear(\"&$D$12&\")=\"&$D$9&\" and localMonth(\"&$D$12&\") =\"&$E$9&\" and LocalDay(\"&$D$12&\")=\"&$F$9&\" and Barix(\"&$D$12&\",reference:=StartOfSession)=\"&A60&\"\", \"Bar\", \"\", \"Close\",\"5\",\"0\",\"PrimaryOnly\",,,\"False\",\"T\",\"EveryTick\")","v":395.13},9.4525202462764444E-3,{"$f":"RTD(\"cqg.rtd\",,\"StudyData\", \"Close(\"&$D$12&\") when LocalYear(\"&$D$12&\")=\"&$D$10&\" and localMonth(\"&$D$12&\") =\"&$E$10&\" and LocalDay(\"&$D$12&\")=\"&$F$10&\" and Barix(\"&$D$12&\",reference:=StartOfSession)=\"&A60&\"\", \"Bar\", \"\", \"Close\",\"5\",\"0\",\"PrimaryOnly\",,,\"False\",\"T\",\"EveryTick\")","v":394.12},-3.2876435182843844E-3,null,null,null,""]
[60,"13:30:00",-17,{"$f":" RTD(\"cqg.rtd\",,\"StudyData\", $D$12,  \"Tick\", \"FlatTicks=0\", \"Tick\",\"D\",C61,\"PrimaryOnly\")","v":400.72},null,null,null,{"$f":"RTD(\"cqg.rtd\",,\"StudyData\", \"Close(\"&$D$12&\") when LocalYear(\"&$D$12&\")=\"&$D$1&\" and localMonth(\"&$D$12&\") =\"&$E$1&\" and LocalDay(\"&$D$12&\")=\"&$F$1&\" and Barix(\"&$D$12&\",reference:=StartOfSession)=\"&A61&\"\", \"Bar\", \"\", \"Close\",\"5\",\"0\",\"PrimaryOnly\",,,\"False\",\"T\",\"EveryTick\")","v":""},{"$error":"#N/A"},{"$f":"RTD(\"cqg.rtd\",,\"StudyData\", \"Close(\"&$D$12&\") when LocalYear(\"&$D$12&\")=\"&$D$2&\" and localMonth(\"&$D$12&\") =\"&$E$2&\" and LocalDay(\"&$D$12&\")=\"&$F$2&\" and Barix(\"&$D$12&\",reference:=StartOfSession)=\"&A61&\"\", \"Bar\", \"\", \"Close\",\"5\",\"0\",\"PrimaryOnly\",,,\"False\",\"T\",\"EveryTick\")","v":413.77},-1.1656514988653997E-2,{"$f":"RTD(\"cqg.rtd\",,\"StudyData\", \"Close(\"&$D$12&\") when LocalYear(\"&$D$12&\")=\"&$D$3&\" and localMonth(\"&$D$12&\") =\"&$E$3&\" and LocalDay(\"&$D$12&\")=\"&$F$3&\" and Barix(\"&$D$12&\",reference:=StartOfSession)=\"&A61&\"\", \"Bar\", \"\", \"Close\",\"5\",\"0\",\"PrimaryOnly\",,,\"False\",\"T\",\"EveryTick\")","v":417.69},4.956331352404789E-3,{"$f":"RTD(\"cqg.rtd\",,\"StudyData\", \"Close(\"&$D$12&\") when LocalYear(\"&$D$12&\")=\"&$D$4&\" and localMonth(\"&$D$12&\") =\"&$E$4&\" and LocalDay(\"&$D$12&\")=\"&$F$4&\" and Barix(\"&$D$12&\",reference:=StartOfSession)=\"&A61&\"\", \"Bar\", \"\", \"Close\",\"5\",\"0\",\"PrimaryOnly\",,,\"False\",\"T\",\"EveryTick\")","v":416.6},-5.6567295987779657E-3,{"$f":"RTD(\"cqg.rtd\",,\"StudyData\", \"Close(\"&$D$12&\") when LocalYear(\"&$D$12&\")=\"&$D$5&\" and localMonth(\"&$D$12&\") =\"&$E$5&\" and LocalDay(\"&$D$12&\")=\"&$F$5&\" and Barix(\"&$D$12&\",reference:=StartOfSession)=\"&A61&\"\", \"Bar\", \"\", \"Close\",\"5\",\"0\",\"PrimaryOnly\",,,\"False\",\"T\",\"EveryTick\")","v":415.63},1.8077158603796682E-2,{"$f":"RTD(\"cqg.rtd\",,\"StudyData\", \"Close(\"&$D$12&\") when LocalYear(\"&$D$12&\")=\"&$D$6&\" and localMonth(\"&$D$12&\") =\"&$E$6&\" and LocalDay(\"&$D$12&\")=\"&$F$6&\" and Barix(\"&$D$12&\",reference:=StartOfSession)=\"&A61&\"\", \"Bar\", \"\", \"Close\",\"5\",\"0\",\"PrimaryOnly\",,,\"False\",\"T\",\"EveryTick\")","v":406.48},2.0306734606792418E-2,{"$f":"RTD(\"cqg.rtd\",,\"StudyData\", \"Close(\"&$D$12&\") when LocalYear(\"&$D$12&\")=\"&$D$7&\" and localMonth(\"&$D$12&\") =\"&$E$7&\" and LocalDay(\"&$D$12&\")=\"&$F$7&\" and Barix(\"&$D$12&\",reference:=StartOfSession)=\"&A61&\"\", \"Bar\", \"\", \"Close\",\"5\",\"0\",\"PrimaryOnly\",,,\"False\",\"T\",\"EveryTick\")","v":397.16},1.7002970398443212E-2,{"$f":"RTD(\"cqg.rtd\",,\"StudyData\", \"Close(\"&$D$12&\") when LocalYear(\"&$D$12&\")=\"&$D$8&\" and localMonth(\"&$D$12&\") =\"&$E$8&\" and LocalDay(\"&$D$12&\")=\"&$F$8&\" and Barix(\"&$D$12&\",reference:=StartOfSession)=\"&A61&\"\", \"Bar\", \"\", \"Close\",\"5\",\"0\",\"PrimaryOnly\",,,\"False\",\"T\",\"EveryTick\")","v":""},{"$error":"#N/A"},{"$f":"RTD(\"cqg.rtd\",,\"StudyData\", \"Close(\"&$D$12&\") when LocalYear(\"&$D$12&\")=\"&$D$9&\" and localMonth(\"&$D$12&\") =\"&$E$9&\" and LocalDay(\"&$D$12&\")=\"&$F$9&\" and Barix(\"&$D$12&\",reference:=StartOfSession)=\"&A61&\"\", \"Bar\", \"\", \"Close\",\"5\",\"0\",\"PrimaryOnly\",,,\"False\",\"T\",\"EveryTick\")","v":395.47},1.0321130214853282E-2,{"$f":"RTD(\"cqg.rtd\",,\"StudyData\", \"Close(\"&$D$12&\") when LocalYear(\"&$D$12&\")=\"&$D$10&\" and localMonth(\"&$D$12&\") =\"&$E$10&\" and LocalDay(\"&$D$12&\")=\"&$F$10&\" and Barix(\"&$D$12&\",reference:=StartOfSession)=\"&A61&\"\", \"Bar\", \"\", \"Close\",\"5\",\"0\",\"PrimaryOnly\",,,\"False\",\"T\",\"EveryTick\")","v":393.73},-4.2739365737696567E-3,null,null,null,""]
[61,"13:35:00",-16,{"$f":" RTD(\"cqg.rtd\",,\"StudyData\", $D$12,  \"Tick\", \"FlatTicks=0\", \"Tick\",\"D\",C62,\"PrimaryOnly\")","v":400.67},null,null,null,{"$f":"RTD(\"cqg.rtd\",,\"StudyData\", \"Close(\"&$D$12&\") when LocalYear(\"&$D$12&\")=\"&$D$1&\" and localMonth(\"&$D$12&\") =\"&$E$1&\" and LocalDay(\"&$D$12&\")=\"&$F$1&\" and Barix(\"&$D$12&\",reference:=StartOfSession)=\"&A62&\"\", \"Bar\", \"\", \"Close\",\"5\",\"0\",\"PrimaryOnly\",,,\"False\",\"T\",\"EveryTick\")","v":""},{"$error":"#N/A"},{"$f":"RTD(\"cqg.rtd\",,\"StudyData\", \"Close(\"&$D$12&\") when LocalYear(\"&$D$12&\")=\"&$D$2&\" and localMonth(\"&$D$12&\") =\"&$E$2&\" and LocalDay(\"&$D$12&\")=\"&$F$2&\" and Barix(\"&$D$12&\",reference:=StartOfSession)=\"&A62&\"\", \"Bar\", \"\", \"Close\",\"5\",\"0\",\"PrimaryOnly\",,,\"False\",\"T\",\"EveryTick\")","v":413.48},-1.2349217723635397E-2,{"$f":"RTD(\"cqg.rtd\",,\"StudyData\", \"Close(\"&$D$12&\") when LocalYear(\"&$D$12&\")=\"&$D$3&\" and localMonth(\"&$D$12&\") =\"&$E$3&\" and LocalDay(\"&$D$12&\")=\"&$F$3&\" and Barix(\"&$D$12&\",reference:=StartOfSession)=\"&A62&\"\", \"Bar\", \"\", \"Close\",\"5\",\"0\",\"PrimaryOnly\",,,\"False\",\"T\",\"EveryTick\")","v":417.8},5.2209898226788631E-3,{"$f":"RTD(\"cqg.rtd\",,\"StudyData\", \"Close(\"&$D$12&\") when LocalYear(\"&$D$12&\")=\"&$D$4&\" and localMonth(\"&$D$12&\") =\"&$E$4&\" and LocalDay(\"&$D$12&\")=\"&$F$4&\" and Barix(\"&$D$12&\",reference:=StartOfSession)=\"&A62&\"\", \"Bar\", \"\", \"Close\",\"5\",\"0\",\"PrimaryOnly\",,,\"False\",\"T\",\"EveryTick\")","v":416.93},-4.8690837052772764E-3,{"$f":"RTD(\"cqg.rtd\",,\"StudyData\", \"Close(\"&$D$12&\") when LocalYear(\"&$D$12&\")=\"&$D$5&\" and localMonth(\"&$D$12&\") =\"&$E$5&\" and LocalDay(\"&$D$12&\")=\"&$F$5&\" and Barix(\"&$D$12&\",reference:=StartOfSession)=\"&A62&\"\", \"Bar\", \"\", \"Close\",\"5\",\"0\",\"PrimaryOnly\",,,\"False\",\"T\",\"EveryTick\")","v":416.37},1.9889773423147593E-2,{"$f":"RTD(\"cqg.rtd\",,\"StudyData\", \"Close(\"&$D$12&\") when LocalYear(\"&$D$12&\")=\"&$D$6&\" and localMonth(\"&$D$12&\") =\"&$E$6&\" and LocalDay(\"&$D$12&\")=\"&$F$6&\" and Barix(\"&$D$12&\",reference:=StartOfSession)=\"&A62&\"\", \"Bar\", \"\", \"Close\",\"5\",\"0\",\"PrimaryOnly\",,,\"False\",\"T\",\"EveryTick\")","v":405.75},1.8474359296167107E-2,{"$f":"RTD(\"cqg.rtd\",,\"StudyData\", \"Close(\"&$D$12&\") when LocalYear(\"&$D$12&\")=\"&$D$7&\" and localMonth(\"&$D$12&\") =\"&$E$7&\" and LocalDay(\"&$D$12&\")=\"&$F$7&\" and Barix(\"&$D$12&\",reference:=StartOfSession)=\"&A62&\"\", \"Bar\", \"\", \"Close\",\"5\",\"0\",\"PrimaryOnly\",,,\"False\",\"T\",\"EveryTick\")","v":396.76},1.597869507323571E-2,{"$f":"RTD(\"cqg.rtd\",,\"StudyData\", \"Close(\"&$D$12&\") when LocalYear(\"&$D$12&\")=\"&$D$8&\" and localMonth(\"&$D$12&\") =\"&$E$8&\" and LocalDay(\"&$D$12&\")=\"&$F$8&\" and Barix(\"&$D$12&\",reference:=StartOfSession)=\"&A62&\"\", \"Bar\", \"\", \"Close\",\"5\",\"0\",\"PrimaryOnly\",,,\"False\",\"T\",\"EveryTick\")","v":""},{"$error":"#N/A"},{"$f":"RTD(\"cqg.rtd\",,\"StudyData\", \"Close(\"&$D$12&\") when LocalYear(\"&$D$12&\")=\"&$D$9&\" and localMonth(\"&$D$12&\") =\"&$E$9&\" and LocalDay(\"&$D$12&\")=\"&$F$9&\" and Barix(\"&$D$12&\",reference:=StartOfSession)=\"&A62&\"\", \"Bar\", \"\", \"Close\",\"5\",\"0\",\"PrimaryOnly\",,,\"False\",\"T\",\"EveryTick\")","v":394.83},8.6860996857675114E-3,{"$f":"RTD(\"cqg.rtd\",,\"StudyData\", \"Close(\"&$D$12&\") when LocalYear(\"&$D$12&\")=\"&$D$10&\" and localMonth(\"&$D$12&\") =\"&$E$10&\" and LocalDay(\"&$D$12&\")=\"&$F$10&\" and Barix(\"&$D$12&\",reference:=StartOfSession)=\"&A62&\"\", \"Bar\", \"\", \"Close\",\"5\",\"0\",\"PrimaryOnly\",,,\"False\",\"T\",\"EveryTick\")","v":393.59},-4.6279904911234659E-3,null,null,null,""]
[62,"13:40:00",-15,{"$f":" RTD(\"cqg.rtd\",,\"StudyData\", $D$12,  \"Tick\", \"FlatTicks=0\", \"Tick\",\"D\",C63,\"PrimaryOnly\")","v":400.68},null,null,null,{"$f":"RTD(\"cqg.rtd\",,\"StudyData\", \"Close(\"&$D$12&\") when LocalYear(\"&$D$12&\")=\"&$D$1&\" and localMonth(\"&$D$12&\") =\"&$E$1&\" and LocalDay(\"&$D$12&\")=\"&$F$1&\" and Barix(\"&$D$12&\",reference:=StartOfSession)=\"&A63&\"\", \"Bar\", \"\", \"Close\",\"5\",\"0\",\"PrimaryOnly\",,,\"False\",\"T\",\"EveryTick\")","v":""},{"$error":"#N/A"},{"$f":"RTD(\"cqg.rtd\",,\"StudyData\", \"Close(\"&$D$12&\") when LocalYear(\"&$D$12&\")=\"&$D$2&\" and localMonth(\"&$D$12&\") =\"&$E$2&\" and LocalDay(\"&$D$12&\")=\"&$F$2&\" and Barix(\"&$D$12&\",reference:=StartOfSession)=\"&A63&\"\", \"Bar\", \"\", \"Close\",\"5\",\"0\",\"PrimaryOnly\",,,\"False\",\"T\",\"EveryTick\")","v":412.81},-1.3949599904454737E-2,{"$f":"RTD(\"cqg.rtd\",,\"StudyData\", \"Close(\"&$D$12&\") when LocalYear(\"&$D$12&\")=\"&$D$3&\" and localMonth(\"&$D$12&\") =\"&$E$3&\" and LocalDay(\"&$D$12&\")=\"&$F$3&\" and Barix(\"&$D$12&\",reference:=StartOfSession)=\"&A63&\"\", \"Bar\", \"\", \"Close\",\"5\",\"0\",\"PrimaryOnly\",,,\"False\",\"T\",\"EveryTick\")","v":418.1},5.942785650699005E-3,{"$f":"RTD(\"cqg.rtd\",,\"StudyData\", \"Close(\"&$D$12&\") when LocalYear(\"&$D$12&\")=\"&$D$4&\" and localMonth(\"&$D$12&\") =\"&$E$4&\" and LocalDay(\"&$D$12&\")=\"&$F$4&\" and Barix(\"&$D$12&\",reference:=StartOfSession)=\"&A63&\"\", \"Bar\", \"\", \"Close\",\"5\",\"0\",\"PrimaryOnly\",,,\"False\",\"T\",\"EveryTick\")","v":416.69},-5.4419170823687361E-3,{"$f":"RTD(\"cqg.rtd\",,\"StudyData\", \"Close(\"&$D$12&\") when LocalYear(\"&$D$12&\")=\"&$D$5&\" and localMonth(\"&$D$12&\") =\"&$E$5&\" and LocalDay(\"&$D$12&\")=\"&$F$5&\" and Barix(\"&$D$12&\",reference:=StartOfSession)=\"&A63&\"\", \"Bar\", \"\", \"Close\",\"5\",\"0\",\"PrimaryOnly\",,,\"False\",\"T\",\"EveryTick\")","v":416.53},2.0281690140845004E-2,{"$f":"RTD(\"cqg.rtd\",,\"StudyData\", \"Close(\"&$D$12&\") when LocalYear(\"&$D$12&\")=\"&$D$6&\" and localMonth(\"&$D$12&\") =\"&$E$6&\" and LocalDay(\"&$D$12&\")=\"&$F$6&\" and Barix(\"&$D$12&\",reference:=StartOfSession)=\"&A63&\"\", \"Bar\", \"\", \"Close\",\"5\",\"0\",\"PrimaryOnly\",,,\"False\",\"T\",\"EveryTick\")","v":406.1},1.9352895404001196E-2,{"$f":"RTD(\"cqg.rtd\",,\"StudyData\", \"Close(\"&$D$12&\") when LocalYear(\"&$D$12&\")=\"&$D$7&\" and localMonth(\"&$D$12&\") =\"&$E$7&\" and LocalDay(\"&$D$12&\")=\"&$F$7&\" and Barix(\"&$D$12&\",reference:=StartOfSession)=\"&A63&\"\", \"Bar\", \"\", \"Close\",\"5\",\"0\",\"PrimaryOnly\",,,\"False\",\"T\",\"EveryTick\")","v":396.75},1.5953088190105547E-2,{"$f":"RTD(\"cqg.rtd\",,\"StudyData\", \"Close(\"&$D$12&\") when LocalYear(\"&$D$12&\")=\"&$D$8&\" and localMonth(\"&$D$12&\") =\"&$E$8&\" and LocalDay(\"&$D$12&\")=\"&$F$8&\" and Barix(\"&$D$12&\",reference:=StartOfSession)=\"&A63&\"\", \"Bar\", \"\", \"Close\",\"5\",\"0\",\"PrimaryOnly\",,,\"False\",\"T\",\"EveryTick\")","v":""},{"$error":"#N/A"},{"$f":"RTD(\"cqg.rtd\",,\"StudyData\", \"Close(\"&$D$12&\") when LocalYear(\"&$D$12&\")=\"&$D$9&\" and localMonth(\"&$D$12&\") =\"&$E$9&\" and LocalDay(\"&$D$12&\")=\"&$F$9&\" and Barix(\"&$D$12&\",reference:=StartOfSession)=\"&A63&\"\", \"Bar\", \"\", \"Close\",\"5\",\"0\",\"PrimaryOnly\",,,\"False\",\"T\",\"EveryTick\")","v":394.53},7.9196791252585802E-3,{"$f":"RTD(\"cqg.rtd\",,\"StudyData\", \"Close(\"&$D$12&\") when LocalYear(\"&$D$12&\")=\"&$D$10&\" and localMonth(\"&$D$12&\") =\"&$E$10&\" and LocalDay(\"&$D$12&\")=\"&$F$10&\" and Barix(\"&$D$12&\",reference:=StartOfSession)=\"&A63&\"\", \"Bar\", \"\", \"Close\",\"5\",\"0\",\"PrimaryOnly\",,,\"False\",\"T\",\"EveryTick\")","v":393.39},-5.1337818016287222E-3,null,null,null,""]
[63,"13:45:00",-14,{"$f":" RTD(\"cqg.rtd\",,\"StudyData\", $D$12,  \"Tick\", \"FlatTicks=0\", \"Tick\",\"D\",C64,\"PrimaryOnly\")","v":400.65},null,null,null,{"$f":"RTD(\"cqg.rtd\",,\"StudyData\", \"Close(\"&$D$12&\") when LocalYear(\"&$D$12&\")=\"&$D$1&\" and localMonth(\"&$D$12&\") =\"&$E$1&\" and LocalDay(\"&$D$12&\")=\"&$F$1&\" and Barix(\"&$D$12&\",reference:=StartOfSession)=\"&A64&\"\", \"Bar\", \"\", \"Close\",\"5\",\"0\",\"PrimaryOnly\",,,\"False\",\"T\",\"EveryTick\")","v":""},{"$error":"#N/A"},{"$f":"RTD(\"cqg.rtd\",,\"StudyData\", \"Close(\"&$D$12&\") when LocalYear(\"&$D$12&\")=\"&$D$2&\" and localMonth(\"&$D$12&\") =\"&$E$2&\" and LocalDay(\"&$D$12&\")=\"&$F$2&\" and Barix(\"&$D$12&\",reference:=StartOfSession)=\"&A64&\"\", \"Bar\", \"\", \"Close\",\"5\",\"0\",\"PrimaryOnly\",,,\"False\",\"T\",\"EveryTick\")","v":412.95},-1.3615191687567153E-2,{"$f":"RTD(\"cqg.rtd\",,\"StudyData\", \"Close(\"&$D$12&\") when LocalYear(\"&$D$12&\")=\"&$D$3&\" and localMonth(\"&$D$12&\") =\"&$E$3&\" and LocalDay(\"&$D$12&\")=\"&$F$3&\" and Barix(\"&$D$12&\",reference:=StartOfSession)=\"&A64&\"\", \"Bar\", \"\", \"Close\",\"5\",\"0\",\"PrimaryOnly\",,,\"False\",\"T\",\"EveryTick\")","v":417.91},5.485648292952938E-3,{"$f":"RTD(\"cqg.rtd\",,\"StudyData\", \"Close(\"&$D$12&\") when LocalYear(\"&$D$12&\")=\"&$D$4&\" and localMonth(\"&$D$12&\") =\"&$E$4&\" and LocalDay(\"&$D$12&\")=\"&$F$4&\" and Barix(\"&$D$12&\",reference:=StartOfSession)=\"&A64&\"\", \"Bar\", \"\", \"Close\",\"5\",\"0\",\"PrimaryOnly\",,,\"False\",\"T\",\"EveryTick\")","v":417.08},-4.5110628445951808E-3,{"$f":"RTD(\"cqg.rtd\",,\"StudyData\", \"Close(\"&$D$12&\") when LocalYear(\"&$D$12&\")=\"&$D$5&\" and localMonth(\"&$D$12&\") =\"&$E$5&\" and LocalDay(\"&$D$12&\")=\"&$F$5&\" and Barix(\"&$D$12&\",reference:=StartOfSession)=\"&A64&\"\", \"Bar\", \"\", \"Close\",\"5\",\"0\",\"PrimaryOnly\",,,\"False\",\"T\",\"EveryTick\")","v":416.11},1.9252908756889193E-2,{"$f":"RTD(\"cqg.rtd\",,\"StudyData\", \"Close(\"&$D$12&\") when LocalYear(\"&$D$12&\")=\"&$D$6&\" and localMonth(\"&$D$12&\") =\"&$E$6&\" and LocalDay(\"&$D$12&\")=\"&$F$6&\" and Barix(\"&$D$12&\",reference:=StartOfSession)=\"&A64&\"\", \"Bar\", \"\", \"Close\",\"5\",\"0\",\"PrimaryOnly\",,,\"False\",\"T\",\"EveryTick\")","v":406.32},1.9905118100353943E-2,{"$f":"RTD(\"cqg.rtd\",,\"StudyData\", \"Close(\"&$D$12&\") when LocalYear(\"&$D$12&\")=\"&$D$7&\" and localMonth(\"&$D$12&\") =\"&$E$7&\" and LocalDay(\"&$D$12&\")=\"&$F$7&\" and Barix(\"&$D$12&\",reference:=StartOfSession)=\"&A64&\"\", \"Bar\", \"\", \"Close\",\"5\",\"0\",\"PrimaryOnly\",,,\"False\",\"T\",\"EveryTick\")","v":396.73},1.5901874423845223E-2,{"$f":"RTD(\"cqg.rtd\",,\"StudyData\", \"Close(\"&$D$12&\") when LocalYear(\"&$D$12&\")=\"&$D$8&\" and localMonth(\"&$D$12&\") =\"&$E$8&\" and LocalDay(\"&$D$12&\")=\"&$F$8&\" and Barix(\"&$D$12&\",reference:=StartOfSession)=\"&A64&\"\", \"Bar\", \"\", \"Close\",\"5\",\"0\",\"PrimaryOnly\",,,\"False\",\"T\",\"EveryTick\")","v":""},{"$error":"#N/A"},{"$f":"RTD(\"cqg.rtd\",,\"StudyData\", \"Close(\"&$D$12&\") when LocalYear(\"&$D$12&\")=\"&$D$9&\" and localMonth(\"&$D$12&\") =\"&$E$9&\" and LocalDay(\"&$D$12&\")=\"&$F$9&\" and Barix(\"&$D$12&\",reference:=StartOfSession)=\"&A64&\"\", \"Bar\", \"\", \"Close\",\"5\",\"0\",\"PrimaryOnly\",,,\"False\",\"T\",\"EveryTick\")","v":394.64},8.200699997445212E-3,{"$f":"RTD(\"cqg.rtd\",,\"StudyData\", \"Close(\"&$D$12&\") when LocalYear(\"&$D$12&\")=\"&$D$10&\" and localMonth(\"&$D$12&\") =\"&$E$10&\" and LocalDay(\"&$D$12&\")=\"&$F$10&\" and Barix(\"&$D$12&\",reference:=StartOfSession)=\"&A64&\"\", \"Bar\", \"\", \"Close\",\"5\",\"0\",\"PrimaryOnly\",,,\"False\",\"T\",\"EveryTick\")","v":393.59},-4.6279904911234659E-3,null,null,null,""]
[64,"13:50:00",-13,{"$f":" RTD(\"cqg.rtd\",,\"StudyData\", $D$12,  \"Tick\", \"FlatTicks=0\", \"Tick\",\"D\",C65,\"PrimaryOnly\")","v":400.73},null,null,null,{"$f":"RTD(\"cqg.rtd\",,\"StudyData\", \"Close(\"&$D$12&\") when LocalYear(\"&$D$12&\")=\"&$D$1&\" and localMonth(\"&$D$12&\") =\"&$E$1&\" and LocalDay(\"&$D$12&\")=\"&$F$1&\" and Barix(\"&$D$12&\",reference:=StartOfSession)=\"&A65&\"\", \"Bar\", \"\", \"Close\",\"5\",\"0\",\"PrimaryOnly\",,,\"False\",\"T\",\"EveryTick\")","v":""},{"$error":"#N/A"},{"$f":"RTD(\"cqg.rtd\",,\"StudyData\", \"Close(\"&$D$12&\") when LocalYear(\"&$D$12&\")=\"&$D$2&\" and localMonth(\"&$D$12&\") =\"&$E$2&\" and LocalDay(\"&$D$12&\")=\"&$F$2&\" and Barix(\"&$D$12&\",reference:=StartOfSession)=\"&A65&\"\", \"Bar\", \"\", \"Close\",\"5\",\"0\",\"PrimaryOnly\",,,\"False\",\"T\",\"EveryTick\")","v":412.77},-1.4045145109279818E-2,{"$f":"RTD(\"cqg.rtd\",,\"StudyData\", \"Close(\"&$D$12&\") when LocalYear(\"&$D$12&\")=\"&$D$3&\" and localMonth(\"&$D$12&\") =\"&$E$3&\" and LocalDay(\"&$D$12&\")=\"&$F$3&\" and Barix(\"&$D$12&\",reference:=StartOfSession)=\"&A65&\"\", \"Bar\", \"\", \"Close\",\"5\",\"0\",\"PrimaryOnly\",,,\"False\",\"T\",\"EveryTick\")","v":418.12},5.9909053725669681E-3,{"$f":"RTD(\"cqg.rtd\",,\"StudyData\", \"Close(\"&$D$12&\") when LocalYear(\"&$D$12&\")=\"&$D$4&\" and localMonth(\"&$D$12&\") =\"&$E$4&\" and LocalDay(\"&$D$12&\")=\"&$F$4&\" and Barix(\"&$D$12&\",reference:=StartOfSession)=\"&A65&\"\", \"Bar\", \"\", \"Close\",\"5\",\"0\",\"PrimaryOnly\",,,\"False\",\"T\",\"EveryTick\")","v":417.02},-4.654271188868046E-3,{"$f":"RTD(\"cqg.rtd\",,\"StudyData\", \"Close(\"&$D$12&\") when LocalYear(\"&$D$12&\")=\"&$D$5&\" and localMonth(\"&$D$12&\") =\"&$E$5&\" and LocalDay(\"&$D$12&\")=\"&$F$5&\" and Barix(\"&$D$12&\",reference:=StartOfSession)=\"&A65&\"\", \"Bar\", \"\", \"Close\",\"5\",\"0\",\"PrimaryOnly\",,,\"False\",\"T\",\"EveryTick\")","v":416.95},2.1310471524800954E-2,{"$f":"RTD(\"cqg.rtd\",,\"StudyData\", \"Close(\"&$D$12&\") when LocalYear(\"&$D$12&\")=\"&$D$6&\" and localMonth(\"&$D$12&\") =\"&$E$6&\" and LocalDay(\"&$D$12&\")=\"&$F$6&\" and Barix(\"&$D$12&\",reference:=StartOfSession)=\"&A65&\"\", \"Bar\", \"\", \"Close\",\"5\",\"0\",\"PrimaryOnly\",,,\"False\",\"T\",\"EveryTick\")","v":406.56},2.0507542860011586E-2,{"$f":"RTD(\"cqg.rtd\",,\"StudyData\", \"Close(\"&$D$12&\") when LocalYear(\"&$D$12&\")=\"&$D$7&\" and localMonth(\"&$D$12&\") =\"&$E$7&\" and LocalDay(\"&$D$12&\")=\"&$F$7&\" and Barix(\"&$D$12&\",reference:=StartOfSession)=\"&A65&\"\", \"Bar\", \"\", \"Close\",\"5\",\"0\",\"PrimaryOnly\",,,\"False\",\"T\",\"EveryTick\")","v":396.7},1.5825053774454593E-2,{"$f":"RTD(\"cqg.rtd\",,\"StudyData\", \"Close(\"&$D$12&\") when LocalYear(\"&$D$12&\")=\"&$D$8&\" and localMonth(\"&$D$12&\") =\"&$E$8&\" and LocalDay(\"&$D$12&\")=\"&$F$8&\" and Barix(\"&$D$12&\",reference:=StartOfSession)=\"&A65&\"\", \"Bar\", \"\", \"Close\",\"5\",\"0\",\"PrimaryOnly\",,,\"False\",\"T\",\"EveryTick\")","v":""},{"$error":"#N/A"},{"$f":"RTD(\"cqg.rtd\",,\"StudyData\", \"Close(\"&$D$12&\") when LocalYear(\"&$D$12&\")=\"&$D$9&\" and localMonth(\"&$D$12&\") =\"&$E$9&\" and LocalDay(\"&$D$12&\")=\"&$F$9&\" and Barix(\"&$D$12&\",reference:=StartOfSession)=\"&A65&\"\", \"Bar\", \"\", \"Close\",\"5\",\"0\",\"PrimaryOnly\",,,\"False\",\"T\",\"EveryTick\")","v":394.39},7.5620161970211264E-3,{"$f":"RTD(\"cqg.rtd\",,\"StudyData\", \"Close(\"&$D$12&\") when LocalYear(\"&$D$12&\")=\"&$D$10&\" and localMonth(\"&$D$12&\") =\"&$E$10&\" and LocalDay(\"&$D$12&\")=\"&$F$10&\" and Barix(\"&$D$12&\",reference:=StartOfSession)=\"&A65&\"\", \"Bar\", \"\", \"Close\",\"5\",\"0\",\"PrimaryOnly\",,,\"False\",\"T\",\"EveryTick\")","v":393.25},-5.4878357189823883E-3,null,null,null,""]
[65,"13:55:00",-12,{"$f":" RTD(\"cqg.rtd\",,\"StudyData\", $D$12,  \"Tick\", \"FlatTicks=0\", \"Tick\",\"D\",C66,\"PrimaryOnly\")","v":400.7},null,null,null,{"$f":"RTD(\"cqg.rtd\",,\"StudyData\", \"Close(\"&$D$12&\") when LocalYear(\"&$D$12&\")=\"&$D$1&\" and localMonth(\"&$D$12&\") =\"&$E$1&\" and LocalDay(\"&$D$12&\")=\"&$F$1&\" and Barix(\"&$D$12&\",reference:=StartOfSession)=\"&A66&\"\", \"Bar\", \"\", \"Close\",\"5\",\"0\",\"PrimaryOnly\",,,\"False\",\"T\",\"EveryTick\")","v":""},{"$error":"#N/A"},{"$f":"RTD(\"cqg.rtd\",,\"StudyData\", \"Close(\"&$D$12&\") when LocalYear(\"&$D$12&\")=\"&$D$2&\" and localMonth(\"&$D$12&\") =\"&$E$2&\" and LocalDay(\"&$D$12&\")=\"&$F$2&\" and Barix(\"&$D$12&\",reference:=StartOfSession)=\"&A66&\"\", \"Bar\", \"\", \"Close\",\"5\",\"0\",\"PrimaryOnly\",,,\"False\",\"T\",\"EveryTick\")","v":412.39},{"$f":"IFERROR((J66-$G$3)/$G$3,NA())","v":-1.4952824555117619E-2},{"$f":"RTD(\"cqg.rtd\",,\"StudyData\", \"Close(\"&$D$12&\") when LocalYear(\"&$D$12&\")=\"&$D$3&\" and localMonth(\"&$D$12&\") =\"&$E$3&\" and LocalDay(\"&$D$12&\")=\"&$F$3&\" and Barix(\"&$D$12&\",reference:=StartOfSession)=\"&A66&\"\", \"Bar\", \"\", \"Close\",\"5\",\"0\",\"PrimaryOnly\",,,\"False\",\"T\",\"EveryTick\")","v":417.68},{"$f":"IFERROR((L66-$G$4)/$G$4,NA())","v":4.932271491470807E-3},{"$f":"RTD(\"cqg.rtd\",,\"StudyData\", \"Close(\"&$D$12&\") when LocalYear(\"&$D$12&\")=\"&$D$4&\" and localMonth(\"&$D$12&\") =\"&$E$4&\" and LocalDay(\"&$D$12&\")=\"&$F$4&\" and Barix(\"&$D$12&\",reference:=StartOfSession)=\"&A66&\"\", \"Bar\", \"\", \"Close\",\"5\",\"0\",\"PrimaryOnly\",,,\"False\",\"T\",\"EveryTick\")","v":417.1},{"$f":"IFERROR((N66-$G$5)/$G$5,NA())","v":-4.4633267298374692E-3},{"$f":"RTD(\"cqg.rtd\",,\"StudyData\", \"Close(\"&$D$12&\") when LocalYear(\"&$D$12&\")=\"&$D$5&\" and localMonth(\"&$D$12&\") =\"&$E$5&\" and LocalDay(\"&$D$12&\")=\"&$F$5&\" and Barix(\"&$D$12&\",reference:=StartOfSession)=\"&A66&\"\", \"Bar\", \"\", \"Close\",\"5\",\"0\",\"PrimaryOnly\",,,\"False\",\"T\",\"EveryTick\")","v":416.62},{"$f":"IFERROR((P66-$G$6)/$G$6,NA())","v":2.050214329454992E-2},{"$f":"RTD(\"cqg.rtd\",,\"StudyData\", \"Close(\"&$D$12&\") when LocalYear(\"&$D$12&\")=\"&$D$6&\" and localMonth(\"&$D$12&\") =\"&$E$6&\" and LocalDay(\"&$D$12&\")=\"&$F$6&\" and Barix(\"&$D$12&\",reference:=StartOfSession)=\"&A66&\"\", \"Bar\", \"\", \"Close\",\"5\",\"0\",\"PrimaryOnly\",,,\"False\",\"T\",\"EveryTick\")","v":406.87},{"$f":"IFERROR((R66-$G$7)/$G$7,NA())","v":2.1285674841236023E-2},{"$f":"RTD(\"cqg.rtd\",,\"StudyData\", \"Close(\"&$D$12&\") when LocalYear(\"&$D$12&\")=\"&$D$7&\" and localMonth(\"&$D$12&\") =\"&$E$7&\" and LocalDay(\"&$D$12&\")=\"&$F$7&\" and Barix(\"&$D$12&\",reference:=StartOfSession)=\"&A66&\"\", \"Bar\", \"\", \"Close\",\"5\",\"0\",\"PrimaryOnly\",,,\"False\",\"T\",\"EveryTick\")","v":397.65},{"$f":"IFERROR((T66-$G$8)/$G$8,NA())","v":1.8257707671822176E-2},{"$f":"RTD(\"cqg.rtd\",,\"StudyData\", \"Close(\"&$D$12&\") when LocalYear(\"&$D$12&\")=\"&$D$8&\" and localMonth(\"&$D$12&\") =\"&$E$8&\" and LocalDay(\"&$D$12&\")=\"&$F$8&\" and Barix(\"&$D$12&\",reference:=StartOfSession)=\"&A66&\"\", \"Bar\", \"\", \"Close\",\"5\",\"0\",\"PrimaryOnly\",,,\"False\",\"T\",\"EveryTick\")","v":""},{"$f":"IFERROR((V66-$G$9)/$G$9,NA())","v":{"$error":"#N/A"}},{"$f":"RTD(\"cqg.rtd\",,\"StudyData\", \"Close(\"&$D$12&\") when LocalYear(\"&$D$12&\")=\"&$D$9&\" and localMonth(\"&$D$12&\") =\"&$E$9&\" and LocalDay(\"&$D$12&\")=\"&$F$9&\" and Barix(\"&$D$12&\",reference:=StartOfSession)=\"&A66&\"\", \"Bar\", \"\", \"Close\",\"5\",\"0\",\"PrimaryOnly\",,,\"False\",\"T\",\"EveryTick\")","v":393.52},{"$f":"IFERROR((X66-$G$10)/$G$10,NA())","v":5.3393965715452952E-3},{"$f":"RTD(\"cqg.rtd\",,\"StudyData\", \"Close(\"&$D$12&\") when LocalYear(\"&$D$12&\")=\"&$D$10&\" and localMonth(\"&$D$12&\") =\"&$E$10&\" and LocalDay(\"&$D$12&\")=\"&$F$10&\" and Barix(\"&$D$12&\",reference:=StartOfSession)=\"&A66&\"\", \"Bar\", \"\", \"Close\",\"5\",\"0\",\"PrimaryOnly\",,,\"False\",\"T\",\"EveryTick\")","v":393.48},{"$f":"IFERROR((Z66-$G$11)/$G$11,NA())","v":-4.9061757119012632E-3},null,null,null,""]
[{"$f":"A66+1","v":66},"14:00:00",-11,{"$f":" RTD(\"cqg.rtd\",,\"StudyData\", $D$12,  \"Tick\", \"FlatTicks=0\", \"Tick\",\"D\",C67,\"PrimaryOnly\")","v":400.69},null,null,null,{"$f":"RTD(\"cqg.rtd\",,\"StudyData\", \"Close(\"&$D$12&\") when LocalYear(\"&$D$12&\")=\"&$D$1&\" and localMonth(\"&$D$12&\") =\"&$E$1&\" and LocalDay(\"&$D$12&\")=\"&$F$1&\" and Barix(\"&$D$12&\",reference:=StartOfSession)=\"&A67&\"\", \"Bar\", \"\", \"Close\",\"5\",\"0\",\"PrimaryOnly\",,,\"False\",\"T\",\"EveryTick\")","v":""},{"$f":"IFERROR((H67-$G$2)/$G$2,NA())","v":{"$error":"#N/A"}},{"$f":"RTD(\"cqg.rtd\",,\"StudyData\", \"Close(\"&$D$12&\") when LocalYear(\"&$D$12&\")=\"&$D$2&\" and localMonth(\"&$D$12&\") =\"&$E$2&\" and LocalDay(\"&$D$12&\")=\"&$F$2&\" and Barix(\"&$D$12&\",reference:=StartOfSession)=\"&A67&\"\", \"Bar\", \"\", \"Close\",\"5\",\"0\",\"PrimaryOnly\",,,\"False\",\"T\",\"EveryTick\")","v":413.05},-1.3376328675504517E-2,{"$f":"RTD(\"cqg.rtd\",,\"StudyData\", \"Close(\"&$D$12&\") when LocalYear(\"&$D$12&\")=\"&$D$3&\" and localMonth(\"&$D$12&\") =\"&$E$3&\" and LocalDay(\"&$D$12&\")=\"&$F$3&\" and Barix(\"&$D$12&\",reference:=StartOfSession)=\"&A67&\"\", \"Bar\", \"\", \"Close\",\"5\",\"0\",\"PrimaryOnly\",,,\"False\",\"T\",\"EveryTick\")","v":417.76},5.124750378942799E-3,{"$f":"RTD(\"cqg.rtd\",,\"StudyData\", \"Close(\"&$D$12&\") when LocalYear(\"&$D$12&\")=\"&$D$4&\" and localMonth(\"&$D$12&\") =\"&$E$4&\" and LocalDay(\"&$D$12&\")=\"&$F$4&\" and Barix(\"&$D$12&\",reference:=StartOfSession)=\"&A67&\"\", \"Bar\", \"\", \"Close\",\"5\",\"0\",\"PrimaryOnly\",,,\"False\",\"T\",\"EveryTick\")","v":416.89},-4.9645559347925644E-3,{"$f":"RTD(\"cqg.rtd\",,\"StudyData\", \"Close(\"&$D$12&\") when LocalYear(\"&$D$12&\")=\"&$D$5&\" and localMonth(\"&$D$12&\") =\"&$E$5&\" and LocalDay(\"&$D$12&\")=\"&$F$5&\" and Barix(\"&$D$12&\",reference:=StartOfSession)=\"&A67&\"\", \"Bar\", \"\", \"Close\",\"5\",\"0\",\"PrimaryOnly\",,,\"False\",\"T\",\"EveryTick\")","v":416.38},1.9914268218003663E-2,{"$f":"RTD(\"cqg.rtd\",,\"StudyData\", \"Close(\"&$D$12&\") when LocalYear(\"&$D$12&\")=\"&$D$6&\" and localMonth(\"&$D$12&\") =\"&$E$6&\" and LocalDay(\"&$D$12&\")=\"&$F$6&\" and Barix(\"&$D$12&\",reference:=StartOfSession)=\"&A67&\"\", \"Bar\", \"\", \"Close\",\"5\",\"0\",\"PrimaryOnly\",,,\"False\",\"T\",\"EveryTick\")","v":406.87},2.1285674841236023E-2,{"$f":"RTD(\"cqg.rtd\",,\"StudyData\", \"Close(\"&$D$12&\") when LocalYear(\"&$D$12&\")=\"&$D$7&\" and localMonth(\"&$D$12&\") =\"&$E$7&\" and LocalDay(\"&$D$12&\")=\"&$F$7&\" and Barix(\"&$D$12&\",reference:=StartOfSession)=\"&A67&\"\", \"Bar\", \"\", \"Close\",\"5\",\"0\",\"PrimaryOnly\",,,\"False\",\"T\",\"EveryTick\")","v":398.17},1.9589265594591915E-2,{"$f":"RTD(\"cqg.rtd\",,\"StudyData\", \"Close(\"&$D$12&\") when LocalYear(\"&$D$12&\")=\"&$D$8&\" and localMonth(\"&$D$12&\") =\"&$E$8&\" and LocalDay(\"&$D$12&\")=\"&$F$8&\" and Barix(\"&$D$12&\",reference:=StartOfSession)=\"&A67&\"\", \"Bar\", \"\", \"Close\",\"5\",\"0\",\"PrimaryOnly\",,,\"False\",\"T\",\"EveryTick\")","v":""},{"$error":"#N/A"},{"$f":"RTD(\"cqg.rtd\",,\"StudyData\", \"Close(\"&$D$12&\") when LocalYear(\"&$D$12&\")=\"&$D$9&\" and localMonth(\"&$D$12&\") =\"&$E$9&\" and LocalDay(\"&$D$12&\")=\"&$F$9&\" and Barix(\"&$D$12&\",reference:=StartOfSession)=\"&A67&\"\", \"Bar\", \"\", \"Close\",\"5\",\"0\",\"PrimaryOnly\",,,\"False\",\"T\",\"EveryTick\")","v":393.73},5.8758909639016208E-3,{"$f":"RTD(\"cqg.rtd\",,\"StudyData\", \"Close(\"&$D$12&\") when LocalYear(\"&$D$12&\")=\"&$D$10&\" and localMonth(\"&$D$12&\") =\"&$E$10&\" and LocalDay(\"&$D$12&\")=\"&$F$10&\" and Barix(\"&$D$12&\",reference:=StartOfSession)=\"&A67&\"\", \"Bar\", \"\", \"Close\",\"5\",\"0\",\"PrimaryOnly\",,,\"False\",\"T\",\"EveryTick\")","v":393.88},-3.8945930908907502E-3,null,null,null,{"$f":"IF(AND(H66<>\"\",H67<>\"\",H68=\"\"),A67,\"\")","v":""}]
[67,"14:05:00",-10,{"$f":" RTD(\"cqg.rtd\",,\"StudyData\", $D$12,  \"Tick\", \"FlatTicks=0\", \"Tick\",\"D\",C68,\"PrimaryOnly\")","v":400.7},null,null,null,{"$f":"RTD(\"cqg.rtd\",,\"StudyData\", \"Close(\"&$D$12&\") when LocalYear(\"&$D$12&\")=\"&$D$1&\" and localMonth(\"&$D$12&\") =\"&$E$1&\" and LocalDay(\"&$D$12&\")=\"&$F$1&\" and Barix(\"&$D$12&\",reference:=StartOfSession)=\"&A68&\"\", \"Bar\", \"\", \"Close\",\"5\",\"0\",\"PrimaryOnly\",,,\"False\",\"T\",\"EveryTick\")","v":""},{"$error":"#N/A"},{"$f":"RTD(\"cqg.rtd\",,\"StudyData\", \"Close(\"&$D$12&\") when LocalYear(\"&$D$12&\")=\"&$D$2&\" and localMonth(\"&$D$12&\") =\"&$E$2&\" and LocalDay(\"&$D$12&\")=\"&$F$2&\" and Barix(\"&$D$12&\",reference:=StartOfSession)=\"&A68&\"\", \"Bar\", \"\", \"Close\",\"5\",\"0\",\"PrimaryOnly\",,,\"False\",\"T\",\"EveryTick\")","v":412.62},-1.4403439627373636E-2,{"$f":"RTD(\"cqg.rtd\",,\"StudyData\", \"Close(\"&$D$12&\") when LocalYear(\"&$D$12&\")=\"&$D$3&\" and localMonth(\"&$D$12&\") =\"&$E$3&\" and LocalDay(\"&$D$12&\")=\"&$F$3&\" and Barix(\"&$D$12&\",reference:=StartOfSession)=\"&A68&\"\", \"Bar\", \"\", \"Close\",\"5\",\"0\",\"PrimaryOnly\",,,\"False\",\"T\",\"EveryTick\")","v":417.88},5.4134687101508551E-3,{"$f":"RTD(\"cqg.rtd\",,\"StudyData\", \"Close(\"&$D$12&\") when LocalYear(\"&$D$12&\")=\"&$D$4&\" and localMonth(\"&$D$12&\") =\"&$E$4&\" and LocalDay(\"&$D$12&\")=\"&$F$4&\" and Barix(\"&$D$12&\",reference:=StartOfSession)=\"&A68&\"\", \"Bar\", \"\", \"Close\",\"5\",\"0\",\"PrimaryOnly\",,,\"False\",\"T\",\"EveryTick\")","v":417.02},-4.654271188868046E-3,{"$f":"RTD(\"cqg.rtd\",,\"StudyData\", \"Close(\"&$D$12&\") when LocalYear(\"&$D$12&\")=\"&$D$5&\" and localMonth(\"&$D$12&\") =\"&$E$5&\" and LocalDay(\"&$D$12&\")=\"&$F$5&\" and Barix(\"&$D$12&\",reference:=StartOfSession)=\"&A68&\"\", \"Bar\", \"\", \"Close\",\"5\",\"0\",\"PrimaryOnly\",,,\"False\",\"T\",\"EveryTick\")","v":416.84},2.1041028781383895E-2,{"$f":"RTD(\"cqg.rtd\",,\"StudyData\", \"Close(\"&$D$12&\") when LocalYear(\"&$D$12&\")=\"&$D$6&\" and localMonth(\"&$D$12&\") =\"&$E$6&\" and LocalDay(\"&$D$12&\")=\"&$F$6&\" and Barix(\"&$D$12&\",reference:=StartOfSession)=\"&A68&\"\", \"Bar\", \"\", \"Close\",\"5\",\"0\",\"PrimaryOnly\",,,\"False\",\"T\",\"EveryTick\")","v":406.74},2.0959361429754821E-2,{"$f":"RTD(\"cqg.rtd\",,\"StudyData\", \"Close(\"&$D$12&\") when LocalYear(\"&$D$12&\")=\"&$D$7&\" and localMonth(\"&$D$12&\") =\"&$E$7&\" and LocalDay(\"&$D$12&\")=\"&$F$7&\" and Barix(\"&$D$12&\",reference:=StartOfSession)=\"&A68&\"\", \"Bar\", \"\", \"Close\",\"5\",\"0\",\"PrimaryOnly\",,,\"False\",\"T\",\"EveryTick\")","v":398.04},1.9256376113899517E-2,{"$f":"RTD(\"cqg.rtd\",,\"StudyData\", \"Close(\"&$D$12&\") when LocalYear(\"&$D$12&\")=\"&$D$8&\" and localMonth(\"&$D$12&\") =\"&$E$8&\" and LocalDay(\"&$D$12&\")=\"&$F$8&\" and Barix(\"&$D$12&\",reference:=StartOfSession)=\"&A68&\"\", \"Bar\", \"\", \"Close\",\"5\",\"0\",\"PrimaryOnly\",,,\"False\",\"T\",\"EveryTick\")","v":""},{"$error":"#N/A"},{"$f":"RTD(\"cqg.rtd\",,\"StudyData\", \"Close(\"&$D$12&\") when LocalYear(\"&$D$12&\")=\"&$D$9&\" and localMonth(\"&$D$12&\") =\"&$E$9&\" and LocalDay(\"&$D$12&\")=\"&$F$9&\" and Barix(\"&$D$12&\",reference:=StartOfSession)=\"&A68&\"\", \"Bar\", \"\", \"Close\",\"5\",\"0\",\"PrimaryOnly\",,,\"False\",\"T\",\"EveryTick\")","v":393.8},6.0547224280203468E-3,{"$f":"RTD(\"cqg.rtd\",,\"StudyData\", \"Close(\"&$D$12&\") when LocalYear(\"&$D$12&\")=\"&$D$10&\" and localMonth(\"&$D$12&\") =\"&$E$10&\" and LocalDay(\"&$D$12&\")=\"&$F$10&\" and Barix(\"&$D$12&\",reference:=StartOfSession)=\"&A68&\"\", \"Bar\", \"\", \"Close\",\"5\",\"0\",\"PrimaryOnly\",,,\"False\",\"T\",\"EveryTick\")","v":393.08},-5.9177583329119206E-3,null,null,null,""]
[68,"14:10:00",-9,{"$f":" RTD(\"cqg.rtd\",,\"StudyData\", $D$12,  \"Tick\", \"FlatTicks=0\", \"Tick\",\"D\",C69,\"PrimaryOnly\")","v":400.69},null,null,null,{"$f":"RTD(\"cqg.rtd\",,\"StudyData\", \"Close(\"&$D$12&\") when LocalYear(\"&$D$12&\")=\"&$D$1&\" and localMonth(\"&$D$12&\") =\"&$E$1&\" and LocalDay(\"&$D$12&\")=\"&$F$1&\" and Barix(\"&$D$12&\",reference:=StartOfSession)=\"&A69&\"\", \"Bar\", \"\", \"Close\",\"5\",\"0\",\"PrimaryOnly\",,,\"False\",\"T\",\"EveryTick\")","v":""},{"$error":"#N/A"},{"$f":"RTD(\"cqg.rtd\",,\"StudyData\", \"Close(\"&$D$12&\") when LocalYear(\"&$D$12&\")=\"&$D$2&\" and localMonth(\"&$D$12&\") =\"&$E$2&\" and LocalDay(\"&$D$12&\")=\"&$F$2&\" and Barix(\"&$D$12&\",reference:=StartOfSession)=\"&A69&\"\", \"Bar\", \"\", \"Close\",\"5\",\"0\",\"PrimaryOnly\",,,\"False\",\"T\",\"EveryTick\")","v":412.39},-1.4952824555117619E-2,{"$f":"RTD(\"cqg.rtd\",,\"StudyData\", \"Close(\"&$D$12&\") when LocalYear(\"&$D$12&\")=\"&$D$3&\" and localMonth(\"&$D$12&\") =\"&$E$3&\" and LocalDay(\"&$D$12&\")=\"&$F$3&\" and Barix(\"&$D$12&\",reference:=StartOfSession)=\"&A69&\"\", \"Bar\", \"\", \"Close\",\"5\",\"0\",\"PrimaryOnly\",,,\"False\",\"T\",\"EveryTick\")","v":417.93},5.533768014820902E-3,{"$f":"RTD(\"cqg.rtd\",,\"StudyData\", \"Close(\"&$D$12&\") when LocalYear(\"&$D$12&\")=\"&$D$4&\" and localMonth(\"&$D$12&\") =\"&$E$4&\" and LocalDay(\"&$D$12&\")=\"&$F$4&\" and Barix(\"&$D$12&\",reference:=StartOfSession)=\"&A69&\"\", \"Bar\", \"\", \"Close\",\"5\",\"0\",\"PrimaryOnly\",,,\"False\",\"T\",\"EveryTick\")","v":416.73},-5.3464448528534473E-3,{"$f":"RTD(\"cqg.rtd\",,\"StudyData\", \"Close(\"&$D$12&\") when LocalYear(\"&$D$12&\")=\"&$D$5&\" and localMonth(\"&$D$12&\") =\"&$E$5&\" and LocalDay(\"&$D$12&\")=\"&$F$5&\" and Barix(\"&$D$12&\",reference:=StartOfSession)=\"&A69&\"\", \"Bar\", \"\", \"Close\",\"5\",\"0\",\"PrimaryOnly\",,,\"False\",\"T\",\"EveryTick\")","v":416.7},2.0698101653398623E-2,{"$f":"RTD(\"cqg.rtd\",,\"StudyData\", \"Close(\"&$D$12&\") when LocalYear(\"&$D$12&\")=\"&$D$6&\" and localMonth(\"&$D$12&\") =\"&$E$6&\" and LocalDay(\"&$D$12&\")=\"&$F$6&\" and Barix(\"&$D$12&\",reference:=StartOfSession)=\"&A69&\"\", \"Bar\", \"\", \"Close\",\"5\",\"0\",\"PrimaryOnly\",,,\"False\",\"T\",\"EveryTick\")","v":406.78},2.1059765556364334E-2,{"$f":"RTD(\"cqg.rtd\",,\"StudyData\", \"Close(\"&$D$12&\") when LocalYear(\"&$D$12&\")=\"&$D$7&\" and localMonth(\"&$D$12&\") =\"&$E$7&\" and LocalDay(\"&$D$12&\")=\"&$F$7&\" and Barix(\"&$D$12&\",reference:=StartOfSession)=\"&A69&\"\", \"Bar\", \"\", \"Close\",\"5\",\"0\",\"PrimaryOnly\",,,\"False\",\"T\",\"EveryTick\")","v":398.06},1.9307589880159841E-2,{"$f":"RTD(\"cqg.rtd\",,\"StudyData\", \"Close(\"&$D$12&\") when LocalYear(\"&$D$12&\")=\"&$D$8&\" and localMonth(\"&$D$12&\") =\"&$E$8&\" and LocalDay(\"&$D$12&\")=\"&$F$8&\" and Barix(\"&$D$12&\",reference:=StartOfSession)=\"&A69&\"\", \"Bar\", \"\", \"Close\",\"5\",\"0\",\"PrimaryOnly\",,,\"False\",\"T\",\"EveryTick\")","v":""},{"$error":"#N/A"},{"$f":"RTD(\"cqg.rtd\",,\"StudyData\", \"Close(\"&$D$12&\") when LocalYear(\"&$D$12&\")=\"&$D$9&\" and localMonth(\"&$D$12&\") =\"&$E$9&\" and LocalDay(\"&$D$12&\")=\"&$F$9&\" and Barix(\"&$D$12&\",reference:=StartOfSession)=\"&A69&\"\", \"Bar\", \"\", \"Close\",\"5\",\"0\",\"PrimaryOnly\",,,\"False\",\"T\",\"EveryTick\")","v":394.13},6.8977850445801001E-3,{"$f":"RTD(\"cqg.rtd\",,\"StudyData\", \"Close(\"&$D$12&\") when LocalYear(\"&$D$12&\")=\"&$D$10&\" and localMonth(\"&$D$12&\") =\"&$E$10&\" and LocalDay(\"&$D$12&\")=\"&$F$10&\" and Barix(\"&$D$12&\",reference:=StartOfSession)=\"&A69&\"\", \"Bar\", \"\", \"Close\",\"5\",\"0\",\"PrimaryOnly\",,,\"False\",\"T\",\"EveryTick\")","v":393.14},-5.7660209397603296E-3,null,null,null,""]
[69,"14:15:00",-8,{"$f":" RTD(\"cqg.rtd\",,\"StudyData\", $D$12,  \"Tick\", \"FlatTicks=0\", \"Tick\",\"D\",C70,\"PrimaryOnly\")","v":400.68},null,null,null,{"$f":"RTD(\"cqg.rtd\",,\"StudyData\", \"Close(\"&$D$12&\") when LocalYear(\"&$D$12&\")=\"&$D$1&\" and localMonth(\"&$D$12&\") =\"&$E$1&\" and LocalDay(\"&$D$12&\")=\"&$F$1&\" and Barix(\"&$D$12&\",reference:=StartOfSession)=\"&A70&\"\", \"Bar\", \"\", \"Close\",\"5\",\"0\",\"PrimaryOnly\",,,\"False\",\"T\",\"EveryTick\")","v":""},{"$error":"#N/A"},{"$f":"RTD(\"cqg.rtd\",,\"StudyData\", \"Close(\"&$D$12&\") when LocalYear(\"&$D$12&\")=\"&$D$2&\" and localMonth(\"&$D$12&\") =\"&$E$2&\" and LocalDay(\"&$D$12&\")=\"&$F$2&\" and Barix(\"&$D$12&\",reference:=StartOfSession)=\"&A70&\"\", \"Bar\", \"\", \"Close\",\"5\",\"0\",\"PrimaryOnly\",,,\"False\",\"T\",\"EveryTick\")","v":411.79},-1.638600262749303E-2,{"$f":"RTD(\"cqg.rtd\",,\"StudyData\", \"Close(\"&$D$12&\") when LocalYear(\"&$D$12&\")=\"&$D$3&\" and localMonth(\"&$D$12&\") =\"&$E$3&\" and LocalDay(\"&$D$12&\")=\"&$F$3&\" and Barix(\"&$D$12&\",reference:=StartOfSession)=\"&A70&\"\", \"Bar\", \"\", \"Close\",\"5\",\"0\",\"PrimaryOnly\",,,\"False\",\"T\",\"EveryTick\")","v":417.7},4.9803912133387709E-3,{"$f":"RTD(\"cqg.rtd\",,\"StudyData\", \"Close(\"&$D$12&\") when LocalYear(\"&$D$12&\")=\"&$D$4&\" and localMonth(\"&$D$12&\") =\"&$E$4&\" and LocalDay(\"&$D$12&\")=\"&$F$4&\" and Barix(\"&$D$12&\",reference:=StartOfSession)=\"&A70&\"\", \"Bar\", \"\", \"Close\",\"5\",\"0\",\"PrimaryOnly\",,,\"False\",\"T\",\"EveryTick\")","v":416.55},-5.7760698856720426E-3,{"$f":"RTD(\"cqg.rtd\",,\"StudyData\", \"Close(\"&$D$12&\") when LocalYear(\"&$D$12&\")=\"&$D$5&\" and localMonth(\"&$D$12&\") =\"&$E$5&\" and LocalDay(\"&$D$12&\")=\"&$F$5&\" and Barix(\"&$D$12&\",reference:=StartOfSession)=\"&A70&\"\", \"Bar\", \"\", \"Close\",\"5\",\"0\",\"PrimaryOnly\",,,\"False\",\"T\",\"EveryTick\")","v":416.23},1.9546846295162321E-2,{"$f":"RTD(\"cqg.rtd\",,\"StudyData\", \"Close(\"&$D$12&\") when LocalYear(\"&$D$12&\")=\"&$D$6&\" and localMonth(\"&$D$12&\") =\"&$E$6&\" and LocalDay(\"&$D$12&\")=\"&$F$6&\" and Barix(\"&$D$12&\",reference:=StartOfSession)=\"&A70&\"\", \"Bar\", \"\", \"Close\",\"5\",\"0\",\"PrimaryOnly\",,,\"False\",\"T\",\"EveryTick\")","v":406.83},2.1185270714626368E-2,{"$f":"RTD(\"cqg.rtd\",,\"StudyData\", \"Close(\"&$D$12&\") when LocalYear(\"&$D$12&\")=\"&$D$7&\" and localMonth(\"&$D$12&\") =\"&$E$7&\" and LocalDay(\"&$D$12&\")=\"&$F$7&\" and Barix(\"&$D$12&\",reference:=StartOfSession)=\"&A70&\"\", \"Bar\", \"\", \"Close\",\"5\",\"0\",\"PrimaryOnly\",,,\"False\",\"T\",\"EveryTick\")","v":397.86},1.8795452217556161E-2,{"$f":"RTD(\"cqg.rtd\",,\"StudyData\", \"Close(\"&$D$12&\") when LocalYear(\"&$D$12&\")=\"&$D$8&\" and localMonth(\"&$D$12&\") =\"&$E$8&\" and LocalDay(\"&$D$12&\")=\"&$F$8&\" and Barix(\"&$D$12&\",reference:=StartOfSession)=\"&A70&\"\", \"Bar\", \"\", \"Close\",\"5\",\"0\",\"PrimaryOnly\",,,\"False\",\"T\",\"EveryTick\")","v":""},{"$error":"#N/A"},{"$f":"RTD(\"cqg.rtd\",,\"StudyData\", \"Close(\"&$D$12&\") when LocalYear(\"&$D$12&\")=\"&$D$9&\" and localMonth(\"&$D$12&\") =\"&$E$9&\" and LocalDay(\"&$D$12&\")=\"&$F$9&\" and Barix(\"&$D$12&\",reference:=StartOfSession)=\"&A70&\"\", \"Bar\", \"\", \"Close\",\"5\",\"0\",\"PrimaryOnly\",,,\"False\",\"T\",\"EveryTick\")","v":394.01},6.5912168203765276E-3,{"$f":"RTD(\"cqg.rtd\",,\"StudyData\", \"Close(\"&$D$12&\") when LocalYear(\"&$D$12&\")=\"&$D$10&\" and localMonth(\"&$D$12&\") =\"&$E$10&\" and LocalDay(\"&$D$12&\")=\"&$F$10&\" and Barix(\"&$D$12&\",reference:=StartOfSession)=\"&A70&\"\", \"Bar\", \"\", \"Close\",\"5\",\"0\",\"PrimaryOnly\",,,\"False\",\"T\",\"EveryTick\")","v":392.29},-7.9156340094077068E-3,null,null,null,""]
[70,"14:20:00",-7,{"$f":" RTD(\"cqg.rtd\",,\"StudyData\", $D$12,  \"Tick\", \"FlatTicks=0\", \"Tick\",\"D\",C71,\"PrimaryOnly\")","v":400.69},null,null,null,{"$f":"RTD(\"cqg.rtd\",,\"StudyData\", \"Close(\"&$D$12&\") when LocalYear(\"&$D$12&\")=\"&$D$1&\" and localMonth(\"&$D$12&\") =\"&$E$1&\" and LocalDay(\"&$D$12&\")=\"&$F$1&\" and Barix(\"&$D$12&\",reference:=StartOfSession)=\"&A71&\"\", \"Bar\", \"\", \"Close\",\"5\",\"0\",\"PrimaryOnly\",,,\"False\",\"T\",\"EveryTick\")","v":""},{"$error":"#N/A"},{"$f":"RTD(\"cqg.rtd\",,\"StudyData\", \"Close(\"&$D$12&\") when LocalYear(\"&$D$12&\")=\"&$D$2&\" and localMonth(\"&$D$12&\") =\"&$E$2&\" and LocalDay(\"&$D$12&\")=\"&$F$2&\" and Barix(\"&$D$12&\",reference:=StartOfSession)=\"&A71&\"\", \"Bar\", \"\", \"Close\",\"5\",\"0\",\"PrimaryOnly\",,,\"False\",\"T\",\"EveryTick\")","v":411.21},-1.7771408097456105E-2,{"$f":"RTD(\"cqg.rtd\",,\"StudyData\", \"Close(\"&$D$12&\") when LocalYear(\"&$D$12&\")=\"&$D$3&\" and localMonth(\"&$D$12&\") =\"&$E$3&\" and LocalDay(\"&$D$12&\")=\"&$F$3&\" and Barix(\"&$D$12&\",reference:=StartOfSession)=\"&A71&\"\", \"Bar\", \"\", \"Close\",\"5\",\"0\",\"PrimaryOnly\",,,\"False\",\"T\",\"EveryTick\")","v":417.73},5.052570796140853E-3,{"$f":"RTD(\"cqg.rtd\",,\"StudyData\", \"Close(\"&$D$12&\") when LocalYear(\"&$D$12&\")=\"&$D$4&\" and localMonth(\"&$D$12&\") =\"&$E$4&\" and LocalDay(\"&$D$12&\")=\"&$F$4&\" and Barix(\"&$D$12&\",reference:=StartOfSession)=\"&A71&\"\", \"Bar\", \"\", \"Close\",\"5\",\"0\",\"PrimaryOnly\",,,\"False\",\"T\",\"EveryTick\")","v":415.92},-7.2797575005370575E-3,{"$f":"RTD(\"cqg.rtd\",,\"StudyData\", \"Close(\"&$D$12&\") when LocalYear(\"&$D$12&\")=\"&$D$5&\" and localMonth(\"&$D$12&\") =\"&$E$5&\" and LocalDay(\"&$D$12&\")=\"&$F$5&\" and Barix(\"&$D$12&\",reference:=StartOfSession)=\"&A71&\"\", \"Bar\", \"\", \"Close\",\"5\",\"0\",\"PrimaryOnly\",,,\"False\",\"T\",\"EveryTick\")","v":416.54},2.0306184935701212E-2,{"$f":"RTD(\"cqg.rtd\",,\"StudyData\", \"Close(\"&$D$12&\") when LocalYear(\"&$D$12&\")=\"&$D$6&\" and localMonth(\"&$D$12&\") =\"&$E$6&\" and LocalDay(\"&$D$12&\")=\"&$F$6&\" and Barix(\"&$D$12&\",reference:=StartOfSession)=\"&A71&\"\", \"Bar\", \"\", \"Close\",\"5\",\"0\",\"PrimaryOnly\",,,\"False\",\"T\",\"EveryTick\")","v":406.96},2.1511584126107566E-2,{"$f":"RTD(\"cqg.rtd\",,\"StudyData\", \"Close(\"&$D$12&\") when LocalYear(\"&$D$12&\")=\"&$D$7&\" and localMonth(\"&$D$12&\") =\"&$E$7&\" and LocalDay(\"&$D$12&\")=\"&$F$7&\" and Barix(\"&$D$12&\",reference:=StartOfSession)=\"&A71&\"\", \"Bar\", \"\", \"Close\",\"5\",\"0\",\"PrimaryOnly\",,,\"False\",\"T\",\"EveryTick\")","v":397.5},1.7873604424869453E-2,{"$f":"RTD(\"cqg.rtd\",,\"StudyData\", \"Close(\"&$D$12&\") when LocalYear(\"&$D$12&\")=\"&$D$8&\" and localMonth(\"&$D$12&\") =\"&$E$8&\" and LocalDay(\"&$D$12&\")=\"&$F$8&\" and Barix(\"&$D$12&\",reference:=StartOfSession)=\"&A71&\"\", \"Bar\", \"\", \"Close\",\"5\",\"0\",\"PrimaryOnly\",,,\"False\",\"T\",\"EveryTick\")","v":""},{"$error":"#N/A"},{"$f":"RTD(\"cqg.rtd\",,\"StudyData\", \"Close(\"&$D$12&\") when LocalYear(\"&$D$12&\")=\"&$D$9&\" and localMonth(\"&$D$12&\") =\"&$E$9&\" and LocalDay(\"&$D$12&\")=\"&$F$9&\" and Barix(\"&$D$12&\",reference:=StartOfSession)=\"&A71&\"\", \"Bar\", \"\", \"Close\",\"5\",\"0\",\"PrimaryOnly\",,,\"False\",\"T\",\"EveryTick\")","v":394.38},7.5364688450041857E-3,{"$f":"RTD(\"cqg.rtd\",,\"StudyData\", \"Close(\"&$D$12&\") when LocalYear(\"&$D$12&\")=\"&$D$10&\" and localMonth(\"&$D$12&\") =\"&$E$10&\" and LocalDay(\"&$D$12&\")=\"&$F$10&\" and Barix(\"&$D$12&\",reference:=StartOfSession)=\"&A71&\"\", \"Bar\", \"\", \"Close\",\"5\",\"0\",\"PrimaryOnly\",,,\"False\",\"T\",\"EveryTick\")","v":392.04},-8.5478731475393133E-3,null,null,null,""]
[71,"14:25:00",-6,{"$f":" RTD(\"cqg.rtd\",,\"StudyData\", $D$12,  \"Tick\", \"FlatTicks=0\", \"Tick\",\"D\",C72,\"PrimaryOnly\")","v":400.63},null,null,null,{"$f":"RTD(\"cqg.rtd\",,\"StudyData\", \"Close(\"&$D$12&\") when LocalYear(\"&$D$12&\")=\"&$D$1&\" and localMonth(\"&$D$12&\") =\"&$E$1&\" and LocalDay(\"&$D$12&\")=\"&$F$1&\" and Barix(\"&$D$12&\",reference:=StartOfSession)=\"&A72&\"\", \"Bar\", \"\", \"Close\",\"5\",\"0\",\"PrimaryOnly\",,,\"False\",\"T\",\"EveryTick\")","v":""},{"$error":"#N/A"},{"$f":"RTD(\"cqg.rtd\",,\"StudyData\", \"Close(\"&$D$12&\") when LocalYear(\"&$D$12&\")=\"&$D$2&\" and localMonth(\"&$D$12&\") =\"&$E$2&\" and LocalDay(\"&$D$12&\")=\"&$F$2&\" and Barix(\"&$D$12&\",reference:=StartOfSession)=\"&A72&\"\", \"Bar\", \"\", \"Close\",\"5\",\"0\",\"PrimaryOnly\",,,\"False\",\"T\",\"EveryTick\")","v":412.48},-1.4737847844261218E-2,{"$f":"RTD(\"cqg.rtd\",,\"StudyData\", \"Close(\"&$D$12&\") when LocalYear(\"&$D$12&\")=\"&$D$3&\" and localMonth(\"&$D$12&\") =\"&$E$3&\" and LocalDay(\"&$D$12&\")=\"&$F$3&\" and Barix(\"&$D$12&\",reference:=StartOfSession)=\"&A72&\"\", \"Bar\", \"\", \"Close\",\"5\",\"0\",\"PrimaryOnly\",,,\"False\",\"T\",\"EveryTick\")","v":417.51},4.523253855592704E-3,{"$f":"RTD(\"cqg.rtd\",,\"StudyData\", \"Close(\"&$D$12&\") when LocalYear(\"&$D$12&\")=\"&$D$4&\" and localMonth(\"&$D$12&\") =\"&$E$4&\" and LocalDay(\"&$D$12&\")=\"&$F$4&\" and Barix(\"&$D$12&\",reference:=StartOfSession)=\"&A72&\"\", \"Bar\", \"\", \"Close\",\"5\",\"0\",\"PrimaryOnly\",,,\"False\",\"T\",\"EveryTick\")","v":415.33},-8.6879728858869198E-3,{"$f":"RTD(\"cqg.rtd\",,\"StudyData\", \"Close(\"&$D$12&\") when LocalYear(\"&$D$12&\")=\"&$D$5&\" and localMonth(\"&$D$12&\") =\"&$E$5&\" and LocalDay(\"&$D$12&\")=\"&$F$5&\" and Barix(\"&$D$12&\",reference:=StartOfSession)=\"&A72&\"\", \"Bar\", \"\", \"Close\",\"5\",\"0\",\"PrimaryOnly\",,,\"False\",\"T\",\"EveryTick\")","v":416.37},1.9889773423147593E-2,{"$f":"RTD(\"cqg.rtd\",,\"StudyData\", \"Close(\"&$D$12&\") when LocalYear(\"&$D$12&\")=\"&$D$6&\" and localMonth(\"&$D$12&\") =\"&$E$6&\" and LocalDay(\"&$D$12&\")=\"&$F$6&\" and Barix(\"&$D$12&\",reference:=StartOfSession)=\"&A72&\"\", \"Bar\", \"\", \"Close\",\"5\",\"0\",\"PrimaryOnly\",,,\"False\",\"T\",\"EveryTick\")","v":407.05},2.1737493410979254E-2,{"$f":"RTD(\"cqg.rtd\",,\"StudyData\", \"Close(\"&$D$12&\") when LocalYear(\"&$D$12&\")=\"&$D$7&\" and localMonth(\"&$D$12&\") =\"&$E$7&\" and LocalDay(\"&$D$12&\")=\"&$F$7&\" and Barix(\"&$D$12&\",reference:=StartOfSession)=\"&A72&\"\", \"Bar\", \"\", \"Close\",\"5\",\"0\",\"PrimaryOnly\",,,\"False\",\"T\",\"EveryTick\")","v":397.63},1.8206493905561852E-2,{"$f":"RTD(\"cqg.rtd\",,\"StudyData\", \"Close(\"&$D$12&\") when LocalYear(\"&$D$12&\")=\"&$D$8&\" and localMonth(\"&$D$12&\") =\"&$E$8&\" and LocalDay(\"&$D$12&\")=\"&$F$8&\" and Barix(\"&$D$12&\",reference:=StartOfSession)=\"&A72&\"\", \"Bar\", \"\", \"Close\",\"5\",\"0\",\"PrimaryOnly\",,,\"False\",\"T\",\"EveryTick\")","v":""},{"$error":"#N/A"},{"$f":"RTD(\"cqg.rtd\",,\"StudyData\", \"Close(\"&$D$12&\") when LocalYear(\"&$D$12&\")=\"&$D$9&\" and localMonth(\"&$D$12&\") =\"&$E$9&\" and LocalDay(\"&$D$12&\")=\"&$F$9&\" and Barix(\"&$D$12&\",reference:=StartOfSession)=\"&A72&\"\", \"Bar\", \"\", \"Close\",\"5\",\"0\",\"PrimaryOnly\",,,\"False\",\"T\",\"EveryTick\")","v":395.07},9.2992361341746581E-3,{"$f":"RTD(\"cqg.rtd\",,\"StudyData\", \"Close(\"&$D$12&\") when LocalYear(\"&$D$12&\")=\"&$D$10&\" and localMonth(\"&$D$12&\") =\"&$E$10&\" and LocalDay(\"&$D$12&\")=\"&$F$10&\" and Barix(\"&$D$12&\",reference:=StartOfSession)=\"&A72&\"\", \"Bar\", \"\", \"Close\",\"5\",\"0\",\"PrimaryOnly\",,,\"False\",\"T\",\"EveryTick\")","v":392.68},-6.9293409539224341E-3,null,null,null,""]
[72,"14:30:00",-5,{"$f":" RTD(\"cqg.rtd\",,\"StudyData\", $D$12,  \"Tick\", \"FlatTicks=0\", \"Tick\",\"D\",C73,\"PrimaryOnly\")","v":400.67},null,null,null,{"$f":"RTD(\"cqg.rtd\",,\"StudyData\", \"Close(\"&$D$12&\") when LocalYear(\"&$D$12&\")=\"&$D$1&\" and localMonth(\"&$D$12&\") =\"&$E$1&\" and LocalDay(\"&$D$12&\")=\"&$F$1&\" and Barix(\"&$D$12&\",reference:=StartOfSession)=\"&A73&\"\", \"Bar\", \"\", \"Close\",\"5\",\"0\",\"PrimaryOnly\",,,\"False\",\"T\",\"EveryTick\")","v":""},{"$error":"#N/A"},{"$f":"RTD(\"cqg.rtd\",,\"StudyData\", \"Close(\"&$D$12&\") when LocalYear(\"&$D$12&\")=\"&$D$2&\" and localMonth(\"&$D$12&\") =\"&$E$2&\" and LocalDay(\"&$D$12&\")=\"&$F$2&\" and Barix(\"&$D$12&\",reference:=StartOfSession)=\"&A73&\"\", \"Bar\", \"\", \"Close\",\"5\",\"0\",\"PrimaryOnly\",,,\"False\",\"T\",\"EveryTick\")","v":412.78},-1.4021258808073582E-2,{"$f":"RTD(\"cqg.rtd\",,\"StudyData\", \"Close(\"&$D$12&\") when LocalYear(\"&$D$12&\")=\"&$D$3&\" and localMonth(\"&$D$12&\") =\"&$E$3&\" and LocalDay(\"&$D$12&\")=\"&$F$3&\" and Barix(\"&$D$12&\",reference:=StartOfSession)=\"&A73&\"\", \"Bar\", \"\", \"Close\",\"5\",\"0\",\"PrimaryOnly\",,,\"False\",\"T\",\"EveryTick\")","v":418.36},6.568342034983082E-3,{"$f":"RTD(\"cqg.rtd\",,\"StudyData\", \"Close(\"&$D$12&\") when LocalYear(\"&$D$12&\")=\"&$D$4&\" and localMonth(\"&$D$12&\") =\"&$E$4&\" and LocalDay(\"&$D$12&\")=\"&$F$4&\" and Barix(\"&$D$12&\",reference:=StartOfSession)=\"&A73&\"\", \"Bar\", \"\", \"Close\",\"5\",\"0\",\"PrimaryOnly\",,,\"False\",\"T\",\"EveryTick\")","v":416.54},-5.7999379430508308E-3,{"$f":"RTD(\"cqg.rtd\",,\"StudyData\", \"Close(\"&$D$12&\") when LocalYear(\"&$D$12&\")=\"&$D$5&\" and localMonth(\"&$D$12&\") =\"&$E$5&\" and LocalDay(\"&$D$12&\")=\"&$F$5&\" and Barix(\"&$D$12&\",reference:=StartOfSession)=\"&A73&\"\", \"Bar\", \"\", \"Close\",\"5\",\"0\",\"PrimaryOnly\",,,\"False\",\"T\",\"EveryTick\")","v":416.82},2.0992039191671752E-2,{"$f":"RTD(\"cqg.rtd\",,\"StudyData\", \"Close(\"&$D$12&\") when LocalYear(\"&$D$12&\")=\"&$D$6&\" and localMonth(\"&$D$12&\") =\"&$E$6&\" and LocalDay(\"&$D$12&\")=\"&$F$6&\" and Barix(\"&$D$12&\",reference:=StartOfSession)=\"&A73&\"\", \"Bar\", \"\", \"Close\",\"5\",\"0\",\"PrimaryOnly\",,,\"False\",\"T\",\"EveryTick\")","v":407.35},2.2490524360551312E-2,{"$f":"RTD(\"cqg.rtd\",,\"StudyData\", \"Close(\"&$D$12&\") when LocalYear(\"&$D$12&\")=\"&$D$7&\" and localMonth(\"&$D$12&\") =\"&$E$7&\" and LocalDay(\"&$D$12&\")=\"&$F$7&\" and Barix(\"&$D$12&\",reference:=StartOfSession)=\"&A73&\"\", \"Bar\", \"\", \"Close\",\"5\",\"0\",\"PrimaryOnly\",,,\"False\",\"T\",\"EveryTick\")","v":397.84},1.8744238451295692E-2,{"$f":"RTD(\"cqg.rtd\",,\"StudyData\", \"Close(\"&$D$12&\") when LocalYear(\"&$D$12&\")=\"&$D$8&\" and localMonth(\"&$D$12&\") =\"&$E$8&\" and LocalDay(\"&$D$12&\")=\"&$F$8&\" and Barix(\"&$D$12&\",reference:=StartOfSession)=\"&A73&\"\", \"Bar\", \"\", \"Close\",\"5\",\"0\",\"PrimaryOnly\",,,\"False\",\"T\",\"EveryTick\")","v":""},{"$error":"#N/A"},{"$f":"RTD(\"cqg.rtd\",,\"StudyData\", \"Close(\"&$D$12&\") when LocalYear(\"&$D$12&\")=\"&$D$9&\" and localMonth(\"&$D$12&\") =\"&$E$9&\" and LocalDay(\"&$D$12&\")=\"&$F$9&\" and Barix(\"&$D$12&\",reference:=StartOfSession)=\"&A73&\"\", \"Bar\", \"\", \"Close\",\"5\",\"0\",\"PrimaryOnly\",,,\"False\",\"T\",\"EveryTick\")","v":395.43},1.0218940806785377E-2,{"$f":"RTD(\"cqg.rtd\",,\"StudyData\", \"Close(\"&$D$12&\") when LocalYear(\"&$D$12&\")=\"&$D$10&\" and localMonth(\"&$D$12&\") =\"&$E$10&\" and LocalDay(\"&$D$12&\")=\"&$F$10&\" and Barix(\"&$D$12&\",reference:=StartOfSession)=\"&A73&\"\", \"Bar\", \"\", \"Close\",\"5\",\"0\",\"PrimaryOnly\",,,\"False\",\"T\",\"EveryTick\")","v":391},-1.117798796216685E-2,null,null,null,""]
[73,"14:35:00",-4,{"$f":" RTD(\"cqg.rtd\",,\"StudyData\", $D$12,  \"Tick\", \"FlatTicks=0\", \"Tick\",\"D\",C74,\"PrimaryOnly\")","v":400.72},null,null,null,{"$f":"RTD(\"cqg.rtd\",,\"StudyData\", \"Close(\"&$D$12&\") when LocalYear(\"&$D$12&\")=\"&$D$1&\" and localMonth(\"&$D$12&\") =\"&$E$1&\" and LocalDay(\"&$D$12&\")=\"&$F$1&\" and Barix(\"&$D$12&\",reference:=StartOfSession)=\"&A74&\"\", \"Bar\", \"\", \"Close\",\"5\",\"0\",\"PrimaryOnly\",,,\"False\",\"T\",\"EveryTick\")","v":""},{"$error":"#N/A"},{"$f":"RTD(\"cqg.rtd\",,\"StudyData\", \"Close(\"&$D$12&\") when LocalYear(\"&$D$12&\")=\"&$D$2&\" and localMonth(\"&$D$12&\") =\"&$E$2&\" and LocalDay(\"&$D$12&\")=\"&$F$2&\" and Barix(\"&$D$12&\",reference:=StartOfSession)=\"&A74&\"\", \"Bar\", \"\", \"Close\",\"5\",\"0\",\"PrimaryOnly\",,,\"False\",\"T\",\"EveryTick\")","v":412.37},-1.5000597157530092E-2,{"$f":"RTD(\"cqg.rtd\",,\"StudyData\", \"Close(\"&$D$12&\") when LocalYear(\"&$D$12&\")=\"&$D$3&\" and localMonth(\"&$D$12&\") =\"&$E$3&\" and LocalDay(\"&$D$12&\")=\"&$F$3&\" and Barix(\"&$D$12&\",reference:=StartOfSession)=\"&A74&\"\", \"Bar\", \"\", \"Close\",\"5\",\"0\",\"PrimaryOnly\",,,\"False\",\"T\",\"EveryTick\")","v":418.83},7.699155498881189E-3,{"$f":"RTD(\"cqg.rtd\",,\"StudyData\", \"Close(\"&$D$12&\") when LocalYear(\"&$D$12&\")=\"&$D$4&\" and localMonth(\"&$D$12&\") =\"&$E$4&\" and LocalDay(\"&$D$12&\")=\"&$F$4&\" and Barix(\"&$D$12&\",reference:=StartOfSession)=\"&A74&\"\", \"Bar\", \"\", \"Close\",\"5\",\"0\",\"PrimaryOnly\",,,\"False\",\"T\",\"EveryTick\")","v":416.1},-6.850132467718463E-3,{"$f":"RTD(\"cqg.rtd\",,\"StudyData\", \"Close(\"&$D$12&\") when LocalYear(\"&$D$12&\")=\"&$D$5&\" and localMonth(\"&$D$12&\") =\"&$E$5&\" and LocalDay(\"&$D$12&\")=\"&$F$5&\" and Barix(\"&$D$12&\",reference:=StartOfSession)=\"&A74&\"\", \"Bar\", \"\", \"Close\",\"5\",\"0\",\"PrimaryOnly\",,,\"False\",\"T\",\"EveryTick\")","v":416.61},2.047764849969385E-2,{"$f":"RTD(\"cqg.rtd\",,\"StudyData\", \"Close(\"&$D$12&\") when LocalYear(\"&$D$12&\")=\"&$D$6&\" and localMonth(\"&$D$12&\") =\"&$E$6&\" and LocalDay(\"&$D$12&\")=\"&$F$6&\" and Barix(\"&$D$12&\",reference:=StartOfSession)=\"&A74&\"\", \"Bar\", \"\", \"Close\",\"5\",\"0\",\"PrimaryOnly\",,,\"False\",\"T\",\"EveryTick\")","v":407.57},2.3042747056904057E-2,{"$f":"RTD(\"cqg.rtd\",,\"StudyData\", \"Close(\"&$D$12&\") when LocalYear(\"&$D$12&\")=\"&$D$7&\" and localMonth(\"&$D$12&\") =\"&$E$7&\" and LocalDay(\"&$D$12&\")=\"&$F$7&\" and Barix(\"&$D$12&\",reference:=StartOfSession)=\"&A74&\"\", \"Bar\", \"\", \"Close\",\"5\",\"0\",\"PrimaryOnly\",,,\"False\",\"T\",\"EveryTick\")","v":397.58},1.8078459489910895E-2,{"$f":"RTD(\"cqg.rtd\",,\"StudyData\", \"Close(\"&$D$12&\") when LocalYear(\"&$D$12&\")=\"&$D$8&\" and localMonth(\"&$D$12&\") =\"&$E$8&\" and LocalDay(\"&$D$12&\")=\"&$F$8&\" and Barix(\"&$D$12&\",reference:=StartOfSession)=\"&A74&\"\", \"Bar\", \"\", \"Close\",\"5\",\"0\",\"PrimaryOnly\",,,\"False\",\"T\",\"EveryTick\")","v":""},{"$error":"#N/A"},{"$f":"RTD(\"cqg.rtd\",,\"StudyData\", \"Close(\"&$D$12&\") when LocalYear(\"&$D$12&\")=\"&$D$9&\" and localMonth(\"&$D$12&\") =\"&$E$9&\" and LocalDay(\"&$D$12&\")=\"&$F$9&\" and Barix(\"&$D$12&\",reference:=StartOfSession)=\"&A74&\"\", \"Bar\", \"\", \"Close\",\"5\",\"0\",\"PrimaryOnly\",,,\"False\",\"T\",\"EveryTick\")","v":395.98},1.1624045167718394E-2,{"$f":"RTD(\"cqg.rtd\",,\"StudyData\", \"Close(\"&$D$12&\") when LocalYear(\"&$D$12&\")=\"&$D$10&\" and localMonth(\"&$D$12&\") =\"&$E$10&\" and LocalDay(\"&$D$12&\")=\"&$F$10&\" and Barix(\"&$D$12&\",reference:=StartOfSession)=\"&A74&\"\", \"Bar\", \"\", \"Close\",\"5\",\"0\",\"PrimaryOnly\",,,\"False\",\"T\",\"EveryTick\")","v":391.12},-1.0874513175863666E-2,null,null,null,""]
[74,"14:40:00",-3,{"$f":" RTD(\"cqg.rtd\",,\"StudyData\", $D$12,  \"Tick\", \"FlatTicks=0\", \"Tick\",\"D\",C75,\"PrimaryOnly\")","v":400.73},null,null,null,{"$f":"RTD(\"cqg.rtd\",,\"StudyData\", \"Close(\"&$D$12&\") when LocalYear(\"&$D$12&\")=\"&$D$1&\" and localMonth(\"&$D$12&\") =\"&$E$1&\" and LocalDay(\"&$D$12&\")=\"&$F$1&\" and Barix(\"&$D$12&\",reference:=StartOfSession)=\"&A75&\"\", \"Bar\", \"\", \"Close\",\"5\",\"0\",\"PrimaryOnly\",,,\"False\",\"T\",\"EveryTick\")","v":""},{"$error":"#N/A"},{"$f":"RTD(\"cqg.rtd\",,\"StudyData\", \"Close(\"&$D$12&\") when LocalYear(\"&$D$12&\")=\"&$D$2&\" and localMonth(\"&$D$12&\") =\"&$E$2&\" and LocalDay(\"&$D$12&\")=\"&$F$2&\" and Barix(\"&$D$12&\",reference:=StartOfSession)=\"&A75&\"\", \"Bar\", \"\", \"Close\",\"5\",\"0\",\"PrimaryOnly\",,,\"False\",\"T\",\"EveryTick\")","v":412.61},-1.4427325928579874E-2,{"$f":"RTD(\"cqg.rtd\",,\"StudyData\", \"Close(\"&$D$12&\") when LocalYear(\"&$D$12&\")=\"&$D$3&\" and localMonth(\"&$D$12&\") =\"&$E$3&\" and LocalDay(\"&$D$12&\")=\"&$F$3&\" and Barix(\"&$D$12&\",reference:=StartOfSession)=\"&A75&\"\", \"Bar\", \"\", \"Close\",\"5\",\"0\",\"PrimaryOnly\",,,\"False\",\"T\",\"EveryTick\")","v":418.93},7.9397541082212812E-3,{"$f":"RTD(\"cqg.rtd\",,\"StudyData\", \"Close(\"&$D$12&\") when LocalYear(\"&$D$12&\")=\"&$D$4&\" and localMonth(\"&$D$12&\") =\"&$E$4&\" and LocalDay(\"&$D$12&\")=\"&$F$4&\" and Barix(\"&$D$12&\",reference:=StartOfSession)=\"&A75&\"\", \"Bar\", \"\", \"Close\",\"5\",\"0\",\"PrimaryOnly\",,,\"False\",\"T\",\"EveryTick\")","v":415.52},-8.2344797956895362E-3,{"$f":"RTD(\"cqg.rtd\",,\"StudyData\", \"Close(\"&$D$12&\") when LocalYear(\"&$D$12&\")=\"&$D$5&\" and localMonth(\"&$D$12&\") =\"&$E$5&\" and LocalDay(\"&$D$12&\")=\"&$F$5&\" and Barix(\"&$D$12&\",reference:=StartOfSession)=\"&A75&\"\", \"Bar\", \"\", \"Close\",\"5\",\"0\",\"PrimaryOnly\",,,\"False\",\"T\",\"EveryTick\")","v":417.78},2.3343539497856638E-2,{"$f":"RTD(\"cqg.rtd\",,\"StudyData\", \"Close(\"&$D$12&\") when LocalYear(\"&$D$12&\")=\"&$D$6&\" and localMonth(\"&$D$12&\") =\"&$E$6&\" and LocalDay(\"&$D$12&\")=\"&$F$6&\" and Barix(\"&$D$12&\",reference:=StartOfSession)=\"&A75&\"\", \"Bar\", \"\", \"Close\",\"5\",\"0\",\"PrimaryOnly\",,,\"False\",\"T\",\"EveryTick\")","v":407.75},2.3494565626647292E-2,{"$f":"RTD(\"cqg.rtd\",,\"StudyData\", \"Close(\"&$D$12&\") when LocalYear(\"&$D$12&\")=\"&$D$7&\" and localMonth(\"&$D$12&\") =\"&$E$7&\" and LocalDay(\"&$D$12&\")=\"&$F$7&\" and Barix(\"&$D$12&\",reference:=StartOfSession)=\"&A75&\"\", \"Bar\", \"\", \"Close\",\"5\",\"0\",\"PrimaryOnly\",,,\"False\",\"T\",\"EveryTick\")","v":397.82},1.8693024685035368E-2,{"$f":"RTD(\"cqg.rtd\",,\"StudyData\", \"Close(\"&$D$12&\") when LocalYear(\"&$D$12&\")=\"&$D$8&\" and localMonth(\"&$D$12&\") =\"&$E$8&\" and LocalDay(\"&$D$12&\")=\"&$F$8&\" and Barix(\"&$D$12&\",reference:=StartOfSession)=\"&A75&\"\", \"Bar\", \"\", \"Close\",\"5\",\"0\",\"PrimaryOnly\",,,\"False\",\"T\",\"EveryTick\")","v":""},{"$error":"#N/A"},{"$f":"RTD(\"cqg.rtd\",,\"StudyData\", \"Close(\"&$D$12&\") when LocalYear(\"&$D$12&\")=\"&$D$9&\" and localMonth(\"&$D$12&\") =\"&$E$9&\" and LocalDay(\"&$D$12&\")=\"&$F$9&\" and Barix(\"&$D$12&\",reference:=StartOfSession)=\"&A75&\"\", \"Bar\", \"\", \"Close\",\"5\",\"0\",\"PrimaryOnly\",,,\"False\",\"T\",\"EveryTick\")","v":396.09},1.1905066039904882E-2,{"$f":"RTD(\"cqg.rtd\",,\"StudyData\", \"Close(\"&$D$12&\") when LocalYear(\"&$D$12&\")=\"&$D$10&\" and localMonth(\"&$D$12&\") =\"&$E$10&\" and LocalDay(\"&$D$12&\")=\"&$F$10&\" and Barix(\"&$D$12&\",reference:=StartOfSession)=\"&A75&\"\", \"Bar\", \"\", \"Close\",\"5\",\"0\",\"PrimaryOnly\",,,\"False\",\"T\",\"EveryTick\")","v":391.4},-1.0166405341156336E-2,null,null,null,""]
[75,"14:45:00",-2,{"$f":" RTD(\"cqg.rtd\",,\"StudyData\", $D$12,  \"Tick\", \"FlatTicks=0\", \"Tick\",\"D\",C76,\"PrimaryOnly\")","v":400.8},null,null,null,{"$f":"RTD(\"cqg.rtd\",,\"StudyData\", \"Close(\"&$D$12&\") when LocalYear(\"&$D$12&\")=\"&$D$1&\" and localMonth(\"&$D$12&\") =\"&$E$1&\" and LocalDay(\"&$D$12&\")=\"&$F$1&\" and Barix(\"&$D$12&\",reference:=StartOfSession)=\"&A76&\"\", \"Bar\", \"\", \"Close\",\"5\",\"0\",\"PrimaryOnly\",,,\"False\",\"T\",\"EveryTick\")","v":""},{"$error":"#N/A"},{"$f":"RTD(\"cqg.rtd\",,\"StudyData\", \"Close(\"&$D$12&\") when LocalYear(\"&$D$12&\")=\"&$D$2&\" and localMonth(\"&$D$12&\") =\"&$E$2&\" and LocalDay(\"&$D$12&\")=\"&$F$2&\" and Barix(\"&$D$12&\",reference:=StartOfSession)=\"&A76&\"\", \"Bar\", \"\", \"Close\",\"5\",\"0\",\"PrimaryOnly\",,,\"False\",\"T\",\"EveryTick\")","v":413.31},-1.2755284844141826E-2,{"$f":"RTD(\"cqg.rtd\",,\"StudyData\", \"Close(\"&$D$12&\") when LocalYear(\"&$D$12&\")=\"&$D$3&\" and localMonth(\"&$D$12&\") =\"&$E$3&\" and LocalDay(\"&$D$12&\")=\"&$F$3&\" and Barix(\"&$D$12&\",reference:=StartOfSession)=\"&A76&\"\", \"Bar\", \"\", \"Close\",\"5\",\"0\",\"PrimaryOnly\",,,\"False\",\"T\",\"EveryTick\")","v":419.47},9.2389865986575361E-3,{"$f":"RTD(\"cqg.rtd\",,\"StudyData\", \"Close(\"&$D$12&\") when LocalYear(\"&$D$12&\")=\"&$D$4&\" and localMonth(\"&$D$12&\") =\"&$E$4&\" and LocalDay(\"&$D$12&\")=\"&$F$4&\" and Barix(\"&$D$12&\",reference:=StartOfSession)=\"&A76&\"\", \"Bar\", \"\", \"Close\",\"5\",\"0\",\"PrimaryOnly\",,,\"False\",\"T\",\"EveryTick\")","v":414.82},-9.9052438122062061E-3,{"$f":"RTD(\"cqg.rtd\",,\"StudyData\", \"Close(\"&$D$12&\") when LocalYear(\"&$D$12&\")=\"&$D$5&\" and localMonth(\"&$D$12&\") =\"&$E$5&\" and LocalDay(\"&$D$12&\")=\"&$F$5&\" and Barix(\"&$D$12&\",reference:=StartOfSession)=\"&A76&\"\", \"Bar\", \"\", \"Close\",\"5\",\"0\",\"PrimaryOnly\",,,\"False\",\"T\",\"EveryTick\")","v":418.04},2.3980404164115177E-2,{"$f":"RTD(\"cqg.rtd\",,\"StudyData\", \"Close(\"&$D$12&\") when LocalYear(\"&$D$12&\")=\"&$D$6&\" and localMonth(\"&$D$12&\") =\"&$E$6&\" and LocalDay(\"&$D$12&\")=\"&$F$6&\" and Barix(\"&$D$12&\",reference:=StartOfSession)=\"&A76&\"\", \"Bar\", \"\", \"Close\",\"5\",\"0\",\"PrimaryOnly\",,,\"False\",\"T\",\"EveryTick\")","v":407.08},2.1812796505936389E-2,{"$f":"RTD(\"cqg.rtd\",,\"StudyData\", \"Close(\"&$D$12&\") when LocalYear(\"&$D$12&\")=\"&$D$7&\" and localMonth(\"&$D$12&\") =\"&$E$7&\" and LocalDay(\"&$D$12&\")=\"&$F$7&\" and Barix(\"&$D$12&\",reference:=StartOfSession)=\"&A76&\"\", \"Bar\", \"\", \"Close\",\"5\",\"0\",\"PrimaryOnly\",,,\"False\",\"T\",\"EveryTick\")","v":397.62},1.8180887022431688E-2,{"$f":"RTD(\"cqg.rtd\",,\"StudyData\", \"Close(\"&$D$12&\") when LocalYear(\"&$D$12&\")=\"&$D$8&\" and localMonth(\"&$D$12&\") =\"&$E$8&\" and LocalDay(\"&$D$12&\")=\"&$F$8&\" and Barix(\"&$D$12&\",reference:=StartOfSession)=\"&A76&\"\", \"Bar\", \"\", \"Close\",\"5\",\"0\",\"PrimaryOnly\",,,\"False\",\"T\",\"EveryTick\")","v":""},{"$error":"#N/A"},{"$f":"RTD(\"cqg.rtd\",,\"StudyData\", \"Close(\"&$D$12&\") when LocalYear(\"&$D$12&\")=\"&$D$9&\" and localMonth(\"&$D$12&\") =\"&$E$9&\" and LocalDay(\"&$D$12&\")=\"&$F$9&\" and Barix(\"&$D$12&\",reference:=StartOfSession)=\"&A76&\"\", \"Bar\", \"\", \"Close\",\"5\",\"0\",\"PrimaryOnly\",,,\"False\",\"T\",\"EveryTick\")","v":396.86},1.3872212145211166E-2,{"$f":"RTD(\"cqg.rtd\",,\"StudyData\", \"Close(\"&$D$12&\") when LocalYear(\"&$D$12&\")=\"&$D$10&\" and localMonth(\"&$D$12&\") =\"&$E$10&\" and LocalDay(\"&$D$12&\")=\"&$F$10&\" and Barix(\"&$D$12&\",reference:=StartOfSession)=\"&A76&\"\", \"Bar\", \"\", \"Close\",\"5\",\"0\",\"PrimaryOnly\",,,\"False\",\"T\",\"EveryTick\")","v":391.55},-9.7870618582772857E-3,null,null,null,""]
[76,"14:50:00",-1,{"$f":" RTD(\"cqg.rtd\",,\"StudyData\", $D$12,  \"Tick\", \"FlatTicks=0\", \"Tick\",\"D\",C77,\"PrimaryOnly\")","v":400.88},null,null,null,{"$f":"RTD(\"cqg.rtd\",,\"StudyData\", \"Close(\"&$D$12&\") when LocalYear(\"&$D$12&\")=\"&$D$1&\" and localMonth(\"&$D$12&\") =\"&$E$1&\" and LocalDay(\"&$D$12&\")=\"&$F$1&\" and Barix(\"&$D$12&\",reference:=StartOfSession)=\"&A77&\"\", \"Bar\", \"\", \"Close\",\"5\",\"0\",\"PrimaryOnly\",,,\"False\",\"T\",\"EveryTick\")","v":""},{"$error":"#N/A"},{"$f":"RTD(\"cqg.rtd\",,\"StudyData\", \"Close(\"&$D$12&\") when LocalYear(\"&$D$12&\")=\"&$D$2&\" and localMonth(\"&$D$12&\") =\"&$E$2&\" and LocalDay(\"&$D$12&\")=\"&$F$2&\" and Barix(\"&$D$12&\",reference:=StartOfSession)=\"&A77&\"\", \"Bar\", \"\", \"Close\",\"5\",\"0\",\"PrimaryOnly\",,,\"False\",\"T\",\"EveryTick\")","v":413.52},-1.2253672518810451E-2,{"$f":"RTD(\"cqg.rtd\",,\"StudyData\", \"Close(\"&$D$12&\") when LocalYear(\"&$D$12&\")=\"&$D$3&\" and localMonth(\"&$D$12&\") =\"&$E$3&\" and LocalDay(\"&$D$12&\")=\"&$F$3&\" and Barix(\"&$D$12&\",reference:=StartOfSession)=\"&A77&\"\", \"Bar\", \"\", \"Close\",\"5\",\"0\",\"PrimaryOnly\",,,\"False\",\"T\",\"EveryTick\")","v":418.73},7.4585568895412331E-3,{"$f":"RTD(\"cqg.rtd\",,\"StudyData\", \"Close(\"&$D$12&\") when LocalYear(\"&$D$12&\")=\"&$D$4&\" and localMonth(\"&$D$12&\") =\"&$E$4&\" and LocalDay(\"&$D$12&\")=\"&$F$4&\" and Barix(\"&$D$12&\",reference:=StartOfSession)=\"&A77&\"\", \"Bar\", \"\", \"Close\",\"5\",\"0\",\"PrimaryOnly\",,,\"False\",\"T\",\"EveryTick\")","v":415.82},-7.5184380743252115E-3,{"$f":"RTD(\"cqg.rtd\",,\"StudyData\", \"Close(\"&$D$12&\") when LocalYear(\"&$D$12&\")=\"&$D$5&\" and localMonth(\"&$D$12&\") =\"&$E$5&\" and LocalDay(\"&$D$12&\")=\"&$F$5&\" and Barix(\"&$D$12&\",reference:=StartOfSession)=\"&A77&\"\", \"Bar\", \"\", \"Close\",\"5\",\"0\",\"PrimaryOnly\",,,\"False\",\"T\",\"EveryTick\")","v":418.59},2.5327617881200182E-2,{"$f":"RTD(\"cqg.rtd\",,\"StudyData\", \"Close(\"&$D$12&\") when LocalYear(\"&$D$12&\")=\"&$D$6&\" and localMonth(\"&$D$12&\") =\"&$E$6&\" and LocalDay(\"&$D$12&\")=\"&$F$6&\" and Barix(\"&$D$12&\",reference:=StartOfSession)=\"&A77&\"\", \"Bar\", \"\", \"Close\",\"5\",\"0\",\"PrimaryOnly\",,,\"False\",\"T\",\"EveryTick\")","v":408.12},2.4423303797786136E-2,{"$f":"RTD(\"cqg.rtd\",,\"StudyData\", \"Close(\"&$D$12&\") when LocalYear(\"&$D$12&\")=\"&$D$7&\" and localMonth(\"&$D$12&\") =\"&$E$7&\" and LocalDay(\"&$D$12&\")=\"&$F$7&\" and Barix(\"&$D$12&\",reference:=StartOfSession)=\"&A77&\"\", \"Bar\", \"\", \"Close\",\"5\",\"0\",\"PrimaryOnly\",,,\"False\",\"T\",\"EveryTick\")","v":398.51},2.0459899621018154E-2,{"$f":"RTD(\"cqg.rtd\",,\"StudyData\", \"Close(\"&$D$12&\") when LocalYear(\"&$D$12&\")=\"&$D$8&\" and localMonth(\"&$D$12&\") =\"&$E$8&\" and LocalDay(\"&$D$12&\")=\"&$F$8&\" and Barix(\"&$D$12&\",reference:=StartOfSession)=\"&A77&\"\", \"Bar\", \"\", \"Close\",\"5\",\"0\",\"PrimaryOnly\",,,\"False\",\"T\",\"EveryTick\")","v":""},{"$error":"#N/A"},{"$f":"RTD(\"cqg.rtd\",,\"StudyData\", \"Close(\"&$D$12&\") when LocalYear(\"&$D$12&\")=\"&$D$9&\" and localMonth(\"&$D$12&\") =\"&$E$9&\" and LocalDay(\"&$D$12&\")=\"&$F$9&\" and Barix(\"&$D$12&\",reference:=StartOfSession)=\"&A77&\"\", \"Bar\", \"\", \"Close\",\"5\",\"0\",\"PrimaryOnly\",,,\"False\",\"T\",\"EveryTick\")","v":396.97},1.4153233017397798E-2,{"$f":"RTD(\"cqg.rtd\",,\"StudyData\", \"Close(\"&$D$12&\") when LocalYear(\"&$D$12&\")=\"&$D$10&\" and localMonth(\"&$D$12&\") =\"&$E$10&\" and LocalDay(\"&$D$12&\")=\"&$F$10&\" and Barix(\"&$D$12&\",reference:=StartOfSession)=\"&A77&\"\", \"Bar\", \"\", \"Close\",\"5\",\"0\",\"PrimaryOnly\",,,\"False\",\"T\",\"EveryTick\")","v":391.89},-8.9272166304183633E-3,null,null,null,""]
[77,"14:55:00",0,{"$f":" RTD(\"cqg.rtd\",,\"StudyData\", $D$12,  \"Tick\", \"FlatTicks=0\", \"Tick\",\"D\",C78,\"PrimaryOnly\")","v":400.8},null,null,null,{"$f":"RTD(\"cqg.rtd\",,\"StudyData\", \"Close(\"&$D$12&\") when LocalYear(\"&$D$12&\")=\"&$D$1&\" and localMonth(\"&$D$12&\") =\"&$E$1&\" and LocalDay(\"&$D$12&\")=\"&$F$1&\" and Barix(\"&$D$12&\",reference:=StartOfSession)=\"&A78&\"\", \"Bar\", \"\", \"Close\",\"5\",\"0\",\"PrimaryOnly\",,,\"False\",\"T\",\"EveryTick\")","v":""},{"$error":"#N/A"},{"$f":"RTD(\"cqg.rtd\",,\"StudyData\", \"Close(\"&$D$12&\") when LocalYear(\"&$D$12&\")=\"&$D$2&\" and localMonth(\"&$D$12&\") =\"&$E$2&\" and LocalDay(\"&$D$12&\")=\"&$F$2&\" and Barix(\"&$D$12&\",reference:=StartOfSession)=\"&A78&\"\", \"Bar\", \"\", \"Close\",\"5\",\"0\",\"PrimaryOnly\",,,\"False\",\"T\",\"EveryTick\")","v":413.5},-1.2301445121222925E-2,{"$f":"RTD(\"cqg.rtd\",,\"StudyData\", \"Close(\"&$D$12&\") when LocalYear(\"&$D$12&\")=\"&$D$3&\" and localMonth(\"&$D$12&\") =\"&$E$3&\" and LocalDay(\"&$D$12&\")=\"&$F$3&\" and Barix(\"&$D$12&\",reference:=StartOfSession)=\"&A78&\"\", \"Bar\", \"\", \"Close\",\"5\",\"0\",\"PrimaryOnly\",,,\"False\",\"T\",\"EveryTick\")","v":418.65},7.266078002069104E-3,{"$f":"RTD(\"cqg.rtd\",,\"StudyData\", \"Close(\"&$D$12&\") when LocalYear(\"&$D$12&\")=\"&$D$4&\" and localMonth(\"&$D$12&\") =\"&$E$4&\" and LocalDay(\"&$D$12&\")=\"&$F$4&\" and Barix(\"&$D$12&\",reference:=StartOfSession)=\"&A78&\"\", \"Bar\", \"\", \"Close\",\"5\",\"0\",\"PrimaryOnly\",,,\"False\",\"T\",\"EveryTick\")","v":415.63},-7.971931164522595E-3,{"$f":"RTD(\"cqg.rtd\",,\"StudyData\", \"Close(\"&$D$12&\") when LocalYear(\"&$D$12&\")=\"&$D$5&\" and localMonth(\"&$D$12&\") =\"&$E$5&\" and LocalDay(\"&$D$12&\")=\"&$F$5&\" and Barix(\"&$D$12&\",reference:=StartOfSession)=\"&A78&\"\", \"Bar\", \"\", \"Close\",\"5\",\"0\",\"PrimaryOnly\",,,\"False\",\"T\",\"EveryTick\")","v":418.97},2.625842008573185E-2,{"$f":"RTD(\"cqg.rtd\",,\"StudyData\", \"Close(\"&$D$12&\") when LocalYear(\"&$D$12&\")=\"&$D$6&\" and localMonth(\"&$D$12&\") =\"&$E$6&\" and LocalDay(\"&$D$12&\")=\"&$F$6&\" and Barix(\"&$D$12&\",reference:=StartOfSession)=\"&A78&\"\", \"Bar\", \"\", \"Close\",\"5\",\"0\",\"PrimaryOnly\",,,\"False\",\"T\",\"EveryTick\")","v":408.25},2.4749617209267338E-2,{"$f":"RTD(\"cqg.rtd\",,\"StudyData\", \"Close(\"&$D$12&\") when LocalYear(\"&$D$12&\")=\"&$D$7&\" and localMonth(\"&$D$12&\") =\"&$E$7&\" and LocalDay(\"&$D$12&\")=\"&$F$7&\" and Barix(\"&$D$12&\",reference:=StartOfSession)=\"&A78&\"\", \"Bar\", \"\", \"Close\",\"5\",\"0\",\"PrimaryOnly\",,,\"False\",\"T\",\"EveryTick\")","v":398.39},2.0152617023455919E-2,{"$f":"RTD(\"cqg.rtd\",,\"StudyData\", \"Close(\"&$D$12&\") when LocalYear(\"&$D$12&\")=\"&$D$8&\" and localMonth(\"&$D$12&\") =\"&$E$8&\" and LocalDay(\"&$D$12&\")=\"&$F$8&\" and Barix(\"&$D$12&\",reference:=StartOfSession)=\"&A78&\"\", \"Bar\", \"\", \"Close\",\"5\",\"0\",\"PrimaryOnly\",,,\"False\",\"T\",\"EveryTick\")","v":""},{"$error":"#N/A"},{"$f":"RTD(\"cqg.rtd\",,\"StudyData\", \"Close(\"&$D$12&\") when LocalYear(\"&$D$12&\")=\"&$D$9&\" and localMonth(\"&$D$12&\") =\"&$E$9&\" and LocalDay(\"&$D$12&\")=\"&$F$9&\" and Barix(\"&$D$12&\",reference:=StartOfSession)=\"&A78&\"\", \"Bar\", \"\", \"Close\",\"5\",\"0\",\"PrimaryOnly\",,,\"False\",\"T\",\"EveryTick\")","v":398.18},1.7244462611450323E-2,{"$f":"RTD(\"cqg.rtd\",,\"StudyData\", \"Close(\"&$D$12&\") when LocalYear(\"&$D$12&\")=\"&$D$10&\" and localMonth(\"&$D$12&\") =\"&$E$10&\" and LocalDay(\"&$D$12&\")=\"&$F$10&\" and Barix(\"&$D$12&\",reference:=StartOfSession)=\"&A78&\"\", \"Bar\", \"\", \"Close\",\"5\",\"0\",\"PrimaryOnly\",,,\"False\",\"T\",\"EveryTick\")","v":391.43},-1.009053664458047E-2,null,null,null,""]
[78,"15:00:00",null,null,null,null,null,{"$f":"RTD(\"cqg.rtd\",,\"StudyData\", \"Close(\"&$D$12&\") when LocalYear(\"&$D$12&\")=\"&$D$1&\" and localMonth(\"&$D$12&\") =\"&$E$1&\" and LocalDay(\"&$D$12&\")=\"&$F$1&\" and Barix(\"&$D$12&\",reference:=StartOfSession)=\"&A79&\"\", \"Bar\", \"\", \"Close\",\"5\",\"0\",\"PrimaryOnly\",,,\"False\",\"T\",\"EveryTick\")","v":""},{"$error":"#N/A"},{"$f":"RTD(\"cqg.rtd\",,\"StudyData\", \"Close(\"&$D$12&\") when LocalYear(\"&$D$12&\")=\"&$D$2&\" and localMonth(\"&$D$12&\") =\"&$E$2&\" and LocalDay(\"&$D$12&\")=\"&$F$2&\" and Barix(\"&$D$12&\",reference:=StartOfSession)=\"&A79&\"\", \"Bar\", \"\", \"Close\",\"5\",\"0\",\"PrimaryOnly\",,,\"False\",\"T\",\"EveryTick\")","v":""},{"$error":"#N/A"},{"$f":"RTD(\"cqg.rtd\",,\"StudyData\", \"Close(\"&$D$12&\") when LocalYear(\"&$D$12&\")=\"&$D$3&\" and localMonth(\"&$D$12&\") =\"&$E$3&\" and LocalDay(\"&$D$12&\")=\"&$F$3&\" and Barix(\"&$D$12&\",reference:=StartOfSession)=\"&A79&\"\", \"Bar\", \"\", \"Close\",\"5\",\"0\",\"PrimaryOnly\",,,\"False\",\"T\",\"EveryTick\")","v":""},{"$error":"#N/A"},{"$f":"RTD(\"cqg.rtd\",,\"StudyData\", \"Close(\"&$D$12&\") when LocalYear(\"&$D$12&\")=\"&$D$4&\" and localMonth(\"&$D$12&\") =\"&$E$4&\" and LocalDay(\"&$D$12&\")=\"&$F$4&\" and Barix(\"&$D$12&\",reference:=StartOfSession)=\"&A79&\"\", \"Bar\", \"\", \"Close\",\"5\",\"0\",\"PrimaryOnly\",,,\"False\",\"T\",\"EveryTick\")","v":""},{"$error":"#N/A"},{"$f":"RTD(\"cqg.rtd\",,\"StudyData\", \"Close(\"&$D$12&\") when LocalYear(\"&$D$12&\")=\"&$D$5&\" and localMonth(\"&$D$12&\") =\"&$E$5&\" and LocalDay(\"&$D$12&\")=\"&$F$5&\" and Barix(\"&$D$12&\",reference:=StartOfSession)=\"&A79&\"\", \"Bar\", \"\", \"Close\",\"5\",\"0\",\"PrimaryOnly\",,,\"False\",\"T\",\"EveryTick\")","v":""},{"$error":"#N/A"},{"$f":"RTD(\"cqg.rtd\",,\"StudyData\", \"Close(\"&$D$12&\") when LocalYear(\"&$D$12&\")=\"&$D$6&\" and localMonth(\"&$D$12&\") =\"&$E$6&\" and LocalDay(\"&$D$12&\")=\"&$F$6&\" and Barix(\"&$D$12&\",reference:=StartOfSession)=\"&A79&\"\", \"Bar\", \"\", \"Close\",\"5\",\"0\",\"PrimaryOnly\",,,\"False\",\"T\",\"EveryTick\")","v":""},{"$error":"#N/A"},{"$f":"RTD(\"cqg.rtd\",,\"StudyData\", \"Close(\"&$D$12&\") when LocalYear(\"&$D$12&\")=\"&$D$7&\" and localMonth(\"&$D$12&\") =\"&$E$7&\" and LocalDay(\"&$D$12&\")=\"&$F$7&\" and Barix(\"&$D$12&\",reference:=StartOfSession)=\"&A79&\"\", \"Bar\", \"\", \"Close\",\"5\",\"0\",\"PrimaryOnly\",,,\"False\",\"T\",\"EveryTick\")","v":""},{"$error":"#N/A"},{"$f":"RTD(\"cqg.rtd\",,\"StudyData\", \"Close(\"&$D$12&\") when LocalYear(\"&$D$12&\")=\"&$D$8&\" and localMonth(\"&$D$12&\") =\"&$E$8&\" and LocalDay(\"&$D$12&\")=\"&$F$8&\" and Barix(\"&$D$12&\",reference:=StartOfSession)=\"&A79&\"\", \"Bar\", \"\", \"Close\",\"5\",\"0\",\"PrimaryOnly\",,,\"False\",\"T\",\"EveryTick\")","v":""},{"$error":"#N/A"},{"$f":"RTD(\"cqg.rtd\",,\"StudyData\", \"Close(\"&$D$12&\") when LocalYear(\"&$D$12&\")=\"&$D$9&\" and localMonth(\"&$D$12&\") =\"&$E$9&\" and LocalDay(\"&$D$12&\")=\"&$F$9&\" and Barix(\"&$D$12&\",reference:=StartOfSession)=\"&A79&\"\", \"Bar\", \"\", \"Close\",\"5\",\"0\",\"PrimaryOnly\",,,\"False\",\"T\",\"EveryTick\")","v":""},{"$error":"#N/A"},{"$f":"RTD(\"cqg.rtd\",,\"StudyData\", \"Close(\"&$D$12&\") when LocalYear(\"&$D$12&\")=\"&$D$10&\" and localMonth(\"&$D$12&\") =\"&$E$10&\" and LocalDay(\"&$D$12&\")=\"&$F$10&\" and Barix(\"&$D$12&\",reference:=StartOfSession)=\"&A79&\"\", \"Bar\", \"\", \"Close\",\"5\",\"0\",\"PrimaryOnly\",,,\"False\",\"T\",\"EveryTick\")","v":""},{"$error":"#N/A"},null,null,null,""]
[79,"15:05:00",null,null,null,null,null,{"$f":"RTD(\"cqg.rtd\",,\"StudyData\", \"Close(\"&$D$12&\") when LocalYear(\"&$D$12&\")=\"&$D$1&\" and localMonth(\"&$D$12&\") =\"&$E$1&\" and LocalDay(\"&$D$12&\")=\"&$F$1&\" and Barix(\"&$D$12&\",reference:=StartOfSession)=\"&A80&\"\", \"Bar\", \"\", \"Close\",\"5\",\"0\",\"PrimaryOnly\",,,\"False\",\"T\",\"EveryTick\")","v":""},{"$error":"#N/A"},{"$f":"RTD(\"cqg.rtd\",,\"StudyData\", \"Close(\"&$D$12&\") when LocalYear(\"&$D$12&\")=\"&$D$2&\" and localMonth(\"&$D$12&\") =\"&$E$2&\" and LocalDay(\"&$D$12&\")=\"&$F$2&\" and Barix(\"&$D$12&\",reference:=StartOfSession)=\"&A80&\"\", \"Bar\", \"\", \"Close\",\"5\",\"0\",\"PrimaryOnly\",,,\"False\",\"T\",\"EveryTick\")","v":""},{"$error":"#N/A"},{"$f":"RTD(\"cqg.rtd\",,\"StudyData\", \"Close(\"&$D$12&\") when LocalYear(\"&$D$12&\")=\"&$D$3&\" and localMonth(\"&$D$12&\") =\"&$E$3&\" and LocalDay(\"&$D$12&\")=\"&$F$3&\" and Barix(\"&$D$12&\",reference:=StartOfSession)=\"&A80&\"\", \"Bar\", \"\", \"Close\",\"5\",\"0\",\"PrimaryOnly\",,,\"False\",\"T\",\"EveryTick\")","v":""},{"$error":"#N/A"},{"$f":"RTD(\"cqg.rtd\",,\"StudyData\", \"Close(\"&$D$12&\") when LocalYear(\"&$D$12&\")=\"&$D$4&\" and localMonth(\"&$D$12&\") =\"&$E$4&\" and LocalDay(\"&$D$12&\")=\"&$F$4&\" and Barix(\"&$D$12&\",reference:=StartOfSession)=\"&A80&\"\", \"Bar\", \"\", \"Close\",\"5\",\"0\",\"PrimaryOnly\",,,\"False\",\"T\",\"EveryTick\")","v":""},{"$error":"#N/A"},{"$f":"RTD(\"cqg.rtd\",,\"StudyData\", \"Close(\"&$D$12&\") when LocalYear(\"&$D$12&\")=\"&$D$5&\" and localMonth(\"&$D$12&\") =\"&$E$5&\" and LocalDay(\"&$D$12&\")=\"&$F$5&\" and Barix(\"&$D$12&\",reference:=StartOfSession)=\"&A80&\"\", \"Bar\", \"\", \"Close\",\"5\",\"0\",\"PrimaryOnly\",,,\"False\",\"T\",\"EveryTick\")","v":""},{"$error":"#N/A"},{"$f":"RTD(\"cqg.rtd\",,\"StudyData\", \"Close(\"&$D$12&\") when LocalYear(\"&$D$12&\")=\"&$D$6&\" and localMonth(\"&$D$12&\") =\"&$E$6&\" and LocalDay(\"&$D$12&\")=\"&$F$6&\" and Barix(\"&$D$12&\",reference:=StartOfSession)=\"&A80&\"\", \"Bar\", \"\", \"Close\",\"5\",\"0\",\"PrimaryOnly\",,,\"False\",\"T\",\"EveryTick\")","v":""},{"$error":"#N/A"},{"$f":"RTD(\"cqg.rtd\",,\"StudyData\", \"Close(\"&$D$12&\") when LocalYear(\"&$D$12&\")=\"&$D$7&\" and localMonth(\"&$D$12&\") =\"&$E$7&\" and LocalDay(\"&$D$12&\")=\"&$F$7&\" and Barix(\"&$D$12&\",reference:=StartOfSession)=\"&A80&\"\", \"Bar\", \"\", \"Close\",\"5\",\"0\",\"PrimaryOnly\",,,\"False\",\"T\",\"EveryTick\")","v":""},{"$error":"#N/A"},{"$f":"RTD(\"cqg.rtd\",,\"StudyData\", \"Close(\"&$D$12&\") when LocalYear(\"&$D$12&\")=\"&$D$8&\" and localMonth(\"&$D$12&\") =\"&$E$8&\" and LocalDay(\"&$D$12&\")=\"&$F$8&\" and Barix(\"&$D$12&\",reference:=StartOfSession)=\"&A80&\"\", \"Bar\", \"\", \"Close\",\"5\",\"0\",\"PrimaryOnly\",,,\"False\",\"T\",\"EveryTick\")","v":""},{"$error":"#N/A"},{"$f":"RTD(\"cqg.rtd\",,\"StudyData\", \"Close(\"&$D$12&\") when LocalYear(\"&$D$12&\")=\"&$D$9&\" and localMonth(\"&$D$12&\") =\"&$E$9&\" and LocalDay(\"&$D$12&\")=\"&$F$9&\" and Barix(\"&$D$12&\",reference:=StartOfSession)=\"&A80&\"\", \"Bar\", \"\", \"Close\",\"5\",\"0\",\"PrimaryOnly\",,,\"False\",\"T\",\"EveryTick\")","v":""},{"$error":"#N/A"},{"$f":"RTD(\"cqg.rtd\",,\"StudyData\", \"Close(\"&$D$12&\") when LocalYear(\"&$D$12&\")=\"&$D$10&\" and localMonth(\"&$D$12&\") =\"&$E$10&\" and LocalDay(\"&$D$12&\")=\"&$F$10&\" and Barix(\"&$D$12&\",reference:=StartOfSession)=\"&A80&\"\", \"Bar\", \"\", \"Close\",\"5\",\"0\",\"PrimaryOnly\",,,\"False\",\"T\",\"EveryTick\")","v":""},{"$error":"#N/A"},null,null,null,""]
[80,"15:10:00",null,null,null,null,null,{"$f":"RTD(\"cqg.rtd\",,\"StudyData\", \"Close(\"&$D$12&\") when LocalYear(\"&$D$12&\")=\"&$D$1&\" and localMonth(\"&$D$12&\") =\"&$E$1&\" and LocalDay(\"&$D$12&\")=\"&$F$1&\" and Barix(\"&$D$12&\",reference:=StartOfSession)=\"&A81&\"\", \"Bar\", \"\", \"Close\",\"5\",\"0\",\"PrimaryOnly\",,,\"False\",\"T\",\"EveryTick\")","v":""},{"$error":"#N/A"},{"$f":"RTD(\"cqg.rtd\",,\"StudyData\", \"Close(\"&$D$12&\") when LocalYear(\"&$D$12&\")=\"&$D$2&\" and localMonth(\"&$D$12&\") =\"&$E$2&\" and LocalDay(\"&$D$12&\")=\"&$F$2&\" and Barix(\"&$D$12&\",reference:=StartOfSession)=\"&A81&\"\", \"Bar\", \"\", \"Close\",\"5\",\"0\",\"PrimaryOnly\",,,\"False\",\"T\",\"EveryTick\")","v":""},{"$error":"#N/A"},{"$f":"RTD(\"cqg.rtd\",,\"StudyData\", \"Close(\"&$D$12&\") when LocalYear(\"&$D$12&\")=\"&$D$3&\" and localMonth(\"&$D$12&\") =\"&$E$3&\" and LocalDay(\"&$D$12&\")=\"&$F$3&\" and Barix(\"&$D$12&\",reference:=StartOfSession)=\"&A81&\"\", \"Bar\", \"\", \"Close\",\"5\",\"0\",\"PrimaryOnly\",,,\"False\",\"T\",\"EveryTick\")","v":""},{"$error":"#N/A"},{"$f":"RTD(\"cqg.rtd\",,\"StudyData\", \"Close(\"&$D$12&\") when LocalYear(\"&$D$12&\")=\"&$D$4&\" and localMonth(\"&$D$12&\") =\"&$E$4&\" and LocalDay(\"&$D$12&\")=\"&$F$4&\" and Barix(\"&$D$12&\",reference:=StartOfSession)=\"&A81&\"\", \"Bar\", \"\", \"Close\",\"5\",\"0\",\"PrimaryOnly\",,,\"False\",\"T\",\"EveryTick\")","v":""},{"$error":"#N/A"},{"$f":"RTD(\"cqg.rtd\",,\"StudyData\", \"Close(\"&$D$12&\") when LocalYear(\"&$D$12&\")=\"&$D$5&\" and localMonth(\"&$D$12&\") =\"&$E$5&\" and LocalDay(\"&$D$12&\")=\"&$F$5&\" and Barix(\"&$D$12&\",reference:=StartOfSession)=\"&A81&\"\", \"Bar\", \"\", \"Close\",\"5\",\"0\",\"PrimaryOnly\",,,\"False\",\"T\",\"EveryTick\")","v":""},{"$error":"#N/A"},{"$f":"RTD(\"cqg.rtd\",,\"StudyData\", \"Close(\"&$D$12&\") when LocalYear(\"&$D$12&\")=\"&$D$6&\" and localMonth(\"&$D$12&\") =\"&$E$6&\" and LocalDay(\"&$D$12&\")=\"&$F$6&\" and Barix(\"&$D$12&\",reference:=StartOfSession)=\"&A81&\"\", \"Bar\", \"\", \"Close\",\"5\",\"0\",\"PrimaryOnly\",,,\"False\",\"T\",\"EveryTick\")","v":""},{"$error":"#N/A"},{"$f":"RTD(\"cqg.rtd\",,\"StudyData\", \"Close(\"&$D$12&\") when LocalYear(\"&$D$12&\")=\"&$D$7&\" and localMonth(\"&$D$12&\") =\"&$E$7&\" and LocalDay(\"&$D$12&\")=\"&$F$7&\" and Barix(\"&$D$12&\",reference:=StartOfSession)=\"&A81&\"\", \"Bar\", \"\", \"Close\",\"5\",\"0\",\"PrimaryOnly\",,,\"False\",\"T\",\"EveryTick\")","v":""},{"$error":"#N/A"},{"$f":"RTD(\"cqg.rtd\",,\"StudyData\", \"Close(\"&$D$12&\") when LocalYear(\"&$D$12&\")=\"&$D$8&\" and localMonth(\"&$D$12&\") =\"&$E$8&\" and LocalDay(\"&$D$12&\")=\"&$F$8&\" and Barix(\"&$D$12&\",reference:=StartOfSession)=\"&A81&\"\", \"Bar\", \"\", \"Close\",\"5\",\"0\",\"PrimaryOnly\",,,\"False\",\"T\",\"EveryTick\")","v":""},{"$error":"#N/A"},{"$f":"RTD(\"cqg.rtd\",,\"StudyData\", \"Close(\"&$D$12&\") when LocalYear(\"&$D$12&\")=\"&$D$9&\" and localMonth(\"&$D$12&\") =\"&$E$9&\" and LocalDay(\"&$D$12&\")=\"&$F$9&\" and Barix(\"&$D$12&\",reference:=StartOfSession)=\"&A81&\"\", \"Bar\", \"\", \"Close\",\"5\",\"0\",\"PrimaryOnly\",,,\"False\",\"T\",\"EveryTick\")","v":""},{"$error":"#N/A"},{"$f":"RTD(\"cqg.rtd\",,\"StudyData\", \"Close(\"&$D$12&\") when LocalYear(\"&$D$12&\")=\"&$D$10&\" and localMonth(\"&$D$12&\") =\"&$E$10&\" and LocalDay(\"&$D$12&\")=\"&$F$10&\" and Barix(\"&$D$12&\",reference:=StartOfSession)=\"&A81&\"\", \"Bar\", \"\", \"Close\",\"5\",\"0\",\"PrimaryOnly\",,,\"False\",\"T\",\"EveryTick\")","v":""},{"$error":"#N/A"},null,null,null,""]
[]
[null,null,null,null,null,null,null,null,null,null,null,null,null,null,null,null,null,null,null,null,null,null,null,null,null,null,null,null,null,null,{"$f":"MAX(AE1:AE81)","v":22}]

{"sheet":"Sheet4 (4)","index":8,"n_rows":93,"n_cols":20,"rows_kept":93,"cut":false,"hidden":true,"merged":[]}
[null,{"$f":"'Sheet3 (4)'!I1","v":-1.0544135429262427E-2},{"$f":"'Sheet3 (4)'!K1","v":-1.0175564313865976E-2},null,{"$f":"'Sheet3 (4)'!M1","v":-7.193898419267159E-3},null,{"$f":"'Sheet3 (4)'!O1","v":-1.0072320213857859E-2},null,{"$f":"'Sheet3 (4)'!Q1","v":2.3098591549295791E-2},null,{"$f":"'Sheet3 (4)'!S1","v":-4.1918722859508499E-3},null,{"$f":"'Sheet3 (4)'!U1","v":1.0754890914677982E-2},null,{"$f":"'Sheet3 (4)'!W1","v":-1.7579988949720947E-3},null,{"$f":"'Sheet3 (4)'!Y1","v":-2.0259050149452028E-2},null,{"$f":"'Sheet3 (4)'!AA1","v":1.3099994942086912E-2}]
[null,{"$f":"'Sheet3 (4)'!I2","v":-1.5719467956469165E-2},{"$f":"'Sheet3 (4)'!K2","v":-5.4938492774392802E-3},{"$f":"IF(ISNUMBER(C2),CORREL($B$1:B2,$C$1:C2),\"\")","v":-1},{"$f":"'Sheet3 (4)'!M2","v":-3.7533383057045985E-3},{"$f":"IF(ISNUMBER(E2),CORREL($B$1:B2,$E$1:E2),\"\")","v":-1},{"$f":"'Sheet3 (4)'!O2","v":-7.5661741890827878E-3},{"$f":"IF(ISNUMBER(G2),CORREL($B$1:B2,$G$1:G2),\"\")","v":-1},{"$f":"'Sheet3 (4)'!Q2","v":2.0918554807103539E-2},{"$f":"IF(ISNUMBER(I2),CORREL($B$1:B2,$I$1:I2),\"\")","v":1.0000000000000002},{"$f":"'Sheet3 (4)'!S2","v":6.1748537864907164E-3},{"$f":"IF(ISNUMBER(K2),CORREL($B$1:B2,$K$1:K2),\"\")","v":-1},{"$f":"'Sheet3 (4)'!U2","v":1.6618867151490344E-2},{"$f":"IF(ISNUMBER(M2),CORREL($B$1:B2,$M$1:M2),\"\")","v":-1},{"$f":"'Sheet3 (4)'!W2","v":-4.6210256667839466E-3},{"$f":"IF(ISNUMBER(O2),CORREL($B$1:B2,$O$1:O2),\"\")","v":0.99999999999999989},{"$f":"'Sheet3 (4)'!Y2","v":-1.1087550775362215E-2},{"$f":"IF(ISNUMBER(Q2),CORREL($B$1:B2,$Q$1:Q2),\"\")","v":-1},{"$f":"'Sheet3 (4)'!AA2","v":8.0420818370340562E-3},{"$f":"IF(ISNUMBER(S2),CORREL($B$1:B2,$S$1:S2),\"\")","v":1}]
[null,{"$f":"'Sheet3 (4)'!I3","v":-2.4715840386940816E-2},{"$f":"'Sheet3 (4)'!K3","v":-4.5861698316014788E-3},{"$f":"IF(ISNUMBER(C3),CORREL($B$1:B3,$C$1:C3),\"\")","v":-0.86475146470393627},{"$f":"'Sheet3 (4)'!M3","v":-5.1728701008107629E-3},{"$f":"IF(ISNUMBER(E3),CORREL($B$1:B3,$E$1:E3),\"\")","v":-0.45267680482048694},{"$f":"'Sheet3 (4)'!O3","v":-9.0459937465690154E-3},{"$f":"IF(ISNUMBER(G3),CORREL($B$1:B3,$G$1:G3),\"\")","v":-0.26198175221178371},{"$f":"'Sheet3 (4)'!Q3","v":1.8322106552357668E-2},{"$f":"IF(ISNUMBER(I3),CORREL($B$1:B3,$I$1:I3),\"\")","v":0.99458256549488522},{"$f":"'Sheet3 (4)'!S3","v":1.0994251863751589E-2},{"$f":"IF(ISNUMBER(K3),CORREL($B$1:B3,$K$1:K3),\"\")","v":-0.93509040297321666},{"$f":"'Sheet3 (4)'!U3","v":1.5159274813069794E-2},{"$f":"IF(ISNUMBER(M3),CORREL($B$1:B3,$M$1:M3),\"\")","v":-0.60627529631582611},{"$f":"'Sheet3 (4)'!W3","v":-5.500025114269922E-3},{"$f":"IF(ISNUMBER(O3),CORREL($B$1:B3,$O$1:O3),\"\")","v":0.89980108378727086},{"$f":"'Sheet3 (4)'!Y3","v":-1.0142298750734555E-2},{"$f":"IF(ISNUMBER(Q3),CORREL($B$1:B3,$Q$1:Q3),\"\")","v":-0.8290732272928576},{"$f":"'Sheet3 (4)'!AA3","v":6.5247079055181425E-3},{"$f":"IF(ISNUMBER(S3),CORREL($B$1:B3,$S$1:S3),\"\")","v":0.89789264750772602}]
[null,{"$f":"'Sheet3 (4)'!I4","v":-2.4353083434099136E-2},{"$f":"'Sheet3 (4)'!K4","v":-9.6739519885344679E-3},{"$f":"IF(ISNUMBER(C4),CORREL($B$1:B4,$C$1:C4),\"\")","v":-0.35615432521483265},{"$f":"'Sheet3 (4)'!M4","v":-3.5608594182326065E-3},{"$f":"IF(ISNUMBER(E4),CORREL($B$1:B4,$E$1:E4),\"\")","v":-0.60998896584854845},{"$f":"'Sheet3 (4)'!O4","v":-9.7620354679333401E-3},{"$f":"IF(ISNUMBER(G4),CORREL($B$1:B4,$G$1:G4),\"\")","v":2.2866212250590157E-3},{"$f":"'Sheet3 (4)'!Q4","v":1.9742804654011029E-2},{"$f":"IF(ISNUMBER(I4),CORREL($B$1:B4,$I$1:I4),\"\")","v":0.95044515522047179},{"$f":"'Sheet3 (4)'!S4","v":1.0291422977484432E-2},{"$f":"IF(ISNUMBER(K4),CORREL($B$1:B4,$K$1:K4),\"\")","v":-0.94295219827141696},{"$f":"'Sheet3 (4)'!U4","v":1.6029908839496034E-2},{"$f":"IF(ISNUMBER(M4),CORREL($B$1:B4,$M$1:M4),\"\")","v":-0.6665061023348603},{"$f":"'Sheet3 (4)'!W4","v":-6.9817670400322204E-3},{"$f":"IF(ISNUMBER(O4),CORREL($B$1:B4,$O$1:O4),\"\")","v":0.9191326003779513},{"$f":"'Sheet3 (4)'!Y4","v":-5.518228035664167E-3},{"$f":"IF(ISNUMBER(Q4),CORREL($B$1:B4,$Q$1:Q4),\"\")","v":-0.87727031451506321},{"$f":"'Sheet3 (4)'!AA4","v":2.7312730767285014E-3},{"$f":"IF(ISNUMBER(S4),CORREL($B$1:B4,$S$1:S4),\"\")","v":0.89994082181660973}]
[null,{"$f":"'Sheet3 (4)'!I5","v":-3.5743651753325209E-2},{"$f":"'Sheet3 (4)'!K5","v":-9.4112026752657309E-3},{"$f":"IF(ISNUMBER(C5),CORREL($B$1:B5,$C$1:C5),\"\")","v":4.9743886534019982E-2},{"$f":"'Sheet3 (4)'!M5","v":-7.217958280201414E-4},{"$f":"IF(ISNUMBER(E5),CORREL($B$1:B5,$E$1:E5),\"\")","v":-0.85176031977646871},{"$f":"'Sheet3 (4)'!O5","v":-7.1842852710219049E-3},{"$f":"IF(ISNUMBER(G5),CORREL($B$1:B5,$G$1:G5),\"\")","v":-0.52063170304405115},{"$f":"'Sheet3 (4)'!Q5","v":1.4574402939375355E-2},{"$f":"IF(ISNUMBER(I5),CORREL($B$1:B5,$I$1:I5),\"\")","v":0.9792303987535852},{"$f":"'Sheet3 (4)'!S5","v":1.0969150832099211E-2},{"$f":"IF(ISNUMBER(K5),CORREL($B$1:B5,$K$1:K5),\"\")","v":-0.82566216373954893},{"$f":"'Sheet3 (4)'!U5","v":1.6183550138277152E-2},{"$f":"IF(ISNUMBER(M5),CORREL($B$1:B5,$M$1:M5),\"\")","v":-0.62138327742055621},{"$f":"'Sheet3 (4)'!W5","v":-1.1326535737606084E-2},{"$f":"IF(ISNUMBER(O5),CORREL($B$1:B5,$O$1:O5),\"\")","v":0.96805619829287648},{"$f":"'Sheet3 (4)'!Y5","v":-3.9598395626293621E-3},{"$f":"IF(ISNUMBER(Q5),CORREL($B$1:B5,$Q$1:Q5),\"\")","v":-0.88439076682985096},{"$f":"'Sheet3 (4)'!AA5","v":4.0716200495674393E-3},{"$f":"IF(ISNUMBER(S5),CORREL($B$1:B5,$S$1:S5),\"\")","v":0.82053514413829465}]
[null,{"$f":"'Sheet3 (4)'!I6","v":-3.6130592503022967E-2},{"$f":"'Sheet3 (4)'!K6","v":-1.0844380747641141E-2},{"$f":"IF(ISNUMBER(C6),CORREL($B$1:B6,$C$1:C6),\"\")","v":0.29029674043330317},{"$f":"'Sheet3 (4)'!M6","v":-2.1413276231263055E-3},{"$f":"IF(ISNUMBER(E6),CORREL($B$1:B6,$E$1:E6),\"\")","v":-0.85869630083800674},{"$f":"'Sheet3 (4)'!O6","v":-6.0147504594601966E-3},{"$f":"IF(ISNUMBER(G6),CORREL($B$1:B6,$G$1:G6),\"\")","v":-0.69429372952953694},{"$f":"'Sheet3 (4)'!Q6","v":1.6509491733006757E-2},{"$f":"IF(ISNUMBER(I6),CORREL($B$1:B6,$I$1:I6),\"\")","v":0.96442820484691971},{"$f":"'Sheet3 (4)'!S6","v":1.1395868370190066E-2},{"$f":"IF(ISNUMBER(K6),CORREL($B$1:B6,$K$1:K6),\"\")","v":-0.82440030710254653},{"$f":"'Sheet3 (4)'!U6","v":1.3443613643347332E-2},{"$f":"IF(ISNUMBER(M6),CORREL($B$1:B6,$M$1:M6),\"\")","v":-0.34784981055633657},{"$f":"'Sheet3 (4)'!W6","v":-5.751167813551711E-3},{"$f":"IF(ISNUMBER(O6),CORREL($B$1:B6,$O$1:O6),\"\")","v":0.78756887075070536},{"$f":"'Sheet3 (4)'!Y6","v":-5.4926806836472272E-3},{"$f":"IF(ISNUMBER(Q6),CORREL($B$1:B6,$Q$1:Q6),\"\")","v":-0.87541614186824013},{"$f":"'Sheet3 (4)'!AA6","v":2.3519295938495949E-3},{"$f":"IF(ISNUMBER(S6),CORREL($B$1:B6,$S$1:S6),\"\")","v":0.86081138518575506}]
[null,{"$f":"'Sheet3 (4)'!I7","v":-3.189842805320435E-2},{"$f":"'Sheet3 (4)'!K7","v":-1.2707512241729352E-2},{"$f":"IF(ISNUMBER(C7),CORREL($B$1:B7,$C$1:C7),\"\")","v":0.38951642272810905},{"$f":"'Sheet3 (4)'!M7","v":2.9353030339485295E-3},{"$f":"IF(ISNUMBER(E7),CORREL($B$1:B7,$E$1:E7),\"\")","v":-0.74050166265519057},{"$f":"'Sheet3 (4)'!O7","v":-4.0098336396400857E-3},{"$f":"IF(ISNUMBER(G7),CORREL($B$1:B7,$G$1:G7),\"\")","v":-0.65711798318237036},{"$f":"'Sheet3 (4)'!Q7","v":1.8812002449479504E-2},{"$f":"IF(ISNUMBER(I7),CORREL($B$1:B7,$I$1:I7),\"\")","v":0.92683265395257453},{"$f":"'Sheet3 (4)'!S7","v":1.2525414794548079E-2},{"$f":"IF(ISNUMBER(K7),CORREL($B$1:B7,$K$1:K7),\"\")","v":-0.8396371496291023},{"$f":"'Sheet3 (4)'!U7","v":1.0063505070162878E-2},{"$f":"IF(ISNUMBER(M7),CORREL($B$1:B7,$M$1:M7),\"\")","v":-6.8844473814717477E-2},{"$f":"'Sheet3 (4)'!W7","v":-5.0228539856346371E-3},{"$f":"IF(ISNUMBER(O7),CORREL($B$1:B7,$O$1:O7),\"\")","v":0.71360944907880597},{"$f":"'Sheet3 (4)'!Y7","v":-6.1824591881051933E-3},{"$f":"IF(ISNUMBER(Q7),CORREL($B$1:B7,$Q$1:Q7),\"\")","v":-0.88099947734107054},{"$f":"'Sheet3 (4)'!AA7","v":4.5521217945477421E-4},{"$f":"IF(ISNUMBER(S7),CORREL($B$1:B7,$S$1:S7),\"\")","v":0.85628244322862357}]
[null,{"$f":"'Sheet3 (4)'!I8","v":-3.3857315598548973E-2},{"$f":"'Sheet3 (4)'!K8","v":-1.8583542338468824E-2},{"$f":"IF(ISNUMBER(C8),CORREL($B$1:B8,$C$1:C8),\"\")","v":0.47016651598610737},{"$f":"'Sheet3 (4)'!M8","v":1.1789331857662083E-3},{"$f":"IF(ISNUMBER(E8),CORREL($B$1:B8,$E$1:E8),\"\")","v":-0.76823549443945593},{"$f":"'Sheet3 (4)'!O8","v":-4.2007780986706633E-3},{"$f":"IF(ISNUMBER(G8),CORREL($B$1:B8,$G$1:G8),\"\")","v":-0.69347126479440546},{"$f":"'Sheet3 (4)'!Q8","v":2.0306184935701212E-2},{"$f":"IF(ISNUMBER(I8),CORREL($B$1:B8,$I$1:I8),\"\")","v":0.80631108254256512},{"$f":"'Sheet3 (4)'!S8","v":1.2977233364291314E-2},{"$f":"IF(ISNUMBER(K8),CORREL($B$1:B8,$K$1:K8),\"\")","v":-0.85379982166881585},{"$f":"'Sheet3 (4)'!U8","v":1.2419338318139975E-2},{"$f":"IF(ISNUMBER(M8),CORREL($B$1:B8,$M$1:M8),\"\")","v":4.5352475246847176E-3},{"$f":"'Sheet3 (4)'!W8","v":-5.399568034557321E-3},{"$f":"IF(ISNUMBER(O8),CORREL($B$1:B8,$O$1:O8),\"\")","v":0.66002007557474862},{"$f":"'Sheet3 (4)'!Y8","v":-6.5656694683595869E-3},{"$f":"IF(ISNUMBER(Q8),CORREL($B$1:B8,$Q$1:Q8),\"\")","v":-0.87684304494971077},{"$f":"'Sheet3 (4)'!AA8","v":3.5405391735366537E-4},{"$f":"IF(ISNUMBER(S8),CORREL($B$1:B8,$S$1:S8),\"\")","v":0.86925501756788892}]
[null,{"$f":"'Sheet3 (4)'!I9","v":-3.6178960096735137E-2},{"$f":"'Sheet3 (4)'!K9","v":-1.7030932760062095E-2},{"$f":"IF(ISNUMBER(C9),CORREL($B$1:B9,$C$1:C9),\"\")","v":0.55056279631848737},{"$f":"'Sheet3 (4)'!M9","v":1.0826937420301437E-3},{"$f":"IF(ISNUMBER(E9),CORREL($B$1:B9,$E$1:E9),\"\")","v":-0.79467877918688046},{"$f":"'Sheet3 (4)'!O9","v":-8.0435353366589604E-3},{"$f":"IF(ISNUMBER(G9),CORREL($B$1:B9,$G$1:G9),\"\")","v":-0.60755231916945285},{"$f":"'Sheet3 (4)'!Q9","v":1.3374157991426772E-2},{"$f":"IF(ISNUMBER(I9),CORREL($B$1:B9,$I$1:I9),\"\")","v":0.80748710222293407},{"$f":"'Sheet3 (4)'!S9","v":1.3328647807424892E-2},{"$f":"IF(ISNUMBER(K9),CORREL($B$1:B9,$K$1:K9),\"\")","v":-0.86484495408901774},{"$f":"'Sheet3 (4)'!U9","v":7.5028167571443384E-3},{"$f":"IF(ISNUMBER(M9),CORREL($B$1:B9,$M$1:M9),\"\")","v":0.22531591907050869},{"$f":"'Sheet3 (4)'!W9","v":-2.1347129438947779E-3},{"$f":"IF(ISNUMBER(O9),CORREL($B$1:B9,$O$1:O9),\"\")","v":0.41273754851412148},{"$f":"'Sheet3 (4)'!Y9","v":-8.8138364458523587E-3},{"$f":"IF(ISNUMBER(Q9),CORREL($B$1:B9,$Q$1:Q9),\"\")","v":-0.82225668898373228},{"$f":"'Sheet3 (4)'!AA9","v":-4.096909615092824E-3},{"$f":"IF(ISNUMBER(S9),CORREL($B$1:B9,$S$1:S9),\"\")","v":0.86021288610832425}]
[null,{"$f":"'Sheet3 (4)'!I10","v":-3.8234582829504239E-2},{"$f":"'Sheet3 (4)'!K10","v":-1.695927385644325E-2},{"$f":"IF(ISNUMBER(C10),CORREL($B$1:B10,$C$1:C10),\"\")","v":0.6122518130673088},{"$f":"'Sheet3 (4)'!M10","v":5.1969299617448811E-3},{"$f":"IF(ISNUMBER(E10),CORREL($B$1:B10,$E$1:E10),\"\")","v":-0.8083852964075996},{"$f":"'Sheet3 (4)'!O10","v":-5.4180490249899479E-3},{"$f":"IF(ISNUMBER(G10),CORREL($B$1:B10,$G$1:G10),\"\")","v":-0.64361530746928086},{"$f":"'Sheet3 (4)'!Q10","v":1.0704225352112687E-2},{"$f":"IF(ISNUMBER(I10),CORREL($B$1:B10,$I$1:I10),\"\")","v":0.80529080770665507},{"$f":"'Sheet3 (4)'!S10","v":1.370516328221099E-2},{"$f":"IF(ISNUMBER(K10),CORREL($B$1:B10,$K$1:K10),\"\")","v":-0.87255793615641508},{"$f":"'Sheet3 (4)'!U10","v":6.9650722114104977E-3},{"$f":"IF(ISNUMBER(M10),CORREL($B$1:B10,$M$1:M10),\"\")","v":0.36719661435066048},{"$f":"'Sheet3 (4)'!W10","v":-6.780852880606304E-4},{"$f":"IF(ISNUMBER(O10),CORREL($B$1:B10,$O$1:O10),\"\")","v":0.16468802299399088},{"$f":"'Sheet3 (4)'!Y10","v":-2.835756073882977E-3},{"$f":"IF(ISNUMBER(Q10),CORREL($B$1:B10,$Q$1:Q10),\"\")","v":-0.8449512188431989},{"$f":"'Sheet3 (4)'!AA10","v":-3.5152496080118434E-3},{"$f":"IF(ISNUMBER(S10),CORREL($B$1:B10,$S$1:S10),\"\")","v":0.87765999440915521}]
[null,{"$f":"'Sheet3 (4)'!I11","v":-2.998790810157189E-2},{"$f":"'Sheet3 (4)'!K11","v":-1.9085154663800199E-2},{"$f":"IF(ISNUMBER(C11),CORREL($B$1:B11,$C$1:C11),\"\")","v":0.56552368580796486},{"$f":"'Sheet3 (4)'!M11","v":7.2901378630032231E-3},{"$f":"IF(ISNUMBER(E11),CORREL($B$1:B11,$E$1:E11),\"\")","v":-0.68521481753105451},{"$f":"'Sheet3 (4)'!O11","v":-7.4468339021887108E-3},{"$f":"IF(ISNUMBER(G11),CORREL($B$1:B11,$G$1:G11),\"\")","v":-0.6404751431792719},{"$f":"'Sheet3 (4)'!Q11","v":1.440293937538272E-2},{"$f":"IF(ISNUMBER(I11),CORREL($B$1:B11,$I$1:I11),\"\")","v":0.7876979267703268},{"$f":"'Sheet3 (4)'!S11","v":1.2876829237681658E-2},{"$f":"IF(ISNUMBER(K11),CORREL($B$1:B11,$K$1:K11),\"\")","v":-0.86526382410020308},{"$f":"'Sheet3 (4)'!U11","v":5.8895831199426698E-3},{"$f":"IF(ISNUMBER(M11),CORREL($B$1:B11,$M$1:M11),\"\")","v":0.3373696891592749},{"$f":"'Sheet3 (4)'!W11","v":-2.4360841830328678E-3},{"$f":"IF(ISNUMBER(O11),CORREL($B$1:B11,$O$1:O11),\"\")","v":0.14874561032618111},{"$f":"'Sheet3 (4)'!Y11","v":-9.1970467261071878E-4},{"$f":"IF(ISNUMBER(Q11),CORREL($B$1:B11,$Q$1:Q11),\"\")","v":-0.78570801606816842},{"$f":"'Sheet3 (4)'!AA11","v":1.011582621009651E-4},{"$f":"IF(ISNUMBER(S11),CORREL($B$1:B11,$S$1:S11),\"\")","v":0.87086405971586212}]
[null,{"$f":"'Sheet3 (4)'!I12","v":-2.8730350665054402E-2},{"$f":"'Sheet3 (4)'!K12","v":-1.762809029021855E-2},{"$f":"IF(ISNUMBER(C12),CORREL($B$1:B12,$C$1:C12),\"\")","v":0.53706296333893888},{"$f":"'Sheet3 (4)'!M12","v":6.784880783389056E-3},{"$f":"IF(ISNUMBER(E12),CORREL($B$1:B12,$E$1:E12),\"\")","v":-0.61358995982721631},{"$f":"'Sheet3 (4)'!O12","v":-7.9003269923860944E-3},{"$f":"IF(ISNUMBER(G12),CORREL($B$1:B12,$G$1:G12),\"\")","v":-0.63718745877170424},{"$f":"'Sheet3 (4)'!Q12","v":1.1341090018371086E-2},{"$f":"IF(ISNUMBER(I12),CORREL($B$1:B12,$I$1:I12),\"\")","v":0.70699582303078179},{"$f":"'Sheet3 (4)'!S12","v":1.6139963352493805E-2},{"$f":"IF(ISNUMBER(K12),CORREL($B$1:B12,$K$1:K12),\"\")","v":-0.8144732658965177},{"$f":"'Sheet3 (4)'!U12","v":6.0176175355936262E-3},{"$f":"IF(ISNUMBER(M12),CORREL($B$1:B12,$M$1:M12),\"\")","v":0.30568434102377906},{"$f":"'Sheet3 (4)'!W12","v":-3.6415691395850838E-3},{"$f":"IF(ISNUMBER(O12),CORREL($B$1:B12,$O$1:O12),\"\")","v":0.14832733394983294},{"$f":"'Sheet3 (4)'!Y12","v":2.2481669774927714E-3},{"$f":"IF(ISNUMBER(Q12),CORREL($B$1:B12,$Q$1:Q12),\"\")","v":-0.68308612287817183},{"$f":"'Sheet3 (4)'!AA12","v":-2.6554043801527774E-3},{"$f":"IF(ISNUMBER(S12),CORREL($B$1:B12,$S$1:S12),\"\")","v":0.82743479125081743}]
[null,{"$f":"'Sheet3 (4)'!I13","v":-3.2382103990326448E-2},{"$f":"'Sheet3 (4)'!K13","v":-1.8822405350531462E-2},{"$f":"IF(ISNUMBER(C13),CORREL($B$1:B13,$C$1:C13),\"\")","v":0.54228905043425324},{"$f":"'Sheet3 (4)'!M13","v":6.303683564709007E-3},{"$f":"IF(ISNUMBER(E13),CORREL($B$1:B13,$E$1:E13),\"\")","v":-0.61185722403220522},{"$f":"'Sheet3 (4)'!O13","v":-5.7999379430508308E-3},{"$f":"IF(ISNUMBER(G13),CORREL($B$1:B13,$G$1:G13),\"\")","v":-0.64348418292089826},{"$f":"'Sheet3 (4)'!Q13","v":1.0900183710961393E-2},{"$f":"IF(ISNUMBER(I13),CORREL($B$1:B13,$I$1:I13),\"\")","v":0.69099307471525073},{"$f":"'Sheet3 (4)'!S13","v":1.5060618991440549E-2},{"$f":"IF(ISNUMBER(K13),CORREL($B$1:B13,$K$1:K13),\"\")","v":-0.81346478530830169},{"$f":"'Sheet3 (4)'!U13","v":5.4030523404691531E-3},{"$f":"IF(ISNUMBER(M13),CORREL($B$1:B13,$M$1:M13),\"\")","v":0.32546051219882599},{"$f":"'Sheet3 (4)'!W13","v":-2.2100557536792291E-3},{"$f":"IF(ISNUMBER(O13),CORREL($B$1:B13,$O$1:O13),\"\")","v":0.11520479393028644},{"$f":"'Sheet3 (4)'!Y13","v":1.3795570089160782E-3},{"$f":"IF(ISNUMBER(Q13),CORREL($B$1:B13,$Q$1:Q13),\"\")","v":-0.67276769983391216},{"$f":"'Sheet3 (4)'!AA13","v":-2.6301148146275362E-3},{"$f":"IF(ISNUMBER(S13),CORREL($B$1:B13,$S$1:S13),\"\")","v":0.82286216323956296}]
[null,{"$f":"'Sheet3 (4)'!I14","v":-2.9310761789600979E-2},{"$f":"'Sheet3 (4)'!K14","v":-1.8105816314343687E-2},{"$f":"IF(ISNUMBER(C14),CORREL($B$1:B14,$C$1:C14),\"\")","v":0.52559654543616618},{"$f":"'Sheet3 (4)'!M14","v":8.589370353439341E-3},{"$f":"IF(ISNUMBER(E14),CORREL($B$1:B14,$E$1:E14),\"\")","v":-0.55935697660816253},{"$f":"'Sheet3 (4)'!O14","v":-5.1316323364442177E-3},{"$f":"IF(ISNUMBER(G14),CORREL($B$1:B14,$G$1:G14),\"\")","v":-0.62081358782639018},{"$f":"'Sheet3 (4)'!Q14","v":1.3643600734843829E-2},{"$f":"IF(ISNUMBER(I14),CORREL($B$1:B14,$I$1:I14),\"\")","v":0.68075331105671366},{"$f":"'Sheet3 (4)'!S14","v":1.5663043751098192E-2},{"$f":"IF(ISNUMBER(K14),CORREL($B$1:B14,$K$1:K14),\"\")","v":-0.78998251712295786},{"$f":"'Sheet3 (4)'!U14","v":1.2547372733791077E-3},{"$f":"IF(ISNUMBER(M14),CORREL($B$1:B14,$M$1:M14),\"\")","v":0.27894705930647651},{"$f":"'Sheet3 (4)'!W14","v":-1.0296850670551635E-3},{"$f":"IF(ISNUMBER(O14),CORREL($B$1:B14,$O$1:O14),\"\")","v":0.10709083309133664},{"$f":"'Sheet3 (4)'!Y14","v":3.2956084101883362E-3},{"$f":"IF(ISNUMBER(Q14),CORREL($B$1:B14,$Q$1:Q14),\"\")","v":-0.61867911284119392},{"$f":"'Sheet3 (4)'!AA14","v":-1.5426634970411553E-3},{"$f":"IF(ISNUMBER(S14),CORREL($B$1:B14,$S$1:S14),\"\")","v":0.8095104491302314}]
[null,{"$f":"'Sheet3 (4)'!I15","v":-3.216444981862155E-2},{"$f":"'Sheet3 (4)'!K15","v":-1.8655201242087669E-2},{"$f":"IF(ISNUMBER(C15),CORREL($B$1:B15,$C$1:C15),\"\")","v":0.5312028791110891},{"$f":"'Sheet3 (4)'!M15","v":5.84654620696294E-3},{"$f":"IF(ISNUMBER(E15),CORREL($B$1:B15,$E$1:E15),\"\")","v":-0.56461681624853244},{"$f":"'Sheet3 (4)'!O15","v":-4.4155906150798929E-3},{"$f":"IF(ISNUMBER(G15),CORREL($B$1:B15,$G$1:G15),\"\")","v":-0.61603427911036546},{"$f":"'Sheet3 (4)'!Q15","v":1.3570116350275616E-2},{"$f":"IF(ISNUMBER(I15),CORREL($B$1:B15,$I$1:I15),\"\")","v":0.68457491566199402},{"$f":"'Sheet3 (4)'!S15","v":1.6265468510755839E-2},{"$f":"IF(ISNUMBER(K15),CORREL($B$1:B15,$K$1:K15),\"\")","v":-0.78598779788833195},{"$f":"'Sheet3 (4)'!U15","v":6.2480794837652303E-3},{"$f":"IF(ISNUMBER(M15),CORREL($B$1:B15,$M$1:M15),\"\")","v":0.29278752621107668},{"$f":"'Sheet3 (4)'!W15","v":-3.4657692500878884E-3},{"$f":"IF(ISNUMBER(O15),CORREL($B$1:B15,$O$1:O15),\"\")","v":9.9533266126509312E-2},{"$f":"'Sheet3 (4)'!Y15","v":2.5547352016963443E-3},{"$f":"IF(ISNUMBER(Q15),CORREL($B$1:B15,$Q$1:Q15),\"\")","v":-0.61508730477612727},{"$f":"'Sheet3 (4)'!AA15","v":-4.2233574427191743E-3},{"$f":"IF(ISNUMBER(S15),CORREL($B$1:B15,$S$1:S15),\"\")","v":0.79782112394662874}]
[null,{"$f":"'Sheet3 (4)'!I16","v":-3.2140266021765465E-2},{"$f":"'Sheet3 (4)'!K16","v":-1.8320793025199952E-2},{"$f":"IF(ISNUMBER(C16),CORREL($B$1:B16,$C$1:C16),\"\")","v":0.53644069208248912},{"$f":"'Sheet3 (4)'!M16","v":5.50970815388692E-3},{"$f":"IF(ISNUMBER(E16),CORREL($B$1:B16,$E$1:E16),\"\")","v":-0.56946469327018545},{"$f":"'Sheet3 (4)'!O16","v":-6.3966393775210795E-3},{"$f":"IF(ISNUMBER(G16),CORREL($B$1:B16,$G$1:G16),\"\")","v":-0.61741216416507483},{"$f":"'Sheet3 (4)'!Q16","v":1.2149418248622118E-2},{"$f":"IF(ISNUMBER(I16),CORREL($B$1:B16,$I$1:I16),\"\")","v":0.68367695069435186},{"$f":"'Sheet3 (4)'!S16","v":1.6114862320841427E-2},{"$f":"IF(ISNUMBER(K16),CORREL($B$1:B16,$K$1:K16),\"\")","v":-0.78367762050763901},{"$f":"'Sheet3 (4)'!U16","v":7.1699272764519399E-3},{"$f":"IF(ISNUMBER(M16),CORREL($B$1:B16,$M$1:M16),\"\")","v":0.30223317952251211},{"$f":"'Sheet3 (4)'!W16","v":-5.5753679240545164E-3},{"$f":"IF(ISNUMBER(O16),CORREL($B$1:B16,$O$1:O16),\"\")","v":0.11078723529264944},{"$f":"'Sheet3 (4)'!Y16","v":9.1970467261071878E-4},{"$f":"IF(ISNUMBER(Q16),CORREL($B$1:B16,$Q$1:Q16),\"\")","v":-0.6174793679403614},{"$f":"'Sheet3 (4)'!AA16","v":-3.4899600424864586E-3},{"$f":"IF(ISNUMBER(S16),CORREL($B$1:B16,$S$1:S16),\"\")","v":0.79352223196082594}]
[null,{"$f":"'Sheet3 (4)'!I17","v":-3.0108827085852451E-2},{"$f":"'Sheet3 (4)'!K17","v":-1.791472590469366E-2},{"$f":"IF(ISNUMBER(C17),CORREL($B$1:B17,$C$1:C17),\"\")","v":0.53087536243813382},{"$f":"'Sheet3 (4)'!M17","v":2.9834227558164935E-3},{"$f":"IF(ISNUMBER(E17),CORREL($B$1:B17,$E$1:E17),\"\")","v":-0.56951291476938115},{"$f":"'Sheet3 (4)'!O17","v":-6.3966393775210795E-3},{"$f":"IF(ISNUMBER(G17),CORREL($B$1:B17,$G$1:G17),\"\")","v":-0.6175246702886249},{"$f":"'Sheet3 (4)'!Q17","v":1.4843845682792412E-2},{"$f":"IF(ISNUMBER(I17),CORREL($B$1:B17,$I$1:I17),\"\")","v":0.6835339743806933},{"$f":"'Sheet3 (4)'!S17","v":1.6491377795627385E-2},{"$f":"IF(ISNUMBER(K17),CORREL($B$1:B17,$K$1:K17),\"\")","v":-0.76838372495307017},{"$f":"'Sheet3 (4)'!U17","v":4.5324183140429139E-3},{"$f":"IF(ISNUMBER(M17),CORREL($B$1:B17,$M$1:M17),\"\")","v":0.29626811522020075},{"$f":"'Sheet3 (4)'!W17","v":-7.2329097393138662E-3},{"$f":"IF(ISNUMBER(O17),CORREL($B$1:B17,$O$1:O17),\"\")","v":0.11205168985456553},{"$f":"'Sheet3 (4)'!Y17","v":-1.916051401272258E-3},{"$f":"IF(ISNUMBER(Q17),CORREL($B$1:B17,$Q$1:Q17),\"\")","v":-0.61620826877796475},{"$f":"'Sheet3 (4)'!AA17","v":-1.7196904557179879E-3},{"$f":"IF(ISNUMBER(S17),CORREL($B$1:B17,$S$1:S17),\"\")","v":0.78882861294103401}]
[null,{"$f":"'Sheet3 (4)'!I18","v":-3.3228536880290226E-2},{"$f":"'Sheet3 (4)'!K18","v":-1.9204586169831516E-2},{"$f":"IF(ISNUMBER(C18),CORREL($B$1:B18,$C$1:C18),\"\")","v":0.54083367530025894},{"$f":"'Sheet3 (4)'!M18","v":4.47513413372474E-3},{"$f":"IF(ISNUMBER(E18),CORREL($B$1:B18,$E$1:E18),\"\")","v":-0.57636610145154654},{"$f":"'Sheet3 (4)'!O18","v":-3.3176599756546844E-3},{"$f":"IF(ISNUMBER(G18),CORREL($B$1:B18,$G$1:G18),\"\")","v":-0.60907098116247871},{"$f":"'Sheet3 (4)'!Q18","v":1.3374157991426772E-2},{"$f":"IF(ISNUMBER(I18),CORREL($B$1:B18,$I$1:I18),\"\")","v":0.68899312078270192},{"$f":"'Sheet3 (4)'!S18","v":1.5939155099274637E-2},{"$f":"IF(ISNUMBER(K18),CORREL($B$1:B18,$K$1:K18),\"\")","v":-0.77214524621440839},{"$f":"'Sheet3 (4)'!U18","v":4.8397009116051505E-3},{"$f":"IF(ISNUMBER(M18),CORREL($B$1:B18,$M$1:M18),\"\")","v":0.31440252127800788},{"$f":"'Sheet3 (4)'!W18","v":-6.4794816414686426E-3},{"$f":"IF(ISNUMBER(O18),CORREL($B$1:B18,$O$1:O18),\"\")","v":0.13181731289693588},{"$f":"'Sheet3 (4)'!Y18","v":-1.6094831770686851E-3},{"$f":"IF(ISNUMBER(Q18),CORREL($B$1:B18,$Q$1:Q18),\"\")","v":-0.62115644712828},{"$f":"'Sheet3 (4)'!AA18","v":-3.0853269940823106E-3},{"$f":"IF(ISNUMBER(S18),CORREL($B$1:B18,$S$1:S18),\"\")","v":0.79179149289307471}]
[null,{"$f":"'Sheet3 (4)'!I19","v":-3.2116082224909248E-2},{"$f":"'Sheet3 (4)'!K19","v":-1.9013495760181489E-2},{"$f":"IF(ISNUMBER(C19),CORREL($B$1:B19,$C$1:C19),\"\")","v":0.54380241715232591},{"$f":"'Sheet3 (4)'!M19","v":1.5638909607101925E-3},{"$f":"IF(ISNUMBER(E19),CORREL($B$1:B19,$E$1:E19),\"\")","v":-0.57286114170730629},{"$f":"'Sheet3 (4)'!O19","v":-2.0765209919564754E-3},{"$f":"IF(ISNUMBER(G19),CORREL($B$1:B19,$G$1:G19),\"\")","v":-0.57217869105640784},{"$f":"'Sheet3 (4)'!Q19","v":1.5554194733619162E-2},{"$f":"IF(ISNUMBER(I19),CORREL($B$1:B19,$I$1:I19),\"\")","v":0.68704611803851889},{"$f":"'Sheet3 (4)'!S19","v":1.5813649941012604E-2},{"$f":"IF(ISNUMBER(K19),CORREL($B$1:B19,$K$1:K19),\"\")","v":-0.77228973178463645},{"$f":"'Sheet3 (4)'!U19","v":3.6617842876165291E-3},{"$f":"IF(ISNUMBER(M19),CORREL($B$1:B19,$M$1:M19),\"\")","v":0.32293074154449769},{"$f":"'Sheet3 (4)'!W19","v":-3.968054648651324E-3},{"$f":"IF(ISNUMBER(O19),CORREL($B$1:B19,$O$1:O19),\"\")","v":0.12747082196745094},{"$f":"'Sheet3 (4)'!Y19","v":6.6423115244102621E-4},{"$f":"IF(ISNUMBER(Q19),CORREL($B$1:B19,$Q$1:Q19),\"\")","v":-0.62290992150850244},{"$f":"'Sheet3 (4)'!AA19","v":-4.096909615092824E-3},{"$f":"IF(ISNUMBER(S19),CORREL($B$1:B19,$S$1:S19),\"\")","v":0.78669110195907133}]
[null,{"$f":"'Sheet3 (4)'!I20","v":-3.2478839177750921E-2},{"$f":"'Sheet3 (4)'!K20","v":-2.2835303953182857E-2},{"$f":"IF(ISNUMBER(C20),CORREL($B$1:B20,$C$1:C20),\"\")","v":0.53782101389602388},{"$f":"'Sheet3 (4)'!M20","v":2.0932079012583415E-3},{"$f":"IF(ISNUMBER(E20),CORREL($B$1:B20,$E$1:E20),\"\")","v":-0.57130874057969927},{"$f":"'Sheet3 (4)'!O20","v":-9.0698618039490239E-4},{"$f":"IF(ISNUMBER(G20),CORREL($B$1:B20,$G$1:G20),\"\")","v":-0.53759365596180753},{"$f":"'Sheet3 (4)'!Q20","v":1.4623392529087635E-2},{"$f":"IF(ISNUMBER(I20),CORREL($B$1:B20,$I$1:I20),\"\")","v":0.68845215221767231},{"$f":"'Sheet3 (4)'!S20","v":1.4709204548306969E-2},{"$f":"IF(ISNUMBER(K20),CORREL($B$1:B20,$K$1:K20),\"\")","v":-0.77417738473855646},{"$f":"'Sheet3 (4)'!U20","v":4.8653077947353124E-3},{"$f":"IF(ISNUMBER(M20),CORREL($B$1:B20,$M$1:M20),\"\")","v":0.33228788206246884},{"$f":"'Sheet3 (4)'!W20","v":-5.6507107338389668E-3},{"$f":"IF(ISNUMBER(O20),CORREL($B$1:B20,$O$1:O20),\"\")","v":0.13517632206171995},{"$f":"'Sheet3 (4)'!Y20","v":1.7116725851365913E-3},{"$f":"IF(ISNUMBER(Q20),CORREL($B$1:B20,$Q$1:Q20),\"\")","v":-0.62459280290494967},{"$f":"'Sheet3 (4)'!AA20","v":-1.6185321936170228E-3},{"$f":"IF(ISNUMBER(S20),CORREL($B$1:B20,$S$1:S20),\"\")","v":0.78839100368197934}]
[null,{"$f":"'Sheet3 (4)'!I21","v":-3.1366384522370075E-2},{"$f":"'Sheet3 (4)'!K21","v":-2.2333691627851347E-2},{"$f":"IF(ISNUMBER(C21),CORREL($B$1:B21,$C$1:C21),\"\")","v":0.52659310547317151},{"$f":"'Sheet3 (4)'!M21","v":8.9021485455815163E-4},{"$f":"IF(ISNUMBER(E21),CORREL($B$1:B21,$E$1:E21),\"\")","v":-0.56751418824435618},{"$f":"'Sheet3 (4)'!O21","v":-2.0765209919564754E-3},{"$f":"IF(ISNUMBER(G21),CORREL($B$1:B21,$G$1:G21),\"\")","v":-0.5199587681710186},{"$f":"'Sheet3 (4)'!Q21","v":1.5358236374770316E-2},{"$f":"IF(ISNUMBER(I21),CORREL($B$1:B21,$I$1:I21),\"\")","v":0.6882209276921728},{"$f":"'Sheet3 (4)'!S21","v":1.2600717889505356E-2},{"$f":"IF(ISNUMBER(K21),CORREL($B$1:B21,$K$1:K21),\"\")","v":-0.77326060768112304},{"$f":"'Sheet3 (4)'!U21","v":6.094438184984112E-3},{"$f":"IF(ISNUMBER(M21),CORREL($B$1:B21,$M$1:M21),\"\")","v":0.3349710212360425},{"$f":"'Sheet3 (4)'!W21","v":-6.9817670400322204E-3},{"$f":"IF(ISNUMBER(O21),CORREL($B$1:B21,$O$1:O21),\"\")","v":0.14148983853650307},{"$f":"'Sheet3 (4)'!Y21","v":-2.0693355133740445E-3},{"$f":"IF(ISNUMBER(Q21),CORREL($B$1:B21,$Q$1:Q21),\"\")","v":-0.62553077091797882},{"$f":"'Sheet3 (4)'!AA21","v":-1.1886095796874898E-3},{"$f":"IF(ISNUMBER(S21),CORREL($B$1:B21,$S$1:S21),\"\")","v":0.78882061821359029}]
[null,{"$f":"'Sheet3 (4)'!I22","v":-2.8633615477629926E-2},{"$f":"'Sheet3 (4)'!K22","v":-2.2524782037501374E-2},{"$f":"IF(ISNUMBER(C22),CORREL($B$1:B22,$C$1:C22),\"\")","v":0.4921157895081037},{"$f":"'Sheet3 (4)'!M22","v":1.1789331857662083E-3},{"$f":"IF(ISNUMBER(E22),CORREL($B$1:B22,$E$1:E22),\"\")","v":-0.56822734383406637},{"$f":"'Sheet3 (4)'!O22","v":-5.2509726233388376E-4},{"$f":"IF(ISNUMBER(G22),CORREL($B$1:B22,$G$1:G22),\"\")","v":-0.45203775369565463},{"$f":"'Sheet3 (4)'!Q22","v":1.8052663808940612E-2},{"$f":"IF(ISNUMBER(I22),CORREL($B$1:B22,$I$1:I22),\"\")","v":0.68633725987681271},{"$f":"'Sheet3 (4)'!S22","v":1.4558598358392559E-2},{"$f":"IF(ISNUMBER(K22),CORREL($B$1:B22,$K$1:K22),\"\")","v":-0.76514065063388415},{"$f":"'Sheet3 (4)'!U22","v":8.6807333811329598E-3},{"$f":"IF(ISNUMBER(M22),CORREL($B$1:B22,$M$1:M22),\"\")","v":0.33472120412122358},{"$f":"'Sheet3 (4)'!W22","v":-4.5456828569993522E-3},{"$f":"IF(ISNUMBER(O22),CORREL($B$1:B22,$O$1:O22),\"\")","v":0.14178970128482402},{"$f":"'Sheet3 (4)'!Y22","v":-4.2919551388498752E-3},{"$f":"IF(ISNUMBER(Q22),CORREL($B$1:B22,$Q$1:Q22),\"\")","v":-0.6259171598781329},{"$f":"'Sheet3 (4)'!AA22","v":-5.0579131050626302E-5},{"$f":"IF(ISNUMBER(S22),CORREL($B$1:B22,$S$1:S22),\"\")","v":0.78736105219686869}]
[null,{"$f":"'Sheet3 (4)'!I23","v":-3.071342200725511E-2},{"$f":"'Sheet3 (4)'!K23","v":-2.2548668338707747E-2},{"$f":"IF(ISNUMBER(C23),CORREL($B$1:B23,$C$1:C23),\"\")","v":0.48141230491449427},{"$f":"'Sheet3 (4)'!M23","v":1.1789331857662083E-3},{"$f":"IF(ISNUMBER(E23),CORREL($B$1:B23,$E$1:E23),\"\")","v":-0.56690575576126978},{"$f":"'Sheet3 (4)'!O23","v":-2.7209585411844361E-3},{"$f":"IF(ISNUMBER(G23),CORREL($B$1:B23,$G$1:G23),\"\")","v":-0.44586542300126497},{"$f":"'Sheet3 (4)'!Q23","v":1.7342314758113861E-2},{"$f":"IF(ISNUMBER(I23),CORREL($B$1:B23,$I$1:I23),\"\")","v":0.67986868321619531},{"$f":"'Sheet3 (4)'!S23","v":1.4558598358392559E-2},{"$f":"IF(ISNUMBER(K23),CORREL($B$1:B23,$K$1:K23),\"\")","v":-0.76417170433654102},{"$f":"'Sheet3 (4)'!U23","v":8.5783058486121663E-3},{"$f":"IF(ISNUMBER(M23),CORREL($B$1:B23,$M$1:M23),\"\")","v":0.33468212981224493},{"$f":"'Sheet3 (4)'!W23","v":-6.2283389421869959E-3},{"$f":"IF(ISNUMBER(O23),CORREL($B$1:B23,$O$1:O23),\"\")","v":0.14362491375372102},{"$f":"'Sheet3 (4)'!Y23","v":-2.4014510895945577E-3},{"$f":"IF(ISNUMBER(Q23),CORREL($B$1:B23,$Q$1:Q23),\"\")","v":-0.62616657740707049},{"$f":"'Sheet3 (4)'!AA23","v":-1.1633200141622487E-3},{"$f":"IF(ISNUMBER(S23),CORREL($B$1:B23,$S$1:S23),\"\")","v":0.78703596913891227}]
[null,{"$f":"'Sheet3 (4)'!I24","v":{"$error":"#N/A"}},{"$f":"'Sheet3 (4)'!K24","v":-2.0398901230144425E-2},{"$f":"IF(ISNUMBER(C24),CORREL($B$1:B24,$C$1:C24),\"\")","v":{"$error":"#N/A"}},{"$f":"'Sheet3 (4)'!M24","v":-1.9969684575222774E-3},{"$f":"IF(ISNUMBER(E24),CORREL($B$1:B24,$E$1:E24),\"\")","v":{"$error":"#N/A"}},{"$f":"'Sheet3 (4)'!O24","v":-3.0312432871089541E-3},{"$f":"IF(ISNUMBER(G24),CORREL($B$1:B24,$G$1:G24),\"\")","v":{"$error":"#N/A"}},{"$f":"'Sheet3 (4)'!Q24","v":1.7538273116962707E-2},{"$f":"IF(ISNUMBER(I24),CORREL($B$1:B24,$I$1:I24),\"\")","v":{"$error":"#N/A"}},{"$f":"'Sheet3 (4)'!S24","v":1.5186124149702582E-2},{"$f":"IF(ISNUMBER(K24),CORREL($B$1:B24,$K$1:K24),\"\")","v":{"$error":"#N/A"}},{"$f":"'Sheet3 (4)'!U24","v":1.1292635460411824E-2},{"$f":"IF(ISNUMBER(M24),CORREL($B$1:B24,$M$1:M24),\"\")","v":{"$error":"#N/A"}},{"$f":"'Sheet3 (4)'!W24","v":-6.5045959113969355E-3},{"$f":"IF(ISNUMBER(O24),CORREL($B$1:B24,$O$1:O24),\"\")","v":{"$error":"#N/A"}},{"$f":"'Sheet3 (4)'!Y24","v":-2.3759037375776174E-3},{"$f":"IF(ISNUMBER(Q24),CORREL($B$1:B24,$Q$1:Q24),\"\")","v":{"$error":"#N/A"}},{"$f":"'Sheet3 (4)'!AA24","v":-2.6301148146275362E-3},{"$f":"IF(ISNUMBER(S24),CORREL($B$1:B24,$S$1:S24),\"\")","v":{"$error":"#N/A"}}]
[null,{"$f":"'Sheet3 (4)'!I25","v":{"$error":"#N/A"}},{"$f":"'Sheet3 (4)'!K25","v":-1.9825630001194208E-2},{"$f":"IF(ISNUMBER(C25),CORREL($B$1:B25,$C$1:C25),\"\")","v":{"$error":"#N/A"}},{"$f":"'Sheet3 (4)'!M25","v":-1.0826937420301437E-3},{"$f":"IF(ISNUMBER(E25),CORREL($B$1:B25,$E$1:E25),\"\")","v":{"$error":"#N/A"}},{"$f":"'Sheet3 (4)'!O25","v":-4.1530419839129508E-3},{"$f":"IF(ISNUMBER(G25),CORREL($B$1:B25,$G$1:G25),\"\")","v":{"$error":"#N/A"}},{"$f":"'Sheet3 (4)'!Q25","v":1.658297611757497E-2},{"$f":"IF(ISNUMBER(I25),CORREL($B$1:B25,$I$1:I25),\"\")","v":{"$error":"#N/A"}},{"$f":"'Sheet3 (4)'!S25","v":1.6215266447451082E-2},{"$f":"IF(ISNUMBER(K25),CORREL($B$1:B25,$K$1:K25),\"\")","v":{"$error":"#N/A"}},{"$f":"'Sheet3 (4)'!U25","v":1.1907200655536297E-2},{"$f":"IF(ISNUMBER(M25),CORREL($B$1:B25,$M$1:M25),\"\")","v":{"$error":"#N/A"}},{"$f":"'Sheet3 (4)'!W25","v":-6.7306243407504315E-3},{"$f":"IF(ISNUMBER(O25),CORREL($B$1:B25,$O$1:O25),\"\")","v":{"$error":"#N/A"}},{"$f":"'Sheet3 (4)'!Y25","v":-5.0328283473418675E-3},{"$f":"IF(ISNUMBER(Q25),CORREL($B$1:B25,$Q$1:Q25),\"\")","v":{"$error":"#N/A"}},{"$f":"'Sheet3 (4)'!AA25","v":-2.7312730767286453E-3},{"$f":"IF(ISNUMBER(S25),CORREL($B$1:B25,$S$1:S25),\"\")","v":{"$error":"#N/A"}}]
[null,{"$f":"'Sheet3 (4)'!I26","v":{"$error":"#N/A"}},{"$f":"'Sheet3 (4)'!K26","v":-2.1545443688044865E-2},{"$f":"IF(ISNUMBER(C26),CORREL($B$1:B26,$C$1:C26),\"\")","v":{"$error":"#N/A"}},{"$f":"'Sheet3 (4)'!M26","v":-1.2992324904362545E-3},{"$f":"IF(ISNUMBER(E26),CORREL($B$1:B26,$E$1:E26),\"\")","v":{"$error":"#N/A"}},{"$f":"'Sheet3 (4)'!O26","v":-2.6493543690479355E-3},{"$f":"IF(ISNUMBER(G26),CORREL($B$1:B26,$G$1:G26),\"\")","v":{"$error":"#N/A"}},{"$f":"'Sheet3 (4)'!Q26","v":1.5701163502755727E-2},{"$f":"IF(ISNUMBER(I26),CORREL($B$1:B26,$I$1:I26),\"\")","v":{"$error":"#N/A"}},{"$f":"'Sheet3 (4)'!S26","v":1.6867893270413482E-2},{"$f":"IF(ISNUMBER(K26),CORREL($B$1:B26,$K$1:K26),\"\")","v":{"$error":"#N/A"}},{"$f":"'Sheet3 (4)'!U26","v":1.0652463382157189E-2},{"$f":"IF(ISNUMBER(M26),CORREL($B$1:B26,$M$1:M26),\"\")","v":{"$error":"#N/A"}},{"$f":"'Sheet3 (4)'!W26","v":-7.6849665980210013E-3},{"$f":"IF(ISNUMBER(O26),CORREL($B$1:B26,$O$1:O26),\"\")","v":{"$error":"#N/A"}},{"$f":"'Sheet3 (4)'!Y26","v":-4.4196918989347217E-3},{"$f":"IF(ISNUMBER(Q26),CORREL($B$1:B26,$Q$1:Q26),\"\")","v":{"$error":"#N/A"}},{"$f":"'Sheet3 (4)'!AA26","v":-3.7681452632644E-3},{"$f":"IF(ISNUMBER(S26),CORREL($B$1:B26,$S$1:S26),\"\")","v":{"$error":"#N/A"}}]
[null,{"$f":"'Sheet3 (4)'!I27","v":{"$error":"#N/A"}},{"$f":"'Sheet3 (4)'!K27","v":-2.1593216290457337E-2},{"$f":"IF(ISNUMBER(C27),CORREL($B$1:B27,$C$1:C27),\"\")","v":{"$error":"#N/A"}},{"$f":"'Sheet3 (4)'!M27","v":-2.9353030339483925E-3},{"$f":"IF(ISNUMBER(E27),CORREL($B$1:B27,$E$1:E27),\"\")","v":{"$error":"#N/A"}},{"$f":"'Sheet3 (4)'!O27","v":-2.3152015657446289E-3},{"$f":"IF(ISNUMBER(G27),CORREL($B$1:B27,$G$1:G27),\"\")","v":{"$error":"#N/A"}},{"$f":"'Sheet3 (4)'!Q27","v":1.653398652786283E-2},{"$f":"IF(ISNUMBER(I27),CORREL($B$1:B27,$I$1:I27),\"\")","v":{"$error":"#N/A"}},{"$f":"'Sheet3 (4)'!S27","v":1.6541579858932284E-2},{"$f":"IF(ISNUMBER(K27),CORREL($B$1:B27,$K$1:K27),\"\")","v":{"$error":"#N/A"}},{"$f":"'Sheet3 (4)'!U27","v":1.1625524941104222E-2},{"$f":"IF(ISNUMBER(M27),CORREL($B$1:B27,$M$1:M27),\"\")","v":{"$error":"#N/A"}},{"$f":"'Sheet3 (4)'!W27","v":-8.7397659350043153E-3},{"$f":"IF(ISNUMBER(O27),CORREL($B$1:B27,$O$1:O27),\"\")","v":{"$error":"#N/A"}},{"$f":"'Sheet3 (4)'!Y27","v":-4.9561862912909016E-3},{"$f":"IF(ISNUMBER(Q27),CORREL($B$1:B27,$Q$1:Q27),\"\")","v":{"$error":"#N/A"}},{"$f":"'Sheet3 (4)'!AA27","v":-5.6142835466087377E-3},{"$f":"IF(ISNUMBER(S27),CORREL($B$1:B27,$S$1:S27),\"\")","v":{"$error":"#N/A"}}]
[null,{"$f":"'Sheet3 (4)'!I28","v":{"$error":"#N/A"}},{"$f":"'Sheet3 (4)'!K28","v":-2.0566105338588218E-2},{"$f":"IF(ISNUMBER(C28),CORREL($B$1:B28,$C$1:C28),\"\")","v":{"$error":"#N/A"}},{"$f":"'Sheet3 (4)'!M28","v":-4.5713735774606675E-4},{"$f":"IF(ISNUMBER(E28),CORREL($B$1:B28,$E$1:E28),\"\")","v":{"$error":"#N/A"}},{"$f":"'Sheet3 (4)'!O28","v":-1.527555672243939E-3},{"$f":"IF(ISNUMBER(G28),CORREL($B$1:B28,$G$1:G28),\"\")","v":{"$error":"#N/A"}},{"$f":"'Sheet3 (4)'!Q28","v":1.5235762400489962E-2},{"$f":"IF(ISNUMBER(I28),CORREL($B$1:B28,$I$1:I28),\"\")","v":{"$error":"#N/A"}},{"$f":"'Sheet3 (4)'!S28","v":1.7420115966766229E-2},{"$f":"IF(ISNUMBER(K28),CORREL($B$1:B28,$K$1:K28),\"\")","v":{"$error":"#N/A"}},{"$f":"'Sheet3 (4)'!U28","v":1.3264365461436053E-2},{"$f":"IF(ISNUMBER(M28),CORREL($B$1:B28,$M$1:M28),\"\")","v":{"$error":"#N/A"}},{"$f":"'Sheet3 (4)'!W28","v":-9.0160229042142541E-3},{"$f":"IF(ISNUMBER(O28),CORREL($B$1:B28,$O$1:O28),\"\")","v":{"$error":"#N/A"}},{"$f":"'Sheet3 (4)'!Y28","v":-7.8941317732417852E-3},{"$f":"IF(ISNUMBER(Q28),CORREL($B$1:B28,$Q$1:Q28),\"\")","v":{"$error":"#N/A"}},{"$f":"'Sheet3 (4)'!AA28","v":-6.4741287744676601E-3},{"$f":"IF(ISNUMBER(S28),CORREL($B$1:B28,$S$1:S28),\"\")","v":{"$error":"#N/A"}}]
[null,{"$f":"'Sheet3 (4)'!I29","v":{"$error":"#N/A"}},{"$f":"'Sheet3 (4)'!K29","v":-1.9491221784306626E-2},{"$f":"IF(ISNUMBER(C29),CORREL($B$1:B29,$C$1:C29),\"\")","v":{"$error":"#N/A"}},{"$f":"'Sheet3 (4)'!M29","v":9.6239443736064438E-5},{"$f":"IF(ISNUMBER(E29),CORREL($B$1:B29,$E$1:E29),\"\")","v":{"$error":"#N/A"}},{"$f":"'Sheet3 (4)'!O29","v":-1.2888750984557855E-3},{"$f":"IF(ISNUMBER(G29),CORREL($B$1:B29,$G$1:G29),\"\")","v":{"$error":"#N/A"}},{"$f":"'Sheet3 (4)'!Q29","v":1.3766074709124321E-2},{"$f":"IF(ISNUMBER(I29),CORREL($B$1:B29,$I$1:I29),\"\")","v":{"$error":"#N/A"}},{"$f":"'Sheet3 (4)'!S29","v":1.6365872637365494E-2},{"$f":"IF(ISNUMBER(K29),CORREL($B$1:B29,$K$1:K29),\"\")","v":{"$error":"#N/A"}},{"$f":"'Sheet3 (4)'!U29","v":1.4109392604732129E-2},{"$f":"IF(ISNUMBER(M29),CORREL($B$1:B29,$M$1:M29),\"\")","v":{"$error":"#N/A"}},{"$f":"'Sheet3 (4)'!W29","v":-1.2883620473152833E-2},{"$f":"IF(ISNUMBER(O29),CORREL($B$1:B29,$O$1:O29),\"\")","v":{"$error":"#N/A"}},{"$f":"'Sheet3 (4)'!Y29","v":-4.2664077868329355E-3},{"$f":"IF(ISNUMBER(Q29),CORREL($B$1:B29,$Q$1:Q29),\"\")","v":{"$error":"#N/A"}},{"$f":"'Sheet3 (4)'!AA29","v":-9.2306914167215471E-3},{"$f":"IF(ISNUMBER(S29),CORREL($B$1:B29,$S$1:S29),\"\")","v":{"$error":"#N/A"}}]
[null,{"$f":"'Sheet3 (4)'!I30","v":{"$error":"#N/A"}},{"$f":"'Sheet3 (4)'!K30","v":-1.8344679326406186E-2},{"$f":"IF(ISNUMBER(C30),CORREL($B$1:B30,$C$1:C30),\"\")","v":{"$error":"#N/A"}},{"$f":"'Sheet3 (4)'!M30","v":7.217958280201414E-4},{"$f":"IF(ISNUMBER(E30),CORREL($B$1:B30,$E$1:E30),\"\")","v":{"$error":"#N/A"}},{"$f":"'Sheet3 (4)'!O30","v":-1.0263264672888436E-3},{"$f":"IF(ISNUMBER(G30),CORREL($B$1:B30,$G$1:G30),\"\")","v":{"$error":"#N/A"}},{"$f":"'Sheet3 (4)'!Q30","v":1.3055725658297573E-2},{"$f":"IF(ISNUMBER(I30),CORREL($B$1:B30,$I$1:I30),\"\")","v":{"$error":"#N/A"}},{"$f":"'Sheet3 (4)'!S30","v":1.6692186048846695E-2},{"$f":"IF(ISNUMBER(K30),CORREL($B$1:B30,$K$1:K30),\"\")","v":{"$error":"#N/A"}},{"$f":"'Sheet3 (4)'!U30","v":1.433985455290388E-2},{"$f":"IF(ISNUMBER(M30),CORREL($B$1:B30,$M$1:M30),\"\")","v":{"$error":"#N/A"}},{"$f":"'Sheet3 (4)'!W30","v":-1.1075393038324438E-2},{"$f":"IF(ISNUMBER(O30),CORREL($B$1:B30,$O$1:O30),\"\")","v":{"$error":"#N/A"}},{"$f":"'Sheet3 (4)'!Y30","v":-4.0364816186801832E-3},{"$f":"IF(ISNUMBER(Q30),CORREL($B$1:B30,$Q$1:Q30),\"\")","v":{"$error":"#N/A"}},{"$f":"'Sheet3 (4)'!AA30","v":-6.1200748571139949E-3},{"$f":"IF(ISNUMBER(S30),CORREL($B$1:B30,$S$1:S30),\"\")","v":{"$error":"#N/A"}}]
[null,{"$f":"'Sheet3 (4)'!I31","v":{"$error":"#N/A"}},{"$f":"'Sheet3 (4)'!K31","v":-1.8081930013137449E-2},{"$f":"IF(ISNUMBER(C31),CORREL($B$1:B31,$C$1:C31),\"\")","v":{"$error":"#N/A"}},{"$f":"'Sheet3 (4)'!M31","v":9.3833457642611548E-4},{"$f":"IF(ISNUMBER(E31),CORREL($B$1:B31,$E$1:E31),\"\")","v":{"$error":"#N/A"}},{"$f":"'Sheet3 (4)'!O31","v":-2.458409910017494E-3},{"$f":"IF(ISNUMBER(G31),CORREL($B$1:B31,$G$1:G31),\"\")","v":{"$error":"#N/A"}},{"$f":"'Sheet3 (4)'!Q31","v":1.2271892222902611E-2},{"$f":"IF(ISNUMBER(I31),CORREL($B$1:B31,$I$1:I31),\"\")","v":{"$error":"#N/A"}},{"$f":"'Sheet3 (4)'!S31","v":1.6692186048846695E-2},{"$f":"IF(ISNUMBER(K31),CORREL($B$1:B31,$K$1:K31),\"\")","v":{"$error":"#N/A"}},{"$f":"'Sheet3 (4)'!U31","v":1.5184881696199956E-2},{"$f":"IF(ISNUMBER(M31),CORREL($B$1:B31,$M$1:M31),\"\")","v":{"$error":"#N/A"}},{"$f":"'Sheet3 (4)'!W31","v":-1.2004621025666858E-2},{"$f":"IF(ISNUMBER(O31),CORREL($B$1:B31,$O$1:O31),\"\")","v":{"$error":"#N/A"}},{"$f":"'Sheet3 (4)'!Y31","v":-2.018240809340164E-3},{"$f":"IF(ISNUMBER(Q31),CORREL($B$1:B31,$Q$1:Q31),\"\")","v":{"$error":"#N/A"}},{"$f":"'Sheet3 (4)'!AA31","v":-6.6764452986698775E-3},{"$f":"IF(ISNUMBER(S31),CORREL($B$1:B31,$S$1:S31),\"\")","v":{"$error":"#N/A"}}]
[null,{"$f":"'Sheet3 (4)'!I32","v":{"$error":"#N/A"}},{"$f":"'Sheet3 (4)'!K32","v":-1.6171025916636765E-2},{"$f":"IF(ISNUMBER(C32),CORREL($B$1:B32,$C$1:C32),\"\")","v":{"$error":"#N/A"}},{"$f":"'Sheet3 (4)'!M32","v":-5.7743666241611314E-4},{"$f":"IF(ISNUMBER(E32),CORREL($B$1:B32,$E$1:E32),\"\")","v":{"$error":"#N/A"}},{"$f":"'Sheet3 (4)'!O32","v":-3.6756808363367791E-3},{"$f":"IF(ISNUMBER(G32),CORREL($B$1:B32,$G$1:G32),\"\")","v":{"$error":"#N/A"}},{"$f":"'Sheet3 (4)'!Q32","v":1.3153704837721995E-2},{"$f":"IF(ISNUMBER(I32),CORREL($B$1:B32,$I$1:I32),\"\")","v":{"$error":"#N/A"}},{"$f":"'Sheet3 (4)'!S32","v":1.7395014935113851E-2},{"$f":"IF(ISNUMBER(K32),CORREL($B$1:B32,$K$1:K32),\"\")","v":{"$error":"#N/A"}},{"$f":"'Sheet3 (4)'!U32","v":1.3878930656560524E-2},{"$f":"IF(ISNUMBER(M32),CORREL($B$1:B32,$M$1:M32),\"\")","v":{"$error":"#N/A"}},{"$f":"'Sheet3 (4)'!W32","v":-1.1477221357175129E-2},{"$f":"IF(ISNUMBER(O32),CORREL($B$1:B32,$O$1:O32),\"\")","v":{"$error":"#N/A"}},{"$f":"'Sheet3 (4)'!Y32","v":-2.0437881613571043E-3},{"$f":"IF(ISNUMBER(Q32),CORREL($B$1:B32,$Q$1:Q32),\"\")","v":{"$error":"#N/A"}},{"$f":"'Sheet3 (4)'!AA32","v":-5.361387891356038E-3},{"$f":"IF(ISNUMBER(S32),CORREL($B$1:B32,$S$1:S32),\"\")","v":{"$error":"#N/A"}}]
[null,{"$f":"'Sheet3 (4)'!I33","v":{"$error":"#N/A"}},{"$f":"'Sheet3 (4)'!K33","v":-1.4069031410486054E-2},{"$f":"IF(ISNUMBER(C33),CORREL($B$1:B33,$C$1:C33),\"\")","v":{"$error":"#N/A"}},{"$f":"'Sheet3 (4)'!M33","v":3.8495777494412098E-4},{"$f":"IF(ISNUMBER(E33),CORREL($B$1:B33,$E$1:E33),\"\")","v":{"$error":"#N/A"}},{"$f":"'Sheet3 (4)'!O33","v":-2.2197293362293405E-3},{"$f":"IF(ISNUMBER(G33),CORREL($B$1:B33,$G$1:G33),\"\")","v":{"$error":"#N/A"}},{"$f":"'Sheet3 (4)'!Q33","v":1.18799755052052E-2},{"$f":"IF(ISNUMBER(I33),CORREL($B$1:B33,$I$1:I33),\"\")","v":{"$error":"#N/A"}},{"$f":"'Sheet3 (4)'!S33","v":1.7746429378247431E-2},{"$f":"IF(ISNUMBER(K33),CORREL($B$1:B33,$K$1:K33),\"\")","v":{"$error":"#N/A"}},{"$f":"'Sheet3 (4)'!U33","v":1.3674075591519083E-2},{"$f":"IF(ISNUMBER(M33),CORREL($B$1:B33,$M$1:M33),\"\")","v":{"$error":"#N/A"}},{"$f":"'Sheet3 (4)'!W33","v":-1.6650760962378813E-2},{"$f":"IF(ISNUMBER(O33),CORREL($B$1:B33,$O$1:O33),\"\")","v":{"$error":"#N/A"}},{"$f":"'Sheet3 (4)'!Y33","v":-3.0145875380017035E-3},{"$f":"IF(ISNUMBER(Q33),CORREL($B$1:B33,$Q$1:Q33),\"\")","v":{"$error":"#N/A"}},{"$f":"'Sheet3 (4)'!AA33","v":-6.8534722573467101E-3},{"$f":"IF(ISNUMBER(S33),CORREL($B$1:B33,$S$1:S33),\"\")","v":{"$error":"#N/A"}}]
[null,{"$f":"'Sheet3 (4)'!I34","v":{"$error":"#N/A"}},{"$f":"'Sheet3 (4)'!K34","v":-1.4785620446673827E-2},{"$f":"IF(ISNUMBER(C34),CORREL($B$1:B34,$C$1:C34),\"\")","v":{"$error":"#N/A"}},{"$f":"'Sheet3 (4)'!M34","v":1.1548733248322263E-3},{"$f":"IF(ISNUMBER(E34),CORREL($B$1:B34,$E$1:E34),\"\")","v":{"$error":"#N/A"}},{"$f":"'Sheet3 (4)'!O34","v":-2.6970904838056475E-3},{"$f":"IF(ISNUMBER(G34),CORREL($B$1:B34,$G$1:G34),\"\")","v":{"$error":"#N/A"}},{"$f":"'Sheet3 (4)'!Q34","v":1.0214329454990853E-2},{"$f":"IF(ISNUMBER(I34),CORREL($B$1:B34,$I$1:I34),\"\")","v":{"$error":"#N/A"}},{"$f":"'Sheet3 (4)'!S34","v":1.7922136599814217E-2},{"$f":"IF(ISNUMBER(K34),CORREL($B$1:B34,$K$1:K34),\"\")","v":{"$error":"#N/A"}},{"$f":"'Sheet3 (4)'!U34","v":1.4391068319164204E-2},{"$f":"IF(ISNUMBER(M34),CORREL($B$1:B34,$M$1:M34),\"\")","v":{"$error":"#N/A"}},{"$f":"'Sheet3 (4)'!W34","v":-1.4465819478627732E-2},{"$f":"IF(ISNUMBER(O34),CORREL($B$1:B34,$O$1:O34),\"\")","v":{"$error":"#N/A"}},{"$f":"'Sheet3 (4)'!Y34","v":-2.835756073882977E-3},{"$f":"IF(ISNUMBER(Q34),CORREL($B$1:B34,$Q$1:Q34),\"\")","v":{"$error":"#N/A"}},{"$f":"'Sheet3 (4)'!AA34","v":-7.081078347074026E-3},{"$f":"IF(ISNUMBER(S34),CORREL($B$1:B34,$S$1:S34),\"\")","v":{"$error":"#N/A"}}]
[null,{"$f":"'Sheet3 (4)'!I35","v":{"$error":"#N/A"}},{"$f":"'Sheet3 (4)'!K35","v":-1.6051594410605448E-2},{"$f":"IF(ISNUMBER(C35),CORREL($B$1:B35,$C$1:C35),\"\")","v":{"$error":"#N/A"}},{"$f":"'Sheet3 (4)'!M35","v":3.224021365156586E-3},{"$f":"IF(ISNUMBER(E35),CORREL($B$1:B35,$E$1:E35),\"\")","v":{"$error":"#N/A"}},{"$f":"'Sheet3 (4)'!O35","v":-3.5563405494427021E-3},{"$f":"IF(ISNUMBER(G35),CORREL($B$1:B35,$G$1:G35),\"\")","v":{"$error":"#N/A"}},{"$f":"'Sheet3 (4)'!Q35","v":7.4709124311084169E-3},{"$f":"IF(ISNUMBER(I35),CORREL($B$1:B35,$I$1:I35),\"\")","v":{"$error":"#N/A"}},{"$f":"'Sheet3 (4)'!S35","v":1.8148045884685906E-2},{"$f":"IF(ISNUMBER(K35),CORREL($B$1:B35,$K$1:K35),\"\")","v":{"$error":"#N/A"}},{"$f":"'Sheet3 (4)'!U35","v":1.4595923384205792E-2},{"$f":"IF(ISNUMBER(M35),CORREL($B$1:B35,$M$1:M35),\"\")","v":{"$error":"#N/A"}},{"$f":"'Sheet3 (4)'!W35","v":-1.2858506203224684E-2},{"$f":"IF(ISNUMBER(O35),CORREL($B$1:B35,$O$1:O35),\"\")","v":{"$error":"#N/A"}},{"$f":"'Sheet3 (4)'!Y35","v":-2.4525457936284381E-3},{"$f":"IF(ISNUMBER(Q35),CORREL($B$1:B35,$Q$1:Q35),\"\")","v":{"$error":"#N/A"}},{"$f":"'Sheet3 (4)'!AA35","v":-8.3961357543877214E-3},{"$f":"IF(ISNUMBER(S35),CORREL($B$1:B35,$S$1:S35),\"\")","v":{"$error":"#N/A"}}]
[null,{"$f":"'Sheet3 (4)'!I36","v":{"$error":"#N/A"}},{"$f":"'Sheet3 (4)'!K36","v":-1.5311119073211438E-2},{"$f":"IF(ISNUMBER(C36),CORREL($B$1:B36,$C$1:C36),\"\")","v":{"$error":"#N/A"}},{"$f":"'Sheet3 (4)'!M36","v":3.296200947958532E-3},{"$f":"IF(ISNUMBER(E36),CORREL($B$1:B36,$E$1:E36),\"\")","v":{"$error":"#N/A"}},{"$f":"'Sheet3 (4)'!O36","v":-1.885576532926034E-3},{"$f":"IF(ISNUMBER(G36),CORREL($B$1:B36,$G$1:G36),\"\")","v":{"$error":"#N/A"}},{"$f":"'Sheet3 (4)'!Q36","v":9.4549908144519624E-3},{"$f":"IF(ISNUMBER(I36),CORREL($B$1:B36,$I$1:I36),\"\")","v":{"$error":"#N/A"}},{"$f":"'Sheet3 (4)'!S36","v":1.9403097467305952E-2},{"$f":"IF(ISNUMBER(K36),CORREL($B$1:B36,$K$1:K36),\"\")","v":{"$error":"#N/A"}},{"$f":"'Sheet3 (4)'!U36","v":1.649083273583939E-2},{"$f":"IF(ISNUMBER(M36),CORREL($B$1:B36,$M$1:M36),\"\")","v":{"$error":"#N/A"}},{"$f":"'Sheet3 (4)'!W36","v":-1.4490933748555883E-2},{"$f":"IF(ISNUMBER(O36),CORREL($B$1:B36,$O$1:O36),\"\")","v":{"$error":"#N/A"}},{"$f":"'Sheet3 (4)'!Y36","v":-7.1532585647505185E-4},{"$f":"IF(ISNUMBER(Q36),CORREL($B$1:B36,$Q$1:Q36),\"\")","v":{"$error":"#N/A"}},{"$f":"'Sheet3 (4)'!AA36","v":-8.5225835820140726E-3},{"$f":"IF(ISNUMBER(S36),CORREL($B$1:B36,$S$1:S36),\"\")","v":{"$error":"#N/A"}}]
[null,{"$f":"'Sheet3 (4)'!I37","v":{"$error":"#N/A"}},{"$f":"'Sheet3 (4)'!K37","v":-1.8440224531231269E-2},{"$f":"IF(ISNUMBER(C37),CORREL($B$1:B37,$C$1:C37),\"\")","v":{"$error":"#N/A"}},{"$f":"'Sheet3 (4)'!M37","v":4.5713735774606679E-3},{"$f":"IF(ISNUMBER(E37),CORREL($B$1:B37,$E$1:E37),\"\")","v":{"$error":"#N/A"}},{"$f":"'Sheet3 (4)'!O37","v":-2.0765209919564754E-3},{"$f":"IF(ISNUMBER(G37),CORREL($B$1:B37,$G$1:G37),\"\")","v":{"$error":"#N/A"}},{"$f":"'Sheet3 (4)'!Q37","v":1.1096142069810098E-2},{"$f":"IF(ISNUMBER(I37),CORREL($B$1:B37,$I$1:I37),\"\")","v":{"$error":"#N/A"}},{"$f":"'Sheet3 (4)'!S37","v":1.9227390245739162E-2},{"$f":"IF(ISNUMBER(K37),CORREL($B$1:B37,$K$1:K37),\"\")","v":{"$error":"#N/A"}},{"$f":"'Sheet3 (4)'!U37","v":1.6285977670797945E-2},{"$f":"IF(ISNUMBER(M37),CORREL($B$1:B37,$M$1:M37),\"\")","v":{"$error":"#N/A"}},{"$f":"'Sheet3 (4)'!W37","v":-1.5897332864533587E-2},{"$f":"IF(ISNUMBER(O37),CORREL($B$1:B37,$O$1:O37),\"\")","v":{"$error":"#N/A"}},{"$f":"'Sheet3 (4)'!Y37","v":-6.8977850445796644E-4},{"$f":"IF(ISNUMBER(Q37),CORREL($B$1:B37,$Q$1:Q37),\"\")","v":{"$error":"#N/A"}},{"$f":"'Sheet3 (4)'!AA37","v":-9.761772292752045E-3},{"$f":"IF(ISNUMBER(S37),CORREL($B$1:B37,$S$1:S37),\"\")","v":{"$error":"#N/A"}}]
[null,{"$f":"'Sheet3 (4)'!I38","v":{"$error":"#N/A"}},{"$f":"'Sheet3 (4)'!K38","v":-1.7938612205899894E-2},{"$f":"IF(ISNUMBER(C38),CORREL($B$1:B38,$C$1:C38),\"\")","v":{"$error":"#N/A"}},{"$f":"'Sheet3 (4)'!M38","v":5.076630657074835E-3},{"$f":"IF(ISNUMBER(E38),CORREL($B$1:B38,$E$1:E38),\"\")","v":{"$error":"#N/A"}},{"$f":"'Sheet3 (4)'!O38","v":-1.6230279017590921E-3},{"$f":"IF(ISNUMBER(G38),CORREL($B$1:B38,$G$1:G38),\"\")","v":{"$error":"#N/A"}},{"$f":"'Sheet3 (4)'!Q38","v":1.0361298224127418E-2},{"$f":"IF(ISNUMBER(I38),CORREL($B$1:B38,$I$1:I38),\"\")","v":{"$error":"#N/A"}},{"$f":"'Sheet3 (4)'!S38","v":1.998042119531122E-2},{"$f":"IF(ISNUMBER(K38),CORREL($B$1:B38,$K$1:K38),\"\")","v":{"$error":"#N/A"}},{"$f":"'Sheet3 (4)'!U38","v":1.6106729488886667E-2},{"$f":"IF(ISNUMBER(M38),CORREL($B$1:B38,$M$1:M38),\"\")","v":{"$error":"#N/A"}},{"$f":"'Sheet3 (4)'!W38","v":-1.8685016826560846E-2},{"$f":"IF(ISNUMBER(O38),CORREL($B$1:B38,$O$1:O38),\"\")","v":{"$error":"#N/A"}},{"$f":"'Sheet3 (4)'!Y38","v":-3.0401348900186437E-3},{"$f":"IF(ISNUMBER(Q38),CORREL($B$1:B38,$Q$1:Q38),\"\")","v":{"$error":"#N/A"}},{"$f":"'Sheet3 (4)'!AA38","v":-9.0536644580447145E-3},{"$f":"IF(ISNUMBER(S38),CORREL($B$1:B38,$S$1:S38),\"\")","v":{"$error":"#N/A"}}]
[null,{"$f":"'Sheet3 (4)'!I39","v":{"$error":"#N/A"}},{"$f":"'Sheet3 (4)'!K39","v":-1.9276245073450361E-2},{"$f":"IF(ISNUMBER(C39),CORREL($B$1:B39,$C$1:C39),\"\")","v":{"$error":"#N/A"}},{"$f":"'Sheet3 (4)'!M39","v":4.330774968120712E-3},{"$f":"IF(ISNUMBER(E39),CORREL($B$1:B39,$E$1:E39),\"\")","v":{"$error":"#N/A"}},{"$f":"'Sheet3 (4)'!O39","v":-1.6707640165168041E-3},{"$f":"IF(ISNUMBER(G39),CORREL($B$1:B39,$G$1:G39),\"\")","v":{"$error":"#N/A"}},{"$f":"'Sheet3 (4)'!Q39","v":1.2149418248622118E-2},{"$f":"IF(ISNUMBER(I39),CORREL($B$1:B39,$I$1:I39),\"\")","v":{"$error":"#N/A"}},{"$f":"'Sheet3 (4)'!S39","v":1.9453299530610708E-2},{"$f":"IF(ISNUMBER(K39),CORREL($B$1:B39,$K$1:K39),\"\")","v":{"$error":"#N/A"}},{"$f":"'Sheet3 (4)'!U39","v":1.7131004814094023E-2},{"$f":"IF(ISNUMBER(M39),CORREL($B$1:B39,$M$1:M39),\"\")","v":{"$error":"#N/A"}},{"$f":"'Sheet3 (4)'!W39","v":-1.9790044703400459E-2},{"$f":"IF(ISNUMBER(O39),CORREL($B$1:B39,$O$1:O39),\"\")","v":{"$error":"#N/A"}},{"$f":"'Sheet3 (4)'!Y39","v":-3.7810080985106356E-3},{"$f":"IF(ISNUMBER(Q39),CORREL($B$1:B39,$Q$1:Q39),\"\")","v":{"$error":"#N/A"}},{"$f":"'Sheet3 (4)'!AA39","v":-8.1179505336099241E-3},{"$f":"IF(ISNUMBER(S39),CORREL($B$1:B39,$S$1:S39),\"\")","v":{"$error":"#N/A"}}]
[null,{"$f":"'Sheet3 (4)'!I40","v":{"$error":"#N/A"}},{"$f":"'Sheet3 (4)'!K40","v":-1.8894064254150168E-2},{"$f":"IF(ISNUMBER(C40),CORREL($B$1:B40,$C$1:C40),\"\")","v":{"$error":"#N/A"}},{"$f":"'Sheet3 (4)'!M40","v":4.7638524649327961E-3},{"$f":"IF(ISNUMBER(E40),CORREL($B$1:B40,$E$1:E40),\"\")","v":{"$error":"#N/A"}},{"$f":"'Sheet3 (4)'!O40","v":-1.4082153853498623E-3},{"$f":"IF(ISNUMBER(G40),CORREL($B$1:B40,$G$1:G40),\"\")","v":{"$error":"#N/A"}},{"$f":"'Sheet3 (4)'!Q40","v":1.1561543172076002E-2},{"$f":"IF(ISNUMBER(I40),CORREL($B$1:B40,$I$1:I40),\"\")","v":{"$error":"#N/A"}},{"$f":"'Sheet3 (4)'!S40","v":1.8499460327819486E-2},{"$f":"IF(ISNUMBER(K40),CORREL($B$1:B40,$K$1:K40),\"\")","v":{"$error":"#N/A"}},{"$f":"'Sheet3 (4)'!U40","v":1.5850660657584753E-2},{"$f":"IF(ISNUMBER(M40),CORREL($B$1:B40,$M$1:M40),\"\")","v":{"$error":"#N/A"}},{"$f":"'Sheet3 (4)'!W40","v":-2.1095986739665562E-2},{"$f":"IF(ISNUMBER(O40),CORREL($B$1:B40,$O$1:O40),\"\")","v":{"$error":"#N/A"}},{"$f":"'Sheet3 (4)'!Y40","v":-3.3467031142222167E-3},{"$f":"IF(ISNUMBER(Q40),CORREL($B$1:B40,$Q$1:Q40),\"\")","v":{"$error":"#N/A"}},{"$f":"'Sheet3 (4)'!AA40","v":-9.7111931617015618E-3},{"$f":"IF(ISNUMBER(S40),CORREL($B$1:B40,$S$1:S40),\"\")","v":{"$error":"#N/A"}}]
[null,{"$f":"'Sheet3 (4)'!I41","v":{"$error":"#N/A"}},{"$f":"'Sheet3 (4)'!K41","v":-2.0112265615669318E-2},{"$f":"IF(ISNUMBER(C41),CORREL($B$1:B41,$C$1:C41),\"\")","v":{"$error":"#N/A"}},{"$f":"'Sheet3 (4)'!M41","v":3.3443206698264955E-3},{"$f":"IF(ISNUMBER(E41),CORREL($B$1:B41,$E$1:E41),\"\")","v":{"$error":"#N/A"}},{"$f":"'Sheet3 (4)'!O41","v":-1.3843473279710741E-3},{"$f":"IF(ISNUMBER(G41),CORREL($B$1:B41,$G$1:G41),\"\")","v":{"$error":"#N/A"}},{"$f":"'Sheet3 (4)'!Q41","v":1.011635027556643E-2},{"$f":"IF(ISNUMBER(I41),CORREL($B$1:B41,$I$1:I41),\"\")","v":{"$error":"#N/A"}},{"$f":"'Sheet3 (4)'!S41","v":1.8399056201209973E-2},{"$f":"IF(ISNUMBER(K41),CORREL($B$1:B41,$K$1:K41),\"\")","v":{"$error":"#N/A"}},{"$f":"'Sheet3 (4)'!U41","v":1.5543378060022517E-2},{"$f":"IF(ISNUMBER(M41),CORREL($B$1:B41,$M$1:M41),\"\")","v":{"$error":"#N/A"}},{"$f":"'Sheet3 (4)'!W41","v":-1.8207845697925561E-2},{"$f":"IF(ISNUMBER(O41),CORREL($B$1:B41,$O$1:O41),\"\")","v":{"$error":"#N/A"}},{"$f":"'Sheet3 (4)'!Y41","v":-4.1897657307819695E-3},{"$f":"IF(ISNUMBER(Q41),CORREL($B$1:B41,$Q$1:Q41),\"\")","v":{"$error":"#N/A"}},{"$f":"'Sheet3 (4)'!AA41","v":-9.7364827272268025E-3},{"$f":"IF(ISNUMBER(S41),CORREL($B$1:B41,$S$1:S41),\"\")","v":{"$error":"#N/A"}}]
[null,{"$f":"'Sheet3 (4)'!I42","v":{"$error":"#N/A"}},{"$f":"'Sheet3 (4)'!K42","v":-2.1019945061507117E-2},{"$f":"IF(ISNUMBER(C42),CORREL($B$1:B42,$C$1:C42),\"\")","v":{"$error":"#N/A"}},{"$f":"'Sheet3 (4)'!M42","v":3.0796621995525576E-3},{"$f":"IF(ISNUMBER(E42),CORREL($B$1:B42,$E$1:E42),\"\")","v":{"$error":"#N/A"}},{"$f":"'Sheet3 (4)'!O42","v":-1.1695348115617085E-3},{"$f":"IF(ISNUMBER(G42),CORREL($B$1:B42,$G$1:G42),\"\")","v":{"$error":"#N/A"}},{"$f":"'Sheet3 (4)'!Q42","v":1.082669932639318E-2},{"$f":"IF(ISNUMBER(I42),CORREL($B$1:B42,$I$1:I42),\"\")","v":{"$error":"#N/A"}},{"$f":"'Sheet3 (4)'!S42","v":1.9001480960867474E-2},{"$f":"IF(ISNUMBER(K42),CORREL($B$1:B42,$K$1:K42),\"\")","v":{"$error":"#N/A"}},{"$f":"'Sheet3 (4)'!U42","v":1.7489501177916731E-2},{"$f":"IF(ISNUMBER(M42),CORREL($B$1:B42,$M$1:M42),\"\")","v":{"$error":"#N/A"}},{"$f":"'Sheet3 (4)'!W42","v":-1.9614244813903264E-2},{"$f":"IF(ISNUMBER(O42),CORREL($B$1:B42,$O$1:O42),\"\")","v":{"$error":"#N/A"}},{"$f":"'Sheet3 (4)'!Y42","v":-3.4744398743070627E-3},{"$f":"IF(ISNUMBER(Q42),CORREL($B$1:B42,$Q$1:Q42),\"\")","v":{"$error":"#N/A"}},{"$f":"'Sheet3 (4)'!AA42","v":-9.8629305548531537E-3},{"$f":"IF(ISNUMBER(S42),CORREL($B$1:B42,$S$1:S42),\"\")","v":{"$error":"#N/A"}}]
[null,{"$f":"'Sheet3 (4)'!I43","v":{"$error":"#N/A"}},{"$f":"'Sheet3 (4)'!K43","v":-2.082885465185709E-2},{"$f":"IF(ISNUMBER(C43),CORREL($B$1:B43,$C$1:C43),\"\")","v":{"$error":"#N/A"}},{"$f":"'Sheet3 (4)'!M43","v":3.0796621995525576E-3},{"$f":"IF(ISNUMBER(E43),CORREL($B$1:B43,$E$1:E43),\"\")","v":{"$error":"#N/A"}},{"$f":"'Sheet3 (4)'!O43","v":-2.3868057378923904E-5},{"$f":"IF(ISNUMBER(G43),CORREL($B$1:B43,$G$1:G43),\"\")","v":{"$error":"#N/A"}},{"$f":"'Sheet3 (4)'!Q43","v":1.2835272504592796E-2},{"$f":"IF(ISNUMBER(I43),CORREL($B$1:B43,$I$1:I43),\"\")","v":{"$error":"#N/A"}},{"$f":"'Sheet3 (4)'!S43","v":1.9377996435653574E-2},{"$f":"IF(ISNUMBER(K43),CORREL($B$1:B43,$K$1:K43),\"\")","v":{"$error":"#N/A"}},{"$f":"'Sheet3 (4)'!U43","v":1.9307589880159841E-2},{"$f":"IF(ISNUMBER(M43),CORREL($B$1:B43,$M$1:M43),\"\")","v":{"$error":"#N/A"}},{"$f":"'Sheet3 (4)'!W43","v":{"$error":"#N/A"}},{"$f":"IF(ISNUMBER(O43),CORREL($B$1:B43,$O$1:O43),\"\")","v":""},{"$f":"'Sheet3 (4)'!Y43","v":-4.4196918989347217E-3},{"$f":"IF(ISNUMBER(Q43),CORREL($B$1:B43,$Q$1:Q43),\"\")","v":{"$error":"#N/A"}},{"$f":"'Sheet3 (4)'!AA43","v":-1.0039957513529986E-2},{"$f":"IF(ISNUMBER(S43),CORREL($B$1:B43,$S$1:S43),\"\")","v":{"$error":"#N/A"}}]
[null,{"$f":"'Sheet3 (4)'!I44","v":{"$error":"#N/A"}},{"$f":"'Sheet3 (4)'!K44","v":-2.1593216290457337E-2},{"$f":"IF(ISNUMBER(C44),CORREL($B$1:B44,$C$1:C44),\"\")","v":{"$error":"#N/A"}},{"$f":"'Sheet3 (4)'!M44","v":2.9353030339485295E-3},{"$f":"IF(ISNUMBER(E44),CORREL($B$1:B44,$E$1:E44),\"\")","v":{"$error":"#N/A"}},{"$f":"'Sheet3 (4)'!O44","v":-2.0049168198201105E-3},{"$f":"IF(ISNUMBER(G44),CORREL($B$1:B44,$G$1:G44),\"\")","v":{"$error":"#N/A"}},{"$f":"'Sheet3 (4)'!Q44","v":1.1610532761788143E-2},{"$f":"IF(ISNUMBER(I44),CORREL($B$1:B44,$I$1:I44),\"\")","v":{"$error":"#N/A"}},{"$f":"'Sheet3 (4)'!S44","v":1.9277592309043919E-2},{"$f":"IF(ISNUMBER(K44),CORREL($B$1:B44,$K$1:K44),\"\")","v":{"$error":"#N/A"}},{"$f":"'Sheet3 (4)'!U44","v":1.8488169619993926E-2},{"$f":"IF(ISNUMBER(M44),CORREL($B$1:B44,$M$1:M44),\"\")","v":{"$error":"#N/A"}},{"$f":"'Sheet3 (4)'!W44","v":{"$error":"#N/A"}},{"$f":"IF(ISNUMBER(O44),CORREL($B$1:B44,$O$1:O44),\"\")","v":""},{"$f":"'Sheet3 (4)'!Y44","v":-4.5729760110365079E-3},{"$f":"IF(ISNUMBER(Q44),CORREL($B$1:B44,$Q$1:Q44),\"\")","v":{"$error":"#N/A"}},{"$f":"'Sheet3 (4)'!AA44","v":-9.1548227201456792E-3},{"$f":"IF(ISNUMBER(S44),CORREL($B$1:B44,$S$1:S44),\"\")","v":{"$error":"#N/A"}}]
[null,{"$f":"'Sheet3 (4)'!I45","v":{"$error":"#N/A"}},{"$f":"'Sheet3 (4)'!K45","v":-2.0804968350650856E-2},{"$f":"IF(ISNUMBER(C45),CORREL($B$1:B45,$C$1:C45),\"\")","v":{"$error":"#N/A"}},{"$f":"'Sheet3 (4)'!M45","v":3.296200947958532E-3},{"$f":"IF(ISNUMBER(E45),CORREL($B$1:B45,$E$1:E45),\"\")","v":{"$error":"#N/A"}},{"$f":"'Sheet3 (4)'!O45","v":-2.8164307706995888E-3},{"$f":"IF(ISNUMBER(G45),CORREL($B$1:B45,$G$1:G45),\"\")","v":{"$error":"#N/A"}},{"$f":"'Sheet3 (4)'!Q45","v":1.07777097366809E-2},{"$f":"IF(ISNUMBER(I45),CORREL($B$1:B45,$I$1:I45),\"\")","v":{"$error":"#N/A"}},{"$f":"'Sheet3 (4)'!S45","v":1.8373955169557452E-2},{"$f":"IF(ISNUMBER(K45),CORREL($B$1:B45,$K$1:K45),\"\")","v":{"$error":"#N/A"}},{"$f":"'Sheet3 (4)'!U45","v":2.0075796374065431E-2},{"$f":"IF(ISNUMBER(M45),CORREL($B$1:B45,$M$1:M45),\"\")","v":{"$error":"#N/A"}},{"$f":"'Sheet3 (4)'!W45","v":{"$error":"#N/A"}},{"$f":"IF(ISNUMBER(O45),CORREL($B$1:B45,$O$1:O45),\"\")","v":""},{"$f":"'Sheet3 (4)'!Y45","v":-5.0583756993588082E-3},{"$f":"IF(ISNUMBER(Q45),CORREL($B$1:B45,$Q$1:Q45),\"\")","v":{"$error":"#N/A"}},{"$f":"'Sheet3 (4)'!AA45","v":-9.761772292752045E-3},{"$f":"IF(ISNUMBER(S45),CORREL($B$1:B45,$S$1:S45),\"\")","v":{"$error":"#N/A"}}]
[null,{"$f":"'Sheet3 (4)'!I46","v":{"$error":"#N/A"}},{"$f":"'Sheet3 (4)'!K46","v":-1.9825630001194208E-2},{"$f":"IF(ISNUMBER(C46),CORREL($B$1:B46,$C$1:C46),\"\")","v":{"$error":"#N/A"}},{"$f":"'Sheet3 (4)'!M46","v":4.499193994658722E-3},{"$f":"IF(ISNUMBER(E46),CORREL($B$1:B46,$E$1:E46),\"\")","v":{"$error":"#N/A"}},{"$f":"'Sheet3 (4)'!O46","v":-4.2723822708070278E-3},{"$f":"IF(ISNUMBER(G46),CORREL($B$1:B46,$G$1:G46),\"\")","v":{"$error":"#N/A"}},{"$f":"'Sheet3 (4)'!Q46","v":1.1488058787507648E-2},{"$f":"IF(ISNUMBER(I46),CORREL($B$1:B46,$I$1:I46),\"\")","v":{"$error":"#N/A"}},{"$f":"'Sheet3 (4)'!S46","v":1.8047641758076251E-2},{"$f":"IF(ISNUMBER(K46),CORREL($B$1:B46,$K$1:K46),\"\")","v":{"$error":"#N/A"}},{"$f":"'Sheet3 (4)'!U46","v":1.9794120659633357E-2},{"$f":"IF(ISNUMBER(M46),CORREL($B$1:B46,$M$1:M46),\"\")","v":{"$error":"#N/A"}},{"$f":"'Sheet3 (4)'!W46","v":{"$error":"#N/A"}},{"$f":"IF(ISNUMBER(O46),CORREL($B$1:B46,$O$1:O46),\"\")","v":""},{"$f":"'Sheet3 (4)'!Y46","v":-5.6204174437319279E-3},{"$f":"IF(ISNUMBER(Q46),CORREL($B$1:B46,$Q$1:Q46),\"\")","v":{"$error":"#N/A"}},{"$f":"'Sheet3 (4)'!AA46","v":-9.2559809822467878E-3},{"$f":"IF(ISNUMBER(S46),CORREL($B$1:B46,$S$1:S46),\"\")","v":{"$error":"#N/A"}}]
[null,{"$f":"'Sheet3 (4)'!I47","v":{"$error":"#N/A"}},{"$f":"'Sheet3 (4)'!K47","v":-1.8487997133643741E-2},{"$f":"IF(ISNUMBER(C47),CORREL($B$1:B47,$C$1:C47),\"\")","v":{"$error":"#N/A"}},{"$f":"'Sheet3 (4)'!M47","v":6.88112022712512E-3},{"$f":"IF(ISNUMBER(E47),CORREL($B$1:B47,$E$1:E47),\"\")","v":{"$error":"#N/A"}},{"$f":"'Sheet3 (4)'!O47","v":-5.1077642790654295E-3},{"$f":"IF(ISNUMBER(G47),CORREL($B$1:B47,$G$1:G47),\"\")","v":{"$error":"#N/A"}},{"$f":"'Sheet3 (4)'!Q47","v":1.2761788120024445E-2},{"$f":"IF(ISNUMBER(I47),CORREL($B$1:B47,$I$1:I47),\"\")","v":{"$error":"#N/A"}},{"$f":"'Sheet3 (4)'!S47","v":1.7269509776851818E-2},{"$f":"IF(ISNUMBER(K47),CORREL($B$1:B47,$K$1:K47),\"\")","v":{"$error":"#N/A"}},{"$f":"'Sheet3 (4)'!U47","v":1.9205162347639047E-2},{"$f":"IF(ISNUMBER(M47),CORREL($B$1:B47,$M$1:M47),\"\")","v":{"$error":"#N/A"}},{"$f":"'Sheet3 (4)'!W47","v":{"$error":"#N/A"}},{"$f":"IF(ISNUMBER(O47),CORREL($B$1:B47,$O$1:O47),\"\")","v":""},{"$f":"'Sheet3 (4)'!Y47","v":-4.4196918989347217E-3},{"$f":"IF(ISNUMBER(Q47),CORREL($B$1:B47,$Q$1:Q47),\"\")","v":{"$error":"#N/A"}},{"$f":"'Sheet3 (4)'!AA47","v":-9.3571392443477525E-3},{"$f":"IF(ISNUMBER(S47),CORREL($B$1:B47,$S$1:S47),\"\")","v":{"$error":"#N/A"}}]
[null,{"$f":"'Sheet3 (4)'!I48","v":{"$error":"#N/A"}},{"$f":"'Sheet3 (4)'!K48","v":-1.724590947091836E-2},{"$f":"IF(ISNUMBER(C48),CORREL($B$1:B48,$C$1:C48),\"\")","v":{"$error":"#N/A"}},{"$f":"'Sheet3 (4)'!M48","v":6.664581478719009E-3},{"$f":"IF(ISNUMBER(E48),CORREL($B$1:B48,$E$1:E48),\"\")","v":{"$error":"#N/A"}},{"$f":"'Sheet3 (4)'!O48","v":-4.9406878774137762E-3},{"$f":"IF(ISNUMBER(G48),CORREL($B$1:B48,$G$1:G48),\"\")","v":{"$error":"#N/A"}},{"$f":"'Sheet3 (4)'!Q48","v":1.4770361298224061E-2},{"$f":"IF(ISNUMBER(I48),CORREL($B$1:B48,$I$1:I48),\"\")","v":{"$error":"#N/A"}},{"$f":"'Sheet3 (4)'!S48","v":1.7746429378247431E-2},{"$f":"IF(ISNUMBER(K48),CORREL($B$1:B48,$K$1:K48),\"\")","v":{"$error":"#N/A"}},{"$f":"'Sheet3 (4)'!U48","v":1.8769845334426001E-2},{"$f":"IF(ISNUMBER(M48),CORREL($B$1:B48,$M$1:M48),\"\")","v":{"$error":"#N/A"}},{"$f":"'Sheet3 (4)'!W48","v":{"$error":"#N/A"}},{"$f":"IF(ISNUMBER(O48),CORREL($B$1:B48,$O$1:O48),\"\")","v":""},{"$f":"'Sheet3 (4)'!Y48","v":-5.5437753876811076E-3},{"$f":"IF(ISNUMBER(Q48),CORREL($B$1:B48,$Q$1:Q48),\"\")","v":{"$error":"#N/A"}},{"$f":"'Sheet3 (4)'!AA48","v":-8.0167922715088154E-3},{"$f":"IF(ISNUMBER(S48),CORREL($B$1:B48,$S$1:S48),\"\")","v":{"$error":"#N/A"}}]
[null,{"$f":"'Sheet3 (4)'!I49","v":{"$error":"#N/A"}},{"$f":"'Sheet3 (4)'!K49","v":-1.7699749193837259E-2},{"$f":"IF(ISNUMBER(C49),CORREL($B$1:B49,$C$1:C49),\"\")","v":{"$error":"#N/A"}},{"$f":"'Sheet3 (4)'!M49","v":5.942785650699005E-3},{"$f":"IF(ISNUMBER(E49),CORREL($B$1:B49,$E$1:E49),\"\")","v":{"$error":"#N/A"}},{"$f":"'Sheet3 (4)'!O49","v":-6.9217366398549628E-3},{"$f":"IF(ISNUMBER(G49),CORREL($B$1:B49,$G$1:G49),\"\")","v":{"$error":"#N/A"}},{"$f":"'Sheet3 (4)'!Q49","v":1.5309246785058175E-2},{"$f":"IF(ISNUMBER(I49),CORREL($B$1:B49,$I$1:I49),\"\")","v":{"$error":"#N/A"}},{"$f":"'Sheet3 (4)'!S49","v":1.689299430206586E-2},{"$f":"IF(ISNUMBER(K49),CORREL($B$1:B49,$K$1:K49),\"\")","v":{"$error":"#N/A"}},{"$f":"'Sheet3 (4)'!U49","v":1.6439618969579066E-2},{"$f":"IF(ISNUMBER(M49),CORREL($B$1:B49,$M$1:M49),\"\")","v":{"$error":"#N/A"}},{"$f":"'Sheet3 (4)'!W49","v":{"$error":"#N/A"}},{"$f":"IF(ISNUMBER(O49),CORREL($B$1:B49,$O$1:O49),\"\")","v":""},{"$f":"'Sheet3 (4)'!Y49","v":-2.5036404976624639E-3},{"$f":"IF(ISNUMBER(Q49),CORREL($B$1:B49,$Q$1:Q49),\"\")","v":{"$error":"#N/A"}},{"$f":"'Sheet3 (4)'!AA49","v":-6.6764452986698775E-3},{"$f":"IF(ISNUMBER(S49),CORREL($B$1:B49,$S$1:S49),\"\")","v":{"$error":"#N/A"}}]
[null,{"$f":"'Sheet3 (4)'!I50","v":{"$error":"#N/A"}},{"$f":"'Sheet3 (4)'!K50","v":-1.5573868386480311E-2},{"$f":"IF(ISNUMBER(C50),CORREL($B$1:B50,$C$1:C50),\"\")","v":{"$error":"#N/A"}},{"$f":"'Sheet3 (4)'!M50","v":5.942785650699005E-3},{"$f":"IF(ISNUMBER(E50),CORREL($B$1:B50,$E$1:E50),\"\")","v":{"$error":"#N/A"}},{"$f":"'Sheet3 (4)'!O50","v":-1.0072320213857859E-2},{"$f":"IF(ISNUMBER(G50),CORREL($B$1:B50,$G$1:G50),\"\")","v":{"$error":"#N/A"}},{"$f":"'Sheet3 (4)'!Q50","v":1.472137170851192E-2},{"$f":"IF(ISNUMBER(I50),CORREL($B$1:B50,$I$1:I50),\"\")","v":{"$error":"#N/A"}},{"$f":"'Sheet3 (4)'!S50","v":1.7746429378247431E-2},{"$f":"IF(ISNUMBER(K50),CORREL($B$1:B50,$K$1:K50),\"\")","v":{"$error":"#N/A"}},{"$f":"'Sheet3 (4)'!U50","v":1.510806104680947E-2},{"$f":"IF(ISNUMBER(M50),CORREL($B$1:B50,$M$1:M50),\"\")","v":{"$error":"#N/A"}},{"$f":"'Sheet3 (4)'!W50","v":{"$error":"#N/A"}},{"$f":"IF(ISNUMBER(O50),CORREL($B$1:B50,$O$1:O50),\"\")","v":""},{"$f":"'Sheet3 (4)'!Y50","v":-2.1970722734588909E-3},{"$f":"IF(ISNUMBER(Q50),CORREL($B$1:B50,$Q$1:Q50),\"\")","v":{"$error":"#N/A"}},{"$f":"'Sheet3 (4)'!AA50","v":-6.0694957260635125E-3},{"$f":"IF(ISNUMBER(S50),CORREL($B$1:B50,$S$1:S50),\"\")","v":{"$error":"#N/A"}}]
[null,{"$f":"'Sheet3 (4)'!I51","v":{"$error":"#N/A"}},{"$f":"'Sheet3 (4)'!K51","v":-1.5717186193717866E-2},{"$f":"IF(ISNUMBER(C51),CORREL($B$1:B51,$C$1:C51),\"\")","v":{"$error":"#N/A"}},{"$f":"'Sheet3 (4)'!M51","v":5.942785650699005E-3},{"$f":"IF(ISNUMBER(E51),CORREL($B$1:B51,$E$1:E51),\"\")","v":{"$error":"#N/A"}},{"$f":"'Sheet3 (4)'!O51","v":-8.4731603694775549E-3},{"$f":"IF(ISNUMBER(G51),CORREL($B$1:B51,$G$1:G51),\"\")","v":{"$error":"#N/A"}},{"$f":"'Sheet3 (4)'!Q51","v":1.5872627066748361E-2},{"$f":"IF(ISNUMBER(I51),CORREL($B$1:B51,$I$1:I51),\"\")","v":{"$error":"#N/A"}},{"$f":"'Sheet3 (4)'!S51","v":1.7696227314942675E-2},{"$f":"IF(ISNUMBER(K51),CORREL($B$1:B51,$K$1:K51),\"\")","v":{"$error":"#N/A"}},{"$f":"'Sheet3 (4)'!U51","v":1.7131004814094023E-2},{"$f":"IF(ISNUMBER(M51),CORREL($B$1:B51,$M$1:M51),\"\")","v":{"$error":"#N/A"}},{"$f":"'Sheet3 (4)'!W51","v":{"$error":"#N/A"}},{"$f":"IF(ISNUMBER(O51),CORREL($B$1:B51,$O$1:O51),\"\")","v":""},{"$f":"'Sheet3 (4)'!Y51","v":3.5766292823745334E-4},{"$f":"IF(ISNUMBER(Q51),CORREL($B$1:B51,$Q$1:Q51),\"\")","v":{"$error":"#N/A"}},{"$f":"'Sheet3 (4)'!AA51","v":-4.552121794547598E-3},{"$f":"IF(ISNUMBER(S51),CORREL($B$1:B51,$S$1:S51),\"\")","v":{"$error":"#N/A"}}]
[null,{"$f":"'Sheet3 (4)'!I52","v":{"$error":"#N/A"}},{"$f":"'Sheet3 (4)'!K52","v":-1.6911501254030775E-2},{"$f":"IF(ISNUMBER(C52),CORREL($B$1:B52,$C$1:C52),\"\")","v":{"$error":"#N/A"}},{"$f":"'Sheet3 (4)'!M52","v":4.860091908668724E-3},{"$f":"IF(ISNUMBER(E52),CORREL($B$1:B52,$E$1:E52),\"\")","v":{"$error":"#N/A"}},{"$f":"'Sheet3 (4)'!O52","v":-1.1003174451631414E-2},{"$f":"IF(ISNUMBER(G52),CORREL($B$1:B52,$G$1:G52),\"\")","v":{"$error":"#N/A"}},{"$f":"'Sheet3 (4)'!Q52","v":1.5946111451316573E-2},{"$f":"IF(ISNUMBER(I52),CORREL($B$1:B52,$I$1:I52),\"\")","v":{"$error":"#N/A"}},{"$f":"'Sheet3 (4)'!S52","v":1.7871934536509461E-2},{"$f":"IF(ISNUMBER(K52),CORREL($B$1:B52,$K$1:K52),\"\")","v":{"$error":"#N/A"}},{"$f":"'Sheet3 (4)'!U52","v":1.562019870941315E-2},{"$f":"IF(ISNUMBER(M52),CORREL($B$1:B52,$M$1:M52),\"\")","v":{"$error":"#N/A"}},{"$f":"'Sheet3 (4)'!W52","v":{"$error":"#N/A"}},{"$f":"IF(ISNUMBER(O52),CORREL($B$1:B52,$O$1:O52),\"\")","v":""},{"$f":"'Sheet3 (4)'!Y52","v":1.7627672891704716E-3},{"$f":"IF(ISNUMBER(Q52),CORREL($B$1:B52,$Q$1:Q52),\"\")","v":{"$error":"#N/A"}},{"$f":"'Sheet3 (4)'!AA52","v":-4.6027009255980812E-3},{"$f":"IF(ISNUMBER(S52),CORREL($B$1:B52,$S$1:S52),\"\")","v":{"$error":"#N/A"}}]
[null,{"$f":"'Sheet3 (4)'!I53","v":{"$error":"#N/A"}},{"$f":"'Sheet3 (4)'!K53","v":-1.667263824196814E-2},{"$f":"IF(ISNUMBER(C53),CORREL($B$1:B53,$C$1:C53),\"\")","v":{"$error":"#N/A"}},{"$f":"'Sheet3 (4)'!M53","v":4.9803912133387709E-3},{"$f":"IF(ISNUMBER(E53),CORREL($B$1:B53,$E$1:E53),\"\")","v":{"$error":"#N/A"}},{"$f":"'Sheet3 (4)'!O53","v":-7.7332505907344411E-3},{"$f":"IF(ISNUMBER(G53),CORREL($B$1:B53,$G$1:G53),\"\")","v":{"$error":"#N/A"}},{"$f":"'Sheet3 (4)'!Q53","v":1.5358236374770316E-2},{"$f":"IF(ISNUMBER(I53),CORREL($B$1:B53,$I$1:I53),\"\")","v":{"$error":"#N/A"}},{"$f":"'Sheet3 (4)'!S53","v":1.8825773739300687E-2},{"$f":"IF(ISNUMBER(K53),CORREL($B$1:B53,$K$1:K53),\"\")","v":{"$error":"#N/A"}},{"$f":"'Sheet3 (4)'!U53","v":1.4672744033596278E-2},{"$f":"IF(ISNUMBER(M53),CORREL($B$1:B53,$M$1:M53),\"\")","v":{"$error":"#N/A"}},{"$f":"'Sheet3 (4)'!W53","v":{"$error":"#N/A"}},{"$f":"IF(ISNUMBER(O53),CORREL($B$1:B53,$O$1:O53),\"\")","v":""},{"$f":"'Sheet3 (4)'!Y53","v":3.4233451702730374E-3},{"$f":"IF(ISNUMBER(Q53),CORREL($B$1:B53,$Q$1:Q53),\"\")","v":{"$error":"#N/A"}},{"$f":"'Sheet3 (4)'!AA53","v":-4.172778311668692E-3},{"$f":"IF(ISNUMBER(S53),CORREL($B$1:B53,$S$1:S53),\"\")","v":{"$error":"#N/A"}}]
[null,{"$f":"'Sheet3 (4)'!I54","v":{"$error":"#N/A"}},{"$f":"'Sheet3 (4)'!K54","v":-1.6505434133524347E-2},{"$f":"IF(ISNUMBER(C54),CORREL($B$1:B54,$C$1:C54),\"\")","v":{"$error":"#N/A"}},{"$f":"'Sheet3 (4)'!M54","v":4.667613021196732E-3},{"$f":"IF(ISNUMBER(E54),CORREL($B$1:B54,$E$1:E54),\"\")","v":{"$error":"#N/A"}},{"$f":"'Sheet3 (4)'!O54","v":-6.3489032627635032E-3},{"$f":"IF(ISNUMBER(G54),CORREL($B$1:B54,$G$1:G54),\"\")","v":{"$error":"#N/A"}},{"$f":"'Sheet3 (4)'!Q54","v":1.6436007348438406E-2},{"$f":"IF(ISNUMBER(I54),CORREL($B$1:B54,$I$1:I54),\"\")","v":{"$error":"#N/A"}},{"$f":"'Sheet3 (4)'!S54","v":1.8675167549386276E-2},{"$f":"IF(ISNUMBER(K54),CORREL($B$1:B54,$K$1:K54),\"\")","v":{"$error":"#N/A"}},{"$f":"'Sheet3 (4)'!U54","v":1.5722626241933942E-2},{"$f":"IF(ISNUMBER(M54),CORREL($B$1:B54,$M$1:M54),\"\")","v":{"$error":"#N/A"}},{"$f":"'Sheet3 (4)'!W54","v":{"$error":"#N/A"}},{"$f":"IF(ISNUMBER(O54),CORREL($B$1:B54,$O$1:O54),\"\")","v":""},{"$f":"'Sheet3 (4)'!Y54","v":3.9087448585953368E-3},{"$f":"IF(ISNUMBER(Q54),CORREL($B$1:B54,$Q$1:Q54),\"\")","v":{"$error":"#N/A"}},{"$f":"'Sheet3 (4)'!AA54","v":-5.6142835466087377E-3},{"$f":"IF(ISNUMBER(S54),CORREL($B$1:B54,$S$1:S54),\"\")","v":{"$error":"#N/A"}}]
[null,{"$f":"'Sheet3 (4)'!I55","v":{"$error":"#N/A"}},{"$f":"'Sheet3 (4)'!K55","v":-1.6696524543174378E-2},{"$f":"IF(ISNUMBER(C55),CORREL($B$1:B55,$C$1:C55),\"\")","v":{"$error":"#N/A"}},{"$f":"'Sheet3 (4)'!M55","v":5.052570796140853E-3},{"$f":"IF(ISNUMBER(E55),CORREL($B$1:B55,$E$1:E55),\"\")","v":{"$error":"#N/A"}},{"$f":"'Sheet3 (4)'!O55","v":-8.4492923120987658E-3},{"$f":"IF(ISNUMBER(G55),CORREL($B$1:B55,$G$1:G55),\"\")","v":{"$error":"#N/A"}},{"$f":"'Sheet3 (4)'!Q55","v":1.6044090630740995E-2},{"$f":"IF(ISNUMBER(I55),CORREL($B$1:B55,$I$1:I55),\"\")","v":{"$error":"#N/A"}},{"$f":"'Sheet3 (4)'!S55","v":1.7972338663119116E-2},{"$f":"IF(ISNUMBER(K55),CORREL($B$1:B55,$K$1:K55),\"\")","v":{"$error":"#N/A"}},{"$f":"'Sheet3 (4)'!U55","v":1.3725289357779407E-2},{"$f":"IF(ISNUMBER(M55),CORREL($B$1:B55,$M$1:M55),\"\")","v":{"$error":"#N/A"}},{"$f":"'Sheet3 (4)'!W55","v":{"$error":"#N/A"}},{"$f":"IF(ISNUMBER(O55),CORREL($B$1:B55,$O$1:O55),\"\")","v":""},{"$f":"'Sheet3 (4)'!Y55","v":5.2627545154944749E-3},{"$f":"IF(ISNUMBER(Q55),CORREL($B$1:B55,$Q$1:Q55),\"\")","v":{"$error":"#N/A"}},{"$f":"'Sheet3 (4)'!AA55","v":-4.8303070153255401E-3},{"$f":"IF(ISNUMBER(S55),CORREL($B$1:B55,$S$1:S55),\"\")","v":{"$error":"#N/A"}}]
[null,{"$f":"'Sheet3 (4)'!I56","v":{"$error":"#N/A"}},{"$f":"'Sheet3 (4)'!K56","v":-1.7436999880568387E-2},{"$f":"IF(ISNUMBER(C56),CORREL($B$1:B56,$C$1:C56),\"\")","v":{"$error":"#N/A"}},{"$f":"'Sheet3 (4)'!M56","v":4.282655246252748E-3},{"$f":"IF(ISNUMBER(E56),CORREL($B$1:B56,$E$1:E56),\"\")","v":{"$error":"#N/A"}},{"$f":"'Sheet3 (4)'!O56","v":-7.9003269923860944E-3},{"$f":"IF(ISNUMBER(G56),CORREL($B$1:B56,$G$1:G56),\"\")","v":{"$error":"#N/A"}},{"$f":"'Sheet3 (4)'!Q56","v":1.5823637477036079E-2},{"$f":"IF(ISNUMBER(I56),CORREL($B$1:B56,$I$1:I56),\"\")","v":{"$error":"#N/A"}},{"$f":"'Sheet3 (4)'!S56","v":1.8825773739300687E-2},{"$f":"IF(ISNUMBER(K56),CORREL($B$1:B56,$K$1:K56),\"\")","v":{"$error":"#N/A"}},{"$f":"'Sheet3 (4)'!U56","v":1.1907200655536297E-2},{"$f":"IF(ISNUMBER(M56),CORREL($B$1:B56,$M$1:M56),\"\")","v":{"$error":"#N/A"}},{"$f":"'Sheet3 (4)'!W56","v":{"$error":"#N/A"}},{"$f":"IF(ISNUMBER(O56),CORREL($B$1:B56,$O$1:O56),\"\")","v":""},{"$f":"'Sheet3 (4)'!Y56","v":5.7226068517998337E-3},{"$f":"IF(ISNUMBER(Q56),CORREL($B$1:B56,$Q$1:Q56),\"\")","v":{"$error":"#N/A"}},{"$f":"'Sheet3 (4)'!AA56","v":-5.6901522431844617E-3},{"$f":"IF(ISNUMBER(S56),CORREL($B$1:B56,$S$1:S56),\"\")","v":{"$error":"#N/A"}}]
[null,{"$f":"'Sheet3 (4)'!I57","v":{"$error":"#N/A"}},{"$f":"'Sheet3 (4)'!K57","v":-1.6815956049205695E-2},{"$f":"IF(ISNUMBER(C57),CORREL($B$1:B57,$C$1:C57),\"\")","v":{"$error":"#N/A"}},{"$f":"'Sheet3 (4)'!M57","v":2.9834227558164935E-3},{"$f":"IF(ISNUMBER(E57),CORREL($B$1:B57,$E$1:E57),\"\")","v":{"$error":"#N/A"}},{"$f":"'Sheet3 (4)'!O57","v":-7.2081533284006931E-3},{"$f":"IF(ISNUMBER(G57),CORREL($B$1:B57,$G$1:G57),\"\")","v":{"$error":"#N/A"}},{"$f":"'Sheet3 (4)'!Q57","v":1.6387017758726266E-2},{"$f":"IF(ISNUMBER(I57),CORREL($B$1:B57,$I$1:I57),\"\")","v":{"$error":"#N/A"}},{"$f":"'Sheet3 (4)'!S57","v":1.9478400562263087E-2},{"$f":"IF(ISNUMBER(K57),CORREL($B$1:B57,$K$1:K57),\"\")","v":{"$error":"#N/A"}},{"$f":"'Sheet3 (4)'!U57","v":1.1907200655536297E-2},{"$f":"IF(ISNUMBER(M57),CORREL($B$1:B57,$M$1:M57),\"\")","v":{"$error":"#N/A"}},{"$f":"'Sheet3 (4)'!W57","v":{"$error":"#N/A"}},{"$f":"IF(ISNUMBER(O57),CORREL($B$1:B57,$O$1:O57),\"\")","v":""},{"$f":"'Sheet3 (4)'!Y57","v":7.255447972817553E-3},{"$f":"IF(ISNUMBER(Q57),CORREL($B$1:B57,$Q$1:Q57),\"\")","v":{"$error":"#N/A"}},{"$f":"'Sheet3 (4)'!AA57","v":-5.4119670224066644E-3},{"$f":"IF(ISNUMBER(S57),CORREL($B$1:B57,$S$1:S57),\"\")","v":{"$error":"#N/A"}}]
[null,{"$f":"'Sheet3 (4)'!I58","v":{"$error":"#N/A"}},{"$f":"'Sheet3 (4)'!K58","v":-1.667263824196814E-2},{"$f":"IF(ISNUMBER(C58),CORREL($B$1:B58,$C$1:C58),\"\")","v":{"$error":"#N/A"}},{"$f":"'Sheet3 (4)'!M58","v":3.0796621995525576E-3},{"$f":"IF(ISNUMBER(E58),CORREL($B$1:B58,$E$1:E58),\"\")","v":{"$error":"#N/A"}},{"$f":"'Sheet3 (4)'!O58","v":-8.3299520252046906E-3},{"$f":"IF(ISNUMBER(G58),CORREL($B$1:B58,$G$1:G58),\"\")","v":{"$error":"#N/A"}},{"$f":"'Sheet3 (4)'!Q58","v":1.7317819963257791E-2},{"$f":"IF(ISNUMBER(I58),CORREL($B$1:B58,$I$1:I58),\"\")","v":{"$error":"#N/A"}},{"$f":"'Sheet3 (4)'!S58","v":2.045734079670683E-2},{"$f":"IF(ISNUMBER(K58),CORREL($B$1:B58,$K$1:K58),\"\")","v":{"$error":"#N/A"}},{"$f":"'Sheet3 (4)'!U58","v":1.4928812864898191E-2},{"$f":"IF(ISNUMBER(M58),CORREL($B$1:B58,$M$1:M58),\"\")","v":{"$error":"#N/A"}},{"$f":"'Sheet3 (4)'!W58","v":{"$error":"#N/A"}},{"$f":"IF(ISNUMBER(O58),CORREL($B$1:B58,$O$1:O58),\"\")","v":""},{"$f":"'Sheet3 (4)'!Y58","v":8.4050788135810253E-3},{"$f":"IF(ISNUMBER(Q58),CORREL($B$1:B58,$Q$1:Q58),\"\")","v":{"$error":"#N/A"}},{"$f":"'Sheet3 (4)'!AA58","v":-3.4899600424864586E-3},{"$f":"IF(ISNUMBER(S58),CORREL($B$1:B58,$S$1:S58),\"\")","v":{"$error":"#N/A"}}]
[null,{"$f":"'Sheet3 (4)'!I59","v":{"$error":"#N/A"}},{"$f":"'Sheet3 (4)'!K59","v":-1.4952824555117619E-2},{"$f":"IF(ISNUMBER(C59),CORREL($B$1:B59,$C$1:C59),\"\")","v":{"$error":"#N/A"}},{"$f":"'Sheet3 (4)'!M59","v":4.499193994658722E-3},{"$f":"IF(ISNUMBER(E59),CORREL($B$1:B59,$E$1:E59),\"\")","v":{"$error":"#N/A"}},{"$f":"'Sheet3 (4)'!O59","v":-8.2822159104471126E-3},{"$f":"IF(ISNUMBER(G59),CORREL($B$1:B59,$G$1:G59),\"\")","v":{"$error":"#N/A"}},{"$f":"'Sheet3 (4)'!Q59","v":1.7023882424984663E-2},{"$f":"IF(ISNUMBER(I59),CORREL($B$1:B59,$I$1:I59),\"\")","v":{"$error":"#N/A"}},{"$f":"'Sheet3 (4)'!S59","v":2.0482441828359208E-2},{"$f":"IF(ISNUMBER(K59),CORREL($B$1:B59,$K$1:K59),\"\")","v":{"$error":"#N/A"}},{"$f":"'Sheet3 (4)'!U59","v":1.2572979616921094E-2},{"$f":"IF(ISNUMBER(M59),CORREL($B$1:B59,$M$1:M59),\"\")","v":{"$error":"#N/A"}},{"$f":"'Sheet3 (4)'!W59","v":{"$error":"#N/A"}},{"$f":"IF(ISNUMBER(O59),CORREL($B$1:B59,$O$1:O59),\"\")","v":""},{"$f":"'Sheet3 (4)'!Y59","v":9.043762614005111E-3},{"$f":"IF(ISNUMBER(Q59),CORREL($B$1:B59,$Q$1:Q59),\"\")","v":{"$error":"#N/A"}},{"$f":"'Sheet3 (4)'!AA59","v":-3.2623539527591432E-3},{"$f":"IF(ISNUMBER(S59),CORREL($B$1:B59,$S$1:S59),\"\")","v":{"$error":"#N/A"}}]
[null,{"$f":"'Sheet3 (4)'!I60","v":{"$error":"#N/A"}},{"$f":"'Sheet3 (4)'!K60","v":-1.3782395796010946E-2},{"$f":"IF(ISNUMBER(C60),CORREL($B$1:B60,$C$1:C60),\"\")","v":{"$error":"#N/A"}},{"$f":"'Sheet3 (4)'!M60","v":4.7879123258667781E-3},{"$f":"IF(ISNUMBER(E60),CORREL($B$1:B60,$E$1:E60),\"\")","v":{"$error":"#N/A"}},{"$f":"'Sheet3 (4)'!O60","v":-5.1555003938230058E-3},{"$f":"IF(ISNUMBER(G60),CORREL($B$1:B60,$G$1:G60),\"\")","v":{"$error":"#N/A"}},{"$f":"'Sheet3 (4)'!Q60","v":1.7244335578689578E-2},{"$f":"IF(ISNUMBER(I60),CORREL($B$1:B60,$I$1:I60),\"\")","v":{"$error":"#N/A"}},{"$f":"'Sheet3 (4)'!S60","v":2.1160169682973989E-2},{"$f":"IF(ISNUMBER(K60),CORREL($B$1:B60,$K$1:K60),\"\")","v":{"$error":"#N/A"}},{"$f":"'Sheet3 (4)'!U60","v":1.4954419748028353E-2},{"$f":"IF(ISNUMBER(M60),CORREL($B$1:B60,$M$1:M60),\"\")","v":{"$error":"#N/A"}},{"$f":"'Sheet3 (4)'!W60","v":{"$error":"#N/A"}},{"$f":"IF(ISNUMBER(O60),CORREL($B$1:B60,$O$1:O60),\"\")","v":""},{"$f":"'Sheet3 (4)'!Y60","v":9.4525202462764444E-3},{"$f":"IF(ISNUMBER(Q60),CORREL($B$1:B60,$Q$1:Q60),\"\")","v":{"$error":"#N/A"}},{"$f":"'Sheet3 (4)'!AA60","v":-3.2876435182843844E-3},{"$f":"IF(ISNUMBER(S60),CORREL($B$1:B60,$S$1:S60),\"\")","v":{"$error":"#N/A"}}]
[null,{"$f":"'Sheet3 (4)'!I61","v":{"$error":"#N/A"}},{"$f":"'Sheet3 (4)'!K61","v":-1.1656514988653997E-2},{"$f":"IF(ISNUMBER(C61),CORREL($B$1:B61,$C$1:C61),\"\")","v":{"$error":"#N/A"}},{"$f":"'Sheet3 (4)'!M61","v":4.956331352404789E-3},{"$f":"IF(ISNUMBER(E61),CORREL($B$1:B61,$E$1:E61),\"\")","v":{"$error":"#N/A"}},{"$f":"'Sheet3 (4)'!O61","v":-5.6567295987779657E-3},{"$f":"IF(ISNUMBER(G61),CORREL($B$1:B61,$G$1:G61),\"\")","v":{"$error":"#N/A"}},{"$f":"'Sheet3 (4)'!Q61","v":1.8077158603796682E-2},{"$f":"IF(ISNUMBER(I61),CORREL($B$1:B61,$I$1:I61),\"\")","v":{"$error":"#N/A"}},{"$f":"'Sheet3 (4)'!S61","v":2.0306734606792418E-2},{"$f":"IF(ISNUMBER(K61),CORREL($B$1:B61,$K$1:K61),\"\")","v":{"$error":"#N/A"}},{"$f":"'Sheet3 (4)'!U61","v":1.7002970398443212E-2},{"$f":"IF(ISNUMBER(M61),CORREL($B$1:B61,$M$1:M61),\"\")","v":{"$error":"#N/A"}},{"$f":"'Sheet3 (4)'!W61","v":{"$error":"#N/A"}},{"$f":"IF(ISNUMBER(O61),CORREL($B$1:B61,$O$1:O61),\"\")","v":""},{"$f":"'Sheet3 (4)'!Y61","v":1.0321130214853282E-2},{"$f":"IF(ISNUMBER(Q61),CORREL($B$1:B61,$Q$1:Q61),\"\")","v":{"$error":"#N/A"}},{"$f":"'Sheet3 (4)'!AA61","v":-4.2739365737696567E-3},{"$f":"IF(ISNUMBER(S61),CORREL($B$1:B61,$S$1:S61),\"\")","v":{"$error":"#N/A"}}]
[null,{"$f":"'Sheet3 (4)'!I62","v":{"$error":"#N/A"}},{"$f":"'Sheet3 (4)'!K62","v":-1.2349217723635397E-2},{"$f":"IF(ISNUMBER(C62),CORREL($B$1:B62,$C$1:C62),\"\")","v":{"$error":"#N/A"}},{"$f":"'Sheet3 (4)'!M62","v":5.2209898226788631E-3},{"$f":"IF(ISNUMBER(E62),CORREL($B$1:B62,$E$1:E62),\"\")","v":{"$error":"#N/A"}},{"$f":"'Sheet3 (4)'!O62","v":-4.8690837052772764E-3},{"$f":"IF(ISNUMBER(G62),CORREL($B$1:B62,$G$1:G62),\"\")","v":{"$error":"#N/A"}},{"$f":"'Sheet3 (4)'!Q62","v":1.9889773423147593E-2},{"$f":"IF(ISNUMBER(I62),CORREL($B$1:B62,$I$1:I62),\"\")","v":{"$error":"#N/A"}},{"$f":"'Sheet3 (4)'!S62","v":1.8474359296167107E-2},{"$f":"IF(ISNUMBER(K62),CORREL($B$1:B62,$K$1:K62),\"\")","v":{"$error":"#N/A"}},{"$f":"'Sheet3 (4)'!U62","v":1.597869507323571E-2},{"$f":"IF(ISNUMBER(M62),CORREL($B$1:B62,$M$1:M62),\"\")","v":{"$error":"#N/A"}},{"$f":"'Sheet3 (4)'!W62","v":{"$error":"#N/A"}},{"$f":"IF(ISNUMBER(O62),CORREL($B$1:B62,$O$1:O62),\"\")","v":""},{"$f":"'Sheet3 (4)'!Y62","v":8.6860996857675114E-3},{"$f":"IF(ISNUMBER(Q62),CORREL($B$1:B62,$Q$1:Q62),\"\")","v":{"$error":"#N/A"}},{"$f":"'Sheet3 (4)'!AA62","v":-4.6279904911234659E-3},{"$f":"IF(ISNUMBER(S62),CORREL($B$1:B62,$S$1:S62),\"\")","v":{"$error":"#N/A"}}]
[null,{"$f":"'Sheet3 (4)'!I63","v":{"$error":"#N/A"}},{"$f":"'Sheet3 (4)'!K63","v":-1.3949599904454737E-2},{"$f":"IF(ISNUMBER(C63),CORREL($B$1:B63,$C$1:C63),\"\")","v":{"$error":"#N/A"}},{"$f":"'Sheet3 (4)'!M63","v":5.942785650699005E-3},{"$f":"IF(ISNUMBER(E63),CORREL($B$1:B63,$E$1:E63),\"\")","v":{"$error":"#N/A"}},{"$f":"'Sheet3 (4)'!O63","v":-5.4419170823687361E-3},{"$f":"IF(ISNUMBER(G63),CORREL($B$1:B63,$G$1:G63),\"\")","v":{"$error":"#N/A"}},{"$f":"'Sheet3 (4)'!Q63","v":2.0281690140845004E-2},{"$f":"IF(ISNUMBER(I63),CORREL($B$1:B63,$I$1:I63),\"\")","v":{"$error":"#N/A"}},{"$f":"'Sheet3 (4)'!S63","v":1.9352895404001196E-2},{"$f":"IF(ISNUMBER(K63),CORREL($B$1:B63,$K$1:K63),\"\")","v":{"$error":"#N/A"}},{"$f":"'Sheet3 (4)'!U63","v":1.5953088190105547E-2},{"$f":"IF(ISNUMBER(M63),CORREL($B$1:B63,$M$1:M63),\"\")","v":{"$error":"#N/A"}},{"$f":"'Sheet3 (4)'!W63","v":{"$error":"#N/A"}},{"$f":"IF(ISNUMBER(O63),CORREL($B$1:B63,$O$1:O63),\"\")","v":""},{"$f":"'Sheet3 (4)'!Y63","v":7.9196791252585802E-3},{"$f":"IF(ISNUMBER(Q63),CORREL($B$1:B63,$Q$1:Q63),\"\")","v":{"$error":"#N/A"}},{"$f":"'Sheet3 (4)'!AA63","v":-5.1337818016287222E-3},{"$f":"IF(ISNUMBER(S63),CORREL($B$1:B63,$S$1:S63),\"\")","v":{"$error":"#N/A"}}]
[null,{"$f":"'Sheet3 (4)'!I64","v":{"$error":"#N/A"}},{"$f":"'Sheet3 (4)'!K64","v":-1.3615191687567153E-2},{"$f":"IF(ISNUMBER(C64),CORREL($B$1:B64,$C$1:C64),\"\")","v":{"$error":"#N/A"}},{"$f":"'Sheet3 (4)'!M64","v":5.485648292952938E-3},{"$f":"IF(ISNUMBER(E64),CORREL($B$1:B64,$E$1:E64),\"\")","v":{"$error":"#N/A"}},{"$f":"'Sheet3 (4)'!O64","v":-4.5110628445951808E-3},{"$f":"IF(ISNUMBER(G64),CORREL($B$1:B64,$G$1:G64),\"\")","v":{"$error":"#N/A"}},{"$f":"'Sheet3 (4)'!Q64","v":1.9252908756889193E-2},{"$f":"IF(ISNUMBER(I64),CORREL($B$1:B64,$I$1:I64),\"\")","v":{"$error":"#N/A"}},{"$f":"'Sheet3 (4)'!S64","v":1.9905118100353943E-2},{"$f":"IF(ISNUMBER(K64),CORREL($B$1:B64,$K$1:K64),\"\")","v":{"$error":"#N/A"}},{"$f":"'Sheet3 (4)'!U64","v":1.5901874423845223E-2},{"$f":"IF(ISNUMBER(M64),CORREL($B$1:B64,$M$1:M64),\"\")","v":{"$error":"#N/A"}},{"$f":"'Sheet3 (4)'!W64","v":{"$error":"#N/A"}},{"$f":"IF(ISNUMBER(O64),CORREL($B$1:B64,$O$1:O64),\"\")","v":""},{"$f":"'Sheet3 (4)'!Y64","v":8.200699997445212E-3},{"$f":"IF(ISNUMBER(Q64),CORREL($B$1:B64,$Q$1:Q64),\"\")","v":{"$error":"#N/A"}},{"$f":"'Sheet3 (4)'!AA64","v":-4.6279904911234659E-3},{"$f":"IF(ISNUMBER(S64),CORREL($B$1:B64,$S$1:S64),\"\")","v":{"$error":"#N/A"}}]
[null,{"$f":"'Sheet3 (4)'!I65","v":{"$error":"#N/A"}},{"$f":"'Sheet3 (4)'!K65","v":-1.4045145109279818E-2},{"$f":"IF(ISNUMBER(C65),CORREL($B$1:B65,$C$1:C65),\"\")","v":{"$error":"#N/A"}},{"$f":"'Sheet3 (4)'!M65","v":5.9909053725669681E-3},{"$f":"IF(ISNUMBER(E65),CORREL($B$1:B65,$E$1:E65),\"\")","v":{"$error":"#N/A"}},{"$f":"'Sheet3 (4)'!O65","v":-4.654271188868046E-3},{"$f":"IF(ISNUMBER(G65),CORREL($B$1:B65,$G$1:G65),\"\")","v":{"$error":"#N/A"}},{"$f":"'Sheet3 (4)'!Q65","v":2.1310471524800954E-2},{"$f":"IF(ISNUMBER(I65),CORREL($B$1:B65,$I$1:I65),\"\")","v":{"$error":"#N/A"}},{"$f":"'Sheet3 (4)'!S65","v":2.0507542860011586E-2},{"$f":"IF(ISNUMBER(K65),CORREL($B$1:B65,$K$1:K65),\"\")","v":{"$error":"#N/A"}},{"$f":"'Sheet3 (4)'!U65","v":1.5825053774454593E-2},{"$f":"IF(ISNUMBER(M65),CORREL($B$1:B65,$M$1:M65),\"\")","v":{"$error":"#N/A"}},{"$f":"'Sheet3 (4)'!W65","v":{"$error":"#N/A"}},{"$f":"IF(ISNUMBER(O65),CORREL($B$1:B65,$O$1:O65),\"\")","v":""},{"$f":"'Sheet3 (4)'!Y65","v":7.5620161970211264E-3},{"$f":"IF(ISNUMBER(Q65),CORREL($B$1:B65,$Q$1:Q65),\"\")","v":{"$error":"#N/A"}},{"$f":"'Sheet3 (4)'!AA65","v":-5.4878357189823883E-3},{"$f":"IF(ISNUMBER(S65),CORREL($B$1:B65,$S$1:S65),\"\")","v":{"$error":"#N/A"}}]
[null,{"$f":"'Sheet3 (4)'!I66","v":{"$error":"#N/A"}},{"$f":"'Sheet3 (4)'!K66","v":-1.4952824555117619E-2},{"$f":"IF(ISNUMBER(C66),CORREL($B$1:B66,$C$1:C66),\"\")","v":{"$error":"#N/A"}},{"$f":"'Sheet3 (4)'!M66","v":4.932271491470807E-3},{"$f":"IF(ISNUMBER(E66),CORREL($B$1:B66,$E$1:E66),\"\")","v":{"$error":"#N/A"}},{"$f":"'Sheet3 (4)'!O66","v":-4.4633267298374692E-3},{"$f":"IF(ISNUMBER(G66),CORREL($B$1:B66,$G$1:G66),\"\")","v":{"$error":"#N/A"}},{"$f":"'Sheet3 (4)'!Q66","v":2.050214329454992E-2},{"$f":"IF(ISNUMBER(I66),CORREL($B$1:B66,$I$1:I66),\"\")","v":{"$error":"#N/A"}},{"$f":"'Sheet3 (4)'!S66","v":2.1285674841236023E-2},{"$f":"IF(ISNUMBER(K66),CORREL($B$1:B66,$K$1:K66),\"\")","v":{"$error":"#N/A"}},{"$f":"'Sheet3 (4)'!U66","v":1.8257707671822176E-2},{"$f":"IF(ISNUMBER(M66),CORREL($B$1:B66,$M$1:M66),\"\")","v":{"$error":"#N/A"}},{"$f":"'Sheet3 (4)'!W66","v":{"$error":"#N/A"}},{"$f":"IF(ISNUMBER(O66),CORREL($B$1:B66,$O$1:O66),\"\")","v":""},{"$f":"'Sheet3 (4)'!Y66","v":5.3393965715452952E-3},{"$f":"IF(ISNUMBER(Q66),CORREL($B$1:B66,$Q$1:Q66),\"\")","v":{"$error":"#N/A"}},{"$f":"'Sheet3 (4)'!AA66","v":-4.9061757119012632E-3},{"$f":"IF(ISNUMBER(S66),CORREL($B$1:B66,$S$1:S66),\"\")","v":{"$error":"#N/A"}}]
[null,{"$f":"'Sheet3 (4)'!I67","v":{"$error":"#N/A"}},{"$f":"'Sheet3 (4)'!K67","v":-1.3376328675504517E-2},{"$f":"IF(ISNUMBER(C67),CORREL($B$1:B67,$C$1:C67),\"\")","v":{"$error":"#N/A"}},{"$f":"'Sheet3 (4)'!M67","v":5.124750378942799E-3},{"$f":"IF(ISNUMBER(E67),CORREL($B$1:B67,$E$1:E67),\"\")","v":{"$error":"#N/A"}},{"$f":"'Sheet3 (4)'!O67","v":-4.9645559347925644E-3},{"$f":"IF(ISNUMBER(G67),CORREL($B$1:B67,$G$1:G67),\"\")","v":{"$error":"#N/A"}},{"$f":"'Sheet3 (4)'!Q67","v":1.9914268218003663E-2},{"$f":"IF(ISNUMBER(I67),CORREL($B$1:B67,$I$1:I67),\"\")","v":{"$error":"#N/A"}},{"$f":"'Sheet3 (4)'!S67","v":2.1285674841236023E-2},{"$f":"IF(ISNUMBER(K67),CORREL($B$1:B67,$K$1:K67),\"\")","v":{"$error":"#N/A"}},{"$f":"'Sheet3 (4)'!U67","v":1.9589265594591915E-2},{"$f":"IF(ISNUMBER(M67),CORREL($B$1:B67,$M$1:M67),\"\")","v":{"$error":"#N/A"}},{"$f":"'Sheet3 (4)'!W67","v":{"$error":"#N/A"}},{"$f":"IF(ISNUMBER(O67),CORREL($B$1:B67,$O$1:O67),\"\")","v":""},{"$f":"'Sheet3 (4)'!Y67","v":5.8758909639016208E-3},{"$f":"IF(ISNUMBER(Q67),CORREL($B$1:B67,$Q$1:Q67),\"\")","v":{"$error":"#N/A"}},{"$f":"'Sheet3 (4)'!AA67","v":-3.8945930908907502E-3},{"$f":"IF(ISNUMBER(S67),CORREL($B$1:B67,$S$1:S67),\"\")","v":{"$error":"#N/A"}}]
[null,{"$f":"'Sheet3 (4)'!I68","v":{"$error":"#N/A"}},{"$f":"'Sheet3 (4)'!K68","v":-1.4403439627373636E-2},{"$f":"IF(ISNUMBER(C68),CORREL($B$1:B68,$C$1:C68),\"\")","v":{"$error":"#N/A"}},{"$f":"'Sheet3 (4)'!M68","v":5.4134687101508551E-3},{"$f":"IF(ISNUMBER(E68),CORREL($B$1:B68,$E$1:E68),\"\")","v":{"$error":"#N/A"}},{"$f":"'Sheet3 (4)'!O68","v":-4.654271188868046E-3},{"$f":"IF(ISNUMBER(G68),CORREL($B$1:B68,$G$1:G68),\"\")","v":{"$error":"#N/A"}},{"$f":"'Sheet3 (4)'!Q68","v":2.1041028781383895E-2},{"$f":"IF(ISNUMBER(I68),CORREL($B$1:B68,$I$1:I68),\"\")","v":{"$error":"#N/A"}},{"$f":"'Sheet3 (4)'!S68","v":2.0959361429754821E-2},{"$f":"IF(ISNUMBER(K68),CORREL($B$1:B68,$K$1:K68),\"\")","v":{"$error":"#N/A"}},{"$f":"'Sheet3 (4)'!U68","v":1.9256376113899517E-2},{"$f":"IF(ISNUMBER(M68),CORREL($B$1:B68,$M$1:M68),\"\")","v":{"$error":"#N/A"}},{"$f":"'Sheet3 (4)'!W68","v":{"$error":"#N/A"}},{"$f":"IF(ISNUMBER(O68),CORREL($B$1:B68,$O$1:O68),\"\")","v":""},{"$f":"'Sheet3 (4)'!Y68","v":6.0547224280203468E-3},{"$f":"IF(ISNUMBER(Q68),CORREL($B$1:B68,$Q$1:Q68),\"\")","v":{"$error":"#N/A"}},{"$f":"'Sheet3 (4)'!AA68","v":-5.9177583329119206E-3},{"$f":"IF(ISNUMBER(S68),CORREL($B$1:B68,$S$1:S68),\"\")","v":{"$error":"#N/A"}}]
[null,{"$f":"'Sheet3 (4)'!I69","v":{"$error":"#N/A"}},{"$f":"'Sheet3 (4)'!K69","v":-1.4952824555117619E-2},{"$f":"IF(ISNUMBER(C69),CORREL($B$1:B69,$C$1:C69),\"\")","v":{"$error":"#N/A"}},{"$f":"'Sheet3 (4)'!M69","v":5.533768014820902E-3},{"$f":"IF(ISNUMBER(E69),CORREL($B$1:B69,$E$1:E69),\"\")","v":{"$error":"#N/A"}},{"$f":"'Sheet3 (4)'!O69","v":-5.3464448528534473E-3},{"$f":"IF(ISNUMBER(G69),CORREL($B$1:B69,$G$1:G69),\"\")","v":{"$error":"#N/A"}},{"$f":"'Sheet3 (4)'!Q69","v":2.0698101653398623E-2},{"$f":"IF(ISNUMBER(I69),CORREL($B$1:B69,$I$1:I69),\"\")","v":{"$error":"#N/A"}},{"$f":"'Sheet3 (4)'!S69","v":2.1059765556364334E-2},{"$f":"IF(ISNUMBER(K69),CORREL($B$1:B69,$K$1:K69),\"\")","v":{"$error":"#N/A"}},{"$f":"'Sheet3 (4)'!U69","v":1.9307589880159841E-2},{"$f":"IF(ISNUMBER(M69),CORREL($B$1:B69,$M$1:M69),\"\")","v":{"$error":"#N/A"}},{"$f":"'Sheet3 (4)'!W69","v":{"$error":"#N/A"}},{"$f":"IF(ISNUMBER(O69),CORREL($B$1:B69,$O$1:O69),\"\")","v":""},{"$f":"'Sheet3 (4)'!Y69","v":6.8977850445801001E-3},{"$f":"IF(ISNUMBER(Q69),CORREL($B$1:B69,$Q$1:Q69),\"\")","v":{"$error":"#N/A"}},{"$f":"'Sheet3 (4)'!AA69","v":-5.7660209397603296E-3},{"$f":"IF(ISNUMBER(S69),CORREL($B$1:B69,$S$1:S69),\"\")","v":{"$error":"#N/A"}}]
[null,{"$f":"'Sheet3 (4)'!I70","v":{"$error":"#N/A"}},{"$f":"'Sheet3 (4)'!K70","v":-1.638600262749303E-2},{"$f":"IF(ISNUMBER(C70),CORREL($B$1:B70,$C$1:C70),\"\")","v":{"$error":"#N/A"}},{"$f":"'Sheet3 (4)'!M70","v":4.9803912133387709E-3},{"$f":"IF(ISNUMBER(E70),CORREL($B$1:B70,$E$1:E70),\"\")","v":{"$error":"#N/A"}},{"$f":"'Sheet3 (4)'!O70","v":-5.7760698856720426E-3},{"$f":"IF(ISNUMBER(G70),CORREL($B$1:B70,$G$1:G70),\"\")","v":{"$error":"#N/A"}},{"$f":"'Sheet3 (4)'!Q70","v":1.9546846295162321E-2},{"$f":"IF(ISNUMBER(I70),CORREL($B$1:B70,$I$1:I70),\"\")","v":{"$error":"#N/A"}},{"$f":"'Sheet3 (4)'!S70","v":2.1185270714626368E-2},{"$f":"IF(ISNUMBER(K70),CORREL($B$1:B70,$K$1:K70),\"\")","v":{"$error":"#N/A"}},{"$f":"'Sheet3 (4)'!U70","v":1.8795452217556161E-2},{"$f":"IF(ISNUMBER(M70),CORREL($B$1:B70,$M$1:M70),\"\")","v":{"$error":"#N/A"}},{"$f":"'Sheet3 (4)'!W70","v":{"$error":"#N/A"}},{"$f":"IF(ISNUMBER(O70),CORREL($B$1:B70,$O$1:O70),\"\")","v":""},{"$f":"'Sheet3 (4)'!Y70","v":6.5912168203765276E-3},{"$f":"IF(ISNUMBER(Q70),CORREL($B$1:B70,$Q$1:Q70),\"\")","v":{"$error":"#N/A"}},{"$f":"'Sheet3 (4)'!AA70","v":-7.9156340094077068E-3},{"$f":"IF(ISNUMBER(S70),CORREL($B$1:B70,$S$1:S70),\"\")","v":{"$error":"#N/A"}}]
[null,{"$f":"'Sheet3 (4)'!I71","v":{"$error":"#N/A"}},{"$f":"'Sheet3 (4)'!K71","v":-1.7771408097456105E-2},{"$f":"IF(ISNUMBER(C71),CORREL($B$1:B71,$C$1:C71),\"\")","v":{"$error":"#N/A"}},{"$f":"'Sheet3 (4)'!M71","v":5.052570796140853E-3},{"$f":"IF(ISNUMBER(E71),CORREL($B$1:B71,$E$1:E71),\"\")","v":{"$error":"#N/A"}},{"$f":"'Sheet3 (4)'!O71","v":-7.2797575005370575E-3},{"$f":"IF(ISNUMBER(G71),CORREL($B$1:B71,$G$1:G71),\"\")","v":{"$error":"#N/A"}},{"$f":"'Sheet3 (4)'!Q71","v":2.0306184935701212E-2},{"$f":"IF(ISNUMBER(I71),CORREL($B$1:B71,$I$1:I71),\"\")","v":{"$error":"#N/A"}},{"$f":"'Sheet3 (4)'!S71","v":2.1511584126107566E-2},{"$f":"IF(ISNUMBER(K71),CORREL($B$1:B71,$K$1:K71),\"\")","v":{"$error":"#N/A"}},{"$f":"'Sheet3 (4)'!U71","v":1.7873604424869453E-2},{"$f":"IF(ISNUMBER(M71),CORREL($B$1:B71,$M$1:M71),\"\")","v":{"$error":"#N/A"}},{"$f":"'Sheet3 (4)'!W71","v":{"$error":"#N/A"}},{"$f":"IF(ISNUMBER(O71),CORREL($B$1:B71,$O$1:O71),\"\")","v":""},{"$f":"'Sheet3 (4)'!Y71","v":7.5364688450041857E-3},{"$f":"IF(ISNUMBER(Q71),CORREL($B$1:B71,$Q$1:Q71),\"\")","v":{"$error":"#N/A"}},{"$f":"'Sheet3 (4)'!AA71","v":-8.5478731475393133E-3},{"$f":"IF(ISNUMBER(S71),CORREL($B$1:B71,$S$1:S71),\"\")","v":{"$error":"#N/A"}}]
[null,{"$f":"'Sheet3 (4)'!I72","v":{"$error":"#N/A"}},{"$f":"'Sheet3 (4)'!K72","v":-1.4737847844261218E-2},{"$f":"IF(ISNUMBER(C72),CORREL($B$1:B72,$C$1:C72),\"\")","v":{"$error":"#N/A"}},{"$f":"'Sheet3 (4)'!M72","v":4.523253855592704E-3},{"$f":"IF(ISNUMBER(E72),CORREL($B$1:B72,$E$1:E72),\"\")","v":{"$error":"#N/A"}},{"$f":"'Sheet3 (4)'!O72","v":-8.6879728858869198E-3},{"$f":"IF(ISNUMBER(G72),CORREL($B$1:B72,$G$1:G72),\"\")","v":{"$error":"#N/A"}},{"$f":"'Sheet3 (4)'!Q72","v":1.9889773423147593E-2},{"$f":"IF(ISNUMBER(I72),CORREL($B$1:B72,$I$1:I72),\"\")","v":{"$error":"#N/A"}},{"$f":"'Sheet3 (4)'!S72","v":2.1737493410979254E-2},{"$f":"IF(ISNUMBER(K72),CORREL($B$1:B72,$K$1:K72),\"\")","v":{"$error":"#N/A"}},{"$f":"'Sheet3 (4)'!U72","v":1.8206493905561852E-2},{"$f":"IF(ISNUMBER(M72),CORREL($B$1:B72,$M$1:M72),\"\")","v":{"$error":"#N/A"}},{"$f":"'Sheet3 (4)'!W72","v":{"$error":"#N/A"}},{"$f":"IF(ISNUMBER(O72),CORREL($B$1:B72,$O$1:O72),\"\")","v":""},{"$f":"'Sheet3 (4)'!Y72","v":9.2992361341746581E-3},{"$f":"IF(ISNUMBER(Q72),CORREL($B$1:B72,$Q$1:Q72),\"\")","v":{"$error":"#N/A"}},{"$f":"'Sheet3 (4)'!AA72","v":-6.9293409539224341E-3},{"$f":"IF(ISNUMBER(S72),CORREL($B$1:B72,$S$1:S72),\"\")","v":{"$error":"#N/A"}}]
[null,{"$f":"'Sheet3 (4)'!I73","v":{"$error":"#N/A"}},{"$f":"'Sheet3 (4)'!K73","v":-1.4021258808073582E-2},{"$f":"IF(ISNUMBER(C73),CORREL($B$1:B73,$C$1:C73),\"\")","v":{"$error":"#N/A"}},{"$f":"'Sheet3 (4)'!M73","v":6.568342034983082E-3},{"$f":"IF(ISNUMBER(E73),CORREL($B$1:B73,$E$1:E73),\"\")","v":{"$error":"#N/A"}},{"$f":"'Sheet3 (4)'!O73","v":-5.7999379430508308E-3},{"$f":"IF(ISNUMBER(G73),CORREL($B$1:B73,$G$1:G73),\"\")","v":{"$error":"#N/A"}},{"$f":"'Sheet3 (4)'!Q73","v":2.0992039191671752E-2},{"$f":"IF(ISNUMBER(I73),CORREL($B$1:B73,$I$1:I73),\"\")","v":{"$error":"#N/A"}},{"$f":"'Sheet3 (4)'!S73","v":2.2490524360551312E-2},{"$f":"IF(ISNUMBER(K73),CORREL($B$1:B73,$K$1:K73),\"\")","v":{"$error":"#N/A"}},{"$f":"'Sheet3 (4)'!U73","v":1.8744238451295692E-2},{"$f":"IF(ISNUMBER(M73),CORREL($B$1:B73,$M$1:M73),\"\")","v":{"$error":"#N/A"}},{"$f":"'Sheet3 (4)'!W73","v":{"$error":"#N/A"}},{"$f":"IF(ISNUMBER(O73),CORREL($B$1:B73,$O$1:O73),\"\")","v":""},{"$f":"'Sheet3 (4)'!Y73","v":1.0218940806785377E-2},{"$f":"IF(ISNUMBER(Q73),CORREL($B$1:B73,$Q$1:Q73),\"\")","v":{"$error":"#N/A"}},{"$f":"'Sheet3 (4)'!AA73","v":-1.117798796216685E-2},{"$f":"IF(ISNUMBER(S73),CORREL($B$1:B73,$S$1:S73),\"\")","v":{"$error":"#N/A"}}]
[null,{"$f":"'Sheet3 (4)'!I74","v":{"$error":"#N/A"}},{"$f":"'Sheet3 (4)'!K74","v":-1.5000597157530092E-2},{"$f":"IF(ISNUMBER(C74),CORREL($B$1:B74,$C$1:C74),\"\")","v":{"$error":"#N/A"}},{"$f":"'Sheet3 (4)'!M74","v":7.699155498881189E-3},{"$f":"IF(ISNUMBER(E74),CORREL($B$1:B74,$E$1:E74),\"\")","v":{"$error":"#N/A"}},{"$f":"'Sheet3 (4)'!O74","v":-6.850132467718463E-3},{"$f":"IF(ISNUMBER(G74),CORREL($B$1:B74,$G$1:G74),\"\")","v":{"$error":"#N/A"}},{"$f":"'Sheet3 (4)'!Q74","v":2.047764849969385E-2},{"$f":"IF(ISNUMBER(I74),CORREL($B$1:B74,$I$1:I74),\"\")","v":{"$error":"#N/A"}},{"$f":"'Sheet3 (4)'!S74","v":2.3042747056904057E-2},{"$f":"IF(ISNUMBER(K74),CORREL($B$1:B74,$K$1:K74),\"\")","v":{"$error":"#N/A"}},{"$f":"'Sheet3 (4)'!U74","v":1.8078459489910895E-2},{"$f":"IF(ISNUMBER(M74),CORREL($B$1:B74,$M$1:M74),\"\")","v":{"$error":"#N/A"}},{"$f":"'Sheet3 (4)'!W74","v":{"$error":"#N/A"}},{"$f":"IF(ISNUMBER(O74),CORREL($B$1:B74,$O$1:O74),\"\")","v":""},{"$f":"'Sheet3 (4)'!Y74","v":1.1624045167718394E-2},{"$f":"IF(ISNUMBER(Q74),CORREL($B$1:B74,$Q$1:Q74),\"\")","v":{"$error":"#N/A"}},{"$f":"'Sheet3 (4)'!AA74","v":-1.0874513175863666E-2},{"$f":"IF(ISNUMBER(S74),CORREL($B$1:B74,$S$1:S74),\"\")","v":{"$error":"#N/A"}}]
[null,{"$f":"'Sheet3 (4)'!I75","v":{"$error":"#N/A"}},{"$f":"'Sheet3 (4)'!K75","v":-1.4427325928579874E-2},{"$f":"IF(ISNUMBER(C75),CORREL($B$1:B75,$C$1:C75),\"\")","v":{"$error":"#N/A"}},{"$f":"'Sheet3 (4)'!M75","v":7.9397541082212812E-3},{"$f":"IF(ISNUMBER(E75),CORREL($B$1:B75,$E$1:E75),\"\")","v":{"$error":"#N/A"}},{"$f":"'Sheet3 (4)'!O75","v":-8.2344797956895362E-3},{"$f":"IF(ISNUMBER(G75),CORREL($B$1:B75,$G$1:G75),\"\")","v":{"$error":"#N/A"}},{"$f":"'Sheet3 (4)'!Q75","v":2.3343539497856638E-2},{"$f":"IF(ISNUMBER(I75),CORREL($B$1:B75,$I$1:I75),\"\")","v":{"$error":"#N/A"}},{"$f":"'Sheet3 (4)'!S75","v":2.3494565626647292E-2},{"$f":"IF(ISNUMBER(K75),CORREL($B$1:B75,$K$1:K75),\"\")","v":{"$error":"#N/A"}},{"$f":"'Sheet3 (4)'!U75","v":1.8693024685035368E-2},{"$f":"IF(ISNUMBER(M75),CORREL($B$1:B75,$M$1:M75),\"\")","v":{"$error":"#N/A"}},{"$f":"'Sheet3 (4)'!W75","v":{"$error":"#N/A"}},{"$f":"IF(ISNUMBER(O75),CORREL($B$1:B75,$O$1:O75),\"\")","v":""},{"$f":"'Sheet3 (4)'!Y75","v":1.1905066039904882E-2},{"$f":"IF(ISNUMBER(Q75),CORREL($B$1:B75,$Q$1:Q75),\"\")","v":{"$error":"#N/A"}},{"$f":"'Sheet3 (4)'!AA75","v":-1.0166405341156336E-2},{"$f":"IF(ISNUMBER(S75),CORREL($B$1:B75,$S$1:S75),\"\")","v":{"$error":"#N/A"}}]
[null,{"$f":"'Sheet3 (4)'!I76","v":{"$error":"#N/A"}},{"$f":"'Sheet3 (4)'!K76","v":-1.2755284844141826E-2},{"$f":"IF(ISNUMBER(C76),CORREL($B$1:B76,$C$1:C76),\"\")","v":{"$error":"#N/A"}},{"$f":"'Sheet3 (4)'!M76","v":9.2389865986575361E-3},{"$f":"IF(ISNUMBER(E76),CORREL($B$1:B76,$E$1:E76),\"\")","v":{"$error":"#N/A"}},{"$f":"'Sheet3 (4)'!O76","v":-9.9052438122062061E-3},{"$f":"IF(ISNUMBER(G76),CORREL($B$1:B76,$G$1:G76),\"\")","v":{"$error":"#N/A"}},{"$f":"'Sheet3 (4)'!Q76","v":2.3980404164115177E-2},{"$f":"IF(ISNUMBER(I76),CORREL($B$1:B76,$I$1:I76),\"\")","v":{"$error":"#N/A"}},{"$f":"'Sheet3 (4)'!S76","v":2.1812796505936389E-2},{"$f":"IF(ISNUMBER(K76),CORREL($B$1:B76,$K$1:K76),\"\")","v":{"$error":"#N/A"}},{"$f":"'Sheet3 (4)'!U76","v":1.8180887022431688E-2},{"$f":"IF(ISNUMBER(M76),CORREL($B$1:B76,$M$1:M76),\"\")","v":{"$error":"#N/A"}},{"$f":"'Sheet3 (4)'!W76","v":{"$error":"#N/A"}},{"$f":"IF(ISNUMBER(O76),CORREL($B$1:B76,$O$1:O76),\"\")","v":""},{"$f":"'Sheet3 (4)'!Y76","v":1.3872212145211166E-2},{"$f":"IF(ISNUMBER(Q76),CORREL($B$1:B76,$Q$1:Q76),\"\")","v":{"$error":"#N/A"}},{"$f":"'Sheet3 (4)'!AA76","v":-9.7870618582772857E-3},{"$f":"IF(ISNUMBER(S76),CORREL($B$1:B76,$S$1:S76),\"\")","v":{"$error":"#N/A"}}]
[null,{"$f":"'Sheet3 (4)'!I77","v":{"$error":"#N/A"}},{"$f":"'Sheet3 (4)'!K77","v":-1.2253672518810451E-2},{"$f":"IF(ISNUMBER(C77),CORREL($B$1:B77,$C$1:C77),\"\")","v":{"$error":"#N/A"}},{"$f":"'Sheet3 (4)'!M77","v":7.4585568895412331E-3},{"$f":"IF(ISNUMBER(E77),CORREL($B$1:B77,$E$1:E77),\"\")","v":{"$error":"#N/A"}},{"$f":"'Sheet3 (4)'!O77","v":-7.5184380743252115E-3},{"$f":"IF(ISNUMBER(G77),CORREL($B$1:B77,$G$1:G77),\"\")","v":{"$error":"#N/A"}},{"$f":"'Sheet3 (4)'!Q77","v":2.5327617881200182E-2},{"$f":"IF(ISNUMBER(I77),CORREL($B$1:B77,$I$1:I77),\"\")","v":{"$error":"#N/A"}},{"$f":"'Sheet3 (4)'!S77","v":2.4423303797786136E-2},{"$f":"IF(ISNUMBER(K77),CORREL($B$1:B77,$K$1:K77),\"\")","v":{"$error":"#N/A"}},{"$f":"'Sheet3 (4)'!U77","v":2.0459899621018154E-2},{"$f":"IF(ISNUMBER(M77),CORREL($B$1:B77,$M$1:M77),\"\")","v":{"$error":"#N/A"}},{"$f":"'Sheet3 (4)'!W77","v":{"$error":"#N/A"}},{"$f":"IF(ISNUMBER(O77),CORREL($B$1:B77,$O$1:O77),\"\")","v":""},{"$f":"'Sheet3 (4)'!Y77","v":1.4153233017397798E-2},{"$f":"IF(ISNUMBER(Q77),CORREL($B$1:B77,$Q$1:Q77),\"\")","v":{"$error":"#N/A"}},{"$f":"'Sheet3 (4)'!AA77","v":-8.9272166304183633E-3},{"$f":"IF(ISNUMBER(S77),CORREL($B$1:B77,$S$1:S77),\"\")","v":{"$error":"#N/A"}}]
[null,{"$f":"'Sheet3 (4)'!I78","v":{"$error":"#N/A"}},{"$f":"'Sheet3 (4)'!K78","v":-1.2301445121222925E-2},{"$f":"IF(ISNUMBER(C78),CORREL($B$1:B78,$C$1:C78),\"\")","v":{"$error":"#N/A"}},{"$f":"'Sheet3 (4)'!M78","v":7.266078002069104E-3},{"$f":"IF(ISNUMBER(E78),CORREL($B$1:B78,$E$1:E78),\"\")","v":{"$error":"#N/A"}},{"$f":"'Sheet3 (4)'!O78","v":-7.971931164522595E-3},{"$f":"IF(ISNUMBER(G78),CORREL($B$1:B78,$G$1:G78),\"\")","v":{"$error":"#N/A"}},{"$f":"'Sheet3 (4)'!Q78","v":2.625842008573185E-2},{"$f":"IF(ISNUMBER(I78),CORREL($B$1:B78,$I$1:I78),\"\")","v":{"$error":"#N/A"}},{"$f":"'Sheet3 (4)'!S78","v":2.4749617209267338E-2},{"$f":"IF(ISNUMBER(K78),CORREL($B$1:B78,$K$1:K78),\"\")","v":{"$error":"#N/A"}},{"$f":"'Sheet3 (4)'!U78","v":2.0152617023455919E-2},{"$f":"IF(ISNUMBER(M78),CORREL($B$1:B78,$M$1:M78),\"\")","v":{"$error":"#N/A"}},{"$f":"'Sheet3 (4)'!W78","v":{"$error":"#N/A"}},{"$f":"IF(ISNUMBER(O78),CORREL($B$1:B78,$O$1:O78),\"\")","v":""},{"$f":"'Sheet3 (4)'!Y78","v":1.7244462611450323E-2},{"$f":"IF(ISNUMBER(Q78),CORREL($B$1:B78,$Q$1:Q78),\"\")","v":{"$error":"#N/A"}},{"$f":"'Sheet3 (4)'!AA78","v":-1.009053664458047E-2},{"$f":"IF(ISNUMBER(S78),CORREL($B$1:B78,$S$1:S78),\"\")","v":{"$error":"#N/A"}}]
[null,{"$f":"'Sheet3 (4)'!I79","v":{"$error":"#N/A"}},{"$f":"'Sheet3 (4)'!K79","v":{"$error":"#N/A"}},{"$f":"IF(ISNUMBER(C79),CORREL($B$1:B79,$C$1:C79),\"\")","v":""},{"$f":"'Sheet3 (4)'!M79","v":{"$error":"#N/A"}},{"$f":"IF(ISNUMBER(E79),CORREL($B$1:B79,$E$1:E79),\"\")","v":""},{"$f":"'Sheet3 (4)'!O79","v":{"$error":"#N/A"}},{"$f":"IF(ISNUMBER(G79),CORREL($B$1:B79,$G$1:G79),\"\")","v":""},{"$f":"'Sheet3 (4)'!Q79","v":{"$error":"#N/A"}},{"$f":"IF(ISNUMBER(I79),CORREL($B$1:B79,$I$1:I79),\"\")","v":""},{"$f":"'Sheet3 (4)'!S79","v":{"$error":"#N/A"}},{"$f":"IF(ISNUMBER(K79),CORREL($B$1:B79,$K$1:K79),\"\")","v":""},{"$f":"'Sheet3 (4)'!U79","v":{"$error":"#N/A"}},{"$f":"IF(ISNUMBER(M79),CORREL($B$1:B79,$M$1:M79),\"\")","v":""},{"$f":"'Sheet3 (4)'!W79","v":{"$error":"#N/A"}},{"$f":"IF(ISNUMBER(O79),CORREL($B$1:B79,$O$1:O79),\"\")","v":""},{"$f":"'Sheet3 (4)'!Y79","v":{"$error":"#N/A"}},{"$f":"IF(ISNUMBER(Q79),CORREL($B$1:B79,$Q$1:Q79),\"\")","v":""},{"$f":"'Sheet3 (4)'!AA79","v":{"$error":"#N/A"}},{"$f":"IF(ISNUMBER(S79),CORREL($B$1:B79,$S$1:S79),\"\")","v":""}]
[null,{"$f":"'Sheet3 (4)'!I80","v":{"$error":"#N/A"}},{"$f":"'Sheet3 (4)'!K80","v":{"$error":"#N/A"}},{"$f":"IF(ISNUMBER(C80),CORREL($B$1:B80,$C$1:C80),\"\")","v":""},{"$f":"'Sheet3 (4)'!M80","v":{"$error":"#N/A"}},{"$f":"IF(ISNUMBER(E80),CORREL($B$1:B80,$E$1:E80),\"\")","v":""},{"$f":"'Sheet3 (4)'!O80","v":{"$error":"#N/A"}},{"$f":"IF(ISNUMBER(G80),CORREL($B$1:B80,$G$1:G80),\"\")","v":""},{"$f":"'Sheet3 (4)'!Q80","v":{"$error":"#N/A"}},{"$f":"IF(ISNUMBER(I80),CORREL($B$1:B80,$I$1:I80),\"\")","v":""},{"$f":"'Sheet3 (4)'!S80","v":{"$error":"#N/A"}},{"$f":"IF(ISNUMBER(K80),CORREL($B$1:B80,$K$1:K80),\"\")","v":""},{"$f":"'Sheet3 (4)'!U80","v":{"$error":"#N/A"}},{"$f":"IF(ISNUMBER(M80),CORREL($B$1:B80,$M$1:M80),\"\")","v":""},{"$f":"'Sheet3 (4)'!W80","v":{"$error":"#N/A"}},{"$f":"IF(ISNUMBER(O80),CORREL($B$1:B80,$O$1:O80),\"\")","v":""},{"$f":"'Sheet3 (4)'!Y80","v":{"$error":"#N/A"}},{"$f":"IF(ISNUMBER(Q80),CORREL($B$1:B80,$Q$1:Q80),\"\")","v":""},{"$f":"'Sheet3 (4)'!AA80","v":{"$error":"#N/A"}},{"$f":"IF(ISNUMBER(S80),CORREL($B$1:B80,$S$1:S80),\"\")","v":""}]
[null,{"$f":"'Sheet3 (4)'!I81","v":{"$error":"#N/A"}},{"$f":"'Sheet3 (4)'!K81","v":{"$error":"#N/A"}},{"$f":"IF(ISNUMBER(C81),CORREL($B$1:B81,$C$1:C81),\"\")","v":""},{"$f":"'Sheet3 (4)'!M81","v":{"$error":"#N/A"}},{"$f":"IF(ISNUMBER(E81),CORREL($B$1:B81,$E$1:E81),\"\")","v":""},{"$f":"'Sheet3 (4)'!O81","v":{"$error":"#N/A"}},{"$f":"IF(ISNUMBER(G81),CORREL($B$1:B81,$G$1:G81),\"\")","v":""},{"$f":"'Sheet3 (4)'!Q81","v":{"$error":"#N/A"}},{"$f":"IF(ISNUMBER(I81),CORREL($B$1:B81,$I$1:I81),\"\")","v":""},{"$f":"'Sheet3 (4)'!S81","v":{"$error":"#N/A"}},{"$f":"IF(ISNUMBER(K81),CORREL($B$1:B81,$K$1:K81),\"\")","v":""},{"$f":"'Sheet3 (4)'!U81","v":{"$error":"#N/A"}},{"$f":"IF(ISNUMBER(M81),CORREL($B$1:B81,$M$1:M81),\"\")","v":""},{"$f":"'Sheet3 (4)'!W81","v":{"$error":"#N/A"}},{"$f":"IF(ISNUMBER(O81),CORREL($B$1:B81,$O$1:O81),\"\")","v":""},{"$f":"'Sheet3 (4)'!Y81","v":{"$error":"#N/A"}},{"$f":"IF(ISNUMBER(Q81),CORREL($B$1:B81,$Q$1:Q81),\"\")","v":""},{"$f":"'Sheet3 (4)'!AA81","v":{"$error":"#N/A"}},{"$f":"IF(ISNUMBER(S81),CORREL($B$1:B81,$S$1:S81),\"\")","v":""}]
[null,null,null,{"$f":"'Sheet3 (4)'!C2","v":"2018-07-12"},null,{"$f":"'Sheet3 (4)'!C3","v":"2018-07-11"},null,{"$f":"'Sheet3 (4)'!C4","v":"2018-07-10"},null,{"$f":"'Sheet3 (4)'!C5","v":"2018-07-09"},null,{"$f":"'Sheet3 (4)'!C6","v":"2018-07-06"},null,{"$f":"'Sheet3 (4)'!C7","v":"2018-07-05"},null,{"$f":"'Sheet3 (4)'!C8","v":"2018-07-03"},null,{"$f":"'Sheet3 (4)'!C9","v":"2018-07-02"},null,{"$f":"'Sheet3 (4)'!C10","v":"2018-06-29"}]
[null,null,null,{"$f":"IF(ISNUMBER(INDIRECT(\"D\"&('Sheet3 (4)'!$AE$83)+1))=FALSE,\"\",LOOKUP(2,1/(ISNUMBER(D1:D78)),D1:D78))","v":0.48141230491449427},null,{"$f":"IF(ISNUMBER(INDIRECT(\"F\"&('Sheet3 (4)'!$AE$83)+1))=FALSE,\"\",LOOKUP(2,1/(ISNUMBER(F1:F78)),F1:F78))","v":-0.56690575576126978},null,{"$f":"IF(ISNUMBER(INDIRECT(\"H\"&('Sheet3 (4)'!$AE$83)+1))=FALSE,\"\",LOOKUP(2,1/(ISNUMBER(H1:H78)),H1:H78))","v":-0.44586542300126497},null,{"$f":"IF(ISNUMBER(INDIRECT(\"J\"&('Sheet3 (4)'!$AE$83)+1))=FALSE,\"\",LOOKUP(2,1/(ISNUMBER(J1:J78)),J1:J78))","v":0.67986868321619531},null,{"$f":"IF(ISNUMBER(INDIRECT(\"L\"&('Sheet3 (4)'!$AE$83)+1))=FALSE,\"\",LOOKUP(2,1/(ISNUMBER(L1:L78)),L1:L78))","v":-0.76417170433654102},null,{"$f":"IF(ISNUMBER(INDIRECT(\"N\"&('Sheet3 (4)'!$AE$83)+1))=FALSE,\"\",LOOKUP(2,1/(ISNUMBER(N1:N78)),N1:N78))","v":0.33468212981224493},null,{"$f":"IF(ISNUMBER(INDIRECT(\"P\"&('Sheet3 (4)'!$AE$83)+1))=FALSE,\"\",LOOKUP(2,1/(ISNUMBER(P1:P78)),P1:P78))","v":0.14362491375372102},null,{"$f":"IF(ISNUMBER(INDIRECT(\"R\"&('Sheet3 (4)'!$AE$83)+1))=FALSE,\"\",LOOKUP(2,1/(ISNUMBER(R1:R78)),R1:R78))","v":-0.62616657740707049},null,{"$f":"IF(ISNUMBER(INDIRECT(\"T\"&('Sheet3 (4)'!$AE$83)+1))=FALSE,\"\",LOOKUP(2,1/(ISNUMBER(T1:T78)),T1:T78))","v":0.78703596913891227}]
[]
[null,null,{"$f":"RANK(D85,$D$85:$D$93,0)+COUNTIF($D$85:D85,D85)-1","v":3},{"$f":"D83","v":0.48141230491449427},{"$f":"D82","v":"2018-07-12"},{"$f":"RANK(D85,$D$85:$D$93,0)+COUNTIF($D$85:D85,D85)-1","v":3},{"$f":"VLOOKUP(1,C85:E93,3,FALSE)","v":"2018-06-29"},{"$f":"VLOOKUP(1,C85:E93,2,FALSE)","v":0.78703596913891227},{"$f":"IFERROR(VLOOKUP(G85,'Sheet3 (4)'!AK1:AN10,4,FALSE),1)","v":9}]
[null,null,{"$f":"RANK(D86,$D$85:$D$93,0)+COUNTIF($D$85:D86,D86)-1","v":7},{"$f":"F83","v":-0.56690575576126978},{"$f":"F82","v":"2018-07-11"},{"$f":"RANK(D86,$D$85:$D$93,0)+COUNTIF($D$85:D86,D86)-1","v":7},{"$f":"VLOOKUP(2,C85:E93,3,FALSE)","v":"2018-07-09"},{"$f":"VLOOKUP(2,C85:E93,2,FALSE)","v":0.67986868321619531}]
[null,null,{"$f":"RANK(D87,$D$85:$D$93,0)+COUNTIF($D$85:D87,D87)-1","v":6},{"$f":"H83","v":-0.44586542300126497},{"$f":"H82","v":"2018-07-10"},{"$f":"RANK(D87,$D$85:$D$93,0)+COUNTIF($D$85:D87,D87)-1","v":6},{"$f":"VLOOKUP(3,C85:E93,3,FALSE)","v":"2018-07-12"},{"$f":"VLOOKUP(3,C85:E93,2,FALSE)","v":0.48141230491449427}]
[null,null,{"$f":"RANK(D88,$D$85:$D$93,0)+COUNTIF($D$85:D88,D88)-1","v":2},{"$f":"J83","v":0.67986868321619531},{"$f":"J82","v":"2018-07-09"},{"$f":"RANK(D88,$D$85:$D$93,0)+COUNTIF($D$85:D88,D88)-1","v":2},{"$f":"VLOOKUP(4,C85:E93,3,FALSE)","v":"2018-07-05"},{"$f":"VLOOKUP(4,C85:E93,2,FALSE)","v":0.33468212981224493}]
[null,null,{"$f":"RANK(D89,$D$85:$D$93,0)+COUNTIF($D$85:D89,D89)-1","v":9},{"$f":"L83","v":-0.76417170433654102},{"$f":"L82","v":"2018-07-06"},{"$f":"RANK(D89,$D$85:$D$93,0)+COUNTIF($D$85:D89,D89)-1","v":9},{"$f":"VLOOKUP(5,C85:E93,3,FALSE)","v":"2018-07-03"},{"$f":"VLOOKUP(5,C85:E93,2,FALSE)","v":0.14362491375372102}]
[null,null,{"$f":"RANK(D90,$D$85:$D$93,0)+COUNTIF($D$85:D90,D90)-1","v":4},{"$f":"N83","v":0.33468212981224493},{"$f":"N82","v":"2018-07-05"},{"$f":"RANK(D90,$D$85:$D$93,0)+COUNTIF($D$85:D90,D90)-1","v":4},{"$f":"VLOOKUP(6,C85:E93,3,FALSE)","v":"2018-07-10"},{"$f":"VLOOKUP(6,C85:E93,2,FALSE)","v":-0.44586542300126497}]
[null,null,{"$f":"RANK(D91,$D$85:$D$93,0)+COUNTIF($D$85:D91,D91)-1","v":5},{"$f":"P83","v":0.14362491375372102},{"$f":"P82","v":"2018-07-03"},{"$f":"RANK(D91,$D$85:$D$93,0)+COUNTIF($D$85:D91,D91)-1","v":5},{"$f":"VLOOKUP(7,C85:E93,3,FALSE)","v":"2018-07-11"},{"$f":"VLOOKUP(7,C85:E93,2,FALSE)","v":-0.56690575576126978}]
[null,null,{"$f":"RANK(D92,$D$85:$D$93,0)+COUNTIF($D$85:D92,D92)-1","v":8},{"$f":"R83","v":-0.62616657740707049},{"$f":"R82","v":"2018-07-02"},{"$f":"RANK(D92,$D$85:$D$93,0)+COUNTIF($D$85:D92,D92)-1","v":8},{"$f":"VLOOKUP(8,C85:E93,3,FALSE)","v":"2018-07-02"},{"$f":"VLOOKUP(8,C85:E93,2,FALSE)","v":-0.62616657740707049}]
[null,null,{"$f":"RANK(D93,$D$85:$D$93,0)+COUNTIF($D$85:D93,D93)-1","v":1},{"$f":"T83","v":0.78703596913891227},{"$f":"T82","v":"2018-06-29"},{"$f":"RANK(D93,$D$85:$D$93,0)+COUNTIF($D$85:D93,D93)-1","v":1},{"$f":"VLOOKUP(9,C85:E93,3,FALSE)","v":"2018-07-06"},{"$f":"VLOOKUP(9,C85:E93,2,FALSE)","v":-0.76417170433654102}]