{"text_format":"1","workbook":"xlsx","n_sheets":3,"sheets":["Display","Symbols","Data"],"not_rendered":{"charts":2,"images":3,"macros":1,"external_links":0,"defined_names":0,"comments":0,"pivot_tables":0},"unopened":[],"bounds":{"document_bytes":16777216,"sheet_cells":100000,"rows_first":2000,"rows_last":500,"rows_between":2000,"halvings":0,"cell_chars":16384,"cell_head_chars":4096},"cells_cut":0,"cells_raw":0,"read":"whole","date_system":"1900"}

{"sheet":"Display","index":0,"n_rows":30,"n_cols":21,"rows_kept":30,"cut":false,"hidden":false,"merged":[[23,17,23,19],[29,2,29,10],[6,4,6,6],[17,4,17,6],[16,4,16,6],[15,12,15,13],[24,4,24,6],[28,4,28,6],[25,4,25,6],[26,4,26,6],[27,4,27,6],[22,4,22,6],[23,4,23,6],[19,4,19,6],[20,4,20,6],[11,16,11,17],[1,2,2,3],[3,2,4,20],[12,12,12,13],[14,12,14,13],[13,12,13,13],[8,12,8,13],[9,12,9,13],[10,12,10,13],[11,4,11,6],[12,4,12,6],[1,16,2,20],[5,12,5,13],[1,4,2,15],[11,14,11,15],[21,4,21,6],[11,19,11,20],[17,15,17,16],[6,12,6,13],[7,12,7,13],[6,14,10,14],[13,4,13,6],[14,4,14,6],[15,4,15,6],[12,14,16,14],[7,4,7,6],[8,4,8,6],[9,4,9,6],[10,4,10,6],[17,17,17,19]]}
[null,null,null,null,null,null,null,null,null,null,null,null,{"$f":"Symbols!G2","v":50},{"$f":"Symbols!C5","v":"EP"},{"$f":"LEFT(RIGHT(P8,LEN(P8)-(SEARCH(N1,P8)+LEN(N1)-1)),3)","v":"Z17"},{"$f":"Symbols!J2","v":"C.US.EPZ17"},{"$f":"Symbols!L2","v":"P.US.EPZ17"}]
[null,null,null,null,"CQG E-mini S&P 500 (Globex) User-Defined Strategies (UDS) Market Quotes",null,null,null,null,null,null,null,null,null,null,null,{"$f":"RTD(\"cqg.rtd\", ,\"SystemInfo\", \"Linetime\")","v":43018.635648148149}]
[]
[null,null,"Until an order for a spread is sent and accepted by an exchange for trading, the market data shown on the DOM ladder is synthetic. If the UDS has been defined by someone else and the spread is trading, then the market data shown is actual, not synthetic. "]
[]
[null,null,"Strategy","UDS Type","UDS Formula",null,null,"Bid Vol","Best Bid",null,"Best Ask","Ask Vol","Expiration",null,null,"Symbol","Bid Vol","Best Bid",null,"Best Ask","Ask Vol"]
[null,null,"Bear Put Spread","BearP",{"$f":"\"UDS(\"&Symbols!N7&\"-\"&Symbols!O7&\",\"&D7&\")\"","v":"UDS(P.US.EPZ1725500-P.US.EPZ1725600,BearP)"},null,null,{"$f":"IFERROR(RTD(\"cqg.rtd\", ,\"ContractData\",E7, \"MT_LastBidVolume\",, \"T\"),\"\")","v":0},{"$f":"IFERROR(RTD(\"cqg.rtd\", ,\"ContractData\",E7, \"Bid\",, \"T\"),\"\")","v":""},null,{"$f":"IFERROR(RTD(\"cqg.rtd\", ,\"ContractData\",E7, \"Ask\",, \"T\"),\"\")","v":""},{"$f":"IFERROR(RTD(\"cqg.rtd\", ,\"ContractData\",E7, \"MT_LastAskVolume\",, \"T\"),\"\")","v":0},"Days",null,"Calls",{"$f":"LEFT(P8,SEARCH($O$1,P8))&TEXT(RIGHT(P8,(LEN(P8)-SEARCH($O$1,P8))),\"#\")-$M$1","v":"C.US.EPZ1725450"},{"$f":"IFERROR(RTD(\"cqg.rtd\", ,\"ContractData\",P7, \"MT_LastBidVolume\",, \"T\"),\"\")","v":0},{"$f":"IFERROR(RTD(\"cqg.rtd\", ,\"ContractData\",P7, \"Bid\",, \"T\"),\"\")","v":""},null,{"$f":"IFERROR(RTD(\"cqg.rtd\", ,\"ContractData\",P7, \"Ask\",, \"T\"),\"\")","v":68},{"$f":"IFERROR(RTD(\"cqg.rtd\", ,\"ContractData\",P7, \"MT_LastAskVolume\",, \"T\"),\"\")","v":1}]
[null,null,"Box Spread","Box",{"$f":"\"UDS(\"&Symbols!N8&\"-\"&Symbols!O8&\"+\"&Symbols!P8&\"-\"&Symbols!Q8&\",\"&$D$8&\")\"","v":"UDS(C.US.EPZ1725600-C.US.EPZ1725650+P.US.EPZ1725700-P.US.EPZ1725950,Box)"},null,null,{"$f":"IFERROR(RTD(\"cqg.rtd\", ,\"ContractData\",E8, \"MT_LastBidVolume\",, \"T\"),\"\")","v":0},{"$f":"IFERROR(RTD(\"cqg.rtd\", ,\"ContractData\",E8, \"Bid\",, \"T\"),\"\")","v":""},null,{"$f":"IFERROR(RTD(\"cqg.rtd\", ,\"ContractData\",E8, \"Ask\",, \"T\"),\"\")","v":""},{"$f":"IFERROR(RTD(\"cqg.rtd\", ,\"ContractData\",E8, \"MT_LastAskVolume\",, \"T\"),\"\")","v":0},{"$f":"IFERROR(RTD(\"cqg.rtd\", ,\"ContractData\",P8, \"OptionDaysToExp\",, \"T\"),\"\")","v":66},null,null,{"$f":"RTD(\"cqg.rtd\", ,\"ContractData\",$P$1, \"Symbol\",, \"T\")","v":"C.US.EPZ1725500"},{"$f":"IFERROR(RTD(\"cqg.rtd\", ,\"ContractData\",P8, \"MT_LastBidVolume\",, \"T\"),\"\")","v":2},{"$f":"IFERROR(RTD(\"cqg.rtd\", ,\"ContractData\",P8, \"Bid\",, \"T\"),\"\")","v":32.5},null,{"$f":"IFERROR(RTD(\"cqg.rtd\", ,\"ContractData\",P8, \"Ask\",, \"T\"),\"\")","v":39.25},{"$f":"IFERROR(RTD(\"cqg.rtd\", ,\"ContractData\",P8, \"MT_LastAskVolume\",, \"T\"),\"\")","v":2}]
[null,null,"Bull Call Spread","BullC",{"$f":"\"UDS(\"&Symbols!N9&\"-\"&Symbols!O9&\",\"&D9&\")\"","v":"UDS(C.US.EPZ1725650-C.US.EPZ1725750,BullC)"},null,null,{"$f":"IFERROR(RTD(\"cqg.rtd\", ,\"ContractData\",E9, \"MT_LastBidVolume\",, \"T\"),\"\")","v":0},{"$f":"IFERROR(RTD(\"cqg.rtd\", ,\"ContractData\",E9, \"Bid\",, \"T\"),\"\")","v":""},null,{"$f":"IFERROR(RTD(\"cqg.rtd\", ,\"ContractData\",E9, \"Ask\",, \"T\"),\"\")","v":""},{"$f":"IFERROR(RTD(\"cqg.rtd\", ,\"ContractData\",E9, \"MT_LastAskVolume\",, \"T\"),\"\")","v":0},"Date",null,null,{"$f":"LEFT(P8,SEARCH($O$1,P8))&TEXT(RIGHT(P8,(LEN(P8)-SEARCH($O$1,P8))),\"#\")+$M$1","v":"C.US.EPZ1725550"},{"$f":"IFERROR(RTD(\"cqg.rtd\", ,\"ContractData\",P9, \"MT_LastBidVolume\",, \"T\"),\"\")","v":0},{"$f":"IFERROR(RTD(\"cqg.rtd\", ,\"ContractData\",P9, \"Bid\",, \"T\"),\"\")","v":""},null,{"$f":"IFERROR(RTD(\"cqg.rtd\", ,\"ContractData\",P9, \"Ask\",, \"T\"),\"\")","v":""},{"$f":"IFERROR(RTD(\"cqg.rtd\", ,\"ContractData\",P9, \"MT_LastAskVolume\",, \"T\"),\"\")","v":0}]
[null,null,"Butterfly Call Long","BflyCL",{"$f":"\"UDS(\"&Symbols!N10&\"-2*\"&Symbols!O10&\"+\"&Symbols!P10&\",\"&D10&\")\"","v":"UDS(C.US.EPZ1725500-2*C.US.EPZ1725550+C.US.EPZ1725600,BflyCL)"},null,null,{"$f":"IFERROR(RTD(\"cqg.rtd\", ,\"ContractData\",E10, \"MT_LastBidVolume\",, \"T\"),\"\")","v":0},{"$f":"IFERROR(RTD(\"cqg.rtd\", ,\"ContractData\",E10, \"Bid\",, \"T\"),\"\")","v":""},null,{"$f":"IFERROR(RTD(\"cqg.rtd\", ,\"ContractData\",E10, \"Ask\",, \"T\"),\"\")","v":""},{"$f":"IFERROR(RTD(\"cqg.rtd\", ,\"ContractData\",E10, \"MT_LastAskVolume\",, \"T\"),\"\")","v":0},{"$f":"IFERROR(RTD(\"cqg.rtd\", ,\"ContractData\",P8, \"ExpirationDate\",, \"T\"),\"\")","v":"2017-12-15"},null,null,{"$f":"LEFT(P9,SEARCH($O$1,P9))&TEXT(RIGHT(P9,(LEN(P9)-SEARCH($O$1,P9))),\"#\")+$M$1","v":"C.US.EPZ1725600"},{"$f":"IFERROR(RTD(\"cqg.rtd\", ,\"ContractData\",P10, \"MT_LastBidVolume\",, \"T\"),\"\")","v":0},{"$f":"IFERROR(RTD(\"cqg.rtd\", ,\"ContractData\",P10, \"Bid\",, \"T\"),\"\")","v":""},null,{"$f":"IFERROR(RTD(\"cqg.rtd\", ,\"ContractData\",P10, \"Ask\",, \"T\"),\"\")","v":30.5},{"$f":"IFERROR(RTD(\"cqg.rtd\", ,\"ContractData\",P10, \"MT_LastAskVolume\",, \"T\"),\"\")","v":2}]
[null,null,"Butterfly Call Short","BflyCS",{"$f":"\"UDS(-\"&Symbols!N11&\"+2*\"&Symbols!O11&\"-\"&Symbols!P11&\",\"&D11&\")\"","v":"UDS(-C.US.EPZ1725700+2*C.US.EPZ1725750-C.US.EPZ1725800,BflyCS)"},null,null,{"$f":"IFERROR(RTD(\"cqg.rtd\", ,\"ContractData\",E11, \"MT_LastBidVolume\",, \"T\"),\"\")","v":0},{"$f":"IFERROR(RTD(\"cqg.rtd\", ,\"ContractData\",E11, \"Bid\",, \"T\"),\"\")","v":""},null,{"$f":"IFERROR(RTD(\"cqg.rtd\", ,\"ContractData\",E11, \"Ask\",, \"T\"),\"\")","v":""},{"$f":"IFERROR(RTD(\"cqg.rtd\", ,\"ContractData\",E11, \"MT_LastAskVolume\",, \"T\"),\"\")","v":0},null,null,null,{"$f":"LEFT(P10,SEARCH($O$1,P10))&TEXT(RIGHT(P10,(LEN(P10)-SEARCH($O$1,P10))),\"#\")+$M$1","v":"C.US.EPZ1725650"},{"$f":"IFERROR(RTD(\"cqg.rtd\", ,\"ContractData\",P11, \"MT_LastBidVolume\",, \"T\"),\"\")","v":1},{"$f":"IFERROR(RTD(\"cqg.rtd\", ,\"ContractData\",P11, \"Bid\",, \"T\"),\"\")","v":26},null,{"$f":"IFERROR(RTD(\"cqg.rtd\", ,\"ContractData\",P11, \"Ask\",, \"T\"),\"\")","v":""},{"$f":"IFERROR(RTD(\"cqg.rtd\", ,\"ContractData\",P11, \"MT_LastAskVolume\",, \"T\"),\"\")","v":0}]
[null,null,"Butterfly Put Long","BflyPL",{"$f":"\"UDS(\"&Symbols!N12&\"-2*\"&Symbols!O12&\"+\"&Symbols!P12&\",\"&D12&\")\"","v":"UDS(P.US.EPZ1725600-2*P.US.EPZ1725650+P.US.EPZ1725700,BflyPL)"},null,null,{"$f":"IFERROR(RTD(\"cqg.rtd\", ,\"ContractData\",E12, \"MT_LastBidVolume\",, \"T\"),\"\")","v":0},{"$f":"IFERROR(RTD(\"cqg.rtd\", ,\"ContractData\",E12, \"Bid\",, \"T\"),\"\")","v":""},null,{"$f":"IFERROR(RTD(\"cqg.rtd\", ,\"ContractData\",E12, \"Ask\",, \"T\"),\"\")","v":""},{"$f":"IFERROR(RTD(\"cqg.rtd\", ,\"ContractData\",E12, \"MT_LastAskVolume\",, \"T\"),\"\")","v":0},null,{"$f":"IFERROR(RTD(\"cqg.rtd\", ,\"ContractData\",P8, \" OptionUndSymbol\",, \"T\"),\"\")","v":"EPZ7"},{"$f":"IFERROR(RTD(\"cqg.rtd\", ,\"ContractData\",N12, \"LongDescription\",, \"T\"),\"\")","v":"E-Mini S&P 500, Dec 17"},null,{"$f":"IFERROR(RTD(\"cqg.rtd\", ,\"ContractData\",N12, \"LastTrade\",, \"T\"),\"\")","v":2548.5},null,null,{"$f":"\"NC \"&IFERROR(TEXT(RTD(\"cqg.rtd\",,\"ContractData\",N12,\"NetLastTrade\",,\"T\"),\"#.00\"),\"\")","v":"NC 4.75"}]
[null,null,"Butterfly Put Short","BflyPS",{"$f":"\"UDS(-\"&Symbols!N13&\"+2*\"&Symbols!O13&\"-\"&Symbols!P13&\",\"&D13&\")\"","v":"UDS(-P.US.EPZ1725650+2*P.US.EPZ1725700-P.US.EPZ1725950,BflyPS)"},null,null,{"$f":"IFERROR(RTD(\"cqg.rtd\", ,\"ContractData\",E13, \"MT_LastBidVolume\",, \"T\"),\"\")","v":0},{"$f":"IFERROR(RTD(\"cqg.rtd\", ,\"ContractData\",E13, \"Bid\",, \"T\"),\"\")","v":""},null,{"$f":"IFERROR(RTD(\"cqg.rtd\", ,\"ContractData\",E13, \"Ask\",, \"T\"),\"\")","v":""},{"$f":"IFERROR(RTD(\"cqg.rtd\", ,\"ContractData\",E13, \"MT_LastAskVolume\",, \"T\"),\"\")","v":0},"Call ATM IV",null,"Puts",{"$f":"LEFT(P14,SEARCH($O$1,P14))&TEXT(RIGHT(P14,(LEN(P14)-SEARCH($O$1,P14))),\"#\")-$M$1","v":"P.US.EPZ1725450"},{"$f":"IFERROR(RTD(\"cqg.rtd\", ,\"ContractData\",P13, \"MT_LastBidVolume\",, \"T\"),\"\")","v":0},{"$f":"IFERROR(RTD(\"cqg.rtd\", ,\"ContractData\",P13, \"Bid\",, \"T\"),\"\")","v":""},null,{"$f":"IFERROR(RTD(\"cqg.rtd\", ,\"ContractData\",P13, \"Ask\",, \"T\"),\"\")","v":""},{"$f":"IFERROR(RTD(\"cqg.rtd\", ,\"ContractData\",P13, \"MT_LastAskVolume\",, \"T\"),\"\")","v":0}]
[null,null,"Calendar Call","CalC",{"$f":"\"UDS(-\"&Symbols!N14&\"+\"&Symbols!O14&\",\"&D14&\")\"","v":"UDS(-C.US.EPZ1725600+C.US.EPH1825600,CalC)"},null,null,{"$f":"IFERROR(RTD(\"cqg.rtd\", ,\"ContractData\",E14, \"MT_LastBidVolume\",, \"T\"),\"\")","v":0},{"$f":"IFERROR(RTD(\"cqg.rtd\", ,\"ContractData\",E14, \"Bid\",, \"T\"),\"\")","v":""},null,{"$f":"IFERROR(RTD(\"cqg.rtd\", ,\"ContractData\",E14, \"Ask\",, \"T\"),\"\")","v":""},{"$f":"IFERROR(RTD(\"cqg.rtd\", ,\"ContractData\",E14, \"MT_LastAskVolume\",, \"T\"),\"\")","v":0},{"$f":"RTD(\"cqg.rtd\", ,\"ContractData\",P8, \"ImpliedVolatility\",, \"T\")","v":9.27},null,null,{"$f":"RTD(\"cqg.rtd\", ,\"ContractData\",$Q$1, \"Symbol\",, \"T\")","v":"P.US.EPZ1725500"},{"$f":"IFERROR(RTD(\"cqg.rtd\", ,\"ContractData\",P14, \"MT_LastBidVolume\",, \"T\"),\"\")","v":1},{"$f":"IFERROR(RTD(\"cqg.rtd\", ,\"ContractData\",P14, \"Bid\",, \"T\"),\"\")","v":22},null,{"$f":"IFERROR(RTD(\"cqg.rtd\", ,\"ContractData\",P14, \"Ask\",, \"T\"),\"\")","v":41},{"$f":"IFERROR(RTD(\"cqg.rtd\", ,\"ContractData\",P14, \"MT_LastAskVolume\",, \"T\"),\"\")","v":1}]
[null,null,"Call",null,{"$f":"Symbols!N15","v":"C.US.EPZ1725550"},null,null,{"$f":"IFERROR(RTD(\"cqg.rtd\", ,\"ContractData\",E15, \"MT_LastBidVolume\",, \"T\"),\"\")","v":0},{"$f":"IFERROR(RTD(\"cqg.rtd\", ,\"ContractData\",E15, \"Bid\",, \"T\"),\"\")","v":""},null,{"$f":"IFERROR(RTD(\"cqg.rtd\", ,\"ContractData\",E15, \"Ask\",, \"T\"),\"\")","v":""},{"$f":"IFERROR(RTD(\"cqg.rtd\", ,\"ContractData\",E15, \"MT_LastAskVolume\",, \"T\"),\"\")","v":0},"Put ATM IV",null,null,{"$f":"LEFT(P14,SEARCH($O$1,P14))&TEXT(RIGHT(P14,(LEN(P14)-SEARCH($O$1,P14))),\"#\")+$M$1","v":"P.US.EPZ1725550"},{"$f":"IFERROR(RTD(\"cqg.rtd\", ,\"ContractData\",P15, \"MT_LastBidVolume\",, \"T\"),\"\")","v":0},{"$f":"IFERROR(RTD(\"cqg.rtd\", ,\"ContractData\",P15, \"Bid\",, \"T\"),\"\")","v":""},null,{"$f":"IFERROR(RTD(\"cqg.rtd\", ,\"ContractData\",P15, \"Ask\",, \"T\"),\"\")","v":""},{"$f":"IFERROR(RTD(\"cqg.rtd\", ,\"ContractData\",P15, \"MT_LastAskVolume\",, \"T\"),\"\")","v":0}]
[null,null,"Put",null,{"$f":"Symbols!N16","v":"P.US.EPZ1725550"},null,null,{"$f":"IFERROR(RTD(\"cqg.rtd\", ,\"ContractData\",E16, \"MT_LastBidVolume\",, \"T\"),\"\")","v":0},{"$f":"IFERROR(RTD(\"cqg.rtd\", ,\"ContractData\",E16, \"Bid\",, \"T\"),\"\")","v":""},null,{"$f":"IFERROR(RTD(\"cqg.rtd\", ,\"ContractData\",E16, \"Ask\",, \"T\"),\"\")","v":""},{"$f":"IFERROR(RTD(\"cqg.rtd\", ,\"ContractData\",E16, \"MT_LastAskVolume\",, \"T\"),\"\")","v":0},{"$f":"RTD(\"cqg.rtd\", ,\"ContractData\",P14, \"ImpliedVolatility\",, \"T\")","v":9.33},null,null,"P.US.EPZ1725600",{"$f":"IFERROR(RTD(\"cqg.rtd\", ,\"ContractData\",P16, \"MT_LastBidVolume\",, \"T\"),\"\")","v":0},{"$f":"IFERROR(RTD(\"cqg.rtd\", ,\"ContractData\",P16, \"Bid\",, \"T\"),\"\")","v":""},null,{"$f":"IFERROR(RTD(\"cqg.rtd\", ,\"ContractData\",P16, \"Ask\",, \"T\"),\"\")","v":""},{"$f":"IFERROR(RTD(\"cqg.rtd\", ,\"ContractData\",P16, \"MT_LastAskVolume\",, \"T\"),\"\")","v":0}]
[null,null,"Christmas Tree Call Long","CTreeCL",{"$f":"\"UDS(\"&Symbols!N17&\"-\"&Symbols!O17&\"-\"&Symbols!P17&\",\"&D17&\")\"","v":"UDS(C.US.EPZ1725500-C.US.EPZ1725550-C.US.EPZ1725600,CTreeCL)"},null,null,{"$f":"IFERROR(RTD(\"cqg.rtd\", ,\"ContractData\",E17, \"MT_LastBidVolume\",, \"T\"),\"\")","v":0},{"$f":"IFERROR(RTD(\"cqg.rtd\", ,\"ContractData\",E17, \"Bid\",, \"T\"),\"\")","v":""},null,{"$f":"IFERROR(RTD(\"cqg.rtd\", ,\"ContractData\",E17, \"Ask\",, \"T\"),\"\")","v":""},{"$f":"IFERROR(RTD(\"cqg.rtd\", ,\"ContractData\",E17, \"MT_LastAskVolume\",, \"T\"),\"\")","v":0},null,null,null,"P.US.EPZ1725650",{"$f":"IFERROR(RTD(\"cqg.rtd\", ,\"ContractData\",P17, \"MT_LastBidVolume\",, \"T\"),\"\")","v":0},{"$f":"IFERROR(RTD(\"cqg.rtd\", ,\"ContractData\",P17, \"Bid\",, \"T\"),\"\")","v":""},null,{"$f":"IFERROR(RTD(\"cqg.rtd\", ,\"ContractData\",P17, \"Ask\",, \"T\"),\"\")","v":""},{"$f":"IFERROR(RTD(\"cqg.rtd\", ,\"ContractData\",P17, \"MT_LastAskVolume\",, \"T\"),\"\")","v":0}]
[null,null,"Christmas Tree Put Long","CTreePL",{"$f":"\"UDS(-\"&Symbols!N18&\"-\"&Symbols!O18&\"+\"&Symbols!P18&\",\"&D18&\")\"","v":"UDS(-P.US.EPZ1725650-P.US.EPZ1725500+P.US.EPZ1725750,CTreePL)"},null,null,{"$f":"IFERROR(RTD(\"cqg.rtd\", ,\"ContractData\",E18, \"MT_LastBidVolume\",, \"T\"),\"\")","v":0},{"$f":"IFERROR(RTD(\"cqg.rtd\", ,\"ContractData\",E18, \"Bid\",, \"T\"),\"\")","v":""},null,{"$f":"IFERROR(RTD(\"cqg.rtd\", ,\"ContractData\",E18, \"Ask\",, \"T\"),\"\")","v":""},{"$f":"IFERROR(RTD(\"cqg.rtd\", ,\"ContractData\",E18, \"MT_LastAskVolume\",, \"T\"),\"\")","v":0},null,null,null,null,null,"Frequency Distribution Call IV"]
[null,null,"Delta Neutral Call Ratio","DNeutC",{"$f":"\"UDS(\"&F19&\"*\"&Symbols!N19&\"-\"&G19&\"*\"&Symbols!O19&\",\"&D19&\")\"","v":"UDS(1*C.US.EPZ1725600-1*C.US.EPZ1725650,DNeutC)"},1,1,{"$f":"IFERROR(RTD(\"cqg.rtd\", ,\"ContractData\",E19, \"MT_LastBidVolume\",, \"T\"),\"\")","v":0},{"$f":"IFERROR(RTD(\"cqg.rtd\", ,\"ContractData\",E19, \"Bid\",, \"T\"),\"\")","v":""},null,{"$f":"IFERROR(RTD(\"cqg.rtd\", ,\"ContractData\",E19, \"Ask\",, \"T\"),\"\")","v":4.5},{"$f":"IFERROR(RTD(\"cqg.rtd\", ,\"ContractData\",E19, \"MT_LastAskVolume\",, \"T\"),\"\")","v":1}]
[null,null,"Iron Butterfly Gut Long","IBGutL",{"$f":"\"UDS(\"&Symbols!N20&\"-\"&Symbols!O20&\"-\"&Symbols!P20&\"+\"&Symbols!Q20&\",\"&D20&\")\"","v":"UDS(C.US.EPZ1725500-C.US.EPZ1725550-P.US.EPZ1725650+P.US.EPZ1725700,IBGutL)"},null,null,{"$f":"IFERROR(RTD(\"cqg.rtd\", ,\"ContractData\",E20, \"MT_LastBidVolume\",, \"T\"),\"\")","v":0},{"$f":"IFERROR(RTD(\"cqg.rtd\", ,\"ContractData\",E20, \"Bid\",, \"T\"),\"\")","v":""},null,{"$f":"IFERROR(RTD(\"cqg.rtd\", ,\"ContractData\",E20, \"Ask\",, \"T\"),\"\")","v":""},{"$f":"IFERROR(RTD(\"cqg.rtd\", ,\"ContractData\",E20, \"MT_LastAskVolume\",, \"T\"),\"\")","v":0}]
[null,null,"Iron Butterfly Gut Short","IBGutS",{"$f":"\"UDS(-\"&Symbols!N21&\"+\"&Symbols!O21&\"+\"&Symbols!P21&\"-\"&Symbols!Q21&\",\"&D21&\")\"","v":"UDS(-C.US.EPZ1725500+C.US.EPZ1725550+P.US.EPZ1725600-P.US.EPZ1725650,IBGutS)"},null,null,{"$f":"IFERROR(RTD(\"cqg.rtd\", ,\"ContractData\",E21, \"MT_LastBidVolume\",, \"T\"),\"\")","v":0},{"$f":"IFERROR(RTD(\"cqg.rtd\", ,\"ContractData\",E21, \"Bid\",, \"T\"),\"\")","v":""},null,{"$f":"IFERROR(RTD(\"cqg.rtd\", ,\"ContractData\",E21, \"Ask\",, \"T\"),\"\")","v":""},{"$f":"IFERROR(RTD(\"cqg.rtd\", ,\"ContractData\",E21, \"MT_LastAskVolume\",, \"T\"),\"\")","v":0}]
[null,null,"Iron Butterfly Short","IBflyS",{"$f":"\"UDS(-\"&Symbols!N22&\"+\"&Symbols!O22&\"+\"&Symbols!P22&\"-\"&Symbols!Q22&\",\"&D22&\")\"","v":"UDS(-P.US.EPZ1725500+P.US.EPZ1725550+C.US.EPZ1725600-C.US.EPZ1725650,IBflyS)"},null,null,{"$f":"IFERROR(RTD(\"cqg.rtd\", ,\"ContractData\",E22, \"MT_LastBidVolume\",, \"T\"),\"\")","v":0},{"$f":"IFERROR(RTD(\"cqg.rtd\", ,\"ContractData\",E22, \"Bid\",, \"T\"),\"\")","v":""},null,{"$f":"IFERROR(RTD(\"cqg.rtd\", ,\"ContractData\",E22, \"Ask\",, \"T\"),\"\")","v":""},{"$f":"IFERROR(RTD(\"cqg.rtd\", ,\"ContractData\",E22, \"MT_LastAskVolume\",, \"T\"),\"\")","v":0}]
[null,null,"Ratio Spread Call","RatioC",{"$f":"\"UDS(\"&Symbols!N23&\"-2*\"&Symbols!O23&\",\"&D23&\")\"","v":"UDS(C.US.EPZ1725550-2*C.US.EPZ1725600,RatioC)"},null,null,{"$f":"IFERROR(RTD(\"cqg.rtd\", ,\"ContractData\",E23, \"MT_LastBidVolume\",, \"T\"),\"\")","v":0},{"$f":"IFERROR(RTD(\"cqg.rtd\", ,\"ContractData\",E23, \"Bid\",, \"T\"),\"\")","v":""},null,{"$f":"IFERROR(RTD(\"cqg.rtd\", ,\"ContractData\",E23, \"Ask\",, \"T\"),\"\")","v":""},{"$f":"IFERROR(RTD(\"cqg.rtd\", ,\"ContractData\",E23, \"MT_LastAskVolume\",, \"T\"),\"\")","v":0}]
[null,null,"Ratio Spread Put","RatioP",{"$f":"\"UDS(\"&Symbols!N24&\"-2*\"&Symbols!O24&\",\"&D24&\")\"","v":"UDS(P.US.EPZ1725550-2*P.US.EPZ1725600,RatioP)"},null,null,{"$f":"IFERROR(RTD(\"cqg.rtd\", ,\"ContractData\",E24, \"MT_LastBidVolume\",, \"T\"),\"\")","v":0},{"$f":"IFERROR(RTD(\"cqg.rtd\", ,\"ContractData\",E24, \"Bid\",, \"T\"),\"\")","v":""},null,{"$f":"IFERROR(RTD(\"cqg.rtd\", ,\"ContractData\",E24, \"Ask\",, \"T\"),\"\")","v":""},{"$f":"IFERROR(RTD(\"cqg.rtd\", ,\"ContractData\",E24, \"MT_LastAskVolume\",, \"T\"),\"\")","v":0},null,null,null,null,null,"Frequency Distribution Put IV"]
[null,null,"Semi-Underlying Long","SemiUL",{"$f":"\"UDS(-\"&Symbols!N25&\"+\"&Symbols!O25&\",\"&D25&\")\"","v":"UDS(-C.US.EPZ1725550+P.US.EPZ1725550,SemiUL)"},null,null,{"$f":"IFERROR(RTD(\"cqg.rtd\", ,\"ContractData\",E25, \"MT_LastBidVolume\",, \"T\"),\"\")","v":0},{"$f":"IFERROR(RTD(\"cqg.rtd\", ,\"ContractData\",E25, \"Bid\",, \"T\"),\"\")","v":""},null,{"$f":"IFERROR(RTD(\"cqg.rtd\", ,\"ContractData\",E25, \"Ask\",, \"T\"),\"\")","v":""},{"$f":"IFERROR(RTD(\"cqg.rtd\", ,\"ContractData\",E25, \"MT_LastAskVolume\",, \"T\"),\"\")","v":0}]
[null,null,"Semi-Underlying Short","SemiUS",{"$f":"\"UDS(\"&Symbols!N26&\"-\"&Symbols!O26&\",\"&D26&\")\"","v":"UDS(P.US.EPZ1725550-C.US.EPZ1725550,SemiUS)"},null,null,{"$f":"IFERROR(RTD(\"cqg.rtd\", ,\"ContractData\",E26, \"MT_LastBidVolume\",, \"T\"),\"\")","v":0},{"$f":"IFERROR(RTD(\"cqg.rtd\", ,\"ContractData\",E26, \"Bid\",, \"T\"),\"\")","v":""},null,{"$f":"IFERROR(RTD(\"cqg.rtd\", ,\"ContractData\",E26, \"Ask\",, \"T\"),\"\")","v":""},{"$f":"IFERROR(RTD(\"cqg.rtd\", ,\"ContractData\",E26, \"MT_LastAskVolume\",, \"T\"),\"\")","v":0}]
[null,null,"Straddle Long","StradL",{"$f":"\"UDS(\"&Symbols!N27&\"+\"&Symbols!O27&\",\"&D27&\")\"","v":"UDS(C.US.EPZ1725500+P.US.EPZ1725500,StradL)"},null,null,{"$f":"IFERROR(RTD(\"cqg.rtd\", ,\"ContractData\",E27, \"MT_LastBidVolume\",, \"T\"),\"\")","v":0},{"$f":"IFERROR(RTD(\"cqg.rtd\", ,\"ContractData\",E27, \"Bid\",, \"T\"),\"\")","v":""},null,{"$f":"IFERROR(RTD(\"cqg.rtd\", ,\"ContractData\",E27, \"Ask\",, \"T\"),\"\")","v":""},{"$f":"IFERROR(RTD(\"cqg.rtd\", ,\"ContractData\",E27, \"MT_LastAskVolume\",, \"T\"),\"\")","v":0}]
[null,null,"Strangle Long","StrangL",{"$f":"\"UDS(\"&Symbols!N28&\"+\"&Symbols!O28&\",\"&D28&\")\"","v":"UDS(C.US.EPZ1725500+P.US.EPZ1725650,StrangL)"},null,null,{"$f":"IFERROR(RTD(\"cqg.rtd\", ,\"ContractData\",E28, \"MT_LastBidVolume\",, \"T\"),\"\")","v":0},{"$f":"IFERROR(RTD(\"cqg.rtd\", ,\"ContractData\",E28, \"Bid\",, \"T\"),\"\")","v":""},null,{"$f":"IFERROR(RTD(\"cqg.rtd\", ,\"ContractData\",E28, \"Ask\",, \"T\"),\"\")","v":""},{"$f":"IFERROR(RTD(\"cqg.rtd\", ,\"ContractData\",E28, \"MT_LastAskVolume\",, \"T\"),\"\")","v":0}]
[null,null,"Synthetic Underlying Long","SynUL",{"$f":"\"UDS(\"&Symbols!N29&\"-\"&Symbols!O29&\",\"&D29&\")\"","v":"UDS(C.US.EPZ1725500-P.US.EPZ1725500,SynUL)"},null,null,{"$f":"IFERROR(RTD(\"cqg.rtd\", ,\"ContractData\",E29, \"MT_LastBidVolume\",, \"T\"),\"\")","v":1},{"$f":"IFERROR(RTD(\"cqg.rtd\", ,\"ContractData\",E29, \"Bid\",, \"T\"),\"\")","v":-8.5},null,{"$f":"IFERROR(RTD(\"cqg.rtd\", ,\"ContractData\",E29, \"Ask\",, \"T\"),\"\")","v":17.25},{"$f":"IFERROR(RTD(\"cqg.rtd\", ,\"ContractData\",E29, \"MT_LastAskVolume\",, \"T\"),\"\")","v":1}]
[null,null,"CQG Inc.,   Copyright © 2017   Designed by Thom Hartle                   The Options Quote series in the upper right will update as the ATM strike changes.",null,null,null,null,null,null,null,null,null,null,"The Frequency Distribution uses CQG IV symbols for historical data."]

{"sheet":"Symbols","index":1,"n_rows":69,"n_cols":17,"rows_kept":69,"cut":false,"hidden":false,"merged":[[0,9,0,10],[0,11,0,12],[2,1,3,1],[1,9,1,10],[1,2,1,3],[1,11,1,12],[2,2,3,2]]}
[null,null,null,null,null,null,null,null,null,{"$f":"IF(LEN(C5)=2,LEFT(RTD(\"cqg.rtd\",,\"ContractData\",\"C.\"&C5&C14,\"Symbol\",,\"T\"),10),IF(LEN(C5)=3,LEFT(RTD(\"cqg.rtd\",,\"ContractData\",\"C.\"&C5&C14,\"Symbol\",,\"T\"),11),IF(LEN(C5)=4,LEFT(RTD(\"cqg.rtd\",,\"ContractData\",\"C.\"&C5&C14,\"Symbol\",,\"T\"),12))))","v":"C.US.EPH18"},null,{"$f":"IF(LEN(C5)=2,LEFT(RTD(\"cqg.rtd\",,\"ContractData\",\"P.\"&C5&C14,\"Symbol\",,\"T\"),10),IF(LEN(C5)=3,LEFT(RTD(\"cqg.rtd\",,\"ContractData\",\"P.\"&C5&C14,\"Symbol\",,\"T\"),11),IF(LEN(C5)=4,LEFT(RTD(\"cqg.rtd\",,\"ContractData\",\"P.\"&C5&C14,\"Symbol\",,\"T\"),12))))","v":"P.US.EPH18"}]
[null,"Enter in the Expiry, such as ?1.","Current ATM Strike: ",null,{"$f":"RTD(\"cqg.rtd\", ,\"ContractData\",\"C.\"&C5&\"?\", \"Strike\",, \"T\")","v":25500},"Step",50,"Expiry: ","?1",{"$f":"IF(LEN(C5)=2,LEFT(RTD(\"cqg.rtd\",,\"ContractData\",\"C.\"&C5&I2,\"Symbol\",,\"T\"),10),IF(LEN(C5)=3,LEFT(RTD(\"cqg.rtd\",,\"ContractData\",\"C.\"&C5&I2,\"Symbol\",,\"T\"),11),IF(LEN(C5)=4,LEFT(RTD(\"cqg.rtd\",,\"ContractData\",\"C.\"&C5&I2,\"Symbol\",,\"T\"),12))))","v":"C.US.EPZ17"},null,{"$f":"IF(LEN(C5)=2,LEFT(RTD(\"cqg.rtd\",,\"ContractData\",\"P.\"&C5&I2,\"Symbol\",,\"T\"),10),IF(LEN(C5)=3,LEFT(RTD(\"cqg.rtd\",,\"ContractData\",\"P.\"&C5&I2,\"Symbol\",,\"T\"),11),IF(LEN(C5)=4,LEFT(RTD(\"cqg.rtd\",,\"ContractData\",\"P.\"&C5&I2,\"Symbol\",,\"T\"),12))))","v":"P.US.EPZ17"}]
[null,"Enter in the first Strike and the rest will update.","Strikes","First","Second","Third","Fourth","Fifth","Sixth","Seventh","Eight","Ninth","Tenth"]
[null,null,null,25500,{"$f":"D4+$G$2","v":25550},25600,25650,25700,25750,25800,25850,25900,25950]
[null,"Enter Option Root Symbol: ","EP"]
[null,null,"Symbols"]
[null,{"$f":"Display!C7","v":"Bear Put Spread"},2,null,null,null,null,null,null,null,null,null,null,{"$f":"L2&D4","v":"P.US.EPZ1725500"},{"$f":"L2&F4","v":"P.US.EPZ1725600"}]
[null,{"$f":"Display!C8","v":"Box Spread"},4,null,null,null,null,null,null,null,null,null,null,{"$f":"J2&F4","v":"C.US.EPZ1725600"},{"$f":"J2&G4","v":"C.US.EPZ1725650"},{"$f":"L2&H4","v":"P.US.EPZ1725700"},{"$f":"L2&M4","v":"P.US.EPZ1725950"}]
[null,{"$f":"Display!C9","v":"Bull Call Spread"},2,null,null,null,null,null,null,null,null,null,null,{"$f":"J2&G4","v":"C.US.EPZ1725650"},{"$f":"J2&I4","v":"C.US.EPZ1725750"}]
[null,{"$f":"Display!C10","v":"Butterfly Call Long"},3,null,null,null,null,null,null,null,null,null,null,{"$f":"J2&D4","v":"C.US.EPZ1725500"},{"$f":"J2&E4","v":"C.US.EPZ1725550"},{"$f":"J2&F4","v":"C.US.EPZ1725600"}]
[null,{"$f":"Display!C11","v":"Butterfly Call Short"},3,null,null,null,null,null,null,null,null,null,null,{"$f":"J2&H4","v":"C.US.EPZ1725700"},{"$f":"J2&I4","v":"C.US.EPZ1725750"},{"$f":"J2&J4","v":"C.US.EPZ1725800"}]
[null,{"$f":"Display!C12","v":"Butterfly Put Long"},3,null,null,null,null,null,null,null,null,null,null,{"$f":"L2&F4","v":"P.US.EPZ1725600"},{"$f":"L2&G4","v":"P.US.EPZ1725650"},{"$f":"L2&H4","v":"P.US.EPZ1725700"}]
[null,{"$f":"Display!C13","v":"Butterfly Put Short"},3,null,null,null,null,null,null,null,null,null,null,{"$f":"L2&G4","v":"P.US.EPZ1725650"},{"$f":"L2&H4","v":"P.US.EPZ1725700"},{"$f":"L2&M4","v":"P.US.EPZ1725950"}]
[null,{"$f":"Display!C14&\" (Enter 2nd Expiry):\"","v":"Calendar Call (Enter 2nd Expiry):"},"?2",null,null,null,null,null,null,null,null,null,null,{"$f":"J2&F4","v":"C.US.EPZ1725600"},{"$f":"J1&F4","v":"C.US.EPH1825600"}]
[null,{"$f":"Display!C15","v":"Call"},1,null,null,null,null,null,null,null,null,null,null,{"$f":"J2&E4","v":"C.US.EPZ1725550"}]
[null,{"$f":"Display!C16","v":"Put"},1,null,null,null,null,null,null,null,null,null,null,{"$f":"L2&E4","v":"P.US.EPZ1725550"}]
[null,{"$f":"Display!C17","v":"Christmas Tree Call Long"},3,null,null,null,null,null,null,null,null,null,null,{"$f":"J2&D4","v":"C.US.EPZ1725500"},{"$f":"J2&E4","v":"C.US.EPZ1725550"},{"$f":"J2&F4","v":"C.US.EPZ1725600"}]
[null,{"$f":"Display!C18","v":"Christmas Tree Put Long"},3,null,null,null,null,null,null,null,null,null,null,{"$f":"L2&G4","v":"P.US.EPZ1725650"},{"$f":"L2&D4","v":"P.US.EPZ1725500"},{"$f":"L2&I4","v":"P.US.EPZ1725750"}]
[null,{"$f":"Display!C19","v":"Delta Neutral Call Ratio"},2,null,null,null,null,null,null,null,null,null,null,{"$f":"J2&F4","v":"C.US.EPZ1725600"},{"$f":"J2&G4","v":"C.US.EPZ1725650"}]
[null,{"$f":"Display!C20","v":"Iron Butterfly Gut Long"},4,null,null,null,null,null,null,null,null,null,null,{"$f":"J2&D4","v":"C.US.EPZ1725500"},{"$f":"J2&E4","v":"C.US.EPZ1725550"},{"$f":"L2&G4","v":"P.US.EPZ1725650"},{"$f":"L2&H4","v":"P.US.EPZ1725700"}]
[null,{"$f":"Display!C21","v":"Iron Butterfly Gut Short"},4,null,null,null,null,null,null,null,null,null,null,{"$f":"J2&D4","v":"C.US.EPZ1725500"},{"$f":"J2&E4","v":"C.US.EPZ1725550"},{"$f":"L2&F4","v":"P.US.EPZ1725600"},{"$f":"L2&G4","v":"P.US.EPZ1725650"}]
[null,{"$f":"Display!C22","v":"Iron Butterfly Short"},4,null,null,null,null,null,null,null,null,null,null,{"$f":"L2&D4","v":"P.US.EPZ1725500"},{"$f":"L2&E4","v":"P.US.EPZ1725550"},{"$f":"J2&F4","v":"C.US.EPZ1725600"},{"$f":"J2&G4","v":"C.US.EPZ1725650"}]
[null,{"$f":"Display!C23","v":"Ratio Spread Call"},2,null,null,null,null,null,null,null,null,null,null,{"$f":"J2&E4","v":"C.US.EPZ1725550"},{"$f":"J2&F4","v":"C.US.EPZ1725600"}]
[null,{"$f":"Display!C24","v":"Ratio Spread Put"},2,null,null,null,null,null,null,null,null,null,null,{"$f":"L2&E4","v":"P.US.EPZ1725550"},{"$f":"L2&F4","v":"P.US.EPZ1725600"}]
[null,{"$f":"Display!C25","v":"Semi-Underlying Long"},2,null,null,null,null,null,null,null,null,null,null,{"$f":"J2&E4","v":"C.US.EPZ1725550"},{"$f":"L2&E4","v":"P.US.EPZ1725550"}]
[null,{"$f":"Display!C26","v":"Semi-Underlying Short"},2,null,null,null,null,null,null,null,null,null,null,{"$f":"L2&E4","v":"P.US.EPZ1725550"},{"$f":"J2&E4","v":"C.US.EPZ1725550"}]
[null,{"$f":"Display!C27","v":"Straddle Long"},2,null,null,null,null,null,null,null,null,null,null,{"$f":"J2&D4","v":"C.US.EPZ1725500"},{"$f":"L2&D4","v":"P.US.EPZ1725500"}]
[null,{"$f":"Display!C28","v":"Strangle Long"},2,null,null,null,null,null,null,null,null,null,null,{"$f":"J2&D4","v":"C.US.EPZ1725500"},{"$f":"L2&G4","v":"P.US.EPZ1725650"}]
[null,{"$f":"Display!C29","v":"Synthetic Underlying Long"},2,null,null,null,null,null,null,null,null,null,null,{"$f":"J2&D4","v":"C.US.EPZ1725500"},{"$f":"L2&D4","v":"P.US.EPZ1725500"}]
[]
[]
[]
[]
[]
[]
[]
[]
[]
[]
[]
[]
[]
[]
[]
[]
[]
[]
[]
[]
[]
[]
[]
[]
[]
[]
[]
[]
[]
[]
[]
[]
[]
[]
[]
[]
[]
[]
[]
[null,null,5]

{"sheet":"Data","index":2,"n_rows":204,"n_cols":23,"rows_kept":204,"cut":false,"hidden":true,"merged":[]}
[null,null,"Open",{"$f":"RTD(\"cqg.rtd\", , \"ContractData\",D4,\"PrimarySessionOpenTime\",\"0\")","v":"08:30:00"},null,null,null,null,null,null,{"$f":"MIN(D5:D204)","v":7.21},{"$f":"MIN(P5:P204)","v":7.35},null,null,"Open",{"$f":"RTD(\"cqg.rtd\", , \"ContractData\",P4,\"PrimarySessionOpenTime\",\"0\")","v":"08:30:00"}]
[null,{"$f":" RTD(\"cqg.rtd\",,\"StudyData\", $D$4,  \"Bar\",, \"Close\",$E$4,C5,\"All\",,,,\"T\")","v":8.2100000000000006E-2},"Close",{"$f":"RTD(\"cqg.rtd\", , \"ContractData\",D4,\"PrimarySessionCloseTime\")","v":"15:15:00"},{"$f":"D2-D1","v":0.28124999999999994},{"$f":"ROUND(IF(E2>0,E2*1440,1440+(1440*E2)),0)","v":405},{"$f":"ROUNDDOWN(G4,0)","v":7},{"$f":"ROUNDUP(H4,0)","v":14},{"$f":"ROUND(ROUNDUP(((H2-G2)/35),2),1)","v":0.2},null,{"$f":"MIN(K1:L1)","v":7.21},null,null,{"$f":" RTD(\"cqg.rtd\",,\"StudyData\", $D$4,  \"Bar\",, \"Close\",$E$4,O5,\"All\",,,,\"T\")","v":8.2100000000000006E-2},"Close",{"$f":"RTD(\"cqg.rtd\", , \"ContractData\",P4,\"PrimarySessionCloseTime\")","v":"15:15:00"},{"$f":"P2-P1","v":0.28124999999999994},{"$f":"ROUND(IF(Q2>0,Q2*1440,1440+(1440*Q2)),0)","v":405},{"$f":"ROUNDDOWN(S4,0)","v":7},{"$f":"ROUNDUP(T4,0)","v":13},{"$f":"ROUND(ROUNDUP(((T2-S2)/35),2),1)","v":0.2}]
[null,null,null,null,null,null,{"$f":"IF((G4-G2)>0.5,0.5,0)","v":0},null,null,null,null,null,null,null,null,null,null,null,{"$f":"IF((S4-S2)>0.5,0.5,0)","v":0}]
[null,null,null,"EPCIV","D",null,{"$f":"K2","v":7.21},{"$f":"MAX(D5:D204)","v":13.54},null,{"$f":"G5+I4","v":7},null,null,null,null,null,"EPPIV","D",null,{"$f":"K2","v":7.21},{"$f":"MAX(P5:P204)","v":12.879999999999999},null,{"$f":"S5+U4","v":7}]
[null,null,0,{"$f":"IF(RTD(\"cqg.rtd\",,\"StudyData\", $D$4,  \"Bar\",, \"Close\",$E$4,C5,\"All\",,,,\"T\")=\"\",\"\",RTD(\"cqg.rtd\",,\"StudyData\", $D$4,  \"Bar\",, \"Close\",$E$4,C5,\"All\",,,,\"T\")*100)","v":8.2100000000000009},null,null,{"$f":"G2+G3","v":7},{"$f":"D5","v":8.2100000000000009},null,{"$f":"FREQUENCY(H5:H204,G5:G40)","v":0},{"$f":"IF(AND($D$5>=G5,$D$5<G6),IF(J5=0,1,J5),NA())","v":{"$error":"#N/A"}},null,null,null,0,{"$f":"IF(RTD(\"cqg.rtd\",,\"StudyData\", $P$4,  \"Bar\",, \"Close\",$Q$4,O5,\"All\",,,,\"T\")=\"\",\"\",RTD(\"cqg.rtd\",,\"StudyData\", $P$4,  \"Bar\",, \"Close\",$Q$4,O5,\"All\",,,,\"T\")*100)","v":8.2600000000000016},null,null,{"$f":"S2+S3","v":7},{"$f":"P5","v":8.2600000000000016},null,{"$f":"FREQUENCY(T5:T204,S5:S40)","v":0},{"$f":"IF(AND($D$5>=S5,$D$5<S6),IF(V5=0,1,V5),NA())","v":{"$error":"#N/A"}}]
[null,null,{"$f":"C5-1","v":-1},{"$f":"IF(RTD(\"cqg.rtd\",,\"StudyData\", $D$4,  \"Bar\",, \"Close\",$E$4,C6,\"All\",,,,\"T\")=\"\",\"\",RTD(\"cqg.rtd\",,\"StudyData\", $D$4,  \"Bar\",, \"Close\",$E$4,C6,\"All\",,,,\"T\")*100)","v":8.5599999999999987},null,null,{"$f":"G5+$I$2","v":7.2},{"$f":"D6","v":8.5599999999999987},null,0,{"$f":"IF(AND($D$5>=G6,$D$5<G7),IF(J6=0,1,J6),NA())","v":{"$error":"#N/A"}},null,null,null,{"$f":"O5-1","v":-1},{"$f":"IF(RTD(\"cqg.rtd\",,\"StudyData\", $P$4,  \"Bar\",, \"Close\",$Q$4,O6,\"All\",,,,\"T\")=\"\",\"\",RTD(\"cqg.rtd\",,\"StudyData\", $P$4,  \"Bar\",, \"Close\",$Q$4,O6,\"All\",,,,\"T\")*100)","v":8.57},null,null,{"$f":"S5+$I$2","v":7.2},{"$f":"P6","v":8.57},null,0,{"$f":"IF(AND($D$5>=S6,$D$5<S7),IF(V6=0,1,V6),NA())","v":{"$error":"#N/A"}}]
[null,null,{"$f":"C6-1","v":-2},{"$f":"IF(RTD(\"cqg.rtd\",,\"StudyData\", $D$4,  \"Bar\",, \"Close\",$E$4,C7,\"All\",,,,\"T\")=\"\",\"\",RTD(\"cqg.rtd\",,\"StudyData\", $D$4,  \"Bar\",, \"Close\",$E$4,C7,\"All\",,,,\"T\")*100)","v":8.51},null,null,{"$f":"G6+$I$2","v":7.4},8.51,null,3,{"$error":"#N/A"},null,null,null,{"$f":"O6-1","v":-2},{"$f":"IF(RTD(\"cqg.rtd\",,\"StudyData\", $P$4,  \"Bar\",, \"Close\",$Q$4,O7,\"All\",,,,\"T\")=\"\",\"\",RTD(\"cqg.rtd\",,\"StudyData\", $P$4,  \"Bar\",, \"Close\",$Q$4,O7,\"All\",,,,\"T\")*100)","v":8.5400000000000009},null,null,{"$f":"S6+$I$2","v":7.4},8.5400000000000009,null,2,{"$error":"#N/A"}]
[null,null,-3,{"$f":"IF(RTD(\"cqg.rtd\",,\"StudyData\", $D$4,  \"Bar\",, \"Close\",$E$4,C8,\"All\",,,,\"T\")=\"\",\"\",RTD(\"cqg.rtd\",,\"StudyData\", $D$4,  \"Bar\",, \"Close\",$E$4,C8,\"All\",,,,\"T\")*100)","v":8.2900000000000009},null,null,7.6000000000000005,8.2900000000000009,null,5,{"$error":"#N/A"},null,null,null,-3,{"$f":"IF(RTD(\"cqg.rtd\",,\"StudyData\", $P$4,  \"Bar\",, \"Close\",$Q$4,O8,\"All\",,,,\"T\")=\"\",\"\",RTD(\"cqg.rtd\",,\"StudyData\", $P$4,  \"Bar\",, \"Close\",$Q$4,O8,\"All\",,,,\"T\")*100)","v":8.32},null,null,7.6000000000000005,8.32,null,5,{"$error":"#N/A"}]
[null,null,-4,{"$f":"IF(RTD(\"cqg.rtd\",,\"StudyData\", $D$4,  \"Bar\",, \"Close\",$E$4,C9,\"All\",,,,\"T\")=\"\",\"\",RTD(\"cqg.rtd\",,\"StudyData\", $D$4,  \"Bar\",, \"Close\",$E$4,C9,\"All\",,,,\"T\")*100)","v":8.48},null,null,7.8000000000000007,8.48,null,4,{"$error":"#N/A"},null,null,null,-4,{"$f":"IF(RTD(\"cqg.rtd\",,\"StudyData\", $P$4,  \"Bar\",, \"Close\",$Q$4,O9,\"All\",,,,\"T\")=\"\",\"\",RTD(\"cqg.rtd\",,\"StudyData\", $P$4,  \"Bar\",, \"Close\",$Q$4,O9,\"All\",,,,\"T\")*100)","v":8.52},null,null,7.8000000000000007,8.52,null,3,{"$error":"#N/A"}]
[null,null,-5,{"$f":"IF(RTD(\"cqg.rtd\",,\"StudyData\", $D$4,  \"Bar\",, \"Close\",$E$4,C10,\"All\",,,,\"T\")=\"\",\"\",RTD(\"cqg.rtd\",,\"StudyData\", $D$4,  \"Bar\",, \"Close\",$E$4,C10,\"All\",,,,\"T\")*100)","v":8.59},null,null,8,8.59,null,5,{"$error":"#N/A"},null,null,null,-5,{"$f":"IF(RTD(\"cqg.rtd\",,\"StudyData\", $P$4,  \"Bar\",, \"Close\",$Q$4,O10,\"All\",,,,\"T\")=\"\",\"\",RTD(\"cqg.rtd\",,\"StudyData\", $P$4,  \"Bar\",, \"Close\",$Q$4,O10,\"All\",,,,\"T\")*100)","v":8.6199999999999992},null,null,8,8.6199999999999992,null,4,{"$error":"#N/A"}]
[null,null,-6,{"$f":"IF(RTD(\"cqg.rtd\",,\"StudyData\", $D$4,  \"Bar\",, \"Close\",$E$4,C11,\"All\",,,,\"T\")=\"\",\"\",RTD(\"cqg.rtd\",,\"StudyData\", $D$4,  \"Bar\",, \"Close\",$E$4,C11,\"All\",,,,\"T\")*100)","v":8.59},null,null,8.1999999999999993,8.59,null,3,3,null,null,null,-6,{"$f":"IF(RTD(\"cqg.rtd\",,\"StudyData\", $P$4,  \"Bar\",, \"Close\",$Q$4,O11,\"All\",,,,\"T\")=\"\",\"\",RTD(\"cqg.rtd\",,\"StudyData\", $P$4,  \"Bar\",, \"Close\",$Q$4,O11,\"All\",,,,\"T\")*100)","v":8.6300000000000008},null,null,8.1999999999999993,8.6300000000000008,null,4,4]
[null,null,-7,{"$f":"IF(RTD(\"cqg.rtd\",,\"StudyData\", $D$4,  \"Bar\",, \"Close\",$E$4,C12,\"All\",,,,\"T\")=\"\",\"\",RTD(\"cqg.rtd\",,\"StudyData\", $D$4,  \"Bar\",, \"Close\",$E$4,C12,\"All\",,,,\"T\")*100)","v":8.9599999999999991},null,null,8.3999999999999986,8.9599999999999991,null,7,{"$error":"#N/A"},null,null,null,-7,{"$f":"IF(RTD(\"cqg.rtd\",,\"StudyData\", $P$4,  \"Bar\",, \"Close\",$Q$4,O12,\"All\",,,,\"T\")=\"\",\"\",RTD(\"cqg.rtd\",,\"StudyData\", $P$4,  \"Bar\",, \"Close\",$Q$4,O12,\"All\",,,,\"T\")*100)","v":8.98},null,null,8.3999999999999986,8.98,null,6,{"$error":"#N/A"}]
[null,null,-8,{"$f":"IF(RTD(\"cqg.rtd\",,\"StudyData\", $D$4,  \"Bar\",, \"Close\",$E$4,C13,\"All\",,,,\"T\")=\"\",\"\",RTD(\"cqg.rtd\",,\"StudyData\", $D$4,  \"Bar\",, \"Close\",$E$4,C13,\"All\",,,,\"T\")*100)","v":9.1399999999999988},null,null,8.5999999999999979,9.1399999999999988,null,12,{"$error":"#N/A"},null,null,null,-8,{"$f":"IF(RTD(\"cqg.rtd\",,\"StudyData\", $P$4,  \"Bar\",, \"Close\",$Q$4,O13,\"All\",,,,\"T\")=\"\",\"\",RTD(\"cqg.rtd\",,\"StudyData\", $P$4,  \"Bar\",, \"Close\",$Q$4,O13,\"All\",,,,\"T\")*100)","v":9.16},null,null,8.5999999999999979,9.16,null,7,{"$error":"#N/A"}]
[null,null,-9,{"$f":"IF(RTD(\"cqg.rtd\",,\"StudyData\", $D$4,  \"Bar\",, \"Close\",$E$4,C14,\"All\",,,,\"T\")=\"\",\"\",RTD(\"cqg.rtd\",,\"StudyData\", $D$4,  \"Bar\",, \"Close\",$E$4,C14,\"All\",,,,\"T\")*100)","v":9.36},null,null,8.7999999999999972,9.36,null,6,{"$error":"#N/A"},null,null,null,-9,{"$f":"IF(RTD(\"cqg.rtd\",,\"StudyData\", $P$4,  \"Bar\",, \"Close\",$Q$4,O14,\"All\",,,,\"T\")=\"\",\"\",RTD(\"cqg.rtd\",,\"StudyData\", $P$4,  \"Bar\",, \"Close\",$Q$4,O14,\"All\",,,,\"T\")*100)","v":9.370000000000001},null,null,8.7999999999999972,9.370000000000001,null,11,{"$error":"#N/A"}]
[null,null,-10,{"$f":"IF(RTD(\"cqg.rtd\",,\"StudyData\", $D$4,  \"Bar\",, \"Close\",$E$4,C15,\"All\",,,,\"T\")=\"\",\"\",RTD(\"cqg.rtd\",,\"StudyData\", $D$4,  \"Bar\",, \"Close\",$E$4,C15,\"All\",,,,\"T\")*100)","v":9.41},null,null,8.9999999999999964,9.41,null,12,{"$error":"#N/A"},null,null,null,-10,{"$f":"IF(RTD(\"cqg.rtd\",,\"StudyData\", $P$4,  \"Bar\",, \"Close\",$Q$4,O15,\"All\",,,,\"T\")=\"\",\"\",RTD(\"cqg.rtd\",,\"StudyData\", $P$4,  \"Bar\",, \"Close\",$Q$4,O15,\"All\",,,,\"T\")*100)","v":9.43},null,null,8.9999999999999964,9.43,null,12,{"$error":"#N/A"}]
[null,null,-11,{"$f":"IF(RTD(\"cqg.rtd\",,\"StudyData\", $D$4,  \"Bar\",, \"Close\",$E$4,C16,\"All\",,,,\"T\")=\"\",\"\",RTD(\"cqg.rtd\",,\"StudyData\", $D$4,  \"Bar\",, \"Close\",$E$4,C16,\"All\",,,,\"T\")*100)","v":9.39},null,null,9.1999999999999957,9.39,null,12,{"$error":"#N/A"},null,null,null,-11,{"$f":"IF(RTD(\"cqg.rtd\",,\"StudyData\", $P$4,  \"Bar\",, \"Close\",$Q$4,O16,\"All\",,,,\"T\")=\"\",\"\",RTD(\"cqg.rtd\",,\"StudyData\", $P$4,  \"Bar\",, \"Close\",$Q$4,O16,\"All\",,,,\"T\")*100)","v":9.4},null,null,9.1999999999999957,9.4,null,13,{"$error":"#N/A"}]
[null,null,-12,{"$f":"IF(RTD(\"cqg.rtd\",,\"StudyData\", $D$4,  \"Bar\",, \"Close\",$E$4,C17,\"All\",,,,\"T\")=\"\",\"\",RTD(\"cqg.rtd\",,\"StudyData\", $D$4,  \"Bar\",, \"Close\",$E$4,C17,\"All\",,,,\"T\")*100)","v":9.33},null,null,9.399999999999995,9.33,null,12,{"$error":"#N/A"},null,null,null,-12,{"$f":"IF(RTD(\"cqg.rtd\",,\"StudyData\", $P$4,  \"Bar\",, \"Close\",$Q$4,O17,\"All\",,,,\"T\")=\"\",\"\",RTD(\"cqg.rtd\",,\"StudyData\", $P$4,  \"Bar\",, \"Close\",$Q$4,O17,\"All\",,,,\"T\")*100)","v":9.33},null,null,9.399999999999995,9.33,null,12,{"$error":"#N/A"}]
[null,null,-13,{"$f":"IF(RTD(\"cqg.rtd\",,\"StudyData\", $D$4,  \"Bar\",, \"Close\",$E$4,C18,\"All\",,,,\"T\")=\"\",\"\",RTD(\"cqg.rtd\",,\"StudyData\", $D$4,  \"Bar\",, \"Close\",$E$4,C18,\"All\",,,,\"T\")*100)","v":9.16},null,null,9.5999999999999943,9.16,null,14,{"$error":"#N/A"},null,null,null,-13,{"$f":"IF(RTD(\"cqg.rtd\",,\"StudyData\", $P$4,  \"Bar\",, \"Close\",$Q$4,O18,\"All\",,,,\"T\")=\"\",\"\",RTD(\"cqg.rtd\",,\"StudyData\", $P$4,  \"Bar\",, \"Close\",$Q$4,O18,\"All\",,,,\"T\")*100)","v":9.1399999999999988},null,null,9.5999999999999943,9.1399999999999988,null,14,{"$error":"#N/A"}]
[null,null,-14,{"$f":"IF(RTD(\"cqg.rtd\",,\"StudyData\", $D$4,  \"Bar\",, \"Close\",$E$4,C19,\"All\",,,,\"T\")=\"\",\"\",RTD(\"cqg.rtd\",,\"StudyData\", $D$4,  \"Bar\",, \"Close\",$E$4,C19,\"All\",,,,\"T\")*100)","v":9.17},null,null,9.7999999999999936,9.17,null,14,{"$error":"#N/A"},null,null,null,-14,{"$f":"IF(RTD(\"cqg.rtd\",,\"StudyData\", $P$4,  \"Bar\",, \"Close\",$Q$4,O19,\"All\",,,,\"T\")=\"\",\"\",RTD(\"cqg.rtd\",,\"StudyData\", $P$4,  \"Bar\",, \"Close\",$Q$4,O19,\"All\",,,,\"T\")*100)","v":9.1800000000000015},null,null,9.7999999999999936,9.1800000000000015,null,12,{"$error":"#N/A"}]
[null,null,-15,{"$f":"IF(RTD(\"cqg.rtd\",,\"StudyData\", $D$4,  \"Bar\",, \"Close\",$E$4,C20,\"All\",,,,\"T\")=\"\",\"\",RTD(\"cqg.rtd\",,\"StudyData\", $D$4,  \"Bar\",, \"Close\",$E$4,C20,\"All\",,,,\"T\")*100)","v":9.2799999999999994},null,null,9.9999999999999929,9.2799999999999994,null,12,{"$error":"#N/A"},null,null,null,-15,{"$f":"IF(RTD(\"cqg.rtd\",,\"StudyData\", $P$4,  \"Bar\",, \"Close\",$Q$4,O20,\"All\",,,,\"T\")=\"\",\"\",RTD(\"cqg.rtd\",,\"StudyData\", $P$4,  \"Bar\",, \"Close\",$Q$4,O20,\"All\",,,,\"T\")*100)","v":9.2799999999999994},null,null,9.9999999999999929,9.2799999999999994,null,11,{"$error":"#N/A"}]
[null,null,-16,{"$f":"IF(RTD(\"cqg.rtd\",,\"StudyData\", $D$4,  \"Bar\",, \"Close\",$E$4,C21,\"All\",,,,\"T\")=\"\",\"\",RTD(\"cqg.rtd\",,\"StudyData\", $D$4,  \"Bar\",, \"Close\",$E$4,C21,\"All\",,,,\"T\")*100)","v":9.33},null,null,10.199999999999992,9.33,null,7,{"$error":"#N/A"},null,null,null,-16,{"$f":"IF(RTD(\"cqg.rtd\",,\"StudyData\", $P$4,  \"Bar\",, \"Close\",$Q$4,O21,\"All\",,,,\"T\")=\"\",\"\",RTD(\"cqg.rtd\",,\"StudyData\", $P$4,  \"Bar\",, \"Close\",$Q$4,O21,\"All\",,,,\"T\")*100)","v":9.34},null,null,10.199999999999992,9.34,null,13,{"$error":"#N/A"}]
[null,null,-17,{"$f":"IF(RTD(\"cqg.rtd\",,\"StudyData\", $D$4,  \"Bar\",, \"Close\",$E$4,C22,\"All\",,,,\"T\")=\"\",\"\",RTD(\"cqg.rtd\",,\"StudyData\", $D$4,  \"Bar\",, \"Close\",$E$4,C22,\"All\",,,,\"T\")*100)","v":9.69},null,null,10.399999999999991,9.69,null,8,{"$error":"#N/A"},null,null,null,-17,{"$f":"IF(RTD(\"cqg.rtd\",,\"StudyData\", $P$4,  \"Bar\",, \"Close\",$Q$4,O22,\"All\",,,,\"T\")=\"\",\"\",RTD(\"cqg.rtd\",,\"StudyData\", $P$4,  \"Bar\",, \"Close\",$Q$4,O22,\"All\",,,,\"T\")*100)","v":9.69},null,null,10.399999999999991,9.69,null,10,{"$error":"#N/A"}]
[null,null,-18,{"$f":"IF(RTD(\"cqg.rtd\",,\"StudyData\", $D$4,  \"Bar\",, \"Close\",$E$4,C23,\"All\",,,,\"T\")=\"\",\"\",RTD(\"cqg.rtd\",,\"StudyData\", $D$4,  \"Bar\",, \"Close\",$E$4,C23,\"All\",,,,\"T\")*100)","v":9.94},null,null,10.599999999999991,9.94,null,4,{"$error":"#N/A"},null,null,null,-18,{"$f":"IF(RTD(\"cqg.rtd\",,\"StudyData\", $P$4,  \"Bar\",, \"Close\",$Q$4,O23,\"All\",,,,\"T\")=\"\",\"\",RTD(\"cqg.rtd\",,\"StudyData\", $P$4,  \"Bar\",, \"Close\",$Q$4,O23,\"All\",,,,\"T\")*100)","v":9.94},null,null,10.599999999999991,9.94,null,4,{"$error":"#N/A"}]
[null,null,-19,{"$f":"IF(RTD(\"cqg.rtd\",,\"StudyData\", $D$4,  \"Bar\",, \"Close\",$E$4,C24,\"All\",,,,\"T\")=\"\",\"\",RTD(\"cqg.rtd\",,\"StudyData\", $D$4,  \"Bar\",, \"Close\",$E$4,C24,\"All\",,,,\"T\")*100)","v":10.029999999999999},null,null,10.79999999999999,10.029999999999999,null,8,{"$error":"#N/A"},null,null,null,-19,{"$f":"IF(RTD(\"cqg.rtd\",,\"StudyData\", $P$4,  \"Bar\",, \"Close\",$Q$4,O24,\"All\",,,,\"T\")=\"\",\"\",RTD(\"cqg.rtd\",,\"StudyData\", $P$4,  \"Bar\",, \"Close\",$Q$4,O24,\"All\",,,,\"T\")*100)","v":10.040000000000001},null,null,10.79999999999999,10.040000000000001,null,9,{"$error":"#N/A"}]
[null,null,-20,{"$f":"IF(RTD(\"cqg.rtd\",,\"StudyData\", $D$4,  \"Bar\",, \"Close\",$E$4,C25,\"All\",,,,\"T\")=\"\",\"\",RTD(\"cqg.rtd\",,\"StudyData\", $D$4,  \"Bar\",, \"Close\",$E$4,C25,\"All\",,,,\"T\")*100)","v":10.24},null,null,10.999999999999989,10.24,null,11,{"$error":"#N/A"},null,null,null,-20,{"$f":"IF(RTD(\"cqg.rtd\",,\"StudyData\", $P$4,  \"Bar\",, \"Close\",$Q$4,O25,\"All\",,,,\"T\")=\"\",\"\",RTD(\"cqg.rtd\",,\"StudyData\", $P$4,  \"Bar\",, \"Close\",$Q$4,O25,\"All\",,,,\"T\")*100)","v":10.26},null,null,10.999999999999989,10.26,null,5,{"$error":"#N/A"}]
[null,null,-21,{"$f":"IF(RTD(\"cqg.rtd\",,\"StudyData\", $D$4,  \"Bar\",, \"Close\",$E$4,C26,\"All\",,,,\"T\")=\"\",\"\",RTD(\"cqg.rtd\",,\"StudyData\", $D$4,  \"Bar\",, \"Close\",$E$4,C26,\"All\",,,,\"T\")*100)","v":10.58},null,null,11.199999999999989,10.58,null,9,{"$error":"#N/A"},null,null,null,-21,{"$f":"IF(RTD(\"cqg.rtd\",,\"StudyData\", $P$4,  \"Bar\",, \"Close\",$Q$4,O26,\"All\",,,,\"T\")=\"\",\"\",RTD(\"cqg.rtd\",,\"StudyData\", $P$4,  \"Bar\",, \"Close\",$Q$4,O26,\"All\",,,,\"T\")*100)","v":10.58},null,null,11.199999999999989,10.58,null,6,{"$error":"#N/A"}]
[null,null,-22,{"$f":"IF(RTD(\"cqg.rtd\",,\"StudyData\", $D$4,  \"Bar\",, \"Close\",$E$4,C27,\"All\",,,,\"T\")=\"\",\"\",RTD(\"cqg.rtd\",,\"StudyData\", $D$4,  \"Bar\",, \"Close\",$E$4,C27,\"All\",,,,\"T\")*100)","v":11.61},null,null,11.399999999999988,11.61,null,5,{"$error":"#N/A"},null,null,null,-22,{"$f":"IF(RTD(\"cqg.rtd\",,\"StudyData\", $P$4,  \"Bar\",, \"Close\",$Q$4,O27,\"All\",,,,\"T\")=\"\",\"\",RTD(\"cqg.rtd\",,\"StudyData\", $P$4,  \"Bar\",, \"Close\",$Q$4,O27,\"All\",,,,\"T\")*100)","v":11.61},null,null,11.399999999999988,11.61,null,8,{"$error":"#N/A"}]
[null,null,-23,{"$f":"IF(RTD(\"cqg.rtd\",,\"StudyData\", $D$4,  \"Bar\",, \"Close\",$E$4,C28,\"All\",,,,\"T\")=\"\",\"\",RTD(\"cqg.rtd\",,\"StudyData\", $D$4,  \"Bar\",, \"Close\",$E$4,C28,\"All\",,,,\"T\")*100)","v":11.29},null,null,11.599999999999987,11.29,null,7,{"$error":"#N/A"},null,null,null,-23,{"$f":"IF(RTD(\"cqg.rtd\",,\"StudyData\", $P$4,  \"Bar\",, \"Close\",$Q$4,O28,\"All\",,,,\"T\")=\"\",\"\",RTD(\"cqg.rtd\",,\"StudyData\", $P$4,  \"Bar\",, \"Close\",$Q$4,O28,\"All\",,,,\"T\")*100)","v":11.28},null,null,11.599999999999987,11.28,null,10,{"$error":"#N/A"}]
[null,null,-24,{"$f":"IF(RTD(\"cqg.rtd\",,\"StudyData\", $D$4,  \"Bar\",, \"Close\",$E$4,C29,\"All\",,,,\"T\")=\"\",\"\",RTD(\"cqg.rtd\",,\"StudyData\", $D$4,  \"Bar\",, \"Close\",$E$4,C29,\"All\",,,,\"T\")*100)","v":11.3},null,null,11.799999999999986,11.3,null,6,{"$error":"#N/A"},null,null,null,-24,{"$f":"IF(RTD(\"cqg.rtd\",,\"StudyData\", $P$4,  \"Bar\",, \"Close\",$Q$4,O29,\"All\",,,,\"T\")=\"\",\"\",RTD(\"cqg.rtd\",,\"StudyData\", $P$4,  \"Bar\",, \"Close\",$Q$4,O29,\"All\",,,,\"T\")*100)","v":11.3},null,null,11.799999999999986,11.3,null,9,{"$error":"#N/A"}]
[null,null,-25,{"$f":"IF(RTD(\"cqg.rtd\",,\"StudyData\", $D$4,  \"Bar\",, \"Close\",$E$4,C30,\"All\",,,,\"T\")=\"\",\"\",RTD(\"cqg.rtd\",,\"StudyData\", $D$4,  \"Bar\",, \"Close\",$E$4,C30,\"All\",,,,\"T\")*100)","v":11.49},null,null,11.999999999999986,11.49,null,5,{"$error":"#N/A"},null,null,null,-25,{"$f":"IF(RTD(\"cqg.rtd\",,\"StudyData\", $P$4,  \"Bar\",, \"Close\",$Q$4,O30,\"All\",,,,\"T\")=\"\",\"\",RTD(\"cqg.rtd\",,\"StudyData\", $P$4,  \"Bar\",, \"Close\",$Q$4,O30,\"All\",,,,\"T\")*100)","v":11.49},null,null,11.999999999999986,11.49,null,4,{"$error":"#N/A"}]
[null,null,-26,{"$f":"IF(RTD(\"cqg.rtd\",,\"StudyData\", $D$4,  \"Bar\",, \"Close\",$E$4,C31,\"All\",,,,\"T\")=\"\",\"\",RTD(\"cqg.rtd\",,\"StudyData\", $D$4,  \"Bar\",, \"Close\",$E$4,C31,\"All\",,,,\"T\")*100)","v":8.6199999999999992},null,null,12.199999999999985,8.6199999999999992,null,4,{"$error":"#N/A"},null,null,null,-26,{"$f":"IF(RTD(\"cqg.rtd\",,\"StudyData\", $P$4,  \"Bar\",, \"Close\",$Q$4,O31,\"All\",,,,\"T\")=\"\",\"\",RTD(\"cqg.rtd\",,\"StudyData\", $P$4,  \"Bar\",, \"Close\",$Q$4,O31,\"All\",,,,\"T\")*100)","v":8.93},null,null,12.199999999999985,8.93,null,2,{"$error":"#N/A"}]
[null,null,-27,{"$f":"IF(RTD(\"cqg.rtd\",,\"StudyData\", $D$4,  \"Bar\",, \"Close\",$E$4,C32,\"All\",,,,\"T\")=\"\",\"\",RTD(\"cqg.rtd\",,\"StudyData\", $D$4,  \"Bar\",, \"Close\",$E$4,C32,\"All\",,,,\"T\")*100)","v":9.02},null,null,12.399999999999984,9.02,null,2,{"$error":"#N/A"},null,null,null,-27,{"$f":"IF(RTD(\"cqg.rtd\",,\"StudyData\", $P$4,  \"Bar\",, \"Close\",$Q$4,O32,\"All\",,,,\"T\")=\"\",\"\",RTD(\"cqg.rtd\",,\"StudyData\", $P$4,  \"Bar\",, \"Close\",$Q$4,O32,\"All\",,,,\"T\")*100)","v":8.74},null,null,12.399999999999984,8.74,null,1,{"$error":"#N/A"}]
[null,null,-28,{"$f":"IF(RTD(\"cqg.rtd\",,\"StudyData\", $D$4,  \"Bar\",, \"Close\",$E$4,C33,\"All\",,,,\"T\")=\"\",\"\",RTD(\"cqg.rtd\",,\"StudyData\", $D$4,  \"Bar\",, \"Close\",$E$4,C33,\"All\",,,,\"T\")*100)","v":9.27},null,null,12.599999999999984,9.27,null,2,{"$error":"#N/A"},null,null,null,-28,{"$f":"IF(RTD(\"cqg.rtd\",,\"StudyData\", $P$4,  \"Bar\",, \"Close\",$Q$4,O33,\"All\",,,,\"T\")=\"\",\"\",RTD(\"cqg.rtd\",,\"StudyData\", $P$4,  \"Bar\",, \"Close\",$Q$4,O33,\"All\",,,,\"T\")*100)","v":9.31},null,null,12.599999999999984,9.31,null,1,{"$error":"#N/A"}]
[null,null,-29,{"$f":"IF(RTD(\"cqg.rtd\",,\"StudyData\", $D$4,  \"Bar\",, \"Close\",$E$4,C34,\"All\",,,,\"T\")=\"\",\"\",RTD(\"cqg.rtd\",,\"StudyData\", $D$4,  \"Bar\",, \"Close\",$E$4,C34,\"All\",,,,\"T\")*100)","v":9.44},null,null,12.799999999999983,9.44,null,0,{"$error":"#N/A"},null,null,null,-29,{"$f":"IF(RTD(\"cqg.rtd\",,\"StudyData\", $P$4,  \"Bar\",, \"Close\",$Q$4,O34,\"All\",,,,\"T\")=\"\",\"\",RTD(\"cqg.rtd\",,\"StudyData\", $P$4,  \"Bar\",, \"Close\",$Q$4,O34,\"All\",,,,\"T\")*100)","v":9.49},null,null,12.799999999999983,9.49,null,0,{"$error":"#N/A"}]
[null,null,-30,{"$f":"IF(RTD(\"cqg.rtd\",,\"StudyData\", $D$4,  \"Bar\",, \"Close\",$E$4,C35,\"All\",,,,\"T\")=\"\",\"\",RTD(\"cqg.rtd\",,\"StudyData\", $D$4,  \"Bar\",, \"Close\",$E$4,C35,\"All\",,,,\"T\")*100)","v":9.35},null,null,12.999999999999982,9.35,null,0,{"$error":"#N/A"},null,null,null,-30,{"$f":"IF(RTD(\"cqg.rtd\",,\"StudyData\", $P$4,  \"Bar\",, \"Close\",$Q$4,O35,\"All\",,,,\"T\")=\"\",\"\",RTD(\"cqg.rtd\",,\"StudyData\", $P$4,  \"Bar\",, \"Close\",$Q$4,O35,\"All\",,,,\"T\")*100)","v":9.83},null,null,12.999999999999982,9.83,null,2,{"$error":"#N/A"}]
[null,null,-31,{"$f":"IF(RTD(\"cqg.rtd\",,\"StudyData\", $D$4,  \"Bar\",, \"Close\",$E$4,C36,\"All\",,,,\"T\")=\"\",\"\",RTD(\"cqg.rtd\",,\"StudyData\", $D$4,  \"Bar\",, \"Close\",$E$4,C36,\"All\",,,,\"T\")*100)","v":9.6},null,null,13.199999999999982,9.6,null,0,{"$error":"#N/A"},null,null,null,-31,{"$f":"IF(RTD(\"cqg.rtd\",,\"StudyData\", $P$4,  \"Bar\",, \"Close\",$Q$4,O36,\"All\",,,,\"T\")=\"\",\"\",RTD(\"cqg.rtd\",,\"StudyData\", $P$4,  \"Bar\",, \"Close\",$Q$4,O36,\"All\",,,,\"T\")*100)","v":9.65},null,null,13.199999999999982,9.65,null,0,{"$error":"#N/A"}]
[null,null,-32,{"$f":"IF(RTD(\"cqg.rtd\",,\"StudyData\", $D$4,  \"Bar\",, \"Close\",$E$4,C37,\"All\",,,,\"T\")=\"\",\"\",RTD(\"cqg.rtd\",,\"StudyData\", $D$4,  \"Bar\",, \"Close\",$E$4,C37,\"All\",,,,\"T\")*100)","v":10.11},null,null,13.399999999999981,10.11,null,0,{"$error":"#N/A"},null,null,null,-32,{"$f":"IF(RTD(\"cqg.rtd\",,\"StudyData\", $P$4,  \"Bar\",, \"Close\",$Q$4,O37,\"All\",,,,\"T\")=\"\",\"\",RTD(\"cqg.rtd\",,\"StudyData\", $P$4,  \"Bar\",, \"Close\",$Q$4,O37,\"All\",,,,\"T\")*100)","v":10.23},null,null,13.399999999999981,10.23,null,0,{"$error":"#N/A"}]
[null,null,-33,{"$f":"IF(RTD(\"cqg.rtd\",,\"StudyData\", $D$4,  \"Bar\",, \"Close\",$E$4,C38,\"All\",,,,\"T\")=\"\",\"\",RTD(\"cqg.rtd\",,\"StudyData\", $D$4,  \"Bar\",, \"Close\",$E$4,C38,\"All\",,,,\"T\")*100)","v":10.16},null,null,13.59999999999998,10.16,null,1,{"$error":"#N/A"},null,null,null,-33,{"$f":"IF(RTD(\"cqg.rtd\",,\"StudyData\", $P$4,  \"Bar\",, \"Close\",$Q$4,O38,\"All\",,,,\"T\")=\"\",\"\",RTD(\"cqg.rtd\",,\"StudyData\", $P$4,  \"Bar\",, \"Close\",$Q$4,O38,\"All\",,,,\"T\")*100)","v":10.17},null,null,13.59999999999998,10.17,null,0,{"$error":"#N/A"}]
[null,null,-34,{"$f":"IF(RTD(\"cqg.rtd\",,\"StudyData\", $D$4,  \"Bar\",, \"Close\",$E$4,C39,\"All\",,,,\"T\")=\"\",\"\",RTD(\"cqg.rtd\",,\"StudyData\", $D$4,  \"Bar\",, \"Close\",$E$4,C39,\"All\",,,,\"T\")*100)","v":9.16},null,null,13.799999999999979,9.16,null,0,{"$error":"#N/A"},null,null,null,-34,{"$f":"IF(RTD(\"cqg.rtd\",,\"StudyData\", $P$4,  \"Bar\",, \"Close\",$Q$4,O39,\"All\",,,,\"T\")=\"\",\"\",RTD(\"cqg.rtd\",,\"StudyData\", $P$4,  \"Bar\",, \"Close\",$Q$4,O39,\"All\",,,,\"T\")*100)","v":9.2100000000000009},null,null,13.799999999999979,9.2100000000000009,null,0,{"$error":"#N/A"}]
[null,null,-35,{"$f":"IF(RTD(\"cqg.rtd\",,\"StudyData\", $D$4,  \"Bar\",, \"Close\",$E$4,C40,\"All\",,,,\"T\")=\"\",\"\",RTD(\"cqg.rtd\",,\"StudyData\", $D$4,  \"Bar\",, \"Close\",$E$4,C40,\"All\",,,,\"T\")*100)","v":10.68},{"$f":" RTD(\"cqg.rtd\",,\"StudyData\", $D$4,  \"Bar\",, \"Time\",$E$4,C40,,,,,\"T\")","v":"2017-08-21"},null,13.999999999999979,10.68,null,0,{"$error":"#N/A"},null,null,null,-35,{"$f":"IF(RTD(\"cqg.rtd\",,\"StudyData\", $P$4,  \"Bar\",, \"Close\",$Q$4,O40,\"All\",,,,\"T\")=\"\",\"\",RTD(\"cqg.rtd\",,\"StudyData\", $P$4,  \"Bar\",, \"Close\",$Q$4,O40,\"All\",,,,\"T\")*100)","v":10.75},{"$f":" RTD(\"cqg.rtd\",,\"StudyData\", $D$4,  \"Bar\",, \"Time\",$E$4,O40,,,,,\"T\")","v":"2017-08-21"},null,13.999999999999979,10.75,null,0,{"$error":"#N/A"}]
[null,null,-36,{"$f":"IF(RTD(\"cqg.rtd\",,\"StudyData\", $D$4,  \"Bar\",, \"Close\",$E$4,C41,\"All\",,,,\"T\")=\"\",\"\",RTD(\"cqg.rtd\",,\"StudyData\", $D$4,  \"Bar\",, \"Close\",$E$4,C41,\"All\",,,,\"T\")*100)","v":11.26},null,null,null,11.26,null,null,null,null,null,null,-36,{"$f":"IF(RTD(\"cqg.rtd\",,\"StudyData\", $P$4,  \"Bar\",, \"Close\",$Q$4,O41,\"All\",,,,\"T\")=\"\",\"\",RTD(\"cqg.rtd\",,\"StudyData\", $P$4,  \"Bar\",, \"Close\",$Q$4,O41,\"All\",,,,\"T\")*100)","v":11.4},null,null,null,11.4]
[null,null,-37,{"$f":"IF(RTD(\"cqg.rtd\",,\"StudyData\", $D$4,  \"Bar\",, \"Close\",$E$4,C42,\"All\",,,,\"T\")=\"\",\"\",RTD(\"cqg.rtd\",,\"StudyData\", $D$4,  \"Bar\",, \"Close\",$E$4,C42,\"All\",,,,\"T\")*100)","v":11.51},null,null,null,11.51,null,null,null,null,null,null,-37,{"$f":"IF(RTD(\"cqg.rtd\",,\"StudyData\", $P$4,  \"Bar\",, \"Close\",$Q$4,O42,\"All\",,,,\"T\")=\"\",\"\",RTD(\"cqg.rtd\",,\"StudyData\", $P$4,  \"Bar\",, \"Close\",$Q$4,O42,\"All\",,,,\"T\")*100)","v":11.5},null,null,null,11.5]
[null,null,-38,{"$f":"IF(RTD(\"cqg.rtd\",,\"StudyData\", $D$4,  \"Bar\",, \"Close\",$E$4,C43,\"All\",,,,\"T\")=\"\",\"\",RTD(\"cqg.rtd\",,\"StudyData\", $D$4,  \"Bar\",, \"Close\",$E$4,C43,\"All\",,,,\"T\")*100)","v":8.8800000000000008},null,null,null,8.8800000000000008,null,null,null,null,null,null,-38,{"$f":"IF(RTD(\"cqg.rtd\",,\"StudyData\", $P$4,  \"Bar\",, \"Close\",$Q$4,O43,\"All\",,,,\"T\")=\"\",\"\",RTD(\"cqg.rtd\",,\"StudyData\", $P$4,  \"Bar\",, \"Close\",$Q$4,O43,\"All\",,,,\"T\")*100)","v":8.84},null,null,null,8.84]
[null,null,-39,{"$f":"IF(RTD(\"cqg.rtd\",,\"StudyData\", $D$4,  \"Bar\",, \"Close\",$E$4,C44,\"All\",,,,\"T\")=\"\",\"\",RTD(\"cqg.rtd\",,\"StudyData\", $D$4,  \"Bar\",, \"Close\",$E$4,C44,\"All\",,,,\"T\")*100)","v":8.91},null,null,null,8.91,null,null,null,null,null,null,-39,{"$f":"IF(RTD(\"cqg.rtd\",,\"StudyData\", $P$4,  \"Bar\",, \"Close\",$Q$4,O44,\"All\",,,,\"T\")=\"\",\"\",RTD(\"cqg.rtd\",,\"StudyData\", $P$4,  \"Bar\",, \"Close\",$Q$4,O44,\"All\",,,,\"T\")*100)","v":9.02},null,null,null,9.02]
[null,null,-40,{"$f":"IF(RTD(\"cqg.rtd\",,\"StudyData\", $D$4,  \"Bar\",, \"Close\",$E$4,C45,\"All\",,,,\"T\")=\"\",\"\",RTD(\"cqg.rtd\",,\"StudyData\", $D$4,  \"Bar\",, \"Close\",$E$4,C45,\"All\",,,,\"T\")*100)","v":9.15},null,null,null,9.15,null,null,null,null,null,null,-40,{"$f":"IF(RTD(\"cqg.rtd\",,\"StudyData\", $P$4,  \"Bar\",, \"Close\",$Q$4,O45,\"All\",,,,\"T\")=\"\",\"\",RTD(\"cqg.rtd\",,\"StudyData\", $P$4,  \"Bar\",, \"Close\",$Q$4,O45,\"All\",,,,\"T\")*100)","v":9.17},null,null,null,9.17]
[null,null,-41,{"$f":"IF(RTD(\"cqg.rtd\",,\"StudyData\", $D$4,  \"Bar\",, \"Close\",$E$4,C46,\"All\",,,,\"T\")=\"\",\"\",RTD(\"cqg.rtd\",,\"StudyData\", $D$4,  \"Bar\",, \"Close\",$E$4,C46,\"All\",,,,\"T\")*100)","v":11.64},null,null,null,11.64,null,null,null,null,null,null,-41,{"$f":"IF(RTD(\"cqg.rtd\",,\"StudyData\", $P$4,  \"Bar\",, \"Close\",$Q$4,O46,\"All\",,,,\"T\")=\"\",\"\",RTD(\"cqg.rtd\",,\"StudyData\", $P$4,  \"Bar\",, \"Close\",$Q$4,O46,\"All\",,,,\"T\")*100)","v":11.64},null,null,null,11.64]
[null,null,-42,{"$f":"IF(RTD(\"cqg.rtd\",,\"StudyData\", $D$4,  \"Bar\",, \"Close\",$E$4,C47,\"All\",,,,\"T\")=\"\",\"\",RTD(\"cqg.rtd\",,\"StudyData\", $D$4,  \"Bar\",, \"Close\",$E$4,C47,\"All\",,,,\"T\")*100)","v":11.04},null,null,null,11.04,null,null,null,null,null,null,-42,{"$f":"IF(RTD(\"cqg.rtd\",,\"StudyData\", $P$4,  \"Bar\",, \"Close\",$Q$4,O47,\"All\",,,,\"T\")=\"\",\"\",RTD(\"cqg.rtd\",,\"StudyData\", $P$4,  \"Bar\",, \"Close\",$Q$4,O47,\"All\",,,,\"T\")*100)","v":11.53},null,null,null,11.53]
[null,null,-43,{"$f":"IF(RTD(\"cqg.rtd\",,\"StudyData\", $D$4,  \"Bar\",, \"Close\",$E$4,C48,\"All\",,,,\"T\")=\"\",\"\",RTD(\"cqg.rtd\",,\"StudyData\", $D$4,  \"Bar\",, \"Close\",$E$4,C48,\"All\",,,,\"T\")*100)","v":8.2000000000000011},null,null,null,8.2000000000000011,null,null,null,null,null,null,-43,{"$f":"IF(RTD(\"cqg.rtd\",,\"StudyData\", $P$4,  \"Bar\",, \"Close\",$Q$4,O48,\"All\",,,,\"T\")=\"\",\"\",RTD(\"cqg.rtd\",,\"StudyData\", $P$4,  \"Bar\",, \"Close\",$Q$4,O48,\"All\",,,,\"T\")*100)","v":8.2000000000000011},null,null,null,8.2000000000000011]
[null,null,-44,{"$f":"IF(RTD(\"cqg.rtd\",,\"StudyData\", $D$4,  \"Bar\",, \"Close\",$E$4,C49,\"All\",,,,\"T\")=\"\",\"\",RTD(\"cqg.rtd\",,\"StudyData\", $D$4,  \"Bar\",, \"Close\",$E$4,C49,\"All\",,,,\"T\")*100)","v":8.01},null,null,null,8.01,null,null,null,null,null,null,-44,{"$f":"IF(RTD(\"cqg.rtd\",,\"StudyData\", $P$4,  \"Bar\",, \"Close\",$Q$4,O49,\"All\",,,,\"T\")=\"\",\"\",RTD(\"cqg.rtd\",,\"StudyData\", $P$4,  \"Bar\",, \"Close\",$Q$4,O49,\"All\",,,,\"T\")*100)","v":8.06},null,null,null,8.06]
[null,null,-45,{"$f":"IF(RTD(\"cqg.rtd\",,\"StudyData\", $D$4,  \"Bar\",, \"Close\",$E$4,C50,\"All\",,,,\"T\")=\"\",\"\",RTD(\"cqg.rtd\",,\"StudyData\", $D$4,  \"Bar\",, \"Close\",$E$4,C50,\"All\",,,,\"T\")*100)","v":7.32},null,null,null,7.32,null,null,null,null,null,null,-45,{"$f":"IF(RTD(\"cqg.rtd\",,\"StudyData\", $P$4,  \"Bar\",, \"Close\",$Q$4,O50,\"All\",,,,\"T\")=\"\",\"\",RTD(\"cqg.rtd\",,\"StudyData\", $P$4,  \"Bar\",, \"Close\",$Q$4,O50,\"All\",,,,\"T\")*100)","v":7.35},null,null,null,7.35]
[null,null,-46,{"$f":"IF(RTD(\"cqg.rtd\",,\"StudyData\", $D$4,  \"Bar\",, \"Close\",$E$4,C51,\"All\",,,,\"T\")=\"\",\"\",RTD(\"cqg.rtd\",,\"StudyData\", $D$4,  \"Bar\",, \"Close\",$E$4,C51,\"All\",,,,\"T\")*100)","v":7.61},null,null,null,7.61,null,null,null,null,null,null,-46,{"$f":"IF(RTD(\"cqg.rtd\",,\"StudyData\", $P$4,  \"Bar\",, \"Close\",$Q$4,O51,\"All\",,,,\"T\")=\"\",\"\",RTD(\"cqg.rtd\",,\"StudyData\", $P$4,  \"Bar\",, \"Close\",$Q$4,O51,\"All\",,,,\"T\")*100)","v":7.6300000000000008},null,null,null,7.6300000000000008]
[null,null,-47,{"$f":"IF(RTD(\"cqg.rtd\",,\"StudyData\", $D$4,  \"Bar\",, \"Close\",$E$4,C52,\"All\",,,,\"T\")=\"\",\"\",RTD(\"cqg.rtd\",,\"StudyData\", $D$4,  \"Bar\",, \"Close\",$E$4,C52,\"All\",,,,\"T\")*100)","v":7.6499999999999995},null,null,null,7.6499999999999995,null,null,null,null,null,null,-47,{"$f":"IF(RTD(\"cqg.rtd\",,\"StudyData\", $P$4,  \"Bar\",, \"Close\",$Q$4,O52,\"All\",,,,\"T\")=\"\",\"\",RTD(\"cqg.rtd\",,\"StudyData\", $P$4,  \"Bar\",, \"Close\",$Q$4,O52,\"All\",,,,\"T\")*100)","v":7.7700000000000005},null,null,null,7.7700000000000005]
[null,null,-48,{"$f":"IF(RTD(\"cqg.rtd\",,\"StudyData\", $D$4,  \"Bar\",, \"Close\",$E$4,C53,\"All\",,,,\"T\")=\"\",\"\",RTD(\"cqg.rtd\",,\"StudyData\", $D$4,  \"Bar\",, \"Close\",$E$4,C53,\"All\",,,,\"T\")*100)","v":7.4300000000000006},null,null,null,7.4300000000000006,null,null,null,null,null,null,-48,{"$f":"IF(RTD(\"cqg.rtd\",,\"StudyData\", $P$4,  \"Bar\",, \"Close\",$Q$4,O53,\"All\",,,,\"T\")=\"\",\"\",RTD(\"cqg.rtd\",,\"StudyData\", $P$4,  \"Bar\",, \"Close\",$Q$4,O53,\"All\",,,,\"T\")*100)","v":7.4700000000000006},null,null,null,7.4700000000000006]
[null,null,-49,{"$f":"IF(RTD(\"cqg.rtd\",,\"StudyData\", $D$4,  \"Bar\",, \"Close\",$E$4,C54,\"All\",,,,\"T\")=\"\",\"\",RTD(\"cqg.rtd\",,\"StudyData\", $D$4,  \"Bar\",, \"Close\",$E$4,C54,\"All\",,,,\"T\")*100)","v":7.21},null,null,null,7.21,null,null,null,null,null,null,-49,{"$f":"IF(RTD(\"cqg.rtd\",,\"StudyData\", $P$4,  \"Bar\",, \"Close\",$Q$4,O54,\"All\",,,,\"T\")=\"\",\"\",RTD(\"cqg.rtd\",,\"StudyData\", $P$4,  \"Bar\",, \"Close\",$Q$4,O54,\"All\",,,,\"T\")*100)","v":7.3800000000000008},null,null,null,7.3800000000000008]
[null,null,-50,{"$f":"IF(RTD(\"cqg.rtd\",,\"StudyData\", $D$4,  \"Bar\",, \"Close\",$E$4,C55,\"All\",,,,\"T\")=\"\",\"\",RTD(\"cqg.rtd\",,\"StudyData\", $D$4,  \"Bar\",, \"Close\",$E$4,C55,\"All\",,,,\"T\")*100)","v":7.46},null,null,null,7.46,null,null,null,null,null,null,-50,{"$f":"IF(RTD(\"cqg.rtd\",,\"StudyData\", $P$4,  \"Bar\",, \"Close\",$Q$4,O55,\"All\",,,,\"T\")=\"\",\"\",RTD(\"cqg.rtd\",,\"StudyData\", $P$4,  \"Bar\",, \"Close\",$Q$4,O55,\"All\",,,,\"T\")*100)","v":7.51},null,null,null,7.51]
[null,null,-51,{"$f":"IF(RTD(\"cqg.rtd\",,\"StudyData\", $D$4,  \"Bar\",, \"Close\",$E$4,C56,\"All\",,,,\"T\")=\"\",\"\",RTD(\"cqg.rtd\",,\"StudyData\", $D$4,  \"Bar\",, \"Close\",$E$4,C56,\"All\",,,,\"T\")*100)","v":7.7700000000000005},null,null,null,7.7700000000000005,null,null,null,null,null,null,-51,{"$f":"IF(RTD(\"cqg.rtd\",,\"StudyData\", $P$4,  \"Bar\",, \"Close\",$Q$4,O56,\"All\",,,,\"T\")=\"\",\"\",RTD(\"cqg.rtd\",,\"StudyData\", $P$4,  \"Bar\",, \"Close\",$Q$4,O56,\"All\",,,,\"T\")*100)","v":7.870000000000001},null,null,null,7.870000000000001]
[null,null,-52,{"$f":"IF(RTD(\"cqg.rtd\",,\"StudyData\", $D$4,  \"Bar\",, \"Close\",$E$4,C57,\"All\",,,,\"T\")=\"\",\"\",RTD(\"cqg.rtd\",,\"StudyData\", $D$4,  \"Bar\",, \"Close\",$E$4,C57,\"All\",,,,\"T\")*100)","v":7.6700000000000008},null,null,null,7.6700000000000008,null,null,null,null,null,null,-52,{"$f":"IF(RTD(\"cqg.rtd\",,\"StudyData\", $P$4,  \"Bar\",, \"Close\",$Q$4,O57,\"All\",,,,\"T\")=\"\",\"\",RTD(\"cqg.rtd\",,\"StudyData\", $P$4,  \"Bar\",, \"Close\",$Q$4,O57,\"All\",,,,\"T\")*100)","v":7.7299999999999995},null,null,null,7.7299999999999995]
[null,null,-53,{"$f":"IF(RTD(\"cqg.rtd\",,\"StudyData\", $D$4,  \"Bar\",, \"Close\",$E$4,C58,\"All\",,,,\"T\")=\"\",\"\",RTD(\"cqg.rtd\",,\"StudyData\", $D$4,  \"Bar\",, \"Close\",$E$4,C58,\"All\",,,,\"T\")*100)","v":7.4399999999999995},null,null,null,7.4399999999999995,null,null,null,null,null,null,-53,{"$f":"IF(RTD(\"cqg.rtd\",,\"StudyData\", $P$4,  \"Bar\",, \"Close\",$Q$4,O58,\"All\",,,,\"T\")=\"\",\"\",RTD(\"cqg.rtd\",,\"StudyData\", $P$4,  \"Bar\",, \"Close\",$Q$4,O58,\"All\",,,,\"T\")*100)","v":7.48},null,null,null,7.48]
[null,null,-54,{"$f":"IF(RTD(\"cqg.rtd\",,\"StudyData\", $D$4,  \"Bar\",, \"Close\",$E$4,C59,\"All\",,,,\"T\")=\"\",\"\",RTD(\"cqg.rtd\",,\"StudyData\", $D$4,  \"Bar\",, \"Close\",$E$4,C59,\"All\",,,,\"T\")*100)","v":7.3999999999999995},null,null,null,7.3999999999999995,null,null,null,null,null,null,-54,{"$f":"IF(RTD(\"cqg.rtd\",,\"StudyData\", $P$4,  \"Bar\",, \"Close\",$Q$4,O59,\"All\",,,,\"T\")=\"\",\"\",RTD(\"cqg.rtd\",,\"StudyData\", $P$4,  \"Bar\",, \"Close\",$Q$4,O59,\"All\",,,,\"T\")*100)","v":7.4899999999999993},null,null,null,7.4899999999999993]
[null,null,-55,{"$f":"IF(RTD(\"cqg.rtd\",,\"StudyData\", $D$4,  \"Bar\",, \"Close\",$E$4,C60,\"All\",,,,\"T\")=\"\",\"\",RTD(\"cqg.rtd\",,\"StudyData\", $D$4,  \"Bar\",, \"Close\",$E$4,C60,\"All\",,,,\"T\")*100)","v":7.4899999999999993},null,null,null,7.4899999999999993,null,null,null,null,null,null,-55,{"$f":"IF(RTD(\"cqg.rtd\",,\"StudyData\", $P$4,  \"Bar\",, \"Close\",$Q$4,O60,\"All\",,,,\"T\")=\"\",\"\",RTD(\"cqg.rtd\",,\"StudyData\", $P$4,  \"Bar\",, \"Close\",$Q$4,O60,\"All\",,,,\"T\")*100)","v":7.57},null,null,null,7.57]
[null,null,-56,{"$f":"IF(RTD(\"cqg.rtd\",,\"StudyData\", $D$4,  \"Bar\",, \"Close\",$E$4,C61,\"All\",,,,\"T\")=\"\",\"\",RTD(\"cqg.rtd\",,\"StudyData\", $D$4,  \"Bar\",, \"Close\",$E$4,C61,\"All\",,,,\"T\")*100)","v":7.8100000000000005},null,null,null,7.8100000000000005,null,null,null,null,null,null,-56,{"$f":"IF(RTD(\"cqg.rtd\",,\"StudyData\", $P$4,  \"Bar\",, \"Close\",$Q$4,O61,\"All\",,,,\"T\")=\"\",\"\",RTD(\"cqg.rtd\",,\"StudyData\", $P$4,  \"Bar\",, \"Close\",$Q$4,O61,\"All\",,,,\"T\")*100)","v":7.82},null,null,null,7.82]
[null,null,-57,{"$f":"IF(RTD(\"cqg.rtd\",,\"StudyData\", $D$4,  \"Bar\",, \"Close\",$E$4,C62,\"All\",,,,\"T\")=\"\",\"\",RTD(\"cqg.rtd\",,\"StudyData\", $D$4,  \"Bar\",, \"Close\",$E$4,C62,\"All\",,,,\"T\")*100)","v":7.8299999999999992},null,null,null,7.8299999999999992,null,null,null,null,null,null,-57,{"$f":"IF(RTD(\"cqg.rtd\",,\"StudyData\", $P$4,  \"Bar\",, \"Close\",$Q$4,O62,\"All\",,,,\"T\")=\"\",\"\",RTD(\"cqg.rtd\",,\"StudyData\", $P$4,  \"Bar\",, \"Close\",$Q$4,O62,\"All\",,,,\"T\")*100)","v":7.88},null,null,null,7.88]
[null,null,-58,{"$f":"IF(RTD(\"cqg.rtd\",,\"StudyData\", $D$4,  \"Bar\",, \"Close\",$E$4,C63,\"All\",,,,\"T\")=\"\",\"\",RTD(\"cqg.rtd\",,\"StudyData\", $D$4,  \"Bar\",, \"Close\",$E$4,C63,\"All\",,,,\"T\")*100)","v":7.8100000000000005},null,null,null,7.8100000000000005,null,null,null,null,null,null,-58,{"$f":"IF(RTD(\"cqg.rtd\",,\"StudyData\", $P$4,  \"Bar\",, \"Close\",$Q$4,O63,\"All\",,,,\"T\")=\"\",\"\",RTD(\"cqg.rtd\",,\"StudyData\", $P$4,  \"Bar\",, \"Close\",$Q$4,O63,\"All\",,,,\"T\")*100)","v":7.8299999999999992},null,null,null,7.8299999999999992]
[null,null,-59,{"$f":"IF(RTD(\"cqg.rtd\",,\"StudyData\", $D$4,  \"Bar\",, \"Close\",$E$4,C64,\"All\",,,,\"T\")=\"\",\"\",RTD(\"cqg.rtd\",,\"StudyData\", $D$4,  \"Bar\",, \"Close\",$E$4,C64,\"All\",,,,\"T\")*100)","v":7.95},null,null,null,7.95,null,null,null,null,null,null,-59,{"$f":"IF(RTD(\"cqg.rtd\",,\"StudyData\", $P$4,  \"Bar\",, \"Close\",$Q$4,O64,\"All\",,,,\"T\")=\"\",\"\",RTD(\"cqg.rtd\",,\"StudyData\", $P$4,  \"Bar\",, \"Close\",$Q$4,O64,\"All\",,,,\"T\")*100)","v":8.01},null,null,null,8.01]
[null,null,-60,{"$f":"IF(RTD(\"cqg.rtd\",,\"StudyData\", $D$4,  \"Bar\",, \"Close\",$E$4,C65,\"All\",,,,\"T\")=\"\",\"\",RTD(\"cqg.rtd\",,\"StudyData\", $D$4,  \"Bar\",, \"Close\",$E$4,C65,\"All\",,,,\"T\")*100)","v":7.99},null,null,null,7.99,null,null,null,null,null,null,-60,{"$f":"IF(RTD(\"cqg.rtd\",,\"StudyData\", $P$4,  \"Bar\",, \"Close\",$Q$4,O65,\"All\",,,,\"T\")=\"\",\"\",RTD(\"cqg.rtd\",,\"StudyData\", $P$4,  \"Bar\",, \"Close\",$Q$4,O65,\"All\",,,,\"T\")*100)","v":8.0299999999999994},null,null,null,8.0299999999999994]
[null,null,-61,{"$f":"IF(RTD(\"cqg.rtd\",,\"StudyData\", $D$4,  \"Bar\",, \"Close\",$E$4,C66,\"All\",,,,\"T\")=\"\",\"\",RTD(\"cqg.rtd\",,\"StudyData\", $D$4,  \"Bar\",, \"Close\",$E$4,C66,\"All\",,,,\"T\")*100)","v":8.23},null,null,null,8.23,null,null,null,null,null,null,-61,{"$f":"IF(RTD(\"cqg.rtd\",,\"StudyData\", $P$4,  \"Bar\",, \"Close\",$Q$4,O66,\"All\",,,,\"T\")=\"\",\"\",RTD(\"cqg.rtd\",,\"StudyData\", $P$4,  \"Bar\",, \"Close\",$Q$4,O66,\"All\",,,,\"T\")*100)","v":8.23},null,null,null,8.23]
[null,null,-62,{"$f":"IF(RTD(\"cqg.rtd\",,\"StudyData\", $D$4,  \"Bar\",, \"Close\",$E$4,C67,\"All\",,,,\"T\")=\"\",\"\",RTD(\"cqg.rtd\",,\"StudyData\", $D$4,  \"Bar\",, \"Close\",$E$4,C67,\"All\",,,,\"T\")*100)","v":8.52},null,null,null,8.52,null,null,null,null,null,null,-62,{"$f":"IF(RTD(\"cqg.rtd\",,\"StudyData\", $P$4,  \"Bar\",, \"Close\",$Q$4,O67,\"All\",,,,\"T\")=\"\",\"\",RTD(\"cqg.rtd\",,\"StudyData\", $P$4,  \"Bar\",, \"Close\",$Q$4,O67,\"All\",,,,\"T\")*100)","v":8.5299999999999994},null,null,null,8.5299999999999994]
[null,null,-63,{"$f":"IF(RTD(\"cqg.rtd\",,\"StudyData\", $D$4,  \"Bar\",, \"Close\",$E$4,C68,\"All\",,,,\"T\")=\"\",\"\",RTD(\"cqg.rtd\",,\"StudyData\", $D$4,  \"Bar\",, \"Close\",$E$4,C68,\"All\",,,,\"T\")*100)","v":8.81},null,null,null,8.81,null,null,null,null,null,null,-63,{"$f":"IF(RTD(\"cqg.rtd\",,\"StudyData\", $P$4,  \"Bar\",, \"Close\",$Q$4,O68,\"All\",,,,\"T\")=\"\",\"\",RTD(\"cqg.rtd\",,\"StudyData\", $P$4,  \"Bar\",, \"Close\",$Q$4,O68,\"All\",,,,\"T\")*100)","v":8.82},null,null,null,8.82]
[null,null,-64,{"$f":"IF(RTD(\"cqg.rtd\",,\"StudyData\", $D$4,  \"Bar\",, \"Close\",$E$4,C69,\"All\",,,,\"T\")=\"\",\"\",RTD(\"cqg.rtd\",,\"StudyData\", $D$4,  \"Bar\",, \"Close\",$E$4,C69,\"All\",,,,\"T\")*100)","v":9.2799999999999994},null,null,null,9.2799999999999994,null,null,null,null,null,null,-64,{"$f":"IF(RTD(\"cqg.rtd\",,\"StudyData\", $P$4,  \"Bar\",, \"Close\",$Q$4,O69,\"All\",,,,\"T\")=\"\",\"\",RTD(\"cqg.rtd\",,\"StudyData\", $P$4,  \"Bar\",, \"Close\",$Q$4,O69,\"All\",,,,\"T\")*100)","v":9.2799999999999994},null,null,null,9.2799999999999994]
[null,null,-65,{"$f":"IF(RTD(\"cqg.rtd\",,\"StudyData\", $D$4,  \"Bar\",, \"Close\",$E$4,C70,\"All\",,,,\"T\")=\"\",\"\",RTD(\"cqg.rtd\",,\"StudyData\", $D$4,  \"Bar\",, \"Close\",$E$4,C70,\"All\",,,,\"T\")*100)","v":9.34},null,null,null,{"$f":"D70","v":9.34},null,null,null,null,null,null,-65,{"$f":"IF(RTD(\"cqg.rtd\",,\"StudyData\", $P$4,  \"Bar\",, \"Close\",$Q$4,O70,\"All\",,,,\"T\")=\"\",\"\",RTD(\"cqg.rtd\",,\"StudyData\", $P$4,  \"Bar\",, \"Close\",$Q$4,O70,\"All\",,,,\"T\")*100)","v":9.370000000000001},null,null,null,{"$f":"P70","v":9.370000000000001}]
[null,null,{"$f":"C70-1","v":-66},{"$f":"IF(RTD(\"cqg.rtd\",,\"StudyData\", $D$4,  \"Bar\",, \"Close\",$E$4,C71,\"All\",,,,\"T\")=\"\",\"\",RTD(\"cqg.rtd\",,\"StudyData\", $D$4,  \"Bar\",, \"Close\",$E$4,C71,\"All\",,,,\"T\")*100)","v":9.6100000000000012},null,null,null,9.6100000000000012,null,null,null,null,null,null,{"$f":"O70-1","v":-66},{"$f":"IF(RTD(\"cqg.rtd\",,\"StudyData\", $P$4,  \"Bar\",, \"Close\",$Q$4,O71,\"All\",,,,\"T\")=\"\",\"\",RTD(\"cqg.rtd\",,\"StudyData\", $P$4,  \"Bar\",, \"Close\",$Q$4,O71,\"All\",,,,\"T\")*100)","v":9.6100000000000012},null,null,null,9.6100000000000012]
[null,null,-67,{"$f":"IF(RTD(\"cqg.rtd\",,\"StudyData\", $D$4,  \"Bar\",, \"Close\",$E$4,C72,\"All\",,,,\"T\")=\"\",\"\",RTD(\"cqg.rtd\",,\"StudyData\", $D$4,  \"Bar\",, \"Close\",$E$4,C72,\"All\",,,,\"T\")*100)","v":10.280000000000001},null,null,null,10.280000000000001,null,null,null,null,null,null,-67,{"$f":"IF(RTD(\"cqg.rtd\",,\"StudyData\", $P$4,  \"Bar\",, \"Close\",$Q$4,O72,\"All\",,,,\"T\")=\"\",\"\",RTD(\"cqg.rtd\",,\"StudyData\", $P$4,  \"Bar\",, \"Close\",$Q$4,O72,\"All\",,,,\"T\")*100)","v":10.31},null,null,null,10.31]
[null,null,-68,{"$f":"IF(RTD(\"cqg.rtd\",,\"StudyData\", $D$4,  \"Bar\",, \"Close\",$E$4,C73,\"All\",,,,\"T\")=\"\",\"\",RTD(\"cqg.rtd\",,\"StudyData\", $D$4,  \"Bar\",, \"Close\",$E$4,C73,\"All\",,,,\"T\")*100)","v":9.39},{"$f":" RTD(\"cqg.rtd\",,\"StudyData\", $D$4,  \"Bar\",, \"Time\",$E$4,C73,,,,,\"T\")","v":"2017-07-05"},null,null,9.39,null,null,null,null,null,null,-68,{"$f":"IF(RTD(\"cqg.rtd\",,\"StudyData\", $P$4,  \"Bar\",, \"Close\",$Q$4,O73,\"All\",,,,\"T\")=\"\",\"\",RTD(\"cqg.rtd\",,\"StudyData\", $P$4,  \"Bar\",, \"Close\",$Q$4,O73,\"All\",,,,\"T\")*100)","v":9.5},{"$f":" RTD(\"cqg.rtd\",,\"StudyData\", $D$4,  \"Bar\",, \"Time\",$E$4,O73,,,,,\"T\")","v":"2017-07-05"},null,null,9.5]
[null,null,-69,{"$f":"IF(RTD(\"cqg.rtd\",,\"StudyData\", $D$4,  \"Bar\",, \"Close\",$E$4,C74,\"All\",,,,\"T\")=\"\",\"\",RTD(\"cqg.rtd\",,\"StudyData\", $D$4,  \"Bar\",, \"Close\",$E$4,C74,\"All\",,,,\"T\")*100)","v":9.7900000000000009},null,null,null,9.7900000000000009,null,null,null,null,null,null,-69,{"$f":"IF(RTD(\"cqg.rtd\",,\"StudyData\", $P$4,  \"Bar\",, \"Close\",$Q$4,O74,\"All\",,,,\"T\")=\"\",\"\",RTD(\"cqg.rtd\",,\"StudyData\", $P$4,  \"Bar\",, \"Close\",$Q$4,O74,\"All\",,,,\"T\")*100)","v":9.49},null,null,null,9.49]
[null,null,-70,{"$f":"IF(RTD(\"cqg.rtd\",,\"StudyData\", $D$4,  \"Bar\",, \"Close\",$E$4,C75,\"All\",,,,\"T\")=\"\",\"\",RTD(\"cqg.rtd\",,\"StudyData\", $D$4,  \"Bar\",, \"Close\",$E$4,C75,\"All\",,,,\"T\")*100)","v":9.58},null,null,null,9.58,null,null,null,null,null,null,-70,{"$f":"IF(RTD(\"cqg.rtd\",,\"StudyData\", $P$4,  \"Bar\",, \"Close\",$Q$4,O75,\"All\",,,,\"T\")=\"\",\"\",RTD(\"cqg.rtd\",,\"StudyData\", $P$4,  \"Bar\",, \"Close\",$Q$4,O75,\"All\",,,,\"T\")*100)","v":9.7100000000000009},null,null,null,9.7100000000000009]
[null,null,-71,{"$f":"IF(RTD(\"cqg.rtd\",,\"StudyData\", $D$4,  \"Bar\",, \"Close\",$E$4,C76,\"All\",,,,\"T\")=\"\",\"\",RTD(\"cqg.rtd\",,\"StudyData\", $D$4,  \"Bar\",, \"Close\",$E$4,C76,\"All\",,,,\"T\")*100)","v":9.51},null,null,null,9.51,null,null,null,null,null,null,-71,{"$f":"IF(RTD(\"cqg.rtd\",,\"StudyData\", $P$4,  \"Bar\",, \"Close\",$Q$4,O76,\"All\",,,,\"T\")=\"\",\"\",RTD(\"cqg.rtd\",,\"StudyData\", $P$4,  \"Bar\",, \"Close\",$Q$4,O76,\"All\",,,,\"T\")*100)","v":9.84},null,null,null,9.84]
[null,null,-72,{"$f":"IF(RTD(\"cqg.rtd\",,\"StudyData\", $D$4,  \"Bar\",, \"Close\",$E$4,C77,\"All\",,,,\"T\")=\"\",\"\",RTD(\"cqg.rtd\",,\"StudyData\", $D$4,  \"Bar\",, \"Close\",$E$4,C77,\"All\",,,,\"T\")*100)","v":8.42},null,null,null,8.42,null,null,null,null,null,null,-72,{"$f":"IF(RTD(\"cqg.rtd\",,\"StudyData\", $P$4,  \"Bar\",, \"Close\",$Q$4,O77,\"All\",,,,\"T\")=\"\",\"\",RTD(\"cqg.rtd\",,\"StudyData\", $P$4,  \"Bar\",, \"Close\",$Q$4,O77,\"All\",,,,\"T\")*100)","v":9.31},null,null,null,9.31]
[null,null,-73,{"$f":"IF(RTD(\"cqg.rtd\",,\"StudyData\", $D$4,  \"Bar\",, \"Close\",$E$4,C78,\"All\",,,,\"T\")=\"\",\"\",RTD(\"cqg.rtd\",,\"StudyData\", $D$4,  \"Bar\",, \"Close\",$E$4,C78,\"All\",,,,\"T\")*100)","v":9.9599999999999991},null,null,null,9.9599999999999991,null,null,null,null,null,null,-73,{"$f":"IF(RTD(\"cqg.rtd\",,\"StudyData\", $P$4,  \"Bar\",, \"Close\",$Q$4,O78,\"All\",,,,\"T\")=\"\",\"\",RTD(\"cqg.rtd\",,\"StudyData\", $P$4,  \"Bar\",, \"Close\",$Q$4,O78,\"All\",,,,\"T\")*100)","v":9.32},null,null,null,9.32]
[null,null,-74,{"$f":"IF(RTD(\"cqg.rtd\",,\"StudyData\", $D$4,  \"Bar\",, \"Close\",$E$4,C79,\"All\",,,,\"T\")=\"\",\"\",RTD(\"cqg.rtd\",,\"StudyData\", $D$4,  \"Bar\",, \"Close\",$E$4,C79,\"All\",,,,\"T\")*100)","v":8.94},null,null,null,8.94,null,null,null,null,null,null,-74,{"$f":"IF(RTD(\"cqg.rtd\",,\"StudyData\", $P$4,  \"Bar\",, \"Close\",$Q$4,O79,\"All\",,,,\"T\")=\"\",\"\",RTD(\"cqg.rtd\",,\"StudyData\", $P$4,  \"Bar\",, \"Close\",$Q$4,O79,\"All\",,,,\"T\")*100)","v":8.89},null,null,null,8.89]
[null,null,-75,{"$f":"IF(RTD(\"cqg.rtd\",,\"StudyData\", $D$4,  \"Bar\",, \"Close\",$E$4,C80,\"All\",,,,\"T\")=\"\",\"\",RTD(\"cqg.rtd\",,\"StudyData\", $D$4,  \"Bar\",, \"Close\",$E$4,C80,\"All\",,,,\"T\")*100)","v":9.16},null,null,null,9.16,null,null,null,null,null,null,-75,{"$f":"IF(RTD(\"cqg.rtd\",,\"StudyData\", $P$4,  \"Bar\",, \"Close\",$Q$4,O80,\"All\",,,,\"T\")=\"\",\"\",RTD(\"cqg.rtd\",,\"StudyData\", $P$4,  \"Bar\",, \"Close\",$Q$4,O80,\"All\",,,,\"T\")*100)","v":9.1800000000000015},null,null,null,9.1800000000000015]
[null,null,-76,{"$f":"IF(RTD(\"cqg.rtd\",,\"StudyData\", $D$4,  \"Bar\",, \"Close\",$E$4,C81,\"All\",,,,\"T\")=\"\",\"\",RTD(\"cqg.rtd\",,\"StudyData\", $D$4,  \"Bar\",, \"Close\",$E$4,C81,\"All\",,,,\"T\")*100)","v":9.43},null,null,null,9.43,null,null,null,null,null,null,-76,{"$f":"IF(RTD(\"cqg.rtd\",,\"StudyData\", $P$4,  \"Bar\",, \"Close\",$Q$4,O81,\"All\",,,,\"T\")=\"\",\"\",RTD(\"cqg.rtd\",,\"StudyData\", $P$4,  \"Bar\",, \"Close\",$Q$4,O81,\"All\",,,,\"T\")*100)","v":9.42},null,null,null,9.42]
[null,null,-77,{"$f":"IF(RTD(\"cqg.rtd\",,\"StudyData\", $D$4,  \"Bar\",, \"Close\",$E$4,C82,\"All\",,,,\"T\")=\"\",\"\",RTD(\"cqg.rtd\",,\"StudyData\", $D$4,  \"Bar\",, \"Close\",$E$4,C82,\"All\",,,,\"T\")*100)","v":9.67},null,null,null,9.67,null,null,null,null,null,null,-77,{"$f":"IF(RTD(\"cqg.rtd\",,\"StudyData\", $P$4,  \"Bar\",, \"Close\",$Q$4,O82,\"All\",,,,\"T\")=\"\",\"\",RTD(\"cqg.rtd\",,\"StudyData\", $P$4,  \"Bar\",, \"Close\",$Q$4,O82,\"All\",,,,\"T\")*100)","v":9.44},null,null,null,9.44]
[null,null,-78,{"$f":"IF(RTD(\"cqg.rtd\",,\"StudyData\", $D$4,  \"Bar\",, \"Close\",$E$4,C83,\"All\",,,,\"T\")=\"\",\"\",RTD(\"cqg.rtd\",,\"StudyData\", $D$4,  \"Bar\",, \"Close\",$E$4,C83,\"All\",,,,\"T\")*100)","v":9.58},null,null,null,9.58,null,null,null,null,null,null,-78,{"$f":"IF(RTD(\"cqg.rtd\",,\"StudyData\", $P$4,  \"Bar\",, \"Close\",$Q$4,O83,\"All\",,,,\"T\")=\"\",\"\",RTD(\"cqg.rtd\",,\"StudyData\", $P$4,  \"Bar\",, \"Close\",$Q$4,O83,\"All\",,,,\"T\")*100)","v":9.370000000000001},null,null,null,9.370000000000001]
[null,null,-79,{"$f":"IF(RTD(\"cqg.rtd\",,\"StudyData\", $D$4,  \"Bar\",, \"Close\",$E$4,C84,\"All\",,,,\"T\")=\"\",\"\",RTD(\"cqg.rtd\",,\"StudyData\", $D$4,  \"Bar\",, \"Close\",$E$4,C84,\"All\",,,,\"T\")*100)","v":9.15},null,null,null,9.15,null,null,null,null,null,null,-79,{"$f":"IF(RTD(\"cqg.rtd\",,\"StudyData\", $P$4,  \"Bar\",, \"Close\",$Q$4,O84,\"All\",,,,\"T\")=\"\",\"\",RTD(\"cqg.rtd\",,\"StudyData\", $P$4,  \"Bar\",, \"Close\",$Q$4,O84,\"All\",,,,\"T\")*100)","v":9.15},null,null,null,9.15]
[null,null,-80,{"$f":"IF(RTD(\"cqg.rtd\",,\"StudyData\", $D$4,  \"Bar\",, \"Close\",$E$4,C85,\"All\",,,,\"T\")=\"\",\"\",RTD(\"cqg.rtd\",,\"StudyData\", $D$4,  \"Bar\",, \"Close\",$E$4,C85,\"All\",,,,\"T\")*100)","v":9.6},null,null,null,9.6,null,null,null,null,null,null,-80,{"$f":"IF(RTD(\"cqg.rtd\",,\"StudyData\", $P$4,  \"Bar\",, \"Close\",$Q$4,O85,\"All\",,,,\"T\")=\"\",\"\",RTD(\"cqg.rtd\",,\"StudyData\", $P$4,  \"Bar\",, \"Close\",$Q$4,O85,\"All\",,,,\"T\")*100)","v":9.6},null,null,null,9.6]
[null,null,-81,{"$f":"IF(RTD(\"cqg.rtd\",,\"StudyData\", $D$4,  \"Bar\",, \"Close\",$E$4,C86,\"All\",,,,\"T\")=\"\",\"\",RTD(\"cqg.rtd\",,\"StudyData\", $D$4,  \"Bar\",, \"Close\",$E$4,C86,\"All\",,,,\"T\")*100)","v":9.9},null,null,null,9.9,null,null,null,null,null,null,-81,{"$f":"IF(RTD(\"cqg.rtd\",,\"StudyData\", $P$4,  \"Bar\",, \"Close\",$Q$4,O86,\"All\",,,,\"T\")=\"\",\"\",RTD(\"cqg.rtd\",,\"StudyData\", $P$4,  \"Bar\",, \"Close\",$Q$4,O86,\"All\",,,,\"T\")*100)","v":9.82},null,null,null,9.82]
[null,null,-82,{"$f":"IF(RTD(\"cqg.rtd\",,\"StudyData\", $D$4,  \"Bar\",, \"Close\",$E$4,C87,\"All\",,,,\"T\")=\"\",\"\",RTD(\"cqg.rtd\",,\"StudyData\", $D$4,  \"Bar\",, \"Close\",$E$4,C87,\"All\",,,,\"T\")*100)","v":9.81},null,null,null,9.81,null,null,null,null,null,null,-82,{"$f":"IF(RTD(\"cqg.rtd\",,\"StudyData\", $P$4,  \"Bar\",, \"Close\",$Q$4,O87,\"All\",,,,\"T\")=\"\",\"\",RTD(\"cqg.rtd\",,\"StudyData\", $P$4,  \"Bar\",, \"Close\",$Q$4,O87,\"All\",,,,\"T\")*100)","v":9.65},null,null,null,9.65]
[null,null,-83,{"$f":"IF(RTD(\"cqg.rtd\",,\"StudyData\", $D$4,  \"Bar\",, \"Close\",$E$4,C88,\"All\",,,,\"T\")=\"\",\"\",RTD(\"cqg.rtd\",,\"StudyData\", $D$4,  \"Bar\",, \"Close\",$E$4,C88,\"All\",,,,\"T\")*100)","v":9.6},null,null,null,9.6,null,null,null,null,null,null,-83,{"$f":"IF(RTD(\"cqg.rtd\",,\"StudyData\", $P$4,  \"Bar\",, \"Close\",$Q$4,O88,\"All\",,,,\"T\")=\"\",\"\",RTD(\"cqg.rtd\",,\"StudyData\", $P$4,  \"Bar\",, \"Close\",$Q$4,O88,\"All\",,,,\"T\")*100)","v":9.66},null,null,null,9.66]
[null,null,-84,{"$f":"IF(RTD(\"cqg.rtd\",,\"StudyData\", $D$4,  \"Bar\",, \"Close\",$E$4,C89,\"All\",,,,\"T\")=\"\",\"\",RTD(\"cqg.rtd\",,\"StudyData\", $D$4,  \"Bar\",, \"Close\",$E$4,C89,\"All\",,,,\"T\")*100)","v":10.050000000000001},null,null,null,10.050000000000001,null,null,null,null,null,null,-84,{"$f":"IF(RTD(\"cqg.rtd\",,\"StudyData\", $P$4,  \"Bar\",, \"Close\",$Q$4,O89,\"All\",,,,\"T\")=\"\",\"\",RTD(\"cqg.rtd\",,\"StudyData\", $P$4,  \"Bar\",, \"Close\",$Q$4,O89,\"All\",,,,\"T\")*100)","v":10.07},null,null,null,10.07]
[null,null,-85,{"$f":"IF(RTD(\"cqg.rtd\",,\"StudyData\", $D$4,  \"Bar\",, \"Close\",$E$4,C90,\"All\",,,,\"T\")=\"\",\"\",RTD(\"cqg.rtd\",,\"StudyData\", $D$4,  \"Bar\",, \"Close\",$E$4,C90,\"All\",,,,\"T\")*100)","v":9.86},null,null,null,9.86,null,null,null,null,null,null,-85,{"$f":"IF(RTD(\"cqg.rtd\",,\"StudyData\", $P$4,  \"Bar\",, \"Close\",$Q$4,O90,\"All\",,,,\"T\")=\"\",\"\",RTD(\"cqg.rtd\",,\"StudyData\", $P$4,  \"Bar\",, \"Close\",$Q$4,O90,\"All\",,,,\"T\")*100)","v":9.99},null,null,null,9.99]
[null,null,-86,{"$f":"IF(RTD(\"cqg.rtd\",,\"StudyData\", $D$4,  \"Bar\",, \"Close\",$E$4,C91,\"All\",,,,\"T\")=\"\",\"\",RTD(\"cqg.rtd\",,\"StudyData\", $D$4,  \"Bar\",, \"Close\",$E$4,C91,\"All\",,,,\"T\")*100)","v":9.85},null,null,null,9.85,null,null,null,null,null,null,-86,{"$f":"IF(RTD(\"cqg.rtd\",,\"StudyData\", $P$4,  \"Bar\",, \"Close\",$Q$4,O91,\"All\",,,,\"T\")=\"\",\"\",RTD(\"cqg.rtd\",,\"StudyData\", $P$4,  \"Bar\",, \"Close\",$Q$4,O91,\"All\",,,,\"T\")*100)","v":10.14},null,null,null,10.14]
[null,null,-87,{"$f":"IF(RTD(\"cqg.rtd\",,\"StudyData\", $D$4,  \"Bar\",, \"Close\",$E$4,C92,\"All\",,,,\"T\")=\"\",\"\",RTD(\"cqg.rtd\",,\"StudyData\", $D$4,  \"Bar\",, \"Close\",$E$4,C92,\"All\",,,,\"T\")*100)","v":10.299999999999999},null,null,null,10.299999999999999,null,null,null,null,null,null,-87,{"$f":"IF(RTD(\"cqg.rtd\",,\"StudyData\", $P$4,  \"Bar\",, \"Close\",$Q$4,O92,\"All\",,,,\"T\")=\"\",\"\",RTD(\"cqg.rtd\",,\"StudyData\", $P$4,  \"Bar\",, \"Close\",$Q$4,O92,\"All\",,,,\"T\")*100)","v":10.16},null,null,null,10.16]
[null,null,-88,{"$f":"IF(RTD(\"cqg.rtd\",,\"StudyData\", $D$4,  \"Bar\",, \"Close\",$E$4,C93,\"All\",,,,\"T\")=\"\",\"\",RTD(\"cqg.rtd\",,\"StudyData\", $D$4,  \"Bar\",, \"Close\",$E$4,C93,\"All\",,,,\"T\")*100)","v":10.36},null,null,null,10.36,null,null,null,null,null,null,-88,{"$f":"IF(RTD(\"cqg.rtd\",,\"StudyData\", $P$4,  \"Bar\",, \"Close\",$Q$4,O93,\"All\",,,,\"T\")=\"\",\"\",RTD(\"cqg.rtd\",,\"StudyData\", $P$4,  \"Bar\",, \"Close\",$Q$4,O93,\"All\",,,,\"T\")*100)","v":10.11},null,null,null,10.11]
[null,null,-89,{"$f":"IF(RTD(\"cqg.rtd\",,\"StudyData\", $D$4,  \"Bar\",, \"Close\",$E$4,C94,\"All\",,,,\"T\")=\"\",\"\",RTD(\"cqg.rtd\",,\"StudyData\", $D$4,  \"Bar\",, \"Close\",$E$4,C94,\"All\",,,,\"T\")*100)","v":9.91},null,null,null,9.91,null,null,null,null,null,null,-89,{"$f":"IF(RTD(\"cqg.rtd\",,\"StudyData\", $P$4,  \"Bar\",, \"Close\",$Q$4,O94,\"All\",,,,\"T\")=\"\",\"\",RTD(\"cqg.rtd\",,\"StudyData\", $P$4,  \"Bar\",, \"Close\",$Q$4,O94,\"All\",,,,\"T\")*100)","v":10},null,null,null,10]
[null,null,-90,{"$f":"IF(RTD(\"cqg.rtd\",,\"StudyData\", $D$4,  \"Bar\",, \"Close\",$E$4,C95,\"All\",,,,\"T\")=\"\",\"\",RTD(\"cqg.rtd\",,\"StudyData\", $D$4,  \"Bar\",, \"Close\",$E$4,C95,\"All\",,,,\"T\")*100)","v":8.81},null,null,null,8.81,null,null,null,null,null,null,-90,{"$f":"IF(RTD(\"cqg.rtd\",,\"StudyData\", $P$4,  \"Bar\",, \"Close\",$Q$4,O95,\"All\",,,,\"T\")=\"\",\"\",RTD(\"cqg.rtd\",,\"StudyData\", $P$4,  \"Bar\",, \"Close\",$Q$4,O95,\"All\",,,,\"T\")*100)","v":8.83},null,null,null,8.83]
[null,null,-91,{"$f":"IF(RTD(\"cqg.rtd\",,\"StudyData\", $D$4,  \"Bar\",, \"Close\",$E$4,C96,\"All\",,,,\"T\")=\"\",\"\",RTD(\"cqg.rtd\",,\"StudyData\", $D$4,  \"Bar\",, \"Close\",$E$4,C96,\"All\",,,,\"T\")*100)","v":8.6},null,null,null,8.6,null,null,null,null,null,null,-91,{"$f":"IF(RTD(\"cqg.rtd\",,\"StudyData\", $P$4,  \"Bar\",, \"Close\",$Q$4,O96,\"All\",,,,\"T\")=\"\",\"\",RTD(\"cqg.rtd\",,\"StudyData\", $P$4,  \"Bar\",, \"Close\",$Q$4,O96,\"All\",,,,\"T\")*100)","v":8.66},null,null,null,8.66]
[null,null,-92,{"$f":"IF(RTD(\"cqg.rtd\",,\"StudyData\", $D$4,  \"Bar\",, \"Close\",$E$4,C97,\"All\",,,,\"T\")=\"\",\"\",RTD(\"cqg.rtd\",,\"StudyData\", $D$4,  \"Bar\",, \"Close\",$E$4,C97,\"All\",,,,\"T\")*100)","v":8.2100000000000009},null,null,null,8.2100000000000009,null,null,null,null,null,null,-92,{"$f":"IF(RTD(\"cqg.rtd\",,\"StudyData\", $P$4,  \"Bar\",, \"Close\",$Q$4,O97,\"All\",,,,\"T\")=\"\",\"\",RTD(\"cqg.rtd\",,\"StudyData\", $P$4,  \"Bar\",, \"Close\",$Q$4,O97,\"All\",,,,\"T\")*100)","v":9.64},null,null,null,9.64]
[null,null,-93,{"$f":"IF(RTD(\"cqg.rtd\",,\"StudyData\", $D$4,  \"Bar\",, \"Close\",$E$4,C98,\"All\",,,,\"T\")=\"\",\"\",RTD(\"cqg.rtd\",,\"StudyData\", $D$4,  \"Bar\",, \"Close\",$E$4,C98,\"All\",,,,\"T\")*100)","v":8.5},null,null,null,8.5,null,null,null,null,null,null,-93,{"$f":"IF(RTD(\"cqg.rtd\",,\"StudyData\", $P$4,  \"Bar\",, \"Close\",$Q$4,O98,\"All\",,,,\"T\")=\"\",\"\",RTD(\"cqg.rtd\",,\"StudyData\", $P$4,  \"Bar\",, \"Close\",$Q$4,O98,\"All\",,,,\"T\")*100)","v":8.98},null,null,null,8.98]
[null,null,-94,{"$f":"IF(RTD(\"cqg.rtd\",,\"StudyData\", $D$4,  \"Bar\",, \"Close\",$E$4,C99,\"All\",,,,\"T\")=\"\",\"\",RTD(\"cqg.rtd\",,\"StudyData\", $D$4,  \"Bar\",, \"Close\",$E$4,C99,\"All\",,,,\"T\")*100)","v":7.41},null,null,null,7.41,null,null,null,null,null,null,-94,{"$f":"IF(RTD(\"cqg.rtd\",,\"StudyData\", $P$4,  \"Bar\",, \"Close\",$Q$4,O99,\"All\",,,,\"T\")=\"\",\"\",RTD(\"cqg.rtd\",,\"StudyData\", $P$4,  \"Bar\",, \"Close\",$Q$4,O99,\"All\",,,,\"T\")*100)","v":8.4},null,null,null,8.4]
[null,null,-95,{"$f":"IF(RTD(\"cqg.rtd\",,\"StudyData\", $D$4,  \"Bar\",, \"Close\",$E$4,C100,\"All\",,,,\"T\")=\"\",\"\",RTD(\"cqg.rtd\",,\"StudyData\", $D$4,  \"Bar\",, \"Close\",$E$4,C100,\"All\",,,,\"T\")*100)","v":8.3699999999999992},null,null,null,8.3699999999999992,null,null,null,null,null,null,-95,{"$f":"IF(RTD(\"cqg.rtd\",,\"StudyData\", $P$4,  \"Bar\",, \"Close\",$Q$4,O100,\"All\",,,,\"T\")=\"\",\"\",RTD(\"cqg.rtd\",,\"StudyData\", $P$4,  \"Bar\",, \"Close\",$Q$4,O100,\"All\",,,,\"T\")*100)","v":8.5299999999999994},null,null,null,8.5299999999999994]
[null,null,-96,{"$f":"IF(RTD(\"cqg.rtd\",,\"StudyData\", $D$4,  \"Bar\",, \"Close\",$E$4,C101,\"All\",,,,\"T\")=\"\",\"\",RTD(\"cqg.rtd\",,\"StudyData\", $D$4,  \"Bar\",, \"Close\",$E$4,C101,\"All\",,,,\"T\")*100)","v":8.17},null,null,null,8.17,null,null,null,null,null,null,-96,{"$f":"IF(RTD(\"cqg.rtd\",,\"StudyData\", $P$4,  \"Bar\",, \"Close\",$Q$4,O101,\"All\",,,,\"T\")=\"\",\"\",RTD(\"cqg.rtd\",,\"StudyData\", $P$4,  \"Bar\",, \"Close\",$Q$4,O101,\"All\",,,,\"T\")*100)","v":8.86},null,null,null,8.86]
[null,null,-97,{"$f":"IF(RTD(\"cqg.rtd\",,\"StudyData\", $D$4,  \"Bar\",, \"Close\",$E$4,C102,\"All\",,,,\"T\")=\"\",\"\",RTD(\"cqg.rtd\",,\"StudyData\", $D$4,  \"Bar\",, \"Close\",$E$4,C102,\"All\",,,,\"T\")*100)","v":8.89},null,null,null,8.89,null,null,null,null,null,null,-97,{"$f":"IF(RTD(\"cqg.rtd\",,\"StudyData\", $P$4,  \"Bar\",, \"Close\",$Q$4,O102,\"All\",,,,\"T\")=\"\",\"\",RTD(\"cqg.rtd\",,\"StudyData\", $P$4,  \"Bar\",, \"Close\",$Q$4,O102,\"All\",,,,\"T\")*100)","v":8.73},null,null,null,8.73]
[null,null,-98,{"$f":"IF(RTD(\"cqg.rtd\",,\"StudyData\", $D$4,  \"Bar\",, \"Close\",$E$4,C103,\"All\",,,,\"T\")=\"\",\"\",RTD(\"cqg.rtd\",,\"StudyData\", $D$4,  \"Bar\",, \"Close\",$E$4,C103,\"All\",,,,\"T\")*100)","v":8.66},null,null,null,8.66,null,null,null,null,null,null,-98,{"$f":"IF(RTD(\"cqg.rtd\",,\"StudyData\", $P$4,  \"Bar\",, \"Close\",$Q$4,O103,\"All\",,,,\"T\")=\"\",\"\",RTD(\"cqg.rtd\",,\"StudyData\", $P$4,  \"Bar\",, \"Close\",$Q$4,O103,\"All\",,,,\"T\")*100)","v":9.0499999999999989},null,null,null,9.0499999999999989]
[null,null,-99,{"$f":"IF(RTD(\"cqg.rtd\",,\"StudyData\", $D$4,  \"Bar\",, \"Close\",$E$4,C104,\"All\",,,,\"T\")=\"\",\"\",RTD(\"cqg.rtd\",,\"StudyData\", $D$4,  \"Bar\",, \"Close\",$E$4,C104,\"All\",,,,\"T\")*100)","v":9.7000000000000011},{"$f":" RTD(\"cqg.rtd\",,\"StudyData\", $D$4,  \"Bar\",, \"Time\",$E$4,C104,,,,,\"T\")","v":"2017-05-19"},null,null,9.7000000000000011,null,null,null,null,null,null,-99,{"$f":"IF(RTD(\"cqg.rtd\",,\"StudyData\", $P$4,  \"Bar\",, \"Close\",$Q$4,O104,\"All\",,,,\"T\")=\"\",\"\",RTD(\"cqg.rtd\",,\"StudyData\", $P$4,  \"Bar\",, \"Close\",$Q$4,O104,\"All\",,,,\"T\")*100)","v":9.73},{"$f":" RTD(\"cqg.rtd\",,\"StudyData\", $D$4,  \"Bar\",, \"Time\",$E$4,O104,,,,,\"T\")","v":"2017-05-19"},null,null,9.73]
[null,null,-100,{"$f":"IF(RTD(\"cqg.rtd\",,\"StudyData\", $D$4,  \"Bar\",, \"Close\",$E$4,C105,\"All\",,,,\"T\")=\"\",\"\",RTD(\"cqg.rtd\",,\"StudyData\", $D$4,  \"Bar\",, \"Close\",$E$4,C105,\"All\",,,,\"T\")*100)","v":11.16},null,null,null,11.16,null,null,null,null,null,null,-100,{"$f":"IF(RTD(\"cqg.rtd\",,\"StudyData\", $P$4,  \"Bar\",, \"Close\",$Q$4,O105,\"All\",,,,\"T\")=\"\",\"\",RTD(\"cqg.rtd\",,\"StudyData\", $P$4,  \"Bar\",, \"Close\",$Q$4,O105,\"All\",,,,\"T\")*100)","v":11.19},null,null,null,11.19]
[null,null,-101,{"$f":"IF(RTD(\"cqg.rtd\",,\"StudyData\", $D$4,  \"Bar\",, \"Close\",$E$4,C106,\"All\",,,,\"T\")=\"\",\"\",RTD(\"cqg.rtd\",,\"StudyData\", $D$4,  \"Bar\",, \"Close\",$E$4,C106,\"All\",,,,\"T\")*100)","v":12.08},null,null,null,12.08,null,null,null,null,null,null,-101,{"$f":"IF(RTD(\"cqg.rtd\",,\"StudyData\", $P$4,  \"Bar\",, \"Close\",$Q$4,O106,\"All\",,,,\"T\")=\"\",\"\",RTD(\"cqg.rtd\",,\"StudyData\", $P$4,  \"Bar\",, \"Close\",$Q$4,O106,\"All\",,,,\"T\")*100)","v":11.67},null,null,null,11.67]
[null,null,-102,{"$f":"IF(RTD(\"cqg.rtd\",,\"StudyData\", $D$4,  \"Bar\",, \"Close\",$E$4,C107,\"All\",,,,\"T\")=\"\",\"\",RTD(\"cqg.rtd\",,\"StudyData\", $D$4,  \"Bar\",, \"Close\",$E$4,C107,\"All\",,,,\"T\")*100)","v":8.5500000000000007},null,null,null,8.5500000000000007,null,null,null,null,null,null,-102,{"$f":"IF(RTD(\"cqg.rtd\",,\"StudyData\", $P$4,  \"Bar\",, \"Close\",$Q$4,O107,\"All\",,,,\"T\")=\"\",\"\",RTD(\"cqg.rtd\",,\"StudyData\", $P$4,  \"Bar\",, \"Close\",$Q$4,O107,\"All\",,,,\"T\")*100)","v":8.6999999999999993},null,null,null,8.6999999999999993]
[null,null,-103,{"$f":"IF(RTD(\"cqg.rtd\",,\"StudyData\", $D$4,  \"Bar\",, \"Close\",$E$4,C108,\"All\",,,,\"T\")=\"\",\"\",RTD(\"cqg.rtd\",,\"StudyData\", $D$4,  \"Bar\",, \"Close\",$E$4,C108,\"All\",,,,\"T\")*100)","v":8.36},null,null,null,8.36,null,null,null,null,null,null,-103,{"$f":"IF(RTD(\"cqg.rtd\",,\"StudyData\", $P$4,  \"Bar\",, \"Close\",$Q$4,O108,\"All\",,,,\"T\")=\"\",\"\",RTD(\"cqg.rtd\",,\"StudyData\", $P$4,  \"Bar\",, \"Close\",$Q$4,O108,\"All\",,,,\"T\")*100)","v":8.93},null,null,null,8.93]
[null,null,-104,{"$f":"IF(RTD(\"cqg.rtd\",,\"StudyData\", $D$4,  \"Bar\",, \"Close\",$E$4,C109,\"All\",,,,\"T\")=\"\",\"\",RTD(\"cqg.rtd\",,\"StudyData\", $D$4,  \"Bar\",, \"Close\",$E$4,C109,\"All\",,,,\"T\")*100)","v":9.120000000000001},null,null,null,9.120000000000001,null,null,null,null,null,null,-104,{"$f":"IF(RTD(\"cqg.rtd\",,\"StudyData\", $P$4,  \"Bar\",, \"Close\",$Q$4,O109,\"All\",,,,\"T\")=\"\",\"\",RTD(\"cqg.rtd\",,\"StudyData\", $P$4,  \"Bar\",, \"Close\",$Q$4,O109,\"All\",,,,\"T\")*100)","v":9.08},null,null,null,9.08]
[null,null,-105,{"$f":"IF(RTD(\"cqg.rtd\",,\"StudyData\", $D$4,  \"Bar\",, \"Close\",$E$4,C110,\"All\",,,,\"T\")=\"\",\"\",RTD(\"cqg.rtd\",,\"StudyData\", $D$4,  \"Bar\",, \"Close\",$E$4,C110,\"All\",,,,\"T\")*100)","v":8.85},null,null,null,8.85,null,null,null,null,null,null,-105,{"$f":"IF(RTD(\"cqg.rtd\",,\"StudyData\", $P$4,  \"Bar\",, \"Close\",$Q$4,O110,\"All\",,,,\"T\")=\"\",\"\",RTD(\"cqg.rtd\",,\"StudyData\", $P$4,  \"Bar\",, \"Close\",$Q$4,O110,\"All\",,,,\"T\")*100)","v":8.6499999999999986},null,null,null,8.6499999999999986]
[null,null,-106,{"$f":"IF(RTD(\"cqg.rtd\",,\"StudyData\", $D$4,  \"Bar\",, \"Close\",$E$4,C111,\"All\",,,,\"T\")=\"\",\"\",RTD(\"cqg.rtd\",,\"StudyData\", $D$4,  \"Bar\",, \"Close\",$E$4,C111,\"All\",,,,\"T\")*100)","v":8.5},null,null,null,8.5,null,null,null,null,null,null,-106,{"$f":"IF(RTD(\"cqg.rtd\",,\"StudyData\", $P$4,  \"Bar\",, \"Close\",$Q$4,O111,\"All\",,,,\"T\")=\"\",\"\",RTD(\"cqg.rtd\",,\"StudyData\", $P$4,  \"Bar\",, \"Close\",$Q$4,O111,\"All\",,,,\"T\")*100)","v":8.33},null,null,null,8.33]
[null,null,-107,{"$f":"IF(RTD(\"cqg.rtd\",,\"StudyData\", $D$4,  \"Bar\",, \"Close\",$E$4,C112,\"All\",,,,\"T\")=\"\",\"\",RTD(\"cqg.rtd\",,\"StudyData\", $D$4,  \"Bar\",, \"Close\",$E$4,C112,\"All\",,,,\"T\")*100)","v":8.42},null,null,null,8.42,null,null,null,null,null,null,-107,{"$f":"IF(RTD(\"cqg.rtd\",,\"StudyData\", $P$4,  \"Bar\",, \"Close\",$Q$4,O112,\"All\",,,,\"T\")=\"\",\"\",RTD(\"cqg.rtd\",,\"StudyData\", $P$4,  \"Bar\",, \"Close\",$Q$4,O112,\"All\",,,,\"T\")*100)","v":8.23},null,null,null,8.23]
[null,null,-108,{"$f":"IF(RTD(\"cqg.rtd\",,\"StudyData\", $D$4,  \"Bar\",, \"Close\",$E$4,C113,\"All\",,,,\"T\")=\"\",\"\",RTD(\"cqg.rtd\",,\"StudyData\", $D$4,  \"Bar\",, \"Close\",$E$4,C113,\"All\",,,,\"T\")*100)","v":8.15},null,null,null,8.15,null,null,null,null,null,null,-108,{"$f":"IF(RTD(\"cqg.rtd\",,\"StudyData\", $P$4,  \"Bar\",, \"Close\",$Q$4,O113,\"All\",,,,\"T\")=\"\",\"\",RTD(\"cqg.rtd\",,\"StudyData\", $P$4,  \"Bar\",, \"Close\",$Q$4,O113,\"All\",,,,\"T\")*100)","v":8.06},null,null,null,8.06]
[null,null,-109,{"$f":"IF(RTD(\"cqg.rtd\",,\"StudyData\", $D$4,  \"Bar\",, \"Close\",$E$4,C114,\"All\",,,,\"T\")=\"\",\"\",RTD(\"cqg.rtd\",,\"StudyData\", $D$4,  \"Bar\",, \"Close\",$E$4,C114,\"All\",,,,\"T\")*100)","v":8.68},null,null,null,8.68,null,null,null,null,null,null,-109,{"$f":"IF(RTD(\"cqg.rtd\",,\"StudyData\", $P$4,  \"Bar\",, \"Close\",$Q$4,O114,\"All\",,,,\"T\")=\"\",\"\",RTD(\"cqg.rtd\",,\"StudyData\", $P$4,  \"Bar\",, \"Close\",$Q$4,O114,\"All\",,,,\"T\")*100)","v":8.77},null,null,null,8.77]
[null,null,-110,{"$f":"IF(RTD(\"cqg.rtd\",,\"StudyData\", $D$4,  \"Bar\",, \"Close\",$E$4,C115,\"All\",,,,\"T\")=\"\",\"\",RTD(\"cqg.rtd\",,\"StudyData\", $D$4,  \"Bar\",, \"Close\",$E$4,C115,\"All\",,,,\"T\")*100)","v":8.61},null,null,null,8.61,null,null,null,null,null,null,-110,{"$f":"IF(RTD(\"cqg.rtd\",,\"StudyData\", $P$4,  \"Bar\",, \"Close\",$Q$4,O115,\"All\",,,,\"T\")=\"\",\"\",RTD(\"cqg.rtd\",,\"StudyData\", $P$4,  \"Bar\",, \"Close\",$Q$4,O115,\"All\",,,,\"T\")*100)","v":8.92},null,null,null,8.92]
[null,null,-111,{"$f":"IF(RTD(\"cqg.rtd\",,\"StudyData\", $D$4,  \"Bar\",, \"Close\",$E$4,C116,\"All\",,,,\"T\")=\"\",\"\",RTD(\"cqg.rtd\",,\"StudyData\", $D$4,  \"Bar\",, \"Close\",$E$4,C116,\"All\",,,,\"T\")*100)","v":9.09},null,null,null,9.09,null,null,null,null,null,null,-111,{"$f":"IF(RTD(\"cqg.rtd\",,\"StudyData\", $P$4,  \"Bar\",, \"Close\",$Q$4,O116,\"All\",,,,\"T\")=\"\",\"\",RTD(\"cqg.rtd\",,\"StudyData\", $P$4,  \"Bar\",, \"Close\",$Q$4,O116,\"All\",,,,\"T\")*100)","v":8.7900000000000009},null,null,null,8.7900000000000009]
[null,null,-112,{"$f":"IF(RTD(\"cqg.rtd\",,\"StudyData\", $D$4,  \"Bar\",, \"Close\",$E$4,C117,\"All\",,,,\"T\")=\"\",\"\",RTD(\"cqg.rtd\",,\"StudyData\", $D$4,  \"Bar\",, \"Close\",$E$4,C117,\"All\",,,,\"T\")*100)","v":8.93},null,null,null,8.93,null,null,null,null,null,null,-112,{"$f":"IF(RTD(\"cqg.rtd\",,\"StudyData\", $P$4,  \"Bar\",, \"Close\",$Q$4,O117,\"All\",,,,\"T\")=\"\",\"\",RTD(\"cqg.rtd\",,\"StudyData\", $P$4,  \"Bar\",, \"Close\",$Q$4,O117,\"All\",,,,\"T\")*100)","v":8.6199999999999992},null,null,null,8.6199999999999992]
[null,null,-113,{"$f":"IF(RTD(\"cqg.rtd\",,\"StudyData\", $D$4,  \"Bar\",, \"Close\",$E$4,C118,\"All\",,,,\"T\")=\"\",\"\",RTD(\"cqg.rtd\",,\"StudyData\", $D$4,  \"Bar\",, \"Close\",$E$4,C118,\"All\",,,,\"T\")*100)","v":8.58},null,null,null,8.58,null,null,null,null,null,null,-113,{"$f":"IF(RTD(\"cqg.rtd\",,\"StudyData\", $P$4,  \"Bar\",, \"Close\",$Q$4,O118,\"All\",,,,\"T\")=\"\",\"\",RTD(\"cqg.rtd\",,\"StudyData\", $P$4,  \"Bar\",, \"Close\",$Q$4,O118,\"All\",,,,\"T\")*100)","v":8.57},null,null,null,8.57]
[null,null,-114,{"$f":"IF(RTD(\"cqg.rtd\",,\"StudyData\", $D$4,  \"Bar\",, \"Close\",$E$4,C119,\"All\",,,,\"T\")=\"\",\"\",RTD(\"cqg.rtd\",,\"StudyData\", $D$4,  \"Bar\",, \"Close\",$E$4,C119,\"All\",,,,\"T\")*100)","v":8.83},null,null,null,8.83,null,null,null,null,null,null,-114,{"$f":"IF(RTD(\"cqg.rtd\",,\"StudyData\", $P$4,  \"Bar\",, \"Close\",$Q$4,O119,\"All\",,,,\"T\")=\"\",\"\",RTD(\"cqg.rtd\",,\"StudyData\", $P$4,  \"Bar\",, \"Close\",$Q$4,O119,\"All\",,,,\"T\")*100)","v":8.870000000000001},null,null,null,8.870000000000001]
[null,null,-115,{"$f":"IF(RTD(\"cqg.rtd\",,\"StudyData\", $D$4,  \"Bar\",, \"Close\",$E$4,C120,\"All\",,,,\"T\")=\"\",\"\",RTD(\"cqg.rtd\",,\"StudyData\", $D$4,  \"Bar\",, \"Close\",$E$4,C120,\"All\",,,,\"T\")*100)","v":8.6999999999999993},null,null,null,8.6999999999999993,null,null,null,null,null,null,-115,{"$f":"IF(RTD(\"cqg.rtd\",,\"StudyData\", $P$4,  \"Bar\",, \"Close\",$Q$4,O120,\"All\",,,,\"T\")=\"\",\"\",RTD(\"cqg.rtd\",,\"StudyData\", $P$4,  \"Bar\",, \"Close\",$Q$4,O120,\"All\",,,,\"T\")*100)","v":9},null,null,null,9]
[null,null,-116,{"$f":"IF(RTD(\"cqg.rtd\",,\"StudyData\", $D$4,  \"Bar\",, \"Close\",$E$4,C121,\"All\",,,,\"T\")=\"\",\"\",RTD(\"cqg.rtd\",,\"StudyData\", $D$4,  \"Bar\",, \"Close\",$E$4,C121,\"All\",,,,\"T\")*100)","v":9.1800000000000015},null,null,null,9.1800000000000015,null,null,null,null,null,null,-116,{"$f":"IF(RTD(\"cqg.rtd\",,\"StudyData\", $P$4,  \"Bar\",, \"Close\",$Q$4,O121,\"All\",,,,\"T\")=\"\",\"\",RTD(\"cqg.rtd\",,\"StudyData\", $P$4,  \"Bar\",, \"Close\",$Q$4,O121,\"All\",,,,\"T\")*100)","v":8.99},null,null,null,8.99]
[null,null,-117,{"$f":"IF(RTD(\"cqg.rtd\",,\"StudyData\", $D$4,  \"Bar\",, \"Close\",$E$4,C122,\"All\",,,,\"T\")=\"\",\"\",RTD(\"cqg.rtd\",,\"StudyData\", $D$4,  \"Bar\",, \"Close\",$E$4,C122,\"All\",,,,\"T\")*100)","v":9.1},null,null,null,9.1,null,null,null,null,null,null,-117,{"$f":"IF(RTD(\"cqg.rtd\",,\"StudyData\", $P$4,  \"Bar\",, \"Close\",$Q$4,O122,\"All\",,,,\"T\")=\"\",\"\",RTD(\"cqg.rtd\",,\"StudyData\", $P$4,  \"Bar\",, \"Close\",$Q$4,O122,\"All\",,,,\"T\")*100)","v":8.74},null,null,null,8.74]
[null,null,-118,{"$f":"IF(RTD(\"cqg.rtd\",,\"StudyData\", $D$4,  \"Bar\",, \"Close\",$E$4,C123,\"All\",,,,\"T\")=\"\",\"\",RTD(\"cqg.rtd\",,\"StudyData\", $D$4,  \"Bar\",, \"Close\",$E$4,C123,\"All\",,,,\"T\")*100)","v":8.99},null,null,null,8.99,null,null,null,null,null,null,-118,{"$f":"IF(RTD(\"cqg.rtd\",,\"StudyData\", $P$4,  \"Bar\",, \"Close\",$Q$4,O123,\"All\",,,,\"T\")=\"\",\"\",RTD(\"cqg.rtd\",,\"StudyData\", $P$4,  \"Bar\",, \"Close\",$Q$4,O123,\"All\",,,,\"T\")*100)","v":9},null,null,null,9]
[null,null,-119,{"$f":"IF(RTD(\"cqg.rtd\",,\"StudyData\", $D$4,  \"Bar\",, \"Close\",$E$4,C124,\"All\",,,,\"T\")=\"\",\"\",RTD(\"cqg.rtd\",,\"StudyData\", $D$4,  \"Bar\",, \"Close\",$E$4,C124,\"All\",,,,\"T\")*100)","v":11.23},null,null,null,11.23,null,null,null,null,null,null,-119,{"$f":"IF(RTD(\"cqg.rtd\",,\"StudyData\", $P$4,  \"Bar\",, \"Close\",$Q$4,O124,\"All\",,,,\"T\")=\"\",\"\",RTD(\"cqg.rtd\",,\"StudyData\", $P$4,  \"Bar\",, \"Close\",$Q$4,O124,\"All\",,,,\"T\")*100)","v":11.23},null,null,null,11.23]
[null,null,-120,{"$f":"IF(RTD(\"cqg.rtd\",,\"StudyData\", $D$4,  \"Bar\",, \"Close\",$E$4,C125,\"All\",,,,\"T\")=\"\",\"\",RTD(\"cqg.rtd\",,\"StudyData\", $D$4,  \"Bar\",, \"Close\",$E$4,C125,\"All\",,,,\"T\")*100)","v":10.95},null,null,null,10.95,null,null,null,null,null,null,-120,{"$f":"IF(RTD(\"cqg.rtd\",,\"StudyData\", $P$4,  \"Bar\",, \"Close\",$Q$4,O125,\"All\",,,,\"T\")=\"\",\"\",RTD(\"cqg.rtd\",,\"StudyData\", $P$4,  \"Bar\",, \"Close\",$Q$4,O125,\"All\",,,,\"T\")*100)","v":10.93},null,null,null,10.93]
[null,null,-121,{"$f":"IF(RTD(\"cqg.rtd\",,\"StudyData\", $D$4,  \"Bar\",, \"Close\",$E$4,C126,\"All\",,,,\"T\")=\"\",\"\",RTD(\"cqg.rtd\",,\"StudyData\", $D$4,  \"Bar\",, \"Close\",$E$4,C126,\"All\",,,,\"T\")*100)","v":11.87},null,null,null,11.87,null,null,null,null,null,null,-121,{"$f":"IF(RTD(\"cqg.rtd\",,\"StudyData\", $P$4,  \"Bar\",, \"Close\",$Q$4,O126,\"All\",,,,\"T\")=\"\",\"\",RTD(\"cqg.rtd\",,\"StudyData\", $P$4,  \"Bar\",, \"Close\",$Q$4,O126,\"All\",,,,\"T\")*100)","v":11.53},null,null,null,11.53]
[null,null,-122,{"$f":"IF(RTD(\"cqg.rtd\",,\"StudyData\", $D$4,  \"Bar\",, \"Close\",$E$4,C127,\"All\",,,,\"T\")=\"\",\"\",RTD(\"cqg.rtd\",,\"StudyData\", $D$4,  \"Bar\",, \"Close\",$E$4,C127,\"All\",,,,\"T\")*100)","v":11.14},null,null,null,11.14,null,null,null,null,null,null,-122,{"$f":"IF(RTD(\"cqg.rtd\",,\"StudyData\", $P$4,  \"Bar\",, \"Close\",$Q$4,O127,\"All\",,,,\"T\")=\"\",\"\",RTD(\"cqg.rtd\",,\"StudyData\", $P$4,  \"Bar\",, \"Close\",$Q$4,O127,\"All\",,,,\"T\")*100)","v":11.4},null,null,null,11.4]
[null,null,-123,{"$f":"IF(RTD(\"cqg.rtd\",,\"StudyData\", $D$4,  \"Bar\",, \"Close\",$E$4,C128,\"All\",,,,\"T\")=\"\",\"\",RTD(\"cqg.rtd\",,\"StudyData\", $D$4,  \"Bar\",, \"Close\",$E$4,C128,\"All\",,,,\"T\")*100)","v":11.1},null,null,null,11.1,null,null,null,null,null,null,-123,{"$f":"IF(RTD(\"cqg.rtd\",,\"StudyData\", $P$4,  \"Bar\",, \"Close\",$Q$4,O128,\"All\",,,,\"T\")=\"\",\"\",RTD(\"cqg.rtd\",,\"StudyData\", $P$4,  \"Bar\",, \"Close\",$Q$4,O128,\"All\",,,,\"T\")*100)","v":11.16},null,null,null,11.16]
[null,null,-124,{"$f":"IF(RTD(\"cqg.rtd\",,\"StudyData\", $D$4,  \"Bar\",, \"Close\",$E$4,C129,\"All\",,,,\"T\")=\"\",\"\",RTD(\"cqg.rtd\",,\"StudyData\", $D$4,  \"Bar\",, \"Close\",$E$4,C129,\"All\",,,,\"T\")*100)","v":12.22},null,null,null,12.22,null,null,null,null,null,null,-124,{"$f":"IF(RTD(\"cqg.rtd\",,\"StudyData\", $P$4,  \"Bar\",, \"Close\",$Q$4,O129,\"All\",,,,\"T\")=\"\",\"\",RTD(\"cqg.rtd\",,\"StudyData\", $P$4,  \"Bar\",, \"Close\",$Q$4,O129,\"All\",,,,\"T\")*100)","v":12.26},null,null,null,12.26]
[null,null,-125,{"$f":"IF(RTD(\"cqg.rtd\",,\"StudyData\", $D$4,  \"Bar\",, \"Close\",$E$4,C130,\"All\",,,,\"T\")=\"\",\"\",RTD(\"cqg.rtd\",,\"StudyData\", $D$4,  \"Bar\",, \"Close\",$E$4,C130,\"All\",,,,\"T\")*100)","v":12.1},null,null,null,12.1,null,null,null,null,null,null,-125,{"$f":"IF(RTD(\"cqg.rtd\",,\"StudyData\", $P$4,  \"Bar\",, \"Close\",$Q$4,O130,\"All\",,,,\"T\")=\"\",\"\",RTD(\"cqg.rtd\",,\"StudyData\", $P$4,  \"Bar\",, \"Close\",$Q$4,O130,\"All\",,,,\"T\")*100)","v":11.700000000000001},null,null,null,11.700000000000001]
[null,null,-126,{"$f":"IF(RTD(\"cqg.rtd\",,\"StudyData\", $D$4,  \"Bar\",, \"Close\",$E$4,C131,\"All\",,,,\"T\")=\"\",\"\",RTD(\"cqg.rtd\",,\"StudyData\", $D$4,  \"Bar\",, \"Close\",$E$4,C131,\"All\",,,,\"T\")*100)","v":11.48},null,null,null,11.48,null,null,null,null,null,null,-126,{"$f":"IF(RTD(\"cqg.rtd\",,\"StudyData\", $P$4,  \"Bar\",, \"Close\",$Q$4,O131,\"All\",,,,\"T\")=\"\",\"\",RTD(\"cqg.rtd\",,\"StudyData\", $P$4,  \"Bar\",, \"Close\",$Q$4,O131,\"All\",,,,\"T\")*100)","v":11.64},null,null,null,11.64]
[null,null,-127,{"$f":"IF(RTD(\"cqg.rtd\",,\"StudyData\", $D$4,  \"Bar\",, \"Close\",$E$4,C132,\"All\",,,,\"T\")=\"\",\"\",RTD(\"cqg.rtd\",,\"StudyData\", $D$4,  \"Bar\",, \"Close\",$E$4,C132,\"All\",,,,\"T\")*100)","v":10.85},null,null,null,10.85,null,null,null,null,null,null,-127,{"$f":"IF(RTD(\"cqg.rtd\",,\"StudyData\", $P$4,  \"Bar\",, \"Close\",$Q$4,O132,\"All\",,,,\"T\")=\"\",\"\",RTD(\"cqg.rtd\",,\"StudyData\", $P$4,  \"Bar\",, \"Close\",$Q$4,O132,\"All\",,,,\"T\")*100)","v":11.31},null,null,null,11.31]
[null,null,-128,{"$f":"IF(RTD(\"cqg.rtd\",,\"StudyData\", $D$4,  \"Bar\",, \"Close\",$E$4,C133,\"All\",,,,\"T\")=\"\",\"\",RTD(\"cqg.rtd\",,\"StudyData\", $D$4,  \"Bar\",, \"Close\",$E$4,C133,\"All\",,,,\"T\")*100)","v":10.75},null,null,null,10.75,null,null,null,null,null,null,-128,{"$f":"IF(RTD(\"cqg.rtd\",,\"StudyData\", $P$4,  \"Bar\",, \"Close\",$Q$4,O133,\"All\",,,,\"T\")=\"\",\"\",RTD(\"cqg.rtd\",,\"StudyData\", $P$4,  \"Bar\",, \"Close\",$Q$4,O133,\"All\",,,,\"T\")*100)","v":10.76},null,null,null,10.76]
[null,null,-129,{"$f":"IF(RTD(\"cqg.rtd\",,\"StudyData\", $D$4,  \"Bar\",, \"Close\",$E$4,C134,\"All\",,,,\"T\")=\"\",\"\",RTD(\"cqg.rtd\",,\"StudyData\", $D$4,  \"Bar\",, \"Close\",$E$4,C134,\"All\",,,,\"T\")*100)","v":10.25},null,null,null,{"$f":"D134","v":10.25},null,null,null,null,null,null,-129,{"$f":"IF(RTD(\"cqg.rtd\",,\"StudyData\", $P$4,  \"Bar\",, \"Close\",$Q$4,O134,\"All\",,,,\"T\")=\"\",\"\",RTD(\"cqg.rtd\",,\"StudyData\", $P$4,  \"Bar\",, \"Close\",$Q$4,O134,\"All\",,,,\"T\")*100)","v":10.639999999999999},null,null,null,{"$f":"P134","v":10.639999999999999}]
[null,null,{"$f":"C134-1","v":-130},{"$f":"IF(RTD(\"cqg.rtd\",,\"StudyData\", $D$4,  \"Bar\",, \"Close\",$E$4,C135,\"All\",,,,\"T\")=\"\",\"\",RTD(\"cqg.rtd\",,\"StudyData\", $D$4,  \"Bar\",, \"Close\",$E$4,C135,\"All\",,,,\"T\")*100)","v":10.979999999999999},null,null,null,10.979999999999999,null,null,null,null,null,null,{"$f":"O134-1","v":-130},{"$f":"IF(RTD(\"cqg.rtd\",,\"StudyData\", $P$4,  \"Bar\",, \"Close\",$Q$4,O135,\"All\",,,,\"T\")=\"\",\"\",RTD(\"cqg.rtd\",,\"StudyData\", $P$4,  \"Bar\",, \"Close\",$Q$4,O135,\"All\",,,,\"T\")*100)","v":10.72},null,null,null,10.72]
[null,null,-131,{"$f":"IF(RTD(\"cqg.rtd\",,\"StudyData\", $D$4,  \"Bar\",, \"Close\",$E$4,C136,\"All\",,,,\"T\")=\"\",\"\",RTD(\"cqg.rtd\",,\"StudyData\", $D$4,  \"Bar\",, \"Close\",$E$4,C136,\"All\",,,,\"T\")*100)","v":9.9},null,null,null,9.9,null,null,null,null,null,null,-131,{"$f":"IF(RTD(\"cqg.rtd\",,\"StudyData\", $P$4,  \"Bar\",, \"Close\",$Q$4,O136,\"All\",,,,\"T\")=\"\",\"\",RTD(\"cqg.rtd\",,\"StudyData\", $P$4,  \"Bar\",, \"Close\",$Q$4,O136,\"All\",,,,\"T\")*100)","v":10.39},null,null,null,10.39]
[null,null,-132,{"$f":"IF(RTD(\"cqg.rtd\",,\"StudyData\", $D$4,  \"Bar\",, \"Close\",$E$4,C137,\"All\",,,,\"T\")=\"\",\"\",RTD(\"cqg.rtd\",,\"StudyData\", $D$4,  \"Bar\",, \"Close\",$E$4,C137,\"All\",,,,\"T\")*100)","v":10.69},null,null,null,10.69,null,null,null,null,null,null,-132,{"$f":"IF(RTD(\"cqg.rtd\",,\"StudyData\", $P$4,  \"Bar\",, \"Close\",$Q$4,O137,\"All\",,,,\"T\")=\"\",\"\",RTD(\"cqg.rtd\",,\"StudyData\", $P$4,  \"Bar\",, \"Close\",$Q$4,O137,\"All\",,,,\"T\")*100)","v":10.31},null,null,null,10.31]
[null,null,-133,{"$f":"IF(RTD(\"cqg.rtd\",,\"StudyData\", $D$4,  \"Bar\",, \"Close\",$E$4,C138,\"All\",,,,\"T\")=\"\",\"\",RTD(\"cqg.rtd\",,\"StudyData\", $D$4,  \"Bar\",, \"Close\",$E$4,C138,\"All\",,,,\"T\")*100)","v":10.489999999999998},null,null,null,10.489999999999998,null,null,null,null,null,null,-133,{"$f":"IF(RTD(\"cqg.rtd\",,\"StudyData\", $P$4,  \"Bar\",, \"Close\",$Q$4,O138,\"All\",,,,\"T\")=\"\",\"\",RTD(\"cqg.rtd\",,\"StudyData\", $P$4,  \"Bar\",, \"Close\",$Q$4,O138,\"All\",,,,\"T\")*100)","v":10.489999999999998},null,null,null,10.489999999999998]
[null,null,-134,{"$f":"IF(RTD(\"cqg.rtd\",,\"StudyData\", $D$4,  \"Bar\",, \"Close\",$E$4,C139,\"All\",,,,\"T\")=\"\",\"\",RTD(\"cqg.rtd\",,\"StudyData\", $D$4,  \"Bar\",, \"Close\",$E$4,C139,\"All\",,,,\"T\")*100)","v":10.18},null,null,null,10.18,null,null,null,null,null,null,-134,{"$f":"IF(RTD(\"cqg.rtd\",,\"StudyData\", $P$4,  \"Bar\",, \"Close\",$Q$4,O139,\"All\",,,,\"T\")=\"\",\"\",RTD(\"cqg.rtd\",,\"StudyData\", $P$4,  \"Bar\",, \"Close\",$Q$4,O139,\"All\",,,,\"T\")*100)","v":10.32},null,null,null,10.32]
[null,null,-135,{"$f":"IF(RTD(\"cqg.rtd\",,\"StudyData\", $D$4,  \"Bar\",, \"Close\",$E$4,C140,\"All\",,,,\"T\")=\"\",\"\",RTD(\"cqg.rtd\",,\"StudyData\", $D$4,  \"Bar\",, \"Close\",$E$4,C140,\"All\",,,,\"T\")*100)","v":10.42},null,null,null,10.42,null,null,null,null,null,null,-135,{"$f":"IF(RTD(\"cqg.rtd\",,\"StudyData\", $P$4,  \"Bar\",, \"Close\",$Q$4,O140,\"All\",,,,\"T\")=\"\",\"\",RTD(\"cqg.rtd\",,\"StudyData\", $P$4,  \"Bar\",, \"Close\",$Q$4,O140,\"All\",,,,\"T\")*100)","v":10.36},null,null,null,10.36]
[null,null,-136,{"$f":"IF(RTD(\"cqg.rtd\",,\"StudyData\", $D$4,  \"Bar\",, \"Close\",$E$4,C141,\"All\",,,,\"T\")=\"\",\"\",RTD(\"cqg.rtd\",,\"StudyData\", $D$4,  \"Bar\",, \"Close\",$E$4,C141,\"All\",,,,\"T\")*100)","v":10.45},null,null,null,10.45,null,null,null,null,null,null,-136,{"$f":"IF(RTD(\"cqg.rtd\",,\"StudyData\", $P$4,  \"Bar\",, \"Close\",$Q$4,O141,\"All\",,,,\"T\")=\"\",\"\",RTD(\"cqg.rtd\",,\"StudyData\", $P$4,  \"Bar\",, \"Close\",$Q$4,O141,\"All\",,,,\"T\")*100)","v":10.61},null,null,null,10.61]
[null,null,-137,{"$f":"IF(RTD(\"cqg.rtd\",,\"StudyData\", $D$4,  \"Bar\",, \"Close\",$E$4,C142,\"All\",,,,\"T\")=\"\",\"\",RTD(\"cqg.rtd\",,\"StudyData\", $D$4,  \"Bar\",, \"Close\",$E$4,C142,\"All\",,,,\"T\")*100)","v":10.84},null,null,null,10.84,null,null,null,null,null,null,-137,{"$f":"IF(RTD(\"cqg.rtd\",,\"StudyData\", $P$4,  \"Bar\",, \"Close\",$Q$4,O142,\"All\",,,,\"T\")=\"\",\"\",RTD(\"cqg.rtd\",,\"StudyData\", $P$4,  \"Bar\",, \"Close\",$Q$4,O142,\"All\",,,,\"T\")*100)","v":11.200000000000001},null,null,null,11.200000000000001]
[null,null,-138,{"$f":"IF(RTD(\"cqg.rtd\",,\"StudyData\", $D$4,  \"Bar\",, \"Close\",$E$4,C143,\"All\",,,,\"T\")=\"\",\"\",RTD(\"cqg.rtd\",,\"StudyData\", $D$4,  \"Bar\",, \"Close\",$E$4,C143,\"All\",,,,\"T\")*100)","v":11.469999999999999},null,null,null,11.469999999999999,null,null,null,null,null,null,-138,{"$f":"IF(RTD(\"cqg.rtd\",,\"StudyData\", $P$4,  \"Bar\",, \"Close\",$Q$4,O143,\"All\",,,,\"T\")=\"\",\"\",RTD(\"cqg.rtd\",,\"StudyData\", $P$4,  \"Bar\",, \"Close\",$Q$4,O143,\"All\",,,,\"T\")*100)","v":11.51},null,null,null,11.51]
[null,null,-139,{"$f":"IF(RTD(\"cqg.rtd\",,\"StudyData\", $D$4,  \"Bar\",, \"Close\",$E$4,C144,\"All\",,,,\"T\")=\"\",\"\",RTD(\"cqg.rtd\",,\"StudyData\", $D$4,  \"Bar\",, \"Close\",$E$4,C144,\"All\",,,,\"T\")*100)","v":11.600000000000001},null,null,null,11.600000000000001,null,null,null,null,null,null,-139,{"$f":"IF(RTD(\"cqg.rtd\",,\"StudyData\", $P$4,  \"Bar\",, \"Close\",$Q$4,O144,\"All\",,,,\"T\")=\"\",\"\",RTD(\"cqg.rtd\",,\"StudyData\", $P$4,  \"Bar\",, \"Close\",$Q$4,O144,\"All\",,,,\"T\")*100)","v":11.88},null,null,null,11.88]
[null,null,-140,{"$f":"IF(RTD(\"cqg.rtd\",,\"StudyData\", $D$4,  \"Bar\",, \"Close\",$E$4,C145,\"All\",,,,\"T\")=\"\",\"\",RTD(\"cqg.rtd\",,\"StudyData\", $D$4,  \"Bar\",, \"Close\",$E$4,C145,\"All\",,,,\"T\")*100)","v":11.540000000000001},null,null,null,11.540000000000001,null,null,null,null,null,null,-140,{"$f":"IF(RTD(\"cqg.rtd\",,\"StudyData\", $P$4,  \"Bar\",, \"Close\",$Q$4,O145,\"All\",,,,\"T\")=\"\",\"\",RTD(\"cqg.rtd\",,\"StudyData\", $P$4,  \"Bar\",, \"Close\",$Q$4,O145,\"All\",,,,\"T\")*100)","v":11.469999999999999},null,null,null,11.469999999999999]
[null,null,-141,{"$f":"IF(RTD(\"cqg.rtd\",,\"StudyData\", $D$4,  \"Bar\",, \"Close\",$E$4,C146,\"All\",,,,\"T\")=\"\",\"\",RTD(\"cqg.rtd\",,\"StudyData\", $D$4,  \"Bar\",, \"Close\",$E$4,C146,\"All\",,,,\"T\")*100)","v":11.600000000000001},null,null,null,11.600000000000001,null,null,null,null,null,null,-141,{"$f":"IF(RTD(\"cqg.rtd\",,\"StudyData\", $P$4,  \"Bar\",, \"Close\",$Q$4,O146,\"All\",,,,\"T\")=\"\",\"\",RTD(\"cqg.rtd\",,\"StudyData\", $P$4,  \"Bar\",, \"Close\",$Q$4,O146,\"All\",,,,\"T\")*100)","v":11.33},null,null,null,11.33]
[null,null,-142,{"$f":"IF(RTD(\"cqg.rtd\",,\"StudyData\", $D$4,  \"Bar\",, \"Close\",$E$4,C147,\"All\",,,,\"T\")=\"\",\"\",RTD(\"cqg.rtd\",,\"StudyData\", $D$4,  \"Bar\",, \"Close\",$E$4,C147,\"All\",,,,\"T\")*100)","v":10.85},null,null,null,10.85,null,null,null,null,null,null,-142,{"$f":"IF(RTD(\"cqg.rtd\",,\"StudyData\", $P$4,  \"Bar\",, \"Close\",$Q$4,O147,\"All\",,,,\"T\")=\"\",\"\",RTD(\"cqg.rtd\",,\"StudyData\", $P$4,  \"Bar\",, \"Close\",$Q$4,O147,\"All\",,,,\"T\")*100)","v":10.69},null,null,null,10.69]
[null,null,-143,{"$f":"IF(RTD(\"cqg.rtd\",,\"StudyData\", $D$4,  \"Bar\",, \"Close\",$E$4,C148,\"All\",,,,\"T\")=\"\",\"\",RTD(\"cqg.rtd\",,\"StudyData\", $D$4,  \"Bar\",, \"Close\",$E$4,C148,\"All\",,,,\"T\")*100)","v":10.870000000000001},null,null,null,10.870000000000001,null,null,null,null,null,null,-143,{"$f":"IF(RTD(\"cqg.rtd\",,\"StudyData\", $P$4,  \"Bar\",, \"Close\",$Q$4,O148,\"All\",,,,\"T\")=\"\",\"\",RTD(\"cqg.rtd\",,\"StudyData\", $P$4,  \"Bar\",, \"Close\",$Q$4,O148,\"All\",,,,\"T\")*100)","v":10.89},null,null,null,10.89]
[null,null,-144,{"$f":"IF(RTD(\"cqg.rtd\",,\"StudyData\", $D$4,  \"Bar\",, \"Close\",$E$4,C149,\"All\",,,,\"T\")=\"\",\"\",RTD(\"cqg.rtd\",,\"StudyData\", $D$4,  \"Bar\",, \"Close\",$E$4,C149,\"All\",,,,\"T\")*100)","v":10.82},null,null,null,10.82,null,null,null,null,null,null,-144,{"$f":"IF(RTD(\"cqg.rtd\",,\"StudyData\", $P$4,  \"Bar\",, \"Close\",$Q$4,O149,\"All\",,,,\"T\")=\"\",\"\",RTD(\"cqg.rtd\",,\"StudyData\", $P$4,  \"Bar\",, \"Close\",$Q$4,O149,\"All\",,,,\"T\")*100)","v":10.9},null,null,null,10.9]
[null,null,-145,{"$f":"IF(RTD(\"cqg.rtd\",,\"StudyData\", $D$4,  \"Bar\",, \"Close\",$E$4,C150,\"All\",,,,\"T\")=\"\",\"\",RTD(\"cqg.rtd\",,\"StudyData\", $D$4,  \"Bar\",, \"Close\",$E$4,C150,\"All\",,,,\"T\")*100)","v":11.469999999999999},null,null,null,11.469999999999999,null,null,null,null,null,null,-145,{"$f":"IF(RTD(\"cqg.rtd\",,\"StudyData\", $P$4,  \"Bar\",, \"Close\",$Q$4,O150,\"All\",,,,\"T\")=\"\",\"\",RTD(\"cqg.rtd\",,\"StudyData\", $P$4,  \"Bar\",, \"Close\",$Q$4,O150,\"All\",,,,\"T\")*100)","v":11.18},null,null,null,11.18]
[null,null,-146,{"$f":"IF(RTD(\"cqg.rtd\",,\"StudyData\", $D$4,  \"Bar\",, \"Close\",$E$4,C151,\"All\",,,,\"T\")=\"\",\"\",RTD(\"cqg.rtd\",,\"StudyData\", $D$4,  \"Bar\",, \"Close\",$E$4,C151,\"All\",,,,\"T\")*100)","v":11.700000000000001},null,null,null,11.700000000000001,null,null,null,null,null,null,-146,{"$f":"IF(RTD(\"cqg.rtd\",,\"StudyData\", $P$4,  \"Bar\",, \"Close\",$Q$4,O151,\"All\",,,,\"T\")=\"\",\"\",RTD(\"cqg.rtd\",,\"StudyData\", $P$4,  \"Bar\",, \"Close\",$Q$4,O151,\"All\",,,,\"T\")*100)","v":11.78},null,null,null,11.78]
[null,null,-147,{"$f":"IF(RTD(\"cqg.rtd\",,\"StudyData\", $D$4,  \"Bar\",, \"Close\",$E$4,C152,\"All\",,,,\"T\")=\"\",\"\",RTD(\"cqg.rtd\",,\"StudyData\", $D$4,  \"Bar\",, \"Close\",$E$4,C152,\"All\",,,,\"T\")*100)","v":11.58},null,null,null,11.58,null,null,null,null,null,null,-147,{"$f":"IF(RTD(\"cqg.rtd\",,\"StudyData\", $P$4,  \"Bar\",, \"Close\",$Q$4,O152,\"All\",,,,\"T\")=\"\",\"\",RTD(\"cqg.rtd\",,\"StudyData\", $P$4,  \"Bar\",, \"Close\",$Q$4,O152,\"All\",,,,\"T\")*100)","v":11.469999999999999},null,null,null,11.469999999999999]
[null,null,-148,{"$f":"IF(RTD(\"cqg.rtd\",,\"StudyData\", $D$4,  \"Bar\",, \"Close\",$E$4,C153,\"All\",,,,\"T\")=\"\",\"\",RTD(\"cqg.rtd\",,\"StudyData\", $D$4,  \"Bar\",, \"Close\",$E$4,C153,\"All\",,,,\"T\")*100)","v":11.67},null,null,null,11.67,null,null,null,null,null,null,-148,{"$f":"IF(RTD(\"cqg.rtd\",,\"StudyData\", $P$4,  \"Bar\",, \"Close\",$Q$4,O153,\"All\",,,,\"T\")=\"\",\"\",RTD(\"cqg.rtd\",,\"StudyData\", $P$4,  \"Bar\",, \"Close\",$Q$4,O153,\"All\",,,,\"T\")*100)","v":11.690000000000001},null,null,null,11.690000000000001]
[null,null,-149,{"$f":"IF(RTD(\"cqg.rtd\",,\"StudyData\", $D$4,  \"Bar\",, \"Close\",$E$4,C154,\"All\",,,,\"T\")=\"\",\"\",RTD(\"cqg.rtd\",,\"StudyData\", $D$4,  \"Bar\",, \"Close\",$E$4,C154,\"All\",,,,\"T\")*100)","v":11.88},null,null,null,11.88,null,null,null,null,null,null,-149,{"$f":"IF(RTD(\"cqg.rtd\",,\"StudyData\", $P$4,  \"Bar\",, \"Close\",$Q$4,O154,\"All\",,,,\"T\")=\"\",\"\",RTD(\"cqg.rtd\",,\"StudyData\", $P$4,  \"Bar\",, \"Close\",$Q$4,O154,\"All\",,,,\"T\")*100)","v":12.139999999999999},null,null,null,12.139999999999999]
[null,null,-150,{"$f":"IF(RTD(\"cqg.rtd\",,\"StudyData\", $D$4,  \"Bar\",, \"Close\",$E$4,C155,\"All\",,,,\"T\")=\"\",\"\",RTD(\"cqg.rtd\",,\"StudyData\", $D$4,  \"Bar\",, \"Close\",$E$4,C155,\"All\",,,,\"T\")*100)","v":11.98},null,null,null,11.98,null,null,null,null,null,null,-150,{"$f":"IF(RTD(\"cqg.rtd\",,\"StudyData\", $P$4,  \"Bar\",, \"Close\",$Q$4,O155,\"All\",,,,\"T\")=\"\",\"\",RTD(\"cqg.rtd\",,\"StudyData\", $P$4,  \"Bar\",, \"Close\",$Q$4,O155,\"All\",,,,\"T\")*100)","v":11.83},null,null,null,11.83]
[null,null,-151,{"$f":"IF(RTD(\"cqg.rtd\",,\"StudyData\", $D$4,  \"Bar\",, \"Close\",$E$4,C156,\"All\",,,,\"T\")=\"\",\"\",RTD(\"cqg.rtd\",,\"StudyData\", $D$4,  \"Bar\",, \"Close\",$E$4,C156,\"All\",,,,\"T\")*100)","v":11.899999999999999},null,null,null,11.899999999999999,null,null,null,null,null,null,-151,{"$f":"IF(RTD(\"cqg.rtd\",,\"StudyData\", $P$4,  \"Bar\",, \"Close\",$Q$4,O156,\"All\",,,,\"T\")=\"\",\"\",RTD(\"cqg.rtd\",,\"StudyData\", $P$4,  \"Bar\",, \"Close\",$Q$4,O156,\"All\",,,,\"T\")*100)","v":11.78},null,null,null,11.78]
[null,null,-152,{"$f":"IF(RTD(\"cqg.rtd\",,\"StudyData\", $D$4,  \"Bar\",, \"Close\",$E$4,C157,\"All\",,,,\"T\")=\"\",\"\",RTD(\"cqg.rtd\",,\"StudyData\", $D$4,  \"Bar\",, \"Close\",$E$4,C157,\"All\",,,,\"T\")*100)","v":12.370000000000001},null,null,null,12.370000000000001,null,null,null,null,null,null,-152,{"$f":"IF(RTD(\"cqg.rtd\",,\"StudyData\", $P$4,  \"Bar\",, \"Close\",$Q$4,O157,\"All\",,,,\"T\")=\"\",\"\",RTD(\"cqg.rtd\",,\"StudyData\", $P$4,  \"Bar\",, \"Close\",$Q$4,O157,\"All\",,,,\"T\")*100)","v":11.44},null,null,null,11.44]
[null,null,-153,{"$f":"IF(RTD(\"cqg.rtd\",,\"StudyData\", $D$4,  \"Bar\",, \"Close\",$E$4,C158,\"All\",,,,\"T\")=\"\",\"\",RTD(\"cqg.rtd\",,\"StudyData\", $D$4,  \"Bar\",, \"Close\",$E$4,C158,\"All\",,,,\"T\")*100)","v":9.9},null,null,null,9.9,null,null,null,null,null,null,-153,{"$f":"IF(RTD(\"cqg.rtd\",,\"StudyData\", $P$4,  \"Bar\",, \"Close\",$Q$4,O158,\"All\",,,,\"T\")=\"\",\"\",RTD(\"cqg.rtd\",,\"StudyData\", $P$4,  \"Bar\",, \"Close\",$Q$4,O158,\"All\",,,,\"T\")*100)","v":9.74},null,null,null,9.74]
[null,null,-154,{"$f":"IF(RTD(\"cqg.rtd\",,\"StudyData\", $D$4,  \"Bar\",, \"Close\",$E$4,C159,\"All\",,,,\"T\")=\"\",\"\",RTD(\"cqg.rtd\",,\"StudyData\", $D$4,  \"Bar\",, \"Close\",$E$4,C159,\"All\",,,,\"T\")*100)","v":10.73},null,null,null,10.73,null,null,null,null,null,null,-154,{"$f":"IF(RTD(\"cqg.rtd\",,\"StudyData\", $P$4,  \"Bar\",, \"Close\",$Q$4,O159,\"All\",,,,\"T\")=\"\",\"\",RTD(\"cqg.rtd\",,\"StudyData\", $P$4,  \"Bar\",, \"Close\",$Q$4,O159,\"All\",,,,\"T\")*100)","v":10.34},null,null,null,10.34]
[null,null,-155,{"$f":"IF(RTD(\"cqg.rtd\",,\"StudyData\", $D$4,  \"Bar\",, \"Close\",$E$4,C160,\"All\",,,,\"T\")=\"\",\"\",RTD(\"cqg.rtd\",,\"StudyData\", $D$4,  \"Bar\",, \"Close\",$E$4,C160,\"All\",,,,\"T\")*100)","v":11.14},null,null,null,11.14,null,null,null,null,null,null,-155,{"$f":"IF(RTD(\"cqg.rtd\",,\"StudyData\", $P$4,  \"Bar\",, \"Close\",$Q$4,O160,\"All\",,,,\"T\")=\"\",\"\",RTD(\"cqg.rtd\",,\"StudyData\", $P$4,  \"Bar\",, \"Close\",$Q$4,O160,\"All\",,,,\"T\")*100)","v":10.72},null,null,null,10.72]
[null,null,-156,{"$f":"IF(RTD(\"cqg.rtd\",,\"StudyData\", $D$4,  \"Bar\",, \"Close\",$E$4,C161,\"All\",,,,\"T\")=\"\",\"\",RTD(\"cqg.rtd\",,\"StudyData\", $D$4,  \"Bar\",, \"Close\",$E$4,C161,\"All\",,,,\"T\")*100)","v":10.780000000000001},null,null,null,10.780000000000001,null,null,null,null,null,null,-156,{"$f":"IF(RTD(\"cqg.rtd\",,\"StudyData\", $P$4,  \"Bar\",, \"Close\",$Q$4,O161,\"All\",,,,\"T\")=\"\",\"\",RTD(\"cqg.rtd\",,\"StudyData\", $P$4,  \"Bar\",, \"Close\",$Q$4,O161,\"All\",,,,\"T\")*100)","v":11.690000000000001},null,null,null,11.690000000000001]
[null,null,-157,{"$f":"IF(RTD(\"cqg.rtd\",,\"StudyData\", $D$4,  \"Bar\",, \"Close\",$E$4,C162,\"All\",,,,\"T\")=\"\",\"\",RTD(\"cqg.rtd\",,\"StudyData\", $D$4,  \"Bar\",, \"Close\",$E$4,C162,\"All\",,,,\"T\")*100)","v":11.01},null,null,null,11.01,null,null,null,null,null,null,-157,{"$f":"IF(RTD(\"cqg.rtd\",,\"StudyData\", $P$4,  \"Bar\",, \"Close\",$Q$4,O162,\"All\",,,,\"T\")=\"\",\"\",RTD(\"cqg.rtd\",,\"StudyData\", $P$4,  \"Bar\",, \"Close\",$Q$4,O162,\"All\",,,,\"T\")*100)","v":10.07},null,null,null,10.07]
[null,null,-158,{"$f":"IF(RTD(\"cqg.rtd\",,\"StudyData\", $D$4,  \"Bar\",, \"Close\",$E$4,C163,\"All\",,,,\"T\")=\"\",\"\",RTD(\"cqg.rtd\",,\"StudyData\", $D$4,  \"Bar\",, \"Close\",$E$4,C163,\"All\",,,,\"T\")*100)","v":8.84},null,null,null,8.84,null,null,null,null,null,null,-158,{"$f":"IF(RTD(\"cqg.rtd\",,\"StudyData\", $P$4,  \"Bar\",, \"Close\",$Q$4,O163,\"All\",,,,\"T\")=\"\",\"\",RTD(\"cqg.rtd\",,\"StudyData\", $P$4,  \"Bar\",, \"Close\",$Q$4,O163,\"All\",,,,\"T\")*100)","v":10.119999999999999},null,null,null,10.119999999999999]
[null,null,-159,{"$f":"IF(RTD(\"cqg.rtd\",,\"StudyData\", $D$4,  \"Bar\",, \"Close\",$E$4,C164,\"All\",,,,\"T\")=\"\",\"\",RTD(\"cqg.rtd\",,\"StudyData\", $D$4,  \"Bar\",, \"Close\",$E$4,C164,\"All\",,,,\"T\")*100)","v":10.209999999999999},null,null,null,10.209999999999999,null,null,null,null,null,null,-159,{"$f":"IF(RTD(\"cqg.rtd\",,\"StudyData\", $P$4,  \"Bar\",, \"Close\",$Q$4,O164,\"All\",,,,\"T\")=\"\",\"\",RTD(\"cqg.rtd\",,\"StudyData\", $P$4,  \"Bar\",, \"Close\",$Q$4,O164,\"All\",,,,\"T\")*100)","v":10.17},null,null,null,10.17]
[null,null,-160,{"$f":"IF(RTD(\"cqg.rtd\",,\"StudyData\", $D$4,  \"Bar\",, \"Close\",$E$4,C165,\"All\",,,,\"T\")=\"\",\"\",RTD(\"cqg.rtd\",,\"StudyData\", $D$4,  \"Bar\",, \"Close\",$E$4,C165,\"All\",,,,\"T\")*100)","v":9.77},null,null,null,9.77,null,null,null,null,null,null,-160,{"$f":"IF(RTD(\"cqg.rtd\",,\"StudyData\", $P$4,  \"Bar\",, \"Close\",$Q$4,O165,\"All\",,,,\"T\")=\"\",\"\",RTD(\"cqg.rtd\",,\"StudyData\", $P$4,  \"Bar\",, \"Close\",$Q$4,O165,\"All\",,,,\"T\")*100)","v":10.280000000000001},null,null,null,10.280000000000001]
[null,null,-161,{"$f":"IF(RTD(\"cqg.rtd\",,\"StudyData\", $D$4,  \"Bar\",, \"Close\",$E$4,C166,\"All\",,,,\"T\")=\"\",\"\",RTD(\"cqg.rtd\",,\"StudyData\", $D$4,  \"Bar\",, \"Close\",$E$4,C166,\"All\",,,,\"T\")*100)","v":9.74},null,null,null,9.74,null,null,null,null,null,null,-161,{"$f":"IF(RTD(\"cqg.rtd\",,\"StudyData\", $P$4,  \"Bar\",, \"Close\",$Q$4,O166,\"All\",,,,\"T\")=\"\",\"\",RTD(\"cqg.rtd\",,\"StudyData\", $P$4,  \"Bar\",, \"Close\",$Q$4,O166,\"All\",,,,\"T\")*100)","v":9.879999999999999},null,null,null,9.879999999999999]
[null,null,-162,{"$f":"IF(RTD(\"cqg.rtd\",,\"StudyData\", $D$4,  \"Bar\",, \"Close\",$E$4,C167,\"All\",,,,\"T\")=\"\",\"\",RTD(\"cqg.rtd\",,\"StudyData\", $D$4,  \"Bar\",, \"Close\",$E$4,C167,\"All\",,,,\"T\")*100)","v":9.629999999999999},null,null,null,9.629999999999999,null,null,null,null,null,null,-162,{"$f":"IF(RTD(\"cqg.rtd\",,\"StudyData\", $P$4,  \"Bar\",, \"Close\",$Q$4,O167,\"All\",,,,\"T\")=\"\",\"\",RTD(\"cqg.rtd\",,\"StudyData\", $P$4,  \"Bar\",, \"Close\",$Q$4,O167,\"All\",,,,\"T\")*100)","v":9.59},null,null,null,9.59]
[null,null,-163,{"$f":"IF(RTD(\"cqg.rtd\",,\"StudyData\", $D$4,  \"Bar\",, \"Close\",$E$4,C168,\"All\",,,,\"T\")=\"\",\"\",RTD(\"cqg.rtd\",,\"StudyData\", $D$4,  \"Bar\",, \"Close\",$E$4,C168,\"All\",,,,\"T\")*100)","v":9.75},null,null,null,9.75,null,null,null,null,null,null,-163,{"$f":"IF(RTD(\"cqg.rtd\",,\"StudyData\", $P$4,  \"Bar\",, \"Close\",$Q$4,O168,\"All\",,,,\"T\")=\"\",\"\",RTD(\"cqg.rtd\",,\"StudyData\", $P$4,  \"Bar\",, \"Close\",$Q$4,O168,\"All\",,,,\"T\")*100)","v":9.89},null,null,null,9.89]
[null,null,-164,{"$f":"IF(RTD(\"cqg.rtd\",,\"StudyData\", $D$4,  \"Bar\",, \"Close\",$E$4,C169,\"All\",,,,\"T\")=\"\",\"\",RTD(\"cqg.rtd\",,\"StudyData\", $D$4,  \"Bar\",, \"Close\",$E$4,C169,\"All\",,,,\"T\")*100)","v":9.67},null,null,null,9.67,null,null,null,null,null,null,-164,{"$f":"IF(RTD(\"cqg.rtd\",,\"StudyData\", $P$4,  \"Bar\",, \"Close\",$Q$4,O169,\"All\",,,,\"T\")=\"\",\"\",RTD(\"cqg.rtd\",,\"StudyData\", $P$4,  \"Bar\",, \"Close\",$Q$4,O169,\"All\",,,,\"T\")*100)","v":9.7199999999999989},null,null,null,9.7199999999999989]
[null,null,-165,{"$f":"IF(RTD(\"cqg.rtd\",,\"StudyData\", $D$4,  \"Bar\",, \"Close\",$E$4,C170,\"All\",,,,\"T\")=\"\",\"\",RTD(\"cqg.rtd\",,\"StudyData\", $D$4,  \"Bar\",, \"Close\",$E$4,C170,\"All\",,,,\"T\")*100)","v":9.44},null,null,null,9.44,null,null,null,null,null,null,-165,{"$f":"IF(RTD(\"cqg.rtd\",,\"StudyData\", $P$4,  \"Bar\",, \"Close\",$Q$4,O170,\"All\",,,,\"T\")=\"\",\"\",RTD(\"cqg.rtd\",,\"StudyData\", $P$4,  \"Bar\",, \"Close\",$Q$4,O170,\"All\",,,,\"T\")*100)","v":9.0499999999999989},null,null,null,9.0499999999999989]
[null,null,-166,{"$f":"IF(RTD(\"cqg.rtd\",,\"StudyData\", $D$4,  \"Bar\",, \"Close\",$E$4,C171,\"All\",,,,\"T\")=\"\",\"\",RTD(\"cqg.rtd\",,\"StudyData\", $D$4,  \"Bar\",, \"Close\",$E$4,C171,\"All\",,,,\"T\")*100)","v":9.49},null,null,null,9.49,null,null,null,null,null,null,-166,{"$f":"IF(RTD(\"cqg.rtd\",,\"StudyData\", $P$4,  \"Bar\",, \"Close\",$Q$4,O171,\"All\",,,,\"T\")=\"\",\"\",RTD(\"cqg.rtd\",,\"StudyData\", $P$4,  \"Bar\",, \"Close\",$Q$4,O171,\"All\",,,,\"T\")*100)","v":9.6100000000000012},null,null,null,9.6100000000000012]
[null,null,-167,{"$f":"IF(RTD(\"cqg.rtd\",,\"StudyData\", $D$4,  \"Bar\",, \"Close\",$E$4,C172,\"All\",,,,\"T\")=\"\",\"\",RTD(\"cqg.rtd\",,\"StudyData\", $D$4,  \"Bar\",, \"Close\",$E$4,C172,\"All\",,,,\"T\")*100)","v":9.879999999999999},null,null,null,9.879999999999999,null,null,null,null,null,null,-167,{"$f":"IF(RTD(\"cqg.rtd\",,\"StudyData\", $P$4,  \"Bar\",, \"Close\",$Q$4,O172,\"All\",,,,\"T\")=\"\",\"\",RTD(\"cqg.rtd\",,\"StudyData\", $P$4,  \"Bar\",, \"Close\",$Q$4,O172,\"All\",,,,\"T\")*100)","v":9.82},null,null,null,9.82]
[null,null,-168,{"$f":"IF(RTD(\"cqg.rtd\",,\"StudyData\", $D$4,  \"Bar\",, \"Close\",$E$4,C173,\"All\",,,,\"T\")=\"\",\"\",RTD(\"cqg.rtd\",,\"StudyData\", $D$4,  \"Bar\",, \"Close\",$E$4,C173,\"All\",,,,\"T\")*100)","v":9.2799999999999994},null,null,null,9.2799999999999994,null,null,null,null,null,null,-168,{"$f":"IF(RTD(\"cqg.rtd\",,\"StudyData\", $P$4,  \"Bar\",, \"Close\",$Q$4,O173,\"All\",,,,\"T\")=\"\",\"\",RTD(\"cqg.rtd\",,\"StudyData\", $P$4,  \"Bar\",, \"Close\",$Q$4,O173,\"All\",,,,\"T\")*100)","v":9.27},null,null,null,9.27]
[null,null,-169,{"$f":"IF(RTD(\"cqg.rtd\",,\"StudyData\", $D$4,  \"Bar\",, \"Close\",$E$4,C174,\"All\",,,,\"T\")=\"\",\"\",RTD(\"cqg.rtd\",,\"StudyData\", $D$4,  \"Bar\",, \"Close\",$E$4,C174,\"All\",,,,\"T\")*100)","v":9.4700000000000006},null,null,null,9.4700000000000006,null,null,null,null,null,null,-169,{"$f":"IF(RTD(\"cqg.rtd\",,\"StudyData\", $P$4,  \"Bar\",, \"Close\",$Q$4,O174,\"All\",,,,\"T\")=\"\",\"\",RTD(\"cqg.rtd\",,\"StudyData\", $P$4,  \"Bar\",, \"Close\",$Q$4,O174,\"All\",,,,\"T\")*100)","v":9.59},null,null,null,9.59]
[null,null,-170,{"$f":"IF(RTD(\"cqg.rtd\",,\"StudyData\", $D$4,  \"Bar\",, \"Close\",$E$4,C175,\"All\",,,,\"T\")=\"\",\"\",RTD(\"cqg.rtd\",,\"StudyData\", $D$4,  \"Bar\",, \"Close\",$E$4,C175,\"All\",,,,\"T\")*100)","v":10.07},null,null,null,10.07,null,null,null,null,null,null,-170,{"$f":"IF(RTD(\"cqg.rtd\",,\"StudyData\", $P$4,  \"Bar\",, \"Close\",$Q$4,O175,\"All\",,,,\"T\")=\"\",\"\",RTD(\"cqg.rtd\",,\"StudyData\", $P$4,  \"Bar\",, \"Close\",$Q$4,O175,\"All\",,,,\"T\")*100)","v":9.1800000000000015},null,null,null,9.1800000000000015]
[null,null,-171,{"$f":"IF(RTD(\"cqg.rtd\",,\"StudyData\", $D$4,  \"Bar\",, \"Close\",$E$4,C176,\"All\",,,,\"T\")=\"\",\"\",RTD(\"cqg.rtd\",,\"StudyData\", $D$4,  \"Bar\",, \"Close\",$E$4,C176,\"All\",,,,\"T\")*100)","v":9.41},null,null,null,9.41,null,null,null,null,null,null,-171,{"$f":"IF(RTD(\"cqg.rtd\",,\"StudyData\", $P$4,  \"Bar\",, \"Close\",$Q$4,O176,\"All\",,,,\"T\")=\"\",\"\",RTD(\"cqg.rtd\",,\"StudyData\", $P$4,  \"Bar\",, \"Close\",$Q$4,O176,\"All\",,,,\"T\")*100)","v":9.41},null,null,null,9.41]
[null,null,-172,{"$f":"IF(RTD(\"cqg.rtd\",,\"StudyData\", $D$4,  \"Bar\",, \"Close\",$E$4,C177,\"All\",,,,\"T\")=\"\",\"\",RTD(\"cqg.rtd\",,\"StudyData\", $D$4,  \"Bar\",, \"Close\",$E$4,C177,\"All\",,,,\"T\")*100)","v":9.41},null,null,null,9.41,null,null,null,null,null,null,-172,{"$f":"IF(RTD(\"cqg.rtd\",,\"StudyData\", $P$4,  \"Bar\",, \"Close\",$Q$4,O177,\"All\",,,,\"T\")=\"\",\"\",RTD(\"cqg.rtd\",,\"StudyData\", $P$4,  \"Bar\",, \"Close\",$Q$4,O177,\"All\",,,,\"T\")*100)","v":9.4700000000000006},null,null,null,9.4700000000000006]
[null,null,-173,{"$f":"IF(RTD(\"cqg.rtd\",,\"StudyData\", $D$4,  \"Bar\",, \"Close\",$E$4,C178,\"All\",,,,\"T\")=\"\",\"\",RTD(\"cqg.rtd\",,\"StudyData\", $D$4,  \"Bar\",, \"Close\",$E$4,C178,\"All\",,,,\"T\")*100)","v":10.31},null,null,null,10.31,null,null,null,null,null,null,-173,{"$f":"IF(RTD(\"cqg.rtd\",,\"StudyData\", $P$4,  \"Bar\",, \"Close\",$Q$4,O178,\"All\",,,,\"T\")=\"\",\"\",RTD(\"cqg.rtd\",,\"StudyData\", $P$4,  \"Bar\",, \"Close\",$Q$4,O178,\"All\",,,,\"T\")*100)","v":9.92},null,null,null,9.92]
[null,null,-174,{"$f":"IF(RTD(\"cqg.rtd\",,\"StudyData\", $D$4,  \"Bar\",, \"Close\",$E$4,C179,\"All\",,,,\"T\")=\"\",\"\",RTD(\"cqg.rtd\",,\"StudyData\", $D$4,  \"Bar\",, \"Close\",$E$4,C179,\"All\",,,,\"T\")*100)","v":9.83},null,null,null,9.83,null,null,null,null,null,null,-174,{"$f":"IF(RTD(\"cqg.rtd\",,\"StudyData\", $P$4,  \"Bar\",, \"Close\",$Q$4,O179,\"All\",,,,\"T\")=\"\",\"\",RTD(\"cqg.rtd\",,\"StudyData\", $P$4,  \"Bar\",, \"Close\",$Q$4,O179,\"All\",,,,\"T\")*100)","v":9.89},null,null,null,9.89]
[null,null,-175,{"$f":"IF(RTD(\"cqg.rtd\",,\"StudyData\", $D$4,  \"Bar\",, \"Close\",$E$4,C180,\"All\",,,,\"T\")=\"\",\"\",RTD(\"cqg.rtd\",,\"StudyData\", $D$4,  \"Bar\",, \"Close\",$E$4,C180,\"All\",,,,\"T\")*100)","v":9.5699999999999985},null,null,null,9.5699999999999985,null,null,null,null,null,null,-175,{"$f":"IF(RTD(\"cqg.rtd\",,\"StudyData\", $P$4,  \"Bar\",, \"Close\",$Q$4,O180,\"All\",,,,\"T\")=\"\",\"\",RTD(\"cqg.rtd\",,\"StudyData\", $P$4,  \"Bar\",, \"Close\",$Q$4,O180,\"All\",,,,\"T\")*100)","v":10.43},null,null,null,10.43]
[null,null,-176,{"$f":"IF(RTD(\"cqg.rtd\",,\"StudyData\", $D$4,  \"Bar\",, \"Close\",$E$4,C181,\"All\",,,,\"T\")=\"\",\"\",RTD(\"cqg.rtd\",,\"StudyData\", $D$4,  \"Bar\",, \"Close\",$E$4,C181,\"All\",,,,\"T\")*100)","v":9.94},null,null,null,9.94,null,null,null,null,null,null,-176,{"$f":"IF(RTD(\"cqg.rtd\",,\"StudyData\", $P$4,  \"Bar\",, \"Close\",$Q$4,O181,\"All\",,,,\"T\")=\"\",\"\",RTD(\"cqg.rtd\",,\"StudyData\", $P$4,  \"Bar\",, \"Close\",$Q$4,O181,\"All\",,,,\"T\")*100)","v":10.01},null,null,null,10.01]
[null,null,-177,{"$f":"IF(RTD(\"cqg.rtd\",,\"StudyData\", $D$4,  \"Bar\",, \"Close\",$E$4,C182,\"All\",,,,\"T\")=\"\",\"\",RTD(\"cqg.rtd\",,\"StudyData\", $D$4,  \"Bar\",, \"Close\",$E$4,C182,\"All\",,,,\"T\")*100)","v":9.31},null,null,null,9.31,null,null,null,null,null,null,-177,{"$f":"IF(RTD(\"cqg.rtd\",,\"StudyData\", $P$4,  \"Bar\",, \"Close\",$Q$4,O182,\"All\",,,,\"T\")=\"\",\"\",RTD(\"cqg.rtd\",,\"StudyData\", $P$4,  \"Bar\",, \"Close\",$Q$4,O182,\"All\",,,,\"T\")*100)","v":9.49},null,null,null,9.49]
[null,null,-178,{"$f":"IF(RTD(\"cqg.rtd\",,\"StudyData\", $D$4,  \"Bar\",, \"Close\",$E$4,C183,\"All\",,,,\"T\")=\"\",\"\",RTD(\"cqg.rtd\",,\"StudyData\", $D$4,  \"Bar\",, \"Close\",$E$4,C183,\"All\",,,,\"T\")*100)","v":9.48},null,null,null,9.48,null,null,null,null,null,null,-178,{"$f":"IF(RTD(\"cqg.rtd\",,\"StudyData\", $P$4,  \"Bar\",, \"Close\",$Q$4,O183,\"All\",,,,\"T\")=\"\",\"\",RTD(\"cqg.rtd\",,\"StudyData\", $P$4,  \"Bar\",, \"Close\",$Q$4,O183,\"All\",,,,\"T\")*100)","v":9.5299999999999994},null,null,null,9.5299999999999994]
[null,null,-179,{"$f":"IF(RTD(\"cqg.rtd\",,\"StudyData\", $D$4,  \"Bar\",, \"Close\",$E$4,C184,\"All\",,,,\"T\")=\"\",\"\",RTD(\"cqg.rtd\",,\"StudyData\", $D$4,  \"Bar\",, \"Close\",$E$4,C184,\"All\",,,,\"T\")*100)","v":9.6},null,null,null,9.6,null,null,null,null,null,null,-179,{"$f":"IF(RTD(\"cqg.rtd\",,\"StudyData\", $P$4,  \"Bar\",, \"Close\",$Q$4,O184,\"All\",,,,\"T\")=\"\",\"\",RTD(\"cqg.rtd\",,\"StudyData\", $P$4,  \"Bar\",, \"Close\",$Q$4,O184,\"All\",,,,\"T\")*100)","v":9.5699999999999985},null,null,null,9.5699999999999985]
[null,null,-180,{"$f":"IF(RTD(\"cqg.rtd\",,\"StudyData\", $D$4,  \"Bar\",, \"Close\",$E$4,C185,\"All\",,,,\"T\")=\"\",\"\",RTD(\"cqg.rtd\",,\"StudyData\", $D$4,  \"Bar\",, \"Close\",$E$4,C185,\"All\",,,,\"T\")*100)","v":9.48},null,null,null,9.48,null,null,null,null,null,null,-180,{"$f":"IF(RTD(\"cqg.rtd\",,\"StudyData\", $P$4,  \"Bar\",, \"Close\",$Q$4,O185,\"All\",,,,\"T\")=\"\",\"\",RTD(\"cqg.rtd\",,\"StudyData\", $P$4,  \"Bar\",, \"Close\",$Q$4,O185,\"All\",,,,\"T\")*100)","v":9.82},null,null,null,9.82]
[null,null,-181,{"$f":"IF(RTD(\"cqg.rtd\",,\"StudyData\", $D$4,  \"Bar\",, \"Close\",$E$4,C186,\"All\",,,,\"T\")=\"\",\"\",RTD(\"cqg.rtd\",,\"StudyData\", $D$4,  \"Bar\",, \"Close\",$E$4,C186,\"All\",,,,\"T\")*100)","v":10.31},null,null,null,10.31,null,null,null,null,null,null,-181,{"$f":"IF(RTD(\"cqg.rtd\",,\"StudyData\", $P$4,  \"Bar\",, \"Close\",$Q$4,O186,\"All\",,,,\"T\")=\"\",\"\",RTD(\"cqg.rtd\",,\"StudyData\", $P$4,  \"Bar\",, \"Close\",$Q$4,O186,\"All\",,,,\"T\")*100)","v":10.100000000000001},null,null,null,10.100000000000001]
[null,null,-182,{"$f":"IF(RTD(\"cqg.rtd\",,\"StudyData\", $D$4,  \"Bar\",, \"Close\",$E$4,C187,\"All\",,,,\"T\")=\"\",\"\",RTD(\"cqg.rtd\",,\"StudyData\", $D$4,  \"Bar\",, \"Close\",$E$4,C187,\"All\",,,,\"T\")*100)","v":10.100000000000001},null,null,null,10.100000000000001,null,null,null,null,null,null,-182,{"$f":"IF(RTD(\"cqg.rtd\",,\"StudyData\", $P$4,  \"Bar\",, \"Close\",$Q$4,O187,\"All\",,,,\"T\")=\"\",\"\",RTD(\"cqg.rtd\",,\"StudyData\", $P$4,  \"Bar\",, \"Close\",$Q$4,O187,\"All\",,,,\"T\")*100)","v":10.14},null,null,null,10.14]
[null,null,-183,{"$f":"IF(RTD(\"cqg.rtd\",,\"StudyData\", $D$4,  \"Bar\",, \"Close\",$E$4,C188,\"All\",,,,\"T\")=\"\",\"\",RTD(\"cqg.rtd\",,\"StudyData\", $D$4,  \"Bar\",, \"Close\",$E$4,C188,\"All\",,,,\"T\")*100)","v":10.84},null,null,null,10.84,null,null,null,null,null,null,-183,{"$f":"IF(RTD(\"cqg.rtd\",,\"StudyData\", $P$4,  \"Bar\",, \"Close\",$Q$4,O188,\"All\",,,,\"T\")=\"\",\"\",RTD(\"cqg.rtd\",,\"StudyData\", $P$4,  \"Bar\",, \"Close\",$Q$4,O188,\"All\",,,,\"T\")*100)","v":10.71},null,null,null,10.71]
[null,null,-184,{"$f":"IF(RTD(\"cqg.rtd\",,\"StudyData\", $D$4,  \"Bar\",, \"Close\",$E$4,C189,\"All\",,,,\"T\")=\"\",\"\",RTD(\"cqg.rtd\",,\"StudyData\", $D$4,  \"Bar\",, \"Close\",$E$4,C189,\"All\",,,,\"T\")*100)","v":10.74},null,null,null,10.74,null,null,null,null,null,null,-184,{"$f":"IF(RTD(\"cqg.rtd\",,\"StudyData\", $P$4,  \"Bar\",, \"Close\",$Q$4,O189,\"All\",,,,\"T\")=\"\",\"\",RTD(\"cqg.rtd\",,\"StudyData\", $P$4,  \"Bar\",, \"Close\",$Q$4,O189,\"All\",,,,\"T\")*100)","v":10.36},null,null,null,10.36]
[null,null,-185,{"$f":"IF(RTD(\"cqg.rtd\",,\"StudyData\", $D$4,  \"Bar\",, \"Close\",$E$4,C190,\"All\",,,,\"T\")=\"\",\"\",RTD(\"cqg.rtd\",,\"StudyData\", $D$4,  \"Bar\",, \"Close\",$E$4,C190,\"All\",,,,\"T\")*100)","v":10.72},null,null,null,10.72,null,null,null,null,null,null,-185,{"$f":"IF(RTD(\"cqg.rtd\",,\"StudyData\", $P$4,  \"Bar\",, \"Close\",$Q$4,O190,\"All\",,,,\"T\")=\"\",\"\",RTD(\"cqg.rtd\",,\"StudyData\", $P$4,  \"Bar\",, \"Close\",$Q$4,O190,\"All\",,,,\"T\")*100)","v":10.58},null,null,null,10.58]
[null,null,-186,{"$f":"IF(RTD(\"cqg.rtd\",,\"StudyData\", $D$4,  \"Bar\",, \"Close\",$E$4,C191,\"All\",,,,\"T\")=\"\",\"\",RTD(\"cqg.rtd\",,\"StudyData\", $D$4,  \"Bar\",, \"Close\",$E$4,C191,\"All\",,,,\"T\")*100)","v":10.639999999999999},null,null,null,10.639999999999999,null,null,null,null,null,null,-186,{"$f":"IF(RTD(\"cqg.rtd\",,\"StudyData\", $P$4,  \"Bar\",, \"Close\",$Q$4,O191,\"All\",,,,\"T\")=\"\",\"\",RTD(\"cqg.rtd\",,\"StudyData\", $P$4,  \"Bar\",, \"Close\",$Q$4,O191,\"All\",,,,\"T\")*100)","v":10.68},null,null,null,10.68]
[null,null,-187,{"$f":"IF(RTD(\"cqg.rtd\",,\"StudyData\", $D$4,  \"Bar\",, \"Close\",$E$4,C192,\"All\",,,,\"T\")=\"\",\"\",RTD(\"cqg.rtd\",,\"StudyData\", $D$4,  \"Bar\",, \"Close\",$E$4,C192,\"All\",,,,\"T\")*100)","v":10.8},null,null,null,10.8,null,null,null,null,null,null,-187,{"$f":"IF(RTD(\"cqg.rtd\",,\"StudyData\", $P$4,  \"Bar\",, \"Close\",$Q$4,O192,\"All\",,,,\"T\")=\"\",\"\",RTD(\"cqg.rtd\",,\"StudyData\", $P$4,  \"Bar\",, \"Close\",$Q$4,O192,\"All\",,,,\"T\")*100)","v":11.15},null,null,null,11.15]
[null,null,-188,{"$f":"IF(RTD(\"cqg.rtd\",,\"StudyData\", $D$4,  \"Bar\",, \"Close\",$E$4,C193,\"All\",,,,\"T\")=\"\",\"\",RTD(\"cqg.rtd\",,\"StudyData\", $D$4,  \"Bar\",, \"Close\",$E$4,C193,\"All\",,,,\"T\")*100)","v":10.879999999999999},null,null,null,10.879999999999999,null,null,null,null,null,null,-188,{"$f":"IF(RTD(\"cqg.rtd\",,\"StudyData\", $P$4,  \"Bar\",, \"Close\",$Q$4,O193,\"All\",,,,\"T\")=\"\",\"\",RTD(\"cqg.rtd\",,\"StudyData\", $P$4,  \"Bar\",, \"Close\",$Q$4,O193,\"All\",,,,\"T\")*100)","v":10.979999999999999},null,null,null,10.979999999999999]
[null,null,-189,{"$f":"IF(RTD(\"cqg.rtd\",,\"StudyData\", $D$4,  \"Bar\",, \"Close\",$E$4,C194,\"All\",,,,\"T\")=\"\",\"\",RTD(\"cqg.rtd\",,\"StudyData\", $D$4,  \"Bar\",, \"Close\",$E$4,C194,\"All\",,,,\"T\")*100)","v":10.99},null,null,null,10.99,null,null,null,null,null,null,-189,{"$f":"IF(RTD(\"cqg.rtd\",,\"StudyData\", $P$4,  \"Bar\",, \"Close\",$Q$4,O194,\"All\",,,,\"T\")=\"\",\"\",RTD(\"cqg.rtd\",,\"StudyData\", $P$4,  \"Bar\",, \"Close\",$Q$4,O194,\"All\",,,,\"T\")*100)","v":11.110000000000001},null,null,null,11.110000000000001]
[null,null,-190,{"$f":"IF(RTD(\"cqg.rtd\",,\"StudyData\", $D$4,  \"Bar\",, \"Close\",$E$4,C195,\"All\",,,,\"T\")=\"\",\"\",RTD(\"cqg.rtd\",,\"StudyData\", $D$4,  \"Bar\",, \"Close\",$E$4,C195,\"All\",,,,\"T\")*100)","v":11.18},null,null,null,11.18,null,null,null,null,null,null,-190,{"$f":"IF(RTD(\"cqg.rtd\",,\"StudyData\", $P$4,  \"Bar\",, \"Close\",$Q$4,O195,\"All\",,,,\"T\")=\"\",\"\",RTD(\"cqg.rtd\",,\"StudyData\", $P$4,  \"Bar\",, \"Close\",$Q$4,O195,\"All\",,,,\"T\")*100)","v":10.979999999999999},null,null,null,10.979999999999999]
[null,null,-191,{"$f":"IF(RTD(\"cqg.rtd\",,\"StudyData\", $D$4,  \"Bar\",, \"Close\",$E$4,C196,\"All\",,,,\"T\")=\"\",\"\",RTD(\"cqg.rtd\",,\"StudyData\", $D$4,  \"Bar\",, \"Close\",$E$4,C196,\"All\",,,,\"T\")*100)","v":11.110000000000001},null,null,null,11.110000000000001,null,null,null,null,null,null,-191,{"$f":"IF(RTD(\"cqg.rtd\",,\"StudyData\", $P$4,  \"Bar\",, \"Close\",$Q$4,O196,\"All\",,,,\"T\")=\"\",\"\",RTD(\"cqg.rtd\",,\"StudyData\", $P$4,  \"Bar\",, \"Close\",$Q$4,O196,\"All\",,,,\"T\")*100)","v":11.12},null,null,null,11.12]
[null,null,-192,{"$f":"IF(RTD(\"cqg.rtd\",,\"StudyData\", $D$4,  \"Bar\",, \"Close\",$E$4,C197,\"All\",,,,\"T\")=\"\",\"\",RTD(\"cqg.rtd\",,\"StudyData\", $D$4,  \"Bar\",, \"Close\",$E$4,C197,\"All\",,,,\"T\")*100)","v":11.12},null,null,null,11.12,null,null,null,null,null,null,-192,{"$f":"IF(RTD(\"cqg.rtd\",,\"StudyData\", $P$4,  \"Bar\",, \"Close\",$Q$4,O197,\"All\",,,,\"T\")=\"\",\"\",RTD(\"cqg.rtd\",,\"StudyData\", $P$4,  \"Bar\",, \"Close\",$Q$4,O197,\"All\",,,,\"T\")*100)","v":11.29},null,null,null,11.29]
[null,null,-193,{"$f":"IF(RTD(\"cqg.rtd\",,\"StudyData\", $D$4,  \"Bar\",, \"Close\",$E$4,C198,\"All\",,,,\"T\")=\"\",\"\",RTD(\"cqg.rtd\",,\"StudyData\", $D$4,  \"Bar\",, \"Close\",$E$4,C198,\"All\",,,,\"T\")*100)","v":11.28},null,null,null,{"$f":"D198","v":11.28},null,null,null,null,null,null,-193,{"$f":"IF(RTD(\"cqg.rtd\",,\"StudyData\", $P$4,  \"Bar\",, \"Close\",$Q$4,O198,\"All\",,,,\"T\")=\"\",\"\",RTD(\"cqg.rtd\",,\"StudyData\", $P$4,  \"Bar\",, \"Close\",$Q$4,O198,\"All\",,,,\"T\")*100)","v":11.34},null,null,null,{"$f":"P198","v":11.34}]
[null,null,{"$f":"C198-1","v":-194},{"$f":"IF(RTD(\"cqg.rtd\",,\"StudyData\", $D$4,  \"Bar\",, \"Close\",$E$4,C199,\"All\",,,,\"T\")=\"\",\"\",RTD(\"cqg.rtd\",,\"StudyData\", $D$4,  \"Bar\",, \"Close\",$E$4,C199,\"All\",,,,\"T\")*100)","v":11.99},null,null,null,11.99,null,null,null,null,null,null,{"$f":"O198-1","v":-194},{"$f":"IF(RTD(\"cqg.rtd\",,\"StudyData\", $P$4,  \"Bar\",, \"Close\",$Q$4,O199,\"All\",,,,\"T\")=\"\",\"\",RTD(\"cqg.rtd\",,\"StudyData\", $P$4,  \"Bar\",, \"Close\",$Q$4,O199,\"All\",,,,\"T\")*100)","v":11.959999999999999},null,null,null,11.959999999999999]
[null,null,-195,{"$f":"IF(RTD(\"cqg.rtd\",,\"StudyData\", $D$4,  \"Bar\",, \"Close\",$E$4,C200,\"All\",,,,\"T\")=\"\",\"\",RTD(\"cqg.rtd\",,\"StudyData\", $D$4,  \"Bar\",, \"Close\",$E$4,C200,\"All\",,,,\"T\")*100)","v":13.54},null,null,null,13.54,null,null,null,null,null,null,-195,{"$f":"IF(RTD(\"cqg.rtd\",,\"StudyData\", $P$4,  \"Bar\",, \"Close\",$Q$4,O200,\"All\",,,,\"T\")=\"\",\"\",RTD(\"cqg.rtd\",,\"StudyData\", $P$4,  \"Bar\",, \"Close\",$Q$4,O200,\"All\",,,,\"T\")*100)","v":12.879999999999999},null,null,null,12.879999999999999]
[null,null,-196,{"$f":"IF(RTD(\"cqg.rtd\",,\"StudyData\", $D$4,  \"Bar\",, \"Close\",$E$4,C201,\"All\",,,,\"T\")=\"\",\"\",RTD(\"cqg.rtd\",,\"StudyData\", $D$4,  \"Bar\",, \"Close\",$E$4,C201,\"All\",,,,\"T\")*100)","v":12.53},null,null,null,12.53,null,null,null,null,null,null,-196,{"$f":"IF(RTD(\"cqg.rtd\",,\"StudyData\", $P$4,  \"Bar\",, \"Close\",$Q$4,O201,\"All\",,,,\"T\")=\"\",\"\",RTD(\"cqg.rtd\",,\"StudyData\", $P$4,  \"Bar\",, \"Close\",$Q$4,O201,\"All\",,,,\"T\")*100)","v":12.82},null,null,null,12.82]
[null,null,-197,{"$f":"IF(RTD(\"cqg.rtd\",,\"StudyData\", $D$4,  \"Bar\",, \"Close\",$E$4,C202,\"All\",,,,\"T\")=\"\",\"\",RTD(\"cqg.rtd\",,\"StudyData\", $D$4,  \"Bar\",, \"Close\",$E$4,C202,\"All\",,,,\"T\")*100)","v":12.559999999999999},null,null,null,12.559999999999999,null,null,null,null,null,null,-197,{"$f":"IF(RTD(\"cqg.rtd\",,\"StudyData\", $P$4,  \"Bar\",, \"Close\",$Q$4,O202,\"All\",,,,\"T\")=\"\",\"\",RTD(\"cqg.rtd\",,\"StudyData\", $P$4,  \"Bar\",, \"Close\",$Q$4,O202,\"All\",,,,\"T\")*100)","v":12.44},null,null,null,12.44]
[null,null,-198,{"$f":"IF(RTD(\"cqg.rtd\",,\"StudyData\", $D$4,  \"Bar\",, \"Close\",$E$4,C203,\"All\",,,,\"T\")=\"\",\"\",RTD(\"cqg.rtd\",,\"StudyData\", $D$4,  \"Bar\",, \"Close\",$E$4,C203,\"All\",,,,\"T\")*100)","v":12.02},null,null,null,12.02,null,null,null,null,null,null,-198,{"$f":"IF(RTD(\"cqg.rtd\",,\"StudyData\", $P$4,  \"Bar\",, \"Close\",$Q$4,O203,\"All\",,,,\"T\")=\"\",\"\",RTD(\"cqg.rtd\",,\"StudyData\", $P$4,  \"Bar\",, \"Close\",$Q$4,O203,\"All\",,,,\"T\")*100)","v":11.92},null,null,null,11.92]
[null,null,-199,{"$f":"IF(RTD(\"cqg.rtd\",,\"StudyData\", $D$4,  \"Bar\",, \"Close\",$E$4,C204,\"All\",,,,\"T\")=\"\",\"\",RTD(\"cqg.rtd\",,\"StudyData\", $D$4,  \"Bar\",, \"Close\",$E$4,C204,\"All\",,,,\"T\")*100)","v":12.04},{"$f":" RTD(\"cqg.rtd\",,\"StudyData\", $D$4,  \"Bar\",, \"Time\",$E$4,C204,,,,,\"T\")","v":"2016-12-23"},null,null,12.04,null,null,null,null,null,null,-199,{"$f":"IF(RTD(\"cqg.rtd\",,\"StudyData\", $P$4,  \"Bar\",, \"Close\",$Q$4,O204,\"All\",,,,\"T\")=\"\",\"\",RTD(\"cqg.rtd\",,\"StudyData\", $P$4,  \"Bar\",, \"Close\",$Q$4,O204,\"All\",,,,\"T\")*100)","v":12.07},{"$f":" RTD(\"cqg.rtd\",,\"StudyData\", $D$4,  \"Bar\",, \"Time\",$E$4,O204,,,,,\"T\")","v":"2016-12-23"},null,null,12.07]