{"text_format":"1","workbook":"xlsx","n_sheets":2,"sheets":["Main","IUSV"],"not_rendered":{"charts":2,"images":3,"macros":1,"external_links":0,"defined_names":0,"comments":0,"pivot_tables":0},"unopened":[],"bounds":{"document_bytes":16777216,"sheet_cells":100000,"rows_first":2000,"rows_last":500,"rows_between":2000,"halvings":0,"cell_chars":16384,"cell_head_chars":4096},"cells_cut":0,"cells_raw":0,"read":"whole","date_system":"1900"}

{"sheet":"Main","index":0,"n_rows":49,"n_cols":28,"rows_kept":49,"cut":false,"hidden":false,"merged":[[48,9,48,21],[45,2,45,6],[45,14,45,15],[46,2,46,6],[46,14,46,15],[47,2,47,6],[47,14,47,15],[42,2,42,6],[42,14,42,15],[43,2,43,6],[43,14,43,15],[44,2,44,6],[44,14,44,15],[39,2,39,6],[39,14,39,15],[40,2,40,6],[40,14,40,15],[41,2,41,6],[41,14,41,15],[36,2,36,6],[36,14,36,15],[37,2,37,6],[37,14,37,15],[38,2,38,6],[38,14,38,15],[33,2,33,6],[33,14,33,15],[34,2,34,6],[34,14,34,15],[35,2,35,6],[35,14,35,15],[30,2,30,6],[30,14,30,15],[31,2,31,6],[31,14,31,15],[32,2,32,6],[32,14,32,15],[26,18,26,30],[27,2,27,6],[27,14,27,15],[28,2,28,6],[28,14,28,15],[29,2,29,6],[29,14,29,15],[24,2,24,6],[24,14,24,15],[25,2,25,6],[25,14,25,15],[26,2,26,6],[26,14,26,15],[21,2,21,6],[21,14,21,15],[22,2,22,6],[22,14,22,15],[23,2,23,6],[23,14,23,15],[18,2,18,6],[18,14,18,15],[19,2,19,6],[19,14,19,15],[20,2,20,6],[20,14,20,15],[15,2,15,6],[15,14,15,15],[16,2,16,6],[16,14,16,15],[17,2,17,6],[17,14,17,15],[12,2,12,6],[12,14,12,15],[13,2,13,6],[13,14,13,15],[14,2,14,6],[14,14,14,15],[9,2,9,6],[9,14,9,15],[10,2,10,6],[10,14,10,15],[11,2,11,6],[11,14,11,15],[6,2,6,6],[6,14,6,15],[7,2,7,6],[7,14,7,15],[8,2,8,6],[8,14,8,15],[5,2,5,6],[5,14,5,15],[1,1,2,4],[1,5,2,26],[1,27,2,30],[4,1,4,16],[4,18,4,30]]}
[]
[null,null,null,null,null,"CQG iShares Core S&P U.S. Value ETF Performance",null,null,null,null,null,null,null,null,null,null,null,null,null,null,null,null,null,null,null,null,null,{"$f":"RTD(\"cqg.rtd\", ,\"SystemInfo\", \"Linetime\")","v":42873.392013888893}]
[]
[]
[null,"Exchange Traded Funds Performance",null,null,null,null,null,null,null,null,null,null,null,null,null,null,null,null,"Top 15 Performing Companies "]
[null,"Symbol","Description",null,null,null,null,"Last","NC","%NC","NC/ATR","Open","High","Low","Volume",null,"Ratio"]
[null,"IUSV",{"$f":"RTD(\"cqg.rtd\", ,\"ContractData\",B7, \"LongDescription\",, \"T\")","v":"iShares Core U.S. Value ETF"},null,null,null,null,{"$f":"RTD(\"cqg.rtd\", ,\"ContractData\",B7, \"LastTradeToday\",, \"T\")","v":49.49},{"$f":"RTD(\"cqg.rtd\", ,\"ContractData\",B7, \"NetLastTradeToday\",, \"T\")","v":-0.04},{"$f":"RTD(\"cqg.rtd\", ,\"ContractData\",B7, \"PerCentNetLastTrade\",, \"T\")/100","v":-8.0759135877246115E-4},{"$f":" I7/RTD(\"cqg.rtd\",,\"StudyData\",B7, \"ATR\", \"MaType=Sim,Period=10\", \"ATR\",\"D\",\"-1\",\"ALL\",,,\"FALSE\",\"T\")/100","v":-1.1799410029498525E-3},{"$f":"RTD(\"cqg.rtd\", ,\"ContractData\",B7, \"OPen\",, \"T\")","v":49.46},{"$f":"RTD(\"cqg.rtd\", ,\"ContractData\", B7, \"HIgh\",, \"T\")","v":49.54},{"$f":"RTD(\"cqg.rtd\", ,\"ContractData\",B7, \"LOw\",, \"T\")","v":49.35},{"$f":"RTD(\"cqg.rtd\", ,\"ContractData\",B7, \"T_CVol\",, \"T\")","v":27271},null,{"$f":" IFERROR(O7/RTD(\"cqg.rtd\",,\"StudyData\",B7, \"MA\", \"InputChoice=Vol,MAType=Sim,Period=21\", \"MA\",\"D\",\"-1\",\"all\",,,,\"T\"),\"\")","v":0.12173772006984299}]
[null,"SPY",{"$f":"RTD(\"cqg.rtd\", ,\"ContractData\",B8, \"LongDescription\",, \"T\")","v":"SPDR S&P 500"},null,null,null,null,{"$f":"RTD(\"cqg.rtd\", ,\"ContractData\",B8, \"LastTradeToday\",, \"T\")","v":236.42000000000002},{"$f":"RTD(\"cqg.rtd\", ,\"ContractData\",B8, \"NetLastTradeToday\",, \"T\")","v":0.6},{"$f":"RTD(\"cqg.rtd\", ,\"ContractData\",B8, \"PerCentNetLastTrade\",, \"T\")/100","v":2.5443134594182004E-3},{"$f":" I8/RTD(\"cqg.rtd\",,\"StudyData\",B8, \"ATR\", \"MaType=Sim,Period=10\", \"ATR\",\"D\",\"-1\",\"ALL\",,,\"FALSE\",\"T\")/100","v":4.1870202372644803E-3},{"$f":"RTD(\"cqg.rtd\", ,\"ContractData\",B8, \"OPen\",, \"T\")","v":235.73000000000002},{"$f":"RTD(\"cqg.rtd\", ,\"ContractData\", B8, \"HIgh\",, \"T\")","v":236.61},{"$f":"RTD(\"cqg.rtd\", ,\"ContractData\",B8, \"LOw\",, \"T\")","v":235.43},{"$f":"RTD(\"cqg.rtd\", ,\"ContractData\",B8, \"T_CVol\",, \"T\")","v":18349380},null,{"$f":" IFERROR(O8/RTD(\"cqg.rtd\",,\"StudyData\",B8, \"MA\", \"InputChoice=Vol,MAType=Sim,Period=21\", \"MA\",\"D\",\"-1\",\"all\",,,,\"T\"),\"\")","v":0.24898224527383711}]
[null,"XLF",{"$f":"RTD(\"cqg.rtd\", ,\"ContractData\",B9, \"LongDescription\",, \"T\")","v":"Financial Select Sector SPDR"},null,null,null,null,{"$f":"RTD(\"cqg.rtd\", ,\"ContractData\",B9, \"LastTradeToday\",, \"T\")","v":23.17},{"$f":"RTD(\"cqg.rtd\", ,\"ContractData\",B9, \"NetLastTradeToday\",, \"T\")","v":0.11},{"$f":"RTD(\"cqg.rtd\", ,\"ContractData\",B9, \"PerCentNetLastTrade\",, \"T\")/100","v":4.7701647875108407E-3},{"$f":" I9/RTD(\"cqg.rtd\",,\"StudyData\",B9, \"ATR\", \"MaType=Sim,Period=10\", \"ATR\",\"D\",\"-1\",\"ALL\",,,\"FALSE\",\"T\")/100","v":3.7931034482758625E-3},{"$f":"RTD(\"cqg.rtd\", ,\"ContractData\",B9, \"OPen\",, \"T\")","v":23.03},{"$f":"RTD(\"cqg.rtd\", ,\"ContractData\", B9, \"HIgh\",, \"T\")","v":23.22},{"$f":"RTD(\"cqg.rtd\", ,\"ContractData\",B9, \"LOw\",, \"T\")","v":23.02},{"$f":"RTD(\"cqg.rtd\", ,\"ContractData\",B9, \"T_CVol\",, \"T\")","v":23487308},null,{"$f":" IFERROR(O9/RTD(\"cqg.rtd\",,\"StudyData\",B9, \"MA\", \"InputChoice=Vol,MAType=Sim,Period=21\", \"MA\",\"D\",\"-1\",\"all\",,,,\"T\"),\"\")","v":0.33187472580812349}]
[null,"GDX",{"$f":"RTD(\"cqg.rtd\", ,\"ContractData\",B10, \"LongDescription\",, \"T\")","v":"Market Vectors Gold Miners ETF"},null,null,null,null,{"$f":"RTD(\"cqg.rtd\", ,\"ContractData\",B10, \"LastTradeToday\",, \"T\")","v":22.75},{"$f":"RTD(\"cqg.rtd\", ,\"ContractData\",B10, \"NetLastTradeToday\",, \"T\")","v":-0.62},{"$f":"RTD(\"cqg.rtd\", ,\"ContractData\",B10, \"PerCentNetLastTrade\",, \"T\")/100","v":-2.652973898160034E-2},{"$f":" I10/RTD(\"cqg.rtd\",,\"StudyData\",B10, \"ATR\", \"MaType=Sim,Period=10\", \"ATR\",\"D\",\"-1\",\"ALL\",,,\"FALSE\",\"T\")/100","v":-1.2109375E-2},{"$f":"RTD(\"cqg.rtd\", ,\"ContractData\",B10, \"OPen\",, \"T\")","v":23.11},{"$f":"RTD(\"cqg.rtd\", ,\"ContractData\", B10, \"HIgh\",, \"T\")","v":23.17},{"$f":"RTD(\"cqg.rtd\", ,\"ContractData\",B10, \"LOw\",, \"T\")","v":22.55},{"$f":"RTD(\"cqg.rtd\", ,\"ContractData\",B10, \"T_CVol\",, \"T\")","v":16849061},null,{"$f":" IFERROR(O10/RTD(\"cqg.rtd\",,\"StudyData\",B10, \"MA\", \"InputChoice=Vol,MAType=Sim,Period=21\", \"MA\",\"D\",\"-1\",\"all\",,,,\"T\"),\"\")","v":0.2710663547646861}]
[null,"FXI",{"$f":"RTD(\"cqg.rtd\", ,\"ContractData\",B11, \"LongDescription\",, \"T\")","v":"iShares China Large-Cap ETF"},null,null,null,null,{"$f":"RTD(\"cqg.rtd\", ,\"ContractData\",B11, \"LastTradeToday\",, \"T\")","v":38.99},{"$f":"RTD(\"cqg.rtd\", ,\"ContractData\",B11, \"NetLastTradeToday\",, \"T\")","v":7.0000000000000007E-2},{"$f":"RTD(\"cqg.rtd\", ,\"ContractData\",B11, \"PerCentNetLastTrade\",, \"T\")/100","v":1.7985611510791366E-3},{"$f":" I11/RTD(\"cqg.rtd\",,\"StudyData\",B11, \"ATR\", \"MaType=Sim,Period=10\", \"ATR\",\"D\",\"-1\",\"ALL\",,,\"FALSE\",\"T\")/100","v":1.5118790496760259E-3},{"$f":"RTD(\"cqg.rtd\", ,\"ContractData\",B11, \"OPen\",, \"T\")","v":38.72},{"$f":"RTD(\"cqg.rtd\", ,\"ContractData\", B11, \"HIgh\",, \"T\")","v":39.020000000000003},{"$f":"RTD(\"cqg.rtd\", ,\"ContractData\",B11, \"LOw\",, \"T\")","v":38.660000000000004},{"$f":"RTD(\"cqg.rtd\", ,\"ContractData\",B11, \"T_CVol\",, \"T\")","v":3922285},null,{"$f":" IFERROR(O11/RTD(\"cqg.rtd\",,\"StudyData\",B11, \"MA\", \"InputChoice=Vol,MAType=Sim,Period=21\", \"MA\",\"D\",\"-1\",\"all\",,,,\"T\"),\"\")","v":0.23351665817529205}]
[null,"IWM",{"$f":"RTD(\"cqg.rtd\", ,\"ContractData\",B12, \"LongDescription\",, \"T\")","v":"iShares Russell 2000 ETF"},null,null,null,null,{"$f":"RTD(\"cqg.rtd\", ,\"ContractData\",B12, \"LastTradeToday\",, \"T\")","v":134.80000000000001},{"$f":"RTD(\"cqg.rtd\", ,\"ContractData\",B12, \"NetLastTradeToday\",, \"T\")","v":-0.08},{"$f":"RTD(\"cqg.rtd\", ,\"ContractData\",B12, \"PerCentNetLastTrade\",, \"T\")/100","v":-5.9311981020166078E-4},{"$f":" I12/RTD(\"cqg.rtd\",,\"StudyData\",B12, \"ATR\", \"MaType=Sim,Period=10\", \"ATR\",\"D\",\"-1\",\"ALL\",,,\"FALSE\",\"T\")/100","v":-4.6189376443418013E-4},{"$f":"RTD(\"cqg.rtd\", ,\"ContractData\",B12, \"OPen\",, \"T\")","v":134.57},{"$f":"RTD(\"cqg.rtd\", ,\"ContractData\", B12, \"HIgh\",, \"T\")","v":135.25},{"$f":"RTD(\"cqg.rtd\", ,\"ContractData\",B12, \"LOw\",, \"T\")","v":134.22999999999999},{"$f":"RTD(\"cqg.rtd\", ,\"ContractData\",B12, \"T_CVol\",, \"T\")","v":8687651},null,{"$f":" IFERROR(O12/RTD(\"cqg.rtd\",,\"StudyData\",B12, \"MA\", \"InputChoice=Vol,MAType=Sim,Period=21\", \"MA\",\"D\",\"-1\",\"all\",,,,\"T\"),\"\")","v":0.31059224037988631}]
[null,"IWO",{"$f":"RTD(\"cqg.rtd\", ,\"ContractData\",B13, \"LongDescription\",, \"T\")","v":"iShares Russell 2000 Growth ETF"},null,null,null,null,{"$f":"RTD(\"cqg.rtd\", ,\"ContractData\",B13, \"LastTradeToday\",, \"T\")","v":161.21},{"$f":"RTD(\"cqg.rtd\", ,\"ContractData\",B13, \"NetLastTradeToday\",, \"T\")","v":0.2},{"$f":"RTD(\"cqg.rtd\", ,\"ContractData\",B13, \"PerCentNetLastTrade\",, \"T\")/100","v":1.242158872119744E-3},{"$f":" I13/RTD(\"cqg.rtd\",,\"StudyData\",B13, \"ATR\", \"MaType=Sim,Period=10\", \"ATR\",\"D\",\"-1\",\"ALL\",,,\"FALSE\",\"T\")/100","v":9.9255583126550868E-4},{"$f":"RTD(\"cqg.rtd\", ,\"ContractData\",B13, \"OPen\",, \"T\")","v":160.56},{"$f":"RTD(\"cqg.rtd\", ,\"ContractData\", B13, \"HIgh\",, \"T\")","v":161.63},{"$f":"RTD(\"cqg.rtd\", ,\"ContractData\",B13, \"LOw\",, \"T\")","v":160.19},{"$f":"RTD(\"cqg.rtd\", ,\"ContractData\",B13, \"T_CVol\",, \"T\")","v":154746},null,{"$f":" IFERROR(O13/RTD(\"cqg.rtd\",,\"StudyData\",B13, \"MA\", \"InputChoice=Vol,MAType=Sim,Period=21\", \"MA\",\"D\",\"-1\",\"all\",,,,\"T\"),\"\")","v":0.29544558819398176}]
[null,"QQQ",{"$f":"RTD(\"cqg.rtd\", ,\"ContractData\",B14, \"LongDescription\",, \"T\")","v":"Powershares QQQ Trust"},null,null,null,null,{"$f":"RTD(\"cqg.rtd\", ,\"ContractData\",B14, \"LastTradeToday\",, \"T\")","v":137.13},{"$f":"RTD(\"cqg.rtd\", ,\"ContractData\",B14, \"NetLastTradeToday\",, \"T\")","v":1.06},{"$f":"RTD(\"cqg.rtd\", ,\"ContractData\",B14, \"PerCentNetLastTrade\",, \"T\")/100","v":7.7901080326302644E-3},{"$f":" I14/RTD(\"cqg.rtd\",,\"StudyData\",B14, \"ATR\", \"MaType=Sim,Period=10\", \"ATR\",\"D\",\"-1\",\"ALL\",,,\"FALSE\",\"T\")/100","v":1.06E-2},{"$f":"RTD(\"cqg.rtd\", ,\"ContractData\",B14, \"OPen\",, \"T\")","v":136.06},{"$f":"RTD(\"cqg.rtd\", ,\"ContractData\", B14, \"HIgh\",, \"T\")","v":137.38},{"$f":"RTD(\"cqg.rtd\", ,\"ContractData\",B14, \"LOw\",, \"T\")","v":135.87},{"$f":"RTD(\"cqg.rtd\", ,\"ContractData\",B14, \"T_CVol\",, \"T\")","v":11388981},null,{"$f":" IFERROR(O14/RTD(\"cqg.rtd\",,\"StudyData\",B14, \"MA\", \"InputChoice=Vol,MAType=Sim,Period=21\", \"MA\",\"D\",\"-1\",\"all\",,,,\"T\"),\"\")","v":0.50204000363875656}]
[null,"XLE",{"$f":"RTD(\"cqg.rtd\", ,\"ContractData\",B15, \"LongDescription\",, \"T\")","v":"Energy Select Sector SPDR"},null,null,null,null,{"$f":"RTD(\"cqg.rtd\", ,\"ContractData\",B15, \"LastTradeToday\",, \"T\")","v":67.19},{"$f":"RTD(\"cqg.rtd\", ,\"ContractData\",B15, \"NetLastTradeToday\",, \"T\")","v":-0.08},{"$f":"RTD(\"cqg.rtd\", ,\"ContractData\",B15, \"PerCentNetLastTrade\",, \"T\")/100","v":-1.1892374015162776E-3},{"$f":" I15/RTD(\"cqg.rtd\",,\"StudyData\",B15, \"ATR\", \"MaType=Sim,Period=10\", \"ATR\",\"D\",\"-1\",\"ALL\",,,\"FALSE\",\"T\")/100","v":-8.3857442348008392E-4},{"$f":"RTD(\"cqg.rtd\", ,\"ContractData\",B15, \"OPen\",, \"T\")","v":66.97},{"$f":"RTD(\"cqg.rtd\", ,\"ContractData\", B15, \"HIgh\",, \"T\")","v":67.28},{"$f":"RTD(\"cqg.rtd\", ,\"ContractData\",B15, \"LOw\",, \"T\")","v":66.72},{"$f":"RTD(\"cqg.rtd\", ,\"ContractData\",B15, \"T_CVol\",, \"T\")","v":2503368},null,{"$f":" IFERROR(O15/RTD(\"cqg.rtd\",,\"StudyData\",B15, \"MA\", \"InputChoice=Vol,MAType=Sim,Period=21\", \"MA\",\"D\",\"-1\",\"all\",,,,\"T\"),\"\")","v":0.15567691876237605}]
[null,"USO",{"$f":"RTD(\"cqg.rtd\", ,\"ContractData\",B16, \"LongDescription\",, \"T\")","v":"United States Oil Fund"},null,null,null,null,{"$f":"RTD(\"cqg.rtd\", ,\"ContractData\",B16, \"LastTradeToday\",, \"T\")","v":10.18},{"$f":"RTD(\"cqg.rtd\", ,\"ContractData\",B16, \"NetLastTradeToday\",, \"T\")","v":0},{"$f":"RTD(\"cqg.rtd\", ,\"ContractData\",B16, \"PerCentNetLastTrade\",, \"T\")/100","v":0},{"$f":" I16/RTD(\"cqg.rtd\",,\"StudyData\",B16, \"ATR\", \"MaType=Sim,Period=10\", \"ATR\",\"D\",\"-1\",\"ALL\",,,\"FALSE\",\"T\")/100","v":0},{"$f":"RTD(\"cqg.rtd\", ,\"ContractData\",B16, \"OPen\",, \"T\")","v":10.09},{"$f":"RTD(\"cqg.rtd\", ,\"ContractData\", B16, \"HIgh\",, \"T\")","v":10.19},{"$f":"RTD(\"cqg.rtd\", ,\"ContractData\",B16, \"LOw\",, \"T\")","v":10.08},{"$f":"RTD(\"cqg.rtd\", ,\"ContractData\",B16, \"T_CVol\",, \"T\")","v":2371778},null,{"$f":" IFERROR(O16/RTD(\"cqg.rtd\",,\"StudyData\",B16, \"MA\", \"InputChoice=Vol,MAType=Sim,Period=21\", \"MA\",\"D\",\"-1\",\"all\",,,,\"T\"),\"\")","v":7.6298929563935552E-2}]
[null,null,"Top 15 Description",null,null,null,null,"Last","NC","%NC","NC/ATR","Open","High","Low","Volume",null,"Ratio"]
[{"$f":"TRIM(IUSV!I1)","v":"S.US.LB"},"News",{"$f":"RTD(\"cqg.rtd\", ,\"ContractData\",A18, \"LongDescription\",, \"T\")&\" (\"&RIGHT(A18,LEN(A18)-5)&\")\"","v":"L Brands, Inc. (LB)"},null,null,null,null,{"$f":"RTD(\"cqg.rtd\", ,\"ContractData\",A18, \"LastTradeToday\",, \"T\")","v":50.31},{"$f":"RTD(\"cqg.rtd\", ,\"ContractData\",A18, \"NetLastTradeToday\",, \"T\")","v":1.9100000000000001},{"$f":"RTD(\"cqg.rtd\", ,\"ContractData\",A18, \"PerCentNetLastTrade\",, \"T\")/100","v":3.9462809917355374E-2},{"$f":" I18/RTD(\"cqg.rtd\",,\"StudyData\",A18, \"ATR\", \"MaType=Sim,Period=10\", \"ATR\",\"D\",\"-1\",\"ALL\",,,\"FALSE\",\"T\")/100","v":1.1034084344309646E-2},{"$f":"RTD(\"cqg.rtd\", ,\"ContractData\",A18, \"OPen\",, \"T\")","v":51.78},{"$f":"RTD(\"cqg.rtd\", ,\"ContractData\", A18, \"HIgh\",, \"T\")","v":53.13},{"$f":"RTD(\"cqg.rtd\", ,\"ContractData\",A18, \"LOw\",, \"T\")","v":50.050000000000004},{"$f":"RTD(\"cqg.rtd\", ,\"ContractData\",A18, \"T_CVol\",, \"T\")","v":2991975},null,{"$f":" IFERROR(O18/RTD(\"cqg.rtd\",,\"StudyData\",A18, \"MA\", \"InputChoice=Vol,MAType=Sim,Period=21\", \"MA\",\"D\",\"-1\",\"all\",,,,\"T\"),\"\")","v":0.71024661957731672},{"$f":"IUSV!Q1","v":"https://finance.yahoo.com/quote/LB"}]
[{"$f":"TRIM(IUSV!I2)","v":"S.US.VRTX"},"News",{"$f":"RTD(\"cqg.rtd\", ,\"ContractData\",A19, \"LongDescription\",, \"T\")&\" (\"&RIGHT(A19,LEN(A19)-5)&\")\"","v":"Vertex Pharmaceuticals Incorporated (VRTX)"},null,null,null,null,{"$f":"RTD(\"cqg.rtd\", ,\"ContractData\",A19, \"LastTradeToday\",, \"T\")","v":118.42},{"$f":"RTD(\"cqg.rtd\", ,\"ContractData\",A19, \"NetLastTradeToday\",, \"T\")","v":4.04},{"$f":"RTD(\"cqg.rtd\", ,\"ContractData\",A19, \"PerCentNetLastTrade\",, \"T\")/100","v":3.5320860290260533E-2},{"$f":" I19/RTD(\"cqg.rtd\",,\"StudyData\",A19, \"ATR\", \"MaType=Sim,Period=10\", \"ATR\",\"D\",\"-1\",\"ALL\",,,\"FALSE\",\"T\")/100","v":1.4696253182975627E-2},{"$f":"RTD(\"cqg.rtd\", ,\"ContractData\",A19, \"OPen\",, \"T\")","v":115.55},{"$f":"RTD(\"cqg.rtd\", ,\"ContractData\", A19, \"HIgh\",, \"T\")","v":118.61},{"$f":"RTD(\"cqg.rtd\", ,\"ContractData\",A19, \"LOw\",, \"T\")","v":115.42},{"$f":"RTD(\"cqg.rtd\", ,\"ContractData\",A19, \"T_CVol\",, \"T\")","v":446404},null,{"$f":" IFERROR(O19/RTD(\"cqg.rtd\",,\"StudyData\",A19, \"MA\", \"InputChoice=Vol,MAType=Sim,Period=21\", \"MA\",\"D\",\"-1\",\"all\",,,,\"T\"),\"\")","v":0.26056885130536483},{"$f":"IUSV!Q2","v":"https://finance.yahoo.com/quote/VRTX"}]
[{"$f":"TRIM(IUSV!I3)","v":"S.US.KMX"},"News",{"$f":"RTD(\"cqg.rtd\", ,\"ContractData\",A20, \"LongDescription\",, \"T\")&\" (\"&RIGHT(A20,LEN(A20)-5)&\")\"","v":"Carmax Inc (KMX)"},null,null,null,null,{"$f":"RTD(\"cqg.rtd\", ,\"ContractData\",A20, \"LastTradeToday\",, \"T\")","v":62.120000000000005},{"$f":"RTD(\"cqg.rtd\", ,\"ContractData\",A20, \"NetLastTradeToday\",, \"T\")","v":2.1},{"$f":"RTD(\"cqg.rtd\", ,\"ContractData\",A20, \"PerCentNetLastTrade\",, \"T\")/100","v":3.4988337220926355E-2},{"$f":" I20/RTD(\"cqg.rtd\",,\"StudyData\",A20, \"ATR\", \"MaType=Sim,Period=10\", \"ATR\",\"D\",\"-1\",\"ALL\",,,\"FALSE\",\"T\")/100","v":1.5578635014836795E-2},{"$f":"RTD(\"cqg.rtd\", ,\"ContractData\",A20, \"OPen\",, \"T\")","v":61.230000000000004},{"$f":"RTD(\"cqg.rtd\", ,\"ContractData\", A20, \"HIgh\",, \"T\")","v":62.75},{"$f":"RTD(\"cqg.rtd\", ,\"ContractData\",A20, \"LOw\",, \"T\")","v":61.03},{"$f":"RTD(\"cqg.rtd\", ,\"ContractData\",A20, \"T_CVol\",, \"T\")","v":1407835},null,{"$f":" IFERROR(O20/RTD(\"cqg.rtd\",,\"StudyData\",A20, \"MA\", \"InputChoice=Vol,MAType=Sim,Period=21\", \"MA\",\"D\",\"-1\",\"all\",,,,\"T\"),\"\")","v":0.52901028715287435},{"$f":"IUSV!Q3","v":"https://finance.yahoo.com/quote/KMX"}]
[{"$f":"TRIM(IUSV!I4)","v":"S.US.MU"},"News",{"$f":"RTD(\"cqg.rtd\", ,\"ContractData\",A21, \"LongDescription\",, \"T\")&\" (\"&RIGHT(A21,LEN(A21)-5)&\")\"","v":"Micron Technology Inc (MU)"},null,null,null,null,{"$f":"RTD(\"cqg.rtd\", ,\"ContractData\",A21, \"LastTradeToday\",, \"T\")","v":27.650000000000002},{"$f":"RTD(\"cqg.rtd\", ,\"ContractData\",A21, \"NetLastTradeToday\",, \"T\")","v":0.65},{"$f":"RTD(\"cqg.rtd\", ,\"ContractData\",A21, \"PerCentNetLastTrade\",, \"T\")/100","v":2.4074074074074074E-2},{"$f":" I21/RTD(\"cqg.rtd\",,\"StudyData\",A21, \"ATR\", \"MaType=Sim,Period=10\", \"ATR\",\"D\",\"-1\",\"ALL\",,,\"FALSE\",\"T\")/100","v":8.6551264980026625E-3},{"$f":"RTD(\"cqg.rtd\", ,\"ContractData\",A21, \"OPen\",, \"T\")","v":27.150000000000002},{"$f":"RTD(\"cqg.rtd\", ,\"ContractData\", A21, \"HIgh\",, \"T\")","v":27.89},{"$f":"RTD(\"cqg.rtd\", ,\"ContractData\",A21, \"LOw\",, \"T\")","v":27.080000000000002},{"$f":"RTD(\"cqg.rtd\", ,\"ContractData\",A21, \"T_CVol\",, \"T\")","v":9100890},null,{"$f":" IFERROR(O21/RTD(\"cqg.rtd\",,\"StudyData\",A21, \"MA\", \"InputChoice=Vol,MAType=Sim,Period=21\", \"MA\",\"D\",\"-1\",\"all\",,,,\"T\"),\"\")","v":0.36824118365951447},{"$f":"IUSV!Q4","v":"https://finance.yahoo.com/quote/MU"}]
[{"$f":"TRIM(IUSV!I5)","v":"S.US.QRVO"},"News",{"$f":"RTD(\"cqg.rtd\", ,\"ContractData\",A22, \"LongDescription\",, \"T\")&\" (\"&RIGHT(A22,LEN(A22)-5)&\")\"","v":"Qorvo (QRVO)"},null,null,null,null,{"$f":"RTD(\"cqg.rtd\", ,\"ContractData\",A22, \"LastTradeToday\",, \"T\")","v":74.239999999999995},{"$f":"RTD(\"cqg.rtd\", ,\"ContractData\",A22, \"NetLastTradeToday\",, \"T\")","v":1.7},{"$f":"RTD(\"cqg.rtd\", ,\"ContractData\",A22, \"PerCentNetLastTrade\",, \"T\")/100","v":2.3435346015991176E-2},{"$f":" I22/RTD(\"cqg.rtd\",,\"StudyData\",A22, \"ATR\", \"MaType=Sim,Period=10\", \"ATR\",\"D\",\"-1\",\"ALL\",,,\"FALSE\",\"T\")/100","v":7.7838827838827831E-3},{"$f":"RTD(\"cqg.rtd\", ,\"ContractData\",A22, \"OPen\",, \"T\")","v":72.16},{"$f":"RTD(\"cqg.rtd\", ,\"ContractData\", A22, \"HIgh\",, \"T\")","v":74.55},{"$f":"RTD(\"cqg.rtd\", ,\"ContractData\",A22, \"LOw\",, \"T\")","v":71.75},{"$f":"RTD(\"cqg.rtd\", ,\"ContractData\",A22, \"T_CVol\",, \"T\")","v":501105},null,{"$f":" IFERROR(O22/RTD(\"cqg.rtd\",,\"StudyData\",A22, \"MA\", \"InputChoice=Vol,MAType=Sim,Period=21\", \"MA\",\"D\",\"-1\",\"all\",,,,\"T\"),\"\")","v":0.26593017850206013},{"$f":"IUSV!Q5","v":"https://finance.yahoo.com/quote/QRVO"}]
[{"$f":"TRIM(IUSV!I6)","v":"S.US.WMT"},"News",{"$f":"RTD(\"cqg.rtd\", ,\"ContractData\",A23, \"LongDescription\",, \"T\")&\" (\"&RIGHT(A23,LEN(A23)-5)&\")\"","v":"Wal-Mart Stores Inc (WMT)"},null,null,null,null,{"$f":"RTD(\"cqg.rtd\", ,\"ContractData\",A23, \"LastTradeToday\",, \"T\")","v":76.87},{"$f":"RTD(\"cqg.rtd\", ,\"ContractData\",A23, \"NetLastTradeToday\",, \"T\")","v":1.75},{"$f":"RTD(\"cqg.rtd\", ,\"ContractData\",A23, \"PerCentNetLastTrade\",, \"T\")/100","v":2.3296059637912672E-2},{"$f":" I23/RTD(\"cqg.rtd\",,\"StudyData\",A23, \"ATR\", \"MaType=Sim,Period=10\", \"ATR\",\"D\",\"-1\",\"ALL\",,,\"FALSE\",\"T\")/100","v":2.3521505376344086E-2},{"$f":"RTD(\"cqg.rtd\", ,\"ContractData\",A23, \"OPen\",, \"T\")","v":76.89},{"$f":"RTD(\"cqg.rtd\", ,\"ContractData\", A23, \"HIgh\",, \"T\")","v":77.5},{"$f":"RTD(\"cqg.rtd\", ,\"ContractData\",A23, \"LOw\",, \"T\")","v":76.13},{"$f":"RTD(\"cqg.rtd\", ,\"ContractData\",A23, \"T_CVol\",, \"T\")","v":5074716},null,{"$f":" IFERROR(O23/RTD(\"cqg.rtd\",,\"StudyData\",A23, \"MA\", \"InputChoice=Vol,MAType=Sim,Period=21\", \"MA\",\"D\",\"-1\",\"all\",,,,\"T\"),\"\")","v":0.71993922379824271},{"$f":"IUSV!Q6","v":"https://finance.yahoo.com/quote/WMT"}]
[{"$f":"TRIM(IUSV!I7)","v":"S.US.CCL"},"News",{"$f":"RTD(\"cqg.rtd\", ,\"ContractData\",A24, \"LongDescription\",, \"T\")&\" (\"&RIGHT(A24,LEN(A24)-5)&\")\"","v":"Carnival Corp (CCL)"},null,null,null,null,{"$f":"RTD(\"cqg.rtd\", ,\"ContractData\",A24, \"LastTradeToday\",, \"T\")","v":60.97},{"$f":"RTD(\"cqg.rtd\", ,\"ContractData\",A24, \"NetLastTradeToday\",, \"T\")","v":1.22},{"$f":"RTD(\"cqg.rtd\", ,\"ContractData\",A24, \"PerCentNetLastTrade\",, \"T\")/100","v":2.0418410041841004E-2},{"$f":" I24/RTD(\"cqg.rtd\",,\"StudyData\",A24, \"ATR\", \"MaType=Sim,Period=10\", \"ATR\",\"D\",\"-1\",\"ALL\",,,\"FALSE\",\"T\")/100","v":1.6010498687664042E-2},{"$f":"RTD(\"cqg.rtd\", ,\"ContractData\",A24, \"OPen\",, \"T\")","v":60.61},{"$f":"RTD(\"cqg.rtd\", ,\"ContractData\", A24, \"HIgh\",, \"T\")","v":61.03},{"$f":"RTD(\"cqg.rtd\", ,\"ContractData\",A24, \"LOw\",, \"T\")","v":60.27},{"$f":"RTD(\"cqg.rtd\", ,\"ContractData\",A24, \"T_CVol\",, \"T\")","v":628021},null,{"$f":" IFERROR(O24/RTD(\"cqg.rtd\",,\"StudyData\",A24, \"MA\", \"InputChoice=Vol,MAType=Sim,Period=21\", \"MA\",\"D\",\"-1\",\"all\",,,,\"T\"),\"\")","v":0.20725697308075275},{"$f":"IUSV!Q7","v":"https://finance.yahoo.com/quote/CCL"}]
[{"$f":"TRIM(IUSV!I8)","v":"S.US.RDC"},"News",{"$f":"RTD(\"cqg.rtd\", ,\"ContractData\",A25, \"LongDescription\",, \"T\")&\" (\"&RIGHT(A25,LEN(A25)-5)&\")\"","v":"Rowan Companies Inc (RDC)"},null,null,null,null,{"$f":"RTD(\"cqg.rtd\", ,\"ContractData\",A25, \"LastTradeToday\",, \"T\")","v":13.58},{"$f":"RTD(\"cqg.rtd\", ,\"ContractData\",A25, \"NetLastTradeToday\",, \"T\")","v":0.27},{"$f":"RTD(\"cqg.rtd\", ,\"ContractData\",A25, \"PerCentNetLastTrade\",, \"T\")/100","v":2.0285499624342597E-2},{"$f":" I25/RTD(\"cqg.rtd\",,\"StudyData\",A25, \"ATR\", \"MaType=Sim,Period=10\", \"ATR\",\"D\",\"-1\",\"ALL\",,,\"FALSE\",\"T\")/100","v":4.9450549450549448E-3},{"$f":"RTD(\"cqg.rtd\", ,\"ContractData\",A25, \"OPen\",, \"T\")","v":13.25},{"$f":"RTD(\"cqg.rtd\", ,\"ContractData\", A25, \"HIgh\",, \"T\")","v":13.66},{"$f":"RTD(\"cqg.rtd\", ,\"ContractData\",A25, \"LOw\",, \"T\")","v":13.23},{"$f":"RTD(\"cqg.rtd\", ,\"ContractData\",A25, \"T_CVol\",, \"T\")","v":580455},null,{"$f":" IFERROR(O25/RTD(\"cqg.rtd\",,\"StudyData\",A25, \"MA\", \"InputChoice=Vol,MAType=Sim,Period=21\", \"MA\",\"D\",\"-1\",\"all\",,,,\"T\"),\"\")","v":0.19970121379683303},{"$f":"IUSV!Q8","v":"https://finance.yahoo.com/quote/RDC"}]
[{"$f":"TRIM(IUSV!I9)","v":"S.US.PVH"},"News",{"$f":"RTD(\"cqg.rtd\", ,\"ContractData\",A26, \"LongDescription\",, \"T\")&\" (\"&RIGHT(A26,LEN(A26)-5)&\")\"","v":"PVH Corp (PVH)"},null,null,null,null,{"$f":"RTD(\"cqg.rtd\", ,\"ContractData\",A26, \"LastTradeToday\",, \"T\")","v":99.41},{"$f":"RTD(\"cqg.rtd\", ,\"ContractData\",A26, \"NetLastTradeToday\",, \"T\")","v":1.94},{"$f":"RTD(\"cqg.rtd\", ,\"ContractData\",A26, \"PerCentNetLastTrade\",, \"T\")/100","v":1.9903560069765056E-2},{"$f":" I26/RTD(\"cqg.rtd\",,\"StudyData\",A26, \"ATR\", \"MaType=Sim,Period=10\", \"ATR\",\"D\",\"-1\",\"ALL\",,,\"FALSE\",\"T\")/100","v":1.0813823857302118E-2},{"$f":"RTD(\"cqg.rtd\", ,\"ContractData\",A26, \"OPen\",, \"T\")","v":97.87},{"$f":"RTD(\"cqg.rtd\", ,\"ContractData\", A26, \"HIgh\",, \"T\")","v":99.600000000000009},{"$f":"RTD(\"cqg.rtd\", ,\"ContractData\",A26, \"LOw\",, \"T\")","v":97.11},{"$f":"RTD(\"cqg.rtd\", ,\"ContractData\",A26, \"T_CVol\",, \"T\")","v":275011},null,{"$f":" IFERROR(O26/RTD(\"cqg.rtd\",,\"StudyData\",A26, \"MA\", \"InputChoice=Vol,MAType=Sim,Period=21\", \"MA\",\"D\",\"-1\",\"all\",,,,\"T\"),\"\")","v":0.28718087773088219},{"$f":"IUSV!Q9","v":"https://finance.yahoo.com/quote/PVH"}]
[{"$f":"TRIM(IUSV!I10)","v":"S.US.DDD"},"News",{"$f":"RTD(\"cqg.rtd\", ,\"ContractData\",A27, \"LongDescription\",, \"T\")&\" (\"&RIGHT(A27,LEN(A27)-5)&\")\"","v":"3D Systems Corporation (DDD)"},null,null,null,null,{"$f":"RTD(\"cqg.rtd\", ,\"ContractData\",A27, \"LastTradeToday\",, \"T\")","v":22.45},{"$f":"RTD(\"cqg.rtd\", ,\"ContractData\",A27, \"NetLastTradeToday\",, \"T\")","v":0.39},{"$f":"RTD(\"cqg.rtd\", ,\"ContractData\",A27, \"PerCentNetLastTrade\",, \"T\")/100","v":1.7679057116953764E-2},{"$f":" I27/RTD(\"cqg.rtd\",,\"StudyData\",A27, \"ATR\", \"MaType=Sim,Period=10\", \"ATR\",\"D\",\"-1\",\"ALL\",,,\"FALSE\",\"T\")/100","v":2.5308241401687222E-3},{"$f":"RTD(\"cqg.rtd\", ,\"ContractData\",A27, \"OPen\",, \"T\")","v":21.97},{"$f":"RTD(\"cqg.rtd\", ,\"ContractData\", A27, \"HIgh\",, \"T\")","v":22.900000000000002},{"$f":"RTD(\"cqg.rtd\", ,\"ContractData\",A27, \"LOw\",, \"T\")","v":21.64},{"$f":"RTD(\"cqg.rtd\", ,\"ContractData\",A27, \"T_CVol\",, \"T\")","v":960910},null,{"$f":" IFERROR(O27/RTD(\"cqg.rtd\",,\"StudyData\",A27, \"MA\", \"InputChoice=Vol,MAType=Sim,Period=21\", \"MA\",\"D\",\"-1\",\"all\",,,,\"T\"),\"\")","v":0.25193767406299478},{"$f":"IUSV!Q10","v":"https://finance.yahoo.com/quote/DDD"},"Bottom 15 Performing Companies "]
[{"$f":"TRIM(IUSV!I11)","v":"S.US.USD"},"News",{"$f":"RTD(\"cqg.rtd\", ,\"ContractData\",A28, \"LongDescription\",, \"T\")&\" (\"&RIGHT(A28,LEN(A28)-5)&\")\"","v":"ProShares Ultra Semiconductors (USD)"},null,null,null,null,{"$f":"RTD(\"cqg.rtd\", ,\"ContractData\",A28, \"LastTradeToday\",, \"T\")","v":82.820000000000007},{"$f":"RTD(\"cqg.rtd\", ,\"ContractData\",A28, \"NetLastTradeToday\",, \"T\")","v":1.46},{"$f":"RTD(\"cqg.rtd\", ,\"ContractData\",A28, \"PerCentNetLastTrade\",, \"T\")/100","v":1.7944936086529008E-2},{"$f":" I28/RTD(\"cqg.rtd\",,\"StudyData\",A28, \"ATR\", \"MaType=Sim,Period=10\", \"ATR\",\"D\",\"-1\",\"ALL\",,,\"FALSE\",\"T\")/100","v":6.9457659372026649E-3},{"$f":"RTD(\"cqg.rtd\", ,\"ContractData\",A28, \"OPen\",, \"T\")","v":80.55},{"$f":"RTD(\"cqg.rtd\", ,\"ContractData\", A28, \"HIgh\",, \"T\")","v":82.820000000000007},{"$f":"RTD(\"cqg.rtd\", ,\"ContractData\",A28, \"LOw\",, \"T\")","v":79.739999999999995},{"$f":"RTD(\"cqg.rtd\", ,\"ContractData\",A28, \"T_CVol\",, \"T\")","v":2421},null,{"$f":" IFERROR(O28/RTD(\"cqg.rtd\",,\"StudyData\",A28, \"MA\", \"InputChoice=Vol,MAType=Sim,Period=21\", \"MA\",\"D\",\"-1\",\"all\",,,,\"T\"),\"\")","v":0.49269786508270946},{"$f":"IUSV!Q11","v":"https://finance.yahoo.com/quote/USD"}]
[{"$f":"TRIM(IUSV!I12)","v":"S.US.NOV"},"News",{"$f":"RTD(\"cqg.rtd\", ,\"ContractData\",A29, \"LongDescription\",, \"T\")&\" (\"&RIGHT(A29,LEN(A29)-5)&\")\"","v":"National Oilwell Varco Inc (NOV)"},null,null,null,null,{"$f":"RTD(\"cqg.rtd\", ,\"ContractData\",A29, \"LastTradeToday\",, \"T\")","v":33.910000000000004},{"$f":"RTD(\"cqg.rtd\", ,\"ContractData\",A29, \"NetLastTradeToday\",, \"T\")","v":0.53},{"$f":"RTD(\"cqg.rtd\", ,\"ContractData\",A29, \"PerCentNetLastTrade\",, \"T\")/100","v":1.5877771120431396E-2},{"$f":" I29/RTD(\"cqg.rtd\",,\"StudyData\",A29, \"ATR\", \"MaType=Sim,Period=10\", \"ATR\",\"D\",\"-1\",\"ALL\",,,\"FALSE\",\"T\")/100","v":7.1045576407506705E-3},{"$f":"RTD(\"cqg.rtd\", ,\"ContractData\",A29, \"OPen\",, \"T\")","v":33.049999999999997},{"$f":"RTD(\"cqg.rtd\", ,\"ContractData\", A29, \"HIgh\",, \"T\")","v":34.14},{"$f":"RTD(\"cqg.rtd\", ,\"ContractData\",A29, \"LOw\",, \"T\")","v":33},{"$f":"RTD(\"cqg.rtd\", ,\"ContractData\",A29, \"T_CVol\",, \"T\")","v":599275},null,{"$f":" IFERROR(O29/RTD(\"cqg.rtd\",,\"StudyData\",A29, \"MA\", \"InputChoice=Vol,MAType=Sim,Period=21\", \"MA\",\"D\",\"-1\",\"all\",,,,\"T\"),\"\")","v":0.16800867300706387},{"$f":"IUSV!Q12","v":"https://finance.yahoo.com/quote/NOV"}]
[{"$f":"TRIM(IUSV!I13)","v":"S.US.MS"},"News",{"$f":"RTD(\"cqg.rtd\", ,\"ContractData\",A30, \"LongDescription\",, \"T\")&\" (\"&RIGHT(A30,LEN(A30)-5)&\")\"","v":"Morgan Stanley (MS)"},null,null,null,null,{"$f":"RTD(\"cqg.rtd\", ,\"ContractData\",A30, \"LastTradeToday\",, \"T\")","v":41.63},{"$f":"RTD(\"cqg.rtd\", ,\"ContractData\",A30, \"NetLastTradeToday\",, \"T\")","v":0.66},{"$f":"RTD(\"cqg.rtd\", ,\"ContractData\",A30, \"PerCentNetLastTrade\",, \"T\")/100","v":1.6109348303636809E-2},{"$f":" I30/RTD(\"cqg.rtd\",,\"StudyData\",A30, \"ATR\", \"MaType=Sim,Period=10\", \"ATR\",\"D\",\"-1\",\"ALL\",,,\"FALSE\",\"T\")/100","v":7.7922077922077922E-3},{"$f":"RTD(\"cqg.rtd\", ,\"ContractData\",A30, \"OPen\",, \"T\")","v":41},{"$f":"RTD(\"cqg.rtd\", ,\"ContractData\", A30, \"HIgh\",, \"T\")","v":41.71},{"$f":"RTD(\"cqg.rtd\", ,\"ContractData\",A30, \"LOw\",, \"T\")","v":40.97},{"$f":"RTD(\"cqg.rtd\", ,\"ContractData\",A30, \"T_CVol\",, \"T\")","v":2896028},null,{"$f":" IFERROR(O30/RTD(\"cqg.rtd\",,\"StudyData\",A30, \"MA\", \"InputChoice=Vol,MAType=Sim,Period=21\", \"MA\",\"D\",\"-1\",\"all\",,,,\"T\"),\"\")","v":0.28197965198197872},{"$f":"IUSV!Q13","v":"https://finance.yahoo.com/quote/MS"}]
[{"$f":"TRIM(IUSV!I14)","v":"S.US.RCL"},"News",{"$f":"RTD(\"cqg.rtd\", ,\"ContractData\",A31, \"LongDescription\",, \"T\")&\" (\"&RIGHT(A31,LEN(A31)-5)&\")\"","v":"Royal Carribean Cruises Ltd (RCL)"},null,null,null,null,{"$f":"RTD(\"cqg.rtd\", ,\"ContractData\",A31, \"LastTradeToday\",, \"T\")","v":105.13},{"$f":"RTD(\"cqg.rtd\", ,\"ContractData\",A31, \"NetLastTradeToday\",, \"T\")","v":1.48},{"$f":"RTD(\"cqg.rtd\", ,\"ContractData\",A31, \"PerCentNetLastTrade\",, \"T\")/100","v":1.427882296189098E-2},{"$f":" I31/RTD(\"cqg.rtd\",,\"StudyData\",A31, \"ATR\", \"MaType=Sim,Period=10\", \"ATR\",\"D\",\"-1\",\"ALL\",,,\"FALSE\",\"T\")/100","v":9.4993581514762511E-3},{"$f":"RTD(\"cqg.rtd\", ,\"ContractData\",A31, \"OPen\",, \"T\")","v":104.01},{"$f":"RTD(\"cqg.rtd\", ,\"ContractData\", A31, \"HIgh\",, \"T\")","v":105.69},{"$f":"RTD(\"cqg.rtd\", ,\"ContractData\",A31, \"LOw\",, \"T\")","v":103.74000000000001},{"$f":"RTD(\"cqg.rtd\", ,\"ContractData\",A31, \"T_CVol\",, \"T\")","v":163406},null,{"$f":" IFERROR(O31/RTD(\"cqg.rtd\",,\"StudyData\",A31, \"MA\", \"InputChoice=Vol,MAType=Sim,Period=21\", \"MA\",\"D\",\"-1\",\"all\",,,,\"T\"),\"\")","v":9.3169941581816504E-2},{"$f":"IUSV!Q14","v":"https://finance.yahoo.com/quote/RCL"}]
[{"$f":"TRIM(IUSV!I15)","v":"S.US.IVZ"},"News",{"$f":"RTD(\"cqg.rtd\", ,\"ContractData\",A32, \"LongDescription\",, \"T\")&\" (\"&RIGHT(A32,LEN(A32)-5)&\")\"","v":"INVESCO LTD (IVZ)"},null,null,null,null,{"$f":"RTD(\"cqg.rtd\", ,\"ContractData\",A32, \"LastTradeToday\",, \"T\")","v":31.09},{"$f":"RTD(\"cqg.rtd\", ,\"ContractData\",A32, \"NetLastTradeToday\",, \"T\")","v":0.43},{"$f":"RTD(\"cqg.rtd\", ,\"ContractData\",A32, \"PerCentNetLastTrade\",, \"T\")/100","v":1.4024787997390738E-2},{"$f":" I32/RTD(\"cqg.rtd\",,\"StudyData\",A32, \"ATR\", \"MaType=Sim,Period=10\", \"ATR\",\"D\",\"-1\",\"ALL\",,,\"FALSE\",\"T\")/100","v":7.6785714285714278E-3},{"$f":"RTD(\"cqg.rtd\", ,\"ContractData\",A32, \"OPen\",, \"T\")","v":30.69},{"$f":"RTD(\"cqg.rtd\", ,\"ContractData\", A32, \"HIgh\",, \"T\")","v":31.11},{"$f":"RTD(\"cqg.rtd\", ,\"ContractData\",A32, \"LOw\",, \"T\")","v":30.51},{"$f":"RTD(\"cqg.rtd\", ,\"ContractData\",A32, \"T_CVol\",, \"T\")","v":675296},null,{"$f":" IFERROR(O32/RTD(\"cqg.rtd\",,\"StudyData\",A32, \"MA\", \"InputChoice=Vol,MAType=Sim,Period=21\", \"MA\",\"D\",\"-1\",\"all\",,,,\"T\"),\"\")","v":0.2509320849854263},{"$f":"IUSV!Q15","v":"https://finance.yahoo.com/quote/IVZ"}]
[null,null,"Bottom 15 Description",null,null,null,null,"Last","NC","%NC","NC/ATR","Open","High","Low","Volume",null,"Ratio"]
[{"$f":"TRIM(IUSV!N15)","v":"S.US.GEO"},"News",{"$f":"RTD(\"cqg.rtd\", ,\"ContractData\",A34, \"LongDescription\",, \"T\")&\" (\"&RIGHT(A34,LEN(A34)-5)&\")\"","v":"The GEO Group Inc (GEO)"},null,null,null,null,{"$f":"RTD(\"cqg.rtd\", ,\"ContractData\",A34, \"LastTradeToday\",, \"T\")","v":29.76},{"$f":"RTD(\"cqg.rtd\", ,\"ContractData\",A34, \"NetLastTradeToday\",, \"T\")","v":-0.88},{"$f":"RTD(\"cqg.rtd\", ,\"ContractData\",A34, \"PerCentNetLastTrade\",, \"T\")/100","v":-2.8720626631853787E-2},{"$f":" I34/RTD(\"cqg.rtd\",,\"StudyData\",A34, \"ATR\", \"MaType=Sim,Period=10\", \"ATR\",\"D\",\"-1\",\"ALL\",,,\"FALSE\",\"T\")/100","v":-8.2784571966133588E-3},{"$f":"RTD(\"cqg.rtd\", ,\"ContractData\",A34, \"OPen\",, \"T\")","v":30.42},{"$f":"RTD(\"cqg.rtd\", ,\"ContractData\", A34, \"HIgh\",, \"T\")","v":30.43},{"$f":"RTD(\"cqg.rtd\", ,\"ContractData\",A34, \"LOw\",, \"T\")","v":29.740000000000002},{"$f":"RTD(\"cqg.rtd\", ,\"ContractData\",A34, \"T_CVol\",, \"T\")","v":211797},null,{"$f":" IFERROR(O34/RTD(\"cqg.rtd\",,\"StudyData\",A34, \"MA\", \"InputChoice=Vol,MAType=Sim,Period=21\", \"MA\",\"D\",\"-1\",\"all\",,,,\"T\"),\"\")","v":0.19697773643520169},{"$f":"IUSV!AB1","v":"https://finance.yahoo.com/quote/GEO"}]
[{"$f":"TRIM(IUSV!N14)","v":"S.US.ATI"},"News",{"$f":"RTD(\"cqg.rtd\", ,\"ContractData\",A35, \"LongDescription\",, \"T\")&\" (\"&RIGHT(A35,LEN(A35)-5)&\")\"","v":"Allegheny Tech Inc (ATI)"},null,null,null,null,{"$f":"RTD(\"cqg.rtd\", ,\"ContractData\",A35, \"LastTradeToday\",, \"T\")","v":14.65},{"$f":"RTD(\"cqg.rtd\", ,\"ContractData\",A35, \"NetLastTradeToday\",, \"T\")","v":-0.44},{"$f":"RTD(\"cqg.rtd\", ,\"ContractData\",A35, \"PerCentNetLastTrade\",, \"T\")/100","v":-2.9158383035122595E-2},{"$f":" I35/RTD(\"cqg.rtd\",,\"StudyData\",A35, \"ATR\", \"MaType=Sim,Period=10\", \"ATR\",\"D\",\"-1\",\"ALL\",,,\"FALSE\",\"T\")/100","v":-7.2368421052631578E-3},{"$f":"RTD(\"cqg.rtd\", ,\"ContractData\",A35, \"OPen\",, \"T\")","v":14.9},{"$f":"RTD(\"cqg.rtd\", ,\"ContractData\", A35, \"HIgh\",, \"T\")","v":14.91},{"$f":"RTD(\"cqg.rtd\", ,\"ContractData\",A35, \"LOw\",, \"T\")","v":14.530000000000001},{"$f":"RTD(\"cqg.rtd\", ,\"ContractData\",A35, \"T_CVol\",, \"T\")","v":297085},null,{"$f":" IFERROR(O35/RTD(\"cqg.rtd\",,\"StudyData\",A35, \"MA\", \"InputChoice=Vol,MAType=Sim,Period=21\", \"MA\",\"D\",\"-1\",\"all\",,,,\"T\"),\"\")","v":0.11213587029277319},{"$f":"IUSV!AB2","v":"https://finance.yahoo.com/quote/ATI"}]
[{"$f":"TRIM(IUSV!N13)","v":"S.US.CNK"},"News",{"$f":"RTD(\"cqg.rtd\", ,\"ContractData\",A36, \"LongDescription\",, \"T\")&\" (\"&RIGHT(A36,LEN(A36)-5)&\")\"","v":"Cinemark Holdings, Inc (CNK)"},null,null,null,null,{"$f":"RTD(\"cqg.rtd\", ,\"ContractData\",A36, \"LastTradeToday\",, \"T\")","v":39.79},{"$f":"RTD(\"cqg.rtd\", ,\"ContractData\",A36, \"NetLastTradeToday\",, \"T\")","v":-1.22},{"$f":"RTD(\"cqg.rtd\", ,\"ContractData\",A36, \"PerCentNetLastTrade\",, \"T\")/100","v":-2.9748841745915629E-2},{"$f":" I36/RTD(\"cqg.rtd\",,\"StudyData\",A36, \"ATR\", \"MaType=Sim,Period=10\", \"ATR\",\"D\",\"-1\",\"ALL\",,,\"FALSE\",\"T\")/100","v":-1.3958810068649885E-2},{"$f":"RTD(\"cqg.rtd\", ,\"ContractData\",A36, \"OPen\",, \"T\")","v":39.65},{"$f":"RTD(\"cqg.rtd\", ,\"ContractData\", A36, \"HIgh\",, \"T\")","v":40.450000000000003},{"$f":"RTD(\"cqg.rtd\", ,\"ContractData\",A36, \"LOw\",, \"T\")","v":39.01},{"$f":"RTD(\"cqg.rtd\", ,\"ContractData\",A36, \"T_CVol\",, \"T\")","v":366448},null,{"$f":" IFERROR(O36/RTD(\"cqg.rtd\",,\"StudyData\",A36, \"MA\", \"InputChoice=Vol,MAType=Sim,Period=21\", \"MA\",\"D\",\"-1\",\"all\",,,,\"T\"),\"\")","v":0.3979514679054052},{"$f":"IUSV!AB3","v":"https://finance.yahoo.com/quote/CNK"}]
[{"$f":"TRIM(IUSV!N12)","v":"S.US.JCP"},"News",{"$f":"RTD(\"cqg.rtd\", ,\"ContractData\",A37, \"LongDescription\",, \"T\")&\" (\"&RIGHT(A37,LEN(A37)-5)&\")\"","v":"Penney (JC) Company Inc (JCP)"},null,null,null,null,{"$f":"RTD(\"cqg.rtd\", ,\"ContractData\",A37, \"LastTradeToday\",, \"T\")","v":4.53},{"$f":"RTD(\"cqg.rtd\", ,\"ContractData\",A37, \"NetLastTradeToday\",, \"T\")","v":-0.14000000000000001},{"$f":"RTD(\"cqg.rtd\", ,\"ContractData\",A37, \"PerCentNetLastTrade\",, \"T\")/100","v":-2.9978586723768737E-2},{"$f":" I37/RTD(\"cqg.rtd\",,\"StudyData\",A37, \"ATR\", \"MaType=Sim,Period=10\", \"ATR\",\"D\",\"-1\",\"ALL\",,,\"FALSE\",\"T\")/100","v":-4.2168674698795181E-3},{"$f":"RTD(\"cqg.rtd\", ,\"ContractData\",A37, \"OPen\",, \"T\")","v":4.7},{"$f":"RTD(\"cqg.rtd\", ,\"ContractData\", A37, \"HIgh\",, \"T\")","v":4.7300000000000004},{"$f":"RTD(\"cqg.rtd\", ,\"ContractData\",A37, \"LOw\",, \"T\")","v":4.53},{"$f":"RTD(\"cqg.rtd\", ,\"ContractData\",A37, \"T_CVol\",, \"T\")","v":5575053},null,{"$f":" IFERROR(O37/RTD(\"cqg.rtd\",,\"StudyData\",A37, \"MA\", \"InputChoice=Vol,MAType=Sim,Period=21\", \"MA\",\"D\",\"-1\",\"all\",,,,\"T\"),\"\")","v":0.23718577081479233},{"$f":"IUSV!AB4","v":"https://finance.yahoo.com/quote/JCP"}]
[{"$f":"TRIM(IUSV!N11)","v":"S.US.ENDP"},"News",{"$f":"RTD(\"cqg.rtd\", ,\"ContractData\",A38, \"LongDescription\",, \"T\")&\" (\"&RIGHT(A38,LEN(A38)-5)&\")\"","v":"Endo International plc (ENDP)"},null,null,null,null,{"$f":"RTD(\"cqg.rtd\", ,\"ContractData\",A38, \"LastTradeToday\",, \"T\")","v":12.1},{"$f":"RTD(\"cqg.rtd\", ,\"ContractData\",A38, \"NetLastTradeToday\",, \"T\")","v":-0.42},{"$f":"RTD(\"cqg.rtd\", ,\"ContractData\",A38, \"PerCentNetLastTrade\",, \"T\")/100","v":-3.3546325878594248E-2},{"$f":" I38/RTD(\"cqg.rtd\",,\"StudyData\",A38, \"ATR\", \"MaType=Sim,Period=10\", \"ATR\",\"D\",\"-1\",\"ALL\",,,\"FALSE\",\"T\")/100","v":-5.0239234449760764E-3},{"$f":"RTD(\"cqg.rtd\", ,\"ContractData\",A38, \"OPen\",, \"T\")","v":12.47},{"$f":"RTD(\"cqg.rtd\", ,\"ContractData\", A38, \"HIgh\",, \"T\")","v":12.540000000000001},{"$f":"RTD(\"cqg.rtd\", ,\"ContractData\",A38, \"LOw\",, \"T\")","v":12.1},{"$f":"RTD(\"cqg.rtd\", ,\"ContractData\",A38, \"T_CVol\",, \"T\")","v":1869852},null,{"$f":" IFERROR(O38/RTD(\"cqg.rtd\",,\"StudyData\",A38, \"MA\", \"InputChoice=Vol,MAType=Sim,Period=21\", \"MA\",\"D\",\"-1\",\"all\",,,,\"T\"),\"\")","v":0.25039078114046631},{"$f":"IUSV!AB5","v":"https://finance.yahoo.com/quote/ENDP"}]
[{"$f":"TRIM(IUSV!N10)","v":"S.US.TUP"},"News",{"$f":"RTD(\"cqg.rtd\", ,\"ContractData\",A39, \"LongDescription\",, \"T\")&\" (\"&RIGHT(A39,LEN(A39)-5)&\")\"","v":"Tupperware Brands Corp (TUP)"},null,null,null,null,{"$f":"RTD(\"cqg.rtd\", ,\"ContractData\",A39, \"LastTradeToday\",, \"T\")","v":69.11},{"$f":"RTD(\"cqg.rtd\", ,\"ContractData\",A39, \"NetLastTradeToday\",, \"T\")","v":-2.54},{"$f":"RTD(\"cqg.rtd\", ,\"ContractData\",A39, \"PerCentNetLastTrade\",, \"T\")/100","v":-3.5450104675505932E-2},{"$f":" I39/RTD(\"cqg.rtd\",,\"StudyData\",A39, \"ATR\", \"MaType=Sim,Period=10\", \"ATR\",\"D\",\"-1\",\"ALL\",,,\"FALSE\",\"T\")/100","v":-2.7608695652173911E-2},{"$f":"RTD(\"cqg.rtd\", ,\"ContractData\",A39, \"OPen\",, \"T\")","v":71.010000000000005},{"$f":"RTD(\"cqg.rtd\", ,\"ContractData\", A39, \"HIgh\",, \"T\")","v":71.010000000000005},{"$f":"RTD(\"cqg.rtd\", ,\"ContractData\",A39, \"LOw\",, \"T\")","v":68.570000000000007},{"$f":"RTD(\"cqg.rtd\", ,\"ContractData\",A39, \"T_CVol\",, \"T\")","v":173526},null,{"$f":" IFERROR(O39/RTD(\"cqg.rtd\",,\"StudyData\",A39, \"MA\", \"InputChoice=Vol,MAType=Sim,Period=21\", \"MA\",\"D\",\"-1\",\"all\",,,,\"T\"),\"\")","v":0.28341832405442885},{"$f":"IUSV!AB6","v":"https://finance.yahoo.com/quote/TUP"}]
[{"$f":"TRIM(IUSV!N9)","v":"S.US.CXW"},"News",{"$f":"RTD(\"cqg.rtd\", ,\"ContractData\",A40, \"LongDescription\",, \"T\")&\" (\"&RIGHT(A40,LEN(A40)-5)&\")\"","v":"CoreCivic, Inc. (CXW)"},null,null,null,null,{"$f":"RTD(\"cqg.rtd\", ,\"ContractData\",A40, \"LastTradeToday\",, \"T\")","v":29.650000000000002},{"$f":"RTD(\"cqg.rtd\", ,\"ContractData\",A40, \"NetLastTradeToday\",, \"T\")","v":-1.0900000000000001},{"$f":"RTD(\"cqg.rtd\", ,\"ContractData\",A40, \"PerCentNetLastTrade\",, \"T\")/100","v":-3.5458685751463895E-2},{"$f":" I40/RTD(\"cqg.rtd\",,\"StudyData\",A40, \"ATR\", \"MaType=Sim,Period=10\", \"ATR\",\"D\",\"-1\",\"ALL\",,,\"FALSE\",\"T\")/100","v":-7.9853479853479858E-3},{"$f":"RTD(\"cqg.rtd\", ,\"ContractData\",A40, \"OPen\",, \"T\")","v":30.490000000000002},{"$f":"RTD(\"cqg.rtd\", ,\"ContractData\", A40, \"HIgh\",, \"T\")","v":30.490000000000002},{"$f":"RTD(\"cqg.rtd\", ,\"ContractData\",A40, \"LOw\",, \"T\")","v":29.61},{"$f":"RTD(\"cqg.rtd\", ,\"ContractData\",A40, \"T_CVol\",, \"T\")","v":353412},null,{"$f":" IFERROR(O40/RTD(\"cqg.rtd\",,\"StudyData\",A40, \"MA\", \"InputChoice=Vol,MAType=Sim,Period=21\", \"MA\",\"D\",\"-1\",\"all\",,,,\"T\"),\"\")","v":0.31330322014150325},{"$f":"IUSV!AB7","v":"https://finance.yahoo.com/quote/CXW"}]
[{"$f":"TRIM(IUSV!N8)","v":"S.US.SKT"},"News",{"$f":"RTD(\"cqg.rtd\", ,\"ContractData\",A41, \"LongDescription\",, \"T\")&\" (\"&RIGHT(A41,LEN(A41)-5)&\")\"","v":"Tanger Factory Outlet Centers, Inc. (SKT)"},null,null,null,null,{"$f":"RTD(\"cqg.rtd\", ,\"ContractData\",A41, \"LastTradeToday\",, \"T\")","v":24.71},{"$f":"RTD(\"cqg.rtd\", ,\"ContractData\",A41, \"NetLastTradeToday\",, \"T\")","v":-0.93},{"$f":"RTD(\"cqg.rtd\", ,\"ContractData\",A41, \"PerCentNetLastTrade\",, \"T\")/100","v":-3.6271450858034321E-2},{"$f":" I41/RTD(\"cqg.rtd\",,\"StudyData\",A41, \"ATR\", \"MaType=Sim,Period=10\", \"ATR\",\"D\",\"-1\",\"ALL\",,,\"FALSE\",\"T\")/100","v":-1.1018957345971565E-2},{"$f":"RTD(\"cqg.rtd\", ,\"ContractData\",A41, \"OPen\",, \"T\")","v":25.3},{"$f":"RTD(\"cqg.rtd\", ,\"ContractData\", A41, \"HIgh\",, \"T\")","v":25.400000000000002},{"$f":"RTD(\"cqg.rtd\", ,\"ContractData\",A41, \"LOw\",, \"T\")","v":24.71},{"$f":"RTD(\"cqg.rtd\", ,\"ContractData\",A41, \"T_CVol\",, \"T\")","v":921907},null,{"$f":" IFERROR(O41/RTD(\"cqg.rtd\",,\"StudyData\",A41, \"MA\", \"InputChoice=Vol,MAType=Sim,Period=21\", \"MA\",\"D\",\"-1\",\"all\",,,,\"T\"),\"\")","v":0.45829313020265477},{"$f":"IUSV!AB8","v":"https://finance.yahoo.com/quote/SKT"}]
[{"$f":"TRIM(IUSV!N7)","v":"S.US.WHR"},"News",{"$f":"RTD(\"cqg.rtd\", ,\"ContractData\",A42, \"LongDescription\",, \"T\")&\" (\"&RIGHT(A42,LEN(A42)-5)&\")\"","v":"Whirlpool Corp (WHR)"},null,null,null,null,{"$f":"RTD(\"cqg.rtd\", ,\"ContractData\",A42, \"LastTradeToday\",, \"T\")","v":175.45000000000002},{"$f":"RTD(\"cqg.rtd\", ,\"ContractData\",A42, \"NetLastTradeToday\",, \"T\")","v":-6.83},{"$f":"RTD(\"cqg.rtd\", ,\"ContractData\",A42, \"PerCentNetLastTrade\",, \"T\")/100","v":-3.7469826640333555E-2},{"$f":" I42/RTD(\"cqg.rtd\",,\"StudyData\",A42, \"ATR\", \"MaType=Sim,Period=10\", \"ATR\",\"D\",\"-1\",\"ALL\",,,\"FALSE\",\"T\")/100","v":-2.0753570343360683E-2},{"$f":"RTD(\"cqg.rtd\", ,\"ContractData\",A42, \"OPen\",, \"T\")","v":175.48},{"$f":"RTD(\"cqg.rtd\", ,\"ContractData\", A42, \"HIgh\",, \"T\")","v":178.8},{"$f":"RTD(\"cqg.rtd\", ,\"ContractData\",A42, \"LOw\",, \"T\")","v":172.97},{"$f":"RTD(\"cqg.rtd\", ,\"ContractData\",A42, \"T_CVol\",, \"T\")","v":347149},null,{"$f":" IFERROR(O42/RTD(\"cqg.rtd\",,\"StudyData\",A42, \"MA\", \"InputChoice=Vol,MAType=Sim,Period=21\", \"MA\",\"D\",\"-1\",\"all\",,,,\"T\"),\"\")","v":0.34770517927032663},{"$f":"IUSV!AB9","v":"https://finance.yahoo.com/quote/WHR"}]
[{"$f":"TRIM(IUSV!N6)","v":"S.US.AGCO"},"News",{"$f":"RTD(\"cqg.rtd\", ,\"ContractData\",A43, \"LongDescription\",, \"T\")&\" (\"&RIGHT(A43,LEN(A43)-5)&\")\"","v":"AGCO Corporation (AGCO)"},null,null,null,null,{"$f":"RTD(\"cqg.rtd\", ,\"ContractData\",A43, \"LastTradeToday\",, \"T\")","v":60.45},{"$f":"RTD(\"cqg.rtd\", ,\"ContractData\",A43, \"NetLastTradeToday\",, \"T\")","v":-2.4300000000000002},{"$f":"RTD(\"cqg.rtd\", ,\"ContractData\",A43, \"PerCentNetLastTrade\",, \"T\")/100","v":-3.8645038167938933E-2},{"$f":" I43/RTD(\"cqg.rtd\",,\"StudyData\",A43, \"ATR\", \"MaType=Sim,Period=10\", \"ATR\",\"D\",\"-1\",\"ALL\",,,\"FALSE\",\"T\")/100","v":-2.6241900647948166E-2},{"$f":"RTD(\"cqg.rtd\", ,\"ContractData\",A43, \"OPen\",, \"T\")","v":61.910000000000004},{"$f":"RTD(\"cqg.rtd\", ,\"ContractData\", A43, \"HIgh\",, \"T\")","v":61.910000000000004},{"$f":"RTD(\"cqg.rtd\", ,\"ContractData\",A43, \"LOw\",, \"T\")","v":60.33},{"$f":"RTD(\"cqg.rtd\", ,\"ContractData\",A43, \"T_CVol\",, \"T\")","v":203358},null,{"$f":" IFERROR(O43/RTD(\"cqg.rtd\",,\"StudyData\",A43, \"MA\", \"InputChoice=Vol,MAType=Sim,Period=21\", \"MA\",\"D\",\"-1\",\"all\",,,,\"T\"),\"\")","v":0.27641036328990554},{"$f":"IUSV!AB10","v":"https://finance.yahoo.com/quote/AGCO"}]
[{"$f":"TRIM(IUSV!N5)","v":"S.US.JBL"},"News",{"$f":"RTD(\"cqg.rtd\", ,\"ContractData\",A44, \"LongDescription\",, \"T\")&\" (\"&RIGHT(A44,LEN(A44)-5)&\")\"","v":"Jabil Circuit Inc (JBL)"},null,null,null,null,{"$f":"RTD(\"cqg.rtd\", ,\"ContractData\",A44, \"LastTradeToday\",, \"T\")","v":28.18},{"$f":"RTD(\"cqg.rtd\", ,\"ContractData\",A44, \"NetLastTradeToday\",, \"T\")","v":-1.1500000000000001},{"$f":"RTD(\"cqg.rtd\", ,\"ContractData\",A44, \"PerCentNetLastTrade\",, \"T\")/100","v":-3.9209001022843505E-2},{"$f":" I44/RTD(\"cqg.rtd\",,\"StudyData\",A44, \"ATR\", \"MaType=Sim,Period=10\", \"ATR\",\"D\",\"-1\",\"ALL\",,,\"FALSE\",\"T\")/100","v":-2.6195899772209569E-2},{"$f":"RTD(\"cqg.rtd\", ,\"ContractData\",A44, \"OPen\",, \"T\")","v":29.02},{"$f":"RTD(\"cqg.rtd\", ,\"ContractData\", A44, \"HIgh\",, \"T\")","v":29.02},{"$f":"RTD(\"cqg.rtd\", ,\"ContractData\",A44, \"LOw\",, \"T\")","v":28.16},{"$f":"RTD(\"cqg.rtd\", ,\"ContractData\",A44, \"T_CVol\",, \"T\")","v":462713},null,{"$f":" IFERROR(O44/RTD(\"cqg.rtd\",,\"StudyData\",A44, \"MA\", \"InputChoice=Vol,MAType=Sim,Period=21\", \"MA\",\"D\",\"-1\",\"all\",,,,\"T\"),\"\")","v":0.27063640339625294},{"$f":"IUSV!AB11","v":"https://finance.yahoo.com/quote/JBL"}]
[{"$f":"TRIM(IUSV!N4)","v":"S.US.OI"},"News",{"$f":"RTD(\"cqg.rtd\", ,\"ContractData\",A45, \"LongDescription\",, \"T\")&\" (\"&RIGHT(A45,LEN(A45)-5)&\")\"","v":"Owens-Illinois Inc (OI)"},null,null,null,null,{"$f":"RTD(\"cqg.rtd\", ,\"ContractData\",A45, \"LastTradeToday\",, \"T\")","v":21.27},{"$f":"RTD(\"cqg.rtd\", ,\"ContractData\",A45, \"NetLastTradeToday\",, \"T\")","v":-0.91},{"$f":"RTD(\"cqg.rtd\", ,\"ContractData\",A45, \"PerCentNetLastTrade\",, \"T\")/100","v":-4.1027953110910731E-2},{"$f":" I45/RTD(\"cqg.rtd\",,\"StudyData\",A45, \"ATR\", \"MaType=Sim,Period=10\", \"ATR\",\"D\",\"-1\",\"ALL\",,,\"FALSE\",\"T\")/100","v":-2.3575129533678754E-2},{"$f":"RTD(\"cqg.rtd\", ,\"ContractData\",A45, \"OPen\",, \"T\")","v":21.85},{"$f":"RTD(\"cqg.rtd\", ,\"ContractData\", A45, \"HIgh\",, \"T\")","v":21.85},{"$f":"RTD(\"cqg.rtd\", ,\"ContractData\",A45, \"LOw\",, \"T\")","v":20.82},{"$f":"RTD(\"cqg.rtd\", ,\"ContractData\",A45, \"T_CVol\",, \"T\")","v":614632},null,{"$f":" IFERROR(O45/RTD(\"cqg.rtd\",,\"StudyData\",A45, \"MA\", \"InputChoice=Vol,MAType=Sim,Period=21\", \"MA\",\"D\",\"-1\",\"all\",,,,\"T\"),\"\")","v":0.42072310500211951},{"$f":"IUSV!AB12","v":"https://finance.yahoo.com/quote/OI"}]
[{"$f":"TRIM(IUSV!N3)","v":"S.US.FSLR"},"News",{"$f":"RTD(\"cqg.rtd\", ,\"ContractData\",A46, \"LongDescription\",, \"T\")&\" (\"&RIGHT(A46,LEN(A46)-5)&\")\"","v":"First Solar, Inc (FSLR)"},null,null,null,null,{"$f":"RTD(\"cqg.rtd\", ,\"ContractData\",A46, \"LastTradeToday\",, \"T\")","v":33.49},{"$f":"RTD(\"cqg.rtd\", ,\"ContractData\",A46, \"NetLastTradeToday\",, \"T\")","v":-1.49},{"$f":"RTD(\"cqg.rtd\", ,\"ContractData\",A46, \"PerCentNetLastTrade\",, \"T\")/100","v":-4.259576901086335E-2},{"$f":" I46/RTD(\"cqg.rtd\",,\"StudyData\",A46, \"ATR\", \"MaType=Sim,Period=10\", \"ATR\",\"D\",\"-1\",\"ALL\",,,\"FALSE\",\"T\")/100","v":-1.1769352290679304E-2},{"$f":"RTD(\"cqg.rtd\", ,\"ContractData\",A46, \"OPen\",, \"T\")","v":34.58},{"$f":"RTD(\"cqg.rtd\", ,\"ContractData\", A46, \"HIgh\",, \"T\")","v":34.58},{"$f":"RTD(\"cqg.rtd\", ,\"ContractData\",A46, \"LOw\",, \"T\")","v":33.270000000000003},{"$f":"RTD(\"cqg.rtd\", ,\"ContractData\",A46, \"T_CVol\",, \"T\")","v":1255697},null,{"$f":" IFERROR(O46/RTD(\"cqg.rtd\",,\"StudyData\",A46, \"MA\", \"InputChoice=Vol,MAType=Sim,Period=21\", \"MA\",\"D\",\"-1\",\"all\",,,,\"T\"),\"\")","v":0.30980857948484652},{"$f":"IUSV!AB13","v":"https://finance.yahoo.com/quote/FSLR"}]
[{"$f":"TRIM(IUSV!N2)","v":"S.US.AVP"},"News",{"$f":"RTD(\"cqg.rtd\", ,\"ContractData\",A47, \"LongDescription\",, \"T\")&\" (\"&RIGHT(A47,LEN(A47)-5)&\")\"","v":"Avon Products Inc (AVP)"},null,null,null,null,{"$f":"RTD(\"cqg.rtd\", ,\"ContractData\",A47, \"LastTradeToday\",, \"T\")","v":3.42},{"$f":"RTD(\"cqg.rtd\", ,\"ContractData\",A47, \"NetLastTradeToday\",, \"T\")","v":-0.2},{"$f":"RTD(\"cqg.rtd\", ,\"ContractData\",A47, \"PerCentNetLastTrade\",, \"T\")/100","v":-5.5248618784530384E-2},{"$f":" I47/RTD(\"cqg.rtd\",,\"StudyData\",A47, \"ATR\", \"MaType=Sim,Period=10\", \"ATR\",\"D\",\"-1\",\"ALL\",,,\"FALSE\",\"T\")/100","v":-9.3457943925233655E-3},{"$f":"RTD(\"cqg.rtd\", ,\"ContractData\",A47, \"OPen\",, \"T\")","v":3.5500000000000003},{"$f":"RTD(\"cqg.rtd\", ,\"ContractData\", A47, \"HIgh\",, \"T\")","v":3.6},{"$f":"RTD(\"cqg.rtd\", ,\"ContractData\",A47, \"LOw\",, \"T\")","v":3.33},{"$f":"RTD(\"cqg.rtd\", ,\"ContractData\",A47, \"T_CVol\",, \"T\")","v":3074339},null,{"$f":" IFERROR(O47/RTD(\"cqg.rtd\",,\"StudyData\",A47, \"MA\", \"InputChoice=Vol,MAType=Sim,Period=21\", \"MA\",\"D\",\"-1\",\"all\",,,,\"T\"),\"\")","v":0.53119411337858746},{"$f":"IUSV!AB14","v":"https://finance.yahoo.com/quote/AVP"}]
[{"$f":"TRIM(IUSV!N1)","v":"S.US.CSCO"},"News",{"$f":"RTD(\"cqg.rtd\", ,\"ContractData\",A48, \"LongDescription\",, \"T\")&\" (\"&RIGHT(A48,LEN(A48)-5)&\")\"","v":"Cisco Systems Inc (CSCO)"},null,null,null,null,{"$f":"RTD(\"cqg.rtd\", ,\"ContractData\",A48, \"LastTradeToday\",, \"T\")","v":31.330000000000002},{"$f":"RTD(\"cqg.rtd\", ,\"ContractData\",A48, \"NetLastTradeToday\",, \"T\")","v":-2.4900000000000002},{"$f":"RTD(\"cqg.rtd\", ,\"ContractData\",A48, \"PerCentNetLastTrade\",, \"T\")/100","v":-7.3625073920756942E-2},{"$f":" I48/RTD(\"cqg.rtd\",,\"StudyData\",A48, \"ATR\", \"MaType=Sim,Period=10\", \"ATR\",\"D\",\"-1\",\"ALL\",,,\"FALSE\",\"T\")/100","v":-5.3896103896103893E-2},{"$f":"RTD(\"cqg.rtd\", ,\"ContractData\",A48, \"OPen\",, \"T\")","v":31.1},{"$f":"RTD(\"cqg.rtd\", ,\"ContractData\", A48, \"HIgh\",, \"T\")","v":31.51},{"$f":"RTD(\"cqg.rtd\", ,\"ContractData\",A48, \"LOw\",, \"T\")","v":30.37},{"$f":"RTD(\"cqg.rtd\", ,\"ContractData\",A48, \"T_CVol\",, \"T\")","v":26554161},null,{"$f":" IFERROR(O48/RTD(\"cqg.rtd\",,\"StudyData\",A48, \"MA\", \"InputChoice=Vol,MAType=Sim,Period=21\", \"MA\",\"D\",\"-1\",\"all\",,,,\"T\"),\"\")","v":1.4410700223099175},{"$f":"IUSV!AB15","v":"https://finance.yahoo.com/quote/CSCO"}]
[null,null,"CQG Inc.,   Copyright © 2017",null,null,null,"Designed by Thom Hartle",null,null,"iShares is a registered trademark of BlackRock, Inc. S&P® is a registered trademark of Standard & Poor’s Financial Services LLC",null,null,null,null,null,null,null,null,null,null,null,null,{"$f":"IUSV!B640","v":0.39906103286384975},"of the stocks in the ETF are higher today"]

{"sheet":"IUSV","index":1,"n_rows":3043,"n_cols":28,"rows_kept":3043,"cut":false,"hidden":true,"merged":[]}
[null,{"$f":"IF(D1>=0,1,)","v":1},"S.US.DDD",{"$f":"IFERROR(RTD(\"cqg.rtd\", ,\"ContractData\",C1, \"PerCentNetLastTrade\",, \"T\")/100,\"\")","v":1.7679057116953764E-2},10,{"$f":"IFERROR(E1,\"\")","v":10},"S.US.DDD",1,{"$f":"IFERROR(VLOOKUP(H1,$F$1:$G$639,2,FALSE),\"\")","v":"S.US.LB"},{"$f":"IFERROR(RTD(\"cqg.rtd\", ,\"ContractData\",I1, \"PerCentNetLastTrade\",, \"T\")/100,\"\")","v":3.9462809917355374E-2},null,{"$f":"MIN(D1:D639)","v":-7.3625073920756942E-2},{"$f":"VLOOKUP(L1,D1:G639,3,FALSE)","v":638},{"$f":"VLOOKUP(M1,$H$1:$I$639,2,FALSE)","v":"S.US.CSCO"},{"$f":"IFERROR(RTD(\"cqg.rtd\", ,\"ContractData\",N1, \"PerCentNetLastTrade\",, \"T\")/100,\"\")","v":-7.3625073920756942E-2},null,{"$f":"\"https://finance.yahoo.com/quote/\"&RIGHT(I1,(LEN(I1)-5))","v":"https://finance.yahoo.com/quote/LB"},null,{"$f":"RTD(\"cqg.rtd\", ,\"ContractData\",I1, \"LongDescription\",, \"T\")","v":"L Brands, Inc."},null,null,{"$f":"N15","v":"S.US.GEO"},{"$f":"RTD(\"cqg.rtd\", ,\"ContractData\",V1, \"LongDescription\",, \"T\")","v":"The GEO Group Inc"},null,null,{"$f":"IFERROR(RTD(\"cqg.rtd\", ,\"ContractData\",V1, \"PerCentNetLastTrade\",, \"T\")/100,\"\")","v":-2.8720626631853787E-2},{"$f":"Z1*-1","v":2.8720626631853787E-2},{"$f":"\"https://finance.yahoo.com/quote/\"&RIGHT(V1,(LEN(V1)-5))","v":"https://finance.yahoo.com/quote/GEO"}]
[null,{"$f":"IF(D2>=0,1,)","v":1},"S.US.MMM",{"$f":"IFERROR(RTD(\"cqg.rtd\", ,\"ContractData\",C2, \"PerCentNetLastTrade\",, \"T\")/100,\"\")","v":1.5397249024840895E-4},246,{"$f":"IFERROR(E2,\"\")","v":246},"S.US.MMM",{"$f":"H1+1","v":2},"S.US.VRTX",{"$f":"IFERROR(RTD(\"cqg.rtd\", ,\"ContractData\",I2, \"PerCentNetLastTrade\",, \"T\")/100,\"\")","v":3.5320860290260533E-2},null,null,{"$f":"M1-1","v":637},"S.US.AVP",{"$f":"IFERROR(RTD(\"cqg.rtd\", ,\"ContractData\",N2, \"PerCentNetLastTrade\",, \"T\")/100,\"\")","v":-5.5248618784530384E-2},null,{"$f":"\"https://finance.yahoo.com/quote/\"&RIGHT(I2,(LEN(I2)-5))","v":"https://finance.yahoo.com/quote/VRTX"},null,{"$f":"RTD(\"cqg.rtd\", ,\"ContractData\",I2, \"LongDescription\",, \"T\")","v":"Vertex Pharmaceuticals Incorporated"},null,null,{"$f":"N14","v":"S.US.ATI"},{"$f":"RTD(\"cqg.rtd\", ,\"ContractData\",V2, \"LongDescription\",, \"T\")","v":"Allegheny Tech Inc"},null,null,{"$f":"IFERROR(RTD(\"cqg.rtd\", ,\"ContractData\",V2, \"PerCentNetLastTrade\",, \"T\")/100,\"\")","v":-2.9158383035122595E-2},{"$f":"Z2*-1","v":2.9158383035122595E-2},{"$f":"\"https://finance.yahoo.com/quote/\"&RIGHT(V2,(LEN(V2)-5))","v":"https://finance.yahoo.com/quote/ATI"}]
[null,0,"S.US.AAN",{"$f":"IFERROR(RTD(\"cqg.rtd\", ,\"ContractData\",C3, \"PerCentNetLastTrade\",, \"T\")/100,\"\")","v":-3.707929264118654E-3},363,363,"S.US.AAN",{"$f":"H2+1","v":3},"S.US.KMX",{"$f":"IFERROR(RTD(\"cqg.rtd\", ,\"ContractData\",I3, \"PerCentNetLastTrade\",, \"T\")/100,\"\")","v":3.4988337220926355E-2},null,null,{"$f":"M2-1","v":636},"S.US.FSLR",{"$f":"IFERROR(RTD(\"cqg.rtd\", ,\"ContractData\",N3, \"PerCentNetLastTrade\",, \"T\")/100,\"\")","v":-4.259576901086335E-2},null,"https://finance.yahoo.com/quote/KMX",null,{"$f":"RTD(\"cqg.rtd\", ,\"ContractData\",I3, \"LongDescription\",, \"T\")","v":"Carmax Inc"},null,null,{"$f":"N13","v":"S.US.CNK"},{"$f":"RTD(\"cqg.rtd\", ,\"ContractData\",V3, \"LongDescription\",, \"T\")","v":"Cinemark Holdings, Inc"},null,null,{"$f":"IFERROR(RTD(\"cqg.rtd\", ,\"ContractData\",V3, \"PerCentNetLastTrade\",, \"T\")/100,\"\")","v":-2.9748841745915629E-2},2.9748841745915629E-2,"https://finance.yahoo.com/quote/CNK"]
[null,0,"S.US.ABT",{"$f":"IFERROR(RTD(\"cqg.rtd\", ,\"ContractData\",C4, \"PerCentNetLastTrade\",, \"T\")/100,\"\")","v":-4.6425255338904364E-4},272,272,"S.US.ABT",4,"S.US.MU",{"$f":"IFERROR(RTD(\"cqg.rtd\", ,\"ContractData\",I4, \"PerCentNetLastTrade\",, \"T\")/100,\"\")","v":2.4074074074074074E-2},null,null,635,"S.US.OI",{"$f":"IFERROR(RTD(\"cqg.rtd\", ,\"ContractData\",N4, \"PerCentNetLastTrade\",, \"T\")/100,\"\")","v":-4.1027953110910731E-2},null,"https://finance.yahoo.com/quote/MU",null,{"$f":"RTD(\"cqg.rtd\", ,\"ContractData\",I4, \"LongDescription\",, \"T\")","v":"Micron Technology Inc"},null,null,{"$f":"N12","v":"S.US.JCP"},{"$f":"RTD(\"cqg.rtd\", ,\"ContractData\",V4, \"LongDescription\",, \"T\")","v":"Penney (JC) Company Inc"},null,null,{"$f":"IFERROR(RTD(\"cqg.rtd\", ,\"ContractData\",V4, \"PerCentNetLastTrade\",, \"T\")/100,\"\")","v":-2.9978586723768737E-2},2.9978586723768737E-2,"https://finance.yahoo.com/quote/JCP"]
[null,0,"S.US.ACHC",{"$f":"IFERROR(RTD(\"cqg.rtd\", ,\"ContractData\",C5, \"PerCentNetLastTrade\",, \"T\")/100,\"\")","v":-1.2223789374706161E-2},554,554,"S.US.ACHC",5,"S.US.QRVO",{"$f":"IFERROR(RTD(\"cqg.rtd\", ,\"ContractData\",I5, \"PerCentNetLastTrade\",, \"T\")/100,\"\")","v":2.3435346015991176E-2},null,null,634,"S.US.JBL",{"$f":"IFERROR(RTD(\"cqg.rtd\", ,\"ContractData\",N5, \"PerCentNetLastTrade\",, \"T\")/100,\"\")","v":-3.9209001022843505E-2},null,"https://finance.yahoo.com/quote/QRVO",null,{"$f":"RTD(\"cqg.rtd\", ,\"ContractData\",I5, \"LongDescription\",, \"T\")","v":"Qorvo"},null,null,{"$f":"N11","v":"S.US.ENDP"},{"$f":"RTD(\"cqg.rtd\", ,\"ContractData\",V5, \"LongDescription\",, \"T\")","v":"Endo International plc"},null,null,{"$f":"IFERROR(RTD(\"cqg.rtd\", ,\"ContractData\",V5, \"PerCentNetLastTrade\",, \"T\")/100,\"\")","v":-3.3546325878594248E-2},3.3546325878594248E-2,"https://finance.yahoo.com/quote/ENDP"]
[null,0,"S.US.ACIW",{"$f":"IFERROR(RTD(\"cqg.rtd\", ,\"ContractData\",C6, \"PerCentNetLastTrade\",, \"T\")/100,\"\")","v":-6.3205417607223478E-3},467,467,"S.US.ACIW",6,"S.US.WMT",{"$f":"IFERROR(RTD(\"cqg.rtd\", ,\"ContractData\",I6, \"PerCentNetLastTrade\",, \"T\")/100,\"\")","v":2.3296059637912672E-2},null,null,633,"S.US.AGCO",{"$f":"IFERROR(RTD(\"cqg.rtd\", ,\"ContractData\",N6, \"PerCentNetLastTrade\",, \"T\")/100,\"\")","v":-3.8645038167938933E-2},null,"https://finance.yahoo.com/quote/WMT",null,{"$f":"RTD(\"cqg.rtd\", ,\"ContractData\",I6, \"LongDescription\",, \"T\")","v":"Wal-Mart Stores Inc"},null,null,{"$f":"N10","v":"S.US.TUP"},{"$f":"RTD(\"cqg.rtd\", ,\"ContractData\",V6, \"LongDescription\",, \"T\")","v":"Tupperware Brands Corp"},null,null,{"$f":"IFERROR(RTD(\"cqg.rtd\", ,\"ContractData\",V6, \"PerCentNetLastTrade\",, \"T\")/100,\"\")","v":-3.5450104675505932E-2},3.5450104675505932E-2,"https://finance.yahoo.com/quote/TUP"]
[null,0,"S.US.ACXM",{"$f":"IFERROR(RTD(\"cqg.rtd\", ,\"ContractData\",C7, \"PerCentNetLastTrade\",, \"T\")/100,\"\")","v":-7.6481835564053535E-3},486,486,"S.US.ACXM",7,"S.US.CCL",{"$f":"IFERROR(RTD(\"cqg.rtd\", ,\"ContractData\",I7, \"PerCentNetLastTrade\",, \"T\")/100,\"\")","v":2.0418410041841004E-2},null,null,632,"S.US.WHR",{"$f":"IFERROR(RTD(\"cqg.rtd\", ,\"ContractData\",N7, \"PerCentNetLastTrade\",, \"T\")/100,\"\")","v":-3.7469826640333555E-2},null,"https://finance.yahoo.com/quote/CCL",null,{"$f":"RTD(\"cqg.rtd\", ,\"ContractData\",I7, \"LongDescription\",, \"T\")","v":"Carnival Corp"},null,null,{"$f":"N9","v":"S.US.CXW"},{"$f":"RTD(\"cqg.rtd\", ,\"ContractData\",V7, \"LongDescription\",, \"T\")","v":"CoreCivic, Inc."},null,null,{"$f":"IFERROR(RTD(\"cqg.rtd\", ,\"ContractData\",V7, \"PerCentNetLastTrade\",, \"T\")/100,\"\")","v":-3.5458685751463895E-2},3.5458685751463895E-2,"https://finance.yahoo.com/quote/CXW"]
[null,0,"S.US.ACM",{"$f":"IFERROR(RTD(\"cqg.rtd\", ,\"ContractData\",C8, \"PerCentNetLastTrade\",, \"T\")/100,\"\")","v":-4.9550944564880767E-3},436,436,"S.US.ACM",8,"S.US.RDC",{"$f":"IFERROR(RTD(\"cqg.rtd\", ,\"ContractData\",I8, \"PerCentNetLastTrade\",, \"T\")/100,\"\")","v":2.0285499624342597E-2},null,null,631,"S.US.SKT",{"$f":"IFERROR(RTD(\"cqg.rtd\", ,\"ContractData\",N8, \"PerCentNetLastTrade\",, \"T\")/100,\"\")","v":-3.6271450858034321E-2},null,"https://finance.yahoo.com/quote/RDC",null,{"$f":"RTD(\"cqg.rtd\", ,\"ContractData\",I8, \"LongDescription\",, \"T\")","v":"Rowan Companies Inc"},null,null,{"$f":"N8","v":"S.US.SKT"},{"$f":"RTD(\"cqg.rtd\", ,\"ContractData\",V8, \"LongDescription\",, \"T\")","v":"Tanger Factory Outlet Centers, Inc."},null,null,{"$f":"IFERROR(RTD(\"cqg.rtd\", ,\"ContractData\",V8, \"PerCentNetLastTrade\",, \"T\")/100,\"\")","v":-3.6271450858034321E-2},3.6271450858034321E-2,"https://finance.yahoo.com/quote/SKT"]
[null,0,"S.US.AES",{"$f":"IFERROR(RTD(\"cqg.rtd\", ,\"ContractData\",C9, \"PerCentNetLastTrade\",, \"T\")/100,\"\")","v":-2.1182700794351281E-2},607,607,"S.US.AES",9,"S.US.PVH",{"$f":"IFERROR(RTD(\"cqg.rtd\", ,\"ContractData\",I9, \"PerCentNetLastTrade\",, \"T\")/100,\"\")","v":1.9903560069765056E-2},null,null,630,"S.US.CXW",{"$f":"IFERROR(RTD(\"cqg.rtd\", ,\"ContractData\",N9, \"PerCentNetLastTrade\",, \"T\")/100,\"\")","v":-3.5458685751463895E-2},null,"https://finance.yahoo.com/quote/PVH",null,{"$f":"RTD(\"cqg.rtd\", ,\"ContractData\",I9, \"LongDescription\",, \"T\")","v":"PVH Corp"},null,null,{"$f":"N7","v":"S.US.WHR"},{"$f":"RTD(\"cqg.rtd\", ,\"ContractData\",V9, \"LongDescription\",, \"T\")","v":"Whirlpool Corp"},null,null,{"$f":"IFERROR(RTD(\"cqg.rtd\", ,\"ContractData\",V9, \"PerCentNetLastTrade\",, \"T\")/100,\"\")","v":-3.7469826640333555E-2},3.7469826640333555E-2,"https://finance.yahoo.com/quote/WHR"]
[null,0,"S.US.AMG",{"$f":"IFERROR(RTD(\"cqg.rtd\", ,\"ContractData\",C10, \"PerCentNetLastTrade\",, \"T\")/100,\"\")","v":-9.465184008472332E-3},543,543,"S.US.AMG",10,"S.US.DDD",{"$f":"IFERROR(RTD(\"cqg.rtd\", ,\"ContractData\",I10, \"PerCentNetLastTrade\",, \"T\")/100,\"\")","v":1.7679057116953764E-2},null,null,629,"S.US.TUP",{"$f":"IFERROR(RTD(\"cqg.rtd\", ,\"ContractData\",N10, \"PerCentNetLastTrade\",, \"T\")/100,\"\")","v":-3.5450104675505932E-2},null,"https://finance.yahoo.com/quote/DDD",null,{"$f":"RTD(\"cqg.rtd\", ,\"ContractData\",I10, \"LongDescription\",, \"T\")","v":"3D Systems Corporation"},null,null,{"$f":"N6","v":"S.US.AGCO"},{"$f":"RTD(\"cqg.rtd\", ,\"ContractData\",V10, \"LongDescription\",, \"T\")","v":"AGCO Corporation"},null,null,{"$f":"IFERROR(RTD(\"cqg.rtd\", ,\"ContractData\",V10, \"PerCentNetLastTrade\",, \"T\")/100,\"\")","v":-3.8645038167938933E-2},3.8645038167938933E-2,"https://finance.yahoo.com/quote/AGCO"]
[null,0,"S.US.AFL",{"$f":"IFERROR(RTD(\"cqg.rtd\", ,\"ContractData\",C11, \"PerCentNetLastTrade\",, \"T\")/100,\"\")","v":-4.0749796251018743E-4},268,268,"S.US.AFL",11,"S.US.USD",{"$f":"IFERROR(RTD(\"cqg.rtd\", ,\"ContractData\",I11, \"PerCentNetLastTrade\",, \"T\")/100,\"\")","v":1.7944936086529008E-2},null,null,628,"S.US.ENDP",{"$f":"IFERROR(RTD(\"cqg.rtd\", ,\"ContractData\",N11, \"PerCentNetLastTrade\",, \"T\")/100,\"\")","v":-3.3546325878594248E-2},null,"https://finance.yahoo.com/quote/USD",null,{"$f":"RTD(\"cqg.rtd\", ,\"ContractData\",I11, \"LongDescription\",, \"T\")","v":"ProShares Ultra Semiconductors"},null,null,{"$f":"N5","v":"S.US.JBL"},{"$f":"RTD(\"cqg.rtd\", ,\"ContractData\",V11, \"LongDescription\",, \"T\")","v":"Jabil Circuit Inc"},null,null,{"$f":"IFERROR(RTD(\"cqg.rtd\", ,\"ContractData\",V11, \"PerCentNetLastTrade\",, \"T\")/100,\"\")","v":-3.9209001022843505E-2},3.9209001022843505E-2,"https://finance.yahoo.com/quote/JBL"]
[null,0,"S.US.AGCO",{"$f":"IFERROR(RTD(\"cqg.rtd\", ,\"ContractData\",C12, \"PerCentNetLastTrade\",, \"T\")/100,\"\")","v":-3.8645038167938933E-2},633,633,"S.US.AGCO",12,"S.US.NOV",{"$f":"IFERROR(RTD(\"cqg.rtd\", ,\"ContractData\",I12, \"PerCentNetLastTrade\",, \"T\")/100,\"\")","v":1.5877771120431396E-2},null,null,627,"S.US.JCP",{"$f":"IFERROR(RTD(\"cqg.rtd\", ,\"ContractData\",N12, \"PerCentNetLastTrade\",, \"T\")/100,\"\")","v":-2.9978586723768737E-2},null,"https://finance.yahoo.com/quote/NOV",null,{"$f":"RTD(\"cqg.rtd\", ,\"ContractData\",I12, \"LongDescription\",, \"T\")","v":"National Oilwell Varco Inc"},null,null,{"$f":"N4","v":"S.US.OI"},{"$f":"RTD(\"cqg.rtd\", ,\"ContractData\",V12, \"LongDescription\",, \"T\")","v":"Owens-Illinois Inc"},null,null,{"$f":"IFERROR(RTD(\"cqg.rtd\", ,\"ContractData\",V12, \"PerCentNetLastTrade\",, \"T\")/100,\"\")","v":-4.1027953110910731E-2},4.1027953110910731E-2,"https://finance.yahoo.com/quote/OI"]
[null,1,"S.US.A",{"$f":"IFERROR(RTD(\"cqg.rtd\", ,\"ContractData\",C13, \"PerCentNetLastTrade\",, \"T\")/100,\"\")","v":2.1516944593867669E-3},178,178,"S.US.A",13,"S.US.MS",{"$f":"IFERROR(RTD(\"cqg.rtd\", ,\"ContractData\",I13, \"PerCentNetLastTrade\",, \"T\")/100,\"\")","v":1.6109348303636809E-2},null,null,626,"S.US.CNK",{"$f":"IFERROR(RTD(\"cqg.rtd\", ,\"ContractData\",N13, \"PerCentNetLastTrade\",, \"T\")/100,\"\")","v":-2.9748841745915629E-2},null,"https://finance.yahoo.com/quote/MS",null,{"$f":"RTD(\"cqg.rtd\", ,\"ContractData\",I13, \"LongDescription\",, \"T\")","v":"Morgan Stanley"},null,null,{"$f":"N3","v":"S.US.FSLR"},{"$f":"RTD(\"cqg.rtd\", ,\"ContractData\",V13, \"LongDescription\",, \"T\")","v":"First Solar, Inc"},null,null,{"$f":"IFERROR(RTD(\"cqg.rtd\", ,\"ContractData\",V13, \"PerCentNetLastTrade\",, \"T\")/100,\"\")","v":-4.259576901086335E-2},4.259576901086335E-2,"https://finance.yahoo.com/quote/FSLR"]
[null,1,"S.US.APD",{"$f":"IFERROR(RTD(\"cqg.rtd\", ,\"ContractData\",C14, \"PerCentNetLastTrade\",, \"T\")/100,\"\")","v":1.5431016342849126E-3},209,209,"S.US.APD",14,"S.US.RCL",{"$f":"IFERROR(RTD(\"cqg.rtd\", ,\"ContractData\",I14, \"PerCentNetLastTrade\",, \"T\")/100,\"\")","v":1.427882296189098E-2},null,null,625,"S.US.ATI",{"$f":"IFERROR(RTD(\"cqg.rtd\", ,\"ContractData\",N14, \"PerCentNetLastTrade\",, \"T\")/100,\"\")","v":-2.9158383035122595E-2},null,"https://finance.yahoo.com/quote/RCL",null,{"$f":"RTD(\"cqg.rtd\", ,\"ContractData\",I14, \"LongDescription\",, \"T\")","v":"Royal Carribean Cruises Ltd"},null,null,{"$f":"N2","v":"S.US.AVP"},{"$f":"RTD(\"cqg.rtd\", ,\"ContractData\",V14, \"LongDescription\",, \"T\")","v":"Avon Products Inc"},null,null,{"$f":"IFERROR(RTD(\"cqg.rtd\", ,\"ContractData\",V14, \"PerCentNetLastTrade\",, \"T\")/100,\"\")","v":-5.5248618784530384E-2},5.5248618784530384E-2,"https://finance.yahoo.com/quote/AVP"]
[null,1,"S.US.ALK",{"$f":"IFERROR(RTD(\"cqg.rtd\", ,\"ContractData\",C15, \"PerCentNetLastTrade\",, \"T\")/100,\"\")","v":1.0828567952305633E-2},27,27,"S.US.ALK",15,"S.US.IVZ",{"$f":"IFERROR(RTD(\"cqg.rtd\", ,\"ContractData\",I15, \"PerCentNetLastTrade\",, \"T\")/100,\"\")","v":1.4024787997390738E-2},null,null,624,"S.US.GEO",{"$f":"IFERROR(RTD(\"cqg.rtd\", ,\"ContractData\",N15, \"PerCentNetLastTrade\",, \"T\")/100,\"\")","v":-2.8720626631853787E-2},null,"https://finance.yahoo.com/quote/IVZ",null,{"$f":"RTD(\"cqg.rtd\", ,\"ContractData\",I15, \"LongDescription\",, \"T\")","v":"INVESCO LTD"},null,null,{"$f":"N1","v":"S.US.CSCO"},{"$f":"RTD(\"cqg.rtd\", ,\"ContractData\",V15, \"LongDescription\",, \"T\")","v":"Cisco Systems Inc"},null,null,{"$f":"IFERROR(RTD(\"cqg.rtd\", ,\"ContractData\",V15, \"PerCentNetLastTrade\",, \"T\")/100,\"\")","v":-7.3625073920756942E-2},7.3625073920756942E-2,"https://finance.yahoo.com/quote/CSCO"]
[null,0,"S.US.ALEX",{"$f":"IFERROR(RTD(\"cqg.rtd\", ,\"ContractData\",C16, \"PerCentNetLastTrade\",, \"T\")/100,\"\")","v":-2.4545900834560628E-3},358,358,"S.US.ALEX",16,"S.US.HBAN"]
[null,0,"S.US.Y",{"$f":"IFERROR(RTD(\"cqg.rtd\", ,\"ContractData\",C17, \"PerCentNetLastTrade\",, \"T\")/100,\"\")","v":-2.1352693108418301E-3},343,343,"S.US.Y",17,"S.US.KR"]
[null,0,"S.US.ATI",{"$f":"IFERROR(RTD(\"cqg.rtd\", ,\"ContractData\",C18, \"PerCentNetLastTrade\",, \"T\")/100,\"\")","v":-2.9158383035122595E-2},625,625,"S.US.ATI",18,"S.US.THG"]
[null,0,"S.US.ALLE",{"$f":"IFERROR(RTD(\"cqg.rtd\", ,\"ContractData\",C19, \"PerCentNetLastTrade\",, \"T\")/100,\"\")","v":-5.4538371640046749E-3},450,450,"S.US.ALLE",19,"S.US.T"]
[null,0,"S.US.AGN",{"$f":"IFERROR(RTD(\"cqg.rtd\", ,\"ContractData\",C20, \"PerCentNetLastTrade\",, \"T\")/100,\"\")","v":-9.5311578087414338E-4},292,292,"S.US.AGN",20,"S.US.BAC"]
[null,0,"S.US.ADS",{"$f":"IFERROR(RTD(\"cqg.rtd\", ,\"ContractData\",C21, \"PerCentNetLastTrade\",, \"T\")/100,\"\")","v":-5.8776606910449633E-3},453,453,"S.US.ADS",21,"S.US.GS"]
[null,0,"S.US.LNT",{"$f":"IFERROR(RTD(\"cqg.rtd\", ,\"ContractData\",C22, \"PerCentNetLastTrade\",, \"T\")/100,\"\")","v":-1.2619888944977284E-3},284,284,"S.US.LNT",22,"S.US.CAH"]
[null,1,"S.US.MDRX",{"$f":"IFERROR(RTD(\"cqg.rtd\", ,\"ContractData\",C23, \"PerCentNetLastTrade\",, \"T\")/100,\"\")","v":4.2625745950554137E-3},137,137,"S.US.MDRX",23,"S.US.XLNX"]
[null,1,"S.US.ALL",{"$f":"IFERROR(RTD(\"cqg.rtd\", ,\"ContractData\",C24, \"PerCentNetLastTrade\",, \"T\")/100,\"\")","v":1.896633475580844E-3},195,195,"S.US.ALL",24,"S.US.EQR"]
[null,1,"S.US.AMCX",{"$f":"IFERROR(RTD(\"cqg.rtd\", ,\"ContractData\",C25, \"PerCentNetLastTrade\",, \"T\")/100,\"\")","v":6.9578662543486672E-3},74,74,"S.US.AMCX",25,"S.US.WBS"]
[null,1,"S.US.AEE",{"$f":"IFERROR(RTD(\"cqg.rtd\", ,\"ContractData\",C26, \"PerCentNetLastTrade\",, \"T\")/100,\"\")","v":1.6534999081388941E-3},223,223,"S.US.AEE",26,"S.US.PNR"]
[null,1,"S.US.AAL",{"$f":"IFERROR(RTD(\"cqg.rtd\", ,\"ContractData\",C27, \"PerCentNetLastTrade\",, \"T\")/100,\"\")","v":4.8975957257346393E-3},110,110,"S.US.AAL",27,"S.US.ALK"]
[null,1,"S.US.ACC",{"$f":"IFERROR(RTD(\"cqg.rtd\", ,\"ContractData\",C28, \"PerCentNetLastTrade\",, \"T\")/100,\"\")","v":7.163012806598654E-3},69,69,"S.US.ACC",28,"S.US.ZION"]
[null,0,"S.US.AEO",{"$f":"IFERROR(RTD(\"cqg.rtd\", ,\"ContractData\",C29, \"PerCentNetLastTrade\",, \"T\")/100,\"\")","v":-2.6244343891402715E-2},619,619,"S.US.AEO",29,"S.US.HRC"]
[null,0,"S.US.AEP",{"$f":"IFERROR(RTD(\"cqg.rtd\", ,\"ContractData\",C30, \"PerCentNetLastTrade\",, \"T\")/100,\"\")","v":-2.9347028613352897E-4},263,263,"S.US.AEP",30,"S.US.ADSK"]
[null,1,"S.US.AXP",{"$f":"IFERROR(RTD(\"cqg.rtd\", ,\"ContractData\",C31, \"PerCentNetLastTrade\",, \"T\")/100,\"\")","v":4.0591855440618042E-3},140,140,"S.US.AXP",31,"S.US.RJF"]
[null,1,"S.US.AFG",{"$f":"IFERROR(RTD(\"cqg.rtd\", ,\"ContractData\",C32, \"PerCentNetLastTrade\",, \"T\")/100,\"\")","v":3.5339361812701379E-3},156,156,"S.US.AFG",32,"S.US.OMC"]
[null,0,"S.US.AIG",{"$f":"IFERROR(RTD(\"cqg.rtd\", ,\"ContractData\",C33, \"PerCentNetLastTrade\",, \"T\")/100,\"\")","v":-2.7615334632878491E-3},369,369,"S.US.AIG",33,"S.US.WDC"]
[null,1,"S.US.AMP",{"$f":"IFERROR(RTD(\"cqg.rtd\", ,\"ContractData\",C34, \"PerCentNetLastTrade\",, \"T\")/100,\"\")","v":1.0215664018161182E-2},39,39,"S.US.AMP",34,"S.US.XRX"]
[null,1,"S.US.ABC",{"$f":"IFERROR(RTD(\"cqg.rtd\", ,\"ContractData\",C35, \"PerCentNetLastTrade\",, \"T\")/100,\"\")","v":8.6926286509040329E-3},50,50,"S.US.ABC",35,"S.US.CY"]
[null,0,"S.US.AME",{"$f":"IFERROR(RTD(\"cqg.rtd\", ,\"ContractData\",C36, \"PerCentNetLastTrade\",, \"T\")/100,\"\")","v":-2.3541281318311754E-3},353,353,"S.US.AME",36,"S.US.RNR"]
[null,1,"S.US.AMGN",{"$f":"IFERROR(RTD(\"cqg.rtd\", ,\"ContractData\",C37, \"PerCentNetLastTrade\",, \"T\")/100,\"\")","v":4.2022157137399721E-3},131,131,"S.US.AMGN",37,"S.US.IPG"]
[null,1,"S.US.APC",{"$f":"IFERROR(RTD(\"cqg.rtd\", ,\"ContractData\",C38, \"PerCentNetLastTrade\",, \"T\")/100,\"\")","v":5.2183996907614995E-3},96,96,"S.US.APC",38,"S.US.TER"]
[null,1,"S.US.ANSS",{"$f":"IFERROR(RTD(\"cqg.rtd\", ,\"ContractData\",C39, \"PerCentNetLastTrade\",, \"T\")/100,\"\")","v":1.1682242990654205E-3},219,219,"S.US.ANSS",39,"S.US.AMP"]
[null,1,"S.US.ANTM",{"$f":"IFERROR(RTD(\"cqg.rtd\", ,\"ContractData\",C40, \"PerCentNetLastTrade\",, \"T\")/100,\"\")","v":1.0163524869407223E-2},41,41,"S.US.ANTM",40,"S.US.TMO"]
[null,0,"S.US.APA",{"$f":"IFERROR(RTD(\"cqg.rtd\", ,\"ContractData\",C41, \"PerCentNetLastTrade\",, \"T\")/100,\"\")","v":-4.3833432954771866E-3},437,437,"S.US.APA",41,"S.US.ANTM"]
[null,0,"S.US.ATR",{"$f":"IFERROR(RTD(\"cqg.rtd\", ,\"ContractData\",C42, \"PerCentNetLastTrade\",, \"T\")/100,\"\")","v":-1.3733592610597957E-2},571,571,"S.US.ATR",42,"S.US.VZ"]
[null,0,"S.US.WTR",{"$f":"IFERROR(RTD(\"cqg.rtd\", ,\"ContractData\",C43, \"PerCentNetLastTrade\",, \"T\")/100,\"\")","v":-8.5470085470085461E-3},512,512,"S.US.WTR",43,"S.US.NTRS"]
[null,0,"S.US.ADM",{"$f":"IFERROR(RTD(\"cqg.rtd\", ,\"ContractData\",C44, \"PerCentNetLastTrade\",, \"T\")/100,\"\")","v":-9.6339113680154135E-3},529,529,"S.US.ADM",44,"S.US.STI"]
[null,0,"S.US.ARNC",{"$f":"IFERROR(RTD(\"cqg.rtd\", ,\"ContractData\",C45, \"PerCentNetLastTrade\",, \"T\")/100,\"\")","v":-1.8628912071535022E-3},335,335,"S.US.ARNC",45,"S.US.JCI"]
[null,0,"S.US.ARRS",{"$f":"IFERROR(RTD(\"cqg.rtd\", ,\"ContractData\",C46, \"PerCentNetLastTrade\",, \"T\")/100,\"\")","v":-6.9520673252835711E-3},482,482,"S.US.ARRS",46,"S.US.LM"]
[null,0,"S.US.ARW",{"$f":"IFERROR(RTD(\"cqg.rtd\", ,\"ContractData\",C47, \"PerCentNetLastTrade\",, \"T\")/100,\"\")","v":-5.3068444686351886E-3},447,447,"S.US.ARW",47,"S.US.CMA"]
[null,1,"S.US.ASH",{"$f":"IFERROR(RTD(\"cqg.rtd\", ,\"ContractData\",C48, \"PerCentNetLastTrade\",, \"T\")/100,\"\")","v":4.7318611987381699E-4},236,236,"S.US.ASH",48,"S.US.CVS"]
[null,1,"S.US.AHL",{"$f":"IFERROR(RTD(\"cqg.rtd\", ,\"ContractData\",C49, \"PerCentNetLastTrade\",, \"T\")/100,\"\")","v":0},248,248,"S.US.AHL",49,"S.US.MRK"]
[null,1,"S.US.ASB",{"$f":"IFERROR(RTD(\"cqg.rtd\", ,\"ContractData\",C50, \"PerCentNetLastTrade\",, \"T\")/100,\"\")","v":6.2630480167014616E-3},80,80,"S.US.ASB",50,"S.US.ABC"]
[null,0,"S.US.AIZ",{"$f":"IFERROR(RTD(\"cqg.rtd\", ,\"ContractData\",C51, \"PerCentNetLastTrade\",, \"T\")/100,\"\")","v":-2.6956869009584668E-3},368,368,"S.US.AIZ",51,"S.US.KHC"]
[null,1,"S.US.T",{"$f":"IFERROR(RTD(\"cqg.rtd\", ,\"ContractData\",C52, \"PerCentNetLastTrade\",, \"T\")/100,\"\")","v":1.2279765082754938E-2},19,19,"S.US.T",52,"S.US.ILMN"]
[null,0,"S.US.ATO",{"$f":"IFERROR(RTD(\"cqg.rtd\", ,\"ContractData\",C53, \"PerCentNetLastTrade\",, \"T\")/100,\"\")","v":-9.8075729360645562E-3},531,531,"S.US.ATO",53,"S.US.INTC"]
[null,1,"S.US.ADSK",{"$f":"IFERROR(RTD(\"cqg.rtd\", ,\"ContractData\",C54, \"PerCentNetLastTrade\",, \"T\")/100,\"\")","v":1.042886027455571E-2},30,30,"S.US.ADSK",54,"S.US.SF"]
[null,1,"S.US.AN",{"$f":"IFERROR(RTD(\"cqg.rtd\", ,\"ContractData\",C55, \"PerCentNetLastTrade\",, \"T\")/100,\"\")","v":4.6059365404298872E-3},120,120,"S.US.AN",55,"S.US.EGN"]
[null,0,"S.US.AVY",{"$f":"IFERROR(RTD(\"cqg.rtd\", ,\"ContractData\",C56, \"PerCentNetLastTrade\",, \"T\")/100,\"\")","v":-7.7444336882865443E-3},491,491,"S.US.AVY",56,"S.US.WAT"]
[null,0,"S.US.AVT",{"$f":"IFERROR(RTD(\"cqg.rtd\", ,\"ContractData\",C57, \"PerCentNetLastTrade\",, \"T\")/100,\"\")","v":-7.3770491803278691E-3},472,472,"S.US.AVT",57,"S.US.HSIC"]
[null,0,"S.US.AVP",{"$f":"IFERROR(RTD(\"cqg.rtd\", ,\"ContractData\",C58, \"PerCentNetLastTrade\",, \"T\")/100,\"\")","v":-5.5248618784530384E-2},637,637,"S.US.AVP",58,"S.US.DISH"]
[null,1,"S.US.BHI",{"$f":"IFERROR(RTD(\"cqg.rtd\", ,\"ContractData\",C59, \"PerCentNetLastTrade\",, \"T\")/100,\"\")","v":2.960125370015671E-3},160,160,"S.US.BHI",59,"S.US.CCP"]
[null,0,"S.US.BLL",{"$f":"IFERROR(RTD(\"cqg.rtd\", ,\"ContractData\",C60, \"PerCentNetLastTrade\",, \"T\")/100,\"\")","v":-1.0255127563781892E-2},534,534,"S.US.BLL",60,"S.US.ESV"]
[null,1,"S.US.BXS",{"$f":"IFERROR(RTD(\"cqg.rtd\", ,\"ContractData\",C61, \"PerCentNetLastTrade\",, \"T\")/100,\"\")","v":6.9565217391304342E-3},72,72,"S.US.BXS",61,"S.US.WFC"]
[null,1,"S.US.BAC",{"$f":"IFERROR(RTD(\"cqg.rtd\", ,\"ContractData\",C62, \"PerCentNetLastTrade\",, \"T\")/100,\"\")","v":1.1962782454585734E-2},20,20,"S.US.BAC",62,"S.US.JNS"]
[null,1,"S.US.BOH",{"$f":"IFERROR(RTD(\"cqg.rtd\", ,\"ContractData\",C63, \"PerCentNetLastTrade\",, \"T\")/100,\"\")","v":3.8674745391259506E-3},150,150,"S.US.BOH",63,"S.US.UMBF"]
[null,1,"S.US.BK",{"$f":"IFERROR(RTD(\"cqg.rtd\", ,\"ContractData\",C64, \"PerCentNetLastTrade\",, \"T\")/100,\"\")","v":4.5366169799092677E-3},115,115,"S.US.BK",64,"S.US.CHRW"]
[null,0,"S.US.BAX",{"$f":"IFERROR(RTD(\"cqg.rtd\", ,\"ContractData\",C65, \"PerCentNetLastTrade\",, \"T\")/100,\"\")","v":-4.5726345409778405E-3},424,424,"S.US.BAX",65,{"$f":"IFERROR(VLOOKUP(H65,$F$1:$G$639,2,FALSE),\"\")","v":"S.US.SIG"}]
[null,{"$f":"IF(D66>=0,1,)","v":1},"S.US.BBT",{"$f":"IFERROR(RTD(\"cqg.rtd\", ,\"ContractData\",C66, \"PerCentNetLastTrade\",, \"T\")/100,\"\")","v":5.2368483694358479E-3},99,{"$f":"IFERROR(E66,\"\")","v":99},"S.US.BBT",66,"S.US.CI"]
[null,0,"S.US.BBBY",{"$f":"IFERROR(RTD(\"cqg.rtd\", ,\"ContractData\",C67, \"PerCentNetLastTrade\",, \"T\")/100,\"\")","v":-8.4507042253521118E-3},509,509,"S.US.BBBY",{"$f":"H66+1","v":67},"S.US.TGT"]
[null,0,"S.US.BDC",{"$f":"IFERROR(RTD(\"cqg.rtd\", ,\"ContractData\",C68, \"PerCentNetLastTrade\",, \"T\")/100,\"\")","v":-1.0582010582010581E-2},540,540,"S.US.BDC",68,"S.US.IFF"]
[null,0,"S.US.BMS",{"$f":"IFERROR(RTD(\"cqg.rtd\", ,\"ContractData\",C69, \"PerCentNetLastTrade\",, \"T\")/100,\"\")","v":-1.0285714285714285E-2},535,535,"S.US.BMS",69,"S.US.ACC"]
[null,1,"S.US.BRKB",{"$f":"IFERROR(RTD(\"cqg.rtd\", ,\"ContractData\",C70, \"PerCentNetLastTrade\",, \"T\")/100,\"\")","v":6.5732357683244451E-3},77,77,"S.US.BRKB",70,"S.US.PKI"]
[null,1,"S.US.BBY",{"$f":"IFERROR(RTD(\"cqg.rtd\", ,\"ContractData\",C71, \"PerCentNetLastTrade\",, \"T\")/100,\"\")","v":1.5807152736613318E-3},206,206,"S.US.BBY",71,"S.US.PGR"]
[null,0,"S.US.BIG",{"$f":"IFERROR(RTD(\"cqg.rtd\", ,\"ContractData\",C72, \"PerCentNetLastTrade\",, \"T\")/100,\"\")","v":-4.7240712905303843E-3},429,429,"S.US.BIG",72,"S.US.BXS"]
[null,1,"S.US.BIOCA",{"$f":"IFERROR(RTD(\"cqg.rtd\", ,\"ContractData\",C73, \"PerCentNetLastTrade\",, \"T\")/100,\"\")","v":4.0083811606085448E-3},143,143,"S.US.BIOCA",73,"S.US.NE"]
[null,0,"S.US.BKH",{"$f":"IFERROR(RTD(\"cqg.rtd\", ,\"ContractData\",C74, \"PerCentNetLastTrade\",, \"T\")/100,\"\")","v":-1.5056278321882766E-2},577,577,"S.US.BKH",74,"S.US.AMCX"]
[null,1,"S.US.BLK",{"$f":"IFERROR(RTD(\"cqg.rtd\", ,\"ContractData\",C75, \"PerCentNetLastTrade\",, \"T\")/100,\"\")","v":4.6394036541819797E-3},119,119,"S.US.BLK",75,"S.US.DAL"]
[null,0,"S.US.BA",{"$f":"IFERROR(RTD(\"cqg.rtd\", ,\"ContractData\",C76, \"PerCentNetLastTrade\",, \"T\")/100,\"\")","v":-9.5088936122608783E-3},518,518,"S.US.BA",76,"S.US.EXPD"]
[null,1,"S.US.BWA",{"$f":"IFERROR(RTD(\"cqg.rtd\", ,\"ContractData\",C77, \"PerCentNetLastTrade\",, \"T\")/100,\"\")","v":2.2533800701051575E-3},190,190,"S.US.BWA",77,"S.US.BRKB"]
[null,0,"S.US.SAM",{"$f":"IFERROR(RTD(\"cqg.rtd\", ,\"ContractData\",C78, \"PerCentNetLastTrade\",, \"T\")/100,\"\")","v":-9.7108175651553011E-3},530,530,"S.US.SAM",78,"S.US.COF"]
[null,0,"S.US.BXP",{"$f":"IFERROR(RTD(\"cqg.rtd\", ,\"ContractData\",C79, \"PerCentNetLastTrade\",, \"T\")/100,\"\")","v":-2.9890401859847225E-3},377,377,"S.US.BXP",79,"S.US.COST"]
[null,0,"S.US.BMY",{"$f":"IFERROR(RTD(\"cqg.rtd\", ,\"ContractData\",C80, \"PerCentNetLastTrade\",, \"T\")/100,\"\")","v":-4.0433743797096125E-3},397,397,"S.US.BMY",80,"S.US.ASB"]
[null,1,"S.US.BRCD",{"$f":"IFERROR(RTD(\"cqg.rtd\", ,\"ContractData\",C81, \"PerCentNetLastTrade\",, \"T\")/100,\"\")","v":7.9176563737133805E-4},231,231,"S.US.BRCD",81,"S.US.LYV"]
[null,1,"S.US.BFB",{"$f":"IFERROR(RTD(\"cqg.rtd\", ,\"ContractData\",C82, \"PerCentNetLastTrade\",, \"T\")/100,\"\")","v":9.5638867635807184E-4},227,227,"S.US.BFB",82,"S.US.RE"]
[null,0,"S.US.BC",{"$f":"IFERROR(RTD(\"cqg.rtd\", ,\"ContractData\",C83, \"PerCentNetLastTrade\",, \"T\")/100,\"\")","v":-3.6476381542950939E-4},266,266,"S.US.BC",83,"S.US.CME"]
[null,0,"S.US.CA",{"$f":"IFERROR(RTD(\"cqg.rtd\", ,\"ContractData\",C84, \"PerCentNetLastTrade\",, \"T\")/100,\"\")","v":-3.2041012495994872E-4},264,264,"S.US.CA",84,"S.US.XRAY"]
[null,0,"S.US.CAB",{"$f":"IFERROR(RTD(\"cqg.rtd\", ,\"ContractData\",C85, \"PerCentNetLastTrade\",, \"T\")/100,\"\")","v":-9.9319477653117532E-3},533,533,"S.US.CAB",85,"S.US.TCB"]
[null,0,"S.US.CBT",{"$f":"IFERROR(RTD(\"cqg.rtd\", ,\"ContractData\",C86, \"PerCentNetLastTrade\",, \"T\")/100,\"\")","v":-4.7206923682140047E-3},428,428,"S.US.CBT",86,"S.US.FULT"]
[null,0,"S.US.COG",{"$f":"IFERROR(RTD(\"cqg.rtd\", ,\"ContractData\",C87, \"PerCentNetLastTrade\",, \"T\")/100,\"\")","v":-3.4453057708871667E-3},379,379,"S.US.COG",87,"S.US.CMG"]
[null,1,"S.US.CDNS",{"$f":"IFERROR(RTD(\"cqg.rtd\", ,\"ContractData\",C88, \"PerCentNetLastTrade\",, \"T\")/100,\"\")","v":1.234949058351343E-3},214,214,"S.US.CDNS",88,"S.US.RF"]
[null,1,"S.US.CAA",{"$f":"IFERROR(RTD(\"cqg.rtd\", ,\"ContractData\",C89, \"PerCentNetLastTrade\",, \"T\")/100,\"\")","v":5.0069541029207233E-3},106,106,"S.US.CAA",89,"S.US.MAS"]
[null,1,"S.US.CPT",{"$f":"IFERROR(RTD(\"cqg.rtd\", ,\"ContractData\",C90, \"PerCentNetLastTrade\",, \"T\")/100,\"\")","v":4.5415490364551373E-3},122,122,"S.US.CPT",90,"S.US.TRIP"]
[null,0,"S.US.CPB",{"$f":"IFERROR(RTD(\"cqg.rtd\", ,\"ContractData\",C91, \"PerCentNetLastTrade\",, \"T\")/100,\"\")","v":-5.5739418219822338E-3},443,443,"S.US.CPB",91,"S.US.TPH"]
[null,1,"S.US.COF",{"$f":"IFERROR(RTD(\"cqg.rtd\", ,\"ContractData\",C92, \"PerCentNetLastTrade\",, \"T\")/100,\"\")","v":6.3718618580349169E-3},78,78,"S.US.COF",92,"S.US.GPC"]
[null,1,"S.US.CAH",{"$f":"IFERROR(RTD(\"cqg.rtd\", ,\"ContractData\",C93, \"PerCentNetLastTrade\",, \"T\")/100,\"\")","v":1.1731843575418994E-2},22,22,"S.US.CAH",93,"S.US.SBNY"]
[null,1,"S.US.CCP",{"$f":"IFERROR(RTD(\"cqg.rtd\", ,\"ContractData\",C94, \"PerCentNetLastTrade\",, \"T\")/100,\"\")","v":8.2212257100149483E-3},59,59,"S.US.CCP",94,"S.US.SLB"]
[null,1,"S.US.KMX",{"$f":"IFERROR(RTD(\"cqg.rtd\", ,\"ContractData\",C95, \"PerCentNetLastTrade\",, \"T\")/100,\"\")","v":3.4988337220926355E-2},3,3,"S.US.KMX",95,"S.US.RGA"]
[null,1,"S.US.CCL",{"$f":"IFERROR(RTD(\"cqg.rtd\", ,\"ContractData\",C96, \"PerCentNetLastTrade\",, \"T\")/100,\"\")","v":2.0418410041841004E-2},7,7,"S.US.CCL",96,"S.US.APC"]
[null,0,"S.US.CRS",{"$f":"IFERROR(RTD(\"cqg.rtd\", ,\"ContractData\",C97, \"PerCentNetLastTrade\",, \"T\")/100,\"\")","v":-1.2345679012345678E-2},556,556,"S.US.CRS",97,"S.US.ESRX"]
[null,1,"S.US.CASY",{"$f":"IFERROR(RTD(\"cqg.rtd\", ,\"ContractData\",C98, \"PerCentNetLastTrade\",, \"T\")/100,\"\")","v":4.783440598364933E-3},114,114,"S.US.CASY",98,"S.US.UBSI"]
[null,0,"S.US.CTLT",{"$f":"IFERROR(RTD(\"cqg.rtd\", ,\"ContractData\",C99, \"PerCentNetLastTrade\",, \"T\")/100,\"\")","v":-2.3866348448687348E-3},355,355,"S.US.CTLT",99,"S.US.BBT"]
[null,0,"S.US.CAT",{"$f":"IFERROR(RTD(\"cqg.rtd\", ,\"ContractData\",C100, \"PerCentNetLastTrade\",, \"T\")/100,\"\")","v":-1.4679448771719592E-2},578,578,"S.US.CAT",100,"S.US.CFG"]
[null,1,"S.US.CATY",{"$f":"IFERROR(RTD(\"cqg.rtd\", ,\"ContractData\",C101, \"PerCentNetLastTrade\",, \"T\")/100,\"\")","v":4.1333700744006609E-3},161,161,"S.US.CATY",101,"S.US.UTHR"]
[null,1,"S.US.CBOE",{"$f":"IFERROR(RTD(\"cqg.rtd\", ,\"ContractData\",C102, \"PerCentNetLastTrade\",, \"T\")/100,\"\")","v":3.5650623885918003E-4},232,232,"S.US.CBOE",102,"S.US.TFX"]
[null,0,"S.US.CBG",{"$f":"IFERROR(RTD(\"cqg.rtd\", ,\"ContractData\",C103, \"PerCentNetLastTrade\",, \"T\")/100,\"\")","v":-2.3937761819269898E-3},342,342,"S.US.CBG",103,"S.US.LLY"]
[null,0,"S.US.CNC",{"$f":"IFERROR(RTD(\"cqg.rtd\", ,\"ContractData\",C104, \"PerCentNetLastTrade\",, \"T\")/100,\"\")","v":-8.0880403076107124E-3},499,499,"S.US.CNC",104,"S.US.CRL"]
[null,0,"S.US.CNP",{"$f":"IFERROR(RTD(\"cqg.rtd\", ,\"ContractData\",C105, \"PerCentNetLastTrade\",, \"T\")/100,\"\")","v":-4.4166359955833644E-3},419,419,"S.US.CNP",105,"S.US.CSX"]
[null,0,"S.US.CTL",{"$f":"IFERROR(RTD(\"cqg.rtd\", ,\"ContractData\",C106, \"PerCentNetLastTrade\",, \"T\")/100,\"\")","v":-8.1466395112016303E-3},502,502,"S.US.CTL",106,"S.US.CAA"]
[null,0,"S.US.CF",{"$f":"IFERROR(RTD(\"cqg.rtd\", ,\"ContractData\",C107, \"PerCentNetLastTrade\",, \"T\")/100,\"\")","v":-1.3474144209759651E-2},573,573,"S.US.CF",107,"S.US.USB"]
[null,1,"S.US.CHRW",{"$f":"IFERROR(RTD(\"cqg.rtd\", ,\"ContractData\",C108, \"PerCentNetLastTrade\",, \"T\")/100,\"\")","v":7.8125E-3},64,64,"S.US.CHRW",108,"S.US.CB"]
[null,1,"S.US.CRL",{"$f":"IFERROR(RTD(\"cqg.rtd\", ,\"ContractData\",C109, \"PerCentNetLastTrade\",, \"T\")/100,\"\")","v":5.6509945750452088E-3},104,104,"S.US.CRL",109,"S.US.UNM"]
[null,1,"S.US.CHFC",{"$f":"IFERROR(RTD(\"cqg.rtd\", ,\"ContractData\",C110, \"PerCentNetLastTrade\",, \"T\")/100,\"\")","v":2.4433585073300756E-3},153,153,"S.US.CHFC",110,"S.US.AAL"]
[null,1,"S.US.CC",{"$f":"IFERROR(RTD(\"cqg.rtd\", ,\"ContractData\",C111, \"PerCentNetLastTrade\",, \"T\")/100,\"\")","v":3.0211480362537764E-3},147,147,"S.US.CC",111,"S.US.MDP"]
[null,1,"S.US.CHK",{"$f":"IFERROR(RTD(\"cqg.rtd\", ,\"ContractData\",C112, \"PerCentNetLastTrade\",, \"T\")/100,\"\")","v":0},333,333,"S.US.CHK",112,"S.US.RIG"]
[null,1,"S.US.CVX",{"$f":"IFERROR(RTD(\"cqg.rtd\", ,\"ContractData\",C113, \"PerCentNetLastTrade\",, \"T\")/100,\"\")","v":2.8653295128939832E-4},242,242,"S.US.CVX",113,"S.US.XL"]
[null,0,"S.US.CHS",{"$f":"IFERROR(RTD(\"cqg.rtd\", ,\"ContractData\",C114, \"PerCentNetLastTrade\",, \"T\")/100,\"\")","v":-2.2842639593908629E-2},615,615,"S.US.CHS",114,"S.US.CASY"]
[null,1,"S.US.CMG",{"$f":"IFERROR(RTD(\"cqg.rtd\", ,\"ContractData\",C115, \"PerCentNetLastTrade\",, \"T\")/100,\"\")","v":5.7311964654148343E-3},87,87,"S.US.CMG",115,"S.US.BK"]
[null,1,"S.US.CB",{"$f":"IFERROR(RTD(\"cqg.rtd\", ,\"ContractData\",C116, \"PerCentNetLastTrade\",, \"T\")/100,\"\")","v":4.9350460846215253E-3},108,108,"S.US.CB",116,"S.US.MCY"]
[null,0,"S.US.CHD",{"$f":"IFERROR(RTD(\"cqg.rtd\", ,\"ContractData\",C117, \"PerCentNetLastTrade\",, \"T\")/100,\"\")","v":-6.2361697847515595E-3},461,461,"S.US.CHD",117,"S.US.UMPQ"]
[null,0,"S.US.CIEN",{"$f":"IFERROR(RTD(\"cqg.rtd\", ,\"ContractData\",C118, \"PerCentNetLastTrade\",, \"T\")/100,\"\")","v":-1.6500217108119844E-2},593,593,"S.US.CIEN",118,"S.US.CTSH"]
[null,1,"S.US.CI",{"$f":"IFERROR(RTD(\"cqg.rtd\", ,\"ContractData\",C119, \"PerCentNetLastTrade\",, \"T\")/100,\"\")","v":7.0071333880436836E-3},66,66,"S.US.CI",119,"S.US.BLK"]
[null,0,"S.US.XEC",{"$f":"IFERROR(RTD(\"cqg.rtd\", ,\"ContractData\",C120, \"PerCentNetLastTrade\",, \"T\")/100,\"\")","v":-2.668962548428756E-3},366,366,"S.US.XEC",120,"S.US.AN"]
[null,1,"S.US.CINF",{"$f":"IFERROR(RTD(\"cqg.rtd\", ,\"ContractData\",C121, \"PerCentNetLastTrade\",, \"T\")/100,\"\")","v":3.0572135682049788E-3},169,169,"S.US.CINF",121,"S.US.L"]
[null,0,"S.US.CNK",{"$f":"IFERROR(RTD(\"cqg.rtd\", ,\"ContractData\",C122, \"PerCentNetLastTrade\",, \"T\")/100,\"\")","v":-2.9748841745915629E-2},626,626,"S.US.CNK",122,"S.US.CPT"]
[null,0,"S.US.CSCO",{"$f":"IFERROR(RTD(\"cqg.rtd\", ,\"ContractData\",C123, \"PerCentNetLastTrade\",, \"T\")/100,\"\")","v":-7.3625073920756942E-2},638,638,"S.US.CSCO",123,"S.US.ED"]
[null,0,"S.US.C",{"$f":"IFERROR(RTD(\"cqg.rtd\", ,\"ContractData\",C124, \"PerCentNetLastTrade\",, \"T\")/100,\"\")","v":-1.5005001667222407E-3},312,312,"S.US.C",124,"S.US.CAG"]
[null,1,"S.US.CFG",{"$f":"IFERROR(RTD(\"cqg.rtd\", ,\"ContractData\",C125, \"PerCentNetLastTrade\",, \"T\")/100,\"\")","v":4.6282904252241833E-3},100,100,"S.US.CFG",125,"S.US.LUK"]
[null,0,"S.US.CLH",{"$f":"IFERROR(RTD(\"cqg.rtd\", ,\"ContractData\",C126, \"PerCentNetLastTrade\",, \"T\")/100,\"\")","v":-6.6842568161829376E-3},475,475,"S.US.CLH",126,"S.US.IBOC"]
[null,0,"S.US.CLX",{"$f":"IFERROR(RTD(\"cqg.rtd\", ,\"ContractData\",C127, \"PerCentNetLastTrade\",, \"T\")/100,\"\")","v":-6.4009753867255957E-3},470,470,"S.US.CLX",127,"S.US.PSA"]
[null,1,"S.US.CME",{"$f":"IFERROR(RTD(\"cqg.rtd\", ,\"ContractData\",C128, \"PerCentNetLastTrade\",, \"T\")/100,\"\")","v":5.9937456567060454E-3},83,83,"S.US.CME",128,"S.US.NEU"]
[null,0,"S.US.CMS",{"$f":"IFERROR(RTD(\"cqg.rtd\", ,\"ContractData\",C129, \"PerCentNetLastTrade\",, \"T\")/100,\"\")","v":-6.5847234416154519E-4},280,280,"S.US.CMS",129,{"$f":"IFERROR(VLOOKUP(H129,$F$1:$G$639,2,FALSE),\"\")","v":"S.US.NATI"}]
[null,{"$f":"IF(D130>=0,1,)","v":0},"S.US.CNO",{"$f":"IFERROR(RTD(\"cqg.rtd\", ,\"ContractData\",C130, \"PerCentNetLastTrade\",, \"T\")/100,\"\")","v":-2.4888003982080635E-3},359,{"$f":"IFERROR(E130,\"\")","v":359},"S.US.CNO",130,"S.US.FCN"]
[null,1,"S.US.COH",{"$f":"IFERROR(RTD(\"cqg.rtd\", ,\"ContractData\",C131, \"PerCentNetLastTrade\",, \"T\")/100,\"\")","v":3.7988826815642455E-3},152,152,"S.US.COH",{"$f":"H130+1","v":131},"S.US.AMGN"]
[null,0,"S.US.KO",{"$f":"IFERROR(RTD(\"cqg.rtd\", ,\"ContractData\",C132, \"PerCentNetLastTrade\",, \"T\")/100,\"\")","v":-3.8697928522649673E-3},396,396,"S.US.KO",132,"S.US.LEN"]
[null,1,"S.US.CTSH",{"$f":"IFERROR(RTD(\"cqg.rtd\", ,\"ContractData\",C133, \"PerCentNetLastTrade\",, \"T\")/100,\"\")","v":4.3410852713178291E-3},118,118,"S.US.CTSH",133,"S.US.HBHC"]
[null,0,"S.US.CL",{"$f":"IFERROR(RTD(\"cqg.rtd\", ,\"ContractData\",C134, \"PerCentNetLastTrade\",, \"T\")/100,\"\")","v":-1.78359096313912E-2},600,600,"S.US.CL",134,"S.US.WTFC"]
[null,1,"S.US.CMA",{"$f":"IFERROR(RTD(\"cqg.rtd\", ,\"ContractData\",C135, \"PerCentNetLastTrade\",, \"T\")/100,\"\")","v":8.9192805113720835E-3},47,47,"S.US.CMA",135,"S.US.EVHC"]
[null,0,"S.US.CMC",{"$f":"IFERROR(RTD(\"cqg.rtd\", ,\"ContractData\",C136, \"PerCentNetLastTrade\",, \"T\")/100,\"\")","v":-2.2818026240730175E-3},350,350,"S.US.CMC",136,"S.US.WBA"]
[null,0,"S.US.CMP",{"$f":"IFERROR(RTD(\"cqg.rtd\", ,\"ContractData\",C137, \"PerCentNetLastTrade\",, \"T\")/100,\"\")","v":-1.3303769401330377E-2},564,564,"S.US.CMP",137,"S.US.MDRX"]
[null,1,"S.US.CAG",{"$f":"IFERROR(RTD(\"cqg.rtd\", ,\"ContractData\",C138, \"PerCentNetLastTrade\",, \"T\")/100,\"\")","v":4.5188729399255716E-3},124,124,"S.US.CAG",138,"S.US.FITB"]
[null,0,"S.US.CXO",{"$f":"IFERROR(RTD(\"cqg.rtd\", ,\"ContractData\",C139, \"PerCentNetLastTrade\",, \"T\")/100,\"\")","v":-8.4547444704461388E-3},515,515,"S.US.CXO",139,"S.US.SNV"]
[null,1,"S.US.COP",{"$f":"IFERROR(RTD(\"cqg.rtd\", ,\"ContractData\",C140, \"PerCentNetLastTrade\",, \"T\")/100,\"\")","v":1.7237664296487825E-3},194,194,"S.US.COP",140,"S.US.AXP"]
[null,0,"S.US.CNX",{"$f":"IFERROR(RTD(\"cqg.rtd\", ,\"ContractData\",C141, \"PerCentNetLastTrade\",, \"T\")/100,\"\")","v":-3.2175032175032177E-3},386,386,"S.US.CNX",141,"S.US.SYF"]
[null,1,"S.US.ED",{"$f":"IFERROR(RTD(\"cqg.rtd\", ,\"ContractData\",C142, \"PerCentNetLastTrade\",, \"T\")/100,\"\")","v":4.5362903225806446E-3},123,123,"S.US.ED",142,"S.US.DIS"]
[null,0,"S.US.CVG",{"$f":"IFERROR(RTD(\"cqg.rtd\", ,\"ContractData\",C143, \"PerCentNetLastTrade\",, \"T\")/100,\"\")","v":-2.5188916876574307E-3},361,361,"S.US.CVG",143,"S.US.BIOCA"]
[null,1,"S.US.COO",{"$f":"IFERROR(RTD(\"cqg.rtd\", ,\"ContractData\",C144, \"PerCentNetLastTrade\",, \"T\")/100,\"\")","v":3.5337376438565491E-3},157,157,"S.US.COO",144,"S.US.ODP"]
[null,0,"S.US.CTB",{"$f":"IFERROR(RTD(\"cqg.rtd\", ,\"ContractData\",C145, \"PerCentNetLastTrade\",, \"T\")/100,\"\")","v":-1.3966480446927373E-3},316,316,"S.US.CTB",145,"S.US.WERN"]
[null,0,"S.US.CXW",{"$f":"IFERROR(RTD(\"cqg.rtd\", ,\"ContractData\",C146, \"PerCentNetLastTrade\",, \"T\")/100,\"\")","v":-3.5458685751463895E-2},630,630,"S.US.CXW",146,"S.US.MTB"]
[null,1,"S.US.OFC",{"$f":"IFERROR(RTD(\"cqg.rtd\", ,\"ContractData\",C147, \"PerCentNetLastTrade\",, \"T\")/100,\"\")","v":9.1213134691395562E-4},229,229,"S.US.OFC",147,"S.US.CC"]
[null,1,"S.US.COST",{"$f":"IFERROR(RTD(\"cqg.rtd\", ,\"ContractData\",C148, \"PerCentNetLastTrade\",, \"T\")/100,\"\")","v":6.5031037540644399E-3},79,79,"S.US.COST",148,"S.US.VTR"]
[null,0,"S.US.COTY",{"$f":"IFERROR(RTD(\"cqg.rtd\", ,\"ContractData\",C149, \"PerCentNetLastTrade\",, \"T\")/100,\"\")","v":-1.9828510182207933E-2},604,604,"S.US.COTY",149,"S.US.STT"]
[null,1,"S.US.CUZ",{"$f":"IFERROR(RTD(\"cqg.rtd\", ,\"ContractData\",C150, \"PerCentNetLastTrade\",, \"T\")/100,\"\")","v":1.1834319526627219E-3},218,218,"S.US.CUZ",150,"S.US.BOH"]
[null,0,"S.US.CBRL",{"$f":"IFERROR(RTD(\"cqg.rtd\", ,\"ContractData\",C151, \"PerCentNetLastTrade\",, \"T\")/100,\"\")","v":-1.2932122129699724E-2},560,560,"S.US.CBRL",151,"S.US.SRCL"]
[null,0,"S.US.CREE",{"$f":"IFERROR(RTD(\"cqg.rtd\", ,\"ContractData\",C152, \"PerCentNetLastTrade\",, \"T\")/100,\"\")","v":-1.8407731247123793E-3},271,271,"S.US.CREE",152,"S.US.COH"]
[null,1,"S.US.CCI",{"$f":"IFERROR(RTD(\"cqg.rtd\", ,\"ContractData\",C153, \"PerCentNetLastTrade\",, \"T\")/100,\"\")","v":1.1210762331838565E-3},215,215,"S.US.CCI",153,"S.US.CHFC"]
[null,0,"S.US.CSRA",{"$f":"IFERROR(RTD(\"cqg.rtd\", ,\"ContractData\",C154, \"PerCentNetLastTrade\",, \"T\")/100,\"\")","v":-4.5154567558179926E-3},422,422,"S.US.CSRA",154,"S.US.FAF"]
[null,1,"S.US.CST",{"$f":"IFERROR(RTD(\"cqg.rtd\", ,\"ContractData\",C155, \"PerCentNetLastTrade\",, \"T\")/100,\"\")","v":2.0703933747412008E-4},238,238,"S.US.CST",155,"S.US.PBCT"]
[null,1,"S.US.CSX",{"$f":"IFERROR(RTD(\"cqg.rtd\", ,\"ContractData\",C156, \"PerCentNetLastTrade\",, \"T\")/100,\"\")","v":5.0535678188801288E-3},105,105,"S.US.CSX",156,"S.US.AFG"]
[null,1,"S.US.CFR",{"$f":"IFERROR(RTD(\"cqg.rtd\", ,\"ContractData\",C157, \"PerCentNetLastTrade\",, \"T\")/100,\"\")","v":3.5059941189776065E-3},158,158,"S.US.CFR",157,"S.US.COO"]
[null,1,"S.US.CVS",{"$f":"IFERROR(RTD(\"cqg.rtd\", ,\"ContractData\",C158, \"PerCentNetLastTrade\",, \"T\")/100,\"\")","v":8.7776758810428398E-3},48,48,"S.US.CVS",158,"S.US.CFR"]
[null,1,"S.US.CY",{"$f":"IFERROR(RTD(\"cqg.rtd\", ,\"ContractData\",C159, \"PerCentNetLastTrade\",, \"T\")/100,\"\")","v":9.382329945269741E-3},35,35,"S.US.CY",159,"S.US.EIX"]
[null,0,"S.US.CONE",{"$f":"IFERROR(RTD(\"cqg.rtd\", ,\"ContractData\",C160, \"PerCentNetLastTrade\",, \"T\")/100,\"\")","v":-7.6923076923076927E-3},489,489,"S.US.CONE",160,"S.US.BHI"]
[null,1,"S.US.DHI",{"$f":"IFERROR(RTD(\"cqg.rtd\", ,\"ContractData\",C161, \"PerCentNetLastTrade\",, \"T\")/100,\"\")","v":3.0432136335970786E-4},241,241,"S.US.DHI",161,"S.US.CATY"]
[null,0,"S.US.DAN",{"$f":"IFERROR(RTD(\"cqg.rtd\", ,\"ContractData\",C162, \"PerCentNetLastTrade\",, \"T\")/100,\"\")","v":-1.9948849104859334E-2},603,603,"S.US.DAN",162,"S.US.NI"]
[null,1,"S.US.DHR",{"$f":"IFERROR(RTD(\"cqg.rtd\", ,\"ContractData\",C163, \"PerCentNetLastTrade\",, \"T\")/100,\"\")","v":1.5873015873015873E-3},200,200,"S.US.DHR",163,"S.US.FL"]
[null,0,"S.US.DVA",{"$f":"IFERROR(RTD(\"cqg.rtd\", ,\"ContractData\",C164, \"PerCentNetLastTrade\",, \"T\")/100,\"\")","v":-3.1274433150899137E-4},245,245,"S.US.DVA",164,"S.US.TMK"]
[null,0,"S.US.DF",{"$f":"IFERROR(RTD(\"cqg.rtd\", ,\"ContractData\",C165, \"PerCentNetLastTrade\",, \"T\")/100,\"\")","v":-4.3739748496446143E-3},404,404,"S.US.DF",165,"S.US.HPE"]
[null,0,"S.US.DECK",{"$f":"IFERROR(RTD(\"cqg.rtd\", ,\"ContractData\",C166, \"PerCentNetLastTrade\",, \"T\")/100,\"\")","v":-1.2021294865189765E-3},305,305,"S.US.DECK",166,"S.US.TIF"]
[null,0,"S.US.DE",{"$f":"IFERROR(RTD(\"cqg.rtd\", ,\"ContractData\",C167, \"PerCentNetLastTrade\",, \"T\")/100,\"\")","v":-8.8315817362889688E-3},508,508,"S.US.DE",167,"S.US.PRXL"]
[null,0,"S.US.DLPH",{"$f":"IFERROR(RTD(\"cqg.rtd\", ,\"ContractData\",C168, \"PerCentNetLastTrade\",, \"T\")/100,\"\")","v":-3.2863849765258218E-3},388,388,"S.US.DLPH",168,"S.US.NWSA"]
[null,1,"S.US.DAL",{"$f":"IFERROR(RTD(\"cqg.rtd\", ,\"ContractData\",C169, \"PerCentNetLastTrade\",, \"T\")/100,\"\")","v":6.7029744449099296E-3},75,75,"S.US.DAL",169,"S.US.CINF"]
[null,0,"S.US.DLX",{"$f":"IFERROR(RTD(\"cqg.rtd\", ,\"ContractData\",C170, \"PerCentNetLastTrade\",, \"T\")/100,\"\")","v":-3.1236055332440876E-3},382,382,"S.US.DLX",170,"S.US.HSNI"]
[null,1,"S.US.XRAY",{"$f":"IFERROR(RTD(\"cqg.rtd\", ,\"ContractData\",C171, \"PerCentNetLastTrade\",, \"T\")/100,\"\")","v":5.8679706601466996E-3},84,84,"S.US.XRAY",171,"S.US.VFC"]
[null,0,"S.US.DVN",{"$f":"IFERROR(RTD(\"cqg.rtd\", ,\"ContractData\",C172, \"PerCentNetLastTrade\",, \"T\")/100,\"\")","v":-2.1419009370816601E-3},336,336,"S.US.DVN",172,"S.US.KN"]
[null,0,"S.US.DV",{"$f":"IFERROR(RTD(\"cqg.rtd\", ,\"ContractData\",C173, \"PerCentNetLastTrade\",, \"T\")/100,\"\")","v":-1.643835616438356E-2},592,592,"S.US.DV",173,"S.US.TROW"]
[null,0,"S.US.DO",{"$f":"IFERROR(RTD(\"cqg.rtd\", ,\"ContractData\",C174, \"PerCentNetLastTrade\",, \"T\")/100,\"\")","v":-7.5131480090157776E-3},484,484,"S.US.DO",174,"S.US.PB"]
[null,0,"S.US.DBD",{"$f":"IFERROR(RTD(\"cqg.rtd\", ,\"ContractData\",C175, \"PerCentNetLastTrade\",, \"T\")/100,\"\")","v":-5.8139534883720929E-3},455,455,"S.US.DBD",175,"S.US.DUK"]
[null,0,"S.US.DDS",{"$f":"IFERROR(RTD(\"cqg.rtd\", ,\"ContractData\",C176, \"PerCentNetLastTrade\",, \"T\")/100,\"\")","v":-5.9892194050708723E-4},278,278,"S.US.DDS",176,"S.US.PTEN"]
[null,1,"S.US.DISH",{"$f":"IFERROR(RTD(\"cqg.rtd\", ,\"ContractData\",C177, \"PerCentNetLastTrade\",, \"T\")/100,\"\")","v":8.2842122032818228E-3},58,58,"S.US.DISH",177,"S.US.LOW"]
[null,1,"S.US.D",{"$f":"IFERROR(RTD(\"cqg.rtd\", ,\"ContractData\",C178, \"PerCentNetLastTrade\",, \"T\")/100,\"\")","v":1.5487867836861124E-3},208,208,"S.US.D",178,"S.US.A"]
[null,0,"S.US.UFS",{"$f":"IFERROR(RTD(\"cqg.rtd\", ,\"ContractData\",C179, \"PerCentNetLastTrade\",, \"T\")/100,\"\")","v":-1.3383297644539613E-2},555,555,"S.US.UFS",179,"S.US.PVTB"]
[null,0,"S.US.DCI",{"$f":"IFERROR(RTD(\"cqg.rtd\", ,\"ContractData\",C180, \"PerCentNetLastTrade\",, \"T\")/100,\"\")","v":-5.2173913043478256E-3},442,442,"S.US.DCI",180,"S.US.ESS"]
[null,0,"S.US.DOV",{"$f":"IFERROR(RTD(\"cqg.rtd\", ,\"ContractData\",C181, \"PerCentNetLastTrade\",, \"T\")/100,\"\")","v":-1.2451749470800647E-3},309,309,"S.US.DOV",181,"S.US.PCG"]
[null,0,"S.US.DOW",{"$f":"IFERROR(RTD(\"cqg.rtd\", ,\"ContractData\",C182, \"PerCentNetLastTrade\",, \"T\")/100,\"\")","v":-6.6445182724252495E-4},281,281,"S.US.DOW",182,"S.US.MNST"]
[null,0,"S.US.DPS",{"$f":"IFERROR(RTD(\"cqg.rtd\", ,\"ContractData\",C183, \"PerCentNetLastTrade\",, \"T\")/100,\"\")","v":-1.550044286979628E-3},330,330,"S.US.DPS",183,"S.US.FDS"]
[null,0,"S.US.DRQ",{"$f":"IFERROR(RTD(\"cqg.rtd\", ,\"ContractData\",C184, \"PerCentNetLastTrade\",, \"T\")/100,\"\")","v":-3.8167938931297713E-3},372,372,"S.US.DRQ",184,"S.US.WFM"]
[null,0,"S.US.DST",{"$f":"IFERROR(RTD(\"cqg.rtd\", ,\"ContractData\",C185, \"PerCentNetLastTrade\",, \"T\")/100,\"\")","v":-2.2520643923596632E-3},349,349,"S.US.DST",185,"S.US.MDLZ"]
[null,0,"S.US.DTE",{"$f":"IFERROR(RTD(\"cqg.rtd\", ,\"ContractData\",C186, \"PerCentNetLastTrade\",, \"T\")/100,\"\")","v":-2.1869354378625085E-3},346,346,"S.US.DTE",186,"S.US.MAA"]
[null,1,"S.US.DUK",{"$f":"IFERROR(RTD(\"cqg.rtd\", ,\"ContractData\",C187, \"PerCentNetLastTrade\",, \"T\")/100,\"\")","v":2.7784489007006523E-3},175,175,"S.US.DUK",187,"S.US.WSO"]
[null,0,"S.US.DXC",{"$f":"IFERROR(RTD(\"cqg.rtd\", ,\"ContractData\",C188, \"PerCentNetLastTrade\",, \"T\")/100,\"\")","v":-3.8080731150038076E-4},267,267,"S.US.DXC",188,"S.US.FBHS"]
[null,0,"S.US.DY",{"$f":"IFERROR(RTD(\"cqg.rtd\", ,\"ContractData\",C189, \"PerCentNetLastTrade\",, \"T\")/100,\"\")","v":-2.3714665148928098E-3},345,345,"S.US.DY",189,"S.US.PM"]
[null,0,"S.US.DD",{"$f":"IFERROR(RTD(\"cqg.rtd\", ,\"ContractData\",C190, \"PerCentNetLastTrade\",, \"T\")/100,\"\")","v":-7.836990595611286E-4},287,287,"S.US.DD",190,"S.US.BWA"]
[null,0,"S.US.EWBC",{"$f":"IFERROR(RTD(\"cqg.rtd\", ,\"ContractData\",C191, \"PerCentNetLastTrade\",, \"T\")/100,\"\")","v":-5.6043340183074917E-4},275,275,"S.US.EWBC",191,"S.US.TRV"]
[null,0,"S.US.EMN",{"$f":"IFERROR(RTD(\"cqg.rtd\", ,\"ContractData\",C192, \"PerCentNetLastTrade\",, \"T\")/100,\"\")","v":-2.2003624126326689E-3},347,347,"S.US.EMN",192,"S.US.SXT"]
[null,0,"S.US.ETN",{"$f":"IFERROR(RTD(\"cqg.rtd\", ,\"ContractData\",C193, \"PerCentNetLastTrade\",, \"T\")/100,\"\")","v":-4.7256497768443165E-3},430,430,"S.US.ETN",193,{"$f":"IFERROR(VLOOKUP(H193,$F$1:$G$639,2,FALSE),\"\")","v":"S.US.HRB"}]
[null,{"$f":"IF(D194>=0,1,)","v":0},"S.US.EV",{"$f":"IFERROR(RTD(\"cqg.rtd\", ,\"ContractData\",C194, \"PerCentNetLastTrade\",, \"T\")/100,\"\")","v":-4.3299908842297178E-3},418,{"$f":"IFERROR(E194,\"\")","v":418},"S.US.EV",194,"S.US.COP"]
[null,0,"S.US.EBAY",{"$f":"IFERROR(RTD(\"cqg.rtd\", ,\"ContractData\",C195, \"PerCentNetLastTrade\",, \"T\")/100,\"\")","v":-2.3823704586063131E-3},367,367,"S.US.EBAY",{"$f":"H194+1","v":195},"S.US.ALL"]
[null,1,"S.US.ECL",{"$f":"IFERROR(RTD(\"cqg.rtd\", ,\"ContractData\",C196, \"PerCentNetLastTrade\",, \"T\")/100,\"\")","v":1.6615238547353431E-3},203,203,"S.US.ECL",196,"S.US.TGNA"]
[null,0,"S.US.EPC",{"$f":"IFERROR(RTD(\"cqg.rtd\", ,\"ContractData\",C197, \"PerCentNetLastTrade\",, \"T\")/100,\"\")","v":-2.0582469896387567E-2},610,610,"S.US.EPC",197,"S.US.HON"]
[null,1,"S.US.EIX",{"$f":"IFERROR(RTD(\"cqg.rtd\", ,\"ContractData\",C198, \"PerCentNetLastTrade\",, \"T\")/100,\"\")","v":3.608712462946256E-3},159,159,"S.US.EIX",198,"S.US.OSK"]
[null,1,"S.US.LLY",{"$f":"IFERROR(RTD(\"cqg.rtd\", ,\"ContractData\",C199, \"PerCentNetLastTrade\",, \"T\")/100,\"\")","v":5.1190171487074474E-3},103,103,"S.US.LLY",199,"S.US.LH"]
[null,0,"S.US.EME",{"$f":"IFERROR(RTD(\"cqg.rtd\", ,\"ContractData\",C200, \"PerCentNetLastTrade\",, \"T\")/100,\"\")","v":-8.2631495312251706E-3},505,505,"S.US.EME",200,"S.US.DHR"]
[null,0,"S.US.EMR",{"$f":"IFERROR(RTD(\"cqg.rtd\", ,\"ContractData\",C201, \"PerCentNetLastTrade\",, \"T\")/100,\"\")","v":-2.5866528711846869E-3},357,357,"S.US.EMR",201,"S.US.OIS"]
[null,0,"S.US.ENDP",{"$f":"IFERROR(RTD(\"cqg.rtd\", ,\"ContractData\",C202, \"PerCentNetLastTrade\",, \"T\")/100,\"\")","v":-3.3546325878594248E-2},628,628,"S.US.ENDP",202,"S.US.TIME"]
[null,1,"S.US.EGN",{"$f":"IFERROR(RTD(\"cqg.rtd\", ,\"ContractData\",C203, \"PerCentNetLastTrade\",, \"T\")/100,\"\")","v":8.3880379285193284E-3},55,55,"S.US.EGN",203,"S.US.ECL"]
[null,0,"S.US.ENR",{"$f":"IFERROR(RTD(\"cqg.rtd\", ,\"ContractData\",C204, \"PerCentNetLastTrade\",, \"T\")/100,\"\")","v":-5.0125313283208017E-3},427,427,"S.US.ENR",204,"S.US.STE"]
[null,1,"S.US.ESV",{"$f":"IFERROR(RTD(\"cqg.rtd\", ,\"ContractData\",C205, \"PerCentNetLastTrade\",, \"T\")/100,\"\")","v":8.1081081081081086E-3},60,60,"S.US.ESV",205,"S.US.UHS"]
[null,0,"S.US.ETR",{"$f":"IFERROR(RTD(\"cqg.rtd\", ,\"ContractData\",C206, \"PerCentNetLastTrade\",, \"T\")/100,\"\")","v":-3.4491907667816395E-3},376,376,"S.US.ETR",206,"S.US.BBY"]
[null,1,"S.US.EVHC",{"$f":"IFERROR(RTD(\"cqg.rtd\", ,\"ContractData\",C207, \"PerCentNetLastTrade\",, \"T\")/100,\"\")","v":4.3095708385706586E-3},135,135,"S.US.EVHC",207,"S.US.PFE"]
[null,0,"S.US.EOG",{"$f":"IFERROR(RTD(\"cqg.rtd\", ,\"ContractData\",C208, \"PerCentNetLastTrade\",, \"T\")/100,\"\")","v":-4.9488972565895645E-3},431,431,"S.US.EOG",208,"S.US.D"]
[null,0,"S.US.EPR",{"$f":"IFERROR(RTD(\"cqg.rtd\", ,\"ContractData\",C209, \"PerCentNetLastTrade\",, \"T\")/100,\"\")","v":-4.3971631205673763E-3},391,391,"S.US.EPR",209,"S.US.APD"]
[null,0,"S.US.EQT",{"$f":"IFERROR(RTD(\"cqg.rtd\", ,\"ContractData\",C210, \"PerCentNetLastTrade\",, \"T\")/100,\"\")","v":-2.3360287511230908E-3},352,352,"S.US.EQT",210,"S.US.SHW"]
[null,1,"S.US.EQR",{"$f":"IFERROR(RTD(\"cqg.rtd\", ,\"ContractData\",C211, \"PerCentNetLastTrade\",, \"T\")/100,\"\")","v":1.1190550202051602E-2},24,24,"S.US.EQR",211,"S.US.NAVI"]
[null,1,"S.US.ESS",{"$f":"IFERROR(RTD(\"cqg.rtd\", ,\"ContractData\",C212, \"PerCentNetLastTrade\",, \"T\")/100,\"\")","v":2.6404981477102544E-3},180,180,"S.US.ESS",212,"S.US.TCBI"]
[null,0,"S.US.EL",{"$f":"IFERROR(RTD(\"cqg.rtd\", ,\"ContractData\",C213, \"PerCentNetLastTrade\",, \"T\")/100,\"\")","v":-1.1074918566775244E-2},545,545,"S.US.EL",213,"S.US.WRB"]
[null,0,"S.US.ESL",{"$f":"IFERROR(RTD(\"cqg.rtd\", ,\"ContractData\",C214, \"PerCentNetLastTrade\",, \"T\")/100,\"\")","v":-6.5466448445171853E-3},459,459,"S.US.ESL",214,"S.US.CDNS"]
[null,1,"S.US.RE",{"$f":"IFERROR(RTD(\"cqg.rtd\", ,\"ContractData\",C215, \"PerCentNetLastTrade\",, \"T\")/100,\"\")","v":6.2073246430788334E-3},82,82,"S.US.RE",215,"S.US.CCI"]
[null,0,"S.US.ES",{"$f":"IFERROR(RTD(\"cqg.rtd\", ,\"ContractData\",C216, \"PerCentNetLastTrade\",, \"T\")/100,\"\")","v":-6.6456221963781352E-4},282,282,"S.US.ES",216,"S.US.PNC"]
[null,0,"S.US.EXC",{"$f":"IFERROR(RTD(\"cqg.rtd\", ,\"ContractData\",C217, \"PerCentNetLastTrade\",, \"T\")/100,\"\")","v":-3.7302725968436155E-3},402,402,"S.US.EXC",217,"S.US.STX"]
[null,1,"S.US.EXPD",{"$f":"IFERROR(RTD(\"cqg.rtd\", ,\"ContractData\",C218, \"PerCentNetLastTrade\",, \"T\")/100,\"\")","v":6.6985645933014364E-3},76,76,"S.US.EXPD",218,"S.US.CUZ"]
[null,1,"S.US.ESRX",{"$f":"IFERROR(RTD(\"cqg.rtd\", ,\"ContractData\",C219, \"PerCentNetLastTrade\",, \"T\")/100,\"\")","v":5.357441821530219E-3},97,97,"S.US.ESRX",219,"S.US.ANSS"]
[null,0,"S.US.XOM",{"$f":"IFERROR(RTD(\"cqg.rtd\", ,\"ContractData\",C220, \"PerCentNetLastTrade\",, \"T\")/100,\"\")","v":-1.0976948408342481E-3},300,300,"S.US.XOM",220,"S.US.PDCO"]
[null,0,"S.US.F",{"$f":"IFERROR(RTD(\"cqg.rtd\", ,\"ContractData\",C221, \"PerCentNetLastTrade\",, \"T\")/100,\"\")","v":-2.7881040892193312E-3},334,334,"S.US.F",221,"S.US.KEY"]
[null,1,"S.US.FDS",{"$f":"IFERROR(RTD(\"cqg.rtd\", ,\"ContractData\",C222, \"PerCentNetLastTrade\",, \"T\")/100,\"\")","v":2.5138260432378077E-3},183,183,"S.US.FDS",222,"S.US.SYY"]
[null,0,"S.US.FRT",{"$f":"IFERROR(RTD(\"cqg.rtd\", ,\"ContractData\",C223, \"PerCentNetLastTrade\",, \"T\")/100,\"\")","v":-8.4573473204846705E-3},480,480,"S.US.FRT",223,"S.US.AEE"]
[null,1,"S.US.FITB",{"$f":"IFERROR(RTD(\"cqg.rtd\", ,\"ContractData\",C224, \"PerCentNetLastTrade\",, \"T\")/100,\"\")","v":4.2052144659377629E-3},138,138,"S.US.FITB",224,"S.US.PII"]
[null,1,"S.US.FAF",{"$f":"IFERROR(RTD(\"cqg.rtd\", ,\"ContractData\",C225, \"PerCentNetLastTrade\",, \"T\")/100,\"\")","v":3.4997666822211854E-3},154,154,"S.US.FAF",225,"S.US.ORI"]
[null,0,"S.US.FSLR",{"$f":"IFERROR(RTD(\"cqg.rtd\", ,\"ContractData\",C226, \"PerCentNetLastTrade\",, \"T\")/100,\"\")","v":-4.259576901086335E-2},636,636,"S.US.FSLR",226,"S.US.MBFI"]
[null,0,"S.US.FE",{"$f":"IFERROR(RTD(\"cqg.rtd\", ,\"ContractData\",C227, \"PerCentNetLastTrade\",, \"T\")/100,\"\")","v":-9.4438614900314802E-3},516,516,"S.US.FE",227,"S.US.BFB"]
[null,1,"S.US.FLIR",{"$f":"IFERROR(RTD(\"cqg.rtd\", ,\"ContractData\",C228, \"PerCentNetLastTrade\",, \"T\")/100,\"\")","v":2.6809651474530834E-4},243,243,"S.US.FLIR",228,"S.US.OMI"]
[null,0,"S.US.FLO",{"$f":"IFERROR(RTD(\"cqg.rtd\", ,\"ContractData\",C229, \"PerCentNetLastTrade\",, \"T\")/100,\"\")","v":-2.7319587628865979E-2},620,620,"S.US.FLO",229,"S.US.OFC"]
[null,0,"S.US.FLS",{"$f":"IFERROR(RTD(\"cqg.rtd\", ,\"ContractData\",C230, \"PerCentNetLastTrade\",, \"T\")/100,\"\")","v":-2.8961522548613984E-3},375,375,"S.US.FLS",230,"S.US.MAC"]
[null,0,"S.US.FLR",{"$f":"IFERROR(RTD(\"cqg.rtd\", ,\"ContractData\",C231, \"PerCentNetLastTrade\",, \"T\")/100,\"\")","v":-1.3557839492674393E-2},562,562,"S.US.FLR",231,"S.US.BRCD"]
[null,0,"S.US.FMC",{"$f":"IFERROR(RTD(\"cqg.rtd\", ,\"ContractData\",C232, \"PerCentNetLastTrade\",, \"T\")/100,\"\")","v":-2.7811694478361147E-2},622,622,"S.US.FMC",232,"S.US.CBOE"]
[null,0,"S.US.FNB",{"$f":"IFERROR(RTD(\"cqg.rtd\", ,\"ContractData\",C233, \"PerCentNetLastTrade\",, \"T\")/100,\"\")","v":-1.4869888475836431E-3},318,318,"S.US.FNB",233,"S.US.COL"]
[null,1,"S.US.FL",{"$f":"IFERROR(RTD(\"cqg.rtd\", ,\"ContractData\",C234, \"PerCentNetLastTrade\",, \"T\")/100,\"\")","v":2.6813434942139429E-3},163,163,"S.US.FL",234,"S.US.IBM"]
[null,1,"S.US.FBHS",{"$f":"IFERROR(RTD(\"cqg.rtd\", ,\"ContractData\",C235, \"PerCentNetLastTrade\",, \"T\")/100,\"\")","v":2.4057738572574178E-3},188,188,"S.US.FBHS",235,"S.US.PNW"]
[null,0,"S.US.BEN",{"$f":"IFERROR(RTD(\"cqg.rtd\", ,\"ContractData\",C236, \"PerCentNetLastTrade\",, \"T\")/100,\"\")","v":-7.6099881093935791E-3},483,483,"S.US.BEN",236,"S.US.ASH"]
[null,0,"S.US.FCX",{"$f":"IFERROR(RTD(\"cqg.rtd\", ,\"ContractData\",C237, \"PerCentNetLastTrade\",, \"T\")/100,\"\")","v":-1.7497812773403325E-2},595,595,"S.US.FCX",237,"S.US.OGS"]
[null,0,"S.US.FTR",{"$f":"IFERROR(RTD(\"cqg.rtd\", ,\"ContractData\",C238, \"PerCentNetLastTrade\",, \"T\")/100,\"\")","v":-2.2556390977443611E-2},613,613,"S.US.FTR",238,"S.US.CST"]
[null,1,"S.US.FCN",{"$f":"IFERROR(RTD(\"cqg.rtd\", ,\"ContractData\",C239, \"PerCentNetLastTrade\",, \"T\")/100,\"\")","v":4.4027003228646906E-3},130,130,"S.US.FCN",239,"S.US.OLN"]
[null,1,"S.US.FULT",{"$f":"IFERROR(RTD(\"cqg.rtd\", ,\"ContractData\",C240, \"PerCentNetLastTrade\",, \"T\")/100,\"\")","v":5.8139534883720929E-3},86,86,"S.US.FULT",240,"S.US.HR"]
[null,0,"S.US.GME",{"$f":"IFERROR(RTD(\"cqg.rtd\", ,\"ContractData\",C241, \"PerCentNetLastTrade\",, \"T\")/100,\"\")","v":-1.0486577181208054E-2},539,539,"S.US.GME",241,"S.US.DHI"]
[null,0,"S.US.GPS",{"$f":"IFERROR(RTD(\"cqg.rtd\", ,\"ContractData\",C242, \"PerCentNetLastTrade\",, \"T\")/100,\"\")","v":-8.9171974522292991E-3},510,510,"S.US.GPS",242,"S.US.CVX"]
[null,0,"S.US.GATX",{"$f":"IFERROR(RTD(\"cqg.rtd\", ,\"ContractData\",C243, \"PerCentNetLastTrade\",, \"T\")/100,\"\")","v":-1.3558143577264037E-2},568,568,"S.US.GATX",243,"S.US.FLIR"]
[null,0,"S.US.GE",{"$f":"IFERROR(RTD(\"cqg.rtd\", ,\"ContractData\",C244, \"PerCentNetLastTrade\",, \"T\")/100,\"\")","v":-7.2966070777088655E-3},488,488,"S.US.GE",244,"S.US.ZBH"]
[null,0,"S.US.GIS",{"$f":"IFERROR(RTD(\"cqg.rtd\", ,\"ContractData\",C245, \"PerCentNetLastTrade\",, \"T\")/100,\"\")","v":-8.9237908263430305E-4},283,283,"S.US.GIS",245,"S.US.DVA"]
[null,0,"S.US.GM",{"$f":"IFERROR(RTD(\"cqg.rtd\", ,\"ContractData\",C246, \"PerCentNetLastTrade\",, \"T\")/100,\"\")","v":-3.7014188772362738E-3},399,399,"S.US.GM",246,"S.US.MMM"]
[null,0,"S.US.GWR",{"$f":"IFERROR(RTD(\"cqg.rtd\", ,\"ContractData\",C247, \"PerCentNetLastTrade\",, \"T\")/100,\"\")","v":-1.4670706426407271E-2},581,581,"S.US.GWR",247,"S.US.SRE"]
[null,1,"S.US.GPC",{"$f":"IFERROR(RTD(\"cqg.rtd\", ,\"ContractData\",C248, \"PerCentNetLastTrade\",, \"T\")/100,\"\")","v":5.3769340502578733E-3},92,92,"S.US.GPC",248,"S.US.AHL"]
[null,0,"S.US.GNW",{"$f":"IFERROR(RTD(\"cqg.rtd\", ,\"ContractData\",C249, \"PerCentNetLastTrade\",, \"T\")/100,\"\")","v":-1.3623978201634877E-2},570,570,"S.US.GNW",249,"S.US.HES"]
[null,0,"S.US.GEO",{"$f":"IFERROR(RTD(\"cqg.rtd\", ,\"ContractData\",C250, \"PerCentNetLastTrade\",, \"T\")/100,\"\")","v":-2.8720626631853787E-2},624,624,"S.US.GEO",250,"S.US.HOLX"]
[null,0,"S.US.GMED",{"$f":"IFERROR(RTD(\"cqg.rtd\", ,\"ContractData\",C251, \"PerCentNetLastTrade\",, \"T\")/100,\"\")","v":-2.496798975672215E-2},617,617,"S.US.GMED",251,"S.US.HRL"]
[null,1,"S.US.GS",{"$f":"IFERROR(RTD(\"cqg.rtd\", ,\"ContractData\",C252, \"PerCentNetLastTrade\",, \"T\")/100,\"\")","v":1.1744338386674153E-2},21,21,"S.US.GS",252,"S.US.LPNT"]
[null,0,"S.US.GT",{"$f":"IFERROR(RTD(\"cqg.rtd\", ,\"ContractData\",C253, \"PerCentNetLastTrade\",, \"T\")/100,\"\")","v":-6.1996280223186604E-3},464,464,"S.US.GT",253,"S.US.CLI"]
[null,1,"S.US.GHC",{"$f":"IFERROR(RTD(\"cqg.rtd\", ,\"ContractData\",C254, \"PerCentNetLastTrade\",, \"T\")/100,\"\")","v":""},{"$error":"#VALUE!"},"","S.US.GHC",254,"S.US.MRO"]
[null,0,"S.US.GXP",{"$f":"IFERROR(RTD(\"cqg.rtd\", ,\"ContractData\",C255, \"PerCentNetLastTrade\",, \"T\")/100,\"\")","v":-3.2304379038047381E-3},387,387,"S.US.GXP",255,"S.US.NWS"]
[null,0,"S.US.GEF",{"$f":"IFERROR(RTD(\"cqg.rtd\", ,\"ContractData\",C256, \"PerCentNetLastTrade\",, \"T\")/100,\"\")","v":-9.2240911557243625E-3},520,520,"S.US.GEF",256,"S.US.OKE"]
[null,0,"S.US.GPOR",{"$f":"IFERROR(RTD(\"cqg.rtd\", ,\"ContractData\",C257, \"PerCentNetLastTrade\",, \"T\")/100,\"\")","v":-9.3574547723019336E-3},523,523,"S.US.GPOR",257,{"$f":"IFERROR(VLOOKUP(H257,$F$1:$G$639,2,FALSE),\"\")","v":"S.US.VLY"}]
[null,{"$f":"IF(D258>=0,1,)","v":1},"S.US.HRB",{"$f":"IFERROR(RTD(\"cqg.rtd\", ,\"ContractData\",C258, \"PerCentNetLastTrade\",, \"T\")/100,\"\")","v":1.594896331738437E-3},193,{"$f":"IFERROR(E258,\"\")","v":193},"S.US.HRB",258,"S.US.XEL"]
[null,0,"S.US.HAIN",{"$f":"IFERROR(RTD(\"cqg.rtd\", ,\"ContractData\",C259, \"PerCentNetLastTrade\",, \"T\")/100,\"\")","v":-7.7028885832187066E-3},490,490,"S.US.HAIN",{"$f":"H258+1","v":259},"S.US.OXY"]
[null,0,"S.US.HAL",{"$f":"IFERROR(RTD(\"cqg.rtd\", ,\"ContractData\",C260, \"PerCentNetLastTrade\",, \"T\")/100,\"\")","v":-4.3159257660768235E-3},410,410,"S.US.HAL",260,"S.US.MON"]
[null,0,"S.US.HYH",{"$f":"IFERROR(RTD(\"cqg.rtd\", ,\"ContractData\",C261, \"PerCentNetLastTrade\",, \"T\")/100,\"\")","v":-5.6306306306306306E-4},277,277,"S.US.HYH",261,"S.US.PPL"]
[null,1,"S.US.HBHC",{"$f":"IFERROR(RTD(\"cqg.rtd\", ,\"ContractData\",C262, \"PerCentNetLastTrade\",, \"T\")/100,\"\")","v":4.3715846994535519E-3},133,133,"S.US.HBHC",262,"S.US.SIVB"]
[null,0,"S.US.HBI",{"$f":"IFERROR(RTD(\"cqg.rtd\", ,\"ContractData\",C263, \"PerCentNetLastTrade\",, \"T\")/100,\"\")","v":-5.3868756121449556E-3},435,435,"S.US.HBI",263,"S.US.AEP"]
[null,1,"S.US.THG",{"$f":"IFERROR(RTD(\"cqg.rtd\", ,\"ContractData\",C264, \"PerCentNetLastTrade\",, \"T\")/100,\"\")","v":1.3277081523762254E-2},18,18,"S.US.THG",264,"S.US.CA"]
[null,0,"S.US.HIG",{"$f":"IFERROR(RTD(\"cqg.rtd\", ,\"ContractData\",C265, \"PerCentNetLastTrade\",, \"T\")/100,\"\")","v":-8.1799591002044991E-4},290,290,"S.US.HIG",265,"S.US.JPM"]
[null,0,"S.US.HE",{"$f":"IFERROR(RTD(\"cqg.rtd\", ,\"ContractData\",C266, \"PerCentNetLastTrade\",, \"T\")/100,\"\")","v":-1.019147621988882E-2},527,527,"S.US.HE",266,"S.US.BC"]
[null,0,"S.US.HCA",{"$f":"IFERROR(RTD(\"cqg.rtd\", ,\"ContractData\",C267, \"PerCentNetLastTrade\",, \"T\")/100,\"\")","v":-1.1033468186833395E-3},273,273,"S.US.HCA",267,"S.US.DXC"]
[null,0,"S.US.HCP",{"$f":"IFERROR(RTD(\"cqg.rtd\", ,\"ContractData\",C268, \"PerCentNetLastTrade\",, \"T\")/100,\"\")","v":-5.1020408163265311E-3},439,439,"S.US.HCP",268,"S.US.AFL"]
[null,0,"S.US.HR",{"$f":"IFERROR(RTD(\"cqg.rtd\", ,\"ContractData\",C269, \"PerCentNetLastTrade\",, \"T\")/100,\"\")","v":-1.5436863229391787E-3},240,240,"S.US.HR",269,"S.US.SFM"]
[null,0,"S.US.HELE",{"$f":"IFERROR(RTD(\"cqg.rtd\", ,\"ContractData\",C270, \"PerCentNetLastTrade\",, \"T\")/100,\"\")","v":-1.3542795232936078E-2},567,567,"S.US.HELE",270,"S.US.PHM"]
[null,0,"S.US.HP",{"$f":"IFERROR(RTD(\"cqg.rtd\", ,\"ContractData\",C271, \"PerCentNetLastTrade\",, \"T\")/100,\"\")","v":-8.1114441897372595E-3},501,501,"S.US.HP",271,"S.US.CREE"]
[null,1,"S.US.HSIC",{"$f":"IFERROR(RTD(\"cqg.rtd\", ,\"ContractData\",C272, \"PerCentNetLastTrade\",, \"T\")/100,\"\")","v":8.30659945004583E-3},57,57,"S.US.HSIC",272,"S.US.ABT"]
[null,0,"S.US.MLHR",{"$f":"IFERROR(RTD(\"cqg.rtd\", ,\"ContractData\",C273, \"PerCentNetLastTrade\",, \"T\")/100,\"\")","v":-6.2500000000000003E-3},466,466,"S.US.MLHR",273,"S.US.HCA"]
[null,1,"S.US.HES",{"$f":"IFERROR(RTD(\"cqg.rtd\", ,\"ContractData\",C274, \"PerCentNetLastTrade\",, \"T\")/100,\"\")","v":0},249,249,"S.US.HES",274,"S.US.TSCO"]
[null,1,"S.US.HPE",{"$f":"IFERROR(RTD(\"cqg.rtd\", ,\"ContractData\",C275, \"PerCentNetLastTrade\",, \"T\")/100,\"\")","v":3.1914893617021279E-3},165,165,"S.US.HPE",275,"S.US.EWBC"]
[null,0,"S.US.HIW",{"$f":"IFERROR(RTD(\"cqg.rtd\", ,\"ContractData\",C276, \"PerCentNetLastTrade\",, \"T\")/100,\"\")","v":-3.012653143201446E-3},385,385,"S.US.HIW",276,"S.US.MJN"]
[null,1,"S.US.HRC",{"$f":"IFERROR(RTD(\"cqg.rtd\", ,\"ContractData\",C277, \"PerCentNetLastTrade\",, \"T\")/100,\"\")","v":1.0721649484536083E-2},29,29,"S.US.HRC",277,"S.US.HYH"]
[null,0,"S.US.HNI",{"$f":"IFERROR(RTD(\"cqg.rtd\", ,\"ContractData\",C278, \"PerCentNetLastTrade\",, \"T\")/100,\"\")","v":-7.1090047393364934E-3},478,478,"S.US.HNI",278,"S.US.DDS"]
[null,0,"S.US.HFC",{"$f":"IFERROR(RTD(\"cqg.rtd\", ,\"ContractData\",C279, \"PerCentNetLastTrade\",, \"T\")/100,\"\")","v":-1.3978088401964487E-2},569,569,"S.US.HFC",279,"S.US.SCI"]
[null,0,"S.US.HOLX",{"$f":"IFERROR(RTD(\"cqg.rtd\", ,\"ContractData\",C280, \"PerCentNetLastTrade\",, \"T\")/100,\"\")","v":-2.3331777881474569E-4},250,250,"S.US.HOLX",280,"S.US.CMS"]
[null,1,"S.US.HON",{"$f":"IFERROR(RTD(\"cqg.rtd\", ,\"ContractData\",C281, \"PerCentNetLastTrade\",, \"T\")/100,\"\")","v":1.539171925504079E-3},197,197,"S.US.HON",281,"S.US.DOW"]
[null,1,"S.US.HRL",{"$f":"IFERROR(RTD(\"cqg.rtd\", ,\"ContractData\",C282, \"PerCentNetLastTrade\",, \"T\")/100,\"\")","v":0},251,251,"S.US.HRL",282,"S.US.ES"]
[null,0,"S.US.HPT",{"$f":"IFERROR(RTD(\"cqg.rtd\", ,\"ContractData\",C283, \"PerCentNetLastTrade\",, \"T\")/100,\"\")","v":-1.4814814814814814E-2},582,582,"S.US.HPT",283,"S.US.GIS"]
[null,0,"S.US.HPQ",{"$f":"IFERROR(RTD(\"cqg.rtd\", ,\"ContractData\",C284, \"PerCentNetLastTrade\",, \"T\")/100,\"\")","v":-9.4936708860759497E-3},525,525,"S.US.HPQ",284,"S.US.LNT"]
[null,1,"S.US.HSNI",{"$f":"IFERROR(RTD(\"cqg.rtd\", ,\"ContractData\",C285, \"PerCentNetLastTrade\",, \"T\")/100,\"\")","v":2.9717682020802376E-3},170,170,"S.US.HSNI",285,"S.US.DGX"]
[null,0,"S.US.HUBB",{"$f":"IFERROR(RTD(\"cqg.rtd\", ,\"ContractData\",C286, \"PerCentNetLastTrade\",, \"T\")/100,\"\")","v":-4.5991523131030752E-3},425,425,"S.US.HUBB",286,"S.US.OII"]
[null,1,"S.US.HBAN",{"$f":"IFERROR(RTD(\"cqg.rtd\", ,\"ContractData\",C287, \"PerCentNetLastTrade\",, \"T\")/100,\"\")","v":1.3832384052074858E-2},16,16,"S.US.HBAN",287,"S.US.DD"]
[null,0,"S.US.IDA",{"$f":"IFERROR(RTD(\"cqg.rtd\", ,\"ContractData\",C288, \"PerCentNetLastTrade\",, \"T\")/100,\"\")","v":-4.4311377245508984E-3},401,401,"S.US.IDA",288,"S.US.PEP"]
[null,1,"S.US.ILMN",{"$f":"IFERROR(RTD(\"cqg.rtd\", ,\"ContractData\",C289, \"PerCentNetLastTrade\",, \"T\")/100,\"\")","v":8.6010480747322846E-3},52,52,"S.US.ILMN",289,"S.US.SO"]
[null,0,"S.US.INGR",{"$f":"IFERROR(RTD(\"cqg.rtd\", ,\"ContractData\",C290, \"PerCentNetLastTrade\",, \"T\")/100,\"\")","v":-1.0583354500042332E-2},541,541,"S.US.INGR",290,"S.US.HIG"]
[null,1,"S.US.INTC",{"$f":"IFERROR(RTD(\"cqg.rtd\", ,\"ContractData\",C291, \"PerCentNetLastTrade\",, \"T\")/100,\"\")","v":8.5616438356164379E-3},53,53,"S.US.INTC",291,"S.US.PNM"]
[null,1,"S.US.IBOC",{"$f":"IFERROR(RTD(\"cqg.rtd\", ,\"ContractData\",C292, \"PerCentNetLastTrade\",, \"T\")/100,\"\")","v":4.4642857142857149E-3},126,126,"S.US.IBOC",292,"S.US.AGN"]
[null,1,"S.US.IBM",{"$f":"IFERROR(RTD(\"cqg.rtd\", ,\"ContractData\",C293, \"PerCentNetLastTrade\",, \"T\")/100,\"\")","v":6.6255880209368579E-4},234,234,"S.US.IBM",293,"S.US.QEP"]
[null,1,"S.US.IFF",{"$f":"IFERROR(RTD(\"cqg.rtd\", ,\"ContractData\",C294, \"PerCentNetLastTrade\",, \"T\")/100,\"\")","v":7.209913631242959E-3},68,68,"S.US.IFF",294,"S.US.PPG"]
[null,0,"S.US.IP",{"$f":"IFERROR(RTD(\"cqg.rtd\", ,\"ContractData\",C295, \"PerCentNetLastTrade\",, \"T\")/100,\"\")","v":-1.8195896244676733E-2},599,599,"S.US.IP",295,"S.US.WEC"]
[null,0,"S.US.ISCA",{"$f":"IFERROR(RTD(\"cqg.rtd\", ,\"ContractData\",C296, \"PerCentNetLastTrade\",, \"T\")/100,\"\")","v":-1.3966480446927373E-2},574,574,"S.US.ISCA",296,"S.US.KMI"]
[null,1,"S.US.IPG",{"$f":"IFERROR(RTD(\"cqg.rtd\", ,\"ContractData\",C297, \"PerCentNetLastTrade\",, \"T\")/100,\"\")","v":1.00418410041841E-2},37,37,"S.US.IPG",297,"S.US.TSN"]
[null,1,"S.US.IVZ",{"$f":"IFERROR(RTD(\"cqg.rtd\", ,\"ContractData\",C298, \"PerCentNetLastTrade\",, \"T\")/100,\"\")","v":1.4024787997390738E-2},15,15,"S.US.IVZ",298,"S.US.WU"]
[null,0,"S.US.IRM",{"$f":"IFERROR(RTD(\"cqg.rtd\", ,\"ContractData\",C299, \"PerCentNetLastTrade\",, \"T\")/100,\"\")","v":-1.1344299489506524E-3},302,302,"S.US.IRM",299,"S.US.SLG"]
[null,0,"S.US.ITT",{"$f":"IFERROR(RTD(\"cqg.rtd\", ,\"ContractData\",C300, \"PerCentNetLastTrade\",, \"T\")/100,\"\")","v":-2.5974025974025972E-2},618,618,"S.US.ITT",300,"S.US.XOM"]
[null,0,"S.US.JBL",{"$f":"IFERROR(RTD(\"cqg.rtd\", ,\"ContractData\",C301, \"PerCentNetLastTrade\",, \"T\")/100,\"\")","v":-3.9209001022843505E-2},634,634,"S.US.JBL",301,"S.US.LYB"]
[null,0,"S.US.JEC",{"$f":"IFERROR(RTD(\"cqg.rtd\", ,\"ContractData\",C302, \"PerCentNetLastTrade\",, \"T\")/100,\"\")","v":-2.0112163991491006E-2},605,605,"S.US.JEC",302,"S.US.IRM"]
[null,1,"S.US.JNS",{"$f":"IFERROR(RTD(\"cqg.rtd\", ,\"ContractData\",C303, \"PerCentNetLastTrade\",, \"T\")/100,\"\")","v":7.9422382671480145E-3},62,62,"S.US.JNS",303,"S.US.PTC"]
[null,0,"S.US.JCP",{"$f":"IFERROR(RTD(\"cqg.rtd\", ,\"ContractData\",C304, \"PerCentNetLastTrade\",, \"T\")/100,\"\")","v":-2.9978586723768737E-2},627,627,"S.US.JCP",304,"S.US.VNO"]
[null,0,"S.US.JBLU",{"$f":"IFERROR(RTD(\"cqg.rtd\", ,\"ContractData\",C305, \"PerCentNetLastTrade\",, \"T\")/100,\"\")","v":-2.3854961832061069E-3},354,354,"S.US.JBLU",305,"S.US.DECK"]
[null,0,"S.US.SJM",{"$f":"IFERROR(RTD(\"cqg.rtd\", ,\"ContractData\",C306, \"PerCentNetLastTrade\",, \"T\")/100,\"\")","v":-6.3598060259162092E-3},468,468,"S.US.SJM",306,"S.US.NTAP"]
[null,0,"S.US.JWA",{"$f":"IFERROR(RTD(\"cqg.rtd\", ,\"ContractData\",C307, \"PerCentNetLastTrade\",, \"T\")/100,\"\")","v":-8.0000000000000002E-3},495,495,"S.US.JWA",307,"S.US.LNC"]
[null,0,"S.US.JNJ",{"$f":"IFERROR(RTD(\"cqg.rtd\", ,\"ContractData\",C308, \"PerCentNetLastTrade\",, \"T\")/100,\"\")","v":-4.3419910002368356E-3},411,411,"S.US.JNJ",308,"S.US.OA"]
[null,1,"S.US.JCI",{"$f":"IFERROR(RTD(\"cqg.rtd\", ,\"ContractData\",C309, \"PerCentNetLastTrade\",, \"T\")/100,\"\")","v":8.7103798693443021E-3},45,45,"S.US.JCI",309,"S.US.DOV"]
[null,0,"S.US.JLL",{"$f":"IFERROR(RTD(\"cqg.rtd\", ,\"ContractData\",C310, \"PerCentNetLastTrade\",, \"T\")/100,\"\")","v":-5.3000359324469996E-3},446,446,"S.US.JLL",310,"S.US.MANH"]
[null,0,"S.US.JPM",{"$f":"IFERROR(RTD(\"cqg.rtd\", ,\"ContractData\",C311, \"PerCentNetLastTrade\",, \"T\")/100,\"\")","v":-3.55998576005696E-4},265,265,"S.US.JPM",311,"S.US.RHI"]
[null,0,"S.US.JNPR",{"$f":"IFERROR(RTD(\"cqg.rtd\", ,\"ContractData\",C312, \"PerCentNetLastTrade\",, \"T\")/100,\"\")","v":-3.6962365591397851E-3},398,398,"S.US.JNPR",312,"S.US.C"]
[null,0,"S.US.KSU",{"$f":"IFERROR(RTD(\"cqg.rtd\", ,\"ContractData\",C313, \"PerCentNetLastTrade\",, \"T\")/100,\"\")","v":-7.5555555555555549E-3},485,485,"S.US.KSU",313,"S.US.LW"]
[null,0,"S.US.KBH",{"$f":"IFERROR(RTD(\"cqg.rtd\", ,\"ContractData\",C314, \"PerCentNetLastTrade\",, \"T\")/100,\"\")","v":-2.8818443804034585E-3},374,374,"S.US.KBH",314,"S.US.KMPR"]
[null,0,"S.US.KBR",{"$f":"IFERROR(RTD(\"cqg.rtd\", ,\"ContractData\",C315, \"PerCentNetLastTrade\",, \"T\")/100,\"\")","v":-2.346445824706694E-2},616,616,"S.US.KBR",315,"S.US.PEG"]
[null,0,"S.US.K",{"$f":"IFERROR(RTD(\"cqg.rtd\", ,\"ContractData\",C316, \"PerCentNetLastTrade\",, \"T\")/100,\"\")","v":-3.1192400396994184E-3},381,381,"S.US.K",316,"S.US.CTB"]
[null,0,"S.US.KMPR",{"$f":"IFERROR(RTD(\"cqg.rtd\", ,\"ContractData\",C317, \"PerCentNetLastTrade\",, \"T\")/100,\"\")","v":-2.7247956403269758E-3},314,314,"S.US.KMPR",317,"S.US.MCK"]
[null,0,"S.US.KMT",{"$f":"IFERROR(RTD(\"cqg.rtd\", ,\"ContractData\",C318, \"PerCentNetLastTrade\",, \"T\")/100,\"\")","v":-1.1587173268660737E-2},549,549,"S.US.KMT",318,"S.US.FNB"]
[null,1,"S.US.KEY",{"$f":"IFERROR(RTD(\"cqg.rtd\", ,\"ContractData\",C319, \"PerCentNetLastTrade\",, \"T\")/100,\"\")","v":5.6657223796033991E-4},221,221,"S.US.KEY",319,"S.US.KLXI"]
[null,0,"S.US.KEYS",{"$f":"IFERROR(RTD(\"cqg.rtd\", ,\"ContractData\",C320, \"PerCentNetLastTrade\",, \"T\")/100,\"\")","v":-1.2420718816067653E-2},557,557,"S.US.KEYS",320,"S.US.NSR"]
[null,0,"S.US.KMB",{"$f":"IFERROR(RTD(\"cqg.rtd\", ,\"ContractData\",C321, \"PerCentNetLastTrade\",, \"T\")/100,\"\")","v":-1.1175367302281962E-2},547,547,"S.US.KMB",321,{"$f":"IFERROR(VLOOKUP(H321,$F$1:$G$639,2,FALSE),\"\")","v":"S.US.VAL"}]
[null,{"$f":"IF(D322>=0,1,)","v":0},"S.US.KMI",{"$f":"IFERROR(RTD(\"cqg.rtd\", ,\"ContractData\",C322, \"PerCentNetLastTrade\",, \"T\")/100,\"\")","v":-1.0256410256410256E-3},296,{"$f":"IFERROR(E322,\"\")","v":296},"S.US.KMI",322,"S.US.THS"]
[null,0,"S.US.KEX",{"$f":"IFERROR(RTD(\"cqg.rtd\", ,\"ContractData\",C323, \"PerCentNetLastTrade\",, \"T\")/100,\"\")","v":-3.0534351145038168E-3},380,380,"S.US.KEX",{"$f":"H322+1","v":323},"S.US.WGL"]
[null,0,"S.US.KLXI",{"$f":"IFERROR(RTD(\"cqg.rtd\", ,\"ContractData\",C324, \"PerCentNetLastTrade\",, \"T\")/100,\"\")","v":-1.4890448840672197E-3},319,319,"S.US.KLXI",324,"S.US.ROP"]
[null,1,"S.US.KN",{"$f":"IFERROR(RTD(\"cqg.rtd\", ,\"ContractData\",C325, \"PerCentNetLastTrade\",, \"T\")/100,\"\")","v":2.8985507246376812E-3},172,172,"S.US.KN",325,"S.US.SNX"]
[null,0,"S.US.KSS",{"$f":"IFERROR(RTD(\"cqg.rtd\", ,\"ContractData\",C326, \"PerCentNetLastTrade\",, \"T\")/100,\"\")","v":-7.2795901860339719E-3},481,481,"S.US.KSS",326,"S.US.TOL"]
[null,1,"S.US.KHC",{"$f":"IFERROR(RTD(\"cqg.rtd\", ,\"ContractData\",C327, \"PerCentNetLastTrade\",, \"T\")/100,\"\")","v":8.4906714333594022E-3},51,51,"S.US.KHC",327,"S.US.PRU"]
[null,1,"S.US.KR",{"$f":"IFERROR(RTD(\"cqg.rtd\", ,\"ContractData\",C328, \"PerCentNetLastTrade\",, \"T\")/100,\"\")","v":1.3636363636363636E-2},17,17,"S.US.KR",328,"S.US.SYNA"]
[null,1,"S.US.LB",{"$f":"IFERROR(RTD(\"cqg.rtd\", ,\"ContractData\",C329, \"PerCentNetLastTrade\",, \"T\")/100,\"\")","v":3.9462809917355374E-2},1,1,"S.US.LB",329,"S.US.RTN"]
[null,0,"S.US.LLL",{"$f":"IFERROR(RTD(\"cqg.rtd\", ,\"ContractData\",C330, \"PerCentNetLastTrade\",, \"T\")/100,\"\")","v":-6.4468137862633279E-3},456,456,"S.US.LLL",330,"S.US.DPS"]
[null,1,"S.US.LH",{"$f":"IFERROR(RTD(\"cqg.rtd\", ,\"ContractData\",C331, \"PerCentNetLastTrade\",, \"T\")/100,\"\")","v":1.7453276125372699E-3},199,199,"S.US.LH",331,"S.US.WMB"]
[null,0,"S.US.LW",{"$f":"IFERROR(RTD(\"cqg.rtd\", ,\"ContractData\",C332, \"PerCentNetLastTrade\",, \"T\")/100,\"\")","v":-1.3583880461851936E-3},313,313,"S.US.LW",332,"S.US.NEE"]
[null,0,"S.US.LHO",{"$f":"IFERROR(RTD(\"cqg.rtd\", ,\"ContractData\",C333, \"PerCentNetLastTrade\",, \"T\")/100,\"\")","v":-7.8459343794579171E-3},493,493,"S.US.LHO",333,"S.US.CHK"]
[null,1,"S.US.LM",{"$f":"IFERROR(RTD(\"cqg.rtd\", ,\"ContractData\",C334, \"PerCentNetLastTrade\",, \"T\")/100,\"\")","v":9.74025974025974E-3},46,46,"S.US.LM",334,"S.US.F"]
[null,0,"S.US.LEG",{"$f":"IFERROR(RTD(\"cqg.rtd\", ,\"ContractData\",C335, \"PerCentNetLastTrade\",, \"T\")/100,\"\")","v":-8.4963445959296575E-3},511,511,"S.US.LEG",335,"S.US.ARNC"]
[null,0,"S.US.LDOS",{"$f":"IFERROR(RTD(\"cqg.rtd\", ,\"ContractData\",C336, \"PerCentNetLastTrade\",, \"T\")/100,\"\")","v":-2.2957719533193035E-3},351,351,"S.US.LDOS",336,"S.US.DVN"]
[null,1,"S.US.LEN",{"$f":"IFERROR(RTD(\"cqg.rtd\", ,\"ContractData\",C337, \"PerCentNetLastTrade\",, \"T\")/100,\"\")","v":4.3763676148796497E-3},132,132,"S.US.LEN",337,"S.US.WYN"]
[null,1,"S.US.LUK",{"$f":"IFERROR(RTD(\"cqg.rtd\", ,\"ContractData\",C338, \"PerCentNetLastTrade\",, \"T\")/100,\"\")","v":4.5008183306055648E-3},125,125,"S.US.LUK",338,"S.US.NUE"]
[null,0,"S.US.LVLT",{"$f":"IFERROR(RTD(\"cqg.rtd\", ,\"ContractData\",C339, \"PerCentNetLastTrade\",, \"T\")/100,\"\")","v":-4.578599287773444E-3},432,432,"S.US.LVLT",339,"S.US.MCD"]
[null,0,"S.US.LSI",{"$f":"IFERROR(RTD(\"cqg.rtd\", ,\"ContractData\",C340, \"PerCentNetLastTrade\",, \"T\")/100,\"\")","v":-5.4959785522788211E-3},451,451,"S.US.LSI",340,"S.US.MD"]
[null,1,"S.US.LPNT",{"$f":"IFERROR(RTD(\"cqg.rtd\", ,\"ContractData\",C341, \"PerCentNetLastTrade\",, \"T\")/100,\"\")","v":0},252,252,"S.US.LPNT",341,"S.US.VIAB"]
[null,0,"S.US.LNC",{"$f":"IFERROR(RTD(\"cqg.rtd\", ,\"ContractData\",C342, \"PerCentNetLastTrade\",, \"T\")/100,\"\")","v":-1.0861132660977503E-3},307,307,"S.US.LNC",342,"S.US.CBG"]
[null,0,"S.US.LIVN",{"$f":"IFERROR(RTD(\"cqg.rtd\", ,\"ContractData\",C343, \"PerCentNetLastTrade\",, \"T\")/100,\"\")","v":-2.2294632138569713E-3},348,348,"S.US.LIVN",343,"S.US.Y"]
[null,1,"S.US.LYV",{"$f":"IFERROR(RTD(\"cqg.rtd\", ,\"ContractData\",C344, \"PerCentNetLastTrade\",, \"T\")/100,\"\")","v":6.5108020124297131E-3},81,81,"S.US.LYV",344,"S.US.SWK"]
[null,1,"S.US.L",{"$f":"IFERROR(RTD(\"cqg.rtd\", ,\"ContractData\",C345, \"PerCentNetLastTrade\",, \"T\")/100,\"\")","v":4.3639537420903339E-3},121,121,"S.US.L",345,"S.US.DY"]
[null,0,"S.US.LPX",{"$f":"IFERROR(RTD(\"cqg.rtd\", ,\"ContractData\",C346, \"PerCentNetLastTrade\",, \"T\")/100,\"\")","v":-6.1162079510703356E-3},462,462,"S.US.LPX",346,"S.US.DTE"]
[null,1,"S.US.LOW",{"$f":"IFERROR(RTD(\"cqg.rtd\", ,\"ContractData\",C347, \"PerCentNetLastTrade\",, \"T\")/100,\"\")","v":2.507462686567164E-3},177,177,"S.US.LOW",347,"S.US.EMN"]
[null,0,"S.US.LYB",{"$f":"IFERROR(RTD(\"cqg.rtd\", ,\"ContractData\",C348, \"PerCentNetLastTrade\",, \"T\")/100,\"\")","v":-1.1252813203300824E-3},301,301,"S.US.LYB",348,"S.US.LIVN"]
[null,1,"S.US.MTB",{"$f":"IFERROR(RTD(\"cqg.rtd\", ,\"ContractData\",C349, \"PerCentNetLastTrade\",, \"T\")/100,\"\")","v":3.960902063502204E-3},146,146,"S.US.MTB",349,"S.US.DST"]
[null,1,"S.US.MAC",{"$f":"IFERROR(RTD(\"cqg.rtd\", ,\"ContractData\",C350, \"PerCentNetLastTrade\",, \"T\")/100,\"\")","v":3.4788658897199514E-4},230,230,"S.US.MAC",350,"S.US.CMC"]
[null,0,"S.US.CLI",{"$f":"IFERROR(RTD(\"cqg.rtd\", ,\"ContractData\",C351, \"PerCentNetLastTrade\",, \"T\")/100,\"\")","v":-7.5244544770504147E-4},253,253,"S.US.CLI",351,"S.US.LDOS"]
[null,0,"S.US.M",{"$f":"IFERROR(RTD(\"cqg.rtd\", ,\"ContractData\",C352, \"PerCentNetLastTrade\",, \"T\")/100,\"\")","v":-1.5210777922642329E-2},586,586,"S.US.M",352,"S.US.EQT"]
[null,0,"S.US.MNK",{"$f":"IFERROR(RTD(\"cqg.rtd\", ,\"ContractData\",C353, \"PerCentNetLastTrade\",, \"T\")/100,\"\")","v":-2.0533396270946424E-2},609,609,"S.US.MNK",353,"S.US.AME"]
[null,0,"S.US.MANH",{"$f":"IFERROR(RTD(\"cqg.rtd\", ,\"ContractData\",C354, \"PerCentNetLastTrade\",, \"T\")/100,\"\")","v":-1.2706480304955528E-3},310,310,"S.US.MANH",354,"S.US.JBLU"]
[null,0,"S.US.MAN",{"$f":"IFERROR(RTD(\"cqg.rtd\", ,\"ContractData\",C355, \"PerCentNetLastTrade\",, \"T\")/100,\"\")","v":-2.5803890432711395E-3},364,364,"S.US.MAN",355,"S.US.CTLT"]
[null,1,"S.US.MRO",{"$f":"IFERROR(RTD(\"cqg.rtd\", ,\"ContractData\",C356, \"PerCentNetLastTrade\",, \"T\")/100,\"\")","v":0},254,254,"S.US.MRO",356,"S.US.RRC"]
[null,0,"S.US.MPC",{"$f":"IFERROR(RTD(\"cqg.rtd\", ,\"ContractData\",C357, \"PerCentNetLastTrade\",, \"T\")/100,\"\")","v":-9.2219020172910667E-3},519,519,"S.US.MPC",357,"S.US.EMR"]
[null,1,"S.US.MAS",{"$f":"IFERROR(RTD(\"cqg.rtd\", ,\"ContractData\",C358, \"PerCentNetLastTrade\",, \"T\")/100,\"\")","v":5.6987788331071907E-3},89,89,"S.US.MAS",358,"S.US.ALEX"]
[null,0,"S.US.MAT",{"$f":"IFERROR(RTD(\"cqg.rtd\", ,\"ContractData\",C359, \"PerCentNetLastTrade\",, \"T\")/100,\"\")","v":-1.0379061371841157E-2},538,538,"S.US.MAT",359,"S.US.CNO"]
[null,1,"S.US.MBFI",{"$f":"IFERROR(RTD(\"cqg.rtd\", ,\"ContractData\",C360, \"PerCentNetLastTrade\",, \"T\")/100,\"\")","v":9.6153846153846159E-4},226,226,"S.US.MBFI",360,"S.US.NKE"]
[null,0,"S.US.MKC",{"$f":"IFERROR(RTD(\"cqg.rtd\", ,\"ContractData\",C361, \"PerCentNetLastTrade\",, \"T\")/100,\"\")","v":-3.7867463876432488E-3},403,403,"S.US.MKC",361,"S.US.CVG"]
[null,0,"S.US.MCD",{"$f":"IFERROR(RTD(\"cqg.rtd\", ,\"ContractData\",C362, \"PerCentNetLastTrade\",, \"T\")/100,\"\")","v":-2.3222457482412404E-3},339,339,"S.US.MCD",362,"S.US.VVC"]
[null,0,"S.US.MCK",{"$f":"IFERROR(RTD(\"cqg.rtd\", ,\"ContractData\",C363, \"PerCentNetLastTrade\",, \"T\")/100,\"\")","v":-1.4784567727400733E-3},317,317,"S.US.MCK",363,"S.US.AAN"]
[null,0,"S.US.MJN",{"$f":"IFERROR(RTD(\"cqg.rtd\", ,\"ContractData\",C364, \"PerCentNetLastTrade\",, \"T\")/100,\"\")","v":-6.7438462403057221E-4},276,276,"S.US.MJN",364,"S.US.MAN"]
[null,0,"S.US.MPW",{"$f":"IFERROR(RTD(\"cqg.rtd\", ,\"ContractData\",C365, \"PerCentNetLastTrade\",, \"T\")/100,\"\")","v":-6.024096385542169E-3},460,460,"S.US.MPW",365,"S.US.NFX"]
[null,0,"S.US.MD",{"$f":"IFERROR(RTD(\"cqg.rtd\", ,\"ContractData\",C366, \"PerCentNetLastTrade\",, \"T\")/100,\"\")","v":-1.9931146946910671E-3},340,340,"S.US.MD",366,"S.US.XEC"]
[null,0,"S.US.MDT",{"$f":"IFERROR(RTD(\"cqg.rtd\", ,\"ContractData\",C367, \"PerCentNetLastTrade\",, \"T\")/100,\"\")","v":-4.2342124364868131E-3},414,414,"S.US.MDT",367,"S.US.EBAY"]
[null,1,"S.US.MRK",{"$f":"IFERROR(RTD(\"cqg.rtd\", ,\"ContractData\",C368, \"PerCentNetLastTrade\",, \"T\")/100,\"\")","v":8.7301587301587304E-3},49,49,"S.US.MRK",368,"S.US.AIZ"]
[null,1,"S.US.MCY",{"$f":"IFERROR(RTD(\"cqg.rtd\", ,\"ContractData\",C369, \"PerCentNetLastTrade\",, \"T\")/100,\"\")","v":4.7445255474452552E-3},116,116,"S.US.MCY",369,"S.US.AIG"]
[null,1,"S.US.MDP",{"$f":"IFERROR(RTD(\"cqg.rtd\", ,\"ContractData\",C370, \"PerCentNetLastTrade\",, \"T\")/100,\"\")","v":3.8684719535783361E-3},111,111,"S.US.MDP",370,"S.US.SNA"]
[null,0,"S.US.MET",{"$f":"IFERROR(RTD(\"cqg.rtd\", ,\"ContractData\",C371, \"PerCentNetLastTrade\",, \"T\")/100,\"\")","v":-4.8038430744595682E-3},433,433,"S.US.MET",371,"S.US.SEIC"]
[null,0,"S.US.MIK",{"$f":"IFERROR(RTD(\"cqg.rtd\", ,\"ContractData\",C372, \"PerCentNetLastTrade\",, \"T\")/100,\"\")","v":-5.5000000000000005E-3},421,421,"S.US.MIK",372,"S.US.DRQ"]
[null,1,"S.US.MU",{"$f":"IFERROR(RTD(\"cqg.rtd\", ,\"ContractData\",C373, \"PerCentNetLastTrade\",, \"T\")/100,\"\")","v":2.4074074074074074E-2},4,4,"S.US.MU",373,"S.US.SNH"]
[null,1,"S.US.MAA",{"$f":"IFERROR(RTD(\"cqg.rtd\", ,\"ContractData\",C374, \"PerCentNetLastTrade\",, \"T\")/100,\"\")","v":1.308768750629216E-3},186,186,"S.US.MAA",374,"S.US.KBH"]
[null,0,"S.US.MHK",{"$f":"IFERROR(RTD(\"cqg.rtd\", ,\"ContractData\",C375, \"PerCentNetLastTrade\",, \"T\")/100,\"\")","v":-4.2404371584699452E-3},415,415,"S.US.MHK",375,"S.US.FLS"]
[null,0,"S.US.MOH",{"$f":"IFERROR(RTD(\"cqg.rtd\", ,\"ContractData\",C376, \"PerCentNetLastTrade\",, \"T\")/100,\"\")","v":-3.4576067348165967E-3},383,383,"S.US.MOH",376,"S.US.ETR"]
[null,0,"S.US.TAP",{"$f":"IFERROR(RTD(\"cqg.rtd\", ,\"ContractData\",C377, \"PerCentNetLastTrade\",, \"T\")/100,\"\")","v":-4.4071804794152429E-3},417,417,"S.US.TAP",377,"S.US.BXP"]
[null,1,"S.US.MDLZ",{"$f":"IFERROR(RTD(\"cqg.rtd\", ,\"ContractData\",C378, \"PerCentNetLastTrade\",, \"T\")/100,\"\")","v":2.229157378510923E-3},185,185,"S.US.MDLZ",378,"S.US.VSM"]
[null,0,"S.US.MON",{"$f":"IFERROR(RTD(\"cqg.rtd\", ,\"ContractData\",C379, \"PerCentNetLastTrade\",, \"T\")/100,\"\")","v":-1.7268174753928511E-4},260,260,"S.US.MON",379,"S.US.COG"]
[null,1,"S.US.MNST",{"$f":"IFERROR(RTD(\"cqg.rtd\", ,\"ContractData\",C380, \"PerCentNetLastTrade\",, \"T\")/100,\"\")","v":1.7094017094017094E-3},182,182,"S.US.MNST",380,"S.US.KEX"]
[null,1,"S.US.MS",{"$f":"IFERROR(RTD(\"cqg.rtd\", ,\"ContractData\",C381, \"PerCentNetLastTrade\",, \"T\")/100,\"\")","v":1.6109348303636809E-2},13,13,"S.US.MS",381,"S.US.K"]
[null,0,"S.US.MOS",{"$f":"IFERROR(RTD(\"cqg.rtd\", ,\"ContractData\",C382, \"PerCentNetLastTrade\",, \"T\")/100,\"\")","v":-5.2608505041648402E-3},445,445,"S.US.MOS",382,"S.US.DLX"]
[null,0,"S.US.MUSA",{"$f":"IFERROR(RTD(\"cqg.rtd\", ,\"ContractData\",C383, \"PerCentNetLastTrade\",, \"T\")/100,\"\")","v":-4.0540540540540543E-3},407,407,"S.US.MUSA",383,"S.US.MOH"]
[null,0,"S.US.MYL",{"$f":"IFERROR(RTD(\"cqg.rtd\", ,\"ContractData\",C384, \"PerCentNetLastTrade\",, \"T\")/100,\"\")","v":-9.5730918499353172E-3},522,522,"S.US.MYL",384,"S.US.RS"]
[null,0,"S.US.NBR",{"$f":"IFERROR(RTD(\"cqg.rtd\", ,\"ContractData\",C385, \"PerCentNetLastTrade\",, \"T\")/100,\"\")","v":-2.2774327122153212E-2},614,614,"S.US.NBR",385,{"$f":"IFERROR(VLOOKUP(H385,$F$1:$G$639,2,FALSE),\"\")","v":"S.US.HIW"}]
[null,{"$f":"IF(D386>=0,1,)","v":0},"S.US.NDAQ",{"$f":"IFERROR(RTD(\"cqg.rtd\", ,\"ContractData\",C386, \"PerCentNetLastTrade\",, \"T\")/100,\"\")","v":-7.7925970328188224E-3},492,{"$f":"IFERROR(E386,\"\")","v":492},"S.US.NDAQ",386,"S.US.CNX"]
[null,0,"S.US.NFG",{"$f":"IFERROR(RTD(\"cqg.rtd\", ,\"ContractData\",C387, \"PerCentNetLastTrade\",, \"T\")/100,\"\")","v":-5.5635319454414934E-3},393,393,"S.US.NFG",{"$f":"H386+1","v":387},"S.US.GXP"]
[null,1,"S.US.NATI",{"$f":"IFERROR(RTD(\"cqg.rtd\", ,\"ContractData\",C388, \"PerCentNetLastTrade\",, \"T\")/100,\"\")","v":4.4150110375275938E-3},129,129,"S.US.NATI",388,"S.US.DLPH"]
[null,1,"S.US.NOV",{"$f":"IFERROR(RTD(\"cqg.rtd\", ,\"ContractData\",C389, \"PerCentNetLastTrade\",, \"T\")/100,\"\")","v":1.5877771120431396E-2},12,12,"S.US.NOV",389,"S.US.RPM"]
[null,0,"S.US.NNN",{"$f":"IFERROR(RTD(\"cqg.rtd\", ,\"ContractData\",C390, \"PerCentNetLastTrade\",, \"T\")/100,\"\")","v":-9.927555674805473E-3},524,524,"S.US.NNN",390,"S.US.PAY"]
[null,1,"S.US.NAVI",{"$f":"IFERROR(RTD(\"cqg.rtd\", ,\"ContractData\",C391, \"PerCentNetLastTrade\",, \"T\")/100,\"\")","v":1.4662756598240469E-3},211,211,"S.US.NAVI",391,"S.US.EPR"]
[null,0,"S.US.NTAP",{"$f":"IFERROR(RTD(\"cqg.rtd\", ,\"ContractData\",C392, \"PerCentNetLastTrade\",, \"T\")/100,\"\")","v":-1.4873574615765989E-3},306,306,"S.US.NTAP",392,"S.US.NSC"]
[null,0,"S.US.NTCT",{"$f":"IFERROR(RTD(\"cqg.rtd\", ,\"ContractData\",C393, \"PerCentNetLastTrade\",, \"T\")/100,\"\")","v":-1.7341040462427747E-2},596,596,"S.US.NTCT",393,"S.US.NFG"]
[null,0,"S.US.NSR",{"$f":"IFERROR(RTD(\"cqg.rtd\", ,\"ContractData\",C394, \"PerCentNetLastTrade\",, \"T\")/100,\"\")","v":-1.5128593040847202E-3},320,320,"S.US.NSR",394,"S.US.PACW"]
[null,0,"S.US.NJR",{"$f":"IFERROR(RTD(\"cqg.rtd\", ,\"ContractData\",C395, \"PerCentNetLastTrade\",, \"T\")/100,\"\")","v":-3.7082818294190355E-3},400,400,"S.US.NJR",395,"S.US.OHI"]
[null,0,"S.US.NYCB",{"$f":"IFERROR(RTD(\"cqg.rtd\", ,\"ContractData\",C396, \"PerCentNetLastTrade\",, \"T\")/100,\"\")","v":-3.90625E-3},405,405,"S.US.NYCB",396,"S.US.KO"]
[null,0,"S.US.NYT",{"$f":"IFERROR(RTD(\"cqg.rtd\", ,\"ContractData\",C397, \"PerCentNetLastTrade\",, \"T\")/100,\"\")","v":-5.9347181008902071E-3},457,457,"S.US.NYT",397,"S.US.BMY"]
[null,0,"S.US.NWL",{"$f":"IFERROR(RTD(\"cqg.rtd\", ,\"ContractData\",C398, \"PerCentNetLastTrade\",, \"T\")/100,\"\")","v":-1.1500862564692351E-2},546,546,"S.US.NWL",398,"S.US.JNPR"]
[null,0,"S.US.NFX",{"$f":"IFERROR(RTD(\"cqg.rtd\", ,\"ContractData\",C399, \"PerCentNetLastTrade\",, \"T\")/100,\"\")","v":-2.9568302779420462E-3},365,365,"S.US.NFX",399,"S.US.GM"]
[null,1,"S.US.NEU",{"$f":"IFERROR(RTD(\"cqg.rtd\", ,\"ContractData\",C400, \"PerCentNetLastTrade\",, \"T\")/100,\"\")","v":4.4160727558917407E-3},128,128,"S.US.NEU",400,"S.US.NJR"]
[null,1,"S.US.NWSA",{"$f":"IFERROR(RTD(\"cqg.rtd\", ,\"ContractData\",C401, \"PerCentNetLastTrade\",, \"T\")/100,\"\")","v":2.3696682464454978E-3},168,168,"S.US.NWSA",401,"S.US.IDA"]
[null,1,"S.US.NWS",{"$f":"IFERROR(RTD(\"cqg.rtd\", ,\"ContractData\",C402, \"PerCentNetLastTrade\",, \"T\")/100,\"\")","v":1.532567049808429E-3},255,255,"S.US.NWS",402,"S.US.EXC"]
[null,0,"S.US.NEE",{"$f":"IFERROR(RTD(\"cqg.rtd\", ,\"ContractData\",C403, \"PerCentNetLastTrade\",, \"T\")/100,\"\")","v":-1.7588860388420666E-3},332,332,"S.US.NEE",403,"S.US.MKC"]
[null,0,"S.US.NLSN",{"$f":"IFERROR(RTD(\"cqg.rtd\", ,\"ContractData\",C404, \"PerCentNetLastTrade\",, \"T\")/100,\"\")","v":-1.4175578214374533E-2},575,575,"S.US.NLSN",404,"S.US.DF"]
[null,0,"S.US.NKE",{"$f":"IFERROR(RTD(\"cqg.rtd\", ,\"ContractData\",C405, \"PerCentNetLastTrade\",, \"T\")/100,\"\")","v":-2.3166023166023165E-3},360,360,"S.US.NKE",405,"S.US.NYCB"]
[null,1,"S.US.NI",{"$f":"IFERROR(RTD(\"cqg.rtd\", ,\"ContractData\",C406, \"PerCentNetLastTrade\",, \"T\")/100,\"\")","v":2.8865979381443294E-3},162,162,"S.US.NI",406,"S.US.NWE"]
[null,0,"S.US.NBL",{"$f":"IFERROR(RTD(\"cqg.rtd\", ,\"ContractData\",C407, \"PerCentNetLastTrade\",, \"T\")/100,\"\")","v":-7.9719387755102043E-3},513,513,"S.US.NBL",407,"S.US.MUSA"]
[null,1,"S.US.NE",{"$f":"IFERROR(RTD(\"cqg.rtd\", ,\"ContractData\",C408, \"PerCentNetLastTrade\",, \"T\")/100,\"\")","v":6.8965517241379318E-3},73,73,"S.US.NE",408,"S.US.WR"]
[null,0,"S.US.JWN",{"$f":"IFERROR(RTD(\"cqg.rtd\", ,\"ContractData\",C409, \"PerCentNetLastTrade\",, \"T\")/100,\"\")","v":-5.3908355795148242E-3},448,448,"S.US.JWN",409,"S.US.ORCL"]
[null,0,"S.US.NSC",{"$f":"IFERROR(RTD(\"cqg.rtd\", ,\"ContractData\",C410, \"PerCentNetLastTrade\",, \"T\")/100,\"\")","v":-3.5676061362825543E-3},392,392,"S.US.NSC",410,"S.US.HAL"]
[null,1,"S.US.NTRS",{"$f":"IFERROR(RTD(\"cqg.rtd\", ,\"ContractData\",C411, \"PerCentNetLastTrade\",, \"T\")/100,\"\")","v":9.5615671641791043E-3},43,43,"S.US.NTRS",411,"S.US.JNJ"]
[null,0,"S.US.NWE",{"$f":"IFERROR(RTD(\"cqg.rtd\", ,\"ContractData\",C412, \"PerCentNetLastTrade\",, \"T\")/100,\"\")","v":-3.9814200398142E-3},406,406,"S.US.NWE",412,"S.US.OGE"]
[null,0,"S.US.DNOW",{"$f":"IFERROR(RTD(\"cqg.rtd\", ,\"ContractData\",C413, \"PerCentNetLastTrade\",, \"T\")/100,\"\")","v":-6.3694267515923561E-3},469,469,"S.US.DNOW",413,"S.US.PLT"]
[null,0,"S.US.NRG",{"$f":"IFERROR(RTD(\"cqg.rtd\", ,\"ContractData\",C414, \"PerCentNetLastTrade\",, \"T\")/100,\"\")","v":-8.6378737541528243E-3},514,514,"S.US.NRG",414,"S.US.MDT"]
[null,0,"S.US.NUS",{"$f":"IFERROR(RTD(\"cqg.rtd\", ,\"ContractData\",C415, \"PerCentNetLastTrade\",, \"T\")/100,\"\")","v":-2.1129261363636364E-2},611,611,"S.US.NUS",415,"S.US.MHK"]
[null,0,"S.US.NUE",{"$f":"IFERROR(RTD(\"cqg.rtd\", ,\"ContractData\",C416, \"PerCentNetLastTrade\",, \"T\")/100,\"\")","v":-1.9600855310049894E-3},338,338,"S.US.NUE",416,"S.US.TR"]
[null,0,"S.US.OXY",{"$f":"IFERROR(RTD(\"cqg.rtd\", ,\"ContractData\",C417, \"PerCentNetLastTrade\",, \"T\")/100,\"\")","v":-4.9776007964161273E-4},259,259,"S.US.OXY",417,"S.US.TAP"]
[null,0,"S.US.OII",{"$f":"IFERROR(RTD(\"cqg.rtd\", ,\"ContractData\",C418, \"PerCentNetLastTrade\",, \"T\")/100,\"\")","v":-7.7579519006982156E-4},286,286,"S.US.OII",418,"S.US.EV"]
[null,1,"S.US.ODP",{"$f":"IFERROR(RTD(\"cqg.rtd\", ,\"ContractData\",C419, \"PerCentNetLastTrade\",, \"T\")/100,\"\")","v":3.9840637450199202E-3},144,144,"S.US.ODP",419,"S.US.CNP"]
[null,0,"S.US.OGE",{"$f":"IFERROR(RTD(\"cqg.rtd\", ,\"ContractData\",C420, \"PerCentNetLastTrade\",, \"T\")/100,\"\")","v":-4.7323277136941729E-3},412,412,"S.US.OGE",420,"S.US.FOXA"]
[null,1,"S.US.OIS",{"$f":"IFERROR(RTD(\"cqg.rtd\", ,\"ContractData\",C421, \"PerCentNetLastTrade\",, \"T\")/100,\"\")","v":1.7035775127768314E-3},201,201,"S.US.OIS",421,"S.US.MIK"]
[null,1,"S.US.ORI",{"$f":"IFERROR(RTD(\"cqg.rtd\", ,\"ContractData\",C422, \"PerCentNetLastTrade\",, \"T\")/100,\"\")","v":1.029336078229542E-3},225,225,"S.US.ORI",422,"S.US.CSRA"]
[null,1,"S.US.OLN",{"$f":"IFERROR(RTD(\"cqg.rtd\", ,\"ContractData\",C423, \"PerCentNetLastTrade\",, \"T\")/100,\"\")","v":9.7975179621162642E-4},239,239,"S.US.OLN",423,"S.US.SPLS"]
[null,0,"S.US.OHI",{"$f":"IFERROR(RTD(\"cqg.rtd\", ,\"ContractData\",C424, \"PerCentNetLastTrade\",, \"T\")/100,\"\")","v":-3.9192041000904428E-3},395,395,"S.US.OHI",424,"S.US.BAX"]
[null,1,"S.US.OMC",{"$f":"IFERROR(RTD(\"cqg.rtd\", ,\"ContractData\",C425, \"PerCentNetLastTrade\",, \"T\")/100,\"\")","v":1.0528893241919685E-2},32,32,"S.US.OMC",425,"S.US.HUBB"]
[null,1,"S.US.OGS",{"$f":"IFERROR(RTD(\"cqg.rtd\", ,\"ContractData\",C426, \"PerCentNetLastTrade\",, \"T\")/100,\"\")","v":2.9542097488921711E-4},237,237,"S.US.OGS",426,"S.US.SPG"]
[null,1,"S.US.OKE",{"$f":"IFERROR(RTD(\"cqg.rtd\", ,\"ContractData\",C427, \"PerCentNetLastTrade\",, \"T\")/100,\"\")","v":0},256,256,"S.US.OKE",427,"S.US.ENR"]
[null,0,"S.US.ORCL",{"$f":"IFERROR(RTD(\"cqg.rtd\", ,\"ContractData\",C428, \"PerCentNetLastTrade\",, \"T\")/100,\"\")","v":-4.0696359936694551E-3},409,409,"S.US.ORCL",428,"S.US.CBT"]
[null,0,"S.US.OA",{"$f":"IFERROR(RTD(\"cqg.rtd\", ,\"ContractData\",C429, \"PerCentNetLastTrade\",, \"T\")/100,\"\")","v":-1.2422360248447205E-3},308,308,"S.US.OA",429,"S.US.BIG"]
[null,1,"S.US.OSK",{"$f":"IFERROR(RTD(\"cqg.rtd\", ,\"ContractData\",C430, \"PerCentNetLastTrade\",, \"T\")/100,\"\")","v":1.7599999999999998E-3},198,198,"S.US.OSK",430,"S.US.ETN"]
[null,1,"S.US.OMI",{"$f":"IFERROR(RTD(\"cqg.rtd\", ,\"ContractData\",C431, \"PerCentNetLastTrade\",, \"T\")/100,\"\")","v":9.3457943925233638E-4},228,228,"S.US.OMI",431,"S.US.EOG"]
[null,0,"S.US.OI",{"$f":"IFERROR(RTD(\"cqg.rtd\", ,\"ContractData\",C432, \"PerCentNetLastTrade\",, \"T\")/100,\"\")","v":-4.1027953110910731E-2},635,635,"S.US.OI",432,"S.US.LVLT"]
[null,0,"S.US.PCAR",{"$f":"IFERROR(RTD(\"cqg.rtd\", ,\"ContractData\",C433, \"PerCentNetLastTrade\",, \"T\")/100,\"\")","v":-1.5146733985484379E-2},585,585,"S.US.PCAR",433,"S.US.MET"]
[null,0,"S.US.PACW",{"$f":"IFERROR(RTD(\"cqg.rtd\", ,\"ContractData\",C434, \"PerCentNetLastTrade\",, \"T\")/100,\"\")","v":-3.6139455782312922E-3},394,394,"S.US.PACW",434,"S.US.O"]
[null,1,"S.US.PRXL",{"$f":"IFERROR(RTD(\"cqg.rtd\", ,\"ContractData\",C435, \"PerCentNetLastTrade\",, \"T\")/100,\"\")","v":3.1681662653656063E-3},167,167,"S.US.PRXL",435,"S.US.HBI"]
[null,0,"S.US.PH",{"$f":"IFERROR(RTD(\"cqg.rtd\", ,\"ContractData\",C436, \"PerCentNetLastTrade\",, \"T\")/100,\"\")","v":-5.1664377738539014E-3},440,440,"S.US.PH",436,"S.US.ACM"]
[null,1,"S.US.PDCO",{"$f":"IFERROR(RTD(\"cqg.rtd\", ,\"ContractData\",C437, \"PerCentNetLastTrade\",, \"T\")/100,\"\")","v":1.1674060238150829E-3},220,220,"S.US.PDCO",437,"S.US.APA"]
[null,1,"S.US.PTEN",{"$f":"IFERROR(RTD(\"cqg.rtd\", ,\"ContractData\",C438, \"PerCentNetLastTrade\",, \"T\")/100,\"\")","v":2.3126734505087882E-3},176,176,"S.US.PTEN",438,"S.US.STLD"]
[null,0,"S.US.PBF",{"$f":"IFERROR(RTD(\"cqg.rtd\", ,\"ContractData\",C439, \"PerCentNetLastTrade\",, \"T\")/100,\"\")","v":-9.8314606741573031E-3},532,532,"S.US.PBF",439,"S.US.HCP"]
[null,1,"S.US.PNR",{"$f":"IFERROR(RTD(\"cqg.rtd\", ,\"ContractData\",C440, \"PerCentNetLastTrade\",, \"T\")/100,\"\")","v":1.0426249616681999E-2},26,26,"S.US.PNR",440,"S.US.PH"]
[null,1,"S.US.PBCT",{"$f":"IFERROR(RTD(\"cqg.rtd\", ,\"ContractData\",C441, \"PerCentNetLastTrade\",, \"T\")/100,\"\")","v":3.5971223021582731E-3},155,155,"S.US.PBCT",441,"S.US.TXT"]
[null,0,"S.US.PEP",{"$f":"IFERROR(RTD(\"cqg.rtd\", ,\"ContractData\",C442, \"PerCentNetLastTrade\",, \"T\")/100,\"\")","v":-8.7919817126780374E-4},288,288,"S.US.PEP",442,"S.US.DCI"]
[null,1,"S.US.PKI",{"$f":"IFERROR(RTD(\"cqg.rtd\", ,\"ContractData\",C443, \"PerCentNetLastTrade\",, \"T\")/100,\"\")","v":7.1416977763350108E-3},70,70,"S.US.PKI",443,"S.US.CPB"]
[null,0,"S.US.PRGO",{"$f":"IFERROR(RTD(\"cqg.rtd\", ,\"ContractData\",C444, \"PerCentNetLastTrade\",, \"T\")/100,\"\")","v":-2.9013274941836597E-2},623,623,"S.US.PRGO",444,"S.US.FOX"]
[null,1,"S.US.PFE",{"$f":"IFERROR(RTD(\"cqg.rtd\", ,\"ContractData\",C445, \"PerCentNetLastTrade\",, \"T\")/100,\"\")","v":1.5513496742165683E-3},207,207,"S.US.PFE",445,"S.US.MOS"]
[null,1,"S.US.PCG",{"$f":"IFERROR(RTD(\"cqg.rtd\", ,\"ContractData\",C446, \"PerCentNetLastTrade\",, \"T\")/100,\"\")","v":2.6021735802847085E-3},181,181,"S.US.PCG",446,"S.US.JLL"]
[null,1,"S.US.PM",{"$f":"IFERROR(RTD(\"cqg.rtd\", ,\"ContractData\",C447, \"PerCentNetLastTrade\",, \"T\")/100,\"\")","v":2.1978021978021978E-3},189,189,"S.US.PM",447,"S.US.ARW"]
[null,0,"S.US.PSX",{"$f":"IFERROR(RTD(\"cqg.rtd\", ,\"ContractData\",C448, \"PerCentNetLastTrade\",, \"T\")/100,\"\")","v":-8.2399897000128754E-3},500,500,"S.US.PSX",448,"S.US.JWN"]
[null,1,"S.US.PNW",{"$f":"IFERROR(RTD(\"cqg.rtd\", ,\"ContractData\",C449, \"PerCentNetLastTrade\",, \"T\")/100,\"\")","v":4.7562425683709869E-4},235,{"$f":"IFERROR(E449,\"\")","v":235},"S.US.PNW",449,{"$f":"IFERROR(VLOOKUP(H449,$F$1:$G$639,2,FALSE),\"\")","v":"S.US.VMI"}]
[null,{"$f":"IF(D450>=0,1,)","v":0},"S.US.PBI",{"$f":"IFERROR(RTD(\"cqg.rtd\", ,\"ContractData\",C450, \"PerCentNetLastTrade\",, \"T\")/100,\"\")","v":-1.5302727877578177E-2},587,587,"S.US.PBI",450,"S.US.ALLE"]
[null,0,"S.US.PLT",{"$f":"IFERROR(RTD(\"cqg.rtd\", ,\"ContractData\",C451, \"PerCentNetLastTrade\",, \"T\")/100,\"\")","v":-4.1532943175382293E-3},413,413,"S.US.PLT",{"$f":"H450+1","v":451},"S.US.LSI"]
[null,1,"S.US.PNC",{"$f":"IFERROR(RTD(\"cqg.rtd\", ,\"ContractData\",C452, \"PerCentNetLastTrade\",, \"T\")/100,\"\")","v":1.1946411809881389E-3},216,216,"S.US.PNC",452,"S.US.SCG"]
[null,0,"S.US.PNM",{"$f":"IFERROR(RTD(\"cqg.rtd\", ,\"ContractData\",C453, \"PerCentNetLastTrade\",, \"T\")/100,\"\")","v":-1.3698630136986301E-3},291,291,"S.US.PNM",453,"S.US.ADS"]
[null,1,"S.US.PII",{"$f":"IFERROR(RTD(\"cqg.rtd\", ,\"ContractData\",C454, \"PerCentNetLastTrade\",, \"T\")/100,\"\")","v":1.047242262043286E-3},224,224,"S.US.PII",454,"S.US.FTI"]
[null,0,"S.US.POL",{"$f":"IFERROR(RTD(\"cqg.rtd\", ,\"ContractData\",C455, \"PerCentNetLastTrade\",, \"T\")/100,\"\")","v":-8.2909868948916818E-3},506,506,"S.US.POL",455,"S.US.DBD"]
[null,0,"S.US.PCH",{"$f":"IFERROR(RTD(\"cqg.rtd\", ,\"ContractData\",C456, \"PerCentNetLastTrade\",, \"T\")/100,\"\")","v":-9.1428571428571418E-3},496,496,"S.US.PCH",456,"S.US.LLL"]
[null,0,"S.US.PPG",{"$f":"IFERROR(RTD(\"cqg.rtd\", ,\"ContractData\",C457, \"PerCentNetLastTrade\",, \"T\")/100,\"\")","v":-9.4804702313234731E-4},294,294,"S.US.PPG",457,"S.US.NYT"]
[null,0,"S.US.PPL",{"$f":"IFERROR(RTD(\"cqg.rtd\", ,\"ContractData\",C458, \"PerCentNetLastTrade\",, \"T\")/100,\"\")","v":-2.5846471956577927E-4},261,261,"S.US.PPL",458,"S.US.WLTW"]
[null,0,"S.US.PX",{"$f":"IFERROR(RTD(\"cqg.rtd\", ,\"ContractData\",C459, \"PerCentNetLastTrade\",, \"T\")/100,\"\")","v":-1.5370284117373078E-2},588,588,"S.US.PX",459,"S.US.ESL"]
[null,0,"S.US.PBH",{"$f":"IFERROR(RTD(\"cqg.rtd\", ,\"ContractData\",C460, \"PerCentNetLastTrade\",, \"T\")/100,\"\")","v":-1.0350318471337581E-2},537,537,"S.US.PBH",460,"S.US.MPW"]
[null,0,"S.US.PFG",{"$f":"IFERROR(RTD(\"cqg.rtd\", ,\"ContractData\",C461, \"PerCentNetLastTrade\",, \"T\")/100,\"\")","v":-1.2052117263843649E-2},548,548,"S.US.PFG",461,"S.US.CHD"]
[null,1,"S.US.PVTB",{"$f":"IFERROR(RTD(\"cqg.rtd\", ,\"ContractData\",C462, \"PerCentNetLastTrade\",, \"T\")/100,\"\")","v":2.6890756302521009E-3},179,179,"S.US.PVTB",462,"S.US.LPX"]
[null,0,"S.US.PG",{"$f":"IFERROR(RTD(\"cqg.rtd\", ,\"ContractData\",C463, \"PerCentNetLastTrade\",, \"T\")/100,\"\")","v":-7.7672153953164845E-3},487,487,"S.US.PG",463,"S.US.TRMK"]
[null,1,"S.US.PGR",{"$f":"IFERROR(RTD(\"cqg.rtd\", ,\"ContractData\",C464, \"PerCentNetLastTrade\",, \"T\")/100,\"\")","v":7.0456754130223519E-3},71,71,"S.US.PGR",464,"S.US.GT"]
[null,1,"S.US.PB",{"$f":"IFERROR(RTD(\"cqg.rtd\", ,\"ContractData\",C465, \"PerCentNetLastTrade\",, \"T\")/100,\"\")","v":1.4249525015832807E-3},174,174,"S.US.PB",465,"S.US.VSH"]
[null,0,"S.US.PRU",{"$f":"IFERROR(RTD(\"cqg.rtd\", ,\"ContractData\",C466, \"PerCentNetLastTrade\",, \"T\")/100,\"\")","v":-1.6437826339199381E-3},327,327,"S.US.PRU",466,"S.US.MLHR"]
[null,0,"S.US.PTC",{"$f":"IFERROR(RTD(\"cqg.rtd\", ,\"ContractData\",C467, \"PerCentNetLastTrade\",, \"T\")/100,\"\")","v":-1.1621150493898896E-3},303,303,"S.US.PTC",467,"S.US.ACIW"]
[null,0,"S.US.PEG",{"$f":"IFERROR(RTD(\"cqg.rtd\", ,\"ContractData\",C468, \"PerCentNetLastTrade\",, \"T\")/100,\"\")","v":-1.3748854262144823E-3},315,315,"S.US.PEG",468,"S.US.SJM"]
[null,1,"S.US.PSA",{"$f":"IFERROR(RTD(\"cqg.rtd\", ,\"ContractData\",C469, \"PerCentNetLastTrade\",, \"T\")/100,\"\")","v":4.4611411129373089E-3},127,127,"S.US.PSA",469,"S.US.DNOW"]
[null,0,"S.US.PHM",{"$f":"IFERROR(RTD(\"cqg.rtd\", ,\"ContractData\",C470, \"PerCentNetLastTrade\",, \"T\")/100,\"\")","v":-4.4365572315882877E-4},270,270,"S.US.PHM",470,"S.US.CLX"]
[null,1,"S.US.PVH",{"$f":"IFERROR(RTD(\"cqg.rtd\", ,\"ContractData\",C471, \"PerCentNetLastTrade\",, \"T\")/100,\"\")","v":1.9903560069765056E-2},9,9,"S.US.PVH",471,"S.US.RMD"]
[null,0,"S.US.QEP",{"$f":"IFERROR(RTD(\"cqg.rtd\", ,\"ContractData\",C472, \"PerCentNetLastTrade\",, \"T\")/100,\"\")","v":-1.7905102954341987E-3},293,293,"S.US.QEP",472,"S.US.AVT"]
[null,0,"S.US.QCP",{"$f":"IFERROR(RTD(\"cqg.rtd\", ,\"ContractData\",C473, \"PerCentNetLastTrade\",, \"T\")/100,\"\")","v":-9.1638029782359683E-3},517,517,"S.US.QCP",473,"S.US.UNP"]
[null,0,"S.US.DGX",{"$f":"IFERROR(RTD(\"cqg.rtd\", ,\"ContractData\",C474, \"PerCentNetLastTrade\",, \"T\")/100,\"\")","v":-1.1415525114155251E-3},285,285,"S.US.DGX",474,"S.US.INT"]
[null,1,"S.US.QRVO",{"$f":"IFERROR(RTD(\"cqg.rtd\", ,\"ContractData\",C475, \"PerCentNetLastTrade\",, \"T\")/100,\"\")","v":2.3435346015991176E-2},5,5,"S.US.QRVO",475,"S.US.CLH"]
[null,0,"S.US.RL",{"$f":"IFERROR(RTD(\"cqg.rtd\", ,\"ContractData\",C476, \"PerCentNetLastTrade\",, \"T\")/100,\"\")","v":-1.2508591065292096E-2},561,561,"S.US.RL",476,"S.US.UTX"]
[null,0,"S.US.RRC",{"$f":"IFERROR(RTD(\"cqg.rtd\", ,\"ContractData\",C477, \"PerCentNetLastTrade\",, \"T\")/100,\"\")","v":-2.7988804478208716E-3},356,356,"S.US.RRC",477,"S.US.REG"]
[null,1,"S.US.RJF",{"$f":"IFERROR(RTD(\"cqg.rtd\", ,\"ContractData\",C478, \"PerCentNetLastTrade\",, \"T\")/100,\"\")","v":1.0727222067428252E-2},31,31,"S.US.RJF",478,"S.US.HNI"]
[null,0,"S.US.RYN",{"$f":"IFERROR(RTD(\"cqg.rtd\", ,\"ContractData\",C479, \"PerCentNetLastTrade\",, \"T\")/100,\"\")","v":-9.793253536452667E-3},507,507,"S.US.RYN",479,"S.US.RBC"]
[null,0,"S.US.RTN",{"$f":"IFERROR(RTD(\"cqg.rtd\", ,\"ContractData\",C480, \"PerCentNetLastTrade\",, \"T\")/100,\"\")","v":-1.652892561983471E-3},329,329,"S.US.RTN",480,"S.US.FRT"]
[null,0,"S.US.O",{"$f":"IFERROR(RTD(\"cqg.rtd\", ,\"ContractData\",C481, \"PerCentNetLastTrade\",, \"T\")/100,\"\")","v":-4.836309523809524E-3},434,434,"S.US.O",481,"S.US.KSS"]
[null,0,"S.US.RBC",{"$f":"IFERROR(RTD(\"cqg.rtd\", ,\"ContractData\",C482, \"PerCentNetLastTrade\",, \"T\")/100,\"\")","v":-7.1521456436931079E-3},479,479,"S.US.RBC",482,"S.US.ARRS"]
[null,0,"S.US.REG",{"$f":"IFERROR(RTD(\"cqg.rtd\", ,\"ContractData\",C483, \"PerCentNetLastTrade\",, \"T\")/100,\"\")","v":-7.3041168658698544E-3},477,477,"S.US.REG",483,"S.US.BEN"]
[null,1,"S.US.RF",{"$f":"IFERROR(RTD(\"cqg.rtd\", ,\"ContractData\",C484, \"PerCentNetLastTrade\",, \"T\")/100,\"\")","v":5.7265569076592705E-3},88,88,"S.US.RF",484,"S.US.DO"]
[null,1,"S.US.RGA",{"$f":"IFERROR(RTD(\"cqg.rtd\", ,\"ContractData\",C485, \"PerCentNetLastTrade\",, \"T\")/100,\"\")","v":4.830917874396135E-3},95,95,"S.US.RGA",485,"S.US.KSU"]
[null,0,"S.US.RS",{"$f":"IFERROR(RTD(\"cqg.rtd\", ,\"ContractData\",C486, \"PerCentNetLastTrade\",, \"T\")/100,\"\")","v":-3.2064687020772341E-3},384,384,"S.US.RS",486,"S.US.ACXM"]
[null,1,"S.US.RNR",{"$f":"IFERROR(RTD(\"cqg.rtd\", ,\"ContractData\",C487, \"PerCentNetLastTrade\",, \"T\")/100,\"\")","v":1.0109954984871964E-2},36,36,"S.US.RNR",487,"S.US.PG"]
[null,0,"S.US.RMD",{"$f":"IFERROR(RTD(\"cqg.rtd\", ,\"ContractData\",C488, \"PerCentNetLastTrade\",, \"T\")/100,\"\")","v":-6.5031037540644399E-3},471,471,"S.US.RMD",488,"S.US.GE"]
[null,0,"S.US.RHI",{"$f":"IFERROR(RTD(\"cqg.rtd\", ,\"ContractData\",C489, \"PerCentNetLastTrade\",, \"T\")/100,\"\")","v":-1.3169446883230904E-3},311,311,"S.US.RHI",489,"S.US.CONE"]
[null,1,"S.US.COL",{"$f":"IFERROR(RTD(\"cqg.rtd\", ,\"ContractData\",C490, \"PerCentNetLastTrade\",, \"T\")/100,\"\")","v":6.8580386009601255E-4},233,233,"S.US.COL",490,"S.US.HAIN"]
[null,0,"S.US.ROP",{"$f":"IFERROR(RTD(\"cqg.rtd\", ,\"ContractData\",C491, \"PerCentNetLastTrade\",, \"T\")/100,\"\")","v":-1.5930089663647533E-3},324,324,"S.US.ROP",491,"S.US.AVY"]
[null,1,"S.US.RDC",{"$f":"IFERROR(RTD(\"cqg.rtd\", ,\"ContractData\",C492, \"PerCentNetLastTrade\",, \"T\")/100,\"\")","v":2.0285499624342597E-2},8,8,"S.US.RDC",492,"S.US.NDAQ"]
[null,1,"S.US.RCL",{"$f":"IFERROR(RTD(\"cqg.rtd\", ,\"ContractData\",C493, \"PerCentNetLastTrade\",, \"T\")/100,\"\")","v":1.427882296189098E-2},14,14,"S.US.RCL",493,"S.US.LHO"]
[null,0,"S.US.RPM",{"$f":"IFERROR(RTD(\"cqg.rtd\", ,\"ContractData\",C494, \"PerCentNetLastTrade\",, \"T\")/100,\"\")","v":-3.4214027751378068E-3},389,389,"S.US.RPM",494,"S.US.TEL"]
[null,0,"S.US.R",{"$f":"IFERROR(RTD(\"cqg.rtd\", ,\"ContractData\",C495, \"PerCentNetLastTrade\",, \"T\")/100,\"\")","v":-1.1949685534591194E-2},551,551,"S.US.R",495,"S.US.JWA"]
[null,0,"S.US.SABR",{"$f":"IFERROR(RTD(\"cqg.rtd\", ,\"ContractData\",C496, \"PerCentNetLastTrade\",, \"T\")/100,\"\")","v":-1.7057569296375266E-2},590,590,"S.US.SABR",496,"S.US.PCH"]
[null,0,"S.US.SBH",{"$f":"IFERROR(RTD(\"cqg.rtd\", ,\"ContractData\",C497, \"PerCentNetLastTrade\",, \"T\")/100,\"\")","v":-8.0213903743315499E-3},498,498,"S.US.SBH",497,"S.US.TDS"]
[null,0,"S.US.SCG",{"$f":"IFERROR(RTD(\"cqg.rtd\", ,\"ContractData\",C498, \"PerCentNetLastTrade\",, \"T\")/100,\"\")","v":-5.5342044581091461E-3},452,452,"S.US.SCG",498,"S.US.SBH"]
[null,1,"S.US.SLB",{"$f":"IFERROR(RTD(\"cqg.rtd\", ,\"ContractData\",C499, \"PerCentNetLastTrade\",, \"T\")/100,\"\")","v":5.3528666009297092E-3},94,94,"S.US.SLB",499,"S.US.CNC"]
[null,1,"S.US.STX",{"$f":"IFERROR(RTD(\"cqg.rtd\", ,\"ContractData\",C500, \"PerCentNetLastTrade\",, \"T\")/100,\"\")","v":1.1859582542694497E-3},217,217,"S.US.STX",500,"S.US.PSX"]
[null,0,"S.US.SEE",{"$f":"IFERROR(RTD(\"cqg.rtd\", ,\"ContractData\",C501, \"PerCentNetLastTrade\",, \"T\")/100,\"\")","v":-1.6269477543538038E-2},591,591,"S.US.SEE",501,"S.US.HP"]
[null,0,"S.US.SEIC",{"$f":"IFERROR(RTD(\"cqg.rtd\", ,\"ContractData\",C502, \"PerCentNetLastTrade\",, \"T\")/100,\"\")","v":-2.8203062046736503E-3},371,371,"S.US.SEIC",502,"S.US.CTL"]
[null,1,"S.US.SRE",{"$f":"IFERROR(RTD(\"cqg.rtd\", ,\"ContractData\",C503, \"PerCentNetLastTrade\",, \"T\")/100,\"\")","v":9.0448625180897244E-5},247,247,"S.US.SRE",503,"S.US.TDC"]
[null,0,"S.US.SNH",{"$f":"IFERROR(RTD(\"cqg.rtd\", ,\"ContractData\",C504, \"PerCentNetLastTrade\",, \"T\")/100,\"\")","v":-2.866698518872432E-3},373,373,"S.US.SNH",504,"S.US.WY"]
[null,1,"S.US.SXT",{"$f":"IFERROR(RTD(\"cqg.rtd\", ,\"ContractData\",C505, \"PerCentNetLastTrade\",, \"T\")/100,\"\")","v":2.1183800623052959E-3},192,192,"S.US.SXT",505,"S.US.EME"]
[null,0,"S.US.SCI",{"$f":"IFERROR(RTD(\"cqg.rtd\", ,\"ContractData\",C506, \"PerCentNetLastTrade\",, \"T\")/100,\"\")","v":-6.3512226103524931E-4},279,279,"S.US.SCI",506,"S.US.POL"]
[null,1,"S.US.SHW",{"$f":"IFERROR(RTD(\"cqg.rtd\", ,\"ContractData\",C507, \"PerCentNetLastTrade\",, \"T\")/100,\"\")","v":1.4917648491490851E-3},210,210,"S.US.SHW",507,"S.US.RYN"]
[null,1,"S.US.SBNY",{"$f":"IFERROR(RTD(\"cqg.rtd\", ,\"ContractData\",C508, \"PerCentNetLastTrade\",, \"T\")/100,\"\")","v":5.513239027928908E-3},93,93,"S.US.SBNY",508,"S.US.DE"]
[null,1,"S.US.SIG",{"$f":"IFERROR(RTD(\"cqg.rtd\", ,\"ContractData\",C509, \"PerCentNetLastTrade\",, \"T\")/100,\"\")","v":8.1494057724957551E-3},65,65,"S.US.SIG",509,"S.US.BBBY"]
[null,0,"S.US.SLGN",{"$f":"IFERROR(RTD(\"cqg.rtd\", ,\"ContractData\",C510, \"PerCentNetLastTrade\",, \"T\")/100,\"\")","v":-1.2187195320116997E-2},553,553,"S.US.SLGN",510,"S.US.GPS"]
[null,0,"S.US.SPG",{"$f":"IFERROR(RTD(\"cqg.rtd\", ,\"ContractData\",C511, \"PerCentNetLastTrade\",, \"T\")/100,\"\")","v":-5.186049526772981E-3},426,426,"S.US.SPG",511,"S.US.LEG"]
[null,0,"S.US.SLG",{"$f":"IFERROR(RTD(\"cqg.rtd\", ,\"ContractData\",C512, \"PerCentNetLastTrade\",, \"T\")/100,\"\")","v":-1.4702999411880025E-3},299,299,"S.US.SLG",512,"S.US.WTR"]
[null,0,"S.US.SM",{"$f":"IFERROR(RTD(\"cqg.rtd\", ,\"ContractData\",C513, \"PerCentNetLastTrade\",, \"T\")/100,\"\")","v":-1.7703349282296652E-2},598,{"$f":"IFERROR(E513,\"\")","v":598},"S.US.SM",513,{"$f":"IFERROR(VLOOKUP(H513,$F$1:$G$639,2,FALSE),\"\")","v":"S.US.NBL"}]
[null,{"$f":"IF(D514>=0,1,)","v":0},"S.US.SNA",{"$f":"IFERROR(RTD(\"cqg.rtd\", ,\"ContractData\",C514, \"PerCentNetLastTrade\",, \"T\")/100,\"\")","v":-2.8019735639885483E-3},370,370,"S.US.SNA",514,"S.US.NRG"]
[null,0,"S.US.LNCE",{"$f":"IFERROR(RTD(\"cqg.rtd\", ,\"ContractData\",C515, \"PerCentNetLastTrade\",, \"T\")/100,\"\")","v":-9.241641750475673E-3},521,521,"S.US.LNCE",{"$f":"H514+1","v":515},"S.US.CXO"]
[null,0,"S.US.SON",{"$f":"IFERROR(RTD(\"cqg.rtd\", ,\"ContractData\",C516, \"PerCentNetLastTrade\",, \"T\")/100,\"\")","v":-1.1933174224343675E-2},550,550,"S.US.SON",516,"S.US.FE"]
[null,0,"S.US.SO",{"$f":"IFERROR(RTD(\"cqg.rtd\", ,\"ContractData\",C517, \"PerCentNetLastTrade\",, \"T\")/100,\"\")","v":-1.007252215954875E-3},289,289,"S.US.SO",517,"S.US.QCP"]
[null,0,"S.US.SWN",{"$f":"IFERROR(RTD(\"cqg.rtd\", ,\"ContractData\",C518, \"PerCentNetLastTrade\",, \"T\")/100,\"\")","v":-1.849217638691323E-2},602,602,"S.US.SWN",518,"S.US.BA"]
[null,0,"S.US.SFM",{"$f":"IFERROR(RTD(\"cqg.rtd\", ,\"ContractData\",C519, \"PerCentNetLastTrade\",, \"T\")/100,\"\")","v":-4.219409282700422E-4},269,269,"S.US.SFM",519,"S.US.MPC"]
[null,0,"S.US.SWK",{"$f":"IFERROR(RTD(\"cqg.rtd\", ,\"ContractData\",C520, \"PerCentNetLastTrade\",, \"T\")/100,\"\")","v":-2.3058613507884558E-3},344,344,"S.US.SWK",520,"S.US.GEF"]
[null,0,"S.US.SPLS",{"$f":"IFERROR(RTD(\"cqg.rtd\", ,\"ContractData\",C521, \"PerCentNetLastTrade\",, \"T\")/100,\"\")","v":-3.3898305084745762E-3},423,423,"S.US.SPLS",521,"S.US.LNCE"]
[null,1,"S.US.STT",{"$f":"IFERROR(RTD(\"cqg.rtd\", ,\"ContractData\",C522, \"PerCentNetLastTrade\",, \"T\")/100,\"\")","v":3.883738411425708E-3},149,149,"S.US.STT",522,"S.US.MYL"]
[null,0,"S.US.STLD",{"$f":"IFERROR(RTD(\"cqg.rtd\", ,\"ContractData\",C523, \"PerCentNetLastTrade\",, \"T\")/100,\"\")","v":-5.0162289760991444E-3},438,438,"S.US.STLD",523,"S.US.GPOR"]
[null,1,"S.US.SRCL",{"$f":"IFERROR(RTD(\"cqg.rtd\", ,\"ContractData\",C524, \"PerCentNetLastTrade\",, \"T\")/100,\"\")","v":3.840614498319731E-3},151,151,"S.US.SRCL",524,"S.US.NNN"]
[null,1,"S.US.STE",{"$f":"IFERROR(RTD(\"cqg.rtd\", ,\"ContractData\",C525, \"PerCentNetLastTrade\",, \"T\")/100,\"\")","v":1.2137559002022927E-3},204,204,"S.US.STE",525,"S.US.HPQ"]
[null,1,"S.US.SF",{"$f":"IFERROR(RTD(\"cqg.rtd\", ,\"ContractData\",C526, \"PerCentNetLastTrade\",, \"T\")/100,\"\")","v":7.6079659879167592E-3},54,54,"S.US.SF",526,"S.US.VLO"]
[null,1,"S.US.STI",{"$f":"IFERROR(RTD(\"cqg.rtd\", ,\"ContractData\",C527, \"PerCentNetLastTrade\",, \"T\")/100,\"\")","v":9.5167008770292959E-3},44,44,"S.US.STI",527,"S.US.HE"]
[null,0,"S.US.SPN",{"$f":"IFERROR(RTD(\"cqg.rtd\", ,\"ContractData\",C528, \"PerCentNetLastTrade\",, \"T\")/100,\"\")","v":-1.4401440144014401E-2},576,576,"S.US.SPN",528,"S.US.WAB"]
[null,0,"S.US.SIVB",{"$f":"IFERROR(RTD(\"cqg.rtd\", ,\"ContractData\",C529, \"PerCentNetLastTrade\",, \"T\")/100,\"\")","v":-2.8709232889297202E-4},262,262,"S.US.SIVB",529,"S.US.ADM"]
[null,0,"S.US.SYMC",{"$f":"IFERROR(RTD(\"cqg.rtd\", ,\"ContractData\",C530, \"PerCentNetLastTrade\",, \"T\")/100,\"\")","v":-1.693227091633466E-2},594,594,"S.US.SYMC",530,"S.US.SAM"]
[null,0,"S.US.SYNA",{"$f":"IFERROR(RTD(\"cqg.rtd\", ,\"ContractData\",C531, \"PerCentNetLastTrade\",, \"T\")/100,\"\")","v":-1.6489556614144375E-3},328,328,"S.US.SYNA",531,"S.US.ATO"]
[null,1,"S.US.SYF",{"$f":"IFERROR(RTD(\"cqg.rtd\", ,\"ContractData\",C532, \"PerCentNetLastTrade\",, \"T\")/100,\"\")","v":4.1509433962264152E-3},141,141,"S.US.SYF",532,"S.US.PBF"]
[null,0,"S.US.SNX",{"$f":"IFERROR(RTD(\"cqg.rtd\", ,\"ContractData\",C533, \"PerCentNetLastTrade\",, \"T\")/100,\"\")","v":-1.6045304388862672E-3},325,325,"S.US.SNX",533,"S.US.CAB"]
[null,1,"S.US.SNV",{"$f":"IFERROR(RTD(\"cqg.rtd\", ,\"ContractData\",C534, \"PerCentNetLastTrade\",, \"T\")/100,\"\")","v":4.1933892451899357E-3},139,139,"S.US.SNV",534,"S.US.BLL"]
[null,1,"S.US.SYY",{"$f":"IFERROR(RTD(\"cqg.rtd\", ,\"ContractData\",C535, \"PerCentNetLastTrade\",, \"T\")/100,\"\")","v":9.1911764705882363E-4},222,222,"S.US.SYY",535,"S.US.BMS"]
[null,1,"S.US.TROW",{"$f":"IFERROR(RTD(\"cqg.rtd\", ,\"ContractData\",C536, \"PerCentNetLastTrade\",, \"T\")/100,\"\")","v":2.8889209880109778E-3},173,173,"S.US.TROW",536,"S.US.TCO"]
[null,0,"S.US.SKT",{"$f":"IFERROR(RTD(\"cqg.rtd\", ,\"ContractData\",C537, \"PerCentNetLastTrade\",, \"T\")/100,\"\")","v":-3.6271450858034321E-2},631,631,"S.US.SKT",537,"S.US.PBH"]
[null,1,"S.US.TGT",{"$f":"IFERROR(RTD(\"cqg.rtd\", ,\"ContractData\",C538, \"PerCentNetLastTrade\",, \"T\")/100,\"\")","v":7.0857558139534879E-3},67,67,"S.US.TGT",538,"S.US.MAT"]
[null,0,"S.US.TCO",{"$f":"IFERROR(RTD(\"cqg.rtd\", ,\"ContractData\",C539, \"PerCentNetLastTrade\",, \"T\")/100,\"\")","v":-1.0311020960108181E-2},536,536,"S.US.TCO",539,"S.US.GME"]
[null,1,"S.US.TCB",{"$f":"IFERROR(RTD(\"cqg.rtd\", ,\"ContractData\",C540, \"PerCentNetLastTrade\",, \"T\")/100,\"\")","v":5.8517555266579977E-3},85,85,"S.US.TCB",540,"S.US.BDC"]
[null,0,"S.US.TEL",{"$f":"IFERROR(RTD(\"cqg.rtd\", ,\"ContractData\",C541, \"PerCentNetLastTrade\",, \"T\")/100,\"\")","v":-8.1135902636916835E-3},494,494,"S.US.TEL",541,"S.US.INGR"]
[null,0,"S.US.TECD",{"$f":"IFERROR(RTD(\"cqg.rtd\", ,\"ContractData\",C542, \"PerCentNetLastTrade\",, \"T\")/100,\"\")","v":-2.0368782161234993E-2},608,608,"S.US.TECD",542,"S.US.TDY"]
[null,0,"S.US.FTI",{"$f":"IFERROR(RTD(\"cqg.rtd\", ,\"ContractData\",C543, \"PerCentNetLastTrade\",, \"T\")/100,\"\")","v":-5.7544757033248083E-3},454,454,"S.US.FTI",543,"S.US.AMG"]
[null,1,"S.US.TGNA",{"$f":"IFERROR(RTD(\"cqg.rtd\", ,\"ContractData\",C544, \"PerCentNetLastTrade\",, \"T\")/100,\"\")","v":1.823985408116735E-3},196,196,"S.US.TGNA",544,"S.US.UNFI"]
[null,0,"S.US.TDY",{"$f":"IFERROR(RTD(\"cqg.rtd\", ,\"ContractData\",C545, \"PerCentNetLastTrade\",, \"T\")/100,\"\")","v":-1.0642491131257391E-2},542,542,"S.US.TDY",545,"S.US.EL"]
[null,1,"S.US.TFX",{"$f":"IFERROR(RTD(\"cqg.rtd\", ,\"ContractData\",C546, \"PerCentNetLastTrade\",, \"T\")/100,\"\")","v":3.6776131772505954E-3},102,102,"S.US.TFX",546,"S.US.NWL"]
[null,0,"S.US.TDS",{"$f":"IFERROR(RTD(\"cqg.rtd\", ,\"ContractData\",C547, \"PerCentNetLastTrade\",, \"T\")/100,\"\")","v":-8.0183276059564729E-3},497,497,"S.US.TDS",547,"S.US.KMB"]
[null,0,"S.US.TPX",{"$f":"IFERROR(RTD(\"cqg.rtd\", ,\"ContractData\",C548, \"PerCentNetLastTrade\",, \"T\")/100,\"\")","v":-2.7359490986214211E-2},621,621,"S.US.TPX",548,"S.US.PFG"]
[null,0,"S.US.THC",{"$f":"IFERROR(RTD(\"cqg.rtd\", ,\"ContractData\",C549, \"PerCentNetLastTrade\",, \"T\")/100,\"\")","v":-1.679212507237985E-2},597,597,"S.US.THC",549,"S.US.KMT"]
[null,0,"S.US.TDC",{"$f":"IFERROR(RTD(\"cqg.rtd\", ,\"ContractData\",C550, \"PerCentNetLastTrade\",, \"T\")/100,\"\")","v":-8.153137185395249E-3},503,503,"S.US.TDC",550,"S.US.SON"]
[null,1,"S.US.TER",{"$f":"IFERROR(RTD(\"cqg.rtd\", ,\"ContractData\",C551, \"PerCentNetLastTrade\",, \"T\")/100,\"\")","v":9.1553455404607201E-3},38,38,"S.US.TER",551,"S.US.R"]
[null,0,"S.US.TEX",{"$f":"IFERROR(RTD(\"cqg.rtd\", ,\"ContractData\",C552, \"PerCentNetLastTrade\",, \"T\")/100,\"\")","v":-1.2844611528822054E-2},559,559,"S.US.TEX",552,"S.US.WRK"]
[null,0,"S.US.TSO",{"$f":"IFERROR(RTD(\"cqg.rtd\", ,\"ContractData\",C553, \"PerCentNetLastTrade\",, \"T\")/100,\"\")","v":-1.4907135874877811E-2},580,580,"S.US.TSO",553,"S.US.SLGN"]
[null,1,"S.US.TCBI",{"$f":"IFERROR(RTD(\"cqg.rtd\", ,\"ContractData\",C554, \"PerCentNetLastTrade\",, \"T\")/100,\"\")","v":1.3661202185792352E-3},212,212,"S.US.TCBI",554,"S.US.ACHC"]
[null,0,"S.US.TXT",{"$f":"IFERROR(RTD(\"cqg.rtd\", ,\"ContractData\",C555, \"PerCentNetLastTrade\",, \"T\")/100,\"\")","v":-5.195929854946958E-3},441,441,"S.US.TXT",555,"S.US.UFS"]
[null,1,"S.US.TMO",{"$f":"IFERROR(RTD(\"cqg.rtd\", ,\"ContractData\",C556, \"PerCentNetLastTrade\",, \"T\")/100,\"\")","v":9.7677955196818159E-3},40,40,"S.US.TMO",556,"S.US.CRS"]
[null,1,"S.US.TIF",{"$f":"IFERROR(RTD(\"cqg.rtd\", ,\"ContractData\",C557, \"PerCentNetLastTrade\",, \"T\")/100,\"\")","v":3.1847133757961781E-3},166,166,"S.US.TIF",557,"S.US.KEYS"]
[null,1,"S.US.TIME",{"$f":"IFERROR(RTD(\"cqg.rtd\", ,\"ContractData\",C558, \"PerCentNetLastTrade\",, \"T\")/100,\"\")","v":1.6736401673640166E-3},202,202,"S.US.TIME",558,"S.US.TRMB"]
[null,0,"S.US.TKR",{"$f":"IFERROR(RTD(\"cqg.rtd\", ,\"ContractData\",C559, \"PerCentNetLastTrade\",, \"T\")/100,\"\")","v":-1.5923566878980892E-2},589,589,"S.US.TKR",559,"S.US.TEX"]
[null,0,"S.US.TOL",{"$f":"IFERROR(RTD(\"cqg.rtd\", ,\"ContractData\",C560, \"PerCentNetLastTrade\",, \"T\")/100,\"\")","v":-1.6286644951140064E-3},326,326,"S.US.TOL",560,"S.US.CBRL"]
[null,0,"S.US.TR",{"$f":"IFERROR(RTD(\"cqg.rtd\", ,\"ContractData\",C561, \"PerCentNetLastTrade\",, \"T\")/100,\"\")","v":-4.2553191489361703E-3},416,416,"S.US.TR",561,"S.US.RL"]
[null,1,"S.US.TMK",{"$f":"IFERROR(RTD(\"cqg.rtd\", ,\"ContractData\",C562, \"PerCentNetLastTrade\",, \"T\")/100,\"\")","v":3.2384293617595465E-3},164,164,"S.US.TMK",562,"S.US.FLR"]
[null,0,"S.US.TSCO",{"$f":"IFERROR(RTD(\"cqg.rtd\", ,\"ContractData\",C563, \"PerCentNetLastTrade\",, \"T\")/100,\"\")","v":-6.9288065130781226E-4},274,274,"S.US.TSCO",563,"S.US.WSM"]
[null,1,"S.US.RIG",{"$f":"IFERROR(RTD(\"cqg.rtd\", ,\"ContractData\",C564, \"PerCentNetLastTrade\",, \"T\")/100,\"\")","v":3.8498556304138593E-3},112,112,"S.US.RIG",564,"S.US.CMP"]
[null,1,"S.US.TRV",{"$f":"IFERROR(RTD(\"cqg.rtd\", ,\"ContractData\",C565, \"PerCentNetLastTrade\",, \"T\")/100,\"\")","v":2.1621621621621622E-3},191,191,"S.US.TRV",565,"S.US.UE"]
[null,0,"S.US.THS",{"$f":"IFERROR(RTD(\"cqg.rtd\", ,\"ContractData\",C566, \"PerCentNetLastTrade\",, \"T\")/100,\"\")","v":-1.5688325271277293E-3},322,322,"S.US.THS",566,{"$f":"IFERROR(VLOOKUP(H566,$F$1:$G$639,2,FALSE),\"\")","v":"S.US.VSAT"}]
[null,1,"S.US.TPH",{"$f":"IFERROR(RTD(\"cqg.rtd\", ,\"ContractData\",C567, \"PerCentNetLastTrade\",, \"T\")/100,\"\")","v":5.6772100567721003E-3},91,91,"S.US.TPH",567,"S.US.HELE"]
[null,0,"S.US.TRMB",{"$f":"IFERROR(RTD(\"cqg.rtd\", ,\"ContractData\",C568, \"PerCentNetLastTrade\",, \"T\")/100,\"\")","v":-1.0446894950667441E-2},558,558,"S.US.TRMB",568,"S.US.GATX"]
[null,0,"S.US.TRN",{"$f":"IFERROR(RTD(\"cqg.rtd\", ,\"ContractData\",C569, \"PerCentNetLastTrade\",, \"T\")/100,\"\")","v":-1.7918414029736943E-2},601,601,"S.US.TRN",569,"S.US.HFC"]
[null,1,"S.US.TRIP",{"$f":"IFERROR(RTD(\"cqg.rtd\", ,\"ContractData\",C570, \"PerCentNetLastTrade\",, \"T\")/100,\"\")","v":5.6856947919035703E-3},90,90,"S.US.TRIP",570,"S.US.GNW"]
[null,0,"S.US.TRMK",{"$f":"IFERROR(RTD(\"cqg.rtd\", ,\"ContractData\",C571, \"PerCentNetLastTrade\",, \"T\")/100,\"\")","v":-6.4683053040103487E-3},463,463,"S.US.TRMK",571,"S.US.ATR"]
[null,0,"S.US.TUP",{"$f":"IFERROR(RTD(\"cqg.rtd\", ,\"ContractData\",C572, \"PerCentNetLastTrade\",, \"T\")/100,\"\")","v":-3.5450104675505932E-2},629,629,"S.US.TUP",572,"S.US.WNR"]
[null,0,"S.US.FOXA",{"$f":"IFERROR(RTD(\"cqg.rtd\", ,\"ContractData\",C573, \"PerCentNetLastTrade\",, \"T\")/100,\"\")","v":-4.4692737430167594E-3},420,420,"S.US.FOXA",573,"S.US.CF"]
[null,0,"S.US.FOX",{"$f":"IFERROR(RTD(\"cqg.rtd\", ,\"ContractData\",C574, \"PerCentNetLastTrade\",, \"T\")/100,\"\")","v":-5.2297347777362727E-3},444,444,"S.US.FOX",574,"S.US.ISCA"]
[null,0,"S.US.TSN",{"$f":"IFERROR(RTD(\"cqg.rtd\", ,\"ContractData\",C575, \"PerCentNetLastTrade\",, \"T\")/100,\"\")","v":-1.2064805239572561E-3},297,297,"S.US.TSN",575,"S.US.NLSN"]
[null,0,"S.US.UGI",{"$f":"IFERROR(RTD(\"cqg.rtd\", ,\"ContractData\",C576, \"PerCentNetLastTrade\",, \"T\")/100,\"\")","v":-1.4862884655641615E-2},584,584,"S.US.UGI",576,"S.US.SPN"]
[null,1,"S.US.UMBF",{"$f":"IFERROR(RTD(\"cqg.rtd\", ,\"ContractData\",C577, \"PerCentNetLastTrade\",, \"T\")/100,\"\")","v":7.9227888216652272E-3},63,{"$f":"IFERROR(E577,\"\")","v":63},"S.US.UMBF",577,"S.US.BKH"]
[null,{"$f":"IF(D578>=0,1,)","v":1},"S.US.UMPQ",{"$f":"IFERROR(RTD(\"cqg.rtd\", ,\"ContractData\",C578, \"PerCentNetLastTrade\",, \"T\")/100,\"\")","v":4.6975924838520257E-3},117,117,"S.US.UMPQ",578,"S.US.CAT"]
[null,0,"S.US.UNP",{"$f":"IFERROR(RTD(\"cqg.rtd\", ,\"ContractData\",C579, \"PerCentNetLastTrade\",, \"T\")/100,\"\")","v":-6.6629129129129128E-3},473,473,"S.US.UNP",{"$f":"H578+1","v":579},"S.US.YHOO"]
[null,1,"S.US.UBSI",{"$f":"IFERROR(RTD(\"cqg.rtd\", ,\"ContractData\",C580, \"PerCentNetLastTrade\",, \"T\")/100,\"\")","v":4.4914134742404226E-3},98,98,"S.US.UBSI",580,"S.US.TSO"]
[null,0,"S.US.UNFI",{"$f":"IFERROR(RTD(\"cqg.rtd\", ,\"ContractData\",C581, \"PerCentNetLastTrade\",, \"T\")/100,\"\")","v":-1.0697911360163015E-2},544,544,"S.US.UNFI",581,"S.US.GWR"]
[null,0,"S.US.UTX",{"$f":"IFERROR(RTD(\"cqg.rtd\", ,\"ContractData\",C582, \"PerCentNetLastTrade\",, \"T\")/100,\"\")","v":-6.7737079779227292E-3},476,476,"S.US.UTX",582,"S.US.HPT"]
[null,1,"S.US.UTHR",{"$f":"IFERROR(RTD(\"cqg.rtd\", ,\"ContractData\",C583, \"PerCentNetLastTrade\",, \"T\")/100,\"\")","v":3.5566583953680732E-3},101,101,"S.US.UTHR",583,"S.US.WPX"]
[null,1,"S.US.UHS",{"$f":"IFERROR(RTD(\"cqg.rtd\", ,\"ContractData\",C584, \"PerCentNetLastTrade\",, \"T\")/100,\"\")","v":1.6020236087689712E-3},205,205,"S.US.UHS",584,"S.US.UGI"]
[null,1,"S.US.UNM",{"$f":"IFERROR(RTD(\"cqg.rtd\", ,\"ContractData\",C585, \"PerCentNetLastTrade\",, \"T\")/100,\"\")","v":4.8986862614117119E-3},109,109,"S.US.UNM",585,"S.US.PCAR"]
[null,0,"S.US.UE",{"$f":"IFERROR(RTD(\"cqg.rtd\", ,\"ContractData\",C586, \"PerCentNetLastTrade\",, \"T\")/100,\"\")","v":-1.3389121338912133E-2},565,565,"S.US.UE",586,"S.US.M"]
[null,1,"S.US.USB",{"$f":"IFERROR(RTD(\"cqg.rtd\", ,\"ContractData\",C587, \"PerCentNetLastTrade\",, \"T\")/100,\"\")","v":5.1525961157352362E-3},107,107,"S.US.USB",587,"S.US.PBI"]
[null,0,"S.US.X",{"$f":"IFERROR(RTD(\"cqg.rtd\", ,\"ContractData\",C588, \"PerCentNetLastTrade\",, \"T\")/100,\"\")","v":-2.0249221183800622E-2},606,606,"S.US.X",588,"S.US.PX"]
[null,1,"S.US.USD",{"$f":"IFERROR(RTD(\"cqg.rtd\", ,\"ContractData\",C589, \"PerCentNetLastTrade\",, \"T\")/100,\"\")","v":1.7944936086529008E-2},11,11,"S.US.USD",589,"S.US.TKR"]
[null,0,"S.US.VLO",{"$f":"IFERROR(RTD(\"cqg.rtd\", ,\"ContractData\",C590, \"PerCentNetLastTrade\",, \"T\")/100,\"\")","v":-9.7178683385579934E-3},526,526,"S.US.VLO",590,"S.US.SABR"]
[null,1,"S.US.VLY",{"$f":"IFERROR(RTD(\"cqg.rtd\", ,\"ContractData\",C591, \"PerCentNetLastTrade\",, \"T\")/100,\"\")","v":0},257,257,"S.US.VLY",591,"S.US.SEE"]
[null,0,"S.US.VMI",{"$f":"IFERROR(RTD(\"cqg.rtd\", ,\"ContractData\",C592, \"PerCentNetLastTrade\",, \"T\")/100,\"\")","v":-6.4691862444671436E-3},449,449,"S.US.VMI",592,"S.US.DV"]
[null,0,"S.US.VAL",{"$f":"IFERROR(RTD(\"cqg.rtd\", ,\"ContractData\",C593, \"PerCentNetLastTrade\",, \"T\")/100,\"\")","v":-1.517044440478315E-3},321,321,"S.US.VAL",593,"S.US.CIEN"]
[null,0,"S.US.VVC",{"$f":"IFERROR(RTD(\"cqg.rtd\", ,\"ContractData\",C594, \"PerCentNetLastTrade\",, \"T\")/100,\"\")","v":-2.5307912940779483E-3},362,362,"S.US.VVC",594,"S.US.SYMC"]
[null,1,"S.US.VTR",{"$f":"IFERROR(RTD(\"cqg.rtd\", ,\"ContractData\",C595, \"PerCentNetLastTrade\",, \"T\")/100,\"\")","v":3.7696019300361883E-3},148,148,"S.US.VTR",595,"S.US.FCX"]
[null,0,"S.US.PAY",{"$f":"IFERROR(RTD(\"cqg.rtd\", ,\"ContractData\",C596, \"PerCentNetLastTrade\",, \"T\")/100,\"\")","v":-3.4246575342465752E-3},390,390,"S.US.PAY",596,"S.US.NTCT"]
[null,1,"S.US.VZ",{"$f":"IFERROR(RTD(\"cqg.rtd\", ,\"ContractData\",C597, \"PerCentNetLastTrade\",, \"T\")/100,\"\")","v":9.2176258992805755E-3},42,42,"S.US.VZ",597,"S.US.THC"]
[null,0,"S.US.VSM",{"$f":"IFERROR(RTD(\"cqg.rtd\", ,\"ContractData\",C598, \"PerCentNetLastTrade\",, \"T\")/100,\"\")","v":-3.0010003334444814E-3},378,378,"S.US.VSM",598,"S.US.SM"]
[null,1,"S.US.VRTX",{"$f":"IFERROR(RTD(\"cqg.rtd\", ,\"ContractData\",C599, \"PerCentNetLastTrade\",, \"T\")/100,\"\")","v":3.5320860290260533E-2},2,2,"S.US.VRTX",599,"S.US.IP"]
[null,1,"S.US.VFC",{"$f":"IFERROR(RTD(\"cqg.rtd\", ,\"ContractData\",C600, \"PerCentNetLastTrade\",, \"T\")/100,\"\")","v":2.905850445563735E-3},171,171,"S.US.VFC",600,"S.US.CL"]
[null,0,"S.US.VIAB",{"$f":"IFERROR(RTD(\"cqg.rtd\", ,\"ContractData\",C601, \"PerCentNetLastTrade\",, \"T\")/100,\"\")","v":-2.0802377414561664E-3},341,341,"S.US.VIAB",601,"S.US.TRN"]
[null,0,"S.US.VSAT",{"$f":"IFERROR(RTD(\"cqg.rtd\", ,\"ContractData\",C602, \"PerCentNetLastTrade\",, \"T\")/100,\"\")","v":-1.3526119402985076E-2},566,566,"S.US.VSAT",602,"S.US.SWN"]
[null,0,"S.US.VSH",{"$f":"IFERROR(RTD(\"cqg.rtd\", ,\"ContractData\",C603, \"PerCentNetLastTrade\",, \"T\")/100,\"\")","v":-6.2305295950155761E-3},465,465,"S.US.VSH",603,"S.US.DAN"]
[null,0,"S.US.VNO",{"$f":"IFERROR(RTD(\"cqg.rtd\", ,\"ContractData\",C604, \"PerCentNetLastTrade\",, \"T\")/100,\"\")","v":-9.7297297297297303E-4},304,304,"S.US.VNO",604,"S.US.COTY"]
[null,1,"S.US.WBA",{"$f":"IFERROR(RTD(\"cqg.rtd\", ,\"ContractData\",C605, \"PerCentNetLastTrade\",, \"T\")/100,\"\")","v":4.4047473387984828E-3},136,136,"S.US.WBA",605,"S.US.JEC"]
[null,1,"S.US.WMT",{"$f":"IFERROR(RTD(\"cqg.rtd\", ,\"ContractData\",C606, \"PerCentNetLastTrade\",, \"T\")/100,\"\")","v":2.3296059637912672E-2},6,6,"S.US.WMT",606,"S.US.X"]
[null,1,"S.US.DIS",{"$f":"IFERROR(RTD(\"cqg.rtd\", ,\"ContractData\",C607, \"PerCentNetLastTrade\",, \"T\")/100,\"\")","v":3.8566456589220204E-3},142,142,"S.US.DIS",607,"S.US.AES"]
[null,0,"S.US.WPG",{"$f":"IFERROR(RTD(\"cqg.rtd\", ,\"ContractData\",C608, \"PerCentNetLastTrade\",, \"T\")/100,\"\")","v":-2.1361815754339118E-2},612,612,"S.US.WPG",608,"S.US.TECD"]
[null,1,"S.US.WAT",{"$f":"IFERROR(RTD(\"cqg.rtd\", ,\"ContractData\",C609, \"PerCentNetLastTrade\",, \"T\")/100,\"\")","v":8.3720396811743786E-3},56,56,"S.US.WAT",609,"S.US.MNK"]
[null,1,"S.US.WSO",{"$f":"IFERROR(RTD(\"cqg.rtd\", ,\"ContractData\",C610, \"PerCentNetLastTrade\",, \"T\")/100,\"\")","v":2.4094626168224297E-3},187,187,"S.US.WSO",610,"S.US.EPC"]
[null,1,"S.US.WBS",{"$f":"IFERROR(RTD(\"cqg.rtd\", ,\"ContractData\",C611, \"PerCentNetLastTrade\",, \"T\")/100,\"\")","v":1.0397171969224371E-2},25,25,"S.US.WBS",611,"S.US.NUS"]
[null,0,"S.US.WEC",{"$f":"IFERROR(RTD(\"cqg.rtd\", ,\"ContractData\",C612, \"PerCentNetLastTrade\",, \"T\")/100,\"\")","v":-9.871668311944718E-4},295,295,"S.US.WEC",612,"S.US.WPG"]
[null,1,"S.US.WFC",{"$f":"IFERROR(RTD(\"cqg.rtd\", ,\"ContractData\",C613, \"PerCentNetLastTrade\",, \"T\")/100,\"\")","v":7.8483920367534449E-3},61,61,"S.US.WFC",613,"S.US.FTR"]
[null,1,"S.US.WERN",{"$f":"IFERROR(RTD(\"cqg.rtd\", ,\"ContractData\",C614, \"PerCentNetLastTrade\",, \"T\")/100,\"\")","v":3.968253968253968E-3},145,145,"S.US.WERN",614,"S.US.NBR"]
[null,0,"S.US.WR",{"$f":"IFERROR(RTD(\"cqg.rtd\", ,\"ContractData\",C615, \"PerCentNetLastTrade\",, \"T\")/100,\"\")","v":-4.0595399188092015E-3},408,408,"S.US.WR",615,"S.US.CHS"]
[null,1,"S.US.WDC",{"$f":"IFERROR(RTD(\"cqg.rtd\", ,\"ContractData\",C616, \"PerCentNetLastTrade\",, \"T\")/100,\"\")","v":1.0208871157005396E-2},33,33,"S.US.WDC",616,"S.US.KBR"]
[null,0,"S.US.WNR",{"$f":"IFERROR(RTD(\"cqg.rtd\", ,\"ContractData\",C617, \"PerCentNetLastTrade\",, \"T\")/100,\"\")","v":-1.4313780522031996E-2},572,572,"S.US.WNR",617,"S.US.GMED"]
[null,0,"S.US.WU",{"$f":"IFERROR(RTD(\"cqg.rtd\", ,\"ContractData\",C618, \"PerCentNetLastTrade\",, \"T\")/100,\"\")","v":-1.5873015873015873E-3},298,298,"S.US.WU",618,"S.US.ITT"]
[null,0,"S.US.WAB",{"$f":"IFERROR(RTD(\"cqg.rtd\", ,\"ContractData\",C619, \"PerCentNetLastTrade\",, \"T\")/100,\"\")","v":-1.0084457330139922E-2},528,528,"S.US.WAB",619,"S.US.AEO"]
[null,0,"S.US.WRK",{"$f":"IFERROR(RTD(\"cqg.rtd\", ,\"ContractData\",C620, \"PerCentNetLastTrade\",, \"T\")/100,\"\")","v":-1.2274645186037592E-2},552,552,"S.US.WRK",620,"S.US.FLO"]
[null,0,"S.US.WY",{"$f":"IFERROR(RTD(\"cqg.rtd\", ,\"ContractData\",C621, \"PerCentNetLastTrade\",, \"T\")/100,\"\")","v":-8.241758241758242E-3},504,504,"S.US.WY",621,"S.US.TPX"]
[null,0,"S.US.WGL",{"$f":"IFERROR(RTD(\"cqg.rtd\", ,\"ContractData\",C622, \"PerCentNetLastTrade\",, \"T\")/100,\"\")","v":-1.6922519037833915E-3},323,323,"S.US.WGL",622,"S.US.FMC"]
[null,0,"S.US.WHR",{"$f":"IFERROR(RTD(\"cqg.rtd\", ,\"ContractData\",C623, \"PerCentNetLastTrade\",, \"T\")/100,\"\")","v":-3.7469826640333555E-2},632,632,"S.US.WHR",623,"S.US.PRGO"]
[null,1,"S.US.WFM",{"$f":"IFERROR(RTD(\"cqg.rtd\", ,\"ContractData\",C624, \"PerCentNetLastTrade\",, \"T\")/100,\"\")","v":2.497225305216426E-3},184,184,"S.US.WFM",624,"S.US.GEO"]
[null,0,"S.US.WMB",{"$f":"IFERROR(RTD(\"cqg.rtd\", ,\"ContractData\",C625, \"PerCentNetLastTrade\",, \"T\")/100,\"\")","v":-1.6616816218012627E-3},331,331,"S.US.WMB",625,"S.US.ATI"]
[null,0,"S.US.WSM",{"$f":"IFERROR(RTD(\"cqg.rtd\", ,\"ContractData\",C626, \"PerCentNetLastTrade\",, \"T\")/100,\"\")","v":-1.3578274760383386E-2},563,563,"S.US.WSM",626,"S.US.CNK"]
[null,0,"S.US.WLTW",{"$f":"IFERROR(RTD(\"cqg.rtd\", ,\"ContractData\",C627, \"PerCentNetLastTrade\",, \"T\")/100,\"\")","v":-5.9731209556993523E-3},458,458,"S.US.WLTW",627,"S.US.JCP"]
[null,1,"S.US.WTFC",{"$f":"IFERROR(RTD(\"cqg.rtd\", ,\"ContractData\",C628, \"PerCentNetLastTrade\",, \"T\")/100,\"\")","v":4.359197907585005E-3},134,134,"S.US.WTFC",628,"S.US.ENDP"]
[null,0,"S.US.INT",{"$f":"IFERROR(RTD(\"cqg.rtd\", ,\"ContractData\",C629, \"PerCentNetLastTrade\",, \"T\")/100,\"\")","v":-6.6737853710624661E-3},474,474,"S.US.INT",629,{"$f":"IFERROR(VLOOKUP(H629,$F$1:$G$639,2,FALSE),\"\")","v":"S.US.TUP"}]
[null,0,"S.US.WPX",{"$f":"IFERROR(RTD(\"cqg.rtd\", ,\"ContractData\",C630, \"PerCentNetLastTrade\",, \"T\")/100,\"\")","v":-1.4814814814814814E-2},583,583,"S.US.WPX",630,"S.US.CXW"]
[null,1,"S.US.WRB",{"$f":"IFERROR(RTD(\"cqg.rtd\", ,\"ContractData\",C631, \"PerCentNetLastTrade\",, \"T\")/100,\"\")","v":1.3552175877126938E-3},213,213,"S.US.WRB",631,"S.US.SKT"]
[null,0,"S.US.WYN",{"$f":"IFERROR(RTD(\"cqg.rtd\", ,\"ContractData\",C632, \"PerCentNetLastTrade\",, \"T\")/100,\"\")","v":-2.3280423280423279E-3},337,337,"S.US.WYN",632,"S.US.WHR"]
[null,0,"S.US.XEL",{"$f":"IFERROR(RTD(\"cqg.rtd\", ,\"ContractData\",C633, \"PerCentNetLastTrade\",, \"T\")/100,\"\")","v":-2.1925016443762334E-4},258,258,"S.US.XEL",633,"S.US.AGCO"]
[null,1,"S.US.XRX",{"$f":"IFERROR(RTD(\"cqg.rtd\", ,\"ContractData\",C634, \"PerCentNetLastTrade\",, \"T\")/100,\"\")","v":1.0174418604651164E-2},34,34,"S.US.XRX",634,"S.US.JBL"]
[null,1,"S.US.XLNX",{"$f":"IFERROR(RTD(\"cqg.rtd\", ,\"ContractData\",C635, \"PerCentNetLastTrade\",, \"T\")/100,\"\")","v":1.1272390364422482E-2},23,23,"S.US.XLNX",635,"S.US.OI"]
[null,1,"S.US.XL",{"$f":"IFERROR(RTD(\"cqg.rtd\", ,\"ContractData\",C636, \"PerCentNetLastTrade\",, \"T\")/100,\"\")","v":4.7858339315625751E-3},113,113,"S.US.XL",636,"S.US.FSLR"]
[null,0,"S.US.YHOO",{"$f":"IFERROR(RTD(\"cqg.rtd\", ,\"ContractData\",C637, \"PerCentNetLastTrade\",, \"T\")/100,\"\")","v":-1.4300100704934543E-2},579,579,"S.US.YHOO",637,"S.US.AVP"]
[null,1,"S.US.ZBH",{"$f":"IFERROR(RTD(\"cqg.rtd\", ,\"ContractData\",C638, \"PerCentNetLastTrade\",, \"T\")/100,\"\")","v":2.5484199796126398E-4},244,244,"S.US.ZBH",638,"S.US.CSCO"]
[null,1,"S.US.ZION",{"$f":"IFERROR(RTD(\"cqg.rtd\", ,\"ContractData\",C639, \"PerCentNetLastTrade\",, \"T\")/100,\"\")","v":1.0771992818671455E-2},28,28,"S.US.ZION",639,""]
[null,{"$f":"SUM(B1:B639)/639","v":0.39906103286384975}]
[]
[]
[]
[]
[]
[]
[]
[]
[]
[]
[]
[]
[]
[]
[]
[]
[]
[]
[]
[]
[]
[]
[]
[]
[]
[]
[]
[]
[]
[]
[]
[]
[]
[]
[]
[]
[]
[]
[]
[]
[]
[]
[]
[]
[]
[]
[]
[]
[]
[]
[]
[]
[]
[]
[]
[]
[]
[]
[]
[]
[]
[]
[]
[]
[]
[]
[]
[]
[]
[]
[]
[]
[]
[]
[]
[]
[]
[]
[]
[]
[]
[]
[]
[]
[]
[]
[]
[]
[]
[]
[]
[]
[]
[]
[]
[]
[]
[]
[]
[]
[]
[]
[]
[]
[]
[]
[]
[]
[]
[]
[]
[]
[]
[]
[]
[]
[]
[]
[]
[]
[]
[]
[]
[]
[]
[]
[]
[]
[]
[]
[]
[]
[]
[]
[]
[]
[]
[]
[]
[]
[]
[]
[]
[]
[]
[]
[]
[]
[]
[]
[]
[]
[]
[]
[]
[]
[]
[]
[]
[]
[]
[]
[]
[]
[]
[]
[]
[]
[]
[]
[]
[]
[]
[]
[]
[]
[]
[]
[]
[]
[]
[]
[]
[]
[]
[]
[]
[]
[]
[]
[]
[]
[]
[]
[]
[]
[]
[]
[]
[]
[]
[]
[]
[]
[]
[]
[]
[]
[]
[]
[]
[]
[]
[]
[]
[]
[]
[]
[]
[]
[]
[]
[]
[]
[]
[]
[]
[]
[]
[]
[]
[]
[]
[]
[]
[]
[]
[]
[]
[]
[]
[]
[]
[]
[]
[]
[]
[]
[]
[]
[]
[]
[]
[]
[]
[]
[]
[]
[]
[]
[]
[]
[]
[]
[]
[]
[]
[]
[]
[]
[]
[]
[]
[]
[]
[]
[]
[]
[]
[]
[]
[]
[]
[]
[]
[]
[]
[]
[]
[]
[]
[]
[]
[]
[]
[]
[]
[]
[]
[]
[]
[]
[]
[]
[]
[]
[]
[]
[]
[]
[]
[]
[]
[]
[]
[]
[]
[]
[]
[]
[]
[]
[]
[]
[]
[]
[]
[]
[]
[]
[]
[]
[]
[]
[]
[]
[]
[]
[]
[]
[]
[]
[]
[]
[]
[]
[]
[]
[]
[]
[]
[]
[]
[]
[]
[]
[]
[]
[]
[]
[]
[]
[]
[]
[]
[]
[]
[]
[]
[]
[]
[]
[]
[]
[]
[]
[]
[]
[]
[]
[]
[]
[]
[]
[]
[]
[]
[]
[]
[]
[]
[]
[]
[]
[]
[]
[]
[]
[]
[]
[]
[]
[]
[]
[]
[]
[]
[]
[]
[]
[]
[]
[]
[]
[]
[]
[]
[]
[]
[]
[]
[]
[]
[]
[]
[]
[]
[]
[]
[]
[]
[]
[]
[]
[]
[]
[]
[]
[]
[]
[]
[]
[]
[]
[]
[]
[]
[]
[]
[]
[]
[]
[]
[]
[]
[]
[]
[]
[]
[]
[]
[]
[]
[]
[]
[]
[]
[]
[]
[]
[]
[]
[]
[]
[]
[]
[]
[]
[]
[]
[]
[]
[]
[]
[]
[]
[]
[]
[]
[]
[]
[]
[]
[]
[]
[]
[]
[]
[]
[]
[]
[]
[]
[]
[]
[]
[]
[]
[]
[]
[]
[]
[]
[]
[]
[]
[]
[]
[]
[]
[]
[]
[]
[]
[]
[]
[]
[]
[]
[]
[]
[]
[]
[]
[]
[]
[]
[]
[]
[]
[]
[]
[]
[]
[]
[]
[]
[]
[]
[]
[]
[]
[]
[]
[]
[]
[]
[]
[]
[]
[]
[]
[]
[]
[]
[]
[]
[]
[]
[]
[]
[]
[]
[]
[]
[]
[]
[]
[]
[]
[]
[]
[]
[]
[]
[]
[]
[]
[]
[]
[]
[]
[]
[]
[]
[]
[]
[]
[]
[]
[]
[]
[]
[]
[]
[]
[]
[]
[]
[]
[]
[]
[]
[]
[]
[]
[]
[]
[]
[]
[]
[]
[]
[]
[]
[]
[]
[]
[]
[]
[]
[]
[]
[]
[]
[]
[]
[]
[]
[]
[]
[]
[]
[]
[]
[]
[]
[]
[]
[]
[]
[]
[]
[]
[]
[]
[]
[]
[]
[]
[]
[]
[]
[]
[]
[]
[]
[]
[]
[]
[]
[]
[]
[]
[]
[]
[]
[]
[]
[]
[]
[]
[]
[]
[]
[]
[]
[]
[]
[]
[]
[]
[]
[]
[]
[]
[]
[]
[]
[]
[]
[]
[]
[]
[]
[]
[]
[]
[]
[]
[]
[]
[]
[]
[]
[]
[]
[]
[]
[]
[]
[]
[]
[]
[]
[]
[]
[]
[]
[]
[]
[]
[]
[]
[]
[]
[]
[]
[]
[]
[]
[]
[]
[]
[]
[]
[]
[]
[]
[]
[]
[]
[]
[]
[]
[]
[]
[]
[]
[]
[]
[]
[]
[]
[]
[]
[]
[]
[]
[]
[]
[]
[]
[]
[]
[]
[]
[]
[]
[]
[]
[]
[]
[]
[]
[]
[]
[]
[]
[]
[]
[]
[]
[]
[]
[]
[]
[]
[]
[]
[]
[]
[]
[]
[]
[]
[]
[]
[]
[]
[]
[]
[]
[]
[]
[]
[]
[]
[]
[]
[]
[]
[]
[]
[]
[]
[]
[]
[]
[]
[]
[]
[]
[]
[]
[]
[]
[]
[]
[]
[]
[]
[]
[]
[]
[]
[]
[]
[]
[]
[]
[]
[]
[]
[]
[]
[]
[]
[]
[]
[]
[]
[]
[]
[]
[]
[]
[]
[]
[]
[]
[]
[]
[]
[]
[]
[]
[]
[]
[]
[]
[]
[]
[]
[]
[]
[]
[]
[]
[]
[]
[]
[]
[]
[]
[]
[]
[]
[]
[]
[]
[]
[]
[]
[]
[]
[]
[]
[]
[]
[]
[]
[]
[]
[]
[]
[]
[]
[]
[]
[]
[]
[]
[]
[]
[]
[]
[]
[]
[]
[]
[]
[]
[]
[]
[]
[]
[]
[]
[]
[]
[]
[]
[]
[]
[]
[]
[]
[]
[]
[]
[]
[]
[]
[]
[]
[]
[]
[]
[]
[]
[]
[]
[]
[]
[]
[]
[]
[]
[]
[]
[]
[]
[]
[]
[]
[]
[]
[]
[]
[]
[]
[]
[]
[]
[]
[]
[]
[]
[]
[]
[]
[]
[]
[]
[]
[]
[]
[]
[]
[]
[]
[]
[]
[]
[]
[]
[]
[]
[]
[]
[]
[]
[]
[]
[]
[]
[]
[]
[]
[]
[]
[]
[]
[]
[]
[]
[]
[]
[]
[]
[]
[]
[]
[]
[]
[]
[]
[]
[]
[]
[]
[]
[]
[]
[]
[]
[]
[]
[]
[]
[]
[]
[]
[]
[]
[]
[]
[]
[]
[]
[]
[]
[]
[]
[]
[]
[]
[]
[]
[]
[]
[]
[]
[]
[]
[]
[]
[]
[]
[]
[]
[]
[]
[]
[]
[]
[]
[]
[]
[]
[]
[]
[]
[]
[]
[]
[]
[]
[]
[]
[]
[]
[]
[]
[]
[]
[]
[]
[]
[]
[]
[]
[]
[]
[]
[]
[]
[]
[]
[]
[]
[]
[]
[]
[]
[]
[]
[]
[]
[]
[]
[]
[]
[]
[]
[]
[]
[]
[]
[]
[]
[]
[]
[]
[]
[]
[]
[]
[]
[]
[]
[]
[]
[]
[]
[]
[]
[]
[]
[]
[]
[]
[]
[]
[]
[]
[]
[]
[]
[]
[]
[]
[]
[]
[]
[]
[]
[]
[]
[]
[]
[]
[]
[]
[]
[]
[]
[]
[]
[]
[]
[]
[]
[]
[]
[]
[]
[]
[]
[]
[]
[]
[]
[]
[]
[]
[]
[]
[]
[]
[]
[]
[]
[]
[]
[]
[]
[]
[]
[]
[]
[]
[]
[]
[]
[]
[]
[]
[]
[]
[]
[]
[]
[]
[]
[]
[]
[]
[]
[]
[]
[]
[]
[]
[]
[]
[]
[]
[]
[]
[]
[]
[]
[]
[]
[]
[]
[]
[]
[]
[]
[]
[]
[]
[]
[]
[]
[]
[]
[]
[]
[]
[]
[]
[]
[]
[]
[]
[]
[]
[]
[]
[]
[]
[]
[]
[]
[]
[]
[]
[]
[]
[]
[]
[]
[]
[]
[]
[]
[]
[]
[]
[]
[]
[]
[]
[]
[]
[]
[]
[]
[]
[]
[]
[]
[]
[]
[]
[]
[]
[]
[]
[]
[]
[]
[]
[]
[]
[]
[]
[]
[]
[]
[]
[]
[]
[]
[]
[]
[]
[]
[]
[]
[]
[]
[]
[]
[]
[]
[]
[]
[]
[]
[]
[]
[]
[]
[]
[]
[]
[]
[]
[]
[]
[]
[]
[]
[]
[]
[]
[]
[]
[]
[]
[]
[]
[]
[]
[]
[]
[]
[]
[]
[]
[]
[]
[]
[]
[]
[]
[]
[]
[]
[]
[]
[]
[]
[]
[]
[]
[]
[]
[]
[]
[]
[]
[]
[]
[]
[]
[]
[]
[]
[]
[]
[]
[]
[]
[]
[]
[]
[]
[]
[]
[]
[]
[]
[]
[]
[]
[]
[]
[]
[]
[]
[]
[]
[]
[]
[]
[]
[]
[]
[]
[]
[]
[]
[]
[]
[]
[]
[]
[]
[]
[]
[]
[]
[]
[]
[]
[]
[]
[]
[]
[]
[]
[]
[]
[]
[]
[]
[]
[]
[]
[]
[]
[]
[]
[]
[]
[]
[]
[]
[]
[]
[]
[]
[]
[]
[]
[]
[]
[]
[]
[]
[]
[]
[]
[]
[]
[]
[]
[]
[]
[]
[]
[]
[]
[]
[]
[]
[]
[]
[]
[]
[]
[]
[]
[]
[]
[]
[]
[]
[]
[]
[]
[]
[]
[]
[]
[]
[]
[]
[]
[]
[]
[]
[]
[]
[]
[]
[]
[]
[]
[]
[]
[]
[]
[]
[]
[]
[]
[]
[]
[]
[]
[]
[]
[]
[]
[]
[]
[]
[]
[]
[]
[]
[]
[]
[]
[]
[]
[]
[]
[]
[]
[]
[]
[]
[]
[]
[]
[]
[]
[]
[]
[]
[]
[]
[]
[]
[]
[]
[]
[]
[]
[]
[]
[]
[]
[]
[]
[]
[]
[]
[]
[]
[]
[]
[]
[]
[]
[]
[]
[]
[]
[]
[]
[]
[]
[]
[]
[]
[]
[]
[]
[]
[]
[]
[]
[]
[]
[]
[]
[]
[]
[]
[]
[]
[]
[]
[]
[]
[]
[]
[]
[]
[]
[]
[]
[]
[]
[]
[]
[]
[]
[]
[]
[]
[]
[]
[]
[]
[]
[]
[]
[]
[]
[]
[]
[]
[]
[]
[]
[]
[]
[]
[]
[]
[]
[]
[]
[]
[]
[]
[]
[]
[]
[]
[]
[]
[]
[]
[]
[]
[]
[]
[]
[]
[]
[]
[]
[]
[]
[]
[]
[]
[]
[]
[]
[]
[]
[]
[]
[]
[]
[]
[]
[]
[]
[]
[]
[]
[]
[]
[]
[]
[]
[]
[]
[]
[]
[]
[]
[]
[]
[]
[]
[]
[]
[]
[]
[]
[]
[]
[]
[]
[]
[]
[]
[]
[]
[]
[]
[]
[]
[]
[]
[]
[]
[]
[]
[]
[]
[]
[]
[]
[]
[]
[]
[]
[]
[]
[]
[]
[]
[]
[]
[]
[]
[]
[]
[]
[]
[]
[]
[]
[]
[]
[]
[]
[]
[]
[]
[]
[]
[]
[]
[]
[]
[]
[]
[]
[]
[]
[]
[]
[]
[]
[]
[]
[]
[]
[]
[]
[]
[]
[]
[]
[]
[]
[]
[]
[]
[]
[]
[]
[]
[]
[]
[]
[]
[]
[]
[]
[]
[]
[]
[]
[]
[]
[]
[]
[]
[]
[]
[]
[]
[]
[]
[]
[]
[]
[]
[]
[]
[]
[]
[]
[]
[]
[]
[]
[]
[]
[]
[]
[]
[]
[]
[]
[]
[]
[]
[]
[]
[]
[]
[]
[]
[]
[]
[]
[]
[]
[]
[]
[]
[]
[]
[]
[]
[]
[]
[]
[]
[]
[]
[]
[]
[]
[]
[]
[]
[]
[]
[]
[]
[]
[]
[]
[]
[]
[]
[]
[]
[]
[]
[]
[]
[]
[]
[]
[]
[]
[]
[]
[]
[]
[]
[]
[]
[]
[]
[]
[]
[]
[]
[]
[]
[]
[]
[]
[]
[]
[]
[]
[]
[]
[]
[]
[]
[]
[]
[]
[]
[]
[]
[]
[]
[]
[]
[]
[]
[]
[]
[]
[]
[]
[]
[]
[]
[]
[]
[]
[]
[]
[]
[]
[]
[]
[]
[]
[]
[]
[]
[]
[]
[]
[]
[]
[]
[]
[]
[]
[]
[]
[]
[]
[]
[]
[]
[]
[]
[]
[]
[]
[]
[]
[]
[]
[]
[]
[]
[]
[]
[]
[]
[]
[]
[]
[]
[]
[]
[]
[]
[]
[]
[]
[]
[]
[]
[]
[]
[]
[]
[]
[]
[]
[]
[]
[]
[]
[]
[]
[]
[]
[]
[]
[]
[]
[]
[]
[]
[]
[]
[]
[]
[]
[]
[]
[]
[]
[]
[]
[]
[]
[]
[]
[]
[]
[]
[]
[]
[]
[]
[]
[]
[]
[]
[]
[]
[]
[]
[]
[]
[]
[]
[]
[]
[]
[]
[]
[]
[]
[]
[]
[]
[]
[]
[]
[]
[]
[]
[]
[]
[]
[]
[]
[]
[]
[]
[]
[]
[]
[]
[]
[]
[]
[]
[]
[]
[]
[]
[]
[]
[]
[]
[]
[]
[]
[]
[]
[]
[]
[]
[]
[]
[]
[]
[]
[]
[]
[]
[]
[]
[]
[]
[]
[]
[]
[]
[]
[]
[]
[]
[]
[]
[]
[]
[]
[]
[]
[]
[]
[]
[]
[]
[]
[]
[]
[]
[]
[]
[]
[]
[]
[]
[]
[]
[]
[]
[]
[]
[]
[]
[]
[]
[]
[]
[]
[]
[]
[]
[]
[]
[]
[]
[]
[]
[]
[]
[]
[]
[]
[]
[]
[]
[]
[]
[]
[]
[]
[]
[]
[]
[]
[]
[]
[]
[]
[]
[]
[]
[]
[]
[]
[]
[]
[]
[]
[]
[]
[]
[]
[]
[]
[]
[]
[]
[]
[]
[]
[]
[]
[]
[]
[]
[]
[]
[]
[]
[]
[]
[]
[]
[]
[]
[]
[]
[]
[]
[]
[]
[]
[]
[]
[]
[]
[]
[]
[]
[]
[]
[]
[]
[]
[]
[]
[]
[]
[]
[]
[]
[]
[]
[]
[]
[]
[]
[]
[]
[]
[]
[]
[]
[]
[]
[]
[]
[]
[]
[]
[]
[]
[]
[]
[]
[]
[]
[]
[]
[]
[]
[]
[]
[]
[]
[]
[]
[]
[]
[]
[]
[]
[]
[]
[]
[]
[]
[]
[]
[]
[]
[]
[]
[]
[]
[]
[]
[]
[]
[]
[]
[]
[]
[]
[]
[]
[]
[]
[]
[]
[]
[]
[]
[]
[]
[]
[]
[]
[]
[]
[]
[]
[]
[]
[]
[]
[]
[]
[]
[]
[]
[]
[]
[]
[null,null,null,null,1945]
[null,null,null,null,1945]
[null,null,null,null,1945]
[null,null,null,null,1945]
[null,null,null,null,1945]
[null,null,null,null,1945]
[null,null,null,null,1945]
[null,null,null,null,1945]
[null,null,null,null,1945]
[null,null,null,null,1945]
[null,null,null,null,1945]
[null,null,null,null,1945]
[null,null,null,null,1945]
[null,null,null,null,1945]
[null,null,null,null,1945]
[null,null,null,null,1945]
[null,null,null,null,1945]
[null,null,null,null,1945]
[null,null,null,null,1945]
[null,null,null,null,1945]
[null,null,null,null,1945]
[null,null,null,null,1945]
[null,null,null,null,1945]
[null,null,null,null,1945]
[null,null,null,null,1945]