{"text_format":"1","workbook":"xlsx","n_sheets":4,"sheets":["MainDisplay","Symbols","Data","1"],"not_rendered":{"charts":11,"images":14,"macros":1,"external_links":0,"defined_names":0,"comments":0,"pivot_tables":0},"unopened":[],"bounds":{"document_bytes":16777216,"sheet_cells":100000,"rows_first":2000,"rows_last":500,"rows_between":2000,"halvings":0,"cell_chars":16384,"cell_head_chars":4096},"cells_cut":0,"cells_raw":0,"read":"whole","date_system":"1900"}

{"sheet":"MainDisplay","index":0,"n_rows":56,"n_cols":34,"rows_kept":56,"cut":false,"hidden":false,"merged":[[31,13,31,16],[13,4,13,12],[19,4,19,12],[32,13,32,33],[31,18,31,19],[31,21,31,22],[31,24,31,25],[31,27,31,28],[31,30,31,31],[26,21,26,22],[26,24,26,25],[29,27,29,28],[28,27,28,28],[26,27,26,28],[24,21,24,22],[24,24,24,25],[28,18,28,19],[23,13,23,16],[25,13,25,16],[27,13,27,16],[23,24,23,25],[13,13,13,16],[15,13,15,16],[16,21,16,22],[16,18,16,19],[18,18,18,19],[13,24,13,25],[15,24,15,25],[25,24,25,25],[27,24,27,25],[16,13,16,16],[14,13,14,16],[29,24,29,25],[17,21,17,22],[19,21,19,22],[18,13,18,16],[17,24,17,25],[19,24,19,25],[21,24,21,25],[26,18,26,19],[3,25,3,27],[4,22,5,24],[4,25,5,27],[3,16,3,18],[3,19,3,21],[4,16,5,18],[4,19,5,21],[27,27,27,28],[17,13,17,16],[19,13,19,16],[21,13,21,16],[22,27,22,28],[11,13,11,16],[18,21,18,22],[18,24,18,25],[24,18,24,19],[3,28,3,30],[16,27,16,28],[16,24,16,25],[10,24,10,26],[9,26,9,28],[10,27,10,29],[9,29,9,31],[10,30,10,32],[3,31,3,33],[4,28,5,30],[4,31,5,33],[3,22,3,24],[55,9,55,10],[55,11,55,12],[11,18,11,19],[13,18,13,19],[15,18,15,19],[17,18,17,19],[19,18,19,19],[21,18,21,19],[23,18,23,19],[25,18,25,19],[27,18,27,19],[29,18,29,19],[51,25,52,27],[50,28,50,30],[11,21,11,22],[13,21,13,22],[3,13,3,15],[4,10,5,12],[4,13,5,15],[50,16,50,18],[3,4,3,6],[4,4,5,6],[3,7,3,9],[4,7,5,9],[3,10,3,12],[50,4,50,6],[51,4,52,6],[50,7,50,9],[51,7,52,9],[50,10,50,12],[51,10,52,12],[25,4,25,12],[32,4,32,12],[35,4,35,12],[38,4,38,12],[41,4,41,12],[44,4,44,12],[47,4,47,12],[8,4,8,12],[51,16,52,18],[50,19,50,21],[51,19,52,21],[51,28,52,30],[50,31,50,33],[51,31,52,33],[9,13,9,14],[9,15,9,16],[10,13,10,14],[10,15,10,16],[50,13,50,15],[51,13,52,15],[50,22,50,24],[51,22,52,24],[50,25,50,27],[13,27,13,28],[29,13,29,16],[15,27,15,28],[17,27,17,28],[19,27,19,28],[21,27,21,28],[23,27,23,28],[25,27,25,28],[16,30,16,31],[9,32,9,33],[8,13,8,33],[10,18,10,20],[9,20,9,22],[10,21,10,23],[9,23,9,25],[9,4,9,12],[11,24,11,25],[12,13,12,16],[17,30,17,31],[19,30,19,31],[21,30,21,31],[11,30,11,31],[13,30,13,31],[30,18,30,19],[30,21,30,22],[12,30,12,31],[12,27,12,28],[12,24,12,25],[12,21,12,22],[12,18,12,19],[21,21,21,22],[23,21,23,22],[25,21,25,22],[27,21,27,22],[14,18,14,19],[14,21,14,22],[14,24,14,25],[14,27,14,28],[14,30,14,31],[24,27,24,28],[24,30,24,31],[11,27,11,28],[22,30,22,31],[18,27,18,28],[18,30,18,31],[20,18,20,19],[20,21,20,22],[20,24,20,25],[20,27,20,28],[20,30,20,31],[22,18,22,19],[1,8,2,29],[1,30,2,33],[26,30,26,31],[28,30,28,31],[28,21,28,22],[28,24,28,25],[15,30,15,31],[30,13,30,16],[29,21,29,22],[23,30,23,31],[25,30,25,31],[27,30,27,31],[29,30,29,31],[15,21,15,22],[30,24,30,25],[30,27,30,28],[30,30,30,31],[28,13,28,16],[26,13,26,16],[24,13,24,16],[22,13,22,16],[20,13,20,16],[22,21,22,22],[22,24,22,25]]}
[null,null,null,null,{"$f":"IF(N32=$N$12,R12,IF(N32=$N$14,R14,IF(N32=$N$16,R16,IF(N32=$N$18,R18,IF(N32=$N$20,R20,IF(N32=$N$22,R22,IF(N32=$N$24,R24,IF(N32=$N$26,R26,IF(N32=$N$28,R28,IF(N32=$N$30,R30))))))))))","v":"GCE"},null,null,null,null,null,null,null,null,null,null,null,null,null,{"$f":"Data!C2","v":"DD"},null,{"$f":"Data!D2","v":"DSX"},{"$f":"Data!E2","v":"SF6"},null,{"$f":"Data!F2","v":"PIL"},{"$f":"Data!G2","v":"CLE"},null,{"$f":"Data!H2","v":"HOE"},{"$f":"Data!I2","v":"RBE"},null,{"$f":"Data!J2","v":"NGE"},{"$f":"Data!K2","v":"TYA"},null,{"$f":"Data!L2","v":"PLE"}]
[null,15,15,null,null,null,null,null,"CQG Correlation Dashboard",null,null,null,null,null,null,null,null,null,null,null,null,null,null,null,null,null,null,null,null,null,{"$f":"RTD(\"cqg.rtd\", ,\"SystemInfo\", \"Linetime\")+Symbols!L36","v":43525.598981481482}]
[null,null,65]
[{"$f":"INDIRECT(\"Data!H\"&$B$2)","v":0},{"$f":"INDIRECT(\"Data!J\"&$B$2)","v":0},{"$f":"INDIRECT(\"Data!K\"&$B$2)","v":0},{"$f":"INDIRECT(\"Data!L\"&$B$2)","v":0},{"$f":"RTD(\"cqg.rtd\", ,\"ContractData\",Symbols!B5, \"LongDescription\",, \"T\")","v":"E-Mini S&P 500, Mar 19"},null,null,{"$f":"RTD(\"cqg.rtd\", ,\"ContractData\",Symbols!B6, \"LongDescription\",, \"T\")","v":"E-mini NASDAQ-100, Mar 19"},null,null,{"$f":"RTD(\"cqg.rtd\", ,\"ContractData\",Symbols!B7, \"LongDescription\",, \"T\")","v":"E-mini MidCap 400, Mar 19"},null,null,{"$f":"RTD(\"cqg.rtd\", ,\"ContractData\",Symbols!B8, \"LongDescription\",, \"T\")","v":"Gold (Globex), Apr 19"},null,null,{"$f":"RTD(\"cqg.rtd\", ,\"ContractData\",Symbols!B9, \"LongDescription\",, \"T\")","v":"Dollar Index (ICE), Mar 19"},null,null,{"$f":"RTD(\"cqg.rtd\", ,\"ContractData\",Symbols!B10, \"LongDescription\",, \"T\")","v":"Euro FX (Globex), Mar 19"},null,null,{"$f":"RTD(\"cqg.rtd\", ,\"ContractData\",Symbols!B11, \"LongDescription\",, \"T\")","v":"Japanese Yen (Globex), Mar 19"},null,null,{"$f":"RTD(\"cqg.rtd\", ,\"ContractData\",Symbols!B12, \"LongDescription\",, \"T\")","v":"Australian Dollar (Globex), Mar 19"},null,null,{"$f":"RTD(\"cqg.rtd\", ,\"ContractData\",Symbols!B13, \"LongDescription\",, \"T\")","v":"British Pound (Globex), Mar 19"},null,null,{"$f":"RTD(\"cqg.rtd\", ,\"ContractData\",Symbols!B14, \"LongDescription\",, \"T\")","v":"Mexican Peso (Globex), Mar 19"}]
[{"$f":"INDIRECT(\"Data!H\"&$B$2+1)","v":0},{"$f":"INDIRECT(\"Data!J\"&$B$2+1)","v":0},{"$f":"INDIRECT(\"Data!K\"&$B$2+1)","v":0},{"$f":"INDIRECT(\"Data!L\"&$B$2+1)","v":0},{"$f":"IF(Symbols!C5=\"B\",RTD(\"cqg.rtd\",,\"ContractData\",Symbols!B5,\"LastTrade\",,\"B\"),TEXT(RTD(\"cqg.rtd\",,\"ContractData\",Symbols!B5,\"LastTrade\",,\"T\"),Symbols!D5))","v":"2801.00"},null,null,{"$f":"IF(Symbols!C6=\"B\",RTD(\"cqg.rtd\",,\"ContractData\",Symbols!B6,\"LastTrade\",,\"B\"),TEXT(RTD(\"cqg.rtd\",,\"ContractData\",Symbols!B6,\"LastTrade\",,\"T\"),Symbols!D6))","v":"7150.75"},null,null,{"$f":"IF(Symbols!C7=\"B\",RTD(\"cqg.rtd\",,\"ContractData\",Symbols!B7,\"LastTrade\",,\"B\"),TEXT(RTD(\"cqg.rtd\",,\"ContractData\",Symbols!B7,\"LastTrade\",,\"T\"),Symbols!D7))","v":"1925.70"},null,null,{"$f":"IF(Symbols!C8=\"B\",RTD(\"cqg.rtd\",,\"ContractData\",Symbols!B8,\"LastTrade\",,\"B\"),TEXT(RTD(\"cqg.rtd\",,\"ContractData\",Symbols!B8,\"LastTrade\",,\"T\"),Symbols!D8))","v":"1294.40"},null,null,{"$f":"IF(Symbols!C9=\"B\",RTD(\"cqg.rtd\",,\"ContractData\",Symbols!B9,\"LastTrade\",,\"B\"),TEXT(RTD(\"cqg.rtd\",,\"ContractData\",Symbols!B9,\"LastTrade\",,\"T\"),Symbols!D9))","v":"96.46"},null,null,{"$f":"IF(Symbols!C10=\"B\",RTD(\"cqg.rtd\",,\"ContractData\",Symbols!B10,\"LastTrade\",,\"B\"),TEXT(RTD(\"cqg.rtd\",,\"ContractData\",Symbols!B10,\"LastTrade\",,\"T\"),Symbols!D10))","v":"1.13725"},null,null,{"$f":"IF(Symbols!C11=\"B\",RTD(\"cqg.rtd\",,\"ContractData\",Symbols!B11,\"LastTrade\",,\"B\"),TEXT(RTD(\"cqg.rtd\",,\"ContractData\",Symbols!B11,\"LastTrade\",,\"T\"),Symbols!D11))","v":".0089390"},null,null,{"$f":"IF(Symbols!C12=\"B\",RTD(\"cqg.rtd\",,\"ContractData\",Symbols!B12,\"LastTrade\",,\"B\"),TEXT(RTD(\"cqg.rtd\",,\"ContractData\",Symbols!B12,\"LastTrade\",,\"T\"),Symbols!D12))","v":".7076"},null,null,{"$f":"IF(Symbols!C13=\"B\",RTD(\"cqg.rtd\",,\"ContractData\",Symbols!B13,\"LastTrade\",,\"B\"),TEXT(RTD(\"cqg.rtd\",,\"ContractData\",Symbols!B13,\"LastTrade\",,\"T\"),Symbols!D13))","v":"1.3183"},null,null,{"$f":"IF(Symbols!C14=\"B\",RTD(\"cqg.rtd\",,\"ContractData\",Symbols!B14,\"LastTrade\",,\"B\"),TEXT(RTD(\"cqg.rtd\",,\"ContractData\",Symbols!B14,\"LastTrade\",,\"T\"),Symbols!D14))","v":".051750"}]
[{"$f":"INDIRECT(\"Data!H\"&$B$2+2)","v":0},{"$f":"INDIRECT(\"Data!J\"&$B$2+2)","v":0},{"$f":"INDIRECT(\"Data!K\"&$B$2+2)","v":0},{"$f":"INDIRECT(\"Data!L\"&$B$2+2)","v":0}]
[{"$f":"INDIRECT(\"Data!H\"&$B$2+3)","v":0},{"$f":"INDIRECT(\"Data!J\"&$B$2+3)","v":0},{"$f":"INDIRECT(\"Data!K\"&$B$2+3)","v":0},{"$f":"INDIRECT(\"Data!L\"&$B$2+3)","v":0},"H:",{"$f":"IF(Symbols!C5=\"B\",RTD(\"cqg.rtd\",,\"ContractData\",Symbols!B5,\"High\",,\"B\"),TEXT(RTD(\"cqg.rtd\",,\"ContractData\",Symbols!B5,\"High\",,\"T\"),Symbols!D5))","v":"2808.25"},{"$f":"IF(Symbols!C5=\"B\",RTD(\"cqg.rtd\",,\"ContractData\",Symbols!B5,\"NetLastQuoteToday\",,\"B\"),IF(RTD(\"cqg.rtd\",,\"ContractData\",Symbols!B5,\"NetLastQuoteToday\",,\"T\")>0,\"+\"&TEXT(RTD(\"cqg.rtd\",,\"ContractData\",Symbols!B5,\"NetLastQuoteToday\",,\"T\"),Symbols!D5),TEXT(RTD(\"cqg.rtd\",,\"ContractData\",Symbols!B5,\"NetLastQuoteToday\",,\"T\"),Symbols!D5)))","v":"+16.25"},"H:",{"$f":"IF(Symbols!C6=\"B\",RTD(\"cqg.rtd\",,\"ContractData\",Symbols!B6,\"High\",,\"B\"),TEXT(RTD(\"cqg.rtd\",,\"ContractData\",Symbols!B6,\"High\",,\"T\"),Symbols!D6))","v":"7164.00"},{"$f":"IF(Symbols!C6=\"B\",RTD(\"cqg.rtd\",,\"ContractData\",Symbols!B6,\"NetLastQuoteToday\",,\"B\"),IF(RTD(\"cqg.rtd\",,\"ContractData\",Symbols!B6,\"NetLastQuoteToday\",,\"T\")>0,\"+\"&TEXT(RTD(\"cqg.rtd\",,\"ContractData\",Symbols!B6,\"NetLastQuoteToday\",,\"T\"),Symbols!D6),TEXT(RTD(\"cqg.rtd\",,\"ContractData\",Symbols!B6,\"NetLastQuoteToday\",,\"T\"),Symbols!D6)))","v":"+48.50"},"H:",{"$f":"IF(Symbols!C7=\"B\",RTD(\"cqg.rtd\",,\"ContractData\",Symbols!B7,\"High\",,\"B\"),TEXT(RTD(\"cqg.rtd\",,\"ContractData\",Symbols!B7,\"High\",,\"T\"),Symbols!D7))","v":"1932.00"},{"$f":"IF(Symbols!C7=\"B\",RTD(\"cqg.rtd\",,\"ContractData\",Symbols!B7,\"NetLastQuoteToday\",,\"B\"),IF(RTD(\"cqg.rtd\",,\"ContractData\",Symbols!B7,\"NetLastQuoteToday\",,\"T\")>0,\"+\"&TEXT(RTD(\"cqg.rtd\",,\"ContractData\",Symbols!B7,\"NetLastQuoteToday\",,\"T\"),Symbols!D7),TEXT(RTD(\"cqg.rtd\",,\"ContractData\",Symbols!B7,\"NetLastQuoteToday\",,\"T\"),Symbols!D7)))","v":"+15.00"},"H:",{"$f":"IF(Symbols!C8=\"B\",RTD(\"cqg.rtd\",,\"ContractData\",Symbols!B8,\"High\",,\"B\"),TEXT(RTD(\"cqg.rtd\",,\"ContractData\",Symbols!B8,\"High\",,\"T\"),Symbols!D8))","v":"1316.50"},{"$f":"IF(Symbols!C8=\"B\",RTD(\"cqg.rtd\",,\"ContractData\",Symbols!B8,\"NetLastQuoteToday\",,\"B\"),IF(RTD(\"cqg.rtd\",,\"ContractData\",Symbols!B8,\"NetLastQuoteToday\",,\"T\")>0,\"+\"&TEXT(RTD(\"cqg.rtd\",,\"ContractData\",Symbols!B8,\"NetLastQuoteToday\",,\"T\"),Symbols!D8),TEXT(RTD(\"cqg.rtd\",,\"ContractData\",Symbols!B8,\"NetLastQuoteToday\",,\"T\"),Symbols!D8)))","v":"-21.70"},"H:",{"$f":"IF(Symbols!C9=\"B\",RTD(\"cqg.rtd\",,\"ContractData\",Symbols!B9,\"High\",,\"B\"),TEXT(RTD(\"cqg.rtd\",,\"ContractData\",Symbols!B9,\"High\",,\"T\"),Symbols!D9))","v":"96.48"},{"$f":"IF(Symbols!C9=\"B\",RTD(\"cqg.rtd\",,\"ContractData\",Symbols!B9,\"NetLastQuoteToday\",,\"B\"),IF(RTD(\"cqg.rtd\",,\"ContractData\",Symbols!B9,\"NetLastQuoteToday\",,\"T\")>0,\"+\"&TEXT(RTD(\"cqg.rtd\",,\"ContractData\",Symbols!B9,\"NetLastQuoteToday\",,\"T\"),Symbols!D9),TEXT(RTD(\"cqg.rtd\",,\"ContractData\",Symbols!B9,\"NetLastQuoteToday\",,\"T\"),Symbols!D9)))","v":"+.42"},"H:",{"$f":"IF(Symbols!C10=\"B\",RTD(\"cqg.rtd\",,\"ContractData\",Symbols!B10,\"High\",,\"B\"),TEXT(RTD(\"cqg.rtd\",,\"ContractData\",Symbols!B10,\"High\",,\"T\"),Symbols!D10))","v":"1.14230"},{"$f":"IF(Symbols!C10=\"B\",RTD(\"cqg.rtd\",,\"ContractData\",Symbols!B10,\"NetLastQuoteToday\",,\"B\"),IF(RTD(\"cqg.rtd\",,\"ContractData\",Symbols!B10,\"NetLastQuoteToday\",,\"T\")>0,\"+\"&TEXT(RTD(\"cqg.rtd\",,\"ContractData\",Symbols!B10,\"NetLastQuoteToday\",,\"T\"),Symbols!D10),TEXT(RTD(\"cqg.rtd\",,\"ContractData\",Symbols!B10,\"NetLastQuoteToday\",,\"T\"),Symbols!D10)))","v":"-.00205"},"H:",{"$f":"IF(Symbols!C8=\"B\",RTD(\"cqg.rtd\",,\"ContractData\",Symbols!B11,\"High\",,\"B\"),TEXT(RTD(\"cqg.rtd\",,\"ContractData\",Symbols!B11,\"High\",,\"T\"),Symbols!D11))","v":".0089920"},{"$f":"IF(Symbols!C11=\"B\",RTD(\"cqg.rtd\",,\"ContractData\",Symbols!B11,\"NetLastQuoteToday\",,\"B\"),IF(RTD(\"cqg.rtd\",,\"ContractData\",Symbols!B11,\"NetLastQuoteToday\",,\"T\")>0,\"+\"&TEXT(RTD(\"cqg.rtd\",,\"ContractData\",Symbols!B11,\"NetLastQuoteToday\",,\"T\"),Symbols!D11),TEXT(RTD(\"cqg.rtd\",,\"ContractData\",Symbols!B11,\"NetLastQuoteToday\",,\"T\"),Symbols!D11)))","v":"-.0000490"},"H:",{"$f":"IF(Symbols!C12=\"B\",RTD(\"cqg.rtd\",,\"ContractData\",Symbols!B12,\"High\",,\"B\"),TEXT(RTD(\"cqg.rtd\",,\"ContractData\",Symbols!B12,\"High\",,\"T\"),Symbols!D12))","v":".7124"},{"$f":"IF(Symbols!C12=\"B\",RTD(\"cqg.rtd\",,\"ContractData\",Symbols!B12,\"NetLastQuoteToday\",,\"B\"),IF(RTD(\"cqg.rtd\",,\"ContractData\",Symbols!B12,\"NetLastQuoteToday\",,\"T\")>0,\"+\"&TEXT(RTD(\"cqg.rtd\",,\"ContractData\",Symbols!B12,\"NetLastQuoteToday\",,\"T\"),Symbols!D12),TEXT(RTD(\"cqg.rtd\",,\"ContractData\",Symbols!B12,\"NetLastQuoteToday\",,\"T\"),Symbols!D12)))","v":"-.0019"},"H:",{"$f":"IF(Symbols!C13=\"B\",RTD(\"cqg.rtd\",,\"ContractData\",Symbols!B13,\"High\",,\"B\"),TEXT(RTD(\"cqg.rtd\",,\"ContractData\",Symbols!B13,\"High\",,\"T\"),Symbols!D13))","v":"1.3297"},{"$f":"IF(Symbols!C13=\"B\",RTD(\"cqg.rtd\",,\"ContractData\",Symbols!B13,\"NetLastQuoteToday\",,\"B\"),IF(RTD(\"cqg.rtd\",,\"ContractData\",Symbols!B13,\"NetLastQuoteToday\",,\"T\")>0,\"+\"&TEXT(RTD(\"cqg.rtd\",,\"ContractData\",Symbols!B13,\"NetLastQuoteToday\",,\"T\"),Symbols!D13),TEXT(RTD(\"cqg.rtd\",,\"ContractData\",Symbols!B13,\"NetLastQuoteToday\",,\"T\"),Symbols!D13)))","v":"-.0095"},"H:",{"$f":"IF(Symbols!C14=\"B\",RTD(\"cqg.rtd\",,\"ContractData\",Symbols!B14,\"High\",,\"B\"),TEXT(RTD(\"cqg.rtd\",,\"ContractData\",Symbols!B14,\"High\",,\"T\"),Symbols!D14))","v":".051840"},{"$f":"IF(Symbols!C14=\"B\",RTD(\"cqg.rtd\",,\"ContractData\",Symbols!B14,\"NetLastQuoteToday\",,\"B\"),IF(RTD(\"cqg.rtd\",,\"ContractData\",Symbols!B14,\"NetLastQuoteToday\",,\"T\")>0,\"+\"&TEXT(RTD(\"cqg.rtd\",,\"ContractData\",Symbols!B14,\"NetLastQuoteToday\",,\"T\"),Symbols!D14),TEXT(RTD(\"cqg.rtd\",,\"ContractData\",Symbols!B14,\"NetLastQuoteToday\",,\"T\"),Symbols!D14)))","v":"+.000020"}]
[{"$f":"INDIRECT(\"Data!H\"&$B$2+4)","v":0},{"$f":"INDIRECT(\"Data!J\"&$B$2+4)","v":0},{"$f":"INDIRECT(\"Data!K\"&$B$2+4)","v":0},{"$f":"INDIRECT(\"Data!L\"&$B$2+4)","v":0},"L:",{"$f":"IF(Symbols!C5=\"B\",RTD(\"cqg.rtd\",,\"ContractData\",Symbols!B5,\"Low\",,\"B\"),TEXT(RTD(\"cqg.rtd\",,\"ContractData\",Symbols!B5,\"Low\",,\"T\"),Symbols!D5))","v":"2783.00"},{"$f":"IFERROR(RTD(\"cqg.rtd\", ,\"ContractData\",Symbols!B5, \"PerCentNetLastQuote\",, \"T\")/100,\"\")","v":5.8353532633090947E-3},"L:",{"$f":"IF(Symbols!C6=\"B\",RTD(\"cqg.rtd\",,\"ContractData\",Symbols!B6,\"Low\",,\"B\"),TEXT(RTD(\"cqg.rtd\",,\"ContractData\",Symbols!B6,\"Low\",,\"T\"),Symbols!D6))","v":"7098.25"},{"$f":"IFERROR(RTD(\"cqg.rtd\", ,\"ContractData\",Symbols!B6, \"PerCentNetLastQuote\",, \"T\")/100,\"\")","v":6.8285814853924678E-3},"L:",{"$f":"IF(Symbols!C7=\"B\",RTD(\"cqg.rtd\",,\"ContractData\",Symbols!B7,\"Low\",,\"B\"),TEXT(RTD(\"cqg.rtd\",,\"ContractData\",Symbols!B7,\"Low\",,\"T\"),Symbols!D7))","v":"1910.30"},{"$f":"IFERROR(RTD(\"cqg.rtd\", ,\"ContractData\",Symbols!B7, \"PerCentNetLastQuote\",, \"T\")/100,\"\")","v":7.8501151350219792E-3},"L:",{"$f":"IF(Symbols!C8=\"B\",RTD(\"cqg.rtd\",,\"ContractData\",Symbols!B8,\"Low\",,\"B\"),TEXT(RTD(\"cqg.rtd\",,\"ContractData\",Symbols!B8,\"Low\",,\"T\"),Symbols!D8))","v":"1293.20"},{"$f":"IFERROR(RTD(\"cqg.rtd\", ,\"ContractData\",Symbols!B8, \"PerCentNetLastQuote\",, \"T\")/100,\"\")","v":-1.6488108806321709E-2},"L:",{"$f":"IF(Symbols!C9=\"B\",RTD(\"cqg.rtd\",,\"ContractData\",Symbols!B9,\"Low\",,\"B\"),TEXT(RTD(\"cqg.rtd\",,\"ContractData\",Symbols!B9,\"Low\",,\"T\"),Symbols!D9))","v":"95.96"},{"$f":"IFERROR(RTD(\"cqg.rtd\", ,\"ContractData\",Symbols!B9, \"PerCentNetLastQuote\",, \"T\")/100,\"\")","v":4.3418052330726868E-3},"L:",{"$f":"IF(Symbols!C10=\"B\",RTD(\"cqg.rtd\",,\"ContractData\",Symbols!B10,\"Low\",,\"B\"),TEXT(RTD(\"cqg.rtd\",,\"ContractData\",Symbols!B10,\"Low\",,\"T\"),Symbols!D10))","v":"1.13670"},{"$f":"IFERROR(RTD(\"cqg.rtd\", ,\"ContractData\",Symbols!B10, \"PerCentNetLastQuote\",, \"T\")/100,\"\")","v":-1.7992715144599992E-3},"L:",{"$f":"IF(Symbols!C11=\"B\",RTD(\"cqg.rtd\",,\"ContractData\",Symbols!B11,\"Low\",,\"B\"),TEXT(RTD(\"cqg.rtd\",,\"ContractData\",Symbols!B11,\"Low\",,\"T\"),Symbols!D11))","v":".0089315"},{"$f":"IFERROR(RTD(\"cqg.rtd\", ,\"ContractData\",Symbols!B11, \"PerCentNetLastQuote\",, \"T\")/100,\"\")","v":-5.4520166898470099E-3},"L:",{"$f":"IF(Symbols!C12=\"B\",RTD(\"cqg.rtd\",,\"ContractData\",Symbols!B12,\"Low\",,\"B\"),TEXT(RTD(\"cqg.rtd\",,\"ContractData\",Symbols!B12,\"Low\",,\"T\"),Symbols!D12))","v":".7071"},{"$f":"IFERROR(RTD(\"cqg.rtd\", ,\"ContractData\",Symbols!B12, \"PerCentNetLastQuote\",, \"T\")/100,\"\")","v":-2.677942212825934E-3},"L:",{"$f":"IF(Symbols!C13=\"B\",RTD(\"cqg.rtd\",,\"ContractData\",Symbols!B13,\"Low\",,\"B\"),TEXT(RTD(\"cqg.rtd\",,\"ContractData\",Symbols!B13,\"Low\",,\"T\"),Symbols!D13))","v":"1.3182"},{"$f":"IFERROR(RTD(\"cqg.rtd\", ,\"ContractData\",Symbols!B13, \"PerCentNetLastQuote\",, \"T\")/100,\"\")","v":-7.1546919716824822E-3},"L:",{"$f":"IF(Symbols!C14=\"B\",RTD(\"cqg.rtd\",,\"ContractData\",Symbols!B14,\"Low\",,\"B\"),TEXT(RTD(\"cqg.rtd\",,\"ContractData\",Symbols!B14,\"Low\",,\"T\"),Symbols!D14))","v":".051590"},{"$f":"IFERROR(RTD(\"cqg.rtd\", ,\"ContractData\",Symbols!B14, \"PerCentNetLastQuote\",, \"T\")/100,\"\")","v":3.8662284941040013E-4}]
[{"$f":"INDIRECT(\"Data!H\"&$B$2+5)","v":0},{"$f":"INDIRECT(\"Data!J\"&$B$2+5)","v":0},{"$f":"INDIRECT(\"Data!K\"&$B$2+5)","v":0},{"$f":"INDIRECT(\"Data!L\"&$B$2+5)","v":0},{"$f":"N32","v":"Gold (Globex), Apr 19"},null,null,null,null,null,null,null,null,"Correlations"]
[{"$f":"INDIRECT(\"Data!H\"&$B$2+6)","v":0},{"$f":"INDIRECT(\"Data!J\"&$B$2+6)","v":0},{"$f":"INDIRECT(\"Data!K\"&$B$2+6)","v":0},{"$f":"INDIRECT(\"Data!L\"&$B$2+6)","v":0},{"$f":"TEXT(S32,\"#.00\")&\" Correlation to the \"&RTD(\"cqg.rtd\", ,\"ContractData\",'1'!C2, \"LongDescription\",, \"T\")","v":".18 Correlation to the DAX Index, Mar 19"},null,null,null,null,null,null,null,null,"Time Frame",null,"Look Back",null,null,null,null,{"$f":"RTD(\"cqg.rtd\", ,\"ContractData\",Data!D2, \"LongDescription\",, \"T\")","v":"Euro STOXX 50, Mar 19"},null,null,{"$f":"RTD(\"cqg.rtd\", ,\"ContractData\",Data!F2, \"LongDescription\",, \"T\")","v":"CAC40, Mar 19"},null,null,{"$f":"RTD(\"cqg.rtd\", ,\"ContractData\",Data!H2, \"LongDescription\",, \"T\")","v":"NY Harbor ULSD, Apr 19"},null,null,{"$f":"RTD(\"cqg.rtd\", ,\"ContractData\",Data!J2, \"LongDescription\",, \"T\")","v":"Natural Gas (Globex), Apr 19"},null,null,{"$f":"RTD(\"cqg.rtd\", ,\"ContractData\",Data!L2, \"LongDescription\",, \"T\")","v":"Platinum (Globex), Apr 19"}]
[{"$f":"INDIRECT(\"Data!H\"&$B$2+7)","v":0},{"$f":"INDIRECT(\"Data!J\"&$B$2+7)","v":0},{"$f":"INDIRECT(\"Data!K\"&$B$2+7)","v":0},{"$f":"INDIRECT(\"Data!L\"&$B$2+7)","v":0},null,null,null,null,null,null,null,null,null,"ADC",null,20,null,null,{"$f":"RTD(\"cqg.rtd\", ,\"ContractData\",Data!C2, \"LongDescription\",, \"T\")","v":"DAX Index, Mar 19"},null,null,{"$f":"RTD(\"cqg.rtd\", ,\"ContractData\",Data!E2, \"LongDescription\",, \"T\")","v":"Swiss Franc (Globex), Mar 19"},null,null,{"$f":"RTD(\"cqg.rtd\", ,\"ContractData\",Data!G2, \"LongDescription\",, \"T\")","v":"Crude Light (Globex), Apr 19"},null,null,{"$f":"RTD(\"cqg.rtd\", ,\"ContractData\",Data!I2, \"LongDescription\",, \"T\")","v":"RBOB Gasoline (Globex), Apr 19"},null,null,{"$f":"RTD(\"cqg.rtd\", ,\"ContractData\",Data!K2, \"LongDescription\",, \"T\")","v":"10yr US Treasury Notes (Globex), Jun 19"}]
[{"$f":"INDIRECT(\"Data!H\"&$B$2+8)","v":0},{"$f":"INDIRECT(\"Data!J\"&$B$2+8)","v":0},{"$f":"INDIRECT(\"Data!K\"&$B$2+8)","v":0},{"$f":"INDIRECT(\"Data!L\"&$B$2+8)","v":0},null,null,null,null,null,null,null,null,null,{"$f":"RTD(\"cqg.rtd\", ,\"ContractData\",Symbols!B5, \"LongDescription\",, \"T\")","v":"E-Mini S&P 500, Mar 19"},null,null,null,{"$f":"Symbols!B5","v":"EP"},{"$f":"Data!C3","v":0.878342262993},null,{"$f":"Data!D3","v":0.94867526666800006},{"$f":"Data!E3","v":-1.3852305236E-2},null,{"$f":"Data!F3","v":0.97468159805499999},{"$f":"Data!G3","v":0.78228118328999996},null,{"$f":"Data!H3","v":0.89607223955100002},{"$f":"Data!I3","v":0.89642534485900005},null,{"$f":"Data!J3","v":0.62179370354200003},{"$f":"Data!K3","v":-0.21002149917099999},null,{"$f":"Data!L3","v":0.71646866899200001}]
[{"$f":"INDIRECT(\"Data!H\"&$B$2+9)","v":0},{"$f":"INDIRECT(\"Data!J\"&$B$2+9)","v":0},{"$f":"INDIRECT(\"Data!K\"&$B$2+9)","v":0},{"$f":"INDIRECT(\"Data!L\"&$B$2+9)","v":0},null,null,null,null,null,null,null,null,null,{"$f":"$N$12","v":"E-Mini S&P 500, Mar 19"},null,null,null,null,{"$f":"$S$12","v":0.878342262993},null,{"$f":"$U$12","v":0.94867526666800006},{"$f":"$V$12","v":-1.3852305236E-2},null,{"$f":"$X$12","v":0.97468159805499999},{"$f":"$Y$12","v":0.78228118328999996},null,{"$f":"$AA$12","v":0.89607223955100002},{"$f":"$AB$12","v":0.89642534485900005},null,{"$f":"$AD$12","v":0.62179370354200003},{"$f":"$AE$12","v":-0.21002149917099999},null,{"$f":"$AG$12","v":0.71646866899200001}]
[{"$f":"INDIRECT(\"Data!H\"&$B$2+10)","v":0},{"$f":"INDIRECT(\"Data!J\"&$B$2+10)","v":0},{"$f":"INDIRECT(\"Data!K\"&$B$2+10)","v":0},{"$f":"INDIRECT(\"Data!L\"&$B$2+10)","v":0},{"$f":"TEXT(U32,\"#.00\")&\" Correlation to the \"&RTD(\"cqg.rtd\",,\"ContractData\",'1'!I2,\"LongDescription\",,\"T\")","v":".18 Correlation to the Euro STOXX 50, Mar 19"},null,null,null,null,null,null,null,null,{"$f":"RTD(\"cqg.rtd\", ,\"ContractData\",Symbols!B6, \"LongDescription\",, \"T\")","v":"E-mini NASDAQ-100, Mar 19"},null,null,null,{"$f":"Symbols!B6","v":"ENQ"},{"$f":"Data!C4","v":0.9032987306450001},null,{"$f":"Data!D4","v":0.9529932199629999},{"$f":"Data!E4","v":-1.5287142306999998E-2},null,{"$f":"Data!F4","v":0.95656653467200004},{"$f":"Data!G4","v":0.66636515626999993},null,{"$f":"Data!H4","v":0.80494307153300004},{"$f":"Data!I4","v":0.80682678413299991},null,{"$f":"Data!J4","v":0.62411638990199991},{"$f":"Data!K4","v":-0.26169995577299998},null,{"$f":"Data!L4","v":0.69634561540799988}]
[{"$f":"INDIRECT(\"Data!H\"&$B$2+11)","v":0},{"$f":"INDIRECT(\"Data!J\"&$B$2+11)","v":0},{"$f":"INDIRECT(\"Data!K\"&$B$2+11)","v":0},{"$f":"INDIRECT(\"Data!L\"&$B$2+11)","v":0},null,null,null,null,null,null,null,null,null,{"$f":"$N$14","v":"E-mini NASDAQ-100, Mar 19"},null,null,null,null,{"$f":"$S$14","v":0.9032987306450001},null,{"$f":"$U$14","v":0.9529932199629999},{"$f":"$V$14","v":-1.5287142306999998E-2},null,{"$f":"$X$14","v":0.95656653467200004},{"$f":"$Y$14","v":0.66636515626999993},null,{"$f":"$AA$14","v":0.80494307153300004},{"$f":"$AB$14","v":0.80682678413299991},null,{"$f":"$AD$14","v":0.62411638990199991},{"$f":"$AE$14","v":-0.26169995577299998},null,{"$f":"$AG$14","v":0.69634561540799988}]
[{"$f":"INDIRECT(\"Data!H\"&$B$2+12)","v":0},{"$f":"INDIRECT(\"Data!J\"&$B$2+12)","v":0},{"$f":"INDIRECT(\"Data!K\"&$B$2+12)","v":0},{"$f":"INDIRECT(\"Data!L\"&$B$2+12)","v":0},null,null,null,null,null,null,null,null,null,{"$f":"RTD(\"cqg.rtd\", ,\"ContractData\",Symbols!B7, \"LongDescription\",, \"T\")","v":"E-mini MidCap 400, Mar 19"},null,null,null,{"$f":"Symbols!B7","v":"EMD"},{"$f":"Data!C5","v":0.78415906689299997},null,{"$f":"Data!D5","v":0.8865062984169999},{"$f":"Data!E5","v":-0.12156784005100001},null,{"$f":"Data!F5","v":0.92683989004},{"$f":"Data!G5","v":0.74063436786199999},null,{"$f":"Data!H5","v":0.90015831674699998},{"$f":"Data!I5","v":0.90050977229500007},null,{"$f":"Data!J5","v":0.48894968535799999},{"$f":"Data!K5","v":-0.101706245018},null,{"$f":"Data!L5","v":0.58231492322199996}]
[{"$f":"INDIRECT(\"Data!H\"&$B$2+13)","v":0},{"$f":"INDIRECT(\"Data!J\"&$B$2+13)","v":0},{"$f":"INDIRECT(\"Data!K\"&$B$2+13)","v":0},{"$f":"INDIRECT(\"Data!L\"&$B$2+13)","v":0},null,null,null,null,null,null,null,null,null,{"$f":"$N$16","v":"E-mini MidCap 400, Mar 19"},null,null,null,null,{"$f":"$S$16","v":0.78415906689299997},null,{"$f":"$U$16","v":0.8865062984169999},{"$f":"$V$16","v":-0.12156784005100001},null,{"$f":"$X$16","v":0.92683989004},{"$f":"$Y$16","v":0.74063436786199999},null,{"$f":"$AA$16","v":0.90015831674699998},{"$f":"$AB$16","v":0.90050977229500007},null,{"$f":"$AD$16","v":0.48894968535799999},{"$f":"$AE$16","v":-0.101706245018},null,{"$f":"$AG$16","v":0.58231492322199996}]
[{"$f":"INDIRECT(\"Data!H\"&$B$2+14)","v":0},{"$f":"INDIRECT(\"Data!J\"&$B$2+14)","v":0},{"$f":"INDIRECT(\"Data!K\"&$B$2+14)","v":0},{"$f":"INDIRECT(\"Data!L\"&$B$2+14)","v":0},null,null,null,null,null,null,null,null,null,{"$f":"RTD(\"cqg.rtd\", ,\"ContractData\",Symbols!B8, \"LongDescription\",, \"T\")","v":"Gold (Globex), Apr 19"},null,null,null,{"$f":"Symbols!B8","v":"GCE"},{"$f":"Data!C6","v":0.18262485187900002},null,{"$f":"Data!D6","v":0.18323424877699998},{"$f":"Data!E6","v":0.190685559404},null,{"$f":"Data!F6","v":0.25510390122800003},{"$f":"Data!G6","v":0.510645720129},null,{"$f":"Data!H6","v":0.40409787271600001},{"$f":"Data!I6","v":0.45423863047700003},null,{"$f":"Data!J6","v":-4.9616680892999997E-2},{"$f":"Data!K6","v":0.54439308578800005},null,{"$f":"Data!L6","v":0.17243281246199998}]
[{"$f":"INDIRECT(\"Data!H\"&$B$2+15)","v":0},{"$f":"INDIRECT(\"Data!J\"&$B$2+15)","v":0},{"$f":"INDIRECT(\"Data!K\"&$B$2+15)","v":0},{"$f":"INDIRECT(\"Data!L\"&$B$2+15)","v":0},null,null,null,null,null,null,null,null,null,{"$f":"$N$18","v":"Gold (Globex), Apr 19"},null,null,null,null,{"$f":"$S$18","v":0.18262485187900002},null,{"$f":"$U$18","v":0.18323424877699998},{"$f":"$V$18","v":0.190685559404},null,{"$f":"$X$18","v":0.25510390122800003},{"$f":"$Y$18","v":0.510645720129},null,{"$f":"$AA$18","v":0.40409787271600001},{"$f":"$AB$18","v":0.45423863047700003},null,{"$f":"$AD$18","v":-4.9616680892999997E-2},{"$f":"$AE$18","v":0.54439308578800005},null,{"$f":"$AG$18","v":0.17243281246199998}]
[{"$f":"INDIRECT(\"Data!H\"&$B$2+16)","v":0},{"$f":"INDIRECT(\"Data!J\"&$B$2+16)","v":0},{"$f":"INDIRECT(\"Data!K\"&$B$2+16)","v":0},{"$f":"INDIRECT(\"Data!L\"&$B$2+16)","v":0},{"$f":"TEXT(V32,\"#.00\")&\" Correlation to the \"&RTD(\"cqg.rtd\",,\"ContractData\",'1'!O2,\"LongDescription\",,\"T\")","v":".19 Correlation to the Swiss Franc (Globex), Mar 19"},null,null,null,null,null,null,null,null,{"$f":"RTD(\"cqg.rtd\", ,\"ContractData\",Symbols!B9, \"LongDescription\",, \"T\")","v":"Dollar Index (ICE), Mar 19"},null,null,null,{"$f":"Symbols!B9","v":"DXE"},{"$f":"Data!C7","v":-0.34225214099500001},null,{"$f":"Data!D7","v":-0.138142829893},{"$f":"Data!E7","v":-0.83244604370600006},null,{"$f":"Data!F7","v":-0.11325049432000001},{"$f":"Data!G7","v":-0.17159157782099999},null,{"$f":"Data!H7","v":7.5166608681000002E-2},{"$f":"Data!I7","v":3.2112925362E-2},null,{"$f":"Data!J7","v":-0.42395631154599994},{"$f":"Data!K7","v":0.115920543195},null,{"$f":"Data!L7","v":-0.56912375170999996}]
[{"$f":"INDIRECT(\"Data!H\"&$B$2+17)","v":0},{"$f":"INDIRECT(\"Data!J\"&$B$2+17)","v":0},{"$f":"INDIRECT(\"Data!K\"&$B$2+17)","v":0},{"$f":"INDIRECT(\"Data!L\"&$B$2+17)","v":0},null,null,null,null,null,null,null,null,null,{"$f":"$N$20","v":"Dollar Index (ICE), Mar 19"},null,null,null,null,{"$f":"$S$20","v":-0.34225214099500001},null,{"$f":"$U$20","v":-0.138142829893},{"$f":"$V$20","v":-0.83244604370600006},null,{"$f":"$X$20","v":-0.11325049432000001},{"$f":"$Y$20","v":-0.17159157782099999},null,{"$f":"$AA$20","v":7.5166608681000002E-2},{"$f":"$AB$20","v":3.2112925362E-2},null,{"$f":"$AD$20","v":-0.42395631154599994},{"$f":"$AE$20","v":0.115920543195},null,{"$f":"$AG$20","v":-0.56912375170999996}]
[{"$f":"INDIRECT(\"Data!H\"&$B$2+18)","v":0},{"$f":"INDIRECT(\"Data!J\"&$B$2+18)","v":0},{"$f":"INDIRECT(\"Data!K\"&$B$2+18)","v":0},{"$f":"INDIRECT(\"Data!L\"&$B$2+18)","v":0},null,null,null,null,null,null,null,null,null,{"$f":"RTD(\"cqg.rtd\", ,\"ContractData\",Symbols!B10, \"LongDescription\",, \"T\")","v":"Euro FX (Globex), Mar 19"},null,null,null,{"$f":"Symbols!B10","v":"EU6"},{"$f":"Data!C8","v":0.158191003719},null,{"$f":"Data!D8","v":-7.6219978282999992E-2},{"$f":"Data!E8","v":0.85373912871800006},null,{"$f":"Data!F8","v":-0.116584918392},{"$f":"Data!G8","v":5.7499761097000002E-2},null,{"$f":"Data!H8","v":-0.19762966675800001},{"$f":"Data!I8","v":-0.158417027175},null,{"$f":"Data!J8","v":0.36406521755400001},{"$f":"Data!K8","v":-0.18885188225899999},null,{"$f":"Data!L8","v":0.45908188344899997}]
[{"$f":"INDIRECT(\"Data!H\"&$B$2+19)","v":0},{"$f":"INDIRECT(\"Data!J\"&$B$2+19)","v":0},{"$f":"INDIRECT(\"Data!K\"&$B$2+19)","v":0},{"$f":"INDIRECT(\"Data!L\"&$B$2+19)","v":0},null,null,null,null,null,null,null,null,null,{"$f":"$N$22","v":"Euro FX (Globex), Mar 19"},null,null,null,null,{"$f":"$S$22","v":0.158191003719},null,{"$f":"$U$22","v":-7.6219978282999992E-2},{"$f":"$V$22","v":0.85373912871800006},null,{"$f":"$X$22","v":-0.116584918392},{"$f":"$Y$22","v":5.7499761097000002E-2},null,{"$f":"$AA$22","v":-0.19762966675800001},{"$f":"$AB$22","v":-0.158417027175},null,{"$f":"$AD$22","v":0.36406521755400001},{"$f":"$AE$22","v":-0.18885188225899999},null,{"$f":"$AG$22","v":0.45908188344899997}]
[{"$f":"INDIRECT(\"Data!H\"&$B$2+20)","v":0},{"$f":"INDIRECT(\"Data!J\"&$B$2+20)","v":0},{"$f":"INDIRECT(\"Data!K\"&$B$2+20)","v":0},{"$f":"INDIRECT(\"Data!L\"&$B$2+20)","v":0},null,null,null,null,null,null,null,null,null,{"$f":"RTD(\"cqg.rtd\", ,\"ContractData\",Symbols!B11, \"LongDescription\",, \"T\")","v":"Japanese Yen (Globex), Mar 19"},null,null,null,{"$f":"Symbols!B11","v":"JY6"},{"$f":"Data!C9","v":-0.70561544697900003},null,{"$f":"Data!D9","v":-0.83443754252500002},{"$f":"Data!E9","v":0.33872481992799996},null,{"$f":"Data!F9","v":-0.83805635224899999},{"$f":"Data!G9","v":-0.60019407651900003},null,{"$f":"Data!H9","v":-0.66538035638100002},{"$f":"Data!I9","v":-0.65289408092800005},null,{"$f":"Data!J9","v":-0.69548689683000009},{"$f":"Data!K9","v":0.53157919936600007},null,{"$f":"Data!L9","v":-0.63100187197900004}]
[{"$f":"INDIRECT(\"Data!H\"&$B$2+21)","v":0},{"$f":"INDIRECT(\"Data!J\"&$B$2+21)","v":0},{"$f":"INDIRECT(\"Data!K\"&$B$2+21)","v":0},{"$f":"INDIRECT(\"Data!L\"&$B$2+21)","v":0},null,null,null,null,null,null,null,null,null,{"$f":"$N$24","v":"Japanese Yen (Globex), Mar 19"},null,null,null,null,{"$f":"$S$24","v":-0.70561544697900003},null,{"$f":"$U$24","v":-0.83443754252500002},{"$f":"$V$24","v":0.33872481992799996},null,{"$f":"$X$24","v":-0.83805635224899999},{"$f":"$Y$24","v":-0.60019407651900003},null,{"$f":"$AA$24","v":-0.66538035638100002},{"$f":"$AB$24","v":-0.65289408092800005},null,{"$f":"$AD$24","v":-0.69548689683000009},{"$f":"$AE$24","v":0.53157919936600007},null,{"$f":"$AG$24","v":-0.63100187197900004}]
[{"$f":"INDIRECT(\"Data!H\"&$B$2+22)","v":0},{"$f":"INDIRECT(\"Data!J\"&$B$2+22)","v":0},{"$f":"INDIRECT(\"Data!K\"&$B$2+22)","v":0},{"$f":"INDIRECT(\"Data!L\"&$B$2+22)","v":0},{"$f":"TEXT(X32,\"#.00\")&\" Correlation to the \"&RTD(\"cqg.rtd\",,\"ContractData\",'1'!U2,\"LongDescription\",,\"T\")","v":".26 Correlation to the CAC40, Mar 19"},null,null,null,null,null,null,null,null,{"$f":"RTD(\"cqg.rtd\", ,\"ContractData\",Symbols!B12, \"LongDescription\",, \"T\")","v":"Australian Dollar (Globex), Mar 19"},null,null,null,{"$f":"Symbols!B12","v":"DA6"},{"$f":"Data!C10","v":0.153718440984},null,{"$f":"Data!D10","v":-4.4221751862999994E-2},{"$f":"Data!E10","v":0.60477392537800001},null,{"$f":"Data!F10","v":-4.7170574807000001E-2},{"$f":"Data!G10","v":0.20327669551799998},null,{"$f":"Data!H10","v":3.5382495409999998E-3},{"$f":"Data!I10","v":3.514539899E-2},null,{"$f":"Data!J10","v":0.106627924958},{"$f":"Data!K10","v":0.119404524218},null,{"$f":"Data!L10","v":0.25432617877500002}]
[{"$f":"INDIRECT(\"Data!H\"&$B$2+23)","v":0},{"$f":"INDIRECT(\"Data!J\"&$B$2+23)","v":0},{"$f":"INDIRECT(\"Data!K\"&$B$2+23)","v":0},{"$f":"INDIRECT(\"Data!L\"&$B$2+23)","v":0},null,null,null,null,null,null,null,null,null,{"$f":"$N$26","v":"Australian Dollar (Globex), Mar 19"},null,null,null,null,{"$f":"$S$26","v":0.153718440984},null,{"$f":"$U$26","v":-4.4221751862999994E-2},{"$f":"$V$26","v":0.60477392537800001},null,{"$f":"$X$26","v":-4.7170574807000001E-2},{"$f":"$Y$26","v":0.20327669551799998},null,{"$f":"$AA$26","v":3.5382495409999998E-3},{"$f":"$AB$26","v":3.514539899E-2},null,{"$f":"$AD$26","v":0.106627924958},{"$f":"$AE$26","v":0.119404524218},null,{"$f":"$AG$26","v":0.25432617877500002}]
[{"$f":"INDIRECT(\"Data!H\"&$B$2+24)","v":0},{"$f":"INDIRECT(\"Data!J\"&$B$2+24)","v":0},{"$f":"INDIRECT(\"Data!K\"&$B$2+24)","v":0},{"$f":"INDIRECT(\"Data!L\"&$B$2+24)","v":0},null,null,null,null,null,null,null,null,null,{"$f":"RTD(\"cqg.rtd\", ,\"ContractData\",Symbols!B13, \"LongDescription\",, \"T\")","v":"British Pound (Globex), Mar 19"},null,null,null,{"$f":"Symbols!B13","v":"BP6"},{"$f":"Data!C11","v":0.73018571886100003},null,{"$f":"Data!D11","v":0.681829709851},{"$f":"Data!E11","v":0.52290819141099998},null,{"$f":"Data!F11","v":0.67488455947999992},{"$f":"Data!G11","v":0.58721875462399997},null,{"$f":"Data!H11","v":0.50261428896899996},{"$f":"Data!I11","v":0.53875454089399999},null,{"$f":"Data!J11","v":0.81675774553799996},{"$f":"Data!K11","v":-0.21928938673099999},null,{"$f":"Data!L11","v":0.94570961609899995}]
[{"$f":"INDIRECT(\"Data!H\"&$B$2+25)","v":0},{"$f":"INDIRECT(\"Data!J\"&$B$2+25)","v":0},{"$f":"INDIRECT(\"Data!K\"&$B$2+25)","v":0},{"$f":"INDIRECT(\"Data!L\"&$B$2+25)","v":0},null,null,null,null,null,null,null,null,null,{"$f":"$N$28","v":"British Pound (Globex), Mar 19"},null,null,null,null,{"$f":"$S$28","v":0.73018571886100003},null,{"$f":"$U$28","v":0.681829709851},{"$f":"$V$28","v":0.52290819141099998},null,{"$f":"$X$28","v":0.67488455947999992},{"$f":"$Y$28","v":0.58721875462399997},null,{"$f":"$AA$28","v":0.50261428896899996},{"$f":"$AB$28","v":0.53875454089399999},null,{"$f":"$AD$28","v":0.81675774553799996},{"$f":"$AE$28","v":-0.21928938673099999},null,{"$f":"$AG$28","v":0.94570961609899995}]
[{"$f":"INDIRECT(\"Data!H\"&$B$2+26)","v":0},{"$f":"INDIRECT(\"Data!J\"&$B$2+26)","v":0},{"$f":"INDIRECT(\"Data!K\"&$B$2+26)","v":0},{"$f":"INDIRECT(\"Data!L\"&$B$2+26)","v":0},null,null,null,null,null,null,null,null,null,{"$f":"RTD(\"cqg.rtd\", ,\"ContractData\",Symbols!B14, \"LongDescription\",, \"T\")","v":"Mexican Peso (Globex), Mar 19"},null,null,null,{"$f":"Symbols!B14","v":"MX6"},{"$f":"Data!C12","v":0.16729041177500001},null,{"$f":"Data!D12","v":1.1394145944000001E-2},{"$f":"Data!E12","v":0.71128676735599994},null,{"$f":"Data!F12","v":3.4392648572000001E-2},{"$f":"Data!G12","v":8.2000078153999997E-2},null,{"$f":"Data!H12","v":-6.6654303282000005E-2},{"$f":"Data!I12","v":1.5656642338000001E-2},null,{"$f":"Data!J12","v":0.21686614619099998},{"$f":"Data!K12","v":0.30383987678000002},null,{"$f":"Data!L12","v":0.40169857902899997}]
[{"$f":"INDIRECT(\"Data!H\"&$B$2+27)","v":0},{"$f":"INDIRECT(\"Data!J\"&$B$2+27)","v":0},{"$f":"INDIRECT(\"Data!K\"&$B$2+27)","v":0},{"$f":"INDIRECT(\"Data!L\"&$B$2+27)","v":0},null,null,null,null,null,null,null,null,null,{"$f":"$N$30","v":"Mexican Peso (Globex), Mar 19"},null,null,null,null,{"$f":"$S$30","v":0.16729041177500001},null,{"$f":"$U$30","v":1.1394145944000001E-2},{"$f":"$V$30","v":0.71128676735599994},null,{"$f":"$X$30","v":3.4392648572000001E-2},{"$f":"$Y$30","v":8.2000078153999997E-2},null,{"$f":"$AA$30","v":-6.6654303282000005E-2},{"$f":"$AB$30","v":1.5656642338000001E-2},null,{"$f":"$AD$30","v":0.21686614619099998},{"$f":"$AE$30","v":0.30383987678000002},null,{"$f":"$AG$30","v":0.40169857902899997}]
[{"$f":"INDIRECT(\"Data!H\"&$B$2+28)","v":0},{"$f":"INDIRECT(\"Data!J\"&$B$2+28)","v":0},{"$f":"INDIRECT(\"Data!K\"&$B$2+28)","v":0},{"$f":"INDIRECT(\"Data!L\"&$B$2+28)","v":0},null,null,null,null,null,null,null,null,null,{"$f":"$N$18","v":"Gold (Globex), Apr 19"},null,null,null,null,{"$f":"$S$18","v":0.18262485187900002},null,{"$f":"$U$18","v":0.18323424877699998},{"$f":"$V$18","v":0.190685559404},null,{"$f":"$X$18","v":0.25510390122800003},{"$f":"$Y$18","v":0.510645720129},null,{"$f":"$AA$18","v":0.40409787271600001},{"$f":"$AB$18","v":0.45423863047700003},null,{"$f":"$AD$18","v":-4.9616680892999997E-2},{"$f":"$AE$18","v":0.54439308578800005},null,{"$f":"$AG$18","v":0.17243281246199998}]
[{"$f":"INDIRECT(\"Data!H\"&$B$2+29)","v":0},{"$f":"INDIRECT(\"Data!J\"&$B$2+29)","v":0},{"$f":"INDIRECT(\"Data!K\"&$B$2+29)","v":0},{"$f":"INDIRECT(\"Data!L\"&$B$2+29)","v":0},{"$f":"TEXT(Y32,\"#.00\")&\" Correlation to the \"&RTD(\"cqg.rtd\",,\"ContractData\",'1'!AA2,\"LongDescription\",,\"T\")","v":".51 Correlation to the Crude Light (Globex), Apr 19"},null,null,null,null,null,null,null,null,{"$f":"\"Correlations relative to the  \"&N32","v":"Correlations relative to the  Gold (Globex), Apr 19"}]
[{"$f":"INDIRECT(\"Data!H\"&$B$2+30)","v":0},{"$f":"INDIRECT(\"Data!J\"&$B$2+30)","v":0},{"$f":"INDIRECT(\"Data!K\"&$B$2+30)","v":0},{"$f":"INDIRECT(\"Data!L\"&$B$2+30)","v":0}]
[{"$f":"INDIRECT(\"Data!H\"&$B$2+31)","v":0},{"$f":"INDIRECT(\"Data!J\"&$B$2+31)","v":0},{"$f":"INDIRECT(\"Data!K\"&$B$2+31)","v":0},{"$f":"INDIRECT(\"Data!L\"&$B$2+31)","v":0}]
[{"$f":"INDIRECT(\"Data!H\"&$B$2+32)","v":0},{"$f":"INDIRECT(\"Data!J\"&$B$2+32)","v":0},{"$f":"INDIRECT(\"Data!K\"&$B$2+32)","v":0},{"$f":"INDIRECT(\"Data!L\"&$B$2+32)","v":0},{"$f":"TEXT(AA32,\"#.00\")&\" Correlation to the \"&RTD(\"cqg.rtd\",,\"ContractData\",'1'!AG2,\"LongDescription\",,\"T\")","v":".40 Correlation to the NY Harbor ULSD, Apr 19"}]
[{"$f":"INDIRECT(\"Data!H\"&$B$2+33)","v":0},{"$f":"INDIRECT(\"Data!J\"&$B$2+33)","v":0},{"$f":"INDIRECT(\"Data!K\"&$B$2+33)","v":0},{"$f":"INDIRECT(\"Data!L\"&$B$2+33)","v":0}]
[{"$f":"INDIRECT(\"Data!H\"&$B$2+34)","v":0},{"$f":"INDIRECT(\"Data!J\"&$B$2+34)","v":0},{"$f":"INDIRECT(\"Data!K\"&$B$2+34)","v":0},{"$f":"INDIRECT(\"Data!L\"&$B$2+34)","v":0}]
[{"$f":"INDIRECT(\"Data!H\"&$B$2+35)","v":0},{"$f":"INDIRECT(\"Data!J\"&$B$2+35)","v":0},{"$f":"INDIRECT(\"Data!K\"&$B$2+35)","v":0},{"$f":"INDIRECT(\"Data!L\"&$B$2+35)","v":0},{"$f":"TEXT(AB32,\"#.00\")&\" Correlation to the \"&RTD(\"cqg.rtd\",,\"ContractData\",'1'!AM2,\"LongDescription\",,\"T\")","v":".45 Correlation to the RBOB Gasoline (Globex), Apr 19"}]
[{"$f":"INDIRECT(\"Data!H\"&$B$2+36)","v":0},{"$f":"INDIRECT(\"Data!J\"&$B$2+36)","v":0},{"$f":"INDIRECT(\"Data!K\"&$B$2+36)","v":0},{"$f":"INDIRECT(\"Data!L\"&$B$2+36)","v":0}]
[{"$f":"INDIRECT(\"Data!H\"&$B$2+35)","v":0},{"$f":"INDIRECT(\"Data!J\"&$B$2+35)","v":0},{"$f":"INDIRECT(\"Data!K\"&$B$2+35)","v":0},{"$f":"INDIRECT(\"Data!L\"&$B$2+35)","v":0}]
[{"$f":"INDIRECT(\"Data!H\"&$B$2+38)","v":0},{"$f":"INDIRECT(\"Data!J\"&$B$2+38)","v":0},{"$f":"INDIRECT(\"Data!K\"&$B$2+38)","v":0},{"$f":"INDIRECT(\"Data!L\"&$B$2+38)","v":0},{"$f":"TEXT(AD32,\"#.00\")&\" Correlation to the \"&RTD(\"cqg.rtd\",,\"ContractData\",'1'!AS2,\"LongDescription\",,\"T\")","v":"-.05 Correlation to the Natural Gas (Globex), Apr 19"}]
[{"$f":"INDIRECT(\"Data!H\"&$B$2+39)","v":0},{"$f":"INDIRECT(\"Data!J\"&$B$2+39)","v":0},{"$f":"INDIRECT(\"Data!K\"&$B$2+39)","v":0},{"$f":"INDIRECT(\"Data!L\"&$B$2+39)","v":0}]
[{"$f":"INDIRECT(\"Data!H\"&$B$2+40)","v":0},{"$f":"INDIRECT(\"Data!J\"&$B$2+40)","v":0},{"$f":"INDIRECT(\"Data!K\"&$B$2+40)","v":0},{"$f":"INDIRECT(\"Data!L\"&$B$2+40)","v":0}]
[{"$f":"INDIRECT(\"Data!H\"&$B$2+41)","v":0},{"$f":"INDIRECT(\"Data!J\"&$B$2+41)","v":0},{"$f":"INDIRECT(\"Data!K\"&$B$2+41)","v":0},{"$f":"INDIRECT(\"Data!L\"&$B$2+41)","v":0},{"$f":"TEXT(AE32,\"#.00\")&\" Correlation to the \"&RTD(\"cqg.rtd\",,\"ContractData\",'1'!AY2,\"LongDescription\",,\"T\")","v":".54 Correlation to the 10yr US Treasury Notes (Globex), Jun 19"}]
[{"$f":"INDIRECT(\"Data!H\"&$B$2+42)","v":0},{"$f":"INDIRECT(\"Data!J\"&$B$2+42)","v":0},{"$f":"INDIRECT(\"Data!K\"&$B$2+42)","v":0},{"$f":"INDIRECT(\"Data!L\"&$B$2+42)","v":0}]
[{"$f":"INDIRECT(\"Data!H\"&$B$2+43)","v":0},{"$f":"INDIRECT(\"Data!J\"&$B$2+43)","v":0},{"$f":"INDIRECT(\"Data!K\"&$B$2+43)","v":0},{"$f":"INDIRECT(\"Data!L\"&$B$2+43)","v":0}]
[null,null,null,null,{"$f":"TEXT(AG32,\"#.00\")&\" Correlation to the \"&RTD(\"cqg.rtd\",,\"ContractData\",'1'!BE2,\"LongDescription\",,\"T\")","v":".17 Correlation to the Platinum (Globex), Apr 19"}]
[]
[]
[{"$f":"INDIRECT(\"Data!H\"&$B$2+47)","v":0},{"$f":"INDIRECT(\"Data!J\"&$B$2+47)","v":0},{"$f":"INDIRECT(\"Data!K\"&$B$2+47)","v":0},{"$f":"INDIRECT(\"Data!L\"&$B$2+47)","v":0},{"$f":"RTD(\"cqg.rtd\", ,\"ContractData\",Symbols!D3, \"LongDescription\",, \"T\")","v":"DAX Index, Mar 19"},null,null,{"$f":"RTD(\"cqg.rtd\", ,\"ContractData\",Symbols!E3, \"LongDescription\",, \"T\")","v":"Euro STOXX 50, Mar 19"},null,null,{"$f":"RTD(\"cqg.rtd\", ,\"ContractData\",Symbols!F3, \"LongDescription\",, \"T\")","v":"Swiss Franc (Globex), Mar 19"},null,null,{"$f":"RTD(\"cqg.rtd\", ,\"ContractData\",Symbols!G3, \"LongDescription\",, \"T\")","v":"CAC40, Mar 19"},null,null,{"$f":"RTD(\"cqg.rtd\", ,\"ContractData\",Symbols!H3, \"LongDescription\",, \"T\")","v":"Crude Light (Globex), Apr 19"},null,null,{"$f":"RTD(\"cqg.rtd\", ,\"ContractData\",Symbols!I3, \"LongDescription\",, \"T\")","v":"NY Harbor ULSD, Apr 19"},null,null,{"$f":"RTD(\"cqg.rtd\", ,\"ContractData\",Symbols!J3, \"LongDescription\",, \"T\")","v":"RBOB Gasoline (Globex), Apr 19"},null,null,{"$f":"RTD(\"cqg.rtd\", ,\"ContractData\",Symbols!K3, \"LongDescription\",, \"T\")","v":"Natural Gas (Globex), Apr 19"},null,null,{"$f":"RTD(\"cqg.rtd\", ,\"ContractData\",Symbols!L3, \"LongDescription\",, \"T\")","v":"10yr US Treasury Notes (Globex), Jun 19"},null,null,{"$f":"RTD(\"cqg.rtd\", ,\"ContractData\",Symbols!M3, \"LongDescription\",, \"T\")","v":"Platinum (Globex), Apr 19"}]
[{"$f":"INDIRECT(\"Data!H\"&$B$2+48)","v":0},{"$f":"INDIRECT(\"Data!J\"&$B$2+48)","v":0},{"$f":"INDIRECT(\"Data!K\"&$B$2+48)","v":0},{"$f":"INDIRECT(\"Data!L\"&$B$2+48)","v":0},{"$f":"IF(Symbols!D4=\"B\",RTD(\"cqg.rtd\",,\"ContractData\",Symbols!D3,\"LastTrade\",,\"B\"),TEXT(RTD(\"cqg.rtd\",,\"ContractData\",Symbols!D3,\"LastTrade\",,\"T\"),Symbols!D2))","v":"11622.00"},null,null,{"$f":"IF(Symbols!E4=\"B\",RTD(\"cqg.rtd\",,\"ContractData\",Symbols!E3,\"LastTrade\",,\"B\"),TEXT(RTD(\"cqg.rtd\",,\"ContractData\",Symbols!E3,\"LastTrade\",,\"T\"),Symbols!E2))","v":"3317"},null,null,{"$f":"IF(Symbols!F4=\"B\",RTD(\"cqg.rtd\",,\"ContractData\",Symbols!F3,\"LastTrade\",,\"B\"),TEXT(RTD(\"cqg.rtd\",,\"ContractData\",Symbols!F3,\"LastTrade\",,\"T\"),Symbols!F2))","v":"1.0017"},null,null,{"$f":"IF(Symbols!G4=\"B\",RTD(\"cqg.rtd\",,\"ContractData\",Symbols!G3,\"LastTrade\",,\"B\"),TEXT(RTD(\"cqg.rtd\",,\"ContractData\",Symbols!G3,\"LastTrade\",,\"T\"),Symbols!G2))","v":"5271.50"},null,null,{"$f":"IF(Symbols!H4=\"B\",RTD(\"cqg.rtd\",,\"ContractData\",Symbols!H3,\"LastTrade\",,\"B\"),TEXT(RTD(\"cqg.rtd\",,\"ContractData\",Symbols!H3,\"LastTrade\",,\"T\"),Symbols!H2))","v":"55.74"},null,null,{"$f":"IF(Symbols!I4=\"B\",RTD(\"cqg.rtd\",,\"ContractData\",Symbols!I3,\"LastTrade\",,\"B\"),TEXT(RTD(\"cqg.rtd\",,\"ContractData\",Symbols!I3,\"LastTrade\",,\"T\"),Symbols!I2))","v":"1.9998"},null,null,{"$f":"IF(Symbols!J4=\"B\",RTD(\"cqg.rtd\",,\"ContractData\",Symbols!J3,\"LastTrade\",,\"B\"),TEXT(RTD(\"cqg.rtd\",,\"ContractData\",Symbols!J3,\"LastTrade\",,\"T\"),Symbols!J2))","v":"1.7263"},null,null,{"$f":"IF(Symbols!K4=\"B\",RTD(\"cqg.rtd\",,\"ContractData\",Symbols!K3,\"LastTrade\",,\"B\"),TEXT(RTD(\"cqg.rtd\",,\"ContractData\",Symbols!K3,\"LastTrade\",,\"T\"),Symbols!K2))","v":"2.8510"},null,null,{"$f":"IF(Symbols!L4=\"B\",RTD(\"cqg.rtd\",,\"ContractData\",Symbols!L3,\"LastTrade\",,\"B\"),TEXT(RTD(\"cqg.rtd\",,\"ContractData\",Symbols!L3,\"LastTrade\",,\"T\"),Symbols!L2))","v":"121195"},null,null,{"$f":"IF(Symbols!M4=\"B\",RTD(\"cqg.rtd\",,\"ContractData\",Symbols!M3,\"LastTrade\",,\"B\"),TEXT(RTD(\"cqg.rtd\",,\"ContractData\",Symbols!M3,\"LastTrade\",,\"T\"),Symbols!M2))","v":"860.50"}]
[{"$f":"INDIRECT(\"Data!H\"&$B$2+49)","v":0},{"$f":"INDIRECT(\"Data!J\"&$B$2+49)","v":0},{"$f":"INDIRECT(\"Data!K\"&$B$2+49)","v":0},{"$f":"INDIRECT(\"Data!L\"&$B$2+49)","v":0}]
[null,null,null,null,"H:",{"$f":"IF(Symbols!D4=\"B\",RTD(\"cqg.rtd\",,\"ContractData\",Symbols!D3,\"High\",,\"B\"),TEXT(RTD(\"cqg.rtd\",,\"ContractData\",Symbols!D3,\"High\",,\"T\"),Symbols!D2))","v":"11675.50"},{"$f":"IF(Symbols!D4=\"B\",RTD(\"cqg.rtd\",,\"ContractData\",Symbols!D3,\"NetLastQuoteToday\",,\"B\"),IF(RTD(\"cqg.rtd\",,\"ContractData\",Symbols!D3,\"NetLastQuoteToday\",,\"T\")>0,\"+\"&TEXT(RTD(\"cqg.rtd\",,\"ContractData\",Symbols!D3,\"NetLastQuoteToday\",,\"T\"),Symbols!D2),TEXT(RTD(\"cqg.rtd\",,\"ContractData\",Symbols!D3,\"NetLastQuoteToday\",,\"T\"),Symbols!D2)))","v":"+102.00"},"H:",{"$f":"IF(Symbols!E4=\"B\",RTD(\"cqg.rtd\",,\"ContractData\",Symbols!E3,\"High\",,\"B\"),TEXT(RTD(\"cqg.rtd\",,\"ContractData\",Symbols!E3,\"High\",,\"T\"),Symbols!E2))","v":"3329"},{"$f":"IF(Symbols!E4=\"B\",RTD(\"cqg.rtd\",,\"ContractData\",Symbols!E3,\"NetLastQuoteToday\",,\"B\"),IF(RTD(\"cqg.rtd\",,\"ContractData\",Symbols!E3,\"NetLastQuoteToday\",,\"T\")>0,\"+\"&TEXT(RTD(\"cqg.rtd\",,\"ContractData\",Symbols!E3,\"NetLastQuoteToday\",,\"T\"),Symbols!E2),TEXT(RTD(\"cqg.rtd\",,\"ContractData\",Symbols!E3,\"NetLastQuoteToday\",,\"T\"),Symbols!E2)))","v":"+19"},"H:",{"$f":"IF(Symbols!F4=\"B\",RTD(\"cqg.rtd\",,\"ContractData\",Symbols!F3,\"High\",,\"B\"),TEXT(RTD(\"cqg.rtd\",,\"ContractData\",Symbols!F3,\"High\",,\"T\"),Symbols!F2))","v":"1.0051"},{"$f":"IF(Symbols!F4=\"B\",RTD(\"cqg.rtd\",,\"ContractData\",Symbols!F3,\"NetLastQuoteToday\",,\"B\"),IF(RTD(\"cqg.rtd\",,\"ContractData\",Symbols!F3,\"NetLastQuoteToday\",,\"T\")>0,\"+\"&TEXT(RTD(\"cqg.rtd\",,\"ContractData\",Symbols!F3,\"NetLastQuoteToday\",,\"T\"),Symbols!F2),TEXT(RTD(\"cqg.rtd\",,\"ContractData\",Symbols!F3,\"NetLastQuoteToday\",,\"T\"),Symbols!F2)))","v":"-.0022"},"H:",{"$f":"IF(Symbols!M4=\"B\",RTD(\"cqg.rtd\",,\"ContractData\",Symbols!M3,\"High\",,\"B\"),TEXT(RTD(\"cqg.rtd\",,\"ContractData\",Symbols!M3,\"High\",,\"T\"),Symbols!M2))","v":"877.10"},{"$f":"IF(Symbols!G4=\"B\",RTD(\"cqg.rtd\",,\"ContractData\",Symbols!G3,\"NetLastQuoteToday\",,\"B\"),IF(RTD(\"cqg.rtd\",,\"ContractData\",Symbols!G3,\"NetLastQuoteToday\",,\"T\")>0,\"+\"&TEXT(RTD(\"cqg.rtd\",,\"ContractData\",Symbols!G3,\"NetLastQuoteToday\",,\"T\"),Symbols!G2),TEXT(RTD(\"cqg.rtd\",,\"ContractData\",Symbols!G3,\"NetLastQuoteToday\",,\"T\"),Symbols!G2)))","v":"+35.50"},"H:",{"$f":"IF(Symbols!H4=\"B\",RTD(\"cqg.rtd\",,\"ContractData\",Symbols!H3,\"High\",,\"B\"),TEXT(RTD(\"cqg.rtd\",,\"ContractData\",Symbols!H3,\"High\",,\"T\"),Symbols!H2))","v":"57.88"},{"$f":"IF(Symbols!H4=\"B\",RTD(\"cqg.rtd\",,\"ContractData\",Symbols!H3,\"NetLastQuoteToday\",,\"B\"),IF(RTD(\"cqg.rtd\",,\"ContractData\",Symbols!H3,\"NetLastQuoteToday\",,\"T\")>0,\"+\"&TEXT(RTD(\"cqg.rtd\",,\"ContractData\",Symbols!H3,\"NetLastQuoteToday\",,\"T\"),Symbols!H2),TEXT(RTD(\"cqg.rtd\",,\"ContractData\",Symbols!H3,\"NetLastQuoteToday\",,\"T\"),Symbols!H2)))","v":"-1.48"},"H:",{"$f":"IF(Symbols!I4=\"B\",RTD(\"cqg.rtd\",,\"ContractData\",Symbols!I3,\"High\",,\"B\"),TEXT(RTD(\"cqg.rtd\",,\"ContractData\",Symbols!I3,\"High\",,\"T\"),Symbols!I2))","v":"2.0479"},{"$f":"IF(Symbols!I4=\"B\",RTD(\"cqg.rtd\",,\"ContractData\",Symbols!I3,\"NetLastQuoteToday\",,\"B\"),IF(RTD(\"cqg.rtd\",,\"ContractData\",Symbols!I3,\"NetLastQuoteToday\",,\"T\")>0,\"+\"&TEXT(RTD(\"cqg.rtd\",,\"ContractData\",Symbols!I3,\"NetLastQuoteToday\",,\"T\"),Symbols!I2),TEXT(RTD(\"cqg.rtd\",,\"ContractData\",Symbols!I3,\"NetLastQuoteToday\",,\"T\"),Symbols!I2)))","v":"-.0277"},"H:",{"$f":"IF(Symbols!J4=\"B\",RTD(\"cqg.rtd\",,\"ContractData\",Symbols!J3,\"High\",,\"B\"),TEXT(RTD(\"cqg.rtd\",,\"ContractData\",Symbols!J3,\"High\",,\"T\"),Symbols!J2))","v":"1.7720"},{"$f":"IF(Symbols!J4=\"B\",RTD(\"cqg.rtd\",,\"ContractData\",Symbols!J3,\"NetLastQuoteToday\",,\"B\"),IF(RTD(\"cqg.rtd\",,\"ContractData\",Symbols!J3,\"NetLastQuoteToday\",,\"T\")>0,\"+\"&TEXT(RTD(\"cqg.rtd\",,\"ContractData\",Symbols!J3,\"NetLastQuoteToday\",,\"T\"),Symbols!J2),TEXT(RTD(\"cqg.rtd\",,\"ContractData\",Symbols!J3,\"NetLastQuoteToday\",,\"T\"),Symbols!J2)))","v":"-.0263"},"H:",{"$f":"IF(Symbols!K4=\"B\",RTD(\"cqg.rtd\",,\"ContractData\",Symbols!K3,\"High\",,\"B\"),TEXT(RTD(\"cqg.rtd\",,\"ContractData\",Symbols!K3,\"High\",,\"T\"),Symbols!K2))","v":"2.8720"},{"$f":"IF(Symbols!K4=\"B\",RTD(\"cqg.rtd\",,\"ContractData\",Symbols!K3,\"NetLastQuoteToday\",,\"B\"),IF(RTD(\"cqg.rtd\",,\"ContractData\",Symbols!K3,\"NetLastQuoteToday\",,\"T\")>0,\"+\"&TEXT(RTD(\"cqg.rtd\",,\"ContractData\",Symbols!K3,\"NetLastQuoteToday\",,\"T\"),Symbols!K2),TEXT(RTD(\"cqg.rtd\",,\"ContractData\",Symbols!K3,\"NetLastQuoteToday\",,\"T\"),Symbols!K2)))","v":"+.0390"},"H:",{"$f":"IF(Symbols!L4=\"B\",RTD(\"cqg.rtd\",,\"ContractData\",Symbols!L3,\"High\",,\"B\"),TEXT(RTD(\"cqg.rtd\",,\"ContractData\",Symbols!L3,\"High\",,\"T\"),Symbols!L2))","v":"122000"},{"$f":"IF(Symbols!L4=\"B\",RTD(\"cqg.rtd\",,\"ContractData\",Symbols!L3,\"NetLastQuoteToday\",,\"B\"),IF(RTD(\"cqg.rtd\",,\"ContractData\",Symbols!L3,\"NetLastQuoteToday\",,\"T\")>0,\"+\"&TEXT(RTD(\"cqg.rtd\",,\"ContractData\",Symbols!L3,\"NetLastQuoteToday\",,\"T\"),Symbols!L2),TEXT(RTD(\"cqg.rtd\",,\"ContractData\",Symbols!L3,\"NetLastQuoteToday\",,\"T\"),Symbols!L2)))","v":"-130"},"H:",{"$f":"IF(Symbols!M4=\"B\",RTD(\"cqg.rtd\",,\"ContractData\",Symbols!M3,\"High\",,\"B\"),TEXT(RTD(\"cqg.rtd\",,\"ContractData\",Symbols!M3,\"High\",,\"T\"),Symbols!M2))","v":"877.10"},{"$f":"IF(Symbols!M4=\"B\",RTD(\"cqg.rtd\",,\"ContractData\",Symbols!M3,\"NetLastQuoteToday\",,\"B\"),IF(RTD(\"cqg.rtd\",,\"ContractData\",Symbols!M3,\"NetLastQuoteToday\",,\"T\")>0,\"+\"&TEXT(RTD(\"cqg.rtd\",,\"ContractData\",Symbols!M3,\"NetLastQuoteToday\",,\"T\"),Symbols!M2),TEXT(RTD(\"cqg.rtd\",,\"ContractData\",Symbols!M3,\"NetLastQuoteToday\",,\"T\"),Symbols!M2)))","v":"-14.80"}]
[null,null,null,null,"L:",{"$f":"IF(Symbols!D4=\"B\",RTD(\"cqg.rtd\",,\"ContractData\",Symbols!D3,\"Low\",,\"B\"),TEXT(RTD(\"cqg.rtd\",,\"ContractData\",Symbols!D3,\"Low\",,\"T\"),Symbols!D2))","v":"11522.50"},{"$f":"IFERROR(RTD(\"cqg.rtd\", ,\"ContractData\",Symbols!D3, \"PerCentNetLastQuote\",, \"T\")/100,\"\")","v":8.8541666666666664E-3},"L:",{"$f":"IF(Symbols!E4=\"B\",RTD(\"cqg.rtd\",,\"ContractData\",Symbols!E3,\"Low\",,\"B\"),TEXT(RTD(\"cqg.rtd\",,\"ContractData\",Symbols!E3,\"Low\",,\"T\"),Symbols!E2))","v":"3296"},{"$f":"IFERROR(RTD(\"cqg.rtd\", ,\"ContractData\",Symbols!E3, \"PerCentNetLastQuote\",, \"T\")/100,\"\")","v":5.761067313523347E-3},"L:",{"$f":"IF(Symbols!F4=\"B\",RTD(\"cqg.rtd\",,\"ContractData\",Symbols!F3,\"Low\",,\"B\"),TEXT(RTD(\"cqg.rtd\",,\"ContractData\",Symbols!F3,\"Low\",,\"T\"),Symbols!F2))","v":"1.0004"},{"$f":"IFERROR(RTD(\"cqg.rtd\", ,\"ContractData\",Symbols!F3, \"PerCentNetLastQuote\",, \"T\")/100,\"\")","v":-2.1916716477385933E-3},"L:",{"$f":"IF(Symbols!M4=\"B\",RTD(\"cqg.rtd\",,\"ContractData\",Symbols!M3,\"Low\",,\"B\"),TEXT(RTD(\"cqg.rtd\",,\"ContractData\",Symbols!M3,\"Low\",,\"T\"),Symbols!M2))","v":"859.80"},{"$f":"IFERROR(RTD(\"cqg.rtd\", ,\"ContractData\",Symbols!M3, \"PerCentNetLastQuote\",, \"T\")/100,\"\")","v":-1.6910420475319928E-2},"L:",{"$f":"IF(Symbols!H4=\"B\",RTD(\"cqg.rtd\",,\"ContractData\",Symbols!H3,\"Low\",,\"B\"),TEXT(RTD(\"cqg.rtd\",,\"ContractData\",Symbols!H3,\"Low\",,\"T\"),Symbols!H2))","v":"55.57"},{"$f":"IFERROR(RTD(\"cqg.rtd\", ,\"ContractData\",Symbols!H3, \"PerCentNetLastQuote\",, \"T\")/100,\"\")","v":-2.5865082139112195E-2},"L:",{"$f":"IF(Symbols!I4=\"B\",RTD(\"cqg.rtd\",,\"ContractData\",Symbols!I3,\"Low\",,\"B\"),TEXT(RTD(\"cqg.rtd\",,\"ContractData\",Symbols!I3,\"Low\",,\"T\"),Symbols!I2))","v":"1.9791"},{"$f":"IFERROR(RTD(\"cqg.rtd\", ,\"ContractData\",Symbols!I3, \"PerCentNetLastQuote\",, \"T\")/100,\"\")","v":-1.3663493316233415E-2},"L:",{"$f":"IF(Symbols!J4=\"B\",RTD(\"cqg.rtd\",,\"ContractData\",Symbols!J3,\"Low\",,\"B\"),TEXT(RTD(\"cqg.rtd\",,\"ContractData\",Symbols!J3,\"Low\",,\"T\"),Symbols!J2))","v":"1.7124"},{"$f":"IFERROR(RTD(\"cqg.rtd\", ,\"ContractData\",Symbols!J3, \"PerCentNetLastQuote\",, \"T\")/100,\"\")","v":-1.5008845517320093E-2},"L:",{"$f":"IF(Symbols!K4=\"B\",RTD(\"cqg.rtd\",,\"ContractData\",Symbols!K3,\"Low\",,\"B\"),TEXT(RTD(\"cqg.rtd\",,\"ContractData\",Symbols!K3,\"Low\",,\"T\"),Symbols!K2))","v":"2.7800"},{"$f":"IFERROR(RTD(\"cqg.rtd\", ,\"ContractData\",Symbols!K3, \"PerCentNetLastQuote\",, \"T\")/100,\"\")","v":1.3869132290184922E-2},"L:",{"$f":"IF(Symbols!L4=\"B\",RTD(\"cqg.rtd\",,\"ContractData\",Symbols!L3,\"Low\",,\"B\"),TEXT(RTD(\"cqg.rtd\",,\"ContractData\",Symbols!L3,\"Low\",,\"T\"),Symbols!L2))","v":"121190"},{"$f":"IFERROR(RTD(\"cqg.rtd\", ,\"ContractData\",Symbols!L3, \"PerCentNetLastQuote\",, \"T\")/100,\"\")","v":-3.3299180327868855E-3},"L:",{"$f":"IF(Symbols!M4=\"B\",RTD(\"cqg.rtd\",,\"ContractData\",Symbols!M3,\"Low\",,\"B\"),TEXT(RTD(\"cqg.rtd\",,\"ContractData\",Symbols!M3,\"Low\",,\"T\"),Symbols!M2))","v":"859.80"},{"$f":"IFERROR(RTD(\"cqg.rtd\", ,\"ContractData\",Symbols!M3, \"PerCentNetLastQuote\",, \"T\")/100,\"\")","v":-1.6910420475319928E-2}]
[null,null,null,null,null,"  Copyright © 2016",null,null,null,"Chicago:",null,{"$f":"RTD(\"cqg.rtd\", ,\"SystemInfo\", \"Linetime\")","v":43525.598981481482},null,null,"Designed by Thom Hartle"]

{"sheet":"Symbols","index":1,"n_rows":36,"n_cols":14,"rows_kept":36,"cut":false,"hidden":false,"merged":[[2,1,2,2],[35,4,35,8]]}
[]
[null,null,null,{"$f":"IF(Symbols!D4=\"B\",\"B\",IF(Symbols!D4=0,0,IF(Symbols!D4=1,\"#.0\",IF(Symbols!D4=2,\"#.00\",IF(Symbols!D4=3,\"#.000\",IF(Symbols!D4=4,\"#.0000\",IF(Symbols!D4=5,\"#.00000\",IF(Symbols!D4=6,\"#.000000\",IF(Symbols!D4=7,\"#.0000000\")))))))))","v":"#.00"},{"$f":"IF(Symbols!E4=\"B\",\"B\",IF(Symbols!E4=0,0,IF(Symbols!E4=1,\"#.0\",IF(Symbols!E4=2,\"#.00\",IF(Symbols!E4=3,\"#.000\",IF(Symbols!E4=4,\"#.0000\",IF(Symbols!E4=5,\"#.00000\",IF(Symbols!E4=6,\"#.000000\",IF(Symbols!E4=7,\"#.0000000\")))))))))","v":0},{"$f":"IF(Symbols!F4=\"B\",\"B\",IF(Symbols!F4=0,0,IF(Symbols!F4=1,\"#.0\",IF(Symbols!F4=2,\"#.00\",IF(Symbols!F4=3,\"#.000\",IF(Symbols!F4=4,\"#.0000\",IF(Symbols!F4=5,\"#.00000\",IF(Symbols!F4=6,\"#.000000\",IF(Symbols!F4=7,\"#.0000000\")))))))))","v":"#.0000"},{"$f":"IF(Symbols!G4=\"B\",\"B\",IF(Symbols!G4=0,0,IF(Symbols!G4=1,\"#.0\",IF(Symbols!G4=2,\"#.00\",IF(Symbols!G4=3,\"#.000\",IF(Symbols!G4=4,\"#.0000\",IF(Symbols!G4=5,\"#.00000\",IF(Symbols!G4=6,\"#.000000\",IF(Symbols!G4=7,\"#.0000000\")))))))))","v":"#.00"},{"$f":"IF(Symbols!H4=\"B\",\"B\",IF(Symbols!H4=0,0,IF(Symbols!H4=1,\"#.0\",IF(Symbols!H4=2,\"#.00\",IF(Symbols!H4=3,\"#.000\",IF(Symbols!H4=4,\"#.0000\",IF(Symbols!H4=5,\"#.00000\",IF(Symbols!H4=6,\"#.000000\",IF(Symbols!H4=7,\"#.0000000\")))))))))","v":"#.00"},{"$f":"IF(Symbols!I4=\"B\",\"B\",IF(Symbols!I4=0,0,IF(Symbols!I4=1,\"#.0\",IF(Symbols!I4=2,\"#.00\",IF(Symbols!I4=3,\"#.000\",IF(Symbols!I4=4,\"#.0000\",IF(Symbols!I4=5,\"#.00000\",IF(Symbols!I4=6,\"#.000000\",IF(Symbols!I4=7,\"#.0000000\")))))))))","v":"#.0000"},{"$f":"IF(Symbols!J4=\"B\",\"B\",IF(Symbols!J4=0,0,IF(Symbols!J4=1,\"#.0\",IF(Symbols!J4=2,\"#.00\",IF(Symbols!J4=3,\"#.000\",IF(Symbols!J4=4,\"#.0000\",IF(Symbols!J4=5,\"#.00000\",IF(Symbols!J4=6,\"#.000000\",IF(Symbols!J4=7,\"#.0000000\")))))))))","v":"#.0000"},{"$f":"IF(Symbols!K4=\"B\",\"B\",IF(Symbols!K4=0,0,IF(Symbols!K4=1,\"#.0\",IF(Symbols!K4=2,\"#.00\",IF(Symbols!K4=3,\"#.000\",IF(Symbols!K4=4,\"#.0000\",IF(Symbols!K4=5,\"#.00000\",IF(Symbols!K4=6,\"#.000000\",IF(Symbols!K4=7,\"#.0000000\")))))))))","v":"#.0000"},{"$f":"IF(Symbols!L4=\"B\",\"B\",IF(Symbols!L4=0,0,IF(Symbols!L4=1,\"#.0\",IF(Symbols!L4=2,\"#.00\",IF(Symbols!L4=3,\"#.000\",IF(Symbols!L4=4,\"#.0000\",IF(Symbols!L4=5,\"#.00000\",IF(Symbols!L4=6,\"#.000000\",IF(Symbols!L4=7,\"#.0000000\")))))))))","v":"B"},{"$f":"IF(Symbols!M4=\"B\",\"B\",IF(Symbols!M4=0,0,IF(Symbols!M4=1,\"#.0\",IF(Symbols!M4=2,\"#.00\",IF(Symbols!M4=3,\"#.000\",IF(Symbols!M4=4,\"#.0000\",IF(Symbols!M4=5,\"#.00000\",IF(Symbols!M4=6,\"#.000000\",IF(Symbols!M4=7,\"#.0000000\")))))))))","v":"#.00"},{"$f":"IF(Symbols!N4=\"B\",\"B\",IF(Symbols!N4=0,0,IF(Symbols!N4=1,\"#.0\",IF(Symbols!N4=2,\"#.00\",IF(Symbols!N4=3,\"#.000\",IF(Symbols!N4=4,\"#.0000\",IF(Symbols!N4=5,\"#.00000\",IF(Symbols!N4=6,\"#.000000\"))))))))","v":0}]
[null,"Symbols",null,"DD","DSX","SF6","PIL","CLE","HOE","RBE","NGE","TYA","PLE"]
[null,null,"Decimals",2,0,4,2,2,4,4,4,"B",2]
[null,"EP",2,{"$f":"IF(Symbols!C5=\"B\",\"B\",IF(Symbols!C5=0,0,IF(Symbols!C5=1,\"#.0\",IF(Symbols!C5=2,\"#.00\",IF(Symbols!C5=3,\"#.000\",IF(Symbols!C5=4,\"#.0000\",IF(Symbols!C5=5,\"#.00000\",IF(Symbols!C5=6,\"#.000000\",IF(Symbols!C5=7,\"#.0000000\")))))))))","v":"#.00"}]
[null,"ENQ",2,{"$f":"IF(Symbols!C6=\"B\",\"B\",IF(Symbols!C6=0,0,IF(Symbols!C6=1,\"#.0\",IF(Symbols!C6=2,\"#.00\",IF(Symbols!C6=3,\"#.000\",IF(Symbols!C6=4,\"#.0000\",IF(Symbols!C6=5,\"#.00000\",IF(Symbols!C6=6,\"#.000000\",IF(Symbols!C6=7,\"#.0000000\")))))))))","v":"#.00"},"Enter in, using all capitals, the symbols in the column to the left for the symbols in the first column of the Correlation matrix. This will also be the top row"]
[null,"EMD",2,{"$f":"IF(Symbols!C7=\"B\",\"B\",IF(Symbols!C7=0,0,IF(Symbols!C7=1,\"#.0\",IF(Symbols!C7=2,\"#.00\",IF(Symbols!C7=3,\"#.000\",IF(Symbols!C7=4,\"#.0000\",IF(Symbols!C7=5,\"#.00000\",IF(Symbols!C7=6,\"#.000000\",IF(Symbols!C7=7,\"#.0000000\")))))))))","v":"#.00"},"of market information on the main display. For price formatting, enter in the number of decimals or B for bonds and grains. "]
[null,"GCE",2,{"$f":"IF(Symbols!C8=\"B\",\"B\",IF(Symbols!C8=0,0,IF(Symbols!C8=1,\"#.0\",IF(Symbols!C8=2,\"#.00\",IF(Symbols!C8=3,\"#.000\",IF(Symbols!C8=4,\"#.0000\",IF(Symbols!C8=5,\"#.00000\",IF(Symbols!C8=6,\"#.000000\",IF(Symbols!C8=7,\"#.0000000\")))))))))","v":"#.00"}]
[null,"DXE",2,{"$f":"IF(Symbols!C9=\"B\",\"B\",IF(Symbols!C9=0,0,IF(Symbols!C9=1,\"#.0\",IF(Symbols!C9=2,\"#.00\",IF(Symbols!C9=3,\"#.000\",IF(Symbols!C9=4,\"#.0000\",IF(Symbols!C9=5,\"#.00000\",IF(Symbols!C9=6,\"#.000000\",IF(Symbols!C9=7,\"#.0000000\")))))))))","v":"#.00"},"Enter in, using all capitals, the symbols in the the top row above for the symbols along the top of the Correlation matrix. This will also be the bottom row"]
[null,"EU6",5,{"$f":"IF(Symbols!C10=\"B\",\"B\",IF(Symbols!C10=0,0,IF(Symbols!C10=1,\"#.0\",IF(Symbols!C10=2,\"#.00\",IF(Symbols!C10=3,\"#.000\",IF(Symbols!C10=4,\"#.0000\",IF(Symbols!C10=5,\"#.00000\",IF(Symbols!C10=6,\"#.000000\",IF(Symbols!C10=7,\"#.0000000\")))))))))","v":"#.00000"},"of market information on the main display. Enter in the number of decimals or B for bonds and grains. "]
[null,"JY6",7,{"$f":"IF(Symbols!C11=\"B\",\"B\",IF(Symbols!C11=0,0,IF(Symbols!C11=1,\"#.0\",IF(Symbols!C11=2,\"#.00\",IF(Symbols!C11=3,\"#.000\",IF(Symbols!C11=4,\"#.0000\",IF(Symbols!C11=5,\"#.00000\",IF(Symbols!C11=6,\"#.000000\",IF(Symbols!C11=7,\"#.0000000\")))))))))","v":"#.0000000"}]
[null,"DA6",4,{"$f":"IF(Symbols!C12=\"B\",\"B\",IF(Symbols!C12=0,0,IF(Symbols!C12=1,\"#.0\",IF(Symbols!C12=2,\"#.00\",IF(Symbols!C12=3,\"#.000\",IF(Symbols!C12=4,\"#.0000\",IF(Symbols!C12=5,\"#.00000\",IF(Symbols!C12=6,\"#.000000\",IF(Symbols!C12=7,\"#.0000000\")))))))))","v":"#.0000"},"Click the \"Chart\" toolbar button on the Correlation matrix on the main display to change the scattergram chart to display"]
[null,"BP6",4,{"$f":"IF(Symbols!C13=\"B\",\"B\",IF(Symbols!C13=0,0,IF(Symbols!C13=1,\"#.0\",IF(Symbols!C13=2,\"#.00\",IF(Symbols!C13=3,\"#.000\",IF(Symbols!C13=4,\"#.0000\",IF(Symbols!C13=5,\"#.00000\",IF(Symbols!C13=6,\"#.000000\",IF(Symbols!C13=7,\"#.0000000\")))))))))","v":"#.0000"},"that row of correlation values relative to the market in the same row listed in the first column."]
[null,"MX6",6,{"$f":"IF(Symbols!C14=\"B\",\"B\",IF(Symbols!C14=0,0,IF(Symbols!C14=1,\"#.0\",IF(Symbols!C14=2,\"#.00\",IF(Symbols!C14=3,\"#.000\",IF(Symbols!C14=4,\"#.0000\",IF(Symbols!C14=5,\"#.00000\",IF(Symbols!C14=6,\"#.000000\",IF(Symbols!C14=7,\"#.0000000\")))))))))","v":"#.000000"}]
[null,null,null,null,"Enter in the time frame and look back period for the correlation analysis. Use ADC for daily bars."]
[]
[]
[]
[]
[]
[]
[]
[]
[]
[]
[]
[]
[]
[]
[]
[]
[]
[]
[]
[]
[null,null,null,null,"Adjust the time displayed on the main display by:",null,null,null,null,0,"hours",{"$f":"J36/24","v":0}]

{"sheet":"Data","index":2,"n_rows":12,"n_cols":12,"rows_kept":12,"cut":false,"hidden":true,"merged":[]}
["Lookback:",{"$f":"MainDisplay!P11","v":20}]
["Time Frame:",{"$f":"MainDisplay!N11","v":"ADC"},{"$f":"Symbols!D3","v":"DD"},{"$f":"Symbols!E3","v":"DSX"},{"$f":"Symbols!F3","v":"SF6"},{"$f":"Symbols!G3","v":"PIL"},{"$f":"Symbols!H3","v":"CLE"},{"$f":"Symbols!I3","v":"HOE"},{"$f":"Symbols!J3","v":"RBE"},{"$f":"Symbols!K3","v":"NGE"},{"$f":"Symbols!L3","v":"TYA"},{"$f":"Symbols!M3","v":"PLE"}]
[{"$f":"Symbols!B5","v":"EP"},null,{"$f":"RTD(\"cqg.rtd\",,\"StudyData\", \"Correlation(\"&$A$3&\",\"&C$2&\",Period:=\"&$B$1&\",InputChoice1::=Close,InputChoice2::=Close)\", \"FG\", \"\", \"Close\",$B$2, \"0\", \"all\",\"\", \"\",\"True\",\"T\")/100","v":0.878342262993},{"$f":"RTD(\"cqg.rtd\",,\"StudyData\", \"Correlation(\"&$A$3&\",\"&D$2&\",Period:=\"&$B$1&\",InputChoice1:=Close,InputChoice2:=Close)\", \"FG\", \"\", \"Close\",$B$2, \"0\", \"all\",\"\", \"\",\"True\",\"T\")/100","v":0.94867526666800006},{"$f":"RTD(\"cqg.rtd\",,\"StudyData\", \"Correlation(\"&$A$3&\",\"&E$2&\",Period:=\"&$B$1&\",InputChoice1:=Close,InputChoice2:=Close)\", \"FG\", \"\", \"Close\",$B$2, \"0\", \"all\",\"\", \"\",\"True\",\"T\")/100","v":-1.3852305236E-2},{"$f":"RTD(\"cqg.rtd\",,\"StudyData\", \"Correlation(\"&$A$3&\",\"&F$2&\",Period:=\"&$B$1&\",InputChoice1:=Close,InputChoice2:=Close)\", \"FG\", \"\", \"Close\",$B$2, \"0\", \"all\",\"\", \"\",\"True\",\"T\")/100","v":0.97468159805499999},{"$f":"RTD(\"cqg.rtd\",,\"StudyData\", \"Correlation(\"&$A$3&\",\"&G$2&\",Period:=\"&$B$1&\",InputChoice1:=Close,InputChoice2:=Close)\", \"FG\", \"\", \"Close\",$B$2, \"0\", \"all\",\"\", \"\",\"True\",\"T\")/100","v":0.78228118328999996},{"$f":"RTD(\"cqg.rtd\",,\"StudyData\", \"Correlation(\"&$A$3&\",\"&H$2&\",Period:=\"&$B$1&\",InputChoice1:=Close,InputChoice2:=Close)\", \"FG\", \"\", \"Close\",$B$2, \"0\", \"all\",\"\", \"\",\"True\",\"T\")/100","v":0.89607223955100002},{"$f":"RTD(\"cqg.rtd\",,\"StudyData\", \"Correlation(\"&$A$3&\",\"&I$2&\",Period:=\"&$B$1&\",InputChoice1:=Close,InputChoice2:=Close)\", \"FG\", \"\", \"Close\",$B$2, \"0\", \"all\",\"\", \"\",\"True\",\"T\")/100","v":0.89642534485900005},{"$f":"RTD(\"cqg.rtd\",,\"StudyData\", \"Correlation(\"&$A$3&\",\"&J$2&\",Period:=\"&$B$1&\",InputChoice1:=Close,InputChoice2:=Close)\", \"FG\", \"\", \"Close\",$B$2, \"0\", \"all\",\"\", \"\",\"True\",\"T\")/100","v":0.62179370354200003},{"$f":"RTD(\"cqg.rtd\",,\"StudyData\", \"Correlation(\"&$A$3&\",\"&K$2&\",Period:=\"&$B$1&\",InputChoice1:=Close,InputChoice2:=Close)\", \"FG\", \"\", \"Close\",$B$2, \"0\", \"all\",\"\", \"\",\"True\",\"T\")/100","v":-0.21002149917099999},{"$f":"RTD(\"cqg.rtd\",,\"StudyData\", \"Correlation(\"&$A$3&\",\"&L$2&\",Period:=\"&$B$1&\",InputChoice1:=Close,InputChoice2:=Close)\", \"FG\", \"\", \"Close\",$B$2, \"0\", \"all\",\"\", \"\",\"True\",\"T\")/100","v":0.71646866899200001}]
[{"$f":"Symbols!B6","v":"ENQ"},null,{"$f":"RTD(\"cqg.rtd\",,\"StudyData\", \"Correlation(\"&$A$4&\",\"&C$2&\",Period:=\"&$B$1&\",InputChoice1::=Close,InputChoice2::=Close)\", \"FG\", \"\", \"Close\",$B$2, \"0\", \"all\",\"\", \"\",\"True\",\"T\")/100","v":0.9032987306450001},{"$f":"RTD(\"cqg.rtd\",,\"StudyData\", \"Correlation(\"&$A$4&\",\"&D$2&\",Period:=\"&$B$1&\",InputChoice1:=Close,InputChoice2:=Close)\", \"FG\", \"\", \"Close\",$B$2, \"0\", \"all\",\"\", \"\",\"True\",\"T\")/100","v":0.9529932199629999},{"$f":"RTD(\"cqg.rtd\",,\"StudyData\", \"Correlation(\"&$A$4&\",\"&E$2&\",Period:=\"&$B$1&\",InputChoice1:=Close,InputChoice2:=Close)\", \"FG\", \"\", \"Close\",$B$2, \"0\", \"all\",\"\", \"\",\"True\",\"T\")/100","v":-1.5287142306999998E-2},{"$f":"RTD(\"cqg.rtd\",,\"StudyData\", \"Correlation(\"&$A$4&\",\"&F$2&\",Period:=\"&$B$1&\",InputChoice1:=Close,InputChoice2:=Close)\", \"FG\", \"\", \"Close\",$B$2, \"0\", \"all\",\"\", \"\",\"True\",\"T\")/100","v":0.95656653467200004},{"$f":"RTD(\"cqg.rtd\",,\"StudyData\", \"Correlation(\"&$A$4&\",\"&G$2&\",Period:=\"&$B$1&\",InputChoice1:=Close,InputChoice2:=Close)\", \"FG\", \"\", \"Close\",$B$2, \"0\", \"all\",\"\", \"\",\"True\",\"T\")/100","v":0.66636515626999993},{"$f":"RTD(\"cqg.rtd\",,\"StudyData\", \"Correlation(\"&$A$4&\",\"&H$2&\",Period:=\"&$B$1&\",InputChoice1:=Close,InputChoice2:=Close)\", \"FG\", \"\", \"Close\",$B$2, \"0\", \"all\",\"\", \"\",\"True\",\"T\")/100","v":0.80494307153300004},{"$f":"RTD(\"cqg.rtd\",,\"StudyData\", \"Correlation(\"&$A$4&\",\"&I$2&\",Period:=\"&$B$1&\",InputChoice1:=Close,InputChoice2:=Close)\", \"FG\", \"\", \"Close\",$B$2, \"0\", \"all\",\"\", \"\",\"True\",\"T\")/100","v":0.80682678413299991},{"$f":"RTD(\"cqg.rtd\",,\"StudyData\", \"Correlation(\"&$A$4&\",\"&J$2&\",Period:=\"&$B$1&\",InputChoice1:=Close,InputChoice2:=Close)\", \"FG\", \"\", \"Close\",$B$2, \"0\", \"all\",\"\", \"\",\"True\",\"T\")/100","v":0.62411638990199991},{"$f":"RTD(\"cqg.rtd\",,\"StudyData\", \"Correlation(\"&$A$4&\",\"&K$2&\",Period:=\"&$B$1&\",InputChoice1:=Close,InputChoice2:=Close)\", \"FG\", \"\", \"Close\",$B$2, \"0\", \"all\",\"\", \"\",\"True\",\"T\")/100","v":-0.26169995577299998},{"$f":"RTD(\"cqg.rtd\",,\"StudyData\", \"Correlation(\"&$A$4&\",\"&L$2&\",Period:=\"&$B$1&\",InputChoice1:=Close,InputChoice2:=Close)\", \"FG\", \"\", \"Close\",$B$2, \"0\", \"all\",\"\", \"\",\"True\",\"T\")/100","v":0.69634561540799988}]
[{"$f":"Symbols!B7","v":"EMD"},null,{"$f":"RTD(\"cqg.rtd\",,\"StudyData\", \"Correlation(\"&$A$5&\",\"&C$2&\",Period:=\"&$B$1&\",InputChoice1:=Close,InputChoice2:=Close)\", \"FG\", \"\", \"Close\",$B$2, \"0\", \"all\",\"\", \"\",\"True\",\"T\")/100","v":0.78415906689299997},{"$f":"RTD(\"cqg.rtd\",,\"StudyData\", \"Correlation(\"&$A$5&\",\"&D$2&\",Period:=\"&$B$1&\",InputChoice1:=Close,InputChoice2:=Close)\", \"FG\", \"\", \"Close\",$B$2, \"0\", \"all\",\"\", \"\",\"True\",\"T\")/100","v":0.8865062984169999},{"$f":"RTD(\"cqg.rtd\",,\"StudyData\", \"Correlation(\"&$A$5&\",\"&E$2&\",Period:=\"&$B$1&\",InputChoice1:=Close,InputChoice2:=Close)\", \"FG\", \"\", \"Close\",$B$2, \"0\", \"all\",\"\", \"\",\"True\",\"T\")/100","v":-0.12156784005100001},{"$f":"RTD(\"cqg.rtd\",,\"StudyData\", \"Correlation(\"&$A$5&\",\"&F$2&\",Period:=\"&$B$1&\",InputChoice1:=Close,InputChoice2:=Close)\", \"FG\", \"\", \"Close\",$B$2, \"0\", \"all\",\"\", \"\",\"True\",\"T\")/100","v":0.92683989004},{"$f":"RTD(\"cqg.rtd\",,\"StudyData\", \"Correlation(\"&$A$5&\",\"&G$2&\",Period:=\"&$B$1&\",InputChoice1:=Close,InputChoice2:=Close)\", \"FG\", \"\", \"Close\",$B$2, \"0\", \"all\",\"\", \"\",\"True\",\"T\")/100","v":0.74063436786199999},{"$f":"RTD(\"cqg.rtd\",,\"StudyData\", \"Correlation(\"&$A$5&\",\"&H$2&\",Period:=\"&$B$1&\",InputChoice1:=Close,InputChoice2:=Close)\", \"FG\", \"\", \"Close\",$B$2, \"0\", \"all\",\"\", \"\",\"True\",\"T\")/100","v":0.90015831674699998},{"$f":"RTD(\"cqg.rtd\",,\"StudyData\", \"Correlation(\"&$A$5&\",\"&I$2&\",Period:=\"&$B$1&\",InputChoice1:=Close,InputChoice2:=Close)\", \"FG\", \"\", \"Close\",$B$2, \"0\", \"all\",\"\", \"\",\"True\",\"T\")/100","v":0.90050977229500007},{"$f":"RTD(\"cqg.rtd\",,\"StudyData\", \"Correlation(\"&$A$5&\",\"&J$2&\",Period:=\"&$B$1&\",InputChoice1:=Close,InputChoice2:=Close)\", \"FG\", \"\", \"Close\",$B$2, \"0\", \"all\",\"\", \"\",\"True\",\"T\")/100","v":0.48894968535799999},{"$f":"RTD(\"cqg.rtd\",,\"StudyData\", \"Correlation(\"&$A$5&\",\"&K$2&\",Period:=\"&$B$1&\",InputChoice1:=Close,InputChoice2:=Close)\", \"FG\", \"\", \"Close\",$B$2, \"0\", \"all\",\"\", \"\",\"True\",\"T\")/100","v":-0.101706245018},{"$f":"RTD(\"cqg.rtd\",,\"StudyData\", \"Correlation(\"&$A$5&\",\"&L$2&\",Period:=\"&$B$1&\",InputChoice1:=Close,InputChoice2:=Close)\", \"FG\", \"\", \"Close\",$B$2, \"0\", \"all\",\"\", \"\",\"True\",\"T\")/100","v":0.58231492322199996}]
[{"$f":"Symbols!B8","v":"GCE"},null,{"$f":"RTD(\"cqg.rtd\",,\"StudyData\", \"Correlation(\"&$A$6&\",\"&C$2&\",Period:=\"&$B$1&\",InputChoice1:=Close,InputChoice2:=Close)\", \"FG\", \"\", \"Close\",$B$2, \"0\", \"all\",\"\", \"\",\"True\",\"T\")/100","v":0.18262485187900002},{"$f":"RTD(\"cqg.rtd\",,\"StudyData\", \"Correlation(\"&$A$6&\",\"&D$2&\",Period:=\"&$B$1&\",InputChoice1:=Close,InputChoice2:=Close)\", \"FG\", \"\", \"Close\",$B$2, \"0\", \"all\",\"\", \"\",\"True\",\"T\")/100","v":0.18323424877699998},{"$f":"RTD(\"cqg.rtd\",,\"StudyData\", \"Correlation(\"&$A$6&\",\"&E$2&\",Period:=\"&$B$1&\",InputChoice1:=Close,InputChoice2:=Close)\", \"FG\", \"\", \"Close\",$B$2, \"0\", \"all\",\"\", \"\",\"True\",\"T\")/100","v":0.190685559404},{"$f":"RTD(\"cqg.rtd\",,\"StudyData\", \"Correlation(\"&$A$6&\",\"&F$2&\",Period:=\"&$B$1&\",InputChoice1:=Close,InputChoice2:=Close)\", \"FG\", \"\", \"Close\",$B$2, \"0\", \"all\",\"\", \"\",\"True\",\"T\")/100","v":0.25510390122800003},{"$f":"RTD(\"cqg.rtd\",,\"StudyData\", \"Correlation(\"&$A$6&\",\"&G$2&\",Period:=\"&$B$1&\",InputChoice1:=Close,InputChoice2:=Close)\", \"FG\", \"\", \"Close\",$B$2, \"0\", \"all\",\"\", \"\",\"True\",\"T\")/100","v":0.510645720129},{"$f":"RTD(\"cqg.rtd\",,\"StudyData\", \"Correlation(\"&$A$6&\",\"&H$2&\",Period:=\"&$B$1&\",InputChoice1:=Close,InputChoice2:=Close)\", \"FG\", \"\", \"Close\",$B$2, \"0\", \"all\",\"\", \"\",\"True\",\"T\")/100","v":0.40409787271600001},{"$f":"RTD(\"cqg.rtd\",,\"StudyData\", \"Correlation(\"&$A$6&\",\"&I$2&\",Period:=\"&$B$1&\",InputChoice1:=Close,InputChoice2:=Close)\", \"FG\", \"\", \"Close\",$B$2, \"0\", \"all\",\"\", \"\",\"True\",\"T\")/100","v":0.45423863047700003},{"$f":"RTD(\"cqg.rtd\",,\"StudyData\", \"Correlation(\"&$A$6&\",\"&J$2&\",Period:=\"&$B$1&\",InputChoice1:=Close,InputChoice2:=Close)\", \"FG\", \"\", \"Close\",$B$2, \"0\", \"all\",\"\", \"\",\"True\",\"T\")/100","v":-4.9616680892999997E-2},{"$f":"RTD(\"cqg.rtd\",,\"StudyData\", \"Correlation(\"&$A$6&\",\"&K$2&\",Period:=\"&$B$1&\",InputChoice1:=Close,InputChoice2:=Close)\", \"FG\", \"\", \"Close\",$B$2, \"0\", \"all\",\"\", \"\",\"True\",\"T\")/100","v":0.54439308578800005},{"$f":"RTD(\"cqg.rtd\",,\"StudyData\", \"Correlation(\"&$A$6&\",\"&L$2&\",Period:=\"&$B$1&\",InputChoice1:=Close,InputChoice2:=Close)\", \"FG\", \"\", \"Close\",$B$2, \"0\", \"all\",\"\", \"\",\"True\",\"T\")/100","v":0.17243281246199998}]
[{"$f":"Symbols!B9","v":"DXE"},null,{"$f":"RTD(\"cqg.rtd\",,\"StudyData\", \"Correlation(\"&$A$7&\",\"&C$2&\",Period:=\"&$B$1&\",InputChoice1:=Close,InputChoice2:=Close)\", \"FG\", \"\", \"Close\",$B$2, \"0\", \"all\",\"\", \"\",\"True\",\"T\")/100","v":-0.34225214099500001},{"$f":"RTD(\"cqg.rtd\",,\"StudyData\", \"Correlation(\"&$A$7&\",\"&D$2&\",Period:=\"&$B$1&\",InputChoice1:=Close,InputChoice2:=Close)\", \"FG\", \"\", \"Close\",$B$2, \"0\", \"all\",\"\", \"\",\"True\",\"T\")/100","v":-0.138142829893},{"$f":"RTD(\"cqg.rtd\",,\"StudyData\", \"Correlation(\"&$A$7&\",\"&E$2&\",Period:=\"&$B$1&\",InputChoice1:=Close,InputChoice2:=Close)\", \"FG\", \"\", \"Close\",$B$2, \"0\", \"all\",\"\", \"\",\"True\",\"T\")/100","v":-0.83244604370600006},{"$f":"RTD(\"cqg.rtd\",,\"StudyData\", \"Correlation(\"&$A$7&\",\"&F$2&\",Period:=\"&$B$1&\",InputChoice1:=Close,InputChoice2:=Close)\", \"FG\", \"\", \"Close\",$B$2, \"0\", \"all\",\"\", \"\",\"True\",\"T\")/100","v":-0.11325049432000001},{"$f":"RTD(\"cqg.rtd\",,\"StudyData\", \"Correlation(\"&$A$7&\",\"&G$2&\",Period:=\"&$B$1&\",InputChoice1:=Close,InputChoice2:=Close)\", \"FG\", \"\", \"Close\",$B$2, \"0\", \"all\",\"\", \"\",\"True\",\"T\")/100","v":-0.17159157782099999},{"$f":"RTD(\"cqg.rtd\",,\"StudyData\", \"Correlation(\"&$A$7&\",\"&H$2&\",Period:=\"&$B$1&\",InputChoice1:=Close,InputChoice2:=Close)\", \"FG\", \"\", \"Close\",$B$2, \"0\", \"all\",\"\", \"\",\"True\",\"T\")/100","v":7.5166608681000002E-2},{"$f":"RTD(\"cqg.rtd\",,\"StudyData\", \"Correlation(\"&$A$7&\",\"&I$2&\",Period:=\"&$B$1&\",InputChoice1:=Close,InputChoice2:=Close)\", \"FG\", \"\", \"Close\",$B$2, \"0\", \"all\",\"\", \"\",\"True\",\"T\")/100","v":3.2112925362E-2},{"$f":"RTD(\"cqg.rtd\",,\"StudyData\", \"Correlation(\"&$A$7&\",\"&J$2&\",Period:=\"&$B$1&\",InputChoice1:=Close,InputChoice2:=Close)\", \"FG\", \"\", \"Close\",$B$2, \"0\", \"all\",\"\", \"\",\"True\",\"T\")/100","v":-0.42395631154599994},{"$f":"RTD(\"cqg.rtd\",,\"StudyData\", \"Correlation(\"&$A$7&\",\"&K$2&\",Period:=\"&$B$1&\",InputChoice1:=Close,InputChoice2:=Close)\", \"FG\", \"\", \"Close\",$B$2, \"0\", \"all\",\"\", \"\",\"True\",\"T\")/100","v":0.115920543195},{"$f":"RTD(\"cqg.rtd\",,\"StudyData\", \"Correlation(\"&$A$7&\",\"&L$2&\",Period:=\"&$B$1&\",InputChoice1:=Close,InputChoice2:=Close)\", \"FG\", \"\", \"Close\",$B$2, \"0\", \"all\",\"\", \"\",\"True\",\"T\")/100","v":-0.56912375170999996}]
[{"$f":"Symbols!B10","v":"EU6"},null,{"$f":"RTD(\"cqg.rtd\",,\"StudyData\", \"Correlation(\"&$A$8&\",\"&C$2&\",Period:=\"&$B$1&\",InputChoice1:=Close,InputChoice2:=Close)\", \"FG\", \"\", \"Close\",$B$2, \"0\", \"all\",\"\", \"\",\"True\",\"T\")/100","v":0.158191003719},{"$f":"RTD(\"cqg.rtd\",,\"StudyData\", \"Correlation(\"&$A$8&\",\"&D$2&\",Period:=\"&$B$1&\",InputChoice1:=Close,InputChoice2:=Close)\", \"FG\", \"\", \"Close\",$B$2, \"0\", \"all\",\"\", \"\",\"True\",\"T\")/100","v":-7.6219978282999992E-2},{"$f":"RTD(\"cqg.rtd\",,\"StudyData\", \"Correlation(\"&$A$8&\",\"&E$2&\",Period:=\"&$B$1&\",InputChoice1:=Close,InputChoice2:=Close)\", \"FG\", \"\", \"Close\",$B$2, \"0\", \"all\",\"\", \"\",\"True\",\"T\")/100","v":0.85373912871800006},{"$f":"RTD(\"cqg.rtd\",,\"StudyData\", \"Correlation(\"&$A$8&\",\"&F$2&\",Period:=\"&$B$1&\",InputChoice1:=Close,InputChoice2:=Close)\", \"FG\", \"\", \"Close\",$B$2, \"0\", \"all\",\"\", \"\",\"True\",\"T\")/100","v":-0.116584918392},{"$f":"RTD(\"cqg.rtd\",,\"StudyData\", \"Correlation(\"&$A$8&\",\"&G$2&\",Period:=\"&$B$1&\",InputChoice1:=Close,InputChoice2:=Close)\", \"FG\", \"\", \"Close\",$B$2, \"0\", \"all\",\"\", \"\",\"True\",\"T\")/100","v":5.7499761097000002E-2},{"$f":"RTD(\"cqg.rtd\",,\"StudyData\", \"Correlation(\"&$A$8&\",\"&H$2&\",Period:=\"&$B$1&\",InputChoice1:=Close,InputChoice2:=Close)\", \"FG\", \"\", \"Close\",$B$2, \"0\", \"all\",\"\", \"\",\"True\",\"T\")/100","v":-0.19762966675800001},{"$f":"RTD(\"cqg.rtd\",,\"StudyData\", \"Correlation(\"&$A$8&\",\"&I$2&\",Period:=\"&$B$1&\",InputChoice1:=Close,InputChoice2:=Close)\", \"FG\", \"\", \"Close\",$B$2, \"0\", \"all\",\"\", \"\",\"True\",\"T\")/100","v":-0.158417027175},{"$f":"RTD(\"cqg.rtd\",,\"StudyData\", \"Correlation(\"&$A$8&\",\"&J$2&\",Period:=\"&$B$1&\",InputChoice1:=Close,InputChoice2:=Close)\", \"FG\", \"\", \"Close\",$B$2, \"0\", \"all\",\"\", \"\",\"True\",\"T\")/100","v":0.36406521755400001},{"$f":"RTD(\"cqg.rtd\",,\"StudyData\", \"Correlation(\"&$A$8&\",\"&K$2&\",Period:=\"&$B$1&\",InputChoice1:=Close,InputChoice2:=Close)\", \"FG\", \"\", \"Close\",$B$2, \"0\", \"all\",\"\", \"\",\"True\",\"T\")/100","v":-0.18885188225899999},{"$f":"RTD(\"cqg.rtd\",,\"StudyData\", \"Correlation(\"&$A$8&\",\"&L$2&\",Period:=\"&$B$1&\",InputChoice1:=Close,InputChoice2:=Close)\", \"FG\", \"\", \"Close\",$B$2, \"0\", \"all\",\"\", \"\",\"True\",\"T\")/100","v":0.45908188344899997}]
[{"$f":"Symbols!B11","v":"JY6"},null,{"$f":"RTD(\"cqg.rtd\",,\"StudyData\", \"Correlation(\"&$A$9&\",\"&C$2&\",Period:=\"&$B$1&\",InputChoice1:=Close,InputChoice2:=Close)\", \"FG\", \"\", \"Close\",$B$2, \"0\", \"all\",\"\", \"\",\"True\",\"T\")/100","v":-0.70561544697900003},{"$f":"RTD(\"cqg.rtd\",,\"StudyData\", \"Correlation(\"&$A$9&\",\"&D$2&\",Period:=\"&$B$1&\",InputChoice1:=Close,InputChoice2:=Close)\", \"FG\", \"\", \"Close\",$B$2, \"0\", \"all\",\"\", \"\",\"True\",\"T\")/100","v":-0.83443754252500002},{"$f":"RTD(\"cqg.rtd\",,\"StudyData\", \"Correlation(\"&$A$9&\",\"&E$2&\",Period:=\"&$B$1&\",InputChoice1:=Close,InputChoice2:=Close)\", \"FG\", \"\", \"Close\",$B$2, \"0\", \"all\",\"\", \"\",\"True\",\"T\")/100","v":0.33872481992799996},{"$f":"RTD(\"cqg.rtd\",,\"StudyData\", \"Correlation(\"&$A$9&\",\"&F$2&\",Period:=\"&$B$1&\",InputChoice1:=Close,InputChoice2:=Close)\", \"FG\", \"\", \"Close\",$B$2, \"0\", \"all\",\"\", \"\",\"True\",\"T\")/100","v":-0.83805635224899999},{"$f":"RTD(\"cqg.rtd\",,\"StudyData\", \"Correlation(\"&$A$9&\",\"&G$2&\",Period:=\"&$B$1&\",InputChoice1:=Close,InputChoice2:=Close)\", \"FG\", \"\", \"Close\",$B$2, \"0\", \"all\",\"\", \"\",\"True\",\"T\")/100","v":-0.60019407651900003},{"$f":"RTD(\"cqg.rtd\",,\"StudyData\", \"Correlation(\"&$A$9&\",\"&H$2&\",Period:=\"&$B$1&\",InputChoice1:=Close,InputChoice2:=Close)\", \"FG\", \"\", \"Close\",$B$2, \"0\", \"all\",\"\", \"\",\"True\",\"T\")/100","v":-0.66538035638100002},{"$f":"RTD(\"cqg.rtd\",,\"StudyData\", \"Correlation(\"&$A$9&\",\"&I$2&\",Period:=\"&$B$1&\",InputChoice1:=Close,InputChoice2:=Close)\", \"FG\", \"\", \"Close\",$B$2, \"0\", \"all\",\"\", \"\",\"True\",\"T\")/100","v":-0.65289408092800005},{"$f":"RTD(\"cqg.rtd\",,\"StudyData\", \"Correlation(\"&$A$9&\",\"&J$2&\",Period:=\"&$B$1&\",InputChoice1:=Close,InputChoice2:=Close)\", \"FG\", \"\", \"Close\",$B$2, \"0\", \"all\",\"\", \"\",\"True\",\"T\")/100","v":-0.69548689683000009},{"$f":"RTD(\"cqg.rtd\",,\"StudyData\", \"Correlation(\"&$A$9&\",\"&K$2&\",Period:=\"&$B$1&\",InputChoice1:=Close,InputChoice2:=Close)\", \"FG\", \"\", \"Close\",$B$2, \"0\", \"all\",\"\", \"\",\"True\",\"T\")/100","v":0.53157919936600007},{"$f":"RTD(\"cqg.rtd\",,\"StudyData\", \"Correlation(\"&$A$9&\",\"&L$2&\",Period:=\"&$B$1&\",InputChoice1:=Close,InputChoice2:=Close)\", \"FG\", \"\", \"Close\",$B$2, \"0\", \"all\",\"\", \"\",\"True\",\"T\")/100","v":-0.63100187197900004}]
[{"$f":"Symbols!B12","v":"DA6"},null,{"$f":"RTD(\"cqg.rtd\",,\"StudyData\", \"Correlation(\"&$A$10&\",\"&C$2&\",Period:=\"&$B$1&\",InputChoice1:=Close,InputChoice2:=Close)\", \"FG\", \"\", \"Close\",$B$2, \"0\", \"all\",\"\", \"\",\"True\",\"T\")/100","v":0.153718440984},{"$f":"RTD(\"cqg.rtd\",,\"StudyData\", \"Correlation(\"&$A$10&\",\"&D$2&\",Period:=\"&$B$1&\",InputChoice1:=Close,InputChoice2:=Close)\", \"FG\", \"\", \"Close\",$B$2, \"0\", \"all\",\"\", \"\",\"True\",\"T\")/100","v":-4.4221751862999994E-2},{"$f":"RTD(\"cqg.rtd\",,\"StudyData\", \"Correlation(\"&$A$10&\",\"&E$2&\",Period:=\"&$B$1&\",InputChoice1:=Close,InputChoice2:=Close)\", \"FG\", \"\", \"Close\",$B$2, \"0\", \"all\",\"\", \"\",\"True\",\"T\")/100","v":0.60477392537800001},{"$f":"RTD(\"cqg.rtd\",,\"StudyData\", \"Correlation(\"&$A$10&\",\"&F$2&\",Period:=\"&$B$1&\",InputChoice1:=Close,InputChoice2:=Close)\", \"FG\", \"\", \"Close\",$B$2, \"0\", \"all\",\"\", \"\",\"True\",\"T\")/100","v":-4.7170574807000001E-2},{"$f":"RTD(\"cqg.rtd\",,\"StudyData\", \"Correlation(\"&$A$10&\",\"&G$2&\",Period:=\"&$B$1&\",InputChoice1:=Close,InputChoice2:=Close)\", \"FG\", \"\", \"Close\",$B$2, \"0\", \"all\",\"\", \"\",\"True\",\"T\")/100","v":0.20327669551799998},{"$f":"RTD(\"cqg.rtd\",,\"StudyData\", \"Correlation(\"&$A$10&\",\"&H$2&\",Period:=\"&$B$1&\",InputChoice1:=Close,InputChoice2:=Close)\", \"FG\", \"\", \"Close\",$B$2, \"0\", \"all\",\"\", \"\",\"True\",\"T\")/100","v":3.5382495409999998E-3},{"$f":"RTD(\"cqg.rtd\",,\"StudyData\", \"Correlation(\"&$A$10&\",\"&I$2&\",Period:=\"&$B$1&\",InputChoice1:=Close,InputChoice2:=Close)\", \"FG\", \"\", \"Close\",$B$2, \"0\", \"all\",\"\", \"\",\"True\",\"T\")/100","v":3.514539899E-2},{"$f":"RTD(\"cqg.rtd\",,\"StudyData\", \"Correlation(\"&$A$10&\",\"&J$2&\",Period:=\"&$B$1&\",InputChoice1:=Close,InputChoice2:=Close)\", \"FG\", \"\", \"Close\",$B$2, \"0\", \"all\",\"\", \"\",\"True\",\"T\")/100","v":0.106627924958},{"$f":"RTD(\"cqg.rtd\",,\"StudyData\", \"Correlation(\"&$A$10&\",\"&K$2&\",Period:=\"&$B$1&\",InputChoice1:=Close,InputChoice2:=Close)\", \"FG\", \"\", \"Close\",$B$2, \"0\", \"all\",\"\", \"\",\"True\",\"T\")/100","v":0.119404524218},{"$f":"RTD(\"cqg.rtd\",,\"StudyData\", \"Correlation(\"&$A$10&\",\"&L$2&\",Period:=\"&$B$1&\",InputChoice1:=Close,InputChoice2:=Close)\", \"FG\", \"\", \"Close\",$B$2, \"0\", \"all\",\"\", \"\",\"True\",\"T\")/100","v":0.25432617877500002}]
[{"$f":"Symbols!B13","v":"BP6"},null,{"$f":"RTD(\"cqg.rtd\",,\"StudyData\", \"Correlation(\"&$A$11&\",\"&C$2&\",Period:=\"&$B$1&\",InputChoice1:=Close,InputChoice2:=Close)\", \"FG\", \"\", \"Close\",$B$2, \"0\", \"all\",\"\", \"\",\"True\",\"T\")/100","v":0.73018571886100003},{"$f":"RTD(\"cqg.rtd\",,\"StudyData\", \"Correlation(\"&$A$11&\",\"&D$2&\",Period:=\"&$B$1&\",InputChoice1:=Close,InputChoice2:=Close)\", \"FG\", \"\", \"Close\",$B$2, \"0\", \"all\",\"\", \"\",\"True\",\"T\")/100","v":0.681829709851},{"$f":"RTD(\"cqg.rtd\",,\"StudyData\", \"Correlation(\"&$A$11&\",\"&E$2&\",Period:=\"&$B$1&\",InputChoice1:=Close,InputChoice2:=Close)\", \"FG\", \"\", \"Close\",$B$2, \"0\", \"all\",\"\", \"\",\"True\",\"T\")/100","v":0.52290819141099998},{"$f":"RTD(\"cqg.rtd\",,\"StudyData\", \"Correlation(\"&$A$11&\",\"&F$2&\",Period:=\"&$B$1&\",InputChoice1:=Close,InputChoice2:=Close)\", \"FG\", \"\", \"Close\",$B$2, \"0\", \"all\",\"\", \"\",\"True\",\"T\")/100","v":0.67488455947999992},{"$f":"RTD(\"cqg.rtd\",,\"StudyData\", \"Correlation(\"&$A$11&\",\"&G$2&\",Period:=\"&$B$1&\",InputChoice1:=Close,InputChoice2:=Close)\", \"FG\", \"\", \"Close\",$B$2, \"0\", \"all\",\"\", \"\",\"True\",\"T\")/100","v":0.58721875462399997},{"$f":"RTD(\"cqg.rtd\",,\"StudyData\", \"Correlation(\"&$A$11&\",\"&H$2&\",Period:=\"&$B$1&\",InputChoice1:=Close,InputChoice2:=Close)\", \"FG\", \"\", \"Close\",$B$2, \"0\", \"all\",\"\", \"\",\"True\",\"T\")/100","v":0.50261428896899996},{"$f":"RTD(\"cqg.rtd\",,\"StudyData\", \"Correlation(\"&$A$11&\",\"&I$2&\",Period:=\"&$B$1&\",InputChoice1:=Close,InputChoice2:=Close)\", \"FG\", \"\", \"Close\",$B$2, \"0\", \"all\",\"\", \"\",\"True\",\"T\")/100","v":0.53875454089399999},{"$f":"RTD(\"cqg.rtd\",,\"StudyData\", \"Correlation(\"&$A$11&\",\"&J$2&\",Period:=\"&$B$1&\",InputChoice1:=Close,InputChoice2:=Close)\", \"FG\", \"\", \"Close\",$B$2, \"0\", \"all\",\"\", \"\",\"True\",\"T\")/100","v":0.81675774553799996},{"$f":"RTD(\"cqg.rtd\",,\"StudyData\", \"Correlation(\"&$A$11&\",\"&K$2&\",Period:=\"&$B$1&\",InputChoice1:=Close,InputChoice2:=Close)\", \"FG\", \"\", \"Close\",$B$2, \"0\", \"all\",\"\", \"\",\"True\",\"T\")/100","v":-0.21928938673099999},{"$f":"RTD(\"cqg.rtd\",,\"StudyData\", \"Correlation(\"&$A$11&\",\"&L$2&\",Period:=\"&$B$1&\",InputChoice1:=Close,InputChoice2:=Close)\", \"FG\", \"\", \"Close\",$B$2, \"0\", \"all\",\"\", \"\",\"True\",\"T\")/100","v":0.94570961609899995}]
[{"$f":"Symbols!B14","v":"MX6"},null,{"$f":"RTD(\"cqg.rtd\",,\"StudyData\", \"Correlation(\"&$A$12&\",\"&C$2&\",Period:=\"&$B$1&\",InputChoice1:=Close,InputChoice2:=Close)\", \"FG\", \"\", \"Close\",$B$2, \"0\", \"all\",\"\", \"\",\"True\",\"T\")/100","v":0.16729041177500001},{"$f":"RTD(\"cqg.rtd\",,\"StudyData\", \"Correlation(\"&$A$12&\",\"&D$2&\",Period:=\"&$B$1&\",InputChoice1:=Close,InputChoice2:=Close)\", \"FG\", \"\", \"Close\",$B$2, \"0\", \"all\",\"\", \"\",\"True\",\"T\")/100","v":1.1394145944000001E-2},{"$f":"RTD(\"cqg.rtd\",,\"StudyData\", \"Correlation(\"&$A$12&\",\"&E$2&\",Period:=\"&$B$1&\",InputChoice1:=Close,InputChoice2:=Close)\", \"FG\", \"\", \"Close\",$B$2, \"0\", \"all\",\"\", \"\",\"True\",\"T\")/100","v":0.71128676735599994},{"$f":"RTD(\"cqg.rtd\",,\"StudyData\", \"Correlation(\"&$A$12&\",\"&F$2&\",Period:=\"&$B$1&\",InputChoice1:=Close,InputChoice2:=Close)\", \"FG\", \"\", \"Close\",$B$2, \"0\", \"all\",\"\", \"\",\"True\",\"T\")/100","v":3.4392648572000001E-2},{"$f":"RTD(\"cqg.rtd\",,\"StudyData\", \"Correlation(\"&$A$12&\",\"&G$2&\",Period:=\"&$B$1&\",InputChoice1:=Close,InputChoice2:=Close)\", \"FG\", \"\", \"Close\",$B$2, \"0\", \"all\",\"\", \"\",\"True\",\"T\")/100","v":8.2000078153999997E-2},{"$f":"RTD(\"cqg.rtd\",,\"StudyData\", \"Correlation(\"&$A$12&\",\"&H$2&\",Period:=\"&$B$1&\",InputChoice1:=Close,InputChoice2:=Close)\", \"FG\", \"\", \"Close\",$B$2, \"0\", \"all\",\"\", \"\",\"True\",\"T\")/100","v":-6.6654303282000005E-2},{"$f":"RTD(\"cqg.rtd\",,\"StudyData\", \"Correlation(\"&$A$12&\",\"&I$2&\",Period:=\"&$B$1&\",InputChoice1:=Close,InputChoice2:=Close)\", \"FG\", \"\", \"Close\",$B$2, \"0\", \"all\",\"\", \"\",\"True\",\"T\")/100","v":1.5656642338000001E-2},{"$f":"RTD(\"cqg.rtd\",,\"StudyData\", \"Correlation(\"&$A$12&\",\"&J$2&\",Period:=\"&$B$1&\",InputChoice1:=Close,InputChoice2:=Close)\", \"FG\", \"\", \"Close\",$B$2, \"0\", \"all\",\"\", \"\",\"True\",\"T\")/100","v":0.21686614619099998},{"$f":"RTD(\"cqg.rtd\",,\"StudyData\", \"Correlation(\"&$A$12&\",\"&K$2&\",Period:=\"&$B$1&\",InputChoice1:=Close,InputChoice2:=Close)\", \"FG\", \"\", \"Close\",$B$2, \"0\", \"all\",\"\", \"\",\"True\",\"T\")/100","v":0.30383987678000002},{"$f":"RTD(\"cqg.rtd\",,\"StudyData\", \"Correlation(\"&$A$12&\",\"&L$2&\",Period:=\"&$B$1&\",InputChoice1:=Close,InputChoice2:=Close)\", \"FG\", \"\", \"Close\",$B$2, \"0\", \"all\",\"\", \"\",\"True\",\"T\")/100","v":0.40169857902899997}]

{"sheet":"1","index":3,"n_rows":104,"n_cols":61,"rows_kept":104,"cut":false,"hidden":true,"merged":[]}
["Lookback",{"$f":"Data!B1","v":20}]
["TimeFrame",{"$f":"Data!B2","v":"ADC"},{"$f":"Data!C2","v":"DD"},null,null,null,null,null,{"$f":"Data!D2","v":"DSX"},null,null,null,null,null,{"$f":"Data!E2","v":"SF6"},null,null,null,null,null,{"$f":"Data!F2","v":"PIL"},null,null,null,null,null,{"$f":"Data!G2","v":"CLE"},null,null,null,null,null,{"$f":"Data!H2","v":"HOE"},null,null,null,null,null,{"$f":"Data!I2","v":"RBE"},null,null,null,null,null,{"$f":"Data!J2","v":"NGE"},null,null,null,null,null,{"$f":"Data!K2","v":"TYA"},null,null,null,null,null,{"$f":"Data!L2","v":"PLE"}]
["Symbol",{"$f":"MainDisplay!E1","v":"GCE"}]
[0,null,{"$f":"IFERROR(RTD(\"cqg.rtd\",,\"StudyData\", \"Correlation(\"&$B$3&\",\"&C$2&\",Period:=\"&$B$1&\",InputChoice1:=Close,InputChoice2:=Close)\", \"FG\", \"\", \"Close\",$B$2,A4, \"all\",\"\", \"\",\"True\",\"T\")/100,\"\")","v":0.18262485187900002},null,-1,{"$f":"FREQUENCY(C4:C104,E4:E104)","v":0},{"$f":"IF(AND($C$4>=E4,$C$4<E5),IF(F4=0,1,F4),NA())","v":{"$error":"#N/A"}},null,{"$f":"IFERROR(RTD(\"cqg.rtd\",,\"StudyData\", \"Correlation(\"&$B$3&\",\"&I$2&\",Period:=\"&$B$1&\",InputChoice1:=Close,InputChoice2::=Close)\", \"FG\", \"\", \"Close\",$B$2,A4, \"all\",\"\", \"\",\"True\",\"T\")/100,\"\")","v":0.18323424877699998},null,-1,{"$f":"FREQUENCY(I4:I104,K4:K104)","v":0},{"$f":"IF(AND($I$4>=K4,$I$4<K5),IF(L4=0,1,L4),NA())","v":{"$error":"#N/A"}},null,{"$f":"IFERROR(RTD(\"cqg.rtd\",,\"StudyData\", \"Correlation(\"&$B$3&\",\"&O$2&\",Period:=\"&$B$1&\",InputChoice1:=Close,InputChoice2::=Close)\", \"FG\", \"\", \"Close\",$B$2,A4, \"all\",\"\", \"\",\"True\",\"T\")/100,\"\")","v":0.190685559404},null,-1,{"$f":"FREQUENCY(O4:O104,Q4:Q104)","v":0},{"$f":"IF(AND($O$4>=Q4,$O$4<Q5),IF(R4=0,1,R4),NA())","v":{"$error":"#N/A"}},null,{"$f":"IFERROR(RTD(\"cqg.rtd\",,\"StudyData\", \"Correlation(\"&$B$3&\",\"&U$2&\",Period:=\"&$B$1&\",InputChoice1:=Close,InputChoice2::=Close)\", \"FG\", \"\", \"Close\",$B$2,A4, \"all\",\"\", \"\",\"True\",\"T\")/100,\"\")","v":0.25510390122800003},null,-1,{"$f":"FREQUENCY(U4:U104,W4:W104)","v":0},{"$f":"IF(AND($U$4>=W4,$U$4<W5),IF(X4=0,1,X4),NA())","v":{"$error":"#N/A"}},null,{"$f":"IFERROR(RTD(\"cqg.rtd\",,\"StudyData\", \"Correlation(\"&$B$3&\",\"&AA$2&\",Period:=\"&$B$1&\",InputChoice1:=Close,InputChoice2::=Close)\", \"FG\", \"\", \"Close\",$B$2,A4, \"all\",\"\", \"\",\"True\",\"T\")/100,\"\")","v":0.510645720129},null,-1,{"$f":"FREQUENCY(AA4:AA104,AC4:AC104)","v":0},{"$f":"IF(AND($AA$4>=AC4,$AA$4<AC5),IF(AD4=0,1,AD4),NA())","v":{"$error":"#N/A"}},null,{"$f":"IFERROR(RTD(\"cqg.rtd\",,\"StudyData\", \"Correlation(\"&$B$3&\",\"&AG$2&\",Period:=\"&$B$1&\",InputChoice1:=Close,InputChoice2::=Close)\", \"FG\", \"\", \"Close\",$B$2,A4, \"all\",\"\", \"\",\"True\",\"T\")/100,\"\")","v":0.40409787271600001},null,-1,{"$f":"FREQUENCY(AG4:AG104,AI4:AI104)","v":0},{"$f":"IF(AND($AG$4>=AI4,$AG$4<AI5),IF(AJ4=0,1,AJ4),NA())","v":{"$error":"#N/A"}},null,{"$f":"IFERROR(RTD(\"cqg.rtd\",,\"StudyData\", \"Correlation(\"&$B$3&\",\"&AM$2&\",Period:=\"&$B$1&\",InputChoice1:=Close,InputChoice2::=Close)\", \"FG\", \"\", \"Close\",$B$2,A4, \"all\",\"\", \"\",\"True\",\"T\")/100,\"\")","v":0.45423863047700003},null,-1,{"$f":"FREQUENCY(AM4:AM104,AO4:AO104)","v":0},{"$f":"IF(AND($AM$4>=AO4,$AM$4<AO5),IF(AP4=0,1,AP4),NA())","v":{"$error":"#N/A"}},null,{"$f":"IFERROR(RTD(\"cqg.rtd\",,\"StudyData\", \"Correlation(\"&$B$3&\",\"&AS$2&\",Period:=\"&$B$1&\",InputChoice1:=Close,InputChoice2::=Close)\", \"FG\", \"\", \"Close\",$B$2,A4, \"all\",\"\", \"\",\"True\",\"T\")/100,\"\")","v":-4.9616680892999997E-2},null,-1,{"$f":"FREQUENCY(AS4:AS104,AU4:AU104)","v":0},{"$f":"IF(AND($AS$4>=AU4,$AS$4<AU5),IF(AV4=0,1,AV4),NA())","v":{"$error":"#N/A"}},null,{"$f":"IFERROR(RTD(\"cqg.rtd\",,\"StudyData\", \"Correlation(\"&$B$3&\",\"&AY$2&\",Period:=\"&$B$1&\",InputChoice1:=Close,InputChoice2::=Close)\", \"FG\", \"\", \"Close\",$B$2,A4, \"all\",\"\", \"\",\"True\",\"T\")/100,\"\")","v":0.54439308578800005},null,-1,{"$f":"FREQUENCY(AY4:AY104,BA4:BA104)","v":0},{"$f":"IF(AND($AY$4>=BA4,$AY$4<BA5),IF(BB4=0,1,BB4),NA())","v":{"$error":"#N/A"}},null,{"$f":"IFERROR(RTD(\"cqg.rtd\",,\"StudyData\", \"Correlation(\"&$B$3&\",\"&BE$2&\",Period:=\"&$B$1&\",InputChoice1:=Close,InputChoice2::=Close)\", \"FG\", \"\", \"Close\",$B$2,A4, \"all\",\"\", \"\",\"True\",\"T\")/100,\"\")","v":0.17243281246199998},null,-1,{"$f":"FREQUENCY(BE4:BE104,BG4:BG104)","v":0},{"$f":"IF(AND($BE$4>=BG4,$BE$4<BG5),IF(BH4=0,1,BH4),NA())","v":{"$error":"#N/A"}}]
[{"$f":"A4-1","v":-1},null,{"$f":"IFERROR(RTD(\"cqg.rtd\",,\"StudyData\", \"Correlation(\"&$B$3&\",\"&C$2&\",Period:=\"&$B$1&\",InputChoice1:=Close,InputChoice2:=Close)\", \"FG\", \"\", \"Close\",$B$2,A5, \"all\",\"\", \"\",\"True\",\"T\")/100,\"\")","v":0.48009167238200001},null,{"$f":"E4+0.02","v":-0.98},0,{"$f":"IF(AND($C$4>=E5,$C$4<E6),IF(F5=0,1,F5),NA())","v":{"$error":"#N/A"}},null,{"$f":"IFERROR(RTD(\"cqg.rtd\",,\"StudyData\", \"Correlation(\"&$B$3&\",\"&I$2&\",Period:=\"&$B$1&\",InputChoice1:=Close,InputChoice2::=Close)\", \"FG\", \"\", \"Close\",$B$2,A5, \"all\",\"\", \"\",\"True\",\"T\")/100,\"\")","v":0.47004590386799999},null,{"$f":"K4+0.02","v":-0.98},0,{"$f":"IF(AND($I$4>=K5,$I$4<K6),IF(L5=0,1,L5),NA())","v":{"$error":"#N/A"}},null,{"$f":"IFERROR(RTD(\"cqg.rtd\",,\"StudyData\", \"Correlation(\"&$B$3&\",\"&O$2&\",Period:=\"&$B$1&\",InputChoice1:=Close,InputChoice2::=Close)\", \"FG\", \"\", \"Close\",$B$2,A5, \"all\",\"\", \"\",\"True\",\"T\")/100,\"\")","v":0.22169655414800002},null,{"$f":"Q4+0.02","v":-0.98},0,{"$f":"IF(AND($O$4>=Q5,$O$4<Q6),IF(R5=0,1,R5),NA())","v":{"$error":"#N/A"}},null,{"$f":"IFERROR(RTD(\"cqg.rtd\",,\"StudyData\", \"Correlation(\"&$B$3&\",\"&U$2&\",Period:=\"&$B$1&\",InputChoice1:=Close,InputChoice2::=Close)\", \"FG\", \"\", \"Close\",$B$2,A5, \"all\",\"\", \"\",\"True\",\"T\")/100,\"\")","v":0.53943388568999995},null,{"$f":"W4+0.02","v":-0.98},0,{"$f":"IF(AND($U$4>=W5,$U$4<W6),IF(X5=0,1,X5),NA())","v":{"$error":"#N/A"}},null,{"$f":"IFERROR(RTD(\"cqg.rtd\",,\"StudyData\", \"Correlation(\"&$B$3&\",\"&AA$2&\",Period:=\"&$B$1&\",InputChoice1:=Close,InputChoice2::=Close)\", \"FG\", \"\", \"Close\",$B$2,A5, \"all\",\"\", \"\",\"True\",\"T\")/100,\"\")","v":0.63833165316499996},null,{"$f":"AC4+0.02","v":-0.98},0,{"$f":"IF(AND($AA$4>=AC5,$AA$4<AC6),IF(AD5=0,1,AD5),NA())","v":{"$error":"#N/A"}},null,{"$f":"IFERROR(RTD(\"cqg.rtd\",,\"StudyData\", \"Correlation(\"&$B$3&\",\"&AG$2&\",Period:=\"&$B$1&\",InputChoice1:=Close,InputChoice2::=Close)\", \"FG\", \"\", \"Close\",$B$2,A5, \"all\",\"\", \"\",\"True\",\"T\")/100,\"\")","v":0.53918756997499995},null,{"$f":"AI4+0.02","v":-0.98},0,{"$f":"IF(AND($AG$4>=AI5,$AG$4<AI6),IF(AJ5=0,1,AJ5),NA())","v":{"$error":"#N/A"}},null,{"$f":"IFERROR(RTD(\"cqg.rtd\",,\"StudyData\", \"Correlation(\"&$B$3&\",\"&AM$2&\",Period:=\"&$B$1&\",InputChoice1:=Close,InputChoice2::=Close)\", \"FG\", \"\", \"Close\",$B$2,A5, \"all\",\"\", \"\",\"True\",\"T\")/100,\"\")","v":0.57164294766199997},null,{"$f":"AO4+0.02","v":-0.98},0,{"$f":"IF(AND($AM$4>=AO5,$AM$4<AO6),IF(AP5=0,1,AP5),NA())","v":{"$error":"#N/A"}},null,{"$f":"IFERROR(RTD(\"cqg.rtd\",,\"StudyData\", \"Correlation(\"&$B$3&\",\"&AS$2&\",Period:=\"&$B$1&\",InputChoice1:=Close,InputChoice2::=Close)\", \"FG\", \"\", \"Close\",$B$2,A5, \"all\",\"\", \"\",\"True\",\"T\")/100,\"\")","v":0.23625078990199999},null,{"$f":"AU4+0.02","v":-0.98},0,{"$f":"IF(AND($AS$4>=AU5,$AS$4<AU6),IF(AV5=0,1,AV5),NA())","v":{"$error":"#N/A"}},null,{"$f":"IFERROR(RTD(\"cqg.rtd\",,\"StudyData\", \"Correlation(\"&$B$3&\",\"&AY$2&\",Period:=\"&$B$1&\",InputChoice1:=Close,InputChoice2::=Close)\", \"FG\", \"\", \"Close\",$B$2,A5, \"all\",\"\", \"\",\"True\",\"T\")/100,\"\")","v":0.303646455004},null,{"$f":"BA4+0.02","v":-0.98},0,{"$f":"IF(AND($AY$4>=BA5,$AY$4<BA6),IF(BB5=0,1,BB5),NA())","v":{"$error":"#N/A"}},null,{"$f":"IFERROR(RTD(\"cqg.rtd\",,\"StudyData\", \"Correlation(\"&$B$3&\",\"&BE$2&\",Period:=\"&$B$1&\",InputChoice1:=Close,InputChoice2::=Close)\", \"FG\", \"\", \"Close\",$B$2,A5, \"all\",\"\", \"\",\"True\",\"T\")/100,\"\")","v":0.41261409743100003},null,{"$f":"BG4+0.02","v":-0.98},0,{"$f":"IF(AND($BE$4>=BG5,$BE$4<BG6),IF(BH5=0,1,BH5),NA())","v":{"$error":"#N/A"}}]
[{"$f":"A5-1","v":-2},null,{"$f":"IFERROR(RTD(\"cqg.rtd\",,\"StudyData\", \"Correlation(\"&$B$3&\",\"&C$2&\",Period:=\"&$B$1&\",InputChoice1:=Close,InputChoice2:=Close)\", \"FG\", \"\", \"Close\",$B$2,A6, \"all\",\"\", \"\",\"True\",\"T\")/100,\"\")","v":0.57184536956800003},null,{"$f":"E5+0.02","v":-0.96},0,{"$error":"#N/A"},null,{"$f":"IFERROR(RTD(\"cqg.rtd\",,\"StudyData\", \"Correlation(\"&$B$3&\",\"&I$2&\",Period:=\"&$B$1&\",InputChoice1:=Close,InputChoice2::=Close)\", \"FG\", \"\", \"Close\",$B$2,A6, \"all\",\"\", \"\",\"True\",\"T\")/100,\"\")","v":0.59074356587300003},null,{"$f":"K5+0.02","v":-0.96},0,{"$error":"#N/A"},null,{"$f":"IFERROR(RTD(\"cqg.rtd\",,\"StudyData\", \"Correlation(\"&$B$3&\",\"&O$2&\",Period:=\"&$B$1&\",InputChoice1:=Close,InputChoice2::=Close)\", \"FG\", \"\", \"Close\",$B$2,A6, \"all\",\"\", \"\",\"True\",\"T\")/100,\"\")","v":0.24765410202599999},null,{"$f":"Q5+0.02","v":-0.96},0,{"$error":"#N/A"},null,{"$f":"IFERROR(RTD(\"cqg.rtd\",,\"StudyData\", \"Correlation(\"&$B$3&\",\"&U$2&\",Period:=\"&$B$1&\",InputChoice1:=Close,InputChoice2::=Close)\", \"FG\", \"\", \"Close\",$B$2,A6, \"all\",\"\", \"\",\"True\",\"T\")/100,\"\")","v":0.64884285691200005},null,{"$f":"W5+0.02","v":-0.96},0,{"$error":"#N/A"},null,{"$f":"IFERROR(RTD(\"cqg.rtd\",,\"StudyData\", \"Correlation(\"&$B$3&\",\"&AA$2&\",Period:=\"&$B$1&\",InputChoice1:=Close,InputChoice2::=Close)\", \"FG\", \"\", \"Close\",$B$2,A6, \"all\",\"\", \"\",\"True\",\"T\")/100,\"\")","v":0.73702831053500006},null,{"$f":"AC5+0.02","v":-0.96},0,{"$error":"#N/A"},null,{"$f":"IFERROR(RTD(\"cqg.rtd\",,\"StudyData\", \"Correlation(\"&$B$3&\",\"&AG$2&\",Period:=\"&$B$1&\",InputChoice1:=Close,InputChoice2::=Close)\", \"FG\", \"\", \"Close\",$B$2,A6, \"all\",\"\", \"\",\"True\",\"T\")/100,\"\")","v":0.63503564095800002},null,{"$f":"AI5+0.02","v":-0.96},0,{"$error":"#N/A"},null,{"$f":"IFERROR(RTD(\"cqg.rtd\",,\"StudyData\", \"Correlation(\"&$B$3&\",\"&AM$2&\",Period:=\"&$B$1&\",InputChoice1:=Close,InputChoice2::=Close)\", \"FG\", \"\", \"Close\",$B$2,A6, \"all\",\"\", \"\",\"True\",\"T\")/100,\"\")","v":0.65561823081300008},null,{"$f":"AO5+0.02","v":-0.96},0,{"$error":"#N/A"},null,{"$f":"IFERROR(RTD(\"cqg.rtd\",,\"StudyData\", \"Correlation(\"&$B$3&\",\"&AS$2&\",Period:=\"&$B$1&\",InputChoice1:=Close,InputChoice2::=Close)\", \"FG\", \"\", \"Close\",$B$2,A6, \"all\",\"\", \"\",\"True\",\"T\")/100,\"\")","v":0.18307801712900001},null,{"$f":"AU5+0.02","v":-0.96},0,{"$error":"#N/A"},null,{"$f":"IFERROR(RTD(\"cqg.rtd\",,\"StudyData\", \"Correlation(\"&$B$3&\",\"&AY$2&\",Period:=\"&$B$1&\",InputChoice1:=Close,InputChoice2::=Close)\", \"FG\", \"\", \"Close\",$B$2,A6, \"all\",\"\", \"\",\"True\",\"T\")/100,\"\")","v":0.27430679261300001},null,{"$f":"BA5+0.02","v":-0.96},0,{"$error":"#N/A"},null,{"$f":"IFERROR(RTD(\"cqg.rtd\",,\"StudyData\", \"Correlation(\"&$B$3&\",\"&BE$2&\",Period:=\"&$B$1&\",InputChoice1:=Close,InputChoice2::=Close)\", \"FG\", \"\", \"Close\",$B$2,A6, \"all\",\"\", \"\",\"True\",\"T\")/100,\"\")","v":0.550125014553},null,{"$f":"BG5+0.02","v":-0.96},0,{"$error":"#N/A"}]
[-3,null,{"$f":"IFERROR(RTD(\"cqg.rtd\",,\"StudyData\", \"Correlation(\"&$B$3&\",\"&C$2&\",Period:=\"&$B$1&\",InputChoice1:=Close,InputChoice2:=Close)\", \"FG\", \"\", \"Close\",$B$2,A7, \"all\",\"\", \"\",\"True\",\"T\")/100,\"\")","v":0.60903690307500002},null,-0.94,0,{"$error":"#N/A"},null,{"$f":"IFERROR(RTD(\"cqg.rtd\",,\"StudyData\", \"Correlation(\"&$B$3&\",\"&I$2&\",Period:=\"&$B$1&\",InputChoice1:=Close,InputChoice2::=Close)\", \"FG\", \"\", \"Close\",$B$2,A7, \"all\",\"\", \"\",\"True\",\"T\")/100,\"\")","v":0.65069889919700008},null,-0.94,0,{"$error":"#N/A"},null,{"$f":"IFERROR(RTD(\"cqg.rtd\",,\"StudyData\", \"Correlation(\"&$B$3&\",\"&O$2&\",Period:=\"&$B$1&\",InputChoice1:=Close,InputChoice2::=Close)\", \"FG\", \"\", \"Close\",$B$2,A7, \"all\",\"\", \"\",\"True\",\"T\")/100,\"\")","v":0.13559944559000001},null,-0.94,0,{"$error":"#N/A"},null,{"$f":"IFERROR(RTD(\"cqg.rtd\",,\"StudyData\", \"Correlation(\"&$B$3&\",\"&U$2&\",Period:=\"&$B$1&\",InputChoice1:=Close,InputChoice2::=Close)\", \"FG\", \"\", \"Close\",$B$2,A7, \"all\",\"\", \"\",\"True\",\"T\")/100,\"\")","v":0.70169704195500004},null,-0.94,0,{"$error":"#N/A"},null,{"$f":"IFERROR(RTD(\"cqg.rtd\",,\"StudyData\", \"Correlation(\"&$B$3&\",\"&AA$2&\",Period:=\"&$B$1&\",InputChoice1:=Close,InputChoice2::=Close)\", \"FG\", \"\", \"Close\",$B$2,A7, \"all\",\"\", \"\",\"True\",\"T\")/100,\"\")","v":0.796354605075},null,-0.94,0,{"$error":"#N/A"},null,{"$f":"IFERROR(RTD(\"cqg.rtd\",,\"StudyData\", \"Correlation(\"&$B$3&\",\"&AG$2&\",Period:=\"&$B$1&\",InputChoice1:=Close,InputChoice2::=Close)\", \"FG\", \"\", \"Close\",$B$2,A7, \"all\",\"\", \"\",\"True\",\"T\")/100,\"\")","v":0.69087227985900002},null,-0.94,0,{"$error":"#N/A"},null,{"$f":"IFERROR(RTD(\"cqg.rtd\",,\"StudyData\", \"Correlation(\"&$B$3&\",\"&AM$2&\",Period:=\"&$B$1&\",InputChoice1:=Close,InputChoice2::=Close)\", \"FG\", \"\", \"Close\",$B$2,A7, \"all\",\"\", \"\",\"True\",\"T\")/100,\"\")","v":0.70938974070599992},null,-0.94,0,{"$error":"#N/A"},null,{"$f":"IFERROR(RTD(\"cqg.rtd\",,\"StudyData\", \"Correlation(\"&$B$3&\",\"&AS$2&\",Period:=\"&$B$1&\",InputChoice1:=Close,InputChoice2::=Close)\", \"FG\", \"\", \"Close\",$B$2,A7, \"all\",\"\", \"\",\"True\",\"T\")/100,\"\")","v":7.8007324392999997E-2},null,-0.94,0,{"$error":"#N/A"},null,{"$f":"IFERROR(RTD(\"cqg.rtd\",,\"StudyData\", \"Correlation(\"&$B$3&\",\"&AY$2&\",Period:=\"&$B$1&\",InputChoice1:=Close,InputChoice2::=Close)\", \"FG\", \"\", \"Close\",$B$2,A7, \"all\",\"\", \"\",\"True\",\"T\")/100,\"\")","v":0.30739820680300001},null,-0.94,0,{"$error":"#N/A"},null,{"$f":"IFERROR(RTD(\"cqg.rtd\",,\"StudyData\", \"Correlation(\"&$B$3&\",\"&BE$2&\",Period:=\"&$B$1&\",InputChoice1:=Close,InputChoice2::=Close)\", \"FG\", \"\", \"Close\",$B$2,A7, \"all\",\"\", \"\",\"True\",\"T\")/100,\"\")","v":0.64563880933200002},null,-0.94,0,{"$error":"#N/A"}]
[-4,null,{"$f":"IFERROR(RTD(\"cqg.rtd\",,\"StudyData\", \"Correlation(\"&$B$3&\",\"&C$2&\",Period:=\"&$B$1&\",InputChoice1:=Close,InputChoice2:=Close)\", \"FG\", \"\", \"Close\",$B$2,A8, \"all\",\"\", \"\",\"True\",\"T\")/100,\"\")","v":0.59527336377700002},null,-0.91999999999999993,0,{"$error":"#N/A"},null,{"$f":"IFERROR(RTD(\"cqg.rtd\",,\"StudyData\", \"Correlation(\"&$B$3&\",\"&I$2&\",Period:=\"&$B$1&\",InputChoice1:=Close,InputChoice2::=Close)\", \"FG\", \"\", \"Close\",$B$2,A8, \"all\",\"\", \"\",\"True\",\"T\")/100,\"\")","v":0.68786653281300003},null,-0.91999999999999993,0,{"$error":"#N/A"},null,{"$f":"IFERROR(RTD(\"cqg.rtd\",,\"StudyData\", \"Correlation(\"&$B$3&\",\"&O$2&\",Period:=\"&$B$1&\",InputChoice1:=Close,InputChoice2::=Close)\", \"FG\", \"\", \"Close\",$B$2,A8, \"all\",\"\", \"\",\"True\",\"T\")/100,\"\")","v":5.6073681262999997E-2},null,-0.91999999999999993,0,{"$error":"#N/A"},null,{"$f":"IFERROR(RTD(\"cqg.rtd\",,\"StudyData\", \"Correlation(\"&$B$3&\",\"&U$2&\",Period:=\"&$B$1&\",InputChoice1:=Close,InputChoice2::=Close)\", \"FG\", \"\", \"Close\",$B$2,A8, \"all\",\"\", \"\",\"True\",\"T\")/100,\"\")","v":0.73353227916500008},null,-0.91999999999999993,0,{"$error":"#N/A"},null,{"$f":"IFERROR(RTD(\"cqg.rtd\",,\"StudyData\", \"Correlation(\"&$B$3&\",\"&AA$2&\",Period:=\"&$B$1&\",InputChoice1:=Close,InputChoice2::=Close)\", \"FG\", \"\", \"Close\",$B$2,A8, \"all\",\"\", \"\",\"True\",\"T\")/100,\"\")","v":0.81110305463599996},null,-0.91999999999999993,0,{"$error":"#N/A"},null,{"$f":"IFERROR(RTD(\"cqg.rtd\",,\"StudyData\", \"Correlation(\"&$B$3&\",\"&AG$2&\",Period:=\"&$B$1&\",InputChoice1:=Close,InputChoice2::=Close)\", \"FG\", \"\", \"Close\",$B$2,A8, \"all\",\"\", \"\",\"True\",\"T\")/100,\"\")","v":0.71336286772500002},null,-0.91999999999999993,0,{"$error":"#N/A"},null,{"$f":"IFERROR(RTD(\"cqg.rtd\",,\"StudyData\", \"Correlation(\"&$B$3&\",\"&AM$2&\",Period:=\"&$B$1&\",InputChoice1:=Close,InputChoice2::=Close)\", \"FG\", \"\", \"Close\",$B$2,A8, \"all\",\"\", \"\",\"True\",\"T\")/100,\"\")","v":0.72993748087800003},null,-0.91999999999999993,0,{"$error":"#N/A"},null,{"$f":"IFERROR(RTD(\"cqg.rtd\",,\"StudyData\", \"Correlation(\"&$B$3&\",\"&AS$2&\",Period:=\"&$B$1&\",InputChoice1:=Close,InputChoice2::=Close)\", \"FG\", \"\", \"Close\",$B$2,A8, \"all\",\"\", \"\",\"True\",\"T\")/100,\"\")","v":-6.6183829806999994E-2},null,-0.91999999999999993,0,{"$error":"#N/A"},null,{"$f":"IFERROR(RTD(\"cqg.rtd\",,\"StudyData\", \"Correlation(\"&$B$3&\",\"&AY$2&\",Period:=\"&$B$1&\",InputChoice1:=Close,InputChoice2::=Close)\", \"FG\", \"\", \"Close\",$B$2,A8, \"all\",\"\", \"\",\"True\",\"T\")/100,\"\")","v":0.37504164171299997},null,-0.91999999999999993,0,{"$error":"#N/A"},null,{"$f":"IFERROR(RTD(\"cqg.rtd\",,\"StudyData\", \"Correlation(\"&$B$3&\",\"&BE$2&\",Period:=\"&$B$1&\",InputChoice1:=Close,InputChoice2::=Close)\", \"FG\", \"\", \"Close\",$B$2,A8, \"all\",\"\", \"\",\"True\",\"T\")/100,\"\")","v":0.64313160789700008},null,-0.91999999999999993,0,{"$error":"#N/A"}]
[-5,null,{"$f":"IFERROR(RTD(\"cqg.rtd\",,\"StudyData\", \"Correlation(\"&$B$3&\",\"&C$2&\",Period:=\"&$B$1&\",InputChoice1:=Close,InputChoice2:=Close)\", \"FG\", \"\", \"Close\",$B$2,A9, \"all\",\"\", \"\",\"True\",\"T\")/100,\"\")","v":0.50786408014099993},null,-0.89999999999999991,0,{"$error":"#N/A"},null,{"$f":"IFERROR(RTD(\"cqg.rtd\",,\"StudyData\", \"Correlation(\"&$B$3&\",\"&I$2&\",Period:=\"&$B$1&\",InputChoice1:=Close,InputChoice2::=Close)\", \"FG\", \"\", \"Close\",$B$2,A9, \"all\",\"\", \"\",\"True\",\"T\")/100,\"\")","v":0.69221952048899993},null,-0.89999999999999991,0,{"$error":"#N/A"},null,{"$f":"IFERROR(RTD(\"cqg.rtd\",,\"StudyData\", \"Correlation(\"&$B$3&\",\"&O$2&\",Period:=\"&$B$1&\",InputChoice1:=Close,InputChoice2::=Close)\", \"FG\", \"\", \"Close\",$B$2,A9, \"all\",\"\", \"\",\"True\",\"T\")/100,\"\")","v":-7.6531903621E-2},null,-0.89999999999999991,0,{"$error":"#N/A"},null,{"$f":"IFERROR(RTD(\"cqg.rtd\",,\"StudyData\", \"Correlation(\"&$B$3&\",\"&U$2&\",Period:=\"&$B$1&\",InputChoice1:=Close,InputChoice2::=Close)\", \"FG\", \"\", \"Close\",$B$2,A9, \"all\",\"\", \"\",\"True\",\"T\")/100,\"\")","v":0.76293812330199995},null,-0.89999999999999991,0,{"$error":"#N/A"},null,{"$f":"IFERROR(RTD(\"cqg.rtd\",,\"StudyData\", \"Correlation(\"&$B$3&\",\"&AA$2&\",Period:=\"&$B$1&\",InputChoice1:=Close,InputChoice2::=Close)\", \"FG\", \"\", \"Close\",$B$2,A9, \"all\",\"\", \"\",\"True\",\"T\")/100,\"\")","v":0.7878325318199999},null,-0.89999999999999991,0,{"$error":"#N/A"},null,{"$f":"IFERROR(RTD(\"cqg.rtd\",,\"StudyData\", \"Correlation(\"&$B$3&\",\"&AG$2&\",Period:=\"&$B$1&\",InputChoice1:=Close,InputChoice2::=Close)\", \"FG\", \"\", \"Close\",$B$2,A9, \"all\",\"\", \"\",\"True\",\"T\")/100,\"\")","v":0.71322295592399998},null,-0.89999999999999991,2,{"$error":"#N/A"},null,{"$f":"IFERROR(RTD(\"cqg.rtd\",,\"StudyData\", \"Correlation(\"&$B$3&\",\"&AM$2&\",Period:=\"&$B$1&\",InputChoice1:=Close,InputChoice2::=Close)\", \"FG\", \"\", \"Close\",$B$2,A9, \"all\",\"\", \"\",\"True\",\"T\")/100,\"\")","v":0.72694643490900002},null,-0.89999999999999991,0,{"$error":"#N/A"},null,{"$f":"IFERROR(RTD(\"cqg.rtd\",,\"StudyData\", \"Correlation(\"&$B$3&\",\"&AS$2&\",Period:=\"&$B$1&\",InputChoice1:=Close,InputChoice2::=Close)\", \"FG\", \"\", \"Close\",$B$2,A9, \"all\",\"\", \"\",\"True\",\"T\")/100,\"\")","v":-0.30005197316999999},null,-0.89999999999999991,0,{"$error":"#N/A"},null,{"$f":"IFERROR(RTD(\"cqg.rtd\",,\"StudyData\", \"Correlation(\"&$B$3&\",\"&AY$2&\",Period:=\"&$B$1&\",InputChoice1:=Close,InputChoice2::=Close)\", \"FG\", \"\", \"Close\",$B$2,A9, \"all\",\"\", \"\",\"True\",\"T\")/100,\"\")","v":0.48012397327700002},null,-0.89999999999999991,0,{"$error":"#N/A"},null,{"$f":"IFERROR(RTD(\"cqg.rtd\",,\"StudyData\", \"Correlation(\"&$B$3&\",\"&BE$2&\",Period:=\"&$B$1&\",InputChoice1:=Close,InputChoice2::=Close)\", \"FG\", \"\", \"Close\",$B$2,A9, \"all\",\"\", \"\",\"True\",\"T\")/100,\"\")","v":0.58182140023499995},null,-0.89999999999999991,0,{"$error":"#N/A"}]
[-6,null,{"$f":"IFERROR(RTD(\"cqg.rtd\",,\"StudyData\", \"Correlation(\"&$B$3&\",\"&C$2&\",Period:=\"&$B$1&\",InputChoice1:=Close,InputChoice2:=Close)\", \"FG\", \"\", \"Close\",$B$2,A10, \"all\",\"\", \"\",\"True\",\"T\")/100,\"\")","v":0.442408527474},null,-0.87999999999999989,0,{"$error":"#N/A"},null,{"$f":"IFERROR(RTD(\"cqg.rtd\",,\"StudyData\", \"Correlation(\"&$B$3&\",\"&I$2&\",Period:=\"&$B$1&\",InputChoice1:=Close,InputChoice2::=Close)\", \"FG\", \"\", \"Close\",$B$2,A10, \"all\",\"\", \"\",\"True\",\"T\")/100,\"\")","v":0.70348334441899996},null,-0.87999999999999989,0,{"$error":"#N/A"},null,{"$f":"IFERROR(RTD(\"cqg.rtd\",,\"StudyData\", \"Correlation(\"&$B$3&\",\"&O$2&\",Period:=\"&$B$1&\",InputChoice1:=Close,InputChoice2::=Close)\", \"FG\", \"\", \"Close\",$B$2,A10, \"all\",\"\", \"\",\"True\",\"T\")/100,\"\")","v":-0.18582153112099997},null,-0.87999999999999989,0,{"$error":"#N/A"},null,{"$f":"IFERROR(RTD(\"cqg.rtd\",,\"StudyData\", \"Correlation(\"&$B$3&\",\"&U$2&\",Period:=\"&$B$1&\",InputChoice1:=Close,InputChoice2::=Close)\", \"FG\", \"\", \"Close\",$B$2,A10, \"all\",\"\", \"\",\"True\",\"T\")/100,\"\")","v":0.78469849420399995},null,-0.87999999999999989,1,{"$error":"#N/A"},null,{"$f":"IFERROR(RTD(\"cqg.rtd\",,\"StudyData\", \"Correlation(\"&$B$3&\",\"&AA$2&\",Period:=\"&$B$1&\",InputChoice1:=Close,InputChoice2::=Close)\", \"FG\", \"\", \"Close\",$B$2,A10, \"all\",\"\", \"\",\"True\",\"T\")/100,\"\")","v":0.71608697574000002},null,-0.87999999999999989,0,{"$error":"#N/A"},null,{"$f":"IFERROR(RTD(\"cqg.rtd\",,\"StudyData\", \"Correlation(\"&$B$3&\",\"&AG$2&\",Period:=\"&$B$1&\",InputChoice1:=Close,InputChoice2::=Close)\", \"FG\", \"\", \"Close\",$B$2,A10, \"all\",\"\", \"\",\"True\",\"T\")/100,\"\")","v":0.65958823379600007},null,-0.87999999999999989,2,{"$error":"#N/A"},null,{"$f":"IFERROR(RTD(\"cqg.rtd\",,\"StudyData\", \"Correlation(\"&$B$3&\",\"&AM$2&\",Period:=\"&$B$1&\",InputChoice1:=Close,InputChoice2::=Close)\", \"FG\", \"\", \"Close\",$B$2,A10, \"all\",\"\", \"\",\"True\",\"T\")/100,\"\")","v":0.65821999286499999},null,-0.87999999999999989,1,{"$error":"#N/A"},null,{"$f":"IFERROR(RTD(\"cqg.rtd\",,\"StudyData\", \"Correlation(\"&$B$3&\",\"&AS$2&\",Period:=\"&$B$1&\",InputChoice1:=Close,InputChoice2::=Close)\", \"FG\", \"\", \"Close\",$B$2,A10, \"all\",\"\", \"\",\"True\",\"T\")/100,\"\")","v":-0.48379982687899997},null,-0.87999999999999989,3,{"$error":"#N/A"},null,{"$f":"IFERROR(RTD(\"cqg.rtd\",,\"StudyData\", \"Correlation(\"&$B$3&\",\"&AY$2&\",Period:=\"&$B$1&\",InputChoice1:=Close,InputChoice2::=Close)\", \"FG\", \"\", \"Close\",$B$2,A10, \"all\",\"\", \"\",\"True\",\"T\")/100,\"\")","v":0.47955268569499998},null,-0.87999999999999989,0,{"$error":"#N/A"},null,{"$f":"IFERROR(RTD(\"cqg.rtd\",,\"StudyData\", \"Correlation(\"&$B$3&\",\"&BE$2&\",Period:=\"&$B$1&\",InputChoice1:=Close,InputChoice2::=Close)\", \"FG\", \"\", \"Close\",$B$2,A10, \"all\",\"\", \"\",\"True\",\"T\")/100,\"\")","v":0.49376065406699998},null,-0.87999999999999989,0,{"$error":"#N/A"}]
[-7,null,{"$f":"IFERROR(RTD(\"cqg.rtd\",,\"StudyData\", \"Correlation(\"&$B$3&\",\"&C$2&\",Period:=\"&$B$1&\",InputChoice1:=Close,InputChoice2:=Close)\", \"FG\", \"\", \"Close\",$B$2,A11, \"all\",\"\", \"\",\"True\",\"T\")/100,\"\")","v":0.463078580445},null,-0.85999999999999988,0,{"$error":"#N/A"},null,{"$f":"IFERROR(RTD(\"cqg.rtd\",,\"StudyData\", \"Correlation(\"&$B$3&\",\"&I$2&\",Period:=\"&$B$1&\",InputChoice1:=Close,InputChoice2::=Close)\", \"FG\", \"\", \"Close\",$B$2,A11, \"all\",\"\", \"\",\"True\",\"T\")/100,\"\")","v":0.75523940489200003},null,-0.85999999999999988,0,{"$error":"#N/A"},null,{"$f":"IFERROR(RTD(\"cqg.rtd\",,\"StudyData\", \"Correlation(\"&$B$3&\",\"&O$2&\",Period:=\"&$B$1&\",InputChoice1:=Close,InputChoice2::=Close)\", \"FG\", \"\", \"Close\",$B$2,A11, \"all\",\"\", \"\",\"True\",\"T\")/100,\"\")","v":-0.24061763157499999},null,-0.85999999999999988,0,{"$error":"#N/A"},null,{"$f":"IFERROR(RTD(\"cqg.rtd\",,\"StudyData\", \"Correlation(\"&$B$3&\",\"&U$2&\",Period:=\"&$B$1&\",InputChoice1:=Close,InputChoice2::=Close)\", \"FG\", \"\", \"Close\",$B$2,A11, \"all\",\"\", \"\",\"True\",\"T\")/100,\"\")","v":0.82865957501200005},null,-0.85999999999999988,2,{"$error":"#N/A"},null,{"$f":"IFERROR(RTD(\"cqg.rtd\",,\"StudyData\", \"Correlation(\"&$B$3&\",\"&AA$2&\",Period:=\"&$B$1&\",InputChoice1:=Close,InputChoice2::=Close)\", \"FG\", \"\", \"Close\",$B$2,A11, \"all\",\"\", \"\",\"True\",\"T\")/100,\"\")","v":0.73287825720699995},null,-0.85999999999999988,2,{"$error":"#N/A"},null,{"$f":"IFERROR(RTD(\"cqg.rtd\",,\"StudyData\", \"Correlation(\"&$B$3&\",\"&AG$2&\",Period:=\"&$B$1&\",InputChoice1:=Close,InputChoice2::=Close)\", \"FG\", \"\", \"Close\",$B$2,A11, \"all\",\"\", \"\",\"True\",\"T\")/100,\"\")","v":0.66230553214400001},null,-0.85999999999999988,2,{"$error":"#N/A"},null,{"$f":"IFERROR(RTD(\"cqg.rtd\",,\"StudyData\", \"Correlation(\"&$B$3&\",\"&AM$2&\",Period:=\"&$B$1&\",InputChoice1:=Close,InputChoice2::=Close)\", \"FG\", \"\", \"Close\",$B$2,A11, \"all\",\"\", \"\",\"True\",\"T\")/100,\"\")","v":0.653354508183},null,-0.85999999999999988,3,{"$error":"#N/A"},null,{"$f":"IFERROR(RTD(\"cqg.rtd\",,\"StudyData\", \"Correlation(\"&$B$3&\",\"&AS$2&\",Period:=\"&$B$1&\",InputChoice1:=Close,InputChoice2::=Close)\", \"FG\", \"\", \"Close\",$B$2,A11, \"all\",\"\", \"\",\"True\",\"T\")/100,\"\")","v":-0.524042908255},null,-0.85999999999999988,1,{"$error":"#N/A"},null,{"$f":"IFERROR(RTD(\"cqg.rtd\",,\"StudyData\", \"Correlation(\"&$B$3&\",\"&AY$2&\",Period:=\"&$B$1&\",InputChoice1:=Close,InputChoice2::=Close)\", \"FG\", \"\", \"Close\",$B$2,A11, \"all\",\"\", \"\",\"True\",\"T\")/100,\"\")","v":0.58952189741600003},null,-0.85999999999999988,0,{"$error":"#N/A"},null,{"$f":"IFERROR(RTD(\"cqg.rtd\",,\"StudyData\", \"Correlation(\"&$B$3&\",\"&BE$2&\",Period:=\"&$B$1&\",InputChoice1:=Close,InputChoice2::=Close)\", \"FG\", \"\", \"Close\",$B$2,A11, \"all\",\"\", \"\",\"True\",\"T\")/100,\"\")","v":0.51024255787799999},null,-0.85999999999999988,0,{"$error":"#N/A"}]
[-8,null,{"$f":"IFERROR(RTD(\"cqg.rtd\",,\"StudyData\", \"Correlation(\"&$B$3&\",\"&C$2&\",Period:=\"&$B$1&\",InputChoice1:=Close,InputChoice2:=Close)\", \"FG\", \"\", \"Close\",$B$2,A12, \"all\",\"\", \"\",\"True\",\"T\")/100,\"\")","v":0.34511755534999999},null,-0.83999999999999986,0,{"$error":"#N/A"},null,{"$f":"IFERROR(RTD(\"cqg.rtd\",,\"StudyData\", \"Correlation(\"&$B$3&\",\"&I$2&\",Period:=\"&$B$1&\",InputChoice1:=Close,InputChoice2::=Close)\", \"FG\", \"\", \"Close\",$B$2,A12, \"all\",\"\", \"\",\"True\",\"T\")/100,\"\")","v":0.72502730029399998},null,-0.83999999999999986,0,{"$error":"#N/A"},null,{"$f":"IFERROR(RTD(\"cqg.rtd\",,\"StudyData\", \"Correlation(\"&$B$3&\",\"&O$2&\",Period:=\"&$B$1&\",InputChoice1:=Close,InputChoice2::=Close)\", \"FG\", \"\", \"Close\",$B$2,A12, \"all\",\"\", \"\",\"True\",\"T\")/100,\"\")","v":-0.33165808093899996},null,-0.83999999999999986,0,{"$error":"#N/A"},null,{"$f":"IFERROR(RTD(\"cqg.rtd\",,\"StudyData\", \"Correlation(\"&$B$3&\",\"&U$2&\",Period:=\"&$B$1&\",InputChoice1:=Close,InputChoice2::=Close)\", \"FG\", \"\", \"Close\",$B$2,A12, \"all\",\"\", \"\",\"True\",\"T\")/100,\"\")","v":0.82379124416100002},null,-0.83999999999999986,1,{"$error":"#N/A"},null,{"$f":"IFERROR(RTD(\"cqg.rtd\",,\"StudyData\", \"Correlation(\"&$B$3&\",\"&AA$2&\",Period:=\"&$B$1&\",InputChoice1:=Close,InputChoice2::=Close)\", \"FG\", \"\", \"Close\",$B$2,A12, \"all\",\"\", \"\",\"True\",\"T\")/100,\"\")","v":0.62683289625500005},null,-0.83999999999999986,2,{"$error":"#N/A"},null,{"$f":"IFERROR(RTD(\"cqg.rtd\",,\"StudyData\", \"Correlation(\"&$B$3&\",\"&AG$2&\",Period:=\"&$B$1&\",InputChoice1:=Close,InputChoice2::=Close)\", \"FG\", \"\", \"Close\",$B$2,A12, \"all\",\"\", \"\",\"True\",\"T\")/100,\"\")","v":0.52996723267400003},null,-0.83999999999999986,0,{"$error":"#N/A"},null,{"$f":"IFERROR(RTD(\"cqg.rtd\",,\"StudyData\", \"Correlation(\"&$B$3&\",\"&AM$2&\",Period:=\"&$B$1&\",InputChoice1:=Close,InputChoice2::=Close)\", \"FG\", \"\", \"Close\",$B$2,A12, \"all\",\"\", \"\",\"True\",\"T\")/100,\"\")","v":0.50451925911099993},null,-0.83999999999999986,4,{"$error":"#N/A"},null,{"$f":"IFERROR(RTD(\"cqg.rtd\",,\"StudyData\", \"Correlation(\"&$B$3&\",\"&AS$2&\",Period:=\"&$B$1&\",InputChoice1:=Close,InputChoice2::=Close)\", \"FG\", \"\", \"Close\",$B$2,A12, \"all\",\"\", \"\",\"True\",\"T\")/100,\"\")","v":-0.58152601242400004},null,-0.83999999999999986,3,{"$error":"#N/A"},null,{"$f":"IFERROR(RTD(\"cqg.rtd\",,\"StudyData\", \"Correlation(\"&$B$3&\",\"&AY$2&\",Period:=\"&$B$1&\",InputChoice1:=Close,InputChoice2::=Close)\", \"FG\", \"\", \"Close\",$B$2,A12, \"all\",\"\", \"\",\"True\",\"T\")/100,\"\")","v":0.631534882751},null,-0.83999999999999986,0,{"$error":"#N/A"},null,{"$f":"IFERROR(RTD(\"cqg.rtd\",,\"StudyData\", \"Correlation(\"&$B$3&\",\"&BE$2&\",Period:=\"&$B$1&\",InputChoice1:=Close,InputChoice2::=Close)\", \"FG\", \"\", \"Close\",$B$2,A12, \"all\",\"\", \"\",\"True\",\"T\")/100,\"\")","v":0.45039247248300002},null,-0.83999999999999986,0,{"$error":"#N/A"}]
[-9,null,{"$f":"IFERROR(RTD(\"cqg.rtd\",,\"StudyData\", \"Correlation(\"&$B$3&\",\"&C$2&\",Period:=\"&$B$1&\",InputChoice1:=Close,InputChoice2:=Close)\", \"FG\", \"\", \"Close\",$B$2,A13, \"all\",\"\", \"\",\"True\",\"T\")/100,\"\")","v":0.23897314559800001},null,-0.81999999999999984,1,{"$error":"#N/A"},null,{"$f":"IFERROR(RTD(\"cqg.rtd\",,\"StudyData\", \"Correlation(\"&$B$3&\",\"&I$2&\",Period:=\"&$B$1&\",InputChoice1:=Close,InputChoice2::=Close)\", \"FG\", \"\", \"Close\",$B$2,A13, \"all\",\"\", \"\",\"True\",\"T\")/100,\"\")","v":0.68769898010499997},null,-0.81999999999999984,4,{"$error":"#N/A"},null,{"$f":"IFERROR(RTD(\"cqg.rtd\",,\"StudyData\", \"Correlation(\"&$B$3&\",\"&O$2&\",Period:=\"&$B$1&\",InputChoice1:=Close,InputChoice2::=Close)\", \"FG\", \"\", \"Close\",$B$2,A13, \"all\",\"\", \"\",\"True\",\"T\")/100,\"\")","v":-0.36548406296400004},null,-0.81999999999999984,0,{"$error":"#N/A"},null,{"$f":"IFERROR(RTD(\"cqg.rtd\",,\"StudyData\", \"Correlation(\"&$B$3&\",\"&U$2&\",Period:=\"&$B$1&\",InputChoice1:=Close,InputChoice2::=Close)\", \"FG\", \"\", \"Close\",$B$2,A13, \"all\",\"\", \"\",\"True\",\"T\")/100,\"\")","v":0.79999963139499997},null,-0.81999999999999984,3,{"$error":"#N/A"},null,{"$f":"IFERROR(RTD(\"cqg.rtd\",,\"StudyData\", \"Correlation(\"&$B$3&\",\"&AA$2&\",Period:=\"&$B$1&\",InputChoice1:=Close,InputChoice2::=Close)\", \"FG\", \"\", \"Close\",$B$2,A13, \"all\",\"\", \"\",\"True\",\"T\")/100,\"\")","v":0.38513808807099997},null,-0.81999999999999984,1,{"$error":"#N/A"},null,{"$f":"IFERROR(RTD(\"cqg.rtd\",,\"StudyData\", \"Correlation(\"&$B$3&\",\"&AG$2&\",Period:=\"&$B$1&\",InputChoice1:=Close,InputChoice2::=Close)\", \"FG\", \"\", \"Close\",$B$2,A13, \"all\",\"\", \"\",\"True\",\"T\")/100,\"\")","v":0.31666595837299999},null,-0.81999999999999984,2,{"$error":"#N/A"},null,{"$f":"IFERROR(RTD(\"cqg.rtd\",,\"StudyData\", \"Correlation(\"&$B$3&\",\"&AM$2&\",Period:=\"&$B$1&\",InputChoice1:=Close,InputChoice2::=Close)\", \"FG\", \"\", \"Close\",$B$2,A13, \"all\",\"\", \"\",\"True\",\"T\")/100,\"\")","v":0.18505144572100002},null,-0.81999999999999984,2,{"$error":"#N/A"},null,{"$f":"IFERROR(RTD(\"cqg.rtd\",,\"StudyData\", \"Correlation(\"&$B$3&\",\"&AS$2&\",Period:=\"&$B$1&\",InputChoice1:=Close,InputChoice2::=Close)\", \"FG\", \"\", \"Close\",$B$2,A13, \"all\",\"\", \"\",\"True\",\"T\")/100,\"\")","v":-0.69924776895600005},null,-0.81999999999999984,1,{"$error":"#N/A"},null,{"$f":"IFERROR(RTD(\"cqg.rtd\",,\"StudyData\", \"Correlation(\"&$B$3&\",\"&AY$2&\",Period:=\"&$B$1&\",InputChoice1:=Close,InputChoice2::=Close)\", \"FG\", \"\", \"Close\",$B$2,A13, \"all\",\"\", \"\",\"True\",\"T\")/100,\"\")","v":0.69556503453100005},null,-0.81999999999999984,0,{"$error":"#N/A"},null,{"$f":"IFERROR(RTD(\"cqg.rtd\",,\"StudyData\", \"Correlation(\"&$B$3&\",\"&BE$2&\",Period:=\"&$B$1&\",InputChoice1:=Close,InputChoice2::=Close)\", \"FG\", \"\", \"Close\",$B$2,A13, \"all\",\"\", \"\",\"True\",\"T\")/100,\"\")","v":0.39126878816900001},null,-0.81999999999999984,0,{"$error":"#N/A"}]
[-10,null,{"$f":"IFERROR(RTD(\"cqg.rtd\",,\"StudyData\", \"Correlation(\"&$B$3&\",\"&C$2&\",Period:=\"&$B$1&\",InputChoice1:=Close,InputChoice2:=Close)\", \"FG\", \"\", \"Close\",$B$2,A14, \"all\",\"\", \"\",\"True\",\"T\")/100,\"\")","v":0.11264336872},null,-0.79999999999999982,3,{"$error":"#N/A"},null,{"$f":"IFERROR(RTD(\"cqg.rtd\",,\"StudyData\", \"Correlation(\"&$B$3&\",\"&I$2&\",Period:=\"&$B$1&\",InputChoice1:=Close,InputChoice2::=Close)\", \"FG\", \"\", \"Close\",$B$2,A14, \"all\",\"\", \"\",\"True\",\"T\")/100,\"\")","v":0.69033112317000001},null,-0.79999999999999982,1,{"$error":"#N/A"},null,{"$f":"IFERROR(RTD(\"cqg.rtd\",,\"StudyData\", \"Correlation(\"&$B$3&\",\"&O$2&\",Period:=\"&$B$1&\",InputChoice1:=Close,InputChoice2::=Close)\", \"FG\", \"\", \"Close\",$B$2,A14, \"all\",\"\", \"\",\"True\",\"T\")/100,\"\")","v":-0.380623734647},null,-0.79999999999999982,0,{"$error":"#N/A"},null,{"$f":"IFERROR(RTD(\"cqg.rtd\",,\"StudyData\", \"Correlation(\"&$B$3&\",\"&U$2&\",Period:=\"&$B$1&\",InputChoice1:=Close,InputChoice2::=Close)\", \"FG\", \"\", \"Close\",$B$2,A14, \"all\",\"\", \"\",\"True\",\"T\")/100,\"\")","v":0.80289024971800005},null,-0.79999999999999982,3,{"$error":"#N/A"},null,{"$f":"IFERROR(RTD(\"cqg.rtd\",,\"StudyData\", \"Correlation(\"&$B$3&\",\"&AA$2&\",Period:=\"&$B$1&\",InputChoice1:=Close,InputChoice2::=Close)\", \"FG\", \"\", \"Close\",$B$2,A14, \"all\",\"\", \"\",\"True\",\"T\")/100,\"\")","v":0.363376732762},null,-0.79999999999999982,2,{"$error":"#N/A"},null,{"$f":"IFERROR(RTD(\"cqg.rtd\",,\"StudyData\", \"Correlation(\"&$B$3&\",\"&AG$2&\",Period:=\"&$B$1&\",InputChoice1:=Close,InputChoice2::=Close)\", \"FG\", \"\", \"Close\",$B$2,A14, \"all\",\"\", \"\",\"True\",\"T\")/100,\"\")","v":0.25936203759299997},null,-0.79999999999999982,1,{"$error":"#N/A"},null,{"$f":"IFERROR(RTD(\"cqg.rtd\",,\"StudyData\", \"Correlation(\"&$B$3&\",\"&AM$2&\",Period:=\"&$B$1&\",InputChoice1:=Close,InputChoice2::=Close)\", \"FG\", \"\", \"Close\",$B$2,A14, \"all\",\"\", \"\",\"True\",\"T\")/100,\"\")","v":2.0891981175000001E-2},null,-0.79999999999999982,1,{"$error":"#N/A"},null,{"$f":"IFERROR(RTD(\"cqg.rtd\",,\"StudyData\", \"Correlation(\"&$B$3&\",\"&AS$2&\",Period:=\"&$B$1&\",InputChoice1:=Close,InputChoice2::=Close)\", \"FG\", \"\", \"Close\",$B$2,A14, \"all\",\"\", \"\",\"True\",\"T\")/100,\"\")","v":-0.68845807255000002},null,-0.79999999999999982,2,{"$error":"#N/A"},null,{"$f":"IFERROR(RTD(\"cqg.rtd\",,\"StudyData\", \"Correlation(\"&$B$3&\",\"&AY$2&\",Period:=\"&$B$1&\",InputChoice1:=Close,InputChoice2::=Close)\", \"FG\", \"\", \"Close\",$B$2,A14, \"all\",\"\", \"\",\"True\",\"T\")/100,\"\")","v":0.70376311776600009},null,-0.79999999999999982,0,{"$error":"#N/A"},null,{"$f":"IFERROR(RTD(\"cqg.rtd\",,\"StudyData\", \"Correlation(\"&$B$3&\",\"&BE$2&\",Period:=\"&$B$1&\",InputChoice1:=Close,InputChoice2::=Close)\", \"FG\", \"\", \"Close\",$B$2,A14, \"all\",\"\", \"\",\"True\",\"T\")/100,\"\")","v":0.36907631036099997},null,-0.79999999999999982,0,{"$error":"#N/A"}]
[-11,null,{"$f":"IFERROR(RTD(\"cqg.rtd\",,\"StudyData\", \"Correlation(\"&$B$3&\",\"&C$2&\",Period:=\"&$B$1&\",InputChoice1:=Close,InputChoice2:=Close)\", \"FG\", \"\", \"Close\",$B$2,A15, \"all\",\"\", \"\",\"True\",\"T\")/100,\"\")","v":0.19107792933999998},null,-0.7799999999999998,3,{"$error":"#N/A"},null,{"$f":"IFERROR(RTD(\"cqg.rtd\",,\"StudyData\", \"Correlation(\"&$B$3&\",\"&I$2&\",Period:=\"&$B$1&\",InputChoice1:=Close,InputChoice2::=Close)\", \"FG\", \"\", \"Close\",$B$2,A15, \"all\",\"\", \"\",\"True\",\"T\")/100,\"\")","v":0.66606174678700003},null,-0.7799999999999998,5,{"$error":"#N/A"},null,{"$f":"IFERROR(RTD(\"cqg.rtd\",,\"StudyData\", \"Correlation(\"&$B$3&\",\"&O$2&\",Period:=\"&$B$1&\",InputChoice1:=Close,InputChoice2::=Close)\", \"FG\", \"\", \"Close\",$B$2,A15, \"all\",\"\", \"\",\"True\",\"T\")/100,\"\")","v":-0.37824880538499994},null,-0.7799999999999998,0,{"$error":"#N/A"},null,{"$f":"IFERROR(RTD(\"cqg.rtd\",,\"StudyData\", \"Correlation(\"&$B$3&\",\"&U$2&\",Period:=\"&$B$1&\",InputChoice1:=Close,InputChoice2::=Close)\", \"FG\", \"\", \"Close\",$B$2,A15, \"all\",\"\", \"\",\"True\",\"T\")/100,\"\")","v":0.80460197052100002},null,-0.7799999999999998,5,{"$error":"#N/A"},null,{"$f":"IFERROR(RTD(\"cqg.rtd\",,\"StudyData\", \"Correlation(\"&$B$3&\",\"&AA$2&\",Period:=\"&$B$1&\",InputChoice1:=Close,InputChoice2::=Close)\", \"FG\", \"\", \"Close\",$B$2,A15, \"all\",\"\", \"\",\"True\",\"T\")/100,\"\")","v":0.37556760921299998},null,-0.7799999999999998,2,{"$error":"#N/A"},null,{"$f":"IFERROR(RTD(\"cqg.rtd\",,\"StudyData\", \"Correlation(\"&$B$3&\",\"&AG$2&\",Period:=\"&$B$1&\",InputChoice1:=Close,InputChoice2::=Close)\", \"FG\", \"\", \"Close\",$B$2,A15, \"all\",\"\", \"\",\"True\",\"T\")/100,\"\")","v":0.27381908291700002},null,-0.7799999999999998,2,{"$error":"#N/A"},null,{"$f":"IFERROR(RTD(\"cqg.rtd\",,\"StudyData\", \"Correlation(\"&$B$3&\",\"&AM$2&\",Period:=\"&$B$1&\",InputChoice1:=Close,InputChoice2::=Close)\", \"FG\", \"\", \"Close\",$B$2,A15, \"all\",\"\", \"\",\"True\",\"T\")/100,\"\")","v":-4.6116753176999994E-2},null,-0.7799999999999998,0,{"$error":"#N/A"},null,{"$f":"IFERROR(RTD(\"cqg.rtd\",,\"StudyData\", \"Correlation(\"&$B$3&\",\"&AS$2&\",Period:=\"&$B$1&\",InputChoice1:=Close,InputChoice2::=Close)\", \"FG\", \"\", \"Close\",$B$2,A15, \"all\",\"\", \"\",\"True\",\"T\")/100,\"\")","v":-0.68934456353000007},null,-0.7799999999999998,3,{"$error":"#N/A"},null,{"$f":"IFERROR(RTD(\"cqg.rtd\",,\"StudyData\", \"Correlation(\"&$B$3&\",\"&AY$2&\",Period:=\"&$B$1&\",InputChoice1:=Close,InputChoice2::=Close)\", \"FG\", \"\", \"Close\",$B$2,A15, \"all\",\"\", \"\",\"True\",\"T\")/100,\"\")","v":0.70407171858899997},null,-0.7799999999999998,0,{"$error":"#N/A"},null,{"$f":"IFERROR(RTD(\"cqg.rtd\",,\"StudyData\", \"Correlation(\"&$B$3&\",\"&BE$2&\",Period:=\"&$B$1&\",InputChoice1:=Close,InputChoice2::=Close)\", \"FG\", \"\", \"Close\",$B$2,A15, \"all\",\"\", \"\",\"True\",\"T\")/100,\"\")","v":0.41434197774799997},null,-0.7799999999999998,0,{"$error":"#N/A"}]
[-12,null,{"$f":"IFERROR(RTD(\"cqg.rtd\",,\"StudyData\", \"Correlation(\"&$B$3&\",\"&C$2&\",Period:=\"&$B$1&\",InputChoice1:=Close,InputChoice2:=Close)\", \"FG\", \"\", \"Close\",$B$2,A16, \"all\",\"\", \"\",\"True\",\"T\")/100,\"\")","v":0.23009642822000001},null,-0.75999999999999979,2,{"$error":"#N/A"},null,{"$f":"IFERROR(RTD(\"cqg.rtd\",,\"StudyData\", \"Correlation(\"&$B$3&\",\"&I$2&\",Period:=\"&$B$1&\",InputChoice1:=Close,InputChoice2::=Close)\", \"FG\", \"\", \"Close\",$B$2,A16, \"all\",\"\", \"\",\"True\",\"T\")/100,\"\")","v":0.65715704100400008},null,-0.75999999999999979,3,{"$error":"#N/A"},null,{"$f":"IFERROR(RTD(\"cqg.rtd\",,\"StudyData\", \"Correlation(\"&$B$3&\",\"&O$2&\",Period:=\"&$B$1&\",InputChoice1:=Close,InputChoice2::=Close)\", \"FG\", \"\", \"Close\",$B$2,A16, \"all\",\"\", \"\",\"True\",\"T\")/100,\"\")","v":-0.40058226466199998},null,-0.75999999999999979,0,{"$error":"#N/A"},null,{"$f":"IFERROR(RTD(\"cqg.rtd\",,\"StudyData\", \"Correlation(\"&$B$3&\",\"&U$2&\",Period:=\"&$B$1&\",InputChoice1:=Close,InputChoice2::=Close)\", \"FG\", \"\", \"Close\",$B$2,A16, \"all\",\"\", \"\",\"True\",\"T\")/100,\"\")","v":0.82191081058299997},null,-0.75999999999999979,5,{"$error":"#N/A"},null,{"$f":"IFERROR(RTD(\"cqg.rtd\",,\"StudyData\", \"Correlation(\"&$B$3&\",\"&AA$2&\",Period:=\"&$B$1&\",InputChoice1:=Close,InputChoice2::=Close)\", \"FG\", \"\", \"Close\",$B$2,A16, \"all\",\"\", \"\",\"True\",\"T\")/100,\"\")","v":0.40085018073999995},null,-0.75999999999999979,1,{"$error":"#N/A"},null,{"$f":"IFERROR(RTD(\"cqg.rtd\",,\"StudyData\", \"Correlation(\"&$B$3&\",\"&AG$2&\",Period:=\"&$B$1&\",InputChoice1:=Close,InputChoice2::=Close)\", \"FG\", \"\", \"Close\",$B$2,A16, \"all\",\"\", \"\",\"True\",\"T\")/100,\"\")","v":0.30579691685299998},null,-0.75999999999999979,2,{"$error":"#N/A"},null,{"$f":"IFERROR(RTD(\"cqg.rtd\",,\"StudyData\", \"Correlation(\"&$B$3&\",\"&AM$2&\",Period:=\"&$B$1&\",InputChoice1:=Close,InputChoice2::=Close)\", \"FG\", \"\", \"Close\",$B$2,A16, \"all\",\"\", \"\",\"True\",\"T\")/100,\"\")","v":-0.107696777435},null,-0.75999999999999979,2,{"$error":"#N/A"},null,{"$f":"IFERROR(RTD(\"cqg.rtd\",,\"StudyData\", \"Correlation(\"&$B$3&\",\"&AS$2&\",Period:=\"&$B$1&\",InputChoice1:=Close,InputChoice2::=Close)\", \"FG\", \"\", \"Close\",$B$2,A16, \"all\",\"\", \"\",\"True\",\"T\")/100,\"\")","v":-0.70431117913399999},null,-0.75999999999999979,0,{"$error":"#N/A"},null,{"$f":"IFERROR(RTD(\"cqg.rtd\",,\"StudyData\", \"Correlation(\"&$B$3&\",\"&AY$2&\",Period:=\"&$B$1&\",InputChoice1:=Close,InputChoice2::=Close)\", \"FG\", \"\", \"Close\",$B$2,A16, \"all\",\"\", \"\",\"True\",\"T\")/100,\"\")","v":0.67742908295800008},null,-0.75999999999999979,0,{"$error":"#N/A"},null,{"$f":"IFERROR(RTD(\"cqg.rtd\",,\"StudyData\", \"Correlation(\"&$B$3&\",\"&BE$2&\",Period:=\"&$B$1&\",InputChoice1:=Close,InputChoice2::=Close)\", \"FG\", \"\", \"Close\",$B$2,A16, \"all\",\"\", \"\",\"True\",\"T\")/100,\"\")","v":0.49610094515100001},null,-0.75999999999999979,1,{"$error":"#N/A"}]
[-13,null,{"$f":"IFERROR(RTD(\"cqg.rtd\",,\"StudyData\", \"Correlation(\"&$B$3&\",\"&C$2&\",Period:=\"&$B$1&\",InputChoice1:=Close,InputChoice2:=Close)\", \"FG\", \"\", \"Close\",$B$2,A17, \"all\",\"\", \"\",\"True\",\"T\")/100,\"\")","v":0.25408947894599998},null,-0.73999999999999977,6,{"$error":"#N/A"},null,{"$f":"IFERROR(RTD(\"cqg.rtd\",,\"StudyData\", \"Correlation(\"&$B$3&\",\"&I$2&\",Period:=\"&$B$1&\",InputChoice1:=Close,InputChoice2::=Close)\", \"FG\", \"\", \"Close\",$B$2,A17, \"all\",\"\", \"\",\"True\",\"T\")/100,\"\")","v":0.64640982543600001},null,-0.73999999999999977,5,{"$error":"#N/A"},null,{"$f":"IFERROR(RTD(\"cqg.rtd\",,\"StudyData\", \"Correlation(\"&$B$3&\",\"&O$2&\",Period:=\"&$B$1&\",InputChoice1:=Close,InputChoice2::=Close)\", \"FG\", \"\", \"Close\",$B$2,A17, \"all\",\"\", \"\",\"True\",\"T\")/100,\"\")","v":-0.41203128366199998},null,-0.73999999999999977,0,{"$error":"#N/A"},null,{"$f":"IFERROR(RTD(\"cqg.rtd\",,\"StudyData\", \"Correlation(\"&$B$3&\",\"&U$2&\",Period:=\"&$B$1&\",InputChoice1:=Close,InputChoice2::=Close)\", \"FG\", \"\", \"Close\",$B$2,A17, \"all\",\"\", \"\",\"True\",\"T\")/100,\"\")","v":0.81981632504699997},null,-0.73999999999999977,6,{"$error":"#N/A"},null,{"$f":"IFERROR(RTD(\"cqg.rtd\",,\"StudyData\", \"Correlation(\"&$B$3&\",\"&AA$2&\",Period:=\"&$B$1&\",InputChoice1:=Close,InputChoice2::=Close)\", \"FG\", \"\", \"Close\",$B$2,A17, \"all\",\"\", \"\",\"True\",\"T\")/100,\"\")","v":0.43301333653399998},null,-0.73999999999999977,1,{"$error":"#N/A"},null,{"$f":"IFERROR(RTD(\"cqg.rtd\",,\"StudyData\", \"Correlation(\"&$B$3&\",\"&AG$2&\",Period:=\"&$B$1&\",InputChoice1:=Close,InputChoice2::=Close)\", \"FG\", \"\", \"Close\",$B$2,A17, \"all\",\"\", \"\",\"True\",\"T\")/100,\"\")","v":0.33287850735399999},null,-0.73999999999999977,1,{"$error":"#N/A"},null,{"$f":"IFERROR(RTD(\"cqg.rtd\",,\"StudyData\", \"Correlation(\"&$B$3&\",\"&AM$2&\",Period:=\"&$B$1&\",InputChoice1:=Close,InputChoice2::=Close)\", \"FG\", \"\", \"Close\",$B$2,A17, \"all\",\"\", \"\",\"True\",\"T\")/100,\"\")","v":-5.8996699673000003E-2},null,-0.73999999999999977,3,{"$error":"#N/A"},null,{"$f":"IFERROR(RTD(\"cqg.rtd\",,\"StudyData\", \"Correlation(\"&$B$3&\",\"&AS$2&\",Period:=\"&$B$1&\",InputChoice1:=Close,InputChoice2::=Close)\", \"FG\", \"\", \"Close\",$B$2,A17, \"all\",\"\", \"\",\"True\",\"T\")/100,\"\")","v":-0.69382369832699997},null,-0.73999999999999977,1,{"$error":"#N/A"},null,{"$f":"IFERROR(RTD(\"cqg.rtd\",,\"StudyData\", \"Correlation(\"&$B$3&\",\"&AY$2&\",Period:=\"&$B$1&\",InputChoice1:=Close,InputChoice2::=Close)\", \"FG\", \"\", \"Close\",$B$2,A17, \"all\",\"\", \"\",\"True\",\"T\")/100,\"\")","v":0.65140649701700004},null,-0.73999999999999977,0,{"$error":"#N/A"},null,{"$f":"IFERROR(RTD(\"cqg.rtd\",,\"StudyData\", \"Correlation(\"&$B$3&\",\"&BE$2&\",Period:=\"&$B$1&\",InputChoice1:=Close,InputChoice2::=Close)\", \"FG\", \"\", \"Close\",$B$2,A17, \"all\",\"\", \"\",\"True\",\"T\")/100,\"\")","v":0.59267471840100006},null,-0.73999999999999977,3,{"$error":"#N/A"}]
[-14,null,{"$f":"IFERROR(RTD(\"cqg.rtd\",,\"StudyData\", \"Correlation(\"&$B$3&\",\"&C$2&\",Period:=\"&$B$1&\",InputChoice1:=Close,InputChoice2:=Close)\", \"FG\", \"\", \"Close\",$B$2,A18, \"all\",\"\", \"\",\"True\",\"T\")/100,\"\")","v":0.32248651757799995},null,-0.71999999999999975,3,{"$error":"#N/A"},null,{"$f":"IFERROR(RTD(\"cqg.rtd\",,\"StudyData\", \"Correlation(\"&$B$3&\",\"&I$2&\",Period:=\"&$B$1&\",InputChoice1:=Close,InputChoice2::=Close)\", \"FG\", \"\", \"Close\",$B$2,A18, \"all\",\"\", \"\",\"True\",\"T\")/100,\"\")","v":0.65808203121300002},null,-0.71999999999999975,0,{"$error":"#N/A"},null,{"$f":"IFERROR(RTD(\"cqg.rtd\",,\"StudyData\", \"Correlation(\"&$B$3&\",\"&O$2&\",Period:=\"&$B$1&\",InputChoice1:=Close,InputChoice2::=Close)\", \"FG\", \"\", \"Close\",$B$2,A18, \"all\",\"\", \"\",\"True\",\"T\")/100,\"\")","v":-0.41432186345900002},null,-0.71999999999999975,0,{"$error":"#N/A"},null,{"$f":"IFERROR(RTD(\"cqg.rtd\",,\"StudyData\", \"Correlation(\"&$B$3&\",\"&U$2&\",Period:=\"&$B$1&\",InputChoice1:=Close,InputChoice2::=Close)\", \"FG\", \"\", \"Close\",$B$2,A18, \"all\",\"\", \"\",\"True\",\"T\")/100,\"\")","v":0.82530415553899994},null,-0.71999999999999975,3,{"$error":"#N/A"},null,{"$f":"IFERROR(RTD(\"cqg.rtd\",,\"StudyData\", \"Correlation(\"&$B$3&\",\"&AA$2&\",Period:=\"&$B$1&\",InputChoice1:=Close,InputChoice2::=Close)\", \"FG\", \"\", \"Close\",$B$2,A18, \"all\",\"\", \"\",\"True\",\"T\")/100,\"\")","v":0.48565241506000001},null,-0.71999999999999975,4,{"$error":"#N/A"},null,{"$f":"IFERROR(RTD(\"cqg.rtd\",,\"StudyData\", \"Correlation(\"&$B$3&\",\"&AG$2&\",Period:=\"&$B$1&\",InputChoice1:=Close,InputChoice2::=Close)\", \"FG\", \"\", \"Close\",$B$2,A18, \"all\",\"\", \"\",\"True\",\"T\")/100,\"\")","v":0.35105172703599996},null,-0.71999999999999975,0,{"$error":"#N/A"},null,{"$f":"IFERROR(RTD(\"cqg.rtd\",,\"StudyData\", \"Correlation(\"&$B$3&\",\"&AM$2&\",Period:=\"&$B$1&\",InputChoice1:=Close,InputChoice2::=Close)\", \"FG\", \"\", \"Close\",$B$2,A18, \"all\",\"\", \"\",\"True\",\"T\")/100,\"\")","v":-5.9368982461000003E-2},null,-0.71999999999999975,3,{"$error":"#N/A"},null,{"$f":"IFERROR(RTD(\"cqg.rtd\",,\"StudyData\", \"Correlation(\"&$B$3&\",\"&AS$2&\",Period:=\"&$B$1&\",InputChoice1:=Close,InputChoice2::=Close)\", \"FG\", \"\", \"Close\",$B$2,A18, \"all\",\"\", \"\",\"True\",\"T\")/100,\"\")","v":-0.68755334168000004},null,-0.71999999999999975,0,{"$error":"#N/A"},null,{"$f":"IFERROR(RTD(\"cqg.rtd\",,\"StudyData\", \"Correlation(\"&$B$3&\",\"&AY$2&\",Period:=\"&$B$1&\",InputChoice1:=Close,InputChoice2::=Close)\", \"FG\", \"\", \"Close\",$B$2,A18, \"all\",\"\", \"\",\"True\",\"T\")/100,\"\")","v":0.61388199578500002},null,-0.71999999999999975,0,{"$error":"#N/A"},null,{"$f":"IFERROR(RTD(\"cqg.rtd\",,\"StudyData\", \"Correlation(\"&$B$3&\",\"&BE$2&\",Period:=\"&$B$1&\",InputChoice1:=Close,InputChoice2::=Close)\", \"FG\", \"\", \"Close\",$B$2,A18, \"all\",\"\", \"\",\"True\",\"T\")/100,\"\")","v":0.6644604728900001},null,-0.71999999999999975,2,{"$error":"#N/A"}]
[-15,null,{"$f":"IFERROR(RTD(\"cqg.rtd\",,\"StudyData\", \"Correlation(\"&$B$3&\",\"&C$2&\",Period:=\"&$B$1&\",InputChoice1:=Close,InputChoice2:=Close)\", \"FG\", \"\", \"Close\",$B$2,A19, \"all\",\"\", \"\",\"True\",\"T\")/100,\"\")","v":0.44609903855600003},null,-0.69999999999999973,6,{"$error":"#N/A"},null,{"$f":"IFERROR(RTD(\"cqg.rtd\",,\"StudyData\", \"Correlation(\"&$B$3&\",\"&I$2&\",Period:=\"&$B$1&\",InputChoice1:=Close,InputChoice2::=Close)\", \"FG\", \"\", \"Close\",$B$2,A19, \"all\",\"\", \"\",\"True\",\"T\")/100,\"\")","v":0.66250262892300005},null,-0.69999999999999973,1,{"$error":"#N/A"},null,{"$f":"IFERROR(RTD(\"cqg.rtd\",,\"StudyData\", \"Correlation(\"&$B$3&\",\"&O$2&\",Period:=\"&$B$1&\",InputChoice1:=Close,InputChoice2::=Close)\", \"FG\", \"\", \"Close\",$B$2,A19, \"all\",\"\", \"\",\"True\",\"T\")/100,\"\")","v":-0.44870566796299999},null,-0.69999999999999973,0,{"$error":"#N/A"},null,{"$f":"IFERROR(RTD(\"cqg.rtd\",,\"StudyData\", \"Correlation(\"&$B$3&\",\"&U$2&\",Period:=\"&$B$1&\",InputChoice1:=Close,InputChoice2::=Close)\", \"FG\", \"\", \"Close\",$B$2,A19, \"all\",\"\", \"\",\"True\",\"T\")/100,\"\")","v":0.82653898819500005},null,-0.69999999999999973,0,{"$error":"#N/A"},null,{"$f":"IFERROR(RTD(\"cqg.rtd\",,\"StudyData\", \"Correlation(\"&$B$3&\",\"&AA$2&\",Period:=\"&$B$1&\",InputChoice1:=Close,InputChoice2::=Close)\", \"FG\", \"\", \"Close\",$B$2,A19, \"all\",\"\", \"\",\"True\",\"T\")/100,\"\")","v":0.52409999720699996},null,-0.69999999999999973,1,{"$error":"#N/A"},null,{"$f":"IFERROR(RTD(\"cqg.rtd\",,\"StudyData\", \"Correlation(\"&$B$3&\",\"&AG$2&\",Period:=\"&$B$1&\",InputChoice1:=Close,InputChoice2::=Close)\", \"FG\", \"\", \"Close\",$B$2,A19, \"all\",\"\", \"\",\"True\",\"T\")/100,\"\")","v":0.275998511226},null,-0.69999999999999973,1,{"$error":"#N/A"},null,{"$f":"IFERROR(RTD(\"cqg.rtd\",,\"StudyData\", \"Correlation(\"&$B$3&\",\"&AM$2&\",Period:=\"&$B$1&\",InputChoice1:=Close,InputChoice2::=Close)\", \"FG\", \"\", \"Close\",$B$2,A19, \"all\",\"\", \"\",\"True\",\"T\")/100,\"\")","v":-0.16387056521499999},null,-0.69999999999999973,2,{"$error":"#N/A"},null,{"$f":"IFERROR(RTD(\"cqg.rtd\",,\"StudyData\", \"Correlation(\"&$B$3&\",\"&AS$2&\",Period:=\"&$B$1&\",InputChoice1:=Close,InputChoice2::=Close)\", \"FG\", \"\", \"Close\",$B$2,A19, \"all\",\"\", \"\",\"True\",\"T\")/100,\"\")","v":-0.63178829466000008},null,-0.69999999999999973,3,{"$error":"#N/A"},null,{"$f":"IFERROR(RTD(\"cqg.rtd\",,\"StudyData\", \"Correlation(\"&$B$3&\",\"&AY$2&\",Period:=\"&$B$1&\",InputChoice1:=Close,InputChoice2::=Close)\", \"FG\", \"\", \"Close\",$B$2,A19, \"all\",\"\", \"\",\"True\",\"T\")/100,\"\")","v":0.57999875578900006},null,-0.69999999999999973,0,{"$error":"#N/A"},null,{"$f":"IFERROR(RTD(\"cqg.rtd\",,\"StudyData\", \"Correlation(\"&$B$3&\",\"&BE$2&\",Period:=\"&$B$1&\",InputChoice1:=Close,InputChoice2::=Close)\", \"FG\", \"\", \"Close\",$B$2,A19, \"all\",\"\", \"\",\"True\",\"T\")/100,\"\")","v":0.61883485954599993},null,-0.69999999999999973,2,{"$error":"#N/A"}]
[-16,null,{"$f":"IFERROR(RTD(\"cqg.rtd\",,\"StudyData\", \"Correlation(\"&$B$3&\",\"&C$2&\",Period:=\"&$B$1&\",InputChoice1:=Close,InputChoice2:=Close)\", \"FG\", \"\", \"Close\",$B$2,A20, \"all\",\"\", \"\",\"True\",\"T\")/100,\"\")","v":0.49423054337200001},null,-0.67999999999999972,2,{"$error":"#N/A"},null,{"$f":"IFERROR(RTD(\"cqg.rtd\",,\"StudyData\", \"Correlation(\"&$B$3&\",\"&I$2&\",Period:=\"&$B$1&\",InputChoice1:=Close,InputChoice2::=Close)\", \"FG\", \"\", \"Close\",$B$2,A20, \"all\",\"\", \"\",\"True\",\"T\")/100,\"\")","v":0.66173276072700005},null,-0.67999999999999972,4,{"$error":"#N/A"},null,{"$f":"IFERROR(RTD(\"cqg.rtd\",,\"StudyData\", \"Correlation(\"&$B$3&\",\"&O$2&\",Period:=\"&$B$1&\",InputChoice1:=Close,InputChoice2::=Close)\", \"FG\", \"\", \"Close\",$B$2,A20, \"all\",\"\", \"\",\"True\",\"T\")/100,\"\")","v":-0.38217958258000001},null,-0.67999999999999972,0,{"$error":"#N/A"},null,{"$f":"IFERROR(RTD(\"cqg.rtd\",,\"StudyData\", \"Correlation(\"&$B$3&\",\"&U$2&\",Period:=\"&$B$1&\",InputChoice1:=Close,InputChoice2::=Close)\", \"FG\", \"\", \"Close\",$B$2,A20, \"all\",\"\", \"\",\"True\",\"T\")/100,\"\")","v":0.82059026736999996},null,-0.67999999999999972,2,{"$error":"#N/A"},null,{"$f":"IFERROR(RTD(\"cqg.rtd\",,\"StudyData\", \"Correlation(\"&$B$3&\",\"&AA$2&\",Period:=\"&$B$1&\",InputChoice1:=Close,InputChoice2::=Close)\", \"FG\", \"\", \"Close\",$B$2,A20, \"all\",\"\", \"\",\"True\",\"T\")/100,\"\")","v":0.56184727610700003},null,-0.67999999999999972,2,{"$error":"#N/A"},null,{"$f":"IFERROR(RTD(\"cqg.rtd\",,\"StudyData\", \"Correlation(\"&$B$3&\",\"&AG$2&\",Period:=\"&$B$1&\",InputChoice1:=Close,InputChoice2::=Close)\", \"FG\", \"\", \"Close\",$B$2,A20, \"all\",\"\", \"\",\"True\",\"T\")/100,\"\")","v":0.26567402423499997},null,-0.67999999999999972,3,{"$error":"#N/A"},null,{"$f":"IFERROR(RTD(\"cqg.rtd\",,\"StudyData\", \"Correlation(\"&$B$3&\",\"&AM$2&\",Period:=\"&$B$1&\",InputChoice1:=Close,InputChoice2::=Close)\", \"FG\", \"\", \"Close\",$B$2,A20, \"all\",\"\", \"\",\"True\",\"T\")/100,\"\")","v":-0.19661250594399998},null,-0.67999999999999972,0,{"$error":"#N/A"},null,{"$f":"IFERROR(RTD(\"cqg.rtd\",,\"StudyData\", \"Correlation(\"&$B$3&\",\"&AS$2&\",Period:=\"&$B$1&\",InputChoice1:=Close,InputChoice2::=Close)\", \"FG\", \"\", \"Close\",$B$2,A20, \"all\",\"\", \"\",\"True\",\"T\")/100,\"\")","v":-0.60242300857800002},null,-0.67999999999999972,8,{"$error":"#N/A"},null,{"$f":"IFERROR(RTD(\"cqg.rtd\",,\"StudyData\", \"Correlation(\"&$B$3&\",\"&AY$2&\",Period:=\"&$B$1&\",InputChoice1:=Close,InputChoice2::=Close)\", \"FG\", \"\", \"Close\",$B$2,A20, \"all\",\"\", \"\",\"True\",\"T\")/100,\"\")","v":0.56296892907999996},null,-0.67999999999999972,0,{"$error":"#N/A"},null,{"$f":"IFERROR(RTD(\"cqg.rtd\",,\"StudyData\", \"Correlation(\"&$B$3&\",\"&BE$2&\",Period:=\"&$B$1&\",InputChoice1:=Close,InputChoice2::=Close)\", \"FG\", \"\", \"Close\",$B$2,A20, \"all\",\"\", \"\",\"True\",\"T\")/100,\"\")","v":0.66135235209499998},null,-0.67999999999999972,2,{"$error":"#N/A"}]
[-17,null,{"$f":"IFERROR(RTD(\"cqg.rtd\",,\"StudyData\", \"Correlation(\"&$B$3&\",\"&C$2&\",Period:=\"&$B$1&\",InputChoice1:=Close,InputChoice2:=Close)\", \"FG\", \"\", \"Close\",$B$2,A21, \"all\",\"\", \"\",\"True\",\"T\")/100,\"\")","v":0.48525305430000004},null,-0.6599999999999997,2,{"$error":"#N/A"},null,{"$f":"IFERROR(RTD(\"cqg.rtd\",,\"StudyData\", \"Correlation(\"&$B$3&\",\"&I$2&\",Period:=\"&$B$1&\",InputChoice1:=Close,InputChoice2::=Close)\", \"FG\", \"\", \"Close\",$B$2,A21, \"all\",\"\", \"\",\"True\",\"T\")/100,\"\")","v":0.66165593757200003},null,-0.6599999999999997,3,{"$error":"#N/A"},null,{"$f":"IFERROR(RTD(\"cqg.rtd\",,\"StudyData\", \"Correlation(\"&$B$3&\",\"&O$2&\",Period:=\"&$B$1&\",InputChoice1:=Close,InputChoice2::=Close)\", \"FG\", \"\", \"Close\",$B$2,A21, \"all\",\"\", \"\",\"True\",\"T\")/100,\"\")","v":-0.36574961377699999},null,-0.6599999999999997,0,{"$error":"#N/A"},null,{"$f":"IFERROR(RTD(\"cqg.rtd\",,\"StudyData\", \"Correlation(\"&$B$3&\",\"&U$2&\",Period:=\"&$B$1&\",InputChoice1:=Close,InputChoice2::=Close)\", \"FG\", \"\", \"Close\",$B$2,A21, \"all\",\"\", \"\",\"True\",\"T\")/100,\"\")","v":0.83501035797699996},null,-0.6599999999999997,0,{"$error":"#N/A"},null,{"$f":"IFERROR(RTD(\"cqg.rtd\",,\"StudyData\", \"Correlation(\"&$B$3&\",\"&AA$2&\",Period:=\"&$B$1&\",InputChoice1:=Close,InputChoice2::=Close)\", \"FG\", \"\", \"Close\",$B$2,A21, \"all\",\"\", \"\",\"True\",\"T\")/100,\"\")","v":0.55514449851000003},null,-0.6599999999999997,0,{"$error":"#N/A"},null,{"$f":"IFERROR(RTD(\"cqg.rtd\",,\"StudyData\", \"Correlation(\"&$B$3&\",\"&AG$2&\",Period:=\"&$B$1&\",InputChoice1:=Close,InputChoice2::=Close)\", \"FG\", \"\", \"Close\",$B$2,A21, \"all\",\"\", \"\",\"True\",\"T\")/100,\"\")","v":0.29161655577200002},null,-0.6599999999999997,0,{"$error":"#N/A"},null,{"$f":"IFERROR(RTD(\"cqg.rtd\",,\"StudyData\", \"Correlation(\"&$B$3&\",\"&AM$2&\",Period:=\"&$B$1&\",InputChoice1:=Close,InputChoice2::=Close)\", \"FG\", \"\", \"Close\",$B$2,A21, \"all\",\"\", \"\",\"True\",\"T\")/100,\"\")","v":-0.21068873959699999},null,-0.6599999999999997,1,{"$error":"#N/A"},null,{"$f":"IFERROR(RTD(\"cqg.rtd\",,\"StudyData\", \"Correlation(\"&$B$3&\",\"&AS$2&\",Period:=\"&$B$1&\",InputChoice1:=Close,InputChoice2::=Close)\", \"FG\", \"\", \"Close\",$B$2,A21, \"all\",\"\", \"\",\"True\",\"T\")/100,\"\")","v":-0.54083958013699995},null,-0.6599999999999997,0,{"$error":"#N/A"},null,{"$f":"IFERROR(RTD(\"cqg.rtd\",,\"StudyData\", \"Correlation(\"&$B$3&\",\"&AY$2&\",Period:=\"&$B$1&\",InputChoice1:=Close,InputChoice2::=Close)\", \"FG\", \"\", \"Close\",$B$2,A21, \"all\",\"\", \"\",\"True\",\"T\")/100,\"\")","v":0.54049028072700001},null,-0.6599999999999997,0,{"$error":"#N/A"},null,{"$f":"IFERROR(RTD(\"cqg.rtd\",,\"StudyData\", \"Correlation(\"&$B$3&\",\"&BE$2&\",Period:=\"&$B$1&\",InputChoice1:=Close,InputChoice2::=Close)\", \"FG\", \"\", \"Close\",$B$2,A21, \"all\",\"\", \"\",\"True\",\"T\")/100,\"\")","v":0.609131339971},null,-0.6599999999999997,2,{"$error":"#N/A"}]
[-18,null,{"$f":"IFERROR(RTD(\"cqg.rtd\",,\"StudyData\", \"Correlation(\"&$B$3&\",\"&C$2&\",Period:=\"&$B$1&\",InputChoice1:=Close,InputChoice2:=Close)\", \"FG\", \"\", \"Close\",$B$2,A22, \"all\",\"\", \"\",\"True\",\"T\")/100,\"\")","v":0.41297813529800004},null,-0.63999999999999968,0,{"$error":"#N/A"},null,{"$f":"IFERROR(RTD(\"cqg.rtd\",,\"StudyData\", \"Correlation(\"&$B$3&\",\"&I$2&\",Period:=\"&$B$1&\",InputChoice1:=Close,InputChoice2::=Close)\", \"FG\", \"\", \"Close\",$B$2,A22, \"all\",\"\", \"\",\"True\",\"T\")/100,\"\")","v":0.61373043008200001},null,-0.63999999999999968,1,{"$error":"#N/A"},null,{"$f":"IFERROR(RTD(\"cqg.rtd\",,\"StudyData\", \"Correlation(\"&$B$3&\",\"&O$2&\",Period:=\"&$B$1&\",InputChoice1:=Close,InputChoice2::=Close)\", \"FG\", \"\", \"Close\",$B$2,A22, \"all\",\"\", \"\",\"True\",\"T\")/100,\"\")","v":-0.348531705774},null,-0.63999999999999968,0,{"$error":"#N/A"},null,{"$f":"IFERROR(RTD(\"cqg.rtd\",,\"StudyData\", \"Correlation(\"&$B$3&\",\"&U$2&\",Period:=\"&$B$1&\",InputChoice1:=Close,InputChoice2::=Close)\", \"FG\", \"\", \"Close\",$B$2,A22, \"all\",\"\", \"\",\"True\",\"T\")/100,\"\")","v":0.7989425188849999},null,-0.63999999999999968,1,{"$error":"#N/A"},null,{"$f":"IFERROR(RTD(\"cqg.rtd\",,\"StudyData\", \"Correlation(\"&$B$3&\",\"&AA$2&\",Period:=\"&$B$1&\",InputChoice1:=Close,InputChoice2::=Close)\", \"FG\", \"\", \"Close\",$B$2,A22, \"all\",\"\", \"\",\"True\",\"T\")/100,\"\")","v":0.49715649992200001},null,-0.63999999999999968,2,{"$error":"#N/A"},null,{"$f":"IFERROR(RTD(\"cqg.rtd\",,\"StudyData\", \"Correlation(\"&$B$3&\",\"&AG$2&\",Period:=\"&$B$1&\",InputChoice1:=Close,InputChoice2::=Close)\", \"FG\", \"\", \"Close\",$B$2,A22, \"all\",\"\", \"\",\"True\",\"T\")/100,\"\")","v":0.25625224887499998},null,-0.63999999999999968,1,{"$error":"#N/A"},null,{"$f":"IFERROR(RTD(\"cqg.rtd\",,\"StudyData\", \"Correlation(\"&$B$3&\",\"&AM$2&\",Period:=\"&$B$1&\",InputChoice1:=Close,InputChoice2::=Close)\", \"FG\", \"\", \"Close\",$B$2,A22, \"all\",\"\", \"\",\"True\",\"T\")/100,\"\")","v":-0.19334616225699999},null,-0.63999999999999968,0,{"$error":"#N/A"},null,{"$f":"IFERROR(RTD(\"cqg.rtd\",,\"StudyData\", \"Correlation(\"&$B$3&\",\"&AS$2&\",Period:=\"&$B$1&\",InputChoice1:=Close,InputChoice2::=Close)\", \"FG\", \"\", \"Close\",$B$2,A22, \"all\",\"\", \"\",\"True\",\"T\")/100,\"\")","v":-0.46567905034200002},null,-0.63999999999999968,2,{"$error":"#N/A"},null,{"$f":"IFERROR(RTD(\"cqg.rtd\",,\"StudyData\", \"Correlation(\"&$B$3&\",\"&AY$2&\",Period:=\"&$B$1&\",InputChoice1:=Close,InputChoice2::=Close)\", \"FG\", \"\", \"Close\",$B$2,A22, \"all\",\"\", \"\",\"True\",\"T\")/100,\"\")","v":0.48736259353199995},null,-0.63999999999999968,0,{"$error":"#N/A"},null,{"$f":"IFERROR(RTD(\"cqg.rtd\",,\"StudyData\", \"Correlation(\"&$B$3&\",\"&BE$2&\",Period:=\"&$B$1&\",InputChoice1:=Close,InputChoice2::=Close)\", \"FG\", \"\", \"Close\",$B$2,A22, \"all\",\"\", \"\",\"True\",\"T\")/100,\"\")","v":0.55545158070800005},null,-0.63999999999999968,0,{"$error":"#N/A"}]
[-19,null,{"$f":"IFERROR(RTD(\"cqg.rtd\",,\"StudyData\", \"Correlation(\"&$B$3&\",\"&C$2&\",Period:=\"&$B$1&\",InputChoice1:=Close,InputChoice2:=Close)\", \"FG\", \"\", \"Close\",$B$2,A23, \"all\",\"\", \"\",\"True\",\"T\")/100,\"\")","v":0.41810506197199998},null,-0.61999999999999966,1,{"$error":"#N/A"},null,{"$f":"IFERROR(RTD(\"cqg.rtd\",,\"StudyData\", \"Correlation(\"&$B$3&\",\"&I$2&\",Period:=\"&$B$1&\",InputChoice1:=Close,InputChoice2::=Close)\", \"FG\", \"\", \"Close\",$B$2,A23, \"all\",\"\", \"\",\"True\",\"T\")/100,\"\")","v":0.58920092278199998},null,-0.61999999999999966,1,{"$error":"#N/A"},null,{"$f":"IFERROR(RTD(\"cqg.rtd\",,\"StudyData\", \"Correlation(\"&$B$3&\",\"&O$2&\",Period:=\"&$B$1&\",InputChoice1:=Close,InputChoice2::=Close)\", \"FG\", \"\", \"Close\",$B$2,A23, \"all\",\"\", \"\",\"True\",\"T\")/100,\"\")","v":-0.24023075943199998},null,-0.61999999999999966,0,{"$error":"#N/A"},null,{"$f":"IFERROR(RTD(\"cqg.rtd\",,\"StudyData\", \"Correlation(\"&$B$3&\",\"&U$2&\",Period:=\"&$B$1&\",InputChoice1:=Close,InputChoice2::=Close)\", \"FG\", \"\", \"Close\",$B$2,A23, \"all\",\"\", \"\",\"True\",\"T\")/100,\"\")","v":0.77277960990400008},null,-0.61999999999999966,1,{"$error":"#N/A"},null,{"$f":"IFERROR(RTD(\"cqg.rtd\",,\"StudyData\", \"Correlation(\"&$B$3&\",\"&AA$2&\",Period:=\"&$B$1&\",InputChoice1:=Close,InputChoice2::=Close)\", \"FG\", \"\", \"Close\",$B$2,A23, \"all\",\"\", \"\",\"True\",\"T\")/100,\"\")","v":0.45693190662699995},null,-0.61999999999999966,1,{"$error":"#N/A"},null,{"$f":"IFERROR(RTD(\"cqg.rtd\",,\"StudyData\", \"Correlation(\"&$B$3&\",\"&AG$2&\",Period:=\"&$B$1&\",InputChoice1:=Close,InputChoice2::=Close)\", \"FG\", \"\", \"Close\",$B$2,A23, \"all\",\"\", \"\",\"True\",\"T\")/100,\"\")","v":0.25428508637699998},null,-0.61999999999999966,1,{"$error":"#N/A"},null,{"$f":"IFERROR(RTD(\"cqg.rtd\",,\"StudyData\", \"Correlation(\"&$B$3&\",\"&AM$2&\",Period:=\"&$B$1&\",InputChoice1:=Close,InputChoice2::=Close)\", \"FG\", \"\", \"Close\",$B$2,A23, \"all\",\"\", \"\",\"True\",\"T\")/100,\"\")","v":-0.20531195840199998},null,-0.61999999999999966,3,{"$error":"#N/A"},null,{"$f":"IFERROR(RTD(\"cqg.rtd\",,\"StudyData\", \"Correlation(\"&$B$3&\",\"&AS$2&\",Period:=\"&$B$1&\",InputChoice1:=Close,InputChoice2::=Close)\", \"FG\", \"\", \"Close\",$B$2,A23, \"all\",\"\", \"\",\"True\",\"T\")/100,\"\")","v":-0.37479770282700003},null,-0.61999999999999966,2,{"$error":"#N/A"},null,{"$f":"IFERROR(RTD(\"cqg.rtd\",,\"StudyData\", \"Correlation(\"&$B$3&\",\"&AY$2&\",Period:=\"&$B$1&\",InputChoice1:=Close,InputChoice2::=Close)\", \"FG\", \"\", \"Close\",$B$2,A23, \"all\",\"\", \"\",\"True\",\"T\")/100,\"\")","v":0.41059873162800004},null,-0.61999999999999966,0,{"$error":"#N/A"},null,{"$f":"IFERROR(RTD(\"cqg.rtd\",,\"StudyData\", \"Correlation(\"&$B$3&\",\"&BE$2&\",Period:=\"&$B$1&\",InputChoice1:=Close,InputChoice2::=Close)\", \"FG\", \"\", \"Close\",$B$2,A23, \"all\",\"\", \"\",\"True\",\"T\")/100,\"\")","v":0.45207893645399999},null,-0.61999999999999966,0,{"$error":"#N/A"}]
[-20,null,{"$f":"IFERROR(RTD(\"cqg.rtd\",,\"StudyData\", \"Correlation(\"&$B$3&\",\"&C$2&\",Period:=\"&$B$1&\",InputChoice1:=Close,InputChoice2:=Close)\", \"FG\", \"\", \"Close\",$B$2,A24, \"all\",\"\", \"\",\"True\",\"T\")/100,\"\")","v":0.35831395015399997},null,-0.59999999999999964,2,{"$error":"#N/A"},null,{"$f":"IFERROR(RTD(\"cqg.rtd\",,\"StudyData\", \"Correlation(\"&$B$3&\",\"&I$2&\",Period:=\"&$B$1&\",InputChoice1:=Close,InputChoice2::=Close)\", \"FG\", \"\", \"Close\",$B$2,A24, \"all\",\"\", \"\",\"True\",\"T\")/100,\"\")","v":0.48603796870999999},null,-0.59999999999999964,4,{"$error":"#N/A"},null,{"$f":"IFERROR(RTD(\"cqg.rtd\",,\"StudyData\", \"Correlation(\"&$B$3&\",\"&O$2&\",Period:=\"&$B$1&\",InputChoice1:=Close,InputChoice2::=Close)\", \"FG\", \"\", \"Close\",$B$2,A24, \"all\",\"\", \"\",\"True\",\"T\")/100,\"\")","v":-0.20411119777900003},null,-0.59999999999999964,1,{"$error":"#N/A"},null,{"$f":"IFERROR(RTD(\"cqg.rtd\",,\"StudyData\", \"Correlation(\"&$B$3&\",\"&U$2&\",Period:=\"&$B$1&\",InputChoice1:=Close,InputChoice2::=Close)\", \"FG\", \"\", \"Close\",$B$2,A24, \"all\",\"\", \"\",\"True\",\"T\")/100,\"\")","v":0.57023536235000005},null,-0.59999999999999964,2,{"$error":"#N/A"},null,{"$f":"IFERROR(RTD(\"cqg.rtd\",,\"StudyData\", \"Correlation(\"&$B$3&\",\"&AA$2&\",Period:=\"&$B$1&\",InputChoice1:=Close,InputChoice2::=Close)\", \"FG\", \"\", \"Close\",$B$2,A24, \"all\",\"\", \"\",\"True\",\"T\")/100,\"\")","v":0.26143648635700001},null,-0.59999999999999964,1,{"$error":"#N/A"},null,{"$f":"IFERROR(RTD(\"cqg.rtd\",,\"StudyData\", \"Correlation(\"&$B$3&\",\"&AG$2&\",Period:=\"&$B$1&\",InputChoice1:=Close,InputChoice2::=Close)\", \"FG\", \"\", \"Close\",$B$2,A24, \"all\",\"\", \"\",\"True\",\"T\")/100,\"\")","v":0.10346454259099999},null,-0.59999999999999964,3,{"$error":"#N/A"},null,{"$f":"IFERROR(RTD(\"cqg.rtd\",,\"StudyData\", \"Correlation(\"&$B$3&\",\"&AM$2&\",Period:=\"&$B$1&\",InputChoice1:=Close,InputChoice2::=Close)\", \"FG\", \"\", \"Close\",$B$2,A24, \"all\",\"\", \"\",\"True\",\"T\")/100,\"\")","v":-0.35068473017199997},null,-0.59999999999999964,1,{"$error":"#N/A"},null,{"$f":"IFERROR(RTD(\"cqg.rtd\",,\"StudyData\", \"Correlation(\"&$B$3&\",\"&AS$2&\",Period:=\"&$B$1&\",InputChoice1:=Close,InputChoice2::=Close)\", \"FG\", \"\", \"Close\",$B$2,A24, \"all\",\"\", \"\",\"True\",\"T\")/100,\"\")","v":-0.28616767618799999},null,-0.59999999999999964,2,{"$error":"#N/A"},null,{"$f":"IFERROR(RTD(\"cqg.rtd\",,\"StudyData\", \"Correlation(\"&$B$3&\",\"&AY$2&\",Period:=\"&$B$1&\",InputChoice1:=Close,InputChoice2::=Close)\", \"FG\", \"\", \"Close\",$B$2,A24, \"all\",\"\", \"\",\"True\",\"T\")/100,\"\")","v":0.31140209358199999},null,-0.59999999999999964,0,{"$error":"#N/A"},null,{"$f":"IFERROR(RTD(\"cqg.rtd\",,\"StudyData\", \"Correlation(\"&$B$3&\",\"&BE$2&\",Period:=\"&$B$1&\",InputChoice1:=Close,InputChoice2::=Close)\", \"FG\", \"\", \"Close\",$B$2,A24, \"all\",\"\", \"\",\"True\",\"T\")/100,\"\")","v":0.35604007313799996},null,-0.59999999999999964,0,{"$error":"#N/A"}]
[-21,null,{"$f":"IFERROR(RTD(\"cqg.rtd\",,\"StudyData\", \"Correlation(\"&$B$3&\",\"&C$2&\",Period:=\"&$B$1&\",InputChoice1:=Close,InputChoice2:=Close)\", \"FG\", \"\", \"Close\",$B$2,A25, \"all\",\"\", \"\",\"True\",\"T\")/100,\"\")","v":0.330434443691},null,-0.57999999999999963,2,{"$error":"#N/A"},null,{"$f":"IFERROR(RTD(\"cqg.rtd\",,\"StudyData\", \"Correlation(\"&$B$3&\",\"&I$2&\",Period:=\"&$B$1&\",InputChoice1:=Close,InputChoice2::=Close)\", \"FG\", \"\", \"Close\",$B$2,A25, \"all\",\"\", \"\",\"True\",\"T\")/100,\"\")","v":0.39769737326499999},null,{"$f":"K24+0.02","v":-0.57999999999999963},2,{"$error":"#N/A"},null,{"$f":"IFERROR(RTD(\"cqg.rtd\",,\"StudyData\", \"Correlation(\"&$B$3&\",\"&O$2&\",Period:=\"&$B$1&\",InputChoice1:=Close,InputChoice2::=Close)\", \"FG\", \"\", \"Close\",$B$2,A25, \"all\",\"\", \"\",\"True\",\"T\")/100,\"\")","v":-0.14362203277400001},null,-0.57999999999999963,0,{"$error":"#N/A"},null,{"$f":"IFERROR(RTD(\"cqg.rtd\",,\"StudyData\", \"Correlation(\"&$B$3&\",\"&U$2&\",Period:=\"&$B$1&\",InputChoice1:=Close,InputChoice2::=Close)\", \"FG\", \"\", \"Close\",$B$2,A25, \"all\",\"\", \"\",\"True\",\"T\")/100,\"\")","v":0.45970626993800001},null,-0.57999999999999963,1,{"$error":"#N/A"},null,{"$f":"IFERROR(RTD(\"cqg.rtd\",,\"StudyData\", \"Correlation(\"&$B$3&\",\"&AA$2&\",Period:=\"&$B$1&\",InputChoice1:=Close,InputChoice2::=Close)\", \"FG\", \"\", \"Close\",$B$2,A25, \"all\",\"\", \"\",\"True\",\"T\")/100,\"\")","v":0.24479524596499999},null,-0.57999999999999963,1,{"$error":"#N/A"},null,{"$f":"IFERROR(RTD(\"cqg.rtd\",,\"StudyData\", \"Correlation(\"&$B$3&\",\"&AG$2&\",Period:=\"&$B$1&\",InputChoice1:=Close,InputChoice2::=Close)\", \"FG\", \"\", \"Close\",$B$2,A25, \"all\",\"\", \"\",\"True\",\"T\")/100,\"\")","v":0.16731432995500001},null,-0.57999999999999963,0,{"$error":"#N/A"},null,{"$f":"IFERROR(RTD(\"cqg.rtd\",,\"StudyData\", \"Correlation(\"&$B$3&\",\"&AM$2&\",Period:=\"&$B$1&\",InputChoice1:=Close,InputChoice2::=Close)\", \"FG\", \"\", \"Close\",$B$2,A25, \"all\",\"\", \"\",\"True\",\"T\")/100,\"\")","v":-0.20640436433099998},null,-0.57999999999999963,0,{"$error":"#N/A"},null,{"$f":"IFERROR(RTD(\"cqg.rtd\",,\"StudyData\", \"Correlation(\"&$B$3&\",\"&AS$2&\",Period:=\"&$B$1&\",InputChoice1:=Close,InputChoice2::=Close)\", \"FG\", \"\", \"Close\",$B$2,A25, \"all\",\"\", \"\",\"True\",\"T\")/100,\"\")","v":-0.151614096916},null,-0.57999999999999963,2,{"$error":"#N/A"},null,{"$f":"IFERROR(RTD(\"cqg.rtd\",,\"StudyData\", \"Correlation(\"&$B$3&\",\"&AY$2&\",Period:=\"&$B$1&\",InputChoice1:=Close,InputChoice2::=Close)\", \"FG\", \"\", \"Close\",$B$2,A25, \"all\",\"\", \"\",\"True\",\"T\")/100,\"\")","v":9.3965029350999985E-2},null,-0.57999999999999963,0,{"$error":"#N/A"},null,{"$f":"IFERROR(RTD(\"cqg.rtd\",,\"StudyData\", \"Correlation(\"&$B$3&\",\"&BE$2&\",Period:=\"&$B$1&\",InputChoice1:=Close,InputChoice2::=Close)\", \"FG\", \"\", \"Close\",$B$2,A25, \"all\",\"\", \"\",\"True\",\"T\")/100,\"\")","v":0.283326806785},null,-0.57999999999999963,0,{"$error":"#N/A"}]
[-22,null,{"$f":"IFERROR(RTD(\"cqg.rtd\",,\"StudyData\", \"Correlation(\"&$B$3&\",\"&C$2&\",Period:=\"&$B$1&\",InputChoice1:=Close,InputChoice2:=Close)\", \"FG\", \"\", \"Close\",$B$2,A26, \"all\",\"\", \"\",\"True\",\"T\")/100,\"\")","v":0.107623330892},null,-0.55999999999999961,1,{"$error":"#N/A"},null,{"$f":"IFERROR(RTD(\"cqg.rtd\",,\"StudyData\", \"Correlation(\"&$B$3&\",\"&I$2&\",Period:=\"&$B$1&\",InputChoice1:=Close,InputChoice2::=Close)\", \"FG\", \"\", \"Close\",$B$2,A26, \"all\",\"\", \"\",\"True\",\"T\")/100,\"\")","v":0.121680183025},null,-0.55999999999999961,0,{"$error":"#N/A"},null,{"$f":"IFERROR(RTD(\"cqg.rtd\",,\"StudyData\", \"Correlation(\"&$B$3&\",\"&O$2&\",Period:=\"&$B$1&\",InputChoice1:=Close,InputChoice2::=Close)\", \"FG\", \"\", \"Close\",$B$2,A26, \"all\",\"\", \"\",\"True\",\"T\")/100,\"\")","v":-5.4322308973E-2},null,-0.55999999999999961,2,{"$error":"#N/A"},null,{"$f":"IFERROR(RTD(\"cqg.rtd\",,\"StudyData\", \"Correlation(\"&$B$3&\",\"&U$2&\",Period:=\"&$B$1&\",InputChoice1:=Close,InputChoice2::=Close)\", \"FG\", \"\", \"Close\",$B$2,A26, \"all\",\"\", \"\",\"True\",\"T\")/100,\"\")","v":0.33109382517999997},null,-0.55999999999999961,0,{"$error":"#N/A"},null,{"$f":"IFERROR(RTD(\"cqg.rtd\",,\"StudyData\", \"Correlation(\"&$B$3&\",\"&AA$2&\",Period:=\"&$B$1&\",InputChoice1:=Close,InputChoice2::=Close)\", \"FG\", \"\", \"Close\",$B$2,A26, \"all\",\"\", \"\",\"True\",\"T\")/100,\"\")","v":0.24478650477399999},null,-0.55999999999999961,0,{"$error":"#N/A"},null,{"$f":"IFERROR(RTD(\"cqg.rtd\",,\"StudyData\", \"Correlation(\"&$B$3&\",\"&AG$2&\",Period:=\"&$B$1&\",InputChoice1:=Close,InputChoice2::=Close)\", \"FG\", \"\", \"Close\",$B$2,A26, \"all\",\"\", \"\",\"True\",\"T\")/100,\"\")","v":0.21643247058699999},null,-0.55999999999999961,0,{"$error":"#N/A"},null,{"$f":"IFERROR(RTD(\"cqg.rtd\",,\"StudyData\", \"Correlation(\"&$B$3&\",\"&AM$2&\",Period:=\"&$B$1&\",InputChoice1:=Close,InputChoice2::=Close)\", \"FG\", \"\", \"Close\",$B$2,A26, \"all\",\"\", \"\",\"True\",\"T\")/100,\"\")","v":-9.0564762815999997E-2},null,-0.55999999999999961,0,{"$error":"#N/A"},null,{"$f":"IFERROR(RTD(\"cqg.rtd\",,\"StudyData\", \"Correlation(\"&$B$3&\",\"&AS$2&\",Period:=\"&$B$1&\",InputChoice1:=Close,InputChoice2::=Close)\", \"FG\", \"\", \"Close\",$B$2,A26, \"all\",\"\", \"\",\"True\",\"T\")/100,\"\")","v":-1.0129199961999999E-2},null,-0.55999999999999961,0,{"$error":"#N/A"},null,{"$f":"IFERROR(RTD(\"cqg.rtd\",,\"StudyData\", \"Correlation(\"&$B$3&\",\"&AY$2&\",Period:=\"&$B$1&\",InputChoice1:=Close,InputChoice2::=Close)\", \"FG\", \"\", \"Close\",$B$2,A26, \"all\",\"\", \"\",\"True\",\"T\")/100,\"\")","v":1.8735782396E-2},null,-0.55999999999999961,0,{"$error":"#N/A"},null,{"$f":"IFERROR(RTD(\"cqg.rtd\",,\"StudyData\", \"Correlation(\"&$B$3&\",\"&BE$2&\",Period:=\"&$B$1&\",InputChoice1:=Close,InputChoice2::=Close)\", \"FG\", \"\", \"Close\",$B$2,A26, \"all\",\"\", \"\",\"True\",\"T\")/100,\"\")","v":0.31145817866600001},null,-0.55999999999999961,0,{"$error":"#N/A"}]
[-23,null,{"$f":"IFERROR(RTD(\"cqg.rtd\",,\"StudyData\", \"Correlation(\"&$B$3&\",\"&C$2&\",Period:=\"&$B$1&\",InputChoice1:=Close,InputChoice2:=Close)\", \"FG\", \"\", \"Close\",$B$2,A27, \"all\",\"\", \"\",\"True\",\"T\")/100,\"\")","v":-3.9822895689999999E-3},null,-0.53999999999999959,0,{"$error":"#N/A"},null,{"$f":"IFERROR(RTD(\"cqg.rtd\",,\"StudyData\", \"Correlation(\"&$B$3&\",\"&I$2&\",Period:=\"&$B$1&\",InputChoice1:=Close,InputChoice2::=Close)\", \"FG\", \"\", \"Close\",$B$2,A27, \"all\",\"\", \"\",\"True\",\"T\")/100,\"\")","v":-1.8134862139999999E-2},null,-0.53999999999999959,0,{"$error":"#N/A"},null,{"$f":"IFERROR(RTD(\"cqg.rtd\",,\"StudyData\", \"Correlation(\"&$B$3&\",\"&O$2&\",Period:=\"&$B$1&\",InputChoice1:=Close,InputChoice2::=Close)\", \"FG\", \"\", \"Close\",$B$2,A27, \"all\",\"\", \"\",\"True\",\"T\")/100,\"\")","v":6.3881306659999998E-2},null,-0.53999999999999959,0,{"$error":"#N/A"},null,{"$f":"IFERROR(RTD(\"cqg.rtd\",,\"StudyData\", \"Correlation(\"&$B$3&\",\"&U$2&\",Period:=\"&$B$1&\",InputChoice1:=Close,InputChoice2::=Close)\", \"FG\", \"\", \"Close\",$B$2,A27, \"all\",\"\", \"\",\"True\",\"T\")/100,\"\")","v":0.184735215984},null,-0.53999999999999959,1,{"$error":"#N/A"},null,{"$f":"IFERROR(RTD(\"cqg.rtd\",,\"StudyData\", \"Correlation(\"&$B$3&\",\"&AA$2&\",Period:=\"&$B$1&\",InputChoice1:=Close,InputChoice2::=Close)\", \"FG\", \"\", \"Close\",$B$2,A27, \"all\",\"\", \"\",\"True\",\"T\")/100,\"\")","v":0.23703404244099999},null,-0.53999999999999959,2,{"$error":"#N/A"},null,{"$f":"IFERROR(RTD(\"cqg.rtd\",,\"StudyData\", \"Correlation(\"&$B$3&\",\"&AG$2&\",Period:=\"&$B$1&\",InputChoice1:=Close,InputChoice2::=Close)\", \"FG\", \"\", \"Close\",$B$2,A27, \"all\",\"\", \"\",\"True\",\"T\")/100,\"\")","v":0.21903648373100001},null,-0.53999999999999959,4,{"$error":"#N/A"},null,{"$f":"IFERROR(RTD(\"cqg.rtd\",,\"StudyData\", \"Correlation(\"&$B$3&\",\"&AM$2&\",Period:=\"&$B$1&\",InputChoice1:=Close,InputChoice2::=Close)\", \"FG\", \"\", \"Close\",$B$2,A27, \"all\",\"\", \"\",\"True\",\"T\")/100,\"\")","v":7.9839765433999996E-2},null,-0.53999999999999959,0,{"$error":"#N/A"},null,{"$f":"IFERROR(RTD(\"cqg.rtd\",,\"StudyData\", \"Correlation(\"&$B$3&\",\"&AS$2&\",Period:=\"&$B$1&\",InputChoice1:=Close,InputChoice2::=Close)\", \"FG\", \"\", \"Close\",$B$2,A27, \"all\",\"\", \"\",\"True\",\"T\")/100,\"\")","v":4.6653811701999996E-2},null,-0.53999999999999959,2,{"$error":"#N/A"},null,{"$f":"IFERROR(RTD(\"cqg.rtd\",,\"StudyData\", \"Correlation(\"&$B$3&\",\"&AY$2&\",Period:=\"&$B$1&\",InputChoice1:=Close,InputChoice2::=Close)\", \"FG\", \"\", \"Close\",$B$2,A27, \"all\",\"\", \"\",\"True\",\"T\")/100,\"\")","v":6.3743890799000003E-2},null,-0.53999999999999959,0,{"$error":"#N/A"},null,{"$f":"IFERROR(RTD(\"cqg.rtd\",,\"StudyData\", \"Correlation(\"&$B$3&\",\"&BE$2&\",Period:=\"&$B$1&\",InputChoice1:=Close,InputChoice2::=Close)\", \"FG\", \"\", \"Close\",$B$2,A27, \"all\",\"\", \"\",\"True\",\"T\")/100,\"\")","v":0.35083160533399999},null,-0.53999999999999959,0,{"$error":"#N/A"}]
[-24,null,{"$f":"IFERROR(RTD(\"cqg.rtd\",,\"StudyData\", \"Correlation(\"&$B$3&\",\"&C$2&\",Period:=\"&$B$1&\",InputChoice1:=Close,InputChoice2:=Close)\", \"FG\", \"\", \"Close\",$B$2,A28, \"all\",\"\", \"\",\"True\",\"T\")/100,\"\")","v":-0.122865139549},null,-0.51999999999999957,0,{"$error":"#N/A"},null,{"$f":"IFERROR(RTD(\"cqg.rtd\",,\"StudyData\", \"Correlation(\"&$B$3&\",\"&I$2&\",Period:=\"&$B$1&\",InputChoice1:=Close,InputChoice2::=Close)\", \"FG\", \"\", \"Close\",$B$2,A28, \"all\",\"\", \"\",\"True\",\"T\")/100,\"\")","v":-0.11502640899099999},null,-0.51999999999999957,0,{"$error":"#N/A"},null,{"$f":"IFERROR(RTD(\"cqg.rtd\",,\"StudyData\", \"Correlation(\"&$B$3&\",\"&O$2&\",Period:=\"&$B$1&\",InputChoice1:=Close,InputChoice2::=Close)\", \"FG\", \"\", \"Close\",$B$2,A28, \"all\",\"\", \"\",\"True\",\"T\")/100,\"\")","v":0.25598532552300002},null,-0.51999999999999957,0,{"$error":"#N/A"},null,{"$f":"IFERROR(RTD(\"cqg.rtd\",,\"StudyData\", \"Correlation(\"&$B$3&\",\"&U$2&\",Period:=\"&$B$1&\",InputChoice1:=Close,InputChoice2::=Close)\", \"FG\", \"\", \"Close\",$B$2,A28, \"all\",\"\", \"\",\"True\",\"T\")/100,\"\")","v":0.10383011488299999},null,-0.51999999999999957,0,{"$error":"#N/A"},null,{"$f":"IFERROR(RTD(\"cqg.rtd\",,\"StudyData\", \"Correlation(\"&$B$3&\",\"&AA$2&\",Period:=\"&$B$1&\",InputChoice1:=Close,InputChoice2::=Close)\", \"FG\", \"\", \"Close\",$B$2,A28, \"all\",\"\", \"\",\"True\",\"T\")/100,\"\")","v":0.31613209419099997},null,-0.51999999999999957,1,{"$error":"#N/A"},null,{"$f":"IFERROR(RTD(\"cqg.rtd\",,\"StudyData\", \"Correlation(\"&$B$3&\",\"&AG$2&\",Period:=\"&$B$1&\",InputChoice1:=Close,InputChoice2::=Close)\", \"FG\", \"\", \"Close\",$B$2,A28, \"all\",\"\", \"\",\"True\",\"T\")/100,\"\")","v":0.33335038816000001},null,-0.51999999999999957,0,{"$error":"#N/A"},null,{"$f":"IFERROR(RTD(\"cqg.rtd\",,\"StudyData\", \"Correlation(\"&$B$3&\",\"&AM$2&\",Period:=\"&$B$1&\",InputChoice1:=Close,InputChoice2::=Close)\", \"FG\", \"\", \"Close\",$B$2,A28, \"all\",\"\", \"\",\"True\",\"T\")/100,\"\")","v":0.34777322753699996},null,-0.51999999999999957,0,{"$error":"#N/A"},null,{"$f":"IFERROR(RTD(\"cqg.rtd\",,\"StudyData\", \"Correlation(\"&$B$3&\",\"&AS$2&\",Period:=\"&$B$1&\",InputChoice1:=Close,InputChoice2::=Close)\", \"FG\", \"\", \"Close\",$B$2,A28, \"all\",\"\", \"\",\"True\",\"T\")/100,\"\")","v":5.217017686E-2},null,-0.51999999999999957,2,{"$error":"#N/A"},null,{"$f":"IFERROR(RTD(\"cqg.rtd\",,\"StudyData\", \"Correlation(\"&$B$3&\",\"&AY$2&\",Period:=\"&$B$1&\",InputChoice1:=Close,InputChoice2::=Close)\", \"FG\", \"\", \"Close\",$B$2,A28, \"all\",\"\", \"\",\"True\",\"T\")/100,\"\")","v":0.23877134733899999},null,-0.51999999999999957,0,{"$error":"#N/A"},null,{"$f":"IFERROR(RTD(\"cqg.rtd\",,\"StudyData\", \"Correlation(\"&$B$3&\",\"&BE$2&\",Period:=\"&$B$1&\",InputChoice1:=Close,InputChoice2::=Close)\", \"FG\", \"\", \"Close\",$B$2,A28, \"all\",\"\", \"\",\"True\",\"T\")/100,\"\")","v":0.38552619781499997},null,-0.51999999999999957,0,{"$error":"#N/A"}]
[-25,null,{"$f":"IFERROR(RTD(\"cqg.rtd\",,\"StudyData\", \"Correlation(\"&$B$3&\",\"&C$2&\",Period:=\"&$B$1&\",InputChoice1:=Close,InputChoice2:=Close)\", \"FG\", \"\", \"Close\",$B$2,A29, \"all\",\"\", \"\",\"True\",\"T\")/100,\"\")","v":-0.17762194926700001},null,-0.49999999999999956,0,{"$error":"#N/A"},null,{"$f":"IFERROR(RTD(\"cqg.rtd\",,\"StudyData\", \"Correlation(\"&$B$3&\",\"&I$2&\",Period:=\"&$B$1&\",InputChoice1:=Close,InputChoice2::=Close)\", \"FG\", \"\", \"Close\",$B$2,A29, \"all\",\"\", \"\",\"True\",\"T\")/100,\"\")","v":-0.16762964449699999},null,-0.49999999999999956,2,{"$error":"#N/A"},null,{"$f":"IFERROR(RTD(\"cqg.rtd\",,\"StudyData\", \"Correlation(\"&$B$3&\",\"&O$2&\",Period:=\"&$B$1&\",InputChoice1:=Close,InputChoice2::=Close)\", \"FG\", \"\", \"Close\",$B$2,A29, \"all\",\"\", \"\",\"True\",\"T\")/100,\"\")","v":0.31252282113399998},null,-0.49999999999999956,1,{"$error":"#N/A"},null,{"$f":"IFERROR(RTD(\"cqg.rtd\",,\"StudyData\", \"Correlation(\"&$B$3&\",\"&U$2&\",Period:=\"&$B$1&\",InputChoice1:=Close,InputChoice2::=Close)\", \"FG\", \"\", \"Close\",$B$2,A29, \"all\",\"\", \"\",\"True\",\"T\")/100,\"\")","v":0.16143935871099999},null,-0.49999999999999956,0,{"$error":"#N/A"},null,{"$f":"IFERROR(RTD(\"cqg.rtd\",,\"StudyData\", \"Correlation(\"&$B$3&\",\"&AA$2&\",Period:=\"&$B$1&\",InputChoice1:=Close,InputChoice2::=Close)\", \"FG\", \"\", \"Close\",$B$2,A29, \"all\",\"\", \"\",\"True\",\"T\")/100,\"\")","v":0.34001307656300001},null,-0.49999999999999956,1,{"$error":"#N/A"},null,{"$f":"IFERROR(RTD(\"cqg.rtd\",,\"StudyData\", \"Correlation(\"&$B$3&\",\"&AG$2&\",Period:=\"&$B$1&\",InputChoice1:=Close,InputChoice2::=Close)\", \"FG\", \"\", \"Close\",$B$2,A29, \"all\",\"\", \"\",\"True\",\"T\")/100,\"\")","v":0.35811740801899999},null,-0.49999999999999956,1,{"$error":"#N/A"},null,{"$f":"IFERROR(RTD(\"cqg.rtd\",,\"StudyData\", \"Correlation(\"&$B$3&\",\"&AM$2&\",Period:=\"&$B$1&\",InputChoice1:=Close,InputChoice2::=Close)\", \"FG\", \"\", \"Close\",$B$2,A29, \"all\",\"\", \"\",\"True\",\"T\")/100,\"\")","v":0.42767812005000005},null,-0.49999999999999956,1,{"$error":"#N/A"},null,{"$f":"IFERROR(RTD(\"cqg.rtd\",,\"StudyData\", \"Correlation(\"&$B$3&\",\"&AS$2&\",Period:=\"&$B$1&\",InputChoice1:=Close,InputChoice2::=Close)\", \"FG\", \"\", \"Close\",$B$2,A29, \"all\",\"\", \"\",\"True\",\"T\")/100,\"\")","v":-0.106480856035},null,-0.49999999999999956,2,{"$error":"#N/A"},null,{"$f":"IFERROR(RTD(\"cqg.rtd\",,\"StudyData\", \"Correlation(\"&$B$3&\",\"&AY$2&\",Period:=\"&$B$1&\",InputChoice1:=Close,InputChoice2::=Close)\", \"FG\", \"\", \"Close\",$B$2,A29, \"all\",\"\", \"\",\"True\",\"T\")/100,\"\")","v":0.540770293663},null,-0.49999999999999956,0,{"$error":"#N/A"},null,{"$f":"IFERROR(RTD(\"cqg.rtd\",,\"StudyData\", \"Correlation(\"&$B$3&\",\"&BE$2&\",Period:=\"&$B$1&\",InputChoice1:=Close,InputChoice2::=Close)\", \"FG\", \"\", \"Close\",$B$2,A29, \"all\",\"\", \"\",\"True\",\"T\")/100,\"\")","v":0.31578105568000003},null,-0.49999999999999956,1,{"$error":"#N/A"}]
[-26,null,{"$f":"IFERROR(RTD(\"cqg.rtd\",,\"StudyData\", \"Correlation(\"&$B$3&\",\"&C$2&\",Period:=\"&$B$1&\",InputChoice1:=Close,InputChoice2:=Close)\", \"FG\", \"\", \"Close\",$B$2,A30, \"all\",\"\", \"\",\"True\",\"T\")/100,\"\")","v":0.141581381895},null,-0.47999999999999954,0,{"$error":"#N/A"},null,{"$f":"IFERROR(RTD(\"cqg.rtd\",,\"StudyData\", \"Correlation(\"&$B$3&\",\"&I$2&\",Period:=\"&$B$1&\",InputChoice1:=Close,InputChoice2::=Close)\", \"FG\", \"\", \"Close\",$B$2,A30, \"all\",\"\", \"\",\"True\",\"T\")/100,\"\")","v":0.17930297445499999},null,-0.47999999999999954,0,{"$error":"#N/A"},null,{"$f":"IFERROR(RTD(\"cqg.rtd\",,\"StudyData\", \"Correlation(\"&$B$3&\",\"&O$2&\",Period:=\"&$B$1&\",InputChoice1:=Close,InputChoice2::=Close)\", \"FG\", \"\", \"Close\",$B$2,A30, \"all\",\"\", \"\",\"True\",\"T\")/100,\"\")","v":0.43333898369400004},null,-0.47999999999999954,1,{"$error":"#N/A"},null,{"$f":"IFERROR(RTD(\"cqg.rtd\",,\"StudyData\", \"Correlation(\"&$B$3&\",\"&U$2&\",Period:=\"&$B$1&\",InputChoice1:=Close,InputChoice2::=Close)\", \"FG\", \"\", \"Close\",$B$2,A30, \"all\",\"\", \"\",\"True\",\"T\")/100,\"\")","v":0.42147911266299998},null,-0.47999999999999954,1,{"$error":"#N/A"},null,{"$f":"IFERROR(RTD(\"cqg.rtd\",,\"StudyData\", \"Correlation(\"&$B$3&\",\"&AA$2&\",Period:=\"&$B$1&\",InputChoice1:=Close,InputChoice2::=Close)\", \"FG\", \"\", \"Close\",$B$2,A30, \"all\",\"\", \"\",\"True\",\"T\")/100,\"\")","v":0.57405502353899995},null,-0.47999999999999954,0,{"$error":"#N/A"},null,{"$f":"IFERROR(RTD(\"cqg.rtd\",,\"StudyData\", \"Correlation(\"&$B$3&\",\"&AG$2&\",Period:=\"&$B$1&\",InputChoice1:=Close,InputChoice2::=Close)\", \"FG\", \"\", \"Close\",$B$2,A30, \"all\",\"\", \"\",\"True\",\"T\")/100,\"\")","v":0.538758228053},null,-0.47999999999999954,4,{"$error":"#N/A"},null,{"$f":"IFERROR(RTD(\"cqg.rtd\",,\"StudyData\", \"Correlation(\"&$B$3&\",\"&AM$2&\",Period:=\"&$B$1&\",InputChoice1:=Close,InputChoice2::=Close)\", \"FG\", \"\", \"Close\",$B$2,A30, \"all\",\"\", \"\",\"True\",\"T\")/100,\"\")","v":0.61458941336000006},null,-0.47999999999999954,1,{"$error":"#N/A"},null,{"$f":"IFERROR(RTD(\"cqg.rtd\",,\"StudyData\", \"Correlation(\"&$B$3&\",\"&AS$2&\",Period:=\"&$B$1&\",InputChoice1:=Close,InputChoice2::=Close)\", \"FG\", \"\", \"Close\",$B$2,A30, \"all\",\"\", \"\",\"True\",\"T\")/100,\"\")","v":-0.22431641583099998},null,-0.47999999999999954,3,{"$error":"#N/A"},null,{"$f":"IFERROR(RTD(\"cqg.rtd\",,\"StudyData\", \"Correlation(\"&$B$3&\",\"&AY$2&\",Period:=\"&$B$1&\",InputChoice1:=Close,InputChoice2::=Close)\", \"FG\", \"\", \"Close\",$B$2,A30, \"all\",\"\", \"\",\"True\",\"T\")/100,\"\")","v":0.56446801560399995},null,-0.47999999999999954,0,{"$error":"#N/A"},null,{"$f":"IFERROR(RTD(\"cqg.rtd\",,\"StudyData\", \"Correlation(\"&$B$3&\",\"&BE$2&\",Period:=\"&$B$1&\",InputChoice1:=Close,InputChoice2::=Close)\", \"FG\", \"\", \"Close\",$B$2,A30, \"all\",\"\", \"\",\"True\",\"T\")/100,\"\")","v":0.39271508295499996},null,-0.47999999999999954,0,{"$error":"#N/A"}]
[-27,null,{"$f":"IFERROR(RTD(\"cqg.rtd\",,\"StudyData\", \"Correlation(\"&$B$3&\",\"&C$2&\",Period:=\"&$B$1&\",InputChoice1:=Close,InputChoice2:=Close)\", \"FG\", \"\", \"Close\",$B$2,A31, \"all\",\"\", \"\",\"True\",\"T\")/100,\"\")","v":0.23783870186},null,-0.45999999999999952,0,{"$error":"#N/A"},null,{"$f":"IFERROR(RTD(\"cqg.rtd\",,\"StudyData\", \"Correlation(\"&$B$3&\",\"&I$2&\",Period:=\"&$B$1&\",InputChoice1:=Close,InputChoice2::=Close)\", \"FG\", \"\", \"Close\",$B$2,A31, \"all\",\"\", \"\",\"True\",\"T\")/100,\"\")","v":0.27130353490800002},null,-0.45999999999999952,1,{"$error":"#N/A"},null,{"$f":"IFERROR(RTD(\"cqg.rtd\",,\"StudyData\", \"Correlation(\"&$B$3&\",\"&O$2&\",Period:=\"&$B$1&\",InputChoice1:=Close,InputChoice2::=Close)\", \"FG\", \"\", \"Close\",$B$2,A31, \"all\",\"\", \"\",\"True\",\"T\")/100,\"\")","v":0.30427556277400003},null,-0.45999999999999952,0,{"$error":"#N/A"},null,{"$f":"IFERROR(RTD(\"cqg.rtd\",,\"StudyData\", \"Correlation(\"&$B$3&\",\"&U$2&\",Period:=\"&$B$1&\",InputChoice1:=Close,InputChoice2::=Close)\", \"FG\", \"\", \"Close\",$B$2,A31, \"all\",\"\", \"\",\"True\",\"T\")/100,\"\")","v":0.51879043111400003},null,-0.45999999999999952,0,{"$error":"#N/A"},null,{"$f":"IFERROR(RTD(\"cqg.rtd\",,\"StudyData\", \"Correlation(\"&$B$3&\",\"&AA$2&\",Period:=\"&$B$1&\",InputChoice1:=Close,InputChoice2::=Close)\", \"FG\", \"\", \"Close\",$B$2,A31, \"all\",\"\", \"\",\"True\",\"T\")/100,\"\")","v":0.58031925470700008},null,-0.45999999999999952,1,{"$error":"#N/A"},null,{"$f":"IFERROR(RTD(\"cqg.rtd\",,\"StudyData\", \"Correlation(\"&$B$3&\",\"&AG$2&\",Period:=\"&$B$1&\",InputChoice1:=Close,InputChoice2::=Close)\", \"FG\", \"\", \"Close\",$B$2,A31, \"all\",\"\", \"\",\"True\",\"T\")/100,\"\")","v":0.52024068692299996},null,-0.45999999999999952,0,{"$error":"#N/A"},null,{"$f":"IFERROR(RTD(\"cqg.rtd\",,\"StudyData\", \"Correlation(\"&$B$3&\",\"&AM$2&\",Period:=\"&$B$1&\",InputChoice1:=Close,InputChoice2::=Close)\", \"FG\", \"\", \"Close\",$B$2,A31, \"all\",\"\", \"\",\"True\",\"T\")/100,\"\")","v":0.58515802891299995},null,-0.45999999999999952,1,{"$error":"#N/A"},null,{"$f":"IFERROR(RTD(\"cqg.rtd\",,\"StudyData\", \"Correlation(\"&$B$3&\",\"&AS$2&\",Period:=\"&$B$1&\",InputChoice1:=Close,InputChoice2::=Close)\", \"FG\", \"\", \"Close\",$B$2,A31, \"all\",\"\", \"\",\"True\",\"T\")/100,\"\")","v":-0.47002937969900005},null,-0.45999999999999952,3,{"$error":"#N/A"},null,{"$f":"IFERROR(RTD(\"cqg.rtd\",,\"StudyData\", \"Correlation(\"&$B$3&\",\"&AY$2&\",Period:=\"&$B$1&\",InputChoice1:=Close,InputChoice2::=Close)\", \"FG\", \"\", \"Close\",$B$2,A31, \"all\",\"\", \"\",\"True\",\"T\")/100,\"\")","v":0.62620219353000006},null,-0.45999999999999952,0,{"$error":"#N/A"},null,{"$f":"IFERROR(RTD(\"cqg.rtd\",,\"StudyData\", \"Correlation(\"&$B$3&\",\"&BE$2&\",Period:=\"&$B$1&\",InputChoice1:=Close,InputChoice2::=Close)\", \"FG\", \"\", \"Close\",$B$2,A31, \"all\",\"\", \"\",\"True\",\"T\")/100,\"\")","v":0.44870676204600002},null,-0.45999999999999952,1,{"$error":"#N/A"}]
[-28,null,{"$f":"IFERROR(RTD(\"cqg.rtd\",,\"StudyData\", \"Correlation(\"&$B$3&\",\"&C$2&\",Period:=\"&$B$1&\",InputChoice1:=Close,InputChoice2:=Close)\", \"FG\", \"\", \"Close\",$B$2,A32, \"all\",\"\", \"\",\"True\",\"T\")/100,\"\")","v":0.219210946804},null,-0.4399999999999995,3,{"$error":"#N/A"},null,{"$f":"IFERROR(RTD(\"cqg.rtd\",,\"StudyData\", \"Correlation(\"&$B$3&\",\"&I$2&\",Period:=\"&$B$1&\",InputChoice1:=Close,InputChoice2::=Close)\", \"FG\", \"\", \"Close\",$B$2,A32, \"all\",\"\", \"\",\"True\",\"T\")/100,\"\")","v":0.20942526921900001},null,-0.4399999999999995,3,{"$error":"#N/A"},null,{"$f":"IFERROR(RTD(\"cqg.rtd\",,\"StudyData\", \"Correlation(\"&$B$3&\",\"&O$2&\",Period:=\"&$B$1&\",InputChoice1:=Close,InputChoice2::=Close)\", \"FG\", \"\", \"Close\",$B$2,A32, \"all\",\"\", \"\",\"True\",\"T\")/100,\"\")","v":0.33802969556999996},null,-0.4399999999999995,1,{"$error":"#N/A"},null,{"$f":"IFERROR(RTD(\"cqg.rtd\",,\"StudyData\", \"Correlation(\"&$B$3&\",\"&U$2&\",Period:=\"&$B$1&\",InputChoice1:=Close,InputChoice2::=Close)\", \"FG\", \"\", \"Close\",$B$2,A32, \"all\",\"\", \"\",\"True\",\"T\")/100,\"\")","v":0.565312550759},null,-0.4399999999999995,0,{"$error":"#N/A"},null,{"$f":"IFERROR(RTD(\"cqg.rtd\",,\"StudyData\", \"Correlation(\"&$B$3&\",\"&AA$2&\",Period:=\"&$B$1&\",InputChoice1:=Close,InputChoice2::=Close)\", \"FG\", \"\", \"Close\",$B$2,A32, \"all\",\"\", \"\",\"True\",\"T\")/100,\"\")","v":0.625886590322},null,-0.4399999999999995,2,{"$error":"#N/A"},null,{"$f":"IFERROR(RTD(\"cqg.rtd\",,\"StudyData\", \"Correlation(\"&$B$3&\",\"&AG$2&\",Period:=\"&$B$1&\",InputChoice1:=Close,InputChoice2::=Close)\", \"FG\", \"\", \"Close\",$B$2,A32, \"all\",\"\", \"\",\"True\",\"T\")/100,\"\")","v":0.55028553578000006},null,-0.4399999999999995,0,{"$error":"#N/A"},null,{"$f":"IFERROR(RTD(\"cqg.rtd\",,\"StudyData\", \"Correlation(\"&$B$3&\",\"&AM$2&\",Period:=\"&$B$1&\",InputChoice1:=Close,InputChoice2::=Close)\", \"FG\", \"\", \"Close\",$B$2,A32, \"all\",\"\", \"\",\"True\",\"T\")/100,\"\")","v":0.61538736012999995},null,-0.4399999999999995,2,{"$error":"#N/A"},null,{"$f":"IFERROR(RTD(\"cqg.rtd\",,\"StudyData\", \"Correlation(\"&$B$3&\",\"&AS$2&\",Period:=\"&$B$1&\",InputChoice1:=Close,InputChoice2::=Close)\", \"FG\", \"\", \"Close\",$B$2,A32, \"all\",\"\", \"\",\"True\",\"T\")/100,\"\")","v":-0.51911383749000006},null,-0.4399999999999995,2,{"$error":"#N/A"},null,{"$f":"IFERROR(RTD(\"cqg.rtd\",,\"StudyData\", \"Correlation(\"&$B$3&\",\"&AY$2&\",Period:=\"&$B$1&\",InputChoice1:=Close,InputChoice2::=Close)\", \"FG\", \"\", \"Close\",$B$2,A32, \"all\",\"\", \"\",\"True\",\"T\")/100,\"\")","v":0.670643709363},null,-0.4399999999999995,0,{"$error":"#N/A"},null,{"$f":"IFERROR(RTD(\"cqg.rtd\",,\"StudyData\", \"Correlation(\"&$B$3&\",\"&BE$2&\",Period:=\"&$B$1&\",InputChoice1:=Close,InputChoice2::=Close)\", \"FG\", \"\", \"Close\",$B$2,A32, \"all\",\"\", \"\",\"True\",\"T\")/100,\"\")","v":0.481774646009},null,-0.4399999999999995,0,{"$error":"#N/A"}]
[-29,null,{"$f":"IFERROR(RTD(\"cqg.rtd\",,\"StudyData\", \"Correlation(\"&$B$3&\",\"&C$2&\",Period:=\"&$B$1&\",InputChoice1:=Close,InputChoice2:=Close)\", \"FG\", \"\", \"Close\",$B$2,A33, \"all\",\"\", \"\",\"True\",\"T\")/100,\"\")","v":0.22106269516000002},null,-0.41999999999999948,0,{"$error":"#N/A"},null,{"$f":"IFERROR(RTD(\"cqg.rtd\",,\"StudyData\", \"Correlation(\"&$B$3&\",\"&I$2&\",Period:=\"&$B$1&\",InputChoice1:=Close,InputChoice2::=Close)\", \"FG\", \"\", \"Close\",$B$2,A33, \"all\",\"\", \"\",\"True\",\"T\")/100,\"\")","v":0.18692481600999999},null,-0.41999999999999948,0,{"$error":"#N/A"},null,{"$f":"IFERROR(RTD(\"cqg.rtd\",,\"StudyData\", \"Correlation(\"&$B$3&\",\"&O$2&\",Period:=\"&$B$1&\",InputChoice1:=Close,InputChoice2::=Close)\", \"FG\", \"\", \"Close\",$B$2,A33, \"all\",\"\", \"\",\"True\",\"T\")/100,\"\")","v":0.2497208896},null,-0.41999999999999948,2,{"$error":"#N/A"},null,{"$f":"IFERROR(RTD(\"cqg.rtd\",,\"StudyData\", \"Correlation(\"&$B$3&\",\"&U$2&\",Period:=\"&$B$1&\",InputChoice1:=Close,InputChoice2::=Close)\", \"FG\", \"\", \"Close\",$B$2,A33, \"all\",\"\", \"\",\"True\",\"T\")/100,\"\")","v":0.57014217674699996},null,-0.41999999999999948,2,{"$error":"#N/A"},null,{"$f":"IFERROR(RTD(\"cqg.rtd\",,\"StudyData\", \"Correlation(\"&$B$3&\",\"&AA$2&\",Period:=\"&$B$1&\",InputChoice1:=Close,InputChoice2::=Close)\", \"FG\", \"\", \"Close\",$B$2,A33, \"all\",\"\", \"\",\"True\",\"T\")/100,\"\")","v":0.58107214123399997},null,-0.41999999999999948,3,{"$error":"#N/A"},null,{"$f":"IFERROR(RTD(\"cqg.rtd\",,\"StudyData\", \"Correlation(\"&$B$3&\",\"&AG$2&\",Period:=\"&$B$1&\",InputChoice1:=Close,InputChoice2::=Close)\", \"FG\", \"\", \"Close\",$B$2,A33, \"all\",\"\", \"\",\"True\",\"T\")/100,\"\")","v":0.476160245584},null,-0.41999999999999948,1,{"$error":"#N/A"},null,{"$f":"IFERROR(RTD(\"cqg.rtd\",,\"StudyData\", \"Correlation(\"&$B$3&\",\"&AM$2&\",Period:=\"&$B$1&\",InputChoice1:=Close,InputChoice2::=Close)\", \"FG\", \"\", \"Close\",$B$2,A33, \"all\",\"\", \"\",\"True\",\"T\")/100,\"\")","v":0.51923455936200003},null,-0.41999999999999948,3,{"$error":"#N/A"},null,{"$f":"IFERROR(RTD(\"cqg.rtd\",,\"StudyData\", \"Correlation(\"&$B$3&\",\"&AS$2&\",Period:=\"&$B$1&\",InputChoice1:=Close,InputChoice2::=Close)\", \"FG\", \"\", \"Close\",$B$2,A33, \"all\",\"\", \"\",\"True\",\"T\")/100,\"\")","v":-0.59173536357900003},null,-0.41999999999999948,2,{"$error":"#N/A"},null,{"$f":"IFERROR(RTD(\"cqg.rtd\",,\"StudyData\", \"Correlation(\"&$B$3&\",\"&AY$2&\",Period:=\"&$B$1&\",InputChoice1:=Close,InputChoice2::=Close)\", \"FG\", \"\", \"Close\",$B$2,A33, \"all\",\"\", \"\",\"True\",\"T\")/100,\"\")","v":0.70154249654199996},null,-0.41999999999999948,0,{"$error":"#N/A"},null,{"$f":"IFERROR(RTD(\"cqg.rtd\",,\"StudyData\", \"Correlation(\"&$B$3&\",\"&BE$2&\",Period:=\"&$B$1&\",InputChoice1:=Close,InputChoice2::=Close)\", \"FG\", \"\", \"Close\",$B$2,A33, \"all\",\"\", \"\",\"True\",\"T\")/100,\"\")","v":0.47927732676899998},null,-0.41999999999999948,0,{"$error":"#N/A"}]
[-30,null,{"$f":"IFERROR(RTD(\"cqg.rtd\",,\"StudyData\", \"Correlation(\"&$B$3&\",\"&C$2&\",Period:=\"&$B$1&\",InputChoice1:=Close,InputChoice2:=Close)\", \"FG\", \"\", \"Close\",$B$2,A34, \"all\",\"\", \"\",\"True\",\"T\")/100,\"\")","v":7.2001967730000005E-2},null,-0.39999999999999947,1,{"$error":"#N/A"},null,{"$f":"IFERROR(RTD(\"cqg.rtd\",,\"StudyData\", \"Correlation(\"&$B$3&\",\"&I$2&\",Period:=\"&$B$1&\",InputChoice1:=Close,InputChoice2::=Close)\", \"FG\", \"\", \"Close\",$B$2,A34, \"all\",\"\", \"\",\"True\",\"T\")/100,\"\")","v":-5.8709125128E-2},null,-0.39999999999999947,3,{"$error":"#N/A"},null,{"$f":"IFERROR(RTD(\"cqg.rtd\",,\"StudyData\", \"Correlation(\"&$B$3&\",\"&O$2&\",Period:=\"&$B$1&\",InputChoice1:=Close,InputChoice2::=Close)\", \"FG\", \"\", \"Close\",$B$2,A34, \"all\",\"\", \"\",\"True\",\"T\")/100,\"\")","v":0.27411134603199999},null,-0.39999999999999947,3,{"$error":"#N/A"},null,{"$f":"IFERROR(RTD(\"cqg.rtd\",,\"StudyData\", \"Correlation(\"&$B$3&\",\"&U$2&\",Period:=\"&$B$1&\",InputChoice1:=Close,InputChoice2::=Close)\", \"FG\", \"\", \"Close\",$B$2,A34, \"all\",\"\", \"\",\"True\",\"T\")/100,\"\")","v":0.41828808577799997},null,-0.39999999999999947,0,{"$error":"#N/A"},null,{"$f":"IFERROR(RTD(\"cqg.rtd\",,\"StudyData\", \"Correlation(\"&$B$3&\",\"&AA$2&\",Period:=\"&$B$1&\",InputChoice1:=Close,InputChoice2::=Close)\", \"FG\", \"\", \"Close\",$B$2,A34, \"all\",\"\", \"\",\"True\",\"T\")/100,\"\")","v":0.53806009318999992},null,-0.39999999999999947,2,{"$error":"#N/A"},null,{"$f":"IFERROR(RTD(\"cqg.rtd\",,\"StudyData\", \"Correlation(\"&$B$3&\",\"&AG$2&\",Period:=\"&$B$1&\",InputChoice1:=Close,InputChoice2::=Close)\", \"FG\", \"\", \"Close\",$B$2,A34, \"all\",\"\", \"\",\"True\",\"T\")/100,\"\")","v":0.42731992069699998},null,-0.39999999999999947,0,{"$error":"#N/A"},null,{"$f":"IFERROR(RTD(\"cqg.rtd\",,\"StudyData\", \"Correlation(\"&$B$3&\",\"&AM$2&\",Period:=\"&$B$1&\",InputChoice1:=Close,InputChoice2::=Close)\", \"FG\", \"\", \"Close\",$B$2,A34, \"all\",\"\", \"\",\"True\",\"T\")/100,\"\")","v":0.44608002628599996},null,-0.39999999999999947,1,{"$error":"#N/A"},null,{"$f":"IFERROR(RTD(\"cqg.rtd\",,\"StudyData\", \"Correlation(\"&$B$3&\",\"&AS$2&\",Period:=\"&$B$1&\",InputChoice1:=Close,InputChoice2::=Close)\", \"FG\", \"\", \"Close\",$B$2,A34, \"all\",\"\", \"\",\"True\",\"T\")/100,\"\")","v":-0.69650173011099992},null,-0.39999999999999947,1,{"$error":"#N/A"},null,{"$f":"IFERROR(RTD(\"cqg.rtd\",,\"StudyData\", \"Correlation(\"&$B$3&\",\"&AY$2&\",Period:=\"&$B$1&\",InputChoice1:=Close,InputChoice2::=Close)\", \"FG\", \"\", \"Close\",$B$2,A34, \"all\",\"\", \"\",\"True\",\"T\")/100,\"\")","v":0.78283683882499999},null,-0.39999999999999947,0,{"$error":"#N/A"},null,{"$f":"IFERROR(RTD(\"cqg.rtd\",,\"StudyData\", \"Correlation(\"&$B$3&\",\"&BE$2&\",Period:=\"&$B$1&\",InputChoice1:=Close,InputChoice2::=Close)\", \"FG\", \"\", \"Close\",$B$2,A34, \"all\",\"\", \"\",\"True\",\"T\")/100,\"\")","v":0.48303605713600001},null,-0.39999999999999947,0,{"$error":"#N/A"}]
[-31,null,{"$f":"IFERROR(RTD(\"cqg.rtd\",,\"StudyData\", \"Correlation(\"&$B$3&\",\"&C$2&\",Period:=\"&$B$1&\",InputChoice1:=Close,InputChoice2:=Close)\", \"FG\", \"\", \"Close\",$B$2,A35, \"all\",\"\", \"\",\"True\",\"T\")/100,\"\")","v":-6.4443277248000003E-2},null,-0.37999999999999945,0,{"$error":"#N/A"},null,{"$f":"IFERROR(RTD(\"cqg.rtd\",,\"StudyData\", \"Correlation(\"&$B$3&\",\"&I$2&\",Period:=\"&$B$1&\",InputChoice1:=Close,InputChoice2::=Close)\", \"FG\", \"\", \"Close\",$B$2,A35, \"all\",\"\", \"\",\"True\",\"T\")/100,\"\")","v":-0.21564037423799998},null,-0.37999999999999945,2,{"$error":"#N/A"},null,{"$f":"IFERROR(RTD(\"cqg.rtd\",,\"StudyData\", \"Correlation(\"&$B$3&\",\"&O$2&\",Period:=\"&$B$1&\",InputChoice1:=Close,InputChoice2::=Close)\", \"FG\", \"\", \"Close\",$B$2,A35, \"all\",\"\", \"\",\"True\",\"T\")/100,\"\")","v":0.36756193589299996},null,-0.37999999999999945,2,{"$error":"#N/A"},null,{"$f":"IFERROR(RTD(\"cqg.rtd\",,\"StudyData\", \"Correlation(\"&$B$3&\",\"&U$2&\",Period:=\"&$B$1&\",InputChoice1:=Close,InputChoice2::=Close)\", \"FG\", \"\", \"Close\",$B$2,A35, \"all\",\"\", \"\",\"True\",\"T\")/100,\"\")","v":0.26439850912000001},null,-0.37999999999999945,0,{"$error":"#N/A"},null,{"$f":"IFERROR(RTD(\"cqg.rtd\",,\"StudyData\", \"Correlation(\"&$B$3&\",\"&AA$2&\",Period:=\"&$B$1&\",InputChoice1:=Close,InputChoice2::=Close)\", \"FG\", \"\", \"Close\",$B$2,A35, \"all\",\"\", \"\",\"True\",\"T\")/100,\"\")","v":0.35612746169600001},null,-0.37999999999999945,2,{"$error":"#N/A"},null,{"$f":"IFERROR(RTD(\"cqg.rtd\",,\"StudyData\", \"Correlation(\"&$B$3&\",\"&AG$2&\",Period:=\"&$B$1&\",InputChoice1:=Close,InputChoice2::=Close)\", \"FG\", \"\", \"Close\",$B$2,A35, \"all\",\"\", \"\",\"True\",\"T\")/100,\"\")","v":0.27112266934899998},null,-0.37999999999999945,4,{"$error":"#N/A"},null,{"$f":"IFERROR(RTD(\"cqg.rtd\",,\"StudyData\", \"Correlation(\"&$B$3&\",\"&AM$2&\",Period:=\"&$B$1&\",InputChoice1:=Close,InputChoice2::=Close)\", \"FG\", \"\", \"Close\",$B$2,A35, \"all\",\"\", \"\",\"True\",\"T\")/100,\"\")","v":0.23976303785799999},null,-0.37999999999999945,0,{"$error":"#N/A"},null,{"$f":"IFERROR(RTD(\"cqg.rtd\",,\"StudyData\", \"Correlation(\"&$B$3&\",\"&AS$2&\",Period:=\"&$B$1&\",InputChoice1:=Close,InputChoice2::=Close)\", \"FG\", \"\", \"Close\",$B$2,A35, \"all\",\"\", \"\",\"True\",\"T\")/100,\"\")","v":-0.71345442609900001},null,-0.37999999999999945,1,{"$error":"#N/A"},null,{"$f":"IFERROR(RTD(\"cqg.rtd\",,\"StudyData\", \"Correlation(\"&$B$3&\",\"&AY$2&\",Period:=\"&$B$1&\",InputChoice1:=Close,InputChoice2::=Close)\", \"FG\", \"\", \"Close\",$B$2,A35, \"all\",\"\", \"\",\"True\",\"T\")/100,\"\")","v":0.83983677329299988},null,-0.37999999999999945,0,{"$error":"#N/A"},null,{"$f":"IFERROR(RTD(\"cqg.rtd\",,\"StudyData\", \"Correlation(\"&$B$3&\",\"&BE$2&\",Period:=\"&$B$1&\",InputChoice1:=Close,InputChoice2::=Close)\", \"FG\", \"\", \"Close\",$B$2,A35, \"all\",\"\", \"\",\"True\",\"T\")/100,\"\")","v":0.49598727110099999},null,-0.37999999999999945,0,{"$error":"#N/A"}]
[-32,null,{"$f":"IFERROR(RTD(\"cqg.rtd\",,\"StudyData\", \"Correlation(\"&$B$3&\",\"&C$2&\",Period:=\"&$B$1&\",InputChoice1:=Close,InputChoice2:=Close)\", \"FG\", \"\", \"Close\",$B$2,A36, \"all\",\"\", \"\",\"True\",\"T\")/100,\"\")","v":-0.207170454507},null,-0.35999999999999943,0,{"$error":"#N/A"},null,{"$f":"IFERROR(RTD(\"cqg.rtd\",,\"StudyData\", \"Correlation(\"&$B$3&\",\"&I$2&\",Period:=\"&$B$1&\",InputChoice1:=Close,InputChoice2::=Close)\", \"FG\", \"\", \"Close\",$B$2,A36, \"all\",\"\", \"\",\"True\",\"T\")/100,\"\")","v":-0.35196529047200004},null,-0.35999999999999943,1,{"$error":"#N/A"},null,{"$f":"IFERROR(RTD(\"cqg.rtd\",,\"StudyData\", \"Correlation(\"&$B$3&\",\"&O$2&\",Period:=\"&$B$1&\",InputChoice1:=Close,InputChoice2::=Close)\", \"FG\", \"\", \"Close\",$B$2,A36, \"all\",\"\", \"\",\"True\",\"T\")/100,\"\")","v":0.52039535493400002},null,-0.35999999999999943,4,{"$error":"#N/A"},null,{"$f":"IFERROR(RTD(\"cqg.rtd\",,\"StudyData\", \"Correlation(\"&$B$3&\",\"&U$2&\",Period:=\"&$B$1&\",InputChoice1:=Close,InputChoice2::=Close)\", \"FG\", \"\", \"Close\",$B$2,A36, \"all\",\"\", \"\",\"True\",\"T\")/100,\"\")","v":1.8230322366000001E-2},null,-0.35999999999999943,1,{"$error":"#N/A"},null,{"$f":"IFERROR(RTD(\"cqg.rtd\",,\"StudyData\", \"Correlation(\"&$B$3&\",\"&AA$2&\",Period:=\"&$B$1&\",InputChoice1:=Close,InputChoice2::=Close)\", \"FG\", \"\", \"Close\",$B$2,A36, \"all\",\"\", \"\",\"True\",\"T\")/100,\"\")","v":0.114512967583},null,-0.35999999999999943,2,{"$error":"#N/A"},null,{"$f":"IFERROR(RTD(\"cqg.rtd\",,\"StudyData\", \"Correlation(\"&$B$3&\",\"&AG$2&\",Period:=\"&$B$1&\",InputChoice1:=Close,InputChoice2::=Close)\", \"FG\", \"\", \"Close\",$B$2,A36, \"all\",\"\", \"\",\"True\",\"T\")/100,\"\")","v":9.2425463311999995E-2},null,-0.35999999999999943,0,{"$error":"#N/A"},null,{"$f":"IFERROR(RTD(\"cqg.rtd\",,\"StudyData\", \"Correlation(\"&$B$3&\",\"&AM$2&\",Period:=\"&$B$1&\",InputChoice1:=Close,InputChoice2::=Close)\", \"FG\", \"\", \"Close\",$B$2,A36, \"all\",\"\", \"\",\"True\",\"T\")/100,\"\")","v":-1.4416704183E-2},null,-0.35999999999999943,1,{"$error":"#N/A"},null,{"$f":"IFERROR(RTD(\"cqg.rtd\",,\"StudyData\", \"Correlation(\"&$B$3&\",\"&AS$2&\",Period:=\"&$B$1&\",InputChoice1:=Close,InputChoice2::=Close)\", \"FG\", \"\", \"Close\",$B$2,A36, \"all\",\"\", \"\",\"True\",\"T\")/100,\"\")","v":-0.78820632643199995},null,-0.35999999999999943,1,{"$error":"#N/A"},null,{"$f":"IFERROR(RTD(\"cqg.rtd\",,\"StudyData\", \"Correlation(\"&$B$3&\",\"&AY$2&\",Period:=\"&$B$1&\",InputChoice1:=Close,InputChoice2::=Close)\", \"FG\", \"\", \"Close\",$B$2,A36, \"all\",\"\", \"\",\"True\",\"T\")/100,\"\")","v":0.87105969411399997},null,-0.35999999999999943,0,{"$error":"#N/A"},null,{"$f":"IFERROR(RTD(\"cqg.rtd\",,\"StudyData\", \"Correlation(\"&$B$3&\",\"&BE$2&\",Period:=\"&$B$1&\",InputChoice1:=Close,InputChoice2::=Close)\", \"FG\", \"\", \"Close\",$B$2,A36, \"all\",\"\", \"\",\"True\",\"T\")/100,\"\")","v":0.59798552397100002},null,-0.35999999999999943,0,{"$error":"#N/A"}]
[-33,null,{"$f":"IFERROR(RTD(\"cqg.rtd\",,\"StudyData\", \"Correlation(\"&$B$3&\",\"&C$2&\",Period:=\"&$B$1&\",InputChoice1:=Close,InputChoice2:=Close)\", \"FG\", \"\", \"Close\",$B$2,A37, \"all\",\"\", \"\",\"True\",\"T\")/100,\"\")","v":-0.27494009939699998},null,-0.33999999999999941,1,{"$error":"#N/A"},null,{"$f":"IFERROR(RTD(\"cqg.rtd\",,\"StudyData\", \"Correlation(\"&$B$3&\",\"&I$2&\",Period:=\"&$B$1&\",InputChoice1:=Close,InputChoice2::=Close)\", \"FG\", \"\", \"Close\",$B$2,A37, \"all\",\"\", \"\",\"True\",\"T\")/100,\"\")","v":-0.40111643582500001},null,-0.33999999999999941,3,{"$error":"#N/A"},null,{"$f":"IFERROR(RTD(\"cqg.rtd\",,\"StudyData\", \"Correlation(\"&$B$3&\",\"&O$2&\",Period:=\"&$B$1&\",InputChoice1:=Close,InputChoice2::=Close)\", \"FG\", \"\", \"Close\",$B$2,A37, \"all\",\"\", \"\",\"True\",\"T\")/100,\"\")","v":0.62981785940899992},null,-0.33999999999999941,1,{"$error":"#N/A"},null,{"$f":"IFERROR(RTD(\"cqg.rtd\",,\"StudyData\", \"Correlation(\"&$B$3&\",\"&U$2&\",Period:=\"&$B$1&\",InputChoice1:=Close,InputChoice2::=Close)\", \"FG\", \"\", \"Close\",$B$2,A37, \"all\",\"\", \"\",\"True\",\"T\")/100,\"\")","v":-0.18255329540799997},null,-0.33999999999999941,2,{"$error":"#N/A"},null,{"$f":"IFERROR(RTD(\"cqg.rtd\",,\"StudyData\", \"Correlation(\"&$B$3&\",\"&AA$2&\",Period:=\"&$B$1&\",InputChoice1:=Close,InputChoice2::=Close)\", \"FG\", \"\", \"Close\",$B$2,A37, \"all\",\"\", \"\",\"True\",\"T\")/100,\"\")","v":-8.0290777965999996E-2},null,-0.33999999999999941,1,{"$error":"#N/A"},null,{"$f":"IFERROR(RTD(\"cqg.rtd\",,\"StudyData\", \"Correlation(\"&$B$3&\",\"&AG$2&\",Period:=\"&$B$1&\",InputChoice1:=Close,InputChoice2::=Close)\", \"FG\", \"\", \"Close\",$B$2,A37, \"all\",\"\", \"\",\"True\",\"T\")/100,\"\")","v":-7.567614103100001E-2},null,-0.33999999999999941,1,{"$error":"#N/A"},null,{"$f":"IFERROR(RTD(\"cqg.rtd\",,\"StudyData\", \"Correlation(\"&$B$3&\",\"&AM$2&\",Period:=\"&$B$1&\",InputChoice1:=Close,InputChoice2::=Close)\", \"FG\", \"\", \"Close\",$B$2,A37, \"all\",\"\", \"\",\"True\",\"T\")/100,\"\")","v":-0.20017793850499999},null,-0.33999999999999941,1,{"$error":"#N/A"},null,{"$f":"IFERROR(RTD(\"cqg.rtd\",,\"StudyData\", \"Correlation(\"&$B$3&\",\"&AS$2&\",Period:=\"&$B$1&\",InputChoice1:=Close,InputChoice2::=Close)\", \"FG\", \"\", \"Close\",$B$2,A37, \"all\",\"\", \"\",\"True\",\"T\")/100,\"\")","v":-0.89348532761699995},null,-0.33999999999999941,1,{"$error":"#N/A"},null,{"$f":"IFERROR(RTD(\"cqg.rtd\",,\"StudyData\", \"Correlation(\"&$B$3&\",\"&AY$2&\",Period:=\"&$B$1&\",InputChoice1:=Close,InputChoice2::=Close)\", \"FG\", \"\", \"Close\",$B$2,A37, \"all\",\"\", \"\",\"True\",\"T\")/100,\"\")","v":0.89147019583700005},null,-0.33999999999999941,0,{"$error":"#N/A"},null,{"$f":"IFERROR(RTD(\"cqg.rtd\",,\"StudyData\", \"Correlation(\"&$B$3&\",\"&BE$2&\",Period:=\"&$B$1&\",InputChoice1:=Close,InputChoice2::=Close)\", \"FG\", \"\", \"Close\",$B$2,A37, \"all\",\"\", \"\",\"True\",\"T\")/100,\"\")","v":0.61749451613600004},null,-0.33999999999999941,0,{"$error":"#N/A"}]
[-34,null,{"$f":"IFERROR(RTD(\"cqg.rtd\",,\"StudyData\", \"Correlation(\"&$B$3&\",\"&C$2&\",Period:=\"&$B$1&\",InputChoice1:=Close,InputChoice2:=Close)\", \"FG\", \"\", \"Close\",$B$2,A38, \"all\",\"\", \"\",\"True\",\"T\")/100,\"\")","v":-0.25912244346800001},null,-0.3199999999999994,0,{"$error":"#N/A"},null,{"$f":"IFERROR(RTD(\"cqg.rtd\",,\"StudyData\", \"Correlation(\"&$B$3&\",\"&I$2&\",Period:=\"&$B$1&\",InputChoice1:=Close,InputChoice2::=Close)\", \"FG\", \"\", \"Close\",$B$2,A38, \"all\",\"\", \"\",\"True\",\"T\")/100,\"\")","v":-0.37334404899900003},null,-0.3199999999999994,0,{"$error":"#N/A"},null,{"$f":"IFERROR(RTD(\"cqg.rtd\",,\"StudyData\", \"Correlation(\"&$B$3&\",\"&O$2&\",Period:=\"&$B$1&\",InputChoice1:=Close,InputChoice2::=Close)\", \"FG\", \"\", \"Close\",$B$2,A38, \"all\",\"\", \"\",\"True\",\"T\")/100,\"\")","v":0.73033304627999995},null,-0.3199999999999994,2,{"$error":"#N/A"},null,{"$f":"IFERROR(RTD(\"cqg.rtd\",,\"StudyData\", \"Correlation(\"&$B$3&\",\"&U$2&\",Period:=\"&$B$1&\",InputChoice1:=Close,InputChoice2::=Close)\", \"FG\", \"\", \"Close\",$B$2,A38, \"all\",\"\", \"\",\"True\",\"T\")/100,\"\")","v":-0.32105908226499996},null,-0.3199999999999994,1,{"$error":"#N/A"},null,{"$f":"IFERROR(RTD(\"cqg.rtd\",,\"StudyData\", \"Correlation(\"&$B$3&\",\"&AA$2&\",Period:=\"&$B$1&\",InputChoice1:=Close,InputChoice2::=Close)\", \"FG\", \"\", \"Close\",$B$2,A38, \"all\",\"\", \"\",\"True\",\"T\")/100,\"\")","v":-0.21897388067500001},null,-0.3199999999999994,0,{"$error":"#N/A"},null,{"$f":"IFERROR(RTD(\"cqg.rtd\",,\"StudyData\", \"Correlation(\"&$B$3&\",\"&AG$2&\",Period:=\"&$B$1&\",InputChoice1:=Close,InputChoice2::=Close)\", \"FG\", \"\", \"Close\",$B$2,A38, \"all\",\"\", \"\",\"True\",\"T\")/100,\"\")","v":-0.218182006703},null,-0.3199999999999994,4,{"$error":"#N/A"},null,{"$f":"IFERROR(RTD(\"cqg.rtd\",,\"StudyData\", \"Correlation(\"&$B$3&\",\"&AM$2&\",Period:=\"&$B$1&\",InputChoice1:=Close,InputChoice2::=Close)\", \"FG\", \"\", \"Close\",$B$2,A38, \"all\",\"\", \"\",\"True\",\"T\")/100,\"\")","v":-0.30539525997299999},null,-0.3199999999999994,1,{"$error":"#N/A"},null,{"$f":"IFERROR(RTD(\"cqg.rtd\",,\"StudyData\", \"Correlation(\"&$B$3&\",\"&AS$2&\",Period:=\"&$B$1&\",InputChoice1:=Close,InputChoice2::=Close)\", \"FG\", \"\", \"Close\",$B$2,A38, \"all\",\"\", \"\",\"True\",\"T\")/100,\"\")","v":-0.89867260030699991},null,-0.3199999999999994,3,{"$error":"#N/A"},null,{"$f":"IFERROR(RTD(\"cqg.rtd\",,\"StudyData\", \"Correlation(\"&$B$3&\",\"&AY$2&\",Period:=\"&$B$1&\",InputChoice1:=Close,InputChoice2::=Close)\", \"FG\", \"\", \"Close\",$B$2,A38, \"all\",\"\", \"\",\"True\",\"T\")/100,\"\")","v":0.89988342717600001},null,-0.3199999999999994,0,{"$error":"#N/A"},null,{"$f":"IFERROR(RTD(\"cqg.rtd\",,\"StudyData\", \"Correlation(\"&$B$3&\",\"&BE$2&\",Period:=\"&$B$1&\",InputChoice1:=Close,InputChoice2::=Close)\", \"FG\", \"\", \"Close\",$B$2,A38, \"all\",\"\", \"\",\"True\",\"T\")/100,\"\")","v":0.53097065235000007},null,-0.3199999999999994,0,{"$error":"#N/A"}]
[-35,null,{"$f":"IFERROR(RTD(\"cqg.rtd\",,\"StudyData\", \"Correlation(\"&$B$3&\",\"&C$2&\",Period:=\"&$B$1&\",InputChoice1:=Close,InputChoice2:=Close)\", \"FG\", \"\", \"Close\",$B$2,A39, \"all\",\"\", \"\",\"True\",\"T\")/100,\"\")","v":-0.34737152417200001},null,-0.29999999999999938,1,{"$error":"#N/A"},null,{"$f":"IFERROR(RTD(\"cqg.rtd\",,\"StudyData\", \"Correlation(\"&$B$3&\",\"&I$2&\",Period:=\"&$B$1&\",InputChoice1:=Close,InputChoice2::=Close)\", \"FG\", \"\", \"Close\",$B$2,A39, \"all\",\"\", \"\",\"True\",\"T\")/100,\"\")","v":-0.441168947832},null,-0.29999999999999938,2,{"$error":"#N/A"},null,{"$f":"IFERROR(RTD(\"cqg.rtd\",,\"StudyData\", \"Correlation(\"&$B$3&\",\"&O$2&\",Period:=\"&$B$1&\",InputChoice1:=Close,InputChoice2::=Close)\", \"FG\", \"\", \"Close\",$B$2,A39, \"all\",\"\", \"\",\"True\",\"T\")/100,\"\")","v":0.72104977538199999},null,-0.29999999999999938,0,{"$error":"#N/A"},null,{"$f":"IFERROR(RTD(\"cqg.rtd\",,\"StudyData\", \"Correlation(\"&$B$3&\",\"&U$2&\",Period:=\"&$B$1&\",InputChoice1:=Close,InputChoice2::=Close)\", \"FG\", \"\", \"Close\",$B$2,A39, \"all\",\"\", \"\",\"True\",\"T\")/100,\"\")","v":-0.43596385088900003},null,-0.29999999999999938,1,{"$error":"#N/A"},null,{"$f":"IFERROR(RTD(\"cqg.rtd\",,\"StudyData\", \"Correlation(\"&$B$3&\",\"&AA$2&\",Period:=\"&$B$1&\",InputChoice1:=Close,InputChoice2::=Close)\", \"FG\", \"\", \"Close\",$B$2,A39, \"all\",\"\", \"\",\"True\",\"T\")/100,\"\")","v":-0.38866385921400004},null,-0.29999999999999938,0,{"$error":"#N/A"},null,{"$f":"IFERROR(RTD(\"cqg.rtd\",,\"StudyData\", \"Correlation(\"&$B$3&\",\"&AG$2&\",Period:=\"&$B$1&\",InputChoice1:=Close,InputChoice2::=Close)\", \"FG\", \"\", \"Close\",$B$2,A39, \"all\",\"\", \"\",\"True\",\"T\")/100,\"\")","v":-0.397608342118},null,-0.29999999999999938,3,{"$error":"#N/A"},null,{"$f":"IFERROR(RTD(\"cqg.rtd\",,\"StudyData\", \"Correlation(\"&$B$3&\",\"&AM$2&\",Period:=\"&$B$1&\",InputChoice1:=Close,InputChoice2::=Close)\", \"FG\", \"\", \"Close\",$B$2,A39, \"all\",\"\", \"\",\"True\",\"T\")/100,\"\")","v":-0.45987970250300003},null,-0.29999999999999938,2,{"$error":"#N/A"},null,{"$f":"IFERROR(RTD(\"cqg.rtd\",,\"StudyData\", \"Correlation(\"&$B$3&\",\"&AS$2&\",Period:=\"&$B$1&\",InputChoice1:=Close,InputChoice2::=Close)\", \"FG\", \"\", \"Close\",$B$2,A39, \"all\",\"\", \"\",\"True\",\"T\")/100,\"\")","v":-0.89146675438200007},null,-0.29999999999999938,1,{"$error":"#N/A"},null,{"$f":"IFERROR(RTD(\"cqg.rtd\",,\"StudyData\", \"Correlation(\"&$B$3&\",\"&AY$2&\",Period:=\"&$B$1&\",InputChoice1:=Close,InputChoice2::=Close)\", \"FG\", \"\", \"Close\",$B$2,A39, \"all\",\"\", \"\",\"True\",\"T\")/100,\"\")","v":0.911974666662},null,-0.29999999999999938,0,{"$error":"#N/A"},null,{"$f":"IFERROR(RTD(\"cqg.rtd\",,\"StudyData\", \"Correlation(\"&$B$3&\",\"&BE$2&\",Period:=\"&$B$1&\",InputChoice1:=Close,InputChoice2::=Close)\", \"FG\", \"\", \"Close\",$B$2,A39, \"all\",\"\", \"\",\"True\",\"T\")/100,\"\")","v":0.54155232394399999},null,-0.29999999999999938,2,{"$error":"#N/A"}]
[-36,null,{"$f":"IFERROR(RTD(\"cqg.rtd\",,\"StudyData\", \"Correlation(\"&$B$3&\",\"&C$2&\",Period:=\"&$B$1&\",InputChoice1:=Close,InputChoice2:=Close)\", \"FG\", \"\", \"Close\",$B$2,A40, \"all\",\"\", \"\",\"True\",\"T\")/100,\"\")","v":-0.44950414613100004},null,-0.27999999999999936,1,{"$error":"#N/A"},null,{"$f":"IFERROR(RTD(\"cqg.rtd\",,\"StudyData\", \"Correlation(\"&$B$3&\",\"&I$2&\",Period:=\"&$B$1&\",InputChoice1:=Close,InputChoice2::=Close)\", \"FG\", \"\", \"Close\",$B$2,A40, \"all\",\"\", \"\",\"True\",\"T\")/100,\"\")","v":-0.51592741660800001},null,-0.27999999999999936,1,{"$error":"#N/A"},null,{"$f":"IFERROR(RTD(\"cqg.rtd\",,\"StudyData\", \"Correlation(\"&$B$3&\",\"&O$2&\",Period:=\"&$B$1&\",InputChoice1:=Close,InputChoice2::=Close)\", \"FG\", \"\", \"Close\",$B$2,A40, \"all\",\"\", \"\",\"True\",\"T\")/100,\"\")","v":0.72178612599800007},null,-0.27999999999999936,3,{"$error":"#N/A"},null,{"$f":"IFERROR(RTD(\"cqg.rtd\",,\"StudyData\", \"Correlation(\"&$B$3&\",\"&U$2&\",Period:=\"&$B$1&\",InputChoice1:=Close,InputChoice2::=Close)\", \"FG\", \"\", \"Close\",$B$2,A40, \"all\",\"\", \"\",\"True\",\"T\")/100,\"\")","v":-0.55423021791600002},null,-0.27999999999999936,0,{"$error":"#N/A"},null,{"$f":"IFERROR(RTD(\"cqg.rtd\",,\"StudyData\", \"Correlation(\"&$B$3&\",\"&AA$2&\",Period:=\"&$B$1&\",InputChoice1:=Close,InputChoice2::=Close)\", \"FG\", \"\", \"Close\",$B$2,A40, \"all\",\"\", \"\",\"True\",\"T\")/100,\"\")","v":-0.58087318752700001},null,-0.27999999999999936,1,{"$error":"#N/A"},null,{"$f":"IFERROR(RTD(\"cqg.rtd\",,\"StudyData\", \"Correlation(\"&$B$3&\",\"&AG$2&\",Period:=\"&$B$1&\",InputChoice1:=Close,InputChoice2::=Close)\", \"FG\", \"\", \"Close\",$B$2,A40, \"all\",\"\", \"\",\"True\",\"T\")/100,\"\")","v":-0.60728985550500003},null,-0.27999999999999936,2,{"$error":"#N/A"},null,{"$f":"IFERROR(RTD(\"cqg.rtd\",,\"StudyData\", \"Correlation(\"&$B$3&\",\"&AM$2&\",Period:=\"&$B$1&\",InputChoice1:=Close,InputChoice2::=Close)\", \"FG\", \"\", \"Close\",$B$2,A40, \"all\",\"\", \"\",\"True\",\"T\")/100,\"\")","v":-0.62643219818700002},null,-0.27999999999999936,2,{"$error":"#N/A"},null,{"$f":"IFERROR(RTD(\"cqg.rtd\",,\"StudyData\", \"Correlation(\"&$B$3&\",\"&AS$2&\",Period:=\"&$B$1&\",InputChoice1:=Close,InputChoice2::=Close)\", \"FG\", \"\", \"Close\",$B$2,A40, \"all\",\"\", \"\",\"True\",\"T\")/100,\"\")","v":-0.87176942850399997},null,-0.27999999999999936,3,{"$error":"#N/A"},null,{"$f":"IFERROR(RTD(\"cqg.rtd\",,\"StudyData\", \"Correlation(\"&$B$3&\",\"&AY$2&\",Period:=\"&$B$1&\",InputChoice1:=Close,InputChoice2::=Close)\", \"FG\", \"\", \"Close\",$B$2,A40, \"all\",\"\", \"\",\"True\",\"T\")/100,\"\")","v":0.92759289764499997},null,-0.27999999999999936,0,{"$error":"#N/A"},null,{"$f":"IFERROR(RTD(\"cqg.rtd\",,\"StudyData\", \"Correlation(\"&$B$3&\",\"&BE$2&\",Period:=\"&$B$1&\",InputChoice1:=Close,InputChoice2::=Close)\", \"FG\", \"\", \"Close\",$B$2,A40, \"all\",\"\", \"\",\"True\",\"T\")/100,\"\")","v":0.52149278353200001},null,-0.27999999999999936,0,{"$error":"#N/A"}]
[-37,null,{"$f":"IFERROR(RTD(\"cqg.rtd\",,\"StudyData\", \"Correlation(\"&$B$3&\",\"&C$2&\",Period:=\"&$B$1&\",InputChoice1:=Close,InputChoice2:=Close)\", \"FG\", \"\", \"Close\",$B$2,A41, \"all\",\"\", \"\",\"True\",\"T\")/100,\"\")","v":-0.58564445330699999},null,-0.25999999999999934,1,{"$error":"#N/A"},null,{"$f":"IFERROR(RTD(\"cqg.rtd\",,\"StudyData\", \"Correlation(\"&$B$3&\",\"&I$2&\",Period:=\"&$B$1&\",InputChoice1:=Close,InputChoice2::=Close)\", \"FG\", \"\", \"Close\",$B$2,A41, \"all\",\"\", \"\",\"True\",\"T\")/100,\"\")","v":-0.59986893261399998},null,-0.25999999999999934,1,{"$error":"#N/A"},null,{"$f":"IFERROR(RTD(\"cqg.rtd\",,\"StudyData\", \"Correlation(\"&$B$3&\",\"&O$2&\",Period:=\"&$B$1&\",InputChoice1:=Close,InputChoice2::=Close)\", \"FG\", \"\", \"Close\",$B$2,A41, \"all\",\"\", \"\",\"True\",\"T\")/100,\"\")","v":0.714094827062},null,-0.25999999999999934,0,{"$error":"#N/A"},null,{"$f":"IFERROR(RTD(\"cqg.rtd\",,\"StudyData\", \"Correlation(\"&$B$3&\",\"&U$2&\",Period:=\"&$B$1&\",InputChoice1:=Close,InputChoice2::=Close)\", \"FG\", \"\", \"Close\",$B$2,A41, \"all\",\"\", \"\",\"True\",\"T\")/100,\"\")","v":-0.63443261066099998},null,-0.25999999999999934,0,{"$error":"#N/A"},null,{"$f":"IFERROR(RTD(\"cqg.rtd\",,\"StudyData\", \"Correlation(\"&$B$3&\",\"&AA$2&\",Period:=\"&$B$1&\",InputChoice1:=Close,InputChoice2::=Close)\", \"FG\", \"\", \"Close\",$B$2,A41, \"all\",\"\", \"\",\"True\",\"T\")/100,\"\")","v":-0.65793599209300002},null,-0.25999999999999934,1,{"$error":"#N/A"},null,{"$f":"IFERROR(RTD(\"cqg.rtd\",,\"StudyData\", \"Correlation(\"&$B$3&\",\"&AG$2&\",Period:=\"&$B$1&\",InputChoice1:=Close,InputChoice2::=Close)\", \"FG\", \"\", \"Close\",$B$2,A41, \"all\",\"\", \"\",\"True\",\"T\")/100,\"\")","v":-0.70942615770200002},null,-0.25999999999999934,1,{"$error":"#N/A"},null,{"$f":"IFERROR(RTD(\"cqg.rtd\",,\"StudyData\", \"Correlation(\"&$B$3&\",\"&AM$2&\",Period:=\"&$B$1&\",InputChoice1:=Close,InputChoice2::=Close)\", \"FG\", \"\", \"Close\",$B$2,A41, \"all\",\"\", \"\",\"True\",\"T\")/100,\"\")","v":-0.66449575138599992},null,-0.25999999999999934,0,{"$error":"#N/A"},null,{"$f":"IFERROR(RTD(\"cqg.rtd\",,\"StudyData\", \"Correlation(\"&$B$3&\",\"&AS$2&\",Period:=\"&$B$1&\",InputChoice1:=Close,InputChoice2::=Close)\", \"FG\", \"\", \"Close\",$B$2,A41, \"all\",\"\", \"\",\"True\",\"T\")/100,\"\")","v":-0.85261465161600003},null,-0.25999999999999934,2,{"$error":"#N/A"},null,{"$f":"IFERROR(RTD(\"cqg.rtd\",,\"StudyData\", \"Correlation(\"&$B$3&\",\"&AY$2&\",Period:=\"&$B$1&\",InputChoice1:=Close,InputChoice2::=Close)\", \"FG\", \"\", \"Close\",$B$2,A41, \"all\",\"\", \"\",\"True\",\"T\")/100,\"\")","v":0.93264871207599997},null,-0.25999999999999934,0,{"$error":"#N/A"},null,{"$f":"IFERROR(RTD(\"cqg.rtd\",,\"StudyData\", \"Correlation(\"&$B$3&\",\"&BE$2&\",Period:=\"&$B$1&\",InputChoice1:=Close,InputChoice2::=Close)\", \"FG\", \"\", \"Close\",$B$2,A41, \"all\",\"\", \"\",\"True\",\"T\")/100,\"\")","v":0.48782790975300006},null,-0.25999999999999934,0,{"$error":"#N/A"}]
[-38,null,{"$f":"IFERROR(RTD(\"cqg.rtd\",,\"StudyData\", \"Correlation(\"&$B$3&\",\"&C$2&\",Period:=\"&$B$1&\",InputChoice1:=Close,InputChoice2:=Close)\", \"FG\", \"\", \"Close\",$B$2,A42, \"all\",\"\", \"\",\"True\",\"T\")/100,\"\")","v":-0.67894890513000006},null,-0.23999999999999935,3,{"$error":"#N/A"},null,{"$f":"IFERROR(RTD(\"cqg.rtd\",,\"StudyData\", \"Correlation(\"&$B$3&\",\"&I$2&\",Period:=\"&$B$1&\",InputChoice1:=Close,InputChoice2::=Close)\", \"FG\", \"\", \"Close\",$B$2,A42, \"all\",\"\", \"\",\"True\",\"T\")/100,\"\")","v":-0.69626518622000011},null,-0.23999999999999935,1,{"$error":"#N/A"},null,{"$f":"IFERROR(RTD(\"cqg.rtd\",,\"StudyData\", \"Correlation(\"&$B$3&\",\"&O$2&\",Period:=\"&$B$1&\",InputChoice1:=Close,InputChoice2::=Close)\", \"FG\", \"\", \"Close\",$B$2,A42, \"all\",\"\", \"\",\"True\",\"T\")/100,\"\")","v":0.65280182612100002},null,-0.23999999999999935,3,{"$error":"#N/A"},null,{"$f":"IFERROR(RTD(\"cqg.rtd\",,\"StudyData\", \"Correlation(\"&$B$3&\",\"&U$2&\",Period:=\"&$B$1&\",InputChoice1:=Close,InputChoice2::=Close)\", \"FG\", \"\", \"Close\",$B$2,A42, \"all\",\"\", \"\",\"True\",\"T\")/100,\"\")","v":-0.68995825532999999},null,-0.23999999999999935,1,{"$error":"#N/A"},null,{"$f":"IFERROR(RTD(\"cqg.rtd\",,\"StudyData\", \"Correlation(\"&$B$3&\",\"&AA$2&\",Period:=\"&$B$1&\",InputChoice1:=Close,InputChoice2::=Close)\", \"FG\", \"\", \"Close\",$B$2,A42, \"all\",\"\", \"\",\"True\",\"T\")/100,\"\")","v":-0.7295419716649999},null,-0.23999999999999935,0,{"$error":"#N/A"},null,{"$f":"IFERROR(RTD(\"cqg.rtd\",,\"StudyData\", \"Correlation(\"&$B$3&\",\"&AG$2&\",Period:=\"&$B$1&\",InputChoice1:=Close,InputChoice2::=Close)\", \"FG\", \"\", \"Close\",$B$2,A42, \"all\",\"\", \"\",\"True\",\"T\")/100,\"\")","v":-0.78434104158599993},null,-0.23999999999999935,1,{"$error":"#N/A"},null,{"$f":"IFERROR(RTD(\"cqg.rtd\",,\"StudyData\", \"Correlation(\"&$B$3&\",\"&AM$2&\",Period:=\"&$B$1&\",InputChoice1:=Close,InputChoice2::=Close)\", \"FG\", \"\", \"Close\",$B$2,A42, \"all\",\"\", \"\",\"True\",\"T\")/100,\"\")","v":-0.70270821260999994},null,-0.23999999999999935,1,{"$error":"#N/A"},null,{"$f":"IFERROR(RTD(\"cqg.rtd\",,\"StudyData\", \"Correlation(\"&$B$3&\",\"&AS$2&\",Period:=\"&$B$1&\",InputChoice1:=Close,InputChoice2::=Close)\", \"FG\", \"\", \"Close\",$B$2,A42, \"all\",\"\", \"\",\"True\",\"T\")/100,\"\")","v":-0.84954859830000007},null,-0.23999999999999935,0,{"$error":"#N/A"},null,{"$f":"IFERROR(RTD(\"cqg.rtd\",,\"StudyData\", \"Correlation(\"&$B$3&\",\"&AY$2&\",Period:=\"&$B$1&\",InputChoice1:=Close,InputChoice2::=Close)\", \"FG\", \"\", \"Close\",$B$2,A42, \"all\",\"\", \"\",\"True\",\"T\")/100,\"\")","v":0.93381078099600001},null,-0.23999999999999935,0,{"$error":"#N/A"},null,{"$f":"IFERROR(RTD(\"cqg.rtd\",,\"StudyData\", \"Correlation(\"&$B$3&\",\"&BE$2&\",Period:=\"&$B$1&\",InputChoice1:=Close,InputChoice2::=Close)\", \"FG\", \"\", \"Close\",$B$2,A42, \"all\",\"\", \"\",\"True\",\"T\")/100,\"\")","v":0.41076535254500002},null,-0.23999999999999935,0,{"$error":"#N/A"}]
[-39,null,{"$f":"IFERROR(RTD(\"cqg.rtd\",,\"StudyData\", \"Correlation(\"&$B$3&\",\"&C$2&\",Period:=\"&$B$1&\",InputChoice1:=Close,InputChoice2:=Close)\", \"FG\", \"\", \"Close\",$B$2,A43, \"all\",\"\", \"\",\"True\",\"T\")/100,\"\")","v":-0.69036694692699996},null,-0.21999999999999936,3,{"$error":"#N/A"},null,{"$f":"IFERROR(RTD(\"cqg.rtd\",,\"StudyData\", \"Correlation(\"&$B$3&\",\"&I$2&\",Period:=\"&$B$1&\",InputChoice1:=Close,InputChoice2::=Close)\", \"FG\", \"\", \"Close\",$B$2,A43, \"all\",\"\", \"\",\"True\",\"T\")/100,\"\")","v":-0.71050293367799999},null,-0.21999999999999936,2,{"$error":"#N/A"},null,{"$f":"IFERROR(RTD(\"cqg.rtd\",,\"StudyData\", \"Correlation(\"&$B$3&\",\"&O$2&\",Period:=\"&$B$1&\",InputChoice1:=Close,InputChoice2::=Close)\", \"FG\", \"\", \"Close\",$B$2,A43, \"all\",\"\", \"\",\"True\",\"T\")/100,\"\")","v":0.58492246899699996},null,-0.21999999999999936,0,{"$error":"#N/A"},null,{"$f":"IFERROR(RTD(\"cqg.rtd\",,\"StudyData\", \"Correlation(\"&$B$3&\",\"&U$2&\",Period:=\"&$B$1&\",InputChoice1:=Close,InputChoice2::=Close)\", \"FG\", \"\", \"Close\",$B$2,A43, \"all\",\"\", \"\",\"True\",\"T\")/100,\"\")","v":-0.75116653855299997},null,-0.21999999999999936,0,{"$error":"#N/A"},null,{"$f":"IFERROR(RTD(\"cqg.rtd\",,\"StudyData\", \"Correlation(\"&$B$3&\",\"&AA$2&\",Period:=\"&$B$1&\",InputChoice1:=Close,InputChoice2::=Close)\", \"FG\", \"\", \"Close\",$B$2,A43, \"all\",\"\", \"\",\"True\",\"T\")/100,\"\")","v":-0.77974952100200001},null,-0.21999999999999936,2,{"$error":"#N/A"},null,{"$f":"IFERROR(RTD(\"cqg.rtd\",,\"StudyData\", \"Correlation(\"&$B$3&\",\"&AG$2&\",Period:=\"&$B$1&\",InputChoice1:=Close,InputChoice2::=Close)\", \"FG\", \"\", \"Close\",$B$2,A43, \"all\",\"\", \"\",\"True\",\"T\")/100,\"\")","v":-0.839603239753},null,-0.21999999999999936,0,{"$error":"#N/A"},null,{"$f":"IFERROR(RTD(\"cqg.rtd\",,\"StudyData\", \"Correlation(\"&$B$3&\",\"&AM$2&\",Period:=\"&$B$1&\",InputChoice1:=Close,InputChoice2::=Close)\", \"FG\", \"\", \"Close\",$B$2,A43, \"all\",\"\", \"\",\"True\",\"T\")/100,\"\")","v":-0.742537496445},null,-0.21999999999999936,1,{"$error":"#N/A"},null,{"$f":"IFERROR(RTD(\"cqg.rtd\",,\"StudyData\", \"Correlation(\"&$B$3&\",\"&AS$2&\",Period:=\"&$B$1&\",InputChoice1:=Close,InputChoice2::=Close)\", \"FG\", \"\", \"Close\",$B$2,A43, \"all\",\"\", \"\",\"True\",\"T\")/100,\"\")","v":-0.84781571985100002},null,-0.21999999999999936,2,{"$error":"#N/A"},null,{"$f":"IFERROR(RTD(\"cqg.rtd\",,\"StudyData\", \"Correlation(\"&$B$3&\",\"&AY$2&\",Period:=\"&$B$1&\",InputChoice1:=Close,InputChoice2::=Close)\", \"FG\", \"\", \"Close\",$B$2,A43, \"all\",\"\", \"\",\"True\",\"T\")/100,\"\")","v":0.92732308992099999},null,-0.21999999999999936,0,{"$error":"#N/A"},null,{"$f":"IFERROR(RTD(\"cqg.rtd\",,\"StudyData\", \"Correlation(\"&$B$3&\",\"&BE$2&\",Period:=\"&$B$1&\",InputChoice1:=Close,InputChoice2::=Close)\", \"FG\", \"\", \"Close\",$B$2,A43, \"all\",\"\", \"\",\"True\",\"T\")/100,\"\")","v":0.17170113319700001},null,-0.21999999999999936,0,{"$error":"#N/A"}]
[-40,null,{"$f":"IFERROR(RTD(\"cqg.rtd\",,\"StudyData\", \"Correlation(\"&$B$3&\",\"&C$2&\",Period:=\"&$B$1&\",InputChoice1:=Close,InputChoice2:=Close)\", \"FG\", \"\", \"Close\",$B$2,A44, \"all\",\"\", \"\",\"True\",\"T\")/100,\"\")","v":-0.73461339153899996},null,-0.19999999999999937,2,{"$error":"#N/A"},null,{"$f":"IFERROR(RTD(\"cqg.rtd\",,\"StudyData\", \"Correlation(\"&$B$3&\",\"&I$2&\",Period:=\"&$B$1&\",InputChoice1:=Close,InputChoice2::=Close)\", \"FG\", \"\", \"Close\",$B$2,A44, \"all\",\"\", \"\",\"True\",\"T\")/100,\"\")","v":-0.75876151520899993},null,-0.19999999999999937,3,{"$error":"#N/A"},null,{"$f":"IFERROR(RTD(\"cqg.rtd\",,\"StudyData\", \"Correlation(\"&$B$3&\",\"&O$2&\",Period:=\"&$B$1&\",InputChoice1:=Close,InputChoice2::=Close)\", \"FG\", \"\", \"Close\",$B$2,A44, \"all\",\"\", \"\",\"True\",\"T\")/100,\"\")","v":0.51144034900599999},null,-0.19999999999999937,1,{"$error":"#N/A"},null,{"$f":"IFERROR(RTD(\"cqg.rtd\",,\"StudyData\", \"Correlation(\"&$B$3&\",\"&U$2&\",Period:=\"&$B$1&\",InputChoice1:=Close,InputChoice2::=Close)\", \"FG\", \"\", \"Close\",$B$2,A44, \"all\",\"\", \"\",\"True\",\"T\")/100,\"\")","v":-0.72275510912100005},null,-0.19999999999999937,4,{"$error":"#N/A"},null,{"$f":"IFERROR(RTD(\"cqg.rtd\",,\"StudyData\", \"Correlation(\"&$B$3&\",\"&AA$2&\",Period:=\"&$B$1&\",InputChoice1:=Close,InputChoice2::=Close)\", \"FG\", \"\", \"Close\",$B$2,A44, \"all\",\"\", \"\",\"True\",\"T\")/100,\"\")","v":-0.83909827857800001},null,-0.19999999999999937,2,{"$error":"#N/A"},null,{"$f":"IFERROR(RTD(\"cqg.rtd\",,\"StudyData\", \"Correlation(\"&$B$3&\",\"&AG$2&\",Period:=\"&$B$1&\",InputChoice1:=Close,InputChoice2::=Close)\", \"FG\", \"\", \"Close\",$B$2,A44, \"all\",\"\", \"\",\"True\",\"T\")/100,\"\")","v":-0.904308274829},null,-0.19999999999999937,1,{"$error":"#N/A"},null,{"$f":"IFERROR(RTD(\"cqg.rtd\",,\"StudyData\", \"Correlation(\"&$B$3&\",\"&AM$2&\",Period:=\"&$B$1&\",InputChoice1:=Close,InputChoice2::=Close)\", \"FG\", \"\", \"Close\",$B$2,A44, \"all\",\"\", \"\",\"True\",\"T\")/100,\"\")","v":-0.82303761515199991},null,-0.19999999999999937,4,{"$error":"#N/A"},null,{"$f":"IFERROR(RTD(\"cqg.rtd\",,\"StudyData\", \"Correlation(\"&$B$3&\",\"&AS$2&\",Period:=\"&$B$1&\",InputChoice1:=Close,InputChoice2::=Close)\", \"FG\", \"\", \"Close\",$B$2,A44, \"all\",\"\", \"\",\"True\",\"T\")/100,\"\")","v":-0.82895076061200001},null,-0.19999999999999937,2,{"$error":"#N/A"},null,{"$f":"IFERROR(RTD(\"cqg.rtd\",,\"StudyData\", \"Correlation(\"&$B$3&\",\"&AY$2&\",Period:=\"&$B$1&\",InputChoice1:=Close,InputChoice2::=Close)\", \"FG\", \"\", \"Close\",$B$2,A44, \"all\",\"\", \"\",\"True\",\"T\")/100,\"\")","v":0.92077491812400003},null,-0.19999999999999937,0,{"$error":"#N/A"},null,{"$f":"IFERROR(RTD(\"cqg.rtd\",,\"StudyData\", \"Correlation(\"&$B$3&\",\"&BE$2&\",Period:=\"&$B$1&\",InputChoice1:=Close,InputChoice2::=Close)\", \"FG\", \"\", \"Close\",$B$2,A44, \"all\",\"\", \"\",\"True\",\"T\")/100,\"\")","v":0.10322656092700001},null,-0.19999999999999937,0,{"$error":"#N/A"}]
[-41,null,{"$f":"IFERROR(RTD(\"cqg.rtd\",,\"StudyData\", \"Correlation(\"&$B$3&\",\"&C$2&\",Period:=\"&$B$1&\",InputChoice1:=Close,InputChoice2:=Close)\", \"FG\", \"\", \"Close\",$B$2,A45, \"all\",\"\", \"\",\"True\",\"T\")/100,\"\")","v":-0.74735774262099997},null,-0.17999999999999938,1,{"$error":"#N/A"},null,{"$f":"IFERROR(RTD(\"cqg.rtd\",,\"StudyData\", \"Correlation(\"&$B$3&\",\"&I$2&\",Period:=\"&$B$1&\",InputChoice1:=Close,InputChoice2::=Close)\", \"FG\", \"\", \"Close\",$B$2,A45, \"all\",\"\", \"\",\"True\",\"T\")/100,\"\")","v":-0.77057273302899998},null,-0.17999999999999938,0,{"$error":"#N/A"},null,{"$f":"IFERROR(RTD(\"cqg.rtd\",,\"StudyData\", \"Correlation(\"&$B$3&\",\"&O$2&\",Period:=\"&$B$1&\",InputChoice1:=Close,InputChoice2::=Close)\", \"FG\", \"\", \"Close\",$B$2,A45, \"all\",\"\", \"\",\"True\",\"T\")/100,\"\")","v":0.53286317161600005},null,-0.17999999999999938,2,{"$error":"#N/A"},null,{"$f":"IFERROR(RTD(\"cqg.rtd\",,\"StudyData\", \"Correlation(\"&$B$3&\",\"&U$2&\",Period:=\"&$B$1&\",InputChoice1:=Close,InputChoice2::=Close)\", \"FG\", \"\", \"Close\",$B$2,A45, \"all\",\"\", \"\",\"True\",\"T\")/100,\"\")","v":-0.75063226239299996},null,-0.17999999999999938,2,{"$error":"#N/A"},null,{"$f":"IFERROR(RTD(\"cqg.rtd\",,\"StudyData\", \"Correlation(\"&$B$3&\",\"&AA$2&\",Period:=\"&$B$1&\",InputChoice1:=Close,InputChoice2::=Close)\", \"FG\", \"\", \"Close\",$B$2,A45, \"all\",\"\", \"\",\"True\",\"T\")/100,\"\")","v":-0.86741108834800007},null,-0.17999999999999938,1,{"$error":"#N/A"},null,{"$f":"IFERROR(RTD(\"cqg.rtd\",,\"StudyData\", \"Correlation(\"&$B$3&\",\"&AG$2&\",Period:=\"&$B$1&\",InputChoice1:=Close,InputChoice2::=Close)\", \"FG\", \"\", \"Close\",$B$2,A45, \"all\",\"\", \"\",\"True\",\"T\")/100,\"\")","v":-0.9150805446050001},null,-0.17999999999999938,0,{"$error":"#N/A"},null,{"$f":"IFERROR(RTD(\"cqg.rtd\",,\"StudyData\", \"Correlation(\"&$B$3&\",\"&AM$2&\",Period:=\"&$B$1&\",InputChoice1:=Close,InputChoice2::=Close)\", \"FG\", \"\", \"Close\",$B$2,A45, \"all\",\"\", \"\",\"True\",\"T\")/100,\"\")","v":-0.84049737770999999},null,-0.17999999999999938,2,{"$error":"#N/A"},null,{"$f":"IFERROR(RTD(\"cqg.rtd\",,\"StudyData\", \"Correlation(\"&$B$3&\",\"&AS$2&\",Period:=\"&$B$1&\",InputChoice1:=Close,InputChoice2::=Close)\", \"FG\", \"\", \"Close\",$B$2,A45, \"all\",\"\", \"\",\"True\",\"T\")/100,\"\")","v":-0.80609111976500003},null,-0.17999999999999938,1,{"$error":"#N/A"},null,{"$f":"IFERROR(RTD(\"cqg.rtd\",,\"StudyData\", \"Correlation(\"&$B$3&\",\"&AY$2&\",Period:=\"&$B$1&\",InputChoice1:=Close,InputChoice2::=Close)\", \"FG\", \"\", \"Close\",$B$2,A45, \"all\",\"\", \"\",\"True\",\"T\")/100,\"\")","v":0.9259563680070001},null,-0.17999999999999938,0,{"$error":"#N/A"},null,{"$f":"IFERROR(RTD(\"cqg.rtd\",,\"StudyData\", \"Correlation(\"&$B$3&\",\"&BE$2&\",Period:=\"&$B$1&\",InputChoice1:=Close,InputChoice2::=Close)\", \"FG\", \"\", \"Close\",$B$2,A45, \"all\",\"\", \"\",\"True\",\"T\")/100,\"\")","v":-0.107235299763},null,-0.17999999999999938,0,{"$error":"#N/A"}]
[-42,null,{"$f":"IFERROR(RTD(\"cqg.rtd\",,\"StudyData\", \"Correlation(\"&$B$3&\",\"&C$2&\",Period:=\"&$B$1&\",InputChoice1:=Close,InputChoice2:=Close)\", \"FG\", \"\", \"Close\",$B$2,A46, \"all\",\"\", \"\",\"True\",\"T\")/100,\"\")","v":-0.77887344579200002},null,-0.15999999999999939,2,{"$error":"#N/A"},null,{"$f":"IFERROR(RTD(\"cqg.rtd\",,\"StudyData\", \"Correlation(\"&$B$3&\",\"&I$2&\",Period:=\"&$B$1&\",InputChoice1:=Close,InputChoice2::=Close)\", \"FG\", \"\", \"Close\",$B$2,A46, \"all\",\"\", \"\",\"True\",\"T\")/100,\"\")","v":-0.79380210871599999},null,-0.15999999999999939,2,{"$error":"#N/A"},null,{"$f":"IFERROR(RTD(\"cqg.rtd\",,\"StudyData\", \"Correlation(\"&$B$3&\",\"&O$2&\",Period:=\"&$B$1&\",InputChoice1:=Close,InputChoice2::=Close)\", \"FG\", \"\", \"Close\",$B$2,A46, \"all\",\"\", \"\",\"True\",\"T\")/100,\"\")","v":0.591209170655},null,-0.15999999999999939,0,{"$error":"#N/A"},null,{"$f":"IFERROR(RTD(\"cqg.rtd\",,\"StudyData\", \"Correlation(\"&$B$3&\",\"&U$2&\",Period:=\"&$B$1&\",InputChoice1:=Close,InputChoice2::=Close)\", \"FG\", \"\", \"Close\",$B$2,A46, \"all\",\"\", \"\",\"True\",\"T\")/100,\"\")","v":-0.82574869440100007},null,-0.15999999999999939,3,{"$error":"#N/A"},null,{"$f":"IFERROR(RTD(\"cqg.rtd\",,\"StudyData\", \"Correlation(\"&$B$3&\",\"&AA$2&\",Period:=\"&$B$1&\",InputChoice1:=Close,InputChoice2::=Close)\", \"FG\", \"\", \"Close\",$B$2,A46, \"all\",\"\", \"\",\"True\",\"T\")/100,\"\")","v":-0.81826932224100002},null,-0.15999999999999939,1,{"$error":"#N/A"},null,{"$f":"IFERROR(RTD(\"cqg.rtd\",,\"StudyData\", \"Correlation(\"&$B$3&\",\"&AG$2&\",Period:=\"&$B$1&\",InputChoice1:=Close,InputChoice2::=Close)\", \"FG\", \"\", \"Close\",$B$2,A46, \"all\",\"\", \"\",\"True\",\"T\")/100,\"\")","v":-0.83723800744100008},null,-0.15999999999999939,0,{"$error":"#N/A"},null,{"$f":"IFERROR(RTD(\"cqg.rtd\",,\"StudyData\", \"Correlation(\"&$B$3&\",\"&AM$2&\",Period:=\"&$B$1&\",InputChoice1:=Close,InputChoice2::=Close)\", \"FG\", \"\", \"Close\",$B$2,A46, \"all\",\"\", \"\",\"True\",\"T\")/100,\"\")","v":-0.76136224372599992},null,-0.15999999999999939,1,{"$error":"#N/A"},null,{"$f":"IFERROR(RTD(\"cqg.rtd\",,\"StudyData\", \"Correlation(\"&$B$3&\",\"&AS$2&\",Period:=\"&$B$1&\",InputChoice1:=Close,InputChoice2::=Close)\", \"FG\", \"\", \"Close\",$B$2,A46, \"all\",\"\", \"\",\"True\",\"T\")/100,\"\")","v":-0.79285970685699991},null,-0.15999999999999939,0,{"$error":"#N/A"},null,{"$f":"IFERROR(RTD(\"cqg.rtd\",,\"StudyData\", \"Correlation(\"&$B$3&\",\"&AY$2&\",Period:=\"&$B$1&\",InputChoice1:=Close,InputChoice2::=Close)\", \"FG\", \"\", \"Close\",$B$2,A46, \"all\",\"\", \"\",\"True\",\"T\")/100,\"\")","v":0.922508717428},null,-0.15999999999999939,0,{"$error":"#N/A"},null,{"$f":"IFERROR(RTD(\"cqg.rtd\",,\"StudyData\", \"Correlation(\"&$B$3&\",\"&BE$2&\",Period:=\"&$B$1&\",InputChoice1:=Close,InputChoice2::=Close)\", \"FG\", \"\", \"Close\",$B$2,A46, \"all\",\"\", \"\",\"True\",\"T\")/100,\"\")","v":-0.17463673051799999},null,-0.15999999999999939,1,{"$error":"#N/A"}]
[-43,null,{"$f":"IFERROR(RTD(\"cqg.rtd\",,\"StudyData\", \"Correlation(\"&$B$3&\",\"&C$2&\",Period:=\"&$B$1&\",InputChoice1:=Close,InputChoice2:=Close)\", \"FG\", \"\", \"Close\",$B$2,A47, \"all\",\"\", \"\",\"True\",\"T\")/100,\"\")","v":-0.810042500823},null,-0.1399999999999994,2,{"$error":"#N/A"},null,{"$f":"IFERROR(RTD(\"cqg.rtd\",,\"StudyData\", \"Correlation(\"&$B$3&\",\"&I$2&\",Period:=\"&$B$1&\",InputChoice1:=Close,InputChoice2::=Close)\", \"FG\", \"\", \"Close\",$B$2,A47, \"all\",\"\", \"\",\"True\",\"T\")/100,\"\")","v":-0.81034466135000005},null,-0.1399999999999994,1,{"$error":"#N/A"},null,{"$f":"IFERROR(RTD(\"cqg.rtd\",,\"StudyData\", \"Correlation(\"&$B$3&\",\"&O$2&\",Period:=\"&$B$1&\",InputChoice1:=Close,InputChoice2::=Close)\", \"FG\", \"\", \"Close\",$B$2,A47, \"all\",\"\", \"\",\"True\",\"T\")/100,\"\")","v":0.69039989834500004},null,-0.1399999999999994,2,{"$error":"#N/A"},null,{"$f":"IFERROR(RTD(\"cqg.rtd\",,\"StudyData\", \"Correlation(\"&$B$3&\",\"&U$2&\",Period:=\"&$B$1&\",InputChoice1:=Close,InputChoice2::=Close)\", \"FG\", \"\", \"Close\",$B$2,A47, \"all\",\"\", \"\",\"True\",\"T\")/100,\"\")","v":-0.86531516271499997},null,-0.1399999999999994,2,{"$error":"#N/A"},null,{"$f":"IFERROR(RTD(\"cqg.rtd\",,\"StudyData\", \"Correlation(\"&$B$3&\",\"&AA$2&\",Period:=\"&$B$1&\",InputChoice1:=Close,InputChoice2::=Close)\", \"FG\", \"\", \"Close\",$B$2,A47, \"all\",\"\", \"\",\"True\",\"T\")/100,\"\")","v":-0.79640251476900004},null,-0.1399999999999994,0,{"$error":"#N/A"},null,{"$f":"IFERROR(RTD(\"cqg.rtd\",,\"StudyData\", \"Correlation(\"&$B$3&\",\"&AG$2&\",Period:=\"&$B$1&\",InputChoice1:=Close,InputChoice2::=Close)\", \"FG\", \"\", \"Close\",$B$2,A47, \"all\",\"\", \"\",\"True\",\"T\")/100,\"\")","v":-0.77286754437799998},null,-0.1399999999999994,0,{"$error":"#N/A"},null,{"$f":"IFERROR(RTD(\"cqg.rtd\",,\"StudyData\", \"Correlation(\"&$B$3&\",\"&AM$2&\",Period:=\"&$B$1&\",InputChoice1:=Close,InputChoice2::=Close)\", \"FG\", \"\", \"Close\",$B$2,A47, \"all\",\"\", \"\",\"True\",\"T\")/100,\"\")","v":-0.73357621156099995},null,-0.1399999999999994,1,{"$error":"#N/A"},null,{"$f":"IFERROR(RTD(\"cqg.rtd\",,\"StudyData\", \"Correlation(\"&$B$3&\",\"&AS$2&\",Period:=\"&$B$1&\",InputChoice1:=Close,InputChoice2::=Close)\", \"FG\", \"\", \"Close\",$B$2,A47, \"all\",\"\", \"\",\"True\",\"T\")/100,\"\")","v":-0.78514923780800006},null,-0.1399999999999994,2,{"$error":"#N/A"},null,{"$f":"IFERROR(RTD(\"cqg.rtd\",,\"StudyData\", \"Correlation(\"&$B$3&\",\"&AY$2&\",Period:=\"&$B$1&\",InputChoice1:=Close,InputChoice2::=Close)\", \"FG\", \"\", \"Close\",$B$2,A47, \"all\",\"\", \"\",\"True\",\"T\")/100,\"\")","v":0.92087522129300003},null,-0.1399999999999994,0,{"$error":"#N/A"},null,{"$f":"IFERROR(RTD(\"cqg.rtd\",,\"StudyData\", \"Correlation(\"&$B$3&\",\"&BE$2&\",Period:=\"&$B$1&\",InputChoice1:=Close,InputChoice2::=Close)\", \"FG\", \"\", \"Close\",$B$2,A47, \"all\",\"\", \"\",\"True\",\"T\")/100,\"\")","v":-0.31641574916500004},null,-0.1399999999999994,1,{"$error":"#N/A"}]
[-44,null,{"$f":"IFERROR(RTD(\"cqg.rtd\",,\"StudyData\", \"Correlation(\"&$B$3&\",\"&C$2&\",Period:=\"&$B$1&\",InputChoice1:=Close,InputChoice2:=Close)\", \"FG\", \"\", \"Close\",$B$2,A48, \"all\",\"\", \"\",\"True\",\"T\")/100,\"\")","v":-0.77852519724900004},null,-0.1199999999999994,2,{"$error":"#N/A"},null,{"$f":"IFERROR(RTD(\"cqg.rtd\",,\"StudyData\", \"Correlation(\"&$B$3&\",\"&I$2&\",Period:=\"&$B$1&\",InputChoice1:=Close,InputChoice2::=Close)\", \"FG\", \"\", \"Close\",$B$2,A48, \"all\",\"\", \"\",\"True\",\"T\")/100,\"\")","v":-0.74587726399800003},null,-0.1199999999999994,1,{"$error":"#N/A"},null,{"$f":"IFERROR(RTD(\"cqg.rtd\",,\"StudyData\", \"Correlation(\"&$B$3&\",\"&O$2&\",Period:=\"&$B$1&\",InputChoice1:=Close,InputChoice2::=Close)\", \"FG\", \"\", \"Close\",$B$2,A48, \"all\",\"\", \"\",\"True\",\"T\")/100,\"\")","v":0.68004630936400001},null,-0.1199999999999994,0,{"$error":"#N/A"},null,{"$f":"IFERROR(RTD(\"cqg.rtd\",,\"StudyData\", \"Correlation(\"&$B$3&\",\"&U$2&\",Period:=\"&$B$1&\",InputChoice1:=Close,InputChoice2::=Close)\", \"FG\", \"\", \"Close\",$B$2,A48, \"all\",\"\", \"\",\"True\",\"T\")/100,\"\")","v":-0.89904347506700011},null,-0.1199999999999994,2,{"$error":"#N/A"},null,{"$f":"IFERROR(RTD(\"cqg.rtd\",,\"StudyData\", \"Correlation(\"&$B$3&\",\"&AA$2&\",Period:=\"&$B$1&\",InputChoice1:=Close,InputChoice2::=Close)\", \"FG\", \"\", \"Close\",$B$2,A48, \"all\",\"\", \"\",\"True\",\"T\")/100,\"\")","v":-0.72472972031100003},null,-0.1199999999999994,0,{"$error":"#N/A"},null,{"$f":"IFERROR(RTD(\"cqg.rtd\",,\"StudyData\", \"Correlation(\"&$B$3&\",\"&AG$2&\",Period:=\"&$B$1&\",InputChoice1:=Close,InputChoice2::=Close)\", \"FG\", \"\", \"Close\",$B$2,A48, \"all\",\"\", \"\",\"True\",\"T\")/100,\"\")","v":-0.68040630865400009},null,-0.1199999999999994,2,{"$error":"#N/A"},null,{"$f":"IFERROR(RTD(\"cqg.rtd\",,\"StudyData\", \"Correlation(\"&$B$3&\",\"&AM$2&\",Period:=\"&$B$1&\",InputChoice1:=Close,InputChoice2::=Close)\", \"FG\", \"\", \"Close\",$B$2,A48, \"all\",\"\", \"\",\"True\",\"T\")/100,\"\")","v":-0.60512064265699994},null,-0.1199999999999994,1,{"$error":"#N/A"},null,{"$f":"IFERROR(RTD(\"cqg.rtd\",,\"StudyData\", \"Correlation(\"&$B$3&\",\"&AS$2&\",Period:=\"&$B$1&\",InputChoice1:=Close,InputChoice2::=Close)\", \"FG\", \"\", \"Close\",$B$2,A48, \"all\",\"\", \"\",\"True\",\"T\")/100,\"\")","v":-0.80686242760599991},null,-0.1199999999999994,0,{"$error":"#N/A"},null,{"$f":"IFERROR(RTD(\"cqg.rtd\",,\"StudyData\", \"Correlation(\"&$B$3&\",\"&AY$2&\",Period:=\"&$B$1&\",InputChoice1:=Close,InputChoice2::=Close)\", \"FG\", \"\", \"Close\",$B$2,A48, \"all\",\"\", \"\",\"True\",\"T\")/100,\"\")","v":0.92893353153899993},null,-0.1199999999999994,0,{"$error":"#N/A"},null,{"$f":"IFERROR(RTD(\"cqg.rtd\",,\"StudyData\", \"Correlation(\"&$B$3&\",\"&BE$2&\",Period:=\"&$B$1&\",InputChoice1:=Close,InputChoice2::=Close)\", \"FG\", \"\", \"Close\",$B$2,A48, \"all\",\"\", \"\",\"True\",\"T\")/100,\"\")","v":-0.47751063046799996},null,-0.1199999999999994,0,{"$error":"#N/A"}]
[-45,null,{"$f":"IFERROR(RTD(\"cqg.rtd\",,\"StudyData\", \"Correlation(\"&$B$3&\",\"&C$2&\",Period:=\"&$B$1&\",InputChoice1:=Close,InputChoice2:=Close)\", \"FG\", \"\", \"Close\",$B$2,A49, \"all\",\"\", \"\",\"True\",\"T\")/100,\"\")","v":-0.78334077312299999},null,-9.9999999999999395E-2,1,{"$error":"#N/A"},null,{"$f":"IFERROR(RTD(\"cqg.rtd\",,\"StudyData\", \"Correlation(\"&$B$3&\",\"&I$2&\",Period:=\"&$B$1&\",InputChoice1:=Close,InputChoice2::=Close)\", \"FG\", \"\", \"Close\",$B$2,A49, \"all\",\"\", \"\",\"True\",\"T\")/100,\"\")","v":-0.74339312284699999},null,-9.9999999999999395E-2,1,{"$error":"#N/A"},null,{"$f":"IFERROR(RTD(\"cqg.rtd\",,\"StudyData\", \"Correlation(\"&$B$3&\",\"&O$2&\",Period:=\"&$B$1&\",InputChoice1:=Close,InputChoice2::=Close)\", \"FG\", \"\", \"Close\",$B$2,A49, \"all\",\"\", \"\",\"True\",\"T\")/100,\"\")","v":0.62275865468900005},null,-9.9999999999999395E-2,1,{"$error":"#N/A"},null,{"$f":"IFERROR(RTD(\"cqg.rtd\",,\"StudyData\", \"Correlation(\"&$B$3&\",\"&U$2&\",Period:=\"&$B$1&\",InputChoice1:=Close,InputChoice2::=Close)\", \"FG\", \"\", \"Close\",$B$2,A49, \"all\",\"\", \"\",\"True\",\"T\")/100,\"\")","v":-0.86806426891499999},null,-9.9999999999999395E-2,0,{"$error":"#N/A"},null,{"$f":"IFERROR(RTD(\"cqg.rtd\",,\"StudyData\", \"Correlation(\"&$B$3&\",\"&AA$2&\",Period:=\"&$B$1&\",InputChoice1:=Close,InputChoice2::=Close)\", \"FG\", \"\", \"Close\",$B$2,A49, \"all\",\"\", \"\",\"True\",\"T\")/100,\"\")","v":-0.6592091278940001},null,-9.9999999999999395E-2,1,{"$error":"#N/A"},null,{"$f":"IFERROR(RTD(\"cqg.rtd\",,\"StudyData\", \"Correlation(\"&$B$3&\",\"&AG$2&\",Period:=\"&$B$1&\",InputChoice1:=Close,InputChoice2::=Close)\", \"FG\", \"\", \"Close\",$B$2,A49, \"all\",\"\", \"\",\"True\",\"T\")/100,\"\")","v":-0.64158292982899989},null,-9.9999999999999395E-2,0,{"$error":"#N/A"},null,{"$f":"IFERROR(RTD(\"cqg.rtd\",,\"StudyData\", \"Correlation(\"&$B$3&\",\"&AM$2&\",Period:=\"&$B$1&\",InputChoice1:=Close,InputChoice2::=Close)\", \"FG\", \"\", \"Close\",$B$2,A49, \"all\",\"\", \"\",\"True\",\"T\")/100,\"\")","v":-0.49288386009099999},null,-9.9999999999999395E-2,1,{"$error":"#N/A"},null,{"$f":"IFERROR(RTD(\"cqg.rtd\",,\"StudyData\", \"Correlation(\"&$B$3&\",\"&AS$2&\",Period:=\"&$B$1&\",InputChoice1:=Close,InputChoice2::=Close)\", \"FG\", \"\", \"Close\",$B$2,A49, \"all\",\"\", \"\",\"True\",\"T\")/100,\"\")","v":-0.71660302199900006},null,-9.9999999999999395E-2,4,{"$error":"#N/A"},null,{"$f":"IFERROR(RTD(\"cqg.rtd\",,\"StudyData\", \"Correlation(\"&$B$3&\",\"&AY$2&\",Period:=\"&$B$1&\",InputChoice1:=Close,InputChoice2::=Close)\", \"FG\", \"\", \"Close\",$B$2,A49, \"all\",\"\", \"\",\"True\",\"T\")/100,\"\")","v":0.9419708670289999},null,-9.9999999999999395E-2,2,{"$error":"#N/A"},null,{"$f":"IFERROR(RTD(\"cqg.rtd\",,\"StudyData\", \"Correlation(\"&$B$3&\",\"&BE$2&\",Period:=\"&$B$1&\",InputChoice1:=Close,InputChoice2::=Close)\", \"FG\", \"\", \"Close\",$B$2,A49, \"all\",\"\", \"\",\"True\",\"T\")/100,\"\")","v":-0.67469589842700006},null,-9.9999999999999395E-2,1,{"$error":"#N/A"}]
[-46,null,{"$f":"IFERROR(RTD(\"cqg.rtd\",,\"StudyData\", \"Correlation(\"&$B$3&\",\"&C$2&\",Period:=\"&$B$1&\",InputChoice1:=Close,InputChoice2:=Close)\", \"FG\", \"\", \"Close\",$B$2,A50, \"all\",\"\", \"\",\"True\",\"T\")/100,\"\")","v":-0.75802101951799994},null,-7.9999999999999391E-2,2,{"$error":"#N/A"},null,{"$f":"IFERROR(RTD(\"cqg.rtd\",,\"StudyData\", \"Correlation(\"&$B$3&\",\"&I$2&\",Period:=\"&$B$1&\",InputChoice1:=Close,InputChoice2::=Close)\", \"FG\", \"\", \"Close\",$B$2,A50, \"all\",\"\", \"\",\"True\",\"T\")/100,\"\")","v":-0.68687387662800004},null,-7.9999999999999391E-2,3,{"$error":"#N/A"},null,{"$f":"IFERROR(RTD(\"cqg.rtd\",,\"StudyData\", \"Correlation(\"&$B$3&\",\"&O$2&\",Period:=\"&$B$1&\",InputChoice1:=Close,InputChoice2::=Close)\", \"FG\", \"\", \"Close\",$B$2,A50, \"all\",\"\", \"\",\"True\",\"T\")/100,\"\")","v":0.44573365192199998},null,-7.9999999999999391E-2,0,{"$error":"#N/A"},null,{"$f":"IFERROR(RTD(\"cqg.rtd\",,\"StudyData\", \"Correlation(\"&$B$3&\",\"&U$2&\",Period:=\"&$B$1&\",InputChoice1:=Close,InputChoice2::=Close)\", \"FG\", \"\", \"Close\",$B$2,A50, \"all\",\"\", \"\",\"True\",\"T\")/100,\"\")","v":-0.85631163939199995},null,-7.9999999999999391E-2,1,{"$error":"#N/A"},null,{"$f":"IFERROR(RTD(\"cqg.rtd\",,\"StudyData\", \"Correlation(\"&$B$3&\",\"&AA$2&\",Period:=\"&$B$1&\",InputChoice1:=Close,InputChoice2::=Close)\", \"FG\", \"\", \"Close\",$B$2,A50, \"all\",\"\", \"\",\"True\",\"T\")/100,\"\")","v":-0.54144624071000003},null,-7.9999999999999391E-2,2,{"$error":"#N/A"},null,{"$f":"IFERROR(RTD(\"cqg.rtd\",,\"StudyData\", \"Correlation(\"&$B$3&\",\"&AG$2&\",Period:=\"&$B$1&\",InputChoice1:=Close,InputChoice2::=Close)\", \"FG\", \"\", \"Close\",$B$2,A50, \"all\",\"\", \"\",\"True\",\"T\")/100,\"\")","v":-0.54068932520099999},null,-7.9999999999999391E-2,0,{"$error":"#N/A"},null,{"$f":"IFERROR(RTD(\"cqg.rtd\",,\"StudyData\", \"Correlation(\"&$B$3&\",\"&AM$2&\",Period:=\"&$B$1&\",InputChoice1:=Close,InputChoice2::=Close)\", \"FG\", \"\", \"Close\",$B$2,A50, \"all\",\"\", \"\",\"True\",\"T\")/100,\"\")","v":-0.297648273716},null,-7.9999999999999391E-2,2,{"$error":"#N/A"},null,{"$f":"IFERROR(RTD(\"cqg.rtd\",,\"StudyData\", \"Correlation(\"&$B$3&\",\"&AS$2&\",Period:=\"&$B$1&\",InputChoice1:=Close,InputChoice2::=Close)\", \"FG\", \"\", \"Close\",$B$2,A50, \"all\",\"\", \"\",\"True\",\"T\")/100,\"\")","v":-0.64065184791600005},null,-7.9999999999999391E-2,0,{"$error":"#N/A"},null,{"$f":"IFERROR(RTD(\"cqg.rtd\",,\"StudyData\", \"Correlation(\"&$B$3&\",\"&AY$2&\",Period:=\"&$B$1&\",InputChoice1:=Close,InputChoice2::=Close)\", \"FG\", \"\", \"Close\",$B$2,A50, \"all\",\"\", \"\",\"True\",\"T\")/100,\"\")","v":0.93849622897299989},null,-7.9999999999999391E-2,1,{"$error":"#N/A"},null,{"$f":"IFERROR(RTD(\"cqg.rtd\",,\"StudyData\", \"Correlation(\"&$B$3&\",\"&BE$2&\",Period:=\"&$B$1&\",InputChoice1:=Close,InputChoice2::=Close)\", \"FG\", \"\", \"Close\",$B$2,A50, \"all\",\"\", \"\",\"True\",\"T\")/100,\"\")","v":-0.69809052698499996},null,-7.9999999999999391E-2,0,{"$error":"#N/A"}]
[-47,null,{"$f":"IFERROR(RTD(\"cqg.rtd\",,\"StudyData\", \"Correlation(\"&$B$3&\",\"&C$2&\",Period:=\"&$B$1&\",InputChoice1:=Close,InputChoice2:=Close)\", \"FG\", \"\", \"Close\",$B$2,A51, \"all\",\"\", \"\",\"True\",\"T\")/100,\"\")","v":-0.75113287523400007},null,-5.9999999999999387E-2,2,{"$error":"#N/A"},null,{"$f":"IFERROR(RTD(\"cqg.rtd\",,\"StudyData\", \"Correlation(\"&$B$3&\",\"&I$2&\",Period:=\"&$B$1&\",InputChoice1:=Close,InputChoice2::=Close)\", \"FG\", \"\", \"Close\",$B$2,A51, \"all\",\"\", \"\",\"True\",\"T\")/100,\"\")","v":-0.675915409819},null,-5.9999999999999387E-2,2,{"$error":"#N/A"},null,{"$f":"IFERROR(RTD(\"cqg.rtd\",,\"StudyData\", \"Correlation(\"&$B$3&\",\"&O$2&\",Period:=\"&$B$1&\",InputChoice1:=Close,InputChoice2::=Close)\", \"FG\", \"\", \"Close\",$B$2,A51, \"all\",\"\", \"\",\"True\",\"T\")/100,\"\")","v":0.62681900746800001},null,-5.9999999999999387E-2,1,{"$error":"#N/A"},null,{"$f":"IFERROR(RTD(\"cqg.rtd\",,\"StudyData\", \"Correlation(\"&$B$3&\",\"&U$2&\",Period:=\"&$B$1&\",InputChoice1:=Close,InputChoice2::=Close)\", \"FG\", \"\", \"Close\",$B$2,A51, \"all\",\"\", \"\",\"True\",\"T\")/100,\"\")","v":-0.82029711572699993},null,-5.9999999999999387E-2,0,{"$error":"#N/A"},null,{"$f":"IFERROR(RTD(\"cqg.rtd\",,\"StudyData\", \"Correlation(\"&$B$3&\",\"&AA$2&\",Period:=\"&$B$1&\",InputChoice1:=Close,InputChoice2::=Close)\", \"FG\", \"\", \"Close\",$B$2,A51, \"all\",\"\", \"\",\"True\",\"T\")/100,\"\")","v":-0.45807177878700001},null,-5.9999999999999387E-2,1,{"$error":"#N/A"},null,{"$f":"IFERROR(RTD(\"cqg.rtd\",,\"StudyData\", \"Correlation(\"&$B$3&\",\"&AG$2&\",Period:=\"&$B$1&\",InputChoice1:=Close,InputChoice2::=Close)\", \"FG\", \"\", \"Close\",$B$2,A51, \"all\",\"\", \"\",\"True\",\"T\")/100,\"\")","v":-0.49843666134499998},null,-5.9999999999999387E-2,1,{"$error":"#N/A"},null,{"$f":"IFERROR(RTD(\"cqg.rtd\",,\"StudyData\", \"Correlation(\"&$B$3&\",\"&AM$2&\",Period:=\"&$B$1&\",InputChoice1:=Close,InputChoice2::=Close)\", \"FG\", \"\", \"Close\",$B$2,A51, \"all\",\"\", \"\",\"True\",\"T\")/100,\"\")","v":-0.122582469483},null,-5.9999999999999387E-2,0,{"$error":"#N/A"},null,{"$f":"IFERROR(RTD(\"cqg.rtd\",,\"StudyData\", \"Correlation(\"&$B$3&\",\"&AS$2&\",Period:=\"&$B$1&\",InputChoice1:=Close,InputChoice2::=Close)\", \"FG\", \"\", \"Close\",$B$2,A51, \"all\",\"\", \"\",\"True\",\"T\")/100,\"\")","v":-0.61287403370600002},null,-5.9999999999999387E-2,2,2,null,{"$f":"IFERROR(RTD(\"cqg.rtd\",,\"StudyData\", \"Correlation(\"&$B$3&\",\"&AY$2&\",Period:=\"&$B$1&\",InputChoice1:=Close,InputChoice2::=Close)\", \"FG\", \"\", \"Close\",$B$2,A51, \"all\",\"\", \"\",\"True\",\"T\")/100,\"\")","v":0.92547704947300002},null,-5.9999999999999387E-2,3,{"$error":"#N/A"},null,{"$f":"IFERROR(RTD(\"cqg.rtd\",,\"StudyData\", \"Correlation(\"&$B$3&\",\"&BE$2&\",Period:=\"&$B$1&\",InputChoice1:=Close,InputChoice2::=Close)\", \"FG\", \"\", \"Close\",$B$2,A51, \"all\",\"\", \"\",\"True\",\"T\")/100,\"\")","v":-0.705613795908},null,-5.9999999999999387E-2,0,{"$error":"#N/A"}]
[-48,null,{"$f":"IFERROR(RTD(\"cqg.rtd\",,\"StudyData\", \"Correlation(\"&$B$3&\",\"&C$2&\",Period:=\"&$B$1&\",InputChoice1:=Close,InputChoice2:=Close)\", \"FG\", \"\", \"Close\",$B$2,A52, \"all\",\"\", \"\",\"True\",\"T\")/100,\"\")","v":-0.70237048725099993},null,-3.9999999999999383E-2,0,{"$error":"#N/A"},null,{"$f":"IFERROR(RTD(\"cqg.rtd\",,\"StudyData\", \"Correlation(\"&$B$3&\",\"&I$2&\",Period:=\"&$B$1&\",InputChoice1:=Close,InputChoice2::=Close)\", \"FG\", \"\", \"Close\",$B$2,A52, \"all\",\"\", \"\",\"True\",\"T\")/100,\"\")","v":-0.61376457771600001},null,-3.9999999999999383E-2,1,{"$error":"#N/A"},null,{"$f":"IFERROR(RTD(\"cqg.rtd\",,\"StudyData\", \"Correlation(\"&$B$3&\",\"&O$2&\",Period:=\"&$B$1&\",InputChoice1:=Close,InputChoice2::=Close)\", \"FG\", \"\", \"Close\",$B$2,A52, \"all\",\"\", \"\",\"True\",\"T\")/100,\"\")","v":0.59737553564400003},null,-3.9999999999999383E-2,1,{"$error":"#N/A"},null,{"$f":"IFERROR(RTD(\"cqg.rtd\",,\"StudyData\", \"Correlation(\"&$B$3&\",\"&U$2&\",Period:=\"&$B$1&\",InputChoice1:=Close,InputChoice2::=Close)\", \"FG\", \"\", \"Close\",$B$2,A52, \"all\",\"\", \"\",\"True\",\"T\")/100,\"\")","v":-0.766218208555},null,-3.9999999999999383E-2,0,{"$error":"#N/A"},null,{"$f":"IFERROR(RTD(\"cqg.rtd\",,\"StudyData\", \"Correlation(\"&$B$3&\",\"&AA$2&\",Period:=\"&$B$1&\",InputChoice1:=Close,InputChoice2::=Close)\", \"FG\", \"\", \"Close\",$B$2,A52, \"all\",\"\", \"\",\"True\",\"T\")/100,\"\")","v":-0.276701690364},null,-3.9999999999999383E-2,0,{"$error":"#N/A"},null,{"$f":"IFERROR(RTD(\"cqg.rtd\",,\"StudyData\", \"Correlation(\"&$B$3&\",\"&AG$2&\",Period:=\"&$B$1&\",InputChoice1:=Close,InputChoice2::=Close)\", \"FG\", \"\", \"Close\",$B$2,A52, \"all\",\"\", \"\",\"True\",\"T\")/100,\"\")","v":-0.33339061094900002},null,-3.9999999999999383E-2,0,{"$error":"#N/A"},null,{"$f":"IFERROR(RTD(\"cqg.rtd\",,\"StudyData\", \"Correlation(\"&$B$3&\",\"&AM$2&\",Period:=\"&$B$1&\",InputChoice1:=Close,InputChoice2::=Close)\", \"FG\", \"\", \"Close\",$B$2,A52, \"all\",\"\", \"\",\"True\",\"T\")/100,\"\")","v":0.11980663660599999},null,-3.9999999999999383E-2,4,{"$error":"#N/A"},null,{"$f":"IFERROR(RTD(\"cqg.rtd\",,\"StudyData\", \"Correlation(\"&$B$3&\",\"&AS$2&\",Period:=\"&$B$1&\",InputChoice1:=Close,InputChoice2::=Close)\", \"FG\", \"\", \"Close\",$B$2,A52, \"all\",\"\", \"\",\"True\",\"T\")/100,\"\")","v":-0.52207298793000001},null,-3.9999999999999383E-2,2,{"$error":"#N/A"},null,{"$f":"IFERROR(RTD(\"cqg.rtd\",,\"StudyData\", \"Correlation(\"&$B$3&\",\"&AY$2&\",Period:=\"&$B$1&\",InputChoice1:=Close,InputChoice2::=Close)\", \"FG\", \"\", \"Close\",$B$2,A52, \"all\",\"\", \"\",\"True\",\"T\")/100,\"\")","v":0.93226252638999996},null,-3.9999999999999383E-2,2,{"$error":"#N/A"},null,{"$f":"IFERROR(RTD(\"cqg.rtd\",,\"StudyData\", \"Correlation(\"&$B$3&\",\"&BE$2&\",Period:=\"&$B$1&\",InputChoice1:=Close,InputChoice2::=Close)\", \"FG\", \"\", \"Close\",$B$2,A52, \"all\",\"\", \"\",\"True\",\"T\")/100,\"\")","v":-0.72662907458000003},null,-3.9999999999999383E-2,0,{"$error":"#N/A"}]
[-49,null,{"$f":"IFERROR(RTD(\"cqg.rtd\",,\"StudyData\", \"Correlation(\"&$B$3&\",\"&C$2&\",Period:=\"&$B$1&\",InputChoice1:=Close,InputChoice2:=Close)\", \"FG\", \"\", \"Close\",$B$2,A53, \"all\",\"\", \"\",\"True\",\"T\")/100,\"\")","v":-0.68593237067500001},null,-1.9999999999999383E-2,1,{"$error":"#N/A"},null,{"$f":"IFERROR(RTD(\"cqg.rtd\",,\"StudyData\", \"Correlation(\"&$B$3&\",\"&I$2&\",Period:=\"&$B$1&\",InputChoice1:=Close,InputChoice2::=Close)\", \"FG\", \"\", \"Close\",$B$2,A53, \"all\",\"\", \"\",\"True\",\"T\")/100,\"\")","v":-0.59678781048700003},null,-1.9999999999999383E-2,0,{"$error":"#N/A"},null,{"$f":"IFERROR(RTD(\"cqg.rtd\",,\"StudyData\", \"Correlation(\"&$B$3&\",\"&O$2&\",Period:=\"&$B$1&\",InputChoice1:=Close,InputChoice2::=Close)\", \"FG\", \"\", \"Close\",$B$2,A53, \"all\",\"\", \"\",\"True\",\"T\")/100,\"\")","v":0.67289768807799999},null,-1.9999999999999383E-2,1,{"$error":"#N/A"},null,{"$f":"IFERROR(RTD(\"cqg.rtd\",,\"StudyData\", \"Correlation(\"&$B$3&\",\"&U$2&\",Period:=\"&$B$1&\",InputChoice1:=Close,InputChoice2::=Close)\", \"FG\", \"\", \"Close\",$B$2,A53, \"all\",\"\", \"\",\"True\",\"T\")/100,\"\")","v":-0.74273058349900001},null,-1.9999999999999383E-2,1,{"$error":"#N/A"},null,{"$f":"IFERROR(RTD(\"cqg.rtd\",,\"StudyData\", \"Correlation(\"&$B$3&\",\"&AA$2&\",Period:=\"&$B$1&\",InputChoice1:=Close,InputChoice2::=Close)\", \"FG\", \"\", \"Close\",$B$2,A53, \"all\",\"\", \"\",\"True\",\"T\")/100,\"\")","v":-0.21214949094300001},null,-1.9999999999999383E-2,0,{"$error":"#N/A"},null,{"$f":"IFERROR(RTD(\"cqg.rtd\",,\"StudyData\", \"Correlation(\"&$B$3&\",\"&AG$2&\",Period:=\"&$B$1&\",InputChoice1:=Close,InputChoice2::=Close)\", \"FG\", \"\", \"Close\",$B$2,A53, \"all\",\"\", \"\",\"True\",\"T\")/100,\"\")","v":-0.35885032781699999},null,-1.9999999999999383E-2,0,{"$error":"#N/A"},null,{"$f":"IFERROR(RTD(\"cqg.rtd\",,\"StudyData\", \"Correlation(\"&$B$3&\",\"&AM$2&\",Period:=\"&$B$1&\",InputChoice1:=Close,InputChoice2::=Close)\", \"FG\", \"\", \"Close\",$B$2,A53, \"all\",\"\", \"\",\"True\",\"T\")/100,\"\")","v":0.11611486408499999},null,-1.9999999999999383E-2,1,{"$error":"#N/A"},null,{"$f":"IFERROR(RTD(\"cqg.rtd\",,\"StudyData\", \"Correlation(\"&$B$3&\",\"&AS$2&\",Period:=\"&$B$1&\",InputChoice1:=Close,InputChoice2::=Close)\", \"FG\", \"\", \"Close\",$B$2,A53, \"all\",\"\", \"\",\"True\",\"T\")/100,\"\")","v":-0.47581623562100001},null,-1.9999999999999383E-2,1,{"$error":"#N/A"},null,{"$f":"IFERROR(RTD(\"cqg.rtd\",,\"StudyData\", \"Correlation(\"&$B$3&\",\"&AY$2&\",Period:=\"&$B$1&\",InputChoice1:=Close,InputChoice2::=Close)\", \"FG\", \"\", \"Close\",$B$2,A53, \"all\",\"\", \"\",\"True\",\"T\")/100,\"\")","v":0.92440447453000008},null,-1.9999999999999383E-2,4,{"$error":"#N/A"},null,{"$f":"IFERROR(RTD(\"cqg.rtd\",,\"StudyData\", \"Correlation(\"&$B$3&\",\"&BE$2&\",Period:=\"&$B$1&\",InputChoice1:=Close,InputChoice2::=Close)\", \"FG\", \"\", \"Close\",$B$2,A53, \"all\",\"\", \"\",\"True\",\"T\")/100,\"\")","v":-0.75428506398299999},null,-1.9999999999999383E-2,2,{"$error":"#N/A"}]
[-50,null,{"$f":"IFERROR(RTD(\"cqg.rtd\",,\"StudyData\", \"Correlation(\"&$B$3&\",\"&C$2&\",Period:=\"&$B$1&\",InputChoice1:=Close,InputChoice2:=Close)\", \"FG\", \"\", \"Close\",$B$2,A54, \"all\",\"\", \"\",\"True\",\"T\")/100,\"\")","v":-0.70339412335800011},null,6.1756155744774333E-16,1,{"$error":"#N/A"},null,{"$f":"IFERROR(RTD(\"cqg.rtd\",,\"StudyData\", \"Correlation(\"&$B$3&\",\"&I$2&\",Period:=\"&$B$1&\",InputChoice1:=Close,InputChoice2::=Close)\", \"FG\", \"\", \"Close\",$B$2,A54, \"all\",\"\", \"\",\"True\",\"T\")/100,\"\")","v":-0.61184030094300002},null,6.1756155744774333E-16,1,{"$error":"#N/A"},null,{"$f":"IFERROR(RTD(\"cqg.rtd\",,\"StudyData\", \"Correlation(\"&$B$3&\",\"&O$2&\",Period:=\"&$B$1&\",InputChoice1:=Close,InputChoice2::=Close)\", \"FG\", \"\", \"Close\",$B$2,A54, \"all\",\"\", \"\",\"True\",\"T\")/100,\"\")","v":0.53447151585100006},null,6.1756155744774333E-16,0,{"$error":"#N/A"},null,{"$f":"IFERROR(RTD(\"cqg.rtd\",,\"StudyData\", \"Correlation(\"&$B$3&\",\"&U$2&\",Period:=\"&$B$1&\",InputChoice1:=Close,InputChoice2::=Close)\", \"FG\", \"\", \"Close\",$B$2,A54, \"all\",\"\", \"\",\"True\",\"T\")/100,\"\")","v":-0.72313382727499997},null,6.1756155744774333E-16,1,{"$error":"#N/A"},null,{"$f":"IFERROR(RTD(\"cqg.rtd\",,\"StudyData\", \"Correlation(\"&$B$3&\",\"&AA$2&\",Period:=\"&$B$1&\",InputChoice1:=Close,InputChoice2::=Close)\", \"FG\", \"\", \"Close\",$B$2,A54, \"all\",\"\", \"\",\"True\",\"T\")/100,\"\")","v":-9.9300162495999988E-2},null,6.1756155744774333E-16,1,{"$error":"#N/A"},null,{"$f":"IFERROR(RTD(\"cqg.rtd\",,\"StudyData\", \"Correlation(\"&$B$3&\",\"&AG$2&\",Period:=\"&$B$1&\",InputChoice1:=Close,InputChoice2::=Close)\", \"FG\", \"\", \"Close\",$B$2,A54, \"all\",\"\", \"\",\"True\",\"T\")/100,\"\")","v":-0.27480339911400004},null,6.1756155744774333E-16,0,{"$error":"#N/A"},null,{"$f":"IFERROR(RTD(\"cqg.rtd\",,\"StudyData\", \"Correlation(\"&$B$3&\",\"&AM$2&\",Period:=\"&$B$1&\",InputChoice1:=Close,InputChoice2::=Close)\", \"FG\", \"\", \"Close\",$B$2,A54, \"all\",\"\", \"\",\"True\",\"T\")/100,\"\")","v":0.12322058475600001},null,6.1756155744774333E-16,1,{"$error":"#N/A"},null,{"$f":"IFERROR(RTD(\"cqg.rtd\",,\"StudyData\", \"Correlation(\"&$B$3&\",\"&AS$2&\",Period:=\"&$B$1&\",InputChoice1:=Close,InputChoice2::=Close)\", \"FG\", \"\", \"Close\",$B$2,A54, \"all\",\"\", \"\",\"True\",\"T\")/100,\"\")","v":-0.43099442651100001},null,6.1756155744774333E-16,2,{"$error":"#N/A"},null,{"$f":"IFERROR(RTD(\"cqg.rtd\",,\"StudyData\", \"Correlation(\"&$B$3&\",\"&AY$2&\",Period:=\"&$B$1&\",InputChoice1:=Close,InputChoice2::=Close)\", \"FG\", \"\", \"Close\",$B$2,A54, \"all\",\"\", \"\",\"True\",\"T\")/100,\"\")","v":0.91726172647599991},null,6.1756155744774333E-16,2,{"$error":"#N/A"},null,{"$f":"IFERROR(RTD(\"cqg.rtd\",,\"StudyData\", \"Correlation(\"&$B$3&\",\"&BE$2&\",Period:=\"&$B$1&\",InputChoice1:=Close,InputChoice2::=Close)\", \"FG\", \"\", \"Close\",$B$2,A54, \"all\",\"\", \"\",\"True\",\"T\")/100,\"\")","v":-0.74260996254800005},null,6.1756155744774333E-16,0,{"$error":"#N/A"}]
[-51,null,{"$f":"IFERROR(RTD(\"cqg.rtd\",,\"StudyData\", \"Correlation(\"&$B$3&\",\"&C$2&\",Period:=\"&$B$1&\",InputChoice1:=Close,InputChoice2:=Close)\", \"FG\", \"\", \"Close\",$B$2,A55, \"all\",\"\", \"\",\"True\",\"T\")/100,\"\")","v":-0.70398807256200002},null,2.0000000000000618E-2,1,{"$error":"#N/A"},null,{"$f":"IFERROR(RTD(\"cqg.rtd\",,\"StudyData\", \"Correlation(\"&$B$3&\",\"&I$2&\",Period:=\"&$B$1&\",InputChoice1:=Close,InputChoice2::=Close)\", \"FG\", \"\", \"Close\",$B$2,A55, \"all\",\"\", \"\",\"True\",\"T\")/100,\"\")","v":-0.63350570658400007},null,2.0000000000000618E-2,0,{"$error":"#N/A"},null,{"$f":"IFERROR(RTD(\"cqg.rtd\",,\"StudyData\", \"Correlation(\"&$B$3&\",\"&O$2&\",Period:=\"&$B$1&\",InputChoice1:=Close,InputChoice2::=Close)\", \"FG\", \"\", \"Close\",$B$2,A55, \"all\",\"\", \"\",\"True\",\"T\")/100,\"\")","v":0.53906289584400002},null,2.0000000000000618E-2,0,{"$error":"#N/A"},null,{"$f":"IFERROR(RTD(\"cqg.rtd\",,\"StudyData\", \"Correlation(\"&$B$3&\",\"&U$2&\",Period:=\"&$B$1&\",InputChoice1:=Close,InputChoice2::=Close)\", \"FG\", \"\", \"Close\",$B$2,A55, \"all\",\"\", \"\",\"True\",\"T\")/100,\"\")","v":-0.76072042870900003},null,2.0000000000000618E-2,1,{"$error":"#N/A"},null,{"$f":"IFERROR(RTD(\"cqg.rtd\",,\"StudyData\", \"Correlation(\"&$B$3&\",\"&AA$2&\",Period:=\"&$B$1&\",InputChoice1:=Close,InputChoice2::=Close)\", \"FG\", \"\", \"Close\",$B$2,A55, \"all\",\"\", \"\",\"True\",\"T\")/100,\"\")","v":-0.10723724066500001},null,2.0000000000000618E-2,0,{"$error":"#N/A"},null,{"$f":"IFERROR(RTD(\"cqg.rtd\",,\"StudyData\", \"Correlation(\"&$B$3&\",\"&AG$2&\",Period:=\"&$B$1&\",InputChoice1:=Close,InputChoice2::=Close)\", \"FG\", \"\", \"Close\",$B$2,A55, \"all\",\"\", \"\",\"True\",\"T\")/100,\"\")","v":-0.29034332508399996},null,2.0000000000000618E-2,0,{"$error":"#N/A"},null,{"$f":"IFERROR(RTD(\"cqg.rtd\",,\"StudyData\", \"Correlation(\"&$B$3&\",\"&AM$2&\",Period:=\"&$B$1&\",InputChoice1:=Close,InputChoice2::=Close)\", \"FG\", \"\", \"Close\",$B$2,A55, \"all\",\"\", \"\",\"True\",\"T\")/100,\"\")","v":4.5671170784000001E-2},null,2.0000000000000618E-2,0,{"$error":"#N/A"},null,{"$f":"IFERROR(RTD(\"cqg.rtd\",,\"StudyData\", \"Correlation(\"&$B$3&\",\"&AS$2&\",Period:=\"&$B$1&\",InputChoice1:=Close,InputChoice2::=Close)\", \"FG\", \"\", \"Close\",$B$2,A55, \"all\",\"\", \"\",\"True\",\"T\")/100,\"\")","v":-0.28897801172000004},null,2.0000000000000618E-2,0,{"$error":"#N/A"},null,{"$f":"IFERROR(RTD(\"cqg.rtd\",,\"StudyData\", \"Correlation(\"&$B$3&\",\"&AY$2&\",Period:=\"&$B$1&\",InputChoice1:=Close,InputChoice2::=Close)\", \"FG\", \"\", \"Close\",$B$2,A55, \"all\",\"\", \"\",\"True\",\"T\")/100,\"\")","v":0.91866351898599996},null,2.0000000000000618E-2,2,{"$error":"#N/A"},null,{"$f":"IFERROR(RTD(\"cqg.rtd\",,\"StudyData\", \"Correlation(\"&$B$3&\",\"&BE$2&\",Period:=\"&$B$1&\",InputChoice1:=Close,InputChoice2::=Close)\", \"FG\", \"\", \"Close\",$B$2,A55, \"all\",\"\", \"\",\"True\",\"T\")/100,\"\")","v":-0.74832537059900006},null,2.0000000000000618E-2,1,{"$error":"#N/A"}]
[-52,null,{"$f":"IFERROR(RTD(\"cqg.rtd\",,\"StudyData\", \"Correlation(\"&$B$3&\",\"&C$2&\",Period:=\"&$B$1&\",InputChoice1:=Close,InputChoice2:=Close)\", \"FG\", \"\", \"Close\",$B$2,A56, \"all\",\"\", \"\",\"True\",\"T\")/100,\"\")","v":-0.70928758277000004},null,4.0000000000000618E-2,2,{"$error":"#N/A"},null,{"$f":"IFERROR(RTD(\"cqg.rtd\",,\"StudyData\", \"Correlation(\"&$B$3&\",\"&I$2&\",Period:=\"&$B$1&\",InputChoice1:=Close,InputChoice2::=Close)\", \"FG\", \"\", \"Close\",$B$2,A56, \"all\",\"\", \"\",\"True\",\"T\")/100,\"\")","v":-0.66906969575600006},null,4.0000000000000618E-2,0,{"$error":"#N/A"},null,{"$f":"IFERROR(RTD(\"cqg.rtd\",,\"StudyData\", \"Correlation(\"&$B$3&\",\"&O$2&\",Period:=\"&$B$1&\",InputChoice1:=Close,InputChoice2::=Close)\", \"FG\", \"\", \"Close\",$B$2,A56, \"all\",\"\", \"\",\"True\",\"T\")/100,\"\")","v":0.48547839754400002},null,4.0000000000000618E-2,0,{"$error":"#N/A"},null,{"$f":"IFERROR(RTD(\"cqg.rtd\",,\"StudyData\", \"Correlation(\"&$B$3&\",\"&U$2&\",Period:=\"&$B$1&\",InputChoice1:=Close,InputChoice2::=Close)\", \"FG\", \"\", \"Close\",$B$2,A56, \"all\",\"\", \"\",\"True\",\"T\")/100,\"\")","v":-0.77724880616999992},null,4.0000000000000618E-2,1,{"$error":"#N/A"},null,{"$f":"IFERROR(RTD(\"cqg.rtd\",,\"StudyData\", \"Correlation(\"&$B$3&\",\"&AA$2&\",Period:=\"&$B$1&\",InputChoice1:=Close,InputChoice2::=Close)\", \"FG\", \"\", \"Close\",$B$2,A56, \"all\",\"\", \"\",\"True\",\"T\")/100,\"\")","v":-0.23224569081799998},null,4.0000000000000618E-2,0,{"$error":"#N/A"},null,{"$f":"IFERROR(RTD(\"cqg.rtd\",,\"StudyData\", \"Correlation(\"&$B$3&\",\"&AG$2&\",Period:=\"&$B$1&\",InputChoice1:=Close,InputChoice2::=Close)\", \"FG\", \"\", \"Close\",$B$2,A56, \"all\",\"\", \"\",\"True\",\"T\")/100,\"\")","v":-0.39291247593},null,4.0000000000000618E-2,1,{"$error":"#N/A"},null,{"$f":"IFERROR(RTD(\"cqg.rtd\",,\"StudyData\", \"Correlation(\"&$B$3&\",\"&AM$2&\",Period:=\"&$B$1&\",InputChoice1:=Close,InputChoice2::=Close)\", \"FG\", \"\", \"Close\",$B$2,A56, \"all\",\"\", \"\",\"True\",\"T\")/100,\"\")","v":-8.7163609107000009E-2},null,4.0000000000000618E-2,1,{"$error":"#N/A"},null,{"$f":"IFERROR(RTD(\"cqg.rtd\",,\"StudyData\", \"Correlation(\"&$B$3&\",\"&AS$2&\",Period:=\"&$B$1&\",InputChoice1:=Close,InputChoice2::=Close)\", \"FG\", \"\", \"Close\",$B$2,A56, \"all\",\"\", \"\",\"True\",\"T\")/100,\"\")","v":-0.10617861214499999},null,4.0000000000000618E-2,1,{"$error":"#N/A"},null,{"$f":"IFERROR(RTD(\"cqg.rtd\",,\"StudyData\", \"Correlation(\"&$B$3&\",\"&AY$2&\",Period:=\"&$B$1&\",InputChoice1:=Close,InputChoice2::=Close)\", \"FG\", \"\", \"Close\",$B$2,A56, \"all\",\"\", \"\",\"True\",\"T\")/100,\"\")","v":0.93491357046800005},null,4.0000000000000618E-2,3,{"$error":"#N/A"},null,{"$f":"IFERROR(RTD(\"cqg.rtd\",,\"StudyData\", \"Correlation(\"&$B$3&\",\"&BE$2&\",Period:=\"&$B$1&\",InputChoice1:=Close,InputChoice2::=Close)\", \"FG\", \"\", \"Close\",$B$2,A56, \"all\",\"\", \"\",\"True\",\"T\")/100,\"\")","v":-0.77070750510300001},null,4.0000000000000618E-2,1,{"$error":"#N/A"}]
[-53,null,{"$f":"IFERROR(RTD(\"cqg.rtd\",,\"StudyData\", \"Correlation(\"&$B$3&\",\"&C$2&\",Period:=\"&$B$1&\",InputChoice1:=Close,InputChoice2:=Close)\", \"FG\", \"\", \"Close\",$B$2,A57, \"all\",\"\", \"\",\"True\",\"T\")/100,\"\")","v":-0.70937989153999992},null,6.0000000000000622E-2,2,{"$error":"#N/A"},null,{"$f":"IFERROR(RTD(\"cqg.rtd\",,\"StudyData\", \"Correlation(\"&$B$3&\",\"&I$2&\",Period:=\"&$B$1&\",InputChoice1:=Close,InputChoice2::=Close)\", \"FG\", \"\", \"Close\",$B$2,A57, \"all\",\"\", \"\",\"True\",\"T\")/100,\"\")","v":-0.68343500848999994},null,6.0000000000000622E-2,0,{"$error":"#N/A"},null,{"$f":"IFERROR(RTD(\"cqg.rtd\",,\"StudyData\", \"Correlation(\"&$B$3&\",\"&O$2&\",Period:=\"&$B$1&\",InputChoice1:=Close,InputChoice2::=Close)\", \"FG\", \"\", \"Close\",$B$2,A57, \"all\",\"\", \"\",\"True\",\"T\")/100,\"\")","v":0.42471788579799996},null,6.0000000000000622E-2,1,{"$error":"#N/A"},null,{"$f":"IFERROR(RTD(\"cqg.rtd\",,\"StudyData\", \"Correlation(\"&$B$3&\",\"&U$2&\",Period:=\"&$B$1&\",InputChoice1:=Close,InputChoice2::=Close)\", \"FG\", \"\", \"Close\",$B$2,A57, \"all\",\"\", \"\",\"True\",\"T\")/100,\"\")","v":-0.78398335941300001},null,6.0000000000000622E-2,0,{"$error":"#N/A"},null,{"$f":"IFERROR(RTD(\"cqg.rtd\",,\"StudyData\", \"Correlation(\"&$B$3&\",\"&AA$2&\",Period:=\"&$B$1&\",InputChoice1:=Close,InputChoice2::=Close)\", \"FG\", \"\", \"Close\",$B$2,A57, \"all\",\"\", \"\",\"True\",\"T\")/100,\"\")","v":-0.34903272940100005},null,6.0000000000000622E-2,0,{"$error":"#N/A"},null,{"$f":"IFERROR(RTD(\"cqg.rtd\",,\"StudyData\", \"Correlation(\"&$B$3&\",\"&AG$2&\",Period:=\"&$B$1&\",InputChoice1:=Close,InputChoice2::=Close)\", \"FG\", \"\", \"Close\",$B$2,A57, \"all\",\"\", \"\",\"True\",\"T\")/100,\"\")","v":-0.49395129030200002},null,6.0000000000000622E-2,0,{"$error":"#N/A"},null,{"$f":"IFERROR(RTD(\"cqg.rtd\",,\"StudyData\", \"Correlation(\"&$B$3&\",\"&AM$2&\",Period:=\"&$B$1&\",InputChoice1:=Close,InputChoice2::=Close)\", \"FG\", \"\", \"Close\",$B$2,A57, \"all\",\"\", \"\",\"True\",\"T\")/100,\"\")","v":-0.244418297413},null,6.0000000000000622E-2,1,{"$error":"#N/A"},null,{"$f":"IFERROR(RTD(\"cqg.rtd\",,\"StudyData\", \"Correlation(\"&$B$3&\",\"&AS$2&\",Period:=\"&$B$1&\",InputChoice1:=Close,InputChoice2::=Close)\", \"FG\", \"\", \"Close\",$B$2,A57, \"all\",\"\", \"\",\"True\",\"T\")/100,\"\")","v":-0.21015524865400001},null,6.0000000000000622E-2,2,{"$error":"#N/A"},null,{"$f":"IFERROR(RTD(\"cqg.rtd\",,\"StudyData\", \"Correlation(\"&$B$3&\",\"&AY$2&\",Period:=\"&$B$1&\",InputChoice1:=Close,InputChoice2::=Close)\", \"FG\", \"\", \"Close\",$B$2,A57, \"all\",\"\", \"\",\"True\",\"T\")/100,\"\")","v":0.93582039970200004},null,6.0000000000000622E-2,3,{"$error":"#N/A"},null,{"$f":"IFERROR(RTD(\"cqg.rtd\",,\"StudyData\", \"Correlation(\"&$B$3&\",\"&BE$2&\",Period:=\"&$B$1&\",InputChoice1:=Close,InputChoice2::=Close)\", \"FG\", \"\", \"Close\",$B$2,A57, \"all\",\"\", \"\",\"True\",\"T\")/100,\"\")","v":-0.73810939313700008},null,6.0000000000000622E-2,2,{"$error":"#N/A"}]
[-54,null,{"$f":"IFERROR(RTD(\"cqg.rtd\",,\"StudyData\", \"Correlation(\"&$B$3&\",\"&C$2&\",Period:=\"&$B$1&\",InputChoice1:=Close,InputChoice2:=Close)\", \"FG\", \"\", \"Close\",$B$2,A58, \"all\",\"\", \"\",\"True\",\"T\")/100,\"\")","v":-0.61844961705899992},null,8.0000000000000626E-2,2,{"$error":"#N/A"},null,{"$f":"IFERROR(RTD(\"cqg.rtd\",,\"StudyData\", \"Correlation(\"&$B$3&\",\"&I$2&\",Period:=\"&$B$1&\",InputChoice1:=Close,InputChoice2::=Close)\", \"FG\", \"\", \"Close\",$B$2,A58, \"all\",\"\", \"\",\"True\",\"T\")/100,\"\")","v":-0.60921139459700002},null,8.0000000000000626E-2,1,{"$error":"#N/A"},null,{"$f":"IFERROR(RTD(\"cqg.rtd\",,\"StudyData\", \"Correlation(\"&$B$3&\",\"&O$2&\",Period:=\"&$B$1&\",InputChoice1:=Close,InputChoice2::=Close)\", \"FG\", \"\", \"Close\",$B$2,A58, \"all\",\"\", \"\",\"True\",\"T\")/100,\"\")","v":0.49965499218300002},null,8.0000000000000626E-2,1,{"$error":"#N/A"},null,{"$f":"IFERROR(RTD(\"cqg.rtd\",,\"StudyData\", \"Correlation(\"&$B$3&\",\"&U$2&\",Period:=\"&$B$1&\",InputChoice1:=Close,InputChoice2::=Close)\", \"FG\", \"\", \"Close\",$B$2,A58, \"all\",\"\", \"\",\"True\",\"T\")/100,\"\")","v":-0.76590188258900005},null,8.0000000000000626E-2,4,{"$error":"#N/A"},null,{"$f":"IFERROR(RTD(\"cqg.rtd\",,\"StudyData\", \"Correlation(\"&$B$3&\",\"&AA$2&\",Period:=\"&$B$1&\",InputChoice1:=Close,InputChoice2::=Close)\", \"FG\", \"\", \"Close\",$B$2,A58, \"all\",\"\", \"\",\"True\",\"T\")/100,\"\")","v":-0.39847517485700001},null,8.0000000000000626E-2,0,{"$error":"#N/A"},null,{"$f":"IFERROR(RTD(\"cqg.rtd\",,\"StudyData\", \"Correlation(\"&$B$3&\",\"&AG$2&\",Period:=\"&$B$1&\",InputChoice1:=Close,InputChoice2::=Close)\", \"FG\", \"\", \"Close\",$B$2,A58, \"all\",\"\", \"\",\"True\",\"T\")/100,\"\")","v":-0.545564832459},null,8.0000000000000626E-2,0,{"$error":"#N/A"},null,{"$f":"IFERROR(RTD(\"cqg.rtd\",,\"StudyData\", \"Correlation(\"&$B$3&\",\"&AM$2&\",Period:=\"&$B$1&\",InputChoice1:=Close,InputChoice2::=Close)\", \"FG\", \"\", \"Close\",$B$2,A58, \"all\",\"\", \"\",\"True\",\"T\")/100,\"\")","v":-0.30793232005499999},null,8.0000000000000626E-2,1,{"$error":"#N/A"},null,{"$f":"IFERROR(RTD(\"cqg.rtd\",,\"StudyData\", \"Correlation(\"&$B$3&\",\"&AS$2&\",Period:=\"&$B$1&\",InputChoice1:=Close,InputChoice2::=Close)\", \"FG\", \"\", \"Close\",$B$2,A58, \"all\",\"\", \"\",\"True\",\"T\")/100,\"\")","v":0.10212501105199999},null,8.0000000000000626E-2,2,{"$error":"#N/A"},null,{"$f":"IFERROR(RTD(\"cqg.rtd\",,\"StudyData\", \"Correlation(\"&$B$3&\",\"&AY$2&\",Period:=\"&$B$1&\",InputChoice1:=Close,InputChoice2::=Close)\", \"FG\", \"\", \"Close\",$B$2,A58, \"all\",\"\", \"\",\"True\",\"T\")/100,\"\")","v":0.941862920474},null,8.0000000000000626E-2,3,{"$error":"#N/A"},null,{"$f":"IFERROR(RTD(\"cqg.rtd\",,\"StudyData\", \"Correlation(\"&$B$3&\",\"&BE$2&\",Period:=\"&$B$1&\",InputChoice1:=Close,InputChoice2::=Close)\", \"FG\", \"\", \"Close\",$B$2,A58, \"all\",\"\", \"\",\"True\",\"T\")/100,\"\")","v":-0.71877878498699999},null,8.0000000000000626E-2,0,{"$error":"#N/A"}]
[-55,null,{"$f":"IFERROR(RTD(\"cqg.rtd\",,\"StudyData\", \"Correlation(\"&$B$3&\",\"&C$2&\",Period:=\"&$B$1&\",InputChoice1:=Close,InputChoice2:=Close)\", \"FG\", \"\", \"Close\",$B$2,A59, \"all\",\"\", \"\",\"True\",\"T\")/100,\"\")","v":-0.45194170574499998},null,0.10000000000000063,0,{"$error":"#N/A"},null,{"$f":"IFERROR(RTD(\"cqg.rtd\",,\"StudyData\", \"Correlation(\"&$B$3&\",\"&I$2&\",Period:=\"&$B$1&\",InputChoice1:=Close,InputChoice2::=Close)\", \"FG\", \"\", \"Close\",$B$2,A59, \"all\",\"\", \"\",\"True\",\"T\")/100,\"\")","v":-0.45312765402799998},null,0.10000000000000063,0,{"$error":"#N/A"},null,{"$f":"IFERROR(RTD(\"cqg.rtd\",,\"StudyData\", \"Correlation(\"&$B$3&\",\"&O$2&\",Period:=\"&$B$1&\",InputChoice1:=Close,InputChoice2::=Close)\", \"FG\", \"\", \"Close\",$B$2,A59, \"all\",\"\", \"\",\"True\",\"T\")/100,\"\")","v":0.581048305785},null,0.10000000000000063,2,{"$error":"#N/A"},null,{"$f":"IFERROR(RTD(\"cqg.rtd\",,\"StudyData\", \"Correlation(\"&$B$3&\",\"&U$2&\",Period:=\"&$B$1&\",InputChoice1:=Close,InputChoice2::=Close)\", \"FG\", \"\", \"Close\",$B$2,A59, \"all\",\"\", \"\",\"True\",\"T\")/100,\"\")","v":-0.75246511678000005},null,0.10000000000000063,0,{"$error":"#N/A"},null,{"$f":"IFERROR(RTD(\"cqg.rtd\",,\"StudyData\", \"Correlation(\"&$B$3&\",\"&AA$2&\",Period:=\"&$B$1&\",InputChoice1:=Close,InputChoice2::=Close)\", \"FG\", \"\", \"Close\",$B$2,A59, \"all\",\"\", \"\",\"True\",\"T\")/100,\"\")","v":-0.50853218523900001},null,0.10000000000000063,0,{"$error":"#N/A"},null,{"$f":"IFERROR(RTD(\"cqg.rtd\",,\"StudyData\", \"Correlation(\"&$B$3&\",\"&AG$2&\",Period:=\"&$B$1&\",InputChoice1:=Close,InputChoice2::=Close)\", \"FG\", \"\", \"Close\",$B$2,A59, \"all\",\"\", \"\",\"True\",\"T\")/100,\"\")","v":-0.60781206950200006},null,0.10000000000000063,1,{"$error":"#N/A"},null,{"$f":"IFERROR(RTD(\"cqg.rtd\",,\"StudyData\", \"Correlation(\"&$B$3&\",\"&AM$2&\",Period:=\"&$B$1&\",InputChoice1:=Close,InputChoice2::=Close)\", \"FG\", \"\", \"Close\",$B$2,A59, \"all\",\"\", \"\",\"True\",\"T\")/100,\"\")","v":-0.43674152670300004},null,0.10000000000000063,0,{"$error":"#N/A"},null,{"$f":"IFERROR(RTD(\"cqg.rtd\",,\"StudyData\", \"Correlation(\"&$B$3&\",\"&AS$2&\",Period:=\"&$B$1&\",InputChoice1:=Close,InputChoice2::=Close)\", \"FG\", \"\", \"Close\",$B$2,A59, \"all\",\"\", \"\",\"True\",\"T\")/100,\"\")","v":0.32433338051100002},null,0.10000000000000063,0,{"$error":"#N/A"},null,{"$f":"IFERROR(RTD(\"cqg.rtd\",,\"StudyData\", \"Correlation(\"&$B$3&\",\"&AY$2&\",Period:=\"&$B$1&\",InputChoice1:=Close,InputChoice2::=Close)\", \"FG\", \"\", \"Close\",$B$2,A59, \"all\",\"\", \"\",\"True\",\"T\")/100,\"\")","v":0.93435531801600002},null,0.10000000000000063,1,{"$error":"#N/A"},null,{"$f":"IFERROR(RTD(\"cqg.rtd\",,\"StudyData\", \"Correlation(\"&$B$3&\",\"&BE$2&\",Period:=\"&$B$1&\",InputChoice1:=Close,InputChoice2::=Close)\", \"FG\", \"\", \"Close\",$B$2,A59, \"all\",\"\", \"\",\"True\",\"T\")/100,\"\")","v":-0.6952740605629999},null,0.10000000000000063,2,{"$error":"#N/A"}]
[-56,null,{"$f":"IFERROR(RTD(\"cqg.rtd\",,\"StudyData\", \"Correlation(\"&$B$3&\",\"&C$2&\",Period:=\"&$B$1&\",InputChoice1:=Close,InputChoice2:=Close)\", \"FG\", \"\", \"Close\",$B$2,A60, \"all\",\"\", \"\",\"True\",\"T\")/100,\"\")","v":-0.208254039473},null,0.12000000000000063,2,{"$error":"#N/A"},null,{"$f":"IFERROR(RTD(\"cqg.rtd\",,\"StudyData\", \"Correlation(\"&$B$3&\",\"&I$2&\",Period:=\"&$B$1&\",InputChoice1:=Close,InputChoice2::=Close)\", \"FG\", \"\", \"Close\",$B$2,A60, \"all\",\"\", \"\",\"True\",\"T\")/100,\"\")","v":-0.21584292872799998},null,0.12000000000000063,0,{"$error":"#N/A"},null,{"$f":"IFERROR(RTD(\"cqg.rtd\",,\"StudyData\", \"Correlation(\"&$B$3&\",\"&O$2&\",Period:=\"&$B$1&\",InputChoice1:=Close,InputChoice2::=Close)\", \"FG\", \"\", \"Close\",$B$2,A60, \"all\",\"\", \"\",\"True\",\"T\")/100,\"\")","v":0.64569450864299993},null,0.12000000000000063,0,{"$error":"#N/A"},null,{"$f":"IFERROR(RTD(\"cqg.rtd\",,\"StudyData\", \"Correlation(\"&$B$3&\",\"&U$2&\",Period:=\"&$B$1&\",InputChoice1:=Close,InputChoice2::=Close)\", \"FG\", \"\", \"Close\",$B$2,A60, \"all\",\"\", \"\",\"True\",\"T\")/100,\"\")","v":-0.588300528396},null,0.12000000000000063,1,{"$error":"#N/A"},null,{"$f":"IFERROR(RTD(\"cqg.rtd\",,\"StudyData\", \"Correlation(\"&$B$3&\",\"&AA$2&\",Period:=\"&$B$1&\",InputChoice1:=Close,InputChoice2::=Close)\", \"FG\", \"\", \"Close\",$B$2,A60, \"all\",\"\", \"\",\"True\",\"T\")/100,\"\")","v":-0.53105777228399997},null,0.12000000000000063,1,{"$error":"#N/A"},null,{"$f":"IFERROR(RTD(\"cqg.rtd\",,\"StudyData\", \"Correlation(\"&$B$3&\",\"&AG$2&\",Period:=\"&$B$1&\",InputChoice1:=Close,InputChoice2::=Close)\", \"FG\", \"\", \"Close\",$B$2,A60, \"all\",\"\", \"\",\"True\",\"T\")/100,\"\")","v":-0.62202126499300003},null,0.12000000000000063,2,{"$error":"#N/A"},null,{"$f":"IFERROR(RTD(\"cqg.rtd\",,\"StudyData\", \"Correlation(\"&$B$3&\",\"&AM$2&\",Period:=\"&$B$1&\",InputChoice1:=Close,InputChoice2::=Close)\", \"FG\", \"\", \"Close\",$B$2,A60, \"all\",\"\", \"\",\"True\",\"T\")/100,\"\")","v":-0.46921730767500003},null,0.12000000000000063,2,{"$error":"#N/A"},null,{"$f":"IFERROR(RTD(\"cqg.rtd\",,\"StudyData\", \"Correlation(\"&$B$3&\",\"&AS$2&\",Period:=\"&$B$1&\",InputChoice1:=Close,InputChoice2::=Close)\", \"FG\", \"\", \"Close\",$B$2,A60, \"all\",\"\", \"\",\"True\",\"T\")/100,\"\")","v":0.39652171371199996},null,0.12000000000000063,1,{"$error":"#N/A"},null,{"$f":"IFERROR(RTD(\"cqg.rtd\",,\"StudyData\", \"Correlation(\"&$B$3&\",\"&AY$2&\",Period:=\"&$B$1&\",InputChoice1:=Close,InputChoice2::=Close)\", \"FG\", \"\", \"Close\",$B$2,A60, \"all\",\"\", \"\",\"True\",\"T\")/100,\"\")","v":0.79320838773099989},null,0.12000000000000063,0,{"$error":"#N/A"},null,{"$f":"IFERROR(RTD(\"cqg.rtd\",,\"StudyData\", \"Correlation(\"&$B$3&\",\"&BE$2&\",Period:=\"&$B$1&\",InputChoice1:=Close,InputChoice2::=Close)\", \"FG\", \"\", \"Close\",$B$2,A60, \"all\",\"\", \"\",\"True\",\"T\")/100,\"\")","v":-0.67024839664000002},null,0.12000000000000063,2,{"$error":"#N/A"}]
[-57,null,{"$f":"IFERROR(RTD(\"cqg.rtd\",,\"StudyData\", \"Correlation(\"&$B$3&\",\"&C$2&\",Period:=\"&$B$1&\",InputChoice1:=Close,InputChoice2:=Close)\", \"FG\", \"\", \"Close\",$B$2,A61, \"all\",\"\", \"\",\"True\",\"T\")/100,\"\")","v":-8.8794302667999994E-2},null,0.14000000000000062,1,{"$error":"#N/A"},null,{"$f":"IFERROR(RTD(\"cqg.rtd\",,\"StudyData\", \"Correlation(\"&$B$3&\",\"&I$2&\",Period:=\"&$B$1&\",InputChoice1:=Close,InputChoice2::=Close)\", \"FG\", \"\", \"Close\",$B$2,A61, \"all\",\"\", \"\",\"True\",\"T\")/100,\"\")","v":-0.12568129853099999},null,0.14000000000000062,1,{"$error":"#N/A"},null,{"$f":"IFERROR(RTD(\"cqg.rtd\",,\"StudyData\", \"Correlation(\"&$B$3&\",\"&O$2&\",Period:=\"&$B$1&\",InputChoice1:=Close,InputChoice2::=Close)\", \"FG\", \"\", \"Close\",$B$2,A61, \"all\",\"\", \"\",\"True\",\"T\")/100,\"\")","v":0.72995418313100002},null,0.14000000000000062,1,{"$error":"#N/A"},null,{"$f":"IFERROR(RTD(\"cqg.rtd\",,\"StudyData\", \"Correlation(\"&$B$3&\",\"&U$2&\",Period:=\"&$B$1&\",InputChoice1:=Close,InputChoice2::=Close)\", \"FG\", \"\", \"Close\",$B$2,A61, \"all\",\"\", \"\",\"True\",\"T\")/100,\"\")","v":-0.36173642603799999},null,0.14000000000000062,0,{"$error":"#N/A"},null,{"$f":"IFERROR(RTD(\"cqg.rtd\",,\"StudyData\", \"Correlation(\"&$B$3&\",\"&AA$2&\",Period:=\"&$B$1&\",InputChoice1:=Close,InputChoice2::=Close)\", \"FG\", \"\", \"Close\",$B$2,A61, \"all\",\"\", \"\",\"True\",\"T\")/100,\"\")","v":-0.45385222013199999},null,0.14000000000000062,0,{"$error":"#N/A"},null,{"$f":"IFERROR(RTD(\"cqg.rtd\",,\"StudyData\", \"Correlation(\"&$B$3&\",\"&AG$2&\",Period:=\"&$B$1&\",InputChoice1:=Close,InputChoice2::=Close)\", \"FG\", \"\", \"Close\",$B$2,A61, \"all\",\"\", \"\",\"True\",\"T\")/100,\"\")","v":-0.55430810685200005},null,0.14000000000000062,1,{"$error":"#N/A"},null,{"$f":"IFERROR(RTD(\"cqg.rtd\",,\"StudyData\", \"Correlation(\"&$B$3&\",\"&AM$2&\",Period:=\"&$B$1&\",InputChoice1:=Close,InputChoice2::=Close)\", \"FG\", \"\", \"Close\",$B$2,A61, \"all\",\"\", \"\",\"True\",\"T\")/100,\"\")","v":-0.45827629250900004},null,0.14000000000000062,1,{"$error":"#N/A"},null,{"$f":"IFERROR(RTD(\"cqg.rtd\",,\"StudyData\", \"Correlation(\"&$B$3&\",\"&AS$2&\",Period:=\"&$B$1&\",InputChoice1:=Close,InputChoice2::=Close)\", \"FG\", \"\", \"Close\",$B$2,A61, \"all\",\"\", \"\",\"True\",\"T\")/100,\"\")","v":0.30463703354999999},null,0.14000000000000062,1,{"$error":"#N/A"},null,{"$f":"IFERROR(RTD(\"cqg.rtd\",,\"StudyData\", \"Correlation(\"&$B$3&\",\"&AY$2&\",Period:=\"&$B$1&\",InputChoice1:=Close,InputChoice2::=Close)\", \"FG\", \"\", \"Close\",$B$2,A61, \"all\",\"\", \"\",\"True\",\"T\")/100,\"\")","v":0.59960834278999997},null,0.14000000000000062,1,{"$error":"#N/A"},null,{"$f":"IFERROR(RTD(\"cqg.rtd\",,\"StudyData\", \"Correlation(\"&$B$3&\",\"&BE$2&\",Period:=\"&$B$1&\",InputChoice1:=Close,InputChoice2::=Close)\", \"FG\", \"\", \"Close\",$B$2,A61, \"all\",\"\", \"\",\"True\",\"T\")/100,\"\")","v":-0.51858937741799993},null,0.14000000000000062,0,{"$error":"#N/A"}]
[-58,null,{"$f":"IFERROR(RTD(\"cqg.rtd\",,\"StudyData\", \"Correlation(\"&$B$3&\",\"&C$2&\",Period:=\"&$B$1&\",InputChoice1:=Close,InputChoice2:=Close)\", \"FG\", \"\", \"Close\",$B$2,A62, \"all\",\"\", \"\",\"True\",\"T\")/100,\"\")","v":9.0548476300000001E-4},null,0.16000000000000061,1,{"$error":"#N/A"},null,{"$f":"IFERROR(RTD(\"cqg.rtd\",,\"StudyData\", \"Correlation(\"&$B$3&\",\"&I$2&\",Period:=\"&$B$1&\",InputChoice1:=Close,InputChoice2::=Close)\", \"FG\", \"\", \"Close\",$B$2,A62, \"all\",\"\", \"\",\"True\",\"T\")/100,\"\")","v":-8.7308018924000003E-2},null,0.16000000000000061,0,{"$error":"#N/A"},null,{"$f":"IFERROR(RTD(\"cqg.rtd\",,\"StudyData\", \"Correlation(\"&$B$3&\",\"&O$2&\",Period:=\"&$B$1&\",InputChoice1:=Close,InputChoice2::=Close)\", \"FG\", \"\", \"Close\",$B$2,A62, \"all\",\"\", \"\",\"True\",\"T\")/100,\"\")","v":0.75187112689399993},null,0.16000000000000061,0,{"$error":"#N/A"},null,{"$f":"IFERROR(RTD(\"cqg.rtd\",,\"StudyData\", \"Correlation(\"&$B$3&\",\"&U$2&\",Period:=\"&$B$1&\",InputChoice1:=Close,InputChoice2::=Close)\", \"FG\", \"\", \"Close\",$B$2,A62, \"all\",\"\", \"\",\"True\",\"T\")/100,\"\")","v":-0.250950901635},null,0.16000000000000061,0,{"$error":"#N/A"},null,{"$f":"IFERROR(RTD(\"cqg.rtd\",,\"StudyData\", \"Correlation(\"&$B$3&\",\"&AA$2&\",Period:=\"&$B$1&\",InputChoice1:=Close,InputChoice2::=Close)\", \"FG\", \"\", \"Close\",$B$2,A62, \"all\",\"\", \"\",\"True\",\"T\")/100,\"\")","v":-0.29529290442200001},null,0.16000000000000061,0,{"$error":"#N/A"},null,{"$f":"IFERROR(RTD(\"cqg.rtd\",,\"StudyData\", \"Correlation(\"&$B$3&\",\"&AG$2&\",Period:=\"&$B$1&\",InputChoice1:=Close,InputChoice2::=Close)\", \"FG\", \"\", \"Close\",$B$2,A62, \"all\",\"\", \"\",\"True\",\"T\")/100,\"\")","v":-0.38813428735700001},null,0.16000000000000061,1,{"$error":"#N/A"},null,{"$f":"IFERROR(RTD(\"cqg.rtd\",,\"StudyData\", \"Correlation(\"&$B$3&\",\"&AM$2&\",Period:=\"&$B$1&\",InputChoice1:=Close,InputChoice2::=Close)\", \"FG\", \"\", \"Close\",$B$2,A62, \"all\",\"\", \"\",\"True\",\"T\")/100,\"\")","v":-0.339324253721},null,0.16000000000000061,1,{"$error":"#N/A"},null,{"$f":"IFERROR(RTD(\"cqg.rtd\",,\"StudyData\", \"Correlation(\"&$B$3&\",\"&AS$2&\",Period:=\"&$B$1&\",InputChoice1:=Close,InputChoice2::=Close)\", \"FG\", \"\", \"Close\",$B$2,A62, \"all\",\"\", \"\",\"True\",\"T\")/100,\"\")","v":0.21534903788699999},null,0.16000000000000061,0,{"$error":"#N/A"},null,{"$f":"IFERROR(RTD(\"cqg.rtd\",,\"StudyData\", \"Correlation(\"&$B$3&\",\"&AY$2&\",Period:=\"&$B$1&\",InputChoice1:=Close,InputChoice2::=Close)\", \"FG\", \"\", \"Close\",$B$2,A62, \"all\",\"\", \"\",\"True\",\"T\")/100,\"\")","v":0.43410425960799998},null,0.16000000000000061,1,{"$error":"#N/A"},null,{"$f":"IFERROR(RTD(\"cqg.rtd\",,\"StudyData\", \"Correlation(\"&$B$3&\",\"&BE$2&\",Period:=\"&$B$1&\",InputChoice1:=Close,InputChoice2::=Close)\", \"FG\", \"\", \"Close\",$B$2,A62, \"all\",\"\", \"\",\"True\",\"T\")/100,\"\")","v":-0.308948941945},null,0.16000000000000061,2,2]
[-59,null,{"$f":"IFERROR(RTD(\"cqg.rtd\",,\"StudyData\", \"Correlation(\"&$B$3&\",\"&C$2&\",Period:=\"&$B$1&\",InputChoice1:=Close,InputChoice2:=Close)\", \"FG\", \"\", \"Close\",$B$2,A63, \"all\",\"\", \"\",\"True\",\"T\")/100,\"\")","v":3.5274670390999997E-2},null,0.1800000000000006,0,1,null,{"$f":"IFERROR(RTD(\"cqg.rtd\",,\"StudyData\", \"Correlation(\"&$B$3&\",\"&I$2&\",Period:=\"&$B$1&\",InputChoice1:=Close,InputChoice2::=Close)\", \"FG\", \"\", \"Close\",$B$2,A63, \"all\",\"\", \"\",\"True\",\"T\")/100,\"\")","v":-9.0267689006000004E-2},null,0.1800000000000006,1,1,null,{"$f":"IFERROR(RTD(\"cqg.rtd\",,\"StudyData\", \"Correlation(\"&$B$3&\",\"&O$2&\",Period:=\"&$B$1&\",InputChoice1:=Close,InputChoice2::=Close)\", \"FG\", \"\", \"Close\",$B$2,A63, \"all\",\"\", \"\",\"True\",\"T\")/100,\"\")","v":0.724106721535},null,0.1800000000000006,0,1,null,{"$f":"IFERROR(RTD(\"cqg.rtd\",,\"StudyData\", \"Correlation(\"&$B$3&\",\"&U$2&\",Period:=\"&$B$1&\",InputChoice1:=Close,InputChoice2::=Close)\", \"FG\", \"\", \"Close\",$B$2,A63, \"all\",\"\", \"\",\"True\",\"T\")/100,\"\")","v":-3.644121073E-2},null,0.1800000000000006,1,{"$error":"#N/A"},null,{"$f":"IFERROR(RTD(\"cqg.rtd\",,\"StudyData\", \"Correlation(\"&$B$3&\",\"&AA$2&\",Period:=\"&$B$1&\",InputChoice1:=Close,InputChoice2::=Close)\", \"FG\", \"\", \"Close\",$B$2,A63, \"all\",\"\", \"\",\"True\",\"T\")/100,\"\")","v":-0.18853274442699999},null,0.1800000000000006,1,{"$error":"#N/A"},null,{"$f":"IFERROR(RTD(\"cqg.rtd\",,\"StudyData\", \"Correlation(\"&$B$3&\",\"&AG$2&\",Period:=\"&$B$1&\",InputChoice1:=Close,InputChoice2::=Close)\", \"FG\", \"\", \"Close\",$B$2,A63, \"all\",\"\", \"\",\"True\",\"T\")/100,\"\")","v":-0.289228962077},null,0.1800000000000006,1,{"$error":"#N/A"},null,{"$f":"IFERROR(RTD(\"cqg.rtd\",,\"StudyData\", \"Correlation(\"&$B$3&\",\"&AM$2&\",Period:=\"&$B$1&\",InputChoice1:=Close,InputChoice2::=Close)\", \"FG\", \"\", \"Close\",$B$2,A63, \"all\",\"\", \"\",\"True\",\"T\")/100,\"\")","v":-0.226269576897},null,0.1800000000000006,0,{"$error":"#N/A"},null,{"$f":"IFERROR(RTD(\"cqg.rtd\",,\"StudyData\", \"Correlation(\"&$B$3&\",\"&AS$2&\",Period:=\"&$B$1&\",InputChoice1:=Close,InputChoice2::=Close)\", \"FG\", \"\", \"Close\",$B$2,A63, \"all\",\"\", \"\",\"True\",\"T\")/100,\"\")","v":0.125733174946},null,0.1800000000000006,1,{"$error":"#N/A"},null,{"$f":"IFERROR(RTD(\"cqg.rtd\",,\"StudyData\", \"Correlation(\"&$B$3&\",\"&AY$2&\",Period:=\"&$B$1&\",InputChoice1:=Close,InputChoice2::=Close)\", \"FG\", \"\", \"Close\",$B$2,A63, \"all\",\"\", \"\",\"True\",\"T\")/100,\"\")","v":0.17696709306399999},null,0.1800000000000006,2,{"$error":"#N/A"},null,{"$f":"IFERROR(RTD(\"cqg.rtd\",,\"StudyData\", \"Correlation(\"&$B$3&\",\"&BE$2&\",Period:=\"&$B$1&\",InputChoice1:=Close,InputChoice2::=Close)\", \"FG\", \"\", \"Close\",$B$2,A63, \"all\",\"\", \"\",\"True\",\"T\")/100,\"\")","v":-0.144872817589},null,0.1800000000000006,4,{"$error":"#N/A"}]
[-60,null,{"$f":"IFERROR(RTD(\"cqg.rtd\",,\"StudyData\", \"Correlation(\"&$B$3&\",\"&C$2&\",Period:=\"&$B$1&\",InputChoice1:=Close,InputChoice2:=Close)\", \"FG\", \"\", \"Close\",$B$2,A64, \"all\",\"\", \"\",\"True\",\"T\")/100,\"\")","v":7.3227768341999996E-2},null,0.20000000000000059,2,{"$error":"#N/A"},null,{"$f":"IFERROR(RTD(\"cqg.rtd\",,\"StudyData\", \"Correlation(\"&$B$3&\",\"&I$2&\",Period:=\"&$B$1&\",InputChoice1:=Close,InputChoice2::=Close)\", \"FG\", \"\", \"Close\",$B$2,A64, \"all\",\"\", \"\",\"True\",\"T\")/100,\"\")","v":-6.5559736002999996E-2},null,0.20000000000000059,2,{"$error":"#N/A"},null,{"$f":"IFERROR(RTD(\"cqg.rtd\",,\"StudyData\", \"Correlation(\"&$B$3&\",\"&O$2&\",Period:=\"&$B$1&\",InputChoice1:=Close,InputChoice2::=Close)\", \"FG\", \"\", \"Close\",$B$2,A64, \"all\",\"\", \"\",\"True\",\"T\")/100,\"\")","v":0.64162480362300001},null,0.20000000000000059,2,{"$error":"#N/A"},null,{"$f":"IFERROR(RTD(\"cqg.rtd\",,\"StudyData\", \"Correlation(\"&$B$3&\",\"&U$2&\",Period:=\"&$B$1&\",InputChoice1:=Close,InputChoice2::=Close)\", \"FG\", \"\", \"Close\",$B$2,A64, \"all\",\"\", \"\",\"True\",\"T\")/100,\"\")","v":2.0528284947E-2},null,0.20000000000000059,1,{"$error":"#N/A"},null,{"$f":"IFERROR(RTD(\"cqg.rtd\",,\"StudyData\", \"Correlation(\"&$B$3&\",\"&AA$2&\",Period:=\"&$B$1&\",InputChoice1:=Close,InputChoice2::=Close)\", \"FG\", \"\", \"Close\",$B$2,A64, \"all\",\"\", \"\",\"True\",\"T\")/100,\"\")","v":-3.1228352920000002E-3},null,0.20000000000000059,0,{"$error":"#N/A"},null,{"$f":"IFERROR(RTD(\"cqg.rtd\",,\"StudyData\", \"Correlation(\"&$B$3&\",\"&AG$2&\",Period:=\"&$B$1&\",InputChoice1:=Close,InputChoice2::=Close)\", \"FG\", \"\", \"Close\",$B$2,A64, \"all\",\"\", \"\",\"True\",\"T\")/100,\"\")","v":-0.120700706352},null,0.20000000000000059,2,{"$error":"#N/A"},null,{"$f":"IFERROR(RTD(\"cqg.rtd\",,\"StudyData\", \"Correlation(\"&$B$3&\",\"&AM$2&\",Period:=\"&$B$1&\",InputChoice1:=Close,InputChoice2::=Close)\", \"FG\", \"\", \"Close\",$B$2,A64, \"all\",\"\", \"\",\"True\",\"T\")/100,\"\")","v":-3.8756212225000003E-2},null,0.20000000000000059,1,{"$error":"#N/A"},null,{"$f":"IFERROR(RTD(\"cqg.rtd\",,\"StudyData\", \"Correlation(\"&$B$3&\",\"&AS$2&\",Period:=\"&$B$1&\",InputChoice1:=Close,InputChoice2::=Close)\", \"FG\", \"\", \"Close\",$B$2,A64, \"all\",\"\", \"\",\"True\",\"T\")/100,\"\")","v":-2.9768356318999999E-2},null,0.20000000000000059,2,{"$error":"#N/A"},null,{"$f":"IFERROR(RTD(\"cqg.rtd\",,\"StudyData\", \"Correlation(\"&$B$3&\",\"&AY$2&\",Period:=\"&$B$1&\",InputChoice1:=Close,InputChoice2::=Close)\", \"FG\", \"\", \"Close\",$B$2,A64, \"all\",\"\", \"\",\"True\",\"T\")/100,\"\")","v":-3.2094667411999997E-2},null,0.20000000000000059,2,{"$error":"#N/A"},null,{"$f":"IFERROR(RTD(\"cqg.rtd\",,\"StudyData\", \"Correlation(\"&$B$3&\",\"&BE$2&\",Period:=\"&$B$1&\",InputChoice1:=Close,InputChoice2::=Close)\", \"FG\", \"\", \"Close\",$B$2,A64, \"all\",\"\", \"\",\"True\",\"T\")/100,\"\")","v":0.14723799930500001},null,0.20000000000000059,1,{"$error":"#N/A"}]
[-61,null,{"$f":"IFERROR(RTD(\"cqg.rtd\",,\"StudyData\", \"Correlation(\"&$B$3&\",\"&C$2&\",Period:=\"&$B$1&\",InputChoice1:=Close,InputChoice2:=Close)\", \"FG\", \"\", \"Close\",$B$2,A65, \"all\",\"\", \"\",\"True\",\"T\")/100,\"\")","v":5.9715087523000004E-2},null,0.22000000000000058,1,{"$error":"#N/A"},null,{"$f":"IFERROR(RTD(\"cqg.rtd\",,\"StudyData\", \"Correlation(\"&$B$3&\",\"&I$2&\",Period:=\"&$B$1&\",InputChoice1:=Close,InputChoice2::=Close)\", \"FG\", \"\", \"Close\",$B$2,A65, \"all\",\"\", \"\",\"True\",\"T\")/100,\"\")","v":-7.0479737264000003E-2},null,0.22000000000000058,1,{"$error":"#N/A"},null,{"$f":"IFERROR(RTD(\"cqg.rtd\",,\"StudyData\", \"Correlation(\"&$B$3&\",\"&O$2&\",Period:=\"&$B$1&\",InputChoice1:=Close,InputChoice2::=Close)\", \"FG\", \"\", \"Close\",$B$2,A65, \"all\",\"\", \"\",\"True\",\"T\")/100,\"\")","v":0.66230098978300012},null,0.22000000000000058,1,{"$error":"#N/A"},null,{"$f":"IFERROR(RTD(\"cqg.rtd\",,\"StudyData\", \"Correlation(\"&$B$3&\",\"&U$2&\",Period:=\"&$B$1&\",InputChoice1:=Close,InputChoice2::=Close)\", \"FG\", \"\", \"Close\",$B$2,A65, \"all\",\"\", \"\",\"True\",\"T\")/100,\"\")","v":7.7730616076E-2},null,0.22000000000000058,0,{"$error":"#N/A"},null,{"$f":"IFERROR(RTD(\"cqg.rtd\",,\"StudyData\", \"Correlation(\"&$B$3&\",\"&AA$2&\",Period:=\"&$B$1&\",InputChoice1:=Close,InputChoice2::=Close)\", \"FG\", \"\", \"Close\",$B$2,A65, \"all\",\"\", \"\",\"True\",\"T\")/100,\"\")","v":0.16888651264899998},null,0.22000000000000058,0,{"$error":"#N/A"},null,{"$f":"IFERROR(RTD(\"cqg.rtd\",,\"StudyData\", \"Correlation(\"&$B$3&\",\"&AG$2&\",Period:=\"&$B$1&\",InputChoice1:=Close,InputChoice2::=Close)\", \"FG\", \"\", \"Close\",$B$2,A65, \"all\",\"\", \"\",\"True\",\"T\")/100,\"\")","v":3.3677758253999997E-2},null,0.22000000000000058,2,{"$error":"#N/A"},null,{"$f":"IFERROR(RTD(\"cqg.rtd\",,\"StudyData\", \"Correlation(\"&$B$3&\",\"&AM$2&\",Period:=\"&$B$1&\",InputChoice1:=Close,InputChoice2::=Close)\", \"FG\", \"\", \"Close\",$B$2,A65, \"all\",\"\", \"\",\"True\",\"T\")/100,\"\")","v":0.15041711525699999},null,0.22000000000000058,0,{"$error":"#N/A"},null,{"$f":"IFERROR(RTD(\"cqg.rtd\",,\"StudyData\", \"Correlation(\"&$B$3&\",\"&AS$2&\",Period:=\"&$B$1&\",InputChoice1:=Close,InputChoice2::=Close)\", \"FG\", \"\", \"Close\",$B$2,A65, \"all\",\"\", \"\",\"True\",\"T\")/100,\"\")","v":-0.189190338097},null,0.22000000000000058,1,{"$error":"#N/A"},null,{"$f":"IFERROR(RTD(\"cqg.rtd\",,\"StudyData\", \"Correlation(\"&$B$3&\",\"&AY$2&\",Period:=\"&$B$1&\",InputChoice1:=Close,InputChoice2::=Close)\", \"FG\", \"\", \"Close\",$B$2,A65, \"all\",\"\", \"\",\"True\",\"T\")/100,\"\")","v":-5.2179982224000006E-2},null,0.22000000000000058,1,{"$error":"#N/A"},null,{"$f":"IFERROR(RTD(\"cqg.rtd\",,\"StudyData\", \"Correlation(\"&$B$3&\",\"&BE$2&\",Period:=\"&$B$1&\",InputChoice1:=Close,InputChoice2::=Close)\", \"FG\", \"\", \"Close\",$B$2,A65, \"all\",\"\", \"\",\"True\",\"T\")/100,\"\")","v":0.40242521623800004},null,0.22000000000000058,0,{"$error":"#N/A"}]
[-62,null,{"$f":"IFERROR(RTD(\"cqg.rtd\",,\"StudyData\", \"Correlation(\"&$B$3&\",\"&C$2&\",Period:=\"&$B$1&\",InputChoice1:=Close,InputChoice2:=Close)\", \"FG\", \"\", \"Close\",$B$2,A66, \"all\",\"\", \"\",\"True\",\"T\")/100,\"\")","v":5.4340362172999999E-2},null,0.24000000000000057,4,{"$error":"#N/A"},null,{"$f":"IFERROR(RTD(\"cqg.rtd\",,\"StudyData\", \"Correlation(\"&$B$3&\",\"&I$2&\",Period:=\"&$B$1&\",InputChoice1:=Close,InputChoice2::=Close)\", \"FG\", \"\", \"Close\",$B$2,A66, \"all\",\"\", \"\",\"True\",\"T\")/100,\"\")","v":-8.6680821271999997E-2},null,0.24000000000000057,0,{"$error":"#N/A"},null,{"$f":"IFERROR(RTD(\"cqg.rtd\",,\"StudyData\", \"Correlation(\"&$B$3&\",\"&O$2&\",Period:=\"&$B$1&\",InputChoice1:=Close,InputChoice2::=Close)\", \"FG\", \"\", \"Close\",$B$2,A66, \"all\",\"\", \"\",\"True\",\"T\")/100,\"\")","v":0.689154036498},null,0.24000000000000057,1,{"$error":"#N/A"},null,{"$f":"IFERROR(RTD(\"cqg.rtd\",,\"StudyData\", \"Correlation(\"&$B$3&\",\"&U$2&\",Period:=\"&$B$1&\",InputChoice1:=Close,InputChoice2::=Close)\", \"FG\", \"\", \"Close\",$B$2,A66, \"all\",\"\", \"\",\"True\",\"T\")/100,\"\")","v":7.4598979789E-2},null,0.24000000000000057,0,1,null,{"$f":"IFERROR(RTD(\"cqg.rtd\",,\"StudyData\", \"Correlation(\"&$B$3&\",\"&AA$2&\",Period:=\"&$B$1&\",InputChoice1:=Close,InputChoice2::=Close)\", \"FG\", \"\", \"Close\",$B$2,A66, \"all\",\"\", \"\",\"True\",\"T\")/100,\"\")","v":0.28731438955999999},null,0.24000000000000057,1,{"$error":"#N/A"},null,{"$f":"IFERROR(RTD(\"cqg.rtd\",,\"StudyData\", \"Correlation(\"&$B$3&\",\"&AG$2&\",Period:=\"&$B$1&\",InputChoice1:=Close,InputChoice2::=Close)\", \"FG\", \"\", \"Close\",$B$2,A66, \"all\",\"\", \"\",\"True\",\"T\")/100,\"\")","v":0.13009340773899999},null,0.24000000000000057,0,{"$error":"#N/A"},null,{"$f":"IFERROR(RTD(\"cqg.rtd\",,\"StudyData\", \"Correlation(\"&$B$3&\",\"&AM$2&\",Period:=\"&$B$1&\",InputChoice1:=Close,InputChoice2::=Close)\", \"FG\", \"\", \"Close\",$B$2,A66, \"all\",\"\", \"\",\"True\",\"T\")/100,\"\")","v":0.26825619390899996},null,0.24000000000000057,2,{"$error":"#N/A"},null,{"$f":"IFERROR(RTD(\"cqg.rtd\",,\"StudyData\", \"Correlation(\"&$B$3&\",\"&AS$2&\",Period:=\"&$B$1&\",InputChoice1:=Close,InputChoice2::=Close)\", \"FG\", \"\", \"Close\",$B$2,A66, \"all\",\"\", \"\",\"True\",\"T\")/100,\"\")","v":-0.32053013188500001},null,0.24000000000000057,1,{"$error":"#N/A"},null,{"$f":"IFERROR(RTD(\"cqg.rtd\",,\"StudyData\", \"Correlation(\"&$B$3&\",\"&AY$2&\",Period:=\"&$B$1&\",InputChoice1:=Close,InputChoice2::=Close)\", \"FG\", \"\", \"Close\",$B$2,A66, \"all\",\"\", \"\",\"True\",\"T\")/100,\"\")","v":-5.9466846061E-2},null,0.24000000000000057,2,{"$error":"#N/A"},null,{"$f":"IFERROR(RTD(\"cqg.rtd\",,\"StudyData\", \"Correlation(\"&$B$3&\",\"&BE$2&\",Period:=\"&$B$1&\",InputChoice1:=Close,InputChoice2::=Close)\", \"FG\", \"\", \"Close\",$B$2,A66, \"all\",\"\", \"\",\"True\",\"T\")/100,\"\")","v":0.50159858570500004},null,0.24000000000000057,0,{"$error":"#N/A"}]
[-63,null,{"$f":"IFERROR(RTD(\"cqg.rtd\",,\"StudyData\", \"Correlation(\"&$B$3&\",\"&C$2&\",Period:=\"&$B$1&\",InputChoice1:=Close,InputChoice2:=Close)\", \"FG\", \"\", \"Close\",$B$2,A67, \"all\",\"\", \"\",\"True\",\"T\")/100,\"\")","v":2.0606470582999997E-2},null,0.26000000000000056,1,{"$error":"#N/A"},null,{"$f":"IFERROR(RTD(\"cqg.rtd\",,\"StudyData\", \"Correlation(\"&$B$3&\",\"&I$2&\",Period:=\"&$B$1&\",InputChoice1:=Close,InputChoice2::=Close)\", \"FG\", \"\", \"Close\",$B$2,A67, \"all\",\"\", \"\",\"True\",\"T\")/100,\"\")","v":-0.144993261736},null,0.26000000000000056,0,{"$error":"#N/A"},null,{"$f":"IFERROR(RTD(\"cqg.rtd\",,\"StudyData\", \"Correlation(\"&$B$3&\",\"&O$2&\",Period:=\"&$B$1&\",InputChoice1:=Close,InputChoice2::=Close)\", \"FG\", \"\", \"Close\",$B$2,A67, \"all\",\"\", \"\",\"True\",\"T\")/100,\"\")","v":0.65118193315799999},null,0.26000000000000056,3,{"$error":"#N/A"},null,{"$f":"IFERROR(RTD(\"cqg.rtd\",,\"StudyData\", \"Correlation(\"&$B$3&\",\"&U$2&\",Period:=\"&$B$1&\",InputChoice1:=Close,InputChoice2::=Close)\", \"FG\", \"\", \"Close\",$B$2,A67, \"all\",\"\", \"\",\"True\",\"T\")/100,\"\")","v":6.4881729316000003E-2},null,0.26000000000000056,1,{"$error":"#N/A"},null,{"$f":"IFERROR(RTD(\"cqg.rtd\",,\"StudyData\", \"Correlation(\"&$B$3&\",\"&AA$2&\",Period:=\"&$B$1&\",InputChoice1:=Close,InputChoice2::=Close)\", \"FG\", \"\", \"Close\",$B$2,A67, \"all\",\"\", \"\",\"True\",\"T\")/100,\"\")","v":0.242154573953},null,0.26000000000000056,3,{"$error":"#N/A"},null,{"$f":"IFERROR(RTD(\"cqg.rtd\",,\"StudyData\", \"Correlation(\"&$B$3&\",\"&AG$2&\",Period:=\"&$B$1&\",InputChoice1:=Close,InputChoice2::=Close)\", \"FG\", \"\", \"Close\",$B$2,A67, \"all\",\"\", \"\",\"True\",\"T\")/100,\"\")","v":0.114882160044},null,0.26000000000000056,3,{"$error":"#N/A"},null,{"$f":"IFERROR(RTD(\"cqg.rtd\",,\"StudyData\", \"Correlation(\"&$B$3&\",\"&AM$2&\",Period:=\"&$B$1&\",InputChoice1:=Close,InputChoice2::=Close)\", \"FG\", \"\", \"Close\",$B$2,A67, \"all\",\"\", \"\",\"True\",\"T\")/100,\"\")","v":0.22354747307600001},null,0.26000000000000056,0,{"$error":"#N/A"},null,{"$f":"IFERROR(RTD(\"cqg.rtd\",,\"StudyData\", \"Correlation(\"&$B$3&\",\"&AS$2&\",Period:=\"&$B$1&\",InputChoice1:=Close,InputChoice2::=Close)\", \"FG\", \"\", \"Close\",$B$2,A67, \"all\",\"\", \"\",\"True\",\"T\")/100,\"\")","v":-0.27877229189200003},null,0.26000000000000056,0,{"$error":"#N/A"},null,{"$f":"IFERROR(RTD(\"cqg.rtd\",,\"StudyData\", \"Correlation(\"&$B$3&\",\"&AY$2&\",Period:=\"&$B$1&\",InputChoice1:=Close,InputChoice2::=Close)\", \"FG\", \"\", \"Close\",$B$2,A67, \"all\",\"\", \"\",\"True\",\"T\")/100,\"\")","v":-7.6521476520999998E-2},null,0.26000000000000056,0,{"$error":"#N/A"},null,{"$f":"IFERROR(RTD(\"cqg.rtd\",,\"StudyData\", \"Correlation(\"&$B$3&\",\"&BE$2&\",Period:=\"&$B$1&\",InputChoice1:=Close,InputChoice2::=Close)\", \"FG\", \"\", \"Close\",$B$2,A67, \"all\",\"\", \"\",\"True\",\"T\")/100,\"\")","v":0.60224300913599993},null,0.26000000000000056,0,{"$error":"#N/A"}]
[-64,null,{"$f":"IFERROR(RTD(\"cqg.rtd\",,\"StudyData\", \"Correlation(\"&$B$3&\",\"&C$2&\",Period:=\"&$B$1&\",InputChoice1:=Close,InputChoice2:=Close)\", \"FG\", \"\", \"Close\",$B$2,A68, \"all\",\"\", \"\",\"True\",\"T\")/100,\"\")","v":-9.4882542702E-2},null,0.28000000000000058,0,{"$error":"#N/A"},null,{"$f":"IFERROR(RTD(\"cqg.rtd\",,\"StudyData\", \"Correlation(\"&$B$3&\",\"&I$2&\",Period:=\"&$B$1&\",InputChoice1:=Close,InputChoice2::=Close)\", \"FG\", \"\", \"Close\",$B$2,A68, \"all\",\"\", \"\",\"True\",\"T\")/100,\"\")","v":-0.254365371299},null,0.28000000000000058,1,{"$error":"#N/A"},null,{"$f":"IFERROR(RTD(\"cqg.rtd\",,\"StudyData\", \"Correlation(\"&$B$3&\",\"&O$2&\",Period:=\"&$B$1&\",InputChoice1:=Close,InputChoice2::=Close)\", \"FG\", \"\", \"Close\",$B$2,A68, \"all\",\"\", \"\",\"True\",\"T\")/100,\"\")","v":0.56291881099599994},null,0.28000000000000058,1,{"$error":"#N/A"},null,{"$f":"IFERROR(RTD(\"cqg.rtd\",,\"StudyData\", \"Correlation(\"&$B$3&\",\"&U$2&\",Period:=\"&$B$1&\",InputChoice1:=Close,InputChoice2::=Close)\", \"FG\", \"\", \"Close\",$B$2,A68, \"all\",\"\", \"\",\"True\",\"T\")/100,\"\")","v":-1.4789777512E-2},null,0.28000000000000058,1,{"$error":"#N/A"},null,{"$f":"IFERROR(RTD(\"cqg.rtd\",,\"StudyData\", \"Correlation(\"&$B$3&\",\"&AA$2&\",Period:=\"&$B$1&\",InputChoice1:=Close,InputChoice2::=Close)\", \"FG\", \"\", \"Close\",$B$2,A68, \"all\",\"\", \"\",\"True\",\"T\")/100,\"\")","v":0.30227867839200001},null,0.28000000000000058,1,{"$error":"#N/A"},null,{"$f":"IFERROR(RTD(\"cqg.rtd\",,\"StudyData\", \"Correlation(\"&$B$3&\",\"&AG$2&\",Period:=\"&$B$1&\",InputChoice1:=Close,InputChoice2::=Close)\", \"FG\", \"\", \"Close\",$B$2,A68, \"all\",\"\", \"\",\"True\",\"T\")/100,\"\")","v":0.18175425186199998},null,0.28000000000000058,5,{"$error":"#N/A"},null,{"$f":"IFERROR(RTD(\"cqg.rtd\",,\"StudyData\", \"Correlation(\"&$B$3&\",\"&AM$2&\",Period:=\"&$B$1&\",InputChoice1:=Close,InputChoice2::=Close)\", \"FG\", \"\", \"Close\",$B$2,A68, \"all\",\"\", \"\",\"True\",\"T\")/100,\"\")","v":0.28757131443799999},null,0.28000000000000058,2,{"$error":"#N/A"},null,{"$f":"IFERROR(RTD(\"cqg.rtd\",,\"StudyData\", \"Correlation(\"&$B$3&\",\"&AS$2&\",Period:=\"&$B$1&\",InputChoice1:=Close,InputChoice2::=Close)\", \"FG\", \"\", \"Close\",$B$2,A68, \"all\",\"\", \"\",\"True\",\"T\")/100,\"\")","v":-0.32787571257300002},null,0.28000000000000058,0,{"$error":"#N/A"},null,{"$f":"IFERROR(RTD(\"cqg.rtd\",,\"StudyData\", \"Correlation(\"&$B$3&\",\"&AY$2&\",Period:=\"&$B$1&\",InputChoice1:=Close,InputChoice2::=Close)\", \"FG\", \"\", \"Close\",$B$2,A68, \"all\",\"\", \"\",\"True\",\"T\")/100,\"\")","v":-8.7815811720000012E-3},null,0.28000000000000058,1,{"$error":"#N/A"},null,{"$f":"IFERROR(RTD(\"cqg.rtd\",,\"StudyData\", \"Correlation(\"&$B$3&\",\"&BE$2&\",Period:=\"&$B$1&\",InputChoice1:=Close,InputChoice2::=Close)\", \"FG\", \"\", \"Close\",$B$2,A68, \"all\",\"\", \"\",\"True\",\"T\")/100,\"\")","v":0.64524139916099998},null,0.28000000000000058,1,{"$error":"#N/A"}]
[-65,null,{"$f":"IFERROR(RTD(\"cqg.rtd\",,\"StudyData\", \"Correlation(\"&$B$3&\",\"&C$2&\",Period:=\"&$B$1&\",InputChoice1:=Close,InputChoice2:=Close)\", \"FG\", \"\", \"Close\",$B$2,A69, \"all\",\"\", \"\",\"True\",\"T\")/100,\"\")","v":-0.11511193074699999},null,0.3000000000000006,0,{"$f":"IF(AND($C$4>=E69,$C$4<E70),IF(F69=0,1,F69),NA())","v":{"$error":"#N/A"}},null,{"$f":"IFERROR(RTD(\"cqg.rtd\",,\"StudyData\", \"Correlation(\"&$B$3&\",\"&I$2&\",Period:=\"&$B$1&\",InputChoice1:=Close,InputChoice2::=Close)\", \"FG\", \"\", \"Close\",$B$2,A69, \"all\",\"\", \"\",\"True\",\"T\")/100,\"\")","v":-0.284801500727},null,0.3000000000000006,0,{"$f":"IF(AND($I$4>=K69,$I$4<K70),IF(L69=0,1,L69),NA())","v":{"$error":"#N/A"}},null,{"$f":"IFERROR(RTD(\"cqg.rtd\",,\"StudyData\", \"Correlation(\"&$B$3&\",\"&O$2&\",Period:=\"&$B$1&\",InputChoice1:=Close,InputChoice2::=Close)\", \"FG\", \"\", \"Close\",$B$2,A69, \"all\",\"\", \"\",\"True\",\"T\")/100,\"\")","v":0.51384138510800004},null,0.3000000000000006,0,{"$f":"IF(AND($O$4>=Q69,$O$4<Q70),IF(R69=0,1,R69),NA())","v":{"$error":"#N/A"}},null,{"$f":"IFERROR(RTD(\"cqg.rtd\",,\"StudyData\", \"Correlation(\"&$B$3&\",\"&U$2&\",Period:=\"&$B$1&\",InputChoice1:=Close,InputChoice2::=Close)\", \"FG\", \"\", \"Close\",$B$2,A69, \"all\",\"\", \"\",\"True\",\"T\")/100,\"\")","v":-9.5440728109999998E-2},null,0.3000000000000006,0,{"$f":"IF(AND($U$4>=W69,$U$4<W70),IF(X69=0,1,X69),NA())","v":{"$error":"#N/A"}},null,{"$f":"IFERROR(RTD(\"cqg.rtd\",,\"StudyData\", \"Correlation(\"&$B$3&\",\"&AA$2&\",Period:=\"&$B$1&\",InputChoice1:=Close,InputChoice2::=Close)\", \"FG\", \"\", \"Close\",$B$2,A69, \"all\",\"\", \"\",\"True\",\"T\")/100,\"\")","v":0.29175482476500003},null,0.3000000000000006,3,{"$f":"IF(AND($AA$4>=AC69,$AA$4<AC70),IF(AD69=0,1,AD69),NA())","v":{"$error":"#N/A"}},null,{"$f":"IFERROR(RTD(\"cqg.rtd\",,\"StudyData\", \"Correlation(\"&$B$3&\",\"&AG$2&\",Period:=\"&$B$1&\",InputChoice1:=Close,InputChoice2::=Close)\", \"FG\", \"\", \"Close\",$B$2,A69, \"all\",\"\", \"\",\"True\",\"T\")/100,\"\")","v":0.15901263161199999},null,0.3000000000000006,1,{"$f":"IF(AND($AG$4>=AI69,$AG$4<AI70),IF(AJ69=0,1,AJ69),NA())","v":{"$error":"#N/A"}},null,{"$f":"IFERROR(RTD(\"cqg.rtd\",,\"StudyData\", \"Correlation(\"&$B$3&\",\"&AM$2&\",Period:=\"&$B$1&\",InputChoice1:=Close,InputChoice2::=Close)\", \"FG\", \"\", \"Close\",$B$2,A69, \"all\",\"\", \"\",\"True\",\"T\")/100,\"\")","v":0.27551884430000001},null,0.3000000000000006,2,{"$f":"IF(AND($AM$4>=AO69,$AM$4<AO70),IF(AP69=0,1,AP69),NA())","v":{"$error":"#N/A"}},null,{"$f":"IFERROR(RTD(\"cqg.rtd\",,\"StudyData\", \"Correlation(\"&$B$3&\",\"&AS$2&\",Period:=\"&$B$1&\",InputChoice1:=Close,InputChoice2::=Close)\", \"FG\", \"\", \"Close\",$B$2,A69, \"all\",\"\", \"\",\"True\",\"T\")/100,\"\")","v":-0.334713885027},null,0.3000000000000006,0,{"$f":"IF(AND($AS$4>=AU69,$AS$4<AU70),IF(AV69=0,1,AV69),NA())","v":{"$error":"#N/A"}},null,{"$f":"IFERROR(RTD(\"cqg.rtd\",,\"StudyData\", \"Correlation(\"&$B$3&\",\"&AY$2&\",Period:=\"&$B$1&\",InputChoice1:=Close,InputChoice2::=Close)\", \"FG\", \"\", \"Close\",$B$2,A69, \"all\",\"\", \"\",\"True\",\"T\")/100,\"\")","v":4.4531380548000002E-2},null,0.3000000000000006,1,{"$f":"IF(AND($AY$4>=BA69,$AY$4<BA70),IF(BB69=0,1,BB69),NA())","v":{"$error":"#N/A"}},null,{"$f":"IFERROR(RTD(\"cqg.rtd\",,\"StudyData\", \"Correlation(\"&$B$3&\",\"&BE$2&\",Period:=\"&$B$1&\",InputChoice1:=Close,InputChoice2::=Close)\", \"FG\", \"\", \"Close\",$B$2,A69, \"all\",\"\", \"\",\"True\",\"T\")/100,\"\")","v":0.55982697165200002},null,0.3000000000000006,1,{"$f":"IF(AND($BE$4>=BG69,$BE$4<BG70),IF(BH69=0,1,BH69),NA())","v":{"$error":"#N/A"}}]
[{"$f":"A69-1","v":-66},null,{"$f":"IFERROR(RTD(\"cqg.rtd\",,\"StudyData\", \"Correlation(\"&$B$3&\",\"&C$2&\",Period:=\"&$B$1&\",InputChoice1:=Close,InputChoice2:=Close)\", \"FG\", \"\", \"Close\",$B$2,A70, \"all\",\"\", \"\",\"True\",\"T\")/100,\"\")","v":-0.14517140730799999},null,{"$f":"E69+0.02","v":0.32000000000000062},0,{"$error":"#N/A"},null,{"$f":"IFERROR(RTD(\"cqg.rtd\",,\"StudyData\", \"Correlation(\"&$B$3&\",\"&I$2&\",Period:=\"&$B$1&\",InputChoice1:=Close,InputChoice2::=Close)\", \"FG\", \"\", \"Close\",$B$2,A70, \"all\",\"\", \"\",\"True\",\"T\")/100,\"\")","v":-0.31023284614500002},null,{"$f":"K69+0.02","v":0.32000000000000062},0,{"$error":"#N/A"},null,{"$f":"IFERROR(RTD(\"cqg.rtd\",,\"StudyData\", \"Correlation(\"&$B$3&\",\"&O$2&\",Period:=\"&$B$1&\",InputChoice1:=Close,InputChoice2::=Close)\", \"FG\", \"\", \"Close\",$B$2,A70, \"all\",\"\", \"\",\"True\",\"T\")/100,\"\")","v":0.54369975839399998},null,{"$f":"Q69+0.02","v":0.32000000000000062},2,{"$error":"#N/A"},null,{"$f":"IFERROR(RTD(\"cqg.rtd\",,\"StudyData\", \"Correlation(\"&$B$3&\",\"&U$2&\",Period:=\"&$B$1&\",InputChoice1:=Close,InputChoice2::=Close)\", \"FG\", \"\", \"Close\",$B$2,A70, \"all\",\"\", \"\",\"True\",\"T\")/100,\"\")","v":-0.12001878782400001},null,{"$f":"W69+0.02","v":0.32000000000000062},0,{"$error":"#N/A"},null,{"$f":"IFERROR(RTD(\"cqg.rtd\",,\"StudyData\", \"Correlation(\"&$B$3&\",\"&AA$2&\",Period:=\"&$B$1&\",InputChoice1:=Close,InputChoice2::=Close)\", \"FG\", \"\", \"Close\",$B$2,A70, \"all\",\"\", \"\",\"True\",\"T\")/100,\"\")","v":0.39596935411500001},null,{"$f":"AC69+0.02","v":0.32000000000000062},2,{"$error":"#N/A"},null,{"$f":"IFERROR(RTD(\"cqg.rtd\",,\"StudyData\", \"Correlation(\"&$B$3&\",\"&AG$2&\",Period:=\"&$B$1&\",InputChoice1:=Close,InputChoice2::=Close)\", \"FG\", \"\", \"Close\",$B$2,A70, \"all\",\"\", \"\",\"True\",\"T\")/100,\"\")","v":0.27177002601700001},null,{"$f":"AI69+0.02","v":0.32000000000000062},2,{"$error":"#N/A"},null,{"$f":"IFERROR(RTD(\"cqg.rtd\",,\"StudyData\", \"Correlation(\"&$B$3&\",\"&AM$2&\",Period:=\"&$B$1&\",InputChoice1:=Close,InputChoice2::=Close)\", \"FG\", \"\", \"Close\",$B$2,A70, \"all\",\"\", \"\",\"True\",\"T\")/100,\"\")","v":0.379065317746},null,{"$f":"AO69+0.02","v":0.32000000000000062},0,{"$error":"#N/A"},null,{"$f":"IFERROR(RTD(\"cqg.rtd\",,\"StudyData\", \"Correlation(\"&$B$3&\",\"&AS$2&\",Period:=\"&$B$1&\",InputChoice1:=Close,InputChoice2::=Close)\", \"FG\", \"\", \"Close\",$B$2,A70, \"all\",\"\", \"\",\"True\",\"T\")/100,\"\")","v":-0.39318841802900001},null,{"$f":"AU69+0.02","v":0.32000000000000062},3,{"$error":"#N/A"},null,{"$f":"IFERROR(RTD(\"cqg.rtd\",,\"StudyData\", \"Correlation(\"&$B$3&\",\"&AY$2&\",Period:=\"&$B$1&\",InputChoice1:=Close,InputChoice2::=Close)\", \"FG\", \"\", \"Close\",$B$2,A70, \"all\",\"\", \"\",\"True\",\"T\")/100,\"\")","v":3.3200960857E-2},null,{"$f":"BA69+0.02","v":0.32000000000000062},3,{"$error":"#N/A"},null,{"$f":"IFERROR(RTD(\"cqg.rtd\",,\"StudyData\", \"Correlation(\"&$B$3&\",\"&BE$2&\",Period:=\"&$B$1&\",InputChoice1:=Close,InputChoice2::=Close)\", \"FG\", \"\", \"Close\",$B$2,A70, \"all\",\"\", \"\",\"True\",\"T\")/100,\"\")","v":0.42182842160400003},null,{"$f":"BG69+0.02","v":0.32000000000000062},3,{"$error":"#N/A"}]
[-67,null,{"$f":"IFERROR(RTD(\"cqg.rtd\",,\"StudyData\", \"Correlation(\"&$B$3&\",\"&C$2&\",Period:=\"&$B$1&\",InputChoice1:=Close,InputChoice2:=Close)\", \"FG\", \"\", \"Close\",$B$2,A71, \"all\",\"\", \"\",\"True\",\"T\")/100,\"\")","v":-0.23821151390200002},null,0.34000000000000064,2,{"$error":"#N/A"},null,{"$f":"IFERROR(RTD(\"cqg.rtd\",,\"StudyData\", \"Correlation(\"&$B$3&\",\"&I$2&\",Period:=\"&$B$1&\",InputChoice1:=Close,InputChoice2::=Close)\", \"FG\", \"\", \"Close\",$B$2,A71, \"all\",\"\", \"\",\"True\",\"T\")/100,\"\")","v":-0.41183642890900002},null,0.34000000000000064,0,{"$error":"#N/A"},null,{"$f":"IFERROR(RTD(\"cqg.rtd\",,\"StudyData\", \"Correlation(\"&$B$3&\",\"&O$2&\",Period:=\"&$B$1&\",InputChoice1:=Close,InputChoice2::=Close)\", \"FG\", \"\", \"Close\",$B$2,A71, \"all\",\"\", \"\",\"True\",\"T\")/100,\"\")","v":0.56335259017799999},null,0.34000000000000064,1,{"$error":"#N/A"},null,{"$f":"IFERROR(RTD(\"cqg.rtd\",,\"StudyData\", \"Correlation(\"&$B$3&\",\"&U$2&\",Period:=\"&$B$1&\",InputChoice1:=Close,InputChoice2::=Close)\", \"FG\", \"\", \"Close\",$B$2,A71, \"all\",\"\", \"\",\"True\",\"T\")/100,\"\")","v":-0.161941786225},null,0.34000000000000064,1,{"$error":"#N/A"},null,{"$f":"IFERROR(RTD(\"cqg.rtd\",,\"StudyData\", \"Correlation(\"&$B$3&\",\"&AA$2&\",Period:=\"&$B$1&\",InputChoice1:=Close,InputChoice2::=Close)\", \"FG\", \"\", \"Close\",$B$2,A71, \"all\",\"\", \"\",\"True\",\"T\")/100,\"\")","v":0.493971664787},null,0.34000000000000064,0,{"$error":"#N/A"},null,{"$f":"IFERROR(RTD(\"cqg.rtd\",,\"StudyData\", \"Correlation(\"&$B$3&\",\"&AG$2&\",Period:=\"&$B$1&\",InputChoice1:=Close,InputChoice2::=Close)\", \"FG\", \"\", \"Close\",$B$2,A71, \"all\",\"\", \"\",\"True\",\"T\")/100,\"\")","v":0.37901895378},null,0.34000000000000064,2,{"$error":"#N/A"},null,{"$f":"IFERROR(RTD(\"cqg.rtd\",,\"StudyData\", \"Correlation(\"&$B$3&\",\"&AM$2&\",Period:=\"&$B$1&\",InputChoice1:=Close,InputChoice2::=Close)\", \"FG\", \"\", \"Close\",$B$2,A71, \"all\",\"\", \"\",\"True\",\"T\")/100,\"\")","v":0.488256236698},null,0.34000000000000064,0,{"$error":"#N/A"},null,{"$f":"IFERROR(RTD(\"cqg.rtd\",,\"StudyData\", \"Correlation(\"&$B$3&\",\"&AS$2&\",Period:=\"&$B$1&\",InputChoice1:=Close,InputChoice2::=Close)\", \"FG\", \"\", \"Close\",$B$2,A71, \"all\",\"\", \"\",\"True\",\"T\")/100,\"\")","v":-0.43411192795600001},null,0.34000000000000064,1,{"$error":"#N/A"},null,{"$f":"IFERROR(RTD(\"cqg.rtd\",,\"StudyData\", \"Correlation(\"&$B$3&\",\"&AY$2&\",Period:=\"&$B$1&\",InputChoice1:=Close,InputChoice2::=Close)\", \"FG\", \"\", \"Close\",$B$2,A71, \"all\",\"\", \"\",\"True\",\"T\")/100,\"\")","v":2.7752139180000001E-3},null,0.34000000000000064,0,{"$error":"#N/A"},null,{"$f":"IFERROR(RTD(\"cqg.rtd\",,\"StudyData\", \"Correlation(\"&$B$3&\",\"&BE$2&\",Period:=\"&$B$1&\",InputChoice1:=Close,InputChoice2::=Close)\", \"FG\", \"\", \"Close\",$B$2,A71, \"all\",\"\", \"\",\"True\",\"T\")/100,\"\")","v":0.32993418249700002},null,0.34000000000000064,1,{"$error":"#N/A"}]
[-68,null,{"$f":"IFERROR(RTD(\"cqg.rtd\",,\"StudyData\", \"Correlation(\"&$B$3&\",\"&C$2&\",Period:=\"&$B$1&\",InputChoice1:=Close,InputChoice2:=Close)\", \"FG\", \"\", \"Close\",$B$2,A72, \"all\",\"\", \"\",\"True\",\"T\")/100,\"\")","v":-0.227909332268},null,0.36000000000000065,2,{"$error":"#N/A"},null,{"$f":"IFERROR(RTD(\"cqg.rtd\",,\"StudyData\", \"Correlation(\"&$B$3&\",\"&I$2&\",Period:=\"&$B$1&\",InputChoice1:=Close,InputChoice2::=Close)\", \"FG\", \"\", \"Close\",$B$2,A72, \"all\",\"\", \"\",\"True\",\"T\")/100,\"\")","v":-0.41330403769199997},null,0.36000000000000065,0,{"$error":"#N/A"},null,{"$f":"IFERROR(RTD(\"cqg.rtd\",,\"StudyData\", \"Correlation(\"&$B$3&\",\"&O$2&\",Period:=\"&$B$1&\",InputChoice1:=Close,InputChoice2::=Close)\", \"FG\", \"\", \"Close\",$B$2,A72, \"all\",\"\", \"\",\"True\",\"T\")/100,\"\")","v":0.57105400600300005},null,0.36000000000000065,0,{"$error":"#N/A"},null,{"$f":"IFERROR(RTD(\"cqg.rtd\",,\"StudyData\", \"Correlation(\"&$B$3&\",\"&U$2&\",Period:=\"&$B$1&\",InputChoice1:=Close,InputChoice2::=Close)\", \"FG\", \"\", \"Close\",$B$2,A72, \"all\",\"\", \"\",\"True\",\"T\")/100,\"\")","v":-0.21452394311},null,0.36000000000000065,0,{"$error":"#N/A"},null,{"$f":"IFERROR(RTD(\"cqg.rtd\",,\"StudyData\", \"Correlation(\"&$B$3&\",\"&AA$2&\",Period:=\"&$B$1&\",InputChoice1:=Close,InputChoice2::=Close)\", \"FG\", \"\", \"Close\",$B$2,A72, \"all\",\"\", \"\",\"True\",\"T\")/100,\"\")","v":0.58647078890000004},null,0.36000000000000065,2,{"$error":"#N/A"},null,{"$f":"IFERROR(RTD(\"cqg.rtd\",,\"StudyData\", \"Correlation(\"&$B$3&\",\"&AG$2&\",Period:=\"&$B$1&\",InputChoice1:=Close,InputChoice2::=Close)\", \"FG\", \"\", \"Close\",$B$2,A72, \"all\",\"\", \"\",\"True\",\"T\")/100,\"\")","v":0.50928406489300004},null,0.36000000000000065,2,{"$error":"#N/A"},null,{"$f":"IFERROR(RTD(\"cqg.rtd\",,\"StudyData\", \"Correlation(\"&$B$3&\",\"&AM$2&\",Period:=\"&$B$1&\",InputChoice1:=Close,InputChoice2::=Close)\", \"FG\", \"\", \"Close\",$B$2,A72, \"all\",\"\", \"\",\"True\",\"T\")/100,\"\")","v":0.58448979337700002},null,0.36000000000000065,1,{"$error":"#N/A"},null,{"$f":"IFERROR(RTD(\"cqg.rtd\",,\"StudyData\", \"Correlation(\"&$B$3&\",\"&AS$2&\",Period:=\"&$B$1&\",InputChoice1:=Close,InputChoice2::=Close)\", \"FG\", \"\", \"Close\",$B$2,A72, \"all\",\"\", \"\",\"True\",\"T\")/100,\"\")","v":-0.51215540831299999},null,0.36000000000000065,0,{"$error":"#N/A"},null,{"$f":"IFERROR(RTD(\"cqg.rtd\",,\"StudyData\", \"Correlation(\"&$B$3&\",\"&AY$2&\",Period:=\"&$B$1&\",InputChoice1:=Close,InputChoice2::=Close)\", \"FG\", \"\", \"Close\",$B$2,A72, \"all\",\"\", \"\",\"True\",\"T\")/100,\"\")","v":-1.8296271448000001E-2},null,0.36000000000000065,1,{"$error":"#N/A"},null,{"$f":"IFERROR(RTD(\"cqg.rtd\",,\"StudyData\", \"Correlation(\"&$B$3&\",\"&BE$2&\",Period:=\"&$B$1&\",InputChoice1:=Close,InputChoice2::=Close)\", \"FG\", \"\", \"Close\",$B$2,A72, \"all\",\"\", \"\",\"True\",\"T\")/100,\"\")","v":0.26266097895700002},null,0.36000000000000065,2,{"$error":"#N/A"}]
[-69,null,{"$f":"IFERROR(RTD(\"cqg.rtd\",,\"StudyData\", \"Correlation(\"&$B$3&\",\"&C$2&\",Period:=\"&$B$1&\",InputChoice1:=Close,InputChoice2:=Close)\", \"FG\", \"\", \"Close\",$B$2,A73, \"all\",\"\", \"\",\"True\",\"T\")/100,\"\")","v":-0.19508484468999998},null,0.38000000000000067,0,{"$error":"#N/A"},null,{"$f":"IFERROR(RTD(\"cqg.rtd\",,\"StudyData\", \"Correlation(\"&$B$3&\",\"&I$2&\",Period:=\"&$B$1&\",InputChoice1:=Close,InputChoice2::=Close)\", \"FG\", \"\", \"Close\",$B$2,A73, \"all\",\"\", \"\",\"True\",\"T\")/100,\"\")","v":-0.39699963369199998},null,0.38000000000000067,0,{"$error":"#N/A"},null,{"$f":"IFERROR(RTD(\"cqg.rtd\",,\"StudyData\", \"Correlation(\"&$B$3&\",\"&O$2&\",Period:=\"&$B$1&\",InputChoice1:=Close,InputChoice2::=Close)\", \"FG\", \"\", \"Close\",$B$2,A73, \"all\",\"\", \"\",\"True\",\"T\")/100,\"\")","v":0.61388396065700002},null,0.38000000000000067,1,{"$error":"#N/A"},null,{"$f":"IFERROR(RTD(\"cqg.rtd\",,\"StudyData\", \"Correlation(\"&$B$3&\",\"&U$2&\",Period:=\"&$B$1&\",InputChoice1:=Close,InputChoice2::=Close)\", \"FG\", \"\", \"Close\",$B$2,A73, \"all\",\"\", \"\",\"True\",\"T\")/100,\"\")","v":-0.21367801371299999},null,0.38000000000000067,0,{"$error":"#N/A"},null,{"$f":"IFERROR(RTD(\"cqg.rtd\",,\"StudyData\", \"Correlation(\"&$B$3&\",\"&AA$2&\",Period:=\"&$B$1&\",InputChoice1:=Close,InputChoice2::=Close)\", \"FG\", \"\", \"Close\",$B$2,A73, \"all\",\"\", \"\",\"True\",\"T\")/100,\"\")","v":0.65672366557600004},null,0.38000000000000067,2,{"$error":"#N/A"},null,{"$f":"IFERROR(RTD(\"cqg.rtd\",,\"StudyData\", \"Correlation(\"&$B$3&\",\"&AG$2&\",Period:=\"&$B$1&\",InputChoice1:=Close,InputChoice2::=Close)\", \"FG\", \"\", \"Close\",$B$2,A73, \"all\",\"\", \"\",\"True\",\"T\")/100,\"\")","v":0.58630538127999998},null,0.38000000000000067,2,{"$error":"#N/A"},null,{"$f":"IFERROR(RTD(\"cqg.rtd\",,\"StudyData\", \"Correlation(\"&$B$3&\",\"&AM$2&\",Period:=\"&$B$1&\",InputChoice1:=Close,InputChoice2::=Close)\", \"FG\", \"\", \"Close\",$B$2,A73, \"all\",\"\", \"\",\"True\",\"T\")/100,\"\")","v":0.65862032532100001},null,0.38000000000000067,1,{"$error":"#N/A"},null,{"$f":"IFERROR(RTD(\"cqg.rtd\",,\"StudyData\", \"Correlation(\"&$B$3&\",\"&AS$2&\",Period:=\"&$B$1&\",InputChoice1:=Close,InputChoice2::=Close)\", \"FG\", \"\", \"Close\",$B$2,A73, \"all\",\"\", \"\",\"True\",\"T\")/100,\"\")","v":-0.55403757435400003},null,0.38000000000000067,3,{"$error":"#N/A"},null,{"$f":"IFERROR(RTD(\"cqg.rtd\",,\"StudyData\", \"Correlation(\"&$B$3&\",\"&AY$2&\",Period:=\"&$B$1&\",InputChoice1:=Close,InputChoice2::=Close)\", \"FG\", \"\", \"Close\",$B$2,A73, \"all\",\"\", \"\",\"True\",\"T\")/100,\"\")","v":-3.9836450338999997E-2},null,0.38000000000000067,2,{"$error":"#N/A"},null,{"$f":"IFERROR(RTD(\"cqg.rtd\",,\"StudyData\", \"Correlation(\"&$B$3&\",\"&BE$2&\",Period:=\"&$B$1&\",InputChoice1:=Close,InputChoice2::=Close)\", \"FG\", \"\", \"Close\",$B$2,A73, \"all\",\"\", \"\",\"True\",\"T\")/100,\"\")","v":0.18429879409800001},null,0.38000000000000067,1,{"$error":"#N/A"}]
[-70,null,{"$f":"IFERROR(RTD(\"cqg.rtd\",,\"StudyData\", \"Correlation(\"&$B$3&\",\"&C$2&\",Period:=\"&$B$1&\",InputChoice1:=Close,InputChoice2:=Close)\", \"FG\", \"\", \"Close\",$B$2,A74, \"all\",\"\", \"\",\"True\",\"T\")/100,\"\")","v":-0.17808439524899999},null,0.40000000000000069,0,{"$error":"#N/A"},null,{"$f":"IFERROR(RTD(\"cqg.rtd\",,\"StudyData\", \"Correlation(\"&$B$3&\",\"&I$2&\",Period:=\"&$B$1&\",InputChoice1:=Close,InputChoice2::=Close)\", \"FG\", \"\", \"Close\",$B$2,A74, \"all\",\"\", \"\",\"True\",\"T\")/100,\"\")","v":-0.38642119651400003},null,0.40000000000000069,1,{"$error":"#N/A"},null,{"$f":"IFERROR(RTD(\"cqg.rtd\",,\"StudyData\", \"Correlation(\"&$B$3&\",\"&O$2&\",Period:=\"&$B$1&\",InputChoice1:=Close,InputChoice2::=Close)\", \"FG\", \"\", \"Close\",$B$2,A74, \"all\",\"\", \"\",\"True\",\"T\")/100,\"\")","v":0.62679373886299994},null,0.40000000000000069,0,{"$error":"#N/A"},null,{"$f":"IFERROR(RTD(\"cqg.rtd\",,\"StudyData\", \"Correlation(\"&$B$3&\",\"&U$2&\",Period:=\"&$B$1&\",InputChoice1:=Close,InputChoice2::=Close)\", \"FG\", \"\", \"Close\",$B$2,A74, \"all\",\"\", \"\",\"True\",\"T\")/100,\"\")","v":-0.20330234641600001},null,0.40000000000000069,0,{"$error":"#N/A"},null,{"$f":"IFERROR(RTD(\"cqg.rtd\",,\"StudyData\", \"Correlation(\"&$B$3&\",\"&AA$2&\",Period:=\"&$B$1&\",InputChoice1:=Close,InputChoice2::=Close)\", \"FG\", \"\", \"Close\",$B$2,A74, \"all\",\"\", \"\",\"True\",\"T\")/100,\"\")","v":0.65625072380899996},null,0.40000000000000069,2,{"$error":"#N/A"},null,{"$f":"IFERROR(RTD(\"cqg.rtd\",,\"StudyData\", \"Correlation(\"&$B$3&\",\"&AG$2&\",Period:=\"&$B$1&\",InputChoice1:=Close,InputChoice2::=Close)\", \"FG\", \"\", \"Close\",$B$2,A74, \"all\",\"\", \"\",\"True\",\"T\")/100,\"\")","v":0.59384219198400001},null,0.40000000000000069,0,1,null,{"$f":"IFERROR(RTD(\"cqg.rtd\",,\"StudyData\", \"Correlation(\"&$B$3&\",\"&AM$2&\",Period:=\"&$B$1&\",InputChoice1:=Close,InputChoice2::=Close)\", \"FG\", \"\", \"Close\",$B$2,A74, \"all\",\"\", \"\",\"True\",\"T\")/100,\"\")","v":0.63106465498499997},null,0.40000000000000069,0,{"$error":"#N/A"},null,{"$f":"IFERROR(RTD(\"cqg.rtd\",,\"StudyData\", \"Correlation(\"&$B$3&\",\"&AS$2&\",Period:=\"&$B$1&\",InputChoice1:=Close,InputChoice2::=Close)\", \"FG\", \"\", \"Close\",$B$2,A74, \"all\",\"\", \"\",\"True\",\"T\")/100,\"\")","v":-0.64658970086500001},null,0.40000000000000069,2,{"$error":"#N/A"},null,{"$f":"IFERROR(RTD(\"cqg.rtd\",,\"StudyData\", \"Correlation(\"&$B$3&\",\"&AY$2&\",Period:=\"&$B$1&\",InputChoice1:=Close,InputChoice2::=Close)\", \"FG\", \"\", \"Close\",$B$2,A74, \"all\",\"\", \"\",\"True\",\"T\")/100,\"\")","v":-6.2273040278999998E-2},null,0.40000000000000069,1,{"$error":"#N/A"},null,{"$f":"IFERROR(RTD(\"cqg.rtd\",,\"StudyData\", \"Correlation(\"&$B$3&\",\"&BE$2&\",Period:=\"&$B$1&\",InputChoice1:=Close,InputChoice2::=Close)\", \"FG\", \"\", \"Close\",$B$2,A74, \"all\",\"\", \"\",\"True\",\"T\")/100,\"\")","v":0.16306836117500001},null,0.40000000000000069,3,{"$error":"#N/A"}]
[-71,null,{"$f":"IFERROR(RTD(\"cqg.rtd\",,\"StudyData\", \"Correlation(\"&$B$3&\",\"&C$2&\",Period:=\"&$B$1&\",InputChoice1:=Close,InputChoice2:=Close)\", \"FG\", \"\", \"Close\",$B$2,A75, \"all\",\"\", \"\",\"True\",\"T\")/100,\"\")","v":-0.15900660560000002},null,0.42000000000000071,2,{"$error":"#N/A"},null,{"$f":"IFERROR(RTD(\"cqg.rtd\",,\"StudyData\", \"Correlation(\"&$B$3&\",\"&I$2&\",Period:=\"&$B$1&\",InputChoice1:=Close,InputChoice2::=Close)\", \"FG\", \"\", \"Close\",$B$2,A75, \"all\",\"\", \"\",\"True\",\"T\")/100,\"\")","v":-0.35236317796700001},null,0.42000000000000071,0,{"$error":"#N/A"},null,{"$f":"IFERROR(RTD(\"cqg.rtd\",,\"StudyData\", \"Correlation(\"&$B$3&\",\"&O$2&\",Period:=\"&$B$1&\",InputChoice1:=Close,InputChoice2::=Close)\", \"FG\", \"\", \"Close\",$B$2,A75, \"all\",\"\", \"\",\"True\",\"T\")/100,\"\")","v":0.64469790752300005},null,0.42000000000000071,1,{"$error":"#N/A"},null,{"$f":"IFERROR(RTD(\"cqg.rtd\",,\"StudyData\", \"Correlation(\"&$B$3&\",\"&U$2&\",Period:=\"&$B$1&\",InputChoice1:=Close,InputChoice2::=Close)\", \"FG\", \"\", \"Close\",$B$2,A75, \"all\",\"\", \"\",\"True\",\"T\")/100,\"\")","v":-0.17774835994699997},null,0.42000000000000071,1,{"$error":"#N/A"},null,{"$f":"IFERROR(RTD(\"cqg.rtd\",,\"StudyData\", \"Correlation(\"&$B$3&\",\"&AA$2&\",Period:=\"&$B$1&\",InputChoice1:=Close,InputChoice2::=Close)\", \"FG\", \"\", \"Close\",$B$2,A75, \"all\",\"\", \"\",\"True\",\"T\")/100,\"\")","v":0.68539462509299998},null,0.42000000000000071,1,{"$error":"#N/A"},null,{"$f":"IFERROR(RTD(\"cqg.rtd\",,\"StudyData\", \"Correlation(\"&$B$3&\",\"&AG$2&\",Period:=\"&$B$1&\",InputChoice1:=Close,InputChoice2::=Close)\", \"FG\", \"\", \"Close\",$B$2,A75, \"all\",\"\", \"\",\"True\",\"T\")/100,\"\")","v":0.63401587096599998},null,0.42000000000000071,1,{"$error":"#N/A"},null,{"$f":"IFERROR(RTD(\"cqg.rtd\",,\"StudyData\", \"Correlation(\"&$B$3&\",\"&AM$2&\",Period:=\"&$B$1&\",InputChoice1:=Close,InputChoice2::=Close)\", \"FG\", \"\", \"Close\",$B$2,A75, \"all\",\"\", \"\",\"True\",\"T\")/100,\"\")","v":0.63727689366600004},null,0.42000000000000071,1,{"$error":"#N/A"},null,{"$f":"IFERROR(RTD(\"cqg.rtd\",,\"StudyData\", \"Correlation(\"&$B$3&\",\"&AS$2&\",Period:=\"&$B$1&\",InputChoice1:=Close,InputChoice2::=Close)\", \"FG\", \"\", \"Close\",$B$2,A75, \"all\",\"\", \"\",\"True\",\"T\")/100,\"\")","v":-0.69379266949899998},null,0.42000000000000071,0,{"$error":"#N/A"},null,{"$f":"IFERROR(RTD(\"cqg.rtd\",,\"StudyData\", \"Correlation(\"&$B$3&\",\"&AY$2&\",Period:=\"&$B$1&\",InputChoice1:=Close,InputChoice2::=Close)\", \"FG\", \"\", \"Close\",$B$2,A75, \"all\",\"\", \"\",\"True\",\"T\")/100,\"\")","v":-2.6983564803000001E-2},null,0.42000000000000071,1,{"$error":"#N/A"},null,{"$f":"IFERROR(RTD(\"cqg.rtd\",,\"StudyData\", \"Correlation(\"&$B$3&\",\"&BE$2&\",Period:=\"&$B$1&\",InputChoice1:=Close,InputChoice2::=Close)\", \"FG\", \"\", \"Close\",$B$2,A75, \"all\",\"\", \"\",\"True\",\"T\")/100,\"\")","v":0.14356220292499999},null,0.42000000000000071,5,{"$error":"#N/A"}]
[-72,null,{"$f":"IFERROR(RTD(\"cqg.rtd\",,\"StudyData\", \"Correlation(\"&$B$3&\",\"&C$2&\",Period:=\"&$B$1&\",InputChoice1:=Close,InputChoice2:=Close)\", \"FG\", \"\", \"Close\",$B$2,A76, \"all\",\"\", \"\",\"True\",\"T\")/100,\"\")","v":-7.1434962488000006E-2},null,0.44000000000000072,0,{"$error":"#N/A"},null,{"$f":"IFERROR(RTD(\"cqg.rtd\",,\"StudyData\", \"Correlation(\"&$B$3&\",\"&I$2&\",Period:=\"&$B$1&\",InputChoice1:=Close,InputChoice2::=Close)\", \"FG\", \"\", \"Close\",$B$2,A76, \"all\",\"\", \"\",\"True\",\"T\")/100,\"\")","v":-0.236241865971},null,0.44000000000000072,0,{"$error":"#N/A"},null,{"$f":"IFERROR(RTD(\"cqg.rtd\",,\"StudyData\", \"Correlation(\"&$B$3&\",\"&O$2&\",Period:=\"&$B$1&\",InputChoice1:=Close,InputChoice2::=Close)\", \"FG\", \"\", \"Close\",$B$2,A76, \"all\",\"\", \"\",\"True\",\"T\")/100,\"\")","v":0.72506859611600005},null,0.44000000000000072,2,{"$error":"#N/A"},null,{"$f":"IFERROR(RTD(\"cqg.rtd\",,\"StudyData\", \"Correlation(\"&$B$3&\",\"&U$2&\",Period:=\"&$B$1&\",InputChoice1:=Close,InputChoice2::=Close)\", \"FG\", \"\", \"Close\",$B$2,A76, \"all\",\"\", \"\",\"True\",\"T\")/100,\"\")","v":-0.15548601103499998},null,0.44000000000000072,1,{"$error":"#N/A"},null,{"$f":"IFERROR(RTD(\"cqg.rtd\",,\"StudyData\", \"Correlation(\"&$B$3&\",\"&AA$2&\",Period:=\"&$B$1&\",InputChoice1:=Close,InputChoice2::=Close)\", \"FG\", \"\", \"Close\",$B$2,A76, \"all\",\"\", \"\",\"True\",\"T\")/100,\"\")","v":0.67721719341599995},null,0.44000000000000072,1,{"$error":"#N/A"},null,{"$f":"IFERROR(RTD(\"cqg.rtd\",,\"StudyData\", \"Correlation(\"&$B$3&\",\"&AG$2&\",Period:=\"&$B$1&\",InputChoice1:=Close,InputChoice2::=Close)\", \"FG\", \"\", \"Close\",$B$2,A76, \"all\",\"\", \"\",\"True\",\"T\")/100,\"\")","v":0.62785083503700001},null,0.44000000000000072,1,{"$error":"#N/A"},null,{"$f":"IFERROR(RTD(\"cqg.rtd\",,\"StudyData\", \"Correlation(\"&$B$3&\",\"&AM$2&\",Period:=\"&$B$1&\",InputChoice1:=Close,InputChoice2::=Close)\", \"FG\", \"\", \"Close\",$B$2,A76, \"all\",\"\", \"\",\"True\",\"T\")/100,\"\")","v":0.62139139999999993},null,0.44000000000000072,1,1,null,{"$f":"IFERROR(RTD(\"cqg.rtd\",,\"StudyData\", \"Correlation(\"&$B$3&\",\"&AS$2&\",Period:=\"&$B$1&\",InputChoice1:=Close,InputChoice2::=Close)\", \"FG\", \"\", \"Close\",$B$2,A76, \"all\",\"\", \"\",\"True\",\"T\")/100,\"\")","v":-0.68455288943699999},null,0.44000000000000072,0,{"$error":"#N/A"},null,{"$f":"IFERROR(RTD(\"cqg.rtd\",,\"StudyData\", \"Correlation(\"&$B$3&\",\"&AY$2&\",Period:=\"&$B$1&\",InputChoice1:=Close,InputChoice2::=Close)\", \"FG\", \"\", \"Close\",$B$2,A76, \"all\",\"\", \"\",\"True\",\"T\")/100,\"\")","v":5.0967818482E-2},null,0.44000000000000072,2,{"$error":"#N/A"},null,{"$f":"IFERROR(RTD(\"cqg.rtd\",,\"StudyData\", \"Correlation(\"&$B$3&\",\"&BE$2&\",Period:=\"&$B$1&\",InputChoice1:=Close,InputChoice2::=Close)\", \"FG\", \"\", \"Close\",$B$2,A76, \"all\",\"\", \"\",\"True\",\"T\")/100,\"\")","v":0.111448698227},null,0.44000000000000072,1,{"$error":"#N/A"}]
[-73,null,{"$f":"IFERROR(RTD(\"cqg.rtd\",,\"StudyData\", \"Correlation(\"&$B$3&\",\"&C$2&\",Period:=\"&$B$1&\",InputChoice1:=Close,InputChoice2:=Close)\", \"FG\", \"\", \"Close\",$B$2,A77, \"all\",\"\", \"\",\"True\",\"T\")/100,\"\")","v":-0.22550641354900003},null,0.46000000000000074,2,{"$error":"#N/A"},null,{"$f":"IFERROR(RTD(\"cqg.rtd\",,\"StudyData\", \"Correlation(\"&$B$3&\",\"&I$2&\",Period:=\"&$B$1&\",InputChoice1:=Close,InputChoice2::=Close)\", \"FG\", \"\", \"Close\",$B$2,A77, \"all\",\"\", \"\",\"True\",\"T\")/100,\"\")","v":-0.30766911468000002},null,0.46000000000000074,0,{"$error":"#N/A"},null,{"$f":"IFERROR(RTD(\"cqg.rtd\",,\"StudyData\", \"Correlation(\"&$B$3&\",\"&O$2&\",Period:=\"&$B$1&\",InputChoice1:=Close,InputChoice2::=Close)\", \"FG\", \"\", \"Close\",$B$2,A77, \"all\",\"\", \"\",\"True\",\"T\")/100,\"\")","v":0.71741183738399994},null,0.46000000000000074,1,{"$error":"#N/A"},null,{"$f":"IFERROR(RTD(\"cqg.rtd\",,\"StudyData\", \"Correlation(\"&$B$3&\",\"&U$2&\",Period:=\"&$B$1&\",InputChoice1:=Close,InputChoice2::=Close)\", \"FG\", \"\", \"Close\",$B$2,A77, \"all\",\"\", \"\",\"True\",\"T\")/100,\"\")","v":-0.12578885514899998},null,0.46000000000000074,1,{"$error":"#N/A"},null,{"$f":"IFERROR(RTD(\"cqg.rtd\",,\"StudyData\", \"Correlation(\"&$B$3&\",\"&AA$2&\",Period:=\"&$B$1&\",InputChoice1:=Close,InputChoice2::=Close)\", \"FG\", \"\", \"Close\",$B$2,A77, \"all\",\"\", \"\",\"True\",\"T\")/100,\"\")","v":0.61361082986900006},null,0.46000000000000074,2,{"$error":"#N/A"},null,{"$f":"IFERROR(RTD(\"cqg.rtd\",,\"StudyData\", \"Correlation(\"&$B$3&\",\"&AG$2&\",Period:=\"&$B$1&\",InputChoice1:=Close,InputChoice2::=Close)\", \"FG\", \"\", \"Close\",$B$2,A77, \"all\",\"\", \"\",\"True\",\"T\")/100,\"\")","v":0.56407222336099994},null,0.46000000000000074,0,{"$error":"#N/A"},null,{"$f":"IFERROR(RTD(\"cqg.rtd\",,\"StudyData\", \"Correlation(\"&$B$3&\",\"&AM$2&\",Period:=\"&$B$1&\",InputChoice1:=Close,InputChoice2::=Close)\", \"FG\", \"\", \"Close\",$B$2,A77, \"all\",\"\", \"\",\"True\",\"T\")/100,\"\")","v":0.55071925889100004},null,0.46000000000000074,2,{"$error":"#N/A"},null,{"$f":"IFERROR(RTD(\"cqg.rtd\",,\"StudyData\", \"Correlation(\"&$B$3&\",\"&AS$2&\",Period:=\"&$B$1&\",InputChoice1:=Close,InputChoice2::=Close)\", \"FG\", \"\", \"Close\",$B$2,A77, \"all\",\"\", \"\",\"True\",\"T\")/100,\"\")","v":-0.75380019816699995},null,0.46000000000000074,0,{"$error":"#N/A"},null,{"$f":"IFERROR(RTD(\"cqg.rtd\",,\"StudyData\", \"Correlation(\"&$B$3&\",\"&AY$2&\",Period:=\"&$B$1&\",InputChoice1:=Close,InputChoice2::=Close)\", \"FG\", \"\", \"Close\",$B$2,A77, \"all\",\"\", \"\",\"True\",\"T\")/100,\"\")","v":0.14073836664799999},null,0.46000000000000074,0,{"$error":"#N/A"},null,{"$f":"IFERROR(RTD(\"cqg.rtd\",,\"StudyData\", \"Correlation(\"&$B$3&\",\"&BE$2&\",Period:=\"&$B$1&\",InputChoice1:=Close,InputChoice2::=Close)\", \"FG\", \"\", \"Close\",$B$2,A77, \"all\",\"\", \"\",\"True\",\"T\")/100,\"\")","v":5.4772994968999997E-2},null,0.46000000000000074,4,{"$error":"#N/A"}]
[-74,null,{"$f":"IFERROR(RTD(\"cqg.rtd\",,\"StudyData\", \"Correlation(\"&$B$3&\",\"&C$2&\",Period:=\"&$B$1&\",InputChoice1:=Close,InputChoice2:=Close)\", \"FG\", \"\", \"Close\",$B$2,A78, \"all\",\"\", \"\",\"True\",\"T\")/100,\"\")","v":-0.243208751231},null,0.48000000000000076,1,{"$error":"#N/A"},null,{"$f":"IFERROR(RTD(\"cqg.rtd\",,\"StudyData\", \"Correlation(\"&$B$3&\",\"&I$2&\",Period:=\"&$B$1&\",InputChoice1:=Close,InputChoice2::=Close)\", \"FG\", \"\", \"Close\",$B$2,A78, \"all\",\"\", \"\",\"True\",\"T\")/100,\"\")","v":-0.23057795746400001},null,0.48000000000000076,1,{"$error":"#N/A"},null,{"$f":"IFERROR(RTD(\"cqg.rtd\",,\"StudyData\", \"Correlation(\"&$B$3&\",\"&O$2&\",Period:=\"&$B$1&\",InputChoice1:=Close,InputChoice2::=Close)\", \"FG\", \"\", \"Close\",$B$2,A78, \"all\",\"\", \"\",\"True\",\"T\")/100,\"\")","v":0.712077793771},null,0.48000000000000076,0,{"$error":"#N/A"},null,{"$f":"IFERROR(RTD(\"cqg.rtd\",,\"StudyData\", \"Correlation(\"&$B$3&\",\"&U$2&\",Period:=\"&$B$1&\",InputChoice1:=Close,InputChoice2::=Close)\", \"FG\", \"\", \"Close\",$B$2,A78, \"all\",\"\", \"\",\"True\",\"T\")/100,\"\")","v":-0.190857389214},null,0.48000000000000076,0,{"$error":"#N/A"},null,{"$f":"IFERROR(RTD(\"cqg.rtd\",,\"StudyData\", \"Correlation(\"&$B$3&\",\"&AA$2&\",Period:=\"&$B$1&\",InputChoice1:=Close,InputChoice2::=Close)\", \"FG\", \"\", \"Close\",$B$2,A78, \"all\",\"\", \"\",\"True\",\"T\")/100,\"\")","v":0.44601999811200005},null,0.48000000000000076,0,{"$error":"#N/A"},null,{"$f":"IFERROR(RTD(\"cqg.rtd\",,\"StudyData\", \"Correlation(\"&$B$3&\",\"&AG$2&\",Period:=\"&$B$1&\",InputChoice1:=Close,InputChoice2::=Close)\", \"FG\", \"\", \"Close\",$B$2,A78, \"all\",\"\", \"\",\"True\",\"T\")/100,\"\")","v":0.36503866072300001},null,0.48000000000000076,1,{"$error":"#N/A"},null,{"$f":"IFERROR(RTD(\"cqg.rtd\",,\"StudyData\", \"Correlation(\"&$B$3&\",\"&AM$2&\",Period:=\"&$B$1&\",InputChoice1:=Close,InputChoice2::=Close)\", \"FG\", \"\", \"Close\",$B$2,A78, \"all\",\"\", \"\",\"True\",\"T\")/100,\"\")","v":0.40413360040000001},null,0.48000000000000076,0,{"$error":"#N/A"},null,{"$f":"IFERROR(RTD(\"cqg.rtd\",,\"StudyData\", \"Correlation(\"&$B$3&\",\"&AS$2&\",Period:=\"&$B$1&\",InputChoice1:=Close,InputChoice2::=Close)\", \"FG\", \"\", \"Close\",$B$2,A78, \"all\",\"\", \"\",\"True\",\"T\")/100,\"\")","v":-0.63031142592300005},null,0.48000000000000076,0,{"$error":"#N/A"},null,{"$f":"IFERROR(RTD(\"cqg.rtd\",,\"StudyData\", \"Correlation(\"&$B$3&\",\"&AY$2&\",Period:=\"&$B$1&\",InputChoice1:=Close,InputChoice2::=Close)\", \"FG\", \"\", \"Close\",$B$2,A78, \"all\",\"\", \"\",\"True\",\"T\")/100,\"\")","v":0.221607031638},null,0.48000000000000076,1,{"$error":"#N/A"},null,{"$f":"IFERROR(RTD(\"cqg.rtd\",,\"StudyData\", \"Correlation(\"&$B$3&\",\"&BE$2&\",Period:=\"&$B$1&\",InputChoice1:=Close,InputChoice2::=Close)\", \"FG\", \"\", \"Close\",$B$2,A78, \"all\",\"\", \"\",\"True\",\"T\")/100,\"\")","v":7.6574504060000007E-3},null,0.48000000000000076,1,{"$error":"#N/A"}]
[-75,null,{"$f":"IFERROR(RTD(\"cqg.rtd\",,\"StudyData\", \"Correlation(\"&$B$3&\",\"&C$2&\",Period:=\"&$B$1&\",InputChoice1:=Close,InputChoice2:=Close)\", \"FG\", \"\", \"Close\",$B$2,A79, \"all\",\"\", \"\",\"True\",\"T\")/100,\"\")","v":-0.24256624354700002},null,0.50000000000000078,3,{"$error":"#N/A"},null,{"$f":"IFERROR(RTD(\"cqg.rtd\",,\"StudyData\", \"Correlation(\"&$B$3&\",\"&I$2&\",Period:=\"&$B$1&\",InputChoice1:=Close,InputChoice2::=Close)\", \"FG\", \"\", \"Close\",$B$2,A79, \"all\",\"\", \"\",\"True\",\"T\")/100,\"\")","v":-0.20498354551199999},null,0.50000000000000078,1,{"$error":"#N/A"},null,{"$f":"IFERROR(RTD(\"cqg.rtd\",,\"StudyData\", \"Correlation(\"&$B$3&\",\"&O$2&\",Period:=\"&$B$1&\",InputChoice1:=Close,InputChoice2::=Close)\", \"FG\", \"\", \"Close\",$B$2,A79, \"all\",\"\", \"\",\"True\",\"T\")/100,\"\")","v":0.69125584236400006},null,0.50000000000000078,2,{"$error":"#N/A"},null,{"$f":"IFERROR(RTD(\"cqg.rtd\",,\"StudyData\", \"Correlation(\"&$B$3&\",\"&U$2&\",Period:=\"&$B$1&\",InputChoice1:=Close,InputChoice2::=Close)\", \"FG\", \"\", \"Close\",$B$2,A79, \"all\",\"\", \"\",\"True\",\"T\")/100,\"\")","v":-0.168042678931},null,0.50000000000000078,0,{"$error":"#N/A"},null,{"$f":"IFERROR(RTD(\"cqg.rtd\",,\"StudyData\", \"Correlation(\"&$B$3&\",\"&AA$2&\",Period:=\"&$B$1&\",InputChoice1:=Close,InputChoice2::=Close)\", \"FG\", \"\", \"Close\",$B$2,A79, \"all\",\"\", \"\",\"True\",\"T\")/100,\"\")","v":0.29411820338200001},null,0.50000000000000078,3,3,null,{"$f":"IFERROR(RTD(\"cqg.rtd\",,\"StudyData\", \"Correlation(\"&$B$3&\",\"&AG$2&\",Period:=\"&$B$1&\",InputChoice1:=Close,InputChoice2::=Close)\", \"FG\", \"\", \"Close\",$B$2,A79, \"all\",\"\", \"\",\"True\",\"T\")/100,\"\")","v":0.191919295746},null,0.50000000000000078,0,{"$error":"#N/A"},null,{"$f":"IFERROR(RTD(\"cqg.rtd\",,\"StudyData\", \"Correlation(\"&$B$3&\",\"&AM$2&\",Period:=\"&$B$1&\",InputChoice1:=Close,InputChoice2::=Close)\", \"FG\", \"\", \"Close\",$B$2,A79, \"all\",\"\", \"\",\"True\",\"T\")/100,\"\")","v":0.28324088045000001},null,0.50000000000000078,1,{"$error":"#N/A"},null,{"$f":"IFERROR(RTD(\"cqg.rtd\",,\"StudyData\", \"Correlation(\"&$B$3&\",\"&AS$2&\",Period:=\"&$B$1&\",InputChoice1:=Close,InputChoice2::=Close)\", \"FG\", \"\", \"Close\",$B$2,A79, \"all\",\"\", \"\",\"True\",\"T\")/100,\"\")","v":-0.44949877298099999},null,0.50000000000000078,0,{"$error":"#N/A"},null,{"$f":"IFERROR(RTD(\"cqg.rtd\",,\"StudyData\", \"Correlation(\"&$B$3&\",\"&AY$2&\",Period:=\"&$B$1&\",InputChoice1:=Close,InputChoice2::=Close)\", \"FG\", \"\", \"Close\",$B$2,A79, \"all\",\"\", \"\",\"True\",\"T\")/100,\"\")","v":0.18156225157100001},null,0.50000000000000078,3,{"$error":"#N/A"},null,{"$f":"IFERROR(RTD(\"cqg.rtd\",,\"StudyData\", \"Correlation(\"&$B$3&\",\"&BE$2&\",Period:=\"&$B$1&\",InputChoice1:=Close,InputChoice2::=Close)\", \"FG\", \"\", \"Close\",$B$2,A79, \"all\",\"\", \"\",\"True\",\"T\")/100,\"\")","v":-2.0598790446000003E-2},null,0.50000000000000078,6,{"$error":"#N/A"}]
[-76,null,{"$f":"IFERROR(RTD(\"cqg.rtd\",,\"StudyData\", \"Correlation(\"&$B$3&\",\"&C$2&\",Period:=\"&$B$1&\",InputChoice1:=Close,InputChoice2:=Close)\", \"FG\", \"\", \"Close\",$B$2,A80, \"all\",\"\", \"\",\"True\",\"T\")/100,\"\")","v":-0.41014558806200002},null,0.52000000000000079,1,{"$error":"#N/A"},null,{"$f":"IFERROR(RTD(\"cqg.rtd\",,\"StudyData\", \"Correlation(\"&$B$3&\",\"&I$2&\",Period:=\"&$B$1&\",InputChoice1:=Close,InputChoice2::=Close)\", \"FG\", \"\", \"Close\",$B$2,A80, \"all\",\"\", \"\",\"True\",\"T\")/100,\"\")","v":-0.46478347441099999},null,0.52000000000000079,0,{"$error":"#N/A"},null,{"$f":"IFERROR(RTD(\"cqg.rtd\",,\"StudyData\", \"Correlation(\"&$B$3&\",\"&O$2&\",Period:=\"&$B$1&\",InputChoice1:=Close,InputChoice2::=Close)\", \"FG\", \"\", \"Close\",$B$2,A80, \"all\",\"\", \"\",\"True\",\"T\")/100,\"\")","v":0.65455337221099996},null,0.52000000000000079,2,{"$error":"#N/A"},null,{"$f":"IFERROR(RTD(\"cqg.rtd\",,\"StudyData\", \"Correlation(\"&$B$3&\",\"&U$2&\",Period:=\"&$B$1&\",InputChoice1:=Close,InputChoice2::=Close)\", \"FG\", \"\", \"Close\",$B$2,A80, \"all\",\"\", \"\",\"True\",\"T\")/100,\"\")","v":-0.14418201239799999},null,0.52000000000000079,1,{"$error":"#N/A"},null,{"$f":"IFERROR(RTD(\"cqg.rtd\",,\"StudyData\", \"Correlation(\"&$B$3&\",\"&AA$2&\",Period:=\"&$B$1&\",InputChoice1:=Close,InputChoice2::=Close)\", \"FG\", \"\", \"Close\",$B$2,A80, \"all\",\"\", \"\",\"True\",\"T\")/100,\"\")","v":-6.2598653012999994E-2},null,0.52000000000000079,1,{"$error":"#N/A"},null,{"$f":"IFERROR(RTD(\"cqg.rtd\",,\"StudyData\", \"Correlation(\"&$B$3&\",\"&AG$2&\",Period:=\"&$B$1&\",InputChoice1:=Close,InputChoice2::=Close)\", \"FG\", \"\", \"Close\",$B$2,A80, \"all\",\"\", \"\",\"True\",\"T\")/100,\"\")","v":-0.13447096225999999},null,0.52000000000000079,1,{"$error":"#N/A"},null,{"$f":"IFERROR(RTD(\"cqg.rtd\",,\"StudyData\", \"Correlation(\"&$B$3&\",\"&AM$2&\",Period:=\"&$B$1&\",InputChoice1:=Close,InputChoice2::=Close)\", \"FG\", \"\", \"Close\",$B$2,A80, \"all\",\"\", \"\",\"True\",\"T\")/100,\"\")","v":-5.6581467447999995E-2},null,0.52000000000000079,2,{"$error":"#N/A"},null,{"$f":"IFERROR(RTD(\"cqg.rtd\",,\"StudyData\", \"Correlation(\"&$B$3&\",\"&AS$2&\",Period:=\"&$B$1&\",InputChoice1:=Close,InputChoice2::=Close)\", \"FG\", \"\", \"Close\",$B$2,A80, \"all\",\"\", \"\",\"True\",\"T\")/100,\"\")","v":-4.7878816354999999E-2},null,0.52000000000000079,0,{"$error":"#N/A"},null,{"$f":"IFERROR(RTD(\"cqg.rtd\",,\"StudyData\", \"Correlation(\"&$B$3&\",\"&AY$2&\",Period:=\"&$B$1&\",InputChoice1:=Close,InputChoice2::=Close)\", \"FG\", \"\", \"Close\",$B$2,A80, \"all\",\"\", \"\",\"True\",\"T\")/100,\"\")","v":0.12703167767500001},null,0.52000000000000079,0,{"$error":"#N/A"},null,{"$f":"IFERROR(RTD(\"cqg.rtd\",,\"StudyData\", \"Correlation(\"&$B$3&\",\"&BE$2&\",Period:=\"&$B$1&\",InputChoice1:=Close,InputChoice2::=Close)\", \"FG\", \"\", \"Close\",$B$2,A80, \"all\",\"\", \"\",\"True\",\"T\")/100,\"\")","v":9.7329585570000002E-2},null,0.52000000000000079,3,{"$error":"#N/A"}]
[-77,null,{"$f":"IFERROR(RTD(\"cqg.rtd\",,\"StudyData\", \"Correlation(\"&$B$3&\",\"&C$2&\",Period:=\"&$B$1&\",InputChoice1:=Close,InputChoice2:=Close)\", \"FG\", \"\", \"Close\",$B$2,A81, \"all\",\"\", \"\",\"True\",\"T\")/100,\"\")","v":-0.61360034546999997},null,0.54000000000000081,0,{"$error":"#N/A"},null,{"$f":"IFERROR(RTD(\"cqg.rtd\",,\"StudyData\", \"Correlation(\"&$B$3&\",\"&I$2&\",Period:=\"&$B$1&\",InputChoice1:=Close,InputChoice2::=Close)\", \"FG\", \"\", \"Close\",$B$2,A81, \"all\",\"\", \"\",\"True\",\"T\")/100,\"\")","v":-0.66152245922899988},null,0.54000000000000081,0,{"$error":"#N/A"},null,{"$f":"IFERROR(RTD(\"cqg.rtd\",,\"StudyData\", \"Correlation(\"&$B$3&\",\"&O$2&\",Period:=\"&$B$1&\",InputChoice1:=Close,InputChoice2::=Close)\", \"FG\", \"\", \"Close\",$B$2,A81, \"all\",\"\", \"\",\"True\",\"T\")/100,\"\")","v":0.56816171452800002},null,0.54000000000000081,4,{"$error":"#N/A"},null,{"$f":"IFERROR(RTD(\"cqg.rtd\",,\"StudyData\", \"Correlation(\"&$B$3&\",\"&U$2&\",Period:=\"&$B$1&\",InputChoice1:=Close,InputChoice2::=Close)\", \"FG\", \"\", \"Close\",$B$2,A81, \"all\",\"\", \"\",\"True\",\"T\")/100,\"\")","v":-0.35030405798199998},null,0.54000000000000081,1,{"$error":"#N/A"},null,{"$f":"IFERROR(RTD(\"cqg.rtd\",,\"StudyData\", \"Correlation(\"&$B$3&\",\"&AA$2&\",Period:=\"&$B$1&\",InputChoice1:=Close,InputChoice2::=Close)\", \"FG\", \"\", \"Close\",$B$2,A81, \"all\",\"\", \"\",\"True\",\"T\")/100,\"\")","v":-0.164358233785},null,0.54000000000000081,2,{"$error":"#N/A"},null,{"$f":"IFERROR(RTD(\"cqg.rtd\",,\"StudyData\", \"Correlation(\"&$B$3&\",\"&AG$2&\",Period:=\"&$B$1&\",InputChoice1:=Close,InputChoice2::=Close)\", \"FG\", \"\", \"Close\",$B$2,A81, \"all\",\"\", \"\",\"True\",\"T\")/100,\"\")","v":-0.24022682336100001},null,0.54000000000000081,4,{"$error":"#N/A"},null,{"$f":"IFERROR(RTD(\"cqg.rtd\",,\"StudyData\", \"Correlation(\"&$B$3&\",\"&AM$2&\",Period:=\"&$B$1&\",InputChoice1:=Close,InputChoice2::=Close)\", \"FG\", \"\", \"Close\",$B$2,A81, \"all\",\"\", \"\",\"True\",\"T\")/100,\"\")","v":-0.148806730256},null,0.54000000000000081,0,{"$error":"#N/A"},null,{"$f":"IFERROR(RTD(\"cqg.rtd\",,\"StudyData\", \"Correlation(\"&$B$3&\",\"&AS$2&\",Period:=\"&$B$1&\",InputChoice1:=Close,InputChoice2::=Close)\", \"FG\", \"\", \"Close\",$B$2,A81, \"all\",\"\", \"\",\"True\",\"T\")/100,\"\")","v":3.0065731233E-2},null,0.54000000000000081,0,{"$error":"#N/A"},null,{"$f":"IFERROR(RTD(\"cqg.rtd\",,\"StudyData\", \"Correlation(\"&$B$3&\",\"&AY$2&\",Period:=\"&$B$1&\",InputChoice1:=Close,InputChoice2::=Close)\", \"FG\", \"\", \"Close\",$B$2,A81, \"all\",\"\", \"\",\"True\",\"T\")/100,\"\")","v":0.38730936980499997},null,0.54000000000000081,0,1,null,{"$f":"IFERROR(RTD(\"cqg.rtd\",,\"StudyData\", \"Correlation(\"&$B$3&\",\"&BE$2&\",Period:=\"&$B$1&\",InputChoice1:=Close,InputChoice2::=Close)\", \"FG\", \"\", \"Close\",$B$2,A81, \"all\",\"\", \"\",\"True\",\"T\")/100,\"\")","v":0.16162361627799998},null,0.54000000000000081,2,{"$error":"#N/A"}]
[-78,null,{"$f":"IFERROR(RTD(\"cqg.rtd\",,\"StudyData\", \"Correlation(\"&$B$3&\",\"&C$2&\",Period:=\"&$B$1&\",InputChoice1:=Close,InputChoice2:=Close)\", \"FG\", \"\", \"Close\",$B$2,A82, \"all\",\"\", \"\",\"True\",\"T\")/100,\"\")","v":-0.70141103278600003},null,0.56000000000000083,0,{"$error":"#N/A"},null,{"$f":"IFERROR(RTD(\"cqg.rtd\",,\"StudyData\", \"Correlation(\"&$B$3&\",\"&I$2&\",Period:=\"&$B$1&\",InputChoice1:=Close,InputChoice2::=Close)\", \"FG\", \"\", \"Close\",$B$2,A82, \"all\",\"\", \"\",\"True\",\"T\")/100,\"\")","v":-0.74856724749299997},null,0.56000000000000083,0,{"$error":"#N/A"},null,{"$f":"IFERROR(RTD(\"cqg.rtd\",,\"StudyData\", \"Correlation(\"&$B$3&\",\"&O$2&\",Period:=\"&$B$1&\",InputChoice1:=Close,InputChoice2::=Close)\", \"FG\", \"\", \"Close\",$B$2,A82, \"all\",\"\", \"\",\"True\",\"T\")/100,\"\")","v":0.41142673037599997},null,0.56000000000000083,1,{"$error":"#N/A"},null,{"$f":"IFERROR(RTD(\"cqg.rtd\",,\"StudyData\", \"Correlation(\"&$B$3&\",\"&U$2&\",Period:=\"&$B$1&\",InputChoice1:=Close,InputChoice2::=Close)\", \"FG\", \"\", \"Close\",$B$2,A82, \"all\",\"\", \"\",\"True\",\"T\")/100,\"\")","v":-0.60933828667599998},null,0.56000000000000083,0,{"$error":"#N/A"},null,{"$f":"IFERROR(RTD(\"cqg.rtd\",,\"StudyData\", \"Correlation(\"&$B$3&\",\"&AA$2&\",Period:=\"&$B$1&\",InputChoice1:=Close,InputChoice2::=Close)\", \"FG\", \"\", \"Close\",$B$2,A82, \"all\",\"\", \"\",\"True\",\"T\")/100,\"\")","v":-0.42519808729499997},null,0.56000000000000083,1,{"$error":"#N/A"},null,{"$f":"IFERROR(RTD(\"cqg.rtd\",,\"StudyData\", \"Correlation(\"&$B$3&\",\"&AG$2&\",Period:=\"&$B$1&\",InputChoice1:=Close,InputChoice2::=Close)\", \"FG\", \"\", \"Close\",$B$2,A82, \"all\",\"\", \"\",\"True\",\"T\")/100,\"\")","v":-0.51444368788200001},null,0.56000000000000083,1,{"$error":"#N/A"},null,{"$f":"IFERROR(RTD(\"cqg.rtd\",,\"StudyData\", \"Correlation(\"&$B$3&\",\"&AM$2&\",Period:=\"&$B$1&\",InputChoice1:=Close,InputChoice2::=Close)\", \"FG\", \"\", \"Close\",$B$2,A82, \"all\",\"\", \"\",\"True\",\"T\")/100,\"\")","v":-0.43553703881700001},null,0.56000000000000083,1,{"$error":"#N/A"},null,{"$f":"IFERROR(RTD(\"cqg.rtd\",,\"StudyData\", \"Correlation(\"&$B$3&\",\"&AS$2&\",Period:=\"&$B$1&\",InputChoice1:=Close,InputChoice2::=Close)\", \"FG\", \"\", \"Close\",$B$2,A82, \"all\",\"\", \"\",\"True\",\"T\")/100,\"\")","v":-6.3702134499000002E-2},null,0.56000000000000083,0,{"$error":"#N/A"},null,{"$f":"IFERROR(RTD(\"cqg.rtd\",,\"StudyData\", \"Correlation(\"&$B$3&\",\"&AY$2&\",Period:=\"&$B$1&\",InputChoice1:=Close,InputChoice2::=Close)\", \"FG\", \"\", \"Close\",$B$2,A82, \"all\",\"\", \"\",\"True\",\"T\")/100,\"\")","v":0.49379075818700002},null,0.56000000000000083,3,{"$error":"#N/A"},null,{"$f":"IFERROR(RTD(\"cqg.rtd\",,\"StudyData\", \"Correlation(\"&$B$3&\",\"&BE$2&\",Period:=\"&$B$1&\",InputChoice1:=Close,InputChoice2::=Close)\", \"FG\", \"\", \"Close\",$B$2,A82, \"all\",\"\", \"\",\"True\",\"T\")/100,\"\")","v":0.31532091218699998},null,0.56000000000000083,4,{"$error":"#N/A"}]
[-79,null,{"$f":"IFERROR(RTD(\"cqg.rtd\",,\"StudyData\", \"Correlation(\"&$B$3&\",\"&C$2&\",Period:=\"&$B$1&\",InputChoice1:=Close,InputChoice2:=Close)\", \"FG\", \"\", \"Close\",$B$2,A83, \"all\",\"\", \"\",\"True\",\"T\")/100,\"\")","v":-0.72451482767399999},null,0.58000000000000085,1,{"$error":"#N/A"},null,{"$f":"IFERROR(RTD(\"cqg.rtd\",,\"StudyData\", \"Correlation(\"&$B$3&\",\"&I$2&\",Period:=\"&$B$1&\",InputChoice1:=Close,InputChoice2::=Close)\", \"FG\", \"\", \"Close\",$B$2,A83, \"all\",\"\", \"\",\"True\",\"T\")/100,\"\")","v":-0.77294384389499993},null,0.58000000000000085,0,{"$error":"#N/A"},null,{"$f":"IFERROR(RTD(\"cqg.rtd\",,\"StudyData\", \"Correlation(\"&$B$3&\",\"&O$2&\",Period:=\"&$B$1&\",InputChoice1:=Close,InputChoice2::=Close)\", \"FG\", \"\", \"Close\",$B$2,A83, \"all\",\"\", \"\",\"True\",\"T\")/100,\"\")","v":0.18528460740200001},null,0.58000000000000085,4,{"$error":"#N/A"},null,{"$f":"IFERROR(RTD(\"cqg.rtd\",,\"StudyData\", \"Correlation(\"&$B$3&\",\"&U$2&\",Period:=\"&$B$1&\",InputChoice1:=Close,InputChoice2::=Close)\", \"FG\", \"\", \"Close\",$B$2,A83, \"all\",\"\", \"\",\"True\",\"T\")/100,\"\")","v":-0.72814018031100003},null,0.58000000000000085,3,{"$error":"#N/A"},null,{"$f":"IFERROR(RTD(\"cqg.rtd\",,\"StudyData\", \"Correlation(\"&$B$3&\",\"&AA$2&\",Period:=\"&$B$1&\",InputChoice1:=Close,InputChoice2::=Close)\", \"FG\", \"\", \"Close\",$B$2,A83, \"all\",\"\", \"\",\"True\",\"T\")/100,\"\")","v":-0.62278994323000003},null,0.58000000000000085,2,{"$error":"#N/A"},null,{"$f":"IFERROR(RTD(\"cqg.rtd\",,\"StudyData\", \"Correlation(\"&$B$3&\",\"&AG$2&\",Period:=\"&$B$1&\",InputChoice1:=Close,InputChoice2::=Close)\", \"FG\", \"\", \"Close\",$B$2,A83, \"all\",\"\", \"\",\"True\",\"T\")/100,\"\")","v":-0.69802893454499992},null,0.58000000000000085,1,{"$error":"#N/A"},null,{"$f":"IFERROR(RTD(\"cqg.rtd\",,\"StudyData\", \"Correlation(\"&$B$3&\",\"&AM$2&\",Period:=\"&$B$1&\",InputChoice1:=Close,InputChoice2::=Close)\", \"FG\", \"\", \"Close\",$B$2,A83, \"all\",\"\", \"\",\"True\",\"T\")/100,\"\")","v":-0.62897850090399998},null,0.58000000000000085,1,{"$error":"#N/A"},null,{"$f":"IFERROR(RTD(\"cqg.rtd\",,\"StudyData\", \"Correlation(\"&$B$3&\",\"&AS$2&\",Period:=\"&$B$1&\",InputChoice1:=Close,InputChoice2::=Close)\", \"FG\", \"\", \"Close\",$B$2,A83, \"all\",\"\", \"\",\"True\",\"T\")/100,\"\")","v":-0.119382630579},null,0.58000000000000085,0,{"$error":"#N/A"},null,{"$f":"IFERROR(RTD(\"cqg.rtd\",,\"StudyData\", \"Correlation(\"&$B$3&\",\"&AY$2&\",Period:=\"&$B$1&\",InputChoice1:=Close,InputChoice2::=Close)\", \"FG\", \"\", \"Close\",$B$2,A83, \"all\",\"\", \"\",\"True\",\"T\")/100,\"\")","v":0.59997443672299999},null,0.58000000000000085,3,{"$error":"#N/A"},null,{"$f":"IFERROR(RTD(\"cqg.rtd\",,\"StudyData\", \"Correlation(\"&$B$3&\",\"&BE$2&\",Period:=\"&$B$1&\",InputChoice1:=Close,InputChoice2::=Close)\", \"FG\", \"\", \"Close\",$B$2,A83, \"all\",\"\", \"\",\"True\",\"T\")/100,\"\")","v":0.40936374910600004},null,0.58000000000000085,0,{"$error":"#N/A"}]
[-80,null,{"$f":"IFERROR(RTD(\"cqg.rtd\",,\"StudyData\", \"Correlation(\"&$B$3&\",\"&C$2&\",Period:=\"&$B$1&\",InputChoice1:=Close,InputChoice2:=Close)\", \"FG\", \"\", \"Close\",$B$2,A84, \"all\",\"\", \"\",\"True\",\"T\")/100,\"\")","v":-0.74438231835199997},null,0.60000000000000087,1,{"$error":"#N/A"},null,{"$f":"IFERROR(RTD(\"cqg.rtd\",,\"StudyData\", \"Correlation(\"&$B$3&\",\"&I$2&\",Period:=\"&$B$1&\",InputChoice1:=Close,InputChoice2::=Close)\", \"FG\", \"\", \"Close\",$B$2,A84, \"all\",\"\", \"\",\"True\",\"T\")/100,\"\")","v":-0.79554589500700001},null,0.60000000000000087,2,{"$error":"#N/A"},null,{"$f":"IFERROR(RTD(\"cqg.rtd\",,\"StudyData\", \"Correlation(\"&$B$3&\",\"&O$2&\",Period:=\"&$B$1&\",InputChoice1:=Close,InputChoice2::=Close)\", \"FG\", \"\", \"Close\",$B$2,A84, \"all\",\"\", \"\",\"True\",\"T\")/100,\"\")","v":9.9692555438999991E-2},null,0.60000000000000087,4,{"$error":"#N/A"},null,{"$f":"IFERROR(RTD(\"cqg.rtd\",,\"StudyData\", \"Correlation(\"&$B$3&\",\"&U$2&\",Period:=\"&$B$1&\",InputChoice1:=Close,InputChoice2::=Close)\", \"FG\", \"\", \"Close\",$B$2,A84, \"all\",\"\", \"\",\"True\",\"T\")/100,\"\")","v":-0.7544786954449999},null,0.60000000000000087,0,{"$error":"#N/A"},null,{"$f":"IFERROR(RTD(\"cqg.rtd\",,\"StudyData\", \"Correlation(\"&$B$3&\",\"&AA$2&\",Period:=\"&$B$1&\",InputChoice1:=Close,InputChoice2::=Close)\", \"FG\", \"\", \"Close\",$B$2,A84, \"all\",\"\", \"\",\"True\",\"T\")/100,\"\")","v":-0.69217681348900006},null,0.60000000000000087,3,{"$error":"#N/A"},null,{"$f":"IFERROR(RTD(\"cqg.rtd\",,\"StudyData\", \"Correlation(\"&$B$3&\",\"&AG$2&\",Period:=\"&$B$1&\",InputChoice1:=Close,InputChoice2::=Close)\", \"FG\", \"\", \"Close\",$B$2,A84, \"all\",\"\", \"\",\"True\",\"T\")/100,\"\")","v":-0.74633161036000006},null,0.60000000000000087,2,{"$error":"#N/A"},null,{"$f":"IFERROR(RTD(\"cqg.rtd\",,\"StudyData\", \"Correlation(\"&$B$3&\",\"&AM$2&\",Period:=\"&$B$1&\",InputChoice1:=Close,InputChoice2::=Close)\", \"FG\", \"\", \"Close\",$B$2,A84, \"all\",\"\", \"\",\"True\",\"T\")/100,\"\")","v":-0.72258446778399998},null,0.60000000000000087,2,{"$error":"#N/A"},null,{"$f":"IFERROR(RTD(\"cqg.rtd\",,\"StudyData\", \"Correlation(\"&$B$3&\",\"&AS$2&\",Period:=\"&$B$1&\",InputChoice1:=Close,InputChoice2::=Close)\", \"FG\", \"\", \"Close\",$B$2,A84, \"all\",\"\", \"\",\"True\",\"T\")/100,\"\")","v":-0.44078380377699999},null,0.60000000000000087,0,{"$error":"#N/A"},null,{"$f":"IFERROR(RTD(\"cqg.rtd\",,\"StudyData\", \"Correlation(\"&$B$3&\",\"&AY$2&\",Period:=\"&$B$1&\",InputChoice1:=Close,InputChoice2::=Close)\", \"FG\", \"\", \"Close\",$B$2,A84, \"all\",\"\", \"\",\"True\",\"T\")/100,\"\")","v":0.66687174109300007},null,0.60000000000000087,4,{"$error":"#N/A"},null,{"$f":"IFERROR(RTD(\"cqg.rtd\",,\"StudyData\", \"Correlation(\"&$B$3&\",\"&BE$2&\",Period:=\"&$B$1&\",InputChoice1:=Close,InputChoice2::=Close)\", \"FG\", \"\", \"Close\",$B$2,A84, \"all\",\"\", \"\",\"True\",\"T\")/100,\"\")","v":0.51501976602900001},null,0.60000000000000087,6,{"$error":"#N/A"}]
[-81,null,{"$f":"IFERROR(RTD(\"cqg.rtd\",,\"StudyData\", \"Correlation(\"&$B$3&\",\"&C$2&\",Period:=\"&$B$1&\",InputChoice1:=Close,InputChoice2:=Close)\", \"FG\", \"\", \"Close\",$B$2,A85, \"all\",\"\", \"\",\"True\",\"T\")/100,\"\")","v":-0.75201820685399989},null,0.62000000000000088,1,{"$error":"#N/A"},null,{"$f":"IFERROR(RTD(\"cqg.rtd\",,\"StudyData\", \"Correlation(\"&$B$3&\",\"&I$2&\",Period:=\"&$B$1&\",InputChoice1:=Close,InputChoice2::=Close)\", \"FG\", \"\", \"Close\",$B$2,A85, \"all\",\"\", \"\",\"True\",\"T\")/100,\"\")","v":-0.79748390515300005},null,0.62000000000000088,1,{"$error":"#N/A"},null,{"$f":"IFERROR(RTD(\"cqg.rtd\",,\"StudyData\", \"Correlation(\"&$B$3&\",\"&O$2&\",Period:=\"&$B$1&\",InputChoice1:=Close,InputChoice2::=Close)\", \"FG\", \"\", \"Close\",$B$2,A85, \"all\",\"\", \"\",\"True\",\"T\")/100,\"\")","v":-0.14563528083499999},null,0.62000000000000088,1,{"$error":"#N/A"},null,{"$f":"IFERROR(RTD(\"cqg.rtd\",,\"StudyData\", \"Correlation(\"&$B$3&\",\"&U$2&\",Period:=\"&$B$1&\",InputChoice1:=Close,InputChoice2::=Close)\", \"FG\", \"\", \"Close\",$B$2,A85, \"all\",\"\", \"\",\"True\",\"T\")/100,\"\")","v":-0.78631451981300005},null,0.62000000000000088,0,{"$error":"#N/A"},null,{"$f":"IFERROR(RTD(\"cqg.rtd\",,\"StudyData\", \"Correlation(\"&$B$3&\",\"&AA$2&\",Period:=\"&$B$1&\",InputChoice1:=Close,InputChoice2::=Close)\", \"FG\", \"\", \"Close\",$B$2,A85, \"all\",\"\", \"\",\"True\",\"T\")/100,\"\")","v":-0.72191812015500001},null,0.62000000000000088,1,{"$error":"#N/A"},null,{"$f":"IFERROR(RTD(\"cqg.rtd\",,\"StudyData\", \"Correlation(\"&$B$3&\",\"&AG$2&\",Period:=\"&$B$1&\",InputChoice1:=Close,InputChoice2::=Close)\", \"FG\", \"\", \"Close\",$B$2,A85, \"all\",\"\", \"\",\"True\",\"T\")/100,\"\")","v":-0.79380563813999994},null,0.62000000000000088,0,{"$error":"#N/A"},null,{"$f":"IFERROR(RTD(\"cqg.rtd\",,\"StudyData\", \"Correlation(\"&$B$3&\",\"&AM$2&\",Period:=\"&$B$1&\",InputChoice1:=Close,InputChoice2::=Close)\", \"FG\", \"\", \"Close\",$B$2,A85, \"all\",\"\", \"\",\"True\",\"T\")/100,\"\")","v":-0.74668554001999998},null,0.62000000000000088,2,{"$error":"#N/A"},null,{"$f":"IFERROR(RTD(\"cqg.rtd\",,\"StudyData\", \"Correlation(\"&$B$3&\",\"&AS$2&\",Period:=\"&$B$1&\",InputChoice1:=Close,InputChoice2::=Close)\", \"FG\", \"\", \"Close\",$B$2,A85, \"all\",\"\", \"\",\"True\",\"T\")/100,\"\")","v":-0.35455976983799997},null,0.62000000000000088,0,{"$error":"#N/A"},null,{"$f":"IFERROR(RTD(\"cqg.rtd\",,\"StudyData\", \"Correlation(\"&$B$3&\",\"&AY$2&\",Period:=\"&$B$1&\",InputChoice1:=Close,InputChoice2::=Close)\", \"FG\", \"\", \"Close\",$B$2,A85, \"all\",\"\", \"\",\"True\",\"T\")/100,\"\")","v":0.67275270159800005},null,0.62000000000000088,1,{"$error":"#N/A"},null,{"$f":"IFERROR(RTD(\"cqg.rtd\",,\"StudyData\", \"Correlation(\"&$B$3&\",\"&BE$2&\",Period:=\"&$B$1&\",InputChoice1:=Close,InputChoice2::=Close)\", \"FG\", \"\", \"Close\",$B$2,A85, \"all\",\"\", \"\",\"True\",\"T\")/100,\"\")","v":0.58980304027800001},null,0.62000000000000088,7,{"$error":"#N/A"}]
[-82,null,{"$f":"IFERROR(RTD(\"cqg.rtd\",,\"StudyData\", \"Correlation(\"&$B$3&\",\"&C$2&\",Period:=\"&$B$1&\",InputChoice1:=Close,InputChoice2:=Close)\", \"FG\", \"\", \"Close\",$B$2,A86, \"all\",\"\", \"\",\"True\",\"T\")/100,\"\")","v":-0.79330736794599999},null,0.6400000000000009,0,{"$error":"#N/A"},null,{"$f":"IFERROR(RTD(\"cqg.rtd\",,\"StudyData\", \"Correlation(\"&$B$3&\",\"&I$2&\",Period:=\"&$B$1&\",InputChoice1:=Close,InputChoice2::=Close)\", \"FG\", \"\", \"Close\",$B$2,A86, \"all\",\"\", \"\",\"True\",\"T\")/100,\"\")","v":-0.79615897403000002},null,0.6400000000000009,0,{"$error":"#N/A"},null,{"$f":"IFERROR(RTD(\"cqg.rtd\",,\"StudyData\", \"Correlation(\"&$B$3&\",\"&O$2&\",Period:=\"&$B$1&\",InputChoice1:=Close,InputChoice2::=Close)\", \"FG\", \"\", \"Close\",$B$2,A86, \"all\",\"\", \"\",\"True\",\"T\")/100,\"\")","v":-0.25804430112599996},null,0.6400000000000009,4,{"$error":"#N/A"},null,{"$f":"IFERROR(RTD(\"cqg.rtd\",,\"StudyData\", \"Correlation(\"&$B$3&\",\"&U$2&\",Period:=\"&$B$1&\",InputChoice1:=Close,InputChoice2::=Close)\", \"FG\", \"\", \"Close\",$B$2,A86, \"all\",\"\", \"\",\"True\",\"T\")/100,\"\")","v":-0.79027675159099997},null,0.6400000000000009,0,{"$error":"#N/A"},null,{"$f":"IFERROR(RTD(\"cqg.rtd\",,\"StudyData\", \"Correlation(\"&$B$3&\",\"&AA$2&\",Period:=\"&$B$1&\",InputChoice1:=Close,InputChoice2::=Close)\", \"FG\", \"\", \"Close\",$B$2,A86, \"all\",\"\", \"\",\"True\",\"T\")/100,\"\")","v":-0.72847682320900009},null,0.6400000000000009,3,{"$error":"#N/A"},null,{"$f":"IFERROR(RTD(\"cqg.rtd\",,\"StudyData\", \"Correlation(\"&$B$3&\",\"&AG$2&\",Period:=\"&$B$1&\",InputChoice1:=Close,InputChoice2::=Close)\", \"FG\", \"\", \"Close\",$B$2,A86, \"all\",\"\", \"\",\"True\",\"T\")/100,\"\")","v":-0.80683287917900004},null,0.6400000000000009,3,{"$error":"#N/A"},null,{"$f":"IFERROR(RTD(\"cqg.rtd\",,\"StudyData\", \"Correlation(\"&$B$3&\",\"&AM$2&\",Period:=\"&$B$1&\",InputChoice1:=Close,InputChoice2::=Close)\", \"FG\", \"\", \"Close\",$B$2,A86, \"all\",\"\", \"\",\"True\",\"T\")/100,\"\")","v":-0.75394998182500006},null,0.6400000000000009,3,{"$error":"#N/A"},null,{"$f":"IFERROR(RTD(\"cqg.rtd\",,\"StudyData\", \"Correlation(\"&$B$3&\",\"&AS$2&\",Period:=\"&$B$1&\",InputChoice1:=Close,InputChoice2::=Close)\", \"FG\", \"\", \"Close\",$B$2,A86, \"all\",\"\", \"\",\"True\",\"T\")/100,\"\")","v":-0.26900781906799998},null,0.6400000000000009,0,{"$error":"#N/A"},null,{"$f":"IFERROR(RTD(\"cqg.rtd\",,\"StudyData\", \"Correlation(\"&$B$3&\",\"&AY$2&\",Period:=\"&$B$1&\",InputChoice1:=Close,InputChoice2::=Close)\", \"FG\", \"\", \"Close\",$B$2,A86, \"all\",\"\", \"\",\"True\",\"T\")/100,\"\")","v":0.68031539788900008},null,0.6400000000000009,2,{"$error":"#N/A"},null,{"$f":"IFERROR(RTD(\"cqg.rtd\",,\"StudyData\", \"Correlation(\"&$B$3&\",\"&BE$2&\",Period:=\"&$B$1&\",InputChoice1:=Close,InputChoice2::=Close)\", \"FG\", \"\", \"Close\",$B$2,A86, \"all\",\"\", \"\",\"True\",\"T\")/100,\"\")","v":0.60337002856599997},null,0.6400000000000009,0,{"$error":"#N/A"}]
[-83,null,{"$f":"IFERROR(RTD(\"cqg.rtd\",,\"StudyData\", \"Correlation(\"&$B$3&\",\"&C$2&\",Period:=\"&$B$1&\",InputChoice1:=Close,InputChoice2:=Close)\", \"FG\", \"\", \"Close\",$B$2,A87, \"all\",\"\", \"\",\"True\",\"T\")/100,\"\")","v":-0.80876383498299997},null,0.66000000000000092,0,{"$error":"#N/A"},null,{"$f":"IFERROR(RTD(\"cqg.rtd\",,\"StudyData\", \"Correlation(\"&$B$3&\",\"&I$2&\",Period:=\"&$B$1&\",InputChoice1:=Close,InputChoice2::=Close)\", \"FG\", \"\", \"Close\",$B$2,A87, \"all\",\"\", \"\",\"True\",\"T\")/100,\"\")","v":-0.821854707184},null,0.66000000000000092,4,{"$error":"#N/A"},null,{"$f":"IFERROR(RTD(\"cqg.rtd\",,\"StudyData\", \"Correlation(\"&$B$3&\",\"&O$2&\",Period:=\"&$B$1&\",InputChoice1:=Close,InputChoice2::=Close)\", \"FG\", \"\", \"Close\",$B$2,A87, \"all\",\"\", \"\",\"True\",\"T\")/100,\"\")","v":-0.29198324069100001},null,0.66000000000000092,6,{"$error":"#N/A"},null,{"$f":"IFERROR(RTD(\"cqg.rtd\",,\"StudyData\", \"Correlation(\"&$B$3&\",\"&U$2&\",Period:=\"&$B$1&\",InputChoice1:=Close,InputChoice2::=Close)\", \"FG\", \"\", \"Close\",$B$2,A87, \"all\",\"\", \"\",\"True\",\"T\")/100,\"\")","v":-0.78085698748900001},null,0.66000000000000092,1,{"$error":"#N/A"},null,{"$f":"IFERROR(RTD(\"cqg.rtd\",,\"StudyData\", \"Correlation(\"&$B$3&\",\"&AA$2&\",Period:=\"&$B$1&\",InputChoice1:=Close,InputChoice2::=Close)\", \"FG\", \"\", \"Close\",$B$2,A87, \"all\",\"\", \"\",\"True\",\"T\")/100,\"\")","v":-0.81964982177000001},null,0.66000000000000092,2,{"$error":"#N/A"},null,{"$f":"IFERROR(RTD(\"cqg.rtd\",,\"StudyData\", \"Correlation(\"&$B$3&\",\"&AG$2&\",Period:=\"&$B$1&\",InputChoice1:=Close,InputChoice2::=Close)\", \"FG\", \"\", \"Close\",$B$2,A87, \"all\",\"\", \"\",\"True\",\"T\")/100,\"\")","v":-0.87226424152199999},null,0.66000000000000092,1,{"$error":"#N/A"},null,{"$f":"IFERROR(RTD(\"cqg.rtd\",,\"StudyData\", \"Correlation(\"&$B$3&\",\"&AM$2&\",Period:=\"&$B$1&\",InputChoice1:=Close,InputChoice2::=Close)\", \"FG\", \"\", \"Close\",$B$2,A87, \"all\",\"\", \"\",\"True\",\"T\")/100,\"\")","v":-0.84972085632299998},null,0.66000000000000092,4,{"$error":"#N/A"},null,{"$f":"IFERROR(RTD(\"cqg.rtd\",,\"StudyData\", \"Correlation(\"&$B$3&\",\"&AS$2&\",Period:=\"&$B$1&\",InputChoice1:=Close,InputChoice2::=Close)\", \"FG\", \"\", \"Close\",$B$2,A87, \"all\",\"\", \"\",\"True\",\"T\")/100,\"\")","v":-0.28415860102000001},null,0.66000000000000092,0,{"$error":"#N/A"},null,{"$f":"IFERROR(RTD(\"cqg.rtd\",,\"StudyData\", \"Correlation(\"&$B$3&\",\"&AY$2&\",Period:=\"&$B$1&\",InputChoice1:=Close,InputChoice2::=Close)\", \"FG\", \"\", \"Close\",$B$2,A87, \"all\",\"\", \"\",\"True\",\"T\")/100,\"\")","v":0.58186204992099999},null,0.66000000000000092,1,{"$error":"#N/A"},null,{"$f":"IFERROR(RTD(\"cqg.rtd\",,\"StudyData\", \"Correlation(\"&$B$3&\",\"&BE$2&\",Period:=\"&$B$1&\",InputChoice1:=Close,InputChoice2::=Close)\", \"FG\", \"\", \"Close\",$B$2,A87, \"all\",\"\", \"\",\"True\",\"T\")/100,\"\")","v":0.61120065304999993},null,0.66000000000000092,4,{"$error":"#N/A"}]
[-84,null,{"$f":"IFERROR(RTD(\"cqg.rtd\",,\"StudyData\", \"Correlation(\"&$B$3&\",\"&C$2&\",Period:=\"&$B$1&\",InputChoice1:=Close,InputChoice2:=Close)\", \"FG\", \"\", \"Close\",$B$2,A88, \"all\",\"\", \"\",\"True\",\"T\")/100,\"\")","v":-0.82217173212600003},null,0.68000000000000094,0,{"$error":"#N/A"},null,{"$f":"IFERROR(RTD(\"cqg.rtd\",,\"StudyData\", \"Correlation(\"&$B$3&\",\"&I$2&\",Period:=\"&$B$1&\",InputChoice1:=Close,InputChoice2::=Close)\", \"FG\", \"\", \"Close\",$B$2,A88, \"all\",\"\", \"\",\"True\",\"T\")/100,\"\")","v":-0.82231061505199998},null,0.68000000000000094,4,{"$error":"#N/A"},null,{"$f":"IFERROR(RTD(\"cqg.rtd\",,\"StudyData\", \"Correlation(\"&$B$3&\",\"&O$2&\",Period:=\"&$B$1&\",InputChoice1:=Close,InputChoice2::=Close)\", \"FG\", \"\", \"Close\",$B$2,A88, \"all\",\"\", \"\",\"True\",\"T\")/100,\"\")","v":-0.29702381452299997},null,0.68000000000000094,2,{"$error":"#N/A"},null,{"$f":"IFERROR(RTD(\"cqg.rtd\",,\"StudyData\", \"Correlation(\"&$B$3&\",\"&U$2&\",Period:=\"&$B$1&\",InputChoice1:=Close,InputChoice2::=Close)\", \"FG\", \"\", \"Close\",$B$2,A88, \"all\",\"\", \"\",\"True\",\"T\")/100,\"\")","v":-0.81156369493400005},null,0.68000000000000094,0,{"$error":"#N/A"},null,{"$f":"IFERROR(RTD(\"cqg.rtd\",,\"StudyData\", \"Correlation(\"&$B$3&\",\"&AA$2&\",Period:=\"&$B$1&\",InputChoice1:=Close,InputChoice2::=Close)\", \"FG\", \"\", \"Close\",$B$2,A88, \"all\",\"\", \"\",\"True\",\"T\")/100,\"\")","v":-0.841231702857},null,0.68000000000000094,1,{"$error":"#N/A"},null,{"$f":"IFERROR(RTD(\"cqg.rtd\",,\"StudyData\", \"Correlation(\"&$B$3&\",\"&AG$2&\",Period:=\"&$B$1&\",InputChoice1:=Close,InputChoice2::=Close)\", \"FG\", \"\", \"Close\",$B$2,A88, \"all\",\"\", \"\",\"True\",\"T\")/100,\"\")","v":-0.88955377697299998},null,0.68000000000000094,1,{"$error":"#N/A"},null,{"$f":"IFERROR(RTD(\"cqg.rtd\",,\"StudyData\", \"Correlation(\"&$B$3&\",\"&AM$2&\",Period:=\"&$B$1&\",InputChoice1:=Close,InputChoice2::=Close)\", \"FG\", \"\", \"Close\",$B$2,A88, \"all\",\"\", \"\",\"True\",\"T\")/100,\"\")","v":-0.85994748801300003},null,0.68000000000000094,0,{"$error":"#N/A"},null,{"$f":"IFERROR(RTD(\"cqg.rtd\",,\"StudyData\", \"Correlation(\"&$B$3&\",\"&AS$2&\",Period:=\"&$B$1&\",InputChoice1:=Close,InputChoice2::=Close)\", \"FG\", \"\", \"Close\",$B$2,A88, \"all\",\"\", \"\",\"True\",\"T\")/100,\"\")","v":-0.22993754047700002},null,0.68000000000000094,0,{"$error":"#N/A"},null,{"$f":"IFERROR(RTD(\"cqg.rtd\",,\"StudyData\", \"Correlation(\"&$B$3&\",\"&AY$2&\",Period:=\"&$B$1&\",InputChoice1:=Close,InputChoice2::=Close)\", \"FG\", \"\", \"Close\",$B$2,A88, \"all\",\"\", \"\",\"True\",\"T\")/100,\"\")","v":0.42615282446899999},null,0.68000000000000094,4,{"$error":"#N/A"},null,{"$f":"IFERROR(RTD(\"cqg.rtd\",,\"StudyData\", \"Correlation(\"&$B$3&\",\"&BE$2&\",Period:=\"&$B$1&\",InputChoice1:=Close,InputChoice2::=Close)\", \"FG\", \"\", \"Close\",$B$2,A88, \"all\",\"\", \"\",\"True\",\"T\")/100,\"\")","v":0.59933040768000001},null,0.68000000000000094,2,{"$error":"#N/A"}]
[-85,null,{"$f":"IFERROR(RTD(\"cqg.rtd\",,\"StudyData\", \"Correlation(\"&$B$3&\",\"&C$2&\",Period:=\"&$B$1&\",InputChoice1:=Close,InputChoice2:=Close)\", \"FG\", \"\", \"Close\",$B$2,A89, \"all\",\"\", \"\",\"True\",\"T\")/100,\"\")","v":-0.81162151671499994},null,0.70000000000000095,0,{"$error":"#N/A"},null,{"$f":"IFERROR(RTD(\"cqg.rtd\",,\"StudyData\", \"Correlation(\"&$B$3&\",\"&I$2&\",Period:=\"&$B$1&\",InputChoice1:=Close,InputChoice2::=Close)\", \"FG\", \"\", \"Close\",$B$2,A89, \"all\",\"\", \"\",\"True\",\"T\")/100,\"\")","v":-0.8345615945999999},null,0.70000000000000095,4,{"$error":"#N/A"},null,{"$f":"IFERROR(RTD(\"cqg.rtd\",,\"StudyData\", \"Correlation(\"&$B$3&\",\"&O$2&\",Period:=\"&$B$1&\",InputChoice1:=Close,InputChoice2::=Close)\", \"FG\", \"\", \"Close\",$B$2,A89, \"all\",\"\", \"\",\"True\",\"T\")/100,\"\")","v":-0.28227741909100001},null,0.70000000000000095,4,{"$error":"#N/A"},null,{"$f":"IFERROR(RTD(\"cqg.rtd\",,\"StudyData\", \"Correlation(\"&$B$3&\",\"&U$2&\",Period:=\"&$B$1&\",InputChoice1:=Close,InputChoice2::=Close)\", \"FG\", \"\", \"Close\",$B$2,A89, \"all\",\"\", \"\",\"True\",\"T\")/100,\"\")","v":-0.81162449383400004},null,0.70000000000000095,0,{"$error":"#N/A"},null,{"$f":"IFERROR(RTD(\"cqg.rtd\",,\"StudyData\", \"Correlation(\"&$B$3&\",\"&AA$2&\",Period:=\"&$B$1&\",InputChoice1:=Close,InputChoice2::=Close)\", \"FG\", \"\", \"Close\",$B$2,A89, \"all\",\"\", \"\",\"True\",\"T\")/100,\"\")","v":-0.86083020993500003},null,0.70000000000000095,1,{"$error":"#N/A"},null,{"$f":"IFERROR(RTD(\"cqg.rtd\",,\"StudyData\", \"Correlation(\"&$B$3&\",\"&AG$2&\",Period:=\"&$B$1&\",InputChoice1:=Close,InputChoice2::=Close)\", \"FG\", \"\", \"Close\",$B$2,A89, \"all\",\"\", \"\",\"True\",\"T\")/100,\"\")","v":-0.896147851775},null,0.70000000000000095,1,{"$error":"#N/A"},null,{"$f":"IFERROR(RTD(\"cqg.rtd\",,\"StudyData\", \"Correlation(\"&$B$3&\",\"&AM$2&\",Period:=\"&$B$1&\",InputChoice1:=Close,InputChoice2::=Close)\", \"FG\", \"\", \"Close\",$B$2,A89, \"all\",\"\", \"\",\"True\",\"T\")/100,\"\")","v":-0.88036367531600002},null,0.70000000000000095,0,{"$error":"#N/A"},null,{"$f":"IFERROR(RTD(\"cqg.rtd\",,\"StudyData\", \"Correlation(\"&$B$3&\",\"&AS$2&\",Period:=\"&$B$1&\",InputChoice1:=Close,InputChoice2::=Close)\", \"FG\", \"\", \"Close\",$B$2,A89, \"all\",\"\", \"\",\"True\",\"T\")/100,\"\")","v":-3.2316006379999999E-3},null,0.70000000000000095,0,{"$error":"#N/A"},null,{"$f":"IFERROR(RTD(\"cqg.rtd\",,\"StudyData\", \"Correlation(\"&$B$3&\",\"&AY$2&\",Period:=\"&$B$1&\",InputChoice1:=Close,InputChoice2::=Close)\", \"FG\", \"\", \"Close\",$B$2,A89, \"all\",\"\", \"\",\"True\",\"T\")/100,\"\")","v":0.213102097716},null,0.70000000000000095,2,{"$error":"#N/A"},null,{"$f":"IFERROR(RTD(\"cqg.rtd\",,\"StudyData\", \"Correlation(\"&$B$3&\",\"&BE$2&\",Period:=\"&$B$1&\",InputChoice1:=Close,InputChoice2::=Close)\", \"FG\", \"\", \"Close\",$B$2,A89, \"all\",\"\", \"\",\"True\",\"T\")/100,\"\")","v":0.60461891410400004},null,0.70000000000000095,0,{"$error":"#N/A"}]
[-86,null,{"$f":"IFERROR(RTD(\"cqg.rtd\",,\"StudyData\", \"Correlation(\"&$B$3&\",\"&C$2&\",Period:=\"&$B$1&\",InputChoice1:=Close,InputChoice2:=Close)\", \"FG\", \"\", \"Close\",$B$2,A90, \"all\",\"\", \"\",\"True\",\"T\")/100,\"\")","v":-0.78969714583899997},null,0.72000000000000097,0,{"$error":"#N/A"},null,{"$f":"IFERROR(RTD(\"cqg.rtd\",,\"StudyData\", \"Correlation(\"&$B$3&\",\"&I$2&\",Period:=\"&$B$1&\",InputChoice1:=Close,InputChoice2::=Close)\", \"FG\", \"\", \"Close\",$B$2,A90, \"all\",\"\", \"\",\"True\",\"T\")/100,\"\")","v":-0.82365800082899998},null,0.72000000000000097,1,{"$error":"#N/A"},null,{"$f":"IFERROR(RTD(\"cqg.rtd\",,\"StudyData\", \"Correlation(\"&$B$3&\",\"&O$2&\",Period:=\"&$B$1&\",InputChoice1:=Close,InputChoice2::=Close)\", \"FG\", \"\", \"Close\",$B$2,A90, \"all\",\"\", \"\",\"True\",\"T\")/100,\"\")","v":-0.43570471901899999},null,0.72000000000000097,3,{"$error":"#N/A"},null,{"$f":"IFERROR(RTD(\"cqg.rtd\",,\"StudyData\", \"Correlation(\"&$B$3&\",\"&U$2&\",Period:=\"&$B$1&\",InputChoice1:=Close,InputChoice2::=Close)\", \"FG\", \"\", \"Close\",$B$2,A90, \"all\",\"\", \"\",\"True\",\"T\")/100,\"\")","v":-0.82305008735700003},null,0.72000000000000097,1,{"$error":"#N/A"},null,{"$f":"IFERROR(RTD(\"cqg.rtd\",,\"StudyData\", \"Correlation(\"&$B$3&\",\"&AA$2&\",Period:=\"&$B$1&\",InputChoice1:=Close,InputChoice2::=Close)\", \"FG\", \"\", \"Close\",$B$2,A90, \"all\",\"\", \"\",\"True\",\"T\")/100,\"\")","v":-0.84506021601799997},null,0.72000000000000097,1,{"$error":"#N/A"},null,{"$f":"IFERROR(RTD(\"cqg.rtd\",,\"StudyData\", \"Correlation(\"&$B$3&\",\"&AG$2&\",Period:=\"&$B$1&\",InputChoice1:=Close,InputChoice2::=Close)\", \"FG\", \"\", \"Close\",$B$2,A90, \"all\",\"\", \"\",\"True\",\"T\")/100,\"\")","v":-0.86664464926099993},null,0.72000000000000097,2,{"$error":"#N/A"},null,{"$f":"IFERROR(RTD(\"cqg.rtd\",,\"StudyData\", \"Correlation(\"&$B$3&\",\"&AM$2&\",Period:=\"&$B$1&\",InputChoice1:=Close,InputChoice2::=Close)\", \"FG\", \"\", \"Close\",$B$2,A90, \"all\",\"\", \"\",\"True\",\"T\")/100,\"\")","v":-0.87758447182200006},null,0.72000000000000097,1,{"$error":"#N/A"},null,{"$f":"IFERROR(RTD(\"cqg.rtd\",,\"StudyData\", \"Correlation(\"&$B$3&\",\"&AS$2&\",Period:=\"&$B$1&\",InputChoice1:=Close,InputChoice2::=Close)\", \"FG\", \"\", \"Close\",$B$2,A90, \"all\",\"\", \"\",\"True\",\"T\")/100,\"\")","v":0.191071087744},null,0.72000000000000097,0,{"$error":"#N/A"},null,{"$f":"IFERROR(RTD(\"cqg.rtd\",,\"StudyData\", \"Correlation(\"&$B$3&\",\"&AY$2&\",Period:=\"&$B$1&\",InputChoice1:=Close,InputChoice2::=Close)\", \"FG\", \"\", \"Close\",$B$2,A90, \"all\",\"\", \"\",\"True\",\"T\")/100,\"\")","v":3.0484829790000001E-2},null,0.72000000000000097,3,{"$error":"#N/A"},null,{"$f":"IFERROR(RTD(\"cqg.rtd\",,\"StudyData\", \"Correlation(\"&$B$3&\",\"&BE$2&\",Period:=\"&$B$1&\",InputChoice1:=Close,InputChoice2::=Close)\", \"FG\", \"\", \"Close\",$B$2,A90, \"all\",\"\", \"\",\"True\",\"T\")/100,\"\")","v":0.64555740457800004},null,0.72000000000000097,1,{"$error":"#N/A"}]
[-87,null,{"$f":"IFERROR(RTD(\"cqg.rtd\",,\"StudyData\", \"Correlation(\"&$B$3&\",\"&C$2&\",Period:=\"&$B$1&\",InputChoice1:=Close,InputChoice2:=Close)\", \"FG\", \"\", \"Close\",$B$2,A91, \"all\",\"\", \"\",\"True\",\"T\")/100,\"\")","v":-0.74811632955999996},null,0.74000000000000099,0,{"$error":"#N/A"},null,{"$f":"IFERROR(RTD(\"cqg.rtd\",,\"StudyData\", \"Correlation(\"&$B$3&\",\"&I$2&\",Period:=\"&$B$1&\",InputChoice1:=Close,InputChoice2::=Close)\", \"FG\", \"\", \"Close\",$B$2,A91, \"all\",\"\", \"\",\"True\",\"T\")/100,\"\")","v":-0.78432136113499995},null,0.74000000000000099,1,{"$error":"#N/A"},null,{"$f":"IFERROR(RTD(\"cqg.rtd\",,\"StudyData\", \"Correlation(\"&$B$3&\",\"&O$2&\",Period:=\"&$B$1&\",InputChoice1:=Close,InputChoice2::=Close)\", \"FG\", \"\", \"Close\",$B$2,A91, \"all\",\"\", \"\",\"True\",\"T\")/100,\"\")","v":-0.48766462207700001},null,0.74000000000000099,6,{"$error":"#N/A"},null,{"$f":"IFERROR(RTD(\"cqg.rtd\",,\"StudyData\", \"Correlation(\"&$B$3&\",\"&U$2&\",Period:=\"&$B$1&\",InputChoice1:=Close,InputChoice2::=Close)\", \"FG\", \"\", \"Close\",$B$2,A91, \"all\",\"\", \"\",\"True\",\"T\")/100,\"\")","v":-0.81900726392000001},null,0.74000000000000099,1,{"$error":"#N/A"},null,{"$f":"IFERROR(RTD(\"cqg.rtd\",,\"StudyData\", \"Correlation(\"&$B$3&\",\"&AA$2&\",Period:=\"&$B$1&\",InputChoice1:=Close,InputChoice2::=Close)\", \"FG\", \"\", \"Close\",$B$2,A91, \"all\",\"\", \"\",\"True\",\"T\")/100,\"\")","v":-0.78942439167100009},null,0.74000000000000099,2,{"$error":"#N/A"},null,{"$f":"IFERROR(RTD(\"cqg.rtd\",,\"StudyData\", \"Correlation(\"&$B$3&\",\"&AG$2&\",Period:=\"&$B$1&\",InputChoice1:=Close,InputChoice2::=Close)\", \"FG\", \"\", \"Close\",$B$2,A91, \"all\",\"\", \"\",\"True\",\"T\")/100,\"\")","v":-0.76934932720500004},null,0.74000000000000099,0,{"$error":"#N/A"},null,{"$f":"IFERROR(RTD(\"cqg.rtd\",,\"StudyData\", \"Correlation(\"&$B$3&\",\"&AM$2&\",Period:=\"&$B$1&\",InputChoice1:=Close,InputChoice2::=Close)\", \"FG\", \"\", \"Close\",$B$2,A91, \"all\",\"\", \"\",\"True\",\"T\")/100,\"\")","v":-0.86601656852999997},null,0.74000000000000099,2,{"$error":"#N/A"},null,{"$f":"IFERROR(RTD(\"cqg.rtd\",,\"StudyData\", \"Correlation(\"&$B$3&\",\"&AS$2&\",Period:=\"&$B$1&\",InputChoice1:=Close,InputChoice2::=Close)\", \"FG\", \"\", \"Close\",$B$2,A91, \"all\",\"\", \"\",\"True\",\"T\")/100,\"\")","v":0.30499795137800001},null,0.74000000000000099,0,{"$error":"#N/A"},null,{"$f":"IFERROR(RTD(\"cqg.rtd\",,\"StudyData\", \"Correlation(\"&$B$3&\",\"&AY$2&\",Period:=\"&$B$1&\",InputChoice1:=Close,InputChoice2::=Close)\", \"FG\", \"\", \"Close\",$B$2,A91, \"all\",\"\", \"\",\"True\",\"T\")/100,\"\")","v":-8.9100412081000002E-2},null,0.74000000000000099,0,{"$error":"#N/A"},null,{"$f":"IFERROR(RTD(\"cqg.rtd\",,\"StudyData\", \"Correlation(\"&$B$3&\",\"&BE$2&\",Period:=\"&$B$1&\",InputChoice1:=Close,InputChoice2::=Close)\", \"FG\", \"\", \"Close\",$B$2,A91, \"all\",\"\", \"\",\"True\",\"T\")/100,\"\")","v":0.715356896721},null,0.74000000000000099,1,{"$error":"#N/A"}]
[-88,null,{"$f":"IFERROR(RTD(\"cqg.rtd\",,\"StudyData\", \"Correlation(\"&$B$3&\",\"&C$2&\",Period:=\"&$B$1&\",InputChoice1:=Close,InputChoice2:=Close)\", \"FG\", \"\", \"Close\",$B$2,A92, \"all\",\"\", \"\",\"True\",\"T\")/100,\"\")","v":-0.7305449405890001},null,0.76000000000000101,0,{"$error":"#N/A"},null,{"$f":"IFERROR(RTD(\"cqg.rtd\",,\"StudyData\", \"Correlation(\"&$B$3&\",\"&I$2&\",Period:=\"&$B$1&\",InputChoice1:=Close,InputChoice2::=Close)\", \"FG\", \"\", \"Close\",$B$2,A92, \"all\",\"\", \"\",\"True\",\"T\")/100,\"\")","v":-0.76673788563100009},null,0.76000000000000101,1,{"$error":"#N/A"},null,{"$f":"IFERROR(RTD(\"cqg.rtd\",,\"StudyData\", \"Correlation(\"&$B$3&\",\"&O$2&\",Period:=\"&$B$1&\",InputChoice1:=Close,InputChoice2::=Close)\", \"FG\", \"\", \"Close\",$B$2,A92, \"all\",\"\", \"\",\"True\",\"T\")/100,\"\")","v":-0.56342376023500007},null,0.76000000000000101,1,{"$error":"#N/A"},null,{"$f":"IFERROR(RTD(\"cqg.rtd\",,\"StudyData\", \"Correlation(\"&$B$3&\",\"&U$2&\",Period:=\"&$B$1&\",InputChoice1:=Close,InputChoice2::=Close)\", \"FG\", \"\", \"Close\",$B$2,A92, \"all\",\"\", \"\",\"True\",\"T\")/100,\"\")","v":-0.78779296095999995},null,0.76000000000000101,0,{"$error":"#N/A"},null,{"$f":"IFERROR(RTD(\"cqg.rtd\",,\"StudyData\", \"Correlation(\"&$B$3&\",\"&AA$2&\",Period:=\"&$B$1&\",InputChoice1:=Close,InputChoice2::=Close)\", \"FG\", \"\", \"Close\",$B$2,A92, \"all\",\"\", \"\",\"True\",\"T\")/100,\"\")","v":-0.75816365153499998},null,0.76000000000000101,0,{"$error":"#N/A"},null,{"$f":"IFERROR(RTD(\"cqg.rtd\",,\"StudyData\", \"Correlation(\"&$B$3&\",\"&AG$2&\",Period:=\"&$B$1&\",InputChoice1:=Close,InputChoice2::=Close)\", \"FG\", \"\", \"Close\",$B$2,A92, \"all\",\"\", \"\",\"True\",\"T\")/100,\"\")","v":-0.69205823301500002},null,0.76000000000000101,0,{"$error":"#N/A"},null,{"$f":"IFERROR(RTD(\"cqg.rtd\",,\"StudyData\", \"Correlation(\"&$B$3&\",\"&AM$2&\",Period:=\"&$B$1&\",InputChoice1:=Close,InputChoice2::=Close)\", \"FG\", \"\", \"Close\",$B$2,A92, \"all\",\"\", \"\",\"True\",\"T\")/100,\"\")","v":-0.86462924217500003},null,0.76000000000000101,0,{"$error":"#N/A"},null,{"$f":"IFERROR(RTD(\"cqg.rtd\",,\"StudyData\", \"Correlation(\"&$B$3&\",\"&AS$2&\",Period:=\"&$B$1&\",InputChoice1:=Close,InputChoice2::=Close)\", \"FG\", \"\", \"Close\",$B$2,A92, \"all\",\"\", \"\",\"True\",\"T\")/100,\"\")","v":0.36790500631599998},null,0.76000000000000101,0,{"$error":"#N/A"},null,{"$f":"IFERROR(RTD(\"cqg.rtd\",,\"StudyData\", \"Correlation(\"&$B$3&\",\"&AY$2&\",Period:=\"&$B$1&\",InputChoice1:=Close,InputChoice2::=Close)\", \"FG\", \"\", \"Close\",$B$2,A92, \"all\",\"\", \"\",\"True\",\"T\")/100,\"\")","v":-0.11633343301100001},null,0.76000000000000101,0,{"$error":"#N/A"},null,{"$f":"IFERROR(RTD(\"cqg.rtd\",,\"StudyData\", \"Correlation(\"&$B$3&\",\"&BE$2&\",Period:=\"&$B$1&\",InputChoice1:=Close,InputChoice2::=Close)\", \"FG\", \"\", \"Close\",$B$2,A92, \"all\",\"\", \"\",\"True\",\"T\")/100,\"\")","v":0.73855207816699997},null,0.76000000000000101,1,{"$error":"#N/A"}]
[-89,null,{"$f":"IFERROR(RTD(\"cqg.rtd\",,\"StudyData\", \"Correlation(\"&$B$3&\",\"&C$2&\",Period:=\"&$B$1&\",InputChoice1:=Close,InputChoice2:=Close)\", \"FG\", \"\", \"Close\",$B$2,A93, \"all\",\"\", \"\",\"True\",\"T\")/100,\"\")","v":-0.67671669711399995},null,0.78000000000000103,0,{"$error":"#N/A"},null,{"$f":"IFERROR(RTD(\"cqg.rtd\",,\"StudyData\", \"Correlation(\"&$B$3&\",\"&I$2&\",Period:=\"&$B$1&\",InputChoice1:=Close,InputChoice2::=Close)\", \"FG\", \"\", \"Close\",$B$2,A93, \"all\",\"\", \"\",\"True\",\"T\")/100,\"\")","v":-0.74123549982199999},null,0.78000000000000103,0,{"$error":"#N/A"},null,{"$f":"IFERROR(RTD(\"cqg.rtd\",,\"StudyData\", \"Correlation(\"&$B$3&\",\"&O$2&\",Period:=\"&$B$1&\",InputChoice1:=Close,InputChoice2::=Close)\", \"FG\", \"\", \"Close\",$B$2,A93, \"all\",\"\", \"\",\"True\",\"T\")/100,\"\")","v":-0.56938305497599995},null,0.78000000000000103,0,{"$error":"#N/A"},null,{"$f":"IFERROR(RTD(\"cqg.rtd\",,\"StudyData\", \"Correlation(\"&$B$3&\",\"&U$2&\",Period:=\"&$B$1&\",InputChoice1:=Close,InputChoice2::=Close)\", \"FG\", \"\", \"Close\",$B$2,A93, \"all\",\"\", \"\",\"True\",\"T\")/100,\"\")","v":-0.77045304374400003},null,0.78000000000000103,2,{"$error":"#N/A"},null,{"$f":"IFERROR(RTD(\"cqg.rtd\",,\"StudyData\", \"Correlation(\"&$B$3&\",\"&AA$2&\",Period:=\"&$B$1&\",InputChoice1:=Close,InputChoice2::=Close)\", \"FG\", \"\", \"Close\",$B$2,A93, \"all\",\"\", \"\",\"True\",\"T\")/100,\"\")","v":-0.71663318035000001},null,0.78000000000000103,0,{"$error":"#N/A"},null,{"$f":"IFERROR(RTD(\"cqg.rtd\",,\"StudyData\", \"Correlation(\"&$B$3&\",\"&AG$2&\",Period:=\"&$B$1&\",InputChoice1:=Close,InputChoice2::=Close)\", \"FG\", \"\", \"Close\",$B$2,A93, \"all\",\"\", \"\",\"True\",\"T\")/100,\"\")","v":-0.60566157264800002},null,0.78000000000000103,0,{"$error":"#N/A"},null,{"$f":"IFERROR(RTD(\"cqg.rtd\",,\"StudyData\", \"Correlation(\"&$B$3&\",\"&AM$2&\",Period:=\"&$B$1&\",InputChoice1:=Close,InputChoice2::=Close)\", \"FG\", \"\", \"Close\",$B$2,A93, \"all\",\"\", \"\",\"True\",\"T\")/100,\"\")","v":-0.84532682034100004},null,0.78000000000000103,0,{"$error":"#N/A"},null,{"$f":"IFERROR(RTD(\"cqg.rtd\",,\"StudyData\", \"Correlation(\"&$B$3&\",\"&AS$2&\",Period:=\"&$B$1&\",InputChoice1:=Close,InputChoice2::=Close)\", \"FG\", \"\", \"Close\",$B$2,A93, \"all\",\"\", \"\",\"True\",\"T\")/100,\"\")","v":0.36768950671200001},null,0.78000000000000103,0,{"$error":"#N/A"},null,{"$f":"IFERROR(RTD(\"cqg.rtd\",,\"StudyData\", \"Correlation(\"&$B$3&\",\"&AY$2&\",Period:=\"&$B$1&\",InputChoice1:=Close,InputChoice2::=Close)\", \"FG\", \"\", \"Close\",$B$2,A93, \"all\",\"\", \"\",\"True\",\"T\")/100,\"\")","v":-0.10146487400400001},null,0.78000000000000103,0,{"$error":"#N/A"},null,{"$f":"IFERROR(RTD(\"cqg.rtd\",,\"StudyData\", \"Correlation(\"&$B$3&\",\"&BE$2&\",Period:=\"&$B$1&\",InputChoice1:=Close,InputChoice2::=Close)\", \"FG\", \"\", \"Close\",$B$2,A93, \"all\",\"\", \"\",\"True\",\"T\")/100,\"\")","v":0.7570208655659999},null,0.78000000000000103,0,{"$error":"#N/A"}]
[-90,null,{"$f":"IFERROR(RTD(\"cqg.rtd\",,\"StudyData\", \"Correlation(\"&$B$3&\",\"&C$2&\",Period:=\"&$B$1&\",InputChoice1:=Close,InputChoice2:=Close)\", \"FG\", \"\", \"Close\",$B$2,A94, \"all\",\"\", \"\",\"True\",\"T\")/100,\"\")","v":-0.62952924266300003},null,0.80000000000000104,0,{"$error":"#N/A"},null,{"$f":"IFERROR(RTD(\"cqg.rtd\",,\"StudyData\", \"Correlation(\"&$B$3&\",\"&I$2&\",Period:=\"&$B$1&\",InputChoice1:=Close,InputChoice2::=Close)\", \"FG\", \"\", \"Close\",$B$2,A94, \"all\",\"\", \"\",\"True\",\"T\")/100,\"\")","v":-0.68428743856800001},null,0.80000000000000104,0,{"$error":"#N/A"},null,{"$f":"IFERROR(RTD(\"cqg.rtd\",,\"StudyData\", \"Correlation(\"&$B$3&\",\"&O$2&\",Period:=\"&$B$1&\",InputChoice1:=Close,InputChoice2::=Close)\", \"FG\", \"\", \"Close\",$B$2,A94, \"all\",\"\", \"\",\"True\",\"T\")/100,\"\")","v":-0.60468387406900004},null,0.80000000000000104,0,{"$error":"#N/A"},null,{"$f":"IFERROR(RTD(\"cqg.rtd\",,\"StudyData\", \"Correlation(\"&$B$3&\",\"&U$2&\",Period:=\"&$B$1&\",InputChoice1:=Close,InputChoice2::=Close)\", \"FG\", \"\", \"Close\",$B$2,A94, \"all\",\"\", \"\",\"True\",\"T\")/100,\"\")","v":-0.74664630175400004},null,0.80000000000000104,3,{"$error":"#N/A"},null,{"$f":"IFERROR(RTD(\"cqg.rtd\",,\"StudyData\", \"Correlation(\"&$B$3&\",\"&AA$2&\",Period:=\"&$B$1&\",InputChoice1:=Close,InputChoice2::=Close)\", \"FG\", \"\", \"Close\",$B$2,A94, \"all\",\"\", \"\",\"True\",\"T\")/100,\"\")","v":-0.69287327629200002},null,0.80000000000000104,2,{"$error":"#N/A"},null,{"$f":"IFERROR(RTD(\"cqg.rtd\",,\"StudyData\", \"Correlation(\"&$B$3&\",\"&AG$2&\",Period:=\"&$B$1&\",InputChoice1:=Close,InputChoice2::=Close)\", \"FG\", \"\", \"Close\",$B$2,A94, \"all\",\"\", \"\",\"True\",\"T\")/100,\"\")","v":-0.54108897775999998},null,0.80000000000000104,0,{"$error":"#N/A"},null,{"$f":"IFERROR(RTD(\"cqg.rtd\",,\"StudyData\", \"Correlation(\"&$B$3&\",\"&AM$2&\",Period:=\"&$B$1&\",InputChoice1:=Close,InputChoice2::=Close)\", \"FG\", \"\", \"Close\",$B$2,A94, \"all\",\"\", \"\",\"True\",\"T\")/100,\"\")","v":-0.83879663079699995},null,0.80000000000000104,0,{"$error":"#N/A"},null,{"$f":"IFERROR(RTD(\"cqg.rtd\",,\"StudyData\", \"Correlation(\"&$B$3&\",\"&AS$2&\",Period:=\"&$B$1&\",InputChoice1:=Close,InputChoice2::=Close)\", \"FG\", \"\", \"Close\",$B$2,A94, \"all\",\"\", \"\",\"True\",\"T\")/100,\"\")","v":0.39610426482599997},null,0.80000000000000104,0,{"$error":"#N/A"},null,{"$f":"IFERROR(RTD(\"cqg.rtd\",,\"StudyData\", \"Correlation(\"&$B$3&\",\"&AY$2&\",Period:=\"&$B$1&\",InputChoice1:=Close,InputChoice2::=Close)\", \"FG\", \"\", \"Close\",$B$2,A94, \"all\",\"\", \"\",\"True\",\"T\")/100,\"\")","v":-7.0373664121999996E-2},null,0.80000000000000104,2,{"$error":"#N/A"},null,{"$f":"IFERROR(RTD(\"cqg.rtd\",,\"StudyData\", \"Correlation(\"&$B$3&\",\"&BE$2&\",Period:=\"&$B$1&\",InputChoice1:=Close,InputChoice2::=Close)\", \"FG\", \"\", \"Close\",$B$2,A94, \"all\",\"\", \"\",\"True\",\"T\")/100,\"\")","v":0.84129161321599999},null,0.80000000000000104,0,{"$error":"#N/A"}]
[-91,null,{"$f":"IFERROR(RTD(\"cqg.rtd\",,\"StudyData\", \"Correlation(\"&$B$3&\",\"&C$2&\",Period:=\"&$B$1&\",InputChoice1:=Close,InputChoice2:=Close)\", \"FG\", \"\", \"Close\",$B$2,A95, \"all\",\"\", \"\",\"True\",\"T\")/100,\"\")","v":-0.59522317519599999},null,0.82000000000000106,0,{"$error":"#N/A"},null,{"$f":"IFERROR(RTD(\"cqg.rtd\",,\"StudyData\", \"Correlation(\"&$B$3&\",\"&I$2&\",Period:=\"&$B$1&\",InputChoice1:=Close,InputChoice2::=Close)\", \"FG\", \"\", \"Close\",$B$2,A95, \"all\",\"\", \"\",\"True\",\"T\")/100,\"\")","v":-0.64877706282199998},null,0.82000000000000106,0,{"$error":"#N/A"},null,{"$f":"IFERROR(RTD(\"cqg.rtd\",,\"StudyData\", \"Correlation(\"&$B$3&\",\"&O$2&\",Period:=\"&$B$1&\",InputChoice1:=Close,InputChoice2::=Close)\", \"FG\", \"\", \"Close\",$B$2,A95, \"all\",\"\", \"\",\"True\",\"T\")/100,\"\")","v":-0.51363423353400006},null,0.82000000000000106,0,{"$error":"#N/A"},null,{"$f":"IFERROR(RTD(\"cqg.rtd\",,\"StudyData\", \"Correlation(\"&$B$3&\",\"&U$2&\",Period:=\"&$B$1&\",InputChoice1:=Close,InputChoice2::=Close)\", \"FG\", \"\", \"Close\",$B$2,A95, \"all\",\"\", \"\",\"True\",\"T\")/100,\"\")","v":-0.69040853338800001},null,0.82000000000000106,3,{"$error":"#N/A"},null,{"$f":"IFERROR(RTD(\"cqg.rtd\",,\"StudyData\", \"Correlation(\"&$B$3&\",\"&AA$2&\",Period:=\"&$B$1&\",InputChoice1:=Close,InputChoice2::=Close)\", \"FG\", \"\", \"Close\",$B$2,A95, \"all\",\"\", \"\",\"True\",\"T\")/100,\"\")","v":-0.61559982875099994},null,0.82000000000000106,1,{"$error":"#N/A"},null,{"$f":"IFERROR(RTD(\"cqg.rtd\",,\"StudyData\", \"Correlation(\"&$B$3&\",\"&AG$2&\",Period:=\"&$B$1&\",InputChoice1:=Close,InputChoice2::=Close)\", \"FG\", \"\", \"Close\",$B$2,A95, \"all\",\"\", \"\",\"True\",\"T\")/100,\"\")","v":-0.38424096770100002},null,0.82000000000000106,0,{"$error":"#N/A"},null,{"$f":"IFERROR(RTD(\"cqg.rtd\",,\"StudyData\", \"Correlation(\"&$B$3&\",\"&AM$2&\",Period:=\"&$B$1&\",InputChoice1:=Close,InputChoice2::=Close)\", \"FG\", \"\", \"Close\",$B$2,A95, \"all\",\"\", \"\",\"True\",\"T\")/100,\"\")","v":-0.80500221786300008},null,0.82000000000000106,0,{"$error":"#N/A"},null,{"$f":"IFERROR(RTD(\"cqg.rtd\",,\"StudyData\", \"Correlation(\"&$B$3&\",\"&AS$2&\",Period:=\"&$B$1&\",InputChoice1:=Close,InputChoice2::=Close)\", \"FG\", \"\", \"Close\",$B$2,A95, \"all\",\"\", \"\",\"True\",\"T\")/100,\"\")","v":0.36743558730199999},null,0.82000000000000106,0,{"$error":"#N/A"},null,{"$f":"IFERROR(RTD(\"cqg.rtd\",,\"StudyData\", \"Correlation(\"&$B$3&\",\"&AY$2&\",Period:=\"&$B$1&\",InputChoice1:=Close,InputChoice2::=Close)\", \"FG\", \"\", \"Close\",$B$2,A95, \"all\",\"\", \"\",\"True\",\"T\")/100,\"\")","v":-2.7509248770000001E-2},null,0.82000000000000106,0,{"$error":"#N/A"},null,{"$f":"IFERROR(RTD(\"cqg.rtd\",,\"StudyData\", \"Correlation(\"&$B$3&\",\"&BE$2&\",Period:=\"&$B$1&\",InputChoice1:=Close,InputChoice2::=Close)\", \"FG\", \"\", \"Close\",$B$2,A95, \"all\",\"\", \"\",\"True\",\"T\")/100,\"\")","v":0.84417690892399999},null,0.82000000000000106,0,{"$error":"#N/A"}]
[-92,null,{"$f":"IFERROR(RTD(\"cqg.rtd\",,\"StudyData\", \"Correlation(\"&$B$3&\",\"&C$2&\",Period:=\"&$B$1&\",InputChoice1:=Close,InputChoice2:=Close)\", \"FG\", \"\", \"Close\",$B$2,A96, \"all\",\"\", \"\",\"True\",\"T\")/100,\"\")","v":-0.560055370394},null,0.84000000000000108,0,{"$error":"#N/A"},null,{"$f":"IFERROR(RTD(\"cqg.rtd\",,\"StudyData\", \"Correlation(\"&$B$3&\",\"&I$2&\",Period:=\"&$B$1&\",InputChoice1:=Close,InputChoice2::=Close)\", \"FG\", \"\", \"Close\",$B$2,A96, \"all\",\"\", \"\",\"True\",\"T\")/100,\"\")","v":-0.61336548092100007},null,0.84000000000000108,0,{"$error":"#N/A"},null,{"$f":"IFERROR(RTD(\"cqg.rtd\",,\"StudyData\", \"Correlation(\"&$B$3&\",\"&O$2&\",Period:=\"&$B$1&\",InputChoice1:=Close,InputChoice2::=Close)\", \"FG\", \"\", \"Close\",$B$2,A96, \"all\",\"\", \"\",\"True\",\"T\")/100,\"\")","v":-0.42846387622000004},null,0.84000000000000108,0,{"$error":"#N/A"},null,{"$f":"IFERROR(RTD(\"cqg.rtd\",,\"StudyData\", \"Correlation(\"&$B$3&\",\"&U$2&\",Period:=\"&$B$1&\",InputChoice1:=Close,InputChoice2::=Close)\", \"FG\", \"\", \"Close\",$B$2,A96, \"all\",\"\", \"\",\"True\",\"T\")/100,\"\")","v":-0.65324443684},null,0.84000000000000108,7,{"$error":"#N/A"},null,{"$f":"IFERROR(RTD(\"cqg.rtd\",,\"StudyData\", \"Correlation(\"&$B$3&\",\"&AA$2&\",Period:=\"&$B$1&\",InputChoice1:=Close,InputChoice2::=Close)\", \"FG\", \"\", \"Close\",$B$2,A96, \"all\",\"\", \"\",\"True\",\"T\")/100,\"\")","v":-0.541185825974},null,0.84000000000000108,0,{"$error":"#N/A"},null,{"$f":"IFERROR(RTD(\"cqg.rtd\",,\"StudyData\", \"Correlation(\"&$B$3&\",\"&AG$2&\",Period:=\"&$B$1&\",InputChoice1:=Close,InputChoice2::=Close)\", \"FG\", \"\", \"Close\",$B$2,A96, \"all\",\"\", \"\",\"True\",\"T\")/100,\"\")","v":-0.33150831662199998},null,0.84000000000000108,0,{"$error":"#N/A"},null,{"$f":"IFERROR(RTD(\"cqg.rtd\",,\"StudyData\", \"Correlation(\"&$B$3&\",\"&AM$2&\",Period:=\"&$B$1&\",InputChoice1:=Close,InputChoice2::=Close)\", \"FG\", \"\", \"Close\",$B$2,A96, \"all\",\"\", \"\",\"True\",\"T\")/100,\"\")","v":-0.77437999949699998},null,0.84000000000000108,0,{"$error":"#N/A"},null,{"$f":"IFERROR(RTD(\"cqg.rtd\",,\"StudyData\", \"Correlation(\"&$B$3&\",\"&AS$2&\",Period:=\"&$B$1&\",InputChoice1:=Close,InputChoice2::=Close)\", \"FG\", \"\", \"Close\",$B$2,A96, \"all\",\"\", \"\",\"True\",\"T\")/100,\"\")","v":0.305575703453},null,0.84000000000000108,0,{"$error":"#N/A"},null,{"$f":"IFERROR(RTD(\"cqg.rtd\",,\"StudyData\", \"Correlation(\"&$B$3&\",\"&AY$2&\",Period:=\"&$B$1&\",InputChoice1:=Close,InputChoice2::=Close)\", \"FG\", \"\", \"Close\",$B$2,A96, \"all\",\"\", \"\",\"True\",\"T\")/100,\"\")","v":3.5749513222999997E-2},null,0.84000000000000108,1,{"$error":"#N/A"},null,{"$f":"IFERROR(RTD(\"cqg.rtd\",,\"StudyData\", \"Correlation(\"&$B$3&\",\"&BE$2&\",Period:=\"&$B$1&\",InputChoice1:=Close,InputChoice2::=Close)\", \"FG\", \"\", \"Close\",$B$2,A96, \"all\",\"\", \"\",\"True\",\"T\")/100,\"\")","v":0.900821886076},null,0.84000000000000108,1,{"$error":"#N/A"}]
[-93,null,{"$f":"IFERROR(RTD(\"cqg.rtd\",,\"StudyData\", \"Correlation(\"&$B$3&\",\"&C$2&\",Period:=\"&$B$1&\",InputChoice1:=Close,InputChoice2:=Close)\", \"FG\", \"\", \"Close\",$B$2,A97, \"all\",\"\", \"\",\"True\",\"T\")/100,\"\")","v":-0.45286474370300001},null,0.8600000000000011,0,{"$error":"#N/A"},null,{"$f":"IFERROR(RTD(\"cqg.rtd\",,\"StudyData\", \"Correlation(\"&$B$3&\",\"&I$2&\",Period:=\"&$B$1&\",InputChoice1:=Close,InputChoice2::=Close)\", \"FG\", \"\", \"Close\",$B$2,A97, \"all\",\"\", \"\",\"True\",\"T\")/100,\"\")","v":-0.50765420546700002},null,0.8600000000000011,0,{"$error":"#N/A"},null,{"$f":"IFERROR(RTD(\"cqg.rtd\",,\"StudyData\", \"Correlation(\"&$B$3&\",\"&O$2&\",Period:=\"&$B$1&\",InputChoice1:=Close,InputChoice2::=Close)\", \"FG\", \"\", \"Close\",$B$2,A97, \"all\",\"\", \"\",\"True\",\"T\")/100,\"\")","v":-0.37399434643399998},null,0.8600000000000011,0,{"$error":"#N/A"},null,{"$f":"IFERROR(RTD(\"cqg.rtd\",,\"StudyData\", \"Correlation(\"&$B$3&\",\"&U$2&\",Period:=\"&$B$1&\",InputChoice1:=Close,InputChoice2::=Close)\", \"FG\", \"\", \"Close\",$B$2,A97, \"all\",\"\", \"\",\"True\",\"T\")/100,\"\")","v":-0.61233850325799999},null,0.8600000000000011,0,{"$error":"#N/A"},null,{"$f":"IFERROR(RTD(\"cqg.rtd\",,\"StudyData\", \"Correlation(\"&$B$3&\",\"&AA$2&\",Period:=\"&$B$1&\",InputChoice1:=Close,InputChoice2::=Close)\", \"FG\", \"\", \"Close\",$B$2,A97, \"all\",\"\", \"\",\"True\",\"T\")/100,\"\")","v":-0.46617226381800003},null,0.8600000000000011,0,{"$error":"#N/A"},null,{"$f":"IFERROR(RTD(\"cqg.rtd\",,\"StudyData\", \"Correlation(\"&$B$3&\",\"&AG$2&\",Period:=\"&$B$1&\",InputChoice1:=Close,InputChoice2::=Close)\", \"FG\", \"\", \"Close\",$B$2,A97, \"all\",\"\", \"\",\"True\",\"T\")/100,\"\")","v":-0.30337230198699999},null,0.8600000000000011,0,{"$error":"#N/A"},null,{"$f":"IFERROR(RTD(\"cqg.rtd\",,\"StudyData\", \"Correlation(\"&$B$3&\",\"&AM$2&\",Period:=\"&$B$1&\",InputChoice1:=Close,InputChoice2::=Close)\", \"FG\", \"\", \"Close\",$B$2,A97, \"all\",\"\", \"\",\"True\",\"T\")/100,\"\")","v":-0.73787380094999999},null,0.8600000000000011,0,{"$error":"#N/A"},null,{"$f":"IFERROR(RTD(\"cqg.rtd\",,\"StudyData\", \"Correlation(\"&$B$3&\",\"&AS$2&\",Period:=\"&$B$1&\",InputChoice1:=Close,InputChoice2::=Close)\", \"FG\", \"\", \"Close\",$B$2,A97, \"all\",\"\", \"\",\"True\",\"T\")/100,\"\")","v":0.161339548758},null,0.8600000000000011,0,{"$error":"#N/A"},null,{"$f":"IFERROR(RTD(\"cqg.rtd\",,\"StudyData\", \"Correlation(\"&$B$3&\",\"&AY$2&\",Period:=\"&$B$1&\",InputChoice1:=Close,InputChoice2::=Close)\", \"FG\", \"\", \"Close\",$B$2,A97, \"all\",\"\", \"\",\"True\",\"T\")/100,\"\")","v":6.781707252300001E-2},null,0.8600000000000011,0,{"$error":"#N/A"},null,{"$f":"IFERROR(RTD(\"cqg.rtd\",,\"StudyData\", \"Correlation(\"&$B$3&\",\"&BE$2&\",Period:=\"&$B$1&\",InputChoice1:=Close,InputChoice2::=Close)\", \"FG\", \"\", \"Close\",$B$2,A97, \"all\",\"\", \"\",\"True\",\"T\")/100,\"\")","v":0.88179243916499994},null,0.8600000000000011,2,{"$error":"#N/A"}]
[-94,null,{"$f":"IFERROR(RTD(\"cqg.rtd\",,\"StudyData\", \"Correlation(\"&$B$3&\",\"&C$2&\",Period:=\"&$B$1&\",InputChoice1:=Close,InputChoice2:=Close)\", \"FG\", \"\", \"Close\",$B$2,A98, \"all\",\"\", \"\",\"True\",\"T\")/100,\"\")","v":-0.29376972904799997},null,0.88000000000000111,0,{"$error":"#N/A"},null,{"$f":"IFERROR(RTD(\"cqg.rtd\",,\"StudyData\", \"Correlation(\"&$B$3&\",\"&I$2&\",Period:=\"&$B$1&\",InputChoice1:=Close,InputChoice2::=Close)\", \"FG\", \"\", \"Close\",$B$2,A98, \"all\",\"\", \"\",\"True\",\"T\")/100,\"\")","v":-0.34349662879299997},null,0.88000000000000111,0,{"$error":"#N/A"},null,{"$f":"IFERROR(RTD(\"cqg.rtd\",,\"StudyData\", \"Correlation(\"&$B$3&\",\"&O$2&\",Period:=\"&$B$1&\",InputChoice1:=Close,InputChoice2::=Close)\", \"FG\", \"\", \"Close\",$B$2,A98, \"all\",\"\", \"\",\"True\",\"T\")/100,\"\")","v":-0.32139147324399997},null,0.88000000000000111,0,{"$error":"#N/A"},null,{"$f":"IFERROR(RTD(\"cqg.rtd\",,\"StudyData\", \"Correlation(\"&$B$3&\",\"&U$2&\",Period:=\"&$B$1&\",InputChoice1:=Close,InputChoice2::=Close)\", \"FG\", \"\", \"Close\",$B$2,A98, \"all\",\"\", \"\",\"True\",\"T\")/100,\"\")","v":-0.49590491168799999},null,0.88000000000000111,0,{"$error":"#N/A"},null,{"$f":"IFERROR(RTD(\"cqg.rtd\",,\"StudyData\", \"Correlation(\"&$B$3&\",\"&AA$2&\",Period:=\"&$B$1&\",InputChoice1:=Close,InputChoice2::=Close)\", \"FG\", \"\", \"Close\",$B$2,A98, \"all\",\"\", \"\",\"True\",\"T\")/100,\"\")","v":-0.42056410039500003},null,0.88000000000000111,0,{"$error":"#N/A"},null,{"$f":"IFERROR(RTD(\"cqg.rtd\",,\"StudyData\", \"Correlation(\"&$B$3&\",\"&AG$2&\",Period:=\"&$B$1&\",InputChoice1:=Close,InputChoice2::=Close)\", \"FG\", \"\", \"Close\",$B$2,A98, \"all\",\"\", \"\",\"True\",\"T\")/100,\"\")","v":-0.30617955947100001},null,0.88000000000000111,0,{"$error":"#N/A"},null,{"$f":"IFERROR(RTD(\"cqg.rtd\",,\"StudyData\", \"Correlation(\"&$B$3&\",\"&AM$2&\",Period:=\"&$B$1&\",InputChoice1:=Close,InputChoice2::=Close)\", \"FG\", \"\", \"Close\",$B$2,A98, \"all\",\"\", \"\",\"True\",\"T\")/100,\"\")","v":-0.70656263261399999},null,0.88000000000000111,0,{"$error":"#N/A"},null,{"$f":"IFERROR(RTD(\"cqg.rtd\",,\"StudyData\", \"Correlation(\"&$B$3&\",\"&AS$2&\",Period:=\"&$B$1&\",InputChoice1:=Close,InputChoice2::=Close)\", \"FG\", \"\", \"Close\",$B$2,A98, \"all\",\"\", \"\",\"True\",\"T\")/100,\"\")","v":6.8388966364999998E-2},null,0.88000000000000111,0,{"$error":"#N/A"},null,{"$f":"IFERROR(RTD(\"cqg.rtd\",,\"StudyData\", \"Correlation(\"&$B$3&\",\"&AY$2&\",Period:=\"&$B$1&\",InputChoice1:=Close,InputChoice2::=Close)\", \"FG\", \"\", \"Close\",$B$2,A98, \"all\",\"\", \"\",\"True\",\"T\")/100,\"\")","v":0.16925350176199999},null,0.88000000000000111,1,{"$error":"#N/A"},null,{"$f":"IFERROR(RTD(\"cqg.rtd\",,\"StudyData\", \"Correlation(\"&$B$3&\",\"&BE$2&\",Period:=\"&$B$1&\",InputChoice1:=Close,InputChoice2::=Close)\", \"FG\", \"\", \"Close\",$B$2,A98, \"all\",\"\", \"\",\"True\",\"T\")/100,\"\")","v":0.82150199857700001},null,0.88000000000000111,0,{"$error":"#N/A"}]
[-95,null,{"$f":"IFERROR(RTD(\"cqg.rtd\",,\"StudyData\", \"Correlation(\"&$B$3&\",\"&C$2&\",Period:=\"&$B$1&\",InputChoice1:=Close,InputChoice2:=Close)\", \"FG\", \"\", \"Close\",$B$2,A99, \"all\",\"\", \"\",\"True\",\"T\")/100,\"\")","v":0.12173874663499999},null,0.90000000000000113,0,{"$error":"#N/A"},null,{"$f":"IFERROR(RTD(\"cqg.rtd\",,\"StudyData\", \"Correlation(\"&$B$3&\",\"&I$2&\",Period:=\"&$B$1&\",InputChoice1:=Close,InputChoice2::=Close)\", \"FG\", \"\", \"Close\",$B$2,A99, \"all\",\"\", \"\",\"True\",\"T\")/100,\"\")","v":6.2767385391999997E-2},null,0.90000000000000113,0,{"$error":"#N/A"},null,{"$f":"IFERROR(RTD(\"cqg.rtd\",,\"StudyData\", \"Correlation(\"&$B$3&\",\"&O$2&\",Period:=\"&$B$1&\",InputChoice1:=Close,InputChoice2::=Close)\", \"FG\", \"\", \"Close\",$B$2,A99, \"all\",\"\", \"\",\"True\",\"T\")/100,\"\")","v":-0.19878695987699999},null,0.90000000000000113,0,{"$error":"#N/A"},null,{"$f":"IFERROR(RTD(\"cqg.rtd\",,\"StudyData\", \"Correlation(\"&$B$3&\",\"&U$2&\",Period:=\"&$B$1&\",InputChoice1:=Close,InputChoice2::=Close)\", \"FG\", \"\", \"Close\",$B$2,A99, \"all\",\"\", \"\",\"True\",\"T\")/100,\"\")","v":-0.35169833384299998},null,0.90000000000000113,0,{"$error":"#N/A"},null,{"$f":"IFERROR(RTD(\"cqg.rtd\",,\"StudyData\", \"Correlation(\"&$B$3&\",\"&AA$2&\",Period:=\"&$B$1&\",InputChoice1:=Close,InputChoice2::=Close)\", \"FG\", \"\", \"Close\",$B$2,A99, \"all\",\"\", \"\",\"True\",\"T\")/100,\"\")","v":-0.41266031858300001},null,0.90000000000000113,0,{"$error":"#N/A"},null,{"$f":"IFERROR(RTD(\"cqg.rtd\",,\"StudyData\", \"Correlation(\"&$B$3&\",\"&AG$2&\",Period:=\"&$B$1&\",InputChoice1:=Close,InputChoice2::=Close)\", \"FG\", \"\", \"Close\",$B$2,A99, \"all\",\"\", \"\",\"True\",\"T\")/100,\"\")","v":-0.33271186199899999},null,0.90000000000000113,0,{"$error":"#N/A"},null,{"$f":"IFERROR(RTD(\"cqg.rtd\",,\"StudyData\", \"Correlation(\"&$B$3&\",\"&AM$2&\",Period:=\"&$B$1&\",InputChoice1:=Close,InputChoice2::=Close)\", \"FG\", \"\", \"Close\",$B$2,A99, \"all\",\"\", \"\",\"True\",\"T\")/100,\"\")","v":-0.63379321509800002},null,0.90000000000000113,0,{"$error":"#N/A"},null,{"$f":"IFERROR(RTD(\"cqg.rtd\",,\"StudyData\", \"Correlation(\"&$B$3&\",\"&AS$2&\",Period:=\"&$B$1&\",InputChoice1:=Close,InputChoice2::=Close)\", \"FG\", \"\", \"Close\",$B$2,A99, \"all\",\"\", \"\",\"True\",\"T\")/100,\"\")","v":-0.10514853092599999},null,0.90000000000000113,0,{"$error":"#N/A"},null,{"$f":"IFERROR(RTD(\"cqg.rtd\",,\"StudyData\", \"Correlation(\"&$B$3&\",\"&AY$2&\",Period:=\"&$B$1&\",InputChoice1:=Close,InputChoice2::=Close)\", \"FG\", \"\", \"Close\",$B$2,A99, \"all\",\"\", \"\",\"True\",\"T\")/100,\"\")","v":0.18856421919999999},null,0.90000000000000113,2,{"$error":"#N/A"},null,{"$f":"IFERROR(RTD(\"cqg.rtd\",,\"StudyData\", \"Correlation(\"&$B$3&\",\"&BE$2&\",Period:=\"&$B$1&\",InputChoice1:=Close,InputChoice2::=Close)\", \"FG\", \"\", \"Close\",$B$2,A99, \"all\",\"\", \"\",\"True\",\"T\")/100,\"\")","v":0.58647265920500002},null,0.90000000000000113,1,{"$error":"#N/A"}]
[-96,null,{"$f":"IFERROR(RTD(\"cqg.rtd\",,\"StudyData\", \"Correlation(\"&$B$3&\",\"&C$2&\",Period:=\"&$B$1&\",InputChoice1:=Close,InputChoice2:=Close)\", \"FG\", \"\", \"Close\",$B$2,A100, \"all\",\"\", \"\",\"True\",\"T\")/100,\"\")","v":-3.5088450282999999E-2},null,0.92000000000000115,0,{"$error":"#N/A"},null,{"$f":"IFERROR(RTD(\"cqg.rtd\",,\"StudyData\", \"Correlation(\"&$B$3&\",\"&I$2&\",Period:=\"&$B$1&\",InputChoice1:=Close,InputChoice2::=Close)\", \"FG\", \"\", \"Close\",$B$2,A100, \"all\",\"\", \"\",\"True\",\"T\")/100,\"\")","v":-0.16241910274999999},null,0.92000000000000115,0,{"$error":"#N/A"},null,{"$f":"IFERROR(RTD(\"cqg.rtd\",,\"StudyData\", \"Correlation(\"&$B$3&\",\"&O$2&\",Period:=\"&$B$1&\",InputChoice1:=Close,InputChoice2::=Close)\", \"FG\", \"\", \"Close\",$B$2,A100, \"all\",\"\", \"\",\"True\",\"T\")/100,\"\")","v":-0.10462098423600001},null,0.92000000000000115,0,{"$error":"#N/A"},null,{"$f":"IFERROR(RTD(\"cqg.rtd\",,\"StudyData\", \"Correlation(\"&$B$3&\",\"&U$2&\",Period:=\"&$B$1&\",InputChoice1:=Close,InputChoice2::=Close)\", \"FG\", \"\", \"Close\",$B$2,A100, \"all\",\"\", \"\",\"True\",\"T\")/100,\"\")","v":6.4205368053999998E-2},null,0.92000000000000115,0,{"$error":"#N/A"},null,{"$f":"IFERROR(RTD(\"cqg.rtd\",,\"StudyData\", \"Correlation(\"&$B$3&\",\"&AA$2&\",Period:=\"&$B$1&\",InputChoice1:=Close,InputChoice2::=Close)\", \"FG\", \"\", \"Close\",$B$2,A100, \"all\",\"\", \"\",\"True\",\"T\")/100,\"\")","v":-0.360723693756},null,0.92000000000000115,0,{"$error":"#N/A"},null,{"$f":"IFERROR(RTD(\"cqg.rtd\",,\"StudyData\", \"Correlation(\"&$B$3&\",\"&AG$2&\",Period:=\"&$B$1&\",InputChoice1:=Close,InputChoice2::=Close)\", \"FG\", \"\", \"Close\",$B$2,A100, \"all\",\"\", \"\",\"True\",\"T\")/100,\"\")","v":-0.32714166499900005},null,0.92000000000000115,0,{"$error":"#N/A"},null,{"$f":"IFERROR(RTD(\"cqg.rtd\",,\"StudyData\", \"Correlation(\"&$B$3&\",\"&AM$2&\",Period:=\"&$B$1&\",InputChoice1:=Close,InputChoice2::=Close)\", \"FG\", \"\", \"Close\",$B$2,A100, \"all\",\"\", \"\",\"True\",\"T\")/100,\"\")","v":-0.51532637574499995},null,0.92000000000000115,0,{"$error":"#N/A"},null,{"$f":"IFERROR(RTD(\"cqg.rtd\",,\"StudyData\", \"Correlation(\"&$B$3&\",\"&AS$2&\",Period:=\"&$B$1&\",InputChoice1:=Close,InputChoice2::=Close)\", \"FG\", \"\", \"Close\",$B$2,A100, \"all\",\"\", \"\",\"True\",\"T\")/100,\"\")","v":-0.156217668616},null,0.92000000000000115,0,{"$error":"#N/A"},null,{"$f":"IFERROR(RTD(\"cqg.rtd\",,\"StudyData\", \"Correlation(\"&$B$3&\",\"&AY$2&\",Period:=\"&$B$1&\",InputChoice1:=Close,InputChoice2::=Close)\", \"FG\", \"\", \"Close\",$B$2,A100, \"all\",\"\", \"\",\"True\",\"T\")/100,\"\")","v":0.35469953860799996},null,0.92000000000000115,3,{"$error":"#N/A"},null,{"$f":"IFERROR(RTD(\"cqg.rtd\",,\"StudyData\", \"Correlation(\"&$B$3&\",\"&BE$2&\",Period:=\"&$B$1&\",InputChoice1:=Close,InputChoice2::=Close)\", \"FG\", \"\", \"Close\",$B$2,A100, \"all\",\"\", \"\",\"True\",\"T\")/100,\"\")","v":0.45621600530799999},null,0.92000000000000115,1,{"$error":"#N/A"}]
[-97,null,{"$f":"IFERROR(RTD(\"cqg.rtd\",,\"StudyData\", \"Correlation(\"&$B$3&\",\"&C$2&\",Period:=\"&$B$1&\",InputChoice1:=Close,InputChoice2:=Close)\", \"FG\", \"\", \"Close\",$B$2,A101, \"all\",\"\", \"\",\"True\",\"T\")/100,\"\")","v":-0.127272433681},null,0.94000000000000117,0,{"$error":"#N/A"},null,{"$f":"IFERROR(RTD(\"cqg.rtd\",,\"StudyData\", \"Correlation(\"&$B$3&\",\"&I$2&\",Period:=\"&$B$1&\",InputChoice1:=Close,InputChoice2::=Close)\", \"FG\", \"\", \"Close\",$B$2,A101, \"all\",\"\", \"\",\"True\",\"T\")/100,\"\")","v":-0.26487998297699999},null,0.94000000000000117,0,{"$error":"#N/A"},null,{"$f":"IFERROR(RTD(\"cqg.rtd\",,\"StudyData\", \"Correlation(\"&$B$3&\",\"&O$2&\",Period:=\"&$B$1&\",InputChoice1:=Close,InputChoice2::=Close)\", \"FG\", \"\", \"Close\",$B$2,A101, \"all\",\"\", \"\",\"True\",\"T\")/100,\"\")","v":-2.7494359132000001E-2},null,0.94000000000000117,0,{"$error":"#N/A"},null,{"$f":"IFERROR(RTD(\"cqg.rtd\",,\"StudyData\", \"Correlation(\"&$B$3&\",\"&U$2&\",Period:=\"&$B$1&\",InputChoice1:=Close,InputChoice2::=Close)\", \"FG\", \"\", \"Close\",$B$2,A101, \"all\",\"\", \"\",\"True\",\"T\")/100,\"\")","v":-0.20117115583600001},null,0.94000000000000117,0,{"$error":"#N/A"},null,{"$f":"IFERROR(RTD(\"cqg.rtd\",,\"StudyData\", \"Correlation(\"&$B$3&\",\"&AA$2&\",Period:=\"&$B$1&\",InputChoice1:=Close,InputChoice2::=Close)\", \"FG\", \"\", \"Close\",$B$2,A101, \"all\",\"\", \"\",\"True\",\"T\")/100,\"\")","v":-0.41140043875300003},null,0.94000000000000117,0,{"$error":"#N/A"},null,{"$f":"IFERROR(RTD(\"cqg.rtd\",,\"StudyData\", \"Correlation(\"&$B$3&\",\"&AG$2&\",Period:=\"&$B$1&\",InputChoice1:=Close,InputChoice2::=Close)\", \"FG\", \"\", \"Close\",$B$2,A101, \"all\",\"\", \"\",\"True\",\"T\")/100,\"\")","v":-0.49355181344000004},null,0.94000000000000117,0,{"$error":"#N/A"},null,{"$f":"IFERROR(RTD(\"cqg.rtd\",,\"StudyData\", \"Correlation(\"&$B$3&\",\"&AM$2&\",Period:=\"&$B$1&\",InputChoice1:=Close,InputChoice2::=Close)\", \"FG\", \"\", \"Close\",$B$2,A101, \"all\",\"\", \"\",\"True\",\"T\")/100,\"\")","v":-0.37272120332299996},null,0.94000000000000117,0,{"$error":"#N/A"},null,{"$f":"IFERROR(RTD(\"cqg.rtd\",,\"StudyData\", \"Correlation(\"&$B$3&\",\"&AS$2&\",Period:=\"&$B$1&\",InputChoice1:=Close,InputChoice2::=Close)\", \"FG\", \"\", \"Close\",$B$2,A101, \"all\",\"\", \"\",\"True\",\"T\")/100,\"\")","v":-0.49016537388699999},null,0.94000000000000117,0,{"$error":"#N/A"},null,{"$f":"IFERROR(RTD(\"cqg.rtd\",,\"StudyData\", \"Correlation(\"&$B$3&\",\"&AY$2&\",Period:=\"&$B$1&\",InputChoice1:=Close,InputChoice2::=Close)\", \"FG\", \"\", \"Close\",$B$2,A101, \"all\",\"\", \"\",\"True\",\"T\")/100,\"\")","v":0.37897975356300001},null,0.94000000000000117,16,{"$error":"#N/A"},null,{"$f":"IFERROR(RTD(\"cqg.rtd\",,\"StudyData\", \"Correlation(\"&$B$3&\",\"&BE$2&\",Period:=\"&$B$1&\",InputChoice1:=Close,InputChoice2::=Close)\", \"FG\", \"\", \"Close\",$B$2,A101, \"all\",\"\", \"\",\"True\",\"T\")/100,\"\")","v":9.6394248970999991E-2},null,0.94000000000000117,0,{"$error":"#N/A"}]
[-98,null,{"$f":"IFERROR(RTD(\"cqg.rtd\",,\"StudyData\", \"Correlation(\"&$B$3&\",\"&C$2&\",Period:=\"&$B$1&\",InputChoice1:=Close,InputChoice2:=Close)\", \"FG\", \"\", \"Close\",$B$2,A102, \"all\",\"\", \"\",\"True\",\"T\")/100,\"\")","v":-0.31327895721600002},null,0.96000000000000119,0,{"$error":"#N/A"},null,{"$f":"IFERROR(RTD(\"cqg.rtd\",,\"StudyData\", \"Correlation(\"&$B$3&\",\"&I$2&\",Period:=\"&$B$1&\",InputChoice1:=Close,InputChoice2::=Close)\", \"FG\", \"\", \"Close\",$B$2,A102, \"all\",\"\", \"\",\"True\",\"T\")/100,\"\")","v":-0.44510942722000002},null,0.96000000000000119,0,{"$error":"#N/A"},null,{"$f":"IFERROR(RTD(\"cqg.rtd\",,\"StudyData\", \"Correlation(\"&$B$3&\",\"&O$2&\",Period:=\"&$B$1&\",InputChoice1:=Close,InputChoice2::=Close)\", \"FG\", \"\", \"Close\",$B$2,A102, \"all\",\"\", \"\",\"True\",\"T\")/100,\"\")","v":8.5378887590999999E-2},null,0.96000000000000119,0,{"$error":"#N/A"},null,{"$f":"IFERROR(RTD(\"cqg.rtd\",,\"StudyData\", \"Correlation(\"&$B$3&\",\"&U$2&\",Period:=\"&$B$1&\",InputChoice1:=Close,InputChoice2::=Close)\", \"FG\", \"\", \"Close\",$B$2,A102, \"all\",\"\", \"\",\"True\",\"T\")/100,\"\")","v":-0.30579749022300001},null,0.96000000000000119,0,{"$error":"#N/A"},null,{"$f":"IFERROR(RTD(\"cqg.rtd\",,\"StudyData\", \"Correlation(\"&$B$3&\",\"&AA$2&\",Period:=\"&$B$1&\",InputChoice1:=Close,InputChoice2::=Close)\", \"FG\", \"\", \"Close\",$B$2,A102, \"all\",\"\", \"\",\"True\",\"T\")/100,\"\")","v":-0.43789817697200001},null,0.96000000000000119,0,{"$error":"#N/A"},null,{"$f":"IFERROR(RTD(\"cqg.rtd\",,\"StudyData\", \"Correlation(\"&$B$3&\",\"&AG$2&\",Period:=\"&$B$1&\",InputChoice1:=Close,InputChoice2::=Close)\", \"FG\", \"\", \"Close\",$B$2,A102, \"all\",\"\", \"\",\"True\",\"T\")/100,\"\")","v":-0.48673272289000002},null,0.96000000000000119,0,{"$error":"#N/A"},null,{"$f":"IFERROR(RTD(\"cqg.rtd\",,\"StudyData\", \"Correlation(\"&$B$3&\",\"&AM$2&\",Period:=\"&$B$1&\",InputChoice1:=Close,InputChoice2::=Close)\", \"FG\", \"\", \"Close\",$B$2,A102, \"all\",\"\", \"\",\"True\",\"T\")/100,\"\")","v":-0.42935420199500002},null,0.96000000000000119,0,{"$error":"#N/A"},null,{"$f":"IFERROR(RTD(\"cqg.rtd\",,\"StudyData\", \"Correlation(\"&$B$3&\",\"&AS$2&\",Period:=\"&$B$1&\",InputChoice1:=Close,InputChoice2::=Close)\", \"FG\", \"\", \"Close\",$B$2,A102, \"all\",\"\", \"\",\"True\",\"T\")/100,\"\")","v":-0.49643501518400002},null,0.96000000000000119,0,{"$error":"#N/A"},null,{"$f":"IFERROR(RTD(\"cqg.rtd\",,\"StudyData\", \"Correlation(\"&$B$3&\",\"&AY$2&\",Period:=\"&$B$1&\",InputChoice1:=Close,InputChoice2::=Close)\", \"FG\", \"\", \"Close\",$B$2,A102, \"all\",\"\", \"\",\"True\",\"T\")/100,\"\")","v":0.28501065580500001},null,0.96000000000000119,2,{"$error":"#N/A"},null,{"$f":"IFERROR(RTD(\"cqg.rtd\",,\"StudyData\", \"Correlation(\"&$B$3&\",\"&BE$2&\",Period:=\"&$B$1&\",InputChoice1:=Close,InputChoice2::=Close)\", \"FG\", \"\", \"Close\",$B$2,A102, \"all\",\"\", \"\",\"True\",\"T\")/100,\"\")","v":-2.0237101854000003E-2},null,0.96000000000000119,0,{"$error":"#N/A"}]
[-99,null,{"$f":"IFERROR(RTD(\"cqg.rtd\",,\"StudyData\", \"Correlation(\"&$B$3&\",\"&C$2&\",Period:=\"&$B$1&\",InputChoice1:=Close,InputChoice2:=Close)\", \"FG\", \"\", \"Close\",$B$2,A103, \"all\",\"\", \"\",\"True\",\"T\")/100,\"\")","v":""},null,0.9800000000000012,0,{"$error":"#N/A"},null,{"$f":"IFERROR(RTD(\"cqg.rtd\",,\"StudyData\", \"Correlation(\"&$B$3&\",\"&I$2&\",Period:=\"&$B$1&\",InputChoice1:=Close,InputChoice2::=Close)\", \"FG\", \"\", \"Close\",$B$2,A103, \"all\",\"\", \"\",\"True\",\"T\")/100,\"\")","v":""},null,0.9800000000000012,0,{"$error":"#N/A"},null,{"$f":"IFERROR(RTD(\"cqg.rtd\",,\"StudyData\", \"Correlation(\"&$B$3&\",\"&O$2&\",Period:=\"&$B$1&\",InputChoice1:=Close,InputChoice2::=Close)\", \"FG\", \"\", \"Close\",$B$2,A103, \"all\",\"\", \"\",\"True\",\"T\")/100,\"\")","v":0.21251692585899998},null,0.9800000000000012,0,{"$error":"#N/A"},null,{"$f":"IFERROR(RTD(\"cqg.rtd\",,\"StudyData\", \"Correlation(\"&$B$3&\",\"&U$2&\",Period:=\"&$B$1&\",InputChoice1:=Close,InputChoice2::=Close)\", \"FG\", \"\", \"Close\",$B$2,A103, \"all\",\"\", \"\",\"True\",\"T\")/100,\"\")","v":-0.423503804491},null,0.9800000000000012,0,{"$error":"#N/A"},null,{"$f":"IFERROR(RTD(\"cqg.rtd\",,\"StudyData\", \"Correlation(\"&$B$3&\",\"&AA$2&\",Period:=\"&$B$1&\",InputChoice1:=Close,InputChoice2::=Close)\", \"FG\", \"\", \"Close\",$B$2,A103, \"all\",\"\", \"\",\"True\",\"T\")/100,\"\")","v":-0.37160335482000001},null,0.9800000000000012,0,{"$error":"#N/A"},null,{"$f":"IFERROR(RTD(\"cqg.rtd\",,\"StudyData\", \"Correlation(\"&$B$3&\",\"&AG$2&\",Period:=\"&$B$1&\",InputChoice1:=Close,InputChoice2::=Close)\", \"FG\", \"\", \"Close\",$B$2,A103, \"all\",\"\", \"\",\"True\",\"T\")/100,\"\")","v":-0.42111824622199995},null,0.9800000000000012,0,{"$error":"#N/A"},null,{"$f":"IFERROR(RTD(\"cqg.rtd\",,\"StudyData\", \"Correlation(\"&$B$3&\",\"&AM$2&\",Period:=\"&$B$1&\",InputChoice1:=Close,InputChoice2::=Close)\", \"FG\", \"\", \"Close\",$B$2,A103, \"all\",\"\", \"\",\"True\",\"T\")/100,\"\")","v":-0.40972559294700001},null,0.9800000000000012,0,{"$error":"#N/A"},null,{"$f":"IFERROR(RTD(\"cqg.rtd\",,\"StudyData\", \"Correlation(\"&$B$3&\",\"&AS$2&\",Period:=\"&$B$1&\",InputChoice1:=Close,InputChoice2::=Close)\", \"FG\", \"\", \"Close\",$B$2,A103, \"all\",\"\", \"\",\"True\",\"T\")/100,\"\")","v":-0.40997730894000001},null,0.9800000000000012,0,{"$error":"#N/A"},null,{"$f":"IFERROR(RTD(\"cqg.rtd\",,\"StudyData\", \"Correlation(\"&$B$3&\",\"&AY$2&\",Period:=\"&$B$1&\",InputChoice1:=Close,InputChoice2::=Close)\", \"FG\", \"\", \"Close\",$B$2,A103, \"all\",\"\", \"\",\"True\",\"T\")/100,\"\")","v":4.2178826485000001E-2},null,0.9800000000000012,0,{"$error":"#N/A"},null,{"$f":"IFERROR(RTD(\"cqg.rtd\",,\"StudyData\", \"Correlation(\"&$B$3&\",\"&BE$2&\",Period:=\"&$B$1&\",InputChoice1:=Close,InputChoice2::=Close)\", \"FG\", \"\", \"Close\",$B$2,A103, \"all\",\"\", \"\",\"True\",\"T\")/100,\"\")","v":2.0693797257000001E-2},null,0.9800000000000012,0,{"$error":"#N/A"}]
[-100,null,{"$f":"IFERROR(RTD(\"cqg.rtd\",,\"StudyData\", \"Correlation(\"&$B$3&\",\"&C$2&\",Period:=\"&$B$1&\",InputChoice1:=Close,InputChoice2:=Close)\", \"FG\", \"\", \"Close\",$B$2,A104, \"all\",\"\", \"\",\"True\",\"T\")/100,\"\")","v":""},null,1.0000000000000011,0,{"$error":"#N/A"},null,{"$f":"IFERROR(RTD(\"cqg.rtd\",,\"StudyData\", \"Correlation(\"&$B$3&\",\"&I$2&\",Period:=\"&$B$1&\",InputChoice1:=Close,InputChoice2::=Close)\", \"FG\", \"\", \"Close\",$B$2,A104, \"all\",\"\", \"\",\"True\",\"T\")/100,\"\")","v":""},null,1.0000000000000011,0,{"$error":"#N/A"},null,{"$f":"IFERROR(RTD(\"cqg.rtd\",,\"StudyData\", \"Correlation(\"&$B$3&\",\"&O$2&\",Period:=\"&$B$1&\",InputChoice1:=Close,InputChoice2::=Close)\", \"FG\", \"\", \"Close\",$B$2,A104, \"all\",\"\", \"\",\"True\",\"T\")/100,\"\")","v":""},null,1.0000000000000011,0,{"$error":"#N/A"},null,{"$f":"IFERROR(RTD(\"cqg.rtd\",,\"StudyData\", \"Correlation(\"&$B$3&\",\"&U$2&\",Period:=\"&$B$1&\",InputChoice1:=Close,InputChoice2::=Close)\", \"FG\", \"\", \"Close\",$B$2,A104, \"all\",\"\", \"\",\"True\",\"T\")/100,\"\")","v":""},null,1.0000000000000011,0,{"$error":"#N/A"},null,{"$f":"IFERROR(RTD(\"cqg.rtd\",,\"StudyData\", \"Correlation(\"&$B$3&\",\"&AA$2&\",Period:=\"&$B$1&\",InputChoice1:=Close,InputChoice2::=Close)\", \"FG\", \"\", \"Close\",$B$2,A104, \"all\",\"\", \"\",\"True\",\"T\")/100,\"\")","v":-0.239774053229},null,1.0000000000000011,0,{"$error":"#N/A"},null,{"$f":"IFERROR(RTD(\"cqg.rtd\",,\"StudyData\", \"Correlation(\"&$B$3&\",\"&AG$2&\",Period:=\"&$B$1&\",InputChoice1:=Close,InputChoice2::=Close)\", \"FG\", \"\", \"Close\",$B$2,A104, \"all\",\"\", \"\",\"True\",\"T\")/100,\"\")","v":-0.30789727338},null,1.0000000000000011,0,{"$error":"#N/A"},null,{"$f":"IFERROR(RTD(\"cqg.rtd\",,\"StudyData\", \"Correlation(\"&$B$3&\",\"&AM$2&\",Period:=\"&$B$1&\",InputChoice1:=Close,InputChoice2::=Close)\", \"FG\", \"\", \"Close\",$B$2,A104, \"all\",\"\", \"\",\"True\",\"T\")/100,\"\")","v":-0.29589174970100002},null,1.0000000000000011,0,{"$error":"#N/A"},null,{"$f":"IFERROR(RTD(\"cqg.rtd\",,\"StudyData\", \"Correlation(\"&$B$3&\",\"&AS$2&\",Period:=\"&$B$1&\",InputChoice1:=Close,InputChoice2::=Close)\", \"FG\", \"\", \"Close\",$B$2,A104, \"all\",\"\", \"\",\"True\",\"T\")/100,\"\")","v":-0.216858220795},null,1.0000000000000011,0,{"$error":"#N/A"},null,{"$f":"IFERROR(RTD(\"cqg.rtd\",,\"StudyData\", \"Correlation(\"&$B$3&\",\"&AY$2&\",Period:=\"&$B$1&\",InputChoice1:=Close,InputChoice2::=Close)\", \"FG\", \"\", \"Close\",$B$2,A104, \"all\",\"\", \"\",\"True\",\"T\")/100,\"\")","v":7.8293795855000001E-2},null,1.0000000000000011,0,{"$error":"#N/A"},null,{"$f":"IFERROR(RTD(\"cqg.rtd\",,\"StudyData\", \"Correlation(\"&$B$3&\",\"&BE$2&\",Period:=\"&$B$1&\",InputChoice1:=Close,InputChoice2::=Close)\", \"FG\", \"\", \"Close\",$B$2,A104, \"all\",\"\", \"\",\"True\",\"T\")/100,\"\")","v":4.8285612615000001E-2},null,1.0000000000000011,0,{"$error":"#N/A"}]