{"text_format":"1","workbook":"xlsx","n_sheets":4,"sheets":["MainDisplay","Symbols","Data","1"],"not_rendered":{"charts":11,"images":16,"macros":1,"external_links":0,"defined_names":0,"comments":0,"pivot_tables":0},"unopened":[],"bounds":{"document_bytes":16777216,"sheet_cells":100000,"rows_first":2000,"rows_last":500,"rows_between":2000,"halvings":0,"cell_chars":16384,"cell_head_chars":4096},"cells_cut":0,"cells_raw":0,"read":"whole","date_system":"1900"}

{"sheet":"MainDisplay","index":0,"n_rows":56,"n_cols":34,"rows_kept":56,"cut":false,"hidden":false,"merged":[[1,8,2,29],[1,30,2,33],[26,30,26,31],[28,30,28,31],[28,21,28,22],[28,24,28,25],[15,30,15,31],[30,13,30,16],[29,21,29,22],[23,30,23,31],[25,30,25,31],[27,30,27,31],[29,30,29,31],[15,21,15,22],[30,24,30,25],[30,27,30,28],[30,30,30,31],[28,13,28,16],[26,13,26,16],[24,13,24,16],[22,13,22,16],[20,13,20,16],[22,21,22,22],[22,24,22,25],[22,30,22,31],[18,27,18,28],[18,30,18,31],[20,18,20,19],[20,21,20,22],[20,24,20,25],[20,27,20,28],[20,30,20,31],[22,18,22,19],[17,30,17,31],[19,30,19,31],[21,30,21,31],[11,30,11,31],[13,30,13,31],[30,18,30,19],[30,21,30,22],[12,30,12,31],[12,27,12,28],[12,24,12,25],[12,21,12,22],[12,18,12,19],[21,21,21,22],[23,21,23,22],[25,21,25,22],[27,21,27,22],[14,18,14,19],[14,21,14,22],[14,24,14,25],[14,27,14,28],[14,30,14,31],[24,27,24,28],[24,30,24,31],[11,27,11,28],[9,32,9,33],[8,13,8,33],[10,18,10,20],[9,20,9,22],[10,21,10,23],[9,23,9,25],[9,4,9,12],[11,24,11,25],[12,13,12,16],[51,16,52,18],[50,19,50,21],[51,19,52,21],[51,28,52,30],[50,31,50,33],[51,31,52,33],[9,13,9,14],[9,15,9,16],[10,13,10,14],[10,15,10,16],[50,13,50,15],[51,13,52,15],[50,22,50,24],[51,22,52,24],[50,25,50,27],[13,27,13,28],[29,13,29,16],[15,27,15,28],[17,27,17,28],[19,27,19,28],[21,27,21,28],[23,27,23,28],[25,27,25,28],[16,30,16,31],[3,4,3,6],[4,4,5,6],[3,7,3,9],[4,7,5,9],[3,10,3,12],[50,4,50,6],[51,4,52,6],[50,7,50,9],[51,7,52,9],[50,10,50,12],[51,10,52,12],[25,4,25,12],[32,4,32,12],[35,4,35,12],[38,4,38,12],[41,4,41,12],[44,4,44,12],[47,4,47,12],[8,4,8,12],[3,31,3,33],[4,28,5,30],[4,31,5,33],[3,22,3,24],[55,9,55,10],[55,11,55,12],[11,18,11,19],[13,18,13,19],[15,18,15,19],[17,18,17,19],[19,18,19,19],[21,18,21,19],[23,18,23,19],[25,18,25,19],[27,18,27,19],[29,18,29,19],[51,25,52,27],[50,28,50,30],[11,21,11,22],[13,21,13,22],[3,13,3,15],[4,10,5,12],[4,13,5,15],[50,16,50,18],[3,25,3,27],[4,22,5,24],[4,25,5,27],[3,16,3,18],[3,19,3,21],[4,16,5,18],[4,19,5,21],[27,27,27,28],[17,13,17,16],[19,13,19,16],[21,13,21,16],[22,27,22,28],[11,13,11,16],[18,21,18,22],[18,24,18,25],[24,18,24,19],[3,28,3,30],[16,27,16,28],[16,24,16,25],[10,24,10,26],[9,26,9,28],[10,27,10,29],[9,29,9,31],[10,30,10,32],[16,18,16,19],[18,18,18,19],[13,24,13,25],[15,24,15,25],[25,24,25,25],[27,24,27,25],[16,13,16,16],[14,13,14,16],[29,24,29,25],[17,21,17,22],[19,21,19,22],[18,13,18,16],[17,24,17,25],[19,24,19,25],[21,24,21,25],[26,18,26,19],[31,13,31,16],[13,4,13,12],[19,4,19,12],[32,13,32,33],[31,18,31,19],[31,21,31,22],[31,24,31,25],[31,27,31,28],[31,30,31,31],[26,21,26,22],[26,24,26,25],[29,27,29,28],[28,27,28,28],[26,27,26,28],[24,21,24,22],[24,24,24,25],[28,18,28,19],[23,13,23,16],[25,13,25,16],[27,13,27,16],[23,24,23,25],[13,13,13,16],[15,13,15,16],[16,21,16,22]]}
[null,null,null,null,{"$f":"IF(N32=$N$12,R12,IF(N32=$N$14,R14,IF(N32=$N$16,R16,IF(N32=$N$18,R18,IF(N32=$N$20,R20,IF(N32=$N$22,R22,IF(N32=$N$24,R24,IF(N32=$N$26,R26,IF(N32=$N$28,R28,IF(N32=$N$30,R30))))))))))","v":"FUS"},null,null,null,null,null,null,null,null,null,null,null,null,null,{"$f":"Data!C2","v":"DD"},null,{"$f":"Data!D2","v":"DSX"},{"$f":"Data!E2","v":"PIL"},null,{"$f":"Data!F2","v":"SF6"},{"$f":"Data!G2","v":"CLE"},null,{"$f":"Data!H2","v":"HOE"},{"$f":"Data!I2","v":"RBE"},null,{"$f":"Data!J2","v":"NGE"},{"$f":"Data!K2","v":"TYA"},null,{"$f":"Data!L2","v":"DXE"}]
[null,15,15,null,null,null,null,null,"CQG Correlation Dashboard",null,null,null,null,null,null,null,null,null,null,null,null,null,null,null,null,null,null,null,null,null,{"$f":"RTD(\"cqg.rtd\", ,\"SystemInfo\", \"Linetime\")+Symbols!L36","v":43528.406319444446}]
[null,null,65]
[{"$f":"INDIRECT(\"Data!H\"&$B$2)","v":0},{"$f":"INDIRECT(\"Data!J\"&$B$2)","v":0},{"$f":"INDIRECT(\"Data!K\"&$B$2)","v":0},{"$f":"INDIRECT(\"Data!L\"&$B$2)","v":0},{"$f":"RTD(\"cqg.rtd\", ,\"ContractData\",Symbols!B5, \"LongDescription\",, \"T\")","v":"USD/RUB, Mar 19"},null,null,{"$f":"RTD(\"cqg.rtd\", ,\"ContractData\",Symbols!B6, \"LongDescription\",, \"T\")","v":"Brent Crude, Apr 19"},null,null,{"$f":"RTD(\"cqg.rtd\", ,\"ContractData\",Symbols!B7, \"LongDescription\",, \"T\")","v":"Sberbank, Mar 19"},null,null,{"$f":"RTD(\"cqg.rtd\", ,\"ContractData\",Symbols!B8, \"LongDescription\",, \"T\")","v":"Gazprom, Mar 19"},null,null,{"$f":"RTD(\"cqg.rtd\", ,\"ContractData\",Symbols!B9, \"LongDescription\",, \"T\")","v":"EUR/USD, Mar 19"},null,null,{"$f":"RTD(\"cqg.rtd\", ,\"ContractData\",Symbols!B10, \"LongDescription\",, \"T\")","v":"RTS Index, Mar 19"},null,null,{"$f":"RTD(\"cqg.rtd\", ,\"ContractData\",Symbols!B11, \"LongDescription\",, \"T\")","v":"Euro FX (Globex), Mar 19"},null,null,{"$f":"RTD(\"cqg.rtd\", ,\"ContractData\",Symbols!B12, \"LongDescription\",, \"T\")","v":"Japanese Yen (Globex), Mar 19"},null,null,{"$f":"RTD(\"cqg.rtd\", ,\"ContractData\",Symbols!B13, \"LongDescription\",, \"T\")","v":"Australian Dollar (Globex), Mar 19"},null,null,{"$f":"RTD(\"cqg.rtd\", ,\"ContractData\",Symbols!B14, \"LongDescription\",, \"T\")","v":"British Pound (Globex), Mar 19"}]
[{"$f":"INDIRECT(\"Data!H\"&$B$2+1)","v":0},{"$f":"INDIRECT(\"Data!J\"&$B$2+1)","v":0},{"$f":"INDIRECT(\"Data!K\"&$B$2+1)","v":0},{"$f":"INDIRECT(\"Data!L\"&$B$2+1)","v":0},{"$f":"IF(Symbols!C5=\"B\",RTD(\"cqg.rtd\",,\"ContractData\",Symbols!B5,\"LastTrade\",,\"B\"),TEXT(RTD(\"cqg.rtd\",,\"ContractData\",Symbols!B5,\"LastTrade\",,\"T\"),Symbols!D5))","v":"65867"},null,null,{"$f":"IF(Symbols!C6=\"B\",RTD(\"cqg.rtd\",,\"ContractData\",Symbols!B6,\"LastTrade\",,\"B\"),TEXT(RTD(\"cqg.rtd\",,\"ContractData\",Symbols!B6,\"LastTrade\",,\"T\"),Symbols!D6))","v":"66"},null,null,{"$f":"IF(Symbols!C7=\"B\",RTD(\"cqg.rtd\",,\"ContractData\",Symbols!B7,\"LastTrade\",,\"B\"),TEXT(RTD(\"cqg.rtd\",,\"ContractData\",Symbols!B7,\"LastTrade\",,\"T\"),Symbols!D7))","v":"20650"},null,null,{"$f":"IF(Symbols!C8=\"B\",RTD(\"cqg.rtd\",,\"ContractData\",Symbols!B8,\"LastTrade\",,\"B\"),TEXT(RTD(\"cqg.rtd\",,\"ContractData\",Symbols!B8,\"LastTrade\",,\"T\"),Symbols!D8))","v":"15532"},null,null,{"$f":"IF(Symbols!C9=\"B\",RTD(\"cqg.rtd\",,\"ContractData\",Symbols!B9,\"LastTrade\",,\"B\"),TEXT(RTD(\"cqg.rtd\",,\"ContractData\",Symbols!B9,\"LastTrade\",,\"T\"),Symbols!D9))","v":"1.13350"},null,null,{"$f":"IF(Symbols!C10=\"B\",RTD(\"cqg.rtd\",,\"ContractData\",Symbols!B10,\"LastTrade\",,\"B\"),TEXT(RTD(\"cqg.rtd\",,\"ContractData\",Symbols!B10,\"LastTrade\",,\"T\"),Symbols!D10))","v":"118790"},null,null,{"$f":"IF(Symbols!C11=\"B\",RTD(\"cqg.rtd\",,\"ContractData\",Symbols!B11,\"LastTrade\",,\"B\"),TEXT(RTD(\"cqg.rtd\",,\"ContractData\",Symbols!B11,\"LastTrade\",,\"T\"),Symbols!D11))","v":"1.1329000"},null,null,{"$f":"IF(Symbols!C12=\"B\",RTD(\"cqg.rtd\",,\"ContractData\",Symbols!B12,\"LastTrade\",,\"B\"),TEXT(RTD(\"cqg.rtd\",,\"ContractData\",Symbols!B12,\"LastTrade\",,\"T\"),Symbols!D12))","v":".0089"},null,null,{"$f":"IF(Symbols!C13=\"B\",RTD(\"cqg.rtd\",,\"ContractData\",Symbols!B13,\"LastTrade\",,\"B\"),TEXT(RTD(\"cqg.rtd\",,\"ContractData\",Symbols!B13,\"LastTrade\",,\"T\"),Symbols!D13))","v":".7083"},null,null,{"$f":"IF(Symbols!C14=\"B\",RTD(\"cqg.rtd\",,\"ContractData\",Symbols!B14,\"LastTrade\",,\"B\"),TEXT(RTD(\"cqg.rtd\",,\"ContractData\",Symbols!B14,\"LastTrade\",,\"T\"),Symbols!D14))","v":"1.319400"}]
[{"$f":"INDIRECT(\"Data!H\"&$B$2+2)","v":0},{"$f":"INDIRECT(\"Data!J\"&$B$2+2)","v":0},{"$f":"INDIRECT(\"Data!K\"&$B$2+2)","v":0},{"$f":"INDIRECT(\"Data!L\"&$B$2+2)","v":0}]
[{"$f":"INDIRECT(\"Data!H\"&$B$2+3)","v":0},{"$f":"INDIRECT(\"Data!J\"&$B$2+3)","v":0},{"$f":"INDIRECT(\"Data!K\"&$B$2+3)","v":0},{"$f":"INDIRECT(\"Data!L\"&$B$2+3)","v":0},"H:",{"$f":"IF(Symbols!C5=\"B\",RTD(\"cqg.rtd\",,\"ContractData\",Symbols!B5,\"High\",,\"B\"),TEXT(RTD(\"cqg.rtd\",,\"ContractData\",Symbols!B5,\"High\",,\"T\"),Symbols!D5))","v":"66123"},{"$f":"IF(Symbols!C5=\"B\",RTD(\"cqg.rtd\",,\"ContractData\",Symbols!B5,\"NetLastQuoteToday\",,\"B\"),IF(RTD(\"cqg.rtd\",,\"ContractData\",Symbols!B5,\"NetLastQuoteToday\",,\"T\")>0,\"+\"&TEXT(RTD(\"cqg.rtd\",,\"ContractData\",Symbols!B5,\"NetLastQuoteToday\",,\"T\"),Symbols!D5),TEXT(RTD(\"cqg.rtd\",,\"ContractData\",Symbols!B5,\"NetLastQuoteToday\",,\"T\"),Symbols!D5)))","v":"-73"},"H:",{"$f":"IF(Symbols!C6=\"B\",RTD(\"cqg.rtd\",,\"ContractData\",Symbols!B6,\"High\",,\"B\"),TEXT(RTD(\"cqg.rtd\",,\"ContractData\",Symbols!B6,\"High\",,\"T\"),Symbols!D6))","v":"66"},{"$f":"IF(Symbols!C6=\"B\",RTD(\"cqg.rtd\",,\"ContractData\",Symbols!B6,\"NetLastQuoteToday\",,\"B\"),IF(RTD(\"cqg.rtd\",,\"ContractData\",Symbols!B6,\"NetLastQuoteToday\",,\"T\")>0,\"+\"&TEXT(RTD(\"cqg.rtd\",,\"ContractData\",Symbols!B6,\"NetLastQuoteToday\",,\"T\"),Symbols!D6),TEXT(RTD(\"cqg.rtd\",,\"ContractData\",Symbols!B6,\"NetLastQuoteToday\",,\"T\"),Symbols!D6)))","v":"+1"},"H:",{"$f":"IF(Symbols!C7=\"B\",RTD(\"cqg.rtd\",,\"ContractData\",Symbols!B7,\"High\",,\"B\"),TEXT(RTD(\"cqg.rtd\",,\"ContractData\",Symbols!B7,\"High\",,\"T\"),Symbols!D7))","v":"20828"},{"$f":"IF(Symbols!C7=\"B\",RTD(\"cqg.rtd\",,\"ContractData\",Symbols!B7,\"NetLastQuoteToday\",,\"B\"),IF(RTD(\"cqg.rtd\",,\"ContractData\",Symbols!B7,\"NetLastQuoteToday\",,\"T\")>0,\"+\"&TEXT(RTD(\"cqg.rtd\",,\"ContractData\",Symbols!B7,\"NetLastQuoteToday\",,\"T\"),Symbols!D7),TEXT(RTD(\"cqg.rtd\",,\"ContractData\",Symbols!B7,\"NetLastQuoteToday\",,\"T\"),Symbols!D7)))","v":"-70"},"H:",{"$f":"IF(Symbols!C8=\"B\",RTD(\"cqg.rtd\",,\"ContractData\",Symbols!B8,\"High\",,\"B\"),TEXT(RTD(\"cqg.rtd\",,\"ContractData\",Symbols!B8,\"High\",,\"T\"),Symbols!D8))","v":"15729"},{"$f":"IF(Symbols!C8=\"B\",RTD(\"cqg.rtd\",,\"ContractData\",Symbols!B8,\"NetLastQuoteToday\",,\"B\"),IF(RTD(\"cqg.rtd\",,\"ContractData\",Symbols!B8,\"NetLastQuoteToday\",,\"T\")>0,\"+\"&TEXT(RTD(\"cqg.rtd\",,\"ContractData\",Symbols!B8,\"NetLastQuoteToday\",,\"T\"),Symbols!D8),TEXT(RTD(\"cqg.rtd\",,\"ContractData\",Symbols!B8,\"NetLastQuoteToday\",,\"T\"),Symbols!D8)))","v":"-184"},"H:",{"$f":"IF(Symbols!C9=\"B\",RTD(\"cqg.rtd\",,\"ContractData\",Symbols!B9,\"High\",,\"B\"),TEXT(RTD(\"cqg.rtd\",,\"ContractData\",Symbols!B9,\"High\",,\"T\"),Symbols!D9))","v":"1.14060"},{"$f":"IF(Symbols!C9=\"B\",RTD(\"cqg.rtd\",,\"ContractData\",Symbols!B9,\"NetLastQuoteToday\",,\"B\"),IF(RTD(\"cqg.rtd\",,\"ContractData\",Symbols!B9,\"NetLastQuoteToday\",,\"T\")>0,\"+\"&TEXT(RTD(\"cqg.rtd\",,\"ContractData\",Symbols!B9,\"NetLastQuoteToday\",,\"T\"),Symbols!D9),TEXT(RTD(\"cqg.rtd\",,\"ContractData\",Symbols!B9,\"NetLastQuoteToday\",,\"T\"),Symbols!D9)))","v":"-.00700"},"H:",{"$f":"IF(Symbols!C10=\"B\",RTD(\"cqg.rtd\",,\"ContractData\",Symbols!B10,\"High\",,\"B\"),TEXT(RTD(\"cqg.rtd\",,\"ContractData\",Symbols!B10,\"High\",,\"T\"),Symbols!D10))","v":"119200"},{"$f":"IF(Symbols!C10=\"B\",RTD(\"cqg.rtd\",,\"ContractData\",Symbols!B10,\"NetLastQuoteToday\",,\"B\"),IF(RTD(\"cqg.rtd\",,\"ContractData\",Symbols!B10,\"NetLastQuoteToday\",,\"T\")>0,\"+\"&TEXT(RTD(\"cqg.rtd\",,\"ContractData\",Symbols!B10,\"NetLastQuoteToday\",,\"T\"),Symbols!D10),TEXT(RTD(\"cqg.rtd\",,\"ContractData\",Symbols!B10,\"NetLastQuoteToday\",,\"T\"),Symbols!D10)))","v":"+100"},"H:",{"$f":"IF(Symbols!C8=\"B\",RTD(\"cqg.rtd\",,\"ContractData\",Symbols!B11,\"High\",,\"B\"),TEXT(RTD(\"cqg.rtd\",,\"ContractData\",Symbols!B11,\"High\",,\"T\"),Symbols!D11))","v":"1.1393500"},{"$f":"IF(Symbols!C11=\"B\",RTD(\"cqg.rtd\",,\"ContractData\",Symbols!B11,\"NetLastQuoteToday\",,\"B\"),IF(RTD(\"cqg.rtd\",,\"ContractData\",Symbols!B11,\"NetLastQuoteToday\",,\"T\")>0,\"+\"&TEXT(RTD(\"cqg.rtd\",,\"ContractData\",Symbols!B11,\"NetLastQuoteToday\",,\"T\"),Symbols!D11),TEXT(RTD(\"cqg.rtd\",,\"ContractData\",Symbols!B11,\"NetLastQuoteToday\",,\"T\"),Symbols!D11)))","v":"-.0042000"},"H:",{"$f":"IF(Symbols!C12=\"B\",RTD(\"cqg.rtd\",,\"ContractData\",Symbols!B12,\"High\",,\"B\"),TEXT(RTD(\"cqg.rtd\",,\"ContractData\",Symbols!B12,\"High\",,\"T\"),Symbols!D12))","v":".0090"},{"$f":"IF(Symbols!C12=\"B\",RTD(\"cqg.rtd\",,\"ContractData\",Symbols!B12,\"NetLastQuoteToday\",,\"B\"),IF(RTD(\"cqg.rtd\",,\"ContractData\",Symbols!B12,\"NetLastQuoteToday\",,\"T\")>0,\"+\"&TEXT(RTD(\"cqg.rtd\",,\"ContractData\",Symbols!B12,\"NetLastQuoteToday\",,\"T\"),Symbols!D12),TEXT(RTD(\"cqg.rtd\",,\"ContractData\",Symbols!B12,\"NetLastQuoteToday\",,\"T\"),Symbols!D12)))","v":"+.0000"},"H:",{"$f":"IF(Symbols!C13=\"B\",RTD(\"cqg.rtd\",,\"ContractData\",Symbols!B13,\"High\",,\"B\"),TEXT(RTD(\"cqg.rtd\",,\"ContractData\",Symbols!B13,\"High\",,\"T\"),Symbols!D13))","v":".7110"},{"$f":"IF(Symbols!C13=\"B\",RTD(\"cqg.rtd\",,\"ContractData\",Symbols!B13,\"NetLastQuoteToday\",,\"B\"),IF(RTD(\"cqg.rtd\",,\"ContractData\",Symbols!B13,\"NetLastQuoteToday\",,\"T\")>0,\"+\"&TEXT(RTD(\"cqg.rtd\",,\"ContractData\",Symbols!B13,\"NetLastQuoteToday\",,\"T\"),Symbols!D13),TEXT(RTD(\"cqg.rtd\",,\"ContractData\",Symbols!B13,\"NetLastQuoteToday\",,\"T\"),Symbols!D13)))","v":"+.0008"},"H:",{"$f":"IF(Symbols!C14=\"B\",RTD(\"cqg.rtd\",,\"ContractData\",Symbols!B14,\"High\",,\"B\"),TEXT(RTD(\"cqg.rtd\",,\"ContractData\",Symbols!B14,\"High\",,\"T\"),Symbols!D14))","v":"1.326400"},{"$f":"IF(Symbols!C14=\"B\",RTD(\"cqg.rtd\",,\"ContractData\",Symbols!B14,\"NetLastQuoteToday\",,\"B\"),IF(RTD(\"cqg.rtd\",,\"ContractData\",Symbols!B14,\"NetLastQuoteToday\",,\"T\")>0,\"+\"&TEXT(RTD(\"cqg.rtd\",,\"ContractData\",Symbols!B14,\"NetLastQuoteToday\",,\"T\"),Symbols!D14),TEXT(RTD(\"cqg.rtd\",,\"ContractData\",Symbols!B14,\"NetLastQuoteToday\",,\"T\"),Symbols!D14)))","v":"-.000600"}]
[{"$f":"INDIRECT(\"Data!H\"&$B$2+4)","v":0},{"$f":"INDIRECT(\"Data!J\"&$B$2+4)","v":0},{"$f":"INDIRECT(\"Data!K\"&$B$2+4)","v":0},{"$f":"INDIRECT(\"Data!L\"&$B$2+4)","v":0},"L:",{"$f":"IF(Symbols!C5=\"B\",RTD(\"cqg.rtd\",,\"ContractData\",Symbols!B5,\"Low\",,\"B\"),TEXT(RTD(\"cqg.rtd\",,\"ContractData\",Symbols!B5,\"Low\",,\"T\"),Symbols!D5))","v":"65794"},{"$f":"IFERROR(RTD(\"cqg.rtd\", ,\"ContractData\",Symbols!B5, \"PerCentNetLastQuote\",, \"T\")/100,\"\")","v":-1.1070670306339097E-3},"L:",{"$f":"IF(Symbols!C6=\"B\",RTD(\"cqg.rtd\",,\"ContractData\",Symbols!B6,\"Low\",,\"B\"),TEXT(RTD(\"cqg.rtd\",,\"ContractData\",Symbols!B6,\"Low\",,\"T\"),Symbols!D6))","v":"65"},{"$f":"IFERROR(RTD(\"cqg.rtd\", ,\"ContractData\",Symbols!B6, \"PerCentNetLastQuote\",, \"T\")/100,\"\")","v":1.0395963919889926E-2},"L:",{"$f":"IF(Symbols!C7=\"B\",RTD(\"cqg.rtd\",,\"ContractData\",Symbols!B7,\"Low\",,\"B\"),TEXT(RTD(\"cqg.rtd\",,\"ContractData\",Symbols!B7,\"Low\",,\"T\"),Symbols!D7))","v":"20508"},{"$f":"IFERROR(RTD(\"cqg.rtd\", ,\"ContractData\",Symbols!B7, \"PerCentNetLastQuote\",, \"T\")/100,\"\")","v":-3.3783783783783781E-3},"L:",{"$f":"IF(Symbols!C8=\"B\",RTD(\"cqg.rtd\",,\"ContractData\",Symbols!B8,\"Low\",,\"B\"),TEXT(RTD(\"cqg.rtd\",,\"ContractData\",Symbols!B8,\"Low\",,\"T\"),Symbols!D8))","v":"15515"},{"$f":"IFERROR(RTD(\"cqg.rtd\", ,\"ContractData\",Symbols!B8, \"PerCentNetLastQuote\",, \"T\")/100,\"\")","v":-1.1707813693051667E-2},"L:",{"$f":"IF(Symbols!C9=\"B\",RTD(\"cqg.rtd\",,\"ContractData\",Symbols!B9,\"Low\",,\"B\"),TEXT(RTD(\"cqg.rtd\",,\"ContractData\",Symbols!B9,\"Low\",,\"T\"),Symbols!D9))","v":"1.13260"},{"$f":"IFERROR(RTD(\"cqg.rtd\", ,\"ContractData\",Symbols!B9, \"PerCentNetLastQuote\",, \"T\")/100,\"\")","v":-6.1371208136068731E-3},"L:",{"$f":"IF(Symbols!C10=\"B\",RTD(\"cqg.rtd\",,\"ContractData\",Symbols!B10,\"Low\",,\"B\"),TEXT(RTD(\"cqg.rtd\",,\"ContractData\",Symbols!B10,\"Low\",,\"T\"),Symbols!D10))","v":"117830"},{"$f":"IFERROR(RTD(\"cqg.rtd\", ,\"ContractData\",Symbols!B10, \"PerCentNetLastQuote\",, \"T\")/100,\"\")","v":8.4253096301289076E-4},"L:",{"$f":"IF(Symbols!C11=\"B\",RTD(\"cqg.rtd\",,\"ContractData\",Symbols!B11,\"Low\",,\"B\"),TEXT(RTD(\"cqg.rtd\",,\"ContractData\",Symbols!B11,\"Low\",,\"T\"),Symbols!D11))","v":"1.1321000"},{"$f":"IFERROR(RTD(\"cqg.rtd\", ,\"ContractData\",Symbols!B11, \"PerCentNetLastQuote\",, \"T\")/100,\"\")","v":-3.6934441366574334E-3},"L:",{"$f":"IF(Symbols!C12=\"B\",RTD(\"cqg.rtd\",,\"ContractData\",Symbols!B12,\"Low\",,\"B\"),TEXT(RTD(\"cqg.rtd\",,\"ContractData\",Symbols!B12,\"Low\",,\"T\"),Symbols!D12))","v":".0089"},{"$f":"IFERROR(RTD(\"cqg.rtd\", ,\"ContractData\",Symbols!B12, \"PerCentNetLastQuote\",, \"T\")/100,\"\")","v":6.1535019019914969E-4},"L:",{"$f":"IF(Symbols!C13=\"B\",RTD(\"cqg.rtd\",,\"ContractData\",Symbols!B13,\"Low\",,\"B\"),TEXT(RTD(\"cqg.rtd\",,\"ContractData\",Symbols!B13,\"Low\",,\"T\"),Symbols!D13))","v":".7077"},{"$f":"IFERROR(RTD(\"cqg.rtd\", ,\"ContractData\",Symbols!B13, \"PerCentNetLastQuote\",, \"T\")/100,\"\")","v":1.1307420494699647E-3},"L:",{"$f":"IF(Symbols!C14=\"B\",RTD(\"cqg.rtd\",,\"ContractData\",Symbols!B14,\"Low\",,\"B\"),TEXT(RTD(\"cqg.rtd\",,\"ContractData\",Symbols!B14,\"Low\",,\"T\"),Symbols!D14))","v":"1.318600"},{"$f":"IFERROR(RTD(\"cqg.rtd\", ,\"ContractData\",Symbols!B14, \"PerCentNetLastQuote\",, \"T\")/100,\"\")","v":-4.545110218922809E-4}]
[{"$f":"INDIRECT(\"Data!H\"&$B$2+5)","v":0},{"$f":"INDIRECT(\"Data!J\"&$B$2+5)","v":0},{"$f":"INDIRECT(\"Data!K\"&$B$2+5)","v":0},{"$f":"INDIRECT(\"Data!L\"&$B$2+5)","v":0},{"$f":"N32","v":"USD/RUB, Mar 19"},null,null,null,null,null,null,null,null,"Correlations"]
[{"$f":"INDIRECT(\"Data!H\"&$B$2+6)","v":0},{"$f":"INDIRECT(\"Data!J\"&$B$2+6)","v":0},{"$f":"INDIRECT(\"Data!K\"&$B$2+6)","v":0},{"$f":"INDIRECT(\"Data!L\"&$B$2+6)","v":0},{"$f":"TEXT(S32,\"#.00\")&\" Correlation to the \"&RTD(\"cqg.rtd\", ,\"ContractData\",'1'!C2, \"LongDescription\",, \"T\")","v":"-.43 Correlation to the DAX Index, Mar 19"},null,null,null,null,null,null,null,null,"Time Frame",null,"Look Back",null,null,null,null,{"$f":"RTD(\"cqg.rtd\", ,\"ContractData\",Data!D2, \"LongDescription\",, \"T\")","v":"Euro STOXX 50, Mar 19"},null,null,{"$f":"RTD(\"cqg.rtd\", ,\"ContractData\",Data!F2, \"LongDescription\",, \"T\")","v":"Swiss Franc (Globex), Mar 19"},null,null,{"$f":"RTD(\"cqg.rtd\", ,\"ContractData\",Data!H2, \"LongDescription\",, \"T\")","v":"NY Harbor ULSD, Apr 19"},null,null,{"$f":"RTD(\"cqg.rtd\", ,\"ContractData\",Data!J2, \"LongDescription\",, \"T\")","v":"Natural Gas (Globex), Apr 19"},null,null,{"$f":"RTD(\"cqg.rtd\", ,\"ContractData\",Data!L2, \"LongDescription\",, \"T\")","v":"Dollar Index (ICE), Mar 19"}]
[{"$f":"INDIRECT(\"Data!H\"&$B$2+7)","v":0},{"$f":"INDIRECT(\"Data!J\"&$B$2+7)","v":0},{"$f":"INDIRECT(\"Data!K\"&$B$2+7)","v":0},{"$f":"INDIRECT(\"Data!L\"&$B$2+7)","v":0},null,null,null,null,null,null,null,null,null,"ADC",null,20,null,null,{"$f":"RTD(\"cqg.rtd\", ,\"ContractData\",Data!C2, \"LongDescription\",, \"T\")","v":"DAX Index, Mar 19"},null,null,{"$f":"RTD(\"cqg.rtd\", ,\"ContractData\",Data!E2, \"LongDescription\",, \"T\")","v":"CAC40, Mar 19"},null,null,{"$f":"RTD(\"cqg.rtd\", ,\"ContractData\",Data!G2, \"LongDescription\",, \"T\")","v":"Crude Light (Globex), Apr 19"},null,null,{"$f":"RTD(\"cqg.rtd\", ,\"ContractData\",Data!I2, \"LongDescription\",, \"T\")","v":"RBOB Gasoline (Globex), Apr 19"},null,null,{"$f":"RTD(\"cqg.rtd\", ,\"ContractData\",Data!K2, \"LongDescription\",, \"T\")","v":"10yr US Treasury Notes (Globex), Jun 19"}]
[{"$f":"INDIRECT(\"Data!H\"&$B$2+8)","v":0},{"$f":"INDIRECT(\"Data!J\"&$B$2+8)","v":0},{"$f":"INDIRECT(\"Data!K\"&$B$2+8)","v":0},{"$f":"INDIRECT(\"Data!L\"&$B$2+8)","v":0},null,null,null,null,null,null,null,null,null,{"$f":"RTD(\"cqg.rtd\", ,\"ContractData\",Symbols!B5, \"LongDescription\",, \"T\")","v":"USD/RUB, Mar 19"},null,null,null,{"$f":"Symbols!B5","v":"FUS"},{"$f":"Data!C3","v":-0.43186352506500003},null,{"$f":"Data!D3","v":-0.37356133452700002},{"$f":"Data!E3","v":-0.33429498820200004},null,{"$f":"Data!F3","v":-0.35848139454299999},{"$f":"Data!G3","v":-0.223270384934},null,{"$f":"Data!H3","v":-0.12062893362400001},{"$f":"Data!I3","v":-0.14990757502800001},null,{"$f":"Data!J3","v":-0.49878522700300004},{"$f":"Data!K3","v":0.24583776688299999},null,{"$f":"Data!L3","v":0.36478445348800004}]
[{"$f":"INDIRECT(\"Data!H\"&$B$2+9)","v":0},{"$f":"INDIRECT(\"Data!J\"&$B$2+9)","v":0},{"$f":"INDIRECT(\"Data!K\"&$B$2+9)","v":0},{"$f":"INDIRECT(\"Data!L\"&$B$2+9)","v":0},null,null,null,null,null,null,null,null,null,{"$f":"$N$12","v":"USD/RUB, Mar 19"},null,null,null,null,{"$f":"$S$12","v":-0.43186352506500003},null,{"$f":"$U$12","v":-0.37356133452700002},{"$f":"$V$12","v":-0.33429498820200004},null,{"$f":"$X$12","v":-0.35848139454299999},{"$f":"$Y$12","v":-0.223270384934},null,{"$f":"$AA$12","v":-0.12062893362400001},{"$f":"$AB$12","v":-0.14990757502800001},null,{"$f":"$AD$12","v":-0.49878522700300004},{"$f":"$AE$12","v":0.24583776688299999},null,{"$f":"$AG$12","v":0.36478445348800004}]
[{"$f":"INDIRECT(\"Data!H\"&$B$2+10)","v":0},{"$f":"INDIRECT(\"Data!J\"&$B$2+10)","v":0},{"$f":"INDIRECT(\"Data!K\"&$B$2+10)","v":0},{"$f":"INDIRECT(\"Data!L\"&$B$2+10)","v":0},{"$f":"TEXT(U32,\"#.00\")&\" Correlation to the \"&RTD(\"cqg.rtd\",,\"ContractData\",'1'!I2,\"LongDescription\",,\"T\")","v":"-.37 Correlation to the Euro STOXX 50, Mar 19"},null,null,null,null,null,null,null,null,{"$f":"RTD(\"cqg.rtd\", ,\"ContractData\",Symbols!B6, \"LongDescription\",, \"T\")","v":"Brent Crude, Apr 19"},null,null,null,{"$f":"Symbols!B6","v":"FBR"},{"$f":"Data!C4","v":0.70292214305800005},null,{"$f":"Data!D4","v":0.78205119002800005},{"$f":"Data!E4","v":0.83121120994699993},null,{"$f":"Data!F4","v":5.7292762618000002E-2},{"$f":"Data!G4","v":0.9295085287710001},null,{"$f":"Data!H4","v":0.95892907618699996},{"$f":"Data!I4","v":0.95972560570599996},null,{"$f":"Data!J4","v":0.52537551566999996},{"$f":"Data!K4","v":-9.6277000653000003E-2},null,{"$f":"Data!L4","v":-9.9941120414999987E-2}]
[{"$f":"INDIRECT(\"Data!H\"&$B$2+11)","v":0},{"$f":"INDIRECT(\"Data!J\"&$B$2+11)","v":0},{"$f":"INDIRECT(\"Data!K\"&$B$2+11)","v":0},{"$f":"INDIRECT(\"Data!L\"&$B$2+11)","v":0},null,null,null,null,null,null,null,null,null,{"$f":"$N$14","v":"Brent Crude, Apr 19"},null,null,null,null,{"$f":"$S$14","v":0.70292214305800005},null,{"$f":"$U$14","v":0.78205119002800005},{"$f":"$V$14","v":0.83121120994699993},null,{"$f":"$X$14","v":5.7292762618000002E-2},{"$f":"$Y$14","v":0.9295085287710001},null,{"$f":"$AA$14","v":0.95892907618699996},{"$f":"$AB$14","v":0.95972560570599996},null,{"$f":"$AD$14","v":0.52537551566999996},{"$f":"$AE$14","v":-9.6277000653000003E-2},null,{"$f":"$AG$14","v":-9.9941120414999987E-2}]
[{"$f":"INDIRECT(\"Data!H\"&$B$2+12)","v":0},{"$f":"INDIRECT(\"Data!J\"&$B$2+12)","v":0},{"$f":"INDIRECT(\"Data!K\"&$B$2+12)","v":0},{"$f":"INDIRECT(\"Data!L\"&$B$2+12)","v":0},null,null,null,null,null,null,null,null,null,{"$f":"RTD(\"cqg.rtd\", ,\"ContractData\",Symbols!B7, \"LongDescription\",, \"T\")","v":"Sberbank, Mar 19"},null,null,null,{"$f":"Symbols!B7","v":"FSR"},{"$f":"Data!C5","v":-0.48612610349399998},null,{"$f":"Data!D5","v":-0.59753974773200003},{"$f":"Data!E5","v":-0.68519489858000004},null,{"$f":"Data!F5","v":-0.11447325323799999},{"$f":"Data!G5","v":-0.72990269666800001},null,{"$f":"Data!H5","v":-0.8550591894020001},{"$f":"Data!I5","v":-0.86714762874300011},null,{"$f":"Data!J5","v":-0.39822921533100003},{"$f":"Data!K5","v":-8.8977522313000004E-2},null,{"$f":"Data!L5","v":-3.0447847293999998E-2}]
[{"$f":"INDIRECT(\"Data!H\"&$B$2+13)","v":0},{"$f":"INDIRECT(\"Data!J\"&$B$2+13)","v":0},{"$f":"INDIRECT(\"Data!K\"&$B$2+13)","v":0},{"$f":"INDIRECT(\"Data!L\"&$B$2+13)","v":0},null,null,null,null,null,null,null,null,null,{"$f":"$N$16","v":"Sberbank, Mar 19"},null,null,null,null,{"$f":"$S$16","v":-0.48612610349399998},null,{"$f":"$U$16","v":-0.59753974773200003},{"$f":"$V$16","v":-0.68519489858000004},null,{"$f":"$X$16","v":-0.11447325323799999},{"$f":"$Y$16","v":-0.72990269666800001},null,{"$f":"$AA$16","v":-0.8550591894020001},{"$f":"$AB$16","v":-0.86714762874300011},null,{"$f":"$AD$16","v":-0.39822921533100003},{"$f":"$AE$16","v":-8.8977522313000004E-2},null,{"$f":"$AG$16","v":-3.0447847293999998E-2}]
[{"$f":"INDIRECT(\"Data!H\"&$B$2+14)","v":0},{"$f":"INDIRECT(\"Data!J\"&$B$2+14)","v":0},{"$f":"INDIRECT(\"Data!K\"&$B$2+14)","v":0},{"$f":"INDIRECT(\"Data!L\"&$B$2+14)","v":0},null,null,null,null,null,null,null,null,null,{"$f":"RTD(\"cqg.rtd\", ,\"ContractData\",Symbols!B8, \"LongDescription\",, \"T\")","v":"Gazprom, Mar 19"},null,null,null,{"$f":"Symbols!B8","v":"FGZ"},{"$f":"Data!C6","v":-0.55973026636400003},null,{"$f":"Data!D6","v":-0.65695880308099996},{"$f":"Data!E6","v":-0.73079078791899998},null,{"$f":"Data!F6","v":-1.9523397732E-2},{"$f":"Data!G6","v":-0.73612465796600002},null,{"$f":"Data!H6","v":-0.85492451112900003},{"$f":"Data!I6","v":-0.87083587074199997},null,{"$f":"Data!J6","v":-0.43157473103199995},{"$f":"Data!K6","v":-4.4763430013000004E-2},null,{"$f":"Data!L6","v":-4.0820724846000002E-2}]
[{"$f":"INDIRECT(\"Data!H\"&$B$2+15)","v":0},{"$f":"INDIRECT(\"Data!J\"&$B$2+15)","v":0},{"$f":"INDIRECT(\"Data!K\"&$B$2+15)","v":0},{"$f":"INDIRECT(\"Data!L\"&$B$2+15)","v":0},null,null,null,null,null,null,null,null,null,{"$f":"$N$18","v":"Gazprom, Mar 19"},null,null,null,null,{"$f":"$S$18","v":-0.55973026636400003},null,{"$f":"$U$18","v":-0.65695880308099996},{"$f":"$V$18","v":-0.73079078791899998},null,{"$f":"$X$18","v":-1.9523397732E-2},{"$f":"$Y$18","v":-0.73612465796600002},null,{"$f":"$AA$18","v":-0.85492451112900003},{"$f":"$AB$18","v":-0.87083587074199997},null,{"$f":"$AD$18","v":-0.43157473103199995},{"$f":"$AE$18","v":-4.4763430013000004E-2},null,{"$f":"$AG$18","v":-4.0820724846000002E-2}]
[{"$f":"INDIRECT(\"Data!H\"&$B$2+16)","v":0},{"$f":"INDIRECT(\"Data!J\"&$B$2+16)","v":0},{"$f":"INDIRECT(\"Data!K\"&$B$2+16)","v":0},{"$f":"INDIRECT(\"Data!L\"&$B$2+16)","v":0},{"$f":"TEXT(V32,\"#.00\")&\" Correlation to the \"&RTD(\"cqg.rtd\",,\"ContractData\",'1'!O2,\"LongDescription\",,\"T\")","v":"-.33 Correlation to the CAC40, Mar 19"},null,null,null,null,null,null,null,null,{"$f":"RTD(\"cqg.rtd\", ,\"ContractData\",Symbols!B9, \"LongDescription\",, \"T\")","v":"EUR/USD, Mar 19"},null,null,null,{"$f":"Symbols!B9","v":"FFED"},{"$f":"Data!C7","v":0.349557264797},null,{"$f":"Data!D7","v":0.17730779182500001},{"$f":"Data!E7","v":0.11627752333500001},null,{"$f":"Data!F7","v":0.74604857997699991},{"$f":"Data!G7","v":4.5077165655000001E-2},null,{"$f":"Data!H7","v":-0.20325461881999998},{"$f":"Data!I7","v":-0.16534674977700001},null,{"$f":"Data!J7","v":0.22088645062500001},{"$f":"Data!K7","v":-0.23044934483799998},null,{"$f":"Data!L7","v":-0.83661015078899992}]
[{"$f":"INDIRECT(\"Data!H\"&$B$2+17)","v":0},{"$f":"INDIRECT(\"Data!J\"&$B$2+17)","v":0},{"$f":"INDIRECT(\"Data!K\"&$B$2+17)","v":0},{"$f":"INDIRECT(\"Data!L\"&$B$2+17)","v":0},null,null,null,null,null,null,null,null,null,{"$f":"$N$20","v":"EUR/USD, Mar 19"},null,null,null,null,{"$f":"$S$20","v":0.349557264797},null,{"$f":"$U$20","v":0.17730779182500001},{"$f":"$V$20","v":0.11627752333500001},null,{"$f":"$X$20","v":0.74604857997699991},{"$f":"$Y$20","v":4.5077165655000001E-2},null,{"$f":"$AA$20","v":-0.20325461881999998},{"$f":"$AB$20","v":-0.16534674977700001},null,{"$f":"$AD$20","v":0.22088645062500001},{"$f":"$AE$20","v":-0.23044934483799998},null,{"$f":"$AG$20","v":-0.83661015078899992}]
[{"$f":"INDIRECT(\"Data!H\"&$B$2+18)","v":0},{"$f":"INDIRECT(\"Data!J\"&$B$2+18)","v":0},{"$f":"INDIRECT(\"Data!K\"&$B$2+18)","v":0},{"$f":"INDIRECT(\"Data!L\"&$B$2+18)","v":0},null,null,null,null,null,null,null,null,null,{"$f":"RTD(\"cqg.rtd\", ,\"ContractData\",Symbols!B10, \"LongDescription\",, \"T\")","v":"RTS Index, Mar 19"},null,null,null,{"$f":"Symbols!B10","v":"FRI"},{"$f":"Data!C8","v":-8.2870657685999993E-2},null,{"$f":"Data!D8","v":-0.24823742247300001},{"$f":"Data!E8","v":-0.34151250179199999},null,{"$f":"Data!F8","v":0.30291481265800002},{"$f":"Data!G8","v":-0.44294948380900001},null,{"$f":"Data!H8","v":-0.625325736706},{"$f":"Data!I8","v":-0.60179197488000002},null,{"$f":"Data!J8","v":-2.9787143926000001E-2},{"$f":"Data!K8","v":-6.4320220984999996E-2},null,{"$f":"Data!L8","v":-0.44419025177299998}]
[{"$f":"INDIRECT(\"Data!H\"&$B$2+19)","v":0},{"$f":"INDIRECT(\"Data!J\"&$B$2+19)","v":0},{"$f":"INDIRECT(\"Data!K\"&$B$2+19)","v":0},{"$f":"INDIRECT(\"Data!L\"&$B$2+19)","v":0},null,null,null,null,null,null,null,null,null,{"$f":"$N$22","v":"RTS Index, Mar 19"},null,null,null,null,{"$f":"$S$22","v":-8.2870657685999993E-2},null,{"$f":"$U$22","v":-0.24823742247300001},{"$f":"$V$22","v":-0.34151250179199999},null,{"$f":"$X$22","v":0.30291481265800002},{"$f":"$Y$22","v":-0.44294948380900001},null,{"$f":"$AA$22","v":-0.625325736706},{"$f":"$AB$22","v":-0.60179197488000002},null,{"$f":"$AD$22","v":-2.9787143926000001E-2},{"$f":"$AE$22","v":-6.4320220984999996E-2},null,{"$f":"$AG$22","v":-0.44419025177299998}]
[{"$f":"INDIRECT(\"Data!H\"&$B$2+20)","v":0},{"$f":"INDIRECT(\"Data!J\"&$B$2+20)","v":0},{"$f":"INDIRECT(\"Data!K\"&$B$2+20)","v":0},{"$f":"INDIRECT(\"Data!L\"&$B$2+20)","v":0},null,null,null,null,null,null,null,null,null,{"$f":"RTD(\"cqg.rtd\", ,\"ContractData\",Symbols!B11, \"LongDescription\",, \"T\")","v":"Euro FX (Globex), Mar 19"},null,null,null,{"$f":"Symbols!B11","v":"EU6"},{"$f":"Data!C9","v":0.18260440909700001},null,{"$f":"Data!D9","v":-2.2830082769000001E-2},{"$f":"Data!E9","v":-4.9517703552999996E-2},null,{"$f":"Data!F9","v":0.76603806236700001},{"$f":"Data!G9","v":5.1654628976000004E-2},null,{"$f":"Data!H9","v":-0.11251204606},{"$f":"Data!I9","v":-5.3892842620000006E-2},null,{"$f":"Data!J9","v":0.33097108364},{"$f":"Data!K9","v":6.5397636630999997E-2},null,{"$f":"Data!L9","v":-0.96917587585600007}]
[{"$f":"INDIRECT(\"Data!H\"&$B$2+21)","v":0},{"$f":"INDIRECT(\"Data!J\"&$B$2+21)","v":0},{"$f":"INDIRECT(\"Data!K\"&$B$2+21)","v":0},{"$f":"INDIRECT(\"Data!L\"&$B$2+21)","v":0},null,null,null,null,null,null,null,null,null,{"$f":"$N$24","v":"Euro FX (Globex), Mar 19"},null,null,null,null,{"$f":"$S$24","v":0.18260440909700001},null,{"$f":"$U$24","v":-2.2830082769000001E-2},{"$f":"$V$24","v":-4.9517703552999996E-2},null,{"$f":"$X$24","v":0.76603806236700001},{"$f":"$Y$24","v":5.1654628976000004E-2},null,{"$f":"$AA$24","v":-0.11251204606},{"$f":"$AB$24","v":-5.3892842620000006E-2},null,{"$f":"$AD$24","v":0.33097108364},{"$f":"$AE$24","v":6.5397636630999997E-2},null,{"$f":"$AG$24","v":-0.96917587585600007}]
[{"$f":"INDIRECT(\"Data!H\"&$B$2+22)","v":0},{"$f":"INDIRECT(\"Data!J\"&$B$2+22)","v":0},{"$f":"INDIRECT(\"Data!K\"&$B$2+22)","v":0},{"$f":"INDIRECT(\"Data!L\"&$B$2+22)","v":0},{"$f":"TEXT(X32,\"#.00\")&\" Correlation to the \"&RTD(\"cqg.rtd\",,\"ContractData\",'1'!U2,\"LongDescription\",,\"T\")","v":"-.36 Correlation to the Swiss Franc (Globex), Mar 19"},null,null,null,null,null,null,null,null,{"$f":"RTD(\"cqg.rtd\", ,\"ContractData\",Symbols!B12, \"LongDescription\",, \"T\")","v":"Japanese Yen (Globex), Mar 19"},null,null,null,{"$f":"Symbols!B12","v":"JY6"},{"$f":"Data!C10","v":-0.75006830636199995},null,{"$f":"Data!D10","v":-0.85150817031100001},{"$f":"Data!E10","v":-0.85874861089199994},null,{"$f":"Data!F10","v":0.129821304809},{"$f":"Data!G10","v":-0.630832893256},null,{"$f":"Data!H10","v":-0.65660809213700011},{"$f":"Data!I10","v":-0.64183575865700004},null,{"$f":"Data!J10","v":-0.76678375338500004},{"$f":"Data!K10","v":0.74026547051799996},null,{"$f":"Data!L10","v":-0.11801890268199999}]
[{"$f":"INDIRECT(\"Data!H\"&$B$2+23)","v":0},{"$f":"INDIRECT(\"Data!J\"&$B$2+23)","v":0},{"$f":"INDIRECT(\"Data!K\"&$B$2+23)","v":0},{"$f":"INDIRECT(\"Data!L\"&$B$2+23)","v":0},null,null,null,null,null,null,null,null,null,{"$f":"$N$26","v":"Japanese Yen (Globex), Mar 19"},null,null,null,null,{"$f":"$S$26","v":-0.75006830636199995},null,{"$f":"$U$26","v":-0.85150817031100001},{"$f":"$V$26","v":-0.85874861089199994},null,{"$f":"$X$26","v":0.129821304809},{"$f":"$Y$26","v":-0.630832893256},null,{"$f":"$AA$26","v":-0.65660809213700011},{"$f":"$AB$26","v":-0.64183575865700004},null,{"$f":"$AD$26","v":-0.76678375338500004},{"$f":"$AE$26","v":0.74026547051799996},null,{"$f":"$AG$26","v":-0.11801890268199999}]
[{"$f":"INDIRECT(\"Data!H\"&$B$2+24)","v":0},{"$f":"INDIRECT(\"Data!J\"&$B$2+24)","v":0},{"$f":"INDIRECT(\"Data!K\"&$B$2+24)","v":0},{"$f":"INDIRECT(\"Data!L\"&$B$2+24)","v":0},null,null,null,null,null,null,null,null,null,{"$f":"RTD(\"cqg.rtd\", ,\"ContractData\",Symbols!B13, \"LongDescription\",, \"T\")","v":"Australian Dollar (Globex), Mar 19"},null,null,null,{"$f":"Symbols!B13","v":"DA6"},{"$f":"Data!C11","v":0.15899785705899999},null,{"$f":"Data!D11","v":-6.3675678469999998E-3},{"$f":"Data!E11","v":-5.3871778749999995E-3},null,{"$f":"Data!F11","v":0.44923208494199995},{"$f":"Data!G11","v":0.18992446031299998},null,{"$f":"Data!H11","v":8.0259399122000002E-2},{"$f":"Data!I11","v":0.12436137793},null,{"$f":"Data!J11","v":3.2062381621000002E-2},{"$f":"Data!K11","v":0.346350615626},null,{"$f":"Data!L11","v":-0.58906577497299994}]
[{"$f":"INDIRECT(\"Data!H\"&$B$2+25)","v":0},{"$f":"INDIRECT(\"Data!J\"&$B$2+25)","v":0},{"$f":"INDIRECT(\"Data!K\"&$B$2+25)","v":0},{"$f":"INDIRECT(\"Data!L\"&$B$2+25)","v":0},null,null,null,null,null,null,null,null,null,{"$f":"$N$28","v":"Australian Dollar (Globex), Mar 19"},null,null,null,null,{"$f":"$S$28","v":0.15899785705899999},null,{"$f":"$U$28","v":-6.3675678469999998E-3},{"$f":"$V$28","v":-5.3871778749999995E-3},null,{"$f":"$X$28","v":0.44923208494199995},{"$f":"$Y$28","v":0.18992446031299998},null,{"$f":"$AA$28","v":8.0259399122000002E-2},{"$f":"$AB$28","v":0.12436137793},null,{"$f":"$AD$28","v":3.2062381621000002E-2},{"$f":"$AE$28","v":0.346350615626},null,{"$f":"$AG$28","v":-0.58906577497299994}]
[{"$f":"INDIRECT(\"Data!H\"&$B$2+26)","v":0},{"$f":"INDIRECT(\"Data!J\"&$B$2+26)","v":0},{"$f":"INDIRECT(\"Data!K\"&$B$2+26)","v":0},{"$f":"INDIRECT(\"Data!L\"&$B$2+26)","v":0},null,null,null,null,null,null,null,null,null,{"$f":"RTD(\"cqg.rtd\", ,\"ContractData\",Symbols!B14, \"LongDescription\",, \"T\")","v":"British Pound (Globex), Mar 19"},null,null,null,{"$f":"Symbols!B14","v":"BP6"},{"$f":"Data!C12","v":0.77485856255399999},null,{"$f":"Data!D12","v":0.752476538443},{"$f":"Data!E12","v":0.75359074108699997},null,{"$f":"Data!F12","v":0.54464540875599998},{"$f":"Data!G12","v":0.61171242660899994},null,{"$f":"Data!H12","v":0.56437306174500002},{"$f":"Data!I12","v":0.60272559948600002},null,{"$f":"Data!J12","v":0.83200180335700002},{"$f":"Data!K12","v":-0.30896478394300003},null,{"$f":"Data!L12","v":-0.62980638576500003}]
[{"$f":"INDIRECT(\"Data!H\"&$B$2+27)","v":0},{"$f":"INDIRECT(\"Data!J\"&$B$2+27)","v":0},{"$f":"INDIRECT(\"Data!K\"&$B$2+27)","v":0},{"$f":"INDIRECT(\"Data!L\"&$B$2+27)","v":0},null,null,null,null,null,null,null,null,null,{"$f":"$N$30","v":"British Pound (Globex), Mar 19"},null,null,null,null,{"$f":"$S$30","v":0.77485856255399999},null,{"$f":"$U$30","v":0.752476538443},{"$f":"$V$30","v":0.75359074108699997},null,{"$f":"$X$30","v":0.54464540875599998},{"$f":"$Y$30","v":0.61171242660899994},null,{"$f":"$AA$30","v":0.56437306174500002},{"$f":"$AB$30","v":0.60272559948600002},null,{"$f":"$AD$30","v":0.83200180335700002},{"$f":"$AE$30","v":-0.30896478394300003},null,{"$f":"$AG$30","v":-0.62980638576500003}]
[{"$f":"INDIRECT(\"Data!H\"&$B$2+28)","v":0},{"$f":"INDIRECT(\"Data!J\"&$B$2+28)","v":0},{"$f":"INDIRECT(\"Data!K\"&$B$2+28)","v":0},{"$f":"INDIRECT(\"Data!L\"&$B$2+28)","v":0},null,null,null,null,null,null,null,null,null,{"$f":"$N$12","v":"USD/RUB, Mar 19"},null,null,null,null,{"$f":"$S$12","v":-0.43186352506500003},null,{"$f":"$U$12","v":-0.37356133452700002},{"$f":"$V$12","v":-0.33429498820200004},null,{"$f":"$X$12","v":-0.35848139454299999},{"$f":"$Y$12","v":-0.223270384934},null,{"$f":"$AA$12","v":-0.12062893362400001},{"$f":"$AB$12","v":-0.14990757502800001},null,{"$f":"$AD$12","v":-0.49878522700300004},{"$f":"$AE$12","v":0.24583776688299999},null,{"$f":"$AG$12","v":0.36478445348800004}]
[{"$f":"INDIRECT(\"Data!H\"&$B$2+29)","v":0},{"$f":"INDIRECT(\"Data!J\"&$B$2+29)","v":0},{"$f":"INDIRECT(\"Data!K\"&$B$2+29)","v":0},{"$f":"INDIRECT(\"Data!L\"&$B$2+29)","v":0},{"$f":"TEXT(Y32,\"#.00\")&\" Correlation to the \"&RTD(\"cqg.rtd\",,\"ContractData\",'1'!AA2,\"LongDescription\",,\"T\")","v":"-.22 Correlation to the Crude Light (Globex), Apr 19"},null,null,null,null,null,null,null,null,{"$f":"\"Correlations relative to the  \"&N32&\"                        City of Moscow, Russia\"","v":"Correlations relative to the  USD/RUB, Mar 19                        City of Moscow, Russia"}]
[{"$f":"INDIRECT(\"Data!H\"&$B$2+30)","v":0},{"$f":"INDIRECT(\"Data!J\"&$B$2+30)","v":0},{"$f":"INDIRECT(\"Data!K\"&$B$2+30)","v":0},{"$f":"INDIRECT(\"Data!L\"&$B$2+30)","v":0}]
[{"$f":"INDIRECT(\"Data!H\"&$B$2+31)","v":0},{"$f":"INDIRECT(\"Data!J\"&$B$2+31)","v":0},{"$f":"INDIRECT(\"Data!K\"&$B$2+31)","v":0},{"$f":"INDIRECT(\"Data!L\"&$B$2+31)","v":0}]
[{"$f":"INDIRECT(\"Data!H\"&$B$2+32)","v":0},{"$f":"INDIRECT(\"Data!J\"&$B$2+32)","v":0},{"$f":"INDIRECT(\"Data!K\"&$B$2+32)","v":0},{"$f":"INDIRECT(\"Data!L\"&$B$2+32)","v":0},{"$f":"TEXT(AA32,\"#.00\")&\" Correlation to the \"&RTD(\"cqg.rtd\",,\"ContractData\",'1'!AG2,\"LongDescription\",,\"T\")","v":"-.12 Correlation to the NY Harbor ULSD, Apr 19"}]
[{"$f":"INDIRECT(\"Data!H\"&$B$2+33)","v":0},{"$f":"INDIRECT(\"Data!J\"&$B$2+33)","v":0},{"$f":"INDIRECT(\"Data!K\"&$B$2+33)","v":0},{"$f":"INDIRECT(\"Data!L\"&$B$2+33)","v":0}]
[{"$f":"INDIRECT(\"Data!H\"&$B$2+34)","v":0},{"$f":"INDIRECT(\"Data!J\"&$B$2+34)","v":0},{"$f":"INDIRECT(\"Data!K\"&$B$2+34)","v":0},{"$f":"INDIRECT(\"Data!L\"&$B$2+34)","v":0}]
[{"$f":"INDIRECT(\"Data!H\"&$B$2+35)","v":0},{"$f":"INDIRECT(\"Data!J\"&$B$2+35)","v":0},{"$f":"INDIRECT(\"Data!K\"&$B$2+35)","v":0},{"$f":"INDIRECT(\"Data!L\"&$B$2+35)","v":0},{"$f":"TEXT(AB32,\"#.00\")&\" Correlation to the \"&RTD(\"cqg.rtd\",,\"ContractData\",'1'!AM2,\"LongDescription\",,\"T\")","v":"-.15 Correlation to the RBOB Gasoline (Globex), Apr 19"}]
[{"$f":"INDIRECT(\"Data!H\"&$B$2+36)","v":0},{"$f":"INDIRECT(\"Data!J\"&$B$2+36)","v":0},{"$f":"INDIRECT(\"Data!K\"&$B$2+36)","v":0},{"$f":"INDIRECT(\"Data!L\"&$B$2+36)","v":0}]
[{"$f":"INDIRECT(\"Data!H\"&$B$2+35)","v":0},{"$f":"INDIRECT(\"Data!J\"&$B$2+35)","v":0},{"$f":"INDIRECT(\"Data!K\"&$B$2+35)","v":0},{"$f":"INDIRECT(\"Data!L\"&$B$2+35)","v":0}]
[{"$f":"INDIRECT(\"Data!H\"&$B$2+38)","v":0},{"$f":"INDIRECT(\"Data!J\"&$B$2+38)","v":0},{"$f":"INDIRECT(\"Data!K\"&$B$2+38)","v":0},{"$f":"INDIRECT(\"Data!L\"&$B$2+38)","v":0},{"$f":"TEXT(AD32,\"#.00\")&\" Correlation to the \"&RTD(\"cqg.rtd\",,\"ContractData\",'1'!AS2,\"LongDescription\",,\"T\")","v":"-.50 Correlation to the Natural Gas (Globex), Apr 19"}]
[{"$f":"INDIRECT(\"Data!H\"&$B$2+39)","v":0},{"$f":"INDIRECT(\"Data!J\"&$B$2+39)","v":0},{"$f":"INDIRECT(\"Data!K\"&$B$2+39)","v":0},{"$f":"INDIRECT(\"Data!L\"&$B$2+39)","v":0}]
[{"$f":"INDIRECT(\"Data!H\"&$B$2+40)","v":0},{"$f":"INDIRECT(\"Data!J\"&$B$2+40)","v":0},{"$f":"INDIRECT(\"Data!K\"&$B$2+40)","v":0},{"$f":"INDIRECT(\"Data!L\"&$B$2+40)","v":0}]
[{"$f":"INDIRECT(\"Data!H\"&$B$2+41)","v":0},{"$f":"INDIRECT(\"Data!J\"&$B$2+41)","v":0},{"$f":"INDIRECT(\"Data!K\"&$B$2+41)","v":0},{"$f":"INDIRECT(\"Data!L\"&$B$2+41)","v":0},{"$f":"TEXT(AE32,\"#.00\")&\" Correlation to the \"&RTD(\"cqg.rtd\",,\"ContractData\",'1'!AY2,\"LongDescription\",,\"T\")","v":".25 Correlation to the 10yr US Treasury Notes (Globex), Jun 19"}]
[{"$f":"INDIRECT(\"Data!H\"&$B$2+42)","v":0},{"$f":"INDIRECT(\"Data!J\"&$B$2+42)","v":0},{"$f":"INDIRECT(\"Data!K\"&$B$2+42)","v":0},{"$f":"INDIRECT(\"Data!L\"&$B$2+42)","v":0}]
[{"$f":"INDIRECT(\"Data!H\"&$B$2+43)","v":0},{"$f":"INDIRECT(\"Data!J\"&$B$2+43)","v":0},{"$f":"INDIRECT(\"Data!K\"&$B$2+43)","v":0},{"$f":"INDIRECT(\"Data!L\"&$B$2+43)","v":0}]
[null,null,null,null,{"$f":"TEXT(AG32,\"#.00\")&\" Correlation to the \"&RTD(\"cqg.rtd\",,\"ContractData\",'1'!BE2,\"LongDescription\",,\"T\")","v":".36 Correlation to the Dollar Index (ICE), Mar 19"}]
[]
[]
[{"$f":"INDIRECT(\"Data!H\"&$B$2+47)","v":0},{"$f":"INDIRECT(\"Data!J\"&$B$2+47)","v":0},{"$f":"INDIRECT(\"Data!K\"&$B$2+47)","v":0},{"$f":"INDIRECT(\"Data!L\"&$B$2+47)","v":0},{"$f":"RTD(\"cqg.rtd\", ,\"ContractData\",Symbols!D3, \"LongDescription\",, \"T\")","v":"DAX Index, Mar 19"},null,null,{"$f":"RTD(\"cqg.rtd\", ,\"ContractData\",Symbols!E3, \"LongDescription\",, \"T\")","v":"Euro STOXX 50, Mar 19"},null,null,{"$f":"RTD(\"cqg.rtd\", ,\"ContractData\",Symbols!F3, \"LongDescription\",, \"T\")","v":"CAC40, Mar 19"},null,null,{"$f":"RTD(\"cqg.rtd\", ,\"ContractData\",Symbols!G3, \"LongDescription\",, \"T\")","v":"Swiss Franc (Globex), Mar 19"},null,null,{"$f":"RTD(\"cqg.rtd\", ,\"ContractData\",Symbols!H3, \"LongDescription\",, \"T\")","v":"Crude Light (Globex), Apr 19"},null,null,{"$f":"RTD(\"cqg.rtd\", ,\"ContractData\",Symbols!I3, \"LongDescription\",, \"T\")","v":"NY Harbor ULSD, Apr 19"},null,null,{"$f":"RTD(\"cqg.rtd\", ,\"ContractData\",Symbols!J3, \"LongDescription\",, \"T\")","v":"RBOB Gasoline (Globex), Apr 19"},null,null,{"$f":"RTD(\"cqg.rtd\", ,\"ContractData\",Symbols!K3, \"LongDescription\",, \"T\")","v":"Natural Gas (Globex), Apr 19"},null,null,{"$f":"RTD(\"cqg.rtd\", ,\"ContractData\",Symbols!L3, \"LongDescription\",, \"T\")","v":"10yr US Treasury Notes (Globex), Jun 19"},null,null,{"$f":"RTD(\"cqg.rtd\", ,\"ContractData\",Symbols!M3, \"LongDescription\",, \"T\")","v":"Dollar Index (ICE), Mar 19"}]
[{"$f":"INDIRECT(\"Data!H\"&$B$2+48)","v":0},{"$f":"INDIRECT(\"Data!J\"&$B$2+48)","v":0},{"$f":"INDIRECT(\"Data!K\"&$B$2+48)","v":0},{"$f":"INDIRECT(\"Data!L\"&$B$2+48)","v":0},{"$f":"IF(Symbols!D4=\"B\",RTD(\"cqg.rtd\",,\"ContractData\",Symbols!D3,\"LastTrade\",,\"B\"),TEXT(RTD(\"cqg.rtd\",,\"ContractData\",Symbols!D3,\"LastTrade\",,\"T\"),Symbols!D2))","v":"11629.50"},null,null,{"$f":"IF(Symbols!E4=\"B\",RTD(\"cqg.rtd\",,\"ContractData\",Symbols!E3,\"LastTrade\",,\"B\"),TEXT(RTD(\"cqg.rtd\",,\"ContractData\",Symbols!E3,\"LastTrade\",,\"T\"),Symbols!E2))","v":"3325"},null,null,{"$f":"IF(Symbols!F4=\"B\",RTD(\"cqg.rtd\",,\"ContractData\",Symbols!F3,\"LastTrade\",,\"B\"),TEXT(RTD(\"cqg.rtd\",,\"ContractData\",Symbols!F3,\"LastTrade\",,\"T\"),Symbols!F2))","v":"5300.00"},null,null,{"$f":"IF(Symbols!G4=\"B\",RTD(\"cqg.rtd\",,\"ContractData\",Symbols!G3,\"LastTrade\",,\"B\"),TEXT(RTD(\"cqg.rtd\",,\"ContractData\",Symbols!G3,\"LastTrade\",,\"T\"),Symbols!G2))","v":"1.0010"},null,null,{"$f":"IF(Symbols!H4=\"B\",RTD(\"cqg.rtd\",,\"ContractData\",Symbols!H3,\"LastTrade\",,\"B\"),TEXT(RTD(\"cqg.rtd\",,\"ContractData\",Symbols!H3,\"LastTrade\",,\"T\"),Symbols!H2))","v":"56.73"},null,null,{"$f":"IF(Symbols!I4=\"B\",RTD(\"cqg.rtd\",,\"ContractData\",Symbols!I3,\"LastTrade\",,\"B\"),TEXT(RTD(\"cqg.rtd\",,\"ContractData\",Symbols!I3,\"LastTrade\",,\"T\"),Symbols!I2))","v":"2.0274"},null,null,{"$f":"IF(Symbols!J4=\"B\",RTD(\"cqg.rtd\",,\"ContractData\",Symbols!J3,\"LastTrade\",,\"B\"),TEXT(RTD(\"cqg.rtd\",,\"ContractData\",Symbols!J3,\"LastTrade\",,\"T\"),Symbols!J2))","v":"1.7576"},null,null,{"$f":"IF(Symbols!K4=\"B\",RTD(\"cqg.rtd\",,\"ContractData\",Symbols!K3,\"LastTrade\",,\"B\"),TEXT(RTD(\"cqg.rtd\",,\"ContractData\",Symbols!K3,\"LastTrade\",,\"T\"),Symbols!K2))","v":"2.847"},null,null,{"$f":"IF(Symbols!L4=\"B\",RTD(\"cqg.rtd\",,\"ContractData\",Symbols!L3,\"LastTrade\",,\"B\"),TEXT(RTD(\"cqg.rtd\",,\"ContractData\",Symbols!L3,\"LastTrade\",,\"T\"),Symbols!L2))","v":"121215"},null,null,{"$f":"IF(Symbols!M4=\"B\",RTD(\"cqg.rtd\",,\"ContractData\",Symbols!M3,\"LastTrade\",,\"B\"),TEXT(RTD(\"cqg.rtd\",,\"ContractData\",Symbols!M3,\"LastTrade\",,\"T\"),Symbols!M2))","v":"96.69"}]
[{"$f":"INDIRECT(\"Data!H\"&$B$2+49)","v":0},{"$f":"INDIRECT(\"Data!J\"&$B$2+49)","v":0},{"$f":"INDIRECT(\"Data!K\"&$B$2+49)","v":0},{"$f":"INDIRECT(\"Data!L\"&$B$2+49)","v":0}]
[null,null,null,null,"H:",{"$f":"IF(Symbols!D4=\"B\",RTD(\"cqg.rtd\",,\"ContractData\",Symbols!D3,\"High\",,\"B\"),TEXT(RTD(\"cqg.rtd\",,\"ContractData\",Symbols!D3,\"High\",,\"T\"),Symbols!D2))","v":"11678.50"},{"$f":"IF(Symbols!D4=\"B\",RTD(\"cqg.rtd\",,\"ContractData\",Symbols!D3,\"NetLastQuoteToday\",,\"B\"),IF(RTD(\"cqg.rtd\",,\"ContractData\",Symbols!D3,\"NetLastQuoteToday\",,\"T\")>0,\"+\"&TEXT(RTD(\"cqg.rtd\",,\"ContractData\",Symbols!D3,\"NetLastQuoteToday\",,\"T\"),Symbols!D2),TEXT(RTD(\"cqg.rtd\",,\"ContractData\",Symbols!D3,\"NetLastQuoteToday\",,\"T\"),Symbols!D2)))","v":"+30.50"},"H:",{"$f":"IF(Symbols!E4=\"B\",RTD(\"cqg.rtd\",,\"ContractData\",Symbols!E3,\"High\",,\"B\"),TEXT(RTD(\"cqg.rtd\",,\"ContractData\",Symbols!E3,\"High\",,\"T\"),Symbols!E2))","v":"3333"},{"$f":"IF(Symbols!E4=\"B\",RTD(\"cqg.rtd\",,\"ContractData\",Symbols!E3,\"NetLastQuoteToday\",,\"B\"),IF(RTD(\"cqg.rtd\",,\"ContractData\",Symbols!E3,\"NetLastQuoteToday\",,\"T\")>0,\"+\"&TEXT(RTD(\"cqg.rtd\",,\"ContractData\",Symbols!E3,\"NetLastQuoteToday\",,\"T\"),Symbols!E2),TEXT(RTD(\"cqg.rtd\",,\"ContractData\",Symbols!E3,\"NetLastQuoteToday\",,\"T\"),Symbols!E2)))","v":"+13"},"H:",{"$f":"IF(Symbols!F4=\"B\",RTD(\"cqg.rtd\",,\"ContractData\",Symbols!F3,\"High\",,\"B\"),TEXT(RTD(\"cqg.rtd\",,\"ContractData\",Symbols!F3,\"High\",,\"T\"),Symbols!F2))","v":"5309.50"},{"$f":"IF(Symbols!F4=\"B\",RTD(\"cqg.rtd\",,\"ContractData\",Symbols!F3,\"NetLastQuoteToday\",,\"B\"),IF(RTD(\"cqg.rtd\",,\"ContractData\",Symbols!F3,\"NetLastQuoteToday\",,\"T\")>0,\"+\"&TEXT(RTD(\"cqg.rtd\",,\"ContractData\",Symbols!F3,\"NetLastQuoteToday\",,\"T\"),Symbols!F2),TEXT(RTD(\"cqg.rtd\",,\"ContractData\",Symbols!F3,\"NetLastQuoteToday\",,\"T\"),Symbols!F2)))","v":"+20.00"},"H:",{"$f":"IF(Symbols!M4=\"B\",RTD(\"cqg.rtd\",,\"ContractData\",Symbols!G3,\"High\",,\"B\"),TEXT(RTD(\"cqg.rtd\",,\"ContractData\",Symbols!G3,\"High\",,\"T\"),Symbols!G2))","v":"1.0028"},{"$f":"IF(Symbols!G4=\"B\",RTD(\"cqg.rtd\",,\"ContractData\",Symbols!G3,\"NetLastQuoteToday\",,\"B\"),IF(RTD(\"cqg.rtd\",,\"ContractData\",Symbols!G3,\"NetLastQuoteToday\",,\"T\")>0,\"+\"&TEXT(RTD(\"cqg.rtd\",,\"ContractData\",Symbols!G3,\"NetLastQuoteToday\",,\"T\"),Symbols!G2),TEXT(RTD(\"cqg.rtd\",,\"ContractData\",Symbols!G3,\"NetLastQuoteToday\",,\"T\"),Symbols!G2)))","v":"-.0008"},"H:",{"$f":"IF(Symbols!H4=\"B\",RTD(\"cqg.rtd\",,\"ContractData\",Symbols!H3,\"High\",,\"B\"),TEXT(RTD(\"cqg.rtd\",,\"ContractData\",Symbols!H3,\"High\",,\"T\"),Symbols!H2))","v":"57.00"},{"$f":"IF(Symbols!H4=\"B\",RTD(\"cqg.rtd\",,\"ContractData\",Symbols!H3,\"NetLastQuoteToday\",,\"B\"),IF(RTD(\"cqg.rtd\",,\"ContractData\",Symbols!H3,\"NetLastQuoteToday\",,\"T\")>0,\"+\"&TEXT(RTD(\"cqg.rtd\",,\"ContractData\",Symbols!H3,\"NetLastQuoteToday\",,\"T\"),Symbols!H2),TEXT(RTD(\"cqg.rtd\",,\"ContractData\",Symbols!H3,\"NetLastQuoteToday\",,\"T\"),Symbols!H2)))","v":"+.94"},"H:",{"$f":"IF(Symbols!I4=\"B\",RTD(\"cqg.rtd\",,\"ContractData\",Symbols!I3,\"High\",,\"B\"),TEXT(RTD(\"cqg.rtd\",,\"ContractData\",Symbols!I3,\"High\",,\"T\"),Symbols!I2))","v":"2.0377"},{"$f":"IF(Symbols!I4=\"B\",RTD(\"cqg.rtd\",,\"ContractData\",Symbols!I3,\"NetLastQuoteToday\",,\"B\"),IF(RTD(\"cqg.rtd\",,\"ContractData\",Symbols!I3,\"NetLastQuoteToday\",,\"T\")>0,\"+\"&TEXT(RTD(\"cqg.rtd\",,\"ContractData\",Symbols!I3,\"NetLastQuoteToday\",,\"T\"),Symbols!I2),TEXT(RTD(\"cqg.rtd\",,\"ContractData\",Symbols!I3,\"NetLastQuoteToday\",,\"T\"),Symbols!I2)))","v":"+.0262"},"H:",{"$f":"IF(Symbols!J4=\"B\",RTD(\"cqg.rtd\",,\"ContractData\",Symbols!J3,\"High\",,\"B\"),TEXT(RTD(\"cqg.rtd\",,\"ContractData\",Symbols!J3,\"High\",,\"T\"),Symbols!J2))","v":"1.7660"},{"$f":"IF(Symbols!J4=\"B\",RTD(\"cqg.rtd\",,\"ContractData\",Symbols!J3,\"NetLastQuoteToday\",,\"B\"),IF(RTD(\"cqg.rtd\",,\"ContractData\",Symbols!J3,\"NetLastQuoteToday\",,\"T\")>0,\"+\"&TEXT(RTD(\"cqg.rtd\",,\"ContractData\",Symbols!J3,\"NetLastQuoteToday\",,\"T\"),Symbols!J2),TEXT(RTD(\"cqg.rtd\",,\"ContractData\",Symbols!J3,\"NetLastQuoteToday\",,\"T\"),Symbols!J2)))","v":"+.0272"},"H:",{"$f":"IF(Symbols!K4=\"B\",RTD(\"cqg.rtd\",,\"ContractData\",Symbols!K3,\"High\",,\"B\"),TEXT(RTD(\"cqg.rtd\",,\"ContractData\",Symbols!K3,\"High\",,\"T\"),Symbols!K2))","v":"2.888"},{"$f":"IF(Symbols!K4=\"B\",RTD(\"cqg.rtd\",,\"ContractData\",Symbols!K3,\"NetLastQuoteToday\",,\"B\"),IF(RTD(\"cqg.rtd\",,\"ContractData\",Symbols!K3,\"NetLastQuoteToday\",,\"T\")>0,\"+\"&TEXT(RTD(\"cqg.rtd\",,\"ContractData\",Symbols!K3,\"NetLastQuoteToday\",,\"T\"),Symbols!K2),TEXT(RTD(\"cqg.rtd\",,\"ContractData\",Symbols!K3,\"NetLastQuoteToday\",,\"T\"),Symbols!K2)))","v":"-.012"},"H:",{"$f":"IF(Symbols!L4=\"B\",RTD(\"cqg.rtd\",,\"ContractData\",Symbols!L3,\"High\",,\"B\"),TEXT(RTD(\"cqg.rtd\",,\"ContractData\",Symbols!L3,\"High\",,\"T\"),Symbols!L2))","v":"121240"},{"$f":"IF(Symbols!L4=\"B\",RTD(\"cqg.rtd\",,\"ContractData\",Symbols!L3,\"NetLastQuoteToday\",,\"B\"),IF(RTD(\"cqg.rtd\",,\"ContractData\",Symbols!L3,\"NetLastQuoteToday\",,\"T\")>0,\"+\"&TEXT(RTD(\"cqg.rtd\",,\"ContractData\",Symbols!L3,\"NetLastQuoteToday\",,\"T\"),Symbols!L2),TEXT(RTD(\"cqg.rtd\",,\"ContractData\",Symbols!L3,\"NetLastQuoteToday\",,\"T\"),Symbols!L2)))","v":"+5"},"H:",{"$f":"IF(Symbols!M4=\"B\",RTD(\"cqg.rtd\",,\"ContractData\",Symbols!M3,\"High\",,\"B\"),TEXT(RTD(\"cqg.rtd\",,\"ContractData\",Symbols!M3,\"High\",,\"T\"),Symbols!M2))","v":"96.75"},{"$f":"IF(Symbols!M4=\"B\",RTD(\"cqg.rtd\",,\"ContractData\",Symbols!M3,\"NetLastQuoteToday\",,\"B\"),IF(RTD(\"cqg.rtd\",,\"ContractData\",Symbols!M3,\"NetLastQuoteToday\",,\"T\")>0,\"+\"&TEXT(RTD(\"cqg.rtd\",,\"ContractData\",Symbols!M3,\"NetLastQuoteToday\",,\"T\"),Symbols!M2),TEXT(RTD(\"cqg.rtd\",,\"ContractData\",Symbols!M3,\"NetLastQuoteToday\",,\"T\"),Symbols!M2)))","v":"+.25"}]
[null,null,null,null,"L:",{"$f":"IF(Symbols!D4=\"B\",RTD(\"cqg.rtd\",,\"ContractData\",Symbols!D3,\"Low\",,\"B\"),TEXT(RTD(\"cqg.rtd\",,\"ContractData\",Symbols!D3,\"Low\",,\"T\"),Symbols!D2))","v":"11594.00"},{"$f":"IFERROR(RTD(\"cqg.rtd\", ,\"ContractData\",Symbols!D3, \"PerCentNetLastQuote\",, \"T\")/100,\"\")","v":2.6294236820552609E-3},"L:",{"$f":"IF(Symbols!E4=\"B\",RTD(\"cqg.rtd\",,\"ContractData\",Symbols!E3,\"Low\",,\"B\"),TEXT(RTD(\"cqg.rtd\",,\"ContractData\",Symbols!E3,\"Low\",,\"T\"),Symbols!E2))","v":"3314"},{"$f":"IFERROR(RTD(\"cqg.rtd\", ,\"ContractData\",Symbols!E3, \"PerCentNetLastQuote\",, \"T\")/100,\"\")","v":3.92512077294686E-3},"L:",{"$f":"IF(Symbols!F4=\"B\",RTD(\"cqg.rtd\",,\"ContractData\",Symbols!F3,\"Low\",,\"B\"),TEXT(RTD(\"cqg.rtd\",,\"ContractData\",Symbols!F3,\"Low\",,\"T\"),Symbols!F2))","v":"5285.50"},{"$f":"IFERROR(RTD(\"cqg.rtd\", ,\"ContractData\",Symbols!F3, \"PerCentNetLastQuote\",, \"T\")/100,\"\")","v":3.787878787878788E-3},"L:",{"$f":"IF(Symbols!G4=\"B\",RTD(\"cqg.rtd\",,\"ContractData\",Symbols!G3,\"Low\",,\"B\"),TEXT(RTD(\"cqg.rtd\",,\"ContractData\",Symbols!G3,\"Low\",,\"T\"),Symbols!G2))","v":".9993"},{"$f":"IFERROR(RTD(\"cqg.rtd\", ,\"ContractData\",Symbols!G3, \"PerCentNetLastQuote\",, \"T\")/100,\"\")","v":-7.9856258734278308E-4},"L:",{"$f":"IF(Symbols!H4=\"B\",RTD(\"cqg.rtd\",,\"ContractData\",Symbols!H3,\"Low\",,\"B\"),TEXT(RTD(\"cqg.rtd\",,\"ContractData\",Symbols!H3,\"Low\",,\"T\"),Symbols!H2))","v":"55.81"},{"$f":"IFERROR(RTD(\"cqg.rtd\", ,\"ContractData\",Symbols!H3, \"PerCentNetLastQuote\",, \"T\")/100,\"\")","v":1.6845878136200716E-2},"L:",{"$f":"IF(Symbols!I4=\"B\",RTD(\"cqg.rtd\",,\"ContractData\",Symbols!I3,\"Low\",,\"B\"),TEXT(RTD(\"cqg.rtd\",,\"ContractData\",Symbols!I3,\"Low\",,\"T\"),Symbols!I2))","v":"1.9995"},{"$f":"IFERROR(RTD(\"cqg.rtd\", ,\"ContractData\",Symbols!I3, \"PerCentNetLastQuote\",, \"T\")/100,\"\")","v":1.3093453273363318E-2},"L:",{"$f":"IF(Symbols!J4=\"B\",RTD(\"cqg.rtd\",,\"ContractData\",Symbols!J3,\"Low\",,\"B\"),TEXT(RTD(\"cqg.rtd\",,\"ContractData\",Symbols!J3,\"Low\",,\"T\"),Symbols!J2))","v":"1.7285"},{"$f":"IFERROR(RTD(\"cqg.rtd\", ,\"ContractData\",Symbols!J3, \"PerCentNetLastQuote\",, \"T\")/100,\"\")","v":1.5719817372709933E-2},"L:",{"$f":"IF(Symbols!K4=\"B\",RTD(\"cqg.rtd\",,\"ContractData\",Symbols!K3,\"Low\",,\"B\"),TEXT(RTD(\"cqg.rtd\",,\"ContractData\",Symbols!K3,\"Low\",,\"T\"),Symbols!K2))","v":"2.821"},{"$f":"IFERROR(RTD(\"cqg.rtd\", ,\"ContractData\",Symbols!K3, \"PerCentNetLastQuote\",, \"T\")/100,\"\")","v":-4.1972717733473244E-3},"L:",{"$f":"IF(Symbols!L4=\"B\",RTD(\"cqg.rtd\",,\"ContractData\",Symbols!L3,\"Low\",,\"B\"),TEXT(RTD(\"cqg.rtd\",,\"ContractData\",Symbols!L3,\"Low\",,\"T\"),Symbols!L2))","v":"121155"},{"$f":"IFERROR(RTD(\"cqg.rtd\", ,\"ContractData\",Symbols!L3, \"PerCentNetLastQuote\",, \"T\")/100,\"\")","v":1.2845215157353886E-4},"L:",{"$f":"IF(Symbols!M4=\"B\",RTD(\"cqg.rtd\",,\"ContractData\",Symbols!M3,\"Low\",,\"B\"),TEXT(RTD(\"cqg.rtd\",,\"ContractData\",Symbols!M3,\"Low\",,\"T\"),Symbols!M2))","v":"96.26"},{"$f":"IFERROR(RTD(\"cqg.rtd\", ,\"ContractData\",Symbols!M3, \"PerCentNetLastQuote\",, \"T\")/100,\"\")","v":2.5401762571280457E-3}]
[null,null,null,null,null,"       Copyright © 2017",null,null,null,"Chicago:",null,{"$f":"RTD(\"cqg.rtd\", ,\"SystemInfo\", \"Linetime\")","v":43528.406319444446},null,null,"Designed by Thom Hartle"]

{"sheet":"Symbols","index":1,"n_rows":36,"n_cols":14,"rows_kept":36,"cut":false,"hidden":false,"merged":[[2,1,2,2],[35,4,35,8]]}
[]
[null,null,null,{"$f":"IF(Symbols!D4=\"B\",\"B\",IF(Symbols!D4=0,0,IF(Symbols!D4=1,\"#.0\",IF(Symbols!D4=2,\"#.00\",IF(Symbols!D4=3,\"#.000\",IF(Symbols!D4=4,\"#.0000\",IF(Symbols!D4=5,\"#.00000\",IF(Symbols!D4=6,\"#.000000\",IF(Symbols!D4=7,\"#.0000000\")))))))))","v":"#.00"},{"$f":"IF(Symbols!E4=\"B\",\"B\",IF(Symbols!E4=0,0,IF(Symbols!E4=1,\"#.0\",IF(Symbols!E4=2,\"#.00\",IF(Symbols!E4=3,\"#.000\",IF(Symbols!E4=4,\"#.0000\",IF(Symbols!E4=5,\"#.00000\",IF(Symbols!E4=6,\"#.000000\",IF(Symbols!E4=7,\"#.0000000\")))))))))","v":0},{"$f":"IF(Symbols!F4=\"B\",\"B\",IF(Symbols!F4=0,0,IF(Symbols!F4=1,\"#.0\",IF(Symbols!F4=2,\"#.00\",IF(Symbols!F4=3,\"#.000\",IF(Symbols!F4=4,\"#.0000\",IF(Symbols!F4=5,\"#.00000\",IF(Symbols!F4=6,\"#.000000\",IF(Symbols!F4=7,\"#.0000000\")))))))))","v":"#.00"},{"$f":"IF(Symbols!G4=\"B\",\"B\",IF(Symbols!G4=0,0,IF(Symbols!G4=1,\"#.0\",IF(Symbols!G4=2,\"#.00\",IF(Symbols!G4=3,\"#.000\",IF(Symbols!G4=4,\"#.0000\",IF(Symbols!G4=5,\"#.00000\",IF(Symbols!G4=6,\"#.000000\",IF(Symbols!G4=7,\"#.0000000\")))))))))","v":"#.0000"},{"$f":"IF(Symbols!H4=\"B\",\"B\",IF(Symbols!H4=0,0,IF(Symbols!H4=1,\"#.0\",IF(Symbols!H4=2,\"#.00\",IF(Symbols!H4=3,\"#.000\",IF(Symbols!H4=4,\"#.0000\",IF(Symbols!H4=5,\"#.00000\",IF(Symbols!H4=6,\"#.000000\",IF(Symbols!H4=7,\"#.0000000\")))))))))","v":"#.00"},{"$f":"IF(Symbols!I4=\"B\",\"B\",IF(Symbols!I4=0,0,IF(Symbols!I4=1,\"#.0\",IF(Symbols!I4=2,\"#.00\",IF(Symbols!I4=3,\"#.000\",IF(Symbols!I4=4,\"#.0000\",IF(Symbols!I4=5,\"#.00000\",IF(Symbols!I4=6,\"#.000000\",IF(Symbols!I4=7,\"#.0000000\")))))))))","v":"#.0000"},{"$f":"IF(Symbols!J4=\"B\",\"B\",IF(Symbols!J4=0,0,IF(Symbols!J4=1,\"#.0\",IF(Symbols!J4=2,\"#.00\",IF(Symbols!J4=3,\"#.000\",IF(Symbols!J4=4,\"#.0000\",IF(Symbols!J4=5,\"#.00000\",IF(Symbols!J4=6,\"#.000000\",IF(Symbols!J4=7,\"#.0000000\")))))))))","v":"#.0000"},{"$f":"IF(Symbols!K4=\"B\",\"B\",IF(Symbols!K4=0,0,IF(Symbols!K4=1,\"#.0\",IF(Symbols!K4=2,\"#.00\",IF(Symbols!K4=3,\"#.000\",IF(Symbols!K4=4,\"#.0000\",IF(Symbols!K4=5,\"#.00000\",IF(Symbols!K4=6,\"#.000000\",IF(Symbols!K4=7,\"#.0000000\")))))))))","v":"#.000"},{"$f":"IF(Symbols!L4=\"B\",\"B\",IF(Symbols!L4=0,0,IF(Symbols!L4=1,\"#.0\",IF(Symbols!L4=2,\"#.00\",IF(Symbols!L4=3,\"#.000\",IF(Symbols!L4=4,\"#.0000\",IF(Symbols!L4=5,\"#.00000\",IF(Symbols!L4=6,\"#.000000\",IF(Symbols!L4=7,\"#.0000000\")))))))))","v":"B"},{"$f":"IF(Symbols!M4=\"B\",\"B\",IF(Symbols!M4=0,0,IF(Symbols!M4=1,\"#.0\",IF(Symbols!M4=2,\"#.00\",IF(Symbols!M4=3,\"#.000\",IF(Symbols!M4=4,\"#.0000\",IF(Symbols!M4=5,\"#.00000\",IF(Symbols!M4=6,\"#.000000\",IF(Symbols!M4=7,\"#.0000000\")))))))))","v":"#.00"},{"$f":"IF(Symbols!N4=\"B\",\"B\",IF(Symbols!N4=0,0,IF(Symbols!N4=1,\"#.0\",IF(Symbols!N4=2,\"#.00\",IF(Symbols!N4=3,\"#.000\",IF(Symbols!N4=4,\"#.0000\",IF(Symbols!N4=5,\"#.00000\",IF(Symbols!N4=6,\"#.000000\"))))))))","v":0}]
[null,"Symbols",null,"DD","DSX","PIL","SF6","CLE","HOE","RBE","NGE","TYA","DXE"]
[null,null,"Decimals",2,0,2,4,2,4,4,3,"B",2]
[null,"FUS",0,{"$f":"IF(Symbols!C5=\"B\",\"B\",IF(Symbols!C5=0,0,IF(Symbols!C5=1,\"#.0\",IF(Symbols!C5=2,\"#.00\",IF(Symbols!C5=3,\"#.000\",IF(Symbols!C5=4,\"#.0000\",IF(Symbols!C5=5,\"#.00000\",IF(Symbols!C5=6,\"#.000000\",IF(Symbols!C5=7,\"#.0000000\")))))))))","v":0}]
[null,"FBR",0,{"$f":"IF(Symbols!C6=\"B\",\"B\",IF(Symbols!C6=0,0,IF(Symbols!C6=1,\"#.0\",IF(Symbols!C6=2,\"#.00\",IF(Symbols!C6=3,\"#.000\",IF(Symbols!C6=4,\"#.0000\",IF(Symbols!C6=5,\"#.00000\",IF(Symbols!C6=6,\"#.000000\",IF(Symbols!C6=7,\"#.0000000\")))))))))","v":0},"Enter in, using all capitals, the symbols in the column to the left for the symbols in the first column of the Correlation matrix. This will also be the top row"]
[null,"FSR",0,{"$f":"IF(Symbols!C7=\"B\",\"B\",IF(Symbols!C7=0,0,IF(Symbols!C7=1,\"#.0\",IF(Symbols!C7=2,\"#.00\",IF(Symbols!C7=3,\"#.000\",IF(Symbols!C7=4,\"#.0000\",IF(Symbols!C7=5,\"#.00000\",IF(Symbols!C7=6,\"#.000000\",IF(Symbols!C7=7,\"#.0000000\")))))))))","v":0},"of market information on the main display. For price formatting, enter in the number of decimals or B for bonds and grains. "]
[null,"FGZ",0,{"$f":"IF(Symbols!C8=\"B\",\"B\",IF(Symbols!C8=0,0,IF(Symbols!C8=1,\"#.0\",IF(Symbols!C8=2,\"#.00\",IF(Symbols!C8=3,\"#.000\",IF(Symbols!C8=4,\"#.0000\",IF(Symbols!C8=5,\"#.00000\",IF(Symbols!C8=6,\"#.000000\",IF(Symbols!C8=7,\"#.0000000\")))))))))","v":0}]
[null,"FFED",5,{"$f":"IF(Symbols!C9=\"B\",\"B\",IF(Symbols!C9=0,0,IF(Symbols!C9=1,\"#.0\",IF(Symbols!C9=2,\"#.00\",IF(Symbols!C9=3,\"#.000\",IF(Symbols!C9=4,\"#.0000\",IF(Symbols!C9=5,\"#.00000\",IF(Symbols!C9=6,\"#.000000\",IF(Symbols!C9=7,\"#.0000000\")))))))))","v":"#.00000"},"Enter in, using all capitals, the symbols in the the top row above for the symbols along the top of the Correlation matrix. This will also be the bottom row"]
[null,"FRI",0,{"$f":"IF(Symbols!C10=\"B\",\"B\",IF(Symbols!C10=0,0,IF(Symbols!C10=1,\"#.0\",IF(Symbols!C10=2,\"#.00\",IF(Symbols!C10=3,\"#.000\",IF(Symbols!C10=4,\"#.0000\",IF(Symbols!C10=5,\"#.00000\",IF(Symbols!C10=6,\"#.000000\",IF(Symbols!C10=7,\"#.0000000\")))))))))","v":0},"of market information on the main display. Enter in the number of decimals or B for bonds and grains. "]
[null,"EU6",7,{"$f":"IF(Symbols!C11=\"B\",\"B\",IF(Symbols!C11=0,0,IF(Symbols!C11=1,\"#.0\",IF(Symbols!C11=2,\"#.00\",IF(Symbols!C11=3,\"#.000\",IF(Symbols!C11=4,\"#.0000\",IF(Symbols!C11=5,\"#.00000\",IF(Symbols!C11=6,\"#.000000\",IF(Symbols!C11=7,\"#.0000000\")))))))))","v":"#.0000000"}]
[null,"JY6",4,{"$f":"IF(Symbols!C12=\"B\",\"B\",IF(Symbols!C12=0,0,IF(Symbols!C12=1,\"#.0\",IF(Symbols!C12=2,\"#.00\",IF(Symbols!C12=3,\"#.000\",IF(Symbols!C12=4,\"#.0000\",IF(Symbols!C12=5,\"#.00000\",IF(Symbols!C12=6,\"#.000000\",IF(Symbols!C12=7,\"#.0000000\")))))))))","v":"#.0000"},"Click the \"Chart\" toolbar button on the Correlation matrix on the main display to change the scattergram chart to display"]
[null,"DA6",4,{"$f":"IF(Symbols!C13=\"B\",\"B\",IF(Symbols!C13=0,0,IF(Symbols!C13=1,\"#.0\",IF(Symbols!C13=2,\"#.00\",IF(Symbols!C13=3,\"#.000\",IF(Symbols!C13=4,\"#.0000\",IF(Symbols!C13=5,\"#.00000\",IF(Symbols!C13=6,\"#.000000\",IF(Symbols!C13=7,\"#.0000000\")))))))))","v":"#.0000"},"that row of correlation values relative to the market in the same row listed in the first column."]
[null,"BP6",6,{"$f":"IF(Symbols!C14=\"B\",\"B\",IF(Symbols!C14=0,0,IF(Symbols!C14=1,\"#.0\",IF(Symbols!C14=2,\"#.00\",IF(Symbols!C14=3,\"#.000\",IF(Symbols!C14=4,\"#.0000\",IF(Symbols!C14=5,\"#.00000\",IF(Symbols!C14=6,\"#.000000\",IF(Symbols!C14=7,\"#.0000000\")))))))))","v":"#.000000"}]
[null,null,null,null,"Enter in the time frame and look back period for the correlation analysis. Use ADC for daily bars."]
[]
[]
[]
[]
[]
[]
[]
[]
[]
[]
[]
[]
[]
[]
[]
[]
[]
[]
[]
[]
[null,null,null,null,"Adjust the time displayed on the main display by:",null,null,null,null,0,"hours",{"$f":"J36/24","v":0}]

{"sheet":"Data","index":2,"n_rows":12,"n_cols":12,"rows_kept":12,"cut":false,"hidden":true,"merged":[]}
["Lookback:",{"$f":"MainDisplay!P11","v":20}]
["Time Frame:",{"$f":"MainDisplay!N11","v":"ADC"},{"$f":"Symbols!D3","v":"DD"},{"$f":"Symbols!E3","v":"DSX"},{"$f":"Symbols!F3","v":"PIL"},{"$f":"Symbols!G3","v":"SF6"},{"$f":"Symbols!H3","v":"CLE"},{"$f":"Symbols!I3","v":"HOE"},{"$f":"Symbols!J3","v":"RBE"},{"$f":"Symbols!K3","v":"NGE"},{"$f":"Symbols!L3","v":"TYA"},{"$f":"Symbols!M3","v":"DXE"}]
[{"$f":"Symbols!B5","v":"FUS"},null,{"$f":"RTD(\"cqg.rtd\",,\"StudyData\", \"Correlation(\"&$A$3&\",\"&C$2&\",Period:=\"&$B$1&\",InputChoice1::=Close,InputChoice2::=Close)\", \"FG\", \"\", \"Close\",$B$2, \"0\", \"all\",\"\", \"\",\"True\",\"T\")/100","v":-0.43186352506500003},{"$f":"RTD(\"cqg.rtd\",,\"StudyData\", \"Correlation(\"&$A$3&\",\"&D$2&\",Period:=\"&$B$1&\",InputChoice1:=Close,InputChoice2:=Close)\", \"FG\", \"\", \"Close\",$B$2, \"0\", \"all\",\"\", \"\",\"True\",\"T\")/100","v":-0.37356133452700002},{"$f":"RTD(\"cqg.rtd\",,\"StudyData\", \"Correlation(\"&$A$3&\",\"&E$2&\",Period:=\"&$B$1&\",InputChoice1:=Close,InputChoice2:=Close)\", \"FG\", \"\", \"Close\",$B$2, \"0\", \"all\",\"\", \"\",\"True\",\"T\")/100","v":-0.33429498820200004},{"$f":"RTD(\"cqg.rtd\",,\"StudyData\", \"Correlation(\"&$A$3&\",\"&F$2&\",Period:=\"&$B$1&\",InputChoice1:=Close,InputChoice2:=Close)\", \"FG\", \"\", \"Close\",$B$2, \"0\", \"all\",\"\", \"\",\"True\",\"T\")/100","v":-0.35848139454299999},{"$f":"RTD(\"cqg.rtd\",,\"StudyData\", \"Correlation(\"&$A$3&\",\"&G$2&\",Period:=\"&$B$1&\",InputChoice1:=Close,InputChoice2:=Close)\", \"FG\", \"\", \"Close\",$B$2, \"0\", \"all\",\"\", \"\",\"True\",\"T\")/100","v":-0.223270384934},{"$f":"RTD(\"cqg.rtd\",,\"StudyData\", \"Correlation(\"&$A$3&\",\"&H$2&\",Period:=\"&$B$1&\",InputChoice1:=Close,InputChoice2:=Close)\", \"FG\", \"\", \"Close\",$B$2, \"0\", \"all\",\"\", \"\",\"True\",\"T\")/100","v":-0.12062893362400001},{"$f":"RTD(\"cqg.rtd\",,\"StudyData\", \"Correlation(\"&$A$3&\",\"&I$2&\",Period:=\"&$B$1&\",InputChoice1:=Close,InputChoice2:=Close)\", \"FG\", \"\", \"Close\",$B$2, \"0\", \"all\",\"\", \"\",\"True\",\"T\")/100","v":-0.14990757502800001},{"$f":"RTD(\"cqg.rtd\",,\"StudyData\", \"Correlation(\"&$A$3&\",\"&J$2&\",Period:=\"&$B$1&\",InputChoice1:=Close,InputChoice2:=Close)\", \"FG\", \"\", \"Close\",$B$2, \"0\", \"all\",\"\", \"\",\"True\",\"T\")/100","v":-0.49878522700300004},{"$f":"RTD(\"cqg.rtd\",,\"StudyData\", \"Correlation(\"&$A$3&\",\"&K$2&\",Period:=\"&$B$1&\",InputChoice1:=Close,InputChoice2:=Close)\", \"FG\", \"\", \"Close\",$B$2, \"0\", \"all\",\"\", \"\",\"True\",\"T\")/100","v":0.24583776688299999},{"$f":"RTD(\"cqg.rtd\",,\"StudyData\", \"Correlation(\"&$A$3&\",\"&L$2&\",Period:=\"&$B$1&\",InputChoice1:=Close,InputChoice2:=Close)\", \"FG\", \"\", \"Close\",$B$2, \"0\", \"all\",\"\", \"\",\"True\",\"T\")/100","v":0.36478445348800004}]
[{"$f":"Symbols!B6","v":"FBR"},null,{"$f":"RTD(\"cqg.rtd\",,\"StudyData\", \"Correlation(\"&$A$4&\",\"&C$2&\",Period:=\"&$B$1&\",InputChoice1::=Close,InputChoice2::=Close)\", \"FG\", \"\", \"Close\",$B$2, \"0\", \"all\",\"\", \"\",\"True\",\"T\")/100","v":0.70292214305800005},{"$f":"RTD(\"cqg.rtd\",,\"StudyData\", \"Correlation(\"&$A$4&\",\"&D$2&\",Period:=\"&$B$1&\",InputChoice1:=Close,InputChoice2:=Close)\", \"FG\", \"\", \"Close\",$B$2, \"0\", \"all\",\"\", \"\",\"True\",\"T\")/100","v":0.78205119002800005},{"$f":"RTD(\"cqg.rtd\",,\"StudyData\", \"Correlation(\"&$A$4&\",\"&E$2&\",Period:=\"&$B$1&\",InputChoice1:=Close,InputChoice2:=Close)\", \"FG\", \"\", \"Close\",$B$2, \"0\", \"all\",\"\", \"\",\"True\",\"T\")/100","v":0.83121120994699993},{"$f":"RTD(\"cqg.rtd\",,\"StudyData\", \"Correlation(\"&$A$4&\",\"&F$2&\",Period:=\"&$B$1&\",InputChoice1:=Close,InputChoice2:=Close)\", \"FG\", \"\", \"Close\",$B$2, \"0\", \"all\",\"\", \"\",\"True\",\"T\")/100","v":5.7292762618000002E-2},{"$f":"RTD(\"cqg.rtd\",,\"StudyData\", \"Correlation(\"&$A$4&\",\"&G$2&\",Period:=\"&$B$1&\",InputChoice1:=Close,InputChoice2:=Close)\", \"FG\", \"\", \"Close\",$B$2, \"0\", \"all\",\"\", \"\",\"True\",\"T\")/100","v":0.9295085287710001},{"$f":"RTD(\"cqg.rtd\",,\"StudyData\", \"Correlation(\"&$A$4&\",\"&H$2&\",Period:=\"&$B$1&\",InputChoice1:=Close,InputChoice2:=Close)\", \"FG\", \"\", \"Close\",$B$2, \"0\", \"all\",\"\", \"\",\"True\",\"T\")/100","v":0.95892907618699996},{"$f":"RTD(\"cqg.rtd\",,\"StudyData\", \"Correlation(\"&$A$4&\",\"&I$2&\",Period:=\"&$B$1&\",InputChoice1:=Close,InputChoice2:=Close)\", \"FG\", \"\", \"Close\",$B$2, \"0\", \"all\",\"\", \"\",\"True\",\"T\")/100","v":0.95972560570599996},{"$f":"RTD(\"cqg.rtd\",,\"StudyData\", \"Correlation(\"&$A$4&\",\"&J$2&\",Period:=\"&$B$1&\",InputChoice1:=Close,InputChoice2:=Close)\", \"FG\", \"\", \"Close\",$B$2, \"0\", \"all\",\"\", \"\",\"True\",\"T\")/100","v":0.52537551566999996},{"$f":"RTD(\"cqg.rtd\",,\"StudyData\", \"Correlation(\"&$A$4&\",\"&K$2&\",Period:=\"&$B$1&\",InputChoice1:=Close,InputChoice2:=Close)\", \"FG\", \"\", \"Close\",$B$2, \"0\", \"all\",\"\", \"\",\"True\",\"T\")/100","v":-9.6277000653000003E-2},{"$f":"RTD(\"cqg.rtd\",,\"StudyData\", \"Correlation(\"&$A$4&\",\"&L$2&\",Period:=\"&$B$1&\",InputChoice1:=Close,InputChoice2:=Close)\", \"FG\", \"\", \"Close\",$B$2, \"0\", \"all\",\"\", \"\",\"True\",\"T\")/100","v":-9.9941120414999987E-2}]
[{"$f":"Symbols!B7","v":"FSR"},null,{"$f":"RTD(\"cqg.rtd\",,\"StudyData\", \"Correlation(\"&$A$5&\",\"&C$2&\",Period:=\"&$B$1&\",InputChoice1:=Close,InputChoice2:=Close)\", \"FG\", \"\", \"Close\",$B$2, \"0\", \"all\",\"\", \"\",\"True\",\"T\")/100","v":-0.48612610349399998},{"$f":"RTD(\"cqg.rtd\",,\"StudyData\", \"Correlation(\"&$A$5&\",\"&D$2&\",Period:=\"&$B$1&\",InputChoice1:=Close,InputChoice2:=Close)\", \"FG\", \"\", \"Close\",$B$2, \"0\", \"all\",\"\", \"\",\"True\",\"T\")/100","v":-0.59753974773200003},{"$f":"RTD(\"cqg.rtd\",,\"StudyData\", \"Correlation(\"&$A$5&\",\"&E$2&\",Period:=\"&$B$1&\",InputChoice1:=Close,InputChoice2:=Close)\", \"FG\", \"\", \"Close\",$B$2, \"0\", \"all\",\"\", \"\",\"True\",\"T\")/100","v":-0.68519489858000004},{"$f":"RTD(\"cqg.rtd\",,\"StudyData\", \"Correlation(\"&$A$5&\",\"&F$2&\",Period:=\"&$B$1&\",InputChoice1:=Close,InputChoice2:=Close)\", \"FG\", \"\", \"Close\",$B$2, \"0\", \"all\",\"\", \"\",\"True\",\"T\")/100","v":-0.11447325323799999},{"$f":"RTD(\"cqg.rtd\",,\"StudyData\", \"Correlation(\"&$A$5&\",\"&G$2&\",Period:=\"&$B$1&\",InputChoice1:=Close,InputChoice2:=Close)\", \"FG\", \"\", \"Close\",$B$2, \"0\", \"all\",\"\", \"\",\"True\",\"T\")/100","v":-0.72990269666800001},{"$f":"RTD(\"cqg.rtd\",,\"StudyData\", \"Correlation(\"&$A$5&\",\"&H$2&\",Period:=\"&$B$1&\",InputChoice1:=Close,InputChoice2:=Close)\", \"FG\", \"\", \"Close\",$B$2, \"0\", \"all\",\"\", \"\",\"True\",\"T\")/100","v":-0.8550591894020001},{"$f":"RTD(\"cqg.rtd\",,\"StudyData\", \"Correlation(\"&$A$5&\",\"&I$2&\",Period:=\"&$B$1&\",InputChoice1:=Close,InputChoice2:=Close)\", \"FG\", \"\", \"Close\",$B$2, \"0\", \"all\",\"\", \"\",\"True\",\"T\")/100","v":-0.86714762874300011},{"$f":"RTD(\"cqg.rtd\",,\"StudyData\", \"Correlation(\"&$A$5&\",\"&J$2&\",Period:=\"&$B$1&\",InputChoice1:=Close,InputChoice2:=Close)\", \"FG\", \"\", \"Close\",$B$2, \"0\", \"all\",\"\", \"\",\"True\",\"T\")/100","v":-0.39822921533100003},{"$f":"RTD(\"cqg.rtd\",,\"StudyData\", \"Correlation(\"&$A$5&\",\"&K$2&\",Period:=\"&$B$1&\",InputChoice1:=Close,InputChoice2:=Close)\", \"FG\", \"\", \"Close\",$B$2, \"0\", \"all\",\"\", \"\",\"True\",\"T\")/100","v":-8.8977522313000004E-2},{"$f":"RTD(\"cqg.rtd\",,\"StudyData\", \"Correlation(\"&$A$5&\",\"&L$2&\",Period:=\"&$B$1&\",InputChoice1:=Close,InputChoice2:=Close)\", \"FG\", \"\", \"Close\",$B$2, \"0\", \"all\",\"\", \"\",\"True\",\"T\")/100","v":-3.0447847293999998E-2}]
[{"$f":"Symbols!B8","v":"FGZ"},null,{"$f":"RTD(\"cqg.rtd\",,\"StudyData\", \"Correlation(\"&$A$6&\",\"&C$2&\",Period:=\"&$B$1&\",InputChoice1:=Close,InputChoice2:=Close)\", \"FG\", \"\", \"Close\",$B$2, \"0\", \"all\",\"\", \"\",\"True\",\"T\")/100","v":-0.55973026636400003},{"$f":"RTD(\"cqg.rtd\",,\"StudyData\", \"Correlation(\"&$A$6&\",\"&D$2&\",Period:=\"&$B$1&\",InputChoice1:=Close,InputChoice2:=Close)\", \"FG\", \"\", \"Close\",$B$2, \"0\", \"all\",\"\", \"\",\"True\",\"T\")/100","v":-0.65695880308099996},{"$f":"RTD(\"cqg.rtd\",,\"StudyData\", \"Correlation(\"&$A$6&\",\"&E$2&\",Period:=\"&$B$1&\",InputChoice1:=Close,InputChoice2:=Close)\", \"FG\", \"\", \"Close\",$B$2, \"0\", \"all\",\"\", \"\",\"True\",\"T\")/100","v":-0.73079078791899998},{"$f":"RTD(\"cqg.rtd\",,\"StudyData\", \"Correlation(\"&$A$6&\",\"&F$2&\",Period:=\"&$B$1&\",InputChoice1:=Close,InputChoice2:=Close)\", \"FG\", \"\", \"Close\",$B$2, \"0\", \"all\",\"\", \"\",\"True\",\"T\")/100","v":-1.9523397732E-2},{"$f":"RTD(\"cqg.rtd\",,\"StudyData\", \"Correlation(\"&$A$6&\",\"&G$2&\",Period:=\"&$B$1&\",InputChoice1:=Close,InputChoice2:=Close)\", \"FG\", \"\", \"Close\",$B$2, \"0\", \"all\",\"\", \"\",\"True\",\"T\")/100","v":-0.73612465796600002},{"$f":"RTD(\"cqg.rtd\",,\"StudyData\", \"Correlation(\"&$A$6&\",\"&H$2&\",Period:=\"&$B$1&\",InputChoice1:=Close,InputChoice2:=Close)\", \"FG\", \"\", \"Close\",$B$2, \"0\", \"all\",\"\", \"\",\"True\",\"T\")/100","v":-0.85492451112900003},{"$f":"RTD(\"cqg.rtd\",,\"StudyData\", \"Correlation(\"&$A$6&\",\"&I$2&\",Period:=\"&$B$1&\",InputChoice1:=Close,InputChoice2:=Close)\", \"FG\", \"\", \"Close\",$B$2, \"0\", \"all\",\"\", \"\",\"True\",\"T\")/100","v":-0.87083587074199997},{"$f":"RTD(\"cqg.rtd\",,\"StudyData\", \"Correlation(\"&$A$6&\",\"&J$2&\",Period:=\"&$B$1&\",InputChoice1:=Close,InputChoice2:=Close)\", \"FG\", \"\", \"Close\",$B$2, \"0\", \"all\",\"\", \"\",\"True\",\"T\")/100","v":-0.43157473103199995},{"$f":"RTD(\"cqg.rtd\",,\"StudyData\", \"Correlation(\"&$A$6&\",\"&K$2&\",Period:=\"&$B$1&\",InputChoice1:=Close,InputChoice2:=Close)\", \"FG\", \"\", \"Close\",$B$2, \"0\", \"all\",\"\", \"\",\"True\",\"T\")/100","v":-4.4763430013000004E-2},{"$f":"RTD(\"cqg.rtd\",,\"StudyData\", \"Correlation(\"&$A$6&\",\"&L$2&\",Period:=\"&$B$1&\",InputChoice1:=Close,InputChoice2:=Close)\", \"FG\", \"\", \"Close\",$B$2, \"0\", \"all\",\"\", \"\",\"True\",\"T\")/100","v":-4.0820724846000002E-2}]
[{"$f":"Symbols!B9","v":"FFED"},null,{"$f":"RTD(\"cqg.rtd\",,\"StudyData\", \"Correlation(\"&$A$7&\",\"&C$2&\",Period:=\"&$B$1&\",InputChoice1:=Close,InputChoice2:=Close)\", \"FG\", \"\", \"Close\",$B$2, \"0\", \"all\",\"\", \"\",\"True\",\"T\")/100","v":0.349557264797},{"$f":"RTD(\"cqg.rtd\",,\"StudyData\", \"Correlation(\"&$A$7&\",\"&D$2&\",Period:=\"&$B$1&\",InputChoice1:=Close,InputChoice2:=Close)\", \"FG\", \"\", \"Close\",$B$2, \"0\", \"all\",\"\", \"\",\"True\",\"T\")/100","v":0.17730779182500001},{"$f":"RTD(\"cqg.rtd\",,\"StudyData\", \"Correlation(\"&$A$7&\",\"&E$2&\",Period:=\"&$B$1&\",InputChoice1:=Close,InputChoice2:=Close)\", \"FG\", \"\", \"Close\",$B$2, \"0\", \"all\",\"\", \"\",\"True\",\"T\")/100","v":0.11627752333500001},{"$f":"RTD(\"cqg.rtd\",,\"StudyData\", \"Correlation(\"&$A$7&\",\"&F$2&\",Period:=\"&$B$1&\",InputChoice1:=Close,InputChoice2:=Close)\", \"FG\", \"\", \"Close\",$B$2, \"0\", \"all\",\"\", \"\",\"True\",\"T\")/100","v":0.74604857997699991},{"$f":"RTD(\"cqg.rtd\",,\"StudyData\", \"Correlation(\"&$A$7&\",\"&G$2&\",Period:=\"&$B$1&\",InputChoice1:=Close,InputChoice2:=Close)\", \"FG\", \"\", \"Close\",$B$2, \"0\", \"all\",\"\", \"\",\"True\",\"T\")/100","v":4.5077165655000001E-2},{"$f":"RTD(\"cqg.rtd\",,\"StudyData\", \"Correlation(\"&$A$7&\",\"&H$2&\",Period:=\"&$B$1&\",InputChoice1:=Close,InputChoice2:=Close)\", \"FG\", \"\", \"Close\",$B$2, \"0\", \"all\",\"\", \"\",\"True\",\"T\")/100","v":-0.20325461881999998},{"$f":"RTD(\"cqg.rtd\",,\"StudyData\", \"Correlation(\"&$A$7&\",\"&I$2&\",Period:=\"&$B$1&\",InputChoice1:=Close,InputChoice2:=Close)\", \"FG\", \"\", \"Close\",$B$2, \"0\", \"all\",\"\", \"\",\"True\",\"T\")/100","v":-0.16534674977700001},{"$f":"RTD(\"cqg.rtd\",,\"StudyData\", \"Correlation(\"&$A$7&\",\"&J$2&\",Period:=\"&$B$1&\",InputChoice1:=Close,InputChoice2:=Close)\", \"FG\", \"\", \"Close\",$B$2, \"0\", \"all\",\"\", \"\",\"True\",\"T\")/100","v":0.22088645062500001},{"$f":"RTD(\"cqg.rtd\",,\"StudyData\", \"Correlation(\"&$A$7&\",\"&K$2&\",Period:=\"&$B$1&\",InputChoice1:=Close,InputChoice2:=Close)\", \"FG\", \"\", \"Close\",$B$2, \"0\", \"all\",\"\", \"\",\"True\",\"T\")/100","v":-0.23044934483799998},{"$f":"RTD(\"cqg.rtd\",,\"StudyData\", \"Correlation(\"&$A$7&\",\"&L$2&\",Period:=\"&$B$1&\",InputChoice1:=Close,InputChoice2:=Close)\", \"FG\", \"\", \"Close\",$B$2, \"0\", \"all\",\"\", \"\",\"True\",\"T\")/100","v":-0.83661015078899992}]
[{"$f":"Symbols!B10","v":"FRI"},null,{"$f":"RTD(\"cqg.rtd\",,\"StudyData\", \"Correlation(\"&$A$8&\",\"&C$2&\",Period:=\"&$B$1&\",InputChoice1:=Close,InputChoice2:=Close)\", \"FG\", \"\", \"Close\",$B$2, \"0\", \"all\",\"\", \"\",\"True\",\"T\")/100","v":-8.2870657685999993E-2},{"$f":"RTD(\"cqg.rtd\",,\"StudyData\", \"Correlation(\"&$A$8&\",\"&D$2&\",Period:=\"&$B$1&\",InputChoice1:=Close,InputChoice2:=Close)\", \"FG\", \"\", \"Close\",$B$2, \"0\", \"all\",\"\", \"\",\"True\",\"T\")/100","v":-0.24823742247300001},{"$f":"RTD(\"cqg.rtd\",,\"StudyData\", \"Correlation(\"&$A$8&\",\"&E$2&\",Period:=\"&$B$1&\",InputChoice1:=Close,InputChoice2:=Close)\", \"FG\", \"\", \"Close\",$B$2, \"0\", \"all\",\"\", \"\",\"True\",\"T\")/100","v":-0.34151250179199999},{"$f":"RTD(\"cqg.rtd\",,\"StudyData\", \"Correlation(\"&$A$8&\",\"&F$2&\",Period:=\"&$B$1&\",InputChoice1:=Close,InputChoice2:=Close)\", \"FG\", \"\", \"Close\",$B$2, \"0\", \"all\",\"\", \"\",\"True\",\"T\")/100","v":0.30291481265800002},{"$f":"RTD(\"cqg.rtd\",,\"StudyData\", \"Correlation(\"&$A$8&\",\"&G$2&\",Period:=\"&$B$1&\",InputChoice1:=Close,InputChoice2:=Close)\", \"FG\", \"\", \"Close\",$B$2, \"0\", \"all\",\"\", \"\",\"True\",\"T\")/100","v":-0.44294948380900001},{"$f":"RTD(\"cqg.rtd\",,\"StudyData\", \"Correlation(\"&$A$8&\",\"&H$2&\",Period:=\"&$B$1&\",InputChoice1:=Close,InputChoice2:=Close)\", \"FG\", \"\", \"Close\",$B$2, \"0\", \"all\",\"\", \"\",\"True\",\"T\")/100","v":-0.625325736706},{"$f":"RTD(\"cqg.rtd\",,\"StudyData\", \"Correlation(\"&$A$8&\",\"&I$2&\",Period:=\"&$B$1&\",InputChoice1:=Close,InputChoice2:=Close)\", \"FG\", \"\", \"Close\",$B$2, \"0\", \"all\",\"\", \"\",\"True\",\"T\")/100","v":-0.60179197488000002},{"$f":"RTD(\"cqg.rtd\",,\"StudyData\", \"Correlation(\"&$A$8&\",\"&J$2&\",Period:=\"&$B$1&\",InputChoice1:=Close,InputChoice2:=Close)\", \"FG\", \"\", \"Close\",$B$2, \"0\", \"all\",\"\", \"\",\"True\",\"T\")/100","v":-2.9787143926000001E-2},{"$f":"RTD(\"cqg.rtd\",,\"StudyData\", \"Correlation(\"&$A$8&\",\"&K$2&\",Period:=\"&$B$1&\",InputChoice1:=Close,InputChoice2:=Close)\", \"FG\", \"\", \"Close\",$B$2, \"0\", \"all\",\"\", \"\",\"True\",\"T\")/100","v":-6.4320220984999996E-2},{"$f":"RTD(\"cqg.rtd\",,\"StudyData\", \"Correlation(\"&$A$8&\",\"&L$2&\",Period:=\"&$B$1&\",InputChoice1:=Close,InputChoice2:=Close)\", \"FG\", \"\", \"Close\",$B$2, \"0\", \"all\",\"\", \"\",\"True\",\"T\")/100","v":-0.44419025177299998}]
[{"$f":"Symbols!B11","v":"EU6"},null,{"$f":"RTD(\"cqg.rtd\",,\"StudyData\", \"Correlation(\"&$A$9&\",\"&C$2&\",Period:=\"&$B$1&\",InputChoice1:=Close,InputChoice2:=Close)\", \"FG\", \"\", \"Close\",$B$2, \"0\", \"all\",\"\", \"\",\"True\",\"T\")/100","v":0.18260440909700001},{"$f":"RTD(\"cqg.rtd\",,\"StudyData\", \"Correlation(\"&$A$9&\",\"&D$2&\",Period:=\"&$B$1&\",InputChoice1:=Close,InputChoice2:=Close)\", \"FG\", \"\", \"Close\",$B$2, \"0\", \"all\",\"\", \"\",\"True\",\"T\")/100","v":-2.2830082769000001E-2},{"$f":"RTD(\"cqg.rtd\",,\"StudyData\", \"Correlation(\"&$A$9&\",\"&E$2&\",Period:=\"&$B$1&\",InputChoice1:=Close,InputChoice2:=Close)\", \"FG\", \"\", \"Close\",$B$2, \"0\", \"all\",\"\", \"\",\"True\",\"T\")/100","v":-4.9517703552999996E-2},{"$f":"RTD(\"cqg.rtd\",,\"StudyData\", \"Correlation(\"&$A$9&\",\"&F$2&\",Period:=\"&$B$1&\",InputChoice1:=Close,InputChoice2:=Close)\", \"FG\", \"\", \"Close\",$B$2, \"0\", \"all\",\"\", \"\",\"True\",\"T\")/100","v":0.76603806236700001},{"$f":"RTD(\"cqg.rtd\",,\"StudyData\", \"Correlation(\"&$A$9&\",\"&G$2&\",Period:=\"&$B$1&\",InputChoice1:=Close,InputChoice2:=Close)\", \"FG\", \"\", \"Close\",$B$2, \"0\", \"all\",\"\", \"\",\"True\",\"T\")/100","v":5.1654628976000004E-2},{"$f":"RTD(\"cqg.rtd\",,\"StudyData\", \"Correlation(\"&$A$9&\",\"&H$2&\",Period:=\"&$B$1&\",InputChoice1:=Close,InputChoice2:=Close)\", \"FG\", \"\", \"Close\",$B$2, \"0\", \"all\",\"\", \"\",\"True\",\"T\")/100","v":-0.11251204606},{"$f":"RTD(\"cqg.rtd\",,\"StudyData\", \"Correlation(\"&$A$9&\",\"&I$2&\",Period:=\"&$B$1&\",InputChoice1:=Close,InputChoice2:=Close)\", \"FG\", \"\", \"Close\",$B$2, \"0\", \"all\",\"\", \"\",\"True\",\"T\")/100","v":-5.3892842620000006E-2},{"$f":"RTD(\"cqg.rtd\",,\"StudyData\", \"Correlation(\"&$A$9&\",\"&J$2&\",Period:=\"&$B$1&\",InputChoice1:=Close,InputChoice2:=Close)\", \"FG\", \"\", \"Close\",$B$2, \"0\", \"all\",\"\", \"\",\"True\",\"T\")/100","v":0.33097108364},{"$f":"RTD(\"cqg.rtd\",,\"StudyData\", \"Correlation(\"&$A$9&\",\"&K$2&\",Period:=\"&$B$1&\",InputChoice1:=Close,InputChoice2:=Close)\", \"FG\", \"\", \"Close\",$B$2, \"0\", \"all\",\"\", \"\",\"True\",\"T\")/100","v":6.5397636630999997E-2},{"$f":"RTD(\"cqg.rtd\",,\"StudyData\", \"Correlation(\"&$A$9&\",\"&L$2&\",Period:=\"&$B$1&\",InputChoice1:=Close,InputChoice2:=Close)\", \"FG\", \"\", \"Close\",$B$2, \"0\", \"all\",\"\", \"\",\"True\",\"T\")/100","v":-0.96917587585600007}]
[{"$f":"Symbols!B12","v":"JY6"},null,{"$f":"RTD(\"cqg.rtd\",,\"StudyData\", \"Correlation(\"&$A$10&\",\"&C$2&\",Period:=\"&$B$1&\",InputChoice1:=Close,InputChoice2:=Close)\", \"FG\", \"\", \"Close\",$B$2, \"0\", \"all\",\"\", \"\",\"True\",\"T\")/100","v":-0.75006830636199995},{"$f":"RTD(\"cqg.rtd\",,\"StudyData\", \"Correlation(\"&$A$10&\",\"&D$2&\",Period:=\"&$B$1&\",InputChoice1:=Close,InputChoice2:=Close)\", \"FG\", \"\", \"Close\",$B$2, \"0\", \"all\",\"\", \"\",\"True\",\"T\")/100","v":-0.85150817031100001},{"$f":"RTD(\"cqg.rtd\",,\"StudyData\", \"Correlation(\"&$A$10&\",\"&E$2&\",Period:=\"&$B$1&\",InputChoice1:=Close,InputChoice2:=Close)\", \"FG\", \"\", \"Close\",$B$2, \"0\", \"all\",\"\", \"\",\"True\",\"T\")/100","v":-0.85874861089199994},{"$f":"RTD(\"cqg.rtd\",,\"StudyData\", \"Correlation(\"&$A$10&\",\"&F$2&\",Period:=\"&$B$1&\",InputChoice1:=Close,InputChoice2:=Close)\", \"FG\", \"\", \"Close\",$B$2, \"0\", \"all\",\"\", \"\",\"True\",\"T\")/100","v":0.129821304809},{"$f":"RTD(\"cqg.rtd\",,\"StudyData\", \"Correlation(\"&$A$10&\",\"&G$2&\",Period:=\"&$B$1&\",InputChoice1:=Close,InputChoice2:=Close)\", \"FG\", \"\", \"Close\",$B$2, \"0\", \"all\",\"\", \"\",\"True\",\"T\")/100","v":-0.630832893256},{"$f":"RTD(\"cqg.rtd\",,\"StudyData\", \"Correlation(\"&$A$10&\",\"&H$2&\",Period:=\"&$B$1&\",InputChoice1:=Close,InputChoice2:=Close)\", \"FG\", \"\", \"Close\",$B$2, \"0\", \"all\",\"\", \"\",\"True\",\"T\")/100","v":-0.65660809213700011},{"$f":"RTD(\"cqg.rtd\",,\"StudyData\", \"Correlation(\"&$A$10&\",\"&I$2&\",Period:=\"&$B$1&\",InputChoice1:=Close,InputChoice2:=Close)\", \"FG\", \"\", \"Close\",$B$2, \"0\", \"all\",\"\", \"\",\"True\",\"T\")/100","v":-0.64183575865700004},{"$f":"RTD(\"cqg.rtd\",,\"StudyData\", \"Correlation(\"&$A$10&\",\"&J$2&\",Period:=\"&$B$1&\",InputChoice1:=Close,InputChoice2:=Close)\", \"FG\", \"\", \"Close\",$B$2, \"0\", \"all\",\"\", \"\",\"True\",\"T\")/100","v":-0.76678375338500004},{"$f":"RTD(\"cqg.rtd\",,\"StudyData\", \"Correlation(\"&$A$10&\",\"&K$2&\",Period:=\"&$B$1&\",InputChoice1:=Close,InputChoice2:=Close)\", \"FG\", \"\", \"Close\",$B$2, \"0\", \"all\",\"\", \"\",\"True\",\"T\")/100","v":0.74026547051799996},{"$f":"RTD(\"cqg.rtd\",,\"StudyData\", \"Correlation(\"&$A$10&\",\"&L$2&\",Period:=\"&$B$1&\",InputChoice1:=Close,InputChoice2:=Close)\", \"FG\", \"\", \"Close\",$B$2, \"0\", \"all\",\"\", \"\",\"True\",\"T\")/100","v":-0.11801890268199999}]
[{"$f":"Symbols!B13","v":"DA6"},null,{"$f":"RTD(\"cqg.rtd\",,\"StudyData\", \"Correlation(\"&$A$11&\",\"&C$2&\",Period:=\"&$B$1&\",InputChoice1:=Close,InputChoice2:=Close)\", \"FG\", \"\", \"Close\",$B$2, \"0\", \"all\",\"\", \"\",\"True\",\"T\")/100","v":0.15899785705899999},{"$f":"RTD(\"cqg.rtd\",,\"StudyData\", \"Correlation(\"&$A$11&\",\"&D$2&\",Period:=\"&$B$1&\",InputChoice1:=Close,InputChoice2:=Close)\", \"FG\", \"\", \"Close\",$B$2, \"0\", \"all\",\"\", \"\",\"True\",\"T\")/100","v":-6.3675678469999998E-3},{"$f":"RTD(\"cqg.rtd\",,\"StudyData\", \"Correlation(\"&$A$11&\",\"&E$2&\",Period:=\"&$B$1&\",InputChoice1:=Close,InputChoice2:=Close)\", \"FG\", \"\", \"Close\",$B$2, \"0\", \"all\",\"\", \"\",\"True\",\"T\")/100","v":-5.3871778749999995E-3},{"$f":"RTD(\"cqg.rtd\",,\"StudyData\", \"Correlation(\"&$A$11&\",\"&F$2&\",Period:=\"&$B$1&\",InputChoice1:=Close,InputChoice2:=Close)\", \"FG\", \"\", \"Close\",$B$2, \"0\", \"all\",\"\", \"\",\"True\",\"T\")/100","v":0.44923208494199995},{"$f":"RTD(\"cqg.rtd\",,\"StudyData\", \"Correlation(\"&$A$11&\",\"&G$2&\",Period:=\"&$B$1&\",InputChoice1:=Close,InputChoice2:=Close)\", \"FG\", \"\", \"Close\",$B$2, \"0\", \"all\",\"\", \"\",\"True\",\"T\")/100","v":0.18992446031299998},{"$f":"RTD(\"cqg.rtd\",,\"StudyData\", \"Correlation(\"&$A$11&\",\"&H$2&\",Period:=\"&$B$1&\",InputChoice1:=Close,InputChoice2:=Close)\", \"FG\", \"\", \"Close\",$B$2, \"0\", \"all\",\"\", \"\",\"True\",\"T\")/100","v":8.0259399122000002E-2},{"$f":"RTD(\"cqg.rtd\",,\"StudyData\", \"Correlation(\"&$A$11&\",\"&I$2&\",Period:=\"&$B$1&\",InputChoice1:=Close,InputChoice2:=Close)\", \"FG\", \"\", \"Close\",$B$2, \"0\", \"all\",\"\", \"\",\"True\",\"T\")/100","v":0.12436137793},{"$f":"RTD(\"cqg.rtd\",,\"StudyData\", \"Correlation(\"&$A$11&\",\"&J$2&\",Period:=\"&$B$1&\",InputChoice1:=Close,InputChoice2:=Close)\", \"FG\", \"\", \"Close\",$B$2, \"0\", \"all\",\"\", \"\",\"True\",\"T\")/100","v":3.2062381621000002E-2},{"$f":"RTD(\"cqg.rtd\",,\"StudyData\", \"Correlation(\"&$A$11&\",\"&K$2&\",Period:=\"&$B$1&\",InputChoice1:=Close,InputChoice2:=Close)\", \"FG\", \"\", \"Close\",$B$2, \"0\", \"all\",\"\", \"\",\"True\",\"T\")/100","v":0.346350615626},{"$f":"RTD(\"cqg.rtd\",,\"StudyData\", \"Correlation(\"&$A$11&\",\"&L$2&\",Period:=\"&$B$1&\",InputChoice1:=Close,InputChoice2:=Close)\", \"FG\", \"\", \"Close\",$B$2, \"0\", \"all\",\"\", \"\",\"True\",\"T\")/100","v":-0.58906577497299994}]
[{"$f":"Symbols!B14","v":"BP6"},null,{"$f":"RTD(\"cqg.rtd\",,\"StudyData\", \"Correlation(\"&$A$12&\",\"&C$2&\",Period:=\"&$B$1&\",InputChoice1:=Close,InputChoice2:=Close)\", \"FG\", \"\", \"Close\",$B$2, \"0\", \"all\",\"\", \"\",\"True\",\"T\")/100","v":0.77485856255399999},{"$f":"RTD(\"cqg.rtd\",,\"StudyData\", \"Correlation(\"&$A$12&\",\"&D$2&\",Period:=\"&$B$1&\",InputChoice1:=Close,InputChoice2:=Close)\", \"FG\", \"\", \"Close\",$B$2, \"0\", \"all\",\"\", \"\",\"True\",\"T\")/100","v":0.752476538443},{"$f":"RTD(\"cqg.rtd\",,\"StudyData\", \"Correlation(\"&$A$12&\",\"&E$2&\",Period:=\"&$B$1&\",InputChoice1:=Close,InputChoice2:=Close)\", \"FG\", \"\", \"Close\",$B$2, \"0\", \"all\",\"\", \"\",\"True\",\"T\")/100","v":0.75359074108699997},{"$f":"RTD(\"cqg.rtd\",,\"StudyData\", \"Correlation(\"&$A$12&\",\"&F$2&\",Period:=\"&$B$1&\",InputChoice1:=Close,InputChoice2:=Close)\", \"FG\", \"\", \"Close\",$B$2, \"0\", \"all\",\"\", \"\",\"True\",\"T\")/100","v":0.54464540875599998},{"$f":"RTD(\"cqg.rtd\",,\"StudyData\", \"Correlation(\"&$A$12&\",\"&G$2&\",Period:=\"&$B$1&\",InputChoice1:=Close,InputChoice2:=Close)\", \"FG\", \"\", \"Close\",$B$2, \"0\", \"all\",\"\", \"\",\"True\",\"T\")/100","v":0.61171242660899994},{"$f":"RTD(\"cqg.rtd\",,\"StudyData\", \"Correlation(\"&$A$12&\",\"&H$2&\",Period:=\"&$B$1&\",InputChoice1:=Close,InputChoice2:=Close)\", \"FG\", \"\", \"Close\",$B$2, \"0\", \"all\",\"\", \"\",\"True\",\"T\")/100","v":0.56437306174500002},{"$f":"RTD(\"cqg.rtd\",,\"StudyData\", \"Correlation(\"&$A$12&\",\"&I$2&\",Period:=\"&$B$1&\",InputChoice1:=Close,InputChoice2:=Close)\", \"FG\", \"\", \"Close\",$B$2, \"0\", \"all\",\"\", \"\",\"True\",\"T\")/100","v":0.60272559948600002},{"$f":"RTD(\"cqg.rtd\",,\"StudyData\", \"Correlation(\"&$A$12&\",\"&J$2&\",Period:=\"&$B$1&\",InputChoice1:=Close,InputChoice2:=Close)\", \"FG\", \"\", \"Close\",$B$2, \"0\", \"all\",\"\", \"\",\"True\",\"T\")/100","v":0.83200180335700002},{"$f":"RTD(\"cqg.rtd\",,\"StudyData\", \"Correlation(\"&$A$12&\",\"&K$2&\",Period:=\"&$B$1&\",InputChoice1:=Close,InputChoice2:=Close)\", \"FG\", \"\", \"Close\",$B$2, \"0\", \"all\",\"\", \"\",\"True\",\"T\")/100","v":-0.30896478394300003},{"$f":"RTD(\"cqg.rtd\",,\"StudyData\", \"Correlation(\"&$A$12&\",\"&L$2&\",Period:=\"&$B$1&\",InputChoice1:=Close,InputChoice2:=Close)\", \"FG\", \"\", \"Close\",$B$2, \"0\", \"all\",\"\", \"\",\"True\",\"T\")/100","v":-0.62980638576500003}]

{"sheet":"1","index":3,"n_rows":104,"n_cols":61,"rows_kept":104,"cut":false,"hidden":true,"merged":[]}
["Lookback",{"$f":"Data!B1","v":20}]
["TimeFrame",{"$f":"Data!B2","v":"ADC"},{"$f":"Data!C2","v":"DD"},null,null,null,null,null,{"$f":"Data!D2","v":"DSX"},null,null,null,null,null,{"$f":"Data!E2","v":"PIL"},null,null,null,null,null,{"$f":"Data!F2","v":"SF6"},null,null,null,null,null,{"$f":"Data!G2","v":"CLE"},null,null,null,null,null,{"$f":"Data!H2","v":"HOE"},null,null,null,null,null,{"$f":"Data!I2","v":"RBE"},null,null,null,null,null,{"$f":"Data!J2","v":"NGE"},null,null,null,null,null,{"$f":"Data!K2","v":"TYA"},null,null,null,null,null,{"$f":"Data!L2","v":"DXE"}]
["Symbol",{"$f":"MainDisplay!E1","v":"FUS"}]
[0,null,{"$f":"IFERROR(RTD(\"cqg.rtd\",,\"StudyData\", \"Correlation(\"&$B$3&\",\"&C$2&\",Period:=\"&$B$1&\",InputChoice1:=Close,InputChoice2:=Close)\", \"FG\", \"\", \"Close\",$B$2,A4, \"all\",\"\", \"\",\"True\",\"T\")/100,\"\")","v":-0.43186352506500003},null,-1,{"$f":"FREQUENCY(C4:C104,E4:E104)","v":0},{"$f":"IF(AND($C$4>=E4,$C$4<E5),IF(F4=0,1,F4),NA())","v":{"$error":"#N/A"}},null,{"$f":"IFERROR(RTD(\"cqg.rtd\",,\"StudyData\", \"Correlation(\"&$B$3&\",\"&I$2&\",Period:=\"&$B$1&\",InputChoice1:=Close,InputChoice2::=Close)\", \"FG\", \"\", \"Close\",$B$2,A4, \"all\",\"\", \"\",\"True\",\"T\")/100,\"\")","v":-0.37356133452700002},null,-1,{"$f":"FREQUENCY(I4:I104,K4:K104)","v":0},{"$f":"IF(AND($I$4>=K4,$I$4<K5),IF(L4=0,1,L4),NA())","v":{"$error":"#N/A"}},null,{"$f":"IFERROR(RTD(\"cqg.rtd\",,\"StudyData\", \"Correlation(\"&$B$3&\",\"&O$2&\",Period:=\"&$B$1&\",InputChoice1:=Close,InputChoice2::=Close)\", \"FG\", \"\", \"Close\",$B$2,A4, \"all\",\"\", \"\",\"True\",\"T\")/100,\"\")","v":-0.33429498820200004},null,-1,{"$f":"FREQUENCY(O4:O104,Q4:Q104)","v":0},{"$f":"IF(AND($O$4>=Q4,$O$4<Q5),IF(R4=0,1,R4),NA())","v":{"$error":"#N/A"}},null,{"$f":"IFERROR(RTD(\"cqg.rtd\",,\"StudyData\", \"Correlation(\"&$B$3&\",\"&U$2&\",Period:=\"&$B$1&\",InputChoice1:=Close,InputChoice2::=Close)\", \"FG\", \"\", \"Close\",$B$2,A4, \"all\",\"\", \"\",\"True\",\"T\")/100,\"\")","v":-0.35848139454299999},null,-1,{"$f":"FREQUENCY(U4:U104,W4:W104)","v":0},{"$f":"IF(AND($U$4>=W4,$U$4<W5),IF(X4=0,1,X4),NA())","v":{"$error":"#N/A"}},null,{"$f":"IFERROR(RTD(\"cqg.rtd\",,\"StudyData\", \"Correlation(\"&$B$3&\",\"&AA$2&\",Period:=\"&$B$1&\",InputChoice1:=Close,InputChoice2::=Close)\", \"FG\", \"\", \"Close\",$B$2,A4, \"all\",\"\", \"\",\"True\",\"T\")/100,\"\")","v":-0.223270384934},null,-1,{"$f":"FREQUENCY(AA4:AA104,AC4:AC104)","v":0},{"$f":"IF(AND($AA$4>=AC4,$AA$4<AC5),IF(AD4=0,1,AD4),NA())","v":{"$error":"#N/A"}},null,{"$f":"IFERROR(RTD(\"cqg.rtd\",,\"StudyData\", \"Correlation(\"&$B$3&\",\"&AG$2&\",Period:=\"&$B$1&\",InputChoice1:=Close,InputChoice2::=Close)\", \"FG\", \"\", \"Close\",$B$2,A4, \"all\",\"\", \"\",\"True\",\"T\")/100,\"\")","v":-0.12062893362400001},null,-1,{"$f":"FREQUENCY(AG4:AG104,AI4:AI104)","v":0},{"$f":"IF(AND($AG$4>=AI4,$AG$4<AI5),IF(AJ4=0,1,AJ4),NA())","v":{"$error":"#N/A"}},null,{"$f":"IFERROR(RTD(\"cqg.rtd\",,\"StudyData\", \"Correlation(\"&$B$3&\",\"&AM$2&\",Period:=\"&$B$1&\",InputChoice1:=Close,InputChoice2::=Close)\", \"FG\", \"\", \"Close\",$B$2,A4, \"all\",\"\", \"\",\"True\",\"T\")/100,\"\")","v":-0.14990757502800001},null,-1,{"$f":"FREQUENCY(AM4:AM104,AO4:AO104)","v":0},{"$f":"IF(AND($AM$4>=AO4,$AM$4<AO5),IF(AP4=0,1,AP4),NA())","v":{"$error":"#N/A"}},null,{"$f":"IFERROR(RTD(\"cqg.rtd\",,\"StudyData\", \"Correlation(\"&$B$3&\",\"&AS$2&\",Period:=\"&$B$1&\",InputChoice1:=Close,InputChoice2::=Close)\", \"FG\", \"\", \"Close\",$B$2,A4, \"all\",\"\", \"\",\"True\",\"T\")/100,\"\")","v":-0.49878522700300004},null,-1,{"$f":"FREQUENCY(AS4:AS104,AU4:AU104)","v":0},{"$f":"IF(AND($AS$4>=AU4,$AS$4<AU5),IF(AV4=0,1,AV4),NA())","v":{"$error":"#N/A"}},null,{"$f":"IFERROR(RTD(\"cqg.rtd\",,\"StudyData\", \"Correlation(\"&$B$3&\",\"&AY$2&\",Period:=\"&$B$1&\",InputChoice1:=Close,InputChoice2::=Close)\", \"FG\", \"\", \"Close\",$B$2,A4, \"all\",\"\", \"\",\"True\",\"T\")/100,\"\")","v":0.24583776688299999},null,-1,{"$f":"FREQUENCY(AY4:AY104,BA4:BA104)","v":0},{"$f":"IF(AND($AY$4>=BA4,$AY$4<BA5),IF(BB4=0,1,BB4),NA())","v":{"$error":"#N/A"}},null,{"$f":"IFERROR(RTD(\"cqg.rtd\",,\"StudyData\", \"Correlation(\"&$B$3&\",\"&BE$2&\",Period:=\"&$B$1&\",InputChoice1:=Close,InputChoice2::=Close)\", \"FG\", \"\", \"Close\",$B$2,A4, \"all\",\"\", \"\",\"True\",\"T\")/100,\"\")","v":0.36478445348800004},null,-1,{"$f":"FREQUENCY(BE4:BE104,BG4:BG104)","v":0},{"$f":"IF(AND($BE$4>=BG4,$BE$4<BG5),IF(BH4=0,1,BH4),NA())","v":{"$error":"#N/A"}}]
[{"$f":"A4-1","v":-1},null,{"$f":"IFERROR(RTD(\"cqg.rtd\",,\"StudyData\", \"Correlation(\"&$B$3&\",\"&C$2&\",Period:=\"&$B$1&\",InputChoice1:=Close,InputChoice2:=Close)\", \"FG\", \"\", \"Close\",$B$2,A5, \"all\",\"\", \"\",\"True\",\"T\")/100,\"\")","v":-0.39343352359799999},null,{"$f":"E4+0.02","v":-0.98},0,{"$f":"IF(AND($C$4>=E5,$C$4<E6),IF(F5=0,1,F5),NA())","v":{"$error":"#N/A"}},null,{"$f":"IFERROR(RTD(\"cqg.rtd\",,\"StudyData\", \"Correlation(\"&$B$3&\",\"&I$2&\",Period:=\"&$B$1&\",InputChoice1:=Close,InputChoice2::=Close)\", \"FG\", \"\", \"Close\",$B$2,A5, \"all\",\"\", \"\",\"True\",\"T\")/100,\"\")","v":-0.31269723419500001},null,{"$f":"K4+0.02","v":-0.98},0,{"$f":"IF(AND($I$4>=K5,$I$4<K6),IF(L5=0,1,L5),NA())","v":{"$error":"#N/A"}},null,{"$f":"IFERROR(RTD(\"cqg.rtd\",,\"StudyData\", \"Correlation(\"&$B$3&\",\"&O$2&\",Period:=\"&$B$1&\",InputChoice1:=Close,InputChoice2::=Close)\", \"FG\", \"\", \"Close\",$B$2,A5, \"all\",\"\", \"\",\"True\",\"T\")/100,\"\")","v":-0.27644197924000002},null,{"$f":"Q4+0.02","v":-0.98},0,{"$f":"IF(AND($O$4>=Q5,$O$4<Q6),IF(R5=0,1,R5),NA())","v":{"$error":"#N/A"}},null,{"$f":"IFERROR(RTD(\"cqg.rtd\",,\"StudyData\", \"Correlation(\"&$B$3&\",\"&U$2&\",Period:=\"&$B$1&\",InputChoice1:=Close,InputChoice2::=Close)\", \"FG\", \"\", \"Close\",$B$2,A5, \"all\",\"\", \"\",\"True\",\"T\")/100,\"\")","v":-0.33387258215300003},null,{"$f":"W4+0.02","v":-0.98},0,{"$f":"IF(AND($U$4>=W5,$U$4<W6),IF(X5=0,1,X5),NA())","v":{"$error":"#N/A"}},null,{"$f":"IFERROR(RTD(\"cqg.rtd\",,\"StudyData\", \"Correlation(\"&$B$3&\",\"&AA$2&\",Period:=\"&$B$1&\",InputChoice1:=Close,InputChoice2::=Close)\", \"FG\", \"\", \"Close\",$B$2,A5, \"all\",\"\", \"\",\"True\",\"T\")/100,\"\")","v":-0.20144003156899998},null,{"$f":"AC4+0.02","v":-0.98},0,{"$f":"IF(AND($AA$4>=AC5,$AA$4<AC6),IF(AD5=0,1,AD5),NA())","v":{"$error":"#N/A"}},null,{"$f":"IFERROR(RTD(\"cqg.rtd\",,\"StudyData\", \"Correlation(\"&$B$3&\",\"&AG$2&\",Period:=\"&$B$1&\",InputChoice1:=Close,InputChoice2::=Close)\", \"FG\", \"\", \"Close\",$B$2,A5, \"all\",\"\", \"\",\"True\",\"T\")/100,\"\")","v":-7.2883091168E-2},null,{"$f":"AI4+0.02","v":-0.98},0,{"$f":"IF(AND($AG$4>=AI5,$AG$4<AI6),IF(AJ5=0,1,AJ5),NA())","v":{"$error":"#N/A"}},null,{"$f":"IFERROR(RTD(\"cqg.rtd\",,\"StudyData\", \"Correlation(\"&$B$3&\",\"&AM$2&\",Period:=\"&$B$1&\",InputChoice1:=Close,InputChoice2::=Close)\", \"FG\", \"\", \"Close\",$B$2,A5, \"all\",\"\", \"\",\"True\",\"T\")/100,\"\")","v":-0.102753415759},null,{"$f":"AO4+0.02","v":-0.98},0,{"$f":"IF(AND($AM$4>=AO5,$AM$4<AO6),IF(AP5=0,1,AP5),NA())","v":{"$error":"#N/A"}},null,{"$f":"IFERROR(RTD(\"cqg.rtd\",,\"StudyData\", \"Correlation(\"&$B$3&\",\"&AS$2&\",Period:=\"&$B$1&\",InputChoice1:=Close,InputChoice2::=Close)\", \"FG\", \"\", \"Close\",$B$2,A5, \"all\",\"\", \"\",\"True\",\"T\")/100,\"\")","v":-0.48707600277300001},null,{"$f":"AU4+0.02","v":-0.98},0,{"$f":"IF(AND($AS$4>=AU5,$AS$4<AU6),IF(AV5=0,1,AV5),NA())","v":{"$error":"#N/A"}},null,{"$f":"IFERROR(RTD(\"cqg.rtd\",,\"StudyData\", \"Correlation(\"&$B$3&\",\"&AY$2&\",Period:=\"&$B$1&\",InputChoice1:=Close,InputChoice2::=Close)\", \"FG\", \"\", \"Close\",$B$2,A5, \"all\",\"\", \"\",\"True\",\"T\")/100,\"\")","v":0.20578924210400001},null,{"$f":"BA4+0.02","v":-0.98},0,{"$f":"IF(AND($AY$4>=BA5,$AY$4<BA6),IF(BB5=0,1,BB5),NA())","v":{"$error":"#N/A"}},null,{"$f":"IFERROR(RTD(\"cqg.rtd\",,\"StudyData\", \"Correlation(\"&$B$3&\",\"&BE$2&\",Period:=\"&$B$1&\",InputChoice1:=Close,InputChoice2::=Close)\", \"FG\", \"\", \"Close\",$B$2,A5, \"all\",\"\", \"\",\"True\",\"T\")/100,\"\")","v":0.37565379066699994},null,{"$f":"BG4+0.02","v":-0.98},0,{"$f":"IF(AND($BE$4>=BG5,$BE$4<BG6),IF(BH5=0,1,BH5),NA())","v":{"$error":"#N/A"}}]
[{"$f":"A5-1","v":-2},null,{"$f":"IFERROR(RTD(\"cqg.rtd\",,\"StudyData\", \"Correlation(\"&$B$3&\",\"&C$2&\",Period:=\"&$B$1&\",InputChoice1:=Close,InputChoice2:=Close)\", \"FG\", \"\", \"Close\",$B$2,A6, \"all\",\"\", \"\",\"True\",\"T\")/100,\"\")","v":-0.36557903624300003},null,{"$f":"E5+0.02","v":-0.96},0,{"$error":"#N/A"},null,{"$f":"IFERROR(RTD(\"cqg.rtd\",,\"StudyData\", \"Correlation(\"&$B$3&\",\"&I$2&\",Period:=\"&$B$1&\",InputChoice1:=Close,InputChoice2::=Close)\", \"FG\", \"\", \"Close\",$B$2,A6, \"all\",\"\", \"\",\"True\",\"T\")/100,\"\")","v":-0.26489469512999997},null,{"$f":"K5+0.02","v":-0.96},0,{"$error":"#N/A"},null,{"$f":"IFERROR(RTD(\"cqg.rtd\",,\"StudyData\", \"Correlation(\"&$B$3&\",\"&O$2&\",Period:=\"&$B$1&\",InputChoice1:=Close,InputChoice2::=Close)\", \"FG\", \"\", \"Close\",$B$2,A6, \"all\",\"\", \"\",\"True\",\"T\")/100,\"\")","v":-0.22154966825599998},null,{"$f":"Q5+0.02","v":-0.96},0,{"$error":"#N/A"},null,{"$f":"IFERROR(RTD(\"cqg.rtd\",,\"StudyData\", \"Correlation(\"&$B$3&\",\"&U$2&\",Period:=\"&$B$1&\",InputChoice1:=Close,InputChoice2::=Close)\", \"FG\", \"\", \"Close\",$B$2,A6, \"all\",\"\", \"\",\"True\",\"T\")/100,\"\")","v":-0.36167135058299998},null,{"$f":"W5+0.02","v":-0.96},0,{"$error":"#N/A"},null,{"$f":"IFERROR(RTD(\"cqg.rtd\",,\"StudyData\", \"Correlation(\"&$B$3&\",\"&AA$2&\",Period:=\"&$B$1&\",InputChoice1:=Close,InputChoice2::=Close)\", \"FG\", \"\", \"Close\",$B$2,A6, \"all\",\"\", \"\",\"True\",\"T\")/100,\"\")","v":-0.16505387571699998},null,{"$f":"AC5+0.02","v":-0.96},0,{"$error":"#N/A"},null,{"$f":"IFERROR(RTD(\"cqg.rtd\",,\"StudyData\", \"Correlation(\"&$B$3&\",\"&AG$2&\",Period:=\"&$B$1&\",InputChoice1:=Close,InputChoice2::=Close)\", \"FG\", \"\", \"Close\",$B$2,A6, \"all\",\"\", \"\",\"True\",\"T\")/100,\"\")","v":-1.597353316E-3},null,{"$f":"AI5+0.02","v":-0.96},0,{"$error":"#N/A"},null,{"$f":"IFERROR(RTD(\"cqg.rtd\",,\"StudyData\", \"Correlation(\"&$B$3&\",\"&AM$2&\",Period:=\"&$B$1&\",InputChoice1:=Close,InputChoice2::=Close)\", \"FG\", \"\", \"Close\",$B$2,A6, \"all\",\"\", \"\",\"True\",\"T\")/100,\"\")","v":-1.9042491689000001E-2},null,{"$f":"AO5+0.02","v":-0.96},0,{"$error":"#N/A"},null,{"$f":"IFERROR(RTD(\"cqg.rtd\",,\"StudyData\", \"Correlation(\"&$B$3&\",\"&AS$2&\",Period:=\"&$B$1&\",InputChoice1:=Close,InputChoice2::=Close)\", \"FG\", \"\", \"Close\",$B$2,A6, \"all\",\"\", \"\",\"True\",\"T\")/100,\"\")","v":-0.50789846809700001},null,{"$f":"AU5+0.02","v":-0.96},0,{"$error":"#N/A"},null,{"$f":"IFERROR(RTD(\"cqg.rtd\",,\"StudyData\", \"Correlation(\"&$B$3&\",\"&AY$2&\",Period:=\"&$B$1&\",InputChoice1:=Close,InputChoice2::=Close)\", \"FG\", \"\", \"Close\",$B$2,A6, \"all\",\"\", \"\",\"True\",\"T\")/100,\"\")","v":8.8134409905000002E-2},null,{"$f":"BA5+0.02","v":-0.96},0,{"$error":"#N/A"},null,{"$f":"IFERROR(RTD(\"cqg.rtd\",,\"StudyData\", \"Correlation(\"&$B$3&\",\"&BE$2&\",Period:=\"&$B$1&\",InputChoice1:=Close,InputChoice2::=Close)\", \"FG\", \"\", \"Close\",$B$2,A6, \"all\",\"\", \"\",\"True\",\"T\")/100,\"\")","v":0.36377418350299995},null,{"$f":"BG5+0.02","v":-0.96},0,{"$error":"#N/A"}]
[-3,null,{"$f":"IFERROR(RTD(\"cqg.rtd\",,\"StudyData\", \"Correlation(\"&$B$3&\",\"&C$2&\",Period:=\"&$B$1&\",InputChoice1:=Close,InputChoice2:=Close)\", \"FG\", \"\", \"Close\",$B$2,A7, \"all\",\"\", \"\",\"True\",\"T\")/100,\"\")","v":-0.34105653055899998},null,-0.94,0,{"$error":"#N/A"},null,{"$f":"IFERROR(RTD(\"cqg.rtd\",,\"StudyData\", \"Correlation(\"&$B$3&\",\"&I$2&\",Period:=\"&$B$1&\",InputChoice1:=Close,InputChoice2::=Close)\", \"FG\", \"\", \"Close\",$B$2,A7, \"all\",\"\", \"\",\"True\",\"T\")/100,\"\")","v":-0.20802957049700002},null,-0.94,0,{"$error":"#N/A"},null,{"$f":"IFERROR(RTD(\"cqg.rtd\",,\"StudyData\", \"Correlation(\"&$B$3&\",\"&O$2&\",Period:=\"&$B$1&\",InputChoice1:=Close,InputChoice2::=Close)\", \"FG\", \"\", \"Close\",$B$2,A7, \"all\",\"\", \"\",\"True\",\"T\")/100,\"\")","v":-0.16116935291200002},null,-0.94,0,{"$error":"#N/A"},null,{"$f":"IFERROR(RTD(\"cqg.rtd\",,\"StudyData\", \"Correlation(\"&$B$3&\",\"&U$2&\",Period:=\"&$B$1&\",InputChoice1:=Close,InputChoice2::=Close)\", \"FG\", \"\", \"Close\",$B$2,A7, \"all\",\"\", \"\",\"True\",\"T\")/100,\"\")","v":-0.23219603486099999},null,-0.94,0,{"$error":"#N/A"},null,{"$f":"IFERROR(RTD(\"cqg.rtd\",,\"StudyData\", \"Correlation(\"&$B$3&\",\"&AA$2&\",Period:=\"&$B$1&\",InputChoice1:=Close,InputChoice2::=Close)\", \"FG\", \"\", \"Close\",$B$2,A7, \"all\",\"\", \"\",\"True\",\"T\")/100,\"\")","v":-0.177308049572},null,-0.94,2,{"$error":"#N/A"},null,{"$f":"IFERROR(RTD(\"cqg.rtd\",,\"StudyData\", \"Correlation(\"&$B$3&\",\"&AG$2&\",Period:=\"&$B$1&\",InputChoice1:=Close,InputChoice2::=Close)\", \"FG\", \"\", \"Close\",$B$2,A7, \"all\",\"\", \"\",\"True\",\"T\")/100,\"\")","v":-3.7399408028999999E-2},null,-0.94,5,{"$error":"#N/A"},null,{"$f":"IFERROR(RTD(\"cqg.rtd\",,\"StudyData\", \"Correlation(\"&$B$3&\",\"&AM$2&\",Period:=\"&$B$1&\",InputChoice1:=Close,InputChoice2::=Close)\", \"FG\", \"\", \"Close\",$B$2,A7, \"all\",\"\", \"\",\"True\",\"T\")/100,\"\")","v":-6.4543135503000004E-2},null,-0.94,0,{"$error":"#N/A"},null,{"$f":"IFERROR(RTD(\"cqg.rtd\",,\"StudyData\", \"Correlation(\"&$B$3&\",\"&AS$2&\",Period:=\"&$B$1&\",InputChoice1:=Close,InputChoice2::=Close)\", \"FG\", \"\", \"Close\",$B$2,A7, \"all\",\"\", \"\",\"True\",\"T\")/100,\"\")","v":-0.37007478706500002},null,-0.94,0,{"$error":"#N/A"},null,{"$f":"IFERROR(RTD(\"cqg.rtd\",,\"StudyData\", \"Correlation(\"&$B$3&\",\"&AY$2&\",Period:=\"&$B$1&\",InputChoice1:=Close,InputChoice2::=Close)\", \"FG\", \"\", \"Close\",$B$2,A7, \"all\",\"\", \"\",\"True\",\"T\")/100,\"\")","v":7.1284669475999998E-2},null,-0.94,0,{"$error":"#N/A"},null,{"$f":"IFERROR(RTD(\"cqg.rtd\",,\"StudyData\", \"Correlation(\"&$B$3&\",\"&BE$2&\",Period:=\"&$B$1&\",InputChoice1:=Close,InputChoice2::=Close)\", \"FG\", \"\", \"Close\",$B$2,A7, \"all\",\"\", \"\",\"True\",\"T\")/100,\"\")","v":0.39168901016699997},null,-0.94,0,{"$error":"#N/A"}]
[-4,null,{"$f":"IFERROR(RTD(\"cqg.rtd\",,\"StudyData\", \"Correlation(\"&$B$3&\",\"&C$2&\",Period:=\"&$B$1&\",InputChoice1:=Close,InputChoice2:=Close)\", \"FG\", \"\", \"Close\",$B$2,A8, \"all\",\"\", \"\",\"True\",\"T\")/100,\"\")","v":-0.35962302225999998},null,-0.91999999999999993,3,{"$error":"#N/A"},null,{"$f":"IFERROR(RTD(\"cqg.rtd\",,\"StudyData\", \"Correlation(\"&$B$3&\",\"&I$2&\",Period:=\"&$B$1&\",InputChoice1:=Close,InputChoice2::=Close)\", \"FG\", \"\", \"Close\",$B$2,A8, \"all\",\"\", \"\",\"True\",\"T\")/100,\"\")","v":-0.24592073522100003},null,-0.91999999999999993,5,{"$error":"#N/A"},null,{"$f":"IFERROR(RTD(\"cqg.rtd\",,\"StudyData\", \"Correlation(\"&$B$3&\",\"&O$2&\",Period:=\"&$B$1&\",InputChoice1:=Close,InputChoice2::=Close)\", \"FG\", \"\", \"Close\",$B$2,A8, \"all\",\"\", \"\",\"True\",\"T\")/100,\"\")","v":-0.20173472669799999},null,-0.91999999999999993,1,{"$error":"#N/A"},null,{"$f":"IFERROR(RTD(\"cqg.rtd\",,\"StudyData\", \"Correlation(\"&$B$3&\",\"&U$2&\",Period:=\"&$B$1&\",InputChoice1:=Close,InputChoice2::=Close)\", \"FG\", \"\", \"Close\",$B$2,A8, \"all\",\"\", \"\",\"True\",\"T\")/100,\"\")","v":-0.138897179945},null,-0.91999999999999993,0,{"$error":"#N/A"},null,{"$f":"IFERROR(RTD(\"cqg.rtd\",,\"StudyData\", \"Correlation(\"&$B$3&\",\"&AA$2&\",Period:=\"&$B$1&\",InputChoice1:=Close,InputChoice2::=Close)\", \"FG\", \"\", \"Close\",$B$2,A8, \"all\",\"\", \"\",\"True\",\"T\")/100,\"\")","v":-0.20967760174199998},null,-0.91999999999999993,2,{"$error":"#N/A"},null,{"$f":"IFERROR(RTD(\"cqg.rtd\",,\"StudyData\", \"Correlation(\"&$B$3&\",\"&AG$2&\",Period:=\"&$B$1&\",InputChoice1:=Close,InputChoice2::=Close)\", \"FG\", \"\", \"Close\",$B$2,A8, \"all\",\"\", \"\",\"True\",\"T\")/100,\"\")","v":-7.0781925184000005E-2},null,-0.91999999999999993,4,{"$error":"#N/A"},null,{"$f":"IFERROR(RTD(\"cqg.rtd\",,\"StudyData\", \"Correlation(\"&$B$3&\",\"&AM$2&\",Period:=\"&$B$1&\",InputChoice1:=Close,InputChoice2::=Close)\", \"FG\", \"\", \"Close\",$B$2,A8, \"all\",\"\", \"\",\"True\",\"T\")/100,\"\")","v":-0.12003966184999999},null,-0.91999999999999993,0,{"$error":"#N/A"},null,{"$f":"IFERROR(RTD(\"cqg.rtd\",,\"StudyData\", \"Correlation(\"&$B$3&\",\"&AS$2&\",Period:=\"&$B$1&\",InputChoice1:=Close,InputChoice2::=Close)\", \"FG\", \"\", \"Close\",$B$2,A8, \"all\",\"\", \"\",\"True\",\"T\")/100,\"\")","v":-0.21039451434000001},null,-0.91999999999999993,0,{"$error":"#N/A"},null,{"$f":"IFERROR(RTD(\"cqg.rtd\",,\"StudyData\", \"Correlation(\"&$B$3&\",\"&AY$2&\",Period:=\"&$B$1&\",InputChoice1:=Close,InputChoice2::=Close)\", \"FG\", \"\", \"Close\",$B$2,A8, \"all\",\"\", \"\",\"True\",\"T\")/100,\"\")","v":2.2047652519999999E-3},null,-0.91999999999999993,0,{"$error":"#N/A"},null,{"$f":"IFERROR(RTD(\"cqg.rtd\",,\"StudyData\", \"Correlation(\"&$B$3&\",\"&BE$2&\",Period:=\"&$B$1&\",InputChoice1:=Close,InputChoice2::=Close)\", \"FG\", \"\", \"Close\",$B$2,A8, \"all\",\"\", \"\",\"True\",\"T\")/100,\"\")","v":0.24825774769100001},null,-0.91999999999999993,0,{"$error":"#N/A"}]
[-5,null,{"$f":"IFERROR(RTD(\"cqg.rtd\",,\"StudyData\", \"Correlation(\"&$B$3&\",\"&C$2&\",Period:=\"&$B$1&\",InputChoice1:=Close,InputChoice2:=Close)\", \"FG\", \"\", \"Close\",$B$2,A9, \"all\",\"\", \"\",\"True\",\"T\")/100,\"\")","v":-0.37051950486499996},null,-0.89999999999999991,3,{"$error":"#N/A"},null,{"$f":"IFERROR(RTD(\"cqg.rtd\",,\"StudyData\", \"Correlation(\"&$B$3&\",\"&I$2&\",Period:=\"&$B$1&\",InputChoice1:=Close,InputChoice2::=Close)\", \"FG\", \"\", \"Close\",$B$2,A9, \"all\",\"\", \"\",\"True\",\"T\")/100,\"\")","v":-0.28404111022199996},null,-0.89999999999999991,6,{"$error":"#N/A"},null,{"$f":"IFERROR(RTD(\"cqg.rtd\",,\"StudyData\", \"Correlation(\"&$B$3&\",\"&O$2&\",Period:=\"&$B$1&\",InputChoice1:=Close,InputChoice2::=Close)\", \"FG\", \"\", \"Close\",$B$2,A9, \"all\",\"\", \"\",\"True\",\"T\")/100,\"\")","v":-0.25089892839299999},null,-0.89999999999999991,5,{"$error":"#N/A"},null,{"$f":"IFERROR(RTD(\"cqg.rtd\",,\"StudyData\", \"Correlation(\"&$B$3&\",\"&U$2&\",Period:=\"&$B$1&\",InputChoice1:=Close,InputChoice2::=Close)\", \"FG\", \"\", \"Close\",$B$2,A9, \"all\",\"\", \"\",\"True\",\"T\")/100,\"\")","v":-3.455181069E-3},null,-0.89999999999999991,0,{"$error":"#N/A"},null,{"$f":"IFERROR(RTD(\"cqg.rtd\",,\"StudyData\", \"Correlation(\"&$B$3&\",\"&AA$2&\",Period:=\"&$B$1&\",InputChoice1:=Close,InputChoice2::=Close)\", \"FG\", \"\", \"Close\",$B$2,A9, \"all\",\"\", \"\",\"True\",\"T\")/100,\"\")","v":-0.27548863983400002},null,-0.89999999999999991,1,{"$error":"#N/A"},null,{"$f":"IFERROR(RTD(\"cqg.rtd\",,\"StudyData\", \"Correlation(\"&$B$3&\",\"&AG$2&\",Period:=\"&$B$1&\",InputChoice1:=Close,InputChoice2::=Close)\", \"FG\", \"\", \"Close\",$B$2,A9, \"all\",\"\", \"\",\"True\",\"T\")/100,\"\")","v":-0.15166784845600001},null,-0.89999999999999991,1,{"$error":"#N/A"},null,{"$f":"IFERROR(RTD(\"cqg.rtd\",,\"StudyData\", \"Correlation(\"&$B$3&\",\"&AM$2&\",Period:=\"&$B$1&\",InputChoice1:=Close,InputChoice2::=Close)\", \"FG\", \"\", \"Close\",$B$2,A9, \"all\",\"\", \"\",\"True\",\"T\")/100,\"\")","v":-0.186998853347},null,-0.89999999999999991,0,{"$error":"#N/A"},null,{"$f":"IFERROR(RTD(\"cqg.rtd\",,\"StudyData\", \"Correlation(\"&$B$3&\",\"&AS$2&\",Period:=\"&$B$1&\",InputChoice1:=Close,InputChoice2::=Close)\", \"FG\", \"\", \"Close\",$B$2,A9, \"all\",\"\", \"\",\"True\",\"T\")/100,\"\")","v":-8.3127876842000001E-2},null,-0.89999999999999991,0,{"$error":"#N/A"},null,{"$f":"IFERROR(RTD(\"cqg.rtd\",,\"StudyData\", \"Correlation(\"&$B$3&\",\"&AY$2&\",Period:=\"&$B$1&\",InputChoice1:=Close,InputChoice2::=Close)\", \"FG\", \"\", \"Close\",$B$2,A9, \"all\",\"\", \"\",\"True\",\"T\")/100,\"\")","v":-0.109040562631},null,-0.89999999999999991,0,{"$error":"#N/A"},null,{"$f":"IFERROR(RTD(\"cqg.rtd\",,\"StudyData\", \"Correlation(\"&$B$3&\",\"&BE$2&\",Period:=\"&$B$1&\",InputChoice1:=Close,InputChoice2::=Close)\", \"FG\", \"\", \"Close\",$B$2,A9, \"all\",\"\", \"\",\"True\",\"T\")/100,\"\")","v":0.17906730246999999},null,-0.89999999999999991,0,{"$error":"#N/A"}]
[-6,null,{"$f":"IFERROR(RTD(\"cqg.rtd\",,\"StudyData\", \"Correlation(\"&$B$3&\",\"&C$2&\",Period:=\"&$B$1&\",InputChoice1:=Close,InputChoice2:=Close)\", \"FG\", \"\", \"Close\",$B$2,A10, \"all\",\"\", \"\",\"True\",\"T\")/100,\"\")","v":-0.27309875736900002},null,-0.87999999999999989,5,{"$error":"#N/A"},null,{"$f":"IFERROR(RTD(\"cqg.rtd\",,\"StudyData\", \"Correlation(\"&$B$3&\",\"&I$2&\",Period:=\"&$B$1&\",InputChoice1:=Close,InputChoice2::=Close)\", \"FG\", \"\", \"Close\",$B$2,A10, \"all\",\"\", \"\",\"True\",\"T\")/100,\"\")","v":-0.24689062114799998},null,-0.87999999999999989,4,{"$error":"#N/A"},null,{"$f":"IFERROR(RTD(\"cqg.rtd\",,\"StudyData\", \"Correlation(\"&$B$3&\",\"&O$2&\",Period:=\"&$B$1&\",InputChoice1:=Close,InputChoice2::=Close)\", \"FG\", \"\", \"Close\",$B$2,A10, \"all\",\"\", \"\",\"True\",\"T\")/100,\"\")","v":-0.23853112595500001},null,-0.87999999999999989,5,{"$error":"#N/A"},null,{"$f":"IFERROR(RTD(\"cqg.rtd\",,\"StudyData\", \"Correlation(\"&$B$3&\",\"&U$2&\",Period:=\"&$B$1&\",InputChoice1:=Close,InputChoice2::=Close)\", \"FG\", \"\", \"Close\",$B$2,A10, \"all\",\"\", \"\",\"True\",\"T\")/100,\"\")","v":3.7010849885000002E-2},null,-0.87999999999999989,0,{"$error":"#N/A"},null,{"$f":"IFERROR(RTD(\"cqg.rtd\",,\"StudyData\", \"Correlation(\"&$B$3&\",\"&AA$2&\",Period:=\"&$B$1&\",InputChoice1:=Close,InputChoice2::=Close)\", \"FG\", \"\", \"Close\",$B$2,A10, \"all\",\"\", \"\",\"True\",\"T\")/100,\"\")","v":-0.26361664924100003},null,-0.87999999999999989,4,{"$error":"#N/A"},null,{"$f":"IFERROR(RTD(\"cqg.rtd\",,\"StudyData\", \"Correlation(\"&$B$3&\",\"&AG$2&\",Period:=\"&$B$1&\",InputChoice1:=Close,InputChoice2::=Close)\", \"FG\", \"\", \"Close\",$B$2,A10, \"all\",\"\", \"\",\"True\",\"T\")/100,\"\")","v":-0.133817234033},null,-0.87999999999999989,4,{"$error":"#N/A"},null,{"$f":"IFERROR(RTD(\"cqg.rtd\",,\"StudyData\", \"Correlation(\"&$B$3&\",\"&AM$2&\",Period:=\"&$B$1&\",InputChoice1:=Close,InputChoice2::=Close)\", \"FG\", \"\", \"Close\",$B$2,A10, \"all\",\"\", \"\",\"True\",\"T\")/100,\"\")","v":-0.16470769019199999},null,-0.87999999999999989,0,{"$error":"#N/A"},null,{"$f":"IFERROR(RTD(\"cqg.rtd\",,\"StudyData\", \"Correlation(\"&$B$3&\",\"&AS$2&\",Period:=\"&$B$1&\",InputChoice1:=Close,InputChoice2::=Close)\", \"FG\", \"\", \"Close\",$B$2,A10, \"all\",\"\", \"\",\"True\",\"T\")/100,\"\")","v":9.0396625329000002E-2},null,-0.87999999999999989,0,{"$error":"#N/A"},null,{"$f":"IFERROR(RTD(\"cqg.rtd\",,\"StudyData\", \"Correlation(\"&$B$3&\",\"&AY$2&\",Period:=\"&$B$1&\",InputChoice1:=Close,InputChoice2::=Close)\", \"FG\", \"\", \"Close\",$B$2,A10, \"all\",\"\", \"\",\"True\",\"T\")/100,\"\")","v":-0.174969102026},null,-0.87999999999999989,0,{"$error":"#N/A"},null,{"$f":"IFERROR(RTD(\"cqg.rtd\",,\"StudyData\", \"Correlation(\"&$B$3&\",\"&BE$2&\",Period:=\"&$B$1&\",InputChoice1:=Close,InputChoice2::=Close)\", \"FG\", \"\", \"Close\",$B$2,A10, \"all\",\"\", \"\",\"True\",\"T\")/100,\"\")","v":0.120908224148},null,-0.87999999999999989,0,{"$error":"#N/A"}]
[-7,null,{"$f":"IFERROR(RTD(\"cqg.rtd\",,\"StudyData\", \"Correlation(\"&$B$3&\",\"&C$2&\",Period:=\"&$B$1&\",InputChoice1:=Close,InputChoice2:=Close)\", \"FG\", \"\", \"Close\",$B$2,A11, \"all\",\"\", \"\",\"True\",\"T\")/100,\"\")","v":-0.14298336125},null,-0.85999999999999988,3,{"$error":"#N/A"},null,{"$f":"IFERROR(RTD(\"cqg.rtd\",,\"StudyData\", \"Correlation(\"&$B$3&\",\"&I$2&\",Period:=\"&$B$1&\",InputChoice1:=Close,InputChoice2::=Close)\", \"FG\", \"\", \"Close\",$B$2,A11, \"all\",\"\", \"\",\"True\",\"T\")/100,\"\")","v":-0.161817913796},null,-0.85999999999999988,1,{"$error":"#N/A"},null,{"$f":"IFERROR(RTD(\"cqg.rtd\",,\"StudyData\", \"Correlation(\"&$B$3&\",\"&O$2&\",Period:=\"&$B$1&\",InputChoice1:=Close,InputChoice2::=Close)\", \"FG\", \"\", \"Close\",$B$2,A11, \"all\",\"\", \"\",\"True\",\"T\")/100,\"\")","v":-0.17860826047300002},null,-0.85999999999999988,3,{"$error":"#N/A"},null,{"$f":"IFERROR(RTD(\"cqg.rtd\",,\"StudyData\", \"Correlation(\"&$B$3&\",\"&U$2&\",Period:=\"&$B$1&\",InputChoice1:=Close,InputChoice2::=Close)\", \"FG\", \"\", \"Close\",$B$2,A11, \"all\",\"\", \"\",\"True\",\"T\")/100,\"\")","v":1.5300997103000001E-2},null,-0.85999999999999988,0,{"$error":"#N/A"},null,{"$f":"IFERROR(RTD(\"cqg.rtd\",,\"StudyData\", \"Correlation(\"&$B$3&\",\"&AA$2&\",Period:=\"&$B$1&\",InputChoice1:=Close,InputChoice2::=Close)\", \"FG\", \"\", \"Close\",$B$2,A11, \"all\",\"\", \"\",\"True\",\"T\")/100,\"\")","v":-0.15099159722399999},null,-0.85999999999999988,2,{"$error":"#N/A"},null,{"$f":"IFERROR(RTD(\"cqg.rtd\",,\"StudyData\", \"Correlation(\"&$B$3&\",\"&AG$2&\",Period:=\"&$B$1&\",InputChoice1:=Close,InputChoice2::=Close)\", \"FG\", \"\", \"Close\",$B$2,A11, \"all\",\"\", \"\",\"True\",\"T\")/100,\"\")","v":-7.1931854129999992E-3},null,-0.85999999999999988,5,{"$error":"#N/A"},null,{"$f":"IFERROR(RTD(\"cqg.rtd\",,\"StudyData\", \"Correlation(\"&$B$3&\",\"&AM$2&\",Period:=\"&$B$1&\",InputChoice1:=Close,InputChoice2::=Close)\", \"FG\", \"\", \"Close\",$B$2,A11, \"all\",\"\", \"\",\"True\",\"T\")/100,\"\")","v":-4.5095816125E-2},null,-0.85999999999999988,0,{"$error":"#N/A"},null,{"$f":"IFERROR(RTD(\"cqg.rtd\",,\"StudyData\", \"Correlation(\"&$B$3&\",\"&AS$2&\",Period:=\"&$B$1&\",InputChoice1:=Close,InputChoice2::=Close)\", \"FG\", \"\", \"Close\",$B$2,A11, \"all\",\"\", \"\",\"True\",\"T\")/100,\"\")","v":8.4538792924999995E-2},null,-0.85999999999999988,0,{"$error":"#N/A"},null,{"$f":"IFERROR(RTD(\"cqg.rtd\",,\"StudyData\", \"Correlation(\"&$B$3&\",\"&AY$2&\",Period:=\"&$B$1&\",InputChoice1:=Close,InputChoice2::=Close)\", \"FG\", \"\", \"Close\",$B$2,A11, \"all\",\"\", \"\",\"True\",\"T\")/100,\"\")","v":-0.137404166026},null,-0.85999999999999988,0,{"$error":"#N/A"},null,{"$f":"IFERROR(RTD(\"cqg.rtd\",,\"StudyData\", \"Correlation(\"&$B$3&\",\"&BE$2&\",Period:=\"&$B$1&\",InputChoice1:=Close,InputChoice2::=Close)\", \"FG\", \"\", \"Close\",$B$2,A11, \"all\",\"\", \"\",\"True\",\"T\")/100,\"\")","v":0.114759936572},null,-0.85999999999999988,0,{"$error":"#N/A"}]
[-8,null,{"$f":"IFERROR(RTD(\"cqg.rtd\",,\"StudyData\", \"Correlation(\"&$B$3&\",\"&C$2&\",Period:=\"&$B$1&\",InputChoice1:=Close,InputChoice2:=Close)\", \"FG\", \"\", \"Close\",$B$2,A12, \"all\",\"\", \"\",\"True\",\"T\")/100,\"\")","v":-1.0337294465000001E-2},null,-0.83999999999999986,1,{"$error":"#N/A"},null,{"$f":"IFERROR(RTD(\"cqg.rtd\",,\"StudyData\", \"Correlation(\"&$B$3&\",\"&I$2&\",Period:=\"&$B$1&\",InputChoice1:=Close,InputChoice2::=Close)\", \"FG\", \"\", \"Close\",$B$2,A12, \"all\",\"\", \"\",\"True\",\"T\")/100,\"\")","v":-1.6574908988000001E-2},null,-0.83999999999999986,4,{"$error":"#N/A"},null,{"$f":"IFERROR(RTD(\"cqg.rtd\",,\"StudyData\", \"Correlation(\"&$B$3&\",\"&O$2&\",Period:=\"&$B$1&\",InputChoice1:=Close,InputChoice2::=Close)\", \"FG\", \"\", \"Close\",$B$2,A12, \"all\",\"\", \"\",\"True\",\"T\")/100,\"\")","v":-4.7269041609000001E-2},null,-0.83999999999999986,2,{"$error":"#N/A"},null,{"$f":"IFERROR(RTD(\"cqg.rtd\",,\"StudyData\", \"Correlation(\"&$B$3&\",\"&U$2&\",Period:=\"&$B$1&\",InputChoice1:=Close,InputChoice2::=Close)\", \"FG\", \"\", \"Close\",$B$2,A12, \"all\",\"\", \"\",\"True\",\"T\")/100,\"\")","v":3.6852081947000001E-2},null,-0.83999999999999986,0,{"$error":"#N/A"},null,{"$f":"IFERROR(RTD(\"cqg.rtd\",,\"StudyData\", \"Correlation(\"&$B$3&\",\"&AA$2&\",Period:=\"&$B$1&\",InputChoice1:=Close,InputChoice2::=Close)\", \"FG\", \"\", \"Close\",$B$2,A12, \"all\",\"\", \"\",\"True\",\"T\")/100,\"\")","v":-6.8622135092999997E-2},null,-0.83999999999999986,2,{"$error":"#N/A"},null,{"$f":"IFERROR(RTD(\"cqg.rtd\",,\"StudyData\", \"Correlation(\"&$B$3&\",\"&AG$2&\",Period:=\"&$B$1&\",InputChoice1:=Close,InputChoice2::=Close)\", \"FG\", \"\", \"Close\",$B$2,A12, \"all\",\"\", \"\",\"True\",\"T\")/100,\"\")","v":0.13645912299400001},null,-0.83999999999999986,3,{"$error":"#N/A"},null,{"$f":"IFERROR(RTD(\"cqg.rtd\",,\"StudyData\", \"Correlation(\"&$B$3&\",\"&AM$2&\",Period:=\"&$B$1&\",InputChoice1:=Close,InputChoice2::=Close)\", \"FG\", \"\", \"Close\",$B$2,A12, \"all\",\"\", \"\",\"True\",\"T\")/100,\"\")","v":8.3137242707E-2},null,-0.83999999999999986,4,{"$error":"#N/A"},null,{"$f":"IFERROR(RTD(\"cqg.rtd\",,\"StudyData\", \"Correlation(\"&$B$3&\",\"&AS$2&\",Period:=\"&$B$1&\",InputChoice1:=Close,InputChoice2::=Close)\", \"FG\", \"\", \"Close\",$B$2,A12, \"all\",\"\", \"\",\"True\",\"T\")/100,\"\")","v":0.12850441773999999},null,-0.83999999999999986,0,{"$error":"#N/A"},null,{"$f":"IFERROR(RTD(\"cqg.rtd\",,\"StudyData\", \"Correlation(\"&$B$3&\",\"&AY$2&\",Period:=\"&$B$1&\",InputChoice1:=Close,InputChoice2::=Close)\", \"FG\", \"\", \"Close\",$B$2,A12, \"all\",\"\", \"\",\"True\",\"T\")/100,\"\")","v":-0.25169719666199997},null,-0.83999999999999986,0,{"$error":"#N/A"},null,{"$f":"IFERROR(RTD(\"cqg.rtd\",,\"StudyData\", \"Correlation(\"&$B$3&\",\"&BE$2&\",Period:=\"&$B$1&\",InputChoice1:=Close,InputChoice2::=Close)\", \"FG\", \"\", \"Close\",$B$2,A12, \"all\",\"\", \"\",\"True\",\"T\")/100,\"\")","v":0.17100157932999999},null,-0.83999999999999986,0,{"$error":"#N/A"}]
[-9,null,{"$f":"IFERROR(RTD(\"cqg.rtd\",,\"StudyData\", \"Correlation(\"&$B$3&\",\"&C$2&\",Period:=\"&$B$1&\",InputChoice1:=Close,InputChoice2:=Close)\", \"FG\", \"\", \"Close\",$B$2,A13, \"all\",\"\", \"\",\"True\",\"T\")/100,\"\")","v":5.2873864563999999E-2},null,-0.81999999999999984,4,{"$error":"#N/A"},null,{"$f":"IFERROR(RTD(\"cqg.rtd\",,\"StudyData\", \"Correlation(\"&$B$3&\",\"&I$2&\",Period:=\"&$B$1&\",InputChoice1:=Close,InputChoice2::=Close)\", \"FG\", \"\", \"Close\",$B$2,A13, \"all\",\"\", \"\",\"True\",\"T\")/100,\"\")","v":1.2772688173999999E-2},null,-0.81999999999999984,2,{"$error":"#N/A"},null,{"$f":"IFERROR(RTD(\"cqg.rtd\",,\"StudyData\", \"Correlation(\"&$B$3&\",\"&O$2&\",Period:=\"&$B$1&\",InputChoice1:=Close,InputChoice2::=Close)\", \"FG\", \"\", \"Close\",$B$2,A13, \"all\",\"\", \"\",\"True\",\"T\")/100,\"\")","v":-4.3892976547000001E-2},null,-0.81999999999999984,2,{"$error":"#N/A"},null,{"$f":"IFERROR(RTD(\"cqg.rtd\",,\"StudyData\", \"Correlation(\"&$B$3&\",\"&U$2&\",Period:=\"&$B$1&\",InputChoice1:=Close,InputChoice2::=Close)\", \"FG\", \"\", \"Close\",$B$2,A13, \"all\",\"\", \"\",\"True\",\"T\")/100,\"\")","v":6.8572096863999996E-2},null,-0.81999999999999984,0,{"$error":"#N/A"},null,{"$f":"IFERROR(RTD(\"cqg.rtd\",,\"StudyData\", \"Correlation(\"&$B$3&\",\"&AA$2&\",Period:=\"&$B$1&\",InputChoice1:=Close,InputChoice2::=Close)\", \"FG\", \"\", \"Close\",$B$2,A13, \"all\",\"\", \"\",\"True\",\"T\")/100,\"\")","v":3.1338922818999998E-2},null,-0.81999999999999984,2,{"$error":"#N/A"},null,{"$f":"IFERROR(RTD(\"cqg.rtd\",,\"StudyData\", \"Correlation(\"&$B$3&\",\"&AG$2&\",Period:=\"&$B$1&\",InputChoice1:=Close,InputChoice2::=Close)\", \"FG\", \"\", \"Close\",$B$2,A13, \"all\",\"\", \"\",\"True\",\"T\")/100,\"\")","v":0.26646320820500002},null,-0.81999999999999984,2,{"$error":"#N/A"},null,{"$f":"IFERROR(RTD(\"cqg.rtd\",,\"StudyData\", \"Correlation(\"&$B$3&\",\"&AM$2&\",Period:=\"&$B$1&\",InputChoice1:=Close,InputChoice2::=Close)\", \"FG\", \"\", \"Close\",$B$2,A13, \"all\",\"\", \"\",\"True\",\"T\")/100,\"\")","v":0.22698482075400001},null,-0.81999999999999984,6,{"$error":"#N/A"},null,{"$f":"IFERROR(RTD(\"cqg.rtd\",,\"StudyData\", \"Correlation(\"&$B$3&\",\"&AS$2&\",Period:=\"&$B$1&\",InputChoice1:=Close,InputChoice2::=Close)\", \"FG\", \"\", \"Close\",$B$2,A13, \"all\",\"\", \"\",\"True\",\"T\")/100,\"\")","v":0.19212670673400001},null,-0.81999999999999984,0,{"$error":"#N/A"},null,{"$f":"IFERROR(RTD(\"cqg.rtd\",,\"StudyData\", \"Correlation(\"&$B$3&\",\"&AY$2&\",Period:=\"&$B$1&\",InputChoice1:=Close,InputChoice2::=Close)\", \"FG\", \"\", \"Close\",$B$2,A13, \"all\",\"\", \"\",\"True\",\"T\")/100,\"\")","v":-0.29100047131699996},null,-0.81999999999999984,0,{"$error":"#N/A"},null,{"$f":"IFERROR(RTD(\"cqg.rtd\",,\"StudyData\", \"Correlation(\"&$B$3&\",\"&BE$2&\",Period:=\"&$B$1&\",InputChoice1:=Close,InputChoice2::=Close)\", \"FG\", \"\", \"Close\",$B$2,A13, \"all\",\"\", \"\",\"True\",\"T\")/100,\"\")","v":0.166046320601},null,-0.81999999999999984,0,{"$error":"#N/A"}]
[-10,null,{"$f":"IFERROR(RTD(\"cqg.rtd\",,\"StudyData\", \"Correlation(\"&$B$3&\",\"&C$2&\",Period:=\"&$B$1&\",InputChoice1:=Close,InputChoice2:=Close)\", \"FG\", \"\", \"Close\",$B$2,A14, \"all\",\"\", \"\",\"True\",\"T\")/100,\"\")","v":-7.8247544300000006E-3},null,-0.79999999999999982,2,{"$error":"#N/A"},null,{"$f":"IFERROR(RTD(\"cqg.rtd\",,\"StudyData\", \"Correlation(\"&$B$3&\",\"&I$2&\",Period:=\"&$B$1&\",InputChoice1:=Close,InputChoice2::=Close)\", \"FG\", \"\", \"Close\",$B$2,A14, \"all\",\"\", \"\",\"True\",\"T\")/100,\"\")","v":-0.12159956698800001},null,-0.79999999999999982,3,{"$error":"#N/A"},null,{"$f":"IFERROR(RTD(\"cqg.rtd\",,\"StudyData\", \"Correlation(\"&$B$3&\",\"&O$2&\",Period:=\"&$B$1&\",InputChoice1:=Close,InputChoice2::=Close)\", \"FG\", \"\", \"Close\",$B$2,A14, \"all\",\"\", \"\",\"True\",\"T\")/100,\"\")","v":-0.19702868054900002},null,-0.79999999999999982,1,{"$error":"#N/A"},null,{"$f":"IFERROR(RTD(\"cqg.rtd\",,\"StudyData\", \"Correlation(\"&$B$3&\",\"&U$2&\",Period:=\"&$B$1&\",InputChoice1:=Close,InputChoice2::=Close)\", \"FG\", \"\", \"Close\",$B$2,A14, \"all\",\"\", \"\",\"True\",\"T\")/100,\"\")","v":0.107387988726},null,-0.79999999999999982,0,{"$error":"#N/A"},null,{"$f":"IFERROR(RTD(\"cqg.rtd\",,\"StudyData\", \"Correlation(\"&$B$3&\",\"&AA$2&\",Period:=\"&$B$1&\",InputChoice1:=Close,InputChoice2::=Close)\", \"FG\", \"\", \"Close\",$B$2,A14, \"all\",\"\", \"\",\"True\",\"T\")/100,\"\")","v":9.1782429602000004E-2},null,-0.79999999999999982,5,{"$error":"#N/A"},null,{"$f":"IFERROR(RTD(\"cqg.rtd\",,\"StudyData\", \"Correlation(\"&$B$3&\",\"&AG$2&\",Period:=\"&$B$1&\",InputChoice1:=Close,InputChoice2::=Close)\", \"FG\", \"\", \"Close\",$B$2,A14, \"all\",\"\", \"\",\"True\",\"T\")/100,\"\")","v":0.32037109280000003},null,-0.79999999999999982,0,{"$error":"#N/A"},null,{"$f":"IFERROR(RTD(\"cqg.rtd\",,\"StudyData\", \"Correlation(\"&$B$3&\",\"&AM$2&\",Period:=\"&$B$1&\",InputChoice1:=Close,InputChoice2::=Close)\", \"FG\", \"\", \"Close\",$B$2,A14, \"all\",\"\", \"\",\"True\",\"T\")/100,\"\")","v":0.33229998868400001},null,-0.79999999999999982,2,{"$error":"#N/A"},null,{"$f":"IFERROR(RTD(\"cqg.rtd\",,\"StudyData\", \"Correlation(\"&$B$3&\",\"&AS$2&\",Period:=\"&$B$1&\",InputChoice1:=Close,InputChoice2::=Close)\", \"FG\", \"\", \"Close\",$B$2,A14, \"all\",\"\", \"\",\"True\",\"T\")/100,\"\")","v":0.32687231699699998},null,-0.79999999999999982,0,{"$error":"#N/A"},null,{"$f":"IFERROR(RTD(\"cqg.rtd\",,\"StudyData\", \"Correlation(\"&$B$3&\",\"&AY$2&\",Period:=\"&$B$1&\",InputChoice1:=Close,InputChoice2::=Close)\", \"FG\", \"\", \"Close\",$B$2,A14, \"all\",\"\", \"\",\"True\",\"T\")/100,\"\")","v":-0.35224592344599998},null,-0.79999999999999982,0,{"$error":"#N/A"},null,{"$f":"IFERROR(RTD(\"cqg.rtd\",,\"StudyData\", \"Correlation(\"&$B$3&\",\"&BE$2&\",Period:=\"&$B$1&\",InputChoice1:=Close,InputChoice2::=Close)\", \"FG\", \"\", \"Close\",$B$2,A14, \"all\",\"\", \"\",\"True\",\"T\")/100,\"\")","v":0.144667198572},null,-0.79999999999999982,0,{"$error":"#N/A"}]
[-11,null,{"$f":"IFERROR(RTD(\"cqg.rtd\",,\"StudyData\", \"Correlation(\"&$B$3&\",\"&C$2&\",Period:=\"&$B$1&\",InputChoice1:=Close,InputChoice2:=Close)\", \"FG\", \"\", \"Close\",$B$2,A15, \"all\",\"\", \"\",\"True\",\"T\")/100,\"\")","v":-3.1796302876999999E-2},null,-0.7799999999999998,0,{"$error":"#N/A"},null,{"$f":"IFERROR(RTD(\"cqg.rtd\",,\"StudyData\", \"Correlation(\"&$B$3&\",\"&I$2&\",Period:=\"&$B$1&\",InputChoice1:=Close,InputChoice2::=Close)\", \"FG\", \"\", \"Close\",$B$2,A15, \"all\",\"\", \"\",\"True\",\"T\")/100,\"\")","v":-0.21864619012399999},null,-0.7799999999999998,1,{"$error":"#N/A"},null,{"$f":"IFERROR(RTD(\"cqg.rtd\",,\"StudyData\", \"Correlation(\"&$B$3&\",\"&O$2&\",Period:=\"&$B$1&\",InputChoice1:=Close,InputChoice2::=Close)\", \"FG\", \"\", \"Close\",$B$2,A15, \"all\",\"\", \"\",\"True\",\"T\")/100,\"\")","v":-0.29190739538499999},null,-0.7799999999999998,1,{"$error":"#N/A"},null,{"$f":"IFERROR(RTD(\"cqg.rtd\",,\"StudyData\", \"Correlation(\"&$B$3&\",\"&U$2&\",Period:=\"&$B$1&\",InputChoice1:=Close,InputChoice2::=Close)\", \"FG\", \"\", \"Close\",$B$2,A15, \"all\",\"\", \"\",\"True\",\"T\")/100,\"\")","v":0.28702459984799999},null,-0.7799999999999998,0,{"$error":"#N/A"},null,{"$f":"IFERROR(RTD(\"cqg.rtd\",,\"StudyData\", \"Correlation(\"&$B$3&\",\"&AA$2&\",Period:=\"&$B$1&\",InputChoice1:=Close,InputChoice2::=Close)\", \"FG\", \"\", \"Close\",$B$2,A15, \"all\",\"\", \"\",\"True\",\"T\")/100,\"\")","v":-1.5442929564000001E-2},null,-0.7799999999999998,8,{"$error":"#N/A"},null,{"$f":"IFERROR(RTD(\"cqg.rtd\",,\"StudyData\", \"Correlation(\"&$B$3&\",\"&AG$2&\",Period:=\"&$B$1&\",InputChoice1:=Close,InputChoice2::=Close)\", \"FG\", \"\", \"Close\",$B$2,A15, \"all\",\"\", \"\",\"True\",\"T\")/100,\"\")","v":0.20273391967099999},null,-0.7799999999999998,2,{"$error":"#N/A"},null,{"$f":"IFERROR(RTD(\"cqg.rtd\",,\"StudyData\", \"Correlation(\"&$B$3&\",\"&AM$2&\",Period:=\"&$B$1&\",InputChoice1:=Close,InputChoice2::=Close)\", \"FG\", \"\", \"Close\",$B$2,A15, \"all\",\"\", \"\",\"True\",\"T\")/100,\"\")","v":0.26164930753900001},null,-0.7799999999999998,5,{"$error":"#N/A"},null,{"$f":"IFERROR(RTD(\"cqg.rtd\",,\"StudyData\", \"Correlation(\"&$B$3&\",\"&AS$2&\",Period:=\"&$B$1&\",InputChoice1:=Close,InputChoice2::=Close)\", \"FG\", \"\", \"Close\",$B$2,A15, \"all\",\"\", \"\",\"True\",\"T\")/100,\"\")","v":0.44152963687899999},null,-0.7799999999999998,0,{"$error":"#N/A"},null,{"$f":"IFERROR(RTD(\"cqg.rtd\",,\"StudyData\", \"Correlation(\"&$B$3&\",\"&AY$2&\",Period:=\"&$B$1&\",InputChoice1:=Close,InputChoice2::=Close)\", \"FG\", \"\", \"Close\",$B$2,A15, \"all\",\"\", \"\",\"True\",\"T\")/100,\"\")","v":-0.45098814301200002},null,-0.7799999999999998,0,{"$error":"#N/A"},null,{"$f":"IFERROR(RTD(\"cqg.rtd\",,\"StudyData\", \"Correlation(\"&$B$3&\",\"&BE$2&\",Period:=\"&$B$1&\",InputChoice1:=Close,InputChoice2::=Close)\", \"FG\", \"\", \"Close\",$B$2,A15, \"all\",\"\", \"\",\"True\",\"T\")/100,\"\")","v":0.13567276252899999},null,-0.7799999999999998,0,{"$error":"#N/A"}]
[-12,null,{"$f":"IFERROR(RTD(\"cqg.rtd\",,\"StudyData\", \"Correlation(\"&$B$3&\",\"&C$2&\",Period:=\"&$B$1&\",InputChoice1:=Close,InputChoice2:=Close)\", \"FG\", \"\", \"Close\",$B$2,A16, \"all\",\"\", \"\",\"True\",\"T\")/100,\"\")","v":-9.0865236645E-2},null,-0.75999999999999979,1,{"$error":"#N/A"},null,{"$f":"IFERROR(RTD(\"cqg.rtd\",,\"StudyData\", \"Correlation(\"&$B$3&\",\"&I$2&\",Period:=\"&$B$1&\",InputChoice1:=Close,InputChoice2::=Close)\", \"FG\", \"\", \"Close\",$B$2,A16, \"all\",\"\", \"\",\"True\",\"T\")/100,\"\")","v":-0.44615061399},null,-0.75999999999999979,0,{"$error":"#N/A"},null,{"$f":"IFERROR(RTD(\"cqg.rtd\",,\"StudyData\", \"Correlation(\"&$B$3&\",\"&O$2&\",Period:=\"&$B$1&\",InputChoice1:=Close,InputChoice2::=Close)\", \"FG\", \"\", \"Close\",$B$2,A16, \"all\",\"\", \"\",\"True\",\"T\")/100,\"\")","v":-0.50967876865599993},null,-0.75999999999999979,1,{"$error":"#N/A"},null,{"$f":"IFERROR(RTD(\"cqg.rtd\",,\"StudyData\", \"Correlation(\"&$B$3&\",\"&U$2&\",Period:=\"&$B$1&\",InputChoice1:=Close,InputChoice2::=Close)\", \"FG\", \"\", \"Close\",$B$2,A16, \"all\",\"\", \"\",\"True\",\"T\")/100,\"\")","v":0.64259211465099997},null,-0.75999999999999979,0,{"$error":"#N/A"},null,{"$f":"IFERROR(RTD(\"cqg.rtd\",,\"StudyData\", \"Correlation(\"&$B$3&\",\"&AA$2&\",Period:=\"&$B$1&\",InputChoice1:=Close,InputChoice2::=Close)\", \"FG\", \"\", \"Close\",$B$2,A16, \"all\",\"\", \"\",\"True\",\"T\")/100,\"\")","v":-0.31602115051700003},null,-0.75999999999999979,1,{"$error":"#N/A"},null,{"$f":"IFERROR(RTD(\"cqg.rtd\",,\"StudyData\", \"Correlation(\"&$B$3&\",\"&AG$2&\",Period:=\"&$B$1&\",InputChoice1:=Close,InputChoice2::=Close)\", \"FG\", \"\", \"Close\",$B$2,A16, \"all\",\"\", \"\",\"True\",\"T\")/100,\"\")","v":-0.33069611506199997},null,-0.75999999999999979,2,{"$error":"#N/A"},null,{"$f":"IFERROR(RTD(\"cqg.rtd\",,\"StudyData\", \"Correlation(\"&$B$3&\",\"&AM$2&\",Period:=\"&$B$1&\",InputChoice1:=Close,InputChoice2::=Close)\", \"FG\", \"\", \"Close\",$B$2,A16, \"all\",\"\", \"\",\"True\",\"T\")/100,\"\")","v":2.9027017885999998E-2},null,-0.75999999999999979,3,{"$error":"#N/A"},null,{"$f":"IFERROR(RTD(\"cqg.rtd\",,\"StudyData\", \"Correlation(\"&$B$3&\",\"&AS$2&\",Period:=\"&$B$1&\",InputChoice1:=Close,InputChoice2::=Close)\", \"FG\", \"\", \"Close\",$B$2,A16, \"all\",\"\", \"\",\"True\",\"T\")/100,\"\")","v":0.78110598130599995},null,-0.75999999999999979,1,{"$error":"#N/A"},null,{"$f":"IFERROR(RTD(\"cqg.rtd\",,\"StudyData\", \"Correlation(\"&$B$3&\",\"&AY$2&\",Period:=\"&$B$1&\",InputChoice1:=Close,InputChoice2::=Close)\", \"FG\", \"\", \"Close\",$B$2,A16, \"all\",\"\", \"\",\"True\",\"T\")/100,\"\")","v":-0.66822091068299994},null,-0.75999999999999979,0,{"$error":"#N/A"},null,{"$f":"IFERROR(RTD(\"cqg.rtd\",,\"StudyData\", \"Correlation(\"&$B$3&\",\"&BE$2&\",Period:=\"&$B$1&\",InputChoice1:=Close,InputChoice2::=Close)\", \"FG\", \"\", \"Close\",$B$2,A16, \"all\",\"\", \"\",\"True\",\"T\")/100,\"\")","v":6.2661409126999995E-2},null,-0.75999999999999979,0,{"$error":"#N/A"}]
[-13,null,{"$f":"IFERROR(RTD(\"cqg.rtd\",,\"StudyData\", \"Correlation(\"&$B$3&\",\"&C$2&\",Period:=\"&$B$1&\",InputChoice1:=Close,InputChoice2:=Close)\", \"FG\", \"\", \"Close\",$B$2,A17, \"all\",\"\", \"\",\"True\",\"T\")/100,\"\")","v":-0.24616991161000001},null,-0.73999999999999977,0,{"$error":"#N/A"},null,{"$f":"IFERROR(RTD(\"cqg.rtd\",,\"StudyData\", \"Correlation(\"&$B$3&\",\"&I$2&\",Period:=\"&$B$1&\",InputChoice1:=Close,InputChoice2::=Close)\", \"FG\", \"\", \"Close\",$B$2,A17, \"all\",\"\", \"\",\"True\",\"T\")/100,\"\")","v":-0.78812602650899999},null,-0.73999999999999977,0,{"$error":"#N/A"},null,{"$f":"IFERROR(RTD(\"cqg.rtd\",,\"StudyData\", \"Correlation(\"&$B$3&\",\"&O$2&\",Period:=\"&$B$1&\",InputChoice1:=Close,InputChoice2::=Close)\", \"FG\", \"\", \"Close\",$B$2,A17, \"all\",\"\", \"\",\"True\",\"T\")/100,\"\")","v":-0.87233829457599998},null,-0.73999999999999977,1,{"$error":"#N/A"},null,{"$f":"IFERROR(RTD(\"cqg.rtd\",,\"StudyData\", \"Correlation(\"&$B$3&\",\"&U$2&\",Period:=\"&$B$1&\",InputChoice1:=Close,InputChoice2::=Close)\", \"FG\", \"\", \"Close\",$B$2,A17, \"all\",\"\", \"\",\"True\",\"T\")/100,\"\")","v":0.72544718870000002},null,-0.73999999999999977,0,{"$error":"#N/A"},null,{"$f":"IFERROR(RTD(\"cqg.rtd\",,\"StudyData\", \"Correlation(\"&$B$3&\",\"&AA$2&\",Period:=\"&$B$1&\",InputChoice1:=Close,InputChoice2::=Close)\", \"FG\", \"\", \"Close\",$B$2,A17, \"all\",\"\", \"\",\"True\",\"T\")/100,\"\")","v":-0.34836042340900003},null,-0.73999999999999977,3,{"$error":"#N/A"},null,{"$f":"IFERROR(RTD(\"cqg.rtd\",,\"StudyData\", \"Correlation(\"&$B$3&\",\"&AG$2&\",Period:=\"&$B$1&\",InputChoice1:=Close,InputChoice2::=Close)\", \"FG\", \"\", \"Close\",$B$2,A17, \"all\",\"\", \"\",\"True\",\"T\")/100,\"\")","v":-0.28649114745199999},null,-0.73999999999999977,0,{"$error":"#N/A"},null,{"$f":"IFERROR(RTD(\"cqg.rtd\",,\"StudyData\", \"Correlation(\"&$B$3&\",\"&AM$2&\",Period:=\"&$B$1&\",InputChoice1:=Close,InputChoice2::=Close)\", \"FG\", \"\", \"Close\",$B$2,A17, \"all\",\"\", \"\",\"True\",\"T\")/100,\"\")","v":0.11653079417000001},null,-0.73999999999999977,5,{"$error":"#N/A"},null,{"$f":"IFERROR(RTD(\"cqg.rtd\",,\"StudyData\", \"Correlation(\"&$B$3&\",\"&AS$2&\",Period:=\"&$B$1&\",InputChoice1:=Close,InputChoice2::=Close)\", \"FG\", \"\", \"Close\",$B$2,A17, \"all\",\"\", \"\",\"True\",\"T\")/100,\"\")","v":0.79961327047399999},null,-0.73999999999999977,2,{"$error":"#N/A"},null,{"$f":"IFERROR(RTD(\"cqg.rtd\",,\"StudyData\", \"Correlation(\"&$B$3&\",\"&AY$2&\",Period:=\"&$B$1&\",InputChoice1:=Close,InputChoice2::=Close)\", \"FG\", \"\", \"Close\",$B$2,A17, \"all\",\"\", \"\",\"True\",\"T\")/100,\"\")","v":-0.54618778395299994},null,-0.73999999999999977,0,{"$error":"#N/A"},null,{"$f":"IFERROR(RTD(\"cqg.rtd\",,\"StudyData\", \"Correlation(\"&$B$3&\",\"&BE$2&\",Period:=\"&$B$1&\",InputChoice1:=Close,InputChoice2::=Close)\", \"FG\", \"\", \"Close\",$B$2,A17, \"all\",\"\", \"\",\"True\",\"T\")/100,\"\")","v":-0.20389433336999999},null,-0.73999999999999977,0,{"$error":"#N/A"}]
[-14,null,{"$f":"IFERROR(RTD(\"cqg.rtd\",,\"StudyData\", \"Correlation(\"&$B$3&\",\"&C$2&\",Period:=\"&$B$1&\",InputChoice1:=Close,InputChoice2:=Close)\", \"FG\", \"\", \"Close\",$B$2,A18, \"all\",\"\", \"\",\"True\",\"T\")/100,\"\")","v":-0.36695507608100003},null,-0.71999999999999975,0,{"$error":"#N/A"},null,{"$f":"IFERROR(RTD(\"cqg.rtd\",,\"StudyData\", \"Correlation(\"&$B$3&\",\"&I$2&\",Period:=\"&$B$1&\",InputChoice1:=Close,InputChoice2::=Close)\", \"FG\", \"\", \"Close\",$B$2,A18, \"all\",\"\", \"\",\"True\",\"T\")/100,\"\")","v":-0.82468815509600002},null,-0.71999999999999975,1,{"$error":"#N/A"},null,{"$f":"IFERROR(RTD(\"cqg.rtd\",,\"StudyData\", \"Correlation(\"&$B$3&\",\"&O$2&\",Period:=\"&$B$1&\",InputChoice1:=Close,InputChoice2::=Close)\", \"FG\", \"\", \"Close\",$B$2,A18, \"all\",\"\", \"\",\"True\",\"T\")/100,\"\")","v":-0.88820406731899992},null,-0.71999999999999975,5,{"$error":"#N/A"},null,{"$f":"IFERROR(RTD(\"cqg.rtd\",,\"StudyData\", \"Correlation(\"&$B$3&\",\"&U$2&\",Period:=\"&$B$1&\",InputChoice1:=Close,InputChoice2::=Close)\", \"FG\", \"\", \"Close\",$B$2,A18, \"all\",\"\", \"\",\"True\",\"T\")/100,\"\")","v":0.78390367499999991},null,-0.71999999999999975,1,{"$error":"#N/A"},null,{"$f":"IFERROR(RTD(\"cqg.rtd\",,\"StudyData\", \"Correlation(\"&$B$3&\",\"&AA$2&\",Period:=\"&$B$1&\",InputChoice1:=Close,InputChoice2::=Close)\", \"FG\", \"\", \"Close\",$B$2,A18, \"all\",\"\", \"\",\"True\",\"T\")/100,\"\")","v":-0.44528572181100001},null,-0.71999999999999975,5,{"$error":"#N/A"},null,{"$f":"IFERROR(RTD(\"cqg.rtd\",,\"StudyData\", \"Correlation(\"&$B$3&\",\"&AG$2&\",Period:=\"&$B$1&\",InputChoice1:=Close,InputChoice2::=Close)\", \"FG\", \"\", \"Close\",$B$2,A18, \"all\",\"\", \"\",\"True\",\"T\")/100,\"\")","v":-0.376227096378},null,-0.71999999999999975,1,{"$error":"#N/A"},null,{"$f":"IFERROR(RTD(\"cqg.rtd\",,\"StudyData\", \"Correlation(\"&$B$3&\",\"&AM$2&\",Period:=\"&$B$1&\",InputChoice1:=Close,InputChoice2::=Close)\", \"FG\", \"\", \"Close\",$B$2,A18, \"all\",\"\", \"\",\"True\",\"T\")/100,\"\")","v":0.135837638298},null,-0.71999999999999975,5,{"$error":"#N/A"},null,{"$f":"IFERROR(RTD(\"cqg.rtd\",,\"StudyData\", \"Correlation(\"&$B$3&\",\"&AS$2&\",Period:=\"&$B$1&\",InputChoice1:=Close,InputChoice2::=Close)\", \"FG\", \"\", \"Close\",$B$2,A18, \"all\",\"\", \"\",\"True\",\"T\")/100,\"\")","v":0.82562890888100005},null,-0.71999999999999975,0,{"$error":"#N/A"},null,{"$f":"IFERROR(RTD(\"cqg.rtd\",,\"StudyData\", \"Correlation(\"&$B$3&\",\"&AY$2&\",Period:=\"&$B$1&\",InputChoice1:=Close,InputChoice2::=Close)\", \"FG\", \"\", \"Close\",$B$2,A18, \"all\",\"\", \"\",\"True\",\"T\")/100,\"\")","v":-0.44910260465999996},null,-0.71999999999999975,0,{"$error":"#N/A"},null,{"$f":"IFERROR(RTD(\"cqg.rtd\",,\"StudyData\", \"Correlation(\"&$B$3&\",\"&BE$2&\",Period:=\"&$B$1&\",InputChoice1:=Close,InputChoice2::=Close)\", \"FG\", \"\", \"Close\",$B$2,A18, \"all\",\"\", \"\",\"True\",\"T\")/100,\"\")","v":-0.154327756584},null,-0.71999999999999975,0,{"$error":"#N/A"}]
[-15,null,{"$f":"IFERROR(RTD(\"cqg.rtd\",,\"StudyData\", \"Correlation(\"&$B$3&\",\"&C$2&\",Period:=\"&$B$1&\",InputChoice1:=Close,InputChoice2:=Close)\", \"FG\", \"\", \"Close\",$B$2,A19, \"all\",\"\", \"\",\"True\",\"T\")/100,\"\")","v":-0.44049137798799998},null,-0.69999999999999973,0,{"$error":"#N/A"},null,{"$f":"IFERROR(RTD(\"cqg.rtd\",,\"StudyData\", \"Correlation(\"&$B$3&\",\"&I$2&\",Period:=\"&$B$1&\",InputChoice1:=Close,InputChoice2::=Close)\", \"FG\", \"\", \"Close\",$B$2,A19, \"all\",\"\", \"\",\"True\",\"T\")/100,\"\")","v":-0.83140001899100002},null,-0.69999999999999973,1,{"$error":"#N/A"},null,{"$f":"IFERROR(RTD(\"cqg.rtd\",,\"StudyData\", \"Correlation(\"&$B$3&\",\"&O$2&\",Period:=\"&$B$1&\",InputChoice1:=Close,InputChoice2::=Close)\", \"FG\", \"\", \"Close\",$B$2,A19, \"all\",\"\", \"\",\"True\",\"T\")/100,\"\")","v":-0.88686830246900006},null,-0.69999999999999973,1,{"$error":"#N/A"},null,{"$f":"IFERROR(RTD(\"cqg.rtd\",,\"StudyData\", \"Correlation(\"&$B$3&\",\"&U$2&\",Period:=\"&$B$1&\",InputChoice1:=Close,InputChoice2::=Close)\", \"FG\", \"\", \"Close\",$B$2,A19, \"all\",\"\", \"\",\"True\",\"T\")/100,\"\")","v":0.82869397815699997},null,-0.69999999999999973,4,{"$error":"#N/A"},null,{"$f":"IFERROR(RTD(\"cqg.rtd\",,\"StudyData\", \"Correlation(\"&$B$3&\",\"&AA$2&\",Period:=\"&$B$1&\",InputChoice1:=Close,InputChoice2::=Close)\", \"FG\", \"\", \"Close\",$B$2,A19, \"all\",\"\", \"\",\"True\",\"T\")/100,\"\")","v":-0.63047155369999996},null,-0.69999999999999973,1,{"$error":"#N/A"},null,{"$f":"IFERROR(RTD(\"cqg.rtd\",,\"StudyData\", \"Correlation(\"&$B$3&\",\"&AG$2&\",Period:=\"&$B$1&\",InputChoice1:=Close,InputChoice2::=Close)\", \"FG\", \"\", \"Close\",$B$2,A19, \"all\",\"\", \"\",\"True\",\"T\")/100,\"\")","v":-0.51354267663800002},null,-0.69999999999999973,0,{"$error":"#N/A"},null,{"$f":"IFERROR(RTD(\"cqg.rtd\",,\"StudyData\", \"Correlation(\"&$B$3&\",\"&AM$2&\",Period:=\"&$B$1&\",InputChoice1:=Close,InputChoice2::=Close)\", \"FG\", \"\", \"Close\",$B$2,A19, \"all\",\"\", \"\",\"True\",\"T\")/100,\"\")","v":-1.6979022023000001E-2},null,-0.69999999999999973,1,{"$error":"#N/A"},null,{"$f":"IFERROR(RTD(\"cqg.rtd\",,\"StudyData\", \"Correlation(\"&$B$3&\",\"&AS$2&\",Period:=\"&$B$1&\",InputChoice1:=Close,InputChoice2::=Close)\", \"FG\", \"\", \"Close\",$B$2,A19, \"all\",\"\", \"\",\"True\",\"T\")/100,\"\")","v":0.85139952389200002},null,-0.69999999999999973,1,{"$error":"#N/A"},null,{"$f":"IFERROR(RTD(\"cqg.rtd\",,\"StudyData\", \"Correlation(\"&$B$3&\",\"&AY$2&\",Period:=\"&$B$1&\",InputChoice1:=Close,InputChoice2::=Close)\", \"FG\", \"\", \"Close\",$B$2,A19, \"all\",\"\", \"\",\"True\",\"T\")/100,\"\")","v":-0.341988532791},null,-0.69999999999999973,0,{"$error":"#N/A"},null,{"$f":"IFERROR(RTD(\"cqg.rtd\",,\"StudyData\", \"Correlation(\"&$B$3&\",\"&BE$2&\",Period:=\"&$B$1&\",InputChoice1:=Close,InputChoice2::=Close)\", \"FG\", \"\", \"Close\",$B$2,A19, \"all\",\"\", \"\",\"True\",\"T\")/100,\"\")","v":-0.101448673145},null,-0.69999999999999973,0,{"$error":"#N/A"}]
[-16,null,{"$f":"IFERROR(RTD(\"cqg.rtd\",,\"StudyData\", \"Correlation(\"&$B$3&\",\"&C$2&\",Period:=\"&$B$1&\",InputChoice1:=Close,InputChoice2:=Close)\", \"FG\", \"\", \"Close\",$B$2,A20, \"all\",\"\", \"\",\"True\",\"T\")/100,\"\")","v":-0.56762906623300002},null,-0.67999999999999972,1,{"$error":"#N/A"},null,{"$f":"IFERROR(RTD(\"cqg.rtd\",,\"StudyData\", \"Correlation(\"&$B$3&\",\"&I$2&\",Period:=\"&$B$1&\",InputChoice1:=Close,InputChoice2::=Close)\", \"FG\", \"\", \"Close\",$B$2,A20, \"all\",\"\", \"\",\"True\",\"T\")/100,\"\")","v":-0.85067096494799999},null,-0.67999999999999972,1,{"$error":"#N/A"},null,{"$f":"IFERROR(RTD(\"cqg.rtd\",,\"StudyData\", \"Correlation(\"&$B$3&\",\"&O$2&\",Period:=\"&$B$1&\",InputChoice1:=Close,InputChoice2::=Close)\", \"FG\", \"\", \"Close\",$B$2,A20, \"all\",\"\", \"\",\"True\",\"T\")/100,\"\")","v":-0.90048340593099996},null,-0.67999999999999972,0,{"$error":"#N/A"},null,{"$f":"IFERROR(RTD(\"cqg.rtd\",,\"StudyData\", \"Correlation(\"&$B$3&\",\"&U$2&\",Period:=\"&$B$1&\",InputChoice1:=Close,InputChoice2::=Close)\", \"FG\", \"\", \"Close\",$B$2,A20, \"all\",\"\", \"\",\"True\",\"T\")/100,\"\")","v":0.84611306031099998},null,-0.67999999999999972,1,{"$error":"#N/A"},null,{"$f":"IFERROR(RTD(\"cqg.rtd\",,\"StudyData\", \"Correlation(\"&$B$3&\",\"&AA$2&\",Period:=\"&$B$1&\",InputChoice1:=Close,InputChoice2::=Close)\", \"FG\", \"\", \"Close\",$B$2,A20, \"all\",\"\", \"\",\"True\",\"T\")/100,\"\")","v":-0.72037435781699999},null,-0.67999999999999972,1,{"$error":"#N/A"},null,{"$f":"IFERROR(RTD(\"cqg.rtd\",,\"StudyData\", \"Correlation(\"&$B$3&\",\"&AG$2&\",Period:=\"&$B$1&\",InputChoice1:=Close,InputChoice2::=Close)\", \"FG\", \"\", \"Close\",$B$2,A20, \"all\",\"\", \"\",\"True\",\"T\")/100,\"\")","v":-0.50467931955400003},null,-0.67999999999999972,1,{"$error":"#N/A"},null,{"$f":"IFERROR(RTD(\"cqg.rtd\",,\"StudyData\", \"Correlation(\"&$B$3&\",\"&AM$2&\",Period:=\"&$B$1&\",InputChoice1:=Close,InputChoice2::=Close)\", \"FG\", \"\", \"Close\",$B$2,A20, \"all\",\"\", \"\",\"True\",\"T\")/100,\"\")","v":2.7927454785E-2},null,-0.67999999999999972,4,{"$error":"#N/A"},null,{"$f":"IFERROR(RTD(\"cqg.rtd\",,\"StudyData\", \"Correlation(\"&$B$3&\",\"&AS$2&\",Period:=\"&$B$1&\",InputChoice1:=Close,InputChoice2::=Close)\", \"FG\", \"\", \"Close\",$B$2,A20, \"all\",\"\", \"\",\"True\",\"T\")/100,\"\")","v":0.76672012316399996},null,-0.67999999999999972,1,{"$error":"#N/A"},null,{"$f":"IFERROR(RTD(\"cqg.rtd\",,\"StudyData\", \"Correlation(\"&$B$3&\",\"&AY$2&\",Period:=\"&$B$1&\",InputChoice1:=Close,InputChoice2::=Close)\", \"FG\", \"\", \"Close\",$B$2,A20, \"all\",\"\", \"\",\"True\",\"T\")/100,\"\")","v":-0.26682905824799996},null,-0.67999999999999972,0,{"$error":"#N/A"},null,{"$f":"IFERROR(RTD(\"cqg.rtd\",,\"StudyData\", \"Correlation(\"&$B$3&\",\"&BE$2&\",Period:=\"&$B$1&\",InputChoice1:=Close,InputChoice2::=Close)\", \"FG\", \"\", \"Close\",$B$2,A20, \"all\",\"\", \"\",\"True\",\"T\")/100,\"\")","v":-0.147400914543},null,-0.67999999999999972,0,{"$error":"#N/A"}]
[-17,null,{"$f":"IFERROR(RTD(\"cqg.rtd\",,\"StudyData\", \"Correlation(\"&$B$3&\",\"&C$2&\",Period:=\"&$B$1&\",InputChoice1:=Close,InputChoice2:=Close)\", \"FG\", \"\", \"Close\",$B$2,A21, \"all\",\"\", \"\",\"True\",\"T\")/100,\"\")","v":-0.76656291392300002},null,-0.6599999999999997,0,{"$error":"#N/A"},null,{"$f":"IFERROR(RTD(\"cqg.rtd\",,\"StudyData\", \"Correlation(\"&$B$3&\",\"&I$2&\",Period:=\"&$B$1&\",InputChoice1:=Close,InputChoice2::=Close)\", \"FG\", \"\", \"Close\",$B$2,A21, \"all\",\"\", \"\",\"True\",\"T\")/100,\"\")","v":-0.89432464001},null,-0.6599999999999997,0,{"$error":"#N/A"},null,{"$f":"IFERROR(RTD(\"cqg.rtd\",,\"StudyData\", \"Correlation(\"&$B$3&\",\"&O$2&\",Period:=\"&$B$1&\",InputChoice1:=Close,InputChoice2::=Close)\", \"FG\", \"\", \"Close\",$B$2,A21, \"all\",\"\", \"\",\"True\",\"T\")/100,\"\")","v":-0.90673865004499998},null,-0.6599999999999997,3,{"$error":"#N/A"},null,{"$f":"IFERROR(RTD(\"cqg.rtd\",,\"StudyData\", \"Correlation(\"&$B$3&\",\"&U$2&\",Period:=\"&$B$1&\",InputChoice1:=Close,InputChoice2::=Close)\", \"FG\", \"\", \"Close\",$B$2,A21, \"all\",\"\", \"\",\"True\",\"T\")/100,\"\")","v":0.83934484379999996},null,-0.6599999999999997,6,{"$error":"#N/A"},null,{"$f":"IFERROR(RTD(\"cqg.rtd\",,\"StudyData\", \"Correlation(\"&$B$3&\",\"&AA$2&\",Period:=\"&$B$1&\",InputChoice1:=Close,InputChoice2::=Close)\", \"FG\", \"\", \"Close\",$B$2,A21, \"all\",\"\", \"\",\"True\",\"T\")/100,\"\")","v":-0.72371269681399997},null,-0.6599999999999997,1,{"$error":"#N/A"},null,{"$f":"IFERROR(RTD(\"cqg.rtd\",,\"StudyData\", \"Correlation(\"&$B$3&\",\"&AG$2&\",Period:=\"&$B$1&\",InputChoice1:=Close,InputChoice2::=Close)\", \"FG\", \"\", \"Close\",$B$2,A21, \"all\",\"\", \"\",\"True\",\"T\")/100,\"\")","v":-0.398371628955},null,-0.6599999999999997,1,{"$error":"#N/A"},null,{"$f":"IFERROR(RTD(\"cqg.rtd\",,\"StudyData\", \"Correlation(\"&$B$3&\",\"&AM$2&\",Period:=\"&$B$1&\",InputChoice1:=Close,InputChoice2::=Close)\", \"FG\", \"\", \"Close\",$B$2,A21, \"all\",\"\", \"\",\"True\",\"T\")/100,\"\")","v":0.11479537241099999},null,-0.6599999999999997,1,{"$error":"#N/A"},null,{"$f":"IFERROR(RTD(\"cqg.rtd\",,\"StudyData\", \"Correlation(\"&$B$3&\",\"&AS$2&\",Period:=\"&$B$1&\",InputChoice1:=Close,InputChoice2::=Close)\", \"FG\", \"\", \"Close\",$B$2,A21, \"all\",\"\", \"\",\"True\",\"T\")/100,\"\")","v":0.65269792866200005},null,-0.6599999999999997,2,{"$error":"#N/A"},null,{"$f":"IFERROR(RTD(\"cqg.rtd\",,\"StudyData\", \"Correlation(\"&$B$3&\",\"&AY$2&\",Period:=\"&$B$1&\",InputChoice1:=Close,InputChoice2::=Close)\", \"FG\", \"\", \"Close\",$B$2,A21, \"all\",\"\", \"\",\"True\",\"T\")/100,\"\")","v":-0.21598030088200001},null,-0.6599999999999997,1,{"$error":"#N/A"},null,{"$f":"IFERROR(RTD(\"cqg.rtd\",,\"StudyData\", \"Correlation(\"&$B$3&\",\"&BE$2&\",Period:=\"&$B$1&\",InputChoice1:=Close,InputChoice2::=Close)\", \"FG\", \"\", \"Close\",$B$2,A21, \"all\",\"\", \"\",\"True\",\"T\")/100,\"\")","v":-0.14975311539200001},null,-0.6599999999999997,0,{"$error":"#N/A"}]
[-18,null,{"$f":"IFERROR(RTD(\"cqg.rtd\",,\"StudyData\", \"Correlation(\"&$B$3&\",\"&C$2&\",Period:=\"&$B$1&\",InputChoice1:=Close,InputChoice2:=Close)\", \"FG\", \"\", \"Close\",$B$2,A22, \"all\",\"\", \"\",\"True\",\"T\")/100,\"\")","v":-0.82580548034200008},null,-0.63999999999999968,0,{"$error":"#N/A"},null,{"$f":"IFERROR(RTD(\"cqg.rtd\",,\"StudyData\", \"Correlation(\"&$B$3&\",\"&I$2&\",Period:=\"&$B$1&\",InputChoice1:=Close,InputChoice2::=Close)\", \"FG\", \"\", \"Close\",$B$2,A22, \"all\",\"\", \"\",\"True\",\"T\")/100,\"\")","v":-0.89906627778199999},null,-0.63999999999999968,1,{"$error":"#N/A"},null,{"$f":"IFERROR(RTD(\"cqg.rtd\",,\"StudyData\", \"Correlation(\"&$B$3&\",\"&O$2&\",Period:=\"&$B$1&\",InputChoice1:=Close,InputChoice2::=Close)\", \"FG\", \"\", \"Close\",$B$2,A22, \"all\",\"\", \"\",\"True\",\"T\")/100,\"\")","v":-0.89071650562499993},null,-0.63999999999999968,1,{"$error":"#N/A"},null,{"$f":"IFERROR(RTD(\"cqg.rtd\",,\"StudyData\", \"Correlation(\"&$B$3&\",\"&U$2&\",Period:=\"&$B$1&\",InputChoice1:=Close,InputChoice2::=Close)\", \"FG\", \"\", \"Close\",$B$2,A22, \"all\",\"\", \"\",\"True\",\"T\")/100,\"\")","v":0.85312674030199998},null,-0.63999999999999968,2,{"$error":"#N/A"},null,{"$f":"IFERROR(RTD(\"cqg.rtd\",,\"StudyData\", \"Correlation(\"&$B$3&\",\"&AA$2&\",Period:=\"&$B$1&\",InputChoice1:=Close,InputChoice2::=Close)\", \"FG\", \"\", \"Close\",$B$2,A22, \"all\",\"\", \"\",\"True\",\"T\")/100,\"\")","v":-0.70791905922500009},null,-0.63999999999999968,0,{"$error":"#N/A"},null,{"$f":"IFERROR(RTD(\"cqg.rtd\",,\"StudyData\", \"Correlation(\"&$B$3&\",\"&AG$2&\",Period:=\"&$B$1&\",InputChoice1:=Close,InputChoice2::=Close)\", \"FG\", \"\", \"Close\",$B$2,A22, \"all\",\"\", \"\",\"True\",\"T\")/100,\"\")","v":-0.38266572574800001},null,-0.63999999999999968,2,{"$error":"#N/A"},null,{"$f":"IFERROR(RTD(\"cqg.rtd\",,\"StudyData\", \"Correlation(\"&$B$3&\",\"&AM$2&\",Period:=\"&$B$1&\",InputChoice1:=Close,InputChoice2::=Close)\", \"FG\", \"\", \"Close\",$B$2,A22, \"all\",\"\", \"\",\"True\",\"T\")/100,\"\")","v":0.234264007498},null,-0.63999999999999968,0,{"$error":"#N/A"},null,{"$f":"IFERROR(RTD(\"cqg.rtd\",,\"StudyData\", \"Correlation(\"&$B$3&\",\"&AS$2&\",Period:=\"&$B$1&\",InputChoice1:=Close,InputChoice2::=Close)\", \"FG\", \"\", \"Close\",$B$2,A22, \"all\",\"\", \"\",\"True\",\"T\")/100,\"\")","v":0.55673366043500006},null,-0.63999999999999968,1,{"$error":"#N/A"},null,{"$f":"IFERROR(RTD(\"cqg.rtd\",,\"StudyData\", \"Correlation(\"&$B$3&\",\"&AY$2&\",Period:=\"&$B$1&\",InputChoice1:=Close,InputChoice2::=Close)\", \"FG\", \"\", \"Close\",$B$2,A22, \"all\",\"\", \"\",\"True\",\"T\")/100,\"\")","v":-0.183272374021},null,-0.63999999999999968,0,{"$error":"#N/A"},null,{"$f":"IFERROR(RTD(\"cqg.rtd\",,\"StudyData\", \"Correlation(\"&$B$3&\",\"&BE$2&\",Period:=\"&$B$1&\",InputChoice1:=Close,InputChoice2::=Close)\", \"FG\", \"\", \"Close\",$B$2,A22, \"all\",\"\", \"\",\"True\",\"T\")/100,\"\")","v":-0.20877039401699998},null,-0.63999999999999968,0,{"$error":"#N/A"}]
[-19,null,{"$f":"IFERROR(RTD(\"cqg.rtd\",,\"StudyData\", \"Correlation(\"&$B$3&\",\"&C$2&\",Period:=\"&$B$1&\",InputChoice1:=Close,InputChoice2:=Close)\", \"FG\", \"\", \"Close\",$B$2,A23, \"all\",\"\", \"\",\"True\",\"T\")/100,\"\")","v":-0.83289844782200007},null,-0.61999999999999966,2,{"$error":"#N/A"},null,{"$f":"IFERROR(RTD(\"cqg.rtd\",,\"StudyData\", \"Correlation(\"&$B$3&\",\"&I$2&\",Period:=\"&$B$1&\",InputChoice1:=Close,InputChoice2::=Close)\", \"FG\", \"\", \"Close\",$B$2,A23, \"all\",\"\", \"\",\"True\",\"T\")/100,\"\")","v":-0.91247007389299994},null,-0.61999999999999966,0,{"$error":"#N/A"},null,{"$f":"IFERROR(RTD(\"cqg.rtd\",,\"StudyData\", \"Correlation(\"&$B$3&\",\"&O$2&\",Period:=\"&$B$1&\",InputChoice1:=Close,InputChoice2::=Close)\", \"FG\", \"\", \"Close\",$B$2,A23, \"all\",\"\", \"\",\"True\",\"T\")/100,\"\")","v":-0.90110485875400004},null,-0.61999999999999966,2,{"$error":"#N/A"},null,{"$f":"IFERROR(RTD(\"cqg.rtd\",,\"StudyData\", \"Correlation(\"&$B$3&\",\"&U$2&\",Period:=\"&$B$1&\",InputChoice1:=Close,InputChoice2::=Close)\", \"FG\", \"\", \"Close\",$B$2,A23, \"all\",\"\", \"\",\"True\",\"T\")/100,\"\")","v":0.80435102476300002},null,-0.61999999999999966,1,{"$error":"#N/A"},null,{"$f":"IFERROR(RTD(\"cqg.rtd\",,\"StudyData\", \"Correlation(\"&$B$3&\",\"&AA$2&\",Period:=\"&$B$1&\",InputChoice1:=Close,InputChoice2::=Close)\", \"FG\", \"\", \"Close\",$B$2,A23, \"all\",\"\", \"\",\"True\",\"T\")/100,\"\")","v":-0.73368655697200003},null,-0.61999999999999966,1,{"$error":"#N/A"},null,{"$f":"IFERROR(RTD(\"cqg.rtd\",,\"StudyData\", \"Correlation(\"&$B$3&\",\"&AG$2&\",Period:=\"&$B$1&\",InputChoice1:=Close,InputChoice2::=Close)\", \"FG\", \"\", \"Close\",$B$2,A23, \"all\",\"\", \"\",\"True\",\"T\")/100,\"\")","v":-0.45512538192199997},null,-0.61999999999999966,0,{"$error":"#N/A"},null,{"$f":"IFERROR(RTD(\"cqg.rtd\",,\"StudyData\", \"Correlation(\"&$B$3&\",\"&AM$2&\",Period:=\"&$B$1&\",InputChoice1:=Close,InputChoice2::=Close)\", \"FG\", \"\", \"Close\",$B$2,A23, \"all\",\"\", \"\",\"True\",\"T\")/100,\"\")","v":0.16279920027399999},null,-0.61999999999999966,2,{"$error":"#N/A"},null,{"$f":"IFERROR(RTD(\"cqg.rtd\",,\"StudyData\", \"Correlation(\"&$B$3&\",\"&AS$2&\",Period:=\"&$B$1&\",InputChoice1:=Close,InputChoice2::=Close)\", \"FG\", \"\", \"Close\",$B$2,A23, \"all\",\"\", \"\",\"True\",\"T\")/100,\"\")","v":0.43114784571000003},null,-0.61999999999999966,0,{"$error":"#N/A"},null,{"$f":"IFERROR(RTD(\"cqg.rtd\",,\"StudyData\", \"Correlation(\"&$B$3&\",\"&AY$2&\",Period:=\"&$B$1&\",InputChoice1:=Close,InputChoice2::=Close)\", \"FG\", \"\", \"Close\",$B$2,A23, \"all\",\"\", \"\",\"True\",\"T\")/100,\"\")","v":8.602180577900001E-2},null,-0.61999999999999966,0,{"$error":"#N/A"},null,{"$f":"IFERROR(RTD(\"cqg.rtd\",,\"StudyData\", \"Correlation(\"&$B$3&\",\"&BE$2&\",Period:=\"&$B$1&\",InputChoice1:=Close,InputChoice2::=Close)\", \"FG\", \"\", \"Close\",$B$2,A23, \"all\",\"\", \"\",\"True\",\"T\")/100,\"\")","v":-0.27143748307100002},null,-0.61999999999999966,0,{"$error":"#N/A"}]
[-20,null,{"$f":"IFERROR(RTD(\"cqg.rtd\",,\"StudyData\", \"Correlation(\"&$B$3&\",\"&C$2&\",Period:=\"&$B$1&\",InputChoice1:=Close,InputChoice2:=Close)\", \"FG\", \"\", \"Close\",$B$2,A24, \"all\",\"\", \"\",\"True\",\"T\")/100,\"\")","v":-0.82777873625599996},null,-0.59999999999999964,0,{"$error":"#N/A"},null,{"$f":"IFERROR(RTD(\"cqg.rtd\",,\"StudyData\", \"Correlation(\"&$B$3&\",\"&I$2&\",Period:=\"&$B$1&\",InputChoice1:=Close,InputChoice2::=Close)\", \"FG\", \"\", \"Close\",$B$2,A24, \"all\",\"\", \"\",\"True\",\"T\")/100,\"\")","v":-0.91746021214200002},null,-0.59999999999999964,2,{"$error":"#N/A"},null,{"$f":"IFERROR(RTD(\"cqg.rtd\",,\"StudyData\", \"Correlation(\"&$B$3&\",\"&O$2&\",Period:=\"&$B$1&\",InputChoice1:=Close,InputChoice2::=Close)\", \"FG\", \"\", \"Close\",$B$2,A24, \"all\",\"\", \"\",\"True\",\"T\")/100,\"\")","v":-0.90902032979400005},null,-0.59999999999999964,0,{"$error":"#N/A"},null,{"$f":"IFERROR(RTD(\"cqg.rtd\",,\"StudyData\", \"Correlation(\"&$B$3&\",\"&U$2&\",Period:=\"&$B$1&\",InputChoice1:=Close,InputChoice2::=Close)\", \"FG\", \"\", \"Close\",$B$2,A24, \"all\",\"\", \"\",\"True\",\"T\")/100,\"\")","v":0.66485640302899995},null,-0.59999999999999964,2,{"$error":"#N/A"},null,{"$f":"IFERROR(RTD(\"cqg.rtd\",,\"StudyData\", \"Correlation(\"&$B$3&\",\"&AA$2&\",Period:=\"&$B$1&\",InputChoice1:=Close,InputChoice2::=Close)\", \"FG\", \"\", \"Close\",$B$2,A24, \"all\",\"\", \"\",\"True\",\"T\")/100,\"\")","v":-0.79170085265699996},null,-0.59999999999999964,3,{"$error":"#N/A"},null,{"$f":"IFERROR(RTD(\"cqg.rtd\",,\"StudyData\", \"Correlation(\"&$B$3&\",\"&AG$2&\",Period:=\"&$B$1&\",InputChoice1:=Close,InputChoice2::=Close)\", \"FG\", \"\", \"Close\",$B$2,A24, \"all\",\"\", \"\",\"True\",\"T\")/100,\"\")","v":-0.61245781645899999},null,-0.59999999999999964,2,{"$error":"#N/A"},null,{"$f":"IFERROR(RTD(\"cqg.rtd\",,\"StudyData\", \"Correlation(\"&$B$3&\",\"&AM$2&\",Period:=\"&$B$1&\",InputChoice1:=Close,InputChoice2::=Close)\", \"FG\", \"\", \"Close\",$B$2,A24, \"all\",\"\", \"\",\"True\",\"T\")/100,\"\")","v":4.1993151620000006E-3},null,-0.59999999999999964,2,{"$error":"#N/A"},null,{"$f":"IFERROR(RTD(\"cqg.rtd\",,\"StudyData\", \"Correlation(\"&$B$3&\",\"&AS$2&\",Period:=\"&$B$1&\",InputChoice1:=Close,InputChoice2::=Close)\", \"FG\", \"\", \"Close\",$B$2,A24, \"all\",\"\", \"\",\"True\",\"T\")/100,\"\")","v":0.25734244409500001},null,-0.59999999999999964,1,{"$error":"#N/A"},null,{"$f":"IFERROR(RTD(\"cqg.rtd\",,\"StudyData\", \"Correlation(\"&$B$3&\",\"&AY$2&\",Period:=\"&$B$1&\",InputChoice1:=Close,InputChoice2::=Close)\", \"FG\", \"\", \"Close\",$B$2,A24, \"all\",\"\", \"\",\"True\",\"T\")/100,\"\")","v":0.50318869402099997},null,-0.59999999999999964,1,{"$error":"#N/A"},null,{"$f":"IFERROR(RTD(\"cqg.rtd\",,\"StudyData\", \"Correlation(\"&$B$3&\",\"&BE$2&\",Period:=\"&$B$1&\",InputChoice1:=Close,InputChoice2::=Close)\", \"FG\", \"\", \"Close\",$B$2,A24, \"all\",\"\", \"\",\"True\",\"T\")/100,\"\")","v":-0.23147304477799999},null,-0.59999999999999964,1,{"$error":"#N/A"}]
[-21,null,{"$f":"IFERROR(RTD(\"cqg.rtd\",,\"StudyData\", \"Correlation(\"&$B$3&\",\"&C$2&\",Period:=\"&$B$1&\",InputChoice1:=Close,InputChoice2:=Close)\", \"FG\", \"\", \"Close\",$B$2,A25, \"all\",\"\", \"\",\"True\",\"T\")/100,\"\")","v":-0.849762451157},null,-0.57999999999999963,1,{"$error":"#N/A"},null,{"$f":"IFERROR(RTD(\"cqg.rtd\",,\"StudyData\", \"Correlation(\"&$B$3&\",\"&I$2&\",Period:=\"&$B$1&\",InputChoice1:=Close,InputChoice2::=Close)\", \"FG\", \"\", \"Close\",$B$2,A25, \"all\",\"\", \"\",\"True\",\"T\")/100,\"\")","v":-0.916863370545},null,{"$f":"K24+0.02","v":-0.57999999999999963},1,{"$error":"#N/A"},null,{"$f":"IFERROR(RTD(\"cqg.rtd\",,\"StudyData\", \"Correlation(\"&$B$3&\",\"&O$2&\",Period:=\"&$B$1&\",InputChoice1:=Close,InputChoice2::=Close)\", \"FG\", \"\", \"Close\",$B$2,A25, \"all\",\"\", \"\",\"True\",\"T\")/100,\"\")","v":-0.90193480139100002},null,-0.57999999999999963,0,{"$error":"#N/A"},null,{"$f":"IFERROR(RTD(\"cqg.rtd\",,\"StudyData\", \"Correlation(\"&$B$3&\",\"&U$2&\",Period:=\"&$B$1&\",InputChoice1:=Close,InputChoice2::=Close)\", \"FG\", \"\", \"Close\",$B$2,A25, \"all\",\"\", \"\",\"True\",\"T\")/100,\"\")","v":0.63687811312599996},null,-0.57999999999999963,2,{"$error":"#N/A"},null,{"$f":"IFERROR(RTD(\"cqg.rtd\",,\"StudyData\", \"Correlation(\"&$B$3&\",\"&AA$2&\",Period:=\"&$B$1&\",InputChoice1:=Close,InputChoice2::=Close)\", \"FG\", \"\", \"Close\",$B$2,A25, \"all\",\"\", \"\",\"True\",\"T\")/100,\"\")","v":-0.85684774342799996},null,-0.57999999999999963,2,{"$error":"#N/A"},null,{"$f":"IFERROR(RTD(\"cqg.rtd\",,\"StudyData\", \"Correlation(\"&$B$3&\",\"&AG$2&\",Period:=\"&$B$1&\",InputChoice1:=Close,InputChoice2::=Close)\", \"FG\", \"\", \"Close\",$B$2,A25, \"all\",\"\", \"\",\"True\",\"T\")/100,\"\")","v":-0.76172940260100008},null,-0.57999999999999963,1,{"$error":"#N/A"},null,{"$f":"IFERROR(RTD(\"cqg.rtd\",,\"StudyData\", \"Correlation(\"&$B$3&\",\"&AM$2&\",Period:=\"&$B$1&\",InputChoice1:=Close,InputChoice2::=Close)\", \"FG\", \"\", \"Close\",$B$2,A25, \"all\",\"\", \"\",\"True\",\"T\")/100,\"\")","v":-0.140558493792},null,-0.57999999999999963,1,{"$error":"#N/A"},null,{"$f":"IFERROR(RTD(\"cqg.rtd\",,\"StudyData\", \"Correlation(\"&$B$3&\",\"&AS$2&\",Period:=\"&$B$1&\",InputChoice1:=Close,InputChoice2::=Close)\", \"FG\", \"\", \"Close\",$B$2,A25, \"all\",\"\", \"\",\"True\",\"T\")/100,\"\")","v":-1.5287969530000001E-2},null,-0.57999999999999963,0,{"$error":"#N/A"},null,{"$f":"IFERROR(RTD(\"cqg.rtd\",,\"StudyData\", \"Correlation(\"&$B$3&\",\"&AY$2&\",Period:=\"&$B$1&\",InputChoice1:=Close,InputChoice2::=Close)\", \"FG\", \"\", \"Close\",$B$2,A25, \"all\",\"\", \"\",\"True\",\"T\")/100,\"\")","v":0.46804474989900002},null,-0.57999999999999963,0,{"$error":"#N/A"},null,{"$f":"IFERROR(RTD(\"cqg.rtd\",,\"StudyData\", \"Correlation(\"&$B$3&\",\"&BE$2&\",Period:=\"&$B$1&\",InputChoice1:=Close,InputChoice2::=Close)\", \"FG\", \"\", \"Close\",$B$2,A25, \"all\",\"\", \"\",\"True\",\"T\")/100,\"\")","v":-0.132438208586},null,-0.57999999999999963,2,{"$error":"#N/A"}]
[-22,null,{"$f":"IFERROR(RTD(\"cqg.rtd\",,\"StudyData\", \"Correlation(\"&$B$3&\",\"&C$2&\",Period:=\"&$B$1&\",InputChoice1:=Close,InputChoice2:=Close)\", \"FG\", \"\", \"Close\",$B$2,A26, \"all\",\"\", \"\",\"True\",\"T\")/100,\"\")","v":-0.8700256160319999},null,-0.55999999999999961,1,{"$error":"#N/A"},null,{"$f":"IFERROR(RTD(\"cqg.rtd\",,\"StudyData\", \"Correlation(\"&$B$3&\",\"&I$2&\",Period:=\"&$B$1&\",InputChoice1:=Close,InputChoice2::=Close)\", \"FG\", \"\", \"Close\",$B$2,A26, \"all\",\"\", \"\",\"True\",\"T\")/100,\"\")","v":-0.90532870345099992},null,-0.55999999999999961,0,{"$error":"#N/A"},null,{"$f":"IFERROR(RTD(\"cqg.rtd\",,\"StudyData\", \"Correlation(\"&$B$3&\",\"&O$2&\",Period:=\"&$B$1&\",InputChoice1:=Close,InputChoice2::=Close)\", \"FG\", \"\", \"Close\",$B$2,A26, \"all\",\"\", \"\",\"True\",\"T\")/100,\"\")","v":-0.93102005946700006},null,-0.55999999999999961,0,{"$error":"#N/A"},null,{"$f":"IFERROR(RTD(\"cqg.rtd\",,\"StudyData\", \"Correlation(\"&$B$3&\",\"&U$2&\",Period:=\"&$B$1&\",InputChoice1:=Close,InputChoice2::=Close)\", \"FG\", \"\", \"Close\",$B$2,A26, \"all\",\"\", \"\",\"True\",\"T\")/100,\"\")","v":0.59295044596000002},null,-0.55999999999999961,1,{"$error":"#N/A"},null,{"$f":"IFERROR(RTD(\"cqg.rtd\",,\"StudyData\", \"Correlation(\"&$B$3&\",\"&AA$2&\",Period:=\"&$B$1&\",InputChoice1:=Close,InputChoice2::=Close)\", \"FG\", \"\", \"Close\",$B$2,A26, \"all\",\"\", \"\",\"True\",\"T\")/100,\"\")","v":-0.91939599471899991},null,-0.55999999999999961,1,{"$error":"#N/A"},null,{"$f":"IFERROR(RTD(\"cqg.rtd\",,\"StudyData\", \"Correlation(\"&$B$3&\",\"&AG$2&\",Period:=\"&$B$1&\",InputChoice1:=Close,InputChoice2::=Close)\", \"FG\", \"\", \"Close\",$B$2,A26, \"all\",\"\", \"\",\"True\",\"T\")/100,\"\")","v":-0.89864565107100003},null,-0.55999999999999961,2,{"$error":"#N/A"},null,{"$f":"IFERROR(RTD(\"cqg.rtd\",,\"StudyData\", \"Correlation(\"&$B$3&\",\"&AM$2&\",Period:=\"&$B$1&\",InputChoice1:=Close,InputChoice2::=Close)\", \"FG\", \"\", \"Close\",$B$2,A26, \"all\",\"\", \"\",\"True\",\"T\")/100,\"\")","v":-0.50978998922700003},null,-0.55999999999999961,2,{"$error":"#N/A"},null,{"$f":"IFERROR(RTD(\"cqg.rtd\",,\"StudyData\", \"Correlation(\"&$B$3&\",\"&AS$2&\",Period:=\"&$B$1&\",InputChoice1:=Close,InputChoice2::=Close)\", \"FG\", \"\", \"Close\",$B$2,A26, \"all\",\"\", \"\",\"True\",\"T\")/100,\"\")","v":1.2448703897000001E-2},null,-0.55999999999999961,0,{"$error":"#N/A"},null,{"$f":"IFERROR(RTD(\"cqg.rtd\",,\"StudyData\", \"Correlation(\"&$B$3&\",\"&AY$2&\",Period:=\"&$B$1&\",InputChoice1:=Close,InputChoice2::=Close)\", \"FG\", \"\", \"Close\",$B$2,A26, \"all\",\"\", \"\",\"True\",\"T\")/100,\"\")","v":0.48627061611200001},null,-0.55999999999999961,2,{"$error":"#N/A"},null,{"$f":"IFERROR(RTD(\"cqg.rtd\",,\"StudyData\", \"Correlation(\"&$B$3&\",\"&BE$2&\",Period:=\"&$B$1&\",InputChoice1:=Close,InputChoice2::=Close)\", \"FG\", \"\", \"Close\",$B$2,A26, \"all\",\"\", \"\",\"True\",\"T\")/100,\"\")","v":-1.8727839588999998E-2},null,-0.55999999999999961,0,{"$error":"#N/A"}]
[-23,null,{"$f":"IFERROR(RTD(\"cqg.rtd\",,\"StudyData\", \"Correlation(\"&$B$3&\",\"&C$2&\",Period:=\"&$B$1&\",InputChoice1:=Close,InputChoice2:=Close)\", \"FG\", \"\", \"Close\",$B$2,A27, \"all\",\"\", \"\",\"True\",\"T\")/100,\"\")","v":-0.93866275631200002},null,-0.53999999999999959,2,{"$error":"#N/A"},null,{"$f":"IFERROR(RTD(\"cqg.rtd\",,\"StudyData\", \"Correlation(\"&$B$3&\",\"&I$2&\",Period:=\"&$B$1&\",InputChoice1:=Close,InputChoice2::=Close)\", \"FG\", \"\", \"Close\",$B$2,A27, \"all\",\"\", \"\",\"True\",\"T\")/100,\"\")","v":-0.93748960694600003},null,-0.53999999999999959,0,{"$error":"#N/A"},null,{"$f":"IFERROR(RTD(\"cqg.rtd\",,\"StudyData\", \"Correlation(\"&$B$3&\",\"&O$2&\",Period:=\"&$B$1&\",InputChoice1:=Close,InputChoice2::=Close)\", \"FG\", \"\", \"Close\",$B$2,A27, \"all\",\"\", \"\",\"True\",\"T\")/100,\"\")","v":-0.82385713011899997},null,-0.53999999999999959,0,{"$error":"#N/A"},null,{"$f":"IFERROR(RTD(\"cqg.rtd\",,\"StudyData\", \"Correlation(\"&$B$3&\",\"&U$2&\",Period:=\"&$B$1&\",InputChoice1:=Close,InputChoice2::=Close)\", \"FG\", \"\", \"Close\",$B$2,A27, \"all\",\"\", \"\",\"True\",\"T\")/100,\"\")","v":0.57270182149500004},null,-0.53999999999999959,0,{"$error":"#N/A"},null,{"$f":"IFERROR(RTD(\"cqg.rtd\",,\"StudyData\", \"Correlation(\"&$B$3&\",\"&AA$2&\",Period:=\"&$B$1&\",InputChoice1:=Close,InputChoice2::=Close)\", \"FG\", \"\", \"Close\",$B$2,A27, \"all\",\"\", \"\",\"True\",\"T\")/100,\"\")","v":-0.93835287796100009},null,-0.53999999999999959,1,{"$error":"#N/A"},null,{"$f":"IFERROR(RTD(\"cqg.rtd\",,\"StudyData\", \"Correlation(\"&$B$3&\",\"&AG$2&\",Period:=\"&$B$1&\",InputChoice1:=Close,InputChoice2::=Close)\", \"FG\", \"\", \"Close\",$B$2,A27, \"all\",\"\", \"\",\"True\",\"T\")/100,\"\")","v":-0.92639998835799997},null,-0.53999999999999959,0,{"$error":"#N/A"},null,{"$f":"IFERROR(RTD(\"cqg.rtd\",,\"StudyData\", \"Correlation(\"&$B$3&\",\"&AM$2&\",Period:=\"&$B$1&\",InputChoice1:=Close,InputChoice2::=Close)\", \"FG\", \"\", \"Close\",$B$2,A27, \"all\",\"\", \"\",\"True\",\"T\")/100,\"\")","v":-0.63261894128200002},null,-0.53999999999999959,1,{"$error":"#N/A"},null,{"$f":"IFERROR(RTD(\"cqg.rtd\",,\"StudyData\", \"Correlation(\"&$B$3&\",\"&AS$2&\",Period:=\"&$B$1&\",InputChoice1:=Close,InputChoice2::=Close)\", \"FG\", \"\", \"Close\",$B$2,A27, \"all\",\"\", \"\",\"True\",\"T\")/100,\"\")","v":3.3815815784000003E-2},null,-0.53999999999999959,0,{"$error":"#N/A"},null,{"$f":"IFERROR(RTD(\"cqg.rtd\",,\"StudyData\", \"Correlation(\"&$B$3&\",\"&AY$2&\",Period:=\"&$B$1&\",InputChoice1:=Close,InputChoice2::=Close)\", \"FG\", \"\", \"Close\",$B$2,A27, \"all\",\"\", \"\",\"True\",\"T\")/100,\"\")","v":0.43533574234799999},null,-0.53999999999999959,2,{"$error":"#N/A"},null,{"$f":"IFERROR(RTD(\"cqg.rtd\",,\"StudyData\", \"Correlation(\"&$B$3&\",\"&BE$2&\",Period:=\"&$B$1&\",InputChoice1:=Close,InputChoice2::=Close)\", \"FG\", \"\", \"Close\",$B$2,A27, \"all\",\"\", \"\",\"True\",\"T\")/100,\"\")","v":1.576363235E-3},null,-0.53999999999999959,0,{"$error":"#N/A"}]
[-24,null,{"$f":"IFERROR(RTD(\"cqg.rtd\",,\"StudyData\", \"Correlation(\"&$B$3&\",\"&C$2&\",Period:=\"&$B$1&\",InputChoice1:=Close,InputChoice2:=Close)\", \"FG\", \"\", \"Close\",$B$2,A28, \"all\",\"\", \"\",\"True\",\"T\")/100,\"\")","v":-0.89732325312499994},null,-0.51999999999999957,0,{"$error":"#N/A"},null,{"$f":"IFERROR(RTD(\"cqg.rtd\",,\"StudyData\", \"Correlation(\"&$B$3&\",\"&I$2&\",Period:=\"&$B$1&\",InputChoice1:=Close,InputChoice2::=Close)\", \"FG\", \"\", \"Close\",$B$2,A28, \"all\",\"\", \"\",\"True\",\"T\")/100,\"\")","v":-0.90340215748199992},null,-0.51999999999999957,0,{"$error":"#N/A"},null,{"$f":"IFERROR(RTD(\"cqg.rtd\",,\"StudyData\", \"Correlation(\"&$B$3&\",\"&O$2&\",Period:=\"&$B$1&\",InputChoice1:=Close,InputChoice2::=Close)\", \"FG\", \"\", \"Close\",$B$2,A28, \"all\",\"\", \"\",\"True\",\"T\")/100,\"\")","v":-0.86135559900900005},null,-0.51999999999999957,0,{"$error":"#N/A"},null,{"$f":"IFERROR(RTD(\"cqg.rtd\",,\"StudyData\", \"Correlation(\"&$B$3&\",\"&U$2&\",Period:=\"&$B$1&\",InputChoice1:=Close,InputChoice2::=Close)\", \"FG\", \"\", \"Close\",$B$2,A28, \"all\",\"\", \"\",\"True\",\"T\")/100,\"\")","v":0.55361426002499992},null,-0.51999999999999957,0,{"$error":"#N/A"},null,{"$f":"IFERROR(RTD(\"cqg.rtd\",,\"StudyData\", \"Correlation(\"&$B$3&\",\"&AA$2&\",Period:=\"&$B$1&\",InputChoice1:=Close,InputChoice2::=Close)\", \"FG\", \"\", \"Close\",$B$2,A28, \"all\",\"\", \"\",\"True\",\"T\")/100,\"\")","v":-0.94686949381199992},null,-0.51999999999999957,1,{"$error":"#N/A"},null,{"$f":"IFERROR(RTD(\"cqg.rtd\",,\"StudyData\", \"Correlation(\"&$B$3&\",\"&AG$2&\",Period:=\"&$B$1&\",InputChoice1:=Close,InputChoice2::=Close)\", \"FG\", \"\", \"Close\",$B$2,A28, \"all\",\"\", \"\",\"True\",\"T\")/100,\"\")","v":-0.93848211872999998},null,-0.51999999999999957,2,{"$error":"#N/A"},null,{"$f":"IFERROR(RTD(\"cqg.rtd\",,\"StudyData\", \"Correlation(\"&$B$3&\",\"&AM$2&\",Period:=\"&$B$1&\",InputChoice1:=Close,InputChoice2::=Close)\", \"FG\", \"\", \"Close\",$B$2,A28, \"all\",\"\", \"\",\"True\",\"T\")/100,\"\")","v":-0.74519250660400005},null,-0.51999999999999957,0,{"$error":"#N/A"},null,{"$f":"IFERROR(RTD(\"cqg.rtd\",,\"StudyData\", \"Correlation(\"&$B$3&\",\"&AS$2&\",Period:=\"&$B$1&\",InputChoice1:=Close,InputChoice2::=Close)\", \"FG\", \"\", \"Close\",$B$2,A28, \"all\",\"\", \"\",\"True\",\"T\")/100,\"\")","v":0.13379389979800002},null,-0.51999999999999957,1,{"$error":"#N/A"},null,{"$f":"IFERROR(RTD(\"cqg.rtd\",,\"StudyData\", \"Correlation(\"&$B$3&\",\"&AY$2&\",Period:=\"&$B$1&\",InputChoice1:=Close,InputChoice2::=Close)\", \"FG\", \"\", \"Close\",$B$2,A28, \"all\",\"\", \"\",\"True\",\"T\")/100,\"\")","v":0.369452152137},null,-0.51999999999999957,3,{"$error":"#N/A"},null,{"$f":"IFERROR(RTD(\"cqg.rtd\",,\"StudyData\", \"Correlation(\"&$B$3&\",\"&BE$2&\",Period:=\"&$B$1&\",InputChoice1:=Close,InputChoice2::=Close)\", \"FG\", \"\", \"Close\",$B$2,A28, \"all\",\"\", \"\",\"True\",\"T\")/100,\"\")","v":5.6096461003000003E-2},null,-0.51999999999999957,0,{"$error":"#N/A"}]
[-25,null,{"$f":"IFERROR(RTD(\"cqg.rtd\",,\"StudyData\", \"Correlation(\"&$B$3&\",\"&C$2&\",Period:=\"&$B$1&\",InputChoice1:=Close,InputChoice2:=Close)\", \"FG\", \"\", \"Close\",$B$2,A29, \"all\",\"\", \"\",\"True\",\"T\")/100,\"\")","v":-0.89943878795400001},null,-0.49999999999999956,0,{"$error":"#N/A"},null,{"$f":"IFERROR(RTD(\"cqg.rtd\",,\"StudyData\", \"Correlation(\"&$B$3&\",\"&I$2&\",Period:=\"&$B$1&\",InputChoice1:=Close,InputChoice2::=Close)\", \"FG\", \"\", \"Close\",$B$2,A29, \"all\",\"\", \"\",\"True\",\"T\")/100,\"\")","v":-0.91024967152399994},null,-0.49999999999999956,1,{"$error":"#N/A"},null,{"$f":"IFERROR(RTD(\"cqg.rtd\",,\"StudyData\", \"Correlation(\"&$B$3&\",\"&O$2&\",Period:=\"&$B$1&\",InputChoice1:=Close,InputChoice2::=Close)\", \"FG\", \"\", \"Close\",$B$2,A29, \"all\",\"\", \"\",\"True\",\"T\")/100,\"\")","v":-0.88269137142199994},null,-0.49999999999999956,1,{"$error":"#N/A"},null,{"$f":"IFERROR(RTD(\"cqg.rtd\",,\"StudyData\", \"Correlation(\"&$B$3&\",\"&U$2&\",Period:=\"&$B$1&\",InputChoice1:=Close,InputChoice2::=Close)\", \"FG\", \"\", \"Close\",$B$2,A29, \"all\",\"\", \"\",\"True\",\"T\")/100,\"\")","v":0.45885891767799997},null,-0.49999999999999956,0,{"$error":"#N/A"},null,{"$f":"IFERROR(RTD(\"cqg.rtd\",,\"StudyData\", \"Correlation(\"&$B$3&\",\"&AA$2&\",Period:=\"&$B$1&\",InputChoice1:=Close,InputChoice2::=Close)\", \"FG\", \"\", \"Close\",$B$2,A29, \"all\",\"\", \"\",\"True\",\"T\")/100,\"\")","v":-0.9589252904929999},null,-0.49999999999999956,0,{"$error":"#N/A"},null,{"$f":"IFERROR(RTD(\"cqg.rtd\",,\"StudyData\", \"Correlation(\"&$B$3&\",\"&AG$2&\",Period:=\"&$B$1&\",InputChoice1:=Close,InputChoice2::=Close)\", \"FG\", \"\", \"Close\",$B$2,A29, \"all\",\"\", \"\",\"True\",\"T\")/100,\"\")","v":-0.95906876994800005},null,-0.49999999999999956,4,{"$error":"#N/A"},null,{"$f":"IFERROR(RTD(\"cqg.rtd\",,\"StudyData\", \"Correlation(\"&$B$3&\",\"&AM$2&\",Period:=\"&$B$1&\",InputChoice1:=Close,InputChoice2::=Close)\", \"FG\", \"\", \"Close\",$B$2,A29, \"all\",\"\", \"\",\"True\",\"T\")/100,\"\")","v":-0.84038563480099993},null,-0.49999999999999956,1,{"$error":"#N/A"},null,{"$f":"IFERROR(RTD(\"cqg.rtd\",,\"StudyData\", \"Correlation(\"&$B$3&\",\"&AS$2&\",Period:=\"&$B$1&\",InputChoice1:=Close,InputChoice2::=Close)\", \"FG\", \"\", \"Close\",$B$2,A29, \"all\",\"\", \"\",\"True\",\"T\")/100,\"\")","v":0.153349148617},null,-0.49999999999999956,1,1,null,{"$f":"IFERROR(RTD(\"cqg.rtd\",,\"StudyData\", \"Correlation(\"&$B$3&\",\"&AY$2&\",Period:=\"&$B$1&\",InputChoice1:=Close,InputChoice2::=Close)\", \"FG\", \"\", \"Close\",$B$2,A29, \"all\",\"\", \"\",\"True\",\"T\")/100,\"\")","v":0.20855225109100001},null,-0.49999999999999956,2,{"$error":"#N/A"},null,{"$f":"IFERROR(RTD(\"cqg.rtd\",,\"StudyData\", \"Correlation(\"&$B$3&\",\"&BE$2&\",Period:=\"&$B$1&\",InputChoice1:=Close,InputChoice2::=Close)\", \"FG\", \"\", \"Close\",$B$2,A29, \"all\",\"\", \"\",\"True\",\"T\")/100,\"\")","v":0.123433712205},null,-0.49999999999999956,1,{"$error":"#N/A"}]
[-26,null,{"$f":"IFERROR(RTD(\"cqg.rtd\",,\"StudyData\", \"Correlation(\"&$B$3&\",\"&C$2&\",Period:=\"&$B$1&\",InputChoice1:=Close,InputChoice2:=Close)\", \"FG\", \"\", \"Close\",$B$2,A30, \"all\",\"\", \"\",\"True\",\"T\")/100,\"\")","v":-0.91629497198199994},null,-0.47999999999999954,0,{"$error":"#N/A"},null,{"$f":"IFERROR(RTD(\"cqg.rtd\",,\"StudyData\", \"Correlation(\"&$B$3&\",\"&I$2&\",Period:=\"&$B$1&\",InputChoice1:=Close,InputChoice2::=Close)\", \"FG\", \"\", \"Close\",$B$2,A30, \"all\",\"\", \"\",\"True\",\"T\")/100,\"\")","v":-0.92286538273499996},null,-0.47999999999999954,0,{"$error":"#N/A"},null,{"$f":"IFERROR(RTD(\"cqg.rtd\",,\"StudyData\", \"Correlation(\"&$B$3&\",\"&O$2&\",Period:=\"&$B$1&\",InputChoice1:=Close,InputChoice2::=Close)\", \"FG\", \"\", \"Close\",$B$2,A30, \"all\",\"\", \"\",\"True\",\"T\")/100,\"\")","v":-0.89534975554599994},null,-0.47999999999999954,0,{"$error":"#N/A"},null,{"$f":"IFERROR(RTD(\"cqg.rtd\",,\"StudyData\", \"Correlation(\"&$B$3&\",\"&U$2&\",Period:=\"&$B$1&\",InputChoice1:=Close,InputChoice2::=Close)\", \"FG\", \"\", \"Close\",$B$2,A30, \"all\",\"\", \"\",\"True\",\"T\")/100,\"\")","v":0.42949100929700001},null,-0.47999999999999954,1,{"$error":"#N/A"},null,{"$f":"IFERROR(RTD(\"cqg.rtd\",,\"StudyData\", \"Correlation(\"&$B$3&\",\"&AA$2&\",Period:=\"&$B$1&\",InputChoice1:=Close,InputChoice2::=Close)\", \"FG\", \"\", \"Close\",$B$2,A30, \"all\",\"\", \"\",\"True\",\"T\")/100,\"\")","v":-0.92844791504400004},null,-0.47999999999999954,1,{"$error":"#N/A"},null,{"$f":"IFERROR(RTD(\"cqg.rtd\",,\"StudyData\", \"Correlation(\"&$B$3&\",\"&AG$2&\",Period:=\"&$B$1&\",InputChoice1:=Close,InputChoice2::=Close)\", \"FG\", \"\", \"Close\",$B$2,A30, \"all\",\"\", \"\",\"True\",\"T\")/100,\"\")","v":-0.95255459540199994},null,-0.47999999999999954,1,{"$error":"#N/A"},null,{"$f":"IFERROR(RTD(\"cqg.rtd\",,\"StudyData\", \"Correlation(\"&$B$3&\",\"&AM$2&\",Period:=\"&$B$1&\",InputChoice1:=Close,InputChoice2::=Close)\", \"FG\", \"\", \"Close\",$B$2,A30, \"all\",\"\", \"\",\"True\",\"T\")/100,\"\")","v":-0.83547860912999994},null,-0.47999999999999954,0,{"$error":"#N/A"},null,{"$f":"IFERROR(RTD(\"cqg.rtd\",,\"StudyData\", \"Correlation(\"&$B$3&\",\"&AS$2&\",Period:=\"&$B$1&\",InputChoice1:=Close,InputChoice2::=Close)\", \"FG\", \"\", \"Close\",$B$2,A30, \"all\",\"\", \"\",\"True\",\"T\")/100,\"\")","v":0.17827867617999998},null,-0.47999999999999954,2,{"$error":"#N/A"},null,{"$f":"IFERROR(RTD(\"cqg.rtd\",,\"StudyData\", \"Correlation(\"&$B$3&\",\"&AY$2&\",Period:=\"&$B$1&\",InputChoice1:=Close,InputChoice2::=Close)\", \"FG\", \"\", \"Close\",$B$2,A30, \"all\",\"\", \"\",\"True\",\"T\")/100,\"\")","v":0.12816553384100002},null,-0.47999999999999954,2,{"$error":"#N/A"},null,{"$f":"IFERROR(RTD(\"cqg.rtd\",,\"StudyData\", \"Correlation(\"&$B$3&\",\"&BE$2&\",Period:=\"&$B$1&\",InputChoice1:=Close,InputChoice2::=Close)\", \"FG\", \"\", \"Close\",$B$2,A30, \"all\",\"\", \"\",\"True\",\"T\")/100,\"\")","v":0.15876734474099999},null,-0.47999999999999954,0,{"$error":"#N/A"}]
[-27,null,{"$f":"IFERROR(RTD(\"cqg.rtd\",,\"StudyData\", \"Correlation(\"&$B$3&\",\"&C$2&\",Period:=\"&$B$1&\",InputChoice1:=Close,InputChoice2:=Close)\", \"FG\", \"\", \"Close\",$B$2,A31, \"all\",\"\", \"\",\"True\",\"T\")/100,\"\")","v":-0.92373666395499998},null,-0.45999999999999952,1,{"$error":"#N/A"},null,{"$f":"IFERROR(RTD(\"cqg.rtd\",,\"StudyData\", \"Correlation(\"&$B$3&\",\"&I$2&\",Period:=\"&$B$1&\",InputChoice1:=Close,InputChoice2::=Close)\", \"FG\", \"\", \"Close\",$B$2,A31, \"all\",\"\", \"\",\"True\",\"T\")/100,\"\")","v":-0.93170290432000002},null,-0.45999999999999952,0,{"$error":"#N/A"},null,{"$f":"IFERROR(RTD(\"cqg.rtd\",,\"StudyData\", \"Correlation(\"&$B$3&\",\"&O$2&\",Period:=\"&$B$1&\",InputChoice1:=Close,InputChoice2::=Close)\", \"FG\", \"\", \"Close\",$B$2,A31, \"all\",\"\", \"\",\"True\",\"T\")/100,\"\")","v":-0.87019593625400005},null,-0.45999999999999952,1,{"$error":"#N/A"},null,{"$f":"IFERROR(RTD(\"cqg.rtd\",,\"StudyData\", \"Correlation(\"&$B$3&\",\"&U$2&\",Period:=\"&$B$1&\",InputChoice1:=Close,InputChoice2::=Close)\", \"FG\", \"\", \"Close\",$B$2,A31, \"all\",\"\", \"\",\"True\",\"T\")/100,\"\")","v":0.34916443602999997},null,-0.45999999999999952,0,{"$error":"#N/A"},null,{"$f":"IFERROR(RTD(\"cqg.rtd\",,\"StudyData\", \"Correlation(\"&$B$3&\",\"&AA$2&\",Period:=\"&$B$1&\",InputChoice1:=Close,InputChoice2::=Close)\", \"FG\", \"\", \"Close\",$B$2,A31, \"all\",\"\", \"\",\"True\",\"T\")/100,\"\")","v":-0.896715254229},null,-0.45999999999999952,0,{"$error":"#N/A"},null,{"$f":"IFERROR(RTD(\"cqg.rtd\",,\"StudyData\", \"Correlation(\"&$B$3&\",\"&AG$2&\",Period:=\"&$B$1&\",InputChoice1:=Close,InputChoice2::=Close)\", \"FG\", \"\", \"Close\",$B$2,A31, \"all\",\"\", \"\",\"True\",\"T\")/100,\"\")","v":-0.94333127960599994},null,-0.45999999999999952,1,{"$error":"#N/A"},null,{"$f":"IFERROR(RTD(\"cqg.rtd\",,\"StudyData\", \"Correlation(\"&$B$3&\",\"&AM$2&\",Period:=\"&$B$1&\",InputChoice1:=Close,InputChoice2::=Close)\", \"FG\", \"\", \"Close\",$B$2,A31, \"all\",\"\", \"\",\"True\",\"T\")/100,\"\")","v":-0.82862633729099999},null,-0.45999999999999952,0,{"$error":"#N/A"},null,{"$f":"IFERROR(RTD(\"cqg.rtd\",,\"StudyData\", \"Correlation(\"&$B$3&\",\"&AS$2&\",Period:=\"&$B$1&\",InputChoice1:=Close,InputChoice2::=Close)\", \"FG\", \"\", \"Close\",$B$2,A31, \"all\",\"\", \"\",\"True\",\"T\")/100,\"\")","v":0.15768238275599999},null,-0.45999999999999952,0,{"$error":"#N/A"},null,{"$f":"IFERROR(RTD(\"cqg.rtd\",,\"StudyData\", \"Correlation(\"&$B$3&\",\"&AY$2&\",Period:=\"&$B$1&\",InputChoice1:=Close,InputChoice2::=Close)\", \"FG\", \"\", \"Close\",$B$2,A31, \"all\",\"\", \"\",\"True\",\"T\")/100,\"\")","v":0.117540000091},null,-0.45999999999999952,1,{"$error":"#N/A"},null,{"$f":"IFERROR(RTD(\"cqg.rtd\",,\"StudyData\", \"Correlation(\"&$B$3&\",\"&BE$2&\",Period:=\"&$B$1&\",InputChoice1:=Close,InputChoice2::=Close)\", \"FG\", \"\", \"Close\",$B$2,A31, \"all\",\"\", \"\",\"True\",\"T\")/100,\"\")","v":0.238560990582},null,-0.45999999999999952,0,{"$error":"#N/A"}]
[-28,null,{"$f":"IFERROR(RTD(\"cqg.rtd\",,\"StudyData\", \"Correlation(\"&$B$3&\",\"&C$2&\",Period:=\"&$B$1&\",InputChoice1:=Close,InputChoice2:=Close)\", \"FG\", \"\", \"Close\",$B$2,A32, \"all\",\"\", \"\",\"True\",\"T\")/100,\"\")","v":-0.92054248585200005},null,-0.4399999999999995,1,1,null,{"$f":"IFERROR(RTD(\"cqg.rtd\",,\"StudyData\", \"Correlation(\"&$B$3&\",\"&I$2&\",Period:=\"&$B$1&\",InputChoice1:=Close,InputChoice2::=Close)\", \"FG\", \"\", \"Close\",$B$2,A32, \"all\",\"\", \"\",\"True\",\"T\")/100,\"\")","v":-0.92869054337899992},null,-0.4399999999999995,1,{"$error":"#N/A"},null,{"$f":"IFERROR(RTD(\"cqg.rtd\",,\"StudyData\", \"Correlation(\"&$B$3&\",\"&O$2&\",Period:=\"&$B$1&\",InputChoice1:=Close,InputChoice2::=Close)\", \"FG\", \"\", \"Close\",$B$2,A32, \"all\",\"\", \"\",\"True\",\"T\")/100,\"\")","v":-0.85595327512399999},null,-0.4399999999999995,1,{"$error":"#N/A"},null,{"$f":"IFERROR(RTD(\"cqg.rtd\",,\"StudyData\", \"Correlation(\"&$B$3&\",\"&U$2&\",Period:=\"&$B$1&\",InputChoice1:=Close,InputChoice2::=Close)\", \"FG\", \"\", \"Close\",$B$2,A32, \"all\",\"\", \"\",\"True\",\"T\")/100,\"\")","v":0.23332571608700001},null,-0.4399999999999995,0,{"$error":"#N/A"},null,{"$f":"IFERROR(RTD(\"cqg.rtd\",,\"StudyData\", \"Correlation(\"&$B$3&\",\"&AA$2&\",Period:=\"&$B$1&\",InputChoice1:=Close,InputChoice2::=Close)\", \"FG\", \"\", \"Close\",$B$2,A32, \"all\",\"\", \"\",\"True\",\"T\")/100,\"\")","v":-0.89869151412500003},null,-0.4399999999999995,4,{"$error":"#N/A"},null,{"$f":"IFERROR(RTD(\"cqg.rtd\",,\"StudyData\", \"Correlation(\"&$B$3&\",\"&AG$2&\",Period:=\"&$B$1&\",InputChoice1:=Close,InputChoice2::=Close)\", \"FG\", \"\", \"Close\",$B$2,A32, \"all\",\"\", \"\",\"True\",\"T\")/100,\"\")","v":-0.94556735391500002},null,-0.4399999999999995,2,{"$error":"#N/A"},null,{"$f":"IFERROR(RTD(\"cqg.rtd\",,\"StudyData\", \"Correlation(\"&$B$3&\",\"&AM$2&\",Period:=\"&$B$1&\",InputChoice1:=Close,InputChoice2::=Close)\", \"FG\", \"\", \"Close\",$B$2,A32, \"all\",\"\", \"\",\"True\",\"T\")/100,\"\")","v":-0.84767639856800003},null,-0.4399999999999995,2,{"$error":"#N/A"},null,{"$f":"IFERROR(RTD(\"cqg.rtd\",,\"StudyData\", \"Correlation(\"&$B$3&\",\"&AS$2&\",Period:=\"&$B$1&\",InputChoice1:=Close,InputChoice2::=Close)\", \"FG\", \"\", \"Close\",$B$2,A32, \"all\",\"\", \"\",\"True\",\"T\")/100,\"\")","v":0.153222776063},null,-0.4399999999999995,2,{"$error":"#N/A"},null,{"$f":"IFERROR(RTD(\"cqg.rtd\",,\"StudyData\", \"Correlation(\"&$B$3&\",\"&AY$2&\",Period:=\"&$B$1&\",InputChoice1:=Close,InputChoice2::=Close)\", \"FG\", \"\", \"Close\",$B$2,A32, \"all\",\"\", \"\",\"True\",\"T\")/100,\"\")","v":1.8947076098000001E-2},null,-0.4399999999999995,4,{"$error":"#N/A"},null,{"$f":"IFERROR(RTD(\"cqg.rtd\",,\"StudyData\", \"Correlation(\"&$B$3&\",\"&BE$2&\",Period:=\"&$B$1&\",InputChoice1:=Close,InputChoice2::=Close)\", \"FG\", \"\", \"Close\",$B$2,A32, \"all\",\"\", \"\",\"True\",\"T\")/100,\"\")","v":0.39670520547400001},null,-0.4399999999999995,1,{"$error":"#N/A"}]
[-29,null,{"$f":"IFERROR(RTD(\"cqg.rtd\",,\"StudyData\", \"Correlation(\"&$B$3&\",\"&C$2&\",Period:=\"&$B$1&\",InputChoice1:=Close,InputChoice2:=Close)\", \"FG\", \"\", \"Close\",$B$2,A33, \"all\",\"\", \"\",\"True\",\"T\")/100,\"\")","v":-0.91555862002999999},null,-0.41999999999999948,1,{"$error":"#N/A"},null,{"$f":"IFERROR(RTD(\"cqg.rtd\",,\"StudyData\", \"Correlation(\"&$B$3&\",\"&I$2&\",Period:=\"&$B$1&\",InputChoice1:=Close,InputChoice2::=Close)\", \"FG\", \"\", \"Close\",$B$2,A33, \"all\",\"\", \"\",\"True\",\"T\")/100,\"\")","v":-0.9239443988399999},null,-0.41999999999999948,0,{"$error":"#N/A"},null,{"$f":"IFERROR(RTD(\"cqg.rtd\",,\"StudyData\", \"Correlation(\"&$B$3&\",\"&O$2&\",Period:=\"&$B$1&\",InputChoice1:=Close,InputChoice2::=Close)\", \"FG\", \"\", \"Close\",$B$2,A33, \"all\",\"\", \"\",\"True\",\"T\")/100,\"\")","v":-0.847058716042},null,-0.41999999999999948,0,{"$error":"#N/A"},null,{"$f":"IFERROR(RTD(\"cqg.rtd\",,\"StudyData\", \"Correlation(\"&$B$3&\",\"&U$2&\",Period:=\"&$B$1&\",InputChoice1:=Close,InputChoice2::=Close)\", \"FG\", \"\", \"Close\",$B$2,A33, \"all\",\"\", \"\",\"True\",\"T\")/100,\"\")","v":9.1551348504999991E-2},null,-0.41999999999999948,1,{"$error":"#N/A"},null,{"$f":"IFERROR(RTD(\"cqg.rtd\",,\"StudyData\", \"Correlation(\"&$B$3&\",\"&AA$2&\",Period:=\"&$B$1&\",InputChoice1:=Close,InputChoice2::=Close)\", \"FG\", \"\", \"Close\",$B$2,A33, \"all\",\"\", \"\",\"True\",\"T\")/100,\"\")","v":-0.8956246506879999},null,-0.41999999999999948,1,{"$error":"#N/A"},null,{"$f":"IFERROR(RTD(\"cqg.rtd\",,\"StudyData\", \"Correlation(\"&$B$3&\",\"&AG$2&\",Period:=\"&$B$1&\",InputChoice1:=Close,InputChoice2::=Close)\", \"FG\", \"\", \"Close\",$B$2,A33, \"all\",\"\", \"\",\"True\",\"T\")/100,\"\")","v":-0.94375596690099994},null,-0.41999999999999948,1,{"$error":"#N/A"},null,{"$f":"IFERROR(RTD(\"cqg.rtd\",,\"StudyData\", \"Correlation(\"&$B$3&\",\"&AM$2&\",Period:=\"&$B$1&\",InputChoice1:=Close,InputChoice2::=Close)\", \"FG\", \"\", \"Close\",$B$2,A33, \"all\",\"\", \"\",\"True\",\"T\")/100,\"\")","v":-0.85194109098199999},null,-0.41999999999999948,0,{"$error":"#N/A"},null,{"$f":"IFERROR(RTD(\"cqg.rtd\",,\"StudyData\", \"Correlation(\"&$B$3&\",\"&AS$2&\",Period:=\"&$B$1&\",InputChoice1:=Close,InputChoice2::=Close)\", \"FG\", \"\", \"Close\",$B$2,A33, \"all\",\"\", \"\",\"True\",\"T\")/100,\"\")","v":0.149488256811},null,-0.41999999999999948,1,{"$error":"#N/A"},null,{"$f":"IFERROR(RTD(\"cqg.rtd\",,\"StudyData\", \"Correlation(\"&$B$3&\",\"&AY$2&\",Period:=\"&$B$1&\",InputChoice1:=Close,InputChoice2::=Close)\", \"FG\", \"\", \"Close\",$B$2,A33, \"all\",\"\", \"\",\"True\",\"T\")/100,\"\")","v":-3.5898385220000002E-2},null,-0.41999999999999948,1,{"$error":"#N/A"},null,{"$f":"IFERROR(RTD(\"cqg.rtd\",,\"StudyData\", \"Correlation(\"&$B$3&\",\"&BE$2&\",Period:=\"&$B$1&\",InputChoice1:=Close,InputChoice2::=Close)\", \"FG\", \"\", \"Close\",$B$2,A33, \"all\",\"\", \"\",\"True\",\"T\")/100,\"\")","v":0.42907165960400001},null,-0.41999999999999948,0,{"$error":"#N/A"}]
[-30,null,{"$f":"IFERROR(RTD(\"cqg.rtd\",,\"StudyData\", \"Correlation(\"&$B$3&\",\"&C$2&\",Period:=\"&$B$1&\",InputChoice1:=Close,InputChoice2:=Close)\", \"FG\", \"\", \"Close\",$B$2,A34, \"all\",\"\", \"\",\"True\",\"T\")/100,\"\")","v":-0.90165026887199995},null,-0.39999999999999947,1,{"$error":"#N/A"},null,{"$f":"IFERROR(RTD(\"cqg.rtd\",,\"StudyData\", \"Correlation(\"&$B$3&\",\"&I$2&\",Period:=\"&$B$1&\",InputChoice1:=Close,InputChoice2::=Close)\", \"FG\", \"\", \"Close\",$B$2,A34, \"all\",\"\", \"\",\"True\",\"T\")/100,\"\")","v":-0.89887829895699989},null,-0.39999999999999947,1,{"$error":"#N/A"},null,{"$f":"IFERROR(RTD(\"cqg.rtd\",,\"StudyData\", \"Correlation(\"&$B$3&\",\"&O$2&\",Period:=\"&$B$1&\",InputChoice1:=Close,InputChoice2::=Close)\", \"FG\", \"\", \"Close\",$B$2,A34, \"all\",\"\", \"\",\"True\",\"T\")/100,\"\")","v":-0.83413738144099991},null,-0.39999999999999947,0,{"$error":"#N/A"},null,{"$f":"IFERROR(RTD(\"cqg.rtd\",,\"StudyData\", \"Correlation(\"&$B$3&\",\"&U$2&\",Period:=\"&$B$1&\",InputChoice1:=Close,InputChoice2::=Close)\", \"FG\", \"\", \"Close\",$B$2,A34, \"all\",\"\", \"\",\"True\",\"T\")/100,\"\")","v":-5.4758278886999995E-2},null,-0.39999999999999947,0,{"$error":"#N/A"},null,{"$f":"IFERROR(RTD(\"cqg.rtd\",,\"StudyData\", \"Correlation(\"&$B$3&\",\"&AA$2&\",Period:=\"&$B$1&\",InputChoice1:=Close,InputChoice2::=Close)\", \"FG\", \"\", \"Close\",$B$2,A34, \"all\",\"\", \"\",\"True\",\"T\")/100,\"\")","v":-0.88235388375000001},null,-0.39999999999999947,0,{"$error":"#N/A"},null,{"$f":"IFERROR(RTD(\"cqg.rtd\",,\"StudyData\", \"Correlation(\"&$B$3&\",\"&AG$2&\",Period:=\"&$B$1&\",InputChoice1:=Close,InputChoice2::=Close)\", \"FG\", \"\", \"Close\",$B$2,A34, \"all\",\"\", \"\",\"True\",\"T\")/100,\"\")","v":-0.93784093657300005},null,-0.39999999999999947,0,{"$error":"#N/A"},null,{"$f":"IFERROR(RTD(\"cqg.rtd\",,\"StudyData\", \"Correlation(\"&$B$3&\",\"&AM$2&\",Period:=\"&$B$1&\",InputChoice1:=Close,InputChoice2::=Close)\", \"FG\", \"\", \"Close\",$B$2,A34, \"all\",\"\", \"\",\"True\",\"T\")/100,\"\")","v":-0.83470249453600009},null,-0.39999999999999947,0,{"$error":"#N/A"},null,{"$f":"IFERROR(RTD(\"cqg.rtd\",,\"StudyData\", \"Correlation(\"&$B$3&\",\"&AS$2&\",Period:=\"&$B$1&\",InputChoice1:=Close,InputChoice2::=Close)\", \"FG\", \"\", \"Close\",$B$2,A34, \"all\",\"\", \"\",\"True\",\"T\")/100,\"\")","v":0.204632610247},null,-0.39999999999999947,0,{"$error":"#N/A"},null,{"$f":"IFERROR(RTD(\"cqg.rtd\",,\"StudyData\", \"Correlation(\"&$B$3&\",\"&AY$2&\",Period:=\"&$B$1&\",InputChoice1:=Close,InputChoice2::=Close)\", \"FG\", \"\", \"Close\",$B$2,A34, \"all\",\"\", \"\",\"True\",\"T\")/100,\"\")","v":-0.13409788477599999},null,-0.39999999999999947,0,{"$error":"#N/A"},null,{"$f":"IFERROR(RTD(\"cqg.rtd\",,\"StudyData\", \"Correlation(\"&$B$3&\",\"&BE$2&\",Period:=\"&$B$1&\",InputChoice1:=Close,InputChoice2::=Close)\", \"FG\", \"\", \"Close\",$B$2,A34, \"all\",\"\", \"\",\"True\",\"T\")/100,\"\")","v":0.49199046137700003},null,-0.39999999999999947,0,{"$error":"#N/A"}]
[-31,null,{"$f":"IFERROR(RTD(\"cqg.rtd\",,\"StudyData\", \"Correlation(\"&$B$3&\",\"&C$2&\",Period:=\"&$B$1&\",InputChoice1:=Close,InputChoice2:=Close)\", \"FG\", \"\", \"Close\",$B$2,A35, \"all\",\"\", \"\",\"True\",\"T\")/100,\"\")","v":-0.89627151211199996},null,-0.37999999999999945,1,{"$error":"#N/A"},null,{"$f":"IFERROR(RTD(\"cqg.rtd\",,\"StudyData\", \"Correlation(\"&$B$3&\",\"&I$2&\",Period:=\"&$B$1&\",InputChoice1:=Close,InputChoice2::=Close)\", \"FG\", \"\", \"Close\",$B$2,A35, \"all\",\"\", \"\",\"True\",\"T\")/100,\"\")","v":-0.89185032913499995},null,-0.37999999999999945,0,1,null,{"$f":"IFERROR(RTD(\"cqg.rtd\",,\"StudyData\", \"Correlation(\"&$B$3&\",\"&O$2&\",Period:=\"&$B$1&\",InputChoice1:=Close,InputChoice2::=Close)\", \"FG\", \"\", \"Close\",$B$2,A35, \"all\",\"\", \"\",\"True\",\"T\")/100,\"\")","v":-0.81759142975499999},null,-0.37999999999999945,1,{"$error":"#N/A"},null,{"$f":"IFERROR(RTD(\"cqg.rtd\",,\"StudyData\", \"Correlation(\"&$B$3&\",\"&U$2&\",Period:=\"&$B$1&\",InputChoice1:=Close,InputChoice2::=Close)\", \"FG\", \"\", \"Close\",$B$2,A35, \"all\",\"\", \"\",\"True\",\"T\")/100,\"\")","v":-0.20870395889099999},null,-0.37999999999999945,3,{"$error":"#N/A"},null,{"$f":"IFERROR(RTD(\"cqg.rtd\",,\"StudyData\", \"Correlation(\"&$B$3&\",\"&AA$2&\",Period:=\"&$B$1&\",InputChoice1:=Close,InputChoice2::=Close)\", \"FG\", \"\", \"Close\",$B$2,A35, \"all\",\"\", \"\",\"True\",\"T\")/100,\"\")","v":-0.86138397839800007},null,-0.37999999999999945,1,{"$error":"#N/A"},null,{"$f":"IFERROR(RTD(\"cqg.rtd\",,\"StudyData\", \"Correlation(\"&$B$3&\",\"&AG$2&\",Period:=\"&$B$1&\",InputChoice1:=Close,InputChoice2::=Close)\", \"FG\", \"\", \"Close\",$B$2,A35, \"all\",\"\", \"\",\"True\",\"T\")/100,\"\")","v":-0.92128636147999998},null,-0.37999999999999945,2,{"$error":"#N/A"},null,{"$f":"IFERROR(RTD(\"cqg.rtd\",,\"StudyData\", \"Correlation(\"&$B$3&\",\"&AM$2&\",Period:=\"&$B$1&\",InputChoice1:=Close,InputChoice2::=Close)\", \"FG\", \"\", \"Close\",$B$2,A35, \"all\",\"\", \"\",\"True\",\"T\")/100,\"\")","v":-0.79332351067600004},null,-0.37999999999999945,0,{"$error":"#N/A"},null,{"$f":"IFERROR(RTD(\"cqg.rtd\",,\"StudyData\", \"Correlation(\"&$B$3&\",\"&AS$2&\",Period:=\"&$B$1&\",InputChoice1:=Close,InputChoice2::=Close)\", \"FG\", \"\", \"Close\",$B$2,A35, \"all\",\"\", \"\",\"True\",\"T\")/100,\"\")","v":0.27942520500000001},null,-0.37999999999999945,1,{"$error":"#N/A"},null,{"$f":"IFERROR(RTD(\"cqg.rtd\",,\"StudyData\", \"Correlation(\"&$B$3&\",\"&AY$2&\",Period:=\"&$B$1&\",InputChoice1:=Close,InputChoice2::=Close)\", \"FG\", \"\", \"Close\",$B$2,A35, \"all\",\"\", \"\",\"True\",\"T\")/100,\"\")","v":-0.17174745235900002},null,-0.37999999999999945,2,{"$error":"#N/A"},null,{"$f":"IFERROR(RTD(\"cqg.rtd\",,\"StudyData\", \"Correlation(\"&$B$3&\",\"&BE$2&\",Period:=\"&$B$1&\",InputChoice1:=Close,InputChoice2::=Close)\", \"FG\", \"\", \"Close\",$B$2,A35, \"all\",\"\", \"\",\"True\",\"T\")/100,\"\")","v":0.56096626640300007},null,-0.37999999999999945,3,{"$error":"#N/A"}]
[-32,null,{"$f":"IFERROR(RTD(\"cqg.rtd\",,\"StudyData\", \"Correlation(\"&$B$3&\",\"&C$2&\",Period:=\"&$B$1&\",InputChoice1:=Close,InputChoice2:=Close)\", \"FG\", \"\", \"Close\",$B$2,A36, \"all\",\"\", \"\",\"True\",\"T\")/100,\"\")","v":-0.89396882880500006},null,-0.35999999999999943,3,{"$error":"#N/A"},null,{"$f":"IFERROR(RTD(\"cqg.rtd\",,\"StudyData\", \"Correlation(\"&$B$3&\",\"&I$2&\",Period:=\"&$B$1&\",InputChoice1:=Close,InputChoice2::=Close)\", \"FG\", \"\", \"Close\",$B$2,A36, \"all\",\"\", \"\",\"True\",\"T\")/100,\"\")","v":-0.86262379297899994},null,-0.35999999999999943,1,{"$error":"#N/A"},null,{"$f":"IFERROR(RTD(\"cqg.rtd\",,\"StudyData\", \"Correlation(\"&$B$3&\",\"&O$2&\",Period:=\"&$B$1&\",InputChoice1:=Close,InputChoice2::=Close)\", \"FG\", \"\", \"Close\",$B$2,A36, \"all\",\"\", \"\",\"True\",\"T\")/100,\"\")","v":-0.78916214094799997},null,-0.35999999999999943,0,{"$error":"#N/A"},null,{"$f":"IFERROR(RTD(\"cqg.rtd\",,\"StudyData\", \"Correlation(\"&$B$3&\",\"&U$2&\",Period:=\"&$B$1&\",InputChoice1:=Close,InputChoice2::=Close)\", \"FG\", \"\", \"Close\",$B$2,A36, \"all\",\"\", \"\",\"True\",\"T\")/100,\"\")","v":-0.30136037695000001},null,-0.35999999999999943,2,2,null,{"$f":"IFERROR(RTD(\"cqg.rtd\",,\"StudyData\", \"Correlation(\"&$B$3&\",\"&AA$2&\",Period:=\"&$B$1&\",InputChoice1:=Close,InputChoice2::=Close)\", \"FG\", \"\", \"Close\",$B$2,A36, \"all\",\"\", \"\",\"True\",\"T\")/100,\"\")","v":-0.83616990525700008},null,-0.35999999999999943,0,{"$error":"#N/A"},null,{"$f":"IFERROR(RTD(\"cqg.rtd\",,\"StudyData\", \"Correlation(\"&$B$3&\",\"&AG$2&\",Period:=\"&$B$1&\",InputChoice1:=Close,InputChoice2::=Close)\", \"FG\", \"\", \"Close\",$B$2,A36, \"all\",\"\", \"\",\"True\",\"T\")/100,\"\")","v":-0.90432571205200007},null,-0.35999999999999943,2,{"$error":"#N/A"},null,{"$f":"IFERROR(RTD(\"cqg.rtd\",,\"StudyData\", \"Correlation(\"&$B$3&\",\"&AM$2&\",Period:=\"&$B$1&\",InputChoice1:=Close,InputChoice2::=Close)\", \"FG\", \"\", \"Close\",$B$2,A36, \"all\",\"\", \"\",\"True\",\"T\")/100,\"\")","v":-0.76559160972499996},null,-0.35999999999999943,0,{"$error":"#N/A"},null,{"$f":"IFERROR(RTD(\"cqg.rtd\",,\"StudyData\", \"Correlation(\"&$B$3&\",\"&AS$2&\",Period:=\"&$B$1&\",InputChoice1:=Close,InputChoice2::=Close)\", \"FG\", \"\", \"Close\",$B$2,A36, \"all\",\"\", \"\",\"True\",\"T\")/100,\"\")","v":0.26361720892599999},null,-0.35999999999999943,2,{"$error":"#N/A"},null,{"$f":"IFERROR(RTD(\"cqg.rtd\",,\"StudyData\", \"Correlation(\"&$B$3&\",\"&AY$2&\",Period:=\"&$B$1&\",InputChoice1:=Close,InputChoice2::=Close)\", \"FG\", \"\", \"Close\",$B$2,A36, \"all\",\"\", \"\",\"True\",\"T\")/100,\"\")","v":-0.12245839538},null,-0.35999999999999943,1,{"$error":"#N/A"},null,{"$f":"IFERROR(RTD(\"cqg.rtd\",,\"StudyData\", \"Correlation(\"&$B$3&\",\"&BE$2&\",Period:=\"&$B$1&\",InputChoice1:=Close,InputChoice2::=Close)\", \"FG\", \"\", \"Close\",$B$2,A36, \"all\",\"\", \"\",\"True\",\"T\")/100,\"\")","v":0.64157860736000005},null,-0.35999999999999943,1,{"$error":"#N/A"}]
[-33,null,{"$f":"IFERROR(RTD(\"cqg.rtd\",,\"StudyData\", \"Correlation(\"&$B$3&\",\"&C$2&\",Period:=\"&$B$1&\",InputChoice1:=Close,InputChoice2:=Close)\", \"FG\", \"\", \"Close\",$B$2,A37, \"all\",\"\", \"\",\"True\",\"T\")/100,\"\")","v":-0.88785214473699992},null,-0.33999999999999941,2,{"$error":"#N/A"},null,{"$f":"IFERROR(RTD(\"cqg.rtd\",,\"StudyData\", \"Correlation(\"&$B$3&\",\"&I$2&\",Period:=\"&$B$1&\",InputChoice1:=Close,InputChoice2::=Close)\", \"FG\", \"\", \"Close\",$B$2,A37, \"all\",\"\", \"\",\"True\",\"T\")/100,\"\")","v":-0.84993181526200001},null,-0.33999999999999941,0,{"$error":"#N/A"},null,{"$f":"IFERROR(RTD(\"cqg.rtd\",,\"StudyData\", \"Correlation(\"&$B$3&\",\"&O$2&\",Period:=\"&$B$1&\",InputChoice1:=Close,InputChoice2::=Close)\", \"FG\", \"\", \"Close\",$B$2,A37, \"all\",\"\", \"\",\"True\",\"T\")/100,\"\")","v":-0.771358835613},null,-0.33999999999999941,0,1,null,{"$f":"IFERROR(RTD(\"cqg.rtd\",,\"StudyData\", \"Correlation(\"&$B$3&\",\"&U$2&\",Period:=\"&$B$1&\",InputChoice1:=Close,InputChoice2::=Close)\", \"FG\", \"\", \"Close\",$B$2,A37, \"all\",\"\", \"\",\"True\",\"T\")/100,\"\")","v":-0.32015293670099998},null,-0.33999999999999941,1,{"$error":"#N/A"},null,{"$f":"IFERROR(RTD(\"cqg.rtd\",,\"StudyData\", \"Correlation(\"&$B$3&\",\"&AA$2&\",Period:=\"&$B$1&\",InputChoice1:=Close,InputChoice2::=Close)\", \"FG\", \"\", \"Close\",$B$2,A37, \"all\",\"\", \"\",\"True\",\"T\")/100,\"\")","v":-0.81742445738900005},null,-0.33999999999999941,1,{"$error":"#N/A"},null,{"$f":"IFERROR(RTD(\"cqg.rtd\",,\"StudyData\", \"Correlation(\"&$B$3&\",\"&AG$2&\",Period:=\"&$B$1&\",InputChoice1:=Close,InputChoice2::=Close)\", \"FG\", \"\", \"Close\",$B$2,A37, \"all\",\"\", \"\",\"True\",\"T\")/100,\"\")","v":-0.8935135170309999},null,-0.33999999999999941,1,{"$error":"#N/A"},null,{"$f":"IFERROR(RTD(\"cqg.rtd\",,\"StudyData\", \"Correlation(\"&$B$3&\",\"&AM$2&\",Period:=\"&$B$1&\",InputChoice1:=Close,InputChoice2::=Close)\", \"FG\", \"\", \"Close\",$B$2,A37, \"all\",\"\", \"\",\"True\",\"T\")/100,\"\")","v":-0.7411742655650001},null,-0.33999999999999941,1,{"$error":"#N/A"},null,{"$f":"IFERROR(RTD(\"cqg.rtd\",,\"StudyData\", \"Correlation(\"&$B$3&\",\"&AS$2&\",Period:=\"&$B$1&\",InputChoice1:=Close,InputChoice2::=Close)\", \"FG\", \"\", \"Close\",$B$2,A37, \"all\",\"\", \"\",\"True\",\"T\")/100,\"\")","v":0.27256632431},null,-0.33999999999999941,1,{"$error":"#N/A"},null,{"$f":"IFERROR(RTD(\"cqg.rtd\",,\"StudyData\", \"Correlation(\"&$B$3&\",\"&AY$2&\",Period:=\"&$B$1&\",InputChoice1:=Close,InputChoice2::=Close)\", \"FG\", \"\", \"Close\",$B$2,A37, \"all\",\"\", \"\",\"True\",\"T\")/100,\"\")","v":-2.1077493392000001E-2},null,-0.33999999999999941,4,{"$error":"#N/A"},null,{"$f":"IFERROR(RTD(\"cqg.rtd\",,\"StudyData\", \"Correlation(\"&$B$3&\",\"&BE$2&\",Period:=\"&$B$1&\",InputChoice1:=Close,InputChoice2::=Close)\", \"FG\", \"\", \"Close\",$B$2,A37, \"all\",\"\", \"\",\"True\",\"T\")/100,\"\")","v":0.64293186170599992},null,-0.33999999999999941,3,{"$error":"#N/A"}]
[-34,null,{"$f":"IFERROR(RTD(\"cqg.rtd\",,\"StudyData\", \"Correlation(\"&$B$3&\",\"&C$2&\",Period:=\"&$B$1&\",InputChoice1:=Close,InputChoice2:=Close)\", \"FG\", \"\", \"Close\",$B$2,A38, \"all\",\"\", \"\",\"True\",\"T\")/100,\"\")","v":-0.87970420385199999},null,-0.3199999999999994,1,{"$error":"#N/A"},null,{"$f":"IFERROR(RTD(\"cqg.rtd\",,\"StudyData\", \"Correlation(\"&$B$3&\",\"&I$2&\",Period:=\"&$B$1&\",InputChoice1:=Close,InputChoice2::=Close)\", \"FG\", \"\", \"Close\",$B$2,A38, \"all\",\"\", \"\",\"True\",\"T\")/100,\"\")","v":-0.84225003138100007},null,-0.3199999999999994,0,{"$error":"#N/A"},null,{"$f":"IFERROR(RTD(\"cqg.rtd\",,\"StudyData\", \"Correlation(\"&$B$3&\",\"&O$2&\",Period:=\"&$B$1&\",InputChoice1:=Close,InputChoice2::=Close)\", \"FG\", \"\", \"Close\",$B$2,A38, \"all\",\"\", \"\",\"True\",\"T\")/100,\"\")","v":-0.73964697185500006},null,-0.3199999999999994,1,{"$error":"#N/A"},null,{"$f":"IFERROR(RTD(\"cqg.rtd\",,\"StudyData\", \"Correlation(\"&$B$3&\",\"&U$2&\",Period:=\"&$B$1&\",InputChoice1:=Close,InputChoice2::=Close)\", \"FG\", \"\", \"Close\",$B$2,A38, \"all\",\"\", \"\",\"True\",\"T\")/100,\"\")","v":-0.17255254611800003},null,-0.3199999999999994,3,{"$error":"#N/A"},null,{"$f":"IFERROR(RTD(\"cqg.rtd\",,\"StudyData\", \"Correlation(\"&$B$3&\",\"&AA$2&\",Period:=\"&$B$1&\",InputChoice1:=Close,InputChoice2::=Close)\", \"FG\", \"\", \"Close\",$B$2,A38, \"all\",\"\", \"\",\"True\",\"T\")/100,\"\")","v":-0.797244799241},null,-0.3199999999999994,0,{"$error":"#N/A"},null,{"$f":"IFERROR(RTD(\"cqg.rtd\",,\"StudyData\", \"Correlation(\"&$B$3&\",\"&AG$2&\",Period:=\"&$B$1&\",InputChoice1:=Close,InputChoice2::=Close)\", \"FG\", \"\", \"Close\",$B$2,A38, \"all\",\"\", \"\",\"True\",\"T\")/100,\"\")","v":-0.88477296541599992},null,-0.3199999999999994,1,{"$error":"#N/A"},null,{"$f":"IFERROR(RTD(\"cqg.rtd\",,\"StudyData\", \"Correlation(\"&$B$3&\",\"&AM$2&\",Period:=\"&$B$1&\",InputChoice1:=Close,InputChoice2::=Close)\", \"FG\", \"\", \"Close\",$B$2,A38, \"all\",\"\", \"\",\"True\",\"T\")/100,\"\")","v":-0.71644265985400002},null,-0.3199999999999994,1,{"$error":"#N/A"},null,{"$f":"IFERROR(RTD(\"cqg.rtd\",,\"StudyData\", \"Correlation(\"&$B$3&\",\"&AS$2&\",Period:=\"&$B$1&\",InputChoice1:=Close,InputChoice2::=Close)\", \"FG\", \"\", \"Close\",$B$2,A38, \"all\",\"\", \"\",\"True\",\"T\")/100,\"\")","v":0.25578127827399999},null,-0.3199999999999994,0,{"$error":"#N/A"},null,{"$f":"IFERROR(RTD(\"cqg.rtd\",,\"StudyData\", \"Correlation(\"&$B$3&\",\"&AY$2&\",Period:=\"&$B$1&\",InputChoice1:=Close,InputChoice2::=Close)\", \"FG\", \"\", \"Close\",$B$2,A38, \"all\",\"\", \"\",\"True\",\"T\")/100,\"\")","v":9.8736279177000008E-2},null,-0.3199999999999994,3,{"$error":"#N/A"},null,{"$f":"IFERROR(RTD(\"cqg.rtd\",,\"StudyData\", \"Correlation(\"&$B$3&\",\"&BE$2&\",Period:=\"&$B$1&\",InputChoice1:=Close,InputChoice2::=Close)\", \"FG\", \"\", \"Close\",$B$2,A38, \"all\",\"\", \"\",\"True\",\"T\")/100,\"\")","v":0.58529100421899993},null,-0.3199999999999994,0,{"$error":"#N/A"}]
[-35,null,{"$f":"IFERROR(RTD(\"cqg.rtd\",,\"StudyData\", \"Correlation(\"&$B$3&\",\"&C$2&\",Period:=\"&$B$1&\",InputChoice1:=Close,InputChoice2:=Close)\", \"FG\", \"\", \"Close\",$B$2,A39, \"all\",\"\", \"\",\"True\",\"T\")/100,\"\")","v":-0.87564891012299995},null,-0.29999999999999938,0,{"$error":"#N/A"},null,{"$f":"IFERROR(RTD(\"cqg.rtd\",,\"StudyData\", \"Correlation(\"&$B$3&\",\"&I$2&\",Period:=\"&$B$1&\",InputChoice1:=Close,InputChoice2::=Close)\", \"FG\", \"\", \"Close\",$B$2,A39, \"all\",\"\", \"\",\"True\",\"T\")/100,\"\")","v":-0.84261484275800003},null,-0.29999999999999938,2,{"$error":"#N/A"},null,{"$f":"IFERROR(RTD(\"cqg.rtd\",,\"StudyData\", \"Correlation(\"&$B$3&\",\"&O$2&\",Period:=\"&$B$1&\",InputChoice1:=Close,InputChoice2::=Close)\", \"FG\", \"\", \"Close\",$B$2,A39, \"all\",\"\", \"\",\"True\",\"T\")/100,\"\")","v":-0.72288850777400004},null,-0.29999999999999938,0,{"$error":"#N/A"},null,{"$f":"IFERROR(RTD(\"cqg.rtd\",,\"StudyData\", \"Correlation(\"&$B$3&\",\"&U$2&\",Period:=\"&$B$1&\",InputChoice1:=Close,InputChoice2::=Close)\", \"FG\", \"\", \"Close\",$B$2,A39, \"all\",\"\", \"\",\"True\",\"T\")/100,\"\")","v":-9.5616528654999991E-2},null,-0.29999999999999938,2,{"$error":"#N/A"},null,{"$f":"IFERROR(RTD(\"cqg.rtd\",,\"StudyData\", \"Correlation(\"&$B$3&\",\"&AA$2&\",Period:=\"&$B$1&\",InputChoice1:=Close,InputChoice2::=Close)\", \"FG\", \"\", \"Close\",$B$2,A39, \"all\",\"\", \"\",\"True\",\"T\")/100,\"\")","v":-0.79883966228899994},null,-0.29999999999999938,1,{"$error":"#N/A"},null,{"$f":"IFERROR(RTD(\"cqg.rtd\",,\"StudyData\", \"Correlation(\"&$B$3&\",\"&AG$2&\",Period:=\"&$B$1&\",InputChoice1:=Close,InputChoice2::=Close)\", \"FG\", \"\", \"Close\",$B$2,A39, \"all\",\"\", \"\",\"True\",\"T\")/100,\"\")","v":-0.88438463683199997},null,-0.29999999999999938,1,{"$error":"#N/A"},null,{"$f":"IFERROR(RTD(\"cqg.rtd\",,\"StudyData\", \"Correlation(\"&$B$3&\",\"&AM$2&\",Period:=\"&$B$1&\",InputChoice1:=Close,InputChoice2::=Close)\", \"FG\", \"\", \"Close\",$B$2,A39, \"all\",\"\", \"\",\"True\",\"T\")/100,\"\")","v":-0.74017073629399999},null,-0.29999999999999938,1,{"$error":"#N/A"},null,{"$f":"IFERROR(RTD(\"cqg.rtd\",,\"StudyData\", \"Correlation(\"&$B$3&\",\"&AS$2&\",Period:=\"&$B$1&\",InputChoice1:=Close,InputChoice2::=Close)\", \"FG\", \"\", \"Close\",$B$2,A39, \"all\",\"\", \"\",\"True\",\"T\")/100,\"\")","v":0.165595062229},null,-0.29999999999999938,0,{"$error":"#N/A"},null,{"$f":"IFERROR(RTD(\"cqg.rtd\",,\"StudyData\", \"Correlation(\"&$B$3&\",\"&AY$2&\",Period:=\"&$B$1&\",InputChoice1:=Close,InputChoice2::=Close)\", \"FG\", \"\", \"Close\",$B$2,A39, \"all\",\"\", \"\",\"True\",\"T\")/100,\"\")","v":0.261893822103},null,-0.29999999999999938,0,{"$error":"#N/A"},null,{"$f":"IFERROR(RTD(\"cqg.rtd\",,\"StudyData\", \"Correlation(\"&$B$3&\",\"&BE$2&\",Period:=\"&$B$1&\",InputChoice1:=Close,InputChoice2::=Close)\", \"FG\", \"\", \"Close\",$B$2,A39, \"all\",\"\", \"\",\"True\",\"T\")/100,\"\")","v":0.51022652795200008},null,-0.29999999999999938,2,{"$error":"#N/A"}]
[-36,null,{"$f":"IFERROR(RTD(\"cqg.rtd\",,\"StudyData\", \"Correlation(\"&$B$3&\",\"&C$2&\",Period:=\"&$B$1&\",InputChoice1:=Close,InputChoice2:=Close)\", \"FG\", \"\", \"Close\",$B$2,A40, \"all\",\"\", \"\",\"True\",\"T\")/100,\"\")","v":-0.82166265073},null,-0.27999999999999936,0,{"$error":"#N/A"},null,{"$f":"IFERROR(RTD(\"cqg.rtd\",,\"StudyData\", \"Correlation(\"&$B$3&\",\"&I$2&\",Period:=\"&$B$1&\",InputChoice1:=Close,InputChoice2::=Close)\", \"FG\", \"\", \"Close\",$B$2,A40, \"all\",\"\", \"\",\"True\",\"T\")/100,\"\")","v":-0.81105465647700004},null,-0.27999999999999936,1,{"$error":"#N/A"},null,{"$f":"IFERROR(RTD(\"cqg.rtd\",,\"StudyData\", \"Correlation(\"&$B$3&\",\"&O$2&\",Period:=\"&$B$1&\",InputChoice1:=Close,InputChoice2::=Close)\", \"FG\", \"\", \"Close\",$B$2,A40, \"all\",\"\", \"\",\"True\",\"T\")/100,\"\")","v":-0.73196868718999997},null,-0.27999999999999936,1,{"$error":"#N/A"},null,{"$f":"IFERROR(RTD(\"cqg.rtd\",,\"StudyData\", \"Correlation(\"&$B$3&\",\"&U$2&\",Period:=\"&$B$1&\",InputChoice1:=Close,InputChoice2::=Close)\", \"FG\", \"\", \"Close\",$B$2,A40, \"all\",\"\", \"\",\"True\",\"T\")/100,\"\")","v":-2.2490061423999997E-2},null,-0.27999999999999936,1,{"$error":"#N/A"},null,{"$f":"IFERROR(RTD(\"cqg.rtd\",,\"StudyData\", \"Correlation(\"&$B$3&\",\"&AA$2&\",Period:=\"&$B$1&\",InputChoice1:=Close,InputChoice2::=Close)\", \"FG\", \"\", \"Close\",$B$2,A40, \"all\",\"\", \"\",\"True\",\"T\")/100,\"\")","v":-0.79487750877899999},null,-0.27999999999999936,1,{"$error":"#N/A"},null,{"$f":"IFERROR(RTD(\"cqg.rtd\",,\"StudyData\", \"Correlation(\"&$B$3&\",\"&AG$2&\",Period:=\"&$B$1&\",InputChoice1:=Close,InputChoice2::=Close)\", \"FG\", \"\", \"Close\",$B$2,A40, \"all\",\"\", \"\",\"True\",\"T\")/100,\"\")","v":-0.87873416894200007},null,-0.27999999999999936,2,{"$error":"#N/A"},null,{"$f":"IFERROR(RTD(\"cqg.rtd\",,\"StudyData\", \"Correlation(\"&$B$3&\",\"&AM$2&\",Period:=\"&$B$1&\",InputChoice1:=Close,InputChoice2::=Close)\", \"FG\", \"\", \"Close\",$B$2,A40, \"all\",\"\", \"\",\"True\",\"T\")/100,\"\")","v":-0.74257861731099994},null,-0.27999999999999936,0,{"$error":"#N/A"},null,{"$f":"IFERROR(RTD(\"cqg.rtd\",,\"StudyData\", \"Correlation(\"&$B$3&\",\"&AS$2&\",Period:=\"&$B$1&\",InputChoice1:=Close,InputChoice2::=Close)\", \"FG\", \"\", \"Close\",$B$2,A40, \"all\",\"\", \"\",\"True\",\"T\")/100,\"\")","v":-1.1291064153999998E-2},null,-0.27999999999999936,1,{"$error":"#N/A"},null,{"$f":"IFERROR(RTD(\"cqg.rtd\",,\"StudyData\", \"Correlation(\"&$B$3&\",\"&AY$2&\",Period:=\"&$B$1&\",InputChoice1:=Close,InputChoice2::=Close)\", \"FG\", \"\", \"Close\",$B$2,A40, \"all\",\"\", \"\",\"True\",\"T\")/100,\"\")","v":0.38437524259600003},null,-0.27999999999999936,2,{"$error":"#N/A"},null,{"$f":"IFERROR(RTD(\"cqg.rtd\",,\"StudyData\", \"Correlation(\"&$B$3&\",\"&BE$2&\",Period:=\"&$B$1&\",InputChoice1:=Close,InputChoice2::=Close)\", \"FG\", \"\", \"Close\",$B$2,A40, \"all\",\"\", \"\",\"True\",\"T\")/100,\"\")","v":0.340194794839},null,-0.27999999999999936,1,{"$error":"#N/A"}]
[-37,null,{"$f":"IFERROR(RTD(\"cqg.rtd\",,\"StudyData\", \"Correlation(\"&$B$3&\",\"&C$2&\",Period:=\"&$B$1&\",InputChoice1:=Close,InputChoice2:=Close)\", \"FG\", \"\", \"Close\",$B$2,A41, \"all\",\"\", \"\",\"True\",\"T\")/100,\"\")","v":-0.81350988095999999},null,-0.25999999999999934,1,{"$error":"#N/A"},null,{"$f":"IFERROR(RTD(\"cqg.rtd\",,\"StudyData\", \"Correlation(\"&$B$3&\",\"&I$2&\",Period:=\"&$B$1&\",InputChoice1:=Close,InputChoice2::=Close)\", \"FG\", \"\", \"Close\",$B$2,A41, \"all\",\"\", \"\",\"True\",\"T\")/100,\"\")","v":-0.80855015120999996},null,-0.25999999999999934,2,{"$error":"#N/A"},null,{"$f":"IFERROR(RTD(\"cqg.rtd\",,\"StudyData\", \"Correlation(\"&$B$3&\",\"&O$2&\",Period:=\"&$B$1&\",InputChoice1:=Close,InputChoice2::=Close)\", \"FG\", \"\", \"Close\",$B$2,A41, \"all\",\"\", \"\",\"True\",\"T\")/100,\"\")","v":-0.74436097161399994},null,-0.25999999999999934,1,{"$error":"#N/A"},null,{"$f":"IFERROR(RTD(\"cqg.rtd\",,\"StudyData\", \"Correlation(\"&$B$3&\",\"&U$2&\",Period:=\"&$B$1&\",InputChoice1:=Close,InputChoice2::=Close)\", \"FG\", \"\", \"Close\",$B$2,A41, \"all\",\"\", \"\",\"True\",\"T\")/100,\"\")","v":0.26536382689300003},null,-0.25999999999999934,0,{"$error":"#N/A"},null,{"$f":"IFERROR(RTD(\"cqg.rtd\",,\"StudyData\", \"Correlation(\"&$B$3&\",\"&AA$2&\",Period:=\"&$B$1&\",InputChoice1:=Close,InputChoice2::=Close)\", \"FG\", \"\", \"Close\",$B$2,A41, \"all\",\"\", \"\",\"True\",\"T\")/100,\"\")","v":-0.78487337198499996},null,-0.25999999999999934,3,{"$error":"#N/A"},null,{"$f":"IFERROR(RTD(\"cqg.rtd\",,\"StudyData\", \"Correlation(\"&$B$3&\",\"&AG$2&\",Period:=\"&$B$1&\",InputChoice1:=Close,InputChoice2::=Close)\", \"FG\", \"\", \"Close\",$B$2,A41, \"all\",\"\", \"\",\"True\",\"T\")/100,\"\")","v":-0.87680823005600006},null,-0.25999999999999934,1,{"$error":"#N/A"},null,{"$f":"IFERROR(RTD(\"cqg.rtd\",,\"StudyData\", \"Correlation(\"&$B$3&\",\"&AM$2&\",Period:=\"&$B$1&\",InputChoice1:=Close,InputChoice2::=Close)\", \"FG\", \"\", \"Close\",$B$2,A41, \"all\",\"\", \"\",\"True\",\"T\")/100,\"\")","v":-0.73297222631899994},null,-0.25999999999999934,0,{"$error":"#N/A"},null,{"$f":"IFERROR(RTD(\"cqg.rtd\",,\"StudyData\", \"Correlation(\"&$B$3&\",\"&AS$2&\",Period:=\"&$B$1&\",InputChoice1:=Close,InputChoice2::=Close)\", \"FG\", \"\", \"Close\",$B$2,A41, \"all\",\"\", \"\",\"True\",\"T\")/100,\"\")","v":-0.21259484029799999},null,-0.25999999999999934,1,{"$error":"#N/A"},null,{"$f":"IFERROR(RTD(\"cqg.rtd\",,\"StudyData\", \"Correlation(\"&$B$3&\",\"&AY$2&\",Period:=\"&$B$1&\",InputChoice1:=Close,InputChoice2::=Close)\", \"FG\", \"\", \"Close\",$B$2,A41, \"all\",\"\", \"\",\"True\",\"T\")/100,\"\")","v":0.50095254706600001},null,-0.25999999999999934,4,{"$error":"#N/A"},null,{"$f":"IFERROR(RTD(\"cqg.rtd\",,\"StudyData\", \"Correlation(\"&$B$3&\",\"&BE$2&\",Period:=\"&$B$1&\",InputChoice1:=Close,InputChoice2::=Close)\", \"FG\", \"\", \"Close\",$B$2,A41, \"all\",\"\", \"\",\"True\",\"T\")/100,\"\")","v":0.18915240699000002},null,-0.25999999999999934,2,{"$error":"#N/A"}]
[-38,null,{"$f":"IFERROR(RTD(\"cqg.rtd\",,\"StudyData\", \"Correlation(\"&$B$3&\",\"&C$2&\",Period:=\"&$B$1&\",InputChoice1:=Close,InputChoice2:=Close)\", \"FG\", \"\", \"Close\",$B$2,A42, \"all\",\"\", \"\",\"True\",\"T\")/100,\"\")","v":-0.80048574067900002},null,-0.23999999999999935,2,{"$error":"#N/A"},null,{"$f":"IFERROR(RTD(\"cqg.rtd\",,\"StudyData\", \"Correlation(\"&$B$3&\",\"&I$2&\",Period:=\"&$B$1&\",InputChoice1:=Close,InputChoice2::=Close)\", \"FG\", \"\", \"Close\",$B$2,A42, \"all\",\"\", \"\",\"True\",\"T\")/100,\"\")","v":-0.80116100486099995},null,-0.23999999999999935,2,{"$error":"#N/A"},null,{"$f":"IFERROR(RTD(\"cqg.rtd\",,\"StudyData\", \"Correlation(\"&$B$3&\",\"&O$2&\",Period:=\"&$B$1&\",InputChoice1:=Close,InputChoice2::=Close)\", \"FG\", \"\", \"Close\",$B$2,A42, \"all\",\"\", \"\",\"True\",\"T\")/100,\"\")","v":-0.73119174375899998},null,-0.23999999999999935,1,{"$error":"#N/A"},null,{"$f":"IFERROR(RTD(\"cqg.rtd\",,\"StudyData\", \"Correlation(\"&$B$3&\",\"&U$2&\",Period:=\"&$B$1&\",InputChoice1:=Close,InputChoice2::=Close)\", \"FG\", \"\", \"Close\",$B$2,A42, \"all\",\"\", \"\",\"True\",\"T\")/100,\"\")","v":0.43799513406499996},null,-0.23999999999999935,0,{"$error":"#N/A"},null,{"$f":"IFERROR(RTD(\"cqg.rtd\",,\"StudyData\", \"Correlation(\"&$B$3&\",\"&AA$2&\",Period:=\"&$B$1&\",InputChoice1:=Close,InputChoice2::=Close)\", \"FG\", \"\", \"Close\",$B$2,A42, \"all\",\"\", \"\",\"True\",\"T\")/100,\"\")","v":-0.77277159591399991},null,-0.23999999999999935,0,1,null,{"$f":"IFERROR(RTD(\"cqg.rtd\",,\"StudyData\", \"Correlation(\"&$B$3&\",\"&AG$2&\",Period:=\"&$B$1&\",InputChoice1:=Close,InputChoice2::=Close)\", \"FG\", \"\", \"Close\",$B$2,A42, \"all\",\"\", \"\",\"True\",\"T\")/100,\"\")","v":-0.868660422549},null,-0.23999999999999935,0,{"$error":"#N/A"},null,{"$f":"IFERROR(RTD(\"cqg.rtd\",,\"StudyData\", \"Correlation(\"&$B$3&\",\"&AM$2&\",Period:=\"&$B$1&\",InputChoice1:=Close,InputChoice2::=Close)\", \"FG\", \"\", \"Close\",$B$2,A42, \"all\",\"\", \"\",\"True\",\"T\")/100,\"\")","v":-0.72081992616199997},null,-0.23999999999999935,2,{"$error":"#N/A"},null,{"$f":"IFERROR(RTD(\"cqg.rtd\",,\"StudyData\", \"Correlation(\"&$B$3&\",\"&AS$2&\",Period:=\"&$B$1&\",InputChoice1:=Close,InputChoice2::=Close)\", \"FG\", \"\", \"Close\",$B$2,A42, \"all\",\"\", \"\",\"True\",\"T\")/100,\"\")","v":-0.42795698927799997},null,-0.23999999999999935,0,{"$error":"#N/A"},null,{"$f":"IFERROR(RTD(\"cqg.rtd\",,\"StudyData\", \"Correlation(\"&$B$3&\",\"&AY$2&\",Period:=\"&$B$1&\",InputChoice1:=Close,InputChoice2::=Close)\", \"FG\", \"\", \"Close\",$B$2,A42, \"all\",\"\", \"\",\"True\",\"T\")/100,\"\")","v":0.61934652510900001},null,-0.23999999999999935,4,{"$error":"#N/A"},null,{"$f":"IFERROR(RTD(\"cqg.rtd\",,\"StudyData\", \"Correlation(\"&$B$3&\",\"&BE$2&\",Period:=\"&$B$1&\",InputChoice1:=Close,InputChoice2::=Close)\", \"FG\", \"\", \"Close\",$B$2,A42, \"all\",\"\", \"\",\"True\",\"T\")/100,\"\")","v":1.3444361064999999E-2},null,-0.23999999999999935,1,{"$error":"#N/A"}]
[-39,null,{"$f":"IFERROR(RTD(\"cqg.rtd\",,\"StudyData\", \"Correlation(\"&$B$3&\",\"&C$2&\",Period:=\"&$B$1&\",InputChoice1:=Close,InputChoice2:=Close)\", \"FG\", \"\", \"Close\",$B$2,A43, \"all\",\"\", \"\",\"True\",\"T\")/100,\"\")","v":-0.68047720474700002},null,-0.21999999999999936,0,{"$error":"#N/A"},null,{"$f":"IFERROR(RTD(\"cqg.rtd\",,\"StudyData\", \"Correlation(\"&$B$3&\",\"&I$2&\",Period:=\"&$B$1&\",InputChoice1:=Close,InputChoice2::=Close)\", \"FG\", \"\", \"Close\",$B$2,A43, \"all\",\"\", \"\",\"True\",\"T\")/100,\"\")","v":-0.72732779264200009},null,-0.21999999999999936,0,{"$error":"#N/A"},null,{"$f":"IFERROR(RTD(\"cqg.rtd\",,\"StudyData\", \"Correlation(\"&$B$3&\",\"&O$2&\",Period:=\"&$B$1&\",InputChoice1:=Close,InputChoice2::=Close)\", \"FG\", \"\", \"Close\",$B$2,A43, \"all\",\"\", \"\",\"True\",\"T\")/100,\"\")","v":-0.720521214302},null,-0.21999999999999936,3,{"$error":"#N/A"},null,{"$f":"IFERROR(RTD(\"cqg.rtd\",,\"StudyData\", \"Correlation(\"&$B$3&\",\"&U$2&\",Period:=\"&$B$1&\",InputChoice1:=Close,InputChoice2::=Close)\", \"FG\", \"\", \"Close\",$B$2,A43, \"all\",\"\", \"\",\"True\",\"T\")/100,\"\")","v":0.395999110677},null,-0.21999999999999936,1,{"$error":"#N/A"},null,{"$f":"IFERROR(RTD(\"cqg.rtd\",,\"StudyData\", \"Correlation(\"&$B$3&\",\"&AA$2&\",Period:=\"&$B$1&\",InputChoice1:=Close,InputChoice2::=Close)\", \"FG\", \"\", \"Close\",$B$2,A43, \"all\",\"\", \"\",\"True\",\"T\")/100,\"\")","v":-0.796691390281},null,-0.21999999999999936,5,{"$error":"#N/A"},null,{"$f":"IFERROR(RTD(\"cqg.rtd\",,\"StudyData\", \"Correlation(\"&$B$3&\",\"&AG$2&\",Period:=\"&$B$1&\",InputChoice1:=Close,InputChoice2::=Close)\", \"FG\", \"\", \"Close\",$B$2,A43, \"all\",\"\", \"\",\"True\",\"T\")/100,\"\")","v":-0.87723711176399999},null,-0.21999999999999936,0,{"$error":"#N/A"},null,{"$f":"IFERROR(RTD(\"cqg.rtd\",,\"StudyData\", \"Correlation(\"&$B$3&\",\"&AM$2&\",Period:=\"&$B$1&\",InputChoice1:=Close,InputChoice2::=Close)\", \"FG\", \"\", \"Close\",$B$2,A43, \"all\",\"\", \"\",\"True\",\"T\")/100,\"\")","v":-0.77072449332900006},null,-0.21999999999999936,2,{"$error":"#N/A"},null,{"$f":"IFERROR(RTD(\"cqg.rtd\",,\"StudyData\", \"Correlation(\"&$B$3&\",\"&AS$2&\",Period:=\"&$B$1&\",InputChoice1:=Close,InputChoice2::=Close)\", \"FG\", \"\", \"Close\",$B$2,A43, \"all\",\"\", \"\",\"True\",\"T\")/100,\"\")","v":-0.66734471054699995},null,-0.21999999999999936,0,{"$error":"#N/A"},null,{"$f":"IFERROR(RTD(\"cqg.rtd\",,\"StudyData\", \"Correlation(\"&$B$3&\",\"&AY$2&\",Period:=\"&$B$1&\",InputChoice1:=Close,InputChoice2::=Close)\", \"FG\", \"\", \"Close\",$B$2,A43, \"all\",\"\", \"\",\"True\",\"T\")/100,\"\")","v":0.73327893476599992},null,-0.21999999999999936,0,{"$error":"#N/A"},null,{"$f":"IFERROR(RTD(\"cqg.rtd\",,\"StudyData\", \"Correlation(\"&$B$3&\",\"&BE$2&\",Period:=\"&$B$1&\",InputChoice1:=Close,InputChoice2::=Close)\", \"FG\", \"\", \"Close\",$B$2,A43, \"all\",\"\", \"\",\"True\",\"T\")/100,\"\")","v":-0.34804353860100001},null,-0.21999999999999936,1,{"$error":"#N/A"}]
[-40,null,{"$f":"IFERROR(RTD(\"cqg.rtd\",,\"StudyData\", \"Correlation(\"&$B$3&\",\"&C$2&\",Period:=\"&$B$1&\",InputChoice1:=Close,InputChoice2:=Close)\", \"FG\", \"\", \"Close\",$B$2,A44, \"all\",\"\", \"\",\"True\",\"T\")/100,\"\")","v":-0.62754125013500006},null,-0.19999999999999937,0,{"$error":"#N/A"},null,{"$f":"IFERROR(RTD(\"cqg.rtd\",,\"StudyData\", \"Correlation(\"&$B$3&\",\"&I$2&\",Period:=\"&$B$1&\",InputChoice1:=Close,InputChoice2::=Close)\", \"FG\", \"\", \"Close\",$B$2,A44, \"all\",\"\", \"\",\"True\",\"T\")/100,\"\")","v":-0.68737147662200004},null,-0.19999999999999937,2,{"$error":"#N/A"},null,{"$f":"IFERROR(RTD(\"cqg.rtd\",,\"StudyData\", \"Correlation(\"&$B$3&\",\"&O$2&\",Period:=\"&$B$1&\",InputChoice1:=Close,InputChoice2::=Close)\", \"FG\", \"\", \"Close\",$B$2,A44, \"all\",\"\", \"\",\"True\",\"T\")/100,\"\")","v":-0.70386934548799995},null,-0.19999999999999937,1,{"$error":"#N/A"},null,{"$f":"IFERROR(RTD(\"cqg.rtd\",,\"StudyData\", \"Correlation(\"&$B$3&\",\"&U$2&\",Period:=\"&$B$1&\",InputChoice1:=Close,InputChoice2::=Close)\", \"FG\", \"\", \"Close\",$B$2,A44, \"all\",\"\", \"\",\"True\",\"T\")/100,\"\")","v":0.39828992574799998},null,-0.19999999999999937,1,{"$error":"#N/A"},null,{"$f":"IFERROR(RTD(\"cqg.rtd\",,\"StudyData\", \"Correlation(\"&$B$3&\",\"&AA$2&\",Period:=\"&$B$1&\",InputChoice1:=Close,InputChoice2::=Close)\", \"FG\", \"\", \"Close\",$B$2,A44, \"all\",\"\", \"\",\"True\",\"T\")/100,\"\")","v":-0.79222156544900002},null,-0.19999999999999937,3,{"$error":"#N/A"},null,{"$f":"IFERROR(RTD(\"cqg.rtd\",,\"StudyData\", \"Correlation(\"&$B$3&\",\"&AG$2&\",Period:=\"&$B$1&\",InputChoice1:=Close,InputChoice2::=Close)\", \"FG\", \"\", \"Close\",$B$2,A44, \"all\",\"\", \"\",\"True\",\"T\")/100,\"\")","v":-0.8688130009920001},null,-0.19999999999999937,1,{"$error":"#N/A"},null,{"$f":"IFERROR(RTD(\"cqg.rtd\",,\"StudyData\", \"Correlation(\"&$B$3&\",\"&AM$2&\",Period:=\"&$B$1&\",InputChoice1:=Close,InputChoice2::=Close)\", \"FG\", \"\", \"Close\",$B$2,A44, \"all\",\"\", \"\",\"True\",\"T\")/100,\"\")","v":-0.77423951043000006},null,-0.19999999999999937,1,{"$error":"#N/A"},null,{"$f":"IFERROR(RTD(\"cqg.rtd\",,\"StudyData\", \"Correlation(\"&$B$3&\",\"&AS$2&\",Period:=\"&$B$1&\",InputChoice1:=Close,InputChoice2::=Close)\", \"FG\", \"\", \"Close\",$B$2,A44, \"all\",\"\", \"\",\"True\",\"T\")/100,\"\")","v":-0.75430429130400001},null,-0.19999999999999937,3,{"$error":"#N/A"},null,{"$f":"IFERROR(RTD(\"cqg.rtd\",,\"StudyData\", \"Correlation(\"&$B$3&\",\"&AY$2&\",Period:=\"&$B$1&\",InputChoice1:=Close,InputChoice2::=Close)\", \"FG\", \"\", \"Close\",$B$2,A44, \"all\",\"\", \"\",\"True\",\"T\")/100,\"\")","v":0.90270827001699994},null,-0.19999999999999937,3,{"$error":"#N/A"},null,{"$f":"IFERROR(RTD(\"cqg.rtd\",,\"StudyData\", \"Correlation(\"&$B$3&\",\"&BE$2&\",Period:=\"&$B$1&\",InputChoice1:=Close,InputChoice2::=Close)\", \"FG\", \"\", \"Close\",$B$2,A44, \"all\",\"\", \"\",\"True\",\"T\")/100,\"\")","v":-0.61310165677200001},null,-0.19999999999999937,2,{"$error":"#N/A"}]
[-41,null,{"$f":"IFERROR(RTD(\"cqg.rtd\",,\"StudyData\", \"Correlation(\"&$B$3&\",\"&C$2&\",Period:=\"&$B$1&\",InputChoice1:=Close,InputChoice2:=Close)\", \"FG\", \"\", \"Close\",$B$2,A45, \"all\",\"\", \"\",\"True\",\"T\")/100,\"\")","v":-0.58951593445999995},null,-0.17999999999999938,0,{"$error":"#N/A"},null,{"$f":"IFERROR(RTD(\"cqg.rtd\",,\"StudyData\", \"Correlation(\"&$B$3&\",\"&I$2&\",Period:=\"&$B$1&\",InputChoice1:=Close,InputChoice2::=Close)\", \"FG\", \"\", \"Close\",$B$2,A45, \"all\",\"\", \"\",\"True\",\"T\")/100,\"\")","v":-0.65548467418800005},null,-0.17999999999999938,1,{"$error":"#N/A"},null,{"$f":"IFERROR(RTD(\"cqg.rtd\",,\"StudyData\", \"Correlation(\"&$B$3&\",\"&O$2&\",Period:=\"&$B$1&\",InputChoice1:=Close,InputChoice2::=Close)\", \"FG\", \"\", \"Close\",$B$2,A45, \"all\",\"\", \"\",\"True\",\"T\")/100,\"\")","v":-0.67881693203799998},null,-0.17999999999999938,2,{"$error":"#N/A"},null,{"$f":"IFERROR(RTD(\"cqg.rtd\",,\"StudyData\", \"Correlation(\"&$B$3&\",\"&U$2&\",Period:=\"&$B$1&\",InputChoice1:=Close,InputChoice2::=Close)\", \"FG\", \"\", \"Close\",$B$2,A45, \"all\",\"\", \"\",\"True\",\"T\")/100,\"\")","v":0.30150103817099999},null,-0.17999999999999938,0,{"$error":"#N/A"},null,{"$f":"IFERROR(RTD(\"cqg.rtd\",,\"StudyData\", \"Correlation(\"&$B$3&\",\"&AA$2&\",Period:=\"&$B$1&\",InputChoice1:=Close,InputChoice2::=Close)\", \"FG\", \"\", \"Close\",$B$2,A45, \"all\",\"\", \"\",\"True\",\"T\")/100,\"\")","v":-0.78481359929299999},null,-0.17999999999999938,0,{"$error":"#N/A"},null,{"$f":"IFERROR(RTD(\"cqg.rtd\",,\"StudyData\", \"Correlation(\"&$B$3&\",\"&AG$2&\",Period:=\"&$B$1&\",InputChoice1:=Close,InputChoice2::=Close)\", \"FG\", \"\", \"Close\",$B$2,A45, \"all\",\"\", \"\",\"True\",\"T\")/100,\"\")","v":-0.858343872856},null,-0.17999999999999938,0,{"$error":"#N/A"},null,{"$f":"IFERROR(RTD(\"cqg.rtd\",,\"StudyData\", \"Correlation(\"&$B$3&\",\"&AM$2&\",Period:=\"&$B$1&\",InputChoice1:=Close,InputChoice2::=Close)\", \"FG\", \"\", \"Close\",$B$2,A45, \"all\",\"\", \"\",\"True\",\"T\")/100,\"\")","v":-0.78114845296900004},null,-0.17999999999999938,1,{"$error":"#N/A"},null,{"$f":"IFERROR(RTD(\"cqg.rtd\",,\"StudyData\", \"Correlation(\"&$B$3&\",\"&AS$2&\",Period:=\"&$B$1&\",InputChoice1:=Close,InputChoice2::=Close)\", \"FG\", \"\", \"Close\",$B$2,A45, \"all\",\"\", \"\",\"True\",\"T\")/100,\"\")","v":-0.763658527398},null,-0.17999999999999938,1,{"$error":"#N/A"},null,{"$f":"IFERROR(RTD(\"cqg.rtd\",,\"StudyData\", \"Correlation(\"&$B$3&\",\"&AY$2&\",Period:=\"&$B$1&\",InputChoice1:=Close,InputChoice2::=Close)\", \"FG\", \"\", \"Close\",$B$2,A45, \"all\",\"\", \"\",\"True\",\"T\")/100,\"\")","v":0.86456638501399996},null,-0.17999999999999938,2,{"$error":"#N/A"},null,{"$f":"IFERROR(RTD(\"cqg.rtd\",,\"StudyData\", \"Correlation(\"&$B$3&\",\"&BE$2&\",Period:=\"&$B$1&\",InputChoice1:=Close,InputChoice2::=Close)\", \"FG\", \"\", \"Close\",$B$2,A45, \"all\",\"\", \"\",\"True\",\"T\")/100,\"\")","v":-0.59792945169200007},null,-0.17999999999999938,1,{"$error":"#N/A"}]
[-42,null,{"$f":"IFERROR(RTD(\"cqg.rtd\",,\"StudyData\", \"Correlation(\"&$B$3&\",\"&C$2&\",Period:=\"&$B$1&\",InputChoice1:=Close,InputChoice2:=Close)\", \"FG\", \"\", \"Close\",$B$2,A46, \"all\",\"\", \"\",\"True\",\"T\")/100,\"\")","v":-0.54279764670899999},null,-0.15999999999999939,0,{"$error":"#N/A"},null,{"$f":"IFERROR(RTD(\"cqg.rtd\",,\"StudyData\", \"Correlation(\"&$B$3&\",\"&I$2&\",Period:=\"&$B$1&\",InputChoice1:=Close,InputChoice2::=Close)\", \"FG\", \"\", \"Close\",$B$2,A46, \"all\",\"\", \"\",\"True\",\"T\")/100,\"\")","v":-0.61305477850500001},null,-0.15999999999999939,1,{"$error":"#N/A"},null,{"$f":"IFERROR(RTD(\"cqg.rtd\",,\"StudyData\", \"Correlation(\"&$B$3&\",\"&O$2&\",Period:=\"&$B$1&\",InputChoice1:=Close,InputChoice2::=Close)\", \"FG\", \"\", \"Close\",$B$2,A46, \"all\",\"\", \"\",\"True\",\"T\")/100,\"\")","v":-0.67265727417900001},null,-0.15999999999999939,2,{"$error":"#N/A"},null,{"$f":"IFERROR(RTD(\"cqg.rtd\",,\"StudyData\", \"Correlation(\"&$B$3&\",\"&U$2&\",Period:=\"&$B$1&\",InputChoice1:=Close,InputChoice2::=Close)\", \"FG\", \"\", \"Close\",$B$2,A46, \"all\",\"\", \"\",\"True\",\"T\")/100,\"\")","v":0.22883591372500001},null,-0.15999999999999939,2,{"$error":"#N/A"},null,{"$f":"IFERROR(RTD(\"cqg.rtd\",,\"StudyData\", \"Correlation(\"&$B$3&\",\"&AA$2&\",Period:=\"&$B$1&\",InputChoice1:=Close,InputChoice2::=Close)\", \"FG\", \"\", \"Close\",$B$2,A46, \"all\",\"\", \"\",\"True\",\"T\")/100,\"\")","v":-0.80017441988600002},null,-0.15999999999999939,3,{"$error":"#N/A"},null,{"$f":"IFERROR(RTD(\"cqg.rtd\",,\"StudyData\", \"Correlation(\"&$B$3&\",\"&AG$2&\",Period:=\"&$B$1&\",InputChoice1:=Close,InputChoice2::=Close)\", \"FG\", \"\", \"Close\",$B$2,A46, \"all\",\"\", \"\",\"True\",\"T\")/100,\"\")","v":-0.8434667509010001},null,-0.15999999999999939,0,{"$error":"#N/A"},null,{"$f":"IFERROR(RTD(\"cqg.rtd\",,\"StudyData\", \"Correlation(\"&$B$3&\",\"&AM$2&\",Period:=\"&$B$1&\",InputChoice1:=Close,InputChoice2::=Close)\", \"FG\", \"\", \"Close\",$B$2,A46, \"all\",\"\", \"\",\"True\",\"T\")/100,\"\")","v":-0.80327727471599997},null,-0.15999999999999939,2,2,null,{"$f":"IFERROR(RTD(\"cqg.rtd\",,\"StudyData\", \"Correlation(\"&$B$3&\",\"&AS$2&\",Period:=\"&$B$1&\",InputChoice1:=Close,InputChoice2::=Close)\", \"FG\", \"\", \"Close\",$B$2,A46, \"all\",\"\", \"\",\"True\",\"T\")/100,\"\")","v":-0.74235681984500002},null,-0.15999999999999939,3,{"$error":"#N/A"},null,{"$f":"IFERROR(RTD(\"cqg.rtd\",,\"StudyData\", \"Correlation(\"&$B$3&\",\"&AY$2&\",Period:=\"&$B$1&\",InputChoice1:=Close,InputChoice2::=Close)\", \"FG\", \"\", \"Close\",$B$2,A46, \"all\",\"\", \"\",\"True\",\"T\")/100,\"\")","v":0.79204381346700004},null,-0.15999999999999939,3,{"$error":"#N/A"},null,{"$f":"IFERROR(RTD(\"cqg.rtd\",,\"StudyData\", \"Correlation(\"&$B$3&\",\"&BE$2&\",Period:=\"&$B$1&\",InputChoice1:=Close,InputChoice2::=Close)\", \"FG\", \"\", \"Close\",$B$2,A46, \"all\",\"\", \"\",\"True\",\"T\")/100,\"\")","v":-0.58611710726200006},null,-0.15999999999999939,1,{"$error":"#N/A"}]
[-43,null,{"$f":"IFERROR(RTD(\"cqg.rtd\",,\"StudyData\", \"Correlation(\"&$B$3&\",\"&C$2&\",Period:=\"&$B$1&\",InputChoice1:=Close,InputChoice2:=Close)\", \"FG\", \"\", \"Close\",$B$2,A47, \"all\",\"\", \"\",\"True\",\"T\")/100,\"\")","v":-0.55135936108700001},null,-0.1399999999999994,3,{"$error":"#N/A"},null,{"$f":"IFERROR(RTD(\"cqg.rtd\",,\"StudyData\", \"Correlation(\"&$B$3&\",\"&I$2&\",Period:=\"&$B$1&\",InputChoice1:=Close,InputChoice2::=Close)\", \"FG\", \"\", \"Close\",$B$2,A47, \"all\",\"\", \"\",\"True\",\"T\")/100,\"\")","v":-0.61991944208500005},null,-0.1399999999999994,1,{"$error":"#N/A"},null,{"$f":"IFERROR(RTD(\"cqg.rtd\",,\"StudyData\", \"Correlation(\"&$B$3&\",\"&O$2&\",Period:=\"&$B$1&\",InputChoice1:=Close,InputChoice2::=Close)\", \"FG\", \"\", \"Close\",$B$2,A47, \"all\",\"\", \"\",\"True\",\"T\")/100,\"\")","v":-0.66802523519900003},null,-0.1399999999999994,0,{"$error":"#N/A"},null,{"$f":"IFERROR(RTD(\"cqg.rtd\",,\"StudyData\", \"Correlation(\"&$B$3&\",\"&U$2&\",Period:=\"&$B$1&\",InputChoice1:=Close,InputChoice2::=Close)\", \"FG\", \"\", \"Close\",$B$2,A47, \"all\",\"\", \"\",\"True\",\"T\")/100,\"\")","v":0.125556029451},null,-0.1399999999999994,1,{"$error":"#N/A"},null,{"$f":"IFERROR(RTD(\"cqg.rtd\",,\"StudyData\", \"Correlation(\"&$B$3&\",\"&AA$2&\",Period:=\"&$B$1&\",InputChoice1:=Close,InputChoice2::=Close)\", \"FG\", \"\", \"Close\",$B$2,A47, \"all\",\"\", \"\",\"True\",\"T\")/100,\"\")","v":-0.814505444508},null,-0.1399999999999994,1,{"$error":"#N/A"},null,{"$f":"IFERROR(RTD(\"cqg.rtd\",,\"StudyData\", \"Correlation(\"&$B$3&\",\"&AG$2&\",Period:=\"&$B$1&\",InputChoice1:=Close,InputChoice2::=Close)\", \"FG\", \"\", \"Close\",$B$2,A47, \"all\",\"\", \"\",\"True\",\"T\")/100,\"\")","v":-0.82264421095700002},null,-0.1399999999999994,3,3,null,{"$f":"IFERROR(RTD(\"cqg.rtd\",,\"StudyData\", \"Correlation(\"&$B$3&\",\"&AM$2&\",Period:=\"&$B$1&\",InputChoice1:=Close,InputChoice2::=Close)\", \"FG\", \"\", \"Close\",$B$2,A47, \"all\",\"\", \"\",\"True\",\"T\")/100,\"\")","v":-0.82410053619799994},null,-0.1399999999999994,3,{"$error":"#N/A"},null,{"$f":"IFERROR(RTD(\"cqg.rtd\",,\"StudyData\", \"Correlation(\"&$B$3&\",\"&AS$2&\",Period:=\"&$B$1&\",InputChoice1:=Close,InputChoice2::=Close)\", \"FG\", \"\", \"Close\",$B$2,A47, \"all\",\"\", \"\",\"True\",\"T\")/100,\"\")","v":-0.71050043829700005},null,-0.1399999999999994,0,{"$error":"#N/A"},null,{"$f":"IFERROR(RTD(\"cqg.rtd\",,\"StudyData\", \"Correlation(\"&$B$3&\",\"&AY$2&\",Period:=\"&$B$1&\",InputChoice1:=Close,InputChoice2::=Close)\", \"FG\", \"\", \"Close\",$B$2,A47, \"all\",\"\", \"\",\"True\",\"T\")/100,\"\")","v":0.67106722216799997},null,-0.1399999999999994,2,{"$error":"#N/A"},null,{"$f":"IFERROR(RTD(\"cqg.rtd\",,\"StudyData\", \"Correlation(\"&$B$3&\",\"&BE$2&\",Period:=\"&$B$1&\",InputChoice1:=Close,InputChoice2::=Close)\", \"FG\", \"\", \"Close\",$B$2,A47, \"all\",\"\", \"\",\"True\",\"T\")/100,\"\")","v":-0.51924020574999996},null,-0.1399999999999994,4,{"$error":"#N/A"}]
[-44,null,{"$f":"IFERROR(RTD(\"cqg.rtd\",,\"StudyData\", \"Correlation(\"&$B$3&\",\"&C$2&\",Period:=\"&$B$1&\",InputChoice1:=Close,InputChoice2:=Close)\", \"FG\", \"\", \"Close\",$B$2,A48, \"all\",\"\", \"\",\"True\",\"T\")/100,\"\")","v":-0.412422115955},null,-0.1199999999999994,0,{"$error":"#N/A"},null,{"$f":"IFERROR(RTD(\"cqg.rtd\",,\"StudyData\", \"Correlation(\"&$B$3&\",\"&I$2&\",Period:=\"&$B$1&\",InputChoice1:=Close,InputChoice2::=Close)\", \"FG\", \"\", \"Close\",$B$2,A48, \"all\",\"\", \"\",\"True\",\"T\")/100,\"\")","v":-0.50090672612600007},null,-0.1199999999999994,1,{"$error":"#N/A"},null,{"$f":"IFERROR(RTD(\"cqg.rtd\",,\"StudyData\", \"Correlation(\"&$B$3&\",\"&O$2&\",Period:=\"&$B$1&\",InputChoice1:=Close,InputChoice2::=Close)\", \"FG\", \"\", \"Close\",$B$2,A48, \"all\",\"\", \"\",\"True\",\"T\")/100,\"\")","v":-0.62292199890400002},null,-0.1199999999999994,1,{"$error":"#N/A"},null,{"$f":"IFERROR(RTD(\"cqg.rtd\",,\"StudyData\", \"Correlation(\"&$B$3&\",\"&U$2&\",Period:=\"&$B$1&\",InputChoice1:=Close,InputChoice2::=Close)\", \"FG\", \"\", \"Close\",$B$2,A48, \"all\",\"\", \"\",\"True\",\"T\")/100,\"\")","v":-6.3429714063000006E-2},null,-0.1199999999999994,1,{"$error":"#N/A"},null,{"$f":"IFERROR(RTD(\"cqg.rtd\",,\"StudyData\", \"Correlation(\"&$B$3&\",\"&AA$2&\",Period:=\"&$B$1&\",InputChoice1:=Close,InputChoice2::=Close)\", \"FG\", \"\", \"Close\",$B$2,A48, \"all\",\"\", \"\",\"True\",\"T\")/100,\"\")","v":-0.80569803867000001},null,-0.1199999999999994,0,{"$error":"#N/A"},null,{"$f":"IFERROR(RTD(\"cqg.rtd\",,\"StudyData\", \"Correlation(\"&$B$3&\",\"&AG$2&\",Period:=\"&$B$1&\",InputChoice1:=Close,InputChoice2::=Close)\", \"FG\", \"\", \"Close\",$B$2,A48, \"all\",\"\", \"\",\"True\",\"T\")/100,\"\")","v":-0.79591393331500004},null,-0.1199999999999994,2,{"$error":"#N/A"},null,{"$f":"IFERROR(RTD(\"cqg.rtd\",,\"StudyData\", \"Correlation(\"&$B$3&\",\"&AM$2&\",Period:=\"&$B$1&\",InputChoice1:=Close,InputChoice2::=Close)\", \"FG\", \"\", \"Close\",$B$2,A48, \"all\",\"\", \"\",\"True\",\"T\")/100,\"\")","v":-0.82098788649200005},null,-0.1199999999999994,1,{"$error":"#N/A"},null,{"$f":"IFERROR(RTD(\"cqg.rtd\",,\"StudyData\", \"Correlation(\"&$B$3&\",\"&AS$2&\",Period:=\"&$B$1&\",InputChoice1:=Close,InputChoice2::=Close)\", \"FG\", \"\", \"Close\",$B$2,A48, \"all\",\"\", \"\",\"True\",\"T\")/100,\"\")","v":-0.66593027514400005},null,-0.1199999999999994,0,{"$error":"#N/A"},null,{"$f":"IFERROR(RTD(\"cqg.rtd\",,\"StudyData\", \"Correlation(\"&$B$3&\",\"&AY$2&\",Period:=\"&$B$1&\",InputChoice1:=Close,InputChoice2::=Close)\", \"FG\", \"\", \"Close\",$B$2,A48, \"all\",\"\", \"\",\"True\",\"T\")/100,\"\")","v":0.64192410440900005},null,-0.1199999999999994,3,{"$error":"#N/A"},null,{"$f":"IFERROR(RTD(\"cqg.rtd\",,\"StudyData\", \"Correlation(\"&$B$3&\",\"&BE$2&\",Period:=\"&$B$1&\",InputChoice1:=Close,InputChoice2::=Close)\", \"FG\", \"\", \"Close\",$B$2,A48, \"all\",\"\", \"\",\"True\",\"T\")/100,\"\")","v":-0.45888892875999998},null,-0.1199999999999994,3,{"$error":"#N/A"}]
[-45,null,{"$f":"IFERROR(RTD(\"cqg.rtd\",,\"StudyData\", \"Correlation(\"&$B$3&\",\"&C$2&\",Period:=\"&$B$1&\",InputChoice1:=Close,InputChoice2:=Close)\", \"FG\", \"\", \"Close\",$B$2,A49, \"all\",\"\", \"\",\"True\",\"T\")/100,\"\")","v":-0.15885707609400002},null,-9.9999999999999395E-2,0,{"$error":"#N/A"},null,{"$f":"IFERROR(RTD(\"cqg.rtd\",,\"StudyData\", \"Correlation(\"&$B$3&\",\"&I$2&\",Period:=\"&$B$1&\",InputChoice1:=Close,InputChoice2::=Close)\", \"FG\", \"\", \"Close\",$B$2,A49, \"all\",\"\", \"\",\"True\",\"T\")/100,\"\")","v":-0.269054686328},null,-9.9999999999999395E-2,0,{"$error":"#N/A"},null,{"$f":"IFERROR(RTD(\"cqg.rtd\",,\"StudyData\", \"Correlation(\"&$B$3&\",\"&O$2&\",Period:=\"&$B$1&\",InputChoice1:=Close,InputChoice2::=Close)\", \"FG\", \"\", \"Close\",$B$2,A49, \"all\",\"\", \"\",\"True\",\"T\")/100,\"\")","v":-0.64568064709100004},null,-9.9999999999999395E-2,0,{"$error":"#N/A"},null,{"$f":"IFERROR(RTD(\"cqg.rtd\",,\"StudyData\", \"Correlation(\"&$B$3&\",\"&U$2&\",Period:=\"&$B$1&\",InputChoice1:=Close,InputChoice2::=Close)\", \"FG\", \"\", \"Close\",$B$2,A49, \"all\",\"\", \"\",\"True\",\"T\")/100,\"\")","v":6.0489265842000005E-2},null,-9.9999999999999395E-2,0,{"$error":"#N/A"},null,{"$f":"IFERROR(RTD(\"cqg.rtd\",,\"StudyData\", \"Correlation(\"&$B$3&\",\"&AA$2&\",Period:=\"&$B$1&\",InputChoice1:=Close,InputChoice2::=Close)\", \"FG\", \"\", \"Close\",$B$2,A49, \"all\",\"\", \"\",\"True\",\"T\")/100,\"\")","v":-0.82292309820400011},null,-9.9999999999999395E-2,1,{"$error":"#N/A"},null,{"$f":"IFERROR(RTD(\"cqg.rtd\",,\"StudyData\", \"Correlation(\"&$B$3&\",\"&AG$2&\",Period:=\"&$B$1&\",InputChoice1:=Close,InputChoice2::=Close)\", \"FG\", \"\", \"Close\",$B$2,A49, \"all\",\"\", \"\",\"True\",\"T\")/100,\"\")","v":-0.79481424696299996},null,-9.9999999999999395E-2,2,{"$error":"#N/A"},null,{"$f":"IFERROR(RTD(\"cqg.rtd\",,\"StudyData\", \"Correlation(\"&$B$3&\",\"&AM$2&\",Period:=\"&$B$1&\",InputChoice1:=Close,InputChoice2::=Close)\", \"FG\", \"\", \"Close\",$B$2,A49, \"all\",\"\", \"\",\"True\",\"T\")/100,\"\")","v":-0.84416737385600005},null,-9.9999999999999395E-2,1,{"$error":"#N/A"},null,{"$f":"IFERROR(RTD(\"cqg.rtd\",,\"StudyData\", \"Correlation(\"&$B$3&\",\"&AS$2&\",Period:=\"&$B$1&\",InputChoice1:=Close,InputChoice2::=Close)\", \"FG\", \"\", \"Close\",$B$2,A49, \"all\",\"\", \"\",\"True\",\"T\")/100,\"\")","v":-0.65451960704399992},null,-9.9999999999999395E-2,0,{"$error":"#N/A"},null,{"$f":"IFERROR(RTD(\"cqg.rtd\",,\"StudyData\", \"Correlation(\"&$B$3&\",\"&AY$2&\",Period:=\"&$B$1&\",InputChoice1:=Close,InputChoice2::=Close)\", \"FG\", \"\", \"Close\",$B$2,A49, \"all\",\"\", \"\",\"True\",\"T\")/100,\"\")","v":0.45994137408999997},null,-9.9999999999999395E-2,2,{"$error":"#N/A"},null,{"$f":"IFERROR(RTD(\"cqg.rtd\",,\"StudyData\", \"Correlation(\"&$B$3&\",\"&BE$2&\",Period:=\"&$B$1&\",InputChoice1:=Close,InputChoice2::=Close)\", \"FG\", \"\", \"Close\",$B$2,A49, \"all\",\"\", \"\",\"True\",\"T\")/100,\"\")","v":-0.38142203760100002},null,-9.9999999999999395E-2,1,{"$error":"#N/A"}]
[-46,null,{"$f":"IFERROR(RTD(\"cqg.rtd\",,\"StudyData\", \"Correlation(\"&$B$3&\",\"&C$2&\",Period:=\"&$B$1&\",InputChoice1:=Close,InputChoice2:=Close)\", \"FG\", \"\", \"Close\",$B$2,A50, \"all\",\"\", \"\",\"True\",\"T\")/100,\"\")","v":-2.9025820371000002E-2},null,-7.9999999999999391E-2,2,{"$error":"#N/A"},null,{"$f":"IFERROR(RTD(\"cqg.rtd\",,\"StudyData\", \"Correlation(\"&$B$3&\",\"&I$2&\",Period:=\"&$B$1&\",InputChoice1:=Close,InputChoice2::=Close)\", \"FG\", \"\", \"Close\",$B$2,A50, \"all\",\"\", \"\",\"True\",\"T\")/100,\"\")","v":-0.14215090574100001},null,-7.9999999999999391E-2,1,{"$error":"#N/A"},null,{"$f":"IFERROR(RTD(\"cqg.rtd\",,\"StudyData\", \"Correlation(\"&$B$3&\",\"&O$2&\",Period:=\"&$B$1&\",InputChoice1:=Close,InputChoice2::=Close)\", \"FG\", \"\", \"Close\",$B$2,A50, \"all\",\"\", \"\",\"True\",\"T\")/100,\"\")","v":-0.45789795959000001},null,-7.9999999999999391E-2,0,{"$error":"#N/A"},null,{"$f":"IFERROR(RTD(\"cqg.rtd\",,\"StudyData\", \"Correlation(\"&$B$3&\",\"&U$2&\",Period:=\"&$B$1&\",InputChoice1:=Close,InputChoice2::=Close)\", \"FG\", \"\", \"Close\",$B$2,A50, \"all\",\"\", \"\",\"True\",\"T\")/100,\"\")","v":-4.6405544632000001E-2},null,-7.9999999999999391E-2,1,{"$error":"#N/A"},null,{"$f":"IFERROR(RTD(\"cqg.rtd\",,\"StudyData\", \"Correlation(\"&$B$3&\",\"&AA$2&\",Period:=\"&$B$1&\",InputChoice1:=Close,InputChoice2::=Close)\", \"FG\", \"\", \"Close\",$B$2,A50, \"all\",\"\", \"\",\"True\",\"T\")/100,\"\")","v":-0.73033687269100001},null,-7.9999999999999391E-2,0,{"$error":"#N/A"},null,{"$f":"IFERROR(RTD(\"cqg.rtd\",,\"StudyData\", \"Correlation(\"&$B$3&\",\"&AG$2&\",Period:=\"&$B$1&\",InputChoice1:=Close,InputChoice2::=Close)\", \"FG\", \"\", \"Close\",$B$2,A50, \"all\",\"\", \"\",\"True\",\"T\")/100,\"\")","v":-0.69081423691300003},null,-7.9999999999999391E-2,0,{"$error":"#N/A"},null,{"$f":"IFERROR(RTD(\"cqg.rtd\",,\"StudyData\", \"Correlation(\"&$B$3&\",\"&AM$2&\",Period:=\"&$B$1&\",InputChoice1:=Close,InputChoice2::=Close)\", \"FG\", \"\", \"Close\",$B$2,A50, \"all\",\"\", \"\",\"True\",\"T\")/100,\"\")","v":-0.78781053027300008},null,-7.9999999999999391E-2,1,{"$error":"#N/A"},null,{"$f":"IFERROR(RTD(\"cqg.rtd\",,\"StudyData\", \"Correlation(\"&$B$3&\",\"&AS$2&\",Period:=\"&$B$1&\",InputChoice1:=Close,InputChoice2::=Close)\", \"FG\", \"\", \"Close\",$B$2,A50, \"all\",\"\", \"\",\"True\",\"T\")/100,\"\")","v":-0.44191485015499998},null,-7.9999999999999391E-2,4,{"$error":"#N/A"},null,{"$f":"IFERROR(RTD(\"cqg.rtd\",,\"StudyData\", \"Correlation(\"&$B$3&\",\"&AY$2&\",Period:=\"&$B$1&\",InputChoice1:=Close,InputChoice2::=Close)\", \"FG\", \"\", \"Close\",$B$2,A50, \"all\",\"\", \"\",\"True\",\"T\")/100,\"\")","v":0.28686382968499996},null,-7.9999999999999391E-2,1,{"$error":"#N/A"},null,{"$f":"IFERROR(RTD(\"cqg.rtd\",,\"StudyData\", \"Correlation(\"&$B$3&\",\"&BE$2&\",Period:=\"&$B$1&\",InputChoice1:=Close,InputChoice2::=Close)\", \"FG\", \"\", \"Close\",$B$2,A50, \"all\",\"\", \"\",\"True\",\"T\")/100,\"\")","v":-0.27726866083500001},null,-7.9999999999999391E-2,1,{"$error":"#N/A"}]
[-47,null,{"$f":"IFERROR(RTD(\"cqg.rtd\",,\"StudyData\", \"Correlation(\"&$B$3&\",\"&C$2&\",Period:=\"&$B$1&\",InputChoice1:=Close,InputChoice2:=Close)\", \"FG\", \"\", \"Close\",$B$2,A51, \"all\",\"\", \"\",\"True\",\"T\")/100,\"\")","v":9.3465322074999996E-2},null,-5.9999999999999387E-2,1,{"$error":"#N/A"},null,{"$f":"IFERROR(RTD(\"cqg.rtd\",,\"StudyData\", \"Correlation(\"&$B$3&\",\"&I$2&\",Period:=\"&$B$1&\",InputChoice1:=Close,InputChoice2::=Close)\", \"FG\", \"\", \"Close\",$B$2,A51, \"all\",\"\", \"\",\"True\",\"T\")/100,\"\")","v":1.2203652266E-2},null,-5.9999999999999387E-2,0,{"$error":"#N/A"},null,{"$f":"IFERROR(RTD(\"cqg.rtd\",,\"StudyData\", \"Correlation(\"&$B$3&\",\"&O$2&\",Period:=\"&$B$1&\",InputChoice1:=Close,InputChoice2::=Close)\", \"FG\", \"\", \"Close\",$B$2,A51, \"all\",\"\", \"\",\"True\",\"T\")/100,\"\")","v":-0.185251757293},null,-5.9999999999999387E-2,0,{"$error":"#N/A"},null,{"$f":"IFERROR(RTD(\"cqg.rtd\",,\"StudyData\", \"Correlation(\"&$B$3&\",\"&U$2&\",Period:=\"&$B$1&\",InputChoice1:=Close,InputChoice2::=Close)\", \"FG\", \"\", \"Close\",$B$2,A51, \"all\",\"\", \"\",\"True\",\"T\")/100,\"\")","v":-0.16211960193500002},null,-5.9999999999999387E-2,3,{"$error":"#N/A"},null,{"$f":"IFERROR(RTD(\"cqg.rtd\",,\"StudyData\", \"Correlation(\"&$B$3&\",\"&AA$2&\",Period:=\"&$B$1&\",InputChoice1:=Close,InputChoice2::=Close)\", \"FG\", \"\", \"Close\",$B$2,A51, \"all\",\"\", \"\",\"True\",\"T\")/100,\"\")","v":-0.603191382045},null,-5.9999999999999387E-2,1,{"$error":"#N/A"},null,{"$f":"IFERROR(RTD(\"cqg.rtd\",,\"StudyData\", \"Correlation(\"&$B$3&\",\"&AG$2&\",Period:=\"&$B$1&\",InputChoice1:=Close,InputChoice2::=Close)\", \"FG\", \"\", \"Close\",$B$2,A51, \"all\",\"\", \"\",\"True\",\"T\")/100,\"\")","v":-0.49076184137500001},null,-5.9999999999999387E-2,4,{"$error":"#N/A"},null,{"$f":"IFERROR(RTD(\"cqg.rtd\",,\"StudyData\", \"Correlation(\"&$B$3&\",\"&AM$2&\",Period:=\"&$B$1&\",InputChoice1:=Close,InputChoice2::=Close)\", \"FG\", \"\", \"Close\",$B$2,A51, \"all\",\"\", \"\",\"True\",\"T\")/100,\"\")","v":-0.73687541186600003},null,-5.9999999999999387E-2,1,{"$error":"#N/A"},null,{"$f":"IFERROR(RTD(\"cqg.rtd\",,\"StudyData\", \"Correlation(\"&$B$3&\",\"&AS$2&\",Period:=\"&$B$1&\",InputChoice1:=Close,InputChoice2::=Close)\", \"FG\", \"\", \"Close\",$B$2,A51, \"all\",\"\", \"\",\"True\",\"T\")/100,\"\")","v":-0.29092287263700001},null,-5.9999999999999387E-2,1,{"$error":"#N/A"},null,{"$f":"IFERROR(RTD(\"cqg.rtd\",,\"StudyData\", \"Correlation(\"&$B$3&\",\"&AY$2&\",Period:=\"&$B$1&\",InputChoice1:=Close,InputChoice2::=Close)\", \"FG\", \"\", \"Close\",$B$2,A51, \"all\",\"\", \"\",\"True\",\"T\")/100,\"\")","v":0.105080714448},null,-5.9999999999999387E-2,1,{"$error":"#N/A"},null,{"$f":"IFERROR(RTD(\"cqg.rtd\",,\"StudyData\", \"Correlation(\"&$B$3&\",\"&BE$2&\",Period:=\"&$B$1&\",InputChoice1:=Close,InputChoice2::=Close)\", \"FG\", \"\", \"Close\",$B$2,A51, \"all\",\"\", \"\",\"True\",\"T\")/100,\"\")","v":-0.31498309799500002},null,-5.9999999999999387E-2,1,{"$error":"#N/A"}]
[-48,null,{"$f":"IFERROR(RTD(\"cqg.rtd\",,\"StudyData\", \"Correlation(\"&$B$3&\",\"&C$2&\",Period:=\"&$B$1&\",InputChoice1:=Close,InputChoice2:=Close)\", \"FG\", \"\", \"Close\",$B$2,A52, \"all\",\"\", \"\",\"True\",\"T\")/100,\"\")","v":0.151858031437},null,-3.9999999999999383E-2,1,{"$error":"#N/A"},null,{"$f":"IFERROR(RTD(\"cqg.rtd\",,\"StudyData\", \"Correlation(\"&$B$3&\",\"&I$2&\",Period:=\"&$B$1&\",InputChoice1:=Close,InputChoice2::=Close)\", \"FG\", \"\", \"Close\",$B$2,A52, \"all\",\"\", \"\",\"True\",\"T\")/100,\"\")","v":0.11987503677299999},null,-3.9999999999999383E-2,1,{"$error":"#N/A"},null,{"$f":"IFERROR(RTD(\"cqg.rtd\",,\"StudyData\", \"Correlation(\"&$B$3&\",\"&O$2&\",Period:=\"&$B$1&\",InputChoice1:=Close,InputChoice2::=Close)\", \"FG\", \"\", \"Close\",$B$2,A52, \"all\",\"\", \"\",\"True\",\"T\")/100,\"\")","v":-1.0150390822E-2},null,-3.9999999999999383E-2,5,{"$error":"#N/A"},null,{"$f":"IFERROR(RTD(\"cqg.rtd\",,\"StudyData\", \"Correlation(\"&$B$3&\",\"&U$2&\",Period:=\"&$B$1&\",InputChoice1:=Close,InputChoice2::=Close)\", \"FG\", \"\", \"Close\",$B$2,A52, \"all\",\"\", \"\",\"True\",\"T\")/100,\"\")","v":-7.7383419292999994E-2},null,-3.9999999999999383E-2,4,{"$error":"#N/A"},null,{"$f":"IFERROR(RTD(\"cqg.rtd\",,\"StudyData\", \"Correlation(\"&$B$3&\",\"&AA$2&\",Period:=\"&$B$1&\",InputChoice1:=Close,InputChoice2::=Close)\", \"FG\", \"\", \"Close\",$B$2,A52, \"all\",\"\", \"\",\"True\",\"T\")/100,\"\")","v":-0.456807140748},null,-3.9999999999999383E-2,1,{"$error":"#N/A"},null,{"$f":"IFERROR(RTD(\"cqg.rtd\",,\"StudyData\", \"Correlation(\"&$B$3&\",\"&AG$2&\",Period:=\"&$B$1&\",InputChoice1:=Close,InputChoice2::=Close)\", \"FG\", \"\", \"Close\",$B$2,A52, \"all\",\"\", \"\",\"True\",\"T\")/100,\"\")","v":-0.34635199514100001},null,-3.9999999999999383E-2,1,{"$error":"#N/A"},null,{"$f":"IFERROR(RTD(\"cqg.rtd\",,\"StudyData\", \"Correlation(\"&$B$3&\",\"&AM$2&\",Period:=\"&$B$1&\",InputChoice1:=Close,InputChoice2::=Close)\", \"FG\", \"\", \"Close\",$B$2,A52, \"all\",\"\", \"\",\"True\",\"T\")/100,\"\")","v":-0.57304707616999995},null,-3.9999999999999383E-2,1,{"$error":"#N/A"},null,{"$f":"IFERROR(RTD(\"cqg.rtd\",,\"StudyData\", \"Correlation(\"&$B$3&\",\"&AS$2&\",Period:=\"&$B$1&\",InputChoice1:=Close,InputChoice2::=Close)\", \"FG\", \"\", \"Close\",$B$2,A52, \"all\",\"\", \"\",\"True\",\"T\")/100,\"\")","v":-0.21488159911400001},null,-3.9999999999999383E-2,0,{"$error":"#N/A"},null,{"$f":"IFERROR(RTD(\"cqg.rtd\",,\"StudyData\", \"Correlation(\"&$B$3&\",\"&AY$2&\",Period:=\"&$B$1&\",InputChoice1:=Close,InputChoice2::=Close)\", \"FG\", \"\", \"Close\",$B$2,A52, \"all\",\"\", \"\",\"True\",\"T\")/100,\"\")","v":0.120929686998},null,-3.9999999999999383E-2,0,{"$error":"#N/A"},null,{"$f":"IFERROR(RTD(\"cqg.rtd\",,\"StudyData\", \"Correlation(\"&$B$3&\",\"&BE$2&\",Period:=\"&$B$1&\",InputChoice1:=Close,InputChoice2::=Close)\", \"FG\", \"\", \"Close\",$B$2,A52, \"all\",\"\", \"\",\"True\",\"T\")/100,\"\")","v":-0.25167530041199998},null,-3.9999999999999383E-2,0,{"$error":"#N/A"}]
[-49,null,{"$f":"IFERROR(RTD(\"cqg.rtd\",,\"StudyData\", \"Correlation(\"&$B$3&\",\"&C$2&\",Period:=\"&$B$1&\",InputChoice1:=Close,InputChoice2:=Close)\", \"FG\", \"\", \"Close\",$B$2,A53, \"all\",\"\", \"\",\"True\",\"T\")/100,\"\")","v":0.209364455501},null,-1.9999999999999383E-2,4,{"$error":"#N/A"},null,{"$f":"IFERROR(RTD(\"cqg.rtd\",,\"StudyData\", \"Correlation(\"&$B$3&\",\"&I$2&\",Period:=\"&$B$1&\",InputChoice1:=Close,InputChoice2::=Close)\", \"FG\", \"\", \"Close\",$B$2,A53, \"all\",\"\", \"\",\"True\",\"T\")/100,\"\")","v":0.184563739856},null,-1.9999999999999383E-2,2,{"$error":"#N/A"},null,{"$f":"IFERROR(RTD(\"cqg.rtd\",,\"StudyData\", \"Correlation(\"&$B$3&\",\"&O$2&\",Period:=\"&$B$1&\",InputChoice1:=Close,InputChoice2::=Close)\", \"FG\", \"\", \"Close\",$B$2,A53, \"all\",\"\", \"\",\"True\",\"T\")/100,\"\")","v":8.5539759243000002E-2},null,-1.9999999999999383E-2,0,{"$error":"#N/A"},null,{"$f":"IFERROR(RTD(\"cqg.rtd\",,\"StudyData\", \"Correlation(\"&$B$3&\",\"&U$2&\",Period:=\"&$B$1&\",InputChoice1:=Close,InputChoice2::=Close)\", \"FG\", \"\", \"Close\",$B$2,A53, \"all\",\"\", \"\",\"True\",\"T\")/100,\"\")","v":-0.31261490074299997},null,-1.9999999999999383E-2,1,{"$error":"#N/A"},null,{"$f":"IFERROR(RTD(\"cqg.rtd\",,\"StudyData\", \"Correlation(\"&$B$3&\",\"&AA$2&\",Period:=\"&$B$1&\",InputChoice1:=Close,InputChoice2::=Close)\", \"FG\", \"\", \"Close\",$B$2,A53, \"all\",\"\", \"\",\"True\",\"T\")/100,\"\")","v":-0.49440586639299999},null,-1.9999999999999383E-2,0,{"$error":"#N/A"},null,{"$f":"IFERROR(RTD(\"cqg.rtd\",,\"StudyData\", \"Correlation(\"&$B$3&\",\"&AG$2&\",Period:=\"&$B$1&\",InputChoice1:=Close,InputChoice2::=Close)\", \"FG\", \"\", \"Close\",$B$2,A53, \"all\",\"\", \"\",\"True\",\"T\")/100,\"\")","v":-0.44692101034700005},null,-1.9999999999999383E-2,2,{"$error":"#N/A"},null,{"$f":"IFERROR(RTD(\"cqg.rtd\",,\"StudyData\", \"Correlation(\"&$B$3&\",\"&AM$2&\",Period:=\"&$B$1&\",InputChoice1:=Close,InputChoice2::=Close)\", \"FG\", \"\", \"Close\",$B$2,A53, \"all\",\"\", \"\",\"True\",\"T\")/100,\"\")","v":-0.61860024246899992},null,-1.9999999999999383E-2,0,{"$error":"#N/A"},null,{"$f":"IFERROR(RTD(\"cqg.rtd\",,\"StudyData\", \"Correlation(\"&$B$3&\",\"&AS$2&\",Period:=\"&$B$1&\",InputChoice1:=Close,InputChoice2::=Close)\", \"FG\", \"\", \"Close\",$B$2,A53, \"all\",\"\", \"\",\"True\",\"T\")/100,\"\")","v":-0.16139720256199999},null,-1.9999999999999383E-2,4,{"$error":"#N/A"},null,{"$f":"IFERROR(RTD(\"cqg.rtd\",,\"StudyData\", \"Correlation(\"&$B$3&\",\"&AY$2&\",Period:=\"&$B$1&\",InputChoice1:=Close,InputChoice2::=Close)\", \"FG\", \"\", \"Close\",$B$2,A53, \"all\",\"\", \"\",\"True\",\"T\")/100,\"\")","v":0.110202875265},null,-1.9999999999999383E-2,4,{"$error":"#N/A"},null,{"$f":"IFERROR(RTD(\"cqg.rtd\",,\"StudyData\", \"Correlation(\"&$B$3&\",\"&BE$2&\",Period:=\"&$B$1&\",InputChoice1:=Close,InputChoice2::=Close)\", \"FG\", \"\", \"Close\",$B$2,A53, \"all\",\"\", \"\",\"True\",\"T\")/100,\"\")","v":-0.14762220049800001},null,-1.9999999999999383E-2,1,{"$error":"#N/A"}]
[-50,null,{"$f":"IFERROR(RTD(\"cqg.rtd\",,\"StudyData\", \"Correlation(\"&$B$3&\",\"&C$2&\",Period:=\"&$B$1&\",InputChoice1:=Close,InputChoice2:=Close)\", \"FG\", \"\", \"Close\",$B$2,A54, \"all\",\"\", \"\",\"True\",\"T\")/100,\"\")","v":0.24728501657999999},null,6.1756155744774333E-16,2,{"$error":"#N/A"},null,{"$f":"IFERROR(RTD(\"cqg.rtd\",,\"StudyData\", \"Correlation(\"&$B$3&\",\"&I$2&\",Period:=\"&$B$1&\",InputChoice1:=Close,InputChoice2::=Close)\", \"FG\", \"\", \"Close\",$B$2,A54, \"all\",\"\", \"\",\"True\",\"T\")/100,\"\")","v":0.22846872355299999},null,6.1756155744774333E-16,1,{"$error":"#N/A"},null,{"$f":"IFERROR(RTD(\"cqg.rtd\",,\"StudyData\", \"Correlation(\"&$B$3&\",\"&O$2&\",Period:=\"&$B$1&\",InputChoice1:=Close,InputChoice2::=Close)\", \"FG\", \"\", \"Close\",$B$2,A54, \"all\",\"\", \"\",\"True\",\"T\")/100,\"\")","v":0.25336850963700003},null,6.1756155744774333E-16,1,{"$error":"#N/A"},null,{"$f":"IFERROR(RTD(\"cqg.rtd\",,\"StudyData\", \"Correlation(\"&$B$3&\",\"&U$2&\",Period:=\"&$B$1&\",InputChoice1:=Close,InputChoice2::=Close)\", \"FG\", \"\", \"Close\",$B$2,A54, \"all\",\"\", \"\",\"True\",\"T\")/100,\"\")","v":-0.36876502651699999},null,6.1756155744774333E-16,3,{"$error":"#N/A"},null,{"$f":"IFERROR(RTD(\"cqg.rtd\",,\"StudyData\", \"Correlation(\"&$B$3&\",\"&AA$2&\",Period:=\"&$B$1&\",InputChoice1:=Close,InputChoice2::=Close)\", \"FG\", \"\", \"Close\",$B$2,A54, \"all\",\"\", \"\",\"True\",\"T\")/100,\"\")","v":-0.45989964150200002},null,6.1756155744774333E-16,2,{"$error":"#N/A"},null,{"$f":"IFERROR(RTD(\"cqg.rtd\",,\"StudyData\", \"Correlation(\"&$B$3&\",\"&AG$2&\",Period:=\"&$B$1&\",InputChoice1:=Close,InputChoice2::=Close)\", \"FG\", \"\", \"Close\",$B$2,A54, \"all\",\"\", \"\",\"True\",\"T\")/100,\"\")","v":-0.46757777021400004},null,6.1756155744774333E-16,2,{"$error":"#N/A"},null,{"$f":"IFERROR(RTD(\"cqg.rtd\",,\"StudyData\", \"Correlation(\"&$B$3&\",\"&AM$2&\",Period:=\"&$B$1&\",InputChoice1:=Close,InputChoice2::=Close)\", \"FG\", \"\", \"Close\",$B$2,A54, \"all\",\"\", \"\",\"True\",\"T\")/100,\"\")","v":-0.63873944015299999},null,6.1756155744774333E-16,3,{"$error":"#N/A"},null,{"$f":"IFERROR(RTD(\"cqg.rtd\",,\"StudyData\", \"Correlation(\"&$B$3&\",\"&AS$2&\",Period:=\"&$B$1&\",InputChoice1:=Close,InputChoice2::=Close)\", \"FG\", \"\", \"Close\",$B$2,A54, \"all\",\"\", \"\",\"True\",\"T\")/100,\"\")","v":-3.6874882038000004E-2},null,6.1756155744774333E-16,2,{"$error":"#N/A"},null,{"$f":"IFERROR(RTD(\"cqg.rtd\",,\"StudyData\", \"Correlation(\"&$B$3&\",\"&AY$2&\",Period:=\"&$B$1&\",InputChoice1:=Close,InputChoice2::=Close)\", \"FG\", \"\", \"Close\",$B$2,A54, \"all\",\"\", \"\",\"True\",\"T\")/100,\"\")","v":-3.1068729980000001E-2},null,6.1756155744774333E-16,3,{"$error":"#N/A"},null,{"$f":"IFERROR(RTD(\"cqg.rtd\",,\"StudyData\", \"Correlation(\"&$B$3&\",\"&BE$2&\",Period:=\"&$B$1&\",InputChoice1:=Close,InputChoice2::=Close)\", \"FG\", \"\", \"Close\",$B$2,A54, \"all\",\"\", \"\",\"True\",\"T\")/100,\"\")","v":-0.13866429636399999},null,6.1756155744774333E-16,3,{"$error":"#N/A"}]
[-51,null,{"$f":"IFERROR(RTD(\"cqg.rtd\",,\"StudyData\", \"Correlation(\"&$B$3&\",\"&C$2&\",Period:=\"&$B$1&\",InputChoice1:=Close,InputChoice2:=Close)\", \"FG\", \"\", \"Close\",$B$2,A55, \"all\",\"\", \"\",\"True\",\"T\")/100,\"\")","v":0.23222038189900002},null,2.0000000000000618E-2,1,{"$error":"#N/A"},null,{"$f":"IFERROR(RTD(\"cqg.rtd\",,\"StudyData\", \"Correlation(\"&$B$3&\",\"&I$2&\",Period:=\"&$B$1&\",InputChoice1:=Close,InputChoice2::=Close)\", \"FG\", \"\", \"Close\",$B$2,A55, \"all\",\"\", \"\",\"True\",\"T\")/100,\"\")","v":0.21004851787700002},null,2.0000000000000618E-2,2,{"$error":"#N/A"},null,{"$f":"IFERROR(RTD(\"cqg.rtd\",,\"StudyData\", \"Correlation(\"&$B$3&\",\"&O$2&\",Period:=\"&$B$1&\",InputChoice1:=Close,InputChoice2::=Close)\", \"FG\", \"\", \"Close\",$B$2,A55, \"all\",\"\", \"\",\"True\",\"T\")/100,\"\")","v":0.30689577146800001},null,2.0000000000000618E-2,0,{"$error":"#N/A"},null,{"$f":"IFERROR(RTD(\"cqg.rtd\",,\"StudyData\", \"Correlation(\"&$B$3&\",\"&U$2&\",Period:=\"&$B$1&\",InputChoice1:=Close,InputChoice2::=Close)\", \"FG\", \"\", \"Close\",$B$2,A55, \"all\",\"\", \"\",\"True\",\"T\")/100,\"\")","v":-0.39456710300700004},null,2.0000000000000618E-2,1,{"$error":"#N/A"},null,{"$f":"IFERROR(RTD(\"cqg.rtd\",,\"StudyData\", \"Correlation(\"&$B$3&\",\"&AA$2&\",Period:=\"&$B$1&\",InputChoice1:=Close,InputChoice2::=Close)\", \"FG\", \"\", \"Close\",$B$2,A55, \"all\",\"\", \"\",\"True\",\"T\")/100,\"\")","v":-0.56591006237700003},null,2.0000000000000618E-2,1,{"$error":"#N/A"},null,{"$f":"IFERROR(RTD(\"cqg.rtd\",,\"StudyData\", \"Correlation(\"&$B$3&\",\"&AG$2&\",Period:=\"&$B$1&\",InputChoice1:=Close,InputChoice2::=Close)\", \"FG\", \"\", \"Close\",$B$2,A55, \"all\",\"\", \"\",\"True\",\"T\")/100,\"\")","v":-0.51695019674499998},null,2.0000000000000618E-2,1,{"$error":"#N/A"},null,{"$f":"IFERROR(RTD(\"cqg.rtd\",,\"StudyData\", \"Correlation(\"&$B$3&\",\"&AM$2&\",Period:=\"&$B$1&\",InputChoice1:=Close,InputChoice2::=Close)\", \"FG\", \"\", \"Close\",$B$2,A55, \"all\",\"\", \"\",\"True\",\"T\")/100,\"\")","v":-0.69181708934899999},null,2.0000000000000618E-2,3,{"$error":"#N/A"},null,{"$f":"IFERROR(RTD(\"cqg.rtd\",,\"StudyData\", \"Correlation(\"&$B$3&\",\"&AS$2&\",Period:=\"&$B$1&\",InputChoice1:=Close,InputChoice2::=Close)\", \"FG\", \"\", \"Close\",$B$2,A55, \"all\",\"\", \"\",\"True\",\"T\")/100,\"\")","v":-3.3156516754999997E-2},null,2.0000000000000618E-2,1,{"$error":"#N/A"},null,{"$f":"IFERROR(RTD(\"cqg.rtd\",,\"StudyData\", \"Correlation(\"&$B$3&\",\"&AY$2&\",Period:=\"&$B$1&\",InputChoice1:=Close,InputChoice2::=Close)\", \"FG\", \"\", \"Close\",$B$2,A55, \"all\",\"\", \"\",\"True\",\"T\")/100,\"\")","v":-2.1486509754999997E-2},null,2.0000000000000618E-2,3,{"$error":"#N/A"},null,{"$f":"IFERROR(RTD(\"cqg.rtd\",,\"StudyData\", \"Correlation(\"&$B$3&\",\"&BE$2&\",Period:=\"&$B$1&\",InputChoice1:=Close,InputChoice2::=Close)\", \"FG\", \"\", \"Close\",$B$2,A55, \"all\",\"\", \"\",\"True\",\"T\")/100,\"\")","v":0.23145726695299998},null,2.0000000000000618E-2,3,{"$error":"#N/A"}]
[-52,null,{"$f":"IFERROR(RTD(\"cqg.rtd\",,\"StudyData\", \"Correlation(\"&$B$3&\",\"&C$2&\",Period:=\"&$B$1&\",InputChoice1:=Close,InputChoice2:=Close)\", \"FG\", \"\", \"Close\",$B$2,A56, \"all\",\"\", \"\",\"True\",\"T\")/100,\"\")","v":0.18325034669499998},null,4.0000000000000618E-2,1,{"$error":"#N/A"},null,{"$f":"IFERROR(RTD(\"cqg.rtd\",,\"StudyData\", \"Correlation(\"&$B$3&\",\"&I$2&\",Period:=\"&$B$1&\",InputChoice1:=Close,InputChoice2::=Close)\", \"FG\", \"\", \"Close\",$B$2,A56, \"all\",\"\", \"\",\"True\",\"T\")/100,\"\")","v":0.157026244373},null,4.0000000000000618E-2,0,{"$error":"#N/A"},null,{"$f":"IFERROR(RTD(\"cqg.rtd\",,\"StudyData\", \"Correlation(\"&$B$3&\",\"&O$2&\",Period:=\"&$B$1&\",InputChoice1:=Close,InputChoice2::=Close)\", \"FG\", \"\", \"Close\",$B$2,A56, \"all\",\"\", \"\",\"True\",\"T\")/100,\"\")","v":0.31245744951799997},null,4.0000000000000618E-2,0,{"$error":"#N/A"},null,{"$f":"IFERROR(RTD(\"cqg.rtd\",,\"StudyData\", \"Correlation(\"&$B$3&\",\"&U$2&\",Period:=\"&$B$1&\",InputChoice1:=Close,InputChoice2::=Close)\", \"FG\", \"\", \"Close\",$B$2,A56, \"all\",\"\", \"\",\"True\",\"T\")/100,\"\")","v":-0.43491304208699999},null,4.0000000000000618E-2,3,{"$error":"#N/A"},null,{"$f":"IFERROR(RTD(\"cqg.rtd\",,\"StudyData\", \"Correlation(\"&$B$3&\",\"&AA$2&\",Period:=\"&$B$1&\",InputChoice1:=Close,InputChoice2::=Close)\", \"FG\", \"\", \"Close\",$B$2,A56, \"all\",\"\", \"\",\"True\",\"T\")/100,\"\")","v":-0.58482289953400002},null,4.0000000000000618E-2,1,{"$error":"#N/A"},null,{"$f":"IFERROR(RTD(\"cqg.rtd\",,\"StudyData\", \"Correlation(\"&$B$3&\",\"&AG$2&\",Period:=\"&$B$1&\",InputChoice1:=Close,InputChoice2::=Close)\", \"FG\", \"\", \"Close\",$B$2,A56, \"all\",\"\", \"\",\"True\",\"T\")/100,\"\")","v":-0.52972074395400004},null,4.0000000000000618E-2,0,{"$error":"#N/A"},null,{"$f":"IFERROR(RTD(\"cqg.rtd\",,\"StudyData\", \"Correlation(\"&$B$3&\",\"&AM$2&\",Period:=\"&$B$1&\",InputChoice1:=Close,InputChoice2::=Close)\", \"FG\", \"\", \"Close\",$B$2,A56, \"all\",\"\", \"\",\"True\",\"T\")/100,\"\")","v":-0.66803609054400004},null,4.0000000000000618E-2,2,{"$error":"#N/A"},null,{"$f":"IFERROR(RTD(\"cqg.rtd\",,\"StudyData\", \"Correlation(\"&$B$3&\",\"&AS$2&\",Period:=\"&$B$1&\",InputChoice1:=Close,InputChoice2::=Close)\", \"FG\", \"\", \"Close\",$B$2,A56, \"all\",\"\", \"\",\"True\",\"T\")/100,\"\")","v":-8.7160403876999998E-2},null,4.0000000000000618E-2,3,{"$error":"#N/A"},null,{"$f":"IFERROR(RTD(\"cqg.rtd\",,\"StudyData\", \"Correlation(\"&$B$3&\",\"&AY$2&\",Period:=\"&$B$1&\",InputChoice1:=Close,InputChoice2::=Close)\", \"FG\", \"\", \"Close\",$B$2,A56, \"all\",\"\", \"\",\"True\",\"T\")/100,\"\")","v":2.0919656279000002E-2},null,4.0000000000000618E-2,1,{"$error":"#N/A"},null,{"$f":"IFERROR(RTD(\"cqg.rtd\",,\"StudyData\", \"Correlation(\"&$B$3&\",\"&BE$2&\",Period:=\"&$B$1&\",InputChoice1:=Close,InputChoice2::=Close)\", \"FG\", \"\", \"Close\",$B$2,A56, \"all\",\"\", \"\",\"True\",\"T\")/100,\"\")","v":0.32809992269900001},null,4.0000000000000618E-2,1,{"$error":"#N/A"}]
[-53,null,{"$f":"IFERROR(RTD(\"cqg.rtd\",,\"StudyData\", \"Correlation(\"&$B$3&\",\"&C$2&\",Period:=\"&$B$1&\",InputChoice1:=Close,InputChoice2:=Close)\", \"FG\", \"\", \"Close\",$B$2,A57, \"all\",\"\", \"\",\"True\",\"T\")/100,\"\")","v":0.169445508366},null,6.0000000000000622E-2,2,{"$error":"#N/A"},null,{"$f":"IFERROR(RTD(\"cqg.rtd\",,\"StudyData\", \"Correlation(\"&$B$3&\",\"&I$2&\",Period:=\"&$B$1&\",InputChoice1:=Close,InputChoice2::=Close)\", \"FG\", \"\", \"Close\",$B$2,A57, \"all\",\"\", \"\",\"True\",\"T\")/100,\"\")","v":0.153212811793},null,6.0000000000000622E-2,0,{"$error":"#N/A"},null,{"$f":"IFERROR(RTD(\"cqg.rtd\",,\"StudyData\", \"Correlation(\"&$B$3&\",\"&O$2&\",Period:=\"&$B$1&\",InputChoice1:=Close,InputChoice2::=Close)\", \"FG\", \"\", \"Close\",$B$2,A57, \"all\",\"\", \"\",\"True\",\"T\")/100,\"\")","v":0.24397604376099999},null,6.0000000000000622E-2,0,{"$error":"#N/A"},null,{"$f":"IFERROR(RTD(\"cqg.rtd\",,\"StudyData\", \"Correlation(\"&$B$3&\",\"&U$2&\",Period:=\"&$B$1&\",InputChoice1:=Close,InputChoice2::=Close)\", \"FG\", \"\", \"Close\",$B$2,A57, \"all\",\"\", \"\",\"True\",\"T\")/100,\"\")","v":-0.336344838102},null,6.0000000000000622E-2,1,{"$error":"#N/A"},null,{"$f":"IFERROR(RTD(\"cqg.rtd\",,\"StudyData\", \"Correlation(\"&$B$3&\",\"&AA$2&\",Period:=\"&$B$1&\",InputChoice1:=Close,InputChoice2::=Close)\", \"FG\", \"\", \"Close\",$B$2,A57, \"all\",\"\", \"\",\"True\",\"T\")/100,\"\")","v":-0.61923274773499992},null,6.0000000000000622E-2,0,{"$error":"#N/A"},null,{"$f":"IFERROR(RTD(\"cqg.rtd\",,\"StudyData\", \"Correlation(\"&$B$3&\",\"&AG$2&\",Period:=\"&$B$1&\",InputChoice1:=Close,InputChoice2::=Close)\", \"FG\", \"\", \"Close\",$B$2,A57, \"all\",\"\", \"\",\"True\",\"T\")/100,\"\")","v":-0.57089880095400003},null,6.0000000000000622E-2,1,{"$error":"#N/A"},null,{"$f":"IFERROR(RTD(\"cqg.rtd\",,\"StudyData\", \"Correlation(\"&$B$3&\",\"&AM$2&\",Period:=\"&$B$1&\",InputChoice1:=Close,InputChoice2::=Close)\", \"FG\", \"\", \"Close\",$B$2,A57, \"all\",\"\", \"\",\"True\",\"T\")/100,\"\")","v":-0.68640914848500001},null,6.0000000000000622E-2,0,{"$error":"#N/A"},null,{"$f":"IFERROR(RTD(\"cqg.rtd\",,\"StudyData\", \"Correlation(\"&$B$3&\",\"&AS$2&\",Period:=\"&$B$1&\",InputChoice1:=Close,InputChoice2::=Close)\", \"FG\", \"\", \"Close\",$B$2,A57, \"all\",\"\", \"\",\"True\",\"T\")/100,\"\")","v":-2.0168157554000001E-2},null,6.0000000000000622E-2,1,{"$error":"#N/A"},null,{"$f":"IFERROR(RTD(\"cqg.rtd\",,\"StudyData\", \"Correlation(\"&$B$3&\",\"&AY$2&\",Period:=\"&$B$1&\",InputChoice1:=Close,InputChoice2::=Close)\", \"FG\", \"\", \"Close\",$B$2,A57, \"all\",\"\", \"\",\"True\",\"T\")/100,\"\")","v":-1.9627548187999999E-2},null,6.0000000000000622E-2,0,{"$error":"#N/A"},null,{"$f":"IFERROR(RTD(\"cqg.rtd\",,\"StudyData\", \"Correlation(\"&$B$3&\",\"&BE$2&\",Period:=\"&$B$1&\",InputChoice1:=Close,InputChoice2::=Close)\", \"FG\", \"\", \"Close\",$B$2,A57, \"all\",\"\", \"\",\"True\",\"T\")/100,\"\")","v":0.37992185348900004},null,6.0000000000000622E-2,1,{"$error":"#N/A"}]
[-54,null,{"$f":"IFERROR(RTD(\"cqg.rtd\",,\"StudyData\", \"Correlation(\"&$B$3&\",\"&C$2&\",Period:=\"&$B$1&\",InputChoice1:=Close,InputChoice2:=Close)\", \"FG\", \"\", \"Close\",$B$2,A58, \"all\",\"\", \"\",\"True\",\"T\")/100,\"\")","v":0.21272603636100001},null,8.0000000000000626E-2,2,{"$error":"#N/A"},null,{"$f":"IFERROR(RTD(\"cqg.rtd\",,\"StudyData\", \"Correlation(\"&$B$3&\",\"&I$2&\",Period:=\"&$B$1&\",InputChoice1:=Close,InputChoice2::=Close)\", \"FG\", \"\", \"Close\",$B$2,A58, \"all\",\"\", \"\",\"True\",\"T\")/100,\"\")","v":0.216281760277},null,8.0000000000000626E-2,0,{"$error":"#N/A"},null,{"$f":"IFERROR(RTD(\"cqg.rtd\",,\"StudyData\", \"Correlation(\"&$B$3&\",\"&O$2&\",Period:=\"&$B$1&\",InputChoice1:=Close,InputChoice2::=Close)\", \"FG\", \"\", \"Close\",$B$2,A58, \"all\",\"\", \"\",\"True\",\"T\")/100,\"\")","v":0.23268366010000002},null,8.0000000000000626E-2,1,{"$error":"#N/A"},null,{"$f":"IFERROR(RTD(\"cqg.rtd\",,\"StudyData\", \"Correlation(\"&$B$3&\",\"&U$2&\",Period:=\"&$B$1&\",InputChoice1:=Close,InputChoice2::=Close)\", \"FG\", \"\", \"Close\",$B$2,A58, \"all\",\"\", \"\",\"True\",\"T\")/100,\"\")","v":-0.298794335937},null,8.0000000000000626E-2,2,{"$error":"#N/A"},null,{"$f":"IFERROR(RTD(\"cqg.rtd\",,\"StudyData\", \"Correlation(\"&$B$3&\",\"&AA$2&\",Period:=\"&$B$1&\",InputChoice1:=Close,InputChoice2::=Close)\", \"FG\", \"\", \"Close\",$B$2,A58, \"all\",\"\", \"\",\"True\",\"T\")/100,\"\")","v":-0.54488030925700004},null,8.0000000000000626E-2,1,{"$error":"#N/A"},null,{"$f":"IFERROR(RTD(\"cqg.rtd\",,\"StudyData\", \"Correlation(\"&$B$3&\",\"&AG$2&\",Period:=\"&$B$1&\",InputChoice1:=Close,InputChoice2::=Close)\", \"FG\", \"\", \"Close\",$B$2,A58, \"all\",\"\", \"\",\"True\",\"T\")/100,\"\")","v":-0.50198619925800003},null,8.0000000000000626E-2,1,{"$error":"#N/A"},null,{"$f":"IFERROR(RTD(\"cqg.rtd\",,\"StudyData\", \"Correlation(\"&$B$3&\",\"&AM$2&\",Period:=\"&$B$1&\",InputChoice1:=Close,InputChoice2::=Close)\", \"FG\", \"\", \"Close\",$B$2,A58, \"all\",\"\", \"\",\"True\",\"T\")/100,\"\")","v":-0.61441946312499995},null,8.0000000000000626E-2,1,{"$error":"#N/A"},null,{"$f":"IFERROR(RTD(\"cqg.rtd\",,\"StudyData\", \"Correlation(\"&$B$3&\",\"&AS$2&\",Period:=\"&$B$1&\",InputChoice1:=Close,InputChoice2::=Close)\", \"FG\", \"\", \"Close\",$B$2,A58, \"all\",\"\", \"\",\"True\",\"T\")/100,\"\")","v":-8.8910172597999992E-2},null,8.0000000000000626E-2,0,{"$error":"#N/A"},null,{"$f":"IFERROR(RTD(\"cqg.rtd\",,\"StudyData\", \"Correlation(\"&$B$3&\",\"&AY$2&\",Period:=\"&$B$1&\",InputChoice1:=Close,InputChoice2::=Close)\", \"FG\", \"\", \"Close\",$B$2,A58, \"all\",\"\", \"\",\"True\",\"T\")/100,\"\")","v":-0.108957310956},null,8.0000000000000626E-2,1,{"$error":"#N/A"},null,{"$f":"IFERROR(RTD(\"cqg.rtd\",,\"StudyData\", \"Correlation(\"&$B$3&\",\"&BE$2&\",Period:=\"&$B$1&\",InputChoice1:=Close,InputChoice2::=Close)\", \"FG\", \"\", \"Close\",$B$2,A58, \"all\",\"\", \"\",\"True\",\"T\")/100,\"\")","v":0.39385393165300003},null,8.0000000000000626E-2,2,{"$error":"#N/A"}]
[-55,null,{"$f":"IFERROR(RTD(\"cqg.rtd\",,\"StudyData\", \"Correlation(\"&$B$3&\",\"&C$2&\",Period:=\"&$B$1&\",InputChoice1:=Close,InputChoice2:=Close)\", \"FG\", \"\", \"Close\",$B$2,A59, \"all\",\"\", \"\",\"True\",\"T\")/100,\"\")","v":0.32020253760700002},null,0.10000000000000063,1,{"$error":"#N/A"},null,{"$f":"IFERROR(RTD(\"cqg.rtd\",,\"StudyData\", \"Correlation(\"&$B$3&\",\"&I$2&\",Period:=\"&$B$1&\",InputChoice1:=Close,InputChoice2::=Close)\", \"FG\", \"\", \"Close\",$B$2,A59, \"all\",\"\", \"\",\"True\",\"T\")/100,\"\")","v":0.33945495371200002},null,0.10000000000000063,1,{"$error":"#N/A"},null,{"$f":"IFERROR(RTD(\"cqg.rtd\",,\"StudyData\", \"Correlation(\"&$B$3&\",\"&O$2&\",Period:=\"&$B$1&\",InputChoice1:=Close,InputChoice2::=Close)\", \"FG\", \"\", \"Close\",$B$2,A59, \"all\",\"\", \"\",\"True\",\"T\")/100,\"\")","v":0.29523996326399998},null,0.10000000000000063,1,{"$error":"#N/A"},null,{"$f":"IFERROR(RTD(\"cqg.rtd\",,\"StudyData\", \"Correlation(\"&$B$3&\",\"&U$2&\",Period:=\"&$B$1&\",InputChoice1:=Close,InputChoice2::=Close)\", \"FG\", \"\", \"Close\",$B$2,A59, \"all\",\"\", \"\",\"True\",\"T\")/100,\"\")","v":-0.38765299876800002},null,0.10000000000000063,2,{"$error":"#N/A"},null,{"$f":"IFERROR(RTD(\"cqg.rtd\",,\"StudyData\", \"Correlation(\"&$B$3&\",\"&AA$2&\",Period:=\"&$B$1&\",InputChoice1:=Close,InputChoice2::=Close)\", \"FG\", \"\", \"Close\",$B$2,A59, \"all\",\"\", \"\",\"True\",\"T\")/100,\"\")","v":-0.38939710825099999},null,0.10000000000000063,2,{"$error":"#N/A"},null,{"$f":"IFERROR(RTD(\"cqg.rtd\",,\"StudyData\", \"Correlation(\"&$B$3&\",\"&AG$2&\",Period:=\"&$B$1&\",InputChoice1:=Close,InputChoice2::=Close)\", \"FG\", \"\", \"Close\",$B$2,A59, \"all\",\"\", \"\",\"True\",\"T\")/100,\"\")","v":-0.30221662638000002},null,0.10000000000000063,0,{"$error":"#N/A"},null,{"$f":"IFERROR(RTD(\"cqg.rtd\",,\"StudyData\", \"Correlation(\"&$B$3&\",\"&AM$2&\",Period:=\"&$B$1&\",InputChoice1:=Close,InputChoice2::=Close)\", \"FG\", \"\", \"Close\",$B$2,A59, \"all\",\"\", \"\",\"True\",\"T\")/100,\"\")","v":-0.44702794596500001},null,0.10000000000000063,2,{"$error":"#N/A"},null,{"$f":"IFERROR(RTD(\"cqg.rtd\",,\"StudyData\", \"Correlation(\"&$B$3&\",\"&AS$2&\",Period:=\"&$B$1&\",InputChoice1:=Close,InputChoice2::=Close)\", \"FG\", \"\", \"Close\",$B$2,A59, \"all\",\"\", \"\",\"True\",\"T\")/100,\"\")","v":5.4642290890999999E-2},null,0.10000000000000063,2,{"$error":"#N/A"},null,{"$f":"IFERROR(RTD(\"cqg.rtd\",,\"StudyData\", \"Correlation(\"&$B$3&\",\"&AY$2&\",Period:=\"&$B$1&\",InputChoice1:=Close,InputChoice2::=Close)\", \"FG\", \"\", \"Close\",$B$2,A59, \"all\",\"\", \"\",\"True\",\"T\")/100,\"\")","v":-0.27240373228100001},null,0.10000000000000063,3,{"$error":"#N/A"},null,{"$f":"IFERROR(RTD(\"cqg.rtd\",,\"StudyData\", \"Correlation(\"&$B$3&\",\"&BE$2&\",Period:=\"&$B$1&\",InputChoice1:=Close,InputChoice2::=Close)\", \"FG\", \"\", \"Close\",$B$2,A59, \"all\",\"\", \"\",\"True\",\"T\")/100,\"\")","v":0.45062279078299999},null,0.10000000000000063,0,{"$error":"#N/A"}]
[-56,null,{"$f":"IFERROR(RTD(\"cqg.rtd\",,\"StudyData\", \"Correlation(\"&$B$3&\",\"&C$2&\",Period:=\"&$B$1&\",InputChoice1:=Close,InputChoice2:=Close)\", \"FG\", \"\", \"Close\",$B$2,A60, \"all\",\"\", \"\",\"True\",\"T\")/100,\"\")","v":0.33958167816099999},null,0.12000000000000063,1,{"$error":"#N/A"},null,{"$f":"IFERROR(RTD(\"cqg.rtd\",,\"StudyData\", \"Correlation(\"&$B$3&\",\"&I$2&\",Period:=\"&$B$1&\",InputChoice1:=Close,InputChoice2::=Close)\", \"FG\", \"\", \"Close\",$B$2,A60, \"all\",\"\", \"\",\"True\",\"T\")/100,\"\")","v":0.37760754892199999},null,0.12000000000000063,1,{"$error":"#N/A"},null,{"$f":"IFERROR(RTD(\"cqg.rtd\",,\"StudyData\", \"Correlation(\"&$B$3&\",\"&O$2&\",Period:=\"&$B$1&\",InputChoice1:=Close,InputChoice2::=Close)\", \"FG\", \"\", \"Close\",$B$2,A60, \"all\",\"\", \"\",\"True\",\"T\")/100,\"\")","v":0.38126439184699995},null,0.12000000000000063,1,{"$error":"#N/A"},null,{"$f":"IFERROR(RTD(\"cqg.rtd\",,\"StudyData\", \"Correlation(\"&$B$3&\",\"&U$2&\",Period:=\"&$B$1&\",InputChoice1:=Close,InputChoice2::=Close)\", \"FG\", \"\", \"Close\",$B$2,A60, \"all\",\"\", \"\",\"True\",\"T\")/100,\"\")","v":-0.56536579527700004},null,0.12000000000000063,1,{"$error":"#N/A"},null,{"$f":"IFERROR(RTD(\"cqg.rtd\",,\"StudyData\", \"Correlation(\"&$B$3&\",\"&AA$2&\",Period:=\"&$B$1&\",InputChoice1:=Close,InputChoice2::=Close)\", \"FG\", \"\", \"Close\",$B$2,A60, \"all\",\"\", \"\",\"True\",\"T\")/100,\"\")","v":-0.16435818752300002},null,0.12000000000000063,1,{"$error":"#N/A"},null,{"$f":"IFERROR(RTD(\"cqg.rtd\",,\"StudyData\", \"Correlation(\"&$B$3&\",\"&AG$2&\",Period:=\"&$B$1&\",InputChoice1:=Close,InputChoice2::=Close)\", \"FG\", \"\", \"Close\",$B$2,A60, \"all\",\"\", \"\",\"True\",\"T\")/100,\"\")","v":-6.962161326800001E-2},null,0.12000000000000063,1,{"$error":"#N/A"},null,{"$f":"IFERROR(RTD(\"cqg.rtd\",,\"StudyData\", \"Correlation(\"&$B$3&\",\"&AM$2&\",Period:=\"&$B$1&\",InputChoice1:=Close,InputChoice2::=Close)\", \"FG\", \"\", \"Close\",$B$2,A60, \"all\",\"\", \"\",\"True\",\"T\")/100,\"\")","v":-0.213470965342},null,0.12000000000000063,2,{"$error":"#N/A"},null,{"$f":"IFERROR(RTD(\"cqg.rtd\",,\"StudyData\", \"Correlation(\"&$B$3&\",\"&AS$2&\",Period:=\"&$B$1&\",InputChoice1:=Close,InputChoice2::=Close)\", \"FG\", \"\", \"Close\",$B$2,A60, \"all\",\"\", \"\",\"True\",\"T\")/100,\"\")","v":-0.17660259396099998},null,0.12000000000000063,1,{"$error":"#N/A"},null,{"$f":"IFERROR(RTD(\"cqg.rtd\",,\"StudyData\", \"Correlation(\"&$B$3&\",\"&AY$2&\",Period:=\"&$B$1&\",InputChoice1:=Close,InputChoice2::=Close)\", \"FG\", \"\", \"Close\",$B$2,A60, \"all\",\"\", \"\",\"True\",\"T\")/100,\"\")","v":-0.37014241159500005},null,0.12000000000000063,3,{"$error":"#N/A"},null,{"$f":"IFERROR(RTD(\"cqg.rtd\",,\"StudyData\", \"Correlation(\"&$B$3&\",\"&BE$2&\",Period:=\"&$B$1&\",InputChoice1:=Close,InputChoice2::=Close)\", \"FG\", \"\", \"Close\",$B$2,A60, \"all\",\"\", \"\",\"True\",\"T\")/100,\"\")","v":0.51919604172800005},null,0.12000000000000063,1,{"$error":"#N/A"}]
[-57,null,{"$f":"IFERROR(RTD(\"cqg.rtd\",,\"StudyData\", \"Correlation(\"&$B$3&\",\"&C$2&\",Period:=\"&$B$1&\",InputChoice1:=Close,InputChoice2:=Close)\", \"FG\", \"\", \"Close\",$B$2,A61, \"all\",\"\", \"\",\"True\",\"T\")/100,\"\")","v":0.35593189772800005},null,0.14000000000000062,0,{"$error":"#N/A"},null,{"$f":"IFERROR(RTD(\"cqg.rtd\",,\"StudyData\", \"Correlation(\"&$B$3&\",\"&I$2&\",Period:=\"&$B$1&\",InputChoice1:=Close,InputChoice2::=Close)\", \"FG\", \"\", \"Close\",$B$2,A61, \"all\",\"\", \"\",\"True\",\"T\")/100,\"\")","v":0.39423677313},null,0.14000000000000062,2,{"$error":"#N/A"},null,{"$f":"IFERROR(RTD(\"cqg.rtd\",,\"StudyData\", \"Correlation(\"&$B$3&\",\"&O$2&\",Period:=\"&$B$1&\",InputChoice1:=Close,InputChoice2::=Close)\", \"FG\", \"\", \"Close\",$B$2,A61, \"all\",\"\", \"\",\"True\",\"T\")/100,\"\")","v":0.43272916319399995},null,0.14000000000000062,0,{"$error":"#N/A"},null,{"$f":"IFERROR(RTD(\"cqg.rtd\",,\"StudyData\", \"Correlation(\"&$B$3&\",\"&U$2&\",Period:=\"&$B$1&\",InputChoice1:=Close,InputChoice2::=Close)\", \"FG\", \"\", \"Close\",$B$2,A61, \"all\",\"\", \"\",\"True\",\"T\")/100,\"\")","v":-0.648822518628},null,0.14000000000000062,1,{"$error":"#N/A"},null,{"$f":"IFERROR(RTD(\"cqg.rtd\",,\"StudyData\", \"Correlation(\"&$B$3&\",\"&AA$2&\",Period:=\"&$B$1&\",InputChoice1:=Close,InputChoice2::=Close)\", \"FG\", \"\", \"Close\",$B$2,A61, \"all\",\"\", \"\",\"True\",\"T\")/100,\"\")","v":7.3355431319999997E-2},null,0.14000000000000062,0,{"$error":"#N/A"},null,{"$f":"IFERROR(RTD(\"cqg.rtd\",,\"StudyData\", \"Correlation(\"&$B$3&\",\"&AG$2&\",Period:=\"&$B$1&\",InputChoice1:=Close,InputChoice2::=Close)\", \"FG\", \"\", \"Close\",$B$2,A61, \"all\",\"\", \"\",\"True\",\"T\")/100,\"\")","v":0.107132463005},null,0.14000000000000062,2,{"$error":"#N/A"},null,{"$f":"IFERROR(RTD(\"cqg.rtd\",,\"StudyData\", \"Correlation(\"&$B$3&\",\"&AM$2&\",Period:=\"&$B$1&\",InputChoice1:=Close,InputChoice2::=Close)\", \"FG\", \"\", \"Close\",$B$2,A61, \"all\",\"\", \"\",\"True\",\"T\")/100,\"\")","v":1.0303498158E-2},null,0.14000000000000062,3,{"$error":"#N/A"},null,{"$f":"IFERROR(RTD(\"cqg.rtd\",,\"StudyData\", \"Correlation(\"&$B$3&\",\"&AS$2&\",Period:=\"&$B$1&\",InputChoice1:=Close,InputChoice2::=Close)\", \"FG\", \"\", \"Close\",$B$2,A61, \"all\",\"\", \"\",\"True\",\"T\")/100,\"\")","v":-0.35421899860700001},null,0.14000000000000062,5,{"$error":"#N/A"},null,{"$f":"IFERROR(RTD(\"cqg.rtd\",,\"StudyData\", \"Correlation(\"&$B$3&\",\"&AY$2&\",Period:=\"&$B$1&\",InputChoice1:=Close,InputChoice2::=Close)\", \"FG\", \"\", \"Close\",$B$2,A61, \"all\",\"\", \"\",\"True\",\"T\")/100,\"\")","v":-0.44351124080100002},null,0.14000000000000062,2,{"$error":"#N/A"},null,{"$f":"IFERROR(RTD(\"cqg.rtd\",,\"StudyData\", \"Correlation(\"&$B$3&\",\"&BE$2&\",Period:=\"&$B$1&\",InputChoice1:=Close,InputChoice2::=Close)\", \"FG\", \"\", \"Close\",$B$2,A61, \"all\",\"\", \"\",\"True\",\"T\")/100,\"\")","v":0.54155490766500003},null,0.14000000000000062,3,{"$error":"#N/A"}]
[-58,null,{"$f":"IFERROR(RTD(\"cqg.rtd\",,\"StudyData\", \"Correlation(\"&$B$3&\",\"&C$2&\",Period:=\"&$B$1&\",InputChoice1:=Close,InputChoice2:=Close)\", \"FG\", \"\", \"Close\",$B$2,A62, \"all\",\"\", \"\",\"True\",\"T\")/100,\"\")","v":0.57099074302999997},null,0.16000000000000061,3,{"$error":"#N/A"},null,{"$f":"IFERROR(RTD(\"cqg.rtd\",,\"StudyData\", \"Correlation(\"&$B$3&\",\"&I$2&\",Period:=\"&$B$1&\",InputChoice1:=Close,InputChoice2::=Close)\", \"FG\", \"\", \"Close\",$B$2,A62, \"all\",\"\", \"\",\"True\",\"T\")/100,\"\")","v":0.60070994806300004},null,0.16000000000000061,2,{"$error":"#N/A"},null,{"$f":"IFERROR(RTD(\"cqg.rtd\",,\"StudyData\", \"Correlation(\"&$B$3&\",\"&O$2&\",Period:=\"&$B$1&\",InputChoice1:=Close,InputChoice2::=Close)\", \"FG\", \"\", \"Close\",$B$2,A62, \"all\",\"\", \"\",\"True\",\"T\")/100,\"\")","v":0.47084375035599996},null,0.16000000000000061,1,{"$error":"#N/A"},null,{"$f":"IFERROR(RTD(\"cqg.rtd\",,\"StudyData\", \"Correlation(\"&$B$3&\",\"&U$2&\",Period:=\"&$B$1&\",InputChoice1:=Close,InputChoice2::=Close)\", \"FG\", \"\", \"Close\",$B$2,A62, \"all\",\"\", \"\",\"True\",\"T\")/100,\"\")","v":-0.66217596271800006},null,0.16000000000000061,1,{"$error":"#N/A"},null,{"$f":"IFERROR(RTD(\"cqg.rtd\",,\"StudyData\", \"Correlation(\"&$B$3&\",\"&AA$2&\",Period:=\"&$B$1&\",InputChoice1:=Close,InputChoice2::=Close)\", \"FG\", \"\", \"Close\",$B$2,A62, \"all\",\"\", \"\",\"True\",\"T\")/100,\"\")","v":0.19243509636300002},null,0.16000000000000061,0,{"$error":"#N/A"},null,{"$f":"IFERROR(RTD(\"cqg.rtd\",,\"StudyData\", \"Correlation(\"&$B$3&\",\"&AG$2&\",Period:=\"&$B$1&\",InputChoice1:=Close,InputChoice2::=Close)\", \"FG\", \"\", \"Close\",$B$2,A62, \"all\",\"\", \"\",\"True\",\"T\")/100,\"\")","v":0.200813517134},null,0.16000000000000061,0,{"$error":"#N/A"},null,{"$f":"IFERROR(RTD(\"cqg.rtd\",,\"StudyData\", \"Correlation(\"&$B$3&\",\"&AM$2&\",Period:=\"&$B$1&\",InputChoice1:=Close,InputChoice2::=Close)\", \"FG\", \"\", \"Close\",$B$2,A62, \"all\",\"\", \"\",\"True\",\"T\")/100,\"\")","v":0.13472625146299999},null,0.16000000000000061,1,{"$error":"#N/A"},null,{"$f":"IFERROR(RTD(\"cqg.rtd\",,\"StudyData\", \"Correlation(\"&$B$3&\",\"&AS$2&\",Period:=\"&$B$1&\",InputChoice1:=Close,InputChoice2::=Close)\", \"FG\", \"\", \"Close\",$B$2,A62, \"all\",\"\", \"\",\"True\",\"T\")/100,\"\")","v":-0.44327161189399999},null,0.16000000000000061,8,{"$error":"#N/A"},null,{"$f":"IFERROR(RTD(\"cqg.rtd\",,\"StudyData\", \"Correlation(\"&$B$3&\",\"&AY$2&\",Period:=\"&$B$1&\",InputChoice1:=Close,InputChoice2::=Close)\", \"FG\", \"\", \"Close\",$B$2,A62, \"all\",\"\", \"\",\"True\",\"T\")/100,\"\")","v":-0.34813055956299999},null,0.16000000000000061,1,{"$error":"#N/A"},null,{"$f":"IFERROR(RTD(\"cqg.rtd\",,\"StudyData\", \"Correlation(\"&$B$3&\",\"&BE$2&\",Period:=\"&$B$1&\",InputChoice1:=Close,InputChoice2::=Close)\", \"FG\", \"\", \"Close\",$B$2,A62, \"all\",\"\", \"\",\"True\",\"T\")/100,\"\")","v":0.54221050546500005},null,0.16000000000000061,2,{"$error":"#N/A"}]
[-59,null,{"$f":"IFERROR(RTD(\"cqg.rtd\",,\"StudyData\", \"Correlation(\"&$B$3&\",\"&C$2&\",Period:=\"&$B$1&\",InputChoice1:=Close,InputChoice2:=Close)\", \"FG\", \"\", \"Close\",$B$2,A63, \"all\",\"\", \"\",\"True\",\"T\")/100,\"\")","v":0.46922815411099994},null,0.1800000000000006,2,{"$error":"#N/A"},null,{"$f":"IFERROR(RTD(\"cqg.rtd\",,\"StudyData\", \"Correlation(\"&$B$3&\",\"&I$2&\",Period:=\"&$B$1&\",InputChoice1:=Close,InputChoice2::=Close)\", \"FG\", \"\", \"Close\",$B$2,A63, \"all\",\"\", \"\",\"True\",\"T\")/100,\"\")","v":0.49903821539799997},null,0.1800000000000006,1,{"$error":"#N/A"},null,{"$f":"IFERROR(RTD(\"cqg.rtd\",,\"StudyData\", \"Correlation(\"&$B$3&\",\"&O$2&\",Period:=\"&$B$1&\",InputChoice1:=Close,InputChoice2::=Close)\", \"FG\", \"\", \"Close\",$B$2,A63, \"all\",\"\", \"\",\"True\",\"T\")/100,\"\")","v":0.555721651654},null,0.1800000000000006,1,{"$error":"#N/A"},null,{"$f":"IFERROR(RTD(\"cqg.rtd\",,\"StudyData\", \"Correlation(\"&$B$3&\",\"&U$2&\",Period:=\"&$B$1&\",InputChoice1:=Close,InputChoice2::=Close)\", \"FG\", \"\", \"Close\",$B$2,A63, \"all\",\"\", \"\",\"True\",\"T\")/100,\"\")","v":-0.67357995701700002},null,0.1800000000000006,1,{"$error":"#N/A"},null,{"$f":"IFERROR(RTD(\"cqg.rtd\",,\"StudyData\", \"Correlation(\"&$B$3&\",\"&AA$2&\",Period:=\"&$B$1&\",InputChoice1:=Close,InputChoice2::=Close)\", \"FG\", \"\", \"Close\",$B$2,A63, \"all\",\"\", \"\",\"True\",\"T\")/100,\"\")","v":0.19155795016999999},null,0.1800000000000006,1,{"$error":"#N/A"},null,{"$f":"IFERROR(RTD(\"cqg.rtd\",,\"StudyData\", \"Correlation(\"&$B$3&\",\"&AG$2&\",Period:=\"&$B$1&\",InputChoice1:=Close,InputChoice2::=Close)\", \"FG\", \"\", \"Close\",$B$2,A63, \"all\",\"\", \"\",\"True\",\"T\")/100,\"\")","v":0.20881494296700001},null,0.1800000000000006,0,{"$error":"#N/A"},null,{"$f":"IFERROR(RTD(\"cqg.rtd\",,\"StudyData\", \"Correlation(\"&$B$3&\",\"&AM$2&\",Period:=\"&$B$1&\",InputChoice1:=Close,InputChoice2::=Close)\", \"FG\", \"\", \"Close\",$B$2,A63, \"all\",\"\", \"\",\"True\",\"T\")/100,\"\")","v":0.13572810564999999},null,0.1800000000000006,2,{"$error":"#N/A"},null,{"$f":"IFERROR(RTD(\"cqg.rtd\",,\"StudyData\", \"Correlation(\"&$B$3&\",\"&AS$2&\",Period:=\"&$B$1&\",InputChoice1:=Close,InputChoice2::=Close)\", \"FG\", \"\", \"Close\",$B$2,A63, \"all\",\"\", \"\",\"True\",\"T\")/100,\"\")","v":-0.37051395866599995},null,0.1800000000000006,5,{"$error":"#N/A"},null,{"$f":"IFERROR(RTD(\"cqg.rtd\",,\"StudyData\", \"Correlation(\"&$B$3&\",\"&AY$2&\",Period:=\"&$B$1&\",InputChoice1:=Close,InputChoice2::=Close)\", \"FG\", \"\", \"Close\",$B$2,A63, \"all\",\"\", \"\",\"True\",\"T\")/100,\"\")","v":-0.34971300389600002},null,0.1800000000000006,0,{"$error":"#N/A"},null,{"$f":"IFERROR(RTD(\"cqg.rtd\",,\"StudyData\", \"Correlation(\"&$B$3&\",\"&BE$2&\",Period:=\"&$B$1&\",InputChoice1:=Close,InputChoice2::=Close)\", \"FG\", \"\", \"Close\",$B$2,A63, \"all\",\"\", \"\",\"True\",\"T\")/100,\"\")","v":0.64340069748299999},null,0.1800000000000006,4,{"$error":"#N/A"}]
[-60,null,{"$f":"IFERROR(RTD(\"cqg.rtd\",,\"StudyData\", \"Correlation(\"&$B$3&\",\"&C$2&\",Period:=\"&$B$1&\",InputChoice1:=Close,InputChoice2:=Close)\", \"FG\", \"\", \"Close\",$B$2,A64, \"all\",\"\", \"\",\"True\",\"T\")/100,\"\")","v":0.40031602111100001},null,0.20000000000000059,1,{"$error":"#N/A"},null,{"$f":"IFERROR(RTD(\"cqg.rtd\",,\"StudyData\", \"Correlation(\"&$B$3&\",\"&I$2&\",Period:=\"&$B$1&\",InputChoice1:=Close,InputChoice2::=Close)\", \"FG\", \"\", \"Close\",$B$2,A64, \"all\",\"\", \"\",\"True\",\"T\")/100,\"\")","v":0.45513449345200002},null,0.20000000000000059,1,{"$error":"#N/A"},null,{"$f":"IFERROR(RTD(\"cqg.rtd\",,\"StudyData\", \"Correlation(\"&$B$3&\",\"&O$2&\",Period:=\"&$B$1&\",InputChoice1:=Close,InputChoice2::=Close)\", \"FG\", \"\", \"Close\",$B$2,A64, \"all\",\"\", \"\",\"True\",\"T\")/100,\"\")","v":0.43506974352199995},null,0.20000000000000059,1,{"$error":"#N/A"},null,{"$f":"IFERROR(RTD(\"cqg.rtd\",,\"StudyData\", \"Correlation(\"&$B$3&\",\"&U$2&\",Period:=\"&$B$1&\",InputChoice1:=Close,InputChoice2::=Close)\", \"FG\", \"\", \"Close\",$B$2,A64, \"all\",\"\", \"\",\"True\",\"T\")/100,\"\")","v":-0.67286674454399997},null,0.20000000000000059,0,{"$error":"#N/A"},null,{"$f":"IFERROR(RTD(\"cqg.rtd\",,\"StudyData\", \"Correlation(\"&$B$3&\",\"&AA$2&\",Period:=\"&$B$1&\",InputChoice1:=Close,InputChoice2::=Close)\", \"FG\", \"\", \"Close\",$B$2,A64, \"all\",\"\", \"\",\"True\",\"T\")/100,\"\")","v":0.10802399662199999},null,0.20000000000000059,2,{"$error":"#N/A"},null,{"$f":"IFERROR(RTD(\"cqg.rtd\",,\"StudyData\", \"Correlation(\"&$B$3&\",\"&AG$2&\",Period:=\"&$B$1&\",InputChoice1:=Close,InputChoice2::=Close)\", \"FG\", \"\", \"Close\",$B$2,A64, \"all\",\"\", \"\",\"True\",\"T\")/100,\"\")","v":0.12626073394199999},null,0.20000000000000059,0,{"$error":"#N/A"},null,{"$f":"IFERROR(RTD(\"cqg.rtd\",,\"StudyData\", \"Correlation(\"&$B$3&\",\"&AM$2&\",Period:=\"&$B$1&\",InputChoice1:=Close,InputChoice2::=Close)\", \"FG\", \"\", \"Close\",$B$2,A64, \"all\",\"\", \"\",\"True\",\"T\")/100,\"\")","v":7.4314795141000006E-2},null,0.20000000000000059,0,{"$error":"#N/A"},null,{"$f":"IFERROR(RTD(\"cqg.rtd\",,\"StudyData\", \"Correlation(\"&$B$3&\",\"&AS$2&\",Period:=\"&$B$1&\",InputChoice1:=Close,InputChoice2::=Close)\", \"FG\", \"\", \"Close\",$B$2,A64, \"all\",\"\", \"\",\"True\",\"T\")/100,\"\")","v":-0.26276212087},null,0.20000000000000059,1,{"$error":"#N/A"},null,{"$f":"IFERROR(RTD(\"cqg.rtd\",,\"StudyData\", \"Correlation(\"&$B$3&\",\"&AY$2&\",Period:=\"&$B$1&\",InputChoice1:=Close,InputChoice2::=Close)\", \"FG\", \"\", \"Close\",$B$2,A64, \"all\",\"\", \"\",\"True\",\"T\")/100,\"\")","v":-0.26845881131499999},null,0.20000000000000059,0,{"$error":"#N/A"},null,{"$f":"IFERROR(RTD(\"cqg.rtd\",,\"StudyData\", \"Correlation(\"&$B$3&\",\"&BE$2&\",Period:=\"&$B$1&\",InputChoice1:=Close,InputChoice2::=Close)\", \"FG\", \"\", \"Close\",$B$2,A64, \"all\",\"\", \"\",\"True\",\"T\")/100,\"\")","v":0.69157487852200006},null,0.20000000000000059,1,{"$error":"#N/A"}]
[-61,null,{"$f":"IFERROR(RTD(\"cqg.rtd\",,\"StudyData\", \"Correlation(\"&$B$3&\",\"&C$2&\",Period:=\"&$B$1&\",InputChoice1:=Close,InputChoice2:=Close)\", \"FG\", \"\", \"Close\",$B$2,A65, \"all\",\"\", \"\",\"True\",\"T\")/100,\"\")","v":0.35588493314300002},null,0.22000000000000058,4,{"$error":"#N/A"},null,{"$f":"IFERROR(RTD(\"cqg.rtd\",,\"StudyData\", \"Correlation(\"&$B$3&\",\"&I$2&\",Period:=\"&$B$1&\",InputChoice1:=Close,InputChoice2::=Close)\", \"FG\", \"\", \"Close\",$B$2,A65, \"all\",\"\", \"\",\"True\",\"T\")/100,\"\")","v":0.42039281462700001},null,0.22000000000000058,4,{"$error":"#N/A"},null,{"$f":"IFERROR(RTD(\"cqg.rtd\",,\"StudyData\", \"Correlation(\"&$B$3&\",\"&O$2&\",Period:=\"&$B$1&\",InputChoice1:=Close,InputChoice2::=Close)\", \"FG\", \"\", \"Close\",$B$2,A65, \"all\",\"\", \"\",\"True\",\"T\")/100,\"\")","v":0.38014625219499998},null,0.22000000000000058,1,{"$error":"#N/A"},null,{"$f":"IFERROR(RTD(\"cqg.rtd\",,\"StudyData\", \"Correlation(\"&$B$3&\",\"&U$2&\",Period:=\"&$B$1&\",InputChoice1:=Close,InputChoice2::=Close)\", \"FG\", \"\", \"Close\",$B$2,A65, \"all\",\"\", \"\",\"True\",\"T\")/100,\"\")","v":-0.64230570982000001},null,0.22000000000000058,0,{"$error":"#N/A"},null,{"$f":"IFERROR(RTD(\"cqg.rtd\",,\"StudyData\", \"Correlation(\"&$B$3&\",\"&AA$2&\",Period:=\"&$B$1&\",InputChoice1:=Close,InputChoice2::=Close)\", \"FG\", \"\", \"Close\",$B$2,A65, \"all\",\"\", \"\",\"True\",\"T\")/100,\"\")","v":1.9119306361999999E-2},null,0.22000000000000058,0,{"$error":"#N/A"},null,{"$f":"IFERROR(RTD(\"cqg.rtd\",,\"StudyData\", \"Correlation(\"&$B$3&\",\"&AG$2&\",Period:=\"&$B$1&\",InputChoice1:=Close,InputChoice2::=Close)\", \"FG\", \"\", \"Close\",$B$2,A65, \"all\",\"\", \"\",\"True\",\"T\")/100,\"\")","v":5.6495232411999996E-2},null,0.22000000000000058,3,{"$error":"#N/A"},null,{"$f":"IFERROR(RTD(\"cqg.rtd\",,\"StudyData\", \"Correlation(\"&$B$3&\",\"&AM$2&\",Period:=\"&$B$1&\",InputChoice1:=Close,InputChoice2::=Close)\", \"FG\", \"\", \"Close\",$B$2,A65, \"all\",\"\", \"\",\"True\",\"T\")/100,\"\")","v":-1.4689172550000001E-2},null,0.22000000000000058,0,{"$error":"#N/A"},null,{"$f":"IFERROR(RTD(\"cqg.rtd\",,\"StudyData\", \"Correlation(\"&$B$3&\",\"&AS$2&\",Period:=\"&$B$1&\",InputChoice1:=Close,InputChoice2::=Close)\", \"FG\", \"\", \"Close\",$B$2,A65, \"all\",\"\", \"\",\"True\",\"T\")/100,\"\")","v":-0.16482962200100001},null,0.22000000000000058,2,{"$error":"#N/A"},null,{"$f":"IFERROR(RTD(\"cqg.rtd\",,\"StudyData\", \"Correlation(\"&$B$3&\",\"&AY$2&\",Period:=\"&$B$1&\",InputChoice1:=Close,InputChoice2::=Close)\", \"FG\", \"\", \"Close\",$B$2,A65, \"all\",\"\", \"\",\"True\",\"T\")/100,\"\")","v":-0.20349159411599999},null,0.22000000000000058,2,{"$error":"#N/A"},null,{"$f":"IFERROR(RTD(\"cqg.rtd\",,\"StudyData\", \"Correlation(\"&$B$3&\",\"&BE$2&\",Period:=\"&$B$1&\",InputChoice1:=Close,InputChoice2::=Close)\", \"FG\", \"\", \"Close\",$B$2,A65, \"all\",\"\", \"\",\"True\",\"T\")/100,\"\")","v":0.64754058062599995},null,0.22000000000000058,0,{"$error":"#N/A"}]
[-62,null,{"$f":"IFERROR(RTD(\"cqg.rtd\",,\"StudyData\", \"Correlation(\"&$B$3&\",\"&C$2&\",Period:=\"&$B$1&\",InputChoice1:=Close,InputChoice2:=Close)\", \"FG\", \"\", \"Close\",$B$2,A66, \"all\",\"\", \"\",\"True\",\"T\")/100,\"\")","v":0.31124471422200001},null,0.24000000000000057,2,{"$error":"#N/A"},null,{"$f":"IFERROR(RTD(\"cqg.rtd\",,\"StudyData\", \"Correlation(\"&$B$3&\",\"&I$2&\",Period:=\"&$B$1&\",InputChoice1:=Close,InputChoice2::=Close)\", \"FG\", \"\", \"Close\",$B$2,A66, \"all\",\"\", \"\",\"True\",\"T\")/100,\"\")","v":0.38605067763299999},null,0.24000000000000057,2,{"$error":"#N/A"},null,{"$f":"IFERROR(RTD(\"cqg.rtd\",,\"StudyData\", \"Correlation(\"&$B$3&\",\"&O$2&\",Period:=\"&$B$1&\",InputChoice1:=Close,InputChoice2::=Close)\", \"FG\", \"\", \"Close\",$B$2,A66, \"all\",\"\", \"\",\"True\",\"T\")/100,\"\")","v":0.32902724989900001},null,0.24000000000000057,4,{"$error":"#N/A"},null,{"$f":"IFERROR(RTD(\"cqg.rtd\",,\"StudyData\", \"Correlation(\"&$B$3&\",\"&U$2&\",Period:=\"&$B$1&\",InputChoice1:=Close,InputChoice2::=Close)\", \"FG\", \"\", \"Close\",$B$2,A66, \"all\",\"\", \"\",\"True\",\"T\")/100,\"\")","v":-0.60062024536899994},null,0.24000000000000057,2,{"$error":"#N/A"},null,{"$f":"IFERROR(RTD(\"cqg.rtd\",,\"StudyData\", \"Correlation(\"&$B$3&\",\"&AA$2&\",Period:=\"&$B$1&\",InputChoice1:=Close,InputChoice2::=Close)\", \"FG\", \"\", \"Close\",$B$2,A66, \"all\",\"\", \"\",\"True\",\"T\")/100,\"\")","v":-5.3007893836999997E-2},null,0.24000000000000057,1,{"$error":"#N/A"},null,{"$f":"IFERROR(RTD(\"cqg.rtd\",,\"StudyData\", \"Correlation(\"&$B$3&\",\"&AG$2&\",Period:=\"&$B$1&\",InputChoice1:=Close,InputChoice2::=Close)\", \"FG\", \"\", \"Close\",$B$2,A66, \"all\",\"\", \"\",\"True\",\"T\")/100,\"\")","v":7.0337245559999994E-3},null,0.24000000000000057,1,{"$error":"#N/A"},null,{"$f":"IFERROR(RTD(\"cqg.rtd\",,\"StudyData\", \"Correlation(\"&$B$3&\",\"&AM$2&\",Period:=\"&$B$1&\",InputChoice1:=Close,InputChoice2::=Close)\", \"FG\", \"\", \"Close\",$B$2,A66, \"all\",\"\", \"\",\"True\",\"T\")/100,\"\")","v":-8.4331897672E-2},null,0.24000000000000057,2,{"$error":"#N/A"},null,{"$f":"IFERROR(RTD(\"cqg.rtd\",,\"StudyData\", \"Correlation(\"&$B$3&\",\"&AS$2&\",Period:=\"&$B$1&\",InputChoice1:=Close,InputChoice2::=Close)\", \"FG\", \"\", \"Close\",$B$2,A66, \"all\",\"\", \"\",\"True\",\"T\")/100,\"\")","v":-6.6704436007999995E-2},null,0.24000000000000057,2,{"$error":"#N/A"},null,{"$f":"IFERROR(RTD(\"cqg.rtd\",,\"StudyData\", \"Correlation(\"&$B$3&\",\"&AY$2&\",Period:=\"&$B$1&\",InputChoice1:=Close,InputChoice2::=Close)\", \"FG\", \"\", \"Close\",$B$2,A66, \"all\",\"\", \"\",\"True\",\"T\")/100,\"\")","v":-0.21090284255399999},null,0.24000000000000057,0,1,null,{"$f":"IFERROR(RTD(\"cqg.rtd\",,\"StudyData\", \"Correlation(\"&$B$3&\",\"&BE$2&\",Period:=\"&$B$1&\",InputChoice1:=Close,InputChoice2::=Close)\", \"FG\", \"\", \"Close\",$B$2,A66, \"all\",\"\", \"\",\"True\",\"T\")/100,\"\")","v":0.63874122488999996},null,0.24000000000000057,2,{"$error":"#N/A"}]
[-63,null,{"$f":"IFERROR(RTD(\"cqg.rtd\",,\"StudyData\", \"Correlation(\"&$B$3&\",\"&C$2&\",Period:=\"&$B$1&\",InputChoice1:=Close,InputChoice2:=Close)\", \"FG\", \"\", \"Close\",$B$2,A67, \"all\",\"\", \"\",\"True\",\"T\")/100,\"\")","v":0.26718885971},null,0.26000000000000056,1,{"$error":"#N/A"},null,{"$f":"IFERROR(RTD(\"cqg.rtd\",,\"StudyData\", \"Correlation(\"&$B$3&\",\"&I$2&\",Period:=\"&$B$1&\",InputChoice1:=Close,InputChoice2::=Close)\", \"FG\", \"\", \"Close\",$B$2,A67, \"all\",\"\", \"\",\"True\",\"T\")/100,\"\")","v":0.35805232006399995},null,0.26000000000000056,0,{"$error":"#N/A"},null,{"$f":"IFERROR(RTD(\"cqg.rtd\",,\"StudyData\", \"Correlation(\"&$B$3&\",\"&O$2&\",Period:=\"&$B$1&\",InputChoice1:=Close,InputChoice2::=Close)\", \"FG\", \"\", \"Close\",$B$2,A67, \"all\",\"\", \"\",\"True\",\"T\")/100,\"\")","v":0.28343891679599997},null,0.26000000000000056,3,{"$error":"#N/A"},null,{"$f":"IFERROR(RTD(\"cqg.rtd\",,\"StudyData\", \"Correlation(\"&$B$3&\",\"&U$2&\",Period:=\"&$B$1&\",InputChoice1:=Close,InputChoice2::=Close)\", \"FG\", \"\", \"Close\",$B$2,A67, \"all\",\"\", \"\",\"True\",\"T\")/100,\"\")","v":-0.58255515439200001},null,0.26000000000000056,1,{"$error":"#N/A"},null,{"$f":"IFERROR(RTD(\"cqg.rtd\",,\"StudyData\", \"Correlation(\"&$B$3&\",\"&AA$2&\",Period:=\"&$B$1&\",InputChoice1:=Close,InputChoice2::=Close)\", \"FG\", \"\", \"Close\",$B$2,A67, \"all\",\"\", \"\",\"True\",\"T\")/100,\"\")","v":-0.118592457985},null,0.26000000000000056,0,{"$error":"#N/A"},null,{"$f":"IFERROR(RTD(\"cqg.rtd\",,\"StudyData\", \"Correlation(\"&$B$3&\",\"&AG$2&\",Period:=\"&$B$1&\",InputChoice1:=Close,InputChoice2::=Close)\", \"FG\", \"\", \"Close\",$B$2,A67, \"all\",\"\", \"\",\"True\",\"T\")/100,\"\")","v":-3.0791636710999999E-2},null,0.26000000000000056,0,{"$error":"#N/A"},null,{"$f":"IFERROR(RTD(\"cqg.rtd\",,\"StudyData\", \"Correlation(\"&$B$3&\",\"&AM$2&\",Period:=\"&$B$1&\",InputChoice1:=Close,InputChoice2::=Close)\", \"FG\", \"\", \"Close\",$B$2,A67, \"all\",\"\", \"\",\"True\",\"T\")/100,\"\")","v":-0.14467796004800001},null,0.26000000000000056,0,{"$error":"#N/A"},null,{"$f":"IFERROR(RTD(\"cqg.rtd\",,\"StudyData\", \"Correlation(\"&$B$3&\",\"&AS$2&\",Period:=\"&$B$1&\",InputChoice1:=Close,InputChoice2::=Close)\", \"FG\", \"\", \"Close\",$B$2,A67, \"all\",\"\", \"\",\"True\",\"T\")/100,\"\")","v":2.4115727464000002E-2},null,0.26000000000000056,3,{"$error":"#N/A"},null,{"$f":"IFERROR(RTD(\"cqg.rtd\",,\"StudyData\", \"Correlation(\"&$B$3&\",\"&AY$2&\",Period:=\"&$B$1&\",InputChoice1:=Close,InputChoice2::=Close)\", \"FG\", \"\", \"Close\",$B$2,A67, \"all\",\"\", \"\",\"True\",\"T\")/100,\"\")","v":-0.15545268505400001},null,0.26000000000000056,1,{"$error":"#N/A"},null,{"$f":"IFERROR(RTD(\"cqg.rtd\",,\"StudyData\", \"Correlation(\"&$B$3&\",\"&BE$2&\",Period:=\"&$B$1&\",InputChoice1:=Close,InputChoice2::=Close)\", \"FG\", \"\", \"Close\",$B$2,A67, \"all\",\"\", \"\",\"True\",\"T\")/100,\"\")","v":0.60355163380100008},null,0.26000000000000056,1,{"$error":"#N/A"}]
[-64,null,{"$f":"IFERROR(RTD(\"cqg.rtd\",,\"StudyData\", \"Correlation(\"&$B$3&\",\"&C$2&\",Period:=\"&$B$1&\",InputChoice1:=Close,InputChoice2:=Close)\", \"FG\", \"\", \"Close\",$B$2,A68, \"all\",\"\", \"\",\"True\",\"T\")/100,\"\")","v":0.278686797629},null,0.28000000000000058,2,{"$error":"#N/A"},null,{"$f":"IFERROR(RTD(\"cqg.rtd\",,\"StudyData\", \"Correlation(\"&$B$3&\",\"&I$2&\",Period:=\"&$B$1&\",InputChoice1:=Close,InputChoice2::=Close)\", \"FG\", \"\", \"Close\",$B$2,A68, \"all\",\"\", \"\",\"True\",\"T\")/100,\"\")","v":0.38580346130199999},null,0.28000000000000058,0,{"$error":"#N/A"},null,{"$f":"IFERROR(RTD(\"cqg.rtd\",,\"StudyData\", \"Correlation(\"&$B$3&\",\"&O$2&\",Period:=\"&$B$1&\",InputChoice1:=Close,InputChoice2::=Close)\", \"FG\", \"\", \"Close\",$B$2,A68, \"all\",\"\", \"\",\"True\",\"T\")/100,\"\")","v":0.23002954044500001},null,0.28000000000000058,1,{"$error":"#N/A"},null,{"$f":"IFERROR(RTD(\"cqg.rtd\",,\"StudyData\", \"Correlation(\"&$B$3&\",\"&U$2&\",Period:=\"&$B$1&\",InputChoice1:=Close,InputChoice2::=Close)\", \"FG\", \"\", \"Close\",$B$2,A68, \"all\",\"\", \"\",\"True\",\"T\")/100,\"\")","v":-0.493910769385},null,0.28000000000000058,2,{"$error":"#N/A"},null,{"$f":"IFERROR(RTD(\"cqg.rtd\",,\"StudyData\", \"Correlation(\"&$B$3&\",\"&AA$2&\",Period:=\"&$B$1&\",InputChoice1:=Close,InputChoice2::=Close)\", \"FG\", \"\", \"Close\",$B$2,A68, \"all\",\"\", \"\",\"True\",\"T\")/100,\"\")","v":-0.220633002518},null,0.28000000000000058,0,{"$error":"#N/A"},null,{"$f":"IFERROR(RTD(\"cqg.rtd\",,\"StudyData\", \"Correlation(\"&$B$3&\",\"&AG$2&\",Period:=\"&$B$1&\",InputChoice1:=Close,InputChoice2::=Close)\", \"FG\", \"\", \"Close\",$B$2,A68, \"all\",\"\", \"\",\"True\",\"T\")/100,\"\")","v":-0.14105493028300001},null,0.28000000000000058,1,{"$error":"#N/A"},null,{"$f":"IFERROR(RTD(\"cqg.rtd\",,\"StudyData\", \"Correlation(\"&$B$3&\",\"&AM$2&\",Period:=\"&$B$1&\",InputChoice1:=Close,InputChoice2::=Close)\", \"FG\", \"\", \"Close\",$B$2,A68, \"all\",\"\", \"\",\"True\",\"T\")/100,\"\")","v":-0.239052636559},null,0.28000000000000058,2,{"$error":"#N/A"},null,{"$f":"IFERROR(RTD(\"cqg.rtd\",,\"StudyData\", \"Correlation(\"&$B$3&\",\"&AS$2&\",Period:=\"&$B$1&\",InputChoice1:=Close,InputChoice2::=Close)\", \"FG\", \"\", \"Close\",$B$2,A68, \"all\",\"\", \"\",\"True\",\"T\")/100,\"\")","v":0.118364502688},null,0.28000000000000058,5,{"$error":"#N/A"},null,{"$f":"IFERROR(RTD(\"cqg.rtd\",,\"StudyData\", \"Correlation(\"&$B$3&\",\"&AY$2&\",Period:=\"&$B$1&\",InputChoice1:=Close,InputChoice2::=Close)\", \"FG\", \"\", \"Close\",$B$2,A68, \"all\",\"\", \"\",\"True\",\"T\")/100,\"\")","v":-0.25158577204299998},null,0.28000000000000058,1,{"$error":"#N/A"},null,{"$f":"IFERROR(RTD(\"cqg.rtd\",,\"StudyData\", \"Correlation(\"&$B$3&\",\"&BE$2&\",Period:=\"&$B$1&\",InputChoice1:=Close,InputChoice2::=Close)\", \"FG\", \"\", \"Close\",$B$2,A68, \"all\",\"\", \"\",\"True\",\"T\")/100,\"\")","v":0.62602395683199996},null,0.28000000000000058,0,{"$error":"#N/A"}]
[-65,null,{"$f":"IFERROR(RTD(\"cqg.rtd\",,\"StudyData\", \"Correlation(\"&$B$3&\",\"&C$2&\",Period:=\"&$B$1&\",InputChoice1:=Close,InputChoice2:=Close)\", \"FG\", \"\", \"Close\",$B$2,A69, \"all\",\"\", \"\",\"True\",\"T\")/100,\"\")","v":0.32057611119500001},null,0.3000000000000006,1,{"$f":"IF(AND($C$4>=E69,$C$4<E70),IF(F69=0,1,F69),NA())","v":{"$error":"#N/A"}},null,{"$f":"IFERROR(RTD(\"cqg.rtd\",,\"StudyData\", \"Correlation(\"&$B$3&\",\"&I$2&\",Period:=\"&$B$1&\",InputChoice1:=Close,InputChoice2::=Close)\", \"FG\", \"\", \"Close\",$B$2,A69, \"all\",\"\", \"\",\"True\",\"T\")/100,\"\")","v":0.45302271801400001},null,0.3000000000000006,2,{"$f":"IF(AND($I$4>=K69,$I$4<K70),IF(L69=0,1,L69),NA())","v":{"$error":"#N/A"}},null,{"$f":"IFERROR(RTD(\"cqg.rtd\",,\"StudyData\", \"Correlation(\"&$B$3&\",\"&O$2&\",Period:=\"&$B$1&\",InputChoice1:=Close,InputChoice2::=Close)\", \"FG\", \"\", \"Close\",$B$2,A69, \"all\",\"\", \"\",\"True\",\"T\")/100,\"\")","v":0.228318586086},null,0.3000000000000006,5,{"$f":"IF(AND($O$4>=Q69,$O$4<Q70),IF(R69=0,1,R69),NA())","v":{"$error":"#N/A"}},null,{"$f":"IFERROR(RTD(\"cqg.rtd\",,\"StudyData\", \"Correlation(\"&$B$3&\",\"&U$2&\",Period:=\"&$B$1&\",InputChoice1:=Close,InputChoice2::=Close)\", \"FG\", \"\", \"Close\",$B$2,A69, \"all\",\"\", \"\",\"True\",\"T\")/100,\"\")","v":-0.59989430560500001},null,0.3000000000000006,1,{"$f":"IF(AND($U$4>=W69,$U$4<W70),IF(X69=0,1,X69),NA())","v":{"$error":"#N/A"}},null,{"$f":"IFERROR(RTD(\"cqg.rtd\",,\"StudyData\", \"Correlation(\"&$B$3&\",\"&AA$2&\",Period:=\"&$B$1&\",InputChoice1:=Close,InputChoice2::=Close)\", \"FG\", \"\", \"Close\",$B$2,A69, \"all\",\"\", \"\",\"True\",\"T\")/100,\"\")","v":-0.22263158848799999},null,0.3000000000000006,0,{"$f":"IF(AND($AA$4>=AC69,$AA$4<AC70),IF(AD69=0,1,AD69),NA())","v":{"$error":"#N/A"}},null,{"$f":"IFERROR(RTD(\"cqg.rtd\",,\"StudyData\", \"Correlation(\"&$B$3&\",\"&AG$2&\",Period:=\"&$B$1&\",InputChoice1:=Close,InputChoice2::=Close)\", \"FG\", \"\", \"Close\",$B$2,A69, \"all\",\"\", \"\",\"True\",\"T\")/100,\"\")","v":-0.11037550607800001},null,0.3000000000000006,0,{"$f":"IF(AND($AG$4>=AI69,$AG$4<AI70),IF(AJ69=0,1,AJ69),NA())","v":{"$error":"#N/A"}},null,{"$f":"IFERROR(RTD(\"cqg.rtd\",,\"StudyData\", \"Correlation(\"&$B$3&\",\"&AM$2&\",Period:=\"&$B$1&\",InputChoice1:=Close,InputChoice2::=Close)\", \"FG\", \"\", \"Close\",$B$2,A69, \"all\",\"\", \"\",\"True\",\"T\")/100,\"\")","v":-0.242574299982},null,0.3000000000000006,0,{"$f":"IF(AND($AM$4>=AO69,$AM$4<AO70),IF(AP69=0,1,AP69),NA())","v":{"$error":"#N/A"}},null,{"$f":"IFERROR(RTD(\"cqg.rtd\",,\"StudyData\", \"Correlation(\"&$B$3&\",\"&AS$2&\",Period:=\"&$B$1&\",InputChoice1:=Close,InputChoice2::=Close)\", \"FG\", \"\", \"Close\",$B$2,A69, \"all\",\"\", \"\",\"True\",\"T\")/100,\"\")","v":0.128812731248},null,0.3000000000000006,0,{"$f":"IF(AND($AS$4>=AU69,$AS$4<AU70),IF(AV69=0,1,AV69),NA())","v":{"$error":"#N/A"}},null,{"$f":"IFERROR(RTD(\"cqg.rtd\",,\"StudyData\", \"Correlation(\"&$B$3&\",\"&AY$2&\",Period:=\"&$B$1&\",InputChoice1:=Close,InputChoice2::=Close)\", \"FG\", \"\", \"Close\",$B$2,A69, \"all\",\"\", \"\",\"True\",\"T\")/100,\"\")","v":-0.32685737846199997},null,0.3000000000000006,1,{"$f":"IF(AND($AY$4>=BA69,$AY$4<BA70),IF(BB69=0,1,BB69),NA())","v":{"$error":"#N/A"}},null,{"$f":"IFERROR(RTD(\"cqg.rtd\",,\"StudyData\", \"Correlation(\"&$B$3&\",\"&BE$2&\",Period:=\"&$B$1&\",InputChoice1:=Close,InputChoice2::=Close)\", \"FG\", \"\", \"Close\",$B$2,A69, \"all\",\"\", \"\",\"True\",\"T\")/100,\"\")","v":0.640976430569},null,0.3000000000000006,1,{"$f":"IF(AND($BE$4>=BG69,$BE$4<BG70),IF(BH69=0,1,BH69),NA())","v":{"$error":"#N/A"}}]
[{"$f":"A69-1","v":-66},null,{"$f":"IFERROR(RTD(\"cqg.rtd\",,\"StudyData\", \"Correlation(\"&$B$3&\",\"&C$2&\",Period:=\"&$B$1&\",InputChoice1:=Close,InputChoice2:=Close)\", \"FG\", \"\", \"Close\",$B$2,A70, \"all\",\"\", \"\",\"True\",\"T\")/100,\"\")","v":0.33504356648900002},null,{"$f":"E69+0.02","v":0.32000000000000062},2,{"$error":"#N/A"},null,{"$f":"IFERROR(RTD(\"cqg.rtd\",,\"StudyData\", \"Correlation(\"&$B$3&\",\"&I$2&\",Period:=\"&$B$1&\",InputChoice1:=Close,InputChoice2::=Close)\", \"FG\", \"\", \"Close\",$B$2,A70, \"all\",\"\", \"\",\"True\",\"T\")/100,\"\")","v":0.50046226548399997},null,{"$f":"K69+0.02","v":0.32000000000000062},0,{"$error":"#N/A"},null,{"$f":"IFERROR(RTD(\"cqg.rtd\",,\"StudyData\", \"Correlation(\"&$B$3&\",\"&O$2&\",Period:=\"&$B$1&\",InputChoice1:=Close,InputChoice2::=Close)\", \"FG\", \"\", \"Close\",$B$2,A70, \"all\",\"\", \"\",\"True\",\"T\")/100,\"\")","v":0.28264218609499997},null,{"$f":"Q69+0.02","v":0.32000000000000062},4,{"$error":"#N/A"},null,{"$f":"IFERROR(RTD(\"cqg.rtd\",,\"StudyData\", \"Correlation(\"&$B$3&\",\"&U$2&\",Period:=\"&$B$1&\",InputChoice1:=Close,InputChoice2::=Close)\", \"FG\", \"\", \"Close\",$B$2,A70, \"all\",\"\", \"\",\"True\",\"T\")/100,\"\")","v":-0.63903673584700005},null,{"$f":"W69+0.02","v":0.32000000000000062},2,{"$error":"#N/A"},null,{"$f":"IFERROR(RTD(\"cqg.rtd\",,\"StudyData\", \"Correlation(\"&$B$3&\",\"&AA$2&\",Period:=\"&$B$1&\",InputChoice1:=Close,InputChoice2::=Close)\", \"FG\", \"\", \"Close\",$B$2,A70, \"all\",\"\", \"\",\"True\",\"T\")/100,\"\")","v":-0.23890225088699998},null,{"$f":"AC69+0.02","v":0.32000000000000062},0,{"$error":"#N/A"},null,{"$f":"IFERROR(RTD(\"cqg.rtd\",,\"StudyData\", \"Correlation(\"&$B$3&\",\"&AG$2&\",Period:=\"&$B$1&\",InputChoice1:=Close,InputChoice2::=Close)\", \"FG\", \"\", \"Close\",$B$2,A70, \"all\",\"\", \"\",\"True\",\"T\")/100,\"\")","v":-0.11093140462499999},null,{"$f":"AI69+0.02","v":0.32000000000000062},1,{"$error":"#N/A"},null,{"$f":"IFERROR(RTD(\"cqg.rtd\",,\"StudyData\", \"Correlation(\"&$B$3&\",\"&AM$2&\",Period:=\"&$B$1&\",InputChoice1:=Close,InputChoice2::=Close)\", \"FG\", \"\", \"Close\",$B$2,A70, \"all\",\"\", \"\",\"True\",\"T\")/100,\"\")","v":-0.25811754738000003},null,{"$f":"AO69+0.02","v":0.32000000000000062},1,{"$error":"#N/A"},null,{"$f":"IFERROR(RTD(\"cqg.rtd\",,\"StudyData\", \"Correlation(\"&$B$3&\",\"&AS$2&\",Period:=\"&$B$1&\",InputChoice1:=Close,InputChoice2::=Close)\", \"FG\", \"\", \"Close\",$B$2,A70, \"all\",\"\", \"\",\"True\",\"T\")/100,\"\")","v":0.16496465879300001},null,{"$f":"AU69+0.02","v":0.32000000000000062},0,{"$error":"#N/A"},null,{"$f":"IFERROR(RTD(\"cqg.rtd\",,\"StudyData\", \"Correlation(\"&$B$3&\",\"&AY$2&\",Period:=\"&$B$1&\",InputChoice1:=Close,InputChoice2::=Close)\", \"FG\", \"\", \"Close\",$B$2,A70, \"all\",\"\", \"\",\"True\",\"T\")/100,\"\")","v":-0.39554978037600003},null,{"$f":"BA69+0.02","v":0.32000000000000062},0,{"$error":"#N/A"},null,{"$f":"IFERROR(RTD(\"cqg.rtd\",,\"StudyData\", \"Correlation(\"&$B$3&\",\"&BE$2&\",Period:=\"&$B$1&\",InputChoice1:=Close,InputChoice2::=Close)\", \"FG\", \"\", \"Close\",$B$2,A70, \"all\",\"\", \"\",\"True\",\"T\")/100,\"\")","v":0.673882689112},null,{"$f":"BG69+0.02","v":0.32000000000000062},0,{"$error":"#N/A"}]
[-67,null,{"$f":"IFERROR(RTD(\"cqg.rtd\",,\"StudyData\", \"Correlation(\"&$B$3&\",\"&C$2&\",Period:=\"&$B$1&\",InputChoice1:=Close,InputChoice2:=Close)\", \"FG\", \"\", \"Close\",$B$2,A71, \"all\",\"\", \"\",\"True\",\"T\")/100,\"\")","v":0.35628934207999996},null,0.34000000000000064,5,{"$error":"#N/A"},null,{"$f":"IFERROR(RTD(\"cqg.rtd\",,\"StudyData\", \"Correlation(\"&$B$3&\",\"&I$2&\",Period:=\"&$B$1&\",InputChoice1:=Close,InputChoice2::=Close)\", \"FG\", \"\", \"Close\",$B$2,A71, \"all\",\"\", \"\",\"True\",\"T\")/100,\"\")","v":0.51345760014899999},null,0.34000000000000064,2,{"$error":"#N/A"},null,{"$f":"IFERROR(RTD(\"cqg.rtd\",,\"StudyData\", \"Correlation(\"&$B$3&\",\"&O$2&\",Period:=\"&$B$1&\",InputChoice1:=Close,InputChoice2::=Close)\", \"FG\", \"\", \"Close\",$B$2,A71, \"all\",\"\", \"\",\"True\",\"T\")/100,\"\")","v":0.36007713921099999},null,0.34000000000000064,2,{"$error":"#N/A"},null,{"$f":"IFERROR(RTD(\"cqg.rtd\",,\"StudyData\", \"Correlation(\"&$B$3&\",\"&U$2&\",Period:=\"&$B$1&\",InputChoice1:=Close,InputChoice2::=Close)\", \"FG\", \"\", \"Close\",$B$2,A71, \"all\",\"\", \"\",\"True\",\"T\")/100,\"\")","v":-0.67226683050199998},null,0.34000000000000064,2,{"$error":"#N/A"},null,{"$f":"IFERROR(RTD(\"cqg.rtd\",,\"StudyData\", \"Correlation(\"&$B$3&\",\"&AA$2&\",Period:=\"&$B$1&\",InputChoice1:=Close,InputChoice2::=Close)\", \"FG\", \"\", \"Close\",$B$2,A71, \"all\",\"\", \"\",\"True\",\"T\")/100,\"\")","v":-0.21107240893199999},null,0.34000000000000064,1,{"$error":"#N/A"},null,{"$f":"IFERROR(RTD(\"cqg.rtd\",,\"StudyData\", \"Correlation(\"&$B$3&\",\"&AG$2&\",Period:=\"&$B$1&\",InputChoice1:=Close,InputChoice2::=Close)\", \"FG\", \"\", \"Close\",$B$2,A71, \"all\",\"\", \"\",\"True\",\"T\")/100,\"\")","v":-6.6700683972999997E-2},null,0.34000000000000064,1,{"$error":"#N/A"},null,{"$f":"IFERROR(RTD(\"cqg.rtd\",,\"StudyData\", \"Correlation(\"&$B$3&\",\"&AM$2&\",Period:=\"&$B$1&\",InputChoice1:=Close,InputChoice2::=Close)\", \"FG\", \"\", \"Close\",$B$2,A71, \"all\",\"\", \"\",\"True\",\"T\")/100,\"\")","v":-0.22992573246599998},null,0.34000000000000064,2,{"$error":"#N/A"},null,{"$f":"IFERROR(RTD(\"cqg.rtd\",,\"StudyData\", \"Correlation(\"&$B$3&\",\"&AS$2&\",Period:=\"&$B$1&\",InputChoice1:=Close,InputChoice2::=Close)\", \"FG\", \"\", \"Close\",$B$2,A71, \"all\",\"\", \"\",\"True\",\"T\")/100,\"\")","v":0.164362338291},null,0.34000000000000064,2,{"$error":"#N/A"},null,{"$f":"IFERROR(RTD(\"cqg.rtd\",,\"StudyData\", \"Correlation(\"&$B$3&\",\"&AY$2&\",Period:=\"&$B$1&\",InputChoice1:=Close,InputChoice2::=Close)\", \"FG\", \"\", \"Close\",$B$2,A71, \"all\",\"\", \"\",\"True\",\"T\")/100,\"\")","v":-0.384783746787},null,0.34000000000000064,1,{"$error":"#N/A"},null,{"$f":"IFERROR(RTD(\"cqg.rtd\",,\"StudyData\", \"Correlation(\"&$B$3&\",\"&BE$2&\",Period:=\"&$B$1&\",InputChoice1:=Close,InputChoice2::=Close)\", \"FG\", \"\", \"Close\",$B$2,A71, \"all\",\"\", \"\",\"True\",\"T\")/100,\"\")","v":0.64634079111299991},null,0.34000000000000064,1,{"$error":"#N/A"}]
[-68,null,{"$f":"IFERROR(RTD(\"cqg.rtd\",,\"StudyData\", \"Correlation(\"&$B$3&\",\"&C$2&\",Period:=\"&$B$1&\",InputChoice1:=Close,InputChoice2:=Close)\", \"FG\", \"\", \"Close\",$B$2,A72, \"all\",\"\", \"\",\"True\",\"T\")/100,\"\")","v":0.30668898901500002},null,0.36000000000000065,4,{"$error":"#N/A"},null,{"$f":"IFERROR(RTD(\"cqg.rtd\",,\"StudyData\", \"Correlation(\"&$B$3&\",\"&I$2&\",Period:=\"&$B$1&\",InputChoice1:=Close,InputChoice2::=Close)\", \"FG\", \"\", \"Close\",$B$2,A72, \"all\",\"\", \"\",\"True\",\"T\")/100,\"\")","v":0.48376905918899998},null,0.36000000000000065,1,{"$error":"#N/A"},null,{"$f":"IFERROR(RTD(\"cqg.rtd\",,\"StudyData\", \"Correlation(\"&$B$3&\",\"&O$2&\",Period:=\"&$B$1&\",InputChoice1:=Close,InputChoice2::=Close)\", \"FG\", \"\", \"Close\",$B$2,A72, \"all\",\"\", \"\",\"True\",\"T\")/100,\"\")","v":0.38571910213599997},null,0.36000000000000065,1,{"$error":"#N/A"},null,{"$f":"IFERROR(RTD(\"cqg.rtd\",,\"StudyData\", \"Correlation(\"&$B$3&\",\"&U$2&\",Period:=\"&$B$1&\",InputChoice1:=Close,InputChoice2::=Close)\", \"FG\", \"\", \"Close\",$B$2,A72, \"all\",\"\", \"\",\"True\",\"T\")/100,\"\")","v":-0.68357088932400001},null,0.36000000000000065,1,{"$error":"#N/A"},null,{"$f":"IFERROR(RTD(\"cqg.rtd\",,\"StudyData\", \"Correlation(\"&$B$3&\",\"&AA$2&\",Period:=\"&$B$1&\",InputChoice1:=Close,InputChoice2::=Close)\", \"FG\", \"\", \"Close\",$B$2,A72, \"all\",\"\", \"\",\"True\",\"T\")/100,\"\")","v":-0.29471797788100002},null,0.36000000000000065,1,{"$error":"#N/A"},null,{"$f":"IFERROR(RTD(\"cqg.rtd\",,\"StudyData\", \"Correlation(\"&$B$3&\",\"&AG$2&\",Period:=\"&$B$1&\",InputChoice1:=Close,InputChoice2::=Close)\", \"FG\", \"\", \"Close\",$B$2,A72, \"all\",\"\", \"\",\"True\",\"T\")/100,\"\")","v":-0.14332741368000002},null,0.36000000000000065,1,{"$error":"#N/A"},null,{"$f":"IFERROR(RTD(\"cqg.rtd\",,\"StudyData\", \"Correlation(\"&$B$3&\",\"&AM$2&\",Period:=\"&$B$1&\",InputChoice1:=Close,InputChoice2::=Close)\", \"FG\", \"\", \"Close\",$B$2,A72, \"all\",\"\", \"\",\"True\",\"T\")/100,\"\")","v":-0.32137247249399997},null,0.36000000000000065,0,{"$error":"#N/A"},null,{"$f":"IFERROR(RTD(\"cqg.rtd\",,\"StudyData\", \"Correlation(\"&$B$3&\",\"&AS$2&\",Period:=\"&$B$1&\",InputChoice1:=Close,InputChoice2::=Close)\", \"FG\", \"\", \"Close\",$B$2,A72, \"all\",\"\", \"\",\"True\",\"T\")/100,\"\")","v":0.20854554139500001},null,0.36000000000000065,0,{"$error":"#N/A"},null,{"$f":"IFERROR(RTD(\"cqg.rtd\",,\"StudyData\", \"Correlation(\"&$B$3&\",\"&AY$2&\",Period:=\"&$B$1&\",InputChoice1:=Close,InputChoice2::=Close)\", \"FG\", \"\", \"Close\",$B$2,A72, \"all\",\"\", \"\",\"True\",\"T\")/100,\"\")","v":-0.334912168372},null,0.36000000000000065,0,{"$error":"#N/A"},null,{"$f":"IFERROR(RTD(\"cqg.rtd\",,\"StudyData\", \"Correlation(\"&$B$3&\",\"&BE$2&\",Period:=\"&$B$1&\",InputChoice1:=Close,InputChoice2::=Close)\", \"FG\", \"\", \"Close\",$B$2,A72, \"all\",\"\", \"\",\"True\",\"T\")/100,\"\")","v":0.58497374835299998},null,0.36000000000000065,1,1]
[-69,null,{"$f":"IFERROR(RTD(\"cqg.rtd\",,\"StudyData\", \"Correlation(\"&$B$3&\",\"&C$2&\",Period:=\"&$B$1&\",InputChoice1:=Close,InputChoice2:=Close)\", \"FG\", \"\", \"Close\",$B$2,A73, \"all\",\"\", \"\",\"True\",\"T\")/100,\"\")","v":0.324031288004},null,0.38000000000000067,1,{"$error":"#N/A"},null,{"$f":"IFERROR(RTD(\"cqg.rtd\",,\"StudyData\", \"Correlation(\"&$B$3&\",\"&I$2&\",Period:=\"&$B$1&\",InputChoice1:=Close,InputChoice2::=Close)\", \"FG\", \"\", \"Close\",$B$2,A73, \"all\",\"\", \"\",\"True\",\"T\")/100,\"\")","v":0.49560924472099999},null,0.38000000000000067,2,{"$error":"#N/A"},null,{"$f":"IFERROR(RTD(\"cqg.rtd\",,\"StudyData\", \"Correlation(\"&$B$3&\",\"&O$2&\",Period:=\"&$B$1&\",InputChoice1:=Close,InputChoice2::=Close)\", \"FG\", \"\", \"Close\",$B$2,A73, \"all\",\"\", \"\",\"True\",\"T\")/100,\"\")","v":0.34660005678},null,0.38000000000000067,3,{"$error":"#N/A"},null,{"$f":"IFERROR(RTD(\"cqg.rtd\",,\"StudyData\", \"Correlation(\"&$B$3&\",\"&U$2&\",Period:=\"&$B$1&\",InputChoice1:=Close,InputChoice2::=Close)\", \"FG\", \"\", \"Close\",$B$2,A73, \"all\",\"\", \"\",\"True\",\"T\")/100,\"\")","v":-0.67343395407700002},null,0.38000000000000067,1,{"$error":"#N/A"},null,{"$f":"IFERROR(RTD(\"cqg.rtd\",,\"StudyData\", \"Correlation(\"&$B$3&\",\"&AA$2&\",Period:=\"&$B$1&\",InputChoice1:=Close,InputChoice2::=Close)\", \"FG\", \"\", \"Close\",$B$2,A73, \"all\",\"\", \"\",\"True\",\"T\")/100,\"\")","v":-0.42556077710700002},null,0.38000000000000067,0,{"$error":"#N/A"},null,{"$f":"IFERROR(RTD(\"cqg.rtd\",,\"StudyData\", \"Correlation(\"&$B$3&\",\"&AG$2&\",Period:=\"&$B$1&\",InputChoice1:=Close,InputChoice2::=Close)\", \"FG\", \"\", \"Close\",$B$2,A73, \"all\",\"\", \"\",\"True\",\"T\")/100,\"\")","v":-0.29839258453399997},null,0.38000000000000067,0,{"$error":"#N/A"},null,{"$f":"IFERROR(RTD(\"cqg.rtd\",,\"StudyData\", \"Correlation(\"&$B$3&\",\"&AM$2&\",Period:=\"&$B$1&\",InputChoice1:=Close,InputChoice2::=Close)\", \"FG\", \"\", \"Close\",$B$2,A73, \"all\",\"\", \"\",\"True\",\"T\")/100,\"\")","v":-0.45855054075099999},null,0.38000000000000067,1,{"$error":"#N/A"},null,{"$f":"IFERROR(RTD(\"cqg.rtd\",,\"StudyData\", \"Correlation(\"&$B$3&\",\"&AS$2&\",Period:=\"&$B$1&\",InputChoice1:=Close,InputChoice2::=Close)\", \"FG\", \"\", \"Close\",$B$2,A73, \"all\",\"\", \"\",\"True\",\"T\")/100,\"\")","v":0.32095297217800001},null,0.38000000000000067,0,{"$error":"#N/A"},null,{"$f":"IFERROR(RTD(\"cqg.rtd\",,\"StudyData\", \"Correlation(\"&$B$3&\",\"&AY$2&\",Period:=\"&$B$1&\",InputChoice1:=Close,InputChoice2::=Close)\", \"FG\", \"\", \"Close\",$B$2,A73, \"all\",\"\", \"\",\"True\",\"T\")/100,\"\")","v":-0.27241382482400001},null,0.38000000000000067,1,{"$error":"#N/A"},null,{"$f":"IFERROR(RTD(\"cqg.rtd\",,\"StudyData\", \"Correlation(\"&$B$3&\",\"&BE$2&\",Period:=\"&$B$1&\",InputChoice1:=Close,InputChoice2::=Close)\", \"FG\", \"\", \"Close\",$B$2,A73, \"all\",\"\", \"\",\"True\",\"T\")/100,\"\")","v":0.57506342191799997},null,0.38000000000000067,4,{"$error":"#N/A"}]
[-70,null,{"$f":"IFERROR(RTD(\"cqg.rtd\",,\"StudyData\", \"Correlation(\"&$B$3&\",\"&C$2&\",Period:=\"&$B$1&\",InputChoice1:=Close,InputChoice2:=Close)\", \"FG\", \"\", \"Close\",$B$2,A74, \"all\",\"\", \"\",\"True\",\"T\")/100,\"\")","v":0.35380479076599997},null,0.40000000000000069,0,{"$error":"#N/A"},null,{"$f":"IFERROR(RTD(\"cqg.rtd\",,\"StudyData\", \"Correlation(\"&$B$3&\",\"&I$2&\",Period:=\"&$B$1&\",InputChoice1:=Close,InputChoice2::=Close)\", \"FG\", \"\", \"Close\",$B$2,A74, \"all\",\"\", \"\",\"True\",\"T\")/100,\"\")","v":0.53141147482599993},null,0.40000000000000069,3,{"$error":"#N/A"},null,{"$f":"IFERROR(RTD(\"cqg.rtd\",,\"StudyData\", \"Correlation(\"&$B$3&\",\"&O$2&\",Period:=\"&$B$1&\",InputChoice1:=Close,InputChoice2::=Close)\", \"FG\", \"\", \"Close\",$B$2,A74, \"all\",\"\", \"\",\"True\",\"T\")/100,\"\")","v":0.36367444850500003},null,0.40000000000000069,3,{"$error":"#N/A"},null,{"$f":"IFERROR(RTD(\"cqg.rtd\",,\"StudyData\", \"Correlation(\"&$B$3&\",\"&U$2&\",Period:=\"&$B$1&\",InputChoice1:=Close,InputChoice2::=Close)\", \"FG\", \"\", \"Close\",$B$2,A74, \"all\",\"\", \"\",\"True\",\"T\")/100,\"\")","v":-0.67179780106999998},null,0.40000000000000069,4,{"$error":"#N/A"},null,{"$f":"IFERROR(RTD(\"cqg.rtd\",,\"StudyData\", \"Correlation(\"&$B$3&\",\"&AA$2&\",Period:=\"&$B$1&\",InputChoice1:=Close,InputChoice2::=Close)\", \"FG\", \"\", \"Close\",$B$2,A74, \"all\",\"\", \"\",\"True\",\"T\")/100,\"\")","v":-0.52774447267400004},null,0.40000000000000069,2,{"$error":"#N/A"},null,{"$f":"IFERROR(RTD(\"cqg.rtd\",,\"StudyData\", \"Correlation(\"&$B$3&\",\"&AG$2&\",Period:=\"&$B$1&\",InputChoice1:=Close,InputChoice2::=Close)\", \"FG\", \"\", \"Close\",$B$2,A74, \"all\",\"\", \"\",\"True\",\"T\")/100,\"\")","v":-0.43773572245499998},null,0.40000000000000069,1,{"$error":"#N/A"},null,{"$f":"IFERROR(RTD(\"cqg.rtd\",,\"StudyData\", \"Correlation(\"&$B$3&\",\"&AM$2&\",Period:=\"&$B$1&\",InputChoice1:=Close,InputChoice2::=Close)\", \"FG\", \"\", \"Close\",$B$2,A74, \"all\",\"\", \"\",\"True\",\"T\")/100,\"\")","v":-0.56521836437100004},null,0.40000000000000069,1,{"$error":"#N/A"},null,{"$f":"IFERROR(RTD(\"cqg.rtd\",,\"StudyData\", \"Correlation(\"&$B$3&\",\"&AS$2&\",Period:=\"&$B$1&\",InputChoice1:=Close,InputChoice2::=Close)\", \"FG\", \"\", \"Close\",$B$2,A74, \"all\",\"\", \"\",\"True\",\"T\")/100,\"\")","v":0.40611110541700002},null,0.40000000000000069,0,{"$error":"#N/A"},null,{"$f":"IFERROR(RTD(\"cqg.rtd\",,\"StudyData\", \"Correlation(\"&$B$3&\",\"&AY$2&\",Period:=\"&$B$1&\",InputChoice1:=Close,InputChoice2::=Close)\", \"FG\", \"\", \"Close\",$B$2,A74, \"all\",\"\", \"\",\"True\",\"T\")/100,\"\")","v":-0.15891499828},null,0.40000000000000069,1,{"$error":"#N/A"},null,{"$f":"IFERROR(RTD(\"cqg.rtd\",,\"StudyData\", \"Correlation(\"&$B$3&\",\"&BE$2&\",Period:=\"&$B$1&\",InputChoice1:=Close,InputChoice2::=Close)\", \"FG\", \"\", \"Close\",$B$2,A74, \"all\",\"\", \"\",\"True\",\"T\")/100,\"\")","v":0.59201690591899991},null,0.40000000000000069,3,{"$error":"#N/A"}]
[-71,null,{"$f":"IFERROR(RTD(\"cqg.rtd\",,\"StudyData\", \"Correlation(\"&$B$3&\",\"&C$2&\",Period:=\"&$B$1&\",InputChoice1:=Close,InputChoice2:=Close)\", \"FG\", \"\", \"Close\",$B$2,A75, \"all\",\"\", \"\",\"True\",\"T\")/100,\"\")","v":0.23556843879199998},null,0.42000000000000071,2,{"$error":"#N/A"},null,{"$f":"IFERROR(RTD(\"cqg.rtd\",,\"StudyData\", \"Correlation(\"&$B$3&\",\"&I$2&\",Period:=\"&$B$1&\",InputChoice1:=Close,InputChoice2::=Close)\", \"FG\", \"\", \"Close\",$B$2,A75, \"all\",\"\", \"\",\"True\",\"T\")/100,\"\")","v":0.49572821524699995},null,0.42000000000000071,0,{"$error":"#N/A"},null,{"$f":"IFERROR(RTD(\"cqg.rtd\",,\"StudyData\", \"Correlation(\"&$B$3&\",\"&O$2&\",Period:=\"&$B$1&\",InputChoice1:=Close,InputChoice2::=Close)\", \"FG\", \"\", \"Close\",$B$2,A75, \"all\",\"\", \"\",\"True\",\"T\")/100,\"\")","v":0.37397831359700001},null,0.42000000000000071,0,{"$error":"#N/A"},null,{"$f":"IFERROR(RTD(\"cqg.rtd\",,\"StudyData\", \"Correlation(\"&$B$3&\",\"&U$2&\",Period:=\"&$B$1&\",InputChoice1:=Close,InputChoice2::=Close)\", \"FG\", \"\", \"Close\",$B$2,A75, \"all\",\"\", \"\",\"True\",\"T\")/100,\"\")","v":-0.714445067421},null,0.42000000000000071,0,{"$error":"#N/A"},null,{"$f":"IFERROR(RTD(\"cqg.rtd\",,\"StudyData\", \"Correlation(\"&$B$3&\",\"&AA$2&\",Period:=\"&$B$1&\",InputChoice1:=Close,InputChoice2::=Close)\", \"FG\", \"\", \"Close\",$B$2,A75, \"all\",\"\", \"\",\"True\",\"T\")/100,\"\")","v":-0.66299349870000002},null,0.42000000000000071,1,{"$error":"#N/A"},null,{"$f":"IFERROR(RTD(\"cqg.rtd\",,\"StudyData\", \"Correlation(\"&$B$3&\",\"&AG$2&\",Period:=\"&$B$1&\",InputChoice1:=Close,InputChoice2::=Close)\", \"FG\", \"\", \"Close\",$B$2,A75, \"all\",\"\", \"\",\"True\",\"T\")/100,\"\")","v":-0.59770621209300001},null,0.42000000000000071,1,{"$error":"#N/A"},null,{"$f":"IFERROR(RTD(\"cqg.rtd\",,\"StudyData\", \"Correlation(\"&$B$3&\",\"&AM$2&\",Period:=\"&$B$1&\",InputChoice1:=Close,InputChoice2::=Close)\", \"FG\", \"\", \"Close\",$B$2,A75, \"all\",\"\", \"\",\"True\",\"T\")/100,\"\")","v":-0.69409989313300002},null,0.42000000000000071,1,{"$error":"#N/A"},null,{"$f":"IFERROR(RTD(\"cqg.rtd\",,\"StudyData\", \"Correlation(\"&$B$3&\",\"&AS$2&\",Period:=\"&$B$1&\",InputChoice1:=Close,InputChoice2::=Close)\", \"FG\", \"\", \"Close\",$B$2,A75, \"all\",\"\", \"\",\"True\",\"T\")/100,\"\")","v":0.49505418613800001},null,0.42000000000000071,2,{"$error":"#N/A"},null,{"$f":"IFERROR(RTD(\"cqg.rtd\",,\"StudyData\", \"Correlation(\"&$B$3&\",\"&AY$2&\",Period:=\"&$B$1&\",InputChoice1:=Close,InputChoice2::=Close)\", \"FG\", \"\", \"Close\",$B$2,A75, \"all\",\"\", \"\",\"True\",\"T\")/100,\"\")","v":-8.1167057533999998E-2},null,0.42000000000000071,0,{"$error":"#N/A"},null,{"$f":"IFERROR(RTD(\"cqg.rtd\",,\"StudyData\", \"Correlation(\"&$B$3&\",\"&BE$2&\",Period:=\"&$B$1&\",InputChoice1:=Close,InputChoice2::=Close)\", \"FG\", \"\", \"Close\",$B$2,A75, \"all\",\"\", \"\",\"True\",\"T\")/100,\"\")","v":0.64161147507799998},null,0.42000000000000071,0,{"$error":"#N/A"}]
[-72,null,{"$f":"IFERROR(RTD(\"cqg.rtd\",,\"StudyData\", \"Correlation(\"&$B$3&\",\"&C$2&\",Period:=\"&$B$1&\",InputChoice1:=Close,InputChoice2:=Close)\", \"FG\", \"\", \"Close\",$B$2,A76, \"all\",\"\", \"\",\"True\",\"T\")/100,\"\")","v":0.17802526757500001},null,0.44000000000000072,0,{"$error":"#N/A"},null,{"$f":"IFERROR(RTD(\"cqg.rtd\",,\"StudyData\", \"Correlation(\"&$B$3&\",\"&I$2&\",Period:=\"&$B$1&\",InputChoice1:=Close,InputChoice2::=Close)\", \"FG\", \"\", \"Close\",$B$2,A76, \"all\",\"\", \"\",\"True\",\"T\")/100,\"\")","v":0.46873724160699998},null,0.44000000000000072,1,{"$error":"#N/A"},null,{"$f":"IFERROR(RTD(\"cqg.rtd\",,\"StudyData\", \"Correlation(\"&$B$3&\",\"&O$2&\",Period:=\"&$B$1&\",InputChoice1:=Close,InputChoice2::=Close)\", \"FG\", \"\", \"Close\",$B$2,A76, \"all\",\"\", \"\",\"True\",\"T\")/100,\"\")","v":0.33372589866399999},null,0.44000000000000072,3,{"$error":"#N/A"},null,{"$f":"IFERROR(RTD(\"cqg.rtd\",,\"StudyData\", \"Correlation(\"&$B$3&\",\"&U$2&\",Period:=\"&$B$1&\",InputChoice1:=Close,InputChoice2::=Close)\", \"FG\", \"\", \"Close\",$B$2,A76, \"all\",\"\", \"\",\"True\",\"T\")/100,\"\")","v":-0.72702310932299996},null,0.44000000000000072,2,{"$error":"#N/A"},null,{"$f":"IFERROR(RTD(\"cqg.rtd\",,\"StudyData\", \"Correlation(\"&$B$3&\",\"&AA$2&\",Period:=\"&$B$1&\",InputChoice1:=Close,InputChoice2::=Close)\", \"FG\", \"\", \"Close\",$B$2,A76, \"all\",\"\", \"\",\"True\",\"T\")/100,\"\")","v":-0.72746221057499993},null,0.44000000000000072,1,{"$error":"#N/A"},null,{"$f":"IFERROR(RTD(\"cqg.rtd\",,\"StudyData\", \"Correlation(\"&$B$3&\",\"&AG$2&\",Period:=\"&$B$1&\",InputChoice1:=Close,InputChoice2::=Close)\", \"FG\", \"\", \"Close\",$B$2,A76, \"all\",\"\", \"\",\"True\",\"T\")/100,\"\")","v":-0.67304870608599998},null,0.44000000000000072,1,{"$error":"#N/A"},null,{"$f":"IFERROR(RTD(\"cqg.rtd\",,\"StudyData\", \"Correlation(\"&$B$3&\",\"&AM$2&\",Period:=\"&$B$1&\",InputChoice1:=Close,InputChoice2::=Close)\", \"FG\", \"\", \"Close\",$B$2,A76, \"all\",\"\", \"\",\"True\",\"T\")/100,\"\")","v":-0.73824240991000001},null,0.44000000000000072,0,{"$error":"#N/A"},null,{"$f":"IFERROR(RTD(\"cqg.rtd\",,\"StudyData\", \"Correlation(\"&$B$3&\",\"&AS$2&\",Period:=\"&$B$1&\",InputChoice1:=Close,InputChoice2::=Close)\", \"FG\", \"\", \"Close\",$B$2,A76, \"all\",\"\", \"\",\"True\",\"T\")/100,\"\")","v":0.63801450213300004},null,0.44000000000000072,2,{"$error":"#N/A"},null,{"$f":"IFERROR(RTD(\"cqg.rtd\",,\"StudyData\", \"Correlation(\"&$B$3&\",\"&AY$2&\",Period:=\"&$B$1&\",InputChoice1:=Close,InputChoice2::=Close)\", \"FG\", \"\", \"Close\",$B$2,A76, \"all\",\"\", \"\",\"True\",\"T\")/100,\"\")","v":-1.7660082441000001E-2},null,0.44000000000000072,1,{"$error":"#N/A"},null,{"$f":"IFERROR(RTD(\"cqg.rtd\",,\"StudyData\", \"Correlation(\"&$B$3&\",\"&BE$2&\",Period:=\"&$B$1&\",InputChoice1:=Close,InputChoice2::=Close)\", \"FG\", \"\", \"Close\",$B$2,A76, \"all\",\"\", \"\",\"True\",\"T\")/100,\"\")","v":0.65861172832500003},null,0.44000000000000072,1,{"$error":"#N/A"}]
[-73,null,{"$f":"IFERROR(RTD(\"cqg.rtd\",,\"StudyData\", \"Correlation(\"&$B$3&\",\"&C$2&\",Period:=\"&$B$1&\",InputChoice1:=Close,InputChoice2:=Close)\", \"FG\", \"\", \"Close\",$B$2,A77, \"all\",\"\", \"\",\"True\",\"T\")/100,\"\")","v":0.15803021288499999},null,0.46000000000000074,0,{"$error":"#N/A"},null,{"$f":"IFERROR(RTD(\"cqg.rtd\",,\"StudyData\", \"Correlation(\"&$B$3&\",\"&I$2&\",Period:=\"&$B$1&\",InputChoice1:=Close,InputChoice2::=Close)\", \"FG\", \"\", \"Close\",$B$2,A77, \"all\",\"\", \"\",\"True\",\"T\")/100,\"\")","v":0.45723476001000002},null,0.46000000000000074,4,{"$error":"#N/A"},null,{"$f":"IFERROR(RTD(\"cqg.rtd\",,\"StudyData\", \"Correlation(\"&$B$3&\",\"&O$2&\",Period:=\"&$B$1&\",InputChoice1:=Close,InputChoice2::=Close)\", \"FG\", \"\", \"Close\",$B$2,A77, \"all\",\"\", \"\",\"True\",\"T\")/100,\"\")","v":0.31120578596499998},null,0.46000000000000074,0,{"$error":"#N/A"},null,{"$f":"IFERROR(RTD(\"cqg.rtd\",,\"StudyData\", \"Correlation(\"&$B$3&\",\"&U$2&\",Period:=\"&$B$1&\",InputChoice1:=Close,InputChoice2::=Close)\", \"FG\", \"\", \"Close\",$B$2,A77, \"all\",\"\", \"\",\"True\",\"T\")/100,\"\")","v":-0.70392475875900007},null,0.46000000000000074,1,{"$error":"#N/A"},null,{"$f":"IFERROR(RTD(\"cqg.rtd\",,\"StudyData\", \"Correlation(\"&$B$3&\",\"&AA$2&\",Period:=\"&$B$1&\",InputChoice1:=Close,InputChoice2::=Close)\", \"FG\", \"\", \"Close\",$B$2,A77, \"all\",\"\", \"\",\"True\",\"T\")/100,\"\")","v":-0.81717832931299994},null,0.46000000000000074,0,{"$error":"#N/A"},null,{"$f":"IFERROR(RTD(\"cqg.rtd\",,\"StudyData\", \"Correlation(\"&$B$3&\",\"&AG$2&\",Period:=\"&$B$1&\",InputChoice1:=Close,InputChoice2::=Close)\", \"FG\", \"\", \"Close\",$B$2,A77, \"all\",\"\", \"\",\"True\",\"T\")/100,\"\")","v":-0.77925814008900007},null,0.46000000000000074,1,{"$error":"#N/A"},null,{"$f":"IFERROR(RTD(\"cqg.rtd\",,\"StudyData\", \"Correlation(\"&$B$3&\",\"&AM$2&\",Period:=\"&$B$1&\",InputChoice1:=Close,InputChoice2::=Close)\", \"FG\", \"\", \"Close\",$B$2,A77, \"all\",\"\", \"\",\"True\",\"T\")/100,\"\")","v":-0.79590519932399995},null,0.46000000000000074,0,{"$error":"#N/A"},null,{"$f":"IFERROR(RTD(\"cqg.rtd\",,\"StudyData\", \"Correlation(\"&$B$3&\",\"&AS$2&\",Period:=\"&$B$1&\",InputChoice1:=Close,InputChoice2::=Close)\", \"FG\", \"\", \"Close\",$B$2,A77, \"all\",\"\", \"\",\"True\",\"T\")/100,\"\")","v":0.74805614240999996},null,0.46000000000000074,1,{"$error":"#N/A"},null,{"$f":"IFERROR(RTD(\"cqg.rtd\",,\"StudyData\", \"Correlation(\"&$B$3&\",\"&AY$2&\",Period:=\"&$B$1&\",InputChoice1:=Close,InputChoice2::=Close)\", \"FG\", \"\", \"Close\",$B$2,A77, \"all\",\"\", \"\",\"True\",\"T\")/100,\"\")","v":2.5388563629999998E-3},null,0.46000000000000074,1,{"$error":"#N/A"},null,{"$f":"IFERROR(RTD(\"cqg.rtd\",,\"StudyData\", \"Correlation(\"&$B$3&\",\"&BE$2&\",Period:=\"&$B$1&\",InputChoice1:=Close,InputChoice2::=Close)\", \"FG\", \"\", \"Close\",$B$2,A77, \"all\",\"\", \"\",\"True\",\"T\")/100,\"\")","v":0.71060865014800001},null,0.46000000000000074,1,{"$error":"#N/A"}]
[-74,null,{"$f":"IFERROR(RTD(\"cqg.rtd\",,\"StudyData\", \"Correlation(\"&$B$3&\",\"&C$2&\",Period:=\"&$B$1&\",InputChoice1:=Close,InputChoice2:=Close)\", \"FG\", \"\", \"Close\",$B$2,A78, \"all\",\"\", \"\",\"True\",\"T\")/100,\"\")","v":6.9633872769000002E-2},null,0.48000000000000076,1,{"$error":"#N/A"},null,{"$f":"IFERROR(RTD(\"cqg.rtd\",,\"StudyData\", \"Correlation(\"&$B$3&\",\"&I$2&\",Period:=\"&$B$1&\",InputChoice1:=Close,InputChoice2::=Close)\", \"FG\", \"\", \"Close\",$B$2,A78, \"all\",\"\", \"\",\"True\",\"T\")/100,\"\")","v":0.37287585329800005},null,0.48000000000000076,2,{"$error":"#N/A"},null,{"$f":"IFERROR(RTD(\"cqg.rtd\",,\"StudyData\", \"Correlation(\"&$B$3&\",\"&O$2&\",Period:=\"&$B$1&\",InputChoice1:=Close,InputChoice2::=Close)\", \"FG\", \"\", \"Close\",$B$2,A78, \"all\",\"\", \"\",\"True\",\"T\")/100,\"\")","v":0.296447752314},null,0.48000000000000076,2,{"$error":"#N/A"},null,{"$f":"IFERROR(RTD(\"cqg.rtd\",,\"StudyData\", \"Correlation(\"&$B$3&\",\"&U$2&\",Period:=\"&$B$1&\",InputChoice1:=Close,InputChoice2::=Close)\", \"FG\", \"\", \"Close\",$B$2,A78, \"all\",\"\", \"\",\"True\",\"T\")/100,\"\")","v":-0.71855434385299999},null,0.48000000000000076,1,{"$error":"#N/A"},null,{"$f":"IFERROR(RTD(\"cqg.rtd\",,\"StudyData\", \"Correlation(\"&$B$3&\",\"&AA$2&\",Period:=\"&$B$1&\",InputChoice1:=Close,InputChoice2::=Close)\", \"FG\", \"\", \"Close\",$B$2,A78, \"all\",\"\", \"\",\"True\",\"T\")/100,\"\")","v":-0.86449429986199999},null,0.48000000000000076,0,{"$error":"#N/A"},null,{"$f":"IFERROR(RTD(\"cqg.rtd\",,\"StudyData\", \"Correlation(\"&$B$3&\",\"&AG$2&\",Period:=\"&$B$1&\",InputChoice1:=Close,InputChoice2::=Close)\", \"FG\", \"\", \"Close\",$B$2,A78, \"all\",\"\", \"\",\"True\",\"T\")/100,\"\")","v":-0.84043285631599995},null,0.48000000000000076,1,{"$error":"#N/A"},null,{"$f":"IFERROR(RTD(\"cqg.rtd\",,\"StudyData\", \"Correlation(\"&$B$3&\",\"&AM$2&\",Period:=\"&$B$1&\",InputChoice1:=Close,InputChoice2::=Close)\", \"FG\", \"\", \"Close\",$B$2,A78, \"all\",\"\", \"\",\"True\",\"T\")/100,\"\")","v":-0.83125808618999997},null,0.48000000000000076,0,{"$error":"#N/A"},null,{"$f":"IFERROR(RTD(\"cqg.rtd\",,\"StudyData\", \"Correlation(\"&$B$3&\",\"&AS$2&\",Period:=\"&$B$1&\",InputChoice1:=Close,InputChoice2::=Close)\", \"FG\", \"\", \"Close\",$B$2,A78, \"all\",\"\", \"\",\"True\",\"T\")/100,\"\")","v":0.76067840376199991},null,0.48000000000000076,0,{"$error":"#N/A"},null,{"$f":"IFERROR(RTD(\"cqg.rtd\",,\"StudyData\", \"Correlation(\"&$B$3&\",\"&AY$2&\",Period:=\"&$B$1&\",InputChoice1:=Close,InputChoice2::=Close)\", \"FG\", \"\", \"Close\",$B$2,A78, \"all\",\"\", \"\",\"True\",\"T\")/100,\"\")","v":-6.2090609725999994E-2},null,0.48000000000000076,1,{"$error":"#N/A"},null,{"$f":"IFERROR(RTD(\"cqg.rtd\",,\"StudyData\", \"Correlation(\"&$B$3&\",\"&BE$2&\",Period:=\"&$B$1&\",InputChoice1:=Close,InputChoice2::=Close)\", \"FG\", \"\", \"Close\",$B$2,A78, \"all\",\"\", \"\",\"True\",\"T\")/100,\"\")","v":0.68978758401099993},null,0.48000000000000076,0,{"$error":"#N/A"}]
[-75,null,{"$f":"IFERROR(RTD(\"cqg.rtd\",,\"StudyData\", \"Correlation(\"&$B$3&\",\"&C$2&\",Period:=\"&$B$1&\",InputChoice1:=Close,InputChoice2:=Close)\", \"FG\", \"\", \"Close\",$B$2,A79, \"all\",\"\", \"\",\"True\",\"T\")/100,\"\")","v":-7.5279893306999995E-2},null,0.50000000000000078,0,{"$error":"#N/A"},null,{"$f":"IFERROR(RTD(\"cqg.rtd\",,\"StudyData\", \"Correlation(\"&$B$3&\",\"&I$2&\",Period:=\"&$B$1&\",InputChoice1:=Close,InputChoice2::=Close)\", \"FG\", \"\", \"Close\",$B$2,A79, \"all\",\"\", \"\",\"True\",\"T\")/100,\"\")","v":0.21746585878499999},null,0.50000000000000078,4,{"$error":"#N/A"},null,{"$f":"IFERROR(RTD(\"cqg.rtd\",,\"StudyData\", \"Correlation(\"&$B$3&\",\"&O$2&\",Period:=\"&$B$1&\",InputChoice1:=Close,InputChoice2::=Close)\", \"FG\", \"\", \"Close\",$B$2,A79, \"all\",\"\", \"\",\"True\",\"T\")/100,\"\")","v":0.22183861303699998},null,0.50000000000000078,0,{"$error":"#N/A"},null,{"$f":"IFERROR(RTD(\"cqg.rtd\",,\"StudyData\", \"Correlation(\"&$B$3&\",\"&U$2&\",Period:=\"&$B$1&\",InputChoice1:=Close,InputChoice2::=Close)\", \"FG\", \"\", \"Close\",$B$2,A79, \"all\",\"\", \"\",\"True\",\"T\")/100,\"\")","v":-0.70535184456},null,0.50000000000000078,1,{"$error":"#N/A"},null,{"$f":"IFERROR(RTD(\"cqg.rtd\",,\"StudyData\", \"Correlation(\"&$B$3&\",\"&AA$2&\",Period:=\"&$B$1&\",InputChoice1:=Close,InputChoice2::=Close)\", \"FG\", \"\", \"Close\",$B$2,A79, \"all\",\"\", \"\",\"True\",\"T\")/100,\"\")","v":-0.85468189329699995},null,0.50000000000000078,0,{"$error":"#N/A"},null,{"$f":"IFERROR(RTD(\"cqg.rtd\",,\"StudyData\", \"Correlation(\"&$B$3&\",\"&AG$2&\",Period:=\"&$B$1&\",InputChoice1:=Close,InputChoice2::=Close)\", \"FG\", \"\", \"Close\",$B$2,A79, \"all\",\"\", \"\",\"True\",\"T\")/100,\"\")","v":-0.8322964632030001},null,0.50000000000000078,0,{"$error":"#N/A"},null,{"$f":"IFERROR(RTD(\"cqg.rtd\",,\"StudyData\", \"Correlation(\"&$B$3&\",\"&AM$2&\",Period:=\"&$B$1&\",InputChoice1:=Close,InputChoice2::=Close)\", \"FG\", \"\", \"Close\",$B$2,A79, \"all\",\"\", \"\",\"True\",\"T\")/100,\"\")","v":-0.81183448329300001},null,0.50000000000000078,0,{"$error":"#N/A"},null,{"$f":"IFERROR(RTD(\"cqg.rtd\",,\"StudyData\", \"Correlation(\"&$B$3&\",\"&AS$2&\",Period:=\"&$B$1&\",InputChoice1:=Close,InputChoice2::=Close)\", \"FG\", \"\", \"Close\",$B$2,A79, \"all\",\"\", \"\",\"True\",\"T\")/100,\"\")","v":0.91834370893899997},null,0.50000000000000078,1,{"$error":"#N/A"},null,{"$f":"IFERROR(RTD(\"cqg.rtd\",,\"StudyData\", \"Correlation(\"&$B$3&\",\"&AY$2&\",Period:=\"&$B$1&\",InputChoice1:=Close,InputChoice2::=Close)\", \"FG\", \"\", \"Close\",$B$2,A79, \"all\",\"\", \"\",\"True\",\"T\")/100,\"\")","v":-0.16409141140199998},null,0.50000000000000078,2,{"$error":"#N/A"},null,{"$f":"IFERROR(RTD(\"cqg.rtd\",,\"StudyData\", \"Correlation(\"&$B$3&\",\"&BE$2&\",Period:=\"&$B$1&\",InputChoice1:=Close,InputChoice2::=Close)\", \"FG\", \"\", \"Close\",$B$2,A79, \"all\",\"\", \"\",\"True\",\"T\")/100,\"\")","v":0.67884646691499995},null,0.50000000000000078,1,{"$error":"#N/A"}]
[-76,null,{"$f":"IFERROR(RTD(\"cqg.rtd\",,\"StudyData\", \"Correlation(\"&$B$3&\",\"&C$2&\",Period:=\"&$B$1&\",InputChoice1:=Close,InputChoice2:=Close)\", \"FG\", \"\", \"Close\",$B$2,A80, \"all\",\"\", \"\",\"True\",\"T\")/100,\"\")","v":4.5338349701000001E-2},null,0.52000000000000079,1,{"$error":"#N/A"},null,{"$f":"IFERROR(RTD(\"cqg.rtd\",,\"StudyData\", \"Correlation(\"&$B$3&\",\"&I$2&\",Period:=\"&$B$1&\",InputChoice1:=Close,InputChoice2::=Close)\", \"FG\", \"\", \"Close\",$B$2,A80, \"all\",\"\", \"\",\"True\",\"T\")/100,\"\")","v":0.28909755247700003},null,0.52000000000000079,2,{"$error":"#N/A"},null,{"$f":"IFERROR(RTD(\"cqg.rtd\",,\"StudyData\", \"Correlation(\"&$B$3&\",\"&O$2&\",Period:=\"&$B$1&\",InputChoice1:=Close,InputChoice2::=Close)\", \"FG\", \"\", \"Close\",$B$2,A80, \"all\",\"\", \"\",\"True\",\"T\")/100,\"\")","v":0.16622550006},null,0.52000000000000079,0,{"$error":"#N/A"},null,{"$f":"IFERROR(RTD(\"cqg.rtd\",,\"StudyData\", \"Correlation(\"&$B$3&\",\"&U$2&\",Period:=\"&$B$1&\",InputChoice1:=Close,InputChoice2::=Close)\", \"FG\", \"\", \"Close\",$B$2,A80, \"all\",\"\", \"\",\"True\",\"T\")/100,\"\")","v":-0.616160683002},null,0.52000000000000079,1,{"$error":"#N/A"},null,{"$f":"IFERROR(RTD(\"cqg.rtd\",,\"StudyData\", \"Correlation(\"&$B$3&\",\"&AA$2&\",Period:=\"&$B$1&\",InputChoice1:=Close,InputChoice2::=Close)\", \"FG\", \"\", \"Close\",$B$2,A80, \"all\",\"\", \"\",\"True\",\"T\")/100,\"\")","v":-0.75809580237899998},null,0.52000000000000079,0,{"$error":"#N/A"},null,{"$f":"IFERROR(RTD(\"cqg.rtd\",,\"StudyData\", \"Correlation(\"&$B$3&\",\"&AG$2&\",Period:=\"&$B$1&\",InputChoice1:=Close,InputChoice2::=Close)\", \"FG\", \"\", \"Close\",$B$2,A80, \"all\",\"\", \"\",\"True\",\"T\")/100,\"\")","v":-0.72922271617199996},null,0.52000000000000079,0,{"$error":"#N/A"},null,{"$f":"IFERROR(RTD(\"cqg.rtd\",,\"StudyData\", \"Correlation(\"&$B$3&\",\"&AM$2&\",Period:=\"&$B$1&\",InputChoice1:=Close,InputChoice2::=Close)\", \"FG\", \"\", \"Close\",$B$2,A80, \"all\",\"\", \"\",\"True\",\"T\")/100,\"\")","v":-0.73516526656400005},null,0.52000000000000079,0,{"$error":"#N/A"},null,{"$f":"IFERROR(RTD(\"cqg.rtd\",,\"StudyData\", \"Correlation(\"&$B$3&\",\"&AS$2&\",Period:=\"&$B$1&\",InputChoice1:=Close,InputChoice2::=Close)\", \"FG\", \"\", \"Close\",$B$2,A80, \"all\",\"\", \"\",\"True\",\"T\")/100,\"\")","v":0.87615768612900002},null,0.52000000000000079,0,{"$error":"#N/A"},null,{"$f":"IFERROR(RTD(\"cqg.rtd\",,\"StudyData\", \"Correlation(\"&$B$3&\",\"&AY$2&\",Period:=\"&$B$1&\",InputChoice1:=Close,InputChoice2::=Close)\", \"FG\", \"\", \"Close\",$B$2,A80, \"all\",\"\", \"\",\"True\",\"T\")/100,\"\")","v":-0.24801674493699999},null,0.52000000000000079,2,{"$error":"#N/A"},null,{"$f":"IFERROR(RTD(\"cqg.rtd\",,\"StudyData\", \"Correlation(\"&$B$3&\",\"&BE$2&\",Period:=\"&$B$1&\",InputChoice1:=Close,InputChoice2::=Close)\", \"FG\", \"\", \"Close\",$B$2,A80, \"all\",\"\", \"\",\"True\",\"T\")/100,\"\")","v":0.68900722672900006},null,0.52000000000000079,2,{"$error":"#N/A"}]
[-77,null,{"$f":"IFERROR(RTD(\"cqg.rtd\",,\"StudyData\", \"Correlation(\"&$B$3&\",\"&C$2&\",Period:=\"&$B$1&\",InputChoice1:=Close,InputChoice2:=Close)\", \"FG\", \"\", \"Close\",$B$2,A81, \"all\",\"\", \"\",\"True\",\"T\")/100,\"\")","v":4.183812389E-3},null,0.54000000000000081,0,{"$error":"#N/A"},null,{"$f":"IFERROR(RTD(\"cqg.rtd\",,\"StudyData\", \"Correlation(\"&$B$3&\",\"&I$2&\",Period:=\"&$B$1&\",InputChoice1:=Close,InputChoice2::=Close)\", \"FG\", \"\", \"Close\",$B$2,A81, \"all\",\"\", \"\",\"True\",\"T\")/100,\"\")","v":0.20198553766800001},null,0.54000000000000081,1,{"$error":"#N/A"},null,{"$f":"IFERROR(RTD(\"cqg.rtd\",,\"StudyData\", \"Correlation(\"&$B$3&\",\"&O$2&\",Period:=\"&$B$1&\",InputChoice1:=Close,InputChoice2::=Close)\", \"FG\", \"\", \"Close\",$B$2,A81, \"all\",\"\", \"\",\"True\",\"T\")/100,\"\")","v":0.24739057977800002},null,0.54000000000000081,0,{"$error":"#N/A"},null,{"$f":"IFERROR(RTD(\"cqg.rtd\",,\"StudyData\", \"Correlation(\"&$B$3&\",\"&U$2&\",Period:=\"&$B$1&\",InputChoice1:=Close,InputChoice2::=Close)\", \"FG\", \"\", \"Close\",$B$2,A81, \"all\",\"\", \"\",\"True\",\"T\")/100,\"\")","v":-0.38803512230000003},null,0.54000000000000081,0,{"$error":"#N/A"},null,{"$f":"IFERROR(RTD(\"cqg.rtd\",,\"StudyData\", \"Correlation(\"&$B$3&\",\"&AA$2&\",Period:=\"&$B$1&\",InputChoice1:=Close,InputChoice2::=Close)\", \"FG\", \"\", \"Close\",$B$2,A81, \"all\",\"\", \"\",\"True\",\"T\")/100,\"\")","v":-0.58937165923800006},null,0.54000000000000081,0,{"$error":"#N/A"},null,{"$f":"IFERROR(RTD(\"cqg.rtd\",,\"StudyData\", \"Correlation(\"&$B$3&\",\"&AG$2&\",Period:=\"&$B$1&\",InputChoice1:=Close,InputChoice2::=Close)\", \"FG\", \"\", \"Close\",$B$2,A81, \"all\",\"\", \"\",\"True\",\"T\")/100,\"\")","v":-0.57214622583700003},null,0.54000000000000081,0,{"$error":"#N/A"},null,{"$f":"IFERROR(RTD(\"cqg.rtd\",,\"StudyData\", \"Correlation(\"&$B$3&\",\"&AM$2&\",Period:=\"&$B$1&\",InputChoice1:=Close,InputChoice2::=Close)\", \"FG\", \"\", \"Close\",$B$2,A81, \"all\",\"\", \"\",\"True\",\"T\")/100,\"\")","v":-0.59811608103300007},null,0.54000000000000081,1,{"$error":"#N/A"},null,{"$f":"IFERROR(RTD(\"cqg.rtd\",,\"StudyData\", \"Correlation(\"&$B$3&\",\"&AS$2&\",Period:=\"&$B$1&\",InputChoice1:=Close,InputChoice2::=Close)\", \"FG\", \"\", \"Close\",$B$2,A81, \"all\",\"\", \"\",\"True\",\"T\")/100,\"\")","v":0.73091274849200005},null,0.54000000000000081,0,{"$error":"#N/A"},null,{"$f":"IFERROR(RTD(\"cqg.rtd\",,\"StudyData\", \"Correlation(\"&$B$3&\",\"&AY$2&\",Period:=\"&$B$1&\",InputChoice1:=Close,InputChoice2::=Close)\", \"FG\", \"\", \"Close\",$B$2,A81, \"all\",\"\", \"\",\"True\",\"T\")/100,\"\")","v":-0.19253388939899999},null,0.54000000000000081,0,{"$error":"#N/A"},null,{"$f":"IFERROR(RTD(\"cqg.rtd\",,\"StudyData\", \"Correlation(\"&$B$3&\",\"&BE$2&\",Period:=\"&$B$1&\",InputChoice1:=Close,InputChoice2::=Close)\", \"FG\", \"\", \"Close\",$B$2,A81, \"all\",\"\", \"\",\"True\",\"T\")/100,\"\")","v":0.67350010721199993},null,0.54000000000000081,0,{"$error":"#N/A"}]
[-78,null,{"$f":"IFERROR(RTD(\"cqg.rtd\",,\"StudyData\", \"Correlation(\"&$B$3&\",\"&C$2&\",Period:=\"&$B$1&\",InputChoice1:=Close,InputChoice2:=Close)\", \"FG\", \"\", \"Close\",$B$2,A82, \"all\",\"\", \"\",\"True\",\"T\")/100,\"\")","v":3.1055312696000002E-2},null,0.56000000000000083,0,{"$error":"#N/A"},null,{"$f":"IFERROR(RTD(\"cqg.rtd\",,\"StudyData\", \"Correlation(\"&$B$3&\",\"&I$2&\",Period:=\"&$B$1&\",InputChoice1:=Close,InputChoice2::=Close)\", \"FG\", \"\", \"Close\",$B$2,A82, \"all\",\"\", \"\",\"True\",\"T\")/100,\"\")","v":0.134842161471},null,0.56000000000000083,0,{"$error":"#N/A"},null,{"$f":"IFERROR(RTD(\"cqg.rtd\",,\"StudyData\", \"Correlation(\"&$B$3&\",\"&O$2&\",Period:=\"&$B$1&\",InputChoice1:=Close,InputChoice2::=Close)\", \"FG\", \"\", \"Close\",$B$2,A82, \"all\",\"\", \"\",\"True\",\"T\")/100,\"\")","v":0.26354984174500001},null,0.56000000000000083,1,{"$error":"#N/A"},null,{"$f":"IFERROR(RTD(\"cqg.rtd\",,\"StudyData\", \"Correlation(\"&$B$3&\",\"&U$2&\",Period:=\"&$B$1&\",InputChoice1:=Close,InputChoice2::=Close)\", \"FG\", \"\", \"Close\",$B$2,A82, \"all\",\"\", \"\",\"True\",\"T\")/100,\"\")","v":-6.1835224039999998E-2},null,0.56000000000000083,1,{"$error":"#N/A"},null,{"$f":"IFERROR(RTD(\"cqg.rtd\",,\"StudyData\", \"Correlation(\"&$B$3&\",\"&AA$2&\",Period:=\"&$B$1&\",InputChoice1:=Close,InputChoice2::=Close)\", \"FG\", \"\", \"Close\",$B$2,A82, \"all\",\"\", \"\",\"True\",\"T\")/100,\"\")","v":-0.27234220044200003},null,0.56000000000000083,2,{"$error":"#N/A"},null,{"$f":"IFERROR(RTD(\"cqg.rtd\",,\"StudyData\", \"Correlation(\"&$B$3&\",\"&AG$2&\",Period:=\"&$B$1&\",InputChoice1:=Close,InputChoice2::=Close)\", \"FG\", \"\", \"Close\",$B$2,A82, \"all\",\"\", \"\",\"True\",\"T\")/100,\"\")","v":-0.27693329601200001},null,0.56000000000000083,1,{"$error":"#N/A"},null,{"$f":"IFERROR(RTD(\"cqg.rtd\",,\"StudyData\", \"Correlation(\"&$B$3&\",\"&AM$2&\",Period:=\"&$B$1&\",InputChoice1:=Close,InputChoice2::=Close)\", \"FG\", \"\", \"Close\",$B$2,A82, \"all\",\"\", \"\",\"True\",\"T\")/100,\"\")","v":-0.303282337796},null,0.56000000000000083,1,{"$error":"#N/A"},null,{"$f":"IFERROR(RTD(\"cqg.rtd\",,\"StudyData\", \"Correlation(\"&$B$3&\",\"&AS$2&\",Period:=\"&$B$1&\",InputChoice1:=Close,InputChoice2::=Close)\", \"FG\", \"\", \"Close\",$B$2,A82, \"all\",\"\", \"\",\"True\",\"T\")/100,\"\")","v":0.42211609242500003},null,0.56000000000000083,1,{"$error":"#N/A"},null,{"$f":"IFERROR(RTD(\"cqg.rtd\",,\"StudyData\", \"Correlation(\"&$B$3&\",\"&AY$2&\",Period:=\"&$B$1&\",InputChoice1:=Close,InputChoice2::=Close)\", \"FG\", \"\", \"Close\",$B$2,A82, \"all\",\"\", \"\",\"True\",\"T\")/100,\"\")","v":-0.250346595916},null,0.56000000000000083,1,{"$error":"#N/A"},null,{"$f":"IFERROR(RTD(\"cqg.rtd\",,\"StudyData\", \"Correlation(\"&$B$3&\",\"&BE$2&\",Period:=\"&$B$1&\",InputChoice1:=Close,InputChoice2::=Close)\", \"FG\", \"\", \"Close\",$B$2,A82, \"all\",\"\", \"\",\"True\",\"T\")/100,\"\")","v":0.58185187036300001},null,0.56000000000000083,2,{"$error":"#N/A"}]
[-79,null,{"$f":"IFERROR(RTD(\"cqg.rtd\",,\"StudyData\", \"Correlation(\"&$B$3&\",\"&C$2&\",Period:=\"&$B$1&\",InputChoice1:=Close,InputChoice2:=Close)\", \"FG\", \"\", \"Close\",$B$2,A83, \"all\",\"\", \"\",\"True\",\"T\")/100,\"\")","v":0.21146783508},null,0.58000000000000085,2,{"$error":"#N/A"},null,{"$f":"IFERROR(RTD(\"cqg.rtd\",,\"StudyData\", \"Correlation(\"&$B$3&\",\"&I$2&\",Period:=\"&$B$1&\",InputChoice1:=Close,InputChoice2::=Close)\", \"FG\", \"\", \"Close\",$B$2,A83, \"all\",\"\", \"\",\"True\",\"T\")/100,\"\")","v":0.321397030769},null,0.58000000000000085,1,{"$error":"#N/A"},null,{"$f":"IFERROR(RTD(\"cqg.rtd\",,\"StudyData\", \"Correlation(\"&$B$3&\",\"&O$2&\",Period:=\"&$B$1&\",InputChoice1:=Close,InputChoice2::=Close)\", \"FG\", \"\", \"Close\",$B$2,A83, \"all\",\"\", \"\",\"True\",\"T\")/100,\"\")","v":0.19925719544100001},null,0.58000000000000085,0,{"$error":"#N/A"},null,{"$f":"IFERROR(RTD(\"cqg.rtd\",,\"StudyData\", \"Correlation(\"&$B$3&\",\"&U$2&\",Period:=\"&$B$1&\",InputChoice1:=Close,InputChoice2::=Close)\", \"FG\", \"\", \"Close\",$B$2,A83, \"all\",\"\", \"\",\"True\",\"T\")/100,\"\")","v":0.24581463969299999},null,0.58000000000000085,1,{"$error":"#N/A"},null,{"$f":"IFERROR(RTD(\"cqg.rtd\",,\"StudyData\", \"Correlation(\"&$B$3&\",\"&AA$2&\",Period:=\"&$B$1&\",InputChoice1:=Close,InputChoice2::=Close)\", \"FG\", \"\", \"Close\",$B$2,A83, \"all\",\"\", \"\",\"True\",\"T\")/100,\"\")","v":0.176731932451},null,0.58000000000000085,0,{"$error":"#N/A"},null,{"$f":"IFERROR(RTD(\"cqg.rtd\",,\"StudyData\", \"Correlation(\"&$B$3&\",\"&AG$2&\",Period:=\"&$B$1&\",InputChoice1:=Close,InputChoice2::=Close)\", \"FG\", \"\", \"Close\",$B$2,A83, \"all\",\"\", \"\",\"True\",\"T\")/100,\"\")","v":0.23830173943399999},null,0.58000000000000085,1,{"$error":"#N/A"},null,{"$f":"IFERROR(RTD(\"cqg.rtd\",,\"StudyData\", \"Correlation(\"&$B$3&\",\"&AM$2&\",Period:=\"&$B$1&\",InputChoice1:=Close,InputChoice2::=Close)\", \"FG\", \"\", \"Close\",$B$2,A83, \"all\",\"\", \"\",\"True\",\"T\")/100,\"\")","v":0.150985017813},null,0.58000000000000085,0,{"$error":"#N/A"},null,{"$f":"IFERROR(RTD(\"cqg.rtd\",,\"StudyData\", \"Correlation(\"&$B$3&\",\"&AS$2&\",Period:=\"&$B$1&\",InputChoice1:=Close,InputChoice2::=Close)\", \"FG\", \"\", \"Close\",$B$2,A83, \"all\",\"\", \"\",\"True\",\"T\")/100,\"\")","v":0.262692230114},null,0.58000000000000085,0,{"$error":"#N/A"},null,{"$f":"IFERROR(RTD(\"cqg.rtd\",,\"StudyData\", \"Correlation(\"&$B$3&\",\"&AY$2&\",Period:=\"&$B$1&\",InputChoice1:=Close,InputChoice2::=Close)\", \"FG\", \"\", \"Close\",$B$2,A83, \"all\",\"\", \"\",\"True\",\"T\")/100,\"\")","v":-0.32163227713199999},null,0.58000000000000085,0,{"$error":"#N/A"},null,{"$f":"IFERROR(RTD(\"cqg.rtd\",,\"StudyData\", \"Correlation(\"&$B$3&\",\"&BE$2&\",Period:=\"&$B$1&\",InputChoice1:=Close,InputChoice2::=Close)\", \"FG\", \"\", \"Close\",$B$2,A83, \"all\",\"\", \"\",\"True\",\"T\")/100,\"\")","v":0.29007352824400001},null,0.58000000000000085,2,{"$error":"#N/A"}]
[-80,null,{"$f":"IFERROR(RTD(\"cqg.rtd\",,\"StudyData\", \"Correlation(\"&$B$3&\",\"&C$2&\",Period:=\"&$B$1&\",InputChoice1:=Close,InputChoice2:=Close)\", \"FG\", \"\", \"Close\",$B$2,A84, \"all\",\"\", \"\",\"True\",\"T\")/100,\"\")","v":0.37405224779900004},null,0.60000000000000087,1,{"$error":"#N/A"},null,{"$f":"IFERROR(RTD(\"cqg.rtd\",,\"StudyData\", \"Correlation(\"&$B$3&\",\"&I$2&\",Period:=\"&$B$1&\",InputChoice1:=Close,InputChoice2::=Close)\", \"FG\", \"\", \"Close\",$B$2,A84, \"all\",\"\", \"\",\"True\",\"T\")/100,\"\")","v":0.46197733048099998},null,0.60000000000000087,1,{"$error":"#N/A"},null,{"$f":"IFERROR(RTD(\"cqg.rtd\",,\"StudyData\", \"Correlation(\"&$B$3&\",\"&O$2&\",Period:=\"&$B$1&\",InputChoice1:=Close,InputChoice2::=Close)\", \"FG\", \"\", \"Close\",$B$2,A84, \"all\",\"\", \"\",\"True\",\"T\")/100,\"\")","v":0.31032161125800001},null,0.60000000000000087,1,{"$error":"#N/A"},null,{"$f":"IFERROR(RTD(\"cqg.rtd\",,\"StudyData\", \"Correlation(\"&$B$3&\",\"&U$2&\",Period:=\"&$B$1&\",InputChoice1:=Close,InputChoice2::=Close)\", \"FG\", \"\", \"Close\",$B$2,A84, \"all\",\"\", \"\",\"True\",\"T\")/100,\"\")","v":0.33204251806000001},null,0.60000000000000087,1,{"$error":"#N/A"},null,{"$f":"IFERROR(RTD(\"cqg.rtd\",,\"StudyData\", \"Correlation(\"&$B$3&\",\"&AA$2&\",Period:=\"&$B$1&\",InputChoice1:=Close,InputChoice2::=Close)\", \"FG\", \"\", \"Close\",$B$2,A84, \"all\",\"\", \"\",\"True\",\"T\")/100,\"\")","v":0.39518142087699998},null,0.60000000000000087,0,{"$error":"#N/A"},null,{"$f":"IFERROR(RTD(\"cqg.rtd\",,\"StudyData\", \"Correlation(\"&$B$3&\",\"&AG$2&\",Period:=\"&$B$1&\",InputChoice1:=Close,InputChoice2::=Close)\", \"FG\", \"\", \"Close\",$B$2,A84, \"all\",\"\", \"\",\"True\",\"T\")/100,\"\")","v":0.41214602219200003},null,0.60000000000000087,0,{"$error":"#N/A"},null,{"$f":"IFERROR(RTD(\"cqg.rtd\",,\"StudyData\", \"Correlation(\"&$B$3&\",\"&AM$2&\",Period:=\"&$B$1&\",InputChoice1:=Close,InputChoice2::=Close)\", \"FG\", \"\", \"Close\",$B$2,A84, \"all\",\"\", \"\",\"True\",\"T\")/100,\"\")","v":0.38345478449700005},null,0.60000000000000087,0,{"$error":"#N/A"},null,{"$f":"IFERROR(RTD(\"cqg.rtd\",,\"StudyData\", \"Correlation(\"&$B$3&\",\"&AS$2&\",Period:=\"&$B$1&\",InputChoice1:=Close,InputChoice2::=Close)\", \"FG\", \"\", \"Close\",$B$2,A84, \"all\",\"\", \"\",\"True\",\"T\")/100,\"\")","v":0.250413563846},null,0.60000000000000087,0,{"$error":"#N/A"},null,{"$f":"IFERROR(RTD(\"cqg.rtd\",,\"StudyData\", \"Correlation(\"&$B$3&\",\"&AY$2&\",Period:=\"&$B$1&\",InputChoice1:=Close,InputChoice2::=Close)\", \"FG\", \"\", \"Close\",$B$2,A84, \"all\",\"\", \"\",\"True\",\"T\")/100,\"\")","v":-0.43113642917299999},null,0.60000000000000087,0,{"$error":"#N/A"},null,{"$f":"IFERROR(RTD(\"cqg.rtd\",,\"StudyData\", \"Correlation(\"&$B$3&\",\"&BE$2&\",Period:=\"&$B$1&\",InputChoice1:=Close,InputChoice2::=Close)\", \"FG\", \"\", \"Close\",$B$2,A84, \"all\",\"\", \"\",\"True\",\"T\")/100,\"\")","v":-9.0563748176000006E-2},null,0.60000000000000087,4,{"$error":"#N/A"}]
[-81,null,{"$f":"IFERROR(RTD(\"cqg.rtd\",,\"StudyData\", \"Correlation(\"&$B$3&\",\"&C$2&\",Period:=\"&$B$1&\",InputChoice1:=Close,InputChoice2:=Close)\", \"FG\", \"\", \"Close\",$B$2,A85, \"all\",\"\", \"\",\"True\",\"T\")/100,\"\")","v":0.50021962102400008},null,0.62000000000000088,0,{"$error":"#N/A"},null,{"$f":"IFERROR(RTD(\"cqg.rtd\",,\"StudyData\", \"Correlation(\"&$B$3&\",\"&I$2&\",Period:=\"&$B$1&\",InputChoice1:=Close,InputChoice2::=Close)\", \"FG\", \"\", \"Close\",$B$2,A85, \"all\",\"\", \"\",\"True\",\"T\")/100,\"\")","v":0.56783592478199996},null,0.62000000000000088,1,{"$error":"#N/A"},null,{"$f":"IFERROR(RTD(\"cqg.rtd\",,\"StudyData\", \"Correlation(\"&$B$3&\",\"&O$2&\",Period:=\"&$B$1&\",InputChoice1:=Close,InputChoice2::=Close)\", \"FG\", \"\", \"Close\",$B$2,A85, \"all\",\"\", \"\",\"True\",\"T\")/100,\"\")","v":0.46122003070500001},null,0.62000000000000088,1,{"$error":"#N/A"},null,{"$f":"IFERROR(RTD(\"cqg.rtd\",,\"StudyData\", \"Correlation(\"&$B$3&\",\"&U$2&\",Period:=\"&$B$1&\",InputChoice1:=Close,InputChoice2::=Close)\", \"FG\", \"\", \"Close\",$B$2,A85, \"all\",\"\", \"\",\"True\",\"T\")/100,\"\")","v":0.39824088885999998},null,0.62000000000000088,0,{"$error":"#N/A"},null,{"$f":"IFERROR(RTD(\"cqg.rtd\",,\"StudyData\", \"Correlation(\"&$B$3&\",\"&AA$2&\",Period:=\"&$B$1&\",InputChoice1:=Close,InputChoice2::=Close)\", \"FG\", \"\", \"Close\",$B$2,A85, \"all\",\"\", \"\",\"True\",\"T\")/100,\"\")","v":0.55492831206100002},null,0.62000000000000088,0,{"$error":"#N/A"},null,{"$f":"IFERROR(RTD(\"cqg.rtd\",,\"StudyData\", \"Correlation(\"&$B$3&\",\"&AG$2&\",Period:=\"&$B$1&\",InputChoice1:=Close,InputChoice2::=Close)\", \"FG\", \"\", \"Close\",$B$2,A85, \"all\",\"\", \"\",\"True\",\"T\")/100,\"\")","v":0.55375709342699997},null,0.62000000000000088,0,{"$error":"#N/A"},null,{"$f":"IFERROR(RTD(\"cqg.rtd\",,\"StudyData\", \"Correlation(\"&$B$3&\",\"&AM$2&\",Period:=\"&$B$1&\",InputChoice1:=Close,InputChoice2::=Close)\", \"FG\", \"\", \"Close\",$B$2,A85, \"all\",\"\", \"\",\"True\",\"T\")/100,\"\")","v":0.557405233567},null,0.62000000000000088,0,{"$error":"#N/A"},null,{"$f":"IFERROR(RTD(\"cqg.rtd\",,\"StudyData\", \"Correlation(\"&$B$3&\",\"&AS$2&\",Period:=\"&$B$1&\",InputChoice1:=Close,InputChoice2::=Close)\", \"FG\", \"\", \"Close\",$B$2,A85, \"all\",\"\", \"\",\"True\",\"T\")/100,\"\")","v":0.41160391509499999},null,0.62000000000000088,0,{"$error":"#N/A"},null,{"$f":"IFERROR(RTD(\"cqg.rtd\",,\"StudyData\", \"Correlation(\"&$B$3&\",\"&AY$2&\",Period:=\"&$B$1&\",InputChoice1:=Close,InputChoice2::=Close)\", \"FG\", \"\", \"Close\",$B$2,A85, \"all\",\"\", \"\",\"True\",\"T\")/100,\"\")","v":-0.50312122537500004},null,0.62000000000000088,1,{"$error":"#N/A"},null,{"$f":"IFERROR(RTD(\"cqg.rtd\",,\"StudyData\", \"Correlation(\"&$B$3&\",\"&BE$2&\",Period:=\"&$B$1&\",InputChoice1:=Close,InputChoice2::=Close)\", \"FG\", \"\", \"Close\",$B$2,A85, \"all\",\"\", \"\",\"True\",\"T\")/100,\"\")","v":-0.314651341714},null,0.62000000000000088,1,{"$error":"#N/A"}]
[-82,null,{"$f":"IFERROR(RTD(\"cqg.rtd\",,\"StudyData\", \"Correlation(\"&$B$3&\",\"&C$2&\",Period:=\"&$B$1&\",InputChoice1:=Close,InputChoice2:=Close)\", \"FG\", \"\", \"Close\",$B$2,A86, \"all\",\"\", \"\",\"True\",\"T\")/100,\"\")","v":0.58371324205199993},null,0.6400000000000009,0,{"$error":"#N/A"},null,{"$f":"IFERROR(RTD(\"cqg.rtd\",,\"StudyData\", \"Correlation(\"&$B$3&\",\"&I$2&\",Period:=\"&$B$1&\",InputChoice1:=Close,InputChoice2::=Close)\", \"FG\", \"\", \"Close\",$B$2,A86, \"all\",\"\", \"\",\"True\",\"T\")/100,\"\")","v":0.63769075224799998},null,0.6400000000000009,1,{"$error":"#N/A"},null,{"$f":"IFERROR(RTD(\"cqg.rtd\",,\"StudyData\", \"Correlation(\"&$B$3&\",\"&O$2&\",Period:=\"&$B$1&\",InputChoice1:=Close,InputChoice2::=Close)\", \"FG\", \"\", \"Close\",$B$2,A86, \"all\",\"\", \"\",\"True\",\"T\")/100,\"\")","v":0.587012372959},null,0.6400000000000009,0,{"$error":"#N/A"},null,{"$f":"IFERROR(RTD(\"cqg.rtd\",,\"StudyData\", \"Correlation(\"&$B$3&\",\"&U$2&\",Period:=\"&$B$1&\",InputChoice1:=Close,InputChoice2::=Close)\", \"FG\", \"\", \"Close\",$B$2,A86, \"all\",\"\", \"\",\"True\",\"T\")/100,\"\")","v":0.47678924300299996},null,0.6400000000000009,1,{"$error":"#N/A"},null,{"$f":"IFERROR(RTD(\"cqg.rtd\",,\"StudyData\", \"Correlation(\"&$B$3&\",\"&AA$2&\",Period:=\"&$B$1&\",InputChoice1:=Close,InputChoice2::=Close)\", \"FG\", \"\", \"Close\",$B$2,A86, \"all\",\"\", \"\",\"True\",\"T\")/100,\"\")","v":0.67179904018399994},null,0.6400000000000009,0,{"$error":"#N/A"},null,{"$f":"IFERROR(RTD(\"cqg.rtd\",,\"StudyData\", \"Correlation(\"&$B$3&\",\"&AG$2&\",Period:=\"&$B$1&\",InputChoice1:=Close,InputChoice2::=Close)\", \"FG\", \"\", \"Close\",$B$2,A86, \"all\",\"\", \"\",\"True\",\"T\")/100,\"\")","v":0.69331721095299992},null,0.6400000000000009,0,{"$error":"#N/A"},null,{"$f":"IFERROR(RTD(\"cqg.rtd\",,\"StudyData\", \"Correlation(\"&$B$3&\",\"&AM$2&\",Period:=\"&$B$1&\",InputChoice1:=Close,InputChoice2::=Close)\", \"FG\", \"\", \"Close\",$B$2,A86, \"all\",\"\", \"\",\"True\",\"T\")/100,\"\")","v":0.67141670536999998},null,0.6400000000000009,0,{"$error":"#N/A"},null,{"$f":"IFERROR(RTD(\"cqg.rtd\",,\"StudyData\", \"Correlation(\"&$B$3&\",\"&AS$2&\",Period:=\"&$B$1&\",InputChoice1:=Close,InputChoice2::=Close)\", \"FG\", \"\", \"Close\",$B$2,A86, \"all\",\"\", \"\",\"True\",\"T\")/100,\"\")","v":0.26466403020500001},null,0.6400000000000009,1,{"$error":"#N/A"},null,{"$f":"IFERROR(RTD(\"cqg.rtd\",,\"StudyData\", \"Correlation(\"&$B$3&\",\"&AY$2&\",Period:=\"&$B$1&\",InputChoice1:=Close,InputChoice2::=Close)\", \"FG\", \"\", \"Close\",$B$2,A86, \"all\",\"\", \"\",\"True\",\"T\")/100,\"\")","v":-0.52857034669400005},null,0.6400000000000009,0,{"$error":"#N/A"},null,{"$f":"IFERROR(RTD(\"cqg.rtd\",,\"StudyData\", \"Correlation(\"&$B$3&\",\"&BE$2&\",Period:=\"&$B$1&\",InputChoice1:=Close,InputChoice2::=Close)\", \"FG\", \"\", \"Close\",$B$2,A86, \"all\",\"\", \"\",\"True\",\"T\")/100,\"\")","v":-0.34549197658199998},null,0.6400000000000009,2,{"$error":"#N/A"}]
[-83,null,{"$f":"IFERROR(RTD(\"cqg.rtd\",,\"StudyData\", \"Correlation(\"&$B$3&\",\"&C$2&\",Period:=\"&$B$1&\",InputChoice1:=Close,InputChoice2:=Close)\", \"FG\", \"\", \"Close\",$B$2,A87, \"all\",\"\", \"\",\"True\",\"T\")/100,\"\")","v":0.668611744121},null,0.66000000000000092,0,{"$error":"#N/A"},null,{"$f":"IFERROR(RTD(\"cqg.rtd\",,\"StudyData\", \"Correlation(\"&$B$3&\",\"&I$2&\",Period:=\"&$B$1&\",InputChoice1:=Close,InputChoice2::=Close)\", \"FG\", \"\", \"Close\",$B$2,A87, \"all\",\"\", \"\",\"True\",\"T\")/100,\"\")","v":0.71345512238500008},null,0.66000000000000092,0,{"$error":"#N/A"},null,{"$f":"IFERROR(RTD(\"cqg.rtd\",,\"StudyData\", \"Correlation(\"&$B$3&\",\"&O$2&\",Period:=\"&$B$1&\",InputChoice1:=Close,InputChoice2::=Close)\", \"FG\", \"\", \"Close\",$B$2,A87, \"all\",\"\", \"\",\"True\",\"T\")/100,\"\")","v":0.65321245558200003},null,0.66000000000000092,1,{"$error":"#N/A"},null,{"$f":"IFERROR(RTD(\"cqg.rtd\",,\"StudyData\", \"Correlation(\"&$B$3&\",\"&U$2&\",Period:=\"&$B$1&\",InputChoice1:=Close,InputChoice2::=Close)\", \"FG\", \"\", \"Close\",$B$2,A87, \"all\",\"\", \"\",\"True\",\"T\")/100,\"\")","v":0.49549854247299996},null,0.66000000000000092,1,{"$error":"#N/A"},null,{"$f":"IFERROR(RTD(\"cqg.rtd\",,\"StudyData\", \"Correlation(\"&$B$3&\",\"&AA$2&\",Period:=\"&$B$1&\",InputChoice1:=Close,InputChoice2::=Close)\", \"FG\", \"\", \"Close\",$B$2,A87, \"all\",\"\", \"\",\"True\",\"T\")/100,\"\")","v":0.730563052569},null,0.66000000000000092,0,{"$error":"#N/A"},null,{"$f":"IFERROR(RTD(\"cqg.rtd\",,\"StudyData\", \"Correlation(\"&$B$3&\",\"&AG$2&\",Period:=\"&$B$1&\",InputChoice1:=Close,InputChoice2::=Close)\", \"FG\", \"\", \"Close\",$B$2,A87, \"all\",\"\", \"\",\"True\",\"T\")/100,\"\")","v":0.76049673722899991},null,0.66000000000000092,0,{"$error":"#N/A"},null,{"$f":"IFERROR(RTD(\"cqg.rtd\",,\"StudyData\", \"Correlation(\"&$B$3&\",\"&AM$2&\",Period:=\"&$B$1&\",InputChoice1:=Close,InputChoice2::=Close)\", \"FG\", \"\", \"Close\",$B$2,A87, \"all\",\"\", \"\",\"True\",\"T\")/100,\"\")","v":0.73859478824199998},null,0.66000000000000092,0,{"$error":"#N/A"},null,{"$f":"IFERROR(RTD(\"cqg.rtd\",,\"StudyData\", \"Correlation(\"&$B$3&\",\"&AS$2&\",Period:=\"&$B$1&\",InputChoice1:=Close,InputChoice2::=Close)\", \"FG\", \"\", \"Close\",$B$2,A87, \"all\",\"\", \"\",\"True\",\"T\")/100,\"\")","v":0.14850422751799999},null,0.66000000000000092,1,{"$error":"#N/A"},null,{"$f":"IFERROR(RTD(\"cqg.rtd\",,\"StudyData\", \"Correlation(\"&$B$3&\",\"&AY$2&\",Period:=\"&$B$1&\",InputChoice1:=Close,InputChoice2::=Close)\", \"FG\", \"\", \"Close\",$B$2,A87, \"all\",\"\", \"\",\"True\",\"T\")/100,\"\")","v":-0.52208482960199998},null,0.66000000000000092,1,{"$error":"#N/A"},null,{"$f":"IFERROR(RTD(\"cqg.rtd\",,\"StudyData\", \"Correlation(\"&$B$3&\",\"&BE$2&\",Period:=\"&$B$1&\",InputChoice1:=Close,InputChoice2::=Close)\", \"FG\", \"\", \"Close\",$B$2,A87, \"all\",\"\", \"\",\"True\",\"T\")/100,\"\")","v":-0.35745925308099996},null,0.66000000000000092,8,{"$error":"#N/A"}]
[-84,null,{"$f":"IFERROR(RTD(\"cqg.rtd\",,\"StudyData\", \"Correlation(\"&$B$3&\",\"&C$2&\",Period:=\"&$B$1&\",InputChoice1:=Close,InputChoice2:=Close)\", \"FG\", \"\", \"Close\",$B$2,A88, \"all\",\"\", \"\",\"True\",\"T\")/100,\"\")","v":0.57784894461199998},null,0.68000000000000094,1,{"$error":"#N/A"},null,{"$f":"IFERROR(RTD(\"cqg.rtd\",,\"StudyData\", \"Correlation(\"&$B$3&\",\"&I$2&\",Period:=\"&$B$1&\",InputChoice1:=Close,InputChoice2::=Close)\", \"FG\", \"\", \"Close\",$B$2,A88, \"all\",\"\", \"\",\"True\",\"T\")/100,\"\")","v":0.59441685909999997},null,0.68000000000000094,0,{"$error":"#N/A"},null,{"$f":"IFERROR(RTD(\"cqg.rtd\",,\"StudyData\", \"Correlation(\"&$B$3&\",\"&O$2&\",Period:=\"&$B$1&\",InputChoice1:=Close,InputChoice2::=Close)\", \"FG\", \"\", \"Close\",$B$2,A88, \"all\",\"\", \"\",\"True\",\"T\")/100,\"\")","v":0.72670363382299996},null,0.68000000000000094,0,{"$error":"#N/A"},null,{"$f":"IFERROR(RTD(\"cqg.rtd\",,\"StudyData\", \"Correlation(\"&$B$3&\",\"&U$2&\",Period:=\"&$B$1&\",InputChoice1:=Close,InputChoice2::=Close)\", \"FG\", \"\", \"Close\",$B$2,A88, \"all\",\"\", \"\",\"True\",\"T\")/100,\"\")","v":0.51974810995699994},null,0.68000000000000094,1,{"$error":"#N/A"},null,{"$f":"IFERROR(RTD(\"cqg.rtd\",,\"StudyData\", \"Correlation(\"&$B$3&\",\"&AA$2&\",Period:=\"&$B$1&\",InputChoice1:=Close,InputChoice2::=Close)\", \"FG\", \"\", \"Close\",$B$2,A88, \"all\",\"\", \"\",\"True\",\"T\")/100,\"\")","v":0.6687214980570001},null,0.68000000000000094,2,{"$error":"#N/A"},null,{"$f":"IFERROR(RTD(\"cqg.rtd\",,\"StudyData\", \"Correlation(\"&$B$3&\",\"&AG$2&\",Period:=\"&$B$1&\",InputChoice1:=Close,InputChoice2::=Close)\", \"FG\", \"\", \"Close\",$B$2,A88, \"all\",\"\", \"\",\"True\",\"T\")/100,\"\")","v":0.68401530707500002},null,0.68000000000000094,0,{"$error":"#N/A"},null,{"$f":"IFERROR(RTD(\"cqg.rtd\",,\"StudyData\", \"Correlation(\"&$B$3&\",\"&AM$2&\",Period:=\"&$B$1&\",InputChoice1:=Close,InputChoice2::=Close)\", \"FG\", \"\", \"Close\",$B$2,A88, \"all\",\"\", \"\",\"True\",\"T\")/100,\"\")","v":0.68312573829000001},null,0.68000000000000094,1,{"$error":"#N/A"},null,{"$f":"IFERROR(RTD(\"cqg.rtd\",,\"StudyData\", \"Correlation(\"&$B$3&\",\"&AS$2&\",Period:=\"&$B$1&\",InputChoice1:=Close,InputChoice2::=Close)\", \"FG\", \"\", \"Close\",$B$2,A88, \"all\",\"\", \"\",\"True\",\"T\")/100,\"\")","v":0.14463883965999999},null,0.68000000000000094,0,{"$error":"#N/A"},null,{"$f":"IFERROR(RTD(\"cqg.rtd\",,\"StudyData\", \"Correlation(\"&$B$3&\",\"&AY$2&\",Period:=\"&$B$1&\",InputChoice1:=Close,InputChoice2::=Close)\", \"FG\", \"\", \"Close\",$B$2,A88, \"all\",\"\", \"\",\"True\",\"T\")/100,\"\")","v":-0.52701302473599998},null,0.68000000000000094,1,{"$error":"#N/A"},null,{"$f":"IFERROR(RTD(\"cqg.rtd\",,\"StudyData\", \"Correlation(\"&$B$3&\",\"&BE$2&\",Period:=\"&$B$1&\",InputChoice1:=Close,InputChoice2::=Close)\", \"FG\", \"\", \"Close\",$B$2,A88, \"all\",\"\", \"\",\"True\",\"T\")/100,\"\")","v":-0.39116599358999998},null,0.68000000000000094,3,{"$error":"#N/A"}]
[-85,null,{"$f":"IFERROR(RTD(\"cqg.rtd\",,\"StudyData\", \"Correlation(\"&$B$3&\",\"&C$2&\",Period:=\"&$B$1&\",InputChoice1:=Close,InputChoice2:=Close)\", \"FG\", \"\", \"Close\",$B$2,A89, \"all\",\"\", \"\",\"True\",\"T\")/100,\"\")","v":0.41967963576400003},null,0.70000000000000095,0,{"$error":"#N/A"},null,{"$f":"IFERROR(RTD(\"cqg.rtd\",,\"StudyData\", \"Correlation(\"&$B$3&\",\"&I$2&\",Period:=\"&$B$1&\",InputChoice1:=Close,InputChoice2::=Close)\", \"FG\", \"\", \"Close\",$B$2,A89, \"all\",\"\", \"\",\"True\",\"T\")/100,\"\")","v":0.44147229218699996},null,0.70000000000000095,0,{"$error":"#N/A"},null,{"$f":"IFERROR(RTD(\"cqg.rtd\",,\"StudyData\", \"Correlation(\"&$B$3&\",\"&O$2&\",Period:=\"&$B$1&\",InputChoice1:=Close,InputChoice2::=Close)\", \"FG\", \"\", \"Close\",$B$2,A89, \"all\",\"\", \"\",\"True\",\"T\")/100,\"\")","v":0.60047937422200004},null,0.70000000000000095,0,{"$error":"#N/A"},null,{"$f":"IFERROR(RTD(\"cqg.rtd\",,\"StudyData\", \"Correlation(\"&$B$3&\",\"&U$2&\",Period:=\"&$B$1&\",InputChoice1:=Close,InputChoice2::=Close)\", \"FG\", \"\", \"Close\",$B$2,A89, \"all\",\"\", \"\",\"True\",\"T\")/100,\"\")","v":0.33488351226000002},null,0.70000000000000095,0,{"$error":"#N/A"},null,{"$f":"IFERROR(RTD(\"cqg.rtd\",,\"StudyData\", \"Correlation(\"&$B$3&\",\"&AA$2&\",Period:=\"&$B$1&\",InputChoice1:=Close,InputChoice2::=Close)\", \"FG\", \"\", \"Close\",$B$2,A89, \"all\",\"\", \"\",\"True\",\"T\")/100,\"\")","v":0.54300315329399995},null,0.70000000000000095,0,{"$error":"#N/A"},null,{"$f":"IFERROR(RTD(\"cqg.rtd\",,\"StudyData\", \"Correlation(\"&$B$3&\",\"&AG$2&\",Period:=\"&$B$1&\",InputChoice1:=Close,InputChoice2::=Close)\", \"FG\", \"\", \"Close\",$B$2,A89, \"all\",\"\", \"\",\"True\",\"T\")/100,\"\")","v":0.56763728516},null,0.70000000000000095,2,{"$error":"#N/A"},null,{"$f":"IFERROR(RTD(\"cqg.rtd\",,\"StudyData\", \"Correlation(\"&$B$3&\",\"&AM$2&\",Period:=\"&$B$1&\",InputChoice1:=Close,InputChoice2::=Close)\", \"FG\", \"\", \"Close\",$B$2,A89, \"all\",\"\", \"\",\"True\",\"T\")/100,\"\")","v":0.53758161397199999},null,0.70000000000000095,1,{"$error":"#N/A"},null,{"$f":"IFERROR(RTD(\"cqg.rtd\",,\"StudyData\", \"Correlation(\"&$B$3&\",\"&AS$2&\",Period:=\"&$B$1&\",InputChoice1:=Close,InputChoice2::=Close)\", \"FG\", \"\", \"Close\",$B$2,A89, \"all\",\"\", \"\",\"True\",\"T\")/100,\"\")","v":0.126303471626},null,0.70000000000000095,0,{"$error":"#N/A"},null,{"$f":"IFERROR(RTD(\"cqg.rtd\",,\"StudyData\", \"Correlation(\"&$B$3&\",\"&AY$2&\",Period:=\"&$B$1&\",InputChoice1:=Close,InputChoice2::=Close)\", \"FG\", \"\", \"Close\",$B$2,A89, \"all\",\"\", \"\",\"True\",\"T\")/100,\"\")","v":-0.54110776094899993},null,0.70000000000000095,0,{"$error":"#N/A"},null,{"$f":"IFERROR(RTD(\"cqg.rtd\",,\"StudyData\", \"Correlation(\"&$B$3&\",\"&BE$2&\",Period:=\"&$B$1&\",InputChoice1:=Close,InputChoice2::=Close)\", \"FG\", \"\", \"Close\",$B$2,A89, \"all\",\"\", \"\",\"True\",\"T\")/100,\"\")","v":-0.37471299372399997},null,0.70000000000000095,3,{"$error":"#N/A"}]
[-86,null,{"$f":"IFERROR(RTD(\"cqg.rtd\",,\"StudyData\", \"Correlation(\"&$B$3&\",\"&C$2&\",Period:=\"&$B$1&\",InputChoice1:=Close,InputChoice2:=Close)\", \"FG\", \"\", \"Close\",$B$2,A90, \"all\",\"\", \"\",\"True\",\"T\")/100,\"\")","v":0.28095718583399998},null,0.72000000000000097,0,{"$error":"#N/A"},null,{"$f":"IFERROR(RTD(\"cqg.rtd\",,\"StudyData\", \"Correlation(\"&$B$3&\",\"&I$2&\",Period:=\"&$B$1&\",InputChoice1:=Close,InputChoice2::=Close)\", \"FG\", \"\", \"Close\",$B$2,A90, \"all\",\"\", \"\",\"True\",\"T\")/100,\"\")","v":0.29598539351399999},null,0.72000000000000097,1,{"$error":"#N/A"},null,{"$f":"IFERROR(RTD(\"cqg.rtd\",,\"StudyData\", \"Correlation(\"&$B$3&\",\"&O$2&\",Period:=\"&$B$1&\",InputChoice1:=Close,InputChoice2::=Close)\", \"FG\", \"\", \"Close\",$B$2,A90, \"all\",\"\", \"\",\"True\",\"T\")/100,\"\")","v":0.43520899209399999},null,0.72000000000000097,0,{"$error":"#N/A"},null,{"$f":"IFERROR(RTD(\"cqg.rtd\",,\"StudyData\", \"Correlation(\"&$B$3&\",\"&U$2&\",Period:=\"&$B$1&\",InputChoice1:=Close,InputChoice2::=Close)\", \"FG\", \"\", \"Close\",$B$2,A90, \"all\",\"\", \"\",\"True\",\"T\")/100,\"\")","v":0.16134988869400002},null,0.72000000000000097,0,{"$error":"#N/A"},null,{"$f":"IFERROR(RTD(\"cqg.rtd\",,\"StudyData\", \"Correlation(\"&$B$3&\",\"&AA$2&\",Period:=\"&$B$1&\",InputChoice1:=Close,InputChoice2::=Close)\", \"FG\", \"\", \"Close\",$B$2,A90, \"all\",\"\", \"\",\"True\",\"T\")/100,\"\")","v":0.43308163364199997},null,0.72000000000000097,0,{"$error":"#N/A"},null,{"$f":"IFERROR(RTD(\"cqg.rtd\",,\"StudyData\", \"Correlation(\"&$B$3&\",\"&AG$2&\",Period:=\"&$B$1&\",InputChoice1:=Close,InputChoice2::=Close)\", \"FG\", \"\", \"Close\",$B$2,A90, \"all\",\"\", \"\",\"True\",\"T\")/100,\"\")","v":0.46818012195300002},null,0.72000000000000097,0,{"$error":"#N/A"},null,{"$f":"IFERROR(RTD(\"cqg.rtd\",,\"StudyData\", \"Correlation(\"&$B$3&\",\"&AM$2&\",Period:=\"&$B$1&\",InputChoice1:=Close,InputChoice2::=Close)\", \"FG\", \"\", \"Close\",$B$2,A90, \"all\",\"\", \"\",\"True\",\"T\")/100,\"\")","v":0.41524533866899999},null,0.72000000000000097,0,{"$error":"#N/A"},null,{"$f":"IFERROR(RTD(\"cqg.rtd\",,\"StudyData\", \"Correlation(\"&$B$3&\",\"&AS$2&\",Period:=\"&$B$1&\",InputChoice1:=Close,InputChoice2::=Close)\", \"FG\", \"\", \"Close\",$B$2,A90, \"all\",\"\", \"\",\"True\",\"T\")/100,\"\")","v":0.17051043219299999},null,0.72000000000000097,0,{"$error":"#N/A"},null,{"$f":"IFERROR(RTD(\"cqg.rtd\",,\"StudyData\", \"Correlation(\"&$B$3&\",\"&AY$2&\",Period:=\"&$B$1&\",InputChoice1:=Close,InputChoice2::=Close)\", \"FG\", \"\", \"Close\",$B$2,A90, \"all\",\"\", \"\",\"True\",\"T\")/100,\"\")","v":-0.60235142487600002},null,0.72000000000000097,0,{"$error":"#N/A"},null,{"$f":"IFERROR(RTD(\"cqg.rtd\",,\"StudyData\", \"Correlation(\"&$B$3&\",\"&BE$2&\",Period:=\"&$B$1&\",InputChoice1:=Close,InputChoice2::=Close)\", \"FG\", \"\", \"Close\",$B$2,A90, \"all\",\"\", \"\",\"True\",\"T\")/100,\"\")","v":-0.38304348962500001},null,0.72000000000000097,1,{"$error":"#N/A"}]
[-87,null,{"$f":"IFERROR(RTD(\"cqg.rtd\",,\"StudyData\", \"Correlation(\"&$B$3&\",\"&C$2&\",Period:=\"&$B$1&\",InputChoice1:=Close,InputChoice2:=Close)\", \"FG\", \"\", \"Close\",$B$2,A91, \"all\",\"\", \"\",\"True\",\"T\")/100,\"\")","v":0.21784322903100001},null,0.74000000000000099,0,{"$error":"#N/A"},null,{"$f":"IFERROR(RTD(\"cqg.rtd\",,\"StudyData\", \"Correlation(\"&$B$3&\",\"&I$2&\",Period:=\"&$B$1&\",InputChoice1:=Close,InputChoice2::=Close)\", \"FG\", \"\", \"Close\",$B$2,A91, \"all\",\"\", \"\",\"True\",\"T\")/100,\"\")","v":0.225344495694},null,0.74000000000000099,0,{"$error":"#N/A"},null,{"$f":"IFERROR(RTD(\"cqg.rtd\",,\"StudyData\", \"Correlation(\"&$B$3&\",\"&O$2&\",Period:=\"&$B$1&\",InputChoice1:=Close,InputChoice2::=Close)\", \"FG\", \"\", \"Close\",$B$2,A91, \"all\",\"\", \"\",\"True\",\"T\")/100,\"\")","v":0.287483381707},null,0.74000000000000099,1,{"$error":"#N/A"},null,{"$f":"IFERROR(RTD(\"cqg.rtd\",,\"StudyData\", \"Correlation(\"&$B$3&\",\"&U$2&\",Period:=\"&$B$1&\",InputChoice1:=Close,InputChoice2::=Close)\", \"FG\", \"\", \"Close\",$B$2,A91, \"all\",\"\", \"\",\"True\",\"T\")/100,\"\")","v":3.6053288514999997E-2},null,0.74000000000000099,1,{"$error":"#N/A"},null,{"$f":"IFERROR(RTD(\"cqg.rtd\",,\"StudyData\", \"Correlation(\"&$B$3&\",\"&AA$2&\",Period:=\"&$B$1&\",InputChoice1:=Close,InputChoice2::=Close)\", \"FG\", \"\", \"Close\",$B$2,A91, \"all\",\"\", \"\",\"True\",\"T\")/100,\"\")","v":0.40985599414900004},null,0.74000000000000099,1,{"$error":"#N/A"},null,{"$f":"IFERROR(RTD(\"cqg.rtd\",,\"StudyData\", \"Correlation(\"&$B$3&\",\"&AG$2&\",Period:=\"&$B$1&\",InputChoice1:=Close,InputChoice2::=Close)\", \"FG\", \"\", \"Close\",$B$2,A91, \"all\",\"\", \"\",\"True\",\"T\")/100,\"\")","v":0.45911777650399999},null,0.74000000000000099,0,{"$error":"#N/A"},null,{"$f":"IFERROR(RTD(\"cqg.rtd\",,\"StudyData\", \"Correlation(\"&$B$3&\",\"&AM$2&\",Period:=\"&$B$1&\",InputChoice1:=Close,InputChoice2::=Close)\", \"FG\", \"\", \"Close\",$B$2,A91, \"all\",\"\", \"\",\"True\",\"T\")/100,\"\")","v":0.37383490876400005},null,0.74000000000000099,1,{"$error":"#N/A"},null,{"$f":"IFERROR(RTD(\"cqg.rtd\",,\"StudyData\", \"Correlation(\"&$B$3&\",\"&AS$2&\",Period:=\"&$B$1&\",InputChoice1:=Close,InputChoice2::=Close)\", \"FG\", \"\", \"Close\",$B$2,A91, \"all\",\"\", \"\",\"True\",\"T\")/100,\"\")","v":0.222946364605},null,0.74000000000000099,1,{"$error":"#N/A"},null,{"$f":"IFERROR(RTD(\"cqg.rtd\",,\"StudyData\", \"Correlation(\"&$B$3&\",\"&AY$2&\",Period:=\"&$B$1&\",InputChoice1:=Close,InputChoice2::=Close)\", \"FG\", \"\", \"Close\",$B$2,A91, \"all\",\"\", \"\",\"True\",\"T\")/100,\"\")","v":-0.56546969507400002},null,0.74000000000000099,1,{"$error":"#N/A"},null,{"$f":"IFERROR(RTD(\"cqg.rtd\",,\"StudyData\", \"Correlation(\"&$B$3&\",\"&BE$2&\",Period:=\"&$B$1&\",InputChoice1:=Close,InputChoice2::=Close)\", \"FG\", \"\", \"Close\",$B$2,A91, \"all\",\"\", \"\",\"True\",\"T\")/100,\"\")","v":-0.29591196952400001},null,0.74000000000000099,0,{"$error":"#N/A"}]
[-88,null,{"$f":"IFERROR(RTD(\"cqg.rtd\",,\"StudyData\", \"Correlation(\"&$B$3&\",\"&C$2&\",Period:=\"&$B$1&\",InputChoice1:=Close,InputChoice2:=Close)\", \"FG\", \"\", \"Close\",$B$2,A92, \"all\",\"\", \"\",\"True\",\"T\")/100,\"\")","v":0.15379852262800001},null,0.76000000000000101,0,{"$error":"#N/A"},null,{"$f":"IFERROR(RTD(\"cqg.rtd\",,\"StudyData\", \"Correlation(\"&$B$3&\",\"&I$2&\",Period:=\"&$B$1&\",InputChoice1:=Close,InputChoice2::=Close)\", \"FG\", \"\", \"Close\",$B$2,A92, \"all\",\"\", \"\",\"True\",\"T\")/100,\"\")","v":0.16214025614400002},null,0.76000000000000101,0,{"$error":"#N/A"},null,{"$f":"IFERROR(RTD(\"cqg.rtd\",,\"StudyData\", \"Correlation(\"&$B$3&\",\"&O$2&\",Period:=\"&$B$1&\",InputChoice1:=Close,InputChoice2::=Close)\", \"FG\", \"\", \"Close\",$B$2,A92, \"all\",\"\", \"\",\"True\",\"T\")/100,\"\")","v":0.20907177829799997},null,0.76000000000000101,0,{"$error":"#N/A"},null,{"$f":"IFERROR(RTD(\"cqg.rtd\",,\"StudyData\", \"Correlation(\"&$B$3&\",\"&U$2&\",Period:=\"&$B$1&\",InputChoice1:=Close,InputChoice2::=Close)\", \"FG\", \"\", \"Close\",$B$2,A92, \"all\",\"\", \"\",\"True\",\"T\")/100,\"\")","v":-4.5071342910999998E-2},null,0.76000000000000101,0,{"$error":"#N/A"},null,{"$f":"IFERROR(RTD(\"cqg.rtd\",,\"StudyData\", \"Correlation(\"&$B$3&\",\"&AA$2&\",Period:=\"&$B$1&\",InputChoice1:=Close,InputChoice2::=Close)\", \"FG\", \"\", \"Close\",$B$2,A92, \"all\",\"\", \"\",\"True\",\"T\")/100,\"\")","v":0.38329188444899998},null,0.76000000000000101,0,{"$error":"#N/A"},null,{"$f":"IFERROR(RTD(\"cqg.rtd\",,\"StudyData\", \"Correlation(\"&$B$3&\",\"&AG$2&\",Period:=\"&$B$1&\",InputChoice1:=Close,InputChoice2::=Close)\", \"FG\", \"\", \"Close\",$B$2,A92, \"all\",\"\", \"\",\"True\",\"T\")/100,\"\")","v":0.43915586618899999},null,0.76000000000000101,0,{"$error":"#N/A"},null,{"$f":"IFERROR(RTD(\"cqg.rtd\",,\"StudyData\", \"Correlation(\"&$B$3&\",\"&AM$2&\",Period:=\"&$B$1&\",InputChoice1:=Close,InputChoice2::=Close)\", \"FG\", \"\", \"Close\",$B$2,A92, \"all\",\"\", \"\",\"True\",\"T\")/100,\"\")","v":0.33371334826800003},null,0.76000000000000101,0,{"$error":"#N/A"},null,{"$f":"IFERROR(RTD(\"cqg.rtd\",,\"StudyData\", \"Correlation(\"&$B$3&\",\"&AS$2&\",Period:=\"&$B$1&\",InputChoice1:=Close,InputChoice2::=Close)\", \"FG\", \"\", \"Close\",$B$2,A92, \"all\",\"\", \"\",\"True\",\"T\")/100,\"\")","v":0.22309222083499999},null,0.76000000000000101,1,{"$error":"#N/A"},null,{"$f":"IFERROR(RTD(\"cqg.rtd\",,\"StudyData\", \"Correlation(\"&$B$3&\",\"&AY$2&\",Period:=\"&$B$1&\",InputChoice1:=Close,InputChoice2::=Close)\", \"FG\", \"\", \"Close\",$B$2,A92, \"all\",\"\", \"\",\"True\",\"T\")/100,\"\")","v":-0.49355678756000004},null,0.76000000000000101,0,{"$error":"#N/A"},null,{"$f":"IFERROR(RTD(\"cqg.rtd\",,\"StudyData\", \"Correlation(\"&$B$3&\",\"&BE$2&\",Period:=\"&$B$1&\",InputChoice1:=Close,InputChoice2::=Close)\", \"FG\", \"\", \"Close\",$B$2,A92, \"all\",\"\", \"\",\"True\",\"T\")/100,\"\")","v":-0.19631662458600002},null,0.76000000000000101,0,{"$error":"#N/A"}]
[-89,null,{"$f":"IFERROR(RTD(\"cqg.rtd\",,\"StudyData\", \"Correlation(\"&$B$3&\",\"&C$2&\",Period:=\"&$B$1&\",InputChoice1:=Close,InputChoice2:=Close)\", \"FG\", \"\", \"Close\",$B$2,A93, \"all\",\"\", \"\",\"True\",\"T\")/100,\"\")","v":0.119259419219},null,0.78000000000000103,0,{"$error":"#N/A"},null,{"$f":"IFERROR(RTD(\"cqg.rtd\",,\"StudyData\", \"Correlation(\"&$B$3&\",\"&I$2&\",Period:=\"&$B$1&\",InputChoice1:=Close,InputChoice2::=Close)\", \"FG\", \"\", \"Close\",$B$2,A93, \"all\",\"\", \"\",\"True\",\"T\")/100,\"\")","v":0.13311875175100002},null,0.78000000000000103,0,{"$error":"#N/A"},null,{"$f":"IFERROR(RTD(\"cqg.rtd\",,\"StudyData\", \"Correlation(\"&$B$3&\",\"&O$2&\",Period:=\"&$B$1&\",InputChoice1:=Close,InputChoice2::=Close)\", \"FG\", \"\", \"Close\",$B$2,A93, \"all\",\"\", \"\",\"True\",\"T\")/100,\"\")","v":0.15236959040100001},null,0.78000000000000103,0,{"$error":"#N/A"},null,{"$f":"IFERROR(RTD(\"cqg.rtd\",,\"StudyData\", \"Correlation(\"&$B$3&\",\"&U$2&\",Period:=\"&$B$1&\",InputChoice1:=Close,InputChoice2::=Close)\", \"FG\", \"\", \"Close\",$B$2,A93, \"all\",\"\", \"\",\"True\",\"T\")/100,\"\")","v":-1.2162709696E-2},null,0.78000000000000103,0,{"$error":"#N/A"},null,{"$f":"IFERROR(RTD(\"cqg.rtd\",,\"StudyData\", \"Correlation(\"&$B$3&\",\"&AA$2&\",Period:=\"&$B$1&\",InputChoice1:=Close,InputChoice2::=Close)\", \"FG\", \"\", \"Close\",$B$2,A93, \"all\",\"\", \"\",\"True\",\"T\")/100,\"\")","v":0.34909149985400001},null,0.78000000000000103,0,{"$error":"#N/A"},null,{"$f":"IFERROR(RTD(\"cqg.rtd\",,\"StudyData\", \"Correlation(\"&$B$3&\",\"&AG$2&\",Period:=\"&$B$1&\",InputChoice1:=Close,InputChoice2::=Close)\", \"FG\", \"\", \"Close\",$B$2,A93, \"all\",\"\", \"\",\"True\",\"T\")/100,\"\")","v":0.38921878543999999},null,0.78000000000000103,1,{"$error":"#N/A"},null,{"$f":"IFERROR(RTD(\"cqg.rtd\",,\"StudyData\", \"Correlation(\"&$B$3&\",\"&AM$2&\",Period:=\"&$B$1&\",InputChoice1:=Close,InputChoice2::=Close)\", \"FG\", \"\", \"Close\",$B$2,A93, \"all\",\"\", \"\",\"True\",\"T\")/100,\"\")","v":0.30505228012500002},null,0.78000000000000103,0,{"$error":"#N/A"},null,{"$f":"IFERROR(RTD(\"cqg.rtd\",,\"StudyData\", \"Correlation(\"&$B$3&\",\"&AS$2&\",Period:=\"&$B$1&\",InputChoice1:=Close,InputChoice2::=Close)\", \"FG\", \"\", \"Close\",$B$2,A93, \"all\",\"\", \"\",\"True\",\"T\")/100,\"\")","v":0.14259950320299999},null,0.78000000000000103,2,{"$error":"#N/A"},null,{"$f":"IFERROR(RTD(\"cqg.rtd\",,\"StudyData\", \"Correlation(\"&$B$3&\",\"&AY$2&\",Period:=\"&$B$1&\",InputChoice1:=Close,InputChoice2::=Close)\", \"FG\", \"\", \"Close\",$B$2,A93, \"all\",\"\", \"\",\"True\",\"T\")/100,\"\")","v":-0.48940262752899999},null,0.78000000000000103,0,{"$error":"#N/A"},null,{"$f":"IFERROR(RTD(\"cqg.rtd\",,\"StudyData\", \"Correlation(\"&$B$3&\",\"&BE$2&\",Period:=\"&$B$1&\",InputChoice1:=Close,InputChoice2::=Close)\", \"FG\", \"\", \"Close\",$B$2,A93, \"all\",\"\", \"\",\"True\",\"T\")/100,\"\")","v":-0.13317396070999998},null,0.78000000000000103,0,{"$error":"#N/A"}]
[-90,null,{"$f":"IFERROR(RTD(\"cqg.rtd\",,\"StudyData\", \"Correlation(\"&$B$3&\",\"&C$2&\",Period:=\"&$B$1&\",InputChoice1:=Close,InputChoice2:=Close)\", \"FG\", \"\", \"Close\",$B$2,A94, \"all\",\"\", \"\",\"True\",\"T\")/100,\"\")","v":6.3735546301999998E-2},null,0.80000000000000104,0,{"$error":"#N/A"},null,{"$f":"IFERROR(RTD(\"cqg.rtd\",,\"StudyData\", \"Correlation(\"&$B$3&\",\"&I$2&\",Period:=\"&$B$1&\",InputChoice1:=Close,InputChoice2::=Close)\", \"FG\", \"\", \"Close\",$B$2,A94, \"all\",\"\", \"\",\"True\",\"T\")/100,\"\")","v":8.2037626975E-2},null,0.80000000000000104,0,{"$error":"#N/A"},null,{"$f":"IFERROR(RTD(\"cqg.rtd\",,\"StudyData\", \"Correlation(\"&$B$3&\",\"&O$2&\",Period:=\"&$B$1&\",InputChoice1:=Close,InputChoice2::=Close)\", \"FG\", \"\", \"Close\",$B$2,A94, \"all\",\"\", \"\",\"True\",\"T\")/100,\"\")","v":0.11669848289300001},null,0.80000000000000104,0,{"$error":"#N/A"},null,{"$f":"IFERROR(RTD(\"cqg.rtd\",,\"StudyData\", \"Correlation(\"&$B$3&\",\"&U$2&\",Period:=\"&$B$1&\",InputChoice1:=Close,InputChoice2::=Close)\", \"FG\", \"\", \"Close\",$B$2,A94, \"all\",\"\", \"\",\"True\",\"T\")/100,\"\")","v":-4.0356235190999998E-2},null,0.80000000000000104,1,{"$error":"#N/A"},null,{"$f":"IFERROR(RTD(\"cqg.rtd\",,\"StudyData\", \"Correlation(\"&$B$3&\",\"&AA$2&\",Period:=\"&$B$1&\",InputChoice1:=Close,InputChoice2::=Close)\", \"FG\", \"\", \"Close\",$B$2,A94, \"all\",\"\", \"\",\"True\",\"T\")/100,\"\")","v":0.32492069403000001},null,0.80000000000000104,0,{"$error":"#N/A"},null,{"$f":"IFERROR(RTD(\"cqg.rtd\",,\"StudyData\", \"Correlation(\"&$B$3&\",\"&AG$2&\",Period:=\"&$B$1&\",InputChoice1:=Close,InputChoice2::=Close)\", \"FG\", \"\", \"Close\",$B$2,A94, \"all\",\"\", \"\",\"True\",\"T\")/100,\"\")","v":0.35994254809199999},null,0.80000000000000104,0,{"$error":"#N/A"},null,{"$f":"IFERROR(RTD(\"cqg.rtd\",,\"StudyData\", \"Correlation(\"&$B$3&\",\"&AM$2&\",Period:=\"&$B$1&\",InputChoice1:=Close,InputChoice2::=Close)\", \"FG\", \"\", \"Close\",$B$2,A94, \"all\",\"\", \"\",\"True\",\"T\")/100,\"\")","v":0.27088178810300001},null,0.80000000000000104,0,{"$error":"#N/A"},null,{"$f":"IFERROR(RTD(\"cqg.rtd\",,\"StudyData\", \"Correlation(\"&$B$3&\",\"&AS$2&\",Period:=\"&$B$1&\",InputChoice1:=Close,InputChoice2::=Close)\", \"FG\", \"\", \"Close\",$B$2,A94, \"all\",\"\", \"\",\"True\",\"T\")/100,\"\")","v":0.150435348696},null,0.80000000000000104,2,{"$error":"#N/A"},null,{"$f":"IFERROR(RTD(\"cqg.rtd\",,\"StudyData\", \"Correlation(\"&$B$3&\",\"&AY$2&\",Period:=\"&$B$1&\",InputChoice1:=Close,InputChoice2::=Close)\", \"FG\", \"\", \"Close\",$B$2,A94, \"all\",\"\", \"\",\"True\",\"T\")/100,\"\")","v":-0.57889399055799995},null,0.80000000000000104,1,{"$error":"#N/A"},null,{"$f":"IFERROR(RTD(\"cqg.rtd\",,\"StudyData\", \"Correlation(\"&$B$3&\",\"&BE$2&\",Period:=\"&$B$1&\",InputChoice1:=Close,InputChoice2::=Close)\", \"FG\", \"\", \"Close\",$B$2,A94, \"all\",\"\", \"\",\"True\",\"T\")/100,\"\")","v":-3.6046690178000003E-2},null,0.80000000000000104,0,{"$error":"#N/A"}]
[-91,null,{"$f":"IFERROR(RTD(\"cqg.rtd\",,\"StudyData\", \"Correlation(\"&$B$3&\",\"&C$2&\",Period:=\"&$B$1&\",InputChoice1:=Close,InputChoice2:=Close)\", \"FG\", \"\", \"Close\",$B$2,A95, \"all\",\"\", \"\",\"True\",\"T\")/100,\"\")","v":-5.9783319088000005E-2},null,0.82000000000000106,0,{"$error":"#N/A"},null,{"$f":"IFERROR(RTD(\"cqg.rtd\",,\"StudyData\", \"Correlation(\"&$B$3&\",\"&I$2&\",Period:=\"&$B$1&\",InputChoice1:=Close,InputChoice2::=Close)\", \"FG\", \"\", \"Close\",$B$2,A95, \"all\",\"\", \"\",\"True\",\"T\")/100,\"\")","v":-4.4593194847999999E-2},null,0.82000000000000106,0,{"$error":"#N/A"},null,{"$f":"IFERROR(RTD(\"cqg.rtd\",,\"StudyData\", \"Correlation(\"&$B$3&\",\"&O$2&\",Period:=\"&$B$1&\",InputChoice1:=Close,InputChoice2::=Close)\", \"FG\", \"\", \"Close\",$B$2,A95, \"all\",\"\", \"\",\"True\",\"T\")/100,\"\")","v":7.2528731589000001E-2},null,0.82000000000000106,0,{"$error":"#N/A"},null,{"$f":"IFERROR(RTD(\"cqg.rtd\",,\"StudyData\", \"Correlation(\"&$B$3&\",\"&U$2&\",Period:=\"&$B$1&\",InputChoice1:=Close,InputChoice2::=Close)\", \"FG\", \"\", \"Close\",$B$2,A95, \"all\",\"\", \"\",\"True\",\"T\")/100,\"\")","v":-0.140208937225},null,0.82000000000000106,1,{"$error":"#N/A"},null,{"$f":"IFERROR(RTD(\"cqg.rtd\",,\"StudyData\", \"Correlation(\"&$B$3&\",\"&AA$2&\",Period:=\"&$B$1&\",InputChoice1:=Close,InputChoice2::=Close)\", \"FG\", \"\", \"Close\",$B$2,A95, \"all\",\"\", \"\",\"True\",\"T\")/100,\"\")","v":0.233189236356},null,0.82000000000000106,0,{"$error":"#N/A"},null,{"$f":"IFERROR(RTD(\"cqg.rtd\",,\"StudyData\", \"Correlation(\"&$B$3&\",\"&AG$2&\",Period:=\"&$B$1&\",InputChoice1:=Close,InputChoice2::=Close)\", \"FG\", \"\", \"Close\",$B$2,A95, \"all\",\"\", \"\",\"True\",\"T\")/100,\"\")","v":0.31584304116900003},null,0.82000000000000106,0,{"$error":"#N/A"},null,{"$f":"IFERROR(RTD(\"cqg.rtd\",,\"StudyData\", \"Correlation(\"&$B$3&\",\"&AM$2&\",Period:=\"&$B$1&\",InputChoice1:=Close,InputChoice2::=Close)\", \"FG\", \"\", \"Close\",$B$2,A95, \"all\",\"\", \"\",\"True\",\"T\")/100,\"\")","v":0.17176703288199999},null,0.82000000000000106,0,{"$error":"#N/A"},null,{"$f":"IFERROR(RTD(\"cqg.rtd\",,\"StudyData\", \"Correlation(\"&$B$3&\",\"&AS$2&\",Period:=\"&$B$1&\",InputChoice1:=Close,InputChoice2::=Close)\", \"FG\", \"\", \"Close\",$B$2,A95, \"all\",\"\", \"\",\"True\",\"T\")/100,\"\")","v":0.13191685678500001},null,0.82000000000000106,0,{"$error":"#N/A"},null,{"$f":"IFERROR(RTD(\"cqg.rtd\",,\"StudyData\", \"Correlation(\"&$B$3&\",\"&AY$2&\",Period:=\"&$B$1&\",InputChoice1:=Close,InputChoice2::=Close)\", \"FG\", \"\", \"Close\",$B$2,A95, \"all\",\"\", \"\",\"True\",\"T\")/100,\"\")","v":-0.51609721692499999},null,0.82000000000000106,0,{"$error":"#N/A"},null,{"$f":"IFERROR(RTD(\"cqg.rtd\",,\"StudyData\", \"Correlation(\"&$B$3&\",\"&BE$2&\",Period:=\"&$B$1&\",InputChoice1:=Close,InputChoice2::=Close)\", \"FG\", \"\", \"Close\",$B$2,A95, \"all\",\"\", \"\",\"True\",\"T\")/100,\"\")","v":-1.0360042232999999E-2},null,0.82000000000000106,0,{"$error":"#N/A"}]
[-92,null,{"$f":"IFERROR(RTD(\"cqg.rtd\",,\"StudyData\", \"Correlation(\"&$B$3&\",\"&C$2&\",Period:=\"&$B$1&\",InputChoice1:=Close,InputChoice2:=Close)\", \"FG\", \"\", \"Close\",$B$2,A96, \"all\",\"\", \"\",\"True\",\"T\")/100,\"\")","v":-3.6269584813000001E-2},null,0.84000000000000108,0,{"$error":"#N/A"},null,{"$f":"IFERROR(RTD(\"cqg.rtd\",,\"StudyData\", \"Correlation(\"&$B$3&\",\"&I$2&\",Period:=\"&$B$1&\",InputChoice1:=Close,InputChoice2::=Close)\", \"FG\", \"\", \"Close\",$B$2,A96, \"all\",\"\", \"\",\"True\",\"T\")/100,\"\")","v":-2.2963787505000003E-2},null,0.84000000000000108,0,{"$error":"#N/A"},null,{"$f":"IFERROR(RTD(\"cqg.rtd\",,\"StudyData\", \"Correlation(\"&$B$3&\",\"&O$2&\",Period:=\"&$B$1&\",InputChoice1:=Close,InputChoice2::=Close)\", \"FG\", \"\", \"Close\",$B$2,A96, \"all\",\"\", \"\",\"True\",\"T\")/100,\"\")","v":-5.3866846098999999E-2},null,0.84000000000000108,0,{"$error":"#N/A"},null,{"$f":"IFERROR(RTD(\"cqg.rtd\",,\"StudyData\", \"Correlation(\"&$B$3&\",\"&U$2&\",Period:=\"&$B$1&\",InputChoice1:=Close,InputChoice2::=Close)\", \"FG\", \"\", \"Close\",$B$2,A96, \"all\",\"\", \"\",\"True\",\"T\")/100,\"\")","v":-9.7596604370000003E-3},null,0.84000000000000108,2,{"$error":"#N/A"},null,{"$f":"IFERROR(RTD(\"cqg.rtd\",,\"StudyData\", \"Correlation(\"&$B$3&\",\"&AA$2&\",Period:=\"&$B$1&\",InputChoice1:=Close,InputChoice2::=Close)\", \"FG\", \"\", \"Close\",$B$2,A96, \"all\",\"\", \"\",\"True\",\"T\")/100,\"\")","v":9.9935987353000008E-2},null,0.84000000000000108,0,{"$error":"#N/A"},null,{"$f":"IFERROR(RTD(\"cqg.rtd\",,\"StudyData\", \"Correlation(\"&$B$3&\",\"&AG$2&\",Period:=\"&$B$1&\",InputChoice1:=Close,InputChoice2::=Close)\", \"FG\", \"\", \"Close\",$B$2,A96, \"all\",\"\", \"\",\"True\",\"T\")/100,\"\")","v":7.755121531100001E-2},null,0.84000000000000108,0,{"$error":"#N/A"},null,{"$f":"IFERROR(RTD(\"cqg.rtd\",,\"StudyData\", \"Correlation(\"&$B$3&\",\"&AM$2&\",Period:=\"&$B$1&\",InputChoice1:=Close,InputChoice2::=Close)\", \"FG\", \"\", \"Close\",$B$2,A96, \"all\",\"\", \"\",\"True\",\"T\")/100,\"\")","v":8.3652164316000005E-2},null,0.84000000000000108,0,{"$error":"#N/A"},null,{"$f":"IFERROR(RTD(\"cqg.rtd\",,\"StudyData\", \"Correlation(\"&$B$3&\",\"&AS$2&\",Period:=\"&$B$1&\",InputChoice1:=Close,InputChoice2::=Close)\", \"FG\", \"\", \"Close\",$B$2,A96, \"all\",\"\", \"\",\"True\",\"T\")/100,\"\")","v":3.0792825654999998E-2},null,0.84000000000000108,1,{"$error":"#N/A"},null,{"$f":"IFERROR(RTD(\"cqg.rtd\",,\"StudyData\", \"Correlation(\"&$B$3&\",\"&AY$2&\",Period:=\"&$B$1&\",InputChoice1:=Close,InputChoice2::=Close)\", \"FG\", \"\", \"Close\",$B$2,A96, \"all\",\"\", \"\",\"True\",\"T\")/100,\"\")","v":-0.47410138587799999},null,0.84000000000000108,0,{"$error":"#N/A"},null,{"$f":"IFERROR(RTD(\"cqg.rtd\",,\"StudyData\", \"Correlation(\"&$B$3&\",\"&BE$2&\",Period:=\"&$B$1&\",InputChoice1:=Close,InputChoice2::=Close)\", \"FG\", \"\", \"Close\",$B$2,A96, \"all\",\"\", \"\",\"True\",\"T\")/100,\"\")","v":3.0999167788E-2},null,0.84000000000000108,0,{"$error":"#N/A"}]
[-93,null,{"$f":"IFERROR(RTD(\"cqg.rtd\",,\"StudyData\", \"Correlation(\"&$B$3&\",\"&C$2&\",Period:=\"&$B$1&\",InputChoice1:=Close,InputChoice2:=Close)\", \"FG\", \"\", \"Close\",$B$2,A97, \"all\",\"\", \"\",\"True\",\"T\")/100,\"\")","v":-3.2249615187000001E-2},null,0.8600000000000011,0,{"$error":"#N/A"},null,{"$f":"IFERROR(RTD(\"cqg.rtd\",,\"StudyData\", \"Correlation(\"&$B$3&\",\"&I$2&\",Period:=\"&$B$1&\",InputChoice1:=Close,InputChoice2::=Close)\", \"FG\", \"\", \"Close\",$B$2,A97, \"all\",\"\", \"\",\"True\",\"T\")/100,\"\")","v":-2.5035863166999999E-2},null,0.8600000000000011,0,{"$error":"#N/A"},null,{"$f":"IFERROR(RTD(\"cqg.rtd\",,\"StudyData\", \"Correlation(\"&$B$3&\",\"&O$2&\",Period:=\"&$B$1&\",InputChoice1:=Close,InputChoice2::=Close)\", \"FG\", \"\", \"Close\",$B$2,A97, \"all\",\"\", \"\",\"True\",\"T\")/100,\"\")","v":-4.7577070382000007E-2},null,0.8600000000000011,0,{"$error":"#N/A"},null,{"$f":"IFERROR(RTD(\"cqg.rtd\",,\"StudyData\", \"Correlation(\"&$B$3&\",\"&U$2&\",Period:=\"&$B$1&\",InputChoice1:=Close,InputChoice2::=Close)\", \"FG\", \"\", \"Close\",$B$2,A97, \"all\",\"\", \"\",\"True\",\"T\")/100,\"\")","v":5.8261650461999999E-2},null,0.8600000000000011,2,{"$error":"#N/A"},null,{"$f":"IFERROR(RTD(\"cqg.rtd\",,\"StudyData\", \"Correlation(\"&$B$3&\",\"&AA$2&\",Period:=\"&$B$1&\",InputChoice1:=Close,InputChoice2::=Close)\", \"FG\", \"\", \"Close\",$B$2,A97, \"all\",\"\", \"\",\"True\",\"T\")/100,\"\")","v":-1.1868114241E-2},null,0.8600000000000011,0,{"$error":"#N/A"},null,{"$f":"IFERROR(RTD(\"cqg.rtd\",,\"StudyData\", \"Correlation(\"&$B$3&\",\"&AG$2&\",Period:=\"&$B$1&\",InputChoice1:=Close,InputChoice2::=Close)\", \"FG\", \"\", \"Close\",$B$2,A97, \"all\",\"\", \"\",\"True\",\"T\")/100,\"\")","v":-4.8677485043999998E-2},null,0.8600000000000011,0,{"$error":"#N/A"},null,{"$f":"IFERROR(RTD(\"cqg.rtd\",,\"StudyData\", \"Correlation(\"&$B$3&\",\"&AM$2&\",Period:=\"&$B$1&\",InputChoice1:=Close,InputChoice2::=Close)\", \"FG\", \"\", \"Close\",$B$2,A97, \"all\",\"\", \"\",\"True\",\"T\")/100,\"\")","v":1.3584810418999999E-2},null,0.8600000000000011,0,{"$error":"#N/A"},null,{"$f":"IFERROR(RTD(\"cqg.rtd\",,\"StudyData\", \"Correlation(\"&$B$3&\",\"&AS$2&\",Period:=\"&$B$1&\",InputChoice1:=Close,InputChoice2::=Close)\", \"FG\", \"\", \"Close\",$B$2,A97, \"all\",\"\", \"\",\"True\",\"T\")/100,\"\")","v":-3.7735906892000001E-2},null,0.8600000000000011,1,{"$error":"#N/A"},null,{"$f":"IFERROR(RTD(\"cqg.rtd\",,\"StudyData\", \"Correlation(\"&$B$3&\",\"&AY$2&\",Period:=\"&$B$1&\",InputChoice1:=Close,InputChoice2::=Close)\", \"FG\", \"\", \"Close\",$B$2,A97, \"all\",\"\", \"\",\"True\",\"T\")/100,\"\")","v":-0.45432136665900003},null,0.8600000000000011,0,{"$error":"#N/A"},null,{"$f":"IFERROR(RTD(\"cqg.rtd\",,\"StudyData\", \"Correlation(\"&$B$3&\",\"&BE$2&\",Period:=\"&$B$1&\",InputChoice1:=Close,InputChoice2::=Close)\", \"FG\", \"\", \"Close\",$B$2,A97, \"all\",\"\", \"\",\"True\",\"T\")/100,\"\")","v":0.16749583713999999},null,0.8600000000000011,0,{"$error":"#N/A"}]
[-94,null,{"$f":"IFERROR(RTD(\"cqg.rtd\",,\"StudyData\", \"Correlation(\"&$B$3&\",\"&C$2&\",Period:=\"&$B$1&\",InputChoice1:=Close,InputChoice2:=Close)\", \"FG\", \"\", \"Close\",$B$2,A98, \"all\",\"\", \"\",\"True\",\"T\")/100,\"\")","v":-8.1252806366999997E-2},null,0.88000000000000111,0,{"$error":"#N/A"},null,{"$f":"IFERROR(RTD(\"cqg.rtd\",,\"StudyData\", \"Correlation(\"&$B$3&\",\"&I$2&\",Period:=\"&$B$1&\",InputChoice1:=Close,InputChoice2::=Close)\", \"FG\", \"\", \"Close\",$B$2,A98, \"all\",\"\", \"\",\"True\",\"T\")/100,\"\")","v":-9.8119064169999992E-2},null,0.88000000000000111,0,{"$error":"#N/A"},null,{"$f":"IFERROR(RTD(\"cqg.rtd\",,\"StudyData\", \"Correlation(\"&$B$3&\",\"&O$2&\",Period:=\"&$B$1&\",InputChoice1:=Close,InputChoice2::=Close)\", \"FG\", \"\", \"Close\",$B$2,A98, \"all\",\"\", \"\",\"True\",\"T\")/100,\"\")","v":-5.3675785816E-2},null,0.88000000000000111,0,{"$error":"#N/A"},null,{"$f":"IFERROR(RTD(\"cqg.rtd\",,\"StudyData\", \"Correlation(\"&$B$3&\",\"&U$2&\",Period:=\"&$B$1&\",InputChoice1:=Close,InputChoice2::=Close)\", \"FG\", \"\", \"Close\",$B$2,A98, \"all\",\"\", \"\",\"True\",\"T\")/100,\"\")","v":8.3312661863000001E-2},null,0.88000000000000111,0,{"$error":"#N/A"},null,{"$f":"IFERROR(RTD(\"cqg.rtd\",,\"StudyData\", \"Correlation(\"&$B$3&\",\"&AA$2&\",Period:=\"&$B$1&\",InputChoice1:=Close,InputChoice2::=Close)\", \"FG\", \"\", \"Close\",$B$2,A98, \"all\",\"\", \"\",\"True\",\"T\")/100,\"\")","v":-0.23512060462099998},null,0.88000000000000111,0,{"$error":"#N/A"},null,{"$f":"IFERROR(RTD(\"cqg.rtd\",,\"StudyData\", \"Correlation(\"&$B$3&\",\"&AG$2&\",Period:=\"&$B$1&\",InputChoice1:=Close,InputChoice2::=Close)\", \"FG\", \"\", \"Close\",$B$2,A98, \"all\",\"\", \"\",\"True\",\"T\")/100,\"\")","v":-0.21822312025999999},null,0.88000000000000111,0,{"$error":"#N/A"},null,{"$f":"IFERROR(RTD(\"cqg.rtd\",,\"StudyData\", \"Correlation(\"&$B$3&\",\"&AM$2&\",Period:=\"&$B$1&\",InputChoice1:=Close,InputChoice2::=Close)\", \"FG\", \"\", \"Close\",$B$2,A98, \"all\",\"\", \"\",\"True\",\"T\")/100,\"\")","v":-0.16818063336000003},null,0.88000000000000111,0,{"$error":"#N/A"},null,{"$f":"IFERROR(RTD(\"cqg.rtd\",,\"StudyData\", \"Correlation(\"&$B$3&\",\"&AS$2&\",Period:=\"&$B$1&\",InputChoice1:=Close,InputChoice2::=Close)\", \"FG\", \"\", \"Close\",$B$2,A98, \"all\",\"\", \"\",\"True\",\"T\")/100,\"\")","v":-9.9097258356999993E-2},null,0.88000000000000111,1,{"$error":"#N/A"},null,{"$f":"IFERROR(RTD(\"cqg.rtd\",,\"StudyData\", \"Correlation(\"&$B$3&\",\"&AY$2&\",Period:=\"&$B$1&\",InputChoice1:=Close,InputChoice2::=Close)\", \"FG\", \"\", \"Close\",$B$2,A98, \"all\",\"\", \"\",\"True\",\"T\")/100,\"\")","v":-0.28881970042299998},null,0.88000000000000111,1,{"$error":"#N/A"},null,{"$f":"IFERROR(RTD(\"cqg.rtd\",,\"StudyData\", \"Correlation(\"&$B$3&\",\"&BE$2&\",Period:=\"&$B$1&\",InputChoice1:=Close,InputChoice2::=Close)\", \"FG\", \"\", \"Close\",$B$2,A98, \"all\",\"\", \"\",\"True\",\"T\")/100,\"\")","v":7.0658208185999993E-2},null,0.88000000000000111,0,{"$error":"#N/A"}]
[-95,null,{"$f":"IFERROR(RTD(\"cqg.rtd\",,\"StudyData\", \"Correlation(\"&$B$3&\",\"&C$2&\",Period:=\"&$B$1&\",InputChoice1:=Close,InputChoice2:=Close)\", \"FG\", \"\", \"Close\",$B$2,A99, \"all\",\"\", \"\",\"True\",\"T\")/100,\"\")","v":-0.15582745548499999},null,0.90000000000000113,0,{"$error":"#N/A"},null,{"$f":"IFERROR(RTD(\"cqg.rtd\",,\"StudyData\", \"Correlation(\"&$B$3&\",\"&I$2&\",Period:=\"&$B$1&\",InputChoice1:=Close,InputChoice2::=Close)\", \"FG\", \"\", \"Close\",$B$2,A99, \"all\",\"\", \"\",\"True\",\"T\")/100,\"\")","v":-0.195063562444},null,0.90000000000000113,0,{"$error":"#N/A"},null,{"$f":"IFERROR(RTD(\"cqg.rtd\",,\"StudyData\", \"Correlation(\"&$B$3&\",\"&O$2&\",Period:=\"&$B$1&\",InputChoice1:=Close,InputChoice2::=Close)\", \"FG\", \"\", \"Close\",$B$2,A99, \"all\",\"\", \"\",\"True\",\"T\")/100,\"\")","v":-0.127091011969},null,0.90000000000000113,0,{"$error":"#N/A"},null,{"$f":"IFERROR(RTD(\"cqg.rtd\",,\"StudyData\", \"Correlation(\"&$B$3&\",\"&U$2&\",Period:=\"&$B$1&\",InputChoice1:=Close,InputChoice2::=Close)\", \"FG\", \"\", \"Close\",$B$2,A99, \"all\",\"\", \"\",\"True\",\"T\")/100,\"\")","v":0.157645062457},null,0.90000000000000113,0,{"$error":"#N/A"},null,{"$f":"IFERROR(RTD(\"cqg.rtd\",,\"StudyData\", \"Correlation(\"&$B$3&\",\"&AA$2&\",Period:=\"&$B$1&\",InputChoice1:=Close,InputChoice2::=Close)\", \"FG\", \"\", \"Close\",$B$2,A99, \"all\",\"\", \"\",\"True\",\"T\")/100,\"\")","v":-0.44255645001399996},null,0.90000000000000113,0,{"$error":"#N/A"},null,{"$f":"IFERROR(RTD(\"cqg.rtd\",,\"StudyData\", \"Correlation(\"&$B$3&\",\"&AG$2&\",Period:=\"&$B$1&\",InputChoice1:=Close,InputChoice2::=Close)\", \"FG\", \"\", \"Close\",$B$2,A99, \"all\",\"\", \"\",\"True\",\"T\")/100,\"\")","v":-0.37639830080800002},null,0.90000000000000113,0,{"$error":"#N/A"},null,{"$f":"IFERROR(RTD(\"cqg.rtd\",,\"StudyData\", \"Correlation(\"&$B$3&\",\"&AM$2&\",Period:=\"&$B$1&\",InputChoice1:=Close,InputChoice2::=Close)\", \"FG\", \"\", \"Close\",$B$2,A99, \"all\",\"\", \"\",\"True\",\"T\")/100,\"\")","v":-0.34274938689800005},null,0.90000000000000113,0,{"$error":"#N/A"},null,{"$f":"IFERROR(RTD(\"cqg.rtd\",,\"StudyData\", \"Correlation(\"&$B$3&\",\"&AS$2&\",Period:=\"&$B$1&\",InputChoice1:=Close,InputChoice2::=Close)\", \"FG\", \"\", \"Close\",$B$2,A99, \"all\",\"\", \"\",\"True\",\"T\")/100,\"\")","v":-0.19532174903800001},null,0.90000000000000113,0,{"$error":"#N/A"},null,{"$f":"IFERROR(RTD(\"cqg.rtd\",,\"StudyData\", \"Correlation(\"&$B$3&\",\"&AY$2&\",Period:=\"&$B$1&\",InputChoice1:=Close,InputChoice2::=Close)\", \"FG\", \"\", \"Close\",$B$2,A99, \"all\",\"\", \"\",\"True\",\"T\")/100,\"\")","v":-1.8398249797999998E-2},null,0.90000000000000113,0,{"$error":"#N/A"},null,{"$f":"IFERROR(RTD(\"cqg.rtd\",,\"StudyData\", \"Correlation(\"&$B$3&\",\"&BE$2&\",Period:=\"&$B$1&\",InputChoice1:=Close,InputChoice2::=Close)\", \"FG\", \"\", \"Close\",$B$2,A99, \"all\",\"\", \"\",\"True\",\"T\")/100,\"\")","v":1.007497481E-3},null,0.90000000000000113,0,{"$error":"#N/A"}]
[-96,null,{"$f":"IFERROR(RTD(\"cqg.rtd\",,\"StudyData\", \"Correlation(\"&$B$3&\",\"&C$2&\",Period:=\"&$B$1&\",InputChoice1:=Close,InputChoice2:=Close)\", \"FG\", \"\", \"Close\",$B$2,A100, \"all\",\"\", \"\",\"True\",\"T\")/100,\"\")","v":-0.25631293506899999},null,0.92000000000000115,0,{"$error":"#N/A"},null,{"$f":"IFERROR(RTD(\"cqg.rtd\",,\"StudyData\", \"Correlation(\"&$B$3&\",\"&I$2&\",Period:=\"&$B$1&\",InputChoice1:=Close,InputChoice2::=Close)\", \"FG\", \"\", \"Close\",$B$2,A100, \"all\",\"\", \"\",\"True\",\"T\")/100,\"\")","v":-0.315367905876},null,0.92000000000000115,0,{"$error":"#N/A"},null,{"$f":"IFERROR(RTD(\"cqg.rtd\",,\"StudyData\", \"Correlation(\"&$B$3&\",\"&O$2&\",Period:=\"&$B$1&\",InputChoice1:=Close,InputChoice2::=Close)\", \"FG\", \"\", \"Close\",$B$2,A100, \"all\",\"\", \"\",\"True\",\"T\")/100,\"\")","v":-0.231608524614},null,0.92000000000000115,0,{"$error":"#N/A"},null,{"$f":"IFERROR(RTD(\"cqg.rtd\",,\"StudyData\", \"Correlation(\"&$B$3&\",\"&U$2&\",Period:=\"&$B$1&\",InputChoice1:=Close,InputChoice2::=Close)\", \"FG\", \"\", \"Close\",$B$2,A100, \"all\",\"\", \"\",\"True\",\"T\")/100,\"\")","v":0.26438096522599996},null,0.92000000000000115,0,{"$error":"#N/A"},null,{"$f":"IFERROR(RTD(\"cqg.rtd\",,\"StudyData\", \"Correlation(\"&$B$3&\",\"&AA$2&\",Period:=\"&$B$1&\",InputChoice1:=Close,InputChoice2::=Close)\", \"FG\", \"\", \"Close\",$B$2,A100, \"all\",\"\", \"\",\"True\",\"T\")/100,\"\")","v":-0.61255203139800007},null,0.92000000000000115,0,{"$error":"#N/A"},null,{"$f":"IFERROR(RTD(\"cqg.rtd\",,\"StudyData\", \"Correlation(\"&$B$3&\",\"&AG$2&\",Period:=\"&$B$1&\",InputChoice1:=Close,InputChoice2::=Close)\", \"FG\", \"\", \"Close\",$B$2,A100, \"all\",\"\", \"\",\"True\",\"T\")/100,\"\")","v":-0.53130797451599998},null,0.92000000000000115,0,{"$error":"#N/A"},null,{"$f":"IFERROR(RTD(\"cqg.rtd\",,\"StudyData\", \"Correlation(\"&$B$3&\",\"&AM$2&\",Period:=\"&$B$1&\",InputChoice1:=Close,InputChoice2::=Close)\", \"FG\", \"\", \"Close\",$B$2,A100, \"all\",\"\", \"\",\"True\",\"T\")/100,\"\")","v":-0.55753374407599998},null,0.92000000000000115,0,{"$error":"#N/A"},null,{"$f":"IFERROR(RTD(\"cqg.rtd\",,\"StudyData\", \"Correlation(\"&$B$3&\",\"&AS$2&\",Period:=\"&$B$1&\",InputChoice1:=Close,InputChoice2::=Close)\", \"FG\", \"\", \"Close\",$B$2,A100, \"all\",\"\", \"\",\"True\",\"T\")/100,\"\")","v":-0.38423973815500001},null,0.92000000000000115,1,{"$error":"#N/A"},null,{"$f":"IFERROR(RTD(\"cqg.rtd\",,\"StudyData\", \"Correlation(\"&$B$3&\",\"&AY$2&\",Period:=\"&$B$1&\",InputChoice1:=Close,InputChoice2::=Close)\", \"FG\", \"\", \"Close\",$B$2,A100, \"all\",\"\", \"\",\"True\",\"T\")/100,\"\")","v":0.15601748784299999},null,0.92000000000000115,1,{"$error":"#N/A"},null,{"$f":"IFERROR(RTD(\"cqg.rtd\",,\"StudyData\", \"Correlation(\"&$B$3&\",\"&BE$2&\",Period:=\"&$B$1&\",InputChoice1:=Close,InputChoice2::=Close)\", \"FG\", \"\", \"Close\",$B$2,A100, \"all\",\"\", \"\",\"True\",\"T\")/100,\"\")","v":-1.2605750273E-2},null,0.92000000000000115,0,{"$error":"#N/A"}]
[-97,null,{"$f":"IFERROR(RTD(\"cqg.rtd\",,\"StudyData\", \"Correlation(\"&$B$3&\",\"&C$2&\",Period:=\"&$B$1&\",InputChoice1:=Close,InputChoice2:=Close)\", \"FG\", \"\", \"Close\",$B$2,A101, \"all\",\"\", \"\",\"True\",\"T\")/100,\"\")","v":-0.32148492756000002},null,0.94000000000000117,0,{"$error":"#N/A"},null,{"$f":"IFERROR(RTD(\"cqg.rtd\",,\"StudyData\", \"Correlation(\"&$B$3&\",\"&I$2&\",Period:=\"&$B$1&\",InputChoice1:=Close,InputChoice2::=Close)\", \"FG\", \"\", \"Close\",$B$2,A101, \"all\",\"\", \"\",\"True\",\"T\")/100,\"\")","v":-0.41661779465499998},null,0.94000000000000117,0,{"$error":"#N/A"},null,{"$f":"IFERROR(RTD(\"cqg.rtd\",,\"StudyData\", \"Correlation(\"&$B$3&\",\"&O$2&\",Period:=\"&$B$1&\",InputChoice1:=Close,InputChoice2::=Close)\", \"FG\", \"\", \"Close\",$B$2,A101, \"all\",\"\", \"\",\"True\",\"T\")/100,\"\")","v":-0.38931289568399996},null,0.94000000000000117,0,{"$error":"#N/A"},null,{"$f":"IFERROR(RTD(\"cqg.rtd\",,\"StudyData\", \"Correlation(\"&$B$3&\",\"&U$2&\",Period:=\"&$B$1&\",InputChoice1:=Close,InputChoice2::=Close)\", \"FG\", \"\", \"Close\",$B$2,A101, \"all\",\"\", \"\",\"True\",\"T\")/100,\"\")","v":0.31457620327399999},null,0.94000000000000117,0,{"$error":"#N/A"},null,{"$f":"IFERROR(RTD(\"cqg.rtd\",,\"StudyData\", \"Correlation(\"&$B$3&\",\"&AA$2&\",Period:=\"&$B$1&\",InputChoice1:=Close,InputChoice2::=Close)\", \"FG\", \"\", \"Close\",$B$2,A101, \"all\",\"\", \"\",\"True\",\"T\")/100,\"\")","v":-0.69089917938099998},null,0.94000000000000117,0,{"$error":"#N/A"},null,{"$f":"IFERROR(RTD(\"cqg.rtd\",,\"StudyData\", \"Correlation(\"&$B$3&\",\"&AG$2&\",Period:=\"&$B$1&\",InputChoice1:=Close,InputChoice2::=Close)\", \"FG\", \"\", \"Close\",$B$2,A101, \"all\",\"\", \"\",\"True\",\"T\")/100,\"\")","v":-0.60600122064200002},null,0.94000000000000117,0,{"$error":"#N/A"},null,{"$f":"IFERROR(RTD(\"cqg.rtd\",,\"StudyData\", \"Correlation(\"&$B$3&\",\"&AM$2&\",Period:=\"&$B$1&\",InputChoice1:=Close,InputChoice2::=Close)\", \"FG\", \"\", \"Close\",$B$2,A101, \"all\",\"\", \"\",\"True\",\"T\")/100,\"\")","v":-0.68589042194100003},null,0.94000000000000117,0,{"$error":"#N/A"},null,{"$f":"IFERROR(RTD(\"cqg.rtd\",,\"StudyData\", \"Correlation(\"&$B$3&\",\"&AS$2&\",Period:=\"&$B$1&\",InputChoice1:=Close,InputChoice2::=Close)\", \"FG\", \"\", \"Close\",$B$2,A101, \"all\",\"\", \"\",\"True\",\"T\")/100,\"\")","v":-0.52066214200200001},null,0.94000000000000117,0,{"$error":"#N/A"},null,{"$f":"IFERROR(RTD(\"cqg.rtd\",,\"StudyData\", \"Correlation(\"&$B$3&\",\"&AY$2&\",Period:=\"&$B$1&\",InputChoice1:=Close,InputChoice2::=Close)\", \"FG\", \"\", \"Close\",$B$2,A101, \"all\",\"\", \"\",\"True\",\"T\")/100,\"\")","v":0.33678161283100005},null,0.94000000000000117,0,{"$error":"#N/A"},null,{"$f":"IFERROR(RTD(\"cqg.rtd\",,\"StudyData\", \"Correlation(\"&$B$3&\",\"&BE$2&\",Period:=\"&$B$1&\",InputChoice1:=Close,InputChoice2::=Close)\", \"FG\", \"\", \"Close\",$B$2,A101, \"all\",\"\", \"\",\"True\",\"T\")/100,\"\")","v":-7.8310513957999997E-2},null,0.94000000000000117,0,{"$error":"#N/A"}]
[-98,null,{"$f":"IFERROR(RTD(\"cqg.rtd\",,\"StudyData\", \"Correlation(\"&$B$3&\",\"&C$2&\",Period:=\"&$B$1&\",InputChoice1:=Close,InputChoice2:=Close)\", \"FG\", \"\", \"Close\",$B$2,A102, \"all\",\"\", \"\",\"True\",\"T\")/100,\"\")","v":-0.47286645282199996},null,0.96000000000000119,0,{"$error":"#N/A"},null,{"$f":"IFERROR(RTD(\"cqg.rtd\",,\"StudyData\", \"Correlation(\"&$B$3&\",\"&I$2&\",Period:=\"&$B$1&\",InputChoice1:=Close,InputChoice2::=Close)\", \"FG\", \"\", \"Close\",$B$2,A102, \"all\",\"\", \"\",\"True\",\"T\")/100,\"\")","v":-0.58304112127399998},null,0.96000000000000119,0,{"$error":"#N/A"},null,{"$f":"IFERROR(RTD(\"cqg.rtd\",,\"StudyData\", \"Correlation(\"&$B$3&\",\"&O$2&\",Period:=\"&$B$1&\",InputChoice1:=Close,InputChoice2::=Close)\", \"FG\", \"\", \"Close\",$B$2,A102, \"all\",\"\", \"\",\"True\",\"T\")/100,\"\")","v":-0.46738039295999995},null,0.96000000000000119,0,{"$error":"#N/A"},null,{"$f":"IFERROR(RTD(\"cqg.rtd\",,\"StudyData\", \"Correlation(\"&$B$3&\",\"&U$2&\",Period:=\"&$B$1&\",InputChoice1:=Close,InputChoice2::=Close)\", \"FG\", \"\", \"Close\",$B$2,A102, \"all\",\"\", \"\",\"True\",\"T\")/100,\"\")","v":0.36389128670400001},null,0.96000000000000119,0,{"$error":"#N/A"},null,{"$f":"IFERROR(RTD(\"cqg.rtd\",,\"StudyData\", \"Correlation(\"&$B$3&\",\"&AA$2&\",Period:=\"&$B$1&\",InputChoice1:=Close,InputChoice2::=Close)\", \"FG\", \"\", \"Close\",$B$2,A102, \"all\",\"\", \"\",\"True\",\"T\")/100,\"\")","v":-0.75465824754199995},null,0.96000000000000119,0,{"$error":"#N/A"},null,{"$f":"IFERROR(RTD(\"cqg.rtd\",,\"StudyData\", \"Correlation(\"&$B$3&\",\"&AG$2&\",Period:=\"&$B$1&\",InputChoice1:=Close,InputChoice2::=Close)\", \"FG\", \"\", \"Close\",$B$2,A102, \"all\",\"\", \"\",\"True\",\"T\")/100,\"\")","v":-0.64144099433799995},null,0.96000000000000119,0,{"$error":"#N/A"},null,{"$f":"IFERROR(RTD(\"cqg.rtd\",,\"StudyData\", \"Correlation(\"&$B$3&\",\"&AM$2&\",Period:=\"&$B$1&\",InputChoice1:=Close,InputChoice2::=Close)\", \"FG\", \"\", \"Close\",$B$2,A102, \"all\",\"\", \"\",\"True\",\"T\")/100,\"\")","v":-0.79009043147699998},null,0.96000000000000119,0,{"$error":"#N/A"},null,{"$f":"IFERROR(RTD(\"cqg.rtd\",,\"StudyData\", \"Correlation(\"&$B$3&\",\"&AS$2&\",Period:=\"&$B$1&\",InputChoice1:=Close,InputChoice2::=Close)\", \"FG\", \"\", \"Close\",$B$2,A102, \"all\",\"\", \"\",\"True\",\"T\")/100,\"\")","v":-0.60498655357200004},null,0.96000000000000119,0,{"$error":"#N/A"},null,{"$f":"IFERROR(RTD(\"cqg.rtd\",,\"StudyData\", \"Correlation(\"&$B$3&\",\"&AY$2&\",Period:=\"&$B$1&\",InputChoice1:=Close,InputChoice2::=Close)\", \"FG\", \"\", \"Close\",$B$2,A102, \"all\",\"\", \"\",\"True\",\"T\")/100,\"\")","v":0.48221671708099995},null,0.96000000000000119,0,{"$error":"#N/A"},null,{"$f":"IFERROR(RTD(\"cqg.rtd\",,\"StudyData\", \"Correlation(\"&$B$3&\",\"&BE$2&\",Period:=\"&$B$1&\",InputChoice1:=Close,InputChoice2::=Close)\", \"FG\", \"\", \"Close\",$B$2,A102, \"all\",\"\", \"\",\"True\",\"T\")/100,\"\")","v":-0.16424969347000001},null,0.96000000000000119,0,{"$error":"#N/A"}]
[-99,null,{"$f":"IFERROR(RTD(\"cqg.rtd\",,\"StudyData\", \"Correlation(\"&$B$3&\",\"&C$2&\",Period:=\"&$B$1&\",InputChoice1:=Close,InputChoice2:=Close)\", \"FG\", \"\", \"Close\",$B$2,A103, \"all\",\"\", \"\",\"True\",\"T\")/100,\"\")","v":-0.62326395265000001},null,0.9800000000000012,0,{"$error":"#N/A"},null,{"$f":"IFERROR(RTD(\"cqg.rtd\",,\"StudyData\", \"Correlation(\"&$B$3&\",\"&I$2&\",Period:=\"&$B$1&\",InputChoice1:=Close,InputChoice2::=Close)\", \"FG\", \"\", \"Close\",$B$2,A103, \"all\",\"\", \"\",\"True\",\"T\")/100,\"\")","v":-0.70013251221600004},null,0.9800000000000012,0,{"$error":"#N/A"},null,{"$f":"IFERROR(RTD(\"cqg.rtd\",,\"StudyData\", \"Correlation(\"&$B$3&\",\"&O$2&\",Period:=\"&$B$1&\",InputChoice1:=Close,InputChoice2::=Close)\", \"FG\", \"\", \"Close\",$B$2,A103, \"all\",\"\", \"\",\"True\",\"T\")/100,\"\")","v":-0.62573791221300001},null,0.9800000000000012,0,{"$error":"#N/A"},null,{"$f":"IFERROR(RTD(\"cqg.rtd\",,\"StudyData\", \"Correlation(\"&$B$3&\",\"&U$2&\",Period:=\"&$B$1&\",InputChoice1:=Close,InputChoice2::=Close)\", \"FG\", \"\", \"Close\",$B$2,A103, \"all\",\"\", \"\",\"True\",\"T\")/100,\"\")","v":0.38901538861299995},null,0.9800000000000012,0,{"$error":"#N/A"},null,{"$f":"IFERROR(RTD(\"cqg.rtd\",,\"StudyData\", \"Correlation(\"&$B$3&\",\"&AA$2&\",Period:=\"&$B$1&\",InputChoice1:=Close,InputChoice2::=Close)\", \"FG\", \"\", \"Close\",$B$2,A103, \"all\",\"\", \"\",\"True\",\"T\")/100,\"\")","v":-0.74583051150200008},null,0.9800000000000012,0,{"$error":"#N/A"},null,{"$f":"IFERROR(RTD(\"cqg.rtd\",,\"StudyData\", \"Correlation(\"&$B$3&\",\"&AG$2&\",Period:=\"&$B$1&\",InputChoice1:=Close,InputChoice2::=Close)\", \"FG\", \"\", \"Close\",$B$2,A103, \"all\",\"\", \"\",\"True\",\"T\")/100,\"\")","v":-0.64942183977300005},null,0.9800000000000012,0,{"$error":"#N/A"},null,{"$f":"IFERROR(RTD(\"cqg.rtd\",,\"StudyData\", \"Correlation(\"&$B$3&\",\"&AM$2&\",Period:=\"&$B$1&\",InputChoice1:=Close,InputChoice2::=Close)\", \"FG\", \"\", \"Close\",$B$2,A103, \"all\",\"\", \"\",\"True\",\"T\")/100,\"\")","v":-0.74363313516399998},null,0.9800000000000012,0,{"$error":"#N/A"},null,{"$f":"IFERROR(RTD(\"cqg.rtd\",,\"StudyData\", \"Correlation(\"&$B$3&\",\"&AS$2&\",Period:=\"&$B$1&\",InputChoice1:=Close,InputChoice2::=Close)\", \"FG\", \"\", \"Close\",$B$2,A103, \"all\",\"\", \"\",\"True\",\"T\")/100,\"\")","v":-0.69511494375299998},null,0.9800000000000012,0,{"$error":"#N/A"},null,{"$f":"IFERROR(RTD(\"cqg.rtd\",,\"StudyData\", \"Correlation(\"&$B$3&\",\"&AY$2&\",Period:=\"&$B$1&\",InputChoice1:=Close,InputChoice2::=Close)\", \"FG\", \"\", \"Close\",$B$2,A103, \"all\",\"\", \"\",\"True\",\"T\")/100,\"\")","v":0.55764584375899995},null,0.9800000000000012,0,{"$error":"#N/A"},null,{"$f":"IFERROR(RTD(\"cqg.rtd\",,\"StudyData\", \"Correlation(\"&$B$3&\",\"&BE$2&\",Period:=\"&$B$1&\",InputChoice1:=Close,InputChoice2::=Close)\", \"FG\", \"\", \"Close\",$B$2,A103, \"all\",\"\", \"\",\"True\",\"T\")/100,\"\")","v":""},null,0.9800000000000012,0,{"$error":"#N/A"}]
[-100,null,{"$f":"IFERROR(RTD(\"cqg.rtd\",,\"StudyData\", \"Correlation(\"&$B$3&\",\"&C$2&\",Period:=\"&$B$1&\",InputChoice1:=Close,InputChoice2:=Close)\", \"FG\", \"\", \"Close\",$B$2,A104, \"all\",\"\", \"\",\"True\",\"T\")/100,\"\")","v":""},null,1.0000000000000011,0,{"$error":"#N/A"},null,{"$f":"IFERROR(RTD(\"cqg.rtd\",,\"StudyData\", \"Correlation(\"&$B$3&\",\"&I$2&\",Period:=\"&$B$1&\",InputChoice1:=Close,InputChoice2::=Close)\", \"FG\", \"\", \"Close\",$B$2,A104, \"all\",\"\", \"\",\"True\",\"T\")/100,\"\")","v":""},null,1.0000000000000011,0,{"$error":"#N/A"},null,{"$f":"IFERROR(RTD(\"cqg.rtd\",,\"StudyData\", \"Correlation(\"&$B$3&\",\"&O$2&\",Period:=\"&$B$1&\",InputChoice1:=Close,InputChoice2::=Close)\", \"FG\", \"\", \"Close\",$B$2,A104, \"all\",\"\", \"\",\"True\",\"T\")/100,\"\")","v":""},null,1.0000000000000011,0,{"$error":"#N/A"},null,{"$f":"IFERROR(RTD(\"cqg.rtd\",,\"StudyData\", \"Correlation(\"&$B$3&\",\"&U$2&\",Period:=\"&$B$1&\",InputChoice1:=Close,InputChoice2::=Close)\", \"FG\", \"\", \"Close\",$B$2,A104, \"all\",\"\", \"\",\"True\",\"T\")/100,\"\")","v":""},null,1.0000000000000011,0,{"$error":"#N/A"},null,{"$f":"IFERROR(RTD(\"cqg.rtd\",,\"StudyData\", \"Correlation(\"&$B$3&\",\"&AA$2&\",Period:=\"&$B$1&\",InputChoice1:=Close,InputChoice2::=Close)\", \"FG\", \"\", \"Close\",$B$2,A104, \"all\",\"\", \"\",\"True\",\"T\")/100,\"\")","v":""},null,1.0000000000000011,0,{"$error":"#N/A"},null,{"$f":"IFERROR(RTD(\"cqg.rtd\",,\"StudyData\", \"Correlation(\"&$B$3&\",\"&AG$2&\",Period:=\"&$B$1&\",InputChoice1:=Close,InputChoice2::=Close)\", \"FG\", \"\", \"Close\",$B$2,A104, \"all\",\"\", \"\",\"True\",\"T\")/100,\"\")","v":""},null,1.0000000000000011,0,{"$error":"#N/A"},null,{"$f":"IFERROR(RTD(\"cqg.rtd\",,\"StudyData\", \"Correlation(\"&$B$3&\",\"&AM$2&\",Period:=\"&$B$1&\",InputChoice1:=Close,InputChoice2::=Close)\", \"FG\", \"\", \"Close\",$B$2,A104, \"all\",\"\", \"\",\"True\",\"T\")/100,\"\")","v":""},null,1.0000000000000011,0,{"$error":"#N/A"},null,{"$f":"IFERROR(RTD(\"cqg.rtd\",,\"StudyData\", \"Correlation(\"&$B$3&\",\"&AS$2&\",Period:=\"&$B$1&\",InputChoice1:=Close,InputChoice2::=Close)\", \"FG\", \"\", \"Close\",$B$2,A104, \"all\",\"\", \"\",\"True\",\"T\")/100,\"\")","v":""},null,1.0000000000000011,0,{"$error":"#N/A"},null,{"$f":"IFERROR(RTD(\"cqg.rtd\",,\"StudyData\", \"Correlation(\"&$B$3&\",\"&AY$2&\",Period:=\"&$B$1&\",InputChoice1:=Close,InputChoice2::=Close)\", \"FG\", \"\", \"Close\",$B$2,A104, \"all\",\"\", \"\",\"True\",\"T\")/100,\"\")","v":""},null,1.0000000000000011,0,{"$error":"#N/A"},null,{"$f":"IFERROR(RTD(\"cqg.rtd\",,\"StudyData\", \"Correlation(\"&$B$3&\",\"&BE$2&\",Period:=\"&$B$1&\",InputChoice1:=Close,InputChoice2::=Close)\", \"FG\", \"\", \"Close\",$B$2,A104, \"all\",\"\", \"\",\"True\",\"T\")/100,\"\")","v":""},null,1.0000000000000011,0,{"$error":"#N/A"}]