{"text_format":"1","workbook":"xlsx","n_sheets":4,"sheets":["Symbols","MainDisplay","Data","1"],"not_rendered":{"charts":11,"images":12,"macros":1,"external_links":0,"defined_names":0,"comments":0,"pivot_tables":0},"unopened":[],"bounds":{"document_bytes":16777216,"sheet_cells":100000,"rows_first":2000,"rows_last":500,"rows_between":2000,"halvings":0,"cell_chars":16384,"cell_head_chars":4096},"cells_cut":0,"cells_raw":0,"read":"whole","date_system":"1900"}

{"sheet":"Symbols","index":0,"n_rows":15,"n_cols":14,"rows_kept":15,"cut":false,"hidden":false,"merged":[[2,1,2,2]]}
[]
[null,null,null,{"$f":"IF(Symbols!D4=\"B\",\"B\",IF(Symbols!D4=0,0,IF(Symbols!D4=1,\"#.0\",IF(Symbols!D4=2,\"#.00\",IF(Symbols!D4=3,\"#.000\",IF(Symbols!D4=4,\"#.0000\",IF(Symbols!D4=5,\"#.00000\",IF(Symbols!D4=6,\"#.000000\"))))))))","v":"#.00"},{"$f":"IF(Symbols!E4=\"B\",\"B\",IF(Symbols!E4=0,0,IF(Symbols!E4=1,\"#.0\",IF(Symbols!E4=2,\"#.00\",IF(Symbols!E4=3,\"#.000\",IF(Symbols!E4=4,\"#.0000\",IF(Symbols!E4=5,\"#.00000\",IF(Symbols!E4=6,\"#.000000\"))))))))","v":0},{"$f":"IF(Symbols!F4=\"B\",\"B\",IF(Symbols!F4=0,0,IF(Symbols!F4=1,\"#.0\",IF(Symbols!F4=2,\"#.00\",IF(Symbols!F4=3,\"#.000\",IF(Symbols!F4=4,\"#.0000\",IF(Symbols!F4=5,\"#.00000\",IF(Symbols!F4=6,\"#.000000\"))))))))","v":"#.00"},{"$f":"IF(Symbols!G4=\"B\",\"B\",IF(Symbols!G4=0,0,IF(Symbols!G4=1,\"#.0\",IF(Symbols!G4=2,\"#.00\",IF(Symbols!G4=3,\"#.000\",IF(Symbols!G4=4,\"#.0000\",IF(Symbols!G4=5,\"#.00000\",IF(Symbols!G4=6,\"#.000000\"))))))))","v":"#.00"},{"$f":"IF(Symbols!H4=\"B\",\"B\",IF(Symbols!H4=0,0,IF(Symbols!H4=1,\"#.0\",IF(Symbols!H4=2,\"#.00\",IF(Symbols!H4=3,\"#.000\",IF(Symbols!H4=4,\"#.0000\",IF(Symbols!H4=5,\"#.00000\",IF(Symbols!H4=6,\"#.000000\"))))))))","v":"#.00"},{"$f":"IF(Symbols!I4=\"B\",\"B\",IF(Symbols!I4=0,0,IF(Symbols!I4=1,\"#.0\",IF(Symbols!I4=2,\"#.00\",IF(Symbols!I4=3,\"#.000\",IF(Symbols!I4=4,\"#.0000\",IF(Symbols!I4=5,\"#.00000\",IF(Symbols!I4=6,\"#.000000\"))))))))","v":"#.00"},{"$f":"IF(Symbols!J4=\"B\",\"B\",IF(Symbols!J4=0,0,IF(Symbols!J4=1,\"#.0\",IF(Symbols!J4=2,\"#.00\",IF(Symbols!J4=3,\"#.000\",IF(Symbols!J4=4,\"#.0000\",IF(Symbols!J4=5,\"#.00000\",IF(Symbols!J4=6,\"#.000000\"))))))))","v":"#.000"},{"$f":"IF(Symbols!K4=\"B\",\"B\",IF(Symbols!K4=0,0,IF(Symbols!K4=1,\"#.0\",IF(Symbols!K4=2,\"#.00\",IF(Symbols!K4=3,\"#.000\",IF(Symbols!K4=4,\"#.0000\",IF(Symbols!K4=5,\"#.00000\",IF(Symbols!K4=6,\"#.000000\"))))))))","v":"#.000"},{"$f":"IF(Symbols!L4=\"B\",\"B\",IF(Symbols!L4=0,0,IF(Symbols!L4=1,\"#.0\",IF(Symbols!L4=2,\"#.00\",IF(Symbols!L4=3,\"#.000\",IF(Symbols!L4=4,\"#.0000\",IF(Symbols!L4=5,\"#.00000\",IF(Symbols!L4=6,\"#.000000\"))))))))","v":"B"},{"$f":"IF(Symbols!M4=\"B\",\"B\",IF(Symbols!M4=0,0,IF(Symbols!M4=1,\"#.0\",IF(Symbols!M4=2,\"#.00\",IF(Symbols!M4=3,\"#.000\",IF(Symbols!M4=4,\"#.0000\",IF(Symbols!M4=5,\"#.00000\",IF(Symbols!M4=6,\"#.000000\"))))))))","v":"#.00"},{"$f":"IF(Symbols!N4=\"B\",\"B\",IF(Symbols!N4=0,0,IF(Symbols!N4=1,\"#.0\",IF(Symbols!N4=2,\"#.00\",IF(Symbols!N4=3,\"#.000\",IF(Symbols!N4=4,\"#.0000\",IF(Symbols!N4=5,\"#.00000\",IF(Symbols!N4=6,\"#.000000\"))))))))","v":0}]
[null,"Symbols",null,"DD","DSX","QFA","PIL","CLE","HOE","RBE","NGE","TYA","PLE"]
[null,null,"Decimals",2,0,2,2,2,2,3,3,"B",2]
[null,"EP",2,{"$f":"IF(Symbols!C5=\"B\",\"B\",IF(Symbols!C5=0,0,IF(Symbols!C5=1,\"#.0\",IF(Symbols!C5=2,\"#.00\",IF(Symbols!C5=3,\"#.000\",IF(Symbols!C5=4,\"#.0000\",IF(Symbols!C5=5,\"#.00000\",IF(Symbols!C5=6,\"#.000000\"))))))))","v":"#.00"}]
[null,"ENQ",2,{"$f":"IF(Symbols!C6=\"B\",\"B\",IF(Symbols!C6=0,0,IF(Symbols!C6=1,\"#.0\",IF(Symbols!C6=2,\"#.00\",IF(Symbols!C6=3,\"#.000\",IF(Symbols!C6=4,\"#.0000\",IF(Symbols!C6=5,\"#.00000\",IF(Symbols!C6=6,\"#.000000\"))))))))","v":"#.00"},"Enter in, using all capitals, the symbols in the column to the left for the symbols in the first column of the Correlation matrix. This will also be the top row"]
[null,"EMD",2,{"$f":"IF(Symbols!C7=\"B\",\"B\",IF(Symbols!C7=0,0,IF(Symbols!C7=1,\"#.0\",IF(Symbols!C7=2,\"#.00\",IF(Symbols!C7=3,\"#.000\",IF(Symbols!C7=4,\"#.0000\",IF(Symbols!C7=5,\"#.00000\",IF(Symbols!C7=6,\"#.000000\"))))))))","v":"#.00"},"of market information on the main display. For price formatting, enter in the number of decimals or B for bonds and grains. "]
[null,"GCE",2,{"$f":"IF(Symbols!C8=\"B\",\"B\",IF(Symbols!C8=0,0,IF(Symbols!C8=1,\"#.0\",IF(Symbols!C8=2,\"#.00\",IF(Symbols!C8=3,\"#.000\",IF(Symbols!C8=4,\"#.0000\",IF(Symbols!C8=5,\"#.00000\",IF(Symbols!C8=6,\"#.000000\"))))))))","v":"#.00"}]
[null,"DXE",2,{"$f":"IF(Symbols!C9=\"B\",\"B\",IF(Symbols!C9=0,0,IF(Symbols!C9=1,\"#.0\",IF(Symbols!C9=2,\"#.00\",IF(Symbols!C9=3,\"#.000\",IF(Symbols!C9=4,\"#.0000\",IF(Symbols!C9=5,\"#.00000\",IF(Symbols!C9=6,\"#.000000\"))))))))","v":"#.00"},"Enter in, using all capitals, the symbols in the the top row above for the symbols along the top of the Correlation matrix. This will also be the bottom row"]
[null,"EU6",4,{"$f":"IF(Symbols!C10=\"B\",\"B\",IF(Symbols!C10=0,0,IF(Symbols!C10=1,\"#.0\",IF(Symbols!C10=2,\"#.00\",IF(Symbols!C10=3,\"#.000\",IF(Symbols!C10=4,\"#.0000\",IF(Symbols!C10=5,\"#.00000\",IF(Symbols!C10=6,\"#.000000\"))))))))","v":"#.0000"},"of market information on the main display. Enter in the number of decimals or B for bonds and grains. "]
[null,"JY6",6,{"$f":"IF(Symbols!C11=\"B\",\"B\",IF(Symbols!C11=0,0,IF(Symbols!C11=1,\"#.0\",IF(Symbols!C11=2,\"#.00\",IF(Symbols!C11=3,\"#.000\",IF(Symbols!C11=4,\"#.0000\",IF(Symbols!C11=5,\"#.00000\",IF(Symbols!C11=6,\"#.000000\"))))))))","v":"#.000000"}]
[null,"DA6",4,{"$f":"IF(Symbols!C12=\"B\",\"B\",IF(Symbols!C12=0,0,IF(Symbols!C12=1,\"#.0\",IF(Symbols!C12=2,\"#.00\",IF(Symbols!C12=3,\"#.000\",IF(Symbols!C12=4,\"#.0000\",IF(Symbols!C12=5,\"#.00000\",IF(Symbols!C12=6,\"#.000000\"))))))))","v":"#.0000"},"Click the \"Chart\" toolbar button on the Correlation matrix on the main display to change the scattergram chart to display"]
[null,"BP6",4,{"$f":"IF(Symbols!C13=\"B\",\"B\",IF(Symbols!C13=0,0,IF(Symbols!C13=1,\"#.0\",IF(Symbols!C13=2,\"#.00\",IF(Symbols!C13=3,\"#.000\",IF(Symbols!C13=4,\"#.0000\",IF(Symbols!C13=5,\"#.00000\",IF(Symbols!C13=6,\"#.000000\"))))))))","v":"#.0000"},"that row of correlation values relative to the market in the same row listed in the first column."]
[null,"MX6",6,{"$f":"IF(Symbols!C14=\"B\",\"B\",IF(Symbols!C14=0,0,IF(Symbols!C14=1,\"#.0\",IF(Symbols!C14=2,\"#.00\",IF(Symbols!C14=3,\"#.000\",IF(Symbols!C14=4,\"#.0000\",IF(Symbols!C14=5,\"#.00000\",IF(Symbols!C14=6,\"#.000000\"))))))))","v":"#.000000"}]
[null,null,null,null,"Enter in the time frame and look back period for the correlation analysis. Use ADC for daily bars."]

{"sheet":"MainDisplay","index":1,"n_rows":56,"n_cols":34,"rows_kept":56,"cut":false,"hidden":false,"merged":[[1,8,2,29],[1,30,2,33],[26,30,26,31],[28,30,28,31],[28,21,28,22],[28,24,28,25],[15,30,15,31],[30,13,30,16],[29,21,29,22],[23,30,23,31],[25,30,25,31],[27,30,27,31],[29,30,29,31],[15,21,15,22],[30,24,30,25],[30,27,30,28],[30,30,30,31],[28,13,28,16],[26,13,26,16],[24,13,24,16],[22,13,22,16],[20,13,20,16],[22,21,22,22],[22,24,22,25],[22,30,22,31],[18,27,18,28],[18,30,18,31],[20,18,20,19],[20,21,20,22],[20,24,20,25],[20,27,20,28],[20,30,20,31],[22,18,22,19],[17,30,17,31],[19,30,19,31],[21,30,21,31],[11,30,11,31],[13,30,13,31],[30,18,30,19],[30,21,30,22],[12,30,12,31],[12,27,12,28],[12,24,12,25],[12,21,12,22],[12,18,12,19],[21,21,21,22],[23,21,23,22],[25,21,25,22],[27,21,27,22],[14,18,14,19],[14,21,14,22],[14,24,14,25],[14,27,14,28],[14,30,14,31],[24,27,24,28],[24,30,24,31],[11,27,11,28],[16,30,16,31],[16,27,16,28],[16,24,16,25],[8,4,8,12],[10,24,10,26],[9,26,9,28],[10,27,10,29],[9,29,9,31],[10,30,10,32],[9,32,9,33],[8,13,8,33],[10,18,10,20],[9,20,9,22],[10,21,10,23],[9,23,9,25],[9,4,9,12],[11,24,11,25],[50,16,50,18],[51,16,52,18],[50,19,50,21],[51,19,52,21],[51,28,52,30],[50,31,50,33],[51,31,52,33],[9,13,9,14],[9,15,9,16],[10,13,10,14],[10,15,10,16],[50,13,50,15],[51,13,52,15],[50,22,50,24],[51,22,52,24],[50,25,50,27],[13,27,13,28],[29,13,29,16],[15,27,15,28],[17,27,17,28],[19,27,19,28],[21,27,21,28],[23,27,23,28],[25,27,25,28],[3,4,3,6],[4,4,5,6],[3,7,3,9],[4,7,5,9],[3,10,3,12],[50,4,50,6],[51,4,52,6],[50,7,50,9],[51,7,52,9],[50,10,50,12],[51,10,52,12],[3,28,3,30],[3,31,3,33],[4,28,5,30],[4,31,5,33],[3,22,3,24],[55,9,55,10],[55,11,55,12],[11,18,11,19],[13,18,13,19],[15,18,15,19],[17,18,17,19],[19,18,19,19],[21,18,21,19],[23,18,23,19],[25,18,25,19],[27,18,27,19],[29,18,29,19],[51,25,52,27],[50,28,50,30],[11,21,11,22],[13,21,13,22],[3,13,3,15],[4,10,5,12],[4,13,5,15],[29,24,29,25],[17,21,17,22],[19,21,19,22],[18,13,18,16],[17,24,17,25],[19,24,19,25],[21,24,21,25],[26,18,26,19],[3,25,3,27],[4,22,5,24],[4,25,5,27],[3,16,3,18],[3,19,3,21],[4,16,5,18],[4,19,5,21],[27,27,27,28],[17,13,17,16],[19,13,19,16],[21,13,21,16],[22,27,22,28],[11,13,11,16],[18,21,18,22],[18,24,18,25],[24,18,24,19],[24,21,24,22],[24,24,24,25],[28,18,28,19],[23,13,23,16],[25,13,25,16],[27,13,27,16],[23,24,23,25],[13,13,13,16],[15,13,15,16],[16,21,16,22],[16,18,16,19],[18,18,18,19],[13,24,13,25],[15,24,15,25],[25,24,25,25],[27,24,27,25],[25,4,25,12],[32,4,32,12],[35,4,35,12],[38,4,38,12],[41,4,41,12],[44,4,44,12],[47,4,47,12],[12,13,12,16],[16,13,16,16],[14,13,14,16],[31,13,31,16],[13,4,13,12],[19,4,19,12],[32,13,32,33],[31,18,31,19],[31,21,31,22],[31,24,31,25],[31,27,31,28],[31,30,31,31],[26,21,26,22],[26,24,26,25],[29,27,29,28],[28,27,28,28],[26,27,26,28]]}
[null,null,null,null,{"$f":"IF(N32=$N$12,R12,IF(N32=$N$14,R14,IF(N32=$N$16,R16,IF(N32=$N$18,R18,IF(N32=$N$20,R20,IF(N32=$N$22,R22,IF(N32=$N$24,R24,IF(N32=$N$26,R26,IF(N32=$N$28,R28,IF(N32=$N$30,R30))))))))))","v":"EP"},null,null,null,null,null,null,null,null,null,null,null,null,null,{"$f":"Data!C2","v":"DD"},null,{"$f":"Data!D2","v":"DSX"},{"$f":"Data!E2","v":"QFA"},null,{"$f":"Data!F2","v":"PIL"},{"$f":"Data!G2","v":"CLE"},null,{"$f":"Data!H2","v":"HOE"},{"$f":"Data!I2","v":"RBE"},null,{"$f":"Data!J2","v":"NGE"},{"$f":"Data!K2","v":"TYA"},null,{"$f":"Data!L2","v":"PLE"}]
[null,15,15,null,null,null,null,null,"CQG Correlation Dashboard",null,null,null,null,null,null,null,null,null,null,null,null,null,null,null,null,null,null,null,null,null,{"$f":"RTD(\"cqg.rtd\", ,\"SystemInfo\", \"Linetime\")","v":42500.417696759258}]
[null,null,65]
[{"$f":"INDIRECT(\"Data!H\"&$B$2)","v":0},{"$f":"INDIRECT(\"Data!J\"&$B$2)","v":0},{"$f":"INDIRECT(\"Data!K\"&$B$2)","v":0},{"$f":"INDIRECT(\"Data!L\"&$B$2)","v":0},{"$f":"RTD(\"cqg.rtd\", ,\"ContractData\",Symbols!B5, \"LongDescription\",, \"T\")","v":"E-Mini S&P 500, Jun 16"},null,null,{"$f":"RTD(\"cqg.rtd\", ,\"ContractData\",Symbols!B6, \"LongDescription\",, \"T\")","v":"E-mini NASDAQ-100, Jun 16"},null,null,{"$f":"RTD(\"cqg.rtd\", ,\"ContractData\",Symbols!B7, \"LongDescription\",, \"T\")","v":"E-mini MidCap 400, Jun 16"},null,null,{"$f":"RTD(\"cqg.rtd\", ,\"ContractData\",Symbols!B8, \"LongDescription\",, \"T\")","v":"Gold (Globex), Jun 16"},null,null,{"$f":"RTD(\"cqg.rtd\", ,\"ContractData\",Symbols!B9, \"LongDescription\",, \"T\")","v":"Dollar Index (ICE), Jun 16"},null,null,{"$f":"RTD(\"cqg.rtd\", ,\"ContractData\",Symbols!B10, \"LongDescription\",, \"T\")","v":"Euro FX (Globex), Jun 16"},null,null,{"$f":"RTD(\"cqg.rtd\", ,\"ContractData\",Symbols!B11, \"LongDescription\",, \"T\")","v":"Japanese Yen (Globex), Jun 16"},null,null,{"$f":"RTD(\"cqg.rtd\", ,\"ContractData\",Symbols!B12, \"LongDescription\",, \"T\")","v":"Australian Dollar (Globex), Jun 16"},null,null,{"$f":"RTD(\"cqg.rtd\", ,\"ContractData\",Symbols!B13, \"LongDescription\",, \"T\")","v":"British Pound (Globex), Jun 16"},null,null,{"$f":"RTD(\"cqg.rtd\", ,\"ContractData\",Symbols!B14, \"LongDescription\",, \"T\")","v":"Mexican Peso (Globex), Jun 16"}]
[{"$f":"INDIRECT(\"Data!H\"&$B$2+1)","v":0},{"$f":"INDIRECT(\"Data!J\"&$B$2+1)","v":0},{"$f":"INDIRECT(\"Data!K\"&$B$2+1)","v":0},{"$f":"INDIRECT(\"Data!L\"&$B$2+1)","v":0},{"$f":"IF(Symbols!C5=\"B\",RTD(\"cqg.rtd\",,\"ContractData\",Symbols!B5,\"LastTrade\",,\"B\"),TEXT(RTD(\"cqg.rtd\",,\"ContractData\",Symbols!B5,\"LastTrade\",,\"T\"),Symbols!D5))","v":"2071.75"},null,null,{"$f":"IF(Symbols!C6=\"B\",RTD(\"cqg.rtd\",,\"ContractData\",Symbols!B6,\"LastTrade\",,\"B\"),TEXT(RTD(\"cqg.rtd\",,\"ContractData\",Symbols!B6,\"LastTrade\",,\"T\"),Symbols!D6))","v":"4371.50"},null,null,{"$f":"IF(Symbols!C7=\"B\",RTD(\"cqg.rtd\",,\"ContractData\",Symbols!B7,\"LastTrade\",,\"B\"),TEXT(RTD(\"cqg.rtd\",,\"ContractData\",Symbols!B7,\"LastTrade\",,\"T\"),Symbols!D7))","v":"1459.50"},null,null,{"$f":"IF(Symbols!C8=\"B\",RTD(\"cqg.rtd\",,\"ContractData\",Symbols!B8,\"LastTrade\",,\"B\"),TEXT(RTD(\"cqg.rtd\",,\"ContractData\",Symbols!B8,\"LastTrade\",,\"T\"),Symbols!D8))","v":"1262.30"},null,null,{"$f":"IF(Symbols!C9=\"B\",RTD(\"cqg.rtd\",,\"ContractData\",Symbols!B9,\"LastTrade\",,\"B\"),TEXT(RTD(\"cqg.rtd\",,\"ContractData\",Symbols!B9,\"LastTrade\",,\"T\"),Symbols!D9))","v":"94.11"},null,null,{"$f":"IF(Symbols!C10=\"B\",RTD(\"cqg.rtd\",,\"ContractData\",Symbols!B10,\"LastTrade\",,\"B\"),TEXT(RTD(\"cqg.rtd\",,\"ContractData\",Symbols!B10,\"LastTrade\",,\"T\"),Symbols!D10))","v":"1.1404"},null,null,{"$f":"IF(Symbols!C11=\"B\",RTD(\"cqg.rtd\",,\"ContractData\",Symbols!B11,\"LastTrade\",,\"B\"),TEXT(RTD(\"cqg.rtd\",,\"ContractData\",Symbols!B11,\"LastTrade\",,\"T\"),Symbols!D11))","v":".009176"},null,null,{"$f":"IF(Symbols!C12=\"B\",RTD(\"cqg.rtd\",,\"ContractData\",Symbols!B12,\"LastTrade\",,\"B\"),TEXT(RTD(\"cqg.rtd\",,\"ContractData\",Symbols!B12,\"LastTrade\",,\"T\"),Symbols!D12))","v":".7359"},null,null,{"$f":"IF(Symbols!C13=\"B\",RTD(\"cqg.rtd\",,\"ContractData\",Symbols!B13,\"LastTrade\",,\"B\"),TEXT(RTD(\"cqg.rtd\",,\"ContractData\",Symbols!B13,\"LastTrade\",,\"T\"),Symbols!D13))","v":"1.4470"},null,null,{"$f":"IF(Symbols!C14=\"B\",RTD(\"cqg.rtd\",,\"ContractData\",Symbols!B14,\"LastTrade\",,\"B\"),TEXT(RTD(\"cqg.rtd\",,\"ContractData\",Symbols!B14,\"LastTrade\",,\"T\"),Symbols!D14))","v":".055400"}]
[{"$f":"INDIRECT(\"Data!H\"&$B$2+2)","v":0},{"$f":"INDIRECT(\"Data!J\"&$B$2+2)","v":0},{"$f":"INDIRECT(\"Data!K\"&$B$2+2)","v":0},{"$f":"INDIRECT(\"Data!L\"&$B$2+2)","v":0}]
[{"$f":"INDIRECT(\"Data!H\"&$B$2+3)","v":0},{"$f":"INDIRECT(\"Data!J\"&$B$2+3)","v":0},{"$f":"INDIRECT(\"Data!K\"&$B$2+3)","v":0},{"$f":"INDIRECT(\"Data!L\"&$B$2+3)","v":0},"H:",{"$f":"IF(Symbols!C5=\"B\",RTD(\"cqg.rtd\",,\"ContractData\",Symbols!B5,\"High\",,\"B\"),TEXT(RTD(\"cqg.rtd\",,\"ContractData\",Symbols!B5,\"High\",,\"T\"),Symbols!D5))","v":"2072.75"},{"$f":"IF(Symbols!C5=\"B\",RTD(\"cqg.rtd\",,\"ContractData\",Symbols!B5,\"NetLastQuoteToday\",,\"B\"),IF(RTD(\"cqg.rtd\",,\"ContractData\",Symbols!B5,\"NetLastQuoteToday\",,\"T\")>0,\"+\"&TEXT(RTD(\"cqg.rtd\",,\"ContractData\",Symbols!B5,\"NetLastQuoteToday\",,\"T\"),Symbols!D5),TEXT(RTD(\"cqg.rtd\",,\"ContractData\",Symbols!B5,\"NetLastQuoteToday\",,\"T\"),Symbols!D5)))","v":"+17.25"},"H:",{"$f":"IF(Symbols!C6=\"B\",RTD(\"cqg.rtd\",,\"ContractData\",Symbols!B6,\"High\",,\"B\"),TEXT(RTD(\"cqg.rtd\",,\"ContractData\",Symbols!B6,\"High\",,\"T\"),Symbols!D6))","v":"4374.75"},{"$f":"IF(Symbols!C6=\"B\",RTD(\"cqg.rtd\",,\"ContractData\",Symbols!B6,\"NetLastQuoteToday\",,\"B\"),IF(RTD(\"cqg.rtd\",,\"ContractData\",Symbols!B6,\"NetLastQuoteToday\",,\"T\")>0,\"+\"&TEXT(RTD(\"cqg.rtd\",,\"ContractData\",Symbols!B6,\"NetLastQuoteToday\",,\"T\"),Symbols!D6),TEXT(RTD(\"cqg.rtd\",,\"ContractData\",Symbols!B6,\"NetLastQuoteToday\",,\"T\"),Symbols!D6)))","v":"+35.75"},"H:",{"$f":"IF(Symbols!C7=\"B\",RTD(\"cqg.rtd\",,\"ContractData\",Symbols!B7,\"High\",,\"B\"),TEXT(RTD(\"cqg.rtd\",,\"ContractData\",Symbols!B7,\"High\",,\"T\"),Symbols!D7))","v":"1461.30"},{"$f":"IF(Symbols!C7=\"B\",RTD(\"cqg.rtd\",,\"ContractData\",Symbols!B7,\"NetLastQuoteToday\",,\"B\"),IF(RTD(\"cqg.rtd\",,\"ContractData\",Symbols!B7,\"NetLastQuoteToday\",,\"T\")>0,\"+\"&TEXT(RTD(\"cqg.rtd\",,\"ContractData\",Symbols!B7,\"NetLastQuoteToday\",,\"T\"),Symbols!D7),TEXT(RTD(\"cqg.rtd\",,\"ContractData\",Symbols!B7,\"NetLastQuoteToday\",,\"T\"),Symbols!D7)))","v":"+9.30"},"H:",{"$f":"IF(Symbols!C8=\"B\",RTD(\"cqg.rtd\",,\"ContractData\",Symbols!B8,\"High\",,\"B\"),TEXT(RTD(\"cqg.rtd\",,\"ContractData\",Symbols!B8,\"High\",,\"T\"),Symbols!D8))","v":"1269.50"},{"$f":"IF(Symbols!C8=\"B\",RTD(\"cqg.rtd\",,\"ContractData\",Symbols!B8,\"NetLastQuoteToday\",,\"B\"),IF(RTD(\"cqg.rtd\",,\"ContractData\",Symbols!B8,\"NetLastQuoteToday\",,\"T\")>0,\"+\"&TEXT(RTD(\"cqg.rtd\",,\"ContractData\",Symbols!B8,\"NetLastQuoteToday\",,\"T\"),Symbols!D8),TEXT(RTD(\"cqg.rtd\",,\"ContractData\",Symbols!B8,\"NetLastQuoteToday\",,\"T\"),Symbols!D8)))","v":"-4.30"},"H:",{"$f":"IF(Symbols!C9=\"B\",RTD(\"cqg.rtd\",,\"ContractData\",Symbols!B9,\"High\",,\"B\"),TEXT(RTD(\"cqg.rtd\",,\"ContractData\",Symbols!B9,\"High\",,\"T\"),Symbols!D9))","v":"94.34"},{"$f":"IF(Symbols!C9=\"B\",RTD(\"cqg.rtd\",,\"ContractData\",Symbols!B9,\"NetLastQuoteToday\",,\"B\"),IF(RTD(\"cqg.rtd\",,\"ContractData\",Symbols!B9,\"NetLastQuoteToday\",,\"T\")>0,\"+\"&TEXT(RTD(\"cqg.rtd\",,\"ContractData\",Symbols!B9,\"NetLastQuoteToday\",,\"T\"),Symbols!D9),TEXT(RTD(\"cqg.rtd\",,\"ContractData\",Symbols!B9,\"NetLastQuoteToday\",,\"T\"),Symbols!D9)))","v":"-.02"},"H:",{"$f":"IF(Symbols!C10=\"B\",RTD(\"cqg.rtd\",,\"ContractData\",Symbols!B10,\"High\",,\"B\"),TEXT(RTD(\"cqg.rtd\",,\"ContractData\",Symbols!B10,\"High\",,\"T\"),Symbols!D10))","v":"1.1422"},{"$f":"IF(Symbols!C10=\"B\",RTD(\"cqg.rtd\",,\"ContractData\",Symbols!B10,\"NetLastQuoteToday\",,\"B\"),IF(RTD(\"cqg.rtd\",,\"ContractData\",Symbols!B10,\"NetLastQuoteToday\",,\"T\")>0,\"+\"&TEXT(RTD(\"cqg.rtd\",,\"ContractData\",Symbols!B10,\"NetLastQuoteToday\",,\"T\"),Symbols!D10),TEXT(RTD(\"cqg.rtd\",,\"ContractData\",Symbols!B10,\"NetLastQuoteToday\",,\"T\"),Symbols!D10)))","v":"+.0004"},"H:",{"$f":"IF(Symbols!C8=\"B\",RTD(\"cqg.rtd\",,\"ContractData\",Symbols!B11,\"High\",,\"B\"),TEXT(RTD(\"cqg.rtd\",,\"ContractData\",Symbols!B11,\"High\",,\"T\"),Symbols!D11))","v":".009243"},{"$f":"IF(Symbols!C11=\"B\",RTD(\"cqg.rtd\",,\"ContractData\",Symbols!B11,\"NetLastQuoteToday\",,\"B\"),IF(RTD(\"cqg.rtd\",,\"ContractData\",Symbols!B11,\"NetLastQuoteToday\",,\"T\")>0,\"+\"&TEXT(RTD(\"cqg.rtd\",,\"ContractData\",Symbols!B11,\"NetLastQuoteToday\",,\"T\"),Symbols!D11),TEXT(RTD(\"cqg.rtd\",,\"ContractData\",Symbols!B11,\"NetLastQuoteToday\",,\"T\"),Symbols!D11)))","v":"-.000051"},"H:",{"$f":"IF(Symbols!C12=\"B\",RTD(\"cqg.rtd\",,\"ContractData\",Symbols!B12,\"High\",,\"B\"),TEXT(RTD(\"cqg.rtd\",,\"ContractData\",Symbols!B12,\"High\",,\"T\"),Symbols!D12))","v":".7365"},{"$f":"IF(Symbols!C12=\"B\",RTD(\"cqg.rtd\",,\"ContractData\",Symbols!B12,\"NetLastQuoteToday\",,\"B\"),IF(RTD(\"cqg.rtd\",,\"ContractData\",Symbols!B12,\"NetLastQuoteToday\",,\"T\")>0,\"+\"&TEXT(RTD(\"cqg.rtd\",,\"ContractData\",Symbols!B12,\"NetLastQuoteToday\",,\"T\"),Symbols!D12),TEXT(RTD(\"cqg.rtd\",,\"ContractData\",Symbols!B12,\"NetLastQuoteToday\",,\"T\"),Symbols!D12)))","v":"+.0049"},"H:",{"$f":"IF(Symbols!C13=\"B\",RTD(\"cqg.rtd\",,\"ContractData\",Symbols!B13,\"High\",,\"B\"),TEXT(RTD(\"cqg.rtd\",,\"ContractData\",Symbols!B13,\"High\",,\"T\"),Symbols!D13))","v":"1.4480"},{"$f":"IF(Symbols!C13=\"B\",RTD(\"cqg.rtd\",,\"ContractData\",Symbols!B13,\"NetLastQuoteToday\",,\"B\"),IF(RTD(\"cqg.rtd\",,\"ContractData\",Symbols!B13,\"NetLastQuoteToday\",,\"T\")>0,\"+\"&TEXT(RTD(\"cqg.rtd\",,\"ContractData\",Symbols!B13,\"NetLastQuoteToday\",,\"T\"),Symbols!D13),TEXT(RTD(\"cqg.rtd\",,\"ContractData\",Symbols!B13,\"NetLastQuoteToday\",,\"T\"),Symbols!D13)))","v":"+.0057"},"H:",{"$f":"IF(Symbols!C14=\"B\",RTD(\"cqg.rtd\",,\"ContractData\",Symbols!B14,\"High\",,\"B\"),TEXT(RTD(\"cqg.rtd\",,\"ContractData\",Symbols!B14,\"High\",,\"T\"),Symbols!D14))","v":".055430"},{"$f":"IF(Symbols!C14=\"B\",RTD(\"cqg.rtd\",,\"ContractData\",Symbols!B14,\"NetLastQuoteToday\",,\"B\"),IF(RTD(\"cqg.rtd\",,\"ContractData\",Symbols!B14,\"NetLastQuoteToday\",,\"T\")>0,\"+\"&TEXT(RTD(\"cqg.rtd\",,\"ContractData\",Symbols!B14,\"NetLastQuoteToday\",,\"T\"),Symbols!D14),TEXT(RTD(\"cqg.rtd\",,\"ContractData\",Symbols!B14,\"NetLastQuoteToday\",,\"T\"),Symbols!D14)))","v":"+.000410"}]
[{"$f":"INDIRECT(\"Data!H\"&$B$2+4)","v":0},{"$f":"INDIRECT(\"Data!J\"&$B$2+4)","v":0},{"$f":"INDIRECT(\"Data!K\"&$B$2+4)","v":0},{"$f":"INDIRECT(\"Data!L\"&$B$2+4)","v":0},"L:",{"$f":"IF(Symbols!C5=\"B\",RTD(\"cqg.rtd\",,\"ContractData\",Symbols!B5,\"Low\",,\"B\"),TEXT(RTD(\"cqg.rtd\",,\"ContractData\",Symbols!B5,\"Low\",,\"T\"),Symbols!D5))","v":"2048.00"},{"$f":"IFERROR(RTD(\"cqg.rtd\", ,\"ContractData\",Symbols!B5, \"PerCentNetLastQuote\",, \"T\")/100,\"\")","v":8.3972252646951438E-3},"L:",{"$f":"IF(Symbols!C6=\"B\",RTD(\"cqg.rtd\",,\"ContractData\",Symbols!B6,\"Low\",,\"B\"),TEXT(RTD(\"cqg.rtd\",,\"ContractData\",Symbols!B6,\"Low\",,\"T\"),Symbols!D6))","v":"4323.75"},{"$f":"IFERROR(RTD(\"cqg.rtd\", ,\"ContractData\",Symbols!B6, \"PerCentNetLastQuote\",, \"T\")/100,\"\")","v":8.2454016029521997E-3},"L:",{"$f":"IF(Symbols!C7=\"B\",RTD(\"cqg.rtd\",,\"ContractData\",Symbols!B7,\"Low\",,\"B\"),TEXT(RTD(\"cqg.rtd\",,\"ContractData\",Symbols!B7,\"Low\",,\"T\"),Symbols!D7))","v":"1445.10"},{"$f":"IFERROR(RTD(\"cqg.rtd\", ,\"ContractData\",Symbols!B7, \"PerCentNetLastQuote\",, \"T\")/100,\"\")","v":6.412466386264911E-3},"L:",{"$f":"IF(Symbols!C8=\"B\",RTD(\"cqg.rtd\",,\"ContractData\",Symbols!B8,\"Low\",,\"B\"),TEXT(RTD(\"cqg.rtd\",,\"ContractData\",Symbols!B8,\"Low\",,\"T\"),Symbols!D8))","v":"1258.30"},{"$f":"IFERROR(RTD(\"cqg.rtd\", ,\"ContractData\",Symbols!B8, \"PerCentNetLastQuote\",, \"T\")/100,\"\")","v":-3.3949155218695719E-3},"L:",{"$f":"IF(Symbols!C9=\"B\",RTD(\"cqg.rtd\",,\"ContractData\",Symbols!B9,\"Low\",,\"B\"),TEXT(RTD(\"cqg.rtd\",,\"ContractData\",Symbols!B9,\"Low\",,\"T\"),Symbols!D9))","v":"94.02"},{"$f":"IFERROR(RTD(\"cqg.rtd\", ,\"ContractData\",Symbols!B9, \"PerCentNetLastQuote\",, \"T\")/100,\"\")","v":-2.1250597673059556E-4},"L:",{"$f":"IF(Symbols!C10=\"B\",RTD(\"cqg.rtd\",,\"ContractData\",Symbols!B10,\"Low\",,\"B\"),TEXT(RTD(\"cqg.rtd\",,\"ContractData\",Symbols!B10,\"Low\",,\"T\"),Symbols!D10))","v":"1.1370"},{"$f":"IFERROR(RTD(\"cqg.rtd\", ,\"ContractData\",Symbols!B10, \"PerCentNetLastQuote\",, \"T\")/100,\"\")","v":3.5089258300802668E-4},"L:",{"$f":"IF(Symbols!C11=\"B\",RTD(\"cqg.rtd\",,\"ContractData\",Symbols!B11,\"Low\",,\"B\"),TEXT(RTD(\"cqg.rtd\",,\"ContractData\",Symbols!B11,\"Low\",,\"T\"),Symbols!D11))","v":".009158"},{"$f":"IFERROR(RTD(\"cqg.rtd\", ,\"ContractData\",Symbols!B11, \"PerCentNetLastQuote\",, \"T\")/100,\"\")","v":-5.4736613917190542E-3},"L:",{"$f":"IF(Symbols!C12=\"B\",RTD(\"cqg.rtd\",,\"ContractData\",Symbols!B12,\"Low\",,\"B\"),TEXT(RTD(\"cqg.rtd\",,\"ContractData\",Symbols!B12,\"Low\",,\"T\"),Symbols!D12))","v":".7290"},{"$f":"IFERROR(RTD(\"cqg.rtd\", ,\"ContractData\",Symbols!B12, \"PerCentNetLastQuote\",, \"T\")/100,\"\")","v":6.7031463748290013E-3},"L:",{"$f":"IF(Symbols!C13=\"B\",RTD(\"cqg.rtd\",,\"ContractData\",Symbols!B13,\"Low\",,\"B\"),TEXT(RTD(\"cqg.rtd\",,\"ContractData\",Symbols!B13,\"Low\",,\"T\"),Symbols!D13))","v":"1.4391"},{"$f":"IFERROR(RTD(\"cqg.rtd\", ,\"ContractData\",Symbols!B13, \"PerCentNetLastQuote\",, \"T\")/100,\"\")","v":3.954763061125373E-3},"L:",{"$f":"IF(Symbols!C14=\"B\",RTD(\"cqg.rtd\",,\"ContractData\",Symbols!B14,\"Low\",,\"B\"),TEXT(RTD(\"cqg.rtd\",,\"ContractData\",Symbols!B14,\"Low\",,\"T\"),Symbols!D14))","v":".054700"},{"$f":"IFERROR(RTD(\"cqg.rtd\", ,\"ContractData\",Symbols!B14, \"PerCentNetLastQuote\",, \"T\")/100,\"\")","v":7.4559010729223496E-3}]
[{"$f":"INDIRECT(\"Data!H\"&$B$2+5)","v":0},{"$f":"INDIRECT(\"Data!J\"&$B$2+5)","v":0},{"$f":"INDIRECT(\"Data!K\"&$B$2+5)","v":0},{"$f":"INDIRECT(\"Data!L\"&$B$2+5)","v":0},{"$f":"N32","v":"E-Mini S&P 500, Jun 16"},null,null,null,null,null,null,null,null,"Correlations"]
[{"$f":"INDIRECT(\"Data!H\"&$B$2+6)","v":0},{"$f":"INDIRECT(\"Data!J\"&$B$2+6)","v":0},{"$f":"INDIRECT(\"Data!K\"&$B$2+6)","v":0},{"$f":"INDIRECT(\"Data!L\"&$B$2+6)","v":0},{"$f":"TEXT(S32,\"#.00\")&\" Correlation to the \"&RTD(\"cqg.rtd\", ,\"ContractData\",'1'!C2, \"LongDescription\",, \"T\")","v":".90 Correlation to the DAX Index, Jun 16"},null,null,null,null,null,null,null,null,"Time Frame",null,"Look Back",null,null,null,null,{"$f":"RTD(\"cqg.rtd\", ,\"ContractData\",Data!D2, \"LongDescription\",, \"T\")","v":"Euro STOXX 50, Jun 16"},null,null,{"$f":"RTD(\"cqg.rtd\", ,\"ContractData\",Data!F2, \"LongDescription\",, \"T\")","v":"CAC40, May 16"},null,null,{"$f":"RTD(\"cqg.rtd\", ,\"ContractData\",Data!H2, \"LongDescription\",, \"T\")","v":"NY Harbor ULSD, Jun 16"},null,null,{"$f":"RTD(\"cqg.rtd\", ,\"ContractData\",Data!J2, \"LongDescription\",, \"T\")","v":"Natural Gas (Globex), Jun 16"},null,null,{"$f":"RTD(\"cqg.rtd\", ,\"ContractData\",Data!L2, \"LongDescription\",, \"T\")","v":"Platinum (Globex), Jul 16"}]
[{"$f":"INDIRECT(\"Data!H\"&$B$2+7)","v":0},{"$f":"INDIRECT(\"Data!J\"&$B$2+7)","v":0},{"$f":"INDIRECT(\"Data!K\"&$B$2+7)","v":0},{"$f":"INDIRECT(\"Data!L\"&$B$2+7)","v":0},null,null,null,null,null,null,null,null,null,"ADC",null,10,null,null,{"$f":"RTD(\"cqg.rtd\", ,\"ContractData\",Data!C2, \"LongDescription\",, \"T\")","v":"DAX Index, Jun 16"},null,null,{"$f":"RTD(\"cqg.rtd\", ,\"ContractData\",Data!E2, \"LongDescription\",, \"T\")","v":"FTSE 100 - Stnd Index, Jun 16"},null,null,{"$f":"RTD(\"cqg.rtd\", ,\"ContractData\",Data!G2, \"LongDescription\",, \"T\")","v":"Crude Light (Globex), Jun 16"},null,null,{"$f":"RTD(\"cqg.rtd\", ,\"ContractData\",Data!I2, \"LongDescription\",, \"T\")","v":"RBOB Gasoline (Globex), Jun 16"},null,null,{"$f":"RTD(\"cqg.rtd\", ,\"ContractData\",Data!K2, \"LongDescription\",, \"T\")","v":"10yr US Treasury Notes (Globex), Jun 16"}]
[{"$f":"INDIRECT(\"Data!H\"&$B$2+8)","v":0},{"$f":"INDIRECT(\"Data!J\"&$B$2+8)","v":0},{"$f":"INDIRECT(\"Data!K\"&$B$2+8)","v":0},{"$f":"INDIRECT(\"Data!L\"&$B$2+8)","v":0},null,null,null,null,null,null,null,null,null,{"$f":"RTD(\"cqg.rtd\", ,\"ContractData\",Symbols!B5, \"LongDescription\",, \"T\")","v":"E-Mini S&P 500, Jun 16"},null,null,null,{"$f":"Symbols!B5","v":"EP"},{"$f":"Data!C3","v":0.89776771280000001},null,{"$f":"Data!D3","v":0.88264455510000006},{"$f":"Data!E3","v":0.87121443920000008},null,{"$f":"Data!F3","v":0.90951956749999996},{"$f":"Data!G3","v":0.53789452069999999},null,{"$f":"Data!H3","v":0.59558561430000001},{"$f":"Data!I3","v":0.62594319389999997},null,{"$f":"Data!J3","v":0.11131332269999999},{"$f":"Data!K3","v":-0.69171213330000003},null,{"$f":"Data!L3","v":-0.41470625820000001}]
[{"$f":"INDIRECT(\"Data!H\"&$B$2+9)","v":0},{"$f":"INDIRECT(\"Data!J\"&$B$2+9)","v":0},{"$f":"INDIRECT(\"Data!K\"&$B$2+9)","v":0},{"$f":"INDIRECT(\"Data!L\"&$B$2+9)","v":0},null,null,null,null,null,null,null,null,null,{"$f":"$N$12","v":"E-Mini S&P 500, Jun 16"},null,null,null,null,{"$f":"$S$12","v":0.89776771280000001},null,{"$f":"$U$12","v":0.88264455510000006},{"$f":"$V$12","v":0.87121443920000008},null,{"$f":"$X$12","v":0.90951956749999996},{"$f":"$Y$12","v":0.53789452069999999},null,{"$f":"$AA$12","v":0.59558561430000001},{"$f":"$AB$12","v":0.62594319389999997},null,{"$f":"$AD$12","v":0.11131332269999999},{"$f":"$AE$12","v":-0.69171213330000003},null,{"$f":"$AG$12","v":-0.41470625820000001}]
[{"$f":"INDIRECT(\"Data!H\"&$B$2+10)","v":0},{"$f":"INDIRECT(\"Data!J\"&$B$2+10)","v":0},{"$f":"INDIRECT(\"Data!K\"&$B$2+10)","v":0},{"$f":"INDIRECT(\"Data!L\"&$B$2+10)","v":0},{"$f":"TEXT(U32,\"#.00\")&\" Correlation to the \"&RTD(\"cqg.rtd\",,\"ContractData\",'1'!I2,\"LongDescription\",,\"T\")","v":".88 Correlation to the Euro STOXX 50, Jun 16"},null,null,null,null,null,null,null,null,{"$f":"RTD(\"cqg.rtd\", ,\"ContractData\",Symbols!B6, \"LongDescription\",, \"T\")","v":"E-mini NASDAQ-100, Jun 16"},null,null,null,{"$f":"Symbols!B6","v":"ENQ"},{"$f":"Data!C4","v":0.89921726570000005},null,{"$f":"Data!D4","v":0.87595374320000008},{"$f":"Data!E4","v":0.80325051169999995},null,{"$f":"Data!F4","v":0.88476375430000009},{"$f":"Data!G4","v":0.48630609949999998},null,{"$f":"Data!H4","v":0.54157096839999996},{"$f":"Data!I4","v":0.55363188159999999},null,{"$f":"Data!J4","v":0.1094641963},{"$f":"Data!K4","v":-0.60989025340000003},null,{"$f":"Data!L4","v":-0.52629340349999998}]
[{"$f":"INDIRECT(\"Data!H\"&$B$2+11)","v":0},{"$f":"INDIRECT(\"Data!J\"&$B$2+11)","v":0},{"$f":"INDIRECT(\"Data!K\"&$B$2+11)","v":0},{"$f":"INDIRECT(\"Data!L\"&$B$2+11)","v":0},null,null,null,null,null,null,null,null,null,{"$f":"$N$14","v":"E-mini NASDAQ-100, Jun 16"},null,null,null,null,{"$f":"$S$14","v":0.89921726570000005},null,{"$f":"$U$14","v":0.87595374320000008},{"$f":"$V$14","v":0.80325051169999995},null,{"$f":"$X$14","v":0.88476375430000009},{"$f":"$Y$14","v":0.48630609949999998},null,{"$f":"$AA$14","v":0.54157096839999996},{"$f":"$AB$14","v":0.55363188159999999},null,{"$f":"$AD$14","v":0.1094641963},{"$f":"$AE$14","v":-0.60989025340000003},null,{"$f":"$AG$14","v":-0.52629340349999998}]
[{"$f":"INDIRECT(\"Data!H\"&$B$2+12)","v":0},{"$f":"INDIRECT(\"Data!J\"&$B$2+12)","v":0},{"$f":"INDIRECT(\"Data!K\"&$B$2+12)","v":0},{"$f":"INDIRECT(\"Data!L\"&$B$2+12)","v":0},null,null,null,null,null,null,null,null,null,{"$f":"RTD(\"cqg.rtd\", ,\"ContractData\",Symbols!B7, \"LongDescription\",, \"T\")","v":"E-mini MidCap 400, Jun 16"},null,null,null,{"$f":"Symbols!B7","v":"EMD"},{"$f":"Data!C5","v":0.89712945529999999},null,{"$f":"Data!D5","v":0.8992708693},{"$f":"Data!E5","v":0.91048946980000001},null,{"$f":"Data!F5","v":0.95087567410000007},{"$f":"Data!G5","v":0.59465532050000003},null,{"$f":"Data!H5","v":0.65343892030000006},{"$f":"Data!I5","v":0.70800260829999995},null,{"$f":"Data!J5","v":9.6701041599999996E-2},{"$f":"Data!K5","v":-0.79008669940000009},null,{"$f":"Data!L5","v":-0.37866108740000004}]
[{"$f":"INDIRECT(\"Data!H\"&$B$2+13)","v":0},{"$f":"INDIRECT(\"Data!J\"&$B$2+13)","v":0},{"$f":"INDIRECT(\"Data!K\"&$B$2+13)","v":0},{"$f":"INDIRECT(\"Data!L\"&$B$2+13)","v":0},null,null,null,null,null,null,null,null,null,{"$f":"$N$16","v":"E-mini MidCap 400, Jun 16"},null,null,null,null,{"$f":"$S$16","v":0.89712945529999999},null,{"$f":"$U$16","v":0.8992708693},{"$f":"$V$16","v":0.91048946980000001},null,{"$f":"$X$16","v":0.95087567410000007},{"$f":"$Y$16","v":0.59465532050000003},null,{"$f":"$AA$16","v":0.65343892030000006},{"$f":"$AB$16","v":0.70800260829999995},null,{"$f":"$AD$16","v":9.6701041599999996E-2},{"$f":"$AE$16","v":-0.79008669940000009},null,{"$f":"$AG$16","v":-0.37866108740000004}]
[{"$f":"INDIRECT(\"Data!H\"&$B$2+14)","v":0},{"$f":"INDIRECT(\"Data!J\"&$B$2+14)","v":0},{"$f":"INDIRECT(\"Data!K\"&$B$2+14)","v":0},{"$f":"INDIRECT(\"Data!L\"&$B$2+14)","v":0},null,null,null,null,null,null,null,null,null,{"$f":"RTD(\"cqg.rtd\", ,\"ContractData\",Symbols!B8, \"LongDescription\",, \"T\")","v":"Gold (Globex), Jun 16"},null,null,null,{"$f":"Symbols!B8","v":"GCE"},{"$f":"Data!C6","v":-0.40185700269999997},null,{"$f":"Data!D6","v":-0.37674543090000001},{"$f":"Data!E6","v":-0.41615766840000001},null,{"$f":"Data!F6","v":-0.3248625289},{"$f":"Data!G6","v":-4.8544360400000007E-2},null,{"$f":"Data!H6","v":-4.2884636300000001E-2},{"$f":"Data!I6","v":2.2946816200000001E-2},null,{"$f":"Data!J6","v":-0.33402247549999997},{"$f":"Data!K6","v":-0.13123041730000001},null,{"$f":"Data!L6","v":0.96890527300000007}]
[{"$f":"INDIRECT(\"Data!H\"&$B$2+15)","v":0},{"$f":"INDIRECT(\"Data!J\"&$B$2+15)","v":0},{"$f":"INDIRECT(\"Data!K\"&$B$2+15)","v":0},{"$f":"INDIRECT(\"Data!L\"&$B$2+15)","v":0},null,null,null,null,null,null,null,null,null,{"$f":"$N$18","v":"Gold (Globex), Jun 16"},null,null,null,null,{"$f":"$S$18","v":-0.40185700269999997},null,{"$f":"$U$18","v":-0.37674543090000001},{"$f":"$V$18","v":-0.41615766840000001},null,{"$f":"$X$18","v":-0.3248625289},{"$f":"$Y$18","v":-4.8544360400000007E-2},null,{"$f":"$AA$18","v":-4.2884636300000001E-2},{"$f":"$AB$18","v":2.2946816200000001E-2},null,{"$f":"$AD$18","v":-0.33402247549999997},{"$f":"$AE$18","v":-0.13123041730000001},null,{"$f":"$AG$18","v":0.96890527300000007}]
[{"$f":"INDIRECT(\"Data!H\"&$B$2+16)","v":0},{"$f":"INDIRECT(\"Data!J\"&$B$2+16)","v":0},{"$f":"INDIRECT(\"Data!K\"&$B$2+16)","v":0},{"$f":"INDIRECT(\"Data!L\"&$B$2+16)","v":0},{"$f":"TEXT(V32,\"#.00\")&\" Correlation to the \"&RTD(\"cqg.rtd\",,\"ContractData\",'1'!O2,\"LongDescription\",,\"T\")","v":".87 Correlation to the FTSE 100 - Stnd Index, Jun 16"},null,null,null,null,null,null,null,null,{"$f":"RTD(\"cqg.rtd\", ,\"ContractData\",Symbols!B9, \"LongDescription\",, \"T\")","v":"Dollar Index (ICE), Jun 16"},null,null,null,{"$f":"Symbols!B9","v":"DXE"},{"$f":"Data!C7","v":0.18401010679999999},null,{"$f":"Data!D7","v":0.1517196898},{"$f":"Data!E7","v":0.28125760589999999},null,{"$f":"Data!F7","v":0.10228196569999999},{"$f":"Data!G7","v":7.3821067999999997E-3},null,{"$f":"Data!H7","v":-0.13051582940000001},{"$f":"Data!I7","v":-0.2260638227},null,{"$f":"Data!J7","v":0.29054004729999999},{"$f":"Data!K7","v":0.39431123149999997},null,{"$f":"Data!L7","v":-0.71614947819999997}]
[{"$f":"INDIRECT(\"Data!H\"&$B$2+17)","v":0},{"$f":"INDIRECT(\"Data!J\"&$B$2+17)","v":0},{"$f":"INDIRECT(\"Data!K\"&$B$2+17)","v":0},{"$f":"INDIRECT(\"Data!L\"&$B$2+17)","v":0},null,null,null,null,null,null,null,null,null,{"$f":"$N$20","v":"Dollar Index (ICE), Jun 16"},null,null,null,null,{"$f":"$S$20","v":0.18401010679999999},null,{"$f":"$U$20","v":0.1517196898},{"$f":"$V$20","v":0.28125760589999999},null,{"$f":"$X$20","v":0.10228196569999999},{"$f":"$Y$20","v":7.3821067999999997E-3},null,{"$f":"$AA$20","v":-0.13051582940000001},{"$f":"$AB$20","v":-0.2260638227},null,{"$f":"$AD$20","v":0.29054004729999999},{"$f":"$AE$20","v":0.39431123149999997},null,{"$f":"$AG$20","v":-0.71614947819999997}]
[{"$f":"INDIRECT(\"Data!H\"&$B$2+18)","v":0},{"$f":"INDIRECT(\"Data!J\"&$B$2+18)","v":0},{"$f":"INDIRECT(\"Data!K\"&$B$2+18)","v":0},{"$f":"INDIRECT(\"Data!L\"&$B$2+18)","v":0},null,null,null,null,null,null,null,null,null,{"$f":"RTD(\"cqg.rtd\", ,\"ContractData\",Symbols!B10, \"LongDescription\",, \"T\")","v":"Euro FX (Globex), Jun 16"},null,null,null,{"$f":"Symbols!B10","v":"EU6"},{"$f":"Data!C8","v":-0.4499305864},null,{"$f":"Data!D8","v":-0.43588104829999996},{"$f":"Data!E8","v":-0.54473195680000008},null,{"$f":"Data!F8","v":-0.35946094829999997},{"$f":"Data!G8","v":-0.3619505556},null,{"$f":"Data!H8","v":-0.2194954747},{"$f":"Data!I8","v":-0.1264158423},null,{"$f":"Data!J8","v":-0.2254723673},{"$f":"Data!K8","v":-0.12878530429999999},null,{"$f":"Data!L8","v":0.65682302690000005}]
[{"$f":"INDIRECT(\"Data!H\"&$B$2+19)","v":0},{"$f":"INDIRECT(\"Data!J\"&$B$2+19)","v":0},{"$f":"INDIRECT(\"Data!K\"&$B$2+19)","v":0},{"$f":"INDIRECT(\"Data!L\"&$B$2+19)","v":0},null,null,null,null,null,null,null,null,null,{"$f":"$N$22","v":"Euro FX (Globex), Jun 16"},null,null,null,null,{"$f":"$S$22","v":-0.4499305864},null,{"$f":"$U$22","v":-0.43588104829999996},{"$f":"$V$22","v":-0.54473195680000008},null,{"$f":"$X$22","v":-0.35946094829999997},{"$f":"$Y$22","v":-0.3619505556},null,{"$f":"$AA$22","v":-0.2194954747},{"$f":"$AB$22","v":-0.1264158423},null,{"$f":"$AD$22","v":-0.2254723673},{"$f":"$AE$22","v":-0.12878530429999999},null,{"$f":"$AG$22","v":0.65682302690000005}]
[{"$f":"INDIRECT(\"Data!H\"&$B$2+20)","v":0},{"$f":"INDIRECT(\"Data!J\"&$B$2+20)","v":0},{"$f":"INDIRECT(\"Data!K\"&$B$2+20)","v":0},{"$f":"INDIRECT(\"Data!L\"&$B$2+20)","v":0},null,null,null,null,null,null,null,null,null,{"$f":"RTD(\"cqg.rtd\", ,\"ContractData\",Symbols!B11, \"LongDescription\",, \"T\")","v":"Japanese Yen (Globex), Jun 16"},null,null,null,{"$f":"Symbols!B11","v":"JY6"},{"$f":"Data!C9","v":-0.55304830319999998},null,{"$f":"Data!D9","v":-0.52901963500000004},{"$f":"Data!E9","v":-0.59121705680000003},null,{"$f":"Data!F9","v":-0.53255100820000001},{"$f":"Data!G9","v":-0.17788879529999999},null,{"$f":"Data!H9","v":-0.14493855160000002},{"$f":"Data!I9","v":-0.1140373494},null,{"$f":"Data!J9","v":-0.39185516139999998},{"$f":"Data!K9","v":6.0209998299999998E-2},null,{"$f":"Data!L9","v":0.87529304210000003}]
[{"$f":"INDIRECT(\"Data!H\"&$B$2+21)","v":0},{"$f":"INDIRECT(\"Data!J\"&$B$2+21)","v":0},{"$f":"INDIRECT(\"Data!K\"&$B$2+21)","v":0},{"$f":"INDIRECT(\"Data!L\"&$B$2+21)","v":0},null,null,null,null,null,null,null,null,null,{"$f":"$N$24","v":"Japanese Yen (Globex), Jun 16"},null,null,null,null,{"$f":"$S$24","v":-0.55304830319999998},null,{"$f":"$U$24","v":-0.52901963500000004},{"$f":"$V$24","v":-0.59121705680000003},null,{"$f":"$X$24","v":-0.53255100820000001},{"$f":"$Y$24","v":-0.17788879529999999},null,{"$f":"$AA$24","v":-0.14493855160000002},{"$f":"$AB$24","v":-0.1140373494},null,{"$f":"$AD$24","v":-0.39185516139999998},{"$f":"$AE$24","v":6.0209998299999998E-2},null,{"$f":"$AG$24","v":0.87529304210000003}]
[{"$f":"INDIRECT(\"Data!H\"&$B$2+22)","v":0},{"$f":"INDIRECT(\"Data!J\"&$B$2+22)","v":0},{"$f":"INDIRECT(\"Data!K\"&$B$2+22)","v":0},{"$f":"INDIRECT(\"Data!L\"&$B$2+22)","v":0},{"$f":"TEXT(X32,\"#.00\")&\" Correlation to the \"&RTD(\"cqg.rtd\",,\"ContractData\",'1'!U2,\"LongDescription\",,\"T\")","v":".91 Correlation to the CAC40, May 16"},null,null,null,null,null,null,null,null,{"$f":"RTD(\"cqg.rtd\", ,\"ContractData\",Symbols!B12, \"LongDescription\",, \"T\")","v":"Australian Dollar (Globex), Jun 16"},null,null,null,{"$f":"Symbols!B12","v":"DA6"},{"$f":"Data!C10","v":0.65821661390000008},null,{"$f":"Data!D10","v":0.71718986699999998},{"$f":"Data!E10","v":0.82103834119999997},null,{"$f":"Data!F10","v":0.7420949133000001},{"$f":"Data!G10","v":0.72260090039999991},null,{"$f":"Data!H10","v":0.84463575320000006},{"$f":"Data!I10","v":0.91030970710000003},null,{"$f":"Data!J10","v":-0.1290713842},{"$f":"Data!K10","v":-0.91480360780000003},null,{"$f":"Data!L10","v":0.10939591899999999}]
[{"$f":"INDIRECT(\"Data!H\"&$B$2+23)","v":0},{"$f":"INDIRECT(\"Data!J\"&$B$2+23)","v":0},{"$f":"INDIRECT(\"Data!K\"&$B$2+23)","v":0},{"$f":"INDIRECT(\"Data!L\"&$B$2+23)","v":0},null,null,null,null,null,null,null,null,null,{"$f":"$N$26","v":"Australian Dollar (Globex), Jun 16"},null,null,null,null,{"$f":"$S$26","v":0.65821661390000008},null,{"$f":"$U$26","v":0.71718986699999998},{"$f":"$V$26","v":0.82103834119999997},null,{"$f":"$X$26","v":0.7420949133000001},{"$f":"$Y$26","v":0.72260090039999991},null,{"$f":"$AA$26","v":0.84463575320000006},{"$f":"$AB$26","v":0.91030970710000003},null,{"$f":"$AD$26","v":-0.1290713842},{"$f":"$AE$26","v":-0.91480360780000003},null,{"$f":"$AG$26","v":0.10939591899999999}]
[{"$f":"INDIRECT(\"Data!H\"&$B$2+24)","v":0},{"$f":"INDIRECT(\"Data!J\"&$B$2+24)","v":0},{"$f":"INDIRECT(\"Data!K\"&$B$2+24)","v":0},{"$f":"INDIRECT(\"Data!L\"&$B$2+24)","v":0},null,null,null,null,null,null,null,null,null,{"$f":"RTD(\"cqg.rtd\", ,\"ContractData\",Symbols!B13, \"LongDescription\",, \"T\")","v":"British Pound (Globex), Jun 16"},null,null,null,{"$f":"Symbols!B13","v":"BP6"},{"$f":"Data!C11","v":0.58773566300000002},null,{"$f":"Data!D11","v":0.62372839920000001},{"$f":"Data!E11","v":0.76455186089999994},null,{"$f":"Data!F11","v":0.64101405029999992},{"$f":"Data!G11","v":0.62055687679999993},null,{"$f":"Data!H11","v":0.74065916570000001},{"$f":"Data!I11","v":0.82165305},null,{"$f":"Data!J11","v":-0.15689981140000001},{"$f":"Data!K11","v":-0.86478949659999993},null,{"$f":"Data!L11","v":0.24133547020000001}]
[{"$f":"INDIRECT(\"Data!H\"&$B$2+25)","v":0},{"$f":"INDIRECT(\"Data!J\"&$B$2+25)","v":0},{"$f":"INDIRECT(\"Data!K\"&$B$2+25)","v":0},{"$f":"INDIRECT(\"Data!L\"&$B$2+25)","v":0},null,null,null,null,null,null,null,null,null,{"$f":"$N$28","v":"British Pound (Globex), Jun 16"},null,null,null,null,{"$f":"$S$28","v":0.58773566300000002},null,{"$f":"$U$28","v":0.62372839920000001},{"$f":"$V$28","v":0.76455186089999994},null,{"$f":"$X$28","v":0.64101405029999992},{"$f":"$Y$28","v":0.62055687679999993},null,{"$f":"$AA$28","v":0.74065916570000001},{"$f":"$AB$28","v":0.82165305},null,{"$f":"$AD$28","v":-0.15689981140000001},{"$f":"$AE$28","v":-0.86478949659999993},null,{"$f":"$AG$28","v":0.24133547020000001}]
[{"$f":"INDIRECT(\"Data!H\"&$B$2+26)","v":0},{"$f":"INDIRECT(\"Data!J\"&$B$2+26)","v":0},{"$f":"INDIRECT(\"Data!K\"&$B$2+26)","v":0},{"$f":"INDIRECT(\"Data!L\"&$B$2+26)","v":0},null,null,null,null,null,null,null,null,null,{"$f":"RTD(\"cqg.rtd\", ,\"ContractData\",Symbols!B14, \"LongDescription\",, \"T\")","v":"Mexican Peso (Globex), Jun 16"},null,null,null,{"$f":"Symbols!B14","v":"MX6"},{"$f":"Data!C12","v":0.6940980041},null,{"$f":"Data!D12","v":0.75240191270000001},{"$f":"Data!E12","v":0.86926780039999996},null,{"$f":"Data!F12","v":0.7836633422},{"$f":"Data!G12","v":0.78127237900000002},null,{"$f":"Data!H12","v":0.89212106109999989},{"$f":"Data!I12","v":0.95565847590000008},null,{"$f":"Data!J12","v":-1.8675440000000001E-2},{"$f":"Data!K12","v":-0.95020293210000006},null,{"$f":"Data!L12","v":0.16194660460000002}]
[{"$f":"INDIRECT(\"Data!H\"&$B$2+27)","v":0},{"$f":"INDIRECT(\"Data!J\"&$B$2+27)","v":0},{"$f":"INDIRECT(\"Data!K\"&$B$2+27)","v":0},{"$f":"INDIRECT(\"Data!L\"&$B$2+27)","v":0},null,null,null,null,null,null,null,null,null,{"$f":"$N$30","v":"Mexican Peso (Globex), Jun 16"},null,null,null,null,{"$f":"$S$30","v":0.6940980041},null,{"$f":"$U$30","v":0.75240191270000001},{"$f":"$V$30","v":0.86926780039999996},null,{"$f":"$X$30","v":0.7836633422},{"$f":"$Y$30","v":0.78127237900000002},null,{"$f":"$AA$30","v":0.89212106109999989},{"$f":"$AB$30","v":0.95565847590000008},null,{"$f":"$AD$30","v":-1.8675440000000001E-2},{"$f":"$AE$30","v":-0.95020293210000006},null,{"$f":"$AG$30","v":0.16194660460000002}]
[{"$f":"INDIRECT(\"Data!H\"&$B$2+28)","v":0},{"$f":"INDIRECT(\"Data!J\"&$B$2+28)","v":0},{"$f":"INDIRECT(\"Data!K\"&$B$2+28)","v":0},{"$f":"INDIRECT(\"Data!L\"&$B$2+28)","v":0},null,null,null,null,null,null,null,null,null,{"$f":"$N$12","v":"E-Mini S&P 500, Jun 16"},null,null,null,null,{"$f":"$S$12","v":0.89776771280000001},null,{"$f":"$U$12","v":0.88264455510000006},{"$f":"$V$12","v":0.87121443920000008},null,{"$f":"$X$12","v":0.90951956749999996},{"$f":"$Y$12","v":0.53789452069999999},null,{"$f":"$AA$12","v":0.59558561430000001},{"$f":"$AB$12","v":0.62594319389999997},null,{"$f":"$AD$12","v":0.11131332269999999},{"$f":"$AE$12","v":-0.69171213330000003},null,{"$f":"$AG$12","v":-0.41470625820000001}]
[{"$f":"INDIRECT(\"Data!H\"&$B$2+29)","v":0},{"$f":"INDIRECT(\"Data!J\"&$B$2+29)","v":0},{"$f":"INDIRECT(\"Data!K\"&$B$2+29)","v":0},{"$f":"INDIRECT(\"Data!L\"&$B$2+29)","v":0},{"$f":"TEXT(Y32,\"#.00\")&\" Correlation to the \"&RTD(\"cqg.rtd\",,\"ContractData\",'1'!AA2,\"LongDescription\",,\"T\")","v":".54 Correlation to the Crude Light (Globex), Jun 16"},null,null,null,null,null,null,null,null,{"$f":"\"Correlations relative to the  \"&N32","v":"Correlations relative to the  E-Mini S&P 500, Jun 16"}]
[{"$f":"INDIRECT(\"Data!H\"&$B$2+30)","v":0},{"$f":"INDIRECT(\"Data!J\"&$B$2+30)","v":0},{"$f":"INDIRECT(\"Data!K\"&$B$2+30)","v":0},{"$f":"INDIRECT(\"Data!L\"&$B$2+30)","v":0}]
[{"$f":"INDIRECT(\"Data!H\"&$B$2+31)","v":0},{"$f":"INDIRECT(\"Data!J\"&$B$2+31)","v":0},{"$f":"INDIRECT(\"Data!K\"&$B$2+31)","v":0},{"$f":"INDIRECT(\"Data!L\"&$B$2+31)","v":0}]
[{"$f":"INDIRECT(\"Data!H\"&$B$2+32)","v":0},{"$f":"INDIRECT(\"Data!J\"&$B$2+32)","v":0},{"$f":"INDIRECT(\"Data!K\"&$B$2+32)","v":0},{"$f":"INDIRECT(\"Data!L\"&$B$2+32)","v":0},{"$f":"TEXT(AA32,\"#.00\")&\" Correlation to the \"&RTD(\"cqg.rtd\",,\"ContractData\",'1'!AG2,\"LongDescription\",,\"T\")","v":".60 Correlation to the NY Harbor ULSD, Jun 16"}]
[{"$f":"INDIRECT(\"Data!H\"&$B$2+33)","v":0},{"$f":"INDIRECT(\"Data!J\"&$B$2+33)","v":0},{"$f":"INDIRECT(\"Data!K\"&$B$2+33)","v":0},{"$f":"INDIRECT(\"Data!L\"&$B$2+33)","v":0}]
[{"$f":"INDIRECT(\"Data!H\"&$B$2+34)","v":0},{"$f":"INDIRECT(\"Data!J\"&$B$2+34)","v":0},{"$f":"INDIRECT(\"Data!K\"&$B$2+34)","v":0},{"$f":"INDIRECT(\"Data!L\"&$B$2+34)","v":0}]
[{"$f":"INDIRECT(\"Data!H\"&$B$2+35)","v":0},{"$f":"INDIRECT(\"Data!J\"&$B$2+35)","v":0},{"$f":"INDIRECT(\"Data!K\"&$B$2+35)","v":0},{"$f":"INDIRECT(\"Data!L\"&$B$2+35)","v":0},{"$f":"TEXT(AB32,\"#.00\")&\" Correlation to the \"&RTD(\"cqg.rtd\",,\"ContractData\",'1'!AM2,\"LongDescription\",,\"T\")","v":".63 Correlation to the RBOB Gasoline (Globex), Jun 16"}]
[{"$f":"INDIRECT(\"Data!H\"&$B$2+36)","v":0},{"$f":"INDIRECT(\"Data!J\"&$B$2+36)","v":0},{"$f":"INDIRECT(\"Data!K\"&$B$2+36)","v":0},{"$f":"INDIRECT(\"Data!L\"&$B$2+36)","v":0}]
[{"$f":"INDIRECT(\"Data!H\"&$B$2+35)","v":0},{"$f":"INDIRECT(\"Data!J\"&$B$2+35)","v":0},{"$f":"INDIRECT(\"Data!K\"&$B$2+35)","v":0},{"$f":"INDIRECT(\"Data!L\"&$B$2+35)","v":0}]
[{"$f":"INDIRECT(\"Data!H\"&$B$2+38)","v":0},{"$f":"INDIRECT(\"Data!J\"&$B$2+38)","v":0},{"$f":"INDIRECT(\"Data!K\"&$B$2+38)","v":0},{"$f":"INDIRECT(\"Data!L\"&$B$2+38)","v":0},{"$f":"TEXT(AD32,\"#.00\")&\" Correlation to the \"&RTD(\"cqg.rtd\",,\"ContractData\",'1'!AS2,\"LongDescription\",,\"T\")","v":".11 Correlation to the Natural Gas (Globex), Jun 16"}]
[{"$f":"INDIRECT(\"Data!H\"&$B$2+39)","v":0},{"$f":"INDIRECT(\"Data!J\"&$B$2+39)","v":0},{"$f":"INDIRECT(\"Data!K\"&$B$2+39)","v":0},{"$f":"INDIRECT(\"Data!L\"&$B$2+39)","v":0}]
[{"$f":"INDIRECT(\"Data!H\"&$B$2+40)","v":0},{"$f":"INDIRECT(\"Data!J\"&$B$2+40)","v":0},{"$f":"INDIRECT(\"Data!K\"&$B$2+40)","v":0},{"$f":"INDIRECT(\"Data!L\"&$B$2+40)","v":0}]
[{"$f":"INDIRECT(\"Data!H\"&$B$2+41)","v":0},{"$f":"INDIRECT(\"Data!J\"&$B$2+41)","v":0},{"$f":"INDIRECT(\"Data!K\"&$B$2+41)","v":0},{"$f":"INDIRECT(\"Data!L\"&$B$2+41)","v":0},{"$f":"TEXT(AE32,\"#.00\")&\" Correlation to the \"&RTD(\"cqg.rtd\",,\"ContractData\",'1'!AY2,\"LongDescription\",,\"T\")","v":"-.69 Correlation to the 10yr US Treasury Notes (Globex), Jun 16"}]
[{"$f":"INDIRECT(\"Data!H\"&$B$2+42)","v":0},{"$f":"INDIRECT(\"Data!J\"&$B$2+42)","v":0},{"$f":"INDIRECT(\"Data!K\"&$B$2+42)","v":0},{"$f":"INDIRECT(\"Data!L\"&$B$2+42)","v":0}]
[{"$f":"INDIRECT(\"Data!H\"&$B$2+43)","v":0},{"$f":"INDIRECT(\"Data!J\"&$B$2+43)","v":0},{"$f":"INDIRECT(\"Data!K\"&$B$2+43)","v":0},{"$f":"INDIRECT(\"Data!L\"&$B$2+43)","v":0}]
[null,null,null,null,{"$f":"TEXT(AG32,\"#.00\")&\" Correlation to the \"&RTD(\"cqg.rtd\",,\"ContractData\",'1'!BE2,\"LongDescription\",,\"T\")","v":"-.41 Correlation to the Platinum (Globex), Jul 16"}]
[]
[]
[{"$f":"INDIRECT(\"Data!H\"&$B$2+47)","v":0},{"$f":"INDIRECT(\"Data!J\"&$B$2+47)","v":0},{"$f":"INDIRECT(\"Data!K\"&$B$2+47)","v":0},{"$f":"INDIRECT(\"Data!L\"&$B$2+47)","v":0},{"$f":"RTD(\"cqg.rtd\", ,\"ContractData\",Symbols!D3, \"LongDescription\",, \"T\")","v":"DAX Index, Jun 16"},null,null,{"$f":"RTD(\"cqg.rtd\", ,\"ContractData\",Symbols!E3, \"LongDescription\",, \"T\")","v":"Euro STOXX 50, Jun 16"},null,null,{"$f":"RTD(\"cqg.rtd\", ,\"ContractData\",Symbols!F3, \"LongDescription\",, \"T\")","v":"FTSE 100 - Stnd Index, Jun 16"},null,null,{"$f":"RTD(\"cqg.rtd\", ,\"ContractData\",Symbols!G3, \"LongDescription\",, \"T\")","v":"CAC40, May 16"},null,null,{"$f":"RTD(\"cqg.rtd\", ,\"ContractData\",Symbols!H3, \"LongDescription\",, \"T\")","v":"Crude Light (Globex), Jun 16"},null,null,{"$f":"RTD(\"cqg.rtd\", ,\"ContractData\",Symbols!I3, \"LongDescription\",, \"T\")","v":"NY Harbor ULSD, Jun 16"},null,null,{"$f":"RTD(\"cqg.rtd\", ,\"ContractData\",Symbols!J3, \"LongDescription\",, \"T\")","v":"RBOB Gasoline (Globex), Jun 16"},null,null,{"$f":"RTD(\"cqg.rtd\", ,\"ContractData\",Symbols!K3, \"LongDescription\",, \"T\")","v":"Natural Gas (Globex), Jun 16"},null,null,{"$f":"RTD(\"cqg.rtd\", ,\"ContractData\",Symbols!L3, \"LongDescription\",, \"T\")","v":"10yr US Treasury Notes (Globex), Jun 16"},null,null,{"$f":"RTD(\"cqg.rtd\", ,\"ContractData\",Symbols!M3, \"LongDescription\",, \"T\")","v":"Platinum (Globex), Jul 16"}]
[{"$f":"INDIRECT(\"Data!H\"&$B$2+48)","v":0},{"$f":"INDIRECT(\"Data!J\"&$B$2+48)","v":0},{"$f":"INDIRECT(\"Data!K\"&$B$2+48)","v":0},{"$f":"INDIRECT(\"Data!L\"&$B$2+48)","v":0},{"$f":"IF(Symbols!D4=\"B\",RTD(\"cqg.rtd\",,\"ContractData\",Symbols!D3,\"LastTrade\",,\"B\"),TEXT(RTD(\"cqg.rtd\",,\"ContractData\",Symbols!D3,\"LastTrade\",,\"T\"),Symbols!D2))","v":"10035.00"},null,null,{"$f":"IF(Symbols!E4=\"B\",RTD(\"cqg.rtd\",,\"ContractData\",Symbols!E3,\"LastTrade\",,\"B\"),TEXT(RTD(\"cqg.rtd\",,\"ContractData\",Symbols!E3,\"LastTrade\",,\"T\"),Symbols!E2))","v":"2940"},null,null,{"$f":"IF(Symbols!F4=\"B\",RTD(\"cqg.rtd\",,\"ContractData\",Symbols!F3,\"LastTrade\",,\"B\"),TEXT(RTD(\"cqg.rtd\",,\"ContractData\",Symbols!F3,\"LastTrade\",,\"T\"),Symbols!F2))","v":"6119.00"},null,null,{"$f":"IF(Symbols!G4=\"B\",RTD(\"cqg.rtd\",,\"ContractData\",Symbols!G3,\"LastTrade\",,\"B\"),TEXT(RTD(\"cqg.rtd\",,\"ContractData\",Symbols!G3,\"LastTrade\",,\"T\"),Symbols!G2))","v":"4320.50"},null,null,{"$f":"IF(Symbols!H4=\"B\",RTD(\"cqg.rtd\",,\"ContractData\",Symbols!H3,\"LastTrade\",,\"B\"),TEXT(RTD(\"cqg.rtd\",,\"ContractData\",Symbols!H3,\"LastTrade\",,\"T\"),Symbols!H2))","v":"44.29"},null,null,{"$f":"IF(Symbols!I4=\"B\",RTD(\"cqg.rtd\",,\"ContractData\",Symbols!I3,\"LastTrade\",,\"B\"),TEXT(RTD(\"cqg.rtd\",,\"ContractData\",Symbols!I3,\"LastTrade\",,\"T\"),Symbols!I2))","v":"1.33"},null,null,{"$f":"IF(Symbols!J4=\"B\",RTD(\"cqg.rtd\",,\"ContractData\",Symbols!J3,\"LastTrade\",,\"B\"),TEXT(RTD(\"cqg.rtd\",,\"ContractData\",Symbols!J3,\"LastTrade\",,\"T\"),Symbols!J2))","v":"1.473"},null,null,{"$f":"IF(Symbols!K4=\"B\",RTD(\"cqg.rtd\",,\"ContractData\",Symbols!K3,\"LastTrade\",,\"B\"),TEXT(RTD(\"cqg.rtd\",,\"ContractData\",Symbols!K3,\"LastTrade\",,\"T\"),Symbols!K2))","v":"2.147"},null,null,{"$f":"IF(Symbols!L4=\"B\",RTD(\"cqg.rtd\",,\"ContractData\",Symbols!L3,\"LastTrade\",,\"B\"),TEXT(RTD(\"cqg.rtd\",,\"ContractData\",Symbols!L3,\"LastTrade\",,\"T\"),Symbols!L2))","v":"130'25.0"},null,null,{"$f":"IF(Symbols!M4=\"B\",RTD(\"cqg.rtd\",,\"ContractData\",Symbols!M3,\"LastTrade\",,\"B\"),TEXT(RTD(\"cqg.rtd\",,\"ContractData\",Symbols!M3,\"LastTrade\",,\"T\"),Symbols!M2))","v":"1050.00"}]
[{"$f":"INDIRECT(\"Data!H\"&$B$2+49)","v":0},{"$f":"INDIRECT(\"Data!J\"&$B$2+49)","v":0},{"$f":"INDIRECT(\"Data!K\"&$B$2+49)","v":0},{"$f":"INDIRECT(\"Data!L\"&$B$2+49)","v":0}]
[null,null,null,null,"H:",{"$f":"IF(Symbols!D4=\"B\",RTD(\"cqg.rtd\",,\"ContractData\",Symbols!D3,\"High\",,\"B\"),TEXT(RTD(\"cqg.rtd\",,\"ContractData\",Symbols!D3,\"High\",,\"T\"),Symbols!D2))","v":"10114.50"},{"$f":"IF(Symbols!D4=\"B\",RTD(\"cqg.rtd\",,\"ContractData\",Symbols!D3,\"NetLastQuoteToday\",,\"B\"),IF(RTD(\"cqg.rtd\",,\"ContractData\",Symbols!D3,\"NetLastQuoteToday\",,\"T\")>0,\"+\"&TEXT(RTD(\"cqg.rtd\",,\"ContractData\",Symbols!D3,\"NetLastQuoteToday\",,\"T\"),Symbols!D2),TEXT(RTD(\"cqg.rtd\",,\"ContractData\",Symbols!D3,\"NetLastQuoteToday\",,\"T\"),Symbols!D2)))","v":"+53.50"},"H:",{"$f":"IF(Symbols!E4=\"B\",RTD(\"cqg.rtd\",,\"ContractData\",Symbols!E3,\"High\",,\"B\"),TEXT(RTD(\"cqg.rtd\",,\"ContractData\",Symbols!E3,\"High\",,\"T\"),Symbols!E2))","v":"2972"},{"$f":"IF(Symbols!E4=\"B\",RTD(\"cqg.rtd\",,\"ContractData\",Symbols!E3,\"NetLastQuoteToday\",,\"B\"),IF(RTD(\"cqg.rtd\",,\"ContractData\",Symbols!E3,\"NetLastQuoteToday\",,\"T\")>0,\"+\"&TEXT(RTD(\"cqg.rtd\",,\"ContractData\",Symbols!E3,\"NetLastQuoteToday\",,\"T\"),Symbols!E2),TEXT(RTD(\"cqg.rtd\",,\"ContractData\",Symbols!E3,\"NetLastQuoteToday\",,\"T\"),Symbols!E2)))","v":"+24"},"H:",{"$f":"IF(Symbols!F4=\"B\",RTD(\"cqg.rtd\",,\"ContractData\",Symbols!F3,\"High\",,\"B\"),TEXT(RTD(\"cqg.rtd\",,\"ContractData\",Symbols!F3,\"High\",,\"T\"),Symbols!F2))","v":"6144.00"},{"$f":"IF(Symbols!F4=\"B\",RTD(\"cqg.rtd\",,\"ContractData\",Symbols!F3,\"NetLastQuoteToday\",,\"B\"),IF(RTD(\"cqg.rtd\",,\"ContractData\",Symbols!F3,\"NetLastQuoteToday\",,\"T\")>0,\"+\"&TEXT(RTD(\"cqg.rtd\",,\"ContractData\",Symbols!F3,\"NetLastQuoteToday\",,\"T\"),Symbols!F2),TEXT(RTD(\"cqg.rtd\",,\"ContractData\",Symbols!F3,\"NetLastQuoteToday\",,\"T\"),Symbols!F2)))","v":"+36.00"},"H:",{"$f":"IF(Symbols!M4=\"B\",RTD(\"cqg.rtd\",,\"ContractData\",Symbols!M3,\"High\",,\"B\"),TEXT(RTD(\"cqg.rtd\",,\"ContractData\",Symbols!M3,\"High\",,\"T\"),Symbols!M2))","v":"1054.10"},{"$f":"IF(Symbols!G4=\"B\",RTD(\"cqg.rtd\",,\"ContractData\",Symbols!G3,\"NetLastQuoteToday\",,\"B\"),IF(RTD(\"cqg.rtd\",,\"ContractData\",Symbols!G3,\"NetLastQuoteToday\",,\"T\")>0,\"+\"&TEXT(RTD(\"cqg.rtd\",,\"ContractData\",Symbols!G3,\"NetLastQuoteToday\",,\"T\"),Symbols!G2),TEXT(RTD(\"cqg.rtd\",,\"ContractData\",Symbols!G3,\"NetLastQuoteToday\",,\"T\"),Symbols!G2)))","v":"+22.50"},"H:",{"$f":"IF(Symbols!H4=\"B\",RTD(\"cqg.rtd\",,\"ContractData\",Symbols!H3,\"High\",,\"B\"),TEXT(RTD(\"cqg.rtd\",,\"ContractData\",Symbols!H3,\"High\",,\"T\"),Symbols!H2))","v":"44.44"},{"$f":"IF(Symbols!H4=\"B\",RTD(\"cqg.rtd\",,\"ContractData\",Symbols!H3,\"NetLastQuoteToday\",,\"B\"),IF(RTD(\"cqg.rtd\",,\"ContractData\",Symbols!H3,\"NetLastQuoteToday\",,\"T\")>0,\"+\"&TEXT(RTD(\"cqg.rtd\",,\"ContractData\",Symbols!H3,\"NetLastQuoteToday\",,\"T\"),Symbols!H2),TEXT(RTD(\"cqg.rtd\",,\"ContractData\",Symbols!H3,\"NetLastQuoteToday\",,\"T\"),Symbols!H2)))","v":"+.85"},"H:",{"$f":"IF(Symbols!I4=\"B\",RTD(\"cqg.rtd\",,\"ContractData\",Symbols!I3,\"High\",,\"B\"),TEXT(RTD(\"cqg.rtd\",,\"ContractData\",Symbols!I3,\"High\",,\"T\"),Symbols!I2))","v":"1.33"},{"$f":"IF(Symbols!I4=\"B\",RTD(\"cqg.rtd\",,\"ContractData\",Symbols!I3,\"NetLastQuoteToday\",,\"B\"),IF(RTD(\"cqg.rtd\",,\"ContractData\",Symbols!I3,\"NetLastQuoteToday\",,\"T\")>0,\"+\"&TEXT(RTD(\"cqg.rtd\",,\"ContractData\",Symbols!I3,\"NetLastQuoteToday\",,\"T\"),Symbols!I2),TEXT(RTD(\"cqg.rtd\",,\"ContractData\",Symbols!I3,\"NetLastQuoteToday\",,\"T\"),Symbols!I2)))","v":"+.04"},"H:",{"$f":"IF(Symbols!J4=\"B\",RTD(\"cqg.rtd\",,\"ContractData\",Symbols!J3,\"High\",,\"B\"),TEXT(RTD(\"cqg.rtd\",,\"ContractData\",Symbols!J3,\"High\",,\"T\"),Symbols!J2))","v":"1.475"},{"$f":"IF(Symbols!J4=\"B\",RTD(\"cqg.rtd\",,\"ContractData\",Symbols!J3,\"NetLastQuoteToday\",,\"B\"),IF(RTD(\"cqg.rtd\",,\"ContractData\",Symbols!J3,\"NetLastQuoteToday\",,\"T\")>0,\"+\"&TEXT(RTD(\"cqg.rtd\",,\"ContractData\",Symbols!J3,\"NetLastQuoteToday\",,\"T\"),Symbols!J2),TEXT(RTD(\"cqg.rtd\",,\"ContractData\",Symbols!J3,\"NetLastQuoteToday\",,\"T\"),Symbols!J2)))","v":"+.030"},"H:",{"$f":"IF(Symbols!K4=\"B\",RTD(\"cqg.rtd\",,\"ContractData\",Symbols!K3,\"High\",,\"B\"),TEXT(RTD(\"cqg.rtd\",,\"ContractData\",Symbols!K3,\"High\",,\"T\"),Symbols!K2))","v":"2.173"},{"$f":"IF(Symbols!K4=\"B\",RTD(\"cqg.rtd\",,\"ContractData\",Symbols!K3,\"NetLastQuoteToday\",,\"B\"),IF(RTD(\"cqg.rtd\",,\"ContractData\",Symbols!K3,\"NetLastQuoteToday\",,\"T\")>0,\"+\"&TEXT(RTD(\"cqg.rtd\",,\"ContractData\",Symbols!K3,\"NetLastQuoteToday\",,\"T\"),Symbols!K2),TEXT(RTD(\"cqg.rtd\",,\"ContractData\",Symbols!K3,\"NetLastQuoteToday\",,\"T\"),Symbols!K2)))","v":"+.049"},"H:",{"$f":"IF(Symbols!L4=\"B\",RTD(\"cqg.rtd\",,\"ContractData\",Symbols!L3,\"High\",,\"B\"),TEXT(RTD(\"cqg.rtd\",,\"ContractData\",Symbols!L3,\"High\",,\"T\"),Symbols!L2))","v":"130'29.0"},{"$f":"IF(Symbols!L4=\"B\",RTD(\"cqg.rtd\",,\"ContractData\",Symbols!L3,\"NetLastQuoteToday\",,\"B\"),IF(RTD(\"cqg.rtd\",,\"ContractData\",Symbols!L3,\"NetLastQuoteToday\",,\"T\")>0,\"+\"&TEXT(RTD(\"cqg.rtd\",,\"ContractData\",Symbols!L3,\"NetLastQuoteToday\",,\"T\"),Symbols!L2),TEXT(RTD(\"cqg.rtd\",,\"ContractData\",Symbols!L3,\"NetLastQuoteToday\",,\"T\"),Symbols!L2)))","v":"-0'00.5"},"H:",{"$f":"IF(Symbols!M4=\"B\",RTD(\"cqg.rtd\",,\"ContractData\",Symbols!M3,\"High\",,\"B\"),TEXT(RTD(\"cqg.rtd\",,\"ContractData\",Symbols!M3,\"High\",,\"T\"),Symbols!M2))","v":"1054.10"},{"$f":"IF(Symbols!M4=\"B\",RTD(\"cqg.rtd\",,\"ContractData\",Symbols!M3,\"NetLastQuoteToday\",,\"B\"),IF(RTD(\"cqg.rtd\",,\"ContractData\",Symbols!M3,\"NetLastQuoteToday\",,\"T\")>0,\"+\"&TEXT(RTD(\"cqg.rtd\",,\"ContractData\",Symbols!M3,\"NetLastQuoteToday\",,\"T\"),Symbols!M2),TEXT(RTD(\"cqg.rtd\",,\"ContractData\",Symbols!M3,\"NetLastQuoteToday\",,\"T\"),Symbols!M2)))","v":"+3.30"}]
[null,null,null,null,"L:",{"$f":"IF(Symbols!D4=\"B\",RTD(\"cqg.rtd\",,\"ContractData\",Symbols!D3,\"Low\",,\"B\"),TEXT(RTD(\"cqg.rtd\",,\"ContractData\",Symbols!D3,\"Low\",,\"T\"),Symbols!D2))","v":"9993.50"},{"$f":"IFERROR(RTD(\"cqg.rtd\", ,\"ContractData\",Symbols!D3, \"PerCentNetLastQuote\",, \"T\")/100,\"\")","v":5.3596473652574635E-3},"L:",{"$f":"IF(Symbols!E4=\"B\",RTD(\"cqg.rtd\",,\"ContractData\",Symbols!E3,\"Low\",,\"B\"),TEXT(RTD(\"cqg.rtd\",,\"ContractData\",Symbols!E3,\"Low\",,\"T\"),Symbols!E2))","v":"2930"},{"$f":"IFERROR(RTD(\"cqg.rtd\", ,\"ContractData\",Symbols!E3, \"PerCentNetLastQuote\",, \"T\")/100,\"\")","v":8.23045267489712E-3},"L:",{"$f":"IF(Symbols!F4=\"B\",RTD(\"cqg.rtd\",,\"ContractData\",Symbols!F3,\"Low\",,\"B\"),TEXT(RTD(\"cqg.rtd\",,\"ContractData\",Symbols!F3,\"Low\",,\"T\"),Symbols!F2))","v":"6073.00"},{"$f":"IFERROR(RTD(\"cqg.rtd\", ,\"ContractData\",Symbols!F3, \"PerCentNetLastQuote\",, \"T\")/100,\"\")","v":5.9181325004109822E-3},"L:",{"$f":"IF(Symbols!M4=\"B\",RTD(\"cqg.rtd\",,\"ContractData\",Symbols!M3,\"Low\",,\"B\"),TEXT(RTD(\"cqg.rtd\",,\"ContractData\",Symbols!M3,\"Low\",,\"T\"),Symbols!M2))","v":"1042.10"},{"$f":"IFERROR(RTD(\"cqg.rtd\", ,\"ContractData\",Symbols!M3, \"PerCentNetLastQuote\",, \"T\")/100,\"\")","v":3.1524646541841806E-3},"L:",{"$f":"IF(Symbols!H4=\"B\",RTD(\"cqg.rtd\",,\"ContractData\",Symbols!H3,\"Low\",,\"B\"),TEXT(RTD(\"cqg.rtd\",,\"ContractData\",Symbols!H3,\"Low\",,\"T\"),Symbols!H2))","v":"43.03"},{"$f":"IFERROR(RTD(\"cqg.rtd\", ,\"ContractData\",Symbols!H3, \"PerCentNetLastQuote\",, \"T\")/100,\"\")","v":1.9567219152854511E-2},"L:",{"$f":"IF(Symbols!I4=\"B\",RTD(\"cqg.rtd\",,\"ContractData\",Symbols!I3,\"Low\",,\"B\"),TEXT(RTD(\"cqg.rtd\",,\"ContractData\",Symbols!I3,\"Low\",,\"T\"),Symbols!I2))","v":"1.28"},{"$f":"IFERROR(RTD(\"cqg.rtd\", ,\"ContractData\",Symbols!I3, \"PerCentNetLastQuote\",, \"T\")/100,\"\")","v":3.1252429448806657E-2},"L:",{"$f":"IF(Symbols!J4=\"B\",RTD(\"cqg.rtd\",,\"ContractData\",Symbols!J3,\"Low\",,\"B\"),TEXT(RTD(\"cqg.rtd\",,\"ContractData\",Symbols!J3,\"Low\",,\"T\"),Symbols!J2))","v":"1.441"},{"$f":"IFERROR(RTD(\"cqg.rtd\", ,\"ContractData\",Symbols!J3, \"PerCentNetLastQuote\",, \"T\")/100,\"\")","v":2.0932972898038402E-2},"L:",{"$f":"IF(Symbols!K4=\"B\",RTD(\"cqg.rtd\",,\"ContractData\",Symbols!K3,\"Low\",,\"B\"),TEXT(RTD(\"cqg.rtd\",,\"ContractData\",Symbols!K3,\"Low\",,\"T\"),Symbols!K2))","v":"2.091"},{"$f":"IFERROR(RTD(\"cqg.rtd\", ,\"ContractData\",Symbols!K3, \"PerCentNetLastQuote\",, \"T\")/100,\"\")","v":2.3355576739752144E-2},"L:",{"$f":"IF(Symbols!L4=\"B\",RTD(\"cqg.rtd\",,\"ContractData\",Symbols!L3,\"Low\",,\"B\"),TEXT(RTD(\"cqg.rtd\",,\"ContractData\",Symbols!L3,\"Low\",,\"T\"),Symbols!L2))","v":"130'20.0"},{"$f":"IFERROR(RTD(\"cqg.rtd\", ,\"ContractData\",Symbols!L3, \"PerCentNetLastQuote\",, \"T\")/100,\"\")","v":-1.1946004061641381E-4},"L:",{"$f":"IF(Symbols!M4=\"B\",RTD(\"cqg.rtd\",,\"ContractData\",Symbols!M3,\"Low\",,\"B\"),TEXT(RTD(\"cqg.rtd\",,\"ContractData\",Symbols!M3,\"Low\",,\"T\"),Symbols!M2))","v":"1042.10"},{"$f":"IFERROR(RTD(\"cqg.rtd\", ,\"ContractData\",Symbols!M3, \"PerCentNetLastQuote\",, \"T\")/100,\"\")","v":3.1524646541841806E-3}]
[null,null,null,null,null,"  Copyright © 2016",null,null,null,"Chicago:",null,{"$f":"RTD(\"cqg.rtd\", ,\"SystemInfo\", \"Linetime\")","v":42500.417696759258},null,null,"Designed by Thom Hartle"]

{"sheet":"Data","index":2,"n_rows":12,"n_cols":12,"rows_kept":12,"cut":false,"hidden":true,"merged":[]}
["Lookback:",{"$f":"MainDisplay!P11","v":10}]
["Time Frame:",{"$f":"MainDisplay!N11","v":"ADC"},{"$f":"Symbols!D3","v":"DD"},{"$f":"Symbols!E3","v":"DSX"},{"$f":"Symbols!F3","v":"QFA"},{"$f":"Symbols!G3","v":"PIL"},{"$f":"Symbols!H3","v":"CLE"},{"$f":"Symbols!I3","v":"HOE"},{"$f":"Symbols!J3","v":"RBE"},{"$f":"Symbols!K3","v":"NGE"},{"$f":"Symbols!L3","v":"TYA"},{"$f":"Symbols!M3","v":"PLE"}]
[{"$f":"Symbols!B5","v":"EP"},null,{"$f":"RTD(\"cqg.rtd\",,\"StudyData\", \"Correlation(\"&$A$3&\",\"&C$2&\",Period:=\"&$B$1&\",InputChoice1::=Close,InputChoice2::=Close)\", \"FG\", \"\", \"Close\",$B$2, \"0\", \"all\",\"\", \"\",\"True\",\"T\")/100","v":0.89776771280000001},{"$f":"RTD(\"cqg.rtd\",,\"StudyData\", \"Correlation(\"&$A$3&\",\"&D$2&\",Period:=\"&$B$1&\",InputChoice1:=Close,InputChoice2:=Close)\", \"FG\", \"\", \"Close\",$B$2, \"0\", \"all\",\"\", \"\",\"True\",\"T\")/100","v":0.88264455510000006},{"$f":"RTD(\"cqg.rtd\",,\"StudyData\", \"Correlation(\"&$A$3&\",\"&E$2&\",Period:=\"&$B$1&\",InputChoice1:=Close,InputChoice2:=Close)\", \"FG\", \"\", \"Close\",$B$2, \"0\", \"all\",\"\", \"\",\"True\",\"T\")/100","v":0.87121443920000008},{"$f":"RTD(\"cqg.rtd\",,\"StudyData\", \"Correlation(\"&$A$3&\",\"&F$2&\",Period:=\"&$B$1&\",InputChoice1:=Close,InputChoice2:=Close)\", \"FG\", \"\", \"Close\",$B$2, \"0\", \"all\",\"\", \"\",\"True\",\"T\")/100","v":0.90951956749999996},{"$f":"RTD(\"cqg.rtd\",,\"StudyData\", \"Correlation(\"&$A$3&\",\"&G$2&\",Period:=\"&$B$1&\",InputChoice1:=Close,InputChoice2:=Close)\", \"FG\", \"\", \"Close\",$B$2, \"0\", \"all\",\"\", \"\",\"True\",\"T\")/100","v":0.53789452069999999},{"$f":"RTD(\"cqg.rtd\",,\"StudyData\", \"Correlation(\"&$A$3&\",\"&H$2&\",Period:=\"&$B$1&\",InputChoice1:=Close,InputChoice2:=Close)\", \"FG\", \"\", \"Close\",$B$2, \"0\", \"all\",\"\", \"\",\"True\",\"T\")/100","v":0.59558561430000001},{"$f":"RTD(\"cqg.rtd\",,\"StudyData\", \"Correlation(\"&$A$3&\",\"&I$2&\",Period:=\"&$B$1&\",InputChoice1:=Close,InputChoice2:=Close)\", \"FG\", \"\", \"Close\",$B$2, \"0\", \"all\",\"\", \"\",\"True\",\"T\")/100","v":0.62594319389999997},{"$f":"RTD(\"cqg.rtd\",,\"StudyData\", \"Correlation(\"&$A$3&\",\"&J$2&\",Period:=\"&$B$1&\",InputChoice1:=Close,InputChoice2:=Close)\", \"FG\", \"\", \"Close\",$B$2, \"0\", \"all\",\"\", \"\",\"True\",\"T\")/100","v":0.11131332269999999},{"$f":"RTD(\"cqg.rtd\",,\"StudyData\", \"Correlation(\"&$A$3&\",\"&K$2&\",Period:=\"&$B$1&\",InputChoice1:=Close,InputChoice2:=Close)\", \"FG\", \"\", \"Close\",$B$2, \"0\", \"all\",\"\", \"\",\"True\",\"T\")/100","v":-0.69171213330000003},{"$f":"RTD(\"cqg.rtd\",,\"StudyData\", \"Correlation(\"&$A$3&\",\"&L$2&\",Period:=\"&$B$1&\",InputChoice1:=Close,InputChoice2:=Close)\", \"FG\", \"\", \"Close\",$B$2, \"0\", \"all\",\"\", \"\",\"True\",\"T\")/100","v":-0.41470625820000001}]
[{"$f":"Symbols!B6","v":"ENQ"},null,{"$f":"RTD(\"cqg.rtd\",,\"StudyData\", \"Correlation(\"&$A$4&\",\"&C$2&\",Period:=\"&$B$1&\",InputChoice1::=Close,InputChoice2::=Close)\", \"FG\", \"\", \"Close\",$B$2, \"0\", \"all\",\"\", \"\",\"True\",\"T\")/100","v":0.89921726570000005},{"$f":"RTD(\"cqg.rtd\",,\"StudyData\", \"Correlation(\"&$A$4&\",\"&D$2&\",Period:=\"&$B$1&\",InputChoice1:=Close,InputChoice2:=Close)\", \"FG\", \"\", \"Close\",$B$2, \"0\", \"all\",\"\", \"\",\"True\",\"T\")/100","v":0.87595374320000008},{"$f":"RTD(\"cqg.rtd\",,\"StudyData\", \"Correlation(\"&$A$4&\",\"&E$2&\",Period:=\"&$B$1&\",InputChoice1:=Close,InputChoice2:=Close)\", \"FG\", \"\", \"Close\",$B$2, \"0\", \"all\",\"\", \"\",\"True\",\"T\")/100","v":0.80325051169999995},{"$f":"RTD(\"cqg.rtd\",,\"StudyData\", \"Correlation(\"&$A$4&\",\"&F$2&\",Period:=\"&$B$1&\",InputChoice1:=Close,InputChoice2:=Close)\", \"FG\", \"\", \"Close\",$B$2, \"0\", \"all\",\"\", \"\",\"True\",\"T\")/100","v":0.88476375430000009},{"$f":"RTD(\"cqg.rtd\",,\"StudyData\", \"Correlation(\"&$A$4&\",\"&G$2&\",Period:=\"&$B$1&\",InputChoice1:=Close,InputChoice2:=Close)\", \"FG\", \"\", \"Close\",$B$2, \"0\", \"all\",\"\", \"\",\"True\",\"T\")/100","v":0.48630609949999998},{"$f":"RTD(\"cqg.rtd\",,\"StudyData\", \"Correlation(\"&$A$4&\",\"&H$2&\",Period:=\"&$B$1&\",InputChoice1:=Close,InputChoice2:=Close)\", \"FG\", \"\", \"Close\",$B$2, \"0\", \"all\",\"\", \"\",\"True\",\"T\")/100","v":0.54157096839999996},{"$f":"RTD(\"cqg.rtd\",,\"StudyData\", \"Correlation(\"&$A$4&\",\"&I$2&\",Period:=\"&$B$1&\",InputChoice1:=Close,InputChoice2:=Close)\", \"FG\", \"\", \"Close\",$B$2, \"0\", \"all\",\"\", \"\",\"True\",\"T\")/100","v":0.55363188159999999},{"$f":"RTD(\"cqg.rtd\",,\"StudyData\", \"Correlation(\"&$A$4&\",\"&J$2&\",Period:=\"&$B$1&\",InputChoice1:=Close,InputChoice2:=Close)\", \"FG\", \"\", \"Close\",$B$2, \"0\", \"all\",\"\", \"\",\"True\",\"T\")/100","v":0.1094641963},{"$f":"RTD(\"cqg.rtd\",,\"StudyData\", \"Correlation(\"&$A$4&\",\"&K$2&\",Period:=\"&$B$1&\",InputChoice1:=Close,InputChoice2:=Close)\", \"FG\", \"\", \"Close\",$B$2, \"0\", \"all\",\"\", \"\",\"True\",\"T\")/100","v":-0.60989025340000003},{"$f":"RTD(\"cqg.rtd\",,\"StudyData\", \"Correlation(\"&$A$4&\",\"&L$2&\",Period:=\"&$B$1&\",InputChoice1:=Close,InputChoice2:=Close)\", \"FG\", \"\", \"Close\",$B$2, \"0\", \"all\",\"\", \"\",\"True\",\"T\")/100","v":-0.52629340349999998}]
[{"$f":"Symbols!B7","v":"EMD"},null,{"$f":"RTD(\"cqg.rtd\",,\"StudyData\", \"Correlation(\"&$A$5&\",\"&C$2&\",Period:=\"&$B$1&\",InputChoice1:=Close,InputChoice2:=Close)\", \"FG\", \"\", \"Close\",$B$2, \"0\", \"all\",\"\", \"\",\"True\",\"T\")/100","v":0.89712945529999999},{"$f":"RTD(\"cqg.rtd\",,\"StudyData\", \"Correlation(\"&$A$5&\",\"&D$2&\",Period:=\"&$B$1&\",InputChoice1:=Close,InputChoice2:=Close)\", \"FG\", \"\", \"Close\",$B$2, \"0\", \"all\",\"\", \"\",\"True\",\"T\")/100","v":0.8992708693},{"$f":"RTD(\"cqg.rtd\",,\"StudyData\", \"Correlation(\"&$A$5&\",\"&E$2&\",Period:=\"&$B$1&\",InputChoice1:=Close,InputChoice2:=Close)\", \"FG\", \"\", \"Close\",$B$2, \"0\", \"all\",\"\", \"\",\"True\",\"T\")/100","v":0.91048946980000001},{"$f":"RTD(\"cqg.rtd\",,\"StudyData\", \"Correlation(\"&$A$5&\",\"&F$2&\",Period:=\"&$B$1&\",InputChoice1:=Close,InputChoice2:=Close)\", \"FG\", \"\", \"Close\",$B$2, \"0\", \"all\",\"\", \"\",\"True\",\"T\")/100","v":0.95087567410000007},{"$f":"RTD(\"cqg.rtd\",,\"StudyData\", \"Correlation(\"&$A$5&\",\"&G$2&\",Period:=\"&$B$1&\",InputChoice1:=Close,InputChoice2:=Close)\", \"FG\", \"\", \"Close\",$B$2, \"0\", \"all\",\"\", \"\",\"True\",\"T\")/100","v":0.59465532050000003},{"$f":"RTD(\"cqg.rtd\",,\"StudyData\", \"Correlation(\"&$A$5&\",\"&H$2&\",Period:=\"&$B$1&\",InputChoice1:=Close,InputChoice2:=Close)\", \"FG\", \"\", \"Close\",$B$2, \"0\", \"all\",\"\", \"\",\"True\",\"T\")/100","v":0.65343892030000006},{"$f":"RTD(\"cqg.rtd\",,\"StudyData\", \"Correlation(\"&$A$5&\",\"&I$2&\",Period:=\"&$B$1&\",InputChoice1:=Close,InputChoice2:=Close)\", \"FG\", \"\", \"Close\",$B$2, \"0\", \"all\",\"\", \"\",\"True\",\"T\")/100","v":0.70800260829999995},{"$f":"RTD(\"cqg.rtd\",,\"StudyData\", \"Correlation(\"&$A$5&\",\"&J$2&\",Period:=\"&$B$1&\",InputChoice1:=Close,InputChoice2:=Close)\", \"FG\", \"\", \"Close\",$B$2, \"0\", \"all\",\"\", \"\",\"True\",\"T\")/100","v":9.6701041599999996E-2},{"$f":"RTD(\"cqg.rtd\",,\"StudyData\", \"Correlation(\"&$A$5&\",\"&K$2&\",Period:=\"&$B$1&\",InputChoice1:=Close,InputChoice2:=Close)\", \"FG\", \"\", \"Close\",$B$2, \"0\", \"all\",\"\", \"\",\"True\",\"T\")/100","v":-0.79008669940000009},{"$f":"RTD(\"cqg.rtd\",,\"StudyData\", \"Correlation(\"&$A$5&\",\"&L$2&\",Period:=\"&$B$1&\",InputChoice1:=Close,InputChoice2:=Close)\", \"FG\", \"\", \"Close\",$B$2, \"0\", \"all\",\"\", \"\",\"True\",\"T\")/100","v":-0.37866108740000004}]
[{"$f":"Symbols!B8","v":"GCE"},null,{"$f":"RTD(\"cqg.rtd\",,\"StudyData\", \"Correlation(\"&$A$6&\",\"&C$2&\",Period:=\"&$B$1&\",InputChoice1:=Close,InputChoice2:=Close)\", \"FG\", \"\", \"Close\",$B$2, \"0\", \"all\",\"\", \"\",\"True\",\"T\")/100","v":-0.40185700269999997},{"$f":"RTD(\"cqg.rtd\",,\"StudyData\", \"Correlation(\"&$A$6&\",\"&D$2&\",Period:=\"&$B$1&\",InputChoice1:=Close,InputChoice2:=Close)\", \"FG\", \"\", \"Close\",$B$2, \"0\", \"all\",\"\", \"\",\"True\",\"T\")/100","v":-0.37674543090000001},{"$f":"RTD(\"cqg.rtd\",,\"StudyData\", \"Correlation(\"&$A$6&\",\"&E$2&\",Period:=\"&$B$1&\",InputChoice1:=Close,InputChoice2:=Close)\", \"FG\", \"\", \"Close\",$B$2, \"0\", \"all\",\"\", \"\",\"True\",\"T\")/100","v":-0.41615766840000001},{"$f":"RTD(\"cqg.rtd\",,\"StudyData\", \"Correlation(\"&$A$6&\",\"&F$2&\",Period:=\"&$B$1&\",InputChoice1:=Close,InputChoice2:=Close)\", \"FG\", \"\", \"Close\",$B$2, \"0\", \"all\",\"\", \"\",\"True\",\"T\")/100","v":-0.3248625289},{"$f":"RTD(\"cqg.rtd\",,\"StudyData\", \"Correlation(\"&$A$6&\",\"&G$2&\",Period:=\"&$B$1&\",InputChoice1:=Close,InputChoice2:=Close)\", \"FG\", \"\", \"Close\",$B$2, \"0\", \"all\",\"\", \"\",\"True\",\"T\")/100","v":-4.8544360400000007E-2},{"$f":"RTD(\"cqg.rtd\",,\"StudyData\", \"Correlation(\"&$A$6&\",\"&H$2&\",Period:=\"&$B$1&\",InputChoice1:=Close,InputChoice2:=Close)\", \"FG\", \"\", \"Close\",$B$2, \"0\", \"all\",\"\", \"\",\"True\",\"T\")/100","v":-4.2884636300000001E-2},{"$f":"RTD(\"cqg.rtd\",,\"StudyData\", \"Correlation(\"&$A$6&\",\"&I$2&\",Period:=\"&$B$1&\",InputChoice1:=Close,InputChoice2:=Close)\", \"FG\", \"\", \"Close\",$B$2, \"0\", \"all\",\"\", \"\",\"True\",\"T\")/100","v":2.2946816200000001E-2},{"$f":"RTD(\"cqg.rtd\",,\"StudyData\", \"Correlation(\"&$A$6&\",\"&J$2&\",Period:=\"&$B$1&\",InputChoice1:=Close,InputChoice2:=Close)\", \"FG\", \"\", \"Close\",$B$2, \"0\", \"all\",\"\", \"\",\"True\",\"T\")/100","v":-0.33402247549999997},{"$f":"RTD(\"cqg.rtd\",,\"StudyData\", \"Correlation(\"&$A$6&\",\"&K$2&\",Period:=\"&$B$1&\",InputChoice1:=Close,InputChoice2:=Close)\", \"FG\", \"\", \"Close\",$B$2, \"0\", \"all\",\"\", \"\",\"True\",\"T\")/100","v":-0.13123041730000001},{"$f":"RTD(\"cqg.rtd\",,\"StudyData\", \"Correlation(\"&$A$6&\",\"&L$2&\",Period:=\"&$B$1&\",InputChoice1:=Close,InputChoice2:=Close)\", \"FG\", \"\", \"Close\",$B$2, \"0\", \"all\",\"\", \"\",\"True\",\"T\")/100","v":0.96890527300000007}]
[{"$f":"Symbols!B9","v":"DXE"},null,{"$f":"RTD(\"cqg.rtd\",,\"StudyData\", \"Correlation(\"&$A$7&\",\"&C$2&\",Period:=\"&$B$1&\",InputChoice1:=Close,InputChoice2:=Close)\", \"FG\", \"\", \"Close\",$B$2, \"0\", \"all\",\"\", \"\",\"True\",\"T\")/100","v":0.18401010679999999},{"$f":"RTD(\"cqg.rtd\",,\"StudyData\", \"Correlation(\"&$A$7&\",\"&D$2&\",Period:=\"&$B$1&\",InputChoice1:=Close,InputChoice2:=Close)\", \"FG\", \"\", \"Close\",$B$2, \"0\", \"all\",\"\", \"\",\"True\",\"T\")/100","v":0.1517196898},{"$f":"RTD(\"cqg.rtd\",,\"StudyData\", \"Correlation(\"&$A$7&\",\"&E$2&\",Period:=\"&$B$1&\",InputChoice1:=Close,InputChoice2:=Close)\", \"FG\", \"\", \"Close\",$B$2, \"0\", \"all\",\"\", \"\",\"True\",\"T\")/100","v":0.28125760589999999},{"$f":"RTD(\"cqg.rtd\",,\"StudyData\", \"Correlation(\"&$A$7&\",\"&F$2&\",Period:=\"&$B$1&\",InputChoice1:=Close,InputChoice2:=Close)\", \"FG\", \"\", \"Close\",$B$2, \"0\", \"all\",\"\", \"\",\"True\",\"T\")/100","v":0.10228196569999999},{"$f":"RTD(\"cqg.rtd\",,\"StudyData\", \"Correlation(\"&$A$7&\",\"&G$2&\",Period:=\"&$B$1&\",InputChoice1:=Close,InputChoice2:=Close)\", \"FG\", \"\", \"Close\",$B$2, \"0\", \"all\",\"\", \"\",\"True\",\"T\")/100","v":7.3821067999999997E-3},{"$f":"RTD(\"cqg.rtd\",,\"StudyData\", \"Correlation(\"&$A$7&\",\"&H$2&\",Period:=\"&$B$1&\",InputChoice1:=Close,InputChoice2:=Close)\", \"FG\", \"\", \"Close\",$B$2, \"0\", \"all\",\"\", \"\",\"True\",\"T\")/100","v":-0.13051582940000001},{"$f":"RTD(\"cqg.rtd\",,\"StudyData\", \"Correlation(\"&$A$7&\",\"&I$2&\",Period:=\"&$B$1&\",InputChoice1:=Close,InputChoice2:=Close)\", \"FG\", \"\", \"Close\",$B$2, \"0\", \"all\",\"\", \"\",\"True\",\"T\")/100","v":-0.2260638227},{"$f":"RTD(\"cqg.rtd\",,\"StudyData\", \"Correlation(\"&$A$7&\",\"&J$2&\",Period:=\"&$B$1&\",InputChoice1:=Close,InputChoice2:=Close)\", \"FG\", \"\", \"Close\",$B$2, \"0\", \"all\",\"\", \"\",\"True\",\"T\")/100","v":0.29054004729999999},{"$f":"RTD(\"cqg.rtd\",,\"StudyData\", \"Correlation(\"&$A$7&\",\"&K$2&\",Period:=\"&$B$1&\",InputChoice1:=Close,InputChoice2:=Close)\", \"FG\", \"\", \"Close\",$B$2, \"0\", \"all\",\"\", \"\",\"True\",\"T\")/100","v":0.39431123149999997},{"$f":"RTD(\"cqg.rtd\",,\"StudyData\", \"Correlation(\"&$A$7&\",\"&L$2&\",Period:=\"&$B$1&\",InputChoice1:=Close,InputChoice2:=Close)\", \"FG\", \"\", \"Close\",$B$2, \"0\", \"all\",\"\", \"\",\"True\",\"T\")/100","v":-0.71614947819999997}]
[{"$f":"Symbols!B10","v":"EU6"},null,{"$f":"RTD(\"cqg.rtd\",,\"StudyData\", \"Correlation(\"&$A$8&\",\"&C$2&\",Period:=\"&$B$1&\",InputChoice1:=Close,InputChoice2:=Close)\", \"FG\", \"\", \"Close\",$B$2, \"0\", \"all\",\"\", \"\",\"True\",\"T\")/100","v":-0.4499305864},{"$f":"RTD(\"cqg.rtd\",,\"StudyData\", \"Correlation(\"&$A$8&\",\"&D$2&\",Period:=\"&$B$1&\",InputChoice1:=Close,InputChoice2:=Close)\", \"FG\", \"\", \"Close\",$B$2, \"0\", \"all\",\"\", \"\",\"True\",\"T\")/100","v":-0.43588104829999996},{"$f":"RTD(\"cqg.rtd\",,\"StudyData\", \"Correlation(\"&$A$8&\",\"&E$2&\",Period:=\"&$B$1&\",InputChoice1:=Close,InputChoice2:=Close)\", \"FG\", \"\", \"Close\",$B$2, \"0\", \"all\",\"\", \"\",\"True\",\"T\")/100","v":-0.54473195680000008},{"$f":"RTD(\"cqg.rtd\",,\"StudyData\", \"Correlation(\"&$A$8&\",\"&F$2&\",Period:=\"&$B$1&\",InputChoice1:=Close,InputChoice2:=Close)\", \"FG\", \"\", \"Close\",$B$2, \"0\", \"all\",\"\", \"\",\"True\",\"T\")/100","v":-0.35946094829999997},{"$f":"RTD(\"cqg.rtd\",,\"StudyData\", \"Correlation(\"&$A$8&\",\"&G$2&\",Period:=\"&$B$1&\",InputChoice1:=Close,InputChoice2:=Close)\", \"FG\", \"\", \"Close\",$B$2, \"0\", \"all\",\"\", \"\",\"True\",\"T\")/100","v":-0.3619505556},{"$f":"RTD(\"cqg.rtd\",,\"StudyData\", \"Correlation(\"&$A$8&\",\"&H$2&\",Period:=\"&$B$1&\",InputChoice1:=Close,InputChoice2:=Close)\", \"FG\", \"\", \"Close\",$B$2, \"0\", \"all\",\"\", \"\",\"True\",\"T\")/100","v":-0.2194954747},{"$f":"RTD(\"cqg.rtd\",,\"StudyData\", \"Correlation(\"&$A$8&\",\"&I$2&\",Period:=\"&$B$1&\",InputChoice1:=Close,InputChoice2:=Close)\", \"FG\", \"\", \"Close\",$B$2, \"0\", \"all\",\"\", \"\",\"True\",\"T\")/100","v":-0.1264158423},{"$f":"RTD(\"cqg.rtd\",,\"StudyData\", \"Correlation(\"&$A$8&\",\"&J$2&\",Period:=\"&$B$1&\",InputChoice1:=Close,InputChoice2:=Close)\", \"FG\", \"\", \"Close\",$B$2, \"0\", \"all\",\"\", \"\",\"True\",\"T\")/100","v":-0.2254723673},{"$f":"RTD(\"cqg.rtd\",,\"StudyData\", \"Correlation(\"&$A$8&\",\"&K$2&\",Period:=\"&$B$1&\",InputChoice1:=Close,InputChoice2:=Close)\", \"FG\", \"\", \"Close\",$B$2, \"0\", \"all\",\"\", \"\",\"True\",\"T\")/100","v":-0.12878530429999999},{"$f":"RTD(\"cqg.rtd\",,\"StudyData\", \"Correlation(\"&$A$8&\",\"&L$2&\",Period:=\"&$B$1&\",InputChoice1:=Close,InputChoice2:=Close)\", \"FG\", \"\", \"Close\",$B$2, \"0\", \"all\",\"\", \"\",\"True\",\"T\")/100","v":0.65682302690000005}]
[{"$f":"Symbols!B11","v":"JY6"},null,{"$f":"RTD(\"cqg.rtd\",,\"StudyData\", \"Correlation(\"&$A$9&\",\"&C$2&\",Period:=\"&$B$1&\",InputChoice1:=Close,InputChoice2:=Close)\", \"FG\", \"\", \"Close\",$B$2, \"0\", \"all\",\"\", \"\",\"True\",\"T\")/100","v":-0.55304830319999998},{"$f":"RTD(\"cqg.rtd\",,\"StudyData\", \"Correlation(\"&$A$9&\",\"&D$2&\",Period:=\"&$B$1&\",InputChoice1:=Close,InputChoice2:=Close)\", \"FG\", \"\", \"Close\",$B$2, \"0\", \"all\",\"\", \"\",\"True\",\"T\")/100","v":-0.52901963500000004},{"$f":"RTD(\"cqg.rtd\",,\"StudyData\", \"Correlation(\"&$A$9&\",\"&E$2&\",Period:=\"&$B$1&\",InputChoice1:=Close,InputChoice2:=Close)\", \"FG\", \"\", \"Close\",$B$2, \"0\", \"all\",\"\", \"\",\"True\",\"T\")/100","v":-0.59121705680000003},{"$f":"RTD(\"cqg.rtd\",,\"StudyData\", \"Correlation(\"&$A$9&\",\"&F$2&\",Period:=\"&$B$1&\",InputChoice1:=Close,InputChoice2:=Close)\", \"FG\", \"\", \"Close\",$B$2, \"0\", \"all\",\"\", \"\",\"True\",\"T\")/100","v":-0.53255100820000001},{"$f":"RTD(\"cqg.rtd\",,\"StudyData\", \"Correlation(\"&$A$9&\",\"&G$2&\",Period:=\"&$B$1&\",InputChoice1:=Close,InputChoice2:=Close)\", \"FG\", \"\", \"Close\",$B$2, \"0\", \"all\",\"\", \"\",\"True\",\"T\")/100","v":-0.17788879529999999},{"$f":"RTD(\"cqg.rtd\",,\"StudyData\", \"Correlation(\"&$A$9&\",\"&H$2&\",Period:=\"&$B$1&\",InputChoice1:=Close,InputChoice2:=Close)\", \"FG\", \"\", \"Close\",$B$2, \"0\", \"all\",\"\", \"\",\"True\",\"T\")/100","v":-0.14493855160000002},{"$f":"RTD(\"cqg.rtd\",,\"StudyData\", \"Correlation(\"&$A$9&\",\"&I$2&\",Period:=\"&$B$1&\",InputChoice1:=Close,InputChoice2:=Close)\", \"FG\", \"\", \"Close\",$B$2, \"0\", \"all\",\"\", \"\",\"True\",\"T\")/100","v":-0.1140373494},{"$f":"RTD(\"cqg.rtd\",,\"StudyData\", \"Correlation(\"&$A$9&\",\"&J$2&\",Period:=\"&$B$1&\",InputChoice1:=Close,InputChoice2:=Close)\", \"FG\", \"\", \"Close\",$B$2, \"0\", \"all\",\"\", \"\",\"True\",\"T\")/100","v":-0.39185516139999998},{"$f":"RTD(\"cqg.rtd\",,\"StudyData\", \"Correlation(\"&$A$9&\",\"&K$2&\",Period:=\"&$B$1&\",InputChoice1:=Close,InputChoice2:=Close)\", \"FG\", \"\", \"Close\",$B$2, \"0\", \"all\",\"\", \"\",\"True\",\"T\")/100","v":6.0209998299999998E-2},{"$f":"RTD(\"cqg.rtd\",,\"StudyData\", \"Correlation(\"&$A$9&\",\"&L$2&\",Period:=\"&$B$1&\",InputChoice1:=Close,InputChoice2:=Close)\", \"FG\", \"\", \"Close\",$B$2, \"0\", \"all\",\"\", \"\",\"True\",\"T\")/100","v":0.87529304210000003}]
[{"$f":"Symbols!B12","v":"DA6"},null,{"$f":"RTD(\"cqg.rtd\",,\"StudyData\", \"Correlation(\"&$A$10&\",\"&C$2&\",Period:=\"&$B$1&\",InputChoice1:=Close,InputChoice2:=Close)\", \"FG\", \"\", \"Close\",$B$2, \"0\", \"all\",\"\", \"\",\"True\",\"T\")/100","v":0.65821661390000008},{"$f":"RTD(\"cqg.rtd\",,\"StudyData\", \"Correlation(\"&$A$10&\",\"&D$2&\",Period:=\"&$B$1&\",InputChoice1:=Close,InputChoice2:=Close)\", \"FG\", \"\", \"Close\",$B$2, \"0\", \"all\",\"\", \"\",\"True\",\"T\")/100","v":0.71718986699999998},{"$f":"RTD(\"cqg.rtd\",,\"StudyData\", \"Correlation(\"&$A$10&\",\"&E$2&\",Period:=\"&$B$1&\",InputChoice1:=Close,InputChoice2:=Close)\", \"FG\", \"\", \"Close\",$B$2, \"0\", \"all\",\"\", \"\",\"True\",\"T\")/100","v":0.82103834119999997},{"$f":"RTD(\"cqg.rtd\",,\"StudyData\", \"Correlation(\"&$A$10&\",\"&F$2&\",Period:=\"&$B$1&\",InputChoice1:=Close,InputChoice2:=Close)\", \"FG\", \"\", \"Close\",$B$2, \"0\", \"all\",\"\", \"\",\"True\",\"T\")/100","v":0.7420949133000001},{"$f":"RTD(\"cqg.rtd\",,\"StudyData\", \"Correlation(\"&$A$10&\",\"&G$2&\",Period:=\"&$B$1&\",InputChoice1:=Close,InputChoice2:=Close)\", \"FG\", \"\", \"Close\",$B$2, \"0\", \"all\",\"\", \"\",\"True\",\"T\")/100","v":0.72260090039999991},{"$f":"RTD(\"cqg.rtd\",,\"StudyData\", \"Correlation(\"&$A$10&\",\"&H$2&\",Period:=\"&$B$1&\",InputChoice1:=Close,InputChoice2:=Close)\", \"FG\", \"\", \"Close\",$B$2, \"0\", \"all\",\"\", \"\",\"True\",\"T\")/100","v":0.84463575320000006},{"$f":"RTD(\"cqg.rtd\",,\"StudyData\", \"Correlation(\"&$A$10&\",\"&I$2&\",Period:=\"&$B$1&\",InputChoice1:=Close,InputChoice2:=Close)\", \"FG\", \"\", \"Close\",$B$2, \"0\", \"all\",\"\", \"\",\"True\",\"T\")/100","v":0.91030970710000003},{"$f":"RTD(\"cqg.rtd\",,\"StudyData\", \"Correlation(\"&$A$10&\",\"&J$2&\",Period:=\"&$B$1&\",InputChoice1:=Close,InputChoice2:=Close)\", \"FG\", \"\", \"Close\",$B$2, \"0\", \"all\",\"\", \"\",\"True\",\"T\")/100","v":-0.1290713842},{"$f":"RTD(\"cqg.rtd\",,\"StudyData\", \"Correlation(\"&$A$10&\",\"&K$2&\",Period:=\"&$B$1&\",InputChoice1:=Close,InputChoice2:=Close)\", \"FG\", \"\", \"Close\",$B$2, \"0\", \"all\",\"\", \"\",\"True\",\"T\")/100","v":-0.91480360780000003},{"$f":"RTD(\"cqg.rtd\",,\"StudyData\", \"Correlation(\"&$A$10&\",\"&L$2&\",Period:=\"&$B$1&\",InputChoice1:=Close,InputChoice2:=Close)\", \"FG\", \"\", \"Close\",$B$2, \"0\", \"all\",\"\", \"\",\"True\",\"T\")/100","v":0.10939591899999999}]
[{"$f":"Symbols!B13","v":"BP6"},null,{"$f":"RTD(\"cqg.rtd\",,\"StudyData\", \"Correlation(\"&$A$11&\",\"&C$2&\",Period:=\"&$B$1&\",InputChoice1:=Close,InputChoice2:=Close)\", \"FG\", \"\", \"Close\",$B$2, \"0\", \"all\",\"\", \"\",\"True\",\"T\")/100","v":0.58773566300000002},{"$f":"RTD(\"cqg.rtd\",,\"StudyData\", \"Correlation(\"&$A$11&\",\"&D$2&\",Period:=\"&$B$1&\",InputChoice1:=Close,InputChoice2:=Close)\", \"FG\", \"\", \"Close\",$B$2, \"0\", \"all\",\"\", \"\",\"True\",\"T\")/100","v":0.62372839920000001},{"$f":"RTD(\"cqg.rtd\",,\"StudyData\", \"Correlation(\"&$A$11&\",\"&E$2&\",Period:=\"&$B$1&\",InputChoice1:=Close,InputChoice2:=Close)\", \"FG\", \"\", \"Close\",$B$2, \"0\", \"all\",\"\", \"\",\"True\",\"T\")/100","v":0.76455186089999994},{"$f":"RTD(\"cqg.rtd\",,\"StudyData\", \"Correlation(\"&$A$11&\",\"&F$2&\",Period:=\"&$B$1&\",InputChoice1:=Close,InputChoice2:=Close)\", \"FG\", \"\", \"Close\",$B$2, \"0\", \"all\",\"\", \"\",\"True\",\"T\")/100","v":0.64101405029999992},{"$f":"RTD(\"cqg.rtd\",,\"StudyData\", \"Correlation(\"&$A$11&\",\"&G$2&\",Period:=\"&$B$1&\",InputChoice1:=Close,InputChoice2:=Close)\", \"FG\", \"\", \"Close\",$B$2, \"0\", \"all\",\"\", \"\",\"True\",\"T\")/100","v":0.62055687679999993},{"$f":"RTD(\"cqg.rtd\",,\"StudyData\", \"Correlation(\"&$A$11&\",\"&H$2&\",Period:=\"&$B$1&\",InputChoice1:=Close,InputChoice2:=Close)\", \"FG\", \"\", \"Close\",$B$2, \"0\", \"all\",\"\", \"\",\"True\",\"T\")/100","v":0.74065916570000001},{"$f":"RTD(\"cqg.rtd\",,\"StudyData\", \"Correlation(\"&$A$11&\",\"&I$2&\",Period:=\"&$B$1&\",InputChoice1:=Close,InputChoice2:=Close)\", \"FG\", \"\", \"Close\",$B$2, \"0\", \"all\",\"\", \"\",\"True\",\"T\")/100","v":0.82165305},{"$f":"RTD(\"cqg.rtd\",,\"StudyData\", \"Correlation(\"&$A$11&\",\"&J$2&\",Period:=\"&$B$1&\",InputChoice1:=Close,InputChoice2:=Close)\", \"FG\", \"\", \"Close\",$B$2, \"0\", \"all\",\"\", \"\",\"True\",\"T\")/100","v":-0.15689981140000001},{"$f":"RTD(\"cqg.rtd\",,\"StudyData\", \"Correlation(\"&$A$11&\",\"&K$2&\",Period:=\"&$B$1&\",InputChoice1:=Close,InputChoice2:=Close)\", \"FG\", \"\", \"Close\",$B$2, \"0\", \"all\",\"\", \"\",\"True\",\"T\")/100","v":-0.86478949659999993},{"$f":"RTD(\"cqg.rtd\",,\"StudyData\", \"Correlation(\"&$A$11&\",\"&L$2&\",Period:=\"&$B$1&\",InputChoice1:=Close,InputChoice2:=Close)\", \"FG\", \"\", \"Close\",$B$2, \"0\", \"all\",\"\", \"\",\"True\",\"T\")/100","v":0.24133547020000001}]
[{"$f":"Symbols!B14","v":"MX6"},null,{"$f":"RTD(\"cqg.rtd\",,\"StudyData\", \"Correlation(\"&$A$12&\",\"&C$2&\",Period:=\"&$B$1&\",InputChoice1:=Close,InputChoice2:=Close)\", \"FG\", \"\", \"Close\",$B$2, \"0\", \"all\",\"\", \"\",\"True\",\"T\")/100","v":0.6940980041},{"$f":"RTD(\"cqg.rtd\",,\"StudyData\", \"Correlation(\"&$A$12&\",\"&D$2&\",Period:=\"&$B$1&\",InputChoice1:=Close,InputChoice2:=Close)\", \"FG\", \"\", \"Close\",$B$2, \"0\", \"all\",\"\", \"\",\"True\",\"T\")/100","v":0.75240191270000001},{"$f":"RTD(\"cqg.rtd\",,\"StudyData\", \"Correlation(\"&$A$12&\",\"&E$2&\",Period:=\"&$B$1&\",InputChoice1:=Close,InputChoice2:=Close)\", \"FG\", \"\", \"Close\",$B$2, \"0\", \"all\",\"\", \"\",\"True\",\"T\")/100","v":0.86926780039999996},{"$f":"RTD(\"cqg.rtd\",,\"StudyData\", \"Correlation(\"&$A$12&\",\"&F$2&\",Period:=\"&$B$1&\",InputChoice1:=Close,InputChoice2:=Close)\", \"FG\", \"\", \"Close\",$B$2, \"0\", \"all\",\"\", \"\",\"True\",\"T\")/100","v":0.7836633422},{"$f":"RTD(\"cqg.rtd\",,\"StudyData\", \"Correlation(\"&$A$12&\",\"&G$2&\",Period:=\"&$B$1&\",InputChoice1:=Close,InputChoice2:=Close)\", \"FG\", \"\", \"Close\",$B$2, \"0\", \"all\",\"\", \"\",\"True\",\"T\")/100","v":0.78127237900000002},{"$f":"RTD(\"cqg.rtd\",,\"StudyData\", \"Correlation(\"&$A$12&\",\"&H$2&\",Period:=\"&$B$1&\",InputChoice1:=Close,InputChoice2:=Close)\", \"FG\", \"\", \"Close\",$B$2, \"0\", \"all\",\"\", \"\",\"True\",\"T\")/100","v":0.89212106109999989},{"$f":"RTD(\"cqg.rtd\",,\"StudyData\", \"Correlation(\"&$A$12&\",\"&I$2&\",Period:=\"&$B$1&\",InputChoice1:=Close,InputChoice2:=Close)\", \"FG\", \"\", \"Close\",$B$2, \"0\", \"all\",\"\", \"\",\"True\",\"T\")/100","v":0.95565847590000008},{"$f":"RTD(\"cqg.rtd\",,\"StudyData\", \"Correlation(\"&$A$12&\",\"&J$2&\",Period:=\"&$B$1&\",InputChoice1:=Close,InputChoice2:=Close)\", \"FG\", \"\", \"Close\",$B$2, \"0\", \"all\",\"\", \"\",\"True\",\"T\")/100","v":-1.8675440000000001E-2},{"$f":"RTD(\"cqg.rtd\",,\"StudyData\", \"Correlation(\"&$A$12&\",\"&K$2&\",Period:=\"&$B$1&\",InputChoice1:=Close,InputChoice2:=Close)\", \"FG\", \"\", \"Close\",$B$2, \"0\", \"all\",\"\", \"\",\"True\",\"T\")/100","v":-0.95020293210000006},{"$f":"RTD(\"cqg.rtd\",,\"StudyData\", \"Correlation(\"&$A$12&\",\"&L$2&\",Period:=\"&$B$1&\",InputChoice1:=Close,InputChoice2:=Close)\", \"FG\", \"\", \"Close\",$B$2, \"0\", \"all\",\"\", \"\",\"True\",\"T\")/100","v":0.16194660460000002}]

{"sheet":"1","index":3,"n_rows":104,"n_cols":61,"rows_kept":104,"cut":false,"hidden":true,"merged":[]}
["Lookback",{"$f":"Data!B1","v":10}]
["TimeFrame",{"$f":"Data!B2","v":"ADC"},{"$f":"Data!C2","v":"DD"},null,null,null,null,null,{"$f":"Data!D2","v":"DSX"},null,null,null,null,null,{"$f":"Data!E2","v":"QFA"},null,null,null,null,null,{"$f":"Data!F2","v":"PIL"},null,null,null,null,null,{"$f":"Data!G2","v":"CLE"},null,null,null,null,null,{"$f":"Data!H2","v":"HOE"},null,null,null,null,null,{"$f":"Data!I2","v":"RBE"},null,null,null,null,null,{"$f":"Data!J2","v":"NGE"},null,null,null,null,null,{"$f":"Data!K2","v":"TYA"},null,null,null,null,null,{"$f":"Data!L2","v":"PLE"}]
["Symbol",{"$f":"MainDisplay!E1","v":"EP"}]
[0,null,{"$f":"RTD(\"cqg.rtd\",,\"StudyData\", \"Correlation(\"&$B$3&\",\"&C$2&\",Period:=\"&$B$1&\",InputChoice1:=Close,InputChoice2:=Close)\", \"FG\", \"\", \"Close\",$B$2,A4, \"all\",\"\", \"\",\"True\",\"T\")/100","v":0.89681842070000006},null,-1,{"$f":"FREQUENCY(C4:C104,E4:E104)","v":0},{"$f":"IF(AND($C$4>=E4,$C$4<E5),IF(F4=0,1,F4),NA())","v":{"$error":"#N/A"}},null,{"$f":"RTD(\"cqg.rtd\",,\"StudyData\", \"Correlation(\"&$B$3&\",\"&I$2&\",Period:=\"&$B$1&\",InputChoice1:=Close,InputChoice2::=Close)\", \"FG\", \"\", \"Close\",$B$2,A4, \"all\",\"\", \"\",\"True\",\"T\")/100","v":0.88264455510000006},null,-1,{"$f":"FREQUENCY(I4:I104,K4:K104)","v":0},{"$f":"IF(AND($I$4>=K4,$I$4<K5),IF(L4=0,1,L4),NA())","v":{"$error":"#N/A"}},null,{"$f":"RTD(\"cqg.rtd\",,\"StudyData\", \"Correlation(\"&$B$3&\",\"&O$2&\",Period:=\"&$B$1&\",InputChoice1:=Close,InputChoice2::=Close)\", \"FG\", \"\", \"Close\",$B$2,A4, \"all\",\"\", \"\",\"True\",\"T\")/100","v":0.87121443920000008},null,-1,{"$f":"FREQUENCY(O4:O104,Q4:Q104)","v":0},{"$f":"IF(AND($O$4>=Q4,$O$4<Q5),IF(R4=0,1,R4),NA())","v":{"$error":"#N/A"}},null,{"$f":"RTD(\"cqg.rtd\",,\"StudyData\", \"Correlation(\"&$B$3&\",\"&U$2&\",Period:=\"&$B$1&\",InputChoice1:=Close,InputChoice2::=Close)\", \"FG\", \"\", \"Close\",$B$2,A4, \"all\",\"\", \"\",\"True\",\"T\")/100","v":0.90951956749999996},null,-1,{"$f":"FREQUENCY(U4:U104,W4:W104)","v":0},{"$f":"IF(AND($U$4>=W4,$U$4<W5),IF(X4=0,1,X4),NA())","v":{"$error":"#N/A"}},null,{"$f":"RTD(\"cqg.rtd\",,\"StudyData\", \"Correlation(\"&$B$3&\",\"&AA$2&\",Period:=\"&$B$1&\",InputChoice1:=Close,InputChoice2::=Close)\", \"FG\", \"\", \"Close\",$B$2,A4, \"all\",\"\", \"\",\"True\",\"T\")/100","v":0.53789452069999999},null,-1,{"$f":"FREQUENCY(AA4:AA104,AC4:AC104)","v":0},{"$f":"IF(AND($AA$4>=AC4,$AA$4<AC5),IF(AD4=0,1,AD4),NA())","v":{"$error":"#N/A"}},null,{"$f":"RTD(\"cqg.rtd\",,\"StudyData\", \"Correlation(\"&$B$3&\",\"&AG$2&\",Period:=\"&$B$1&\",InputChoice1:=Close,InputChoice2::=Close)\", \"FG\", \"\", \"Close\",$B$2,A4, \"all\",\"\", \"\",\"True\",\"T\")/100","v":0.59558561430000001},null,-1,{"$f":"FREQUENCY(AG4:AG104,AI4:AI104)","v":0},{"$f":"IF(AND($AG$4>=AI4,$AG$4<AI5),IF(AJ4=0,1,AJ4),NA())","v":{"$error":"#N/A"}},null,{"$f":"RTD(\"cqg.rtd\",,\"StudyData\", \"Correlation(\"&$B$3&\",\"&AM$2&\",Period:=\"&$B$1&\",InputChoice1:=Close,InputChoice2::=Close)\", \"FG\", \"\", \"Close\",$B$2,A4, \"all\",\"\", \"\",\"True\",\"T\")/100","v":0.62594319389999997},null,-1,{"$f":"FREQUENCY(AM4:AM104,AO4:AO104)","v":0},{"$f":"IF(AND($AM$4>=AO4,$AM$4<AO5),IF(AP4=0,1,AP4),NA())","v":{"$error":"#N/A"}},null,{"$f":"RTD(\"cqg.rtd\",,\"StudyData\", \"Correlation(\"&$B$3&\",\"&AS$2&\",Period:=\"&$B$1&\",InputChoice1:=Close,InputChoice2::=Close)\", \"FG\", \"\", \"Close\",$B$2,A4, \"all\",\"\", \"\",\"True\",\"T\")/100","v":0.11131332269999999},null,-1,{"$f":"FREQUENCY(AS4:AS104,AU4:AU104)","v":0},{"$f":"IF(AND($AS$4>=AU4,$AS$4<AU5),IF(AV4=0,1,AV4),NA())","v":{"$error":"#N/A"}},null,{"$f":"RTD(\"cqg.rtd\",,\"StudyData\", \"Correlation(\"&$B$3&\",\"&AY$2&\",Period:=\"&$B$1&\",InputChoice1:=Close,InputChoice2::=Close)\", \"FG\", \"\", \"Close\",$B$2,A4, \"all\",\"\", \"\",\"True\",\"T\")/100","v":-0.69450488660000009},null,-1,{"$f":"FREQUENCY(AY4:AY104,BA4:BA104)","v":0},{"$f":"IF(AND($AY$4>=BA4,$AY$4<BA5),IF(BB4=0,1,BB4),NA())","v":{"$error":"#N/A"}},null,{"$f":"RTD(\"cqg.rtd\",,\"StudyData\", \"Correlation(\"&$B$3&\",\"&BE$2&\",Period:=\"&$B$1&\",InputChoice1:=Close,InputChoice2::=Close)\", \"FG\", \"\", \"Close\",$B$2,A4, \"all\",\"\", \"\",\"True\",\"T\")/100","v":-0.41470625820000001},null,-1,{"$f":"FREQUENCY(BE4:BE104,BG4:BG104)","v":0},{"$f":"IF(AND($BE$4>=BG4,$BE$4<BG5),IF(BH4=0,1,BH4),NA())","v":{"$error":"#N/A"}}]
[{"$f":"A4-1","v":-1},null,{"$f":"RTD(\"cqg.rtd\",,\"StudyData\", \"Correlation(\"&$B$3&\",\"&C$2&\",Period:=\"&$B$1&\",InputChoice1::=Close,InputChoice2::=Close)\", \"FG\", \"\", \"Close\",$B$2,A5, \"all\",\"\", \"\",\"True\",\"T\")/100","v":0.93071712080000002},null,{"$f":"E4+0.02","v":-0.98},0,{"$f":"IF(AND($C$4>=E5,$C$4<E6),IF(F5=0,1,F5),NA())","v":{"$error":"#N/A"}},null,{"$f":"RTD(\"cqg.rtd\",,\"StudyData\", \"Correlation(\"&$B$3&\",\"&I$2&\",Period:=\"&$B$1&\",InputChoice1:=Close,InputChoice2::=Close)\", \"FG\", \"\", \"Close\",$B$2,A5, \"all\",\"\", \"\",\"True\",\"T\")/100","v":0.93251246929999998},null,{"$f":"K4+0.02","v":-0.98},0,{"$f":"IF(AND($I$4>=K5,$I$4<K6),IF(L5=0,1,L5),NA())","v":{"$error":"#N/A"}},null,{"$f":"RTD(\"cqg.rtd\",,\"StudyData\", \"Correlation(\"&$B$3&\",\"&O$2&\",Period:=\"&$B$1&\",InputChoice1:=Close,InputChoice2::=Close)\", \"FG\", \"\", \"Close\",$B$2,A5, \"all\",\"\", \"\",\"True\",\"T\")/100","v":0.92909510839999998},null,{"$f":"Q4+0.02","v":-0.98},0,{"$f":"IF(AND($O$4>=Q5,$O$4<Q6),IF(R5=0,1,R5),NA())","v":{"$error":"#N/A"}},null,{"$f":"RTD(\"cqg.rtd\",,\"StudyData\", \"Correlation(\"&$B$3&\",\"&U$2&\",Period:=\"&$B$1&\",InputChoice1:=Close,InputChoice2::=Close)\", \"FG\", \"\", \"Close\",$B$2,A5, \"all\",\"\", \"\",\"True\",\"T\")/100","v":0.97118749320000008},null,{"$f":"W4+0.02","v":-0.98},0,{"$f":"IF(AND($U$4>=W5,$U$4<W6),IF(X5=0,1,X5),NA())","v":{"$error":"#N/A"}},null,{"$f":"RTD(\"cqg.rtd\",,\"StudyData\", \"Correlation(\"&$B$3&\",\"&AA$2&\",Period:=\"&$B$1&\",InputChoice1:=Close,InputChoice2::=Close)\", \"FG\", \"\", \"Close\",$B$2,A5, \"all\",\"\", \"\",\"True\",\"T\")/100","v":0.42434846780000002},null,{"$f":"AC4+0.02","v":-0.98},0,{"$f":"IF(AND($AA$4>=AC5,$AA$4<AC6),IF(AD5=0,1,AD5),NA())","v":{"$error":"#N/A"}},null,{"$f":"RTD(\"cqg.rtd\",,\"StudyData\", \"Correlation(\"&$B$3&\",\"&AG$2&\",Period:=\"&$B$1&\",InputChoice1:=Close,InputChoice2::=Close)\", \"FG\", \"\", \"Close\",$B$2,A5, \"all\",\"\", \"\",\"True\",\"T\")/100","v":0.55702640189999997},null,{"$f":"AI4+0.02","v":-0.98},0,{"$f":"IF(AND($AG$4>=AI5,$AG$4<AI6),IF(AJ5=0,1,AJ5),NA())","v":{"$error":"#N/A"}},null,{"$f":"RTD(\"cqg.rtd\",,\"StudyData\", \"Correlation(\"&$B$3&\",\"&AM$2&\",Period:=\"&$B$1&\",InputChoice1:=Close,InputChoice2::=Close)\", \"FG\", \"\", \"Close\",$B$2,A5, \"all\",\"\", \"\",\"True\",\"T\")/100","v":0.75186083600000009},null,{"$f":"AO4+0.02","v":-0.98},0,{"$f":"IF(AND($AM$4>=AO5,$AM$4<AO6),IF(AP5=0,1,AP5),NA())","v":{"$error":"#N/A"}},null,{"$f":"RTD(\"cqg.rtd\",,\"StudyData\", \"Correlation(\"&$B$3&\",\"&AS$2&\",Period:=\"&$B$1&\",InputChoice1:=Close,InputChoice2::=Close)\", \"FG\", \"\", \"Close\",$B$2,A5, \"all\",\"\", \"\",\"True\",\"T\")/100","v":0.20710347880000002},null,{"$f":"AU4+0.02","v":-0.98},0,{"$f":"IF(AND($AS$4>=AU5,$AS$4<AU6),IF(AV5=0,1,AV5),NA())","v":{"$error":"#N/A"}},null,{"$f":"RTD(\"cqg.rtd\",,\"StudyData\", \"Correlation(\"&$B$3&\",\"&AY$2&\",Period:=\"&$B$1&\",InputChoice1:=Close,InputChoice2::=Close)\", \"FG\", \"\", \"Close\",$B$2,A5, \"all\",\"\", \"\",\"True\",\"T\")/100","v":-0.8603944107},null,{"$f":"BA4+0.02","v":-0.98},0,{"$f":"IF(AND($AY$4>=BA5,$AY$4<BA6),IF(BB5=0,1,BB5),NA())","v":{"$error":"#N/A"}},null,{"$f":"RTD(\"cqg.rtd\",,\"StudyData\", \"Correlation(\"&$B$3&\",\"&BE$2&\",Period:=\"&$B$1&\",InputChoice1:=Close,InputChoice2::=Close)\", \"FG\", \"\", \"Close\",$B$2,A5, \"all\",\"\", \"\",\"True\",\"T\")/100","v":-0.53183457609999996},null,{"$f":"BG4+0.02","v":-0.98},0,{"$f":"IF(AND($BE$4>=BG5,$BE$4<BG6),IF(BH5=0,1,BH5),NA())","v":{"$error":"#N/A"}}]
[{"$f":"A5-1","v":-2},null,{"$f":"RTD(\"cqg.rtd\",,\"StudyData\", \"Correlation(\"&$B$3&\",\"&C$2&\",Period:=\"&$B$1&\",InputChoice1::=Close,InputChoice2::=Close)\", \"FG\", \"\", \"Close\",$B$2,A6, \"all\",\"\", \"\",\"True\",\"T\")/100","v":0.93961256950000005},null,{"$f":"E5+0.02","v":-0.96},0,{"$error":"#N/A"},null,{"$f":"RTD(\"cqg.rtd\",,\"StudyData\", \"Correlation(\"&$B$3&\",\"&I$2&\",Period:=\"&$B$1&\",InputChoice1:=Close,InputChoice2::=Close)\", \"FG\", \"\", \"Close\",$B$2,A6, \"all\",\"\", \"\",\"True\",\"T\")/100","v":0.93709058609999996},null,{"$f":"K5+0.02","v":-0.96},0,{"$error":"#N/A"},null,{"$f":"RTD(\"cqg.rtd\",,\"StudyData\", \"Correlation(\"&$B$3&\",\"&O$2&\",Period:=\"&$B$1&\",InputChoice1:=Close,InputChoice2::=Close)\", \"FG\", \"\", \"Close\",$B$2,A6, \"all\",\"\", \"\",\"True\",\"T\")/100","v":0.94588925800000001},null,{"$f":"Q5+0.02","v":-0.96},0,{"$error":"#N/A"},null,{"$f":"RTD(\"cqg.rtd\",,\"StudyData\", \"Correlation(\"&$B$3&\",\"&U$2&\",Period:=\"&$B$1&\",InputChoice1:=Close,InputChoice2::=Close)\", \"FG\", \"\", \"Close\",$B$2,A6, \"all\",\"\", \"\",\"True\",\"T\")/100","v":0.97490392290000005},null,{"$f":"W5+0.02","v":-0.96},0,{"$error":"#N/A"},null,{"$f":"RTD(\"cqg.rtd\",,\"StudyData\", \"Correlation(\"&$B$3&\",\"&AA$2&\",Period:=\"&$B$1&\",InputChoice1:=Close,InputChoice2::=Close)\", \"FG\", \"\", \"Close\",$B$2,A6, \"all\",\"\", \"\",\"True\",\"T\")/100","v":6.0258836499999996E-2},null,{"$f":"AC5+0.02","v":-0.96},0,{"$error":"#N/A"},null,{"$f":"RTD(\"cqg.rtd\",,\"StudyData\", \"Correlation(\"&$B$3&\",\"&AG$2&\",Period:=\"&$B$1&\",InputChoice1:=Close,InputChoice2::=Close)\", \"FG\", \"\", \"Close\",$B$2,A6, \"all\",\"\", \"\",\"True\",\"T\")/100","v":0.24948302510000001},null,{"$f":"AI5+0.02","v":-0.96},0,{"$error":"#N/A"},null,{"$f":"RTD(\"cqg.rtd\",,\"StudyData\", \"Correlation(\"&$B$3&\",\"&AM$2&\",Period:=\"&$B$1&\",InputChoice1:=Close,InputChoice2::=Close)\", \"FG\", \"\", \"Close\",$B$2,A6, \"all\",\"\", \"\",\"True\",\"T\")/100","v":0.69070186759999996},null,{"$f":"AO5+0.02","v":-0.96},0,{"$error":"#N/A"},null,{"$f":"RTD(\"cqg.rtd\",,\"StudyData\", \"Correlation(\"&$B$3&\",\"&AS$2&\",Period:=\"&$B$1&\",InputChoice1:=Close,InputChoice2::=Close)\", \"FG\", \"\", \"Close\",$B$2,A6, \"all\",\"\", \"\",\"True\",\"T\")/100","v":0.32094448939999998},null,{"$f":"AU5+0.02","v":-0.96},0,{"$error":"#N/A"},null,{"$f":"RTD(\"cqg.rtd\",,\"StudyData\", \"Correlation(\"&$B$3&\",\"&AY$2&\",Period:=\"&$B$1&\",InputChoice1:=Close,InputChoice2::=Close)\", \"FG\", \"\", \"Close\",$B$2,A6, \"all\",\"\", \"\",\"True\",\"T\")/100","v":-0.88950248239999996},null,{"$f":"BA5+0.02","v":-0.96},6,{"$error":"#N/A"},null,{"$f":"RTD(\"cqg.rtd\",,\"StudyData\", \"Correlation(\"&$B$3&\",\"&BE$2&\",Period:=\"&$B$1&\",InputChoice1:=Close,InputChoice2::=Close)\", \"FG\", \"\", \"Close\",$B$2,A6, \"all\",\"\", \"\",\"True\",\"T\")/100","v":-0.65451663210000011},null,{"$f":"BG5+0.02","v":-0.96},0,{"$error":"#N/A"}]
[-3,null,{"$f":"RTD(\"cqg.rtd\",,\"StudyData\", \"Correlation(\"&$B$3&\",\"&C$2&\",Period:=\"&$B$1&\",InputChoice1::=Close,InputChoice2::=Close)\", \"FG\", \"\", \"Close\",$B$2,A7, \"all\",\"\", \"\",\"True\",\"T\")/100","v":0.94243334419999991},null,-0.94,0,{"$error":"#N/A"},null,{"$f":"RTD(\"cqg.rtd\",,\"StudyData\", \"Correlation(\"&$B$3&\",\"&I$2&\",Period:=\"&$B$1&\",InputChoice1:=Close,InputChoice2::=Close)\", \"FG\", \"\", \"Close\",$B$2,A7, \"all\",\"\", \"\",\"True\",\"T\")/100","v":0.94263205989999999},null,-0.94,0,{"$error":"#N/A"},null,{"$f":"RTD(\"cqg.rtd\",,\"StudyData\", \"Correlation(\"&$B$3&\",\"&O$2&\",Period:=\"&$B$1&\",InputChoice1:=Close,InputChoice2::=Close)\", \"FG\", \"\", \"Close\",$B$2,A7, \"all\",\"\", \"\",\"True\",\"T\")/100","v":0.92238327760000005},null,-0.94,0,{"$error":"#N/A"},null,{"$f":"RTD(\"cqg.rtd\",,\"StudyData\", \"Correlation(\"&$B$3&\",\"&U$2&\",Period:=\"&$B$1&\",InputChoice1:=Close,InputChoice2::=Close)\", \"FG\", \"\", \"Close\",$B$2,A7, \"all\",\"\", \"\",\"True\",\"T\")/100","v":0.97761921099999993},null,-0.94,0,{"$error":"#N/A"},null,{"$f":"RTD(\"cqg.rtd\",,\"StudyData\", \"Correlation(\"&$B$3&\",\"&AA$2&\",Period:=\"&$B$1&\",InputChoice1:=Close,InputChoice2::=Close)\", \"FG\", \"\", \"Close\",$B$2,A7, \"all\",\"\", \"\",\"True\",\"T\")/100","v":2.9170850000000001E-4},null,-0.94,0,{"$error":"#N/A"},null,{"$f":"RTD(\"cqg.rtd\",,\"StudyData\", \"Correlation(\"&$B$3&\",\"&AG$2&\",Period:=\"&$B$1&\",InputChoice1:=Close,InputChoice2::=Close)\", \"FG\", \"\", \"Close\",$B$2,A7, \"all\",\"\", \"\",\"True\",\"T\")/100","v":0.1052975763},null,-0.94,0,{"$error":"#N/A"},null,{"$f":"RTD(\"cqg.rtd\",,\"StudyData\", \"Correlation(\"&$B$3&\",\"&AM$2&\",Period:=\"&$B$1&\",InputChoice1:=Close,InputChoice2::=Close)\", \"FG\", \"\", \"Close\",$B$2,A7, \"all\",\"\", \"\",\"True\",\"T\")/100","v":0.61894516310000003},null,-0.94,0,{"$error":"#N/A"},null,{"$f":"RTD(\"cqg.rtd\",,\"StudyData\", \"Correlation(\"&$B$3&\",\"&AS$2&\",Period:=\"&$B$1&\",InputChoice1:=Close,InputChoice2::=Close)\", \"FG\", \"\", \"Close\",$B$2,A7, \"all\",\"\", \"\",\"True\",\"T\")/100","v":0.4201752399},null,-0.94,0,{"$error":"#N/A"},null,{"$f":"RTD(\"cqg.rtd\",,\"StudyData\", \"Correlation(\"&$B$3&\",\"&AY$2&\",Period:=\"&$B$1&\",InputChoice1:=Close,InputChoice2::=Close)\", \"FG\", \"\", \"Close\",$B$2,A7, \"all\",\"\", \"\",\"True\",\"T\")/100","v":-0.89364324550000007},null,-0.94,3,{"$error":"#N/A"},null,{"$f":"RTD(\"cqg.rtd\",,\"StudyData\", \"Correlation(\"&$B$3&\",\"&BE$2&\",Period:=\"&$B$1&\",InputChoice1:=Close,InputChoice2::=Close)\", \"FG\", \"\", \"Close\",$B$2,A7, \"all\",\"\", \"\",\"True\",\"T\")/100","v":-0.66662041450000009},null,-0.94,0,{"$error":"#N/A"}]
[-4,null,{"$f":"RTD(\"cqg.rtd\",,\"StudyData\", \"Correlation(\"&$B$3&\",\"&C$2&\",Period:=\"&$B$1&\",InputChoice1::=Close,InputChoice2::=Close)\", \"FG\", \"\", \"Close\",$B$2,A8, \"all\",\"\", \"\",\"True\",\"T\")/100","v":0.89383353439999991},null,-0.91999999999999993,0,{"$error":"#N/A"},null,{"$f":"RTD(\"cqg.rtd\",,\"StudyData\", \"Correlation(\"&$B$3&\",\"&I$2&\",Period:=\"&$B$1&\",InputChoice1:=Close,InputChoice2::=Close)\", \"FG\", \"\", \"Close\",$B$2,A8, \"all\",\"\", \"\",\"True\",\"T\")/100","v":0.91219140809999999},null,-0.91999999999999993,0,{"$error":"#N/A"},null,{"$f":"RTD(\"cqg.rtd\",,\"StudyData\", \"Correlation(\"&$B$3&\",\"&O$2&\",Period:=\"&$B$1&\",InputChoice1:=Close,InputChoice2::=Close)\", \"FG\", \"\", \"Close\",$B$2,A8, \"all\",\"\", \"\",\"True\",\"T\")/100","v":0.90875403759999995},null,-0.91999999999999993,0,{"$error":"#N/A"},null,{"$f":"RTD(\"cqg.rtd\",,\"StudyData\", \"Correlation(\"&$B$3&\",\"&U$2&\",Period:=\"&$B$1&\",InputChoice1:=Close,InputChoice2::=Close)\", \"FG\", \"\", \"Close\",$B$2,A8, \"all\",\"\", \"\",\"True\",\"T\")/100","v":0.96764935809999997},null,-0.91999999999999993,0,{"$error":"#N/A"},null,{"$f":"RTD(\"cqg.rtd\",,\"StudyData\", \"Correlation(\"&$B$3&\",\"&AA$2&\",Period:=\"&$B$1&\",InputChoice1:=Close,InputChoice2::=Close)\", \"FG\", \"\", \"Close\",$B$2,A8, \"all\",\"\", \"\",\"True\",\"T\")/100","v":-8.5573867299999995E-2},null,-0.91999999999999993,0,{"$error":"#N/A"},null,{"$f":"RTD(\"cqg.rtd\",,\"StudyData\", \"Correlation(\"&$B$3&\",\"&AG$2&\",Period:=\"&$B$1&\",InputChoice1:=Close,InputChoice2::=Close)\", \"FG\", \"\", \"Close\",$B$2,A8, \"all\",\"\", \"\",\"True\",\"T\")/100","v":-7.3383730699999997E-2},null,-0.91999999999999993,0,{"$error":"#N/A"},null,{"$f":"RTD(\"cqg.rtd\",,\"StudyData\", \"Correlation(\"&$B$3&\",\"&AM$2&\",Period:=\"&$B$1&\",InputChoice1:=Close,InputChoice2::=Close)\", \"FG\", \"\", \"Close\",$B$2,A8, \"all\",\"\", \"\",\"True\",\"T\")/100","v":0.43419170779999999},null,-0.91999999999999993,0,{"$error":"#N/A"},null,{"$f":"RTD(\"cqg.rtd\",,\"StudyData\", \"Correlation(\"&$B$3&\",\"&AS$2&\",Period:=\"&$B$1&\",InputChoice1:=Close,InputChoice2::=Close)\", \"FG\", \"\", \"Close\",$B$2,A8, \"all\",\"\", \"\",\"True\",\"T\")/100","v":0.34020331120000002},null,-0.91999999999999993,0,{"$error":"#N/A"},null,{"$f":"RTD(\"cqg.rtd\",,\"StudyData\", \"Correlation(\"&$B$3&\",\"&AY$2&\",Period:=\"&$B$1&\",InputChoice1:=Close,InputChoice2::=Close)\", \"FG\", \"\", \"Close\",$B$2,A8, \"all\",\"\", \"\",\"True\",\"T\")/100","v":-0.84754203049999999},null,-0.91999999999999993,3,{"$error":"#N/A"},null,{"$f":"RTD(\"cqg.rtd\",,\"StudyData\", \"Correlation(\"&$B$3&\",\"&BE$2&\",Period:=\"&$B$1&\",InputChoice1:=Close,InputChoice2::=Close)\", \"FG\", \"\", \"Close\",$B$2,A8, \"all\",\"\", \"\",\"True\",\"T\")/100","v":-0.69080348540000003},null,-0.91999999999999993,0,{"$error":"#N/A"}]
[-5,null,{"$f":"RTD(\"cqg.rtd\",,\"StudyData\", \"Correlation(\"&$B$3&\",\"&C$2&\",Period:=\"&$B$1&\",InputChoice1::=Close,InputChoice2::=Close)\", \"FG\", \"\", \"Close\",$B$2,A9, \"all\",\"\", \"\",\"True\",\"T\")/100","v":0.84389435149999992},null,-0.89999999999999991,0,{"$error":"#N/A"},null,{"$f":"RTD(\"cqg.rtd\",,\"StudyData\", \"Correlation(\"&$B$3&\",\"&I$2&\",Period:=\"&$B$1&\",InputChoice1:=Close,InputChoice2::=Close)\", \"FG\", \"\", \"Close\",$B$2,A9, \"all\",\"\", \"\",\"True\",\"T\")/100","v":0.84226907120000005},null,-0.89999999999999991,0,{"$error":"#N/A"},null,{"$f":"RTD(\"cqg.rtd\",,\"StudyData\", \"Correlation(\"&$B$3&\",\"&O$2&\",Period:=\"&$B$1&\",InputChoice1:=Close,InputChoice2::=Close)\", \"FG\", \"\", \"Close\",$B$2,A9, \"all\",\"\", \"\",\"True\",\"T\")/100","v":0.85384772060000003},null,-0.89999999999999991,0,{"$error":"#N/A"},null,{"$f":"RTD(\"cqg.rtd\",,\"StudyData\", \"Correlation(\"&$B$3&\",\"&U$2&\",Period:=\"&$B$1&\",InputChoice1:=Close,InputChoice2::=Close)\", \"FG\", \"\", \"Close\",$B$2,A9, \"all\",\"\", \"\",\"True\",\"T\")/100","v":0.93899271299999998},null,-0.89999999999999991,0,{"$error":"#N/A"},null,{"$f":"RTD(\"cqg.rtd\",,\"StudyData\", \"Correlation(\"&$B$3&\",\"&AA$2&\",Period:=\"&$B$1&\",InputChoice1:=Close,InputChoice2::=Close)\", \"FG\", \"\", \"Close\",$B$2,A9, \"all\",\"\", \"\",\"True\",\"T\")/100","v":-0.24907782589999999},null,-0.89999999999999991,0,{"$error":"#N/A"},null,{"$f":"RTD(\"cqg.rtd\",,\"StudyData\", \"Correlation(\"&$B$3&\",\"&AG$2&\",Period:=\"&$B$1&\",InputChoice1:=Close,InputChoice2::=Close)\", \"FG\", \"\", \"Close\",$B$2,A9, \"all\",\"\", \"\",\"True\",\"T\")/100","v":-0.25559010539999999},null,-0.89999999999999991,0,{"$error":"#N/A"},null,{"$f":"RTD(\"cqg.rtd\",,\"StudyData\", \"Correlation(\"&$B$3&\",\"&AM$2&\",Period:=\"&$B$1&\",InputChoice1:=Close,InputChoice2::=Close)\", \"FG\", \"\", \"Close\",$B$2,A9, \"all\",\"\", \"\",\"True\",\"T\")/100","v":-9.9635500199999991E-2},null,-0.89999999999999991,0,{"$error":"#N/A"},null,{"$f":"RTD(\"cqg.rtd\",,\"StudyData\", \"Correlation(\"&$B$3&\",\"&AS$2&\",Period:=\"&$B$1&\",InputChoice1:=Close,InputChoice2::=Close)\", \"FG\", \"\", \"Close\",$B$2,A9, \"all\",\"\", \"\",\"True\",\"T\")/100","v":0.46050631420000004},null,-0.89999999999999991,0,{"$error":"#N/A"},null,{"$f":"RTD(\"cqg.rtd\",,\"StudyData\", \"Correlation(\"&$B$3&\",\"&AY$2&\",Period:=\"&$B$1&\",InputChoice1:=Close,InputChoice2::=Close)\", \"FG\", \"\", \"Close\",$B$2,A9, \"all\",\"\", \"\",\"True\",\"T\")/100","v":-0.64567500460000005},null,-0.89999999999999991,3,{"$error":"#N/A"},null,{"$f":"RTD(\"cqg.rtd\",,\"StudyData\", \"Correlation(\"&$B$3&\",\"&BE$2&\",Period:=\"&$B$1&\",InputChoice1:=Close,InputChoice2::=Close)\", \"FG\", \"\", \"Close\",$B$2,A9, \"all\",\"\", \"\",\"True\",\"T\")/100","v":-0.77742967550000008},null,-0.89999999999999991,0,{"$error":"#N/A"}]
[-6,null,{"$f":"RTD(\"cqg.rtd\",,\"StudyData\", \"Correlation(\"&$B$3&\",\"&C$2&\",Period:=\"&$B$1&\",InputChoice1::=Close,InputChoice2::=Close)\", \"FG\", \"\", \"Close\",$B$2,A10, \"all\",\"\", \"\",\"True\",\"T\")/100","v":0.74617841260000006},null,-0.87999999999999989,0,{"$error":"#N/A"},null,{"$f":"RTD(\"cqg.rtd\",,\"StudyData\", \"Correlation(\"&$B$3&\",\"&I$2&\",Period:=\"&$B$1&\",InputChoice1:=Close,InputChoice2::=Close)\", \"FG\", \"\", \"Close\",$B$2,A10, \"all\",\"\", \"\",\"True\",\"T\")/100","v":0.67991963519999998},null,-0.87999999999999989,0,{"$error":"#N/A"},null,{"$f":"RTD(\"cqg.rtd\",,\"StudyData\", \"Correlation(\"&$B$3&\",\"&O$2&\",Period:=\"&$B$1&\",InputChoice1:=Close,InputChoice2::=Close)\", \"FG\", \"\", \"Close\",$B$2,A10, \"all\",\"\", \"\",\"True\",\"T\")/100","v":0.76659304680000007},null,-0.87999999999999989,0,{"$error":"#N/A"},null,{"$f":"RTD(\"cqg.rtd\",,\"StudyData\", \"Correlation(\"&$B$3&\",\"&U$2&\",Period:=\"&$B$1&\",InputChoice1:=Close,InputChoice2::=Close)\", \"FG\", \"\", \"Close\",$B$2,A10, \"all\",\"\", \"\",\"True\",\"T\")/100","v":0.90225773630000006},null,-0.87999999999999989,0,{"$error":"#N/A"},null,{"$f":"RTD(\"cqg.rtd\",,\"StudyData\", \"Correlation(\"&$B$3&\",\"&AA$2&\",Period:=\"&$B$1&\",InputChoice1:=Close,InputChoice2::=Close)\", \"FG\", \"\", \"Close\",$B$2,A10, \"all\",\"\", \"\",\"True\",\"T\")/100","v":-0.56161960570000002},null,-0.87999999999999989,0,{"$error":"#N/A"},null,{"$f":"RTD(\"cqg.rtd\",,\"StudyData\", \"Correlation(\"&$B$3&\",\"&AG$2&\",Period:=\"&$B$1&\",InputChoice1:=Close,InputChoice2::=Close)\", \"FG\", \"\", \"Close\",$B$2,A10, \"all\",\"\", \"\",\"True\",\"T\")/100","v":-0.51953759109999997},null,-0.87999999999999989,0,{"$error":"#N/A"},null,{"$f":"RTD(\"cqg.rtd\",,\"StudyData\", \"Correlation(\"&$B$3&\",\"&AM$2&\",Period:=\"&$B$1&\",InputChoice1:=Close,InputChoice2::=Close)\", \"FG\", \"\", \"Close\",$B$2,A10, \"all\",\"\", \"\",\"True\",\"T\")/100","v":-0.62947875250000007},null,-0.87999999999999989,0,{"$error":"#N/A"},null,{"$f":"RTD(\"cqg.rtd\",,\"StudyData\", \"Correlation(\"&$B$3&\",\"&AS$2&\",Period:=\"&$B$1&\",InputChoice1:=Close,InputChoice2::=Close)\", \"FG\", \"\", \"Close\",$B$2,A10, \"all\",\"\", \"\",\"True\",\"T\")/100","v":0.38982746429999998},null,-0.87999999999999989,0,{"$error":"#N/A"},null,{"$f":"RTD(\"cqg.rtd\",,\"StudyData\", \"Correlation(\"&$B$3&\",\"&AY$2&\",Period:=\"&$B$1&\",InputChoice1:=Close,InputChoice2::=Close)\", \"FG\", \"\", \"Close\",$B$2,A10, \"all\",\"\", \"\",\"True\",\"T\")/100","v":-9.1801753E-2},null,-0.87999999999999989,12,{"$error":"#N/A"},null,{"$f":"RTD(\"cqg.rtd\",,\"StudyData\", \"Correlation(\"&$B$3&\",\"&BE$2&\",Period:=\"&$B$1&\",InputChoice1:=Close,InputChoice2::=Close)\", \"FG\", \"\", \"Close\",$B$2,A10, \"all\",\"\", \"\",\"True\",\"T\")/100","v":-0.76585372190000001},null,-0.87999999999999989,1,{"$error":"#N/A"}]
[-7,null,{"$f":"RTD(\"cqg.rtd\",,\"StudyData\", \"Correlation(\"&$B$3&\",\"&C$2&\",Period:=\"&$B$1&\",InputChoice1::=Close,InputChoice2::=Close)\", \"FG\", \"\", \"Close\",$B$2,A11, \"all\",\"\", \"\",\"True\",\"T\")/100","v":0.6404547476000001},null,-0.85999999999999988,0,{"$error":"#N/A"},null,{"$f":"RTD(\"cqg.rtd\",,\"StudyData\", \"Correlation(\"&$B$3&\",\"&I$2&\",Period:=\"&$B$1&\",InputChoice1:=Close,InputChoice2::=Close)\", \"FG\", \"\", \"Close\",$B$2,A11, \"all\",\"\", \"\",\"True\",\"T\")/100","v":0.57092107839999995},null,-0.85999999999999988,0,{"$error":"#N/A"},null,{"$f":"RTD(\"cqg.rtd\",,\"StudyData\", \"Correlation(\"&$B$3&\",\"&O$2&\",Period:=\"&$B$1&\",InputChoice1:=Close,InputChoice2::=Close)\", \"FG\", \"\", \"Close\",$B$2,A11, \"all\",\"\", \"\",\"True\",\"T\")/100","v":0.66304428410000005},null,-0.85999999999999988,0,{"$error":"#N/A"},null,{"$f":"RTD(\"cqg.rtd\",,\"StudyData\", \"Correlation(\"&$B$3&\",\"&U$2&\",Period:=\"&$B$1&\",InputChoice1:=Close,InputChoice2::=Close)\", \"FG\", \"\", \"Close\",$B$2,A11, \"all\",\"\", \"\",\"True\",\"T\")/100","v":0.86903438080000006},null,-0.85999999999999988,0,{"$error":"#N/A"},null,{"$f":"RTD(\"cqg.rtd\",,\"StudyData\", \"Correlation(\"&$B$3&\",\"&AA$2&\",Period:=\"&$B$1&\",InputChoice1:=Close,InputChoice2::=Close)\", \"FG\", \"\", \"Close\",$B$2,A11, \"all\",\"\", \"\",\"True\",\"T\")/100","v":-0.47712237749999997},null,-0.85999999999999988,0,{"$error":"#N/A"},null,{"$f":"RTD(\"cqg.rtd\",,\"StudyData\", \"Correlation(\"&$B$3&\",\"&AG$2&\",Period:=\"&$B$1&\",InputChoice1:=Close,InputChoice2::=Close)\", \"FG\", \"\", \"Close\",$B$2,A11, \"all\",\"\", \"\",\"True\",\"T\")/100","v":-0.45386450089999997},null,-0.85999999999999988,0,{"$error":"#N/A"},null,{"$f":"RTD(\"cqg.rtd\",,\"StudyData\", \"Correlation(\"&$B$3&\",\"&AM$2&\",Period:=\"&$B$1&\",InputChoice1:=Close,InputChoice2::=Close)\", \"FG\", \"\", \"Close\",$B$2,A11, \"all\",\"\", \"\",\"True\",\"T\")/100","v":-0.52445853789999997},null,-0.85999999999999988,0,{"$error":"#N/A"},null,{"$f":"RTD(\"cqg.rtd\",,\"StudyData\", \"Correlation(\"&$B$3&\",\"&AS$2&\",Period:=\"&$B$1&\",InputChoice1:=Close,InputChoice2::=Close)\", \"FG\", \"\", \"Close\",$B$2,A11, \"all\",\"\", \"\",\"True\",\"T\")/100","v":0.21306659539999998},null,-0.85999999999999988,0,{"$error":"#N/A"},null,{"$f":"RTD(\"cqg.rtd\",,\"StudyData\", \"Correlation(\"&$B$3&\",\"&AY$2&\",Period:=\"&$B$1&\",InputChoice1:=Close,InputChoice2::=Close)\", \"FG\", \"\", \"Close\",$B$2,A11, \"all\",\"\", \"\",\"True\",\"T\")/100","v":-4.2878242499999997E-2},null,-0.85999999999999988,4,{"$error":"#N/A"},null,{"$f":"RTD(\"cqg.rtd\",,\"StudyData\", \"Correlation(\"&$B$3&\",\"&BE$2&\",Period:=\"&$B$1&\",InputChoice1:=Close,InputChoice2::=Close)\", \"FG\", \"\", \"Close\",$B$2,A11, \"all\",\"\", \"\",\"True\",\"T\")/100","v":-0.67898563300000003},null,-0.85999999999999988,1,{"$error":"#N/A"}]
[-8,null,{"$f":"RTD(\"cqg.rtd\",,\"StudyData\", \"Correlation(\"&$B$3&\",\"&C$2&\",Period:=\"&$B$1&\",InputChoice1::=Close,InputChoice2::=Close)\", \"FG\", \"\", \"Close\",$B$2,A12, \"all\",\"\", \"\",\"True\",\"T\")/100","v":0.48413925359999999},null,-0.83999999999999986,0,{"$error":"#N/A"},null,{"$f":"RTD(\"cqg.rtd\",,\"StudyData\", \"Correlation(\"&$B$3&\",\"&I$2&\",Period:=\"&$B$1&\",InputChoice1:=Close,InputChoice2::=Close)\", \"FG\", \"\", \"Close\",$B$2,A12, \"all\",\"\", \"\",\"True\",\"T\")/100","v":0.35784724850000005},null,-0.83999999999999986,0,{"$error":"#N/A"},null,{"$f":"RTD(\"cqg.rtd\",,\"StudyData\", \"Correlation(\"&$B$3&\",\"&O$2&\",Period:=\"&$B$1&\",InputChoice1:=Close,InputChoice2::=Close)\", \"FG\", \"\", \"Close\",$B$2,A12, \"all\",\"\", \"\",\"True\",\"T\")/100","v":0.45673406550000001},null,-0.83999999999999986,0,{"$error":"#N/A"},null,{"$f":"RTD(\"cqg.rtd\",,\"StudyData\", \"Correlation(\"&$B$3&\",\"&U$2&\",Period:=\"&$B$1&\",InputChoice1:=Close,InputChoice2::=Close)\", \"FG\", \"\", \"Close\",$B$2,A12, \"all\",\"\", \"\",\"True\",\"T\")/100","v":0.76498421559999996},null,-0.83999999999999986,0,{"$error":"#N/A"},null,{"$f":"RTD(\"cqg.rtd\",,\"StudyData\", \"Correlation(\"&$B$3&\",\"&AA$2&\",Period:=\"&$B$1&\",InputChoice1:=Close,InputChoice2::=Close)\", \"FG\", \"\", \"Close\",$B$2,A12, \"all\",\"\", \"\",\"True\",\"T\")/100","v":2.88965066E-2},null,-0.83999999999999986,0,{"$error":"#N/A"},null,{"$f":"RTD(\"cqg.rtd\",,\"StudyData\", \"Correlation(\"&$B$3&\",\"&AG$2&\",Period:=\"&$B$1&\",InputChoice1:=Close,InputChoice2::=Close)\", \"FG\", \"\", \"Close\",$B$2,A12, \"all\",\"\", \"\",\"True\",\"T\")/100","v":3.02538914E-2},null,-0.83999999999999986,0,{"$error":"#N/A"},null,{"$f":"RTD(\"cqg.rtd\",,\"StudyData\", \"Correlation(\"&$B$3&\",\"&AM$2&\",Period:=\"&$B$1&\",InputChoice1:=Close,InputChoice2::=Close)\", \"FG\", \"\", \"Close\",$B$2,A12, \"all\",\"\", \"\",\"True\",\"T\")/100","v":-0.10183770139999999},null,-0.83999999999999986,0,{"$error":"#N/A"},null,{"$f":"RTD(\"cqg.rtd\",,\"StudyData\", \"Correlation(\"&$B$3&\",\"&AS$2&\",Period:=\"&$B$1&\",InputChoice1:=Close,InputChoice2::=Close)\", \"FG\", \"\", \"Close\",$B$2,A12, \"all\",\"\", \"\",\"True\",\"T\")/100","v":0.58841511560000004},null,-0.83999999999999986,0,{"$error":"#N/A"},null,{"$f":"RTD(\"cqg.rtd\",,\"StudyData\", \"Correlation(\"&$B$3&\",\"&AY$2&\",Period:=\"&$B$1&\",InputChoice1:=Close,InputChoice2::=Close)\", \"FG\", \"\", \"Close\",$B$2,A12, \"all\",\"\", \"\",\"True\",\"T\")/100","v":-0.12525814769999999},null,-0.83999999999999986,3,{"$error":"#N/A"},null,{"$f":"RTD(\"cqg.rtd\",,\"StudyData\", \"Correlation(\"&$B$3&\",\"&BE$2&\",Period:=\"&$B$1&\",InputChoice1:=Close,InputChoice2::=Close)\", \"FG\", \"\", \"Close\",$B$2,A12, \"all\",\"\", \"\",\"True\",\"T\")/100","v":9.9402308999999994E-3},null,-0.83999999999999986,0,{"$error":"#N/A"}]
[-9,null,{"$f":"RTD(\"cqg.rtd\",,\"StudyData\", \"Correlation(\"&$B$3&\",\"&C$2&\",Period:=\"&$B$1&\",InputChoice1::=Close,InputChoice2::=Close)\", \"FG\", \"\", \"Close\",$B$2,A13, \"all\",\"\", \"\",\"True\",\"T\")/100","v":0.66625625129999999},null,-0.81999999999999984,0,{"$error":"#N/A"},null,{"$f":"RTD(\"cqg.rtd\",,\"StudyData\", \"Correlation(\"&$B$3&\",\"&I$2&\",Period:=\"&$B$1&\",InputChoice1:=Close,InputChoice2::=Close)\", \"FG\", \"\", \"Close\",$B$2,A13, \"all\",\"\", \"\",\"True\",\"T\")/100","v":0.59348963939999999},null,-0.81999999999999984,0,{"$error":"#N/A"},null,{"$f":"RTD(\"cqg.rtd\",,\"StudyData\", \"Correlation(\"&$B$3&\",\"&O$2&\",Period:=\"&$B$1&\",InputChoice1:=Close,InputChoice2::=Close)\", \"FG\", \"\", \"Close\",$B$2,A13, \"all\",\"\", \"\",\"True\",\"T\")/100","v":0.44815698980000002},null,-0.81999999999999984,0,{"$error":"#N/A"},null,{"$f":"RTD(\"cqg.rtd\",,\"StudyData\", \"Correlation(\"&$B$3&\",\"&U$2&\",Period:=\"&$B$1&\",InputChoice1:=Close,InputChoice2::=Close)\", \"FG\", \"\", \"Close\",$B$2,A13, \"all\",\"\", \"\",\"True\",\"T\")/100","v":0.78009607709999995},null,-0.81999999999999984,0,{"$error":"#N/A"},null,{"$f":"RTD(\"cqg.rtd\",,\"StudyData\", \"Correlation(\"&$B$3&\",\"&AA$2&\",Period:=\"&$B$1&\",InputChoice1:=Close,InputChoice2::=Close)\", \"FG\", \"\", \"Close\",$B$2,A13, \"all\",\"\", \"\",\"True\",\"T\")/100","v":0.4976885566},null,-0.81999999999999984,0,{"$error":"#N/A"},null,{"$f":"RTD(\"cqg.rtd\",,\"StudyData\", \"Correlation(\"&$B$3&\",\"&AG$2&\",Period:=\"&$B$1&\",InputChoice1:=Close,InputChoice2::=Close)\", \"FG\", \"\", \"Close\",$B$2,A13, \"all\",\"\", \"\",\"True\",\"T\")/100","v":0.5489667037},null,-0.81999999999999984,0,{"$error":"#N/A"},null,{"$f":"RTD(\"cqg.rtd\",,\"StudyData\", \"Correlation(\"&$B$3&\",\"&AM$2&\",Period:=\"&$B$1&\",InputChoice1:=Close,InputChoice2::=Close)\", \"FG\", \"\", \"Close\",$B$2,A13, \"all\",\"\", \"\",\"True\",\"T\")/100","v":0.2293348288},null,-0.81999999999999984,0,{"$error":"#N/A"},null,{"$f":"RTD(\"cqg.rtd\",,\"StudyData\", \"Correlation(\"&$B$3&\",\"&AS$2&\",Period:=\"&$B$1&\",InputChoice1:=Close,InputChoice2::=Close)\", \"FG\", \"\", \"Close\",$B$2,A13, \"all\",\"\", \"\",\"True\",\"T\")/100","v":0.56092787499999996},null,-0.81999999999999984,1,{"$error":"#N/A"},null,{"$f":"RTD(\"cqg.rtd\",,\"StudyData\", \"Correlation(\"&$B$3&\",\"&AY$2&\",Period:=\"&$B$1&\",InputChoice1:=Close,InputChoice2::=Close)\", \"FG\", \"\", \"Close\",$B$2,A13, \"all\",\"\", \"\",\"True\",\"T\")/100","v":-0.22119883000000001},null,-0.81999999999999984,4,{"$error":"#N/A"},null,{"$f":"RTD(\"cqg.rtd\",,\"StudyData\", \"Correlation(\"&$B$3&\",\"&BE$2&\",Period:=\"&$B$1&\",InputChoice1:=Close,InputChoice2::=Close)\", \"FG\", \"\", \"Close\",$B$2,A13, \"all\",\"\", \"\",\"True\",\"T\")/100","v":0.51913123770000003},null,-0.81999999999999984,0,{"$error":"#N/A"}]
[-10,null,{"$f":"RTD(\"cqg.rtd\",,\"StudyData\", \"Correlation(\"&$B$3&\",\"&C$2&\",Period:=\"&$B$1&\",InputChoice1::=Close,InputChoice2::=Close)\", \"FG\", \"\", \"Close\",$B$2,A14, \"all\",\"\", \"\",\"True\",\"T\")/100","v":0.74782518060000003},null,-0.79999999999999982,0,{"$error":"#N/A"},null,{"$f":"RTD(\"cqg.rtd\",,\"StudyData\", \"Correlation(\"&$B$3&\",\"&I$2&\",Period:=\"&$B$1&\",InputChoice1:=Close,InputChoice2::=Close)\", \"FG\", \"\", \"Close\",$B$2,A14, \"all\",\"\", \"\",\"True\",\"T\")/100","v":0.65774292990000005},null,-0.79999999999999982,0,{"$error":"#N/A"},null,{"$f":"RTD(\"cqg.rtd\",,\"StudyData\", \"Correlation(\"&$B$3&\",\"&O$2&\",Period:=\"&$B$1&\",InputChoice1:=Close,InputChoice2::=Close)\", \"FG\", \"\", \"Close\",$B$2,A14, \"all\",\"\", \"\",\"True\",\"T\")/100","v":0.73449164789999999},null,-0.79999999999999982,0,{"$error":"#N/A"},null,{"$f":"RTD(\"cqg.rtd\",,\"StudyData\", \"Correlation(\"&$B$3&\",\"&U$2&\",Period:=\"&$B$1&\",InputChoice1:=Close,InputChoice2::=Close)\", \"FG\", \"\", \"Close\",$B$2,A14, \"all\",\"\", \"\",\"True\",\"T\")/100","v":0.80129927170000004},null,-0.79999999999999982,0,{"$error":"#N/A"},null,{"$f":"RTD(\"cqg.rtd\",,\"StudyData\", \"Correlation(\"&$B$3&\",\"&AA$2&\",Period:=\"&$B$1&\",InputChoice1:=Close,InputChoice2::=Close)\", \"FG\", \"\", \"Close\",$B$2,A14, \"all\",\"\", \"\",\"True\",\"T\")/100","v":0.35401625050000002},null,-0.79999999999999982,0,{"$error":"#N/A"},null,{"$f":"RTD(\"cqg.rtd\",,\"StudyData\", \"Correlation(\"&$B$3&\",\"&AG$2&\",Period:=\"&$B$1&\",InputChoice1:=Close,InputChoice2::=Close)\", \"FG\", \"\", \"Close\",$B$2,A14, \"all\",\"\", \"\",\"True\",\"T\")/100","v":0.48279250410000002},null,-0.79999999999999982,0,{"$error":"#N/A"},null,{"$f":"RTD(\"cqg.rtd\",,\"StudyData\", \"Correlation(\"&$B$3&\",\"&AM$2&\",Period:=\"&$B$1&\",InputChoice1:=Close,InputChoice2::=Close)\", \"FG\", \"\", \"Close\",$B$2,A14, \"all\",\"\", \"\",\"True\",\"T\")/100","v":-4.9737570800000006E-2},null,-0.79999999999999982,0,{"$error":"#N/A"},null,{"$f":"RTD(\"cqg.rtd\",,\"StudyData\", \"Correlation(\"&$B$3&\",\"&AS$2&\",Period:=\"&$B$1&\",InputChoice1:=Close,InputChoice2::=Close)\", \"FG\", \"\", \"Close\",$B$2,A14, \"all\",\"\", \"\",\"True\",\"T\")/100","v":0.53531263010000008},null,-0.79999999999999982,6,{"$error":"#N/A"},null,{"$f":"RTD(\"cqg.rtd\",,\"StudyData\", \"Correlation(\"&$B$3&\",\"&AY$2&\",Period:=\"&$B$1&\",InputChoice1:=Close,InputChoice2::=Close)\", \"FG\", \"\", \"Close\",$B$2,A14, \"all\",\"\", \"\",\"True\",\"T\")/100","v":-0.33348463029999997},null,-0.79999999999999982,8,{"$error":"#N/A"},null,{"$f":"RTD(\"cqg.rtd\",,\"StudyData\", \"Correlation(\"&$B$3&\",\"&BE$2&\",Period:=\"&$B$1&\",InputChoice1:=Close,InputChoice2::=Close)\", \"FG\", \"\", \"Close\",$B$2,A14, \"all\",\"\", \"\",\"True\",\"T\")/100","v":0.47638382680000002},null,-0.79999999999999982,0,{"$error":"#N/A"}]
[-11,null,{"$f":"RTD(\"cqg.rtd\",,\"StudyData\", \"Correlation(\"&$B$3&\",\"&C$2&\",Period:=\"&$B$1&\",InputChoice1::=Close,InputChoice2::=Close)\", \"FG\", \"\", \"Close\",$B$2,A15, \"all\",\"\", \"\",\"True\",\"T\")/100","v":0.87323900609999994},null,-0.7799999999999998,0,{"$error":"#N/A"},null,{"$f":"RTD(\"cqg.rtd\",,\"StudyData\", \"Correlation(\"&$B$3&\",\"&I$2&\",Period:=\"&$B$1&\",InputChoice1:=Close,InputChoice2::=Close)\", \"FG\", \"\", \"Close\",$B$2,A15, \"all\",\"\", \"\",\"True\",\"T\")/100","v":0.86136779190000001},null,-0.7799999999999998,0,{"$error":"#N/A"},null,{"$f":"RTD(\"cqg.rtd\",,\"StudyData\", \"Correlation(\"&$B$3&\",\"&O$2&\",Period:=\"&$B$1&\",InputChoice1:=Close,InputChoice2::=Close)\", \"FG\", \"\", \"Close\",$B$2,A15, \"all\",\"\", \"\",\"True\",\"T\")/100","v":0.95498073640000003},null,-0.7799999999999998,0,{"$error":"#N/A"},null,{"$f":"RTD(\"cqg.rtd\",,\"StudyData\", \"Correlation(\"&$B$3&\",\"&U$2&\",Period:=\"&$B$1&\",InputChoice1:=Close,InputChoice2::=Close)\", \"FG\", \"\", \"Close\",$B$2,A15, \"all\",\"\", \"\",\"True\",\"T\")/100","v":0.92877919370000006},null,-0.7799999999999998,0,{"$error":"#N/A"},null,{"$f":"RTD(\"cqg.rtd\",,\"StudyData\", \"Correlation(\"&$B$3&\",\"&AA$2&\",Period:=\"&$B$1&\",InputChoice1:=Close,InputChoice2::=Close)\", \"FG\", \"\", \"Close\",$B$2,A15, \"all\",\"\", \"\",\"True\",\"T\")/100","v":8.2102529399999999E-2},null,-0.7799999999999998,0,{"$error":"#N/A"},null,{"$f":"RTD(\"cqg.rtd\",,\"StudyData\", \"Correlation(\"&$B$3&\",\"&AG$2&\",Period:=\"&$B$1&\",InputChoice1:=Close,InputChoice2::=Close)\", \"FG\", \"\", \"Close\",$B$2,A15, \"all\",\"\", \"\",\"True\",\"T\")/100","v":0.35151077069999997},null,-0.7799999999999998,0,{"$error":"#N/A"},null,{"$f":"RTD(\"cqg.rtd\",,\"StudyData\", \"Correlation(\"&$B$3&\",\"&AM$2&\",Period:=\"&$B$1&\",InputChoice1:=Close,InputChoice2::=Close)\", \"FG\", \"\", \"Close\",$B$2,A15, \"all\",\"\", \"\",\"True\",\"T\")/100","v":-0.30802216830000001},null,-0.7799999999999998,0,{"$error":"#N/A"},null,{"$f":"RTD(\"cqg.rtd\",,\"StudyData\", \"Correlation(\"&$B$3&\",\"&AS$2&\",Period:=\"&$B$1&\",InputChoice1:=Close,InputChoice2::=Close)\", \"FG\", \"\", \"Close\",$B$2,A15, \"all\",\"\", \"\",\"True\",\"T\")/100","v":0.42531801250000001},null,-0.7799999999999998,0,{"$error":"#N/A"},null,{"$f":"RTD(\"cqg.rtd\",,\"StudyData\", \"Correlation(\"&$B$3&\",\"&AY$2&\",Period:=\"&$B$1&\",InputChoice1:=Close,InputChoice2::=Close)\", \"FG\", \"\", \"Close\",$B$2,A15, \"all\",\"\", \"\",\"True\",\"T\")/100","v":-0.46389002150000003},null,-0.7799999999999998,1,{"$error":"#N/A"},null,{"$f":"RTD(\"cqg.rtd\",,\"StudyData\", \"Correlation(\"&$B$3&\",\"&BE$2&\",Period:=\"&$B$1&\",InputChoice1:=Close,InputChoice2::=Close)\", \"FG\", \"\", \"Close\",$B$2,A15, \"all\",\"\", \"\",\"True\",\"T\")/100","v":0.42026626249999999},null,-0.7799999999999998,2,{"$error":"#N/A"}]
[-12,null,{"$f":"RTD(\"cqg.rtd\",,\"StudyData\", \"Correlation(\"&$B$3&\",\"&C$2&\",Period:=\"&$B$1&\",InputChoice1::=Close,InputChoice2::=Close)\", \"FG\", \"\", \"Close\",$B$2,A16, \"all\",\"\", \"\",\"True\",\"T\")/100","v":0.89196326869999998},null,-0.75999999999999979,0,{"$error":"#N/A"},null,{"$f":"RTD(\"cqg.rtd\",,\"StudyData\", \"Correlation(\"&$B$3&\",\"&I$2&\",Period:=\"&$B$1&\",InputChoice1:=Close,InputChoice2::=Close)\", \"FG\", \"\", \"Close\",$B$2,A16, \"all\",\"\", \"\",\"True\",\"T\")/100","v":0.89410687529999999},null,-0.75999999999999979,0,{"$error":"#N/A"},null,{"$f":"RTD(\"cqg.rtd\",,\"StudyData\", \"Correlation(\"&$B$3&\",\"&O$2&\",Period:=\"&$B$1&\",InputChoice1:=Close,InputChoice2::=Close)\", \"FG\", \"\", \"Close\",$B$2,A16, \"all\",\"\", \"\",\"True\",\"T\")/100","v":0.98583911160000004},null,-0.75999999999999979,0,{"$error":"#N/A"},null,{"$f":"RTD(\"cqg.rtd\",,\"StudyData\", \"Correlation(\"&$B$3&\",\"&U$2&\",Period:=\"&$B$1&\",InputChoice1:=Close,InputChoice2::=Close)\", \"FG\", \"\", \"Close\",$B$2,A16, \"all\",\"\", \"\",\"True\",\"T\")/100","v":0.96380153400000002},null,-0.75999999999999979,0,{"$error":"#N/A"},null,{"$f":"RTD(\"cqg.rtd\",,\"StudyData\", \"Correlation(\"&$B$3&\",\"&AA$2&\",Period:=\"&$B$1&\",InputChoice1:=Close,InputChoice2::=Close)\", \"FG\", \"\", \"Close\",$B$2,A16, \"all\",\"\", \"\",\"True\",\"T\")/100","v":0.37945877570000003},null,-0.75999999999999979,0,{"$error":"#N/A"},null,{"$f":"RTD(\"cqg.rtd\",,\"StudyData\", \"Correlation(\"&$B$3&\",\"&AG$2&\",Period:=\"&$B$1&\",InputChoice1:=Close,InputChoice2::=Close)\", \"FG\", \"\", \"Close\",$B$2,A16, \"all\",\"\", \"\",\"True\",\"T\")/100","v":0.5865653368},null,-0.75999999999999979,0,{"$error":"#N/A"},null,{"$f":"RTD(\"cqg.rtd\",,\"StudyData\", \"Correlation(\"&$B$3&\",\"&AM$2&\",Period:=\"&$B$1&\",InputChoice1:=Close,InputChoice2::=Close)\", \"FG\", \"\", \"Close\",$B$2,A16, \"all\",\"\", \"\",\"True\",\"T\")/100","v":-0.25657712979999997},null,-0.75999999999999979,1,{"$error":"#N/A"},null,{"$f":"RTD(\"cqg.rtd\",,\"StudyData\", \"Correlation(\"&$B$3&\",\"&AS$2&\",Period:=\"&$B$1&\",InputChoice1:=Close,InputChoice2::=Close)\", \"FG\", \"\", \"Close\",$B$2,A16, \"all\",\"\", \"\",\"True\",\"T\")/100","v":0.57857131789999994},null,-0.75999999999999979,0,{"$error":"#N/A"},null,{"$f":"RTD(\"cqg.rtd\",,\"StudyData\", \"Correlation(\"&$B$3&\",\"&AY$2&\",Period:=\"&$B$1&\",InputChoice1:=Close,InputChoice2::=Close)\", \"FG\", \"\", \"Close\",$B$2,A16, \"all\",\"\", \"\",\"True\",\"T\")/100","v":-0.66341125719999994},null,-0.75999999999999979,2,{"$error":"#N/A"},null,{"$f":"RTD(\"cqg.rtd\",,\"StudyData\", \"Correlation(\"&$B$3&\",\"&BE$2&\",Period:=\"&$B$1&\",InputChoice1:=Close,InputChoice2::=Close)\", \"FG\", \"\", \"Close\",$B$2,A16, \"all\",\"\", \"\",\"True\",\"T\")/100","v":0.45508075130000003},null,-0.75999999999999979,3,{"$error":"#N/A"}]
[-13,null,{"$f":"RTD(\"cqg.rtd\",,\"StudyData\", \"Correlation(\"&$B$3&\",\"&C$2&\",Period:=\"&$B$1&\",InputChoice1::=Close,InputChoice2::=Close)\", \"FG\", \"\", \"Close\",$B$2,A17, \"all\",\"\", \"\",\"True\",\"T\")/100","v":0.92001333619999992},null,-0.73999999999999977,0,{"$error":"#N/A"},null,{"$f":"RTD(\"cqg.rtd\",,\"StudyData\", \"Correlation(\"&$B$3&\",\"&I$2&\",Period:=\"&$B$1&\",InputChoice1:=Close,InputChoice2::=Close)\", \"FG\", \"\", \"Close\",$B$2,A17, \"all\",\"\", \"\",\"True\",\"T\")/100","v":0.92408544280000005},null,-0.73999999999999977,0,{"$error":"#N/A"},null,{"$f":"RTD(\"cqg.rtd\",,\"StudyData\", \"Correlation(\"&$B$3&\",\"&O$2&\",Period:=\"&$B$1&\",InputChoice1:=Close,InputChoice2::=Close)\", \"FG\", \"\", \"Close\",$B$2,A17, \"all\",\"\", \"\",\"True\",\"T\")/100","v":0.97697306690000008},null,-0.73999999999999977,0,{"$error":"#N/A"},null,{"$f":"RTD(\"cqg.rtd\",,\"StudyData\", \"Correlation(\"&$B$3&\",\"&U$2&\",Period:=\"&$B$1&\",InputChoice1:=Close,InputChoice2::=Close)\", \"FG\", \"\", \"Close\",$B$2,A17, \"all\",\"\", \"\",\"True\",\"T\")/100","v":0.97631103659999996},null,-0.73999999999999977,0,{"$error":"#N/A"},null,{"$f":"RTD(\"cqg.rtd\",,\"StudyData\", \"Correlation(\"&$B$3&\",\"&AA$2&\",Period:=\"&$B$1&\",InputChoice1:=Close,InputChoice2::=Close)\", \"FG\", \"\", \"Close\",$B$2,A17, \"all\",\"\", \"\",\"True\",\"T\")/100","v":0.50593931089999999},null,-0.73999999999999977,0,{"$error":"#N/A"},null,{"$f":"RTD(\"cqg.rtd\",,\"StudyData\", \"Correlation(\"&$B$3&\",\"&AG$2&\",Period:=\"&$B$1&\",InputChoice1:=Close,InputChoice2::=Close)\", \"FG\", \"\", \"Close\",$B$2,A17, \"all\",\"\", \"\",\"True\",\"T\")/100","v":0.67864776539999994},null,-0.73999999999999977,0,{"$error":"#N/A"},null,{"$f":"RTD(\"cqg.rtd\",,\"StudyData\", \"Correlation(\"&$B$3&\",\"&AM$2&\",Period:=\"&$B$1&\",InputChoice1:=Close,InputChoice2::=Close)\", \"FG\", \"\", \"Close\",$B$2,A17, \"all\",\"\", \"\",\"True\",\"T\")/100","v":-0.1146401227},null,-0.73999999999999977,0,{"$error":"#N/A"},null,{"$f":"RTD(\"cqg.rtd\",,\"StudyData\", \"Correlation(\"&$B$3&\",\"&AS$2&\",Period:=\"&$B$1&\",InputChoice1:=Close,InputChoice2::=Close)\", \"FG\", \"\", \"Close\",$B$2,A17, \"all\",\"\", \"\",\"True\",\"T\")/100","v":0.53201648339999996},null,-0.73999999999999977,2,{"$error":"#N/A"},null,{"$f":"RTD(\"cqg.rtd\",,\"StudyData\", \"Correlation(\"&$B$3&\",\"&AY$2&\",Period:=\"&$B$1&\",InputChoice1:=Close,InputChoice2::=Close)\", \"FG\", \"\", \"Close\",$B$2,A17, \"all\",\"\", \"\",\"True\",\"T\")/100","v":-0.75928337020000003},null,-0.73999999999999977,4,{"$error":"#N/A"},null,{"$f":"RTD(\"cqg.rtd\",,\"StudyData\", \"Correlation(\"&$B$3&\",\"&BE$2&\",Period:=\"&$B$1&\",InputChoice1:=Close,InputChoice2::=Close)\", \"FG\", \"\", \"Close\",$B$2,A17, \"all\",\"\", \"\",\"True\",\"T\")/100","v":0.58745748819999999},null,-0.73999999999999977,0,{"$error":"#N/A"}]
[-14,null,{"$f":"RTD(\"cqg.rtd\",,\"StudyData\", \"Correlation(\"&$B$3&\",\"&C$2&\",Period:=\"&$B$1&\",InputChoice1::=Close,InputChoice2::=Close)\", \"FG\", \"\", \"Close\",$B$2,A18, \"all\",\"\", \"\",\"True\",\"T\")/100","v":0.96907873449999993},null,-0.71999999999999975,0,{"$error":"#N/A"},null,{"$f":"RTD(\"cqg.rtd\",,\"StudyData\", \"Correlation(\"&$B$3&\",\"&I$2&\",Period:=\"&$B$1&\",InputChoice1:=Close,InputChoice2::=Close)\", \"FG\", \"\", \"Close\",$B$2,A18, \"all\",\"\", \"\",\"True\",\"T\")/100","v":0.97190887689999994},null,-0.71999999999999975,0,{"$error":"#N/A"},null,{"$f":"RTD(\"cqg.rtd\",,\"StudyData\", \"Correlation(\"&$B$3&\",\"&O$2&\",Period:=\"&$B$1&\",InputChoice1:=Close,InputChoice2::=Close)\", \"FG\", \"\", \"Close\",$B$2,A18, \"all\",\"\", \"\",\"True\",\"T\")/100","v":0.93837246760000004},null,-0.71999999999999975,0,{"$error":"#N/A"},null,{"$f":"RTD(\"cqg.rtd\",,\"StudyData\", \"Correlation(\"&$B$3&\",\"&U$2&\",Period:=\"&$B$1&\",InputChoice1:=Close,InputChoice2::=Close)\", \"FG\", \"\", \"Close\",$B$2,A18, \"all\",\"\", \"\",\"True\",\"T\")/100","v":0.9852506605000001},null,-0.71999999999999975,0,{"$error":"#N/A"},null,{"$f":"RTD(\"cqg.rtd\",,\"StudyData\", \"Correlation(\"&$B$3&\",\"&AA$2&\",Period:=\"&$B$1&\",InputChoice1:=Close,InputChoice2::=Close)\", \"FG\", \"\", \"Close\",$B$2,A18, \"all\",\"\", \"\",\"True\",\"T\")/100","v":0.63209223719999996},null,-0.71999999999999975,0,{"$error":"#N/A"},null,{"$f":"RTD(\"cqg.rtd\",,\"StudyData\", \"Correlation(\"&$B$3&\",\"&AG$2&\",Period:=\"&$B$1&\",InputChoice1:=Close,InputChoice2::=Close)\", \"FG\", \"\", \"Close\",$B$2,A18, \"all\",\"\", \"\",\"True\",\"T\")/100","v":0.74437339219999998},null,-0.71999999999999975,0,{"$error":"#N/A"},null,{"$f":"RTD(\"cqg.rtd\",,\"StudyData\", \"Correlation(\"&$B$3&\",\"&AM$2&\",Period:=\"&$B$1&\",InputChoice1:=Close,InputChoice2::=Close)\", \"FG\", \"\", \"Close\",$B$2,A18, \"all\",\"\", \"\",\"True\",\"T\")/100","v":0.25276592130000003},null,-0.71999999999999975,0,{"$error":"#N/A"},null,{"$f":"RTD(\"cqg.rtd\",,\"StudyData\", \"Correlation(\"&$B$3&\",\"&AS$2&\",Period:=\"&$B$1&\",InputChoice1:=Close,InputChoice2::=Close)\", \"FG\", \"\", \"Close\",$B$2,A18, \"all\",\"\", \"\",\"True\",\"T\")/100","v":0.38350015579999996},null,-0.71999999999999975,2,{"$error":"#N/A"},null,{"$f":"RTD(\"cqg.rtd\",,\"StudyData\", \"Correlation(\"&$B$3&\",\"&AY$2&\",Period:=\"&$B$1&\",InputChoice1:=Close,InputChoice2::=Close)\", \"FG\", \"\", \"Close\",$B$2,A18, \"all\",\"\", \"\",\"True\",\"T\")/100","v":-0.88548726110000009},null,-0.71999999999999975,1,{"$error":"#N/A"},null,{"$f":"RTD(\"cqg.rtd\",,\"StudyData\", \"Correlation(\"&$B$3&\",\"&BE$2&\",Period:=\"&$B$1&\",InputChoice1:=Close,InputChoice2::=Close)\", \"FG\", \"\", \"Close\",$B$2,A18, \"all\",\"\", \"\",\"True\",\"T\")/100","v":0.70394810740000002},null,-0.71999999999999975,0,{"$error":"#N/A"}]
[-15,null,{"$f":"RTD(\"cqg.rtd\",,\"StudyData\", \"Correlation(\"&$B$3&\",\"&C$2&\",Period:=\"&$B$1&\",InputChoice1::=Close,InputChoice2::=Close)\", \"FG\", \"\", \"Close\",$B$2,A19, \"all\",\"\", \"\",\"True\",\"T\")/100","v":0.93578408400000002},null,-0.69999999999999973,0,{"$error":"#N/A"},null,{"$f":"RTD(\"cqg.rtd\",,\"StudyData\", \"Correlation(\"&$B$3&\",\"&I$2&\",Period:=\"&$B$1&\",InputChoice1:=Close,InputChoice2::=Close)\", \"FG\", \"\", \"Close\",$B$2,A19, \"all\",\"\", \"\",\"True\",\"T\")/100","v":0.93199051769999997},null,-0.69999999999999973,0,{"$error":"#N/A"},null,{"$f":"RTD(\"cqg.rtd\",,\"StudyData\", \"Correlation(\"&$B$3&\",\"&O$2&\",Period:=\"&$B$1&\",InputChoice1:=Close,InputChoice2::=Close)\", \"FG\", \"\", \"Close\",$B$2,A19, \"all\",\"\", \"\",\"True\",\"T\")/100","v":0.89505454689999997},null,-0.69999999999999973,0,{"$error":"#N/A"},null,{"$f":"RTD(\"cqg.rtd\",,\"StudyData\", \"Correlation(\"&$B$3&\",\"&U$2&\",Period:=\"&$B$1&\",InputChoice1:=Close,InputChoice2::=Close)\", \"FG\", \"\", \"Close\",$B$2,A19, \"all\",\"\", \"\",\"True\",\"T\")/100","v":0.95307306049999996},null,-0.69999999999999973,0,{"$error":"#N/A"},null,{"$f":"RTD(\"cqg.rtd\",,\"StudyData\", \"Correlation(\"&$B$3&\",\"&AA$2&\",Period:=\"&$B$1&\",InputChoice1:=Close,InputChoice2::=Close)\", \"FG\", \"\", \"Close\",$B$2,A19, \"all\",\"\", \"\",\"True\",\"T\")/100","v":0.4826651092},null,-0.69999999999999973,0,{"$error":"#N/A"},null,{"$f":"RTD(\"cqg.rtd\",,\"StudyData\", \"Correlation(\"&$B$3&\",\"&AG$2&\",Period:=\"&$B$1&\",InputChoice1:=Close,InputChoice2::=Close)\", \"FG\", \"\", \"Close\",$B$2,A19, \"all\",\"\", \"\",\"True\",\"T\")/100","v":0.59401609320000004},null,-0.69999999999999973,0,{"$error":"#N/A"},null,{"$f":"RTD(\"cqg.rtd\",,\"StudyData\", \"Correlation(\"&$B$3&\",\"&AM$2&\",Period:=\"&$B$1&\",InputChoice1:=Close,InputChoice2::=Close)\", \"FG\", \"\", \"Close\",$B$2,A19, \"all\",\"\", \"\",\"True\",\"T\")/100","v":0.19166664119999999},null,-0.69999999999999973,1,{"$error":"#N/A"},null,{"$f":"RTD(\"cqg.rtd\",,\"StudyData\", \"Correlation(\"&$B$3&\",\"&AS$2&\",Period:=\"&$B$1&\",InputChoice1:=Close,InputChoice2::=Close)\", \"FG\", \"\", \"Close\",$B$2,A19, \"all\",\"\", \"\",\"True\",\"T\")/100","v":0.24666064070000002},null,-0.69999999999999973,0,{"$error":"#N/A"},null,{"$f":"RTD(\"cqg.rtd\",,\"StudyData\", \"Correlation(\"&$B$3&\",\"&AY$2&\",Period:=\"&$B$1&\",InputChoice1:=Close,InputChoice2::=Close)\", \"FG\", \"\", \"Close\",$B$2,A19, \"all\",\"\", \"\",\"True\",\"T\")/100","v":-0.89909472679999991},null,-0.69999999999999973,2,2,null,{"$f":"RTD(\"cqg.rtd\",,\"StudyData\", \"Correlation(\"&$B$3&\",\"&BE$2&\",Period:=\"&$B$1&\",InputChoice1:=Close,InputChoice2::=Close)\", \"FG\", \"\", \"Close\",$B$2,A19, \"all\",\"\", \"\",\"True\",\"T\")/100","v":0.52083339950000007},null,-0.69999999999999973,1,{"$error":"#N/A"}]
[-16,null,{"$f":"RTD(\"cqg.rtd\",,\"StudyData\", \"Correlation(\"&$B$3&\",\"&C$2&\",Period:=\"&$B$1&\",InputChoice1::=Close,InputChoice2::=Close)\", \"FG\", \"\", \"Close\",$B$2,A20, \"all\",\"\", \"\",\"True\",\"T\")/100","v":0.92349406340000006},null,-0.67999999999999972,0,{"$error":"#N/A"},null,{"$f":"RTD(\"cqg.rtd\",,\"StudyData\", \"Correlation(\"&$B$3&\",\"&I$2&\",Period:=\"&$B$1&\",InputChoice1:=Close,InputChoice2::=Close)\", \"FG\", \"\", \"Close\",$B$2,A20, \"all\",\"\", \"\",\"True\",\"T\")/100","v":0.91684211259999993},null,-0.67999999999999972,0,{"$error":"#N/A"},null,{"$f":"RTD(\"cqg.rtd\",,\"StudyData\", \"Correlation(\"&$B$3&\",\"&O$2&\",Period:=\"&$B$1&\",InputChoice1:=Close,InputChoice2::=Close)\", \"FG\", \"\", \"Close\",$B$2,A20, \"all\",\"\", \"\",\"True\",\"T\")/100","v":0.85441845950000006},null,-0.67999999999999972,0,{"$error":"#N/A"},null,{"$f":"RTD(\"cqg.rtd\",,\"StudyData\", \"Correlation(\"&$B$3&\",\"&U$2&\",Period:=\"&$B$1&\",InputChoice1:=Close,InputChoice2::=Close)\", \"FG\", \"\", \"Close\",$B$2,A20, \"all\",\"\", \"\",\"True\",\"T\")/100","v":0.94070328329999997},null,-0.67999999999999972,0,{"$error":"#N/A"},null,{"$f":"RTD(\"cqg.rtd\",,\"StudyData\", \"Correlation(\"&$B$3&\",\"&AA$2&\",Period:=\"&$B$1&\",InputChoice1:=Close,InputChoice2::=Close)\", \"FG\", \"\", \"Close\",$B$2,A20, \"all\",\"\", \"\",\"True\",\"T\")/100","v":0.50882834499999996},null,-0.67999999999999972,0,{"$error":"#N/A"},null,{"$f":"RTD(\"cqg.rtd\",,\"StudyData\", \"Correlation(\"&$B$3&\",\"&AG$2&\",Period:=\"&$B$1&\",InputChoice1:=Close,InputChoice2::=Close)\", \"FG\", \"\", \"Close\",$B$2,A20, \"all\",\"\", \"\",\"True\",\"T\")/100","v":0.58210719320000004},null,-0.67999999999999972,0,{"$error":"#N/A"},null,{"$f":"RTD(\"cqg.rtd\",,\"StudyData\", \"Correlation(\"&$B$3&\",\"&AM$2&\",Period:=\"&$B$1&\",InputChoice1:=Close,InputChoice2::=Close)\", \"FG\", \"\", \"Close\",$B$2,A20, \"all\",\"\", \"\",\"True\",\"T\")/100","v":0.2922280578},null,-0.67999999999999972,0,{"$error":"#N/A"},null,{"$f":"RTD(\"cqg.rtd\",,\"StudyData\", \"Correlation(\"&$B$3&\",\"&AS$2&\",Period:=\"&$B$1&\",InputChoice1:=Close,InputChoice2::=Close)\", \"FG\", \"\", \"Close\",$B$2,A20, \"all\",\"\", \"\",\"True\",\"T\")/100","v":-8.0166481100000006E-2},null,-0.67999999999999972,0,{"$error":"#N/A"},null,{"$f":"RTD(\"cqg.rtd\",,\"StudyData\", \"Correlation(\"&$B$3&\",\"&AY$2&\",Period:=\"&$B$1&\",InputChoice1:=Close,InputChoice2::=Close)\", \"FG\", \"\", \"Close\",$B$2,A20, \"all\",\"\", \"\",\"True\",\"T\")/100","v":-0.86611791289999995},null,-0.67999999999999972,1,{"$error":"#N/A"},null,{"$f":"RTD(\"cqg.rtd\",,\"StudyData\", \"Correlation(\"&$B$3&\",\"&BE$2&\",Period:=\"&$B$1&\",InputChoice1:=Close,InputChoice2::=Close)\", \"FG\", \"\", \"Close\",$B$2,A20, \"all\",\"\", \"\",\"True\",\"T\")/100","v":0.43517201030000002},null,-0.67999999999999972,1,{"$error":"#N/A"}]
[-17,null,{"$f":"RTD(\"cqg.rtd\",,\"StudyData\", \"Correlation(\"&$B$3&\",\"&C$2&\",Period:=\"&$B$1&\",InputChoice1::=Close,InputChoice2::=Close)\", \"FG\", \"\", \"Close\",$B$2,A21, \"all\",\"\", \"\",\"True\",\"T\")/100","v":0.89902446010000003},null,-0.6599999999999997,0,{"$error":"#N/A"},null,{"$f":"RTD(\"cqg.rtd\",,\"StudyData\", \"Correlation(\"&$B$3&\",\"&I$2&\",Period:=\"&$B$1&\",InputChoice1:=Close,InputChoice2::=Close)\", \"FG\", \"\", \"Close\",$B$2,A21, \"all\",\"\", \"\",\"True\",\"T\")/100","v":0.89138759010000002},null,-0.6599999999999997,0,{"$error":"#N/A"},null,{"$f":"RTD(\"cqg.rtd\",,\"StudyData\", \"Correlation(\"&$B$3&\",\"&O$2&\",Period:=\"&$B$1&\",InputChoice1:=Close,InputChoice2::=Close)\", \"FG\", \"\", \"Close\",$B$2,A21, \"all\",\"\", \"\",\"True\",\"T\")/100","v":0.74119104829999993},null,-0.6599999999999997,0,{"$error":"#N/A"},null,{"$f":"RTD(\"cqg.rtd\",,\"StudyData\", \"Correlation(\"&$B$3&\",\"&U$2&\",Period:=\"&$B$1&\",InputChoice1:=Close,InputChoice2::=Close)\", \"FG\", \"\", \"Close\",$B$2,A21, \"all\",\"\", \"\",\"True\",\"T\")/100","v":0.9232084235000001},null,-0.6599999999999997,0,{"$error":"#N/A"},null,{"$f":"RTD(\"cqg.rtd\",,\"StudyData\", \"Correlation(\"&$B$3&\",\"&AA$2&\",Period:=\"&$B$1&\",InputChoice1:=Close,InputChoice2::=Close)\", \"FG\", \"\", \"Close\",$B$2,A21, \"all\",\"\", \"\",\"True\",\"T\")/100","v":0.46095185549999995},null,-0.6599999999999997,0,{"$error":"#N/A"},null,{"$f":"RTD(\"cqg.rtd\",,\"StudyData\", \"Correlation(\"&$B$3&\",\"&AG$2&\",Period:=\"&$B$1&\",InputChoice1:=Close,InputChoice2::=Close)\", \"FG\", \"\", \"Close\",$B$2,A21, \"all\",\"\", \"\",\"True\",\"T\")/100","v":0.49730285350000003},null,-0.6599999999999997,0,{"$error":"#N/A"},null,{"$f":"RTD(\"cqg.rtd\",,\"StudyData\", \"Correlation(\"&$B$3&\",\"&AM$2&\",Period:=\"&$B$1&\",InputChoice1:=Close,InputChoice2::=Close)\", \"FG\", \"\", \"Close\",$B$2,A21, \"all\",\"\", \"\",\"True\",\"T\")/100","v":0.36892834069999997},null,-0.6599999999999997,1,{"$error":"#N/A"},null,{"$f":"RTD(\"cqg.rtd\",,\"StudyData\", \"Correlation(\"&$B$3&\",\"&AS$2&\",Period:=\"&$B$1&\",InputChoice1:=Close,InputChoice2::=Close)\", \"FG\", \"\", \"Close\",$B$2,A21, \"all\",\"\", \"\",\"True\",\"T\")/100","v":1.6055595700000001E-2},null,-0.6599999999999997,2,{"$error":"#N/A"},null,{"$f":"RTD(\"cqg.rtd\",,\"StudyData\", \"Correlation(\"&$B$3&\",\"&AY$2&\",Period:=\"&$B$1&\",InputChoice1:=Close,InputChoice2::=Close)\", \"FG\", \"\", \"Close\",$B$2,A21, \"all\",\"\", \"\",\"True\",\"T\")/100","v":-0.81813283150000005},null,-0.6599999999999997,5,{"$error":"#N/A"},null,{"$f":"RTD(\"cqg.rtd\",,\"StudyData\", \"Correlation(\"&$B$3&\",\"&BE$2&\",Period:=\"&$B$1&\",InputChoice1:=Close,InputChoice2::=Close)\", \"FG\", \"\", \"Close\",$B$2,A21, \"all\",\"\", \"\",\"True\",\"T\")/100","v":0.43112505439999999},null,-0.6599999999999997,3,{"$error":"#N/A"}]
[-18,null,{"$f":"RTD(\"cqg.rtd\",,\"StudyData\", \"Correlation(\"&$B$3&\",\"&C$2&\",Period:=\"&$B$1&\",InputChoice1::=Close,InputChoice2::=Close)\", \"FG\", \"\", \"Close\",$B$2,A22, \"all\",\"\", \"\",\"True\",\"T\")/100","v":0.87355607010000003},null,-0.63999999999999968,0,{"$error":"#N/A"},null,{"$f":"RTD(\"cqg.rtd\",,\"StudyData\", \"Correlation(\"&$B$3&\",\"&I$2&\",Period:=\"&$B$1&\",InputChoice1:=Close,InputChoice2::=Close)\", \"FG\", \"\", \"Close\",$B$2,A22, \"all\",\"\", \"\",\"True\",\"T\")/100","v":0.85365165770000007},null,-0.63999999999999968,0,{"$error":"#N/A"},null,{"$f":"RTD(\"cqg.rtd\",,\"StudyData\", \"Correlation(\"&$B$3&\",\"&O$2&\",Period:=\"&$B$1&\",InputChoice1:=Close,InputChoice2::=Close)\", \"FG\", \"\", \"Close\",$B$2,A22, \"all\",\"\", \"\",\"True\",\"T\")/100","v":0.62231892129999999},null,-0.63999999999999968,0,{"$error":"#N/A"},null,{"$f":"RTD(\"cqg.rtd\",,\"StudyData\", \"Correlation(\"&$B$3&\",\"&U$2&\",Period:=\"&$B$1&\",InputChoice1:=Close,InputChoice2::=Close)\", \"FG\", \"\", \"Close\",$B$2,A22, \"all\",\"\", \"\",\"True\",\"T\")/100","v":0.8742348418},null,-0.63999999999999968,0,{"$error":"#N/A"},null,{"$f":"RTD(\"cqg.rtd\",,\"StudyData\", \"Correlation(\"&$B$3&\",\"&AA$2&\",Period:=\"&$B$1&\",InputChoice1:=Close,InputChoice2::=Close)\", \"FG\", \"\", \"Close\",$B$2,A22, \"all\",\"\", \"\",\"True\",\"T\")/100","v":0.33022398990000001},null,-0.63999999999999968,1,{"$error":"#N/A"},null,{"$f":"RTD(\"cqg.rtd\",,\"StudyData\", \"Correlation(\"&$B$3&\",\"&AG$2&\",Period:=\"&$B$1&\",InputChoice1:=Close,InputChoice2::=Close)\", \"FG\", \"\", \"Close\",$B$2,A22, \"all\",\"\", \"\",\"True\",\"T\")/100","v":0.38688085190000004},null,-0.63999999999999968,0,{"$error":"#N/A"},null,{"$f":"RTD(\"cqg.rtd\",,\"StudyData\", \"Correlation(\"&$B$3&\",\"&AM$2&\",Period:=\"&$B$1&\",InputChoice1:=Close,InputChoice2::=Close)\", \"FG\", \"\", \"Close\",$B$2,A22, \"all\",\"\", \"\",\"True\",\"T\")/100","v":0.3077166362},null,-0.63999999999999968,1,{"$error":"#N/A"},null,{"$f":"RTD(\"cqg.rtd\",,\"StudyData\", \"Correlation(\"&$B$3&\",\"&AS$2&\",Period:=\"&$B$1&\",InputChoice1:=Close,InputChoice2::=Close)\", \"FG\", \"\", \"Close\",$B$2,A22, \"all\",\"\", \"\",\"True\",\"T\")/100","v":0.22545621459999998},null,-0.63999999999999968,0,{"$error":"#N/A"},null,{"$f":"RTD(\"cqg.rtd\",,\"StudyData\", \"Correlation(\"&$B$3&\",\"&AY$2&\",Period:=\"&$B$1&\",InputChoice1:=Close,InputChoice2::=Close)\", \"FG\", \"\", \"Close\",$B$2,A22, \"all\",\"\", \"\",\"True\",\"T\")/100","v":-0.83401878949999997},null,-0.63999999999999968,1,{"$error":"#N/A"},null,{"$f":"RTD(\"cqg.rtd\",,\"StudyData\", \"Correlation(\"&$B$3&\",\"&BE$2&\",Period:=\"&$B$1&\",InputChoice1:=Close,InputChoice2::=Close)\", \"FG\", \"\", \"Close\",$B$2,A22, \"all\",\"\", \"\",\"True\",\"T\")/100","v":0.30469571160000003},null,-0.63999999999999968,1,{"$error":"#N/A"}]
[-19,null,{"$f":"RTD(\"cqg.rtd\",,\"StudyData\", \"Correlation(\"&$B$3&\",\"&C$2&\",Period:=\"&$B$1&\",InputChoice1::=Close,InputChoice2::=Close)\", \"FG\", \"\", \"Close\",$B$2,A23, \"all\",\"\", \"\",\"True\",\"T\")/100","v":0.72367197760000002},null,-0.61999999999999966,0,{"$error":"#N/A"},null,{"$f":"RTD(\"cqg.rtd\",,\"StudyData\", \"Correlation(\"&$B$3&\",\"&I$2&\",Period:=\"&$B$1&\",InputChoice1:=Close,InputChoice2::=Close)\", \"FG\", \"\", \"Close\",$B$2,A23, \"all\",\"\", \"\",\"True\",\"T\")/100","v":0.7166779566},null,-0.61999999999999966,0,{"$error":"#N/A"},null,{"$f":"RTD(\"cqg.rtd\",,\"StudyData\", \"Correlation(\"&$B$3&\",\"&O$2&\",Period:=\"&$B$1&\",InputChoice1:=Close,InputChoice2::=Close)\", \"FG\", \"\", \"Close\",$B$2,A23, \"all\",\"\", \"\",\"True\",\"T\")/100","v":0.29066599390000003},null,-0.61999999999999966,0,{"$error":"#N/A"},null,{"$f":"RTD(\"cqg.rtd\",,\"StudyData\", \"Correlation(\"&$B$3&\",\"&U$2&\",Period:=\"&$B$1&\",InputChoice1:=Close,InputChoice2::=Close)\", \"FG\", \"\", \"Close\",$B$2,A23, \"all\",\"\", \"\",\"True\",\"T\")/100","v":0.80271238899999997},null,-0.61999999999999966,1,{"$error":"#N/A"},null,{"$f":"RTD(\"cqg.rtd\",,\"StudyData\", \"Correlation(\"&$B$3&\",\"&AA$2&\",Period:=\"&$B$1&\",InputChoice1:=Close,InputChoice2::=Close)\", \"FG\", \"\", \"Close\",$B$2,A23, \"all\",\"\", \"\",\"True\",\"T\")/100","v":0.17446723850000001},null,-0.61999999999999966,0,{"$error":"#N/A"},null,{"$f":"RTD(\"cqg.rtd\",,\"StudyData\", \"Correlation(\"&$B$3&\",\"&AG$2&\",Period:=\"&$B$1&\",InputChoice1:=Close,InputChoice2::=Close)\", \"FG\", \"\", \"Close\",$B$2,A23, \"all\",\"\", \"\",\"True\",\"T\")/100","v":0.2487362397},null,-0.61999999999999966,0,{"$error":"#N/A"},null,{"$f":"RTD(\"cqg.rtd\",,\"StudyData\", \"Correlation(\"&$B$3&\",\"&AM$2&\",Period:=\"&$B$1&\",InputChoice1:=Close,InputChoice2::=Close)\", \"FG\", \"\", \"Close\",$B$2,A23, \"all\",\"\", \"\",\"True\",\"T\")/100","v":0.18364471660000001},null,-0.61999999999999966,1,{"$error":"#N/A"},null,{"$f":"RTD(\"cqg.rtd\",,\"StudyData\", \"Correlation(\"&$B$3&\",\"&AS$2&\",Period:=\"&$B$1&\",InputChoice1:=Close,InputChoice2::=Close)\", \"FG\", \"\", \"Close\",$B$2,A23, \"all\",\"\", \"\",\"True\",\"T\")/100","v":0.28491494759999997},null,-0.61999999999999966,0,{"$error":"#N/A"},null,{"$f":"RTD(\"cqg.rtd\",,\"StudyData\", \"Correlation(\"&$B$3&\",\"&AY$2&\",Period:=\"&$B$1&\",InputChoice1:=Close,InputChoice2::=Close)\", \"FG\", \"\", \"Close\",$B$2,A23, \"all\",\"\", \"\",\"True\",\"T\")/100","v":-0.75591593579999994},null,-0.61999999999999966,1,{"$error":"#N/A"},null,{"$f":"RTD(\"cqg.rtd\",,\"StudyData\", \"Correlation(\"&$B$3&\",\"&BE$2&\",Period:=\"&$B$1&\",InputChoice1:=Close,InputChoice2::=Close)\", \"FG\", \"\", \"Close\",$B$2,A23, \"all\",\"\", \"\",\"True\",\"T\")/100","v":0.16410619010000002},null,-0.61999999999999966,0,{"$error":"#N/A"}]
[-20,null,{"$f":"RTD(\"cqg.rtd\",,\"StudyData\", \"Correlation(\"&$B$3&\",\"&C$2&\",Period:=\"&$B$1&\",InputChoice1::=Close,InputChoice2::=Close)\", \"FG\", \"\", \"Close\",$B$2,A24, \"all\",\"\", \"\",\"True\",\"T\")/100","v":0.55842906010000004},null,-0.59999999999999964,0,{"$error":"#N/A"},null,{"$f":"RTD(\"cqg.rtd\",,\"StudyData\", \"Correlation(\"&$B$3&\",\"&I$2&\",Period:=\"&$B$1&\",InputChoice1:=Close,InputChoice2::=Close)\", \"FG\", \"\", \"Close\",$B$2,A24, \"all\",\"\", \"\",\"True\",\"T\")/100","v":0.50667328960000002},null,-0.59999999999999964,0,{"$error":"#N/A"},null,{"$f":"RTD(\"cqg.rtd\",,\"StudyData\", \"Correlation(\"&$B$3&\",\"&O$2&\",Period:=\"&$B$1&\",InputChoice1:=Close,InputChoice2::=Close)\", \"FG\", \"\", \"Close\",$B$2,A24, \"all\",\"\", \"\",\"True\",\"T\")/100","v":0.22088601019999998},null,-0.59999999999999964,0,{"$error":"#N/A"},null,{"$f":"RTD(\"cqg.rtd\",,\"StudyData\", \"Correlation(\"&$B$3&\",\"&U$2&\",Period:=\"&$B$1&\",InputChoice1:=Close,InputChoice2::=Close)\", \"FG\", \"\", \"Close\",$B$2,A24, \"all\",\"\", \"\",\"True\",\"T\")/100","v":0.59788812759999999},null,-0.59999999999999964,1,{"$error":"#N/A"},null,{"$f":"RTD(\"cqg.rtd\",,\"StudyData\", \"Correlation(\"&$B$3&\",\"&AA$2&\",Period:=\"&$B$1&\",InputChoice1:=Close,InputChoice2::=Close)\", \"FG\", \"\", \"Close\",$B$2,A24, \"all\",\"\", \"\",\"True\",\"T\")/100","v":-0.17731944980000003},null,-0.59999999999999964,1,{"$error":"#N/A"},null,{"$f":"RTD(\"cqg.rtd\",,\"StudyData\", \"Correlation(\"&$B$3&\",\"&AG$2&\",Period:=\"&$B$1&\",InputChoice1:=Close,InputChoice2::=Close)\", \"FG\", \"\", \"Close\",$B$2,A24, \"all\",\"\", \"\",\"True\",\"T\")/100","v":-6.1635506800000003E-2},null,-0.59999999999999964,1,{"$error":"#N/A"},null,{"$f":"RTD(\"cqg.rtd\",,\"StudyData\", \"Correlation(\"&$B$3&\",\"&AM$2&\",Period:=\"&$B$1&\",InputChoice1:=Close,InputChoice2::=Close)\", \"FG\", \"\", \"Close\",$B$2,A24, \"all\",\"\", \"\",\"True\",\"T\")/100","v":-0.12944808930000001},null,-0.59999999999999964,0,{"$error":"#N/A"},null,{"$f":"RTD(\"cqg.rtd\",,\"StudyData\", \"Correlation(\"&$B$3&\",\"&AS$2&\",Period:=\"&$B$1&\",InputChoice1:=Close,InputChoice2::=Close)\", \"FG\", \"\", \"Close\",$B$2,A24, \"all\",\"\", \"\",\"True\",\"T\")/100","v":-3.7779196999999996E-3},null,-0.59999999999999964,1,{"$error":"#N/A"},null,{"$f":"RTD(\"cqg.rtd\",,\"StudyData\", \"Correlation(\"&$B$3&\",\"&AY$2&\",Period:=\"&$B$1&\",InputChoice1:=Close,InputChoice2::=Close)\", \"FG\", \"\", \"Close\",$B$2,A24, \"all\",\"\", \"\",\"True\",\"T\")/100","v":-0.82084056859999999},null,-0.59999999999999964,2,{"$error":"#N/A"},null,{"$f":"RTD(\"cqg.rtd\",,\"StudyData\", \"Correlation(\"&$B$3&\",\"&BE$2&\",Period:=\"&$B$1&\",InputChoice1:=Close,InputChoice2::=Close)\", \"FG\", \"\", \"Close\",$B$2,A24, \"all\",\"\", \"\",\"True\",\"T\")/100","v":-0.24408092780000001},null,-0.59999999999999964,0,{"$error":"#N/A"}]
[-21,null,{"$f":"RTD(\"cqg.rtd\",,\"StudyData\", \"Correlation(\"&$B$3&\",\"&C$2&\",Period:=\"&$B$1&\",InputChoice1::=Close,InputChoice2::=Close)\", \"FG\", \"\", \"Close\",$B$2,A25, \"all\",\"\", \"\",\"True\",\"T\")/100","v":0.53965656109999993},null,-0.57999999999999963,0,{"$error":"#N/A"},null,{"$f":"RTD(\"cqg.rtd\",,\"StudyData\", \"Correlation(\"&$B$3&\",\"&I$2&\",Period:=\"&$B$1&\",InputChoice1:=Close,InputChoice2::=Close)\", \"FG\", \"\", \"Close\",$B$2,A25, \"all\",\"\", \"\",\"True\",\"T\")/100","v":0.47824657749999999},null,{"$f":"K24+0.02","v":-0.57999999999999963},1,{"$error":"#N/A"},null,{"$f":"RTD(\"cqg.rtd\",,\"StudyData\", \"Correlation(\"&$B$3&\",\"&O$2&\",Period:=\"&$B$1&\",InputChoice1:=Close,InputChoice2::=Close)\", \"FG\", \"\", \"Close\",$B$2,A25, \"all\",\"\", \"\",\"True\",\"T\")/100","v":0.39074814130000002},null,-0.57999999999999963,0,{"$error":"#N/A"},null,{"$f":"RTD(\"cqg.rtd\",,\"StudyData\", \"Correlation(\"&$B$3&\",\"&U$2&\",Period:=\"&$B$1&\",InputChoice1:=Close,InputChoice2::=Close)\", \"FG\", \"\", \"Close\",$B$2,A25, \"all\",\"\", \"\",\"True\",\"T\")/100","v":0.54504728229999999},null,-0.57999999999999963,0,{"$error":"#N/A"},null,{"$f":"RTD(\"cqg.rtd\",,\"StudyData\", \"Correlation(\"&$B$3&\",\"&AA$2&\",Period:=\"&$B$1&\",InputChoice1:=Close,InputChoice2::=Close)\", \"FG\", \"\", \"Close\",$B$2,A25, \"all\",\"\", \"\",\"True\",\"T\")/100","v":-0.42551632240000004},null,-0.57999999999999963,0,{"$error":"#N/A"},null,{"$f":"RTD(\"cqg.rtd\",,\"StudyData\", \"Correlation(\"&$B$3&\",\"&AG$2&\",Period:=\"&$B$1&\",InputChoice1:=Close,InputChoice2::=Close)\", \"FG\", \"\", \"Close\",$B$2,A25, \"all\",\"\", \"\",\"True\",\"T\")/100","v":-0.25488471130000001},null,-0.57999999999999963,0,{"$error":"#N/A"},null,{"$f":"RTD(\"cqg.rtd\",,\"StudyData\", \"Correlation(\"&$B$3&\",\"&AM$2&\",Period:=\"&$B$1&\",InputChoice1:=Close,InputChoice2::=Close)\", \"FG\", \"\", \"Close\",$B$2,A25, \"all\",\"\", \"\",\"True\",\"T\")/100","v":-0.29703524409999998},null,-0.57999999999999963,1,{"$error":"#N/A"},null,{"$f":"RTD(\"cqg.rtd\",,\"StudyData\", \"Correlation(\"&$B$3&\",\"&AS$2&\",Period:=\"&$B$1&\",InputChoice1:=Close,InputChoice2::=Close)\", \"FG\", \"\", \"Close\",$B$2,A25, \"all\",\"\", \"\",\"True\",\"T\")/100","v":-7.0145948799999996E-2},null,-0.57999999999999963,1,{"$error":"#N/A"},null,{"$f":"RTD(\"cqg.rtd\",,\"StudyData\", \"Correlation(\"&$B$3&\",\"&AY$2&\",Period:=\"&$B$1&\",InputChoice1:=Close,InputChoice2::=Close)\", \"FG\", \"\", \"Close\",$B$2,A25, \"all\",\"\", \"\",\"True\",\"T\")/100","v":-0.71617798620000006},null,-0.57999999999999963,1,{"$error":"#N/A"},null,{"$f":"RTD(\"cqg.rtd\",,\"StudyData\", \"Correlation(\"&$B$3&\",\"&BE$2&\",Period:=\"&$B$1&\",InputChoice1:=Close,InputChoice2::=Close)\", \"FG\", \"\", \"Close\",$B$2,A25, \"all\",\"\", \"\",\"True\",\"T\")/100","v":-0.47868888869999998},null,-0.57999999999999963,0,{"$error":"#N/A"}]
[-22,null,{"$f":"RTD(\"cqg.rtd\",,\"StudyData\", \"Correlation(\"&$B$3&\",\"&C$2&\",Period:=\"&$B$1&\",InputChoice1::=Close,InputChoice2::=Close)\", \"FG\", \"\", \"Close\",$B$2,A26, \"all\",\"\", \"\",\"True\",\"T\")/100","v":0.33926492469999997},null,-0.55999999999999961,0,{"$error":"#N/A"},null,{"$f":"RTD(\"cqg.rtd\",,\"StudyData\", \"Correlation(\"&$B$3&\",\"&I$2&\",Period:=\"&$B$1&\",InputChoice1:=Close,InputChoice2::=Close)\", \"FG\", \"\", \"Close\",$B$2,A26, \"all\",\"\", \"\",\"True\",\"T\")/100","v":0.26015263430000002},null,-0.55999999999999961,0,{"$error":"#N/A"},null,{"$f":"RTD(\"cqg.rtd\",,\"StudyData\", \"Correlation(\"&$B$3&\",\"&O$2&\",Period:=\"&$B$1&\",InputChoice1:=Close,InputChoice2::=Close)\", \"FG\", \"\", \"Close\",$B$2,A26, \"all\",\"\", \"\",\"True\",\"T\")/100","v":0.38790280170000002},null,-0.55999999999999961,0,{"$error":"#N/A"},null,{"$f":"RTD(\"cqg.rtd\",,\"StudyData\", \"Correlation(\"&$B$3&\",\"&U$2&\",Period:=\"&$B$1&\",InputChoice1:=Close,InputChoice2::=Close)\", \"FG\", \"\", \"Close\",$B$2,A26, \"all\",\"\", \"\",\"True\",\"T\")/100","v":0.359404367},null,-0.55999999999999961,0,{"$error":"#N/A"},null,{"$f":"RTD(\"cqg.rtd\",,\"StudyData\", \"Correlation(\"&$B$3&\",\"&AA$2&\",Period:=\"&$B$1&\",InputChoice1:=Close,InputChoice2::=Close)\", \"FG\", \"\", \"Close\",$B$2,A26, \"all\",\"\", \"\",\"True\",\"T\")/100","v":-0.38630352530000001},null,-0.55999999999999961,3,{"$error":"#N/A"},null,{"$f":"RTD(\"cqg.rtd\",,\"StudyData\", \"Correlation(\"&$B$3&\",\"&AG$2&\",Period:=\"&$B$1&\",InputChoice1:=Close,InputChoice2::=Close)\", \"FG\", \"\", \"Close\",$B$2,A26, \"all\",\"\", \"\",\"True\",\"T\")/100","v":-0.22177155570000001},null,-0.55999999999999961,0,{"$error":"#N/A"},null,{"$f":"RTD(\"cqg.rtd\",,\"StudyData\", \"Correlation(\"&$B$3&\",\"&AM$2&\",Period:=\"&$B$1&\",InputChoice1:=Close,InputChoice2::=Close)\", \"FG\", \"\", \"Close\",$B$2,A26, \"all\",\"\", \"\",\"True\",\"T\")/100","v":-0.31517893740000003},null,-0.55999999999999961,1,{"$error":"#N/A"},null,{"$f":"RTD(\"cqg.rtd\",,\"StudyData\", \"Correlation(\"&$B$3&\",\"&AS$2&\",Period:=\"&$B$1&\",InputChoice1:=Close,InputChoice2::=Close)\", \"FG\", \"\", \"Close\",$B$2,A26, \"all\",\"\", \"\",\"True\",\"T\")/100","v":-0.13443843960000001},null,-0.55999999999999961,0,{"$error":"#N/A"},null,{"$f":"RTD(\"cqg.rtd\",,\"StudyData\", \"Correlation(\"&$B$3&\",\"&AY$2&\",Period:=\"&$B$1&\",InputChoice1:=Close,InputChoice2::=Close)\", \"FG\", \"\", \"Close\",$B$2,A26, \"all\",\"\", \"\",\"True\",\"T\")/100","v":2.0326317500000003E-2},null,-0.55999999999999961,1,{"$error":"#N/A"},null,{"$f":"RTD(\"cqg.rtd\",,\"StudyData\", \"Correlation(\"&$B$3&\",\"&BE$2&\",Period:=\"&$B$1&\",InputChoice1:=Close,InputChoice2::=Close)\", \"FG\", \"\", \"Close\",$B$2,A26, \"all\",\"\", \"\",\"True\",\"T\")/100","v":6.84930188E-2},null,-0.55999999999999961,1,{"$error":"#N/A"}]
[-23,null,{"$f":"RTD(\"cqg.rtd\",,\"StudyData\", \"Correlation(\"&$B$3&\",\"&C$2&\",Period:=\"&$B$1&\",InputChoice1::=Close,InputChoice2::=Close)\", \"FG\", \"\", \"Close\",$B$2,A27, \"all\",\"\", \"\",\"True\",\"T\")/100","v":1.5769169100000001E-2},null,-0.53999999999999959,0,{"$error":"#N/A"},null,{"$f":"RTD(\"cqg.rtd\",,\"StudyData\", \"Correlation(\"&$B$3&\",\"&I$2&\",Period:=\"&$B$1&\",InputChoice1:=Close,InputChoice2::=Close)\", \"FG\", \"\", \"Close\",$B$2,A27, \"all\",\"\", \"\",\"True\",\"T\")/100","v":-6.29717204E-2},null,-0.53999999999999959,1,{"$error":"#N/A"},null,{"$f":"RTD(\"cqg.rtd\",,\"StudyData\", \"Correlation(\"&$B$3&\",\"&O$2&\",Period:=\"&$B$1&\",InputChoice1:=Close,InputChoice2::=Close)\", \"FG\", \"\", \"Close\",$B$2,A27, \"all\",\"\", \"\",\"True\",\"T\")/100","v":0.28343312770000001},null,-0.53999999999999959,0,{"$error":"#N/A"},null,{"$f":"RTD(\"cqg.rtd\",,\"StudyData\", \"Correlation(\"&$B$3&\",\"&U$2&\",Period:=\"&$B$1&\",InputChoice1:=Close,InputChoice2::=Close)\", \"FG\", \"\", \"Close\",$B$2,A27, \"all\",\"\", \"\",\"True\",\"T\")/100","v":8.4443892300000004E-2},null,-0.53999999999999959,0,{"$error":"#N/A"},null,{"$f":"RTD(\"cqg.rtd\",,\"StudyData\", \"Correlation(\"&$B$3&\",\"&AA$2&\",Period:=\"&$B$1&\",InputChoice1:=Close,InputChoice2::=Close)\", \"FG\", \"\", \"Close\",$B$2,A27, \"all\",\"\", \"\",\"True\",\"T\")/100","v":-0.4812666223},null,-0.53999999999999959,0,{"$error":"#N/A"},null,{"$f":"RTD(\"cqg.rtd\",,\"StudyData\", \"Correlation(\"&$B$3&\",\"&AG$2&\",Period:=\"&$B$1&\",InputChoice1:=Close,InputChoice2::=Close)\", \"FG\", \"\", \"Close\",$B$2,A27, \"all\",\"\", \"\",\"True\",\"T\")/100","v":-0.34367294970000001},null,-0.53999999999999959,2,{"$error":"#N/A"},null,{"$f":"RTD(\"cqg.rtd\",,\"StudyData\", \"Correlation(\"&$B$3&\",\"&AM$2&\",Period:=\"&$B$1&\",InputChoice1:=Close,InputChoice2::=Close)\", \"FG\", \"\", \"Close\",$B$2,A27, \"all\",\"\", \"\",\"True\",\"T\")/100","v":-0.42613965049999997},null,-0.53999999999999959,0,{"$error":"#N/A"},null,{"$f":"RTD(\"cqg.rtd\",,\"StudyData\", \"Correlation(\"&$B$3&\",\"&AS$2&\",Period:=\"&$B$1&\",InputChoice1:=Close,InputChoice2::=Close)\", \"FG\", \"\", \"Close\",$B$2,A27, \"all\",\"\", \"\",\"True\",\"T\")/100","v":0.24009936880000002},null,-0.53999999999999959,0,{"$error":"#N/A"},null,{"$f":"RTD(\"cqg.rtd\",,\"StudyData\", \"Correlation(\"&$B$3&\",\"&AY$2&\",Period:=\"&$B$1&\",InputChoice1:=Close,InputChoice2::=Close)\", \"FG\", \"\", \"Close\",$B$2,A27, \"all\",\"\", \"\",\"True\",\"T\")/100","v":0.35109439109999996},null,-0.53999999999999959,0,{"$error":"#N/A"},null,{"$f":"RTD(\"cqg.rtd\",,\"StudyData\", \"Correlation(\"&$B$3&\",\"&BE$2&\",Period:=\"&$B$1&\",InputChoice1:=Close,InputChoice2::=Close)\", \"FG\", \"\", \"Close\",$B$2,A27, \"all\",\"\", \"\",\"True\",\"T\")/100","v":0.1608947349},null,-0.53999999999999959,0,{"$error":"#N/A"}]
[-24,null,{"$f":"RTD(\"cqg.rtd\",,\"StudyData\", \"Correlation(\"&$B$3&\",\"&C$2&\",Period:=\"&$B$1&\",InputChoice1::=Close,InputChoice2::=Close)\", \"FG\", \"\", \"Close\",$B$2,A28, \"all\",\"\", \"\",\"True\",\"T\")/100","v":-0.2544571611},null,-0.51999999999999957,0,{"$error":"#N/A"},null,{"$f":"RTD(\"cqg.rtd\",,\"StudyData\", \"Correlation(\"&$B$3&\",\"&I$2&\",Period:=\"&$B$1&\",InputChoice1:=Close,InputChoice2::=Close)\", \"FG\", \"\", \"Close\",$B$2,A28, \"all\",\"\", \"\",\"True\",\"T\")/100","v":-0.34874119860000002},null,-0.51999999999999957,0,{"$error":"#N/A"},null,{"$f":"RTD(\"cqg.rtd\",,\"StudyData\", \"Correlation(\"&$B$3&\",\"&O$2&\",Period:=\"&$B$1&\",InputChoice1:=Close,InputChoice2::=Close)\", \"FG\", \"\", \"Close\",$B$2,A28, \"all\",\"\", \"\",\"True\",\"T\")/100","v":0.1603850902},null,-0.51999999999999957,0,{"$error":"#N/A"},null,{"$f":"RTD(\"cqg.rtd\",,\"StudyData\", \"Correlation(\"&$B$3&\",\"&U$2&\",Period:=\"&$B$1&\",InputChoice1:=Close,InputChoice2::=Close)\", \"FG\", \"\", \"Close\",$B$2,A28, \"all\",\"\", \"\",\"True\",\"T\")/100","v":-0.18239896470000003},null,-0.51999999999999957,0,{"$error":"#N/A"},null,{"$f":"RTD(\"cqg.rtd\",,\"StudyData\", \"Correlation(\"&$B$3&\",\"&AA$2&\",Period:=\"&$B$1&\",InputChoice1:=Close,InputChoice2::=Close)\", \"FG\", \"\", \"Close\",$B$2,A28, \"all\",\"\", \"\",\"True\",\"T\")/100","v":-0.64886854049999998},null,-0.51999999999999957,0,{"$error":"#N/A"},null,{"$f":"RTD(\"cqg.rtd\",,\"StudyData\", \"Correlation(\"&$B$3&\",\"&AG$2&\",Period:=\"&$B$1&\",InputChoice1:=Close,InputChoice2::=Close)\", \"FG\", \"\", \"Close\",$B$2,A28, \"all\",\"\", \"\",\"True\",\"T\")/100","v":-0.54601302139999996},null,-0.51999999999999957,0,{"$error":"#N/A"},null,{"$f":"RTD(\"cqg.rtd\",,\"StudyData\", \"Correlation(\"&$B$3&\",\"&AM$2&\",Period:=\"&$B$1&\",InputChoice1:=Close,InputChoice2::=Close)\", \"FG\", \"\", \"Close\",$B$2,A28, \"all\",\"\", \"\",\"True\",\"T\")/100","v":-0.65753494450000005},null,-0.51999999999999957,1,{"$error":"#N/A"},null,{"$f":"RTD(\"cqg.rtd\",,\"StudyData\", \"Correlation(\"&$B$3&\",\"&AS$2&\",Period:=\"&$B$1&\",InputChoice1:=Close,InputChoice2::=Close)\", \"FG\", \"\", \"Close\",$B$2,A28, \"all\",\"\", \"\",\"True\",\"T\")/100","v":0.62783861889999992},null,-0.51999999999999957,0,{"$error":"#N/A"},null,{"$f":"RTD(\"cqg.rtd\",,\"StudyData\", \"Correlation(\"&$B$3&\",\"&AY$2&\",Period:=\"&$B$1&\",InputChoice1:=Close,InputChoice2::=Close)\", \"FG\", \"\", \"Close\",$B$2,A28, \"all\",\"\", \"\",\"True\",\"T\")/100","v":0.75206078880000005},null,-0.51999999999999957,0,{"$error":"#N/A"},null,{"$f":"RTD(\"cqg.rtd\",,\"StudyData\", \"Correlation(\"&$B$3&\",\"&BE$2&\",Period:=\"&$B$1&\",InputChoice1:=Close,InputChoice2::=Close)\", \"FG\", \"\", \"Close\",$B$2,A28, \"all\",\"\", \"\",\"True\",\"T\")/100","v":5.4036700100000001E-2},null,-0.51999999999999957,1,{"$error":"#N/A"}]
[-25,null,{"$f":"RTD(\"cqg.rtd\",,\"StudyData\", \"Correlation(\"&$B$3&\",\"&C$2&\",Period:=\"&$B$1&\",InputChoice1::=Close,InputChoice2::=Close)\", \"FG\", \"\", \"Close\",$B$2,A29, \"all\",\"\", \"\",\"True\",\"T\")/100","v":-0.12285550170000001},null,-0.49999999999999956,0,{"$error":"#N/A"},null,{"$f":"RTD(\"cqg.rtd\",,\"StudyData\", \"Correlation(\"&$B$3&\",\"&I$2&\",Period:=\"&$B$1&\",InputChoice1:=Close,InputChoice2::=Close)\", \"FG\", \"\", \"Close\",$B$2,A29, \"all\",\"\", \"\",\"True\",\"T\")/100","v":-0.2494575537},null,-0.49999999999999956,1,{"$error":"#N/A"},null,{"$f":"RTD(\"cqg.rtd\",,\"StudyData\", \"Correlation(\"&$B$3&\",\"&O$2&\",Period:=\"&$B$1&\",InputChoice1:=Close,InputChoice2::=Close)\", \"FG\", \"\", \"Close\",$B$2,A29, \"all\",\"\", \"\",\"True\",\"T\")/100","v":2.5725538999999999E-2},null,-0.49999999999999956,0,{"$error":"#N/A"},null,{"$f":"RTD(\"cqg.rtd\",,\"StudyData\", \"Correlation(\"&$B$3&\",\"&U$2&\",Period:=\"&$B$1&\",InputChoice1:=Close,InputChoice2::=Close)\", \"FG\", \"\", \"Close\",$B$2,A29, \"all\",\"\", \"\",\"True\",\"T\")/100","v":-0.1046995802},null,-0.49999999999999956,0,{"$error":"#N/A"},null,{"$f":"RTD(\"cqg.rtd\",,\"StudyData\", \"Correlation(\"&$B$3&\",\"&AA$2&\",Period:=\"&$B$1&\",InputChoice1:=Close,InputChoice2::=Close)\", \"FG\", \"\", \"Close\",$B$2,A29, \"all\",\"\", \"\",\"True\",\"T\")/100","v":-0.5607585611},null,-0.49999999999999956,0,{"$error":"#N/A"},null,{"$f":"RTD(\"cqg.rtd\",,\"StudyData\", \"Correlation(\"&$B$3&\",\"&AG$2&\",Period:=\"&$B$1&\",InputChoice1:=Close,InputChoice2::=Close)\", \"FG\", \"\", \"Close\",$B$2,A29, \"all\",\"\", \"\",\"True\",\"T\")/100","v":-0.4705208353},null,-0.49999999999999956,1,{"$error":"#N/A"},null,{"$f":"RTD(\"cqg.rtd\",,\"StudyData\", \"Correlation(\"&$B$3&\",\"&AM$2&\",Period:=\"&$B$1&\",InputChoice1:=Close,InputChoice2::=Close)\", \"FG\", \"\", \"Close\",$B$2,A29, \"all\",\"\", \"\",\"True\",\"T\")/100","v":-0.56255217769999999},null,-0.49999999999999956,0,{"$error":"#N/A"},null,{"$f":"RTD(\"cqg.rtd\",,\"StudyData\", \"Correlation(\"&$B$3&\",\"&AS$2&\",Period:=\"&$B$1&\",InputChoice1:=Close,InputChoice2::=Close)\", \"FG\", \"\", \"Close\",$B$2,A29, \"all\",\"\", \"\",\"True\",\"T\")/100","v":0.78261982649999995},null,-0.49999999999999956,1,{"$error":"#N/A"},null,{"$f":"RTD(\"cqg.rtd\",,\"StudyData\", \"Correlation(\"&$B$3&\",\"&AY$2&\",Period:=\"&$B$1&\",InputChoice1:=Close,InputChoice2::=Close)\", \"FG\", \"\", \"Close\",$B$2,A29, \"all\",\"\", \"\",\"True\",\"T\")/100","v":0.61174780740000001},null,-0.49999999999999956,0,{"$error":"#N/A"},null,{"$f":"RTD(\"cqg.rtd\",,\"StudyData\", \"Correlation(\"&$B$3&\",\"&BE$2&\",Period:=\"&$B$1&\",InputChoice1:=Close,InputChoice2::=Close)\", \"FG\", \"\", \"Close\",$B$2,A29, \"all\",\"\", \"\",\"True\",\"T\")/100","v":9.2851373200000004E-2},null,-0.49999999999999956,0,{"$error":"#N/A"}]
[-26,null,{"$f":"RTD(\"cqg.rtd\",,\"StudyData\", \"Correlation(\"&$B$3&\",\"&C$2&\",Period:=\"&$B$1&\",InputChoice1::=Close,InputChoice2::=Close)\", \"FG\", \"\", \"Close\",$B$2,A30, \"all\",\"\", \"\",\"True\",\"T\")/100","v":-0.40143521939999999},null,-0.47999999999999954,0,{"$error":"#N/A"},null,{"$f":"RTD(\"cqg.rtd\",,\"StudyData\", \"Correlation(\"&$B$3&\",\"&I$2&\",Period:=\"&$B$1&\",InputChoice1:=Close,InputChoice2::=Close)\", \"FG\", \"\", \"Close\",$B$2,A30, \"all\",\"\", \"\",\"True\",\"T\")/100","v":-0.54365194099999992},null,-0.47999999999999954,0,{"$error":"#N/A"},null,{"$f":"RTD(\"cqg.rtd\",,\"StudyData\", \"Correlation(\"&$B$3&\",\"&O$2&\",Period:=\"&$B$1&\",InputChoice1:=Close,InputChoice2::=Close)\", \"FG\", \"\", \"Close\",$B$2,A30, \"all\",\"\", \"\",\"True\",\"T\")/100","v":-0.1220093557},null,-0.47999999999999954,0,{"$error":"#N/A"},null,{"$f":"RTD(\"cqg.rtd\",,\"StudyData\", \"Correlation(\"&$B$3&\",\"&U$2&\",Period:=\"&$B$1&\",InputChoice1:=Close,InputChoice2::=Close)\", \"FG\", \"\", \"Close\",$B$2,A30, \"all\",\"\", \"\",\"True\",\"T\")/100","v":-0.38008281680000006},null,-0.47999999999999954,0,{"$error":"#N/A"},null,{"$f":"RTD(\"cqg.rtd\",,\"StudyData\", \"Correlation(\"&$B$3&\",\"&AA$2&\",Period:=\"&$B$1&\",InputChoice1:=Close,InputChoice2::=Close)\", \"FG\", \"\", \"Close\",$B$2,A30, \"all\",\"\", \"\",\"True\",\"T\")/100","v":-0.61951985519999997},null,-0.47999999999999954,1,{"$error":"#N/A"},null,{"$f":"RTD(\"cqg.rtd\",,\"StudyData\", \"Correlation(\"&$B$3&\",\"&AG$2&\",Period:=\"&$B$1&\",InputChoice1:=Close,InputChoice2::=Close)\", \"FG\", \"\", \"Close\",$B$2,A30, \"all\",\"\", \"\",\"True\",\"T\")/100","v":-0.60306886159999995},null,-0.47999999999999954,0,{"$error":"#N/A"},null,{"$f":"RTD(\"cqg.rtd\",,\"StudyData\", \"Correlation(\"&$B$3&\",\"&AM$2&\",Period:=\"&$B$1&\",InputChoice1:=Close,InputChoice2::=Close)\", \"FG\", \"\", \"Close\",$B$2,A30, \"all\",\"\", \"\",\"True\",\"T\")/100","v":-0.70757468720000005},null,-0.47999999999999954,0,{"$error":"#N/A"},null,{"$f":"RTD(\"cqg.rtd\",,\"StudyData\", \"Correlation(\"&$B$3&\",\"&AS$2&\",Period:=\"&$B$1&\",InputChoice1:=Close,InputChoice2::=Close)\", \"FG\", \"\", \"Close\",$B$2,A30, \"all\",\"\", \"\",\"True\",\"T\")/100","v":0.77009437410000003},null,-0.47999999999999954,1,{"$error":"#N/A"},null,{"$f":"RTD(\"cqg.rtd\",,\"StudyData\", \"Correlation(\"&$B$3&\",\"&AY$2&\",Period:=\"&$B$1&\",InputChoice1:=Close,InputChoice2::=Close)\", \"FG\", \"\", \"Close\",$B$2,A30, \"all\",\"\", \"\",\"True\",\"T\")/100","v":0.72476611730000007},null,-0.47999999999999954,0,{"$error":"#N/A"},null,{"$f":"RTD(\"cqg.rtd\",,\"StudyData\", \"Correlation(\"&$B$3&\",\"&BE$2&\",Period:=\"&$B$1&\",InputChoice1:=Close,InputChoice2::=Close)\", \"FG\", \"\", \"Close\",$B$2,A30, \"all\",\"\", \"\",\"True\",\"T\")/100","v":5.1456132700000004E-2},null,-0.47999999999999954,1,{"$error":"#N/A"}]
[-27,null,{"$f":"RTD(\"cqg.rtd\",,\"StudyData\", \"Correlation(\"&$B$3&\",\"&C$2&\",Period:=\"&$B$1&\",InputChoice1::=Close,InputChoice2::=Close)\", \"FG\", \"\", \"Close\",$B$2,A31, \"all\",\"\", \"\",\"True\",\"T\")/100","v":-0.16005688230000001},null,-0.45999999999999952,0,{"$error":"#N/A"},null,{"$f":"RTD(\"cqg.rtd\",,\"StudyData\", \"Correlation(\"&$B$3&\",\"&I$2&\",Period:=\"&$B$1&\",InputChoice1:=Close,InputChoice2::=Close)\", \"FG\", \"\", \"Close\",$B$2,A31, \"all\",\"\", \"\",\"True\",\"T\")/100","v":-0.47099157759999999},null,-0.45999999999999952,1,{"$error":"#N/A"},null,{"$f":"RTD(\"cqg.rtd\",,\"StudyData\", \"Correlation(\"&$B$3&\",\"&O$2&\",Period:=\"&$B$1&\",InputChoice1:=Close,InputChoice2::=Close)\", \"FG\", \"\", \"Close\",$B$2,A31, \"all\",\"\", \"\",\"True\",\"T\")/100","v":0.28480441039999999},null,-0.45999999999999952,0,{"$error":"#N/A"},null,{"$f":"RTD(\"cqg.rtd\",,\"StudyData\", \"Correlation(\"&$B$3&\",\"&U$2&\",Period:=\"&$B$1&\",InputChoice1:=Close,InputChoice2::=Close)\", \"FG\", \"\", \"Close\",$B$2,A31, \"all\",\"\", \"\",\"True\",\"T\")/100","v":-0.32919363769999999},null,-0.45999999999999952,0,{"$error":"#N/A"},null,{"$f":"RTD(\"cqg.rtd\",,\"StudyData\", \"Correlation(\"&$B$3&\",\"&AA$2&\",Period:=\"&$B$1&\",InputChoice1:=Close,InputChoice2::=Close)\", \"FG\", \"\", \"Close\",$B$2,A31, \"all\",\"\", \"\",\"True\",\"T\")/100","v":-0.56958285379999996},null,-0.45999999999999952,1,{"$error":"#N/A"},null,{"$f":"RTD(\"cqg.rtd\",,\"StudyData\", \"Correlation(\"&$B$3&\",\"&AG$2&\",Period:=\"&$B$1&\",InputChoice1:=Close,InputChoice2::=Close)\", \"FG\", \"\", \"Close\",$B$2,A31, \"all\",\"\", \"\",\"True\",\"T\")/100","v":-0.55592177799999998},null,-0.45999999999999952,1,{"$error":"#N/A"},null,{"$f":"RTD(\"cqg.rtd\",,\"StudyData\", \"Correlation(\"&$B$3&\",\"&AM$2&\",Period:=\"&$B$1&\",InputChoice1:=Close,InputChoice2::=Close)\", \"FG\", \"\", \"Close\",$B$2,A31, \"all\",\"\", \"\",\"True\",\"T\")/100","v":-0.67765415239999993},null,-0.45999999999999952,0,{"$error":"#N/A"},null,{"$f":"RTD(\"cqg.rtd\",,\"StudyData\", \"Correlation(\"&$B$3&\",\"&AS$2&\",Period:=\"&$B$1&\",InputChoice1:=Close,InputChoice2::=Close)\", \"FG\", \"\", \"Close\",$B$2,A31, \"all\",\"\", \"\",\"True\",\"T\")/100","v":0.64452711019999998},null,-0.45999999999999952,1,{"$error":"#N/A"},null,{"$f":"RTD(\"cqg.rtd\",,\"StudyData\", \"Correlation(\"&$B$3&\",\"&AY$2&\",Period:=\"&$B$1&\",InputChoice1:=Close,InputChoice2::=Close)\", \"FG\", \"\", \"Close\",$B$2,A31, \"all\",\"\", \"\",\"True\",\"T\")/100","v":0.69179757550000009},null,-0.45999999999999952,2,{"$error":"#N/A"},null,{"$f":"RTD(\"cqg.rtd\",,\"StudyData\", \"Correlation(\"&$B$3&\",\"&BE$2&\",Period:=\"&$B$1&\",InputChoice1:=Close,InputChoice2::=Close)\", \"FG\", \"\", \"Close\",$B$2,A31, \"all\",\"\", \"\",\"True\",\"T\")/100","v":0.21403698640000002},null,-0.45999999999999952,2,{"$error":"#N/A"}]
[-28,null,{"$f":"RTD(\"cqg.rtd\",,\"StudyData\", \"Correlation(\"&$B$3&\",\"&C$2&\",Period:=\"&$B$1&\",InputChoice1::=Close,InputChoice2::=Close)\", \"FG\", \"\", \"Close\",$B$2,A32, \"all\",\"\", \"\",\"True\",\"T\")/100","v":0.15566697979999999},null,-0.4399999999999995,0,{"$error":"#N/A"},null,{"$f":"RTD(\"cqg.rtd\",,\"StudyData\", \"Correlation(\"&$B$3&\",\"&I$2&\",Period:=\"&$B$1&\",InputChoice1:=Close,InputChoice2::=Close)\", \"FG\", \"\", \"Close\",$B$2,A32, \"all\",\"\", \"\",\"True\",\"T\")/100","v":-0.2539803209},null,-0.4399999999999995,0,{"$error":"#N/A"},null,{"$f":"RTD(\"cqg.rtd\",,\"StudyData\", \"Correlation(\"&$B$3&\",\"&O$2&\",Period:=\"&$B$1&\",InputChoice1:=Close,InputChoice2::=Close)\", \"FG\", \"\", \"Close\",$B$2,A32, \"all\",\"\", \"\",\"True\",\"T\")/100","v":0.65989671770000002},null,-0.4399999999999995,0,{"$error":"#N/A"},null,{"$f":"RTD(\"cqg.rtd\",,\"StudyData\", \"Correlation(\"&$B$3&\",\"&U$2&\",Period:=\"&$B$1&\",InputChoice1:=Close,InputChoice2::=Close)\", \"FG\", \"\", \"Close\",$B$2,A32, \"all\",\"\", \"\",\"True\",\"T\")/100","v":-0.19650898049999999},null,-0.4399999999999995,0,{"$error":"#N/A"},null,{"$f":"RTD(\"cqg.rtd\",,\"StudyData\", \"Correlation(\"&$B$3&\",\"&AA$2&\",Period:=\"&$B$1&\",InputChoice1:=Close,InputChoice2::=Close)\", \"FG\", \"\", \"Close\",$B$2,A32, \"all\",\"\", \"\",\"True\",\"T\")/100","v":-0.40581406940000003},null,-0.4399999999999995,0,{"$error":"#N/A"},null,{"$f":"RTD(\"cqg.rtd\",,\"StudyData\", \"Correlation(\"&$B$3&\",\"&AG$2&\",Period:=\"&$B$1&\",InputChoice1:=Close,InputChoice2::=Close)\", \"FG\", \"\", \"Close\",$B$2,A32, \"all\",\"\", \"\",\"True\",\"T\")/100","v":-0.38694640460000002},null,-0.4399999999999995,1,{"$error":"#N/A"},null,{"$f":"RTD(\"cqg.rtd\",,\"StudyData\", \"Correlation(\"&$B$3&\",\"&AM$2&\",Period:=\"&$B$1&\",InputChoice1:=Close,InputChoice2::=Close)\", \"FG\", \"\", \"Close\",$B$2,A32, \"all\",\"\", \"\",\"True\",\"T\")/100","v":-0.34610533850000003},null,-0.4399999999999995,1,{"$error":"#N/A"},null,{"$f":"RTD(\"cqg.rtd\",,\"StudyData\", \"Correlation(\"&$B$3&\",\"&AS$2&\",Period:=\"&$B$1&\",InputChoice1:=Close,InputChoice2::=Close)\", \"FG\", \"\", \"Close\",$B$2,A32, \"all\",\"\", \"\",\"True\",\"T\")/100","v":0.47091032179999998},null,-0.4399999999999995,1,{"$error":"#N/A"},null,{"$f":"RTD(\"cqg.rtd\",,\"StudyData\", \"Correlation(\"&$B$3&\",\"&AY$2&\",Period:=\"&$B$1&\",InputChoice1:=Close,InputChoice2::=Close)\", \"FG\", \"\", \"Close\",$B$2,A32, \"all\",\"\", \"\",\"True\",\"T\")/100","v":0.61737484219999994},null,-0.4399999999999995,0,{"$error":"#N/A"},null,{"$f":"RTD(\"cqg.rtd\",,\"StudyData\", \"Correlation(\"&$B$3&\",\"&BE$2&\",Period:=\"&$B$1&\",InputChoice1:=Close,InputChoice2::=Close)\", \"FG\", \"\", \"Close\",$B$2,A32, \"all\",\"\", \"\",\"True\",\"T\")/100","v":0.33578290399999999},null,-0.4399999999999995,2,{"$error":"#N/A"}]
[-29,null,{"$f":"RTD(\"cqg.rtd\",,\"StudyData\", \"Correlation(\"&$B$3&\",\"&C$2&\",Period:=\"&$B$1&\",InputChoice1::=Close,InputChoice2::=Close)\", \"FG\", \"\", \"Close\",$B$2,A33, \"all\",\"\", \"\",\"True\",\"T\")/100","v":0.15016402709999999},null,-0.41999999999999948,0,{"$error":"#N/A"},null,{"$f":"RTD(\"cqg.rtd\",,\"StudyData\", \"Correlation(\"&$B$3&\",\"&I$2&\",Period:=\"&$B$1&\",InputChoice1:=Close,InputChoice2::=Close)\", \"FG\", \"\", \"Close\",$B$2,A33, \"all\",\"\", \"\",\"True\",\"T\")/100","v":-0.32935151249999994},null,-0.41999999999999948,0,{"$error":"#N/A"},null,{"$f":"RTD(\"cqg.rtd\",,\"StudyData\", \"Correlation(\"&$B$3&\",\"&O$2&\",Period:=\"&$B$1&\",InputChoice1:=Close,InputChoice2::=Close)\", \"FG\", \"\", \"Close\",$B$2,A33, \"all\",\"\", \"\",\"True\",\"T\")/100","v":0.65038909079999996},null,-0.41999999999999948,0,{"$error":"#N/A"},null,{"$f":"RTD(\"cqg.rtd\",,\"StudyData\", \"Correlation(\"&$B$3&\",\"&U$2&\",Period:=\"&$B$1&\",InputChoice1:=Close,InputChoice2::=Close)\", \"FG\", \"\", \"Close\",$B$2,A33, \"all\",\"\", \"\",\"True\",\"T\")/100","v":-0.34696734829999998},null,-0.41999999999999948,0,{"$error":"#N/A"},null,{"$f":"RTD(\"cqg.rtd\",,\"StudyData\", \"Correlation(\"&$B$3&\",\"&AA$2&\",Period:=\"&$B$1&\",InputChoice1:=Close,InputChoice2::=Close)\", \"FG\", \"\", \"Close\",$B$2,A33, \"all\",\"\", \"\",\"True\",\"T\")/100","v":-0.21294770129999999},null,-0.41999999999999948,1,{"$error":"#N/A"},null,{"$f":"RTD(\"cqg.rtd\",,\"StudyData\", \"Correlation(\"&$B$3&\",\"&AG$2&\",Period:=\"&$B$1&\",InputChoice1:=Close,InputChoice2::=Close)\", \"FG\", \"\", \"Close\",$B$2,A33, \"all\",\"\", \"\",\"True\",\"T\")/100","v":-0.35359224060000005},null,-0.41999999999999948,0,{"$error":"#N/A"},null,{"$f":"RTD(\"cqg.rtd\",,\"StudyData\", \"Correlation(\"&$B$3&\",\"&AM$2&\",Period:=\"&$B$1&\",InputChoice1:=Close,InputChoice2::=Close)\", \"FG\", \"\", \"Close\",$B$2,A33, \"all\",\"\", \"\",\"True\",\"T\")/100","v":0.19432273020000002},null,-0.41999999999999948,2,{"$error":"#N/A"},null,{"$f":"RTD(\"cqg.rtd\",,\"StudyData\", \"Correlation(\"&$B$3&\",\"&AS$2&\",Period:=\"&$B$1&\",InputChoice1:=Close,InputChoice2::=Close)\", \"FG\", \"\", \"Close\",$B$2,A33, \"all\",\"\", \"\",\"True\",\"T\")/100","v":0.38804834069999999},null,-0.41999999999999948,1,{"$error":"#N/A"},null,{"$f":"RTD(\"cqg.rtd\",,\"StudyData\", \"Correlation(\"&$B$3&\",\"&AY$2&\",Period:=\"&$B$1&\",InputChoice1:=Close,InputChoice2::=Close)\", \"FG\", \"\", \"Close\",$B$2,A33, \"all\",\"\", \"\",\"True\",\"T\")/100","v":0.60121678280000002},null,-0.41999999999999948,1,{"$error":"#N/A"},null,{"$f":"RTD(\"cqg.rtd\",,\"StudyData\", \"Correlation(\"&$B$3&\",\"&BE$2&\",Period:=\"&$B$1&\",InputChoice1:=Close,InputChoice2::=Close)\", \"FG\", \"\", \"Close\",$B$2,A33, \"all\",\"\", \"\",\"True\",\"T\")/100","v":0.37221232870000004},null,-0.41999999999999948,2,2]
[-30,null,{"$f":"RTD(\"cqg.rtd\",,\"StudyData\", \"Correlation(\"&$B$3&\",\"&C$2&\",Period:=\"&$B$1&\",InputChoice1::=Close,InputChoice2::=Close)\", \"FG\", \"\", \"Close\",$B$2,A34, \"all\",\"\", \"\",\"True\",\"T\")/100","v":-0.31143862680000001},null,-0.39999999999999947,1,{"$error":"#N/A"},null,{"$f":"RTD(\"cqg.rtd\",,\"StudyData\", \"Correlation(\"&$B$3&\",\"&I$2&\",Period:=\"&$B$1&\",InputChoice1:=Close,InputChoice2::=Close)\", \"FG\", \"\", \"Close\",$B$2,A34, \"all\",\"\", \"\",\"True\",\"T\")/100","v":-0.58442765780000006},null,-0.39999999999999947,0,{"$error":"#N/A"},null,{"$f":"RTD(\"cqg.rtd\",,\"StudyData\", \"Correlation(\"&$B$3&\",\"&O$2&\",Period:=\"&$B$1&\",InputChoice1:=Close,InputChoice2::=Close)\", \"FG\", \"\", \"Close\",$B$2,A34, \"all\",\"\", \"\",\"True\",\"T\")/100","v":0.87964099450000011},null,-0.39999999999999947,0,{"$error":"#N/A"},null,{"$f":"RTD(\"cqg.rtd\",,\"StudyData\", \"Correlation(\"&$B$3&\",\"&U$2&\",Period:=\"&$B$1&\",InputChoice1:=Close,InputChoice2::=Close)\", \"FG\", \"\", \"Close\",$B$2,A34, \"all\",\"\", \"\",\"True\",\"T\")/100","v":-0.62316818070000002},null,-0.39999999999999947,0,{"$error":"#N/A"},null,{"$f":"RTD(\"cqg.rtd\",,\"StudyData\", \"Correlation(\"&$B$3&\",\"&AA$2&\",Period:=\"&$B$1&\",InputChoice1:=Close,InputChoice2::=Close)\", \"FG\", \"\", \"Close\",$B$2,A34, \"all\",\"\", \"\",\"True\",\"T\")/100","v":0.44388870279999998},null,-0.39999999999999947,1,{"$error":"#N/A"},null,{"$f":"RTD(\"cqg.rtd\",,\"StudyData\", \"Correlation(\"&$B$3&\",\"&AG$2&\",Period:=\"&$B$1&\",InputChoice1:=Close,InputChoice2::=Close)\", \"FG\", \"\", \"Close\",$B$2,A34, \"all\",\"\", \"\",\"True\",\"T\")/100","v":0.17533652080000001},null,-0.39999999999999947,0,{"$error":"#N/A"},null,{"$f":"RTD(\"cqg.rtd\",,\"StudyData\", \"Correlation(\"&$B$3&\",\"&AM$2&\",Period:=\"&$B$1&\",InputChoice1:=Close,InputChoice2::=Close)\", \"FG\", \"\", \"Close\",$B$2,A34, \"all\",\"\", \"\",\"True\",\"T\")/100","v":0.64498924470000008},null,-0.39999999999999947,0,{"$error":"#N/A"},null,{"$f":"RTD(\"cqg.rtd\",,\"StudyData\", \"Correlation(\"&$B$3&\",\"&AS$2&\",Period:=\"&$B$1&\",InputChoice1:=Close,InputChoice2::=Close)\", \"FG\", \"\", \"Close\",$B$2,A34, \"all\",\"\", \"\",\"True\",\"T\")/100","v":0.2233214382},null,-0.39999999999999947,0,{"$error":"#N/A"},null,{"$f":"RTD(\"cqg.rtd\",,\"StudyData\", \"Correlation(\"&$B$3&\",\"&AY$2&\",Period:=\"&$B$1&\",InputChoice1:=Close,InputChoice2::=Close)\", \"FG\", \"\", \"Close\",$B$2,A34, \"all\",\"\", \"\",\"True\",\"T\")/100","v":0.64443076690000001},null,-0.39999999999999947,1,{"$error":"#N/A"},null,{"$f":"RTD(\"cqg.rtd\",,\"StudyData\", \"Correlation(\"&$B$3&\",\"&BE$2&\",Period:=\"&$B$1&\",InputChoice1:=Close,InputChoice2::=Close)\", \"FG\", \"\", \"Close\",$B$2,A34, \"all\",\"\", \"\",\"True\",\"T\")/100","v":0.49164618370000002},null,-0.39999999999999947,2,{"$error":"#N/A"}]
[-31,null,{"$f":"RTD(\"cqg.rtd\",,\"StudyData\", \"Correlation(\"&$B$3&\",\"&C$2&\",Period:=\"&$B$1&\",InputChoice1::=Close,InputChoice2::=Close)\", \"FG\", \"\", \"Close\",$B$2,A35, \"all\",\"\", \"\",\"True\",\"T\")/100","v":8.3120729000000004E-2},null,-0.37999999999999945,0,{"$error":"#N/A"},null,{"$f":"RTD(\"cqg.rtd\",,\"StudyData\", \"Correlation(\"&$B$3&\",\"&I$2&\",Period:=\"&$B$1&\",InputChoice1:=Close,InputChoice2::=Close)\", \"FG\", \"\", \"Close\",$B$2,A35, \"all\",\"\", \"\",\"True\",\"T\")/100","v":-0.51169011679999998},null,-0.37999999999999945,0,{"$error":"#N/A"},null,{"$f":"RTD(\"cqg.rtd\",,\"StudyData\", \"Correlation(\"&$B$3&\",\"&O$2&\",Period:=\"&$B$1&\",InputChoice1:=Close,InputChoice2::=Close)\", \"FG\", \"\", \"Close\",$B$2,A35, \"all\",\"\", \"\",\"True\",\"T\")/100","v":0.95222069590000002},null,-0.37999999999999945,0,{"$error":"#N/A"},null,{"$f":"RTD(\"cqg.rtd\",,\"StudyData\", \"Correlation(\"&$B$3&\",\"&U$2&\",Period:=\"&$B$1&\",InputChoice1:=Close,InputChoice2::=Close)\", \"FG\", \"\", \"Close\",$B$2,A35, \"all\",\"\", \"\",\"True\",\"T\")/100","v":-0.61175810340000003},null,-0.37999999999999945,1,{"$error":"#N/A"},null,{"$f":"RTD(\"cqg.rtd\",,\"StudyData\", \"Correlation(\"&$B$3&\",\"&AA$2&\",Period:=\"&$B$1&\",InputChoice1:=Close,InputChoice2::=Close)\", \"FG\", \"\", \"Close\",$B$2,A35, \"all\",\"\", \"\",\"True\",\"T\")/100","v":0.86484235659999997},null,-0.37999999999999945,1,{"$error":"#N/A"},null,{"$f":"RTD(\"cqg.rtd\",,\"StudyData\", \"Correlation(\"&$B$3&\",\"&AG$2&\",Period:=\"&$B$1&\",InputChoice1:=Close,InputChoice2::=Close)\", \"FG\", \"\", \"Close\",$B$2,A35, \"all\",\"\", \"\",\"True\",\"T\")/100","v":0.65459397939999997},null,-0.37999999999999945,1,{"$error":"#N/A"},null,{"$f":"RTD(\"cqg.rtd\",,\"StudyData\", \"Correlation(\"&$B$3&\",\"&AM$2&\",Period:=\"&$B$1&\",InputChoice1:=Close,InputChoice2::=Close)\", \"FG\", \"\", \"Close\",$B$2,A35, \"all\",\"\", \"\",\"True\",\"T\")/100","v":0.74535279169999991},null,-0.37999999999999945,0,{"$error":"#N/A"},null,{"$f":"RTD(\"cqg.rtd\",,\"StudyData\", \"Correlation(\"&$B$3&\",\"&AS$2&\",Period:=\"&$B$1&\",InputChoice1:=Close,InputChoice2::=Close)\", \"FG\", \"\", \"Close\",$B$2,A35, \"all\",\"\", \"\",\"True\",\"T\")/100","v":0.20023412290000001},null,-0.37999999999999945,0,{"$error":"#N/A"},null,{"$f":"RTD(\"cqg.rtd\",,\"StudyData\", \"Correlation(\"&$B$3&\",\"&AY$2&\",Period:=\"&$B$1&\",InputChoice1:=Close,InputChoice2::=Close)\", \"FG\", \"\", \"Close\",$B$2,A35, \"all\",\"\", \"\",\"True\",\"T\")/100","v":0.63354717409999994},null,-0.37999999999999945,0,{"$error":"#N/A"},null,{"$f":"RTD(\"cqg.rtd\",,\"StudyData\", \"Correlation(\"&$B$3&\",\"&BE$2&\",Period:=\"&$B$1&\",InputChoice1:=Close,InputChoice2::=Close)\", \"FG\", \"\", \"Close\",$B$2,A35, \"all\",\"\", \"\",\"True\",\"T\")/100","v":0.53597763850000002},null,-0.37999999999999945,0,{"$error":"#N/A"}]
[-32,null,{"$f":"RTD(\"cqg.rtd\",,\"StudyData\", \"Correlation(\"&$B$3&\",\"&C$2&\",Period:=\"&$B$1&\",InputChoice1::=Close,InputChoice2::=Close)\", \"FG\", \"\", \"Close\",$B$2,A36, \"all\",\"\", \"\",\"True\",\"T\")/100","v":0.70036567640000003},null,-0.35999999999999943,0,{"$error":"#N/A"},null,{"$f":"RTD(\"cqg.rtd\",,\"StudyData\", \"Correlation(\"&$B$3&\",\"&I$2&\",Period:=\"&$B$1&\",InputChoice1:=Close,InputChoice2::=Close)\", \"FG\", \"\", \"Close\",$B$2,A36, \"all\",\"\", \"\",\"True\",\"T\")/100","v":0.3657575132},null,-0.35999999999999943,0,{"$error":"#N/A"},null,{"$f":"RTD(\"cqg.rtd\",,\"StudyData\", \"Correlation(\"&$B$3&\",\"&O$2&\",Period:=\"&$B$1&\",InputChoice1:=Close,InputChoice2::=Close)\", \"FG\", \"\", \"Close\",$B$2,A36, \"all\",\"\", \"\",\"True\",\"T\")/100","v":0.9083796314},null,-0.35999999999999943,0,{"$error":"#N/A"},null,{"$f":"RTD(\"cqg.rtd\",,\"StudyData\", \"Correlation(\"&$B$3&\",\"&U$2&\",Period:=\"&$B$1&\",InputChoice1:=Close,InputChoice2::=Close)\", \"FG\", \"\", \"Close\",$B$2,A36, \"all\",\"\", \"\",\"True\",\"T\")/100","v":0.14463709359999999},null,-0.35999999999999943,0,{"$error":"#N/A"},null,{"$f":"RTD(\"cqg.rtd\",,\"StudyData\", \"Correlation(\"&$B$3&\",\"&AA$2&\",Period:=\"&$B$1&\",InputChoice1:=Close,InputChoice2::=Close)\", \"FG\", \"\", \"Close\",$B$2,A36, \"all\",\"\", \"\",\"True\",\"T\")/100","v":0.83623679949999996},null,-0.35999999999999943,0,{"$error":"#N/A"},null,{"$f":"RTD(\"cqg.rtd\",,\"StudyData\", \"Correlation(\"&$B$3&\",\"&AG$2&\",Period:=\"&$B$1&\",InputChoice1:=Close,InputChoice2::=Close)\", \"FG\", \"\", \"Close\",$B$2,A36, \"all\",\"\", \"\",\"True\",\"T\")/100","v":0.69912997929999998},null,-0.35999999999999943,0,{"$error":"#N/A"},null,{"$f":"RTD(\"cqg.rtd\",,\"StudyData\", \"Correlation(\"&$B$3&\",\"&AM$2&\",Period:=\"&$B$1&\",InputChoice1:=Close,InputChoice2::=Close)\", \"FG\", \"\", \"Close\",$B$2,A36, \"all\",\"\", \"\",\"True\",\"T\")/100","v":0.70380877490000004},null,-0.35999999999999943,0,{"$error":"#N/A"},null,{"$f":"RTD(\"cqg.rtd\",,\"StudyData\", \"Correlation(\"&$B$3&\",\"&AS$2&\",Period:=\"&$B$1&\",InputChoice1:=Close,InputChoice2::=Close)\", \"FG\", \"\", \"Close\",$B$2,A36, \"all\",\"\", \"\",\"True\",\"T\")/100","v":0.25881096990000002},null,-0.35999999999999943,1,{"$error":"#N/A"},null,{"$f":"RTD(\"cqg.rtd\",,\"StudyData\", \"Correlation(\"&$B$3&\",\"&AY$2&\",Period:=\"&$B$1&\",InputChoice1:=Close,InputChoice2::=Close)\", \"FG\", \"\", \"Close\",$B$2,A36, \"all\",\"\", \"\",\"True\",\"T\")/100","v":0.73171294599999992},null,-0.35999999999999943,1,{"$error":"#N/A"},null,{"$f":"RTD(\"cqg.rtd\",,\"StudyData\", \"Correlation(\"&$B$3&\",\"&BE$2&\",Period:=\"&$B$1&\",InputChoice1:=Close,InputChoice2::=Close)\", \"FG\", \"\", \"Close\",$B$2,A36, \"all\",\"\", \"\",\"True\",\"T\")/100","v":0.58762811439999996},null,-0.35999999999999943,1,{"$error":"#N/A"}]
[-33,null,{"$f":"RTD(\"cqg.rtd\",,\"StudyData\", \"Correlation(\"&$B$3&\",\"&C$2&\",Period:=\"&$B$1&\",InputChoice1::=Close,InputChoice2::=Close)\", \"FG\", \"\", \"Close\",$B$2,A37, \"all\",\"\", \"\",\"True\",\"T\")/100","v":0.73770612510000011},null,-0.33999999999999941,0,{"$error":"#N/A"},null,{"$f":"RTD(\"cqg.rtd\",,\"StudyData\", \"Correlation(\"&$B$3&\",\"&I$2&\",Period:=\"&$B$1&\",InputChoice1:=Close,InputChoice2::=Close)\", \"FG\", \"\", \"Close\",$B$2,A37, \"all\",\"\", \"\",\"True\",\"T\")/100","v":0.48147119179999998},null,-0.33999999999999941,1,{"$error":"#N/A"},null,{"$f":"RTD(\"cqg.rtd\",,\"StudyData\", \"Correlation(\"&$B$3&\",\"&O$2&\",Period:=\"&$B$1&\",InputChoice1:=Close,InputChoice2::=Close)\", \"FG\", \"\", \"Close\",$B$2,A37, \"all\",\"\", \"\",\"True\",\"T\")/100","v":0.91504056090000008},null,-0.33999999999999941,0,{"$error":"#N/A"},null,{"$f":"RTD(\"cqg.rtd\",,\"StudyData\", \"Correlation(\"&$B$3&\",\"&U$2&\",Period:=\"&$B$1&\",InputChoice1:=Close,InputChoice2::=Close)\", \"FG\", \"\", \"Close\",$B$2,A37, \"all\",\"\", \"\",\"True\",\"T\")/100","v":0.29261764060000001},null,-0.33999999999999941,1,{"$error":"#N/A"},null,{"$f":"RTD(\"cqg.rtd\",,\"StudyData\", \"Correlation(\"&$B$3&\",\"&AA$2&\",Period:=\"&$B$1&\",InputChoice1:=Close,InputChoice2::=Close)\", \"FG\", \"\", \"Close\",$B$2,A37, \"all\",\"\", \"\",\"True\",\"T\")/100","v":0.74893713760000002},null,-0.33999999999999941,0,{"$error":"#N/A"},null,{"$f":"RTD(\"cqg.rtd\",,\"StudyData\", \"Correlation(\"&$B$3&\",\"&AG$2&\",Period:=\"&$B$1&\",InputChoice1:=Close,InputChoice2::=Close)\", \"FG\", \"\", \"Close\",$B$2,A37, \"all\",\"\", \"\",\"True\",\"T\")/100","v":0.59953503890000004},null,-0.33999999999999941,2,{"$error":"#N/A"},null,{"$f":"RTD(\"cqg.rtd\",,\"StudyData\", \"Correlation(\"&$B$3&\",\"&AM$2&\",Period:=\"&$B$1&\",InputChoice1:=Close,InputChoice2::=Close)\", \"FG\", \"\", \"Close\",$B$2,A37, \"all\",\"\", \"\",\"True\",\"T\")/100","v":0.49676994229999999},null,-0.33999999999999941,3,{"$error":"#N/A"},null,{"$f":"RTD(\"cqg.rtd\",,\"StudyData\", \"Correlation(\"&$B$3&\",\"&AS$2&\",Period:=\"&$B$1&\",InputChoice1:=Close,InputChoice2::=Close)\", \"FG\", \"\", \"Close\",$B$2,A37, \"all\",\"\", \"\",\"True\",\"T\")/100","v":0.5138821549},null,-0.33999999999999941,1,{"$error":"#N/A"},null,{"$f":"RTD(\"cqg.rtd\",,\"StudyData\", \"Correlation(\"&$B$3&\",\"&AY$2&\",Period:=\"&$B$1&\",InputChoice1:=Close,InputChoice2::=Close)\", \"FG\", \"\", \"Close\",$B$2,A37, \"all\",\"\", \"\",\"True\",\"T\")/100","v":0.62933210449999999},null,-0.33999999999999941,0,{"$error":"#N/A"},null,{"$f":"RTD(\"cqg.rtd\",,\"StudyData\", \"Correlation(\"&$B$3&\",\"&BE$2&\",Period:=\"&$B$1&\",InputChoice1:=Close,InputChoice2::=Close)\", \"FG\", \"\", \"Close\",$B$2,A37, \"all\",\"\", \"\",\"True\",\"T\")/100","v":0.39874092949999995},null,-0.33999999999999941,0,{"$error":"#N/A"}]
[-34,null,{"$f":"RTD(\"cqg.rtd\",,\"StudyData\", \"Correlation(\"&$B$3&\",\"&C$2&\",Period:=\"&$B$1&\",InputChoice1::=Close,InputChoice2::=Close)\", \"FG\", \"\", \"Close\",$B$2,A38, \"all\",\"\", \"\",\"True\",\"T\")/100","v":0.76176351769999995},null,-0.3199999999999994,0,{"$error":"#N/A"},null,{"$f":"RTD(\"cqg.rtd\",,\"StudyData\", \"Correlation(\"&$B$3&\",\"&I$2&\",Period:=\"&$B$1&\",InputChoice1:=Close,InputChoice2::=Close)\", \"FG\", \"\", \"Close\",$B$2,A38, \"all\",\"\", \"\",\"True\",\"T\")/100","v":0.62322259019999993},null,-0.3199999999999994,1,{"$error":"#N/A"},null,{"$f":"RTD(\"cqg.rtd\",,\"StudyData\", \"Correlation(\"&$B$3&\",\"&O$2&\",Period:=\"&$B$1&\",InputChoice1:=Close,InputChoice2::=Close)\", \"FG\", \"\", \"Close\",$B$2,A38, \"all\",\"\", \"\",\"True\",\"T\")/100","v":0.86040634859999998},null,-0.3199999999999994,0,{"$error":"#N/A"},null,{"$f":"RTD(\"cqg.rtd\",,\"StudyData\", \"Correlation(\"&$B$3&\",\"&U$2&\",Period:=\"&$B$1&\",InputChoice1:=Close,InputChoice2::=Close)\", \"FG\", \"\", \"Close\",$B$2,A38, \"all\",\"\", \"\",\"True\",\"T\")/100","v":0.49013982069999995},null,-0.3199999999999994,1,{"$error":"#N/A"},null,{"$f":"RTD(\"cqg.rtd\",,\"StudyData\", \"Correlation(\"&$B$3&\",\"&AA$2&\",Period:=\"&$B$1&\",InputChoice1:=Close,InputChoice2::=Close)\", \"FG\", \"\", \"Close\",$B$2,A38, \"all\",\"\", \"\",\"True\",\"T\")/100","v":0.69454819000000001},null,-0.3199999999999994,0,{"$error":"#N/A"},null,{"$f":"RTD(\"cqg.rtd\",,\"StudyData\", \"Correlation(\"&$B$3&\",\"&AG$2&\",Period:=\"&$B$1&\",InputChoice1:=Close,InputChoice2::=Close)\", \"FG\", \"\", \"Close\",$B$2,A38, \"all\",\"\", \"\",\"True\",\"T\")/100","v":0.49512082280000003},null,-0.3199999999999994,0,{"$error":"#N/A"},null,{"$f":"RTD(\"cqg.rtd\",,\"StudyData\", \"Correlation(\"&$B$3&\",\"&AM$2&\",Period:=\"&$B$1&\",InputChoice1:=Close,InputChoice2::=Close)\", \"FG\", \"\", \"Close\",$B$2,A38, \"all\",\"\", \"\",\"True\",\"T\")/100","v":0.16227397069999999},null,-0.3199999999999994,0,{"$error":"#N/A"},null,{"$f":"RTD(\"cqg.rtd\",,\"StudyData\", \"Correlation(\"&$B$3&\",\"&AS$2&\",Period:=\"&$B$1&\",InputChoice1:=Close,InputChoice2::=Close)\", \"FG\", \"\", \"Close\",$B$2,A38, \"all\",\"\", \"\",\"True\",\"T\")/100","v":0.74175874800000008},null,-0.3199999999999994,1,{"$error":"#N/A"},null,{"$f":"RTD(\"cqg.rtd\",,\"StudyData\", \"Correlation(\"&$B$3&\",\"&AY$2&\",Period:=\"&$B$1&\",InputChoice1:=Close,InputChoice2::=Close)\", \"FG\", \"\", \"Close\",$B$2,A38, \"all\",\"\", \"\",\"True\",\"T\")/100","v":0.38418543780000003},null,-0.3199999999999994,1,{"$error":"#N/A"},null,{"$f":"RTD(\"cqg.rtd\",,\"StudyData\", \"Correlation(\"&$B$3&\",\"&BE$2&\",Period:=\"&$B$1&\",InputChoice1:=Close,InputChoice2::=Close)\", \"FG\", \"\", \"Close\",$B$2,A38, \"all\",\"\", \"\",\"True\",\"T\")/100","v":0.27102984299999999},null,-0.3199999999999994,1,{"$error":"#N/A"}]
[-35,null,{"$f":"RTD(\"cqg.rtd\",,\"StudyData\", \"Correlation(\"&$B$3&\",\"&C$2&\",Period:=\"&$B$1&\",InputChoice1::=Close,InputChoice2::=Close)\", \"FG\", \"\", \"Close\",$B$2,A39, \"all\",\"\", \"\",\"True\",\"T\")/100","v":0.76932017699999999},null,-0.29999999999999938,1,{"$error":"#N/A"},null,{"$f":"RTD(\"cqg.rtd\",,\"StudyData\", \"Correlation(\"&$B$3&\",\"&I$2&\",Period:=\"&$B$1&\",InputChoice1:=Close,InputChoice2::=Close)\", \"FG\", \"\", \"Close\",$B$2,A39, \"all\",\"\", \"\",\"True\",\"T\")/100","v":0.69680858150000002},null,-0.29999999999999938,0,{"$error":"#N/A"},null,{"$f":"RTD(\"cqg.rtd\",,\"StudyData\", \"Correlation(\"&$B$3&\",\"&O$2&\",Period:=\"&$B$1&\",InputChoice1:=Close,InputChoice2::=Close)\", \"FG\", \"\", \"Close\",$B$2,A39, \"all\",\"\", \"\",\"True\",\"T\")/100","v":0.76691255699999994},null,-0.29999999999999938,0,{"$error":"#N/A"},null,{"$f":"RTD(\"cqg.rtd\",,\"StudyData\", \"Correlation(\"&$B$3&\",\"&U$2&\",Period:=\"&$B$1&\",InputChoice1:=Close,InputChoice2::=Close)\", \"FG\", \"\", \"Close\",$B$2,A39, \"all\",\"\", \"\",\"True\",\"T\")/100","v":0.58556061040000007},null,-0.29999999999999938,0,{"$error":"#N/A"},null,{"$f":"RTD(\"cqg.rtd\",,\"StudyData\", \"Correlation(\"&$B$3&\",\"&AA$2&\",Period:=\"&$B$1&\",InputChoice1:=Close,InputChoice2::=Close)\", \"FG\", \"\", \"Close\",$B$2,A39, \"all\",\"\", \"\",\"True\",\"T\")/100","v":0.72754742210000001},null,-0.29999999999999938,0,{"$error":"#N/A"},null,{"$f":"RTD(\"cqg.rtd\",,\"StudyData\", \"Correlation(\"&$B$3&\",\"&AG$2&\",Period:=\"&$B$1&\",InputChoice1:=Close,InputChoice2::=Close)\", \"FG\", \"\", \"Close\",$B$2,A39, \"all\",\"\", \"\",\"True\",\"T\")/100","v":0.48887142029999997},null,-0.29999999999999938,0,{"$error":"#N/A"},null,{"$f":"RTD(\"cqg.rtd\",,\"StudyData\", \"Correlation(\"&$B$3&\",\"&AM$2&\",Period:=\"&$B$1&\",InputChoice1:=Close,InputChoice2::=Close)\", \"FG\", \"\", \"Close\",$B$2,A39, \"all\",\"\", \"\",\"True\",\"T\")/100","v":0.206111185},null,-0.29999999999999938,2,{"$error":"#N/A"},null,{"$f":"RTD(\"cqg.rtd\",,\"StudyData\", \"Correlation(\"&$B$3&\",\"&AS$2&\",Period:=\"&$B$1&\",InputChoice1:=Close,InputChoice2::=Close)\", \"FG\", \"\", \"Close\",$B$2,A39, \"all\",\"\", \"\",\"True\",\"T\")/100","v":0.82924227770000003},null,-0.29999999999999938,0,{"$error":"#N/A"},null,{"$f":"RTD(\"cqg.rtd\",,\"StudyData\", \"Correlation(\"&$B$3&\",\"&AY$2&\",Period:=\"&$B$1&\",InputChoice1:=Close,InputChoice2::=Close)\", \"FG\", \"\", \"Close\",$B$2,A39, \"all\",\"\", \"\",\"True\",\"T\")/100","v":3.9900262200000002E-2},null,-0.29999999999999938,0,{"$error":"#N/A"},null,{"$f":"RTD(\"cqg.rtd\",,\"StudyData\", \"Correlation(\"&$B$3&\",\"&BE$2&\",Period:=\"&$B$1&\",InputChoice1:=Close,InputChoice2::=Close)\", \"FG\", \"\", \"Close\",$B$2,A39, \"all\",\"\", \"\",\"True\",\"T\")/100","v":-0.20600285360000001},null,-0.29999999999999938,0,{"$error":"#N/A"}]
[-36,null,{"$f":"RTD(\"cqg.rtd\",,\"StudyData\", \"Correlation(\"&$B$3&\",\"&C$2&\",Period:=\"&$B$1&\",InputChoice1::=Close,InputChoice2::=Close)\", \"FG\", \"\", \"Close\",$B$2,A40, \"all\",\"\", \"\",\"True\",\"T\")/100","v":0.73423140869999992},null,-0.27999999999999936,0,{"$error":"#N/A"},null,{"$f":"RTD(\"cqg.rtd\",,\"StudyData\", \"Correlation(\"&$B$3&\",\"&I$2&\",Period:=\"&$B$1&\",InputChoice1:=Close,InputChoice2::=Close)\", \"FG\", \"\", \"Close\",$B$2,A40, \"all\",\"\", \"\",\"True\",\"T\")/100","v":0.69767392659999994},null,-0.27999999999999936,0,{"$error":"#N/A"},null,{"$f":"RTD(\"cqg.rtd\",,\"StudyData\", \"Correlation(\"&$B$3&\",\"&O$2&\",Period:=\"&$B$1&\",InputChoice1:=Close,InputChoice2::=Close)\", \"FG\", \"\", \"Close\",$B$2,A40, \"all\",\"\", \"\",\"True\",\"T\")/100","v":0.60445942270000008},null,-0.27999999999999936,0,{"$error":"#N/A"},null,{"$f":"RTD(\"cqg.rtd\",,\"StudyData\", \"Correlation(\"&$B$3&\",\"&U$2&\",Period:=\"&$B$1&\",InputChoice1:=Close,InputChoice2::=Close)\", \"FG\", \"\", \"Close\",$B$2,A40, \"all\",\"\", \"\",\"True\",\"T\")/100","v":0.63853236499999999},null,-0.27999999999999936,0,{"$error":"#N/A"},null,{"$f":"RTD(\"cqg.rtd\",,\"StudyData\", \"Correlation(\"&$B$3&\",\"&AA$2&\",Period:=\"&$B$1&\",InputChoice1:=Close,InputChoice2::=Close)\", \"FG\", \"\", \"Close\",$B$2,A40, \"all\",\"\", \"\",\"True\",\"T\")/100","v":0.64991363699999993},null,-0.27999999999999936,0,{"$error":"#N/A"},null,{"$f":"RTD(\"cqg.rtd\",,\"StudyData\", \"Correlation(\"&$B$3&\",\"&AG$2&\",Period:=\"&$B$1&\",InputChoice1:=Close,InputChoice2::=Close)\", \"FG\", \"\", \"Close\",$B$2,A40, \"all\",\"\", \"\",\"True\",\"T\")/100","v":0.40826069939999998},null,-0.27999999999999936,0,{"$error":"#N/A"},null,{"$f":"RTD(\"cqg.rtd\",,\"StudyData\", \"Correlation(\"&$B$3&\",\"&AM$2&\",Period:=\"&$B$1&\",InputChoice1:=Close,InputChoice2::=Close)\", \"FG\", \"\", \"Close\",$B$2,A40, \"all\",\"\", \"\",\"True\",\"T\")/100","v":0.1213061231},null,-0.27999999999999936,2,{"$error":"#N/A"},null,{"$f":"RTD(\"cqg.rtd\",,\"StudyData\", \"Correlation(\"&$B$3&\",\"&AS$2&\",Period:=\"&$B$1&\",InputChoice1:=Close,InputChoice2::=Close)\", \"FG\", \"\", \"Close\",$B$2,A40, \"all\",\"\", \"\",\"True\",\"T\")/100","v":0.89132950870000005},null,-0.27999999999999936,0,{"$error":"#N/A"},null,{"$f":"RTD(\"cqg.rtd\",,\"StudyData\", \"Correlation(\"&$B$3&\",\"&AY$2&\",Period:=\"&$B$1&\",InputChoice1:=Close,InputChoice2::=Close)\", \"FG\", \"\", \"Close\",$B$2,A40, \"all\",\"\", \"\",\"True\",\"T\")/100","v":-2.9510339E-2},null,-0.27999999999999936,0,{"$error":"#N/A"},null,{"$f":"RTD(\"cqg.rtd\",,\"StudyData\", \"Correlation(\"&$B$3&\",\"&BE$2&\",Period:=\"&$B$1&\",InputChoice1:=Close,InputChoice2::=Close)\", \"FG\", \"\", \"Close\",$B$2,A40, \"all\",\"\", \"\",\"True\",\"T\")/100","v":-0.41383713839999997},null,-0.27999999999999936,0,{"$error":"#N/A"}]
[-37,null,{"$f":"RTD(\"cqg.rtd\",,\"StudyData\", \"Correlation(\"&$B$3&\",\"&C$2&\",Period:=\"&$B$1&\",InputChoice1::=Close,InputChoice2::=Close)\", \"FG\", \"\", \"Close\",$B$2,A41, \"all\",\"\", \"\",\"True\",\"T\")/100","v":0.82411008949999998},null,-0.25999999999999934,0,{"$error":"#N/A"},null,{"$f":"RTD(\"cqg.rtd\",,\"StudyData\", \"Correlation(\"&$B$3&\",\"&I$2&\",Period:=\"&$B$1&\",InputChoice1:=Close,InputChoice2::=Close)\", \"FG\", \"\", \"Close\",$B$2,A41, \"all\",\"\", \"\",\"True\",\"T\")/100","v":0.89229676940000002},null,-0.25999999999999934,0,{"$error":"#N/A"},null,{"$f":"RTD(\"cqg.rtd\",,\"StudyData\", \"Correlation(\"&$B$3&\",\"&O$2&\",Period:=\"&$B$1&\",InputChoice1:=Close,InputChoice2::=Close)\", \"FG\", \"\", \"Close\",$B$2,A41, \"all\",\"\", \"\",\"True\",\"T\")/100","v":0.51670840179999999},null,-0.25999999999999934,0,{"$error":"#N/A"},null,{"$f":"RTD(\"cqg.rtd\",,\"StudyData\", \"Correlation(\"&$B$3&\",\"&U$2&\",Period:=\"&$B$1&\",InputChoice1:=Close,InputChoice2::=Close)\", \"FG\", \"\", \"Close\",$B$2,A41, \"all\",\"\", \"\",\"True\",\"T\")/100","v":0.84901567249999998},null,-0.25999999999999934,0,{"$error":"#N/A"},null,{"$f":"RTD(\"cqg.rtd\",,\"StudyData\", \"Correlation(\"&$B$3&\",\"&AA$2&\",Period:=\"&$B$1&\",InputChoice1:=Close,InputChoice2::=Close)\", \"FG\", \"\", \"Close\",$B$2,A41, \"all\",\"\", \"\",\"True\",\"T\")/100","v":0.57752478539999996},null,-0.25999999999999934,0,{"$error":"#N/A"},null,{"$f":"RTD(\"cqg.rtd\",,\"StudyData\", \"Correlation(\"&$B$3&\",\"&AG$2&\",Period:=\"&$B$1&\",InputChoice1:=Close,InputChoice2::=Close)\", \"FG\", \"\", \"Close\",$B$2,A41, \"all\",\"\", \"\",\"True\",\"T\")/100","v":0.3757112936},null,-0.25999999999999934,0,{"$error":"#N/A"},null,{"$f":"RTD(\"cqg.rtd\",,\"StudyData\", \"Correlation(\"&$B$3&\",\"&AM$2&\",Period:=\"&$B$1&\",InputChoice1:=Close,InputChoice2::=Close)\", \"FG\", \"\", \"Close\",$B$2,A41, \"all\",\"\", \"\",\"True\",\"T\")/100","v":0.26074257439999998},null,-0.25999999999999934,0,{"$error":"#N/A"},null,{"$f":"RTD(\"cqg.rtd\",,\"StudyData\", \"Correlation(\"&$B$3&\",\"&AS$2&\",Period:=\"&$B$1&\",InputChoice1:=Close,InputChoice2::=Close)\", \"FG\", \"\", \"Close\",$B$2,A41, \"all\",\"\", \"\",\"True\",\"T\")/100","v":0.85326067719999998},null,-0.25999999999999934,0,{"$error":"#N/A"},null,{"$f":"RTD(\"cqg.rtd\",,\"StudyData\", \"Correlation(\"&$B$3&\",\"&AY$2&\",Period:=\"&$B$1&\",InputChoice1:=Close,InputChoice2::=Close)\", \"FG\", \"\", \"Close\",$B$2,A41, \"all\",\"\", \"\",\"True\",\"T\")/100","v":-0.41438727290000005},null,-0.25999999999999934,0,{"$error":"#N/A"},null,{"$f":"RTD(\"cqg.rtd\",,\"StudyData\", \"Correlation(\"&$B$3&\",\"&BE$2&\",Period:=\"&$B$1&\",InputChoice1:=Close,InputChoice2::=Close)\", \"FG\", \"\", \"Close\",$B$2,A41, \"all\",\"\", \"\",\"True\",\"T\")/100","v":-0.43021164229999997},null,-0.25999999999999934,0,{"$error":"#N/A"}]
[-38,null,{"$f":"RTD(\"cqg.rtd\",,\"StudyData\", \"Correlation(\"&$B$3&\",\"&C$2&\",Period:=\"&$B$1&\",InputChoice1::=Close,InputChoice2::=Close)\", \"FG\", \"\", \"Close\",$B$2,A42, \"all\",\"\", \"\",\"True\",\"T\")/100","v":0.72004096669999995},null,-0.23999999999999935,1,{"$error":"#N/A"},null,{"$f":"RTD(\"cqg.rtd\",,\"StudyData\", \"Correlation(\"&$B$3&\",\"&I$2&\",Period:=\"&$B$1&\",InputChoice1:=Close,InputChoice2::=Close)\", \"FG\", \"\", \"Close\",$B$2,A42, \"all\",\"\", \"\",\"True\",\"T\")/100","v":0.8802192097},null,-0.23999999999999935,2,{"$error":"#N/A"},null,{"$f":"RTD(\"cqg.rtd\",,\"StudyData\", \"Correlation(\"&$B$3&\",\"&O$2&\",Period:=\"&$B$1&\",InputChoice1:=Close,InputChoice2::=Close)\", \"FG\", \"\", \"Close\",$B$2,A42, \"all\",\"\", \"\",\"True\",\"T\")/100","v":0.38546926929999997},null,-0.23999999999999935,0,{"$error":"#N/A"},null,{"$f":"RTD(\"cqg.rtd\",,\"StudyData\", \"Correlation(\"&$B$3&\",\"&U$2&\",Period:=\"&$B$1&\",InputChoice1:=Close,InputChoice2::=Close)\", \"FG\", \"\", \"Close\",$B$2,A42, \"all\",\"\", \"\",\"True\",\"T\")/100","v":0.87774373299999997},null,-0.23999999999999935,0,{"$error":"#N/A"},null,{"$f":"RTD(\"cqg.rtd\",,\"StudyData\", \"Correlation(\"&$B$3&\",\"&AA$2&\",Period:=\"&$B$1&\",InputChoice1:=Close,InputChoice2::=Close)\", \"FG\", \"\", \"Close\",$B$2,A42, \"all\",\"\", \"\",\"True\",\"T\")/100","v":0.38014455329999997},null,-0.23999999999999935,1,{"$error":"#N/A"},null,{"$f":"RTD(\"cqg.rtd\",,\"StudyData\", \"Correlation(\"&$B$3&\",\"&AG$2&\",Period:=\"&$B$1&\",InputChoice1:=Close,InputChoice2::=Close)\", \"FG\", \"\", \"Close\",$B$2,A42, \"all\",\"\", \"\",\"True\",\"T\")/100","v":0.23583744880000002},null,-0.23999999999999935,2,{"$error":"#N/A"},null,{"$f":"RTD(\"cqg.rtd\",,\"StudyData\", \"Correlation(\"&$B$3&\",\"&AM$2&\",Period:=\"&$B$1&\",InputChoice1:=Close,InputChoice2::=Close)\", \"FG\", \"\", \"Close\",$B$2,A42, \"all\",\"\", \"\",\"True\",\"T\")/100","v":0.29595346389999999},null,-0.23999999999999935,1,{"$error":"#N/A"},null,{"$f":"RTD(\"cqg.rtd\",,\"StudyData\", \"Correlation(\"&$B$3&\",\"&AS$2&\",Period:=\"&$B$1&\",InputChoice1:=Close,InputChoice2::=Close)\", \"FG\", \"\", \"Close\",$B$2,A42, \"all\",\"\", \"\",\"True\",\"T\")/100","v":0.76737472650000005},null,-0.23999999999999935,0,{"$error":"#N/A"},null,{"$f":"RTD(\"cqg.rtd\",,\"StudyData\", \"Correlation(\"&$B$3&\",\"&AY$2&\",Period:=\"&$B$1&\",InputChoice1:=Close,InputChoice2::=Close)\", \"FG\", \"\", \"Close\",$B$2,A42, \"all\",\"\", \"\",\"True\",\"T\")/100","v":-0.73650886739999999},null,-0.23999999999999935,0,{"$error":"#N/A"},null,{"$f":"RTD(\"cqg.rtd\",,\"StudyData\", \"Correlation(\"&$B$3&\",\"&BE$2&\",Period:=\"&$B$1&\",InputChoice1:=Close,InputChoice2::=Close)\", \"FG\", \"\", \"Close\",$B$2,A42, \"all\",\"\", \"\",\"True\",\"T\")/100","v":-0.42815696479999998},null,-0.23999999999999935,1,{"$error":"#N/A"}]
[-39,null,{"$f":"RTD(\"cqg.rtd\",,\"StudyData\", \"Correlation(\"&$B$3&\",\"&C$2&\",Period:=\"&$B$1&\",InputChoice1::=Close,InputChoice2::=Close)\", \"FG\", \"\", \"Close\",$B$2,A43, \"all\",\"\", \"\",\"True\",\"T\")/100","v":0.64750399259999991},null,-0.21999999999999936,0,{"$error":"#N/A"},null,{"$f":"RTD(\"cqg.rtd\",,\"StudyData\", \"Correlation(\"&$B$3&\",\"&I$2&\",Period:=\"&$B$1&\",InputChoice1:=Close,InputChoice2::=Close)\", \"FG\", \"\", \"Close\",$B$2,A43, \"all\",\"\", \"\",\"True\",\"T\")/100","v":0.87187229450000003},null,-0.21999999999999936,0,{"$error":"#N/A"},null,{"$f":"RTD(\"cqg.rtd\",,\"StudyData\", \"Correlation(\"&$B$3&\",\"&O$2&\",Period:=\"&$B$1&\",InputChoice1:=Close,InputChoice2::=Close)\", \"FG\", \"\", \"Close\",$B$2,A43, \"all\",\"\", \"\",\"True\",\"T\")/100","v":0.72836303060000007},null,-0.21999999999999936,0,{"$error":"#N/A"},null,{"$f":"RTD(\"cqg.rtd\",,\"StudyData\", \"Correlation(\"&$B$3&\",\"&U$2&\",Period:=\"&$B$1&\",InputChoice1:=Close,InputChoice2::=Close)\", \"FG\", \"\", \"Close\",$B$2,A43, \"all\",\"\", \"\",\"True\",\"T\")/100","v":0.83531215169999995},null,-0.21999999999999936,0,{"$error":"#N/A"},null,{"$f":"RTD(\"cqg.rtd\",,\"StudyData\", \"Correlation(\"&$B$3&\",\"&AA$2&\",Period:=\"&$B$1&\",InputChoice1:=Close,InputChoice2::=Close)\", \"FG\", \"\", \"Close\",$B$2,A43, \"all\",\"\", \"\",\"True\",\"T\")/100","v":0.39489093689999999},null,-0.21999999999999936,0,{"$error":"#N/A"},null,{"$f":"RTD(\"cqg.rtd\",,\"StudyData\", \"Correlation(\"&$B$3&\",\"&AG$2&\",Period:=\"&$B$1&\",InputChoice1:=Close,InputChoice2::=Close)\", \"FG\", \"\", \"Close\",$B$2,A43, \"all\",\"\", \"\",\"True\",\"T\")/100","v":0.30223758769999998},null,-0.21999999999999936,1,{"$error":"#N/A"},null,{"$f":"RTD(\"cqg.rtd\",,\"StudyData\", \"Correlation(\"&$B$3&\",\"&AM$2&\",Period:=\"&$B$1&\",InputChoice1:=Close,InputChoice2::=Close)\", \"FG\", \"\", \"Close\",$B$2,A43, \"all\",\"\", \"\",\"True\",\"T\")/100","v":0.40985084430000002},null,-0.21999999999999936,0,{"$error":"#N/A"},null,{"$f":"RTD(\"cqg.rtd\",,\"StudyData\", \"Correlation(\"&$B$3&\",\"&AS$2&\",Period:=\"&$B$1&\",InputChoice1:=Close,InputChoice2::=Close)\", \"FG\", \"\", \"Close\",$B$2,A43, \"all\",\"\", \"\",\"True\",\"T\")/100","v":0.72739937430000001},null,-0.21999999999999936,0,{"$error":"#N/A"},null,{"$f":"RTD(\"cqg.rtd\",,\"StudyData\", \"Correlation(\"&$B$3&\",\"&AY$2&\",Period:=\"&$B$1&\",InputChoice1:=Close,InputChoice2::=Close)\", \"FG\", \"\", \"Close\",$B$2,A43, \"all\",\"\", \"\",\"True\",\"T\")/100","v":-0.8617603800000001},null,-0.21999999999999936,1,{"$error":"#N/A"},null,{"$f":"RTD(\"cqg.rtd\",,\"StudyData\", \"Correlation(\"&$B$3&\",\"&BE$2&\",Period:=\"&$B$1&\",InputChoice1:=Close,InputChoice2::=Close)\", \"FG\", \"\", \"Close\",$B$2,A43, \"all\",\"\", \"\",\"True\",\"T\")/100","v":-2.2785547199999999E-2},null,-0.21999999999999936,0,{"$error":"#N/A"}]
[-40,null,{"$f":"RTD(\"cqg.rtd\",,\"StudyData\", \"Correlation(\"&$B$3&\",\"&C$2&\",Period:=\"&$B$1&\",InputChoice1::=Close,InputChoice2::=Close)\", \"FG\", \"\", \"Close\",$B$2,A44, \"all\",\"\", \"\",\"True\",\"T\")/100","v":0.75105101520000006},null,-0.19999999999999937,0,{"$error":"#N/A"},null,{"$f":"RTD(\"cqg.rtd\",,\"StudyData\", \"Correlation(\"&$B$3&\",\"&I$2&\",Period:=\"&$B$1&\",InputChoice1:=Close,InputChoice2::=Close)\", \"FG\", \"\", \"Close\",$B$2,A44, \"all\",\"\", \"\",\"True\",\"T\")/100","v":0.90442019730000001},null,-0.19999999999999937,0,{"$error":"#N/A"},null,{"$f":"RTD(\"cqg.rtd\",,\"StudyData\", \"Correlation(\"&$B$3&\",\"&O$2&\",Period:=\"&$B$1&\",InputChoice1:=Close,InputChoice2::=Close)\", \"FG\", \"\", \"Close\",$B$2,A44, \"all\",\"\", \"\",\"True\",\"T\")/100","v":0.7830781014},null,-0.19999999999999937,0,{"$error":"#N/A"},null,{"$f":"RTD(\"cqg.rtd\",,\"StudyData\", \"Correlation(\"&$B$3&\",\"&U$2&\",Period:=\"&$B$1&\",InputChoice1:=Close,InputChoice2::=Close)\", \"FG\", \"\", \"Close\",$B$2,A44, \"all\",\"\", \"\",\"True\",\"T\")/100","v":0.87758375519999998},null,-0.19999999999999937,0,{"$error":"#N/A"},null,{"$f":"RTD(\"cqg.rtd\",,\"StudyData\", \"Correlation(\"&$B$3&\",\"&AA$2&\",Period:=\"&$B$1&\",InputChoice1:=Close,InputChoice2::=Close)\", \"FG\", \"\", \"Close\",$B$2,A44, \"all\",\"\", \"\",\"True\",\"T\")/100","v":0.58456533690000001},null,-0.19999999999999937,1,{"$error":"#N/A"},null,{"$f":"RTD(\"cqg.rtd\",,\"StudyData\", \"Correlation(\"&$B$3&\",\"&AG$2&\",Period:=\"&$B$1&\",InputChoice1:=Close,InputChoice2::=Close)\", \"FG\", \"\", \"Close\",$B$2,A44, \"all\",\"\", \"\",\"True\",\"T\")/100","v":0.49598474109999996},null,-0.19999999999999937,0,{"$error":"#N/A"},null,{"$f":"RTD(\"cqg.rtd\",,\"StudyData\", \"Correlation(\"&$B$3&\",\"&AM$2&\",Period:=\"&$B$1&\",InputChoice1:=Close,InputChoice2::=Close)\", \"FG\", \"\", \"Close\",$B$2,A44, \"all\",\"\", \"\",\"True\",\"T\")/100","v":0.50652056999999995},null,-0.19999999999999937,0,{"$error":"#N/A"},null,{"$f":"RTD(\"cqg.rtd\",,\"StudyData\", \"Correlation(\"&$B$3&\",\"&AS$2&\",Period:=\"&$B$1&\",InputChoice1:=Close,InputChoice2::=Close)\", \"FG\", \"\", \"Close\",$B$2,A44, \"all\",\"\", \"\",\"True\",\"T\")/100","v":0.57477157209999996},null,-0.19999999999999937,0,{"$error":"#N/A"},null,{"$f":"RTD(\"cqg.rtd\",,\"StudyData\", \"Correlation(\"&$B$3&\",\"&AY$2&\",Period:=\"&$B$1&\",InputChoice1:=Close,InputChoice2::=Close)\", \"FG\", \"\", \"Close\",$B$2,A44, \"all\",\"\", \"\",\"True\",\"T\")/100","v":-0.86239487980000007},null,-0.19999999999999937,0,{"$error":"#N/A"},null,{"$f":"RTD(\"cqg.rtd\",,\"StudyData\", \"Correlation(\"&$B$3&\",\"&BE$2&\",Period:=\"&$B$1&\",InputChoice1:=Close,InputChoice2::=Close)\", \"FG\", \"\", \"Close\",$B$2,A44, \"all\",\"\", \"\",\"True\",\"T\")/100","v":0.24933846060000001},null,-0.19999999999999937,3,{"$error":"#N/A"}]
[-41,null,{"$f":"RTD(\"cqg.rtd\",,\"StudyData\", \"Correlation(\"&$B$3&\",\"&C$2&\",Period:=\"&$B$1&\",InputChoice1::=Close,InputChoice2::=Close)\", \"FG\", \"\", \"Close\",$B$2,A45, \"all\",\"\", \"\",\"True\",\"T\")/100","v":0.76487160829999989},null,-0.17999999999999938,1,{"$error":"#N/A"},null,{"$f":"RTD(\"cqg.rtd\",,\"StudyData\", \"Correlation(\"&$B$3&\",\"&I$2&\",Period:=\"&$B$1&\",InputChoice1:=Close,InputChoice2::=Close)\", \"FG\", \"\", \"Close\",$B$2,A45, \"all\",\"\", \"\",\"True\",\"T\")/100","v":0.90594768390000002},null,-0.17999999999999938,0,{"$error":"#N/A"},null,{"$f":"RTD(\"cqg.rtd\",,\"StudyData\", \"Correlation(\"&$B$3&\",\"&O$2&\",Period:=\"&$B$1&\",InputChoice1:=Close,InputChoice2::=Close)\", \"FG\", \"\", \"Close\",$B$2,A45, \"all\",\"\", \"\",\"True\",\"T\")/100","v":0.92895472690000003},null,-0.17999999999999938,0,{"$error":"#N/A"},null,{"$f":"RTD(\"cqg.rtd\",,\"StudyData\", \"Correlation(\"&$B$3&\",\"&U$2&\",Period:=\"&$B$1&\",InputChoice1:=Close,InputChoice2::=Close)\", \"FG\", \"\", \"Close\",$B$2,A45, \"all\",\"\", \"\",\"True\",\"T\")/100","v":0.87821884080000001},null,-0.17999999999999938,2,{"$error":"#N/A"},null,{"$f":"RTD(\"cqg.rtd\",,\"StudyData\", \"Correlation(\"&$B$3&\",\"&AA$2&\",Period:=\"&$B$1&\",InputChoice1:=Close,InputChoice2::=Close)\", \"FG\", \"\", \"Close\",$B$2,A45, \"all\",\"\", \"\",\"True\",\"T\")/100","v":0.69534448569999996},null,-0.17999999999999938,0,{"$error":"#N/A"},null,{"$f":"RTD(\"cqg.rtd\",,\"StudyData\", \"Correlation(\"&$B$3&\",\"&AG$2&\",Period:=\"&$B$1&\",InputChoice1:=Close,InputChoice2::=Close)\", \"FG\", \"\", \"Close\",$B$2,A45, \"all\",\"\", \"\",\"True\",\"T\")/100","v":0.62550260329999996},null,-0.17999999999999938,0,{"$error":"#N/A"},null,{"$f":"RTD(\"cqg.rtd\",,\"StudyData\", \"Correlation(\"&$B$3&\",\"&AM$2&\",Period:=\"&$B$1&\",InputChoice1:=Close,InputChoice2::=Close)\", \"FG\", \"\", \"Close\",$B$2,A45, \"all\",\"\", \"\",\"True\",\"T\")/100","v":0.46200652200000003},null,-0.17999999999999938,0,{"$error":"#N/A"},null,{"$f":"RTD(\"cqg.rtd\",,\"StudyData\", \"Correlation(\"&$B$3&\",\"&AS$2&\",Period:=\"&$B$1&\",InputChoice1:=Close,InputChoice2::=Close)\", \"FG\", \"\", \"Close\",$B$2,A45, \"all\",\"\", \"\",\"True\",\"T\")/100","v":0.26352354},null,-0.17999999999999938,1,{"$error":"#N/A"},null,{"$f":"RTD(\"cqg.rtd\",,\"StudyData\", \"Correlation(\"&$B$3&\",\"&AY$2&\",Period:=\"&$B$1&\",InputChoice1:=Close,InputChoice2::=Close)\", \"FG\", \"\", \"Close\",$B$2,A45, \"all\",\"\", \"\",\"True\",\"T\")/100","v":-0.91836696880000002},null,-0.17999999999999938,0,{"$error":"#N/A"},null,{"$f":"RTD(\"cqg.rtd\",,\"StudyData\", \"Correlation(\"&$B$3&\",\"&BE$2&\",Period:=\"&$B$1&\",InputChoice1:=Close,InputChoice2::=Close)\", \"FG\", \"\", \"Close\",$B$2,A45, \"all\",\"\", \"\",\"True\",\"T\")/100","v":0.52647002949999999},null,-0.17999999999999938,0,{"$error":"#N/A"}]
[-42,null,{"$f":"RTD(\"cqg.rtd\",,\"StudyData\", \"Correlation(\"&$B$3&\",\"&C$2&\",Period:=\"&$B$1&\",InputChoice1::=Close,InputChoice2::=Close)\", \"FG\", \"\", \"Close\",$B$2,A46, \"all\",\"\", \"\",\"True\",\"T\")/100","v":0.87378052650000004},null,-0.15999999999999939,1,{"$error":"#N/A"},null,{"$f":"RTD(\"cqg.rtd\",,\"StudyData\", \"Correlation(\"&$B$3&\",\"&I$2&\",Period:=\"&$B$1&\",InputChoice1:=Close,InputChoice2::=Close)\", \"FG\", \"\", \"Close\",$B$2,A46, \"all\",\"\", \"\",\"True\",\"T\")/100","v":0.85824120250000002},null,-0.15999999999999939,0,{"$error":"#N/A"},null,{"$f":"RTD(\"cqg.rtd\",,\"StudyData\", \"Correlation(\"&$B$3&\",\"&O$2&\",Period:=\"&$B$1&\",InputChoice1:=Close,InputChoice2::=Close)\", \"FG\", \"\", \"Close\",$B$2,A46, \"all\",\"\", \"\",\"True\",\"T\")/100","v":0.895726205},null,-0.15999999999999939,0,{"$error":"#N/A"},null,{"$f":"RTD(\"cqg.rtd\",,\"StudyData\", \"Correlation(\"&$B$3&\",\"&U$2&\",Period:=\"&$B$1&\",InputChoice1:=Close,InputChoice2::=Close)\", \"FG\", \"\", \"Close\",$B$2,A46, \"all\",\"\", \"\",\"True\",\"T\")/100","v":0.92455754229999998},null,-0.15999999999999939,0,{"$error":"#N/A"},null,{"$f":"RTD(\"cqg.rtd\",,\"StudyData\", \"Correlation(\"&$B$3&\",\"&AA$2&\",Period:=\"&$B$1&\",InputChoice1:=Close,InputChoice2::=Close)\", \"FG\", \"\", \"Close\",$B$2,A46, \"all\",\"\", \"\",\"True\",\"T\")/100","v":0.71871611939999991},null,-0.15999999999999939,1,{"$error":"#N/A"},null,{"$f":"RTD(\"cqg.rtd\",,\"StudyData\", \"Correlation(\"&$B$3&\",\"&AG$2&\",Period:=\"&$B$1&\",InputChoice1:=Close,InputChoice2::=Close)\", \"FG\", \"\", \"Close\",$B$2,A46, \"all\",\"\", \"\",\"True\",\"T\")/100","v":0.68123088050000002},null,-0.15999999999999939,1,{"$error":"#N/A"},null,{"$f":"RTD(\"cqg.rtd\",,\"StudyData\", \"Correlation(\"&$B$3&\",\"&AM$2&\",Period:=\"&$B$1&\",InputChoice1:=Close,InputChoice2::=Close)\", \"FG\", \"\", \"Close\",$B$2,A46, \"all\",\"\", \"\",\"True\",\"T\")/100","v":0.43408668630000002},null,-0.15999999999999939,0,{"$error":"#N/A"},null,{"$f":"RTD(\"cqg.rtd\",,\"StudyData\", \"Correlation(\"&$B$3&\",\"&AS$2&\",Period:=\"&$B$1&\",InputChoice1:=Close,InputChoice2::=Close)\", \"FG\", \"\", \"Close\",$B$2,A46, \"all\",\"\", \"\",\"True\",\"T\")/100","v":-0.35751648269999997},null,-0.15999999999999939,0,{"$error":"#N/A"},null,{"$f":"RTD(\"cqg.rtd\",,\"StudyData\", \"Correlation(\"&$B$3&\",\"&AY$2&\",Period:=\"&$B$1&\",InputChoice1:=Close,InputChoice2::=Close)\", \"FG\", \"\", \"Close\",$B$2,A46, \"all\",\"\", \"\",\"True\",\"T\")/100","v":-0.91901032839999997},null,-0.15999999999999939,0,{"$error":"#N/A"},null,{"$f":"RTD(\"cqg.rtd\",,\"StudyData\", \"Correlation(\"&$B$3&\",\"&BE$2&\",Period:=\"&$B$1&\",InputChoice1:=Close,InputChoice2::=Close)\", \"FG\", \"\", \"Close\",$B$2,A46, \"all\",\"\", \"\",\"True\",\"T\")/100","v":0.70566424859999999},null,-0.15999999999999939,0,{"$error":"#N/A"}]
[-43,null,{"$f":"RTD(\"cqg.rtd\",,\"StudyData\", \"Correlation(\"&$B$3&\",\"&C$2&\",Period:=\"&$B$1&\",InputChoice1::=Close,InputChoice2::=Close)\", \"FG\", \"\", \"Close\",$B$2,A47, \"all\",\"\", \"\",\"True\",\"T\")/100","v":0.86876662190000009},null,-0.1399999999999994,0,{"$error":"#N/A"},null,{"$f":"RTD(\"cqg.rtd\",,\"StudyData\", \"Correlation(\"&$B$3&\",\"&I$2&\",Period:=\"&$B$1&\",InputChoice1:=Close,InputChoice2::=Close)\", \"FG\", \"\", \"Close\",$B$2,A47, \"all\",\"\", \"\",\"True\",\"T\")/100","v":0.85084846479999998},null,-0.1399999999999994,0,{"$error":"#N/A"},null,{"$f":"RTD(\"cqg.rtd\",,\"StudyData\", \"Correlation(\"&$B$3&\",\"&O$2&\",Period:=\"&$B$1&\",InputChoice1:=Close,InputChoice2::=Close)\", \"FG\", \"\", \"Close\",$B$2,A47, \"all\",\"\", \"\",\"True\",\"T\")/100","v":0.93036428079999989},null,-0.1399999999999994,0,{"$error":"#N/A"},null,{"$f":"RTD(\"cqg.rtd\",,\"StudyData\", \"Correlation(\"&$B$3&\",\"&U$2&\",Period:=\"&$B$1&\",InputChoice1:=Close,InputChoice2::=Close)\", \"FG\", \"\", \"Close\",$B$2,A47, \"all\",\"\", \"\",\"True\",\"T\")/100","v":0.92177507599999997},null,-0.1399999999999994,0,{"$error":"#N/A"},null,{"$f":"RTD(\"cqg.rtd\",,\"StudyData\", \"Correlation(\"&$B$3&\",\"&AA$2&\",Period:=\"&$B$1&\",InputChoice1:=Close,InputChoice2::=Close)\", \"FG\", \"\", \"Close\",$B$2,A47, \"all\",\"\", \"\",\"True\",\"T\")/100","v":0.75370075119999991},null,-0.1399999999999994,0,{"$error":"#N/A"},null,{"$f":"RTD(\"cqg.rtd\",,\"StudyData\", \"Correlation(\"&$B$3&\",\"&AG$2&\",Period:=\"&$B$1&\",InputChoice1:=Close,InputChoice2::=Close)\", \"FG\", \"\", \"Close\",$B$2,A47, \"all\",\"\", \"\",\"True\",\"T\")/100","v":0.70682764879999993},null,-0.1399999999999994,0,{"$error":"#N/A"},null,{"$f":"RTD(\"cqg.rtd\",,\"StudyData\", \"Correlation(\"&$B$3&\",\"&AM$2&\",Period:=\"&$B$1&\",InputChoice1:=Close,InputChoice2::=Close)\", \"FG\", \"\", \"Close\",$B$2,A47, \"all\",\"\", \"\",\"True\",\"T\")/100","v":0.43563605420000001},null,-0.1399999999999994,0,{"$error":"#N/A"},null,{"$f":"RTD(\"cqg.rtd\",,\"StudyData\", \"Correlation(\"&$B$3&\",\"&AS$2&\",Period:=\"&$B$1&\",InputChoice1:=Close,InputChoice2::=Close)\", \"FG\", \"\", \"Close\",$B$2,A47, \"all\",\"\", \"\",\"True\",\"T\")/100","v":-0.5909163744},null,-0.1399999999999994,0,{"$error":"#N/A"},null,{"$f":"RTD(\"cqg.rtd\",,\"StudyData\", \"Correlation(\"&$B$3&\",\"&AY$2&\",Period:=\"&$B$1&\",InputChoice1:=Close,InputChoice2::=Close)\", \"FG\", \"\", \"Close\",$B$2,A47, \"all\",\"\", \"\",\"True\",\"T\")/100","v":-0.89558601820000006},null,-0.1399999999999994,0,{"$error":"#N/A"},null,{"$f":"RTD(\"cqg.rtd\",,\"StudyData\", \"Correlation(\"&$B$3&\",\"&BE$2&\",Period:=\"&$B$1&\",InputChoice1:=Close,InputChoice2::=Close)\", \"FG\", \"\", \"Close\",$B$2,A47, \"all\",\"\", \"\",\"True\",\"T\")/100","v":0.72751142299999993},null,-0.1399999999999994,1,{"$error":"#N/A"}]
[-44,null,{"$f":"RTD(\"cqg.rtd\",,\"StudyData\", \"Correlation(\"&$B$3&\",\"&C$2&\",Period:=\"&$B$1&\",InputChoice1::=Close,InputChoice2::=Close)\", \"FG\", \"\", \"Close\",$B$2,A48, \"all\",\"\", \"\",\"True\",\"T\")/100","v":0.83599022690000002},null,-0.1199999999999994,1,{"$error":"#N/A"},null,{"$f":"RTD(\"cqg.rtd\",,\"StudyData\", \"Correlation(\"&$B$3&\",\"&I$2&\",Period:=\"&$B$1&\",InputChoice1:=Close,InputChoice2::=Close)\", \"FG\", \"\", \"Close\",$B$2,A48, \"all\",\"\", \"\",\"True\",\"T\")/100","v":0.84126448609999993},null,-0.1199999999999994,0,{"$error":"#N/A"},null,{"$f":"RTD(\"cqg.rtd\",,\"StudyData\", \"Correlation(\"&$B$3&\",\"&O$2&\",Period:=\"&$B$1&\",InputChoice1:=Close,InputChoice2::=Close)\", \"FG\", \"\", \"Close\",$B$2,A48, \"all\",\"\", \"\",\"True\",\"T\")/100","v":0.9254845047000001},null,-0.1199999999999994,1,{"$error":"#N/A"},null,{"$f":"RTD(\"cqg.rtd\",,\"StudyData\", \"Correlation(\"&$B$3&\",\"&U$2&\",Period:=\"&$B$1&\",InputChoice1:=Close,InputChoice2::=Close)\", \"FG\", \"\", \"Close\",$B$2,A48, \"all\",\"\", \"\",\"True\",\"T\")/100","v":0.93909117570000011},null,-0.1199999999999994,0,{"$error":"#N/A"},null,{"$f":"RTD(\"cqg.rtd\",,\"StudyData\", \"Correlation(\"&$B$3&\",\"&AA$2&\",Period:=\"&$B$1&\",InputChoice1:=Close,InputChoice2::=Close)\", \"FG\", \"\", \"Close\",$B$2,A48, \"all\",\"\", \"\",\"True\",\"T\")/100","v":0.82982048289999999},null,-0.1199999999999994,0,{"$error":"#N/A"},null,{"$f":"RTD(\"cqg.rtd\",,\"StudyData\", \"Correlation(\"&$B$3&\",\"&AG$2&\",Period:=\"&$B$1&\",InputChoice1:=Close,InputChoice2::=Close)\", \"FG\", \"\", \"Close\",$B$2,A48, \"all\",\"\", \"\",\"True\",\"T\")/100","v":0.75042904870000005},null,-0.1199999999999994,0,{"$error":"#N/A"},null,{"$f":"RTD(\"cqg.rtd\",,\"StudyData\", \"Correlation(\"&$B$3&\",\"&AM$2&\",Period:=\"&$B$1&\",InputChoice1:=Close,InputChoice2::=Close)\", \"FG\", \"\", \"Close\",$B$2,A48, \"all\",\"\", \"\",\"True\",\"T\")/100","v":0.54587836789999999},null,-0.1199999999999994,3,{"$error":"#N/A"},null,{"$f":"RTD(\"cqg.rtd\",,\"StudyData\", \"Correlation(\"&$B$3&\",\"&AS$2&\",Period:=\"&$B$1&\",InputChoice1:=Close,InputChoice2::=Close)\", \"FG\", \"\", \"Close\",$B$2,A48, \"all\",\"\", \"\",\"True\",\"T\")/100","v":-0.75701989100000011},null,-0.1199999999999994,1,{"$error":"#N/A"},null,{"$f":"RTD(\"cqg.rtd\",,\"StudyData\", \"Correlation(\"&$B$3&\",\"&AY$2&\",Period:=\"&$B$1&\",InputChoice1:=Close,InputChoice2::=Close)\", \"FG\", \"\", \"Close\",$B$2,A48, \"all\",\"\", \"\",\"True\",\"T\")/100","v":-0.90711952870000001},null,-0.1199999999999994,1,{"$error":"#N/A"},null,{"$f":"RTD(\"cqg.rtd\",,\"StudyData\", \"Correlation(\"&$B$3&\",\"&BE$2&\",Period:=\"&$B$1&\",InputChoice1:=Close,InputChoice2::=Close)\", \"FG\", \"\", \"Close\",$B$2,A48, \"all\",\"\", \"\",\"True\",\"T\")/100","v":0.67293638410000001},null,-0.1199999999999994,0,{"$error":"#N/A"}]
[-45,null,{"$f":"RTD(\"cqg.rtd\",,\"StudyData\", \"Correlation(\"&$B$3&\",\"&C$2&\",Period:=\"&$B$1&\",InputChoice1::=Close,InputChoice2::=Close)\", \"FG\", \"\", \"Close\",$B$2,A49, \"all\",\"\", \"\",\"True\",\"T\")/100","v":0.7820463017},null,-9.9999999999999395E-2,0,{"$error":"#N/A"},null,{"$f":"RTD(\"cqg.rtd\",,\"StudyData\", \"Correlation(\"&$B$3&\",\"&I$2&\",Period:=\"&$B$1&\",InputChoice1:=Close,InputChoice2::=Close)\", \"FG\", \"\", \"Close\",$B$2,A49, \"all\",\"\", \"\",\"True\",\"T\")/100","v":0.80993743240000005},null,-9.9999999999999395E-2,0,{"$error":"#N/A"},null,{"$f":"RTD(\"cqg.rtd\",,\"StudyData\", \"Correlation(\"&$B$3&\",\"&O$2&\",Period:=\"&$B$1&\",InputChoice1:=Close,InputChoice2::=Close)\", \"FG\", \"\", \"Close\",$B$2,A49, \"all\",\"\", \"\",\"True\",\"T\")/100","v":0.9221668932999999},null,-9.9999999999999395E-2,0,{"$error":"#N/A"},null,{"$f":"RTD(\"cqg.rtd\",,\"StudyData\", \"Correlation(\"&$B$3&\",\"&U$2&\",Period:=\"&$B$1&\",InputChoice1:=Close,InputChoice2::=Close)\", \"FG\", \"\", \"Close\",$B$2,A49, \"all\",\"\", \"\",\"True\",\"T\")/100","v":0.93278555209999992},null,-9.9999999999999395E-2,1,{"$error":"#N/A"},null,{"$f":"RTD(\"cqg.rtd\",,\"StudyData\", \"Correlation(\"&$B$3&\",\"&AA$2&\",Period:=\"&$B$1&\",InputChoice1:=Close,InputChoice2::=Close)\", \"FG\", \"\", \"Close\",$B$2,A49, \"all\",\"\", \"\",\"True\",\"T\")/100","v":0.86730732639999997},null,-9.9999999999999395E-2,0,{"$error":"#N/A"},null,{"$f":"RTD(\"cqg.rtd\",,\"StudyData\", \"Correlation(\"&$B$3&\",\"&AG$2&\",Period:=\"&$B$1&\",InputChoice1:=Close,InputChoice2::=Close)\", \"FG\", \"\", \"Close\",$B$2,A49, \"all\",\"\", \"\",\"True\",\"T\")/100","v":0.82542340820000004},null,-9.9999999999999395E-2,0,{"$error":"#N/A"},null,{"$f":"RTD(\"cqg.rtd\",,\"StudyData\", \"Correlation(\"&$B$3&\",\"&AM$2&\",Period:=\"&$B$1&\",InputChoice1:=Close,InputChoice2::=Close)\", \"FG\", \"\", \"Close\",$B$2,A49, \"all\",\"\", \"\",\"True\",\"T\")/100","v":0.70257730559999998},null,-9.9999999999999395E-2,2,{"$error":"#N/A"},null,{"$f":"RTD(\"cqg.rtd\",,\"StudyData\", \"Correlation(\"&$B$3&\",\"&AS$2&\",Period:=\"&$B$1&\",InputChoice1:=Close,InputChoice2::=Close)\", \"FG\", \"\", \"Close\",$B$2,A49, \"all\",\"\", \"\",\"True\",\"T\")/100","v":-0.8158627369},null,-9.9999999999999395E-2,0,{"$error":"#N/A"},null,{"$f":"RTD(\"cqg.rtd\",,\"StudyData\", \"Correlation(\"&$B$3&\",\"&AY$2&\",Period:=\"&$B$1&\",InputChoice1:=Close,InputChoice2::=Close)\", \"FG\", \"\", \"Close\",$B$2,A49, \"all\",\"\", \"\",\"True\",\"T\")/100","v":-0.88620103540000006},null,-9.9999999999999395E-2,0,{"$error":"#N/A"},null,{"$f":"RTD(\"cqg.rtd\",,\"StudyData\", \"Correlation(\"&$B$3&\",\"&BE$2&\",Period:=\"&$B$1&\",InputChoice1:=Close,InputChoice2::=Close)\", \"FG\", \"\", \"Close\",$B$2,A49, \"all\",\"\", \"\",\"True\",\"T\")/100","v":0.5919699987},null,-9.9999999999999395E-2,0,{"$error":"#N/A"}]
[-46,null,{"$f":"RTD(\"cqg.rtd\",,\"StudyData\", \"Correlation(\"&$B$3&\",\"&C$2&\",Period:=\"&$B$1&\",InputChoice1::=Close,InputChoice2::=Close)\", \"FG\", \"\", \"Close\",$B$2,A50, \"all\",\"\", \"\",\"True\",\"T\")/100","v":0.74298567939999993},null,-7.9999999999999391E-2,0,{"$error":"#N/A"},null,{"$f":"RTD(\"cqg.rtd\",,\"StudyData\", \"Correlation(\"&$B$3&\",\"&I$2&\",Period:=\"&$B$1&\",InputChoice1:=Close,InputChoice2::=Close)\", \"FG\", \"\", \"Close\",$B$2,A50, \"all\",\"\", \"\",\"True\",\"T\")/100","v":0.78727018169999996},null,-7.9999999999999391E-2,0,{"$error":"#N/A"},null,{"$f":"RTD(\"cqg.rtd\",,\"StudyData\", \"Correlation(\"&$B$3&\",\"&O$2&\",Period:=\"&$B$1&\",InputChoice1:=Close,InputChoice2::=Close)\", \"FG\", \"\", \"Close\",$B$2,A50, \"all\",\"\", \"\",\"True\",\"T\")/100","v":0.91699379829999994},null,-7.9999999999999391E-2,0,{"$error":"#N/A"},null,{"$f":"RTD(\"cqg.rtd\",,\"StudyData\", \"Correlation(\"&$B$3&\",\"&U$2&\",Period:=\"&$B$1&\",InputChoice1:=Close,InputChoice2::=Close)\", \"FG\", \"\", \"Close\",$B$2,A50, \"all\",\"\", \"\",\"True\",\"T\")/100","v":0.92819148900000004},null,-7.9999999999999391E-2,0,{"$error":"#N/A"},null,{"$f":"RTD(\"cqg.rtd\",,\"StudyData\", \"Correlation(\"&$B$3&\",\"&AA$2&\",Period:=\"&$B$1&\",InputChoice1:=Close,InputChoice2::=Close)\", \"FG\", \"\", \"Close\",$B$2,A50, \"all\",\"\", \"\",\"True\",\"T\")/100","v":0.88207067730000011},null,-7.9999999999999391E-2,1,{"$error":"#N/A"},null,{"$f":"RTD(\"cqg.rtd\",,\"StudyData\", \"Correlation(\"&$B$3&\",\"&AG$2&\",Period:=\"&$B$1&\",InputChoice1:=Close,InputChoice2::=Close)\", \"FG\", \"\", \"Close\",$B$2,A50, \"all\",\"\", \"\",\"True\",\"T\")/100","v":0.87083065999999998},null,-7.9999999999999391E-2,0,{"$error":"#N/A"},null,{"$f":"RTD(\"cqg.rtd\",,\"StudyData\", \"Correlation(\"&$B$3&\",\"&AM$2&\",Period:=\"&$B$1&\",InputChoice1:=Close,InputChoice2::=Close)\", \"FG\", \"\", \"Close\",$B$2,A50, \"all\",\"\", \"\",\"True\",\"T\")/100","v":0.652459558},null,-7.9999999999999391E-2,1,{"$error":"#N/A"},null,{"$f":"RTD(\"cqg.rtd\",,\"StudyData\", \"Correlation(\"&$B$3&\",\"&AS$2&\",Period:=\"&$B$1&\",InputChoice1:=Close,InputChoice2::=Close)\", \"FG\", \"\", \"Close\",$B$2,A50, \"all\",\"\", \"\",\"True\",\"T\")/100","v":-0.80883288419999999},null,-7.9999999999999391E-2,1,{"$error":"#N/A"},null,{"$f":"RTD(\"cqg.rtd\",,\"StudyData\", \"Correlation(\"&$B$3&\",\"&AY$2&\",Period:=\"&$B$1&\",InputChoice1:=Close,InputChoice2::=Close)\", \"FG\", \"\", \"Close\",$B$2,A50, \"all\",\"\", \"\",\"True\",\"T\")/100","v":-0.85976922700000002},null,-7.9999999999999391E-2,1,{"$error":"#N/A"},null,{"$f":"RTD(\"cqg.rtd\",,\"StudyData\", \"Correlation(\"&$B$3&\",\"&BE$2&\",Period:=\"&$B$1&\",InputChoice1:=Close,InputChoice2::=Close)\", \"FG\", \"\", \"Close\",$B$2,A50, \"all\",\"\", \"\",\"True\",\"T\")/100","v":0.47895033740000004},null,-7.9999999999999391E-2,0,{"$error":"#N/A"}]
[-47,null,{"$f":"RTD(\"cqg.rtd\",,\"StudyData\", \"Correlation(\"&$B$3&\",\"&C$2&\",Period:=\"&$B$1&\",InputChoice1::=Close,InputChoice2::=Close)\", \"FG\", \"\", \"Close\",$B$2,A51, \"all\",\"\", \"\",\"True\",\"T\")/100","v":0.6619317495999999},null,-5.9999999999999387E-2,0,{"$error":"#N/A"},null,{"$f":"RTD(\"cqg.rtd\",,\"StudyData\", \"Correlation(\"&$B$3&\",\"&I$2&\",Period:=\"&$B$1&\",InputChoice1:=Close,InputChoice2::=Close)\", \"FG\", \"\", \"Close\",$B$2,A51, \"all\",\"\", \"\",\"True\",\"T\")/100","v":0.73263398390000001},null,-5.9999999999999387E-2,1,{"$error":"#N/A"},null,{"$f":"RTD(\"cqg.rtd\",,\"StudyData\", \"Correlation(\"&$B$3&\",\"&O$2&\",Period:=\"&$B$1&\",InputChoice1:=Close,InputChoice2::=Close)\", \"FG\", \"\", \"Close\",$B$2,A51, \"all\",\"\", \"\",\"True\",\"T\")/100","v":0.89361578320000001},null,-5.9999999999999387E-2,0,{"$error":"#N/A"},null,{"$f":"RTD(\"cqg.rtd\",,\"StudyData\", \"Correlation(\"&$B$3&\",\"&U$2&\",Period:=\"&$B$1&\",InputChoice1:=Close,InputChoice2::=Close)\", \"FG\", \"\", \"Close\",$B$2,A51, \"all\",\"\", \"\",\"True\",\"T\")/100","v":0.91305278439999993},null,-5.9999999999999387E-2,0,{"$error":"#N/A"},null,{"$f":"RTD(\"cqg.rtd\",,\"StudyData\", \"Correlation(\"&$B$3&\",\"&AA$2&\",Period:=\"&$B$1&\",InputChoice1:=Close,InputChoice2::=Close)\", \"FG\", \"\", \"Close\",$B$2,A51, \"all\",\"\", \"\",\"True\",\"T\")/100","v":0.87693280659999995},null,-5.9999999999999387E-2,0,{"$error":"#N/A"},null,{"$f":"RTD(\"cqg.rtd\",,\"StudyData\", \"Correlation(\"&$B$3&\",\"&AG$2&\",Period:=\"&$B$1&\",InputChoice1:=Close,InputChoice2::=Close)\", \"FG\", \"\", \"Close\",$B$2,A51, \"all\",\"\", \"\",\"True\",\"T\")/100","v":0.88782665039999997},null,-5.9999999999999387E-2,2,{"$error":"#N/A"},null,{"$f":"RTD(\"cqg.rtd\",,\"StudyData\", \"Correlation(\"&$B$3&\",\"&AM$2&\",Period:=\"&$B$1&\",InputChoice1:=Close,InputChoice2::=Close)\", \"FG\", \"\", \"Close\",$B$2,A51, \"all\",\"\", \"\",\"True\",\"T\")/100","v":0.65901823949999994},null,-5.9999999999999387E-2,0,{"$error":"#N/A"},null,{"$f":"RTD(\"cqg.rtd\",,\"StudyData\", \"Correlation(\"&$B$3&\",\"&AS$2&\",Period:=\"&$B$1&\",InputChoice1:=Close,InputChoice2::=Close)\", \"FG\", \"\", \"Close\",$B$2,A51, \"all\",\"\", \"\",\"True\",\"T\")/100","v":-0.80081730140000007},null,-5.9999999999999387E-2,1,{"$error":"#N/A"},null,{"$f":"RTD(\"cqg.rtd\",,\"StudyData\", \"Correlation(\"&$B$3&\",\"&AY$2&\",Period:=\"&$B$1&\",InputChoice1:=Close,InputChoice2::=Close)\", \"FG\", \"\", \"Close\",$B$2,A51, \"all\",\"\", \"\",\"True\",\"T\")/100","v":-0.80226384220000002},null,-5.9999999999999387E-2,0,{"$error":"#N/A"},null,{"$f":"RTD(\"cqg.rtd\",,\"StudyData\", \"Correlation(\"&$B$3&\",\"&BE$2&\",Period:=\"&$B$1&\",InputChoice1:=Close,InputChoice2::=Close)\", \"FG\", \"\", \"Close\",$B$2,A51, \"all\",\"\", \"\",\"True\",\"T\")/100","v":-4.2174104400000002E-2},null,-5.9999999999999387E-2,1,{"$error":"#N/A"}]
[-48,null,{"$f":"RTD(\"cqg.rtd\",,\"StudyData\", \"Correlation(\"&$B$3&\",\"&C$2&\",Period:=\"&$B$1&\",InputChoice1::=Close,InputChoice2::=Close)\", \"FG\", \"\", \"Close\",$B$2,A52, \"all\",\"\", \"\",\"True\",\"T\")/100","v":0.48474135279999997},null,-3.9999999999999383E-2,0,{"$error":"#N/A"},null,{"$f":"RTD(\"cqg.rtd\",,\"StudyData\", \"Correlation(\"&$B$3&\",\"&I$2&\",Period:=\"&$B$1&\",InputChoice1:=Close,InputChoice2::=Close)\", \"FG\", \"\", \"Close\",$B$2,A52, \"all\",\"\", \"\",\"True\",\"T\")/100","v":0.57276596449999995},null,-3.9999999999999383E-2,1,{"$error":"#N/A"},null,{"$f":"RTD(\"cqg.rtd\",,\"StudyData\", \"Correlation(\"&$B$3&\",\"&O$2&\",Period:=\"&$B$1&\",InputChoice1:=Close,InputChoice2::=Close)\", \"FG\", \"\", \"Close\",$B$2,A52, \"all\",\"\", \"\",\"True\",\"T\")/100","v":0.85915666840000005},null,-3.9999999999999383E-2,0,{"$error":"#N/A"},null,{"$f":"RTD(\"cqg.rtd\",,\"StudyData\", \"Correlation(\"&$B$3&\",\"&U$2&\",Period:=\"&$B$1&\",InputChoice1:=Close,InputChoice2::=Close)\", \"FG\", \"\", \"Close\",$B$2,A52, \"all\",\"\", \"\",\"True\",\"T\")/100","v":0.86198914419999995},null,-3.9999999999999383E-2,0,{"$error":"#N/A"},null,{"$f":"RTD(\"cqg.rtd\",,\"StudyData\", \"Correlation(\"&$B$3&\",\"&AA$2&\",Period:=\"&$B$1&\",InputChoice1:=Close,InputChoice2::=Close)\", \"FG\", \"\", \"Close\",$B$2,A52, \"all\",\"\", \"\",\"True\",\"T\")/100","v":0.82670686339999999},null,-3.9999999999999383E-2,0,{"$error":"#N/A"},null,{"$f":"RTD(\"cqg.rtd\",,\"StudyData\", \"Correlation(\"&$B$3&\",\"&AG$2&\",Period:=\"&$B$1&\",InputChoice1:=Close,InputChoice2::=Close)\", \"FG\", \"\", \"Close\",$B$2,A52, \"all\",\"\", \"\",\"True\",\"T\")/100","v":0.69931142460000006},null,-3.9999999999999383E-2,0,{"$error":"#N/A"},null,{"$f":"RTD(\"cqg.rtd\",,\"StudyData\", \"Correlation(\"&$B$3&\",\"&AM$2&\",Period:=\"&$B$1&\",InputChoice1:=Close,InputChoice2::=Close)\", \"FG\", \"\", \"Close\",$B$2,A52, \"all\",\"\", \"\",\"True\",\"T\")/100","v":0.7257947213999999},null,-3.9999999999999383E-2,1,{"$error":"#N/A"},null,{"$f":"RTD(\"cqg.rtd\",,\"StudyData\", \"Correlation(\"&$B$3&\",\"&AS$2&\",Period:=\"&$B$1&\",InputChoice1:=Close,InputChoice2::=Close)\", \"FG\", \"\", \"Close\",$B$2,A52, \"all\",\"\", \"\",\"True\",\"T\")/100","v":-0.7291844488},null,-3.9999999999999383E-2,0,{"$error":"#N/A"},null,{"$f":"RTD(\"cqg.rtd\",,\"StudyData\", \"Correlation(\"&$B$3&\",\"&AY$2&\",Period:=\"&$B$1&\",InputChoice1:=Close,InputChoice2::=Close)\", \"FG\", \"\", \"Close\",$B$2,A52, \"all\",\"\", \"\",\"True\",\"T\")/100","v":-0.74038528740000009},null,-3.9999999999999383E-2,1,{"$error":"#N/A"},null,{"$f":"RTD(\"cqg.rtd\",,\"StudyData\", \"Correlation(\"&$B$3&\",\"&BE$2&\",Period:=\"&$B$1&\",InputChoice1:=Close,InputChoice2::=Close)\", \"FG\", \"\", \"Close\",$B$2,A52, \"all\",\"\", \"\",\"True\",\"T\")/100","v":-0.32668502119999998},null,-3.9999999999999383E-2,1,{"$error":"#N/A"}]
[-49,null,{"$f":"RTD(\"cqg.rtd\",,\"StudyData\", \"Correlation(\"&$B$3&\",\"&C$2&\",Period:=\"&$B$1&\",InputChoice1::=Close,InputChoice2::=Close)\", \"FG\", \"\", \"Close\",$B$2,A53, \"all\",\"\", \"\",\"True\",\"T\")/100","v":0.43541050450000002},null,-1.9999999999999383E-2,0,{"$error":"#N/A"},null,{"$f":"RTD(\"cqg.rtd\",,\"StudyData\", \"Correlation(\"&$B$3&\",\"&I$2&\",Period:=\"&$B$1&\",InputChoice1:=Close,InputChoice2::=Close)\", \"FG\", \"\", \"Close\",$B$2,A53, \"all\",\"\", \"\",\"True\",\"T\")/100","v":0.45921762919999998},null,-1.9999999999999383E-2,0,{"$error":"#N/A"},null,{"$f":"RTD(\"cqg.rtd\",,\"StudyData\", \"Correlation(\"&$B$3&\",\"&O$2&\",Period:=\"&$B$1&\",InputChoice1:=Close,InputChoice2::=Close)\", \"FG\", \"\", \"Close\",$B$2,A53, \"all\",\"\", \"\",\"True\",\"T\")/100","v":0.94524038639999997},null,-1.9999999999999383E-2,0,{"$error":"#N/A"},null,{"$f":"RTD(\"cqg.rtd\",,\"StudyData\", \"Correlation(\"&$B$3&\",\"&U$2&\",Period:=\"&$B$1&\",InputChoice1:=Close,InputChoice2::=Close)\", \"FG\", \"\", \"Close\",$B$2,A53, \"all\",\"\", \"\",\"True\",\"T\")/100","v":0.81934475399999995},null,-1.9999999999999383E-2,0,{"$error":"#N/A"},null,{"$f":"RTD(\"cqg.rtd\",,\"StudyData\", \"Correlation(\"&$B$3&\",\"&AA$2&\",Period:=\"&$B$1&\",InputChoice1:=Close,InputChoice2::=Close)\", \"FG\", \"\", \"Close\",$B$2,A53, \"all\",\"\", \"\",\"True\",\"T\")/100","v":0.73006321099999993},null,-1.9999999999999383E-2,0,{"$error":"#N/A"},null,{"$f":"RTD(\"cqg.rtd\",,\"StudyData\", \"Correlation(\"&$B$3&\",\"&AG$2&\",Period:=\"&$B$1&\",InputChoice1:=Close,InputChoice2::=Close)\", \"FG\", \"\", \"Close\",$B$2,A53, \"all\",\"\", \"\",\"True\",\"T\")/100","v":0.50585415050000004},null,-1.9999999999999383E-2,0,{"$error":"#N/A"},null,{"$f":"RTD(\"cqg.rtd\",,\"StudyData\", \"Correlation(\"&$B$3&\",\"&AM$2&\",Period:=\"&$B$1&\",InputChoice1:=Close,InputChoice2::=Close)\", \"FG\", \"\", \"Close\",$B$2,A53, \"all\",\"\", \"\",\"True\",\"T\")/100","v":0.71695858720000005},null,-1.9999999999999383E-2,0,{"$error":"#N/A"},null,{"$f":"RTD(\"cqg.rtd\",,\"StudyData\", \"Correlation(\"&$B$3&\",\"&AS$2&\",Period:=\"&$B$1&\",InputChoice1:=Close,InputChoice2::=Close)\", \"FG\", \"\", \"Close\",$B$2,A53, \"all\",\"\", \"\",\"True\",\"T\")/100","v":-0.48237184390000004},null,-1.9999999999999383E-2,0,{"$error":"#N/A"},null,{"$f":"RTD(\"cqg.rtd\",,\"StudyData\", \"Correlation(\"&$B$3&\",\"&AY$2&\",Period:=\"&$B$1&\",InputChoice1:=Close,InputChoice2::=Close)\", \"FG\", \"\", \"Close\",$B$2,A53, \"all\",\"\", \"\",\"True\",\"T\")/100","v":-0.4765758316},null,-1.9999999999999383E-2,1,{"$error":"#N/A"},null,{"$f":"RTD(\"cqg.rtd\",,\"StudyData\", \"Correlation(\"&$B$3&\",\"&BE$2&\",Period:=\"&$B$1&\",InputChoice1:=Close,InputChoice2::=Close)\", \"FG\", \"\", \"Close\",$B$2,A53, \"all\",\"\", \"\",\"True\",\"T\")/100","v":-0.44033124169999999},null,-1.9999999999999383E-2,1,{"$error":"#N/A"}]
[-50,null,{"$f":"RTD(\"cqg.rtd\",,\"StudyData\", \"Correlation(\"&$B$3&\",\"&C$2&\",Period:=\"&$B$1&\",InputChoice1::=Close,InputChoice2::=Close)\", \"FG\", \"\", \"Close\",$B$2,A54, \"all\",\"\", \"\",\"True\",\"T\")/100","v":0.50743939679999994},null,6.1756155744774333E-16,0,{"$error":"#N/A"},null,{"$f":"RTD(\"cqg.rtd\",,\"StudyData\", \"Correlation(\"&$B$3&\",\"&I$2&\",Period:=\"&$B$1&\",InputChoice1:=Close,InputChoice2::=Close)\", \"FG\", \"\", \"Close\",$B$2,A54, \"all\",\"\", \"\",\"True\",\"T\")/100","v":0.52841703019999997},null,6.1756155744774333E-16,0,{"$error":"#N/A"},null,{"$f":"RTD(\"cqg.rtd\",,\"StudyData\", \"Correlation(\"&$B$3&\",\"&O$2&\",Period:=\"&$B$1&\",InputChoice1:=Close,InputChoice2::=Close)\", \"FG\", \"\", \"Close\",$B$2,A54, \"all\",\"\", \"\",\"True\",\"T\")/100","v":0.95781065519999997},null,6.1756155744774333E-16,0,{"$error":"#N/A"},null,{"$f":"RTD(\"cqg.rtd\",,\"StudyData\", \"Correlation(\"&$B$3&\",\"&U$2&\",Period:=\"&$B$1&\",InputChoice1:=Close,InputChoice2::=Close)\", \"FG\", \"\", \"Close\",$B$2,A54, \"all\",\"\", \"\",\"True\",\"T\")/100","v":0.93315510280000002},null,6.1756155744774333E-16,0,{"$error":"#N/A"},null,{"$f":"RTD(\"cqg.rtd\",,\"StudyData\", \"Correlation(\"&$B$3&\",\"&AA$2&\",Period:=\"&$B$1&\",InputChoice1:=Close,InputChoice2::=Close)\", \"FG\", \"\", \"Close\",$B$2,A54, \"all\",\"\", \"\",\"True\",\"T\")/100","v":0.6842530684},null,6.1756155744774333E-16,0,{"$error":"#N/A"},null,{"$f":"RTD(\"cqg.rtd\",,\"StudyData\", \"Correlation(\"&$B$3&\",\"&AG$2&\",Period:=\"&$B$1&\",InputChoice1:=Close,InputChoice2::=Close)\", \"FG\", \"\", \"Close\",$B$2,A54, \"all\",\"\", \"\",\"True\",\"T\")/100","v":0.56471493139999995},null,6.1756155744774333E-16,1,{"$error":"#N/A"},null,{"$f":"RTD(\"cqg.rtd\",,\"StudyData\", \"Correlation(\"&$B$3&\",\"&AM$2&\",Period:=\"&$B$1&\",InputChoice1:=Close,InputChoice2::=Close)\", \"FG\", \"\", \"Close\",$B$2,A54, \"all\",\"\", \"\",\"True\",\"T\")/100","v":0.77819901849999995},null,6.1756155744774333E-16,0,{"$error":"#N/A"},null,{"$f":"RTD(\"cqg.rtd\",,\"StudyData\", \"Correlation(\"&$B$3&\",\"&AS$2&\",Period:=\"&$B$1&\",InputChoice1:=Close,InputChoice2::=Close)\", \"FG\", \"\", \"Close\",$B$2,A54, \"all\",\"\", \"\",\"True\",\"T\")/100","v":-0.50708143090000002},null,6.1756155744774333E-16,1,{"$error":"#N/A"},null,{"$f":"RTD(\"cqg.rtd\",,\"StudyData\", \"Correlation(\"&$B$3&\",\"&AY$2&\",Period:=\"&$B$1&\",InputChoice1:=Close,InputChoice2::=Close)\", \"FG\", \"\", \"Close\",$B$2,A54, \"all\",\"\", \"\",\"True\",\"T\")/100","v":0.22323381739999998},null,6.1756155744774333E-16,1,{"$error":"#N/A"},null,{"$f":"RTD(\"cqg.rtd\",,\"StudyData\", \"Correlation(\"&$B$3&\",\"&BE$2&\",Period:=\"&$B$1&\",InputChoice1:=Close,InputChoice2::=Close)\", \"FG\", \"\", \"Close\",$B$2,A54, \"all\",\"\", \"\",\"True\",\"T\")/100","v":-0.49675354469999999},null,6.1756155744774333E-16,0,{"$error":"#N/A"}]
[-51,null,{"$f":"RTD(\"cqg.rtd\",,\"StudyData\", \"Correlation(\"&$B$3&\",\"&C$2&\",Period:=\"&$B$1&\",InputChoice1::=Close,InputChoice2::=Close)\", \"FG\", \"\", \"Close\",$B$2,A55, \"all\",\"\", \"\",\"True\",\"T\")/100","v":0.64728242039999995},null,2.0000000000000618E-2,1,{"$error":"#N/A"},null,{"$f":"RTD(\"cqg.rtd\",,\"StudyData\", \"Correlation(\"&$B$3&\",\"&I$2&\",Period:=\"&$B$1&\",InputChoice1:=Close,InputChoice2::=Close)\", \"FG\", \"\", \"Close\",$B$2,A55, \"all\",\"\", \"\",\"True\",\"T\")/100","v":0.66966399649999997},null,2.0000000000000618E-2,0,{"$error":"#N/A"},null,{"$f":"RTD(\"cqg.rtd\",,\"StudyData\", \"Correlation(\"&$B$3&\",\"&O$2&\",Period:=\"&$B$1&\",InputChoice1:=Close,InputChoice2::=Close)\", \"FG\", \"\", \"Close\",$B$2,A55, \"all\",\"\", \"\",\"True\",\"T\")/100","v":0.96972367320000008},null,2.0000000000000618E-2,0,{"$error":"#N/A"},null,{"$f":"RTD(\"cqg.rtd\",,\"StudyData\", \"Correlation(\"&$B$3&\",\"&U$2&\",Period:=\"&$B$1&\",InputChoice1:=Close,InputChoice2::=Close)\", \"FG\", \"\", \"Close\",$B$2,A55, \"all\",\"\", \"\",\"True\",\"T\")/100","v":0.93126069769999997},null,2.0000000000000618E-2,0,{"$error":"#N/A"},null,{"$f":"RTD(\"cqg.rtd\",,\"StudyData\", \"Correlation(\"&$B$3&\",\"&AA$2&\",Period:=\"&$B$1&\",InputChoice1:=Close,InputChoice2::=Close)\", \"FG\", \"\", \"Close\",$B$2,A55, \"all\",\"\", \"\",\"True\",\"T\")/100","v":0.70808342030000004},null,2.0000000000000618E-2,1,{"$error":"#N/A"},null,{"$f":"RTD(\"cqg.rtd\",,\"StudyData\", \"Correlation(\"&$B$3&\",\"&AG$2&\",Period:=\"&$B$1&\",InputChoice1:=Close,InputChoice2::=Close)\", \"FG\", \"\", \"Close\",$B$2,A55, \"all\",\"\", \"\",\"True\",\"T\")/100","v":0.1961980243},null,2.0000000000000618E-2,0,{"$error":"#N/A"},null,{"$f":"RTD(\"cqg.rtd\",,\"StudyData\", \"Correlation(\"&$B$3&\",\"&AM$2&\",Period:=\"&$B$1&\",InputChoice1:=Close,InputChoice2::=Close)\", \"FG\", \"\", \"Close\",$B$2,A55, \"all\",\"\", \"\",\"True\",\"T\")/100","v":0.30171444759999999},null,2.0000000000000618E-2,0,{"$error":"#N/A"},null,{"$f":"RTD(\"cqg.rtd\",,\"StudyData\", \"Correlation(\"&$B$3&\",\"&AS$2&\",Period:=\"&$B$1&\",InputChoice1:=Close,InputChoice2::=Close)\", \"FG\", \"\", \"Close\",$B$2,A55, \"all\",\"\", \"\",\"True\",\"T\")/100","v":-0.7513984197000001},null,2.0000000000000618E-2,1,{"$error":"#N/A"},null,{"$f":"RTD(\"cqg.rtd\",,\"StudyData\", \"Correlation(\"&$B$3&\",\"&AY$2&\",Period:=\"&$B$1&\",InputChoice1:=Close,InputChoice2::=Close)\", \"FG\", \"\", \"Close\",$B$2,A55, \"all\",\"\", \"\",\"True\",\"T\")/100","v":-1.41940635E-2},null,2.0000000000000618E-2,0,{"$error":"#N/A"},null,{"$f":"RTD(\"cqg.rtd\",,\"StudyData\", \"Correlation(\"&$B$3&\",\"&BE$2&\",Period:=\"&$B$1&\",InputChoice1:=Close,InputChoice2::=Close)\", \"FG\", \"\", \"Close\",$B$2,A55, \"all\",\"\", \"\",\"True\",\"T\")/100","v":-0.66904508620000003},null,2.0000000000000618E-2,2,{"$error":"#N/A"}]
[-52,null,{"$f":"RTD(\"cqg.rtd\",,\"StudyData\", \"Correlation(\"&$B$3&\",\"&C$2&\",Period:=\"&$B$1&\",InputChoice1::=Close,InputChoice2::=Close)\", \"FG\", \"\", \"Close\",$B$2,A56, \"all\",\"\", \"\",\"True\",\"T\")/100","v":0.82980773439999989},null,4.0000000000000618E-2,1,{"$error":"#N/A"},null,{"$f":"RTD(\"cqg.rtd\",,\"StudyData\", \"Correlation(\"&$B$3&\",\"&I$2&\",Period:=\"&$B$1&\",InputChoice1:=Close,InputChoice2::=Close)\", \"FG\", \"\", \"Close\",$B$2,A56, \"all\",\"\", \"\",\"True\",\"T\")/100","v":0.84008211820000001},null,4.0000000000000618E-2,0,{"$error":"#N/A"},null,{"$f":"RTD(\"cqg.rtd\",,\"StudyData\", \"Correlation(\"&$B$3&\",\"&O$2&\",Period:=\"&$B$1&\",InputChoice1:=Close,InputChoice2::=Close)\", \"FG\", \"\", \"Close\",$B$2,A56, \"all\",\"\", \"\",\"True\",\"T\")/100","v":0.98716770229999995},null,4.0000000000000618E-2,1,{"$error":"#N/A"},null,{"$f":"RTD(\"cqg.rtd\",,\"StudyData\", \"Correlation(\"&$B$3&\",\"&U$2&\",Period:=\"&$B$1&\",InputChoice1:=Close,InputChoice2::=Close)\", \"FG\", \"\", \"Close\",$B$2,A56, \"all\",\"\", \"\",\"True\",\"T\")/100","v":0.9623085146},null,4.0000000000000618E-2,0,{"$error":"#N/A"},null,{"$f":"RTD(\"cqg.rtd\",,\"StudyData\", \"Correlation(\"&$B$3&\",\"&AA$2&\",Period:=\"&$B$1&\",InputChoice1:=Close,InputChoice2::=Close)\", \"FG\", \"\", \"Close\",$B$2,A56, \"all\",\"\", \"\",\"True\",\"T\")/100","v":0.87830706750000009},null,4.0000000000000618E-2,1,{"$error":"#N/A"},null,{"$f":"RTD(\"cqg.rtd\",,\"StudyData\", \"Correlation(\"&$B$3&\",\"&AG$2&\",Period:=\"&$B$1&\",InputChoice1:=Close,InputChoice2::=Close)\", \"FG\", \"\", \"Close\",$B$2,A56, \"all\",\"\", \"\",\"True\",\"T\")/100","v":0.64589934589999998},null,4.0000000000000618E-2,1,{"$error":"#N/A"},null,{"$f":"RTD(\"cqg.rtd\",,\"StudyData\", \"Correlation(\"&$B$3&\",\"&AM$2&\",Period:=\"&$B$1&\",InputChoice1:=Close,InputChoice2::=Close)\", \"FG\", \"\", \"Close\",$B$2,A56, \"all\",\"\", \"\",\"True\",\"T\")/100","v":0.50234338999999995},null,4.0000000000000618E-2,1,{"$error":"#N/A"},null,{"$f":"RTD(\"cqg.rtd\",,\"StudyData\", \"Correlation(\"&$B$3&\",\"&AS$2&\",Period:=\"&$B$1&\",InputChoice1:=Close,InputChoice2::=Close)\", \"FG\", \"\", \"Close\",$B$2,A56, \"all\",\"\", \"\",\"True\",\"T\")/100","v":-0.8080980458},null,4.0000000000000618E-2,0,{"$error":"#N/A"},null,{"$f":"RTD(\"cqg.rtd\",,\"StudyData\", \"Correlation(\"&$B$3&\",\"&AY$2&\",Period:=\"&$B$1&\",InputChoice1:=Close,InputChoice2::=Close)\", \"FG\", \"\", \"Close\",$B$2,A56, \"all\",\"\", \"\",\"True\",\"T\")/100","v":-0.58117312480000005},null,4.0000000000000618E-2,2,{"$error":"#N/A"},null,{"$f":"RTD(\"cqg.rtd\",,\"StudyData\", \"Correlation(\"&$B$3&\",\"&BE$2&\",Period:=\"&$B$1&\",InputChoice1:=Close,InputChoice2::=Close)\", \"FG\", \"\", \"Close\",$B$2,A56, \"all\",\"\", \"\",\"True\",\"T\")/100","v":-0.78890990090000002},null,4.0000000000000618E-2,0,{"$error":"#N/A"}]
[-53,null,{"$f":"RTD(\"cqg.rtd\",,\"StudyData\", \"Correlation(\"&$B$3&\",\"&C$2&\",Period:=\"&$B$1&\",InputChoice1::=Close,InputChoice2::=Close)\", \"FG\", \"\", \"Close\",$B$2,A57, \"all\",\"\", \"\",\"True\",\"T\")/100","v":0.92978258790000001},null,6.0000000000000622E-2,0,{"$error":"#N/A"},null,{"$f":"RTD(\"cqg.rtd\",,\"StudyData\", \"Correlation(\"&$B$3&\",\"&I$2&\",Period:=\"&$B$1&\",InputChoice1:=Close,InputChoice2::=Close)\", \"FG\", \"\", \"Close\",$B$2,A57, \"all\",\"\", \"\",\"True\",\"T\")/100","v":0.92151006170000005},null,6.0000000000000622E-2,0,{"$error":"#N/A"},null,{"$f":"RTD(\"cqg.rtd\",,\"StudyData\", \"Correlation(\"&$B$3&\",\"&O$2&\",Period:=\"&$B$1&\",InputChoice1:=Close,InputChoice2::=Close)\", \"FG\", \"\", \"Close\",$B$2,A57, \"all\",\"\", \"\",\"True\",\"T\")/100","v":0.98700119619999993},null,6.0000000000000622E-2,0,{"$error":"#N/A"},null,{"$f":"RTD(\"cqg.rtd\",,\"StudyData\", \"Correlation(\"&$B$3&\",\"&U$2&\",Period:=\"&$B$1&\",InputChoice1:=Close,InputChoice2::=Close)\", \"FG\", \"\", \"Close\",$B$2,A57, \"all\",\"\", \"\",\"True\",\"T\")/100","v":0.97467296240000001},null,6.0000000000000622E-2,0,{"$error":"#N/A"},null,{"$f":"RTD(\"cqg.rtd\",,\"StudyData\", \"Correlation(\"&$B$3&\",\"&AA$2&\",Period:=\"&$B$1&\",InputChoice1:=Close,InputChoice2::=Close)\", \"FG\", \"\", \"Close\",$B$2,A57, \"all\",\"\", \"\",\"True\",\"T\")/100","v":0.89802551210000003},null,6.0000000000000622E-2,0,{"$error":"#N/A"},null,{"$f":"RTD(\"cqg.rtd\",,\"StudyData\", \"Correlation(\"&$B$3&\",\"&AG$2&\",Period:=\"&$B$1&\",InputChoice1:=Close,InputChoice2::=Close)\", \"FG\", \"\", \"Close\",$B$2,A57, \"all\",\"\", \"\",\"True\",\"T\")/100","v":0.71819202849999997},null,6.0000000000000622E-2,0,{"$error":"#N/A"},null,{"$f":"RTD(\"cqg.rtd\",,\"StudyData\", \"Correlation(\"&$B$3&\",\"&AM$2&\",Period:=\"&$B$1&\",InputChoice1:=Close,InputChoice2::=Close)\", \"FG\", \"\", \"Close\",$B$2,A57, \"all\",\"\", \"\",\"True\",\"T\")/100","v":0.49234952599999998},null,6.0000000000000622E-2,0,{"$error":"#N/A"},null,{"$f":"RTD(\"cqg.rtd\",,\"StudyData\", \"Correlation(\"&$B$3&\",\"&AS$2&\",Period:=\"&$B$1&\",InputChoice1:=Close,InputChoice2::=Close)\", \"FG\", \"\", \"Close\",$B$2,A57, \"all\",\"\", \"\",\"True\",\"T\")/100","v":-0.8248169944},null,6.0000000000000622E-2,2,{"$error":"#N/A"},null,{"$f":"RTD(\"cqg.rtd\",,\"StudyData\", \"Correlation(\"&$B$3&\",\"&AY$2&\",Period:=\"&$B$1&\",InputChoice1:=Close,InputChoice2::=Close)\", \"FG\", \"\", \"Close\",$B$2,A57, \"all\",\"\", \"\",\"True\",\"T\")/100","v":-0.85190445030000006},null,6.0000000000000622E-2,0,{"$error":"#N/A"},null,{"$f":"RTD(\"cqg.rtd\",,\"StudyData\", \"Correlation(\"&$B$3&\",\"&BE$2&\",Period:=\"&$B$1&\",InputChoice1:=Close,InputChoice2::=Close)\", \"FG\", \"\", \"Close\",$B$2,A57, \"all\",\"\", \"\",\"True\",\"T\")/100","v":-0.44263154139999999},null,6.0000000000000622E-2,3,{"$error":"#N/A"}]
[-54,null,{"$f":"RTD(\"cqg.rtd\",,\"StudyData\", \"Correlation(\"&$B$3&\",\"&C$2&\",Period:=\"&$B$1&\",InputChoice1::=Close,InputChoice2::=Close)\", \"FG\", \"\", \"Close\",$B$2,A58, \"all\",\"\", \"\",\"True\",\"T\")/100","v":0.93319733729999998},null,8.0000000000000626E-2,0,{"$error":"#N/A"},null,{"$f":"RTD(\"cqg.rtd\",,\"StudyData\", \"Correlation(\"&$B$3&\",\"&I$2&\",Period:=\"&$B$1&\",InputChoice1:=Close,InputChoice2::=Close)\", \"FG\", \"\", \"Close\",$B$2,A58, \"all\",\"\", \"\",\"True\",\"T\")/100","v":0.92529621000000006},null,8.0000000000000626E-2,0,{"$error":"#N/A"},null,{"$f":"RTD(\"cqg.rtd\",,\"StudyData\", \"Correlation(\"&$B$3&\",\"&O$2&\",Period:=\"&$B$1&\",InputChoice1:=Close,InputChoice2::=Close)\", \"FG\", \"\", \"Close\",$B$2,A58, \"all\",\"\", \"\",\"True\",\"T\")/100","v":0.98452030289999992},null,8.0000000000000626E-2,0,{"$error":"#N/A"},null,{"$f":"RTD(\"cqg.rtd\",,\"StudyData\", \"Correlation(\"&$B$3&\",\"&U$2&\",Period:=\"&$B$1&\",InputChoice1:=Close,InputChoice2::=Close)\", \"FG\", \"\", \"Close\",$B$2,A58, \"all\",\"\", \"\",\"True\",\"T\")/100","v":0.9758233369},null,8.0000000000000626E-2,0,{"$error":"#N/A"},null,{"$f":"RTD(\"cqg.rtd\",,\"StudyData\", \"Correlation(\"&$B$3&\",\"&AA$2&\",Period:=\"&$B$1&\",InputChoice1:=Close,InputChoice2::=Close)\", \"FG\", \"\", \"Close\",$B$2,A58, \"all\",\"\", \"\",\"True\",\"T\")/100","v":0.92169688969999997},null,8.0000000000000626E-2,1,{"$error":"#N/A"},null,{"$f":"RTD(\"cqg.rtd\",,\"StudyData\", \"Correlation(\"&$B$3&\",\"&AG$2&\",Period:=\"&$B$1&\",InputChoice1:=Close,InputChoice2::=Close)\", \"FG\", \"\", \"Close\",$B$2,A58, \"all\",\"\", \"\",\"True\",\"T\")/100","v":0.7511832946},null,8.0000000000000626E-2,0,{"$error":"#N/A"},null,{"$f":"RTD(\"cqg.rtd\",,\"StudyData\", \"Correlation(\"&$B$3&\",\"&AM$2&\",Period:=\"&$B$1&\",InputChoice1:=Close,InputChoice2::=Close)\", \"FG\", \"\", \"Close\",$B$2,A58, \"all\",\"\", \"\",\"True\",\"T\")/100","v":0.51935665259999997},null,8.0000000000000626E-2,0,{"$error":"#N/A"},null,{"$f":"RTD(\"cqg.rtd\",,\"StudyData\", \"Correlation(\"&$B$3&\",\"&AS$2&\",Period:=\"&$B$1&\",InputChoice1:=Close,InputChoice2::=Close)\", \"FG\", \"\", \"Close\",$B$2,A58, \"all\",\"\", \"\",\"True\",\"T\")/100","v":-0.81607078619999995},null,8.0000000000000626E-2,1,{"$error":"#N/A"},null,{"$f":"RTD(\"cqg.rtd\",,\"StudyData\", \"Correlation(\"&$B$3&\",\"&AY$2&\",Period:=\"&$B$1&\",InputChoice1:=Close,InputChoice2::=Close)\", \"FG\", \"\", \"Close\",$B$2,A58, \"all\",\"\", \"\",\"True\",\"T\")/100","v":-0.88342575109999999},null,8.0000000000000626E-2,0,{"$error":"#N/A"},null,{"$f":"RTD(\"cqg.rtd\",,\"StudyData\", \"Correlation(\"&$B$3&\",\"&BE$2&\",Period:=\"&$B$1&\",InputChoice1:=Close,InputChoice2::=Close)\", \"FG\", \"\", \"Close\",$B$2,A58, \"all\",\"\", \"\",\"True\",\"T\")/100","v":-0.36060732360000003},null,8.0000000000000626E-2,1,{"$error":"#N/A"}]
[-55,null,{"$f":"RTD(\"cqg.rtd\",,\"StudyData\", \"Correlation(\"&$B$3&\",\"&C$2&\",Period:=\"&$B$1&\",InputChoice1::=Close,InputChoice2::=Close)\", \"FG\", \"\", \"Close\",$B$2,A59, \"all\",\"\", \"\",\"True\",\"T\")/100","v":0.91972605509999994},null,0.10000000000000063,2,{"$error":"#N/A"},null,{"$f":"RTD(\"cqg.rtd\",,\"StudyData\", \"Correlation(\"&$B$3&\",\"&I$2&\",Period:=\"&$B$1&\",InputChoice1:=Close,InputChoice2::=Close)\", \"FG\", \"\", \"Close\",$B$2,A59, \"all\",\"\", \"\",\"True\",\"T\")/100","v":0.90092771639999991},null,0.10000000000000063,0,{"$error":"#N/A"},null,{"$f":"RTD(\"cqg.rtd\",,\"StudyData\", \"Correlation(\"&$B$3&\",\"&O$2&\",Period:=\"&$B$1&\",InputChoice1:=Close,InputChoice2::=Close)\", \"FG\", \"\", \"Close\",$B$2,A59, \"all\",\"\", \"\",\"True\",\"T\")/100","v":0.97895808169999998},null,0.10000000000000063,0,{"$error":"#N/A"},null,{"$f":"RTD(\"cqg.rtd\",,\"StudyData\", \"Correlation(\"&$B$3&\",\"&U$2&\",Period:=\"&$B$1&\",InputChoice1:=Close,InputChoice2::=Close)\", \"FG\", \"\", \"Close\",$B$2,A59, \"all\",\"\", \"\",\"True\",\"T\")/100","v":0.95856808409999994},null,0.10000000000000063,1,{"$error":"#N/A"},null,{"$f":"RTD(\"cqg.rtd\",,\"StudyData\", \"Correlation(\"&$B$3&\",\"&AA$2&\",Period:=\"&$B$1&\",InputChoice1:=Close,InputChoice2::=Close)\", \"FG\", \"\", \"Close\",$B$2,A59, \"all\",\"\", \"\",\"True\",\"T\")/100","v":0.86003645610000001},null,0.10000000000000063,1,{"$error":"#N/A"},null,{"$f":"RTD(\"cqg.rtd\",,\"StudyData\", \"Correlation(\"&$B$3&\",\"&AG$2&\",Period:=\"&$B$1&\",InputChoice1:=Close,InputChoice2::=Close)\", \"FG\", \"\", \"Close\",$B$2,A59, \"all\",\"\", \"\",\"True\",\"T\")/100","v":0.72354419010000004},null,0.10000000000000063,0,{"$error":"#N/A"},null,{"$f":"RTD(\"cqg.rtd\",,\"StudyData\", \"Correlation(\"&$B$3&\",\"&AM$2&\",Period:=\"&$B$1&\",InputChoice1:=Close,InputChoice2::=Close)\", \"FG\", \"\", \"Close\",$B$2,A59, \"all\",\"\", \"\",\"True\",\"T\")/100","v":0.53917293669999999},null,0.10000000000000063,0,{"$error":"#N/A"},null,{"$f":"RTD(\"cqg.rtd\",,\"StudyData\", \"Correlation(\"&$B$3&\",\"&AS$2&\",Period:=\"&$B$1&\",InputChoice1:=Close,InputChoice2::=Close)\", \"FG\", \"\", \"Close\",$B$2,A59, \"all\",\"\", \"\",\"True\",\"T\")/100","v":-0.80003998700000001},null,0.10000000000000063,1,1,null,{"$f":"RTD(\"cqg.rtd\",,\"StudyData\", \"Correlation(\"&$B$3&\",\"&AY$2&\",Period:=\"&$B$1&\",InputChoice1:=Close,InputChoice2::=Close)\", \"FG\", \"\", \"Close\",$B$2,A59, \"all\",\"\", \"\",\"True\",\"T\")/100","v":-0.88552917750000004},null,0.10000000000000063,0,{"$error":"#N/A"},null,{"$f":"RTD(\"cqg.rtd\",,\"StudyData\", \"Correlation(\"&$B$3&\",\"&BE$2&\",Period:=\"&$B$1&\",InputChoice1:=Close,InputChoice2::=Close)\", \"FG\", \"\", \"Close\",$B$2,A59, \"all\",\"\", \"\",\"True\",\"T\")/100","v":-0.207951899},null,0.10000000000000063,1,{"$error":"#N/A"}]
[-56,null,{"$f":"RTD(\"cqg.rtd\",,\"StudyData\", \"Correlation(\"&$B$3&\",\"&C$2&\",Period:=\"&$B$1&\",InputChoice1::=Close,InputChoice2::=Close)\", \"FG\", \"\", \"Close\",$B$2,A60, \"all\",\"\", \"\",\"True\",\"T\")/100","v":0.88524608709999997},null,0.12000000000000063,0,{"$error":"#N/A"},null,{"$f":"RTD(\"cqg.rtd\",,\"StudyData\", \"Correlation(\"&$B$3&\",\"&I$2&\",Period:=\"&$B$1&\",InputChoice1:=Close,InputChoice2::=Close)\", \"FG\", \"\", \"Close\",$B$2,A60, \"all\",\"\", \"\",\"True\",\"T\")/100","v":0.85006831279999995},null,0.12000000000000063,0,{"$error":"#N/A"},null,{"$f":"RTD(\"cqg.rtd\",,\"StudyData\", \"Correlation(\"&$B$3&\",\"&O$2&\",Period:=\"&$B$1&\",InputChoice1:=Close,InputChoice2::=Close)\", \"FG\", \"\", \"Close\",$B$2,A60, \"all\",\"\", \"\",\"True\",\"T\")/100","v":0.97217893860000004},null,0.12000000000000063,0,{"$error":"#N/A"},null,{"$f":"RTD(\"cqg.rtd\",,\"StudyData\", \"Correlation(\"&$B$3&\",\"&U$2&\",Period:=\"&$B$1&\",InputChoice1:=Close,InputChoice2::=Close)\", \"FG\", \"\", \"Close\",$B$2,A60, \"all\",\"\", \"\",\"True\",\"T\")/100","v":0.91369436459999998},null,0.12000000000000063,0,{"$error":"#N/A"},null,{"$f":"RTD(\"cqg.rtd\",,\"StudyData\", \"Correlation(\"&$B$3&\",\"&AA$2&\",Period:=\"&$B$1&\",InputChoice1:=Close,InputChoice2::=Close)\", \"FG\", \"\", \"Close\",$B$2,A60, \"all\",\"\", \"\",\"True\",\"T\")/100","v":0.75074588419999999},null,0.12000000000000063,0,{"$error":"#N/A"},null,{"$f":"RTD(\"cqg.rtd\",,\"StudyData\", \"Correlation(\"&$B$3&\",\"&AG$2&\",Period:=\"&$B$1&\",InputChoice1:=Close,InputChoice2::=Close)\", \"FG\", \"\", \"Close\",$B$2,A60, \"all\",\"\", \"\",\"True\",\"T\")/100","v":0.7054275914999999},null,0.12000000000000063,1,{"$error":"#N/A"},null,{"$f":"RTD(\"cqg.rtd\",,\"StudyData\", \"Correlation(\"&$B$3&\",\"&AM$2&\",Period:=\"&$B$1&\",InputChoice1:=Close,InputChoice2::=Close)\", \"FG\", \"\", \"Close\",$B$2,A60, \"all\",\"\", \"\",\"True\",\"T\")/100","v":0.45173229879999999},null,0.12000000000000063,0,{"$error":"#N/A"},null,{"$f":"RTD(\"cqg.rtd\",,\"StudyData\", \"Correlation(\"&$B$3&\",\"&AS$2&\",Period:=\"&$B$1&\",InputChoice1:=Close,InputChoice2::=Close)\", \"FG\", \"\", \"Close\",$B$2,A60, \"all\",\"\", \"\",\"True\",\"T\")/100","v":-0.72960514759999995},null,0.12000000000000063,2,{"$error":"#N/A"},null,{"$f":"RTD(\"cqg.rtd\",,\"StudyData\", \"Correlation(\"&$B$3&\",\"&AY$2&\",Period:=\"&$B$1&\",InputChoice1:=Close,InputChoice2::=Close)\", \"FG\", \"\", \"Close\",$B$2,A60, \"all\",\"\", \"\",\"True\",\"T\")/100","v":-0.76294708789999999},null,0.12000000000000063,0,{"$error":"#N/A"},null,{"$f":"RTD(\"cqg.rtd\",,\"StudyData\", \"Correlation(\"&$B$3&\",\"&BE$2&\",Period:=\"&$B$1&\",InputChoice1:=Close,InputChoice2::=Close)\", \"FG\", \"\", \"Close\",$B$2,A60, \"all\",\"\", \"\",\"True\",\"T\")/100","v":7.5953736999999997E-3},null,0.12000000000000063,0,{"$error":"#N/A"}]
[-57,null,{"$f":"RTD(\"cqg.rtd\",,\"StudyData\", \"Correlation(\"&$B$3&\",\"&C$2&\",Period:=\"&$B$1&\",InputChoice1::=Close,InputChoice2::=Close)\", \"FG\", \"\", \"Close\",$B$2,A61, \"all\",\"\", \"\",\"True\",\"T\")/100","v":0.87031904690000006},null,0.14000000000000062,0,{"$error":"#N/A"},null,{"$f":"RTD(\"cqg.rtd\",,\"StudyData\", \"Correlation(\"&$B$3&\",\"&I$2&\",Period:=\"&$B$1&\",InputChoice1:=Close,InputChoice2::=Close)\", \"FG\", \"\", \"Close\",$B$2,A61, \"all\",\"\", \"\",\"True\",\"T\")/100","v":0.84898732519999998},null,0.14000000000000062,0,{"$error":"#N/A"},null,{"$f":"RTD(\"cqg.rtd\",,\"StudyData\", \"Correlation(\"&$B$3&\",\"&O$2&\",Period:=\"&$B$1&\",InputChoice1:=Close,InputChoice2::=Close)\", \"FG\", \"\", \"Close\",$B$2,A61, \"all\",\"\", \"\",\"True\",\"T\")/100","v":0.94734403729999994},null,0.14000000000000062,0,{"$error":"#N/A"},null,{"$f":"RTD(\"cqg.rtd\",,\"StudyData\", \"Correlation(\"&$B$3&\",\"&U$2&\",Period:=\"&$B$1&\",InputChoice1:=Close,InputChoice2::=Close)\", \"FG\", \"\", \"Close\",$B$2,A61, \"all\",\"\", \"\",\"True\",\"T\")/100","v":0.9113314078000001},null,0.14000000000000062,0,{"$error":"#N/A"},null,{"$f":"RTD(\"cqg.rtd\",,\"StudyData\", \"Correlation(\"&$B$3&\",\"&AA$2&\",Period:=\"&$B$1&\",InputChoice1:=Close,InputChoice2::=Close)\", \"FG\", \"\", \"Close\",$B$2,A61, \"all\",\"\", \"\",\"True\",\"T\")/100","v":0.80848642500000001},null,0.14000000000000062,0,{"$error":"#N/A"},null,{"$f":"RTD(\"cqg.rtd\",,\"StudyData\", \"Correlation(\"&$B$3&\",\"&AG$2&\",Period:=\"&$B$1&\",InputChoice1:=Close,InputChoice2::=Close)\", \"FG\", \"\", \"Close\",$B$2,A61, \"all\",\"\", \"\",\"True\",\"T\")/100","v":0.8083760042999999},null,0.14000000000000062,0,{"$error":"#N/A"},null,{"$f":"RTD(\"cqg.rtd\",,\"StudyData\", \"Correlation(\"&$B$3&\",\"&AM$2&\",Period:=\"&$B$1&\",InputChoice1:=Close,InputChoice2::=Close)\", \"FG\", \"\", \"Close\",$B$2,A61, \"all\",\"\", \"\",\"True\",\"T\")/100","v":0.57362992050000006},null,0.14000000000000062,1,{"$error":"#N/A"},null,{"$f":"RTD(\"cqg.rtd\",,\"StudyData\", \"Correlation(\"&$B$3&\",\"&AS$2&\",Period:=\"&$B$1&\",InputChoice1:=Close,InputChoice2::=Close)\", \"FG\", \"\", \"Close\",$B$2,A61, \"all\",\"\", \"\",\"True\",\"T\")/100","v":-0.66555427660000011},null,0.14000000000000062,1,{"$error":"#N/A"},null,{"$f":"RTD(\"cqg.rtd\",,\"StudyData\", \"Correlation(\"&$B$3&\",\"&AY$2&\",Period:=\"&$B$1&\",InputChoice1:=Close,InputChoice2::=Close)\", \"FG\", \"\", \"Close\",$B$2,A61, \"all\",\"\", \"\",\"True\",\"T\")/100","v":-0.80541706270000002},null,0.14000000000000062,0,{"$error":"#N/A"},null,{"$f":"RTD(\"cqg.rtd\",,\"StudyData\", \"Correlation(\"&$B$3&\",\"&BE$2&\",Period:=\"&$B$1&\",InputChoice1:=Close,InputChoice2::=Close)\", \"FG\", \"\", \"Close\",$B$2,A61, \"all\",\"\", \"\",\"True\",\"T\")/100","v":-0.2023583159},null,0.14000000000000062,1,{"$error":"#N/A"}]
[-58,null,{"$f":"RTD(\"cqg.rtd\",,\"StudyData\", \"Correlation(\"&$B$3&\",\"&C$2&\",Period:=\"&$B$1&\",InputChoice1::=Close,InputChoice2::=Close)\", \"FG\", \"\", \"Close\",$B$2,A62, \"all\",\"\", \"\",\"True\",\"T\")/100","v":0.89099819899999999},null,0.16000000000000061,2,{"$error":"#N/A"},null,{"$f":"RTD(\"cqg.rtd\",,\"StudyData\", \"Correlation(\"&$B$3&\",\"&I$2&\",Period:=\"&$B$1&\",InputChoice1:=Close,InputChoice2::=Close)\", \"FG\", \"\", \"Close\",$B$2,A62, \"all\",\"\", \"\",\"True\",\"T\")/100","v":0.86988535639999998},null,0.16000000000000061,1,{"$error":"#N/A"},null,{"$f":"RTD(\"cqg.rtd\",,\"StudyData\", \"Correlation(\"&$B$3&\",\"&O$2&\",Period:=\"&$B$1&\",InputChoice1:=Close,InputChoice2::=Close)\", \"FG\", \"\", \"Close\",$B$2,A62, \"all\",\"\", \"\",\"True\",\"T\")/100","v":0.95084082339999998},null,0.16000000000000061,0,{"$error":"#N/A"},null,{"$f":"RTD(\"cqg.rtd\",,\"StudyData\", \"Correlation(\"&$B$3&\",\"&U$2&\",Period:=\"&$B$1&\",InputChoice1:=Close,InputChoice2::=Close)\", \"FG\", \"\", \"Close\",$B$2,A62, \"all\",\"\", \"\",\"True\",\"T\")/100","v":0.92834607530000002},null,0.16000000000000061,1,{"$error":"#N/A"},null,{"$f":"RTD(\"cqg.rtd\",,\"StudyData\", \"Correlation(\"&$B$3&\",\"&AA$2&\",Period:=\"&$B$1&\",InputChoice1:=Close,InputChoice2::=Close)\", \"FG\", \"\", \"Close\",$B$2,A62, \"all\",\"\", \"\",\"True\",\"T\")/100","v":0.8309712856},null,0.16000000000000061,0,{"$error":"#N/A"},null,{"$f":"RTD(\"cqg.rtd\",,\"StudyData\", \"Correlation(\"&$B$3&\",\"&AG$2&\",Period:=\"&$B$1&\",InputChoice1:=Close,InputChoice2::=Close)\", \"FG\", \"\", \"Close\",$B$2,A62, \"all\",\"\", \"\",\"True\",\"T\")/100","v":0.80921523930000006},null,0.16000000000000061,0,{"$error":"#N/A"},null,{"$f":"RTD(\"cqg.rtd\",,\"StudyData\", \"Correlation(\"&$B$3&\",\"&AM$2&\",Period:=\"&$B$1&\",InputChoice1:=Close,InputChoice2::=Close)\", \"FG\", \"\", \"Close\",$B$2,A62, \"all\",\"\", \"\",\"True\",\"T\")/100","v":0.64365717040000003},null,0.16000000000000061,1,{"$error":"#N/A"},null,{"$f":"RTD(\"cqg.rtd\",,\"StudyData\", \"Correlation(\"&$B$3&\",\"&AS$2&\",Period:=\"&$B$1&\",InputChoice1:=Close,InputChoice2::=Close)\", \"FG\", \"\", \"Close\",$B$2,A62, \"all\",\"\", \"\",\"True\",\"T\")/100","v":-0.47864065119999999},null,0.16000000000000061,1,{"$error":"#N/A"},null,{"$f":"RTD(\"cqg.rtd\",,\"StudyData\", \"Correlation(\"&$B$3&\",\"&AY$2&\",Period:=\"&$B$1&\",InputChoice1:=Close,InputChoice2::=Close)\", \"FG\", \"\", \"Close\",$B$2,A62, \"all\",\"\", \"\",\"True\",\"T\")/100","v":-0.88798015340000003},null,0.16000000000000061,0,{"$error":"#N/A"},null,{"$f":"RTD(\"cqg.rtd\",,\"StudyData\", \"Correlation(\"&$B$3&\",\"&BE$2&\",Period:=\"&$B$1&\",InputChoice1:=Close,InputChoice2::=Close)\", \"FG\", \"\", \"Close\",$B$2,A62, \"all\",\"\", \"\",\"True\",\"T\")/100","v":-0.46023111360000002},null,0.16000000000000061,0,{"$error":"#N/A"}]
[-59,null,{"$f":"RTD(\"cqg.rtd\",,\"StudyData\", \"Correlation(\"&$B$3&\",\"&C$2&\",Period:=\"&$B$1&\",InputChoice1::=Close,InputChoice2::=Close)\", \"FG\", \"\", \"Close\",$B$2,A63, \"all\",\"\", \"\",\"True\",\"T\")/100","v":0.92430072669999996},null,0.1800000000000006,0,{"$error":"#N/A"},null,{"$f":"RTD(\"cqg.rtd\",,\"StudyData\", \"Correlation(\"&$B$3&\",\"&I$2&\",Period:=\"&$B$1&\",InputChoice1:=Close,InputChoice2::=Close)\", \"FG\", \"\", \"Close\",$B$2,A63, \"all\",\"\", \"\",\"True\",\"T\")/100","v":0.90653477210000011},null,0.1800000000000006,0,{"$error":"#N/A"},null,{"$f":"RTD(\"cqg.rtd\",,\"StudyData\", \"Correlation(\"&$B$3&\",\"&O$2&\",Period:=\"&$B$1&\",InputChoice1:=Close,InputChoice2::=Close)\", \"FG\", \"\", \"Close\",$B$2,A63, \"all\",\"\", \"\",\"True\",\"T\")/100","v":0.98160660680000011},null,0.1800000000000006,1,{"$error":"#N/A"},null,{"$f":"RTD(\"cqg.rtd\",,\"StudyData\", \"Correlation(\"&$B$3&\",\"&U$2&\",Period:=\"&$B$1&\",InputChoice1:=Close,InputChoice2::=Close)\", \"FG\", \"\", \"Close\",$B$2,A63, \"all\",\"\", \"\",\"True\",\"T\")/100","v":0.94821726100000003},null,0.1800000000000006,0,{"$error":"#N/A"},null,{"$f":"RTD(\"cqg.rtd\",,\"StudyData\", \"Correlation(\"&$B$3&\",\"&AA$2&\",Period:=\"&$B$1&\",InputChoice1:=Close,InputChoice2::=Close)\", \"FG\", \"\", \"Close\",$B$2,A63, \"all\",\"\", \"\",\"True\",\"T\")/100","v":0.86469491910000007},null,0.1800000000000006,1,{"$error":"#N/A"},null,{"$f":"RTD(\"cqg.rtd\",,\"StudyData\", \"Correlation(\"&$B$3&\",\"&AG$2&\",Period:=\"&$B$1&\",InputChoice1:=Close,InputChoice2::=Close)\", \"FG\", \"\", \"Close\",$B$2,A63, \"all\",\"\", \"\",\"True\",\"T\")/100","v":0.67632789069999999},null,0.1800000000000006,2,{"$error":"#N/A"},null,{"$f":"RTD(\"cqg.rtd\",,\"StudyData\", \"Correlation(\"&$B$3&\",\"&AM$2&\",Period:=\"&$B$1&\",InputChoice1:=Close,InputChoice2::=Close)\", \"FG\", \"\", \"Close\",$B$2,A63, \"all\",\"\", \"\",\"True\",\"T\")/100","v":0.67585980629999998},null,0.1800000000000006,3,{"$error":"#N/A"},null,{"$f":"RTD(\"cqg.rtd\",,\"StudyData\", \"Correlation(\"&$B$3&\",\"&AS$2&\",Period:=\"&$B$1&\",InputChoice1:=Close,InputChoice2::=Close)\", \"FG\", \"\", \"Close\",$B$2,A63, \"all\",\"\", \"\",\"True\",\"T\")/100","v":-0.3392364631},null,0.1800000000000006,2,{"$error":"#N/A"},null,{"$f":"RTD(\"cqg.rtd\",,\"StudyData\", \"Correlation(\"&$B$3&\",\"&AY$2&\",Period:=\"&$B$1&\",InputChoice1:=Close,InputChoice2::=Close)\", \"FG\", \"\", \"Close\",$B$2,A63, \"all\",\"\", \"\",\"True\",\"T\")/100","v":-0.93759948980000007},null,0.1800000000000006,0,{"$error":"#N/A"},null,{"$f":"RTD(\"cqg.rtd\",,\"StudyData\", \"Correlation(\"&$B$3&\",\"&BE$2&\",Period:=\"&$B$1&\",InputChoice1:=Close,InputChoice2::=Close)\", \"FG\", \"\", \"Close\",$B$2,A63, \"all\",\"\", \"\",\"True\",\"T\")/100","v":-0.76162572130000006},null,0.1800000000000006,3,{"$error":"#N/A"}]
[-60,null,{"$f":"RTD(\"cqg.rtd\",,\"StudyData\", \"Correlation(\"&$B$3&\",\"&C$2&\",Period:=\"&$B$1&\",InputChoice1::=Close,InputChoice2::=Close)\", \"FG\", \"\", \"Close\",$B$2,A64, \"all\",\"\", \"\",\"True\",\"T\")/100","v":0.95801167520000008},null,0.20000000000000059,1,{"$error":"#N/A"},null,{"$f":"RTD(\"cqg.rtd\",,\"StudyData\", \"Correlation(\"&$B$3&\",\"&I$2&\",Period:=\"&$B$1&\",InputChoice1:=Close,InputChoice2::=Close)\", \"FG\", \"\", \"Close\",$B$2,A64, \"all\",\"\", \"\",\"True\",\"T\")/100","v":0.94365925770000003},null,0.20000000000000059,0,{"$error":"#N/A"},null,{"$f":"RTD(\"cqg.rtd\",,\"StudyData\", \"Correlation(\"&$B$3&\",\"&O$2&\",Period:=\"&$B$1&\",InputChoice1:=Close,InputChoice2::=Close)\", \"FG\", \"\", \"Close\",$B$2,A64, \"all\",\"\", \"\",\"True\",\"T\")/100","v":0.97901859400000002},null,0.20000000000000059,0,{"$error":"#N/A"},null,{"$f":"RTD(\"cqg.rtd\",,\"StudyData\", \"Correlation(\"&$B$3&\",\"&U$2&\",Period:=\"&$B$1&\",InputChoice1:=Close,InputChoice2::=Close)\", \"FG\", \"\", \"Close\",$B$2,A64, \"all\",\"\", \"\",\"True\",\"T\")/100","v":0.96648908590000004},null,0.20000000000000059,0,{"$error":"#N/A"},null,{"$f":"RTD(\"cqg.rtd\",,\"StudyData\", \"Correlation(\"&$B$3&\",\"&AA$2&\",Period:=\"&$B$1&\",InputChoice1:=Close,InputChoice2::=Close)\", \"FG\", \"\", \"Close\",$B$2,A64, \"all\",\"\", \"\",\"True\",\"T\")/100","v":0.89649867729999999},null,0.20000000000000059,0,{"$error":"#N/A"},null,{"$f":"RTD(\"cqg.rtd\",,\"StudyData\", \"Correlation(\"&$B$3&\",\"&AG$2&\",Period:=\"&$B$1&\",InputChoice1:=Close,InputChoice2::=Close)\", \"FG\", \"\", \"Close\",$B$2,A64, \"all\",\"\", \"\",\"True\",\"T\")/100","v":0.60385647180000002},null,0.20000000000000059,1,{"$error":"#N/A"},null,{"$f":"RTD(\"cqg.rtd\",,\"StudyData\", \"Correlation(\"&$B$3&\",\"&AM$2&\",Period:=\"&$B$1&\",InputChoice1:=Close,InputChoice2::=Close)\", \"FG\", \"\", \"Close\",$B$2,A64, \"all\",\"\", \"\",\"True\",\"T\")/100","v":0.80677025009999992},null,0.20000000000000059,3,{"$error":"#N/A"},null,{"$f":"RTD(\"cqg.rtd\",,\"StudyData\", \"Correlation(\"&$B$3&\",\"&AS$2&\",Period:=\"&$B$1&\",InputChoice1:=Close,InputChoice2::=Close)\", \"FG\", \"\", \"Close\",$B$2,A64, \"all\",\"\", \"\",\"True\",\"T\")/100","v":0.13707645739999999},null,0.20000000000000059,2,{"$error":"#N/A"},null,{"$f":"RTD(\"cqg.rtd\",,\"StudyData\", \"Correlation(\"&$B$3&\",\"&AY$2&\",Period:=\"&$B$1&\",InputChoice1:=Close,InputChoice2::=Close)\", \"FG\", \"\", \"Close\",$B$2,A64, \"all\",\"\", \"\",\"True\",\"T\")/100","v":-0.97572058420000007},null,0.20000000000000059,0,{"$error":"#N/A"},null,{"$f":"RTD(\"cqg.rtd\",,\"StudyData\", \"Correlation(\"&$B$3&\",\"&BE$2&\",Period:=\"&$B$1&\",InputChoice1:=Close,InputChoice2::=Close)\", \"FG\", \"\", \"Close\",$B$2,A64, \"all\",\"\", \"\",\"True\",\"T\")/100","v":-0.86288679099999999},null,0.20000000000000059,0,{"$error":"#N/A"}]
[-61,null,{"$f":"RTD(\"cqg.rtd\",,\"StudyData\", \"Correlation(\"&$B$3&\",\"&C$2&\",Period:=\"&$B$1&\",InputChoice1::=Close,InputChoice2::=Close)\", \"FG\", \"\", \"Close\",$B$2,A65, \"all\",\"\", \"\",\"True\",\"T\")/100","v":0.9739132291999999},null,0.22000000000000058,0,{"$error":"#N/A"},null,{"$f":"RTD(\"cqg.rtd\",,\"StudyData\", \"Correlation(\"&$B$3&\",\"&I$2&\",Period:=\"&$B$1&\",InputChoice1:=Close,InputChoice2::=Close)\", \"FG\", \"\", \"Close\",$B$2,A65, \"all\",\"\", \"\",\"True\",\"T\")/100","v":0.96554533300000001},null,0.22000000000000058,1,{"$error":"#N/A"},null,{"$f":"RTD(\"cqg.rtd\",,\"StudyData\", \"Correlation(\"&$B$3&\",\"&O$2&\",Period:=\"&$B$1&\",InputChoice1:=Close,InputChoice2::=Close)\", \"FG\", \"\", \"Close\",$B$2,A65, \"all\",\"\", \"\",\"True\",\"T\")/100","v":0.94741294409999999},null,0.22000000000000058,0,{"$error":"#N/A"},null,{"$f":"RTD(\"cqg.rtd\",,\"StudyData\", \"Correlation(\"&$B$3&\",\"&U$2&\",Period:=\"&$B$1&\",InputChoice1:=Close,InputChoice2::=Close)\", \"FG\", \"\", \"Close\",$B$2,A65, \"all\",\"\", \"\",\"True\",\"T\")/100","v":0.98304824310000005},null,0.22000000000000058,0,{"$error":"#N/A"},null,{"$f":"RTD(\"cqg.rtd\",,\"StudyData\", \"Correlation(\"&$B$3&\",\"&AA$2&\",Period:=\"&$B$1&\",InputChoice1:=Close,InputChoice2::=Close)\", \"FG\", \"\", \"Close\",$B$2,A65, \"all\",\"\", \"\",\"True\",\"T\")/100","v":0.92197033370000003},null,0.22000000000000058,0,{"$error":"#N/A"},null,{"$f":"RTD(\"cqg.rtd\",,\"StudyData\", \"Correlation(\"&$B$3&\",\"&AG$2&\",Period:=\"&$B$1&\",InputChoice1:=Close,InputChoice2::=Close)\", \"FG\", \"\", \"Close\",$B$2,A65, \"all\",\"\", \"\",\"True\",\"T\")/100","v":0.73977865429999989},null,0.22000000000000058,0,{"$error":"#N/A"},null,{"$f":"RTD(\"cqg.rtd\",,\"StudyData\", \"Correlation(\"&$B$3&\",\"&AM$2&\",Period:=\"&$B$1&\",InputChoice1:=Close,InputChoice2::=Close)\", \"FG\", \"\", \"Close\",$B$2,A65, \"all\",\"\", \"\",\"True\",\"T\")/100","v":0.91390768560000002},null,0.22000000000000058,2,{"$error":"#N/A"},null,{"$f":"RTD(\"cqg.rtd\",,\"StudyData\", \"Correlation(\"&$B$3&\",\"&AS$2&\",Period:=\"&$B$1&\",InputChoice1:=Close,InputChoice2::=Close)\", \"FG\", \"\", \"Close\",$B$2,A65, \"all\",\"\", \"\",\"True\",\"T\")/100","v":0.41196852620000002},null,0.22000000000000058,3,{"$error":"#N/A"},null,{"$f":"RTD(\"cqg.rtd\",,\"StudyData\", \"Correlation(\"&$B$3&\",\"&AY$2&\",Period:=\"&$B$1&\",InputChoice1:=Close,InputChoice2::=Close)\", \"FG\", \"\", \"Close\",$B$2,A65, \"all\",\"\", \"\",\"True\",\"T\")/100","v":-0.97486593850000003},null,0.22000000000000058,0,{"$error":"#N/A"},null,{"$f":"RTD(\"cqg.rtd\",,\"StudyData\", \"Correlation(\"&$B$3&\",\"&BE$2&\",Period:=\"&$B$1&\",InputChoice1:=Close,InputChoice2::=Close)\", \"FG\", \"\", \"Close\",$B$2,A65, \"all\",\"\", \"\",\"True\",\"T\")/100","v":-0.89744906720000006},null,0.22000000000000058,1,{"$error":"#N/A"}]
[-62,null,{"$f":"RTD(\"cqg.rtd\",,\"StudyData\", \"Correlation(\"&$B$3&\",\"&C$2&\",Period:=\"&$B$1&\",InputChoice1::=Close,InputChoice2::=Close)\", \"FG\", \"\", \"Close\",$B$2,A66, \"all\",\"\", \"\",\"True\",\"T\")/100","v":0.90982115769999994},null,0.24000000000000057,0,{"$error":"#N/A"},null,{"$f":"RTD(\"cqg.rtd\",,\"StudyData\", \"Correlation(\"&$B$3&\",\"&I$2&\",Period:=\"&$B$1&\",InputChoice1:=Close,InputChoice2::=Close)\", \"FG\", \"\", \"Close\",$B$2,A66, \"all\",\"\", \"\",\"True\",\"T\")/100","v":0.90263187189999994},null,0.24000000000000057,0,{"$error":"#N/A"},null,{"$f":"RTD(\"cqg.rtd\",,\"StudyData\", \"Correlation(\"&$B$3&\",\"&O$2&\",Period:=\"&$B$1&\",InputChoice1:=Close,InputChoice2::=Close)\", \"FG\", \"\", \"Close\",$B$2,A66, \"all\",\"\", \"\",\"True\",\"T\")/100","v":0.90712334699999997},null,0.24000000000000057,1,{"$error":"#N/A"},null,{"$f":"RTD(\"cqg.rtd\",,\"StudyData\", \"Correlation(\"&$B$3&\",\"&U$2&\",Period:=\"&$B$1&\",InputChoice1:=Close,InputChoice2::=Close)\", \"FG\", \"\", \"Close\",$B$2,A66, \"all\",\"\", \"\",\"True\",\"T\")/100","v":0.92956744599999996},null,0.24000000000000057,0,{"$error":"#N/A"},null,{"$f":"RTD(\"cqg.rtd\",,\"StudyData\", \"Correlation(\"&$B$3&\",\"&AA$2&\",Period:=\"&$B$1&\",InputChoice1:=Close,InputChoice2::=Close)\", \"FG\", \"\", \"Close\",$B$2,A66, \"all\",\"\", \"\",\"True\",\"T\")/100","v":0.79744542530000007},null,0.24000000000000057,0,{"$error":"#N/A"},null,{"$f":"RTD(\"cqg.rtd\",,\"StudyData\", \"Correlation(\"&$B$3&\",\"&AG$2&\",Period:=\"&$B$1&\",InputChoice1:=Close,InputChoice2::=Close)\", \"FG\", \"\", \"Close\",$B$2,A66, \"all\",\"\", \"\",\"True\",\"T\")/100","v":0.66821462669999998},null,0.24000000000000057,2,{"$error":"#N/A"},null,{"$f":"RTD(\"cqg.rtd\",,\"StudyData\", \"Correlation(\"&$B$3&\",\"&AM$2&\",Period:=\"&$B$1&\",InputChoice1:=Close,InputChoice2::=Close)\", \"FG\", \"\", \"Close\",$B$2,A66, \"all\",\"\", \"\",\"True\",\"T\")/100","v":0.82945614550000002},null,0.24000000000000057,2,{"$error":"#N/A"},null,{"$f":"RTD(\"cqg.rtd\",,\"StudyData\", \"Correlation(\"&$B$3&\",\"&AS$2&\",Period:=\"&$B$1&\",InputChoice1:=Close,InputChoice2::=Close)\", \"FG\", \"\", \"Close\",$B$2,A66, \"all\",\"\", \"\",\"True\",\"T\")/100","v":0.2731224062},null,0.24000000000000057,4,{"$error":"#N/A"},null,{"$f":"RTD(\"cqg.rtd\",,\"StudyData\", \"Correlation(\"&$B$3&\",\"&AY$2&\",Period:=\"&$B$1&\",InputChoice1:=Close,InputChoice2::=Close)\", \"FG\", \"\", \"Close\",$B$2,A66, \"all\",\"\", \"\",\"True\",\"T\")/100","v":-0.81729094540000002},null,0.24000000000000057,1,{"$error":"#N/A"},null,{"$f":"RTD(\"cqg.rtd\",,\"StudyData\", \"Correlation(\"&$B$3&\",\"&BE$2&\",Period:=\"&$B$1&\",InputChoice1:=Close,InputChoice2::=Close)\", \"FG\", \"\", \"Close\",$B$2,A66, \"all\",\"\", \"\",\"True\",\"T\")/100","v":-0.79550315630000001},null,0.24000000000000057,3,{"$error":"#N/A"}]
[-63,null,{"$f":"RTD(\"cqg.rtd\",,\"StudyData\", \"Correlation(\"&$B$3&\",\"&C$2&\",Period:=\"&$B$1&\",InputChoice1::=Close,InputChoice2::=Close)\", \"FG\", \"\", \"Close\",$B$2,A67, \"all\",\"\", \"\",\"True\",\"T\")/100","v":0.73154635850000005},null,0.26000000000000056,0,{"$error":"#N/A"},null,{"$f":"RTD(\"cqg.rtd\",,\"StudyData\", \"Correlation(\"&$B$3&\",\"&I$2&\",Period:=\"&$B$1&\",InputChoice1:=Close,InputChoice2::=Close)\", \"FG\", \"\", \"Close\",$B$2,A67, \"all\",\"\", \"\",\"True\",\"T\")/100","v":0.74718716349999992},null,0.26000000000000056,0,{"$error":"#N/A"},null,{"$f":"RTD(\"cqg.rtd\",,\"StudyData\", \"Correlation(\"&$B$3&\",\"&O$2&\",Period:=\"&$B$1&\",InputChoice1:=Close,InputChoice2::=Close)\", \"FG\", \"\", \"Close\",$B$2,A67, \"all\",\"\", \"\",\"True\",\"T\")/100","v":0.86354429049999992},null,0.26000000000000056,0,{"$error":"#N/A"},null,{"$f":"RTD(\"cqg.rtd\",,\"StudyData\", \"Correlation(\"&$B$3&\",\"&U$2&\",Period:=\"&$B$1&\",InputChoice1:=Close,InputChoice2::=Close)\", \"FG\", \"\", \"Close\",$B$2,A67, \"all\",\"\", \"\",\"True\",\"T\")/100","v":0.85843610020000005},null,0.26000000000000056,0,{"$error":"#N/A"},null,{"$f":"RTD(\"cqg.rtd\",,\"StudyData\", \"Correlation(\"&$B$3&\",\"&AA$2&\",Period:=\"&$B$1&\",InputChoice1:=Close,InputChoice2::=Close)\", \"FG\", \"\", \"Close\",$B$2,A67, \"all\",\"\", \"\",\"True\",\"T\")/100","v":0.67804044640000005},null,0.26000000000000056,0,{"$error":"#N/A"},null,{"$f":"RTD(\"cqg.rtd\",,\"StudyData\", \"Correlation(\"&$B$3&\",\"&AG$2&\",Period:=\"&$B$1&\",InputChoice1:=Close,InputChoice2::=Close)\", \"FG\", \"\", \"Close\",$B$2,A67, \"all\",\"\", \"\",\"True\",\"T\")/100","v":0.55672078790000001},null,0.26000000000000056,2,{"$error":"#N/A"},null,{"$f":"RTD(\"cqg.rtd\",,\"StudyData\", \"Correlation(\"&$B$3&\",\"&AM$2&\",Period:=\"&$B$1&\",InputChoice1:=Close,InputChoice2::=Close)\", \"FG\", \"\", \"Close\",$B$2,A67, \"all\",\"\", \"\",\"True\",\"T\")/100","v":0.75237867269999992},null,0.26000000000000056,1,{"$error":"#N/A"},null,{"$f":"RTD(\"cqg.rtd\",,\"StudyData\", \"Correlation(\"&$B$3&\",\"&AS$2&\",Period:=\"&$B$1&\",InputChoice1:=Close,InputChoice2::=Close)\", \"FG\", \"\", \"Close\",$B$2,A67, \"all\",\"\", \"\",\"True\",\"T\")/100","v":0.1744500973},null,0.26000000000000056,3,{"$error":"#N/A"},null,{"$f":"RTD(\"cqg.rtd\",,\"StudyData\", \"Correlation(\"&$B$3&\",\"&AY$2&\",Period:=\"&$B$1&\",InputChoice1:=Close,InputChoice2::=Close)\", \"FG\", \"\", \"Close\",$B$2,A67, \"all\",\"\", \"\",\"True\",\"T\")/100","v":-0.60044410930000003},null,0.26000000000000056,1,{"$error":"#N/A"},null,{"$f":"RTD(\"cqg.rtd\",,\"StudyData\", \"Correlation(\"&$B$3&\",\"&BE$2&\",Period:=\"&$B$1&\",InputChoice1:=Close,InputChoice2::=Close)\", \"FG\", \"\", \"Close\",$B$2,A67, \"all\",\"\", \"\",\"True\",\"T\")/100","v":-0.71384802750000009},null,0.26000000000000056,2,{"$error":"#N/A"}]
[-64,null,{"$f":"RTD(\"cqg.rtd\",,\"StudyData\", \"Correlation(\"&$B$3&\",\"&C$2&\",Period:=\"&$B$1&\",InputChoice1::=Close,InputChoice2::=Close)\", \"FG\", \"\", \"Close\",$B$2,A68, \"all\",\"\", \"\",\"True\",\"T\")/100","v":0.53657832650000004},null,0.28000000000000058,0,{"$error":"#N/A"},null,{"$f":"RTD(\"cqg.rtd\",,\"StudyData\", \"Correlation(\"&$B$3&\",\"&I$2&\",Period:=\"&$B$1&\",InputChoice1:=Close,InputChoice2::=Close)\", \"FG\", \"\", \"Close\",$B$2,A68, \"all\",\"\", \"\",\"True\",\"T\")/100","v":0.56140771840000003},null,0.28000000000000058,1,{"$error":"#N/A"},null,{"$f":"RTD(\"cqg.rtd\",,\"StudyData\", \"Correlation(\"&$B$3&\",\"&O$2&\",Period:=\"&$B$1&\",InputChoice1:=Close,InputChoice2::=Close)\", \"FG\", \"\", \"Close\",$B$2,A68, \"all\",\"\", \"\",\"True\",\"T\")/100","v":0.80989161089999995},null,0.28000000000000058,0,{"$error":"#N/A"},null,{"$f":"RTD(\"cqg.rtd\",,\"StudyData\", \"Correlation(\"&$B$3&\",\"&U$2&\",Period:=\"&$B$1&\",InputChoice1:=Close,InputChoice2::=Close)\", \"FG\", \"\", \"Close\",$B$2,A68, \"all\",\"\", \"\",\"True\",\"T\")/100","v":0.73910786939999995},null,0.28000000000000058,0,{"$error":"#N/A"},null,{"$f":"RTD(\"cqg.rtd\",,\"StudyData\", \"Correlation(\"&$B$3&\",\"&AA$2&\",Period:=\"&$B$1&\",InputChoice1:=Close,InputChoice2::=Close)\", \"FG\", \"\", \"Close\",$B$2,A68, \"all\",\"\", \"\",\"True\",\"T\")/100","v":0.51576444399999999},null,0.28000000000000058,0,{"$error":"#N/A"},null,{"$f":"RTD(\"cqg.rtd\",,\"StudyData\", \"Correlation(\"&$B$3&\",\"&AG$2&\",Period:=\"&$B$1&\",InputChoice1:=Close,InputChoice2::=Close)\", \"FG\", \"\", \"Close\",$B$2,A68, \"all\",\"\", \"\",\"True\",\"T\")/100","v":0.26891039960000002},null,0.28000000000000058,3,{"$error":"#N/A"},null,{"$f":"RTD(\"cqg.rtd\",,\"StudyData\", \"Correlation(\"&$B$3&\",\"&AM$2&\",Period:=\"&$B$1&\",InputChoice1:=Close,InputChoice2::=Close)\", \"FG\", \"\", \"Close\",$B$2,A68, \"all\",\"\", \"\",\"True\",\"T\")/100","v":0.61190963440000001},null,0.28000000000000058,1,{"$error":"#N/A"},null,{"$f":"RTD(\"cqg.rtd\",,\"StudyData\", \"Correlation(\"&$B$3&\",\"&AS$2&\",Period:=\"&$B$1&\",InputChoice1:=Close,InputChoice2::=Close)\", \"FG\", \"\", \"Close\",$B$2,A68, \"all\",\"\", \"\",\"True\",\"T\")/100","v":0.15623990760000001},null,0.28000000000000058,3,{"$error":"#N/A"},null,{"$f":"RTD(\"cqg.rtd\",,\"StudyData\", \"Correlation(\"&$B$3&\",\"&AY$2&\",Period:=\"&$B$1&\",InputChoice1:=Close,InputChoice2::=Close)\", \"FG\", \"\", \"Close\",$B$2,A68, \"all\",\"\", \"\",\"True\",\"T\")/100","v":-0.36678816179999996},null,0.28000000000000058,0,{"$error":"#N/A"},null,{"$f":"RTD(\"cqg.rtd\",,\"StudyData\", \"Correlation(\"&$B$3&\",\"&BE$2&\",Period:=\"&$B$1&\",InputChoice1:=Close,InputChoice2::=Close)\", \"FG\", \"\", \"Close\",$B$2,A68, \"all\",\"\", \"\",\"True\",\"T\")/100","v":-0.563450691},null,0.28000000000000058,1,{"$error":"#N/A"}]
[-65,null,{"$f":"RTD(\"cqg.rtd\",,\"StudyData\", \"Correlation(\"&$B$3&\",\"&C$2&\",Period:=\"&$B$1&\",InputChoice1::=Close,InputChoice2::=Close)\", \"FG\", \"\", \"Close\",$B$2,A69, \"all\",\"\", \"\",\"True\",\"T\")/100","v":8.3288782900000011E-2},null,0.3000000000000006,0,{"$f":"IF(AND($C$4>=E69,$C$4<E70),IF(F69=0,1,F69),NA())","v":{"$error":"#N/A"}},null,{"$f":"RTD(\"cqg.rtd\",,\"StudyData\", \"Correlation(\"&$B$3&\",\"&I$2&\",Period:=\"&$B$1&\",InputChoice1:=Close,InputChoice2::=Close)\", \"FG\", \"\", \"Close\",$B$2,A69, \"all\",\"\", \"\",\"True\",\"T\")/100","v":0.1545890197},null,0.3000000000000006,1,{"$f":"IF(AND($I$4>=K69,$I$4<K70),IF(L69=0,1,L69),NA())","v":{"$error":"#N/A"}},null,{"$f":"RTD(\"cqg.rtd\",,\"StudyData\", \"Correlation(\"&$B$3&\",\"&O$2&\",Period:=\"&$B$1&\",InputChoice1:=Close,InputChoice2::=Close)\", \"FG\", \"\", \"Close\",$B$2,A69, \"all\",\"\", \"\",\"True\",\"T\")/100","v":0.78155068240000003},null,0.3000000000000006,3,{"$f":"IF(AND($O$4>=Q69,$O$4<Q70),IF(R69=0,1,R69),NA())","v":{"$error":"#N/A"}},null,{"$f":"RTD(\"cqg.rtd\",,\"StudyData\", \"Correlation(\"&$B$3&\",\"&U$2&\",Period:=\"&$B$1&\",InputChoice1:=Close,InputChoice2::=Close)\", \"FG\", \"\", \"Close\",$B$2,A69, \"all\",\"\", \"\",\"True\",\"T\")/100","v":0.5652312491},null,0.3000000000000006,1,{"$f":"IF(AND($U$4>=W69,$U$4<W70),IF(X69=0,1,X69),NA())","v":{"$error":"#N/A"}},null,{"$f":"RTD(\"cqg.rtd\",,\"StudyData\", \"Correlation(\"&$B$3&\",\"&AA$2&\",Period:=\"&$B$1&\",InputChoice1:=Close,InputChoice2::=Close)\", \"FG\", \"\", \"Close\",$B$2,A69, \"all\",\"\", \"\",\"True\",\"T\")/100","v":0.39788921979999997},null,0.3000000000000006,0,{"$f":"IF(AND($AA$4>=AC69,$AA$4<AC70),IF(AD69=0,1,AD69),NA())","v":{"$error":"#N/A"}},null,{"$f":"RTD(\"cqg.rtd\",,\"StudyData\", \"Correlation(\"&$B$3&\",\"&AG$2&\",Period:=\"&$B$1&\",InputChoice1:=Close,InputChoice2::=Close)\", \"FG\", \"\", \"Close\",$B$2,A69, \"all\",\"\", \"\",\"True\",\"T\")/100","v":0.50645451740000003},null,0.3000000000000006,1,{"$f":"IF(AND($AG$4>=AI69,$AG$4<AI70),IF(AJ69=0,1,AJ69),NA())","v":{"$error":"#N/A"}},null,{"$f":"RTD(\"cqg.rtd\",,\"StudyData\", \"Correlation(\"&$B$3&\",\"&AM$2&\",Period:=\"&$B$1&\",InputChoice1:=Close,InputChoice2::=Close)\", \"FG\", \"\", \"Close\",$B$2,A69, \"all\",\"\", \"\",\"True\",\"T\")/100","v":0.37929452879999997},null,0.3000000000000006,2,{"$f":"IF(AND($AM$4>=AO69,$AM$4<AO70),IF(AP69=0,1,AP69),NA())","v":{"$error":"#N/A"}},null,{"$f":"RTD(\"cqg.rtd\",,\"StudyData\", \"Correlation(\"&$B$3&\",\"&AS$2&\",Period:=\"&$B$1&\",InputChoice1:=Close,InputChoice2::=Close)\", \"FG\", \"\", \"Close\",$B$2,A69, \"all\",\"\", \"\",\"True\",\"T\")/100","v":0.18364744959999998},null,0.3000000000000006,2,{"$f":"IF(AND($AS$4>=AU69,$AS$4<AU70),IF(AV69=0,1,AV69),NA())","v":{"$error":"#N/A"}},null,{"$f":"RTD(\"cqg.rtd\",,\"StudyData\", \"Correlation(\"&$B$3&\",\"&AY$2&\",Period:=\"&$B$1&\",InputChoice1:=Close,InputChoice2::=Close)\", \"FG\", \"\", \"Close\",$B$2,A69, \"all\",\"\", \"\",\"True\",\"T\")/100","v":0.2581645038},null,0.3000000000000006,0,{"$f":"IF(AND($AY$4>=BA69,$AY$4<BA70),IF(BB69=0,1,BB69),NA())","v":{"$error":"#N/A"}},null,{"$f":"RTD(\"cqg.rtd\",,\"StudyData\", \"Correlation(\"&$B$3&\",\"&BE$2&\",Period:=\"&$B$1&\",InputChoice1:=Close,InputChoice2::=Close)\", \"FG\", \"\", \"Close\",$B$2,A69, \"all\",\"\", \"\",\"True\",\"T\")/100","v":-6.2278005399999996E-2},null,0.3000000000000006,0,{"$f":"IF(AND($BE$4>=BG69,$BE$4<BG70),IF(BH69=0,1,BH69),NA())","v":{"$error":"#N/A"}}]
[{"$f":"A69-1","v":-66},null,{"$f":"RTD(\"cqg.rtd\",,\"StudyData\", \"Correlation(\"&$B$3&\",\"&C$2&\",Period:=\"&$B$1&\",InputChoice1::=Close,InputChoice2::=Close)\", \"FG\", \"\", \"Close\",$B$2,A70, \"all\",\"\", \"\",\"True\",\"T\")/100","v":-0.1901042044},null,{"$f":"E69+0.02","v":0.32000000000000062},2,{"$error":"#N/A"},null,{"$f":"RTD(\"cqg.rtd\",,\"StudyData\", \"Correlation(\"&$B$3&\",\"&I$2&\",Period:=\"&$B$1&\",InputChoice1:=Close,InputChoice2::=Close)\", \"FG\", \"\", \"Close\",$B$2,A70, \"all\",\"\", \"\",\"True\",\"T\")/100","v":-5.7500784700000002E-2},null,{"$f":"K69+0.02","v":0.32000000000000062},1,{"$error":"#N/A"},null,{"$f":"RTD(\"cqg.rtd\",,\"StudyData\", \"Correlation(\"&$B$3&\",\"&O$2&\",Period:=\"&$B$1&\",InputChoice1:=Close,InputChoice2::=Close)\", \"FG\", \"\", \"Close\",$B$2,A70, \"all\",\"\", \"\",\"True\",\"T\")/100","v":0.8619604636},null,{"$f":"Q69+0.02","v":0.32000000000000062},0,{"$error":"#N/A"},null,{"$f":"RTD(\"cqg.rtd\",,\"StudyData\", \"Correlation(\"&$B$3&\",\"&U$2&\",Period:=\"&$B$1&\",InputChoice1:=Close,InputChoice2::=Close)\", \"FG\", \"\", \"Close\",$B$2,A70, \"all\",\"\", \"\",\"True\",\"T\")/100","v":0.46374097730000002},null,{"$f":"W69+0.02","v":0.32000000000000062},0,{"$error":"#N/A"},null,{"$f":"RTD(\"cqg.rtd\",,\"StudyData\", \"Correlation(\"&$B$3&\",\"&AA$2&\",Period:=\"&$B$1&\",InputChoice1:=Close,InputChoice2::=Close)\", \"FG\", \"\", \"Close\",$B$2,A70, \"all\",\"\", \"\",\"True\",\"T\")/100","v":0.33853218810000002},null,{"$f":"AC69+0.02","v":0.32000000000000062},0,{"$error":"#N/A"},null,{"$f":"RTD(\"cqg.rtd\",,\"StudyData\", \"Correlation(\"&$B$3&\",\"&AG$2&\",Period:=\"&$B$1&\",InputChoice1:=Close,InputChoice2::=Close)\", \"FG\", \"\", \"Close\",$B$2,A70, \"all\",\"\", \"\",\"True\",\"T\")/100","v":0.61770439779999997},null,{"$f":"AI69+0.02","v":0.32000000000000062},2,{"$error":"#N/A"},null,{"$f":"RTD(\"cqg.rtd\",,\"StudyData\", \"Correlation(\"&$B$3&\",\"&AM$2&\",Period:=\"&$B$1&\",InputChoice1:=Close,InputChoice2::=Close)\", \"FG\", \"\", \"Close\",$B$2,A70, \"all\",\"\", \"\",\"True\",\"T\")/100","v":0.2355694351},null,{"$f":"AO69+0.02","v":0.32000000000000062},3,{"$error":"#N/A"},null,{"$f":"RTD(\"cqg.rtd\",,\"StudyData\", \"Correlation(\"&$B$3&\",\"&AS$2&\",Period:=\"&$B$1&\",InputChoice1:=Close,InputChoice2::=Close)\", \"FG\", \"\", \"Close\",$B$2,A70, \"all\",\"\", \"\",\"True\",\"T\")/100","v":0.11701997190000001},null,{"$f":"AU69+0.02","v":0.32000000000000062},0,{"$error":"#N/A"},null,{"$f":"RTD(\"cqg.rtd\",,\"StudyData\", \"Correlation(\"&$B$3&\",\"&AY$2&\",Period:=\"&$B$1&\",InputChoice1:=Close,InputChoice2::=Close)\", \"FG\", \"\", \"Close\",$B$2,A70, \"all\",\"\", \"\",\"True\",\"T\")/100","v":0.45667959819999998},null,{"$f":"BA69+0.02","v":0.32000000000000062},0,{"$error":"#N/A"},null,{"$f":"RTD(\"cqg.rtd\",,\"StudyData\", \"Correlation(\"&$B$3&\",\"&BE$2&\",Period:=\"&$B$1&\",InputChoice1:=Close,InputChoice2::=Close)\", \"FG\", \"\", \"Close\",$B$2,A70, \"all\",\"\", \"\",\"True\",\"T\")/100","v":0.1245696537},null,{"$f":"BG69+0.02","v":0.32000000000000062},2,{"$error":"#N/A"}]
[-67,null,{"$f":"RTD(\"cqg.rtd\",,\"StudyData\", \"Correlation(\"&$B$3&\",\"&C$2&\",Period:=\"&$B$1&\",InputChoice1::=Close,InputChoice2::=Close)\", \"FG\", \"\", \"Close\",$B$2,A71, \"all\",\"\", \"\",\"True\",\"T\")/100","v":3.3060865799999999E-2},null,0.34000000000000064,3,{"$error":"#N/A"},null,{"$f":"RTD(\"cqg.rtd\",,\"StudyData\", \"Correlation(\"&$B$3&\",\"&I$2&\",Period:=\"&$B$1&\",InputChoice1:=Close,InputChoice2::=Close)\", \"FG\", \"\", \"Close\",$B$2,A71, \"all\",\"\", \"\",\"True\",\"T\")/100","v":0.20299406080000001},null,0.34000000000000064,1,{"$error":"#N/A"},null,{"$f":"RTD(\"cqg.rtd\",,\"StudyData\", \"Correlation(\"&$B$3&\",\"&O$2&\",Period:=\"&$B$1&\",InputChoice1:=Close,InputChoice2::=Close)\", \"FG\", \"\", \"Close\",$B$2,A71, \"all\",\"\", \"\",\"True\",\"T\")/100","v":0.93416635260000003},null,0.34000000000000064,0,{"$error":"#N/A"},null,{"$f":"RTD(\"cqg.rtd\",,\"StudyData\", \"Correlation(\"&$B$3&\",\"&U$2&\",Period:=\"&$B$1&\",InputChoice1:=Close,InputChoice2::=Close)\", \"FG\", \"\", \"Close\",$B$2,A71, \"all\",\"\", \"\",\"True\",\"T\")/100","v":0.70979044079999998},null,0.34000000000000064,0,{"$error":"#N/A"},null,{"$f":"RTD(\"cqg.rtd\",,\"StudyData\", \"Correlation(\"&$B$3&\",\"&AA$2&\",Period:=\"&$B$1&\",InputChoice1:=Close,InputChoice2::=Close)\", \"FG\", \"\", \"Close\",$B$2,A71, \"all\",\"\", \"\",\"True\",\"T\")/100","v":0.52408139470000004},null,0.34000000000000064,2,{"$error":"#N/A"},null,{"$f":"RTD(\"cqg.rtd\",,\"StudyData\", \"Correlation(\"&$B$3&\",\"&AG$2&\",Period:=\"&$B$1&\",InputChoice1:=Close,InputChoice2::=Close)\", \"FG\", \"\", \"Close\",$B$2,A71, \"all\",\"\", \"\",\"True\",\"T\")/100","v":0.73870933070000011},null,0.34000000000000064,0,{"$error":"#N/A"},null,{"$f":"RTD(\"cqg.rtd\",,\"StudyData\", \"Correlation(\"&$B$3&\",\"&AM$2&\",Period:=\"&$B$1&\",InputChoice1:=Close,InputChoice2::=Close)\", \"FG\", \"\", \"Close\",$B$2,A71, \"all\",\"\", \"\",\"True\",\"T\")/100","v":0.30454585979999999},null,0.34000000000000064,0,{"$error":"#N/A"},null,{"$f":"RTD(\"cqg.rtd\",,\"StudyData\", \"Correlation(\"&$B$3&\",\"&AS$2&\",Period:=\"&$B$1&\",InputChoice1:=Close,InputChoice2::=Close)\", \"FG\", \"\", \"Close\",$B$2,A71, \"all\",\"\", \"\",\"True\",\"T\")/100","v":0.22055020689999999},null,0.34000000000000064,1,{"$error":"#N/A"},null,{"$f":"RTD(\"cqg.rtd\",,\"StudyData\", \"Correlation(\"&$B$3&\",\"&AY$2&\",Period:=\"&$B$1&\",InputChoice1:=Close,InputChoice2::=Close)\", \"FG\", \"\", \"Close\",$B$2,A71, \"all\",\"\", \"\",\"True\",\"T\")/100","v":0.5191820761},null,0.34000000000000064,0,{"$error":"#N/A"},null,{"$f":"RTD(\"cqg.rtd\",,\"StudyData\", \"Correlation(\"&$B$3&\",\"&BE$2&\",Period:=\"&$B$1&\",InputChoice1:=Close,InputChoice2::=Close)\", \"FG\", \"\", \"Close\",$B$2,A71, \"all\",\"\", \"\",\"True\",\"T\")/100","v":0.39485878309999994},null,0.34000000000000064,1,{"$error":"#N/A"}]
[-68,null,{"$f":"RTD(\"cqg.rtd\",,\"StudyData\", \"Correlation(\"&$B$3&\",\"&C$2&\",Period:=\"&$B$1&\",InputChoice1::=Close,InputChoice2::=Close)\", \"FG\", \"\", \"Close\",$B$2,A72, \"all\",\"\", \"\",\"True\",\"T\")/100","v":0.50099764069999997},null,0.36000000000000065,0,{"$error":"#N/A"},null,{"$f":"RTD(\"cqg.rtd\",,\"StudyData\", \"Correlation(\"&$B$3&\",\"&I$2&\",Period:=\"&$B$1&\",InputChoice1:=Close,InputChoice2::=Close)\", \"FG\", \"\", \"Close\",$B$2,A72, \"all\",\"\", \"\",\"True\",\"T\")/100","v":0.64328771970000009},null,0.36000000000000065,2,{"$error":"#N/A"},null,{"$f":"RTD(\"cqg.rtd\",,\"StudyData\", \"Correlation(\"&$B$3&\",\"&O$2&\",Period:=\"&$B$1&\",InputChoice1:=Close,InputChoice2::=Close)\", \"FG\", \"\", \"Close\",$B$2,A72, \"all\",\"\", \"\",\"True\",\"T\")/100","v":0.955521917},null,0.36000000000000065,0,{"$error":"#N/A"},null,{"$f":"RTD(\"cqg.rtd\",,\"StudyData\", \"Correlation(\"&$B$3&\",\"&U$2&\",Period:=\"&$B$1&\",InputChoice1:=Close,InputChoice2::=Close)\", \"FG\", \"\", \"Close\",$B$2,A72, \"all\",\"\", \"\",\"True\",\"T\")/100","v":0.8591529765999999},null,0.36000000000000065,1,{"$error":"#N/A"},null,{"$f":"RTD(\"cqg.rtd\",,\"StudyData\", \"Correlation(\"&$B$3&\",\"&AA$2&\",Period:=\"&$B$1&\",InputChoice1:=Close,InputChoice2::=Close)\", \"FG\", \"\", \"Close\",$B$2,A72, \"all\",\"\", \"\",\"True\",\"T\")/100","v":0.65144921089999996},null,0.36000000000000065,1,{"$error":"#N/A"},null,{"$f":"RTD(\"cqg.rtd\",,\"StudyData\", \"Correlation(\"&$B$3&\",\"&AG$2&\",Period:=\"&$B$1&\",InputChoice1:=Close,InputChoice2::=Close)\", \"FG\", \"\", \"Close\",$B$2,A72, \"all\",\"\", \"\",\"True\",\"T\")/100","v":0.80845828240000006},null,0.36000000000000065,1,{"$error":"#N/A"},null,{"$f":"RTD(\"cqg.rtd\",,\"StudyData\", \"Correlation(\"&$B$3&\",\"&AM$2&\",Period:=\"&$B$1&\",InputChoice1:=Close,InputChoice2::=Close)\", \"FG\", \"\", \"Close\",$B$2,A72, \"all\",\"\", \"\",\"True\",\"T\")/100","v":0.52067030979999995},null,0.36000000000000065,0,{"$error":"#N/A"},null,{"$f":"RTD(\"cqg.rtd\",,\"StudyData\", \"Correlation(\"&$B$3&\",\"&AS$2&\",Period:=\"&$B$1&\",InputChoice1:=Close,InputChoice2::=Close)\", \"FG\", \"\", \"Close\",$B$2,A72, \"all\",\"\", \"\",\"True\",\"T\")/100","v":0.41576131689999996},null,0.36000000000000065,2,{"$error":"#N/A"},null,{"$f":"RTD(\"cqg.rtd\",,\"StudyData\", \"Correlation(\"&$B$3&\",\"&AY$2&\",Period:=\"&$B$1&\",InputChoice1:=Close,InputChoice2::=Close)\", \"FG\", \"\", \"Close\",$B$2,A72, \"all\",\"\", \"\",\"True\",\"T\")/100","v":0.47087503349999998},null,0.36000000000000065,1,{"$error":"#N/A"},null,{"$f":"RTD(\"cqg.rtd\",,\"StudyData\", \"Correlation(\"&$B$3&\",\"&BE$2&\",Period:=\"&$B$1&\",InputChoice1:=Close,InputChoice2::=Close)\", \"FG\", \"\", \"Close\",$B$2,A72, \"all\",\"\", \"\",\"True\",\"T\")/100","v":0.52942630200000007},null,0.36000000000000065,1,{"$error":"#N/A"}]
[-69,null,{"$f":"RTD(\"cqg.rtd\",,\"StudyData\", \"Correlation(\"&$B$3&\",\"&C$2&\",Period:=\"&$B$1&\",InputChoice1::=Close,InputChoice2::=Close)\", \"FG\", \"\", \"Close\",$B$2,A73, \"all\",\"\", \"\",\"True\",\"T\")/100","v":0.55865698549999998},null,0.38000000000000067,0,{"$error":"#N/A"},null,{"$f":"RTD(\"cqg.rtd\",,\"StudyData\", \"Correlation(\"&$B$3&\",\"&I$2&\",Period:=\"&$B$1&\",InputChoice1:=Close,InputChoice2::=Close)\", \"FG\", \"\", \"Close\",$B$2,A73, \"all\",\"\", \"\",\"True\",\"T\")/100","v":0.69560178809999995},null,0.38000000000000067,1,{"$error":"#N/A"},null,{"$f":"RTD(\"cqg.rtd\",,\"StudyData\", \"Correlation(\"&$B$3&\",\"&O$2&\",Period:=\"&$B$1&\",InputChoice1:=Close,InputChoice2::=Close)\", \"FG\", \"\", \"Close\",$B$2,A73, \"all\",\"\", \"\",\"True\",\"T\")/100","v":0.92903849750000012},null,0.38000000000000067,0,{"$error":"#N/A"},null,{"$f":"RTD(\"cqg.rtd\",,\"StudyData\", \"Correlation(\"&$B$3&\",\"&U$2&\",Period:=\"&$B$1&\",InputChoice1:=Close,InputChoice2::=Close)\", \"FG\", \"\", \"Close\",$B$2,A73, \"all\",\"\", \"\",\"True\",\"T\")/100","v":0.91004200420000003},null,0.38000000000000067,0,{"$error":"#N/A"},null,{"$f":"RTD(\"cqg.rtd\",,\"StudyData\", \"Correlation(\"&$B$3&\",\"&AA$2&\",Period:=\"&$B$1&\",InputChoice1:=Close,InputChoice2::=Close)\", \"FG\", \"\", \"Close\",$B$2,A73, \"all\",\"\", \"\",\"True\",\"T\")/100","v":0.72525666740000005},null,0.38000000000000067,1,{"$error":"#N/A"},null,{"$f":"RTD(\"cqg.rtd\",,\"StudyData\", \"Correlation(\"&$B$3&\",\"&AG$2&\",Period:=\"&$B$1&\",InputChoice1:=Close,InputChoice2::=Close)\", \"FG\", \"\", \"Close\",$B$2,A73, \"all\",\"\", \"\",\"True\",\"T\")/100","v":0.81023243910000009},null,0.38000000000000067,1,{"$error":"#N/A"},null,{"$f":"RTD(\"cqg.rtd\",,\"StudyData\", \"Correlation(\"&$B$3&\",\"&AM$2&\",Period:=\"&$B$1&\",InputChoice1:=Close,InputChoice2::=Close)\", \"FG\", \"\", \"Close\",$B$2,A73, \"all\",\"\", \"\",\"True\",\"T\")/100","v":0.80023033789999998},null,0.38000000000000067,2,{"$error":"#N/A"},null,{"$f":"RTD(\"cqg.rtd\",,\"StudyData\", \"Correlation(\"&$B$3&\",\"&AS$2&\",Period:=\"&$B$1&\",InputChoice1:=Close,InputChoice2::=Close)\", \"FG\", \"\", \"Close\",$B$2,A73, \"all\",\"\", \"\",\"True\",\"T\")/100","v":0.65957322149999997},null,0.38000000000000067,0,{"$error":"#N/A"},null,{"$f":"RTD(\"cqg.rtd\",,\"StudyData\", \"Correlation(\"&$B$3&\",\"&AY$2&\",Period:=\"&$B$1&\",InputChoice1:=Close,InputChoice2::=Close)\", \"FG\", \"\", \"Close\",$B$2,A73, \"all\",\"\", \"\",\"True\",\"T\")/100","v":0.61388122010000001},null,0.38000000000000067,0,{"$error":"#N/A"},null,{"$f":"RTD(\"cqg.rtd\",,\"StudyData\", \"Correlation(\"&$B$3&\",\"&BE$2&\",Period:=\"&$B$1&\",InputChoice1:=Close,InputChoice2::=Close)\", \"FG\", \"\", \"Close\",$B$2,A73, \"all\",\"\", \"\",\"True\",\"T\")/100","v":0.55676221199999998},null,0.38000000000000067,1,{"$error":"#N/A"}]
[-70,null,{"$f":"RTD(\"cqg.rtd\",,\"StudyData\", \"Correlation(\"&$B$3&\",\"&C$2&\",Period:=\"&$B$1&\",InputChoice1::=Close,InputChoice2::=Close)\", \"FG\", \"\", \"Close\",$B$2,A74, \"all\",\"\", \"\",\"True\",\"T\")/100","v":0.59296171259999997},null,0.40000000000000069,0,{"$error":"#N/A"},null,{"$f":"RTD(\"cqg.rtd\",,\"StudyData\", \"Correlation(\"&$B$3&\",\"&I$2&\",Period:=\"&$B$1&\",InputChoice1:=Close,InputChoice2::=Close)\", \"FG\", \"\", \"Close\",$B$2,A74, \"all\",\"\", \"\",\"True\",\"T\")/100","v":0.70813046120000001},null,0.40000000000000069,0,{"$error":"#N/A"},null,{"$f":"RTD(\"cqg.rtd\",,\"StudyData\", \"Correlation(\"&$B$3&\",\"&O$2&\",Period:=\"&$B$1&\",InputChoice1:=Close,InputChoice2::=Close)\", \"FG\", \"\", \"Close\",$B$2,A74, \"all\",\"\", \"\",\"True\",\"T\")/100","v":0.81172070080000003},null,0.40000000000000069,3,{"$error":"#N/A"},null,{"$f":"RTD(\"cqg.rtd\",,\"StudyData\", \"Correlation(\"&$B$3&\",\"&U$2&\",Period:=\"&$B$1&\",InputChoice1:=Close,InputChoice2::=Close)\", \"FG\", \"\", \"Close\",$B$2,A74, \"all\",\"\", \"\",\"True\",\"T\")/100","v":0.86948739950000009},null,0.40000000000000069,0,{"$error":"#N/A"},null,{"$f":"RTD(\"cqg.rtd\",,\"StudyData\", \"Correlation(\"&$B$3&\",\"&AA$2&\",Period:=\"&$B$1&\",InputChoice1:=Close,InputChoice2::=Close)\", \"FG\", \"\", \"Close\",$B$2,A74, \"all\",\"\", \"\",\"True\",\"T\")/100","v":0.82416332989999996},null,0.40000000000000069,5,{"$error":"#N/A"},null,{"$f":"RTD(\"cqg.rtd\",,\"StudyData\", \"Correlation(\"&$B$3&\",\"&AG$2&\",Period:=\"&$B$1&\",InputChoice1:=Close,InputChoice2::=Close)\", \"FG\", \"\", \"Close\",$B$2,A74, \"all\",\"\", \"\",\"True\",\"T\")/100","v":0.82531024220000004},null,0.40000000000000069,1,{"$error":"#N/A"},null,{"$f":"RTD(\"cqg.rtd\",,\"StudyData\", \"Correlation(\"&$B$3&\",\"&AM$2&\",Period:=\"&$B$1&\",InputChoice1:=Close,InputChoice2::=Close)\", \"FG\", \"\", \"Close\",$B$2,A74, \"all\",\"\", \"\",\"True\",\"T\")/100","v":0.89521063290000003},null,0.40000000000000069,0,{"$error":"#N/A"},null,{"$f":"RTD(\"cqg.rtd\",,\"StudyData\", \"Correlation(\"&$B$3&\",\"&AS$2&\",Period:=\"&$B$1&\",InputChoice1:=Close,InputChoice2::=Close)\", \"FG\", \"\", \"Close\",$B$2,A74, \"all\",\"\", \"\",\"True\",\"T\")/100","v":0.79920830740000004},null,0.40000000000000069,5,{"$error":"#N/A"},null,{"$f":"RTD(\"cqg.rtd\",,\"StudyData\", \"Correlation(\"&$B$3&\",\"&AY$2&\",Period:=\"&$B$1&\",InputChoice1:=Close,InputChoice2::=Close)\", \"FG\", \"\", \"Close\",$B$2,A74, \"all\",\"\", \"\",\"True\",\"T\")/100","v":0.54795140619999994},null,0.40000000000000069,1,{"$error":"#N/A"},null,{"$f":"RTD(\"cqg.rtd\",,\"StudyData\", \"Correlation(\"&$B$3&\",\"&BE$2&\",Period:=\"&$B$1&\",InputChoice1:=Close,InputChoice2::=Close)\", \"FG\", \"\", \"Close\",$B$2,A74, \"all\",\"\", \"\",\"True\",\"T\")/100","v":0.52605447090000002},null,0.40000000000000069,3,{"$error":"#N/A"}]
[-71,null,{"$f":"RTD(\"cqg.rtd\",,\"StudyData\", \"Correlation(\"&$B$3&\",\"&C$2&\",Period:=\"&$B$1&\",InputChoice1::=Close,InputChoice2::=Close)\", \"FG\", \"\", \"Close\",$B$2,A75, \"all\",\"\", \"\",\"True\",\"T\")/100","v":0.70877671230000006},null,0.42000000000000071,0,{"$error":"#N/A"},null,{"$f":"RTD(\"cqg.rtd\",,\"StudyData\", \"Correlation(\"&$B$3&\",\"&I$2&\",Period:=\"&$B$1&\",InputChoice1:=Close,InputChoice2::=Close)\", \"FG\", \"\", \"Close\",$B$2,A75, \"all\",\"\", \"\",\"True\",\"T\")/100","v":0.78177355090000011},null,0.42000000000000071,0,{"$error":"#N/A"},null,{"$f":"RTD(\"cqg.rtd\",,\"StudyData\", \"Correlation(\"&$B$3&\",\"&O$2&\",Period:=\"&$B$1&\",InputChoice1:=Close,InputChoice2::=Close)\", \"FG\", \"\", \"Close\",$B$2,A75, \"all\",\"\", \"\",\"True\",\"T\")/100","v":0.86242818409999999},null,0.42000000000000071,0,{"$error":"#N/A"},null,{"$f":"RTD(\"cqg.rtd\",,\"StudyData\", \"Correlation(\"&$B$3&\",\"&U$2&\",Period:=\"&$B$1&\",InputChoice1:=Close,InputChoice2::=Close)\", \"FG\", \"\", \"Close\",$B$2,A75, \"all\",\"\", \"\",\"True\",\"T\")/100","v":0.79224034990000003},null,0.42000000000000071,0,{"$error":"#N/A"},null,{"$f":"RTD(\"cqg.rtd\",,\"StudyData\", \"Correlation(\"&$B$3&\",\"&AA$2&\",Period:=\"&$B$1&\",InputChoice1:=Close,InputChoice2::=Close)\", \"FG\", \"\", \"Close\",$B$2,A75, \"all\",\"\", \"\",\"True\",\"T\")/100","v":0.75812320709999992},null,0.42000000000000071,2,{"$error":"#N/A"},null,{"$f":"RTD(\"cqg.rtd\",,\"StudyData\", \"Correlation(\"&$B$3&\",\"&AG$2&\",Period:=\"&$B$1&\",InputChoice1:=Close,InputChoice2::=Close)\", \"FG\", \"\", \"Close\",$B$2,A75, \"all\",\"\", \"\",\"True\",\"T\")/100","v":0.67533095440000002},null,0.42000000000000071,1,{"$error":"#N/A"},null,{"$f":"RTD(\"cqg.rtd\",,\"StudyData\", \"Correlation(\"&$B$3&\",\"&AM$2&\",Period:=\"&$B$1&\",InputChoice1:=Close,InputChoice2::=Close)\", \"FG\", \"\", \"Close\",$B$2,A75, \"all\",\"\", \"\",\"True\",\"T\")/100","v":0.80087299000000001},null,0.42000000000000071,1,{"$error":"#N/A"},null,{"$f":"RTD(\"cqg.rtd\",,\"StudyData\", \"Correlation(\"&$B$3&\",\"&AS$2&\",Period:=\"&$B$1&\",InputChoice1:=Close,InputChoice2::=Close)\", \"FG\", \"\", \"Close\",$B$2,A75, \"all\",\"\", \"\",\"True\",\"T\")/100","v":0.2604066364},null,0.42000000000000071,2,{"$error":"#N/A"},null,{"$f":"RTD(\"cqg.rtd\",,\"StudyData\", \"Correlation(\"&$B$3&\",\"&AY$2&\",Period:=\"&$B$1&\",InputChoice1:=Close,InputChoice2::=Close)\", \"FG\", \"\", \"Close\",$B$2,A75, \"all\",\"\", \"\",\"True\",\"T\")/100","v":-0.61507403799999993},null,0.42000000000000071,0,{"$error":"#N/A"},null,{"$f":"RTD(\"cqg.rtd\",,\"StudyData\", \"Correlation(\"&$B$3&\",\"&BE$2&\",Period:=\"&$B$1&\",InputChoice1:=Close,InputChoice2::=Close)\", \"FG\", \"\", \"Close\",$B$2,A75, \"all\",\"\", \"\",\"True\",\"T\")/100","v":0.2296790494},null,0.42000000000000071,1,{"$error":"#N/A"}]
[-72,null,{"$f":"RTD(\"cqg.rtd\",,\"StudyData\", \"Correlation(\"&$B$3&\",\"&C$2&\",Period:=\"&$B$1&\",InputChoice1::=Close,InputChoice2::=Close)\", \"FG\", \"\", \"Close\",$B$2,A76, \"all\",\"\", \"\",\"True\",\"T\")/100","v":0.72338106089999998},null,0.44000000000000072,2,{"$error":"#N/A"},null,{"$f":"RTD(\"cqg.rtd\",,\"StudyData\", \"Correlation(\"&$B$3&\",\"&I$2&\",Period:=\"&$B$1&\",InputChoice1:=Close,InputChoice2::=Close)\", \"FG\", \"\", \"Close\",$B$2,A76, \"all\",\"\", \"\",\"True\",\"T\")/100","v":0.77098643379999998},null,0.44000000000000072,2,{"$error":"#N/A"},null,{"$f":"RTD(\"cqg.rtd\",,\"StudyData\", \"Correlation(\"&$B$3&\",\"&O$2&\",Period:=\"&$B$1&\",InputChoice1:=Close,InputChoice2::=Close)\", \"FG\", \"\", \"Close\",$B$2,A76, \"all\",\"\", \"\",\"True\",\"T\")/100","v":0.91338440870000004},null,0.44000000000000072,0,{"$error":"#N/A"},null,{"$f":"RTD(\"cqg.rtd\",,\"StudyData\", \"Correlation(\"&$B$3&\",\"&U$2&\",Period:=\"&$B$1&\",InputChoice1:=Close,InputChoice2::=Close)\", \"FG\", \"\", \"Close\",$B$2,A76, \"all\",\"\", \"\",\"True\",\"T\")/100","v":0.79236434599999994},null,0.44000000000000072,0,{"$error":"#N/A"},null,{"$f":"RTD(\"cqg.rtd\",,\"StudyData\", \"Correlation(\"&$B$3&\",\"&AA$2&\",Period:=\"&$B$1&\",InputChoice1:=Close,InputChoice2::=Close)\", \"FG\", \"\", \"Close\",$B$2,A76, \"all\",\"\", \"\",\"True\",\"T\")/100","v":0.85266656479999992},null,0.44000000000000072,1,{"$error":"#N/A"},null,{"$f":"RTD(\"cqg.rtd\",,\"StudyData\", \"Correlation(\"&$B$3&\",\"&AG$2&\",Period:=\"&$B$1&\",InputChoice1:=Close,InputChoice2::=Close)\", \"FG\", \"\", \"Close\",$B$2,A76, \"all\",\"\", \"\",\"True\",\"T\")/100","v":0.74807475569999993},null,0.44000000000000072,1,{"$error":"#N/A"},null,{"$f":"RTD(\"cqg.rtd\",,\"StudyData\", \"Correlation(\"&$B$3&\",\"&AM$2&\",Period:=\"&$B$1&\",InputChoice1:=Close,InputChoice2::=Close)\", \"FG\", \"\", \"Close\",$B$2,A76, \"all\",\"\", \"\",\"True\",\"T\")/100","v":0.8714188021},null,0.44000000000000072,3,{"$error":"#N/A"},null,{"$f":"RTD(\"cqg.rtd\",,\"StudyData\", \"Correlation(\"&$B$3&\",\"&AS$2&\",Period:=\"&$B$1&\",InputChoice1:=Close,InputChoice2::=Close)\", \"FG\", \"\", \"Close\",$B$2,A76, \"all\",\"\", \"\",\"True\",\"T\")/100","v":0.19913863899999998},null,0.44000000000000072,2,{"$error":"#N/A"},null,{"$f":"RTD(\"cqg.rtd\",,\"StudyData\", \"Correlation(\"&$B$3&\",\"&AY$2&\",Period:=\"&$B$1&\",InputChoice1:=Close,InputChoice2::=Close)\", \"FG\", \"\", \"Close\",$B$2,A76, \"all\",\"\", \"\",\"True\",\"T\")/100","v":-0.67598117880000008},null,0.44000000000000072,0,{"$error":"#N/A"},null,{"$f":"RTD(\"cqg.rtd\",,\"StudyData\", \"Correlation(\"&$B$3&\",\"&BE$2&\",Period:=\"&$B$1&\",InputChoice1:=Close,InputChoice2::=Close)\", \"FG\", \"\", \"Close\",$B$2,A76, \"all\",\"\", \"\",\"True\",\"T\")/100","v":0.2311883009},null,0.44000000000000072,4,{"$error":"#N/A"}]
[-73,null,{"$f":"RTD(\"cqg.rtd\",,\"StudyData\", \"Correlation(\"&$B$3&\",\"&C$2&\",Period:=\"&$B$1&\",InputChoice1::=Close,InputChoice2::=Close)\", \"FG\", \"\", \"Close\",$B$2,A77, \"all\",\"\", \"\",\"True\",\"T\")/100","v":0.71295288109999999},null,0.46000000000000074,0,{"$error":"#N/A"},null,{"$f":"RTD(\"cqg.rtd\",,\"StudyData\", \"Correlation(\"&$B$3&\",\"&I$2&\",Period:=\"&$B$1&\",InputChoice1:=Close,InputChoice2::=Close)\", \"FG\", \"\", \"Close\",$B$2,A77, \"all\",\"\", \"\",\"True\",\"T\")/100","v":0.7609850387999999},null,0.46000000000000074,1,{"$error":"#N/A"},null,{"$f":"RTD(\"cqg.rtd\",,\"StudyData\", \"Correlation(\"&$B$3&\",\"&O$2&\",Period:=\"&$B$1&\",InputChoice1:=Close,InputChoice2::=Close)\", \"FG\", \"\", \"Close\",$B$2,A77, \"all\",\"\", \"\",\"True\",\"T\")/100","v":0.92319592159999997},null,0.46000000000000074,2,{"$error":"#N/A"},null,{"$f":"RTD(\"cqg.rtd\",,\"StudyData\", \"Correlation(\"&$B$3&\",\"&U$2&\",Period:=\"&$B$1&\",InputChoice1:=Close,InputChoice2::=Close)\", \"FG\", \"\", \"Close\",$B$2,A77, \"all\",\"\", \"\",\"True\",\"T\")/100","v":0.82050488860000004},null,0.46000000000000074,0,{"$error":"#N/A"},null,{"$f":"RTD(\"cqg.rtd\",,\"StudyData\", \"Correlation(\"&$B$3&\",\"&AA$2&\",Period:=\"&$B$1&\",InputChoice1:=Close,InputChoice2::=Close)\", \"FG\", \"\", \"Close\",$B$2,A77, \"all\",\"\", \"\",\"True\",\"T\")/100","v":0.85025304489999998},null,0.46000000000000074,1,{"$error":"#N/A"},null,{"$f":"RTD(\"cqg.rtd\",,\"StudyData\", \"Correlation(\"&$B$3&\",\"&AG$2&\",Period:=\"&$B$1&\",InputChoice1:=Close,InputChoice2::=Close)\", \"FG\", \"\", \"Close\",$B$2,A77, \"all\",\"\", \"\",\"True\",\"T\")/100","v":0.89850446379999993},null,0.46000000000000074,0,{"$error":"#N/A"},null,{"$f":"RTD(\"cqg.rtd\",,\"StudyData\", \"Correlation(\"&$B$3&\",\"&AM$2&\",Period:=\"&$B$1&\",InputChoice1:=Close,InputChoice2::=Close)\", \"FG\", \"\", \"Close\",$B$2,A77, \"all\",\"\", \"\",\"True\",\"T\")/100","v":0.91216395390000005},null,0.46000000000000074,1,{"$error":"#N/A"},null,{"$f":"RTD(\"cqg.rtd\",,\"StudyData\", \"Correlation(\"&$B$3&\",\"&AS$2&\",Period:=\"&$B$1&\",InputChoice1:=Close,InputChoice2::=Close)\", \"FG\", \"\", \"Close\",$B$2,A77, \"all\",\"\", \"\",\"True\",\"T\")/100","v":0.48747653499999999},null,0.46000000000000074,1,{"$error":"#N/A"},null,{"$f":"RTD(\"cqg.rtd\",,\"StudyData\", \"Correlation(\"&$B$3&\",\"&AY$2&\",Period:=\"&$B$1&\",InputChoice1:=Close,InputChoice2::=Close)\", \"FG\", \"\", \"Close\",$B$2,A77, \"all\",\"\", \"\",\"True\",\"T\")/100","v":-0.80461370180000003},null,0.46000000000000074,1,{"$error":"#N/A"},null,{"$f":"RTD(\"cqg.rtd\",,\"StudyData\", \"Correlation(\"&$B$3&\",\"&BE$2&\",Period:=\"&$B$1&\",InputChoice1:=Close,InputChoice2::=Close)\", \"FG\", \"\", \"Close\",$B$2,A77, \"all\",\"\", \"\",\"True\",\"T\")/100","v":0.23620659589999998},null,0.46000000000000074,2,{"$error":"#N/A"}]
[-74,null,{"$f":"RTD(\"cqg.rtd\",,\"StudyData\", \"Correlation(\"&$B$3&\",\"&C$2&\",Period:=\"&$B$1&\",InputChoice1::=Close,InputChoice2::=Close)\", \"FG\", \"\", \"Close\",$B$2,A78, \"all\",\"\", \"\",\"True\",\"T\")/100","v":0.79517045620000004},null,0.48000000000000076,0,{"$error":"#N/A"},null,{"$f":"RTD(\"cqg.rtd\",,\"StudyData\", \"Correlation(\"&$B$3&\",\"&I$2&\",Period:=\"&$B$1&\",InputChoice1:=Close,InputChoice2::=Close)\", \"FG\", \"\", \"Close\",$B$2,A78, \"all\",\"\", \"\",\"True\",\"T\")/100","v":0.80115509990000011},null,0.48000000000000076,2,{"$error":"#N/A"},null,{"$f":"RTD(\"cqg.rtd\",,\"StudyData\", \"Correlation(\"&$B$3&\",\"&O$2&\",Period:=\"&$B$1&\",InputChoice1:=Close,InputChoice2::=Close)\", \"FG\", \"\", \"Close\",$B$2,A78, \"all\",\"\", \"\",\"True\",\"T\")/100","v":0.92370259360000007},null,0.48000000000000076,0,{"$error":"#N/A"},null,{"$f":"RTD(\"cqg.rtd\",,\"StudyData\", \"Correlation(\"&$B$3&\",\"&U$2&\",Period:=\"&$B$1&\",InputChoice1:=Close,InputChoice2::=Close)\", \"FG\", \"\", \"Close\",$B$2,A78, \"all\",\"\", \"\",\"True\",\"T\")/100","v":0.900136665},null,0.48000000000000076,1,{"$error":"#N/A"},null,{"$f":"RTD(\"cqg.rtd\",,\"StudyData\", \"Correlation(\"&$B$3&\",\"&AA$2&\",Period:=\"&$B$1&\",InputChoice1:=Close,InputChoice2::=Close)\", \"FG\", \"\", \"Close\",$B$2,A78, \"all\",\"\", \"\",\"True\",\"T\")/100","v":0.88067800709999999},null,0.48000000000000076,1,{"$error":"#N/A"},null,{"$f":"RTD(\"cqg.rtd\",,\"StudyData\", \"Correlation(\"&$B$3&\",\"&AG$2&\",Period:=\"&$B$1&\",InputChoice1:=Close,InputChoice2::=Close)\", \"FG\", \"\", \"Close\",$B$2,A78, \"all\",\"\", \"\",\"True\",\"T\")/100","v":0.91787384009999995},null,0.48000000000000076,0,{"$error":"#N/A"},null,{"$f":"RTD(\"cqg.rtd\",,\"StudyData\", \"Correlation(\"&$B$3&\",\"&AM$2&\",Period:=\"&$B$1&\",InputChoice1:=Close,InputChoice2::=Close)\", \"FG\", \"\", \"Close\",$B$2,A78, \"all\",\"\", \"\",\"True\",\"T\")/100","v":0.89594724429999995},null,0.48000000000000076,2,{"$error":"#N/A"},null,{"$f":"RTD(\"cqg.rtd\",,\"StudyData\", \"Correlation(\"&$B$3&\",\"&AS$2&\",Period:=\"&$B$1&\",InputChoice1:=Close,InputChoice2::=Close)\", \"FG\", \"\", \"Close\",$B$2,A78, \"all\",\"\", \"\",\"True\",\"T\")/100","v":0.58078530270000006},null,0.48000000000000076,3,{"$error":"#N/A"},null,{"$f":"RTD(\"cqg.rtd\",,\"StudyData\", \"Correlation(\"&$B$3&\",\"&AY$2&\",Period:=\"&$B$1&\",InputChoice1:=Close,InputChoice2::=Close)\", \"FG\", \"\", \"Close\",$B$2,A78, \"all\",\"\", \"\",\"True\",\"T\")/100","v":-0.88086310740000007},null,0.48000000000000076,1,{"$error":"#N/A"},null,{"$f":"RTD(\"cqg.rtd\",,\"StudyData\", \"Correlation(\"&$B$3&\",\"&BE$2&\",Period:=\"&$B$1&\",InputChoice1:=Close,InputChoice2::=Close)\", \"FG\", \"\", \"Close\",$B$2,A78, \"all\",\"\", \"\",\"True\",\"T\")/100","v":0.34172727289999999},null,0.48000000000000076,2,{"$error":"#N/A"}]
[-75,null,{"$f":"RTD(\"cqg.rtd\",,\"StudyData\", \"Correlation(\"&$B$3&\",\"&C$2&\",Period:=\"&$B$1&\",InputChoice1::=Close,InputChoice2::=Close)\", \"FG\", \"\", \"Close\",$B$2,A79, \"all\",\"\", \"\",\"True\",\"T\")/100","v":0.83398113190000001},null,0.50000000000000078,2,{"$error":"#N/A"},null,{"$f":"RTD(\"cqg.rtd\",,\"StudyData\", \"Correlation(\"&$B$3&\",\"&I$2&\",Period:=\"&$B$1&\",InputChoice1:=Close,InputChoice2::=Close)\", \"FG\", \"\", \"Close\",$B$2,A79, \"all\",\"\", \"\",\"True\",\"T\")/100","v":0.83875544540000002},null,0.50000000000000078,1,{"$error":"#N/A"},null,{"$f":"RTD(\"cqg.rtd\",,\"StudyData\", \"Correlation(\"&$B$3&\",\"&O$2&\",Period:=\"&$B$1&\",InputChoice1:=Close,InputChoice2::=Close)\", \"FG\", \"\", \"Close\",$B$2,A79, \"all\",\"\", \"\",\"True\",\"T\")/100","v":0.91817388850000003},null,0.50000000000000078,0,{"$error":"#N/A"},null,{"$f":"RTD(\"cqg.rtd\",,\"StudyData\", \"Correlation(\"&$B$3&\",\"&U$2&\",Period:=\"&$B$1&\",InputChoice1:=Close,InputChoice2::=Close)\", \"FG\", \"\", \"Close\",$B$2,A79, \"all\",\"\", \"\",\"True\",\"T\")/100","v":0.92214488970000008},null,0.50000000000000078,1,{"$error":"#N/A"},null,{"$f":"RTD(\"cqg.rtd\",,\"StudyData\", \"Correlation(\"&$B$3&\",\"&AA$2&\",Period:=\"&$B$1&\",InputChoice1:=Close,InputChoice2::=Close)\", \"FG\", \"\", \"Close\",$B$2,A79, \"all\",\"\", \"\",\"True\",\"T\")/100","v":0.85825695810000002},null,0.50000000000000078,3,{"$error":"#N/A"},null,{"$f":"RTD(\"cqg.rtd\",,\"StudyData\", \"Correlation(\"&$B$3&\",\"&AG$2&\",Period:=\"&$B$1&\",InputChoice1:=Close,InputChoice2::=Close)\", \"FG\", \"\", \"Close\",$B$2,A79, \"all\",\"\", \"\",\"True\",\"T\")/100","v":0.90771081140000009},null,0.50000000000000078,5,{"$error":"#N/A"},null,{"$f":"RTD(\"cqg.rtd\",,\"StudyData\", \"Correlation(\"&$B$3&\",\"&AM$2&\",Period:=\"&$B$1&\",InputChoice1:=Close,InputChoice2::=Close)\", \"FG\", \"\", \"Close\",$B$2,A79, \"all\",\"\", \"\",\"True\",\"T\")/100","v":0.8740030607},null,0.50000000000000078,2,{"$error":"#N/A"},null,{"$f":"RTD(\"cqg.rtd\",,\"StudyData\", \"Correlation(\"&$B$3&\",\"&AS$2&\",Period:=\"&$B$1&\",InputChoice1:=Close,InputChoice2::=Close)\", \"FG\", \"\", \"Close\",$B$2,A79, \"all\",\"\", \"\",\"True\",\"T\")/100","v":0.62014512690000001},null,0.50000000000000078,2,{"$error":"#N/A"},null,{"$f":"RTD(\"cqg.rtd\",,\"StudyData\", \"Correlation(\"&$B$3&\",\"&AY$2&\",Period:=\"&$B$1&\",InputChoice1:=Close,InputChoice2::=Close)\", \"FG\", \"\", \"Close\",$B$2,A79, \"all\",\"\", \"\",\"True\",\"T\")/100","v":-0.88008607049999998},null,0.50000000000000078,0,{"$error":"#N/A"},null,{"$f":"RTD(\"cqg.rtd\",,\"StudyData\", \"Correlation(\"&$B$3&\",\"&BE$2&\",Period:=\"&$B$1&\",InputChoice1:=Close,InputChoice2::=Close)\", \"FG\", \"\", \"Close\",$B$2,A79, \"all\",\"\", \"\",\"True\",\"T\")/100","v":0.62318344469999998},null,0.50000000000000078,2,{"$error":"#N/A"}]
[-76,null,{"$f":"RTD(\"cqg.rtd\",,\"StudyData\", \"Correlation(\"&$B$3&\",\"&C$2&\",Period:=\"&$B$1&\",InputChoice1::=Close,InputChoice2::=Close)\", \"FG\", \"\", \"Close\",$B$2,A80, \"all\",\"\", \"\",\"True\",\"T\")/100","v":0.83920688330000004},null,0.52000000000000079,4,{"$error":"#N/A"},null,{"$f":"RTD(\"cqg.rtd\",,\"StudyData\", \"Correlation(\"&$B$3&\",\"&I$2&\",Period:=\"&$B$1&\",InputChoice1:=Close,InputChoice2::=Close)\", \"FG\", \"\", \"Close\",$B$2,A80, \"all\",\"\", \"\",\"True\",\"T\")/100","v":0.83939778849999991},null,0.52000000000000079,1,{"$error":"#N/A"},null,{"$f":"RTD(\"cqg.rtd\",,\"StudyData\", \"Correlation(\"&$B$3&\",\"&O$2&\",Period:=\"&$B$1&\",InputChoice1:=Close,InputChoice2::=Close)\", \"FG\", \"\", \"Close\",$B$2,A80, \"all\",\"\", \"\",\"True\",\"T\")/100","v":0.84072064670000002},null,0.52000000000000079,1,{"$error":"#N/A"},null,{"$f":"RTD(\"cqg.rtd\",,\"StudyData\", \"Correlation(\"&$B$3&\",\"&U$2&\",Period:=\"&$B$1&\",InputChoice1:=Close,InputChoice2::=Close)\", \"FG\", \"\", \"Close\",$B$2,A80, \"all\",\"\", \"\",\"True\",\"T\")/100","v":0.91440457629999994},null,0.52000000000000079,0,{"$error":"#N/A"},null,{"$f":"RTD(\"cqg.rtd\",,\"StudyData\", \"Correlation(\"&$B$3&\",\"&AA$2&\",Period:=\"&$B$1&\",InputChoice1:=Close,InputChoice2::=Close)\", \"FG\", \"\", \"Close\",$B$2,A80, \"all\",\"\", \"\",\"True\",\"T\")/100","v":0.89531350090000006},null,0.52000000000000079,3,3,null,{"$f":"RTD(\"cqg.rtd\",,\"StudyData\", \"Correlation(\"&$B$3&\",\"&AG$2&\",Period:=\"&$B$1&\",InputChoice1:=Close,InputChoice2::=Close)\", \"FG\", \"\", \"Close\",$B$2,A80, \"all\",\"\", \"\",\"True\",\"T\")/100","v":0.93227663000000005},null,0.52000000000000079,3,{"$error":"#N/A"},null,{"$f":"RTD(\"cqg.rtd\",,\"StudyData\", \"Correlation(\"&$B$3&\",\"&AM$2&\",Period:=\"&$B$1&\",InputChoice1:=Close,InputChoice2::=Close)\", \"FG\", \"\", \"Close\",$B$2,A80, \"all\",\"\", \"\",\"True\",\"T\")/100","v":0.90596014299999994},null,0.52000000000000079,3,{"$error":"#N/A"},null,{"$f":"RTD(\"cqg.rtd\",,\"StudyData\", \"Correlation(\"&$B$3&\",\"&AS$2&\",Period:=\"&$B$1&\",InputChoice1:=Close,InputChoice2::=Close)\", \"FG\", \"\", \"Close\",$B$2,A80, \"all\",\"\", \"\",\"True\",\"T\")/100","v":0.71622292419999989},null,0.52000000000000079,2,{"$error":"#N/A"},null,{"$f":"RTD(\"cqg.rtd\",,\"StudyData\", \"Correlation(\"&$B$3&\",\"&AY$2&\",Period:=\"&$B$1&\",InputChoice1:=Close,InputChoice2::=Close)\", \"FG\", \"\", \"Close\",$B$2,A80, \"all\",\"\", \"\",\"True\",\"T\")/100","v":-0.94222761230000007},null,0.52000000000000079,1,{"$error":"#N/A"},null,{"$f":"RTD(\"cqg.rtd\",,\"StudyData\", \"Correlation(\"&$B$3&\",\"&BE$2&\",Period:=\"&$B$1&\",InputChoice1:=Close,InputChoice2::=Close)\", \"FG\", \"\", \"Close\",$B$2,A80, \"all\",\"\", \"\",\"True\",\"T\")/100","v":0.74749441430000008},null,0.52000000000000079,1,{"$error":"#N/A"}]
[-77,null,{"$f":"RTD(\"cqg.rtd\",,\"StudyData\", \"Correlation(\"&$B$3&\",\"&C$2&\",Period:=\"&$B$1&\",InputChoice1::=Close,InputChoice2::=Close)\", \"FG\", \"\", \"Close\",$B$2,A81, \"all\",\"\", \"\",\"True\",\"T\")/100","v":0.85170077449999992},null,0.54000000000000081,2,{"$error":"#N/A"},null,{"$f":"RTD(\"cqg.rtd\",,\"StudyData\", \"Correlation(\"&$B$3&\",\"&I$2&\",Period:=\"&$B$1&\",InputChoice1:=Close,InputChoice2::=Close)\", \"FG\", \"\", \"Close\",$B$2,A81, \"all\",\"\", \"\",\"True\",\"T\")/100","v":0.85253233859999999},null,0.54000000000000081,1,{"$error":"#N/A"},null,{"$f":"RTD(\"cqg.rtd\",,\"StudyData\", \"Correlation(\"&$B$3&\",\"&O$2&\",Period:=\"&$B$1&\",InputChoice1:=Close,InputChoice2::=Close)\", \"FG\", \"\", \"Close\",$B$2,A81, \"all\",\"\", \"\",\"True\",\"T\")/100","v":0.87409429509999992},null,0.54000000000000081,0,{"$error":"#N/A"},null,{"$f":"RTD(\"cqg.rtd\",,\"StudyData\", \"Correlation(\"&$B$3&\",\"&U$2&\",Period:=\"&$B$1&\",InputChoice1:=Close,InputChoice2::=Close)\", \"FG\", \"\", \"Close\",$B$2,A81, \"all\",\"\", \"\",\"True\",\"T\")/100","v":0.88289692590000002},null,0.54000000000000081,0,{"$error":"#N/A"},null,{"$f":"RTD(\"cqg.rtd\",,\"StudyData\", \"Correlation(\"&$B$3&\",\"&AA$2&\",Period:=\"&$B$1&\",InputChoice1:=Close,InputChoice2::=Close)\", \"FG\", \"\", \"Close\",$B$2,A81, \"all\",\"\", \"\",\"True\",\"T\")/100","v":0.88710905650000005},null,0.54000000000000081,2,{"$error":"#N/A"},null,{"$f":"RTD(\"cqg.rtd\",,\"StudyData\", \"Correlation(\"&$B$3&\",\"&AG$2&\",Period:=\"&$B$1&\",InputChoice1:=Close,InputChoice2::=Close)\", \"FG\", \"\", \"Close\",$B$2,A81, \"all\",\"\", \"\",\"True\",\"T\")/100","v":0.89854488430000001},null,0.54000000000000081,0,{"$error":"#N/A"},null,{"$f":"RTD(\"cqg.rtd\",,\"StudyData\", \"Correlation(\"&$B$3&\",\"&AM$2&\",Period:=\"&$B$1&\",InputChoice1:=Close,InputChoice2::=Close)\", \"FG\", \"\", \"Close\",$B$2,A81, \"all\",\"\", \"\",\"True\",\"T\")/100","v":0.90530091950000002},null,0.54000000000000081,2,{"$error":"#N/A"},null,{"$f":"RTD(\"cqg.rtd\",,\"StudyData\", \"Correlation(\"&$B$3&\",\"&AS$2&\",Period:=\"&$B$1&\",InputChoice1:=Close,InputChoice2::=Close)\", \"FG\", \"\", \"Close\",$B$2,A81, \"all\",\"\", \"\",\"True\",\"T\")/100","v":0.50454631810000006},null,0.54000000000000081,2,{"$error":"#N/A"},null,{"$f":"RTD(\"cqg.rtd\",,\"StudyData\", \"Correlation(\"&$B$3&\",\"&AY$2&\",Period:=\"&$B$1&\",InputChoice1:=Close,InputChoice2::=Close)\", \"FG\", \"\", \"Close\",$B$2,A81, \"all\",\"\", \"\",\"True\",\"T\")/100","v":-0.92274404160000001},null,0.54000000000000081,0,{"$error":"#N/A"},null,{"$f":"RTD(\"cqg.rtd\",,\"StudyData\", \"Correlation(\"&$B$3&\",\"&BE$2&\",Period:=\"&$B$1&\",InputChoice1:=Close,InputChoice2::=Close)\", \"FG\", \"\", \"Close\",$B$2,A81, \"all\",\"\", \"\",\"True\",\"T\")/100","v":0.74686499670000006},null,0.54000000000000081,7,{"$error":"#N/A"}]
[-78,null,{"$f":"RTD(\"cqg.rtd\",,\"StudyData\", \"Correlation(\"&$B$3&\",\"&C$2&\",Period:=\"&$B$1&\",InputChoice1::=Close,InputChoice2::=Close)\", \"FG\", \"\", \"Close\",$B$2,A82, \"all\",\"\", \"\",\"True\",\"T\")/100","v":0.85837491869999993},null,0.56000000000000083,2,{"$error":"#N/A"},null,{"$f":"RTD(\"cqg.rtd\",,\"StudyData\", \"Correlation(\"&$B$3&\",\"&I$2&\",Period:=\"&$B$1&\",InputChoice1:=Close,InputChoice2::=Close)\", \"FG\", \"\", \"Close\",$B$2,A82, \"all\",\"\", \"\",\"True\",\"T\")/100","v":0.84690125069999989},null,0.56000000000000083,0,{"$error":"#N/A"},null,{"$f":"RTD(\"cqg.rtd\",,\"StudyData\", \"Correlation(\"&$B$3&\",\"&O$2&\",Period:=\"&$B$1&\",InputChoice1:=Close,InputChoice2::=Close)\", \"FG\", \"\", \"Close\",$B$2,A82, \"all\",\"\", \"\",\"True\",\"T\")/100","v":0.93985221730000001},null,0.56000000000000083,0,{"$error":"#N/A"},null,{"$f":"RTD(\"cqg.rtd\",,\"StudyData\", \"Correlation(\"&$B$3&\",\"&U$2&\",Period:=\"&$B$1&\",InputChoice1:=Close,InputChoice2::=Close)\", \"FG\", \"\", \"Close\",$B$2,A82, \"all\",\"\", \"\",\"True\",\"T\")/100","v":0.88334848509999997},null,0.56000000000000083,1,{"$error":"#N/A"},null,{"$f":"RTD(\"cqg.rtd\",,\"StudyData\", \"Correlation(\"&$B$3&\",\"&AA$2&\",Period:=\"&$B$1&\",InputChoice1:=Close,InputChoice2::=Close)\", \"FG\", \"\", \"Close\",$B$2,A82, \"all\",\"\", \"\",\"True\",\"T\")/100","v":0.91398849449999997},null,0.56000000000000083,1,{"$error":"#N/A"},null,{"$f":"RTD(\"cqg.rtd\",,\"StudyData\", \"Correlation(\"&$B$3&\",\"&AG$2&\",Period:=\"&$B$1&\",InputChoice1:=Close,InputChoice2::=Close)\", \"FG\", \"\", \"Close\",$B$2,A82, \"all\",\"\", \"\",\"True\",\"T\")/100","v":0.91100358990000008},null,0.56000000000000083,3,{"$error":"#N/A"},null,{"$f":"RTD(\"cqg.rtd\",,\"StudyData\", \"Correlation(\"&$B$3&\",\"&AM$2&\",Period:=\"&$B$1&\",InputChoice1:=Close,InputChoice2::=Close)\", \"FG\", \"\", \"Close\",$B$2,A82, \"all\",\"\", \"\",\"True\",\"T\")/100","v":0.9387593756},null,0.56000000000000083,1,{"$error":"#N/A"},null,{"$f":"RTD(\"cqg.rtd\",,\"StudyData\", \"Correlation(\"&$B$3&\",\"&AS$2&\",Period:=\"&$B$1&\",InputChoice1:=Close,InputChoice2::=Close)\", \"FG\", \"\", \"Close\",$B$2,A82, \"all\",\"\", \"\",\"True\",\"T\")/100","v":0.39977707639999999},null,0.56000000000000083,0,{"$error":"#N/A"},null,{"$f":"RTD(\"cqg.rtd\",,\"StudyData\", \"Correlation(\"&$B$3&\",\"&AY$2&\",Period:=\"&$B$1&\",InputChoice1:=Close,InputChoice2::=Close)\", \"FG\", \"\", \"Close\",$B$2,A82, \"all\",\"\", \"\",\"True\",\"T\")/100","v":-0.94271203950000004},null,0.56000000000000083,1,{"$error":"#N/A"},null,{"$f":"RTD(\"cqg.rtd\",,\"StudyData\", \"Correlation(\"&$B$3&\",\"&BE$2&\",Period:=\"&$B$1&\",InputChoice1:=Close,InputChoice2::=Close)\", \"FG\", \"\", \"Close\",$B$2,A82, \"all\",\"\", \"\",\"True\",\"T\")/100","v":0.77914335440000004},null,0.56000000000000083,1,{"$error":"#N/A"}]
[-79,null,{"$f":"RTD(\"cqg.rtd\",,\"StudyData\", \"Correlation(\"&$B$3&\",\"&C$2&\",Period:=\"&$B$1&\",InputChoice1::=Close,InputChoice2::=Close)\", \"FG\", \"\", \"Close\",$B$2,A83, \"all\",\"\", \"\",\"True\",\"T\")/100","v":0.88777770820000002},null,0.58000000000000085,0,{"$error":"#N/A"},null,{"$f":"RTD(\"cqg.rtd\",,\"StudyData\", \"Correlation(\"&$B$3&\",\"&I$2&\",Period:=\"&$B$1&\",InputChoice1:=Close,InputChoice2::=Close)\", \"FG\", \"\", \"Close\",$B$2,A83, \"all\",\"\", \"\",\"True\",\"T\")/100","v":0.88516401140000001},null,0.58000000000000085,3,{"$error":"#N/A"},null,{"$f":"RTD(\"cqg.rtd\",,\"StudyData\", \"Correlation(\"&$B$3&\",\"&O$2&\",Period:=\"&$B$1&\",InputChoice1:=Close,InputChoice2::=Close)\", \"FG\", \"\", \"Close\",$B$2,A83, \"all\",\"\", \"\",\"True\",\"T\")/100","v":0.95091673420000011},null,0.58000000000000085,0,{"$error":"#N/A"},null,{"$f":"RTD(\"cqg.rtd\",,\"StudyData\", \"Correlation(\"&$B$3&\",\"&U$2&\",Period:=\"&$B$1&\",InputChoice1:=Close,InputChoice2::=Close)\", \"FG\", \"\", \"Close\",$B$2,A83, \"all\",\"\", \"\",\"True\",\"T\")/100","v":0.93206586089999999},null,0.58000000000000085,1,{"$error":"#N/A"},null,{"$f":"RTD(\"cqg.rtd\",,\"StudyData\", \"Correlation(\"&$B$3&\",\"&AA$2&\",Period:=\"&$B$1&\",InputChoice1:=Close,InputChoice2::=Close)\", \"FG\", \"\", \"Close\",$B$2,A83, \"all\",\"\", \"\",\"True\",\"T\")/100","v":0.92849362410000003},null,0.58000000000000085,1,{"$error":"#N/A"},null,{"$f":"RTD(\"cqg.rtd\",,\"StudyData\", \"Correlation(\"&$B$3&\",\"&AG$2&\",Period:=\"&$B$1&\",InputChoice1:=Close,InputChoice2::=Close)\", \"FG\", \"\", \"Close\",$B$2,A83, \"all\",\"\", \"\",\"True\",\"T\")/100","v":0.92661124810000006},null,0.58000000000000085,1,1,null,{"$f":"RTD(\"cqg.rtd\",,\"StudyData\", \"Correlation(\"&$B$3&\",\"&AM$2&\",Period:=\"&$B$1&\",InputChoice1:=Close,InputChoice2::=Close)\", \"FG\", \"\", \"Close\",$B$2,A83, \"all\",\"\", \"\",\"True\",\"T\")/100","v":0.94218810640000006},null,0.58000000000000085,1,{"$error":"#N/A"},null,{"$f":"RTD(\"cqg.rtd\",,\"StudyData\", \"Correlation(\"&$B$3&\",\"&AS$2&\",Period:=\"&$B$1&\",InputChoice1:=Close,InputChoice2::=Close)\", \"FG\", \"\", \"Close\",$B$2,A83, \"all\",\"\", \"\",\"True\",\"T\")/100","v":0.28517238210000001},null,0.58000000000000085,3,{"$error":"#N/A"},null,{"$f":"RTD(\"cqg.rtd\",,\"StudyData\", \"Correlation(\"&$B$3&\",\"&AY$2&\",Period:=\"&$B$1&\",InputChoice1:=Close,InputChoice2::=Close)\", \"FG\", \"\", \"Close\",$B$2,A83, \"all\",\"\", \"\",\"True\",\"T\")/100","v":-0.9513254430000001},null,0.58000000000000085,0,{"$error":"#N/A"},null,{"$f":"RTD(\"cqg.rtd\",,\"StudyData\", \"Correlation(\"&$B$3&\",\"&BE$2&\",Period:=\"&$B$1&\",InputChoice1:=Close,InputChoice2::=Close)\", \"FG\", \"\", \"Close\",$B$2,A83, \"all\",\"\", \"\",\"True\",\"T\")/100","v":0.77953237169999989},null,0.58000000000000085,0,{"$error":"#N/A"}]
[-80,null,{"$f":"RTD(\"cqg.rtd\",,\"StudyData\", \"Correlation(\"&$B$3&\",\"&C$2&\",Period:=\"&$B$1&\",InputChoice1::=Close,InputChoice2::=Close)\", \"FG\", \"\", \"Close\",$B$2,A84, \"all\",\"\", \"\",\"True\",\"T\")/100","v":0.90089147670000003},null,0.60000000000000087,1,{"$error":"#N/A"},null,{"$f":"RTD(\"cqg.rtd\",,\"StudyData\", \"Correlation(\"&$B$3&\",\"&I$2&\",Period:=\"&$B$1&\",InputChoice1:=Close,InputChoice2::=Close)\", \"FG\", \"\", \"Close\",$B$2,A84, \"all\",\"\", \"\",\"True\",\"T\")/100","v":0.90413051300000002},null,0.60000000000000087,3,{"$error":"#N/A"},null,{"$f":"RTD(\"cqg.rtd\",,\"StudyData\", \"Correlation(\"&$B$3&\",\"&O$2&\",Period:=\"&$B$1&\",InputChoice1:=Close,InputChoice2::=Close)\", \"FG\", \"\", \"Close\",$B$2,A84, \"all\",\"\", \"\",\"True\",\"T\")/100","v":0.95691063610000004},null,0.60000000000000087,0,{"$error":"#N/A"},null,{"$f":"RTD(\"cqg.rtd\",,\"StudyData\", \"Correlation(\"&$B$3&\",\"&U$2&\",Period:=\"&$B$1&\",InputChoice1:=Close,InputChoice2::=Close)\", \"FG\", \"\", \"Close\",$B$2,A84, \"all\",\"\", \"\",\"True\",\"T\")/100","v":0.94843009379999998},null,0.60000000000000087,2,{"$error":"#N/A"},null,{"$f":"RTD(\"cqg.rtd\",,\"StudyData\", \"Correlation(\"&$B$3&\",\"&AA$2&\",Period:=\"&$B$1&\",InputChoice1:=Close,InputChoice2::=Close)\", \"FG\", \"\", \"Close\",$B$2,A84, \"all\",\"\", \"\",\"True\",\"T\")/100","v":0.9354982381000001},null,0.60000000000000087,1,{"$error":"#N/A"},null,{"$f":"RTD(\"cqg.rtd\",,\"StudyData\", \"Correlation(\"&$B$3&\",\"&AG$2&\",Period:=\"&$B$1&\",InputChoice1:=Close,InputChoice2::=Close)\", \"FG\", \"\", \"Close\",$B$2,A84, \"all\",\"\", \"\",\"True\",\"T\")/100","v":0.91950223850000001},null,0.60000000000000087,6,{"$error":"#N/A"},null,{"$f":"RTD(\"cqg.rtd\",,\"StudyData\", \"Correlation(\"&$B$3&\",\"&AM$2&\",Period:=\"&$B$1&\",InputChoice1:=Close,InputChoice2::=Close)\", \"FG\", \"\", \"Close\",$B$2,A84, \"all\",\"\", \"\",\"True\",\"T\")/100","v":0.94166025590000002},null,0.60000000000000087,0,{"$error":"#N/A"},null,{"$f":"RTD(\"cqg.rtd\",,\"StudyData\", \"Correlation(\"&$B$3&\",\"&AS$2&\",Period:=\"&$B$1&\",InputChoice1:=Close,InputChoice2::=Close)\", \"FG\", \"\", \"Close\",$B$2,A84, \"all\",\"\", \"\",\"True\",\"T\")/100","v":7.4703561900000007E-2},null,0.60000000000000087,2,{"$error":"#N/A"},null,{"$f":"RTD(\"cqg.rtd\",,\"StudyData\", \"Correlation(\"&$B$3&\",\"&AY$2&\",Period:=\"&$B$1&\",InputChoice1:=Close,InputChoice2::=Close)\", \"FG\", \"\", \"Close\",$B$2,A84, \"all\",\"\", \"\",\"True\",\"T\")/100","v":-0.96096114360000007},null,0.60000000000000087,0,{"$error":"#N/A"},null,{"$f":"RTD(\"cqg.rtd\",,\"StudyData\", \"Correlation(\"&$B$3&\",\"&BE$2&\",Period:=\"&$B$1&\",InputChoice1:=Close,InputChoice2::=Close)\", \"FG\", \"\", \"Close\",$B$2,A84, \"all\",\"\", \"\",\"True\",\"T\")/100","v":0.7784434093999999},null,0.60000000000000087,6,{"$error":"#N/A"}]
[-81,null,{"$f":"RTD(\"cqg.rtd\",,\"StudyData\", \"Correlation(\"&$B$3&\",\"&C$2&\",Period:=\"&$B$1&\",InputChoice1::=Close,InputChoice2::=Close)\", \"FG\", \"\", \"Close\",$B$2,A85, \"all\",\"\", \"\",\"True\",\"T\")/100","v":0.9317659358},null,0.62000000000000088,0,{"$error":"#N/A"},null,{"$f":"RTD(\"cqg.rtd\",,\"StudyData\", \"Correlation(\"&$B$3&\",\"&I$2&\",Period:=\"&$B$1&\",InputChoice1:=Close,InputChoice2::=Close)\", \"FG\", \"\", \"Close\",$B$2,A85, \"all\",\"\", \"\",\"True\",\"T\")/100","v":0.93846267589999999},null,0.62000000000000088,0,{"$error":"#N/A"},null,{"$f":"RTD(\"cqg.rtd\",,\"StudyData\", \"Correlation(\"&$B$3&\",\"&O$2&\",Period:=\"&$B$1&\",InputChoice1:=Close,InputChoice2::=Close)\", \"FG\", \"\", \"Close\",$B$2,A85, \"all\",\"\", \"\",\"True\",\"T\")/100","v":0.9799431970000001},null,0.62000000000000088,1,{"$error":"#N/A"},null,{"$f":"RTD(\"cqg.rtd\",,\"StudyData\", \"Correlation(\"&$B$3&\",\"&U$2&\",Period:=\"&$B$1&\",InputChoice1:=Close,InputChoice2::=Close)\", \"FG\", \"\", \"Close\",$B$2,A85, \"all\",\"\", \"\",\"True\",\"T\")/100","v":0.9661157387999999},null,0.62000000000000088,0,{"$error":"#N/A"},null,{"$f":"RTD(\"cqg.rtd\",,\"StudyData\", \"Correlation(\"&$B$3&\",\"&AA$2&\",Period:=\"&$B$1&\",InputChoice1:=Close,InputChoice2::=Close)\", \"FG\", \"\", \"Close\",$B$2,A85, \"all\",\"\", \"\",\"True\",\"T\")/100","v":0.92935436589999998},null,0.62000000000000088,1,{"$error":"#N/A"},null,{"$f":"RTD(\"cqg.rtd\",,\"StudyData\", \"Correlation(\"&$B$3&\",\"&AG$2&\",Period:=\"&$B$1&\",InputChoice1:=Close,InputChoice2::=Close)\", \"FG\", \"\", \"Close\",$B$2,A85, \"all\",\"\", \"\",\"True\",\"T\")/100","v":0.89865499699999996},null,0.62000000000000088,2,{"$error":"#N/A"},null,{"$f":"RTD(\"cqg.rtd\",,\"StudyData\", \"Correlation(\"&$B$3&\",\"&AM$2&\",Period:=\"&$B$1&\",InputChoice1:=Close,InputChoice2::=Close)\", \"FG\", \"\", \"Close\",$B$2,A85, \"all\",\"\", \"\",\"True\",\"T\")/100","v":0.91810388880000005},null,0.62000000000000088,2,2,null,{"$f":"RTD(\"cqg.rtd\",,\"StudyData\", \"Correlation(\"&$B$3&\",\"&AS$2&\",Period:=\"&$B$1&\",InputChoice1:=Close,InputChoice2::=Close)\", \"FG\", \"\", \"Close\",$B$2,A85, \"all\",\"\", \"\",\"True\",\"T\")/100","v":-0.3759456799},null,0.62000000000000088,0,{"$error":"#N/A"},null,{"$f":"RTD(\"cqg.rtd\",,\"StudyData\", \"Correlation(\"&$B$3&\",\"&AY$2&\",Period:=\"&$B$1&\",InputChoice1:=Close,InputChoice2::=Close)\", \"FG\", \"\", \"Close\",$B$2,A85, \"all\",\"\", \"\",\"True\",\"T\")/100","v":-0.97174080529999995},null,0.62000000000000088,4,{"$error":"#N/A"},null,{"$f":"RTD(\"cqg.rtd\",,\"StudyData\", \"Correlation(\"&$B$3&\",\"&BE$2&\",Period:=\"&$B$1&\",InputChoice1:=Close,InputChoice2::=Close)\", \"FG\", \"\", \"Close\",$B$2,A85, \"all\",\"\", \"\",\"True\",\"T\")/100","v":0.67991889259999994},null,0.62000000000000088,1,{"$error":"#N/A"}]
[-82,null,{"$f":"RTD(\"cqg.rtd\",,\"StudyData\", \"Correlation(\"&$B$3&\",\"&C$2&\",Period:=\"&$B$1&\",InputChoice1::=Close,InputChoice2::=Close)\", \"FG\", \"\", \"Close\",$B$2,A86, \"all\",\"\", \"\",\"True\",\"T\")/100","v":0.94843598470000001},null,0.6400000000000009,0,{"$error":"#N/A"},null,{"$f":"RTD(\"cqg.rtd\",,\"StudyData\", \"Correlation(\"&$B$3&\",\"&I$2&\",Period:=\"&$B$1&\",InputChoice1:=Close,InputChoice2::=Close)\", \"FG\", \"\", \"Close\",$B$2,A86, \"all\",\"\", \"\",\"True\",\"T\")/100","v":0.95379809390000003},null,0.6400000000000009,1,{"$error":"#N/A"},null,{"$f":"RTD(\"cqg.rtd\",,\"StudyData\", \"Correlation(\"&$B$3&\",\"&O$2&\",Period:=\"&$B$1&\",InputChoice1:=Close,InputChoice2::=Close)\", \"FG\", \"\", \"Close\",$B$2,A86, \"all\",\"\", \"\",\"True\",\"T\")/100","v":0.98492739039999999},null,0.6400000000000009,1,{"$error":"#N/A"},null,{"$f":"RTD(\"cqg.rtd\",,\"StudyData\", \"Correlation(\"&$B$3&\",\"&U$2&\",Period:=\"&$B$1&\",InputChoice1:=Close,InputChoice2::=Close)\", \"FG\", \"\", \"Close\",$B$2,A86, \"all\",\"\", \"\",\"True\",\"T\")/100","v":0.97555883089999995},null,0.6400000000000009,1,{"$error":"#N/A"},null,{"$f":"RTD(\"cqg.rtd\",,\"StudyData\", \"Correlation(\"&$B$3&\",\"&AA$2&\",Period:=\"&$B$1&\",InputChoice1:=Close,InputChoice2::=Close)\", \"FG\", \"\", \"Close\",$B$2,A86, \"all\",\"\", \"\",\"True\",\"T\")/100","v":0.92706424920000008},null,0.6400000000000009,1,{"$error":"#N/A"},null,{"$f":"RTD(\"cqg.rtd\",,\"StudyData\", \"Correlation(\"&$B$3&\",\"&AG$2&\",Period:=\"&$B$1&\",InputChoice1:=Close,InputChoice2::=Close)\", \"FG\", \"\", \"Close\",$B$2,A86, \"all\",\"\", \"\",\"True\",\"T\")/100","v":0.89834568209999999},null,0.6400000000000009,2,{"$error":"#N/A"},null,{"$f":"RTD(\"cqg.rtd\",,\"StudyData\", \"Correlation(\"&$B$3&\",\"&AM$2&\",Period:=\"&$B$1&\",InputChoice1:=Close,InputChoice2::=Close)\", \"FG\", \"\", \"Close\",$B$2,A86, \"all\",\"\", \"\",\"True\",\"T\")/100","v":0.9052598141},null,0.6400000000000009,1,{"$error":"#N/A"},null,{"$f":"RTD(\"cqg.rtd\",,\"StudyData\", \"Correlation(\"&$B$3&\",\"&AS$2&\",Period:=\"&$B$1&\",InputChoice1:=Close,InputChoice2::=Close)\", \"FG\", \"\", \"Close\",$B$2,A86, \"all\",\"\", \"\",\"True\",\"T\")/100","v":-0.42349214670000002},null,0.6400000000000009,2,{"$error":"#N/A"},null,{"$f":"RTD(\"cqg.rtd\",,\"StudyData\", \"Correlation(\"&$B$3&\",\"&AY$2&\",Period:=\"&$B$1&\",InputChoice1:=Close,InputChoice2::=Close)\", \"FG\", \"\", \"Close\",$B$2,A86, \"all\",\"\", \"\",\"True\",\"T\")/100","v":-0.96647089660000007},null,0.6400000000000009,2,{"$error":"#N/A"},null,{"$f":"RTD(\"cqg.rtd\",,\"StudyData\", \"Correlation(\"&$B$3&\",\"&BE$2&\",Period:=\"&$B$1&\",InputChoice1:=Close,InputChoice2::=Close)\", \"FG\", \"\", \"Close\",$B$2,A86, \"all\",\"\", \"\",\"True\",\"T\")/100","v":0.66968197129999996},null,0.6400000000000009,1,{"$error":"#N/A"}]
[-83,null,{"$f":"RTD(\"cqg.rtd\",,\"StudyData\", \"Correlation(\"&$B$3&\",\"&C$2&\",Period:=\"&$B$1&\",InputChoice1::=Close,InputChoice2::=Close)\", \"FG\", \"\", \"Close\",$B$2,A87, \"all\",\"\", \"\",\"True\",\"T\")/100","v":0.97468595449999995},null,0.66000000000000092,3,{"$error":"#N/A"},null,{"$f":"RTD(\"cqg.rtd\",,\"StudyData\", \"Correlation(\"&$B$3&\",\"&I$2&\",Period:=\"&$B$1&\",InputChoice1:=Close,InputChoice2::=Close)\", \"FG\", \"\", \"Close\",$B$2,A87, \"all\",\"\", \"\",\"True\",\"T\")/100","v":0.98336422410000002},null,0.66000000000000092,2,{"$error":"#N/A"},null,{"$f":"RTD(\"cqg.rtd\",,\"StudyData\", \"Correlation(\"&$B$3&\",\"&O$2&\",Period:=\"&$B$1&\",InputChoice1:=Close,InputChoice2::=Close)\", \"FG\", \"\", \"Close\",$B$2,A87, \"all\",\"\", \"\",\"True\",\"T\")/100","v":0.98878521829999999},null,0.66000000000000092,2,{"$error":"#N/A"},null,{"$f":"RTD(\"cqg.rtd\",,\"StudyData\", \"Correlation(\"&$B$3&\",\"&U$2&\",Period:=\"&$B$1&\",InputChoice1:=Close,InputChoice2::=Close)\", \"FG\", \"\", \"Close\",$B$2,A87, \"all\",\"\", \"\",\"True\",\"T\")/100","v":0.98171528809999997},null,0.66000000000000092,0,{"$error":"#N/A"},null,{"$f":"RTD(\"cqg.rtd\",,\"StudyData\", \"Correlation(\"&$B$3&\",\"&AA$2&\",Period:=\"&$B$1&\",InputChoice1:=Close,InputChoice2::=Close)\", \"FG\", \"\", \"Close\",$B$2,A87, \"all\",\"\", \"\",\"True\",\"T\")/100","v":0.94625107209999992},null,0.66000000000000092,3,{"$error":"#N/A"},null,{"$f":"RTD(\"cqg.rtd\",,\"StudyData\", \"Correlation(\"&$B$3&\",\"&AG$2&\",Period:=\"&$B$1&\",InputChoice1:=Close,InputChoice2::=Close)\", \"FG\", \"\", \"Close\",$B$2,A87, \"all\",\"\", \"\",\"True\",\"T\")/100","v":0.91682601689999998},null,0.66000000000000092,2,{"$error":"#N/A"},null,{"$f":"RTD(\"cqg.rtd\",,\"StudyData\", \"Correlation(\"&$B$3&\",\"&AM$2&\",Period:=\"&$B$1&\",InputChoice1:=Close,InputChoice2::=Close)\", \"FG\", \"\", \"Close\",$B$2,A87, \"all\",\"\", \"\",\"True\",\"T\")/100","v":0.89079000140000009},null,0.66000000000000092,4,{"$error":"#N/A"},null,{"$f":"RTD(\"cqg.rtd\",,\"StudyData\", \"Correlation(\"&$B$3&\",\"&AS$2&\",Period:=\"&$B$1&\",InputChoice1:=Close,InputChoice2::=Close)\", \"FG\", \"\", \"Close\",$B$2,A87, \"all\",\"\", \"\",\"True\",\"T\")/100","v":-0.67907245329999999},null,0.66000000000000092,3,{"$error":"#N/A"},null,{"$f":"RTD(\"cqg.rtd\",,\"StudyData\", \"Correlation(\"&$B$3&\",\"&AY$2&\",Period:=\"&$B$1&\",InputChoice1:=Close,InputChoice2::=Close)\", \"FG\", \"\", \"Close\",$B$2,A87, \"all\",\"\", \"\",\"True\",\"T\")/100","v":-0.96010615329999993},null,0.66000000000000092,1,{"$error":"#N/A"},null,{"$f":"RTD(\"cqg.rtd\",,\"StudyData\", \"Correlation(\"&$B$3&\",\"&BE$2&\",Period:=\"&$B$1&\",InputChoice1:=Close,InputChoice2::=Close)\", \"FG\", \"\", \"Close\",$B$2,A87, \"all\",\"\", \"\",\"True\",\"T\")/100","v":0.61518254610000001},null,0.66000000000000092,0,{"$error":"#N/A"}]
[-84,null,{"$f":"RTD(\"cqg.rtd\",,\"StudyData\", \"Correlation(\"&$B$3&\",\"&C$2&\",Period:=\"&$B$1&\",InputChoice1::=Close,InputChoice2::=Close)\", \"FG\", \"\", \"Close\",$B$2,A88, \"all\",\"\", \"\",\"True\",\"T\")/100","v":0.97841687170000002},null,0.68000000000000094,2,{"$error":"#N/A"},null,{"$f":"RTD(\"cqg.rtd\",,\"StudyData\", \"Correlation(\"&$B$3&\",\"&I$2&\",Period:=\"&$B$1&\",InputChoice1:=Close,InputChoice2::=Close)\", \"FG\", \"\", \"Close\",$B$2,A88, \"all\",\"\", \"\",\"True\",\"T\")/100","v":0.98271928819999999},null,0.68000000000000094,2,{"$error":"#N/A"},null,{"$f":"RTD(\"cqg.rtd\",,\"StudyData\", \"Correlation(\"&$B$3&\",\"&O$2&\",Period:=\"&$B$1&\",InputChoice1:=Close,InputChoice2::=Close)\", \"FG\", \"\", \"Close\",$B$2,A88, \"all\",\"\", \"\",\"True\",\"T\")/100","v":0.99099970139999993},null,0.68000000000000094,1,{"$error":"#N/A"},null,{"$f":"RTD(\"cqg.rtd\",,\"StudyData\", \"Correlation(\"&$B$3&\",\"&U$2&\",Period:=\"&$B$1&\",InputChoice1:=Close,InputChoice2::=Close)\", \"FG\", \"\", \"Close\",$B$2,A88, \"all\",\"\", \"\",\"True\",\"T\")/100","v":0.99137305780000007},null,0.68000000000000094,0,{"$error":"#N/A"},null,{"$f":"RTD(\"cqg.rtd\",,\"StudyData\", \"Correlation(\"&$B$3&\",\"&AA$2&\",Period:=\"&$B$1&\",InputChoice1:=Close,InputChoice2::=Close)\", \"FG\", \"\", \"Close\",$B$2,A88, \"all\",\"\", \"\",\"True\",\"T\")/100","v":0.93142409310000007},null,0.68000000000000094,1,{"$error":"#N/A"},null,{"$f":"RTD(\"cqg.rtd\",,\"StudyData\", \"Correlation(\"&$B$3&\",\"&AG$2&\",Period:=\"&$B$1&\",InputChoice1:=Close,InputChoice2::=Close)\", \"FG\", \"\", \"Close\",$B$2,A88, \"all\",\"\", \"\",\"True\",\"T\")/100","v":0.90994199370000006},null,0.68000000000000094,4,{"$error":"#N/A"},null,{"$f":"RTD(\"cqg.rtd\",,\"StudyData\", \"Correlation(\"&$B$3&\",\"&AM$2&\",Period:=\"&$B$1&\",InputChoice1:=Close,InputChoice2::=Close)\", \"FG\", \"\", \"Close\",$B$2,A88, \"all\",\"\", \"\",\"True\",\"T\")/100","v":0.86247050589999996},null,0.68000000000000094,1,{"$error":"#N/A"},null,{"$f":"RTD(\"cqg.rtd\",,\"StudyData\", \"Correlation(\"&$B$3&\",\"&AS$2&\",Period:=\"&$B$1&\",InputChoice1:=Close,InputChoice2::=Close)\", \"FG\", \"\", \"Close\",$B$2,A88, \"all\",\"\", \"\",\"True\",\"T\")/100","v":-0.61192019399999997},null,0.68000000000000094,1,{"$error":"#N/A"},null,{"$f":"RTD(\"cqg.rtd\",,\"StudyData\", \"Correlation(\"&$B$3&\",\"&AY$2&\",Period:=\"&$B$1&\",InputChoice1:=Close,InputChoice2::=Close)\", \"FG\", \"\", \"Close\",$B$2,A88, \"all\",\"\", \"\",\"True\",\"T\")/100","v":-0.93804007290000002},null,0.68000000000000094,0,{"$error":"#N/A"},null,{"$f":"RTD(\"cqg.rtd\",,\"StudyData\", \"Correlation(\"&$B$3&\",\"&BE$2&\",Period:=\"&$B$1&\",InputChoice1:=Close,InputChoice2::=Close)\", \"FG\", \"\", \"Close\",$B$2,A88, \"all\",\"\", \"\",\"True\",\"T\")/100","v":0.41570957860000002},null,0.68000000000000094,3,{"$error":"#N/A"}]
[-85,null,{"$f":"RTD(\"cqg.rtd\",,\"StudyData\", \"Correlation(\"&$B$3&\",\"&C$2&\",Period:=\"&$B$1&\",InputChoice1::=Close,InputChoice2::=Close)\", \"FG\", \"\", \"Close\",$B$2,A89, \"all\",\"\", \"\",\"True\",\"T\")/100","v":0.97206572359999999},null,0.70000000000000095,2,{"$error":"#N/A"},null,{"$f":"RTD(\"cqg.rtd\",,\"StudyData\", \"Correlation(\"&$B$3&\",\"&I$2&\",Period:=\"&$B$1&\",InputChoice1:=Close,InputChoice2::=Close)\", \"FG\", \"\", \"Close\",$B$2,A89, \"all\",\"\", \"\",\"True\",\"T\")/100","v":0.97608694090000003},null,0.70000000000000095,3,{"$error":"#N/A"},null,{"$f":"RTD(\"cqg.rtd\",,\"StudyData\", \"Correlation(\"&$B$3&\",\"&O$2&\",Period:=\"&$B$1&\",InputChoice1:=Close,InputChoice2::=Close)\", \"FG\", \"\", \"Close\",$B$2,A89, \"all\",\"\", \"\",\"True\",\"T\")/100","v":0.99196948109999994},null,0.70000000000000095,0,{"$error":"#N/A"},null,{"$f":"RTD(\"cqg.rtd\",,\"StudyData\", \"Correlation(\"&$B$3&\",\"&U$2&\",Period:=\"&$B$1&\",InputChoice1:=Close,InputChoice2::=Close)\", \"FG\", \"\", \"Close\",$B$2,A89, \"all\",\"\", \"\",\"True\",\"T\")/100","v":0.99363286680000007},null,0.70000000000000095,0,{"$error":"#N/A"},null,{"$f":"RTD(\"cqg.rtd\",,\"StudyData\", \"Correlation(\"&$B$3&\",\"&AA$2&\",Period:=\"&$B$1&\",InputChoice1:=Close,InputChoice2::=Close)\", \"FG\", \"\", \"Close\",$B$2,A89, \"all\",\"\", \"\",\"True\",\"T\")/100","v":0.91377407119999998},null,0.70000000000000095,5,{"$error":"#N/A"},null,{"$f":"RTD(\"cqg.rtd\",,\"StudyData\", \"Correlation(\"&$B$3&\",\"&AG$2&\",Period:=\"&$B$1&\",InputChoice1:=Close,InputChoice2::=Close)\", \"FG\", \"\", \"Close\",$B$2,A89, \"all\",\"\", \"\",\"True\",\"T\")/100","v":0.85420452310000006},null,0.70000000000000095,3,{"$error":"#N/A"},null,{"$f":"RTD(\"cqg.rtd\",,\"StudyData\", \"Correlation(\"&$B$3&\",\"&AM$2&\",Period:=\"&$B$1&\",InputChoice1:=Close,InputChoice2::=Close)\", \"FG\", \"\", \"Close\",$B$2,A89, \"all\",\"\", \"\",\"True\",\"T\")/100","v":0.77429254869999997},null,0.70000000000000095,1,{"$error":"#N/A"},null,{"$f":"RTD(\"cqg.rtd\",,\"StudyData\", \"Correlation(\"&$B$3&\",\"&AS$2&\",Period:=\"&$B$1&\",InputChoice1:=Close,InputChoice2::=Close)\", \"FG\", \"\", \"Close\",$B$2,A89, \"all\",\"\", \"\",\"True\",\"T\")/100","v":-0.44200504600000001},null,0.70000000000000095,1,{"$error":"#N/A"},null,{"$f":"RTD(\"cqg.rtd\",,\"StudyData\", \"Correlation(\"&$B$3&\",\"&AY$2&\",Period:=\"&$B$1&\",InputChoice1:=Close,InputChoice2::=Close)\", \"FG\", \"\", \"Close\",$B$2,A89, \"all\",\"\", \"\",\"True\",\"T\")/100","v":-0.897191764},null,0.70000000000000095,1,{"$error":"#N/A"},null,{"$f":"RTD(\"cqg.rtd\",,\"StudyData\", \"Correlation(\"&$B$3&\",\"&BE$2&\",Period:=\"&$B$1&\",InputChoice1:=Close,InputChoice2::=Close)\", \"FG\", \"\", \"Close\",$B$2,A89, \"all\",\"\", \"\",\"True\",\"T\")/100","v":0.17085928030000003},null,0.70000000000000095,0,{"$error":"#N/A"}]
[-86,null,{"$f":"RTD(\"cqg.rtd\",,\"StudyData\", \"Correlation(\"&$B$3&\",\"&C$2&\",Period:=\"&$B$1&\",InputChoice1::=Close,InputChoice2::=Close)\", \"FG\", \"\", \"Close\",$B$2,A90, \"all\",\"\", \"\",\"True\",\"T\")/100","v":0.95857514150000001},null,0.72000000000000097,3,{"$error":"#N/A"},null,{"$f":"RTD(\"cqg.rtd\",,\"StudyData\", \"Correlation(\"&$B$3&\",\"&I$2&\",Period:=\"&$B$1&\",InputChoice1:=Close,InputChoice2::=Close)\", \"FG\", \"\", \"Close\",$B$2,A90, \"all\",\"\", \"\",\"True\",\"T\")/100","v":0.95778614610000001},null,0.72000000000000097,2,{"$error":"#N/A"},null,{"$f":"RTD(\"cqg.rtd\",,\"StudyData\", \"Correlation(\"&$B$3&\",\"&O$2&\",Period:=\"&$B$1&\",InputChoice1:=Close,InputChoice2::=Close)\", \"FG\", \"\", \"Close\",$B$2,A90, \"all\",\"\", \"\",\"True\",\"T\")/100","v":0.93365965159999997},null,0.72000000000000097,0,{"$error":"#N/A"},null,{"$f":"RTD(\"cqg.rtd\",,\"StudyData\", \"Correlation(\"&$B$3&\",\"&U$2&\",Period:=\"&$B$1&\",InputChoice1:=Close,InputChoice2::=Close)\", \"FG\", \"\", \"Close\",$B$2,A90, \"all\",\"\", \"\",\"True\",\"T\")/100","v":0.98710201909999995},null,0.72000000000000097,1,{"$error":"#N/A"},null,{"$f":"RTD(\"cqg.rtd\",,\"StudyData\", \"Correlation(\"&$B$3&\",\"&AA$2&\",Period:=\"&$B$1&\",InputChoice1:=Close,InputChoice2::=Close)\", \"FG\", \"\", \"Close\",$B$2,A90, \"all\",\"\", \"\",\"True\",\"T\")/100","v":0.82361334670000008},null,0.72000000000000097,4,{"$error":"#N/A"},null,{"$f":"RTD(\"cqg.rtd\",,\"StudyData\", \"Correlation(\"&$B$3&\",\"&AG$2&\",Period:=\"&$B$1&\",InputChoice1:=Close,InputChoice2::=Close)\", \"FG\", \"\", \"Close\",$B$2,A90, \"all\",\"\", \"\",\"True\",\"T\")/100","v":0.71542059739999997},null,0.72000000000000097,5,{"$error":"#N/A"},null,{"$f":"RTD(\"cqg.rtd\",,\"StudyData\", \"Correlation(\"&$B$3&\",\"&AM$2&\",Period:=\"&$B$1&\",InputChoice1:=Close,InputChoice2::=Close)\", \"FG\", \"\", \"Close\",$B$2,A90, \"all\",\"\", \"\",\"True\",\"T\")/100","v":0.47256499699999999},null,0.72000000000000097,3,{"$error":"#N/A"},null,{"$f":"RTD(\"cqg.rtd\",,\"StudyData\", \"Correlation(\"&$B$3&\",\"&AS$2&\",Period:=\"&$B$1&\",InputChoice1:=Close,InputChoice2::=Close)\", \"FG\", \"\", \"Close\",$B$2,A90, \"all\",\"\", \"\",\"True\",\"T\")/100","v":-0.19055768950000002},null,0.72000000000000097,1,{"$error":"#N/A"},null,{"$f":"RTD(\"cqg.rtd\",,\"StudyData\", \"Correlation(\"&$B$3&\",\"&AY$2&\",Period:=\"&$B$1&\",InputChoice1:=Close,InputChoice2::=Close)\", \"FG\", \"\", \"Close\",$B$2,A90, \"all\",\"\", \"\",\"True\",\"T\")/100","v":-0.80378038230000004},null,0.72000000000000097,0,{"$error":"#N/A"},null,{"$f":"RTD(\"cqg.rtd\",,\"StudyData\", \"Correlation(\"&$B$3&\",\"&BE$2&\",Period:=\"&$B$1&\",InputChoice1:=Close,InputChoice2::=Close)\", \"FG\", \"\", \"Close\",$B$2,A90, \"all\",\"\", \"\",\"True\",\"T\")/100","v":4.6366579499999998E-2},null,0.72000000000000097,3,{"$error":"#N/A"}]
[-87,null,{"$f":"RTD(\"cqg.rtd\",,\"StudyData\", \"Correlation(\"&$B$3&\",\"&C$2&\",Period:=\"&$B$1&\",InputChoice1::=Close,InputChoice2::=Close)\", \"FG\", \"\", \"Close\",$B$2,A91, \"all\",\"\", \"\",\"True\",\"T\")/100","v":0.82334529729999995},null,0.74000000000000099,6,{"$error":"#N/A"},null,{"$f":"RTD(\"cqg.rtd\",,\"StudyData\", \"Correlation(\"&$B$3&\",\"&I$2&\",Period:=\"&$B$1&\",InputChoice1:=Close,InputChoice2::=Close)\", \"FG\", \"\", \"Close\",$B$2,A91, \"all\",\"\", \"\",\"True\",\"T\")/100","v":0.78722396739999989},null,0.74000000000000099,2,{"$error":"#N/A"},null,{"$f":"RTD(\"cqg.rtd\",,\"StudyData\", \"Correlation(\"&$B$3&\",\"&O$2&\",Period:=\"&$B$1&\",InputChoice1:=Close,InputChoice2::=Close)\", \"FG\", \"\", \"Close\",$B$2,A91, \"all\",\"\", \"\",\"True\",\"T\")/100","v":0.85942731519999993},null,0.74000000000000099,2,{"$error":"#N/A"},null,{"$f":"RTD(\"cqg.rtd\",,\"StudyData\", \"Correlation(\"&$B$3&\",\"&U$2&\",Period:=\"&$B$1&\",InputChoice1:=Close,InputChoice2::=Close)\", \"FG\", \"\", \"Close\",$B$2,A91, \"all\",\"\", \"\",\"True\",\"T\")/100","v":0.96499764749999994},null,0.74000000000000099,1,{"$error":"#N/A"},null,{"$f":"RTD(\"cqg.rtd\",,\"StudyData\", \"Correlation(\"&$B$3&\",\"&AA$2&\",Period:=\"&$B$1&\",InputChoice1:=Close,InputChoice2::=Close)\", \"FG\", \"\", \"Close\",$B$2,A91, \"all\",\"\", \"\",\"True\",\"T\")/100","v":0.71200372239999998},null,0.74000000000000099,3,{"$error":"#N/A"},null,{"$f":"RTD(\"cqg.rtd\",,\"StudyData\", \"Correlation(\"&$B$3&\",\"&AG$2&\",Period:=\"&$B$1&\",InputChoice1:=Close,InputChoice2::=Close)\", \"FG\", \"\", \"Close\",$B$2,A91, \"all\",\"\", \"\",\"True\",\"T\")/100","v":0.43891366400000004},null,0.74000000000000099,3,{"$error":"#N/A"},null,{"$f":"RTD(\"cqg.rtd\",,\"StudyData\", \"Correlation(\"&$B$3&\",\"&AM$2&\",Period:=\"&$B$1&\",InputChoice1:=Close,InputChoice2::=Close)\", \"FG\", \"\", \"Close\",$B$2,A91, \"all\",\"\", \"\",\"True\",\"T\")/100","v":0.14804589830000001},null,0.74000000000000099,1,{"$error":"#N/A"},null,{"$f":"RTD(\"cqg.rtd\",,\"StudyData\", \"Correlation(\"&$B$3&\",\"&AS$2&\",Period:=\"&$B$1&\",InputChoice1:=Close,InputChoice2::=Close)\", \"FG\", \"\", \"Close\",$B$2,A91, \"all\",\"\", \"\",\"True\",\"T\")/100","v":4.1502133900000002E-2},null,0.74000000000000099,1,{"$error":"#N/A"},null,{"$f":"RTD(\"cqg.rtd\",,\"StudyData\", \"Correlation(\"&$B$3&\",\"&AY$2&\",Period:=\"&$B$1&\",InputChoice1:=Close,InputChoice2::=Close)\", \"FG\", \"\", \"Close\",$B$2,A91, \"all\",\"\", \"\",\"True\",\"T\")/100","v":-0.67897371870000001},null,0.74000000000000099,2,{"$error":"#N/A"},null,{"$f":"RTD(\"cqg.rtd\",,\"StudyData\", \"Correlation(\"&$B$3&\",\"&BE$2&\",Period:=\"&$B$1&\",InputChoice1:=Close,InputChoice2::=Close)\", \"FG\", \"\", \"Close\",$B$2,A91, \"all\",\"\", \"\",\"True\",\"T\")/100","v":-0.1507663598},null,0.74000000000000099,1,{"$error":"#N/A"}]
[-88,null,{"$f":"RTD(\"cqg.rtd\",,\"StudyData\", \"Correlation(\"&$B$3&\",\"&C$2&\",Period:=\"&$B$1&\",InputChoice1::=Close,InputChoice2::=Close)\", \"FG\", \"\", \"Close\",$B$2,A92, \"all\",\"\", \"\",\"True\",\"T\")/100","v":0.68911179759999996},null,0.76000000000000101,4,{"$error":"#N/A"},null,{"$f":"RTD(\"cqg.rtd\",,\"StudyData\", \"Correlation(\"&$B$3&\",\"&I$2&\",Period:=\"&$B$1&\",InputChoice1:=Close,InputChoice2::=Close)\", \"FG\", \"\", \"Close\",$B$2,A92, \"all\",\"\", \"\",\"True\",\"T\")/100","v":0.59270401309999998},null,0.76000000000000101,1,{"$error":"#N/A"},null,{"$f":"RTD(\"cqg.rtd\",,\"StudyData\", \"Correlation(\"&$B$3&\",\"&O$2&\",Period:=\"&$B$1&\",InputChoice1:=Close,InputChoice2::=Close)\", \"FG\", \"\", \"Close\",$B$2,A92, \"all\",\"\", \"\",\"True\",\"T\")/100","v":0.92389089950000003},null,0.76000000000000101,1,{"$error":"#N/A"},null,{"$f":"RTD(\"cqg.rtd\",,\"StudyData\", \"Correlation(\"&$B$3&\",\"&U$2&\",Period:=\"&$B$1&\",InputChoice1:=Close,InputChoice2::=Close)\", \"FG\", \"\", \"Close\",$B$2,A92, \"all\",\"\", \"\",\"True\",\"T\")/100","v":0.93852411590000007},null,0.76000000000000101,1,{"$error":"#N/A"},null,{"$f":"RTD(\"cqg.rtd\",,\"StudyData\", \"Correlation(\"&$B$3&\",\"&AA$2&\",Period:=\"&$B$1&\",InputChoice1:=Close,InputChoice2::=Close)\", \"FG\", \"\", \"Close\",$B$2,A92, \"all\",\"\", \"\",\"True\",\"T\")/100","v":0.70032050569999993},null,0.76000000000000101,5,{"$error":"#N/A"},null,{"$f":"RTD(\"cqg.rtd\",,\"StudyData\", \"Correlation(\"&$B$3&\",\"&AG$2&\",Period:=\"&$B$1&\",InputChoice1:=Close,InputChoice2::=Close)\", \"FG\", \"\", \"Close\",$B$2,A92, \"all\",\"\", \"\",\"True\",\"T\")/100","v":0.27214829660000001},null,0.76000000000000101,4,{"$error":"#N/A"},null,{"$f":"RTD(\"cqg.rtd\",,\"StudyData\", \"Correlation(\"&$B$3&\",\"&AM$2&\",Period:=\"&$B$1&\",InputChoice1:=Close,InputChoice2::=Close)\", \"FG\", \"\", \"Close\",$B$2,A92, \"all\",\"\", \"\",\"True\",\"T\")/100","v":3.8818717699999998E-2},null,0.76000000000000101,3,{"$error":"#N/A"},null,{"$f":"RTD(\"cqg.rtd\",,\"StudyData\", \"Correlation(\"&$B$3&\",\"&AS$2&\",Period:=\"&$B$1&\",InputChoice1:=Close,InputChoice2::=Close)\", \"FG\", \"\", \"Close\",$B$2,A92, \"all\",\"\", \"\",\"True\",\"T\")/100","v":0.49571994990000001},null,0.76000000000000101,1,{"$error":"#N/A"},null,{"$f":"RTD(\"cqg.rtd\",,\"StudyData\", \"Correlation(\"&$B$3&\",\"&AY$2&\",Period:=\"&$B$1&\",InputChoice1:=Close,InputChoice2::=Close)\", \"FG\", \"\", \"Close\",$B$2,A92, \"all\",\"\", \"\",\"True\",\"T\")/100","v":-0.74320986610000006},null,0.76000000000000101,1,{"$error":"#N/A"},null,{"$f":"RTD(\"cqg.rtd\",,\"StudyData\", \"Correlation(\"&$B$3&\",\"&BE$2&\",Period:=\"&$B$1&\",InputChoice1:=Close,InputChoice2::=Close)\", \"FG\", \"\", \"Close\",$B$2,A92, \"all\",\"\", \"\",\"True\",\"T\")/100","v":0.39290966169999997},null,0.76000000000000101,2,{"$error":"#N/A"}]
[-89,null,{"$f":"RTD(\"cqg.rtd\",,\"StudyData\", \"Correlation(\"&$B$3&\",\"&C$2&\",Period:=\"&$B$1&\",InputChoice1::=Close,InputChoice2::=Close)\", \"FG\", \"\", \"Close\",$B$2,A93, \"all\",\"\", \"\",\"True\",\"T\")/100","v":0.50214103529999998},null,0.78000000000000103,4,{"$error":"#N/A"},null,{"$f":"RTD(\"cqg.rtd\",,\"StudyData\", \"Correlation(\"&$B$3&\",\"&I$2&\",Period:=\"&$B$1&\",InputChoice1:=Close,InputChoice2::=Close)\", \"FG\", \"\", \"Close\",$B$2,A93, \"all\",\"\", \"\",\"True\",\"T\")/100","v":0.47317014590000001},null,0.78000000000000103,3,{"$error":"#N/A"},null,{"$f":"RTD(\"cqg.rtd\",,\"StudyData\", \"Correlation(\"&$B$3&\",\"&O$2&\",Period:=\"&$B$1&\",InputChoice1:=Close,InputChoice2::=Close)\", \"FG\", \"\", \"Close\",$B$2,A93, \"all\",\"\", \"\",\"True\",\"T\")/100","v":0.94836660780000004},null,0.78000000000000103,2,{"$error":"#N/A"},null,{"$f":"RTD(\"cqg.rtd\",,\"StudyData\", \"Correlation(\"&$B$3&\",\"&U$2&\",Period:=\"&$B$1&\",InputChoice1:=Close,InputChoice2::=Close)\", \"FG\", \"\", \"Close\",$B$2,A93, \"all\",\"\", \"\",\"True\",\"T\")/100","v":0.92402297169999992},null,0.78000000000000103,1,{"$error":"#N/A"},null,{"$f":"RTD(\"cqg.rtd\",,\"StudyData\", \"Correlation(\"&$B$3&\",\"&AA$2&\",Period:=\"&$B$1&\",InputChoice1:=Close,InputChoice2::=Close)\", \"FG\", \"\", \"Close\",$B$2,A93, \"all\",\"\", \"\",\"True\",\"T\")/100","v":0.76125299159999993},null,0.78000000000000103,1,{"$error":"#N/A"},null,{"$f":"RTD(\"cqg.rtd\",,\"StudyData\", \"Correlation(\"&$B$3&\",\"&AG$2&\",Period:=\"&$B$1&\",InputChoice1:=Close,InputChoice2::=Close)\", \"FG\", \"\", \"Close\",$B$2,A93, \"all\",\"\", \"\",\"True\",\"T\")/100","v":0.23018619009999999},null,0.78000000000000103,0,{"$error":"#N/A"},null,{"$f":"RTD(\"cqg.rtd\",,\"StudyData\", \"Correlation(\"&$B$3&\",\"&AM$2&\",Period:=\"&$B$1&\",InputChoice1:=Close,InputChoice2::=Close)\", \"FG\", \"\", \"Close\",$B$2,A93, \"all\",\"\", \"\",\"True\",\"T\")/100","v":0.2146695874},null,0.78000000000000103,2,{"$error":"#N/A"},null,{"$f":"RTD(\"cqg.rtd\",,\"StudyData\", \"Correlation(\"&$B$3&\",\"&AS$2&\",Period:=\"&$B$1&\",InputChoice1:=Close,InputChoice2::=Close)\", \"FG\", \"\", \"Close\",$B$2,A93, \"all\",\"\", \"\",\"True\",\"T\")/100","v":0.76245111509999997},null,0.78000000000000103,3,{"$error":"#N/A"},null,{"$f":"RTD(\"cqg.rtd\",,\"StudyData\", \"Correlation(\"&$B$3&\",\"&AY$2&\",Period:=\"&$B$1&\",InputChoice1:=Close,InputChoice2::=Close)\", \"FG\", \"\", \"Close\",$B$2,A93, \"all\",\"\", \"\",\"True\",\"T\")/100","v":-0.77066677420000007},null,0.78000000000000103,0,{"$error":"#N/A"},null,{"$f":"RTD(\"cqg.rtd\",,\"StudyData\", \"Correlation(\"&$B$3&\",\"&BE$2&\",Period:=\"&$B$1&\",InputChoice1:=Close,InputChoice2::=Close)\", \"FG\", \"\", \"Close\",$B$2,A93, \"all\",\"\", \"\",\"True\",\"T\")/100","v":0.52304319529999999},null,0.78000000000000103,4,{"$error":"#N/A"}]
[-90,null,{"$f":"RTD(\"cqg.rtd\",,\"StudyData\", \"Correlation(\"&$B$3&\",\"&C$2&\",Period:=\"&$B$1&\",InputChoice1::=Close,InputChoice2::=Close)\", \"FG\", \"\", \"Close\",$B$2,A94, \"all\",\"\", \"\",\"True\",\"T\")/100","v":0.3360790515},null,0.80000000000000104,2,{"$error":"#N/A"},null,{"$f":"RTD(\"cqg.rtd\",,\"StudyData\", \"Correlation(\"&$B$3&\",\"&I$2&\",Period:=\"&$B$1&\",InputChoice1:=Close,InputChoice2::=Close)\", \"FG\", \"\", \"Close\",$B$2,A94, \"all\",\"\", \"\",\"True\",\"T\")/100","v":0.30570953509999998},null,0.80000000000000104,3,{"$error":"#N/A"},null,{"$f":"RTD(\"cqg.rtd\",,\"StudyData\", \"Correlation(\"&$B$3&\",\"&O$2&\",Period:=\"&$B$1&\",InputChoice1:=Close,InputChoice2::=Close)\", \"FG\", \"\", \"Close\",$B$2,A94, \"all\",\"\", \"\",\"True\",\"T\")/100","v":0.9147140238},null,0.80000000000000104,2,{"$error":"#N/A"},null,{"$f":"RTD(\"cqg.rtd\",,\"StudyData\", \"Correlation(\"&$B$3&\",\"&U$2&\",Period:=\"&$B$1&\",InputChoice1:=Close,InputChoice2::=Close)\", \"FG\", \"\", \"Close\",$B$2,A94, \"all\",\"\", \"\",\"True\",\"T\")/100","v":0.8929650856000001},null,0.80000000000000104,5,{"$error":"#N/A"},null,{"$f":"RTD(\"cqg.rtd\",,\"StudyData\", \"Correlation(\"&$B$3&\",\"&AA$2&\",Period:=\"&$B$1&\",InputChoice1:=Close,InputChoice2::=Close)\", \"FG\", \"\", \"Close\",$B$2,A94, \"all\",\"\", \"\",\"True\",\"T\")/100","v":0.74470440120000003},null,0.80000000000000104,1,{"$error":"#N/A"},null,{"$f":"RTD(\"cqg.rtd\",,\"StudyData\", \"Correlation(\"&$B$3&\",\"&AG$2&\",Period:=\"&$B$1&\",InputChoice1:=Close,InputChoice2::=Close)\", \"FG\", \"\", \"Close\",$B$2,A94, \"all\",\"\", \"\",\"True\",\"T\")/100","v":0.26315965969999999},null,0.80000000000000104,1,{"$error":"#N/A"},null,{"$f":"RTD(\"cqg.rtd\",,\"StudyData\", \"Correlation(\"&$B$3&\",\"&AM$2&\",Period:=\"&$B$1&\",InputChoice1:=Close,InputChoice2::=Close)\", \"FG\", \"\", \"Close\",$B$2,A94, \"all\",\"\", \"\",\"True\",\"T\")/100","v":0.1614484793},null,0.80000000000000104,0,{"$error":"#N/A"},null,{"$f":"RTD(\"cqg.rtd\",,\"StudyData\", \"Correlation(\"&$B$3&\",\"&AS$2&\",Period:=\"&$B$1&\",InputChoice1:=Close,InputChoice2::=Close)\", \"FG\", \"\", \"Close\",$B$2,A94, \"all\",\"\", \"\",\"True\",\"T\")/100","v":0.69180228650000009},null,0.80000000000000104,2,{"$error":"#N/A"},null,{"$f":"RTD(\"cqg.rtd\",,\"StudyData\", \"Correlation(\"&$B$3&\",\"&AY$2&\",Period:=\"&$B$1&\",InputChoice1:=Close,InputChoice2::=Close)\", \"FG\", \"\", \"Close\",$B$2,A94, \"all\",\"\", \"\",\"True\",\"T\")/100","v":-0.81720596459999995},null,0.80000000000000104,0,{"$error":"#N/A"},null,{"$f":"RTD(\"cqg.rtd\",,\"StudyData\", \"Correlation(\"&$B$3&\",\"&BE$2&\",Period:=\"&$B$1&\",InputChoice1:=Close,InputChoice2::=Close)\", \"FG\", \"\", \"Close\",$B$2,A94, \"all\",\"\", \"\",\"True\",\"T\")/100","v":0.59381526620000002},null,0.80000000000000104,0,{"$error":"#N/A"}]
[-91,null,{"$f":"RTD(\"cqg.rtd\",,\"StudyData\", \"Correlation(\"&$B$3&\",\"&C$2&\",Period:=\"&$B$1&\",InputChoice1::=Close,InputChoice2::=Close)\", \"FG\", \"\", \"Close\",$B$2,A95, \"all\",\"\", \"\",\"True\",\"T\")/100","v":0.43251591779999998},null,0.82000000000000106,0,{"$error":"#N/A"},null,{"$f":"RTD(\"cqg.rtd\",,\"StudyData\", \"Correlation(\"&$B$3&\",\"&I$2&\",Period:=\"&$B$1&\",InputChoice1:=Close,InputChoice2::=Close)\", \"FG\", \"\", \"Close\",$B$2,A95, \"all\",\"\", \"\",\"True\",\"T\")/100","v":0.42137405770000003},null,0.82000000000000106,2,{"$error":"#N/A"},null,{"$f":"RTD(\"cqg.rtd\",,\"StudyData\", \"Correlation(\"&$B$3&\",\"&O$2&\",Period:=\"&$B$1&\",InputChoice1:=Close,InputChoice2::=Close)\", \"FG\", \"\", \"Close\",$B$2,A95, \"all\",\"\", \"\",\"True\",\"T\")/100","v":0.85794054599999992},null,0.82000000000000106,2,{"$error":"#N/A"},null,{"$f":"RTD(\"cqg.rtd\",,\"StudyData\", \"Correlation(\"&$B$3&\",\"&U$2&\",Period:=\"&$B$1&\",InputChoice1:=Close,InputChoice2::=Close)\", \"FG\", \"\", \"Close\",$B$2,A95, \"all\",\"\", \"\",\"True\",\"T\")/100","v":0.82414921910000005},null,0.82000000000000106,4,{"$error":"#N/A"},null,{"$f":"RTD(\"cqg.rtd\",,\"StudyData\", \"Correlation(\"&$B$3&\",\"&AA$2&\",Period:=\"&$B$1&\",InputChoice1:=Close,InputChoice2::=Close)\", \"FG\", \"\", \"Close\",$B$2,A95, \"all\",\"\", \"\",\"True\",\"T\")/100","v":0.61453108960000002},null,0.82000000000000106,1,{"$error":"#N/A"},null,{"$f":"RTD(\"cqg.rtd\",,\"StudyData\", \"Correlation(\"&$B$3&\",\"&AG$2&\",Period:=\"&$B$1&\",InputChoice1:=Close,InputChoice2::=Close)\", \"FG\", \"\", \"Close\",$B$2,A95, \"all\",\"\", \"\",\"True\",\"T\")/100","v":0.30633052379999998},null,0.82000000000000106,4,{"$error":"#N/A"},null,{"$f":"RTD(\"cqg.rtd\",,\"StudyData\", \"Correlation(\"&$B$3&\",\"&AM$2&\",Period:=\"&$B$1&\",InputChoice1:=Close,InputChoice2::=Close)\", \"FG\", \"\", \"Close\",$B$2,A95, \"all\",\"\", \"\",\"True\",\"T\")/100","v":0.17316029029999999},null,0.82000000000000106,3,{"$error":"#N/A"},null,{"$f":"RTD(\"cqg.rtd\",,\"StudyData\", \"Correlation(\"&$B$3&\",\"&AS$2&\",Period:=\"&$B$1&\",InputChoice1:=Close,InputChoice2::=Close)\", \"FG\", \"\", \"Close\",$B$2,A95, \"all\",\"\", \"\",\"True\",\"T\")/100","v":0.6601312962},null,0.82000000000000106,0,{"$error":"#N/A"},null,{"$f":"RTD(\"cqg.rtd\",,\"StudyData\", \"Correlation(\"&$B$3&\",\"&AY$2&\",Period:=\"&$B$1&\",InputChoice1:=Close,InputChoice2::=Close)\", \"FG\", \"\", \"Close\",$B$2,A95, \"all\",\"\", \"\",\"True\",\"T\")/100","v":-0.8357660885999999},null,0.82000000000000106,0,{"$error":"#N/A"},null,{"$f":"RTD(\"cqg.rtd\",,\"StudyData\", \"Correlation(\"&$B$3&\",\"&BE$2&\",Period:=\"&$B$1&\",InputChoice1:=Close,InputChoice2::=Close)\", \"FG\", \"\", \"Close\",$B$2,A95, \"all\",\"\", \"\",\"True\",\"T\")/100","v":0.58030437480000008},null,0.82000000000000106,0,{"$error":"#N/A"}]
[-92,null,{"$f":"RTD(\"cqg.rtd\",,\"StudyData\", \"Correlation(\"&$B$3&\",\"&C$2&\",Period:=\"&$B$1&\",InputChoice1::=Close,InputChoice2::=Close)\", \"FG\", \"\", \"Close\",$B$2,A96, \"all\",\"\", \"\",\"True\",\"T\")/100","v":0.33375869260000002},null,0.84000000000000108,6,{"$error":"#N/A"},null,{"$f":"RTD(\"cqg.rtd\",,\"StudyData\", \"Correlation(\"&$B$3&\",\"&I$2&\",Period:=\"&$B$1&\",InputChoice1:=Close,InputChoice2::=Close)\", \"FG\", \"\", \"Close\",$B$2,A96, \"all\",\"\", \"\",\"True\",\"T\")/100","v":0.33628505169999995},null,0.84000000000000108,3,{"$error":"#N/A"},null,{"$f":"RTD(\"cqg.rtd\",,\"StudyData\", \"Correlation(\"&$B$3&\",\"&O$2&\",Period:=\"&$B$1&\",InputChoice1:=Close,InputChoice2::=Close)\", \"FG\", \"\", \"Close\",$B$2,A96, \"all\",\"\", \"\",\"True\",\"T\")/100","v":0.83694630630000011},null,0.84000000000000108,2,{"$error":"#N/A"},null,{"$f":"RTD(\"cqg.rtd\",,\"StudyData\", \"Correlation(\"&$B$3&\",\"&U$2&\",Period:=\"&$B$1&\",InputChoice1:=Close,InputChoice2::=Close)\", \"FG\", \"\", \"Close\",$B$2,A96, \"all\",\"\", \"\",\"True\",\"T\")/100","v":0.83746173479999997},null,0.84000000000000108,5,{"$error":"#N/A"},null,{"$f":"RTD(\"cqg.rtd\",,\"StudyData\", \"Correlation(\"&$B$3&\",\"&AA$2&\",Period:=\"&$B$1&\",InputChoice1:=Close,InputChoice2::=Close)\", \"FG\", \"\", \"Close\",$B$2,A96, \"all\",\"\", \"\",\"True\",\"T\")/100","v":0.41993096790000001},null,0.84000000000000108,6,{"$error":"#N/A"},null,{"$f":"RTD(\"cqg.rtd\",,\"StudyData\", \"Correlation(\"&$B$3&\",\"&AG$2&\",Period:=\"&$B$1&\",InputChoice1:=Close,InputChoice2::=Close)\", \"FG\", \"\", \"Close\",$B$2,A96, \"all\",\"\", \"\",\"True\",\"T\")/100","v":-7.2517468999999998E-3},null,0.84000000000000108,2,{"$error":"#N/A"},null,{"$f":"RTD(\"cqg.rtd\",,\"StudyData\", \"Correlation(\"&$B$3&\",\"&AM$2&\",Period:=\"&$B$1&\",InputChoice1:=Close,InputChoice2::=Close)\", \"FG\", \"\", \"Close\",$B$2,A96, \"all\",\"\", \"\",\"True\",\"T\")/100","v":-0.1307196223},null,0.84000000000000108,1,{"$error":"#N/A"},null,{"$f":"RTD(\"cqg.rtd\",,\"StudyData\", \"Correlation(\"&$B$3&\",\"&AS$2&\",Period:=\"&$B$1&\",InputChoice1:=Close,InputChoice2::=Close)\", \"FG\", \"\", \"Close\",$B$2,A96, \"all\",\"\", \"\",\"True\",\"T\")/100","v":0.46628602389999996},null,0.84000000000000108,1,{"$error":"#N/A"},null,{"$f":"RTD(\"cqg.rtd\",,\"StudyData\", \"Correlation(\"&$B$3&\",\"&AY$2&\",Period:=\"&$B$1&\",InputChoice1:=Close,InputChoice2::=Close)\", \"FG\", \"\", \"Close\",$B$2,A96, \"all\",\"\", \"\",\"True\",\"T\")/100","v":-0.7932775406},null,0.84000000000000108,0,{"$error":"#N/A"},null,{"$f":"RTD(\"cqg.rtd\",,\"StudyData\", \"Correlation(\"&$B$3&\",\"&BE$2&\",Period:=\"&$B$1&\",InputChoice1:=Close,InputChoice2::=Close)\", \"FG\", \"\", \"Close\",$B$2,A96, \"all\",\"\", \"\",\"True\",\"T\")/100","v":0.52696285520000008},null,0.84000000000000108,0,{"$error":"#N/A"}]
[-93,null,{"$f":"RTD(\"cqg.rtd\",,\"StudyData\", \"Correlation(\"&$B$3&\",\"&C$2&\",Period:=\"&$B$1&\",InputChoice1::=Close,InputChoice2::=Close)\", \"FG\", \"\", \"Close\",$B$2,A97, \"all\",\"\", \"\",\"True\",\"T\")/100","v":0.30731008650000002},null,0.8600000000000011,4,{"$error":"#N/A"},null,{"$f":"RTD(\"cqg.rtd\",,\"StudyData\", \"Correlation(\"&$B$3&\",\"&I$2&\",Period:=\"&$B$1&\",InputChoice1:=Close,InputChoice2::=Close)\", \"FG\", \"\", \"Close\",$B$2,A97, \"all\",\"\", \"\",\"True\",\"T\")/100","v":0.35371658349999996},null,0.8600000000000011,10,{"$error":"#N/A"},null,{"$f":"RTD(\"cqg.rtd\",,\"StudyData\", \"Correlation(\"&$B$3&\",\"&O$2&\",Period:=\"&$B$1&\",InputChoice1:=Close,InputChoice2::=Close)\", \"FG\", \"\", \"Close\",$B$2,A97, \"all\",\"\", \"\",\"True\",\"T\")/100","v":0.83188758780000005},null,0.8600000000000011,7,7,null,{"$f":"RTD(\"cqg.rtd\",,\"StudyData\", \"Correlation(\"&$B$3&\",\"&U$2&\",Period:=\"&$B$1&\",InputChoice1:=Close,InputChoice2::=Close)\", \"FG\", \"\", \"Close\",$B$2,A97, \"all\",\"\", \"\",\"True\",\"T\")/100","v":0.78053198469999996},null,0.8600000000000011,4,{"$error":"#N/A"},null,{"$f":"RTD(\"cqg.rtd\",,\"StudyData\", \"Correlation(\"&$B$3&\",\"&AA$2&\",Period:=\"&$B$1&\",InputChoice1:=Close,InputChoice2::=Close)\", \"FG\", \"\", \"Close\",$B$2,A97, \"all\",\"\", \"\",\"True\",\"T\")/100","v":0.41623300759999998},null,0.8600000000000011,3,{"$error":"#N/A"},null,{"$f":"RTD(\"cqg.rtd\",,\"StudyData\", \"Correlation(\"&$B$3&\",\"&AG$2&\",Period:=\"&$B$1&\",InputChoice1:=Close,InputChoice2::=Close)\", \"FG\", \"\", \"Close\",$B$2,A97, \"all\",\"\", \"\",\"True\",\"T\")/100","v":-0.1645157253},null,0.8600000000000011,1,{"$error":"#N/A"},null,{"$f":"RTD(\"cqg.rtd\",,\"StudyData\", \"Correlation(\"&$B$3&\",\"&AM$2&\",Period:=\"&$B$1&\",InputChoice1:=Close,InputChoice2::=Close)\", \"FG\", \"\", \"Close\",$B$2,A97, \"all\",\"\", \"\",\"True\",\"T\")/100","v":-0.29024947699999998},null,0.8600000000000011,0,{"$error":"#N/A"},null,{"$f":"RTD(\"cqg.rtd\",,\"StudyData\", \"Correlation(\"&$B$3&\",\"&AS$2&\",Period:=\"&$B$1&\",InputChoice1:=Close,InputChoice2::=Close)\", \"FG\", \"\", \"Close\",$B$2,A97, \"all\",\"\", \"\",\"True\",\"T\")/100","v":0.16017043879999998},null,0.8600000000000011,1,{"$error":"#N/A"},null,{"$f":"RTD(\"cqg.rtd\",,\"StudyData\", \"Correlation(\"&$B$3&\",\"&AY$2&\",Period:=\"&$B$1&\",InputChoice1:=Close,InputChoice2::=Close)\", \"FG\", \"\", \"Close\",$B$2,A97, \"all\",\"\", \"\",\"True\",\"T\")/100","v":-0.82894949209999991},null,0.8600000000000011,0,{"$error":"#N/A"},null,{"$f":"RTD(\"cqg.rtd\",,\"StudyData\", \"Correlation(\"&$B$3&\",\"&BE$2&\",Period:=\"&$B$1&\",InputChoice1:=Close,InputChoice2::=Close)\", \"FG\", \"\", \"Close\",$B$2,A97, \"all\",\"\", \"\",\"True\",\"T\")/100","v":0.58695235290000003},null,0.8600000000000011,0,{"$error":"#N/A"}]
[-94,null,{"$f":"RTD(\"cqg.rtd\",,\"StudyData\", \"Correlation(\"&$B$3&\",\"&C$2&\",Period:=\"&$B$1&\",InputChoice1::=Close,InputChoice2::=Close)\", \"FG\", \"\", \"Close\",$B$2,A98, \"all\",\"\", \"\",\"True\",\"T\")/100","v":0.19480294870000001},null,0.88000000000000111,5,5,null,{"$f":"RTD(\"cqg.rtd\",,\"StudyData\", \"Correlation(\"&$B$3&\",\"&I$2&\",Period:=\"&$B$1&\",InputChoice1:=Close,InputChoice2::=Close)\", \"FG\", \"\", \"Close\",$B$2,A98, \"all\",\"\", \"\",\"True\",\"T\")/100","v":0.28969110279999999},null,0.88000000000000111,4,4,null,{"$f":"RTD(\"cqg.rtd\",,\"StudyData\", \"Correlation(\"&$B$3&\",\"&O$2&\",Period:=\"&$B$1&\",InputChoice1:=Close,InputChoice2::=Close)\", \"FG\", \"\", \"Close\",$B$2,A98, \"all\",\"\", \"\",\"True\",\"T\")/100","v":0.84551476140000004},null,0.88000000000000111,7,{"$error":"#N/A"},null,{"$f":"RTD(\"cqg.rtd\",,\"StudyData\", \"Correlation(\"&$B$3&\",\"&U$2&\",Period:=\"&$B$1&\",InputChoice1:=Close,InputChoice2::=Close)\", \"FG\", \"\", \"Close\",$B$2,A98, \"all\",\"\", \"\",\"True\",\"T\")/100","v":0.82002787819999989},null,0.88000000000000111,7,{"$error":"#N/A"},null,{"$f":"RTD(\"cqg.rtd\",,\"StudyData\", \"Correlation(\"&$B$3&\",\"&AA$2&\",Period:=\"&$B$1&\",InputChoice1:=Close,InputChoice2::=Close)\", \"FG\", \"\", \"Close\",$B$2,A98, \"all\",\"\", \"\",\"True\",\"T\")/100","v":0.38331112179999999},null,0.88000000000000111,6,{"$error":"#N/A"},null,{"$f":"RTD(\"cqg.rtd\",,\"StudyData\", \"Correlation(\"&$B$3&\",\"&AG$2&\",Period:=\"&$B$1&\",InputChoice1:=Close,InputChoice2::=Close)\", \"FG\", \"\", \"Close\",$B$2,A98, \"all\",\"\", \"\",\"True\",\"T\")/100","v":0.17336625309999998},null,0.88000000000000111,1,{"$error":"#N/A"},null,{"$f":"RTD(\"cqg.rtd\",,\"StudyData\", \"Correlation(\"&$B$3&\",\"&AM$2&\",Period:=\"&$B$1&\",InputChoice1:=Close,InputChoice2::=Close)\", \"FG\", \"\", \"Close\",$B$2,A98, \"all\",\"\", \"\",\"True\",\"T\")/100","v":-0.3440002982},null,0.88000000000000111,3,{"$error":"#N/A"},null,{"$f":"RTD(\"cqg.rtd\",,\"StudyData\", \"Correlation(\"&$B$3&\",\"&AS$2&\",Period:=\"&$B$1&\",InputChoice1:=Close,InputChoice2::=Close)\", \"FG\", \"\", \"Close\",$B$2,A98, \"all\",\"\", \"\",\"True\",\"T\")/100","v":9.6205980900000002E-2},null,0.88000000000000111,0,{"$error":"#N/A"},null,{"$f":"RTD(\"cqg.rtd\",,\"StudyData\", \"Correlation(\"&$B$3&\",\"&AY$2&\",Period:=\"&$B$1&\",InputChoice1:=Close,InputChoice2::=Close)\", \"FG\", \"\", \"Close\",$B$2,A98, \"all\",\"\", \"\",\"True\",\"T\")/100","v":-0.81807689890000002},null,0.88000000000000111,0,{"$error":"#N/A"},null,{"$f":"RTD(\"cqg.rtd\",,\"StudyData\", \"Correlation(\"&$B$3&\",\"&BE$2&\",Period:=\"&$B$1&\",InputChoice1:=Close,InputChoice2::=Close)\", \"FG\", \"\", \"Close\",$B$2,A98, \"all\",\"\", \"\",\"True\",\"T\")/100","v":0.45688292420000004},null,0.88000000000000111,0,{"$error":"#N/A"}]
[-95,null,{"$f":"RTD(\"cqg.rtd\",,\"StudyData\", \"Correlation(\"&$B$3&\",\"&C$2&\",Period:=\"&$B$1&\",InputChoice1::=Close,InputChoice2::=Close)\", \"FG\", \"\", \"Close\",$B$2,A99, \"all\",\"\", \"\",\"True\",\"T\")/100","v":0.30658138749999997},null,0.90000000000000113,8,{"$error":"#N/A"},null,{"$f":"RTD(\"cqg.rtd\",,\"StudyData\", \"Correlation(\"&$B$3&\",\"&I$2&\",Period:=\"&$B$1&\",InputChoice1:=Close,InputChoice2::=Close)\", \"FG\", \"\", \"Close\",$B$2,A99, \"all\",\"\", \"\",\"True\",\"T\")/100","v":0.42472856210000004},null,0.90000000000000113,6,{"$error":"#N/A"},null,{"$f":"RTD(\"cqg.rtd\",,\"StudyData\", \"Correlation(\"&$B$3&\",\"&O$2&\",Period:=\"&$B$1&\",InputChoice1:=Close,InputChoice2::=Close)\", \"FG\", \"\", \"Close\",$B$2,A99, \"all\",\"\", \"\",\"True\",\"T\")/100","v":0.88003380779999996},null,0.90000000000000113,4,{"$error":"#N/A"},null,{"$f":"RTD(\"cqg.rtd\",,\"StudyData\", \"Correlation(\"&$B$3&\",\"&U$2&\",Period:=\"&$B$1&\",InputChoice1:=Close,InputChoice2::=Close)\", \"FG\", \"\", \"Close\",$B$2,A99, \"all\",\"\", \"\",\"True\",\"T\")/100","v":0.80999789770000008},null,0.90000000000000113,3,3,null,{"$f":"RTD(\"cqg.rtd\",,\"StudyData\", \"Correlation(\"&$B$3&\",\"&AA$2&\",Period:=\"&$B$1&\",InputChoice1:=Close,InputChoice2::=Close)\", \"FG\", \"\", \"Close\",$B$2,A99, \"all\",\"\", \"\",\"True\",\"T\")/100","v":0.39076113069999996},null,0.90000000000000113,6,{"$error":"#N/A"},null,{"$f":"RTD(\"cqg.rtd\",,\"StudyData\", \"Correlation(\"&$B$3&\",\"&AG$2&\",Period:=\"&$B$1&\",InputChoice1:=Close,InputChoice2::=Close)\", \"FG\", \"\", \"Close\",$B$2,A99, \"all\",\"\", \"\",\"True\",\"T\")/100","v":0.29285557140000001},null,0.90000000000000113,5,{"$error":"#N/A"},null,{"$f":"RTD(\"cqg.rtd\",,\"StudyData\", \"Correlation(\"&$B$3&\",\"&AM$2&\",Period:=\"&$B$1&\",InputChoice1:=Close,InputChoice2::=Close)\", \"FG\", \"\", \"Close\",$B$2,A99, \"all\",\"\", \"\",\"True\",\"T\")/100","v":-0.43781597179999998},null,0.90000000000000113,3,{"$error":"#N/A"},null,{"$f":"RTD(\"cqg.rtd\",,\"StudyData\", \"Correlation(\"&$B$3&\",\"&AS$2&\",Period:=\"&$B$1&\",InputChoice1:=Close,InputChoice2::=Close)\", \"FG\", \"\", \"Close\",$B$2,A99, \"all\",\"\", \"\",\"True\",\"T\")/100","v":5.9270501400000002E-2},null,0.90000000000000113,1,{"$error":"#N/A"},null,{"$f":"RTD(\"cqg.rtd\",,\"StudyData\", \"Correlation(\"&$B$3&\",\"&AY$2&\",Period:=\"&$B$1&\",InputChoice1:=Close,InputChoice2::=Close)\", \"FG\", \"\", \"Close\",$B$2,A99, \"all\",\"\", \"\",\"True\",\"T\")/100","v":-0.7020119372000001},null,0.90000000000000113,0,{"$error":"#N/A"},null,{"$f":"RTD(\"cqg.rtd\",,\"StudyData\", \"Correlation(\"&$B$3&\",\"&BE$2&\",Period:=\"&$B$1&\",InputChoice1:=Close,InputChoice2::=Close)\", \"FG\", \"\", \"Close\",$B$2,A99, \"all\",\"\", \"\",\"True\",\"T\")/100","v":0.43724074469999996},null,0.90000000000000113,0,{"$error":"#N/A"}]
[-96,null,{"$f":"RTD(\"cqg.rtd\",,\"StudyData\", \"Correlation(\"&$B$3&\",\"&C$2&\",Period:=\"&$B$1&\",InputChoice1::=Close,InputChoice2::=Close)\", \"FG\", \"\", \"Close\",$B$2,A100, \"all\",\"\", \"\",\"True\",\"T\")/100","v":0.51101828449999998},null,0.92000000000000115,3,{"$error":"#N/A"},null,{"$f":"RTD(\"cqg.rtd\",,\"StudyData\", \"Correlation(\"&$B$3&\",\"&I$2&\",Period:=\"&$B$1&\",InputChoice1:=Close,InputChoice2::=Close)\", \"FG\", \"\", \"Close\",$B$2,A100, \"all\",\"\", \"\",\"True\",\"T\")/100","v":0.58636205019999998},null,0.92000000000000115,8,{"$error":"#N/A"},null,{"$f":"RTD(\"cqg.rtd\",,\"StudyData\", \"Correlation(\"&$B$3&\",\"&O$2&\",Period:=\"&$B$1&\",InputChoice1:=Close,InputChoice2::=Close)\", \"FG\", \"\", \"Close\",$B$2,A100, \"all\",\"\", \"\",\"True\",\"T\")/100","v":0.91969630989999995},null,0.92000000000000115,9,{"$error":"#N/A"},null,{"$f":"RTD(\"cqg.rtd\",,\"StudyData\", \"Correlation(\"&$B$3&\",\"&U$2&\",Period:=\"&$B$1&\",InputChoice1:=Close,InputChoice2::=Close)\", \"FG\", \"\", \"Close\",$B$2,A100, \"all\",\"\", \"\",\"True\",\"T\")/100","v":0.74045602489999995},null,0.92000000000000115,9,{"$error":"#N/A"},null,{"$f":"RTD(\"cqg.rtd\",,\"StudyData\", \"Correlation(\"&$B$3&\",\"&AA$2&\",Period:=\"&$B$1&\",InputChoice1:=Close,InputChoice2::=Close)\", \"FG\", \"\", \"Close\",$B$2,A100, \"all\",\"\", \"\",\"True\",\"T\")/100","v":0.55776370689999999},null,0.92000000000000115,2,{"$error":"#N/A"},null,{"$f":"RTD(\"cqg.rtd\",,\"StudyData\", \"Correlation(\"&$B$3&\",\"&AG$2&\",Period:=\"&$B$1&\",InputChoice1:=Close,InputChoice2::=Close)\", \"FG\", \"\", \"Close\",$B$2,A100, \"all\",\"\", \"\",\"True\",\"T\")/100","v":0.50030198679999993},null,0.92000000000000115,6,{"$error":"#N/A"},null,{"$f":"RTD(\"cqg.rtd\",,\"StudyData\", \"Correlation(\"&$B$3&\",\"&AM$2&\",Period:=\"&$B$1&\",InputChoice1:=Close,InputChoice2::=Close)\", \"FG\", \"\", \"Close\",$B$2,A100, \"all\",\"\", \"\",\"True\",\"T\")/100","v":-0.58755085790000006},null,0.92000000000000115,6,{"$error":"#N/A"},null,{"$f":"RTD(\"cqg.rtd\",,\"StudyData\", \"Correlation(\"&$B$3&\",\"&AS$2&\",Period:=\"&$B$1&\",InputChoice1:=Close,InputChoice2::=Close)\", \"FG\", \"\", \"Close\",$B$2,A100, \"all\",\"\", \"\",\"True\",\"T\")/100","v":0.23369687249999999},null,0.92000000000000115,0,{"$error":"#N/A"},null,{"$f":"RTD(\"cqg.rtd\",,\"StudyData\", \"Correlation(\"&$B$3&\",\"&AY$2&\",Period:=\"&$B$1&\",InputChoice1:=Close,InputChoice2::=Close)\", \"FG\", \"\", \"Close\",$B$2,A100, \"all\",\"\", \"\",\"True\",\"T\")/100","v":-0.66196204410000004},null,0.92000000000000115,0,{"$error":"#N/A"},null,{"$f":"RTD(\"cqg.rtd\",,\"StudyData\", \"Correlation(\"&$B$3&\",\"&BE$2&\",Period:=\"&$B$1&\",InputChoice1:=Close,InputChoice2::=Close)\", \"FG\", \"\", \"Close\",$B$2,A100, \"all\",\"\", \"\",\"True\",\"T\")/100","v":0.24461803029999998},null,0.92000000000000115,0,{"$error":"#N/A"}]
[-97,null,{"$f":"RTD(\"cqg.rtd\",,\"StudyData\", \"Correlation(\"&$B$3&\",\"&C$2&\",Period:=\"&$B$1&\",InputChoice1::=Close,InputChoice2::=Close)\", \"FG\", \"\", \"Close\",$B$2,A101, \"all\",\"\", \"\",\"True\",\"T\")/100","v":0.68381726279999999},null,0.94000000000000117,9,{"$error":"#N/A"},null,{"$f":"RTD(\"cqg.rtd\",,\"StudyData\", \"Correlation(\"&$B$3&\",\"&I$2&\",Period:=\"&$B$1&\",InputChoice1:=Close,InputChoice2::=Close)\", \"FG\", \"\", \"Close\",$B$2,A101, \"all\",\"\", \"\",\"True\",\"T\")/100","v":0.73039841400000005},null,0.94000000000000117,7,{"$error":"#N/A"},null,{"$f":"RTD(\"cqg.rtd\",,\"StudyData\", \"Correlation(\"&$B$3&\",\"&O$2&\",Period:=\"&$B$1&\",InputChoice1:=Close,InputChoice2::=Close)\", \"FG\", \"\", \"Close\",$B$2,A101, \"all\",\"\", \"\",\"True\",\"T\")/100","v":0.95391175219999991},null,0.94000000000000117,16,{"$error":"#N/A"},null,{"$f":"RTD(\"cqg.rtd\",,\"StudyData\", \"Correlation(\"&$B$3&\",\"&U$2&\",Period:=\"&$B$1&\",InputChoice1:=Close,InputChoice2::=Close)\", \"FG\", \"\", \"Close\",$B$2,A101, \"all\",\"\", \"\",\"True\",\"T\")/100","v":0.78780244730000004},null,0.94000000000000117,16,{"$error":"#N/A"},null,{"$f":"RTD(\"cqg.rtd\",,\"StudyData\", \"Correlation(\"&$B$3&\",\"&AA$2&\",Period:=\"&$B$1&\",InputChoice1:=Close,InputChoice2::=Close)\", \"FG\", \"\", \"Close\",$B$2,A101, \"all\",\"\", \"\",\"True\",\"T\")/100","v":0.65355471800000009},null,0.94000000000000117,7,{"$error":"#N/A"},null,{"$f":"RTD(\"cqg.rtd\",,\"StudyData\", \"Correlation(\"&$B$3&\",\"&AG$2&\",Period:=\"&$B$1&\",InputChoice1:=Close,InputChoice2::=Close)\", \"FG\", \"\", \"Close\",$B$2,A101, \"all\",\"\", \"\",\"True\",\"T\")/100","v":0.63404905040000004},null,0.94000000000000117,2,{"$error":"#N/A"},null,{"$f":"RTD(\"cqg.rtd\",,\"StudyData\", \"Correlation(\"&$B$3&\",\"&AM$2&\",Period:=\"&$B$1&\",InputChoice1:=Close,InputChoice2::=Close)\", \"FG\", \"\", \"Close\",$B$2,A101, \"all\",\"\", \"\",\"True\",\"T\")/100","v":-0.77319092359999997},null,0.94000000000000117,1,{"$error":"#N/A"},null,{"$f":"RTD(\"cqg.rtd\",,\"StudyData\", \"Correlation(\"&$B$3&\",\"&AS$2&\",Period:=\"&$B$1&\",InputChoice1:=Close,InputChoice2::=Close)\", \"FG\", \"\", \"Close\",$B$2,A101, \"all\",\"\", \"\",\"True\",\"T\")/100","v":0.39315850549999998},null,0.94000000000000117,0,{"$error":"#N/A"},null,{"$f":"RTD(\"cqg.rtd\",,\"StudyData\", \"Correlation(\"&$B$3&\",\"&AY$2&\",Period:=\"&$B$1&\",InputChoice1:=Close,InputChoice2::=Close)\", \"FG\", \"\", \"Close\",$B$2,A101, \"all\",\"\", \"\",\"True\",\"T\")/100","v":-0.56286076240000005},null,0.94000000000000117,0,{"$error":"#N/A"},null,{"$f":"RTD(\"cqg.rtd\",,\"StudyData\", \"Correlation(\"&$B$3&\",\"&BE$2&\",Period:=\"&$B$1&\",InputChoice1:=Close,InputChoice2::=Close)\", \"FG\", \"\", \"Close\",$B$2,A101, \"all\",\"\", \"\",\"True\",\"T\")/100","v":0.48931963580000004},null,0.94000000000000117,0,{"$error":"#N/A"}]
[-98,null,{"$f":"RTD(\"cqg.rtd\",,\"StudyData\", \"Correlation(\"&$B$3&\",\"&C$2&\",Period:=\"&$B$1&\",InputChoice1::=Close,InputChoice2::=Close)\", \"FG\", \"\", \"Close\",$B$2,A102, \"all\",\"\", \"\",\"True\",\"T\")/100","v":0.76588155390000001},null,0.96000000000000119,4,{"$error":"#N/A"},null,{"$f":"RTD(\"cqg.rtd\",,\"StudyData\", \"Correlation(\"&$B$3&\",\"&I$2&\",Period:=\"&$B$1&\",InputChoice1:=Close,InputChoice2::=Close)\", \"FG\", \"\", \"Close\",$B$2,A102, \"all\",\"\", \"\",\"True\",\"T\")/100","v":0.77363342720000006},null,0.96000000000000119,4,{"$error":"#N/A"},null,{"$f":"RTD(\"cqg.rtd\",,\"StudyData\", \"Correlation(\"&$B$3&\",\"&O$2&\",Period:=\"&$B$1&\",InputChoice1:=Close,InputChoice2::=Close)\", \"FG\", \"\", \"Close\",$B$2,A102, \"all\",\"\", \"\",\"True\",\"T\")/100","v":0.93326639170000003},null,0.96000000000000119,13,{"$error":"#N/A"},null,{"$f":"RTD(\"cqg.rtd\",,\"StudyData\", \"Correlation(\"&$B$3&\",\"&U$2&\",Period:=\"&$B$1&\",InputChoice1:=Close,InputChoice2::=Close)\", \"FG\", \"\", \"Close\",$B$2,A102, \"all\",\"\", \"\",\"True\",\"T\")/100","v":0.85431999689999993},null,0.96000000000000119,5,{"$error":"#N/A"},null,{"$f":"RTD(\"cqg.rtd\",,\"StudyData\", \"Correlation(\"&$B$3&\",\"&AA$2&\",Period:=\"&$B$1&\",InputChoice1:=Close,InputChoice2::=Close)\", \"FG\", \"\", \"Close\",$B$2,A102, \"all\",\"\", \"\",\"True\",\"T\")/100","v":0.6897224421999999},null,0.96000000000000119,1,{"$error":"#N/A"},null,{"$f":"RTD(\"cqg.rtd\",,\"StudyData\", \"Correlation(\"&$B$3&\",\"&AG$2&\",Period:=\"&$B$1&\",InputChoice1:=Close,InputChoice2::=Close)\", \"FG\", \"\", \"Close\",$B$2,A102, \"all\",\"\", \"\",\"True\",\"T\")/100","v":0.70382174919999996},null,0.96000000000000119,0,{"$error":"#N/A"},null,{"$f":"RTD(\"cqg.rtd\",,\"StudyData\", \"Correlation(\"&$B$3&\",\"&AM$2&\",Period:=\"&$B$1&\",InputChoice1:=Close,InputChoice2::=Close)\", \"FG\", \"\", \"Close\",$B$2,A102, \"all\",\"\", \"\",\"True\",\"T\")/100","v":-0.4492558304},null,0.96000000000000119,2,{"$error":"#N/A"},null,{"$f":"RTD(\"cqg.rtd\",,\"StudyData\", \"Correlation(\"&$B$3&\",\"&AS$2&\",Period:=\"&$B$1&\",InputChoice1:=Close,InputChoice2::=Close)\", \"FG\", \"\", \"Close\",$B$2,A102, \"all\",\"\", \"\",\"True\",\"T\")/100","v":0.44848375580000005},null,0.96000000000000119,0,{"$error":"#N/A"},null,{"$f":"RTD(\"cqg.rtd\",,\"StudyData\", \"Correlation(\"&$B$3&\",\"&AY$2&\",Period:=\"&$B$1&\",InputChoice1:=Close,InputChoice2::=Close)\", \"FG\", \"\", \"Close\",$B$2,A102, \"all\",\"\", \"\",\"True\",\"T\")/100","v":-0.66042376840000006},null,0.96000000000000119,0,{"$error":"#N/A"},null,{"$f":"RTD(\"cqg.rtd\",,\"StudyData\", \"Correlation(\"&$B$3&\",\"&BE$2&\",Period:=\"&$B$1&\",InputChoice1:=Close,InputChoice2::=Close)\", \"FG\", \"\", \"Close\",$B$2,A102, \"all\",\"\", \"\",\"True\",\"T\")/100","v":0.76826003549999999},null,0.96000000000000119,0,{"$error":"#N/A"}]
[-99,null,{"$f":"RTD(\"cqg.rtd\",,\"StudyData\", \"Correlation(\"&$B$3&\",\"&C$2&\",Period:=\"&$B$1&\",InputChoice1::=Close,InputChoice2::=Close)\", \"FG\", \"\", \"Close\",$B$2,A103, \"all\",\"\", \"\",\"True\",\"T\")/100","v":0.84337821590000006},null,0.9800000000000012,5,{"$error":"#N/A"},null,{"$f":"RTD(\"cqg.rtd\",,\"StudyData\", \"Correlation(\"&$B$3&\",\"&I$2&\",Period:=\"&$B$1&\",InputChoice1:=Close,InputChoice2::=Close)\", \"FG\", \"\", \"Close\",$B$2,A103, \"all\",\"\", \"\",\"True\",\"T\")/100","v":0.83470707989999993},null,0.9800000000000012,3,{"$error":"#N/A"},null,{"$f":"RTD(\"cqg.rtd\",,\"StudyData\", \"Correlation(\"&$B$3&\",\"&O$2&\",Period:=\"&$B$1&\",InputChoice1:=Close,InputChoice2::=Close)\", \"FG\", \"\", \"Close\",$B$2,A103, \"all\",\"\", \"\",\"True\",\"T\")/100","v":0.93081789479999999},null,0.9800000000000012,6,{"$error":"#N/A"},null,{"$f":"RTD(\"cqg.rtd\",,\"StudyData\", \"Correlation(\"&$B$3&\",\"&U$2&\",Period:=\"&$B$1&\",InputChoice1:=Close,InputChoice2::=Close)\", \"FG\", \"\", \"Close\",$B$2,A103, \"all\",\"\", \"\",\"True\",\"T\")/100","v":0.91938556800000004},null,0.9800000000000012,13,{"$error":"#N/A"},null,{"$f":"RTD(\"cqg.rtd\",,\"StudyData\", \"Correlation(\"&$B$3&\",\"&AA$2&\",Period:=\"&$B$1&\",InputChoice1:=Close,InputChoice2::=Close)\", \"FG\", \"\", \"Close\",$B$2,A103, \"all\",\"\", \"\",\"True\",\"T\")/100","v":0.48950776089999998},null,0.9800000000000012,0,{"$error":"#N/A"},null,{"$f":"RTD(\"cqg.rtd\",,\"StudyData\", \"Correlation(\"&$B$3&\",\"&AG$2&\",Period:=\"&$B$1&\",InputChoice1:=Close,InputChoice2::=Close)\", \"FG\", \"\", \"Close\",$B$2,A103, \"all\",\"\", \"\",\"True\",\"T\")/100","v":0.58691857159999994},null,0.9800000000000012,0,{"$error":"#N/A"},null,{"$f":"RTD(\"cqg.rtd\",,\"StudyData\", \"Correlation(\"&$B$3&\",\"&AM$2&\",Period:=\"&$B$1&\",InputChoice1:=Close,InputChoice2::=Close)\", \"FG\", \"\", \"Close\",$B$2,A103, \"all\",\"\", \"\",\"True\",\"T\")/100","v":-0.35189668169999999},null,0.9800000000000012,0,{"$error":"#N/A"},null,{"$f":"RTD(\"cqg.rtd\",,\"StudyData\", \"Correlation(\"&$B$3&\",\"&AS$2&\",Period:=\"&$B$1&\",InputChoice1:=Close,InputChoice2::=Close)\", \"FG\", \"\", \"Close\",$B$2,A103, \"all\",\"\", \"\",\"True\",\"T\")/100","v":0.35422603590000001},null,0.9800000000000012,0,{"$error":"#N/A"},null,{"$f":"RTD(\"cqg.rtd\",,\"StudyData\", \"Correlation(\"&$B$3&\",\"&AY$2&\",Period:=\"&$B$1&\",InputChoice1:=Close,InputChoice2::=Close)\", \"FG\", \"\", \"Close\",$B$2,A103, \"all\",\"\", \"\",\"True\",\"T\")/100","v":-0.63347359160000005},null,0.9800000000000012,0,{"$error":"#N/A"},null,{"$f":"RTD(\"cqg.rtd\",,\"StudyData\", \"Correlation(\"&$B$3&\",\"&BE$2&\",Period:=\"&$B$1&\",InputChoice1:=Close,InputChoice2::=Close)\", \"FG\", \"\", \"Close\",$B$2,A103, \"all\",\"\", \"\",\"True\",\"T\")/100","v":0.70727875289999997},null,0.9800000000000012,0,{"$error":"#N/A"}]
[-100,null,{"$f":"IFERROR(RTD(\"cqg.rtd\",,\"StudyData\", \"Correlation(\"&$B$3&\",\"&C$2&\",Period:=\"&$B$1&\",InputChoice1::=Close,InputChoice2::=Close)\", \"FG\", \"\", \"Close\",$B$2,A104, \"all\",\"\", \"\",\"True\",\"T\")/100,\"\")","v":0.88314681039999998},null,1.0000000000000011,0,{"$error":"#N/A"},null,{"$f":"IFERROR(RTD(\"cqg.rtd\",,\"StudyData\", \"Correlation(\"&$B$3&\",\"&I$2&\",Period:=\"&$B$1&\",InputChoice1:=Close,InputChoice2::=Close)\", \"FG\", \"\", \"Close\",$B$2,A104, \"all\",\"\", \"\",\"True\",\"T\")/100,\"\")","v":0.87489119140000005},null,1.0000000000000011,2,{"$error":"#N/A"},null,{"$f":"IFERROR(RTD(\"cqg.rtd\",,\"StudyData\", \"Correlation(\"&$B$3&\",\"&O$2&\",Period:=\"&$B$1&\",InputChoice1:=Close,InputChoice2::=Close)\", \"FG\", \"\", \"Close\",$B$2,A104, \"all\",\"\", \"\",\"True\",\"T\")/100,\"\")","v":""},null,1.0000000000000011,9,{"$error":"#N/A"},null,{"$f":"IFERROR(RTD(\"cqg.rtd\",,\"StudyData\", \"Correlation(\"&$B$3&\",\"&U$2&\",Period:=\"&$B$1&\",InputChoice1:=Close,InputChoice2::=Close)\", \"FG\", \"\", \"Close\",$B$2,A104, \"all\",\"\", \"\",\"True\",\"T\")/100,\"\")","v":""},null,1.0000000000000011,6,{"$error":"#N/A"},null,{"$f":"IFERROR(RTD(\"cqg.rtd\",,\"StudyData\", \"Correlation(\"&$B$3&\",\"&AA$2&\",Period:=\"&$B$1&\",InputChoice1:=Close,InputChoice2::=Close)\", \"FG\", \"\", \"Close\",$B$2,A104, \"all\",\"\", \"\",\"True\",\"T\")/100,\"\")","v":0.69796596620000007},null,1.0000000000000011,0,{"$error":"#N/A"},null,{"$f":"IFERROR(RTD(\"cqg.rtd\",,\"StudyData\", \"Correlation(\"&$B$3&\",\"&AG$2&\",Period:=\"&$B$1&\",InputChoice1:=Close,InputChoice2::=Close)\", \"FG\", \"\", \"Close\",$B$2,A104, \"all\",\"\", \"\",\"True\",\"T\")/100,\"\")","v":0.79891708539999995},null,1.0000000000000011,0,{"$error":"#N/A"},null,{"$f":"IFERROR(RTD(\"cqg.rtd\",,\"StudyData\", \"Correlation(\"&$B$3&\",\"&AM$2&\",Period:=\"&$B$1&\",InputChoice1:=Close,InputChoice2::=Close)\", \"FG\", \"\", \"Close\",$B$2,A104, \"all\",\"\", \"\",\"True\",\"T\")/100,\"\")","v":-0.12144314319999999},null,1.0000000000000011,0,{"$error":"#N/A"},null,{"$f":"IFERROR(RTD(\"cqg.rtd\",,\"StudyData\", \"Correlation(\"&$B$3&\",\"&AS$2&\",Period:=\"&$B$1&\",InputChoice1:=Close,InputChoice2::=Close)\", \"FG\", \"\", \"Close\",$B$2,A104, \"all\",\"\", \"\",\"True\",\"T\")/100,\"\")","v":0.64934743269999995},null,1.0000000000000011,0,{"$error":"#N/A"},null,{"$f":"RTD(\"cqg.rtd\",,\"StudyData\", \"Correlation(\"&$B$3&\",\"&AY$2&\",Period:=\"&$B$1&\",InputChoice1:=Close,InputChoice2::=Close)\", \"FG\", \"\", \"Close\",$B$2,A104, \"all\",\"\", \"\",\"True\",\"T\")/100","v":-0.42150666459999997},null,1.0000000000000011,0,{"$error":"#N/A"},null,{"$f":"IFERROR(RTD(\"cqg.rtd\",,\"StudyData\", \"Correlation(\"&$B$3&\",\"&BE$2&\",Period:=\"&$B$1&\",InputChoice1:=Close,InputChoice2::=Close)\", \"FG\", \"\", \"Close\",$B$2,A104, \"all\",\"\", \"\",\"True\",\"T\")/100,\"\")","v":0.30597644410000002},null,1.0000000000000011,0,{"$error":"#N/A"}]