{"text_format":"1","workbook":"xlsx","n_sheets":2,"sheets":["Main","Sheet2"],"not_rendered":{"charts":2,"images":1,"macros":1,"external_links":0,"defined_names":0,"comments":0,"pivot_tables":0},"unopened":[],"bounds":{"document_bytes":16777216,"sheet_cells":100000,"rows_first":2000,"rows_last":500,"rows_between":2000,"halvings":0,"cell_chars":16384,"cell_head_chars":4096},"cells_cut":0,"cells_raw":0,"read":"whole","date_system":"1900"}

{"sheet":"Main","index":0,"n_rows":48,"n_cols":20,"rows_kept":48,"cut":false,"hidden":false,"merged":[[1,16,1,19],[2,8,3,8],[2,9,3,9],[2,10,3,10],[2,11,3,11],[2,16,3,16],[2,17,3,17],[2,18,3,18],[2,19,3,19],[2,12,3,13],[2,14,3,15],[1,8,1,11],[1,12,1,13],[1,14,1,15],[7,3,8,5],[28,8,28,13],[1,1,3,6],[5,1,6,1],[5,2,6,2],[5,3,6,3],[5,4,6,4],[5,5,6,5],[5,6,6,6],[38,13,38,15],[38,17,38,18],[4,12,4,13],[4,14,4,15],[5,8,5,19],[38,11,38,12],[6,12,8,15],[7,16,7,17],[7,18,7,19],[8,16,8,17],[8,18,8,19]]}
[null,null,null,null,null,null,{"$f":"RTD(\"cqg.rtd\", ,\"ContractData\",G6, \"LongDescription\",, \"T\")","v":"E-Mini S&P 500, Mar 16"},null,{"$f":"RTD(\"cqg.rtd\", ,\"ContractData\", \"Tsize(\"&G6&\")\", \"LastQuoteToday\",,\"T\")*2","v":0.5},{"$f":"IF(L1-M1<=I1,1,0)","v":0},{"$f":"IF(M1-N1<=I1,1,0)","v":0},{"$f":"RTD(\"cqg.rtd\",,\"ContractData\",$G$6,\"High\",,\"T\")","v":1855.25},{"$f":"RTD(\"cqg.rtd\",,\"ContractData\",$G$6,\"LastQuoteToday\",,\"T\")","v":1849.75},{"$f":"RTD(\"cqg.rtd\",,\"ContractData\",$G$6,\"Low\",,\"T\")","v":1822.5}]
[null,"CQG Trade System Dashboard"]
[null,null,null,null,null,null,null,null,{"$f":"IF($Q$39=\"F\",RTD(\"cqg.rtd\",,\"DOMData\",G6,\"Price\",\"-5\",\"D\"),TEXT(RTD(\"cqg.rtd\",,\"DOMData\",G6,\"Price\",\"-5\",\"T\"),$S$41))","v":"1848.50"},{"$f":"IF($Q$39=\"F\",RTD(\"cqg.rtd\",,\"DOMData\",G6,\"Price\",\"-4\",\"D\"),TEXT(RTD(\"cqg.rtd\",,\"DOMData\",G6,\"Price\",\"-4\",\"T\"),$S$41))","v":"1848.75"},{"$f":"IF($Q$39=\"F\",RTD(\"cqg.rtd\",,\"DOMData\",G6,\"Price\",\"-3\",\"D\"),TEXT(RTD(\"cqg.rtd\",,\"DOMData\",G6,\"Price\",\"-3\",\"T\"),$S$41))","v":"1849.00"},{"$f":"IF($Q$39=\"F\",RTD(\"cqg.rtd\",,\"DOMData\",G6,\"Price\",\"-2\",\"D\"),TEXT(RTD(\"cqg.rtd\",,\"DOMData\",G6,\"Price\",\"-2\",\"T\"),$S$41))","v":"1849.25"},{"$f":"IF($Q$39=\"F\",RTD(\"cqg.rtd\",,\"DOMData\",G6,\"Price\",\"-1\",\"D\"),TEXT(RTD(\"cqg.rtd\",,\"DOMData\",G6,\"Price\",\"-1\",\"T\"),$S$41))","v":"1849.50"},null,{"$f":"IF($Q$39=\"F\",RTD(\"cqg.rtd\",,\"DOMData\",G6,\"Price\",\"1\",\"D\"),TEXT(RTD(\"cqg.rtd\",,\"DOMData\",G6,\"Price\",\"1\",\"T\"),$S$41))","v":"1849.75"},null,{"$f":"IF($Q$39=\"F\",RTD(\"cqg.rtd\",,\"DOMData\",G6,\"Price\",\"2\",\"D\"),TEXT(RTD(\"cqg.rtd\",,\"DOMData\",G6,\"Price\",\"2\",\"T\"),$S$41))","v":"1850.00"},{"$f":"IF($Q$39=\"F\",RTD(\"cqg.rtd\",,\"DOMData\",G6,\"Price\",\"3\",\"D\"),TEXT(RTD(\"cqg.rtd\",,\"DOMData\",G6,\"Price\",\"3\",\"T\"),$S$41))","v":"1850.25"},{"$f":"IF($Q$39=\"F\",RTD(\"cqg.rtd\",,\"DOMData\",G6,\"Price\",\"4\",\"D\"),TEXT(RTD(\"cqg.rtd\",,\"DOMData\",G6,\"Price\",\"4\",\"T\"),$S$41))","v":"1850.50"},{"$f":"IF($Q$39=\"F\",RTD(\"cqg.rtd\",,\"DOMData\",G6,\"Price\",\"5\",\"D\"),TEXT(RTD(\"cqg.rtd\",,\"DOMData\",G6,\"Price\",\"5\",\"T\"),$S$41))","v":"1850.75"}]
[]
[null,"Statistics","Values","System","Time Frame","Historical","Symbol","TotalNetProfit",{"$f":"RTD(\"cqg.rtd\",,\"DOMData\",G6,\"Volume\",\"-5\",\"T\")","v":276},{"$f":"RTD(\"cqg.rtd\",,\"DOMData\",G6,\"Volume\",\"-4\",\"T\")","v":262},{"$f":"RTD(\"cqg.rtd\",,\"DOMData\",G6,\"Volume\",\"-3\",\"T\")","v":290},{"$f":"RTD(\"cqg.rtd\",,\"DOMData\",G6,\"Volume\",\"-2\",\"T\")","v":226},{"$f":"RTD(\"cqg.rtd\",,\"DOMData\",G6,\"Volume\",\"-1\",\"T\")","v":126},null,{"$f":"RTD(\"cqg.rtd\",,\"DOMData\",G6,\"Volume\",\"1\",\"T\")","v":78},null,{"$f":"RTD(\"cqg.rtd\",,\"DOMData\",G6,\"Volume\",\"2\",\"T\")","v":243},{"$f":"RTD(\"cqg.rtd\",,\"DOMData\",G6,\"Volume\",\"3\",\"T\")","v":294},{"$f":"RTD(\"cqg.rtd\",,\"DOMData\",G6,\"Volume\",\"4\",\"T\")","v":337},{"$f":"RTD(\"cqg.rtd\",,\"DOMData\",G6,\"Volume\",\"5\",\"T\")","v":384}]
[null,"TotalNetProfit",{"$f":"RTD(\"cqg.rtd\",,\"StudyData\",$D$6&\"^.\"&B6&\"(\"&$G$6&\")\",\"Bar\",\"\",\"Close\",$E$6,$F$6,\"all\",\"\",\"\",\"True\")","v":-13545},"TS_AMA",5,0,"EP"]
[]
[null,"ClosedNetProfit",{"$f":"RTD(\"cqg.rtd\",,\"StudyData\",$D$6&\"^.\"&B8&\"(\"&$G$6&\")\",\"Bar\",\"\",\"Close\",$E$6,$F$6,\"all\",\"\",\"\",\"True\")","v":-12950},{"$f":"RTD(\"cqg.rtd\", ,\"ContractData\",G6, \"LongDescription\",, \"T\")","v":"E-Mini S&P 500, Mar 16"},null,null,"NC","TotalNetProfit","Open","High","Low","Last",null,null,null,null,"Today's Volume",null,"Yesterday's Volume"]
[null,"TotalTradeCount",{"$f":"RTD(\"cqg.rtd\",,\"StudyData\",$D$6&\"^.\"&B9&\"(\"&$G$6&\")\",\"Bar\",\"\",\"Close\",$E$6,$F$6,\"all\",\"\",\"\",\"True\")","v":61},null,null,null,{"$f":"IF($Q$39=\"F\",RTD(\"cqg.rtd\",,\"ContractData\",$G$6,\"NetLastQuote\",,\"B\"),TEXT(RTD(\"cqg.rtd\",,\"ContractData\",$G$6,\"NetLastQuote\",,\"T\"),$S$41))","v":"25.25"},"ClosedNetProfit",{"$f":"IF($Q$39=\"F\",RTD(\"cqg.rtd\",,\"ContractData\",$G$6,\"Open\",,\"B\"),TEXT(RTD(\"cqg.rtd\",,\"ContractData\",$G$6,\"Open\",,\"T\"),$S$41))","v":"1827.25"},{"$f":"IF($Q$39=\"F\",RTD(\"cqg.rtd\",,\"ContractData\",$G$6,\"High\",,\"B\"),TEXT(RTD(\"cqg.rtd\",,\"ContractData\",$G$6,\"High\",,\"T\"),$S$41))","v":"1855.25"},{"$f":"IF($Q$39=\"F\",RTD(\"cqg.rtd\",,\"ContractData\",$G$6,\"Low\",,\"B\"),TEXT(RTD(\"cqg.rtd\",,\"ContractData\",$G$6,\"Low\",,\"T\"),$S$41))","v":"1822.50"},{"$f":"IF($Q$39=\"F\",RTD(\"cqg.rtd\",,\"ContractData\",$G$6,\"LastQuoteToday\",,\"B\"),TEXT(RTD(\"cqg.rtd\",,\"ContractData\",$G$6,\"LastQuoteToday\",,\"T\"),$S$41))","v":"1849.75"},null,null,null,null,{"$f":"RTD(\"cqg.rtd\", ,\"ContractData\",G6, \"T_CVol\",, \"T\")","v":1489023},null,{"$f":"RTD(\"cqg.rtd\", ,\"ContractData\",G6, \"Y_CVol\",, \"T\")","v":3203999}]
[null,"OpenPosition",{"$f":"RTD(\"cqg.rtd\",,\"StudyData\",$D$6&\"^.\"&B10&\"(\"&$G$6&\")\",\"Bar\",\"\",\"Close\",$E$6,$F$6,\"all\",\"\",\"\",\"True\")","v":-7},null,null,null,null,"TotalTradeCount"]
[null,"PercentLong",{"$f":"RTD(\"cqg.rtd\",,\"StudyData\",$D$6&\"^.\"&B11&\"(\"&$G$6&\")\",\"Bar\",\"\",\"Close\",$E$6,$F$6,\"all\",\"\",\"\",\"True\")","v":49.180327868852459},null,null,null,null,"OpenPosition"]
[null,"AverageDuration",{"$f":"RTD(\"cqg.rtd\",,\"StudyData\",$D$6&\"^.\"&B12&\"(\"&$G$6&\")\",\"Bar\",\"\",\"Close\",$E$6,$F$6,\"all\",\"\",\"\",\"True\")","v":14.950819672131148},null,null,null,null,"PercentLong"]
[null,"AverageProfit",{"$f":"RTD(\"cqg.rtd\",,\"StudyData\",$D$6&\"^.\"&B13&\"(\"&$G$6&\")\",\"Bar\",\"\",\"Close\",$E$6,$F$6,\"all\",\"\",\"\",\"True\")","v":-222.04918032786884},null,null,null,null,"AverageDuration"]
[null,"AverageWin",{"$f":"RTD(\"cqg.rtd\",,\"StudyData\",$D$6&\"^.\"&B14&\"(\"&$G$6&\")\",\"Bar\",\"\",\"Close\",$E$6,$F$6,\"all\",\"\",\"\",\"True\")","v":2228.8636363636365},null,null,null,null,"AverageProfit"]
[null,"MaximumWin",{"$f":"RTD(\"cqg.rtd\",,\"StudyData\",$D$6&\"^.\"&B15&\"(\"&$G$6&\")\",\"Bar\",\"\",\"Close\",$E$6,$F$6,\"all\",\"\",\"\",\"True\")","v":6667.5},null,null,null,null,"AverageWin"]
[null,"AverageLoss",{"$f":"RTD(\"cqg.rtd\",,\"StudyData\",$D$6&\"^.\"&B16&\"(\"&$G$6&\")\",\"Bar\",\"\",\"Close\",$E$6,$F$6,\"all\",\"\",\"\",\"True\")","v":-1604.6153846153845},null,null,null,null,"MaximumWin"]
[null,"MaximumLoss",{"$f":"RTD(\"cqg.rtd\",,\"StudyData\",$D$6&\"^.\"&B17&\"(\"&$G$6&\")\",\"Bar\",\"\",\"Close\",$E$6,$F$6,\"all\",\"\",\"\",\"True\")","v":-7070},null,null,null,null,"AverageLoss"]
[null,"MaxClosedDraw",{"$f":"RTD(\"cqg.rtd\",,\"StudyData\",$D$6&\"^.\"&B18&\"(\"&$G$6&\")\",\"Bar\",\"\",\"Close\",$E$6,$F$6,\"all\",\"\",\"\",\"True\")","v":-13457.5},null,null,null,null,"MaximumLoss"]
[null,"MaxDrawAmount",{"$f":"RTD(\"cqg.rtd\",,\"StudyData\",$D$6&\"^.\"&B19&\"(\"&$G$6&\")\",\"Bar\",\"\",\"Close\",$E$6,$F$6,\"all\",\"\",\"\",\"True\")","v":-31062.5},null,null,null,null,"MaxClosedDraw"]
[null,"MaxDrawDuration",{"$f":"RTD(\"cqg.rtd\",,\"StudyData\",$D$6&\"^.\"&B20&\"(\"&$G$6&\")\",\"Bar\",\"\",\"Close\",$E$6,$F$6,\"all\",\"\",\"\",\"True\")","v":504},null,null,null,null,"MaxDrawAmount"]
[null,"MaxConsecWins",{"$f":"RTD(\"cqg.rtd\",,\"StudyData\",$D$6&\"^.\"&B21&\"(\"&$G$6&\")\",\"Bar\",\"\",\"Close\",$E$6,$F$6,\"all\",\"\",\"\",\"True\")","v":3},null,null,null,null,"MaxDrawDuration"]
[null,"CurConsecWins",{"$f":"RTD(\"cqg.rtd\",,\"StudyData\",$D$6&\"^.\"&B22&\"(\"&$G$6&\")\",\"Bar\",\"\",\"Close\",$E$6,$F$6,\"all\",\"\",\"\",\"True\")","v":1},null,null,null,null,"MaxConsecWins"]
[null,"MaxConsecLosses",{"$f":"RTD(\"cqg.rtd\",,\"StudyData\",$D$6&\"^.\"&B23&\"(\"&$G$6&\")\",\"Bar\",\"\",\"Close\",$E$6,$F$6,\"all\",\"\",\"\",\"True\")","v":6},null,null,null,null,"CurConsecWins"]
[null,"CurConsecLosses",{"$f":"RTD(\"cqg.rtd\",,\"StudyData\",$D$6&\"^.\"&B24&\"(\"&$G$6&\")\",\"Bar\",\"\",\"Close\",$E$6,$F$6,\"all\",\"\",\"\",\"True\")","v":0},null,null,null,null,"MaxConsecLosses"]
[null,"ProfitToMaxDraw",{"$f":"RTD(\"cqg.rtd\",,\"StudyData\",$D$6&\"^.\"&B25&\"(\"&$G$6&\")\",\"Bar\",\"\",\"Close\",$E$6,$F$6,\"all\",\"\",\"\",\"True\")","v":-0.43605633802816901},null,null,null,null,"CurConsecLosses"]
[null,"ProfitLossRatio",{"$f":"RTD(\"cqg.rtd\",,\"StudyData\",$D$6&\"^.\"&B26&\"(\"&$G$6&\")\",\"Bar\",\"\",\"Close\",$E$6,$F$6,\"all\",\"\",\"\",\"True\")","v":0.78355704697986572},null,null,null,null,"ProfitToMaxDraw"]
[null,"PercentWinners",{"$f":"RTD(\"cqg.rtd\",,\"StudyData\",$D$6&\"^.\"&B27&\"(\"&$G$6&\")\",\"Bar\",\"\",\"Close\",$E$6,$F$6,\"all\",\"\",\"\",\"True\")","v":36.065573770491802},null,null,null,null,"ProfitLossRatio"]
[null,"RemoveToNeutral",{"$f":"RTD(\"cqg.rtd\",,\"StudyData\",$D$6&\"^.\"&B28&\"(\"&$G$6&\")\",\"Bar\",\"\",\"Close\",$E$6,$F$6,\"all\",\"\",\"\",\"True\")","v":0},null,null,null,null,"PercentWinners"]
[null,"TimePercentage",{"$f":"RTD(\"cqg.rtd\",,\"StudyData\",$D$6&\"^.\"&B29&\"(\"&$G$6&\")\",\"Bar\",\"\",\"Close\",$E$6,$F$6,\"all\",\"\",\"\",\"True\")","v":85.2},null,null,null,null,"RemoveToNeutral",{"$f":"H5","v":"TotalNetProfit"}]
[null,"CurDrawdown",{"$f":"RTD(\"cqg.rtd\",,\"StudyData\",$D$6&\"^.\"&B30&\"(\"&$G$6&\")\",\"Bar\",\"\",\"Close\",$E$6,$F$6,\"all\",\"\",\"\",\"True\")","v":-28752.5},null,null,null,null,"TimePercentage"]
[null,"FirstLong.EntryStop",{"$f":"IF(LEFT(RTD(\"cqg.rtd\",,\"StudyData\",$D$6&\"^.\"&B31&\"(\"&$G$6&\")\",\"Bar\",\"\",\"Close\",$E$6,$F$6,\"all\",\"\",\"\",\"True\"),3)=\"777\",\"\",IF($Q$39=\"F\",RTD(\"cqg.rtd\",,\"StudyData\",$D$6&\"^.\"&B31&\"(\"&$G$6&\")\",\"Bar\",\"\",\"Close\",$E$6,$F$6,\"all\",\"\",\"\",\"True\",\"D\"),TEXT(RTD(\"cqg.rtd\",,\"StudyData\",$D$6&\"^.\"&B31&\"(\"&$G$6&\")\",\"Bar\",\"\",\"Close\",$E$6,$F$6,\"all\",\"\",\"\",\"True\",\"T\"),$S$41)))","v":""},null,null,null,null,"CurDrawdown"]
[null,"FirstLong.EntryLimit",{"$f":"IF(LEFT(RTD(\"cqg.rtd\",,\"StudyData\",$D$6&\"^.\"&B32&\"(\"&$G$6&\")\",\"Bar\",\"\",\"Close\",$E$6,$F$6,\"all\",\"\",\"\",\"True\"),3)=\"777\",\"\",IF($Q$39=\"F\",RTD(\"cqg.rtd\",,\"StudyData\",$D$6&\"^.\"&B32&\"(\"&$G$6&\")\",\"Bar\",\"\",\"Close\",$E$6,$F$6,\"all\",\"\",\"\",\"True\",\"D\"),TEXT(RTD(\"cqg.rtd\",,\"StudyData\",$D$6&\"^.\"&B32&\"(\"&$G$6&\")\",\"Bar\",\"\",\"Close\",$E$6,$F$6,\"all\",\"\",\"\",\"True\",\"T\"),$S$41)))","v":""}]
[null,"FirstLong.ExitStop",{"$f":"IF(LEFT(RTD(\"cqg.rtd\",,\"StudyData\",$D$6&\"^.\"&B33&\"(\"&$G$6&\")\",\"Bar\",\"\",\"Close\",$E$6,$F$6,\"all\",\"\",\"\",\"True\"),3)=\"777\",\"\",IF($Q$39=\"F\",RTD(\"cqg.rtd\",,\"StudyData\",$D$6&\"^.\"&B33&\"(\"&$G$6&\")\",\"Bar\",\"\",\"Close\",$E$6,$F$6,\"all\",\"\",\"\",\"True\",\"D\"),TEXT(RTD(\"cqg.rtd\",,\"StudyData\",$D$6&\"^.\"&B33&\"(\"&$G$6&\")\",\"Bar\",\"\",\"Close\",$E$6,$F$6,\"all\",\"\",\"\",\"True\",\"T\"),$S$41)))","v":""}]
[null,"FirstLong.ExitLimit",{"$f":"IF(LEFT(RTD(\"cqg.rtd\",,\"StudyData\",$D$6&\"^.\"&B34&\"(\"&$G$6&\")\",\"Bar\",\"\",\"Close\",$E$6,$F$6,\"all\",\"\",\"\",\"True\"),3)=\"777\",\"\",IF($Q$39=\"F\",RTD(\"cqg.rtd\",,\"StudyData\",$D$6&\"^.\"&B34&\"(\"&$G$6&\")\",\"Bar\",\"\",\"Close\",$E$6,$F$6,\"all\",\"\",\"\",\"True\",\"D\"),TEXT(RTD(\"cqg.rtd\",,\"StudyData\",$D$6&\"^.\"&B34&\"(\"&$G$6&\")\",\"Bar\",\"\",\"Close\",$E$6,$F$6,\"all\",\"\",\"\",\"True\",\"T\"),$S$41)))","v":""}]
[null,"FirstShort.EntryStop",{"$f":"IF(LEFT(RTD(\"cqg.rtd\",,\"StudyData\",$D$6&\"^.\"&B35&\"(\"&$G$6&\")\",\"Bar\",\"\",\"Close\",$E$6,$F$6,\"all\",\"\",\"\",\"True\"),3)=\"777\",\"\",IF($Q$39=\"F\",RTD(\"cqg.rtd\",,\"StudyData\",$D$6&\"^.\"&B35&\"(\"&$G$6&\")\",\"Bar\",\"\",\"Close\",$E$6,$F$6,\"all\",\"\",\"\",\"True\",\"D\"),TEXT(RTD(\"cqg.rtd\",,\"StudyData\",$D$6&\"^.\"&B35&\"(\"&$G$6&\")\",\"Bar\",\"\",\"Close\",$E$6,$F$6,\"all\",\"\",\"\",\"True\",\"T\"),$S$41)))","v":""}]
[null,"FirstShort.EntryLimit",{"$f":"IF(LEFT(RTD(\"cqg.rtd\",,\"StudyData\",$D$6&\"^.\"&B36&\"(\"&$G$6&\")\",\"Bar\",\"\",\"Close\",$E$6,$F$6,\"all\",\"\",\"\",\"True\"),3)=\"777\",\"\",IF($Q$39=\"F\",RTD(\"cqg.rtd\",,\"StudyData\",$D$6&\"^.\"&B36&\"(\"&$G$6&\")\",\"Bar\",\"\",\"Close\",$E$6,$F$6,\"all\",\"\",\"\",\"True\",\"D\"),TEXT(RTD(\"cqg.rtd\",,\"StudyData\",$D$6&\"^.\"&B36&\"(\"&$G$6&\")\",\"Bar\",\"\",\"Close\",$E$6,$F$6,\"all\",\"\",\"\",\"True\",\"T\"),$S$41)))","v":""}]
[null,"FirstShort.ExitStop",{"$f":"IF(LEFT(RTD(\"cqg.rtd\",,\"StudyData\",$D$6&\"^.\"&B37&\"(\"&$G$6&\")\",\"Bar\",\"\",\"Close\",$E$6,$F$6,\"all\",\"\",\"\",\"True\"),3)=\"777\",\"\",IF($Q$39=\"F\",RTD(\"cqg.rtd\",,\"StudyData\",$D$6&\"^.\"&B37&\"(\"&$G$6&\")\",\"Bar\",\"\",\"Close\",$E$6,$F$6,\"all\",\"\",\"\",\"True\",\"D\"),TEXT(RTD(\"cqg.rtd\",,\"StudyData\",$D$6&\"^.\"&B37&\"(\"&$G$6&\")\",\"Bar\",\"\",\"Close\",$E$6,$F$6,\"all\",\"\",\"\",\"True\",\"T\"),$S$41)))","v":"1868.00"}]
[null,"FirstShort.ExitLimit",{"$f":"IF(LEFT(RTD(\"cqg.rtd\",,\"StudyData\",$D$6&\"^.\"&B38&\"(\"&$G$6&\")\",\"Bar\",\"\",\"Close\",$E$6,$F$6,\"all\",\"\",\"\",\"True\"),3)=\"777\",\"\",IF($Q$39=\"F\",RTD(\"cqg.rtd\",,\"StudyData\",$D$6&\"^.\"&B38&\"(\"&$G$6&\")\",\"Bar\",\"\",\"Close\",$E$6,$F$6,\"all\",\"\",\"\",\"True\",\"D\"),TEXT(RTD(\"cqg.rtd\",,\"StudyData\",$D$6&\"^.\"&B38&\"(\"&$G$6&\")\",\"Bar\",\"\",\"Close\",$E$6,$F$6,\"all\",\"\",\"\",\"True\",\"T\"),$S$41)))","v":""}]
[null,"Copyright, CQG, Inc.,  © 2016     Designed by Thom Hartle",null,null,null,null,null,null,null,null,"Chicago:",{"$f":"RTD(\"cqg.rtd\", ,\"SystemInfo\", \"Linetime\")","v":42412.536562499998},null,"Price Decimal (D) or Fraction (F): ",null,null,"D","Number of Decimals: ",null,2]
[]
[null,null,null,null,null,null,null,null,null,null,null,null,null,null,null,null,0,"#",{"$f":"VLOOKUP(T39,Q41:R48,2,FALSE)","v":"#.00"}]
[null,null,null,null,null,null,null,null,null,null,null,null,null,null,null,null,1,"#.0"]
[null,null,null,null,null,null,null,null,null,null,null,null,null,null,null,null,2,"#.00"]
[null,null,null,null,null,null,null,null,null,null,null,null,null,null,null,null,3,"#.000"]
[null,null,null,null,null,null,null,null,null,null,null,null,null,null,null,null,4,"#.0000"]
[null,null,null,null,null,null,null,null,null,null,null,null,null,null,null,null,5,"#.00000"]
[null,null,null,null,null,null,null,null,null,null,null,null,null,null,null,null,6,"#.000000"]
[null,null,null,null,null,null,null,null,null,null,null,null,null,null,null,null,7,"#.0000000"]

{"sheet":"Sheet2","index":1,"n_rows":150,"n_cols":25,"rows_kept":150,"cut":false,"hidden":true,"merged":[]}
[null,"DATE","TIME","OPEN","HIGH","LOW","CLOSE",null,null,null,null,"Chart Time Frame","Symbol","Continuation","Decimal=T, Tick=D","CustomSessionName","Type All or PrimaryOnly",null,null,{"$f":"Main!H5","v":"TotalNetProfit"},{"$f":"Main!D6","v":"TS_AMA"},{"$f":"Main!E6","v":5},null,{"$f":"Main!G6","v":"EP"},"TotalNetProfit"]
[{"$f":"Main!F6","v":0},{"$f":" RTD(\"cqg.rtd\",,\"StudyData\", $M$2, \"Bar\", \"\", \"Time\", $L$2,$A2, $Q$2, \"\", \"\",\"False\")","v":"2016-02-12T12:50:00"},{"$f":" IF(RTD(\"cqg.rtd\",,\"StudyData\", $M$2, \"Bar\", \"\", \"Time\", $L$2, $A2,$Q$2,$P$2, \"\",\"False\")=\"\",NA(),RTD(\"cqg.rtd\",,\"StudyData\", $M$2, \"Bar\", \"\", \"Time\", $L$2, $A2,$Q$2,$P$2, \"\",\"False\"))","v":42412.534722222219},{"$f":" IF(RTD(\"cqg.rtd\",,\"StudyData\", $M$2, \"Bar\", \"\", \"Open\", $L$2, -$A2, $Q$2,$P$2,,$N$2,$O$2)=\"\",NA(),RTD(\"cqg.rtd\",,\"StudyData\", $M$2, \"Bar\", \"\", \"Open\", $L$2, $A2, $Q$2,$P$2,,$N$2,$O$2))","v":1850.5},{"$f":" IF(RTD(\"cqg.rtd\",,\"StudyData\", $M$2, \"Bar\", \"\", \"High\", $L$2, -$A2, $Q$2,$P$2,,$N$2,$O$2)=\"\",NA(),RTD(\"cqg.rtd\",,\"StudyData\", $M$2, \"Bar\", \"\", \"High\", $L$2, $A2, $Q$2,$P$2,,$N$2,$O$2))","v":1850.75},{"$f":" IF(RTD(\"cqg.rtd\",,\"StudyData\", $M$2, \"Bar\", \"\", \"Low\", $L$2, -$A2, $Q$2,$P$2,,$N$2,$O$2)=\"\",NA(),RTD(\"cqg.rtd\",,\"StudyData\", $M$2, \"Bar\", \"\", \"Low\", $L$2, $A2, $Q$2,$P$2,,$N$2,$O$2))","v":1849.25},{"$f":" IF(RTD(\"cqg.rtd\",,\"StudyData\", $M$2, \"Bar\", \"\", \"Close\", $L$2, -$A2, $Q$2,$P$2,,$N$2,$O$2)=\"\",NA(),RTD(\"cqg.rtd\",,\"StudyData\", $M$2, \"Bar\", \"\", \"Close\", $L$2, $A2, $Q$2,$P$2,,$N$2,$O$2))","v":1849.5},null,null,null,null,{"$f":"Main!E6","v":5},{"$f":"Main!G6","v":"EP"},true,"T",null,"All",-42,{"$f":" RTD(\"cqg.rtd\",,\"StudyData\", $M$2,\"Tick\", \"FlatTicks=0\", \"Tick\",\"D\",R2,\"all\")","v":1849.5},null,{"$f":"RTD(\"cqg.rtd\",,\"StudyData\",$U$1&\"^.\"&$T$1&\"(\"&$M$2&\")\",\"Bar\",\"\",\"Close\",$L$2,A2,\"all\",\"\",\"\",\"True\")","v":-13545},null,null,null,"ClosedNetProfit"]
[{"$f":"A2-1","v":-1},{"$f":" RTD(\"cqg.rtd\",,\"StudyData\", $M$2, \"Bar\", \"\", \"Time\", $L$2,$A3, $Q$2, \"\", \"\",\"False\")","v":"2016-02-12T12:45:00"},{"$f":" IF(RTD(\"cqg.rtd\",,\"StudyData\", $M$2, \"Bar\", \"\", \"Time\", $L$2, $A3,$Q$2,$P$2, \"\",\"False\")=\"\",NA(),RTD(\"cqg.rtd\",,\"StudyData\", $M$2, \"Bar\", \"\", \"Time\", $L$2, $A3,$Q$2,$P$2, \"\",\"False\"))","v":42412.53125},{"$f":" IF(RTD(\"cqg.rtd\",,\"StudyData\", $M$2, \"Bar\", \"\", \"Open\", $L$2, $A3, $Q$2,$P$2,,$N$2,$O$2)=\"\",NA(),RTD(\"cqg.rtd\",,\"StudyData\", $M$2, \"Bar\", \"\", \"Open\", $L$2, $A3, $Q$2,$P$2,,$N$2,$O$2))","v":1849.5},{"$f":" IF(RTD(\"cqg.rtd\",,\"StudyData\", $M$2, \"Bar\", \"\", \"High\", $L$2, $A3, $Q$2,$P$2,,$N$2,$O$2)=\"\",NA(),RTD(\"cqg.rtd\",,\"StudyData\", $M$2, \"Bar\", \"\", \"High\", $L$2, $A3, $Q$2,$P$2,,$N$2,$O$2))","v":1850.75},{"$f":" IF(RTD(\"cqg.rtd\",,\"StudyData\", $M$2, \"Bar\", \"\", \"Low\", $L$2, $A3, $Q$2,$P$2,,$N$2,$O$2)=\"\",NA(),RTD(\"cqg.rtd\",,\"StudyData\", $M$2, \"Bar\", \"\", \"Low\", $L$2, $A3, $Q$2,$P$2,,$N$2,$O$2))","v":1849},{"$f":" IF(RTD(\"cqg.rtd\",,\"StudyData\", $M$2, \"Bar\", \"\", \"Close\", $L$2, $A3, $Q$2,$P$2,,$N$2,$O$2)=\"\",NA(),RTD(\"cqg.rtd\",,\"StudyData\", $M$2, \"Bar\", \"\", \"Close\", $L$2, $A3, $Q$2,$P$2,,$N$2,$O$2))","v":1850.5},null,null,null,null,null,null,null,null,null,null,{"$f":"R2+1","v":-41},{"$f":" RTD(\"cqg.rtd\",,\"StudyData\", $M$2,\"Tick\", \"FlatTicks=0\", \"Tick\",\"D\",R3,\"all\")","v":1849.75},null,{"$f":"RTD(\"cqg.rtd\",,\"StudyData\",$U$1&\"^.\"&$T$1&\"(\"&$M$2&\")\",\"Bar\",\"\",\"Close\",$L$2,A3,\"all\",\"\",\"\",\"True\")","v":-13895},null,null,null,"TotalTradeCount"]
[{"$f":"A3-1","v":-2},{"$f":" RTD(\"cqg.rtd\",,\"StudyData\", $M$2, \"Bar\", \"\", \"Time\", $L$2,$A4, $Q$2, \"\", \"\",\"False\")","v":"2016-02-12T12:40:00"},{"$f":" IF(RTD(\"cqg.rtd\",,\"StudyData\", $M$2, \"Bar\", \"\", \"Time\", $L$2, $A4,$Q$2,$P$2, \"\",\"False\")=\"\",NA(),RTD(\"cqg.rtd\",,\"StudyData\", $M$2, \"Bar\", \"\", \"Time\", $L$2, $A4,$Q$2,$P$2, \"\",\"False\"))","v":42412.527777777781},{"$f":" IF(RTD(\"cqg.rtd\",,\"StudyData\", $M$2, \"Bar\", \"\", \"Open\", $L$2, $A4, $Q$2,$P$2,,$N$2,$O$2)=\"\",NA(),RTD(\"cqg.rtd\",,\"StudyData\", $M$2, \"Bar\", \"\", \"Open\", $L$2, $A4, $Q$2,$P$2,,$N$2,$O$2))","v":1849},{"$f":" IF(RTD(\"cqg.rtd\",,\"StudyData\", $M$2, \"Bar\", \"\", \"High\", $L$2, $A4, $Q$2,$P$2,,$N$2,$O$2)=\"\",NA(),RTD(\"cqg.rtd\",,\"StudyData\", $M$2, \"Bar\", \"\", \"High\", $L$2, $A4, $Q$2,$P$2,,$N$2,$O$2))","v":1850.25},{"$f":" IF(RTD(\"cqg.rtd\",,\"StudyData\", $M$2, \"Bar\", \"\", \"Low\", $L$2, $A4, $Q$2,$P$2,,$N$2,$O$2)=\"\",NA(),RTD(\"cqg.rtd\",,\"StudyData\", $M$2, \"Bar\", \"\", \"Low\", $L$2, $A4, $Q$2,$P$2,,$N$2,$O$2))","v":1847.5},{"$f":" IF(RTD(\"cqg.rtd\",,\"StudyData\", $M$2, \"Bar\", \"\", \"Close\", $L$2, $A4, $Q$2,$P$2,,$N$2,$O$2)=\"\",NA(),RTD(\"cqg.rtd\",,\"StudyData\", $M$2, \"Bar\", \"\", \"Close\", $L$2, $A4, $Q$2,$P$2,,$N$2,$O$2))","v":1849.5},null,null,null,null,null,null,null,null,null,null,{"$f":"R3+1","v":-40},{"$f":" RTD(\"cqg.rtd\",,\"StudyData\", $M$2,\"Tick\", \"FlatTicks=0\", \"Tick\",\"D\",R4,\"all\")","v":1849.5},null,{"$f":"RTD(\"cqg.rtd\",,\"StudyData\",$U$1&\"^.\"&$T$1&\"(\"&$M$2&\")\",\"Bar\",\"\",\"Close\",$L$2,A4,\"all\",\"\",\"\",\"True\")","v":-13545},null,null,null,"OpenPosition"]
[-3,{"$f":" RTD(\"cqg.rtd\",,\"StudyData\", $M$2, \"Bar\", \"\", \"Time\", $L$2,$A5, $Q$2, \"\", \"\",\"False\")","v":"2016-02-12T12:35:00"},{"$f":" IF(RTD(\"cqg.rtd\",,\"StudyData\", $M$2, \"Bar\", \"\", \"Time\", $L$2, $A5,$Q$2,$P$2, \"\",\"False\")=\"\",NA(),RTD(\"cqg.rtd\",,\"StudyData\", $M$2, \"Bar\", \"\", \"Time\", $L$2, $A5,$Q$2,$P$2, \"\",\"False\"))","v":42412.524305555555},{"$f":" IF(RTD(\"cqg.rtd\",,\"StudyData\", $M$2, \"Bar\", \"\", \"Open\", $L$2, $A5, $Q$2,$P$2,,$N$2,$O$2)=\"\",NA(),RTD(\"cqg.rtd\",,\"StudyData\", $M$2, \"Bar\", \"\", \"Open\", $L$2, $A5, $Q$2,$P$2,,$N$2,$O$2))","v":1849.5},{"$f":" IF(RTD(\"cqg.rtd\",,\"StudyData\", $M$2, \"Bar\", \"\", \"High\", $L$2, $A5, $Q$2,$P$2,,$N$2,$O$2)=\"\",NA(),RTD(\"cqg.rtd\",,\"StudyData\", $M$2, \"Bar\", \"\", \"High\", $L$2, $A5, $Q$2,$P$2,,$N$2,$O$2))","v":1850.75},{"$f":" IF(RTD(\"cqg.rtd\",,\"StudyData\", $M$2, \"Bar\", \"\", \"Low\", $L$2, $A5, $Q$2,$P$2,,$N$2,$O$2)=\"\",NA(),RTD(\"cqg.rtd\",,\"StudyData\", $M$2, \"Bar\", \"\", \"Low\", $L$2, $A5, $Q$2,$P$2,,$N$2,$O$2))","v":1848.25},{"$f":" IF(RTD(\"cqg.rtd\",,\"StudyData\", $M$2, \"Bar\", \"\", \"Close\", $L$2, $A5, $Q$2,$P$2,,$N$2,$O$2)=\"\",NA(),RTD(\"cqg.rtd\",,\"StudyData\", $M$2, \"Bar\", \"\", \"Close\", $L$2, $A5, $Q$2,$P$2,,$N$2,$O$2))","v":1848.75},null,null,null,null,null,null,null,null,null,null,-39,{"$f":" RTD(\"cqg.rtd\",,\"StudyData\", $M$2,\"Tick\", \"FlatTicks=0\", \"Tick\",\"D\",R5,\"all\")","v":1849.75},null,{"$f":"RTD(\"cqg.rtd\",,\"StudyData\",$U$1&\"^.\"&$T$1&\"(\"&$M$2&\")\",\"Bar\",\"\",\"Close\",$L$2,A5,\"all\",\"\",\"\",\"True\")","v":-13282.5},null,null,null,"PercentLong"]
[-4,{"$f":" RTD(\"cqg.rtd\",,\"StudyData\", $M$2, \"Bar\", \"\", \"Time\", $L$2,$A6, $Q$2, \"\", \"\",\"False\")","v":"2016-02-12T12:30:00"},{"$f":" IF(RTD(\"cqg.rtd\",,\"StudyData\", $M$2, \"Bar\", \"\", \"Time\", $L$2, $A6,$Q$2,$P$2, \"\",\"False\")=\"\",NA(),RTD(\"cqg.rtd\",,\"StudyData\", $M$2, \"Bar\", \"\", \"Time\", $L$2, $A6,$Q$2,$P$2, \"\",\"False\"))","v":42412.520833333336},{"$f":" IF(RTD(\"cqg.rtd\",,\"StudyData\", $M$2, \"Bar\", \"\", \"Open\", $L$2, $A6, $Q$2,$P$2,,$N$2,$O$2)=\"\",NA(),RTD(\"cqg.rtd\",,\"StudyData\", $M$2, \"Bar\", \"\", \"Open\", $L$2, $A6, $Q$2,$P$2,,$N$2,$O$2))","v":1848},{"$f":" IF(RTD(\"cqg.rtd\",,\"StudyData\", $M$2, \"Bar\", \"\", \"High\", $L$2, $A6, $Q$2,$P$2,,$N$2,$O$2)=\"\",NA(),RTD(\"cqg.rtd\",,\"StudyData\", $M$2, \"Bar\", \"\", \"High\", $L$2, $A6, $Q$2,$P$2,,$N$2,$O$2))","v":1849.5},{"$f":" IF(RTD(\"cqg.rtd\",,\"StudyData\", $M$2, \"Bar\", \"\", \"Low\", $L$2, $A6, $Q$2,$P$2,,$N$2,$O$2)=\"\",NA(),RTD(\"cqg.rtd\",,\"StudyData\", $M$2, \"Bar\", \"\", \"Low\", $L$2, $A6, $Q$2,$P$2,,$N$2,$O$2))","v":1846.75},{"$f":" IF(RTD(\"cqg.rtd\",,\"StudyData\", $M$2, \"Bar\", \"\", \"Close\", $L$2, $A6, $Q$2,$P$2,,$N$2,$O$2)=\"\",NA(),RTD(\"cqg.rtd\",,\"StudyData\", $M$2, \"Bar\", \"\", \"Close\", $L$2, $A6, $Q$2,$P$2,,$N$2,$O$2))","v":1849.5},null,null,null,null,null,null,null,null,null,null,-38,{"$f":" RTD(\"cqg.rtd\",,\"StudyData\", $M$2,\"Tick\", \"FlatTicks=0\", \"Tick\",\"D\",R6,\"all\")","v":1849.5},null,{"$f":"RTD(\"cqg.rtd\",,\"StudyData\",$U$1&\"^.\"&$T$1&\"(\"&$M$2&\")\",\"Bar\",\"\",\"Close\",$L$2,A6,\"all\",\"\",\"\",\"True\")","v":-13545},null,null,null,"AverageDuration"]
[-5,{"$f":" RTD(\"cqg.rtd\",,\"StudyData\", $M$2, \"Bar\", \"\", \"Time\", $L$2,$A7, $Q$2, \"\", \"\",\"False\")","v":"2016-02-12T12:25:00"},{"$f":" IF(RTD(\"cqg.rtd\",,\"StudyData\", $M$2, \"Bar\", \"\", \"Time\", $L$2, $A7,$Q$2,$P$2, \"\",\"False\")=\"\",NA(),RTD(\"cqg.rtd\",,\"StudyData\", $M$2, \"Bar\", \"\", \"Time\", $L$2, $A7,$Q$2,$P$2, \"\",\"False\"))","v":42412.517361111109},{"$f":" IF(RTD(\"cqg.rtd\",,\"StudyData\", $M$2, \"Bar\", \"\", \"Open\", $L$2, $A7, $Q$2,$P$2,,$N$2,$O$2)=\"\",NA(),RTD(\"cqg.rtd\",,\"StudyData\", $M$2, \"Bar\", \"\", \"Open\", $L$2, $A7, $Q$2,$P$2,,$N$2,$O$2))","v":1846},{"$f":" IF(RTD(\"cqg.rtd\",,\"StudyData\", $M$2, \"Bar\", \"\", \"High\", $L$2, $A7, $Q$2,$P$2,,$N$2,$O$2)=\"\",NA(),RTD(\"cqg.rtd\",,\"StudyData\", $M$2, \"Bar\", \"\", \"High\", $L$2, $A7, $Q$2,$P$2,,$N$2,$O$2))","v":1848.25},{"$f":" IF(RTD(\"cqg.rtd\",,\"StudyData\", $M$2, \"Bar\", \"\", \"Low\", $L$2, $A7, $Q$2,$P$2,,$N$2,$O$2)=\"\",NA(),RTD(\"cqg.rtd\",,\"StudyData\", $M$2, \"Bar\", \"\", \"Low\", $L$2, $A7, $Q$2,$P$2,,$N$2,$O$2))","v":1845.5},{"$f":" IF(RTD(\"cqg.rtd\",,\"StudyData\", $M$2, \"Bar\", \"\", \"Close\", $L$2, $A7, $Q$2,$P$2,,$N$2,$O$2)=\"\",NA(),RTD(\"cqg.rtd\",,\"StudyData\", $M$2, \"Bar\", \"\", \"Close\", $L$2, $A7, $Q$2,$P$2,,$N$2,$O$2))","v":1848},null,null,null,null,null,null,null,null,null,null,-37,{"$f":" RTD(\"cqg.rtd\",,\"StudyData\", $M$2,\"Tick\", \"FlatTicks=0\", \"Tick\",\"D\",R7,\"all\")","v":1849.75},null,{"$f":"RTD(\"cqg.rtd\",,\"StudyData\",$U$1&\"^.\"&$T$1&\"(\"&$M$2&\")\",\"Bar\",\"\",\"Close\",$L$2,A7,\"all\",\"\",\"\",\"True\")","v":-13020},null,null,null,"AverageProfit"]
[-6,{"$f":" RTD(\"cqg.rtd\",,\"StudyData\", $M$2, \"Bar\", \"\", \"Time\", $L$2,$A8, $Q$2, \"\", \"\",\"False\")","v":"2016-02-12T12:20:00"},{"$f":" IF(RTD(\"cqg.rtd\",,\"StudyData\", $M$2, \"Bar\", \"\", \"Time\", $L$2, $A8,$Q$2,$P$2, \"\",\"False\")=\"\",NA(),RTD(\"cqg.rtd\",,\"StudyData\", $M$2, \"Bar\", \"\", \"Time\", $L$2, $A8,$Q$2,$P$2, \"\",\"False\"))","v":42412.513888888891},{"$f":" IF(RTD(\"cqg.rtd\",,\"StudyData\", $M$2, \"Bar\", \"\", \"Open\", $L$2, $A8, $Q$2,$P$2,,$N$2,$O$2)=\"\",NA(),RTD(\"cqg.rtd\",,\"StudyData\", $M$2, \"Bar\", \"\", \"Open\", $L$2, $A8, $Q$2,$P$2,,$N$2,$O$2))","v":1846.25},{"$f":" IF(RTD(\"cqg.rtd\",,\"StudyData\", $M$2, \"Bar\", \"\", \"High\", $L$2, $A8, $Q$2,$P$2,,$N$2,$O$2)=\"\",NA(),RTD(\"cqg.rtd\",,\"StudyData\", $M$2, \"Bar\", \"\", \"High\", $L$2, $A8, $Q$2,$P$2,,$N$2,$O$2))","v":1847.75},{"$f":" IF(RTD(\"cqg.rtd\",,\"StudyData\", $M$2, \"Bar\", \"\", \"Low\", $L$2, $A8, $Q$2,$P$2,,$N$2,$O$2)=\"\",NA(),RTD(\"cqg.rtd\",,\"StudyData\", $M$2, \"Bar\", \"\", \"Low\", $L$2, $A8, $Q$2,$P$2,,$N$2,$O$2))","v":1845.75},{"$f":" IF(RTD(\"cqg.rtd\",,\"StudyData\", $M$2, \"Bar\", \"\", \"Close\", $L$2, $A8, $Q$2,$P$2,,$N$2,$O$2)=\"\",NA(),RTD(\"cqg.rtd\",,\"StudyData\", $M$2, \"Bar\", \"\", \"Close\", $L$2, $A8, $Q$2,$P$2,,$N$2,$O$2))","v":1846},null,null,null,null,null,null,null,null,null,null,-36,{"$f":" RTD(\"cqg.rtd\",,\"StudyData\", $M$2,\"Tick\", \"FlatTicks=0\", \"Tick\",\"D\",R8,\"all\")","v":1849.5},null,{"$f":"RTD(\"cqg.rtd\",,\"StudyData\",$U$1&\"^.\"&$T$1&\"(\"&$M$2&\")\",\"Bar\",\"\",\"Close\",$L$2,A8,\"all\",\"\",\"\",\"True\")","v":-12320},null,null,null,"AverageWin"]
[-7,{"$f":" RTD(\"cqg.rtd\",,\"StudyData\", $M$2, \"Bar\", \"\", \"Time\", $L$2,$A9, $Q$2, \"\", \"\",\"False\")","v":"2016-02-12T12:15:00"},{"$f":" IF(RTD(\"cqg.rtd\",,\"StudyData\", $M$2, \"Bar\", \"\", \"Time\", $L$2, $A9,$Q$2,$P$2, \"\",\"False\")=\"\",NA(),RTD(\"cqg.rtd\",,\"StudyData\", $M$2, \"Bar\", \"\", \"Time\", $L$2, $A9,$Q$2,$P$2, \"\",\"False\"))","v":42412.510416666664},{"$f":" IF(RTD(\"cqg.rtd\",,\"StudyData\", $M$2, \"Bar\", \"\", \"Open\", $L$2, $A9, $Q$2,$P$2,,$N$2,$O$2)=\"\",NA(),RTD(\"cqg.rtd\",,\"StudyData\", $M$2, \"Bar\", \"\", \"Open\", $L$2, $A9, $Q$2,$P$2,,$N$2,$O$2))","v":1848},{"$f":" IF(RTD(\"cqg.rtd\",,\"StudyData\", $M$2, \"Bar\", \"\", \"High\", $L$2, $A9, $Q$2,$P$2,,$N$2,$O$2)=\"\",NA(),RTD(\"cqg.rtd\",,\"StudyData\", $M$2, \"Bar\", \"\", \"High\", $L$2, $A9, $Q$2,$P$2,,$N$2,$O$2))","v":1848},{"$f":" IF(RTD(\"cqg.rtd\",,\"StudyData\", $M$2, \"Bar\", \"\", \"Low\", $L$2, $A9, $Q$2,$P$2,,$N$2,$O$2)=\"\",NA(),RTD(\"cqg.rtd\",,\"StudyData\", $M$2, \"Bar\", \"\", \"Low\", $L$2, $A9, $Q$2,$P$2,,$N$2,$O$2))","v":1845.5},{"$f":" IF(RTD(\"cqg.rtd\",,\"StudyData\", $M$2, \"Bar\", \"\", \"Close\", $L$2, $A9, $Q$2,$P$2,,$N$2,$O$2)=\"\",NA(),RTD(\"cqg.rtd\",,\"StudyData\", $M$2, \"Bar\", \"\", \"Close\", $L$2, $A9, $Q$2,$P$2,,$N$2,$O$2))","v":1846},null,null,null,null,null,null,null,null,null,null,-35,{"$f":" RTD(\"cqg.rtd\",,\"StudyData\", $M$2,\"Tick\", \"FlatTicks=0\", \"Tick\",\"D\",R9,\"all\")","v":1849.75},null,{"$f":"RTD(\"cqg.rtd\",,\"StudyData\",$U$1&\"^.\"&$T$1&\"(\"&$M$2&\")\",\"Bar\",\"\",\"Close\",$L$2,A9,\"all\",\"\",\"\",\"True\")","v":-12320},null,null,null,"MaximumWin"]
[-8,{"$f":" RTD(\"cqg.rtd\",,\"StudyData\", $M$2, \"Bar\", \"\", \"Time\", $L$2,$A10, $Q$2, \"\", \"\",\"False\")","v":"2016-02-12T12:10:00"},{"$f":" IF(RTD(\"cqg.rtd\",,\"StudyData\", $M$2, \"Bar\", \"\", \"Time\", $L$2, $A10,$Q$2,$P$2, \"\",\"False\")=\"\",NA(),RTD(\"cqg.rtd\",,\"StudyData\", $M$2, \"Bar\", \"\", \"Time\", $L$2, $A10,$Q$2,$P$2, \"\",\"False\"))","v":42412.506944444445},{"$f":" IF(RTD(\"cqg.rtd\",,\"StudyData\", $M$2, \"Bar\", \"\", \"Open\", $L$2, $A10, $Q$2,$P$2,,$N$2,$O$2)=\"\",NA(),RTD(\"cqg.rtd\",,\"StudyData\", $M$2, \"Bar\", \"\", \"Open\", $L$2, $A10, $Q$2,$P$2,,$N$2,$O$2))","v":1848.5},{"$f":" IF(RTD(\"cqg.rtd\",,\"StudyData\", $M$2, \"Bar\", \"\", \"High\", $L$2, $A10, $Q$2,$P$2,,$N$2,$O$2)=\"\",NA(),RTD(\"cqg.rtd\",,\"StudyData\", $M$2, \"Bar\", \"\", \"High\", $L$2, $A10, $Q$2,$P$2,,$N$2,$O$2))","v":1850.25},{"$f":" IF(RTD(\"cqg.rtd\",,\"StudyData\", $M$2, \"Bar\", \"\", \"Low\", $L$2, $A10, $Q$2,$P$2,,$N$2,$O$2)=\"\",NA(),RTD(\"cqg.rtd\",,\"StudyData\", $M$2, \"Bar\", \"\", \"Low\", $L$2, $A10, $Q$2,$P$2,,$N$2,$O$2))","v":1847.5},{"$f":" IF(RTD(\"cqg.rtd\",,\"StudyData\", $M$2, \"Bar\", \"\", \"Close\", $L$2, $A10, $Q$2,$P$2,,$N$2,$O$2)=\"\",NA(),RTD(\"cqg.rtd\",,\"StudyData\", $M$2, \"Bar\", \"\", \"Close\", $L$2, $A10, $Q$2,$P$2,,$N$2,$O$2))","v":1848},null,null,null,null,null,null,null,null,null,null,-34,{"$f":" RTD(\"cqg.rtd\",,\"StudyData\", $M$2,\"Tick\", \"FlatTicks=0\", \"Tick\",\"D\",R10,\"all\")","v":1849.5},null,{"$f":"RTD(\"cqg.rtd\",,\"StudyData\",$U$1&\"^.\"&$T$1&\"(\"&$M$2&\")\",\"Bar\",\"\",\"Close\",$L$2,A10,\"all\",\"\",\"\",\"True\")","v":-12950},null,null,null,"AverageLoss"]
[-9,{"$f":" RTD(\"cqg.rtd\",,\"StudyData\", $M$2, \"Bar\", \"\", \"Time\", $L$2,$A11, $Q$2, \"\", \"\",\"False\")","v":"2016-02-12T12:05:00"},{"$f":" IF(RTD(\"cqg.rtd\",,\"StudyData\", $M$2, \"Bar\", \"\", \"Time\", $L$2, $A11,$Q$2,$P$2, \"\",\"False\")=\"\",NA(),RTD(\"cqg.rtd\",,\"StudyData\", $M$2, \"Bar\", \"\", \"Time\", $L$2, $A11,$Q$2,$P$2, \"\",\"False\"))","v":42412.503472222219},{"$f":" IF(RTD(\"cqg.rtd\",,\"StudyData\", $M$2, \"Bar\", \"\", \"Open\", $L$2, $A11, $Q$2,$P$2,,$N$2,$O$2)=\"\",NA(),RTD(\"cqg.rtd\",,\"StudyData\", $M$2, \"Bar\", \"\", \"Open\", $L$2, $A11, $Q$2,$P$2,,$N$2,$O$2))","v":1851.25},{"$f":" IF(RTD(\"cqg.rtd\",,\"StudyData\", $M$2, \"Bar\", \"\", \"High\", $L$2, $A11, $Q$2,$P$2,,$N$2,$O$2)=\"\",NA(),RTD(\"cqg.rtd\",,\"StudyData\", $M$2, \"Bar\", \"\", \"High\", $L$2, $A11, $Q$2,$P$2,,$N$2,$O$2))","v":1851.25},{"$f":" IF(RTD(\"cqg.rtd\",,\"StudyData\", $M$2, \"Bar\", \"\", \"Low\", $L$2, $A11, $Q$2,$P$2,,$N$2,$O$2)=\"\",NA(),RTD(\"cqg.rtd\",,\"StudyData\", $M$2, \"Bar\", \"\", \"Low\", $L$2, $A11, $Q$2,$P$2,,$N$2,$O$2))","v":1847.5},{"$f":" IF(RTD(\"cqg.rtd\",,\"StudyData\", $M$2, \"Bar\", \"\", \"Close\", $L$2, $A11, $Q$2,$P$2,,$N$2,$O$2)=\"\",NA(),RTD(\"cqg.rtd\",,\"StudyData\", $M$2, \"Bar\", \"\", \"Close\", $L$2, $A11, $Q$2,$P$2,,$N$2,$O$2))","v":1848.5},null,null,null,null,null,null,null,null,null,null,-33,{"$f":" RTD(\"cqg.rtd\",,\"StudyData\", $M$2,\"Tick\", \"FlatTicks=0\", \"Tick\",\"D\",R11,\"all\")","v":1849.25},null,{"$f":"RTD(\"cqg.rtd\",,\"StudyData\",$U$1&\"^.\"&$T$1&\"(\"&$M$2&\")\",\"Bar\",\"\",\"Close\",$L$2,A11,\"all\",\"\",\"\",\"True\")","v":-12950},null,null,null,"MaximumLoss"]
[-10,{"$f":" RTD(\"cqg.rtd\",,\"StudyData\", $M$2, \"Bar\", \"\", \"Time\", $L$2,$A12, $Q$2, \"\", \"\",\"False\")","v":"2016-02-12T12:00:00"},{"$f":" IF(RTD(\"cqg.rtd\",,\"StudyData\", $M$2, \"Bar\", \"\", \"Time\", $L$2, $A12,$Q$2,$P$2, \"\",\"False\")=\"\",NA(),RTD(\"cqg.rtd\",,\"StudyData\", $M$2, \"Bar\", \"\", \"Time\", $L$2, $A12,$Q$2,$P$2, \"\",\"False\"))","v":42412.5},{"$f":" IF(RTD(\"cqg.rtd\",,\"StudyData\", $M$2, \"Bar\", \"\", \"Open\", $L$2, $A12, $Q$2,$P$2,,$N$2,$O$2)=\"\",NA(),RTD(\"cqg.rtd\",,\"StudyData\", $M$2, \"Bar\", \"\", \"Open\", $L$2, $A12, $Q$2,$P$2,,$N$2,$O$2))","v":1850.75},{"$f":" IF(RTD(\"cqg.rtd\",,\"StudyData\", $M$2, \"Bar\", \"\", \"High\", $L$2, $A12, $Q$2,$P$2,,$N$2,$O$2)=\"\",NA(),RTD(\"cqg.rtd\",,\"StudyData\", $M$2, \"Bar\", \"\", \"High\", $L$2, $A12, $Q$2,$P$2,,$N$2,$O$2))","v":1852.75},{"$f":" IF(RTD(\"cqg.rtd\",,\"StudyData\", $M$2, \"Bar\", \"\", \"Low\", $L$2, $A12, $Q$2,$P$2,,$N$2,$O$2)=\"\",NA(),RTD(\"cqg.rtd\",,\"StudyData\", $M$2, \"Bar\", \"\", \"Low\", $L$2, $A12, $Q$2,$P$2,,$N$2,$O$2))","v":1850.25},{"$f":" IF(RTD(\"cqg.rtd\",,\"StudyData\", $M$2, \"Bar\", \"\", \"Close\", $L$2, $A12, $Q$2,$P$2,,$N$2,$O$2)=\"\",NA(),RTD(\"cqg.rtd\",,\"StudyData\", $M$2, \"Bar\", \"\", \"Close\", $L$2, $A12, $Q$2,$P$2,,$N$2,$O$2))","v":1851.25},null,null,null,null,null,null,null,null,null,null,-32,{"$f":" RTD(\"cqg.rtd\",,\"StudyData\", $M$2,\"Tick\", \"FlatTicks=0\", \"Tick\",\"D\",R12,\"all\")","v":1849.5},null,{"$f":"RTD(\"cqg.rtd\",,\"StudyData\",$U$1&\"^.\"&$T$1&\"(\"&$M$2&\")\",\"Bar\",\"\",\"Close\",$L$2,A12,\"all\",\"\",\"\",\"True\")","v":-11900},null,null,null,"MaxClosedDraw"]
[-11,{"$f":" RTD(\"cqg.rtd\",,\"StudyData\", $M$2, \"Bar\", \"\", \"Time\", $L$2,$A13, $Q$2, \"\", \"\",\"False\")","v":"2016-02-12T11:55:00"},{"$f":" IF(RTD(\"cqg.rtd\",,\"StudyData\", $M$2, \"Bar\", \"\", \"Time\", $L$2, $A13,$Q$2,$P$2, \"\",\"False\")=\"\",NA(),RTD(\"cqg.rtd\",,\"StudyData\", $M$2, \"Bar\", \"\", \"Time\", $L$2, $A13,$Q$2,$P$2, \"\",\"False\"))","v":42412.496527777781},{"$f":" IF(RTD(\"cqg.rtd\",,\"StudyData\", $M$2, \"Bar\", \"\", \"Open\", $L$2, $A13, $Q$2,$P$2,,$N$2,$O$2)=\"\",NA(),RTD(\"cqg.rtd\",,\"StudyData\", $M$2, \"Bar\", \"\", \"Open\", $L$2, $A13, $Q$2,$P$2,,$N$2,$O$2))","v":1853.25},{"$f":" IF(RTD(\"cqg.rtd\",,\"StudyData\", $M$2, \"Bar\", \"\", \"High\", $L$2, $A13, $Q$2,$P$2,,$N$2,$O$2)=\"\",NA(),RTD(\"cqg.rtd\",,\"StudyData\", $M$2, \"Bar\", \"\", \"High\", $L$2, $A13, $Q$2,$P$2,,$N$2,$O$2))","v":1853.25},{"$f":" IF(RTD(\"cqg.rtd\",,\"StudyData\", $M$2, \"Bar\", \"\", \"Low\", $L$2, $A13, $Q$2,$P$2,,$N$2,$O$2)=\"\",NA(),RTD(\"cqg.rtd\",,\"StudyData\", $M$2, \"Bar\", \"\", \"Low\", $L$2, $A13, $Q$2,$P$2,,$N$2,$O$2))","v":1850.75},{"$f":" IF(RTD(\"cqg.rtd\",,\"StudyData\", $M$2, \"Bar\", \"\", \"Close\", $L$2, $A13, $Q$2,$P$2,,$N$2,$O$2)=\"\",NA(),RTD(\"cqg.rtd\",,\"StudyData\", $M$2, \"Bar\", \"\", \"Close\", $L$2, $A13, $Q$2,$P$2,,$N$2,$O$2))","v":1850.75},null,null,null,null,null,null,null,null,null,null,-31,{"$f":" RTD(\"cqg.rtd\",,\"StudyData\", $M$2,\"Tick\", \"FlatTicks=0\", \"Tick\",\"D\",R13,\"all\")","v":1849.25},null,{"$f":"RTD(\"cqg.rtd\",,\"StudyData\",$U$1&\"^.\"&$T$1&\"(\"&$M$2&\")\",\"Bar\",\"\",\"Close\",$L$2,A13,\"all\",\"\",\"\",\"True\")","v":-12075},null,null,null,"MaxDrawAmount"]
[-12,{"$f":" RTD(\"cqg.rtd\",,\"StudyData\", $M$2, \"Bar\", \"\", \"Time\", $L$2,$A14, $Q$2, \"\", \"\",\"False\")","v":"2016-02-12T11:50:00"},{"$f":" IF(RTD(\"cqg.rtd\",,\"StudyData\", $M$2, \"Bar\", \"\", \"Time\", $L$2, $A14,$Q$2,$P$2, \"\",\"False\")=\"\",NA(),RTD(\"cqg.rtd\",,\"StudyData\", $M$2, \"Bar\", \"\", \"Time\", $L$2, $A14,$Q$2,$P$2, \"\",\"False\"))","v":42412.493055555555},{"$f":" IF(RTD(\"cqg.rtd\",,\"StudyData\", $M$2, \"Bar\", \"\", \"Open\", $L$2, $A14, $Q$2,$P$2,,$N$2,$O$2)=\"\",NA(),RTD(\"cqg.rtd\",,\"StudyData\", $M$2, \"Bar\", \"\", \"Open\", $L$2, $A14, $Q$2,$P$2,,$N$2,$O$2))","v":1852},{"$f":" IF(RTD(\"cqg.rtd\",,\"StudyData\", $M$2, \"Bar\", \"\", \"High\", $L$2, $A14, $Q$2,$P$2,,$N$2,$O$2)=\"\",NA(),RTD(\"cqg.rtd\",,\"StudyData\", $M$2, \"Bar\", \"\", \"High\", $L$2, $A14, $Q$2,$P$2,,$N$2,$O$2))","v":1853.5},{"$f":" IF(RTD(\"cqg.rtd\",,\"StudyData\", $M$2, \"Bar\", \"\", \"Low\", $L$2, $A14, $Q$2,$P$2,,$N$2,$O$2)=\"\",NA(),RTD(\"cqg.rtd\",,\"StudyData\", $M$2, \"Bar\", \"\", \"Low\", $L$2, $A14, $Q$2,$P$2,,$N$2,$O$2))","v":1851.25},{"$f":" IF(RTD(\"cqg.rtd\",,\"StudyData\", $M$2, \"Bar\", \"\", \"Close\", $L$2, $A14, $Q$2,$P$2,,$N$2,$O$2)=\"\",NA(),RTD(\"cqg.rtd\",,\"StudyData\", $M$2, \"Bar\", \"\", \"Close\", $L$2, $A14, $Q$2,$P$2,,$N$2,$O$2))","v":1853},null,null,null,null,null,null,null,null,null,null,-30,{"$f":" RTD(\"cqg.rtd\",,\"StudyData\", $M$2,\"Tick\", \"FlatTicks=0\", \"Tick\",\"D\",R14,\"all\")","v":1849.5},null,{"$f":"RTD(\"cqg.rtd\",,\"StudyData\",$U$1&\"^.\"&$T$1&\"(\"&$M$2&\")\",\"Bar\",\"\",\"Close\",$L$2,A14,\"all\",\"\",\"\",\"True\")","v":-11287.5},null,null,null,"MaxDrawDuration"]
[-13,{"$f":" RTD(\"cqg.rtd\",,\"StudyData\", $M$2, \"Bar\", \"\", \"Time\", $L$2,$A15, $Q$2, \"\", \"\",\"False\")","v":"2016-02-12T11:45:00"},{"$f":" IF(RTD(\"cqg.rtd\",,\"StudyData\", $M$2, \"Bar\", \"\", \"Time\", $L$2, $A15,$Q$2,$P$2, \"\",\"False\")=\"\",NA(),RTD(\"cqg.rtd\",,\"StudyData\", $M$2, \"Bar\", \"\", \"Time\", $L$2, $A15,$Q$2,$P$2, \"\",\"False\"))","v":42412.489583333336},{"$f":" IF(RTD(\"cqg.rtd\",,\"StudyData\", $M$2, \"Bar\", \"\", \"Open\", $L$2, $A15, $Q$2,$P$2,,$N$2,$O$2)=\"\",NA(),RTD(\"cqg.rtd\",,\"StudyData\", $M$2, \"Bar\", \"\", \"Open\", $L$2, $A15, $Q$2,$P$2,,$N$2,$O$2))","v":1853.75},{"$f":" IF(RTD(\"cqg.rtd\",,\"StudyData\", $M$2, \"Bar\", \"\", \"High\", $L$2, $A15, $Q$2,$P$2,,$N$2,$O$2)=\"\",NA(),RTD(\"cqg.rtd\",,\"StudyData\", $M$2, \"Bar\", \"\", \"High\", $L$2, $A15, $Q$2,$P$2,,$N$2,$O$2))","v":1854},{"$f":" IF(RTD(\"cqg.rtd\",,\"StudyData\", $M$2, \"Bar\", \"\", \"Low\", $L$2, $A15, $Q$2,$P$2,,$N$2,$O$2)=\"\",NA(),RTD(\"cqg.rtd\",,\"StudyData\", $M$2, \"Bar\", \"\", \"Low\", $L$2, $A15, $Q$2,$P$2,,$N$2,$O$2))","v":1851.5},{"$f":" IF(RTD(\"cqg.rtd\",,\"StudyData\", $M$2, \"Bar\", \"\", \"Close\", $L$2, $A15, $Q$2,$P$2,,$N$2,$O$2)=\"\",NA(),RTD(\"cqg.rtd\",,\"StudyData\", $M$2, \"Bar\", \"\", \"Close\", $L$2, $A15, $Q$2,$P$2,,$N$2,$O$2))","v":1852},null,null,null,null,null,null,null,null,null,null,-29,{"$f":" RTD(\"cqg.rtd\",,\"StudyData\", $M$2,\"Tick\", \"FlatTicks=0\", \"Tick\",\"D\",R15,\"all\")","v":1849.75},null,{"$f":"RTD(\"cqg.rtd\",,\"StudyData\",$U$1&\"^.\"&$T$1&\"(\"&$M$2&\")\",\"Bar\",\"\",\"Close\",$L$2,A15,\"all\",\"\",\"\",\"True\")","v":-11637.5},null,null,null,"MaxConsecWins"]
[-14,{"$f":" RTD(\"cqg.rtd\",,\"StudyData\", $M$2, \"Bar\", \"\", \"Time\", $L$2,$A16, $Q$2, \"\", \"\",\"False\")","v":"2016-02-12T11:40:00"},{"$f":" IF(RTD(\"cqg.rtd\",,\"StudyData\", $M$2, \"Bar\", \"\", \"Time\", $L$2, $A16,$Q$2,$P$2, \"\",\"False\")=\"\",NA(),RTD(\"cqg.rtd\",,\"StudyData\", $M$2, \"Bar\", \"\", \"Time\", $L$2, $A16,$Q$2,$P$2, \"\",\"False\"))","v":42412.486111111109},{"$f":" IF(RTD(\"cqg.rtd\",,\"StudyData\", $M$2, \"Bar\", \"\", \"Open\", $L$2, $A16, $Q$2,$P$2,,$N$2,$O$2)=\"\",NA(),RTD(\"cqg.rtd\",,\"StudyData\", $M$2, \"Bar\", \"\", \"Open\", $L$2, $A16, $Q$2,$P$2,,$N$2,$O$2))","v":1853.5},{"$f":" IF(RTD(\"cqg.rtd\",,\"StudyData\", $M$2, \"Bar\", \"\", \"High\", $L$2, $A16, $Q$2,$P$2,,$N$2,$O$2)=\"\",NA(),RTD(\"cqg.rtd\",,\"StudyData\", $M$2, \"Bar\", \"\", \"High\", $L$2, $A16, $Q$2,$P$2,,$N$2,$O$2))","v":1853.75},{"$f":" IF(RTD(\"cqg.rtd\",,\"StudyData\", $M$2, \"Bar\", \"\", \"Low\", $L$2, $A16, $Q$2,$P$2,,$N$2,$O$2)=\"\",NA(),RTD(\"cqg.rtd\",,\"StudyData\", $M$2, \"Bar\", \"\", \"Low\", $L$2, $A16, $Q$2,$P$2,,$N$2,$O$2))","v":1852.5},{"$f":" IF(RTD(\"cqg.rtd\",,\"StudyData\", $M$2, \"Bar\", \"\", \"Close\", $L$2, $A16, $Q$2,$P$2,,$N$2,$O$2)=\"\",NA(),RTD(\"cqg.rtd\",,\"StudyData\", $M$2, \"Bar\", \"\", \"Close\", $L$2, $A16, $Q$2,$P$2,,$N$2,$O$2))","v":1853.75},null,null,null,null,null,null,null,null,null,null,-28,{"$f":" RTD(\"cqg.rtd\",,\"StudyData\", $M$2,\"Tick\", \"FlatTicks=0\", \"Tick\",\"D\",R16,\"all\")","v":1850},null,{"$f":"RTD(\"cqg.rtd\",,\"StudyData\",$U$1&\"^.\"&$T$1&\"(\"&$M$2&\")\",\"Bar\",\"\",\"Close\",$L$2,A16,\"all\",\"\",\"\",\"True\")","v":-11025},null,null,null,"CurConsecWins"]
[-15,{"$f":" RTD(\"cqg.rtd\",,\"StudyData\", $M$2, \"Bar\", \"\", \"Time\", $L$2,$A17, $Q$2, \"\", \"\",\"False\")","v":"2016-02-12T11:35:00"},{"$f":" IF(RTD(\"cqg.rtd\",,\"StudyData\", $M$2, \"Bar\", \"\", \"Time\", $L$2, $A17,$Q$2,$P$2, \"\",\"False\")=\"\",NA(),RTD(\"cqg.rtd\",,\"StudyData\", $M$2, \"Bar\", \"\", \"Time\", $L$2, $A17,$Q$2,$P$2, \"\",\"False\"))","v":42412.482638888891},{"$f":" IF(RTD(\"cqg.rtd\",,\"StudyData\", $M$2, \"Bar\", \"\", \"Open\", $L$2, $A17, $Q$2,$P$2,,$N$2,$O$2)=\"\",NA(),RTD(\"cqg.rtd\",,\"StudyData\", $M$2, \"Bar\", \"\", \"Open\", $L$2, $A17, $Q$2,$P$2,,$N$2,$O$2))","v":1852.25},{"$f":" IF(RTD(\"cqg.rtd\",,\"StudyData\", $M$2, \"Bar\", \"\", \"High\", $L$2, $A17, $Q$2,$P$2,,$N$2,$O$2)=\"\",NA(),RTD(\"cqg.rtd\",,\"StudyData\", $M$2, \"Bar\", \"\", \"High\", $L$2, $A17, $Q$2,$P$2,,$N$2,$O$2))","v":1853.5},{"$f":" IF(RTD(\"cqg.rtd\",,\"StudyData\", $M$2, \"Bar\", \"\", \"Low\", $L$2, $A17, $Q$2,$P$2,,$N$2,$O$2)=\"\",NA(),RTD(\"cqg.rtd\",,\"StudyData\", $M$2, \"Bar\", \"\", \"Low\", $L$2, $A17, $Q$2,$P$2,,$N$2,$O$2))","v":1850.75},{"$f":" IF(RTD(\"cqg.rtd\",,\"StudyData\", $M$2, \"Bar\", \"\", \"Close\", $L$2, $A17, $Q$2,$P$2,,$N$2,$O$2)=\"\",NA(),RTD(\"cqg.rtd\",,\"StudyData\", $M$2, \"Bar\", \"\", \"Close\", $L$2, $A17, $Q$2,$P$2,,$N$2,$O$2))","v":1853.25},null,null,null,null,null,null,null,null,null,null,-27,{"$f":" RTD(\"cqg.rtd\",,\"StudyData\", $M$2,\"Tick\", \"FlatTicks=0\", \"Tick\",\"D\",R17,\"all\")","v":1849.75},null,{"$f":"RTD(\"cqg.rtd\",,\"StudyData\",$U$1&\"^.\"&$T$1&\"(\"&$M$2&\")\",\"Bar\",\"\",\"Close\",$L$2,A17,\"all\",\"\",\"\",\"True\")","v":-11200},null,null,null,"MaxConsecLosses"]
[-16,{"$f":" RTD(\"cqg.rtd\",,\"StudyData\", $M$2, \"Bar\", \"\", \"Time\", $L$2,$A18, $Q$2, \"\", \"\",\"False\")","v":"2016-02-12T11:30:00"},{"$f":" IF(RTD(\"cqg.rtd\",,\"StudyData\", $M$2, \"Bar\", \"\", \"Time\", $L$2, $A18,$Q$2,$P$2, \"\",\"False\")=\"\",NA(),RTD(\"cqg.rtd\",,\"StudyData\", $M$2, \"Bar\", \"\", \"Time\", $L$2, $A18,$Q$2,$P$2, \"\",\"False\"))","v":42412.479166666664},{"$f":" IF(RTD(\"cqg.rtd\",,\"StudyData\", $M$2, \"Bar\", \"\", \"Open\", $L$2, $A18, $Q$2,$P$2,,$N$2,$O$2)=\"\",NA(),RTD(\"cqg.rtd\",,\"StudyData\", $M$2, \"Bar\", \"\", \"Open\", $L$2, $A18, $Q$2,$P$2,,$N$2,$O$2))","v":1852.75},{"$f":" IF(RTD(\"cqg.rtd\",,\"StudyData\", $M$2, \"Bar\", \"\", \"High\", $L$2, $A18, $Q$2,$P$2,,$N$2,$O$2)=\"\",NA(),RTD(\"cqg.rtd\",,\"StudyData\", $M$2, \"Bar\", \"\", \"High\", $L$2, $A18, $Q$2,$P$2,,$N$2,$O$2))","v":1853.25},{"$f":" IF(RTD(\"cqg.rtd\",,\"StudyData\", $M$2, \"Bar\", \"\", \"Low\", $L$2, $A18, $Q$2,$P$2,,$N$2,$O$2)=\"\",NA(),RTD(\"cqg.rtd\",,\"StudyData\", $M$2, \"Bar\", \"\", \"Low\", $L$2, $A18, $Q$2,$P$2,,$N$2,$O$2))","v":1851.5},{"$f":" IF(RTD(\"cqg.rtd\",,\"StudyData\", $M$2, \"Bar\", \"\", \"Close\", $L$2, $A18, $Q$2,$P$2,,$N$2,$O$2)=\"\",NA(),RTD(\"cqg.rtd\",,\"StudyData\", $M$2, \"Bar\", \"\", \"Close\", $L$2, $A18, $Q$2,$P$2,,$N$2,$O$2))","v":1852},null,null,null,null,null,null,null,null,null,null,-26,{"$f":" RTD(\"cqg.rtd\",,\"StudyData\", $M$2,\"Tick\", \"FlatTicks=0\", \"Tick\",\"D\",R18,\"all\")","v":1850},null,{"$f":"RTD(\"cqg.rtd\",,\"StudyData\",$U$1&\"^.\"&$T$1&\"(\"&$M$2&\")\",\"Bar\",\"\",\"Close\",$L$2,A18,\"all\",\"\",\"\",\"True\")","v":-11637.5},null,null,null,"CurConsecLosses"]
[-17,{"$f":" RTD(\"cqg.rtd\",,\"StudyData\", $M$2, \"Bar\", \"\", \"Time\", $L$2,$A19, $Q$2, \"\", \"\",\"False\")","v":"2016-02-12T11:25:00"},{"$f":" IF(RTD(\"cqg.rtd\",,\"StudyData\", $M$2, \"Bar\", \"\", \"Time\", $L$2, $A19,$Q$2,$P$2, \"\",\"False\")=\"\",NA(),RTD(\"cqg.rtd\",,\"StudyData\", $M$2, \"Bar\", \"\", \"Time\", $L$2, $A19,$Q$2,$P$2, \"\",\"False\"))","v":42412.475694444445},{"$f":" IF(RTD(\"cqg.rtd\",,\"StudyData\", $M$2, \"Bar\", \"\", \"Open\", $L$2, $A19, $Q$2,$P$2,,$N$2,$O$2)=\"\",NA(),RTD(\"cqg.rtd\",,\"StudyData\", $M$2, \"Bar\", \"\", \"Open\", $L$2, $A19, $Q$2,$P$2,,$N$2,$O$2))","v":1851.75},{"$f":" IF(RTD(\"cqg.rtd\",,\"StudyData\", $M$2, \"Bar\", \"\", \"High\", $L$2, $A19, $Q$2,$P$2,,$N$2,$O$2)=\"\",NA(),RTD(\"cqg.rtd\",,\"StudyData\", $M$2, \"Bar\", \"\", \"High\", $L$2, $A19, $Q$2,$P$2,,$N$2,$O$2))","v":1853.75},{"$f":" IF(RTD(\"cqg.rtd\",,\"StudyData\", $M$2, \"Bar\", \"\", \"Low\", $L$2, $A19, $Q$2,$P$2,,$N$2,$O$2)=\"\",NA(),RTD(\"cqg.rtd\",,\"StudyData\", $M$2, \"Bar\", \"\", \"Low\", $L$2, $A19, $Q$2,$P$2,,$N$2,$O$2))","v":1851.5},{"$f":" IF(RTD(\"cqg.rtd\",,\"StudyData\", $M$2, \"Bar\", \"\", \"Close\", $L$2, $A19, $Q$2,$P$2,,$N$2,$O$2)=\"\",NA(),RTD(\"cqg.rtd\",,\"StudyData\", $M$2, \"Bar\", \"\", \"Close\", $L$2, $A19, $Q$2,$P$2,,$N$2,$O$2))","v":1852.75},null,null,null,null,null,null,null,null,null,null,-25,{"$f":" RTD(\"cqg.rtd\",,\"StudyData\", $M$2,\"Tick\", \"FlatTicks=0\", \"Tick\",\"D\",R19,\"all\")","v":1849.75},null,{"$f":"RTD(\"cqg.rtd\",,\"StudyData\",$U$1&\"^.\"&$T$1&\"(\"&$M$2&\")\",\"Bar\",\"\",\"Close\",$L$2,A19,\"all\",\"\",\"\",\"True\")","v":-11375},null,null,null,"ProfitToMaxDraw"]
[-18,{"$f":" RTD(\"cqg.rtd\",,\"StudyData\", $M$2, \"Bar\", \"\", \"Time\", $L$2,$A20, $Q$2, \"\", \"\",\"False\")","v":"2016-02-12T11:20:00"},{"$f":" IF(RTD(\"cqg.rtd\",,\"StudyData\", $M$2, \"Bar\", \"\", \"Time\", $L$2, $A20,$Q$2,$P$2, \"\",\"False\")=\"\",NA(),RTD(\"cqg.rtd\",,\"StudyData\", $M$2, \"Bar\", \"\", \"Time\", $L$2, $A20,$Q$2,$P$2, \"\",\"False\"))","v":42412.472222222219},{"$f":" IF(RTD(\"cqg.rtd\",,\"StudyData\", $M$2, \"Bar\", \"\", \"Open\", $L$2, $A20, $Q$2,$P$2,,$N$2,$O$2)=\"\",NA(),RTD(\"cqg.rtd\",,\"StudyData\", $M$2, \"Bar\", \"\", \"Open\", $L$2, $A20, $Q$2,$P$2,,$N$2,$O$2))","v":1851},{"$f":" IF(RTD(\"cqg.rtd\",,\"StudyData\", $M$2, \"Bar\", \"\", \"High\", $L$2, $A20, $Q$2,$P$2,,$N$2,$O$2)=\"\",NA(),RTD(\"cqg.rtd\",,\"StudyData\", $M$2, \"Bar\", \"\", \"High\", $L$2, $A20, $Q$2,$P$2,,$N$2,$O$2))","v":1852.75},{"$f":" IF(RTD(\"cqg.rtd\",,\"StudyData\", $M$2, \"Bar\", \"\", \"Low\", $L$2, $A20, $Q$2,$P$2,,$N$2,$O$2)=\"\",NA(),RTD(\"cqg.rtd\",,\"StudyData\", $M$2, \"Bar\", \"\", \"Low\", $L$2, $A20, $Q$2,$P$2,,$N$2,$O$2))","v":1850.5},{"$f":" IF(RTD(\"cqg.rtd\",,\"StudyData\", $M$2, \"Bar\", \"\", \"Close\", $L$2, $A20, $Q$2,$P$2,,$N$2,$O$2)=\"\",NA(),RTD(\"cqg.rtd\",,\"StudyData\", $M$2, \"Bar\", \"\", \"Close\", $L$2, $A20, $Q$2,$P$2,,$N$2,$O$2))","v":1851.5},null,null,null,null,null,null,null,null,null,null,-24,{"$f":" RTD(\"cqg.rtd\",,\"StudyData\", $M$2,\"Tick\", \"FlatTicks=0\", \"Tick\",\"D\",R20,\"all\")","v":1850},null,{"$f":"RTD(\"cqg.rtd\",,\"StudyData\",$U$1&\"^.\"&$T$1&\"(\"&$M$2&\")\",\"Bar\",\"\",\"Close\",$L$2,A20,\"all\",\"\",\"\",\"True\")","v":-11812.5},null,null,null,"ProfitLossRatio"]
[-19,{"$f":" RTD(\"cqg.rtd\",,\"StudyData\", $M$2, \"Bar\", \"\", \"Time\", $L$2,$A21, $Q$2, \"\", \"\",\"False\")","v":"2016-02-12T11:15:00"},{"$f":" IF(RTD(\"cqg.rtd\",,\"StudyData\", $M$2, \"Bar\", \"\", \"Time\", $L$2, $A21,$Q$2,$P$2, \"\",\"False\")=\"\",NA(),RTD(\"cqg.rtd\",,\"StudyData\", $M$2, \"Bar\", \"\", \"Time\", $L$2, $A21,$Q$2,$P$2, \"\",\"False\"))","v":42412.46875},{"$f":" IF(RTD(\"cqg.rtd\",,\"StudyData\", $M$2, \"Bar\", \"\", \"Open\", $L$2, $A21, $Q$2,$P$2,,$N$2,$O$2)=\"\",NA(),RTD(\"cqg.rtd\",,\"StudyData\", $M$2, \"Bar\", \"\", \"Open\", $L$2, $A21, $Q$2,$P$2,,$N$2,$O$2))","v":1852.25},{"$f":" IF(RTD(\"cqg.rtd\",,\"StudyData\", $M$2, \"Bar\", \"\", \"High\", $L$2, $A21, $Q$2,$P$2,,$N$2,$O$2)=\"\",NA(),RTD(\"cqg.rtd\",,\"StudyData\", $M$2, \"Bar\", \"\", \"High\", $L$2, $A21, $Q$2,$P$2,,$N$2,$O$2))","v":1852.75},{"$f":" IF(RTD(\"cqg.rtd\",,\"StudyData\", $M$2, \"Bar\", \"\", \"Low\", $L$2, $A21, $Q$2,$P$2,,$N$2,$O$2)=\"\",NA(),RTD(\"cqg.rtd\",,\"StudyData\", $M$2, \"Bar\", \"\", \"Low\", $L$2, $A21, $Q$2,$P$2,,$N$2,$O$2))","v":1850.25},{"$f":" IF(RTD(\"cqg.rtd\",,\"StudyData\", $M$2, \"Bar\", \"\", \"Close\", $L$2, $A21, $Q$2,$P$2,,$N$2,$O$2)=\"\",NA(),RTD(\"cqg.rtd\",,\"StudyData\", $M$2, \"Bar\", \"\", \"Close\", $L$2, $A21, $Q$2,$P$2,,$N$2,$O$2))","v":1851},null,null,null,null,null,null,null,null,null,null,-23,{"$f":" RTD(\"cqg.rtd\",,\"StudyData\", $M$2,\"Tick\", \"FlatTicks=0\", \"Tick\",\"D\",R21,\"all\")","v":1849.75},null,{"$f":"RTD(\"cqg.rtd\",,\"StudyData\",$U$1&\"^.\"&$T$1&\"(\"&$M$2&\")\",\"Bar\",\"\",\"Close\",$L$2,A21,\"all\",\"\",\"\",\"True\")","v":-11987.5},null,null,null,"PercentWinners"]
[-20,{"$f":" RTD(\"cqg.rtd\",,\"StudyData\", $M$2, \"Bar\", \"\", \"Time\", $L$2,$A22, $Q$2, \"\", \"\",\"False\")","v":"2016-02-12T11:10:00"},{"$f":" IF(RTD(\"cqg.rtd\",,\"StudyData\", $M$2, \"Bar\", \"\", \"Time\", $L$2, $A22,$Q$2,$P$2, \"\",\"False\")=\"\",NA(),RTD(\"cqg.rtd\",,\"StudyData\", $M$2, \"Bar\", \"\", \"Time\", $L$2, $A22,$Q$2,$P$2, \"\",\"False\"))","v":42412.465277777781},{"$f":" IF(RTD(\"cqg.rtd\",,\"StudyData\", $M$2, \"Bar\", \"\", \"Open\", $L$2, $A22, $Q$2,$P$2,,$N$2,$O$2)=\"\",NA(),RTD(\"cqg.rtd\",,\"StudyData\", $M$2, \"Bar\", \"\", \"Open\", $L$2, $A22, $Q$2,$P$2,,$N$2,$O$2))","v":1850.25},{"$f":" IF(RTD(\"cqg.rtd\",,\"StudyData\", $M$2, \"Bar\", \"\", \"High\", $L$2, $A22, $Q$2,$P$2,,$N$2,$O$2)=\"\",NA(),RTD(\"cqg.rtd\",,\"StudyData\", $M$2, \"Bar\", \"\", \"High\", $L$2, $A22, $Q$2,$P$2,,$N$2,$O$2))","v":1852.5},{"$f":" IF(RTD(\"cqg.rtd\",,\"StudyData\", $M$2, \"Bar\", \"\", \"Low\", $L$2, $A22, $Q$2,$P$2,,$N$2,$O$2)=\"\",NA(),RTD(\"cqg.rtd\",,\"StudyData\", $M$2, \"Bar\", \"\", \"Low\", $L$2, $A22, $Q$2,$P$2,,$N$2,$O$2))","v":1849.75},{"$f":" IF(RTD(\"cqg.rtd\",,\"StudyData\", $M$2, \"Bar\", \"\", \"Close\", $L$2, $A22, $Q$2,$P$2,,$N$2,$O$2)=\"\",NA(),RTD(\"cqg.rtd\",,\"StudyData\", $M$2, \"Bar\", \"\", \"Close\", $L$2, $A22, $Q$2,$P$2,,$N$2,$O$2))","v":1852.25},null,null,null,null,null,null,null,null,null,null,-22,{"$f":" RTD(\"cqg.rtd\",,\"StudyData\", $M$2,\"Tick\", \"FlatTicks=0\", \"Tick\",\"D\",R22,\"all\")","v":1850},null,{"$f":"RTD(\"cqg.rtd\",,\"StudyData\",$U$1&\"^.\"&$T$1&\"(\"&$M$2&\")\",\"Bar\",\"\",\"Close\",$L$2,A22,\"all\",\"\",\"\",\"True\")","v":-11550},null,null,null,"RemoveToNeutral"]
[-21,{"$f":" RTD(\"cqg.rtd\",,\"StudyData\", $M$2, \"Bar\", \"\", \"Time\", $L$2,$A23, $Q$2, \"\", \"\",\"False\")","v":"2016-02-12T11:05:00"},{"$f":" IF(RTD(\"cqg.rtd\",,\"StudyData\", $M$2, \"Bar\", \"\", \"Time\", $L$2, $A23,$Q$2,$P$2, \"\",\"False\")=\"\",NA(),RTD(\"cqg.rtd\",,\"StudyData\", $M$2, \"Bar\", \"\", \"Time\", $L$2, $A23,$Q$2,$P$2, \"\",\"False\"))","v":42412.461805555555},{"$f":" IF(RTD(\"cqg.rtd\",,\"StudyData\", $M$2, \"Bar\", \"\", \"Open\", $L$2, $A23, $Q$2,$P$2,,$N$2,$O$2)=\"\",NA(),RTD(\"cqg.rtd\",,\"StudyData\", $M$2, \"Bar\", \"\", \"Open\", $L$2, $A23, $Q$2,$P$2,,$N$2,$O$2))","v":1850.25},{"$f":" IF(RTD(\"cqg.rtd\",,\"StudyData\", $M$2, \"Bar\", \"\", \"High\", $L$2, $A23, $Q$2,$P$2,,$N$2,$O$2)=\"\",NA(),RTD(\"cqg.rtd\",,\"StudyData\", $M$2, \"Bar\", \"\", \"High\", $L$2, $A23, $Q$2,$P$2,,$N$2,$O$2))","v":1851.75},{"$f":" IF(RTD(\"cqg.rtd\",,\"StudyData\", $M$2, \"Bar\", \"\", \"Low\", $L$2, $A23, $Q$2,$P$2,,$N$2,$O$2)=\"\",NA(),RTD(\"cqg.rtd\",,\"StudyData\", $M$2, \"Bar\", \"\", \"Low\", $L$2, $A23, $Q$2,$P$2,,$N$2,$O$2))","v":1850},{"$f":" IF(RTD(\"cqg.rtd\",,\"StudyData\", $M$2, \"Bar\", \"\", \"Close\", $L$2, $A23, $Q$2,$P$2,,$N$2,$O$2)=\"\",NA(),RTD(\"cqg.rtd\",,\"StudyData\", $M$2, \"Bar\", \"\", \"Close\", $L$2, $A23, $Q$2,$P$2,,$N$2,$O$2))","v":1850.25},null,null,null,null,null,null,null,null,null,null,-21,{"$f":" RTD(\"cqg.rtd\",,\"StudyData\", $M$2,\"Tick\", \"FlatTicks=0\", \"Tick\",\"D\",R23,\"all\")","v":1849.75},null,{"$f":"RTD(\"cqg.rtd\",,\"StudyData\",$U$1&\"^.\"&$T$1&\"(\"&$M$2&\")\",\"Bar\",\"\",\"Close\",$L$2,A23,\"all\",\"\",\"\",\"True\")","v":-12250},null,null,null,"TimePercentage"]
[-22,{"$f":" RTD(\"cqg.rtd\",,\"StudyData\", $M$2, \"Bar\", \"\", \"Time\", $L$2,$A24, $Q$2, \"\", \"\",\"False\")","v":"2016-02-12T11:00:00"},{"$f":" IF(RTD(\"cqg.rtd\",,\"StudyData\", $M$2, \"Bar\", \"\", \"Time\", $L$2, $A24,$Q$2,$P$2, \"\",\"False\")=\"\",NA(),RTD(\"cqg.rtd\",,\"StudyData\", $M$2, \"Bar\", \"\", \"Time\", $L$2, $A24,$Q$2,$P$2, \"\",\"False\"))","v":42412.458333333336},{"$f":" IF(RTD(\"cqg.rtd\",,\"StudyData\", $M$2, \"Bar\", \"\", \"Open\", $L$2, $A24, $Q$2,$P$2,,$N$2,$O$2)=\"\",NA(),RTD(\"cqg.rtd\",,\"StudyData\", $M$2, \"Bar\", \"\", \"Open\", $L$2, $A24, $Q$2,$P$2,,$N$2,$O$2))","v":1850},{"$f":" IF(RTD(\"cqg.rtd\",,\"StudyData\", $M$2, \"Bar\", \"\", \"High\", $L$2, $A24, $Q$2,$P$2,,$N$2,$O$2)=\"\",NA(),RTD(\"cqg.rtd\",,\"StudyData\", $M$2, \"Bar\", \"\", \"High\", $L$2, $A24, $Q$2,$P$2,,$N$2,$O$2))","v":1851.5},{"$f":" IF(RTD(\"cqg.rtd\",,\"StudyData\", $M$2, \"Bar\", \"\", \"Low\", $L$2, $A24, $Q$2,$P$2,,$N$2,$O$2)=\"\",NA(),RTD(\"cqg.rtd\",,\"StudyData\", $M$2, \"Bar\", \"\", \"Low\", $L$2, $A24, $Q$2,$P$2,,$N$2,$O$2))","v":1849.25},{"$f":" IF(RTD(\"cqg.rtd\",,\"StudyData\", $M$2, \"Bar\", \"\", \"Close\", $L$2, $A24, $Q$2,$P$2,,$N$2,$O$2)=\"\",NA(),RTD(\"cqg.rtd\",,\"StudyData\", $M$2, \"Bar\", \"\", \"Close\", $L$2, $A24, $Q$2,$P$2,,$N$2,$O$2))","v":1850},null,null,null,null,null,null,null,null,null,null,-20,{"$f":" RTD(\"cqg.rtd\",,\"StudyData\", $M$2,\"Tick\", \"FlatTicks=0\", \"Tick\",\"D\",R24,\"all\")","v":1850},null,{"$f":"RTD(\"cqg.rtd\",,\"StudyData\",$U$1&\"^.\"&$T$1&\"(\"&$M$2&\")\",\"Bar\",\"\",\"Close\",$L$2,A24,\"all\",\"\",\"\",\"True\")","v":-12337.5},null,null,null,"CurDrawdown"]
[-23,{"$f":" RTD(\"cqg.rtd\",,\"StudyData\", $M$2, \"Bar\", \"\", \"Time\", $L$2,$A25, $Q$2, \"\", \"\",\"False\")","v":"2016-02-12T10:55:00"},{"$f":" IF(RTD(\"cqg.rtd\",,\"StudyData\", $M$2, \"Bar\", \"\", \"Time\", $L$2, $A25,$Q$2,$P$2, \"\",\"False\")=\"\",NA(),RTD(\"cqg.rtd\",,\"StudyData\", $M$2, \"Bar\", \"\", \"Time\", $L$2, $A25,$Q$2,$P$2, \"\",\"False\"))","v":42412.454861111109},{"$f":" IF(RTD(\"cqg.rtd\",,\"StudyData\", $M$2, \"Bar\", \"\", \"Open\", $L$2, $A25, $Q$2,$P$2,,$N$2,$O$2)=\"\",NA(),RTD(\"cqg.rtd\",,\"StudyData\", $M$2, \"Bar\", \"\", \"Open\", $L$2, $A25, $Q$2,$P$2,,$N$2,$O$2))","v":1850},{"$f":" IF(RTD(\"cqg.rtd\",,\"StudyData\", $M$2, \"Bar\", \"\", \"High\", $L$2, $A25, $Q$2,$P$2,,$N$2,$O$2)=\"\",NA(),RTD(\"cqg.rtd\",,\"StudyData\", $M$2, \"Bar\", \"\", \"High\", $L$2, $A25, $Q$2,$P$2,,$N$2,$O$2))","v":1850.75},{"$f":" IF(RTD(\"cqg.rtd\",,\"StudyData\", $M$2, \"Bar\", \"\", \"Low\", $L$2, $A25, $Q$2,$P$2,,$N$2,$O$2)=\"\",NA(),RTD(\"cqg.rtd\",,\"StudyData\", $M$2, \"Bar\", \"\", \"Low\", $L$2, $A25, $Q$2,$P$2,,$N$2,$O$2))","v":1849.25},{"$f":" IF(RTD(\"cqg.rtd\",,\"StudyData\", $M$2, \"Bar\", \"\", \"Close\", $L$2, $A25, $Q$2,$P$2,,$N$2,$O$2)=\"\",NA(),RTD(\"cqg.rtd\",,\"StudyData\", $M$2, \"Bar\", \"\", \"Close\", $L$2, $A25, $Q$2,$P$2,,$N$2,$O$2))","v":1850.25},null,null,null,null,null,null,null,null,null,null,-19,{"$f":" RTD(\"cqg.rtd\",,\"StudyData\", $M$2,\"Tick\", \"FlatTicks=0\", \"Tick\",\"D\",R25,\"all\")","v":1849.75},null,{"$f":"RTD(\"cqg.rtd\",,\"StudyData\",$U$1&\"^.\"&$T$1&\"(\"&$M$2&\")\",\"Bar\",\"\",\"Close\",$L$2,A25,\"all\",\"\",\"\",\"True\")","v":-12250}]
[-24,{"$f":" RTD(\"cqg.rtd\",,\"StudyData\", $M$2, \"Bar\", \"\", \"Time\", $L$2,$A26, $Q$2, \"\", \"\",\"False\")","v":"2016-02-12T10:50:00"},{"$f":" IF(RTD(\"cqg.rtd\",,\"StudyData\", $M$2, \"Bar\", \"\", \"Time\", $L$2, $A26,$Q$2,$P$2, \"\",\"False\")=\"\",NA(),RTD(\"cqg.rtd\",,\"StudyData\", $M$2, \"Bar\", \"\", \"Time\", $L$2, $A26,$Q$2,$P$2, \"\",\"False\"))","v":42412.451388888891},{"$f":" IF(RTD(\"cqg.rtd\",,\"StudyData\", $M$2, \"Bar\", \"\", \"Open\", $L$2, $A26, $Q$2,$P$2,,$N$2,$O$2)=\"\",NA(),RTD(\"cqg.rtd\",,\"StudyData\", $M$2, \"Bar\", \"\", \"Open\", $L$2, $A26, $Q$2,$P$2,,$N$2,$O$2))","v":1853.25},{"$f":" IF(RTD(\"cqg.rtd\",,\"StudyData\", $M$2, \"Bar\", \"\", \"High\", $L$2, $A26, $Q$2,$P$2,,$N$2,$O$2)=\"\",NA(),RTD(\"cqg.rtd\",,\"StudyData\", $M$2, \"Bar\", \"\", \"High\", $L$2, $A26, $Q$2,$P$2,,$N$2,$O$2))","v":1854},{"$f":" IF(RTD(\"cqg.rtd\",,\"StudyData\", $M$2, \"Bar\", \"\", \"Low\", $L$2, $A26, $Q$2,$P$2,,$N$2,$O$2)=\"\",NA(),RTD(\"cqg.rtd\",,\"StudyData\", $M$2, \"Bar\", \"\", \"Low\", $L$2, $A26, $Q$2,$P$2,,$N$2,$O$2))","v":1849.75},{"$f":" IF(RTD(\"cqg.rtd\",,\"StudyData\", $M$2, \"Bar\", \"\", \"Close\", $L$2, $A26, $Q$2,$P$2,,$N$2,$O$2)=\"\",NA(),RTD(\"cqg.rtd\",,\"StudyData\", $M$2, \"Bar\", \"\", \"Close\", $L$2, $A26, $Q$2,$P$2,,$N$2,$O$2))","v":1849.75},null,null,null,null,null,null,null,null,null,null,-18,{"$f":" RTD(\"cqg.rtd\",,\"StudyData\", $M$2,\"Tick\", \"FlatTicks=0\", \"Tick\",\"D\",R26,\"all\")","v":1849.5},null,{"$f":"RTD(\"cqg.rtd\",,\"StudyData\",$U$1&\"^.\"&$T$1&\"(\"&$M$2&\")\",\"Bar\",\"\",\"Close\",$L$2,A26,\"all\",\"\",\"\",\"True\")","v":-12425}]
[-25,{"$f":" RTD(\"cqg.rtd\",,\"StudyData\", $M$2, \"Bar\", \"\", \"Time\", $L$2,$A27, $Q$2, \"\", \"\",\"False\")","v":"2016-02-12T10:45:00"},{"$f":" IF(RTD(\"cqg.rtd\",,\"StudyData\", $M$2, \"Bar\", \"\", \"Time\", $L$2, $A27,$Q$2,$P$2, \"\",\"False\")=\"\",NA(),RTD(\"cqg.rtd\",,\"StudyData\", $M$2, \"Bar\", \"\", \"Time\", $L$2, $A27,$Q$2,$P$2, \"\",\"False\"))","v":42412.447916666664},{"$f":" IF(RTD(\"cqg.rtd\",,\"StudyData\", $M$2, \"Bar\", \"\", \"Open\", $L$2, $A27, $Q$2,$P$2,,$N$2,$O$2)=\"\",NA(),RTD(\"cqg.rtd\",,\"StudyData\", $M$2, \"Bar\", \"\", \"Open\", $L$2, $A27, $Q$2,$P$2,,$N$2,$O$2))","v":1851.5},{"$f":" IF(RTD(\"cqg.rtd\",,\"StudyData\", $M$2, \"Bar\", \"\", \"High\", $L$2, $A27, $Q$2,$P$2,,$N$2,$O$2)=\"\",NA(),RTD(\"cqg.rtd\",,\"StudyData\", $M$2, \"Bar\", \"\", \"High\", $L$2, $A27, $Q$2,$P$2,,$N$2,$O$2))","v":1854},{"$f":" IF(RTD(\"cqg.rtd\",,\"StudyData\", $M$2, \"Bar\", \"\", \"Low\", $L$2, $A27, $Q$2,$P$2,,$N$2,$O$2)=\"\",NA(),RTD(\"cqg.rtd\",,\"StudyData\", $M$2, \"Bar\", \"\", \"Low\", $L$2, $A27, $Q$2,$P$2,,$N$2,$O$2))","v":1851.25},{"$f":" IF(RTD(\"cqg.rtd\",,\"StudyData\", $M$2, \"Bar\", \"\", \"Close\", $L$2, $A27, $Q$2,$P$2,,$N$2,$O$2)=\"\",NA(),RTD(\"cqg.rtd\",,\"StudyData\", $M$2, \"Bar\", \"\", \"Close\", $L$2, $A27, $Q$2,$P$2,,$N$2,$O$2))","v":1853},null,null,null,null,null,null,null,null,null,null,-17,{"$f":" RTD(\"cqg.rtd\",,\"StudyData\", $M$2,\"Tick\", \"FlatTicks=0\", \"Tick\",\"D\",R27,\"all\")","v":1849.75},null,{"$f":"RTD(\"cqg.rtd\",,\"StudyData\",$U$1&\"^.\"&$T$1&\"(\"&$M$2&\")\",\"Bar\",\"\",\"Close\",$L$2,A27,\"all\",\"\",\"\",\"True\")","v":-11287.5}]
[-26,{"$f":" RTD(\"cqg.rtd\",,\"StudyData\", $M$2, \"Bar\", \"\", \"Time\", $L$2,$A28, $Q$2, \"\", \"\",\"False\")","v":"2016-02-12T10:40:00"},{"$f":" IF(RTD(\"cqg.rtd\",,\"StudyData\", $M$2, \"Bar\", \"\", \"Time\", $L$2, $A28,$Q$2,$P$2, \"\",\"False\")=\"\",NA(),RTD(\"cqg.rtd\",,\"StudyData\", $M$2, \"Bar\", \"\", \"Time\", $L$2, $A28,$Q$2,$P$2, \"\",\"False\"))","v":42412.444444444445},{"$f":" IF(RTD(\"cqg.rtd\",,\"StudyData\", $M$2, \"Bar\", \"\", \"Open\", $L$2, $A28, $Q$2,$P$2,,$N$2,$O$2)=\"\",NA(),RTD(\"cqg.rtd\",,\"StudyData\", $M$2, \"Bar\", \"\", \"Open\", $L$2, $A28, $Q$2,$P$2,,$N$2,$O$2))","v":1852.5},{"$f":" IF(RTD(\"cqg.rtd\",,\"StudyData\", $M$2, \"Bar\", \"\", \"High\", $L$2, $A28, $Q$2,$P$2,,$N$2,$O$2)=\"\",NA(),RTD(\"cqg.rtd\",,\"StudyData\", $M$2, \"Bar\", \"\", \"High\", $L$2, $A28, $Q$2,$P$2,,$N$2,$O$2))","v":1853.5},{"$f":" IF(RTD(\"cqg.rtd\",,\"StudyData\", $M$2, \"Bar\", \"\", \"Low\", $L$2, $A28, $Q$2,$P$2,,$N$2,$O$2)=\"\",NA(),RTD(\"cqg.rtd\",,\"StudyData\", $M$2, \"Bar\", \"\", \"Low\", $L$2, $A28, $Q$2,$P$2,,$N$2,$O$2))","v":1851},{"$f":" IF(RTD(\"cqg.rtd\",,\"StudyData\", $M$2, \"Bar\", \"\", \"Close\", $L$2, $A28, $Q$2,$P$2,,$N$2,$O$2)=\"\",NA(),RTD(\"cqg.rtd\",,\"StudyData\", $M$2, \"Bar\", \"\", \"Close\", $L$2, $A28, $Q$2,$P$2,,$N$2,$O$2))","v":1851.5},null,null,null,null,null,null,null,null,null,null,-16,{"$f":" RTD(\"cqg.rtd\",,\"StudyData\", $M$2,\"Tick\", \"FlatTicks=0\", \"Tick\",\"D\",R28,\"all\")","v":1850},null,{"$f":"RTD(\"cqg.rtd\",,\"StudyData\",$U$1&\"^.\"&$T$1&\"(\"&$M$2&\")\",\"Bar\",\"\",\"Close\",$L$2,A28,\"all\",\"\",\"\",\"True\")","v":-11812.5}]
[-27,{"$f":" RTD(\"cqg.rtd\",,\"StudyData\", $M$2, \"Bar\", \"\", \"Time\", $L$2,$A29, $Q$2, \"\", \"\",\"False\")","v":"2016-02-12T10:35:00"},{"$f":" IF(RTD(\"cqg.rtd\",,\"StudyData\", $M$2, \"Bar\", \"\", \"Time\", $L$2, $A29,$Q$2,$P$2, \"\",\"False\")=\"\",NA(),RTD(\"cqg.rtd\",,\"StudyData\", $M$2, \"Bar\", \"\", \"Time\", $L$2, $A29,$Q$2,$P$2, \"\",\"False\"))","v":42412.440972222219},{"$f":" IF(RTD(\"cqg.rtd\",,\"StudyData\", $M$2, \"Bar\", \"\", \"Open\", $L$2, $A29, $Q$2,$P$2,,$N$2,$O$2)=\"\",NA(),RTD(\"cqg.rtd\",,\"StudyData\", $M$2, \"Bar\", \"\", \"Open\", $L$2, $A29, $Q$2,$P$2,,$N$2,$O$2))","v":1854.75},{"$f":" IF(RTD(\"cqg.rtd\",,\"StudyData\", $M$2, \"Bar\", \"\", \"High\", $L$2, $A29, $Q$2,$P$2,,$N$2,$O$2)=\"\",NA(),RTD(\"cqg.rtd\",,\"StudyData\", $M$2, \"Bar\", \"\", \"High\", $L$2, $A29, $Q$2,$P$2,,$N$2,$O$2))","v":1855},{"$f":" IF(RTD(\"cqg.rtd\",,\"StudyData\", $M$2, \"Bar\", \"\", \"Low\", $L$2, $A29, $Q$2,$P$2,,$N$2,$O$2)=\"\",NA(),RTD(\"cqg.rtd\",,\"StudyData\", $M$2, \"Bar\", \"\", \"Low\", $L$2, $A29, $Q$2,$P$2,,$N$2,$O$2))","v":1852},{"$f":" IF(RTD(\"cqg.rtd\",,\"StudyData\", $M$2, \"Bar\", \"\", \"Close\", $L$2, $A29, $Q$2,$P$2,,$N$2,$O$2)=\"\",NA(),RTD(\"cqg.rtd\",,\"StudyData\", $M$2, \"Bar\", \"\", \"Close\", $L$2, $A29, $Q$2,$P$2,,$N$2,$O$2))","v":1852.5},null,null,null,null,null,null,null,null,null,null,-15,{"$f":" RTD(\"cqg.rtd\",,\"StudyData\", $M$2,\"Tick\", \"FlatTicks=0\", \"Tick\",\"D\",R29,\"all\")","v":1850.25},null,{"$f":"RTD(\"cqg.rtd\",,\"StudyData\",$U$1&\"^.\"&$T$1&\"(\"&$M$2&\")\",\"Bar\",\"\",\"Close\",$L$2,A29,\"all\",\"\",\"\",\"True\")","v":-11462.5}]
[-28,{"$f":" RTD(\"cqg.rtd\",,\"StudyData\", $M$2, \"Bar\", \"\", \"Time\", $L$2,$A30, $Q$2, \"\", \"\",\"False\")","v":"2016-02-12T10:30:00"},{"$f":" IF(RTD(\"cqg.rtd\",,\"StudyData\", $M$2, \"Bar\", \"\", \"Time\", $L$2, $A30,$Q$2,$P$2, \"\",\"False\")=\"\",NA(),RTD(\"cqg.rtd\",,\"StudyData\", $M$2, \"Bar\", \"\", \"Time\", $L$2, $A30,$Q$2,$P$2, \"\",\"False\"))","v":42412.4375},{"$f":" IF(RTD(\"cqg.rtd\",,\"StudyData\", $M$2, \"Bar\", \"\", \"Open\", $L$2, $A30, $Q$2,$P$2,,$N$2,$O$2)=\"\",NA(),RTD(\"cqg.rtd\",,\"StudyData\", $M$2, \"Bar\", \"\", \"Open\", $L$2, $A30, $Q$2,$P$2,,$N$2,$O$2))","v":1853},{"$f":" IF(RTD(\"cqg.rtd\",,\"StudyData\", $M$2, \"Bar\", \"\", \"High\", $L$2, $A30, $Q$2,$P$2,,$N$2,$O$2)=\"\",NA(),RTD(\"cqg.rtd\",,\"StudyData\", $M$2, \"Bar\", \"\", \"High\", $L$2, $A30, $Q$2,$P$2,,$N$2,$O$2))","v":1855.25},{"$f":" IF(RTD(\"cqg.rtd\",,\"StudyData\", $M$2, \"Bar\", \"\", \"Low\", $L$2, $A30, $Q$2,$P$2,,$N$2,$O$2)=\"\",NA(),RTD(\"cqg.rtd\",,\"StudyData\", $M$2, \"Bar\", \"\", \"Low\", $L$2, $A30, $Q$2,$P$2,,$N$2,$O$2))","v":1852.75},{"$f":" IF(RTD(\"cqg.rtd\",,\"StudyData\", $M$2, \"Bar\", \"\", \"Close\", $L$2, $A30, $Q$2,$P$2,,$N$2,$O$2)=\"\",NA(),RTD(\"cqg.rtd\",,\"StudyData\", $M$2, \"Bar\", \"\", \"Close\", $L$2, $A30, $Q$2,$P$2,,$N$2,$O$2))","v":1854.75},null,null,null,null,null,null,null,null,null,null,-14,{"$f":" RTD(\"cqg.rtd\",,\"StudyData\", $M$2,\"Tick\", \"FlatTicks=0\", \"Tick\",\"D\",R30,\"all\")","v":1850},null,{"$f":"RTD(\"cqg.rtd\",,\"StudyData\",$U$1&\"^.\"&$T$1&\"(\"&$M$2&\")\",\"Bar\",\"\",\"Close\",$L$2,A30,\"all\",\"\",\"\",\"True\")","v":-10675}]
[-29,{"$f":" RTD(\"cqg.rtd\",,\"StudyData\", $M$2, \"Bar\", \"\", \"Time\", $L$2,$A31, $Q$2, \"\", \"\",\"False\")","v":"2016-02-12T10:25:00"},{"$f":" IF(RTD(\"cqg.rtd\",,\"StudyData\", $M$2, \"Bar\", \"\", \"Time\", $L$2, $A31,$Q$2,$P$2, \"\",\"False\")=\"\",NA(),RTD(\"cqg.rtd\",,\"StudyData\", $M$2, \"Bar\", \"\", \"Time\", $L$2, $A31,$Q$2,$P$2, \"\",\"False\"))","v":42412.434027777781},{"$f":" IF(RTD(\"cqg.rtd\",,\"StudyData\", $M$2, \"Bar\", \"\", \"Open\", $L$2, $A31, $Q$2,$P$2,,$N$2,$O$2)=\"\",NA(),RTD(\"cqg.rtd\",,\"StudyData\", $M$2, \"Bar\", \"\", \"Open\", $L$2, $A31, $Q$2,$P$2,,$N$2,$O$2))","v":1851.75},{"$f":" IF(RTD(\"cqg.rtd\",,\"StudyData\", $M$2, \"Bar\", \"\", \"High\", $L$2, $A31, $Q$2,$P$2,,$N$2,$O$2)=\"\",NA(),RTD(\"cqg.rtd\",,\"StudyData\", $M$2, \"Bar\", \"\", \"High\", $L$2, $A31, $Q$2,$P$2,,$N$2,$O$2))","v":1853.5},{"$f":" IF(RTD(\"cqg.rtd\",,\"StudyData\", $M$2, \"Bar\", \"\", \"Low\", $L$2, $A31, $Q$2,$P$2,,$N$2,$O$2)=\"\",NA(),RTD(\"cqg.rtd\",,\"StudyData\", $M$2, \"Bar\", \"\", \"Low\", $L$2, $A31, $Q$2,$P$2,,$N$2,$O$2))","v":1850.75},{"$f":" IF(RTD(\"cqg.rtd\",,\"StudyData\", $M$2, \"Bar\", \"\", \"Close\", $L$2, $A31, $Q$2,$P$2,,$N$2,$O$2)=\"\",NA(),RTD(\"cqg.rtd\",,\"StudyData\", $M$2, \"Bar\", \"\", \"Close\", $L$2, $A31, $Q$2,$P$2,,$N$2,$O$2))","v":1853},null,null,null,null,null,null,null,null,null,null,-13,{"$f":" RTD(\"cqg.rtd\",,\"StudyData\", $M$2,\"Tick\", \"FlatTicks=0\", \"Tick\",\"D\",R31,\"all\")","v":1849.75},null,{"$f":"RTD(\"cqg.rtd\",,\"StudyData\",$U$1&\"^.\"&$T$1&\"(\"&$M$2&\")\",\"Bar\",\"\",\"Close\",$L$2,A31,\"all\",\"\",\"\",\"True\")","v":-11287.5}]
[-30,{"$f":" RTD(\"cqg.rtd\",,\"StudyData\", $M$2, \"Bar\", \"\", \"Time\", $L$2,$A32, $Q$2, \"\", \"\",\"False\")","v":"2016-02-12T10:20:00"},{"$f":" IF(RTD(\"cqg.rtd\",,\"StudyData\", $M$2, \"Bar\", \"\", \"Time\", $L$2, $A32,$Q$2,$P$2, \"\",\"False\")=\"\",NA(),RTD(\"cqg.rtd\",,\"StudyData\", $M$2, \"Bar\", \"\", \"Time\", $L$2, $A32,$Q$2,$P$2, \"\",\"False\"))","v":42412.430555555555},{"$f":" IF(RTD(\"cqg.rtd\",,\"StudyData\", $M$2, \"Bar\", \"\", \"Open\", $L$2, $A32, $Q$2,$P$2,,$N$2,$O$2)=\"\",NA(),RTD(\"cqg.rtd\",,\"StudyData\", $M$2, \"Bar\", \"\", \"Open\", $L$2, $A32, $Q$2,$P$2,,$N$2,$O$2))","v":1850.25},{"$f":" IF(RTD(\"cqg.rtd\",,\"StudyData\", $M$2, \"Bar\", \"\", \"High\", $L$2, $A32, $Q$2,$P$2,,$N$2,$O$2)=\"\",NA(),RTD(\"cqg.rtd\",,\"StudyData\", $M$2, \"Bar\", \"\", \"High\", $L$2, $A32, $Q$2,$P$2,,$N$2,$O$2))","v":1851.75},{"$f":" IF(RTD(\"cqg.rtd\",,\"StudyData\", $M$2, \"Bar\", \"\", \"Low\", $L$2, $A32, $Q$2,$P$2,,$N$2,$O$2)=\"\",NA(),RTD(\"cqg.rtd\",,\"StudyData\", $M$2, \"Bar\", \"\", \"Low\", $L$2, $A32, $Q$2,$P$2,,$N$2,$O$2))","v":1849.5},{"$f":" IF(RTD(\"cqg.rtd\",,\"StudyData\", $M$2, \"Bar\", \"\", \"Close\", $L$2, $A32, $Q$2,$P$2,,$N$2,$O$2)=\"\",NA(),RTD(\"cqg.rtd\",,\"StudyData\", $M$2, \"Bar\", \"\", \"Close\", $L$2, $A32, $Q$2,$P$2,,$N$2,$O$2))","v":1851.75},null,null,null,null,null,null,null,null,null,null,-12,{"$f":" RTD(\"cqg.rtd\",,\"StudyData\", $M$2,\"Tick\", \"FlatTicks=0\", \"Tick\",\"D\",R32,\"all\")","v":1850},null,{"$f":"RTD(\"cqg.rtd\",,\"StudyData\",$U$1&\"^.\"&$T$1&\"(\"&$M$2&\")\",\"Bar\",\"\",\"Close\",$L$2,A32,\"all\",\"\",\"\",\"True\")","v":-11725}]
[-31,{"$f":" RTD(\"cqg.rtd\",,\"StudyData\", $M$2, \"Bar\", \"\", \"Time\", $L$2,$A33, $Q$2, \"\", \"\",\"False\")","v":"2016-02-12T10:15:00"},{"$f":" IF(RTD(\"cqg.rtd\",,\"StudyData\", $M$2, \"Bar\", \"\", \"Time\", $L$2, $A33,$Q$2,$P$2, \"\",\"False\")=\"\",NA(),RTD(\"cqg.rtd\",,\"StudyData\", $M$2, \"Bar\", \"\", \"Time\", $L$2, $A33,$Q$2,$P$2, \"\",\"False\"))","v":42412.427083333336},{"$f":" IF(RTD(\"cqg.rtd\",,\"StudyData\", $M$2, \"Bar\", \"\", \"Open\", $L$2, $A33, $Q$2,$P$2,,$N$2,$O$2)=\"\",NA(),RTD(\"cqg.rtd\",,\"StudyData\", $M$2, \"Bar\", \"\", \"Open\", $L$2, $A33, $Q$2,$P$2,,$N$2,$O$2))","v":1850},{"$f":" IF(RTD(\"cqg.rtd\",,\"StudyData\", $M$2, \"Bar\", \"\", \"High\", $L$2, $A33, $Q$2,$P$2,,$N$2,$O$2)=\"\",NA(),RTD(\"cqg.rtd\",,\"StudyData\", $M$2, \"Bar\", \"\", \"High\", $L$2, $A33, $Q$2,$P$2,,$N$2,$O$2))","v":1852.25},{"$f":" IF(RTD(\"cqg.rtd\",,\"StudyData\", $M$2, \"Bar\", \"\", \"Low\", $L$2, $A33, $Q$2,$P$2,,$N$2,$O$2)=\"\",NA(),RTD(\"cqg.rtd\",,\"StudyData\", $M$2, \"Bar\", \"\", \"Low\", $L$2, $A33, $Q$2,$P$2,,$N$2,$O$2))","v":1849.75},{"$f":" IF(RTD(\"cqg.rtd\",,\"StudyData\", $M$2, \"Bar\", \"\", \"Close\", $L$2, $A33, $Q$2,$P$2,,$N$2,$O$2)=\"\",NA(),RTD(\"cqg.rtd\",,\"StudyData\", $M$2, \"Bar\", \"\", \"Close\", $L$2, $A33, $Q$2,$P$2,,$N$2,$O$2))","v":1850.25},null,null,null,null,null,null,null,null,null,null,-11,{"$f":" RTD(\"cqg.rtd\",,\"StudyData\", $M$2,\"Tick\", \"FlatTicks=0\", \"Tick\",\"D\",R33,\"all\")","v":1850.25},null,{"$f":"RTD(\"cqg.rtd\",,\"StudyData\",$U$1&\"^.\"&$T$1&\"(\"&$M$2&\")\",\"Bar\",\"\",\"Close\",$L$2,A33,\"all\",\"\",\"\",\"True\")","v":-12250}]
[-32,{"$f":" RTD(\"cqg.rtd\",,\"StudyData\", $M$2, \"Bar\", \"\", \"Time\", $L$2,$A34, $Q$2, \"\", \"\",\"False\")","v":"2016-02-12T10:10:00"},{"$f":" IF(RTD(\"cqg.rtd\",,\"StudyData\", $M$2, \"Bar\", \"\", \"Time\", $L$2, $A34,$Q$2,$P$2, \"\",\"False\")=\"\",NA(),RTD(\"cqg.rtd\",,\"StudyData\", $M$2, \"Bar\", \"\", \"Time\", $L$2, $A34,$Q$2,$P$2, \"\",\"False\"))","v":42412.423611111109},{"$f":" IF(RTD(\"cqg.rtd\",,\"StudyData\", $M$2, \"Bar\", \"\", \"Open\", $L$2, $A34, $Q$2,$P$2,,$N$2,$O$2)=\"\",NA(),RTD(\"cqg.rtd\",,\"StudyData\", $M$2, \"Bar\", \"\", \"Open\", $L$2, $A34, $Q$2,$P$2,,$N$2,$O$2))","v":1845.25},{"$f":" IF(RTD(\"cqg.rtd\",,\"StudyData\", $M$2, \"Bar\", \"\", \"High\", $L$2, $A34, $Q$2,$P$2,,$N$2,$O$2)=\"\",NA(),RTD(\"cqg.rtd\",,\"StudyData\", $M$2, \"Bar\", \"\", \"High\", $L$2, $A34, $Q$2,$P$2,,$N$2,$O$2))","v":1850.25},{"$f":" IF(RTD(\"cqg.rtd\",,\"StudyData\", $M$2, \"Bar\", \"\", \"Low\", $L$2, $A34, $Q$2,$P$2,,$N$2,$O$2)=\"\",NA(),RTD(\"cqg.rtd\",,\"StudyData\", $M$2, \"Bar\", \"\", \"Low\", $L$2, $A34, $Q$2,$P$2,,$N$2,$O$2))","v":1844.5},{"$f":" IF(RTD(\"cqg.rtd\",,\"StudyData\", $M$2, \"Bar\", \"\", \"Close\", $L$2, $A34, $Q$2,$P$2,,$N$2,$O$2)=\"\",NA(),RTD(\"cqg.rtd\",,\"StudyData\", $M$2, \"Bar\", \"\", \"Close\", $L$2, $A34, $Q$2,$P$2,,$N$2,$O$2))","v":1850.25},null,null,null,null,null,null,null,null,null,null,-10,{"$f":" RTD(\"cqg.rtd\",,\"StudyData\", $M$2,\"Tick\", \"FlatTicks=0\", \"Tick\",\"D\",R34,\"all\")","v":1850},null,{"$f":"RTD(\"cqg.rtd\",,\"StudyData\",$U$1&\"^.\"&$T$1&\"(\"&$M$2&\")\",\"Bar\",\"\",\"Close\",$L$2,A34,\"all\",\"\",\"\",\"True\")","v":-12250}]
[-33,{"$f":" RTD(\"cqg.rtd\",,\"StudyData\", $M$2, \"Bar\", \"\", \"Time\", $L$2,$A35, $Q$2, \"\", \"\",\"False\")","v":"2016-02-12T10:05:00"},{"$f":" IF(RTD(\"cqg.rtd\",,\"StudyData\", $M$2, \"Bar\", \"\", \"Time\", $L$2, $A35,$Q$2,$P$2, \"\",\"False\")=\"\",NA(),RTD(\"cqg.rtd\",,\"StudyData\", $M$2, \"Bar\", \"\", \"Time\", $L$2, $A35,$Q$2,$P$2, \"\",\"False\"))","v":42412.420138888891},{"$f":" IF(RTD(\"cqg.rtd\",,\"StudyData\", $M$2, \"Bar\", \"\", \"Open\", $L$2, $A35, $Q$2,$P$2,,$N$2,$O$2)=\"\",NA(),RTD(\"cqg.rtd\",,\"StudyData\", $M$2, \"Bar\", \"\", \"Open\", $L$2, $A35, $Q$2,$P$2,,$N$2,$O$2))","v":1842},{"$f":" IF(RTD(\"cqg.rtd\",,\"StudyData\", $M$2, \"Bar\", \"\", \"High\", $L$2, $A35, $Q$2,$P$2,,$N$2,$O$2)=\"\",NA(),RTD(\"cqg.rtd\",,\"StudyData\", $M$2, \"Bar\", \"\", \"High\", $L$2, $A35, $Q$2,$P$2,,$N$2,$O$2))","v":1845.5},{"$f":" IF(RTD(\"cqg.rtd\",,\"StudyData\", $M$2, \"Bar\", \"\", \"Low\", $L$2, $A35, $Q$2,$P$2,,$N$2,$O$2)=\"\",NA(),RTD(\"cqg.rtd\",,\"StudyData\", $M$2, \"Bar\", \"\", \"Low\", $L$2, $A35, $Q$2,$P$2,,$N$2,$O$2))","v":1841.25},{"$f":" IF(RTD(\"cqg.rtd\",,\"StudyData\", $M$2, \"Bar\", \"\", \"Close\", $L$2, $A35, $Q$2,$P$2,,$N$2,$O$2)=\"\",NA(),RTD(\"cqg.rtd\",,\"StudyData\", $M$2, \"Bar\", \"\", \"Close\", $L$2, $A35, $Q$2,$P$2,,$N$2,$O$2))","v":1845.25},null,null,null,null,null,null,null,null,null,null,-9,{"$f":" RTD(\"cqg.rtd\",,\"StudyData\", $M$2,\"Tick\", \"FlatTicks=0\", \"Tick\",\"D\",R35,\"all\")","v":1849.75},null,{"$f":"RTD(\"cqg.rtd\",,\"StudyData\",$U$1&\"^.\"&$T$1&\"(\"&$M$2&\")\",\"Bar\",\"\",\"Close\",$L$2,A35,\"all\",\"\",\"\",\"True\")","v":-14000}]
[-34,{"$f":" RTD(\"cqg.rtd\",,\"StudyData\", $M$2, \"Bar\", \"\", \"Time\", $L$2,$A36, $Q$2, \"\", \"\",\"False\")","v":"2016-02-12T10:00:00"},{"$f":" IF(RTD(\"cqg.rtd\",,\"StudyData\", $M$2, \"Bar\", \"\", \"Time\", $L$2, $A36,$Q$2,$P$2, \"\",\"False\")=\"\",NA(),RTD(\"cqg.rtd\",,\"StudyData\", $M$2, \"Bar\", \"\", \"Time\", $L$2, $A36,$Q$2,$P$2, \"\",\"False\"))","v":42412.416666666664},{"$f":" IF(RTD(\"cqg.rtd\",,\"StudyData\", $M$2, \"Bar\", \"\", \"Open\", $L$2, $A36, $Q$2,$P$2,,$N$2,$O$2)=\"\",NA(),RTD(\"cqg.rtd\",,\"StudyData\", $M$2, \"Bar\", \"\", \"Open\", $L$2, $A36, $Q$2,$P$2,,$N$2,$O$2))","v":1841.5},{"$f":" IF(RTD(\"cqg.rtd\",,\"StudyData\", $M$2, \"Bar\", \"\", \"High\", $L$2, $A36, $Q$2,$P$2,,$N$2,$O$2)=\"\",NA(),RTD(\"cqg.rtd\",,\"StudyData\", $M$2, \"Bar\", \"\", \"High\", $L$2, $A36, $Q$2,$P$2,,$N$2,$O$2))","v":1844.25},{"$f":" IF(RTD(\"cqg.rtd\",,\"StudyData\", $M$2, \"Bar\", \"\", \"Low\", $L$2, $A36, $Q$2,$P$2,,$N$2,$O$2)=\"\",NA(),RTD(\"cqg.rtd\",,\"StudyData\", $M$2, \"Bar\", \"\", \"Low\", $L$2, $A36, $Q$2,$P$2,,$N$2,$O$2))","v":1841.25},{"$f":" IF(RTD(\"cqg.rtd\",,\"StudyData\", $M$2, \"Bar\", \"\", \"Close\", $L$2, $A36, $Q$2,$P$2,,$N$2,$O$2)=\"\",NA(),RTD(\"cqg.rtd\",,\"StudyData\", $M$2, \"Bar\", \"\", \"Close\", $L$2, $A36, $Q$2,$P$2,,$N$2,$O$2))","v":1841.75},null,null,null,null,null,null,null,null,null,null,-8,{"$f":" RTD(\"cqg.rtd\",,\"StudyData\", $M$2,\"Tick\", \"FlatTicks=0\", \"Tick\",\"D\",R36,\"all\")","v":1850},null,{"$f":"RTD(\"cqg.rtd\",,\"StudyData\",$U$1&\"^.\"&$T$1&\"(\"&$M$2&\")\",\"Bar\",\"\",\"Close\",$L$2,A36,\"all\",\"\",\"\",\"True\")","v":-15225}]
[-35,{"$f":" RTD(\"cqg.rtd\",,\"StudyData\", $M$2, \"Bar\", \"\", \"Time\", $L$2,$A37, $Q$2, \"\", \"\",\"False\")","v":"2016-02-12T09:55:00"},{"$f":" IF(RTD(\"cqg.rtd\",,\"StudyData\", $M$2, \"Bar\", \"\", \"Time\", $L$2, $A37,$Q$2,$P$2, \"\",\"False\")=\"\",NA(),RTD(\"cqg.rtd\",,\"StudyData\", $M$2, \"Bar\", \"\", \"Time\", $L$2, $A37,$Q$2,$P$2, \"\",\"False\"))","v":42412.413194444445},{"$f":" IF(RTD(\"cqg.rtd\",,\"StudyData\", $M$2, \"Bar\", \"\", \"Open\", $L$2, $A37, $Q$2,$P$2,,$N$2,$O$2)=\"\",NA(),RTD(\"cqg.rtd\",,\"StudyData\", $M$2, \"Bar\", \"\", \"Open\", $L$2, $A37, $Q$2,$P$2,,$N$2,$O$2))","v":1842},{"$f":" IF(RTD(\"cqg.rtd\",,\"StudyData\", $M$2, \"Bar\", \"\", \"High\", $L$2, $A37, $Q$2,$P$2,,$N$2,$O$2)=\"\",NA(),RTD(\"cqg.rtd\",,\"StudyData\", $M$2, \"Bar\", \"\", \"High\", $L$2, $A37, $Q$2,$P$2,,$N$2,$O$2))","v":1843.5},{"$f":" IF(RTD(\"cqg.rtd\",,\"StudyData\", $M$2, \"Bar\", \"\", \"Low\", $L$2, $A37, $Q$2,$P$2,,$N$2,$O$2)=\"\",NA(),RTD(\"cqg.rtd\",,\"StudyData\", $M$2, \"Bar\", \"\", \"Low\", $L$2, $A37, $Q$2,$P$2,,$N$2,$O$2))","v":1840},{"$f":" IF(RTD(\"cqg.rtd\",,\"StudyData\", $M$2, \"Bar\", \"\", \"Close\", $L$2, $A37, $Q$2,$P$2,,$N$2,$O$2)=\"\",NA(),RTD(\"cqg.rtd\",,\"StudyData\", $M$2, \"Bar\", \"\", \"Close\", $L$2, $A37, $Q$2,$P$2,,$N$2,$O$2))","v":1841.5},null,null,null,null,null,null,null,null,null,null,-7,{"$f":" RTD(\"cqg.rtd\",,\"StudyData\", $M$2,\"Tick\", \"FlatTicks=0\", \"Tick\",\"D\",R37,\"all\")","v":1849.75},null,{"$f":"RTD(\"cqg.rtd\",,\"StudyData\",$U$1&\"^.\"&$T$1&\"(\"&$M$2&\")\",\"Bar\",\"\",\"Close\",$L$2,A37,\"all\",\"\",\"\",\"True\")","v":-15312.5}]
[-36,{"$f":" RTD(\"cqg.rtd\",,\"StudyData\", $M$2, \"Bar\", \"\", \"Time\", $L$2,$A38, $Q$2, \"\", \"\",\"False\")","v":"2016-02-12T09:50:00"},{"$f":" IF(RTD(\"cqg.rtd\",,\"StudyData\", $M$2, \"Bar\", \"\", \"Time\", $L$2, $A38,$Q$2,$P$2, \"\",\"False\")=\"\",NA(),RTD(\"cqg.rtd\",,\"StudyData\", $M$2, \"Bar\", \"\", \"Time\", $L$2, $A38,$Q$2,$P$2, \"\",\"False\"))","v":42412.409722222219},{"$f":" IF(RTD(\"cqg.rtd\",,\"StudyData\", $M$2, \"Bar\", \"\", \"Open\", $L$2, $A38, $Q$2,$P$2,,$N$2,$O$2)=\"\",NA(),RTD(\"cqg.rtd\",,\"StudyData\", $M$2, \"Bar\", \"\", \"Open\", $L$2, $A38, $Q$2,$P$2,,$N$2,$O$2))","v":1842},{"$f":" IF(RTD(\"cqg.rtd\",,\"StudyData\", $M$2, \"Bar\", \"\", \"High\", $L$2, $A38, $Q$2,$P$2,,$N$2,$O$2)=\"\",NA(),RTD(\"cqg.rtd\",,\"StudyData\", $M$2, \"Bar\", \"\", \"High\", $L$2, $A38, $Q$2,$P$2,,$N$2,$O$2))","v":1844.5},{"$f":" IF(RTD(\"cqg.rtd\",,\"StudyData\", $M$2, \"Bar\", \"\", \"Low\", $L$2, $A38, $Q$2,$P$2,,$N$2,$O$2)=\"\",NA(),RTD(\"cqg.rtd\",,\"StudyData\", $M$2, \"Bar\", \"\", \"Low\", $L$2, $A38, $Q$2,$P$2,,$N$2,$O$2))","v":1841.75},{"$f":" IF(RTD(\"cqg.rtd\",,\"StudyData\", $M$2, \"Bar\", \"\", \"Close\", $L$2, $A38, $Q$2,$P$2,,$N$2,$O$2)=\"\",NA(),RTD(\"cqg.rtd\",,\"StudyData\", $M$2, \"Bar\", \"\", \"Close\", $L$2, $A38, $Q$2,$P$2,,$N$2,$O$2))","v":1842},null,null,null,null,null,null,null,null,null,null,-6,{"$f":" RTD(\"cqg.rtd\",,\"StudyData\", $M$2,\"Tick\", \"FlatTicks=0\", \"Tick\",\"D\",R38,\"all\")","v":1849.5},null,{"$f":"RTD(\"cqg.rtd\",,\"StudyData\",$U$1&\"^.\"&$T$1&\"(\"&$M$2&\")\",\"Bar\",\"\",\"Close\",$L$2,A38,\"all\",\"\",\"\",\"True\")","v":-15067.5}]
[-37,{"$f":" RTD(\"cqg.rtd\",,\"StudyData\", $M$2, \"Bar\", \"\", \"Time\", $L$2,$A39, $Q$2, \"\", \"\",\"False\")","v":"2016-02-12T09:45:00"},{"$f":" IF(RTD(\"cqg.rtd\",,\"StudyData\", $M$2, \"Bar\", \"\", \"Time\", $L$2, $A39,$Q$2,$P$2, \"\",\"False\")=\"\",NA(),RTD(\"cqg.rtd\",,\"StudyData\", $M$2, \"Bar\", \"\", \"Time\", $L$2, $A39,$Q$2,$P$2, \"\",\"False\"))","v":42412.40625},{"$f":" IF(RTD(\"cqg.rtd\",,\"StudyData\", $M$2, \"Bar\", \"\", \"Open\", $L$2, $A39, $Q$2,$P$2,,$N$2,$O$2)=\"\",NA(),RTD(\"cqg.rtd\",,\"StudyData\", $M$2, \"Bar\", \"\", \"Open\", $L$2, $A39, $Q$2,$P$2,,$N$2,$O$2))","v":1841.75},{"$f":" IF(RTD(\"cqg.rtd\",,\"StudyData\", $M$2, \"Bar\", \"\", \"High\", $L$2, $A39, $Q$2,$P$2,,$N$2,$O$2)=\"\",NA(),RTD(\"cqg.rtd\",,\"StudyData\", $M$2, \"Bar\", \"\", \"High\", $L$2, $A39, $Q$2,$P$2,,$N$2,$O$2))","v":1842.25},{"$f":" IF(RTD(\"cqg.rtd\",,\"StudyData\", $M$2, \"Bar\", \"\", \"Low\", $L$2, $A39, $Q$2,$P$2,,$N$2,$O$2)=\"\",NA(),RTD(\"cqg.rtd\",,\"StudyData\", $M$2, \"Bar\", \"\", \"Low\", $L$2, $A39, $Q$2,$P$2,,$N$2,$O$2))","v":1840.25},{"$f":" IF(RTD(\"cqg.rtd\",,\"StudyData\", $M$2, \"Bar\", \"\", \"Close\", $L$2, $A39, $Q$2,$P$2,,$N$2,$O$2)=\"\",NA(),RTD(\"cqg.rtd\",,\"StudyData\", $M$2, \"Bar\", \"\", \"Close\", $L$2, $A39, $Q$2,$P$2,,$N$2,$O$2))","v":1842},null,null,null,null,null,null,null,null,null,null,-5,{"$f":" RTD(\"cqg.rtd\",,\"StudyData\", $M$2,\"Tick\", \"FlatTicks=0\", \"Tick\",\"D\",R39,\"all\")","v":1849.75},null,{"$f":"RTD(\"cqg.rtd\",,\"StudyData\",$U$1&\"^.\"&$T$1&\"(\"&$M$2&\")\",\"Bar\",\"\",\"Close\",$L$2,A39,\"all\",\"\",\"\",\"True\")","v":-15067.5}]
[-38,{"$f":" RTD(\"cqg.rtd\",,\"StudyData\", $M$2, \"Bar\", \"\", \"Time\", $L$2,$A40, $Q$2, \"\", \"\",\"False\")","v":"2016-02-12T09:40:00"},{"$f":" IF(RTD(\"cqg.rtd\",,\"StudyData\", $M$2, \"Bar\", \"\", \"Time\", $L$2, $A40,$Q$2,$P$2, \"\",\"False\")=\"\",NA(),RTD(\"cqg.rtd\",,\"StudyData\", $M$2, \"Bar\", \"\", \"Time\", $L$2, $A40,$Q$2,$P$2, \"\",\"False\"))","v":42412.402777777781},{"$f":" IF(RTD(\"cqg.rtd\",,\"StudyData\", $M$2, \"Bar\", \"\", \"Open\", $L$2, $A40, $Q$2,$P$2,,$N$2,$O$2)=\"\",NA(),RTD(\"cqg.rtd\",,\"StudyData\", $M$2, \"Bar\", \"\", \"Open\", $L$2, $A40, $Q$2,$P$2,,$N$2,$O$2))","v":1843},{"$f":" IF(RTD(\"cqg.rtd\",,\"StudyData\", $M$2, \"Bar\", \"\", \"High\", $L$2, $A40, $Q$2,$P$2,,$N$2,$O$2)=\"\",NA(),RTD(\"cqg.rtd\",,\"StudyData\", $M$2, \"Bar\", \"\", \"High\", $L$2, $A40, $Q$2,$P$2,,$N$2,$O$2))","v":1844},{"$f":" IF(RTD(\"cqg.rtd\",,\"StudyData\", $M$2, \"Bar\", \"\", \"Low\", $L$2, $A40, $Q$2,$P$2,,$N$2,$O$2)=\"\",NA(),RTD(\"cqg.rtd\",,\"StudyData\", $M$2, \"Bar\", \"\", \"Low\", $L$2, $A40, $Q$2,$P$2,,$N$2,$O$2))","v":1841.25},{"$f":" IF(RTD(\"cqg.rtd\",,\"StudyData\", $M$2, \"Bar\", \"\", \"Close\", $L$2, $A40, $Q$2,$P$2,,$N$2,$O$2)=\"\",NA(),RTD(\"cqg.rtd\",,\"StudyData\", $M$2, \"Bar\", \"\", \"Close\", $L$2, $A40, $Q$2,$P$2,,$N$2,$O$2))","v":1841.75},null,null,null,null,null,null,null,null,null,null,-4,{"$f":" RTD(\"cqg.rtd\",,\"StudyData\", $M$2,\"Tick\", \"FlatTicks=0\", \"Tick\",\"D\",R40,\"all\")","v":1849.5},null,{"$f":"RTD(\"cqg.rtd\",,\"StudyData\",$U$1&\"^.\"&$T$1&\"(\"&$M$2&\")\",\"Bar\",\"\",\"Close\",$L$2,A40,\"all\",\"\",\"\",\"True\")","v":-14980}]
[-39,{"$f":" RTD(\"cqg.rtd\",,\"StudyData\", $M$2, \"Bar\", \"\", \"Time\", $L$2,$A41, $Q$2, \"\", \"\",\"False\")","v":"2016-02-12T09:35:00"},{"$f":" IF(RTD(\"cqg.rtd\",,\"StudyData\", $M$2, \"Bar\", \"\", \"Time\", $L$2, $A41,$Q$2,$P$2, \"\",\"False\")=\"\",NA(),RTD(\"cqg.rtd\",,\"StudyData\", $M$2, \"Bar\", \"\", \"Time\", $L$2, $A41,$Q$2,$P$2, \"\",\"False\"))","v":42412.399305555555},{"$f":" IF(RTD(\"cqg.rtd\",,\"StudyData\", $M$2, \"Bar\", \"\", \"Open\", $L$2, $A41, $Q$2,$P$2,,$N$2,$O$2)=\"\",NA(),RTD(\"cqg.rtd\",,\"StudyData\", $M$2, \"Bar\", \"\", \"Open\", $L$2, $A41, $Q$2,$P$2,,$N$2,$O$2))","v":1844.25},{"$f":" IF(RTD(\"cqg.rtd\",,\"StudyData\", $M$2, \"Bar\", \"\", \"High\", $L$2, $A41, $Q$2,$P$2,,$N$2,$O$2)=\"\",NA(),RTD(\"cqg.rtd\",,\"StudyData\", $M$2, \"Bar\", \"\", \"High\", $L$2, $A41, $Q$2,$P$2,,$N$2,$O$2))","v":1845},{"$f":" IF(RTD(\"cqg.rtd\",,\"StudyData\", $M$2, \"Bar\", \"\", \"Low\", $L$2, $A41, $Q$2,$P$2,,$N$2,$O$2)=\"\",NA(),RTD(\"cqg.rtd\",,\"StudyData\", $M$2, \"Bar\", \"\", \"Low\", $L$2, $A41, $Q$2,$P$2,,$N$2,$O$2))","v":1841.25},{"$f":" IF(RTD(\"cqg.rtd\",,\"StudyData\", $M$2, \"Bar\", \"\", \"Close\", $L$2, $A41, $Q$2,$P$2,,$N$2,$O$2)=\"\",NA(),RTD(\"cqg.rtd\",,\"StudyData\", $M$2, \"Bar\", \"\", \"Close\", $L$2, $A41, $Q$2,$P$2,,$N$2,$O$2))","v":1843.25},null,null,null,null,null,null,null,null,null,null,-3,{"$f":" RTD(\"cqg.rtd\",,\"StudyData\", $M$2,\"Tick\", \"FlatTicks=0\", \"Tick\",\"D\",R41,\"all\")","v":1849.75},null,{"$f":"RTD(\"cqg.rtd\",,\"StudyData\",$U$1&\"^.\"&$T$1&\"(\"&$M$2&\")\",\"Bar\",\"\",\"Close\",$L$2,A41,\"all\",\"\",\"\",\"True\")","v":-15505}]
[-40,{"$f":" RTD(\"cqg.rtd\",,\"StudyData\", $M$2, \"Bar\", \"\", \"Time\", $L$2,$A42, $Q$2, \"\", \"\",\"False\")","v":"2016-02-12T09:30:00"},{"$f":" IF(RTD(\"cqg.rtd\",,\"StudyData\", $M$2, \"Bar\", \"\", \"Time\", $L$2, $A42,$Q$2,$P$2, \"\",\"False\")=\"\",NA(),RTD(\"cqg.rtd\",,\"StudyData\", $M$2, \"Bar\", \"\", \"Time\", $L$2, $A42,$Q$2,$P$2, \"\",\"False\"))","v":42412.395833333336},{"$f":" IF(RTD(\"cqg.rtd\",,\"StudyData\", $M$2, \"Bar\", \"\", \"Open\", $L$2, $A42, $Q$2,$P$2,,$N$2,$O$2)=\"\",NA(),RTD(\"cqg.rtd\",,\"StudyData\", $M$2, \"Bar\", \"\", \"Open\", $L$2, $A42, $Q$2,$P$2,,$N$2,$O$2))","v":1842.25},{"$f":" IF(RTD(\"cqg.rtd\",,\"StudyData\", $M$2, \"Bar\", \"\", \"High\", $L$2, $A42, $Q$2,$P$2,,$N$2,$O$2)=\"\",NA(),RTD(\"cqg.rtd\",,\"StudyData\", $M$2, \"Bar\", \"\", \"High\", $L$2, $A42, $Q$2,$P$2,,$N$2,$O$2))","v":1845.25},{"$f":" IF(RTD(\"cqg.rtd\",,\"StudyData\", $M$2, \"Bar\", \"\", \"Low\", $L$2, $A42, $Q$2,$P$2,,$N$2,$O$2)=\"\",NA(),RTD(\"cqg.rtd\",,\"StudyData\", $M$2, \"Bar\", \"\", \"Low\", $L$2, $A42, $Q$2,$P$2,,$N$2,$O$2))","v":1842.25},{"$f":" IF(RTD(\"cqg.rtd\",,\"StudyData\", $M$2, \"Bar\", \"\", \"Close\", $L$2, $A42, $Q$2,$P$2,,$N$2,$O$2)=\"\",NA(),RTD(\"cqg.rtd\",,\"StudyData\", $M$2, \"Bar\", \"\", \"Close\", $L$2, $A42, $Q$2,$P$2,,$N$2,$O$2))","v":1844.25},null,null,null,null,null,null,null,null,null,null,-2,{"$f":" RTD(\"cqg.rtd\",,\"StudyData\", $M$2,\"Tick\", \"FlatTicks=0\", \"Tick\",\"D\",R42,\"all\")","v":1849.5},null,{"$f":"RTD(\"cqg.rtd\",,\"StudyData\",$U$1&\"^.\"&$T$1&\"(\"&$M$2&\")\",\"Bar\",\"\",\"Close\",$L$2,A42,\"all\",\"\",\"\",\"True\")","v":-15855}]
[-41,{"$f":" RTD(\"cqg.rtd\",,\"StudyData\", $M$2, \"Bar\", \"\", \"Time\", $L$2,$A43, $Q$2, \"\", \"\",\"False\")","v":"2016-02-12T09:25:00"},{"$f":" IF(RTD(\"cqg.rtd\",,\"StudyData\", $M$2, \"Bar\", \"\", \"Time\", $L$2, $A43,$Q$2,$P$2, \"\",\"False\")=\"\",NA(),RTD(\"cqg.rtd\",,\"StudyData\", $M$2, \"Bar\", \"\", \"Time\", $L$2, $A43,$Q$2,$P$2, \"\",\"False\"))","v":42412.392361111109},{"$f":" IF(RTD(\"cqg.rtd\",,\"StudyData\", $M$2, \"Bar\", \"\", \"Open\", $L$2, $A43, $Q$2,$P$2,,$N$2,$O$2)=\"\",NA(),RTD(\"cqg.rtd\",,\"StudyData\", $M$2, \"Bar\", \"\", \"Open\", $L$2, $A43, $Q$2,$P$2,,$N$2,$O$2))","v":1842.5},{"$f":" IF(RTD(\"cqg.rtd\",,\"StudyData\", $M$2, \"Bar\", \"\", \"High\", $L$2, $A43, $Q$2,$P$2,,$N$2,$O$2)=\"\",NA(),RTD(\"cqg.rtd\",,\"StudyData\", $M$2, \"Bar\", \"\", \"High\", $L$2, $A43, $Q$2,$P$2,,$N$2,$O$2))","v":1844.25},{"$f":" IF(RTD(\"cqg.rtd\",,\"StudyData\", $M$2, \"Bar\", \"\", \"Low\", $L$2, $A43, $Q$2,$P$2,,$N$2,$O$2)=\"\",NA(),RTD(\"cqg.rtd\",,\"StudyData\", $M$2, \"Bar\", \"\", \"Low\", $L$2, $A43, $Q$2,$P$2,,$N$2,$O$2))","v":1842},{"$f":" IF(RTD(\"cqg.rtd\",,\"StudyData\", $M$2, \"Bar\", \"\", \"Close\", $L$2, $A43, $Q$2,$P$2,,$N$2,$O$2)=\"\",NA(),RTD(\"cqg.rtd\",,\"StudyData\", $M$2, \"Bar\", \"\", \"Close\", $L$2, $A43, $Q$2,$P$2,,$N$2,$O$2))","v":1842.25},null,null,null,null,null,null,null,null,null,null,-1,{"$f":" RTD(\"cqg.rtd\",,\"StudyData\", $M$2,\"Tick\", \"FlatTicks=0\", \"Tick\",\"D\",R43,\"all\")","v":1849.75},null,{"$f":"RTD(\"cqg.rtd\",,\"StudyData\",$U$1&\"^.\"&$T$1&\"(\"&$M$2&\")\",\"Bar\",\"\",\"Close\",$L$2,A43,\"all\",\"\",\"\",\"True\")","v":-15155}]
[-42,{"$f":" RTD(\"cqg.rtd\",,\"StudyData\", $M$2, \"Bar\", \"\", \"Time\", $L$2,$A44, $Q$2, \"\", \"\",\"False\")","v":"2016-02-12T09:20:00"},{"$f":" IF(RTD(\"cqg.rtd\",,\"StudyData\", $M$2, \"Bar\", \"\", \"Time\", $L$2, $A44,$Q$2,$P$2, \"\",\"False\")=\"\",NA(),RTD(\"cqg.rtd\",,\"StudyData\", $M$2, \"Bar\", \"\", \"Time\", $L$2, $A44,$Q$2,$P$2, \"\",\"False\"))","v":42412.388888888891},{"$f":" IF(RTD(\"cqg.rtd\",,\"StudyData\", $M$2, \"Bar\", \"\", \"Open\", $L$2, $A44, $Q$2,$P$2,,$N$2,$O$2)=\"\",NA(),RTD(\"cqg.rtd\",,\"StudyData\", $M$2, \"Bar\", \"\", \"Open\", $L$2, $A44, $Q$2,$P$2,,$N$2,$O$2))","v":1842.5},{"$f":" IF(RTD(\"cqg.rtd\",,\"StudyData\", $M$2, \"Bar\", \"\", \"High\", $L$2, $A44, $Q$2,$P$2,,$N$2,$O$2)=\"\",NA(),RTD(\"cqg.rtd\",,\"StudyData\", $M$2, \"Bar\", \"\", \"High\", $L$2, $A44, $Q$2,$P$2,,$N$2,$O$2))","v":1843.75},{"$f":" IF(RTD(\"cqg.rtd\",,\"StudyData\", $M$2, \"Bar\", \"\", \"Low\", $L$2, $A44, $Q$2,$P$2,,$N$2,$O$2)=\"\",NA(),RTD(\"cqg.rtd\",,\"StudyData\", $M$2, \"Bar\", \"\", \"Low\", $L$2, $A44, $Q$2,$P$2,,$N$2,$O$2))","v":1842},{"$f":" IF(RTD(\"cqg.rtd\",,\"StudyData\", $M$2, \"Bar\", \"\", \"Close\", $L$2, $A44, $Q$2,$P$2,,$N$2,$O$2)=\"\",NA(),RTD(\"cqg.rtd\",,\"StudyData\", $M$2, \"Bar\", \"\", \"Close\", $L$2, $A44, $Q$2,$P$2,,$N$2,$O$2))","v":1842.25},null,null,null,null,null,null,null,null,null,null,0,{"$f":" RTD(\"cqg.rtd\",,\"StudyData\", $M$2,\"Tick\", \"FlatTicks=0\", \"Tick\",\"D\",R44,\"all\")","v":1849.5},null,{"$f":"RTD(\"cqg.rtd\",,\"StudyData\",$U$1&\"^.\"&$T$1&\"(\"&$M$2&\")\",\"Bar\",\"\",\"Close\",$L$2,A44,\"all\",\"\",\"\",\"True\")","v":-15155}]
[-43,{"$f":" RTD(\"cqg.rtd\",,\"StudyData\", $M$2, \"Bar\", \"\", \"Time\", $L$2,$A45, $Q$2, \"\", \"\",\"False\")","v":"2016-02-12T09:15:00"},{"$f":" IF(RTD(\"cqg.rtd\",,\"StudyData\", $M$2, \"Bar\", \"\", \"Time\", $L$2, $A45,$Q$2,$P$2, \"\",\"False\")=\"\",NA(),RTD(\"cqg.rtd\",,\"StudyData\", $M$2, \"Bar\", \"\", \"Time\", $L$2, $A45,$Q$2,$P$2, \"\",\"False\"))","v":42412.385416666664},{"$f":" IF(RTD(\"cqg.rtd\",,\"StudyData\", $M$2, \"Bar\", \"\", \"Open\", $L$2, $A45, $Q$2,$P$2,,$N$2,$O$2)=\"\",NA(),RTD(\"cqg.rtd\",,\"StudyData\", $M$2, \"Bar\", \"\", \"Open\", $L$2, $A45, $Q$2,$P$2,,$N$2,$O$2))","v":1838.25},{"$f":" IF(RTD(\"cqg.rtd\",,\"StudyData\", $M$2, \"Bar\", \"\", \"High\", $L$2, $A45, $Q$2,$P$2,,$N$2,$O$2)=\"\",NA(),RTD(\"cqg.rtd\",,\"StudyData\", $M$2, \"Bar\", \"\", \"High\", $L$2, $A45, $Q$2,$P$2,,$N$2,$O$2))","v":1842.75},{"$f":" IF(RTD(\"cqg.rtd\",,\"StudyData\", $M$2, \"Bar\", \"\", \"Low\", $L$2, $A45, $Q$2,$P$2,,$N$2,$O$2)=\"\",NA(),RTD(\"cqg.rtd\",,\"StudyData\", $M$2, \"Bar\", \"\", \"Low\", $L$2, $A45, $Q$2,$P$2,,$N$2,$O$2))","v":1837},{"$f":" IF(RTD(\"cqg.rtd\",,\"StudyData\", $M$2, \"Bar\", \"\", \"Close\", $L$2, $A45, $Q$2,$P$2,,$N$2,$O$2)=\"\",NA(),RTD(\"cqg.rtd\",,\"StudyData\", $M$2, \"Bar\", \"\", \"Close\", $L$2, $A45, $Q$2,$P$2,,$N$2,$O$2))","v":1842.25},null,null,null,null,null,null,null,null,null,null,null,null,null,{"$f":"RTD(\"cqg.rtd\",,\"StudyData\",$U$1&\"^.\"&$T$1&\"(\"&$M$2&\")\",\"Bar\",\"\",\"Close\",$L$2,A45,\"all\",\"\",\"\",\"True\")","v":-15155}]
[-44,{"$f":" RTD(\"cqg.rtd\",,\"StudyData\", $M$2, \"Bar\", \"\", \"Time\", $L$2,$A46, $Q$2, \"\", \"\",\"False\")","v":"2016-02-12T09:10:00"},{"$f":" IF(RTD(\"cqg.rtd\",,\"StudyData\", $M$2, \"Bar\", \"\", \"Time\", $L$2, $A46,$Q$2,$P$2, \"\",\"False\")=\"\",NA(),RTD(\"cqg.rtd\",,\"StudyData\", $M$2, \"Bar\", \"\", \"Time\", $L$2, $A46,$Q$2,$P$2, \"\",\"False\"))","v":42412.381944444445},{"$f":" IF(RTD(\"cqg.rtd\",,\"StudyData\", $M$2, \"Bar\", \"\", \"Open\", $L$2, $A46, $Q$2,$P$2,,$N$2,$O$2)=\"\",NA(),RTD(\"cqg.rtd\",,\"StudyData\", $M$2, \"Bar\", \"\", \"Open\", $L$2, $A46, $Q$2,$P$2,,$N$2,$O$2))","v":1837.25},{"$f":" IF(RTD(\"cqg.rtd\",,\"StudyData\", $M$2, \"Bar\", \"\", \"High\", $L$2, $A46, $Q$2,$P$2,,$N$2,$O$2)=\"\",NA(),RTD(\"cqg.rtd\",,\"StudyData\", $M$2, \"Bar\", \"\", \"High\", $L$2, $A46, $Q$2,$P$2,,$N$2,$O$2))","v":1840.5},{"$f":" IF(RTD(\"cqg.rtd\",,\"StudyData\", $M$2, \"Bar\", \"\", \"Low\", $L$2, $A46, $Q$2,$P$2,,$N$2,$O$2)=\"\",NA(),RTD(\"cqg.rtd\",,\"StudyData\", $M$2, \"Bar\", \"\", \"Low\", $L$2, $A46, $Q$2,$P$2,,$N$2,$O$2))","v":1837},{"$f":" IF(RTD(\"cqg.rtd\",,\"StudyData\", $M$2, \"Bar\", \"\", \"Close\", $L$2, $A46, $Q$2,$P$2,,$N$2,$O$2)=\"\",NA(),RTD(\"cqg.rtd\",,\"StudyData\", $M$2, \"Bar\", \"\", \"Close\", $L$2, $A46, $Q$2,$P$2,,$N$2,$O$2))","v":1838.25},null,null,null,null,null,null,null,null,null,null,null,null,null,{"$f":"RTD(\"cqg.rtd\",,\"StudyData\",$U$1&\"^.\"&$T$1&\"(\"&$M$2&\")\",\"Bar\",\"\",\"Close\",$L$2,A46,\"all\",\"\",\"\",\"True\")","v":-13755}]
[-45,{"$f":" RTD(\"cqg.rtd\",,\"StudyData\", $M$2, \"Bar\", \"\", \"Time\", $L$2,$A47, $Q$2, \"\", \"\",\"False\")","v":"2016-02-12T09:05:00"},{"$f":" IF(RTD(\"cqg.rtd\",,\"StudyData\", $M$2, \"Bar\", \"\", \"Time\", $L$2, $A47,$Q$2,$P$2, \"\",\"False\")=\"\",NA(),RTD(\"cqg.rtd\",,\"StudyData\", $M$2, \"Bar\", \"\", \"Time\", $L$2, $A47,$Q$2,$P$2, \"\",\"False\"))","v":42412.378472222219},{"$f":" IF(RTD(\"cqg.rtd\",,\"StudyData\", $M$2, \"Bar\", \"\", \"Open\", $L$2, $A47, $Q$2,$P$2,,$N$2,$O$2)=\"\",NA(),RTD(\"cqg.rtd\",,\"StudyData\", $M$2, \"Bar\", \"\", \"Open\", $L$2, $A47, $Q$2,$P$2,,$N$2,$O$2))","v":1837.5},{"$f":" IF(RTD(\"cqg.rtd\",,\"StudyData\", $M$2, \"Bar\", \"\", \"High\", $L$2, $A47, $Q$2,$P$2,,$N$2,$O$2)=\"\",NA(),RTD(\"cqg.rtd\",,\"StudyData\", $M$2, \"Bar\", \"\", \"High\", $L$2, $A47, $Q$2,$P$2,,$N$2,$O$2))","v":1838.5},{"$f":" IF(RTD(\"cqg.rtd\",,\"StudyData\", $M$2, \"Bar\", \"\", \"Low\", $L$2, $A47, $Q$2,$P$2,,$N$2,$O$2)=\"\",NA(),RTD(\"cqg.rtd\",,\"StudyData\", $M$2, \"Bar\", \"\", \"Low\", $L$2, $A47, $Q$2,$P$2,,$N$2,$O$2))","v":1834.75},{"$f":" IF(RTD(\"cqg.rtd\",,\"StudyData\", $M$2, \"Bar\", \"\", \"Close\", $L$2, $A47, $Q$2,$P$2,,$N$2,$O$2)=\"\",NA(),RTD(\"cqg.rtd\",,\"StudyData\", $M$2, \"Bar\", \"\", \"Close\", $L$2, $A47, $Q$2,$P$2,,$N$2,$O$2))","v":1837.25},null,null,null,null,null,null,null,null,null,null,null,null,null,{"$f":"RTD(\"cqg.rtd\",,\"StudyData\",$U$1&\"^.\"&$T$1&\"(\"&$M$2&\")\",\"Bar\",\"\",\"Close\",$L$2,A47,\"all\",\"\",\"\",\"True\")","v":-13405}]
[-46,{"$f":" RTD(\"cqg.rtd\",,\"StudyData\", $M$2, \"Bar\", \"\", \"Time\", $L$2,$A48, $Q$2, \"\", \"\",\"False\")","v":"2016-02-12T09:00:00"},{"$f":" IF(RTD(\"cqg.rtd\",,\"StudyData\", $M$2, \"Bar\", \"\", \"Time\", $L$2, $A48,$Q$2,$P$2, \"\",\"False\")=\"\",NA(),RTD(\"cqg.rtd\",,\"StudyData\", $M$2, \"Bar\", \"\", \"Time\", $L$2, $A48,$Q$2,$P$2, \"\",\"False\"))","v":42412.375},{"$f":" IF(RTD(\"cqg.rtd\",,\"StudyData\", $M$2, \"Bar\", \"\", \"Open\", $L$2, $A48, $Q$2,$P$2,,$N$2,$O$2)=\"\",NA(),RTD(\"cqg.rtd\",,\"StudyData\", $M$2, \"Bar\", \"\", \"Open\", $L$2, $A48, $Q$2,$P$2,,$N$2,$O$2))","v":1837},{"$f":" IF(RTD(\"cqg.rtd\",,\"StudyData\", $M$2, \"Bar\", \"\", \"High\", $L$2, $A48, $Q$2,$P$2,,$N$2,$O$2)=\"\",NA(),RTD(\"cqg.rtd\",,\"StudyData\", $M$2, \"Bar\", \"\", \"High\", $L$2, $A48, $Q$2,$P$2,,$N$2,$O$2))","v":1837.5},{"$f":" IF(RTD(\"cqg.rtd\",,\"StudyData\", $M$2, \"Bar\", \"\", \"Low\", $L$2, $A48, $Q$2,$P$2,,$N$2,$O$2)=\"\",NA(),RTD(\"cqg.rtd\",,\"StudyData\", $M$2, \"Bar\", \"\", \"Low\", $L$2, $A48, $Q$2,$P$2,,$N$2,$O$2))","v":1833.5},{"$f":" IF(RTD(\"cqg.rtd\",,\"StudyData\", $M$2, \"Bar\", \"\", \"Close\", $L$2, $A48, $Q$2,$P$2,,$N$2,$O$2)=\"\",NA(),RTD(\"cqg.rtd\",,\"StudyData\", $M$2, \"Bar\", \"\", \"Close\", $L$2, $A48, $Q$2,$P$2,,$N$2,$O$2))","v":1837.25},null,null,null,null,null,null,null,null,null,null,null,null,null,{"$f":"RTD(\"cqg.rtd\",,\"StudyData\",$U$1&\"^.\"&$T$1&\"(\"&$M$2&\")\",\"Bar\",\"\",\"Close\",$L$2,A48,\"all\",\"\",\"\",\"True\")","v":-13405}]
[-47,{"$f":" RTD(\"cqg.rtd\",,\"StudyData\", $M$2, \"Bar\", \"\", \"Time\", $L$2,$A49, $Q$2, \"\", \"\",\"False\")","v":"2016-02-12T08:55:00"},{"$f":" IF(RTD(\"cqg.rtd\",,\"StudyData\", $M$2, \"Bar\", \"\", \"Time\", $L$2, $A49,$Q$2,$P$2, \"\",\"False\")=\"\",NA(),RTD(\"cqg.rtd\",,\"StudyData\", $M$2, \"Bar\", \"\", \"Time\", $L$2, $A49,$Q$2,$P$2, \"\",\"False\"))","v":42412.371527777781},{"$f":" IF(RTD(\"cqg.rtd\",,\"StudyData\", $M$2, \"Bar\", \"\", \"Open\", $L$2, $A49, $Q$2,$P$2,,$N$2,$O$2)=\"\",NA(),RTD(\"cqg.rtd\",,\"StudyData\", $M$2, \"Bar\", \"\", \"Open\", $L$2, $A49, $Q$2,$P$2,,$N$2,$O$2))","v":1839},{"$f":" IF(RTD(\"cqg.rtd\",,\"StudyData\", $M$2, \"Bar\", \"\", \"High\", $L$2, $A49, $Q$2,$P$2,,$N$2,$O$2)=\"\",NA(),RTD(\"cqg.rtd\",,\"StudyData\", $M$2, \"Bar\", \"\", \"High\", $L$2, $A49, $Q$2,$P$2,,$N$2,$O$2))","v":1839.5},{"$f":" IF(RTD(\"cqg.rtd\",,\"StudyData\", $M$2, \"Bar\", \"\", \"Low\", $L$2, $A49, $Q$2,$P$2,,$N$2,$O$2)=\"\",NA(),RTD(\"cqg.rtd\",,\"StudyData\", $M$2, \"Bar\", \"\", \"Low\", $L$2, $A49, $Q$2,$P$2,,$N$2,$O$2))","v":1835.25},{"$f":" IF(RTD(\"cqg.rtd\",,\"StudyData\", $M$2, \"Bar\", \"\", \"Close\", $L$2, $A49, $Q$2,$P$2,,$N$2,$O$2)=\"\",NA(),RTD(\"cqg.rtd\",,\"StudyData\", $M$2, \"Bar\", \"\", \"Close\", $L$2, $A49, $Q$2,$P$2,,$N$2,$O$2))","v":1837},null,null,null,null,null,null,null,null,null,null,null,null,null,{"$f":"RTD(\"cqg.rtd\",,\"StudyData\",$U$1&\"^.\"&$T$1&\"(\"&$M$2&\")\",\"Bar\",\"\",\"Close\",$L$2,A49,\"all\",\"\",\"\",\"True\")","v":-13317.5}]
[-48,{"$f":" RTD(\"cqg.rtd\",,\"StudyData\", $M$2, \"Bar\", \"\", \"Time\", $L$2,$A50, $Q$2, \"\", \"\",\"False\")","v":"2016-02-12T08:50:00"},{"$f":" IF(RTD(\"cqg.rtd\",,\"StudyData\", $M$2, \"Bar\", \"\", \"Time\", $L$2, $A50,$Q$2,$P$2, \"\",\"False\")=\"\",NA(),RTD(\"cqg.rtd\",,\"StudyData\", $M$2, \"Bar\", \"\", \"Time\", $L$2, $A50,$Q$2,$P$2, \"\",\"False\"))","v":42412.368055555555},{"$f":" IF(RTD(\"cqg.rtd\",,\"StudyData\", $M$2, \"Bar\", \"\", \"Open\", $L$2, $A50, $Q$2,$P$2,,$N$2,$O$2)=\"\",NA(),RTD(\"cqg.rtd\",,\"StudyData\", $M$2, \"Bar\", \"\", \"Open\", $L$2, $A50, $Q$2,$P$2,,$N$2,$O$2))","v":1838.5},{"$f":" IF(RTD(\"cqg.rtd\",,\"StudyData\", $M$2, \"Bar\", \"\", \"High\", $L$2, $A50, $Q$2,$P$2,,$N$2,$O$2)=\"\",NA(),RTD(\"cqg.rtd\",,\"StudyData\", $M$2, \"Bar\", \"\", \"High\", $L$2, $A50, $Q$2,$P$2,,$N$2,$O$2))","v":1840.5},{"$f":" IF(RTD(\"cqg.rtd\",,\"StudyData\", $M$2, \"Bar\", \"\", \"Low\", $L$2, $A50, $Q$2,$P$2,,$N$2,$O$2)=\"\",NA(),RTD(\"cqg.rtd\",,\"StudyData\", $M$2, \"Bar\", \"\", \"Low\", $L$2, $A50, $Q$2,$P$2,,$N$2,$O$2))","v":1836.25},{"$f":" IF(RTD(\"cqg.rtd\",,\"StudyData\", $M$2, \"Bar\", \"\", \"Close\", $L$2, $A50, $Q$2,$P$2,,$N$2,$O$2)=\"\",NA(),RTD(\"cqg.rtd\",,\"StudyData\", $M$2, \"Bar\", \"\", \"Close\", $L$2, $A50, $Q$2,$P$2,,$N$2,$O$2))","v":1839},null,null,null,null,null,null,null,null,null,null,null,null,null,{"$f":"RTD(\"cqg.rtd\",,\"StudyData\",$U$1&\"^.\"&$T$1&\"(\"&$M$2&\")\",\"Bar\",\"\",\"Close\",$L$2,A50,\"all\",\"\",\"\",\"True\")","v":-14017.5}]
[-49,{"$f":" RTD(\"cqg.rtd\",,\"StudyData\", $M$2, \"Bar\", \"\", \"Time\", $L$2,$A51, $Q$2, \"\", \"\",\"False\")","v":"2016-02-12T08:45:00"},{"$f":" IF(RTD(\"cqg.rtd\",,\"StudyData\", $M$2, \"Bar\", \"\", \"Time\", $L$2, $A51,$Q$2,$P$2, \"\",\"False\")=\"\",NA(),RTD(\"cqg.rtd\",,\"StudyData\", $M$2, \"Bar\", \"\", \"Time\", $L$2, $A51,$Q$2,$P$2, \"\",\"False\"))","v":42412.364583333336},{"$f":" IF(RTD(\"cqg.rtd\",,\"StudyData\", $M$2, \"Bar\", \"\", \"Open\", $L$2, $A51, $Q$2,$P$2,,$N$2,$O$2)=\"\",NA(),RTD(\"cqg.rtd\",,\"StudyData\", $M$2, \"Bar\", \"\", \"Open\", $L$2, $A51, $Q$2,$P$2,,$N$2,$O$2))","v":1839},{"$f":" IF(RTD(\"cqg.rtd\",,\"StudyData\", $M$2, \"Bar\", \"\", \"High\", $L$2, $A51, $Q$2,$P$2,,$N$2,$O$2)=\"\",NA(),RTD(\"cqg.rtd\",,\"StudyData\", $M$2, \"Bar\", \"\", \"High\", $L$2, $A51, $Q$2,$P$2,,$N$2,$O$2))","v":1840},{"$f":" IF(RTD(\"cqg.rtd\",,\"StudyData\", $M$2, \"Bar\", \"\", \"Low\", $L$2, $A51, $Q$2,$P$2,,$N$2,$O$2)=\"\",NA(),RTD(\"cqg.rtd\",,\"StudyData\", $M$2, \"Bar\", \"\", \"Low\", $L$2, $A51, $Q$2,$P$2,,$N$2,$O$2))","v":1837},{"$f":" IF(RTD(\"cqg.rtd\",,\"StudyData\", $M$2, \"Bar\", \"\", \"Close\", $L$2, $A51, $Q$2,$P$2,,$N$2,$O$2)=\"\",NA(),RTD(\"cqg.rtd\",,\"StudyData\", $M$2, \"Bar\", \"\", \"Close\", $L$2, $A51, $Q$2,$P$2,,$N$2,$O$2))","v":1838.5},null,null,null,null,null,null,null,null,null,null,null,null,null,{"$f":"RTD(\"cqg.rtd\",,\"StudyData\",$U$1&\"^.\"&$T$1&\"(\"&$M$2&\")\",\"Bar\",\"\",\"Close\",$L$2,A51,\"all\",\"\",\"\",\"True\")","v":-13772.5}]
[-50,{"$f":" RTD(\"cqg.rtd\",,\"StudyData\", $M$2, \"Bar\", \"\", \"Time\", $L$2,$A52, $Q$2, \"\", \"\",\"False\")","v":"2016-02-12T08:40:00"},{"$f":" IF(RTD(\"cqg.rtd\",,\"StudyData\", $M$2, \"Bar\", \"\", \"Time\", $L$2, $A52,$Q$2,$P$2, \"\",\"False\")=\"\",NA(),RTD(\"cqg.rtd\",,\"StudyData\", $M$2, \"Bar\", \"\", \"Time\", $L$2, $A52,$Q$2,$P$2, \"\",\"False\"))","v":42412.361111111109},{"$f":" IF(RTD(\"cqg.rtd\",,\"StudyData\", $M$2, \"Bar\", \"\", \"Open\", $L$2, $A52, $Q$2,$P$2,,$N$2,$O$2)=\"\",NA(),RTD(\"cqg.rtd\",,\"StudyData\", $M$2, \"Bar\", \"\", \"Open\", $L$2, $A52, $Q$2,$P$2,,$N$2,$O$2))","v":1840.25},{"$f":" IF(RTD(\"cqg.rtd\",,\"StudyData\", $M$2, \"Bar\", \"\", \"High\", $L$2, $A52, $Q$2,$P$2,,$N$2,$O$2)=\"\",NA(),RTD(\"cqg.rtd\",,\"StudyData\", $M$2, \"Bar\", \"\", \"High\", $L$2, $A52, $Q$2,$P$2,,$N$2,$O$2))","v":1843.25},{"$f":" IF(RTD(\"cqg.rtd\",,\"StudyData\", $M$2, \"Bar\", \"\", \"Low\", $L$2, $A52, $Q$2,$P$2,,$N$2,$O$2)=\"\",NA(),RTD(\"cqg.rtd\",,\"StudyData\", $M$2, \"Bar\", \"\", \"Low\", $L$2, $A52, $Q$2,$P$2,,$N$2,$O$2))","v":1838.5},{"$f":" IF(RTD(\"cqg.rtd\",,\"StudyData\", $M$2, \"Bar\", \"\", \"Close\", $L$2, $A52, $Q$2,$P$2,,$N$2,$O$2)=\"\",NA(),RTD(\"cqg.rtd\",,\"StudyData\", $M$2, \"Bar\", \"\", \"Close\", $L$2, $A52, $Q$2,$P$2,,$N$2,$O$2))","v":1839.25},null,null,null,null,null,null,null,null,null,null,null,null,null,{"$f":"RTD(\"cqg.rtd\",,\"StudyData\",$U$1&\"^.\"&$T$1&\"(\"&$M$2&\")\",\"Bar\",\"\",\"Close\",$L$2,A52,\"all\",\"\",\"\",\"True\")","v":-13510}]
[-51,{"$f":" RTD(\"cqg.rtd\",,\"StudyData\", $M$2, \"Bar\", \"\", \"Time\", $L$2,$A53, $Q$2, \"\", \"\",\"False\")","v":"2016-02-12T08:35:00"},{"$f":" IF(RTD(\"cqg.rtd\",,\"StudyData\", $M$2, \"Bar\", \"\", \"Time\", $L$2, $A53,$Q$2,$P$2, \"\",\"False\")=\"\",NA(),RTD(\"cqg.rtd\",,\"StudyData\", $M$2, \"Bar\", \"\", \"Time\", $L$2, $A53,$Q$2,$P$2, \"\",\"False\"))","v":42412.357638888891},{"$f":" IF(RTD(\"cqg.rtd\",,\"StudyData\", $M$2, \"Bar\", \"\", \"Open\", $L$2, $A53, $Q$2,$P$2,,$N$2,$O$2)=\"\",NA(),RTD(\"cqg.rtd\",,\"StudyData\", $M$2, \"Bar\", \"\", \"Open\", $L$2, $A53, $Q$2,$P$2,,$N$2,$O$2))","v":1841.25},{"$f":" IF(RTD(\"cqg.rtd\",,\"StudyData\", $M$2, \"Bar\", \"\", \"High\", $L$2, $A53, $Q$2,$P$2,,$N$2,$O$2)=\"\",NA(),RTD(\"cqg.rtd\",,\"StudyData\", $M$2, \"Bar\", \"\", \"High\", $L$2, $A53, $Q$2,$P$2,,$N$2,$O$2))","v":1844.25},{"$f":" IF(RTD(\"cqg.rtd\",,\"StudyData\", $M$2, \"Bar\", \"\", \"Low\", $L$2, $A53, $Q$2,$P$2,,$N$2,$O$2)=\"\",NA(),RTD(\"cqg.rtd\",,\"StudyData\", $M$2, \"Bar\", \"\", \"Low\", $L$2, $A53, $Q$2,$P$2,,$N$2,$O$2))","v":1838.5},{"$f":" IF(RTD(\"cqg.rtd\",,\"StudyData\", $M$2, \"Bar\", \"\", \"Close\", $L$2, $A53, $Q$2,$P$2,,$N$2,$O$2)=\"\",NA(),RTD(\"cqg.rtd\",,\"StudyData\", $M$2, \"Bar\", \"\", \"Close\", $L$2, $A53, $Q$2,$P$2,,$N$2,$O$2))","v":1840.5},null,null,null,null,null,null,null,null,null,null,null,null,null,{"$f":"RTD(\"cqg.rtd\",,\"StudyData\",$U$1&\"^.\"&$T$1&\"(\"&$M$2&\")\",\"Bar\",\"\",\"Close\",$L$2,A53,\"all\",\"\",\"\",\"True\")","v":-13072.5}]
[-52,{"$f":" RTD(\"cqg.rtd\",,\"StudyData\", $M$2, \"Bar\", \"\", \"Time\", $L$2,$A54, $Q$2, \"\", \"\",\"False\")","v":"2016-02-12T08:30:00"},{"$f":" IF(RTD(\"cqg.rtd\",,\"StudyData\", $M$2, \"Bar\", \"\", \"Time\", $L$2, $A54,$Q$2,$P$2, \"\",\"False\")=\"\",NA(),RTD(\"cqg.rtd\",,\"StudyData\", $M$2, \"Bar\", \"\", \"Time\", $L$2, $A54,$Q$2,$P$2, \"\",\"False\"))","v":42412.354166666664},{"$f":" IF(RTD(\"cqg.rtd\",,\"StudyData\", $M$2, \"Bar\", \"\", \"Open\", $L$2, $A54, $Q$2,$P$2,,$N$2,$O$2)=\"\",NA(),RTD(\"cqg.rtd\",,\"StudyData\", $M$2, \"Bar\", \"\", \"Open\", $L$2, $A54, $Q$2,$P$2,,$N$2,$O$2))","v":1843.5},{"$f":" IF(RTD(\"cqg.rtd\",,\"StudyData\", $M$2, \"Bar\", \"\", \"High\", $L$2, $A54, $Q$2,$P$2,,$N$2,$O$2)=\"\",NA(),RTD(\"cqg.rtd\",,\"StudyData\", $M$2, \"Bar\", \"\", \"High\", $L$2, $A54, $Q$2,$P$2,,$N$2,$O$2))","v":1845.75},{"$f":" IF(RTD(\"cqg.rtd\",,\"StudyData\", $M$2, \"Bar\", \"\", \"Low\", $L$2, $A54, $Q$2,$P$2,,$N$2,$O$2)=\"\",NA(),RTD(\"cqg.rtd\",,\"StudyData\", $M$2, \"Bar\", \"\", \"Low\", $L$2, $A54, $Q$2,$P$2,,$N$2,$O$2))","v":1840},{"$f":" IF(RTD(\"cqg.rtd\",,\"StudyData\", $M$2, \"Bar\", \"\", \"Close\", $L$2, $A54, $Q$2,$P$2,,$N$2,$O$2)=\"\",NA(),RTD(\"cqg.rtd\",,\"StudyData\", $M$2, \"Bar\", \"\", \"Close\", $L$2, $A54, $Q$2,$P$2,,$N$2,$O$2))","v":1841.25},null,null,null,null,null,null,null,null,null,null,null,null,null,{"$f":"RTD(\"cqg.rtd\",,\"StudyData\",$U$1&\"^.\"&$T$1&\"(\"&$M$2&\")\",\"Bar\",\"\",\"Close\",$L$2,A54,\"all\",\"\",\"\",\"True\")","v":-12810}]
[-53,{"$f":" RTD(\"cqg.rtd\",,\"StudyData\", $M$2, \"Bar\", \"\", \"Time\", $L$2,$A55, $Q$2, \"\", \"\",\"False\")","v":"2016-02-12T08:25:00"},{"$f":" IF(RTD(\"cqg.rtd\",,\"StudyData\", $M$2, \"Bar\", \"\", \"Time\", $L$2, $A55,$Q$2,$P$2, \"\",\"False\")=\"\",NA(),RTD(\"cqg.rtd\",,\"StudyData\", $M$2, \"Bar\", \"\", \"Time\", $L$2, $A55,$Q$2,$P$2, \"\",\"False\"))","v":42412.350694444445},{"$f":" IF(RTD(\"cqg.rtd\",,\"StudyData\", $M$2, \"Bar\", \"\", \"Open\", $L$2, $A55, $Q$2,$P$2,,$N$2,$O$2)=\"\",NA(),RTD(\"cqg.rtd\",,\"StudyData\", $M$2, \"Bar\", \"\", \"Open\", $L$2, $A55, $Q$2,$P$2,,$N$2,$O$2))","v":1845},{"$f":" IF(RTD(\"cqg.rtd\",,\"StudyData\", $M$2, \"Bar\", \"\", \"High\", $L$2, $A55, $Q$2,$P$2,,$N$2,$O$2)=\"\",NA(),RTD(\"cqg.rtd\",,\"StudyData\", $M$2, \"Bar\", \"\", \"High\", $L$2, $A55, $Q$2,$P$2,,$N$2,$O$2))","v":1845},{"$f":" IF(RTD(\"cqg.rtd\",,\"StudyData\", $M$2, \"Bar\", \"\", \"Low\", $L$2, $A55, $Q$2,$P$2,,$N$2,$O$2)=\"\",NA(),RTD(\"cqg.rtd\",,\"StudyData\", $M$2, \"Bar\", \"\", \"Low\", $L$2, $A55, $Q$2,$P$2,,$N$2,$O$2))","v":1843.25},{"$f":" IF(RTD(\"cqg.rtd\",,\"StudyData\", $M$2, \"Bar\", \"\", \"Close\", $L$2, $A55, $Q$2,$P$2,,$N$2,$O$2)=\"\",NA(),RTD(\"cqg.rtd\",,\"StudyData\", $M$2, \"Bar\", \"\", \"Close\", $L$2, $A55, $Q$2,$P$2,,$N$2,$O$2))","v":1843.75},null,null,null,null,null,null,null,null,null,null,null,null,null,{"$f":"RTD(\"cqg.rtd\",,\"StudyData\",$U$1&\"^.\"&$T$1&\"(\"&$M$2&\")\",\"Bar\",\"\",\"Close\",$L$2,A55,\"all\",\"\",\"\",\"True\")","v":-11935}]
[-54,{"$f":" RTD(\"cqg.rtd\",,\"StudyData\", $M$2, \"Bar\", \"\", \"Time\", $L$2,$A56, $Q$2, \"\", \"\",\"False\")","v":"2016-02-12T08:20:00"},{"$f":" IF(RTD(\"cqg.rtd\",,\"StudyData\", $M$2, \"Bar\", \"\", \"Time\", $L$2, $A56,$Q$2,$P$2, \"\",\"False\")=\"\",NA(),RTD(\"cqg.rtd\",,\"StudyData\", $M$2, \"Bar\", \"\", \"Time\", $L$2, $A56,$Q$2,$P$2, \"\",\"False\"))","v":42412.347222222219},{"$f":" IF(RTD(\"cqg.rtd\",,\"StudyData\", $M$2, \"Bar\", \"\", \"Open\", $L$2, $A56, $Q$2,$P$2,,$N$2,$O$2)=\"\",NA(),RTD(\"cqg.rtd\",,\"StudyData\", $M$2, \"Bar\", \"\", \"Open\", $L$2, $A56, $Q$2,$P$2,,$N$2,$O$2))","v":1843.5},{"$f":" IF(RTD(\"cqg.rtd\",,\"StudyData\", $M$2, \"Bar\", \"\", \"High\", $L$2, $A56, $Q$2,$P$2,,$N$2,$O$2)=\"\",NA(),RTD(\"cqg.rtd\",,\"StudyData\", $M$2, \"Bar\", \"\", \"High\", $L$2, $A56, $Q$2,$P$2,,$N$2,$O$2))","v":1845.25},{"$f":" IF(RTD(\"cqg.rtd\",,\"StudyData\", $M$2, \"Bar\", \"\", \"Low\", $L$2, $A56, $Q$2,$P$2,,$N$2,$O$2)=\"\",NA(),RTD(\"cqg.rtd\",,\"StudyData\", $M$2, \"Bar\", \"\", \"Low\", $L$2, $A56, $Q$2,$P$2,,$N$2,$O$2))","v":1842.5},{"$f":" IF(RTD(\"cqg.rtd\",,\"StudyData\", $M$2, \"Bar\", \"\", \"Close\", $L$2, $A56, $Q$2,$P$2,,$N$2,$O$2)=\"\",NA(),RTD(\"cqg.rtd\",,\"StudyData\", $M$2, \"Bar\", \"\", \"Close\", $L$2, $A56, $Q$2,$P$2,,$N$2,$O$2))","v":1845},null,null,null,null,null,null,null,null,null,null,null,null,null,{"$f":"RTD(\"cqg.rtd\",,\"StudyData\",$U$1&\"^.\"&$T$1&\"(\"&$M$2&\")\",\"Bar\",\"\",\"Close\",$L$2,A56,\"all\",\"\",\"\",\"True\")","v":-11497.5}]
[-55,{"$f":" RTD(\"cqg.rtd\",,\"StudyData\", $M$2, \"Bar\", \"\", \"Time\", $L$2,$A57, $Q$2, \"\", \"\",\"False\")","v":"2016-02-12T08:15:00"},{"$f":" IF(RTD(\"cqg.rtd\",,\"StudyData\", $M$2, \"Bar\", \"\", \"Time\", $L$2, $A57,$Q$2,$P$2, \"\",\"False\")=\"\",NA(),RTD(\"cqg.rtd\",,\"StudyData\", $M$2, \"Bar\", \"\", \"Time\", $L$2, $A57,$Q$2,$P$2, \"\",\"False\"))","v":42412.34375},{"$f":" IF(RTD(\"cqg.rtd\",,\"StudyData\", $M$2, \"Bar\", \"\", \"Open\", $L$2, $A57, $Q$2,$P$2,,$N$2,$O$2)=\"\",NA(),RTD(\"cqg.rtd\",,\"StudyData\", $M$2, \"Bar\", \"\", \"Open\", $L$2, $A57, $Q$2,$P$2,,$N$2,$O$2))","v":1842.5},{"$f":" IF(RTD(\"cqg.rtd\",,\"StudyData\", $M$2, \"Bar\", \"\", \"High\", $L$2, $A57, $Q$2,$P$2,,$N$2,$O$2)=\"\",NA(),RTD(\"cqg.rtd\",,\"StudyData\", $M$2, \"Bar\", \"\", \"High\", $L$2, $A57, $Q$2,$P$2,,$N$2,$O$2))","v":1844.75},{"$f":" IF(RTD(\"cqg.rtd\",,\"StudyData\", $M$2, \"Bar\", \"\", \"Low\", $L$2, $A57, $Q$2,$P$2,,$N$2,$O$2)=\"\",NA(),RTD(\"cqg.rtd\",,\"StudyData\", $M$2, \"Bar\", \"\", \"Low\", $L$2, $A57, $Q$2,$P$2,,$N$2,$O$2))","v":1842},{"$f":" IF(RTD(\"cqg.rtd\",,\"StudyData\", $M$2, \"Bar\", \"\", \"Close\", $L$2, $A57, $Q$2,$P$2,,$N$2,$O$2)=\"\",NA(),RTD(\"cqg.rtd\",,\"StudyData\", $M$2, \"Bar\", \"\", \"Close\", $L$2, $A57, $Q$2,$P$2,,$N$2,$O$2))","v":1843.5},null,null,null,null,null,null,null,null,null,null,null,null,null,{"$f":"RTD(\"cqg.rtd\",,\"StudyData\",$U$1&\"^.\"&$T$1&\"(\"&$M$2&\")\",\"Bar\",\"\",\"Close\",$L$2,A57,\"all\",\"\",\"\",\"True\")","v":-12022.5}]
[-56,{"$f":" RTD(\"cqg.rtd\",,\"StudyData\", $M$2, \"Bar\", \"\", \"Time\", $L$2,$A58, $Q$2, \"\", \"\",\"False\")","v":"2016-02-12T08:10:00"},{"$f":" IF(RTD(\"cqg.rtd\",,\"StudyData\", $M$2, \"Bar\", \"\", \"Time\", $L$2, $A58,$Q$2,$P$2, \"\",\"False\")=\"\",NA(),RTD(\"cqg.rtd\",,\"StudyData\", $M$2, \"Bar\", \"\", \"Time\", $L$2, $A58,$Q$2,$P$2, \"\",\"False\"))","v":42412.340277777781},{"$f":" IF(RTD(\"cqg.rtd\",,\"StudyData\", $M$2, \"Bar\", \"\", \"Open\", $L$2, $A58, $Q$2,$P$2,,$N$2,$O$2)=\"\",NA(),RTD(\"cqg.rtd\",,\"StudyData\", $M$2, \"Bar\", \"\", \"Open\", $L$2, $A58, $Q$2,$P$2,,$N$2,$O$2))","v":1841.25},{"$f":" IF(RTD(\"cqg.rtd\",,\"StudyData\", $M$2, \"Bar\", \"\", \"High\", $L$2, $A58, $Q$2,$P$2,,$N$2,$O$2)=\"\",NA(),RTD(\"cqg.rtd\",,\"StudyData\", $M$2, \"Bar\", \"\", \"High\", $L$2, $A58, $Q$2,$P$2,,$N$2,$O$2))","v":1842.5},{"$f":" IF(RTD(\"cqg.rtd\",,\"StudyData\", $M$2, \"Bar\", \"\", \"Low\", $L$2, $A58, $Q$2,$P$2,,$N$2,$O$2)=\"\",NA(),RTD(\"cqg.rtd\",,\"StudyData\", $M$2, \"Bar\", \"\", \"Low\", $L$2, $A58, $Q$2,$P$2,,$N$2,$O$2))","v":1841},{"$f":" IF(RTD(\"cqg.rtd\",,\"StudyData\", $M$2, \"Bar\", \"\", \"Close\", $L$2, $A58, $Q$2,$P$2,,$N$2,$O$2)=\"\",NA(),RTD(\"cqg.rtd\",,\"StudyData\", $M$2, \"Bar\", \"\", \"Close\", $L$2, $A58, $Q$2,$P$2,,$N$2,$O$2))","v":1842.5},null,null,null,null,null,null,null,null,null,null,null,null,null,{"$f":"RTD(\"cqg.rtd\",,\"StudyData\",$U$1&\"^.\"&$T$1&\"(\"&$M$2&\")\",\"Bar\",\"\",\"Close\",$L$2,A58,\"all\",\"\",\"\",\"True\")","v":-12372.5}]
[-57,{"$f":" RTD(\"cqg.rtd\",,\"StudyData\", $M$2, \"Bar\", \"\", \"Time\", $L$2,$A59, $Q$2, \"\", \"\",\"False\")","v":"2016-02-12T08:05:00"},{"$f":" IF(RTD(\"cqg.rtd\",,\"StudyData\", $M$2, \"Bar\", \"\", \"Time\", $L$2, $A59,$Q$2,$P$2, \"\",\"False\")=\"\",NA(),RTD(\"cqg.rtd\",,\"StudyData\", $M$2, \"Bar\", \"\", \"Time\", $L$2, $A59,$Q$2,$P$2, \"\",\"False\"))","v":42412.336805555555},{"$f":" IF(RTD(\"cqg.rtd\",,\"StudyData\", $M$2, \"Bar\", \"\", \"Open\", $L$2, $A59, $Q$2,$P$2,,$N$2,$O$2)=\"\",NA(),RTD(\"cqg.rtd\",,\"StudyData\", $M$2, \"Bar\", \"\", \"Open\", $L$2, $A59, $Q$2,$P$2,,$N$2,$O$2))","v":1843.25},{"$f":" IF(RTD(\"cqg.rtd\",,\"StudyData\", $M$2, \"Bar\", \"\", \"High\", $L$2, $A59, $Q$2,$P$2,,$N$2,$O$2)=\"\",NA(),RTD(\"cqg.rtd\",,\"StudyData\", $M$2, \"Bar\", \"\", \"High\", $L$2, $A59, $Q$2,$P$2,,$N$2,$O$2))","v":1843.5},{"$f":" IF(RTD(\"cqg.rtd\",,\"StudyData\", $M$2, \"Bar\", \"\", \"Low\", $L$2, $A59, $Q$2,$P$2,,$N$2,$O$2)=\"\",NA(),RTD(\"cqg.rtd\",,\"StudyData\", $M$2, \"Bar\", \"\", \"Low\", $L$2, $A59, $Q$2,$P$2,,$N$2,$O$2))","v":1840.5},{"$f":" IF(RTD(\"cqg.rtd\",,\"StudyData\", $M$2, \"Bar\", \"\", \"Close\", $L$2, $A59, $Q$2,$P$2,,$N$2,$O$2)=\"\",NA(),RTD(\"cqg.rtd\",,\"StudyData\", $M$2, \"Bar\", \"\", \"Close\", $L$2, $A59, $Q$2,$P$2,,$N$2,$O$2))","v":1841},null,null,null,null,null,null,null,null,null,null,null,null,null,{"$f":"RTD(\"cqg.rtd\",,\"StudyData\",$U$1&\"^.\"&$T$1&\"(\"&$M$2&\")\",\"Bar\",\"\",\"Close\",$L$2,A59,\"all\",\"\",\"\",\"True\")","v":-12897.5}]
[-58,{"$f":" RTD(\"cqg.rtd\",,\"StudyData\", $M$2, \"Bar\", \"\", \"Time\", $L$2,$A60, $Q$2, \"\", \"\",\"False\")","v":"2016-02-12T08:00:00"},{"$f":" IF(RTD(\"cqg.rtd\",,\"StudyData\", $M$2, \"Bar\", \"\", \"Time\", $L$2, $A60,$Q$2,$P$2, \"\",\"False\")=\"\",NA(),RTD(\"cqg.rtd\",,\"StudyData\", $M$2, \"Bar\", \"\", \"Time\", $L$2, $A60,$Q$2,$P$2, \"\",\"False\"))","v":42412.333333333336},{"$f":" IF(RTD(\"cqg.rtd\",,\"StudyData\", $M$2, \"Bar\", \"\", \"Open\", $L$2, $A60, $Q$2,$P$2,,$N$2,$O$2)=\"\",NA(),RTD(\"cqg.rtd\",,\"StudyData\", $M$2, \"Bar\", \"\", \"Open\", $L$2, $A60, $Q$2,$P$2,,$N$2,$O$2))","v":1844},{"$f":" IF(RTD(\"cqg.rtd\",,\"StudyData\", $M$2, \"Bar\", \"\", \"High\", $L$2, $A60, $Q$2,$P$2,,$N$2,$O$2)=\"\",NA(),RTD(\"cqg.rtd\",,\"StudyData\", $M$2, \"Bar\", \"\", \"High\", $L$2, $A60, $Q$2,$P$2,,$N$2,$O$2))","v":1845.5},{"$f":" IF(RTD(\"cqg.rtd\",,\"StudyData\", $M$2, \"Bar\", \"\", \"Low\", $L$2, $A60, $Q$2,$P$2,,$N$2,$O$2)=\"\",NA(),RTD(\"cqg.rtd\",,\"StudyData\", $M$2, \"Bar\", \"\", \"Low\", $L$2, $A60, $Q$2,$P$2,,$N$2,$O$2))","v":1842},{"$f":" IF(RTD(\"cqg.rtd\",,\"StudyData\", $M$2, \"Bar\", \"\", \"Close\", $L$2, $A60, $Q$2,$P$2,,$N$2,$O$2)=\"\",NA(),RTD(\"cqg.rtd\",,\"StudyData\", $M$2, \"Bar\", \"\", \"Close\", $L$2, $A60, $Q$2,$P$2,,$N$2,$O$2))","v":1843.25},null,null,null,null,null,null,null,null,null,null,null,null,null,{"$f":"RTD(\"cqg.rtd\",,\"StudyData\",$U$1&\"^.\"&$T$1&\"(\"&$M$2&\")\",\"Bar\",\"\",\"Close\",$L$2,A60,\"all\",\"\",\"\",\"True\")","v":-12110}]
[-59,{"$f":" RTD(\"cqg.rtd\",,\"StudyData\", $M$2, \"Bar\", \"\", \"Time\", $L$2,$A61, $Q$2, \"\", \"\",\"False\")","v":"2016-02-12T07:55:00"},{"$f":" IF(RTD(\"cqg.rtd\",,\"StudyData\", $M$2, \"Bar\", \"\", \"Time\", $L$2, $A61,$Q$2,$P$2, \"\",\"False\")=\"\",NA(),RTD(\"cqg.rtd\",,\"StudyData\", $M$2, \"Bar\", \"\", \"Time\", $L$2, $A61,$Q$2,$P$2, \"\",\"False\"))","v":42412.329861111109},{"$f":" IF(RTD(\"cqg.rtd\",,\"StudyData\", $M$2, \"Bar\", \"\", \"Open\", $L$2, $A61, $Q$2,$P$2,,$N$2,$O$2)=\"\",NA(),RTD(\"cqg.rtd\",,\"StudyData\", $M$2, \"Bar\", \"\", \"Open\", $L$2, $A61, $Q$2,$P$2,,$N$2,$O$2))","v":1846},{"$f":" IF(RTD(\"cqg.rtd\",,\"StudyData\", $M$2, \"Bar\", \"\", \"High\", $L$2, $A61, $Q$2,$P$2,,$N$2,$O$2)=\"\",NA(),RTD(\"cqg.rtd\",,\"StudyData\", $M$2, \"Bar\", \"\", \"High\", $L$2, $A61, $Q$2,$P$2,,$N$2,$O$2))","v":1846.25},{"$f":" IF(RTD(\"cqg.rtd\",,\"StudyData\", $M$2, \"Bar\", \"\", \"Low\", $L$2, $A61, $Q$2,$P$2,,$N$2,$O$2)=\"\",NA(),RTD(\"cqg.rtd\",,\"StudyData\", $M$2, \"Bar\", \"\", \"Low\", $L$2, $A61, $Q$2,$P$2,,$N$2,$O$2))","v":1844},{"$f":" IF(RTD(\"cqg.rtd\",,\"StudyData\", $M$2, \"Bar\", \"\", \"Close\", $L$2, $A61, $Q$2,$P$2,,$N$2,$O$2)=\"\",NA(),RTD(\"cqg.rtd\",,\"StudyData\", $M$2, \"Bar\", \"\", \"Close\", $L$2, $A61, $Q$2,$P$2,,$N$2,$O$2))","v":1844.25},null,null,null,null,null,null,null,null,null,null,null,null,null,{"$f":"RTD(\"cqg.rtd\",,\"StudyData\",$U$1&\"^.\"&$T$1&\"(\"&$M$2&\")\",\"Bar\",\"\",\"Close\",$L$2,A61,\"all\",\"\",\"\",\"True\")","v":-11760}]
[-60,{"$f":" RTD(\"cqg.rtd\",,\"StudyData\", $M$2, \"Bar\", \"\", \"Time\", $L$2,$A62, $Q$2, \"\", \"\",\"False\")","v":"2016-02-12T07:50:00"},{"$f":" IF(RTD(\"cqg.rtd\",,\"StudyData\", $M$2, \"Bar\", \"\", \"Time\", $L$2, $A62,$Q$2,$P$2, \"\",\"False\")=\"\",NA(),RTD(\"cqg.rtd\",,\"StudyData\", $M$2, \"Bar\", \"\", \"Time\", $L$2, $A62,$Q$2,$P$2, \"\",\"False\"))","v":42412.326388888891},{"$f":" IF(RTD(\"cqg.rtd\",,\"StudyData\", $M$2, \"Bar\", \"\", \"Open\", $L$2, $A62, $Q$2,$P$2,,$N$2,$O$2)=\"\",NA(),RTD(\"cqg.rtd\",,\"StudyData\", $M$2, \"Bar\", \"\", \"Open\", $L$2, $A62, $Q$2,$P$2,,$N$2,$O$2))","v":1846.25},{"$f":" IF(RTD(\"cqg.rtd\",,\"StudyData\", $M$2, \"Bar\", \"\", \"High\", $L$2, $A62, $Q$2,$P$2,,$N$2,$O$2)=\"\",NA(),RTD(\"cqg.rtd\",,\"StudyData\", $M$2, \"Bar\", \"\", \"High\", $L$2, $A62, $Q$2,$P$2,,$N$2,$O$2))","v":1847},{"$f":" IF(RTD(\"cqg.rtd\",,\"StudyData\", $M$2, \"Bar\", \"\", \"Low\", $L$2, $A62, $Q$2,$P$2,,$N$2,$O$2)=\"\",NA(),RTD(\"cqg.rtd\",,\"StudyData\", $M$2, \"Bar\", \"\", \"Low\", $L$2, $A62, $Q$2,$P$2,,$N$2,$O$2))","v":1845.25},{"$f":" IF(RTD(\"cqg.rtd\",,\"StudyData\", $M$2, \"Bar\", \"\", \"Close\", $L$2, $A62, $Q$2,$P$2,,$N$2,$O$2)=\"\",NA(),RTD(\"cqg.rtd\",,\"StudyData\", $M$2, \"Bar\", \"\", \"Close\", $L$2, $A62, $Q$2,$P$2,,$N$2,$O$2))","v":1846},null,null,null,null,null,null,null,null,null,null,null,null,null,{"$f":"RTD(\"cqg.rtd\",,\"StudyData\",$U$1&\"^.\"&$T$1&\"(\"&$M$2&\")\",\"Bar\",\"\",\"Close\",$L$2,A62,\"all\",\"\",\"\",\"True\")","v":-11077.5}]
[-61,{"$f":" RTD(\"cqg.rtd\",,\"StudyData\", $M$2, \"Bar\", \"\", \"Time\", $L$2,$A63, $Q$2, \"\", \"\",\"False\")","v":"2016-02-12T07:45:00"},{"$f":" IF(RTD(\"cqg.rtd\",,\"StudyData\", $M$2, \"Bar\", \"\", \"Time\", $L$2, $A63,$Q$2,$P$2, \"\",\"False\")=\"\",NA(),RTD(\"cqg.rtd\",,\"StudyData\", $M$2, \"Bar\", \"\", \"Time\", $L$2, $A63,$Q$2,$P$2, \"\",\"False\"))","v":42412.322916666664},{"$f":" IF(RTD(\"cqg.rtd\",,\"StudyData\", $M$2, \"Bar\", \"\", \"Open\", $L$2, $A63, $Q$2,$P$2,,$N$2,$O$2)=\"\",NA(),RTD(\"cqg.rtd\",,\"StudyData\", $M$2, \"Bar\", \"\", \"Open\", $L$2, $A63, $Q$2,$P$2,,$N$2,$O$2))","v":1845.75},{"$f":" IF(RTD(\"cqg.rtd\",,\"StudyData\", $M$2, \"Bar\", \"\", \"High\", $L$2, $A63, $Q$2,$P$2,,$N$2,$O$2)=\"\",NA(),RTD(\"cqg.rtd\",,\"StudyData\", $M$2, \"Bar\", \"\", \"High\", $L$2, $A63, $Q$2,$P$2,,$N$2,$O$2))","v":1846.75},{"$f":" IF(RTD(\"cqg.rtd\",,\"StudyData\", $M$2, \"Bar\", \"\", \"Low\", $L$2, $A63, $Q$2,$P$2,,$N$2,$O$2)=\"\",NA(),RTD(\"cqg.rtd\",,\"StudyData\", $M$2, \"Bar\", \"\", \"Low\", $L$2, $A63, $Q$2,$P$2,,$N$2,$O$2))","v":1845.25},{"$f":" IF(RTD(\"cqg.rtd\",,\"StudyData\", $M$2, \"Bar\", \"\", \"Close\", $L$2, $A63, $Q$2,$P$2,,$N$2,$O$2)=\"\",NA(),RTD(\"cqg.rtd\",,\"StudyData\", $M$2, \"Bar\", \"\", \"Close\", $L$2, $A63, $Q$2,$P$2,,$N$2,$O$2))","v":1846},null,null,null,null,null,null,null,null,null,null,null,null,null,{"$f":"RTD(\"cqg.rtd\",,\"StudyData\",$U$1&\"^.\"&$T$1&\"(\"&$M$2&\")\",\"Bar\",\"\",\"Close\",$L$2,A63,\"all\",\"\",\"\",\"True\")","v":-11077.5}]
[-62,{"$f":" RTD(\"cqg.rtd\",,\"StudyData\", $M$2, \"Bar\", \"\", \"Time\", $L$2,$A64, $Q$2, \"\", \"\",\"False\")","v":"2016-02-12T07:40:00"},{"$f":" IF(RTD(\"cqg.rtd\",,\"StudyData\", $M$2, \"Bar\", \"\", \"Time\", $L$2, $A64,$Q$2,$P$2, \"\",\"False\")=\"\",NA(),RTD(\"cqg.rtd\",,\"StudyData\", $M$2, \"Bar\", \"\", \"Time\", $L$2, $A64,$Q$2,$P$2, \"\",\"False\"))","v":42412.319444444445},{"$f":" IF(RTD(\"cqg.rtd\",,\"StudyData\", $M$2, \"Bar\", \"\", \"Open\", $L$2, $A64, $Q$2,$P$2,,$N$2,$O$2)=\"\",NA(),RTD(\"cqg.rtd\",,\"StudyData\", $M$2, \"Bar\", \"\", \"Open\", $L$2, $A64, $Q$2,$P$2,,$N$2,$O$2))","v":1846.5},{"$f":" IF(RTD(\"cqg.rtd\",,\"StudyData\", $M$2, \"Bar\", \"\", \"High\", $L$2, $A64, $Q$2,$P$2,,$N$2,$O$2)=\"\",NA(),RTD(\"cqg.rtd\",,\"StudyData\", $M$2, \"Bar\", \"\", \"High\", $L$2, $A64, $Q$2,$P$2,,$N$2,$O$2))","v":1847.75},{"$f":" IF(RTD(\"cqg.rtd\",,\"StudyData\", $M$2, \"Bar\", \"\", \"Low\", $L$2, $A64, $Q$2,$P$2,,$N$2,$O$2)=\"\",NA(),RTD(\"cqg.rtd\",,\"StudyData\", $M$2, \"Bar\", \"\", \"Low\", $L$2, $A64, $Q$2,$P$2,,$N$2,$O$2))","v":1845.75},{"$f":" IF(RTD(\"cqg.rtd\",,\"StudyData\", $M$2, \"Bar\", \"\", \"Close\", $L$2, $A64, $Q$2,$P$2,,$N$2,$O$2)=\"\",NA(),RTD(\"cqg.rtd\",,\"StudyData\", $M$2, \"Bar\", \"\", \"Close\", $L$2, $A64, $Q$2,$P$2,,$N$2,$O$2))","v":1846},null,null,null,null,null,null,null,null,null,null,null,null,null,{"$f":"RTD(\"cqg.rtd\",,\"StudyData\",$U$1&\"^.\"&$T$1&\"(\"&$M$2&\")\",\"Bar\",\"\",\"Close\",$L$2,A64,\"all\",\"\",\"\",\"True\")","v":-11077.5}]
[-63,{"$f":" RTD(\"cqg.rtd\",,\"StudyData\", $M$2, \"Bar\", \"\", \"Time\", $L$2,$A65, $Q$2, \"\", \"\",\"False\")","v":"2016-02-12T07:35:00"},{"$f":" IF(RTD(\"cqg.rtd\",,\"StudyData\", $M$2, \"Bar\", \"\", \"Time\", $L$2, $A65,$Q$2,$P$2, \"\",\"False\")=\"\",NA(),RTD(\"cqg.rtd\",,\"StudyData\", $M$2, \"Bar\", \"\", \"Time\", $L$2, $A65,$Q$2,$P$2, \"\",\"False\"))","v":42412.315972222219},{"$f":" IF(RTD(\"cqg.rtd\",,\"StudyData\", $M$2, \"Bar\", \"\", \"Open\", $L$2, $A65, $Q$2,$P$2,,$N$2,$O$2)=\"\",NA(),RTD(\"cqg.rtd\",,\"StudyData\", $M$2, \"Bar\", \"\", \"Open\", $L$2, $A65, $Q$2,$P$2,,$N$2,$O$2))","v":1847.75},{"$f":" IF(RTD(\"cqg.rtd\",,\"StudyData\", $M$2, \"Bar\", \"\", \"High\", $L$2, $A65, $Q$2,$P$2,,$N$2,$O$2)=\"\",NA(),RTD(\"cqg.rtd\",,\"StudyData\", $M$2, \"Bar\", \"\", \"High\", $L$2, $A65, $Q$2,$P$2,,$N$2,$O$2))","v":1848.5},{"$f":" IF(RTD(\"cqg.rtd\",,\"StudyData\", $M$2, \"Bar\", \"\", \"Low\", $L$2, $A65, $Q$2,$P$2,,$N$2,$O$2)=\"\",NA(),RTD(\"cqg.rtd\",,\"StudyData\", $M$2, \"Bar\", \"\", \"Low\", $L$2, $A65, $Q$2,$P$2,,$N$2,$O$2))","v":1846.25},{"$f":" IF(RTD(\"cqg.rtd\",,\"StudyData\", $M$2, \"Bar\", \"\", \"Close\", $L$2, $A65, $Q$2,$P$2,,$N$2,$O$2)=\"\",NA(),RTD(\"cqg.rtd\",,\"StudyData\", $M$2, \"Bar\", \"\", \"Close\", $L$2, $A65, $Q$2,$P$2,,$N$2,$O$2))","v":1846.5},null,null,null,null,null,null,null,null,null,null,null,null,null,{"$f":"RTD(\"cqg.rtd\",,\"StudyData\",$U$1&\"^.\"&$T$1&\"(\"&$M$2&\")\",\"Bar\",\"\",\"Close\",$L$2,A65,\"all\",\"\",\"\",\"True\")","v":-11252.5}]
[-64,{"$f":" RTD(\"cqg.rtd\",,\"StudyData\", $M$2, \"Bar\", \"\", \"Time\", $L$2,$A66, $Q$2, \"\", \"\",\"False\")","v":"2016-02-12T07:30:00"},{"$f":" IF(RTD(\"cqg.rtd\",,\"StudyData\", $M$2, \"Bar\", \"\", \"Time\", $L$2, $A66,$Q$2,$P$2, \"\",\"False\")=\"\",NA(),RTD(\"cqg.rtd\",,\"StudyData\", $M$2, \"Bar\", \"\", \"Time\", $L$2, $A66,$Q$2,$P$2, \"\",\"False\"))","v":42412.3125},{"$f":" IF(RTD(\"cqg.rtd\",,\"StudyData\", $M$2, \"Bar\", \"\", \"Open\", $L$2, $A66, $Q$2,$P$2,,$N$2,$O$2)=\"\",NA(),RTD(\"cqg.rtd\",,\"StudyData\", $M$2, \"Bar\", \"\", \"Open\", $L$2, $A66, $Q$2,$P$2,,$N$2,$O$2))","v":1840.5},{"$f":" IF(RTD(\"cqg.rtd\",,\"StudyData\", $M$2, \"Bar\", \"\", \"High\", $L$2, $A66, $Q$2,$P$2,,$N$2,$O$2)=\"\",NA(),RTD(\"cqg.rtd\",,\"StudyData\", $M$2, \"Bar\", \"\", \"High\", $L$2, $A66, $Q$2,$P$2,,$N$2,$O$2))","v":1848.25},{"$f":" IF(RTD(\"cqg.rtd\",,\"StudyData\", $M$2, \"Bar\", \"\", \"Low\", $L$2, $A66, $Q$2,$P$2,,$N$2,$O$2)=\"\",NA(),RTD(\"cqg.rtd\",,\"StudyData\", $M$2, \"Bar\", \"\", \"Low\", $L$2, $A66, $Q$2,$P$2,,$N$2,$O$2))","v":1840.5},{"$f":" IF(RTD(\"cqg.rtd\",,\"StudyData\", $M$2, \"Bar\", \"\", \"Close\", $L$2, $A66, $Q$2,$P$2,,$N$2,$O$2)=\"\",NA(),RTD(\"cqg.rtd\",,\"StudyData\", $M$2, \"Bar\", \"\", \"Close\", $L$2, $A66, $Q$2,$P$2,,$N$2,$O$2))","v":1847.75},null,null,null,null,null,null,null,null,null,null,null,null,null,{"$f":"RTD(\"cqg.rtd\",,\"StudyData\",$U$1&\"^.\"&$T$1&\"(\"&$M$2&\")\",\"Bar\",\"\",\"Close\",$L$2,A66,\"all\",\"\",\"\",\"True\")","v":-11690}]
[-65,{"$f":" RTD(\"cqg.rtd\",,\"StudyData\", $M$2, \"Bar\", \"\", \"Time\", $L$2,$A67, $Q$2, \"\", \"\",\"False\")","v":"2016-02-12T07:25:00"},{"$f":" IF(RTD(\"cqg.rtd\",,\"StudyData\", $M$2, \"Bar\", \"\", \"Time\", $L$2, $A67,$Q$2,$P$2, \"\",\"False\")=\"\",NA(),RTD(\"cqg.rtd\",,\"StudyData\", $M$2, \"Bar\", \"\", \"Time\", $L$2, $A67,$Q$2,$P$2, \"\",\"False\"))","v":42412.309027777781},{"$f":" IF(RTD(\"cqg.rtd\",,\"StudyData\", $M$2, \"Bar\", \"\", \"Open\", $L$2, $A67, $Q$2,$P$2,,$N$2,$O$2)=\"\",NA(),RTD(\"cqg.rtd\",,\"StudyData\", $M$2, \"Bar\", \"\", \"Open\", $L$2, $A67, $Q$2,$P$2,,$N$2,$O$2))","v":1840},{"$f":" IF(RTD(\"cqg.rtd\",,\"StudyData\", $M$2, \"Bar\", \"\", \"High\", $L$2, $A67, $Q$2,$P$2,,$N$2,$O$2)=\"\",NA(),RTD(\"cqg.rtd\",,\"StudyData\", $M$2, \"Bar\", \"\", \"High\", $L$2, $A67, $Q$2,$P$2,,$N$2,$O$2))","v":1841.25},{"$f":" IF(RTD(\"cqg.rtd\",,\"StudyData\", $M$2, \"Bar\", \"\", \"Low\", $L$2, $A67, $Q$2,$P$2,,$N$2,$O$2)=\"\",NA(),RTD(\"cqg.rtd\",,\"StudyData\", $M$2, \"Bar\", \"\", \"Low\", $L$2, $A67, $Q$2,$P$2,,$N$2,$O$2))","v":1839.25},{"$f":" IF(RTD(\"cqg.rtd\",,\"StudyData\", $M$2, \"Bar\", \"\", \"Close\", $L$2, $A67, $Q$2,$P$2,,$N$2,$O$2)=\"\",NA(),RTD(\"cqg.rtd\",,\"StudyData\", $M$2, \"Bar\", \"\", \"Close\", $L$2, $A67, $Q$2,$P$2,,$N$2,$O$2))","v":1840.75},null,null,null,null,null,null,null,null,null,null,null,null,null,{"$f":"RTD(\"cqg.rtd\",,\"StudyData\",$U$1&\"^.\"&$T$1&\"(\"&$M$2&\")\",\"Bar\",\"\",\"Close\",$L$2,A67,\"all\",\"\",\"\",\"True\")","v":-9240}]
[{"$f":"A67-1","v":-66},{"$f":" RTD(\"cqg.rtd\",,\"StudyData\", $M$2, \"Bar\", \"\", \"Time\", $L$2,$A68, $Q$2, \"\", \"\",\"False\")","v":"2016-02-12T07:20:00"},{"$f":" IF(RTD(\"cqg.rtd\",,\"StudyData\", $M$2, \"Bar\", \"\", \"Time\", $L$2, $A68,$Q$2,$P$2, \"\",\"False\")=\"\",NA(),RTD(\"cqg.rtd\",,\"StudyData\", $M$2, \"Bar\", \"\", \"Time\", $L$2, $A68,$Q$2,$P$2, \"\",\"False\"))","v":42412.305555555555},{"$f":" IF(RTD(\"cqg.rtd\",,\"StudyData\", $M$2, \"Bar\", \"\", \"Open\", $L$2, $A68, $Q$2,$P$2,,$N$2,$O$2)=\"\",NA(),RTD(\"cqg.rtd\",,\"StudyData\", $M$2, \"Bar\", \"\", \"Open\", $L$2, $A68, $Q$2,$P$2,,$N$2,$O$2))","v":1838},{"$f":" IF(RTD(\"cqg.rtd\",,\"StudyData\", $M$2, \"Bar\", \"\", \"High\", $L$2, $A68, $Q$2,$P$2,,$N$2,$O$2)=\"\",NA(),RTD(\"cqg.rtd\",,\"StudyData\", $M$2, \"Bar\", \"\", \"High\", $L$2, $A68, $Q$2,$P$2,,$N$2,$O$2))","v":1841},{"$f":" IF(RTD(\"cqg.rtd\",,\"StudyData\", $M$2, \"Bar\", \"\", \"Low\", $L$2, $A68, $Q$2,$P$2,,$N$2,$O$2)=\"\",NA(),RTD(\"cqg.rtd\",,\"StudyData\", $M$2, \"Bar\", \"\", \"Low\", $L$2, $A68, $Q$2,$P$2,,$N$2,$O$2))","v":1837.25},{"$f":" IF(RTD(\"cqg.rtd\",,\"StudyData\", $M$2, \"Bar\", \"\", \"Close\", $L$2, $A68, $Q$2,$P$2,,$N$2,$O$2)=\"\",NA(),RTD(\"cqg.rtd\",,\"StudyData\", $M$2, \"Bar\", \"\", \"Close\", $L$2, $A68, $Q$2,$P$2,,$N$2,$O$2))","v":1840},null,null,null,null,null,null,null,null,null,null,null,null,null,{"$f":"RTD(\"cqg.rtd\",,\"StudyData\",$U$1&\"^.\"&$T$1&\"(\"&$M$2&\")\",\"Bar\",\"\",\"Close\",$L$2,A68,\"all\",\"\",\"\",\"True\")","v":-8977.5}]
[-67,{"$f":" RTD(\"cqg.rtd\",,\"StudyData\", $M$2, \"Bar\", \"\", \"Time\", $L$2,$A69, $Q$2, \"\", \"\",\"False\")","v":"2016-02-12T07:15:00"},{"$f":" IF(RTD(\"cqg.rtd\",,\"StudyData\", $M$2, \"Bar\", \"\", \"Time\", $L$2, $A69,$Q$2,$P$2, \"\",\"False\")=\"\",NA(),RTD(\"cqg.rtd\",,\"StudyData\", $M$2, \"Bar\", \"\", \"Time\", $L$2, $A69,$Q$2,$P$2, \"\",\"False\"))","v":42412.302083333336},{"$f":" IF(RTD(\"cqg.rtd\",,\"StudyData\", $M$2, \"Bar\", \"\", \"Open\", $L$2, $A69, $Q$2,$P$2,,$N$2,$O$2)=\"\",NA(),RTD(\"cqg.rtd\",,\"StudyData\", $M$2, \"Bar\", \"\", \"Open\", $L$2, $A69, $Q$2,$P$2,,$N$2,$O$2))","v":1838},{"$f":" IF(RTD(\"cqg.rtd\",,\"StudyData\", $M$2, \"Bar\", \"\", \"High\", $L$2, $A69, $Q$2,$P$2,,$N$2,$O$2)=\"\",NA(),RTD(\"cqg.rtd\",,\"StudyData\", $M$2, \"Bar\", \"\", \"High\", $L$2, $A69, $Q$2,$P$2,,$N$2,$O$2))","v":1839.25},{"$f":" IF(RTD(\"cqg.rtd\",,\"StudyData\", $M$2, \"Bar\", \"\", \"Low\", $L$2, $A69, $Q$2,$P$2,,$N$2,$O$2)=\"\",NA(),RTD(\"cqg.rtd\",,\"StudyData\", $M$2, \"Bar\", \"\", \"Low\", $L$2, $A69, $Q$2,$P$2,,$N$2,$O$2))","v":1837.25},{"$f":" IF(RTD(\"cqg.rtd\",,\"StudyData\", $M$2, \"Bar\", \"\", \"Close\", $L$2, $A69, $Q$2,$P$2,,$N$2,$O$2)=\"\",NA(),RTD(\"cqg.rtd\",,\"StudyData\", $M$2, \"Bar\", \"\", \"Close\", $L$2, $A69, $Q$2,$P$2,,$N$2,$O$2))","v":1838.25},null,null,null,null,null,null,null,null,null,null,null,null,null,{"$f":"RTD(\"cqg.rtd\",,\"StudyData\",$U$1&\"^.\"&$T$1&\"(\"&$M$2&\")\",\"Bar\",\"\",\"Close\",$L$2,A69,\"all\",\"\",\"\",\"True\")","v":-8365}]
[-68,{"$f":" RTD(\"cqg.rtd\",,\"StudyData\", $M$2, \"Bar\", \"\", \"Time\", $L$2,$A70, $Q$2, \"\", \"\",\"False\")","v":"2016-02-12T07:10:00"},{"$f":" IF(RTD(\"cqg.rtd\",,\"StudyData\", $M$2, \"Bar\", \"\", \"Time\", $L$2, $A70,$Q$2,$P$2, \"\",\"False\")=\"\",NA(),RTD(\"cqg.rtd\",,\"StudyData\", $M$2, \"Bar\", \"\", \"Time\", $L$2, $A70,$Q$2,$P$2, \"\",\"False\"))","v":42412.298611111109},{"$f":" IF(RTD(\"cqg.rtd\",,\"StudyData\", $M$2, \"Bar\", \"\", \"Open\", $L$2, $A70, $Q$2,$P$2,,$N$2,$O$2)=\"\",NA(),RTD(\"cqg.rtd\",,\"StudyData\", $M$2, \"Bar\", \"\", \"Open\", $L$2, $A70, $Q$2,$P$2,,$N$2,$O$2))","v":1838.25},{"$f":" IF(RTD(\"cqg.rtd\",,\"StudyData\", $M$2, \"Bar\", \"\", \"High\", $L$2, $A70, $Q$2,$P$2,,$N$2,$O$2)=\"\",NA(),RTD(\"cqg.rtd\",,\"StudyData\", $M$2, \"Bar\", \"\", \"High\", $L$2, $A70, $Q$2,$P$2,,$N$2,$O$2))","v":1838.75},{"$f":" IF(RTD(\"cqg.rtd\",,\"StudyData\", $M$2, \"Bar\", \"\", \"Low\", $L$2, $A70, $Q$2,$P$2,,$N$2,$O$2)=\"\",NA(),RTD(\"cqg.rtd\",,\"StudyData\", $M$2, \"Bar\", \"\", \"Low\", $L$2, $A70, $Q$2,$P$2,,$N$2,$O$2))","v":1837.25},{"$f":" IF(RTD(\"cqg.rtd\",,\"StudyData\", $M$2, \"Bar\", \"\", \"Close\", $L$2, $A70, $Q$2,$P$2,,$N$2,$O$2)=\"\",NA(),RTD(\"cqg.rtd\",,\"StudyData\", $M$2, \"Bar\", \"\", \"Close\", $L$2, $A70, $Q$2,$P$2,,$N$2,$O$2))","v":1837.75},null,null,null,null,null,null,null,null,null,null,null,null,null,{"$f":"RTD(\"cqg.rtd\",,\"StudyData\",$U$1&\"^.\"&$T$1&\"(\"&$M$2&\")\",\"Bar\",\"\",\"Close\",$L$2,A70,\"all\",\"\",\"\",\"True\")","v":-8190}]
[-69,{"$f":" RTD(\"cqg.rtd\",,\"StudyData\", $M$2, \"Bar\", \"\", \"Time\", $L$2,$A71, $Q$2, \"\", \"\",\"False\")","v":"2016-02-12T07:05:00"},{"$f":" IF(RTD(\"cqg.rtd\",,\"StudyData\", $M$2, \"Bar\", \"\", \"Time\", $L$2, $A71,$Q$2,$P$2, \"\",\"False\")=\"\",NA(),RTD(\"cqg.rtd\",,\"StudyData\", $M$2, \"Bar\", \"\", \"Time\", $L$2, $A71,$Q$2,$P$2, \"\",\"False\"))","v":42412.295138888891},{"$f":" IF(RTD(\"cqg.rtd\",,\"StudyData\", $M$2, \"Bar\", \"\", \"Open\", $L$2, $A71, $Q$2,$P$2,,$N$2,$O$2)=\"\",NA(),RTD(\"cqg.rtd\",,\"StudyData\", $M$2, \"Bar\", \"\", \"Open\", $L$2, $A71, $Q$2,$P$2,,$N$2,$O$2))","v":1839.75},{"$f":" IF(RTD(\"cqg.rtd\",,\"StudyData\", $M$2, \"Bar\", \"\", \"High\", $L$2, $A71, $Q$2,$P$2,,$N$2,$O$2)=\"\",NA(),RTD(\"cqg.rtd\",,\"StudyData\", $M$2, \"Bar\", \"\", \"High\", $L$2, $A71, $Q$2,$P$2,,$N$2,$O$2))","v":1840.25},{"$f":" IF(RTD(\"cqg.rtd\",,\"StudyData\", $M$2, \"Bar\", \"\", \"Low\", $L$2, $A71, $Q$2,$P$2,,$N$2,$O$2)=\"\",NA(),RTD(\"cqg.rtd\",,\"StudyData\", $M$2, \"Bar\", \"\", \"Low\", $L$2, $A71, $Q$2,$P$2,,$N$2,$O$2))","v":1837.75},{"$f":" IF(RTD(\"cqg.rtd\",,\"StudyData\", $M$2, \"Bar\", \"\", \"Close\", $L$2, $A71, $Q$2,$P$2,,$N$2,$O$2)=\"\",NA(),RTD(\"cqg.rtd\",,\"StudyData\", $M$2, \"Bar\", \"\", \"Close\", $L$2, $A71, $Q$2,$P$2,,$N$2,$O$2))","v":1838.25},null,null,null,null,null,null,null,null,null,null,null,null,null,{"$f":"RTD(\"cqg.rtd\",,\"StudyData\",$U$1&\"^.\"&$T$1&\"(\"&$M$2&\")\",\"Bar\",\"\",\"Close\",$L$2,A71,\"all\",\"\",\"\",\"True\")","v":-8295}]
[-70,{"$f":" RTD(\"cqg.rtd\",,\"StudyData\", $M$2, \"Bar\", \"\", \"Time\", $L$2,$A72, $Q$2, \"\", \"\",\"False\")","v":"2016-02-12T07:00:00"},{"$f":" IF(RTD(\"cqg.rtd\",,\"StudyData\", $M$2, \"Bar\", \"\", \"Time\", $L$2, $A72,$Q$2,$P$2, \"\",\"False\")=\"\",NA(),RTD(\"cqg.rtd\",,\"StudyData\", $M$2, \"Bar\", \"\", \"Time\", $L$2, $A72,$Q$2,$P$2, \"\",\"False\"))","v":42412.291666666664},{"$f":" IF(RTD(\"cqg.rtd\",,\"StudyData\", $M$2, \"Bar\", \"\", \"Open\", $L$2, $A72, $Q$2,$P$2,,$N$2,$O$2)=\"\",NA(),RTD(\"cqg.rtd\",,\"StudyData\", $M$2, \"Bar\", \"\", \"Open\", $L$2, $A72, $Q$2,$P$2,,$N$2,$O$2))","v":1841.25},{"$f":" IF(RTD(\"cqg.rtd\",,\"StudyData\", $M$2, \"Bar\", \"\", \"High\", $L$2, $A72, $Q$2,$P$2,,$N$2,$O$2)=\"\",NA(),RTD(\"cqg.rtd\",,\"StudyData\", $M$2, \"Bar\", \"\", \"High\", $L$2, $A72, $Q$2,$P$2,,$N$2,$O$2))","v":1841.5},{"$f":" IF(RTD(\"cqg.rtd\",,\"StudyData\", $M$2, \"Bar\", \"\", \"Low\", $L$2, $A72, $Q$2,$P$2,,$N$2,$O$2)=\"\",NA(),RTD(\"cqg.rtd\",,\"StudyData\", $M$2, \"Bar\", \"\", \"Low\", $L$2, $A72, $Q$2,$P$2,,$N$2,$O$2))","v":1839.25},{"$f":" IF(RTD(\"cqg.rtd\",,\"StudyData\", $M$2, \"Bar\", \"\", \"Close\", $L$2, $A72, $Q$2,$P$2,,$N$2,$O$2)=\"\",NA(),RTD(\"cqg.rtd\",,\"StudyData\", $M$2, \"Bar\", \"\", \"Close\", $L$2, $A72, $Q$2,$P$2,,$N$2,$O$2))","v":1839.75},null,null,null,null,null,null,null,null,null,null,null,null,null,{"$f":"RTD(\"cqg.rtd\",,\"StudyData\",$U$1&\"^.\"&$T$1&\"(\"&$M$2&\")\",\"Bar\",\"\",\"Close\",$L$2,A72,\"all\",\"\",\"\",\"True\")","v":-7770}]
[-71,{"$f":" RTD(\"cqg.rtd\",,\"StudyData\", $M$2, \"Bar\", \"\", \"Time\", $L$2,$A73, $Q$2, \"\", \"\",\"False\")","v":"2016-02-12T06:55:00"},{"$f":" IF(RTD(\"cqg.rtd\",,\"StudyData\", $M$2, \"Bar\", \"\", \"Time\", $L$2, $A73,$Q$2,$P$2, \"\",\"False\")=\"\",NA(),RTD(\"cqg.rtd\",,\"StudyData\", $M$2, \"Bar\", \"\", \"Time\", $L$2, $A73,$Q$2,$P$2, \"\",\"False\"))","v":42412.288194444445},{"$f":" IF(RTD(\"cqg.rtd\",,\"StudyData\", $M$2, \"Bar\", \"\", \"Open\", $L$2, $A73, $Q$2,$P$2,,$N$2,$O$2)=\"\",NA(),RTD(\"cqg.rtd\",,\"StudyData\", $M$2, \"Bar\", \"\", \"Open\", $L$2, $A73, $Q$2,$P$2,,$N$2,$O$2))","v":1842},{"$f":" IF(RTD(\"cqg.rtd\",,\"StudyData\", $M$2, \"Bar\", \"\", \"High\", $L$2, $A73, $Q$2,$P$2,,$N$2,$O$2)=\"\",NA(),RTD(\"cqg.rtd\",,\"StudyData\", $M$2, \"Bar\", \"\", \"High\", $L$2, $A73, $Q$2,$P$2,,$N$2,$O$2))","v":1842.75},{"$f":" IF(RTD(\"cqg.rtd\",,\"StudyData\", $M$2, \"Bar\", \"\", \"Low\", $L$2, $A73, $Q$2,$P$2,,$N$2,$O$2)=\"\",NA(),RTD(\"cqg.rtd\",,\"StudyData\", $M$2, \"Bar\", \"\", \"Low\", $L$2, $A73, $Q$2,$P$2,,$N$2,$O$2))","v":1841},{"$f":" IF(RTD(\"cqg.rtd\",,\"StudyData\", $M$2, \"Bar\", \"\", \"Close\", $L$2, $A73, $Q$2,$P$2,,$N$2,$O$2)=\"\",NA(),RTD(\"cqg.rtd\",,\"StudyData\", $M$2, \"Bar\", \"\", \"Close\", $L$2, $A73, $Q$2,$P$2,,$N$2,$O$2))","v":1841.25},null,null,null,null,null,null,null,null,null,null,null,null,null,{"$f":"RTD(\"cqg.rtd\",,\"StudyData\",$U$1&\"^.\"&$T$1&\"(\"&$M$2&\")\",\"Bar\",\"\",\"Close\",$L$2,A73,\"all\",\"\",\"\",\"True\")","v":-7245}]
[-72,{"$f":" RTD(\"cqg.rtd\",,\"StudyData\", $M$2, \"Bar\", \"\", \"Time\", $L$2,$A74, $Q$2, \"\", \"\",\"False\")","v":"2016-02-12T06:50:00"},{"$f":" IF(RTD(\"cqg.rtd\",,\"StudyData\", $M$2, \"Bar\", \"\", \"Time\", $L$2, $A74,$Q$2,$P$2, \"\",\"False\")=\"\",NA(),RTD(\"cqg.rtd\",,\"StudyData\", $M$2, \"Bar\", \"\", \"Time\", $L$2, $A74,$Q$2,$P$2, \"\",\"False\"))","v":42412.284722222219},{"$f":" IF(RTD(\"cqg.rtd\",,\"StudyData\", $M$2, \"Bar\", \"\", \"Open\", $L$2, $A74, $Q$2,$P$2,,$N$2,$O$2)=\"\",NA(),RTD(\"cqg.rtd\",,\"StudyData\", $M$2, \"Bar\", \"\", \"Open\", $L$2, $A74, $Q$2,$P$2,,$N$2,$O$2))","v":1841.25},{"$f":" IF(RTD(\"cqg.rtd\",,\"StudyData\", $M$2, \"Bar\", \"\", \"High\", $L$2, $A74, $Q$2,$P$2,,$N$2,$O$2)=\"\",NA(),RTD(\"cqg.rtd\",,\"StudyData\", $M$2, \"Bar\", \"\", \"High\", $L$2, $A74, $Q$2,$P$2,,$N$2,$O$2))","v":1843.5},{"$f":" IF(RTD(\"cqg.rtd\",,\"StudyData\", $M$2, \"Bar\", \"\", \"Low\", $L$2, $A74, $Q$2,$P$2,,$N$2,$O$2)=\"\",NA(),RTD(\"cqg.rtd\",,\"StudyData\", $M$2, \"Bar\", \"\", \"Low\", $L$2, $A74, $Q$2,$P$2,,$N$2,$O$2))","v":1841},{"$f":" IF(RTD(\"cqg.rtd\",,\"StudyData\", $M$2, \"Bar\", \"\", \"Close\", $L$2, $A74, $Q$2,$P$2,,$N$2,$O$2)=\"\",NA(),RTD(\"cqg.rtd\",,\"StudyData\", $M$2, \"Bar\", \"\", \"Close\", $L$2, $A74, $Q$2,$P$2,,$N$2,$O$2))","v":1842},null,null,null,null,null,null,null,null,null,null,null,null,null,{"$f":"RTD(\"cqg.rtd\",,\"StudyData\",$U$1&\"^.\"&$T$1&\"(\"&$M$2&\")\",\"Bar\",\"\",\"Close\",$L$2,A74,\"all\",\"\",\"\",\"True\")","v":-6982.5}]
[-73,{"$f":" RTD(\"cqg.rtd\",,\"StudyData\", $M$2, \"Bar\", \"\", \"Time\", $L$2,$A75, $Q$2, \"\", \"\",\"False\")","v":"2016-02-12T06:45:00"},{"$f":" IF(RTD(\"cqg.rtd\",,\"StudyData\", $M$2, \"Bar\", \"\", \"Time\", $L$2, $A75,$Q$2,$P$2, \"\",\"False\")=\"\",NA(),RTD(\"cqg.rtd\",,\"StudyData\", $M$2, \"Bar\", \"\", \"Time\", $L$2, $A75,$Q$2,$P$2, \"\",\"False\"))","v":42412.28125},{"$f":" IF(RTD(\"cqg.rtd\",,\"StudyData\", $M$2, \"Bar\", \"\", \"Open\", $L$2, $A75, $Q$2,$P$2,,$N$2,$O$2)=\"\",NA(),RTD(\"cqg.rtd\",,\"StudyData\", $M$2, \"Bar\", \"\", \"Open\", $L$2, $A75, $Q$2,$P$2,,$N$2,$O$2))","v":1842.5},{"$f":" IF(RTD(\"cqg.rtd\",,\"StudyData\", $M$2, \"Bar\", \"\", \"High\", $L$2, $A75, $Q$2,$P$2,,$N$2,$O$2)=\"\",NA(),RTD(\"cqg.rtd\",,\"StudyData\", $M$2, \"Bar\", \"\", \"High\", $L$2, $A75, $Q$2,$P$2,,$N$2,$O$2))","v":1842.5},{"$f":" IF(RTD(\"cqg.rtd\",,\"StudyData\", $M$2, \"Bar\", \"\", \"Low\", $L$2, $A75, $Q$2,$P$2,,$N$2,$O$2)=\"\",NA(),RTD(\"cqg.rtd\",,\"StudyData\", $M$2, \"Bar\", \"\", \"Low\", $L$2, $A75, $Q$2,$P$2,,$N$2,$O$2))","v":1840.25},{"$f":" IF(RTD(\"cqg.rtd\",,\"StudyData\", $M$2, \"Bar\", \"\", \"Close\", $L$2, $A75, $Q$2,$P$2,,$N$2,$O$2)=\"\",NA(),RTD(\"cqg.rtd\",,\"StudyData\", $M$2, \"Bar\", \"\", \"Close\", $L$2, $A75, $Q$2,$P$2,,$N$2,$O$2))","v":1841.25},null,null,null,null,null,null,null,null,null,null,null,null,null,{"$f":"RTD(\"cqg.rtd\",,\"StudyData\",$U$1&\"^.\"&$T$1&\"(\"&$M$2&\")\",\"Bar\",\"\",\"Close\",$L$2,A75,\"all\",\"\",\"\",\"True\")","v":-7245}]
[-74,{"$f":" RTD(\"cqg.rtd\",,\"StudyData\", $M$2, \"Bar\", \"\", \"Time\", $L$2,$A76, $Q$2, \"\", \"\",\"False\")","v":"2016-02-12T06:40:00"},{"$f":" IF(RTD(\"cqg.rtd\",,\"StudyData\", $M$2, \"Bar\", \"\", \"Time\", $L$2, $A76,$Q$2,$P$2, \"\",\"False\")=\"\",NA(),RTD(\"cqg.rtd\",,\"StudyData\", $M$2, \"Bar\", \"\", \"Time\", $L$2, $A76,$Q$2,$P$2, \"\",\"False\"))","v":42412.277777777781},{"$f":" IF(RTD(\"cqg.rtd\",,\"StudyData\", $M$2, \"Bar\", \"\", \"Open\", $L$2, $A76, $Q$2,$P$2,,$N$2,$O$2)=\"\",NA(),RTD(\"cqg.rtd\",,\"StudyData\", $M$2, \"Bar\", \"\", \"Open\", $L$2, $A76, $Q$2,$P$2,,$N$2,$O$2))","v":1843},{"$f":" IF(RTD(\"cqg.rtd\",,\"StudyData\", $M$2, \"Bar\", \"\", \"High\", $L$2, $A76, $Q$2,$P$2,,$N$2,$O$2)=\"\",NA(),RTD(\"cqg.rtd\",,\"StudyData\", $M$2, \"Bar\", \"\", \"High\", $L$2, $A76, $Q$2,$P$2,,$N$2,$O$2))","v":1843.75},{"$f":" IF(RTD(\"cqg.rtd\",,\"StudyData\", $M$2, \"Bar\", \"\", \"Low\", $L$2, $A76, $Q$2,$P$2,,$N$2,$O$2)=\"\",NA(),RTD(\"cqg.rtd\",,\"StudyData\", $M$2, \"Bar\", \"\", \"Low\", $L$2, $A76, $Q$2,$P$2,,$N$2,$O$2))","v":1841.75},{"$f":" IF(RTD(\"cqg.rtd\",,\"StudyData\", $M$2, \"Bar\", \"\", \"Close\", $L$2, $A76, $Q$2,$P$2,,$N$2,$O$2)=\"\",NA(),RTD(\"cqg.rtd\",,\"StudyData\", $M$2, \"Bar\", \"\", \"Close\", $L$2, $A76, $Q$2,$P$2,,$N$2,$O$2))","v":1842.5},null,null,null,null,null,null,null,null,null,null,null,null,null,{"$f":"RTD(\"cqg.rtd\",,\"StudyData\",$U$1&\"^.\"&$T$1&\"(\"&$M$2&\")\",\"Bar\",\"\",\"Close\",$L$2,A76,\"all\",\"\",\"\",\"True\")","v":-6807.5}]
[-75,{"$f":" RTD(\"cqg.rtd\",,\"StudyData\", $M$2, \"Bar\", \"\", \"Time\", $L$2,$A77, $Q$2, \"\", \"\",\"False\")","v":"2016-02-12T06:35:00"},{"$f":" IF(RTD(\"cqg.rtd\",,\"StudyData\", $M$2, \"Bar\", \"\", \"Time\", $L$2, $A77,$Q$2,$P$2, \"\",\"False\")=\"\",NA(),RTD(\"cqg.rtd\",,\"StudyData\", $M$2, \"Bar\", \"\", \"Time\", $L$2, $A77,$Q$2,$P$2, \"\",\"False\"))","v":42412.274305555555},{"$f":" IF(RTD(\"cqg.rtd\",,\"StudyData\", $M$2, \"Bar\", \"\", \"Open\", $L$2, $A77, $Q$2,$P$2,,$N$2,$O$2)=\"\",NA(),RTD(\"cqg.rtd\",,\"StudyData\", $M$2, \"Bar\", \"\", \"Open\", $L$2, $A77, $Q$2,$P$2,,$N$2,$O$2))","v":1844.5},{"$f":" IF(RTD(\"cqg.rtd\",,\"StudyData\", $M$2, \"Bar\", \"\", \"High\", $L$2, $A77, $Q$2,$P$2,,$N$2,$O$2)=\"\",NA(),RTD(\"cqg.rtd\",,\"StudyData\", $M$2, \"Bar\", \"\", \"High\", $L$2, $A77, $Q$2,$P$2,,$N$2,$O$2))","v":1844.75},{"$f":" IF(RTD(\"cqg.rtd\",,\"StudyData\", $M$2, \"Bar\", \"\", \"Low\", $L$2, $A77, $Q$2,$P$2,,$N$2,$O$2)=\"\",NA(),RTD(\"cqg.rtd\",,\"StudyData\", $M$2, \"Bar\", \"\", \"Low\", $L$2, $A77, $Q$2,$P$2,,$N$2,$O$2))","v":1843},{"$f":" IF(RTD(\"cqg.rtd\",,\"StudyData\", $M$2, \"Bar\", \"\", \"Close\", $L$2, $A77, $Q$2,$P$2,,$N$2,$O$2)=\"\",NA(),RTD(\"cqg.rtd\",,\"StudyData\", $M$2, \"Bar\", \"\", \"Close\", $L$2, $A77, $Q$2,$P$2,,$N$2,$O$2))","v":1843},null,null,null,null,null,null,null,null,null,null,null,null,null,{"$f":"RTD(\"cqg.rtd\",,\"StudyData\",$U$1&\"^.\"&$T$1&\"(\"&$M$2&\")\",\"Bar\",\"\",\"Close\",$L$2,A77,\"all\",\"\",\"\",\"True\")","v":-6632.5}]
[-76,{"$f":" RTD(\"cqg.rtd\",,\"StudyData\", $M$2, \"Bar\", \"\", \"Time\", $L$2,$A78, $Q$2, \"\", \"\",\"False\")","v":"2016-02-12T06:30:00"},{"$f":" IF(RTD(\"cqg.rtd\",,\"StudyData\", $M$2, \"Bar\", \"\", \"Time\", $L$2, $A78,$Q$2,$P$2, \"\",\"False\")=\"\",NA(),RTD(\"cqg.rtd\",,\"StudyData\", $M$2, \"Bar\", \"\", \"Time\", $L$2, $A78,$Q$2,$P$2, \"\",\"False\"))","v":42412.270833333336},{"$f":" IF(RTD(\"cqg.rtd\",,\"StudyData\", $M$2, \"Bar\", \"\", \"Open\", $L$2, $A78, $Q$2,$P$2,,$N$2,$O$2)=\"\",NA(),RTD(\"cqg.rtd\",,\"StudyData\", $M$2, \"Bar\", \"\", \"Open\", $L$2, $A78, $Q$2,$P$2,,$N$2,$O$2))","v":1843.5},{"$f":" IF(RTD(\"cqg.rtd\",,\"StudyData\", $M$2, \"Bar\", \"\", \"High\", $L$2, $A78, $Q$2,$P$2,,$N$2,$O$2)=\"\",NA(),RTD(\"cqg.rtd\",,\"StudyData\", $M$2, \"Bar\", \"\", \"High\", $L$2, $A78, $Q$2,$P$2,,$N$2,$O$2))","v":1844.5},{"$f":" IF(RTD(\"cqg.rtd\",,\"StudyData\", $M$2, \"Bar\", \"\", \"Low\", $L$2, $A78, $Q$2,$P$2,,$N$2,$O$2)=\"\",NA(),RTD(\"cqg.rtd\",,\"StudyData\", $M$2, \"Bar\", \"\", \"Low\", $L$2, $A78, $Q$2,$P$2,,$N$2,$O$2))","v":1843.25},{"$f":" IF(RTD(\"cqg.rtd\",,\"StudyData\", $M$2, \"Bar\", \"\", \"Close\", $L$2, $A78, $Q$2,$P$2,,$N$2,$O$2)=\"\",NA(),RTD(\"cqg.rtd\",,\"StudyData\", $M$2, \"Bar\", \"\", \"Close\", $L$2, $A78, $Q$2,$P$2,,$N$2,$O$2))","v":1844.5},null,null,null,null,null,null,null,null,null,null,null,null,null,{"$f":"RTD(\"cqg.rtd\",,\"StudyData\",$U$1&\"^.\"&$T$1&\"(\"&$M$2&\")\",\"Bar\",\"\",\"Close\",$L$2,A78,\"all\",\"\",\"\",\"True\")","v":-6107.5}]
[-77,{"$f":" RTD(\"cqg.rtd\",,\"StudyData\", $M$2, \"Bar\", \"\", \"Time\", $L$2,$A79, $Q$2, \"\", \"\",\"False\")","v":"2016-02-12T06:25:00"},{"$f":" IF(RTD(\"cqg.rtd\",,\"StudyData\", $M$2, \"Bar\", \"\", \"Time\", $L$2, $A79,$Q$2,$P$2, \"\",\"False\")=\"\",NA(),RTD(\"cqg.rtd\",,\"StudyData\", $M$2, \"Bar\", \"\", \"Time\", $L$2, $A79,$Q$2,$P$2, \"\",\"False\"))","v":42412.267361111109},{"$f":" IF(RTD(\"cqg.rtd\",,\"StudyData\", $M$2, \"Bar\", \"\", \"Open\", $L$2, $A79, $Q$2,$P$2,,$N$2,$O$2)=\"\",NA(),RTD(\"cqg.rtd\",,\"StudyData\", $M$2, \"Bar\", \"\", \"Open\", $L$2, $A79, $Q$2,$P$2,,$N$2,$O$2))","v":1843},{"$f":" IF(RTD(\"cqg.rtd\",,\"StudyData\", $M$2, \"Bar\", \"\", \"High\", $L$2, $A79, $Q$2,$P$2,,$N$2,$O$2)=\"\",NA(),RTD(\"cqg.rtd\",,\"StudyData\", $M$2, \"Bar\", \"\", \"High\", $L$2, $A79, $Q$2,$P$2,,$N$2,$O$2))","v":1843.75},{"$f":" IF(RTD(\"cqg.rtd\",,\"StudyData\", $M$2, \"Bar\", \"\", \"Low\", $L$2, $A79, $Q$2,$P$2,,$N$2,$O$2)=\"\",NA(),RTD(\"cqg.rtd\",,\"StudyData\", $M$2, \"Bar\", \"\", \"Low\", $L$2, $A79, $Q$2,$P$2,,$N$2,$O$2))","v":1842.5},{"$f":" IF(RTD(\"cqg.rtd\",,\"StudyData\", $M$2, \"Bar\", \"\", \"Close\", $L$2, $A79, $Q$2,$P$2,,$N$2,$O$2)=\"\",NA(),RTD(\"cqg.rtd\",,\"StudyData\", $M$2, \"Bar\", \"\", \"Close\", $L$2, $A79, $Q$2,$P$2,,$N$2,$O$2))","v":1843.25},null,null,null,null,null,null,null,null,null,null,null,null,null,{"$f":"RTD(\"cqg.rtd\",,\"StudyData\",$U$1&\"^.\"&$T$1&\"(\"&$M$2&\")\",\"Bar\",\"\",\"Close\",$L$2,A79,\"all\",\"\",\"\",\"True\")","v":-6545}]
[-78,{"$f":" RTD(\"cqg.rtd\",,\"StudyData\", $M$2, \"Bar\", \"\", \"Time\", $L$2,$A80, $Q$2, \"\", \"\",\"False\")","v":"2016-02-12T06:20:00"},{"$f":" IF(RTD(\"cqg.rtd\",,\"StudyData\", $M$2, \"Bar\", \"\", \"Time\", $L$2, $A80,$Q$2,$P$2, \"\",\"False\")=\"\",NA(),RTD(\"cqg.rtd\",,\"StudyData\", $M$2, \"Bar\", \"\", \"Time\", $L$2, $A80,$Q$2,$P$2, \"\",\"False\"))","v":42412.263888888891},{"$f":" IF(RTD(\"cqg.rtd\",,\"StudyData\", $M$2, \"Bar\", \"\", \"Open\", $L$2, $A80, $Q$2,$P$2,,$N$2,$O$2)=\"\",NA(),RTD(\"cqg.rtd\",,\"StudyData\", $M$2, \"Bar\", \"\", \"Open\", $L$2, $A80, $Q$2,$P$2,,$N$2,$O$2))","v":1843},{"$f":" IF(RTD(\"cqg.rtd\",,\"StudyData\", $M$2, \"Bar\", \"\", \"High\", $L$2, $A80, $Q$2,$P$2,,$N$2,$O$2)=\"\",NA(),RTD(\"cqg.rtd\",,\"StudyData\", $M$2, \"Bar\", \"\", \"High\", $L$2, $A80, $Q$2,$P$2,,$N$2,$O$2))","v":1843.25},{"$f":" IF(RTD(\"cqg.rtd\",,\"StudyData\", $M$2, \"Bar\", \"\", \"Low\", $L$2, $A80, $Q$2,$P$2,,$N$2,$O$2)=\"\",NA(),RTD(\"cqg.rtd\",,\"StudyData\", $M$2, \"Bar\", \"\", \"Low\", $L$2, $A80, $Q$2,$P$2,,$N$2,$O$2))","v":1841.5},{"$f":" IF(RTD(\"cqg.rtd\",,\"StudyData\", $M$2, \"Bar\", \"\", \"Close\", $L$2, $A80, $Q$2,$P$2,,$N$2,$O$2)=\"\",NA(),RTD(\"cqg.rtd\",,\"StudyData\", $M$2, \"Bar\", \"\", \"Close\", $L$2, $A80, $Q$2,$P$2,,$N$2,$O$2))","v":1843},null,null,null,null,null,null,null,null,null,null,null,null,null,{"$f":"RTD(\"cqg.rtd\",,\"StudyData\",$U$1&\"^.\"&$T$1&\"(\"&$M$2&\")\",\"Bar\",\"\",\"Close\",$L$2,A80,\"all\",\"\",\"\",\"True\")","v":-6632.5}]
[-79,{"$f":" RTD(\"cqg.rtd\",,\"StudyData\", $M$2, \"Bar\", \"\", \"Time\", $L$2,$A81, $Q$2, \"\", \"\",\"False\")","v":"2016-02-12T06:15:00"},{"$f":" IF(RTD(\"cqg.rtd\",,\"StudyData\", $M$2, \"Bar\", \"\", \"Time\", $L$2, $A81,$Q$2,$P$2, \"\",\"False\")=\"\",NA(),RTD(\"cqg.rtd\",,\"StudyData\", $M$2, \"Bar\", \"\", \"Time\", $L$2, $A81,$Q$2,$P$2, \"\",\"False\"))","v":42412.260416666664},{"$f":" IF(RTD(\"cqg.rtd\",,\"StudyData\", $M$2, \"Bar\", \"\", \"Open\", $L$2, $A81, $Q$2,$P$2,,$N$2,$O$2)=\"\",NA(),RTD(\"cqg.rtd\",,\"StudyData\", $M$2, \"Bar\", \"\", \"Open\", $L$2, $A81, $Q$2,$P$2,,$N$2,$O$2))","v":1843.25},{"$f":" IF(RTD(\"cqg.rtd\",,\"StudyData\", $M$2, \"Bar\", \"\", \"High\", $L$2, $A81, $Q$2,$P$2,,$N$2,$O$2)=\"\",NA(),RTD(\"cqg.rtd\",,\"StudyData\", $M$2, \"Bar\", \"\", \"High\", $L$2, $A81, $Q$2,$P$2,,$N$2,$O$2))","v":1844},{"$f":" IF(RTD(\"cqg.rtd\",,\"StudyData\", $M$2, \"Bar\", \"\", \"Low\", $L$2, $A81, $Q$2,$P$2,,$N$2,$O$2)=\"\",NA(),RTD(\"cqg.rtd\",,\"StudyData\", $M$2, \"Bar\", \"\", \"Low\", $L$2, $A81, $Q$2,$P$2,,$N$2,$O$2))","v":1842.25},{"$f":" IF(RTD(\"cqg.rtd\",,\"StudyData\", $M$2, \"Bar\", \"\", \"Close\", $L$2, $A81, $Q$2,$P$2,,$N$2,$O$2)=\"\",NA(),RTD(\"cqg.rtd\",,\"StudyData\", $M$2, \"Bar\", \"\", \"Close\", $L$2, $A81, $Q$2,$P$2,,$N$2,$O$2))","v":1843},null,null,null,null,null,null,null,null,null,null,null,null,null,{"$f":"RTD(\"cqg.rtd\",,\"StudyData\",$U$1&\"^.\"&$T$1&\"(\"&$M$2&\")\",\"Bar\",\"\",\"Close\",$L$2,A81,\"all\",\"\",\"\",\"True\")","v":-6632.5}]
[-80,{"$f":" RTD(\"cqg.rtd\",,\"StudyData\", $M$2, \"Bar\", \"\", \"Time\", $L$2,$A82, $Q$2, \"\", \"\",\"False\")","v":"2016-02-12T06:10:00"},{"$f":" IF(RTD(\"cqg.rtd\",,\"StudyData\", $M$2, \"Bar\", \"\", \"Time\", $L$2, $A82,$Q$2,$P$2, \"\",\"False\")=\"\",NA(),RTD(\"cqg.rtd\",,\"StudyData\", $M$2, \"Bar\", \"\", \"Time\", $L$2, $A82,$Q$2,$P$2, \"\",\"False\"))","v":42412.256944444445},{"$f":" IF(RTD(\"cqg.rtd\",,\"StudyData\", $M$2, \"Bar\", \"\", \"Open\", $L$2, $A82, $Q$2,$P$2,,$N$2,$O$2)=\"\",NA(),RTD(\"cqg.rtd\",,\"StudyData\", $M$2, \"Bar\", \"\", \"Open\", $L$2, $A82, $Q$2,$P$2,,$N$2,$O$2))","v":1844},{"$f":" IF(RTD(\"cqg.rtd\",,\"StudyData\", $M$2, \"Bar\", \"\", \"High\", $L$2, $A82, $Q$2,$P$2,,$N$2,$O$2)=\"\",NA(),RTD(\"cqg.rtd\",,\"StudyData\", $M$2, \"Bar\", \"\", \"High\", $L$2, $A82, $Q$2,$P$2,,$N$2,$O$2))","v":1844.25},{"$f":" IF(RTD(\"cqg.rtd\",,\"StudyData\", $M$2, \"Bar\", \"\", \"Low\", $L$2, $A82, $Q$2,$P$2,,$N$2,$O$2)=\"\",NA(),RTD(\"cqg.rtd\",,\"StudyData\", $M$2, \"Bar\", \"\", \"Low\", $L$2, $A82, $Q$2,$P$2,,$N$2,$O$2))","v":1842.25},{"$f":" IF(RTD(\"cqg.rtd\",,\"StudyData\", $M$2, \"Bar\", \"\", \"Close\", $L$2, $A82, $Q$2,$P$2,,$N$2,$O$2)=\"\",NA(),RTD(\"cqg.rtd\",,\"StudyData\", $M$2, \"Bar\", \"\", \"Close\", $L$2, $A82, $Q$2,$P$2,,$N$2,$O$2))","v":1843.25},null,null,null,null,null,null,null,null,null,null,null,null,null,{"$f":"RTD(\"cqg.rtd\",,\"StudyData\",$U$1&\"^.\"&$T$1&\"(\"&$M$2&\")\",\"Bar\",\"\",\"Close\",$L$2,A82,\"all\",\"\",\"\",\"True\")","v":-6545}]
[-81,{"$f":" RTD(\"cqg.rtd\",,\"StudyData\", $M$2, \"Bar\", \"\", \"Time\", $L$2,$A83, $Q$2, \"\", \"\",\"False\")","v":"2016-02-12T06:05:00"},{"$f":" IF(RTD(\"cqg.rtd\",,\"StudyData\", $M$2, \"Bar\", \"\", \"Time\", $L$2, $A83,$Q$2,$P$2, \"\",\"False\")=\"\",NA(),RTD(\"cqg.rtd\",,\"StudyData\", $M$2, \"Bar\", \"\", \"Time\", $L$2, $A83,$Q$2,$P$2, \"\",\"False\"))","v":42412.253472222219},{"$f":" IF(RTD(\"cqg.rtd\",,\"StudyData\", $M$2, \"Bar\", \"\", \"Open\", $L$2, $A83, $Q$2,$P$2,,$N$2,$O$2)=\"\",NA(),RTD(\"cqg.rtd\",,\"StudyData\", $M$2, \"Bar\", \"\", \"Open\", $L$2, $A83, $Q$2,$P$2,,$N$2,$O$2))","v":1845},{"$f":" IF(RTD(\"cqg.rtd\",,\"StudyData\", $M$2, \"Bar\", \"\", \"High\", $L$2, $A83, $Q$2,$P$2,,$N$2,$O$2)=\"\",NA(),RTD(\"cqg.rtd\",,\"StudyData\", $M$2, \"Bar\", \"\", \"High\", $L$2, $A83, $Q$2,$P$2,,$N$2,$O$2))","v":1845.25},{"$f":" IF(RTD(\"cqg.rtd\",,\"StudyData\", $M$2, \"Bar\", \"\", \"Low\", $L$2, $A83, $Q$2,$P$2,,$N$2,$O$2)=\"\",NA(),RTD(\"cqg.rtd\",,\"StudyData\", $M$2, \"Bar\", \"\", \"Low\", $L$2, $A83, $Q$2,$P$2,,$N$2,$O$2))","v":1843.75},{"$f":" IF(RTD(\"cqg.rtd\",,\"StudyData\", $M$2, \"Bar\", \"\", \"Close\", $L$2, $A83, $Q$2,$P$2,,$N$2,$O$2)=\"\",NA(),RTD(\"cqg.rtd\",,\"StudyData\", $M$2, \"Bar\", \"\", \"Close\", $L$2, $A83, $Q$2,$P$2,,$N$2,$O$2))","v":1844.25},null,null,null,null,null,null,null,null,null,null,null,null,null,{"$f":"RTD(\"cqg.rtd\",,\"StudyData\",$U$1&\"^.\"&$T$1&\"(\"&$M$2&\")\",\"Bar\",\"\",\"Close\",$L$2,A83,\"all\",\"\",\"\",\"True\")","v":-6195}]
[-82,{"$f":" RTD(\"cqg.rtd\",,\"StudyData\", $M$2, \"Bar\", \"\", \"Time\", $L$2,$A84, $Q$2, \"\", \"\",\"False\")","v":"2016-02-12T06:00:00"},{"$f":" IF(RTD(\"cqg.rtd\",,\"StudyData\", $M$2, \"Bar\", \"\", \"Time\", $L$2, $A84,$Q$2,$P$2, \"\",\"False\")=\"\",NA(),RTD(\"cqg.rtd\",,\"StudyData\", $M$2, \"Bar\", \"\", \"Time\", $L$2, $A84,$Q$2,$P$2, \"\",\"False\"))","v":42412.25},{"$f":" IF(RTD(\"cqg.rtd\",,\"StudyData\", $M$2, \"Bar\", \"\", \"Open\", $L$2, $A84, $Q$2,$P$2,,$N$2,$O$2)=\"\",NA(),RTD(\"cqg.rtd\",,\"StudyData\", $M$2, \"Bar\", \"\", \"Open\", $L$2, $A84, $Q$2,$P$2,,$N$2,$O$2))","v":1845.75},{"$f":" IF(RTD(\"cqg.rtd\",,\"StudyData\", $M$2, \"Bar\", \"\", \"High\", $L$2, $A84, $Q$2,$P$2,,$N$2,$O$2)=\"\",NA(),RTD(\"cqg.rtd\",,\"StudyData\", $M$2, \"Bar\", \"\", \"High\", $L$2, $A84, $Q$2,$P$2,,$N$2,$O$2))","v":1846},{"$f":" IF(RTD(\"cqg.rtd\",,\"StudyData\", $M$2, \"Bar\", \"\", \"Low\", $L$2, $A84, $Q$2,$P$2,,$N$2,$O$2)=\"\",NA(),RTD(\"cqg.rtd\",,\"StudyData\", $M$2, \"Bar\", \"\", \"Low\", $L$2, $A84, $Q$2,$P$2,,$N$2,$O$2))","v":1844},{"$f":" IF(RTD(\"cqg.rtd\",,\"StudyData\", $M$2, \"Bar\", \"\", \"Close\", $L$2, $A84, $Q$2,$P$2,,$N$2,$O$2)=\"\",NA(),RTD(\"cqg.rtd\",,\"StudyData\", $M$2, \"Bar\", \"\", \"Close\", $L$2, $A84, $Q$2,$P$2,,$N$2,$O$2))","v":1845.25},null,null,null,null,null,null,null,null,null,null,null,null,null,{"$f":"RTD(\"cqg.rtd\",,\"StudyData\",$U$1&\"^.\"&$T$1&\"(\"&$M$2&\")\",\"Bar\",\"\",\"Close\",$L$2,A84,\"all\",\"\",\"\",\"True\")","v":-5845}]
[-83,{"$f":" RTD(\"cqg.rtd\",,\"StudyData\", $M$2, \"Bar\", \"\", \"Time\", $L$2,$A85, $Q$2, \"\", \"\",\"False\")","v":"2016-02-12T05:55:00"},{"$f":" IF(RTD(\"cqg.rtd\",,\"StudyData\", $M$2, \"Bar\", \"\", \"Time\", $L$2, $A85,$Q$2,$P$2, \"\",\"False\")=\"\",NA(),RTD(\"cqg.rtd\",,\"StudyData\", $M$2, \"Bar\", \"\", \"Time\", $L$2, $A85,$Q$2,$P$2, \"\",\"False\"))","v":42412.246527777781},{"$f":" IF(RTD(\"cqg.rtd\",,\"StudyData\", $M$2, \"Bar\", \"\", \"Open\", $L$2, $A85, $Q$2,$P$2,,$N$2,$O$2)=\"\",NA(),RTD(\"cqg.rtd\",,\"StudyData\", $M$2, \"Bar\", \"\", \"Open\", $L$2, $A85, $Q$2,$P$2,,$N$2,$O$2))","v":1846},{"$f":" IF(RTD(\"cqg.rtd\",,\"StudyData\", $M$2, \"Bar\", \"\", \"High\", $L$2, $A85, $Q$2,$P$2,,$N$2,$O$2)=\"\",NA(),RTD(\"cqg.rtd\",,\"StudyData\", $M$2, \"Bar\", \"\", \"High\", $L$2, $A85, $Q$2,$P$2,,$N$2,$O$2))","v":1847.5},{"$f":" IF(RTD(\"cqg.rtd\",,\"StudyData\", $M$2, \"Bar\", \"\", \"Low\", $L$2, $A85, $Q$2,$P$2,,$N$2,$O$2)=\"\",NA(),RTD(\"cqg.rtd\",,\"StudyData\", $M$2, \"Bar\", \"\", \"Low\", $L$2, $A85, $Q$2,$P$2,,$N$2,$O$2))","v":1845},{"$f":" IF(RTD(\"cqg.rtd\",,\"StudyData\", $M$2, \"Bar\", \"\", \"Close\", $L$2, $A85, $Q$2,$P$2,,$N$2,$O$2)=\"\",NA(),RTD(\"cqg.rtd\",,\"StudyData\", $M$2, \"Bar\", \"\", \"Close\", $L$2, $A85, $Q$2,$P$2,,$N$2,$O$2))","v":1845.5},null,null,null,null,null,null,null,null,null,null,null,null,null,{"$f":"RTD(\"cqg.rtd\",,\"StudyData\",$U$1&\"^.\"&$T$1&\"(\"&$M$2&\")\",\"Bar\",\"\",\"Close\",$L$2,A85,\"all\",\"\",\"\",\"True\")","v":-5757.5}]
[-84,{"$f":" RTD(\"cqg.rtd\",,\"StudyData\", $M$2, \"Bar\", \"\", \"Time\", $L$2,$A86, $Q$2, \"\", \"\",\"False\")","v":"2016-02-12T05:50:00"},{"$f":" IF(RTD(\"cqg.rtd\",,\"StudyData\", $M$2, \"Bar\", \"\", \"Time\", $L$2, $A86,$Q$2,$P$2, \"\",\"False\")=\"\",NA(),RTD(\"cqg.rtd\",,\"StudyData\", $M$2, \"Bar\", \"\", \"Time\", $L$2, $A86,$Q$2,$P$2, \"\",\"False\"))","v":42412.243055555555},{"$f":" IF(RTD(\"cqg.rtd\",,\"StudyData\", $M$2, \"Bar\", \"\", \"Open\", $L$2, $A86, $Q$2,$P$2,,$N$2,$O$2)=\"\",NA(),RTD(\"cqg.rtd\",,\"StudyData\", $M$2, \"Bar\", \"\", \"Open\", $L$2, $A86, $Q$2,$P$2,,$N$2,$O$2))","v":1845.25},{"$f":" IF(RTD(\"cqg.rtd\",,\"StudyData\", $M$2, \"Bar\", \"\", \"High\", $L$2, $A86, $Q$2,$P$2,,$N$2,$O$2)=\"\",NA(),RTD(\"cqg.rtd\",,\"StudyData\", $M$2, \"Bar\", \"\", \"High\", $L$2, $A86, $Q$2,$P$2,,$N$2,$O$2))","v":1846.75},{"$f":" IF(RTD(\"cqg.rtd\",,\"StudyData\", $M$2, \"Bar\", \"\", \"Low\", $L$2, $A86, $Q$2,$P$2,,$N$2,$O$2)=\"\",NA(),RTD(\"cqg.rtd\",,\"StudyData\", $M$2, \"Bar\", \"\", \"Low\", $L$2, $A86, $Q$2,$P$2,,$N$2,$O$2))","v":1845},{"$f":" IF(RTD(\"cqg.rtd\",,\"StudyData\", $M$2, \"Bar\", \"\", \"Close\", $L$2, $A86, $Q$2,$P$2,,$N$2,$O$2)=\"\",NA(),RTD(\"cqg.rtd\",,\"StudyData\", $M$2, \"Bar\", \"\", \"Close\", $L$2, $A86, $Q$2,$P$2,,$N$2,$O$2))","v":1846},null,null,null,null,null,null,null,null,null,null,null,null,null,{"$f":"RTD(\"cqg.rtd\",,\"StudyData\",$U$1&\"^.\"&$T$1&\"(\"&$M$2&\")\",\"Bar\",\"\",\"Close\",$L$2,A86,\"all\",\"\",\"\",\"True\")","v":-5582.5}]
[-85,{"$f":" RTD(\"cqg.rtd\",,\"StudyData\", $M$2, \"Bar\", \"\", \"Time\", $L$2,$A87, $Q$2, \"\", \"\",\"False\")","v":"2016-02-12T05:45:00"},{"$f":" IF(RTD(\"cqg.rtd\",,\"StudyData\", $M$2, \"Bar\", \"\", \"Time\", $L$2, $A87,$Q$2,$P$2, \"\",\"False\")=\"\",NA(),RTD(\"cqg.rtd\",,\"StudyData\", $M$2, \"Bar\", \"\", \"Time\", $L$2, $A87,$Q$2,$P$2, \"\",\"False\"))","v":42412.239583333336},{"$f":" IF(RTD(\"cqg.rtd\",,\"StudyData\", $M$2, \"Bar\", \"\", \"Open\", $L$2, $A87, $Q$2,$P$2,,$N$2,$O$2)=\"\",NA(),RTD(\"cqg.rtd\",,\"StudyData\", $M$2, \"Bar\", \"\", \"Open\", $L$2, $A87, $Q$2,$P$2,,$N$2,$O$2))","v":1841.75},{"$f":" IF(RTD(\"cqg.rtd\",,\"StudyData\", $M$2, \"Bar\", \"\", \"High\", $L$2, $A87, $Q$2,$P$2,,$N$2,$O$2)=\"\",NA(),RTD(\"cqg.rtd\",,\"StudyData\", $M$2, \"Bar\", \"\", \"High\", $L$2, $A87, $Q$2,$P$2,,$N$2,$O$2))","v":1846.25},{"$f":" IF(RTD(\"cqg.rtd\",,\"StudyData\", $M$2, \"Bar\", \"\", \"Low\", $L$2, $A87, $Q$2,$P$2,,$N$2,$O$2)=\"\",NA(),RTD(\"cqg.rtd\",,\"StudyData\", $M$2, \"Bar\", \"\", \"Low\", $L$2, $A87, $Q$2,$P$2,,$N$2,$O$2))","v":1841.5},{"$f":" IF(RTD(\"cqg.rtd\",,\"StudyData\", $M$2, \"Bar\", \"\", \"Close\", $L$2, $A87, $Q$2,$P$2,,$N$2,$O$2)=\"\",NA(),RTD(\"cqg.rtd\",,\"StudyData\", $M$2, \"Bar\", \"\", \"Close\", $L$2, $A87, $Q$2,$P$2,,$N$2,$O$2))","v":1845.25},null,null,null,null,null,null,null,null,null,null,null,null,null,{"$f":"RTD(\"cqg.rtd\",,\"StudyData\",$U$1&\"^.\"&$T$1&\"(\"&$M$2&\")\",\"Bar\",\"\",\"Close\",$L$2,A87,\"all\",\"\",\"\",\"True\")","v":-5845}]
[-86,{"$f":" RTD(\"cqg.rtd\",,\"StudyData\", $M$2, \"Bar\", \"\", \"Time\", $L$2,$A88, $Q$2, \"\", \"\",\"False\")","v":"2016-02-12T05:40:00"},{"$f":" IF(RTD(\"cqg.rtd\",,\"StudyData\", $M$2, \"Bar\", \"\", \"Time\", $L$2, $A88,$Q$2,$P$2, \"\",\"False\")=\"\",NA(),RTD(\"cqg.rtd\",,\"StudyData\", $M$2, \"Bar\", \"\", \"Time\", $L$2, $A88,$Q$2,$P$2, \"\",\"False\"))","v":42412.236111111109},{"$f":" IF(RTD(\"cqg.rtd\",,\"StudyData\", $M$2, \"Bar\", \"\", \"Open\", $L$2, $A88, $Q$2,$P$2,,$N$2,$O$2)=\"\",NA(),RTD(\"cqg.rtd\",,\"StudyData\", $M$2, \"Bar\", \"\", \"Open\", $L$2, $A88, $Q$2,$P$2,,$N$2,$O$2))","v":1841.25},{"$f":" IF(RTD(\"cqg.rtd\",,\"StudyData\", $M$2, \"Bar\", \"\", \"High\", $L$2, $A88, $Q$2,$P$2,,$N$2,$O$2)=\"\",NA(),RTD(\"cqg.rtd\",,\"StudyData\", $M$2, \"Bar\", \"\", \"High\", $L$2, $A88, $Q$2,$P$2,,$N$2,$O$2))","v":1841.75},{"$f":" IF(RTD(\"cqg.rtd\",,\"StudyData\", $M$2, \"Bar\", \"\", \"Low\", $L$2, $A88, $Q$2,$P$2,,$N$2,$O$2)=\"\",NA(),RTD(\"cqg.rtd\",,\"StudyData\", $M$2, \"Bar\", \"\", \"Low\", $L$2, $A88, $Q$2,$P$2,,$N$2,$O$2))","v":1840.25},{"$f":" IF(RTD(\"cqg.rtd\",,\"StudyData\", $M$2, \"Bar\", \"\", \"Close\", $L$2, $A88, $Q$2,$P$2,,$N$2,$O$2)=\"\",NA(),RTD(\"cqg.rtd\",,\"StudyData\", $M$2, \"Bar\", \"\", \"Close\", $L$2, $A88, $Q$2,$P$2,,$N$2,$O$2))","v":1841.5},null,null,null,null,null,null,null,null,null,null,null,null,null,{"$f":"RTD(\"cqg.rtd\",,\"StudyData\",$U$1&\"^.\"&$T$1&\"(\"&$M$2&\")\",\"Bar\",\"\",\"Close\",$L$2,A88,\"all\",\"\",\"\",\"True\")","v":-7157.5}]
[-87,{"$f":" RTD(\"cqg.rtd\",,\"StudyData\", $M$2, \"Bar\", \"\", \"Time\", $L$2,$A89, $Q$2, \"\", \"\",\"False\")","v":"2016-02-12T05:35:00"},{"$f":" IF(RTD(\"cqg.rtd\",,\"StudyData\", $M$2, \"Bar\", \"\", \"Time\", $L$2, $A89,$Q$2,$P$2, \"\",\"False\")=\"\",NA(),RTD(\"cqg.rtd\",,\"StudyData\", $M$2, \"Bar\", \"\", \"Time\", $L$2, $A89,$Q$2,$P$2, \"\",\"False\"))","v":42412.232638888891},{"$f":" IF(RTD(\"cqg.rtd\",,\"StudyData\", $M$2, \"Bar\", \"\", \"Open\", $L$2, $A89, $Q$2,$P$2,,$N$2,$O$2)=\"\",NA(),RTD(\"cqg.rtd\",,\"StudyData\", $M$2, \"Bar\", \"\", \"Open\", $L$2, $A89, $Q$2,$P$2,,$N$2,$O$2))","v":1840.75},{"$f":" IF(RTD(\"cqg.rtd\",,\"StudyData\", $M$2, \"Bar\", \"\", \"High\", $L$2, $A89, $Q$2,$P$2,,$N$2,$O$2)=\"\",NA(),RTD(\"cqg.rtd\",,\"StudyData\", $M$2, \"Bar\", \"\", \"High\", $L$2, $A89, $Q$2,$P$2,,$N$2,$O$2))","v":1842},{"$f":" IF(RTD(\"cqg.rtd\",,\"StudyData\", $M$2, \"Bar\", \"\", \"Low\", $L$2, $A89, $Q$2,$P$2,,$N$2,$O$2)=\"\",NA(),RTD(\"cqg.rtd\",,\"StudyData\", $M$2, \"Bar\", \"\", \"Low\", $L$2, $A89, $Q$2,$P$2,,$N$2,$O$2))","v":1840.5},{"$f":" IF(RTD(\"cqg.rtd\",,\"StudyData\", $M$2, \"Bar\", \"\", \"Close\", $L$2, $A89, $Q$2,$P$2,,$N$2,$O$2)=\"\",NA(),RTD(\"cqg.rtd\",,\"StudyData\", $M$2, \"Bar\", \"\", \"Close\", $L$2, $A89, $Q$2,$P$2,,$N$2,$O$2))","v":1841.25},null,null,null,null,null,null,null,null,null,null,null,null,null,{"$f":"RTD(\"cqg.rtd\",,\"StudyData\",$U$1&\"^.\"&$T$1&\"(\"&$M$2&\")\",\"Bar\",\"\",\"Close\",$L$2,A89,\"all\",\"\",\"\",\"True\")","v":-7175}]
[-88,{"$f":" RTD(\"cqg.rtd\",,\"StudyData\", $M$2, \"Bar\", \"\", \"Time\", $L$2,$A90, $Q$2, \"\", \"\",\"False\")","v":"2016-02-12T05:30:00"},{"$f":" IF(RTD(\"cqg.rtd\",,\"StudyData\", $M$2, \"Bar\", \"\", \"Time\", $L$2, $A90,$Q$2,$P$2, \"\",\"False\")=\"\",NA(),RTD(\"cqg.rtd\",,\"StudyData\", $M$2, \"Bar\", \"\", \"Time\", $L$2, $A90,$Q$2,$P$2, \"\",\"False\"))","v":42412.229166666664},{"$f":" IF(RTD(\"cqg.rtd\",,\"StudyData\", $M$2, \"Bar\", \"\", \"Open\", $L$2, $A90, $Q$2,$P$2,,$N$2,$O$2)=\"\",NA(),RTD(\"cqg.rtd\",,\"StudyData\", $M$2, \"Bar\", \"\", \"Open\", $L$2, $A90, $Q$2,$P$2,,$N$2,$O$2))","v":1840.75},{"$f":" IF(RTD(\"cqg.rtd\",,\"StudyData\", $M$2, \"Bar\", \"\", \"High\", $L$2, $A90, $Q$2,$P$2,,$N$2,$O$2)=\"\",NA(),RTD(\"cqg.rtd\",,\"StudyData\", $M$2, \"Bar\", \"\", \"High\", $L$2, $A90, $Q$2,$P$2,,$N$2,$O$2))","v":1841},{"$f":" IF(RTD(\"cqg.rtd\",,\"StudyData\", $M$2, \"Bar\", \"\", \"Low\", $L$2, $A90, $Q$2,$P$2,,$N$2,$O$2)=\"\",NA(),RTD(\"cqg.rtd\",,\"StudyData\", $M$2, \"Bar\", \"\", \"Low\", $L$2, $A90, $Q$2,$P$2,,$N$2,$O$2))","v":1840},{"$f":" IF(RTD(\"cqg.rtd\",,\"StudyData\", $M$2, \"Bar\", \"\", \"Close\", $L$2, $A90, $Q$2,$P$2,,$N$2,$O$2)=\"\",NA(),RTD(\"cqg.rtd\",,\"StudyData\", $M$2, \"Bar\", \"\", \"Close\", $L$2, $A90, $Q$2,$P$2,,$N$2,$O$2))","v":1840.75},null,null,null,null,null,null,null,null,null,null,null,null,null,{"$f":"RTD(\"cqg.rtd\",,\"StudyData\",$U$1&\"^.\"&$T$1&\"(\"&$M$2&\")\",\"Bar\",\"\",\"Close\",$L$2,A90,\"all\",\"\",\"\",\"True\")","v":-7000}]
[-89,{"$f":" RTD(\"cqg.rtd\",,\"StudyData\", $M$2, \"Bar\", \"\", \"Time\", $L$2,$A91, $Q$2, \"\", \"\",\"False\")","v":"2016-02-12T05:25:00"},{"$f":" IF(RTD(\"cqg.rtd\",,\"StudyData\", $M$2, \"Bar\", \"\", \"Time\", $L$2, $A91,$Q$2,$P$2, \"\",\"False\")=\"\",NA(),RTD(\"cqg.rtd\",,\"StudyData\", $M$2, \"Bar\", \"\", \"Time\", $L$2, $A91,$Q$2,$P$2, \"\",\"False\"))","v":42412.225694444445},{"$f":" IF(RTD(\"cqg.rtd\",,\"StudyData\", $M$2, \"Bar\", \"\", \"Open\", $L$2, $A91, $Q$2,$P$2,,$N$2,$O$2)=\"\",NA(),RTD(\"cqg.rtd\",,\"StudyData\", $M$2, \"Bar\", \"\", \"Open\", $L$2, $A91, $Q$2,$P$2,,$N$2,$O$2))","v":1839.75},{"$f":" IF(RTD(\"cqg.rtd\",,\"StudyData\", $M$2, \"Bar\", \"\", \"High\", $L$2, $A91, $Q$2,$P$2,,$N$2,$O$2)=\"\",NA(),RTD(\"cqg.rtd\",,\"StudyData\", $M$2, \"Bar\", \"\", \"High\", $L$2, $A91, $Q$2,$P$2,,$N$2,$O$2))","v":1841},{"$f":" IF(RTD(\"cqg.rtd\",,\"StudyData\", $M$2, \"Bar\", \"\", \"Low\", $L$2, $A91, $Q$2,$P$2,,$N$2,$O$2)=\"\",NA(),RTD(\"cqg.rtd\",,\"StudyData\", $M$2, \"Bar\", \"\", \"Low\", $L$2, $A91, $Q$2,$P$2,,$N$2,$O$2))","v":1839},{"$f":" IF(RTD(\"cqg.rtd\",,\"StudyData\", $M$2, \"Bar\", \"\", \"Close\", $L$2, $A91, $Q$2,$P$2,,$N$2,$O$2)=\"\",NA(),RTD(\"cqg.rtd\",,\"StudyData\", $M$2, \"Bar\", \"\", \"Close\", $L$2, $A91, $Q$2,$P$2,,$N$2,$O$2))","v":1840.5},null,null,null,null,null,null,null,null,null,null,null,null,null,{"$f":"RTD(\"cqg.rtd\",,\"StudyData\",$U$1&\"^.\"&$T$1&\"(\"&$M$2&\")\",\"Bar\",\"\",\"Close\",$L$2,A91,\"all\",\"\",\"\",\"True\")","v":-6912.5}]
[-90,{"$f":" RTD(\"cqg.rtd\",,\"StudyData\", $M$2, \"Bar\", \"\", \"Time\", $L$2,$A92, $Q$2, \"\", \"\",\"False\")","v":"2016-02-12T05:20:00"},{"$f":" IF(RTD(\"cqg.rtd\",,\"StudyData\", $M$2, \"Bar\", \"\", \"Time\", $L$2, $A92,$Q$2,$P$2, \"\",\"False\")=\"\",NA(),RTD(\"cqg.rtd\",,\"StudyData\", $M$2, \"Bar\", \"\", \"Time\", $L$2, $A92,$Q$2,$P$2, \"\",\"False\"))","v":42412.222222222219},{"$f":" IF(RTD(\"cqg.rtd\",,\"StudyData\", $M$2, \"Bar\", \"\", \"Open\", $L$2, $A92, $Q$2,$P$2,,$N$2,$O$2)=\"\",NA(),RTD(\"cqg.rtd\",,\"StudyData\", $M$2, \"Bar\", \"\", \"Open\", $L$2, $A92, $Q$2,$P$2,,$N$2,$O$2))","v":1840.25},{"$f":" IF(RTD(\"cqg.rtd\",,\"StudyData\", $M$2, \"Bar\", \"\", \"High\", $L$2, $A92, $Q$2,$P$2,,$N$2,$O$2)=\"\",NA(),RTD(\"cqg.rtd\",,\"StudyData\", $M$2, \"Bar\", \"\", \"High\", $L$2, $A92, $Q$2,$P$2,,$N$2,$O$2))","v":1840.75},{"$f":" IF(RTD(\"cqg.rtd\",,\"StudyData\", $M$2, \"Bar\", \"\", \"Low\", $L$2, $A92, $Q$2,$P$2,,$N$2,$O$2)=\"\",NA(),RTD(\"cqg.rtd\",,\"StudyData\", $M$2, \"Bar\", \"\", \"Low\", $L$2, $A92, $Q$2,$P$2,,$N$2,$O$2))","v":1839.25},{"$f":" IF(RTD(\"cqg.rtd\",,\"StudyData\", $M$2, \"Bar\", \"\", \"Close\", $L$2, $A92, $Q$2,$P$2,,$N$2,$O$2)=\"\",NA(),RTD(\"cqg.rtd\",,\"StudyData\", $M$2, \"Bar\", \"\", \"Close\", $L$2, $A92, $Q$2,$P$2,,$N$2,$O$2))","v":1839.75},null,null,null,null,null,null,null,null,null,null,null,null,null,{"$f":"RTD(\"cqg.rtd\",,\"StudyData\",$U$1&\"^.\"&$T$1&\"(\"&$M$2&\")\",\"Bar\",\"\",\"Close\",$L$2,A92,\"all\",\"\",\"\",\"True\")","v":-6650}]
[-91,{"$f":" RTD(\"cqg.rtd\",,\"StudyData\", $M$2, \"Bar\", \"\", \"Time\", $L$2,$A93, $Q$2, \"\", \"\",\"False\")","v":"2016-02-12T05:15:00"},{"$f":" IF(RTD(\"cqg.rtd\",,\"StudyData\", $M$2, \"Bar\", \"\", \"Time\", $L$2, $A93,$Q$2,$P$2, \"\",\"False\")=\"\",NA(),RTD(\"cqg.rtd\",,\"StudyData\", $M$2, \"Bar\", \"\", \"Time\", $L$2, $A93,$Q$2,$P$2, \"\",\"False\"))","v":42412.21875},{"$f":" IF(RTD(\"cqg.rtd\",,\"StudyData\", $M$2, \"Bar\", \"\", \"Open\", $L$2, $A93, $Q$2,$P$2,,$N$2,$O$2)=\"\",NA(),RTD(\"cqg.rtd\",,\"StudyData\", $M$2, \"Bar\", \"\", \"Open\", $L$2, $A93, $Q$2,$P$2,,$N$2,$O$2))","v":1839},{"$f":" IF(RTD(\"cqg.rtd\",,\"StudyData\", $M$2, \"Bar\", \"\", \"High\", $L$2, $A93, $Q$2,$P$2,,$N$2,$O$2)=\"\",NA(),RTD(\"cqg.rtd\",,\"StudyData\", $M$2, \"Bar\", \"\", \"High\", $L$2, $A93, $Q$2,$P$2,,$N$2,$O$2))","v":1840.5},{"$f":" IF(RTD(\"cqg.rtd\",,\"StudyData\", $M$2, \"Bar\", \"\", \"Low\", $L$2, $A93, $Q$2,$P$2,,$N$2,$O$2)=\"\",NA(),RTD(\"cqg.rtd\",,\"StudyData\", $M$2, \"Bar\", \"\", \"Low\", $L$2, $A93, $Q$2,$P$2,,$N$2,$O$2))","v":1838.25},{"$f":" IF(RTD(\"cqg.rtd\",,\"StudyData\", $M$2, \"Bar\", \"\", \"Close\", $L$2, $A93, $Q$2,$P$2,,$N$2,$O$2)=\"\",NA(),RTD(\"cqg.rtd\",,\"StudyData\", $M$2, \"Bar\", \"\", \"Close\", $L$2, $A93, $Q$2,$P$2,,$N$2,$O$2))","v":1840.25},null,null,null,null,null,null,null,null,null,null,null,null,null,{"$f":"RTD(\"cqg.rtd\",,\"StudyData\",$U$1&\"^.\"&$T$1&\"(\"&$M$2&\")\",\"Bar\",\"\",\"Close\",$L$2,A93,\"all\",\"\",\"\",\"True\")","v":-6825}]
[-92,{"$f":" RTD(\"cqg.rtd\",,\"StudyData\", $M$2, \"Bar\", \"\", \"Time\", $L$2,$A94, $Q$2, \"\", \"\",\"False\")","v":"2016-02-12T05:10:00"},{"$f":" IF(RTD(\"cqg.rtd\",,\"StudyData\", $M$2, \"Bar\", \"\", \"Time\", $L$2, $A94,$Q$2,$P$2, \"\",\"False\")=\"\",NA(),RTD(\"cqg.rtd\",,\"StudyData\", $M$2, \"Bar\", \"\", \"Time\", $L$2, $A94,$Q$2,$P$2, \"\",\"False\"))","v":42412.215277777781},{"$f":" IF(RTD(\"cqg.rtd\",,\"StudyData\", $M$2, \"Bar\", \"\", \"Open\", $L$2, $A94, $Q$2,$P$2,,$N$2,$O$2)=\"\",NA(),RTD(\"cqg.rtd\",,\"StudyData\", $M$2, \"Bar\", \"\", \"Open\", $L$2, $A94, $Q$2,$P$2,,$N$2,$O$2))","v":1839},{"$f":" IF(RTD(\"cqg.rtd\",,\"StudyData\", $M$2, \"Bar\", \"\", \"High\", $L$2, $A94, $Q$2,$P$2,,$N$2,$O$2)=\"\",NA(),RTD(\"cqg.rtd\",,\"StudyData\", $M$2, \"Bar\", \"\", \"High\", $L$2, $A94, $Q$2,$P$2,,$N$2,$O$2))","v":1839.25},{"$f":" IF(RTD(\"cqg.rtd\",,\"StudyData\", $M$2, \"Bar\", \"\", \"Low\", $L$2, $A94, $Q$2,$P$2,,$N$2,$O$2)=\"\",NA(),RTD(\"cqg.rtd\",,\"StudyData\", $M$2, \"Bar\", \"\", \"Low\", $L$2, $A94, $Q$2,$P$2,,$N$2,$O$2))","v":1838.25},{"$f":" IF(RTD(\"cqg.rtd\",,\"StudyData\", $M$2, \"Bar\", \"\", \"Close\", $L$2, $A94, $Q$2,$P$2,,$N$2,$O$2)=\"\",NA(),RTD(\"cqg.rtd\",,\"StudyData\", $M$2, \"Bar\", \"\", \"Close\", $L$2, $A94, $Q$2,$P$2,,$N$2,$O$2))","v":1839},null,null,null,null,null,null,null,null,null,null,null,null,null,{"$f":"RTD(\"cqg.rtd\",,\"StudyData\",$U$1&\"^.\"&$T$1&\"(\"&$M$2&\")\",\"Bar\",\"\",\"Close\",$L$2,A94,\"all\",\"\",\"\",\"True\")","v":-6387.5}]
[-93,{"$f":" RTD(\"cqg.rtd\",,\"StudyData\", $M$2, \"Bar\", \"\", \"Time\", $L$2,$A95, $Q$2, \"\", \"\",\"False\")","v":"2016-02-12T05:05:00"},{"$f":" IF(RTD(\"cqg.rtd\",,\"StudyData\", $M$2, \"Bar\", \"\", \"Time\", $L$2, $A95,$Q$2,$P$2, \"\",\"False\")=\"\",NA(),RTD(\"cqg.rtd\",,\"StudyData\", $M$2, \"Bar\", \"\", \"Time\", $L$2, $A95,$Q$2,$P$2, \"\",\"False\"))","v":42412.211805555555},{"$f":" IF(RTD(\"cqg.rtd\",,\"StudyData\", $M$2, \"Bar\", \"\", \"Open\", $L$2, $A95, $Q$2,$P$2,,$N$2,$O$2)=\"\",NA(),RTD(\"cqg.rtd\",,\"StudyData\", $M$2, \"Bar\", \"\", \"Open\", $L$2, $A95, $Q$2,$P$2,,$N$2,$O$2))","v":1839},{"$f":" IF(RTD(\"cqg.rtd\",,\"StudyData\", $M$2, \"Bar\", \"\", \"High\", $L$2, $A95, $Q$2,$P$2,,$N$2,$O$2)=\"\",NA(),RTD(\"cqg.rtd\",,\"StudyData\", $M$2, \"Bar\", \"\", \"High\", $L$2, $A95, $Q$2,$P$2,,$N$2,$O$2))","v":1839.5},{"$f":" IF(RTD(\"cqg.rtd\",,\"StudyData\", $M$2, \"Bar\", \"\", \"Low\", $L$2, $A95, $Q$2,$P$2,,$N$2,$O$2)=\"\",NA(),RTD(\"cqg.rtd\",,\"StudyData\", $M$2, \"Bar\", \"\", \"Low\", $L$2, $A95, $Q$2,$P$2,,$N$2,$O$2))","v":1838.5},{"$f":" IF(RTD(\"cqg.rtd\",,\"StudyData\", $M$2, \"Bar\", \"\", \"Close\", $L$2, $A95, $Q$2,$P$2,,$N$2,$O$2)=\"\",NA(),RTD(\"cqg.rtd\",,\"StudyData\", $M$2, \"Bar\", \"\", \"Close\", $L$2, $A95, $Q$2,$P$2,,$N$2,$O$2))","v":1839},null,null,null,null,null,null,null,null,null,null,null,null,null,{"$f":"RTD(\"cqg.rtd\",,\"StudyData\",$U$1&\"^.\"&$T$1&\"(\"&$M$2&\")\",\"Bar\",\"\",\"Close\",$L$2,A95,\"all\",\"\",\"\",\"True\")","v":-6387.5}]
[-94,{"$f":" RTD(\"cqg.rtd\",,\"StudyData\", $M$2, \"Bar\", \"\", \"Time\", $L$2,$A96, $Q$2, \"\", \"\",\"False\")","v":"2016-02-12T05:00:00"},{"$f":" IF(RTD(\"cqg.rtd\",,\"StudyData\", $M$2, \"Bar\", \"\", \"Time\", $L$2, $A96,$Q$2,$P$2, \"\",\"False\")=\"\",NA(),RTD(\"cqg.rtd\",,\"StudyData\", $M$2, \"Bar\", \"\", \"Time\", $L$2, $A96,$Q$2,$P$2, \"\",\"False\"))","v":42412.208333333336},{"$f":" IF(RTD(\"cqg.rtd\",,\"StudyData\", $M$2, \"Bar\", \"\", \"Open\", $L$2, $A96, $Q$2,$P$2,,$N$2,$O$2)=\"\",NA(),RTD(\"cqg.rtd\",,\"StudyData\", $M$2, \"Bar\", \"\", \"Open\", $L$2, $A96, $Q$2,$P$2,,$N$2,$O$2))","v":1837.5},{"$f":" IF(RTD(\"cqg.rtd\",,\"StudyData\", $M$2, \"Bar\", \"\", \"High\", $L$2, $A96, $Q$2,$P$2,,$N$2,$O$2)=\"\",NA(),RTD(\"cqg.rtd\",,\"StudyData\", $M$2, \"Bar\", \"\", \"High\", $L$2, $A96, $Q$2,$P$2,,$N$2,$O$2))","v":1839.25},{"$f":" IF(RTD(\"cqg.rtd\",,\"StudyData\", $M$2, \"Bar\", \"\", \"Low\", $L$2, $A96, $Q$2,$P$2,,$N$2,$O$2)=\"\",NA(),RTD(\"cqg.rtd\",,\"StudyData\", $M$2, \"Bar\", \"\", \"Low\", $L$2, $A96, $Q$2,$P$2,,$N$2,$O$2))","v":1837},{"$f":" IF(RTD(\"cqg.rtd\",,\"StudyData\", $M$2, \"Bar\", \"\", \"Close\", $L$2, $A96, $Q$2,$P$2,,$N$2,$O$2)=\"\",NA(),RTD(\"cqg.rtd\",,\"StudyData\", $M$2, \"Bar\", \"\", \"Close\", $L$2, $A96, $Q$2,$P$2,,$N$2,$O$2))","v":1839},null,null,null,null,null,null,null,null,null,null,null,null,null,{"$f":"RTD(\"cqg.rtd\",,\"StudyData\",$U$1&\"^.\"&$T$1&\"(\"&$M$2&\")\",\"Bar\",\"\",\"Close\",$L$2,A96,\"all\",\"\",\"\",\"True\")","v":-6387.5}]
[-95,{"$f":" RTD(\"cqg.rtd\",,\"StudyData\", $M$2, \"Bar\", \"\", \"Time\", $L$2,$A97, $Q$2, \"\", \"\",\"False\")","v":"2016-02-12T04:55:00"},{"$f":" IF(RTD(\"cqg.rtd\",,\"StudyData\", $M$2, \"Bar\", \"\", \"Time\", $L$2, $A97,$Q$2,$P$2, \"\",\"False\")=\"\",NA(),RTD(\"cqg.rtd\",,\"StudyData\", $M$2, \"Bar\", \"\", \"Time\", $L$2, $A97,$Q$2,$P$2, \"\",\"False\"))","v":42412.204861111109},{"$f":" IF(RTD(\"cqg.rtd\",,\"StudyData\", $M$2, \"Bar\", \"\", \"Open\", $L$2, $A97, $Q$2,$P$2,,$N$2,$O$2)=\"\",NA(),RTD(\"cqg.rtd\",,\"StudyData\", $M$2, \"Bar\", \"\", \"Open\", $L$2, $A97, $Q$2,$P$2,,$N$2,$O$2))","v":1837.5},{"$f":" IF(RTD(\"cqg.rtd\",,\"StudyData\", $M$2, \"Bar\", \"\", \"High\", $L$2, $A97, $Q$2,$P$2,,$N$2,$O$2)=\"\",NA(),RTD(\"cqg.rtd\",,\"StudyData\", $M$2, \"Bar\", \"\", \"High\", $L$2, $A97, $Q$2,$P$2,,$N$2,$O$2))","v":1838.75},{"$f":" IF(RTD(\"cqg.rtd\",,\"StudyData\", $M$2, \"Bar\", \"\", \"Low\", $L$2, $A97, $Q$2,$P$2,,$N$2,$O$2)=\"\",NA(),RTD(\"cqg.rtd\",,\"StudyData\", $M$2, \"Bar\", \"\", \"Low\", $L$2, $A97, $Q$2,$P$2,,$N$2,$O$2))","v":1837.25},{"$f":" IF(RTD(\"cqg.rtd\",,\"StudyData\", $M$2, \"Bar\", \"\", \"Close\", $L$2, $A97, $Q$2,$P$2,,$N$2,$O$2)=\"\",NA(),RTD(\"cqg.rtd\",,\"StudyData\", $M$2, \"Bar\", \"\", \"Close\", $L$2, $A97, $Q$2,$P$2,,$N$2,$O$2))","v":1837.75},null,null,null,null,null,null,null,null,null,null,null,null,null,{"$f":"RTD(\"cqg.rtd\",,\"StudyData\",$U$1&\"^.\"&$T$1&\"(\"&$M$2&\")\",\"Bar\",\"\",\"Close\",$L$2,A97,\"all\",\"\",\"\",\"True\")","v":-5950}]
[-96,{"$f":" RTD(\"cqg.rtd\",,\"StudyData\", $M$2, \"Bar\", \"\", \"Time\", $L$2,$A98, $Q$2, \"\", \"\",\"False\")","v":"2016-02-12T04:50:00"},{"$f":" IF(RTD(\"cqg.rtd\",,\"StudyData\", $M$2, \"Bar\", \"\", \"Time\", $L$2, $A98,$Q$2,$P$2, \"\",\"False\")=\"\",NA(),RTD(\"cqg.rtd\",,\"StudyData\", $M$2, \"Bar\", \"\", \"Time\", $L$2, $A98,$Q$2,$P$2, \"\",\"False\"))","v":42412.201388888891},{"$f":" IF(RTD(\"cqg.rtd\",,\"StudyData\", $M$2, \"Bar\", \"\", \"Open\", $L$2, $A98, $Q$2,$P$2,,$N$2,$O$2)=\"\",NA(),RTD(\"cqg.rtd\",,\"StudyData\", $M$2, \"Bar\", \"\", \"Open\", $L$2, $A98, $Q$2,$P$2,,$N$2,$O$2))","v":1838},{"$f":" IF(RTD(\"cqg.rtd\",,\"StudyData\", $M$2, \"Bar\", \"\", \"High\", $L$2, $A98, $Q$2,$P$2,,$N$2,$O$2)=\"\",NA(),RTD(\"cqg.rtd\",,\"StudyData\", $M$2, \"Bar\", \"\", \"High\", $L$2, $A98, $Q$2,$P$2,,$N$2,$O$2))","v":1839.75},{"$f":" IF(RTD(\"cqg.rtd\",,\"StudyData\", $M$2, \"Bar\", \"\", \"Low\", $L$2, $A98, $Q$2,$P$2,,$N$2,$O$2)=\"\",NA(),RTD(\"cqg.rtd\",,\"StudyData\", $M$2, \"Bar\", \"\", \"Low\", $L$2, $A98, $Q$2,$P$2,,$N$2,$O$2))","v":1837.5},{"$f":" IF(RTD(\"cqg.rtd\",,\"StudyData\", $M$2, \"Bar\", \"\", \"Close\", $L$2, $A98, $Q$2,$P$2,,$N$2,$O$2)=\"\",NA(),RTD(\"cqg.rtd\",,\"StudyData\", $M$2, \"Bar\", \"\", \"Close\", $L$2, $A98, $Q$2,$P$2,,$N$2,$O$2))","v":1837.5},null,null,null,null,null,null,null,null,null,null,null,null,null,{"$f":"RTD(\"cqg.rtd\",,\"StudyData\",$U$1&\"^.\"&$T$1&\"(\"&$M$2&\")\",\"Bar\",\"\",\"Close\",$L$2,A98,\"all\",\"\",\"\",\"True\")","v":-5862.5}]
[-97,{"$f":" RTD(\"cqg.rtd\",,\"StudyData\", $M$2, \"Bar\", \"\", \"Time\", $L$2,$A99, $Q$2, \"\", \"\",\"False\")","v":"2016-02-12T04:45:00"},{"$f":" IF(RTD(\"cqg.rtd\",,\"StudyData\", $M$2, \"Bar\", \"\", \"Time\", $L$2, $A99,$Q$2,$P$2, \"\",\"False\")=\"\",NA(),RTD(\"cqg.rtd\",,\"StudyData\", $M$2, \"Bar\", \"\", \"Time\", $L$2, $A99,$Q$2,$P$2, \"\",\"False\"))","v":42412.197916666664},{"$f":" IF(RTD(\"cqg.rtd\",,\"StudyData\", $M$2, \"Bar\", \"\", \"Open\", $L$2, $A99, $Q$2,$P$2,,$N$2,$O$2)=\"\",NA(),RTD(\"cqg.rtd\",,\"StudyData\", $M$2, \"Bar\", \"\", \"Open\", $L$2, $A99, $Q$2,$P$2,,$N$2,$O$2))","v":1838.25},{"$f":" IF(RTD(\"cqg.rtd\",,\"StudyData\", $M$2, \"Bar\", \"\", \"High\", $L$2, $A99, $Q$2,$P$2,,$N$2,$O$2)=\"\",NA(),RTD(\"cqg.rtd\",,\"StudyData\", $M$2, \"Bar\", \"\", \"High\", $L$2, $A99, $Q$2,$P$2,,$N$2,$O$2))","v":1838.25},{"$f":" IF(RTD(\"cqg.rtd\",,\"StudyData\", $M$2, \"Bar\", \"\", \"Low\", $L$2, $A99, $Q$2,$P$2,,$N$2,$O$2)=\"\",NA(),RTD(\"cqg.rtd\",,\"StudyData\", $M$2, \"Bar\", \"\", \"Low\", $L$2, $A99, $Q$2,$P$2,,$N$2,$O$2))","v":1837},{"$f":" IF(RTD(\"cqg.rtd\",,\"StudyData\", $M$2, \"Bar\", \"\", \"Close\", $L$2, $A99, $Q$2,$P$2,,$N$2,$O$2)=\"\",NA(),RTD(\"cqg.rtd\",,\"StudyData\", $M$2, \"Bar\", \"\", \"Close\", $L$2, $A99, $Q$2,$P$2,,$N$2,$O$2))","v":1837.75},null,null,null,null,null,null,null,null,null,null,null,null,null,{"$f":"RTD(\"cqg.rtd\",,\"StudyData\",$U$1&\"^.\"&$T$1&\"(\"&$M$2&\")\",\"Bar\",\"\",\"Close\",$L$2,A99,\"all\",\"\",\"\",\"True\")","v":-5950}]
[-98,{"$f":" RTD(\"cqg.rtd\",,\"StudyData\", $M$2, \"Bar\", \"\", \"Time\", $L$2,$A100, $Q$2, \"\", \"\",\"False\")","v":"2016-02-12T04:40:00"},{"$f":" IF(RTD(\"cqg.rtd\",,\"StudyData\", $M$2, \"Bar\", \"\", \"Time\", $L$2, $A100,$Q$2,$P$2, \"\",\"False\")=\"\",NA(),RTD(\"cqg.rtd\",,\"StudyData\", $M$2, \"Bar\", \"\", \"Time\", $L$2, $A100,$Q$2,$P$2, \"\",\"False\"))","v":42412.194444444445},{"$f":" IF(RTD(\"cqg.rtd\",,\"StudyData\", $M$2, \"Bar\", \"\", \"Open\", $L$2, $A100, $Q$2,$P$2,,$N$2,$O$2)=\"\",NA(),RTD(\"cqg.rtd\",,\"StudyData\", $M$2, \"Bar\", \"\", \"Open\", $L$2, $A100, $Q$2,$P$2,,$N$2,$O$2))","v":1839},{"$f":" IF(RTD(\"cqg.rtd\",,\"StudyData\", $M$2, \"Bar\", \"\", \"High\", $L$2, $A100, $Q$2,$P$2,,$N$2,$O$2)=\"\",NA(),RTD(\"cqg.rtd\",,\"StudyData\", $M$2, \"Bar\", \"\", \"High\", $L$2, $A100, $Q$2,$P$2,,$N$2,$O$2))","v":1839.5},{"$f":" IF(RTD(\"cqg.rtd\",,\"StudyData\", $M$2, \"Bar\", \"\", \"Low\", $L$2, $A100, $Q$2,$P$2,,$N$2,$O$2)=\"\",NA(),RTD(\"cqg.rtd\",,\"StudyData\", $M$2, \"Bar\", \"\", \"Low\", $L$2, $A100, $Q$2,$P$2,,$N$2,$O$2))","v":1837.75},{"$f":" IF(RTD(\"cqg.rtd\",,\"StudyData\", $M$2, \"Bar\", \"\", \"Close\", $L$2, $A100, $Q$2,$P$2,,$N$2,$O$2)=\"\",NA(),RTD(\"cqg.rtd\",,\"StudyData\", $M$2, \"Bar\", \"\", \"Close\", $L$2, $A100, $Q$2,$P$2,,$N$2,$O$2))","v":1838.25},null,null,null,null,null,null,null,null,null,null,null,null,null,{"$f":"RTD(\"cqg.rtd\",,\"StudyData\",$U$1&\"^.\"&$T$1&\"(\"&$M$2&\")\",\"Bar\",\"\",\"Close\",$L$2,A100,\"all\",\"\",\"\",\"True\")","v":-6125}]
[-99,{"$f":" RTD(\"cqg.rtd\",,\"StudyData\", $M$2, \"Bar\", \"\", \"Time\", $L$2,$A101, $Q$2, \"\", \"\",\"False\")","v":"2016-02-12T04:35:00"},{"$f":" IF(RTD(\"cqg.rtd\",,\"StudyData\", $M$2, \"Bar\", \"\", \"Time\", $L$2, $A101,$Q$2,$P$2, \"\",\"False\")=\"\",NA(),RTD(\"cqg.rtd\",,\"StudyData\", $M$2, \"Bar\", \"\", \"Time\", $L$2, $A101,$Q$2,$P$2, \"\",\"False\"))","v":42412.190972222219},{"$f":" IF(RTD(\"cqg.rtd\",,\"StudyData\", $M$2, \"Bar\", \"\", \"Open\", $L$2, $A101, $Q$2,$P$2,,$N$2,$O$2)=\"\",NA(),RTD(\"cqg.rtd\",,\"StudyData\", $M$2, \"Bar\", \"\", \"Open\", $L$2, $A101, $Q$2,$P$2,,$N$2,$O$2))","v":1839.5},{"$f":" IF(RTD(\"cqg.rtd\",,\"StudyData\", $M$2, \"Bar\", \"\", \"High\", $L$2, $A101, $Q$2,$P$2,,$N$2,$O$2)=\"\",NA(),RTD(\"cqg.rtd\",,\"StudyData\", $M$2, \"Bar\", \"\", \"High\", $L$2, $A101, $Q$2,$P$2,,$N$2,$O$2))","v":1840.5},{"$f":" IF(RTD(\"cqg.rtd\",,\"StudyData\", $M$2, \"Bar\", \"\", \"Low\", $L$2, $A101, $Q$2,$P$2,,$N$2,$O$2)=\"\",NA(),RTD(\"cqg.rtd\",,\"StudyData\", $M$2, \"Bar\", \"\", \"Low\", $L$2, $A101, $Q$2,$P$2,,$N$2,$O$2))","v":1839},{"$f":" IF(RTD(\"cqg.rtd\",,\"StudyData\", $M$2, \"Bar\", \"\", \"Close\", $L$2, $A101, $Q$2,$P$2,,$N$2,$O$2)=\"\",NA(),RTD(\"cqg.rtd\",,\"StudyData\", $M$2, \"Bar\", \"\", \"Close\", $L$2, $A101, $Q$2,$P$2,,$N$2,$O$2))","v":1839.25},null,null,null,null,null,null,null,null,null,null,null,null,null,{"$f":"RTD(\"cqg.rtd\",,\"StudyData\",$U$1&\"^.\"&$T$1&\"(\"&$M$2&\")\",\"Bar\",\"\",\"Close\",$L$2,A101,\"all\",\"\",\"\",\"True\")","v":-6475}]
[-100,{"$f":" RTD(\"cqg.rtd\",,\"StudyData\", $M$2, \"Bar\", \"\", \"Time\", $L$2,$A102, $Q$2, \"\", \"\",\"False\")","v":"2016-02-12T04:30:00"},{"$f":" IF(RTD(\"cqg.rtd\",,\"StudyData\", $M$2, \"Bar\", \"\", \"Time\", $L$2, $A102,$Q$2,$P$2, \"\",\"False\")=\"\",NA(),RTD(\"cqg.rtd\",,\"StudyData\", $M$2, \"Bar\", \"\", \"Time\", $L$2, $A102,$Q$2,$P$2, \"\",\"False\"))","v":42412.1875},{"$f":" IF(RTD(\"cqg.rtd\",,\"StudyData\", $M$2, \"Bar\", \"\", \"Open\", $L$2, $A102, $Q$2,$P$2,,$N$2,$O$2)=\"\",NA(),RTD(\"cqg.rtd\",,\"StudyData\", $M$2, \"Bar\", \"\", \"Open\", $L$2, $A102, $Q$2,$P$2,,$N$2,$O$2))","v":1840},{"$f":" IF(RTD(\"cqg.rtd\",,\"StudyData\", $M$2, \"Bar\", \"\", \"High\", $L$2, $A102, $Q$2,$P$2,,$N$2,$O$2)=\"\",NA(),RTD(\"cqg.rtd\",,\"StudyData\", $M$2, \"Bar\", \"\", \"High\", $L$2, $A102, $Q$2,$P$2,,$N$2,$O$2))","v":1840.5},{"$f":" IF(RTD(\"cqg.rtd\",,\"StudyData\", $M$2, \"Bar\", \"\", \"Low\", $L$2, $A102, $Q$2,$P$2,,$N$2,$O$2)=\"\",NA(),RTD(\"cqg.rtd\",,\"StudyData\", $M$2, \"Bar\", \"\", \"Low\", $L$2, $A102, $Q$2,$P$2,,$N$2,$O$2))","v":1838.75},{"$f":" IF(RTD(\"cqg.rtd\",,\"StudyData\", $M$2, \"Bar\", \"\", \"Close\", $L$2, $A102, $Q$2,$P$2,,$N$2,$O$2)=\"\",NA(),RTD(\"cqg.rtd\",,\"StudyData\", $M$2, \"Bar\", \"\", \"Close\", $L$2, $A102, $Q$2,$P$2,,$N$2,$O$2))","v":1839.75},null,null,null,null,null,null,null,null,null,null,null,null,null,{"$f":"RTD(\"cqg.rtd\",,\"StudyData\",$U$1&\"^.\"&$T$1&\"(\"&$M$2&\")\",\"Bar\",\"\",\"Close\",$L$2,A102,\"all\",\"\",\"\",\"True\")","v":-6650}]
[-101,{"$f":" RTD(\"cqg.rtd\",,\"StudyData\", $M$2, \"Bar\", \"\", \"Time\", $L$2,$A103, $Q$2, \"\", \"\",\"False\")","v":"2016-02-12T04:25:00"},{"$f":" IF(RTD(\"cqg.rtd\",,\"StudyData\", $M$2, \"Bar\", \"\", \"Time\", $L$2, $A103,$Q$2,$P$2, \"\",\"False\")=\"\",NA(),RTD(\"cqg.rtd\",,\"StudyData\", $M$2, \"Bar\", \"\", \"Time\", $L$2, $A103,$Q$2,$P$2, \"\",\"False\"))","v":42412.184027777781},{"$f":" IF(RTD(\"cqg.rtd\",,\"StudyData\", $M$2, \"Bar\", \"\", \"Open\", $L$2, $A103, $Q$2,$P$2,,$N$2,$O$2)=\"\",NA(),RTD(\"cqg.rtd\",,\"StudyData\", $M$2, \"Bar\", \"\", \"Open\", $L$2, $A103, $Q$2,$P$2,,$N$2,$O$2))","v":1841.75},{"$f":" IF(RTD(\"cqg.rtd\",,\"StudyData\", $M$2, \"Bar\", \"\", \"High\", $L$2, $A103, $Q$2,$P$2,,$N$2,$O$2)=\"\",NA(),RTD(\"cqg.rtd\",,\"StudyData\", $M$2, \"Bar\", \"\", \"High\", $L$2, $A103, $Q$2,$P$2,,$N$2,$O$2))","v":1842},{"$f":" IF(RTD(\"cqg.rtd\",,\"StudyData\", $M$2, \"Bar\", \"\", \"Low\", $L$2, $A103, $Q$2,$P$2,,$N$2,$O$2)=\"\",NA(),RTD(\"cqg.rtd\",,\"StudyData\", $M$2, \"Bar\", \"\", \"Low\", $L$2, $A103, $Q$2,$P$2,,$N$2,$O$2))","v":1839.5},{"$f":" IF(RTD(\"cqg.rtd\",,\"StudyData\", $M$2, \"Bar\", \"\", \"Close\", $L$2, $A103, $Q$2,$P$2,,$N$2,$O$2)=\"\",NA(),RTD(\"cqg.rtd\",,\"StudyData\", $M$2, \"Bar\", \"\", \"Close\", $L$2, $A103, $Q$2,$P$2,,$N$2,$O$2))","v":1839.75},null,null,null,null,null,null,null,null,null,null,null,null,null,{"$f":"RTD(\"cqg.rtd\",,\"StudyData\",$U$1&\"^.\"&$T$1&\"(\"&$M$2&\")\",\"Bar\",\"\",\"Close\",$L$2,A103,\"all\",\"\",\"\",\"True\")","v":-6650}]
[-102,{"$f":" RTD(\"cqg.rtd\",,\"StudyData\", $M$2, \"Bar\", \"\", \"Time\", $L$2,$A104, $Q$2, \"\", \"\",\"False\")","v":"2016-02-12T04:20:00"},{"$f":" IF(RTD(\"cqg.rtd\",,\"StudyData\", $M$2, \"Bar\", \"\", \"Time\", $L$2, $A104,$Q$2,$P$2, \"\",\"False\")=\"\",NA(),RTD(\"cqg.rtd\",,\"StudyData\", $M$2, \"Bar\", \"\", \"Time\", $L$2, $A104,$Q$2,$P$2, \"\",\"False\"))","v":42412.180555555555},{"$f":" IF(RTD(\"cqg.rtd\",,\"StudyData\", $M$2, \"Bar\", \"\", \"Open\", $L$2, $A104, $Q$2,$P$2,,$N$2,$O$2)=\"\",NA(),RTD(\"cqg.rtd\",,\"StudyData\", $M$2, \"Bar\", \"\", \"Open\", $L$2, $A104, $Q$2,$P$2,,$N$2,$O$2))","v":1841},{"$f":" IF(RTD(\"cqg.rtd\",,\"StudyData\", $M$2, \"Bar\", \"\", \"High\", $L$2, $A104, $Q$2,$P$2,,$N$2,$O$2)=\"\",NA(),RTD(\"cqg.rtd\",,\"StudyData\", $M$2, \"Bar\", \"\", \"High\", $L$2, $A104, $Q$2,$P$2,,$N$2,$O$2))","v":1842.75},{"$f":" IF(RTD(\"cqg.rtd\",,\"StudyData\", $M$2, \"Bar\", \"\", \"Low\", $L$2, $A104, $Q$2,$P$2,,$N$2,$O$2)=\"\",NA(),RTD(\"cqg.rtd\",,\"StudyData\", $M$2, \"Bar\", \"\", \"Low\", $L$2, $A104, $Q$2,$P$2,,$N$2,$O$2))","v":1841},{"$f":" IF(RTD(\"cqg.rtd\",,\"StudyData\", $M$2, \"Bar\", \"\", \"Close\", $L$2, $A104, $Q$2,$P$2,,$N$2,$O$2)=\"\",NA(),RTD(\"cqg.rtd\",,\"StudyData\", $M$2, \"Bar\", \"\", \"Close\", $L$2, $A104, $Q$2,$P$2,,$N$2,$O$2))","v":1841.75},null,null,null,null,null,null,null,null,null,null,null,null,null,{"$f":"RTD(\"cqg.rtd\",,\"StudyData\",$U$1&\"^.\"&$T$1&\"(\"&$M$2&\")\",\"Bar\",\"\",\"Close\",$L$2,A104,\"all\",\"\",\"\",\"True\")","v":-7350}]
[-103,{"$f":" RTD(\"cqg.rtd\",,\"StudyData\", $M$2, \"Bar\", \"\", \"Time\", $L$2,$A105, $Q$2, \"\", \"\",\"False\")","v":"2016-02-12T04:15:00"},{"$f":" IF(RTD(\"cqg.rtd\",,\"StudyData\", $M$2, \"Bar\", \"\", \"Time\", $L$2, $A105,$Q$2,$P$2, \"\",\"False\")=\"\",NA(),RTD(\"cqg.rtd\",,\"StudyData\", $M$2, \"Bar\", \"\", \"Time\", $L$2, $A105,$Q$2,$P$2, \"\",\"False\"))","v":42412.177083333336},{"$f":" IF(RTD(\"cqg.rtd\",,\"StudyData\", $M$2, \"Bar\", \"\", \"Open\", $L$2, $A105, $Q$2,$P$2,,$N$2,$O$2)=\"\",NA(),RTD(\"cqg.rtd\",,\"StudyData\", $M$2, \"Bar\", \"\", \"Open\", $L$2, $A105, $Q$2,$P$2,,$N$2,$O$2))","v":1841.25},{"$f":" IF(RTD(\"cqg.rtd\",,\"StudyData\", $M$2, \"Bar\", \"\", \"High\", $L$2, $A105, $Q$2,$P$2,,$N$2,$O$2)=\"\",NA(),RTD(\"cqg.rtd\",,\"StudyData\", $M$2, \"Bar\", \"\", \"High\", $L$2, $A105, $Q$2,$P$2,,$N$2,$O$2))","v":1841.75},{"$f":" IF(RTD(\"cqg.rtd\",,\"StudyData\", $M$2, \"Bar\", \"\", \"Low\", $L$2, $A105, $Q$2,$P$2,,$N$2,$O$2)=\"\",NA(),RTD(\"cqg.rtd\",,\"StudyData\", $M$2, \"Bar\", \"\", \"Low\", $L$2, $A105, $Q$2,$P$2,,$N$2,$O$2))","v":1840.25},{"$f":" IF(RTD(\"cqg.rtd\",,\"StudyData\", $M$2, \"Bar\", \"\", \"Close\", $L$2, $A105, $Q$2,$P$2,,$N$2,$O$2)=\"\",NA(),RTD(\"cqg.rtd\",,\"StudyData\", $M$2, \"Bar\", \"\", \"Close\", $L$2, $A105, $Q$2,$P$2,,$N$2,$O$2))","v":1841},null,null,null,null,null,null,null,null,null,null,null,null,null,{"$f":"RTD(\"cqg.rtd\",,\"StudyData\",$U$1&\"^.\"&$T$1&\"(\"&$M$2&\")\",\"Bar\",\"\",\"Close\",$L$2,A105,\"all\",\"\",\"\",\"True\")","v":-7087.5}]
[-104,{"$f":" RTD(\"cqg.rtd\",,\"StudyData\", $M$2, \"Bar\", \"\", \"Time\", $L$2,$A106, $Q$2, \"\", \"\",\"False\")","v":"2016-02-12T04:10:00"},{"$f":" IF(RTD(\"cqg.rtd\",,\"StudyData\", $M$2, \"Bar\", \"\", \"Time\", $L$2, $A106,$Q$2,$P$2, \"\",\"False\")=\"\",NA(),RTD(\"cqg.rtd\",,\"StudyData\", $M$2, \"Bar\", \"\", \"Time\", $L$2, $A106,$Q$2,$P$2, \"\",\"False\"))","v":42412.173611111109},{"$f":" IF(RTD(\"cqg.rtd\",,\"StudyData\", $M$2, \"Bar\", \"\", \"Open\", $L$2, $A106, $Q$2,$P$2,,$N$2,$O$2)=\"\",NA(),RTD(\"cqg.rtd\",,\"StudyData\", $M$2, \"Bar\", \"\", \"Open\", $L$2, $A106, $Q$2,$P$2,,$N$2,$O$2))","v":1840},{"$f":" IF(RTD(\"cqg.rtd\",,\"StudyData\", $M$2, \"Bar\", \"\", \"High\", $L$2, $A106, $Q$2,$P$2,,$N$2,$O$2)=\"\",NA(),RTD(\"cqg.rtd\",,\"StudyData\", $M$2, \"Bar\", \"\", \"High\", $L$2, $A106, $Q$2,$P$2,,$N$2,$O$2))","v":1841.5},{"$f":" IF(RTD(\"cqg.rtd\",,\"StudyData\", $M$2, \"Bar\", \"\", \"Low\", $L$2, $A106, $Q$2,$P$2,,$N$2,$O$2)=\"\",NA(),RTD(\"cqg.rtd\",,\"StudyData\", $M$2, \"Bar\", \"\", \"Low\", $L$2, $A106, $Q$2,$P$2,,$N$2,$O$2))","v":1839.25},{"$f":" IF(RTD(\"cqg.rtd\",,\"StudyData\", $M$2, \"Bar\", \"\", \"Close\", $L$2, $A106, $Q$2,$P$2,,$N$2,$O$2)=\"\",NA(),RTD(\"cqg.rtd\",,\"StudyData\", $M$2, \"Bar\", \"\", \"Close\", $L$2, $A106, $Q$2,$P$2,,$N$2,$O$2))","v":1841.25},null,null,null,null,null,null,null,null,null,null,null,null,null,{"$f":"RTD(\"cqg.rtd\",,\"StudyData\",$U$1&\"^.\"&$T$1&\"(\"&$M$2&\")\",\"Bar\",\"\",\"Close\",$L$2,A106,\"all\",\"\",\"\",\"True\")","v":-7175}]
[-105,{"$f":" RTD(\"cqg.rtd\",,\"StudyData\", $M$2, \"Bar\", \"\", \"Time\", $L$2,$A107, $Q$2, \"\", \"\",\"False\")","v":"2016-02-12T04:05:00"},{"$f":" IF(RTD(\"cqg.rtd\",,\"StudyData\", $M$2, \"Bar\", \"\", \"Time\", $L$2, $A107,$Q$2,$P$2, \"\",\"False\")=\"\",NA(),RTD(\"cqg.rtd\",,\"StudyData\", $M$2, \"Bar\", \"\", \"Time\", $L$2, $A107,$Q$2,$P$2, \"\",\"False\"))","v":42412.170138888891},{"$f":" IF(RTD(\"cqg.rtd\",,\"StudyData\", $M$2, \"Bar\", \"\", \"Open\", $L$2, $A107, $Q$2,$P$2,,$N$2,$O$2)=\"\",NA(),RTD(\"cqg.rtd\",,\"StudyData\", $M$2, \"Bar\", \"\", \"Open\", $L$2, $A107, $Q$2,$P$2,,$N$2,$O$2))","v":1838.5},{"$f":" IF(RTD(\"cqg.rtd\",,\"StudyData\", $M$2, \"Bar\", \"\", \"High\", $L$2, $A107, $Q$2,$P$2,,$N$2,$O$2)=\"\",NA(),RTD(\"cqg.rtd\",,\"StudyData\", $M$2, \"Bar\", \"\", \"High\", $L$2, $A107, $Q$2,$P$2,,$N$2,$O$2))","v":1840.5},{"$f":" IF(RTD(\"cqg.rtd\",,\"StudyData\", $M$2, \"Bar\", \"\", \"Low\", $L$2, $A107, $Q$2,$P$2,,$N$2,$O$2)=\"\",NA(),RTD(\"cqg.rtd\",,\"StudyData\", $M$2, \"Bar\", \"\", \"Low\", $L$2, $A107, $Q$2,$P$2,,$N$2,$O$2))","v":1837.25},{"$f":" IF(RTD(\"cqg.rtd\",,\"StudyData\", $M$2, \"Bar\", \"\", \"Close\", $L$2, $A107, $Q$2,$P$2,,$N$2,$O$2)=\"\",NA(),RTD(\"cqg.rtd\",,\"StudyData\", $M$2, \"Bar\", \"\", \"Close\", $L$2, $A107, $Q$2,$P$2,,$N$2,$O$2))","v":1839.75},null,null,null,null,null,null,null,null,null,null,null,null,null,{"$f":"RTD(\"cqg.rtd\",,\"StudyData\",$U$1&\"^.\"&$T$1&\"(\"&$M$2&\")\",\"Bar\",\"\",\"Close\",$L$2,A107,\"all\",\"\",\"\",\"True\")","v":-6650}]
[-106,{"$f":" RTD(\"cqg.rtd\",,\"StudyData\", $M$2, \"Bar\", \"\", \"Time\", $L$2,$A108, $Q$2, \"\", \"\",\"False\")","v":"2016-02-12T04:00:00"},{"$f":" IF(RTD(\"cqg.rtd\",,\"StudyData\", $M$2, \"Bar\", \"\", \"Time\", $L$2, $A108,$Q$2,$P$2, \"\",\"False\")=\"\",NA(),RTD(\"cqg.rtd\",,\"StudyData\", $M$2, \"Bar\", \"\", \"Time\", $L$2, $A108,$Q$2,$P$2, \"\",\"False\"))","v":42412.166666666664},{"$f":" IF(RTD(\"cqg.rtd\",,\"StudyData\", $M$2, \"Bar\", \"\", \"Open\", $L$2, $A108, $Q$2,$P$2,,$N$2,$O$2)=\"\",NA(),RTD(\"cqg.rtd\",,\"StudyData\", $M$2, \"Bar\", \"\", \"Open\", $L$2, $A108, $Q$2,$P$2,,$N$2,$O$2))","v":1839.5},{"$f":" IF(RTD(\"cqg.rtd\",,\"StudyData\", $M$2, \"Bar\", \"\", \"High\", $L$2, $A108, $Q$2,$P$2,,$N$2,$O$2)=\"\",NA(),RTD(\"cqg.rtd\",,\"StudyData\", $M$2, \"Bar\", \"\", \"High\", $L$2, $A108, $Q$2,$P$2,,$N$2,$O$2))","v":1840.75},{"$f":" IF(RTD(\"cqg.rtd\",,\"StudyData\", $M$2, \"Bar\", \"\", \"Low\", $L$2, $A108, $Q$2,$P$2,,$N$2,$O$2)=\"\",NA(),RTD(\"cqg.rtd\",,\"StudyData\", $M$2, \"Bar\", \"\", \"Low\", $L$2, $A108, $Q$2,$P$2,,$N$2,$O$2))","v":1837.75},{"$f":" IF(RTD(\"cqg.rtd\",,\"StudyData\", $M$2, \"Bar\", \"\", \"Close\", $L$2, $A108, $Q$2,$P$2,,$N$2,$O$2)=\"\",NA(),RTD(\"cqg.rtd\",,\"StudyData\", $M$2, \"Bar\", \"\", \"Close\", $L$2, $A108, $Q$2,$P$2,,$N$2,$O$2))","v":1838.25},null,null,null,null,null,null,null,null,null,null,null,null,null,{"$f":"RTD(\"cqg.rtd\",,\"StudyData\",$U$1&\"^.\"&$T$1&\"(\"&$M$2&\")\",\"Bar\",\"\",\"Close\",$L$2,A108,\"all\",\"\",\"\",\"True\")","v":-6125}]
[-107,{"$f":" RTD(\"cqg.rtd\",,\"StudyData\", $M$2, \"Bar\", \"\", \"Time\", $L$2,$A109, $Q$2, \"\", \"\",\"False\")","v":"2016-02-12T03:55:00"},{"$f":" IF(RTD(\"cqg.rtd\",,\"StudyData\", $M$2, \"Bar\", \"\", \"Time\", $L$2, $A109,$Q$2,$P$2, \"\",\"False\")=\"\",NA(),RTD(\"cqg.rtd\",,\"StudyData\", $M$2, \"Bar\", \"\", \"Time\", $L$2, $A109,$Q$2,$P$2, \"\",\"False\"))","v":42412.163194444445},{"$f":" IF(RTD(\"cqg.rtd\",,\"StudyData\", $M$2, \"Bar\", \"\", \"Open\", $L$2, $A109, $Q$2,$P$2,,$N$2,$O$2)=\"\",NA(),RTD(\"cqg.rtd\",,\"StudyData\", $M$2, \"Bar\", \"\", \"Open\", $L$2, $A109, $Q$2,$P$2,,$N$2,$O$2))","v":1837.5},{"$f":" IF(RTD(\"cqg.rtd\",,\"StudyData\", $M$2, \"Bar\", \"\", \"High\", $L$2, $A109, $Q$2,$P$2,,$N$2,$O$2)=\"\",NA(),RTD(\"cqg.rtd\",,\"StudyData\", $M$2, \"Bar\", \"\", \"High\", $L$2, $A109, $Q$2,$P$2,,$N$2,$O$2))","v":1839.75},{"$f":" IF(RTD(\"cqg.rtd\",,\"StudyData\", $M$2, \"Bar\", \"\", \"Low\", $L$2, $A109, $Q$2,$P$2,,$N$2,$O$2)=\"\",NA(),RTD(\"cqg.rtd\",,\"StudyData\", $M$2, \"Bar\", \"\", \"Low\", $L$2, $A109, $Q$2,$P$2,,$N$2,$O$2))","v":1836.5},{"$f":" IF(RTD(\"cqg.rtd\",,\"StudyData\", $M$2, \"Bar\", \"\", \"Close\", $L$2, $A109, $Q$2,$P$2,,$N$2,$O$2)=\"\",NA(),RTD(\"cqg.rtd\",,\"StudyData\", $M$2, \"Bar\", \"\", \"Close\", $L$2, $A109, $Q$2,$P$2,,$N$2,$O$2))","v":1839.5},null,null,null,null,null,null,null,null,null,null,null,null,null,{"$f":"RTD(\"cqg.rtd\",,\"StudyData\",$U$1&\"^.\"&$T$1&\"(\"&$M$2&\")\",\"Bar\",\"\",\"Close\",$L$2,A109,\"all\",\"\",\"\",\"True\")","v":-6562.5}]
[-108,{"$f":" RTD(\"cqg.rtd\",,\"StudyData\", $M$2, \"Bar\", \"\", \"Time\", $L$2,$A110, $Q$2, \"\", \"\",\"False\")","v":"2016-02-12T03:50:00"},{"$f":" IF(RTD(\"cqg.rtd\",,\"StudyData\", $M$2, \"Bar\", \"\", \"Time\", $L$2, $A110,$Q$2,$P$2, \"\",\"False\")=\"\",NA(),RTD(\"cqg.rtd\",,\"StudyData\", $M$2, \"Bar\", \"\", \"Time\", $L$2, $A110,$Q$2,$P$2, \"\",\"False\"))","v":42412.159722222219},{"$f":" IF(RTD(\"cqg.rtd\",,\"StudyData\", $M$2, \"Bar\", \"\", \"Open\", $L$2, $A110, $Q$2,$P$2,,$N$2,$O$2)=\"\",NA(),RTD(\"cqg.rtd\",,\"StudyData\", $M$2, \"Bar\", \"\", \"Open\", $L$2, $A110, $Q$2,$P$2,,$N$2,$O$2))","v":1837},{"$f":" IF(RTD(\"cqg.rtd\",,\"StudyData\", $M$2, \"Bar\", \"\", \"High\", $L$2, $A110, $Q$2,$P$2,,$N$2,$O$2)=\"\",NA(),RTD(\"cqg.rtd\",,\"StudyData\", $M$2, \"Bar\", \"\", \"High\", $L$2, $A110, $Q$2,$P$2,,$N$2,$O$2))","v":1839},{"$f":" IF(RTD(\"cqg.rtd\",,\"StudyData\", $M$2, \"Bar\", \"\", \"Low\", $L$2, $A110, $Q$2,$P$2,,$N$2,$O$2)=\"\",NA(),RTD(\"cqg.rtd\",,\"StudyData\", $M$2, \"Bar\", \"\", \"Low\", $L$2, $A110, $Q$2,$P$2,,$N$2,$O$2))","v":1837},{"$f":" IF(RTD(\"cqg.rtd\",,\"StudyData\", $M$2, \"Bar\", \"\", \"Close\", $L$2, $A110, $Q$2,$P$2,,$N$2,$O$2)=\"\",NA(),RTD(\"cqg.rtd\",,\"StudyData\", $M$2, \"Bar\", \"\", \"Close\", $L$2, $A110, $Q$2,$P$2,,$N$2,$O$2))","v":1837.25},null,null,null,null,null,null,null,null,null,null,null,null,null,{"$f":"RTD(\"cqg.rtd\",,\"StudyData\",$U$1&\"^.\"&$T$1&\"(\"&$M$2&\")\",\"Bar\",\"\",\"Close\",$L$2,A110,\"all\",\"\",\"\",\"True\")","v":-5775}]
[-109,{"$f":" RTD(\"cqg.rtd\",,\"StudyData\", $M$2, \"Bar\", \"\", \"Time\", $L$2,$A111, $Q$2, \"\", \"\",\"False\")","v":"2016-02-12T03:45:00"},{"$f":" IF(RTD(\"cqg.rtd\",,\"StudyData\", $M$2, \"Bar\", \"\", \"Time\", $L$2, $A111,$Q$2,$P$2, \"\",\"False\")=\"\",NA(),RTD(\"cqg.rtd\",,\"StudyData\", $M$2, \"Bar\", \"\", \"Time\", $L$2, $A111,$Q$2,$P$2, \"\",\"False\"))","v":42412.15625},{"$f":" IF(RTD(\"cqg.rtd\",,\"StudyData\", $M$2, \"Bar\", \"\", \"Open\", $L$2, $A111, $Q$2,$P$2,,$N$2,$O$2)=\"\",NA(),RTD(\"cqg.rtd\",,\"StudyData\", $M$2, \"Bar\", \"\", \"Open\", $L$2, $A111, $Q$2,$P$2,,$N$2,$O$2))","v":1837},{"$f":" IF(RTD(\"cqg.rtd\",,\"StudyData\", $M$2, \"Bar\", \"\", \"High\", $L$2, $A111, $Q$2,$P$2,,$N$2,$O$2)=\"\",NA(),RTD(\"cqg.rtd\",,\"StudyData\", $M$2, \"Bar\", \"\", \"High\", $L$2, $A111, $Q$2,$P$2,,$N$2,$O$2))","v":1839},{"$f":" IF(RTD(\"cqg.rtd\",,\"StudyData\", $M$2, \"Bar\", \"\", \"Low\", $L$2, $A111, $Q$2,$P$2,,$N$2,$O$2)=\"\",NA(),RTD(\"cqg.rtd\",,\"StudyData\", $M$2, \"Bar\", \"\", \"Low\", $L$2, $A111, $Q$2,$P$2,,$N$2,$O$2))","v":1836},{"$f":" IF(RTD(\"cqg.rtd\",,\"StudyData\", $M$2, \"Bar\", \"\", \"Close\", $L$2, $A111, $Q$2,$P$2,,$N$2,$O$2)=\"\",NA(),RTD(\"cqg.rtd\",,\"StudyData\", $M$2, \"Bar\", \"\", \"Close\", $L$2, $A111, $Q$2,$P$2,,$N$2,$O$2))","v":1837.25},null,null,null,null,null,null,null,null,null,null,null,null,null,{"$f":"RTD(\"cqg.rtd\",,\"StudyData\",$U$1&\"^.\"&$T$1&\"(\"&$M$2&\")\",\"Bar\",\"\",\"Close\",$L$2,A111,\"all\",\"\",\"\",\"True\")","v":-5775}]
[-110,{"$f":" RTD(\"cqg.rtd\",,\"StudyData\", $M$2, \"Bar\", \"\", \"Time\", $L$2,$A112, $Q$2, \"\", \"\",\"False\")","v":"2016-02-12T03:40:00"},{"$f":" IF(RTD(\"cqg.rtd\",,\"StudyData\", $M$2, \"Bar\", \"\", \"Time\", $L$2, $A112,$Q$2,$P$2, \"\",\"False\")=\"\",NA(),RTD(\"cqg.rtd\",,\"StudyData\", $M$2, \"Bar\", \"\", \"Time\", $L$2, $A112,$Q$2,$P$2, \"\",\"False\"))","v":42412.152777777781},{"$f":" IF(RTD(\"cqg.rtd\",,\"StudyData\", $M$2, \"Bar\", \"\", \"Open\", $L$2, $A112, $Q$2,$P$2,,$N$2,$O$2)=\"\",NA(),RTD(\"cqg.rtd\",,\"StudyData\", $M$2, \"Bar\", \"\", \"Open\", $L$2, $A112, $Q$2,$P$2,,$N$2,$O$2))","v":1838.25},{"$f":" IF(RTD(\"cqg.rtd\",,\"StudyData\", $M$2, \"Bar\", \"\", \"High\", $L$2, $A112, $Q$2,$P$2,,$N$2,$O$2)=\"\",NA(),RTD(\"cqg.rtd\",,\"StudyData\", $M$2, \"Bar\", \"\", \"High\", $L$2, $A112, $Q$2,$P$2,,$N$2,$O$2))","v":1840},{"$f":" IF(RTD(\"cqg.rtd\",,\"StudyData\", $M$2, \"Bar\", \"\", \"Low\", $L$2, $A112, $Q$2,$P$2,,$N$2,$O$2)=\"\",NA(),RTD(\"cqg.rtd\",,\"StudyData\", $M$2, \"Bar\", \"\", \"Low\", $L$2, $A112, $Q$2,$P$2,,$N$2,$O$2))","v":1836.75},{"$f":" IF(RTD(\"cqg.rtd\",,\"StudyData\", $M$2, \"Bar\", \"\", \"Close\", $L$2, $A112, $Q$2,$P$2,,$N$2,$O$2)=\"\",NA(),RTD(\"cqg.rtd\",,\"StudyData\", $M$2, \"Bar\", \"\", \"Close\", $L$2, $A112, $Q$2,$P$2,,$N$2,$O$2))","v":1836.75},null,null,null,null,null,null,null,null,null,null,null,null,null,{"$f":"RTD(\"cqg.rtd\",,\"StudyData\",$U$1&\"^.\"&$T$1&\"(\"&$M$2&\")\",\"Bar\",\"\",\"Close\",$L$2,A112,\"all\",\"\",\"\",\"True\")","v":-5600}]
[-111,{"$f":" RTD(\"cqg.rtd\",,\"StudyData\", $M$2, \"Bar\", \"\", \"Time\", $L$2,$A113, $Q$2, \"\", \"\",\"False\")","v":"2016-02-12T03:35:00"},{"$f":" IF(RTD(\"cqg.rtd\",,\"StudyData\", $M$2, \"Bar\", \"\", \"Time\", $L$2, $A113,$Q$2,$P$2, \"\",\"False\")=\"\",NA(),RTD(\"cqg.rtd\",,\"StudyData\", $M$2, \"Bar\", \"\", \"Time\", $L$2, $A113,$Q$2,$P$2, \"\",\"False\"))","v":42412.149305555555},{"$f":" IF(RTD(\"cqg.rtd\",,\"StudyData\", $M$2, \"Bar\", \"\", \"Open\", $L$2, $A113, $Q$2,$P$2,,$N$2,$O$2)=\"\",NA(),RTD(\"cqg.rtd\",,\"StudyData\", $M$2, \"Bar\", \"\", \"Open\", $L$2, $A113, $Q$2,$P$2,,$N$2,$O$2))","v":1840.25},{"$f":" IF(RTD(\"cqg.rtd\",,\"StudyData\", $M$2, \"Bar\", \"\", \"High\", $L$2, $A113, $Q$2,$P$2,,$N$2,$O$2)=\"\",NA(),RTD(\"cqg.rtd\",,\"StudyData\", $M$2, \"Bar\", \"\", \"High\", $L$2, $A113, $Q$2,$P$2,,$N$2,$O$2))","v":1840.25},{"$f":" IF(RTD(\"cqg.rtd\",,\"StudyData\", $M$2, \"Bar\", \"\", \"Low\", $L$2, $A113, $Q$2,$P$2,,$N$2,$O$2)=\"\",NA(),RTD(\"cqg.rtd\",,\"StudyData\", $M$2, \"Bar\", \"\", \"Low\", $L$2, $A113, $Q$2,$P$2,,$N$2,$O$2))","v":1836.5},{"$f":" IF(RTD(\"cqg.rtd\",,\"StudyData\", $M$2, \"Bar\", \"\", \"Close\", $L$2, $A113, $Q$2,$P$2,,$N$2,$O$2)=\"\",NA(),RTD(\"cqg.rtd\",,\"StudyData\", $M$2, \"Bar\", \"\", \"Close\", $L$2, $A113, $Q$2,$P$2,,$N$2,$O$2))","v":1838.25},null,null,null,null,null,null,null,null,null,null,null,null,null,{"$f":"RTD(\"cqg.rtd\",,\"StudyData\",$U$1&\"^.\"&$T$1&\"(\"&$M$2&\")\",\"Bar\",\"\",\"Close\",$L$2,A113,\"all\",\"\",\"\",\"True\")","v":-6055}]
[-112,{"$f":" RTD(\"cqg.rtd\",,\"StudyData\", $M$2, \"Bar\", \"\", \"Time\", $L$2,$A114, $Q$2, \"\", \"\",\"False\")","v":"2016-02-12T03:30:00"},{"$f":" IF(RTD(\"cqg.rtd\",,\"StudyData\", $M$2, \"Bar\", \"\", \"Time\", $L$2, $A114,$Q$2,$P$2, \"\",\"False\")=\"\",NA(),RTD(\"cqg.rtd\",,\"StudyData\", $M$2, \"Bar\", \"\", \"Time\", $L$2, $A114,$Q$2,$P$2, \"\",\"False\"))","v":42412.145833333336},{"$f":" IF(RTD(\"cqg.rtd\",,\"StudyData\", $M$2, \"Bar\", \"\", \"Open\", $L$2, $A114, $Q$2,$P$2,,$N$2,$O$2)=\"\",NA(),RTD(\"cqg.rtd\",,\"StudyData\", $M$2, \"Bar\", \"\", \"Open\", $L$2, $A114, $Q$2,$P$2,,$N$2,$O$2))","v":1839},{"$f":" IF(RTD(\"cqg.rtd\",,\"StudyData\", $M$2, \"Bar\", \"\", \"High\", $L$2, $A114, $Q$2,$P$2,,$N$2,$O$2)=\"\",NA(),RTD(\"cqg.rtd\",,\"StudyData\", $M$2, \"Bar\", \"\", \"High\", $L$2, $A114, $Q$2,$P$2,,$N$2,$O$2))","v":1842},{"$f":" IF(RTD(\"cqg.rtd\",,\"StudyData\", $M$2, \"Bar\", \"\", \"Low\", $L$2, $A114, $Q$2,$P$2,,$N$2,$O$2)=\"\",NA(),RTD(\"cqg.rtd\",,\"StudyData\", $M$2, \"Bar\", \"\", \"Low\", $L$2, $A114, $Q$2,$P$2,,$N$2,$O$2))","v":1839},{"$f":" IF(RTD(\"cqg.rtd\",,\"StudyData\", $M$2, \"Bar\", \"\", \"Close\", $L$2, $A114, $Q$2,$P$2,,$N$2,$O$2)=\"\",NA(),RTD(\"cqg.rtd\",,\"StudyData\", $M$2, \"Bar\", \"\", \"Close\", $L$2, $A114, $Q$2,$P$2,,$N$2,$O$2))","v":1840},null,null,null,null,null,null,null,null,null,null,null,null,null,{"$f":"RTD(\"cqg.rtd\",,\"StudyData\",$U$1&\"^.\"&$T$1&\"(\"&$M$2&\")\",\"Bar\",\"\",\"Close\",$L$2,A114,\"all\",\"\",\"\",\"True\")","v":-6055}]
[-113,{"$f":" RTD(\"cqg.rtd\",,\"StudyData\", $M$2, \"Bar\", \"\", \"Time\", $L$2,$A115, $Q$2, \"\", \"\",\"False\")","v":"2016-02-12T03:25:00"},{"$f":" IF(RTD(\"cqg.rtd\",,\"StudyData\", $M$2, \"Bar\", \"\", \"Time\", $L$2, $A115,$Q$2,$P$2, \"\",\"False\")=\"\",NA(),RTD(\"cqg.rtd\",,\"StudyData\", $M$2, \"Bar\", \"\", \"Time\", $L$2, $A115,$Q$2,$P$2, \"\",\"False\"))","v":42412.142361111109},{"$f":" IF(RTD(\"cqg.rtd\",,\"StudyData\", $M$2, \"Bar\", \"\", \"Open\", $L$2, $A115, $Q$2,$P$2,,$N$2,$O$2)=\"\",NA(),RTD(\"cqg.rtd\",,\"StudyData\", $M$2, \"Bar\", \"\", \"Open\", $L$2, $A115, $Q$2,$P$2,,$N$2,$O$2))","v":1839.25},{"$f":" IF(RTD(\"cqg.rtd\",,\"StudyData\", $M$2, \"Bar\", \"\", \"High\", $L$2, $A115, $Q$2,$P$2,,$N$2,$O$2)=\"\",NA(),RTD(\"cqg.rtd\",,\"StudyData\", $M$2, \"Bar\", \"\", \"High\", $L$2, $A115, $Q$2,$P$2,,$N$2,$O$2))","v":1840.5},{"$f":" IF(RTD(\"cqg.rtd\",,\"StudyData\", $M$2, \"Bar\", \"\", \"Low\", $L$2, $A115, $Q$2,$P$2,,$N$2,$O$2)=\"\",NA(),RTD(\"cqg.rtd\",,\"StudyData\", $M$2, \"Bar\", \"\", \"Low\", $L$2, $A115, $Q$2,$P$2,,$N$2,$O$2))","v":1838.5},{"$f":" IF(RTD(\"cqg.rtd\",,\"StudyData\", $M$2, \"Bar\", \"\", \"Close\", $L$2, $A115, $Q$2,$P$2,,$N$2,$O$2)=\"\",NA(),RTD(\"cqg.rtd\",,\"StudyData\", $M$2, \"Bar\", \"\", \"Close\", $L$2, $A115, $Q$2,$P$2,,$N$2,$O$2))","v":1839},null,null,null,null,null,null,null,null,null,null,null,null,null,{"$f":"RTD(\"cqg.rtd\",,\"StudyData\",$U$1&\"^.\"&$T$1&\"(\"&$M$2&\")\",\"Bar\",\"\",\"Close\",$L$2,A115,\"all\",\"\",\"\",\"True\")","v":-6055}]
[-114,{"$f":" RTD(\"cqg.rtd\",,\"StudyData\", $M$2, \"Bar\", \"\", \"Time\", $L$2,$A116, $Q$2, \"\", \"\",\"False\")","v":"2016-02-12T03:20:00"},{"$f":" IF(RTD(\"cqg.rtd\",,\"StudyData\", $M$2, \"Bar\", \"\", \"Time\", $L$2, $A116,$Q$2,$P$2, \"\",\"False\")=\"\",NA(),RTD(\"cqg.rtd\",,\"StudyData\", $M$2, \"Bar\", \"\", \"Time\", $L$2, $A116,$Q$2,$P$2, \"\",\"False\"))","v":42412.138888888891},{"$f":" IF(RTD(\"cqg.rtd\",,\"StudyData\", $M$2, \"Bar\", \"\", \"Open\", $L$2, $A116, $Q$2,$P$2,,$N$2,$O$2)=\"\",NA(),RTD(\"cqg.rtd\",,\"StudyData\", $M$2, \"Bar\", \"\", \"Open\", $L$2, $A116, $Q$2,$P$2,,$N$2,$O$2))","v":1842},{"$f":" IF(RTD(\"cqg.rtd\",,\"StudyData\", $M$2, \"Bar\", \"\", \"High\", $L$2, $A116, $Q$2,$P$2,,$N$2,$O$2)=\"\",NA(),RTD(\"cqg.rtd\",,\"StudyData\", $M$2, \"Bar\", \"\", \"High\", $L$2, $A116, $Q$2,$P$2,,$N$2,$O$2))","v":1842.5},{"$f":" IF(RTD(\"cqg.rtd\",,\"StudyData\", $M$2, \"Bar\", \"\", \"Low\", $L$2, $A116, $Q$2,$P$2,,$N$2,$O$2)=\"\",NA(),RTD(\"cqg.rtd\",,\"StudyData\", $M$2, \"Bar\", \"\", \"Low\", $L$2, $A116, $Q$2,$P$2,,$N$2,$O$2))","v":1838.5},{"$f":" IF(RTD(\"cqg.rtd\",,\"StudyData\", $M$2, \"Bar\", \"\", \"Close\", $L$2, $A116, $Q$2,$P$2,,$N$2,$O$2)=\"\",NA(),RTD(\"cqg.rtd\",,\"StudyData\", $M$2, \"Bar\", \"\", \"Close\", $L$2, $A116, $Q$2,$P$2,,$N$2,$O$2))","v":1839.25},null,null,null,null,null,null,null,null,null,null,null,null,null,{"$f":"RTD(\"cqg.rtd\",,\"StudyData\",$U$1&\"^.\"&$T$1&\"(\"&$M$2&\")\",\"Bar\",\"\",\"Close\",$L$2,A116,\"all\",\"\",\"\",\"True\")","v":-6055}]
[-115,{"$f":" RTD(\"cqg.rtd\",,\"StudyData\", $M$2, \"Bar\", \"\", \"Time\", $L$2,$A117, $Q$2, \"\", \"\",\"False\")","v":"2016-02-12T03:15:00"},{"$f":" IF(RTD(\"cqg.rtd\",,\"StudyData\", $M$2, \"Bar\", \"\", \"Time\", $L$2, $A117,$Q$2,$P$2, \"\",\"False\")=\"\",NA(),RTD(\"cqg.rtd\",,\"StudyData\", $M$2, \"Bar\", \"\", \"Time\", $L$2, $A117,$Q$2,$P$2, \"\",\"False\"))","v":42412.135416666664},{"$f":" IF(RTD(\"cqg.rtd\",,\"StudyData\", $M$2, \"Bar\", \"\", \"Open\", $L$2, $A117, $Q$2,$P$2,,$N$2,$O$2)=\"\",NA(),RTD(\"cqg.rtd\",,\"StudyData\", $M$2, \"Bar\", \"\", \"Open\", $L$2, $A117, $Q$2,$P$2,,$N$2,$O$2))","v":1838.25},{"$f":" IF(RTD(\"cqg.rtd\",,\"StudyData\", $M$2, \"Bar\", \"\", \"High\", $L$2, $A117, $Q$2,$P$2,,$N$2,$O$2)=\"\",NA(),RTD(\"cqg.rtd\",,\"StudyData\", $M$2, \"Bar\", \"\", \"High\", $L$2, $A117, $Q$2,$P$2,,$N$2,$O$2))","v":1842.25},{"$f":" IF(RTD(\"cqg.rtd\",,\"StudyData\", $M$2, \"Bar\", \"\", \"Low\", $L$2, $A117, $Q$2,$P$2,,$N$2,$O$2)=\"\",NA(),RTD(\"cqg.rtd\",,\"StudyData\", $M$2, \"Bar\", \"\", \"Low\", $L$2, $A117, $Q$2,$P$2,,$N$2,$O$2))","v":1838.25},{"$f":" IF(RTD(\"cqg.rtd\",,\"StudyData\", $M$2, \"Bar\", \"\", \"Close\", $L$2, $A117, $Q$2,$P$2,,$N$2,$O$2)=\"\",NA(),RTD(\"cqg.rtd\",,\"StudyData\", $M$2, \"Bar\", \"\", \"Close\", $L$2, $A117, $Q$2,$P$2,,$N$2,$O$2))","v":1842},null,null,null,null,null,null,null,null,null,null,null,null,null,{"$f":"RTD(\"cqg.rtd\",,\"StudyData\",$U$1&\"^.\"&$T$1&\"(\"&$M$2&\")\",\"Bar\",\"\",\"Close\",$L$2,A117,\"all\",\"\",\"\",\"True\")","v":-6055}]
[-116,{"$f":" RTD(\"cqg.rtd\",,\"StudyData\", $M$2, \"Bar\", \"\", \"Time\", $L$2,$A118, $Q$2, \"\", \"\",\"False\")","v":"2016-02-12T03:10:00"},{"$f":" IF(RTD(\"cqg.rtd\",,\"StudyData\", $M$2, \"Bar\", \"\", \"Time\", $L$2, $A118,$Q$2,$P$2, \"\",\"False\")=\"\",NA(),RTD(\"cqg.rtd\",,\"StudyData\", $M$2, \"Bar\", \"\", \"Time\", $L$2, $A118,$Q$2,$P$2, \"\",\"False\"))","v":42412.131944444445},{"$f":" IF(RTD(\"cqg.rtd\",,\"StudyData\", $M$2, \"Bar\", \"\", \"Open\", $L$2, $A118, $Q$2,$P$2,,$N$2,$O$2)=\"\",NA(),RTD(\"cqg.rtd\",,\"StudyData\", $M$2, \"Bar\", \"\", \"Open\", $L$2, $A118, $Q$2,$P$2,,$N$2,$O$2))","v":1838.5},{"$f":" IF(RTD(\"cqg.rtd\",,\"StudyData\", $M$2, \"Bar\", \"\", \"High\", $L$2, $A118, $Q$2,$P$2,,$N$2,$O$2)=\"\",NA(),RTD(\"cqg.rtd\",,\"StudyData\", $M$2, \"Bar\", \"\", \"High\", $L$2, $A118, $Q$2,$P$2,,$N$2,$O$2))","v":1839.75},{"$f":" IF(RTD(\"cqg.rtd\",,\"StudyData\", $M$2, \"Bar\", \"\", \"Low\", $L$2, $A118, $Q$2,$P$2,,$N$2,$O$2)=\"\",NA(),RTD(\"cqg.rtd\",,\"StudyData\", $M$2, \"Bar\", \"\", \"Low\", $L$2, $A118, $Q$2,$P$2,,$N$2,$O$2))","v":1837.5},{"$f":" IF(RTD(\"cqg.rtd\",,\"StudyData\", $M$2, \"Bar\", \"\", \"Close\", $L$2, $A118, $Q$2,$P$2,,$N$2,$O$2)=\"\",NA(),RTD(\"cqg.rtd\",,\"StudyData\", $M$2, \"Bar\", \"\", \"Close\", $L$2, $A118, $Q$2,$P$2,,$N$2,$O$2))","v":1838.25},null,null,null,null,null,null,null,null,null,null,null,null,null,{"$f":"RTD(\"cqg.rtd\",,\"StudyData\",$U$1&\"^.\"&$T$1&\"(\"&$M$2&\")\",\"Bar\",\"\",\"Close\",$L$2,A118,\"all\",\"\",\"\",\"True\")","v":-6055}]
[-117,{"$f":" RTD(\"cqg.rtd\",,\"StudyData\", $M$2, \"Bar\", \"\", \"Time\", $L$2,$A119, $Q$2, \"\", \"\",\"False\")","v":"2016-02-12T03:05:00"},{"$f":" IF(RTD(\"cqg.rtd\",,\"StudyData\", $M$2, \"Bar\", \"\", \"Time\", $L$2, $A119,$Q$2,$P$2, \"\",\"False\")=\"\",NA(),RTD(\"cqg.rtd\",,\"StudyData\", $M$2, \"Bar\", \"\", \"Time\", $L$2, $A119,$Q$2,$P$2, \"\",\"False\"))","v":42412.128472222219},{"$f":" IF(RTD(\"cqg.rtd\",,\"StudyData\", $M$2, \"Bar\", \"\", \"Open\", $L$2, $A119, $Q$2,$P$2,,$N$2,$O$2)=\"\",NA(),RTD(\"cqg.rtd\",,\"StudyData\", $M$2, \"Bar\", \"\", \"Open\", $L$2, $A119, $Q$2,$P$2,,$N$2,$O$2))","v":1836.25},{"$f":" IF(RTD(\"cqg.rtd\",,\"StudyData\", $M$2, \"Bar\", \"\", \"High\", $L$2, $A119, $Q$2,$P$2,,$N$2,$O$2)=\"\",NA(),RTD(\"cqg.rtd\",,\"StudyData\", $M$2, \"Bar\", \"\", \"High\", $L$2, $A119, $Q$2,$P$2,,$N$2,$O$2))","v":1838.75},{"$f":" IF(RTD(\"cqg.rtd\",,\"StudyData\", $M$2, \"Bar\", \"\", \"Low\", $L$2, $A119, $Q$2,$P$2,,$N$2,$O$2)=\"\",NA(),RTD(\"cqg.rtd\",,\"StudyData\", $M$2, \"Bar\", \"\", \"Low\", $L$2, $A119, $Q$2,$P$2,,$N$2,$O$2))","v":1835.5},{"$f":" IF(RTD(\"cqg.rtd\",,\"StudyData\", $M$2, \"Bar\", \"\", \"Close\", $L$2, $A119, $Q$2,$P$2,,$N$2,$O$2)=\"\",NA(),RTD(\"cqg.rtd\",,\"StudyData\", $M$2, \"Bar\", \"\", \"Close\", $L$2, $A119, $Q$2,$P$2,,$N$2,$O$2))","v":1838.25},null,null,null,null,null,null,null,null,null,null,null,null,null,{"$f":"RTD(\"cqg.rtd\",,\"StudyData\",$U$1&\"^.\"&$T$1&\"(\"&$M$2&\")\",\"Bar\",\"\",\"Close\",$L$2,A119,\"all\",\"\",\"\",\"True\")","v":-6055}]
[-118,{"$f":" RTD(\"cqg.rtd\",,\"StudyData\", $M$2, \"Bar\", \"\", \"Time\", $L$2,$A120, $Q$2, \"\", \"\",\"False\")","v":"2016-02-12T03:00:00"},{"$f":" IF(RTD(\"cqg.rtd\",,\"StudyData\", $M$2, \"Bar\", \"\", \"Time\", $L$2, $A120,$Q$2,$P$2, \"\",\"False\")=\"\",NA(),RTD(\"cqg.rtd\",,\"StudyData\", $M$2, \"Bar\", \"\", \"Time\", $L$2, $A120,$Q$2,$P$2, \"\",\"False\"))","v":42412.125},{"$f":" IF(RTD(\"cqg.rtd\",,\"StudyData\", $M$2, \"Bar\", \"\", \"Open\", $L$2, $A120, $Q$2,$P$2,,$N$2,$O$2)=\"\",NA(),RTD(\"cqg.rtd\",,\"StudyData\", $M$2, \"Bar\", \"\", \"Open\", $L$2, $A120, $Q$2,$P$2,,$N$2,$O$2))","v":1838.75},{"$f":" IF(RTD(\"cqg.rtd\",,\"StudyData\", $M$2, \"Bar\", \"\", \"High\", $L$2, $A120, $Q$2,$P$2,,$N$2,$O$2)=\"\",NA(),RTD(\"cqg.rtd\",,\"StudyData\", $M$2, \"Bar\", \"\", \"High\", $L$2, $A120, $Q$2,$P$2,,$N$2,$O$2))","v":1838.75},{"$f":" IF(RTD(\"cqg.rtd\",,\"StudyData\", $M$2, \"Bar\", \"\", \"Low\", $L$2, $A120, $Q$2,$P$2,,$N$2,$O$2)=\"\",NA(),RTD(\"cqg.rtd\",,\"StudyData\", $M$2, \"Bar\", \"\", \"Low\", $L$2, $A120, $Q$2,$P$2,,$N$2,$O$2))","v":1835},{"$f":" IF(RTD(\"cqg.rtd\",,\"StudyData\", $M$2, \"Bar\", \"\", \"Close\", $L$2, $A120, $Q$2,$P$2,,$N$2,$O$2)=\"\",NA(),RTD(\"cqg.rtd\",,\"StudyData\", $M$2, \"Bar\", \"\", \"Close\", $L$2, $A120, $Q$2,$P$2,,$N$2,$O$2))","v":1836.25},null,null,null,null,null,null,null,null,null,null,null,null,null,{"$f":"RTD(\"cqg.rtd\",,\"StudyData\",$U$1&\"^.\"&$T$1&\"(\"&$M$2&\")\",\"Bar\",\"\",\"Close\",$L$2,A120,\"all\",\"\",\"\",\"True\")","v":-6055}]
[-119,{"$f":" RTD(\"cqg.rtd\",,\"StudyData\", $M$2, \"Bar\", \"\", \"Time\", $L$2,$A121, $Q$2, \"\", \"\",\"False\")","v":"2016-02-12T02:55:00"},{"$f":" IF(RTD(\"cqg.rtd\",,\"StudyData\", $M$2, \"Bar\", \"\", \"Time\", $L$2, $A121,$Q$2,$P$2, \"\",\"False\")=\"\",NA(),RTD(\"cqg.rtd\",,\"StudyData\", $M$2, \"Bar\", \"\", \"Time\", $L$2, $A121,$Q$2,$P$2, \"\",\"False\"))","v":42412.121527777781},{"$f":" IF(RTD(\"cqg.rtd\",,\"StudyData\", $M$2, \"Bar\", \"\", \"Open\", $L$2, $A121, $Q$2,$P$2,,$N$2,$O$2)=\"\",NA(),RTD(\"cqg.rtd\",,\"StudyData\", $M$2, \"Bar\", \"\", \"Open\", $L$2, $A121, $Q$2,$P$2,,$N$2,$O$2))","v":1839.75},{"$f":" IF(RTD(\"cqg.rtd\",,\"StudyData\", $M$2, \"Bar\", \"\", \"High\", $L$2, $A121, $Q$2,$P$2,,$N$2,$O$2)=\"\",NA(),RTD(\"cqg.rtd\",,\"StudyData\", $M$2, \"Bar\", \"\", \"High\", $L$2, $A121, $Q$2,$P$2,,$N$2,$O$2))","v":1840},{"$f":" IF(RTD(\"cqg.rtd\",,\"StudyData\", $M$2, \"Bar\", \"\", \"Low\", $L$2, $A121, $Q$2,$P$2,,$N$2,$O$2)=\"\",NA(),RTD(\"cqg.rtd\",,\"StudyData\", $M$2, \"Bar\", \"\", \"Low\", $L$2, $A121, $Q$2,$P$2,,$N$2,$O$2))","v":1837},{"$f":" IF(RTD(\"cqg.rtd\",,\"StudyData\", $M$2, \"Bar\", \"\", \"Close\", $L$2, $A121, $Q$2,$P$2,,$N$2,$O$2)=\"\",NA(),RTD(\"cqg.rtd\",,\"StudyData\", $M$2, \"Bar\", \"\", \"Close\", $L$2, $A121, $Q$2,$P$2,,$N$2,$O$2))","v":1838.5},null,null,null,null,null,null,null,null,null,null,null,null,null,{"$f":"RTD(\"cqg.rtd\",,\"StudyData\",$U$1&\"^.\"&$T$1&\"(\"&$M$2&\")\",\"Bar\",\"\",\"Close\",$L$2,A121,\"all\",\"\",\"\",\"True\")","v":-6055}]
[-120,{"$f":" RTD(\"cqg.rtd\",,\"StudyData\", $M$2, \"Bar\", \"\", \"Time\", $L$2,$A122, $Q$2, \"\", \"\",\"False\")","v":"2016-02-12T02:50:00"},{"$f":" IF(RTD(\"cqg.rtd\",,\"StudyData\", $M$2, \"Bar\", \"\", \"Time\", $L$2, $A122,$Q$2,$P$2, \"\",\"False\")=\"\",NA(),RTD(\"cqg.rtd\",,\"StudyData\", $M$2, \"Bar\", \"\", \"Time\", $L$2, $A122,$Q$2,$P$2, \"\",\"False\"))","v":42412.118055555555},{"$f":" IF(RTD(\"cqg.rtd\",,\"StudyData\", $M$2, \"Bar\", \"\", \"Open\", $L$2, $A122, $Q$2,$P$2,,$N$2,$O$2)=\"\",NA(),RTD(\"cqg.rtd\",,\"StudyData\", $M$2, \"Bar\", \"\", \"Open\", $L$2, $A122, $Q$2,$P$2,,$N$2,$O$2))","v":1836.5},{"$f":" IF(RTD(\"cqg.rtd\",,\"StudyData\", $M$2, \"Bar\", \"\", \"High\", $L$2, $A122, $Q$2,$P$2,,$N$2,$O$2)=\"\",NA(),RTD(\"cqg.rtd\",,\"StudyData\", $M$2, \"Bar\", \"\", \"High\", $L$2, $A122, $Q$2,$P$2,,$N$2,$O$2))","v":1839.75},{"$f":" IF(RTD(\"cqg.rtd\",,\"StudyData\", $M$2, \"Bar\", \"\", \"Low\", $L$2, $A122, $Q$2,$P$2,,$N$2,$O$2)=\"\",NA(),RTD(\"cqg.rtd\",,\"StudyData\", $M$2, \"Bar\", \"\", \"Low\", $L$2, $A122, $Q$2,$P$2,,$N$2,$O$2))","v":1835.25},{"$f":" IF(RTD(\"cqg.rtd\",,\"StudyData\", $M$2, \"Bar\", \"\", \"Close\", $L$2, $A122, $Q$2,$P$2,,$N$2,$O$2)=\"\",NA(),RTD(\"cqg.rtd\",,\"StudyData\", $M$2, \"Bar\", \"\", \"Close\", $L$2, $A122, $Q$2,$P$2,,$N$2,$O$2))","v":1839.75},null,null,null,null,null,null,null,null,null,null,null,null,null,{"$f":"RTD(\"cqg.rtd\",,\"StudyData\",$U$1&\"^.\"&$T$1&\"(\"&$M$2&\")\",\"Bar\",\"\",\"Close\",$L$2,A122,\"all\",\"\",\"\",\"True\")","v":-6055}]
[-121,{"$f":" RTD(\"cqg.rtd\",,\"StudyData\", $M$2, \"Bar\", \"\", \"Time\", $L$2,$A123, $Q$2, \"\", \"\",\"False\")","v":"2016-02-12T02:45:00"},{"$f":" IF(RTD(\"cqg.rtd\",,\"StudyData\", $M$2, \"Bar\", \"\", \"Time\", $L$2, $A123,$Q$2,$P$2, \"\",\"False\")=\"\",NA(),RTD(\"cqg.rtd\",,\"StudyData\", $M$2, \"Bar\", \"\", \"Time\", $L$2, $A123,$Q$2,$P$2, \"\",\"False\"))","v":42412.114583333336},{"$f":" IF(RTD(\"cqg.rtd\",,\"StudyData\", $M$2, \"Bar\", \"\", \"Open\", $L$2, $A123, $Q$2,$P$2,,$N$2,$O$2)=\"\",NA(),RTD(\"cqg.rtd\",,\"StudyData\", $M$2, \"Bar\", \"\", \"Open\", $L$2, $A123, $Q$2,$P$2,,$N$2,$O$2))","v":1833.25},{"$f":" IF(RTD(\"cqg.rtd\",,\"StudyData\", $M$2, \"Bar\", \"\", \"High\", $L$2, $A123, $Q$2,$P$2,,$N$2,$O$2)=\"\",NA(),RTD(\"cqg.rtd\",,\"StudyData\", $M$2, \"Bar\", \"\", \"High\", $L$2, $A123, $Q$2,$P$2,,$N$2,$O$2))","v":1837},{"$f":" IF(RTD(\"cqg.rtd\",,\"StudyData\", $M$2, \"Bar\", \"\", \"Low\", $L$2, $A123, $Q$2,$P$2,,$N$2,$O$2)=\"\",NA(),RTD(\"cqg.rtd\",,\"StudyData\", $M$2, \"Bar\", \"\", \"Low\", $L$2, $A123, $Q$2,$P$2,,$N$2,$O$2))","v":1833.25},{"$f":" IF(RTD(\"cqg.rtd\",,\"StudyData\", $M$2, \"Bar\", \"\", \"Close\", $L$2, $A123, $Q$2,$P$2,,$N$2,$O$2)=\"\",NA(),RTD(\"cqg.rtd\",,\"StudyData\", $M$2, \"Bar\", \"\", \"Close\", $L$2, $A123, $Q$2,$P$2,,$N$2,$O$2))","v":1836.75},null,null,null,null,null,null,null,null,null,null,null,null,null,{"$f":"RTD(\"cqg.rtd\",,\"StudyData\",$U$1&\"^.\"&$T$1&\"(\"&$M$2&\")\",\"Bar\",\"\",\"Close\",$L$2,A123,\"all\",\"\",\"\",\"True\")","v":-6055}]
[-122,{"$f":" RTD(\"cqg.rtd\",,\"StudyData\", $M$2, \"Bar\", \"\", \"Time\", $L$2,$A124, $Q$2, \"\", \"\",\"False\")","v":"2016-02-12T02:40:00"},{"$f":" IF(RTD(\"cqg.rtd\",,\"StudyData\", $M$2, \"Bar\", \"\", \"Time\", $L$2, $A124,$Q$2,$P$2, \"\",\"False\")=\"\",NA(),RTD(\"cqg.rtd\",,\"StudyData\", $M$2, \"Bar\", \"\", \"Time\", $L$2, $A124,$Q$2,$P$2, \"\",\"False\"))","v":42412.111111111109},{"$f":" IF(RTD(\"cqg.rtd\",,\"StudyData\", $M$2, \"Bar\", \"\", \"Open\", $L$2, $A124, $Q$2,$P$2,,$N$2,$O$2)=\"\",NA(),RTD(\"cqg.rtd\",,\"StudyData\", $M$2, \"Bar\", \"\", \"Open\", $L$2, $A124, $Q$2,$P$2,,$N$2,$O$2))","v":1834},{"$f":" IF(RTD(\"cqg.rtd\",,\"StudyData\", $M$2, \"Bar\", \"\", \"High\", $L$2, $A124, $Q$2,$P$2,,$N$2,$O$2)=\"\",NA(),RTD(\"cqg.rtd\",,\"StudyData\", $M$2, \"Bar\", \"\", \"High\", $L$2, $A124, $Q$2,$P$2,,$N$2,$O$2))","v":1835},{"$f":" IF(RTD(\"cqg.rtd\",,\"StudyData\", $M$2, \"Bar\", \"\", \"Low\", $L$2, $A124, $Q$2,$P$2,,$N$2,$O$2)=\"\",NA(),RTD(\"cqg.rtd\",,\"StudyData\", $M$2, \"Bar\", \"\", \"Low\", $L$2, $A124, $Q$2,$P$2,,$N$2,$O$2))","v":1832.75},{"$f":" IF(RTD(\"cqg.rtd\",,\"StudyData\", $M$2, \"Bar\", \"\", \"Close\", $L$2, $A124, $Q$2,$P$2,,$N$2,$O$2)=\"\",NA(),RTD(\"cqg.rtd\",,\"StudyData\", $M$2, \"Bar\", \"\", \"Close\", $L$2, $A124, $Q$2,$P$2,,$N$2,$O$2))","v":1833.25},null,null,null,null,null,null,null,null,null,null,null,null,null,{"$f":"RTD(\"cqg.rtd\",,\"StudyData\",$U$1&\"^.\"&$T$1&\"(\"&$M$2&\")\",\"Bar\",\"\",\"Close\",$L$2,A124,\"all\",\"\",\"\",\"True\")","v":-6055}]
[-123,{"$f":" RTD(\"cqg.rtd\",,\"StudyData\", $M$2, \"Bar\", \"\", \"Time\", $L$2,$A125, $Q$2, \"\", \"\",\"False\")","v":"2016-02-12T02:35:00"},{"$f":" IF(RTD(\"cqg.rtd\",,\"StudyData\", $M$2, \"Bar\", \"\", \"Time\", $L$2, $A125,$Q$2,$P$2, \"\",\"False\")=\"\",NA(),RTD(\"cqg.rtd\",,\"StudyData\", $M$2, \"Bar\", \"\", \"Time\", $L$2, $A125,$Q$2,$P$2, \"\",\"False\"))","v":42412.107638888891},{"$f":" IF(RTD(\"cqg.rtd\",,\"StudyData\", $M$2, \"Bar\", \"\", \"Open\", $L$2, $A125, $Q$2,$P$2,,$N$2,$O$2)=\"\",NA(),RTD(\"cqg.rtd\",,\"StudyData\", $M$2, \"Bar\", \"\", \"Open\", $L$2, $A125, $Q$2,$P$2,,$N$2,$O$2))","v":1833.5},{"$f":" IF(RTD(\"cqg.rtd\",,\"StudyData\", $M$2, \"Bar\", \"\", \"High\", $L$2, $A125, $Q$2,$P$2,,$N$2,$O$2)=\"\",NA(),RTD(\"cqg.rtd\",,\"StudyData\", $M$2, \"Bar\", \"\", \"High\", $L$2, $A125, $Q$2,$P$2,,$N$2,$O$2))","v":1835.5},{"$f":" IF(RTD(\"cqg.rtd\",,\"StudyData\", $M$2, \"Bar\", \"\", \"Low\", $L$2, $A125, $Q$2,$P$2,,$N$2,$O$2)=\"\",NA(),RTD(\"cqg.rtd\",,\"StudyData\", $M$2, \"Bar\", \"\", \"Low\", $L$2, $A125, $Q$2,$P$2,,$N$2,$O$2))","v":1832.5},{"$f":" IF(RTD(\"cqg.rtd\",,\"StudyData\", $M$2, \"Bar\", \"\", \"Close\", $L$2, $A125, $Q$2,$P$2,,$N$2,$O$2)=\"\",NA(),RTD(\"cqg.rtd\",,\"StudyData\", $M$2, \"Bar\", \"\", \"Close\", $L$2, $A125, $Q$2,$P$2,,$N$2,$O$2))","v":1834.25},null,null,null,null,null,null,null,null,null,null,null,null,null,{"$f":"RTD(\"cqg.rtd\",,\"StudyData\",$U$1&\"^.\"&$T$1&\"(\"&$M$2&\")\",\"Bar\",\"\",\"Close\",$L$2,A125,\"all\",\"\",\"\",\"True\")","v":-6055}]
[-124,{"$f":" RTD(\"cqg.rtd\",,\"StudyData\", $M$2, \"Bar\", \"\", \"Time\", $L$2,$A126, $Q$2, \"\", \"\",\"False\")","v":"2016-02-12T02:30:00"},{"$f":" IF(RTD(\"cqg.rtd\",,\"StudyData\", $M$2, \"Bar\", \"\", \"Time\", $L$2, $A126,$Q$2,$P$2, \"\",\"False\")=\"\",NA(),RTD(\"cqg.rtd\",,\"StudyData\", $M$2, \"Bar\", \"\", \"Time\", $L$2, $A126,$Q$2,$P$2, \"\",\"False\"))","v":42412.104166666664},{"$f":" IF(RTD(\"cqg.rtd\",,\"StudyData\", $M$2, \"Bar\", \"\", \"Open\", $L$2, $A126, $Q$2,$P$2,,$N$2,$O$2)=\"\",NA(),RTD(\"cqg.rtd\",,\"StudyData\", $M$2, \"Bar\", \"\", \"Open\", $L$2, $A126, $Q$2,$P$2,,$N$2,$O$2))","v":1835.25},{"$f":" IF(RTD(\"cqg.rtd\",,\"StudyData\", $M$2, \"Bar\", \"\", \"High\", $L$2, $A126, $Q$2,$P$2,,$N$2,$O$2)=\"\",NA(),RTD(\"cqg.rtd\",,\"StudyData\", $M$2, \"Bar\", \"\", \"High\", $L$2, $A126, $Q$2,$P$2,,$N$2,$O$2))","v":1836},{"$f":" IF(RTD(\"cqg.rtd\",,\"StudyData\", $M$2, \"Bar\", \"\", \"Low\", $L$2, $A126, $Q$2,$P$2,,$N$2,$O$2)=\"\",NA(),RTD(\"cqg.rtd\",,\"StudyData\", $M$2, \"Bar\", \"\", \"Low\", $L$2, $A126, $Q$2,$P$2,,$N$2,$O$2))","v":1833},{"$f":" IF(RTD(\"cqg.rtd\",,\"StudyData\", $M$2, \"Bar\", \"\", \"Close\", $L$2, $A126, $Q$2,$P$2,,$N$2,$O$2)=\"\",NA(),RTD(\"cqg.rtd\",,\"StudyData\", $M$2, \"Bar\", \"\", \"Close\", $L$2, $A126, $Q$2,$P$2,,$N$2,$O$2))","v":1833.5},null,null,null,null,null,null,null,null,null,null,null,null,null,{"$f":"RTD(\"cqg.rtd\",,\"StudyData\",$U$1&\"^.\"&$T$1&\"(\"&$M$2&\")\",\"Bar\",\"\",\"Close\",$L$2,A126,\"all\",\"\",\"\",\"True\")","v":-6055}]
[-125,{"$f":" RTD(\"cqg.rtd\",,\"StudyData\", $M$2, \"Bar\", \"\", \"Time\", $L$2,$A127, $Q$2, \"\", \"\",\"False\")","v":"2016-02-12T02:25:00"},{"$f":" IF(RTD(\"cqg.rtd\",,\"StudyData\", $M$2, \"Bar\", \"\", \"Time\", $L$2, $A127,$Q$2,$P$2, \"\",\"False\")=\"\",NA(),RTD(\"cqg.rtd\",,\"StudyData\", $M$2, \"Bar\", \"\", \"Time\", $L$2, $A127,$Q$2,$P$2, \"\",\"False\"))","v":42412.100694444445},{"$f":" IF(RTD(\"cqg.rtd\",,\"StudyData\", $M$2, \"Bar\", \"\", \"Open\", $L$2, $A127, $Q$2,$P$2,,$N$2,$O$2)=\"\",NA(),RTD(\"cqg.rtd\",,\"StudyData\", $M$2, \"Bar\", \"\", \"Open\", $L$2, $A127, $Q$2,$P$2,,$N$2,$O$2))","v":1837},{"$f":" IF(RTD(\"cqg.rtd\",,\"StudyData\", $M$2, \"Bar\", \"\", \"High\", $L$2, $A127, $Q$2,$P$2,,$N$2,$O$2)=\"\",NA(),RTD(\"cqg.rtd\",,\"StudyData\", $M$2, \"Bar\", \"\", \"High\", $L$2, $A127, $Q$2,$P$2,,$N$2,$O$2))","v":1837.75},{"$f":" IF(RTD(\"cqg.rtd\",,\"StudyData\", $M$2, \"Bar\", \"\", \"Low\", $L$2, $A127, $Q$2,$P$2,,$N$2,$O$2)=\"\",NA(),RTD(\"cqg.rtd\",,\"StudyData\", $M$2, \"Bar\", \"\", \"Low\", $L$2, $A127, $Q$2,$P$2,,$N$2,$O$2))","v":1835},{"$f":" IF(RTD(\"cqg.rtd\",,\"StudyData\", $M$2, \"Bar\", \"\", \"Close\", $L$2, $A127, $Q$2,$P$2,,$N$2,$O$2)=\"\",NA(),RTD(\"cqg.rtd\",,\"StudyData\", $M$2, \"Bar\", \"\", \"Close\", $L$2, $A127, $Q$2,$P$2,,$N$2,$O$2))","v":1835.25},null,null,null,null,null,null,null,null,null,null,null,null,null,{"$f":"RTD(\"cqg.rtd\",,\"StudyData\",$U$1&\"^.\"&$T$1&\"(\"&$M$2&\")\",\"Bar\",\"\",\"Close\",$L$2,A127,\"all\",\"\",\"\",\"True\")","v":-5442.5}]
[-126,{"$f":" RTD(\"cqg.rtd\",,\"StudyData\", $M$2, \"Bar\", \"\", \"Time\", $L$2,$A128, $Q$2, \"\", \"\",\"False\")","v":"2016-02-12T02:20:00"},{"$f":" IF(RTD(\"cqg.rtd\",,\"StudyData\", $M$2, \"Bar\", \"\", \"Time\", $L$2, $A128,$Q$2,$P$2, \"\",\"False\")=\"\",NA(),RTD(\"cqg.rtd\",,\"StudyData\", $M$2, \"Bar\", \"\", \"Time\", $L$2, $A128,$Q$2,$P$2, \"\",\"False\"))","v":42412.097222222219},{"$f":" IF(RTD(\"cqg.rtd\",,\"StudyData\", $M$2, \"Bar\", \"\", \"Open\", $L$2, $A128, $Q$2,$P$2,,$N$2,$O$2)=\"\",NA(),RTD(\"cqg.rtd\",,\"StudyData\", $M$2, \"Bar\", \"\", \"Open\", $L$2, $A128, $Q$2,$P$2,,$N$2,$O$2))","v":1840.25},{"$f":" IF(RTD(\"cqg.rtd\",,\"StudyData\", $M$2, \"Bar\", \"\", \"High\", $L$2, $A128, $Q$2,$P$2,,$N$2,$O$2)=\"\",NA(),RTD(\"cqg.rtd\",,\"StudyData\", $M$2, \"Bar\", \"\", \"High\", $L$2, $A128, $Q$2,$P$2,,$N$2,$O$2))","v":1840.5},{"$f":" IF(RTD(\"cqg.rtd\",,\"StudyData\", $M$2, \"Bar\", \"\", \"Low\", $L$2, $A128, $Q$2,$P$2,,$N$2,$O$2)=\"\",NA(),RTD(\"cqg.rtd\",,\"StudyData\", $M$2, \"Bar\", \"\", \"Low\", $L$2, $A128, $Q$2,$P$2,,$N$2,$O$2))","v":1836.5},{"$f":" IF(RTD(\"cqg.rtd\",,\"StudyData\", $M$2, \"Bar\", \"\", \"Close\", $L$2, $A128, $Q$2,$P$2,,$N$2,$O$2)=\"\",NA(),RTD(\"cqg.rtd\",,\"StudyData\", $M$2, \"Bar\", \"\", \"Close\", $L$2, $A128, $Q$2,$P$2,,$N$2,$O$2))","v":1837.25},null,null,null,null,null,null,null,null,null,null,null,null,null,{"$f":"RTD(\"cqg.rtd\",,\"StudyData\",$U$1&\"^.\"&$T$1&\"(\"&$M$2&\")\",\"Bar\",\"\",\"Close\",$L$2,A128,\"all\",\"\",\"\",\"True\")","v":-4742.5}]
[-127,{"$f":" RTD(\"cqg.rtd\",,\"StudyData\", $M$2, \"Bar\", \"\", \"Time\", $L$2,$A129, $Q$2, \"\", \"\",\"False\")","v":"2016-02-12T02:15:00"},{"$f":" IF(RTD(\"cqg.rtd\",,\"StudyData\", $M$2, \"Bar\", \"\", \"Time\", $L$2, $A129,$Q$2,$P$2, \"\",\"False\")=\"\",NA(),RTD(\"cqg.rtd\",,\"StudyData\", $M$2, \"Bar\", \"\", \"Time\", $L$2, $A129,$Q$2,$P$2, \"\",\"False\"))","v":42412.09375},{"$f":" IF(RTD(\"cqg.rtd\",,\"StudyData\", $M$2, \"Bar\", \"\", \"Open\", $L$2, $A129, $Q$2,$P$2,,$N$2,$O$2)=\"\",NA(),RTD(\"cqg.rtd\",,\"StudyData\", $M$2, \"Bar\", \"\", \"Open\", $L$2, $A129, $Q$2,$P$2,,$N$2,$O$2))","v":1838},{"$f":" IF(RTD(\"cqg.rtd\",,\"StudyData\", $M$2, \"Bar\", \"\", \"High\", $L$2, $A129, $Q$2,$P$2,,$N$2,$O$2)=\"\",NA(),RTD(\"cqg.rtd\",,\"StudyData\", $M$2, \"Bar\", \"\", \"High\", $L$2, $A129, $Q$2,$P$2,,$N$2,$O$2))","v":1841.25},{"$f":" IF(RTD(\"cqg.rtd\",,\"StudyData\", $M$2, \"Bar\", \"\", \"Low\", $L$2, $A129, $Q$2,$P$2,,$N$2,$O$2)=\"\",NA(),RTD(\"cqg.rtd\",,\"StudyData\", $M$2, \"Bar\", \"\", \"Low\", $L$2, $A129, $Q$2,$P$2,,$N$2,$O$2))","v":1838},{"$f":" IF(RTD(\"cqg.rtd\",,\"StudyData\", $M$2, \"Bar\", \"\", \"Close\", $L$2, $A129, $Q$2,$P$2,,$N$2,$O$2)=\"\",NA(),RTD(\"cqg.rtd\",,\"StudyData\", $M$2, \"Bar\", \"\", \"Close\", $L$2, $A129, $Q$2,$P$2,,$N$2,$O$2))","v":1840.5},null,null,null,null,null,null,null,null,null,null,null,null,null,{"$f":"RTD(\"cqg.rtd\",,\"StudyData\",$U$1&\"^.\"&$T$1&\"(\"&$M$2&\")\",\"Bar\",\"\",\"Close\",$L$2,A129,\"all\",\"\",\"\",\"True\")","v":-3605}]
[-128,{"$f":" RTD(\"cqg.rtd\",,\"StudyData\", $M$2, \"Bar\", \"\", \"Time\", $L$2,$A130, $Q$2, \"\", \"\",\"False\")","v":"2016-02-12T02:10:00"},{"$f":" IF(RTD(\"cqg.rtd\",,\"StudyData\", $M$2, \"Bar\", \"\", \"Time\", $L$2, $A130,$Q$2,$P$2, \"\",\"False\")=\"\",NA(),RTD(\"cqg.rtd\",,\"StudyData\", $M$2, \"Bar\", \"\", \"Time\", $L$2, $A130,$Q$2,$P$2, \"\",\"False\"))","v":42412.090277777781},{"$f":" IF(RTD(\"cqg.rtd\",,\"StudyData\", $M$2, \"Bar\", \"\", \"Open\", $L$2, $A130, $Q$2,$P$2,,$N$2,$O$2)=\"\",NA(),RTD(\"cqg.rtd\",,\"StudyData\", $M$2, \"Bar\", \"\", \"Open\", $L$2, $A130, $Q$2,$P$2,,$N$2,$O$2))","v":1835.75},{"$f":" IF(RTD(\"cqg.rtd\",,\"StudyData\", $M$2, \"Bar\", \"\", \"High\", $L$2, $A130, $Q$2,$P$2,,$N$2,$O$2)=\"\",NA(),RTD(\"cqg.rtd\",,\"StudyData\", $M$2, \"Bar\", \"\", \"High\", $L$2, $A130, $Q$2,$P$2,,$N$2,$O$2))","v":1839.25},{"$f":" IF(RTD(\"cqg.rtd\",,\"StudyData\", $M$2, \"Bar\", \"\", \"Low\", $L$2, $A130, $Q$2,$P$2,,$N$2,$O$2)=\"\",NA(),RTD(\"cqg.rtd\",,\"StudyData\", $M$2, \"Bar\", \"\", \"Low\", $L$2, $A130, $Q$2,$P$2,,$N$2,$O$2))","v":1834.75},{"$f":" IF(RTD(\"cqg.rtd\",,\"StudyData\", $M$2, \"Bar\", \"\", \"Close\", $L$2, $A130, $Q$2,$P$2,,$N$2,$O$2)=\"\",NA(),RTD(\"cqg.rtd\",,\"StudyData\", $M$2, \"Bar\", \"\", \"Close\", $L$2, $A130, $Q$2,$P$2,,$N$2,$O$2))","v":1838},null,null,null,null,null,null,null,null,null,null,null,null,null,{"$f":"RTD(\"cqg.rtd\",,\"StudyData\",$U$1&\"^.\"&$T$1&\"(\"&$M$2&\")\",\"Bar\",\"\",\"Close\",$L$2,A130,\"all\",\"\",\"\",\"True\")","v":-4480}]
[-129,{"$f":" RTD(\"cqg.rtd\",,\"StudyData\", $M$2, \"Bar\", \"\", \"Time\", $L$2,$A131, $Q$2, \"\", \"\",\"False\")","v":"2016-02-12T02:05:00"},{"$f":" IF(RTD(\"cqg.rtd\",,\"StudyData\", $M$2, \"Bar\", \"\", \"Time\", $L$2, $A131,$Q$2,$P$2, \"\",\"False\")=\"\",NA(),RTD(\"cqg.rtd\",,\"StudyData\", $M$2, \"Bar\", \"\", \"Time\", $L$2, $A131,$Q$2,$P$2, \"\",\"False\"))","v":42412.086805555555},{"$f":" IF(RTD(\"cqg.rtd\",,\"StudyData\", $M$2, \"Bar\", \"\", \"Open\", $L$2, $A131, $Q$2,$P$2,,$N$2,$O$2)=\"\",NA(),RTD(\"cqg.rtd\",,\"StudyData\", $M$2, \"Bar\", \"\", \"Open\", $L$2, $A131, $Q$2,$P$2,,$N$2,$O$2))","v":1834.5},{"$f":" IF(RTD(\"cqg.rtd\",,\"StudyData\", $M$2, \"Bar\", \"\", \"High\", $L$2, $A131, $Q$2,$P$2,,$N$2,$O$2)=\"\",NA(),RTD(\"cqg.rtd\",,\"StudyData\", $M$2, \"Bar\", \"\", \"High\", $L$2, $A131, $Q$2,$P$2,,$N$2,$O$2))","v":1836.5},{"$f":" IF(RTD(\"cqg.rtd\",,\"StudyData\", $M$2, \"Bar\", \"\", \"Low\", $L$2, $A131, $Q$2,$P$2,,$N$2,$O$2)=\"\",NA(),RTD(\"cqg.rtd\",,\"StudyData\", $M$2, \"Bar\", \"\", \"Low\", $L$2, $A131, $Q$2,$P$2,,$N$2,$O$2))","v":1832.75},{"$f":" IF(RTD(\"cqg.rtd\",,\"StudyData\", $M$2, \"Bar\", \"\", \"Close\", $L$2, $A131, $Q$2,$P$2,,$N$2,$O$2)=\"\",NA(),RTD(\"cqg.rtd\",,\"StudyData\", $M$2, \"Bar\", \"\", \"Close\", $L$2, $A131, $Q$2,$P$2,,$N$2,$O$2))","v":1835.5},null,null,null,null,null,null,null,null,null,null,null,null,null,{"$f":"RTD(\"cqg.rtd\",,\"StudyData\",$U$1&\"^.\"&$T$1&\"(\"&$M$2&\")\",\"Bar\",\"\",\"Close\",$L$2,A131,\"all\",\"\",\"\",\"True\")","v":-5355}]
[{"$f":"A131-1","v":-130},{"$f":" RTD(\"cqg.rtd\",,\"StudyData\", $M$2, \"Bar\", \"\", \"Time\", $L$2,$A132, $Q$2, \"\", \"\",\"False\")","v":"2016-02-12T02:00:00"},{"$f":" IF(RTD(\"cqg.rtd\",,\"StudyData\", $M$2, \"Bar\", \"\", \"Time\", $L$2, $A132,$Q$2,$P$2, \"\",\"False\")=\"\",NA(),RTD(\"cqg.rtd\",,\"StudyData\", $M$2, \"Bar\", \"\", \"Time\", $L$2, $A132,$Q$2,$P$2, \"\",\"False\"))","v":42412.083333333336},{"$f":" IF(RTD(\"cqg.rtd\",,\"StudyData\", $M$2, \"Bar\", \"\", \"Open\", $L$2, $A132, $Q$2,$P$2,,$N$2,$O$2)=\"\",NA(),RTD(\"cqg.rtd\",,\"StudyData\", $M$2, \"Bar\", \"\", \"Open\", $L$2, $A132, $Q$2,$P$2,,$N$2,$O$2))","v":1832.5},{"$f":" IF(RTD(\"cqg.rtd\",,\"StudyData\", $M$2, \"Bar\", \"\", \"High\", $L$2, $A132, $Q$2,$P$2,,$N$2,$O$2)=\"\",NA(),RTD(\"cqg.rtd\",,\"StudyData\", $M$2, \"Bar\", \"\", \"High\", $L$2, $A132, $Q$2,$P$2,,$N$2,$O$2))","v":1836.5},{"$f":" IF(RTD(\"cqg.rtd\",,\"StudyData\", $M$2, \"Bar\", \"\", \"Low\", $L$2, $A132, $Q$2,$P$2,,$N$2,$O$2)=\"\",NA(),RTD(\"cqg.rtd\",,\"StudyData\", $M$2, \"Bar\", \"\", \"Low\", $L$2, $A132, $Q$2,$P$2,,$N$2,$O$2))","v":1832.5},{"$f":" IF(RTD(\"cqg.rtd\",,\"StudyData\", $M$2, \"Bar\", \"\", \"Close\", $L$2, $A132, $Q$2,$P$2,,$N$2,$O$2)=\"\",NA(),RTD(\"cqg.rtd\",,\"StudyData\", $M$2, \"Bar\", \"\", \"Close\", $L$2, $A132, $Q$2,$P$2,,$N$2,$O$2))","v":1834.5},null,null,null,null,null,null,null,null,null,null,null,null,null,{"$f":"RTD(\"cqg.rtd\",,\"StudyData\",$U$1&\"^.\"&$T$1&\"(\"&$M$2&\")\",\"Bar\",\"\",\"Close\",$L$2,A132,\"all\",\"\",\"\",\"True\")","v":-5705}]
[-131,{"$f":" RTD(\"cqg.rtd\",,\"StudyData\", $M$2, \"Bar\", \"\", \"Time\", $L$2,$A133, $Q$2, \"\", \"\",\"False\")","v":"2016-02-12T01:55:00"},{"$f":" IF(RTD(\"cqg.rtd\",,\"StudyData\", $M$2, \"Bar\", \"\", \"Time\", $L$2, $A133,$Q$2,$P$2, \"\",\"False\")=\"\",NA(),RTD(\"cqg.rtd\",,\"StudyData\", $M$2, \"Bar\", \"\", \"Time\", $L$2, $A133,$Q$2,$P$2, \"\",\"False\"))","v":42412.079861111109},{"$f":" IF(RTD(\"cqg.rtd\",,\"StudyData\", $M$2, \"Bar\", \"\", \"Open\", $L$2, $A133, $Q$2,$P$2,,$N$2,$O$2)=\"\",NA(),RTD(\"cqg.rtd\",,\"StudyData\", $M$2, \"Bar\", \"\", \"Open\", $L$2, $A133, $Q$2,$P$2,,$N$2,$O$2))","v":1831.25},{"$f":" IF(RTD(\"cqg.rtd\",,\"StudyData\", $M$2, \"Bar\", \"\", \"High\", $L$2, $A133, $Q$2,$P$2,,$N$2,$O$2)=\"\",NA(),RTD(\"cqg.rtd\",,\"StudyData\", $M$2, \"Bar\", \"\", \"High\", $L$2, $A133, $Q$2,$P$2,,$N$2,$O$2))","v":1833.25},{"$f":" IF(RTD(\"cqg.rtd\",,\"StudyData\", $M$2, \"Bar\", \"\", \"Low\", $L$2, $A133, $Q$2,$P$2,,$N$2,$O$2)=\"\",NA(),RTD(\"cqg.rtd\",,\"StudyData\", $M$2, \"Bar\", \"\", \"Low\", $L$2, $A133, $Q$2,$P$2,,$N$2,$O$2))","v":1830.75},{"$f":" IF(RTD(\"cqg.rtd\",,\"StudyData\", $M$2, \"Bar\", \"\", \"Close\", $L$2, $A133, $Q$2,$P$2,,$N$2,$O$2)=\"\",NA(),RTD(\"cqg.rtd\",,\"StudyData\", $M$2, \"Bar\", \"\", \"Close\", $L$2, $A133, $Q$2,$P$2,,$N$2,$O$2))","v":1832.25},null,null,null,null,null,null,null,null,null,null,null,null,null,{"$f":"RTD(\"cqg.rtd\",,\"StudyData\",$U$1&\"^.\"&$T$1&\"(\"&$M$2&\")\",\"Bar\",\"\",\"Close\",$L$2,A133,\"all\",\"\",\"\",\"True\")","v":-6492.5}]
[-132,{"$f":" RTD(\"cqg.rtd\",,\"StudyData\", $M$2, \"Bar\", \"\", \"Time\", $L$2,$A134, $Q$2, \"\", \"\",\"False\")","v":"2016-02-12T01:50:00"},{"$f":" IF(RTD(\"cqg.rtd\",,\"StudyData\", $M$2, \"Bar\", \"\", \"Time\", $L$2, $A134,$Q$2,$P$2, \"\",\"False\")=\"\",NA(),RTD(\"cqg.rtd\",,\"StudyData\", $M$2, \"Bar\", \"\", \"Time\", $L$2, $A134,$Q$2,$P$2, \"\",\"False\"))","v":42412.076388888891},{"$f":" IF(RTD(\"cqg.rtd\",,\"StudyData\", $M$2, \"Bar\", \"\", \"Open\", $L$2, $A134, $Q$2,$P$2,,$N$2,$O$2)=\"\",NA(),RTD(\"cqg.rtd\",,\"StudyData\", $M$2, \"Bar\", \"\", \"Open\", $L$2, $A134, $Q$2,$P$2,,$N$2,$O$2))","v":1830},{"$f":" IF(RTD(\"cqg.rtd\",,\"StudyData\", $M$2, \"Bar\", \"\", \"High\", $L$2, $A134, $Q$2,$P$2,,$N$2,$O$2)=\"\",NA(),RTD(\"cqg.rtd\",,\"StudyData\", $M$2, \"Bar\", \"\", \"High\", $L$2, $A134, $Q$2,$P$2,,$N$2,$O$2))","v":1831.5},{"$f":" IF(RTD(\"cqg.rtd\",,\"StudyData\", $M$2, \"Bar\", \"\", \"Low\", $L$2, $A134, $Q$2,$P$2,,$N$2,$O$2)=\"\",NA(),RTD(\"cqg.rtd\",,\"StudyData\", $M$2, \"Bar\", \"\", \"Low\", $L$2, $A134, $Q$2,$P$2,,$N$2,$O$2))","v":1828.75},{"$f":" IF(RTD(\"cqg.rtd\",,\"StudyData\", $M$2, \"Bar\", \"\", \"Close\", $L$2, $A134, $Q$2,$P$2,,$N$2,$O$2)=\"\",NA(),RTD(\"cqg.rtd\",,\"StudyData\", $M$2, \"Bar\", \"\", \"Close\", $L$2, $A134, $Q$2,$P$2,,$N$2,$O$2))","v":1831},null,null,null,null,null,null,null,null,null,null,null,null,null,{"$f":"RTD(\"cqg.rtd\",,\"StudyData\",$U$1&\"^.\"&$T$1&\"(\"&$M$2&\")\",\"Bar\",\"\",\"Close\",$L$2,A134,\"all\",\"\",\"\",\"True\")","v":-6930}]
[-133,{"$f":" RTD(\"cqg.rtd\",,\"StudyData\", $M$2, \"Bar\", \"\", \"Time\", $L$2,$A135, $Q$2, \"\", \"\",\"False\")","v":"2016-02-12T01:45:00"},{"$f":" IF(RTD(\"cqg.rtd\",,\"StudyData\", $M$2, \"Bar\", \"\", \"Time\", $L$2, $A135,$Q$2,$P$2, \"\",\"False\")=\"\",NA(),RTD(\"cqg.rtd\",,\"StudyData\", $M$2, \"Bar\", \"\", \"Time\", $L$2, $A135,$Q$2,$P$2, \"\",\"False\"))","v":42412.072916666664},{"$f":" IF(RTD(\"cqg.rtd\",,\"StudyData\", $M$2, \"Bar\", \"\", \"Open\", $L$2, $A135, $Q$2,$P$2,,$N$2,$O$2)=\"\",NA(),RTD(\"cqg.rtd\",,\"StudyData\", $M$2, \"Bar\", \"\", \"Open\", $L$2, $A135, $Q$2,$P$2,,$N$2,$O$2))","v":1830.5},{"$f":" IF(RTD(\"cqg.rtd\",,\"StudyData\", $M$2, \"Bar\", \"\", \"High\", $L$2, $A135, $Q$2,$P$2,,$N$2,$O$2)=\"\",NA(),RTD(\"cqg.rtd\",,\"StudyData\", $M$2, \"Bar\", \"\", \"High\", $L$2, $A135, $Q$2,$P$2,,$N$2,$O$2))","v":1831},{"$f":" IF(RTD(\"cqg.rtd\",,\"StudyData\", $M$2, \"Bar\", \"\", \"Low\", $L$2, $A135, $Q$2,$P$2,,$N$2,$O$2)=\"\",NA(),RTD(\"cqg.rtd\",,\"StudyData\", $M$2, \"Bar\", \"\", \"Low\", $L$2, $A135, $Q$2,$P$2,,$N$2,$O$2))","v":1828},{"$f":" IF(RTD(\"cqg.rtd\",,\"StudyData\", $M$2, \"Bar\", \"\", \"Close\", $L$2, $A135, $Q$2,$P$2,,$N$2,$O$2)=\"\",NA(),RTD(\"cqg.rtd\",,\"StudyData\", $M$2, \"Bar\", \"\", \"Close\", $L$2, $A135, $Q$2,$P$2,,$N$2,$O$2))","v":1830.25},null,null,null,null,null,null,null,null,null,null,null,null,null,{"$f":"RTD(\"cqg.rtd\",,\"StudyData\",$U$1&\"^.\"&$T$1&\"(\"&$M$2&\")\",\"Bar\",\"\",\"Close\",$L$2,A135,\"all\",\"\",\"\",\"True\")","v":-7192.5}]
[-134,{"$f":" RTD(\"cqg.rtd\",,\"StudyData\", $M$2, \"Bar\", \"\", \"Time\", $L$2,$A136, $Q$2, \"\", \"\",\"False\")","v":"2016-02-12T01:40:00"},{"$f":" IF(RTD(\"cqg.rtd\",,\"StudyData\", $M$2, \"Bar\", \"\", \"Time\", $L$2, $A136,$Q$2,$P$2, \"\",\"False\")=\"\",NA(),RTD(\"cqg.rtd\",,\"StudyData\", $M$2, \"Bar\", \"\", \"Time\", $L$2, $A136,$Q$2,$P$2, \"\",\"False\"))","v":42412.069444444445},{"$f":" IF(RTD(\"cqg.rtd\",,\"StudyData\", $M$2, \"Bar\", \"\", \"Open\", $L$2, $A136, $Q$2,$P$2,,$N$2,$O$2)=\"\",NA(),RTD(\"cqg.rtd\",,\"StudyData\", $M$2, \"Bar\", \"\", \"Open\", $L$2, $A136, $Q$2,$P$2,,$N$2,$O$2))","v":1831},{"$f":" IF(RTD(\"cqg.rtd\",,\"StudyData\", $M$2, \"Bar\", \"\", \"High\", $L$2, $A136, $Q$2,$P$2,,$N$2,$O$2)=\"\",NA(),RTD(\"cqg.rtd\",,\"StudyData\", $M$2, \"Bar\", \"\", \"High\", $L$2, $A136, $Q$2,$P$2,,$N$2,$O$2))","v":1831.25},{"$f":" IF(RTD(\"cqg.rtd\",,\"StudyData\", $M$2, \"Bar\", \"\", \"Low\", $L$2, $A136, $Q$2,$P$2,,$N$2,$O$2)=\"\",NA(),RTD(\"cqg.rtd\",,\"StudyData\", $M$2, \"Bar\", \"\", \"Low\", $L$2, $A136, $Q$2,$P$2,,$N$2,$O$2))","v":1829.5},{"$f":" IF(RTD(\"cqg.rtd\",,\"StudyData\", $M$2, \"Bar\", \"\", \"Close\", $L$2, $A136, $Q$2,$P$2,,$N$2,$O$2)=\"\",NA(),RTD(\"cqg.rtd\",,\"StudyData\", $M$2, \"Bar\", \"\", \"Close\", $L$2, $A136, $Q$2,$P$2,,$N$2,$O$2))","v":1830.5},null,null,null,null,null,null,null,null,null,null,null,null,null,{"$f":"RTD(\"cqg.rtd\",,\"StudyData\",$U$1&\"^.\"&$T$1&\"(\"&$M$2&\")\",\"Bar\",\"\",\"Close\",$L$2,A136,\"all\",\"\",\"\",\"True\")","v":-7105}]
[-135,{"$f":" RTD(\"cqg.rtd\",,\"StudyData\", $M$2, \"Bar\", \"\", \"Time\", $L$2,$A137, $Q$2, \"\", \"\",\"False\")","v":"2016-02-12T01:35:00"},{"$f":" IF(RTD(\"cqg.rtd\",,\"StudyData\", $M$2, \"Bar\", \"\", \"Time\", $L$2, $A137,$Q$2,$P$2, \"\",\"False\")=\"\",NA(),RTD(\"cqg.rtd\",,\"StudyData\", $M$2, \"Bar\", \"\", \"Time\", $L$2, $A137,$Q$2,$P$2, \"\",\"False\"))","v":42412.065972222219},{"$f":" IF(RTD(\"cqg.rtd\",,\"StudyData\", $M$2, \"Bar\", \"\", \"Open\", $L$2, $A137, $Q$2,$P$2,,$N$2,$O$2)=\"\",NA(),RTD(\"cqg.rtd\",,\"StudyData\", $M$2, \"Bar\", \"\", \"Open\", $L$2, $A137, $Q$2,$P$2,,$N$2,$O$2))","v":1830.75},{"$f":" IF(RTD(\"cqg.rtd\",,\"StudyData\", $M$2, \"Bar\", \"\", \"High\", $L$2, $A137, $Q$2,$P$2,,$N$2,$O$2)=\"\",NA(),RTD(\"cqg.rtd\",,\"StudyData\", $M$2, \"Bar\", \"\", \"High\", $L$2, $A137, $Q$2,$P$2,,$N$2,$O$2))","v":1832},{"$f":" IF(RTD(\"cqg.rtd\",,\"StudyData\", $M$2, \"Bar\", \"\", \"Low\", $L$2, $A137, $Q$2,$P$2,,$N$2,$O$2)=\"\",NA(),RTD(\"cqg.rtd\",,\"StudyData\", $M$2, \"Bar\", \"\", \"Low\", $L$2, $A137, $Q$2,$P$2,,$N$2,$O$2))","v":1830.5},{"$f":" IF(RTD(\"cqg.rtd\",,\"StudyData\", $M$2, \"Bar\", \"\", \"Close\", $L$2, $A137, $Q$2,$P$2,,$N$2,$O$2)=\"\",NA(),RTD(\"cqg.rtd\",,\"StudyData\", $M$2, \"Bar\", \"\", \"Close\", $L$2, $A137, $Q$2,$P$2,,$N$2,$O$2))","v":1831},null,null,null,null,null,null,null,null,null,null,null,null,null,{"$f":"RTD(\"cqg.rtd\",,\"StudyData\",$U$1&\"^.\"&$T$1&\"(\"&$M$2&\")\",\"Bar\",\"\",\"Close\",$L$2,A137,\"all\",\"\",\"\",\"True\")","v":-6930}]
[-136,{"$f":" RTD(\"cqg.rtd\",,\"StudyData\", $M$2, \"Bar\", \"\", \"Time\", $L$2,$A138, $Q$2, \"\", \"\",\"False\")","v":"2016-02-12T01:30:00"},{"$f":" IF(RTD(\"cqg.rtd\",,\"StudyData\", $M$2, \"Bar\", \"\", \"Time\", $L$2, $A138,$Q$2,$P$2, \"\",\"False\")=\"\",NA(),RTD(\"cqg.rtd\",,\"StudyData\", $M$2, \"Bar\", \"\", \"Time\", $L$2, $A138,$Q$2,$P$2, \"\",\"False\"))","v":42412.0625},{"$f":" IF(RTD(\"cqg.rtd\",,\"StudyData\", $M$2, \"Bar\", \"\", \"Open\", $L$2, $A138, $Q$2,$P$2,,$N$2,$O$2)=\"\",NA(),RTD(\"cqg.rtd\",,\"StudyData\", $M$2, \"Bar\", \"\", \"Open\", $L$2, $A138, $Q$2,$P$2,,$N$2,$O$2))","v":1831.5},{"$f":" IF(RTD(\"cqg.rtd\",,\"StudyData\", $M$2, \"Bar\", \"\", \"High\", $L$2, $A138, $Q$2,$P$2,,$N$2,$O$2)=\"\",NA(),RTD(\"cqg.rtd\",,\"StudyData\", $M$2, \"Bar\", \"\", \"High\", $L$2, $A138, $Q$2,$P$2,,$N$2,$O$2))","v":1832},{"$f":" IF(RTD(\"cqg.rtd\",,\"StudyData\", $M$2, \"Bar\", \"\", \"Low\", $L$2, $A138, $Q$2,$P$2,,$N$2,$O$2)=\"\",NA(),RTD(\"cqg.rtd\",,\"StudyData\", $M$2, \"Bar\", \"\", \"Low\", $L$2, $A138, $Q$2,$P$2,,$N$2,$O$2))","v":1829.75},{"$f":" IF(RTD(\"cqg.rtd\",,\"StudyData\", $M$2, \"Bar\", \"\", \"Close\", $L$2, $A138, $Q$2,$P$2,,$N$2,$O$2)=\"\",NA(),RTD(\"cqg.rtd\",,\"StudyData\", $M$2, \"Bar\", \"\", \"Close\", $L$2, $A138, $Q$2,$P$2,,$N$2,$O$2))","v":1830.75},null,null,null,null,null,null,null,null,null,null,null,null,null,{"$f":"RTD(\"cqg.rtd\",,\"StudyData\",$U$1&\"^.\"&$T$1&\"(\"&$M$2&\")\",\"Bar\",\"\",\"Close\",$L$2,A138,\"all\",\"\",\"\",\"True\")","v":-7017.5}]
[-137,{"$f":" RTD(\"cqg.rtd\",,\"StudyData\", $M$2, \"Bar\", \"\", \"Time\", $L$2,$A139, $Q$2, \"\", \"\",\"False\")","v":"2016-02-12T01:25:00"},{"$f":" IF(RTD(\"cqg.rtd\",,\"StudyData\", $M$2, \"Bar\", \"\", \"Time\", $L$2, $A139,$Q$2,$P$2, \"\",\"False\")=\"\",NA(),RTD(\"cqg.rtd\",,\"StudyData\", $M$2, \"Bar\", \"\", \"Time\", $L$2, $A139,$Q$2,$P$2, \"\",\"False\"))","v":42412.059027777781},{"$f":" IF(RTD(\"cqg.rtd\",,\"StudyData\", $M$2, \"Bar\", \"\", \"Open\", $L$2, $A139, $Q$2,$P$2,,$N$2,$O$2)=\"\",NA(),RTD(\"cqg.rtd\",,\"StudyData\", $M$2, \"Bar\", \"\", \"Open\", $L$2, $A139, $Q$2,$P$2,,$N$2,$O$2))","v":1831.25},{"$f":" IF(RTD(\"cqg.rtd\",,\"StudyData\", $M$2, \"Bar\", \"\", \"High\", $L$2, $A139, $Q$2,$P$2,,$N$2,$O$2)=\"\",NA(),RTD(\"cqg.rtd\",,\"StudyData\", $M$2, \"Bar\", \"\", \"High\", $L$2, $A139, $Q$2,$P$2,,$N$2,$O$2))","v":1831.75},{"$f":" IF(RTD(\"cqg.rtd\",,\"StudyData\", $M$2, \"Bar\", \"\", \"Low\", $L$2, $A139, $Q$2,$P$2,,$N$2,$O$2)=\"\",NA(),RTD(\"cqg.rtd\",,\"StudyData\", $M$2, \"Bar\", \"\", \"Low\", $L$2, $A139, $Q$2,$P$2,,$N$2,$O$2))","v":1830.25},{"$f":" IF(RTD(\"cqg.rtd\",,\"StudyData\", $M$2, \"Bar\", \"\", \"Close\", $L$2, $A139, $Q$2,$P$2,,$N$2,$O$2)=\"\",NA(),RTD(\"cqg.rtd\",,\"StudyData\", $M$2, \"Bar\", \"\", \"Close\", $L$2, $A139, $Q$2,$P$2,,$N$2,$O$2))","v":1831.25},null,null,null,null,null,null,null,null,null,null,null,null,null,{"$f":"RTD(\"cqg.rtd\",,\"StudyData\",$U$1&\"^.\"&$T$1&\"(\"&$M$2&\")\",\"Bar\",\"\",\"Close\",$L$2,A139,\"all\",\"\",\"\",\"True\")","v":-6842.5}]
[-138,{"$f":" RTD(\"cqg.rtd\",,\"StudyData\", $M$2, \"Bar\", \"\", \"Time\", $L$2,$A140, $Q$2, \"\", \"\",\"False\")","v":"2016-02-12T01:20:00"},{"$f":" IF(RTD(\"cqg.rtd\",,\"StudyData\", $M$2, \"Bar\", \"\", \"Time\", $L$2, $A140,$Q$2,$P$2, \"\",\"False\")=\"\",NA(),RTD(\"cqg.rtd\",,\"StudyData\", $M$2, \"Bar\", \"\", \"Time\", $L$2, $A140,$Q$2,$P$2, \"\",\"False\"))","v":42412.055555555555},{"$f":" IF(RTD(\"cqg.rtd\",,\"StudyData\", $M$2, \"Bar\", \"\", \"Open\", $L$2, $A140, $Q$2,$P$2,,$N$2,$O$2)=\"\",NA(),RTD(\"cqg.rtd\",,\"StudyData\", $M$2, \"Bar\", \"\", \"Open\", $L$2, $A140, $Q$2,$P$2,,$N$2,$O$2))","v":1832.75},{"$f":" IF(RTD(\"cqg.rtd\",,\"StudyData\", $M$2, \"Bar\", \"\", \"High\", $L$2, $A140, $Q$2,$P$2,,$N$2,$O$2)=\"\",NA(),RTD(\"cqg.rtd\",,\"StudyData\", $M$2, \"Bar\", \"\", \"High\", $L$2, $A140, $Q$2,$P$2,,$N$2,$O$2))","v":1832.75},{"$f":" IF(RTD(\"cqg.rtd\",,\"StudyData\", $M$2, \"Bar\", \"\", \"Low\", $L$2, $A140, $Q$2,$P$2,,$N$2,$O$2)=\"\",NA(),RTD(\"cqg.rtd\",,\"StudyData\", $M$2, \"Bar\", \"\", \"Low\", $L$2, $A140, $Q$2,$P$2,,$N$2,$O$2))","v":1831.25},{"$f":" IF(RTD(\"cqg.rtd\",,\"StudyData\", $M$2, \"Bar\", \"\", \"Close\", $L$2, $A140, $Q$2,$P$2,,$N$2,$O$2)=\"\",NA(),RTD(\"cqg.rtd\",,\"StudyData\", $M$2, \"Bar\", \"\", \"Close\", $L$2, $A140, $Q$2,$P$2,,$N$2,$O$2))","v":1831.25},null,null,null,null,null,null,null,null,null,null,null,null,null,{"$f":"RTD(\"cqg.rtd\",,\"StudyData\",$U$1&\"^.\"&$T$1&\"(\"&$M$2&\")\",\"Bar\",\"\",\"Close\",$L$2,A140,\"all\",\"\",\"\",\"True\")","v":-6842.5}]
[-139,{"$f":" RTD(\"cqg.rtd\",,\"StudyData\", $M$2, \"Bar\", \"\", \"Time\", $L$2,$A141, $Q$2, \"\", \"\",\"False\")","v":"2016-02-12T01:15:00"},{"$f":" IF(RTD(\"cqg.rtd\",,\"StudyData\", $M$2, \"Bar\", \"\", \"Time\", $L$2, $A141,$Q$2,$P$2, \"\",\"False\")=\"\",NA(),RTD(\"cqg.rtd\",,\"StudyData\", $M$2, \"Bar\", \"\", \"Time\", $L$2, $A141,$Q$2,$P$2, \"\",\"False\"))","v":42412.052083333336},{"$f":" IF(RTD(\"cqg.rtd\",,\"StudyData\", $M$2, \"Bar\", \"\", \"Open\", $L$2, $A141, $Q$2,$P$2,,$N$2,$O$2)=\"\",NA(),RTD(\"cqg.rtd\",,\"StudyData\", $M$2, \"Bar\", \"\", \"Open\", $L$2, $A141, $Q$2,$P$2,,$N$2,$O$2))","v":1830.75},{"$f":" IF(RTD(\"cqg.rtd\",,\"StudyData\", $M$2, \"Bar\", \"\", \"High\", $L$2, $A141, $Q$2,$P$2,,$N$2,$O$2)=\"\",NA(),RTD(\"cqg.rtd\",,\"StudyData\", $M$2, \"Bar\", \"\", \"High\", $L$2, $A141, $Q$2,$P$2,,$N$2,$O$2))","v":1833.75},{"$f":" IF(RTD(\"cqg.rtd\",,\"StudyData\", $M$2, \"Bar\", \"\", \"Low\", $L$2, $A141, $Q$2,$P$2,,$N$2,$O$2)=\"\",NA(),RTD(\"cqg.rtd\",,\"StudyData\", $M$2, \"Bar\", \"\", \"Low\", $L$2, $A141, $Q$2,$P$2,,$N$2,$O$2))","v":1830.5},{"$f":" IF(RTD(\"cqg.rtd\",,\"StudyData\", $M$2, \"Bar\", \"\", \"Close\", $L$2, $A141, $Q$2,$P$2,,$N$2,$O$2)=\"\",NA(),RTD(\"cqg.rtd\",,\"StudyData\", $M$2, \"Bar\", \"\", \"Close\", $L$2, $A141, $Q$2,$P$2,,$N$2,$O$2))","v":1832.5},null,null,null,null,null,null,null,null,null,null,null,null,null,{"$f":"RTD(\"cqg.rtd\",,\"StudyData\",$U$1&\"^.\"&$T$1&\"(\"&$M$2&\")\",\"Bar\",\"\",\"Close\",$L$2,A141,\"all\",\"\",\"\",\"True\")","v":-6405}]
[-140,{"$f":" RTD(\"cqg.rtd\",,\"StudyData\", $M$2, \"Bar\", \"\", \"Time\", $L$2,$A142, $Q$2, \"\", \"\",\"False\")","v":"2016-02-12T01:10:00"},{"$f":" IF(RTD(\"cqg.rtd\",,\"StudyData\", $M$2, \"Bar\", \"\", \"Time\", $L$2, $A142,$Q$2,$P$2, \"\",\"False\")=\"\",NA(),RTD(\"cqg.rtd\",,\"StudyData\", $M$2, \"Bar\", \"\", \"Time\", $L$2, $A142,$Q$2,$P$2, \"\",\"False\"))","v":42412.048611111109},{"$f":" IF(RTD(\"cqg.rtd\",,\"StudyData\", $M$2, \"Bar\", \"\", \"Open\", $L$2, $A142, $Q$2,$P$2,,$N$2,$O$2)=\"\",NA(),RTD(\"cqg.rtd\",,\"StudyData\", $M$2, \"Bar\", \"\", \"Open\", $L$2, $A142, $Q$2,$P$2,,$N$2,$O$2))","v":1829.25},{"$f":" IF(RTD(\"cqg.rtd\",,\"StudyData\", $M$2, \"Bar\", \"\", \"High\", $L$2, $A142, $Q$2,$P$2,,$N$2,$O$2)=\"\",NA(),RTD(\"cqg.rtd\",,\"StudyData\", $M$2, \"Bar\", \"\", \"High\", $L$2, $A142, $Q$2,$P$2,,$N$2,$O$2))","v":1831.25},{"$f":" IF(RTD(\"cqg.rtd\",,\"StudyData\", $M$2, \"Bar\", \"\", \"Low\", $L$2, $A142, $Q$2,$P$2,,$N$2,$O$2)=\"\",NA(),RTD(\"cqg.rtd\",,\"StudyData\", $M$2, \"Bar\", \"\", \"Low\", $L$2, $A142, $Q$2,$P$2,,$N$2,$O$2))","v":1828.5},{"$f":" IF(RTD(\"cqg.rtd\",,\"StudyData\", $M$2, \"Bar\", \"\", \"Close\", $L$2, $A142, $Q$2,$P$2,,$N$2,$O$2)=\"\",NA(),RTD(\"cqg.rtd\",,\"StudyData\", $M$2, \"Bar\", \"\", \"Close\", $L$2, $A142, $Q$2,$P$2,,$N$2,$O$2))","v":1830.75},null,null,null,null,null,null,null,null,null,null,null,null,null,{"$f":"RTD(\"cqg.rtd\",,\"StudyData\",$U$1&\"^.\"&$T$1&\"(\"&$M$2&\")\",\"Bar\",\"\",\"Close\",$L$2,A142,\"all\",\"\",\"\",\"True\")","v":-7017.5}]
[-141,{"$f":" RTD(\"cqg.rtd\",,\"StudyData\", $M$2, \"Bar\", \"\", \"Time\", $L$2,$A143, $Q$2, \"\", \"\",\"False\")","v":"2016-02-12T01:05:00"},{"$f":" IF(RTD(\"cqg.rtd\",,\"StudyData\", $M$2, \"Bar\", \"\", \"Time\", $L$2, $A143,$Q$2,$P$2, \"\",\"False\")=\"\",NA(),RTD(\"cqg.rtd\",,\"StudyData\", $M$2, \"Bar\", \"\", \"Time\", $L$2, $A143,$Q$2,$P$2, \"\",\"False\"))","v":42412.045138888891},{"$f":" IF(RTD(\"cqg.rtd\",,\"StudyData\", $M$2, \"Bar\", \"\", \"Open\", $L$2, $A143, $Q$2,$P$2,,$N$2,$O$2)=\"\",NA(),RTD(\"cqg.rtd\",,\"StudyData\", $M$2, \"Bar\", \"\", \"Open\", $L$2, $A143, $Q$2,$P$2,,$N$2,$O$2))","v":1826.5},{"$f":" IF(RTD(\"cqg.rtd\",,\"StudyData\", $M$2, \"Bar\", \"\", \"High\", $L$2, $A143, $Q$2,$P$2,,$N$2,$O$2)=\"\",NA(),RTD(\"cqg.rtd\",,\"StudyData\", $M$2, \"Bar\", \"\", \"High\", $L$2, $A143, $Q$2,$P$2,,$N$2,$O$2))","v":1830},{"$f":" IF(RTD(\"cqg.rtd\",,\"StudyData\", $M$2, \"Bar\", \"\", \"Low\", $L$2, $A143, $Q$2,$P$2,,$N$2,$O$2)=\"\",NA(),RTD(\"cqg.rtd\",,\"StudyData\", $M$2, \"Bar\", \"\", \"Low\", $L$2, $A143, $Q$2,$P$2,,$N$2,$O$2))","v":1825},{"$f":" IF(RTD(\"cqg.rtd\",,\"StudyData\", $M$2, \"Bar\", \"\", \"Close\", $L$2, $A143, $Q$2,$P$2,,$N$2,$O$2)=\"\",NA(),RTD(\"cqg.rtd\",,\"StudyData\", $M$2, \"Bar\", \"\", \"Close\", $L$2, $A143, $Q$2,$P$2,,$N$2,$O$2))","v":1829.5},null,null,null,null,null,null,null,null,null,null,null,null,null,{"$f":"RTD(\"cqg.rtd\",,\"StudyData\",$U$1&\"^.\"&$T$1&\"(\"&$M$2&\")\",\"Bar\",\"\",\"Close\",$L$2,A143,\"all\",\"\",\"\",\"True\")","v":-7455}]
[-142,{"$f":" RTD(\"cqg.rtd\",,\"StudyData\", $M$2, \"Bar\", \"\", \"Time\", $L$2,$A144, $Q$2, \"\", \"\",\"False\")","v":"2016-02-12T01:00:00"},{"$f":" IF(RTD(\"cqg.rtd\",,\"StudyData\", $M$2, \"Bar\", \"\", \"Time\", $L$2, $A144,$Q$2,$P$2, \"\",\"False\")=\"\",NA(),RTD(\"cqg.rtd\",,\"StudyData\", $M$2, \"Bar\", \"\", \"Time\", $L$2, $A144,$Q$2,$P$2, \"\",\"False\"))","v":42412.041666666664},{"$f":" IF(RTD(\"cqg.rtd\",,\"StudyData\", $M$2, \"Bar\", \"\", \"Open\", $L$2, $A144, $Q$2,$P$2,,$N$2,$O$2)=\"\",NA(),RTD(\"cqg.rtd\",,\"StudyData\", $M$2, \"Bar\", \"\", \"Open\", $L$2, $A144, $Q$2,$P$2,,$N$2,$O$2))","v":1826.25},{"$f":" IF(RTD(\"cqg.rtd\",,\"StudyData\", $M$2, \"Bar\", \"\", \"High\", $L$2, $A144, $Q$2,$P$2,,$N$2,$O$2)=\"\",NA(),RTD(\"cqg.rtd\",,\"StudyData\", $M$2, \"Bar\", \"\", \"High\", $L$2, $A144, $Q$2,$P$2,,$N$2,$O$2))","v":1827},{"$f":" IF(RTD(\"cqg.rtd\",,\"StudyData\", $M$2, \"Bar\", \"\", \"Low\", $L$2, $A144, $Q$2,$P$2,,$N$2,$O$2)=\"\",NA(),RTD(\"cqg.rtd\",,\"StudyData\", $M$2, \"Bar\", \"\", \"Low\", $L$2, $A144, $Q$2,$P$2,,$N$2,$O$2))","v":1822.5},{"$f":" IF(RTD(\"cqg.rtd\",,\"StudyData\", $M$2, \"Bar\", \"\", \"Close\", $L$2, $A144, $Q$2,$P$2,,$N$2,$O$2)=\"\",NA(),RTD(\"cqg.rtd\",,\"StudyData\", $M$2, \"Bar\", \"\", \"Close\", $L$2, $A144, $Q$2,$P$2,,$N$2,$O$2))","v":1826.75},null,null,null,null,null,null,null,null,null,null,null,null,null,{"$f":"RTD(\"cqg.rtd\",,\"StudyData\",$U$1&\"^.\"&$T$1&\"(\"&$M$2&\")\",\"Bar\",\"\",\"Close\",$L$2,A144,\"all\",\"\",\"\",\"True\")","v":-8522.5}]
[-143,{"$f":" RTD(\"cqg.rtd\",,\"StudyData\", $M$2, \"Bar\", \"\", \"Time\", $L$2,$A145, $Q$2, \"\", \"\",\"False\")","v":"2016-02-12T00:55:00"},{"$f":" IF(RTD(\"cqg.rtd\",,\"StudyData\", $M$2, \"Bar\", \"\", \"Time\", $L$2, $A145,$Q$2,$P$2, \"\",\"False\")=\"\",NA(),RTD(\"cqg.rtd\",,\"StudyData\", $M$2, \"Bar\", \"\", \"Time\", $L$2, $A145,$Q$2,$P$2, \"\",\"False\"))","v":42412.038194444445},{"$f":" IF(RTD(\"cqg.rtd\",,\"StudyData\", $M$2, \"Bar\", \"\", \"Open\", $L$2, $A145, $Q$2,$P$2,,$N$2,$O$2)=\"\",NA(),RTD(\"cqg.rtd\",,\"StudyData\", $M$2, \"Bar\", \"\", \"Open\", $L$2, $A145, $Q$2,$P$2,,$N$2,$O$2))","v":1826.5},{"$f":" IF(RTD(\"cqg.rtd\",,\"StudyData\", $M$2, \"Bar\", \"\", \"High\", $L$2, $A145, $Q$2,$P$2,,$N$2,$O$2)=\"\",NA(),RTD(\"cqg.rtd\",,\"StudyData\", $M$2, \"Bar\", \"\", \"High\", $L$2, $A145, $Q$2,$P$2,,$N$2,$O$2))","v":1827},{"$f":" IF(RTD(\"cqg.rtd\",,\"StudyData\", $M$2, \"Bar\", \"\", \"Low\", $L$2, $A145, $Q$2,$P$2,,$N$2,$O$2)=\"\",NA(),RTD(\"cqg.rtd\",,\"StudyData\", $M$2, \"Bar\", \"\", \"Low\", $L$2, $A145, $Q$2,$P$2,,$N$2,$O$2))","v":1825.5},{"$f":" IF(RTD(\"cqg.rtd\",,\"StudyData\", $M$2, \"Bar\", \"\", \"Close\", $L$2, $A145, $Q$2,$P$2,,$N$2,$O$2)=\"\",NA(),RTD(\"cqg.rtd\",,\"StudyData\", $M$2, \"Bar\", \"\", \"Close\", $L$2, $A145, $Q$2,$P$2,,$N$2,$O$2))","v":1826.25},null,null,null,null,null,null,null,null,null,null,null,null,null,{"$f":"RTD(\"cqg.rtd\",,\"StudyData\",$U$1&\"^.\"&$T$1&\"(\"&$M$2&\")\",\"Bar\",\"\",\"Close\",$L$2,A145,\"all\",\"\",\"\",\"True\")","v":-8347.5}]
[-144,{"$f":" RTD(\"cqg.rtd\",,\"StudyData\", $M$2, \"Bar\", \"\", \"Time\", $L$2,$A146, $Q$2, \"\", \"\",\"False\")","v":"2016-02-12T00:50:00"},{"$f":" IF(RTD(\"cqg.rtd\",,\"StudyData\", $M$2, \"Bar\", \"\", \"Time\", $L$2, $A146,$Q$2,$P$2, \"\",\"False\")=\"\",NA(),RTD(\"cqg.rtd\",,\"StudyData\", $M$2, \"Bar\", \"\", \"Time\", $L$2, $A146,$Q$2,$P$2, \"\",\"False\"))","v":42412.034722222219},{"$f":" IF(RTD(\"cqg.rtd\",,\"StudyData\", $M$2, \"Bar\", \"\", \"Open\", $L$2, $A146, $Q$2,$P$2,,$N$2,$O$2)=\"\",NA(),RTD(\"cqg.rtd\",,\"StudyData\", $M$2, \"Bar\", \"\", \"Open\", $L$2, $A146, $Q$2,$P$2,,$N$2,$O$2))","v":1827.5},{"$f":" IF(RTD(\"cqg.rtd\",,\"StudyData\", $M$2, \"Bar\", \"\", \"High\", $L$2, $A146, $Q$2,$P$2,,$N$2,$O$2)=\"\",NA(),RTD(\"cqg.rtd\",,\"StudyData\", $M$2, \"Bar\", \"\", \"High\", $L$2, $A146, $Q$2,$P$2,,$N$2,$O$2))","v":1827.5},{"$f":" IF(RTD(\"cqg.rtd\",,\"StudyData\", $M$2, \"Bar\", \"\", \"Low\", $L$2, $A146, $Q$2,$P$2,,$N$2,$O$2)=\"\",NA(),RTD(\"cqg.rtd\",,\"StudyData\", $M$2, \"Bar\", \"\", \"Low\", $L$2, $A146, $Q$2,$P$2,,$N$2,$O$2))","v":1826.5},{"$f":" IF(RTD(\"cqg.rtd\",,\"StudyData\", $M$2, \"Bar\", \"\", \"Close\", $L$2, $A146, $Q$2,$P$2,,$N$2,$O$2)=\"\",NA(),RTD(\"cqg.rtd\",,\"StudyData\", $M$2, \"Bar\", \"\", \"Close\", $L$2, $A146, $Q$2,$P$2,,$N$2,$O$2))","v":1826.5},null,null,null,null,null,null,null,null,null,null,null,null,null,{"$f":"RTD(\"cqg.rtd\",,\"StudyData\",$U$1&\"^.\"&$T$1&\"(\"&$M$2&\")\",\"Bar\",\"\",\"Close\",$L$2,A146,\"all\",\"\",\"\",\"True\")","v":-8435}]
[-145,{"$f":" RTD(\"cqg.rtd\",,\"StudyData\", $M$2, \"Bar\", \"\", \"Time\", $L$2,$A147, $Q$2, \"\", \"\",\"False\")","v":"2016-02-12T00:45:00"},{"$f":" IF(RTD(\"cqg.rtd\",,\"StudyData\", $M$2, \"Bar\", \"\", \"Time\", $L$2, $A147,$Q$2,$P$2, \"\",\"False\")=\"\",NA(),RTD(\"cqg.rtd\",,\"StudyData\", $M$2, \"Bar\", \"\", \"Time\", $L$2, $A147,$Q$2,$P$2, \"\",\"False\"))","v":42412.03125},{"$f":" IF(RTD(\"cqg.rtd\",,\"StudyData\", $M$2, \"Bar\", \"\", \"Open\", $L$2, $A147, $Q$2,$P$2,,$N$2,$O$2)=\"\",NA(),RTD(\"cqg.rtd\",,\"StudyData\", $M$2, \"Bar\", \"\", \"Open\", $L$2, $A147, $Q$2,$P$2,,$N$2,$O$2))","v":1827.75},{"$f":" IF(RTD(\"cqg.rtd\",,\"StudyData\", $M$2, \"Bar\", \"\", \"High\", $L$2, $A147, $Q$2,$P$2,,$N$2,$O$2)=\"\",NA(),RTD(\"cqg.rtd\",,\"StudyData\", $M$2, \"Bar\", \"\", \"High\", $L$2, $A147, $Q$2,$P$2,,$N$2,$O$2))","v":1828.25},{"$f":" IF(RTD(\"cqg.rtd\",,\"StudyData\", $M$2, \"Bar\", \"\", \"Low\", $L$2, $A147, $Q$2,$P$2,,$N$2,$O$2)=\"\",NA(),RTD(\"cqg.rtd\",,\"StudyData\", $M$2, \"Bar\", \"\", \"Low\", $L$2, $A147, $Q$2,$P$2,,$N$2,$O$2))","v":1827.25},{"$f":" IF(RTD(\"cqg.rtd\",,\"StudyData\", $M$2, \"Bar\", \"\", \"Close\", $L$2, $A147, $Q$2,$P$2,,$N$2,$O$2)=\"\",NA(),RTD(\"cqg.rtd\",,\"StudyData\", $M$2, \"Bar\", \"\", \"Close\", $L$2, $A147, $Q$2,$P$2,,$N$2,$O$2))","v":1827.5},null,null,null,null,null,null,null,null,null,null,null,null,null,{"$f":"RTD(\"cqg.rtd\",,\"StudyData\",$U$1&\"^.\"&$T$1&\"(\"&$M$2&\")\",\"Bar\",\"\",\"Close\",$L$2,A147,\"all\",\"\",\"\",\"True\")","v":-8785}]
[-146,{"$f":" RTD(\"cqg.rtd\",,\"StudyData\", $M$2, \"Bar\", \"\", \"Time\", $L$2,$A148, $Q$2, \"\", \"\",\"False\")","v":"2016-02-12T00:40:00"},{"$f":" IF(RTD(\"cqg.rtd\",,\"StudyData\", $M$2, \"Bar\", \"\", \"Time\", $L$2, $A148,$Q$2,$P$2, \"\",\"False\")=\"\",NA(),RTD(\"cqg.rtd\",,\"StudyData\", $M$2, \"Bar\", \"\", \"Time\", $L$2, $A148,$Q$2,$P$2, \"\",\"False\"))","v":42412.027777777781},{"$f":" IF(RTD(\"cqg.rtd\",,\"StudyData\", $M$2, \"Bar\", \"\", \"Open\", $L$2, $A148, $Q$2,$P$2,,$N$2,$O$2)=\"\",NA(),RTD(\"cqg.rtd\",,\"StudyData\", $M$2, \"Bar\", \"\", \"Open\", $L$2, $A148, $Q$2,$P$2,,$N$2,$O$2))","v":1828.25},{"$f":" IF(RTD(\"cqg.rtd\",,\"StudyData\", $M$2, \"Bar\", \"\", \"High\", $L$2, $A148, $Q$2,$P$2,,$N$2,$O$2)=\"\",NA(),RTD(\"cqg.rtd\",,\"StudyData\", $M$2, \"Bar\", \"\", \"High\", $L$2, $A148, $Q$2,$P$2,,$N$2,$O$2))","v":1828.25},{"$f":" IF(RTD(\"cqg.rtd\",,\"StudyData\", $M$2, \"Bar\", \"\", \"Low\", $L$2, $A148, $Q$2,$P$2,,$N$2,$O$2)=\"\",NA(),RTD(\"cqg.rtd\",,\"StudyData\", $M$2, \"Bar\", \"\", \"Low\", $L$2, $A148, $Q$2,$P$2,,$N$2,$O$2))","v":1827.75},{"$f":" IF(RTD(\"cqg.rtd\",,\"StudyData\", $M$2, \"Bar\", \"\", \"Close\", $L$2, $A148, $Q$2,$P$2,,$N$2,$O$2)=\"\",NA(),RTD(\"cqg.rtd\",,\"StudyData\", $M$2, \"Bar\", \"\", \"Close\", $L$2, $A148, $Q$2,$P$2,,$N$2,$O$2))","v":1828},null,null,null,null,null,null,null,null,null,null,null,null,null,{"$f":"RTD(\"cqg.rtd\",,\"StudyData\",$U$1&\"^.\"&$T$1&\"(\"&$M$2&\")\",\"Bar\",\"\",\"Close\",$L$2,A148,\"all\",\"\",\"\",\"True\")","v":-8960}]
[-147,{"$f":" RTD(\"cqg.rtd\",,\"StudyData\", $M$2, \"Bar\", \"\", \"Time\", $L$2,$A149, $Q$2, \"\", \"\",\"False\")","v":"2016-02-12T00:35:00"},{"$f":" IF(RTD(\"cqg.rtd\",,\"StudyData\", $M$2, \"Bar\", \"\", \"Time\", $L$2, $A149,$Q$2,$P$2, \"\",\"False\")=\"\",NA(),RTD(\"cqg.rtd\",,\"StudyData\", $M$2, \"Bar\", \"\", \"Time\", $L$2, $A149,$Q$2,$P$2, \"\",\"False\"))","v":42412.024305555555},{"$f":" IF(RTD(\"cqg.rtd\",,\"StudyData\", $M$2, \"Bar\", \"\", \"Open\", $L$2, $A149, $Q$2,$P$2,,$N$2,$O$2)=\"\",NA(),RTD(\"cqg.rtd\",,\"StudyData\", $M$2, \"Bar\", \"\", \"Open\", $L$2, $A149, $Q$2,$P$2,,$N$2,$O$2))","v":1828.25},{"$f":" IF(RTD(\"cqg.rtd\",,\"StudyData\", $M$2, \"Bar\", \"\", \"High\", $L$2, $A149, $Q$2,$P$2,,$N$2,$O$2)=\"\",NA(),RTD(\"cqg.rtd\",,\"StudyData\", $M$2, \"Bar\", \"\", \"High\", $L$2, $A149, $Q$2,$P$2,,$N$2,$O$2))","v":1828.25},{"$f":" IF(RTD(\"cqg.rtd\",,\"StudyData\", $M$2, \"Bar\", \"\", \"Low\", $L$2, $A149, $Q$2,$P$2,,$N$2,$O$2)=\"\",NA(),RTD(\"cqg.rtd\",,\"StudyData\", $M$2, \"Bar\", \"\", \"Low\", $L$2, $A149, $Q$2,$P$2,,$N$2,$O$2))","v":1827.5},{"$f":" IF(RTD(\"cqg.rtd\",,\"StudyData\", $M$2, \"Bar\", \"\", \"Close\", $L$2, $A149, $Q$2,$P$2,,$N$2,$O$2)=\"\",NA(),RTD(\"cqg.rtd\",,\"StudyData\", $M$2, \"Bar\", \"\", \"Close\", $L$2, $A149, $Q$2,$P$2,,$N$2,$O$2))","v":1828.25},null,null,null,null,null,null,null,null,null,null,null,null,null,{"$f":"RTD(\"cqg.rtd\",,\"StudyData\",$U$1&\"^.\"&$T$1&\"(\"&$M$2&\")\",\"Bar\",\"\",\"Close\",$L$2,A149,\"all\",\"\",\"\",\"True\")","v":-9047.5}]
[-148,{"$f":" RTD(\"cqg.rtd\",,\"StudyData\", $M$2, \"Bar\", \"\", \"Time\", $L$2,$A150, $Q$2, \"\", \"\",\"False\")","v":"2016-02-12T00:30:00"},{"$f":" IF(RTD(\"cqg.rtd\",,\"StudyData\", $M$2, \"Bar\", \"\", \"Time\", $L$2, $A150,$Q$2,$P$2, \"\",\"False\")=\"\",NA(),RTD(\"cqg.rtd\",,\"StudyData\", $M$2, \"Bar\", \"\", \"Time\", $L$2, $A150,$Q$2,$P$2, \"\",\"False\"))","v":42412.020833333336},{"$f":" IF(RTD(\"cqg.rtd\",,\"StudyData\", $M$2, \"Bar\", \"\", \"Open\", $L$2, $A150, $Q$2,$P$2,,$N$2,$O$2)=\"\",NA(),RTD(\"cqg.rtd\",,\"StudyData\", $M$2, \"Bar\", \"\", \"Open\", $L$2, $A150, $Q$2,$P$2,,$N$2,$O$2))","v":1827},{"$f":" IF(RTD(\"cqg.rtd\",,\"StudyData\", $M$2, \"Bar\", \"\", \"High\", $L$2, $A150, $Q$2,$P$2,,$N$2,$O$2)=\"\",NA(),RTD(\"cqg.rtd\",,\"StudyData\", $M$2, \"Bar\", \"\", \"High\", $L$2, $A150, $Q$2,$P$2,,$N$2,$O$2))","v":1828.5},{"$f":" IF(RTD(\"cqg.rtd\",,\"StudyData\", $M$2, \"Bar\", \"\", \"Low\", $L$2, $A150, $Q$2,$P$2,,$N$2,$O$2)=\"\",NA(),RTD(\"cqg.rtd\",,\"StudyData\", $M$2, \"Bar\", \"\", \"Low\", $L$2, $A150, $Q$2,$P$2,,$N$2,$O$2))","v":1826.5},{"$f":" IF(RTD(\"cqg.rtd\",,\"StudyData\", $M$2, \"Bar\", \"\", \"Close\", $L$2, $A150, $Q$2,$P$2,,$N$2,$O$2)=\"\",NA(),RTD(\"cqg.rtd\",,\"StudyData\", $M$2, \"Bar\", \"\", \"Close\", $L$2, $A150, $Q$2,$P$2,,$N$2,$O$2))","v":1828.25},null,null,null,null,null,null,null,null,null,null,null,null,null,{"$f":"RTD(\"cqg.rtd\",,\"StudyData\",$U$1&\"^.\"&$T$1&\"(\"&$M$2&\")\",\"Bar\",\"\",\"Close\",$L$2,A150,\"all\",\"\",\"\",\"True\")","v":-9047.5}]