{"text_format":"1","workbook":"xlsx","n_sheets":4,"sheets":["MIVClose","MIVData","HVol","HVolData"],"not_rendered":{"charts":6,"images":0,"macros":1,"external_links":0,"defined_names":0,"comments":0,"pivot_tables":0},"unopened":[],"bounds":{"document_bytes":16777216,"sheet_cells":100000,"rows_first":2000,"rows_last":500,"rows_between":2000,"halvings":0,"cell_chars":16384,"cell_head_chars":4096},"cells_cut":0,"cells_raw":0,"read":"whole","date_system":"1900"}

{"sheet":"MIVClose","index":0,"n_rows":24,"n_cols":22,"rows_kept":24,"cut":false,"hidden":false,"merged":[[10,9,11,9],[19,14,19,21]]}
[null,null,"Symbol","Chart","Sessions"]
[null,null,"EP","ADC","PrimaryOnly"]
[null,null,null,null,null,null,null,null,null,null,null,null,null,null,"Symbol","Last","NC","%NC","Open","High","Low","MIVClose"]
[{"$f":"MIVData!M9","v":4686.5},null,null,null,null,null,null,null,null,null,null,null,null,null,"EP",{"$f":"RTD(\"cqg.rtd\", ,\"ContractData\", O4, \"LastTrade\",, \"T\")","v":4351.75},{"$f":"RTD(\"cqg.rtd\", ,\"ContractData\", O4, \"NetLastTradeToday\",, \"T\")","v":10.25},{"$f":"RTD(\"cqg.rtd\", ,\"ContractData\", O4, \"PerCentNetLastTrade\",, \"T\")/100","v":2.3609351606587582E-3},{"$f":"RTD(\"cqg.rtd\", ,\"ContractData\", O4, \"Open\",, \"T\")","v":4315},{"$f":"RTD(\"cqg.rtd\", ,\"ContractData\", O4, \"High\",, \"T\")","v":4352},{"$f":"RTD(\"cqg.rtd\", ,\"ContractData\", O4, \"Low\",, \"T\")","v":4299.5},{"$f":" RTD(\"cqg.rtd\",,\"StudyData\",$O4, \"ImpVol\",, \"MIVClose\",\"D\")","v":15.260000000000002}]
[{"$f":"MIVData!M10","v":3661.25},null,null,null,null,null,null,null,null,null,null,null,null,null,"ENQ",{"$f":"RTD(\"cqg.rtd\", ,\"ContractData\", O5, \"LastTrade\",, \"T\")","v":15128.75},{"$f":"RTD(\"cqg.rtd\", ,\"ContractData\", O5, \"NetLastTradeToday\",, \"T\")","v":16.5},{"$f":"RTD(\"cqg.rtd\", ,\"ContractData\", O5, \"PerCentNetLastTrade\",, \"T\")/100","v":1.0918475383800952E-3},{"$f":"RTD(\"cqg.rtd\", ,\"ContractData\", O5, \"Open\",, \"T\")","v":15040.25},{"$f":"RTD(\"cqg.rtd\", ,\"ContractData\", O5, \"High\",, \"T\")","v":15131.25},{"$f":"RTD(\"cqg.rtd\", ,\"ContractData\", O5, \"Low\",, \"T\")","v":14949.5},{"$f":" RTD(\"cqg.rtd\",,\"StudyData\",$O5, \"ImpVol\",, \"MIVClose\",\"D\")","v":20.055}]
[null,null,null,null,null,null,null,null,null,null,null,null,null,null,"YM",{"$f":"RTD(\"cqg.rtd\", ,\"ContractData\", O6, \"LastTrade\",, \"T\")","v":33678},{"$f":"RTD(\"cqg.rtd\", ,\"ContractData\", O6, \"NetLastTradeToday\",, \"T\")","v":78},{"$f":"RTD(\"cqg.rtd\", ,\"ContractData\", O6, \"PerCentNetLastTrade\",, \"T\")/100","v":2.3214285714285715E-3},{"$f":"RTD(\"cqg.rtd\", ,\"ContractData\", O6, \"Open\",, \"T\")","v":33477},{"$f":"RTD(\"cqg.rtd\", ,\"ContractData\", O6, \"High\",, \"T\")","v":33679},{"$f":"RTD(\"cqg.rtd\", ,\"ContractData\", O6, \"Low\",, \"T\")","v":33298},{"$f":" RTD(\"cqg.rtd\",,\"StudyData\",$O6, \"ImpVol\",, \"MIVClose\",\"D\")","v":12.695}]
[null,null,null,null,null,null,null,null,null,null,null,null,null,null,"GCE",{"$f":"RTD(\"cqg.rtd\", ,\"ContractData\", O7, \"LastTrade\",, \"T\")","v":1866.3000000000002},{"$f":"RTD(\"cqg.rtd\", ,\"ContractData\", O7, \"NetLastTradeToday\",, \"T\")","v":21.1},{"$f":"RTD(\"cqg.rtd\", ,\"ContractData\", O7, \"PerCentNetLastTrade\",, \"T\")/100","v":1.1435074788640798E-2},{"$f":"RTD(\"cqg.rtd\", ,\"ContractData\", O7, \"Open\",, \"T\")","v":1861},{"$f":"RTD(\"cqg.rtd\", ,\"ContractData\", O7, \"High\",, \"T\")","v":1869.5},{"$f":"RTD(\"cqg.rtd\", ,\"ContractData\", O7, \"Low\",, \"T\")","v":1857.5},{"$f":" RTD(\"cqg.rtd\",,\"StudyData\",$O7, \"ImpVol\",, \"MIVClose\",\"D\")","v":12.395}]
[null,null,null,null,null,null,null,null,null,null,null,null,null,null,"SIE",{"$f":"RTD(\"cqg.rtd\", ,\"ContractData\", O8, \"LastTrade\",, \"T\")","v":21.955000000000002},{"$f":"RTD(\"cqg.rtd\", ,\"ContractData\", O8, \"NetLastTradeToday\",, \"T\")","v":0.23200000000000001},{"$f":"RTD(\"cqg.rtd\", ,\"ContractData\", O8, \"PerCentNetLastTrade\",, \"T\")/100","v":1.0679924503981954E-2},{"$f":"RTD(\"cqg.rtd\", ,\"ContractData\", O8, \"Open\",, \"T\")","v":21.94},{"$f":"RTD(\"cqg.rtd\", ,\"ContractData\", O8, \"High\",, \"T\")","v":22.18},{"$f":"RTD(\"cqg.rtd\", ,\"ContractData\", O8, \"Low\",, \"T\")","v":21.705000000000002},{"$f":" RTD(\"cqg.rtd\",,\"StudyData\",$O8, \"ImpVol\",, \"MIVClose\",\"D\")","v":26.69}]
[null,null,null,null,null,null,null,null,null,null,null,null,null,null,"CLE",{"$f":"RTD(\"cqg.rtd\", ,\"ContractData\", O9, \"LastTrade\",, \"T\")","v":86.28},{"$f":"RTD(\"cqg.rtd\", ,\"ContractData\", O9, \"NetLastTradeToday\",, \"T\")","v":3.49},{"$f":"RTD(\"cqg.rtd\", ,\"ContractData\", O9, \"PerCentNetLastTrade\",, \"T\")/100","v":4.2154849619519263E-2},{"$f":"RTD(\"cqg.rtd\", ,\"ContractData\", O9, \"Open\",, \"T\")","v":85.25},{"$f":"RTD(\"cqg.rtd\", ,\"ContractData\", O9, \"High\",, \"T\")","v":87.24},{"$f":"RTD(\"cqg.rtd\", ,\"ContractData\", O9, \"Low\",, \"T\")","v":84.67},{"$f":" RTD(\"cqg.rtd\",,\"StudyData\",$O9, \"ImpVol\",, \"MIVClose\",\"D\")","v":36.814999999999998}]
[null,null,null,null,null,null,null,null,null,null,null,null,null,null,"HOE",{"$f":"RTD(\"cqg.rtd\", ,\"ContractData\", O10, \"LastTrade\",, \"T\")","v":2.96},{"$f":"RTD(\"cqg.rtd\", ,\"ContractData\", O10, \"NetLastTradeToday\",, \"T\")","v":5.9200000000000003E-2},{"$f":"RTD(\"cqg.rtd\", ,\"ContractData\", O10, \"PerCentNetLastTrade\",, \"T\")/100","v":2.0408163265306124E-2},{"$f":"RTD(\"cqg.rtd\", ,\"ContractData\", O10, \"Open\",, \"T\")","v":2.9498000000000002},{"$f":"RTD(\"cqg.rtd\", ,\"ContractData\", O10, \"High\",, \"T\")","v":3.0258000000000003},{"$f":"RTD(\"cqg.rtd\", ,\"ContractData\", O10, \"Low\",, \"T\")","v":2.9236},{"$f":" RTD(\"cqg.rtd\",,\"StudyData\",$O10, \"ImpVol\",, \"MIVClose\",\"D\")","v":36.884999999999998}]
[null,null,null,null,null,null,null,null,null,null,null,null,null,null,"RBE",{"$f":"RTD(\"cqg.rtd\", ,\"ContractData\", O11, \"LastTrade\",, \"T\")","v":2.2334000000000001},{"$f":"RTD(\"cqg.rtd\", ,\"ContractData\", O11, \"NetLastTradeToday\",, \"T\")","v":4.1200000000000001E-2},{"$f":"RTD(\"cqg.rtd\", ,\"ContractData\", O11, \"PerCentNetLastTrade\",, \"T\")/100","v":1.8793905665541465E-2},{"$f":"RTD(\"cqg.rtd\", ,\"ContractData\", O11, \"Open\",, \"T\")","v":2.2400000000000002},{"$f":"RTD(\"cqg.rtd\", ,\"ContractData\", O11, \"High\",, \"T\")","v":2.2787999999999999},{"$f":"RTD(\"cqg.rtd\", ,\"ContractData\", O11, \"Low\",, \"T\")","v":2.2200000000000002},{"$f":" RTD(\"cqg.rtd\",,\"StudyData\",$O11, \"ImpVol\",, \"MIVClose\",\"D\")","v":34.880000000000003}]
[null,null,null,null,null,null,null,null,null,null,null,null,null,null,"ZSE",{"$f":"RTD(\"cqg.rtd\", ,\"ContractData\", O12, \"LastTrade\",, \"T\")","v":1264.5},{"$f":"RTD(\"cqg.rtd\", ,\"ContractData\", O12, \"NetLastTradeToday\",, \"T\")","v":-1.5},{"$f":"RTD(\"cqg.rtd\", ,\"ContractData\", O12, \"PerCentNetLastTrade\",, \"T\")/100","v":-1.1848341232227489E-3},{"$f":"RTD(\"cqg.rtd\", ,\"ContractData\", O12, \"Open\",, \"T\")","v":1267},{"$f":"RTD(\"cqg.rtd\", ,\"ContractData\", O12, \"High\",, \"T\")","v":1277.5},{"$f":"RTD(\"cqg.rtd\", ,\"ContractData\", O12, \"Low\",, \"T\")","v":1258.25},{"$f":" RTD(\"cqg.rtd\",,\"StudyData\",$O12, \"ImpVol\",, \"MIVClose\",\"D\")","v":17.145}]
[null,null,null,null,null,null,null,null,null,null,null,null,null,null,"ZCE",{"$f":"RTD(\"cqg.rtd\", ,\"ContractData\", O13, \"LastTrade\",, \"T\")","v":490.5},{"$f":"RTD(\"cqg.rtd\", ,\"ContractData\", O13, \"NetLastTradeToday\",, \"T\")","v":-1.5},{"$f":"RTD(\"cqg.rtd\", ,\"ContractData\", O13, \"PerCentNetLastTrade\",, \"T\")/100","v":-3.0487804878048782E-3},{"$f":"RTD(\"cqg.rtd\", ,\"ContractData\", O13, \"Open\",, \"T\")","v":492},{"$f":"RTD(\"cqg.rtd\", ,\"ContractData\", O13, \"High\",, \"T\")","v":497},{"$f":"RTD(\"cqg.rtd\", ,\"ContractData\", O13, \"Low\",, \"T\")","v":487.25},{"$f":" RTD(\"cqg.rtd\",,\"StudyData\",$O13, \"ImpVol\",, \"MIVClose\",\"D\")","v":19.865000000000002}]
[null,null,null,null,null,null,null,null,null,null,null,null,null,null,"ZWA",{"$f":"RTD(\"cqg.rtd\", ,\"ContractData\", O14, \"LastTrade\",, \"T\")","v":574.25},{"$f":"RTD(\"cqg.rtd\", ,\"ContractData\", O14, \"NetLastTradeToday\",, \"T\")","v":6},{"$f":"RTD(\"cqg.rtd\", ,\"ContractData\", O14, \"PerCentNetLastTrade\",, \"T\")/100","v":1.0558732952045756E-2},{"$f":"RTD(\"cqg.rtd\", ,\"ContractData\", O14, \"Open\",, \"T\")","v":573.25},{"$f":"RTD(\"cqg.rtd\", ,\"ContractData\", O14, \"High\",, \"T\")","v":581.5},{"$f":"RTD(\"cqg.rtd\", ,\"ContractData\", O14, \"Low\",, \"T\")","v":570},{"$f":" RTD(\"cqg.rtd\",,\"StudyData\",$O14, \"ImpVol\",, \"MIVClose\",\"D\")","v":30.820000000000004}]
[]
[]
[]
[]
[]
[null,null,null,null,null,null,null,null,null,null,null,null,null,null,"Frequency Distributio Implied Volatility"]
[]
[]
[{"$f":"MIVData!M1","v":28},null,null,null,null,null,null,null,null,null,null,null,null,null,{"$f":"MIVData!M12","v":25}]
[{"$f":"MIVData!M2","v":9},null,null,null,null,null,null,null,null,null,null,null,null,null,{"$f":"MIVData!M13","v":0}]

{"sheet":"MIVData","index":1,"n_rows":302,"n_cols":15,"rows_kept":302,"cut":false,"hidden":false,"merged":[]}
[null,"DATE","Open","High","Low","Close","MIVClose",null,null,null,"Max (Round up)",{"$f":"MAX(G2:G302)","v":27.860000000000003},{"$f":"ROUNDUP(L1,0)","v":28},null,"Symbol (use CAPS)"]
[0,{"$f":" RTD(\"cqg.rtd\",,\"StudyData\", $O$2, \"BAR\", \"\", \"Time\", $O$4,-$A2,$O$6,$O$10, \"\",\"False\",\"T\")","v":"2023-10-09"},{"$f":" RTD(\"cqg.rtd\",,\"StudyData\", $O$2, \"BAR\", \"\", \"Open\", $O$4, -$A2, $O$6,$O$10,,$O$8,$O$12)","v":4315},{"$f":" RTD(\"cqg.rtd\",,\"StudyData\", $O$2, \"BAR\", \"\", \"High\", $O$4, -$A2, $O$6,$O$10,,$O$8,$O$12)","v":4352},{"$f":" RTD(\"cqg.rtd\",,\"StudyData\", $O$2, \"BAR\", \"\", \"Low\", $O$4, -$A2, $O$6,$O$10,,$O$8,$O$12)","v":4299.5},{"$f":" RTD(\"cqg.rtd\",,\"StudyData\", $O$2, \"BAR\", \"\", \"Close\", $O$4, -$A2, $O$6,$O$10,,$O$8,$O$12)","v":4351.75},{"$f":" RTD(\"cqg.rtd\",,\"StudyData\",$O$2, \"ImpVol\",, \"MIVClose\",$O$4,-A2,$O$6,$O$10,,$O$8,$O$12)","v":15.260000000000002},{"$f":"FREQUENCY($G$2:$G$302,$I$2:$I$43)","v":3},{"$f":"M1","v":28},{"$f":"IF(AND($G$2>I3,OR($G$2=I2,$G$2<I2)),H2,NA())","v":{"$error":"#N/A"}},"Min (Round Dn)",{"$f":"MIN(G2:G302)","v":9.3600000000000012},{"$f":"ROUNDDOWN(L2,0)","v":9},null,{"$f":"MIVClose!C2","v":"EP"}]
[{"$f":"A2+1","v":1},{"$f":" RTD(\"cqg.rtd\",,\"StudyData\", $O$2, \"BAR\", \"\", \"Time\", $O$4,-$A3,$O$6,$O$10, \"\",\"False\",\"T\")","v":"2023-10-06"},{"$f":" RTD(\"cqg.rtd\",,\"StudyData\", $O$2, \"BAR\", \"\", \"Open\", $O$4, -$A3, $O$6,$O$10,,$O$8,$O$12)","v":4287.5},{"$f":" RTD(\"cqg.rtd\",,\"StudyData\", $O$2, \"BAR\", \"\", \"High\", $O$4, -$A3, $O$6,$O$10,,$O$8,$O$12)","v":4358.5},{"$f":" RTD(\"cqg.rtd\",,\"StudyData\", $O$2, \"BAR\", \"\", \"Low\", $O$4, -$A3, $O$6,$O$10,,$O$8,$O$12)","v":4242.25},{"$f":" RTD(\"cqg.rtd\",,\"StudyData\", $O$2, \"BAR\", \"\", \"Close\", $O$4, -$A3, $O$6,$O$10,,$O$8,$O$12)","v":4341.5},{"$f":" RTD(\"cqg.rtd\",,\"StudyData\",$O$2, \"ImpVol\",, \"MIVClose\",$O$4,-A3,$O$6,$O$10,,$O$8,$O$12)","v":15.065000000000001},2,{"$f":"I2-$M$4","v":27.53},{"$f":"IF(AND($G$2>I4,OR($G$2=I3,$G$2<I3)),H3,NA())","v":{"$error":"#N/A"}},null,"Difference",{"$f":"M1-M2","v":19},null,"Chart"]
[{"$f":"A3+1","v":2},{"$f":" RTD(\"cqg.rtd\",,\"StudyData\", $O$2, \"BAR\", \"\", \"Time\", $O$4,-$A4,$O$6,$O$10, \"\",\"False\",\"T\")","v":"2023-10-05"},{"$f":" RTD(\"cqg.rtd\",,\"StudyData\", $O$2, \"BAR\", \"\", \"Open\", $O$4, -$A4, $O$6,$O$10,,$O$8,$O$12)","v":4291.5},{"$f":" RTD(\"cqg.rtd\",,\"StudyData\", $O$2, \"BAR\", \"\", \"High\", $O$4, -$A4, $O$6,$O$10,,$O$8,$O$12)","v":4302},{"$f":" RTD(\"cqg.rtd\",,\"StudyData\", $O$2, \"BAR\", \"\", \"Low\", $O$4, -$A4, $O$6,$O$10,,$O$8,$O$12)","v":4258},{"$f":" RTD(\"cqg.rtd\",,\"StudyData\", $O$2, \"BAR\", \"\", \"Close\", $O$4, -$A4, $O$6,$O$10,,$O$8,$O$12)","v":4290.75},{"$f":" RTD(\"cqg.rtd\",,\"StudyData\",$O$2, \"ImpVol\",, \"MIVClose\",$O$4,-A4,$O$6,$O$10,,$O$8,$O$12)","v":15.695},7,{"$f":"I3-$M$4","v":27.060000000000002},{"$error":"#N/A"},null,"Diff/20",{"$f":"ROUNDDOWN(M3/40,2)","v":0.47},null,{"$f":"MIVClose!D2","v":"ADC"}]
[3,{"$f":" RTD(\"cqg.rtd\",,\"StudyData\", $O$2, \"BAR\", \"\", \"Time\", $O$4,-$A5,$O$6,$O$10, \"\",\"False\",\"T\")","v":"2023-10-04"},{"$f":" RTD(\"cqg.rtd\",,\"StudyData\", $O$2, \"BAR\", \"\", \"Open\", $O$4, -$A5, $O$6,$O$10,,$O$8,$O$12)","v":4262.75},{"$f":" RTD(\"cqg.rtd\",,\"StudyData\", $O$2, \"BAR\", \"\", \"High\", $O$4, -$A5, $O$6,$O$10,,$O$8,$O$12)","v":4304},{"$f":" RTD(\"cqg.rtd\",,\"StudyData\", $O$2, \"BAR\", \"\", \"Low\", $O$4, -$A5, $O$6,$O$10,,$O$8,$O$12)","v":4235.5},{"$f":" RTD(\"cqg.rtd\",,\"StudyData\", $O$2, \"BAR\", \"\", \"Close\", $O$4, -$A5, $O$6,$O$10,,$O$8,$O$12)","v":4297.75},{"$f":" RTD(\"cqg.rtd\",,\"StudyData\",$O$2, \"ImpVol\",, \"MIVClose\",$O$4,-A5,$O$6,$O$10,,$O$8,$O$12)","v":15.750000000000004},4,26.590000000000003,{"$error":"#N/A"},null,null,null,null,"Type All or PrimaryOnly"]
[4,{"$f":" RTD(\"cqg.rtd\",,\"StudyData\", $O$2, \"BAR\", \"\", \"Time\", $O$4,-$A6,$O$6,$O$10, \"\",\"False\",\"T\")","v":"2023-10-03"},{"$f":" RTD(\"cqg.rtd\",,\"StudyData\", $O$2, \"BAR\", \"\", \"Open\", $O$4, -$A6, $O$6,$O$10,,$O$8,$O$12)","v":4326},{"$f":" RTD(\"cqg.rtd\",,\"StudyData\", $O$2, \"BAR\", \"\", \"High\", $O$4, -$A6, $O$6,$O$10,,$O$8,$O$12)","v":4335.75},{"$f":" RTD(\"cqg.rtd\",,\"StudyData\", $O$2, \"BAR\", \"\", \"Low\", $O$4, -$A6, $O$6,$O$10,,$O$8,$O$12)","v":4251.25},{"$f":" RTD(\"cqg.rtd\",,\"StudyData\", $O$2, \"BAR\", \"\", \"Close\", $O$4, -$A6, $O$6,$O$10,,$O$8,$O$12)","v":4264.75},{"$f":" RTD(\"cqg.rtd\",,\"StudyData\",$O$2, \"ImpVol\",, \"MIVClose\",$O$4,-A6,$O$6,$O$10,,$O$8,$O$12)","v":16.520000000000003},3,26.120000000000005,{"$error":"#N/A"},null,"Median",{"$f":"MEDIAN(G2:G302)","v":17.32},null,{"$f":"MIVClose!E2","v":"PrimaryOnly"}]
[5,{"$f":" RTD(\"cqg.rtd\",,\"StudyData\", $O$2, \"BAR\", \"\", \"Time\", $O$4,-$A7,$O$6,$O$10, \"\",\"False\",\"T\")","v":"2023-10-02"},{"$f":" RTD(\"cqg.rtd\",,\"StudyData\", $O$2, \"BAR\", \"\", \"Open\", $O$4, -$A7, $O$6,$O$10,,$O$8,$O$12)","v":4349},{"$f":" RTD(\"cqg.rtd\",,\"StudyData\", $O$2, \"BAR\", \"\", \"High\", $O$4, -$A7, $O$6,$O$10,,$O$8,$O$12)","v":4355.5},{"$f":" RTD(\"cqg.rtd\",,\"StudyData\", $O$2, \"BAR\", \"\", \"Low\", $O$4, -$A7, $O$6,$O$10,,$O$8,$O$12)","v":4295.5},{"$f":" RTD(\"cqg.rtd\",,\"StudyData\", $O$2, \"BAR\", \"\", \"Close\", $O$4, -$A7, $O$6,$O$10,,$O$8,$O$12)","v":4324.25},{"$f":" RTD(\"cqg.rtd\",,\"StudyData\",$O$2, \"ImpVol\",, \"MIVClose\",$O$4,-A7,$O$6,$O$10,,$O$8,$O$12)","v":14.924999999999999},3,25.650000000000006,{"$error":"#N/A"},null,{"$f":"\"MIVClose = \"&TEXT(G2,\"#.000\")&\", Median = \"&TEXT(M6,\"#.000\")","v":"MIVClose = 15.260, Median = 17.320"},null,null,"Continuation"]
[6,{"$f":" RTD(\"cqg.rtd\",,\"StudyData\", $O$2, \"BAR\", \"\", \"Time\", $O$4,-$A8,$O$6,$O$10, \"\",\"False\",\"T\")","v":"2023-09-29"},{"$f":" RTD(\"cqg.rtd\",,\"StudyData\", $O$2, \"BAR\", \"\", \"Open\", $O$4, -$A8, $O$6,$O$10,,$O$8,$O$12)","v":4342},{"$f":" RTD(\"cqg.rtd\",,\"StudyData\", $O$2, \"BAR\", \"\", \"High\", $O$4, -$A8, $O$6,$O$10,,$O$8,$O$12)","v":4371.25},{"$f":" RTD(\"cqg.rtd\",,\"StudyData\", $O$2, \"BAR\", \"\", \"Low\", $O$4, -$A8, $O$6,$O$10,,$O$8,$O$12)","v":4311},{"$f":" RTD(\"cqg.rtd\",,\"StudyData\", $O$2, \"BAR\", \"\", \"Close\", $O$4, -$A8, $O$6,$O$10,,$O$8,$O$12)","v":4325.5},{"$f":" RTD(\"cqg.rtd\",,\"StudyData\",$O$2, \"ImpVol\",, \"MIVClose\",$O$4,-A8,$O$6,$O$10,,$O$8,$O$12)","v":14.915000000000001},3,25.180000000000007,{"$error":"#N/A"},null,null,null,null,true]
[7,{"$f":" RTD(\"cqg.rtd\",,\"StudyData\", $O$2, \"BAR\", \"\", \"Time\", $O$4,-$A9,$O$6,$O$10, \"\",\"False\",\"T\")","v":"2023-09-28"},{"$f":" RTD(\"cqg.rtd\",,\"StudyData\", $O$2, \"BAR\", \"\", \"Open\", $O$4, -$A9, $O$6,$O$10,,$O$8,$O$12)","v":4323.25},{"$f":" RTD(\"cqg.rtd\",,\"StudyData\", $O$2, \"BAR\", \"\", \"High\", $O$4, -$A9, $O$6,$O$10,,$O$8,$O$12)","v":4355.75},{"$f":" RTD(\"cqg.rtd\",,\"StudyData\", $O$2, \"BAR\", \"\", \"Low\", $O$4, -$A9, $O$6,$O$10,,$O$8,$O$12)","v":4301},{"$f":" RTD(\"cqg.rtd\",,\"StudyData\", $O$2, \"BAR\", \"\", \"Close\", $O$4, -$A9, $O$6,$O$10,,$O$8,$O$12)","v":4337.5},{"$f":" RTD(\"cqg.rtd\",,\"StudyData\",$O$2, \"ImpVol\",, \"MIVClose\",$O$4,-A9,$O$6,$O$10,,$O$8,$O$12)","v":14.774999999999999},6,24.710000000000008,{"$error":"#N/A"},null,"Bar Chart Max",{"$f":"MAX(D2:D302)+10*RTD(\"cqg.rtd\", ,\"ContractData\",O2, \"Ticksize\",, \"T\")","v":4686.5},null,"CustomSessionName eg 700to800"]
[8,{"$f":" RTD(\"cqg.rtd\",,\"StudyData\", $O$2, \"BAR\", \"\", \"Time\", $O$4,-$A10,$O$6,$O$10, \"\",\"False\",\"T\")","v":"2023-09-27"},{"$f":" RTD(\"cqg.rtd\",,\"StudyData\", $O$2, \"BAR\", \"\", \"Open\", $O$4, -$A10, $O$6,$O$10,,$O$8,$O$12)","v":4320.25},{"$f":" RTD(\"cqg.rtd\",,\"StudyData\", $O$2, \"BAR\", \"\", \"High\", $O$4, -$A10, $O$6,$O$10,,$O$8,$O$12)","v":4336.5},{"$f":" RTD(\"cqg.rtd\",,\"StudyData\", $O$2, \"BAR\", \"\", \"Low\", $O$4, -$A10, $O$6,$O$10,,$O$8,$O$12)","v":4277},{"$f":" RTD(\"cqg.rtd\",,\"StudyData\", $O$2, \"BAR\", \"\", \"Close\", $O$4, -$A10, $O$6,$O$10,,$O$8,$O$12)","v":4313.5},{"$f":" RTD(\"cqg.rtd\",,\"StudyData\",$O$2, \"ImpVol\",, \"MIVClose\",$O$4,-A10,$O$6,$O$10,,$O$8,$O$12)","v":15.310000000000002},5,24.240000000000009,{"$error":"#N/A"},null,"Bar Chart Min",{"$f":"MIN(E2:E302)-10*RTD(\"cqg.rtd\", ,\"ContractData\",O2, \"Ticksize\",, \"T\")","v":3661.25}]
[9,{"$f":" RTD(\"cqg.rtd\",,\"StudyData\", $O$2, \"BAR\", \"\", \"Time\", $O$4,-$A11,$O$6,$O$10, \"\",\"False\",\"T\")","v":"2023-09-26"},{"$f":" RTD(\"cqg.rtd\",,\"StudyData\", $O$2, \"BAR\", \"\", \"Open\", $O$4, -$A11, $O$6,$O$10,,$O$8,$O$12)","v":4382},{"$f":" RTD(\"cqg.rtd\",,\"StudyData\", $O$2, \"BAR\", \"\", \"High\", $O$4, -$A11, $O$6,$O$10,,$O$8,$O$12)","v":4382},{"$f":" RTD(\"cqg.rtd\",,\"StudyData\", $O$2, \"BAR\", \"\", \"Low\", $O$4, -$A11, $O$6,$O$10,,$O$8,$O$12)","v":4305.5},{"$f":" RTD(\"cqg.rtd\",,\"StudyData\", $O$2, \"BAR\", \"\", \"Close\", $O$4, -$A11, $O$6,$O$10,,$O$8,$O$12)","v":4314.75},{"$f":" RTD(\"cqg.rtd\",,\"StudyData\",$O$2, \"ImpVol\",, \"MIVClose\",$O$4,-A11,$O$6,$O$10,,$O$8,$O$12)","v":15.68},5,23.77000000000001,{"$error":"#N/A"},null,null,null,null,"Decimal=T, Tick=D"]
[10,{"$f":" RTD(\"cqg.rtd\",,\"StudyData\", $O$2, \"BAR\", \"\", \"Time\", $O$4,-$A12,$O$6,$O$10, \"\",\"False\",\"T\")","v":"2023-09-25"},{"$f":" RTD(\"cqg.rtd\",,\"StudyData\", $O$2, \"BAR\", \"\", \"Open\", $O$4, -$A12, $O$6,$O$10,,$O$8,$O$12)","v":4365},{"$f":" RTD(\"cqg.rtd\",,\"StudyData\", $O$2, \"BAR\", \"\", \"High\", $O$4, -$A12, $O$6,$O$10,,$O$8,$O$12)","v":4383.5},{"$f":" RTD(\"cqg.rtd\",,\"StudyData\", $O$2, \"BAR\", \"\", \"Low\", $O$4, -$A12, $O$6,$O$10,,$O$8,$O$12)","v":4338.25},{"$f":" RTD(\"cqg.rtd\",,\"StudyData\", $O$2, \"BAR\", \"\", \"Close\", $O$4, -$A12, $O$6,$O$10,,$O$8,$O$12)","v":4378.75},{"$f":" RTD(\"cqg.rtd\",,\"StudyData\",$O$2, \"ImpVol\",, \"MIVClose\",$O$4,-A12,$O$6,$O$10,,$O$8,$O$12)","v":14.245000000000003},2,23.300000000000011,{"$error":"#N/A"},null,"Frequency Max",{"$f":"MAX(H2:H43)+2","v":25},null,"T"]
[11,{"$f":" RTD(\"cqg.rtd\",,\"StudyData\", $O$2, \"BAR\", \"\", \"Time\", $O$4,-$A13,$O$6,$O$10, \"\",\"False\",\"T\")","v":"2023-09-22"},{"$f":" RTD(\"cqg.rtd\",,\"StudyData\", $O$2, \"BAR\", \"\", \"Open\", $O$4, -$A13, $O$6,$O$10,,$O$8,$O$12)","v":4370.25},{"$f":" RTD(\"cqg.rtd\",,\"StudyData\", $O$2, \"BAR\", \"\", \"High\", $O$4, -$A13, $O$6,$O$10,,$O$8,$O$12)","v":4399},{"$f":" RTD(\"cqg.rtd\",,\"StudyData\", $O$2, \"BAR\", \"\", \"Low\", $O$4, -$A13, $O$6,$O$10,,$O$8,$O$12)","v":4357.25},{"$f":" RTD(\"cqg.rtd\",,\"StudyData\", $O$2, \"BAR\", \"\", \"Close\", $O$4, -$A13, $O$6,$O$10,,$O$8,$O$12)","v":4361},{"$f":" RTD(\"cqg.rtd\",,\"StudyData\",$O$2, \"ImpVol\",, \"MIVClose\",$O$4,-A13,$O$6,$O$10,,$O$8,$O$12)","v":14.424999999999999},5,22.830000000000013,{"$error":"#N/A"},null,"Frequency Min",0]
[12,{"$f":" RTD(\"cqg.rtd\",,\"StudyData\", $O$2, \"BAR\", \"\", \"Time\", $O$4,-$A14,$O$6,$O$10, \"\",\"False\",\"T\")","v":"2023-09-21"},{"$f":" RTD(\"cqg.rtd\",,\"StudyData\", $O$2, \"BAR\", \"\", \"Open\", $O$4, -$A14, $O$6,$O$10,,$O$8,$O$12)","v":4445},{"$f":" RTD(\"cqg.rtd\",,\"StudyData\", $O$2, \"BAR\", \"\", \"High\", $O$4, -$A14, $O$6,$O$10,,$O$8,$O$12)","v":4447},{"$f":" RTD(\"cqg.rtd\",,\"StudyData\", $O$2, \"BAR\", \"\", \"Low\", $O$4, -$A14, $O$6,$O$10,,$O$8,$O$12)","v":4366.5},{"$f":" RTD(\"cqg.rtd\",,\"StudyData\", $O$2, \"BAR\", \"\", \"Close\", $O$4, -$A14, $O$6,$O$10,,$O$8,$O$12)","v":4372},{"$f":" RTD(\"cqg.rtd\",,\"StudyData\",$O$2, \"ImpVol\",, \"MIVClose\",$O$4,-A14,$O$6,$O$10,,$O$8,$O$12)","v":14.335000000000001},6,22.360000000000014,{"$error":"#N/A"}]
[13,{"$f":" RTD(\"cqg.rtd\",,\"StudyData\", $O$2, \"BAR\", \"\", \"Time\", $O$4,-$A15,$O$6,$O$10, \"\",\"False\",\"T\")","v":"2023-09-20"},{"$f":" RTD(\"cqg.rtd\",,\"StudyData\", $O$2, \"BAR\", \"\", \"Open\", $O$4, -$A15, $O$6,$O$10,,$O$8,$O$12)","v":4491.25},{"$f":" RTD(\"cqg.rtd\",,\"StudyData\", $O$2, \"BAR\", \"\", \"High\", $O$4, -$A15, $O$6,$O$10,,$O$8,$O$12)","v":4508},{"$f":" RTD(\"cqg.rtd\",,\"StudyData\", $O$2, \"BAR\", \"\", \"Low\", $O$4, -$A15, $O$6,$O$10,,$O$8,$O$12)","v":4443.25},{"$f":" RTD(\"cqg.rtd\",,\"StudyData\", $O$2, \"BAR\", \"\", \"Close\", $O$4, -$A15, $O$6,$O$10,,$O$8,$O$12)","v":4447},{"$f":" RTD(\"cqg.rtd\",,\"StudyData\",$O$2, \"ImpVol\",, \"MIVClose\",$O$4,-A15,$O$6,$O$10,,$O$8,$O$12)","v":13.115000000000002},21,21.890000000000015,{"$error":"#N/A"}]
[14,{"$f":" RTD(\"cqg.rtd\",,\"StudyData\", $O$2, \"BAR\", \"\", \"Time\", $O$4,-$A16,$O$6,$O$10, \"\",\"False\",\"T\")","v":"2023-09-19"},{"$f":" RTD(\"cqg.rtd\",,\"StudyData\", $O$2, \"BAR\", \"\", \"Open\", $O$4, -$A16, $O$6,$O$10,,$O$8,$O$12)","v":4503.25},{"$f":" RTD(\"cqg.rtd\",,\"StudyData\", $O$2, \"BAR\", \"\", \"High\", $O$4, -$A16, $O$6,$O$10,,$O$8,$O$12)","v":4509.5},{"$f":" RTD(\"cqg.rtd\",,\"StudyData\", $O$2, \"BAR\", \"\", \"Low\", $O$4, -$A16, $O$6,$O$10,,$O$8,$O$12)","v":4462.25},{"$f":" RTD(\"cqg.rtd\",,\"StudyData\", $O$2, \"BAR\", \"\", \"Close\", $O$4, -$A16, $O$6,$O$10,,$O$8,$O$12)","v":4490},{"$f":" RTD(\"cqg.rtd\",,\"StudyData\",$O$2, \"ImpVol\",, \"MIVClose\",$O$4,-A16,$O$6,$O$10,,$O$8,$O$12)","v":12.395},5,21.420000000000016,{"$error":"#N/A"}]
[15,{"$f":" RTD(\"cqg.rtd\",,\"StudyData\", $O$2, \"BAR\", \"\", \"Time\", $O$4,-$A17,$O$6,$O$10, \"\",\"False\",\"T\")","v":"2023-09-18"},{"$f":" RTD(\"cqg.rtd\",,\"StudyData\", $O$2, \"BAR\", \"\", \"Open\", $O$4, -$A17, $O$6,$O$10,,$O$8,$O$12)","v":4499.5},{"$f":" RTD(\"cqg.rtd\",,\"StudyData\", $O$2, \"BAR\", \"\", \"High\", $O$4, -$A17, $O$6,$O$10,,$O$8,$O$12)","v":4514.5},{"$f":" RTD(\"cqg.rtd\",,\"StudyData\", $O$2, \"BAR\", \"\", \"Low\", $O$4, -$A17, $O$6,$O$10,,$O$8,$O$12)","v":4487},{"$f":" RTD(\"cqg.rtd\",,\"StudyData\", $O$2, \"BAR\", \"\", \"Close\", $O$4, -$A17, $O$6,$O$10,,$O$8,$O$12)","v":4501.5},{"$f":" RTD(\"cqg.rtd\",,\"StudyData\",$O$2, \"ImpVol\",, \"MIVClose\",$O$4,-A17,$O$6,$O$10,,$O$8,$O$12)","v":12.33},9,20.950000000000017,{"$error":"#N/A"}]
[16,{"$f":" RTD(\"cqg.rtd\",,\"StudyData\", $O$2, \"BAR\", \"\", \"Time\", $O$4,-$A18,$O$6,$O$10, \"\",\"False\",\"T\")","v":"2023-09-15"},{"$f":" RTD(\"cqg.rtd\",,\"StudyData\", $O$2, \"BAR\", \"\", \"Open\", $O$4, -$A18, $O$6,$O$10,,$O$8,$O$12)","v":4556.5},{"$f":" RTD(\"cqg.rtd\",,\"StudyData\", $O$2, \"BAR\", \"\", \"High\", $O$4, -$A18, $O$6,$O$10,,$O$8,$O$12)","v":4566},{"$f":" RTD(\"cqg.rtd\",,\"StudyData\", $O$2, \"BAR\", \"\", \"Low\", $O$4, -$A18, $O$6,$O$10,,$O$8,$O$12)","v":4494},{"$f":" RTD(\"cqg.rtd\",,\"StudyData\", $O$2, \"BAR\", \"\", \"Close\", $O$4, -$A18, $O$6,$O$10,,$O$8,$O$12)","v":4498},{"$f":" RTD(\"cqg.rtd\",,\"StudyData\",$O$2, \"ImpVol\",, \"MIVClose\",$O$4,-A18,$O$6,$O$10,,$O$8,$O$12)","v":12.430000000000001},8,20.480000000000018,{"$error":"#N/A"}]
[17,{"$f":" RTD(\"cqg.rtd\",,\"StudyData\", $O$2, \"BAR\", \"\", \"Time\", $O$4,-$A19,$O$6,$O$10, \"\",\"False\",\"T\")","v":"2023-09-14"},{"$f":" RTD(\"cqg.rtd\",,\"StudyData\", $O$2, \"BAR\", \"\", \"Open\", $O$4, -$A19, $O$6,$O$10,,$O$8,$O$12)","v":4521.25},{"$f":" RTD(\"cqg.rtd\",,\"StudyData\", $O$2, \"BAR\", \"\", \"High\", $O$4, -$A19, $O$6,$O$10,,$O$8,$O$12)","v":4562},{"$f":" RTD(\"cqg.rtd\",,\"StudyData\", $O$2, \"BAR\", \"\", \"Low\", $O$4, -$A19, $O$6,$O$10,,$O$8,$O$12)","v":4519},{"$f":" RTD(\"cqg.rtd\",,\"StudyData\", $O$2, \"BAR\", \"\", \"Close\", $O$4, -$A19, $O$6,$O$10,,$O$8,$O$12)","v":4555},{"$f":" RTD(\"cqg.rtd\",,\"StudyData\",$O$2, \"ImpVol\",, \"MIVClose\",$O$4,-A19,$O$6,$O$10,,$O$8,$O$12)","v":11.715},8,20.010000000000019,{"$error":"#N/A"}]
[18,{"$f":" RTD(\"cqg.rtd\",,\"StudyData\", $O$2, \"BAR\", \"\", \"Time\", $O$4,-$A20,$O$6,$O$10, \"\",\"False\",\"T\")","v":"2023-09-13"},{"$f":" RTD(\"cqg.rtd\",,\"StudyData\", $O$2, \"BAR\", \"\", \"Open\", $O$4, -$A20, $O$6,$O$10,,$O$8,$O$12)","v":4513},{"$f":" RTD(\"cqg.rtd\",,\"StudyData\", $O$2, \"BAR\", \"\", \"High\", $O$4, -$A20, $O$6,$O$10,,$O$8,$O$12)","v":4530.25},{"$f":" RTD(\"cqg.rtd\",,\"StudyData\", $O$2, \"BAR\", \"\", \"Low\", $O$4, -$A20, $O$6,$O$10,,$O$8,$O$12)","v":4495},{"$f":" RTD(\"cqg.rtd\",,\"StudyData\", $O$2, \"BAR\", \"\", \"Close\", $O$4, -$A20, $O$6,$O$10,,$O$8,$O$12)","v":4517.5},{"$f":" RTD(\"cqg.rtd\",,\"StudyData\",$O$2, \"ImpVol\",, \"MIVClose\",$O$4,-A20,$O$6,$O$10,,$O$8,$O$12)","v":12.295},9,19.54000000000002,{"$error":"#N/A"}]
[19,{"$f":" RTD(\"cqg.rtd\",,\"StudyData\", $O$2, \"BAR\", \"\", \"Time\", $O$4,-$A21,$O$6,$O$10, \"\",\"False\",\"T\")","v":"2023-09-12"},{"$f":" RTD(\"cqg.rtd\",,\"StudyData\", $O$2, \"BAR\", \"\", \"Open\", $O$4, -$A21, $O$6,$O$10,,$O$8,$O$12)","v":4536.5},{"$f":" RTD(\"cqg.rtd\",,\"StudyData\", $O$2, \"BAR\", \"\", \"High\", $O$4, -$A21, $O$6,$O$10,,$O$8,$O$12)","v":4539},{"$f":" RTD(\"cqg.rtd\",,\"StudyData\", $O$2, \"BAR\", \"\", \"Low\", $O$4, -$A21, $O$6,$O$10,,$O$8,$O$12)","v":4507.25},{"$f":" RTD(\"cqg.rtd\",,\"StudyData\", $O$2, \"BAR\", \"\", \"Close\", $O$4, -$A21, $O$6,$O$10,,$O$8,$O$12)","v":4513.75},{"$f":" RTD(\"cqg.rtd\",,\"StudyData\",$O$2, \"ImpVol\",, \"MIVClose\",$O$4,-A21,$O$6,$O$10,,$O$8,$O$12)","v":12.585000000000001},5,19.070000000000022,{"$error":"#N/A"}]
[20,{"$f":" RTD(\"cqg.rtd\",,\"StudyData\", $O$2, \"BAR\", \"\", \"Time\", $O$4,-$A22,$O$6,$O$10, \"\",\"False\",\"T\")","v":"2023-09-11"},{"$f":" RTD(\"cqg.rtd\",,\"StudyData\", $O$2, \"BAR\", \"\", \"Open\", $O$4, -$A22, $O$6,$O$10,,$O$8,$O$12)","v":4514},{"$f":" RTD(\"cqg.rtd\",,\"StudyData\", $O$2, \"BAR\", \"\", \"High\", $O$4, -$A22, $O$6,$O$10,,$O$8,$O$12)","v":4543.5},{"$f":" RTD(\"cqg.rtd\",,\"StudyData\", $O$2, \"BAR\", \"\", \"Low\", $O$4, -$A22, $O$6,$O$10,,$O$8,$O$12)","v":4508.75},{"$f":" RTD(\"cqg.rtd\",,\"StudyData\", $O$2, \"BAR\", \"\", \"Close\", $O$4, -$A22, $O$6,$O$10,,$O$8,$O$12)","v":4539.5},{"$f":" RTD(\"cqg.rtd\",,\"StudyData\",$O$2, \"ImpVol\",, \"MIVClose\",$O$4,-A22,$O$6,$O$10,,$O$8,$O$12)","v":12.340000000000002},11,18.600000000000023,{"$error":"#N/A"}]
[21,{"$f":" RTD(\"cqg.rtd\",,\"StudyData\", $O$2, \"BAR\", \"\", \"Time\", $O$4,-$A23,$O$6,$O$10, \"\",\"False\",\"T\")","v":"2023-09-08"},{"$f":" RTD(\"cqg.rtd\",,\"StudyData\", $O$2, \"BAR\", \"\", \"Open\", $O$4, -$A23, $O$6,$O$10,,$O$8,$O$12)","v":4507.75},{"$f":" RTD(\"cqg.rtd\",,\"StudyData\", $O$2, \"BAR\", \"\", \"High\", $O$4, -$A23, $O$6,$O$10,,$O$8,$O$12)","v":4527},{"$f":" RTD(\"cqg.rtd\",,\"StudyData\", $O$2, \"BAR\", \"\", \"Low\", $O$4, -$A23, $O$6,$O$10,,$O$8,$O$12)","v":4492.5},{"$f":" RTD(\"cqg.rtd\",,\"StudyData\", $O$2, \"BAR\", \"\", \"Close\", $O$4, -$A23, $O$6,$O$10,,$O$8,$O$12)","v":4511.25},{"$f":" RTD(\"cqg.rtd\",,\"StudyData\",$O$2, \"ImpVol\",, \"MIVClose\",$O$4,-A23,$O$6,$O$10,,$O$8,$O$12)","v":12.72},10,18.130000000000024,{"$error":"#N/A"}]
[22,{"$f":" RTD(\"cqg.rtd\",,\"StudyData\", $O$2, \"BAR\", \"\", \"Time\", $O$4,-$A24,$O$6,$O$10, \"\",\"False\",\"T\")","v":"2023-09-07"},{"$f":" RTD(\"cqg.rtd\",,\"StudyData\", $O$2, \"BAR\", \"\", \"Open\", $O$4, -$A24, $O$6,$O$10,,$O$8,$O$12)","v":4519},{"$f":" RTD(\"cqg.rtd\",,\"StudyData\", $O$2, \"BAR\", \"\", \"High\", $O$4, -$A24, $O$6,$O$10,,$O$8,$O$12)","v":4521.25},{"$f":" RTD(\"cqg.rtd\",,\"StudyData\", $O$2, \"BAR\", \"\", \"Low\", $O$4, -$A24, $O$6,$O$10,,$O$8,$O$12)","v":4483.75},{"$f":" RTD(\"cqg.rtd\",,\"StudyData\", $O$2, \"BAR\", \"\", \"Close\", $O$4, -$A24, $O$6,$O$10,,$O$8,$O$12)","v":4505.75},{"$f":" RTD(\"cqg.rtd\",,\"StudyData\",$O$2, \"ImpVol\",, \"MIVClose\",$O$4,-A24,$O$6,$O$10,,$O$8,$O$12)","v":13.135000000000002},14,17.660000000000025,{"$error":"#N/A"}]
[23,{"$f":" RTD(\"cqg.rtd\",,\"StudyData\", $O$2, \"BAR\", \"\", \"Time\", $O$4,-$A25,$O$6,$O$10, \"\",\"False\",\"T\")","v":"2023-09-06"},{"$f":" RTD(\"cqg.rtd\",,\"StudyData\", $O$2, \"BAR\", \"\", \"Open\", $O$4, -$A25, $O$6,$O$10,,$O$8,$O$12)","v":4549.5},{"$f":" RTD(\"cqg.rtd\",,\"StudyData\", $O$2, \"BAR\", \"\", \"High\", $O$4, -$A25, $O$6,$O$10,,$O$8,$O$12)","v":4553.25},{"$f":" RTD(\"cqg.rtd\",,\"StudyData\", $O$2, \"BAR\", \"\", \"Low\", $O$4, -$A25, $O$6,$O$10,,$O$8,$O$12)","v":4496.5},{"$f":" RTD(\"cqg.rtd\",,\"StudyData\", $O$2, \"BAR\", \"\", \"Close\", $O$4, -$A25, $O$6,$O$10,,$O$8,$O$12)","v":4521},{"$f":" RTD(\"cqg.rtd\",,\"StudyData\",$O$2, \"ImpVol\",, \"MIVClose\",$O$4,-A25,$O$6,$O$10,,$O$8,$O$12)","v":12.964999999999998},12,17.190000000000026,{"$error":"#N/A"}]
[24,{"$f":" RTD(\"cqg.rtd\",,\"StudyData\", $O$2, \"BAR\", \"\", \"Time\", $O$4,-$A26,$O$6,$O$10, \"\",\"False\",\"T\")","v":"2023-09-05"},{"$f":" RTD(\"cqg.rtd\",,\"StudyData\", $O$2, \"BAR\", \"\", \"Open\", $O$4, -$A26, $O$6,$O$10,,$O$8,$O$12)","v":4570.75},{"$f":" RTD(\"cqg.rtd\",,\"StudyData\", $O$2, \"BAR\", \"\", \"High\", $O$4, -$A26, $O$6,$O$10,,$O$8,$O$12)","v":4580.75},{"$f":" RTD(\"cqg.rtd\",,\"StudyData\", $O$2, \"BAR\", \"\", \"Low\", $O$4, -$A26, $O$6,$O$10,,$O$8,$O$12)","v":4548.75},{"$f":" RTD(\"cqg.rtd\",,\"StudyData\", $O$2, \"BAR\", \"\", \"Close\", $O$4, -$A26, $O$6,$O$10,,$O$8,$O$12)","v":4552},{"$f":" RTD(\"cqg.rtd\",,\"StudyData\",$O$2, \"ImpVol\",, \"MIVClose\",$O$4,-A26,$O$6,$O$10,,$O$8,$O$12)","v":12.675000000000001},11,16.720000000000027,{"$error":"#N/A"}]
[25,{"$f":" RTD(\"cqg.rtd\",,\"StudyData\", $O$2, \"BAR\", \"\", \"Time\", $O$4,-$A27,$O$6,$O$10, \"\",\"False\",\"T\")","v":"2023-09-01"},{"$f":" RTD(\"cqg.rtd\",,\"StudyData\", $O$2, \"BAR\", \"\", \"Open\", $O$4, -$A27, $O$6,$O$10,,$O$8,$O$12)","v":4566.25},{"$f":" RTD(\"cqg.rtd\",,\"StudyData\", $O$2, \"BAR\", \"\", \"High\", $O$4, -$A27, $O$6,$O$10,,$O$8,$O$12)","v":4597.25},{"$f":" RTD(\"cqg.rtd\",,\"StudyData\", $O$2, \"BAR\", \"\", \"Low\", $O$4, -$A27, $O$6,$O$10,,$O$8,$O$12)","v":4556.75},{"$f":" RTD(\"cqg.rtd\",,\"StudyData\", $O$2, \"BAR\", \"\", \"Close\", $O$4, -$A27, $O$6,$O$10,,$O$8,$O$12)","v":4571},{"$f":" RTD(\"cqg.rtd\",,\"StudyData\",$O$2, \"ImpVol\",, \"MIVClose\",$O$4,-A27,$O$6,$O$10,,$O$8,$O$12)","v":9.3600000000000012},4,16.250000000000028,{"$error":"#N/A"}]
[26,{"$f":" RTD(\"cqg.rtd\",,\"StudyData\", $O$2, \"BAR\", \"\", \"Time\", $O$4,-$A28,$O$6,$O$10, \"\",\"False\",\"T\")","v":"2023-08-31"},{"$f":" RTD(\"cqg.rtd\",,\"StudyData\", $O$2, \"BAR\", \"\", \"Open\", $O$4, -$A28, $O$6,$O$10,,$O$8,$O$12)","v":4576.5},{"$f":" RTD(\"cqg.rtd\",,\"StudyData\", $O$2, \"BAR\", \"\", \"High\", $O$4, -$A28, $O$6,$O$10,,$O$8,$O$12)","v":4590.75},{"$f":" RTD(\"cqg.rtd\",,\"StudyData\", $O$2, \"BAR\", \"\", \"Low\", $O$4, -$A28, $O$6,$O$10,,$O$8,$O$12)","v":4562.25},{"$f":" RTD(\"cqg.rtd\",,\"StudyData\", $O$2, \"BAR\", \"\", \"Close\", $O$4, -$A28, $O$6,$O$10,,$O$8,$O$12)","v":4565.5},{"$f":" RTD(\"cqg.rtd\",,\"StudyData\",$O$2, \"ImpVol\",, \"MIVClose\",$O$4,-A28,$O$6,$O$10,,$O$8,$O$12)","v":9.995000000000001},8,15.780000000000028,{"$error":"#N/A"}]
[27,{"$f":" RTD(\"cqg.rtd\",,\"StudyData\", $O$2, \"BAR\", \"\", \"Time\", $O$4,-$A29,$O$6,$O$10, \"\",\"False\",\"T\")","v":"2023-08-30"},{"$f":" RTD(\"cqg.rtd\",,\"StudyData\", $O$2, \"BAR\", \"\", \"Open\", $O$4, -$A29, $O$6,$O$10,,$O$8,$O$12)","v":4558.25},{"$f":" RTD(\"cqg.rtd\",,\"StudyData\", $O$2, \"BAR\", \"\", \"High\", $O$4, -$A29, $O$6,$O$10,,$O$8,$O$12)","v":4580.25},{"$f":" RTD(\"cqg.rtd\",,\"StudyData\", $O$2, \"BAR\", \"\", \"Low\", $O$4, -$A29, $O$6,$O$10,,$O$8,$O$12)","v":4545.75},{"$f":" RTD(\"cqg.rtd\",,\"StudyData\", $O$2, \"BAR\", \"\", \"Close\", $O$4, -$A29, $O$6,$O$10,,$O$8,$O$12)","v":4573.75},{"$f":" RTD(\"cqg.rtd\",,\"StudyData\",$O$2, \"ImpVol\",, \"MIVClose\",$O$4,-A29,$O$6,$O$10,,$O$8,$O$12)","v":10.16},8,15.310000000000027,8]
[28,{"$f":" RTD(\"cqg.rtd\",,\"StudyData\", $O$2, \"BAR\", \"\", \"Time\", $O$4,-$A30,$O$6,$O$10, \"\",\"False\",\"T\")","v":"2023-08-29"},{"$f":" RTD(\"cqg.rtd\",,\"StudyData\", $O$2, \"BAR\", \"\", \"Open\", $O$4, -$A30, $O$6,$O$10,,$O$8,$O$12)","v":4493.5},{"$f":" RTD(\"cqg.rtd\",,\"StudyData\", $O$2, \"BAR\", \"\", \"High\", $O$4, -$A30, $O$6,$O$10,,$O$8,$O$12)","v":4559},{"$f":" RTD(\"cqg.rtd\",,\"StudyData\", $O$2, \"BAR\", \"\", \"Low\", $O$4, -$A30, $O$6,$O$10,,$O$8,$O$12)","v":4483},{"$f":" RTD(\"cqg.rtd\",,\"StudyData\", $O$2, \"BAR\", \"\", \"Close\", $O$4, -$A30, $O$6,$O$10,,$O$8,$O$12)","v":4556.25},{"$f":" RTD(\"cqg.rtd\",,\"StudyData\",$O$2, \"ImpVol\",, \"MIVClose\",$O$4,-A30,$O$6,$O$10,,$O$8,$O$12)","v":10.775},8,14.840000000000027,{"$error":"#N/A"}]
[29,{"$f":" RTD(\"cqg.rtd\",,\"StudyData\", $O$2, \"BAR\", \"\", \"Time\", $O$4,-$A31,$O$6,$O$10, \"\",\"False\",\"T\")","v":"2023-08-28"},{"$f":" RTD(\"cqg.rtd\",,\"StudyData\", $O$2, \"BAR\", \"\", \"Open\", $O$4, -$A31, $O$6,$O$10,,$O$8,$O$12)","v":4467.5},{"$f":" RTD(\"cqg.rtd\",,\"StudyData\", $O$2, \"BAR\", \"\", \"High\", $O$4, -$A31, $O$6,$O$10,,$O$8,$O$12)","v":4499},{"$f":" RTD(\"cqg.rtd\",,\"StudyData\", $O$2, \"BAR\", \"\", \"Low\", $O$4, -$A31, $O$6,$O$10,,$O$8,$O$12)","v":4464},{"$f":" RTD(\"cqg.rtd\",,\"StudyData\", $O$2, \"BAR\", \"\", \"Close\", $O$4, -$A31, $O$6,$O$10,,$O$8,$O$12)","v":4491.75},{"$f":" RTD(\"cqg.rtd\",,\"StudyData\",$O$2, \"ImpVol\",, \"MIVClose\",$O$4,-A31,$O$6,$O$10,,$O$8,$O$12)","v":11.469999999999999},14,14.370000000000026,{"$error":"#N/A"}]
[30,{"$f":" RTD(\"cqg.rtd\",,\"StudyData\", $O$2, \"BAR\", \"\", \"Time\", $O$4,-$A32,$O$6,$O$10, \"\",\"False\",\"T\")","v":"2023-08-25"},{"$f":" RTD(\"cqg.rtd\",,\"StudyData\", $O$2, \"BAR\", \"\", \"Open\", $O$4, -$A32, $O$6,$O$10,,$O$8,$O$12)","v":4434},{"$f":" RTD(\"cqg.rtd\",,\"StudyData\", $O$2, \"BAR\", \"\", \"High\", $O$4, -$A32, $O$6,$O$10,,$O$8,$O$12)","v":4478.5},{"$f":" RTD(\"cqg.rtd\",,\"StudyData\", $O$2, \"BAR\", \"\", \"Low\", $O$4, -$A32, $O$6,$O$10,,$O$8,$O$12)","v":4414.75},{"$f":" RTD(\"cqg.rtd\",,\"StudyData\", $O$2, \"BAR\", \"\", \"Close\", $O$4, -$A32, $O$6,$O$10,,$O$8,$O$12)","v":4463.75},{"$f":" RTD(\"cqg.rtd\",,\"StudyData\",$O$2, \"ImpVol\",, \"MIVClose\",$O$4,-A32,$O$6,$O$10,,$O$8,$O$12)","v":12.370000000000001},5,13.900000000000025,{"$error":"#N/A"}]
[31,{"$f":" RTD(\"cqg.rtd\",,\"StudyData\", $O$2, \"BAR\", \"\", \"Time\", $O$4,-$A33,$O$6,$O$10, \"\",\"False\",\"T\")","v":"2023-08-24"},{"$f":" RTD(\"cqg.rtd\",,\"StudyData\", $O$2, \"BAR\", \"\", \"Open\", $O$4, -$A33, $O$6,$O$10,,$O$8,$O$12)","v":4520},{"$f":" RTD(\"cqg.rtd\",,\"StudyData\", $O$2, \"BAR\", \"\", \"High\", $O$4, -$A33, $O$6,$O$10,,$O$8,$O$12)","v":4535},{"$f":" RTD(\"cqg.rtd\",,\"StudyData\", $O$2, \"BAR\", \"\", \"Low\", $O$4, -$A33, $O$6,$O$10,,$O$8,$O$12)","v":4428},{"$f":" RTD(\"cqg.rtd\",,\"StudyData\", $O$2, \"BAR\", \"\", \"Close\", $O$4, -$A33, $O$6,$O$10,,$O$8,$O$12)","v":4435.5},{"$f":" RTD(\"cqg.rtd\",,\"StudyData\",$O$2, \"ImpVol\",, \"MIVClose\",$O$4,-A33,$O$6,$O$10,,$O$8,$O$12)","v":13.715},12,13.430000000000025,{"$error":"#N/A"}]
[32,{"$f":" RTD(\"cqg.rtd\",,\"StudyData\", $O$2, \"BAR\", \"\", \"Time\", $O$4,-$A34,$O$6,$O$10, \"\",\"False\",\"T\")","v":"2023-08-23"},{"$f":" RTD(\"cqg.rtd\",,\"StudyData\", $O$2, \"BAR\", \"\", \"Open\", $O$4, -$A34, $O$6,$O$10,,$O$8,$O$12)","v":4449.5},{"$f":" RTD(\"cqg.rtd\",,\"StudyData\", $O$2, \"BAR\", \"\", \"High\", $O$4, -$A34, $O$6,$O$10,,$O$8,$O$12)","v":4525.75},{"$f":" RTD(\"cqg.rtd\",,\"StudyData\", $O$2, \"BAR\", \"\", \"Low\", $O$4, -$A34, $O$6,$O$10,,$O$8,$O$12)","v":4449},{"$f":" RTD(\"cqg.rtd\",,\"StudyData\", $O$2, \"BAR\", \"\", \"Close\", $O$4, -$A34, $O$6,$O$10,,$O$8,$O$12)","v":4496.5},{"$f":" RTD(\"cqg.rtd\",,\"StudyData\",$O$2, \"ImpVol\",, \"MIVClose\",$O$4,-A34,$O$6,$O$10,,$O$8,$O$12)","v":12.540000000000001},12,12.960000000000024,{"$error":"#N/A"}]
[33,{"$f":" RTD(\"cqg.rtd\",,\"StudyData\", $O$2, \"BAR\", \"\", \"Time\", $O$4,-$A35,$O$6,$O$10, \"\",\"False\",\"T\")","v":"2023-08-22"},{"$f":" RTD(\"cqg.rtd\",,\"StudyData\", $O$2, \"BAR\", \"\", \"Open\", $O$4, -$A35, $O$6,$O$10,,$O$8,$O$12)","v":4459.75},{"$f":" RTD(\"cqg.rtd\",,\"StudyData\", $O$2, \"BAR\", \"\", \"High\", $O$4, -$A35, $O$6,$O$10,,$O$8,$O$12)","v":4489.5},{"$f":" RTD(\"cqg.rtd\",,\"StudyData\", $O$2, \"BAR\", \"\", \"Low\", $O$4, -$A35, $O$6,$O$10,,$O$8,$O$12)","v":4443.75},{"$f":" RTD(\"cqg.rtd\",,\"StudyData\", $O$2, \"BAR\", \"\", \"Close\", $O$4, -$A35, $O$6,$O$10,,$O$8,$O$12)","v":4448.75},{"$f":" RTD(\"cqg.rtd\",,\"StudyData\",$O$2, \"ImpVol\",, \"MIVClose\",$O$4,-A35,$O$6,$O$10,,$O$8,$O$12)","v":13.440000000000001},23,12.490000000000023,{"$error":"#N/A"}]
[34,{"$f":" RTD(\"cqg.rtd\",,\"StudyData\", $O$2, \"BAR\", \"\", \"Time\", $O$4,-$A36,$O$6,$O$10, \"\",\"False\",\"T\")","v":"2023-08-21"},{"$f":" RTD(\"cqg.rtd\",,\"StudyData\", $O$2, \"BAR\", \"\", \"Open\", $O$4, -$A36, $O$6,$O$10,,$O$8,$O$12)","v":4432},{"$f":" RTD(\"cqg.rtd\",,\"StudyData\", $O$2, \"BAR\", \"\", \"High\", $O$4, -$A36, $O$6,$O$10,,$O$8,$O$12)","v":4470.5},{"$f":" RTD(\"cqg.rtd\",,\"StudyData\", $O$2, \"BAR\", \"\", \"Low\", $O$4, -$A36, $O$6,$O$10,,$O$8,$O$12)","v":4421.75},{"$f":" RTD(\"cqg.rtd\",,\"StudyData\", $O$2, \"BAR\", \"\", \"Close\", $O$4, -$A36, $O$6,$O$10,,$O$8,$O$12)","v":4462},{"$f":" RTD(\"cqg.rtd\",,\"StudyData\",$O$2, \"ImpVol\",, \"MIVClose\",$O$4,-A36,$O$6,$O$10,,$O$8,$O$12)","v":13.330000000000004},5,12.020000000000023,{"$error":"#N/A"}]
[35,{"$f":" RTD(\"cqg.rtd\",,\"StudyData\", $O$2, \"BAR\", \"\", \"Time\", $O$4,-$A37,$O$6,$O$10, \"\",\"False\",\"T\")","v":"2023-08-18"},{"$f":" RTD(\"cqg.rtd\",,\"StudyData\", $O$2, \"BAR\", \"\", \"Open\", $O$4, -$A37, $O$6,$O$10,,$O$8,$O$12)","v":4428.75},{"$f":" RTD(\"cqg.rtd\",,\"StudyData\", $O$2, \"BAR\", \"\", \"High\", $O$4, -$A37, $O$6,$O$10,,$O$8,$O$12)","v":4445.5},{"$f":" RTD(\"cqg.rtd\",,\"StudyData\", $O$2, \"BAR\", \"\", \"Low\", $O$4, -$A37, $O$6,$O$10,,$O$8,$O$12)","v":4399.5},{"$f":" RTD(\"cqg.rtd\",,\"StudyData\", $O$2, \"BAR\", \"\", \"Close\", $O$4, -$A37, $O$6,$O$10,,$O$8,$O$12)","v":4432.25},{"$f":" RTD(\"cqg.rtd\",,\"StudyData\",$O$2, \"ImpVol\",, \"MIVClose\",$O$4,-A37,$O$6,$O$10,,$O$8,$O$12)","v":14.155000000000001},16,11.550000000000022,{"$error":"#N/A"}]
[36,{"$f":" RTD(\"cqg.rtd\",,\"StudyData\", $O$2, \"BAR\", \"\", \"Time\", $O$4,-$A38,$O$6,$O$10, \"\",\"False\",\"T\")","v":"2023-08-17"},{"$f":" RTD(\"cqg.rtd\",,\"StudyData\", $O$2, \"BAR\", \"\", \"Open\", $O$4, -$A38, $O$6,$O$10,,$O$8,$O$12)","v":4470},{"$f":" RTD(\"cqg.rtd\",,\"StudyData\", $O$2, \"BAR\", \"\", \"High\", $O$4, -$A38, $O$6,$O$10,,$O$8,$O$12)","v":4486.25},{"$f":" RTD(\"cqg.rtd\",,\"StudyData\", $O$2, \"BAR\", \"\", \"Low\", $O$4, -$A38, $O$6,$O$10,,$O$8,$O$12)","v":4427.25},{"$f":" RTD(\"cqg.rtd\",,\"StudyData\", $O$2, \"BAR\", \"\", \"Close\", $O$4, -$A38, $O$6,$O$10,,$O$8,$O$12)","v":4434},{"$f":" RTD(\"cqg.rtd\",,\"StudyData\",$O$2, \"ImpVol\",, \"MIVClose\",$O$4,-A38,$O$6,$O$10,,$O$8,$O$12)","v":14.69},6,11.080000000000021,{"$error":"#N/A"}]
[37,{"$f":" RTD(\"cqg.rtd\",,\"StudyData\", $O$2, \"BAR\", \"\", \"Time\", $O$4,-$A39,$O$6,$O$10, \"\",\"False\",\"T\")","v":"2023-08-16"},{"$f":" RTD(\"cqg.rtd\",,\"StudyData\", $O$2, \"BAR\", \"\", \"Open\", $O$4, -$A39, $O$6,$O$10,,$O$8,$O$12)","v":4502.75},{"$f":" RTD(\"cqg.rtd\",,\"StudyData\", $O$2, \"BAR\", \"\", \"High\", $O$4, -$A39, $O$6,$O$10,,$O$8,$O$12)","v":4516.75},{"$f":" RTD(\"cqg.rtd\",,\"StudyData\", $O$2, \"BAR\", \"\", \"Low\", $O$4, -$A39, $O$6,$O$10,,$O$8,$O$12)","v":4466.5},{"$f":" RTD(\"cqg.rtd\",,\"StudyData\", $O$2, \"BAR\", \"\", \"Close\", $O$4, -$A39, $O$6,$O$10,,$O$8,$O$12)","v":4469.5},{"$f":" RTD(\"cqg.rtd\",,\"StudyData\",$O$2, \"ImpVol\",, \"MIVClose\",$O$4,-A39,$O$6,$O$10,,$O$8,$O$12)","v":13.750000000000002},1,10.610000000000021,{"$error":"#N/A"}]
[38,{"$f":" RTD(\"cqg.rtd\",,\"StudyData\", $O$2, \"BAR\", \"\", \"Time\", $O$4,-$A40,$O$6,$O$10, \"\",\"False\",\"T\")","v":"2023-08-15"},{"$f":" RTD(\"cqg.rtd\",,\"StudyData\", $O$2, \"BAR\", \"\", \"Open\", $O$4, -$A40, $O$6,$O$10,,$O$8,$O$12)","v":4555.25},{"$f":" RTD(\"cqg.rtd\",,\"StudyData\", $O$2, \"BAR\", \"\", \"High\", $O$4, -$A40, $O$6,$O$10,,$O$8,$O$12)","v":4567.25},{"$f":" RTD(\"cqg.rtd\",,\"StudyData\", $O$2, \"BAR\", \"\", \"Low\", $O$4, -$A40, $O$6,$O$10,,$O$8,$O$12)","v":4496.5},{"$f":" RTD(\"cqg.rtd\",,\"StudyData\", $O$2, \"BAR\", \"\", \"Close\", $O$4, -$A40, $O$6,$O$10,,$O$8,$O$12)","v":4503.5},{"$f":" RTD(\"cqg.rtd\",,\"StudyData\",$O$2, \"ImpVol\",, \"MIVClose\",$O$4,-A40,$O$6,$O$10,,$O$8,$O$12)","v":13.185000000000002},1,10.14000000000002,{"$error":"#N/A"}]
[39,{"$f":" RTD(\"cqg.rtd\",,\"StudyData\", $O$2, \"BAR\", \"\", \"Time\", $O$4,-$A41,$O$6,$O$10, \"\",\"False\",\"T\")","v":"2023-08-14"},{"$f":" RTD(\"cqg.rtd\",,\"StudyData\", $O$2, \"BAR\", \"\", \"Open\", $O$4, -$A41, $O$6,$O$10,,$O$8,$O$12)","v":4534.5},{"$f":" RTD(\"cqg.rtd\",,\"StudyData\", $O$2, \"BAR\", \"\", \"High\", $O$4, -$A41, $O$6,$O$10,,$O$8,$O$12)","v":4557.25},{"$f":" RTD(\"cqg.rtd\",,\"StudyData\", $O$2, \"BAR\", \"\", \"Low\", $O$4, -$A41, $O$6,$O$10,,$O$8,$O$12)","v":4514.5},{"$f":" RTD(\"cqg.rtd\",,\"StudyData\", $O$2, \"BAR\", \"\", \"Close\", $O$4, -$A41, $O$6,$O$10,,$O$8,$O$12)","v":4555.5},{"$f":" RTD(\"cqg.rtd\",,\"StudyData\",$O$2, \"ImpVol\",, \"MIVClose\",$O$4,-A41,$O$6,$O$10,,$O$8,$O$12)","v":11.785},1,9.6700000000000195,{"$error":"#N/A"}]
[40,{"$f":" RTD(\"cqg.rtd\",,\"StudyData\", $O$2, \"BAR\", \"\", \"Time\", $O$4,-$A42,$O$6,$O$10, \"\",\"False\",\"T\")","v":"2023-08-11"},{"$f":" RTD(\"cqg.rtd\",,\"StudyData\", $O$2, \"BAR\", \"\", \"Open\", $O$4, -$A42, $O$6,$O$10,,$O$8,$O$12)","v":4537.25},{"$f":" RTD(\"cqg.rtd\",,\"StudyData\", $O$2, \"BAR\", \"\", \"High\", $O$4, -$A42, $O$6,$O$10,,$O$8,$O$12)","v":4545.75},{"$f":" RTD(\"cqg.rtd\",,\"StudyData\", $O$2, \"BAR\", \"\", \"Low\", $O$4, -$A42, $O$6,$O$10,,$O$8,$O$12)","v":4508.5},{"$f":" RTD(\"cqg.rtd\",,\"StudyData\", $O$2, \"BAR\", \"\", \"Close\", $O$4, -$A42, $O$6,$O$10,,$O$8,$O$12)","v":4530.25},{"$f":" RTD(\"cqg.rtd\",,\"StudyData\",$O$2, \"ImpVol\",, \"MIVClose\",$O$4,-A42,$O$6,$O$10,,$O$8,$O$12)","v":12.404999999999999},0,9.2000000000000188,{"$error":"#N/A"}]
[41,{"$f":" RTD(\"cqg.rtd\",,\"StudyData\", $O$2, \"BAR\", \"\", \"Time\", $O$4,-$A43,$O$6,$O$10, \"\",\"False\",\"T\")","v":"2023-08-10"},{"$f":" RTD(\"cqg.rtd\",,\"StudyData\", $O$2, \"BAR\", \"\", \"Open\", $O$4, -$A43, $O$6,$O$10,,$O$8,$O$12)","v":4542.75},{"$f":" RTD(\"cqg.rtd\",,\"StudyData\", $O$2, \"BAR\", \"\", \"High\", $O$4, -$A43, $O$6,$O$10,,$O$8,$O$12)","v":4594.25},{"$f":" RTD(\"cqg.rtd\",,\"StudyData\", $O$2, \"BAR\", \"\", \"Low\", $O$4, -$A43, $O$6,$O$10,,$O$8,$O$12)","v":4523},{"$f":" RTD(\"cqg.rtd\",,\"StudyData\", $O$2, \"BAR\", \"\", \"Close\", $O$4, -$A43, $O$6,$O$10,,$O$8,$O$12)","v":4535.25},{"$f":" RTD(\"cqg.rtd\",,\"StudyData\",$O$2, \"ImpVol\",, \"MIVClose\",$O$4,-A43,$O$6,$O$10,,$O$8,$O$12)","v":12.985000000000003},0,8.7300000000000182,{"$error":"#N/A"}]
[42,{"$f":" RTD(\"cqg.rtd\",,\"StudyData\", $O$2, \"BAR\", \"\", \"Time\", $O$4,-$A44,$O$6,$O$10, \"\",\"False\",\"T\")","v":"2023-08-09"},{"$f":" RTD(\"cqg.rtd\",,\"StudyData\", $O$2, \"BAR\", \"\", \"Open\", $O$4, -$A44, $O$6,$O$10,,$O$8,$O$12)","v":4566},{"$f":" RTD(\"cqg.rtd\",,\"StudyData\", $O$2, \"BAR\", \"\", \"High\", $O$4, -$A44, $O$6,$O$10,,$O$8,$O$12)","v":4585.75},{"$f":" RTD(\"cqg.rtd\",,\"StudyData\", $O$2, \"BAR\", \"\", \"Low\", $O$4, -$A44, $O$6,$O$10,,$O$8,$O$12)","v":4527.75},{"$f":" RTD(\"cqg.rtd\",,\"StudyData\", $O$2, \"BAR\", \"\", \"Close\", $O$4, -$A44, $O$6,$O$10,,$O$8,$O$12)","v":4535.25},{"$f":" RTD(\"cqg.rtd\",,\"StudyData\",$O$2, \"ImpVol\",, \"MIVClose\",$O$4,-A44,$O$6,$O$10,,$O$8,$O$12)","v":12.9}]
[43,{"$f":" RTD(\"cqg.rtd\",,\"StudyData\", $O$2, \"BAR\", \"\", \"Time\", $O$4,-$A45,$O$6,$O$10, \"\",\"False\",\"T\")","v":"2023-08-08"},{"$f":" RTD(\"cqg.rtd\",,\"StudyData\", $O$2, \"BAR\", \"\", \"Open\", $O$4, -$A45, $O$6,$O$10,,$O$8,$O$12)","v":4589},{"$f":" RTD(\"cqg.rtd\",,\"StudyData\", $O$2, \"BAR\", \"\", \"High\", $O$4, -$A45, $O$6,$O$10,,$O$8,$O$12)","v":4590.5},{"$f":" RTD(\"cqg.rtd\",,\"StudyData\", $O$2, \"BAR\", \"\", \"Low\", $O$4, -$A45, $O$6,$O$10,,$O$8,$O$12)","v":4531.5},{"$f":" RTD(\"cqg.rtd\",,\"StudyData\", $O$2, \"BAR\", \"\", \"Close\", $O$4, -$A45, $O$6,$O$10,,$O$8,$O$12)","v":4568},{"$f":" RTD(\"cqg.rtd\",,\"StudyData\",$O$2, \"ImpVol\",, \"MIVClose\",$O$4,-A45,$O$6,$O$10,,$O$8,$O$12)","v":12.590000000000002}]
[44,{"$f":" RTD(\"cqg.rtd\",,\"StudyData\", $O$2, \"BAR\", \"\", \"Time\", $O$4,-$A46,$O$6,$O$10, \"\",\"False\",\"T\")","v":"2023-08-07"},{"$f":" RTD(\"cqg.rtd\",,\"StudyData\", $O$2, \"BAR\", \"\", \"Open\", $O$4, -$A46, $O$6,$O$10,,$O$8,$O$12)","v":4550},{"$f":" RTD(\"cqg.rtd\",,\"StudyData\", $O$2, \"BAR\", \"\", \"High\", $O$4, -$A46, $O$6,$O$10,,$O$8,$O$12)","v":4591.25},{"$f":" RTD(\"cqg.rtd\",,\"StudyData\", $O$2, \"BAR\", \"\", \"Low\", $O$4, -$A46, $O$6,$O$10,,$O$8,$O$12)","v":4550},{"$f":" RTD(\"cqg.rtd\",,\"StudyData\", $O$2, \"BAR\", \"\", \"Close\", $O$4, -$A46, $O$6,$O$10,,$O$8,$O$12)","v":4587.25},{"$f":" RTD(\"cqg.rtd\",,\"StudyData\",$O$2, \"ImpVol\",, \"MIVClose\",$O$4,-A46,$O$6,$O$10,,$O$8,$O$12)","v":12.110000000000001}]
[45,{"$f":" RTD(\"cqg.rtd\",,\"StudyData\", $O$2, \"BAR\", \"\", \"Time\", $O$4,-$A47,$O$6,$O$10, \"\",\"False\",\"T\")","v":"2023-08-04"},{"$f":" RTD(\"cqg.rtd\",,\"StudyData\", $O$2, \"BAR\", \"\", \"Open\", $O$4, -$A47, $O$6,$O$10,,$O$8,$O$12)","v":4573},{"$f":" RTD(\"cqg.rtd\",,\"StudyData\", $O$2, \"BAR\", \"\", \"High\", $O$4, -$A47, $O$6,$O$10,,$O$8,$O$12)","v":4610.25},{"$f":" RTD(\"cqg.rtd\",,\"StudyData\", $O$2, \"BAR\", \"\", \"Low\", $O$4, -$A47, $O$6,$O$10,,$O$8,$O$12)","v":4543.25},{"$f":" RTD(\"cqg.rtd\",,\"StudyData\", $O$2, \"BAR\", \"\", \"Close\", $O$4, -$A47, $O$6,$O$10,,$O$8,$O$12)","v":4547.5},{"$f":" RTD(\"cqg.rtd\",,\"StudyData\",$O$2, \"ImpVol\",, \"MIVClose\",$O$4,-A47,$O$6,$O$10,,$O$8,$O$12)","v":13.3}]
[46,{"$f":" RTD(\"cqg.rtd\",,\"StudyData\", $O$2, \"BAR\", \"\", \"Time\", $O$4,-$A48,$O$6,$O$10, \"\",\"False\",\"T\")","v":"2023-08-03"},{"$f":" RTD(\"cqg.rtd\",,\"StudyData\", $O$2, \"BAR\", \"\", \"Open\", $O$4, -$A48, $O$6,$O$10,,$O$8,$O$12)","v":4583.75},{"$f":" RTD(\"cqg.rtd\",,\"StudyData\", $O$2, \"BAR\", \"\", \"High\", $O$4, -$A48, $O$6,$O$10,,$O$8,$O$12)","v":4597},{"$f":" RTD(\"cqg.rtd\",,\"StudyData\", $O$2, \"BAR\", \"\", \"Low\", $O$4, -$A48, $O$6,$O$10,,$O$8,$O$12)","v":4555.25},{"$f":" RTD(\"cqg.rtd\",,\"StudyData\", $O$2, \"BAR\", \"\", \"Close\", $O$4, -$A48, $O$6,$O$10,,$O$8,$O$12)","v":4571.25},{"$f":" RTD(\"cqg.rtd\",,\"StudyData\",$O$2, \"ImpVol\",, \"MIVClose\",$O$4,-A48,$O$6,$O$10,,$O$8,$O$12)","v":12.67}]
[47,{"$f":" RTD(\"cqg.rtd\",,\"StudyData\", $O$2, \"BAR\", \"\", \"Time\", $O$4,-$A49,$O$6,$O$10, \"\",\"False\",\"T\")","v":"2023-08-02"},{"$f":" RTD(\"cqg.rtd\",,\"StudyData\", $O$2, \"BAR\", \"\", \"Open\", $O$4, -$A49, $O$6,$O$10,,$O$8,$O$12)","v":4629.5},{"$f":" RTD(\"cqg.rtd\",,\"StudyData\", $O$2, \"BAR\", \"\", \"High\", $O$4, -$A49, $O$6,$O$10,,$O$8,$O$12)","v":4643},{"$f":" RTD(\"cqg.rtd\",,\"StudyData\", $O$2, \"BAR\", \"\", \"Low\", $O$4, -$A49, $O$6,$O$10,,$O$8,$O$12)","v":4577.25},{"$f":" RTD(\"cqg.rtd\",,\"StudyData\", $O$2, \"BAR\", \"\", \"Close\", $O$4, -$A49, $O$6,$O$10,,$O$8,$O$12)","v":4586.75},{"$f":" RTD(\"cqg.rtd\",,\"StudyData\",$O$2, \"ImpVol\",, \"MIVClose\",$O$4,-A49,$O$6,$O$10,,$O$8,$O$12)","v":12.675000000000002}]
[48,{"$f":" RTD(\"cqg.rtd\",,\"StudyData\", $O$2, \"BAR\", \"\", \"Time\", $O$4,-$A50,$O$6,$O$10, \"\",\"False\",\"T\")","v":"2023-08-01"},{"$f":" RTD(\"cqg.rtd\",,\"StudyData\", $O$2, \"BAR\", \"\", \"Open\", $O$4, -$A50, $O$6,$O$10,,$O$8,$O$12)","v":4667.25},{"$f":" RTD(\"cqg.rtd\",,\"StudyData\", $O$2, \"BAR\", \"\", \"High\", $O$4, -$A50, $O$6,$O$10,,$O$8,$O$12)","v":4671.25},{"$f":" RTD(\"cqg.rtd\",,\"StudyData\", $O$2, \"BAR\", \"\", \"Low\", $O$4, -$A50, $O$6,$O$10,,$O$8,$O$12)","v":4640.5},{"$f":" RTD(\"cqg.rtd\",,\"StudyData\", $O$2, \"BAR\", \"\", \"Close\", $O$4, -$A50, $O$6,$O$10,,$O$8,$O$12)","v":4650.75},{"$f":" RTD(\"cqg.rtd\",,\"StudyData\",$O$2, \"ImpVol\",, \"MIVClose\",$O$4,-A50,$O$6,$O$10,,$O$8,$O$12)","v":11.145000000000001}]
[49,{"$f":" RTD(\"cqg.rtd\",,\"StudyData\", $O$2, \"BAR\", \"\", \"Time\", $O$4,-$A51,$O$6,$O$10, \"\",\"False\",\"T\")","v":"2023-07-31"},{"$f":" RTD(\"cqg.rtd\",,\"StudyData\", $O$2, \"BAR\", \"\", \"Open\", $O$4, -$A51, $O$6,$O$10,,$O$8,$O$12)","v":4658.25},{"$f":" RTD(\"cqg.rtd\",,\"StudyData\", $O$2, \"BAR\", \"\", \"High\", $O$4, -$A51, $O$6,$O$10,,$O$8,$O$12)","v":4668.75},{"$f":" RTD(\"cqg.rtd\",,\"StudyData\", $O$2, \"BAR\", \"\", \"Low\", $O$4, -$A51, $O$6,$O$10,,$O$8,$O$12)","v":4644.75},{"$f":" RTD(\"cqg.rtd\",,\"StudyData\", $O$2, \"BAR\", \"\", \"Close\", $O$4, -$A51, $O$6,$O$10,,$O$8,$O$12)","v":4664},{"$f":" RTD(\"cqg.rtd\",,\"StudyData\",$O$2, \"ImpVol\",, \"MIVClose\",$O$4,-A51,$O$6,$O$10,,$O$8,$O$12)","v":10.8}]
[50,{"$f":" RTD(\"cqg.rtd\",,\"StudyData\", $O$2, \"BAR\", \"\", \"Time\", $O$4,-$A52,$O$6,$O$10, \"\",\"False\",\"T\")","v":"2023-07-28"},{"$f":" RTD(\"cqg.rtd\",,\"StudyData\", $O$2, \"BAR\", \"\", \"Open\", $O$4, -$A52, $O$6,$O$10,,$O$8,$O$12)","v":4615.5},{"$f":" RTD(\"cqg.rtd\",,\"StudyData\", $O$2, \"BAR\", \"\", \"High\", $O$4, -$A52, $O$6,$O$10,,$O$8,$O$12)","v":4666},{"$f":" RTD(\"cqg.rtd\",,\"StudyData\", $O$2, \"BAR\", \"\", \"Low\", $O$4, -$A52, $O$6,$O$10,,$O$8,$O$12)","v":4607.5},{"$f":" RTD(\"cqg.rtd\",,\"StudyData\", $O$2, \"BAR\", \"\", \"Close\", $O$4, -$A52, $O$6,$O$10,,$O$8,$O$12)","v":4656},{"$f":" RTD(\"cqg.rtd\",,\"StudyData\",$O$2, \"ImpVol\",, \"MIVClose\",$O$4,-A52,$O$6,$O$10,,$O$8,$O$12)","v":10.835000000000001}]
[51,{"$f":" RTD(\"cqg.rtd\",,\"StudyData\", $O$2, \"BAR\", \"\", \"Time\", $O$4,-$A53,$O$6,$O$10, \"\",\"False\",\"T\")","v":"2023-07-27"},{"$f":" RTD(\"cqg.rtd\",,\"StudyData\", $O$2, \"BAR\", \"\", \"Open\", $O$4, -$A53, $O$6,$O$10,,$O$8,$O$12)","v":4644.25},{"$f":" RTD(\"cqg.rtd\",,\"StudyData\", $O$2, \"BAR\", \"\", \"High\", $O$4, -$A53, $O$6,$O$10,,$O$8,$O$12)","v":4684},{"$f":" RTD(\"cqg.rtd\",,\"StudyData\", $O$2, \"BAR\", \"\", \"Low\", $O$4, -$A53, $O$6,$O$10,,$O$8,$O$12)","v":4603.25},{"$f":" RTD(\"cqg.rtd\",,\"StudyData\", $O$2, \"BAR\", \"\", \"Close\", $O$4, -$A53, $O$6,$O$10,,$O$8,$O$12)","v":4613.75},{"$f":" RTD(\"cqg.rtd\",,\"StudyData\",$O$2, \"ImpVol\",, \"MIVClose\",$O$4,-A53,$O$6,$O$10,,$O$8,$O$12)","v":11.355}]
[52,{"$f":" RTD(\"cqg.rtd\",,\"StudyData\", $O$2, \"BAR\", \"\", \"Time\", $O$4,-$A54,$O$6,$O$10, \"\",\"False\",\"T\")","v":"2023-07-26"},{"$f":" RTD(\"cqg.rtd\",,\"StudyData\", $O$2, \"BAR\", \"\", \"Open\", $O$4, -$A54, $O$6,$O$10,,$O$8,$O$12)","v":4654.25},{"$f":" RTD(\"cqg.rtd\",,\"StudyData\", $O$2, \"BAR\", \"\", \"High\", $O$4, -$A54, $O$6,$O$10,,$O$8,$O$12)","v":4660.25},{"$f":" RTD(\"cqg.rtd\",,\"StudyData\", $O$2, \"BAR\", \"\", \"Low\", $O$4, -$A54, $O$6,$O$10,,$O$8,$O$12)","v":4623.25},{"$f":" RTD(\"cqg.rtd\",,\"StudyData\", $O$2, \"BAR\", \"\", \"Close\", $O$4, -$A54, $O$6,$O$10,,$O$8,$O$12)","v":4644.75},{"$f":" RTD(\"cqg.rtd\",,\"StudyData\",$O$2, \"ImpVol\",, \"MIVClose\",$O$4,-A54,$O$6,$O$10,,$O$8,$O$12)","v":10.63}]
[53,{"$f":" RTD(\"cqg.rtd\",,\"StudyData\", $O$2, \"BAR\", \"\", \"Time\", $O$4,-$A55,$O$6,$O$10, \"\",\"False\",\"T\")","v":"2023-07-25"},{"$f":" RTD(\"cqg.rtd\",,\"StudyData\", $O$2, \"BAR\", \"\", \"Open\", $O$4, -$A55, $O$6,$O$10,,$O$8,$O$12)","v":4634},{"$f":" RTD(\"cqg.rtd\",,\"StudyData\", $O$2, \"BAR\", \"\", \"High\", $O$4, -$A55, $O$6,$O$10,,$O$8,$O$12)","v":4658.25},{"$f":" RTD(\"cqg.rtd\",,\"StudyData\", $O$2, \"BAR\", \"\", \"Low\", $O$4, -$A55, $O$6,$O$10,,$O$8,$O$12)","v":4628.75},{"$f":" RTD(\"cqg.rtd\",,\"StudyData\", $O$2, \"BAR\", \"\", \"Close\", $O$4, -$A55, $O$6,$O$10,,$O$8,$O$12)","v":4645.5},{"$f":" RTD(\"cqg.rtd\",,\"StudyData\",$O$2, \"ImpVol\",, \"MIVClose\",$O$4,-A55,$O$6,$O$10,,$O$8,$O$12)","v":11.055000000000001}]
[54,{"$f":" RTD(\"cqg.rtd\",,\"StudyData\", $O$2, \"BAR\", \"\", \"Time\", $O$4,-$A56,$O$6,$O$10, \"\",\"False\",\"T\")","v":"2023-07-24"},{"$f":" RTD(\"cqg.rtd\",,\"StudyData\", $O$2, \"BAR\", \"\", \"Open\", $O$4, -$A56, $O$6,$O$10,,$O$8,$O$12)","v":4613.75},{"$f":" RTD(\"cqg.rtd\",,\"StudyData\", $O$2, \"BAR\", \"\", \"High\", $O$4, -$A56, $O$6,$O$10,,$O$8,$O$12)","v":4642},{"$f":" RTD(\"cqg.rtd\",,\"StudyData\", $O$2, \"BAR\", \"\", \"Low\", $O$4, -$A56, $O$6,$O$10,,$O$8,$O$12)","v":4609.5},{"$f":" RTD(\"cqg.rtd\",,\"StudyData\", $O$2, \"BAR\", \"\", \"Close\", $O$4, -$A56, $O$6,$O$10,,$O$8,$O$12)","v":4633},{"$f":" RTD(\"cqg.rtd\",,\"StudyData\",$O$2, \"ImpVol\",, \"MIVClose\",$O$4,-A56,$O$6,$O$10,,$O$8,$O$12)","v":10.98}]
[55,{"$f":" RTD(\"cqg.rtd\",,\"StudyData\", $O$2, \"BAR\", \"\", \"Time\", $O$4,-$A57,$O$6,$O$10, \"\",\"False\",\"T\")","v":"2023-07-21"},{"$f":" RTD(\"cqg.rtd\",,\"StudyData\", $O$2, \"BAR\", \"\", \"Open\", $O$4, -$A57, $O$6,$O$10,,$O$8,$O$12)","v":4615.75},{"$f":" RTD(\"cqg.rtd\",,\"StudyData\", $O$2, \"BAR\", \"\", \"High\", $O$4, -$A57, $O$6,$O$10,,$O$8,$O$12)","v":4639.5},{"$f":" RTD(\"cqg.rtd\",,\"StudyData\", $O$2, \"BAR\", \"\", \"Low\", $O$4, -$A57, $O$6,$O$10,,$O$8,$O$12)","v":4611.25},{"$f":" RTD(\"cqg.rtd\",,\"StudyData\", $O$2, \"BAR\", \"\", \"Close\", $O$4, -$A57, $O$6,$O$10,,$O$8,$O$12)","v":4614.25},{"$f":" RTD(\"cqg.rtd\",,\"StudyData\",$O$2, \"ImpVol\",, \"MIVClose\",$O$4,-A57,$O$6,$O$10,,$O$8,$O$12)","v":11.24}]
[56,{"$f":" RTD(\"cqg.rtd\",,\"StudyData\", $O$2, \"BAR\", \"\", \"Time\", $O$4,-$A58,$O$6,$O$10, \"\",\"False\",\"T\")","v":"2023-07-20"},{"$f":" RTD(\"cqg.rtd\",,\"StudyData\", $O$2, \"BAR\", \"\", \"Open\", $O$4, -$A58, $O$6,$O$10,,$O$8,$O$12)","v":4642.75},{"$f":" RTD(\"cqg.rtd\",,\"StudyData\", $O$2, \"BAR\", \"\", \"High\", $O$4, -$A58, $O$6,$O$10,,$O$8,$O$12)","v":4643.75},{"$f":" RTD(\"cqg.rtd\",,\"StudyData\", $O$2, \"BAR\", \"\", \"Low\", $O$4, -$A58, $O$6,$O$10,,$O$8,$O$12)","v":4606.75},{"$f":" RTD(\"cqg.rtd\",,\"StudyData\", $O$2, \"BAR\", \"\", \"Close\", $O$4, -$A58, $O$6,$O$10,,$O$8,$O$12)","v":4615},{"$f":" RTD(\"cqg.rtd\",,\"StudyData\",$O$2, \"ImpVol\",, \"MIVClose\",$O$4,-A58,$O$6,$O$10,,$O$8,$O$12)","v":11.469999999999999}]
[57,{"$f":" RTD(\"cqg.rtd\",,\"StudyData\", $O$2, \"BAR\", \"\", \"Time\", $O$4,-$A59,$O$6,$O$10, \"\",\"False\",\"T\")","v":"2023-07-19"},{"$f":" RTD(\"cqg.rtd\",,\"StudyData\", $O$2, \"BAR\", \"\", \"Open\", $O$4, -$A59, $O$6,$O$10,,$O$8,$O$12)","v":4632.25},{"$f":" RTD(\"cqg.rtd\",,\"StudyData\", $O$2, \"BAR\", \"\", \"High\", $O$4, -$A59, $O$6,$O$10,,$O$8,$O$12)","v":4658.75},{"$f":" RTD(\"cqg.rtd\",,\"StudyData\", $O$2, \"BAR\", \"\", \"Low\", $O$4, -$A59, $O$6,$O$10,,$O$8,$O$12)","v":4631.75},{"$f":" RTD(\"cqg.rtd\",,\"StudyData\", $O$2, \"BAR\", \"\", \"Close\", $O$4, -$A59, $O$6,$O$10,,$O$8,$O$12)","v":4646.5},{"$f":" RTD(\"cqg.rtd\",,\"StudyData\",$O$2, \"ImpVol\",, \"MIVClose\",$O$4,-A59,$O$6,$O$10,,$O$8,$O$12)","v":11.450000000000001}]
[58,{"$f":" RTD(\"cqg.rtd\",,\"StudyData\", $O$2, \"BAR\", \"\", \"Time\", $O$4,-$A60,$O$6,$O$10, \"\",\"False\",\"T\")","v":"2023-07-18"},{"$f":" RTD(\"cqg.rtd\",,\"StudyData\", $O$2, \"BAR\", \"\", \"Open\", $O$4, -$A60, $O$6,$O$10,,$O$8,$O$12)","v":4599.75},{"$f":" RTD(\"cqg.rtd\",,\"StudyData\", $O$2, \"BAR\", \"\", \"High\", $O$4, -$A60, $O$6,$O$10,,$O$8,$O$12)","v":4644},{"$f":" RTD(\"cqg.rtd\",,\"StudyData\", $O$2, \"BAR\", \"\", \"Low\", $O$4, -$A60, $O$6,$O$10,,$O$8,$O$12)","v":4594.25},{"$f":" RTD(\"cqg.rtd\",,\"StudyData\", $O$2, \"BAR\", \"\", \"Close\", $O$4, -$A60, $O$6,$O$10,,$O$8,$O$12)","v":4637.25},{"$f":" RTD(\"cqg.rtd\",,\"StudyData\",$O$2, \"ImpVol\",, \"MIVClose\",$O$4,-A60,$O$6,$O$10,,$O$8,$O$12)","v":11.125000000000002}]
[59,{"$f":" RTD(\"cqg.rtd\",,\"StudyData\", $O$2, \"BAR\", \"\", \"Time\", $O$4,-$A61,$O$6,$O$10, \"\",\"False\",\"T\")","v":"2023-07-17"},{"$f":" RTD(\"cqg.rtd\",,\"StudyData\", $O$2, \"BAR\", \"\", \"Open\", $O$4, -$A61, $O$6,$O$10,,$O$8,$O$12)","v":4585.5},{"$f":" RTD(\"cqg.rtd\",,\"StudyData\", $O$2, \"BAR\", \"\", \"High\", $O$4, -$A61, $O$6,$O$10,,$O$8,$O$12)","v":4615.25},{"$f":" RTD(\"cqg.rtd\",,\"StudyData\", $O$2, \"BAR\", \"\", \"Low\", $O$4, -$A61, $O$6,$O$10,,$O$8,$O$12)","v":4577.5},{"$f":" RTD(\"cqg.rtd\",,\"StudyData\", $O$2, \"BAR\", \"\", \"Close\", $O$4, -$A61, $O$6,$O$10,,$O$8,$O$12)","v":4603.25},{"$f":" RTD(\"cqg.rtd\",,\"StudyData\",$O$2, \"ImpVol\",, \"MIVClose\",$O$4,-A61,$O$6,$O$10,,$O$8,$O$12)","v":11.244999999999999}]
[60,{"$f":" RTD(\"cqg.rtd\",,\"StudyData\", $O$2, \"BAR\", \"\", \"Time\", $O$4,-$A62,$O$6,$O$10, \"\",\"False\",\"T\")","v":"2023-07-14"},{"$f":" RTD(\"cqg.rtd\",,\"StudyData\", $O$2, \"BAR\", \"\", \"Open\", $O$4, -$A62, $O$6,$O$10,,$O$8,$O$12)","v":4589},{"$f":" RTD(\"cqg.rtd\",,\"StudyData\", $O$2, \"BAR\", \"\", \"High\", $O$4, -$A62, $O$6,$O$10,,$O$8,$O$12)","v":4610},{"$f":" RTD(\"cqg.rtd\",,\"StudyData\", $O$2, \"BAR\", \"\", \"Low\", $O$4, -$A62, $O$6,$O$10,,$O$8,$O$12)","v":4580.5},{"$f":" RTD(\"cqg.rtd\",,\"StudyData\", $O$2, \"BAR\", \"\", \"Close\", $O$4, -$A62, $O$6,$O$10,,$O$8,$O$12)","v":4586.25},{"$f":" RTD(\"cqg.rtd\",,\"StudyData\",$O$2, \"ImpVol\",, \"MIVClose\",$O$4,-A62,$O$6,$O$10,,$O$8,$O$12)","v":11.13}]
[61,{"$f":" RTD(\"cqg.rtd\",,\"StudyData\", $O$2, \"BAR\", \"\", \"Time\", $O$4,-$A63,$O$6,$O$10, \"\",\"False\",\"T\")","v":"2023-07-13"},{"$f":" RTD(\"cqg.rtd\",,\"StudyData\", $O$2, \"BAR\", \"\", \"Open\", $O$4, -$A63, $O$6,$O$10,,$O$8,$O$12)","v":4560},{"$f":" RTD(\"cqg.rtd\",,\"StudyData\", $O$2, \"BAR\", \"\", \"High\", $O$4, -$A63, $O$6,$O$10,,$O$8,$O$12)","v":4601},{"$f":" RTD(\"cqg.rtd\",,\"StudyData\", $O$2, \"BAR\", \"\", \"Low\", $O$4, -$A63, $O$6,$O$10,,$O$8,$O$12)","v":4558.75},{"$f":" RTD(\"cqg.rtd\",,\"StudyData\", $O$2, \"BAR\", \"\", \"Close\", $O$4, -$A63, $O$6,$O$10,,$O$8,$O$12)","v":4593},{"$f":" RTD(\"cqg.rtd\",,\"StudyData\",$O$2, \"ImpVol\",, \"MIVClose\",$O$4,-A63,$O$6,$O$10,,$O$8,$O$12)","v":11.175000000000001}]
[62,{"$f":" RTD(\"cqg.rtd\",,\"StudyData\", $O$2, \"BAR\", \"\", \"Time\", $O$4,-$A64,$O$6,$O$10, \"\",\"False\",\"T\")","v":"2023-07-12"},{"$f":" RTD(\"cqg.rtd\",,\"StudyData\", $O$2, \"BAR\", \"\", \"Open\", $O$4, -$A64, $O$6,$O$10,,$O$8,$O$12)","v":4520.5},{"$f":" RTD(\"cqg.rtd\",,\"StudyData\", $O$2, \"BAR\", \"\", \"High\", $O$4, -$A64, $O$6,$O$10,,$O$8,$O$12)","v":4573.25},{"$f":" RTD(\"cqg.rtd\",,\"StudyData\", $O$2, \"BAR\", \"\", \"Low\", $O$4, -$A64, $O$6,$O$10,,$O$8,$O$12)","v":4519.5},{"$f":" RTD(\"cqg.rtd\",,\"StudyData\", $O$2, \"BAR\", \"\", \"Close\", $O$4, -$A64, $O$6,$O$10,,$O$8,$O$12)","v":4557},{"$f":" RTD(\"cqg.rtd\",,\"StudyData\",$O$2, \"ImpVol\",, \"MIVClose\",$O$4,-A64,$O$6,$O$10,,$O$8,$O$12)","v":11.14}]
[63,{"$f":" RTD(\"cqg.rtd\",,\"StudyData\", $O$2, \"BAR\", \"\", \"Time\", $O$4,-$A65,$O$6,$O$10, \"\",\"False\",\"T\")","v":"2023-07-11"},{"$f":" RTD(\"cqg.rtd\",,\"StudyData\", $O$2, \"BAR\", \"\", \"Open\", $O$4, -$A65, $O$6,$O$10,,$O$8,$O$12)","v":4495.25},{"$f":" RTD(\"cqg.rtd\",,\"StudyData\", $O$2, \"BAR\", \"\", \"High\", $O$4, -$A65, $O$6,$O$10,,$O$8,$O$12)","v":4528},{"$f":" RTD(\"cqg.rtd\",,\"StudyData\", $O$2, \"BAR\", \"\", \"Low\", $O$4, -$A65, $O$6,$O$10,,$O$8,$O$12)","v":4488.5},{"$f":" RTD(\"cqg.rtd\",,\"StudyData\", $O$2, \"BAR\", \"\", \"Close\", $O$4, -$A65, $O$6,$O$10,,$O$8,$O$12)","v":4523},{"$f":" RTD(\"cqg.rtd\",,\"StudyData\",$O$2, \"ImpVol\",, \"MIVClose\",$O$4,-A65,$O$6,$O$10,,$O$8,$O$12)","v":12.030000000000001}]
[64,{"$f":" RTD(\"cqg.rtd\",,\"StudyData\", $O$2, \"BAR\", \"\", \"Time\", $O$4,-$A66,$O$6,$O$10, \"\",\"False\",\"T\")","v":"2023-07-10"},{"$f":" RTD(\"cqg.rtd\",,\"StudyData\", $O$2, \"BAR\", \"\", \"Open\", $O$4, -$A66, $O$6,$O$10,,$O$8,$O$12)","v":4487},{"$f":" RTD(\"cqg.rtd\",,\"StudyData\", $O$2, \"BAR\", \"\", \"High\", $O$4, -$A66, $O$6,$O$10,,$O$8,$O$12)","v":4497.75},{"$f":" RTD(\"cqg.rtd\",,\"StudyData\", $O$2, \"BAR\", \"\", \"Low\", $O$4, -$A66, $O$6,$O$10,,$O$8,$O$12)","v":4460.75},{"$f":" RTD(\"cqg.rtd\",,\"StudyData\", $O$2, \"BAR\", \"\", \"Close\", $O$4, -$A66, $O$6,$O$10,,$O$8,$O$12)","v":4493.75},{"$f":" RTD(\"cqg.rtd\",,\"StudyData\",$O$2, \"ImpVol\",, \"MIVClose\",$O$4,-A66,$O$6,$O$10,,$O$8,$O$12)","v":12.24}]
[65,{"$f":" RTD(\"cqg.rtd\",,\"StudyData\", $O$2, \"BAR\", \"\", \"Time\", $O$4,-$A67,$O$6,$O$10, \"\",\"False\",\"T\")","v":"2023-07-07"},{"$f":" RTD(\"cqg.rtd\",,\"StudyData\", $O$2, \"BAR\", \"\", \"Open\", $O$4, -$A67, $O$6,$O$10,,$O$8,$O$12)","v":4490.75},{"$f":" RTD(\"cqg.rtd\",,\"StudyData\", $O$2, \"BAR\", \"\", \"High\", $O$4, -$A67, $O$6,$O$10,,$O$8,$O$12)","v":4525.5},{"$f":" RTD(\"cqg.rtd\",,\"StudyData\", $O$2, \"BAR\", \"\", \"Low\", $O$4, -$A67, $O$6,$O$10,,$O$8,$O$12)","v":4481},{"$f":" RTD(\"cqg.rtd\",,\"StudyData\", $O$2, \"BAR\", \"\", \"Close\", $O$4, -$A67, $O$6,$O$10,,$O$8,$O$12)","v":4483.5},{"$f":" RTD(\"cqg.rtd\",,\"StudyData\",$O$2, \"ImpVol\",, \"MIVClose\",$O$4,-A67,$O$6,$O$10,,$O$8,$O$12)","v":12.350000000000001}]
[{"$f":"A67+1","v":66},{"$f":" RTD(\"cqg.rtd\",,\"StudyData\", $O$2, \"BAR\", \"\", \"Time\", $O$4,-$A68,$O$6,$O$10, \"\",\"False\",\"T\")","v":"2023-07-06"},{"$f":" RTD(\"cqg.rtd\",,\"StudyData\", $O$2, \"BAR\", \"\", \"Open\", $O$4, -$A68, $O$6,$O$10,,$O$8,$O$12)","v":4531.25},{"$f":" RTD(\"cqg.rtd\",,\"StudyData\", $O$2, \"BAR\", \"\", \"High\", $O$4, -$A68, $O$6,$O$10,,$O$8,$O$12)","v":4533},{"$f":" RTD(\"cqg.rtd\",,\"StudyData\", $O$2, \"BAR\", \"\", \"Low\", $O$4, -$A68, $O$6,$O$10,,$O$8,$O$12)","v":4469},{"$f":" RTD(\"cqg.rtd\",,\"StudyData\", $O$2, \"BAR\", \"\", \"Close\", $O$4, -$A68, $O$6,$O$10,,$O$8,$O$12)","v":4496.5},{"$f":" RTD(\"cqg.rtd\",,\"StudyData\",$O$2, \"ImpVol\",, \"MIVClose\",$O$4,-A68,$O$6,$O$10,,$O$8,$O$12)","v":12.485000000000001}]
[67,{"$f":" RTD(\"cqg.rtd\",,\"StudyData\", $O$2, \"BAR\", \"\", \"Time\", $O$4,-$A69,$O$6,$O$10, \"\",\"False\",\"T\")","v":"2023-07-05"},{"$f":" RTD(\"cqg.rtd\",,\"StudyData\", $O$2, \"BAR\", \"\", \"Open\", $O$4, -$A69, $O$6,$O$10,,$O$8,$O$12)","v":4541.5},{"$f":" RTD(\"cqg.rtd\",,\"StudyData\", $O$2, \"BAR\", \"\", \"High\", $O$4, -$A69, $O$6,$O$10,,$O$8,$O$12)","v":4543.25},{"$f":" RTD(\"cqg.rtd\",,\"StudyData\", $O$2, \"BAR\", \"\", \"Low\", $O$4, -$A69, $O$6,$O$10,,$O$8,$O$12)","v":4515.75},{"$f":" RTD(\"cqg.rtd\",,\"StudyData\", $O$2, \"BAR\", \"\", \"Close\", $O$4, -$A69, $O$6,$O$10,,$O$8,$O$12)","v":4533.25},{"$f":" RTD(\"cqg.rtd\",,\"StudyData\",$O$2, \"ImpVol\",, \"MIVClose\",$O$4,-A69,$O$6,$O$10,,$O$8,$O$12)","v":11.82}]
[68,{"$f":" RTD(\"cqg.rtd\",,\"StudyData\", $O$2, \"BAR\", \"\", \"Time\", $O$4,-$A70,$O$6,$O$10, \"\",\"False\",\"T\")","v":"2023-07-03"},{"$f":" RTD(\"cqg.rtd\",,\"StudyData\", $O$2, \"BAR\", \"\", \"Open\", $O$4, -$A70, $O$6,$O$10,,$O$8,$O$12)","v":4535},{"$f":" RTD(\"cqg.rtd\",,\"StudyData\", $O$2, \"BAR\", \"\", \"High\", $O$4, -$A70, $O$6,$O$10,,$O$8,$O$12)","v":4543.5},{"$f":" RTD(\"cqg.rtd\",,\"StudyData\", $O$2, \"BAR\", \"\", \"Low\", $O$4, -$A70, $O$6,$O$10,,$O$8,$O$12)","v":4529},{"$f":" RTD(\"cqg.rtd\",,\"StudyData\", $O$2, \"BAR\", \"\", \"Close\", $O$4, -$A70, $O$6,$O$10,,$O$8,$O$12)","v":4541.75},{"$f":" RTD(\"cqg.rtd\",,\"StudyData\",$O$2, \"ImpVol\",, \"MIVClose\",$O$4,-A70,$O$6,$O$10,,$O$8,$O$12)","v":11.335000000000001}]
[69,{"$f":" RTD(\"cqg.rtd\",,\"StudyData\", $O$2, \"BAR\", \"\", \"Time\", $O$4,-$A71,$O$6,$O$10, \"\",\"False\",\"T\")","v":"2023-06-30"},{"$f":" RTD(\"cqg.rtd\",,\"StudyData\", $O$2, \"BAR\", \"\", \"Open\", $O$4, -$A71, $O$6,$O$10,,$O$8,$O$12)","v":4484.75},{"$f":" RTD(\"cqg.rtd\",,\"StudyData\", $O$2, \"BAR\", \"\", \"High\", $O$4, -$A71, $O$6,$O$10,,$O$8,$O$12)","v":4547.5},{"$f":" RTD(\"cqg.rtd\",,\"StudyData\", $O$2, \"BAR\", \"\", \"Low\", $O$4, -$A71, $O$6,$O$10,,$O$8,$O$12)","v":4482.5},{"$f":" RTD(\"cqg.rtd\",,\"StudyData\", $O$2, \"BAR\", \"\", \"Close\", $O$4, -$A71, $O$6,$O$10,,$O$8,$O$12)","v":4537.75},{"$f":" RTD(\"cqg.rtd\",,\"StudyData\",$O$2, \"ImpVol\",, \"MIVClose\",$O$4,-A71,$O$6,$O$10,,$O$8,$O$12)","v":11.29}]
[70,{"$f":" RTD(\"cqg.rtd\",,\"StudyData\", $O$2, \"BAR\", \"\", \"Time\", $O$4,-$A72,$O$6,$O$10, \"\",\"False\",\"T\")","v":"2023-06-29"},{"$f":" RTD(\"cqg.rtd\",,\"StudyData\", $O$2, \"BAR\", \"\", \"Open\", $O$4, -$A72, $O$6,$O$10,,$O$8,$O$12)","v":4473.25},{"$f":" RTD(\"cqg.rtd\",,\"StudyData\", $O$2, \"BAR\", \"\", \"High\", $O$4, -$A72, $O$6,$O$10,,$O$8,$O$12)","v":4487.5},{"$f":" RTD(\"cqg.rtd\",,\"StudyData\", $O$2, \"BAR\", \"\", \"Low\", $O$4, -$A72, $O$6,$O$10,,$O$8,$O$12)","v":4459.25},{"$f":" RTD(\"cqg.rtd\",,\"StudyData\", $O$2, \"BAR\", \"\", \"Close\", $O$4, -$A72, $O$6,$O$10,,$O$8,$O$12)","v":4485.25},{"$f":" RTD(\"cqg.rtd\",,\"StudyData\",$O$2, \"ImpVol\",, \"MIVClose\",$O$4,-A72,$O$6,$O$10,,$O$8,$O$12)","v":11.515000000000001}]
[71,{"$f":" RTD(\"cqg.rtd\",,\"StudyData\", $O$2, \"BAR\", \"\", \"Time\", $O$4,-$A73,$O$6,$O$10, \"\",\"False\",\"T\")","v":"2023-06-28"},{"$f":" RTD(\"cqg.rtd\",,\"StudyData\", $O$2, \"BAR\", \"\", \"Open\", $O$4, -$A73, $O$6,$O$10,,$O$8,$O$12)","v":4463.5},{"$f":" RTD(\"cqg.rtd\",,\"StudyData\", $O$2, \"BAR\", \"\", \"High\", $O$4, -$A73, $O$6,$O$10,,$O$8,$O$12)","v":4479.75},{"$f":" RTD(\"cqg.rtd\",,\"StudyData\", $O$2, \"BAR\", \"\", \"Low\", $O$4, -$A73, $O$6,$O$10,,$O$8,$O$12)","v":4448.75},{"$f":" RTD(\"cqg.rtd\",,\"StudyData\", $O$2, \"BAR\", \"\", \"Close\", $O$4, -$A73, $O$6,$O$10,,$O$8,$O$12)","v":4467},{"$f":" RTD(\"cqg.rtd\",,\"StudyData\",$O$2, \"ImpVol\",, \"MIVClose\",$O$4,-A73,$O$6,$O$10,,$O$8,$O$12)","v":11.29}]
[72,{"$f":" RTD(\"cqg.rtd\",,\"StudyData\", $O$2, \"BAR\", \"\", \"Time\", $O$4,-$A74,$O$6,$O$10, \"\",\"False\",\"T\")","v":"2023-06-27"},{"$f":" RTD(\"cqg.rtd\",,\"StudyData\", $O$2, \"BAR\", \"\", \"Open\", $O$4, -$A74, $O$6,$O$10,,$O$8,$O$12)","v":4425.25},{"$f":" RTD(\"cqg.rtd\",,\"StudyData\", $O$2, \"BAR\", \"\", \"High\", $O$4, -$A74, $O$6,$O$10,,$O$8,$O$12)","v":4474.25},{"$f":" RTD(\"cqg.rtd\",,\"StudyData\", $O$2, \"BAR\", \"\", \"Low\", $O$4, -$A74, $O$6,$O$10,,$O$8,$O$12)","v":4421},{"$f":" RTD(\"cqg.rtd\",,\"StudyData\", $O$2, \"BAR\", \"\", \"Close\", $O$4, -$A74, $O$6,$O$10,,$O$8,$O$12)","v":4468.25},{"$f":" RTD(\"cqg.rtd\",,\"StudyData\",$O$2, \"ImpVol\",, \"MIVClose\",$O$4,-A74,$O$6,$O$10,,$O$8,$O$12)","v":11.75}]
[73,{"$f":" RTD(\"cqg.rtd\",,\"StudyData\", $O$2, \"BAR\", \"\", \"Time\", $O$4,-$A75,$O$6,$O$10, \"\",\"False\",\"T\")","v":"2023-06-26"},{"$f":" RTD(\"cqg.rtd\",,\"StudyData\", $O$2, \"BAR\", \"\", \"Open\", $O$4, -$A75, $O$6,$O$10,,$O$8,$O$12)","v":4439.5},{"$f":" RTD(\"cqg.rtd\",,\"StudyData\", $O$2, \"BAR\", \"\", \"High\", $O$4, -$A75, $O$6,$O$10,,$O$8,$O$12)","v":4452.5},{"$f":" RTD(\"cqg.rtd\",,\"StudyData\", $O$2, \"BAR\", \"\", \"Low\", $O$4, -$A75, $O$6,$O$10,,$O$8,$O$12)","v":4418},{"$f":" RTD(\"cqg.rtd\",,\"StudyData\", $O$2, \"BAR\", \"\", \"Close\", $O$4, -$A75, $O$6,$O$10,,$O$8,$O$12)","v":4419.75},{"$f":" RTD(\"cqg.rtd\",,\"StudyData\",$O$2, \"ImpVol\",, \"MIVClose\",$O$4,-A75,$O$6,$O$10,,$O$8,$O$12)","v":12.100000000000001}]
[74,{"$f":" RTD(\"cqg.rtd\",,\"StudyData\", $O$2, \"BAR\", \"\", \"Time\", $O$4,-$A76,$O$6,$O$10, \"\",\"False\",\"T\")","v":"2023-06-23"},{"$f":" RTD(\"cqg.rtd\",,\"StudyData\", $O$2, \"BAR\", \"\", \"Open\", $O$4, -$A76, $O$6,$O$10,,$O$8,$O$12)","v":4475.25},{"$f":" RTD(\"cqg.rtd\",,\"StudyData\", $O$2, \"BAR\", \"\", \"High\", $O$4, -$A76, $O$6,$O$10,,$O$8,$O$12)","v":4475.75},{"$f":" RTD(\"cqg.rtd\",,\"StudyData\", $O$2, \"BAR\", \"\", \"Low\", $O$4, -$A76, $O$6,$O$10,,$O$8,$O$12)","v":4431},{"$f":" RTD(\"cqg.rtd\",,\"StudyData\", $O$2, \"BAR\", \"\", \"Close\", $O$4, -$A76, $O$6,$O$10,,$O$8,$O$12)","v":4438.5},{"$f":" RTD(\"cqg.rtd\",,\"StudyData\",$O$2, \"ImpVol\",, \"MIVClose\",$O$4,-A76,$O$6,$O$10,,$O$8,$O$12)","v":12.205}]
[75,{"$f":" RTD(\"cqg.rtd\",,\"StudyData\", $O$2, \"BAR\", \"\", \"Time\", $O$4,-$A77,$O$6,$O$10, \"\",\"False\",\"T\")","v":"2023-06-22"},{"$f":" RTD(\"cqg.rtd\",,\"StudyData\", $O$2, \"BAR\", \"\", \"Open\", $O$4, -$A77, $O$6,$O$10,,$O$8,$O$12)","v":4459.5},{"$f":" RTD(\"cqg.rtd\",,\"StudyData\", $O$2, \"BAR\", \"\", \"High\", $O$4, -$A77, $O$6,$O$10,,$O$8,$O$12)","v":4476.5},{"$f":" RTD(\"cqg.rtd\",,\"StudyData\", $O$2, \"BAR\", \"\", \"Low\", $O$4, -$A77, $O$6,$O$10,,$O$8,$O$12)","v":4442.5},{"$f":" RTD(\"cqg.rtd\",,\"StudyData\", $O$2, \"BAR\", \"\", \"Close\", $O$4, -$A77, $O$6,$O$10,,$O$8,$O$12)","v":4473.25},{"$f":" RTD(\"cqg.rtd\",,\"StudyData\",$O$2, \"ImpVol\",, \"MIVClose\",$O$4,-A77,$O$6,$O$10,,$O$8,$O$12)","v":12.030000000000001}]
[76,{"$f":" RTD(\"cqg.rtd\",,\"StudyData\", $O$2, \"BAR\", \"\", \"Time\", $O$4,-$A78,$O$6,$O$10, \"\",\"False\",\"T\")","v":"2023-06-21"},{"$f":" RTD(\"cqg.rtd\",,\"StudyData\", $O$2, \"BAR\", \"\", \"Open\", $O$4, -$A78, $O$6,$O$10,,$O$8,$O$12)","v":4479.75},{"$f":" RTD(\"cqg.rtd\",,\"StudyData\", $O$2, \"BAR\", \"\", \"High\", $O$4, -$A78, $O$6,$O$10,,$O$8,$O$12)","v":4488},{"$f":" RTD(\"cqg.rtd\",,\"StudyData\", $O$2, \"BAR\", \"\", \"Low\", $O$4, -$A78, $O$6,$O$10,,$O$8,$O$12)","v":4453},{"$f":" RTD(\"cqg.rtd\",,\"StudyData\", $O$2, \"BAR\", \"\", \"Close\", $O$4, -$A78, $O$6,$O$10,,$O$8,$O$12)","v":4458.75},{"$f":" RTD(\"cqg.rtd\",,\"StudyData\",$O$2, \"ImpVol\",, \"MIVClose\",$O$4,-A78,$O$6,$O$10,,$O$8,$O$12)","v":12.275}]
[77,{"$f":" RTD(\"cqg.rtd\",,\"StudyData\", $O$2, \"BAR\", \"\", \"Time\", $O$4,-$A79,$O$6,$O$10, \"\",\"False\",\"T\")","v":"2023-06-20"},{"$f":" RTD(\"cqg.rtd\",,\"StudyData\", $O$2, \"BAR\", \"\", \"Open\", $O$4, -$A79, $O$6,$O$10,,$O$8,$O$12)","v":4507.5},{"$f":" RTD(\"cqg.rtd\",,\"StudyData\", $O$2, \"BAR\", \"\", \"High\", $O$4, -$A79, $O$6,$O$10,,$O$8,$O$12)","v":4511.5},{"$f":" RTD(\"cqg.rtd\",,\"StudyData\", $O$2, \"BAR\", \"\", \"Low\", $O$4, -$A79, $O$6,$O$10,,$O$8,$O$12)","v":4460},{"$f":" RTD(\"cqg.rtd\",,\"StudyData\", $O$2, \"BAR\", \"\", \"Close\", $O$4, -$A79, $O$6,$O$10,,$O$8,$O$12)","v":4484.25},{"$f":" RTD(\"cqg.rtd\",,\"StudyData\",$O$2, \"ImpVol\",, \"MIVClose\",$O$4,-A79,$O$6,$O$10,,$O$8,$O$12)","v":12.61}]
[78,{"$f":" RTD(\"cqg.rtd\",,\"StudyData\", $O$2, \"BAR\", \"\", \"Time\", $O$4,-$A80,$O$6,$O$10, \"\",\"False\",\"T\")","v":"2023-06-16"},{"$f":" RTD(\"cqg.rtd\",,\"StudyData\", $O$2, \"BAR\", \"\", \"Open\", $O$4, -$A80, $O$6,$O$10,,$O$8,$O$12)","v":4518.5},{"$f":" RTD(\"cqg.rtd\",,\"StudyData\", $O$2, \"BAR\", \"\", \"High\", $O$4, -$A80, $O$6,$O$10,,$O$8,$O$12)","v":4543.25},{"$f":" RTD(\"cqg.rtd\",,\"StudyData\", $O$2, \"BAR\", \"\", \"Low\", $O$4, -$A80, $O$6,$O$10,,$O$8,$O$12)","v":4500.5},{"$f":" RTD(\"cqg.rtd\",,\"StudyData\", $O$2, \"BAR\", \"\", \"Close\", $O$4, -$A80, $O$6,$O$10,,$O$8,$O$12)","v":4503.25},{"$f":" RTD(\"cqg.rtd\",,\"StudyData\",$O$2, \"ImpVol\",, \"MIVClose\",$O$4,-A80,$O$6,$O$10,,$O$8,$O$12)","v":12.290000000000001}]
[79,{"$f":" RTD(\"cqg.rtd\",,\"StudyData\", $O$2, \"BAR\", \"\", \"Time\", $O$4,-$A81,$O$6,$O$10, \"\",\"False\",\"T\")","v":"2023-06-15"},{"$f":" RTD(\"cqg.rtd\",,\"StudyData\", $O$2, \"BAR\", \"\", \"Open\", $O$4, -$A81, $O$6,$O$10,,$O$8,$O$12)","v":4472.25},{"$f":" RTD(\"cqg.rtd\",,\"StudyData\", $O$2, \"BAR\", \"\", \"High\", $O$4, -$A81, $O$6,$O$10,,$O$8,$O$12)","v":4535},{"$f":" RTD(\"cqg.rtd\",,\"StudyData\", $O$2, \"BAR\", \"\", \"Low\", $O$4, -$A81, $O$6,$O$10,,$O$8,$O$12)","v":4443.25},{"$f":" RTD(\"cqg.rtd\",,\"StudyData\", $O$2, \"BAR\", \"\", \"Close\", $O$4, -$A81, $O$6,$O$10,,$O$8,$O$12)","v":4520.75},{"$f":" RTD(\"cqg.rtd\",,\"StudyData\",$O$2, \"ImpVol\",, \"MIVClose\",$O$4,-A81,$O$6,$O$10,,$O$8,$O$12)","v":12.48}]
[80,{"$f":" RTD(\"cqg.rtd\",,\"StudyData\", $O$2, \"BAR\", \"\", \"Time\", $O$4,-$A82,$O$6,$O$10, \"\",\"False\",\"T\")","v":"2023-06-14"},{"$f":" RTD(\"cqg.rtd\",,\"StudyData\", $O$2, \"BAR\", \"\", \"Open\", $O$4, -$A82, $O$6,$O$10,,$O$8,$O$12)","v":4466.75},{"$f":" RTD(\"cqg.rtd\",,\"StudyData\", $O$2, \"BAR\", \"\", \"High\", $O$4, -$A82, $O$6,$O$10,,$O$8,$O$12)","v":4489},{"$f":" RTD(\"cqg.rtd\",,\"StudyData\", $O$2, \"BAR\", \"\", \"Low\", $O$4, -$A82, $O$6,$O$10,,$O$8,$O$12)","v":4433},{"$f":" RTD(\"cqg.rtd\",,\"StudyData\", $O$2, \"BAR\", \"\", \"Close\", $O$4, -$A82, $O$6,$O$10,,$O$8,$O$12)","v":4468},{"$f":" RTD(\"cqg.rtd\",,\"StudyData\",$O$2, \"ImpVol\",, \"MIVClose\",$O$4,-A82,$O$6,$O$10,,$O$8,$O$12)","v":12.21}]
[81,{"$f":" RTD(\"cqg.rtd\",,\"StudyData\", $O$2, \"BAR\", \"\", \"Time\", $O$4,-$A83,$O$6,$O$10, \"\",\"False\",\"T\")","v":"2023-06-13"},{"$f":" RTD(\"cqg.rtd\",,\"StudyData\", $O$2, \"BAR\", \"\", \"Open\", $O$4, -$A83, $O$6,$O$10,,$O$8,$O$12)","v":4439.25},{"$f":" RTD(\"cqg.rtd\",,\"StudyData\", $O$2, \"BAR\", \"\", \"High\", $O$4, -$A83, $O$6,$O$10,,$O$8,$O$12)","v":4472.75},{"$f":" RTD(\"cqg.rtd\",,\"StudyData\", $O$2, \"BAR\", \"\", \"Low\", $O$4, -$A83, $O$6,$O$10,,$O$8,$O$12)","v":4431.25},{"$f":" RTD(\"cqg.rtd\",,\"StudyData\", $O$2, \"BAR\", \"\", \"Close\", $O$4, -$A83, $O$6,$O$10,,$O$8,$O$12)","v":4466.25},{"$f":" RTD(\"cqg.rtd\",,\"StudyData\",$O$2, \"ImpVol\",, \"MIVClose\",$O$4,-A83,$O$6,$O$10,,$O$8,$O$12)","v":12.38}]
[82,{"$f":" RTD(\"cqg.rtd\",,\"StudyData\", $O$2, \"BAR\", \"\", \"Time\", $O$4,-$A84,$O$6,$O$10, \"\",\"False\",\"T\")","v":"2023-06-12"},{"$f":" RTD(\"cqg.rtd\",,\"StudyData\", $O$2, \"BAR\", \"\", \"Open\", $O$4, -$A84, $O$6,$O$10,,$O$8,$O$12)","v":4399.25},{"$f":" RTD(\"cqg.rtd\",,\"StudyData\", $O$2, \"BAR\", \"\", \"High\", $O$4, -$A84, $O$6,$O$10,,$O$8,$O$12)","v":4440.75},{"$f":" RTD(\"cqg.rtd\",,\"StudyData\", $O$2, \"BAR\", \"\", \"Low\", $O$4, -$A84, $O$6,$O$10,,$O$8,$O$12)","v":4398.25},{"$f":" RTD(\"cqg.rtd\",,\"StudyData\", $O$2, \"BAR\", \"\", \"Close\", $O$4, -$A84, $O$6,$O$10,,$O$8,$O$12)","v":4437.5},{"$f":" RTD(\"cqg.rtd\",,\"StudyData\",$O$2, \"ImpVol\",, \"MIVClose\",$O$4,-A84,$O$6,$O$10,,$O$8,$O$12)","v":12.415000000000001}]
[83,{"$f":" RTD(\"cqg.rtd\",,\"StudyData\", $O$2, \"BAR\", \"\", \"Time\", $O$4,-$A85,$O$6,$O$10, \"\",\"False\",\"T\")","v":"2023-06-09"},{"$f":" RTD(\"cqg.rtd\",,\"StudyData\", $O$2, \"BAR\", \"\", \"Open\", $O$4, -$A85, $O$6,$O$10,,$O$8,$O$12)","v":4391.25},{"$f":" RTD(\"cqg.rtd\",,\"StudyData\", $O$2, \"BAR\", \"\", \"High\", $O$4, -$A85, $O$6,$O$10,,$O$8,$O$12)","v":4419},{"$f":" RTD(\"cqg.rtd\",,\"StudyData\", $O$2, \"BAR\", \"\", \"Low\", $O$4, -$A85, $O$6,$O$10,,$O$8,$O$12)","v":4377.5},{"$f":" RTD(\"cqg.rtd\",,\"StudyData\", $O$2, \"BAR\", \"\", \"Close\", $O$4, -$A85, $O$6,$O$10,,$O$8,$O$12)","v":4398.25},{"$f":" RTD(\"cqg.rtd\",,\"StudyData\",$O$2, \"ImpVol\",, \"MIVClose\",$O$4,-A85,$O$6,$O$10,,$O$8,$O$12)","v":12.27}]
[84,{"$f":" RTD(\"cqg.rtd\",,\"StudyData\", $O$2, \"BAR\", \"\", \"Time\", $O$4,-$A86,$O$6,$O$10, \"\",\"False\",\"T\")","v":"2023-06-08"},{"$f":" RTD(\"cqg.rtd\",,\"StudyData\", $O$2, \"BAR\", \"\", \"Open\", $O$4, -$A86, $O$6,$O$10,,$O$8,$O$12)","v":4366.75},{"$f":" RTD(\"cqg.rtd\",,\"StudyData\", $O$2, \"BAR\", \"\", \"High\", $O$4, -$A86, $O$6,$O$10,,$O$8,$O$12)","v":4396},{"$f":" RTD(\"cqg.rtd\",,\"StudyData\", $O$2, \"BAR\", \"\", \"Low\", $O$4, -$A86, $O$6,$O$10,,$O$8,$O$12)","v":4356.25},{"$f":" RTD(\"cqg.rtd\",,\"StudyData\", $O$2, \"BAR\", \"\", \"Close\", $O$4, -$A86, $O$6,$O$10,,$O$8,$O$12)","v":4391.75},{"$f":" RTD(\"cqg.rtd\",,\"StudyData\",$O$2, \"ImpVol\",, \"MIVClose\",$O$4,-A86,$O$6,$O$10,,$O$8,$O$12)","v":12.324999999999999}]
[85,{"$f":" RTD(\"cqg.rtd\",,\"StudyData\", $O$2, \"BAR\", \"\", \"Time\", $O$4,-$A87,$O$6,$O$10, \"\",\"False\",\"T\")","v":"2023-06-07"},{"$f":" RTD(\"cqg.rtd\",,\"StudyData\", $O$2, \"BAR\", \"\", \"Open\", $O$4, -$A87, $O$6,$O$10,,$O$8,$O$12)","v":4385.75},{"$f":" RTD(\"cqg.rtd\",,\"StudyData\", $O$2, \"BAR\", \"\", \"High\", $O$4, -$A87, $O$6,$O$10,,$O$8,$O$12)","v":4398.25},{"$f":" RTD(\"cqg.rtd\",,\"StudyData\", $O$2, \"BAR\", \"\", \"Low\", $O$4, -$A87, $O$6,$O$10,,$O$8,$O$12)","v":4362.75},{"$f":" RTD(\"cqg.rtd\",,\"StudyData\", $O$2, \"BAR\", \"\", \"Close\", $O$4, -$A87, $O$6,$O$10,,$O$8,$O$12)","v":4367.75},{"$f":" RTD(\"cqg.rtd\",,\"StudyData\",$O$2, \"ImpVol\",, \"MIVClose\",$O$4,-A87,$O$6,$O$10,,$O$8,$O$12)","v":12.540000000000001}]
[86,{"$f":" RTD(\"cqg.rtd\",,\"StudyData\", $O$2, \"BAR\", \"\", \"Time\", $O$4,-$A88,$O$6,$O$10, \"\",\"False\",\"T\")","v":"2023-06-06"},{"$f":" RTD(\"cqg.rtd\",,\"StudyData\", $O$2, \"BAR\", \"\", \"Open\", $O$4, -$A88, $O$6,$O$10,,$O$8,$O$12)","v":4373.25},{"$f":" RTD(\"cqg.rtd\",,\"StudyData\", $O$2, \"BAR\", \"\", \"High\", $O$4, -$A88, $O$6,$O$10,,$O$8,$O$12)","v":4388.25},{"$f":" RTD(\"cqg.rtd\",,\"StudyData\", $O$2, \"BAR\", \"\", \"Low\", $O$4, -$A88, $O$6,$O$10,,$O$8,$O$12)","v":4362},{"$f":" RTD(\"cqg.rtd\",,\"StudyData\", $O$2, \"BAR\", \"\", \"Close\", $O$4, -$A88, $O$6,$O$10,,$O$8,$O$12)","v":4383.25},{"$f":" RTD(\"cqg.rtd\",,\"StudyData\",$O$2, \"ImpVol\",, \"MIVClose\",$O$4,-A88,$O$6,$O$10,,$O$8,$O$12)","v":12.580000000000002}]
[87,{"$f":" RTD(\"cqg.rtd\",,\"StudyData\", $O$2, \"BAR\", \"\", \"Time\", $O$4,-$A89,$O$6,$O$10, \"\",\"False\",\"T\")","v":"2023-06-05"},{"$f":" RTD(\"cqg.rtd\",,\"StudyData\", $O$2, \"BAR\", \"\", \"Open\", $O$4, -$A89, $O$6,$O$10,,$O$8,$O$12)","v":4381.5},{"$f":" RTD(\"cqg.rtd\",,\"StudyData\", $O$2, \"BAR\", \"\", \"High\", $O$4, -$A89, $O$6,$O$10,,$O$8,$O$12)","v":4399.25},{"$f":" RTD(\"cqg.rtd\",,\"StudyData\", $O$2, \"BAR\", \"\", \"Low\", $O$4, -$A89, $O$6,$O$10,,$O$8,$O$12)","v":4366.5},{"$f":" RTD(\"cqg.rtd\",,\"StudyData\", $O$2, \"BAR\", \"\", \"Close\", $O$4, -$A89, $O$6,$O$10,,$O$8,$O$12)","v":4374.5},{"$f":" RTD(\"cqg.rtd\",,\"StudyData\",$O$2, \"ImpVol\",, \"MIVClose\",$O$4,-A89,$O$6,$O$10,,$O$8,$O$12)","v":13.190000000000001}]
[88,{"$f":" RTD(\"cqg.rtd\",,\"StudyData\", $O$2, \"BAR\", \"\", \"Time\", $O$4,-$A90,$O$6,$O$10, \"\",\"False\",\"T\")","v":"2023-06-02"},{"$f":" RTD(\"cqg.rtd\",,\"StudyData\", $O$2, \"BAR\", \"\", \"Open\", $O$4, -$A90, $O$6,$O$10,,$O$8,$O$12)","v":4325.25},{"$f":" RTD(\"cqg.rtd\",,\"StudyData\", $O$2, \"BAR\", \"\", \"High\", $O$4, -$A90, $O$6,$O$10,,$O$8,$O$12)","v":4391.25},{"$f":" RTD(\"cqg.rtd\",,\"StudyData\", $O$2, \"BAR\", \"\", \"Low\", $O$4, -$A90, $O$6,$O$10,,$O$8,$O$12)","v":4322.5},{"$f":" RTD(\"cqg.rtd\",,\"StudyData\", $O$2, \"BAR\", \"\", \"Close\", $O$4, -$A90, $O$6,$O$10,,$O$8,$O$12)","v":4381.5},{"$f":" RTD(\"cqg.rtd\",,\"StudyData\",$O$2, \"ImpVol\",, \"MIVClose\",$O$4,-A90,$O$6,$O$10,,$O$8,$O$12)","v":11.375000000000002}]
[89,{"$f":" RTD(\"cqg.rtd\",,\"StudyData\", $O$2, \"BAR\", \"\", \"Time\", $O$4,-$A91,$O$6,$O$10, \"\",\"False\",\"T\")","v":"2023-06-01"},{"$f":" RTD(\"cqg.rtd\",,\"StudyData\", $O$2, \"BAR\", \"\", \"Open\", $O$4, -$A91, $O$6,$O$10,,$O$8,$O$12)","v":4282},{"$f":" RTD(\"cqg.rtd\",,\"StudyData\", $O$2, \"BAR\", \"\", \"High\", $O$4, -$A91, $O$6,$O$10,,$O$8,$O$12)","v":4333.25},{"$f":" RTD(\"cqg.rtd\",,\"StudyData\", $O$2, \"BAR\", \"\", \"Low\", $O$4, -$A91, $O$6,$O$10,,$O$8,$O$12)","v":4271.5},{"$f":" RTD(\"cqg.rtd\",,\"StudyData\", $O$2, \"BAR\", \"\", \"Close\", $O$4, -$A91, $O$6,$O$10,,$O$8,$O$12)","v":4321.5},{"$f":" RTD(\"cqg.rtd\",,\"StudyData\",$O$2, \"ImpVol\",, \"MIVClose\",$O$4,-A91,$O$6,$O$10,,$O$8,$O$12)","v":11.93}]
[90,{"$f":" RTD(\"cqg.rtd\",,\"StudyData\", $O$2, \"BAR\", \"\", \"Time\", $O$4,-$A92,$O$6,$O$10, \"\",\"False\",\"T\")","v":"2023-05-31"},{"$f":" RTD(\"cqg.rtd\",,\"StudyData\", $O$2, \"BAR\", \"\", \"Open\", $O$4, -$A92, $O$6,$O$10,,$O$8,$O$12)","v":4306.5},{"$f":" RTD(\"cqg.rtd\",,\"StudyData\", $O$2, \"BAR\", \"\", \"High\", $O$4, -$A92, $O$6,$O$10,,$O$8,$O$12)","v":4311.25},{"$f":" RTD(\"cqg.rtd\",,\"StudyData\", $O$2, \"BAR\", \"\", \"Low\", $O$4, -$A92, $O$6,$O$10,,$O$8,$O$12)","v":4267.5},{"$f":" RTD(\"cqg.rtd\",,\"StudyData\", $O$2, \"BAR\", \"\", \"Close\", $O$4, -$A92, $O$6,$O$10,,$O$8,$O$12)","v":4284},{"$f":" RTD(\"cqg.rtd\",,\"StudyData\",$O$2, \"ImpVol\",, \"MIVClose\",$O$4,-A92,$O$6,$O$10,,$O$8,$O$12)","v":14.155000000000001}]
[91,{"$f":" RTD(\"cqg.rtd\",,\"StudyData\", $O$2, \"BAR\", \"\", \"Time\", $O$4,-$A93,$O$6,$O$10, \"\",\"False\",\"T\")","v":"2023-05-30"},{"$f":" RTD(\"cqg.rtd\",,\"StudyData\", $O$2, \"BAR\", \"\", \"Open\", $O$4, -$A93, $O$6,$O$10,,$O$8,$O$12)","v":4333.25},{"$f":" RTD(\"cqg.rtd\",,\"StudyData\", $O$2, \"BAR\", \"\", \"High\", $O$4, -$A93, $O$6,$O$10,,$O$8,$O$12)","v":4336.75},{"$f":" RTD(\"cqg.rtd\",,\"StudyData\", $O$2, \"BAR\", \"\", \"Low\", $O$4, -$A93, $O$6,$O$10,,$O$8,$O$12)","v":4293.5},{"$f":" RTD(\"cqg.rtd\",,\"StudyData\", $O$2, \"BAR\", \"\", \"Close\", $O$4, -$A93, $O$6,$O$10,,$O$8,$O$12)","v":4308.5},{"$f":" RTD(\"cqg.rtd\",,\"StudyData\",$O$2, \"ImpVol\",, \"MIVClose\",$O$4,-A93,$O$6,$O$10,,$O$8,$O$12)","v":14.08}]
[92,{"$f":" RTD(\"cqg.rtd\",,\"StudyData\", $O$2, \"BAR\", \"\", \"Time\", $O$4,-$A94,$O$6,$O$10, \"\",\"False\",\"T\")","v":"2023-05-26"},{"$f":" RTD(\"cqg.rtd\",,\"StudyData\", $O$2, \"BAR\", \"\", \"Open\", $O$4, -$A94, $O$6,$O$10,,$O$8,$O$12)","v":4250.5},{"$f":" RTD(\"cqg.rtd\",,\"StudyData\", $O$2, \"BAR\", \"\", \"High\", $O$4, -$A94, $O$6,$O$10,,$O$8,$O$12)","v":4314.75},{"$f":" RTD(\"cqg.rtd\",,\"StudyData\", $O$2, \"BAR\", \"\", \"Low\", $O$4, -$A94, $O$6,$O$10,,$O$8,$O$12)","v":4239.5},{"$f":" RTD(\"cqg.rtd\",,\"StudyData\", $O$2, \"BAR\", \"\", \"Close\", $O$4, -$A94, $O$6,$O$10,,$O$8,$O$12)","v":4306.75},{"$f":" RTD(\"cqg.rtd\",,\"StudyData\",$O$2, \"ImpVol\",, \"MIVClose\",$O$4,-A94,$O$6,$O$10,,$O$8,$O$12)","v":14.315}]
[93,{"$f":" RTD(\"cqg.rtd\",,\"StudyData\", $O$2, \"BAR\", \"\", \"Time\", $O$4,-$A95,$O$6,$O$10, \"\",\"False\",\"T\")","v":"2023-05-25"},{"$f":" RTD(\"cqg.rtd\",,\"StudyData\", $O$2, \"BAR\", \"\", \"Open\", $O$4, -$A95, $O$6,$O$10,,$O$8,$O$12)","v":4250.5},{"$f":" RTD(\"cqg.rtd\",,\"StudyData\", $O$2, \"BAR\", \"\", \"High\", $O$4, -$A95, $O$6,$O$10,,$O$8,$O$12)","v":4269},{"$f":" RTD(\"cqg.rtd\",,\"StudyData\", $O$2, \"BAR\", \"\", \"Low\", $O$4, -$A95, $O$6,$O$10,,$O$8,$O$12)","v":4225},{"$f":" RTD(\"cqg.rtd\",,\"StudyData\", $O$2, \"BAR\", \"\", \"Close\", $O$4, -$A95, $O$6,$O$10,,$O$8,$O$12)","v":4253.25},{"$f":" RTD(\"cqg.rtd\",,\"StudyData\",$O$2, \"ImpVol\",, \"MIVClose\",$O$4,-A95,$O$6,$O$10,,$O$8,$O$12)","v":15.32}]
[94,{"$f":" RTD(\"cqg.rtd\",,\"StudyData\", $O$2, \"BAR\", \"\", \"Time\", $O$4,-$A96,$O$6,$O$10, \"\",\"False\",\"T\")","v":"2023-05-24"},{"$f":" RTD(\"cqg.rtd\",,\"StudyData\", $O$2, \"BAR\", \"\", \"Open\", $O$4, -$A96, $O$6,$O$10,,$O$8,$O$12)","v":4251.5},{"$f":" RTD(\"cqg.rtd\",,\"StudyData\", $O$2, \"BAR\", \"\", \"High\", $O$4, -$A96, $O$6,$O$10,,$O$8,$O$12)","v":4259.75},{"$f":" RTD(\"cqg.rtd\",,\"StudyData\", $O$2, \"BAR\", \"\", \"Low\", $O$4, -$A96, $O$6,$O$10,,$O$8,$O$12)","v":4207.5},{"$f":" RTD(\"cqg.rtd\",,\"StudyData\", $O$2, \"BAR\", \"\", \"Close\", $O$4, -$A96, $O$6,$O$10,,$O$8,$O$12)","v":4219.5},{"$f":" RTD(\"cqg.rtd\",,\"StudyData\",$O$2, \"ImpVol\",, \"MIVClose\",$O$4,-A96,$O$6,$O$10,,$O$8,$O$12)","v":16.189999999999998}]
[95,{"$f":" RTD(\"cqg.rtd\",,\"StudyData\", $O$2, \"BAR\", \"\", \"Time\", $O$4,-$A97,$O$6,$O$10, \"\",\"False\",\"T\")","v":"2023-05-23"},{"$f":" RTD(\"cqg.rtd\",,\"StudyData\", $O$2, \"BAR\", \"\", \"Open\", $O$4, -$A97, $O$6,$O$10,,$O$8,$O$12)","v":4301},{"$f":" RTD(\"cqg.rtd\",,\"StudyData\", $O$2, \"BAR\", \"\", \"High\", $O$4, -$A97, $O$6,$O$10,,$O$8,$O$12)","v":4316.25},{"$f":" RTD(\"cqg.rtd\",,\"StudyData\", $O$2, \"BAR\", \"\", \"Low\", $O$4, -$A97, $O$6,$O$10,,$O$8,$O$12)","v":4246.5},{"$f":" RTD(\"cqg.rtd\",,\"StudyData\", $O$2, \"BAR\", \"\", \"Close\", $O$4, -$A97, $O$6,$O$10,,$O$8,$O$12)","v":4252.25},{"$f":" RTD(\"cqg.rtd\",,\"StudyData\",$O$2, \"ImpVol\",, \"MIVClose\",$O$4,-A97,$O$6,$O$10,,$O$8,$O$12)","v":15.58}]
[96,{"$f":" RTD(\"cqg.rtd\",,\"StudyData\", $O$2, \"BAR\", \"\", \"Time\", $O$4,-$A98,$O$6,$O$10, \"\",\"False\",\"T\")","v":"2023-05-22"},{"$f":" RTD(\"cqg.rtd\",,\"StudyData\", $O$2, \"BAR\", \"\", \"Open\", $O$4, -$A98, $O$6,$O$10,,$O$8,$O$12)","v":4282.5},{"$f":" RTD(\"cqg.rtd\",,\"StudyData\", $O$2, \"BAR\", \"\", \"High\", $O$4, -$A98, $O$6,$O$10,,$O$8,$O$12)","v":4315.25},{"$f":" RTD(\"cqg.rtd\",,\"StudyData\", $O$2, \"BAR\", \"\", \"Low\", $O$4, -$A98, $O$6,$O$10,,$O$8,$O$12)","v":4280},{"$f":" RTD(\"cqg.rtd\",,\"StudyData\", $O$2, \"BAR\", \"\", \"Close\", $O$4, -$A98, $O$6,$O$10,,$O$8,$O$12)","v":4298.5},{"$f":" RTD(\"cqg.rtd\",,\"StudyData\",$O$2, \"ImpVol\",, \"MIVClose\",$O$4,-A98,$O$6,$O$10,,$O$8,$O$12)","v":13.105}]
[97,{"$f":" RTD(\"cqg.rtd\",,\"StudyData\", $O$2, \"BAR\", \"\", \"Time\", $O$4,-$A99,$O$6,$O$10, \"\",\"False\",\"T\")","v":"2023-05-19"},{"$f":" RTD(\"cqg.rtd\",,\"StudyData\", $O$2, \"BAR\", \"\", \"Open\", $O$4, -$A99, $O$6,$O$10,,$O$8,$O$12)","v":4309},{"$f":" RTD(\"cqg.rtd\",,\"StudyData\", $O$2, \"BAR\", \"\", \"High\", $O$4, -$A99, $O$6,$O$10,,$O$8,$O$12)","v":4320.75},{"$f":" RTD(\"cqg.rtd\",,\"StudyData\", $O$2, \"BAR\", \"\", \"Low\", $O$4, -$A99, $O$6,$O$10,,$O$8,$O$12)","v":4285},{"$f":" RTD(\"cqg.rtd\",,\"StudyData\", $O$2, \"BAR\", \"\", \"Close\", $O$4, -$A99, $O$6,$O$10,,$O$8,$O$12)","v":4298.25},{"$f":" RTD(\"cqg.rtd\",,\"StudyData\",$O$2, \"ImpVol\",, \"MIVClose\",$O$4,-A99,$O$6,$O$10,,$O$8,$O$12)","v":13.180000000000003}]
[98,{"$f":" RTD(\"cqg.rtd\",,\"StudyData\", $O$2, \"BAR\", \"\", \"Time\", $O$4,-$A100,$O$6,$O$10, \"\",\"False\",\"T\")","v":"2023-05-18"},{"$f":" RTD(\"cqg.rtd\",,\"StudyData\", $O$2, \"BAR\", \"\", \"Open\", $O$4, -$A100, $O$6,$O$10,,$O$8,$O$12)","v":4264.75},{"$f":" RTD(\"cqg.rtd\",,\"StudyData\", $O$2, \"BAR\", \"\", \"High\", $O$4, -$A100, $O$6,$O$10,,$O$8,$O$12)","v":4309.25},{"$f":" RTD(\"cqg.rtd\",,\"StudyData\", $O$2, \"BAR\", \"\", \"Low\", $O$4, -$A100, $O$6,$O$10,,$O$8,$O$12)","v":4254.75},{"$f":" RTD(\"cqg.rtd\",,\"StudyData\", $O$2, \"BAR\", \"\", \"Close\", $O$4, -$A100, $O$6,$O$10,,$O$8,$O$12)","v":4305.5},{"$f":" RTD(\"cqg.rtd\",,\"StudyData\",$O$2, \"ImpVol\",, \"MIVClose\",$O$4,-A100,$O$6,$O$10,,$O$8,$O$12)","v":12.635000000000002}]
[99,{"$f":" RTD(\"cqg.rtd\",,\"StudyData\", $O$2, \"BAR\", \"\", \"Time\", $O$4,-$A101,$O$6,$O$10, \"\",\"False\",\"T\")","v":"2023-05-17"},{"$f":" RTD(\"cqg.rtd\",,\"StudyData\", $O$2, \"BAR\", \"\", \"Open\", $O$4, -$A101, $O$6,$O$10,,$O$8,$O$12)","v":4219.5},{"$f":" RTD(\"cqg.rtd\",,\"StudyData\", $O$2, \"BAR\", \"\", \"High\", $O$4, -$A101, $O$6,$O$10,,$O$8,$O$12)","v":4272.5},{"$f":" RTD(\"cqg.rtd\",,\"StudyData\", $O$2, \"BAR\", \"\", \"Low\", $O$4, -$A101, $O$6,$O$10,,$O$8,$O$12)","v":4215.5},{"$f":" RTD(\"cqg.rtd\",,\"StudyData\", $O$2, \"BAR\", \"\", \"Close\", $O$4, -$A101, $O$6,$O$10,,$O$8,$O$12)","v":4265},{"$f":" RTD(\"cqg.rtd\",,\"StudyData\",$O$2, \"ImpVol\",, \"MIVClose\",$O$4,-A101,$O$6,$O$10,,$O$8,$O$12)","v":13.18}]
[100,{"$f":" RTD(\"cqg.rtd\",,\"StudyData\", $O$2, \"BAR\", \"\", \"Time\", $O$4,-$A102,$O$6,$O$10, \"\",\"False\",\"T\")","v":"2023-05-16"},{"$f":" RTD(\"cqg.rtd\",,\"StudyData\", $O$2, \"BAR\", \"\", \"Open\", $O$4, -$A102, $O$6,$O$10,,$O$8,$O$12)","v":4241.75},{"$f":" RTD(\"cqg.rtd\",,\"StudyData\", $O$2, \"BAR\", \"\", \"High\", $O$4, -$A102, $O$6,$O$10,,$O$8,$O$12)","v":4245},{"$f":" RTD(\"cqg.rtd\",,\"StudyData\", $O$2, \"BAR\", \"\", \"Low\", $O$4, -$A102, $O$6,$O$10,,$O$8,$O$12)","v":4213.5},{"$f":" RTD(\"cqg.rtd\",,\"StudyData\", $O$2, \"BAR\", \"\", \"Close\", $O$4, -$A102, $O$6,$O$10,,$O$8,$O$12)","v":4216.5},{"$f":" RTD(\"cqg.rtd\",,\"StudyData\",$O$2, \"ImpVol\",, \"MIVClose\",$O$4,-A102,$O$6,$O$10,,$O$8,$O$12)","v":14.250000000000002}]
[101,{"$f":" RTD(\"cqg.rtd\",,\"StudyData\", $O$2, \"BAR\", \"\", \"Time\", $O$4,-$A103,$O$6,$O$10, \"\",\"False\",\"T\")","v":"2023-05-15"},{"$f":" RTD(\"cqg.rtd\",,\"StudyData\", $O$2, \"BAR\", \"\", \"Open\", $O$4, -$A103, $O$6,$O$10,,$O$8,$O$12)","v":4225.75},{"$f":" RTD(\"cqg.rtd\",,\"StudyData\", $O$2, \"BAR\", \"\", \"High\", $O$4, -$A103, $O$6,$O$10,,$O$8,$O$12)","v":4249.75},{"$f":" RTD(\"cqg.rtd\",,\"StudyData\", $O$2, \"BAR\", \"\", \"Low\", $O$4, -$A103, $O$6,$O$10,,$O$8,$O$12)","v":4216.5},{"$f":" RTD(\"cqg.rtd\",,\"StudyData\", $O$2, \"BAR\", \"\", \"Close\", $O$4, -$A103, $O$6,$O$10,,$O$8,$O$12)","v":4243.5},{"$f":" RTD(\"cqg.rtd\",,\"StudyData\",$O$2, \"ImpVol\",, \"MIVClose\",$O$4,-A103,$O$6,$O$10,,$O$8,$O$12)","v":13.345000000000001}]
[102,{"$f":" RTD(\"cqg.rtd\",,\"StudyData\", $O$2, \"BAR\", \"\", \"Time\", $O$4,-$A104,$O$6,$O$10, \"\",\"False\",\"T\")","v":"2023-05-12"},{"$f":" RTD(\"cqg.rtd\",,\"StudyData\", $O$2, \"BAR\", \"\", \"Open\", $O$4, -$A104, $O$6,$O$10,,$O$8,$O$12)","v":4238},{"$f":" RTD(\"cqg.rtd\",,\"StudyData\", $O$2, \"BAR\", \"\", \"High\", $O$4, -$A104, $O$6,$O$10,,$O$8,$O$12)","v":4258},{"$f":" RTD(\"cqg.rtd\",,\"StudyData\", $O$2, \"BAR\", \"\", \"Low\", $O$4, -$A104, $O$6,$O$10,,$O$8,$O$12)","v":4205.25},{"$f":" RTD(\"cqg.rtd\",,\"StudyData\", $O$2, \"BAR\", \"\", \"Close\", $O$4, -$A104, $O$6,$O$10,,$O$8,$O$12)","v":4231.5},{"$f":" RTD(\"cqg.rtd\",,\"StudyData\",$O$2, \"ImpVol\",, \"MIVClose\",$O$4,-A104,$O$6,$O$10,,$O$8,$O$12)","v":14.105}]
[103,{"$f":" RTD(\"cqg.rtd\",,\"StudyData\", $O$2, \"BAR\", \"\", \"Time\", $O$4,-$A105,$O$6,$O$10, \"\",\"False\",\"T\")","v":"2023-05-11"},{"$f":" RTD(\"cqg.rtd\",,\"StudyData\", $O$2, \"BAR\", \"\", \"Open\", $O$4, -$A105, $O$6,$O$10,,$O$8,$O$12)","v":4246.25},{"$f":" RTD(\"cqg.rtd\",,\"StudyData\", $O$2, \"BAR\", \"\", \"High\", $O$4, -$A105, $O$6,$O$10,,$O$8,$O$12)","v":4262},{"$f":" RTD(\"cqg.rtd\",,\"StudyData\", $O$2, \"BAR\", \"\", \"Low\", $O$4, -$A105, $O$6,$O$10,,$O$8,$O$12)","v":4215},{"$f":" RTD(\"cqg.rtd\",,\"StudyData\", $O$2, \"BAR\", \"\", \"Close\", $O$4, -$A105, $O$6,$O$10,,$O$8,$O$12)","v":4237.25},{"$f":" RTD(\"cqg.rtd\",,\"StudyData\",$O$2, \"ImpVol\",, \"MIVClose\",$O$4,-A105,$O$6,$O$10,,$O$8,$O$12)","v":14.05}]
[104,{"$f":" RTD(\"cqg.rtd\",,\"StudyData\", $O$2, \"BAR\", \"\", \"Time\", $O$4,-$A106,$O$6,$O$10, \"\",\"False\",\"T\")","v":"2023-05-10"},{"$f":" RTD(\"cqg.rtd\",,\"StudyData\", $O$2, \"BAR\", \"\", \"Open\", $O$4, -$A106, $O$6,$O$10,,$O$8,$O$12)","v":4226.5},{"$f":" RTD(\"cqg.rtd\",,\"StudyData\", $O$2, \"BAR\", \"\", \"High\", $O$4, -$A106, $O$6,$O$10,,$O$8,$O$12)","v":4266.75},{"$f":" RTD(\"cqg.rtd\",,\"StudyData\", $O$2, \"BAR\", \"\", \"Low\", $O$4, -$A106, $O$6,$O$10,,$O$8,$O$12)","v":4205.75},{"$f":" RTD(\"cqg.rtd\",,\"StudyData\", $O$2, \"BAR\", \"\", \"Close\", $O$4, -$A106, $O$6,$O$10,,$O$8,$O$12)","v":4245.5},{"$f":" RTD(\"cqg.rtd\",,\"StudyData\",$O$2, \"ImpVol\",, \"MIVClose\",$O$4,-A106,$O$6,$O$10,,$O$8,$O$12)","v":14.11}]
[105,{"$f":" RTD(\"cqg.rtd\",,\"StudyData\", $O$2, \"BAR\", \"\", \"Time\", $O$4,-$A107,$O$6,$O$10, \"\",\"False\",\"T\")","v":"2023-05-09"},{"$f":" RTD(\"cqg.rtd\",,\"StudyData\", $O$2, \"BAR\", \"\", \"Open\", $O$4, -$A107, $O$6,$O$10,,$O$8,$O$12)","v":4244},{"$f":" RTD(\"cqg.rtd\",,\"StudyData\", $O$2, \"BAR\", \"\", \"High\", $O$4, -$A107, $O$6,$O$10,,$O$8,$O$12)","v":4246.5},{"$f":" RTD(\"cqg.rtd\",,\"StudyData\", $O$2, \"BAR\", \"\", \"Low\", $O$4, -$A107, $O$6,$O$10,,$O$8,$O$12)","v":4224.5},{"$f":" RTD(\"cqg.rtd\",,\"StudyData\", $O$2, \"BAR\", \"\", \"Close\", $O$4, -$A107, $O$6,$O$10,,$O$8,$O$12)","v":4227.5},{"$f":" RTD(\"cqg.rtd\",,\"StudyData\",$O$2, \"ImpVol\",, \"MIVClose\",$O$4,-A107,$O$6,$O$10,,$O$8,$O$12)","v":14.915000000000001}]
[106,{"$f":" RTD(\"cqg.rtd\",,\"StudyData\", $O$2, \"BAR\", \"\", \"Time\", $O$4,-$A108,$O$6,$O$10, \"\",\"False\",\"T\")","v":"2023-05-08"},{"$f":" RTD(\"cqg.rtd\",,\"StudyData\", $O$2, \"BAR\", \"\", \"Open\", $O$4, -$A108, $O$6,$O$10,,$O$8,$O$12)","v":4244.5},{"$f":" RTD(\"cqg.rtd\",,\"StudyData\", $O$2, \"BAR\", \"\", \"High\", $O$4, -$A108, $O$6,$O$10,,$O$8,$O$12)","v":4254.5},{"$f":" RTD(\"cqg.rtd\",,\"StudyData\", $O$2, \"BAR\", \"\", \"Low\", $O$4, -$A108, $O$6,$O$10,,$O$8,$O$12)","v":4231},{"$f":" RTD(\"cqg.rtd\",,\"StudyData\", $O$2, \"BAR\", \"\", \"Close\", $O$4, -$A108, $O$6,$O$10,,$O$8,$O$12)","v":4246.25},{"$f":" RTD(\"cqg.rtd\",,\"StudyData\",$O$2, \"ImpVol\",, \"MIVClose\",$O$4,-A108,$O$6,$O$10,,$O$8,$O$12)","v":14.32}]
[107,{"$f":" RTD(\"cqg.rtd\",,\"StudyData\", $O$2, \"BAR\", \"\", \"Time\", $O$4,-$A109,$O$6,$O$10, \"\",\"False\",\"T\")","v":"2023-05-05"},{"$f":" RTD(\"cqg.rtd\",,\"StudyData\", $O$2, \"BAR\", \"\", \"Open\", $O$4, -$A109, $O$6,$O$10,,$O$8,$O$12)","v":4170.75},{"$f":" RTD(\"cqg.rtd\",,\"StudyData\", $O$2, \"BAR\", \"\", \"High\", $O$4, -$A109, $O$6,$O$10,,$O$8,$O$12)","v":4256.75},{"$f":" RTD(\"cqg.rtd\",,\"StudyData\", $O$2, \"BAR\", \"\", \"Low\", $O$4, -$A109, $O$6,$O$10,,$O$8,$O$12)","v":4170.25},{"$f":" RTD(\"cqg.rtd\",,\"StudyData\", $O$2, \"BAR\", \"\", \"Close\", $O$4, -$A109, $O$6,$O$10,,$O$8,$O$12)","v":4243.75},{"$f":" RTD(\"cqg.rtd\",,\"StudyData\",$O$2, \"ImpVol\",, \"MIVClose\",$O$4,-A109,$O$6,$O$10,,$O$8,$O$12)","v":14.805000000000001}]
[108,{"$f":" RTD(\"cqg.rtd\",,\"StudyData\", $O$2, \"BAR\", \"\", \"Time\", $O$4,-$A110,$O$6,$O$10, \"\",\"False\",\"T\")","v":"2023-05-04"},{"$f":" RTD(\"cqg.rtd\",,\"StudyData\", $O$2, \"BAR\", \"\", \"Open\", $O$4, -$A110, $O$6,$O$10,,$O$8,$O$12)","v":4180.5},{"$f":" RTD(\"cqg.rtd\",,\"StudyData\", $O$2, \"BAR\", \"\", \"High\", $O$4, -$A110, $O$6,$O$10,,$O$8,$O$12)","v":4211.5},{"$f":" RTD(\"cqg.rtd\",,\"StudyData\", $O$2, \"BAR\", \"\", \"Low\", $O$4, -$A110, $O$6,$O$10,,$O$8,$O$12)","v":4155.75},{"$f":" RTD(\"cqg.rtd\",,\"StudyData\", $O$2, \"BAR\", \"\", \"Close\", $O$4, -$A110, $O$6,$O$10,,$O$8,$O$12)","v":4169.25},{"$f":" RTD(\"cqg.rtd\",,\"StudyData\",$O$2, \"ImpVol\",, \"MIVClose\",$O$4,-A110,$O$6,$O$10,,$O$8,$O$12)","v":17.285}]
[109,{"$f":" RTD(\"cqg.rtd\",,\"StudyData\", $O$2, \"BAR\", \"\", \"Time\", $O$4,-$A111,$O$6,$O$10, \"\",\"False\",\"T\")","v":"2023-05-03"},{"$f":" RTD(\"cqg.rtd\",,\"StudyData\", $O$2, \"BAR\", \"\", \"Open\", $O$4, -$A111, $O$6,$O$10,,$O$8,$O$12)","v":4226.75},{"$f":" RTD(\"cqg.rtd\",,\"StudyData\", $O$2, \"BAR\", \"\", \"High\", $O$4, -$A111, $O$6,$O$10,,$O$8,$O$12)","v":4260.5},{"$f":" RTD(\"cqg.rtd\",,\"StudyData\", $O$2, \"BAR\", \"\", \"Low\", $O$4, -$A111, $O$6,$O$10,,$O$8,$O$12)","v":4188.5},{"$f":" RTD(\"cqg.rtd\",,\"StudyData\", $O$2, \"BAR\", \"\", \"Close\", $O$4, -$A111, $O$6,$O$10,,$O$8,$O$12)","v":4201},{"$f":" RTD(\"cqg.rtd\",,\"StudyData\",$O$2, \"ImpVol\",, \"MIVClose\",$O$4,-A111,$O$6,$O$10,,$O$8,$O$12)","v":15.78}]
[110,{"$f":" RTD(\"cqg.rtd\",,\"StudyData\", $O$2, \"BAR\", \"\", \"Time\", $O$4,-$A112,$O$6,$O$10, \"\",\"False\",\"T\")","v":"2023-05-02"},{"$f":" RTD(\"cqg.rtd\",,\"StudyData\", $O$2, \"BAR\", \"\", \"Open\", $O$4, -$A112, $O$6,$O$10,,$O$8,$O$12)","v":4273},{"$f":" RTD(\"cqg.rtd\",,\"StudyData\", $O$2, \"BAR\", \"\", \"High\", $O$4, -$A112, $O$6,$O$10,,$O$8,$O$12)","v":4285},{"$f":" RTD(\"cqg.rtd\",,\"StudyData\", $O$2, \"BAR\", \"\", \"Low\", $O$4, -$A112, $O$6,$O$10,,$O$8,$O$12)","v":4199},{"$f":" RTD(\"cqg.rtd\",,\"StudyData\", $O$2, \"BAR\", \"\", \"Close\", $O$4, -$A112, $O$6,$O$10,,$O$8,$O$12)","v":4230.25},{"$f":" RTD(\"cqg.rtd\",,\"StudyData\",$O$2, \"ImpVol\",, \"MIVClose\",$O$4,-A112,$O$6,$O$10,,$O$8,$O$12)","v":15.07}]
[111,{"$f":" RTD(\"cqg.rtd\",,\"StudyData\", $O$2, \"BAR\", \"\", \"Time\", $O$4,-$A113,$O$6,$O$10, \"\",\"False\",\"T\")","v":"2023-05-01"},{"$f":" RTD(\"cqg.rtd\",,\"StudyData\", $O$2, \"BAR\", \"\", \"Open\", $O$4, -$A113, $O$6,$O$10,,$O$8,$O$12)","v":4283.5},{"$f":" RTD(\"cqg.rtd\",,\"StudyData\", $O$2, \"BAR\", \"\", \"High\", $O$4, -$A113, $O$6,$O$10,,$O$8,$O$12)","v":4299.75},{"$f":" RTD(\"cqg.rtd\",,\"StudyData\", $O$2, \"BAR\", \"\", \"Low\", $O$4, -$A113, $O$6,$O$10,,$O$8,$O$12)","v":4272},{"$f":" RTD(\"cqg.rtd\",,\"StudyData\", $O$2, \"BAR\", \"\", \"Close\", $O$4, -$A113, $O$6,$O$10,,$O$8,$O$12)","v":4279.25},{"$f":" RTD(\"cqg.rtd\",,\"StudyData\",$O$2, \"ImpVol\",, \"MIVClose\",$O$4,-A113,$O$6,$O$10,,$O$8,$O$12)","v":13.490000000000002}]
[112,{"$f":" RTD(\"cqg.rtd\",,\"StudyData\", $O$2, \"BAR\", \"\", \"Time\", $O$4,-$A114,$O$6,$O$10, \"\",\"False\",\"T\")","v":"2023-04-28"},{"$f":" RTD(\"cqg.rtd\",,\"StudyData\", $O$2, \"BAR\", \"\", \"Open\", $O$4, -$A114, $O$6,$O$10,,$O$8,$O$12)","v":4244.5},{"$f":" RTD(\"cqg.rtd\",,\"StudyData\", $O$2, \"BAR\", \"\", \"High\", $O$4, -$A114, $O$6,$O$10,,$O$8,$O$12)","v":4287.25},{"$f":" RTD(\"cqg.rtd\",,\"StudyData\", $O$2, \"BAR\", \"\", \"Low\", $O$4, -$A114, $O$6,$O$10,,$O$8,$O$12)","v":4225},{"$f":" RTD(\"cqg.rtd\",,\"StudyData\", $O$2, \"BAR\", \"\", \"Close\", $O$4, -$A114, $O$6,$O$10,,$O$8,$O$12)","v":4282},{"$f":" RTD(\"cqg.rtd\",,\"StudyData\",$O$2, \"ImpVol\",, \"MIVClose\",$O$4,-A114,$O$6,$O$10,,$O$8,$O$12)","v":13.56}]
[113,{"$f":" RTD(\"cqg.rtd\",,\"StudyData\", $O$2, \"BAR\", \"\", \"Time\", $O$4,-$A115,$O$6,$O$10, \"\",\"False\",\"T\")","v":"2023-04-27"},{"$f":" RTD(\"cqg.rtd\",,\"StudyData\", $O$2, \"BAR\", \"\", \"Open\", $O$4, -$A115, $O$6,$O$10,,$O$8,$O$12)","v":4179},{"$f":" RTD(\"cqg.rtd\",,\"StudyData\", $O$2, \"BAR\", \"\", \"High\", $O$4, -$A115, $O$6,$O$10,,$O$8,$O$12)","v":4260},{"$f":" RTD(\"cqg.rtd\",,\"StudyData\", $O$2, \"BAR\", \"\", \"Low\", $O$4, -$A115, $O$6,$O$10,,$O$8,$O$12)","v":4174.25},{"$f":" RTD(\"cqg.rtd\",,\"StudyData\", $O$2, \"BAR\", \"\", \"Close\", $O$4, -$A115, $O$6,$O$10,,$O$8,$O$12)","v":4247.25},{"$f":" RTD(\"cqg.rtd\",,\"StudyData\",$O$2, \"ImpVol\",, \"MIVClose\",$O$4,-A115,$O$6,$O$10,,$O$8,$O$12)","v":14.440000000000003}]
[114,{"$f":" RTD(\"cqg.rtd\",,\"StudyData\", $O$2, \"BAR\", \"\", \"Time\", $O$4,-$A116,$O$6,$O$10, \"\",\"False\",\"T\")","v":"2023-04-26"},{"$f":" RTD(\"cqg.rtd\",,\"StudyData\", $O$2, \"BAR\", \"\", \"Open\", $O$4, -$A116, $O$6,$O$10,,$O$8,$O$12)","v":4203.75},{"$f":" RTD(\"cqg.rtd\",,\"StudyData\", $O$2, \"BAR\", \"\", \"High\", $O$4, -$A116, $O$6,$O$10,,$O$8,$O$12)","v":4209.75},{"$f":" RTD(\"cqg.rtd\",,\"StudyData\", $O$2, \"BAR\", \"\", \"Low\", $O$4, -$A116, $O$6,$O$10,,$O$8,$O$12)","v":4162.25},{"$f":" RTD(\"cqg.rtd\",,\"StudyData\", $O$2, \"BAR\", \"\", \"Close\", $O$4, -$A116, $O$6,$O$10,,$O$8,$O$12)","v":4169.5},{"$f":" RTD(\"cqg.rtd\",,\"StudyData\",$O$2, \"ImpVol\",, \"MIVClose\",$O$4,-A116,$O$6,$O$10,,$O$8,$O$12)","v":16.34}]
[115,{"$f":" RTD(\"cqg.rtd\",,\"StudyData\", $O$2, \"BAR\", \"\", \"Time\", $O$4,-$A117,$O$6,$O$10, \"\",\"False\",\"T\")","v":"2023-04-25"},{"$f":" RTD(\"cqg.rtd\",,\"StudyData\", $O$2, \"BAR\", \"\", \"Open\", $O$4, -$A117, $O$6,$O$10,,$O$8,$O$12)","v":4250.75},{"$f":" RTD(\"cqg.rtd\",,\"StudyData\", $O$2, \"BAR\", \"\", \"High\", $O$4, -$A117, $O$6,$O$10,,$O$8,$O$12)","v":4252},{"$f":" RTD(\"cqg.rtd\",,\"StudyData\", $O$2, \"BAR\", \"\", \"Low\", $O$4, -$A117, $O$6,$O$10,,$O$8,$O$12)","v":4185},{"$f":" RTD(\"cqg.rtd\",,\"StudyData\", $O$2, \"BAR\", \"\", \"Close\", $O$4, -$A117, $O$6,$O$10,,$O$8,$O$12)","v":4186.75},{"$f":" RTD(\"cqg.rtd\",,\"StudyData\",$O$2, \"ImpVol\",, \"MIVClose\",$O$4,-A117,$O$6,$O$10,,$O$8,$O$12)","v":16.2}]
[116,{"$f":" RTD(\"cqg.rtd\",,\"StudyData\", $O$2, \"BAR\", \"\", \"Time\", $O$4,-$A118,$O$6,$O$10, \"\",\"False\",\"T\")","v":"2023-04-24"},{"$f":" RTD(\"cqg.rtd\",,\"StudyData\", $O$2, \"BAR\", \"\", \"Open\", $O$4, -$A118, $O$6,$O$10,,$O$8,$O$12)","v":4243.5},{"$f":" RTD(\"cqg.rtd\",,\"StudyData\", $O$2, \"BAR\", \"\", \"High\", $O$4, -$A118, $O$6,$O$10,,$O$8,$O$12)","v":4257.75},{"$f":" RTD(\"cqg.rtd\",,\"StudyData\", $O$2, \"BAR\", \"\", \"Low\", $O$4, -$A118, $O$6,$O$10,,$O$8,$O$12)","v":4227},{"$f":" RTD(\"cqg.rtd\",,\"StudyData\", $O$2, \"BAR\", \"\", \"Close\", $O$4, -$A118, $O$6,$O$10,,$O$8,$O$12)","v":4253},{"$f":" RTD(\"cqg.rtd\",,\"StudyData\",$O$2, \"ImpVol\",, \"MIVClose\",$O$4,-A118,$O$6,$O$10,,$O$8,$O$12)","v":14.295000000000002}]
[117,{"$f":" RTD(\"cqg.rtd\",,\"StudyData\", $O$2, \"BAR\", \"\", \"Time\", $O$4,-$A119,$O$6,$O$10, \"\",\"False\",\"T\")","v":"2023-04-21"},{"$f":" RTD(\"cqg.rtd\",,\"StudyData\", $O$2, \"BAR\", \"\", \"Open\", $O$4, -$A119, $O$6,$O$10,,$O$8,$O$12)","v":4247.25},{"$f":" RTD(\"cqg.rtd\",,\"StudyData\", $O$2, \"BAR\", \"\", \"High\", $O$4, -$A119, $O$6,$O$10,,$O$8,$O$12)","v":4254.5},{"$f":" RTD(\"cqg.rtd\",,\"StudyData\", $O$2, \"BAR\", \"\", \"Low\", $O$4, -$A119, $O$6,$O$10,,$O$8,$O$12)","v":4228.75},{"$f":" RTD(\"cqg.rtd\",,\"StudyData\", $O$2, \"BAR\", \"\", \"Close\", $O$4, -$A119, $O$6,$O$10,,$O$8,$O$12)","v":4250.25},{"$f":" RTD(\"cqg.rtd\",,\"StudyData\",$O$2, \"ImpVol\",, \"MIVClose\",$O$4,-A119,$O$6,$O$10,,$O$8,$O$12)","v":14.540000000000003}]
[118,{"$f":" RTD(\"cqg.rtd\",,\"StudyData\", $O$2, \"BAR\", \"\", \"Time\", $O$4,-$A120,$O$6,$O$10, \"\",\"False\",\"T\")","v":"2023-04-20"},{"$f":" RTD(\"cqg.rtd\",,\"StudyData\", $O$2, \"BAR\", \"\", \"Open\", $O$4, -$A120, $O$6,$O$10,,$O$8,$O$12)","v":4265.75},{"$f":" RTD(\"cqg.rtd\",,\"StudyData\", $O$2, \"BAR\", \"\", \"High\", $O$4, -$A120, $O$6,$O$10,,$O$8,$O$12)","v":4267},{"$f":" RTD(\"cqg.rtd\",,\"StudyData\", $O$2, \"BAR\", \"\", \"Low\", $O$4, -$A120, $O$6,$O$10,,$O$8,$O$12)","v":4230.5},{"$f":" RTD(\"cqg.rtd\",,\"StudyData\", $O$2, \"BAR\", \"\", \"Close\", $O$4, -$A120, $O$6,$O$10,,$O$8,$O$12)","v":4246},{"$f":" RTD(\"cqg.rtd\",,\"StudyData\",$O$2, \"ImpVol\",, \"MIVClose\",$O$4,-A120,$O$6,$O$10,,$O$8,$O$12)","v":14.719999999999999}]
[119,{"$f":" RTD(\"cqg.rtd\",,\"StudyData\", $O$2, \"BAR\", \"\", \"Time\", $O$4,-$A121,$O$6,$O$10, \"\",\"False\",\"T\")","v":"2023-04-19"},{"$f":" RTD(\"cqg.rtd\",,\"StudyData\", $O$2, \"BAR\", \"\", \"Open\", $O$4, -$A121, $O$6,$O$10,,$O$8,$O$12)","v":4269.5},{"$f":" RTD(\"cqg.rtd\",,\"StudyData\", $O$2, \"BAR\", \"\", \"High\", $O$4, -$A121, $O$6,$O$10,,$O$8,$O$12)","v":4281},{"$f":" RTD(\"cqg.rtd\",,\"StudyData\", $O$2, \"BAR\", \"\", \"Low\", $O$4, -$A121, $O$6,$O$10,,$O$8,$O$12)","v":4244},{"$f":" RTD(\"cqg.rtd\",,\"StudyData\", $O$2, \"BAR\", \"\", \"Close\", $O$4, -$A121, $O$6,$O$10,,$O$8,$O$12)","v":4272},{"$f":" RTD(\"cqg.rtd\",,\"StudyData\",$O$2, \"ImpVol\",, \"MIVClose\",$O$4,-A121,$O$6,$O$10,,$O$8,$O$12)","v":14.265000000000001}]
[120,{"$f":" RTD(\"cqg.rtd\",,\"StudyData\", $O$2, \"BAR\", \"\", \"Time\", $O$4,-$A122,$O$6,$O$10, \"\",\"False\",\"T\")","v":"2023-04-18"},{"$f":" RTD(\"cqg.rtd\",,\"StudyData\", $O$2, \"BAR\", \"\", \"Open\", $O$4, -$A122, $O$6,$O$10,,$O$8,$O$12)","v":4270.5},{"$f":" RTD(\"cqg.rtd\",,\"StudyData\", $O$2, \"BAR\", \"\", \"High\", $O$4, -$A122, $O$6,$O$10,,$O$8,$O$12)","v":4291.75},{"$f":" RTD(\"cqg.rtd\",,\"StudyData\", $O$2, \"BAR\", \"\", \"Low\", $O$4, -$A122, $O$6,$O$10,,$O$8,$O$12)","v":4258},{"$f":" RTD(\"cqg.rtd\",,\"StudyData\", $O$2, \"BAR\", \"\", \"Close\", $O$4, -$A122, $O$6,$O$10,,$O$8,$O$12)","v":4273.5},{"$f":" RTD(\"cqg.rtd\",,\"StudyData\",$O$2, \"ImpVol\",, \"MIVClose\",$O$4,-A122,$O$6,$O$10,,$O$8,$O$12)","v":14.305000000000001}]
[121,{"$f":" RTD(\"cqg.rtd\",,\"StudyData\", $O$2, \"BAR\", \"\", \"Time\", $O$4,-$A123,$O$6,$O$10, \"\",\"False\",\"T\")","v":"2023-04-17"},{"$f":" RTD(\"cqg.rtd\",,\"StudyData\", $O$2, \"BAR\", \"\", \"Open\", $O$4, -$A123, $O$6,$O$10,,$O$8,$O$12)","v":4267.75},{"$f":" RTD(\"cqg.rtd\",,\"StudyData\", $O$2, \"BAR\", \"\", \"High\", $O$4, -$A123, $O$6,$O$10,,$O$8,$O$12)","v":4274},{"$f":" RTD(\"cqg.rtd\",,\"StudyData\", $O$2, \"BAR\", \"\", \"Low\", $O$4, -$A123, $O$6,$O$10,,$O$8,$O$12)","v":4241.5},{"$f":" RTD(\"cqg.rtd\",,\"StudyData\", $O$2, \"BAR\", \"\", \"Close\", $O$4, -$A123, $O$6,$O$10,,$O$8,$O$12)","v":4270.25},{"$f":" RTD(\"cqg.rtd\",,\"StudyData\",$O$2, \"ImpVol\",, \"MIVClose\",$O$4,-A123,$O$6,$O$10,,$O$8,$O$12)","v":14.510000000000002}]
[122,{"$f":" RTD(\"cqg.rtd\",,\"StudyData\", $O$2, \"BAR\", \"\", \"Time\", $O$4,-$A124,$O$6,$O$10, \"\",\"False\",\"T\")","v":"2023-04-14"},{"$f":" RTD(\"cqg.rtd\",,\"StudyData\", $O$2, \"BAR\", \"\", \"Open\", $O$4, -$A124, $O$6,$O$10,,$O$8,$O$12)","v":4262.25},{"$f":" RTD(\"cqg.rtd\",,\"StudyData\", $O$2, \"BAR\", \"\", \"High\", $O$4, -$A124, $O$6,$O$10,,$O$8,$O$12)","v":4282.5},{"$f":" RTD(\"cqg.rtd\",,\"StudyData\", $O$2, \"BAR\", \"\", \"Low\", $O$4, -$A124, $O$6,$O$10,,$O$8,$O$12)","v":4231.5},{"$f":" RTD(\"cqg.rtd\",,\"StudyData\", $O$2, \"BAR\", \"\", \"Close\", $O$4, -$A124, $O$6,$O$10,,$O$8,$O$12)","v":4257.25},{"$f":" RTD(\"cqg.rtd\",,\"StudyData\",$O$2, \"ImpVol\",, \"MIVClose\",$O$4,-A124,$O$6,$O$10,,$O$8,$O$12)","v":15.155000000000001}]
[123,{"$f":" RTD(\"cqg.rtd\",,\"StudyData\", $O$2, \"BAR\", \"\", \"Time\", $O$4,-$A125,$O$6,$O$10, \"\",\"False\",\"T\")","v":"2023-04-13"},{"$f":" RTD(\"cqg.rtd\",,\"StudyData\", $O$2, \"BAR\", \"\", \"Open\", $O$4, -$A125, $O$6,$O$10,,$O$8,$O$12)","v":4211},{"$f":" RTD(\"cqg.rtd\",,\"StudyData\", $O$2, \"BAR\", \"\", \"High\", $O$4, -$A125, $O$6,$O$10,,$O$8,$O$12)","v":4270.5},{"$f":" RTD(\"cqg.rtd\",,\"StudyData\", $O$2, \"BAR\", \"\", \"Low\", $O$4, -$A125, $O$6,$O$10,,$O$8,$O$12)","v":4203.75},{"$f":" RTD(\"cqg.rtd\",,\"StudyData\", $O$2, \"BAR\", \"\", \"Close\", $O$4, -$A125, $O$6,$O$10,,$O$8,$O$12)","v":4266.25},{"$f":" RTD(\"cqg.rtd\",,\"StudyData\",$O$2, \"ImpVol\",, \"MIVClose\",$O$4,-A125,$O$6,$O$10,,$O$8,$O$12)","v":15.7}]
[124,{"$f":" RTD(\"cqg.rtd\",,\"StudyData\", $O$2, \"BAR\", \"\", \"Time\", $O$4,-$A126,$O$6,$O$10, \"\",\"False\",\"T\")","v":"2023-04-12"},{"$f":" RTD(\"cqg.rtd\",,\"StudyData\", $O$2, \"BAR\", \"\", \"Open\", $O$4, -$A126, $O$6,$O$10,,$O$8,$O$12)","v":4231},{"$f":" RTD(\"cqg.rtd\",,\"StudyData\", $O$2, \"BAR\", \"\", \"High\", $O$4, -$A126, $O$6,$O$10,,$O$8,$O$12)","v":4271.25},{"$f":" RTD(\"cqg.rtd\",,\"StudyData\", $O$2, \"BAR\", \"\", \"Low\", $O$4, -$A126, $O$6,$O$10,,$O$8,$O$12)","v":4207},{"$f":" RTD(\"cqg.rtd\",,\"StudyData\", $O$2, \"BAR\", \"\", \"Close\", $O$4, -$A126, $O$6,$O$10,,$O$8,$O$12)","v":4212.5},{"$f":" RTD(\"cqg.rtd\",,\"StudyData\",$O$2, \"ImpVol\",, \"MIVClose\",$O$4,-A126,$O$6,$O$10,,$O$8,$O$12)","v":16.57}]
[125,{"$f":" RTD(\"cqg.rtd\",,\"StudyData\", $O$2, \"BAR\", \"\", \"Time\", $O$4,-$A127,$O$6,$O$10, \"\",\"False\",\"T\")","v":"2023-04-11"},{"$f":" RTD(\"cqg.rtd\",,\"StudyData\", $O$2, \"BAR\", \"\", \"Open\", $O$4, -$A127, $O$6,$O$10,,$O$8,$O$12)","v":4232},{"$f":" RTD(\"cqg.rtd\",,\"StudyData\", $O$2, \"BAR\", \"\", \"High\", $O$4, -$A127, $O$6,$O$10,,$O$8,$O$12)","v":4245.25},{"$f":" RTD(\"cqg.rtd\",,\"StudyData\", $O$2, \"BAR\", \"\", \"Low\", $O$4, -$A127, $O$6,$O$10,,$O$8,$O$12)","v":4222.25},{"$f":" RTD(\"cqg.rtd\",,\"StudyData\", $O$2, \"BAR\", \"\", \"Close\", $O$4, -$A127, $O$6,$O$10,,$O$8,$O$12)","v":4230},{"$f":" RTD(\"cqg.rtd\",,\"StudyData\",$O$2, \"ImpVol\",, \"MIVClose\",$O$4,-A127,$O$6,$O$10,,$O$8,$O$12)","v":16.565000000000001}]
[126,{"$f":" RTD(\"cqg.rtd\",,\"StudyData\", $O$2, \"BAR\", \"\", \"Time\", $O$4,-$A128,$O$6,$O$10, \"\",\"False\",\"T\")","v":"2023-04-10"},{"$f":" RTD(\"cqg.rtd\",,\"StudyData\", $O$2, \"BAR\", \"\", \"Open\", $O$4, -$A128, $O$6,$O$10,,$O$8,$O$12)","v":4232.5},{"$f":" RTD(\"cqg.rtd\",,\"StudyData\", $O$2, \"BAR\", \"\", \"High\", $O$4, -$A128, $O$6,$O$10,,$O$8,$O$12)","v":4236.5},{"$f":" RTD(\"cqg.rtd\",,\"StudyData\", $O$2, \"BAR\", \"\", \"Low\", $O$4, -$A128, $O$6,$O$10,,$O$8,$O$12)","v":4192.25},{"$f":" RTD(\"cqg.rtd\",,\"StudyData\", $O$2, \"BAR\", \"\", \"Close\", $O$4, -$A128, $O$6,$O$10,,$O$8,$O$12)","v":4229.75},{"$f":" RTD(\"cqg.rtd\",,\"StudyData\",$O$2, \"ImpVol\",, \"MIVClose\",$O$4,-A128,$O$6,$O$10,,$O$8,$O$12)","v":16.515000000000001}]
[127,{"$f":" RTD(\"cqg.rtd\",,\"StudyData\", $O$2, \"BAR\", \"\", \"Time\", $O$4,-$A129,$O$6,$O$10, \"\",\"False\",\"T\")","v":"2023-04-07"},{"$f":" RTD(\"cqg.rtd\",,\"StudyData\", $O$2, \"BAR\", \"\", \"Open\", $O$4, -$A129, $O$6,$O$10,,$O$8,$O$12)","v":4222.5},{"$f":" RTD(\"cqg.rtd\",,\"StudyData\", $O$2, \"BAR\", \"\", \"High\", $O$4, -$A129, $O$6,$O$10,,$O$8,$O$12)","v":4240.25},{"$f":" RTD(\"cqg.rtd\",,\"StudyData\", $O$2, \"BAR\", \"\", \"Low\", $O$4, -$A129, $O$6,$O$10,,$O$8,$O$12)","v":4214.5},{"$f":" RTD(\"cqg.rtd\",,\"StudyData\", $O$2, \"BAR\", \"\", \"Close\", $O$4, -$A129, $O$6,$O$10,,$O$8,$O$12)","v":4225.5},{"$f":" RTD(\"cqg.rtd\",,\"StudyData\",$O$2, \"ImpVol\",, \"MIVClose\",$O$4,-A129,$O$6,$O$10,,$O$8,$O$12)","v":16.895000000000003}]
[128,{"$f":" RTD(\"cqg.rtd\",,\"StudyData\", $O$2, \"BAR\", \"\", \"Time\", $O$4,-$A130,$O$6,$O$10, \"\",\"False\",\"T\")","v":"2023-04-06"},{"$f":" RTD(\"cqg.rtd\",,\"StudyData\", $O$2, \"BAR\", \"\", \"Open\", $O$4, -$A130, $O$6,$O$10,,$O$8,$O$12)","v":4207.25},{"$f":" RTD(\"cqg.rtd\",,\"StudyData\", $O$2, \"BAR\", \"\", \"High\", $O$4, -$A130, $O$6,$O$10,,$O$8,$O$12)","v":4228.75},{"$f":" RTD(\"cqg.rtd\",,\"StudyData\", $O$2, \"BAR\", \"\", \"Low\", $O$4, -$A130, $O$6,$O$10,,$O$8,$O$12)","v":4190},{"$f":" RTD(\"cqg.rtd\",,\"StudyData\", $O$2, \"BAR\", \"\", \"Close\", $O$4, -$A130, $O$6,$O$10,,$O$8,$O$12)","v":4225.5},{"$f":" RTD(\"cqg.rtd\",,\"StudyData\",$O$2, \"ImpVol\",, \"MIVClose\",$O$4,-A130,$O$6,$O$10,,$O$8,$O$12)","v":16.895000000000003}]
[129,{"$f":" RTD(\"cqg.rtd\",,\"StudyData\", $O$2, \"BAR\", \"\", \"Time\", $O$4,-$A131,$O$6,$O$10, \"\",\"False\",\"T\")","v":"2023-04-05"},{"$f":" RTD(\"cqg.rtd\",,\"StudyData\", $O$2, \"BAR\", \"\", \"Open\", $O$4, -$A131, $O$6,$O$10,,$O$8,$O$12)","v":4227.5},{"$f":" RTD(\"cqg.rtd\",,\"StudyData\", $O$2, \"BAR\", \"\", \"High\", $O$4, -$A131, $O$6,$O$10,,$O$8,$O$12)","v":4229},{"$f":" RTD(\"cqg.rtd\",,\"StudyData\", $O$2, \"BAR\", \"\", \"Low\", $O$4, -$A131, $O$6,$O$10,,$O$8,$O$12)","v":4192.5},{"$f":" RTD(\"cqg.rtd\",,\"StudyData\", $O$2, \"BAR\", \"\", \"Close\", $O$4, -$A131, $O$6,$O$10,,$O$8,$O$12)","v":4210.75},{"$f":" RTD(\"cqg.rtd\",,\"StudyData\",$O$2, \"ImpVol\",, \"MIVClose\",$O$4,-A131,$O$6,$O$10,,$O$8,$O$12)","v":17.044999999999998}]
[{"$f":"A131+1","v":130},{"$f":" RTD(\"cqg.rtd\",,\"StudyData\", $O$2, \"BAR\", \"\", \"Time\", $O$4,-$A132,$O$6,$O$10, \"\",\"False\",\"T\")","v":"2023-04-04"},{"$f":" RTD(\"cqg.rtd\",,\"StudyData\", $O$2, \"BAR\", \"\", \"Open\", $O$4, -$A132, $O$6,$O$10,,$O$8,$O$12)","v":4246},{"$f":" RTD(\"cqg.rtd\",,\"StudyData\", $O$2, \"BAR\", \"\", \"High\", $O$4, -$A132, $O$6,$O$10,,$O$8,$O$12)","v":4265.25},{"$f":" RTD(\"cqg.rtd\",,\"StudyData\", $O$2, \"BAR\", \"\", \"Low\", $O$4, -$A132, $O$6,$O$10,,$O$8,$O$12)","v":4208.75},{"$f":" RTD(\"cqg.rtd\",,\"StudyData\", $O$2, \"BAR\", \"\", \"Close\", $O$4, -$A132, $O$6,$O$10,,$O$8,$O$12)","v":4222.5},{"$f":" RTD(\"cqg.rtd\",,\"StudyData\",$O$2, \"ImpVol\",, \"MIVClose\",$O$4,-A132,$O$6,$O$10,,$O$8,$O$12)","v":16.82}]
[131,{"$f":" RTD(\"cqg.rtd\",,\"StudyData\", $O$2, \"BAR\", \"\", \"Time\", $O$4,-$A133,$O$6,$O$10, \"\",\"False\",\"T\")","v":"2023-04-03"},{"$f":" RTD(\"cqg.rtd\",,\"StudyData\", $O$2, \"BAR\", \"\", \"Open\", $O$4, -$A133, $O$6,$O$10,,$O$8,$O$12)","v":4220.5},{"$f":" RTD(\"cqg.rtd\",,\"StudyData\", $O$2, \"BAR\", \"\", \"High\", $O$4, -$A133, $O$6,$O$10,,$O$8,$O$12)","v":4251.25},{"$f":" RTD(\"cqg.rtd\",,\"StudyData\", $O$2, \"BAR\", \"\", \"Low\", $O$4, -$A133, $O$6,$O$10,,$O$8,$O$12)","v":4216.25},{"$f":" RTD(\"cqg.rtd\",,\"StudyData\", $O$2, \"BAR\", \"\", \"Close\", $O$4, -$A133, $O$6,$O$10,,$O$8,$O$12)","v":4247.25},{"$f":" RTD(\"cqg.rtd\",,\"StudyData\",$O$2, \"ImpVol\",, \"MIVClose\",$O$4,-A133,$O$6,$O$10,,$O$8,$O$12)","v":16.420000000000002}]
[132,{"$f":" RTD(\"cqg.rtd\",,\"StudyData\", $O$2, \"BAR\", \"\", \"Time\", $O$4,-$A134,$O$6,$O$10, \"\",\"False\",\"T\")","v":"2023-03-31"},{"$f":" RTD(\"cqg.rtd\",,\"StudyData\", $O$2, \"BAR\", \"\", \"Open\", $O$4, -$A134, $O$6,$O$10,,$O$8,$O$12)","v":4174.5},{"$f":" RTD(\"cqg.rtd\",,\"StudyData\", $O$2, \"BAR\", \"\", \"High\", $O$4, -$A134, $O$6,$O$10,,$O$8,$O$12)","v":4236},{"$f":" RTD(\"cqg.rtd\",,\"StudyData\", $O$2, \"BAR\", \"\", \"Low\", $O$4, -$A134, $O$6,$O$10,,$O$8,$O$12)","v":4171.5},{"$f":" RTD(\"cqg.rtd\",,\"StudyData\", $O$2, \"BAR\", \"\", \"Close\", $O$4, -$A134, $O$6,$O$10,,$O$8,$O$12)","v":4231.25},{"$f":" RTD(\"cqg.rtd\",,\"StudyData\",$O$2, \"ImpVol\",, \"MIVClose\",$O$4,-A134,$O$6,$O$10,,$O$8,$O$12)","v":17.105}]
[133,{"$f":" RTD(\"cqg.rtd\",,\"StudyData\", $O$2, \"BAR\", \"\", \"Time\", $O$4,-$A135,$O$6,$O$10, \"\",\"False\",\"T\")","v":"2023-03-30"},{"$f":" RTD(\"cqg.rtd\",,\"StudyData\", $O$2, \"BAR\", \"\", \"Open\", $O$4, -$A135, $O$6,$O$10,,$O$8,$O$12)","v":4151.5},{"$f":" RTD(\"cqg.rtd\",,\"StudyData\", $O$2, \"BAR\", \"\", \"High\", $O$4, -$A135, $O$6,$O$10,,$O$8,$O$12)","v":4181.25},{"$f":" RTD(\"cqg.rtd\",,\"StudyData\", $O$2, \"BAR\", \"\", \"Low\", $O$4, -$A135, $O$6,$O$10,,$O$8,$O$12)","v":4146},{"$f":" RTD(\"cqg.rtd\",,\"StudyData\", $O$2, \"BAR\", \"\", \"Close\", $O$4, -$A135, $O$6,$O$10,,$O$8,$O$12)","v":4173.5},{"$f":" RTD(\"cqg.rtd\",,\"StudyData\",$O$2, \"ImpVol\",, \"MIVClose\",$O$4,-A135,$O$6,$O$10,,$O$8,$O$12)","v":17.415000000000003}]
[134,{"$f":" RTD(\"cqg.rtd\",,\"StudyData\", $O$2, \"BAR\", \"\", \"Time\", $O$4,-$A136,$O$6,$O$10, \"\",\"False\",\"T\")","v":"2023-03-29"},{"$f":" RTD(\"cqg.rtd\",,\"StudyData\", $O$2, \"BAR\", \"\", \"Open\", $O$4, -$A136, $O$6,$O$10,,$O$8,$O$12)","v":4100},{"$f":" RTD(\"cqg.rtd\",,\"StudyData\", $O$2, \"BAR\", \"\", \"High\", $O$4, -$A136, $O$6,$O$10,,$O$8,$O$12)","v":4154.75},{"$f":" RTD(\"cqg.rtd\",,\"StudyData\", $O$2, \"BAR\", \"\", \"Low\", $O$4, -$A136, $O$6,$O$10,,$O$8,$O$12)","v":4099.5},{"$f":" RTD(\"cqg.rtd\",,\"StudyData\", $O$2, \"BAR\", \"\", \"Close\", $O$4, -$A136, $O$6,$O$10,,$O$8,$O$12)","v":4151},{"$f":" RTD(\"cqg.rtd\",,\"StudyData\",$O$2, \"ImpVol\",, \"MIVClose\",$O$4,-A136,$O$6,$O$10,,$O$8,$O$12)","v":17.62}]
[135,{"$f":" RTD(\"cqg.rtd\",,\"StudyData\", $O$2, \"BAR\", \"\", \"Time\", $O$4,-$A137,$O$6,$O$10, \"\",\"False\",\"T\")","v":"2023-03-28"},{"$f":" RTD(\"cqg.rtd\",,\"StudyData\", $O$2, \"BAR\", \"\", \"Open\", $O$4, -$A137, $O$6,$O$10,,$O$8,$O$12)","v":4107},{"$f":" RTD(\"cqg.rtd\",,\"StudyData\", $O$2, \"BAR\", \"\", \"High\", $O$4, -$A137, $O$6,$O$10,,$O$8,$O$12)","v":4117.25},{"$f":" RTD(\"cqg.rtd\",,\"StudyData\", $O$2, \"BAR\", \"\", \"Low\", $O$4, -$A137, $O$6,$O$10,,$O$8,$O$12)","v":4074.25},{"$f":" RTD(\"cqg.rtd\",,\"StudyData\", $O$2, \"BAR\", \"\", \"Close\", $O$4, -$A137, $O$6,$O$10,,$O$8,$O$12)","v":4095},{"$f":" RTD(\"cqg.rtd\",,\"StudyData\",$O$2, \"ImpVol\",, \"MIVClose\",$O$4,-A137,$O$6,$O$10,,$O$8,$O$12)","v":18.255000000000003}]
[136,{"$f":" RTD(\"cqg.rtd\",,\"StudyData\", $O$2, \"BAR\", \"\", \"Time\", $O$4,-$A138,$O$6,$O$10, \"\",\"False\",\"T\")","v":"2023-03-27"},{"$f":" RTD(\"cqg.rtd\",,\"StudyData\", $O$2, \"BAR\", \"\", \"Open\", $O$4, -$A138, $O$6,$O$10,,$O$8,$O$12)","v":4101.5},{"$f":" RTD(\"cqg.rtd\",,\"StudyData\", $O$2, \"BAR\", \"\", \"High\", $O$4, -$A138, $O$6,$O$10,,$O$8,$O$12)","v":4127.75},{"$f":" RTD(\"cqg.rtd\",,\"StudyData\", $O$2, \"BAR\", \"\", \"Low\", $O$4, -$A138, $O$6,$O$10,,$O$8,$O$12)","v":4091},{"$f":" RTD(\"cqg.rtd\",,\"StudyData\", $O$2, \"BAR\", \"\", \"Close\", $O$4, -$A138, $O$6,$O$10,,$O$8,$O$12)","v":4100.75},{"$f":" RTD(\"cqg.rtd\",,\"StudyData\",$O$2, \"ImpVol\",, \"MIVClose\",$O$4,-A138,$O$6,$O$10,,$O$8,$O$12)","v":18.585000000000001}]
[137,{"$f":" RTD(\"cqg.rtd\",,\"StudyData\", $O$2, \"BAR\", \"\", \"Time\", $O$4,-$A139,$O$6,$O$10, \"\",\"False\",\"T\")","v":"2023-03-24"},{"$f":" RTD(\"cqg.rtd\",,\"StudyData\", $O$2, \"BAR\", \"\", \"Open\", $O$4, -$A139, $O$6,$O$10,,$O$8,$O$12)","v":4082.25},{"$f":" RTD(\"cqg.rtd\",,\"StudyData\", $O$2, \"BAR\", \"\", \"High\", $O$4, -$A139, $O$6,$O$10,,$O$8,$O$12)","v":4104.25},{"$f":" RTD(\"cqg.rtd\",,\"StudyData\", $O$2, \"BAR\", \"\", \"Low\", $O$4, -$A139, $O$6,$O$10,,$O$8,$O$12)","v":4030.5},{"$f":" RTD(\"cqg.rtd\",,\"StudyData\", $O$2, \"BAR\", \"\", \"Close\", $O$4, -$A139, $O$6,$O$10,,$O$8,$O$12)","v":4094.75},{"$f":" RTD(\"cqg.rtd\",,\"StudyData\",$O$2, \"ImpVol\",, \"MIVClose\",$O$4,-A139,$O$6,$O$10,,$O$8,$O$12)","v":19.414999999999999}]
[138,{"$f":" RTD(\"cqg.rtd\",,\"StudyData\", $O$2, \"BAR\", \"\", \"Time\", $O$4,-$A140,$O$6,$O$10, \"\",\"False\",\"T\")","v":"2023-03-23"},{"$f":" RTD(\"cqg.rtd\",,\"StudyData\", $O$2, \"BAR\", \"\", \"Open\", $O$4, -$A140, $O$6,$O$10,,$O$8,$O$12)","v":4066.25},{"$f":" RTD(\"cqg.rtd\",,\"StudyData\", $O$2, \"BAR\", \"\", \"High\", $O$4, -$A140, $O$6,$O$10,,$O$8,$O$12)","v":4133},{"$f":" RTD(\"cqg.rtd\",,\"StudyData\", $O$2, \"BAR\", \"\", \"Low\", $O$4, -$A140, $O$6,$O$10,,$O$8,$O$12)","v":4042},{"$f":" RTD(\"cqg.rtd\",,\"StudyData\", $O$2, \"BAR\", \"\", \"Close\", $O$4, -$A140, $O$6,$O$10,,$O$8,$O$12)","v":4071.5},{"$f":" RTD(\"cqg.rtd\",,\"StudyData\",$O$2, \"ImpVol\",, \"MIVClose\",$O$4,-A140,$O$6,$O$10,,$O$8,$O$12)","v":20.07}]
[139,{"$f":" RTD(\"cqg.rtd\",,\"StudyData\", $O$2, \"BAR\", \"\", \"Time\", $O$4,-$A141,$O$6,$O$10, \"\",\"False\",\"T\")","v":"2023-03-22"},{"$f":" RTD(\"cqg.rtd\",,\"StudyData\", $O$2, \"BAR\", \"\", \"Open\", $O$4, -$A141, $O$6,$O$10,,$O$8,$O$12)","v":4132.25},{"$f":" RTD(\"cqg.rtd\",,\"StudyData\", $O$2, \"BAR\", \"\", \"High\", $O$4, -$A141, $O$6,$O$10,,$O$8,$O$12)","v":4167.25},{"$f":" RTD(\"cqg.rtd\",,\"StudyData\", $O$2, \"BAR\", \"\", \"Low\", $O$4, -$A141, $O$6,$O$10,,$O$8,$O$12)","v":4059.75},{"$f":" RTD(\"cqg.rtd\",,\"StudyData\", $O$2, \"BAR\", \"\", \"Close\", $O$4, -$A141, $O$6,$O$10,,$O$8,$O$12)","v":4064},{"$f":" RTD(\"cqg.rtd\",,\"StudyData\",$O$2, \"ImpVol\",, \"MIVClose\",$O$4,-A141,$O$6,$O$10,,$O$8,$O$12)","v":19.785000000000004}]
[140,{"$f":" RTD(\"cqg.rtd\",,\"StudyData\", $O$2, \"BAR\", \"\", \"Time\", $O$4,-$A142,$O$6,$O$10, \"\",\"False\",\"T\")","v":"2023-03-21"},{"$f":" RTD(\"cqg.rtd\",,\"StudyData\", $O$2, \"BAR\", \"\", \"Open\", $O$4, -$A142, $O$6,$O$10,,$O$8,$O$12)","v":4080},{"$f":" RTD(\"cqg.rtd\",,\"StudyData\", $O$2, \"BAR\", \"\", \"High\", $O$4, -$A142, $O$6,$O$10,,$O$8,$O$12)","v":4136.75},{"$f":" RTD(\"cqg.rtd\",,\"StudyData\", $O$2, \"BAR\", \"\", \"Low\", $O$4, -$A142, $O$6,$O$10,,$O$8,$O$12)","v":4075.25},{"$f":" RTD(\"cqg.rtd\",,\"StudyData\", $O$2, \"BAR\", \"\", \"Close\", $O$4, -$A142, $O$6,$O$10,,$O$8,$O$12)","v":4129.25},{"$f":" RTD(\"cqg.rtd\",,\"StudyData\",$O$2, \"ImpVol\",, \"MIVClose\",$O$4,-A142,$O$6,$O$10,,$O$8,$O$12)","v":18.77}]
[141,{"$f":" RTD(\"cqg.rtd\",,\"StudyData\", $O$2, \"BAR\", \"\", \"Time\", $O$4,-$A143,$O$6,$O$10, \"\",\"False\",\"T\")","v":"2023-03-20"},{"$f":" RTD(\"cqg.rtd\",,\"StudyData\", $O$2, \"BAR\", \"\", \"Open\", $O$4, -$A143, $O$6,$O$10,,$O$8,$O$12)","v":4057.25},{"$f":" RTD(\"cqg.rtd\",,\"StudyData\", $O$2, \"BAR\", \"\", \"High\", $O$4, -$A143, $O$6,$O$10,,$O$8,$O$12)","v":4083},{"$f":" RTD(\"cqg.rtd\",,\"StudyData\", $O$2, \"BAR\", \"\", \"Low\", $O$4, -$A143, $O$6,$O$10,,$O$8,$O$12)","v":3990.75},{"$f":" RTD(\"cqg.rtd\",,\"StudyData\", $O$2, \"BAR\", \"\", \"Close\", $O$4, -$A143, $O$6,$O$10,,$O$8,$O$12)","v":4076.5},{"$f":" RTD(\"cqg.rtd\",,\"StudyData\",$O$2, \"ImpVol\",, \"MIVClose\",$O$4,-A143,$O$6,$O$10,,$O$8,$O$12)","v":20.130000000000003}]
[142,{"$f":" RTD(\"cqg.rtd\",,\"StudyData\", $O$2, \"BAR\", \"\", \"Time\", $O$4,-$A144,$O$6,$O$10, \"\",\"False\",\"T\")","v":"2023-03-17"},{"$f":" RTD(\"cqg.rtd\",,\"StudyData\", $O$2, \"BAR\", \"\", \"Open\", $O$4, -$A144, $O$6,$O$10,,$O$8,$O$12)","v":4088.5},{"$f":" RTD(\"cqg.rtd\",,\"StudyData\", $O$2, \"BAR\", \"\", \"High\", $O$4, -$A144, $O$6,$O$10,,$O$8,$O$12)","v":4102.75},{"$f":" RTD(\"cqg.rtd\",,\"StudyData\", $O$2, \"BAR\", \"\", \"Low\", $O$4, -$A144, $O$6,$O$10,,$O$8,$O$12)","v":4026},{"$f":" RTD(\"cqg.rtd\",,\"StudyData\", $O$2, \"BAR\", \"\", \"Close\", $O$4, -$A144, $O$6,$O$10,,$O$8,$O$12)","v":4040.5},{"$f":" RTD(\"cqg.rtd\",,\"StudyData\",$O$2, \"ImpVol\",, \"MIVClose\",$O$4,-A144,$O$6,$O$10,,$O$8,$O$12)","v":21.365000000000002}]
[143,{"$f":" RTD(\"cqg.rtd\",,\"StudyData\", $O$2, \"BAR\", \"\", \"Time\", $O$4,-$A145,$O$6,$O$10, \"\",\"False\",\"T\")","v":"2023-03-16"},{"$f":" RTD(\"cqg.rtd\",,\"StudyData\", $O$2, \"BAR\", \"\", \"Open\", $O$4, -$A145, $O$6,$O$10,,$O$8,$O$12)","v":4018.25},{"$f":" RTD(\"cqg.rtd\",,\"StudyData\", $O$2, \"BAR\", \"\", \"High\", $O$4, -$A145, $O$6,$O$10,,$O$8,$O$12)","v":4093.5},{"$f":" RTD(\"cqg.rtd\",,\"StudyData\", $O$2, \"BAR\", \"\", \"Low\", $O$4, -$A145, $O$6,$O$10,,$O$8,$O$12)","v":3988.5},{"$f":" RTD(\"cqg.rtd\",,\"StudyData\", $O$2, \"BAR\", \"\", \"Close\", $O$4, -$A145, $O$6,$O$10,,$O$8,$O$12)","v":4088},{"$f":" RTD(\"cqg.rtd\",,\"StudyData\",$O$2, \"ImpVol\",, \"MIVClose\",$O$4,-A145,$O$6,$O$10,,$O$8,$O$12)","v":19.400000000000002}]
[144,{"$f":" RTD(\"cqg.rtd\",,\"StudyData\", $O$2, \"BAR\", \"\", \"Time\", $O$4,-$A146,$O$6,$O$10, \"\",\"False\",\"T\")","v":"2023-03-15"},{"$f":" RTD(\"cqg.rtd\",,\"StudyData\", $O$2, \"BAR\", \"\", \"Open\", $O$4, -$A146, $O$6,$O$10,,$O$8,$O$12)","v":4047.25},{"$f":" RTD(\"cqg.rtd\",,\"StudyData\", $O$2, \"BAR\", \"\", \"High\", $O$4, -$A146, $O$6,$O$10,,$O$8,$O$12)","v":4057.5},{"$f":" RTD(\"cqg.rtd\",,\"StudyData\", $O$2, \"BAR\", \"\", \"Low\", $O$4, -$A146, $O$6,$O$10,,$O$8,$O$12)","v":3958.5},{"$f":" RTD(\"cqg.rtd\",,\"StudyData\", $O$2, \"BAR\", \"\", \"Close\", $O$4, -$A146, $O$6,$O$10,,$O$8,$O$12)","v":4018.5},{"$f":" RTD(\"cqg.rtd\",,\"StudyData\",$O$2, \"ImpVol\",, \"MIVClose\",$O$4,-A146,$O$6,$O$10,,$O$8,$O$12)","v":21.045000000000002}]
[145,{"$f":" RTD(\"cqg.rtd\",,\"StudyData\", $O$2, \"BAR\", \"\", \"Time\", $O$4,-$A147,$O$6,$O$10, \"\",\"False\",\"T\")","v":"2023-03-14"},{"$f":" RTD(\"cqg.rtd\",,\"StudyData\", $O$2, \"BAR\", \"\", \"Open\", $O$4, -$A147, $O$6,$O$10,,$O$8,$O$12)","v":3990.75},{"$f":" RTD(\"cqg.rtd\",,\"StudyData\", $O$2, \"BAR\", \"\", \"High\", $O$4, -$A147, $O$6,$O$10,,$O$8,$O$12)","v":4066},{"$f":" RTD(\"cqg.rtd\",,\"StudyData\", $O$2, \"BAR\", \"\", \"Low\", $O$4, -$A147, $O$6,$O$10,,$O$8,$O$12)","v":3978.5},{"$f":" RTD(\"cqg.rtd\",,\"StudyData\", $O$2, \"BAR\", \"\", \"Close\", $O$4, -$A147, $O$6,$O$10,,$O$8,$O$12)","v":4047.75},{"$f":" RTD(\"cqg.rtd\",,\"StudyData\",$O$2, \"ImpVol\",, \"MIVClose\",$O$4,-A147,$O$6,$O$10,,$O$8,$O$12)","v":19.759999999999998}]
[146,{"$f":" RTD(\"cqg.rtd\",,\"StudyData\", $O$2, \"BAR\", \"\", \"Time\", $O$4,-$A148,$O$6,$O$10, \"\",\"False\",\"T\")","v":"2023-03-13"},{"$f":" RTD(\"cqg.rtd\",,\"StudyData\", $O$2, \"BAR\", \"\", \"Open\", $O$4, -$A148, $O$6,$O$10,,$O$8,$O$12)","v":4014},{"$f":" RTD(\"cqg.rtd\",,\"StudyData\", $O$2, \"BAR\", \"\", \"High\", $O$4, -$A148, $O$6,$O$10,,$O$8,$O$12)","v":4065},{"$f":" RTD(\"cqg.rtd\",,\"StudyData\", $O$2, \"BAR\", \"\", \"Low\", $O$4, -$A148, $O$6,$O$10,,$O$8,$O$12)","v":3932.75},{"$f":" RTD(\"cqg.rtd\",,\"StudyData\", $O$2, \"BAR\", \"\", \"Close\", $O$4, -$A148, $O$6,$O$10,,$O$8,$O$12)","v":3982.25},{"$f":" RTD(\"cqg.rtd\",,\"StudyData\",$O$2, \"ImpVol\",, \"MIVClose\",$O$4,-A148,$O$6,$O$10,,$O$8,$O$12)","v":21.135000000000002}]
[147,{"$f":" RTD(\"cqg.rtd\",,\"StudyData\", $O$2, \"BAR\", \"\", \"Time\", $O$4,-$A149,$O$6,$O$10, \"\",\"False\",\"T\")","v":"2023-03-10"},{"$f":" RTD(\"cqg.rtd\",,\"StudyData\", $O$2, \"BAR\", \"\", \"Open\", $O$4, -$A149, $O$6,$O$10,,$O$8,$O$12)","v":4048.5},{"$f":" RTD(\"cqg.rtd\",,\"StudyData\", $O$2, \"BAR\", \"\", \"High\", $O$4, -$A149, $O$6,$O$10,,$O$8,$O$12)","v":4071.75},{"$f":" RTD(\"cqg.rtd\",,\"StudyData\", $O$2, \"BAR\", \"\", \"Low\", $O$4, -$A149, $O$6,$O$10,,$O$8,$O$12)","v":3974.5},{"$f":" RTD(\"cqg.rtd\",,\"StudyData\", $O$2, \"BAR\", \"\", \"Close\", $O$4, -$A149, $O$6,$O$10,,$O$8,$O$12)","v":3991},{"$f":" RTD(\"cqg.rtd\",,\"StudyData\",$O$2, \"ImpVol\",, \"MIVClose\",$O$4,-A149,$O$6,$O$10,,$O$8,$O$12)","v":20.434999999999999}]
[148,{"$f":" RTD(\"cqg.rtd\",,\"StudyData\", $O$2, \"BAR\", \"\", \"Time\", $O$4,-$A150,$O$6,$O$10, \"\",\"False\",\"T\")","v":"2023-03-09"},{"$f":" RTD(\"cqg.rtd\",,\"StudyData\", $O$2, \"BAR\", \"\", \"Open\", $O$4, -$A150, $O$6,$O$10,,$O$8,$O$12)","v":4126.75},{"$f":" RTD(\"cqg.rtd\",,\"StudyData\", $O$2, \"BAR\", \"\", \"High\", $O$4, -$A150, $O$6,$O$10,,$O$8,$O$12)","v":4149.5},{"$f":" RTD(\"cqg.rtd\",,\"StudyData\", $O$2, \"BAR\", \"\", \"Low\", $O$4, -$A150, $O$6,$O$10,,$O$8,$O$12)","v":4039.25},{"$f":" RTD(\"cqg.rtd\",,\"StudyData\", $O$2, \"BAR\", \"\", \"Close\", $O$4, -$A150, $O$6,$O$10,,$O$8,$O$12)","v":4049.75},{"$f":" RTD(\"cqg.rtd\",,\"StudyData\",$O$2, \"ImpVol\",, \"MIVClose\",$O$4,-A150,$O$6,$O$10,,$O$8,$O$12)","v":19.32}]
[149,{"$f":" RTD(\"cqg.rtd\",,\"StudyData\", $O$2, \"BAR\", \"\", \"Time\", $O$4,-$A151,$O$6,$O$10, \"\",\"False\",\"T\")","v":"2023-03-08"},{"$f":" RTD(\"cqg.rtd\",,\"StudyData\", $O$2, \"BAR\", \"\", \"Open\", $O$4, -$A151, $O$6,$O$10,,$O$8,$O$12)","v":4119.75},{"$f":" RTD(\"cqg.rtd\",,\"StudyData\", $O$2, \"BAR\", \"\", \"High\", $O$4, -$A151, $O$6,$O$10,,$O$8,$O$12)","v":4133},{"$f":" RTD(\"cqg.rtd\",,\"StudyData\", $O$2, \"BAR\", \"\", \"Low\", $O$4, -$A151, $O$6,$O$10,,$O$8,$O$12)","v":4101.25},{"$f":" RTD(\"cqg.rtd\",,\"StudyData\", $O$2, \"BAR\", \"\", \"Close\", $O$4, -$A151, $O$6,$O$10,,$O$8,$O$12)","v":4124.75},{"$f":" RTD(\"cqg.rtd\",,\"StudyData\",$O$2, \"ImpVol\",, \"MIVClose\",$O$4,-A151,$O$6,$O$10,,$O$8,$O$12)","v":17.36}]
[150,{"$f":" RTD(\"cqg.rtd\",,\"StudyData\", $O$2, \"BAR\", \"\", \"Time\", $O$4,-$A152,$O$6,$O$10, \"\",\"False\",\"T\")","v":"2023-03-07"},{"$f":" RTD(\"cqg.rtd\",,\"StudyData\", $O$2, \"BAR\", \"\", \"Open\", $O$4, -$A152, $O$6,$O$10,,$O$8,$O$12)","v":4183.5},{"$f":" RTD(\"cqg.rtd\",,\"StudyData\", $O$2, \"BAR\", \"\", \"High\", $O$4, -$A152, $O$6,$O$10,,$O$8,$O$12)","v":4194.25},{"$f":" RTD(\"cqg.rtd\",,\"StudyData\", $O$2, \"BAR\", \"\", \"Low\", $O$4, -$A152, $O$6,$O$10,,$O$8,$O$12)","v":4112.25},{"$f":" RTD(\"cqg.rtd\",,\"StudyData\", $O$2, \"BAR\", \"\", \"Close\", $O$4, -$A152, $O$6,$O$10,,$O$8,$O$12)","v":4119.5},{"$f":" RTD(\"cqg.rtd\",,\"StudyData\",$O$2, \"ImpVol\",, \"MIVClose\",$O$4,-A152,$O$6,$O$10,,$O$8,$O$12)","v":17.754999999999999}]
[151,{"$f":" RTD(\"cqg.rtd\",,\"StudyData\", $O$2, \"BAR\", \"\", \"Time\", $O$4,-$A153,$O$6,$O$10, \"\",\"False\",\"T\")","v":"2023-03-06"},{"$f":" RTD(\"cqg.rtd\",,\"StudyData\", $O$2, \"BAR\", \"\", \"Open\", $O$4, -$A153, $O$6,$O$10,,$O$8,$O$12)","v":4179},{"$f":" RTD(\"cqg.rtd\",,\"StudyData\", $O$2, \"BAR\", \"\", \"High\", $O$4, -$A153, $O$6,$O$10,,$O$8,$O$12)","v":4212.25},{"$f":" RTD(\"cqg.rtd\",,\"StudyData\", $O$2, \"BAR\", \"\", \"Low\", $O$4, -$A153, $O$6,$O$10,,$O$8,$O$12)","v":4171.5},{"$f":" RTD(\"cqg.rtd\",,\"StudyData\", $O$2, \"BAR\", \"\", \"Close\", $O$4, -$A153, $O$6,$O$10,,$O$8,$O$12)","v":4182.25},{"$f":" RTD(\"cqg.rtd\",,\"StudyData\",$O$2, \"ImpVol\",, \"MIVClose\",$O$4,-A153,$O$6,$O$10,,$O$8,$O$12)","v":17.125}]
[152,{"$f":" RTD(\"cqg.rtd\",,\"StudyData\", $O$2, \"BAR\", \"\", \"Time\", $O$4,-$A154,$O$6,$O$10, \"\",\"False\",\"T\")","v":"2023-03-03"},{"$f":" RTD(\"cqg.rtd\",,\"StudyData\", $O$2, \"BAR\", \"\", \"Open\", $O$4, -$A154, $O$6,$O$10,,$O$8,$O$12)","v":4112.75},{"$f":" RTD(\"cqg.rtd\",,\"StudyData\", $O$2, \"BAR\", \"\", \"High\", $O$4, -$A154, $O$6,$O$10,,$O$8,$O$12)","v":4182.75},{"$f":" RTD(\"cqg.rtd\",,\"StudyData\", $O$2, \"BAR\", \"\", \"Low\", $O$4, -$A154, $O$6,$O$10,,$O$8,$O$12)","v":4103.75},{"$f":" RTD(\"cqg.rtd\",,\"StudyData\", $O$2, \"BAR\", \"\", \"Close\", $O$4, -$A154, $O$6,$O$10,,$O$8,$O$12)","v":4179.5},{"$f":" RTD(\"cqg.rtd\",,\"StudyData\",$O$2, \"ImpVol\",, \"MIVClose\",$O$4,-A154,$O$6,$O$10,,$O$8,$O$12)","v":17.015000000000001}]
[153,{"$f":" RTD(\"cqg.rtd\",,\"StudyData\", $O$2, \"BAR\", \"\", \"Time\", $O$4,-$A155,$O$6,$O$10, \"\",\"False\",\"T\")","v":"2023-03-02"},{"$f":" RTD(\"cqg.rtd\",,\"StudyData\", $O$2, \"BAR\", \"\", \"Open\", $O$4, -$A155, $O$6,$O$10,,$O$8,$O$12)","v":4089.5},{"$f":" RTD(\"cqg.rtd\",,\"StudyData\", $O$2, \"BAR\", \"\", \"High\", $O$4, -$A155, $O$6,$O$10,,$O$8,$O$12)","v":4125},{"$f":" RTD(\"cqg.rtd\",,\"StudyData\", $O$2, \"BAR\", \"\", \"Low\", $O$4, -$A155, $O$6,$O$10,,$O$8,$O$12)","v":4054.75},{"$f":" RTD(\"cqg.rtd\",,\"StudyData\", $O$2, \"BAR\", \"\", \"Close\", $O$4, -$A155, $O$6,$O$10,,$O$8,$O$12)","v":4114.5},{"$f":" RTD(\"cqg.rtd\",,\"StudyData\",$O$2, \"ImpVol\",, \"MIVClose\",$O$4,-A155,$O$6,$O$10,,$O$8,$O$12)","v":17.995000000000001}]
[154,{"$f":" RTD(\"cqg.rtd\",,\"StudyData\", $O$2, \"BAR\", \"\", \"Time\", $O$4,-$A156,$O$6,$O$10, \"\",\"False\",\"T\")","v":"2023-03-01"},{"$f":" RTD(\"cqg.rtd\",,\"StudyData\", $O$2, \"BAR\", \"\", \"Open\", $O$4, -$A156, $O$6,$O$10,,$O$8,$O$12)","v":4098.25},{"$f":" RTD(\"cqg.rtd\",,\"StudyData\", $O$2, \"BAR\", \"\", \"High\", $O$4, -$A156, $O$6,$O$10,,$O$8,$O$12)","v":4120.75},{"$f":" RTD(\"cqg.rtd\",,\"StudyData\", $O$2, \"BAR\", \"\", \"Low\", $O$4, -$A156, $O$6,$O$10,,$O$8,$O$12)","v":4072.75},{"$f":" RTD(\"cqg.rtd\",,\"StudyData\", $O$2, \"BAR\", \"\", \"Close\", $O$4, -$A156, $O$6,$O$10,,$O$8,$O$12)","v":4086.25},{"$f":" RTD(\"cqg.rtd\",,\"StudyData\",$O$2, \"ImpVol\",, \"MIVClose\",$O$4,-A156,$O$6,$O$10,,$O$8,$O$12)","v":18.53}]
[155,{"$f":" RTD(\"cqg.rtd\",,\"StudyData\", $O$2, \"BAR\", \"\", \"Time\", $O$4,-$A157,$O$6,$O$10, \"\",\"False\",\"T\")","v":"2023-02-28"},{"$f":" RTD(\"cqg.rtd\",,\"StudyData\", $O$2, \"BAR\", \"\", \"Open\", $O$4, -$A157, $O$6,$O$10,,$O$8,$O$12)","v":4121.25},{"$f":" RTD(\"cqg.rtd\",,\"StudyData\", $O$2, \"BAR\", \"\", \"High\", $O$4, -$A157, $O$6,$O$10,,$O$8,$O$12)","v":4133.5},{"$f":" RTD(\"cqg.rtd\",,\"StudyData\", $O$2, \"BAR\", \"\", \"Low\", $O$4, -$A157, $O$6,$O$10,,$O$8,$O$12)","v":4094.75},{"$f":" RTD(\"cqg.rtd\",,\"StudyData\", $O$2, \"BAR\", \"\", \"Close\", $O$4, -$A157, $O$6,$O$10,,$O$8,$O$12)","v":4105.25},{"$f":" RTD(\"cqg.rtd\",,\"StudyData\",$O$2, \"ImpVol\",, \"MIVClose\",$O$4,-A157,$O$6,$O$10,,$O$8,$O$12)","v":18.115000000000002}]
[156,{"$f":" RTD(\"cqg.rtd\",,\"StudyData\", $O$2, \"BAR\", \"\", \"Time\", $O$4,-$A158,$O$6,$O$10, \"\",\"False\",\"T\")","v":"2023-02-27"},{"$f":" RTD(\"cqg.rtd\",,\"StudyData\", $O$2, \"BAR\", \"\", \"Open\", $O$4, -$A158, $O$6,$O$10,,$O$8,$O$12)","v":4106.25},{"$f":" RTD(\"cqg.rtd\",,\"StudyData\", $O$2, \"BAR\", \"\", \"High\", $O$4, -$A158, $O$6,$O$10,,$O$8,$O$12)","v":4154.5},{"$f":" RTD(\"cqg.rtd\",,\"StudyData\", $O$2, \"BAR\", \"\", \"Low\", $O$4, -$A158, $O$6,$O$10,,$O$8,$O$12)","v":4102.75},{"$f":" RTD(\"cqg.rtd\",,\"StudyData\", $O$2, \"BAR\", \"\", \"Close\", $O$4, -$A158, $O$6,$O$10,,$O$8,$O$12)","v":4117.75},{"$f":" RTD(\"cqg.rtd\",,\"StudyData\",$O$2, \"ImpVol\",, \"MIVClose\",$O$4,-A158,$O$6,$O$10,,$O$8,$O$12)","v":18.080000000000002}]
[157,{"$f":" RTD(\"cqg.rtd\",,\"StudyData\", $O$2, \"BAR\", \"\", \"Time\", $O$4,-$A159,$O$6,$O$10, \"\",\"False\",\"T\")","v":"2023-02-24"},{"$f":" RTD(\"cqg.rtd\",,\"StudyData\", $O$2, \"BAR\", \"\", \"Open\", $O$4, -$A159, $O$6,$O$10,,$O$8,$O$12)","v":4145},{"$f":" RTD(\"cqg.rtd\",,\"StudyData\", $O$2, \"BAR\", \"\", \"High\", $O$4, -$A159, $O$6,$O$10,,$O$8,$O$12)","v":4153},{"$f":" RTD(\"cqg.rtd\",,\"StudyData\", $O$2, \"BAR\", \"\", \"Low\", $O$4, -$A159, $O$6,$O$10,,$O$8,$O$12)","v":4077.25},{"$f":" RTD(\"cqg.rtd\",,\"StudyData\", $O$2, \"BAR\", \"\", \"Close\", $O$4, -$A159, $O$6,$O$10,,$O$8,$O$12)","v":4105.5},{"$f":" RTD(\"cqg.rtd\",,\"StudyData\",$O$2, \"ImpVol\",, \"MIVClose\",$O$4,-A159,$O$6,$O$10,,$O$8,$O$12)","v":18.850000000000001}]
[158,{"$f":" RTD(\"cqg.rtd\",,\"StudyData\", $O$2, \"BAR\", \"\", \"Time\", $O$4,-$A160,$O$6,$O$10, \"\",\"False\",\"T\")","v":"2023-02-23"},{"$f":" RTD(\"cqg.rtd\",,\"StudyData\", $O$2, \"BAR\", \"\", \"Open\", $O$4, -$A160, $O$6,$O$10,,$O$8,$O$12)","v":4139.75},{"$f":" RTD(\"cqg.rtd\",,\"StudyData\", $O$2, \"BAR\", \"\", \"High\", $O$4, -$A160, $O$6,$O$10,,$O$8,$O$12)","v":4164},{"$f":" RTD(\"cqg.rtd\",,\"StudyData\", $O$2, \"BAR\", \"\", \"Low\", $O$4, -$A160, $O$6,$O$10,,$O$8,$O$12)","v":4104},{"$f":" RTD(\"cqg.rtd\",,\"StudyData\", $O$2, \"BAR\", \"\", \"Close\", $O$4, -$A160, $O$6,$O$10,,$O$8,$O$12)","v":4148.5},{"$f":" RTD(\"cqg.rtd\",,\"StudyData\",$O$2, \"ImpVol\",, \"MIVClose\",$O$4,-A160,$O$6,$O$10,,$O$8,$O$12)","v":18.105}]
[159,{"$f":" RTD(\"cqg.rtd\",,\"StudyData\", $O$2, \"BAR\", \"\", \"Time\", $O$4,-$A161,$O$6,$O$10, \"\",\"False\",\"T\")","v":"2023-02-22"},{"$f":" RTD(\"cqg.rtd\",,\"StudyData\", $O$2, \"BAR\", \"\", \"Open\", $O$4, -$A161, $O$6,$O$10,,$O$8,$O$12)","v":4137.25},{"$f":" RTD(\"cqg.rtd\",,\"StudyData\", $O$2, \"BAR\", \"\", \"High\", $O$4, -$A161, $O$6,$O$10,,$O$8,$O$12)","v":4154.75},{"$f":" RTD(\"cqg.rtd\",,\"StudyData\", $O$2, \"BAR\", \"\", \"Low\", $O$4, -$A161, $O$6,$O$10,,$O$8,$O$12)","v":4113.5},{"$f":" RTD(\"cqg.rtd\",,\"StudyData\", $O$2, \"BAR\", \"\", \"Close\", $O$4, -$A161, $O$6,$O$10,,$O$8,$O$12)","v":4128.75},{"$f":" RTD(\"cqg.rtd\",,\"StudyData\",$O$2, \"ImpVol\",, \"MIVClose\",$O$4,-A161,$O$6,$O$10,,$O$8,$O$12)","v":18.855}]
[160,{"$f":" RTD(\"cqg.rtd\",,\"StudyData\", $O$2, \"BAR\", \"\", \"Time\", $O$4,-$A162,$O$6,$O$10, \"\",\"False\",\"T\")","v":"2023-02-21"},{"$f":" RTD(\"cqg.rtd\",,\"StudyData\", $O$2, \"BAR\", \"\", \"Open\", $O$4, -$A162, $O$6,$O$10,,$O$8,$O$12)","v":4212.75},{"$f":" RTD(\"cqg.rtd\",,\"StudyData\", $O$2, \"BAR\", \"\", \"High\", $O$4, -$A162, $O$6,$O$10,,$O$8,$O$12)","v":4219},{"$f":" RTD(\"cqg.rtd\",,\"StudyData\", $O$2, \"BAR\", \"\", \"Low\", $O$4, -$A162, $O$6,$O$10,,$O$8,$O$12)","v":4131.75},{"$f":" RTD(\"cqg.rtd\",,\"StudyData\", $O$2, \"BAR\", \"\", \"Close\", $O$4, -$A162, $O$6,$O$10,,$O$8,$O$12)","v":4135.5},{"$f":" RTD(\"cqg.rtd\",,\"StudyData\",$O$2, \"ImpVol\",, \"MIVClose\",$O$4,-A162,$O$6,$O$10,,$O$8,$O$12)","v":19.285000000000004}]
[161,{"$f":" RTD(\"cqg.rtd\",,\"StudyData\", $O$2, \"BAR\", \"\", \"Time\", $O$4,-$A163,$O$6,$O$10, \"\",\"False\",\"T\")","v":"2023-02-17"},{"$f":" RTD(\"cqg.rtd\",,\"StudyData\", $O$2, \"BAR\", \"\", \"Open\", $O$4, -$A163, $O$6,$O$10,,$O$8,$O$12)","v":4225.25},{"$f":" RTD(\"cqg.rtd\",,\"StudyData\", $O$2, \"BAR\", \"\", \"High\", $O$4, -$A163, $O$6,$O$10,,$O$8,$O$12)","v":4225.75},{"$f":" RTD(\"cqg.rtd\",,\"StudyData\", $O$2, \"BAR\", \"\", \"Low\", $O$4, -$A163, $O$6,$O$10,,$O$8,$O$12)","v":4185.5},{"$f":" RTD(\"cqg.rtd\",,\"StudyData\", $O$2, \"BAR\", \"\", \"Close\", $O$4, -$A163, $O$6,$O$10,,$O$8,$O$12)","v":4217.25},{"$f":" RTD(\"cqg.rtd\",,\"StudyData\",$O$2, \"ImpVol\",, \"MIVClose\",$O$4,-A163,$O$6,$O$10,,$O$8,$O$12)","v":17.375}]
[162,{"$f":" RTD(\"cqg.rtd\",,\"StudyData\", $O$2, \"BAR\", \"\", \"Time\", $O$4,-$A164,$O$6,$O$10, \"\",\"False\",\"T\")","v":"2023-02-16"},{"$f":" RTD(\"cqg.rtd\",,\"StudyData\", $O$2, \"BAR\", \"\", \"Open\", $O$4, -$A164, $O$6,$O$10,,$O$8,$O$12)","v":4288.75},{"$f":" RTD(\"cqg.rtd\",,\"StudyData\", $O$2, \"BAR\", \"\", \"High\", $O$4, -$A164, $O$6,$O$10,,$O$8,$O$12)","v":4298.25},{"$f":" RTD(\"cqg.rtd\",,\"StudyData\", $O$2, \"BAR\", \"\", \"Low\", $O$4, -$A164, $O$6,$O$10,,$O$8,$O$12)","v":4224.75},{"$f":" RTD(\"cqg.rtd\",,\"StudyData\", $O$2, \"BAR\", \"\", \"Close\", $O$4, -$A164, $O$6,$O$10,,$O$8,$O$12)","v":4229.5},{"$f":" RTD(\"cqg.rtd\",,\"StudyData\",$O$2, \"ImpVol\",, \"MIVClose\",$O$4,-A164,$O$6,$O$10,,$O$8,$O$12)","v":17.400000000000002}]
[163,{"$f":" RTD(\"cqg.rtd\",,\"StudyData\", $O$2, \"BAR\", \"\", \"Time\", $O$4,-$A165,$O$6,$O$10, \"\",\"False\",\"T\")","v":"2023-02-15"},{"$f":" RTD(\"cqg.rtd\",,\"StudyData\", $O$2, \"BAR\", \"\", \"Open\", $O$4, -$A165, $O$6,$O$10,,$O$8,$O$12)","v":4271},{"$f":" RTD(\"cqg.rtd\",,\"StudyData\", $O$2, \"BAR\", \"\", \"High\", $O$4, -$A165, $O$6,$O$10,,$O$8,$O$12)","v":4291.5},{"$f":" RTD(\"cqg.rtd\",,\"StudyData\", $O$2, \"BAR\", \"\", \"Low\", $O$4, -$A165, $O$6,$O$10,,$O$8,$O$12)","v":4242.75},{"$f":" RTD(\"cqg.rtd\",,\"StudyData\", $O$2, \"BAR\", \"\", \"Close\", $O$4, -$A165, $O$6,$O$10,,$O$8,$O$12)","v":4288},{"$f":" RTD(\"cqg.rtd\",,\"StudyData\",$O$2, \"ImpVol\",, \"MIVClose\",$O$4,-A165,$O$6,$O$10,,$O$8,$O$12)","v":15.7}]
[164,{"$f":" RTD(\"cqg.rtd\",,\"StudyData\", $O$2, \"BAR\", \"\", \"Time\", $O$4,-$A166,$O$6,$O$10, \"\",\"False\",\"T\")","v":"2023-02-14"},{"$f":" RTD(\"cqg.rtd\",,\"StudyData\", $O$2, \"BAR\", \"\", \"Open\", $O$4, -$A166, $O$6,$O$10,,$O$8,$O$12)","v":4279.5},{"$f":" RTD(\"cqg.rtd\",,\"StudyData\", $O$2, \"BAR\", \"\", \"High\", $O$4, -$A166, $O$6,$O$10,,$O$8,$O$12)","v":4316.25},{"$f":" RTD(\"cqg.rtd\",,\"StudyData\", $O$2, \"BAR\", \"\", \"Low\", $O$4, -$A166, $O$6,$O$10,,$O$8,$O$12)","v":4233.5},{"$f":" RTD(\"cqg.rtd\",,\"StudyData\", $O$2, \"BAR\", \"\", \"Close\", $O$4, -$A166, $O$6,$O$10,,$O$8,$O$12)","v":4275.25},{"$f":" RTD(\"cqg.rtd\",,\"StudyData\",$O$2, \"ImpVol\",, \"MIVClose\",$O$4,-A166,$O$6,$O$10,,$O$8,$O$12)","v":16.605}]
[165,{"$f":" RTD(\"cqg.rtd\",,\"StudyData\", $O$2, \"BAR\", \"\", \"Time\", $O$4,-$A167,$O$6,$O$10, \"\",\"False\",\"T\")","v":"2023-02-13"},{"$f":" RTD(\"cqg.rtd\",,\"StudyData\", $O$2, \"BAR\", \"\", \"Open\", $O$4, -$A167, $O$6,$O$10,,$O$8,$O$12)","v":4234.75},{"$f":" RTD(\"cqg.rtd\",,\"StudyData\", $O$2, \"BAR\", \"\", \"High\", $O$4, -$A167, $O$6,$O$10,,$O$8,$O$12)","v":4280.5},{"$f":" RTD(\"cqg.rtd\",,\"StudyData\", $O$2, \"BAR\", \"\", \"Low\", $O$4, -$A167, $O$6,$O$10,,$O$8,$O$12)","v":4208.5},{"$f":" RTD(\"cqg.rtd\",,\"StudyData\", $O$2, \"BAR\", \"\", \"Close\", $O$4, -$A167, $O$6,$O$10,,$O$8,$O$12)","v":4277},{"$f":" RTD(\"cqg.rtd\",,\"StudyData\",$O$2, \"ImpVol\",, \"MIVClose\",$O$4,-A167,$O$6,$O$10,,$O$8,$O$12)","v":17.855}]
[166,{"$f":" RTD(\"cqg.rtd\",,\"StudyData\", $O$2, \"BAR\", \"\", \"Time\", $O$4,-$A168,$O$6,$O$10, \"\",\"False\",\"T\")","v":"2023-02-10"},{"$f":" RTD(\"cqg.rtd\",,\"StudyData\", $O$2, \"BAR\", \"\", \"Open\", $O$4, -$A168, $O$6,$O$10,,$O$8,$O$12)","v":4227.75},{"$f":" RTD(\"cqg.rtd\",,\"StudyData\", $O$2, \"BAR\", \"\", \"High\", $O$4, -$A168, $O$6,$O$10,,$O$8,$O$12)","v":4234},{"$f":" RTD(\"cqg.rtd\",,\"StudyData\", $O$2, \"BAR\", \"\", \"Low\", $O$4, -$A168, $O$6,$O$10,,$O$8,$O$12)","v":4190.5},{"$f":" RTD(\"cqg.rtd\",,\"StudyData\", $O$2, \"BAR\", \"\", \"Close\", $O$4, -$A168, $O$6,$O$10,,$O$8,$O$12)","v":4229.5},{"$f":" RTD(\"cqg.rtd\",,\"StudyData\",$O$2, \"ImpVol\",, \"MIVClose\",$O$4,-A168,$O$6,$O$10,,$O$8,$O$12)","v":18.55}]
[167,{"$f":" RTD(\"cqg.rtd\",,\"StudyData\", $O$2, \"BAR\", \"\", \"Time\", $O$4,-$A169,$O$6,$O$10, \"\",\"False\",\"T\")","v":"2023-02-09"},{"$f":" RTD(\"cqg.rtd\",,\"StudyData\", $O$2, \"BAR\", \"\", \"Open\", $O$4, -$A169, $O$6,$O$10,,$O$8,$O$12)","v":4262},{"$f":" RTD(\"cqg.rtd\",,\"StudyData\", $O$2, \"BAR\", \"\", \"High\", $O$4, -$A169, $O$6,$O$10,,$O$8,$O$12)","v":4300},{"$f":" RTD(\"cqg.rtd\",,\"StudyData\", $O$2, \"BAR\", \"\", \"Low\", $O$4, -$A169, $O$6,$O$10,,$O$8,$O$12)","v":4208},{"$f":" RTD(\"cqg.rtd\",,\"StudyData\", $O$2, \"BAR\", \"\", \"Close\", $O$4, -$A169, $O$6,$O$10,,$O$8,$O$12)","v":4221.5},{"$f":" RTD(\"cqg.rtd\",,\"StudyData\",$O$2, \"ImpVol\",, \"MIVClose\",$O$4,-A169,$O$6,$O$10,,$O$8,$O$12)","v":18.57}]
[168,{"$f":" RTD(\"cqg.rtd\",,\"StudyData\", $O$2, \"BAR\", \"\", \"Time\", $O$4,-$A170,$O$6,$O$10, \"\",\"False\",\"T\")","v":"2023-02-08"},{"$f":" RTD(\"cqg.rtd\",,\"StudyData\", $O$2, \"BAR\", \"\", \"Open\", $O$4, -$A170, $O$6,$O$10,,$O$8,$O$12)","v":4297},{"$f":" RTD(\"cqg.rtd\",,\"StudyData\", $O$2, \"BAR\", \"\", \"High\", $O$4, -$A170, $O$6,$O$10,,$O$8,$O$12)","v":4309},{"$f":" RTD(\"cqg.rtd\",,\"StudyData\", $O$2, \"BAR\", \"\", \"Low\", $O$4, -$A170, $O$6,$O$10,,$O$8,$O$12)","v":4251},{"$f":" RTD(\"cqg.rtd\",,\"StudyData\", $O$2, \"BAR\", \"\", \"Close\", $O$4, -$A170, $O$6,$O$10,,$O$8,$O$12)","v":4260.25},{"$f":" RTD(\"cqg.rtd\",,\"StudyData\",$O$2, \"ImpVol\",, \"MIVClose\",$O$4,-A170,$O$6,$O$10,,$O$8,$O$12)","v":17.330000000000002}]
[169,{"$f":" RTD(\"cqg.rtd\",,\"StudyData\", $O$2, \"BAR\", \"\", \"Time\", $O$4,-$A171,$O$6,$O$10, \"\",\"False\",\"T\")","v":"2023-02-07"},{"$f":" RTD(\"cqg.rtd\",,\"StudyData\", $O$2, \"BAR\", \"\", \"Open\", $O$4, -$A171, $O$6,$O$10,,$O$8,$O$12)","v":4253.25},{"$f":" RTD(\"cqg.rtd\",,\"StudyData\", $O$2, \"BAR\", \"\", \"High\", $O$4, -$A171, $O$6,$O$10,,$O$8,$O$12)","v":4318},{"$f":" RTD(\"cqg.rtd\",,\"StudyData\", $O$2, \"BAR\", \"\", \"Low\", $O$4, -$A171, $O$6,$O$10,,$O$8,$O$12)","v":4228},{"$f":" RTD(\"cqg.rtd\",,\"StudyData\", $O$2, \"BAR\", \"\", \"Close\", $O$4, -$A171, $O$6,$O$10,,$O$8,$O$12)","v":4305.5},{"$f":" RTD(\"cqg.rtd\",,\"StudyData\",$O$2, \"ImpVol\",, \"MIVClose\",$O$4,-A171,$O$6,$O$10,,$O$8,$O$12)","v":16.375}]
[170,{"$f":" RTD(\"cqg.rtd\",,\"StudyData\", $O$2, \"BAR\", \"\", \"Time\", $O$4,-$A172,$O$6,$O$10, \"\",\"False\",\"T\")","v":"2023-02-06"},{"$f":" RTD(\"cqg.rtd\",,\"StudyData\", $O$2, \"BAR\", \"\", \"Open\", $O$4, -$A172, $O$6,$O$10,,$O$8,$O$12)","v":4264},{"$f":" RTD(\"cqg.rtd\",,\"StudyData\", $O$2, \"BAR\", \"\", \"High\", $O$4, -$A172, $O$6,$O$10,,$O$8,$O$12)","v":4272.75},{"$f":" RTD(\"cqg.rtd\",,\"StudyData\", $O$2, \"BAR\", \"\", \"Low\", $O$4, -$A172, $O$6,$O$10,,$O$8,$O$12)","v":4233.75},{"$f":" RTD(\"cqg.rtd\",,\"StudyData\", $O$2, \"BAR\", \"\", \"Close\", $O$4, -$A172, $O$6,$O$10,,$O$8,$O$12)","v":4253.25},{"$f":" RTD(\"cqg.rtd\",,\"StudyData\",$O$2, \"ImpVol\",, \"MIVClose\",$O$4,-A172,$O$6,$O$10,,$O$8,$O$12)","v":16.835000000000001}]
[171,{"$f":" RTD(\"cqg.rtd\",,\"StudyData\", $O$2, \"BAR\", \"\", \"Time\", $O$4,-$A173,$O$6,$O$10, \"\",\"False\",\"T\")","v":"2023-02-03"},{"$f":" RTD(\"cqg.rtd\",,\"StudyData\", $O$2, \"BAR\", \"\", \"Open\", $O$4, -$A173, $O$6,$O$10,,$O$8,$O$12)","v":4305.75},{"$f":" RTD(\"cqg.rtd\",,\"StudyData\", $O$2, \"BAR\", \"\", \"High\", $O$4, -$A173, $O$6,$O$10,,$O$8,$O$12)","v":4323.75},{"$f":" RTD(\"cqg.rtd\",,\"StudyData\", $O$2, \"BAR\", \"\", \"Low\", $O$4, -$A173, $O$6,$O$10,,$O$8,$O$12)","v":4262.25},{"$f":" RTD(\"cqg.rtd\",,\"StudyData\", $O$2, \"BAR\", \"\", \"Close\", $O$4, -$A173, $O$6,$O$10,,$O$8,$O$12)","v":4277.5},{"$f":" RTD(\"cqg.rtd\",,\"StudyData\",$O$2, \"ImpVol\",, \"MIVClose\",$O$4,-A173,$O$6,$O$10,,$O$8,$O$12)","v":16.335000000000001}]
[172,{"$f":" RTD(\"cqg.rtd\",,\"StudyData\", $O$2, \"BAR\", \"\", \"Time\", $O$4,-$A174,$O$6,$O$10, \"\",\"False\",\"T\")","v":"2023-02-02"},{"$f":" RTD(\"cqg.rtd\",,\"StudyData\", $O$2, \"BAR\", \"\", \"Open\", $O$4, -$A174, $O$6,$O$10,,$O$8,$O$12)","v":4275.25},{"$f":" RTD(\"cqg.rtd\",,\"StudyData\", $O$2, \"BAR\", \"\", \"High\", $O$4, -$A174, $O$6,$O$10,,$O$8,$O$12)","v":4338.25},{"$f":" RTD(\"cqg.rtd\",,\"StudyData\", $O$2, \"BAR\", \"\", \"Low\", $O$4, -$A174, $O$6,$O$10,,$O$8,$O$12)","v":4266.5},{"$f":" RTD(\"cqg.rtd\",,\"StudyData\", $O$2, \"BAR\", \"\", \"Close\", $O$4, -$A174, $O$6,$O$10,,$O$8,$O$12)","v":4321.25},{"$f":" RTD(\"cqg.rtd\",,\"StudyData\",$O$2, \"ImpVol\",, \"MIVClose\",$O$4,-A174,$O$6,$O$10,,$O$8,$O$12)","v":16.220000000000002}]
[173,{"$f":" RTD(\"cqg.rtd\",,\"StudyData\", $O$2, \"BAR\", \"\", \"Time\", $O$4,-$A175,$O$6,$O$10, \"\",\"False\",\"T\")","v":"2023-02-01"},{"$f":" RTD(\"cqg.rtd\",,\"StudyData\", $O$2, \"BAR\", \"\", \"Open\", $O$4, -$A175, $O$6,$O$10,,$O$8,$O$12)","v":4215.5},{"$f":" RTD(\"cqg.rtd\",,\"StudyData\", $O$2, \"BAR\", \"\", \"High\", $O$4, -$A175, $O$6,$O$10,,$O$8,$O$12)","v":4293},{"$f":" RTD(\"cqg.rtd\",,\"StudyData\", $O$2, \"BAR\", \"\", \"Low\", $O$4, -$A175, $O$6,$O$10,,$O$8,$O$12)","v":4178.25},{"$f":" RTD(\"cqg.rtd\",,\"StudyData\", $O$2, \"BAR\", \"\", \"Close\", $O$4, -$A175, $O$6,$O$10,,$O$8,$O$12)","v":4262},{"$f":" RTD(\"cqg.rtd\",,\"StudyData\",$O$2, \"ImpVol\",, \"MIVClose\",$O$4,-A175,$O$6,$O$10,,$O$8,$O$12)","v":15.875}]
[174,{"$f":" RTD(\"cqg.rtd\",,\"StudyData\", $O$2, \"BAR\", \"\", \"Time\", $O$4,-$A176,$O$6,$O$10, \"\",\"False\",\"T\")","v":"2023-01-31"},{"$f":" RTD(\"cqg.rtd\",,\"StudyData\", $O$2, \"BAR\", \"\", \"Open\", $O$4, -$A176, $O$6,$O$10,,$O$8,$O$12)","v":4169},{"$f":" RTD(\"cqg.rtd\",,\"StudyData\", $O$2, \"BAR\", \"\", \"High\", $O$4, -$A176, $O$6,$O$10,,$O$8,$O$12)","v":4221},{"$f":" RTD(\"cqg.rtd\",,\"StudyData\", $O$2, \"BAR\", \"\", \"Low\", $O$4, -$A176, $O$6,$O$10,,$O$8,$O$12)","v":4137.25},{"$f":" RTD(\"cqg.rtd\",,\"StudyData\", $O$2, \"BAR\", \"\", \"Close\", $O$4, -$A176, $O$6,$O$10,,$O$8,$O$12)","v":4219.75},{"$f":" RTD(\"cqg.rtd\",,\"StudyData\",$O$2, \"ImpVol\",, \"MIVClose\",$O$4,-A176,$O$6,$O$10,,$O$8,$O$12)","v":16.78}]
[175,{"$f":" RTD(\"cqg.rtd\",,\"StudyData\", $O$2, \"BAR\", \"\", \"Time\", $O$4,-$A177,$O$6,$O$10, \"\",\"False\",\"T\")","v":"2023-01-30"},{"$f":" RTD(\"cqg.rtd\",,\"StudyData\", $O$2, \"BAR\", \"\", \"Open\", $O$4, -$A177, $O$6,$O$10,,$O$8,$O$12)","v":4206.75},{"$f":" RTD(\"cqg.rtd\",,\"StudyData\", $O$2, \"BAR\", \"\", \"High\", $O$4, -$A177, $O$6,$O$10,,$O$8,$O$12)","v":4215.75},{"$f":" RTD(\"cqg.rtd\",,\"StudyData\", $O$2, \"BAR\", \"\", \"Low\", $O$4, -$A177, $O$6,$O$10,,$O$8,$O$12)","v":4159.25},{"$f":" RTD(\"cqg.rtd\",,\"StudyData\", $O$2, \"BAR\", \"\", \"Close\", $O$4, -$A177, $O$6,$O$10,,$O$8,$O$12)","v":4162.25},{"$f":" RTD(\"cqg.rtd\",,\"StudyData\",$O$2, \"ImpVol\",, \"MIVClose\",$O$4,-A177,$O$6,$O$10,,$O$8,$O$12)","v":17.330000000000002}]
[176,{"$f":" RTD(\"cqg.rtd\",,\"StudyData\", $O$2, \"BAR\", \"\", \"Time\", $O$4,-$A178,$O$6,$O$10, \"\",\"False\",\"T\")","v":"2023-01-27"},{"$f":" RTD(\"cqg.rtd\",,\"StudyData\", $O$2, \"BAR\", \"\", \"Open\", $O$4, -$A178, $O$6,$O$10,,$O$8,$O$12)","v":4194.75},{"$f":" RTD(\"cqg.rtd\",,\"StudyData\", $O$2, \"BAR\", \"\", \"High\", $O$4, -$A178, $O$6,$O$10,,$O$8,$O$12)","v":4239},{"$f":" RTD(\"cqg.rtd\",,\"StudyData\", $O$2, \"BAR\", \"\", \"Low\", $O$4, -$A178, $O$6,$O$10,,$O$8,$O$12)","v":4187},{"$f":" RTD(\"cqg.rtd\",,\"StudyData\", $O$2, \"BAR\", \"\", \"Close\", $O$4, -$A178, $O$6,$O$10,,$O$8,$O$12)","v":4214},{"$f":" RTD(\"cqg.rtd\",,\"StudyData\",$O$2, \"ImpVol\",, \"MIVClose\",$O$4,-A178,$O$6,$O$10,,$O$8,$O$12)","v":16.46}]
[177,{"$f":" RTD(\"cqg.rtd\",,\"StudyData\", $O$2, \"BAR\", \"\", \"Time\", $O$4,-$A179,$O$6,$O$10, \"\",\"False\",\"T\")","v":"2023-01-26"},{"$f":" RTD(\"cqg.rtd\",,\"StudyData\", $O$2, \"BAR\", \"\", \"Open\", $O$4, -$A179, $O$6,$O$10,,$O$8,$O$12)","v":4160.75},{"$f":" RTD(\"cqg.rtd\",,\"StudyData\", $O$2, \"BAR\", \"\", \"High\", $O$4, -$A179, $O$6,$O$10,,$O$8,$O$12)","v":4206.75},{"$f":" RTD(\"cqg.rtd\",,\"StudyData\", $O$2, \"BAR\", \"\", \"Low\", $O$4, -$A179, $O$6,$O$10,,$O$8,$O$12)","v":4157},{"$f":" RTD(\"cqg.rtd\",,\"StudyData\", $O$2, \"BAR\", \"\", \"Close\", $O$4, -$A179, $O$6,$O$10,,$O$8,$O$12)","v":4205.25},{"$f":" RTD(\"cqg.rtd\",,\"StudyData\",$O$2, \"ImpVol\",, \"MIVClose\",$O$4,-A179,$O$6,$O$10,,$O$8,$O$12)","v":16.684999999999999}]
[178,{"$f":" RTD(\"cqg.rtd\",,\"StudyData\", $O$2, \"BAR\", \"\", \"Time\", $O$4,-$A180,$O$6,$O$10, \"\",\"False\",\"T\")","v":"2023-01-25"},{"$f":" RTD(\"cqg.rtd\",,\"StudyData\", $O$2, \"BAR\", \"\", \"Open\", $O$4, -$A180, $O$6,$O$10,,$O$8,$O$12)","v":4168.75},{"$f":" RTD(\"cqg.rtd\",,\"StudyData\", $O$2, \"BAR\", \"\", \"High\", $O$4, -$A180, $O$6,$O$10,,$O$8,$O$12)","v":4170.25},{"$f":" RTD(\"cqg.rtd\",,\"StudyData\", $O$2, \"BAR\", \"\", \"Low\", $O$4, -$A180, $O$6,$O$10,,$O$8,$O$12)","v":4093},{"$f":" RTD(\"cqg.rtd\",,\"StudyData\", $O$2, \"BAR\", \"\", \"Close\", $O$4, -$A180, $O$6,$O$10,,$O$8,$O$12)","v":4161.75},{"$f":" RTD(\"cqg.rtd\",,\"StudyData\",$O$2, \"ImpVol\",, \"MIVClose\",$O$4,-A180,$O$6,$O$10,,$O$8,$O$12)","v":16.825000000000003}]
[179,{"$f":" RTD(\"cqg.rtd\",,\"StudyData\", $O$2, \"BAR\", \"\", \"Time\", $O$4,-$A181,$O$6,$O$10, \"\",\"False\",\"T\")","v":"2023-01-24"},{"$f":" RTD(\"cqg.rtd\",,\"StudyData\", $O$2, \"BAR\", \"\", \"Open\", $O$4, -$A181, $O$6,$O$10,,$O$8,$O$12)","v":4166.25},{"$f":" RTD(\"cqg.rtd\",,\"StudyData\", $O$2, \"BAR\", \"\", \"High\", $O$4, -$A181, $O$6,$O$10,,$O$8,$O$12)","v":4177.25},{"$f":" RTD(\"cqg.rtd\",,\"StudyData\", $O$2, \"BAR\", \"\", \"Low\", $O$4, -$A181, $O$6,$O$10,,$O$8,$O$12)","v":4135},{"$f":" RTD(\"cqg.rtd\",,\"StudyData\", $O$2, \"BAR\", \"\", \"Close\", $O$4, -$A181, $O$6,$O$10,,$O$8,$O$12)","v":4162.5},{"$f":" RTD(\"cqg.rtd\",,\"StudyData\",$O$2, \"ImpVol\",, \"MIVClose\",$O$4,-A181,$O$6,$O$10,,$O$8,$O$12)","v":16.875}]
[180,{"$f":" RTD(\"cqg.rtd\",,\"StudyData\", $O$2, \"BAR\", \"\", \"Time\", $O$4,-$A182,$O$6,$O$10, \"\",\"False\",\"T\")","v":"2023-01-23"},{"$f":" RTD(\"cqg.rtd\",,\"StudyData\", $O$2, \"BAR\", \"\", \"Open\", $O$4, -$A182, $O$6,$O$10,,$O$8,$O$12)","v":4116.75},{"$f":" RTD(\"cqg.rtd\",,\"StudyData\", $O$2, \"BAR\", \"\", \"High\", $O$4, -$A182, $O$6,$O$10,,$O$8,$O$12)","v":4186.5},{"$f":" RTD(\"cqg.rtd\",,\"StudyData\", $O$2, \"BAR\", \"\", \"Low\", $O$4, -$A182, $O$6,$O$10,,$O$8,$O$12)","v":4110},{"$f":" RTD(\"cqg.rtd\",,\"StudyData\", $O$2, \"BAR\", \"\", \"Close\", $O$4, -$A182, $O$6,$O$10,,$O$8,$O$12)","v":4166.25},{"$f":" RTD(\"cqg.rtd\",,\"StudyData\",$O$2, \"ImpVol\",, \"MIVClose\",$O$4,-A182,$O$6,$O$10,,$O$8,$O$12)","v":17.32}]
[181,{"$f":" RTD(\"cqg.rtd\",,\"StudyData\", $O$2, \"BAR\", \"\", \"Time\", $O$4,-$A183,$O$6,$O$10, \"\",\"False\",\"T\")","v":"2023-01-20"},{"$f":" RTD(\"cqg.rtd\",,\"StudyData\", $O$2, \"BAR\", \"\", \"Open\", $O$4, -$A183, $O$6,$O$10,,$O$8,$O$12)","v":4054.75},{"$f":" RTD(\"cqg.rtd\",,\"StudyData\", $O$2, \"BAR\", \"\", \"High\", $O$4, -$A183, $O$6,$O$10,,$O$8,$O$12)","v":4120.25},{"$f":" RTD(\"cqg.rtd\",,\"StudyData\", $O$2, \"BAR\", \"\", \"Low\", $O$4, -$A183, $O$6,$O$10,,$O$8,$O$12)","v":4041.5},{"$f":" RTD(\"cqg.rtd\",,\"StudyData\", $O$2, \"BAR\", \"\", \"Close\", $O$4, -$A183, $O$6,$O$10,,$O$8,$O$12)","v":4118.25},{"$f":" RTD(\"cqg.rtd\",,\"StudyData\",$O$2, \"ImpVol\",, \"MIVClose\",$O$4,-A183,$O$6,$O$10,,$O$8,$O$12)","v":17.820000000000004}]
[182,{"$f":" RTD(\"cqg.rtd\",,\"StudyData\", $O$2, \"BAR\", \"\", \"Time\", $O$4,-$A184,$O$6,$O$10, \"\",\"False\",\"T\")","v":"2023-01-19"},{"$f":" RTD(\"cqg.rtd\",,\"StudyData\", $O$2, \"BAR\", \"\", \"Open\", $O$4, -$A184, $O$6,$O$10,,$O$8,$O$12)","v":4075},{"$f":" RTD(\"cqg.rtd\",,\"StudyData\", $O$2, \"BAR\", \"\", \"High\", $O$4, -$A184, $O$6,$O$10,,$O$8,$O$12)","v":4078.5},{"$f":" RTD(\"cqg.rtd\",,\"StudyData\", $O$2, \"BAR\", \"\", \"Low\", $O$4, -$A184, $O$6,$O$10,,$O$8,$O$12)","v":4031.5},{"$f":" RTD(\"cqg.rtd\",,\"StudyData\", $O$2, \"BAR\", \"\", \"Close\", $O$4, -$A184, $O$6,$O$10,,$O$8,$O$12)","v":4045.25},{"$f":" RTD(\"cqg.rtd\",,\"StudyData\",$O$2, \"ImpVol\",, \"MIVClose\",$O$4,-A184,$O$6,$O$10,,$O$8,$O$12)","v":18.594999999999999}]
[183,{"$f":" RTD(\"cqg.rtd\",,\"StudyData\", $O$2, \"BAR\", \"\", \"Time\", $O$4,-$A185,$O$6,$O$10, \"\",\"False\",\"T\")","v":"2023-01-18"},{"$f":" RTD(\"cqg.rtd\",,\"StudyData\", $O$2, \"BAR\", \"\", \"Open\", $O$4, -$A185, $O$6,$O$10,,$O$8,$O$12)","v":4138.25},{"$f":" RTD(\"cqg.rtd\",,\"StudyData\", $O$2, \"BAR\", \"\", \"High\", $O$4, -$A185, $O$6,$O$10,,$O$8,$O$12)","v":4163.25},{"$f":" RTD(\"cqg.rtd\",,\"StudyData\", $O$2, \"BAR\", \"\", \"Low\", $O$4, -$A185, $O$6,$O$10,,$O$8,$O$12)","v":4073.5},{"$f":" RTD(\"cqg.rtd\",,\"StudyData\", $O$2, \"BAR\", \"\", \"Close\", $O$4, -$A185, $O$6,$O$10,,$O$8,$O$12)","v":4075.5},{"$f":" RTD(\"cqg.rtd\",,\"StudyData\",$O$2, \"ImpVol\",, \"MIVClose\",$O$4,-A185,$O$6,$O$10,,$O$8,$O$12)","v":18.305}]
[184,{"$f":" RTD(\"cqg.rtd\",,\"StudyData\", $O$2, \"BAR\", \"\", \"Time\", $O$4,-$A186,$O$6,$O$10, \"\",\"False\",\"T\")","v":"2023-01-17"},{"$f":" RTD(\"cqg.rtd\",,\"StudyData\", $O$2, \"BAR\", \"\", \"Open\", $O$4, -$A186, $O$6,$O$10,,$O$8,$O$12)","v":4149.75},{"$f":" RTD(\"cqg.rtd\",,\"StudyData\", $O$2, \"BAR\", \"\", \"High\", $O$4, -$A186, $O$6,$O$10,,$O$8,$O$12)","v":4165},{"$f":" RTD(\"cqg.rtd\",,\"StudyData\", $O$2, \"BAR\", \"\", \"Low\", $O$4, -$A186, $O$6,$O$10,,$O$8,$O$12)","v":4126.5},{"$f":" RTD(\"cqg.rtd\",,\"StudyData\", $O$2, \"BAR\", \"\", \"Close\", $O$4, -$A186, $O$6,$O$10,,$O$8,$O$12)","v":4139.25},{"$f":" RTD(\"cqg.rtd\",,\"StudyData\",$O$2, \"ImpVol\",, \"MIVClose\",$O$4,-A186,$O$6,$O$10,,$O$8,$O$12)","v":17.299999999999997}]
[185,{"$f":" RTD(\"cqg.rtd\",,\"StudyData\", $O$2, \"BAR\", \"\", \"Time\", $O$4,-$A187,$O$6,$O$10, \"\",\"False\",\"T\")","v":"2023-01-13"},{"$f":" RTD(\"cqg.rtd\",,\"StudyData\", $O$2, \"BAR\", \"\", \"Open\", $O$4, -$A187, $O$6,$O$10,,$O$8,$O$12)","v":4132.75},{"$f":" RTD(\"cqg.rtd\",,\"StudyData\", $O$2, \"BAR\", \"\", \"High\", $O$4, -$A187, $O$6,$O$10,,$O$8,$O$12)","v":4154},{"$f":" RTD(\"cqg.rtd\",,\"StudyData\", $O$2, \"BAR\", \"\", \"Low\", $O$4, -$A187, $O$6,$O$10,,$O$8,$O$12)","v":4091.5},{"$f":" RTD(\"cqg.rtd\",,\"StudyData\", $O$2, \"BAR\", \"\", \"Close\", $O$4, -$A187, $O$6,$O$10,,$O$8,$O$12)","v":4148},{"$f":" RTD(\"cqg.rtd\",,\"StudyData\",$O$2, \"ImpVol\",, \"MIVClose\",$O$4,-A187,$O$6,$O$10,,$O$8,$O$12)","v":17.175000000000001}]
[186,{"$f":" RTD(\"cqg.rtd\",,\"StudyData\", $O$2, \"BAR\", \"\", \"Time\", $O$4,-$A188,$O$6,$O$10, \"\",\"False\",\"T\")","v":"2023-01-12"},{"$f":" RTD(\"cqg.rtd\",,\"StudyData\", $O$2, \"BAR\", \"\", \"Open\", $O$4, -$A188, $O$6,$O$10,,$O$8,$O$12)","v":4121.5},{"$f":" RTD(\"cqg.rtd\",,\"StudyData\", $O$2, \"BAR\", \"\", \"High\", $O$4, -$A188, $O$6,$O$10,,$O$8,$O$12)","v":4151.25},{"$f":" RTD(\"cqg.rtd\",,\"StudyData\", $O$2, \"BAR\", \"\", \"Low\", $O$4, -$A188, $O$6,$O$10,,$O$8,$O$12)","v":4083.75},{"$f":" RTD(\"cqg.rtd\",,\"StudyData\", $O$2, \"BAR\", \"\", \"Close\", $O$4, -$A188, $O$6,$O$10,,$O$8,$O$12)","v":4133.25},{"$f":" RTD(\"cqg.rtd\",,\"StudyData\",$O$2, \"ImpVol\",, \"MIVClose\",$O$4,-A188,$O$6,$O$10,,$O$8,$O$12)","v":17.919999999999998}]
[187,{"$f":" RTD(\"cqg.rtd\",,\"StudyData\", $O$2, \"BAR\", \"\", \"Time\", $O$4,-$A189,$O$6,$O$10, \"\",\"False\",\"T\")","v":"2023-01-11"},{"$f":" RTD(\"cqg.rtd\",,\"StudyData\", $O$2, \"BAR\", \"\", \"Open\", $O$4, -$A189, $O$6,$O$10,,$O$8,$O$12)","v":4070.75},{"$f":" RTD(\"cqg.rtd\",,\"StudyData\", $O$2, \"BAR\", \"\", \"High\", $O$4, -$A189, $O$6,$O$10,,$O$8,$O$12)","v":4122.25},{"$f":" RTD(\"cqg.rtd\",,\"StudyData\", $O$2, \"BAR\", \"\", \"Low\", $O$4, -$A189, $O$6,$O$10,,$O$8,$O$12)","v":4064.25},{"$f":" RTD(\"cqg.rtd\",,\"StudyData\", $O$2, \"BAR\", \"\", \"Close\", $O$4, -$A189, $O$6,$O$10,,$O$8,$O$12)","v":4119.75},{"$f":" RTD(\"cqg.rtd\",,\"StudyData\",$O$2, \"ImpVol\",, \"MIVClose\",$O$4,-A189,$O$6,$O$10,,$O$8,$O$12)","v":19.395}]
[188,{"$f":" RTD(\"cqg.rtd\",,\"StudyData\", $O$2, \"BAR\", \"\", \"Time\", $O$4,-$A190,$O$6,$O$10, \"\",\"False\",\"T\")","v":"2023-01-10"},{"$f":" RTD(\"cqg.rtd\",,\"StudyData\", $O$2, \"BAR\", \"\", \"Open\", $O$4, -$A190, $O$6,$O$10,,$O$8,$O$12)","v":4044.25},{"$f":" RTD(\"cqg.rtd\",,\"StudyData\", $O$2, \"BAR\", \"\", \"High\", $O$4, -$A190, $O$6,$O$10,,$O$8,$O$12)","v":4073.5},{"$f":" RTD(\"cqg.rtd\",,\"StudyData\", $O$2, \"BAR\", \"\", \"Low\", $O$4, -$A190, $O$6,$O$10,,$O$8,$O$12)","v":4021.25},{"$f":" RTD(\"cqg.rtd\",,\"StudyData\", $O$2, \"BAR\", \"\", \"Close\", $O$4, -$A190, $O$6,$O$10,,$O$8,$O$12)","v":4070.5},{"$f":" RTD(\"cqg.rtd\",,\"StudyData\",$O$2, \"ImpVol\",, \"MIVClose\",$O$4,-A190,$O$6,$O$10,,$O$8,$O$12)","v":19.285000000000004}]
[189,{"$f":" RTD(\"cqg.rtd\",,\"StudyData\", $O$2, \"BAR\", \"\", \"Time\", $O$4,-$A191,$O$6,$O$10, \"\",\"False\",\"T\")","v":"2023-01-09"},{"$f":" RTD(\"cqg.rtd\",,\"StudyData\", $O$2, \"BAR\", \"\", \"Open\", $O$4, -$A191, $O$6,$O$10,,$O$8,$O$12)","v":4048.25},{"$f":" RTD(\"cqg.rtd\",,\"StudyData\", $O$2, \"BAR\", \"\", \"High\", $O$4, -$A191, $O$6,$O$10,,$O$8,$O$12)","v":4103},{"$f":" RTD(\"cqg.rtd\",,\"StudyData\", $O$2, \"BAR\", \"\", \"Low\", $O$4, -$A191, $O$6,$O$10,,$O$8,$O$12)","v":4039.5},{"$f":" RTD(\"cqg.rtd\",,\"StudyData\", $O$2, \"BAR\", \"\", \"Close\", $O$4, -$A191, $O$6,$O$10,,$O$8,$O$12)","v":4043.5},{"$f":" RTD(\"cqg.rtd\",,\"StudyData\",$O$2, \"ImpVol\",, \"MIVClose\",$O$4,-A191,$O$6,$O$10,,$O$8,$O$12)","v":20.170000000000002}]
[190,{"$f":" RTD(\"cqg.rtd\",,\"StudyData\", $O$2, \"BAR\", \"\", \"Time\", $O$4,-$A192,$O$6,$O$10, \"\",\"False\",\"T\")","v":"2023-01-06"},{"$f":" RTD(\"cqg.rtd\",,\"StudyData\", $O$2, \"BAR\", \"\", \"Open\", $O$4, -$A192, $O$6,$O$10,,$O$8,$O$12)","v":3962.75},{"$f":" RTD(\"cqg.rtd\",,\"StudyData\", $O$2, \"BAR\", \"\", \"High\", $O$4, -$A192, $O$6,$O$10,,$O$8,$O$12)","v":4058.5},{"$f":" RTD(\"cqg.rtd\",,\"StudyData\", $O$2, \"BAR\", \"\", \"Low\", $O$4, -$A192, $O$6,$O$10,,$O$8,$O$12)","v":3948.75},{"$f":" RTD(\"cqg.rtd\",,\"StudyData\", $O$2, \"BAR\", \"\", \"Close\", $O$4, -$A192, $O$6,$O$10,,$O$8,$O$12)","v":4045.25},{"$f":" RTD(\"cqg.rtd\",,\"StudyData\",$O$2, \"ImpVol\",, \"MIVClose\",$O$4,-A192,$O$6,$O$10,,$O$8,$O$12)","v":19.965000000000003}]
[191,{"$f":" RTD(\"cqg.rtd\",,\"StudyData\", $O$2, \"BAR\", \"\", \"Time\", $O$4,-$A193,$O$6,$O$10, \"\",\"False\",\"T\")","v":"2023-01-05"},{"$f":" RTD(\"cqg.rtd\",,\"StudyData\", $O$2, \"BAR\", \"\", \"Open\", $O$4, -$A193, $O$6,$O$10,,$O$8,$O$12)","v":4000.75},{"$f":" RTD(\"cqg.rtd\",,\"StudyData\", $O$2, \"BAR\", \"\", \"High\", $O$4, -$A193, $O$6,$O$10,,$O$8,$O$12)","v":4015.25},{"$f":" RTD(\"cqg.rtd\",,\"StudyData\", $O$2, \"BAR\", \"\", \"Low\", $O$4, -$A193, $O$6,$O$10,,$O$8,$O$12)","v":3952.25},{"$f":" RTD(\"cqg.rtd\",,\"StudyData\", $O$2, \"BAR\", \"\", \"Close\", $O$4, -$A193, $O$6,$O$10,,$O$8,$O$12)","v":3958.75},{"$f":" RTD(\"cqg.rtd\",,\"StudyData\",$O$2, \"ImpVol\",, \"MIVClose\",$O$4,-A193,$O$6,$O$10,,$O$8,$O$12)","v":20.925000000000001}]
[192,{"$f":" RTD(\"cqg.rtd\",,\"StudyData\", $O$2, \"BAR\", \"\", \"Time\", $O$4,-$A194,$O$6,$O$10, \"\",\"False\",\"T\")","v":"2023-01-04"},{"$f":" RTD(\"cqg.rtd\",,\"StudyData\", $O$2, \"BAR\", \"\", \"Open\", $O$4, -$A194, $O$6,$O$10,,$O$8,$O$12)","v":3972.5},{"$f":" RTD(\"cqg.rtd\",,\"StudyData\", $O$2, \"BAR\", \"\", \"High\", $O$4, -$A194, $O$6,$O$10,,$O$8,$O$12)","v":4026},{"$f":" RTD(\"cqg.rtd\",,\"StudyData\", $O$2, \"BAR\", \"\", \"Low\", $O$4, -$A194, $O$6,$O$10,,$O$8,$O$12)","v":3966.25},{"$f":" RTD(\"cqg.rtd\",,\"StudyData\", $O$2, \"BAR\", \"\", \"Close\", $O$4, -$A194, $O$6,$O$10,,$O$8,$O$12)","v":4004.25},{"$f":" RTD(\"cqg.rtd\",,\"StudyData\",$O$2, \"ImpVol\",, \"MIVClose\",$O$4,-A194,$O$6,$O$10,,$O$8,$O$12)","v":20.68}]
[193,{"$f":" RTD(\"cqg.rtd\",,\"StudyData\", $O$2, \"BAR\", \"\", \"Time\", $O$4,-$A195,$O$6,$O$10, \"\",\"False\",\"T\")","v":"2023-01-03"},{"$f":" RTD(\"cqg.rtd\",,\"StudyData\", $O$2, \"BAR\", \"\", \"Open\", $O$4, -$A195, $O$6,$O$10,,$O$8,$O$12)","v":4024.75},{"$f":" RTD(\"cqg.rtd\",,\"StudyData\", $O$2, \"BAR\", \"\", \"High\", $O$4, -$A195, $O$6,$O$10,,$O$8,$O$12)","v":4036.5},{"$f":" RTD(\"cqg.rtd\",,\"StudyData\", $O$2, \"BAR\", \"\", \"Low\", $O$4, -$A195, $O$6,$O$10,,$O$8,$O$12)","v":3944.25},{"$f":" RTD(\"cqg.rtd\",,\"StudyData\", $O$2, \"BAR\", \"\", \"Close\", $O$4, -$A195, $O$6,$O$10,,$O$8,$O$12)","v":3975.75},{"$f":" RTD(\"cqg.rtd\",,\"StudyData\",$O$2, \"ImpVol\",, \"MIVClose\",$O$4,-A195,$O$6,$O$10,,$O$8,$O$12)","v":21.375}]
[{"$f":"A195+1","v":194},{"$f":" RTD(\"cqg.rtd\",,\"StudyData\", $O$2, \"BAR\", \"\", \"Time\", $O$4,-$A196,$O$6,$O$10, \"\",\"False\",\"T\")","v":"2022-12-30"},{"$f":" RTD(\"cqg.rtd\",,\"StudyData\", $O$2, \"BAR\", \"\", \"Open\", $O$4, -$A196, $O$6,$O$10,,$O$8,$O$12)","v":3999.5},{"$f":" RTD(\"cqg.rtd\",,\"StudyData\", $O$2, \"BAR\", \"\", \"High\", $O$4, -$A196, $O$6,$O$10,,$O$8,$O$12)","v":4000.75},{"$f":" RTD(\"cqg.rtd\",,\"StudyData\", $O$2, \"BAR\", \"\", \"Low\", $O$4, -$A196, $O$6,$O$10,,$O$8,$O$12)","v":3951.25},{"$f":" RTD(\"cqg.rtd\",,\"StudyData\", $O$2, \"BAR\", \"\", \"Close\", $O$4, -$A196, $O$6,$O$10,,$O$8,$O$12)","v":3990.75},{"$f":" RTD(\"cqg.rtd\",,\"StudyData\",$O$2, \"ImpVol\",, \"MIVClose\",$O$4,-A196,$O$6,$O$10,,$O$8,$O$12)","v":21.524999999999999}]
[195,{"$f":" RTD(\"cqg.rtd\",,\"StudyData\", $O$2, \"BAR\", \"\", \"Time\", $O$4,-$A197,$O$6,$O$10, \"\",\"False\",\"T\")","v":"2022-12-29"},{"$f":" RTD(\"cqg.rtd\",,\"StudyData\", $O$2, \"BAR\", \"\", \"Open\", $O$4, -$A197, $O$6,$O$10,,$O$8,$O$12)","v":3940.75},{"$f":" RTD(\"cqg.rtd\",,\"StudyData\", $O$2, \"BAR\", \"\", \"High\", $O$4, -$A197, $O$6,$O$10,,$O$8,$O$12)","v":4012.5},{"$f":" RTD(\"cqg.rtd\",,\"StudyData\", $O$2, \"BAR\", \"\", \"Low\", $O$4, -$A197, $O$6,$O$10,,$O$8,$O$12)","v":3936},{"$f":" RTD(\"cqg.rtd\",,\"StudyData\", $O$2, \"BAR\", \"\", \"Close\", $O$4, -$A197, $O$6,$O$10,,$O$8,$O$12)","v":4001.5},{"$f":" RTD(\"cqg.rtd\",,\"StudyData\",$O$2, \"ImpVol\",, \"MIVClose\",$O$4,-A197,$O$6,$O$10,,$O$8,$O$12)","v":21.440000000000005}]
[196,{"$f":" RTD(\"cqg.rtd\",,\"StudyData\", $O$2, \"BAR\", \"\", \"Time\", $O$4,-$A198,$O$6,$O$10, \"\",\"False\",\"T\")","v":"2022-12-28"},{"$f":" RTD(\"cqg.rtd\",,\"StudyData\", $O$2, \"BAR\", \"\", \"Open\", $O$4, -$A198, $O$6,$O$10,,$O$8,$O$12)","v":3987.75},{"$f":" RTD(\"cqg.rtd\",,\"StudyData\", $O$2, \"BAR\", \"\", \"High\", $O$4, -$A198, $O$6,$O$10,,$O$8,$O$12)","v":4004.75},{"$f":" RTD(\"cqg.rtd\",,\"StudyData\", $O$2, \"BAR\", \"\", \"Low\", $O$4, -$A198, $O$6,$O$10,,$O$8,$O$12)","v":3934.25},{"$f":" RTD(\"cqg.rtd\",,\"StudyData\", $O$2, \"BAR\", \"\", \"Close\", $O$4, -$A198, $O$6,$O$10,,$O$8,$O$12)","v":3937.25},{"$f":" RTD(\"cqg.rtd\",,\"StudyData\",$O$2, \"ImpVol\",, \"MIVClose\",$O$4,-A198,$O$6,$O$10,,$O$8,$O$12)","v":22.035}]
[197,{"$f":" RTD(\"cqg.rtd\",,\"StudyData\", $O$2, \"BAR\", \"\", \"Time\", $O$4,-$A199,$O$6,$O$10, \"\",\"False\",\"T\")","v":"2022-12-27"},{"$f":" RTD(\"cqg.rtd\",,\"StudyData\", $O$2, \"BAR\", \"\", \"Open\", $O$4, -$A199, $O$6,$O$10,,$O$8,$O$12)","v":4007.75},{"$f":" RTD(\"cqg.rtd\",,\"StudyData\", $O$2, \"BAR\", \"\", \"High\", $O$4, -$A199, $O$6,$O$10,,$O$8,$O$12)","v":4030.25},{"$f":" RTD(\"cqg.rtd\",,\"StudyData\", $O$2, \"BAR\", \"\", \"Low\", $O$4, -$A199, $O$6,$O$10,,$O$8,$O$12)","v":3967},{"$f":" RTD(\"cqg.rtd\",,\"StudyData\", $O$2, \"BAR\", \"\", \"Close\", $O$4, -$A199, $O$6,$O$10,,$O$8,$O$12)","v":3984.75},{"$f":" RTD(\"cqg.rtd\",,\"StudyData\",$O$2, \"ImpVol\",, \"MIVClose\",$O$4,-A199,$O$6,$O$10,,$O$8,$O$12)","v":21.465}]
[198,{"$f":" RTD(\"cqg.rtd\",,\"StudyData\", $O$2, \"BAR\", \"\", \"Time\", $O$4,-$A200,$O$6,$O$10, \"\",\"False\",\"T\")","v":"2022-12-23"},{"$f":" RTD(\"cqg.rtd\",,\"StudyData\", $O$2, \"BAR\", \"\", \"Open\", $O$4, -$A200, $O$6,$O$10,,$O$8,$O$12)","v":3979.75},{"$f":" RTD(\"cqg.rtd\",,\"StudyData\", $O$2, \"BAR\", \"\", \"High\", $O$4, -$A200, $O$6,$O$10,,$O$8,$O$12)","v":4002.25},{"$f":" RTD(\"cqg.rtd\",,\"StudyData\", $O$2, \"BAR\", \"\", \"Low\", $O$4, -$A200, $O$6,$O$10,,$O$8,$O$12)","v":3951},{"$f":" RTD(\"cqg.rtd\",,\"StudyData\", $O$2, \"BAR\", \"\", \"Close\", $O$4, -$A200, $O$6,$O$10,,$O$8,$O$12)","v":3999.5},{"$f":" RTD(\"cqg.rtd\",,\"StudyData\",$O$2, \"ImpVol\",, \"MIVClose\",$O$4,-A200,$O$6,$O$10,,$O$8,$O$12)","v":21.430000000000003}]
[199,{"$f":" RTD(\"cqg.rtd\",,\"StudyData\", $O$2, \"BAR\", \"\", \"Time\", $O$4,-$A201,$O$6,$O$10, \"\",\"False\",\"T\")","v":"2022-12-22"},{"$f":" RTD(\"cqg.rtd\",,\"StudyData\", $O$2, \"BAR\", \"\", \"Open\", $O$4, -$A201, $O$6,$O$10,,$O$8,$O$12)","v":4044.75},{"$f":" RTD(\"cqg.rtd\",,\"StudyData\", $O$2, \"BAR\", \"\", \"High\", $O$4, -$A201, $O$6,$O$10,,$O$8,$O$12)","v":4049.5},{"$f":" RTD(\"cqg.rtd\",,\"StudyData\", $O$2, \"BAR\", \"\", \"Low\", $O$4, -$A201, $O$6,$O$10,,$O$8,$O$12)","v":3918.25},{"$f":" RTD(\"cqg.rtd\",,\"StudyData\", $O$2, \"BAR\", \"\", \"Close\", $O$4, -$A201, $O$6,$O$10,,$O$8,$O$12)","v":3979},{"$f":" RTD(\"cqg.rtd\",,\"StudyData\",$O$2, \"ImpVol\",, \"MIVClose\",$O$4,-A201,$O$6,$O$10,,$O$8,$O$12)","v":21.830000000000002}]
[200,{"$f":" RTD(\"cqg.rtd\",,\"StudyData\", $O$2, \"BAR\", \"\", \"Time\", $O$4,-$A202,$O$6,$O$10, \"\",\"False\",\"T\")","v":"2022-12-21"},{"$f":" RTD(\"cqg.rtd\",,\"StudyData\", $O$2, \"BAR\", \"\", \"Open\", $O$4, -$A202, $O$6,$O$10,,$O$8,$O$12)","v":3987},{"$f":" RTD(\"cqg.rtd\",,\"StudyData\", $O$2, \"BAR\", \"\", \"High\", $O$4, -$A202, $O$6,$O$10,,$O$8,$O$12)","v":4048.5},{"$f":" RTD(\"cqg.rtd\",,\"StudyData\", $O$2, \"BAR\", \"\", \"Low\", $O$4, -$A202, $O$6,$O$10,,$O$8,$O$12)","v":3985.25},{"$f":" RTD(\"cqg.rtd\",,\"StudyData\", $O$2, \"BAR\", \"\", \"Close\", $O$4, -$A202, $O$6,$O$10,,$O$8,$O$12)","v":4035.5},{"$f":" RTD(\"cqg.rtd\",,\"StudyData\",$O$2, \"ImpVol\",, \"MIVClose\",$O$4,-A202,$O$6,$O$10,,$O$8,$O$12)","v":20.630000000000003}]
[201,{"$f":" RTD(\"cqg.rtd\",,\"StudyData\", $O$2, \"BAR\", \"\", \"Time\", $O$4,-$A203,$O$6,$O$10, \"\",\"False\",\"T\")","v":"2022-12-20"},{"$f":" RTD(\"cqg.rtd\",,\"StudyData\", $O$2, \"BAR\", \"\", \"Open\", $O$4, -$A203, $O$6,$O$10,,$O$8,$O$12)","v":3972.5},{"$f":" RTD(\"cqg.rtd\",,\"StudyData\", $O$2, \"BAR\", \"\", \"High\", $O$4, -$A203, $O$6,$O$10,,$O$8,$O$12)","v":3996.25},{"$f":" RTD(\"cqg.rtd\",,\"StudyData\", $O$2, \"BAR\", \"\", \"Low\", $O$4, -$A203, $O$6,$O$10,,$O$8,$O$12)","v":3933.25},{"$f":" RTD(\"cqg.rtd\",,\"StudyData\", $O$2, \"BAR\", \"\", \"Close\", $O$4, -$A203, $O$6,$O$10,,$O$8,$O$12)","v":3979},{"$f":" RTD(\"cqg.rtd\",,\"StudyData\",$O$2, \"ImpVol\",, \"MIVClose\",$O$4,-A203,$O$6,$O$10,,$O$8,$O$12)","v":21.500000000000004}]
[202,{"$f":" RTD(\"cqg.rtd\",,\"StudyData\", $O$2, \"BAR\", \"\", \"Time\", $O$4,-$A204,$O$6,$O$10, \"\",\"False\",\"T\")","v":"2022-12-19"},{"$f":" RTD(\"cqg.rtd\",,\"StudyData\", $O$2, \"BAR\", \"\", \"Open\", $O$4, -$A204, $O$6,$O$10,,$O$8,$O$12)","v":4003.75},{"$f":" RTD(\"cqg.rtd\",,\"StudyData\", $O$2, \"BAR\", \"\", \"High\", $O$4, -$A204, $O$6,$O$10,,$O$8,$O$12)","v":4028.75},{"$f":" RTD(\"cqg.rtd\",,\"StudyData\", $O$2, \"BAR\", \"\", \"Low\", $O$4, -$A204, $O$6,$O$10,,$O$8,$O$12)","v":3957},{"$f":" RTD(\"cqg.rtd\",,\"StudyData\", $O$2, \"BAR\", \"\", \"Close\", $O$4, -$A204, $O$6,$O$10,,$O$8,$O$12)","v":3975.25},{"$f":" RTD(\"cqg.rtd\",,\"StudyData\",$O$2, \"ImpVol\",, \"MIVClose\",$O$4,-A204,$O$6,$O$10,,$O$8,$O$12)","v":21.905000000000001}]
[203,{"$f":" RTD(\"cqg.rtd\",,\"StudyData\", $O$2, \"BAR\", \"\", \"Time\", $O$4,-$A205,$O$6,$O$10, \"\",\"False\",\"T\")","v":"2022-12-16"},{"$f":" RTD(\"cqg.rtd\",,\"StudyData\", $O$2, \"BAR\", \"\", \"Open\", $O$4, -$A205, $O$6,$O$10,,$O$8,$O$12)","v":4049.75},{"$f":" RTD(\"cqg.rtd\",,\"StudyData\", $O$2, \"BAR\", \"\", \"High\", $O$4, -$A205, $O$6,$O$10,,$O$8,$O$12)","v":4064.25},{"$f":" RTD(\"cqg.rtd\",,\"StudyData\", $O$2, \"BAR\", \"\", \"Low\", $O$4, -$A205, $O$6,$O$10,,$O$8,$O$12)","v":3985},{"$f":" RTD(\"cqg.rtd\",,\"StudyData\", $O$2, \"BAR\", \"\", \"Close\", $O$4, -$A205, $O$6,$O$10,,$O$8,$O$12)","v":4008.75},{"$f":" RTD(\"cqg.rtd\",,\"StudyData\",$O$2, \"ImpVol\",, \"MIVClose\",$O$4,-A205,$O$6,$O$10,,$O$8,$O$12)","v":21.975000000000001}]
[204,{"$f":" RTD(\"cqg.rtd\",,\"StudyData\", $O$2, \"BAR\", \"\", \"Time\", $O$4,-$A206,$O$6,$O$10, \"\",\"False\",\"T\")","v":"2022-12-15"},{"$f":" RTD(\"cqg.rtd\",,\"StudyData\", $O$2, \"BAR\", \"\", \"Open\", $O$4, -$A206, $O$6,$O$10,,$O$8,$O$12)","v":4166.75},{"$f":" RTD(\"cqg.rtd\",,\"StudyData\", $O$2, \"BAR\", \"\", \"High\", $O$4, -$A206, $O$6,$O$10,,$O$8,$O$12)","v":4172.75},{"$f":" RTD(\"cqg.rtd\",,\"StudyData\", $O$2, \"BAR\", \"\", \"Low\", $O$4, -$A206, $O$6,$O$10,,$O$8,$O$12)","v":4037.75},{"$f":" RTD(\"cqg.rtd\",,\"StudyData\", $O$2, \"BAR\", \"\", \"Close\", $O$4, -$A206, $O$6,$O$10,,$O$8,$O$12)","v":4057},{"$f":" RTD(\"cqg.rtd\",,\"StudyData\",$O$2, \"ImpVol\",, \"MIVClose\",$O$4,-A206,$O$6,$O$10,,$O$8,$O$12)","v":21.63}]
[205,{"$f":" RTD(\"cqg.rtd\",,\"StudyData\", $O$2, \"BAR\", \"\", \"Time\", $O$4,-$A207,$O$6,$O$10, \"\",\"False\",\"T\")","v":"2022-12-14"},{"$f":" RTD(\"cqg.rtd\",,\"StudyData\", $O$2, \"BAR\", \"\", \"Open\", $O$4, -$A207, $O$6,$O$10,,$O$8,$O$12)","v":4184.25},{"$f":" RTD(\"cqg.rtd\",,\"StudyData\", $O$2, \"BAR\", \"\", \"High\", $O$4, -$A207, $O$6,$O$10,,$O$8,$O$12)","v":4220.5},{"$f":" RTD(\"cqg.rtd\",,\"StudyData\", $O$2, \"BAR\", \"\", \"Low\", $O$4, -$A207, $O$6,$O$10,,$O$8,$O$12)","v":4126.75},{"$f":" RTD(\"cqg.rtd\",,\"StudyData\", $O$2, \"BAR\", \"\", \"Close\", $O$4, -$A207, $O$6,$O$10,,$O$8,$O$12)","v":4160.5},{"$f":" RTD(\"cqg.rtd\",,\"StudyData\",$O$2, \"ImpVol\",, \"MIVClose\",$O$4,-A207,$O$6,$O$10,,$O$8,$O$12)","v":20.22}]
[206,{"$f":" RTD(\"cqg.rtd\",,\"StudyData\", $O$2, \"BAR\", \"\", \"Time\", $O$4,-$A208,$O$6,$O$10, \"\",\"False\",\"T\")","v":"2022-12-13"},{"$f":" RTD(\"cqg.rtd\",,\"StudyData\", $O$2, \"BAR\", \"\", \"Open\", $O$4, -$A208, $O$6,$O$10,,$O$8,$O$12)","v":4152},{"$f":" RTD(\"cqg.rtd\",,\"StudyData\", $O$2, \"BAR\", \"\", \"High\", $O$4, -$A208, $O$6,$O$10,,$O$8,$O$12)","v":4309.75},{"$f":" RTD(\"cqg.rtd\",,\"StudyData\", $O$2, \"BAR\", \"\", \"Low\", $O$4, -$A208, $O$6,$O$10,,$O$8,$O$12)","v":4147.25},{"$f":" RTD(\"cqg.rtd\",,\"StudyData\", $O$2, \"BAR\", \"\", \"Close\", $O$4, -$A208, $O$6,$O$10,,$O$8,$O$12)","v":4185},{"$f":" RTD(\"cqg.rtd\",,\"StudyData\",$O$2, \"ImpVol\",, \"MIVClose\",$O$4,-A208,$O$6,$O$10,,$O$8,$O$12)","v":20.6}]
[207,{"$f":" RTD(\"cqg.rtd\",,\"StudyData\", $O$2, \"BAR\", \"\", \"Time\", $O$4,-$A209,$O$6,$O$10, \"\",\"False\",\"T\")","v":"2022-12-12"},{"$f":" RTD(\"cqg.rtd\",,\"StudyData\", $O$2, \"BAR\", \"\", \"Open\", $O$4, -$A209, $O$6,$O$10,,$O$8,$O$12)","v":4095.5},{"$f":" RTD(\"cqg.rtd\",,\"StudyData\", $O$2, \"BAR\", \"\", \"High\", $O$4, -$A209, $O$6,$O$10,,$O$8,$O$12)","v":4155.75},{"$f":" RTD(\"cqg.rtd\",,\"StudyData\", $O$2, \"BAR\", \"\", \"Low\", $O$4, -$A209, $O$6,$O$10,,$O$8,$O$12)","v":4085.75},{"$f":" RTD(\"cqg.rtd\",,\"StudyData\", $O$2, \"BAR\", \"\", \"Close\", $O$4, -$A209, $O$6,$O$10,,$O$8,$O$12)","v":4154.75},{"$f":" RTD(\"cqg.rtd\",,\"StudyData\",$O$2, \"ImpVol\",, \"MIVClose\",$O$4,-A209,$O$6,$O$10,,$O$8,$O$12)","v":21.884999999999998}]
[208,{"$f":" RTD(\"cqg.rtd\",,\"StudyData\", $O$2, \"BAR\", \"\", \"Time\", $O$4,-$A210,$O$6,$O$10, \"\",\"False\",\"T\")","v":"2022-12-09"},{"$f":" RTD(\"cqg.rtd\",,\"StudyData\", $O$2, \"BAR\", \"\", \"Open\", $O$4, -$A210, $O$6,$O$10,,$O$8,$O$12)","v":4126.5},{"$f":" RTD(\"cqg.rtd\",,\"StudyData\", $O$2, \"BAR\", \"\", \"High\", $O$4, -$A210, $O$6,$O$10,,$O$8,$O$12)","v":4151.75},{"$f":" RTD(\"cqg.rtd\",,\"StudyData\", $O$2, \"BAR\", \"\", \"Low\", $O$4, -$A210, $O$6,$O$10,,$O$8,$O$12)","v":4091.75},{"$f":" RTD(\"cqg.rtd\",,\"StudyData\", $O$2, \"BAR\", \"\", \"Close\", $O$4, -$A210, $O$6,$O$10,,$O$8,$O$12)","v":4098},{"$f":" RTD(\"cqg.rtd\",,\"StudyData\",$O$2, \"ImpVol\",, \"MIVClose\",$O$4,-A210,$O$6,$O$10,,$O$8,$O$12)","v":22.01}]
[209,{"$f":" RTD(\"cqg.rtd\",,\"StudyData\", $O$2, \"BAR\", \"\", \"Time\", $O$4,-$A211,$O$6,$O$10, \"\",\"False\",\"T\")","v":"2022-12-08"},{"$f":" RTD(\"cqg.rtd\",,\"StudyData\", $O$2, \"BAR\", \"\", \"Open\", $O$4, -$A211, $O$6,$O$10,,$O$8,$O$12)","v":4097.5},{"$f":" RTD(\"cqg.rtd\",,\"StudyData\", $O$2, \"BAR\", \"\", \"High\", $O$4, -$A211, $O$6,$O$10,,$O$8,$O$12)","v":4139},{"$f":" RTD(\"cqg.rtd\",,\"StudyData\", $O$2, \"BAR\", \"\", \"Low\", $O$4, -$A211, $O$6,$O$10,,$O$8,$O$12)","v":4077.75},{"$f":" RTD(\"cqg.rtd\",,\"StudyData\", $O$2, \"BAR\", \"\", \"Close\", $O$4, -$A211, $O$6,$O$10,,$O$8,$O$12)","v":4127.5},{"$f":" RTD(\"cqg.rtd\",,\"StudyData\",$O$2, \"ImpVol\",, \"MIVClose\",$O$4,-A211,$O$6,$O$10,,$O$8,$O$12)","v":21.455000000000002}]
[210,{"$f":" RTD(\"cqg.rtd\",,\"StudyData\", $O$2, \"BAR\", \"\", \"Time\", $O$4,-$A212,$O$6,$O$10, \"\",\"False\",\"T\")","v":"2022-12-07"},{"$f":" RTD(\"cqg.rtd\",,\"StudyData\", $O$2, \"BAR\", \"\", \"Open\", $O$4, -$A212, $O$6,$O$10,,$O$8,$O$12)","v":4106.25},{"$f":" RTD(\"cqg.rtd\",,\"StudyData\", $O$2, \"BAR\", \"\", \"High\", $O$4, -$A212, $O$6,$O$10,,$O$8,$O$12)","v":4123.25},{"$f":" RTD(\"cqg.rtd\",,\"StudyData\", $O$2, \"BAR\", \"\", \"Low\", $O$4, -$A212, $O$6,$O$10,,$O$8,$O$12)","v":4075.75},{"$f":" RTD(\"cqg.rtd\",,\"StudyData\", $O$2, \"BAR\", \"\", \"Close\", $O$4, -$A212, $O$6,$O$10,,$O$8,$O$12)","v":4098.5},{"$f":" RTD(\"cqg.rtd\",,\"StudyData\",$O$2, \"ImpVol\",, \"MIVClose\",$O$4,-A212,$O$6,$O$10,,$O$8,$O$12)","v":21.875}]
[211,{"$f":" RTD(\"cqg.rtd\",,\"StudyData\", $O$2, \"BAR\", \"\", \"Time\", $O$4,-$A213,$O$6,$O$10, \"\",\"False\",\"T\")","v":"2022-12-06"},{"$f":" RTD(\"cqg.rtd\",,\"StudyData\", $O$2, \"BAR\", \"\", \"Open\", $O$4, -$A213, $O$6,$O$10,,$O$8,$O$12)","v":4167.5},{"$f":" RTD(\"cqg.rtd\",,\"StudyData\", $O$2, \"BAR\", \"\", \"High\", $O$4, -$A213, $O$6,$O$10,,$O$8,$O$12)","v":4176.5},{"$f":" RTD(\"cqg.rtd\",,\"StudyData\", $O$2, \"BAR\", \"\", \"Low\", $O$4, -$A213, $O$6,$O$10,,$O$8,$O$12)","v":4083.25},{"$f":" RTD(\"cqg.rtd\",,\"StudyData\", $O$2, \"BAR\", \"\", \"Close\", $O$4, -$A213, $O$6,$O$10,,$O$8,$O$12)","v":4106.75},{"$f":" RTD(\"cqg.rtd\",,\"StudyData\",$O$2, \"ImpVol\",, \"MIVClose\",$O$4,-A213,$O$6,$O$10,,$O$8,$O$12)","v":21.430000000000003}]
[212,{"$f":" RTD(\"cqg.rtd\",,\"StudyData\", $O$2, \"BAR\", \"\", \"Time\", $O$4,-$A214,$O$6,$O$10, \"\",\"False\",\"T\")","v":"2022-12-05"},{"$f":" RTD(\"cqg.rtd\",,\"StudyData\", $O$2, \"BAR\", \"\", \"Open\", $O$4, -$A214, $O$6,$O$10,,$O$8,$O$12)","v":4235.75},{"$f":" RTD(\"cqg.rtd\",,\"StudyData\", $O$2, \"BAR\", \"\", \"High\", $O$4, -$A214, $O$6,$O$10,,$O$8,$O$12)","v":4237.5},{"$f":" RTD(\"cqg.rtd\",,\"StudyData\", $O$2, \"BAR\", \"\", \"Low\", $O$4, -$A214, $O$6,$O$10,,$O$8,$O$12)","v":4149},{"$f":" RTD(\"cqg.rtd\",,\"StudyData\", $O$2, \"BAR\", \"\", \"Close\", $O$4, -$A214, $O$6,$O$10,,$O$8,$O$12)","v":4165},{"$f":" RTD(\"cqg.rtd\",,\"StudyData\",$O$2, \"ImpVol\",, \"MIVClose\",$O$4,-A214,$O$6,$O$10,,$O$8,$O$12)","v":20.51}]
[213,{"$f":" RTD(\"cqg.rtd\",,\"StudyData\", $O$2, \"BAR\", \"\", \"Time\", $O$4,-$A215,$O$6,$O$10, \"\",\"False\",\"T\")","v":"2022-12-02"},{"$f":" RTD(\"cqg.rtd\",,\"StudyData\", $O$2, \"BAR\", \"\", \"Open\", $O$4, -$A215, $O$6,$O$10,,$O$8,$O$12)","v":4239.25},{"$f":" RTD(\"cqg.rtd\",,\"StudyData\", $O$2, \"BAR\", \"\", \"High\", $O$4, -$A215, $O$6,$O$10,,$O$8,$O$12)","v":4247.25},{"$f":" RTD(\"cqg.rtd\",,\"StudyData\", $O$2, \"BAR\", \"\", \"Low\", $O$4, -$A215, $O$6,$O$10,,$O$8,$O$12)","v":4168.5},{"$f":" RTD(\"cqg.rtd\",,\"StudyData\", $O$2, \"BAR\", \"\", \"Close\", $O$4, -$A215, $O$6,$O$10,,$O$8,$O$12)","v":4237.25},{"$f":" RTD(\"cqg.rtd\",,\"StudyData\",$O$2, \"ImpVol\",, \"MIVClose\",$O$4,-A215,$O$6,$O$10,,$O$8,$O$12)","v":19.759999999999998}]
[214,{"$f":" RTD(\"cqg.rtd\",,\"StudyData\", $O$2, \"BAR\", \"\", \"Time\", $O$4,-$A216,$O$6,$O$10, \"\",\"False\",\"T\")","v":"2022-12-01"},{"$f":" RTD(\"cqg.rtd\",,\"StudyData\", $O$2, \"BAR\", \"\", \"Open\", $O$4, -$A216, $O$6,$O$10,,$O$8,$O$12)","v":4256.25},{"$f":" RTD(\"cqg.rtd\",,\"StudyData\", $O$2, \"BAR\", \"\", \"High\", $O$4, -$A216, $O$6,$O$10,,$O$8,$O$12)","v":4271.75},{"$f":" RTD(\"cqg.rtd\",,\"StudyData\", $O$2, \"BAR\", \"\", \"Low\", $O$4, -$A216, $O$6,$O$10,,$O$8,$O$12)","v":4216.25},{"$f":" RTD(\"cqg.rtd\",,\"StudyData\", $O$2, \"BAR\", \"\", \"Close\", $O$4, -$A216, $O$6,$O$10,,$O$8,$O$12)","v":4243.5},{"$f":" RTD(\"cqg.rtd\",,\"StudyData\",$O$2, \"ImpVol\",, \"MIVClose\",$O$4,-A216,$O$6,$O$10,,$O$8,$O$12)","v":20.155000000000001}]
[215,{"$f":" RTD(\"cqg.rtd\",,\"StudyData\", $O$2, \"BAR\", \"\", \"Time\", $O$4,-$A217,$O$6,$O$10, \"\",\"False\",\"T\")","v":"2022-11-30"},{"$f":" RTD(\"cqg.rtd\",,\"StudyData\", $O$2, \"BAR\", \"\", \"Open\", $O$4, -$A217, $O$6,$O$10,,$O$8,$O$12)","v":4124},{"$f":" RTD(\"cqg.rtd\",,\"StudyData\", $O$2, \"BAR\", \"\", \"High\", $O$4, -$A217, $O$6,$O$10,,$O$8,$O$12)","v":4255.25},{"$f":" RTD(\"cqg.rtd\",,\"StudyData\", $O$2, \"BAR\", \"\", \"Low\", $O$4, -$A217, $O$6,$O$10,,$O$8,$O$12)","v":4104.5},{"$f":" RTD(\"cqg.rtd\",,\"StudyData\", $O$2, \"BAR\", \"\", \"Close\", $O$4, -$A217, $O$6,$O$10,,$O$8,$O$12)","v":4243},{"$f":" RTD(\"cqg.rtd\",,\"StudyData\",$O$2, \"ImpVol\",, \"MIVClose\",$O$4,-A217,$O$6,$O$10,,$O$8,$O$12)","v":20.290000000000003}]
[216,{"$f":" RTD(\"cqg.rtd\",,\"StudyData\", $O$2, \"BAR\", \"\", \"Time\", $O$4,-$A218,$O$6,$O$10, \"\",\"False\",\"T\")","v":"2022-11-29"},{"$f":" RTD(\"cqg.rtd\",,\"StudyData\", $O$2, \"BAR\", \"\", \"Open\", $O$4, -$A218, $O$6,$O$10,,$O$8,$O$12)","v":4133.75},{"$f":" RTD(\"cqg.rtd\",,\"StudyData\", $O$2, \"BAR\", \"\", \"High\", $O$4, -$A218, $O$6,$O$10,,$O$8,$O$12)","v":4152},{"$f":" RTD(\"cqg.rtd\",,\"StudyData\", $O$2, \"BAR\", \"\", \"Low\", $O$4, -$A218, $O$6,$O$10,,$O$8,$O$12)","v":4103},{"$f":" RTD(\"cqg.rtd\",,\"StudyData\", $O$2, \"BAR\", \"\", \"Close\", $O$4, -$A218, $O$6,$O$10,,$O$8,$O$12)","v":4123.75},{"$f":" RTD(\"cqg.rtd\",,\"StudyData\",$O$2, \"ImpVol\",, \"MIVClose\",$O$4,-A218,$O$6,$O$10,,$O$8,$O$12)","v":21.315000000000001}]
[217,{"$f":" RTD(\"cqg.rtd\",,\"StudyData\", $O$2, \"BAR\", \"\", \"Time\", $O$4,-$A219,$O$6,$O$10, \"\",\"False\",\"T\")","v":"2022-11-28"},{"$f":" RTD(\"cqg.rtd\",,\"StudyData\", $O$2, \"BAR\", \"\", \"Open\", $O$4, -$A219, $O$6,$O$10,,$O$8,$O$12)","v":4182},{"$f":" RTD(\"cqg.rtd\",,\"StudyData\", $O$2, \"BAR\", \"\", \"High\", $O$4, -$A219, $O$6,$O$10,,$O$8,$O$12)","v":4185.75},{"$f":" RTD(\"cqg.rtd\",,\"StudyData\", $O$2, \"BAR\", \"\", \"Low\", $O$4, -$A219, $O$6,$O$10,,$O$8,$O$12)","v":4122},{"$f":" RTD(\"cqg.rtd\",,\"StudyData\", $O$2, \"BAR\", \"\", \"Close\", $O$4, -$A219, $O$6,$O$10,,$O$8,$O$12)","v":4132},{"$f":" RTD(\"cqg.rtd\",,\"StudyData\",$O$2, \"ImpVol\",, \"MIVClose\",$O$4,-A219,$O$6,$O$10,,$O$8,$O$12)","v":20.925000000000001}]
[218,{"$f":" RTD(\"cqg.rtd\",,\"StudyData\", $O$2, \"BAR\", \"\", \"Time\", $O$4,-$A220,$O$6,$O$10, \"\",\"False\",\"T\")","v":"2022-11-25"},{"$f":" RTD(\"cqg.rtd\",,\"StudyData\", $O$2, \"BAR\", \"\", \"Open\", $O$4, -$A220, $O$6,$O$10,,$O$8,$O$12)","v":4200.5},{"$f":" RTD(\"cqg.rtd\",,\"StudyData\", $O$2, \"BAR\", \"\", \"High\", $O$4, -$A220, $O$6,$O$10,,$O$8,$O$12)","v":4211},{"$f":" RTD(\"cqg.rtd\",,\"StudyData\", $O$2, \"BAR\", \"\", \"Low\", $O$4, -$A220, $O$6,$O$10,,$O$8,$O$12)","v":4186.5},{"$f":" RTD(\"cqg.rtd\",,\"StudyData\", $O$2, \"BAR\", \"\", \"Close\", $O$4, -$A220, $O$6,$O$10,,$O$8,$O$12)","v":4194.25},{"$f":" RTD(\"cqg.rtd\",,\"StudyData\",$O$2, \"ImpVol\",, \"MIVClose\",$O$4,-A220,$O$6,$O$10,,$O$8,$O$12)","v":19.61}]
[219,{"$f":" RTD(\"cqg.rtd\",,\"StudyData\", $O$2, \"BAR\", \"\", \"Time\", $O$4,-$A221,$O$6,$O$10, \"\",\"False\",\"T\")","v":"2022-11-23"},{"$f":" RTD(\"cqg.rtd\",,\"StudyData\", $O$2, \"BAR\", \"\", \"Open\", $O$4, -$A221, $O$6,$O$10,,$O$8,$O$12)","v":4171.75},{"$f":" RTD(\"cqg.rtd\",,\"StudyData\", $O$2, \"BAR\", \"\", \"High\", $O$4, -$A221, $O$6,$O$10,,$O$8,$O$12)","v":4201.25},{"$f":" RTD(\"cqg.rtd\",,\"StudyData\", $O$2, \"BAR\", \"\", \"Low\", $O$4, -$A221, $O$6,$O$10,,$O$8,$O$12)","v":4163.75},{"$f":" RTD(\"cqg.rtd\",,\"StudyData\", $O$2, \"BAR\", \"\", \"Close\", $O$4, -$A221, $O$6,$O$10,,$O$8,$O$12)","v":4194.75},{"$f":" RTD(\"cqg.rtd\",,\"StudyData\",$O$2, \"ImpVol\",, \"MIVClose\",$O$4,-A221,$O$6,$O$10,,$O$8,$O$12)","v":19.180000000000003}]
[220,{"$f":" RTD(\"cqg.rtd\",,\"StudyData\", $O$2, \"BAR\", \"\", \"Time\", $O$4,-$A222,$O$6,$O$10, \"\",\"False\",\"T\")","v":"2022-11-22"},{"$f":" RTD(\"cqg.rtd\",,\"StudyData\", $O$2, \"BAR\", \"\", \"Open\", $O$4, -$A222, $O$6,$O$10,,$O$8,$O$12)","v":4119.5},{"$f":" RTD(\"cqg.rtd\",,\"StudyData\", $O$2, \"BAR\", \"\", \"High\", $O$4, -$A222, $O$6,$O$10,,$O$8,$O$12)","v":4174.25},{"$f":" RTD(\"cqg.rtd\",,\"StudyData\", $O$2, \"BAR\", \"\", \"Low\", $O$4, -$A222, $O$6,$O$10,,$O$8,$O$12)","v":4107},{"$f":" RTD(\"cqg.rtd\",,\"StudyData\", $O$2, \"BAR\", \"\", \"Close\", $O$4, -$A222, $O$6,$O$10,,$O$8,$O$12)","v":4172},{"$f":" RTD(\"cqg.rtd\",,\"StudyData\",$O$2, \"ImpVol\",, \"MIVClose\",$O$4,-A222,$O$6,$O$10,,$O$8,$O$12)","v":19.925000000000001}]
[221,{"$f":" RTD(\"cqg.rtd\",,\"StudyData\", $O$2, \"BAR\", \"\", \"Time\", $O$4,-$A223,$O$6,$O$10, \"\",\"False\",\"T\")","v":"2022-11-21"},{"$f":" RTD(\"cqg.rtd\",,\"StudyData\", $O$2, \"BAR\", \"\", \"Open\", $O$4, -$A223, $O$6,$O$10,,$O$8,$O$12)","v":4134.25},{"$f":" RTD(\"cqg.rtd\",,\"StudyData\", $O$2, \"BAR\", \"\", \"High\", $O$4, -$A223, $O$6,$O$10,,$O$8,$O$12)","v":4143.75},{"$f":" RTD(\"cqg.rtd\",,\"StudyData\", $O$2, \"BAR\", \"\", \"Low\", $O$4, -$A223, $O$6,$O$10,,$O$8,$O$12)","v":4099.25},{"$f":" RTD(\"cqg.rtd\",,\"StudyData\", $O$2, \"BAR\", \"\", \"Close\", $O$4, -$A223, $O$6,$O$10,,$O$8,$O$12)","v":4119.75},{"$f":" RTD(\"cqg.rtd\",,\"StudyData\",$O$2, \"ImpVol\",, \"MIVClose\",$O$4,-A223,$O$6,$O$10,,$O$8,$O$12)","v":20.66}]
[222,{"$f":" RTD(\"cqg.rtd\",,\"StudyData\", $O$2, \"BAR\", \"\", \"Time\", $O$4,-$A224,$O$6,$O$10, \"\",\"False\",\"T\")","v":"2022-11-18"},{"$f":" RTD(\"cqg.rtd\",,\"StudyData\", $O$2, \"BAR\", \"\", \"Open\", $O$4, -$A224, $O$6,$O$10,,$O$8,$O$12)","v":4122.25},{"$f":" RTD(\"cqg.rtd\",,\"StudyData\", $O$2, \"BAR\", \"\", \"High\", $O$4, -$A224, $O$6,$O$10,,$O$8,$O$12)","v":4155.75},{"$f":" RTD(\"cqg.rtd\",,\"StudyData\", $O$2, \"BAR\", \"\", \"Low\", $O$4, -$A224, $O$6,$O$10,,$O$8,$O$12)","v":4104.25},{"$f":" RTD(\"cqg.rtd\",,\"StudyData\", $O$2, \"BAR\", \"\", \"Close\", $O$4, -$A224, $O$6,$O$10,,$O$8,$O$12)","v":4135.75},{"$f":" RTD(\"cqg.rtd\",,\"StudyData\",$O$2, \"ImpVol\",, \"MIVClose\",$O$4,-A224,$O$6,$O$10,,$O$8,$O$12)","v":21.54}]
[223,{"$f":" RTD(\"cqg.rtd\",,\"StudyData\", $O$2, \"BAR\", \"\", \"Time\", $O$4,-$A225,$O$6,$O$10, \"\",\"False\",\"T\")","v":"2022-11-17"},{"$f":" RTD(\"cqg.rtd\",,\"StudyData\", $O$2, \"BAR\", \"\", \"Open\", $O$4, -$A225, $O$6,$O$10,,$O$8,$O$12)","v":4139},{"$f":" RTD(\"cqg.rtd\",,\"StudyData\", $O$2, \"BAR\", \"\", \"High\", $O$4, -$A225, $O$6,$O$10,,$O$8,$O$12)","v":4152},{"$f":" RTD(\"cqg.rtd\",,\"StudyData\", $O$2, \"BAR\", \"\", \"Low\", $O$4, -$A225, $O$6,$O$10,,$O$8,$O$12)","v":4074.25},{"$f":" RTD(\"cqg.rtd\",,\"StudyData\", $O$2, \"BAR\", \"\", \"Close\", $O$4, -$A225, $O$6,$O$10,,$O$8,$O$12)","v":4117},{"$f":" RTD(\"cqg.rtd\",,\"StudyData\",$O$2, \"ImpVol\",, \"MIVClose\",$O$4,-A225,$O$6,$O$10,,$O$8,$O$12)","v":21.860000000000003}]
[224,{"$f":" RTD(\"cqg.rtd\",,\"StudyData\", $O$2, \"BAR\", \"\", \"Time\", $O$4,-$A226,$O$6,$O$10, \"\",\"False\",\"T\")","v":"2022-11-16"},{"$f":" RTD(\"cqg.rtd\",,\"StudyData\", $O$2, \"BAR\", \"\", \"Open\", $O$4, -$A226, $O$6,$O$10,,$O$8,$O$12)","v":4153.75},{"$f":" RTD(\"cqg.rtd\",,\"StudyData\", $O$2, \"BAR\", \"\", \"High\", $O$4, -$A226, $O$6,$O$10,,$O$8,$O$12)","v":4177.5},{"$f":" RTD(\"cqg.rtd\",,\"StudyData\", $O$2, \"BAR\", \"\", \"Low\", $O$4, -$A226, $O$6,$O$10,,$O$8,$O$12)","v":4123.75},{"$f":" RTD(\"cqg.rtd\",,\"StudyData\", $O$2, \"BAR\", \"\", \"Close\", $O$4, -$A226, $O$6,$O$10,,$O$8,$O$12)","v":4130.25},{"$f":" RTD(\"cqg.rtd\",,\"StudyData\",$O$2, \"ImpVol\",, \"MIVClose\",$O$4,-A226,$O$6,$O$10,,$O$8,$O$12)","v":21.824999999999999}]
[225,{"$f":" RTD(\"cqg.rtd\",,\"StudyData\", $O$2, \"BAR\", \"\", \"Time\", $O$4,-$A227,$O$6,$O$10, \"\",\"False\",\"T\")","v":"2022-11-15"},{"$f":" RTD(\"cqg.rtd\",,\"StudyData\", $O$2, \"BAR\", \"\", \"Open\", $O$4, -$A227, $O$6,$O$10,,$O$8,$O$12)","v":4136.5},{"$f":" RTD(\"cqg.rtd\",,\"StudyData\", $O$2, \"BAR\", \"\", \"High\", $O$4, -$A227, $O$6,$O$10,,$O$8,$O$12)","v":4212.5},{"$f":" RTD(\"cqg.rtd\",,\"StudyData\", $O$2, \"BAR\", \"\", \"Low\", $O$4, -$A227, $O$6,$O$10,,$O$8,$O$12)","v":4121.75},{"$f":" RTD(\"cqg.rtd\",,\"StudyData\", $O$2, \"BAR\", \"\", \"Close\", $O$4, -$A227, $O$6,$O$10,,$O$8,$O$12)","v":4161.25},{"$f":" RTD(\"cqg.rtd\",,\"StudyData\",$O$2, \"ImpVol\",, \"MIVClose\",$O$4,-A227,$O$6,$O$10,,$O$8,$O$12)","v":21.755000000000003}]
[226,{"$f":" RTD(\"cqg.rtd\",,\"StudyData\", $O$2, \"BAR\", \"\", \"Time\", $O$4,-$A228,$O$6,$O$10, \"\",\"False\",\"T\")","v":"2022-11-14"},{"$f":" RTD(\"cqg.rtd\",,\"StudyData\", $O$2, \"BAR\", \"\", \"Open\", $O$4, -$A228, $O$6,$O$10,,$O$8,$O$12)","v":4145.75},{"$f":" RTD(\"cqg.rtd\",,\"StudyData\", $O$2, \"BAR\", \"\", \"High\", $O$4, -$A228, $O$6,$O$10,,$O$8,$O$12)","v":4179.25},{"$f":" RTD(\"cqg.rtd\",,\"StudyData\", $O$2, \"BAR\", \"\", \"Low\", $O$4, -$A228, $O$6,$O$10,,$O$8,$O$12)","v":4125.75},{"$f":" RTD(\"cqg.rtd\",,\"StudyData\", $O$2, \"BAR\", \"\", \"Close\", $O$4, -$A228, $O$6,$O$10,,$O$8,$O$12)","v":4127.75},{"$f":" RTD(\"cqg.rtd\",,\"StudyData\",$O$2, \"ImpVol\",, \"MIVClose\",$O$4,-A228,$O$6,$O$10,,$O$8,$O$12)","v":21.72}]
[227,{"$f":" RTD(\"cqg.rtd\",,\"StudyData\", $O$2, \"BAR\", \"\", \"Time\", $O$4,-$A229,$O$6,$O$10, \"\",\"False\",\"T\")","v":"2022-11-11"},{"$f":" RTD(\"cqg.rtd\",,\"StudyData\", $O$2, \"BAR\", \"\", \"Open\", $O$4, -$A229, $O$6,$O$10,,$O$8,$O$12)","v":4134.75},{"$f":" RTD(\"cqg.rtd\",,\"StudyData\", $O$2, \"BAR\", \"\", \"High\", $O$4, -$A229, $O$6,$O$10,,$O$8,$O$12)","v":4171.5},{"$f":" RTD(\"cqg.rtd\",,\"StudyData\", $O$2, \"BAR\", \"\", \"Low\", $O$4, -$A229, $O$6,$O$10,,$O$8,$O$12)","v":4112.75},{"$f":" RTD(\"cqg.rtd\",,\"StudyData\", $O$2, \"BAR\", \"\", \"Close\", $O$4, -$A229, $O$6,$O$10,,$O$8,$O$12)","v":4162},{"$f":" RTD(\"cqg.rtd\",,\"StudyData\",$O$2, \"ImpVol\",, \"MIVClose\",$O$4,-A229,$O$6,$O$10,,$O$8,$O$12)","v":21.450000000000003}]
[228,{"$f":" RTD(\"cqg.rtd\",,\"StudyData\", $O$2, \"BAR\", \"\", \"Time\", $O$4,-$A230,$O$6,$O$10, \"\",\"False\",\"T\")","v":"2022-11-10"},{"$f":" RTD(\"cqg.rtd\",,\"StudyData\", $O$2, \"BAR\", \"\", \"Open\", $O$4, -$A230, $O$6,$O$10,,$O$8,$O$12)","v":3918.75},{"$f":" RTD(\"cqg.rtd\",,\"StudyData\", $O$2, \"BAR\", \"\", \"High\", $O$4, -$A230, $O$6,$O$10,,$O$8,$O$12)","v":4135.25},{"$f":" RTD(\"cqg.rtd\",,\"StudyData\", $O$2, \"BAR\", \"\", \"Low\", $O$4, -$A230, $O$6,$O$10,,$O$8,$O$12)","v":3913.25},{"$f":" RTD(\"cqg.rtd\",,\"StudyData\", $O$2, \"BAR\", \"\", \"Close\", $O$4, -$A230, $O$6,$O$10,,$O$8,$O$12)","v":4122.75},{"$f":" RTD(\"cqg.rtd\",,\"StudyData\",$O$2, \"ImpVol\",, \"MIVClose\",$O$4,-A230,$O$6,$O$10,,$O$8,$O$12)","v":22.625}]
[229,{"$f":" RTD(\"cqg.rtd\",,\"StudyData\", $O$2, \"BAR\", \"\", \"Time\", $O$4,-$A231,$O$6,$O$10, \"\",\"False\",\"T\")","v":"2022-11-09"},{"$f":" RTD(\"cqg.rtd\",,\"StudyData\", $O$2, \"BAR\", \"\", \"Open\", $O$4, -$A231, $O$6,$O$10,,$O$8,$O$12)","v":3994.25},{"$f":" RTD(\"cqg.rtd\",,\"StudyData\", $O$2, \"BAR\", \"\", \"High\", $O$4, -$A231, $O$6,$O$10,,$O$8,$O$12)","v":4010.5},{"$f":" RTD(\"cqg.rtd\",,\"StudyData\", $O$2, \"BAR\", \"\", \"Low\", $O$4, -$A231, $O$6,$O$10,,$O$8,$O$12)","v":3911.75},{"$f":" RTD(\"cqg.rtd\",,\"StudyData\", $O$2, \"BAR\", \"\", \"Close\", $O$4, -$A231, $O$6,$O$10,,$O$8,$O$12)","v":3917.25},{"$f":" RTD(\"cqg.rtd\",,\"StudyData\",$O$2, \"ImpVol\",, \"MIVClose\",$O$4,-A231,$O$6,$O$10,,$O$8,$O$12)","v":24.735000000000003}]
[230,{"$f":" RTD(\"cqg.rtd\",,\"StudyData\", $O$2, \"BAR\", \"\", \"Time\", $O$4,-$A232,$O$6,$O$10, \"\",\"False\",\"T\")","v":"2022-11-08"},{"$f":" RTD(\"cqg.rtd\",,\"StudyData\", $O$2, \"BAR\", \"\", \"Open\", $O$4, -$A232, $O$6,$O$10,,$O$8,$O$12)","v":3974.5},{"$f":" RTD(\"cqg.rtd\",,\"StudyData\", $O$2, \"BAR\", \"\", \"High\", $O$4, -$A232, $O$6,$O$10,,$O$8,$O$12)","v":4028.75},{"$f":" RTD(\"cqg.rtd\",,\"StudyData\", $O$2, \"BAR\", \"\", \"Low\", $O$4, -$A232, $O$6,$O$10,,$O$8,$O$12)","v":3954.5},{"$f":" RTD(\"cqg.rtd\",,\"StudyData\", $O$2, \"BAR\", \"\", \"Close\", $O$4, -$A232, $O$6,$O$10,,$O$8,$O$12)","v":3997},{"$f":" RTD(\"cqg.rtd\",,\"StudyData\",$O$2, \"ImpVol\",, \"MIVClose\",$O$4,-A232,$O$6,$O$10,,$O$8,$O$12)","v":24.12}]
[231,{"$f":" RTD(\"cqg.rtd\",,\"StudyData\", $O$2, \"BAR\", \"\", \"Time\", $O$4,-$A233,$O$6,$O$10, \"\",\"False\",\"T\")","v":"2022-11-07"},{"$f":" RTD(\"cqg.rtd\",,\"StudyData\", $O$2, \"BAR\", \"\", \"Open\", $O$4, -$A233, $O$6,$O$10,,$O$8,$O$12)","v":3911.75},{"$f":" RTD(\"cqg.rtd\",,\"StudyData\", $O$2, \"BAR\", \"\", \"High\", $O$4, -$A233, $O$6,$O$10,,$O$8,$O$12)","v":3983.5},{"$f":" RTD(\"cqg.rtd\",,\"StudyData\", $O$2, \"BAR\", \"\", \"Low\", $O$4, -$A233, $O$6,$O$10,,$O$8,$O$12)","v":3900},{"$f":" RTD(\"cqg.rtd\",,\"StudyData\", $O$2, \"BAR\", \"\", \"Close\", $O$4, -$A233, $O$6,$O$10,,$O$8,$O$12)","v":3977},{"$f":" RTD(\"cqg.rtd\",,\"StudyData\",$O$2, \"ImpVol\",, \"MIVClose\",$O$4,-A233,$O$6,$O$10,,$O$8,$O$12)","v":23.360000000000003}]
[232,{"$f":" RTD(\"cqg.rtd\",,\"StudyData\", $O$2, \"BAR\", \"\", \"Time\", $O$4,-$A234,$O$6,$O$10, \"\",\"False\",\"T\")","v":"2022-11-04"},{"$f":" RTD(\"cqg.rtd\",,\"StudyData\", $O$2, \"BAR\", \"\", \"Open\", $O$4, -$A234, $O$6,$O$10,,$O$8,$O$12)","v":3885.75},{"$f":" RTD(\"cqg.rtd\",,\"StudyData\", $O$2, \"BAR\", \"\", \"High\", $O$4, -$A234, $O$6,$O$10,,$O$8,$O$12)","v":3967.25},{"$f":" RTD(\"cqg.rtd\",,\"StudyData\", $O$2, \"BAR\", \"\", \"Low\", $O$4, -$A234, $O$6,$O$10,,$O$8,$O$12)","v":3872.75},{"$f":" RTD(\"cqg.rtd\",,\"StudyData\", $O$2, \"BAR\", \"\", \"Close\", $O$4, -$A234, $O$6,$O$10,,$O$8,$O$12)","v":3941.25},{"$f":" RTD(\"cqg.rtd\",,\"StudyData\",$O$2, \"ImpVol\",, \"MIVClose\",$O$4,-A234,$O$6,$O$10,,$O$8,$O$12)","v":23.89}]
[233,{"$f":" RTD(\"cqg.rtd\",,\"StudyData\", $O$2, \"BAR\", \"\", \"Time\", $O$4,-$A235,$O$6,$O$10, \"\",\"False\",\"T\")","v":"2022-11-03"},{"$f":" RTD(\"cqg.rtd\",,\"StudyData\", $O$2, \"BAR\", \"\", \"Open\", $O$4, -$A235, $O$6,$O$10,,$O$8,$O$12)","v":3928.5},{"$f":" RTD(\"cqg.rtd\",,\"StudyData\", $O$2, \"BAR\", \"\", \"High\", $O$4, -$A235, $O$6,$O$10,,$O$8,$O$12)","v":3944.25},{"$f":" RTD(\"cqg.rtd\",,\"StudyData\", $O$2, \"BAR\", \"\", \"Low\", $O$4, -$A235, $O$6,$O$10,,$O$8,$O$12)","v":3866},{"$f":" RTD(\"cqg.rtd\",,\"StudyData\", $O$2, \"BAR\", \"\", \"Close\", $O$4, -$A235, $O$6,$O$10,,$O$8,$O$12)","v":3889.5},{"$f":" RTD(\"cqg.rtd\",,\"StudyData\",$O$2, \"ImpVol\",, \"MIVClose\",$O$4,-A235,$O$6,$O$10,,$O$8,$O$12)","v":24.395}]
[234,{"$f":" RTD(\"cqg.rtd\",,\"StudyData\", $O$2, \"BAR\", \"\", \"Time\", $O$4,-$A236,$O$6,$O$10, \"\",\"False\",\"T\")","v":"2022-11-02"},{"$f":" RTD(\"cqg.rtd\",,\"StudyData\", $O$2, \"BAR\", \"\", \"Open\", $O$4, -$A236, $O$6,$O$10,,$O$8,$O$12)","v":4024.75},{"$f":" RTD(\"cqg.rtd\",,\"StudyData\", $O$2, \"BAR\", \"\", \"High\", $O$4, -$A236, $O$6,$O$10,,$O$8,$O$12)","v":4068.75},{"$f":" RTD(\"cqg.rtd\",,\"StudyData\", $O$2, \"BAR\", \"\", \"Low\", $O$4, -$A236, $O$6,$O$10,,$O$8,$O$12)","v":3922},{"$f":" RTD(\"cqg.rtd\",,\"StudyData\", $O$2, \"BAR\", \"\", \"Close\", $O$4, -$A236, $O$6,$O$10,,$O$8,$O$12)","v":3930.5},{"$f":" RTD(\"cqg.rtd\",,\"StudyData\",$O$2, \"ImpVol\",, \"MIVClose\",$O$4,-A236,$O$6,$O$10,,$O$8,$O$12)","v":24.585000000000001}]
[235,{"$f":" RTD(\"cqg.rtd\",,\"StudyData\", $O$2, \"BAR\", \"\", \"Time\", $O$4,-$A237,$O$6,$O$10, \"\",\"False\",\"T\")","v":"2022-11-01"},{"$f":" RTD(\"cqg.rtd\",,\"StudyData\", $O$2, \"BAR\", \"\", \"Open\", $O$4, -$A237, $O$6,$O$10,,$O$8,$O$12)","v":4045.75},{"$f":" RTD(\"cqg.rtd\",,\"StudyData\", $O$2, \"BAR\", \"\", \"High\", $O$4, -$A237, $O$6,$O$10,,$O$8,$O$12)","v":4089.75},{"$f":" RTD(\"cqg.rtd\",,\"StudyData\", $O$2, \"BAR\", \"\", \"Low\", $O$4, -$A237, $O$6,$O$10,,$O$8,$O$12)","v":4014.25},{"$f":" RTD(\"cqg.rtd\",,\"StudyData\", $O$2, \"BAR\", \"\", \"Close\", $O$4, -$A237, $O$6,$O$10,,$O$8,$O$12)","v":4027.75},{"$f":" RTD(\"cqg.rtd\",,\"StudyData\",$O$2, \"ImpVol\",, \"MIVClose\",$O$4,-A237,$O$6,$O$10,,$O$8,$O$12)","v":24.130000000000003}]
[236,{"$f":" RTD(\"cqg.rtd\",,\"StudyData\", $O$2, \"BAR\", \"\", \"Time\", $O$4,-$A238,$O$6,$O$10, \"\",\"False\",\"T\")","v":"2022-10-31"},{"$f":" RTD(\"cqg.rtd\",,\"StudyData\", $O$2, \"BAR\", \"\", \"Open\", $O$4, -$A238, $O$6,$O$10,,$O$8,$O$12)","v":4073.25},{"$f":" RTD(\"cqg.rtd\",,\"StudyData\", $O$2, \"BAR\", \"\", \"High\", $O$4, -$A238, $O$6,$O$10,,$O$8,$O$12)","v":4076.5},{"$f":" RTD(\"cqg.rtd\",,\"StudyData\", $O$2, \"BAR\", \"\", \"Low\", $O$4, -$A238, $O$6,$O$10,,$O$8,$O$12)","v":4034},{"$f":" RTD(\"cqg.rtd\",,\"StudyData\", $O$2, \"BAR\", \"\", \"Close\", $O$4, -$A238, $O$6,$O$10,,$O$8,$O$12)","v":4044.75},{"$f":" RTD(\"cqg.rtd\",,\"StudyData\",$O$2, \"ImpVol\",, \"MIVClose\",$O$4,-A238,$O$6,$O$10,,$O$8,$O$12)","v":24.005000000000003}]
[237,{"$f":" RTD(\"cqg.rtd\",,\"StudyData\", $O$2, \"BAR\", \"\", \"Time\", $O$4,-$A239,$O$6,$O$10, \"\",\"False\",\"T\")","v":"2022-10-28"},{"$f":" RTD(\"cqg.rtd\",,\"StudyData\", $O$2, \"BAR\", \"\", \"Open\", $O$4, -$A239, $O$6,$O$10,,$O$8,$O$12)","v":3960},{"$f":" RTD(\"cqg.rtd\",,\"StudyData\", $O$2, \"BAR\", \"\", \"High\", $O$4, -$A239, $O$6,$O$10,,$O$8,$O$12)","v":4086},{"$f":" RTD(\"cqg.rtd\",,\"StudyData\", $O$2, \"BAR\", \"\", \"Low\", $O$4, -$A239, $O$6,$O$10,,$O$8,$O$12)","v":3938.5},{"$f":" RTD(\"cqg.rtd\",,\"StudyData\", $O$2, \"BAR\", \"\", \"Close\", $O$4, -$A239, $O$6,$O$10,,$O$8,$O$12)","v":4073},{"$f":" RTD(\"cqg.rtd\",,\"StudyData\",$O$2, \"ImpVol\",, \"MIVClose\",$O$4,-A239,$O$6,$O$10,,$O$8,$O$12)","v":24.430000000000003}]
[238,{"$f":" RTD(\"cqg.rtd\",,\"StudyData\", $O$2, \"BAR\", \"\", \"Time\", $O$4,-$A240,$O$6,$O$10, \"\",\"False\",\"T\")","v":"2022-10-27"},{"$f":" RTD(\"cqg.rtd\",,\"StudyData\", $O$2, \"BAR\", \"\", \"Open\", $O$4, -$A240, $O$6,$O$10,,$O$8,$O$12)","v":4006},{"$f":" RTD(\"cqg.rtd\",,\"StudyData\", $O$2, \"BAR\", \"\", \"High\", $O$4, -$A240, $O$6,$O$10,,$O$8,$O$12)","v":4032.5},{"$f":" RTD(\"cqg.rtd\",,\"StudyData\", $O$2, \"BAR\", \"\", \"Low\", $O$4, -$A240, $O$6,$O$10,,$O$8,$O$12)","v":3919.25},{"$f":" RTD(\"cqg.rtd\",,\"StudyData\", $O$2, \"BAR\", \"\", \"Close\", $O$4, -$A240, $O$6,$O$10,,$O$8,$O$12)","v":3981.25},{"$f":" RTD(\"cqg.rtd\",,\"StudyData\",$O$2, \"ImpVol\",, \"MIVClose\",$O$4,-A240,$O$6,$O$10,,$O$8,$O$12)","v":25.795000000000002}]
[239,{"$f":" RTD(\"cqg.rtd\",,\"StudyData\", $O$2, \"BAR\", \"\", \"Time\", $O$4,-$A241,$O$6,$O$10, \"\",\"False\",\"T\")","v":"2022-10-26"},{"$f":" RTD(\"cqg.rtd\",,\"StudyData\", $O$2, \"BAR\", \"\", \"Open\", $O$4, -$A241, $O$6,$O$10,,$O$8,$O$12)","v":4002.75},{"$f":" RTD(\"cqg.rtd\",,\"StudyData\", $O$2, \"BAR\", \"\", \"High\", $O$4, -$A241, $O$6,$O$10,,$O$8,$O$12)","v":4059.25},{"$f":" RTD(\"cqg.rtd\",,\"StudyData\", $O$2, \"BAR\", \"\", \"Low\", $O$4, -$A241, $O$6,$O$10,,$O$8,$O$12)","v":3986},{"$f":" RTD(\"cqg.rtd\",,\"StudyData\", $O$2, \"BAR\", \"\", \"Close\", $O$4, -$A241, $O$6,$O$10,,$O$8,$O$12)","v":4002.75},{"$f":" RTD(\"cqg.rtd\",,\"StudyData\",$O$2, \"ImpVol\",, \"MIVClose\",$O$4,-A241,$O$6,$O$10,,$O$8,$O$12)","v":25.009999999999998}]
[240,{"$f":" RTD(\"cqg.rtd\",,\"StudyData\", $O$2, \"BAR\", \"\", \"Time\", $O$4,-$A242,$O$6,$O$10, \"\",\"False\",\"T\")","v":"2022-10-25"},{"$f":" RTD(\"cqg.rtd\",,\"StudyData\", $O$2, \"BAR\", \"\", \"Open\", $O$4, -$A242, $O$6,$O$10,,$O$8,$O$12)","v":3965},{"$f":" RTD(\"cqg.rtd\",,\"StudyData\", $O$2, \"BAR\", \"\", \"High\", $O$4, -$A242, $O$6,$O$10,,$O$8,$O$12)","v":4036},{"$f":" RTD(\"cqg.rtd\",,\"StudyData\", $O$2, \"BAR\", \"\", \"Low\", $O$4, -$A242, $O$6,$O$10,,$O$8,$O$12)","v":3951.75},{"$f":" RTD(\"cqg.rtd\",,\"StudyData\", $O$2, \"BAR\", \"\", \"Close\", $O$4, -$A242, $O$6,$O$10,,$O$8,$O$12)","v":4032},{"$f":" RTD(\"cqg.rtd\",,\"StudyData\",$O$2, \"ImpVol\",, \"MIVClose\",$O$4,-A242,$O$6,$O$10,,$O$8,$O$12)","v":25.960000000000004}]
[241,{"$f":" RTD(\"cqg.rtd\",,\"StudyData\", $O$2, \"BAR\", \"\", \"Time\", $O$4,-$A243,$O$6,$O$10, \"\",\"False\",\"T\")","v":"2022-10-24"},{"$f":" RTD(\"cqg.rtd\",,\"StudyData\", $O$2, \"BAR\", \"\", \"Open\", $O$4, -$A243, $O$6,$O$10,,$O$8,$O$12)","v":3932.75},{"$f":" RTD(\"cqg.rtd\",,\"StudyData\", $O$2, \"BAR\", \"\", \"High\", $O$4, -$A243, $O$6,$O$10,,$O$8,$O$12)","v":3983.75},{"$f":" RTD(\"cqg.rtd\",,\"StudyData\", $O$2, \"BAR\", \"\", \"Low\", $O$4, -$A243, $O$6,$O$10,,$O$8,$O$12)","v":3898.25},{"$f":" RTD(\"cqg.rtd\",,\"StudyData\", $O$2, \"BAR\", \"\", \"Close\", $O$4, -$A243, $O$6,$O$10,,$O$8,$O$12)","v":3971},{"$f":" RTD(\"cqg.rtd\",,\"StudyData\",$O$2, \"ImpVol\",, \"MIVClose\",$O$4,-A243,$O$6,$O$10,,$O$8,$O$12)","v":26.52}]
[242,{"$f":" RTD(\"cqg.rtd\",,\"StudyData\", $O$2, \"BAR\", \"\", \"Time\", $O$4,-$A244,$O$6,$O$10, \"\",\"False\",\"T\")","v":"2022-10-21"},{"$f":" RTD(\"cqg.rtd\",,\"StudyData\", $O$2, \"BAR\", \"\", \"Open\", $O$4, -$A244, $O$6,$O$10,,$O$8,$O$12)","v":3839.5},{"$f":" RTD(\"cqg.rtd\",,\"StudyData\", $O$2, \"BAR\", \"\", \"High\", $O$4, -$A244, $O$6,$O$10,,$O$8,$O$12)","v":3935},{"$f":" RTD(\"cqg.rtd\",,\"StudyData\", $O$2, \"BAR\", \"\", \"Low\", $O$4, -$A244, $O$6,$O$10,,$O$8,$O$12)","v":3803.25},{"$f":" RTD(\"cqg.rtd\",,\"StudyData\", $O$2, \"BAR\", \"\", \"Close\", $O$4, -$A244, $O$6,$O$10,,$O$8,$O$12)","v":3925.75},{"$f":" RTD(\"cqg.rtd\",,\"StudyData\",$O$2, \"ImpVol\",, \"MIVClose\",$O$4,-A244,$O$6,$O$10,,$O$8,$O$12)","v":26.729999999999997}]
[243,{"$f":" RTD(\"cqg.rtd\",,\"StudyData\", $O$2, \"BAR\", \"\", \"Time\", $O$4,-$A245,$O$6,$O$10, \"\",\"False\",\"T\")","v":"2022-10-20"},{"$f":" RTD(\"cqg.rtd\",,\"StudyData\", $O$2, \"BAR\", \"\", \"Open\", $O$4, -$A245, $O$6,$O$10,,$O$8,$O$12)","v":3869.75},{"$f":" RTD(\"cqg.rtd\",,\"StudyData\", $O$2, \"BAR\", \"\", \"High\", $O$4, -$A245, $O$6,$O$10,,$O$8,$O$12)","v":3909.75},{"$f":" RTD(\"cqg.rtd\",,\"StudyData\", $O$2, \"BAR\", \"\", \"Low\", $O$4, -$A245, $O$6,$O$10,,$O$8,$O$12)","v":3828},{"$f":" RTD(\"cqg.rtd\",,\"StudyData\", $O$2, \"BAR\", \"\", \"Close\", $O$4, -$A245, $O$6,$O$10,,$O$8,$O$12)","v":3837},{"$f":" RTD(\"cqg.rtd\",,\"StudyData\",$O$2, \"ImpVol\",, \"MIVClose\",$O$4,-A245,$O$6,$O$10,,$O$8,$O$12)","v":26.705000000000002}]
[244,{"$f":" RTD(\"cqg.rtd\",,\"StudyData\", $O$2, \"BAR\", \"\", \"Time\", $O$4,-$A246,$O$6,$O$10, \"\",\"False\",\"T\")","v":"2022-10-19"},{"$f":" RTD(\"cqg.rtd\",,\"StudyData\", $O$2, \"BAR\", \"\", \"Open\", $O$4, -$A246, $O$6,$O$10,,$O$8,$O$12)","v":3921.5},{"$f":" RTD(\"cqg.rtd\",,\"StudyData\", $O$2, \"BAR\", \"\", \"High\", $O$4, -$A246, $O$6,$O$10,,$O$8,$O$12)","v":3936},{"$f":" RTD(\"cqg.rtd\",,\"StudyData\", $O$2, \"BAR\", \"\", \"Low\", $O$4, -$A246, $O$6,$O$10,,$O$8,$O$12)","v":3838.5},{"$f":" RTD(\"cqg.rtd\",,\"StudyData\", $O$2, \"BAR\", \"\", \"Close\", $O$4, -$A246, $O$6,$O$10,,$O$8,$O$12)","v":3869},{"$f":" RTD(\"cqg.rtd\",,\"StudyData\",$O$2, \"ImpVol\",, \"MIVClose\",$O$4,-A246,$O$6,$O$10,,$O$8,$O$12)","v":26.865000000000006}]
[245,{"$f":" RTD(\"cqg.rtd\",,\"StudyData\", $O$2, \"BAR\", \"\", \"Time\", $O$4,-$A247,$O$6,$O$10, \"\",\"False\",\"T\")","v":"2022-10-18"},{"$f":" RTD(\"cqg.rtd\",,\"StudyData\", $O$2, \"BAR\", \"\", \"Open\", $O$4, -$A247, $O$6,$O$10,,$O$8,$O$12)","v":3868},{"$f":" RTD(\"cqg.rtd\",,\"StudyData\", $O$2, \"BAR\", \"\", \"High\", $O$4, -$A247, $O$6,$O$10,,$O$8,$O$12)","v":3939},{"$f":" RTD(\"cqg.rtd\",,\"StudyData\", $O$2, \"BAR\", \"\", \"Low\", $O$4, -$A247, $O$6,$O$10,,$O$8,$O$12)","v":3859},{"$f":" RTD(\"cqg.rtd\",,\"StudyData\", $O$2, \"BAR\", \"\", \"Close\", $O$4, -$A247, $O$6,$O$10,,$O$8,$O$12)","v":3894.5},{"$f":" RTD(\"cqg.rtd\",,\"StudyData\",$O$2, \"ImpVol\",, \"MIVClose\",$O$4,-A247,$O$6,$O$10,,$O$8,$O$12)","v":26.340000000000003}]
[246,{"$f":" RTD(\"cqg.rtd\",,\"StudyData\", $O$2, \"BAR\", \"\", \"Time\", $O$4,-$A248,$O$6,$O$10, \"\",\"False\",\"T\")","v":"2022-10-17"},{"$f":" RTD(\"cqg.rtd\",,\"StudyData\", $O$2, \"BAR\", \"\", \"Open\", $O$4, -$A248, $O$6,$O$10,,$O$8,$O$12)","v":3752.75},{"$f":" RTD(\"cqg.rtd\",,\"StudyData\", $O$2, \"BAR\", \"\", \"High\", $O$4, -$A248, $O$6,$O$10,,$O$8,$O$12)","v":3864.25},{"$f":" RTD(\"cqg.rtd\",,\"StudyData\", $O$2, \"BAR\", \"\", \"Low\", $O$4, -$A248, $O$6,$O$10,,$O$8,$O$12)","v":3752.25},{"$f":" RTD(\"cqg.rtd\",,\"StudyData\", $O$2, \"BAR\", \"\", \"Close\", $O$4, -$A248, $O$6,$O$10,,$O$8,$O$12)","v":3851},{"$f":" RTD(\"cqg.rtd\",,\"StudyData\",$O$2, \"ImpVol\",, \"MIVClose\",$O$4,-A248,$O$6,$O$10,,$O$8,$O$12)","v":26.8}]
[247,{"$f":" RTD(\"cqg.rtd\",,\"StudyData\", $O$2, \"BAR\", \"\", \"Time\", $O$4,-$A249,$O$6,$O$10, \"\",\"False\",\"T\")","v":"2022-10-14"},{"$f":" RTD(\"cqg.rtd\",,\"StudyData\", $O$2, \"BAR\", \"\", \"Open\", $O$4, -$A249, $O$6,$O$10,,$O$8,$O$12)","v":3842},{"$f":" RTD(\"cqg.rtd\",,\"StudyData\", $O$2, \"BAR\", \"\", \"High\", $O$4, -$A249, $O$6,$O$10,,$O$8,$O$12)","v":3895.5},{"$f":" RTD(\"cqg.rtd\",,\"StudyData\", $O$2, \"BAR\", \"\", \"Low\", $O$4, -$A249, $O$6,$O$10,,$O$8,$O$12)","v":3753},{"$f":" RTD(\"cqg.rtd\",,\"StudyData\", $O$2, \"BAR\", \"\", \"Close\", $O$4, -$A249, $O$6,$O$10,,$O$8,$O$12)","v":3759.25},{"$f":" RTD(\"cqg.rtd\",,\"StudyData\",$O$2, \"ImpVol\",, \"MIVClose\",$O$4,-A249,$O$6,$O$10,,$O$8,$O$12)","v":27.6}]
[248,{"$f":" RTD(\"cqg.rtd\",,\"StudyData\", $O$2, \"BAR\", \"\", \"Time\", $O$4,-$A250,$O$6,$O$10, \"\",\"False\",\"T\")","v":"2022-10-13"},{"$f":" RTD(\"cqg.rtd\",,\"StudyData\", $O$2, \"BAR\", \"\", \"Open\", $O$4, -$A250, $O$6,$O$10,,$O$8,$O$12)","v":3758},{"$f":" RTD(\"cqg.rtd\",,\"StudyData\", $O$2, \"BAR\", \"\", \"High\", $O$4, -$A250, $O$6,$O$10,,$O$8,$O$12)","v":3859.5},{"$f":" RTD(\"cqg.rtd\",,\"StudyData\", $O$2, \"BAR\", \"\", \"Low\", $O$4, -$A250, $O$6,$O$10,,$O$8,$O$12)","v":3663.75},{"$f":" RTD(\"cqg.rtd\",,\"StudyData\", $O$2, \"BAR\", \"\", \"Close\", $O$4, -$A250, $O$6,$O$10,,$O$8,$O$12)","v":3843.5},{"$f":" RTD(\"cqg.rtd\",,\"StudyData\",$O$2, \"ImpVol\",, \"MIVClose\",$O$4,-A250,$O$6,$O$10,,$O$8,$O$12)","v":27.315000000000001}]
[249,{"$f":" RTD(\"cqg.rtd\",,\"StudyData\", $O$2, \"BAR\", \"\", \"Time\", $O$4,-$A251,$O$6,$O$10, \"\",\"False\",\"T\")","v":"2022-10-12"},{"$f":" RTD(\"cqg.rtd\",,\"StudyData\", $O$2, \"BAR\", \"\", \"Open\", $O$4, -$A251, $O$6,$O$10,,$O$8,$O$12)","v":3768.75},{"$f":" RTD(\"cqg.rtd\",,\"StudyData\", $O$2, \"BAR\", \"\", \"High\", $O$4, -$A251, $O$6,$O$10,,$O$8,$O$12)","v":3797},{"$f":" RTD(\"cqg.rtd\",,\"StudyData\", $O$2, \"BAR\", \"\", \"Low\", $O$4, -$A251, $O$6,$O$10,,$O$8,$O$12)","v":3747.25},{"$f":" RTD(\"cqg.rtd\",,\"StudyData\", $O$2, \"BAR\", \"\", \"Close\", $O$4, -$A251, $O$6,$O$10,,$O$8,$O$12)","v":3750.25},{"$f":" RTD(\"cqg.rtd\",,\"StudyData\",$O$2, \"ImpVol\",, \"MIVClose\",$O$4,-A251,$O$6,$O$10,,$O$8,$O$12)","v":27.860000000000003}]
[250,{"$f":" RTD(\"cqg.rtd\",,\"StudyData\", $O$2, \"BAR\", \"\", \"Time\", $O$4,-$A252,$O$6,$O$10, \"\",\"False\",\"T\")","v":"2022-10-11"},{"$f":" RTD(\"cqg.rtd\",,\"StudyData\", $O$2, \"BAR\", \"\", \"Open\", $O$4, -$A252, $O$6,$O$10,,$O$8,$O$12)","v":3786.5},{"$f":" RTD(\"cqg.rtd\",,\"StudyData\", $O$2, \"BAR\", \"\", \"High\", $O$4, -$A252, $O$6,$O$10,,$O$8,$O$12)","v":3815},{"$f":" RTD(\"cqg.rtd\",,\"StudyData\", $O$2, \"BAR\", \"\", \"Low\", $O$4, -$A252, $O$6,$O$10,,$O$8,$O$12)","v":3740.75},{"$f":" RTD(\"cqg.rtd\",,\"StudyData\", $O$2, \"BAR\", \"\", \"Close\", $O$4, -$A252, $O$6,$O$10,,$O$8,$O$12)","v":3761},{"$f":" RTD(\"cqg.rtd\",,\"StudyData\",$O$2, \"ImpVol\",, \"MIVClose\",$O$4,-A252,$O$6,$O$10,,$O$8,$O$12)","v":27.839999999999996}]
[251,{"$f":" RTD(\"cqg.rtd\",,\"StudyData\", $O$2, \"BAR\", \"\", \"Time\", $O$4,-$A253,$O$6,$O$10, \"\",\"False\",\"T\")","v":"2022-10-10"},{"$f":" RTD(\"cqg.rtd\",,\"StudyData\", $O$2, \"BAR\", \"\", \"Open\", $O$4, -$A253, $O$6,$O$10,,$O$8,$O$12)","v":3800.5},{"$f":" RTD(\"cqg.rtd\",,\"StudyData\", $O$2, \"BAR\", \"\", \"High\", $O$4, -$A253, $O$6,$O$10,,$O$8,$O$12)","v":3829.25},{"$f":" RTD(\"cqg.rtd\",,\"StudyData\", $O$2, \"BAR\", \"\", \"Low\", $O$4, -$A253, $O$6,$O$10,,$O$8,$O$12)","v":3761.75},{"$f":" RTD(\"cqg.rtd\",,\"StudyData\", $O$2, \"BAR\", \"\", \"Close\", $O$4, -$A253, $O$6,$O$10,,$O$8,$O$12)","v":3787},{"$f":" RTD(\"cqg.rtd\",,\"StudyData\",$O$2, \"ImpVol\",, \"MIVClose\",$O$4,-A253,$O$6,$O$10,,$O$8,$O$12)","v":27.255000000000003}]
[252,{"$f":" RTD(\"cqg.rtd\",,\"StudyData\", $O$2, \"BAR\", \"\", \"Time\", $O$4,-$A254,$O$6,$O$10, \"\",\"False\",\"T\")","v":"2022-10-07"},{"$f":" RTD(\"cqg.rtd\",,\"StudyData\", $O$2, \"BAR\", \"\", \"Open\", $O$4, -$A254, $O$6,$O$10,,$O$8,$O$12)","v":3907.5},{"$f":" RTD(\"cqg.rtd\",,\"StudyData\", $O$2, \"BAR\", \"\", \"High\", $O$4, -$A254, $O$6,$O$10,,$O$8,$O$12)","v":3932.25},{"$f":" RTD(\"cqg.rtd\",,\"StudyData\", $O$2, \"BAR\", \"\", \"Low\", $O$4, -$A254, $O$6,$O$10,,$O$8,$O$12)","v":3794.25},{"$f":" RTD(\"cqg.rtd\",,\"StudyData\", $O$2, \"BAR\", \"\", \"Close\", $O$4, -$A254, $O$6,$O$10,,$O$8,$O$12)","v":3815},{"$f":" RTD(\"cqg.rtd\",,\"StudyData\",$O$2, \"ImpVol\",, \"MIVClose\",$O$4,-A254,$O$6,$O$10,,$O$8,$O$12)","v":26.480000000000004}]
[253,{"$f":" RTD(\"cqg.rtd\",,\"StudyData\", $O$2, \"BAR\", \"\", \"Time\", $O$4,-$A255,$O$6,$O$10, \"\",\"False\",\"T\")","v":"2022-10-06"},{"$f":" RTD(\"cqg.rtd\",,\"StudyData\", $O$2, \"BAR\", \"\", \"Open\", $O$4, -$A255, $O$6,$O$10,,$O$8,$O$12)","v":3957.5},{"$f":" RTD(\"cqg.rtd\",,\"StudyData\", $O$2, \"BAR\", \"\", \"High\", $O$4, -$A255, $O$6,$O$10,,$O$8,$O$12)","v":3981.25},{"$f":" RTD(\"cqg.rtd\",,\"StudyData\", $O$2, \"BAR\", \"\", \"Low\", $O$4, -$A255, $O$6,$O$10,,$O$8,$O$12)","v":3911.75},{"$f":" RTD(\"cqg.rtd\",,\"StudyData\", $O$2, \"BAR\", \"\", \"Close\", $O$4, -$A255, $O$6,$O$10,,$O$8,$O$12)","v":3918.5},{"$f":" RTD(\"cqg.rtd\",,\"StudyData\",$O$2, \"ImpVol\",, \"MIVClose\",$O$4,-A255,$O$6,$O$10,,$O$8,$O$12)","v":25.580000000000002}]
[254,{"$f":" RTD(\"cqg.rtd\",,\"StudyData\", $O$2, \"BAR\", \"\", \"Time\", $O$4,-$A256,$O$6,$O$10, \"\",\"False\",\"T\")","v":"2022-10-05"},{"$f":" RTD(\"cqg.rtd\",,\"StudyData\", $O$2, \"BAR\", \"\", \"Open\", $O$4, -$A256, $O$6,$O$10,,$O$8,$O$12)","v":3962.75},{"$f":" RTD(\"cqg.rtd\",,\"StudyData\", $O$2, \"BAR\", \"\", \"High\", $O$4, -$A256, $O$6,$O$10,,$O$8,$O$12)","v":3981.75},{"$f":" RTD(\"cqg.rtd\",,\"StudyData\", $O$2, \"BAR\", \"\", \"Low\", $O$4, -$A256, $O$6,$O$10,,$O$8,$O$12)","v":3895.75},{"$f":" RTD(\"cqg.rtd\",,\"StudyData\", $O$2, \"BAR\", \"\", \"Close\", $O$4, -$A256, $O$6,$O$10,,$O$8,$O$12)","v":3955.75},{"$f":" RTD(\"cqg.rtd\",,\"StudyData\",$O$2, \"ImpVol\",, \"MIVClose\",$O$4,-A256,$O$6,$O$10,,$O$8,$O$12)","v":24.545000000000002}]
[255,{"$f":" RTD(\"cqg.rtd\",,\"StudyData\", $O$2, \"BAR\", \"\", \"Time\", $O$4,-$A257,$O$6,$O$10, \"\",\"False\",\"T\")","v":"2022-10-04"},{"$f":" RTD(\"cqg.rtd\",,\"StudyData\", $O$2, \"BAR\", \"\", \"Open\", $O$4, -$A257, $O$6,$O$10,,$O$8,$O$12)","v":3858.25},{"$f":" RTD(\"cqg.rtd\",,\"StudyData\", $O$2, \"BAR\", \"\", \"High\", $O$4, -$A257, $O$6,$O$10,,$O$8,$O$12)","v":3970.5},{"$f":" RTD(\"cqg.rtd\",,\"StudyData\", $O$2, \"BAR\", \"\", \"Low\", $O$4, -$A257, $O$6,$O$10,,$O$8,$O$12)","v":3848},{"$f":" RTD(\"cqg.rtd\",,\"StudyData\", $O$2, \"BAR\", \"\", \"Close\", $O$4, -$A257, $O$6,$O$10,,$O$8,$O$12)","v":3965},{"$f":" RTD(\"cqg.rtd\",,\"StudyData\",$O$2, \"ImpVol\",, \"MIVClose\",$O$4,-A257,$O$6,$O$10,,$O$8,$O$12)","v":24.470000000000002}]
[256,{"$f":" RTD(\"cqg.rtd\",,\"StudyData\", $O$2, \"BAR\", \"\", \"Time\", $O$4,-$A258,$O$6,$O$10, \"\",\"False\",\"T\")","v":"2022-10-03"},{"$f":" RTD(\"cqg.rtd\",,\"StudyData\", $O$2, \"BAR\", \"\", \"Open\", $O$4, -$A258, $O$6,$O$10,,$O$8,$O$12)","v":3755},{"$f":" RTD(\"cqg.rtd\",,\"StudyData\", $O$2, \"BAR\", \"\", \"High\", $O$4, -$A258, $O$6,$O$10,,$O$8,$O$12)","v":3873.5},{"$f":" RTD(\"cqg.rtd\",,\"StudyData\", $O$2, \"BAR\", \"\", \"Low\", $O$4, -$A258, $O$6,$O$10,,$O$8,$O$12)","v":3733.5},{"$f":" RTD(\"cqg.rtd\",,\"StudyData\", $O$2, \"BAR\", \"\", \"Close\", $O$4, -$A258, $O$6,$O$10,,$O$8,$O$12)","v":3852},{"$f":" RTD(\"cqg.rtd\",,\"StudyData\",$O$2, \"ImpVol\",, \"MIVClose\",$O$4,-A258,$O$6,$O$10,,$O$8,$O$12)","v":25.21}]
[257,{"$f":" RTD(\"cqg.rtd\",,\"StudyData\", $O$2, \"BAR\", \"\", \"Time\", $O$4,-$A259,$O$6,$O$10, \"\",\"False\",\"T\")","v":"2022-09-30"},{"$f":" RTD(\"cqg.rtd\",,\"StudyData\", $O$2, \"BAR\", \"\", \"Open\", $O$4, -$A259, $O$6,$O$10,,$O$8,$O$12)","v":3818.25},{"$f":" RTD(\"cqg.rtd\",,\"StudyData\", $O$2, \"BAR\", \"\", \"High\", $O$4, -$A259, $O$6,$O$10,,$O$8,$O$12)","v":3855.5},{"$f":" RTD(\"cqg.rtd\",,\"StudyData\", $O$2, \"BAR\", \"\", \"Low\", $O$4, -$A259, $O$6,$O$10,,$O$8,$O$12)","v":3757},{"$f":" RTD(\"cqg.rtd\",,\"StudyData\", $O$2, \"BAR\", \"\", \"Close\", $O$4, -$A259, $O$6,$O$10,,$O$8,$O$12)","v":3763.25},{"$f":" RTD(\"cqg.rtd\",,\"StudyData\",$O$2, \"ImpVol\",, \"MIVClose\",$O$4,-A259,$O$6,$O$10,,$O$8,$O$12)","v":26.729999999999997}]
[{"$f":"A259+1","v":258},{"$f":" RTD(\"cqg.rtd\",,\"StudyData\", $O$2, \"BAR\", \"\", \"Time\", $O$4,-$A260,$O$6,$O$10, \"\",\"False\",\"T\")","v":"2022-09-29"},{"$f":" RTD(\"cqg.rtd\",,\"StudyData\", $O$2, \"BAR\", \"\", \"Open\", $O$4, -$A260, $O$6,$O$10,,$O$8,$O$12)","v":3892},{"$f":" RTD(\"cqg.rtd\",,\"StudyData\", $O$2, \"BAR\", \"\", \"High\", $O$4, -$A260, $O$6,$O$10,,$O$8,$O$12)","v":3897.75},{"$f":" RTD(\"cqg.rtd\",,\"StudyData\", $O$2, \"BAR\", \"\", \"Low\", $O$4, -$A260, $O$6,$O$10,,$O$8,$O$12)","v":3783.75},{"$f":" RTD(\"cqg.rtd\",,\"StudyData\", $O$2, \"BAR\", \"\", \"Close\", $O$4, -$A260, $O$6,$O$10,,$O$8,$O$12)","v":3816},{"$f":" RTD(\"cqg.rtd\",,\"StudyData\",$O$2, \"ImpVol\",, \"MIVClose\",$O$4,-A260,$O$6,$O$10,,$O$8,$O$12)","v":26.490000000000002}]
[259,{"$f":" RTD(\"cqg.rtd\",,\"StudyData\", $O$2, \"BAR\", \"\", \"Time\", $O$4,-$A261,$O$6,$O$10, \"\",\"False\",\"T\")","v":"2022-09-28"},{"$f":" RTD(\"cqg.rtd\",,\"StudyData\", $O$2, \"BAR\", \"\", \"Open\", $O$4, -$A261, $O$6,$O$10,,$O$8,$O$12)","v":3830.25},{"$f":" RTD(\"cqg.rtd\",,\"StudyData\", $O$2, \"BAR\", \"\", \"High\", $O$4, -$A261, $O$6,$O$10,,$O$8,$O$12)","v":3913},{"$f":" RTD(\"cqg.rtd\",,\"StudyData\", $O$2, \"BAR\", \"\", \"Low\", $O$4, -$A261, $O$6,$O$10,,$O$8,$O$12)","v":3774.75},{"$f":" RTD(\"cqg.rtd\",,\"StudyData\", $O$2, \"BAR\", \"\", \"Close\", $O$4, -$A261, $O$6,$O$10,,$O$8,$O$12)","v":3893.75},{"$f":" RTD(\"cqg.rtd\",,\"StudyData\",$O$2, \"ImpVol\",, \"MIVClose\",$O$4,-A261,$O$6,$O$10,,$O$8,$O$12)","v":25.775000000000002}]
[260,{"$f":" RTD(\"cqg.rtd\",,\"StudyData\", $O$2, \"BAR\", \"\", \"Time\", $O$4,-$A262,$O$6,$O$10, \"\",\"False\",\"T\")","v":"2022-09-27"},{"$f":" RTD(\"cqg.rtd\",,\"StudyData\", $O$2, \"BAR\", \"\", \"Open\", $O$4, -$A262, $O$6,$O$10,,$O$8,$O$12)","v":3829.75},{"$f":" RTD(\"cqg.rtd\",,\"StudyData\", $O$2, \"BAR\", \"\", \"High\", $O$4, -$A262, $O$6,$O$10,,$O$8,$O$12)","v":3894.75},{"$f":" RTD(\"cqg.rtd\",,\"StudyData\", $O$2, \"BAR\", \"\", \"Low\", $O$4, -$A262, $O$6,$O$10,,$O$8,$O$12)","v":3797},{"$f":" RTD(\"cqg.rtd\",,\"StudyData\", $O$2, \"BAR\", \"\", \"Close\", $O$4, -$A262, $O$6,$O$10,,$O$8,$O$12)","v":3822.75},{"$f":" RTD(\"cqg.rtd\",,\"StudyData\",$O$2, \"ImpVol\",, \"MIVClose\",$O$4,-A262,$O$6,$O$10,,$O$8,$O$12)","v":26.86}]
[261,{"$f":" RTD(\"cqg.rtd\",,\"StudyData\", $O$2, \"BAR\", \"\", \"Time\", $O$4,-$A263,$O$6,$O$10, \"\",\"False\",\"T\")","v":"2022-09-26"},{"$f":" RTD(\"cqg.rtd\",,\"StudyData\", $O$2, \"BAR\", \"\", \"Open\", $O$4, -$A263, $O$6,$O$10,,$O$8,$O$12)","v":3867},{"$f":" RTD(\"cqg.rtd\",,\"StudyData\", $O$2, \"BAR\", \"\", \"High\", $O$4, -$A263, $O$6,$O$10,,$O$8,$O$12)","v":3892.25},{"$f":" RTD(\"cqg.rtd\",,\"StudyData\", $O$2, \"BAR\", \"\", \"Low\", $O$4, -$A263, $O$6,$O$10,,$O$8,$O$12)","v":3819.25},{"$f":" RTD(\"cqg.rtd\",,\"StudyData\", $O$2, \"BAR\", \"\", \"Close\", $O$4, -$A263, $O$6,$O$10,,$O$8,$O$12)","v":3831.75},{"$f":" RTD(\"cqg.rtd\",,\"StudyData\",$O$2, \"ImpVol\",, \"MIVClose\",$O$4,-A263,$O$6,$O$10,,$O$8,$O$12)","v":26.715}]
[262,{"$f":" RTD(\"cqg.rtd\",,\"StudyData\", $O$2, \"BAR\", \"\", \"Time\", $O$4,-$A264,$O$6,$O$10, \"\",\"False\",\"T\")","v":"2022-09-23"},{"$f":" RTD(\"cqg.rtd\",,\"StudyData\", $O$2, \"BAR\", \"\", \"Open\", $O$4, -$A264, $O$6,$O$10,,$O$8,$O$12)","v":3939},{"$f":" RTD(\"cqg.rtd\",,\"StudyData\", $O$2, \"BAR\", \"\", \"High\", $O$4, -$A264, $O$6,$O$10,,$O$8,$O$12)","v":3945},{"$f":" RTD(\"cqg.rtd\",,\"StudyData\", $O$2, \"BAR\", \"\", \"Low\", $O$4, -$A264, $O$6,$O$10,,$O$8,$O$12)","v":3822},{"$f":" RTD(\"cqg.rtd\",,\"StudyData\", $O$2, \"BAR\", \"\", \"Close\", $O$4, -$A264, $O$6,$O$10,,$O$8,$O$12)","v":3870.75},{"$f":" RTD(\"cqg.rtd\",,\"StudyData\",$O$2, \"ImpVol\",, \"MIVClose\",$O$4,-A264,$O$6,$O$10,,$O$8,$O$12)","v":25.454999999999998}]
[263,{"$f":" RTD(\"cqg.rtd\",,\"StudyData\", $O$2, \"BAR\", \"\", \"Time\", $O$4,-$A265,$O$6,$O$10, \"\",\"False\",\"T\")","v":"2022-09-22"},{"$f":" RTD(\"cqg.rtd\",,\"StudyData\", $O$2, \"BAR\", \"\", \"Open\", $O$4, -$A265, $O$6,$O$10,,$O$8,$O$12)","v":3955.75},{"$f":" RTD(\"cqg.rtd\",,\"StudyData\", $O$2, \"BAR\", \"\", \"High\", $O$4, -$A265, $O$6,$O$10,,$O$8,$O$12)","v":3994.75},{"$f":" RTD(\"cqg.rtd\",,\"StudyData\", $O$2, \"BAR\", \"\", \"Low\", $O$4, -$A265, $O$6,$O$10,,$O$8,$O$12)","v":3925.25},{"$f":" RTD(\"cqg.rtd\",,\"StudyData\", $O$2, \"BAR\", \"\", \"Close\", $O$4, -$A265, $O$6,$O$10,,$O$8,$O$12)","v":3933.75},{"$f":" RTD(\"cqg.rtd\",,\"StudyData\",$O$2, \"ImpVol\",, \"MIVClose\",$O$4,-A265,$O$6,$O$10,,$O$8,$O$12)","v":24.414999999999999}]
[264,{"$f":" RTD(\"cqg.rtd\",,\"StudyData\", $O$2, \"BAR\", \"\", \"Time\", $O$4,-$A266,$O$6,$O$10, \"\",\"False\",\"T\")","v":"2022-09-21"},{"$f":" RTD(\"cqg.rtd\",,\"StudyData\", $O$2, \"BAR\", \"\", \"Open\", $O$4, -$A266, $O$6,$O$10,,$O$8,$O$12)","v":4040.5},{"$f":" RTD(\"cqg.rtd\",,\"StudyData\", $O$2, \"BAR\", \"\", \"High\", $O$4, -$A266, $O$6,$O$10,,$O$8,$O$12)","v":4087},{"$f":" RTD(\"cqg.rtd\",,\"StudyData\", $O$2, \"BAR\", \"\", \"Low\", $O$4, -$A266, $O$6,$O$10,,$O$8,$O$12)","v":3953.75},{"$f":" RTD(\"cqg.rtd\",,\"StudyData\", $O$2, \"BAR\", \"\", \"Close\", $O$4, -$A266, $O$6,$O$10,,$O$8,$O$12)","v":3968},{"$f":" RTD(\"cqg.rtd\",,\"StudyData\",$O$2, \"ImpVol\",, \"MIVClose\",$O$4,-A266,$O$6,$O$10,,$O$8,$O$12)","v":24.725000000000001}]
[265,{"$f":" RTD(\"cqg.rtd\",,\"StudyData\", $O$2, \"BAR\", \"\", \"Time\", $O$4,-$A267,$O$6,$O$10, \"\",\"False\",\"T\")","v":"2022-09-20"},{"$f":" RTD(\"cqg.rtd\",,\"StudyData\", $O$2, \"BAR\", \"\", \"Open\", $O$4, -$A267, $O$6,$O$10,,$O$8,$O$12)","v":4084.75},{"$f":" RTD(\"cqg.rtd\",,\"StudyData\", $O$2, \"BAR\", \"\", \"High\", $O$4, -$A267, $O$6,$O$10,,$O$8,$O$12)","v":4098},{"$f":" RTD(\"cqg.rtd\",,\"StudyData\", $O$2, \"BAR\", \"\", \"Low\", $O$4, -$A267, $O$6,$O$10,,$O$8,$O$12)","v":4005},{"$f":" RTD(\"cqg.rtd\",,\"StudyData\", $O$2, \"BAR\", \"\", \"Close\", $O$4, -$A267, $O$6,$O$10,,$O$8,$O$12)","v":4034.5},{"$f":" RTD(\"cqg.rtd\",,\"StudyData\",$O$2, \"ImpVol\",, \"MIVClose\",$O$4,-A267,$O$6,$O$10,,$O$8,$O$12)","v":23.925000000000001}]
[266,{"$f":" RTD(\"cqg.rtd\",,\"StudyData\", $O$2, \"BAR\", \"\", \"Time\", $O$4,-$A268,$O$6,$O$10, \"\",\"False\",\"T\")","v":"2022-09-19"},{"$f":" RTD(\"cqg.rtd\",,\"StudyData\", $O$2, \"BAR\", \"\", \"Open\", $O$4, -$A268, $O$6,$O$10,,$O$8,$O$12)","v":4051.25},{"$f":" RTD(\"cqg.rtd\",,\"StudyData\", $O$2, \"BAR\", \"\", \"High\", $O$4, -$A268, $O$6,$O$10,,$O$8,$O$12)","v":4088.75},{"$f":" RTD(\"cqg.rtd\",,\"StudyData\", $O$2, \"BAR\", \"\", \"Low\", $O$4, -$A268, $O$6,$O$10,,$O$8,$O$12)","v":4008},{"$f":" RTD(\"cqg.rtd\",,\"StudyData\", $O$2, \"BAR\", \"\", \"Close\", $O$4, -$A268, $O$6,$O$10,,$O$8,$O$12)","v":4079},{"$f":" RTD(\"cqg.rtd\",,\"StudyData\",$O$2, \"ImpVol\",, \"MIVClose\",$O$4,-A268,$O$6,$O$10,,$O$8,$O$12)","v":23.175000000000001}]
[267,{"$f":" RTD(\"cqg.rtd\",,\"StudyData\", $O$2, \"BAR\", \"\", \"Time\", $O$4,-$A269,$O$6,$O$10, \"\",\"False\",\"T\")","v":"2022-09-16"},{"$f":" RTD(\"cqg.rtd\",,\"StudyData\", $O$2, \"BAR\", \"\", \"Open\", $O$4, -$A269, $O$6,$O$10,,$O$8,$O$12)","v":4065.75},{"$f":" RTD(\"cqg.rtd\",,\"StudyData\", $O$2, \"BAR\", \"\", \"High\", $O$4, -$A269, $O$6,$O$10,,$O$8,$O$12)","v":4066.75},{"$f":" RTD(\"cqg.rtd\",,\"StudyData\", $O$2, \"BAR\", \"\", \"Low\", $O$4, -$A269, $O$6,$O$10,,$O$8,$O$12)","v":4014.75},{"$f":" RTD(\"cqg.rtd\",,\"StudyData\", $O$2, \"BAR\", \"\", \"Close\", $O$4, -$A269, $O$6,$O$10,,$O$8,$O$12)","v":4051.75},{"$f":" RTD(\"cqg.rtd\",,\"StudyData\",$O$2, \"ImpVol\",, \"MIVClose\",$O$4,-A269,$O$6,$O$10,,$O$8,$O$12)","v":23.695}]
[268,{"$f":" RTD(\"cqg.rtd\",,\"StudyData\", $O$2, \"BAR\", \"\", \"Time\", $O$4,-$A270,$O$6,$O$10, \"\",\"False\",\"T\")","v":"2022-09-15"},{"$f":" RTD(\"cqg.rtd\",,\"StudyData\", $O$2, \"BAR\", \"\", \"Open\", $O$4, -$A270, $O$6,$O$10,,$O$8,$O$12)","v":4133.75},{"$f":" RTD(\"cqg.rtd\",,\"StudyData\", $O$2, \"BAR\", \"\", \"High\", $O$4, -$A270, $O$6,$O$10,,$O$8,$O$12)","v":4139.25},{"$f":" RTD(\"cqg.rtd\",,\"StudyData\", $O$2, \"BAR\", \"\", \"Low\", $O$4, -$A270, $O$6,$O$10,,$O$8,$O$12)","v":4066.75},{"$f":" RTD(\"cqg.rtd\",,\"StudyData\", $O$2, \"BAR\", \"\", \"Close\", $O$4, -$A270, $O$6,$O$10,,$O$8,$O$12)","v":4081},{"$f":" RTD(\"cqg.rtd\",,\"StudyData\",$O$2, \"ImpVol\",, \"MIVClose\",$O$4,-A270,$O$6,$O$10,,$O$8,$O$12)","v":23.49}]
[269,{"$f":" RTD(\"cqg.rtd\",,\"StudyData\", $O$2, \"BAR\", \"\", \"Time\", $O$4,-$A271,$O$6,$O$10, \"\",\"False\",\"T\")","v":"2022-09-14"},{"$f":" RTD(\"cqg.rtd\",,\"StudyData\", $O$2, \"BAR\", \"\", \"Open\", $O$4, -$A271, $O$6,$O$10,,$O$8,$O$12)","v":4118.5},{"$f":" RTD(\"cqg.rtd\",,\"StudyData\", $O$2, \"BAR\", \"\", \"High\", $O$4, -$A271, $O$6,$O$10,,$O$8,$O$12)","v":4143},{"$f":" RTD(\"cqg.rtd\",,\"StudyData\", $O$2, \"BAR\", \"\", \"Low\", $O$4, -$A271, $O$6,$O$10,,$O$8,$O$12)","v":4090.75},{"$f":" RTD(\"cqg.rtd\",,\"StudyData\", $O$2, \"BAR\", \"\", \"Close\", $O$4, -$A271, $O$6,$O$10,,$O$8,$O$12)","v":4127.25},{"$f":" RTD(\"cqg.rtd\",,\"StudyData\",$O$2, \"ImpVol\",, \"MIVClose\",$O$4,-A271,$O$6,$O$10,,$O$8,$O$12)","v":23.195}]
[270,{"$f":" RTD(\"cqg.rtd\",,\"StudyData\", $O$2, \"BAR\", \"\", \"Time\", $O$4,-$A272,$O$6,$O$10, \"\",\"False\",\"T\")","v":"2022-09-13"},{"$f":" RTD(\"cqg.rtd\",,\"StudyData\", $O$2, \"BAR\", \"\", \"Open\", $O$4, -$A272, $O$6,$O$10,,$O$8,$O$12)","v":4299.25},{"$f":" RTD(\"cqg.rtd\",,\"StudyData\", $O$2, \"BAR\", \"\", \"High\", $O$4, -$A272, $O$6,$O$10,,$O$8,$O$12)","v":4336.75},{"$f":" RTD(\"cqg.rtd\",,\"StudyData\", $O$2, \"BAR\", \"\", \"Low\", $O$4, -$A272, $O$6,$O$10,,$O$8,$O$12)","v":4100.25},{"$f":" RTD(\"cqg.rtd\",,\"StudyData\", $O$2, \"BAR\", \"\", \"Close\", $O$4, -$A272, $O$6,$O$10,,$O$8,$O$12)","v":4112},{"$f":" RTD(\"cqg.rtd\",,\"StudyData\",$O$2, \"ImpVol\",, \"MIVClose\",$O$4,-A272,$O$6,$O$10,,$O$8,$O$12)","v":23.37}]
[271,{"$f":" RTD(\"cqg.rtd\",,\"StudyData\", $O$2, \"BAR\", \"\", \"Time\", $O$4,-$A273,$O$6,$O$10, \"\",\"False\",\"T\")","v":"2022-09-12"},{"$f":" RTD(\"cqg.rtd\",,\"StudyData\", $O$2, \"BAR\", \"\", \"Open\", $O$4, -$A273, $O$6,$O$10,,$O$8,$O$12)","v":4257.75},{"$f":" RTD(\"cqg.rtd\",,\"StudyData\", $O$2, \"BAR\", \"\", \"High\", $O$4, -$A273, $O$6,$O$10,,$O$8,$O$12)","v":4299.5},{"$f":" RTD(\"cqg.rtd\",,\"StudyData\", $O$2, \"BAR\", \"\", \"Low\", $O$4, -$A273, $O$6,$O$10,,$O$8,$O$12)","v":4242},{"$f":" RTD(\"cqg.rtd\",,\"StudyData\", $O$2, \"BAR\", \"\", \"Close\", $O$4, -$A273, $O$6,$O$10,,$O$8,$O$12)","v":4291.75},{"$f":" RTD(\"cqg.rtd\",,\"StudyData\",$O$2, \"ImpVol\",, \"MIVClose\",$O$4,-A273,$O$6,$O$10,,$O$8,$O$12)","v":21.425000000000001}]
[272,{"$f":" RTD(\"cqg.rtd\",,\"StudyData\", $O$2, \"BAR\", \"\", \"Time\", $O$4,-$A274,$O$6,$O$10, \"\",\"False\",\"T\")","v":"2022-09-09"},{"$f":" RTD(\"cqg.rtd\",,\"StudyData\", $O$2, \"BAR\", \"\", \"Open\", $O$4, -$A274, $O$6,$O$10,,$O$8,$O$12)","v":4188.25},{"$f":" RTD(\"cqg.rtd\",,\"StudyData\", $O$2, \"BAR\", \"\", \"High\", $O$4, -$A274, $O$6,$O$10,,$O$8,$O$12)","v":4256.75},{"$f":" RTD(\"cqg.rtd\",,\"StudyData\", $O$2, \"BAR\", \"\", \"Low\", $O$4, -$A274, $O$6,$O$10,,$O$8,$O$12)","v":4184.25},{"$f":" RTD(\"cqg.rtd\",,\"StudyData\", $O$2, \"BAR\", \"\", \"Close\", $O$4, -$A274, $O$6,$O$10,,$O$8,$O$12)","v":4247.25},{"$f":" RTD(\"cqg.rtd\",,\"StudyData\",$O$2, \"ImpVol\",, \"MIVClose\",$O$4,-A274,$O$6,$O$10,,$O$8,$O$12)","v":21.585000000000001}]
[273,{"$f":" RTD(\"cqg.rtd\",,\"StudyData\", $O$2, \"BAR\", \"\", \"Time\", $O$4,-$A275,$O$6,$O$10, \"\",\"False\",\"T\")","v":"2022-09-08"},{"$f":" RTD(\"cqg.rtd\",,\"StudyData\", $O$2, \"BAR\", \"\", \"Open\", $O$4, -$A275, $O$6,$O$10,,$O$8,$O$12)","v":4158.5},{"$f":" RTD(\"cqg.rtd\",,\"StudyData\", $O$2, \"BAR\", \"\", \"High\", $O$4, -$A275, $O$6,$O$10,,$O$8,$O$12)","v":4190},{"$f":" RTD(\"cqg.rtd\",,\"StudyData\", $O$2, \"BAR\", \"\", \"Low\", $O$4, -$A275, $O$6,$O$10,,$O$8,$O$12)","v":4121.25},{"$f":" RTD(\"cqg.rtd\",,\"StudyData\", $O$2, \"BAR\", \"\", \"Close\", $O$4, -$A275, $O$6,$O$10,,$O$8,$O$12)","v":4184},{"$f":" RTD(\"cqg.rtd\",,\"StudyData\",$O$2, \"ImpVol\",, \"MIVClose\",$O$4,-A275,$O$6,$O$10,,$O$8,$O$12)","v":21.855000000000004}]
[274,{"$f":" RTD(\"cqg.rtd\",,\"StudyData\", $O$2, \"BAR\", \"\", \"Time\", $O$4,-$A276,$O$6,$O$10, \"\",\"False\",\"T\")","v":"2022-09-07"},{"$f":" RTD(\"cqg.rtd\",,\"StudyData\", $O$2, \"BAR\", \"\", \"Open\", $O$4, -$A276, $O$6,$O$10,,$O$8,$O$12)","v":4086},{"$f":" RTD(\"cqg.rtd\",,\"StudyData\", $O$2, \"BAR\", \"\", \"High\", $O$4, -$A276, $O$6,$O$10,,$O$8,$O$12)","v":4167.25},{"$f":" RTD(\"cqg.rtd\",,\"StudyData\", $O$2, \"BAR\", \"\", \"Low\", $O$4, -$A276, $O$6,$O$10,,$O$8,$O$12)","v":4062},{"$f":" RTD(\"cqg.rtd\",,\"StudyData\", $O$2, \"BAR\", \"\", \"Close\", $O$4, -$A276, $O$6,$O$10,,$O$8,$O$12)","v":4158.5},{"$f":" RTD(\"cqg.rtd\",,\"StudyData\",$O$2, \"ImpVol\",, \"MIVClose\",$O$4,-A276,$O$6,$O$10,,$O$8,$O$12)","v":22.455000000000002}]
[275,{"$f":" RTD(\"cqg.rtd\",,\"StudyData\", $O$2, \"BAR\", \"\", \"Time\", $O$4,-$A277,$O$6,$O$10, \"\",\"False\",\"T\")","v":"2022-09-06"},{"$f":" RTD(\"cqg.rtd\",,\"StudyData\", $O$2, \"BAR\", \"\", \"Open\", $O$4, -$A277, $O$6,$O$10,,$O$8,$O$12)","v":4107.5},{"$f":" RTD(\"cqg.rtd\",,\"StudyData\", $O$2, \"BAR\", \"\", \"High\", $O$4, -$A277, $O$6,$O$10,,$O$8,$O$12)","v":4141.75},{"$f":" RTD(\"cqg.rtd\",,\"StudyData\", $O$2, \"BAR\", \"\", \"Low\", $O$4, -$A277, $O$6,$O$10,,$O$8,$O$12)","v":4065.25},{"$f":" RTD(\"cqg.rtd\",,\"StudyData\", $O$2, \"BAR\", \"\", \"Close\", $O$4, -$A277, $O$6,$O$10,,$O$8,$O$12)","v":4089},{"$f":" RTD(\"cqg.rtd\",,\"StudyData\",$O$2, \"ImpVol\",, \"MIVClose\",$O$4,-A277,$O$6,$O$10,,$O$8,$O$12)","v":23.54}]
[276,{"$f":" RTD(\"cqg.rtd\",,\"StudyData\", $O$2, \"BAR\", \"\", \"Time\", $O$4,-$A278,$O$6,$O$10, \"\",\"False\",\"T\")","v":"2022-09-02"},{"$f":" RTD(\"cqg.rtd\",,\"StudyData\", $O$2, \"BAR\", \"\", \"Open\", $O$4, -$A278, $O$6,$O$10,,$O$8,$O$12)","v":4146},{"$f":" RTD(\"cqg.rtd\",,\"StudyData\", $O$2, \"BAR\", \"\", \"High\", $O$4, -$A278, $O$6,$O$10,,$O$8,$O$12)","v":4197.75},{"$f":" RTD(\"cqg.rtd\",,\"StudyData\", $O$2, \"BAR\", \"\", \"Low\", $O$4, -$A278, $O$6,$O$10,,$O$8,$O$12)","v":4084.5},{"$f":" RTD(\"cqg.rtd\",,\"StudyData\", $O$2, \"BAR\", \"\", \"Close\", $O$4, -$A278, $O$6,$O$10,,$O$8,$O$12)","v":4103},{"$f":" RTD(\"cqg.rtd\",,\"StudyData\",$O$2, \"ImpVol\",, \"MIVClose\",$O$4,-A278,$O$6,$O$10,,$O$8,$O$12)","v":22.535}]
[277,{"$f":" RTD(\"cqg.rtd\",,\"StudyData\", $O$2, \"BAR\", \"\", \"Time\", $O$4,-$A279,$O$6,$O$10, \"\",\"False\",\"T\")","v":"2022-09-01"},{"$f":" RTD(\"cqg.rtd\",,\"StudyData\", $O$2, \"BAR\", \"\", \"Open\", $O$4, -$A279, $O$6,$O$10,,$O$8,$O$12)","v":4136.5},{"$f":" RTD(\"cqg.rtd\",,\"StudyData\", $O$2, \"BAR\", \"\", \"High\", $O$4, -$A279, $O$6,$O$10,,$O$8,$O$12)","v":4149.75},{"$f":" RTD(\"cqg.rtd\",,\"StudyData\", $O$2, \"BAR\", \"\", \"Low\", $O$4, -$A279, $O$6,$O$10,,$O$8,$O$12)","v":4082},{"$f":" RTD(\"cqg.rtd\",,\"StudyData\", $O$2, \"BAR\", \"\", \"Close\", $O$4, -$A279, $O$6,$O$10,,$O$8,$O$12)","v":4147.25},{"$f":" RTD(\"cqg.rtd\",,\"StudyData\",$O$2, \"ImpVol\",, \"MIVClose\",$O$4,-A279,$O$6,$O$10,,$O$8,$O$12)","v":22.125}]
[278,{"$f":" RTD(\"cqg.rtd\",,\"StudyData\", $O$2, \"BAR\", \"\", \"Time\", $O$4,-$A280,$O$6,$O$10, \"\",\"False\",\"T\")","v":"2022-08-31"},{"$f":" RTD(\"cqg.rtd\",,\"StudyData\", $O$2, \"BAR\", \"\", \"Open\", $O$4, -$A280, $O$6,$O$10,,$O$8,$O$12)","v":4165.75},{"$f":" RTD(\"cqg.rtd\",,\"StudyData\", $O$2, \"BAR\", \"\", \"High\", $O$4, -$A280, $O$6,$O$10,,$O$8,$O$12)","v":4196.75},{"$f":" RTD(\"cqg.rtd\",,\"StudyData\", $O$2, \"BAR\", \"\", \"Low\", $O$4, -$A280, $O$6,$O$10,,$O$8,$O$12)","v":4131.5},{"$f":" RTD(\"cqg.rtd\",,\"StudyData\", $O$2, \"BAR\", \"\", \"Close\", $O$4, -$A280, $O$6,$O$10,,$O$8,$O$12)","v":4135},{"$f":" RTD(\"cqg.rtd\",,\"StudyData\",$O$2, \"ImpVol\",, \"MIVClose\",$O$4,-A280,$O$6,$O$10,,$O$8,$O$12)","v":22.55}]
[279,{"$f":" RTD(\"cqg.rtd\",,\"StudyData\", $O$2, \"BAR\", \"\", \"Time\", $O$4,-$A281,$O$6,$O$10, \"\",\"False\",\"T\")","v":"2022-08-30"},{"$f":" RTD(\"cqg.rtd\",,\"StudyData\", $O$2, \"BAR\", \"\", \"Open\", $O$4, -$A281, $O$6,$O$10,,$O$8,$O$12)","v":4214.25},{"$f":" RTD(\"cqg.rtd\",,\"StudyData\", $O$2, \"BAR\", \"\", \"High\", $O$4, -$A281, $O$6,$O$10,,$O$8,$O$12)","v":4251.25},{"$f":" RTD(\"cqg.rtd\",,\"StudyData\", $O$2, \"BAR\", \"\", \"Low\", $O$4, -$A281, $O$6,$O$10,,$O$8,$O$12)","v":4143},{"$f":" RTD(\"cqg.rtd\",,\"StudyData\", $O$2, \"BAR\", \"\", \"Close\", $O$4, -$A281, $O$6,$O$10,,$O$8,$O$12)","v":4166},{"$f":" RTD(\"cqg.rtd\",,\"StudyData\",$O$2, \"ImpVol\",, \"MIVClose\",$O$4,-A281,$O$6,$O$10,,$O$8,$O$12)","v":22.585000000000001}]
[280,{"$f":" RTD(\"cqg.rtd\",,\"StudyData\", $O$2, \"BAR\", \"\", \"Time\", $O$4,-$A282,$O$6,$O$10, \"\",\"False\",\"T\")","v":"2022-08-29"},{"$f":" RTD(\"cqg.rtd\",,\"StudyData\", $O$2, \"BAR\", \"\", \"Open\", $O$4, -$A282, $O$6,$O$10,,$O$8,$O$12)","v":4202.5},{"$f":" RTD(\"cqg.rtd\",,\"StudyData\", $O$2, \"BAR\", \"\", \"High\", $O$4, -$A282, $O$6,$O$10,,$O$8,$O$12)","v":4242.5},{"$f":" RTD(\"cqg.rtd\",,\"StudyData\", $O$2, \"BAR\", \"\", \"Low\", $O$4, -$A282, $O$6,$O$10,,$O$8,$O$12)","v":4185.25},{"$f":" RTD(\"cqg.rtd\",,\"StudyData\", $O$2, \"BAR\", \"\", \"Close\", $O$4, -$A282, $O$6,$O$10,,$O$8,$O$12)","v":4209.75},{"$f":" RTD(\"cqg.rtd\",,\"StudyData\",$O$2, \"ImpVol\",, \"MIVClose\",$O$4,-A282,$O$6,$O$10,,$O$8,$O$12)","v":22.135000000000002}]
[281,{"$f":" RTD(\"cqg.rtd\",,\"StudyData\", $O$2, \"BAR\", \"\", \"Time\", $O$4,-$A283,$O$6,$O$10, \"\",\"False\",\"T\")","v":"2022-08-26"},{"$f":" RTD(\"cqg.rtd\",,\"StudyData\", $O$2, \"BAR\", \"\", \"Open\", $O$4, -$A283, $O$6,$O$10,,$O$8,$O$12)","v":4376.75},{"$f":" RTD(\"cqg.rtd\",,\"StudyData\", $O$2, \"BAR\", \"\", \"High\", $O$4, -$A283, $O$6,$O$10,,$O$8,$O$12)","v":4395.75},{"$f":" RTD(\"cqg.rtd\",,\"StudyData\", $O$2, \"BAR\", \"\", \"Low\", $O$4, -$A283, $O$6,$O$10,,$O$8,$O$12)","v":4221.25},{"$f":" RTD(\"cqg.rtd\",,\"StudyData\", $O$2, \"BAR\", \"\", \"Close\", $O$4, -$A283, $O$6,$O$10,,$O$8,$O$12)","v":4238},{"$f":" RTD(\"cqg.rtd\",,\"StudyData\",$O$2, \"ImpVol\",, \"MIVClose\",$O$4,-A283,$O$6,$O$10,,$O$8,$O$12)","v":21.680000000000003}]
[282,{"$f":" RTD(\"cqg.rtd\",,\"StudyData\", $O$2, \"BAR\", \"\", \"Time\", $O$4,-$A284,$O$6,$O$10, \"\",\"False\",\"T\")","v":"2022-08-25"},{"$f":" RTD(\"cqg.rtd\",,\"StudyData\", $O$2, \"BAR\", \"\", \"Open\", $O$4, -$A284, $O$6,$O$10,,$O$8,$O$12)","v":4327.25},{"$f":" RTD(\"cqg.rtd\",,\"StudyData\", $O$2, \"BAR\", \"\", \"High\", $O$4, -$A284, $O$6,$O$10,,$O$8,$O$12)","v":4381.25},{"$f":" RTD(\"cqg.rtd\",,\"StudyData\", $O$2, \"BAR\", \"\", \"Low\", $O$4, -$A284, $O$6,$O$10,,$O$8,$O$12)","v":4321.5},{"$f":" RTD(\"cqg.rtd\",,\"StudyData\", $O$2, \"BAR\", \"\", \"Close\", $O$4, -$A284, $O$6,$O$10,,$O$8,$O$12)","v":4379.5},{"$f":" RTD(\"cqg.rtd\",,\"StudyData\",$O$2, \"ImpVol\",, \"MIVClose\",$O$4,-A284,$O$6,$O$10,,$O$8,$O$12)","v":19.09}]
[283,{"$f":" RTD(\"cqg.rtd\",,\"StudyData\", $O$2, \"BAR\", \"\", \"Time\", $O$4,-$A285,$O$6,$O$10, \"\",\"False\",\"T\")","v":"2022-08-24"},{"$f":" RTD(\"cqg.rtd\",,\"StudyData\", $O$2, \"BAR\", \"\", \"Open\", $O$4, -$A285, $O$6,$O$10,,$O$8,$O$12)","v":4306.75},{"$f":" RTD(\"cqg.rtd\",,\"StudyData\", $O$2, \"BAR\", \"\", \"High\", $O$4, -$A285, $O$6,$O$10,,$O$8,$O$12)","v":4337},{"$f":" RTD(\"cqg.rtd\",,\"StudyData\", $O$2, \"BAR\", \"\", \"Low\", $O$4, -$A285, $O$6,$O$10,,$O$8,$O$12)","v":4289.25},{"$f":" RTD(\"cqg.rtd\",,\"StudyData\", $O$2, \"BAR\", \"\", \"Close\", $O$4, -$A285, $O$6,$O$10,,$O$8,$O$12)","v":4321.25},{"$f":" RTD(\"cqg.rtd\",,\"StudyData\",$O$2, \"ImpVol\",, \"MIVClose\",$O$4,-A285,$O$6,$O$10,,$O$8,$O$12)","v":19.75}]
[284,{"$f":" RTD(\"cqg.rtd\",,\"StudyData\", $O$2, \"BAR\", \"\", \"Time\", $O$4,-$A286,$O$6,$O$10, \"\",\"False\",\"T\")","v":"2022-08-23"},{"$f":" RTD(\"cqg.rtd\",,\"StudyData\", $O$2, \"BAR\", \"\", \"Open\", $O$4, -$A286, $O$6,$O$10,,$O$8,$O$12)","v":4325.5},{"$f":" RTD(\"cqg.rtd\",,\"StudyData\", $O$2, \"BAR\", \"\", \"High\", $O$4, -$A286, $O$6,$O$10,,$O$8,$O$12)","v":4340.25},{"$f":" RTD(\"cqg.rtd\",,\"StudyData\", $O$2, \"BAR\", \"\", \"Low\", $O$4, -$A286, $O$6,$O$10,,$O$8,$O$12)","v":4296.5},{"$f":" RTD(\"cqg.rtd\",,\"StudyData\", $O$2, \"BAR\", \"\", \"Close\", $O$4, -$A286, $O$6,$O$10,,$O$8,$O$12)","v":4309},{"$f":" RTD(\"cqg.rtd\",,\"StudyData\",$O$2, \"ImpVol\",, \"MIVClose\",$O$4,-A286,$O$6,$O$10,,$O$8,$O$12)","v":20.560000000000002}]
[285,{"$f":" RTD(\"cqg.rtd\",,\"StudyData\", $O$2, \"BAR\", \"\", \"Time\", $O$4,-$A287,$O$6,$O$10, \"\",\"False\",\"T\")","v":"2022-08-22"},{"$f":" RTD(\"cqg.rtd\",,\"StudyData\", $O$2, \"BAR\", \"\", \"Open\", $O$4, -$A287, $O$6,$O$10,,$O$8,$O$12)","v":4399.5},{"$f":" RTD(\"cqg.rtd\",,\"StudyData\", $O$2, \"BAR\", \"\", \"High\", $O$4, -$A287, $O$6,$O$10,,$O$8,$O$12)","v":4400},{"$f":" RTD(\"cqg.rtd\",,\"StudyData\", $O$2, \"BAR\", \"\", \"Low\", $O$4, -$A287, $O$6,$O$10,,$O$8,$O$12)","v":4310},{"$f":" RTD(\"cqg.rtd\",,\"StudyData\", $O$2, \"BAR\", \"\", \"Close\", $O$4, -$A287, $O$6,$O$10,,$O$8,$O$12)","v":4319.75},{"$f":" RTD(\"cqg.rtd\",,\"StudyData\",$O$2, \"ImpVol\",, \"MIVClose\",$O$4,-A287,$O$6,$O$10,,$O$8,$O$12)","v":20.41}]
[286,{"$f":" RTD(\"cqg.rtd\",,\"StudyData\", $O$2, \"BAR\", \"\", \"Time\", $O$4,-$A288,$O$6,$O$10, \"\",\"False\",\"T\")","v":"2022-08-19"},{"$f":" RTD(\"cqg.rtd\",,\"StudyData\", $O$2, \"BAR\", \"\", \"Open\", $O$4, -$A288, $O$6,$O$10,,$O$8,$O$12)","v":4465.5},{"$f":" RTD(\"cqg.rtd\",,\"StudyData\", $O$2, \"BAR\", \"\", \"High\", $O$4, -$A288, $O$6,$O$10,,$O$8,$O$12)","v":4466.5},{"$f":" RTD(\"cqg.rtd\",,\"StudyData\", $O$2, \"BAR\", \"\", \"Low\", $O$4, -$A288, $O$6,$O$10,,$O$8,$O$12)","v":4399.25},{"$f":" RTD(\"cqg.rtd\",,\"StudyData\", $O$2, \"BAR\", \"\", \"Close\", $O$4, -$A288, $O$6,$O$10,,$O$8,$O$12)","v":4410},{"$f":" RTD(\"cqg.rtd\",,\"StudyData\",$O$2, \"ImpVol\",, \"MIVClose\",$O$4,-A288,$O$6,$O$10,,$O$8,$O$12)","v":18.525000000000002}]
[287,{"$f":" RTD(\"cqg.rtd\",,\"StudyData\", $O$2, \"BAR\", \"\", \"Time\", $O$4,-$A289,$O$6,$O$10, \"\",\"False\",\"T\")","v":"2022-08-18"},{"$f":" RTD(\"cqg.rtd\",,\"StudyData\", $O$2, \"BAR\", \"\", \"Open\", $O$4, -$A289, $O$6,$O$10,,$O$8,$O$12)","v":4458},{"$f":" RTD(\"cqg.rtd\",,\"StudyData\", $O$2, \"BAR\", \"\", \"High\", $O$4, -$A289, $O$6,$O$10,,$O$8,$O$12)","v":4474},{"$f":" RTD(\"cqg.rtd\",,\"StudyData\", $O$2, \"BAR\", \"\", \"Low\", $O$4, -$A289, $O$6,$O$10,,$O$8,$O$12)","v":4436.5},{"$f":" RTD(\"cqg.rtd\",,\"StudyData\", $O$2, \"BAR\", \"\", \"Close\", $O$4, -$A289, $O$6,$O$10,,$O$8,$O$12)","v":4465},{"$f":" RTD(\"cqg.rtd\",,\"StudyData\",$O$2, \"ImpVol\",, \"MIVClose\",$O$4,-A289,$O$6,$O$10,,$O$8,$O$12)","v":17.670000000000002}]
[288,{"$f":" RTD(\"cqg.rtd\",,\"StudyData\", $O$2, \"BAR\", \"\", \"Time\", $O$4,-$A290,$O$6,$O$10, \"\",\"False\",\"T\")","v":"2022-08-17"},{"$f":" RTD(\"cqg.rtd\",,\"StudyData\", $O$2, \"BAR\", \"\", \"Open\", $O$4, -$A290, $O$6,$O$10,,$O$8,$O$12)","v":4487.75},{"$f":" RTD(\"cqg.rtd\",,\"StudyData\", $O$2, \"BAR\", \"\", \"High\", $O$4, -$A290, $O$6,$O$10,,$O$8,$O$12)","v":4493.5},{"$f":" RTD(\"cqg.rtd\",,\"StudyData\", $O$2, \"BAR\", \"\", \"Low\", $O$4, -$A290, $O$6,$O$10,,$O$8,$O$12)","v":4433.5},{"$f":" RTD(\"cqg.rtd\",,\"StudyData\", $O$2, \"BAR\", \"\", \"Close\", $O$4, -$A290, $O$6,$O$10,,$O$8,$O$12)","v":4455.25},{"$f":" RTD(\"cqg.rtd\",,\"StudyData\",$O$2, \"ImpVol\",, \"MIVClose\",$O$4,-A290,$O$6,$O$10,,$O$8,$O$12)","v":18.155000000000001}]
[289,{"$f":" RTD(\"cqg.rtd\",,\"StudyData\", $O$2, \"BAR\", \"\", \"Time\", $O$4,-$A291,$O$6,$O$10, \"\",\"False\",\"T\")","v":"2022-08-16"},{"$f":" RTD(\"cqg.rtd\",,\"StudyData\", $O$2, \"BAR\", \"\", \"Open\", $O$4, -$A291, $O$6,$O$10,,$O$8,$O$12)","v":4473},{"$f":" RTD(\"cqg.rtd\",,\"StudyData\", $O$2, \"BAR\", \"\", \"High\", $O$4, -$A291, $O$6,$O$10,,$O$8,$O$12)","v":4506},{"$f":" RTD(\"cqg.rtd\",,\"StudyData\", $O$2, \"BAR\", \"\", \"Low\", $O$4, -$A291, $O$6,$O$10,,$O$8,$O$12)","v":4457.25},{"$f":" RTD(\"cqg.rtd\",,\"StudyData\", $O$2, \"BAR\", \"\", \"Close\", $O$4, -$A291, $O$6,$O$10,,$O$8,$O$12)","v":4486.25},{"$f":" RTD(\"cqg.rtd\",,\"StudyData\",$O$2, \"ImpVol\",, \"MIVClose\",$O$4,-A291,$O$6,$O$10,,$O$8,$O$12)","v":17.55}]
[290,{"$f":" RTD(\"cqg.rtd\",,\"StudyData\", $O$2, \"BAR\", \"\", \"Time\", $O$4,-$A292,$O$6,$O$10, \"\",\"False\",\"T\")","v":"2022-08-15"},{"$f":" RTD(\"cqg.rtd\",,\"StudyData\", $O$2, \"BAR\", \"\", \"Open\", $O$4, -$A292, $O$6,$O$10,,$O$8,$O$12)","v":4455.5},{"$f":" RTD(\"cqg.rtd\",,\"StudyData\", $O$2, \"BAR\", \"\", \"High\", $O$4, -$A292, $O$6,$O$10,,$O$8,$O$12)","v":4483.25},{"$f":" RTD(\"cqg.rtd\",,\"StudyData\", $O$2, \"BAR\", \"\", \"Low\", $O$4, -$A292, $O$6,$O$10,,$O$8,$O$12)","v":4427.5},{"$f":" RTD(\"cqg.rtd\",,\"StudyData\", $O$2, \"BAR\", \"\", \"Close\", $O$4, -$A292, $O$6,$O$10,,$O$8,$O$12)","v":4476.75},{"$f":" RTD(\"cqg.rtd\",,\"StudyData\",$O$2, \"ImpVol\",, \"MIVClose\",$O$4,-A292,$O$6,$O$10,,$O$8,$O$12)","v":17.544999999999998}]
[291,{"$f":" RTD(\"cqg.rtd\",,\"StudyData\", $O$2, \"BAR\", \"\", \"Time\", $O$4,-$A293,$O$6,$O$10, \"\",\"False\",\"T\")","v":"2022-08-12"},{"$f":" RTD(\"cqg.rtd\",,\"StudyData\", $O$2, \"BAR\", \"\", \"Open\", $O$4, -$A293, $O$6,$O$10,,$O$8,$O$12)","v":4397.75},{"$f":" RTD(\"cqg.rtd\",,\"StudyData\", $O$2, \"BAR\", \"\", \"High\", $O$4, -$A293, $O$6,$O$10,,$O$8,$O$12)","v":4461.25},{"$f":" RTD(\"cqg.rtd\",,\"StudyData\", $O$2, \"BAR\", \"\", \"Low\", $O$4, -$A293, $O$6,$O$10,,$O$8,$O$12)","v":4386.75},{"$f":" RTD(\"cqg.rtd\",,\"StudyData\", $O$2, \"BAR\", \"\", \"Close\", $O$4, -$A293, $O$6,$O$10,,$O$8,$O$12)","v":4459.5},{"$f":" RTD(\"cqg.rtd\",,\"StudyData\",$O$2, \"ImpVol\",, \"MIVClose\",$O$4,-A293,$O$6,$O$10,,$O$8,$O$12)","v":17.745000000000001}]
[292,{"$f":" RTD(\"cqg.rtd\",,\"StudyData\", $O$2, \"BAR\", \"\", \"Time\", $O$4,-$A294,$O$6,$O$10, \"\",\"False\",\"T\")","v":"2022-08-11"},{"$f":" RTD(\"cqg.rtd\",,\"StudyData\", $O$2, \"BAR\", \"\", \"Open\", $O$4, -$A294, $O$6,$O$10,,$O$8,$O$12)","v":4389.25},{"$f":" RTD(\"cqg.rtd\",,\"StudyData\", $O$2, \"BAR\", \"\", \"High\", $O$4, -$A294, $O$6,$O$10,,$O$8,$O$12)","v":4439},{"$f":" RTD(\"cqg.rtd\",,\"StudyData\", $O$2, \"BAR\", \"\", \"Low\", $O$4, -$A294, $O$6,$O$10,,$O$8,$O$12)","v":4381.25},{"$f":" RTD(\"cqg.rtd\",,\"StudyData\", $O$2, \"BAR\", \"\", \"Close\", $O$4, -$A294, $O$6,$O$10,,$O$8,$O$12)","v":4388.25},{"$f":" RTD(\"cqg.rtd\",,\"StudyData\",$O$2, \"ImpVol\",, \"MIVClose\",$O$4,-A294,$O$6,$O$10,,$O$8,$O$12)","v":17.34}]
[293,{"$f":" RTD(\"cqg.rtd\",,\"StudyData\", $O$2, \"BAR\", \"\", \"Time\", $O$4,-$A295,$O$6,$O$10, \"\",\"False\",\"T\")","v":"2022-08-10"},{"$f":" RTD(\"cqg.rtd\",,\"StudyData\", $O$2, \"BAR\", \"\", \"Open\", $O$4, -$A295, $O$6,$O$10,,$O$8,$O$12)","v":4307.25},{"$f":" RTD(\"cqg.rtd\",,\"StudyData\", $O$2, \"BAR\", \"\", \"High\", $O$4, -$A295, $O$6,$O$10,,$O$8,$O$12)","v":4392},{"$f":" RTD(\"cqg.rtd\",,\"StudyData\", $O$2, \"BAR\", \"\", \"Low\", $O$4, -$A295, $O$6,$O$10,,$O$8,$O$12)","v":4292.25},{"$f":" RTD(\"cqg.rtd\",,\"StudyData\", $O$2, \"BAR\", \"\", \"Close\", $O$4, -$A295, $O$6,$O$10,,$O$8,$O$12)","v":4388.5},{"$f":" RTD(\"cqg.rtd\",,\"StudyData\",$O$2, \"ImpVol\",, \"MIVClose\",$O$4,-A295,$O$6,$O$10,,$O$8,$O$12)","v":17.2}]
[294,{"$f":" RTD(\"cqg.rtd\",,\"StudyData\", $O$2, \"BAR\", \"\", \"Time\", $O$4,-$A296,$O$6,$O$10, \"\",\"False\",\"T\")","v":"2022-08-09"},{"$f":" RTD(\"cqg.rtd\",,\"StudyData\", $O$2, \"BAR\", \"\", \"Open\", $O$4, -$A296, $O$6,$O$10,,$O$8,$O$12)","v":4327},{"$f":" RTD(\"cqg.rtd\",,\"StudyData\", $O$2, \"BAR\", \"\", \"High\", $O$4, -$A296, $O$6,$O$10,,$O$8,$O$12)","v":4333.5},{"$f":" RTD(\"cqg.rtd\",,\"StudyData\", $O$2, \"BAR\", \"\", \"Low\", $O$4, -$A296, $O$6,$O$10,,$O$8,$O$12)","v":4291.5},{"$f":" RTD(\"cqg.rtd\",,\"StudyData\", $O$2, \"BAR\", \"\", \"Close\", $O$4, -$A296, $O$6,$O$10,,$O$8,$O$12)","v":4303},{"$f":" RTD(\"cqg.rtd\",,\"StudyData\",$O$2, \"ImpVol\",, \"MIVClose\",$O$4,-A296,$O$6,$O$10,,$O$8,$O$12)","v":18.940000000000001}]
[295,{"$f":" RTD(\"cqg.rtd\",,\"StudyData\", $O$2, \"BAR\", \"\", \"Time\", $O$4,-$A297,$O$6,$O$10, \"\",\"False\",\"T\")","v":"2022-08-08"},{"$f":" RTD(\"cqg.rtd\",,\"StudyData\", $O$2, \"BAR\", \"\", \"Open\", $O$4, -$A297, $O$6,$O$10,,$O$8,$O$12)","v":4328.25},{"$f":" RTD(\"cqg.rtd\",,\"StudyData\", $O$2, \"BAR\", \"\", \"High\", $O$4, -$A297, $O$6,$O$10,,$O$8,$O$12)","v":4366.5},{"$f":" RTD(\"cqg.rtd\",,\"StudyData\", $O$2, \"BAR\", \"\", \"Low\", $O$4, -$A297, $O$6,$O$10,,$O$8,$O$12)","v":4307.75},{"$f":" RTD(\"cqg.rtd\",,\"StudyData\", $O$2, \"BAR\", \"\", \"Close\", $O$4, -$A297, $O$6,$O$10,,$O$8,$O$12)","v":4320.25},{"$f":" RTD(\"cqg.rtd\",,\"StudyData\",$O$2, \"ImpVol\",, \"MIVClose\",$O$4,-A297,$O$6,$O$10,,$O$8,$O$12)","v":18.310000000000002}]
[296,{"$f":" RTD(\"cqg.rtd\",,\"StudyData\", $O$2, \"BAR\", \"\", \"Time\", $O$4,-$A298,$O$6,$O$10, \"\",\"False\",\"T\")","v":"2022-08-05"},{"$f":" RTD(\"cqg.rtd\",,\"StudyData\", $O$2, \"BAR\", \"\", \"Open\", $O$4, -$A298, $O$6,$O$10,,$O$8,$O$12)","v":4330.5},{"$f":" RTD(\"cqg.rtd\",,\"StudyData\", $O$2, \"BAR\", \"\", \"High\", $O$4, -$A298, $O$6,$O$10,,$O$8,$O$12)","v":4344.75},{"$f":" RTD(\"cqg.rtd\",,\"StudyData\", $O$2, \"BAR\", \"\", \"Low\", $O$4, -$A298, $O$6,$O$10,,$O$8,$O$12)","v":4282.25},{"$f":" RTD(\"cqg.rtd\",,\"StudyData\", $O$2, \"BAR\", \"\", \"Close\", $O$4, -$A298, $O$6,$O$10,,$O$8,$O$12)","v":4325.25},{"$f":" RTD(\"cqg.rtd\",,\"StudyData\",$O$2, \"ImpVol\",, \"MIVClose\",$O$4,-A298,$O$6,$O$10,,$O$8,$O$12)","v":18.59}]
[297,{"$f":" RTD(\"cqg.rtd\",,\"StudyData\", $O$2, \"BAR\", \"\", \"Time\", $O$4,-$A299,$O$6,$O$10, \"\",\"False\",\"T\")","v":"2022-08-04"},{"$f":" RTD(\"cqg.rtd\",,\"StudyData\", $O$2, \"BAR\", \"\", \"Open\", $O$4, -$A299, $O$6,$O$10,,$O$8,$O$12)","v":4328.75},{"$f":" RTD(\"cqg.rtd\",,\"StudyData\", $O$2, \"BAR\", \"\", \"High\", $O$4, -$A299, $O$6,$O$10,,$O$8,$O$12)","v":4351.75},{"$f":" RTD(\"cqg.rtd\",,\"StudyData\", $O$2, \"BAR\", \"\", \"Low\", $O$4, -$A299, $O$6,$O$10,,$O$8,$O$12)","v":4314.5},{"$f":" RTD(\"cqg.rtd\",,\"StudyData\", $O$2, \"BAR\", \"\", \"Close\", $O$4, -$A299, $O$6,$O$10,,$O$8,$O$12)","v":4330.75},{"$f":" RTD(\"cqg.rtd\",,\"StudyData\",$O$2, \"ImpVol\",, \"MIVClose\",$O$4,-A299,$O$6,$O$10,,$O$8,$O$12)","v":18.975000000000001}]
[298,{"$f":" RTD(\"cqg.rtd\",,\"StudyData\", $O$2, \"BAR\", \"\", \"Time\", $O$4,-$A300,$O$6,$O$10, \"\",\"False\",\"T\")","v":"2022-08-03"},{"$f":" RTD(\"cqg.rtd\",,\"StudyData\", $O$2, \"BAR\", \"\", \"Open\", $O$4, -$A300, $O$6,$O$10,,$O$8,$O$12)","v":4275.5},{"$f":" RTD(\"cqg.rtd\",,\"StudyData\", $O$2, \"BAR\", \"\", \"High\", $O$4, -$A300, $O$6,$O$10,,$O$8,$O$12)","v":4348.5},{"$f":" RTD(\"cqg.rtd\",,\"StudyData\", $O$2, \"BAR\", \"\", \"Low\", $O$4, -$A300, $O$6,$O$10,,$O$8,$O$12)","v":4263},{"$f":" RTD(\"cqg.rtd\",,\"StudyData\", $O$2, \"BAR\", \"\", \"Close\", $O$4, -$A300, $O$6,$O$10,,$O$8,$O$12)","v":4334.75},{"$f":" RTD(\"cqg.rtd\",,\"StudyData\",$O$2, \"ImpVol\",, \"MIVClose\",$O$4,-A300,$O$6,$O$10,,$O$8,$O$12)","v":19.095000000000002}]
[299,{"$f":" RTD(\"cqg.rtd\",,\"StudyData\", $O$2, \"BAR\", \"\", \"Time\", $O$4,-$A301,$O$6,$O$10, \"\",\"False\",\"T\")","v":"2022-08-02"},{"$f":" RTD(\"cqg.rtd\",,\"StudyData\", $O$2, \"BAR\", \"\", \"Open\", $O$4, -$A301, $O$6,$O$10,,$O$8,$O$12)","v":4298.25},{"$f":" RTD(\"cqg.rtd\",,\"StudyData\", $O$2, \"BAR\", \"\", \"High\", $O$4, -$A301, $O$6,$O$10,,$O$8,$O$12)","v":4321.5},{"$f":" RTD(\"cqg.rtd\",,\"StudyData\", $O$2, \"BAR\", \"\", \"Low\", $O$4, -$A301, $O$6,$O$10,,$O$8,$O$12)","v":4259},{"$f":" RTD(\"cqg.rtd\",,\"StudyData\", $O$2, \"BAR\", \"\", \"Close\", $O$4, -$A301, $O$6,$O$10,,$O$8,$O$12)","v":4272.25},{"$f":" RTD(\"cqg.rtd\",,\"StudyData\",$O$2, \"ImpVol\",, \"MIVClose\",$O$4,-A301,$O$6,$O$10,,$O$8,$O$12)","v":20.605}]
[300,{"$f":"IF( RTD(\"cqg.rtd\",,\"StudyData\", $O$2, \"BAR\", \"\", \"Time\", $O$4,-$A302,$O$6,$O$10, \"\",\"False\",\"T\")=\"\",NA(),RTD(\"cqg.rtd\",,\"StudyData\", $O$2, \"BAR\", \"\", \"Time\", $O$4,-$A302,$O$6,$O$10, \"\",\"False\",\"T\"))","v":"2022-08-01"},{"$f":" IF(RTD(\"cqg.rtd\",,\"StudyData\", $O$2, \"BAR\", \"\", \"Open\", $O$4, -$A302, $O$6,$O$10,,$O$8,$O$12)=\"\",NA(),RTD(\"cqg.rtd\",,\"StudyData\", $O$2, \"BAR\", \"\", \"Open\", $O$4, -$A302, $O$6,$O$10,,$O$8,$O$12))","v":4316},{"$f":"IF( RTD(\"cqg.rtd\",,\"StudyData\", $O$2, \"BAR\", \"\", \"High\", $O$4, -$A302, $O$6,$O$10,,$O$8,$O$12)=\"\",NA(), RTD(\"cqg.rtd\",,\"StudyData\", $O$2, \"BAR\", \"\", \"High\", $O$4, -$A302, $O$6,$O$10,,$O$8,$O$12))","v":4325.75},{"$f":"IF(RTD(\"cqg.rtd\",,\"StudyData\", $O$2, \"BAR\", \"\", \"Low\", $O$4, -$A302, $O$6,$O$10,,$O$8,$O$12)=\"\",NA(),RTD(\"cqg.rtd\",,\"StudyData\", $O$2, \"BAR\", \"\", \"Low\", $O$4, -$A302, $O$6,$O$10,,$O$8,$O$12))","v":4275.5},{"$f":"IF( RTD(\"cqg.rtd\",,\"StudyData\", $O$2, \"BAR\", \"\", \"Close\", $O$4, -$A302, $O$6,$O$10,,$O$8,$O$12)=\"\",NA(), RTD(\"cqg.rtd\",,\"StudyData\", $O$2, \"BAR\", \"\", \"Close\", $O$4, -$A302, $O$6,$O$10,,$O$8,$O$12))","v":4299},{"$f":"IF( RTD(\"cqg.rtd\",,\"StudyData\",$O$2, \"ImpVol\",, \"MIVClose\",$O$4,-A302,$O$6,$O$10,,$O$8,$O$12)=\"\",NA(),RTD(\"cqg.rtd\",,\"StudyData\",$O$2, \"ImpVol\",, \"MIVClose\",$O$4,-A302,$O$6,$O$10,,$O$8,$O$12))","v":19.595000000000002}]

{"sheet":"HVol","index":2,"n_rows":24,"n_cols":22,"rows_kept":24,"cut":false,"hidden":false,"merged":[[10,9,11,9],[19,14,19,21]]}
[null,null,"Symbol","Chart","Sessions"]
[null,null,"EP","ADC","PrimaryOnly"]
[null,null,null,null,null,null,null,null,null,null,null,null,null,null,"Symbol","Last","NC","%NC","Open","High","Low","HVolClose"]
[{"$f":"HVolData!M9","v":4686.5},null,null,null,null,null,null,null,null,null,null,null,null,null,"EP",{"$f":"RTD(\"cqg.rtd\", ,\"ContractData\", O4, \"LastTrade\",, \"T\")","v":4351.75},{"$f":"RTD(\"cqg.rtd\", ,\"ContractData\", O4, \"NetLastTradeToday\",, \"T\")","v":10.25},{"$f":"RTD(\"cqg.rtd\", ,\"ContractData\", O4, \"PerCentNetLastTrade\",, \"T\")/100","v":2.3609351606587582E-3},{"$f":"RTD(\"cqg.rtd\", ,\"ContractData\", O4, \"Open\",, \"T\")","v":4315},{"$f":"RTD(\"cqg.rtd\", ,\"ContractData\", O4, \"High\",, \"T\")","v":4352},{"$f":"RTD(\"cqg.rtd\", ,\"ContractData\", O4, \"Low\",, \"T\")","v":4299.5},{"$f":" RTD(\"cqg.rtd\",,\"StudyData\", $O4, \"HVol\", \"InputChoice=Close,HvolType=Percent,Period=10\", \"HVOL\",\"ADC\")","v":13.398783015199122}]
[{"$f":"HVolData!M10","v":3661.25},null,null,null,null,null,null,null,null,null,null,null,null,null,"ENQ",{"$f":"RTD(\"cqg.rtd\", ,\"ContractData\", O5, \"LastTrade\",, \"T\")","v":15128.75},{"$f":"RTD(\"cqg.rtd\", ,\"ContractData\", O5, \"NetLastTradeToday\",, \"T\")","v":16.5},{"$f":"RTD(\"cqg.rtd\", ,\"ContractData\", O5, \"PerCentNetLastTrade\",, \"T\")/100","v":1.0918475383800952E-3},{"$f":"RTD(\"cqg.rtd\", ,\"ContractData\", O5, \"Open\",, \"T\")","v":15040.25},{"$f":"RTD(\"cqg.rtd\", ,\"ContractData\", O5, \"High\",, \"T\")","v":15131.25},{"$f":"RTD(\"cqg.rtd\", ,\"ContractData\", O5, \"Low\",, \"T\")","v":14949.5},{"$f":" RTD(\"cqg.rtd\",,\"StudyData\", $O5, \"HVol\", \"InputChoice=Close,HvolType=Percent,Period=10\", \"HVOL\",\"ADC\")","v":17.966894948038959}]
[null,null,null,null,null,null,null,null,null,null,null,null,null,null,"YM",{"$f":"RTD(\"cqg.rtd\", ,\"ContractData\", O6, \"LastTrade\",, \"T\")","v":33678},{"$f":"RTD(\"cqg.rtd\", ,\"ContractData\", O6, \"NetLastTradeToday\",, \"T\")","v":78},{"$f":"RTD(\"cqg.rtd\", ,\"ContractData\", O6, \"PerCentNetLastTrade\",, \"T\")/100","v":2.3214285714285715E-3},{"$f":"RTD(\"cqg.rtd\", ,\"ContractData\", O6, \"Open\",, \"T\")","v":33477},{"$f":"RTD(\"cqg.rtd\", ,\"ContractData\", O6, \"High\",, \"T\")","v":33679},{"$f":"RTD(\"cqg.rtd\", ,\"ContractData\", O6, \"Low\",, \"T\")","v":33298},{"$f":" RTD(\"cqg.rtd\",,\"StudyData\", $O6, \"HVol\", \"InputChoice=Close,HvolType=Percent,Period=10\", \"HVOL\",\"ADC\")","v":10.78514741364174}]
[null,null,null,null,null,null,null,null,null,null,null,null,null,null,"GCE",{"$f":"RTD(\"cqg.rtd\", ,\"ContractData\", O7, \"LastTrade\",, \"T\")","v":1866.3000000000002},{"$f":"RTD(\"cqg.rtd\", ,\"ContractData\", O7, \"NetLastTradeToday\",, \"T\")","v":21.1},{"$f":"RTD(\"cqg.rtd\", ,\"ContractData\", O7, \"PerCentNetLastTrade\",, \"T\")/100","v":1.1435074788640798E-2},{"$f":"RTD(\"cqg.rtd\", ,\"ContractData\", O7, \"Open\",, \"T\")","v":1861},{"$f":"RTD(\"cqg.rtd\", ,\"ContractData\", O7, \"High\",, \"T\")","v":1869.5},{"$f":"RTD(\"cqg.rtd\", ,\"ContractData\", O7, \"Low\",, \"T\")","v":1857.5},{"$f":" RTD(\"cqg.rtd\",,\"StudyData\", $O7, \"HVol\", \"InputChoice=Close,HvolType=Percent,Period=10\", \"HVOL\",\"ADC\")","v":12.545528671558328}]
[null,null,null,null,null,null,null,null,null,null,null,null,null,null,"SIE",{"$f":"RTD(\"cqg.rtd\", ,\"ContractData\", O8, \"LastTrade\",, \"T\")","v":21.955000000000002},{"$f":"RTD(\"cqg.rtd\", ,\"ContractData\", O8, \"NetLastTradeToday\",, \"T\")","v":0.23200000000000001},{"$f":"RTD(\"cqg.rtd\", ,\"ContractData\", O8, \"PerCentNetLastTrade\",, \"T\")/100","v":1.0679924503981954E-2},{"$f":"RTD(\"cqg.rtd\", ,\"ContractData\", O8, \"Open\",, \"T\")","v":21.94},{"$f":"RTD(\"cqg.rtd\", ,\"ContractData\", O8, \"High\",, \"T\")","v":22.18},{"$f":"RTD(\"cqg.rtd\", ,\"ContractData\", O8, \"Low\",, \"T\")","v":21.705000000000002},{"$f":" RTD(\"cqg.rtd\",,\"StudyData\", $O8, \"HVol\", \"InputChoice=Close,HvolType=Percent,Period=10\", \"HVOL\",\"ADC\")","v":32.340644677498418}]
[null,null,null,null,null,null,null,null,null,null,null,null,null,null,"CLE",{"$f":"RTD(\"cqg.rtd\", ,\"ContractData\", O9, \"LastTrade\",, \"T\")","v":86.28},{"$f":"RTD(\"cqg.rtd\", ,\"ContractData\", O9, \"NetLastTradeToday\",, \"T\")","v":3.49},{"$f":"RTD(\"cqg.rtd\", ,\"ContractData\", O9, \"PerCentNetLastTrade\",, \"T\")/100","v":4.2154849619519263E-2},{"$f":"RTD(\"cqg.rtd\", ,\"ContractData\", O9, \"Open\",, \"T\")","v":85.25},{"$f":"RTD(\"cqg.rtd\", ,\"ContractData\", O9, \"High\",, \"T\")","v":87.24},{"$f":"RTD(\"cqg.rtd\", ,\"ContractData\", O9, \"Low\",, \"T\")","v":84.67},{"$f":" RTD(\"cqg.rtd\",,\"StudyData\", $O9, \"HVol\", \"InputChoice=Close,HvolType=Percent,Period=10\", \"HVOL\",\"ADC\")","v":46.488153617230303}]
[null,null,null,null,null,null,null,null,null,null,null,null,null,null,"HOE",{"$f":"RTD(\"cqg.rtd\", ,\"ContractData\", O10, \"LastTrade\",, \"T\")","v":2.96},{"$f":"RTD(\"cqg.rtd\", ,\"ContractData\", O10, \"NetLastTradeToday\",, \"T\")","v":5.9200000000000003E-2},{"$f":"RTD(\"cqg.rtd\", ,\"ContractData\", O10, \"PerCentNetLastTrade\",, \"T\")/100","v":2.0408163265306124E-2},{"$f":"RTD(\"cqg.rtd\", ,\"ContractData\", O10, \"Open\",, \"T\")","v":2.9498000000000002},{"$f":"RTD(\"cqg.rtd\", ,\"ContractData\", O10, \"High\",, \"T\")","v":3.0258000000000003},{"$f":"RTD(\"cqg.rtd\", ,\"ContractData\", O10, \"Low\",, \"T\")","v":2.9236},{"$f":" RTD(\"cqg.rtd\",,\"StudyData\", $O10, \"HVol\", \"InputChoice=Close,HvolType=Percent,Period=10\", \"HVOL\",\"ADC\")","v":44.555442949226567}]
[null,null,null,null,null,null,null,null,null,null,null,null,null,null,"RBE",{"$f":"RTD(\"cqg.rtd\", ,\"ContractData\", O11, \"LastTrade\",, \"T\")","v":2.2334000000000001},{"$f":"RTD(\"cqg.rtd\", ,\"ContractData\", O11, \"NetLastTradeToday\",, \"T\")","v":4.1200000000000001E-2},{"$f":"RTD(\"cqg.rtd\", ,\"ContractData\", O11, \"PerCentNetLastTrade\",, \"T\")/100","v":1.8793905665541465E-2},{"$f":"RTD(\"cqg.rtd\", ,\"ContractData\", O11, \"Open\",, \"T\")","v":2.2400000000000002},{"$f":"RTD(\"cqg.rtd\", ,\"ContractData\", O11, \"High\",, \"T\")","v":2.2787999999999999},{"$f":"RTD(\"cqg.rtd\", ,\"ContractData\", O11, \"Low\",, \"T\")","v":2.2200000000000002},{"$f":" RTD(\"cqg.rtd\",,\"StudyData\", $O11, \"HVol\", \"InputChoice=Close,HvolType=Percent,Period=10\", \"HVOL\",\"ADC\")","v":42.126760064916986}]
[null,null,null,null,null,null,null,null,null,null,null,null,null,null,"ZSE",{"$f":"RTD(\"cqg.rtd\", ,\"ContractData\", O12, \"LastTrade\",, \"T\")","v":1264.5},{"$f":"RTD(\"cqg.rtd\", ,\"ContractData\", O12, \"NetLastTradeToday\",, \"T\")","v":-1.5},{"$f":"RTD(\"cqg.rtd\", ,\"ContractData\", O12, \"PerCentNetLastTrade\",, \"T\")/100","v":-1.1848341232227489E-3},{"$f":"RTD(\"cqg.rtd\", ,\"ContractData\", O12, \"Open\",, \"T\")","v":1267},{"$f":"RTD(\"cqg.rtd\", ,\"ContractData\", O12, \"High\",, \"T\")","v":1277.5},{"$f":"RTD(\"cqg.rtd\", ,\"ContractData\", O12, \"Low\",, \"T\")","v":1258.25},{"$f":" RTD(\"cqg.rtd\",,\"StudyData\", $O12, \"HVol\", \"InputChoice=Close,HvolType=Percent,Period=10\", \"HVOL\",\"ADC\")","v":12.050307452665876}]
[null,null,null,null,null,null,null,null,null,null,null,null,null,null,"ZCE",{"$f":"RTD(\"cqg.rtd\", ,\"ContractData\", O13, \"LastTrade\",, \"T\")","v":490.5},{"$f":"RTD(\"cqg.rtd\", ,\"ContractData\", O13, \"NetLastTradeToday\",, \"T\")","v":-1.5},{"$f":"RTD(\"cqg.rtd\", ,\"ContractData\", O13, \"PerCentNetLastTrade\",, \"T\")/100","v":-3.0487804878048782E-3},{"$f":"RTD(\"cqg.rtd\", ,\"ContractData\", O13, \"Open\",, \"T\")","v":492},{"$f":"RTD(\"cqg.rtd\", ,\"ContractData\", O13, \"High\",, \"T\")","v":497},{"$f":"RTD(\"cqg.rtd\", ,\"ContractData\", O13, \"Low\",, \"T\")","v":487.25},{"$f":" RTD(\"cqg.rtd\",,\"StudyData\", $O13, \"HVol\", \"InputChoice=Close,HvolType=Percent,Period=10\", \"HVOL\",\"ADC\")","v":23.922184145145387}]
[null,null,null,null,null,null,null,null,null,null,null,null,null,null,"ZWA",{"$f":"RTD(\"cqg.rtd\", ,\"ContractData\", O14, \"LastTrade\",, \"T\")","v":574.25},{"$f":"RTD(\"cqg.rtd\", ,\"ContractData\", O14, \"NetLastTradeToday\",, \"T\")","v":6},{"$f":"RTD(\"cqg.rtd\", ,\"ContractData\", O14, \"PerCentNetLastTrade\",, \"T\")/100","v":1.0558732952045756E-2},{"$f":"RTD(\"cqg.rtd\", ,\"ContractData\", O14, \"Open\",, \"T\")","v":573.25},{"$f":"RTD(\"cqg.rtd\", ,\"ContractData\", O14, \"High\",, \"T\")","v":581.5},{"$f":"RTD(\"cqg.rtd\", ,\"ContractData\", O14, \"Low\",, \"T\")","v":570},{"$f":" RTD(\"cqg.rtd\",,\"StudyData\", $O14, \"HVol\", \"InputChoice=Close,HvolType=Percent,Period=10\", \"HVOL\",\"ADC\")","v":46.97156798452756}]
[]
[]
[]
[]
[]
[null,null,null,null,null,null,null,null,null,null,null,null,null,null,"Frequency Distribution Historical Volatility"]
[]
[]
[{"$f":"HVolData!M1","v":36},null,null,null,null,null,null,null,null,null,null,null,null,null,{"$f":"HVolData!M12","v":27}]
[{"$f":"HVolData!M2","v":6},null,null,null,null,null,null,null,null,null,null,null,null,null,{"$f":"HVolData!M13","v":0}]

{"sheet":"HVolData","index":3,"n_rows":302,"n_cols":15,"rows_kept":302,"cut":false,"hidden":false,"merged":[]}
[null,"DATE","Open","High","Low","Close","HVol",null,null,null,"Max (Round up)",{"$f":"MAX(G2:G302)","v":35.686637648518335},{"$f":"ROUNDUP(L1,0)","v":36},null,"Symbol (use CAPS)"]
[0,{"$f":" RTD(\"cqg.rtd\",,\"StudyData\", $O$2, \"BAR\", \"\", \"Time\", $O$4,-$A2,$O$6,$O$10, \"\",\"False\",\"T\")","v":"2023-10-09"},{"$f":" RTD(\"cqg.rtd\",,\"StudyData\", $O$2, \"BAR\", \"\", \"Open\", $O$4, -$A2, $O$6,$O$10,,$O$8,$O$12)","v":4315},{"$f":" RTD(\"cqg.rtd\",,\"StudyData\", $O$2, \"BAR\", \"\", \"High\", $O$4, -$A2, $O$6,$O$10,,$O$8,$O$12)","v":4352},{"$f":" RTD(\"cqg.rtd\",,\"StudyData\", $O$2, \"BAR\", \"\", \"Low\", $O$4, -$A2, $O$6,$O$10,,$O$8,$O$12)","v":4299.5},{"$f":" RTD(\"cqg.rtd\",,\"StudyData\", $O$2, \"BAR\", \"\", \"Close\", $O$4, -$A2, $O$6,$O$10,,$O$8,$O$12)","v":4351.75},{"$f":" RTD(\"cqg.rtd\",,\"StudyData\", $O$2, \"HVol\", \"InputChoice=Close,HvolType=Percent,Period=10\", \"HVOL\",$O$4,-A2,$O$6,$O$10,,$O$8,$O$12)","v":13.398783015199122},{"$f":"FREQUENCY($G$2:$G$302,$I$2:$I$43)","v":1},{"$f":"M1","v":36},{"$f":"IF(AND($G$2>I3,OR($G$2=I2,$G$2<I2)),H2,NA())","v":{"$error":"#N/A"}},"Min (Round Dn)",{"$f":"MIN(G2:G302)","v":6.6856075733382161},{"$f":"ROUNDDOWN(L2,0)","v":6},null,{"$f":"HVol!C2","v":"EP"}]
[{"$f":"A2+1","v":1},{"$f":" RTD(\"cqg.rtd\",,\"StudyData\", $O$2, \"BAR\", \"\", \"Time\", $O$4,-$A3,$O$6,$O$10, \"\",\"False\",\"T\")","v":"2023-10-06"},{"$f":" RTD(\"cqg.rtd\",,\"StudyData\", $O$2, \"BAR\", \"\", \"Open\", $O$4, -$A3, $O$6,$O$10,,$O$8,$O$12)","v":4287.5},{"$f":" RTD(\"cqg.rtd\",,\"StudyData\", $O$2, \"BAR\", \"\", \"High\", $O$4, -$A3, $O$6,$O$10,,$O$8,$O$12)","v":4358.5},{"$f":" RTD(\"cqg.rtd\",,\"StudyData\", $O$2, \"BAR\", \"\", \"Low\", $O$4, -$A3, $O$6,$O$10,,$O$8,$O$12)","v":4242.25},{"$f":" RTD(\"cqg.rtd\",,\"StudyData\", $O$2, \"BAR\", \"\", \"Close\", $O$4, -$A3, $O$6,$O$10,,$O$8,$O$12)","v":4341.5},{"$f":" RTD(\"cqg.rtd\",,\"StudyData\", $O$2, \"HVol\", \"InputChoice=Close,HvolType=Percent,Period=10\", \"HVOL\",$O$4,-A3,$O$6,$O$10,,$O$8,$O$12)","v":13.529819271531036},0,{"$f":"I2-$M$4","v":35.25},{"$f":"IF(AND($G$2>I4,OR($G$2=I3,$G$2<I3)),H3,NA())","v":{"$error":"#N/A"}},null,"Difference",{"$f":"M1-M2","v":30},null,"Chart"]
[{"$f":"A3+1","v":2},{"$f":" RTD(\"cqg.rtd\",,\"StudyData\", $O$2, \"BAR\", \"\", \"Time\", $O$4,-$A4,$O$6,$O$10, \"\",\"False\",\"T\")","v":"2023-10-05"},{"$f":" RTD(\"cqg.rtd\",,\"StudyData\", $O$2, \"BAR\", \"\", \"Open\", $O$4, -$A4, $O$6,$O$10,,$O$8,$O$12)","v":4291.5},{"$f":" RTD(\"cqg.rtd\",,\"StudyData\", $O$2, \"BAR\", \"\", \"High\", $O$4, -$A4, $O$6,$O$10,,$O$8,$O$12)","v":4302},{"$f":" RTD(\"cqg.rtd\",,\"StudyData\", $O$2, \"BAR\", \"\", \"Low\", $O$4, -$A4, $O$6,$O$10,,$O$8,$O$12)","v":4258},{"$f":" RTD(\"cqg.rtd\",,\"StudyData\", $O$2, \"BAR\", \"\", \"Close\", $O$4, -$A4, $O$6,$O$10,,$O$8,$O$12)","v":4290.75},{"$f":" RTD(\"cqg.rtd\",,\"StudyData\", $O$2, \"HVol\", \"InputChoice=Close,HvolType=Percent,Period=10\", \"HVOL\",$O$4,-A4,$O$6,$O$10,,$O$8,$O$12)","v":11.701806671827374},3,{"$f":"I3-$M$4","v":34.5},{"$error":"#N/A"},null,"Diff/20",{"$f":"ROUNDDOWN(M3/40,2)","v":0.75},null,{"$f":"HVol!D2","v":"ADC"}]
[3,{"$f":" RTD(\"cqg.rtd\",,\"StudyData\", $O$2, \"BAR\", \"\", \"Time\", $O$4,-$A5,$O$6,$O$10, \"\",\"False\",\"T\")","v":"2023-10-04"},{"$f":" RTD(\"cqg.rtd\",,\"StudyData\", $O$2, \"BAR\", \"\", \"Open\", $O$4, -$A5, $O$6,$O$10,,$O$8,$O$12)","v":4262.75},{"$f":" RTD(\"cqg.rtd\",,\"StudyData\", $O$2, \"BAR\", \"\", \"High\", $O$4, -$A5, $O$6,$O$10,,$O$8,$O$12)","v":4304},{"$f":" RTD(\"cqg.rtd\",,\"StudyData\", $O$2, \"BAR\", \"\", \"Low\", $O$4, -$A5, $O$6,$O$10,,$O$8,$O$12)","v":4235.5},{"$f":" RTD(\"cqg.rtd\",,\"StudyData\", $O$2, \"BAR\", \"\", \"Close\", $O$4, -$A5, $O$6,$O$10,,$O$8,$O$12)","v":4297.75},{"$f":" RTD(\"cqg.rtd\",,\"StudyData\", $O$2, \"HVol\", \"InputChoice=Close,HvolType=Percent,Period=10\", \"HVOL\",$O$4,-A5,$O$6,$O$10,,$O$8,$O$12)","v":13.896146782250824},0,33.75,{"$error":"#N/A"},null,null,null,null,"Type All or PrimaryOnly"]
[4,{"$f":" RTD(\"cqg.rtd\",,\"StudyData\", $O$2, \"BAR\", \"\", \"Time\", $O$4,-$A6,$O$6,$O$10, \"\",\"False\",\"T\")","v":"2023-10-03"},{"$f":" RTD(\"cqg.rtd\",,\"StudyData\", $O$2, \"BAR\", \"\", \"Open\", $O$4, -$A6, $O$6,$O$10,,$O$8,$O$12)","v":4326},{"$f":" RTD(\"cqg.rtd\",,\"StudyData\", $O$2, \"BAR\", \"\", \"High\", $O$4, -$A6, $O$6,$O$10,,$O$8,$O$12)","v":4335.75},{"$f":" RTD(\"cqg.rtd\",,\"StudyData\", $O$2, \"BAR\", \"\", \"Low\", $O$4, -$A6, $O$6,$O$10,,$O$8,$O$12)","v":4251.25},{"$f":" RTD(\"cqg.rtd\",,\"StudyData\", $O$2, \"BAR\", \"\", \"Close\", $O$4, -$A6, $O$6,$O$10,,$O$8,$O$12)","v":4264.75},{"$f":" RTD(\"cqg.rtd\",,\"StudyData\", $O$2, \"HVol\", \"InputChoice=Close,HvolType=Percent,Period=10\", \"HVOL\",$O$4,-A6,$O$6,$O$10,,$O$8,$O$12)","v":12.695430009367435},0,33,{"$error":"#N/A"},null,"Median",{"$f":"MEDIAN(G2:G302)","v":15.09724610601933},null,{"$f":"HVol!E2","v":"PrimaryOnly"}]
[5,{"$f":" RTD(\"cqg.rtd\",,\"StudyData\", $O$2, \"BAR\", \"\", \"Time\", $O$4,-$A7,$O$6,$O$10, \"\",\"False\",\"T\")","v":"2023-10-02"},{"$f":" RTD(\"cqg.rtd\",,\"StudyData\", $O$2, \"BAR\", \"\", \"Open\", $O$4, -$A7, $O$6,$O$10,,$O$8,$O$12)","v":4349},{"$f":" RTD(\"cqg.rtd\",,\"StudyData\", $O$2, \"BAR\", \"\", \"High\", $O$4, -$A7, $O$6,$O$10,,$O$8,$O$12)","v":4355.5},{"$f":" RTD(\"cqg.rtd\",,\"StudyData\", $O$2, \"BAR\", \"\", \"Low\", $O$4, -$A7, $O$6,$O$10,,$O$8,$O$12)","v":4295.5},{"$f":" RTD(\"cqg.rtd\",,\"StudyData\", $O$2, \"BAR\", \"\", \"Close\", $O$4, -$A7, $O$6,$O$10,,$O$8,$O$12)","v":4324.25},{"$f":" RTD(\"cqg.rtd\",,\"StudyData\", $O$2, \"HVol\", \"InputChoice=Close,HvolType=Percent,Period=10\", \"HVOL\",$O$4,-A7,$O$6,$O$10,,$O$8,$O$12)","v":11.776408109050072},0,32.25,{"$error":"#N/A"},null,{"$f":"\"MIVClose = \"&TEXT(G2,\"#.000\")&\", Median = \"&TEXT(M6,\"#.000\")","v":"MIVClose = 13.399, Median = 15.097"},null,null,"Continuation"]
[6,{"$f":" RTD(\"cqg.rtd\",,\"StudyData\", $O$2, \"BAR\", \"\", \"Time\", $O$4,-$A8,$O$6,$O$10, \"\",\"False\",\"T\")","v":"2023-09-29"},{"$f":" RTD(\"cqg.rtd\",,\"StudyData\", $O$2, \"BAR\", \"\", \"Open\", $O$4, -$A8, $O$6,$O$10,,$O$8,$O$12)","v":4342},{"$f":" RTD(\"cqg.rtd\",,\"StudyData\", $O$2, \"BAR\", \"\", \"High\", $O$4, -$A8, $O$6,$O$10,,$O$8,$O$12)","v":4371.25},{"$f":" RTD(\"cqg.rtd\",,\"StudyData\", $O$2, \"BAR\", \"\", \"Low\", $O$4, -$A8, $O$6,$O$10,,$O$8,$O$12)","v":4311},{"$f":" RTD(\"cqg.rtd\",,\"StudyData\", $O$2, \"BAR\", \"\", \"Close\", $O$4, -$A8, $O$6,$O$10,,$O$8,$O$12)","v":4325.5},{"$f":" RTD(\"cqg.rtd\",,\"StudyData\", $O$2, \"HVol\", \"InputChoice=Close,HvolType=Percent,Period=10\", \"HVOL\",$O$4,-A8,$O$6,$O$10,,$O$8,$O$12)","v":11.881035957984793},4,31.5,{"$error":"#N/A"},null,null,null,null,true]
[7,{"$f":" RTD(\"cqg.rtd\",,\"StudyData\", $O$2, \"BAR\", \"\", \"Time\", $O$4,-$A9,$O$6,$O$10, \"\",\"False\",\"T\")","v":"2023-09-28"},{"$f":" RTD(\"cqg.rtd\",,\"StudyData\", $O$2, \"BAR\", \"\", \"Open\", $O$4, -$A9, $O$6,$O$10,,$O$8,$O$12)","v":4323.25},{"$f":" RTD(\"cqg.rtd\",,\"StudyData\", $O$2, \"BAR\", \"\", \"High\", $O$4, -$A9, $O$6,$O$10,,$O$8,$O$12)","v":4355.75},{"$f":" RTD(\"cqg.rtd\",,\"StudyData\", $O$2, \"BAR\", \"\", \"Low\", $O$4, -$A9, $O$6,$O$10,,$O$8,$O$12)","v":4301},{"$f":" RTD(\"cqg.rtd\",,\"StudyData\", $O$2, \"BAR\", \"\", \"Close\", $O$4, -$A9, $O$6,$O$10,,$O$8,$O$12)","v":4337.5},{"$f":" RTD(\"cqg.rtd\",,\"StudyData\", $O$2, \"HVol\", \"InputChoice=Close,HvolType=Percent,Period=10\", \"HVOL\",$O$4,-A9,$O$6,$O$10,,$O$8,$O$12)","v":12.60539898481796},3,30.75,{"$error":"#N/A"},null,"Bar Chart Max",{"$f":"MAX(D2:D302)+10*RTD(\"cqg.rtd\", ,\"ContractData\",O2, \"Ticksize\",, \"T\")","v":4686.5},null,"CustomSessionName eg 700to800"]
[8,{"$f":" RTD(\"cqg.rtd\",,\"StudyData\", $O$2, \"BAR\", \"\", \"Time\", $O$4,-$A10,$O$6,$O$10, \"\",\"False\",\"T\")","v":"2023-09-27"},{"$f":" RTD(\"cqg.rtd\",,\"StudyData\", $O$2, \"BAR\", \"\", \"Open\", $O$4, -$A10, $O$6,$O$10,,$O$8,$O$12)","v":4320.25},{"$f":" RTD(\"cqg.rtd\",,\"StudyData\", $O$2, \"BAR\", \"\", \"High\", $O$4, -$A10, $O$6,$O$10,,$O$8,$O$12)","v":4336.5},{"$f":" RTD(\"cqg.rtd\",,\"StudyData\", $O$2, \"BAR\", \"\", \"Low\", $O$4, -$A10, $O$6,$O$10,,$O$8,$O$12)","v":4277},{"$f":" RTD(\"cqg.rtd\",,\"StudyData\", $O$2, \"BAR\", \"\", \"Close\", $O$4, -$A10, $O$6,$O$10,,$O$8,$O$12)","v":4313.5},{"$f":" RTD(\"cqg.rtd\",,\"StudyData\", $O$2, \"HVol\", \"InputChoice=Close,HvolType=Percent,Period=10\", \"HVOL\",$O$4,-A10,$O$6,$O$10,,$O$8,$O$12)","v":13.28938587328035},4,30,{"$error":"#N/A"},null,"Bar Chart Min",{"$f":"MIN(E2:E302)-10*RTD(\"cqg.rtd\", ,\"ContractData\",O2, \"Ticksize\",, \"T\")","v":3661.25}]
[9,{"$f":" RTD(\"cqg.rtd\",,\"StudyData\", $O$2, \"BAR\", \"\", \"Time\", $O$4,-$A11,$O$6,$O$10, \"\",\"False\",\"T\")","v":"2023-09-26"},{"$f":" RTD(\"cqg.rtd\",,\"StudyData\", $O$2, \"BAR\", \"\", \"Open\", $O$4, -$A11, $O$6,$O$10,,$O$8,$O$12)","v":4382},{"$f":" RTD(\"cqg.rtd\",,\"StudyData\", $O$2, \"BAR\", \"\", \"High\", $O$4, -$A11, $O$6,$O$10,,$O$8,$O$12)","v":4382},{"$f":" RTD(\"cqg.rtd\",,\"StudyData\", $O$2, \"BAR\", \"\", \"Low\", $O$4, -$A11, $O$6,$O$10,,$O$8,$O$12)","v":4305.5},{"$f":" RTD(\"cqg.rtd\",,\"StudyData\", $O$2, \"BAR\", \"\", \"Close\", $O$4, -$A11, $O$6,$O$10,,$O$8,$O$12)","v":4314.75},{"$f":" RTD(\"cqg.rtd\",,\"StudyData\", $O$2, \"HVol\", \"InputChoice=Close,HvolType=Percent,Period=10\", \"HVOL\",$O$4,-A11,$O$6,$O$10,,$O$8,$O$12)","v":13.401167973003577},1,29.25,{"$error":"#N/A"},null,null,null,null,"Decimal=T, Tick=D"]
[10,{"$f":" RTD(\"cqg.rtd\",,\"StudyData\", $O$2, \"BAR\", \"\", \"Time\", $O$4,-$A12,$O$6,$O$10, \"\",\"False\",\"T\")","v":"2023-09-25"},{"$f":" RTD(\"cqg.rtd\",,\"StudyData\", $O$2, \"BAR\", \"\", \"Open\", $O$4, -$A12, $O$6,$O$10,,$O$8,$O$12)","v":4365},{"$f":" RTD(\"cqg.rtd\",,\"StudyData\", $O$2, \"BAR\", \"\", \"High\", $O$4, -$A12, $O$6,$O$10,,$O$8,$O$12)","v":4383.5},{"$f":" RTD(\"cqg.rtd\",,\"StudyData\", $O$2, \"BAR\", \"\", \"Low\", $O$4, -$A12, $O$6,$O$10,,$O$8,$O$12)","v":4338.25},{"$f":" RTD(\"cqg.rtd\",,\"StudyData\", $O$2, \"BAR\", \"\", \"Close\", $O$4, -$A12, $O$6,$O$10,,$O$8,$O$12)","v":4378.75},{"$f":" RTD(\"cqg.rtd\",,\"StudyData\", $O$2, \"HVol\", \"InputChoice=Close,HvolType=Percent,Period=10\", \"HVOL\",$O$4,-A12,$O$6,$O$10,,$O$8,$O$12)","v":12.212998596487738},4,28.5,{"$error":"#N/A"},null,"Frequency Max",{"$f":"MAX(H2:H43)+2","v":27},null,"T"]
[11,{"$f":" RTD(\"cqg.rtd\",,\"StudyData\", $O$2, \"BAR\", \"\", \"Time\", $O$4,-$A13,$O$6,$O$10, \"\",\"False\",\"T\")","v":"2023-09-22"},{"$f":" RTD(\"cqg.rtd\",,\"StudyData\", $O$2, \"BAR\", \"\", \"Open\", $O$4, -$A13, $O$6,$O$10,,$O$8,$O$12)","v":4370.25},{"$f":" RTD(\"cqg.rtd\",,\"StudyData\", $O$2, \"BAR\", \"\", \"High\", $O$4, -$A13, $O$6,$O$10,,$O$8,$O$12)","v":4399},{"$f":" RTD(\"cqg.rtd\",,\"StudyData\", $O$2, \"BAR\", \"\", \"Low\", $O$4, -$A13, $O$6,$O$10,,$O$8,$O$12)","v":4357.25},{"$f":" RTD(\"cqg.rtd\",,\"StudyData\", $O$2, \"BAR\", \"\", \"Close\", $O$4, -$A13, $O$6,$O$10,,$O$8,$O$12)","v":4361},{"$f":" RTD(\"cqg.rtd\",,\"StudyData\", $O$2, \"HVol\", \"InputChoice=Close,HvolType=Percent,Period=10\", \"HVOL\",$O$4,-A13,$O$6,$O$10,,$O$8,$O$12)","v":12.635847211019021},8,27.75,{"$error":"#N/A"},null,"Frequency Min",0]
[12,{"$f":" RTD(\"cqg.rtd\",,\"StudyData\", $O$2, \"BAR\", \"\", \"Time\", $O$4,-$A14,$O$6,$O$10, \"\",\"False\",\"T\")","v":"2023-09-21"},{"$f":" RTD(\"cqg.rtd\",,\"StudyData\", $O$2, \"BAR\", \"\", \"Open\", $O$4, -$A14, $O$6,$O$10,,$O$8,$O$12)","v":4445},{"$f":" RTD(\"cqg.rtd\",,\"StudyData\", $O$2, \"BAR\", \"\", \"High\", $O$4, -$A14, $O$6,$O$10,,$O$8,$O$12)","v":4447},{"$f":" RTD(\"cqg.rtd\",,\"StudyData\", $O$2, \"BAR\", \"\", \"Low\", $O$4, -$A14, $O$6,$O$10,,$O$8,$O$12)","v":4366.5},{"$f":" RTD(\"cqg.rtd\",,\"StudyData\", $O$2, \"BAR\", \"\", \"Close\", $O$4, -$A14, $O$6,$O$10,,$O$8,$O$12)","v":4372},{"$f":" RTD(\"cqg.rtd\",,\"StudyData\", $O$2, \"HVol\", \"InputChoice=Close,HvolType=Percent,Period=10\", \"HVOL\",$O$4,-A14,$O$6,$O$10,,$O$8,$O$12)","v":12.841036046302403},3,27,{"$error":"#N/A"}]
[13,{"$f":" RTD(\"cqg.rtd\",,\"StudyData\", $O$2, \"BAR\", \"\", \"Time\", $O$4,-$A15,$O$6,$O$10, \"\",\"False\",\"T\")","v":"2023-09-20"},{"$f":" RTD(\"cqg.rtd\",,\"StudyData\", $O$2, \"BAR\", \"\", \"Open\", $O$4, -$A15, $O$6,$O$10,,$O$8,$O$12)","v":4491.25},{"$f":" RTD(\"cqg.rtd\",,\"StudyData\", $O$2, \"BAR\", \"\", \"High\", $O$4, -$A15, $O$6,$O$10,,$O$8,$O$12)","v":4508},{"$f":" RTD(\"cqg.rtd\",,\"StudyData\", $O$2, \"BAR\", \"\", \"Low\", $O$4, -$A15, $O$6,$O$10,,$O$8,$O$12)","v":4443.25},{"$f":" RTD(\"cqg.rtd\",,\"StudyData\", $O$2, \"BAR\", \"\", \"Close\", $O$4, -$A15, $O$6,$O$10,,$O$8,$O$12)","v":4447},{"$f":" RTD(\"cqg.rtd\",,\"StudyData\", $O$2, \"HVol\", \"InputChoice=Close,HvolType=Percent,Period=10\", \"HVOL\",$O$4,-A15,$O$6,$O$10,,$O$8,$O$12)","v":10.310926337001},4,26.25,{"$error":"#N/A"}]
[14,{"$f":" RTD(\"cqg.rtd\",,\"StudyData\", $O$2, \"BAR\", \"\", \"Time\", $O$4,-$A16,$O$6,$O$10, \"\",\"False\",\"T\")","v":"2023-09-19"},{"$f":" RTD(\"cqg.rtd\",,\"StudyData\", $O$2, \"BAR\", \"\", \"Open\", $O$4, -$A16, $O$6,$O$10,,$O$8,$O$12)","v":4503.25},{"$f":" RTD(\"cqg.rtd\",,\"StudyData\", $O$2, \"BAR\", \"\", \"High\", $O$4, -$A16, $O$6,$O$10,,$O$8,$O$12)","v":4509.5},{"$f":" RTD(\"cqg.rtd\",,\"StudyData\", $O$2, \"BAR\", \"\", \"Low\", $O$4, -$A16, $O$6,$O$10,,$O$8,$O$12)","v":4462.25},{"$f":" RTD(\"cqg.rtd\",,\"StudyData\", $O$2, \"BAR\", \"\", \"Close\", $O$4, -$A16, $O$6,$O$10,,$O$8,$O$12)","v":4490},{"$f":" RTD(\"cqg.rtd\",,\"StudyData\", $O$2, \"HVol\", \"InputChoice=Close,HvolType=Percent,Period=10\", \"HVOL\",$O$4,-A16,$O$6,$O$10,,$O$8,$O$12)","v":9.798673577120752},1,25.5,{"$error":"#N/A"}]
[15,{"$f":" RTD(\"cqg.rtd\",,\"StudyData\", $O$2, \"BAR\", \"\", \"Time\", $O$4,-$A17,$O$6,$O$10, \"\",\"False\",\"T\")","v":"2023-09-18"},{"$f":" RTD(\"cqg.rtd\",,\"StudyData\", $O$2, \"BAR\", \"\", \"Open\", $O$4, -$A17, $O$6,$O$10,,$O$8,$O$12)","v":4499.5},{"$f":" RTD(\"cqg.rtd\",,\"StudyData\", $O$2, \"BAR\", \"\", \"High\", $O$4, -$A17, $O$6,$O$10,,$O$8,$O$12)","v":4514.5},{"$f":" RTD(\"cqg.rtd\",,\"StudyData\", $O$2, \"BAR\", \"\", \"Low\", $O$4, -$A17, $O$6,$O$10,,$O$8,$O$12)","v":4487},{"$f":" RTD(\"cqg.rtd\",,\"StudyData\", $O$2, \"BAR\", \"\", \"Close\", $O$4, -$A17, $O$6,$O$10,,$O$8,$O$12)","v":4501.5},{"$f":" RTD(\"cqg.rtd\",,\"StudyData\", $O$2, \"HVol\", \"InputChoice=Close,HvolType=Percent,Period=10\", \"HVOL\",$O$4,-A17,$O$6,$O$10,,$O$8,$O$12)","v":9.8855904550504228},2,24.75,{"$error":"#N/A"}]
[16,{"$f":" RTD(\"cqg.rtd\",,\"StudyData\", $O$2, \"BAR\", \"\", \"Time\", $O$4,-$A18,$O$6,$O$10, \"\",\"False\",\"T\")","v":"2023-09-15"},{"$f":" RTD(\"cqg.rtd\",,\"StudyData\", $O$2, \"BAR\", \"\", \"Open\", $O$4, -$A18, $O$6,$O$10,,$O$8,$O$12)","v":4556.5},{"$f":" RTD(\"cqg.rtd\",,\"StudyData\", $O$2, \"BAR\", \"\", \"High\", $O$4, -$A18, $O$6,$O$10,,$O$8,$O$12)","v":4566},{"$f":" RTD(\"cqg.rtd\",,\"StudyData\", $O$2, \"BAR\", \"\", \"Low\", $O$4, -$A18, $O$6,$O$10,,$O$8,$O$12)","v":4494},{"$f":" RTD(\"cqg.rtd\",,\"StudyData\", $O$2, \"BAR\", \"\", \"Close\", $O$4, -$A18, $O$6,$O$10,,$O$8,$O$12)","v":4498},{"$f":" RTD(\"cqg.rtd\",,\"StudyData\", $O$2, \"HVol\", \"InputChoice=Close,HvolType=Percent,Period=10\", \"HVOL\",$O$4,-A18,$O$6,$O$10,,$O$8,$O$12)","v":9.915312297543311},3,24,{"$error":"#N/A"}]
[17,{"$f":" RTD(\"cqg.rtd\",,\"StudyData\", $O$2, \"BAR\", \"\", \"Time\", $O$4,-$A19,$O$6,$O$10, \"\",\"False\",\"T\")","v":"2023-09-14"},{"$f":" RTD(\"cqg.rtd\",,\"StudyData\", $O$2, \"BAR\", \"\", \"Open\", $O$4, -$A19, $O$6,$O$10,,$O$8,$O$12)","v":4521.25},{"$f":" RTD(\"cqg.rtd\",,\"StudyData\", $O$2, \"BAR\", \"\", \"High\", $O$4, -$A19, $O$6,$O$10,,$O$8,$O$12)","v":4562},{"$f":" RTD(\"cqg.rtd\",,\"StudyData\", $O$2, \"BAR\", \"\", \"Low\", $O$4, -$A19, $O$6,$O$10,,$O$8,$O$12)","v":4519},{"$f":" RTD(\"cqg.rtd\",,\"StudyData\", $O$2, \"BAR\", \"\", \"Close\", $O$4, -$A19, $O$6,$O$10,,$O$8,$O$12)","v":4555},{"$f":" RTD(\"cqg.rtd\",,\"StudyData\", $O$2, \"HVol\", \"InputChoice=Close,HvolType=Percent,Period=10\", \"HVOL\",$O$4,-A19,$O$6,$O$10,,$O$8,$O$12)","v":7.828371193026249},3,23.25,{"$error":"#N/A"}]
[18,{"$f":" RTD(\"cqg.rtd\",,\"StudyData\", $O$2, \"BAR\", \"\", \"Time\", $O$4,-$A20,$O$6,$O$10, \"\",\"False\",\"T\")","v":"2023-09-13"},{"$f":" RTD(\"cqg.rtd\",,\"StudyData\", $O$2, \"BAR\", \"\", \"Open\", $O$4, -$A20, $O$6,$O$10,,$O$8,$O$12)","v":4513},{"$f":" RTD(\"cqg.rtd\",,\"StudyData\", $O$2, \"BAR\", \"\", \"High\", $O$4, -$A20, $O$6,$O$10,,$O$8,$O$12)","v":4530.25},{"$f":" RTD(\"cqg.rtd\",,\"StudyData\", $O$2, \"BAR\", \"\", \"Low\", $O$4, -$A20, $O$6,$O$10,,$O$8,$O$12)","v":4495},{"$f":" RTD(\"cqg.rtd\",,\"StudyData\", $O$2, \"BAR\", \"\", \"Close\", $O$4, -$A20, $O$6,$O$10,,$O$8,$O$12)","v":4517.5},{"$f":" RTD(\"cqg.rtd\",,\"StudyData\", $O$2, \"HVol\", \"InputChoice=Close,HvolType=Percent,Period=10\", \"HVOL\",$O$4,-A20,$O$6,$O$10,,$O$8,$O$12)","v":6.6856075733382161},4,22.5,{"$error":"#N/A"}]
[19,{"$f":" RTD(\"cqg.rtd\",,\"StudyData\", $O$2, \"BAR\", \"\", \"Time\", $O$4,-$A21,$O$6,$O$10, \"\",\"False\",\"T\")","v":"2023-09-12"},{"$f":" RTD(\"cqg.rtd\",,\"StudyData\", $O$2, \"BAR\", \"\", \"Open\", $O$4, -$A21, $O$6,$O$10,,$O$8,$O$12)","v":4536.5},{"$f":" RTD(\"cqg.rtd\",,\"StudyData\", $O$2, \"BAR\", \"\", \"High\", $O$4, -$A21, $O$6,$O$10,,$O$8,$O$12)","v":4539},{"$f":" RTD(\"cqg.rtd\",,\"StudyData\", $O$2, \"BAR\", \"\", \"Low\", $O$4, -$A21, $O$6,$O$10,,$O$8,$O$12)","v":4507.25},{"$f":" RTD(\"cqg.rtd\",,\"StudyData\", $O$2, \"BAR\", \"\", \"Close\", $O$4, -$A21, $O$6,$O$10,,$O$8,$O$12)","v":4513.75},{"$f":" RTD(\"cqg.rtd\",,\"StudyData\", $O$2, \"HVol\", \"InputChoice=Close,HvolType=Percent,Period=10\", \"HVOL\",$O$4,-A21,$O$6,$O$10,,$O$8,$O$12)","v":10.151626292729842},7,21.75,{"$error":"#N/A"}]
[20,{"$f":" RTD(\"cqg.rtd\",,\"StudyData\", $O$2, \"BAR\", \"\", \"Time\", $O$4,-$A22,$O$6,$O$10, \"\",\"False\",\"T\")","v":"2023-09-11"},{"$f":" RTD(\"cqg.rtd\",,\"StudyData\", $O$2, \"BAR\", \"\", \"Open\", $O$4, -$A22, $O$6,$O$10,,$O$8,$O$12)","v":4514},{"$f":" RTD(\"cqg.rtd\",,\"StudyData\", $O$2, \"BAR\", \"\", \"High\", $O$4, -$A22, $O$6,$O$10,,$O$8,$O$12)","v":4543.5},{"$f":" RTD(\"cqg.rtd\",,\"StudyData\", $O$2, \"BAR\", \"\", \"Low\", $O$4, -$A22, $O$6,$O$10,,$O$8,$O$12)","v":4508.75},{"$f":" RTD(\"cqg.rtd\",,\"StudyData\", $O$2, \"BAR\", \"\", \"Close\", $O$4, -$A22, $O$6,$O$10,,$O$8,$O$12)","v":4539.5},{"$f":" RTD(\"cqg.rtd\",,\"StudyData\", $O$2, \"HVol\", \"InputChoice=Close,HvolType=Percent,Period=10\", \"HVOL\",$O$4,-A22,$O$6,$O$10,,$O$8,$O$12)","v":9.8852484434381083},15,21,{"$error":"#N/A"}]
[21,{"$f":" RTD(\"cqg.rtd\",,\"StudyData\", $O$2, \"BAR\", \"\", \"Time\", $O$4,-$A23,$O$6,$O$10, \"\",\"False\",\"T\")","v":"2023-09-08"},{"$f":" RTD(\"cqg.rtd\",,\"StudyData\", $O$2, \"BAR\", \"\", \"Open\", $O$4, -$A23, $O$6,$O$10,,$O$8,$O$12)","v":4507.75},{"$f":" RTD(\"cqg.rtd\",,\"StudyData\", $O$2, \"BAR\", \"\", \"High\", $O$4, -$A23, $O$6,$O$10,,$O$8,$O$12)","v":4527},{"$f":" RTD(\"cqg.rtd\",,\"StudyData\", $O$2, \"BAR\", \"\", \"Low\", $O$4, -$A23, $O$6,$O$10,,$O$8,$O$12)","v":4492.5},{"$f":" RTD(\"cqg.rtd\",,\"StudyData\", $O$2, \"BAR\", \"\", \"Close\", $O$4, -$A23, $O$6,$O$10,,$O$8,$O$12)","v":4511.25},{"$f":" RTD(\"cqg.rtd\",,\"StudyData\", $O$2, \"HVol\", \"InputChoice=Close,HvolType=Percent,Period=10\", \"HVOL\",$O$4,-A23,$O$6,$O$10,,$O$8,$O$12)","v":9.8990883008052375},5,20.25,{"$error":"#N/A"}]
[22,{"$f":" RTD(\"cqg.rtd\",,\"StudyData\", $O$2, \"BAR\", \"\", \"Time\", $O$4,-$A24,$O$6,$O$10, \"\",\"False\",\"T\")","v":"2023-09-07"},{"$f":" RTD(\"cqg.rtd\",,\"StudyData\", $O$2, \"BAR\", \"\", \"Open\", $O$4, -$A24, $O$6,$O$10,,$O$8,$O$12)","v":4519},{"$f":" RTD(\"cqg.rtd\",,\"StudyData\", $O$2, \"BAR\", \"\", \"High\", $O$4, -$A24, $O$6,$O$10,,$O$8,$O$12)","v":4521.25},{"$f":" RTD(\"cqg.rtd\",,\"StudyData\", $O$2, \"BAR\", \"\", \"Low\", $O$4, -$A24, $O$6,$O$10,,$O$8,$O$12)","v":4483.75},{"$f":" RTD(\"cqg.rtd\",,\"StudyData\", $O$2, \"BAR\", \"\", \"Close\", $O$4, -$A24, $O$6,$O$10,,$O$8,$O$12)","v":4505.75},{"$f":" RTD(\"cqg.rtd\",,\"StudyData\", $O$2, \"HVol\", \"InputChoice=Close,HvolType=Percent,Period=10\", \"HVOL\",$O$4,-A24,$O$6,$O$10,,$O$8,$O$12)","v":12.517731867124041},12,19.5,{"$error":"#N/A"}]
[23,{"$f":" RTD(\"cqg.rtd\",,\"StudyData\", $O$2, \"BAR\", \"\", \"Time\", $O$4,-$A25,$O$6,$O$10, \"\",\"False\",\"T\")","v":"2023-09-06"},{"$f":" RTD(\"cqg.rtd\",,\"StudyData\", $O$2, \"BAR\", \"\", \"Open\", $O$4, -$A25, $O$6,$O$10,,$O$8,$O$12)","v":4549.5},{"$f":" RTD(\"cqg.rtd\",,\"StudyData\", $O$2, \"BAR\", \"\", \"High\", $O$4, -$A25, $O$6,$O$10,,$O$8,$O$12)","v":4553.25},{"$f":" RTD(\"cqg.rtd\",,\"StudyData\", $O$2, \"BAR\", \"\", \"Low\", $O$4, -$A25, $O$6,$O$10,,$O$8,$O$12)","v":4496.5},{"$f":" RTD(\"cqg.rtd\",,\"StudyData\", $O$2, \"BAR\", \"\", \"Close\", $O$4, -$A25, $O$6,$O$10,,$O$8,$O$12)","v":4521},{"$f":" RTD(\"cqg.rtd\",,\"StudyData\", $O$2, \"HVol\", \"InputChoice=Close,HvolType=Percent,Period=10\", \"HVOL\",$O$4,-A25,$O$6,$O$10,,$O$8,$O$12)","v":13.34822591492372},12,18.75,{"$error":"#N/A"}]
[24,{"$f":" RTD(\"cqg.rtd\",,\"StudyData\", $O$2, \"BAR\", \"\", \"Time\", $O$4,-$A26,$O$6,$O$10, \"\",\"False\",\"T\")","v":"2023-09-05"},{"$f":" RTD(\"cqg.rtd\",,\"StudyData\", $O$2, \"BAR\", \"\", \"Open\", $O$4, -$A26, $O$6,$O$10,,$O$8,$O$12)","v":4570.75},{"$f":" RTD(\"cqg.rtd\",,\"StudyData\", $O$2, \"BAR\", \"\", \"High\", $O$4, -$A26, $O$6,$O$10,,$O$8,$O$12)","v":4580.75},{"$f":" RTD(\"cqg.rtd\",,\"StudyData\", $O$2, \"BAR\", \"\", \"Low\", $O$4, -$A26, $O$6,$O$10,,$O$8,$O$12)","v":4548.75},{"$f":" RTD(\"cqg.rtd\",,\"StudyData\", $O$2, \"BAR\", \"\", \"Close\", $O$4, -$A26, $O$6,$O$10,,$O$8,$O$12)","v":4552},{"$f":" RTD(\"cqg.rtd\",,\"StudyData\", $O$2, \"HVol\", \"InputChoice=Close,HvolType=Percent,Period=10\", \"HVOL\",$O$4,-A26,$O$6,$O$10,,$O$8,$O$12)","v":12.799346381372782},12,18,{"$error":"#N/A"}]
[25,{"$f":" RTD(\"cqg.rtd\",,\"StudyData\", $O$2, \"BAR\", \"\", \"Time\", $O$4,-$A27,$O$6,$O$10, \"\",\"False\",\"T\")","v":"2023-09-01"},{"$f":" RTD(\"cqg.rtd\",,\"StudyData\", $O$2, \"BAR\", \"\", \"Open\", $O$4, -$A27, $O$6,$O$10,,$O$8,$O$12)","v":4566.25},{"$f":" RTD(\"cqg.rtd\",,\"StudyData\", $O$2, \"BAR\", \"\", \"High\", $O$4, -$A27, $O$6,$O$10,,$O$8,$O$12)","v":4597.25},{"$f":" RTD(\"cqg.rtd\",,\"StudyData\", $O$2, \"BAR\", \"\", \"Low\", $O$4, -$A27, $O$6,$O$10,,$O$8,$O$12)","v":4556.75},{"$f":" RTD(\"cqg.rtd\",,\"StudyData\", $O$2, \"BAR\", \"\", \"Close\", $O$4, -$A27, $O$6,$O$10,,$O$8,$O$12)","v":4571},{"$f":" RTD(\"cqg.rtd\",,\"StudyData\", $O$2, \"HVol\", \"InputChoice=Close,HvolType=Percent,Period=10\", \"HVOL\",$O$4,-A27,$O$6,$O$10,,$O$8,$O$12)","v":12.490361200841036},13,17.25,{"$error":"#N/A"}]
[26,{"$f":" RTD(\"cqg.rtd\",,\"StudyData\", $O$2, \"BAR\", \"\", \"Time\", $O$4,-$A28,$O$6,$O$10, \"\",\"False\",\"T\")","v":"2023-08-31"},{"$f":" RTD(\"cqg.rtd\",,\"StudyData\", $O$2, \"BAR\", \"\", \"Open\", $O$4, -$A28, $O$6,$O$10,,$O$8,$O$12)","v":4576.5},{"$f":" RTD(\"cqg.rtd\",,\"StudyData\", $O$2, \"BAR\", \"\", \"High\", $O$4, -$A28, $O$6,$O$10,,$O$8,$O$12)","v":4590.75},{"$f":" RTD(\"cqg.rtd\",,\"StudyData\", $O$2, \"BAR\", \"\", \"Low\", $O$4, -$A28, $O$6,$O$10,,$O$8,$O$12)","v":4562.25},{"$f":" RTD(\"cqg.rtd\",,\"StudyData\", $O$2, \"BAR\", \"\", \"Close\", $O$4, -$A28, $O$6,$O$10,,$O$8,$O$12)","v":4565.5},{"$f":" RTD(\"cqg.rtd\",,\"StudyData\", $O$2, \"HVol\", \"InputChoice=Close,HvolType=Percent,Period=10\", \"HVOL\",$O$4,-A28,$O$6,$O$10,,$O$8,$O$12)","v":12.583571738151383},8,16.5,{"$error":"#N/A"}]
[27,{"$f":" RTD(\"cqg.rtd\",,\"StudyData\", $O$2, \"BAR\", \"\", \"Time\", $O$4,-$A29,$O$6,$O$10, \"\",\"False\",\"T\")","v":"2023-08-30"},{"$f":" RTD(\"cqg.rtd\",,\"StudyData\", $O$2, \"BAR\", \"\", \"Open\", $O$4, -$A29, $O$6,$O$10,,$O$8,$O$12)","v":4558.25},{"$f":" RTD(\"cqg.rtd\",,\"StudyData\", $O$2, \"BAR\", \"\", \"High\", $O$4, -$A29, $O$6,$O$10,,$O$8,$O$12)","v":4580.25},{"$f":" RTD(\"cqg.rtd\",,\"StudyData\", $O$2, \"BAR\", \"\", \"Low\", $O$4, -$A29, $O$6,$O$10,,$O$8,$O$12)","v":4545.75},{"$f":" RTD(\"cqg.rtd\",,\"StudyData\", $O$2, \"BAR\", \"\", \"Close\", $O$4, -$A29, $O$6,$O$10,,$O$8,$O$12)","v":4573.75},{"$f":" RTD(\"cqg.rtd\",,\"StudyData\", $O$2, \"HVol\", \"InputChoice=Close,HvolType=Percent,Period=10\", \"HVOL\",$O$4,-A29,$O$6,$O$10,,$O$8,$O$12)","v":13.564629769603133},19,15.75,{"$error":"#N/A"}]
[28,{"$f":" RTD(\"cqg.rtd\",,\"StudyData\", $O$2, \"BAR\", \"\", \"Time\", $O$4,-$A30,$O$6,$O$10, \"\",\"False\",\"T\")","v":"2023-08-29"},{"$f":" RTD(\"cqg.rtd\",,\"StudyData\", $O$2, \"BAR\", \"\", \"Open\", $O$4, -$A30, $O$6,$O$10,,$O$8,$O$12)","v":4493.5},{"$f":" RTD(\"cqg.rtd\",,\"StudyData\", $O$2, \"BAR\", \"\", \"High\", $O$4, -$A30, $O$6,$O$10,,$O$8,$O$12)","v":4559},{"$f":" RTD(\"cqg.rtd\",,\"StudyData\", $O$2, \"BAR\", \"\", \"Low\", $O$4, -$A30, $O$6,$O$10,,$O$8,$O$12)","v":4483},{"$f":" RTD(\"cqg.rtd\",,\"StudyData\", $O$2, \"BAR\", \"\", \"Close\", $O$4, -$A30, $O$6,$O$10,,$O$8,$O$12)","v":4556.25},{"$f":" RTD(\"cqg.rtd\",,\"StudyData\", $O$2, \"HVol\", \"InputChoice=Close,HvolType=Percent,Period=10\", \"HVOL\",$O$4,-A30,$O$6,$O$10,,$O$8,$O$12)","v":14.385656390631841},12,15,{"$error":"#N/A"}]
[29,{"$f":" RTD(\"cqg.rtd\",,\"StudyData\", $O$2, \"BAR\", \"\", \"Time\", $O$4,-$A31,$O$6,$O$10, \"\",\"False\",\"T\")","v":"2023-08-28"},{"$f":" RTD(\"cqg.rtd\",,\"StudyData\", $O$2, \"BAR\", \"\", \"Open\", $O$4, -$A31, $O$6,$O$10,,$O$8,$O$12)","v":4467.5},{"$f":" RTD(\"cqg.rtd\",,\"StudyData\", $O$2, \"BAR\", \"\", \"High\", $O$4, -$A31, $O$6,$O$10,,$O$8,$O$12)","v":4499},{"$f":" RTD(\"cqg.rtd\",,\"StudyData\", $O$2, \"BAR\", \"\", \"Low\", $O$4, -$A31, $O$6,$O$10,,$O$8,$O$12)","v":4464},{"$f":" RTD(\"cqg.rtd\",,\"StudyData\", $O$2, \"BAR\", \"\", \"Close\", $O$4, -$A31, $O$6,$O$10,,$O$8,$O$12)","v":4491.75},{"$f":" RTD(\"cqg.rtd\",,\"StudyData\", $O$2, \"HVol\", \"InputChoice=Close,HvolType=Percent,Period=10\", \"HVOL\",$O$4,-A31,$O$6,$O$10,,$O$8,$O$12)","v":13.587765391538154},19,14.25,{"$error":"#N/A"}]
[30,{"$f":" RTD(\"cqg.rtd\",,\"StudyData\", $O$2, \"BAR\", \"\", \"Time\", $O$4,-$A32,$O$6,$O$10, \"\",\"False\",\"T\")","v":"2023-08-25"},{"$f":" RTD(\"cqg.rtd\",,\"StudyData\", $O$2, \"BAR\", \"\", \"Open\", $O$4, -$A32, $O$6,$O$10,,$O$8,$O$12)","v":4434},{"$f":" RTD(\"cqg.rtd\",,\"StudyData\", $O$2, \"BAR\", \"\", \"High\", $O$4, -$A32, $O$6,$O$10,,$O$8,$O$12)","v":4478.5},{"$f":" RTD(\"cqg.rtd\",,\"StudyData\", $O$2, \"BAR\", \"\", \"Low\", $O$4, -$A32, $O$6,$O$10,,$O$8,$O$12)","v":4414.75},{"$f":" RTD(\"cqg.rtd\",,\"StudyData\", $O$2, \"BAR\", \"\", \"Close\", $O$4, -$A32, $O$6,$O$10,,$O$8,$O$12)","v":4463.75},{"$f":" RTD(\"cqg.rtd\",,\"StudyData\", $O$2, \"HVol\", \"InputChoice=Close,HvolType=Percent,Period=10\", \"HVOL\",$O$4,-A32,$O$6,$O$10,,$O$8,$O$12)","v":13.482552096158381},16,13.5,16]
[31,{"$f":" RTD(\"cqg.rtd\",,\"StudyData\", $O$2, \"BAR\", \"\", \"Time\", $O$4,-$A33,$O$6,$O$10, \"\",\"False\",\"T\")","v":"2023-08-24"},{"$f":" RTD(\"cqg.rtd\",,\"StudyData\", $O$2, \"BAR\", \"\", \"Open\", $O$4, -$A33, $O$6,$O$10,,$O$8,$O$12)","v":4520},{"$f":" RTD(\"cqg.rtd\",,\"StudyData\", $O$2, \"BAR\", \"\", \"High\", $O$4, -$A33, $O$6,$O$10,,$O$8,$O$12)","v":4535},{"$f":" RTD(\"cqg.rtd\",,\"StudyData\", $O$2, \"BAR\", \"\", \"Low\", $O$4, -$A33, $O$6,$O$10,,$O$8,$O$12)","v":4428},{"$f":" RTD(\"cqg.rtd\",,\"StudyData\", $O$2, \"BAR\", \"\", \"Close\", $O$4, -$A33, $O$6,$O$10,,$O$8,$O$12)","v":4435.5},{"$f":" RTD(\"cqg.rtd\",,\"StudyData\", $O$2, \"HVol\", \"InputChoice=Close,HvolType=Percent,Period=10\", \"HVOL\",$O$4,-A33,$O$6,$O$10,,$O$8,$O$12)","v":12.778905654545307},15,12.75,{"$error":"#N/A"}]
[32,{"$f":" RTD(\"cqg.rtd\",,\"StudyData\", $O$2, \"BAR\", \"\", \"Time\", $O$4,-$A34,$O$6,$O$10, \"\",\"False\",\"T\")","v":"2023-08-23"},{"$f":" RTD(\"cqg.rtd\",,\"StudyData\", $O$2, \"BAR\", \"\", \"Open\", $O$4, -$A34, $O$6,$O$10,,$O$8,$O$12)","v":4449.5},{"$f":" RTD(\"cqg.rtd\",,\"StudyData\", $O$2, \"BAR\", \"\", \"High\", $O$4, -$A34, $O$6,$O$10,,$O$8,$O$12)","v":4525.75},{"$f":" RTD(\"cqg.rtd\",,\"StudyData\", $O$2, \"BAR\", \"\", \"Low\", $O$4, -$A34, $O$6,$O$10,,$O$8,$O$12)","v":4449},{"$f":" RTD(\"cqg.rtd\",,\"StudyData\", $O$2, \"BAR\", \"\", \"Close\", $O$4, -$A34, $O$6,$O$10,,$O$8,$O$12)","v":4496.5},{"$f":" RTD(\"cqg.rtd\",,\"StudyData\", $O$2, \"HVol\", \"InputChoice=Close,HvolType=Percent,Period=10\", \"HVOL\",$O$4,-A34,$O$6,$O$10,,$O$8,$O$12)","v":11.1169832427999},9,12,{"$error":"#N/A"}]
[33,{"$f":" RTD(\"cqg.rtd\",,\"StudyData\", $O$2, \"BAR\", \"\", \"Time\", $O$4,-$A35,$O$6,$O$10, \"\",\"False\",\"T\")","v":"2023-08-22"},{"$f":" RTD(\"cqg.rtd\",,\"StudyData\", $O$2, \"BAR\", \"\", \"Open\", $O$4, -$A35, $O$6,$O$10,,$O$8,$O$12)","v":4459.75},{"$f":" RTD(\"cqg.rtd\",,\"StudyData\", $O$2, \"BAR\", \"\", \"High\", $O$4, -$A35, $O$6,$O$10,,$O$8,$O$12)","v":4489.5},{"$f":" RTD(\"cqg.rtd\",,\"StudyData\", $O$2, \"BAR\", \"\", \"Low\", $O$4, -$A35, $O$6,$O$10,,$O$8,$O$12)","v":4443.75},{"$f":" RTD(\"cqg.rtd\",,\"StudyData\", $O$2, \"BAR\", \"\", \"Close\", $O$4, -$A35, $O$6,$O$10,,$O$8,$O$12)","v":4448.75},{"$f":" RTD(\"cqg.rtd\",,\"StudyData\", $O$2, \"HVol\", \"InputChoice=Close,HvolType=Percent,Period=10\", \"HVOL\",$O$4,-A35,$O$6,$O$10,,$O$8,$O$12)","v":9.4154852564965452},17,11.25,{"$error":"#N/A"}]
[34,{"$f":" RTD(\"cqg.rtd\",,\"StudyData\", $O$2, \"BAR\", \"\", \"Time\", $O$4,-$A36,$O$6,$O$10, \"\",\"False\",\"T\")","v":"2023-08-21"},{"$f":" RTD(\"cqg.rtd\",,\"StudyData\", $O$2, \"BAR\", \"\", \"Open\", $O$4, -$A36, $O$6,$O$10,,$O$8,$O$12)","v":4432},{"$f":" RTD(\"cqg.rtd\",,\"StudyData\", $O$2, \"BAR\", \"\", \"High\", $O$4, -$A36, $O$6,$O$10,,$O$8,$O$12)","v":4470.5},{"$f":" RTD(\"cqg.rtd\",,\"StudyData\", $O$2, \"BAR\", \"\", \"Low\", $O$4, -$A36, $O$6,$O$10,,$O$8,$O$12)","v":4421.75},{"$f":" RTD(\"cqg.rtd\",,\"StudyData\", $O$2, \"BAR\", \"\", \"Close\", $O$4, -$A36, $O$6,$O$10,,$O$8,$O$12)","v":4462},{"$f":" RTD(\"cqg.rtd\",,\"StudyData\", $O$2, \"HVol\", \"InputChoice=Close,HvolType=Percent,Period=10\", \"HVOL\",$O$4,-A36,$O$6,$O$10,,$O$8,$O$12)","v":9.4478567569331595},25,10.5,{"$error":"#N/A"}]
[35,{"$f":" RTD(\"cqg.rtd\",,\"StudyData\", $O$2, \"BAR\", \"\", \"Time\", $O$4,-$A37,$O$6,$O$10, \"\",\"False\",\"T\")","v":"2023-08-18"},{"$f":" RTD(\"cqg.rtd\",,\"StudyData\", $O$2, \"BAR\", \"\", \"Open\", $O$4, -$A37, $O$6,$O$10,,$O$8,$O$12)","v":4428.75},{"$f":" RTD(\"cqg.rtd\",,\"StudyData\", $O$2, \"BAR\", \"\", \"High\", $O$4, -$A37, $O$6,$O$10,,$O$8,$O$12)","v":4445.5},{"$f":" RTD(\"cqg.rtd\",,\"StudyData\", $O$2, \"BAR\", \"\", \"Low\", $O$4, -$A37, $O$6,$O$10,,$O$8,$O$12)","v":4399.5},{"$f":" RTD(\"cqg.rtd\",,\"StudyData\", $O$2, \"BAR\", \"\", \"Close\", $O$4, -$A37, $O$6,$O$10,,$O$8,$O$12)","v":4432.25},{"$f":" RTD(\"cqg.rtd\",,\"StudyData\", $O$2, \"HVol\", \"InputChoice=Close,HvolType=Percent,Period=10\", \"HVOL\",$O$4,-A37,$O$6,$O$10,,$O$8,$O$12)","v":10.047625775974138},12,9.75,{"$error":"#N/A"}]
[36,{"$f":" RTD(\"cqg.rtd\",,\"StudyData\", $O$2, \"BAR\", \"\", \"Time\", $O$4,-$A38,$O$6,$O$10, \"\",\"False\",\"T\")","v":"2023-08-17"},{"$f":" RTD(\"cqg.rtd\",,\"StudyData\", $O$2, \"BAR\", \"\", \"Open\", $O$4, -$A38, $O$6,$O$10,,$O$8,$O$12)","v":4470},{"$f":" RTD(\"cqg.rtd\",,\"StudyData\", $O$2, \"BAR\", \"\", \"High\", $O$4, -$A38, $O$6,$O$10,,$O$8,$O$12)","v":4486.25},{"$f":" RTD(\"cqg.rtd\",,\"StudyData\", $O$2, \"BAR\", \"\", \"Low\", $O$4, -$A38, $O$6,$O$10,,$O$8,$O$12)","v":4427.25},{"$f":" RTD(\"cqg.rtd\",,\"StudyData\", $O$2, \"BAR\", \"\", \"Close\", $O$4, -$A38, $O$6,$O$10,,$O$8,$O$12)","v":4434},{"$f":" RTD(\"cqg.rtd\",,\"StudyData\", $O$2, \"HVol\", \"InputChoice=Close,HvolType=Percent,Period=10\", \"HVOL\",$O$4,-A38,$O$6,$O$10,,$O$8,$O$12)","v":10.04888751065976},9,9,{"$error":"#N/A"}]
[37,{"$f":" RTD(\"cqg.rtd\",,\"StudyData\", $O$2, \"BAR\", \"\", \"Time\", $O$4,-$A39,$O$6,$O$10, \"\",\"False\",\"T\")","v":"2023-08-16"},{"$f":" RTD(\"cqg.rtd\",,\"StudyData\", $O$2, \"BAR\", \"\", \"Open\", $O$4, -$A39, $O$6,$O$10,,$O$8,$O$12)","v":4502.75},{"$f":" RTD(\"cqg.rtd\",,\"StudyData\", $O$2, \"BAR\", \"\", \"High\", $O$4, -$A39, $O$6,$O$10,,$O$8,$O$12)","v":4516.75},{"$f":" RTD(\"cqg.rtd\",,\"StudyData\", $O$2, \"BAR\", \"\", \"Low\", $O$4, -$A39, $O$6,$O$10,,$O$8,$O$12)","v":4466.5},{"$f":" RTD(\"cqg.rtd\",,\"StudyData\", $O$2, \"BAR\", \"\", \"Close\", $O$4, -$A39, $O$6,$O$10,,$O$8,$O$12)","v":4469.5},{"$f":" RTD(\"cqg.rtd\",,\"StudyData\", $O$2, \"HVol\", \"InputChoice=Close,HvolType=Percent,Period=10\", \"HVOL\",$O$4,-A39,$O$6,$O$10,,$O$8,$O$12)","v":9.6809278795881255},10,8.25,{"$error":"#N/A"}]
[38,{"$f":" RTD(\"cqg.rtd\",,\"StudyData\", $O$2, \"BAR\", \"\", \"Time\", $O$4,-$A40,$O$6,$O$10, \"\",\"False\",\"T\")","v":"2023-08-15"},{"$f":" RTD(\"cqg.rtd\",,\"StudyData\", $O$2, \"BAR\", \"\", \"Open\", $O$4, -$A40, $O$6,$O$10,,$O$8,$O$12)","v":4555.25},{"$f":" RTD(\"cqg.rtd\",,\"StudyData\", $O$2, \"BAR\", \"\", \"High\", $O$4, -$A40, $O$6,$O$10,,$O$8,$O$12)","v":4567.25},{"$f":" RTD(\"cqg.rtd\",,\"StudyData\", $O$2, \"BAR\", \"\", \"Low\", $O$4, -$A40, $O$6,$O$10,,$O$8,$O$12)","v":4496.5},{"$f":" RTD(\"cqg.rtd\",,\"StudyData\", $O$2, \"BAR\", \"\", \"Close\", $O$4, -$A40, $O$6,$O$10,,$O$8,$O$12)","v":4503.5},{"$f":" RTD(\"cqg.rtd\",,\"StudyData\", $O$2, \"HVol\", \"InputChoice=Close,HvolType=Percent,Period=10\", \"HVOL\",$O$4,-A40,$O$6,$O$10,,$O$8,$O$12)","v":10.979653044279383},5,7.5,{"$error":"#N/A"}]
[39,{"$f":" RTD(\"cqg.rtd\",,\"StudyData\", $O$2, \"BAR\", \"\", \"Time\", $O$4,-$A41,$O$6,$O$10, \"\",\"False\",\"T\")","v":"2023-08-14"},{"$f":" RTD(\"cqg.rtd\",,\"StudyData\", $O$2, \"BAR\", \"\", \"Open\", $O$4, -$A41, $O$6,$O$10,,$O$8,$O$12)","v":4534.5},{"$f":" RTD(\"cqg.rtd\",,\"StudyData\", $O$2, \"BAR\", \"\", \"High\", $O$4, -$A41, $O$6,$O$10,,$O$8,$O$12)","v":4557.25},{"$f":" RTD(\"cqg.rtd\",,\"StudyData\", $O$2, \"BAR\", \"\", \"Low\", $O$4, -$A41, $O$6,$O$10,,$O$8,$O$12)","v":4514.5},{"$f":" RTD(\"cqg.rtd\",,\"StudyData\", $O$2, \"BAR\", \"\", \"Close\", $O$4, -$A41, $O$6,$O$10,,$O$8,$O$12)","v":4555.5},{"$f":" RTD(\"cqg.rtd\",,\"StudyData\", $O$2, \"HVol\", \"InputChoice=Close,HvolType=Percent,Period=10\", \"HVOL\",$O$4,-A41,$O$6,$O$10,,$O$8,$O$12)","v":9.9877905532723315},1,6.75,{"$error":"#N/A"}]
[40,{"$f":" RTD(\"cqg.rtd\",,\"StudyData\", $O$2, \"BAR\", \"\", \"Time\", $O$4,-$A42,$O$6,$O$10, \"\",\"False\",\"T\")","v":"2023-08-11"},{"$f":" RTD(\"cqg.rtd\",,\"StudyData\", $O$2, \"BAR\", \"\", \"Open\", $O$4, -$A42, $O$6,$O$10,,$O$8,$O$12)","v":4537.25},{"$f":" RTD(\"cqg.rtd\",,\"StudyData\", $O$2, \"BAR\", \"\", \"High\", $O$4, -$A42, $O$6,$O$10,,$O$8,$O$12)","v":4545.75},{"$f":" RTD(\"cqg.rtd\",,\"StudyData\", $O$2, \"BAR\", \"\", \"Low\", $O$4, -$A42, $O$6,$O$10,,$O$8,$O$12)","v":4508.5},{"$f":" RTD(\"cqg.rtd\",,\"StudyData\", $O$2, \"BAR\", \"\", \"Close\", $O$4, -$A42, $O$6,$O$10,,$O$8,$O$12)","v":4530.25},{"$f":" RTD(\"cqg.rtd\",,\"StudyData\", $O$2, \"HVol\", \"InputChoice=Close,HvolType=Percent,Period=10\", \"HVOL\",$O$4,-A42,$O$6,$O$10,,$O$8,$O$12)","v":9.3025070999720274},0,6,{"$error":"#N/A"}]
[41,{"$f":" RTD(\"cqg.rtd\",,\"StudyData\", $O$2, \"BAR\", \"\", \"Time\", $O$4,-$A43,$O$6,$O$10, \"\",\"False\",\"T\")","v":"2023-08-10"},{"$f":" RTD(\"cqg.rtd\",,\"StudyData\", $O$2, \"BAR\", \"\", \"Open\", $O$4, -$A43, $O$6,$O$10,,$O$8,$O$12)","v":4542.75},{"$f":" RTD(\"cqg.rtd\",,\"StudyData\", $O$2, \"BAR\", \"\", \"High\", $O$4, -$A43, $O$6,$O$10,,$O$8,$O$12)","v":4594.25},{"$f":" RTD(\"cqg.rtd\",,\"StudyData\", $O$2, \"BAR\", \"\", \"Low\", $O$4, -$A43, $O$6,$O$10,,$O$8,$O$12)","v":4523},{"$f":" RTD(\"cqg.rtd\",,\"StudyData\", $O$2, \"BAR\", \"\", \"Close\", $O$4, -$A43, $O$6,$O$10,,$O$8,$O$12)","v":4535.25},{"$f":" RTD(\"cqg.rtd\",,\"StudyData\", $O$2, \"HVol\", \"InputChoice=Close,HvolType=Percent,Period=10\", \"HVOL\",$O$4,-A43,$O$6,$O$10,,$O$8,$O$12)","v":11.048291891000165},0,5.25,{"$error":"#N/A"}]
[42,{"$f":" RTD(\"cqg.rtd\",,\"StudyData\", $O$2, \"BAR\", \"\", \"Time\", $O$4,-$A44,$O$6,$O$10, \"\",\"False\",\"T\")","v":"2023-08-09"},{"$f":" RTD(\"cqg.rtd\",,\"StudyData\", $O$2, \"BAR\", \"\", \"Open\", $O$4, -$A44, $O$6,$O$10,,$O$8,$O$12)","v":4566},{"$f":" RTD(\"cqg.rtd\",,\"StudyData\", $O$2, \"BAR\", \"\", \"High\", $O$4, -$A44, $O$6,$O$10,,$O$8,$O$12)","v":4585.75},{"$f":" RTD(\"cqg.rtd\",,\"StudyData\", $O$2, \"BAR\", \"\", \"Low\", $O$4, -$A44, $O$6,$O$10,,$O$8,$O$12)","v":4527.75},{"$f":" RTD(\"cqg.rtd\",,\"StudyData\", $O$2, \"BAR\", \"\", \"Close\", $O$4, -$A44, $O$6,$O$10,,$O$8,$O$12)","v":4535.25},{"$f":" RTD(\"cqg.rtd\",,\"StudyData\", $O$2, \"HVol\", \"InputChoice=Close,HvolType=Percent,Period=10\", \"HVOL\",$O$4,-A44,$O$6,$O$10,,$O$8,$O$12)","v":11.266098788238025}]
[43,{"$f":" RTD(\"cqg.rtd\",,\"StudyData\", $O$2, \"BAR\", \"\", \"Time\", $O$4,-$A45,$O$6,$O$10, \"\",\"False\",\"T\")","v":"2023-08-08"},{"$f":" RTD(\"cqg.rtd\",,\"StudyData\", $O$2, \"BAR\", \"\", \"Open\", $O$4, -$A45, $O$6,$O$10,,$O$8,$O$12)","v":4589},{"$f":" RTD(\"cqg.rtd\",,\"StudyData\", $O$2, \"BAR\", \"\", \"High\", $O$4, -$A45, $O$6,$O$10,,$O$8,$O$12)","v":4590.5},{"$f":" RTD(\"cqg.rtd\",,\"StudyData\", $O$2, \"BAR\", \"\", \"Low\", $O$4, -$A45, $O$6,$O$10,,$O$8,$O$12)","v":4531.5},{"$f":" RTD(\"cqg.rtd\",,\"StudyData\", $O$2, \"BAR\", \"\", \"Close\", $O$4, -$A45, $O$6,$O$10,,$O$8,$O$12)","v":4568},{"$f":" RTD(\"cqg.rtd\",,\"StudyData\", $O$2, \"HVol\", \"InputChoice=Close,HvolType=Percent,Period=10\", \"HVOL\",$O$4,-A45,$O$6,$O$10,,$O$8,$O$12)","v":10.976263561059131}]
[44,{"$f":" RTD(\"cqg.rtd\",,\"StudyData\", $O$2, \"BAR\", \"\", \"Time\", $O$4,-$A46,$O$6,$O$10, \"\",\"False\",\"T\")","v":"2023-08-07"},{"$f":" RTD(\"cqg.rtd\",,\"StudyData\", $O$2, \"BAR\", \"\", \"Open\", $O$4, -$A46, $O$6,$O$10,,$O$8,$O$12)","v":4550},{"$f":" RTD(\"cqg.rtd\",,\"StudyData\", $O$2, \"BAR\", \"\", \"High\", $O$4, -$A46, $O$6,$O$10,,$O$8,$O$12)","v":4591.25},{"$f":" RTD(\"cqg.rtd\",,\"StudyData\", $O$2, \"BAR\", \"\", \"Low\", $O$4, -$A46, $O$6,$O$10,,$O$8,$O$12)","v":4550},{"$f":" RTD(\"cqg.rtd\",,\"StudyData\", $O$2, \"BAR\", \"\", \"Close\", $O$4, -$A46, $O$6,$O$10,,$O$8,$O$12)","v":4587.25},{"$f":" RTD(\"cqg.rtd\",,\"StudyData\", $O$2, \"HVol\", \"InputChoice=Close,HvolType=Percent,Period=10\", \"HVOL\",$O$4,-A46,$O$6,$O$10,,$O$8,$O$12)","v":11.074460688762047}]
[45,{"$f":" RTD(\"cqg.rtd\",,\"StudyData\", $O$2, \"BAR\", \"\", \"Time\", $O$4,-$A47,$O$6,$O$10, \"\",\"False\",\"T\")","v":"2023-08-04"},{"$f":" RTD(\"cqg.rtd\",,\"StudyData\", $O$2, \"BAR\", \"\", \"Open\", $O$4, -$A47, $O$6,$O$10,,$O$8,$O$12)","v":4573},{"$f":" RTD(\"cqg.rtd\",,\"StudyData\", $O$2, \"BAR\", \"\", \"High\", $O$4, -$A47, $O$6,$O$10,,$O$8,$O$12)","v":4610.25},{"$f":" RTD(\"cqg.rtd\",,\"StudyData\", $O$2, \"BAR\", \"\", \"Low\", $O$4, -$A47, $O$6,$O$10,,$O$8,$O$12)","v":4543.25},{"$f":" RTD(\"cqg.rtd\",,\"StudyData\", $O$2, \"BAR\", \"\", \"Close\", $O$4, -$A47, $O$6,$O$10,,$O$8,$O$12)","v":4547.5},{"$f":" RTD(\"cqg.rtd\",,\"StudyData\", $O$2, \"HVol\", \"InputChoice=Close,HvolType=Percent,Period=10\", \"HVOL\",$O$4,-A47,$O$6,$O$10,,$O$8,$O$12)","v":10.14290358796349}]
[46,{"$f":" RTD(\"cqg.rtd\",,\"StudyData\", $O$2, \"BAR\", \"\", \"Time\", $O$4,-$A48,$O$6,$O$10, \"\",\"False\",\"T\")","v":"2023-08-03"},{"$f":" RTD(\"cqg.rtd\",,\"StudyData\", $O$2, \"BAR\", \"\", \"Open\", $O$4, -$A48, $O$6,$O$10,,$O$8,$O$12)","v":4583.75},{"$f":" RTD(\"cqg.rtd\",,\"StudyData\", $O$2, \"BAR\", \"\", \"High\", $O$4, -$A48, $O$6,$O$10,,$O$8,$O$12)","v":4597},{"$f":" RTD(\"cqg.rtd\",,\"StudyData\", $O$2, \"BAR\", \"\", \"Low\", $O$4, -$A48, $O$6,$O$10,,$O$8,$O$12)","v":4555.25},{"$f":" RTD(\"cqg.rtd\",,\"StudyData\", $O$2, \"BAR\", \"\", \"Close\", $O$4, -$A48, $O$6,$O$10,,$O$8,$O$12)","v":4571.25},{"$f":" RTD(\"cqg.rtd\",,\"StudyData\", $O$2, \"HVol\", \"InputChoice=Close,HvolType=Percent,Period=10\", \"HVOL\",$O$4,-A48,$O$6,$O$10,,$O$8,$O$12)","v":9.9349665001004244}]
[47,{"$f":" RTD(\"cqg.rtd\",,\"StudyData\", $O$2, \"BAR\", \"\", \"Time\", $O$4,-$A49,$O$6,$O$10, \"\",\"False\",\"T\")","v":"2023-08-02"},{"$f":" RTD(\"cqg.rtd\",,\"StudyData\", $O$2, \"BAR\", \"\", \"Open\", $O$4, -$A49, $O$6,$O$10,,$O$8,$O$12)","v":4629.5},{"$f":" RTD(\"cqg.rtd\",,\"StudyData\", $O$2, \"BAR\", \"\", \"High\", $O$4, -$A49, $O$6,$O$10,,$O$8,$O$12)","v":4643},{"$f":" RTD(\"cqg.rtd\",,\"StudyData\", $O$2, \"BAR\", \"\", \"Low\", $O$4, -$A49, $O$6,$O$10,,$O$8,$O$12)","v":4577.25},{"$f":" RTD(\"cqg.rtd\",,\"StudyData\", $O$2, \"BAR\", \"\", \"Close\", $O$4, -$A49, $O$6,$O$10,,$O$8,$O$12)","v":4586.75},{"$f":" RTD(\"cqg.rtd\",,\"StudyData\", $O$2, \"HVol\", \"InputChoice=Close,HvolType=Percent,Period=10\", \"HVOL\",$O$4,-A49,$O$6,$O$10,,$O$8,$O$12)","v":10.305920105918824}]
[48,{"$f":" RTD(\"cqg.rtd\",,\"StudyData\", $O$2, \"BAR\", \"\", \"Time\", $O$4,-$A50,$O$6,$O$10, \"\",\"False\",\"T\")","v":"2023-08-01"},{"$f":" RTD(\"cqg.rtd\",,\"StudyData\", $O$2, \"BAR\", \"\", \"Open\", $O$4, -$A50, $O$6,$O$10,,$O$8,$O$12)","v":4667.25},{"$f":" RTD(\"cqg.rtd\",,\"StudyData\", $O$2, \"BAR\", \"\", \"High\", $O$4, -$A50, $O$6,$O$10,,$O$8,$O$12)","v":4671.25},{"$f":" RTD(\"cqg.rtd\",,\"StudyData\", $O$2, \"BAR\", \"\", \"Low\", $O$4, -$A50, $O$6,$O$10,,$O$8,$O$12)","v":4640.5},{"$f":" RTD(\"cqg.rtd\",,\"StudyData\", $O$2, \"BAR\", \"\", \"Close\", $O$4, -$A50, $O$6,$O$10,,$O$8,$O$12)","v":4650.75},{"$f":" RTD(\"cqg.rtd\",,\"StudyData\", $O$2, \"HVol\", \"InputChoice=Close,HvolType=Percent,Period=10\", \"HVOL\",$O$4,-A50,$O$6,$O$10,,$O$8,$O$12)","v":7.6793315054707652}]
[49,{"$f":" RTD(\"cqg.rtd\",,\"StudyData\", $O$2, \"BAR\", \"\", \"Time\", $O$4,-$A51,$O$6,$O$10, \"\",\"False\",\"T\")","v":"2023-07-31"},{"$f":" RTD(\"cqg.rtd\",,\"StudyData\", $O$2, \"BAR\", \"\", \"Open\", $O$4, -$A51, $O$6,$O$10,,$O$8,$O$12)","v":4658.25},{"$f":" RTD(\"cqg.rtd\",,\"StudyData\", $O$2, \"BAR\", \"\", \"High\", $O$4, -$A51, $O$6,$O$10,,$O$8,$O$12)","v":4668.75},{"$f":" RTD(\"cqg.rtd\",,\"StudyData\", $O$2, \"BAR\", \"\", \"Low\", $O$4, -$A51, $O$6,$O$10,,$O$8,$O$12)","v":4644.75},{"$f":" RTD(\"cqg.rtd\",,\"StudyData\", $O$2, \"BAR\", \"\", \"Close\", $O$4, -$A51, $O$6,$O$10,,$O$8,$O$12)","v":4664},{"$f":" RTD(\"cqg.rtd\",,\"StudyData\", $O$2, \"HVol\", \"InputChoice=Close,HvolType=Percent,Period=10\", \"HVOL\",$O$4,-A51,$O$6,$O$10,,$O$8,$O$12)","v":8.2016294190589853}]
[50,{"$f":" RTD(\"cqg.rtd\",,\"StudyData\", $O$2, \"BAR\", \"\", \"Time\", $O$4,-$A52,$O$6,$O$10, \"\",\"False\",\"T\")","v":"2023-07-28"},{"$f":" RTD(\"cqg.rtd\",,\"StudyData\", $O$2, \"BAR\", \"\", \"Open\", $O$4, -$A52, $O$6,$O$10,,$O$8,$O$12)","v":4615.5},{"$f":" RTD(\"cqg.rtd\",,\"StudyData\", $O$2, \"BAR\", \"\", \"High\", $O$4, -$A52, $O$6,$O$10,,$O$8,$O$12)","v":4666},{"$f":" RTD(\"cqg.rtd\",,\"StudyData\", $O$2, \"BAR\", \"\", \"Low\", $O$4, -$A52, $O$6,$O$10,,$O$8,$O$12)","v":4607.5},{"$f":" RTD(\"cqg.rtd\",,\"StudyData\", $O$2, \"BAR\", \"\", \"Close\", $O$4, -$A52, $O$6,$O$10,,$O$8,$O$12)","v":4656},{"$f":" RTD(\"cqg.rtd\",,\"StudyData\", $O$2, \"HVol\", \"InputChoice=Close,HvolType=Percent,Period=10\", \"HVOL\",$O$4,-A52,$O$6,$O$10,,$O$8,$O$12)","v":8.2879865914952493}]
[51,{"$f":" RTD(\"cqg.rtd\",,\"StudyData\", $O$2, \"BAR\", \"\", \"Time\", $O$4,-$A53,$O$6,$O$10, \"\",\"False\",\"T\")","v":"2023-07-27"},{"$f":" RTD(\"cqg.rtd\",,\"StudyData\", $O$2, \"BAR\", \"\", \"Open\", $O$4, -$A53, $O$6,$O$10,,$O$8,$O$12)","v":4644.25},{"$f":" RTD(\"cqg.rtd\",,\"StudyData\", $O$2, \"BAR\", \"\", \"High\", $O$4, -$A53, $O$6,$O$10,,$O$8,$O$12)","v":4684},{"$f":" RTD(\"cqg.rtd\",,\"StudyData\", $O$2, \"BAR\", \"\", \"Low\", $O$4, -$A53, $O$6,$O$10,,$O$8,$O$12)","v":4603.25},{"$f":" RTD(\"cqg.rtd\",,\"StudyData\", $O$2, \"BAR\", \"\", \"Close\", $O$4, -$A53, $O$6,$O$10,,$O$8,$O$12)","v":4613.75},{"$f":" RTD(\"cqg.rtd\",,\"StudyData\", $O$2, \"HVol\", \"InputChoice=Close,HvolType=Percent,Period=10\", \"HVOL\",$O$4,-A53,$O$6,$O$10,,$O$8,$O$12)","v":7.2007470746835258}]
[52,{"$f":" RTD(\"cqg.rtd\",,\"StudyData\", $O$2, \"BAR\", \"\", \"Time\", $O$4,-$A54,$O$6,$O$10, \"\",\"False\",\"T\")","v":"2023-07-26"},{"$f":" RTD(\"cqg.rtd\",,\"StudyData\", $O$2, \"BAR\", \"\", \"Open\", $O$4, -$A54, $O$6,$O$10,,$O$8,$O$12)","v":4654.25},{"$f":" RTD(\"cqg.rtd\",,\"StudyData\", $O$2, \"BAR\", \"\", \"High\", $O$4, -$A54, $O$6,$O$10,,$O$8,$O$12)","v":4660.25},{"$f":" RTD(\"cqg.rtd\",,\"StudyData\", $O$2, \"BAR\", \"\", \"Low\", $O$4, -$A54, $O$6,$O$10,,$O$8,$O$12)","v":4623.25},{"$f":" RTD(\"cqg.rtd\",,\"StudyData\", $O$2, \"BAR\", \"\", \"Close\", $O$4, -$A54, $O$6,$O$10,,$O$8,$O$12)","v":4644.75},{"$f":" RTD(\"cqg.rtd\",,\"StudyData\", $O$2, \"HVol\", \"InputChoice=Close,HvolType=Percent,Period=10\", \"HVOL\",$O$4,-A54,$O$6,$O$10,,$O$8,$O$12)","v":6.8692589353598379}]
[53,{"$f":" RTD(\"cqg.rtd\",,\"StudyData\", $O$2, \"BAR\", \"\", \"Time\", $O$4,-$A55,$O$6,$O$10, \"\",\"False\",\"T\")","v":"2023-07-25"},{"$f":" RTD(\"cqg.rtd\",,\"StudyData\", $O$2, \"BAR\", \"\", \"Open\", $O$4, -$A55, $O$6,$O$10,,$O$8,$O$12)","v":4634},{"$f":" RTD(\"cqg.rtd\",,\"StudyData\", $O$2, \"BAR\", \"\", \"High\", $O$4, -$A55, $O$6,$O$10,,$O$8,$O$12)","v":4658.25},{"$f":" RTD(\"cqg.rtd\",,\"StudyData\", $O$2, \"BAR\", \"\", \"Low\", $O$4, -$A55, $O$6,$O$10,,$O$8,$O$12)","v":4628.75},{"$f":" RTD(\"cqg.rtd\",,\"StudyData\", $O$2, \"BAR\", \"\", \"Close\", $O$4, -$A55, $O$6,$O$10,,$O$8,$O$12)","v":4645.5},{"$f":" RTD(\"cqg.rtd\",,\"StudyData\", $O$2, \"HVol\", \"InputChoice=Close,HvolType=Percent,Period=10\", \"HVOL\",$O$4,-A55,$O$6,$O$10,,$O$8,$O$12)","v":7.2840826273946027}]
[54,{"$f":" RTD(\"cqg.rtd\",,\"StudyData\", $O$2, \"BAR\", \"\", \"Time\", $O$4,-$A56,$O$6,$O$10, \"\",\"False\",\"T\")","v":"2023-07-24"},{"$f":" RTD(\"cqg.rtd\",,\"StudyData\", $O$2, \"BAR\", \"\", \"Open\", $O$4, -$A56, $O$6,$O$10,,$O$8,$O$12)","v":4613.75},{"$f":" RTD(\"cqg.rtd\",,\"StudyData\", $O$2, \"BAR\", \"\", \"High\", $O$4, -$A56, $O$6,$O$10,,$O$8,$O$12)","v":4642},{"$f":" RTD(\"cqg.rtd\",,\"StudyData\", $O$2, \"BAR\", \"\", \"Low\", $O$4, -$A56, $O$6,$O$10,,$O$8,$O$12)","v":4609.5},{"$f":" RTD(\"cqg.rtd\",,\"StudyData\", $O$2, \"BAR\", \"\", \"Close\", $O$4, -$A56, $O$6,$O$10,,$O$8,$O$12)","v":4633},{"$f":" RTD(\"cqg.rtd\",,\"StudyData\", $O$2, \"HVol\", \"InputChoice=Close,HvolType=Percent,Period=10\", \"HVOL\",$O$4,-A56,$O$6,$O$10,,$O$8,$O$12)","v":7.5309629578006696}]
[55,{"$f":" RTD(\"cqg.rtd\",,\"StudyData\", $O$2, \"BAR\", \"\", \"Time\", $O$4,-$A57,$O$6,$O$10, \"\",\"False\",\"T\")","v":"2023-07-21"},{"$f":" RTD(\"cqg.rtd\",,\"StudyData\", $O$2, \"BAR\", \"\", \"Open\", $O$4, -$A57, $O$6,$O$10,,$O$8,$O$12)","v":4615.75},{"$f":" RTD(\"cqg.rtd\",,\"StudyData\", $O$2, \"BAR\", \"\", \"High\", $O$4, -$A57, $O$6,$O$10,,$O$8,$O$12)","v":4639.5},{"$f":" RTD(\"cqg.rtd\",,\"StudyData\", $O$2, \"BAR\", \"\", \"Low\", $O$4, -$A57, $O$6,$O$10,,$O$8,$O$12)","v":4611.25},{"$f":" RTD(\"cqg.rtd\",,\"StudyData\", $O$2, \"BAR\", \"\", \"Close\", $O$4, -$A57, $O$6,$O$10,,$O$8,$O$12)","v":4614.25},{"$f":" RTD(\"cqg.rtd\",,\"StudyData\", $O$2, \"HVol\", \"InputChoice=Close,HvolType=Percent,Period=10\", \"HVOL\",$O$4,-A57,$O$6,$O$10,,$O$8,$O$12)","v":7.5180289153566644}]
[56,{"$f":" RTD(\"cqg.rtd\",,\"StudyData\", $O$2, \"BAR\", \"\", \"Time\", $O$4,-$A58,$O$6,$O$10, \"\",\"False\",\"T\")","v":"2023-07-20"},{"$f":" RTD(\"cqg.rtd\",,\"StudyData\", $O$2, \"BAR\", \"\", \"Open\", $O$4, -$A58, $O$6,$O$10,,$O$8,$O$12)","v":4642.75},{"$f":" RTD(\"cqg.rtd\",,\"StudyData\", $O$2, \"BAR\", \"\", \"High\", $O$4, -$A58, $O$6,$O$10,,$O$8,$O$12)","v":4643.75},{"$f":" RTD(\"cqg.rtd\",,\"StudyData\", $O$2, \"BAR\", \"\", \"Low\", $O$4, -$A58, $O$6,$O$10,,$O$8,$O$12)","v":4606.75},{"$f":" RTD(\"cqg.rtd\",,\"StudyData\", $O$2, \"BAR\", \"\", \"Close\", $O$4, -$A58, $O$6,$O$10,,$O$8,$O$12)","v":4615},{"$f":" RTD(\"cqg.rtd\",,\"StudyData\", $O$2, \"HVol\", \"InputChoice=Close,HvolType=Percent,Period=10\", \"HVOL\",$O$4,-A58,$O$6,$O$10,,$O$8,$O$12)","v":7.937736113266892}]
[57,{"$f":" RTD(\"cqg.rtd\",,\"StudyData\", $O$2, \"BAR\", \"\", \"Time\", $O$4,-$A59,$O$6,$O$10, \"\",\"False\",\"T\")","v":"2023-07-19"},{"$f":" RTD(\"cqg.rtd\",,\"StudyData\", $O$2, \"BAR\", \"\", \"Open\", $O$4, -$A59, $O$6,$O$10,,$O$8,$O$12)","v":4632.25},{"$f":" RTD(\"cqg.rtd\",,\"StudyData\", $O$2, \"BAR\", \"\", \"High\", $O$4, -$A59, $O$6,$O$10,,$O$8,$O$12)","v":4658.75},{"$f":" RTD(\"cqg.rtd\",,\"StudyData\", $O$2, \"BAR\", \"\", \"Low\", $O$4, -$A59, $O$6,$O$10,,$O$8,$O$12)","v":4631.75},{"$f":" RTD(\"cqg.rtd\",,\"StudyData\", $O$2, \"BAR\", \"\", \"Close\", $O$4, -$A59, $O$6,$O$10,,$O$8,$O$12)","v":4646.5},{"$f":" RTD(\"cqg.rtd\",,\"StudyData\", $O$2, \"HVol\", \"InputChoice=Close,HvolType=Percent,Period=10\", \"HVOL\",$O$4,-A59,$O$6,$O$10,,$O$8,$O$12)","v":8.3891034483098927}]
[58,{"$f":" RTD(\"cqg.rtd\",,\"StudyData\", $O$2, \"BAR\", \"\", \"Time\", $O$4,-$A60,$O$6,$O$10, \"\",\"False\",\"T\")","v":"2023-07-18"},{"$f":" RTD(\"cqg.rtd\",,\"StudyData\", $O$2, \"BAR\", \"\", \"Open\", $O$4, -$A60, $O$6,$O$10,,$O$8,$O$12)","v":4599.75},{"$f":" RTD(\"cqg.rtd\",,\"StudyData\", $O$2, \"BAR\", \"\", \"High\", $O$4, -$A60, $O$6,$O$10,,$O$8,$O$12)","v":4644},{"$f":" RTD(\"cqg.rtd\",,\"StudyData\", $O$2, \"BAR\", \"\", \"Low\", $O$4, -$A60, $O$6,$O$10,,$O$8,$O$12)","v":4594.25},{"$f":" RTD(\"cqg.rtd\",,\"StudyData\", $O$2, \"BAR\", \"\", \"Close\", $O$4, -$A60, $O$6,$O$10,,$O$8,$O$12)","v":4637.25},{"$f":" RTD(\"cqg.rtd\",,\"StudyData\", $O$2, \"HVol\", \"InputChoice=Close,HvolType=Percent,Period=10\", \"HVOL\",$O$4,-A60,$O$6,$O$10,,$O$8,$O$12)","v":8.6696765330586878}]
[59,{"$f":" RTD(\"cqg.rtd\",,\"StudyData\", $O$2, \"BAR\", \"\", \"Time\", $O$4,-$A61,$O$6,$O$10, \"\",\"False\",\"T\")","v":"2023-07-17"},{"$f":" RTD(\"cqg.rtd\",,\"StudyData\", $O$2, \"BAR\", \"\", \"Open\", $O$4, -$A61, $O$6,$O$10,,$O$8,$O$12)","v":4585.5},{"$f":" RTD(\"cqg.rtd\",,\"StudyData\", $O$2, \"BAR\", \"\", \"High\", $O$4, -$A61, $O$6,$O$10,,$O$8,$O$12)","v":4615.25},{"$f":" RTD(\"cqg.rtd\",,\"StudyData\", $O$2, \"BAR\", \"\", \"Low\", $O$4, -$A61, $O$6,$O$10,,$O$8,$O$12)","v":4577.5},{"$f":" RTD(\"cqg.rtd\",,\"StudyData\", $O$2, \"BAR\", \"\", \"Close\", $O$4, -$A61, $O$6,$O$10,,$O$8,$O$12)","v":4603.25},{"$f":" RTD(\"cqg.rtd\",,\"StudyData\", $O$2, \"HVol\", \"InputChoice=Close,HvolType=Percent,Period=10\", \"HVOL\",$O$4,-A61,$O$6,$O$10,,$O$8,$O$12)","v":8.1624944659585577}]
[60,{"$f":" RTD(\"cqg.rtd\",,\"StudyData\", $O$2, \"BAR\", \"\", \"Time\", $O$4,-$A62,$O$6,$O$10, \"\",\"False\",\"T\")","v":"2023-07-14"},{"$f":" RTD(\"cqg.rtd\",,\"StudyData\", $O$2, \"BAR\", \"\", \"Open\", $O$4, -$A62, $O$6,$O$10,,$O$8,$O$12)","v":4589},{"$f":" RTD(\"cqg.rtd\",,\"StudyData\", $O$2, \"BAR\", \"\", \"High\", $O$4, -$A62, $O$6,$O$10,,$O$8,$O$12)","v":4610},{"$f":" RTD(\"cqg.rtd\",,\"StudyData\", $O$2, \"BAR\", \"\", \"Low\", $O$4, -$A62, $O$6,$O$10,,$O$8,$O$12)","v":4580.5},{"$f":" RTD(\"cqg.rtd\",,\"StudyData\", $O$2, \"BAR\", \"\", \"Close\", $O$4, -$A62, $O$6,$O$10,,$O$8,$O$12)","v":4586.25},{"$f":" RTD(\"cqg.rtd\",,\"StudyData\", $O$2, \"HVol\", \"InputChoice=Close,HvolType=Percent,Period=10\", \"HVOL\",$O$4,-A62,$O$6,$O$10,,$O$8,$O$12)","v":9.6262373812430315}]
[61,{"$f":" RTD(\"cqg.rtd\",,\"StudyData\", $O$2, \"BAR\", \"\", \"Time\", $O$4,-$A63,$O$6,$O$10, \"\",\"False\",\"T\")","v":"2023-07-13"},{"$f":" RTD(\"cqg.rtd\",,\"StudyData\", $O$2, \"BAR\", \"\", \"Open\", $O$4, -$A63, $O$6,$O$10,,$O$8,$O$12)","v":4560},{"$f":" RTD(\"cqg.rtd\",,\"StudyData\", $O$2, \"BAR\", \"\", \"High\", $O$4, -$A63, $O$6,$O$10,,$O$8,$O$12)","v":4601},{"$f":" RTD(\"cqg.rtd\",,\"StudyData\", $O$2, \"BAR\", \"\", \"Low\", $O$4, -$A63, $O$6,$O$10,,$O$8,$O$12)","v":4558.75},{"$f":" RTD(\"cqg.rtd\",,\"StudyData\", $O$2, \"BAR\", \"\", \"Close\", $O$4, -$A63, $O$6,$O$10,,$O$8,$O$12)","v":4593},{"$f":" RTD(\"cqg.rtd\",,\"StudyData\", $O$2, \"HVol\", \"InputChoice=Close,HvolType=Percent,Period=10\", \"HVOL\",$O$4,-A63,$O$6,$O$10,,$O$8,$O$12)","v":9.4293316477480538}]
[62,{"$f":" RTD(\"cqg.rtd\",,\"StudyData\", $O$2, \"BAR\", \"\", \"Time\", $O$4,-$A64,$O$6,$O$10, \"\",\"False\",\"T\")","v":"2023-07-12"},{"$f":" RTD(\"cqg.rtd\",,\"StudyData\", $O$2, \"BAR\", \"\", \"Open\", $O$4, -$A64, $O$6,$O$10,,$O$8,$O$12)","v":4520.5},{"$f":" RTD(\"cqg.rtd\",,\"StudyData\", $O$2, \"BAR\", \"\", \"High\", $O$4, -$A64, $O$6,$O$10,,$O$8,$O$12)","v":4573.25},{"$f":" RTD(\"cqg.rtd\",,\"StudyData\", $O$2, \"BAR\", \"\", \"Low\", $O$4, -$A64, $O$6,$O$10,,$O$8,$O$12)","v":4519.5},{"$f":" RTD(\"cqg.rtd\",,\"StudyData\", $O$2, \"BAR\", \"\", \"Close\", $O$4, -$A64, $O$6,$O$10,,$O$8,$O$12)","v":4557},{"$f":" RTD(\"cqg.rtd\",,\"StudyData\", $O$2, \"HVol\", \"InputChoice=Close,HvolType=Percent,Period=10\", \"HVOL\",$O$4,-A64,$O$6,$O$10,,$O$8,$O$12)","v":9.0813212864095458}]
[63,{"$f":" RTD(\"cqg.rtd\",,\"StudyData\", $O$2, \"BAR\", \"\", \"Time\", $O$4,-$A65,$O$6,$O$10, \"\",\"False\",\"T\")","v":"2023-07-11"},{"$f":" RTD(\"cqg.rtd\",,\"StudyData\", $O$2, \"BAR\", \"\", \"Open\", $O$4, -$A65, $O$6,$O$10,,$O$8,$O$12)","v":4495.25},{"$f":" RTD(\"cqg.rtd\",,\"StudyData\", $O$2, \"BAR\", \"\", \"High\", $O$4, -$A65, $O$6,$O$10,,$O$8,$O$12)","v":4528},{"$f":" RTD(\"cqg.rtd\",,\"StudyData\", $O$2, \"BAR\", \"\", \"Low\", $O$4, -$A65, $O$6,$O$10,,$O$8,$O$12)","v":4488.5},{"$f":" RTD(\"cqg.rtd\",,\"StudyData\", $O$2, \"BAR\", \"\", \"Close\", $O$4, -$A65, $O$6,$O$10,,$O$8,$O$12)","v":4523},{"$f":" RTD(\"cqg.rtd\",,\"StudyData\", $O$2, \"HVol\", \"InputChoice=Close,HvolType=Percent,Period=10\", \"HVOL\",$O$4,-A65,$O$6,$O$10,,$O$8,$O$12)","v":9.8021700586575218}]
[64,{"$f":" RTD(\"cqg.rtd\",,\"StudyData\", $O$2, \"BAR\", \"\", \"Time\", $O$4,-$A66,$O$6,$O$10, \"\",\"False\",\"T\")","v":"2023-07-10"},{"$f":" RTD(\"cqg.rtd\",,\"StudyData\", $O$2, \"BAR\", \"\", \"Open\", $O$4, -$A66, $O$6,$O$10,,$O$8,$O$12)","v":4487},{"$f":" RTD(\"cqg.rtd\",,\"StudyData\", $O$2, \"BAR\", \"\", \"High\", $O$4, -$A66, $O$6,$O$10,,$O$8,$O$12)","v":4497.75},{"$f":" RTD(\"cqg.rtd\",,\"StudyData\", $O$2, \"BAR\", \"\", \"Low\", $O$4, -$A66, $O$6,$O$10,,$O$8,$O$12)","v":4460.75},{"$f":" RTD(\"cqg.rtd\",,\"StudyData\", $O$2, \"BAR\", \"\", \"Close\", $O$4, -$A66, $O$6,$O$10,,$O$8,$O$12)","v":4493.75},{"$f":" RTD(\"cqg.rtd\",,\"StudyData\", $O$2, \"HVol\", \"InputChoice=Close,HvolType=Percent,Period=10\", \"HVOL\",$O$4,-A66,$O$6,$O$10,,$O$8,$O$12)","v":9.9979730109174696}]
[65,{"$f":" RTD(\"cqg.rtd\",,\"StudyData\", $O$2, \"BAR\", \"\", \"Time\", $O$4,-$A67,$O$6,$O$10, \"\",\"False\",\"T\")","v":"2023-07-07"},{"$f":" RTD(\"cqg.rtd\",,\"StudyData\", $O$2, \"BAR\", \"\", \"Open\", $O$4, -$A67, $O$6,$O$10,,$O$8,$O$12)","v":4490.75},{"$f":" RTD(\"cqg.rtd\",,\"StudyData\", $O$2, \"BAR\", \"\", \"High\", $O$4, -$A67, $O$6,$O$10,,$O$8,$O$12)","v":4525.5},{"$f":" RTD(\"cqg.rtd\",,\"StudyData\", $O$2, \"BAR\", \"\", \"Low\", $O$4, -$A67, $O$6,$O$10,,$O$8,$O$12)","v":4481},{"$f":" RTD(\"cqg.rtd\",,\"StudyData\", $O$2, \"BAR\", \"\", \"Close\", $O$4, -$A67, $O$6,$O$10,,$O$8,$O$12)","v":4483.5},{"$f":" RTD(\"cqg.rtd\",,\"StudyData\", $O$2, \"HVol\", \"InputChoice=Close,HvolType=Percent,Period=10\", \"HVOL\",$O$4,-A67,$O$6,$O$10,,$O$8,$O$12)","v":10.930581485159776}]
[{"$f":"A67+1","v":66},{"$f":" RTD(\"cqg.rtd\",,\"StudyData\", $O$2, \"BAR\", \"\", \"Time\", $O$4,-$A68,$O$6,$O$10, \"\",\"False\",\"T\")","v":"2023-07-06"},{"$f":" RTD(\"cqg.rtd\",,\"StudyData\", $O$2, \"BAR\", \"\", \"Open\", $O$4, -$A68, $O$6,$O$10,,$O$8,$O$12)","v":4531.25},{"$f":" RTD(\"cqg.rtd\",,\"StudyData\", $O$2, \"BAR\", \"\", \"High\", $O$4, -$A68, $O$6,$O$10,,$O$8,$O$12)","v":4533},{"$f":" RTD(\"cqg.rtd\",,\"StudyData\", $O$2, \"BAR\", \"\", \"Low\", $O$4, -$A68, $O$6,$O$10,,$O$8,$O$12)","v":4469},{"$f":" RTD(\"cqg.rtd\",,\"StudyData\", $O$2, \"BAR\", \"\", \"Close\", $O$4, -$A68, $O$6,$O$10,,$O$8,$O$12)","v":4496.5},{"$f":" RTD(\"cqg.rtd\",,\"StudyData\", $O$2, \"HVol\", \"InputChoice=Close,HvolType=Percent,Period=10\", \"HVOL\",$O$4,-A68,$O$6,$O$10,,$O$8,$O$12)","v":10.871556441541966}]
[67,{"$f":" RTD(\"cqg.rtd\",,\"StudyData\", $O$2, \"BAR\", \"\", \"Time\", $O$4,-$A69,$O$6,$O$10, \"\",\"False\",\"T\")","v":"2023-07-05"},{"$f":" RTD(\"cqg.rtd\",,\"StudyData\", $O$2, \"BAR\", \"\", \"Open\", $O$4, -$A69, $O$6,$O$10,,$O$8,$O$12)","v":4541.5},{"$f":" RTD(\"cqg.rtd\",,\"StudyData\", $O$2, \"BAR\", \"\", \"High\", $O$4, -$A69, $O$6,$O$10,,$O$8,$O$12)","v":4543.25},{"$f":" RTD(\"cqg.rtd\",,\"StudyData\", $O$2, \"BAR\", \"\", \"Low\", $O$4, -$A69, $O$6,$O$10,,$O$8,$O$12)","v":4515.75},{"$f":" RTD(\"cqg.rtd\",,\"StudyData\", $O$2, \"BAR\", \"\", \"Close\", $O$4, -$A69, $O$6,$O$10,,$O$8,$O$12)","v":4533.25},{"$f":" RTD(\"cqg.rtd\",,\"StudyData\", $O$2, \"HVol\", \"InputChoice=Close,HvolType=Percent,Period=10\", \"HVOL\",$O$4,-A69,$O$6,$O$10,,$O$8,$O$12)","v":10.372680339269657}]
[68,{"$f":" RTD(\"cqg.rtd\",,\"StudyData\", $O$2, \"BAR\", \"\", \"Time\", $O$4,-$A70,$O$6,$O$10, \"\",\"False\",\"T\")","v":"2023-07-03"},{"$f":" RTD(\"cqg.rtd\",,\"StudyData\", $O$2, \"BAR\", \"\", \"Open\", $O$4, -$A70, $O$6,$O$10,,$O$8,$O$12)","v":4535},{"$f":" RTD(\"cqg.rtd\",,\"StudyData\", $O$2, \"BAR\", \"\", \"High\", $O$4, -$A70, $O$6,$O$10,,$O$8,$O$12)","v":4543.5},{"$f":" RTD(\"cqg.rtd\",,\"StudyData\", $O$2, \"BAR\", \"\", \"Low\", $O$4, -$A70, $O$6,$O$10,,$O$8,$O$12)","v":4529},{"$f":" RTD(\"cqg.rtd\",,\"StudyData\", $O$2, \"BAR\", \"\", \"Close\", $O$4, -$A70, $O$6,$O$10,,$O$8,$O$12)","v":4541.75},{"$f":" RTD(\"cqg.rtd\",,\"StudyData\", $O$2, \"HVol\", \"InputChoice=Close,HvolType=Percent,Period=10\", \"HVOL\",$O$4,-A70,$O$6,$O$10,,$O$8,$O$12)","v":10.623309233043475}]
[69,{"$f":" RTD(\"cqg.rtd\",,\"StudyData\", $O$2, \"BAR\", \"\", \"Time\", $O$4,-$A71,$O$6,$O$10, \"\",\"False\",\"T\")","v":"2023-06-30"},{"$f":" RTD(\"cqg.rtd\",,\"StudyData\", $O$2, \"BAR\", \"\", \"Open\", $O$4, -$A71, $O$6,$O$10,,$O$8,$O$12)","v":4484.75},{"$f":" RTD(\"cqg.rtd\",,\"StudyData\", $O$2, \"BAR\", \"\", \"High\", $O$4, -$A71, $O$6,$O$10,,$O$8,$O$12)","v":4547.5},{"$f":" RTD(\"cqg.rtd\",,\"StudyData\", $O$2, \"BAR\", \"\", \"Low\", $O$4, -$A71, $O$6,$O$10,,$O$8,$O$12)","v":4482.5},{"$f":" RTD(\"cqg.rtd\",,\"StudyData\", $O$2, \"BAR\", \"\", \"Close\", $O$4, -$A71, $O$6,$O$10,,$O$8,$O$12)","v":4537.75},{"$f":" RTD(\"cqg.rtd\",,\"StudyData\", $O$2, \"HVol\", \"InputChoice=Close,HvolType=Percent,Period=10\", \"HVOL\",$O$4,-A71,$O$6,$O$10,,$O$8,$O$12)","v":10.884671637873883}]
[70,{"$f":" RTD(\"cqg.rtd\",,\"StudyData\", $O$2, \"BAR\", \"\", \"Time\", $O$4,-$A72,$O$6,$O$10, \"\",\"False\",\"T\")","v":"2023-06-29"},{"$f":" RTD(\"cqg.rtd\",,\"StudyData\", $O$2, \"BAR\", \"\", \"Open\", $O$4, -$A72, $O$6,$O$10,,$O$8,$O$12)","v":4473.25},{"$f":" RTD(\"cqg.rtd\",,\"StudyData\", $O$2, \"BAR\", \"\", \"High\", $O$4, -$A72, $O$6,$O$10,,$O$8,$O$12)","v":4487.5},{"$f":" RTD(\"cqg.rtd\",,\"StudyData\", $O$2, \"BAR\", \"\", \"Low\", $O$4, -$A72, $O$6,$O$10,,$O$8,$O$12)","v":4459.25},{"$f":" RTD(\"cqg.rtd\",,\"StudyData\", $O$2, \"BAR\", \"\", \"Close\", $O$4, -$A72, $O$6,$O$10,,$O$8,$O$12)","v":4485.25},{"$f":" RTD(\"cqg.rtd\",,\"StudyData\", $O$2, \"HVol\", \"InputChoice=Close,HvolType=Percent,Period=10\", \"HVOL\",$O$4,-A72,$O$6,$O$10,,$O$8,$O$12)","v":10.913938986433395}]
[71,{"$f":" RTD(\"cqg.rtd\",,\"StudyData\", $O$2, \"BAR\", \"\", \"Time\", $O$4,-$A73,$O$6,$O$10, \"\",\"False\",\"T\")","v":"2023-06-28"},{"$f":" RTD(\"cqg.rtd\",,\"StudyData\", $O$2, \"BAR\", \"\", \"Open\", $O$4, -$A73, $O$6,$O$10,,$O$8,$O$12)","v":4463.5},{"$f":" RTD(\"cqg.rtd\",,\"StudyData\", $O$2, \"BAR\", \"\", \"High\", $O$4, -$A73, $O$6,$O$10,,$O$8,$O$12)","v":4479.75},{"$f":" RTD(\"cqg.rtd\",,\"StudyData\", $O$2, \"BAR\", \"\", \"Low\", $O$4, -$A73, $O$6,$O$10,,$O$8,$O$12)","v":4448.75},{"$f":" RTD(\"cqg.rtd\",,\"StudyData\", $O$2, \"BAR\", \"\", \"Close\", $O$4, -$A73, $O$6,$O$10,,$O$8,$O$12)","v":4467},{"$f":" RTD(\"cqg.rtd\",,\"StudyData\", $O$2, \"HVol\", \"InputChoice=Close,HvolType=Percent,Period=10\", \"HVOL\",$O$4,-A73,$O$6,$O$10,,$O$8,$O$12)","v":10.722684513438658}]
[72,{"$f":" RTD(\"cqg.rtd\",,\"StudyData\", $O$2, \"BAR\", \"\", \"Time\", $O$4,-$A74,$O$6,$O$10, \"\",\"False\",\"T\")","v":"2023-06-27"},{"$f":" RTD(\"cqg.rtd\",,\"StudyData\", $O$2, \"BAR\", \"\", \"Open\", $O$4, -$A74, $O$6,$O$10,,$O$8,$O$12)","v":4425.25},{"$f":" RTD(\"cqg.rtd\",,\"StudyData\", $O$2, \"BAR\", \"\", \"High\", $O$4, -$A74, $O$6,$O$10,,$O$8,$O$12)","v":4474.25},{"$f":" RTD(\"cqg.rtd\",,\"StudyData\", $O$2, \"BAR\", \"\", \"Low\", $O$4, -$A74, $O$6,$O$10,,$O$8,$O$12)","v":4421},{"$f":" RTD(\"cqg.rtd\",,\"StudyData\", $O$2, \"BAR\", \"\", \"Close\", $O$4, -$A74, $O$6,$O$10,,$O$8,$O$12)","v":4468.25},{"$f":" RTD(\"cqg.rtd\",,\"StudyData\", $O$2, \"HVol\", \"InputChoice=Close,HvolType=Percent,Period=10\", \"HVOL\",$O$4,-A74,$O$6,$O$10,,$O$8,$O$12)","v":11.18949564617307}]
[73,{"$f":" RTD(\"cqg.rtd\",,\"StudyData\", $O$2, \"BAR\", \"\", \"Time\", $O$4,-$A75,$O$6,$O$10, \"\",\"False\",\"T\")","v":"2023-06-26"},{"$f":" RTD(\"cqg.rtd\",,\"StudyData\", $O$2, \"BAR\", \"\", \"Open\", $O$4, -$A75, $O$6,$O$10,,$O$8,$O$12)","v":4439.5},{"$f":" RTD(\"cqg.rtd\",,\"StudyData\", $O$2, \"BAR\", \"\", \"High\", $O$4, -$A75, $O$6,$O$10,,$O$8,$O$12)","v":4452.5},{"$f":" RTD(\"cqg.rtd\",,\"StudyData\", $O$2, \"BAR\", \"\", \"Low\", $O$4, -$A75, $O$6,$O$10,,$O$8,$O$12)","v":4418},{"$f":" RTD(\"cqg.rtd\",,\"StudyData\", $O$2, \"BAR\", \"\", \"Close\", $O$4, -$A75, $O$6,$O$10,,$O$8,$O$12)","v":4419.75},{"$f":" RTD(\"cqg.rtd\",,\"StudyData\", $O$2, \"HVol\", \"InputChoice=Close,HvolType=Percent,Period=10\", \"HVOL\",$O$4,-A75,$O$6,$O$10,,$O$8,$O$12)","v":10.703864217214926}]
[74,{"$f":" RTD(\"cqg.rtd\",,\"StudyData\", $O$2, \"BAR\", \"\", \"Time\", $O$4,-$A76,$O$6,$O$10, \"\",\"False\",\"T\")","v":"2023-06-23"},{"$f":" RTD(\"cqg.rtd\",,\"StudyData\", $O$2, \"BAR\", \"\", \"Open\", $O$4, -$A76, $O$6,$O$10,,$O$8,$O$12)","v":4475.25},{"$f":" RTD(\"cqg.rtd\",,\"StudyData\", $O$2, \"BAR\", \"\", \"High\", $O$4, -$A76, $O$6,$O$10,,$O$8,$O$12)","v":4475.75},{"$f":" RTD(\"cqg.rtd\",,\"StudyData\", $O$2, \"BAR\", \"\", \"Low\", $O$4, -$A76, $O$6,$O$10,,$O$8,$O$12)","v":4431},{"$f":" RTD(\"cqg.rtd\",,\"StudyData\", $O$2, \"BAR\", \"\", \"Close\", $O$4, -$A76, $O$6,$O$10,,$O$8,$O$12)","v":4438.5},{"$f":" RTD(\"cqg.rtd\",,\"StudyData\", $O$2, \"HVol\", \"InputChoice=Close,HvolType=Percent,Period=10\", \"HVOL\",$O$4,-A76,$O$6,$O$10,,$O$8,$O$12)","v":10.378304664277785}]
[75,{"$f":" RTD(\"cqg.rtd\",,\"StudyData\", $O$2, \"BAR\", \"\", \"Time\", $O$4,-$A77,$O$6,$O$10, \"\",\"False\",\"T\")","v":"2023-06-22"},{"$f":" RTD(\"cqg.rtd\",,\"StudyData\", $O$2, \"BAR\", \"\", \"Open\", $O$4, -$A77, $O$6,$O$10,,$O$8,$O$12)","v":4459.5},{"$f":" RTD(\"cqg.rtd\",,\"StudyData\", $O$2, \"BAR\", \"\", \"High\", $O$4, -$A77, $O$6,$O$10,,$O$8,$O$12)","v":4476.5},{"$f":" RTD(\"cqg.rtd\",,\"StudyData\", $O$2, \"BAR\", \"\", \"Low\", $O$4, -$A77, $O$6,$O$10,,$O$8,$O$12)","v":4442.5},{"$f":" RTD(\"cqg.rtd\",,\"StudyData\", $O$2, \"BAR\", \"\", \"Close\", $O$4, -$A77, $O$6,$O$10,,$O$8,$O$12)","v":4473.25},{"$f":" RTD(\"cqg.rtd\",,\"StudyData\", $O$2, \"HVol\", \"InputChoice=Close,HvolType=Percent,Period=10\", \"HVOL\",$O$4,-A77,$O$6,$O$10,,$O$8,$O$12)","v":9.3003987511812323}]
[76,{"$f":" RTD(\"cqg.rtd\",,\"StudyData\", $O$2, \"BAR\", \"\", \"Time\", $O$4,-$A78,$O$6,$O$10, \"\",\"False\",\"T\")","v":"2023-06-21"},{"$f":" RTD(\"cqg.rtd\",,\"StudyData\", $O$2, \"BAR\", \"\", \"Open\", $O$4, -$A78, $O$6,$O$10,,$O$8,$O$12)","v":4479.75},{"$f":" RTD(\"cqg.rtd\",,\"StudyData\", $O$2, \"BAR\", \"\", \"High\", $O$4, -$A78, $O$6,$O$10,,$O$8,$O$12)","v":4488},{"$f":" RTD(\"cqg.rtd\",,\"StudyData\", $O$2, \"BAR\", \"\", \"Low\", $O$4, -$A78, $O$6,$O$10,,$O$8,$O$12)","v":4453},{"$f":" RTD(\"cqg.rtd\",,\"StudyData\", $O$2, \"BAR\", \"\", \"Close\", $O$4, -$A78, $O$6,$O$10,,$O$8,$O$12)","v":4458.75},{"$f":" RTD(\"cqg.rtd\",,\"StudyData\", $O$2, \"HVol\", \"InputChoice=Close,HvolType=Percent,Period=10\", \"HVOL\",$O$4,-A78,$O$6,$O$10,,$O$8,$O$12)","v":9.7377319256633079}]
[77,{"$f":" RTD(\"cqg.rtd\",,\"StudyData\", $O$2, \"BAR\", \"\", \"Time\", $O$4,-$A79,$O$6,$O$10, \"\",\"False\",\"T\")","v":"2023-06-20"},{"$f":" RTD(\"cqg.rtd\",,\"StudyData\", $O$2, \"BAR\", \"\", \"Open\", $O$4, -$A79, $O$6,$O$10,,$O$8,$O$12)","v":4507.5},{"$f":" RTD(\"cqg.rtd\",,\"StudyData\", $O$2, \"BAR\", \"\", \"High\", $O$4, -$A79, $O$6,$O$10,,$O$8,$O$12)","v":4511.5},{"$f":" RTD(\"cqg.rtd\",,\"StudyData\", $O$2, \"BAR\", \"\", \"Low\", $O$4, -$A79, $O$6,$O$10,,$O$8,$O$12)","v":4460},{"$f":" RTD(\"cqg.rtd\",,\"StudyData\", $O$2, \"BAR\", \"\", \"Close\", $O$4, -$A79, $O$6,$O$10,,$O$8,$O$12)","v":4484.25},{"$f":" RTD(\"cqg.rtd\",,\"StudyData\", $O$2, \"HVol\", \"InputChoice=Close,HvolType=Percent,Period=10\", \"HVOL\",$O$4,-A79,$O$6,$O$10,,$O$8,$O$12)","v":8.8283064196102909}]
[78,{"$f":" RTD(\"cqg.rtd\",,\"StudyData\", $O$2, \"BAR\", \"\", \"Time\", $O$4,-$A80,$O$6,$O$10, \"\",\"False\",\"T\")","v":"2023-06-16"},{"$f":" RTD(\"cqg.rtd\",,\"StudyData\", $O$2, \"BAR\", \"\", \"Open\", $O$4, -$A80, $O$6,$O$10,,$O$8,$O$12)","v":4518.5},{"$f":" RTD(\"cqg.rtd\",,\"StudyData\", $O$2, \"BAR\", \"\", \"High\", $O$4, -$A80, $O$6,$O$10,,$O$8,$O$12)","v":4543.25},{"$f":" RTD(\"cqg.rtd\",,\"StudyData\", $O$2, \"BAR\", \"\", \"Low\", $O$4, -$A80, $O$6,$O$10,,$O$8,$O$12)","v":4500.5},{"$f":" RTD(\"cqg.rtd\",,\"StudyData\", $O$2, \"BAR\", \"\", \"Close\", $O$4, -$A80, $O$6,$O$10,,$O$8,$O$12)","v":4503.25},{"$f":" RTD(\"cqg.rtd\",,\"StudyData\", $O$2, \"HVol\", \"InputChoice=Close,HvolType=Percent,Period=10\", \"HVOL\",$O$4,-A80,$O$6,$O$10,,$O$8,$O$12)","v":8.3593393284530784}]
[79,{"$f":" RTD(\"cqg.rtd\",,\"StudyData\", $O$2, \"BAR\", \"\", \"Time\", $O$4,-$A81,$O$6,$O$10, \"\",\"False\",\"T\")","v":"2023-06-15"},{"$f":" RTD(\"cqg.rtd\",,\"StudyData\", $O$2, \"BAR\", \"\", \"Open\", $O$4, -$A81, $O$6,$O$10,,$O$8,$O$12)","v":4472.25},{"$f":" RTD(\"cqg.rtd\",,\"StudyData\", $O$2, \"BAR\", \"\", \"High\", $O$4, -$A81, $O$6,$O$10,,$O$8,$O$12)","v":4535},{"$f":" RTD(\"cqg.rtd\",,\"StudyData\", $O$2, \"BAR\", \"\", \"Low\", $O$4, -$A81, $O$6,$O$10,,$O$8,$O$12)","v":4443.25},{"$f":" RTD(\"cqg.rtd\",,\"StudyData\", $O$2, \"BAR\", \"\", \"Close\", $O$4, -$A81, $O$6,$O$10,,$O$8,$O$12)","v":4520.75},{"$f":" RTD(\"cqg.rtd\",,\"StudyData\", $O$2, \"HVol\", \"InputChoice=Close,HvolType=Percent,Period=10\", \"HVOL\",$O$4,-A81,$O$6,$O$10,,$O$8,$O$12)","v":9.1274184153102187}]
[80,{"$f":" RTD(\"cqg.rtd\",,\"StudyData\", $O$2, \"BAR\", \"\", \"Time\", $O$4,-$A82,$O$6,$O$10, \"\",\"False\",\"T\")","v":"2023-06-14"},{"$f":" RTD(\"cqg.rtd\",,\"StudyData\", $O$2, \"BAR\", \"\", \"Open\", $O$4, -$A82, $O$6,$O$10,,$O$8,$O$12)","v":4466.75},{"$f":" RTD(\"cqg.rtd\",,\"StudyData\", $O$2, \"BAR\", \"\", \"High\", $O$4, -$A82, $O$6,$O$10,,$O$8,$O$12)","v":4489},{"$f":" RTD(\"cqg.rtd\",,\"StudyData\", $O$2, \"BAR\", \"\", \"Low\", $O$4, -$A82, $O$6,$O$10,,$O$8,$O$12)","v":4433},{"$f":" RTD(\"cqg.rtd\",,\"StudyData\", $O$2, \"BAR\", \"\", \"Close\", $O$4, -$A82, $O$6,$O$10,,$O$8,$O$12)","v":4468},{"$f":" RTD(\"cqg.rtd\",,\"StudyData\", $O$2, \"HVol\", \"InputChoice=Close,HvolType=Percent,Period=10\", \"HVOL\",$O$4,-A82,$O$6,$O$10,,$O$8,$O$12)","v":8.5617771636525113}]
[81,{"$f":" RTD(\"cqg.rtd\",,\"StudyData\", $O$2, \"BAR\", \"\", \"Time\", $O$4,-$A83,$O$6,$O$10, \"\",\"False\",\"T\")","v":"2023-06-13"},{"$f":" RTD(\"cqg.rtd\",,\"StudyData\", $O$2, \"BAR\", \"\", \"Open\", $O$4, -$A83, $O$6,$O$10,,$O$8,$O$12)","v":4439.25},{"$f":" RTD(\"cqg.rtd\",,\"StudyData\", $O$2, \"BAR\", \"\", \"High\", $O$4, -$A83, $O$6,$O$10,,$O$8,$O$12)","v":4472.75},{"$f":" RTD(\"cqg.rtd\",,\"StudyData\", $O$2, \"BAR\", \"\", \"Low\", $O$4, -$A83, $O$6,$O$10,,$O$8,$O$12)","v":4431.25},{"$f":" RTD(\"cqg.rtd\",,\"StudyData\", $O$2, \"BAR\", \"\", \"Close\", $O$4, -$A83, $O$6,$O$10,,$O$8,$O$12)","v":4466.25},{"$f":" RTD(\"cqg.rtd\",,\"StudyData\", $O$2, \"HVol\", \"InputChoice=Close,HvolType=Percent,Period=10\", \"HVOL\",$O$4,-A83,$O$6,$O$10,,$O$8,$O$12)","v":9.7720110452727482}]
[82,{"$f":" RTD(\"cqg.rtd\",,\"StudyData\", $O$2, \"BAR\", \"\", \"Time\", $O$4,-$A84,$O$6,$O$10, \"\",\"False\",\"T\")","v":"2023-06-12"},{"$f":" RTD(\"cqg.rtd\",,\"StudyData\", $O$2, \"BAR\", \"\", \"Open\", $O$4, -$A84, $O$6,$O$10,,$O$8,$O$12)","v":4399.25},{"$f":" RTD(\"cqg.rtd\",,\"StudyData\", $O$2, \"BAR\", \"\", \"High\", $O$4, -$A84, $O$6,$O$10,,$O$8,$O$12)","v":4440.75},{"$f":" RTD(\"cqg.rtd\",,\"StudyData\", $O$2, \"BAR\", \"\", \"Low\", $O$4, -$A84, $O$6,$O$10,,$O$8,$O$12)","v":4398.25},{"$f":" RTD(\"cqg.rtd\",,\"StudyData\", $O$2, \"BAR\", \"\", \"Close\", $O$4, -$A84, $O$6,$O$10,,$O$8,$O$12)","v":4437.5},{"$f":" RTD(\"cqg.rtd\",,\"StudyData\", $O$2, \"HVol\", \"InputChoice=Close,HvolType=Percent,Period=10\", \"HVOL\",$O$4,-A84,$O$6,$O$10,,$O$8,$O$12)","v":9.7501153568034269}]
[83,{"$f":" RTD(\"cqg.rtd\",,\"StudyData\", $O$2, \"BAR\", \"\", \"Time\", $O$4,-$A85,$O$6,$O$10, \"\",\"False\",\"T\")","v":"2023-06-09"},{"$f":" RTD(\"cqg.rtd\",,\"StudyData\", $O$2, \"BAR\", \"\", \"Open\", $O$4, -$A85, $O$6,$O$10,,$O$8,$O$12)","v":4391.25},{"$f":" RTD(\"cqg.rtd\",,\"StudyData\", $O$2, \"BAR\", \"\", \"High\", $O$4, -$A85, $O$6,$O$10,,$O$8,$O$12)","v":4419},{"$f":" RTD(\"cqg.rtd\",,\"StudyData\", $O$2, \"BAR\", \"\", \"Low\", $O$4, -$A85, $O$6,$O$10,,$O$8,$O$12)","v":4377.5},{"$f":" RTD(\"cqg.rtd\",,\"StudyData\", $O$2, \"BAR\", \"\", \"Close\", $O$4, -$A85, $O$6,$O$10,,$O$8,$O$12)","v":4398.25},{"$f":" RTD(\"cqg.rtd\",,\"StudyData\", $O$2, \"HVol\", \"InputChoice=Close,HvolType=Percent,Period=10\", \"HVOL\",$O$4,-A85,$O$6,$O$10,,$O$8,$O$12)","v":10.507455297634248}]
[84,{"$f":" RTD(\"cqg.rtd\",,\"StudyData\", $O$2, \"BAR\", \"\", \"Time\", $O$4,-$A86,$O$6,$O$10, \"\",\"False\",\"T\")","v":"2023-06-08"},{"$f":" RTD(\"cqg.rtd\",,\"StudyData\", $O$2, \"BAR\", \"\", \"Open\", $O$4, -$A86, $O$6,$O$10,,$O$8,$O$12)","v":4366.75},{"$f":" RTD(\"cqg.rtd\",,\"StudyData\", $O$2, \"BAR\", \"\", \"High\", $O$4, -$A86, $O$6,$O$10,,$O$8,$O$12)","v":4396},{"$f":" RTD(\"cqg.rtd\",,\"StudyData\", $O$2, \"BAR\", \"\", \"Low\", $O$4, -$A86, $O$6,$O$10,,$O$8,$O$12)","v":4356.25},{"$f":" RTD(\"cqg.rtd\",,\"StudyData\", $O$2, \"BAR\", \"\", \"Close\", $O$4, -$A86, $O$6,$O$10,,$O$8,$O$12)","v":4391.75},{"$f":" RTD(\"cqg.rtd\",,\"StudyData\", $O$2, \"HVol\", \"InputChoice=Close,HvolType=Percent,Period=10\", \"HVOL\",$O$4,-A86,$O$6,$O$10,,$O$8,$O$12)","v":10.684433666336316}]
[85,{"$f":" RTD(\"cqg.rtd\",,\"StudyData\", $O$2, \"BAR\", \"\", \"Time\", $O$4,-$A87,$O$6,$O$10, \"\",\"False\",\"T\")","v":"2023-06-07"},{"$f":" RTD(\"cqg.rtd\",,\"StudyData\", $O$2, \"BAR\", \"\", \"Open\", $O$4, -$A87, $O$6,$O$10,,$O$8,$O$12)","v":4385.75},{"$f":" RTD(\"cqg.rtd\",,\"StudyData\", $O$2, \"BAR\", \"\", \"High\", $O$4, -$A87, $O$6,$O$10,,$O$8,$O$12)","v":4398.25},{"$f":" RTD(\"cqg.rtd\",,\"StudyData\", $O$2, \"BAR\", \"\", \"Low\", $O$4, -$A87, $O$6,$O$10,,$O$8,$O$12)","v":4362.75},{"$f":" RTD(\"cqg.rtd\",,\"StudyData\", $O$2, \"BAR\", \"\", \"Close\", $O$4, -$A87, $O$6,$O$10,,$O$8,$O$12)","v":4367.75},{"$f":" RTD(\"cqg.rtd\",,\"StudyData\", $O$2, \"HVol\", \"InputChoice=Close,HvolType=Percent,Period=10\", \"HVOL\",$O$4,-A87,$O$6,$O$10,,$O$8,$O$12)","v":12.122399891917897}]
[86,{"$f":" RTD(\"cqg.rtd\",,\"StudyData\", $O$2, \"BAR\", \"\", \"Time\", $O$4,-$A88,$O$6,$O$10, \"\",\"False\",\"T\")","v":"2023-06-06"},{"$f":" RTD(\"cqg.rtd\",,\"StudyData\", $O$2, \"BAR\", \"\", \"Open\", $O$4, -$A88, $O$6,$O$10,,$O$8,$O$12)","v":4373.25},{"$f":" RTD(\"cqg.rtd\",,\"StudyData\", $O$2, \"BAR\", \"\", \"High\", $O$4, -$A88, $O$6,$O$10,,$O$8,$O$12)","v":4388.25},{"$f":" RTD(\"cqg.rtd\",,\"StudyData\", $O$2, \"BAR\", \"\", \"Low\", $O$4, -$A88, $O$6,$O$10,,$O$8,$O$12)","v":4362},{"$f":" RTD(\"cqg.rtd\",,\"StudyData\", $O$2, \"BAR\", \"\", \"Close\", $O$4, -$A88, $O$6,$O$10,,$O$8,$O$12)","v":4383.25},{"$f":" RTD(\"cqg.rtd\",,\"StudyData\", $O$2, \"HVol\", \"InputChoice=Close,HvolType=Percent,Period=10\", \"HVOL\",$O$4,-A88,$O$6,$O$10,,$O$8,$O$12)","v":13.603766722137005}]
[87,{"$f":" RTD(\"cqg.rtd\",,\"StudyData\", $O$2, \"BAR\", \"\", \"Time\", $O$4,-$A89,$O$6,$O$10, \"\",\"False\",\"T\")","v":"2023-06-05"},{"$f":" RTD(\"cqg.rtd\",,\"StudyData\", $O$2, \"BAR\", \"\", \"Open\", $O$4, -$A89, $O$6,$O$10,,$O$8,$O$12)","v":4381.5},{"$f":" RTD(\"cqg.rtd\",,\"StudyData\", $O$2, \"BAR\", \"\", \"High\", $O$4, -$A89, $O$6,$O$10,,$O$8,$O$12)","v":4399.25},{"$f":" RTD(\"cqg.rtd\",,\"StudyData\", $O$2, \"BAR\", \"\", \"Low\", $O$4, -$A89, $O$6,$O$10,,$O$8,$O$12)","v":4366.5},{"$f":" RTD(\"cqg.rtd\",,\"StudyData\", $O$2, \"BAR\", \"\", \"Close\", $O$4, -$A89, $O$6,$O$10,,$O$8,$O$12)","v":4374.5},{"$f":" RTD(\"cqg.rtd\",,\"StudyData\", $O$2, \"HVol\", \"InputChoice=Close,HvolType=Percent,Period=10\", \"HVOL\",$O$4,-A89,$O$6,$O$10,,$O$8,$O$12)","v":13.637878768591968}]
[88,{"$f":" RTD(\"cqg.rtd\",,\"StudyData\", $O$2, \"BAR\", \"\", \"Time\", $O$4,-$A90,$O$6,$O$10, \"\",\"False\",\"T\")","v":"2023-06-02"},{"$f":" RTD(\"cqg.rtd\",,\"StudyData\", $O$2, \"BAR\", \"\", \"Open\", $O$4, -$A90, $O$6,$O$10,,$O$8,$O$12)","v":4325.25},{"$f":" RTD(\"cqg.rtd\",,\"StudyData\", $O$2, \"BAR\", \"\", \"High\", $O$4, -$A90, $O$6,$O$10,,$O$8,$O$12)","v":4391.25},{"$f":" RTD(\"cqg.rtd\",,\"StudyData\", $O$2, \"BAR\", \"\", \"Low\", $O$4, -$A90, $O$6,$O$10,,$O$8,$O$12)","v":4322.5},{"$f":" RTD(\"cqg.rtd\",,\"StudyData\", $O$2, \"BAR\", \"\", \"Close\", $O$4, -$A90, $O$6,$O$10,,$O$8,$O$12)","v":4381.5},{"$f":" RTD(\"cqg.rtd\",,\"StudyData\", $O$2, \"HVol\", \"InputChoice=Close,HvolType=Percent,Period=10\", \"HVOL\",$O$4,-A90,$O$6,$O$10,,$O$8,$O$12)","v":13.643903927712776}]
[89,{"$f":" RTD(\"cqg.rtd\",,\"StudyData\", $O$2, \"BAR\", \"\", \"Time\", $O$4,-$A91,$O$6,$O$10, \"\",\"False\",\"T\")","v":"2023-06-01"},{"$f":" RTD(\"cqg.rtd\",,\"StudyData\", $O$2, \"BAR\", \"\", \"Open\", $O$4, -$A91, $O$6,$O$10,,$O$8,$O$12)","v":4282},{"$f":" RTD(\"cqg.rtd\",,\"StudyData\", $O$2, \"BAR\", \"\", \"High\", $O$4, -$A91, $O$6,$O$10,,$O$8,$O$12)","v":4333.25},{"$f":" RTD(\"cqg.rtd\",,\"StudyData\", $O$2, \"BAR\", \"\", \"Low\", $O$4, -$A91, $O$6,$O$10,,$O$8,$O$12)","v":4271.5},{"$f":" RTD(\"cqg.rtd\",,\"StudyData\", $O$2, \"BAR\", \"\", \"Close\", $O$4, -$A91, $O$6,$O$10,,$O$8,$O$12)","v":4321.5},{"$f":" RTD(\"cqg.rtd\",,\"StudyData\", $O$2, \"HVol\", \"InputChoice=Close,HvolType=Percent,Period=10\", \"HVOL\",$O$4,-A91,$O$6,$O$10,,$O$8,$O$12)","v":12.707224047760779}]
[90,{"$f":" RTD(\"cqg.rtd\",,\"StudyData\", $O$2, \"BAR\", \"\", \"Time\", $O$4,-$A92,$O$6,$O$10, \"\",\"False\",\"T\")","v":"2023-05-31"},{"$f":" RTD(\"cqg.rtd\",,\"StudyData\", $O$2, \"BAR\", \"\", \"Open\", $O$4, -$A92, $O$6,$O$10,,$O$8,$O$12)","v":4306.5},{"$f":" RTD(\"cqg.rtd\",,\"StudyData\", $O$2, \"BAR\", \"\", \"High\", $O$4, -$A92, $O$6,$O$10,,$O$8,$O$12)","v":4311.25},{"$f":" RTD(\"cqg.rtd\",,\"StudyData\", $O$2, \"BAR\", \"\", \"Low\", $O$4, -$A92, $O$6,$O$10,,$O$8,$O$12)","v":4267.5},{"$f":" RTD(\"cqg.rtd\",,\"StudyData\", $O$2, \"BAR\", \"\", \"Close\", $O$4, -$A92, $O$6,$O$10,,$O$8,$O$12)","v":4284},{"$f":" RTD(\"cqg.rtd\",,\"StudyData\", $O$2, \"HVol\", \"InputChoice=Close,HvolType=Percent,Period=10\", \"HVOL\",$O$4,-A92,$O$6,$O$10,,$O$8,$O$12)","v":13.216482109605705}]
[91,{"$f":" RTD(\"cqg.rtd\",,\"StudyData\", $O$2, \"BAR\", \"\", \"Time\", $O$4,-$A93,$O$6,$O$10, \"\",\"False\",\"T\")","v":"2023-05-30"},{"$f":" RTD(\"cqg.rtd\",,\"StudyData\", $O$2, \"BAR\", \"\", \"Open\", $O$4, -$A93, $O$6,$O$10,,$O$8,$O$12)","v":4333.25},{"$f":" RTD(\"cqg.rtd\",,\"StudyData\", $O$2, \"BAR\", \"\", \"High\", $O$4, -$A93, $O$6,$O$10,,$O$8,$O$12)","v":4336.75},{"$f":" RTD(\"cqg.rtd\",,\"StudyData\", $O$2, \"BAR\", \"\", \"Low\", $O$4, -$A93, $O$6,$O$10,,$O$8,$O$12)","v":4293.5},{"$f":" RTD(\"cqg.rtd\",,\"StudyData\", $O$2, \"BAR\", \"\", \"Close\", $O$4, -$A93, $O$6,$O$10,,$O$8,$O$12)","v":4308.5},{"$f":" RTD(\"cqg.rtd\",,\"StudyData\", $O$2, \"HVol\", \"InputChoice=Close,HvolType=Percent,Period=10\", \"HVOL\",$O$4,-A93,$O$6,$O$10,,$O$8,$O$12)","v":13.324225185435608}]
[92,{"$f":" RTD(\"cqg.rtd\",,\"StudyData\", $O$2, \"BAR\", \"\", \"Time\", $O$4,-$A94,$O$6,$O$10, \"\",\"False\",\"T\")","v":"2023-05-26"},{"$f":" RTD(\"cqg.rtd\",,\"StudyData\", $O$2, \"BAR\", \"\", \"Open\", $O$4, -$A94, $O$6,$O$10,,$O$8,$O$12)","v":4250.5},{"$f":" RTD(\"cqg.rtd\",,\"StudyData\", $O$2, \"BAR\", \"\", \"High\", $O$4, -$A94, $O$6,$O$10,,$O$8,$O$12)","v":4314.75},{"$f":" RTD(\"cqg.rtd\",,\"StudyData\", $O$2, \"BAR\", \"\", \"Low\", $O$4, -$A94, $O$6,$O$10,,$O$8,$O$12)","v":4239.5},{"$f":" RTD(\"cqg.rtd\",,\"StudyData\", $O$2, \"BAR\", \"\", \"Close\", $O$4, -$A94, $O$6,$O$10,,$O$8,$O$12)","v":4306.75},{"$f":" RTD(\"cqg.rtd\",,\"StudyData\", $O$2, \"HVol\", \"InputChoice=Close,HvolType=Percent,Period=10\", \"HVOL\",$O$4,-A94,$O$6,$O$10,,$O$8,$O$12)","v":13.321511132370119}]
[93,{"$f":" RTD(\"cqg.rtd\",,\"StudyData\", $O$2, \"BAR\", \"\", \"Time\", $O$4,-$A95,$O$6,$O$10, \"\",\"False\",\"T\")","v":"2023-05-25"},{"$f":" RTD(\"cqg.rtd\",,\"StudyData\", $O$2, \"BAR\", \"\", \"Open\", $O$4, -$A95, $O$6,$O$10,,$O$8,$O$12)","v":4250.5},{"$f":" RTD(\"cqg.rtd\",,\"StudyData\", $O$2, \"BAR\", \"\", \"High\", $O$4, -$A95, $O$6,$O$10,,$O$8,$O$12)","v":4269},{"$f":" RTD(\"cqg.rtd\",,\"StudyData\", $O$2, \"BAR\", \"\", \"Low\", $O$4, -$A95, $O$6,$O$10,,$O$8,$O$12)","v":4225},{"$f":" RTD(\"cqg.rtd\",,\"StudyData\", $O$2, \"BAR\", \"\", \"Close\", $O$4, -$A95, $O$6,$O$10,,$O$8,$O$12)","v":4253.25},{"$f":" RTD(\"cqg.rtd\",,\"StudyData\", $O$2, \"HVol\", \"InputChoice=Close,HvolType=Percent,Period=10\", \"HVOL\",$O$4,-A95,$O$6,$O$10,,$O$8,$O$12)","v":11.938809132570523}]
[94,{"$f":" RTD(\"cqg.rtd\",,\"StudyData\", $O$2, \"BAR\", \"\", \"Time\", $O$4,-$A96,$O$6,$O$10, \"\",\"False\",\"T\")","v":"2023-05-24"},{"$f":" RTD(\"cqg.rtd\",,\"StudyData\", $O$2, \"BAR\", \"\", \"Open\", $O$4, -$A96, $O$6,$O$10,,$O$8,$O$12)","v":4251.5},{"$f":" RTD(\"cqg.rtd\",,\"StudyData\", $O$2, \"BAR\", \"\", \"High\", $O$4, -$A96, $O$6,$O$10,,$O$8,$O$12)","v":4259.75},{"$f":" RTD(\"cqg.rtd\",,\"StudyData\", $O$2, \"BAR\", \"\", \"Low\", $O$4, -$A96, $O$6,$O$10,,$O$8,$O$12)","v":4207.5},{"$f":" RTD(\"cqg.rtd\",,\"StudyData\", $O$2, \"BAR\", \"\", \"Close\", $O$4, -$A96, $O$6,$O$10,,$O$8,$O$12)","v":4219.5},{"$f":" RTD(\"cqg.rtd\",,\"StudyData\", $O$2, \"HVol\", \"InputChoice=Close,HvolType=Percent,Period=10\", \"HVOL\",$O$4,-A96,$O$6,$O$10,,$O$8,$O$12)","v":11.193334669688872}]
[95,{"$f":" RTD(\"cqg.rtd\",,\"StudyData\", $O$2, \"BAR\", \"\", \"Time\", $O$4,-$A97,$O$6,$O$10, \"\",\"False\",\"T\")","v":"2023-05-23"},{"$f":" RTD(\"cqg.rtd\",,\"StudyData\", $O$2, \"BAR\", \"\", \"Open\", $O$4, -$A97, $O$6,$O$10,,$O$8,$O$12)","v":4301},{"$f":" RTD(\"cqg.rtd\",,\"StudyData\", $O$2, \"BAR\", \"\", \"High\", $O$4, -$A97, $O$6,$O$10,,$O$8,$O$12)","v":4316.25},{"$f":" RTD(\"cqg.rtd\",,\"StudyData\", $O$2, \"BAR\", \"\", \"Low\", $O$4, -$A97, $O$6,$O$10,,$O$8,$O$12)","v":4246.5},{"$f":" RTD(\"cqg.rtd\",,\"StudyData\", $O$2, \"BAR\", \"\", \"Close\", $O$4, -$A97, $O$6,$O$10,,$O$8,$O$12)","v":4252.25},{"$f":" RTD(\"cqg.rtd\",,\"StudyData\", $O$2, \"HVol\", \"InputChoice=Close,HvolType=Percent,Period=10\", \"HVOL\",$O$4,-A97,$O$6,$O$10,,$O$8,$O$12)","v":10.668033055801397}]
[96,{"$f":" RTD(\"cqg.rtd\",,\"StudyData\", $O$2, \"BAR\", \"\", \"Time\", $O$4,-$A98,$O$6,$O$10, \"\",\"False\",\"T\")","v":"2023-05-22"},{"$f":" RTD(\"cqg.rtd\",,\"StudyData\", $O$2, \"BAR\", \"\", \"Open\", $O$4, -$A98, $O$6,$O$10,,$O$8,$O$12)","v":4282.5},{"$f":" RTD(\"cqg.rtd\",,\"StudyData\", $O$2, \"BAR\", \"\", \"High\", $O$4, -$A98, $O$6,$O$10,,$O$8,$O$12)","v":4315.25},{"$f":" RTD(\"cqg.rtd\",,\"StudyData\", $O$2, \"BAR\", \"\", \"Low\", $O$4, -$A98, $O$6,$O$10,,$O$8,$O$12)","v":4280},{"$f":" RTD(\"cqg.rtd\",,\"StudyData\", $O$2, \"BAR\", \"\", \"Close\", $O$4, -$A98, $O$6,$O$10,,$O$8,$O$12)","v":4298.5},{"$f":" RTD(\"cqg.rtd\",,\"StudyData\", $O$2, \"HVol\", \"InputChoice=Close,HvolType=Percent,Period=10\", \"HVOL\",$O$4,-A98,$O$6,$O$10,,$O$8,$O$12)","v":9.1551733283733991}]
[97,{"$f":" RTD(\"cqg.rtd\",,\"StudyData\", $O$2, \"BAR\", \"\", \"Time\", $O$4,-$A99,$O$6,$O$10, \"\",\"False\",\"T\")","v":"2023-05-19"},{"$f":" RTD(\"cqg.rtd\",,\"StudyData\", $O$2, \"BAR\", \"\", \"Open\", $O$4, -$A99, $O$6,$O$10,,$O$8,$O$12)","v":4309},{"$f":" RTD(\"cqg.rtd\",,\"StudyData\", $O$2, \"BAR\", \"\", \"High\", $O$4, -$A99, $O$6,$O$10,,$O$8,$O$12)","v":4320.75},{"$f":" RTD(\"cqg.rtd\",,\"StudyData\", $O$2, \"BAR\", \"\", \"Low\", $O$4, -$A99, $O$6,$O$10,,$O$8,$O$12)","v":4285},{"$f":" RTD(\"cqg.rtd\",,\"StudyData\", $O$2, \"BAR\", \"\", \"Close\", $O$4, -$A99, $O$6,$O$10,,$O$8,$O$12)","v":4298.25},{"$f":" RTD(\"cqg.rtd\",,\"StudyData\", $O$2, \"HVol\", \"InputChoice=Close,HvolType=Percent,Period=10\", \"HVOL\",$O$4,-A99,$O$6,$O$10,,$O$8,$O$12)","v":9.1399908713674076}]
[98,{"$f":" RTD(\"cqg.rtd\",,\"StudyData\", $O$2, \"BAR\", \"\", \"Time\", $O$4,-$A100,$O$6,$O$10, \"\",\"False\",\"T\")","v":"2023-05-18"},{"$f":" RTD(\"cqg.rtd\",,\"StudyData\", $O$2, \"BAR\", \"\", \"Open\", $O$4, -$A100, $O$6,$O$10,,$O$8,$O$12)","v":4264.75},{"$f":" RTD(\"cqg.rtd\",,\"StudyData\", $O$2, \"BAR\", \"\", \"High\", $O$4, -$A100, $O$6,$O$10,,$O$8,$O$12)","v":4309.25},{"$f":" RTD(\"cqg.rtd\",,\"StudyData\", $O$2, \"BAR\", \"\", \"Low\", $O$4, -$A100, $O$6,$O$10,,$O$8,$O$12)","v":4254.75},{"$f":" RTD(\"cqg.rtd\",,\"StudyData\", $O$2, \"BAR\", \"\", \"Close\", $O$4, -$A100, $O$6,$O$10,,$O$8,$O$12)","v":4305.5},{"$f":" RTD(\"cqg.rtd\",,\"StudyData\", $O$2, \"HVol\", \"InputChoice=Close,HvolType=Percent,Period=10\", \"HVOL\",$O$4,-A100,$O$6,$O$10,,$O$8,$O$12)","v":12.1158103936675}]
[99,{"$f":" RTD(\"cqg.rtd\",,\"StudyData\", $O$2, \"BAR\", \"\", \"Time\", $O$4,-$A101,$O$6,$O$10, \"\",\"False\",\"T\")","v":"2023-05-17"},{"$f":" RTD(\"cqg.rtd\",,\"StudyData\", $O$2, \"BAR\", \"\", \"Open\", $O$4, -$A101, $O$6,$O$10,,$O$8,$O$12)","v":4219.5},{"$f":" RTD(\"cqg.rtd\",,\"StudyData\", $O$2, \"BAR\", \"\", \"High\", $O$4, -$A101, $O$6,$O$10,,$O$8,$O$12)","v":4272.5},{"$f":" RTD(\"cqg.rtd\",,\"StudyData\", $O$2, \"BAR\", \"\", \"Low\", $O$4, -$A101, $O$6,$O$10,,$O$8,$O$12)","v":4215.5},{"$f":" RTD(\"cqg.rtd\",,\"StudyData\", $O$2, \"BAR\", \"\", \"Close\", $O$4, -$A101, $O$6,$O$10,,$O$8,$O$12)","v":4265},{"$f":" RTD(\"cqg.rtd\",,\"StudyData\", $O$2, \"HVol\", \"InputChoice=Close,HvolType=Percent,Period=10\", \"HVOL\",$O$4,-A101,$O$6,$O$10,,$O$8,$O$12)","v":12.66085511966387}]
[100,{"$f":" RTD(\"cqg.rtd\",,\"StudyData\", $O$2, \"BAR\", \"\", \"Time\", $O$4,-$A102,$O$6,$O$10, \"\",\"False\",\"T\")","v":"2023-05-16"},{"$f":" RTD(\"cqg.rtd\",,\"StudyData\", $O$2, \"BAR\", \"\", \"Open\", $O$4, -$A102, $O$6,$O$10,,$O$8,$O$12)","v":4241.75},{"$f":" RTD(\"cqg.rtd\",,\"StudyData\", $O$2, \"BAR\", \"\", \"High\", $O$4, -$A102, $O$6,$O$10,,$O$8,$O$12)","v":4245},{"$f":" RTD(\"cqg.rtd\",,\"StudyData\", $O$2, \"BAR\", \"\", \"Low\", $O$4, -$A102, $O$6,$O$10,,$O$8,$O$12)","v":4213.5},{"$f":" RTD(\"cqg.rtd\",,\"StudyData\", $O$2, \"BAR\", \"\", \"Close\", $O$4, -$A102, $O$6,$O$10,,$O$8,$O$12)","v":4216.5},{"$f":" RTD(\"cqg.rtd\",,\"StudyData\", $O$2, \"HVol\", \"InputChoice=Close,HvolType=Percent,Period=10\", \"HVOL\",$O$4,-A102,$O$6,$O$10,,$O$8,$O$12)","v":11.965760162603905}]
[101,{"$f":" RTD(\"cqg.rtd\",,\"StudyData\", $O$2, \"BAR\", \"\", \"Time\", $O$4,-$A103,$O$6,$O$10, \"\",\"False\",\"T\")","v":"2023-05-15"},{"$f":" RTD(\"cqg.rtd\",,\"StudyData\", $O$2, \"BAR\", \"\", \"Open\", $O$4, -$A103, $O$6,$O$10,,$O$8,$O$12)","v":4225.75},{"$f":" RTD(\"cqg.rtd\",,\"StudyData\", $O$2, \"BAR\", \"\", \"High\", $O$4, -$A103, $O$6,$O$10,,$O$8,$O$12)","v":4249.75},{"$f":" RTD(\"cqg.rtd\",,\"StudyData\", $O$2, \"BAR\", \"\", \"Low\", $O$4, -$A103, $O$6,$O$10,,$O$8,$O$12)","v":4216.5},{"$f":" RTD(\"cqg.rtd\",,\"StudyData\", $O$2, \"BAR\", \"\", \"Close\", $O$4, -$A103, $O$6,$O$10,,$O$8,$O$12)","v":4243.5},{"$f":" RTD(\"cqg.rtd\",,\"StudyData\", $O$2, \"HVol\", \"InputChoice=Close,HvolType=Percent,Period=10\", \"HVOL\",$O$4,-A103,$O$6,$O$10,,$O$8,$O$12)","v":12.914657282520299}]
[102,{"$f":" RTD(\"cqg.rtd\",,\"StudyData\", $O$2, \"BAR\", \"\", \"Time\", $O$4,-$A104,$O$6,$O$10, \"\",\"False\",\"T\")","v":"2023-05-12"},{"$f":" RTD(\"cqg.rtd\",,\"StudyData\", $O$2, \"BAR\", \"\", \"Open\", $O$4, -$A104, $O$6,$O$10,,$O$8,$O$12)","v":4238},{"$f":" RTD(\"cqg.rtd\",,\"StudyData\", $O$2, \"BAR\", \"\", \"High\", $O$4, -$A104, $O$6,$O$10,,$O$8,$O$12)","v":4258},{"$f":" RTD(\"cqg.rtd\",,\"StudyData\", $O$2, \"BAR\", \"\", \"Low\", $O$4, -$A104, $O$6,$O$10,,$O$8,$O$12)","v":4205.25},{"$f":" RTD(\"cqg.rtd\",,\"StudyData\", $O$2, \"BAR\", \"\", \"Close\", $O$4, -$A104, $O$6,$O$10,,$O$8,$O$12)","v":4231.5},{"$f":" RTD(\"cqg.rtd\",,\"StudyData\", $O$2, \"HVol\", \"InputChoice=Close,HvolType=Percent,Period=10\", \"HVOL\",$O$4,-A104,$O$6,$O$10,,$O$8,$O$12)","v":12.758148049917132}]
[103,{"$f":" RTD(\"cqg.rtd\",,\"StudyData\", $O$2, \"BAR\", \"\", \"Time\", $O$4,-$A105,$O$6,$O$10, \"\",\"False\",\"T\")","v":"2023-05-11"},{"$f":" RTD(\"cqg.rtd\",,\"StudyData\", $O$2, \"BAR\", \"\", \"Open\", $O$4, -$A105, $O$6,$O$10,,$O$8,$O$12)","v":4246.25},{"$f":" RTD(\"cqg.rtd\",,\"StudyData\", $O$2, \"BAR\", \"\", \"High\", $O$4, -$A105, $O$6,$O$10,,$O$8,$O$12)","v":4262},{"$f":" RTD(\"cqg.rtd\",,\"StudyData\", $O$2, \"BAR\", \"\", \"Low\", $O$4, -$A105, $O$6,$O$10,,$O$8,$O$12)","v":4215},{"$f":" RTD(\"cqg.rtd\",,\"StudyData\", $O$2, \"BAR\", \"\", \"Close\", $O$4, -$A105, $O$6,$O$10,,$O$8,$O$12)","v":4237.25},{"$f":" RTD(\"cqg.rtd\",,\"StudyData\", $O$2, \"HVol\", \"InputChoice=Close,HvolType=Percent,Period=10\", \"HVOL\",$O$4,-A105,$O$6,$O$10,,$O$8,$O$12)","v":13.581416523666684}]
[104,{"$f":" RTD(\"cqg.rtd\",,\"StudyData\", $O$2, \"BAR\", \"\", \"Time\", $O$4,-$A106,$O$6,$O$10, \"\",\"False\",\"T\")","v":"2023-05-10"},{"$f":" RTD(\"cqg.rtd\",,\"StudyData\", $O$2, \"BAR\", \"\", \"Open\", $O$4, -$A106, $O$6,$O$10,,$O$8,$O$12)","v":4226.5},{"$f":" RTD(\"cqg.rtd\",,\"StudyData\", $O$2, \"BAR\", \"\", \"High\", $O$4, -$A106, $O$6,$O$10,,$O$8,$O$12)","v":4266.75},{"$f":" RTD(\"cqg.rtd\",,\"StudyData\", $O$2, \"BAR\", \"\", \"Low\", $O$4, -$A106, $O$6,$O$10,,$O$8,$O$12)","v":4205.75},{"$f":" RTD(\"cqg.rtd\",,\"StudyData\", $O$2, \"BAR\", \"\", \"Close\", $O$4, -$A106, $O$6,$O$10,,$O$8,$O$12)","v":4245.5},{"$f":" RTD(\"cqg.rtd\",,\"StudyData\", $O$2, \"HVol\", \"InputChoice=Close,HvolType=Percent,Period=10\", \"HVOL\",$O$4,-A106,$O$6,$O$10,,$O$8,$O$12)","v":16.44799381054289}]
[105,{"$f":" RTD(\"cqg.rtd\",,\"StudyData\", $O$2, \"BAR\", \"\", \"Time\", $O$4,-$A107,$O$6,$O$10, \"\",\"False\",\"T\")","v":"2023-05-09"},{"$f":" RTD(\"cqg.rtd\",,\"StudyData\", $O$2, \"BAR\", \"\", \"Open\", $O$4, -$A107, $O$6,$O$10,,$O$8,$O$12)","v":4244},{"$f":" RTD(\"cqg.rtd\",,\"StudyData\", $O$2, \"BAR\", \"\", \"High\", $O$4, -$A107, $O$6,$O$10,,$O$8,$O$12)","v":4246.5},{"$f":" RTD(\"cqg.rtd\",,\"StudyData\", $O$2, \"BAR\", \"\", \"Low\", $O$4, -$A107, $O$6,$O$10,,$O$8,$O$12)","v":4224.5},{"$f":" RTD(\"cqg.rtd\",,\"StudyData\", $O$2, \"BAR\", \"\", \"Close\", $O$4, -$A107, $O$6,$O$10,,$O$8,$O$12)","v":4227.5},{"$f":" RTD(\"cqg.rtd\",,\"StudyData\", $O$2, \"HVol\", \"InputChoice=Close,HvolType=Percent,Period=10\", \"HVOL\",$O$4,-A107,$O$6,$O$10,,$O$8,$O$12)","v":16.64052041699297}]
[106,{"$f":" RTD(\"cqg.rtd\",,\"StudyData\", $O$2, \"BAR\", \"\", \"Time\", $O$4,-$A108,$O$6,$O$10, \"\",\"False\",\"T\")","v":"2023-05-08"},{"$f":" RTD(\"cqg.rtd\",,\"StudyData\", $O$2, \"BAR\", \"\", \"Open\", $O$4, -$A108, $O$6,$O$10,,$O$8,$O$12)","v":4244.5},{"$f":" RTD(\"cqg.rtd\",,\"StudyData\", $O$2, \"BAR\", \"\", \"High\", $O$4, -$A108, $O$6,$O$10,,$O$8,$O$12)","v":4254.5},{"$f":" RTD(\"cqg.rtd\",,\"StudyData\", $O$2, \"BAR\", \"\", \"Low\", $O$4, -$A108, $O$6,$O$10,,$O$8,$O$12)","v":4231},{"$f":" RTD(\"cqg.rtd\",,\"StudyData\", $O$2, \"BAR\", \"\", \"Close\", $O$4, -$A108, $O$6,$O$10,,$O$8,$O$12)","v":4246.25},{"$f":" RTD(\"cqg.rtd\",,\"StudyData\", $O$2, \"HVol\", \"InputChoice=Close,HvolType=Percent,Period=10\", \"HVOL\",$O$4,-A108,$O$6,$O$10,,$O$8,$O$12)","v":18.486467473917898}]
[107,{"$f":" RTD(\"cqg.rtd\",,\"StudyData\", $O$2, \"BAR\", \"\", \"Time\", $O$4,-$A109,$O$6,$O$10, \"\",\"False\",\"T\")","v":"2023-05-05"},{"$f":" RTD(\"cqg.rtd\",,\"StudyData\", $O$2, \"BAR\", \"\", \"Open\", $O$4, -$A109, $O$6,$O$10,,$O$8,$O$12)","v":4170.75},{"$f":" RTD(\"cqg.rtd\",,\"StudyData\", $O$2, \"BAR\", \"\", \"High\", $O$4, -$A109, $O$6,$O$10,,$O$8,$O$12)","v":4256.75},{"$f":" RTD(\"cqg.rtd\",,\"StudyData\", $O$2, \"BAR\", \"\", \"Low\", $O$4, -$A109, $O$6,$O$10,,$O$8,$O$12)","v":4170.25},{"$f":" RTD(\"cqg.rtd\",,\"StudyData\", $O$2, \"BAR\", \"\", \"Close\", $O$4, -$A109, $O$6,$O$10,,$O$8,$O$12)","v":4243.75},{"$f":" RTD(\"cqg.rtd\",,\"StudyData\", $O$2, \"HVol\", \"InputChoice=Close,HvolType=Percent,Period=10\", \"HVOL\",$O$4,-A109,$O$6,$O$10,,$O$8,$O$12)","v":18.487087718386626}]
[108,{"$f":" RTD(\"cqg.rtd\",,\"StudyData\", $O$2, \"BAR\", \"\", \"Time\", $O$4,-$A110,$O$6,$O$10, \"\",\"False\",\"T\")","v":"2023-05-04"},{"$f":" RTD(\"cqg.rtd\",,\"StudyData\", $O$2, \"BAR\", \"\", \"Open\", $O$4, -$A110, $O$6,$O$10,,$O$8,$O$12)","v":4180.5},{"$f":" RTD(\"cqg.rtd\",,\"StudyData\", $O$2, \"BAR\", \"\", \"High\", $O$4, -$A110, $O$6,$O$10,,$O$8,$O$12)","v":4211.5},{"$f":" RTD(\"cqg.rtd\",,\"StudyData\", $O$2, \"BAR\", \"\", \"Low\", $O$4, -$A110, $O$6,$O$10,,$O$8,$O$12)","v":4155.75},{"$f":" RTD(\"cqg.rtd\",,\"StudyData\", $O$2, \"BAR\", \"\", \"Close\", $O$4, -$A110, $O$6,$O$10,,$O$8,$O$12)","v":4169.25},{"$f":" RTD(\"cqg.rtd\",,\"StudyData\", $O$2, \"HVol\", \"InputChoice=Close,HvolType=Percent,Period=10\", \"HVOL\",$O$4,-A110,$O$6,$O$10,,$O$8,$O$12)","v":15.639483887343944}]
[109,{"$f":" RTD(\"cqg.rtd\",,\"StudyData\", $O$2, \"BAR\", \"\", \"Time\", $O$4,-$A111,$O$6,$O$10, \"\",\"False\",\"T\")","v":"2023-05-03"},{"$f":" RTD(\"cqg.rtd\",,\"StudyData\", $O$2, \"BAR\", \"\", \"Open\", $O$4, -$A111, $O$6,$O$10,,$O$8,$O$12)","v":4226.75},{"$f":" RTD(\"cqg.rtd\",,\"StudyData\", $O$2, \"BAR\", \"\", \"High\", $O$4, -$A111, $O$6,$O$10,,$O$8,$O$12)","v":4260.5},{"$f":" RTD(\"cqg.rtd\",,\"StudyData\", $O$2, \"BAR\", \"\", \"Low\", $O$4, -$A111, $O$6,$O$10,,$O$8,$O$12)","v":4188.5},{"$f":" RTD(\"cqg.rtd\",,\"StudyData\", $O$2, \"BAR\", \"\", \"Close\", $O$4, -$A111, $O$6,$O$10,,$O$8,$O$12)","v":4201},{"$f":" RTD(\"cqg.rtd\",,\"StudyData\", $O$2, \"HVol\", \"InputChoice=Close,HvolType=Percent,Period=10\", \"HVOL\",$O$4,-A111,$O$6,$O$10,,$O$8,$O$12)","v":15.505163516939989}]
[110,{"$f":" RTD(\"cqg.rtd\",,\"StudyData\", $O$2, \"BAR\", \"\", \"Time\", $O$4,-$A112,$O$6,$O$10, \"\",\"False\",\"T\")","v":"2023-05-02"},{"$f":" RTD(\"cqg.rtd\",,\"StudyData\", $O$2, \"BAR\", \"\", \"Open\", $O$4, -$A112, $O$6,$O$10,,$O$8,$O$12)","v":4273},{"$f":" RTD(\"cqg.rtd\",,\"StudyData\", $O$2, \"BAR\", \"\", \"High\", $O$4, -$A112, $O$6,$O$10,,$O$8,$O$12)","v":4285},{"$f":" RTD(\"cqg.rtd\",,\"StudyData\", $O$2, \"BAR\", \"\", \"Low\", $O$4, -$A112, $O$6,$O$10,,$O$8,$O$12)","v":4199},{"$f":" RTD(\"cqg.rtd\",,\"StudyData\", $O$2, \"BAR\", \"\", \"Close\", $O$4, -$A112, $O$6,$O$10,,$O$8,$O$12)","v":4230.25},{"$f":" RTD(\"cqg.rtd\",,\"StudyData\", $O$2, \"HVol\", \"InputChoice=Close,HvolType=Percent,Period=10\", \"HVOL\",$O$4,-A112,$O$6,$O$10,,$O$8,$O$12)","v":15.228779135584087}]
[111,{"$f":" RTD(\"cqg.rtd\",,\"StudyData\", $O$2, \"BAR\", \"\", \"Time\", $O$4,-$A113,$O$6,$O$10, \"\",\"False\",\"T\")","v":"2023-05-01"},{"$f":" RTD(\"cqg.rtd\",,\"StudyData\", $O$2, \"BAR\", \"\", \"Open\", $O$4, -$A113, $O$6,$O$10,,$O$8,$O$12)","v":4283.5},{"$f":" RTD(\"cqg.rtd\",,\"StudyData\", $O$2, \"BAR\", \"\", \"High\", $O$4, -$A113, $O$6,$O$10,,$O$8,$O$12)","v":4299.75},{"$f":" RTD(\"cqg.rtd\",,\"StudyData\", $O$2, \"BAR\", \"\", \"Low\", $O$4, -$A113, $O$6,$O$10,,$O$8,$O$12)","v":4272},{"$f":" RTD(\"cqg.rtd\",,\"StudyData\", $O$2, \"BAR\", \"\", \"Close\", $O$4, -$A113, $O$6,$O$10,,$O$8,$O$12)","v":4279.25},{"$f":" RTD(\"cqg.rtd\",,\"StudyData\", $O$2, \"HVol\", \"InputChoice=Close,HvolType=Percent,Period=10\", \"HVOL\",$O$4,-A113,$O$6,$O$10,,$O$8,$O$12)","v":14.075791553326935}]
[112,{"$f":" RTD(\"cqg.rtd\",,\"StudyData\", $O$2, \"BAR\", \"\", \"Time\", $O$4,-$A114,$O$6,$O$10, \"\",\"False\",\"T\")","v":"2023-04-28"},{"$f":" RTD(\"cqg.rtd\",,\"StudyData\", $O$2, \"BAR\", \"\", \"Open\", $O$4, -$A114, $O$6,$O$10,,$O$8,$O$12)","v":4244.5},{"$f":" RTD(\"cqg.rtd\",,\"StudyData\", $O$2, \"BAR\", \"\", \"High\", $O$4, -$A114, $O$6,$O$10,,$O$8,$O$12)","v":4287.25},{"$f":" RTD(\"cqg.rtd\",,\"StudyData\", $O$2, \"BAR\", \"\", \"Low\", $O$4, -$A114, $O$6,$O$10,,$O$8,$O$12)","v":4225},{"$f":" RTD(\"cqg.rtd\",,\"StudyData\", $O$2, \"BAR\", \"\", \"Close\", $O$4, -$A114, $O$6,$O$10,,$O$8,$O$12)","v":4282},{"$f":" RTD(\"cqg.rtd\",,\"StudyData\", $O$2, \"HVol\", \"InputChoice=Close,HvolType=Percent,Period=10\", \"HVOL\",$O$4,-A114,$O$6,$O$10,,$O$8,$O$12)","v":14.132186318100876}]
[113,{"$f":" RTD(\"cqg.rtd\",,\"StudyData\", $O$2, \"BAR\", \"\", \"Time\", $O$4,-$A115,$O$6,$O$10, \"\",\"False\",\"T\")","v":"2023-04-27"},{"$f":" RTD(\"cqg.rtd\",,\"StudyData\", $O$2, \"BAR\", \"\", \"Open\", $O$4, -$A115, $O$6,$O$10,,$O$8,$O$12)","v":4179},{"$f":" RTD(\"cqg.rtd\",,\"StudyData\", $O$2, \"BAR\", \"\", \"High\", $O$4, -$A115, $O$6,$O$10,,$O$8,$O$12)","v":4260},{"$f":" RTD(\"cqg.rtd\",,\"StudyData\", $O$2, \"BAR\", \"\", \"Low\", $O$4, -$A115, $O$6,$O$10,,$O$8,$O$12)","v":4174.25},{"$f":" RTD(\"cqg.rtd\",,\"StudyData\", $O$2, \"BAR\", \"\", \"Close\", $O$4, -$A115, $O$6,$O$10,,$O$8,$O$12)","v":4247.25},{"$f":" RTD(\"cqg.rtd\",,\"StudyData\", $O$2, \"HVol\", \"InputChoice=Close,HvolType=Percent,Period=10\", \"HVOL\",$O$4,-A115,$O$6,$O$10,,$O$8,$O$12)","v":13.52547365981154}]
[114,{"$f":" RTD(\"cqg.rtd\",,\"StudyData\", $O$2, \"BAR\", \"\", \"Time\", $O$4,-$A116,$O$6,$O$10, \"\",\"False\",\"T\")","v":"2023-04-26"},{"$f":" RTD(\"cqg.rtd\",,\"StudyData\", $O$2, \"BAR\", \"\", \"Open\", $O$4, -$A116, $O$6,$O$10,,$O$8,$O$12)","v":4203.75},{"$f":" RTD(\"cqg.rtd\",,\"StudyData\", $O$2, \"BAR\", \"\", \"High\", $O$4, -$A116, $O$6,$O$10,,$O$8,$O$12)","v":4209.75},{"$f":" RTD(\"cqg.rtd\",,\"StudyData\", $O$2, \"BAR\", \"\", \"Low\", $O$4, -$A116, $O$6,$O$10,,$O$8,$O$12)","v":4162.25},{"$f":" RTD(\"cqg.rtd\",,\"StudyData\", $O$2, \"BAR\", \"\", \"Close\", $O$4, -$A116, $O$6,$O$10,,$O$8,$O$12)","v":4169.5},{"$f":" RTD(\"cqg.rtd\",,\"StudyData\", $O$2, \"HVol\", \"InputChoice=Close,HvolType=Percent,Period=10\", \"HVOL\",$O$4,-A116,$O$6,$O$10,,$O$8,$O$12)","v":11.369181035562992}]
[115,{"$f":" RTD(\"cqg.rtd\",,\"StudyData\", $O$2, \"BAR\", \"\", \"Time\", $O$4,-$A117,$O$6,$O$10, \"\",\"False\",\"T\")","v":"2023-04-25"},{"$f":" RTD(\"cqg.rtd\",,\"StudyData\", $O$2, \"BAR\", \"\", \"Open\", $O$4, -$A117, $O$6,$O$10,,$O$8,$O$12)","v":4250.75},{"$f":" RTD(\"cqg.rtd\",,\"StudyData\", $O$2, \"BAR\", \"\", \"High\", $O$4, -$A117, $O$6,$O$10,,$O$8,$O$12)","v":4252},{"$f":" RTD(\"cqg.rtd\",,\"StudyData\", $O$2, \"BAR\", \"\", \"Low\", $O$4, -$A117, $O$6,$O$10,,$O$8,$O$12)","v":4185},{"$f":" RTD(\"cqg.rtd\",,\"StudyData\", $O$2, \"BAR\", \"\", \"Close\", $O$4, -$A117, $O$6,$O$10,,$O$8,$O$12)","v":4186.75},{"$f":" RTD(\"cqg.rtd\",,\"StudyData\", $O$2, \"HVol\", \"InputChoice=Close,HvolType=Percent,Period=10\", \"HVOL\",$O$4,-A117,$O$6,$O$10,,$O$8,$O$12)","v":11.37047727298944}]
[116,{"$f":" RTD(\"cqg.rtd\",,\"StudyData\", $O$2, \"BAR\", \"\", \"Time\", $O$4,-$A118,$O$6,$O$10, \"\",\"False\",\"T\")","v":"2023-04-24"},{"$f":" RTD(\"cqg.rtd\",,\"StudyData\", $O$2, \"BAR\", \"\", \"Open\", $O$4, -$A118, $O$6,$O$10,,$O$8,$O$12)","v":4243.5},{"$f":" RTD(\"cqg.rtd\",,\"StudyData\", $O$2, \"BAR\", \"\", \"High\", $O$4, -$A118, $O$6,$O$10,,$O$8,$O$12)","v":4257.75},{"$f":" RTD(\"cqg.rtd\",,\"StudyData\", $O$2, \"BAR\", \"\", \"Low\", $O$4, -$A118, $O$6,$O$10,,$O$8,$O$12)","v":4227},{"$f":" RTD(\"cqg.rtd\",,\"StudyData\", $O$2, \"BAR\", \"\", \"Close\", $O$4, -$A118, $O$6,$O$10,,$O$8,$O$12)","v":4253},{"$f":" RTD(\"cqg.rtd\",,\"StudyData\", $O$2, \"HVol\", \"InputChoice=Close,HvolType=Percent,Period=10\", \"HVOL\",$O$4,-A118,$O$6,$O$10,,$O$8,$O$12)","v":7.9884194750877331}]
[117,{"$f":" RTD(\"cqg.rtd\",,\"StudyData\", $O$2, \"BAR\", \"\", \"Time\", $O$4,-$A119,$O$6,$O$10, \"\",\"False\",\"T\")","v":"2023-04-21"},{"$f":" RTD(\"cqg.rtd\",,\"StudyData\", $O$2, \"BAR\", \"\", \"Open\", $O$4, -$A119, $O$6,$O$10,,$O$8,$O$12)","v":4247.25},{"$f":" RTD(\"cqg.rtd\",,\"StudyData\", $O$2, \"BAR\", \"\", \"High\", $O$4, -$A119, $O$6,$O$10,,$O$8,$O$12)","v":4254.5},{"$f":" RTD(\"cqg.rtd\",,\"StudyData\", $O$2, \"BAR\", \"\", \"Low\", $O$4, -$A119, $O$6,$O$10,,$O$8,$O$12)","v":4228.75},{"$f":" RTD(\"cqg.rtd\",,\"StudyData\", $O$2, \"BAR\", \"\", \"Close\", $O$4, -$A119, $O$6,$O$10,,$O$8,$O$12)","v":4250.25},{"$f":" RTD(\"cqg.rtd\",,\"StudyData\", $O$2, \"HVol\", \"InputChoice=Close,HvolType=Percent,Period=10\", \"HVOL\",$O$4,-A119,$O$6,$O$10,,$O$8,$O$12)","v":7.9915217300631172}]
[118,{"$f":" RTD(\"cqg.rtd\",,\"StudyData\", $O$2, \"BAR\", \"\", \"Time\", $O$4,-$A120,$O$6,$O$10, \"\",\"False\",\"T\")","v":"2023-04-20"},{"$f":" RTD(\"cqg.rtd\",,\"StudyData\", $O$2, \"BAR\", \"\", \"Open\", $O$4, -$A120, $O$6,$O$10,,$O$8,$O$12)","v":4265.75},{"$f":" RTD(\"cqg.rtd\",,\"StudyData\", $O$2, \"BAR\", \"\", \"High\", $O$4, -$A120, $O$6,$O$10,,$O$8,$O$12)","v":4267},{"$f":" RTD(\"cqg.rtd\",,\"StudyData\", $O$2, \"BAR\", \"\", \"Low\", $O$4, -$A120, $O$6,$O$10,,$O$8,$O$12)","v":4230.5},{"$f":" RTD(\"cqg.rtd\",,\"StudyData\", $O$2, \"BAR\", \"\", \"Close\", $O$4, -$A120, $O$6,$O$10,,$O$8,$O$12)","v":4246},{"$f":" RTD(\"cqg.rtd\",,\"StudyData\", $O$2, \"HVol\", \"InputChoice=Close,HvolType=Percent,Period=10\", \"HVOL\",$O$4,-A120,$O$6,$O$10,,$O$8,$O$12)","v":7.9930912512357821}]
[119,{"$f":" RTD(\"cqg.rtd\",,\"StudyData\", $O$2, \"BAR\", \"\", \"Time\", $O$4,-$A121,$O$6,$O$10, \"\",\"False\",\"T\")","v":"2023-04-19"},{"$f":" RTD(\"cqg.rtd\",,\"StudyData\", $O$2, \"BAR\", \"\", \"Open\", $O$4, -$A121, $O$6,$O$10,,$O$8,$O$12)","v":4269.5},{"$f":" RTD(\"cqg.rtd\",,\"StudyData\", $O$2, \"BAR\", \"\", \"High\", $O$4, -$A121, $O$6,$O$10,,$O$8,$O$12)","v":4281},{"$f":" RTD(\"cqg.rtd\",,\"StudyData\", $O$2, \"BAR\", \"\", \"Low\", $O$4, -$A121, $O$6,$O$10,,$O$8,$O$12)","v":4244},{"$f":" RTD(\"cqg.rtd\",,\"StudyData\", $O$2, \"BAR\", \"\", \"Close\", $O$4, -$A121, $O$6,$O$10,,$O$8,$O$12)","v":4272},{"$f":" RTD(\"cqg.rtd\",,\"StudyData\", $O$2, \"HVol\", \"InputChoice=Close,HvolType=Percent,Period=10\", \"HVOL\",$O$4,-A121,$O$6,$O$10,,$O$8,$O$12)","v":7.1982459831626562}]
[120,{"$f":" RTD(\"cqg.rtd\",,\"StudyData\", $O$2, \"BAR\", \"\", \"Time\", $O$4,-$A122,$O$6,$O$10, \"\",\"False\",\"T\")","v":"2023-04-18"},{"$f":" RTD(\"cqg.rtd\",,\"StudyData\", $O$2, \"BAR\", \"\", \"Open\", $O$4, -$A122, $O$6,$O$10,,$O$8,$O$12)","v":4270.5},{"$f":" RTD(\"cqg.rtd\",,\"StudyData\", $O$2, \"BAR\", \"\", \"High\", $O$4, -$A122, $O$6,$O$10,,$O$8,$O$12)","v":4291.75},{"$f":" RTD(\"cqg.rtd\",,\"StudyData\", $O$2, \"BAR\", \"\", \"Low\", $O$4, -$A122, $O$6,$O$10,,$O$8,$O$12)","v":4258},{"$f":" RTD(\"cqg.rtd\",,\"StudyData\", $O$2, \"BAR\", \"\", \"Close\", $O$4, -$A122, $O$6,$O$10,,$O$8,$O$12)","v":4273.5},{"$f":" RTD(\"cqg.rtd\",,\"StudyData\", $O$2, \"HVol\", \"InputChoice=Close,HvolType=Percent,Period=10\", \"HVOL\",$O$4,-A122,$O$6,$O$10,,$O$8,$O$12)","v":7.4653949906918218}]
[121,{"$f":" RTD(\"cqg.rtd\",,\"StudyData\", $O$2, \"BAR\", \"\", \"Time\", $O$4,-$A123,$O$6,$O$10, \"\",\"False\",\"T\")","v":"2023-04-17"},{"$f":" RTD(\"cqg.rtd\",,\"StudyData\", $O$2, \"BAR\", \"\", \"Open\", $O$4, -$A123, $O$6,$O$10,,$O$8,$O$12)","v":4267.75},{"$f":" RTD(\"cqg.rtd\",,\"StudyData\", $O$2, \"BAR\", \"\", \"High\", $O$4, -$A123, $O$6,$O$10,,$O$8,$O$12)","v":4274},{"$f":" RTD(\"cqg.rtd\",,\"StudyData\", $O$2, \"BAR\", \"\", \"Low\", $O$4, -$A123, $O$6,$O$10,,$O$8,$O$12)","v":4241.5},{"$f":" RTD(\"cqg.rtd\",,\"StudyData\", $O$2, \"BAR\", \"\", \"Close\", $O$4, -$A123, $O$6,$O$10,,$O$8,$O$12)","v":4270.25},{"$f":" RTD(\"cqg.rtd\",,\"StudyData\", $O$2, \"HVol\", \"InputChoice=Close,HvolType=Percent,Period=10\", \"HVOL\",$O$4,-A123,$O$6,$O$10,,$O$8,$O$12)","v":8.2602437538231825}]
[122,{"$f":" RTD(\"cqg.rtd\",,\"StudyData\", $O$2, \"BAR\", \"\", \"Time\", $O$4,-$A124,$O$6,$O$10, \"\",\"False\",\"T\")","v":"2023-04-14"},{"$f":" RTD(\"cqg.rtd\",,\"StudyData\", $O$2, \"BAR\", \"\", \"Open\", $O$4, -$A124, $O$6,$O$10,,$O$8,$O$12)","v":4262.25},{"$f":" RTD(\"cqg.rtd\",,\"StudyData\", $O$2, \"BAR\", \"\", \"High\", $O$4, -$A124, $O$6,$O$10,,$O$8,$O$12)","v":4282.5},{"$f":" RTD(\"cqg.rtd\",,\"StudyData\", $O$2, \"BAR\", \"\", \"Low\", $O$4, -$A124, $O$6,$O$10,,$O$8,$O$12)","v":4231.5},{"$f":" RTD(\"cqg.rtd\",,\"StudyData\", $O$2, \"BAR\", \"\", \"Close\", $O$4, -$A124, $O$6,$O$10,,$O$8,$O$12)","v":4257.25},{"$f":" RTD(\"cqg.rtd\",,\"StudyData\", $O$2, \"HVol\", \"InputChoice=Close,HvolType=Percent,Period=10\", \"HVOL\",$O$4,-A124,$O$6,$O$10,,$O$8,$O$12)","v":8.3291844202796081}]
[123,{"$f":" RTD(\"cqg.rtd\",,\"StudyData\", $O$2, \"BAR\", \"\", \"Time\", $O$4,-$A125,$O$6,$O$10, \"\",\"False\",\"T\")","v":"2023-04-13"},{"$f":" RTD(\"cqg.rtd\",,\"StudyData\", $O$2, \"BAR\", \"\", \"Open\", $O$4, -$A125, $O$6,$O$10,,$O$8,$O$12)","v":4211},{"$f":" RTD(\"cqg.rtd\",,\"StudyData\", $O$2, \"BAR\", \"\", \"High\", $O$4, -$A125, $O$6,$O$10,,$O$8,$O$12)","v":4270.5},{"$f":" RTD(\"cqg.rtd\",,\"StudyData\", $O$2, \"BAR\", \"\", \"Low\", $O$4, -$A125, $O$6,$O$10,,$O$8,$O$12)","v":4203.75},{"$f":" RTD(\"cqg.rtd\",,\"StudyData\", $O$2, \"BAR\", \"\", \"Close\", $O$4, -$A125, $O$6,$O$10,,$O$8,$O$12)","v":4266.25},{"$f":" RTD(\"cqg.rtd\",,\"StudyData\", $O$2, \"HVol\", \"InputChoice=Close,HvolType=Percent,Period=10\", \"HVOL\",$O$4,-A125,$O$6,$O$10,,$O$8,$O$12)","v":10.427008383676515}]
[124,{"$f":" RTD(\"cqg.rtd\",,\"StudyData\", $O$2, \"BAR\", \"\", \"Time\", $O$4,-$A126,$O$6,$O$10, \"\",\"False\",\"T\")","v":"2023-04-12"},{"$f":" RTD(\"cqg.rtd\",,\"StudyData\", $O$2, \"BAR\", \"\", \"Open\", $O$4, -$A126, $O$6,$O$10,,$O$8,$O$12)","v":4231},{"$f":" RTD(\"cqg.rtd\",,\"StudyData\", $O$2, \"BAR\", \"\", \"High\", $O$4, -$A126, $O$6,$O$10,,$O$8,$O$12)","v":4271.25},{"$f":" RTD(\"cqg.rtd\",,\"StudyData\", $O$2, \"BAR\", \"\", \"Low\", $O$4, -$A126, $O$6,$O$10,,$O$8,$O$12)","v":4207},{"$f":" RTD(\"cqg.rtd\",,\"StudyData\", $O$2, \"BAR\", \"\", \"Close\", $O$4, -$A126, $O$6,$O$10,,$O$8,$O$12)","v":4212.5},{"$f":" RTD(\"cqg.rtd\",,\"StudyData\", $O$2, \"HVol\", \"InputChoice=Close,HvolType=Percent,Period=10\", \"HVOL\",$O$4,-A126,$O$6,$O$10,,$O$8,$O$12)","v":8.9002417064744428}]
[125,{"$f":" RTD(\"cqg.rtd\",,\"StudyData\", $O$2, \"BAR\", \"\", \"Time\", $O$4,-$A127,$O$6,$O$10, \"\",\"False\",\"T\")","v":"2023-04-11"},{"$f":" RTD(\"cqg.rtd\",,\"StudyData\", $O$2, \"BAR\", \"\", \"Open\", $O$4, -$A127, $O$6,$O$10,,$O$8,$O$12)","v":4232},{"$f":" RTD(\"cqg.rtd\",,\"StudyData\", $O$2, \"BAR\", \"\", \"High\", $O$4, -$A127, $O$6,$O$10,,$O$8,$O$12)","v":4245.25},{"$f":" RTD(\"cqg.rtd\",,\"StudyData\", $O$2, \"BAR\", \"\", \"Low\", $O$4, -$A127, $O$6,$O$10,,$O$8,$O$12)","v":4222.25},{"$f":" RTD(\"cqg.rtd\",,\"StudyData\", $O$2, \"BAR\", \"\", \"Close\", $O$4, -$A127, $O$6,$O$10,,$O$8,$O$12)","v":4230},{"$f":" RTD(\"cqg.rtd\",,\"StudyData\", $O$2, \"HVol\", \"InputChoice=Close,HvolType=Percent,Period=10\", \"HVOL\",$O$4,-A127,$O$6,$O$10,,$O$8,$O$12)","v":10.143441022262978}]
[126,{"$f":" RTD(\"cqg.rtd\",,\"StudyData\", $O$2, \"BAR\", \"\", \"Time\", $O$4,-$A128,$O$6,$O$10, \"\",\"False\",\"T\")","v":"2023-04-10"},{"$f":" RTD(\"cqg.rtd\",,\"StudyData\", $O$2, \"BAR\", \"\", \"Open\", $O$4, -$A128, $O$6,$O$10,,$O$8,$O$12)","v":4232.5},{"$f":" RTD(\"cqg.rtd\",,\"StudyData\", $O$2, \"BAR\", \"\", \"High\", $O$4, -$A128, $O$6,$O$10,,$O$8,$O$12)","v":4236.5},{"$f":" RTD(\"cqg.rtd\",,\"StudyData\", $O$2, \"BAR\", \"\", \"Low\", $O$4, -$A128, $O$6,$O$10,,$O$8,$O$12)","v":4192.25},{"$f":" RTD(\"cqg.rtd\",,\"StudyData\", $O$2, \"BAR\", \"\", \"Close\", $O$4, -$A128, $O$6,$O$10,,$O$8,$O$12)","v":4229.75},{"$f":" RTD(\"cqg.rtd\",,\"StudyData\", $O$2, \"HVol\", \"InputChoice=Close,HvolType=Percent,Period=10\", \"HVOL\",$O$4,-A128,$O$6,$O$10,,$O$8,$O$12)","v":10.296973453993647}]
[127,{"$f":" RTD(\"cqg.rtd\",,\"StudyData\", $O$2, \"BAR\", \"\", \"Time\", $O$4,-$A129,$O$6,$O$10, \"\",\"False\",\"T\")","v":"2023-04-07"},{"$f":" RTD(\"cqg.rtd\",,\"StudyData\", $O$2, \"BAR\", \"\", \"Open\", $O$4, -$A129, $O$6,$O$10,,$O$8,$O$12)","v":4222.5},{"$f":" RTD(\"cqg.rtd\",,\"StudyData\", $O$2, \"BAR\", \"\", \"High\", $O$4, -$A129, $O$6,$O$10,,$O$8,$O$12)","v":4240.25},{"$f":" RTD(\"cqg.rtd\",,\"StudyData\", $O$2, \"BAR\", \"\", \"Low\", $O$4, -$A129, $O$6,$O$10,,$O$8,$O$12)","v":4214.5},{"$f":" RTD(\"cqg.rtd\",,\"StudyData\", $O$2, \"BAR\", \"\", \"Close\", $O$4, -$A129, $O$6,$O$10,,$O$8,$O$12)","v":4225.5},{"$f":" RTD(\"cqg.rtd\",,\"StudyData\", $O$2, \"HVol\", \"InputChoice=Close,HvolType=Percent,Period=10\", \"HVOL\",$O$4,-A129,$O$6,$O$10,,$O$8,$O$12)","v":10.273289098794143}]
[128,{"$f":" RTD(\"cqg.rtd\",,\"StudyData\", $O$2, \"BAR\", \"\", \"Time\", $O$4,-$A130,$O$6,$O$10, \"\",\"False\",\"T\")","v":"2023-04-06"},{"$f":" RTD(\"cqg.rtd\",,\"StudyData\", $O$2, \"BAR\", \"\", \"Open\", $O$4, -$A130, $O$6,$O$10,,$O$8,$O$12)","v":4207.25},{"$f":" RTD(\"cqg.rtd\",,\"StudyData\", $O$2, \"BAR\", \"\", \"High\", $O$4, -$A130, $O$6,$O$10,,$O$8,$O$12)","v":4228.75},{"$f":" RTD(\"cqg.rtd\",,\"StudyData\", $O$2, \"BAR\", \"\", \"Low\", $O$4, -$A130, $O$6,$O$10,,$O$8,$O$12)","v":4190},{"$f":" RTD(\"cqg.rtd\",,\"StudyData\", $O$2, \"BAR\", \"\", \"Close\", $O$4, -$A130, $O$6,$O$10,,$O$8,$O$12)","v":4225.5},{"$f":" RTD(\"cqg.rtd\",,\"StudyData\", $O$2, \"HVol\", \"InputChoice=Close,HvolType=Percent,Period=10\", \"HVOL\",$O$4,-A130,$O$6,$O$10,,$O$8,$O$12)","v":10.180639952988628}]
[129,{"$f":" RTD(\"cqg.rtd\",,\"StudyData\", $O$2, \"BAR\", \"\", \"Time\", $O$4,-$A131,$O$6,$O$10, \"\",\"False\",\"T\")","v":"2023-04-05"},{"$f":" RTD(\"cqg.rtd\",,\"StudyData\", $O$2, \"BAR\", \"\", \"Open\", $O$4, -$A131, $O$6,$O$10,,$O$8,$O$12)","v":4227.5},{"$f":" RTD(\"cqg.rtd\",,\"StudyData\", $O$2, \"BAR\", \"\", \"High\", $O$4, -$A131, $O$6,$O$10,,$O$8,$O$12)","v":4229},{"$f":" RTD(\"cqg.rtd\",,\"StudyData\", $O$2, \"BAR\", \"\", \"Low\", $O$4, -$A131, $O$6,$O$10,,$O$8,$O$12)","v":4192.5},{"$f":" RTD(\"cqg.rtd\",,\"StudyData\", $O$2, \"BAR\", \"\", \"Close\", $O$4, -$A131, $O$6,$O$10,,$O$8,$O$12)","v":4210.75},{"$f":" RTD(\"cqg.rtd\",,\"StudyData\", $O$2, \"HVol\", \"InputChoice=Close,HvolType=Percent,Period=10\", \"HVOL\",$O$4,-A131,$O$6,$O$10,,$O$8,$O$12)","v":10.224908093486023}]
[{"$f":"A131+1","v":130},{"$f":" RTD(\"cqg.rtd\",,\"StudyData\", $O$2, \"BAR\", \"\", \"Time\", $O$4,-$A132,$O$6,$O$10, \"\",\"False\",\"T\")","v":"2023-04-04"},{"$f":" RTD(\"cqg.rtd\",,\"StudyData\", $O$2, \"BAR\", \"\", \"Open\", $O$4, -$A132, $O$6,$O$10,,$O$8,$O$12)","v":4246},{"$f":" RTD(\"cqg.rtd\",,\"StudyData\", $O$2, \"BAR\", \"\", \"High\", $O$4, -$A132, $O$6,$O$10,,$O$8,$O$12)","v":4265.25},{"$f":" RTD(\"cqg.rtd\",,\"StudyData\", $O$2, \"BAR\", \"\", \"Low\", $O$4, -$A132, $O$6,$O$10,,$O$8,$O$12)","v":4208.75},{"$f":" RTD(\"cqg.rtd\",,\"StudyData\", $O$2, \"BAR\", \"\", \"Close\", $O$4, -$A132, $O$6,$O$10,,$O$8,$O$12)","v":4222.5},{"$f":" RTD(\"cqg.rtd\",,\"StudyData\", $O$2, \"HVol\", \"InputChoice=Close,HvolType=Percent,Period=10\", \"HVOL\",$O$4,-A132,$O$6,$O$10,,$O$8,$O$12)","v":13.888442340354143}]
[131,{"$f":" RTD(\"cqg.rtd\",,\"StudyData\", $O$2, \"BAR\", \"\", \"Time\", $O$4,-$A133,$O$6,$O$10, \"\",\"False\",\"T\")","v":"2023-04-03"},{"$f":" RTD(\"cqg.rtd\",,\"StudyData\", $O$2, \"BAR\", \"\", \"Open\", $O$4, -$A133, $O$6,$O$10,,$O$8,$O$12)","v":4220.5},{"$f":" RTD(\"cqg.rtd\",,\"StudyData\", $O$2, \"BAR\", \"\", \"High\", $O$4, -$A133, $O$6,$O$10,,$O$8,$O$12)","v":4251.25},{"$f":" RTD(\"cqg.rtd\",,\"StudyData\", $O$2, \"BAR\", \"\", \"Low\", $O$4, -$A133, $O$6,$O$10,,$O$8,$O$12)","v":4216.25},{"$f":" RTD(\"cqg.rtd\",,\"StudyData\", $O$2, \"BAR\", \"\", \"Close\", $O$4, -$A133, $O$6,$O$10,,$O$8,$O$12)","v":4247.25},{"$f":" RTD(\"cqg.rtd\",,\"StudyData\", $O$2, \"HVol\", \"InputChoice=Close,HvolType=Percent,Period=10\", \"HVOL\",$O$4,-A133,$O$6,$O$10,,$O$8,$O$12)","v":14.018304341218142}]
[132,{"$f":" RTD(\"cqg.rtd\",,\"StudyData\", $O$2, \"BAR\", \"\", \"Time\", $O$4,-$A134,$O$6,$O$10, \"\",\"False\",\"T\")","v":"2023-03-31"},{"$f":" RTD(\"cqg.rtd\",,\"StudyData\", $O$2, \"BAR\", \"\", \"Open\", $O$4, -$A134, $O$6,$O$10,,$O$8,$O$12)","v":4174.5},{"$f":" RTD(\"cqg.rtd\",,\"StudyData\", $O$2, \"BAR\", \"\", \"High\", $O$4, -$A134, $O$6,$O$10,,$O$8,$O$12)","v":4236},{"$f":" RTD(\"cqg.rtd\",,\"StudyData\", $O$2, \"BAR\", \"\", \"Low\", $O$4, -$A134, $O$6,$O$10,,$O$8,$O$12)","v":4171.5},{"$f":" RTD(\"cqg.rtd\",,\"StudyData\", $O$2, \"BAR\", \"\", \"Close\", $O$4, -$A134, $O$6,$O$10,,$O$8,$O$12)","v":4231.25},{"$f":" RTD(\"cqg.rtd\",,\"StudyData\", $O$2, \"HVol\", \"InputChoice=Close,HvolType=Percent,Period=10\", \"HVOL\",$O$4,-A134,$O$6,$O$10,,$O$8,$O$12)","v":14.214285290116186}]
[133,{"$f":" RTD(\"cqg.rtd\",,\"StudyData\", $O$2, \"BAR\", \"\", \"Time\", $O$4,-$A135,$O$6,$O$10, \"\",\"False\",\"T\")","v":"2023-03-30"},{"$f":" RTD(\"cqg.rtd\",,\"StudyData\", $O$2, \"BAR\", \"\", \"Open\", $O$4, -$A135, $O$6,$O$10,,$O$8,$O$12)","v":4151.5},{"$f":" RTD(\"cqg.rtd\",,\"StudyData\", $O$2, \"BAR\", \"\", \"High\", $O$4, -$A135, $O$6,$O$10,,$O$8,$O$12)","v":4181.25},{"$f":" RTD(\"cqg.rtd\",,\"StudyData\", $O$2, \"BAR\", \"\", \"Low\", $O$4, -$A135, $O$6,$O$10,,$O$8,$O$12)","v":4146},{"$f":" RTD(\"cqg.rtd\",,\"StudyData\", $O$2, \"BAR\", \"\", \"Close\", $O$4, -$A135, $O$6,$O$10,,$O$8,$O$12)","v":4173.5},{"$f":" RTD(\"cqg.rtd\",,\"StudyData\", $O$2, \"HVol\", \"InputChoice=Close,HvolType=Percent,Period=10\", \"HVOL\",$O$4,-A135,$O$6,$O$10,,$O$8,$O$12)","v":15.305728094065413}]
[134,{"$f":" RTD(\"cqg.rtd\",,\"StudyData\", $O$2, \"BAR\", \"\", \"Time\", $O$4,-$A136,$O$6,$O$10, \"\",\"False\",\"T\")","v":"2023-03-29"},{"$f":" RTD(\"cqg.rtd\",,\"StudyData\", $O$2, \"BAR\", \"\", \"Open\", $O$4, -$A136, $O$6,$O$10,,$O$8,$O$12)","v":4100},{"$f":" RTD(\"cqg.rtd\",,\"StudyData\", $O$2, \"BAR\", \"\", \"High\", $O$4, -$A136, $O$6,$O$10,,$O$8,$O$12)","v":4154.75},{"$f":" RTD(\"cqg.rtd\",,\"StudyData\", $O$2, \"BAR\", \"\", \"Low\", $O$4, -$A136, $O$6,$O$10,,$O$8,$O$12)","v":4099.5},{"$f":" RTD(\"cqg.rtd\",,\"StudyData\", $O$2, \"BAR\", \"\", \"Close\", $O$4, -$A136, $O$6,$O$10,,$O$8,$O$12)","v":4151},{"$f":" RTD(\"cqg.rtd\",,\"StudyData\", $O$2, \"HVol\", \"InputChoice=Close,HvolType=Percent,Period=10\", \"HVOL\",$O$4,-A136,$O$6,$O$10,,$O$8,$O$12)","v":17.068309822162298}]
[135,{"$f":" RTD(\"cqg.rtd\",,\"StudyData\", $O$2, \"BAR\", \"\", \"Time\", $O$4,-$A137,$O$6,$O$10, \"\",\"False\",\"T\")","v":"2023-03-28"},{"$f":" RTD(\"cqg.rtd\",,\"StudyData\", $O$2, \"BAR\", \"\", \"Open\", $O$4, -$A137, $O$6,$O$10,,$O$8,$O$12)","v":4107},{"$f":" RTD(\"cqg.rtd\",,\"StudyData\", $O$2, \"BAR\", \"\", \"High\", $O$4, -$A137, $O$6,$O$10,,$O$8,$O$12)","v":4117.25},{"$f":" RTD(\"cqg.rtd\",,\"StudyData\", $O$2, \"BAR\", \"\", \"Low\", $O$4, -$A137, $O$6,$O$10,,$O$8,$O$12)","v":4074.25},{"$f":" RTD(\"cqg.rtd\",,\"StudyData\", $O$2, \"BAR\", \"\", \"Close\", $O$4, -$A137, $O$6,$O$10,,$O$8,$O$12)","v":4095},{"$f":" RTD(\"cqg.rtd\",,\"StudyData\", $O$2, \"HVol\", \"InputChoice=Close,HvolType=Percent,Period=10\", \"HVOL\",$O$4,-A137,$O$6,$O$10,,$O$8,$O$12)","v":16.735870743467945}]
[136,{"$f":" RTD(\"cqg.rtd\",,\"StudyData\", $O$2, \"BAR\", \"\", \"Time\", $O$4,-$A138,$O$6,$O$10, \"\",\"False\",\"T\")","v":"2023-03-27"},{"$f":" RTD(\"cqg.rtd\",,\"StudyData\", $O$2, \"BAR\", \"\", \"Open\", $O$4, -$A138, $O$6,$O$10,,$O$8,$O$12)","v":4101.5},{"$f":" RTD(\"cqg.rtd\",,\"StudyData\", $O$2, \"BAR\", \"\", \"High\", $O$4, -$A138, $O$6,$O$10,,$O$8,$O$12)","v":4127.75},{"$f":" RTD(\"cqg.rtd\",,\"StudyData\", $O$2, \"BAR\", \"\", \"Low\", $O$4, -$A138, $O$6,$O$10,,$O$8,$O$12)","v":4091},{"$f":" RTD(\"cqg.rtd\",,\"StudyData\", $O$2, \"BAR\", \"\", \"Close\", $O$4, -$A138, $O$6,$O$10,,$O$8,$O$12)","v":4100.75},{"$f":" RTD(\"cqg.rtd\",,\"StudyData\", $O$2, \"HVol\", \"InputChoice=Close,HvolType=Percent,Period=10\", \"HVOL\",$O$4,-A138,$O$6,$O$10,,$O$8,$O$12)","v":18.270904320421455}]
[137,{"$f":" RTD(\"cqg.rtd\",,\"StudyData\", $O$2, \"BAR\", \"\", \"Time\", $O$4,-$A139,$O$6,$O$10, \"\",\"False\",\"T\")","v":"2023-03-24"},{"$f":" RTD(\"cqg.rtd\",,\"StudyData\", $O$2, \"BAR\", \"\", \"Open\", $O$4, -$A139, $O$6,$O$10,,$O$8,$O$12)","v":4082.25},{"$f":" RTD(\"cqg.rtd\",,\"StudyData\", $O$2, \"BAR\", \"\", \"High\", $O$4, -$A139, $O$6,$O$10,,$O$8,$O$12)","v":4104.25},{"$f":" RTD(\"cqg.rtd\",,\"StudyData\", $O$2, \"BAR\", \"\", \"Low\", $O$4, -$A139, $O$6,$O$10,,$O$8,$O$12)","v":4030.5},{"$f":" RTD(\"cqg.rtd\",,\"StudyData\", $O$2, \"BAR\", \"\", \"Close\", $O$4, -$A139, $O$6,$O$10,,$O$8,$O$12)","v":4094.75},{"$f":" RTD(\"cqg.rtd\",,\"StudyData\", $O$2, \"HVol\", \"InputChoice=Close,HvolType=Percent,Period=10\", \"HVOL\",$O$4,-A139,$O$6,$O$10,,$O$8,$O$12)","v":18.446747818751014}]
[138,{"$f":" RTD(\"cqg.rtd\",,\"StudyData\", $O$2, \"BAR\", \"\", \"Time\", $O$4,-$A140,$O$6,$O$10, \"\",\"False\",\"T\")","v":"2023-03-23"},{"$f":" RTD(\"cqg.rtd\",,\"StudyData\", $O$2, \"BAR\", \"\", \"Open\", $O$4, -$A140, $O$6,$O$10,,$O$8,$O$12)","v":4066.25},{"$f":" RTD(\"cqg.rtd\",,\"StudyData\", $O$2, \"BAR\", \"\", \"High\", $O$4, -$A140, $O$6,$O$10,,$O$8,$O$12)","v":4133},{"$f":" RTD(\"cqg.rtd\",,\"StudyData\", $O$2, \"BAR\", \"\", \"Low\", $O$4, -$A140, $O$6,$O$10,,$O$8,$O$12)","v":4042},{"$f":" RTD(\"cqg.rtd\",,\"StudyData\", $O$2, \"BAR\", \"\", \"Close\", $O$4, -$A140, $O$6,$O$10,,$O$8,$O$12)","v":4071.5},{"$f":" RTD(\"cqg.rtd\",,\"StudyData\", $O$2, \"HVol\", \"InputChoice=Close,HvolType=Percent,Period=10\", \"HVOL\",$O$4,-A140,$O$6,$O$10,,$O$8,$O$12)","v":20.196038040088222}]
[139,{"$f":" RTD(\"cqg.rtd\",,\"StudyData\", $O$2, \"BAR\", \"\", \"Time\", $O$4,-$A141,$O$6,$O$10, \"\",\"False\",\"T\")","v":"2023-03-22"},{"$f":" RTD(\"cqg.rtd\",,\"StudyData\", $O$2, \"BAR\", \"\", \"Open\", $O$4, -$A141, $O$6,$O$10,,$O$8,$O$12)","v":4132.25},{"$f":" RTD(\"cqg.rtd\",,\"StudyData\", $O$2, \"BAR\", \"\", \"High\", $O$4, -$A141, $O$6,$O$10,,$O$8,$O$12)","v":4167.25},{"$f":" RTD(\"cqg.rtd\",,\"StudyData\", $O$2, \"BAR\", \"\", \"Low\", $O$4, -$A141, $O$6,$O$10,,$O$8,$O$12)","v":4059.75},{"$f":" RTD(\"cqg.rtd\",,\"StudyData\", $O$2, \"BAR\", \"\", \"Close\", $O$4, -$A141, $O$6,$O$10,,$O$8,$O$12)","v":4064},{"$f":" RTD(\"cqg.rtd\",,\"StudyData\", $O$2, \"HVol\", \"InputChoice=Close,HvolType=Percent,Period=10\", \"HVOL\",$O$4,-A141,$O$6,$O$10,,$O$8,$O$12)","v":22.235273896568454}]
[140,{"$f":" RTD(\"cqg.rtd\",,\"StudyData\", $O$2, \"BAR\", \"\", \"Time\", $O$4,-$A142,$O$6,$O$10, \"\",\"False\",\"T\")","v":"2023-03-21"},{"$f":" RTD(\"cqg.rtd\",,\"StudyData\", $O$2, \"BAR\", \"\", \"Open\", $O$4, -$A142, $O$6,$O$10,,$O$8,$O$12)","v":4080},{"$f":" RTD(\"cqg.rtd\",,\"StudyData\", $O$2, \"BAR\", \"\", \"High\", $O$4, -$A142, $O$6,$O$10,,$O$8,$O$12)","v":4136.75},{"$f":" RTD(\"cqg.rtd\",,\"StudyData\", $O$2, \"BAR\", \"\", \"Low\", $O$4, -$A142, $O$6,$O$10,,$O$8,$O$12)","v":4075.25},{"$f":" RTD(\"cqg.rtd\",,\"StudyData\", $O$2, \"BAR\", \"\", \"Close\", $O$4, -$A142, $O$6,$O$10,,$O$8,$O$12)","v":4129.25},{"$f":" RTD(\"cqg.rtd\",,\"StudyData\", $O$2, \"HVol\", \"InputChoice=Close,HvolType=Percent,Period=10\", \"HVOL\",$O$4,-A142,$O$6,$O$10,,$O$8,$O$12)","v":20.751369616654618}]
[141,{"$f":" RTD(\"cqg.rtd\",,\"StudyData\", $O$2, \"BAR\", \"\", \"Time\", $O$4,-$A143,$O$6,$O$10, \"\",\"False\",\"T\")","v":"2023-03-20"},{"$f":" RTD(\"cqg.rtd\",,\"StudyData\", $O$2, \"BAR\", \"\", \"Open\", $O$4, -$A143, $O$6,$O$10,,$O$8,$O$12)","v":4057.25},{"$f":" RTD(\"cqg.rtd\",,\"StudyData\", $O$2, \"BAR\", \"\", \"High\", $O$4, -$A143, $O$6,$O$10,,$O$8,$O$12)","v":4083},{"$f":" RTD(\"cqg.rtd\",,\"StudyData\", $O$2, \"BAR\", \"\", \"Low\", $O$4, -$A143, $O$6,$O$10,,$O$8,$O$12)","v":3990.75},{"$f":" RTD(\"cqg.rtd\",,\"StudyData\", $O$2, \"BAR\", \"\", \"Close\", $O$4, -$A143, $O$6,$O$10,,$O$8,$O$12)","v":4076.5},{"$f":" RTD(\"cqg.rtd\",,\"StudyData\", $O$2, \"HVol\", \"InputChoice=Close,HvolType=Percent,Period=10\", \"HVOL\",$O$4,-A143,$O$6,$O$10,,$O$8,$O$12)","v":20.732155382427365}]
[142,{"$f":" RTD(\"cqg.rtd\",,\"StudyData\", $O$2, \"BAR\", \"\", \"Time\", $O$4,-$A144,$O$6,$O$10, \"\",\"False\",\"T\")","v":"2023-03-17"},{"$f":" RTD(\"cqg.rtd\",,\"StudyData\", $O$2, \"BAR\", \"\", \"Open\", $O$4, -$A144, $O$6,$O$10,,$O$8,$O$12)","v":4088.5},{"$f":" RTD(\"cqg.rtd\",,\"StudyData\", $O$2, \"BAR\", \"\", \"High\", $O$4, -$A144, $O$6,$O$10,,$O$8,$O$12)","v":4102.75},{"$f":" RTD(\"cqg.rtd\",,\"StudyData\", $O$2, \"BAR\", \"\", \"Low\", $O$4, -$A144, $O$6,$O$10,,$O$8,$O$12)","v":4026},{"$f":" RTD(\"cqg.rtd\",,\"StudyData\", $O$2, \"BAR\", \"\", \"Close\", $O$4, -$A144, $O$6,$O$10,,$O$8,$O$12)","v":4040.5},{"$f":" RTD(\"cqg.rtd\",,\"StudyData\", $O$2, \"HVol\", \"InputChoice=Close,HvolType=Percent,Period=10\", \"HVOL\",$O$4,-A144,$O$6,$O$10,,$O$8,$O$12)","v":19.865259665594742}]
[143,{"$f":" RTD(\"cqg.rtd\",,\"StudyData\", $O$2, \"BAR\", \"\", \"Time\", $O$4,-$A145,$O$6,$O$10, \"\",\"False\",\"T\")","v":"2023-03-16"},{"$f":" RTD(\"cqg.rtd\",,\"StudyData\", $O$2, \"BAR\", \"\", \"Open\", $O$4, -$A145, $O$6,$O$10,,$O$8,$O$12)","v":4018.25},{"$f":" RTD(\"cqg.rtd\",,\"StudyData\", $O$2, \"BAR\", \"\", \"High\", $O$4, -$A145, $O$6,$O$10,,$O$8,$O$12)","v":4093.5},{"$f":" RTD(\"cqg.rtd\",,\"StudyData\", $O$2, \"BAR\", \"\", \"Low\", $O$4, -$A145, $O$6,$O$10,,$O$8,$O$12)","v":3988.5},{"$f":" RTD(\"cqg.rtd\",,\"StudyData\", $O$2, \"BAR\", \"\", \"Close\", $O$4, -$A145, $O$6,$O$10,,$O$8,$O$12)","v":4088},{"$f":" RTD(\"cqg.rtd\",,\"StudyData\", $O$2, \"HVol\", \"InputChoice=Close,HvolType=Percent,Period=10\", \"HVOL\",$O$4,-A145,$O$6,$O$10,,$O$8,$O$12)","v":21.352310106152952}]
[144,{"$f":" RTD(\"cqg.rtd\",,\"StudyData\", $O$2, \"BAR\", \"\", \"Time\", $O$4,-$A146,$O$6,$O$10, \"\",\"False\",\"T\")","v":"2023-03-15"},{"$f":" RTD(\"cqg.rtd\",,\"StudyData\", $O$2, \"BAR\", \"\", \"Open\", $O$4, -$A146, $O$6,$O$10,,$O$8,$O$12)","v":4047.25},{"$f":" RTD(\"cqg.rtd\",,\"StudyData\", $O$2, \"BAR\", \"\", \"High\", $O$4, -$A146, $O$6,$O$10,,$O$8,$O$12)","v":4057.5},{"$f":" RTD(\"cqg.rtd\",,\"StudyData\", $O$2, \"BAR\", \"\", \"Low\", $O$4, -$A146, $O$6,$O$10,,$O$8,$O$12)","v":3958.5},{"$f":" RTD(\"cqg.rtd\",,\"StudyData\", $O$2, \"BAR\", \"\", \"Close\", $O$4, -$A146, $O$6,$O$10,,$O$8,$O$12)","v":4018.5},{"$f":" RTD(\"cqg.rtd\",,\"StudyData\", $O$2, \"HVol\", \"InputChoice=Close,HvolType=Percent,Period=10\", \"HVOL\",$O$4,-A146,$O$6,$O$10,,$O$8,$O$12)","v":19.490078879811147}]
[145,{"$f":" RTD(\"cqg.rtd\",,\"StudyData\", $O$2, \"BAR\", \"\", \"Time\", $O$4,-$A147,$O$6,$O$10, \"\",\"False\",\"T\")","v":"2023-03-14"},{"$f":" RTD(\"cqg.rtd\",,\"StudyData\", $O$2, \"BAR\", \"\", \"Open\", $O$4, -$A147, $O$6,$O$10,,$O$8,$O$12)","v":3990.75},{"$f":" RTD(\"cqg.rtd\",,\"StudyData\", $O$2, \"BAR\", \"\", \"High\", $O$4, -$A147, $O$6,$O$10,,$O$8,$O$12)","v":4066},{"$f":" RTD(\"cqg.rtd\",,\"StudyData\", $O$2, \"BAR\", \"\", \"Low\", $O$4, -$A147, $O$6,$O$10,,$O$8,$O$12)","v":3978.5},{"$f":" RTD(\"cqg.rtd\",,\"StudyData\", $O$2, \"BAR\", \"\", \"Close\", $O$4, -$A147, $O$6,$O$10,,$O$8,$O$12)","v":4047.75},{"$f":" RTD(\"cqg.rtd\",,\"StudyData\", $O$2, \"HVol\", \"InputChoice=Close,HvolType=Percent,Period=10\", \"HVOL\",$O$4,-A147,$O$6,$O$10,,$O$8,$O$12)","v":19.324415437443836}]
[146,{"$f":" RTD(\"cqg.rtd\",,\"StudyData\", $O$2, \"BAR\", \"\", \"Time\", $O$4,-$A148,$O$6,$O$10, \"\",\"False\",\"T\")","v":"2023-03-13"},{"$f":" RTD(\"cqg.rtd\",,\"StudyData\", $O$2, \"BAR\", \"\", \"Open\", $O$4, -$A148, $O$6,$O$10,,$O$8,$O$12)","v":4014},{"$f":" RTD(\"cqg.rtd\",,\"StudyData\", $O$2, \"BAR\", \"\", \"High\", $O$4, -$A148, $O$6,$O$10,,$O$8,$O$12)","v":4065},{"$f":" RTD(\"cqg.rtd\",,\"StudyData\", $O$2, \"BAR\", \"\", \"Low\", $O$4, -$A148, $O$6,$O$10,,$O$8,$O$12)","v":3932.75},{"$f":" RTD(\"cqg.rtd\",,\"StudyData\", $O$2, \"BAR\", \"\", \"Close\", $O$4, -$A148, $O$6,$O$10,,$O$8,$O$12)","v":3982.25},{"$f":" RTD(\"cqg.rtd\",,\"StudyData\", $O$2, \"HVol\", \"InputChoice=Close,HvolType=Percent,Period=10\", \"HVOL\",$O$4,-A148,$O$6,$O$10,,$O$8,$O$12)","v":16.60631657876176}]
[147,{"$f":" RTD(\"cqg.rtd\",,\"StudyData\", $O$2, \"BAR\", \"\", \"Time\", $O$4,-$A149,$O$6,$O$10, \"\",\"False\",\"T\")","v":"2023-03-10"},{"$f":" RTD(\"cqg.rtd\",,\"StudyData\", $O$2, \"BAR\", \"\", \"Open\", $O$4, -$A149, $O$6,$O$10,,$O$8,$O$12)","v":4048.5},{"$f":" RTD(\"cqg.rtd\",,\"StudyData\", $O$2, \"BAR\", \"\", \"High\", $O$4, -$A149, $O$6,$O$10,,$O$8,$O$12)","v":4071.75},{"$f":" RTD(\"cqg.rtd\",,\"StudyData\", $O$2, \"BAR\", \"\", \"Low\", $O$4, -$A149, $O$6,$O$10,,$O$8,$O$12)","v":3974.5},{"$f":" RTD(\"cqg.rtd\",,\"StudyData\", $O$2, \"BAR\", \"\", \"Close\", $O$4, -$A149, $O$6,$O$10,,$O$8,$O$12)","v":3991},{"$f":" RTD(\"cqg.rtd\",,\"StudyData\", $O$2, \"HVol\", \"InputChoice=Close,HvolType=Percent,Period=10\", \"HVOL\",$O$4,-A149,$O$6,$O$10,,$O$8,$O$12)","v":16.900480594712675}]
[148,{"$f":" RTD(\"cqg.rtd\",,\"StudyData\", $O$2, \"BAR\", \"\", \"Time\", $O$4,-$A150,$O$6,$O$10, \"\",\"False\",\"T\")","v":"2023-03-09"},{"$f":" RTD(\"cqg.rtd\",,\"StudyData\", $O$2, \"BAR\", \"\", \"Open\", $O$4, -$A150, $O$6,$O$10,,$O$8,$O$12)","v":4126.75},{"$f":" RTD(\"cqg.rtd\",,\"StudyData\", $O$2, \"BAR\", \"\", \"High\", $O$4, -$A150, $O$6,$O$10,,$O$8,$O$12)","v":4149.5},{"$f":" RTD(\"cqg.rtd\",,\"StudyData\", $O$2, \"BAR\", \"\", \"Low\", $O$4, -$A150, $O$6,$O$10,,$O$8,$O$12)","v":4039.25},{"$f":" RTD(\"cqg.rtd\",,\"StudyData\", $O$2, \"BAR\", \"\", \"Close\", $O$4, -$A150, $O$6,$O$10,,$O$8,$O$12)","v":4049.75},{"$f":" RTD(\"cqg.rtd\",,\"StudyData\", $O$2, \"HVol\", \"InputChoice=Close,HvolType=Percent,Period=10\", \"HVOL\",$O$4,-A150,$O$6,$O$10,,$O$8,$O$12)","v":16.214638859869279}]
[149,{"$f":" RTD(\"cqg.rtd\",,\"StudyData\", $O$2, \"BAR\", \"\", \"Time\", $O$4,-$A151,$O$6,$O$10, \"\",\"False\",\"T\")","v":"2023-03-08"},{"$f":" RTD(\"cqg.rtd\",,\"StudyData\", $O$2, \"BAR\", \"\", \"Open\", $O$4, -$A151, $O$6,$O$10,,$O$8,$O$12)","v":4119.75},{"$f":" RTD(\"cqg.rtd\",,\"StudyData\", $O$2, \"BAR\", \"\", \"High\", $O$4, -$A151, $O$6,$O$10,,$O$8,$O$12)","v":4133},{"$f":" RTD(\"cqg.rtd\",,\"StudyData\", $O$2, \"BAR\", \"\", \"Low\", $O$4, -$A151, $O$6,$O$10,,$O$8,$O$12)","v":4101.25},{"$f":" RTD(\"cqg.rtd\",,\"StudyData\", $O$2, \"BAR\", \"\", \"Close\", $O$4, -$A151, $O$6,$O$10,,$O$8,$O$12)","v":4124.75},{"$f":" RTD(\"cqg.rtd\",,\"StudyData\", $O$2, \"HVol\", \"InputChoice=Close,HvolType=Percent,Period=10\", \"HVOL\",$O$4,-A151,$O$6,$O$10,,$O$8,$O$12)","v":13.888030114983019}]
[150,{"$f":" RTD(\"cqg.rtd\",,\"StudyData\", $O$2, \"BAR\", \"\", \"Time\", $O$4,-$A152,$O$6,$O$10, \"\",\"False\",\"T\")","v":"2023-03-07"},{"$f":" RTD(\"cqg.rtd\",,\"StudyData\", $O$2, \"BAR\", \"\", \"Open\", $O$4, -$A152, $O$6,$O$10,,$O$8,$O$12)","v":4183.5},{"$f":" RTD(\"cqg.rtd\",,\"StudyData\", $O$2, \"BAR\", \"\", \"High\", $O$4, -$A152, $O$6,$O$10,,$O$8,$O$12)","v":4194.25},{"$f":" RTD(\"cqg.rtd\",,\"StudyData\", $O$2, \"BAR\", \"\", \"Low\", $O$4, -$A152, $O$6,$O$10,,$O$8,$O$12)","v":4112.25},{"$f":" RTD(\"cqg.rtd\",,\"StudyData\", $O$2, \"BAR\", \"\", \"Close\", $O$4, -$A152, $O$6,$O$10,,$O$8,$O$12)","v":4119.5},{"$f":" RTD(\"cqg.rtd\",,\"StudyData\", $O$2, \"HVol\", \"InputChoice=Close,HvolType=Percent,Period=10\", \"HVOL\",$O$4,-A152,$O$6,$O$10,,$O$8,$O$12)","v":13.886365038403172}]
[151,{"$f":" RTD(\"cqg.rtd\",,\"StudyData\", $O$2, \"BAR\", \"\", \"Time\", $O$4,-$A153,$O$6,$O$10, \"\",\"False\",\"T\")","v":"2023-03-06"},{"$f":" RTD(\"cqg.rtd\",,\"StudyData\", $O$2, \"BAR\", \"\", \"Open\", $O$4, -$A153, $O$6,$O$10,,$O$8,$O$12)","v":4179},{"$f":" RTD(\"cqg.rtd\",,\"StudyData\", $O$2, \"BAR\", \"\", \"High\", $O$4, -$A153, $O$6,$O$10,,$O$8,$O$12)","v":4212.25},{"$f":" RTD(\"cqg.rtd\",,\"StudyData\", $O$2, \"BAR\", \"\", \"Low\", $O$4, -$A153, $O$6,$O$10,,$O$8,$O$12)","v":4171.5},{"$f":" RTD(\"cqg.rtd\",,\"StudyData\", $O$2, \"BAR\", \"\", \"Close\", $O$4, -$A153, $O$6,$O$10,,$O$8,$O$12)","v":4182.25},{"$f":" RTD(\"cqg.rtd\",,\"StudyData\", $O$2, \"HVol\", \"InputChoice=Close,HvolType=Percent,Period=10\", \"HVOL\",$O$4,-A153,$O$6,$O$10,,$O$8,$O$12)","v":15.273708205948394}]
[152,{"$f":" RTD(\"cqg.rtd\",,\"StudyData\", $O$2, \"BAR\", \"\", \"Time\", $O$4,-$A154,$O$6,$O$10, \"\",\"False\",\"T\")","v":"2023-03-03"},{"$f":" RTD(\"cqg.rtd\",,\"StudyData\", $O$2, \"BAR\", \"\", \"Open\", $O$4, -$A154, $O$6,$O$10,,$O$8,$O$12)","v":4112.75},{"$f":" RTD(\"cqg.rtd\",,\"StudyData\", $O$2, \"BAR\", \"\", \"High\", $O$4, -$A154, $O$6,$O$10,,$O$8,$O$12)","v":4182.75},{"$f":" RTD(\"cqg.rtd\",,\"StudyData\", $O$2, \"BAR\", \"\", \"Low\", $O$4, -$A154, $O$6,$O$10,,$O$8,$O$12)","v":4103.75},{"$f":" RTD(\"cqg.rtd\",,\"StudyData\", $O$2, \"BAR\", \"\", \"Close\", $O$4, -$A154, $O$6,$O$10,,$O$8,$O$12)","v":4179.5},{"$f":" RTD(\"cqg.rtd\",,\"StudyData\", $O$2, \"HVol\", \"InputChoice=Close,HvolType=Percent,Period=10\", \"HVOL\",$O$4,-A154,$O$6,$O$10,,$O$8,$O$12)","v":15.283434810907918}]
[153,{"$f":" RTD(\"cqg.rtd\",,\"StudyData\", $O$2, \"BAR\", \"\", \"Time\", $O$4,-$A155,$O$6,$O$10, \"\",\"False\",\"T\")","v":"2023-03-02"},{"$f":" RTD(\"cqg.rtd\",,\"StudyData\", $O$2, \"BAR\", \"\", \"Open\", $O$4, -$A155, $O$6,$O$10,,$O$8,$O$12)","v":4089.5},{"$f":" RTD(\"cqg.rtd\",,\"StudyData\", $O$2, \"BAR\", \"\", \"High\", $O$4, -$A155, $O$6,$O$10,,$O$8,$O$12)","v":4125},{"$f":" RTD(\"cqg.rtd\",,\"StudyData\", $O$2, \"BAR\", \"\", \"Low\", $O$4, -$A155, $O$6,$O$10,,$O$8,$O$12)","v":4054.75},{"$f":" RTD(\"cqg.rtd\",,\"StudyData\", $O$2, \"BAR\", \"\", \"Close\", $O$4, -$A155, $O$6,$O$10,,$O$8,$O$12)","v":4114.5},{"$f":" RTD(\"cqg.rtd\",,\"StudyData\", $O$2, \"HVol\", \"InputChoice=Close,HvolType=Percent,Period=10\", \"HVOL\",$O$4,-A155,$O$6,$O$10,,$O$8,$O$12)","v":13.158015420321831}]
[154,{"$f":" RTD(\"cqg.rtd\",,\"StudyData\", $O$2, \"BAR\", \"\", \"Time\", $O$4,-$A156,$O$6,$O$10, \"\",\"False\",\"T\")","v":"2023-03-01"},{"$f":" RTD(\"cqg.rtd\",,\"StudyData\", $O$2, \"BAR\", \"\", \"Open\", $O$4, -$A156, $O$6,$O$10,,$O$8,$O$12)","v":4098.25},{"$f":" RTD(\"cqg.rtd\",,\"StudyData\", $O$2, \"BAR\", \"\", \"High\", $O$4, -$A156, $O$6,$O$10,,$O$8,$O$12)","v":4120.75},{"$f":" RTD(\"cqg.rtd\",,\"StudyData\", $O$2, \"BAR\", \"\", \"Low\", $O$4, -$A156, $O$6,$O$10,,$O$8,$O$12)","v":4072.75},{"$f":" RTD(\"cqg.rtd\",,\"StudyData\", $O$2, \"BAR\", \"\", \"Close\", $O$4, -$A156, $O$6,$O$10,,$O$8,$O$12)","v":4086.25},{"$f":" RTD(\"cqg.rtd\",,\"StudyData\", $O$2, \"HVol\", \"InputChoice=Close,HvolType=Percent,Period=10\", \"HVOL\",$O$4,-A156,$O$6,$O$10,,$O$8,$O$12)","v":12.367892348988837}]
[155,{"$f":" RTD(\"cqg.rtd\",,\"StudyData\", $O$2, \"BAR\", \"\", \"Time\", $O$4,-$A157,$O$6,$O$10, \"\",\"False\",\"T\")","v":"2023-02-28"},{"$f":" RTD(\"cqg.rtd\",,\"StudyData\", $O$2, \"BAR\", \"\", \"Open\", $O$4, -$A157, $O$6,$O$10,,$O$8,$O$12)","v":4121.25},{"$f":" RTD(\"cqg.rtd\",,\"StudyData\", $O$2, \"BAR\", \"\", \"High\", $O$4, -$A157, $O$6,$O$10,,$O$8,$O$12)","v":4133.5},{"$f":" RTD(\"cqg.rtd\",,\"StudyData\", $O$2, \"BAR\", \"\", \"Low\", $O$4, -$A157, $O$6,$O$10,,$O$8,$O$12)","v":4094.75},{"$f":" RTD(\"cqg.rtd\",,\"StudyData\", $O$2, \"BAR\", \"\", \"Close\", $O$4, -$A157, $O$6,$O$10,,$O$8,$O$12)","v":4105.25},{"$f":" RTD(\"cqg.rtd\",,\"StudyData\", $O$2, \"HVol\", \"InputChoice=Close,HvolType=Percent,Period=10\", \"HVOL\",$O$4,-A157,$O$6,$O$10,,$O$8,$O$12)","v":12.532986071088834}]
[156,{"$f":" RTD(\"cqg.rtd\",,\"StudyData\", $O$2, \"BAR\", \"\", \"Time\", $O$4,-$A158,$O$6,$O$10, \"\",\"False\",\"T\")","v":"2023-02-27"},{"$f":" RTD(\"cqg.rtd\",,\"StudyData\", $O$2, \"BAR\", \"\", \"Open\", $O$4, -$A158, $O$6,$O$10,,$O$8,$O$12)","v":4106.25},{"$f":" RTD(\"cqg.rtd\",,\"StudyData\", $O$2, \"BAR\", \"\", \"High\", $O$4, -$A158, $O$6,$O$10,,$O$8,$O$12)","v":4154.5},{"$f":" RTD(\"cqg.rtd\",,\"StudyData\", $O$2, \"BAR\", \"\", \"Low\", $O$4, -$A158, $O$6,$O$10,,$O$8,$O$12)","v":4102.75},{"$f":" RTD(\"cqg.rtd\",,\"StudyData\", $O$2, \"BAR\", \"\", \"Close\", $O$4, -$A158, $O$6,$O$10,,$O$8,$O$12)","v":4117.75},{"$f":" RTD(\"cqg.rtd\",,\"StudyData\", $O$2, \"HVol\", \"InputChoice=Close,HvolType=Percent,Period=10\", \"HVOL\",$O$4,-A158,$O$6,$O$10,,$O$8,$O$12)","v":14.699971024191132}]
[157,{"$f":" RTD(\"cqg.rtd\",,\"StudyData\", $O$2, \"BAR\", \"\", \"Time\", $O$4,-$A159,$O$6,$O$10, \"\",\"False\",\"T\")","v":"2023-02-24"},{"$f":" RTD(\"cqg.rtd\",,\"StudyData\", $O$2, \"BAR\", \"\", \"Open\", $O$4, -$A159, $O$6,$O$10,,$O$8,$O$12)","v":4145},{"$f":" RTD(\"cqg.rtd\",,\"StudyData\", $O$2, \"BAR\", \"\", \"High\", $O$4, -$A159, $O$6,$O$10,,$O$8,$O$12)","v":4153},{"$f":" RTD(\"cqg.rtd\",,\"StudyData\", $O$2, \"BAR\", \"\", \"Low\", $O$4, -$A159, $O$6,$O$10,,$O$8,$O$12)","v":4077.25},{"$f":" RTD(\"cqg.rtd\",,\"StudyData\", $O$2, \"BAR\", \"\", \"Close\", $O$4, -$A159, $O$6,$O$10,,$O$8,$O$12)","v":4105.5},{"$f":" RTD(\"cqg.rtd\",,\"StudyData\", $O$2, \"HVol\", \"InputChoice=Close,HvolType=Percent,Period=10\", \"HVOL\",$O$4,-A159,$O$6,$O$10,,$O$8,$O$12)","v":14.594071338845373}]
[158,{"$f":" RTD(\"cqg.rtd\",,\"StudyData\", $O$2, \"BAR\", \"\", \"Time\", $O$4,-$A160,$O$6,$O$10, \"\",\"False\",\"T\")","v":"2023-02-23"},{"$f":" RTD(\"cqg.rtd\",,\"StudyData\", $O$2, \"BAR\", \"\", \"Open\", $O$4, -$A160, $O$6,$O$10,,$O$8,$O$12)","v":4139.75},{"$f":" RTD(\"cqg.rtd\",,\"StudyData\", $O$2, \"BAR\", \"\", \"High\", $O$4, -$A160, $O$6,$O$10,,$O$8,$O$12)","v":4164},{"$f":" RTD(\"cqg.rtd\",,\"StudyData\", $O$2, \"BAR\", \"\", \"Low\", $O$4, -$A160, $O$6,$O$10,,$O$8,$O$12)","v":4104},{"$f":" RTD(\"cqg.rtd\",,\"StudyData\", $O$2, \"BAR\", \"\", \"Close\", $O$4, -$A160, $O$6,$O$10,,$O$8,$O$12)","v":4148.5},{"$f":" RTD(\"cqg.rtd\",,\"StudyData\", $O$2, \"HVol\", \"InputChoice=Close,HvolType=Percent,Period=10\", \"HVOL\",$O$4,-A160,$O$6,$O$10,,$O$8,$O$12)","v":14.42271634065126}]
[159,{"$f":" RTD(\"cqg.rtd\",,\"StudyData\", $O$2, \"BAR\", \"\", \"Time\", $O$4,-$A161,$O$6,$O$10, \"\",\"False\",\"T\")","v":"2023-02-22"},{"$f":" RTD(\"cqg.rtd\",,\"StudyData\", $O$2, \"BAR\", \"\", \"Open\", $O$4, -$A161, $O$6,$O$10,,$O$8,$O$12)","v":4137.25},{"$f":" RTD(\"cqg.rtd\",,\"StudyData\", $O$2, \"BAR\", \"\", \"High\", $O$4, -$A161, $O$6,$O$10,,$O$8,$O$12)","v":4154.75},{"$f":" RTD(\"cqg.rtd\",,\"StudyData\", $O$2, \"BAR\", \"\", \"Low\", $O$4, -$A161, $O$6,$O$10,,$O$8,$O$12)","v":4113.5},{"$f":" RTD(\"cqg.rtd\",,\"StudyData\", $O$2, \"BAR\", \"\", \"Close\", $O$4, -$A161, $O$6,$O$10,,$O$8,$O$12)","v":4128.75},{"$f":" RTD(\"cqg.rtd\",,\"StudyData\", $O$2, \"HVol\", \"InputChoice=Close,HvolType=Percent,Period=10\", \"HVOL\",$O$4,-A161,$O$6,$O$10,,$O$8,$O$12)","v":14.269190635340003}]
[160,{"$f":" RTD(\"cqg.rtd\",,\"StudyData\", $O$2, \"BAR\", \"\", \"Time\", $O$4,-$A162,$O$6,$O$10, \"\",\"False\",\"T\")","v":"2023-02-21"},{"$f":" RTD(\"cqg.rtd\",,\"StudyData\", $O$2, \"BAR\", \"\", \"Open\", $O$4, -$A162, $O$6,$O$10,,$O$8,$O$12)","v":4212.75},{"$f":" RTD(\"cqg.rtd\",,\"StudyData\", $O$2, \"BAR\", \"\", \"High\", $O$4, -$A162, $O$6,$O$10,,$O$8,$O$12)","v":4219},{"$f":" RTD(\"cqg.rtd\",,\"StudyData\", $O$2, \"BAR\", \"\", \"Low\", $O$4, -$A162, $O$6,$O$10,,$O$8,$O$12)","v":4131.75},{"$f":" RTD(\"cqg.rtd\",,\"StudyData\", $O$2, \"BAR\", \"\", \"Close\", $O$4, -$A162, $O$6,$O$10,,$O$8,$O$12)","v":4135.5},{"$f":" RTD(\"cqg.rtd\",,\"StudyData\", $O$2, \"HVol\", \"InputChoice=Close,HvolType=Percent,Period=10\", \"HVOL\",$O$4,-A162,$O$6,$O$10,,$O$8,$O$12)","v":16.47627952449583}]
[161,{"$f":" RTD(\"cqg.rtd\",,\"StudyData\", $O$2, \"BAR\", \"\", \"Time\", $O$4,-$A163,$O$6,$O$10, \"\",\"False\",\"T\")","v":"2023-02-17"},{"$f":" RTD(\"cqg.rtd\",,\"StudyData\", $O$2, \"BAR\", \"\", \"Open\", $O$4, -$A163, $O$6,$O$10,,$O$8,$O$12)","v":4225.25},{"$f":" RTD(\"cqg.rtd\",,\"StudyData\", $O$2, \"BAR\", \"\", \"High\", $O$4, -$A163, $O$6,$O$10,,$O$8,$O$12)","v":4225.75},{"$f":" RTD(\"cqg.rtd\",,\"StudyData\", $O$2, \"BAR\", \"\", \"Low\", $O$4, -$A163, $O$6,$O$10,,$O$8,$O$12)","v":4185.5},{"$f":" RTD(\"cqg.rtd\",,\"StudyData\", $O$2, \"BAR\", \"\", \"Close\", $O$4, -$A163, $O$6,$O$10,,$O$8,$O$12)","v":4217.25},{"$f":" RTD(\"cqg.rtd\",,\"StudyData\", $O$2, \"HVol\", \"InputChoice=Close,HvolType=Percent,Period=10\", \"HVOL\",$O$4,-A163,$O$6,$O$10,,$O$8,$O$12)","v":13.848460084072759}]
[162,{"$f":" RTD(\"cqg.rtd\",,\"StudyData\", $O$2, \"BAR\", \"\", \"Time\", $O$4,-$A164,$O$6,$O$10, \"\",\"False\",\"T\")","v":"2023-02-16"},{"$f":" RTD(\"cqg.rtd\",,\"StudyData\", $O$2, \"BAR\", \"\", \"Open\", $O$4, -$A164, $O$6,$O$10,,$O$8,$O$12)","v":4288.75},{"$f":" RTD(\"cqg.rtd\",,\"StudyData\", $O$2, \"BAR\", \"\", \"High\", $O$4, -$A164, $O$6,$O$10,,$O$8,$O$12)","v":4298.25},{"$f":" RTD(\"cqg.rtd\",,\"StudyData\", $O$2, \"BAR\", \"\", \"Low\", $O$4, -$A164, $O$6,$O$10,,$O$8,$O$12)","v":4224.75},{"$f":" RTD(\"cqg.rtd\",,\"StudyData\", $O$2, \"BAR\", \"\", \"Close\", $O$4, -$A164, $O$6,$O$10,,$O$8,$O$12)","v":4229.5},{"$f":" RTD(\"cqg.rtd\",,\"StudyData\", $O$2, \"HVol\", \"InputChoice=Close,HvolType=Percent,Period=10\", \"HVOL\",$O$4,-A164,$O$6,$O$10,,$O$8,$O$12)","v":14.523011444131543}]
[163,{"$f":" RTD(\"cqg.rtd\",,\"StudyData\", $O$2, \"BAR\", \"\", \"Time\", $O$4,-$A165,$O$6,$O$10, \"\",\"False\",\"T\")","v":"2023-02-15"},{"$f":" RTD(\"cqg.rtd\",,\"StudyData\", $O$2, \"BAR\", \"\", \"Open\", $O$4, -$A165, $O$6,$O$10,,$O$8,$O$12)","v":4271},{"$f":" RTD(\"cqg.rtd\",,\"StudyData\", $O$2, \"BAR\", \"\", \"High\", $O$4, -$A165, $O$6,$O$10,,$O$8,$O$12)","v":4291.5},{"$f":" RTD(\"cqg.rtd\",,\"StudyData\", $O$2, \"BAR\", \"\", \"Low\", $O$4, -$A165, $O$6,$O$10,,$O$8,$O$12)","v":4242.75},{"$f":" RTD(\"cqg.rtd\",,\"StudyData\", $O$2, \"BAR\", \"\", \"Close\", $O$4, -$A165, $O$6,$O$10,,$O$8,$O$12)","v":4288},{"$f":" RTD(\"cqg.rtd\",,\"StudyData\", $O$2, \"HVol\", \"InputChoice=Close,HvolType=Percent,Period=10\", \"HVOL\",$O$4,-A165,$O$6,$O$10,,$O$8,$O$12)","v":14.968316030856949}]
[164,{"$f":" RTD(\"cqg.rtd\",,\"StudyData\", $O$2, \"BAR\", \"\", \"Time\", $O$4,-$A166,$O$6,$O$10, \"\",\"False\",\"T\")","v":"2023-02-14"},{"$f":" RTD(\"cqg.rtd\",,\"StudyData\", $O$2, \"BAR\", \"\", \"Open\", $O$4, -$A166, $O$6,$O$10,,$O$8,$O$12)","v":4279.5},{"$f":" RTD(\"cqg.rtd\",,\"StudyData\", $O$2, \"BAR\", \"\", \"High\", $O$4, -$A166, $O$6,$O$10,,$O$8,$O$12)","v":4316.25},{"$f":" RTD(\"cqg.rtd\",,\"StudyData\", $O$2, \"BAR\", \"\", \"Low\", $O$4, -$A166, $O$6,$O$10,,$O$8,$O$12)","v":4233.5},{"$f":" RTD(\"cqg.rtd\",,\"StudyData\", $O$2, \"BAR\", \"\", \"Close\", $O$4, -$A166, $O$6,$O$10,,$O$8,$O$12)","v":4275.25},{"$f":" RTD(\"cqg.rtd\",,\"StudyData\", $O$2, \"HVol\", \"InputChoice=Close,HvolType=Percent,Period=10\", \"HVOL\",$O$4,-A166,$O$6,$O$10,,$O$8,$O$12)","v":15.669098953658064}]
[165,{"$f":" RTD(\"cqg.rtd\",,\"StudyData\", $O$2, \"BAR\", \"\", \"Time\", $O$4,-$A167,$O$6,$O$10, \"\",\"False\",\"T\")","v":"2023-02-13"},{"$f":" RTD(\"cqg.rtd\",,\"StudyData\", $O$2, \"BAR\", \"\", \"Open\", $O$4, -$A167, $O$6,$O$10,,$O$8,$O$12)","v":4234.75},{"$f":" RTD(\"cqg.rtd\",,\"StudyData\", $O$2, \"BAR\", \"\", \"High\", $O$4, -$A167, $O$6,$O$10,,$O$8,$O$12)","v":4280.5},{"$f":" RTD(\"cqg.rtd\",,\"StudyData\", $O$2, \"BAR\", \"\", \"Low\", $O$4, -$A167, $O$6,$O$10,,$O$8,$O$12)","v":4208.5},{"$f":" RTD(\"cqg.rtd\",,\"StudyData\", $O$2, \"BAR\", \"\", \"Close\", $O$4, -$A167, $O$6,$O$10,,$O$8,$O$12)","v":4277},{"$f":" RTD(\"cqg.rtd\",,\"StudyData\", $O$2, \"HVol\", \"InputChoice=Close,HvolType=Percent,Period=10\", \"HVOL\",$O$4,-A167,$O$6,$O$10,,$O$8,$O$12)","v":16.798382806876603}]
[166,{"$f":" RTD(\"cqg.rtd\",,\"StudyData\", $O$2, \"BAR\", \"\", \"Time\", $O$4,-$A168,$O$6,$O$10, \"\",\"False\",\"T\")","v":"2023-02-10"},{"$f":" RTD(\"cqg.rtd\",,\"StudyData\", $O$2, \"BAR\", \"\", \"Open\", $O$4, -$A168, $O$6,$O$10,,$O$8,$O$12)","v":4227.75},{"$f":" RTD(\"cqg.rtd\",,\"StudyData\", $O$2, \"BAR\", \"\", \"High\", $O$4, -$A168, $O$6,$O$10,,$O$8,$O$12)","v":4234},{"$f":" RTD(\"cqg.rtd\",,\"StudyData\", $O$2, \"BAR\", \"\", \"Low\", $O$4, -$A168, $O$6,$O$10,,$O$8,$O$12)","v":4190.5},{"$f":" RTD(\"cqg.rtd\",,\"StudyData\", $O$2, \"BAR\", \"\", \"Close\", $O$4, -$A168, $O$6,$O$10,,$O$8,$O$12)","v":4229.5},{"$f":" RTD(\"cqg.rtd\",,\"StudyData\", $O$2, \"HVol\", \"InputChoice=Close,HvolType=Percent,Period=10\", \"HVOL\",$O$4,-A168,$O$6,$O$10,,$O$8,$O$12)","v":17.604573021914021}]
[167,{"$f":" RTD(\"cqg.rtd\",,\"StudyData\", $O$2, \"BAR\", \"\", \"Time\", $O$4,-$A169,$O$6,$O$10, \"\",\"False\",\"T\")","v":"2023-02-09"},{"$f":" RTD(\"cqg.rtd\",,\"StudyData\", $O$2, \"BAR\", \"\", \"Open\", $O$4, -$A169, $O$6,$O$10,,$O$8,$O$12)","v":4262},{"$f":" RTD(\"cqg.rtd\",,\"StudyData\", $O$2, \"BAR\", \"\", \"High\", $O$4, -$A169, $O$6,$O$10,,$O$8,$O$12)","v":4300},{"$f":" RTD(\"cqg.rtd\",,\"StudyData\", $O$2, \"BAR\", \"\", \"Low\", $O$4, -$A169, $O$6,$O$10,,$O$8,$O$12)","v":4208},{"$f":" RTD(\"cqg.rtd\",,\"StudyData\", $O$2, \"BAR\", \"\", \"Close\", $O$4, -$A169, $O$6,$O$10,,$O$8,$O$12)","v":4221.5},{"$f":" RTD(\"cqg.rtd\",,\"StudyData\", $O$2, \"HVol\", \"InputChoice=Close,HvolType=Percent,Period=10\", \"HVOL\",$O$4,-A169,$O$6,$O$10,,$O$8,$O$12)","v":17.609130084775352}]
[168,{"$f":" RTD(\"cqg.rtd\",,\"StudyData\", $O$2, \"BAR\", \"\", \"Time\", $O$4,-$A170,$O$6,$O$10, \"\",\"False\",\"T\")","v":"2023-02-08"},{"$f":" RTD(\"cqg.rtd\",,\"StudyData\", $O$2, \"BAR\", \"\", \"Open\", $O$4, -$A170, $O$6,$O$10,,$O$8,$O$12)","v":4297},{"$f":" RTD(\"cqg.rtd\",,\"StudyData\", $O$2, \"BAR\", \"\", \"High\", $O$4, -$A170, $O$6,$O$10,,$O$8,$O$12)","v":4309},{"$f":" RTD(\"cqg.rtd\",,\"StudyData\", $O$2, \"BAR\", \"\", \"Low\", $O$4, -$A170, $O$6,$O$10,,$O$8,$O$12)","v":4251},{"$f":" RTD(\"cqg.rtd\",,\"StudyData\", $O$2, \"BAR\", \"\", \"Close\", $O$4, -$A170, $O$6,$O$10,,$O$8,$O$12)","v":4260.25},{"$f":" RTD(\"cqg.rtd\",,\"StudyData\", $O$2, \"HVol\", \"InputChoice=Close,HvolType=Percent,Period=10\", \"HVOL\",$O$4,-A170,$O$6,$O$10,,$O$8,$O$12)","v":17.379262925305579}]
[169,{"$f":" RTD(\"cqg.rtd\",,\"StudyData\", $O$2, \"BAR\", \"\", \"Time\", $O$4,-$A171,$O$6,$O$10, \"\",\"False\",\"T\")","v":"2023-02-07"},{"$f":" RTD(\"cqg.rtd\",,\"StudyData\", $O$2, \"BAR\", \"\", \"Open\", $O$4, -$A171, $O$6,$O$10,,$O$8,$O$12)","v":4253.25},{"$f":" RTD(\"cqg.rtd\",,\"StudyData\", $O$2, \"BAR\", \"\", \"High\", $O$4, -$A171, $O$6,$O$10,,$O$8,$O$12)","v":4318},{"$f":" RTD(\"cqg.rtd\",,\"StudyData\", $O$2, \"BAR\", \"\", \"Low\", $O$4, -$A171, $O$6,$O$10,,$O$8,$O$12)","v":4228},{"$f":" RTD(\"cqg.rtd\",,\"StudyData\", $O$2, \"BAR\", \"\", \"Close\", $O$4, -$A171, $O$6,$O$10,,$O$8,$O$12)","v":4305.5},{"$f":" RTD(\"cqg.rtd\",,\"StudyData\", $O$2, \"HVol\", \"InputChoice=Close,HvolType=Percent,Period=10\", \"HVOL\",$O$4,-A171,$O$6,$O$10,,$O$8,$O$12)","v":15.957758160249501}]
[170,{"$f":" RTD(\"cqg.rtd\",,\"StudyData\", $O$2, \"BAR\", \"\", \"Time\", $O$4,-$A172,$O$6,$O$10, \"\",\"False\",\"T\")","v":"2023-02-06"},{"$f":" RTD(\"cqg.rtd\",,\"StudyData\", $O$2, \"BAR\", \"\", \"Open\", $O$4, -$A172, $O$6,$O$10,,$O$8,$O$12)","v":4264},{"$f":" RTD(\"cqg.rtd\",,\"StudyData\", $O$2, \"BAR\", \"\", \"High\", $O$4, -$A172, $O$6,$O$10,,$O$8,$O$12)","v":4272.75},{"$f":" RTD(\"cqg.rtd\",,\"StudyData\", $O$2, \"BAR\", \"\", \"Low\", $O$4, -$A172, $O$6,$O$10,,$O$8,$O$12)","v":4233.75},{"$f":" RTD(\"cqg.rtd\",,\"StudyData\", $O$2, \"BAR\", \"\", \"Close\", $O$4, -$A172, $O$6,$O$10,,$O$8,$O$12)","v":4253.25},{"$f":" RTD(\"cqg.rtd\",,\"StudyData\", $O$2, \"HVol\", \"InputChoice=Close,HvolType=Percent,Period=10\", \"HVOL\",$O$4,-A172,$O$6,$O$10,,$O$8,$O$12)","v":15.272343506696709}]
[171,{"$f":" RTD(\"cqg.rtd\",,\"StudyData\", $O$2, \"BAR\", \"\", \"Time\", $O$4,-$A173,$O$6,$O$10, \"\",\"False\",\"T\")","v":"2023-02-03"},{"$f":" RTD(\"cqg.rtd\",,\"StudyData\", $O$2, \"BAR\", \"\", \"Open\", $O$4, -$A173, $O$6,$O$10,,$O$8,$O$12)","v":4305.75},{"$f":" RTD(\"cqg.rtd\",,\"StudyData\", $O$2, \"BAR\", \"\", \"High\", $O$4, -$A173, $O$6,$O$10,,$O$8,$O$12)","v":4323.75},{"$f":" RTD(\"cqg.rtd\",,\"StudyData\", $O$2, \"BAR\", \"\", \"Low\", $O$4, -$A173, $O$6,$O$10,,$O$8,$O$12)","v":4262.25},{"$f":" RTD(\"cqg.rtd\",,\"StudyData\", $O$2, \"BAR\", \"\", \"Close\", $O$4, -$A173, $O$6,$O$10,,$O$8,$O$12)","v":4277.5},{"$f":" RTD(\"cqg.rtd\",,\"StudyData\", $O$2, \"HVol\", \"InputChoice=Close,HvolType=Percent,Period=10\", \"HVOL\",$O$4,-A173,$O$6,$O$10,,$O$8,$O$12)","v":15.277420266897897}]
[172,{"$f":" RTD(\"cqg.rtd\",,\"StudyData\", $O$2, \"BAR\", \"\", \"Time\", $O$4,-$A174,$O$6,$O$10, \"\",\"False\",\"T\")","v":"2023-02-02"},{"$f":" RTD(\"cqg.rtd\",,\"StudyData\", $O$2, \"BAR\", \"\", \"Open\", $O$4, -$A174, $O$6,$O$10,,$O$8,$O$12)","v":4275.25},{"$f":" RTD(\"cqg.rtd\",,\"StudyData\", $O$2, \"BAR\", \"\", \"High\", $O$4, -$A174, $O$6,$O$10,,$O$8,$O$12)","v":4338.25},{"$f":" RTD(\"cqg.rtd\",,\"StudyData\", $O$2, \"BAR\", \"\", \"Low\", $O$4, -$A174, $O$6,$O$10,,$O$8,$O$12)","v":4266.5},{"$f":" RTD(\"cqg.rtd\",,\"StudyData\", $O$2, \"BAR\", \"\", \"Close\", $O$4, -$A174, $O$6,$O$10,,$O$8,$O$12)","v":4321.25},{"$f":" RTD(\"cqg.rtd\",,\"StudyData\", $O$2, \"HVol\", \"InputChoice=Close,HvolType=Percent,Period=10\", \"HVOL\",$O$4,-A174,$O$6,$O$10,,$O$8,$O$12)","v":14.601200155259892}]
[173,{"$f":" RTD(\"cqg.rtd\",,\"StudyData\", $O$2, \"BAR\", \"\", \"Time\", $O$4,-$A175,$O$6,$O$10, \"\",\"False\",\"T\")","v":"2023-02-01"},{"$f":" RTD(\"cqg.rtd\",,\"StudyData\", $O$2, \"BAR\", \"\", \"Open\", $O$4, -$A175, $O$6,$O$10,,$O$8,$O$12)","v":4215.5},{"$f":" RTD(\"cqg.rtd\",,\"StudyData\", $O$2, \"BAR\", \"\", \"High\", $O$4, -$A175, $O$6,$O$10,,$O$8,$O$12)","v":4293},{"$f":" RTD(\"cqg.rtd\",,\"StudyData\", $O$2, \"BAR\", \"\", \"Low\", $O$4, -$A175, $O$6,$O$10,,$O$8,$O$12)","v":4178.25},{"$f":" RTD(\"cqg.rtd\",,\"StudyData\", $O$2, \"BAR\", \"\", \"Close\", $O$4, -$A175, $O$6,$O$10,,$O$8,$O$12)","v":4262},{"$f":" RTD(\"cqg.rtd\",,\"StudyData\", $O$2, \"HVol\", \"InputChoice=Close,HvolType=Percent,Period=10\", \"HVOL\",$O$4,-A175,$O$6,$O$10,,$O$8,$O$12)","v":15.526940471976895}]
[174,{"$f":" RTD(\"cqg.rtd\",,\"StudyData\", $O$2, \"BAR\", \"\", \"Time\", $O$4,-$A176,$O$6,$O$10, \"\",\"False\",\"T\")","v":"2023-01-31"},{"$f":" RTD(\"cqg.rtd\",,\"StudyData\", $O$2, \"BAR\", \"\", \"Open\", $O$4, -$A176, $O$6,$O$10,,$O$8,$O$12)","v":4169},{"$f":" RTD(\"cqg.rtd\",,\"StudyData\", $O$2, \"BAR\", \"\", \"High\", $O$4, -$A176, $O$6,$O$10,,$O$8,$O$12)","v":4221},{"$f":" RTD(\"cqg.rtd\",,\"StudyData\", $O$2, \"BAR\", \"\", \"Low\", $O$4, -$A176, $O$6,$O$10,,$O$8,$O$12)","v":4137.25},{"$f":" RTD(\"cqg.rtd\",,\"StudyData\", $O$2, \"BAR\", \"\", \"Close\", $O$4, -$A176, $O$6,$O$10,,$O$8,$O$12)","v":4219.75},{"$f":" RTD(\"cqg.rtd\",,\"StudyData\", $O$2, \"HVol\", \"InputChoice=Close,HvolType=Percent,Period=10\", \"HVOL\",$O$4,-A176,$O$6,$O$10,,$O$8,$O$12)","v":18.030944922342513}]
[175,{"$f":" RTD(\"cqg.rtd\",,\"StudyData\", $O$2, \"BAR\", \"\", \"Time\", $O$4,-$A177,$O$6,$O$10, \"\",\"False\",\"T\")","v":"2023-01-30"},{"$f":" RTD(\"cqg.rtd\",,\"StudyData\", $O$2, \"BAR\", \"\", \"Open\", $O$4, -$A177, $O$6,$O$10,,$O$8,$O$12)","v":4206.75},{"$f":" RTD(\"cqg.rtd\",,\"StudyData\", $O$2, \"BAR\", \"\", \"High\", $O$4, -$A177, $O$6,$O$10,,$O$8,$O$12)","v":4215.75},{"$f":" RTD(\"cqg.rtd\",,\"StudyData\", $O$2, \"BAR\", \"\", \"Low\", $O$4, -$A177, $O$6,$O$10,,$O$8,$O$12)","v":4159.25},{"$f":" RTD(\"cqg.rtd\",,\"StudyData\", $O$2, \"BAR\", \"\", \"Close\", $O$4, -$A177, $O$6,$O$10,,$O$8,$O$12)","v":4162.25},{"$f":" RTD(\"cqg.rtd\",,\"StudyData\", $O$2, \"HVol\", \"InputChoice=Close,HvolType=Percent,Period=10\", \"HVOL\",$O$4,-A177,$O$6,$O$10,,$O$8,$O$12)","v":16.848396358692092}]
[176,{"$f":" RTD(\"cqg.rtd\",,\"StudyData\", $O$2, \"BAR\", \"\", \"Time\", $O$4,-$A178,$O$6,$O$10, \"\",\"False\",\"T\")","v":"2023-01-27"},{"$f":" RTD(\"cqg.rtd\",,\"StudyData\", $O$2, \"BAR\", \"\", \"Open\", $O$4, -$A178, $O$6,$O$10,,$O$8,$O$12)","v":4194.75},{"$f":" RTD(\"cqg.rtd\",,\"StudyData\", $O$2, \"BAR\", \"\", \"High\", $O$4, -$A178, $O$6,$O$10,,$O$8,$O$12)","v":4239},{"$f":" RTD(\"cqg.rtd\",,\"StudyData\", $O$2, \"BAR\", \"\", \"Low\", $O$4, -$A178, $O$6,$O$10,,$O$8,$O$12)","v":4187},{"$f":" RTD(\"cqg.rtd\",,\"StudyData\", $O$2, \"BAR\", \"\", \"Close\", $O$4, -$A178, $O$6,$O$10,,$O$8,$O$12)","v":4214},{"$f":" RTD(\"cqg.rtd\",,\"StudyData\", $O$2, \"HVol\", \"InputChoice=Close,HvolType=Percent,Period=10\", \"HVOL\",$O$4,-A178,$O$6,$O$10,,$O$8,$O$12)","v":15.33189457064827}]
[177,{"$f":" RTD(\"cqg.rtd\",,\"StudyData\", $O$2, \"BAR\", \"\", \"Time\", $O$4,-$A179,$O$6,$O$10, \"\",\"False\",\"T\")","v":"2023-01-26"},{"$f":" RTD(\"cqg.rtd\",,\"StudyData\", $O$2, \"BAR\", \"\", \"Open\", $O$4, -$A179, $O$6,$O$10,,$O$8,$O$12)","v":4160.75},{"$f":" RTD(\"cqg.rtd\",,\"StudyData\", $O$2, \"BAR\", \"\", \"High\", $O$4, -$A179, $O$6,$O$10,,$O$8,$O$12)","v":4206.75},{"$f":" RTD(\"cqg.rtd\",,\"StudyData\", $O$2, \"BAR\", \"\", \"Low\", $O$4, -$A179, $O$6,$O$10,,$O$8,$O$12)","v":4157},{"$f":" RTD(\"cqg.rtd\",,\"StudyData\", $O$2, \"BAR\", \"\", \"Close\", $O$4, -$A179, $O$6,$O$10,,$O$8,$O$12)","v":4205.25},{"$f":" RTD(\"cqg.rtd\",,\"StudyData\", $O$2, \"HVol\", \"InputChoice=Close,HvolType=Percent,Period=10\", \"HVOL\",$O$4,-A179,$O$6,$O$10,,$O$8,$O$12)","v":15.345759387070487}]
[178,{"$f":" RTD(\"cqg.rtd\",,\"StudyData\", $O$2, \"BAR\", \"\", \"Time\", $O$4,-$A180,$O$6,$O$10, \"\",\"False\",\"T\")","v":"2023-01-25"},{"$f":" RTD(\"cqg.rtd\",,\"StudyData\", $O$2, \"BAR\", \"\", \"Open\", $O$4, -$A180, $O$6,$O$10,,$O$8,$O$12)","v":4168.75},{"$f":" RTD(\"cqg.rtd\",,\"StudyData\", $O$2, \"BAR\", \"\", \"High\", $O$4, -$A180, $O$6,$O$10,,$O$8,$O$12)","v":4170.25},{"$f":" RTD(\"cqg.rtd\",,\"StudyData\", $O$2, \"BAR\", \"\", \"Low\", $O$4, -$A180, $O$6,$O$10,,$O$8,$O$12)","v":4093},{"$f":" RTD(\"cqg.rtd\",,\"StudyData\", $O$2, \"BAR\", \"\", \"Close\", $O$4, -$A180, $O$6,$O$10,,$O$8,$O$12)","v":4161.75},{"$f":" RTD(\"cqg.rtd\",,\"StudyData\", $O$2, \"HVol\", \"InputChoice=Close,HvolType=Percent,Period=10\", \"HVOL\",$O$4,-A180,$O$6,$O$10,,$O$8,$O$12)","v":15.614535702066799}]
[179,{"$f":" RTD(\"cqg.rtd\",,\"StudyData\", $O$2, \"BAR\", \"\", \"Time\", $O$4,-$A181,$O$6,$O$10, \"\",\"False\",\"T\")","v":"2023-01-24"},{"$f":" RTD(\"cqg.rtd\",,\"StudyData\", $O$2, \"BAR\", \"\", \"Open\", $O$4, -$A181, $O$6,$O$10,,$O$8,$O$12)","v":4166.25},{"$f":" RTD(\"cqg.rtd\",,\"StudyData\", $O$2, \"BAR\", \"\", \"High\", $O$4, -$A181, $O$6,$O$10,,$O$8,$O$12)","v":4177.25},{"$f":" RTD(\"cqg.rtd\",,\"StudyData\", $O$2, \"BAR\", \"\", \"Low\", $O$4, -$A181, $O$6,$O$10,,$O$8,$O$12)","v":4135},{"$f":" RTD(\"cqg.rtd\",,\"StudyData\", $O$2, \"BAR\", \"\", \"Close\", $O$4, -$A181, $O$6,$O$10,,$O$8,$O$12)","v":4162.5},{"$f":" RTD(\"cqg.rtd\",,\"StudyData\", $O$2, \"HVol\", \"InputChoice=Close,HvolType=Percent,Period=10\", \"HVOL\",$O$4,-A181,$O$6,$O$10,,$O$8,$O$12)","v":15.692716655745587}]
[180,{"$f":" RTD(\"cqg.rtd\",,\"StudyData\", $O$2, \"BAR\", \"\", \"Time\", $O$4,-$A182,$O$6,$O$10, \"\",\"False\",\"T\")","v":"2023-01-23"},{"$f":" RTD(\"cqg.rtd\",,\"StudyData\", $O$2, \"BAR\", \"\", \"Open\", $O$4, -$A182, $O$6,$O$10,,$O$8,$O$12)","v":4116.75},{"$f":" RTD(\"cqg.rtd\",,\"StudyData\", $O$2, \"BAR\", \"\", \"High\", $O$4, -$A182, $O$6,$O$10,,$O$8,$O$12)","v":4186.5},{"$f":" RTD(\"cqg.rtd\",,\"StudyData\", $O$2, \"BAR\", \"\", \"Low\", $O$4, -$A182, $O$6,$O$10,,$O$8,$O$12)","v":4110},{"$f":" RTD(\"cqg.rtd\",,\"StudyData\", $O$2, \"BAR\", \"\", \"Close\", $O$4, -$A182, $O$6,$O$10,,$O$8,$O$12)","v":4166.25},{"$f":" RTD(\"cqg.rtd\",,\"StudyData\", $O$2, \"HVol\", \"InputChoice=Close,HvolType=Percent,Period=10\", \"HVOL\",$O$4,-A182,$O$6,$O$10,,$O$8,$O$12)","v":15.662577291924613}]
[181,{"$f":" RTD(\"cqg.rtd\",,\"StudyData\", $O$2, \"BAR\", \"\", \"Time\", $O$4,-$A183,$O$6,$O$10, \"\",\"False\",\"T\")","v":"2023-01-20"},{"$f":" RTD(\"cqg.rtd\",,\"StudyData\", $O$2, \"BAR\", \"\", \"Open\", $O$4, -$A183, $O$6,$O$10,,$O$8,$O$12)","v":4054.75},{"$f":" RTD(\"cqg.rtd\",,\"StudyData\", $O$2, \"BAR\", \"\", \"High\", $O$4, -$A183, $O$6,$O$10,,$O$8,$O$12)","v":4120.25},{"$f":" RTD(\"cqg.rtd\",,\"StudyData\", $O$2, \"BAR\", \"\", \"Low\", $O$4, -$A183, $O$6,$O$10,,$O$8,$O$12)","v":4041.5},{"$f":" RTD(\"cqg.rtd\",,\"StudyData\", $O$2, \"BAR\", \"\", \"Close\", $O$4, -$A183, $O$6,$O$10,,$O$8,$O$12)","v":4118.25},{"$f":" RTD(\"cqg.rtd\",,\"StudyData\", $O$2, \"HVol\", \"InputChoice=Close,HvolType=Percent,Period=10\", \"HVOL\",$O$4,-A183,$O$6,$O$10,,$O$8,$O$12)","v":17.898246142478854}]
[182,{"$f":" RTD(\"cqg.rtd\",,\"StudyData\", $O$2, \"BAR\", \"\", \"Time\", $O$4,-$A184,$O$6,$O$10, \"\",\"False\",\"T\")","v":"2023-01-19"},{"$f":" RTD(\"cqg.rtd\",,\"StudyData\", $O$2, \"BAR\", \"\", \"Open\", $O$4, -$A184, $O$6,$O$10,,$O$8,$O$12)","v":4075},{"$f":" RTD(\"cqg.rtd\",,\"StudyData\", $O$2, \"BAR\", \"\", \"High\", $O$4, -$A184, $O$6,$O$10,,$O$8,$O$12)","v":4078.5},{"$f":" RTD(\"cqg.rtd\",,\"StudyData\", $O$2, \"BAR\", \"\", \"Low\", $O$4, -$A184, $O$6,$O$10,,$O$8,$O$12)","v":4031.5},{"$f":" RTD(\"cqg.rtd\",,\"StudyData\", $O$2, \"BAR\", \"\", \"Close\", $O$4, -$A184, $O$6,$O$10,,$O$8,$O$12)","v":4045.25},{"$f":" RTD(\"cqg.rtd\",,\"StudyData\", $O$2, \"HVol\", \"InputChoice=Close,HvolType=Percent,Period=10\", \"HVOL\",$O$4,-A184,$O$6,$O$10,,$O$8,$O$12)","v":17.530869388057457}]
[183,{"$f":" RTD(\"cqg.rtd\",,\"StudyData\", $O$2, \"BAR\", \"\", \"Time\", $O$4,-$A185,$O$6,$O$10, \"\",\"False\",\"T\")","v":"2023-01-18"},{"$f":" RTD(\"cqg.rtd\",,\"StudyData\", $O$2, \"BAR\", \"\", \"Open\", $O$4, -$A185, $O$6,$O$10,,$O$8,$O$12)","v":4138.25},{"$f":" RTD(\"cqg.rtd\",,\"StudyData\", $O$2, \"BAR\", \"\", \"High\", $O$4, -$A185, $O$6,$O$10,,$O$8,$O$12)","v":4163.25},{"$f":" RTD(\"cqg.rtd\",,\"StudyData\", $O$2, \"BAR\", \"\", \"Low\", $O$4, -$A185, $O$6,$O$10,,$O$8,$O$12)","v":4073.5},{"$f":" RTD(\"cqg.rtd\",,\"StudyData\", $O$2, \"BAR\", \"\", \"Close\", $O$4, -$A185, $O$6,$O$10,,$O$8,$O$12)","v":4075.5},{"$f":" RTD(\"cqg.rtd\",,\"StudyData\", $O$2, \"HVol\", \"InputChoice=Close,HvolType=Percent,Period=10\", \"HVOL\",$O$4,-A185,$O$6,$O$10,,$O$8,$O$12)","v":17.07862751520015}]
[184,{"$f":" RTD(\"cqg.rtd\",,\"StudyData\", $O$2, \"BAR\", \"\", \"Time\", $O$4,-$A186,$O$6,$O$10, \"\",\"False\",\"T\")","v":"2023-01-17"},{"$f":" RTD(\"cqg.rtd\",,\"StudyData\", $O$2, \"BAR\", \"\", \"Open\", $O$4, -$A186, $O$6,$O$10,,$O$8,$O$12)","v":4149.75},{"$f":" RTD(\"cqg.rtd\",,\"StudyData\", $O$2, \"BAR\", \"\", \"High\", $O$4, -$A186, $O$6,$O$10,,$O$8,$O$12)","v":4165},{"$f":" RTD(\"cqg.rtd\",,\"StudyData\", $O$2, \"BAR\", \"\", \"Low\", $O$4, -$A186, $O$6,$O$10,,$O$8,$O$12)","v":4126.5},{"$f":" RTD(\"cqg.rtd\",,\"StudyData\", $O$2, \"BAR\", \"\", \"Close\", $O$4, -$A186, $O$6,$O$10,,$O$8,$O$12)","v":4139.25},{"$f":" RTD(\"cqg.rtd\",,\"StudyData\", $O$2, \"HVol\", \"InputChoice=Close,HvolType=Percent,Period=10\", \"HVOL\",$O$4,-A186,$O$6,$O$10,,$O$8,$O$12)","v":14.476275512120703}]
[185,{"$f":" RTD(\"cqg.rtd\",,\"StudyData\", $O$2, \"BAR\", \"\", \"Time\", $O$4,-$A187,$O$6,$O$10, \"\",\"False\",\"T\")","v":"2023-01-13"},{"$f":" RTD(\"cqg.rtd\",,\"StudyData\", $O$2, \"BAR\", \"\", \"Open\", $O$4, -$A187, $O$6,$O$10,,$O$8,$O$12)","v":4132.75},{"$f":" RTD(\"cqg.rtd\",,\"StudyData\", $O$2, \"BAR\", \"\", \"High\", $O$4, -$A187, $O$6,$O$10,,$O$8,$O$12)","v":4154},{"$f":" RTD(\"cqg.rtd\",,\"StudyData\", $O$2, \"BAR\", \"\", \"Low\", $O$4, -$A187, $O$6,$O$10,,$O$8,$O$12)","v":4091.5},{"$f":" RTD(\"cqg.rtd\",,\"StudyData\", $O$2, \"BAR\", \"\", \"Close\", $O$4, -$A187, $O$6,$O$10,,$O$8,$O$12)","v":4148},{"$f":" RTD(\"cqg.rtd\",,\"StudyData\", $O$2, \"HVol\", \"InputChoice=Close,HvolType=Percent,Period=10\", \"HVOL\",$O$4,-A187,$O$6,$O$10,,$O$8,$O$12)","v":14.543295920945553}]
[186,{"$f":" RTD(\"cqg.rtd\",,\"StudyData\", $O$2, \"BAR\", \"\", \"Time\", $O$4,-$A188,$O$6,$O$10, \"\",\"False\",\"T\")","v":"2023-01-12"},{"$f":" RTD(\"cqg.rtd\",,\"StudyData\", $O$2, \"BAR\", \"\", \"Open\", $O$4, -$A188, $O$6,$O$10,,$O$8,$O$12)","v":4121.5},{"$f":" RTD(\"cqg.rtd\",,\"StudyData\", $O$2, \"BAR\", \"\", \"High\", $O$4, -$A188, $O$6,$O$10,,$O$8,$O$12)","v":4151.25},{"$f":" RTD(\"cqg.rtd\",,\"StudyData\", $O$2, \"BAR\", \"\", \"Low\", $O$4, -$A188, $O$6,$O$10,,$O$8,$O$12)","v":4083.75},{"$f":" RTD(\"cqg.rtd\",,\"StudyData\", $O$2, \"BAR\", \"\", \"Close\", $O$4, -$A188, $O$6,$O$10,,$O$8,$O$12)","v":4133.25},{"$f":" RTD(\"cqg.rtd\",,\"StudyData\", $O$2, \"HVol\", \"InputChoice=Close,HvolType=Percent,Period=10\", \"HVOL\",$O$4,-A188,$O$6,$O$10,,$O$8,$O$12)","v":15.863213127820645}]
[187,{"$f":" RTD(\"cqg.rtd\",,\"StudyData\", $O$2, \"BAR\", \"\", \"Time\", $O$4,-$A189,$O$6,$O$10, \"\",\"False\",\"T\")","v":"2023-01-11"},{"$f":" RTD(\"cqg.rtd\",,\"StudyData\", $O$2, \"BAR\", \"\", \"Open\", $O$4, -$A189, $O$6,$O$10,,$O$8,$O$12)","v":4070.75},{"$f":" RTD(\"cqg.rtd\",,\"StudyData\", $O$2, \"BAR\", \"\", \"High\", $O$4, -$A189, $O$6,$O$10,,$O$8,$O$12)","v":4122.25},{"$f":" RTD(\"cqg.rtd\",,\"StudyData\", $O$2, \"BAR\", \"\", \"Low\", $O$4, -$A189, $O$6,$O$10,,$O$8,$O$12)","v":4064.25},{"$f":" RTD(\"cqg.rtd\",,\"StudyData\", $O$2, \"BAR\", \"\", \"Close\", $O$4, -$A189, $O$6,$O$10,,$O$8,$O$12)","v":4119.75},{"$f":" RTD(\"cqg.rtd\",,\"StudyData\", $O$2, \"HVol\", \"InputChoice=Close,HvolType=Percent,Period=10\", \"HVOL\",$O$4,-A189,$O$6,$O$10,,$O$8,$O$12)","v":17.97809451909869}]
[188,{"$f":" RTD(\"cqg.rtd\",,\"StudyData\", $O$2, \"BAR\", \"\", \"Time\", $O$4,-$A190,$O$6,$O$10, \"\",\"False\",\"T\")","v":"2023-01-10"},{"$f":" RTD(\"cqg.rtd\",,\"StudyData\", $O$2, \"BAR\", \"\", \"Open\", $O$4, -$A190, $O$6,$O$10,,$O$8,$O$12)","v":4044.25},{"$f":" RTD(\"cqg.rtd\",,\"StudyData\", $O$2, \"BAR\", \"\", \"High\", $O$4, -$A190, $O$6,$O$10,,$O$8,$O$12)","v":4073.5},{"$f":" RTD(\"cqg.rtd\",,\"StudyData\", $O$2, \"BAR\", \"\", \"Low\", $O$4, -$A190, $O$6,$O$10,,$O$8,$O$12)","v":4021.25},{"$f":" RTD(\"cqg.rtd\",,\"StudyData\", $O$2, \"BAR\", \"\", \"Close\", $O$4, -$A190, $O$6,$O$10,,$O$8,$O$12)","v":4070.5},{"$f":" RTD(\"cqg.rtd\",,\"StudyData\", $O$2, \"HVol\", \"InputChoice=Close,HvolType=Percent,Period=10\", \"HVOL\",$O$4,-A190,$O$6,$O$10,,$O$8,$O$12)","v":17.583548432977452}]
[189,{"$f":" RTD(\"cqg.rtd\",,\"StudyData\", $O$2, \"BAR\", \"\", \"Time\", $O$4,-$A191,$O$6,$O$10, \"\",\"False\",\"T\")","v":"2023-01-09"},{"$f":" RTD(\"cqg.rtd\",,\"StudyData\", $O$2, \"BAR\", \"\", \"Open\", $O$4, -$A191, $O$6,$O$10,,$O$8,$O$12)","v":4048.25},{"$f":" RTD(\"cqg.rtd\",,\"StudyData\", $O$2, \"BAR\", \"\", \"High\", $O$4, -$A191, $O$6,$O$10,,$O$8,$O$12)","v":4103},{"$f":" RTD(\"cqg.rtd\",,\"StudyData\", $O$2, \"BAR\", \"\", \"Low\", $O$4, -$A191, $O$6,$O$10,,$O$8,$O$12)","v":4039.5},{"$f":" RTD(\"cqg.rtd\",,\"StudyData\", $O$2, \"BAR\", \"\", \"Close\", $O$4, -$A191, $O$6,$O$10,,$O$8,$O$12)","v":4043.5},{"$f":" RTD(\"cqg.rtd\",,\"StudyData\", $O$2, \"HVol\", \"InputChoice=Close,HvolType=Percent,Period=10\", \"HVOL\",$O$4,-A191,$O$6,$O$10,,$O$8,$O$12)","v":17.482669414301526}]
[190,{"$f":" RTD(\"cqg.rtd\",,\"StudyData\", $O$2, \"BAR\", \"\", \"Time\", $O$4,-$A192,$O$6,$O$10, \"\",\"False\",\"T\")","v":"2023-01-06"},{"$f":" RTD(\"cqg.rtd\",,\"StudyData\", $O$2, \"BAR\", \"\", \"Open\", $O$4, -$A192, $O$6,$O$10,,$O$8,$O$12)","v":3962.75},{"$f":" RTD(\"cqg.rtd\",,\"StudyData\", $O$2, \"BAR\", \"\", \"High\", $O$4, -$A192, $O$6,$O$10,,$O$8,$O$12)","v":4058.5},{"$f":" RTD(\"cqg.rtd\",,\"StudyData\", $O$2, \"BAR\", \"\", \"Low\", $O$4, -$A192, $O$6,$O$10,,$O$8,$O$12)","v":3948.75},{"$f":" RTD(\"cqg.rtd\",,\"StudyData\", $O$2, \"BAR\", \"\", \"Close\", $O$4, -$A192, $O$6,$O$10,,$O$8,$O$12)","v":4045.25},{"$f":" RTD(\"cqg.rtd\",,\"StudyData\", $O$2, \"HVol\", \"InputChoice=Close,HvolType=Percent,Period=10\", \"HVOL\",$O$4,-A192,$O$6,$O$10,,$O$8,$O$12)","v":19.169543191622804}]
[191,{"$f":" RTD(\"cqg.rtd\",,\"StudyData\", $O$2, \"BAR\", \"\", \"Time\", $O$4,-$A193,$O$6,$O$10, \"\",\"False\",\"T\")","v":"2023-01-05"},{"$f":" RTD(\"cqg.rtd\",,\"StudyData\", $O$2, \"BAR\", \"\", \"Open\", $O$4, -$A193, $O$6,$O$10,,$O$8,$O$12)","v":4000.75},{"$f":" RTD(\"cqg.rtd\",,\"StudyData\", $O$2, \"BAR\", \"\", \"High\", $O$4, -$A193, $O$6,$O$10,,$O$8,$O$12)","v":4015.25},{"$f":" RTD(\"cqg.rtd\",,\"StudyData\", $O$2, \"BAR\", \"\", \"Low\", $O$4, -$A193, $O$6,$O$10,,$O$8,$O$12)","v":3952.25},{"$f":" RTD(\"cqg.rtd\",,\"StudyData\", $O$2, \"BAR\", \"\", \"Close\", $O$4, -$A193, $O$6,$O$10,,$O$8,$O$12)","v":3958.75},{"$f":" RTD(\"cqg.rtd\",,\"StudyData\", $O$2, \"HVol\", \"InputChoice=Close,HvolType=Percent,Period=10\", \"HVOL\",$O$4,-A193,$O$6,$O$10,,$O$8,$O$12)","v":17.045156182753427}]
[192,{"$f":" RTD(\"cqg.rtd\",,\"StudyData\", $O$2, \"BAR\", \"\", \"Time\", $O$4,-$A194,$O$6,$O$10, \"\",\"False\",\"T\")","v":"2023-01-04"},{"$f":" RTD(\"cqg.rtd\",,\"StudyData\", $O$2, \"BAR\", \"\", \"Open\", $O$4, -$A194, $O$6,$O$10,,$O$8,$O$12)","v":3972.5},{"$f":" RTD(\"cqg.rtd\",,\"StudyData\", $O$2, \"BAR\", \"\", \"High\", $O$4, -$A194, $O$6,$O$10,,$O$8,$O$12)","v":4026},{"$f":" RTD(\"cqg.rtd\",,\"StudyData\", $O$2, \"BAR\", \"\", \"Low\", $O$4, -$A194, $O$6,$O$10,,$O$8,$O$12)","v":3966.25},{"$f":" RTD(\"cqg.rtd\",,\"StudyData\", $O$2, \"BAR\", \"\", \"Close\", $O$4, -$A194, $O$6,$O$10,,$O$8,$O$12)","v":4004.25},{"$f":" RTD(\"cqg.rtd\",,\"StudyData\", $O$2, \"HVol\", \"InputChoice=Close,HvolType=Percent,Period=10\", \"HVOL\",$O$4,-A194,$O$6,$O$10,,$O$8,$O$12)","v":15.932437107060938}]
[193,{"$f":" RTD(\"cqg.rtd\",,\"StudyData\", $O$2, \"BAR\", \"\", \"Time\", $O$4,-$A195,$O$6,$O$10, \"\",\"False\",\"T\")","v":"2023-01-03"},{"$f":" RTD(\"cqg.rtd\",,\"StudyData\", $O$2, \"BAR\", \"\", \"Open\", $O$4, -$A195, $O$6,$O$10,,$O$8,$O$12)","v":4024.75},{"$f":" RTD(\"cqg.rtd\",,\"StudyData\", $O$2, \"BAR\", \"\", \"High\", $O$4, -$A195, $O$6,$O$10,,$O$8,$O$12)","v":4036.5},{"$f":" RTD(\"cqg.rtd\",,\"StudyData\", $O$2, \"BAR\", \"\", \"Low\", $O$4, -$A195, $O$6,$O$10,,$O$8,$O$12)","v":3944.25},{"$f":" RTD(\"cqg.rtd\",,\"StudyData\", $O$2, \"BAR\", \"\", \"Close\", $O$4, -$A195, $O$6,$O$10,,$O$8,$O$12)","v":3975.75},{"$f":" RTD(\"cqg.rtd\",,\"StudyData\", $O$2, \"HVol\", \"InputChoice=Close,HvolType=Percent,Period=10\", \"HVOL\",$O$4,-A195,$O$6,$O$10,,$O$8,$O$12)","v":16.09151225047712}]
[{"$f":"A195+1","v":194},{"$f":" RTD(\"cqg.rtd\",,\"StudyData\", $O$2, \"BAR\", \"\", \"Time\", $O$4,-$A196,$O$6,$O$10, \"\",\"False\",\"T\")","v":"2022-12-30"},{"$f":" RTD(\"cqg.rtd\",,\"StudyData\", $O$2, \"BAR\", \"\", \"Open\", $O$4, -$A196, $O$6,$O$10,,$O$8,$O$12)","v":3999.5},{"$f":" RTD(\"cqg.rtd\",,\"StudyData\", $O$2, \"BAR\", \"\", \"High\", $O$4, -$A196, $O$6,$O$10,,$O$8,$O$12)","v":4000.75},{"$f":" RTD(\"cqg.rtd\",,\"StudyData\", $O$2, \"BAR\", \"\", \"Low\", $O$4, -$A196, $O$6,$O$10,,$O$8,$O$12)","v":3951.25},{"$f":" RTD(\"cqg.rtd\",,\"StudyData\", $O$2, \"BAR\", \"\", \"Close\", $O$4, -$A196, $O$6,$O$10,,$O$8,$O$12)","v":3990.75},{"$f":" RTD(\"cqg.rtd\",,\"StudyData\", $O$2, \"HVol\", \"InputChoice=Close,HvolType=Percent,Period=10\", \"HVOL\",$O$4,-A196,$O$6,$O$10,,$O$8,$O$12)","v":16.998253100413091}]
[195,{"$f":" RTD(\"cqg.rtd\",,\"StudyData\", $O$2, \"BAR\", \"\", \"Time\", $O$4,-$A197,$O$6,$O$10, \"\",\"False\",\"T\")","v":"2022-12-29"},{"$f":" RTD(\"cqg.rtd\",,\"StudyData\", $O$2, \"BAR\", \"\", \"Open\", $O$4, -$A197, $O$6,$O$10,,$O$8,$O$12)","v":3940.75},{"$f":" RTD(\"cqg.rtd\",,\"StudyData\", $O$2, \"BAR\", \"\", \"High\", $O$4, -$A197, $O$6,$O$10,,$O$8,$O$12)","v":4012.5},{"$f":" RTD(\"cqg.rtd\",,\"StudyData\", $O$2, \"BAR\", \"\", \"Low\", $O$4, -$A197, $O$6,$O$10,,$O$8,$O$12)","v":3936},{"$f":" RTD(\"cqg.rtd\",,\"StudyData\", $O$2, \"BAR\", \"\", \"Close\", $O$4, -$A197, $O$6,$O$10,,$O$8,$O$12)","v":4001.5},{"$f":" RTD(\"cqg.rtd\",,\"StudyData\", $O$2, \"HVol\", \"InputChoice=Close,HvolType=Percent,Period=10\", \"HVOL\",$O$4,-A197,$O$6,$O$10,,$O$8,$O$12)","v":20.62816901985849}]
[196,{"$f":" RTD(\"cqg.rtd\",,\"StudyData\", $O$2, \"BAR\", \"\", \"Time\", $O$4,-$A198,$O$6,$O$10, \"\",\"False\",\"T\")","v":"2022-12-28"},{"$f":" RTD(\"cqg.rtd\",,\"StudyData\", $O$2, \"BAR\", \"\", \"Open\", $O$4, -$A198, $O$6,$O$10,,$O$8,$O$12)","v":3987.75},{"$f":" RTD(\"cqg.rtd\",,\"StudyData\", $O$2, \"BAR\", \"\", \"High\", $O$4, -$A198, $O$6,$O$10,,$O$8,$O$12)","v":4004.75},{"$f":" RTD(\"cqg.rtd\",,\"StudyData\", $O$2, \"BAR\", \"\", \"Low\", $O$4, -$A198, $O$6,$O$10,,$O$8,$O$12)","v":3934.25},{"$f":" RTD(\"cqg.rtd\",,\"StudyData\", $O$2, \"BAR\", \"\", \"Close\", $O$4, -$A198, $O$6,$O$10,,$O$8,$O$12)","v":3937.25},{"$f":" RTD(\"cqg.rtd\",,\"StudyData\", $O$2, \"HVol\", \"InputChoice=Close,HvolType=Percent,Period=10\", \"HVOL\",$O$4,-A198,$O$6,$O$10,,$O$8,$O$12)","v":17.333634552244305}]
[197,{"$f":" RTD(\"cqg.rtd\",,\"StudyData\", $O$2, \"BAR\", \"\", \"Time\", $O$4,-$A199,$O$6,$O$10, \"\",\"False\",\"T\")","v":"2022-12-27"},{"$f":" RTD(\"cqg.rtd\",,\"StudyData\", $O$2, \"BAR\", \"\", \"Open\", $O$4, -$A199, $O$6,$O$10,,$O$8,$O$12)","v":4007.75},{"$f":" RTD(\"cqg.rtd\",,\"StudyData\", $O$2, \"BAR\", \"\", \"High\", $O$4, -$A199, $O$6,$O$10,,$O$8,$O$12)","v":4030.25},{"$f":" RTD(\"cqg.rtd\",,\"StudyData\", $O$2, \"BAR\", \"\", \"Low\", $O$4, -$A199, $O$6,$O$10,,$O$8,$O$12)","v":3967},{"$f":" RTD(\"cqg.rtd\",,\"StudyData\", $O$2, \"BAR\", \"\", \"Close\", $O$4, -$A199, $O$6,$O$10,,$O$8,$O$12)","v":3984.75},{"$f":" RTD(\"cqg.rtd\",,\"StudyData\", $O$2, \"HVol\", \"InputChoice=Close,HvolType=Percent,Period=10\", \"HVOL\",$O$4,-A199,$O$6,$O$10,,$O$8,$O$12)","v":18.160015967220151}]
[198,{"$f":" RTD(\"cqg.rtd\",,\"StudyData\", $O$2, \"BAR\", \"\", \"Time\", $O$4,-$A200,$O$6,$O$10, \"\",\"False\",\"T\")","v":"2022-12-23"},{"$f":" RTD(\"cqg.rtd\",,\"StudyData\", $O$2, \"BAR\", \"\", \"Open\", $O$4, -$A200, $O$6,$O$10,,$O$8,$O$12)","v":3979.75},{"$f":" RTD(\"cqg.rtd\",,\"StudyData\", $O$2, \"BAR\", \"\", \"High\", $O$4, -$A200, $O$6,$O$10,,$O$8,$O$12)","v":4002.25},{"$f":" RTD(\"cqg.rtd\",,\"StudyData\", $O$2, \"BAR\", \"\", \"Low\", $O$4, -$A200, $O$6,$O$10,,$O$8,$O$12)","v":3951},{"$f":" RTD(\"cqg.rtd\",,\"StudyData\", $O$2, \"BAR\", \"\", \"Close\", $O$4, -$A200, $O$6,$O$10,,$O$8,$O$12)","v":3999.5},{"$f":" RTD(\"cqg.rtd\",,\"StudyData\", $O$2, \"HVol\", \"InputChoice=Close,HvolType=Percent,Period=10\", \"HVOL\",$O$4,-A200,$O$6,$O$10,,$O$8,$O$12)","v":20.267489520911042}]
[199,{"$f":" RTD(\"cqg.rtd\",,\"StudyData\", $O$2, \"BAR\", \"\", \"Time\", $O$4,-$A201,$O$6,$O$10, \"\",\"False\",\"T\")","v":"2022-12-22"},{"$f":" RTD(\"cqg.rtd\",,\"StudyData\", $O$2, \"BAR\", \"\", \"Open\", $O$4, -$A201, $O$6,$O$10,,$O$8,$O$12)","v":4044.75},{"$f":" RTD(\"cqg.rtd\",,\"StudyData\", $O$2, \"BAR\", \"\", \"High\", $O$4, -$A201, $O$6,$O$10,,$O$8,$O$12)","v":4049.5},{"$f":" RTD(\"cqg.rtd\",,\"StudyData\", $O$2, \"BAR\", \"\", \"Low\", $O$4, -$A201, $O$6,$O$10,,$O$8,$O$12)","v":3918.25},{"$f":" RTD(\"cqg.rtd\",,\"StudyData\", $O$2, \"BAR\", \"\", \"Close\", $O$4, -$A201, $O$6,$O$10,,$O$8,$O$12)","v":3979},{"$f":" RTD(\"cqg.rtd\",,\"StudyData\", $O$2, \"HVol\", \"InputChoice=Close,HvolType=Percent,Period=10\", \"HVOL\",$O$4,-A201,$O$6,$O$10,,$O$8,$O$12)","v":19.932104106170151}]
[200,{"$f":" RTD(\"cqg.rtd\",,\"StudyData\", $O$2, \"BAR\", \"\", \"Time\", $O$4,-$A202,$O$6,$O$10, \"\",\"False\",\"T\")","v":"2022-12-21"},{"$f":" RTD(\"cqg.rtd\",,\"StudyData\", $O$2, \"BAR\", \"\", \"Open\", $O$4, -$A202, $O$6,$O$10,,$O$8,$O$12)","v":3987},{"$f":" RTD(\"cqg.rtd\",,\"StudyData\", $O$2, \"BAR\", \"\", \"High\", $O$4, -$A202, $O$6,$O$10,,$O$8,$O$12)","v":4048.5},{"$f":" RTD(\"cqg.rtd\",,\"StudyData\", $O$2, \"BAR\", \"\", \"Low\", $O$4, -$A202, $O$6,$O$10,,$O$8,$O$12)","v":3985.25},{"$f":" RTD(\"cqg.rtd\",,\"StudyData\", $O$2, \"BAR\", \"\", \"Close\", $O$4, -$A202, $O$6,$O$10,,$O$8,$O$12)","v":4035.5},{"$f":" RTD(\"cqg.rtd\",,\"StudyData\", $O$2, \"HVol\", \"InputChoice=Close,HvolType=Percent,Period=10\", \"HVOL\",$O$4,-A202,$O$6,$O$10,,$O$8,$O$12)","v":19.656851012330286}]
[201,{"$f":" RTD(\"cqg.rtd\",,\"StudyData\", $O$2, \"BAR\", \"\", \"Time\", $O$4,-$A203,$O$6,$O$10, \"\",\"False\",\"T\")","v":"2022-12-20"},{"$f":" RTD(\"cqg.rtd\",,\"StudyData\", $O$2, \"BAR\", \"\", \"Open\", $O$4, -$A203, $O$6,$O$10,,$O$8,$O$12)","v":3972.5},{"$f":" RTD(\"cqg.rtd\",,\"StudyData\", $O$2, \"BAR\", \"\", \"High\", $O$4, -$A203, $O$6,$O$10,,$O$8,$O$12)","v":3996.25},{"$f":" RTD(\"cqg.rtd\",,\"StudyData\", $O$2, \"BAR\", \"\", \"Low\", $O$4, -$A203, $O$6,$O$10,,$O$8,$O$12)","v":3933.25},{"$f":" RTD(\"cqg.rtd\",,\"StudyData\", $O$2, \"BAR\", \"\", \"Close\", $O$4, -$A203, $O$6,$O$10,,$O$8,$O$12)","v":3979},{"$f":" RTD(\"cqg.rtd\",,\"StudyData\", $O$2, \"HVol\", \"InputChoice=Close,HvolType=Percent,Period=10\", \"HVOL\",$O$4,-A203,$O$6,$O$10,,$O$8,$O$12)","v":17.632313133889394}]
[202,{"$f":" RTD(\"cqg.rtd\",,\"StudyData\", $O$2, \"BAR\", \"\", \"Time\", $O$4,-$A204,$O$6,$O$10, \"\",\"False\",\"T\")","v":"2022-12-19"},{"$f":" RTD(\"cqg.rtd\",,\"StudyData\", $O$2, \"BAR\", \"\", \"Open\", $O$4, -$A204, $O$6,$O$10,,$O$8,$O$12)","v":4003.75},{"$f":" RTD(\"cqg.rtd\",,\"StudyData\", $O$2, \"BAR\", \"\", \"High\", $O$4, -$A204, $O$6,$O$10,,$O$8,$O$12)","v":4028.75},{"$f":" RTD(\"cqg.rtd\",,\"StudyData\", $O$2, \"BAR\", \"\", \"Low\", $O$4, -$A204, $O$6,$O$10,,$O$8,$O$12)","v":3957},{"$f":" RTD(\"cqg.rtd\",,\"StudyData\", $O$2, \"BAR\", \"\", \"Close\", $O$4, -$A204, $O$6,$O$10,,$O$8,$O$12)","v":3975.25},{"$f":" RTD(\"cqg.rtd\",,\"StudyData\", $O$2, \"HVol\", \"InputChoice=Close,HvolType=Percent,Period=10\", \"HVOL\",$O$4,-A204,$O$6,$O$10,,$O$8,$O$12)","v":18.2507868957453}]
[203,{"$f":" RTD(\"cqg.rtd\",,\"StudyData\", $O$2, \"BAR\", \"\", \"Time\", $O$4,-$A205,$O$6,$O$10, \"\",\"False\",\"T\")","v":"2022-12-16"},{"$f":" RTD(\"cqg.rtd\",,\"StudyData\", $O$2, \"BAR\", \"\", \"Open\", $O$4, -$A205, $O$6,$O$10,,$O$8,$O$12)","v":4049.75},{"$f":" RTD(\"cqg.rtd\",,\"StudyData\", $O$2, \"BAR\", \"\", \"High\", $O$4, -$A205, $O$6,$O$10,,$O$8,$O$12)","v":4064.25},{"$f":" RTD(\"cqg.rtd\",,\"StudyData\", $O$2, \"BAR\", \"\", \"Low\", $O$4, -$A205, $O$6,$O$10,,$O$8,$O$12)","v":3985},{"$f":" RTD(\"cqg.rtd\",,\"StudyData\", $O$2, \"BAR\", \"\", \"Close\", $O$4, -$A205, $O$6,$O$10,,$O$8,$O$12)","v":4008.75},{"$f":" RTD(\"cqg.rtd\",,\"StudyData\", $O$2, \"HVol\", \"InputChoice=Close,HvolType=Percent,Period=10\", \"HVOL\",$O$4,-A205,$O$6,$O$10,,$O$8,$O$12)","v":19.239936252437264}]
[204,{"$f":" RTD(\"cqg.rtd\",,\"StudyData\", $O$2, \"BAR\", \"\", \"Time\", $O$4,-$A206,$O$6,$O$10, \"\",\"False\",\"T\")","v":"2022-12-15"},{"$f":" RTD(\"cqg.rtd\",,\"StudyData\", $O$2, \"BAR\", \"\", \"Open\", $O$4, -$A206, $O$6,$O$10,,$O$8,$O$12)","v":4166.75},{"$f":" RTD(\"cqg.rtd\",,\"StudyData\", $O$2, \"BAR\", \"\", \"High\", $O$4, -$A206, $O$6,$O$10,,$O$8,$O$12)","v":4172.75},{"$f":" RTD(\"cqg.rtd\",,\"StudyData\", $O$2, \"BAR\", \"\", \"Low\", $O$4, -$A206, $O$6,$O$10,,$O$8,$O$12)","v":4037.75},{"$f":" RTD(\"cqg.rtd\",,\"StudyData\", $O$2, \"BAR\", \"\", \"Close\", $O$4, -$A206, $O$6,$O$10,,$O$8,$O$12)","v":4057},{"$f":" RTD(\"cqg.rtd\",,\"StudyData\", $O$2, \"HVol\", \"InputChoice=Close,HvolType=Percent,Period=10\", \"HVOL\",$O$4,-A206,$O$6,$O$10,,$O$8,$O$12)","v":18.975945016895022}]
[205,{"$f":" RTD(\"cqg.rtd\",,\"StudyData\", $O$2, \"BAR\", \"\", \"Time\", $O$4,-$A207,$O$6,$O$10, \"\",\"False\",\"T\")","v":"2022-12-14"},{"$f":" RTD(\"cqg.rtd\",,\"StudyData\", $O$2, \"BAR\", \"\", \"Open\", $O$4, -$A207, $O$6,$O$10,,$O$8,$O$12)","v":4184.25},{"$f":" RTD(\"cqg.rtd\",,\"StudyData\", $O$2, \"BAR\", \"\", \"High\", $O$4, -$A207, $O$6,$O$10,,$O$8,$O$12)","v":4220.5},{"$f":" RTD(\"cqg.rtd\",,\"StudyData\", $O$2, \"BAR\", \"\", \"Low\", $O$4, -$A207, $O$6,$O$10,,$O$8,$O$12)","v":4126.75},{"$f":" RTD(\"cqg.rtd\",,\"StudyData\", $O$2, \"BAR\", \"\", \"Close\", $O$4, -$A207, $O$6,$O$10,,$O$8,$O$12)","v":4160.5},{"$f":" RTD(\"cqg.rtd\",,\"StudyData\", $O$2, \"HVol\", \"InputChoice=Close,HvolType=Percent,Period=10\", \"HVOL\",$O$4,-A207,$O$6,$O$10,,$O$8,$O$12)","v":15.238003237124373}]
[206,{"$f":" RTD(\"cqg.rtd\",,\"StudyData\", $O$2, \"BAR\", \"\", \"Time\", $O$4,-$A208,$O$6,$O$10, \"\",\"False\",\"T\")","v":"2022-12-13"},{"$f":" RTD(\"cqg.rtd\",,\"StudyData\", $O$2, \"BAR\", \"\", \"Open\", $O$4, -$A208, $O$6,$O$10,,$O$8,$O$12)","v":4152},{"$f":" RTD(\"cqg.rtd\",,\"StudyData\", $O$2, \"BAR\", \"\", \"High\", $O$4, -$A208, $O$6,$O$10,,$O$8,$O$12)","v":4309.75},{"$f":" RTD(\"cqg.rtd\",,\"StudyData\", $O$2, \"BAR\", \"\", \"Low\", $O$4, -$A208, $O$6,$O$10,,$O$8,$O$12)","v":4147.25},{"$f":" RTD(\"cqg.rtd\",,\"StudyData\", $O$2, \"BAR\", \"\", \"Close\", $O$4, -$A208, $O$6,$O$10,,$O$8,$O$12)","v":4185},{"$f":" RTD(\"cqg.rtd\",,\"StudyData\", $O$2, \"HVol\", \"InputChoice=Close,HvolType=Percent,Period=10\", \"HVOL\",$O$4,-A208,$O$6,$O$10,,$O$8,$O$12)","v":21.411797938435324}]
[207,{"$f":" RTD(\"cqg.rtd\",,\"StudyData\", $O$2, \"BAR\", \"\", \"Time\", $O$4,-$A209,$O$6,$O$10, \"\",\"False\",\"T\")","v":"2022-12-12"},{"$f":" RTD(\"cqg.rtd\",,\"StudyData\", $O$2, \"BAR\", \"\", \"Open\", $O$4, -$A209, $O$6,$O$10,,$O$8,$O$12)","v":4095.5},{"$f":" RTD(\"cqg.rtd\",,\"StudyData\", $O$2, \"BAR\", \"\", \"High\", $O$4, -$A209, $O$6,$O$10,,$O$8,$O$12)","v":4155.75},{"$f":" RTD(\"cqg.rtd\",,\"StudyData\", $O$2, \"BAR\", \"\", \"Low\", $O$4, -$A209, $O$6,$O$10,,$O$8,$O$12)","v":4085.75},{"$f":" RTD(\"cqg.rtd\",,\"StudyData\", $O$2, \"BAR\", \"\", \"Close\", $O$4, -$A209, $O$6,$O$10,,$O$8,$O$12)","v":4154.75},{"$f":" RTD(\"cqg.rtd\",,\"StudyData\", $O$2, \"HVol\", \"InputChoice=Close,HvolType=Percent,Period=10\", \"HVOL\",$O$4,-A209,$O$6,$O$10,,$O$8,$O$12)","v":21.224607225823089}]
[208,{"$f":" RTD(\"cqg.rtd\",,\"StudyData\", $O$2, \"BAR\", \"\", \"Time\", $O$4,-$A210,$O$6,$O$10, \"\",\"False\",\"T\")","v":"2022-12-09"},{"$f":" RTD(\"cqg.rtd\",,\"StudyData\", $O$2, \"BAR\", \"\", \"Open\", $O$4, -$A210, $O$6,$O$10,,$O$8,$O$12)","v":4126.5},{"$f":" RTD(\"cqg.rtd\",,\"StudyData\", $O$2, \"BAR\", \"\", \"High\", $O$4, -$A210, $O$6,$O$10,,$O$8,$O$12)","v":4151.75},{"$f":" RTD(\"cqg.rtd\",,\"StudyData\", $O$2, \"BAR\", \"\", \"Low\", $O$4, -$A210, $O$6,$O$10,,$O$8,$O$12)","v":4091.75},{"$f":" RTD(\"cqg.rtd\",,\"StudyData\", $O$2, \"BAR\", \"\", \"Close\", $O$4, -$A210, $O$6,$O$10,,$O$8,$O$12)","v":4098},{"$f":" RTD(\"cqg.rtd\",,\"StudyData\", $O$2, \"HVol\", \"InputChoice=Close,HvolType=Percent,Period=10\", \"HVOL\",$O$4,-A210,$O$6,$O$10,,$O$8,$O$12)","v":21.108644691424079}]
[209,{"$f":" RTD(\"cqg.rtd\",,\"StudyData\", $O$2, \"BAR\", \"\", \"Time\", $O$4,-$A211,$O$6,$O$10, \"\",\"False\",\"T\")","v":"2022-12-08"},{"$f":" RTD(\"cqg.rtd\",,\"StudyData\", $O$2, \"BAR\", \"\", \"Open\", $O$4, -$A211, $O$6,$O$10,,$O$8,$O$12)","v":4097.5},{"$f":" RTD(\"cqg.rtd\",,\"StudyData\", $O$2, \"BAR\", \"\", \"High\", $O$4, -$A211, $O$6,$O$10,,$O$8,$O$12)","v":4139},{"$f":" RTD(\"cqg.rtd\",,\"StudyData\", $O$2, \"BAR\", \"\", \"Low\", $O$4, -$A211, $O$6,$O$10,,$O$8,$O$12)","v":4077.75},{"$f":" RTD(\"cqg.rtd\",,\"StudyData\", $O$2, \"BAR\", \"\", \"Close\", $O$4, -$A211, $O$6,$O$10,,$O$8,$O$12)","v":4127.5},{"$f":" RTD(\"cqg.rtd\",,\"StudyData\", $O$2, \"HVol\", \"InputChoice=Close,HvolType=Percent,Period=10\", \"HVOL\",$O$4,-A211,$O$6,$O$10,,$O$8,$O$12)","v":20.946606835565937}]
[210,{"$f":" RTD(\"cqg.rtd\",,\"StudyData\", $O$2, \"BAR\", \"\", \"Time\", $O$4,-$A212,$O$6,$O$10, \"\",\"False\",\"T\")","v":"2022-12-07"},{"$f":" RTD(\"cqg.rtd\",,\"StudyData\", $O$2, \"BAR\", \"\", \"Open\", $O$4, -$A212, $O$6,$O$10,,$O$8,$O$12)","v":4106.25},{"$f":" RTD(\"cqg.rtd\",,\"StudyData\", $O$2, \"BAR\", \"\", \"High\", $O$4, -$A212, $O$6,$O$10,,$O$8,$O$12)","v":4123.25},{"$f":" RTD(\"cqg.rtd\",,\"StudyData\", $O$2, \"BAR\", \"\", \"Low\", $O$4, -$A212, $O$6,$O$10,,$O$8,$O$12)","v":4075.75},{"$f":" RTD(\"cqg.rtd\",,\"StudyData\", $O$2, \"BAR\", \"\", \"Close\", $O$4, -$A212, $O$6,$O$10,,$O$8,$O$12)","v":4098.5},{"$f":" RTD(\"cqg.rtd\",,\"StudyData\", $O$2, \"HVol\", \"InputChoice=Close,HvolType=Percent,Period=10\", \"HVOL\",$O$4,-A212,$O$6,$O$10,,$O$8,$O$12)","v":20.776297957530154}]
[211,{"$f":" RTD(\"cqg.rtd\",,\"StudyData\", $O$2, \"BAR\", \"\", \"Time\", $O$4,-$A213,$O$6,$O$10, \"\",\"False\",\"T\")","v":"2022-12-06"},{"$f":" RTD(\"cqg.rtd\",,\"StudyData\", $O$2, \"BAR\", \"\", \"Open\", $O$4, -$A213, $O$6,$O$10,,$O$8,$O$12)","v":4167.5},{"$f":" RTD(\"cqg.rtd\",,\"StudyData\", $O$2, \"BAR\", \"\", \"High\", $O$4, -$A213, $O$6,$O$10,,$O$8,$O$12)","v":4176.5},{"$f":" RTD(\"cqg.rtd\",,\"StudyData\", $O$2, \"BAR\", \"\", \"Low\", $O$4, -$A213, $O$6,$O$10,,$O$8,$O$12)","v":4083.25},{"$f":" RTD(\"cqg.rtd\",,\"StudyData\", $O$2, \"BAR\", \"\", \"Close\", $O$4, -$A213, $O$6,$O$10,,$O$8,$O$12)","v":4106.75},{"$f":" RTD(\"cqg.rtd\",,\"StudyData\", $O$2, \"HVol\", \"InputChoice=Close,HvolType=Percent,Period=10\", \"HVOL\",$O$4,-A213,$O$6,$O$10,,$O$8,$O$12)","v":21.979184033571052}]
[212,{"$f":" RTD(\"cqg.rtd\",,\"StudyData\", $O$2, \"BAR\", \"\", \"Time\", $O$4,-$A214,$O$6,$O$10, \"\",\"False\",\"T\")","v":"2022-12-05"},{"$f":" RTD(\"cqg.rtd\",,\"StudyData\", $O$2, \"BAR\", \"\", \"Open\", $O$4, -$A214, $O$6,$O$10,,$O$8,$O$12)","v":4235.75},{"$f":" RTD(\"cqg.rtd\",,\"StudyData\", $O$2, \"BAR\", \"\", \"High\", $O$4, -$A214, $O$6,$O$10,,$O$8,$O$12)","v":4237.5},{"$f":" RTD(\"cqg.rtd\",,\"StudyData\", $O$2, \"BAR\", \"\", \"Low\", $O$4, -$A214, $O$6,$O$10,,$O$8,$O$12)","v":4149},{"$f":" RTD(\"cqg.rtd\",,\"StudyData\", $O$2, \"BAR\", \"\", \"Close\", $O$4, -$A214, $O$6,$O$10,,$O$8,$O$12)","v":4165},{"$f":" RTD(\"cqg.rtd\",,\"StudyData\", $O$2, \"HVol\", \"InputChoice=Close,HvolType=Percent,Period=10\", \"HVOL\",$O$4,-A214,$O$6,$O$10,,$O$8,$O$12)","v":20.769128494052023}]
[213,{"$f":" RTD(\"cqg.rtd\",,\"StudyData\", $O$2, \"BAR\", \"\", \"Time\", $O$4,-$A215,$O$6,$O$10, \"\",\"False\",\"T\")","v":"2022-12-02"},{"$f":" RTD(\"cqg.rtd\",,\"StudyData\", $O$2, \"BAR\", \"\", \"Open\", $O$4, -$A215, $O$6,$O$10,,$O$8,$O$12)","v":4239.25},{"$f":" RTD(\"cqg.rtd\",,\"StudyData\", $O$2, \"BAR\", \"\", \"High\", $O$4, -$A215, $O$6,$O$10,,$O$8,$O$12)","v":4247.25},{"$f":" RTD(\"cqg.rtd\",,\"StudyData\", $O$2, \"BAR\", \"\", \"Low\", $O$4, -$A215, $O$6,$O$10,,$O$8,$O$12)","v":4168.5},{"$f":" RTD(\"cqg.rtd\",,\"StudyData\", $O$2, \"BAR\", \"\", \"Close\", $O$4, -$A215, $O$6,$O$10,,$O$8,$O$12)","v":4237.25},{"$f":" RTD(\"cqg.rtd\",,\"StudyData\", $O$2, \"HVol\", \"InputChoice=Close,HvolType=Percent,Period=10\", \"HVOL\",$O$4,-A215,$O$6,$O$10,,$O$8,$O$12)","v":18.275727062848418}]
[214,{"$f":" RTD(\"cqg.rtd\",,\"StudyData\", $O$2, \"BAR\", \"\", \"Time\", $O$4,-$A216,$O$6,$O$10, \"\",\"False\",\"T\")","v":"2022-12-01"},{"$f":" RTD(\"cqg.rtd\",,\"StudyData\", $O$2, \"BAR\", \"\", \"Open\", $O$4, -$A216, $O$6,$O$10,,$O$8,$O$12)","v":4256.25},{"$f":" RTD(\"cqg.rtd\",,\"StudyData\", $O$2, \"BAR\", \"\", \"High\", $O$4, -$A216, $O$6,$O$10,,$O$8,$O$12)","v":4271.75},{"$f":" RTD(\"cqg.rtd\",,\"StudyData\", $O$2, \"BAR\", \"\", \"Low\", $O$4, -$A216, $O$6,$O$10,,$O$8,$O$12)","v":4216.25},{"$f":" RTD(\"cqg.rtd\",,\"StudyData\", $O$2, \"BAR\", \"\", \"Close\", $O$4, -$A216, $O$6,$O$10,,$O$8,$O$12)","v":4243.5},{"$f":" RTD(\"cqg.rtd\",,\"StudyData\", $O$2, \"HVol\", \"InputChoice=Close,HvolType=Percent,Period=10\", \"HVOL\",$O$4,-A216,$O$6,$O$10,,$O$8,$O$12)","v":18.41226423154329}]
[215,{"$f":" RTD(\"cqg.rtd\",,\"StudyData\", $O$2, \"BAR\", \"\", \"Time\", $O$4,-$A217,$O$6,$O$10, \"\",\"False\",\"T\")","v":"2022-11-30"},{"$f":" RTD(\"cqg.rtd\",,\"StudyData\", $O$2, \"BAR\", \"\", \"Open\", $O$4, -$A217, $O$6,$O$10,,$O$8,$O$12)","v":4124},{"$f":" RTD(\"cqg.rtd\",,\"StudyData\", $O$2, \"BAR\", \"\", \"High\", $O$4, -$A217, $O$6,$O$10,,$O$8,$O$12)","v":4255.25},{"$f":" RTD(\"cqg.rtd\",,\"StudyData\", $O$2, \"BAR\", \"\", \"Low\", $O$4, -$A217, $O$6,$O$10,,$O$8,$O$12)","v":4104.5},{"$f":" RTD(\"cqg.rtd\",,\"StudyData\", $O$2, \"BAR\", \"\", \"Close\", $O$4, -$A217, $O$6,$O$10,,$O$8,$O$12)","v":4243},{"$f":" RTD(\"cqg.rtd\",,\"StudyData\", $O$2, \"HVol\", \"InputChoice=Close,HvolType=Percent,Period=10\", \"HVOL\",$O$4,-A217,$O$6,$O$10,,$O$8,$O$12)","v":19.091226315975881}]
[216,{"$f":" RTD(\"cqg.rtd\",,\"StudyData\", $O$2, \"BAR\", \"\", \"Time\", $O$4,-$A218,$O$6,$O$10, \"\",\"False\",\"T\")","v":"2022-11-29"},{"$f":" RTD(\"cqg.rtd\",,\"StudyData\", $O$2, \"BAR\", \"\", \"Open\", $O$4, -$A218, $O$6,$O$10,,$O$8,$O$12)","v":4133.75},{"$f":" RTD(\"cqg.rtd\",,\"StudyData\", $O$2, \"BAR\", \"\", \"High\", $O$4, -$A218, $O$6,$O$10,,$O$8,$O$12)","v":4152},{"$f":" RTD(\"cqg.rtd\",,\"StudyData\", $O$2, \"BAR\", \"\", \"Low\", $O$4, -$A218, $O$6,$O$10,,$O$8,$O$12)","v":4103},{"$f":" RTD(\"cqg.rtd\",,\"StudyData\", $O$2, \"BAR\", \"\", \"Close\", $O$4, -$A218, $O$6,$O$10,,$O$8,$O$12)","v":4123.75},{"$f":" RTD(\"cqg.rtd\",,\"StudyData\", $O$2, \"HVol\", \"InputChoice=Close,HvolType=Percent,Period=10\", \"HVOL\",$O$4,-A218,$O$6,$O$10,,$O$8,$O$12)","v":12.716843387767266}]
[217,{"$f":" RTD(\"cqg.rtd\",,\"StudyData\", $O$2, \"BAR\", \"\", \"Time\", $O$4,-$A219,$O$6,$O$10, \"\",\"False\",\"T\")","v":"2022-11-28"},{"$f":" RTD(\"cqg.rtd\",,\"StudyData\", $O$2, \"BAR\", \"\", \"Open\", $O$4, -$A219, $O$6,$O$10,,$O$8,$O$12)","v":4182},{"$f":" RTD(\"cqg.rtd\",,\"StudyData\", $O$2, \"BAR\", \"\", \"High\", $O$4, -$A219, $O$6,$O$10,,$O$8,$O$12)","v":4185.75},{"$f":" RTD(\"cqg.rtd\",,\"StudyData\", $O$2, \"BAR\", \"\", \"Low\", $O$4, -$A219, $O$6,$O$10,,$O$8,$O$12)","v":4122},{"$f":" RTD(\"cqg.rtd\",,\"StudyData\", $O$2, \"BAR\", \"\", \"Close\", $O$4, -$A219, $O$6,$O$10,,$O$8,$O$12)","v":4132},{"$f":" RTD(\"cqg.rtd\",,\"StudyData\", $O$2, \"HVol\", \"InputChoice=Close,HvolType=Percent,Period=10\", \"HVOL\",$O$4,-A219,$O$6,$O$10,,$O$8,$O$12)","v":13.345712671330322}]
[218,{"$f":" RTD(\"cqg.rtd\",,\"StudyData\", $O$2, \"BAR\", \"\", \"Time\", $O$4,-$A220,$O$6,$O$10, \"\",\"False\",\"T\")","v":"2022-11-25"},{"$f":" RTD(\"cqg.rtd\",,\"StudyData\", $O$2, \"BAR\", \"\", \"Open\", $O$4, -$A220, $O$6,$O$10,,$O$8,$O$12)","v":4200.5},{"$f":" RTD(\"cqg.rtd\",,\"StudyData\", $O$2, \"BAR\", \"\", \"High\", $O$4, -$A220, $O$6,$O$10,,$O$8,$O$12)","v":4211},{"$f":" RTD(\"cqg.rtd\",,\"StudyData\", $O$2, \"BAR\", \"\", \"Low\", $O$4, -$A220, $O$6,$O$10,,$O$8,$O$12)","v":4186.5},{"$f":" RTD(\"cqg.rtd\",,\"StudyData\", $O$2, \"BAR\", \"\", \"Close\", $O$4, -$A220, $O$6,$O$10,,$O$8,$O$12)","v":4194.25},{"$f":" RTD(\"cqg.rtd\",,\"StudyData\", $O$2, \"HVol\", \"InputChoice=Close,HvolType=Percent,Period=10\", \"HVOL\",$O$4,-A220,$O$6,$O$10,,$O$8,$O$12)","v":11.617383858592655}]
[219,{"$f":" RTD(\"cqg.rtd\",,\"StudyData\", $O$2, \"BAR\", \"\", \"Time\", $O$4,-$A221,$O$6,$O$10, \"\",\"False\",\"T\")","v":"2022-11-23"},{"$f":" RTD(\"cqg.rtd\",,\"StudyData\", $O$2, \"BAR\", \"\", \"Open\", $O$4, -$A221, $O$6,$O$10,,$O$8,$O$12)","v":4171.75},{"$f":" RTD(\"cqg.rtd\",,\"StudyData\", $O$2, \"BAR\", \"\", \"High\", $O$4, -$A221, $O$6,$O$10,,$O$8,$O$12)","v":4201.25},{"$f":" RTD(\"cqg.rtd\",,\"StudyData\", $O$2, \"BAR\", \"\", \"Low\", $O$4, -$A221, $O$6,$O$10,,$O$8,$O$12)","v":4163.75},{"$f":" RTD(\"cqg.rtd\",,\"StudyData\", $O$2, \"BAR\", \"\", \"Close\", $O$4, -$A221, $O$6,$O$10,,$O$8,$O$12)","v":4194.75},{"$f":" RTD(\"cqg.rtd\",,\"StudyData\", $O$2, \"HVol\", \"InputChoice=Close,HvolType=Percent,Period=10\", \"HVOL\",$O$4,-A221,$O$6,$O$10,,$O$8,$O$12)","v":27.778676774394075}]
[220,{"$f":" RTD(\"cqg.rtd\",,\"StudyData\", $O$2, \"BAR\", \"\", \"Time\", $O$4,-$A222,$O$6,$O$10, \"\",\"False\",\"T\")","v":"2022-11-22"},{"$f":" RTD(\"cqg.rtd\",,\"StudyData\", $O$2, \"BAR\", \"\", \"Open\", $O$4, -$A222, $O$6,$O$10,,$O$8,$O$12)","v":4119.5},{"$f":" RTD(\"cqg.rtd\",,\"StudyData\", $O$2, \"BAR\", \"\", \"High\", $O$4, -$A222, $O$6,$O$10,,$O$8,$O$12)","v":4174.25},{"$f":" RTD(\"cqg.rtd\",,\"StudyData\", $O$2, \"BAR\", \"\", \"Low\", $O$4, -$A222, $O$6,$O$10,,$O$8,$O$12)","v":4107},{"$f":" RTD(\"cqg.rtd\",,\"StudyData\", $O$2, \"BAR\", \"\", \"Close\", $O$4, -$A222, $O$6,$O$10,,$O$8,$O$12)","v":4172},{"$f":" RTD(\"cqg.rtd\",,\"StudyData\", $O$2, \"HVol\", \"InputChoice=Close,HvolType=Percent,Period=10\", \"HVOL\",$O$4,-A222,$O$6,$O$10,,$O$8,$O$12)","v":30.901334245918797}]
[221,{"$f":" RTD(\"cqg.rtd\",,\"StudyData\", $O$2, \"BAR\", \"\", \"Time\", $O$4,-$A223,$O$6,$O$10, \"\",\"False\",\"T\")","v":"2022-11-21"},{"$f":" RTD(\"cqg.rtd\",,\"StudyData\", $O$2, \"BAR\", \"\", \"Open\", $O$4, -$A223, $O$6,$O$10,,$O$8,$O$12)","v":4134.25},{"$f":" RTD(\"cqg.rtd\",,\"StudyData\", $O$2, \"BAR\", \"\", \"High\", $O$4, -$A223, $O$6,$O$10,,$O$8,$O$12)","v":4143.75},{"$f":" RTD(\"cqg.rtd\",,\"StudyData\", $O$2, \"BAR\", \"\", \"Low\", $O$4, -$A223, $O$6,$O$10,,$O$8,$O$12)","v":4099.25},{"$f":" RTD(\"cqg.rtd\",,\"StudyData\", $O$2, \"BAR\", \"\", \"Close\", $O$4, -$A223, $O$6,$O$10,,$O$8,$O$12)","v":4119.75},{"$f":" RTD(\"cqg.rtd\",,\"StudyData\", $O$2, \"HVol\", \"InputChoice=Close,HvolType=Percent,Period=10\", \"HVOL\",$O$4,-A223,$O$6,$O$10,,$O$8,$O$12)","v":30.570967607875097}]
[222,{"$f":" RTD(\"cqg.rtd\",,\"StudyData\", $O$2, \"BAR\", \"\", \"Time\", $O$4,-$A224,$O$6,$O$10, \"\",\"False\",\"T\")","v":"2022-11-18"},{"$f":" RTD(\"cqg.rtd\",,\"StudyData\", $O$2, \"BAR\", \"\", \"Open\", $O$4, -$A224, $O$6,$O$10,,$O$8,$O$12)","v":4122.25},{"$f":" RTD(\"cqg.rtd\",,\"StudyData\", $O$2, \"BAR\", \"\", \"High\", $O$4, -$A224, $O$6,$O$10,,$O$8,$O$12)","v":4155.75},{"$f":" RTD(\"cqg.rtd\",,\"StudyData\", $O$2, \"BAR\", \"\", \"Low\", $O$4, -$A224, $O$6,$O$10,,$O$8,$O$12)","v":4104.25},{"$f":" RTD(\"cqg.rtd\",,\"StudyData\", $O$2, \"BAR\", \"\", \"Close\", $O$4, -$A224, $O$6,$O$10,,$O$8,$O$12)","v":4135.75},{"$f":" RTD(\"cqg.rtd\",,\"StudyData\", $O$2, \"HVol\", \"InputChoice=Close,HvolType=Percent,Period=10\", \"HVOL\",$O$4,-A224,$O$6,$O$10,,$O$8,$O$12)","v":30.365334977174822}]
[223,{"$f":" RTD(\"cqg.rtd\",,\"StudyData\", $O$2, \"BAR\", \"\", \"Time\", $O$4,-$A225,$O$6,$O$10, \"\",\"False\",\"T\")","v":"2022-11-17"},{"$f":" RTD(\"cqg.rtd\",,\"StudyData\", $O$2, \"BAR\", \"\", \"Open\", $O$4, -$A225, $O$6,$O$10,,$O$8,$O$12)","v":4139},{"$f":" RTD(\"cqg.rtd\",,\"StudyData\", $O$2, \"BAR\", \"\", \"High\", $O$4, -$A225, $O$6,$O$10,,$O$8,$O$12)","v":4152},{"$f":" RTD(\"cqg.rtd\",,\"StudyData\", $O$2, \"BAR\", \"\", \"Low\", $O$4, -$A225, $O$6,$O$10,,$O$8,$O$12)","v":4074.25},{"$f":" RTD(\"cqg.rtd\",,\"StudyData\", $O$2, \"BAR\", \"\", \"Close\", $O$4, -$A225, $O$6,$O$10,,$O$8,$O$12)","v":4117},{"$f":" RTD(\"cqg.rtd\",,\"StudyData\", $O$2, \"HVol\", \"InputChoice=Close,HvolType=Percent,Period=10\", \"HVOL\",$O$4,-A225,$O$6,$O$10,,$O$8,$O$12)","v":30.644314086953241}]
[224,{"$f":" RTD(\"cqg.rtd\",,\"StudyData\", $O$2, \"BAR\", \"\", \"Time\", $O$4,-$A226,$O$6,$O$10, \"\",\"False\",\"T\")","v":"2022-11-16"},{"$f":" RTD(\"cqg.rtd\",,\"StudyData\", $O$2, \"BAR\", \"\", \"Open\", $O$4, -$A226, $O$6,$O$10,,$O$8,$O$12)","v":4153.75},{"$f":" RTD(\"cqg.rtd\",,\"StudyData\", $O$2, \"BAR\", \"\", \"High\", $O$4, -$A226, $O$6,$O$10,,$O$8,$O$12)","v":4177.5},{"$f":" RTD(\"cqg.rtd\",,\"StudyData\", $O$2, \"BAR\", \"\", \"Low\", $O$4, -$A226, $O$6,$O$10,,$O$8,$O$12)","v":4123.75},{"$f":" RTD(\"cqg.rtd\",,\"StudyData\", $O$2, \"BAR\", \"\", \"Close\", $O$4, -$A226, $O$6,$O$10,,$O$8,$O$12)","v":4130.25},{"$f":" RTD(\"cqg.rtd\",,\"StudyData\", $O$2, \"HVol\", \"InputChoice=Close,HvolType=Percent,Period=10\", \"HVOL\",$O$4,-A226,$O$6,$O$10,,$O$8,$O$12)","v":31.44092035974105}]
[225,{"$f":" RTD(\"cqg.rtd\",,\"StudyData\", $O$2, \"BAR\", \"\", \"Time\", $O$4,-$A227,$O$6,$O$10, \"\",\"False\",\"T\")","v":"2022-11-15"},{"$f":" RTD(\"cqg.rtd\",,\"StudyData\", $O$2, \"BAR\", \"\", \"Open\", $O$4, -$A227, $O$6,$O$10,,$O$8,$O$12)","v":4136.5},{"$f":" RTD(\"cqg.rtd\",,\"StudyData\", $O$2, \"BAR\", \"\", \"High\", $O$4, -$A227, $O$6,$O$10,,$O$8,$O$12)","v":4212.5},{"$f":" RTD(\"cqg.rtd\",,\"StudyData\", $O$2, \"BAR\", \"\", \"Low\", $O$4, -$A227, $O$6,$O$10,,$O$8,$O$12)","v":4121.75},{"$f":" RTD(\"cqg.rtd\",,\"StudyData\", $O$2, \"BAR\", \"\", \"Close\", $O$4, -$A227, $O$6,$O$10,,$O$8,$O$12)","v":4161.25},{"$f":" RTD(\"cqg.rtd\",,\"StudyData\", $O$2, \"HVol\", \"InputChoice=Close,HvolType=Percent,Period=10\", \"HVOL\",$O$4,-A227,$O$6,$O$10,,$O$8,$O$12)","v":34.278594129995049}]
[226,{"$f":" RTD(\"cqg.rtd\",,\"StudyData\", $O$2, \"BAR\", \"\", \"Time\", $O$4,-$A228,$O$6,$O$10, \"\",\"False\",\"T\")","v":"2022-11-14"},{"$f":" RTD(\"cqg.rtd\",,\"StudyData\", $O$2, \"BAR\", \"\", \"Open\", $O$4, -$A228, $O$6,$O$10,,$O$8,$O$12)","v":4145.75},{"$f":" RTD(\"cqg.rtd\",,\"StudyData\", $O$2, \"BAR\", \"\", \"High\", $O$4, -$A228, $O$6,$O$10,,$O$8,$O$12)","v":4179.25},{"$f":" RTD(\"cqg.rtd\",,\"StudyData\", $O$2, \"BAR\", \"\", \"Low\", $O$4, -$A228, $O$6,$O$10,,$O$8,$O$12)","v":4125.75},{"$f":" RTD(\"cqg.rtd\",,\"StudyData\", $O$2, \"BAR\", \"\", \"Close\", $O$4, -$A228, $O$6,$O$10,,$O$8,$O$12)","v":4127.75},{"$f":" RTD(\"cqg.rtd\",,\"StudyData\", $O$2, \"HVol\", \"InputChoice=Close,HvolType=Percent,Period=10\", \"HVOL\",$O$4,-A228,$O$6,$O$10,,$O$8,$O$12)","v":34.368515863780402}]
[227,{"$f":" RTD(\"cqg.rtd\",,\"StudyData\", $O$2, \"BAR\", \"\", \"Time\", $O$4,-$A229,$O$6,$O$10, \"\",\"False\",\"T\")","v":"2022-11-11"},{"$f":" RTD(\"cqg.rtd\",,\"StudyData\", $O$2, \"BAR\", \"\", \"Open\", $O$4, -$A229, $O$6,$O$10,,$O$8,$O$12)","v":4134.75},{"$f":" RTD(\"cqg.rtd\",,\"StudyData\", $O$2, \"BAR\", \"\", \"High\", $O$4, -$A229, $O$6,$O$10,,$O$8,$O$12)","v":4171.5},{"$f":" RTD(\"cqg.rtd\",,\"StudyData\", $O$2, \"BAR\", \"\", \"Low\", $O$4, -$A229, $O$6,$O$10,,$O$8,$O$12)","v":4112.75},{"$f":" RTD(\"cqg.rtd\",,\"StudyData\", $O$2, \"BAR\", \"\", \"Close\", $O$4, -$A229, $O$6,$O$10,,$O$8,$O$12)","v":4162},{"$f":" RTD(\"cqg.rtd\",,\"StudyData\", $O$2, \"HVol\", \"InputChoice=Close,HvolType=Percent,Period=10\", \"HVOL\",$O$4,-A229,$O$6,$O$10,,$O$8,$O$12)","v":34.2649845580479}]
[228,{"$f":" RTD(\"cqg.rtd\",,\"StudyData\", $O$2, \"BAR\", \"\", \"Time\", $O$4,-$A230,$O$6,$O$10, \"\",\"False\",\"T\")","v":"2022-11-10"},{"$f":" RTD(\"cqg.rtd\",,\"StudyData\", $O$2, \"BAR\", \"\", \"Open\", $O$4, -$A230, $O$6,$O$10,,$O$8,$O$12)","v":3918.75},{"$f":" RTD(\"cqg.rtd\",,\"StudyData\", $O$2, \"BAR\", \"\", \"High\", $O$4, -$A230, $O$6,$O$10,,$O$8,$O$12)","v":4135.25},{"$f":" RTD(\"cqg.rtd\",,\"StudyData\", $O$2, \"BAR\", \"\", \"Low\", $O$4, -$A230, $O$6,$O$10,,$O$8,$O$12)","v":3913.25},{"$f":" RTD(\"cqg.rtd\",,\"StudyData\", $O$2, \"BAR\", \"\", \"Close\", $O$4, -$A230, $O$6,$O$10,,$O$8,$O$12)","v":4122.75},{"$f":" RTD(\"cqg.rtd\",,\"StudyData\", $O$2, \"HVol\", \"InputChoice=Close,HvolType=Percent,Period=10\", \"HVOL\",$O$4,-A230,$O$6,$O$10,,$O$8,$O$12)","v":35.686637648518335}]
[229,{"$f":" RTD(\"cqg.rtd\",,\"StudyData\", $O$2, \"BAR\", \"\", \"Time\", $O$4,-$A231,$O$6,$O$10, \"\",\"False\",\"T\")","v":"2022-11-09"},{"$f":" RTD(\"cqg.rtd\",,\"StudyData\", $O$2, \"BAR\", \"\", \"Open\", $O$4, -$A231, $O$6,$O$10,,$O$8,$O$12)","v":3994.25},{"$f":" RTD(\"cqg.rtd\",,\"StudyData\", $O$2, \"BAR\", \"\", \"High\", $O$4, -$A231, $O$6,$O$10,,$O$8,$O$12)","v":4010.5},{"$f":" RTD(\"cqg.rtd\",,\"StudyData\", $O$2, \"BAR\", \"\", \"Low\", $O$4, -$A231, $O$6,$O$10,,$O$8,$O$12)","v":3911.75},{"$f":" RTD(\"cqg.rtd\",,\"StudyData\", $O$2, \"BAR\", \"\", \"Close\", $O$4, -$A231, $O$6,$O$10,,$O$8,$O$12)","v":3917.25},{"$f":" RTD(\"cqg.rtd\",,\"StudyData\", $O$2, \"HVol\", \"InputChoice=Close,HvolType=Percent,Period=10\", \"HVOL\",$O$4,-A231,$O$6,$O$10,,$O$8,$O$12)","v":23.320321981317875}]
[230,{"$f":" RTD(\"cqg.rtd\",,\"StudyData\", $O$2, \"BAR\", \"\", \"Time\", $O$4,-$A232,$O$6,$O$10, \"\",\"False\",\"T\")","v":"2022-11-08"},{"$f":" RTD(\"cqg.rtd\",,\"StudyData\", $O$2, \"BAR\", \"\", \"Open\", $O$4, -$A232, $O$6,$O$10,,$O$8,$O$12)","v":3974.5},{"$f":" RTD(\"cqg.rtd\",,\"StudyData\", $O$2, \"BAR\", \"\", \"High\", $O$4, -$A232, $O$6,$O$10,,$O$8,$O$12)","v":4028.75},{"$f":" RTD(\"cqg.rtd\",,\"StudyData\", $O$2, \"BAR\", \"\", \"Low\", $O$4, -$A232, $O$6,$O$10,,$O$8,$O$12)","v":3954.5},{"$f":" RTD(\"cqg.rtd\",,\"StudyData\", $O$2, \"BAR\", \"\", \"Close\", $O$4, -$A232, $O$6,$O$10,,$O$8,$O$12)","v":3997},{"$f":" RTD(\"cqg.rtd\",,\"StudyData\", $O$2, \"HVol\", \"InputChoice=Close,HvolType=Percent,Period=10\", \"HVOL\",$O$4,-A232,$O$6,$O$10,,$O$8,$O$12)","v":21.399014963747089}]
[231,{"$f":" RTD(\"cqg.rtd\",,\"StudyData\", $O$2, \"BAR\", \"\", \"Time\", $O$4,-$A233,$O$6,$O$10, \"\",\"False\",\"T\")","v":"2022-11-07"},{"$f":" RTD(\"cqg.rtd\",,\"StudyData\", $O$2, \"BAR\", \"\", \"Open\", $O$4, -$A233, $O$6,$O$10,,$O$8,$O$12)","v":3911.75},{"$f":" RTD(\"cqg.rtd\",,\"StudyData\", $O$2, \"BAR\", \"\", \"High\", $O$4, -$A233, $O$6,$O$10,,$O$8,$O$12)","v":3983.5},{"$f":" RTD(\"cqg.rtd\",,\"StudyData\", $O$2, \"BAR\", \"\", \"Low\", $O$4, -$A233, $O$6,$O$10,,$O$8,$O$12)","v":3900},{"$f":" RTD(\"cqg.rtd\",,\"StudyData\", $O$2, \"BAR\", \"\", \"Close\", $O$4, -$A233, $O$6,$O$10,,$O$8,$O$12)","v":3977},{"$f":" RTD(\"cqg.rtd\",,\"StudyData\", $O$2, \"HVol\", \"InputChoice=Close,HvolType=Percent,Period=10\", \"HVOL\",$O$4,-A233,$O$6,$O$10,,$O$8,$O$12)","v":22.759710914406064}]
[232,{"$f":" RTD(\"cqg.rtd\",,\"StudyData\", $O$2, \"BAR\", \"\", \"Time\", $O$4,-$A234,$O$6,$O$10, \"\",\"False\",\"T\")","v":"2022-11-04"},{"$f":" RTD(\"cqg.rtd\",,\"StudyData\", $O$2, \"BAR\", \"\", \"Open\", $O$4, -$A234, $O$6,$O$10,,$O$8,$O$12)","v":3885.75},{"$f":" RTD(\"cqg.rtd\",,\"StudyData\", $O$2, \"BAR\", \"\", \"High\", $O$4, -$A234, $O$6,$O$10,,$O$8,$O$12)","v":3967.25},{"$f":" RTD(\"cqg.rtd\",,\"StudyData\", $O$2, \"BAR\", \"\", \"Low\", $O$4, -$A234, $O$6,$O$10,,$O$8,$O$12)","v":3872.75},{"$f":" RTD(\"cqg.rtd\",,\"StudyData\", $O$2, \"BAR\", \"\", \"Close\", $O$4, -$A234, $O$6,$O$10,,$O$8,$O$12)","v":3941.25},{"$f":" RTD(\"cqg.rtd\",,\"StudyData\", $O$2, \"HVol\", \"InputChoice=Close,HvolType=Percent,Period=10\", \"HVOL\",$O$4,-A234,$O$6,$O$10,,$O$8,$O$12)","v":23.055457664509508}]
[233,{"$f":" RTD(\"cqg.rtd\",,\"StudyData\", $O$2, \"BAR\", \"\", \"Time\", $O$4,-$A235,$O$6,$O$10, \"\",\"False\",\"T\")","v":"2022-11-03"},{"$f":" RTD(\"cqg.rtd\",,\"StudyData\", $O$2, \"BAR\", \"\", \"Open\", $O$4, -$A235, $O$6,$O$10,,$O$8,$O$12)","v":3928.5},{"$f":" RTD(\"cqg.rtd\",,\"StudyData\", $O$2, \"BAR\", \"\", \"High\", $O$4, -$A235, $O$6,$O$10,,$O$8,$O$12)","v":3944.25},{"$f":" RTD(\"cqg.rtd\",,\"StudyData\", $O$2, \"BAR\", \"\", \"Low\", $O$4, -$A235, $O$6,$O$10,,$O$8,$O$12)","v":3866},{"$f":" RTD(\"cqg.rtd\",,\"StudyData\", $O$2, \"BAR\", \"\", \"Close\", $O$4, -$A235, $O$6,$O$10,,$O$8,$O$12)","v":3889.5},{"$f":" RTD(\"cqg.rtd\",,\"StudyData\", $O$2, \"HVol\", \"InputChoice=Close,HvolType=Percent,Period=10\", \"HVOL\",$O$4,-A235,$O$6,$O$10,,$O$8,$O$12)","v":25.012735631764244}]
[234,{"$f":" RTD(\"cqg.rtd\",,\"StudyData\", $O$2, \"BAR\", \"\", \"Time\", $O$4,-$A236,$O$6,$O$10, \"\",\"False\",\"T\")","v":"2022-11-02"},{"$f":" RTD(\"cqg.rtd\",,\"StudyData\", $O$2, \"BAR\", \"\", \"Open\", $O$4, -$A236, $O$6,$O$10,,$O$8,$O$12)","v":4024.75},{"$f":" RTD(\"cqg.rtd\",,\"StudyData\", $O$2, \"BAR\", \"\", \"High\", $O$4, -$A236, $O$6,$O$10,,$O$8,$O$12)","v":4068.75},{"$f":" RTD(\"cqg.rtd\",,\"StudyData\", $O$2, \"BAR\", \"\", \"Low\", $O$4, -$A236, $O$6,$O$10,,$O$8,$O$12)","v":3922},{"$f":" RTD(\"cqg.rtd\",,\"StudyData\", $O$2, \"BAR\", \"\", \"Close\", $O$4, -$A236, $O$6,$O$10,,$O$8,$O$12)","v":3930.5},{"$f":" RTD(\"cqg.rtd\",,\"StudyData\", $O$2, \"HVol\", \"InputChoice=Close,HvolType=Percent,Period=10\", \"HVOL\",$O$4,-A236,$O$6,$O$10,,$O$8,$O$12)","v":24.749082717065352}]
[235,{"$f":" RTD(\"cqg.rtd\",,\"StudyData\", $O$2, \"BAR\", \"\", \"Time\", $O$4,-$A237,$O$6,$O$10, \"\",\"False\",\"T\")","v":"2022-11-01"},{"$f":" RTD(\"cqg.rtd\",,\"StudyData\", $O$2, \"BAR\", \"\", \"Open\", $O$4, -$A237, $O$6,$O$10,,$O$8,$O$12)","v":4045.75},{"$f":" RTD(\"cqg.rtd\",,\"StudyData\", $O$2, \"BAR\", \"\", \"High\", $O$4, -$A237, $O$6,$O$10,,$O$8,$O$12)","v":4089.75},{"$f":" RTD(\"cqg.rtd\",,\"StudyData\", $O$2, \"BAR\", \"\", \"Low\", $O$4, -$A237, $O$6,$O$10,,$O$8,$O$12)","v":4014.25},{"$f":" RTD(\"cqg.rtd\",,\"StudyData\", $O$2, \"BAR\", \"\", \"Close\", $O$4, -$A237, $O$6,$O$10,,$O$8,$O$12)","v":4027.75},{"$f":" RTD(\"cqg.rtd\",,\"StudyData\", $O$2, \"HVol\", \"InputChoice=Close,HvolType=Percent,Period=10\", \"HVOL\",$O$4,-A237,$O$6,$O$10,,$O$8,$O$12)","v":20.913632223376187}]
[236,{"$f":" RTD(\"cqg.rtd\",,\"StudyData\", $O$2, \"BAR\", \"\", \"Time\", $O$4,-$A238,$O$6,$O$10, \"\",\"False\",\"T\")","v":"2022-10-31"},{"$f":" RTD(\"cqg.rtd\",,\"StudyData\", $O$2, \"BAR\", \"\", \"Open\", $O$4, -$A238, $O$6,$O$10,,$O$8,$O$12)","v":4073.25},{"$f":" RTD(\"cqg.rtd\",,\"StudyData\", $O$2, \"BAR\", \"\", \"High\", $O$4, -$A238, $O$6,$O$10,,$O$8,$O$12)","v":4076.5},{"$f":" RTD(\"cqg.rtd\",,\"StudyData\", $O$2, \"BAR\", \"\", \"Low\", $O$4, -$A238, $O$6,$O$10,,$O$8,$O$12)","v":4034},{"$f":" RTD(\"cqg.rtd\",,\"StudyData\", $O$2, \"BAR\", \"\", \"Close\", $O$4, -$A238, $O$6,$O$10,,$O$8,$O$12)","v":4044.75},{"$f":" RTD(\"cqg.rtd\",,\"StudyData\", $O$2, \"HVol\", \"InputChoice=Close,HvolType=Percent,Period=10\", \"HVOL\",$O$4,-A238,$O$6,$O$10,,$O$8,$O$12)","v":20.773891057734236}]
[237,{"$f":" RTD(\"cqg.rtd\",,\"StudyData\", $O$2, \"BAR\", \"\", \"Time\", $O$4,-$A239,$O$6,$O$10, \"\",\"False\",\"T\")","v":"2022-10-28"},{"$f":" RTD(\"cqg.rtd\",,\"StudyData\", $O$2, \"BAR\", \"\", \"Open\", $O$4, -$A239, $O$6,$O$10,,$O$8,$O$12)","v":3960},{"$f":" RTD(\"cqg.rtd\",,\"StudyData\", $O$2, \"BAR\", \"\", \"High\", $O$4, -$A239, $O$6,$O$10,,$O$8,$O$12)","v":4086},{"$f":" RTD(\"cqg.rtd\",,\"StudyData\", $O$2, \"BAR\", \"\", \"Low\", $O$4, -$A239, $O$6,$O$10,,$O$8,$O$12)","v":3938.5},{"$f":" RTD(\"cqg.rtd\",,\"StudyData\", $O$2, \"BAR\", \"\", \"Close\", $O$4, -$A239, $O$6,$O$10,,$O$8,$O$12)","v":4073},{"$f":" RTD(\"cqg.rtd\",,\"StudyData\", $O$2, \"HVol\", \"InputChoice=Close,HvolType=Percent,Period=10\", \"HVOL\",$O$4,-A239,$O$6,$O$10,,$O$8,$O$12)","v":21.664350657951715}]
[238,{"$f":" RTD(\"cqg.rtd\",,\"StudyData\", $O$2, \"BAR\", \"\", \"Time\", $O$4,-$A240,$O$6,$O$10, \"\",\"False\",\"T\")","v":"2022-10-27"},{"$f":" RTD(\"cqg.rtd\",,\"StudyData\", $O$2, \"BAR\", \"\", \"Open\", $O$4, -$A240, $O$6,$O$10,,$O$8,$O$12)","v":4006},{"$f":" RTD(\"cqg.rtd\",,\"StudyData\", $O$2, \"BAR\", \"\", \"High\", $O$4, -$A240, $O$6,$O$10,,$O$8,$O$12)","v":4032.5},{"$f":" RTD(\"cqg.rtd\",,\"StudyData\", $O$2, \"BAR\", \"\", \"Low\", $O$4, -$A240, $O$6,$O$10,,$O$8,$O$12)","v":3919.25},{"$f":" RTD(\"cqg.rtd\",,\"StudyData\", $O$2, \"BAR\", \"\", \"Close\", $O$4, -$A240, $O$6,$O$10,,$O$8,$O$12)","v":3981.25},{"$f":" RTD(\"cqg.rtd\",,\"StudyData\", $O$2, \"HVol\", \"InputChoice=Close,HvolType=Percent,Period=10\", \"HVOL\",$O$4,-A240,$O$6,$O$10,,$O$8,$O$12)","v":24.541214659621819}]
[239,{"$f":" RTD(\"cqg.rtd\",,\"StudyData\", $O$2, \"BAR\", \"\", \"Time\", $O$4,-$A241,$O$6,$O$10, \"\",\"False\",\"T\")","v":"2022-10-26"},{"$f":" RTD(\"cqg.rtd\",,\"StudyData\", $O$2, \"BAR\", \"\", \"Open\", $O$4, -$A241, $O$6,$O$10,,$O$8,$O$12)","v":4002.75},{"$f":" RTD(\"cqg.rtd\",,\"StudyData\", $O$2, \"BAR\", \"\", \"High\", $O$4, -$A241, $O$6,$O$10,,$O$8,$O$12)","v":4059.25},{"$f":" RTD(\"cqg.rtd\",,\"StudyData\", $O$2, \"BAR\", \"\", \"Low\", $O$4, -$A241, $O$6,$O$10,,$O$8,$O$12)","v":3986},{"$f":" RTD(\"cqg.rtd\",,\"StudyData\", $O$2, \"BAR\", \"\", \"Close\", $O$4, -$A241, $O$6,$O$10,,$O$8,$O$12)","v":4002.75},{"$f":" RTD(\"cqg.rtd\",,\"StudyData\", $O$2, \"HVol\", \"InputChoice=Close,HvolType=Percent,Period=10\", \"HVOL\",$O$4,-A241,$O$6,$O$10,,$O$8,$O$12)","v":26.067851941166598}]
[240,{"$f":" RTD(\"cqg.rtd\",,\"StudyData\", $O$2, \"BAR\", \"\", \"Time\", $O$4,-$A242,$O$6,$O$10, \"\",\"False\",\"T\")","v":"2022-10-25"},{"$f":" RTD(\"cqg.rtd\",,\"StudyData\", $O$2, \"BAR\", \"\", \"Open\", $O$4, -$A242, $O$6,$O$10,,$O$8,$O$12)","v":3965},{"$f":" RTD(\"cqg.rtd\",,\"StudyData\", $O$2, \"BAR\", \"\", \"High\", $O$4, -$A242, $O$6,$O$10,,$O$8,$O$12)","v":4036},{"$f":" RTD(\"cqg.rtd\",,\"StudyData\", $O$2, \"BAR\", \"\", \"Low\", $O$4, -$A242, $O$6,$O$10,,$O$8,$O$12)","v":3951.75},{"$f":" RTD(\"cqg.rtd\",,\"StudyData\", $O$2, \"BAR\", \"\", \"Close\", $O$4, -$A242, $O$6,$O$10,,$O$8,$O$12)","v":4032},{"$f":" RTD(\"cqg.rtd\",,\"StudyData\", $O$2, \"HVol\", \"InputChoice=Close,HvolType=Percent,Period=10\", \"HVOL\",$O$4,-A242,$O$6,$O$10,,$O$8,$O$12)","v":25.502604792084867}]
[241,{"$f":" RTD(\"cqg.rtd\",,\"StudyData\", $O$2, \"BAR\", \"\", \"Time\", $O$4,-$A243,$O$6,$O$10, \"\",\"False\",\"T\")","v":"2022-10-24"},{"$f":" RTD(\"cqg.rtd\",,\"StudyData\", $O$2, \"BAR\", \"\", \"Open\", $O$4, -$A243, $O$6,$O$10,,$O$8,$O$12)","v":3932.75},{"$f":" RTD(\"cqg.rtd\",,\"StudyData\", $O$2, \"BAR\", \"\", \"High\", $O$4, -$A243, $O$6,$O$10,,$O$8,$O$12)","v":3983.75},{"$f":" RTD(\"cqg.rtd\",,\"StudyData\", $O$2, \"BAR\", \"\", \"Low\", $O$4, -$A243, $O$6,$O$10,,$O$8,$O$12)","v":3898.25},{"$f":" RTD(\"cqg.rtd\",,\"StudyData\", $O$2, \"BAR\", \"\", \"Close\", $O$4, -$A243, $O$6,$O$10,,$O$8,$O$12)","v":3971},{"$f":" RTD(\"cqg.rtd\",,\"StudyData\", $O$2, \"HVol\", \"InputChoice=Close,HvolType=Percent,Period=10\", \"HVOL\",$O$4,-A243,$O$6,$O$10,,$O$8,$O$12)","v":25.920333775096918}]
[242,{"$f":" RTD(\"cqg.rtd\",,\"StudyData\", $O$2, \"BAR\", \"\", \"Time\", $O$4,-$A244,$O$6,$O$10, \"\",\"False\",\"T\")","v":"2022-10-21"},{"$f":" RTD(\"cqg.rtd\",,\"StudyData\", $O$2, \"BAR\", \"\", \"Open\", $O$4, -$A244, $O$6,$O$10,,$O$8,$O$12)","v":3839.5},{"$f":" RTD(\"cqg.rtd\",,\"StudyData\", $O$2, \"BAR\", \"\", \"High\", $O$4, -$A244, $O$6,$O$10,,$O$8,$O$12)","v":3935},{"$f":" RTD(\"cqg.rtd\",,\"StudyData\", $O$2, \"BAR\", \"\", \"Low\", $O$4, -$A244, $O$6,$O$10,,$O$8,$O$12)","v":3803.25},{"$f":" RTD(\"cqg.rtd\",,\"StudyData\", $O$2, \"BAR\", \"\", \"Close\", $O$4, -$A244, $O$6,$O$10,,$O$8,$O$12)","v":3925.75},{"$f":" RTD(\"cqg.rtd\",,\"StudyData\", $O$2, \"HVol\", \"InputChoice=Close,HvolType=Percent,Period=10\", \"HVOL\",$O$4,-A244,$O$6,$O$10,,$O$8,$O$12)","v":26.289574042229138}]
[243,{"$f":" RTD(\"cqg.rtd\",,\"StudyData\", $O$2, \"BAR\", \"\", \"Time\", $O$4,-$A245,$O$6,$O$10, \"\",\"False\",\"T\")","v":"2022-10-20"},{"$f":" RTD(\"cqg.rtd\",,\"StudyData\", $O$2, \"BAR\", \"\", \"Open\", $O$4, -$A245, $O$6,$O$10,,$O$8,$O$12)","v":3869.75},{"$f":" RTD(\"cqg.rtd\",,\"StudyData\", $O$2, \"BAR\", \"\", \"High\", $O$4, -$A245, $O$6,$O$10,,$O$8,$O$12)","v":3909.75},{"$f":" RTD(\"cqg.rtd\",,\"StudyData\", $O$2, \"BAR\", \"\", \"Low\", $O$4, -$A245, $O$6,$O$10,,$O$8,$O$12)","v":3828},{"$f":" RTD(\"cqg.rtd\",,\"StudyData\", $O$2, \"BAR\", \"\", \"Close\", $O$4, -$A245, $O$6,$O$10,,$O$8,$O$12)","v":3837},{"$f":" RTD(\"cqg.rtd\",,\"StudyData\", $O$2, \"HVol\", \"InputChoice=Close,HvolType=Percent,Period=10\", \"HVOL\",$O$4,-A245,$O$6,$O$10,,$O$8,$O$12)","v":27.39391137848752}]
[244,{"$f":" RTD(\"cqg.rtd\",,\"StudyData\", $O$2, \"BAR\", \"\", \"Time\", $O$4,-$A246,$O$6,$O$10, \"\",\"False\",\"T\")","v":"2022-10-19"},{"$f":" RTD(\"cqg.rtd\",,\"StudyData\", $O$2, \"BAR\", \"\", \"Open\", $O$4, -$A246, $O$6,$O$10,,$O$8,$O$12)","v":3921.5},{"$f":" RTD(\"cqg.rtd\",,\"StudyData\", $O$2, \"BAR\", \"\", \"High\", $O$4, -$A246, $O$6,$O$10,,$O$8,$O$12)","v":3936},{"$f":" RTD(\"cqg.rtd\",,\"StudyData\", $O$2, \"BAR\", \"\", \"Low\", $O$4, -$A246, $O$6,$O$10,,$O$8,$O$12)","v":3838.5},{"$f":" RTD(\"cqg.rtd\",,\"StudyData\", $O$2, \"BAR\", \"\", \"Close\", $O$4, -$A246, $O$6,$O$10,,$O$8,$O$12)","v":3869},{"$f":" RTD(\"cqg.rtd\",,\"StudyData\", $O$2, \"HVol\", \"InputChoice=Close,HvolType=Percent,Period=10\", \"HVOL\",$O$4,-A246,$O$6,$O$10,,$O$8,$O$12)","v":27.473055287474523}]
[245,{"$f":" RTD(\"cqg.rtd\",,\"StudyData\", $O$2, \"BAR\", \"\", \"Time\", $O$4,-$A247,$O$6,$O$10, \"\",\"False\",\"T\")","v":"2022-10-18"},{"$f":" RTD(\"cqg.rtd\",,\"StudyData\", $O$2, \"BAR\", \"\", \"Open\", $O$4, -$A247, $O$6,$O$10,,$O$8,$O$12)","v":3868},{"$f":" RTD(\"cqg.rtd\",,\"StudyData\", $O$2, \"BAR\", \"\", \"High\", $O$4, -$A247, $O$6,$O$10,,$O$8,$O$12)","v":3939},{"$f":" RTD(\"cqg.rtd\",,\"StudyData\", $O$2, \"BAR\", \"\", \"Low\", $O$4, -$A247, $O$6,$O$10,,$O$8,$O$12)","v":3859},{"$f":" RTD(\"cqg.rtd\",,\"StudyData\", $O$2, \"BAR\", \"\", \"Close\", $O$4, -$A247, $O$6,$O$10,,$O$8,$O$12)","v":3894.5},{"$f":" RTD(\"cqg.rtd\",,\"StudyData\", $O$2, \"HVol\", \"InputChoice=Close,HvolType=Percent,Period=10\", \"HVOL\",$O$4,-A247,$O$6,$O$10,,$O$8,$O$12)","v":27.363243344987911}]
[246,{"$f":" RTD(\"cqg.rtd\",,\"StudyData\", $O$2, \"BAR\", \"\", \"Time\", $O$4,-$A248,$O$6,$O$10, \"\",\"False\",\"T\")","v":"2022-10-17"},{"$f":" RTD(\"cqg.rtd\",,\"StudyData\", $O$2, \"BAR\", \"\", \"Open\", $O$4, -$A248, $O$6,$O$10,,$O$8,$O$12)","v":3752.75},{"$f":" RTD(\"cqg.rtd\",,\"StudyData\", $O$2, \"BAR\", \"\", \"High\", $O$4, -$A248, $O$6,$O$10,,$O$8,$O$12)","v":3864.25},{"$f":" RTD(\"cqg.rtd\",,\"StudyData\", $O$2, \"BAR\", \"\", \"Low\", $O$4, -$A248, $O$6,$O$10,,$O$8,$O$12)","v":3752.25},{"$f":" RTD(\"cqg.rtd\",,\"StudyData\", $O$2, \"BAR\", \"\", \"Close\", $O$4, -$A248, $O$6,$O$10,,$O$8,$O$12)","v":3851},{"$f":" RTD(\"cqg.rtd\",,\"StudyData\", $O$2, \"HVol\", \"InputChoice=Close,HvolType=Percent,Period=10\", \"HVOL\",$O$4,-A248,$O$6,$O$10,,$O$8,$O$12)","v":30.982675635632788}]
[247,{"$f":" RTD(\"cqg.rtd\",,\"StudyData\", $O$2, \"BAR\", \"\", \"Time\", $O$4,-$A249,$O$6,$O$10, \"\",\"False\",\"T\")","v":"2022-10-14"},{"$f":" RTD(\"cqg.rtd\",,\"StudyData\", $O$2, \"BAR\", \"\", \"Open\", $O$4, -$A249, $O$6,$O$10,,$O$8,$O$12)","v":3842},{"$f":" RTD(\"cqg.rtd\",,\"StudyData\", $O$2, \"BAR\", \"\", \"High\", $O$4, -$A249, $O$6,$O$10,,$O$8,$O$12)","v":3895.5},{"$f":" RTD(\"cqg.rtd\",,\"StudyData\", $O$2, \"BAR\", \"\", \"Low\", $O$4, -$A249, $O$6,$O$10,,$O$8,$O$12)","v":3753},{"$f":" RTD(\"cqg.rtd\",,\"StudyData\", $O$2, \"BAR\", \"\", \"Close\", $O$4, -$A249, $O$6,$O$10,,$O$8,$O$12)","v":3759.25},{"$f":" RTD(\"cqg.rtd\",,\"StudyData\", $O$2, \"HVol\", \"InputChoice=Close,HvolType=Percent,Period=10\", \"HVOL\",$O$4,-A249,$O$6,$O$10,,$O$8,$O$12)","v":30.805867848114378}]
[248,{"$f":" RTD(\"cqg.rtd\",,\"StudyData\", $O$2, \"BAR\", \"\", \"Time\", $O$4,-$A250,$O$6,$O$10, \"\",\"False\",\"T\")","v":"2022-10-13"},{"$f":" RTD(\"cqg.rtd\",,\"StudyData\", $O$2, \"BAR\", \"\", \"Open\", $O$4, -$A250, $O$6,$O$10,,$O$8,$O$12)","v":3758},{"$f":" RTD(\"cqg.rtd\",,\"StudyData\", $O$2, \"BAR\", \"\", \"High\", $O$4, -$A250, $O$6,$O$10,,$O$8,$O$12)","v":3859.5},{"$f":" RTD(\"cqg.rtd\",,\"StudyData\", $O$2, \"BAR\", \"\", \"Low\", $O$4, -$A250, $O$6,$O$10,,$O$8,$O$12)","v":3663.75},{"$f":" RTD(\"cqg.rtd\",,\"StudyData\", $O$2, \"BAR\", \"\", \"Close\", $O$4, -$A250, $O$6,$O$10,,$O$8,$O$12)","v":3843.5},{"$f":" RTD(\"cqg.rtd\",,\"StudyData\", $O$2, \"HVol\", \"InputChoice=Close,HvolType=Percent,Period=10\", \"HVOL\",$O$4,-A250,$O$6,$O$10,,$O$8,$O$12)","v":29.436424177771375}]
[249,{"$f":" RTD(\"cqg.rtd\",,\"StudyData\", $O$2, \"BAR\", \"\", \"Time\", $O$4,-$A251,$O$6,$O$10, \"\",\"False\",\"T\")","v":"2022-10-12"},{"$f":" RTD(\"cqg.rtd\",,\"StudyData\", $O$2, \"BAR\", \"\", \"Open\", $O$4, -$A251, $O$6,$O$10,,$O$8,$O$12)","v":3768.75},{"$f":" RTD(\"cqg.rtd\",,\"StudyData\", $O$2, \"BAR\", \"\", \"High\", $O$4, -$A251, $O$6,$O$10,,$O$8,$O$12)","v":3797},{"$f":" RTD(\"cqg.rtd\",,\"StudyData\", $O$2, \"BAR\", \"\", \"Low\", $O$4, -$A251, $O$6,$O$10,,$O$8,$O$12)","v":3747.25},{"$f":" RTD(\"cqg.rtd\",,\"StudyData\", $O$2, \"BAR\", \"\", \"Close\", $O$4, -$A251, $O$6,$O$10,,$O$8,$O$12)","v":3750.25},{"$f":" RTD(\"cqg.rtd\",,\"StudyData\", $O$2, \"HVol\", \"InputChoice=Close,HvolType=Percent,Period=10\", \"HVOL\",$O$4,-A251,$O$6,$O$10,,$O$8,$O$12)","v":27.774774729055789}]
[250,{"$f":" RTD(\"cqg.rtd\",,\"StudyData\", $O$2, \"BAR\", \"\", \"Time\", $O$4,-$A252,$O$6,$O$10, \"\",\"False\",\"T\")","v":"2022-10-11"},{"$f":" RTD(\"cqg.rtd\",,\"StudyData\", $O$2, \"BAR\", \"\", \"Open\", $O$4, -$A252, $O$6,$O$10,,$O$8,$O$12)","v":3786.5},{"$f":" RTD(\"cqg.rtd\",,\"StudyData\", $O$2, \"BAR\", \"\", \"High\", $O$4, -$A252, $O$6,$O$10,,$O$8,$O$12)","v":3815},{"$f":" RTD(\"cqg.rtd\",,\"StudyData\", $O$2, \"BAR\", \"\", \"Low\", $O$4, -$A252, $O$6,$O$10,,$O$8,$O$12)","v":3740.75},{"$f":" RTD(\"cqg.rtd\",,\"StudyData\", $O$2, \"BAR\", \"\", \"Close\", $O$4, -$A252, $O$6,$O$10,,$O$8,$O$12)","v":3761},{"$f":" RTD(\"cqg.rtd\",,\"StudyData\", $O$2, \"HVol\", \"InputChoice=Close,HvolType=Percent,Period=10\", \"HVOL\",$O$4,-A252,$O$6,$O$10,,$O$8,$O$12)","v":29.920089417732655}]
[251,{"$f":" RTD(\"cqg.rtd\",,\"StudyData\", $O$2, \"BAR\", \"\", \"Time\", $O$4,-$A253,$O$6,$O$10, \"\",\"False\",\"T\")","v":"2022-10-10"},{"$f":" RTD(\"cqg.rtd\",,\"StudyData\", $O$2, \"BAR\", \"\", \"Open\", $O$4, -$A253, $O$6,$O$10,,$O$8,$O$12)","v":3800.5},{"$f":" RTD(\"cqg.rtd\",,\"StudyData\", $O$2, \"BAR\", \"\", \"High\", $O$4, -$A253, $O$6,$O$10,,$O$8,$O$12)","v":3829.25},{"$f":" RTD(\"cqg.rtd\",,\"StudyData\", $O$2, \"BAR\", \"\", \"Low\", $O$4, -$A253, $O$6,$O$10,,$O$8,$O$12)","v":3761.75},{"$f":" RTD(\"cqg.rtd\",,\"StudyData\", $O$2, \"BAR\", \"\", \"Close\", $O$4, -$A253, $O$6,$O$10,,$O$8,$O$12)","v":3787},{"$f":" RTD(\"cqg.rtd\",,\"StudyData\", $O$2, \"HVol\", \"InputChoice=Close,HvolType=Percent,Period=10\", \"HVOL\",$O$4,-A253,$O$6,$O$10,,$O$8,$O$12)","v":29.778592612827573}]
[252,{"$f":" RTD(\"cqg.rtd\",,\"StudyData\", $O$2, \"BAR\", \"\", \"Time\", $O$4,-$A254,$O$6,$O$10, \"\",\"False\",\"T\")","v":"2022-10-07"},{"$f":" RTD(\"cqg.rtd\",,\"StudyData\", $O$2, \"BAR\", \"\", \"Open\", $O$4, -$A254, $O$6,$O$10,,$O$8,$O$12)","v":3907.5},{"$f":" RTD(\"cqg.rtd\",,\"StudyData\", $O$2, \"BAR\", \"\", \"High\", $O$4, -$A254, $O$6,$O$10,,$O$8,$O$12)","v":3932.25},{"$f":" RTD(\"cqg.rtd\",,\"StudyData\", $O$2, \"BAR\", \"\", \"Low\", $O$4, -$A254, $O$6,$O$10,,$O$8,$O$12)","v":3794.25},{"$f":" RTD(\"cqg.rtd\",,\"StudyData\", $O$2, \"BAR\", \"\", \"Close\", $O$4, -$A254, $O$6,$O$10,,$O$8,$O$12)","v":3815},{"$f":" RTD(\"cqg.rtd\",,\"StudyData\", $O$2, \"HVol\", \"InputChoice=Close,HvolType=Percent,Period=10\", \"HVOL\",$O$4,-A254,$O$6,$O$10,,$O$8,$O$12)","v":29.970813479216638}]
[253,{"$f":" RTD(\"cqg.rtd\",,\"StudyData\", $O$2, \"BAR\", \"\", \"Time\", $O$4,-$A255,$O$6,$O$10, \"\",\"False\",\"T\")","v":"2022-10-06"},{"$f":" RTD(\"cqg.rtd\",,\"StudyData\", $O$2, \"BAR\", \"\", \"Open\", $O$4, -$A255, $O$6,$O$10,,$O$8,$O$12)","v":3957.5},{"$f":" RTD(\"cqg.rtd\",,\"StudyData\", $O$2, \"BAR\", \"\", \"High\", $O$4, -$A255, $O$6,$O$10,,$O$8,$O$12)","v":3981.25},{"$f":" RTD(\"cqg.rtd\",,\"StudyData\", $O$2, \"BAR\", \"\", \"Low\", $O$4, -$A255, $O$6,$O$10,,$O$8,$O$12)","v":3911.75},{"$f":" RTD(\"cqg.rtd\",,\"StudyData\", $O$2, \"BAR\", \"\", \"Close\", $O$4, -$A255, $O$6,$O$10,,$O$8,$O$12)","v":3918.5},{"$f":" RTD(\"cqg.rtd\",,\"StudyData\", $O$2, \"HVol\", \"InputChoice=Close,HvolType=Percent,Period=10\", \"HVOL\",$O$4,-A255,$O$6,$O$10,,$O$8,$O$12)","v":27.931059839165229}]
[254,{"$f":" RTD(\"cqg.rtd\",,\"StudyData\", $O$2, \"BAR\", \"\", \"Time\", $O$4,-$A256,$O$6,$O$10, \"\",\"False\",\"T\")","v":"2022-10-05"},{"$f":" RTD(\"cqg.rtd\",,\"StudyData\", $O$2, \"BAR\", \"\", \"Open\", $O$4, -$A256, $O$6,$O$10,,$O$8,$O$12)","v":3962.75},{"$f":" RTD(\"cqg.rtd\",,\"StudyData\", $O$2, \"BAR\", \"\", \"High\", $O$4, -$A256, $O$6,$O$10,,$O$8,$O$12)","v":3981.75},{"$f":" RTD(\"cqg.rtd\",,\"StudyData\", $O$2, \"BAR\", \"\", \"Low\", $O$4, -$A256, $O$6,$O$10,,$O$8,$O$12)","v":3895.75},{"$f":" RTD(\"cqg.rtd\",,\"StudyData\", $O$2, \"BAR\", \"\", \"Close\", $O$4, -$A256, $O$6,$O$10,,$O$8,$O$12)","v":3955.75},{"$f":" RTD(\"cqg.rtd\",,\"StudyData\", $O$2, \"HVol\", \"InputChoice=Close,HvolType=Percent,Period=10\", \"HVOL\",$O$4,-A256,$O$6,$O$10,,$O$8,$O$12)","v":27.862150279868683}]
[255,{"$f":" RTD(\"cqg.rtd\",,\"StudyData\", $O$2, \"BAR\", \"\", \"Time\", $O$4,-$A257,$O$6,$O$10, \"\",\"False\",\"T\")","v":"2022-10-04"},{"$f":" RTD(\"cqg.rtd\",,\"StudyData\", $O$2, \"BAR\", \"\", \"Open\", $O$4, -$A257, $O$6,$O$10,,$O$8,$O$12)","v":3858.25},{"$f":" RTD(\"cqg.rtd\",,\"StudyData\", $O$2, \"BAR\", \"\", \"High\", $O$4, -$A257, $O$6,$O$10,,$O$8,$O$12)","v":3970.5},{"$f":" RTD(\"cqg.rtd\",,\"StudyData\", $O$2, \"BAR\", \"\", \"Low\", $O$4, -$A257, $O$6,$O$10,,$O$8,$O$12)","v":3848},{"$f":" RTD(\"cqg.rtd\",,\"StudyData\", $O$2, \"BAR\", \"\", \"Close\", $O$4, -$A257, $O$6,$O$10,,$O$8,$O$12)","v":3965},{"$f":" RTD(\"cqg.rtd\",,\"StudyData\", $O$2, \"HVol\", \"InputChoice=Close,HvolType=Percent,Period=10\", \"HVOL\",$O$4,-A257,$O$6,$O$10,,$O$8,$O$12)","v":29.040566131624647}]
[256,{"$f":" RTD(\"cqg.rtd\",,\"StudyData\", $O$2, \"BAR\", \"\", \"Time\", $O$4,-$A258,$O$6,$O$10, \"\",\"False\",\"T\")","v":"2022-10-03"},{"$f":" RTD(\"cqg.rtd\",,\"StudyData\", $O$2, \"BAR\", \"\", \"Open\", $O$4, -$A258, $O$6,$O$10,,$O$8,$O$12)","v":3755},{"$f":" RTD(\"cqg.rtd\",,\"StudyData\", $O$2, \"BAR\", \"\", \"High\", $O$4, -$A258, $O$6,$O$10,,$O$8,$O$12)","v":3873.5},{"$f":" RTD(\"cqg.rtd\",,\"StudyData\", $O$2, \"BAR\", \"\", \"Low\", $O$4, -$A258, $O$6,$O$10,,$O$8,$O$12)","v":3733.5},{"$f":" RTD(\"cqg.rtd\",,\"StudyData\", $O$2, \"BAR\", \"\", \"Close\", $O$4, -$A258, $O$6,$O$10,,$O$8,$O$12)","v":3852},{"$f":" RTD(\"cqg.rtd\",,\"StudyData\", $O$2, \"HVol\", \"InputChoice=Close,HvolType=Percent,Period=10\", \"HVOL\",$O$4,-A258,$O$6,$O$10,,$O$8,$O$12)","v":23.599420439083637}]
[257,{"$f":" RTD(\"cqg.rtd\",,\"StudyData\", $O$2, \"BAR\", \"\", \"Time\", $O$4,-$A259,$O$6,$O$10, \"\",\"False\",\"T\")","v":"2022-09-30"},{"$f":" RTD(\"cqg.rtd\",,\"StudyData\", $O$2, \"BAR\", \"\", \"Open\", $O$4, -$A259, $O$6,$O$10,,$O$8,$O$12)","v":3818.25},{"$f":" RTD(\"cqg.rtd\",,\"StudyData\", $O$2, \"BAR\", \"\", \"High\", $O$4, -$A259, $O$6,$O$10,,$O$8,$O$12)","v":3855.5},{"$f":" RTD(\"cqg.rtd\",,\"StudyData\", $O$2, \"BAR\", \"\", \"Low\", $O$4, -$A259, $O$6,$O$10,,$O$8,$O$12)","v":3757},{"$f":" RTD(\"cqg.rtd\",,\"StudyData\", $O$2, \"BAR\", \"\", \"Close\", $O$4, -$A259, $O$6,$O$10,,$O$8,$O$12)","v":3763.25},{"$f":" RTD(\"cqg.rtd\",,\"StudyData\", $O$2, \"HVol\", \"InputChoice=Close,HvolType=Percent,Period=10\", \"HVOL\",$O$4,-A259,$O$6,$O$10,,$O$8,$O$12)","v":18.830068066401775}]
[{"$f":"A259+1","v":258},{"$f":" RTD(\"cqg.rtd\",,\"StudyData\", $O$2, \"BAR\", \"\", \"Time\", $O$4,-$A260,$O$6,$O$10, \"\",\"False\",\"T\")","v":"2022-09-29"},{"$f":" RTD(\"cqg.rtd\",,\"StudyData\", $O$2, \"BAR\", \"\", \"Open\", $O$4, -$A260, $O$6,$O$10,,$O$8,$O$12)","v":3892},{"$f":" RTD(\"cqg.rtd\",,\"StudyData\", $O$2, \"BAR\", \"\", \"High\", $O$4, -$A260, $O$6,$O$10,,$O$8,$O$12)","v":3897.75},{"$f":" RTD(\"cqg.rtd\",,\"StudyData\", $O$2, \"BAR\", \"\", \"Low\", $O$4, -$A260, $O$6,$O$10,,$O$8,$O$12)","v":3783.75},{"$f":" RTD(\"cqg.rtd\",,\"StudyData\", $O$2, \"BAR\", \"\", \"Close\", $O$4, -$A260, $O$6,$O$10,,$O$8,$O$12)","v":3816},{"$f":" RTD(\"cqg.rtd\",,\"StudyData\", $O$2, \"HVol\", \"InputChoice=Close,HvolType=Percent,Period=10\", \"HVOL\",$O$4,-A260,$O$6,$O$10,,$O$8,$O$12)","v":18.479959261797731}]
[259,{"$f":" RTD(\"cqg.rtd\",,\"StudyData\", $O$2, \"BAR\", \"\", \"Time\", $O$4,-$A261,$O$6,$O$10, \"\",\"False\",\"T\")","v":"2022-09-28"},{"$f":" RTD(\"cqg.rtd\",,\"StudyData\", $O$2, \"BAR\", \"\", \"Open\", $O$4, -$A261, $O$6,$O$10,,$O$8,$O$12)","v":3830.25},{"$f":" RTD(\"cqg.rtd\",,\"StudyData\", $O$2, \"BAR\", \"\", \"High\", $O$4, -$A261, $O$6,$O$10,,$O$8,$O$12)","v":3913},{"$f":" RTD(\"cqg.rtd\",,\"StudyData\", $O$2, \"BAR\", \"\", \"Low\", $O$4, -$A261, $O$6,$O$10,,$O$8,$O$12)","v":3774.75},{"$f":" RTD(\"cqg.rtd\",,\"StudyData\", $O$2, \"BAR\", \"\", \"Close\", $O$4, -$A261, $O$6,$O$10,,$O$8,$O$12)","v":3893.75},{"$f":" RTD(\"cqg.rtd\",,\"StudyData\", $O$2, \"HVol\", \"InputChoice=Close,HvolType=Percent,Period=10\", \"HVOL\",$O$4,-A261,$O$6,$O$10,,$O$8,$O$12)","v":17.198157336760755}]
[260,{"$f":" RTD(\"cqg.rtd\",,\"StudyData\", $O$2, \"BAR\", \"\", \"Time\", $O$4,-$A262,$O$6,$O$10, \"\",\"False\",\"T\")","v":"2022-09-27"},{"$f":" RTD(\"cqg.rtd\",,\"StudyData\", $O$2, \"BAR\", \"\", \"Open\", $O$4, -$A262, $O$6,$O$10,,$O$8,$O$12)","v":3829.75},{"$f":" RTD(\"cqg.rtd\",,\"StudyData\", $O$2, \"BAR\", \"\", \"High\", $O$4, -$A262, $O$6,$O$10,,$O$8,$O$12)","v":3894.75},{"$f":" RTD(\"cqg.rtd\",,\"StudyData\", $O$2, \"BAR\", \"\", \"Low\", $O$4, -$A262, $O$6,$O$10,,$O$8,$O$12)","v":3797},{"$f":" RTD(\"cqg.rtd\",,\"StudyData\", $O$2, \"BAR\", \"\", \"Close\", $O$4, -$A262, $O$6,$O$10,,$O$8,$O$12)","v":3822.75},{"$f":" RTD(\"cqg.rtd\",,\"StudyData\", $O$2, \"HVol\", \"InputChoice=Close,HvolType=Percent,Period=10\", \"HVOL\",$O$4,-A262,$O$6,$O$10,,$O$8,$O$12)","v":12.252480307138431}]
[261,{"$f":" RTD(\"cqg.rtd\",,\"StudyData\", $O$2, \"BAR\", \"\", \"Time\", $O$4,-$A263,$O$6,$O$10, \"\",\"False\",\"T\")","v":"2022-09-26"},{"$f":" RTD(\"cqg.rtd\",,\"StudyData\", $O$2, \"BAR\", \"\", \"Open\", $O$4, -$A263, $O$6,$O$10,,$O$8,$O$12)","v":3867},{"$f":" RTD(\"cqg.rtd\",,\"StudyData\", $O$2, \"BAR\", \"\", \"High\", $O$4, -$A263, $O$6,$O$10,,$O$8,$O$12)","v":3892.25},{"$f":" RTD(\"cqg.rtd\",,\"StudyData\", $O$2, \"BAR\", \"\", \"Low\", $O$4, -$A263, $O$6,$O$10,,$O$8,$O$12)","v":3819.25},{"$f":" RTD(\"cqg.rtd\",,\"StudyData\", $O$2, \"BAR\", \"\", \"Close\", $O$4, -$A263, $O$6,$O$10,,$O$8,$O$12)","v":3831.75},{"$f":" RTD(\"cqg.rtd\",,\"StudyData\", $O$2, \"HVol\", \"InputChoice=Close,HvolType=Percent,Period=10\", \"HVOL\",$O$4,-A263,$O$6,$O$10,,$O$8,$O$12)","v":20.818799318341398}]
[262,{"$f":" RTD(\"cqg.rtd\",,\"StudyData\", $O$2, \"BAR\", \"\", \"Time\", $O$4,-$A264,$O$6,$O$10, \"\",\"False\",\"T\")","v":"2022-09-23"},{"$f":" RTD(\"cqg.rtd\",,\"StudyData\", $O$2, \"BAR\", \"\", \"Open\", $O$4, -$A264, $O$6,$O$10,,$O$8,$O$12)","v":3939},{"$f":" RTD(\"cqg.rtd\",,\"StudyData\", $O$2, \"BAR\", \"\", \"High\", $O$4, -$A264, $O$6,$O$10,,$O$8,$O$12)","v":3945},{"$f":" RTD(\"cqg.rtd\",,\"StudyData\", $O$2, \"BAR\", \"\", \"Low\", $O$4, -$A264, $O$6,$O$10,,$O$8,$O$12)","v":3822},{"$f":" RTD(\"cqg.rtd\",,\"StudyData\", $O$2, \"BAR\", \"\", \"Close\", $O$4, -$A264, $O$6,$O$10,,$O$8,$O$12)","v":3870.75},{"$f":" RTD(\"cqg.rtd\",,\"StudyData\", $O$2, \"HVol\", \"InputChoice=Close,HvolType=Percent,Period=10\", \"HVOL\",$O$4,-A264,$O$6,$O$10,,$O$8,$O$12)","v":23.490316314045579}]
[263,{"$f":" RTD(\"cqg.rtd\",,\"StudyData\", $O$2, \"BAR\", \"\", \"Time\", $O$4,-$A265,$O$6,$O$10, \"\",\"False\",\"T\")","v":"2022-09-22"},{"$f":" RTD(\"cqg.rtd\",,\"StudyData\", $O$2, \"BAR\", \"\", \"Open\", $O$4, -$A265, $O$6,$O$10,,$O$8,$O$12)","v":3955.75},{"$f":" RTD(\"cqg.rtd\",,\"StudyData\", $O$2, \"BAR\", \"\", \"High\", $O$4, -$A265, $O$6,$O$10,,$O$8,$O$12)","v":3994.75},{"$f":" RTD(\"cqg.rtd\",,\"StudyData\", $O$2, \"BAR\", \"\", \"Low\", $O$4, -$A265, $O$6,$O$10,,$O$8,$O$12)","v":3925.25},{"$f":" RTD(\"cqg.rtd\",,\"StudyData\", $O$2, \"BAR\", \"\", \"Close\", $O$4, -$A265, $O$6,$O$10,,$O$8,$O$12)","v":3933.75},{"$f":" RTD(\"cqg.rtd\",,\"StudyData\", $O$2, \"HVol\", \"InputChoice=Close,HvolType=Percent,Period=10\", \"HVOL\",$O$4,-A265,$O$6,$O$10,,$O$8,$O$12)","v":25.983843607608776}]
[264,{"$f":" RTD(\"cqg.rtd\",,\"StudyData\", $O$2, \"BAR\", \"\", \"Time\", $O$4,-$A266,$O$6,$O$10, \"\",\"False\",\"T\")","v":"2022-09-21"},{"$f":" RTD(\"cqg.rtd\",,\"StudyData\", $O$2, \"BAR\", \"\", \"Open\", $O$4, -$A266, $O$6,$O$10,,$O$8,$O$12)","v":4040.5},{"$f":" RTD(\"cqg.rtd\",,\"StudyData\", $O$2, \"BAR\", \"\", \"High\", $O$4, -$A266, $O$6,$O$10,,$O$8,$O$12)","v":4087},{"$f":" RTD(\"cqg.rtd\",,\"StudyData\", $O$2, \"BAR\", \"\", \"Low\", $O$4, -$A266, $O$6,$O$10,,$O$8,$O$12)","v":3953.75},{"$f":" RTD(\"cqg.rtd\",,\"StudyData\", $O$2, \"BAR\", \"\", \"Close\", $O$4, -$A266, $O$6,$O$10,,$O$8,$O$12)","v":3968},{"$f":" RTD(\"cqg.rtd\",,\"StudyData\", $O$2, \"HVol\", \"InputChoice=Close,HvolType=Percent,Period=10\", \"HVOL\",$O$4,-A266,$O$6,$O$10,,$O$8,$O$12)","v":26.613400618792816}]
[265,{"$f":" RTD(\"cqg.rtd\",,\"StudyData\", $O$2, \"BAR\", \"\", \"Time\", $O$4,-$A267,$O$6,$O$10, \"\",\"False\",\"T\")","v":"2022-09-20"},{"$f":" RTD(\"cqg.rtd\",,\"StudyData\", $O$2, \"BAR\", \"\", \"Open\", $O$4, -$A267, $O$6,$O$10,,$O$8,$O$12)","v":4084.75},{"$f":" RTD(\"cqg.rtd\",,\"StudyData\", $O$2, \"BAR\", \"\", \"High\", $O$4, -$A267, $O$6,$O$10,,$O$8,$O$12)","v":4098},{"$f":" RTD(\"cqg.rtd\",,\"StudyData\", $O$2, \"BAR\", \"\", \"Low\", $O$4, -$A267, $O$6,$O$10,,$O$8,$O$12)","v":4005},{"$f":" RTD(\"cqg.rtd\",,\"StudyData\", $O$2, \"BAR\", \"\", \"Close\", $O$4, -$A267, $O$6,$O$10,,$O$8,$O$12)","v":4034.5},{"$f":" RTD(\"cqg.rtd\",,\"StudyData\", $O$2, \"HVol\", \"InputChoice=Close,HvolType=Percent,Period=10\", \"HVOL\",$O$4,-A267,$O$6,$O$10,,$O$8,$O$12)","v":27.686165201333591}]
[266,{"$f":" RTD(\"cqg.rtd\",,\"StudyData\", $O$2, \"BAR\", \"\", \"Time\", $O$4,-$A268,$O$6,$O$10, \"\",\"False\",\"T\")","v":"2022-09-19"},{"$f":" RTD(\"cqg.rtd\",,\"StudyData\", $O$2, \"BAR\", \"\", \"Open\", $O$4, -$A268, $O$6,$O$10,,$O$8,$O$12)","v":4051.25},{"$f":" RTD(\"cqg.rtd\",,\"StudyData\", $O$2, \"BAR\", \"\", \"High\", $O$4, -$A268, $O$6,$O$10,,$O$8,$O$12)","v":4088.75},{"$f":" RTD(\"cqg.rtd\",,\"StudyData\", $O$2, \"BAR\", \"\", \"Low\", $O$4, -$A268, $O$6,$O$10,,$O$8,$O$12)","v":4008},{"$f":" RTD(\"cqg.rtd\",,\"StudyData\", $O$2, \"BAR\", \"\", \"Close\", $O$4, -$A268, $O$6,$O$10,,$O$8,$O$12)","v":4079},{"$f":" RTD(\"cqg.rtd\",,\"StudyData\", $O$2, \"HVol\", \"InputChoice=Close,HvolType=Percent,Period=10\", \"HVOL\",$O$4,-A268,$O$6,$O$10,,$O$8,$O$12)","v":27.205468230375196}]
[267,{"$f":" RTD(\"cqg.rtd\",,\"StudyData\", $O$2, \"BAR\", \"\", \"Time\", $O$4,-$A269,$O$6,$O$10, \"\",\"False\",\"T\")","v":"2022-09-16"},{"$f":" RTD(\"cqg.rtd\",,\"StudyData\", $O$2, \"BAR\", \"\", \"Open\", $O$4, -$A269, $O$6,$O$10,,$O$8,$O$12)","v":4065.75},{"$f":" RTD(\"cqg.rtd\",,\"StudyData\", $O$2, \"BAR\", \"\", \"High\", $O$4, -$A269, $O$6,$O$10,,$O$8,$O$12)","v":4066.75},{"$f":" RTD(\"cqg.rtd\",,\"StudyData\", $O$2, \"BAR\", \"\", \"Low\", $O$4, -$A269, $O$6,$O$10,,$O$8,$O$12)","v":4014.75},{"$f":" RTD(\"cqg.rtd\",,\"StudyData\", $O$2, \"BAR\", \"\", \"Close\", $O$4, -$A269, $O$6,$O$10,,$O$8,$O$12)","v":4051.75},{"$f":" RTD(\"cqg.rtd\",,\"StudyData\", $O$2, \"HVol\", \"InputChoice=Close,HvolType=Percent,Period=10\", \"HVOL\",$O$4,-A269,$O$6,$O$10,,$O$8,$O$12)","v":27.320898706478282}]
[268,{"$f":" RTD(\"cqg.rtd\",,\"StudyData\", $O$2, \"BAR\", \"\", \"Time\", $O$4,-$A270,$O$6,$O$10, \"\",\"False\",\"T\")","v":"2022-09-15"},{"$f":" RTD(\"cqg.rtd\",,\"StudyData\", $O$2, \"BAR\", \"\", \"Open\", $O$4, -$A270, $O$6,$O$10,,$O$8,$O$12)","v":4133.75},{"$f":" RTD(\"cqg.rtd\",,\"StudyData\", $O$2, \"BAR\", \"\", \"High\", $O$4, -$A270, $O$6,$O$10,,$O$8,$O$12)","v":4139.25},{"$f":" RTD(\"cqg.rtd\",,\"StudyData\", $O$2, \"BAR\", \"\", \"Low\", $O$4, -$A270, $O$6,$O$10,,$O$8,$O$12)","v":4066.75},{"$f":" RTD(\"cqg.rtd\",,\"StudyData\", $O$2, \"BAR\", \"\", \"Close\", $O$4, -$A270, $O$6,$O$10,,$O$8,$O$12)","v":4081},{"$f":" RTD(\"cqg.rtd\",,\"StudyData\", $O$2, \"HVol\", \"InputChoice=Close,HvolType=Percent,Period=10\", \"HVOL\",$O$4,-A270,$O$6,$O$10,,$O$8,$O$12)","v":27.277780397079901}]
[269,{"$f":" RTD(\"cqg.rtd\",,\"StudyData\", $O$2, \"BAR\", \"\", \"Time\", $O$4,-$A271,$O$6,$O$10, \"\",\"False\",\"T\")","v":"2022-09-14"},{"$f":" RTD(\"cqg.rtd\",,\"StudyData\", $O$2, \"BAR\", \"\", \"Open\", $O$4, -$A271, $O$6,$O$10,,$O$8,$O$12)","v":4118.5},{"$f":" RTD(\"cqg.rtd\",,\"StudyData\", $O$2, \"BAR\", \"\", \"High\", $O$4, -$A271, $O$6,$O$10,,$O$8,$O$12)","v":4143},{"$f":" RTD(\"cqg.rtd\",,\"StudyData\", $O$2, \"BAR\", \"\", \"Low\", $O$4, -$A271, $O$6,$O$10,,$O$8,$O$12)","v":4090.75},{"$f":" RTD(\"cqg.rtd\",,\"StudyData\", $O$2, \"BAR\", \"\", \"Close\", $O$4, -$A271, $O$6,$O$10,,$O$8,$O$12)","v":4127.25},{"$f":" RTD(\"cqg.rtd\",,\"StudyData\", $O$2, \"HVol\", \"InputChoice=Close,HvolType=Percent,Period=10\", \"HVOL\",$O$4,-A271,$O$6,$O$10,,$O$8,$O$12)","v":26.956366657576361}]
[270,{"$f":" RTD(\"cqg.rtd\",,\"StudyData\", $O$2, \"BAR\", \"\", \"Time\", $O$4,-$A272,$O$6,$O$10, \"\",\"False\",\"T\")","v":"2022-09-13"},{"$f":" RTD(\"cqg.rtd\",,\"StudyData\", $O$2, \"BAR\", \"\", \"Open\", $O$4, -$A272, $O$6,$O$10,,$O$8,$O$12)","v":4299.25},{"$f":" RTD(\"cqg.rtd\",,\"StudyData\", $O$2, \"BAR\", \"\", \"High\", $O$4, -$A272, $O$6,$O$10,,$O$8,$O$12)","v":4336.75},{"$f":" RTD(\"cqg.rtd\",,\"StudyData\", $O$2, \"BAR\", \"\", \"Low\", $O$4, -$A272, $O$6,$O$10,,$O$8,$O$12)","v":4100.25},{"$f":" RTD(\"cqg.rtd\",,\"StudyData\", $O$2, \"BAR\", \"\", \"Close\", $O$4, -$A272, $O$6,$O$10,,$O$8,$O$12)","v":4112},{"$f":" RTD(\"cqg.rtd\",,\"StudyData\", $O$2, \"HVol\", \"InputChoice=Close,HvolType=Percent,Period=10\", \"HVOL\",$O$4,-A272,$O$6,$O$10,,$O$8,$O$12)","v":27.221811666356331}]
[271,{"$f":" RTD(\"cqg.rtd\",,\"StudyData\", $O$2, \"BAR\", \"\", \"Time\", $O$4,-$A273,$O$6,$O$10, \"\",\"False\",\"T\")","v":"2022-09-12"},{"$f":" RTD(\"cqg.rtd\",,\"StudyData\", $O$2, \"BAR\", \"\", \"Open\", $O$4, -$A273, $O$6,$O$10,,$O$8,$O$12)","v":4257.75},{"$f":" RTD(\"cqg.rtd\",,\"StudyData\", $O$2, \"BAR\", \"\", \"High\", $O$4, -$A273, $O$6,$O$10,,$O$8,$O$12)","v":4299.5},{"$f":" RTD(\"cqg.rtd\",,\"StudyData\", $O$2, \"BAR\", \"\", \"Low\", $O$4, -$A273, $O$6,$O$10,,$O$8,$O$12)","v":4242},{"$f":" RTD(\"cqg.rtd\",,\"StudyData\", $O$2, \"BAR\", \"\", \"Close\", $O$4, -$A273, $O$6,$O$10,,$O$8,$O$12)","v":4291.75},{"$f":" RTD(\"cqg.rtd\",,\"StudyData\", $O$2, \"HVol\", \"InputChoice=Close,HvolType=Percent,Period=10\", \"HVOL\",$O$4,-A273,$O$6,$O$10,,$O$8,$O$12)","v":16.580575762163171}]
[272,{"$f":" RTD(\"cqg.rtd\",,\"StudyData\", $O$2, \"BAR\", \"\", \"Time\", $O$4,-$A274,$O$6,$O$10, \"\",\"False\",\"T\")","v":"2022-09-09"},{"$f":" RTD(\"cqg.rtd\",,\"StudyData\", $O$2, \"BAR\", \"\", \"Open\", $O$4, -$A274, $O$6,$O$10,,$O$8,$O$12)","v":4188.25},{"$f":" RTD(\"cqg.rtd\",,\"StudyData\", $O$2, \"BAR\", \"\", \"High\", $O$4, -$A274, $O$6,$O$10,,$O$8,$O$12)","v":4256.75},{"$f":" RTD(\"cqg.rtd\",,\"StudyData\", $O$2, \"BAR\", \"\", \"Low\", $O$4, -$A274, $O$6,$O$10,,$O$8,$O$12)","v":4184.25},{"$f":" RTD(\"cqg.rtd\",,\"StudyData\", $O$2, \"BAR\", \"\", \"Close\", $O$4, -$A274, $O$6,$O$10,,$O$8,$O$12)","v":4247.25},{"$f":" RTD(\"cqg.rtd\",,\"StudyData\", $O$2, \"HVol\", \"InputChoice=Close,HvolType=Percent,Period=10\", \"HVOL\",$O$4,-A274,$O$6,$O$10,,$O$8,$O$12)","v":22.686871936083293}]
[273,{"$f":" RTD(\"cqg.rtd\",,\"StudyData\", $O$2, \"BAR\", \"\", \"Time\", $O$4,-$A275,$O$6,$O$10, \"\",\"False\",\"T\")","v":"2022-09-08"},{"$f":" RTD(\"cqg.rtd\",,\"StudyData\", $O$2, \"BAR\", \"\", \"Open\", $O$4, -$A275, $O$6,$O$10,,$O$8,$O$12)","v":4158.5},{"$f":" RTD(\"cqg.rtd\",,\"StudyData\", $O$2, \"BAR\", \"\", \"High\", $O$4, -$A275, $O$6,$O$10,,$O$8,$O$12)","v":4190},{"$f":" RTD(\"cqg.rtd\",,\"StudyData\", $O$2, \"BAR\", \"\", \"Low\", $O$4, -$A275, $O$6,$O$10,,$O$8,$O$12)","v":4121.25},{"$f":" RTD(\"cqg.rtd\",,\"StudyData\", $O$2, \"BAR\", \"\", \"Close\", $O$4, -$A275, $O$6,$O$10,,$O$8,$O$12)","v":4184},{"$f":" RTD(\"cqg.rtd\",,\"StudyData\", $O$2, \"HVol\", \"InputChoice=Close,HvolType=Percent,Period=10\", \"HVOL\",$O$4,-A275,$O$6,$O$10,,$O$8,$O$12)","v":22.336393039506447}]
[274,{"$f":" RTD(\"cqg.rtd\",,\"StudyData\", $O$2, \"BAR\", \"\", \"Time\", $O$4,-$A276,$O$6,$O$10, \"\",\"False\",\"T\")","v":"2022-09-07"},{"$f":" RTD(\"cqg.rtd\",,\"StudyData\", $O$2, \"BAR\", \"\", \"Open\", $O$4, -$A276, $O$6,$O$10,,$O$8,$O$12)","v":4086},{"$f":" RTD(\"cqg.rtd\",,\"StudyData\", $O$2, \"BAR\", \"\", \"High\", $O$4, -$A276, $O$6,$O$10,,$O$8,$O$12)","v":4167.25},{"$f":" RTD(\"cqg.rtd\",,\"StudyData\", $O$2, \"BAR\", \"\", \"Low\", $O$4, -$A276, $O$6,$O$10,,$O$8,$O$12)","v":4062},{"$f":" RTD(\"cqg.rtd\",,\"StudyData\", $O$2, \"BAR\", \"\", \"Close\", $O$4, -$A276, $O$6,$O$10,,$O$8,$O$12)","v":4158.5},{"$f":" RTD(\"cqg.rtd\",,\"StudyData\", $O$2, \"HVol\", \"InputChoice=Close,HvolType=Percent,Period=10\", \"HVOL\",$O$4,-A276,$O$6,$O$10,,$O$8,$O$12)","v":22.015698497007577}]
[275,{"$f":" RTD(\"cqg.rtd\",,\"StudyData\", $O$2, \"BAR\", \"\", \"Time\", $O$4,-$A277,$O$6,$O$10, \"\",\"False\",\"T\")","v":"2022-09-06"},{"$f":" RTD(\"cqg.rtd\",,\"StudyData\", $O$2, \"BAR\", \"\", \"Open\", $O$4, -$A277, $O$6,$O$10,,$O$8,$O$12)","v":4107.5},{"$f":" RTD(\"cqg.rtd\",,\"StudyData\", $O$2, \"BAR\", \"\", \"High\", $O$4, -$A277, $O$6,$O$10,,$O$8,$O$12)","v":4141.75},{"$f":" RTD(\"cqg.rtd\",,\"StudyData\", $O$2, \"BAR\", \"\", \"Low\", $O$4, -$A277, $O$6,$O$10,,$O$8,$O$12)","v":4065.25},{"$f":" RTD(\"cqg.rtd\",,\"StudyData\", $O$2, \"BAR\", \"\", \"Close\", $O$4, -$A277, $O$6,$O$10,,$O$8,$O$12)","v":4089},{"$f":" RTD(\"cqg.rtd\",,\"StudyData\", $O$2, \"HVol\", \"InputChoice=Close,HvolType=Percent,Period=10\", \"HVOL\",$O$4,-A277,$O$6,$O$10,,$O$8,$O$12)","v":18.924900307914303}]
[276,{"$f":" RTD(\"cqg.rtd\",,\"StudyData\", $O$2, \"BAR\", \"\", \"Time\", $O$4,-$A278,$O$6,$O$10, \"\",\"False\",\"T\")","v":"2022-09-02"},{"$f":" RTD(\"cqg.rtd\",,\"StudyData\", $O$2, \"BAR\", \"\", \"Open\", $O$4, -$A278, $O$6,$O$10,,$O$8,$O$12)","v":4146},{"$f":" RTD(\"cqg.rtd\",,\"StudyData\", $O$2, \"BAR\", \"\", \"High\", $O$4, -$A278, $O$6,$O$10,,$O$8,$O$12)","v":4197.75},{"$f":" RTD(\"cqg.rtd\",,\"StudyData\", $O$2, \"BAR\", \"\", \"Low\", $O$4, -$A278, $O$6,$O$10,,$O$8,$O$12)","v":4084.5},{"$f":" RTD(\"cqg.rtd\",,\"StudyData\", $O$2, \"BAR\", \"\", \"Close\", $O$4, -$A278, $O$6,$O$10,,$O$8,$O$12)","v":4103},{"$f":" RTD(\"cqg.rtd\",,\"StudyData\", $O$2, \"HVol\", \"InputChoice=Close,HvolType=Percent,Period=10\", \"HVOL\",$O$4,-A278,$O$6,$O$10,,$O$8,$O$12)","v":20.296027949893091}]
[277,{"$f":" RTD(\"cqg.rtd\",,\"StudyData\", $O$2, \"BAR\", \"\", \"Time\", $O$4,-$A279,$O$6,$O$10, \"\",\"False\",\"T\")","v":"2022-09-01"},{"$f":" RTD(\"cqg.rtd\",,\"StudyData\", $O$2, \"BAR\", \"\", \"Open\", $O$4, -$A279, $O$6,$O$10,,$O$8,$O$12)","v":4136.5},{"$f":" RTD(\"cqg.rtd\",,\"StudyData\", $O$2, \"BAR\", \"\", \"High\", $O$4, -$A279, $O$6,$O$10,,$O$8,$O$12)","v":4149.75},{"$f":" RTD(\"cqg.rtd\",,\"StudyData\", $O$2, \"BAR\", \"\", \"Low\", $O$4, -$A279, $O$6,$O$10,,$O$8,$O$12)","v":4082},{"$f":" RTD(\"cqg.rtd\",,\"StudyData\", $O$2, \"BAR\", \"\", \"Close\", $O$4, -$A279, $O$6,$O$10,,$O$8,$O$12)","v":4147.25},{"$f":" RTD(\"cqg.rtd\",,\"StudyData\", $O$2, \"HVol\", \"InputChoice=Close,HvolType=Percent,Period=10\", \"HVOL\",$O$4,-A279,$O$6,$O$10,,$O$8,$O$12)","v":20.39272911892008}]
[278,{"$f":" RTD(\"cqg.rtd\",,\"StudyData\", $O$2, \"BAR\", \"\", \"Time\", $O$4,-$A280,$O$6,$O$10, \"\",\"False\",\"T\")","v":"2022-08-31"},{"$f":" RTD(\"cqg.rtd\",,\"StudyData\", $O$2, \"BAR\", \"\", \"Open\", $O$4, -$A280, $O$6,$O$10,,$O$8,$O$12)","v":4165.75},{"$f":" RTD(\"cqg.rtd\",,\"StudyData\", $O$2, \"BAR\", \"\", \"High\", $O$4, -$A280, $O$6,$O$10,,$O$8,$O$12)","v":4196.75},{"$f":" RTD(\"cqg.rtd\",,\"StudyData\", $O$2, \"BAR\", \"\", \"Low\", $O$4, -$A280, $O$6,$O$10,,$O$8,$O$12)","v":4131.5},{"$f":" RTD(\"cqg.rtd\",,\"StudyData\", $O$2, \"BAR\", \"\", \"Close\", $O$4, -$A280, $O$6,$O$10,,$O$8,$O$12)","v":4135},{"$f":" RTD(\"cqg.rtd\",,\"StudyData\", $O$2, \"HVol\", \"InputChoice=Close,HvolType=Percent,Period=10\", \"HVOL\",$O$4,-A280,$O$6,$O$10,,$O$8,$O$12)","v":20.288140180997495}]
[279,{"$f":" RTD(\"cqg.rtd\",,\"StudyData\", $O$2, \"BAR\", \"\", \"Time\", $O$4,-$A281,$O$6,$O$10, \"\",\"False\",\"T\")","v":"2022-08-30"},{"$f":" RTD(\"cqg.rtd\",,\"StudyData\", $O$2, \"BAR\", \"\", \"Open\", $O$4, -$A281, $O$6,$O$10,,$O$8,$O$12)","v":4214.25},{"$f":" RTD(\"cqg.rtd\",,\"StudyData\", $O$2, \"BAR\", \"\", \"High\", $O$4, -$A281, $O$6,$O$10,,$O$8,$O$12)","v":4251.25},{"$f":" RTD(\"cqg.rtd\",,\"StudyData\", $O$2, \"BAR\", \"\", \"Low\", $O$4, -$A281, $O$6,$O$10,,$O$8,$O$12)","v":4143},{"$f":" RTD(\"cqg.rtd\",,\"StudyData\", $O$2, \"BAR\", \"\", \"Close\", $O$4, -$A281, $O$6,$O$10,,$O$8,$O$12)","v":4166},{"$f":" RTD(\"cqg.rtd\",,\"StudyData\", $O$2, \"HVol\", \"InputChoice=Close,HvolType=Percent,Period=10\", \"HVOL\",$O$4,-A281,$O$6,$O$10,,$O$8,$O$12)","v":20.289265921743254}]
[280,{"$f":" RTD(\"cqg.rtd\",,\"StudyData\", $O$2, \"BAR\", \"\", \"Time\", $O$4,-$A282,$O$6,$O$10, \"\",\"False\",\"T\")","v":"2022-08-29"},{"$f":" RTD(\"cqg.rtd\",,\"StudyData\", $O$2, \"BAR\", \"\", \"Open\", $O$4, -$A282, $O$6,$O$10,,$O$8,$O$12)","v":4202.5},{"$f":" RTD(\"cqg.rtd\",,\"StudyData\", $O$2, \"BAR\", \"\", \"High\", $O$4, -$A282, $O$6,$O$10,,$O$8,$O$12)","v":4242.5},{"$f":" RTD(\"cqg.rtd\",,\"StudyData\", $O$2, \"BAR\", \"\", \"Low\", $O$4, -$A282, $O$6,$O$10,,$O$8,$O$12)","v":4185.25},{"$f":" RTD(\"cqg.rtd\",,\"StudyData\", $O$2, \"BAR\", \"\", \"Close\", $O$4, -$A282, $O$6,$O$10,,$O$8,$O$12)","v":4209.75},{"$f":" RTD(\"cqg.rtd\",,\"StudyData\", $O$2, \"HVol\", \"InputChoice=Close,HvolType=Percent,Period=10\", \"HVOL\",$O$4,-A282,$O$6,$O$10,,$O$8,$O$12)","v":20.720370286047014}]
[281,{"$f":" RTD(\"cqg.rtd\",,\"StudyData\", $O$2, \"BAR\", \"\", \"Time\", $O$4,-$A283,$O$6,$O$10, \"\",\"False\",\"T\")","v":"2022-08-26"},{"$f":" RTD(\"cqg.rtd\",,\"StudyData\", $O$2, \"BAR\", \"\", \"Open\", $O$4, -$A283, $O$6,$O$10,,$O$8,$O$12)","v":4376.75},{"$f":" RTD(\"cqg.rtd\",,\"StudyData\", $O$2, \"BAR\", \"\", \"High\", $O$4, -$A283, $O$6,$O$10,,$O$8,$O$12)","v":4395.75},{"$f":" RTD(\"cqg.rtd\",,\"StudyData\", $O$2, \"BAR\", \"\", \"Low\", $O$4, -$A283, $O$6,$O$10,,$O$8,$O$12)","v":4221.25},{"$f":" RTD(\"cqg.rtd\",,\"StudyData\", $O$2, \"BAR\", \"\", \"Close\", $O$4, -$A283, $O$6,$O$10,,$O$8,$O$12)","v":4238},{"$f":" RTD(\"cqg.rtd\",,\"StudyData\", $O$2, \"HVol\", \"InputChoice=Close,HvolType=Percent,Period=10\", \"HVOL\",$O$4,-A283,$O$6,$O$10,,$O$8,$O$12)","v":21.295181414518328}]
[282,{"$f":" RTD(\"cqg.rtd\",,\"StudyData\", $O$2, \"BAR\", \"\", \"Time\", $O$4,-$A284,$O$6,$O$10, \"\",\"False\",\"T\")","v":"2022-08-25"},{"$f":" RTD(\"cqg.rtd\",,\"StudyData\", $O$2, \"BAR\", \"\", \"Open\", $O$4, -$A284, $O$6,$O$10,,$O$8,$O$12)","v":4327.25},{"$f":" RTD(\"cqg.rtd\",,\"StudyData\", $O$2, \"BAR\", \"\", \"High\", $O$4, -$A284, $O$6,$O$10,,$O$8,$O$12)","v":4381.25},{"$f":" RTD(\"cqg.rtd\",,\"StudyData\", $O$2, \"BAR\", \"\", \"Low\", $O$4, -$A284, $O$6,$O$10,,$O$8,$O$12)","v":4321.5},{"$f":" RTD(\"cqg.rtd\",,\"StudyData\", $O$2, \"BAR\", \"\", \"Close\", $O$4, -$A284, $O$6,$O$10,,$O$8,$O$12)","v":4379.5},{"$f":" RTD(\"cqg.rtd\",,\"StudyData\", $O$2, \"HVol\", \"InputChoice=Close,HvolType=Percent,Period=10\", \"HVOL\",$O$4,-A284,$O$6,$O$10,,$O$8,$O$12)","v":17.495607611830238}]
[283,{"$f":" RTD(\"cqg.rtd\",,\"StudyData\", $O$2, \"BAR\", \"\", \"Time\", $O$4,-$A285,$O$6,$O$10, \"\",\"False\",\"T\")","v":"2022-08-24"},{"$f":" RTD(\"cqg.rtd\",,\"StudyData\", $O$2, \"BAR\", \"\", \"Open\", $O$4, -$A285, $O$6,$O$10,,$O$8,$O$12)","v":4306.75},{"$f":" RTD(\"cqg.rtd\",,\"StudyData\", $O$2, \"BAR\", \"\", \"High\", $O$4, -$A285, $O$6,$O$10,,$O$8,$O$12)","v":4337},{"$f":" RTD(\"cqg.rtd\",,\"StudyData\", $O$2, \"BAR\", \"\", \"Low\", $O$4, -$A285, $O$6,$O$10,,$O$8,$O$12)","v":4289.25},{"$f":" RTD(\"cqg.rtd\",,\"StudyData\", $O$2, \"BAR\", \"\", \"Close\", $O$4, -$A285, $O$6,$O$10,,$O$8,$O$12)","v":4321.25},{"$f":" RTD(\"cqg.rtd\",,\"StudyData\", $O$2, \"HVol\", \"InputChoice=Close,HvolType=Percent,Period=10\", \"HVOL\",$O$4,-A285,$O$6,$O$10,,$O$8,$O$12)","v":15.793894550599836}]
[284,{"$f":" RTD(\"cqg.rtd\",,\"StudyData\", $O$2, \"BAR\", \"\", \"Time\", $O$4,-$A286,$O$6,$O$10, \"\",\"False\",\"T\")","v":"2022-08-23"},{"$f":" RTD(\"cqg.rtd\",,\"StudyData\", $O$2, \"BAR\", \"\", \"Open\", $O$4, -$A286, $O$6,$O$10,,$O$8,$O$12)","v":4325.5},{"$f":" RTD(\"cqg.rtd\",,\"StudyData\", $O$2, \"BAR\", \"\", \"High\", $O$4, -$A286, $O$6,$O$10,,$O$8,$O$12)","v":4340.25},{"$f":" RTD(\"cqg.rtd\",,\"StudyData\", $O$2, \"BAR\", \"\", \"Low\", $O$4, -$A286, $O$6,$O$10,,$O$8,$O$12)","v":4296.5},{"$f":" RTD(\"cqg.rtd\",,\"StudyData\", $O$2, \"BAR\", \"\", \"Close\", $O$4, -$A286, $O$6,$O$10,,$O$8,$O$12)","v":4309},{"$f":" RTD(\"cqg.rtd\",,\"StudyData\", $O$2, \"HVol\", \"InputChoice=Close,HvolType=Percent,Period=10\", \"HVOL\",$O$4,-A286,$O$6,$O$10,,$O$8,$O$12)","v":19.052274840749366}]
[285,{"$f":" RTD(\"cqg.rtd\",,\"StudyData\", $O$2, \"BAR\", \"\", \"Time\", $O$4,-$A287,$O$6,$O$10, \"\",\"False\",\"T\")","v":"2022-08-22"},{"$f":" RTD(\"cqg.rtd\",,\"StudyData\", $O$2, \"BAR\", \"\", \"Open\", $O$4, -$A287, $O$6,$O$10,,$O$8,$O$12)","v":4399.5},{"$f":" RTD(\"cqg.rtd\",,\"StudyData\", $O$2, \"BAR\", \"\", \"High\", $O$4, -$A287, $O$6,$O$10,,$O$8,$O$12)","v":4400},{"$f":" RTD(\"cqg.rtd\",,\"StudyData\", $O$2, \"BAR\", \"\", \"Low\", $O$4, -$A287, $O$6,$O$10,,$O$8,$O$12)","v":4310},{"$f":" RTD(\"cqg.rtd\",,\"StudyData\", $O$2, \"BAR\", \"\", \"Close\", $O$4, -$A287, $O$6,$O$10,,$O$8,$O$12)","v":4319.75},{"$f":" RTD(\"cqg.rtd\",,\"StudyData\", $O$2, \"HVol\", \"InputChoice=Close,HvolType=Percent,Period=10\", \"HVOL\",$O$4,-A287,$O$6,$O$10,,$O$8,$O$12)","v":19.126045031479343}]
[286,{"$f":" RTD(\"cqg.rtd\",,\"StudyData\", $O$2, \"BAR\", \"\", \"Time\", $O$4,-$A288,$O$6,$O$10, \"\",\"False\",\"T\")","v":"2022-08-19"},{"$f":" RTD(\"cqg.rtd\",,\"StudyData\", $O$2, \"BAR\", \"\", \"Open\", $O$4, -$A288, $O$6,$O$10,,$O$8,$O$12)","v":4465.5},{"$f":" RTD(\"cqg.rtd\",,\"StudyData\", $O$2, \"BAR\", \"\", \"High\", $O$4, -$A288, $O$6,$O$10,,$O$8,$O$12)","v":4466.5},{"$f":" RTD(\"cqg.rtd\",,\"StudyData\", $O$2, \"BAR\", \"\", \"Low\", $O$4, -$A288, $O$6,$O$10,,$O$8,$O$12)","v":4399.25},{"$f":" RTD(\"cqg.rtd\",,\"StudyData\", $O$2, \"BAR\", \"\", \"Close\", $O$4, -$A288, $O$6,$O$10,,$O$8,$O$12)","v":4410},{"$f":" RTD(\"cqg.rtd\",,\"StudyData\", $O$2, \"HVol\", \"InputChoice=Close,HvolType=Percent,Period=10\", \"HVOL\",$O$4,-A288,$O$6,$O$10,,$O$8,$O$12)","v":15.456467642676074}]
[287,{"$f":" RTD(\"cqg.rtd\",,\"StudyData\", $O$2, \"BAR\", \"\", \"Time\", $O$4,-$A289,$O$6,$O$10, \"\",\"False\",\"T\")","v":"2022-08-18"},{"$f":" RTD(\"cqg.rtd\",,\"StudyData\", $O$2, \"BAR\", \"\", \"Open\", $O$4, -$A289, $O$6,$O$10,,$O$8,$O$12)","v":4458},{"$f":" RTD(\"cqg.rtd\",,\"StudyData\", $O$2, \"BAR\", \"\", \"High\", $O$4, -$A289, $O$6,$O$10,,$O$8,$O$12)","v":4474},{"$f":" RTD(\"cqg.rtd\",,\"StudyData\", $O$2, \"BAR\", \"\", \"Low\", $O$4, -$A289, $O$6,$O$10,,$O$8,$O$12)","v":4436.5},{"$f":" RTD(\"cqg.rtd\",,\"StudyData\", $O$2, \"BAR\", \"\", \"Close\", $O$4, -$A289, $O$6,$O$10,,$O$8,$O$12)","v":4465},{"$f":" RTD(\"cqg.rtd\",,\"StudyData\", $O$2, \"HVol\", \"InputChoice=Close,HvolType=Percent,Period=10\", \"HVOL\",$O$4,-A289,$O$6,$O$10,,$O$8,$O$12)","v":13.476917394607122}]
[288,{"$f":" RTD(\"cqg.rtd\",,\"StudyData\", $O$2, \"BAR\", \"\", \"Time\", $O$4,-$A290,$O$6,$O$10, \"\",\"False\",\"T\")","v":"2022-08-17"},{"$f":" RTD(\"cqg.rtd\",,\"StudyData\", $O$2, \"BAR\", \"\", \"Open\", $O$4, -$A290, $O$6,$O$10,,$O$8,$O$12)","v":4487.75},{"$f":" RTD(\"cqg.rtd\",,\"StudyData\", $O$2, \"BAR\", \"\", \"High\", $O$4, -$A290, $O$6,$O$10,,$O$8,$O$12)","v":4493.5},{"$f":" RTD(\"cqg.rtd\",,\"StudyData\", $O$2, \"BAR\", \"\", \"Low\", $O$4, -$A290, $O$6,$O$10,,$O$8,$O$12)","v":4433.5},{"$f":" RTD(\"cqg.rtd\",,\"StudyData\", $O$2, \"BAR\", \"\", \"Close\", $O$4, -$A290, $O$6,$O$10,,$O$8,$O$12)","v":4455.25},{"$f":" RTD(\"cqg.rtd\",,\"StudyData\", $O$2, \"HVol\", \"InputChoice=Close,HvolType=Percent,Period=10\", \"HVOL\",$O$4,-A290,$O$6,$O$10,,$O$8,$O$12)","v":13.623706951450698}]
[289,{"$f":" RTD(\"cqg.rtd\",,\"StudyData\", $O$2, \"BAR\", \"\", \"Time\", $O$4,-$A291,$O$6,$O$10, \"\",\"False\",\"T\")","v":"2022-08-16"},{"$f":" RTD(\"cqg.rtd\",,\"StudyData\", $O$2, \"BAR\", \"\", \"Open\", $O$4, -$A291, $O$6,$O$10,,$O$8,$O$12)","v":4473},{"$f":" RTD(\"cqg.rtd\",,\"StudyData\", $O$2, \"BAR\", \"\", \"High\", $O$4, -$A291, $O$6,$O$10,,$O$8,$O$12)","v":4506},{"$f":" RTD(\"cqg.rtd\",,\"StudyData\", $O$2, \"BAR\", \"\", \"Low\", $O$4, -$A291, $O$6,$O$10,,$O$8,$O$12)","v":4457.25},{"$f":" RTD(\"cqg.rtd\",,\"StudyData\", $O$2, \"BAR\", \"\", \"Close\", $O$4, -$A291, $O$6,$O$10,,$O$8,$O$12)","v":4486.25},{"$f":" RTD(\"cqg.rtd\",,\"StudyData\", $O$2, \"HVol\", \"InputChoice=Close,HvolType=Percent,Period=10\", \"HVOL\",$O$4,-A291,$O$6,$O$10,,$O$8,$O$12)","v":13.625408435930188}]
[290,{"$f":" RTD(\"cqg.rtd\",,\"StudyData\", $O$2, \"BAR\", \"\", \"Time\", $O$4,-$A292,$O$6,$O$10, \"\",\"False\",\"T\")","v":"2022-08-15"},{"$f":" RTD(\"cqg.rtd\",,\"StudyData\", $O$2, \"BAR\", \"\", \"Open\", $O$4, -$A292, $O$6,$O$10,,$O$8,$O$12)","v":4455.5},{"$f":" RTD(\"cqg.rtd\",,\"StudyData\", $O$2, \"BAR\", \"\", \"High\", $O$4, -$A292, $O$6,$O$10,,$O$8,$O$12)","v":4483.25},{"$f":" RTD(\"cqg.rtd\",,\"StudyData\", $O$2, \"BAR\", \"\", \"Low\", $O$4, -$A292, $O$6,$O$10,,$O$8,$O$12)","v":4427.5},{"$f":" RTD(\"cqg.rtd\",,\"StudyData\", $O$2, \"BAR\", \"\", \"Close\", $O$4, -$A292, $O$6,$O$10,,$O$8,$O$12)","v":4476.75},{"$f":" RTD(\"cqg.rtd\",,\"StudyData\", $O$2, \"HVol\", \"InputChoice=Close,HvolType=Percent,Period=10\", \"HVOL\",$O$4,-A292,$O$6,$O$10,,$O$8,$O$12)","v":14.699962805088669}]
[291,{"$f":" RTD(\"cqg.rtd\",,\"StudyData\", $O$2, \"BAR\", \"\", \"Time\", $O$4,-$A293,$O$6,$O$10, \"\",\"False\",\"T\")","v":"2022-08-12"},{"$f":" RTD(\"cqg.rtd\",,\"StudyData\", $O$2, \"BAR\", \"\", \"Open\", $O$4, -$A293, $O$6,$O$10,,$O$8,$O$12)","v":4397.75},{"$f":" RTD(\"cqg.rtd\",,\"StudyData\", $O$2, \"BAR\", \"\", \"High\", $O$4, -$A293, $O$6,$O$10,,$O$8,$O$12)","v":4461.25},{"$f":" RTD(\"cqg.rtd\",,\"StudyData\", $O$2, \"BAR\", \"\", \"Low\", $O$4, -$A293, $O$6,$O$10,,$O$8,$O$12)","v":4386.75},{"$f":" RTD(\"cqg.rtd\",,\"StudyData\", $O$2, \"BAR\", \"\", \"Close\", $O$4, -$A293, $O$6,$O$10,,$O$8,$O$12)","v":4459.5},{"$f":" RTD(\"cqg.rtd\",,\"StudyData\", $O$2, \"HVol\", \"InputChoice=Close,HvolType=Percent,Period=10\", \"HVOL\",$O$4,-A293,$O$6,$O$10,,$O$8,$O$12)","v":15.126560538495037}]
[292,{"$f":" RTD(\"cqg.rtd\",,\"StudyData\", $O$2, \"BAR\", \"\", \"Time\", $O$4,-$A294,$O$6,$O$10, \"\",\"False\",\"T\")","v":"2022-08-11"},{"$f":" RTD(\"cqg.rtd\",,\"StudyData\", $O$2, \"BAR\", \"\", \"Open\", $O$4, -$A294, $O$6,$O$10,,$O$8,$O$12)","v":4389.25},{"$f":" RTD(\"cqg.rtd\",,\"StudyData\", $O$2, \"BAR\", \"\", \"High\", $O$4, -$A294, $O$6,$O$10,,$O$8,$O$12)","v":4439},{"$f":" RTD(\"cqg.rtd\",,\"StudyData\", $O$2, \"BAR\", \"\", \"Low\", $O$4, -$A294, $O$6,$O$10,,$O$8,$O$12)","v":4381.25},{"$f":" RTD(\"cqg.rtd\",,\"StudyData\", $O$2, \"BAR\", \"\", \"Close\", $O$4, -$A294, $O$6,$O$10,,$O$8,$O$12)","v":4388.25},{"$f":" RTD(\"cqg.rtd\",,\"StudyData\", $O$2, \"HVol\", \"InputChoice=Close,HvolType=Percent,Period=10\", \"HVOL\",$O$4,-A294,$O$6,$O$10,,$O$8,$O$12)","v":14.655921917443859}]
[293,{"$f":" RTD(\"cqg.rtd\",,\"StudyData\", $O$2, \"BAR\", \"\", \"Time\", $O$4,-$A295,$O$6,$O$10, \"\",\"False\",\"T\")","v":"2022-08-10"},{"$f":" RTD(\"cqg.rtd\",,\"StudyData\", $O$2, \"BAR\", \"\", \"Open\", $O$4, -$A295, $O$6,$O$10,,$O$8,$O$12)","v":4307.25},{"$f":" RTD(\"cqg.rtd\",,\"StudyData\", $O$2, \"BAR\", \"\", \"High\", $O$4, -$A295, $O$6,$O$10,,$O$8,$O$12)","v":4392},{"$f":" RTD(\"cqg.rtd\",,\"StudyData\", $O$2, \"BAR\", \"\", \"Low\", $O$4, -$A295, $O$6,$O$10,,$O$8,$O$12)","v":4292.25},{"$f":" RTD(\"cqg.rtd\",,\"StudyData\", $O$2, \"BAR\", \"\", \"Close\", $O$4, -$A295, $O$6,$O$10,,$O$8,$O$12)","v":4388.5},{"$f":" RTD(\"cqg.rtd\",,\"StudyData\", $O$2, \"HVol\", \"InputChoice=Close,HvolType=Percent,Period=10\", \"HVOL\",$O$4,-A295,$O$6,$O$10,,$O$8,$O$12)","v":15.09724610601933}]
[294,{"$f":" RTD(\"cqg.rtd\",,\"StudyData\", $O$2, \"BAR\", \"\", \"Time\", $O$4,-$A296,$O$6,$O$10, \"\",\"False\",\"T\")","v":"2022-08-09"},{"$f":" RTD(\"cqg.rtd\",,\"StudyData\", $O$2, \"BAR\", \"\", \"Open\", $O$4, -$A296, $O$6,$O$10,,$O$8,$O$12)","v":4327},{"$f":" RTD(\"cqg.rtd\",,\"StudyData\", $O$2, \"BAR\", \"\", \"High\", $O$4, -$A296, $O$6,$O$10,,$O$8,$O$12)","v":4333.5},{"$f":" RTD(\"cqg.rtd\",,\"StudyData\", $O$2, \"BAR\", \"\", \"Low\", $O$4, -$A296, $O$6,$O$10,,$O$8,$O$12)","v":4291.5},{"$f":" RTD(\"cqg.rtd\",,\"StudyData\", $O$2, \"BAR\", \"\", \"Close\", $O$4, -$A296, $O$6,$O$10,,$O$8,$O$12)","v":4303},{"$f":" RTD(\"cqg.rtd\",,\"StudyData\", $O$2, \"HVol\", \"InputChoice=Close,HvolType=Percent,Period=10\", \"HVOL\",$O$4,-A296,$O$6,$O$10,,$O$8,$O$12)","v":16.588694161527567}]
[295,{"$f":" RTD(\"cqg.rtd\",,\"StudyData\", $O$2, \"BAR\", \"\", \"Time\", $O$4,-$A297,$O$6,$O$10, \"\",\"False\",\"T\")","v":"2022-08-08"},{"$f":" RTD(\"cqg.rtd\",,\"StudyData\", $O$2, \"BAR\", \"\", \"Open\", $O$4, -$A297, $O$6,$O$10,,$O$8,$O$12)","v":4328.25},{"$f":" RTD(\"cqg.rtd\",,\"StudyData\", $O$2, \"BAR\", \"\", \"High\", $O$4, -$A297, $O$6,$O$10,,$O$8,$O$12)","v":4366.5},{"$f":" RTD(\"cqg.rtd\",,\"StudyData\", $O$2, \"BAR\", \"\", \"Low\", $O$4, -$A297, $O$6,$O$10,,$O$8,$O$12)","v":4307.75},{"$f":" RTD(\"cqg.rtd\",,\"StudyData\", $O$2, \"BAR\", \"\", \"Close\", $O$4, -$A297, $O$6,$O$10,,$O$8,$O$12)","v":4320.25},{"$f":" RTD(\"cqg.rtd\",,\"StudyData\", $O$2, \"HVol\", \"InputChoice=Close,HvolType=Percent,Period=10\", \"HVOL\",$O$4,-A297,$O$6,$O$10,,$O$8,$O$12)","v":18.004691228438666}]
[296,{"$f":" RTD(\"cqg.rtd\",,\"StudyData\", $O$2, \"BAR\", \"\", \"Time\", $O$4,-$A298,$O$6,$O$10, \"\",\"False\",\"T\")","v":"2022-08-05"},{"$f":" RTD(\"cqg.rtd\",,\"StudyData\", $O$2, \"BAR\", \"\", \"Open\", $O$4, -$A298, $O$6,$O$10,,$O$8,$O$12)","v":4330.5},{"$f":" RTD(\"cqg.rtd\",,\"StudyData\", $O$2, \"BAR\", \"\", \"High\", $O$4, -$A298, $O$6,$O$10,,$O$8,$O$12)","v":4344.75},{"$f":" RTD(\"cqg.rtd\",,\"StudyData\", $O$2, \"BAR\", \"\", \"Low\", $O$4, -$A298, $O$6,$O$10,,$O$8,$O$12)","v":4282.25},{"$f":" RTD(\"cqg.rtd\",,\"StudyData\", $O$2, \"BAR\", \"\", \"Close\", $O$4, -$A298, $O$6,$O$10,,$O$8,$O$12)","v":4325.25},{"$f":" RTD(\"cqg.rtd\",,\"StudyData\", $O$2, \"HVol\", \"InputChoice=Close,HvolType=Percent,Period=10\", \"HVOL\",$O$4,-A298,$O$6,$O$10,,$O$8,$O$12)","v":17.8503625852718}]
[297,{"$f":" RTD(\"cqg.rtd\",,\"StudyData\", $O$2, \"BAR\", \"\", \"Time\", $O$4,-$A299,$O$6,$O$10, \"\",\"False\",\"T\")","v":"2022-08-04"},{"$f":" RTD(\"cqg.rtd\",,\"StudyData\", $O$2, \"BAR\", \"\", \"Open\", $O$4, -$A299, $O$6,$O$10,,$O$8,$O$12)","v":4328.75},{"$f":" RTD(\"cqg.rtd\",,\"StudyData\", $O$2, \"BAR\", \"\", \"High\", $O$4, -$A299, $O$6,$O$10,,$O$8,$O$12)","v":4351.75},{"$f":" RTD(\"cqg.rtd\",,\"StudyData\", $O$2, \"BAR\", \"\", \"Low\", $O$4, -$A299, $O$6,$O$10,,$O$8,$O$12)","v":4314.5},{"$f":" RTD(\"cqg.rtd\",,\"StudyData\", $O$2, \"BAR\", \"\", \"Close\", $O$4, -$A299, $O$6,$O$10,,$O$8,$O$12)","v":4330.75},{"$f":" RTD(\"cqg.rtd\",,\"StudyData\", $O$2, \"HVol\", \"InputChoice=Close,HvolType=Percent,Period=10\", \"HVOL\",$O$4,-A299,$O$6,$O$10,,$O$8,$O$12)","v":18.854340475492826}]
[298,{"$f":" RTD(\"cqg.rtd\",,\"StudyData\", $O$2, \"BAR\", \"\", \"Time\", $O$4,-$A300,$O$6,$O$10, \"\",\"False\",\"T\")","v":"2022-08-03"},{"$f":" RTD(\"cqg.rtd\",,\"StudyData\", $O$2, \"BAR\", \"\", \"Open\", $O$4, -$A300, $O$6,$O$10,,$O$8,$O$12)","v":4275.5},{"$f":" RTD(\"cqg.rtd\",,\"StudyData\", $O$2, \"BAR\", \"\", \"High\", $O$4, -$A300, $O$6,$O$10,,$O$8,$O$12)","v":4348.5},{"$f":" RTD(\"cqg.rtd\",,\"StudyData\", $O$2, \"BAR\", \"\", \"Low\", $O$4, -$A300, $O$6,$O$10,,$O$8,$O$12)","v":4263},{"$f":" RTD(\"cqg.rtd\",,\"StudyData\", $O$2, \"BAR\", \"\", \"Close\", $O$4, -$A300, $O$6,$O$10,,$O$8,$O$12)","v":4334.75},{"$f":" RTD(\"cqg.rtd\",,\"StudyData\", $O$2, \"HVol\", \"InputChoice=Close,HvolType=Percent,Period=10\", \"HVOL\",$O$4,-A300,$O$6,$O$10,,$O$8,$O$12)","v":18.867150988973574}]
[299,{"$f":" RTD(\"cqg.rtd\",,\"StudyData\", $O$2, \"BAR\", \"\", \"Time\", $O$4,-$A301,$O$6,$O$10, \"\",\"False\",\"T\")","v":"2022-08-02"},{"$f":" RTD(\"cqg.rtd\",,\"StudyData\", $O$2, \"BAR\", \"\", \"Open\", $O$4, -$A301, $O$6,$O$10,,$O$8,$O$12)","v":4298.25},{"$f":" RTD(\"cqg.rtd\",,\"StudyData\", $O$2, \"BAR\", \"\", \"High\", $O$4, -$A301, $O$6,$O$10,,$O$8,$O$12)","v":4321.5},{"$f":" RTD(\"cqg.rtd\",,\"StudyData\", $O$2, \"BAR\", \"\", \"Low\", $O$4, -$A301, $O$6,$O$10,,$O$8,$O$12)","v":4259},{"$f":" RTD(\"cqg.rtd\",,\"StudyData\", $O$2, \"BAR\", \"\", \"Close\", $O$4, -$A301, $O$6,$O$10,,$O$8,$O$12)","v":4272.25},{"$f":" RTD(\"cqg.rtd\",,\"StudyData\", $O$2, \"HVol\", \"InputChoice=Close,HvolType=Percent,Period=10\", \"HVOL\",$O$4,-A301,$O$6,$O$10,,$O$8,$O$12)","v":18.078204650964665}]
[300,{"$f":"IF( RTD(\"cqg.rtd\",,\"StudyData\", $O$2, \"BAR\", \"\", \"Time\", $O$4,-$A302,$O$6,$O$10, \"\",\"False\",\"T\")=\"\",NA(),RTD(\"cqg.rtd\",,\"StudyData\", $O$2, \"BAR\", \"\", \"Time\", $O$4,-$A302,$O$6,$O$10, \"\",\"False\",\"T\"))","v":"2022-08-01"},{"$f":" IF(RTD(\"cqg.rtd\",,\"StudyData\", $O$2, \"BAR\", \"\", \"Open\", $O$4, -$A302, $O$6,$O$10,,$O$8,$O$12)=\"\",NA(),RTD(\"cqg.rtd\",,\"StudyData\", $O$2, \"BAR\", \"\", \"Open\", $O$4, -$A302, $O$6,$O$10,,$O$8,$O$12))","v":4316},{"$f":"IF( RTD(\"cqg.rtd\",,\"StudyData\", $O$2, \"BAR\", \"\", \"High\", $O$4, -$A302, $O$6,$O$10,,$O$8,$O$12)=\"\",NA(), RTD(\"cqg.rtd\",,\"StudyData\", $O$2, \"BAR\", \"\", \"High\", $O$4, -$A302, $O$6,$O$10,,$O$8,$O$12))","v":4325.75},{"$f":"IF(RTD(\"cqg.rtd\",,\"StudyData\", $O$2, \"BAR\", \"\", \"Low\", $O$4, -$A302, $O$6,$O$10,,$O$8,$O$12)=\"\",NA(),RTD(\"cqg.rtd\",,\"StudyData\", $O$2, \"BAR\", \"\", \"Low\", $O$4, -$A302, $O$6,$O$10,,$O$8,$O$12))","v":4275.5},{"$f":"IF( RTD(\"cqg.rtd\",,\"StudyData\", $O$2, \"BAR\", \"\", \"Close\", $O$4, -$A302, $O$6,$O$10,,$O$8,$O$12)=\"\",NA(), RTD(\"cqg.rtd\",,\"StudyData\", $O$2, \"BAR\", \"\", \"Close\", $O$4, -$A302, $O$6,$O$10,,$O$8,$O$12))","v":4299},{"$f":" RTD(\"cqg.rtd\",,\"StudyData\", $O$2, \"HVol\", \"InputChoice=Close,HvolType=Percent,Period=10\", \"HVOL\",$O$4,-A302,$O$6,$O$10,,$O$8,$O$12)","v":20.140612014195909}]