{"text_format":"1","workbook":"xlsx","n_sheets":2,"sheets":["Dashboard","Data"],"not_rendered":{"charts":2,"images":0,"macros":1,"external_links":0,"defined_names":0,"comments":0,"pivot_tables":0},"unopened":[],"bounds":{"document_bytes":16777216,"sheet_cells":100000,"rows_first":2000,"rows_last":500,"rows_between":2000,"halvings":0,"cell_chars":16384,"cell_head_chars":4096},"cells_cut":0,"cells_raw":0,"read":"whole","date_system":"1900"}

{"sheet":"Dashboard","index":0,"n_rows":26,"n_cols":25,"rows_kept":26,"cut":false,"hidden":false,"merged":[[0,1,0,2],[22,0,23,1],[23,23,23,24]]}
["Symbols","Ranked",null,null,null,null,null,null,null,null,null,null,null,null,null,null,null,null,null,null,null,null,"Symbol","This Week","This Week"]
[{"$f":"Data!$F2","v":"CPE"},{"$f":"Data!G2","v":1.5615827169191136E-2},{"$f":"B2","v":1.5615827169191136E-2},null,null,null,null,null,null,null,null,null,null,null,null,null,null,null,null,null,null,null,"from Data","Right","Left"]
[{"$f":"Data!$F3","v":"GLE"},{"$f":"Data!G3","v":1.299608719955276E-2},{"$f":"B3","v":1.299608719955276E-2},null,null,null,null,null,null,null,null,null,null,null,null,null,null,null,null,null,null,null,{"$f":"Data!A2","v":"BTC"}]
[{"$f":"Data!$F4","v":"SIE"},{"$f":"Data!G4","v":1.1471937875044224E-2},1.1471937875044224E-2,null,null,null,null,null,null,null,null,null,null,null,null,null,null,null,null,null,null,null,{"$f":"Data!A3","v":"CCE"}]
[{"$f":"Data!$F5","v":"CCE"},{"$f":"Data!G5","v":7.5543824519887139E-3},7.5543824519887139E-3,null,null,null,null,null,null,null,null,null,null,null,null,null,null,null,null,null,null,null,{"$f":"Data!A4","v":"CLE"}]
[{"$f":"Data!$F6","v":"DXE"},{"$f":"Data!G6","v":5.480384004838512E-4},5.480384004838512E-4,null,null,null,null,null,null,null,null,null,null,null,null,null,null,null,null,null,null,null,{"$f":"Data!A5","v":"CPE"}]
[{"$f":"Data!$F7","v":"SBE"},{"$f":"Data!G7","v":4.8899755501230144E-4},4.8899755501230144E-4,null,null,null,null,null,null,null,null,null,null,null,null,null,null,null,null,null,null,null,{"$f":"Data!A6","v":"DXE"}]
[{"$f":"Data!$F8","v":"EU6"},{"$f":"Data!G8","v":-3.2809936723700252E-4},-3.2809936723700252E-4,null,null,null,null,null,null,null,null,null,null,null,null,null,null,null,null,null,null,null,{"$f":"Data!A7","v":"EU6"}]
[{"$f":"Data!$F9","v":"HE"},{"$f":"Data!G9","v":-1.8641810918774665E-3},-1.8641810918774665E-3,null,null,null,null,null,null,null,null,null,null,null,null,null,null,null,null,null,null,null,{"$f":"Data!A8","v":"GCE"}]
[{"$f":"Data!$F10","v":"GCE"},{"$f":"Data!G10","v":-2.8860028860027706E-3},-2.8860028860027706E-3,null,null,null,null,null,null,null,null,null,null,null,null,null,null,null,null,null,null,null,{"$f":"Data!A9","v":"GLE"}]
[{"$f":"Data!$F11","v":"ZWA"},{"$f":"Data!G11","v":-6.2949640287769783E-3},-6.2949640287769783E-3,null,null,null,null,null,null,null,null,null,null,null,null,null,null,null,null,null,null,null,{"$f":"Data!A10","v":"HE"}]
[{"$f":"Data!$F12","v":"TYA"},{"$f":"Data!G12","v":-7.7630822311673372E-3},-7.7630822311673372E-3,null,null,null,null,null,null,null,null,null,null,null,null,null,null,null,null,null,null,null,{"$f":"Data!A11","v":"HOE"}]
[{"$f":"Data!$F13","v":"ZCE"},{"$f":"Data!G13","v":-1.0332950631458095E-2},-1.0332950631458095E-2,null,null,null,null,null,null,null,null,null,null,null,null,null,null,null,null,null,null,null,{"$f":"Data!A12","v":"NGE"}]
[{"$f":"Data!$F14","v":"CLE"},{"$f":"Data!G14","v":-1.0506654214335647E-2},-1.0506654214335647E-2,null,null,null,null,null,null,null,null,null,null,null,null,null,null,null,null,null,null,null,{"$f":"Data!A13","v":"PAE"}]
[{"$f":"Data!$F15","v":"QO"},{"$f":"Data!G15","v":-1.1166390270867939E-2},-1.1166390270867939E-2,null,null,null,null,null,null,null,null,null,null,null,null,null,null,null,null,null,null,null,{"$f":"Data!A14","v":"PLE"}]
[{"$f":"Data!$F16","v":"RBE"},{"$f":"Data!G16","v":-1.2380034963787489E-2},-1.2380034963787489E-2,null,null,null,null,null,null,null,null,null,null,null,null,null,null,null,null,null,null,null,{"$f":"Data!A15","v":"QO"}]
[{"$f":"Data!$F17","v":"ZSE"},{"$f":"Data!G17","v":-1.2776831345826235E-2},-1.2776831345826235E-2,null,null,null,null,null,null,null,null,null,null,null,null,null,null,null,null,null,null,null,{"$f":"Data!A16","v":"RBE"}]
[{"$f":"Data!$F18","v":"PAE"},{"$f":"Data!G18","v":-1.368570080226522E-2},-1.368570080226522E-2,null,null,null,null,null,null,null,null,null,null,null,null,null,null,null,null,null,null,null,{"$f":"Data!A17","v":"SBE"}]
[{"$f":"Data!$F19","v":"BTC"},{"$f":"Data!G19","v":-1.5259788596099449E-2},-1.5259788596099449E-2,null,null,null,null,null,null,null,null,null,null,null,null,null,null,null,null,null,null,null,{"$f":"Data!A18","v":"SIE"}]
[{"$f":"Data!$F20","v":"HOE"},{"$f":"Data!G20","v":-1.7206063088897917E-2},-1.7206063088897917E-2,null,null,null,null,null,null,null,null,null,null,null,null,null,null,null,null,null,null,null,{"$f":"Data!A19","v":"TYA"}]
[{"$f":"Data!$F21","v":"NGE"},{"$f":"Data!G21","v":-2.5988700564971774E-2},-2.5988700564971774E-2,null,null,null,null,null,null,null,null,null,null,null,null,null,null,null,null,null,null,null,{"$f":"Data!A20","v":"ZCE"}]
[{"$f":"Data!$F22","v":""},{"$f":"Data!G22","v":""},"",null,null,null,null,null,null,null,null,null,null,null,null,null,null,null,null,null,null,null,{"$f":"Data!A21","v":"ZSE"}]
[{"$f":"RTD(\"cqg.rtd\", ,\"SystemInfo\", \"Linetime\")","v":45397.375231481485},null,null,null,null,null,null,null,null,null,null,null,null,null,null,null,null,null,null,null,null,null,{"$f":"Data!A22","v":"ZWA"}]
[null,null,null,null,null,null,null,null,null,null,null,null,null,null,null,null,null,null,null,null,null,null,null,"Adjusted"]
[null,null,null,null,null,null,null,null,null,null,null,null,null,null,null,null,null,null,null,null,null,null,null,"Minimum","Maximum"]
[null,null,null,null,null,null,null,null,null,null,null,null,null,null,null,null,null,null,null,null,null,null,null,{"$f":"ROUNDDOWN(MIN(Data!I5:AC6)-0.05,2)","v":-0.12},{"$f":"ROUNDUP(MAX(Data!I5:AC6)+0.05,2)","v":0.18000000000000002}]

{"sheet":"Data","index":1,"n_rows":22,"n_cols":29,"rows_kept":22,"cut":false,"hidden":false,"merged":[[0,5,0,6]]}
[null,null,null,null,null,"Ranked"]
[{"$f":"I4","v":"BTC"},{"$f":"IFERROR((RTD(\"cqg.rtd\",,\"StudyData\",$A2,\"BAR\",\"\",\"Close\",$H$4,0,$H$6,$H$10,,$H$8,$H$12)-RTD(\"cqg.rtd\",,\"StudyData\",$A2,\"BAR\",\"\",\"Close\",$H$4,-1,$H$6,$H$10,,$H$8,$H$12))/RTD(\"cqg.rtd\",,\"StudyData\",$A2,\"BAR\",\"\",\"Close\",$H$4,-1,$H$6,$H$10,,$H$8,$H$12),\"\")","v":-1.5259788596099449E-2},{"$f":"IFERROR(RANK($B2,$B$2:B$22)+COUNTIF($B$2:B2,B2)-1,\"\")","v":18},{"$f":"A2","v":"BTC"},1,{"$f":"IFERROR(VLOOKUP(E2,$C$2:$D$22,2,FALSE),\"\")","v":"CPE"},{"$f":"IFERROR(VLOOKUP(F2,$A$2:$B$22,2,FALSE),\"\")","v":1.5615827169191136E-2},null,{"$f":"I4&\" (This week)\"","v":"BTC (This week)"},{"$f":"J4&\" (This week)\"","v":"CCE (This week)"},"CLE (This week)","CPE (This week)","DXE (This week)","EU6 (This week)","GCE (This week)","GLE (This week)","HE (This week)","HOE (This week)","NGE (This week)","PAE (This week)","PLE (This week)","QO (This week)","RBE (This week)","SBE (This week)","SIE (This week)","TYA (This week)","ZCE (This week)","ZSE (This week)","ZWA (This week)"]
[{"$f":"J4","v":"CCE"},{"$f":"IFERROR((RTD(\"cqg.rtd\",,\"StudyData\",$A3,\"BAR\",\"\",\"Close\",$H$4,0,$H$6,$H$10,,$H$8,$H$12)-RTD(\"cqg.rtd\",,\"StudyData\",$A3,\"BAR\",\"\",\"Close\",$H$4,-1,$H$6,$H$10,,$H$8,$H$12))/RTD(\"cqg.rtd\",,\"StudyData\",$A3,\"BAR\",\"\",\"Close\",$H$4,-1,$H$6,$H$10,,$H$8,$H$12),\"\")","v":7.5543824519887139E-3},{"$f":"IFERROR(RANK($B3,$B$2:B$22)+COUNTIF($B$2:B3,B3)-1,\"\")","v":4},{"$f":"A3","v":"CCE"},{"$f":"E2+1","v":2},{"$f":"IFERROR(VLOOKUP(E3,$C$2:$D$22,2,FALSE),\"\")","v":"GLE"},{"$f":"IFERROR(VLOOKUP(F3,$A$2:$B$22,2,FALSE),\"\")","v":1.299608719955276E-2},"Chart Time Frame",{"$f":"I4&\" (Last week)\"","v":"BTC (Last week)"},{"$f":"J4&\" (Last week)\"","v":"CCE (Last week)"},"CLE (Last week)","CPE (Last week)","DXE (Last week)","EU6 (Last week)","GCE (Last week)","GLE (Last week)","HE (Last week)","HOE (Last week)","NGE (Last week)","PAE (Last week)","PLE (Last week)","QO (Last week)","RBE (Last week)","SBE (Last week)","SIE (Last week)","TYA (Last week)","ZCE (Last week)","ZSE (Last week)","ZWA (Last week)"]
[{"$f":"K4","v":"CLE"},{"$f":"IFERROR((RTD(\"cqg.rtd\",,\"StudyData\",$A4,\"BAR\",\"\",\"Close\",$H$4,0,$H$6,$H$10,,$H$8,$H$12)-RTD(\"cqg.rtd\",,\"StudyData\",$A4,\"BAR\",\"\",\"Close\",$H$4,-1,$H$6,$H$10,,$H$8,$H$12))/RTD(\"cqg.rtd\",,\"StudyData\",$A4,\"BAR\",\"\",\"Close\",$H$4,-1,$H$6,$H$10,,$H$8,$H$12),\"\")","v":-1.0506654214335647E-2},{"$f":"IFERROR(RANK($B4,$B$2:B$22)+COUNTIF($B$2:B4,B4)-1,\"\")","v":13},"CLE",{"$f":"E3+1","v":3},"SIE",1.1471937875044224E-2,"W","BTC","CCE","CLE","CPE","DXE","EU6","GCE","GLE","HE","HOE","NGE","PAE","PLE","QO","RBE","SBE","SIE","TYA","ZCE","ZSE","ZWA"]
[{"$f":"L4","v":"CPE"},{"$f":"IFERROR((RTD(\"cqg.rtd\",,\"StudyData\",$A5,\"BAR\",\"\",\"Close\",$H$4,0,$H$6,$H$10,,$H$8,$H$12)-RTD(\"cqg.rtd\",,\"StudyData\",$A5,\"BAR\",\"\",\"Close\",$H$4,-1,$H$6,$H$10,,$H$8,$H$12))/RTD(\"cqg.rtd\",,\"StudyData\",$A5,\"BAR\",\"\",\"Close\",$H$4,-1,$H$6,$H$10,,$H$8,$H$12),\"\")","v":1.5615827169191136E-2},{"$f":"IFERROR(RANK($B5,$B$2:B$22)+COUNTIF($B$2:B5,B5)-1,\"\")","v":1},"CPE",4,"CCE",7.5543824519887139E-3,"Type All or PrimaryOnly",{"$f":"IFERROR((RTD(\"cqg.rtd\",,\"StudyData\",I$4,\"BAR\",\"\",\"Close\",$H$4,0,$H$6,$H$10,,$H$8,$H$12)-RTD(\"cqg.rtd\",,\"StudyData\",I$4,\"BAR\",\"\",\"Close\",$H$4,-1,$H$6,$H$10,,$H$8,$H$12))/RTD(\"cqg.rtd\",,\"StudyData\",I$4,\"BAR\",\"\",\"Close\",$H$4,-1,$H$6,$H$10,,$H$8,$H$12),\"\")","v":-1.5259788596099449E-2},{"$f":"IFERROR((RTD(\"cqg.rtd\",,\"StudyData\",J$4,\"BAR\",\"\",\"Close\",$H$4,0,$H$6,$H$10,,$H$8,$H$12)-RTD(\"cqg.rtd\",,\"StudyData\",J$4,\"BAR\",\"\",\"Close\",$H$4,-1,$H$6,$H$10,,$H$8,$H$12))/RTD(\"cqg.rtd\",,\"StudyData\",J$4,\"BAR\",\"\",\"Close\",$H$4,-1,$H$6,$H$10,,$H$8,$H$12),\"\")","v":7.5543824519887139E-3},{"$f":"IFERROR((RTD(\"cqg.rtd\",,\"StudyData\",K$4,\"BAR\",\"\",\"Close\",$H$4,0,$H$6,$H$10,,$H$8,$H$12)-RTD(\"cqg.rtd\",,\"StudyData\",K$4,\"BAR\",\"\",\"Close\",$H$4,-1,$H$6,$H$10,,$H$8,$H$12))/RTD(\"cqg.rtd\",,\"StudyData\",K$4,\"BAR\",\"\",\"Close\",$H$4,-1,$H$6,$H$10,,$H$8,$H$12),\"\")","v":-1.0506654214335647E-2},{"$f":"IFERROR((RTD(\"cqg.rtd\",,\"StudyData\",L$4,\"BAR\",\"\",\"Close\",$H$4,0,$H$6,$H$10,,$H$8,$H$12)-RTD(\"cqg.rtd\",,\"StudyData\",L$4,\"BAR\",\"\",\"Close\",$H$4,-1,$H$6,$H$10,,$H$8,$H$12))/RTD(\"cqg.rtd\",,\"StudyData\",L$4,\"BAR\",\"\",\"Close\",$H$4,-1,$H$6,$H$10,,$H$8,$H$12),\"\")","v":1.5615827169191136E-2},{"$f":"IFERROR((RTD(\"cqg.rtd\",,\"StudyData\",M$4,\"BAR\",\"\",\"Close\",$H$4,0,$H$6,$H$10,,$H$8,$H$12)-RTD(\"cqg.rtd\",,\"StudyData\",M$4,\"BAR\",\"\",\"Close\",$H$4,-1,$H$6,$H$10,,$H$8,$H$12))/RTD(\"cqg.rtd\",,\"StudyData\",M$4,\"BAR\",\"\",\"Close\",$H$4,-1,$H$6,$H$10,,$H$8,$H$12),\"\")","v":5.480384004838512E-4},{"$f":"IFERROR((RTD(\"cqg.rtd\",,\"StudyData\",N$4,\"BAR\",\"\",\"Close\",$H$4,0,$H$6,$H$10,,$H$8,$H$12)-RTD(\"cqg.rtd\",,\"StudyData\",N$4,\"BAR\",\"\",\"Close\",$H$4,-1,$H$6,$H$10,,$H$8,$H$12))/RTD(\"cqg.rtd\",,\"StudyData\",N$4,\"BAR\",\"\",\"Close\",$H$4,-1,$H$6,$H$10,,$H$8,$H$12),\"\")","v":-3.2809936723700252E-4},{"$f":"IFERROR((RTD(\"cqg.rtd\",,\"StudyData\",O$4,\"BAR\",\"\",\"Close\",$H$4,0,$H$6,$H$10,,$H$8,$H$12)-RTD(\"cqg.rtd\",,\"StudyData\",O$4,\"BAR\",\"\",\"Close\",$H$4,-1,$H$6,$H$10,,$H$8,$H$12))/RTD(\"cqg.rtd\",,\"StudyData\",O$4,\"BAR\",\"\",\"Close\",$H$4,-1,$H$6,$H$10,,$H$8,$H$12),\"\")","v":-2.8860028860027706E-3},{"$f":"IFERROR((RTD(\"cqg.rtd\",,\"StudyData\",P$4,\"BAR\",\"\",\"Close\",$H$4,0,$H$6,$H$10,,$H$8,$H$12)-RTD(\"cqg.rtd\",,\"StudyData\",P$4,\"BAR\",\"\",\"Close\",$H$4,-1,$H$6,$H$10,,$H$8,$H$12))/RTD(\"cqg.rtd\",,\"StudyData\",P$4,\"BAR\",\"\",\"Close\",$H$4,-1,$H$6,$H$10,,$H$8,$H$12),\"\")","v":1.299608719955276E-2},{"$f":"IFERROR((RTD(\"cqg.rtd\",,\"StudyData\",Q$4,\"BAR\",\"\",\"Close\",$H$4,0,$H$6,$H$10,,$H$8,$H$12)-RTD(\"cqg.rtd\",,\"StudyData\",Q$4,\"BAR\",\"\",\"Close\",$H$4,-1,$H$6,$H$10,,$H$8,$H$12))/RTD(\"cqg.rtd\",,\"StudyData\",Q$4,\"BAR\",\"\",\"Close\",$H$4,-1,$H$6,$H$10,,$H$8,$H$12),\"\")","v":-1.8641810918774665E-3},{"$f":"IFERROR((RTD(\"cqg.rtd\",,\"StudyData\",R$4,\"BAR\",\"\",\"Close\",$H$4,0,$H$6,$H$10,,$H$8,$H$12)-RTD(\"cqg.rtd\",,\"StudyData\",R$4,\"BAR\",\"\",\"Close\",$H$4,-1,$H$6,$H$10,,$H$8,$H$12))/RTD(\"cqg.rtd\",,\"StudyData\",R$4,\"BAR\",\"\",\"Close\",$H$4,-1,$H$6,$H$10,,$H$8,$H$12),\"\")","v":-1.7206063088897917E-2},{"$f":"IFERROR((RTD(\"cqg.rtd\",,\"StudyData\",S$4,\"BAR\",\"\",\"Close\",$H$4,0,$H$6,$H$10,,$H$8,$H$12)-RTD(\"cqg.rtd\",,\"StudyData\",S$4,\"BAR\",\"\",\"Close\",$H$4,-1,$H$6,$H$10,,$H$8,$H$12))/RTD(\"cqg.rtd\",,\"StudyData\",S$4,\"BAR\",\"\",\"Close\",$H$4,-1,$H$6,$H$10,,$H$8,$H$12),\"\")","v":-2.5988700564971774E-2},{"$f":"IFERROR((RTD(\"cqg.rtd\",,\"StudyData\",T$4,\"BAR\",\"\",\"Close\",$H$4,0,$H$6,$H$10,,$H$8,$H$12)-RTD(\"cqg.rtd\",,\"StudyData\",T$4,\"BAR\",\"\",\"Close\",$H$4,-1,$H$6,$H$10,,$H$8,$H$12))/RTD(\"cqg.rtd\",,\"StudyData\",T$4,\"BAR\",\"\",\"Close\",$H$4,-1,$H$6,$H$10,,$H$8,$H$12),\"\")","v":-1.368570080226522E-2},{"$f":"IFERROR((RTD(\"cqg.rtd\",,\"StudyData\",U$4,\"BAR\",\"\",\"Close\",$H$4,0,$H$6,$H$10,,$H$8,$H$12)-RTD(\"cqg.rtd\",,\"StudyData\",U$4,\"BAR\",\"\",\"Close\",$H$4,-1,$H$6,$H$10,,$H$8,$H$12))/RTD(\"cqg.rtd\",,\"StudyData\",U$4,\"BAR\",\"\",\"Close\",$H$4,-1,$H$6,$H$10,,$H$8,$H$12),\"\")","v":""},{"$f":"IFERROR((RTD(\"cqg.rtd\",,\"StudyData\",V$4,\"BAR\",\"\",\"Close\",$H$4,0,$H$6,$H$10,,$H$8,$H$12)-RTD(\"cqg.rtd\",,\"StudyData\",V$4,\"BAR\",\"\",\"Close\",$H$4,-1,$H$6,$H$10,,$H$8,$H$12))/RTD(\"cqg.rtd\",,\"StudyData\",V$4,\"BAR\",\"\",\"Close\",$H$4,-1,$H$6,$H$10,,$H$8,$H$12),\"\")","v":-1.1166390270867939E-2},{"$f":"IFERROR((RTD(\"cqg.rtd\",,\"StudyData\",W$4,\"BAR\",\"\",\"Close\",$H$4,0,$H$6,$H$10,,$H$8,$H$12)-RTD(\"cqg.rtd\",,\"StudyData\",W$4,\"BAR\",\"\",\"Close\",$H$4,-1,$H$6,$H$10,,$H$8,$H$12))/RTD(\"cqg.rtd\",,\"StudyData\",W$4,\"BAR\",\"\",\"Close\",$H$4,-1,$H$6,$H$10,,$H$8,$H$12),\"\")","v":-1.2380034963787489E-2},{"$f":"IFERROR((RTD(\"cqg.rtd\",,\"StudyData\",X$4,\"BAR\",\"\",\"Close\",$H$4,0,$H$6,$H$10,,$H$8,$H$12)-RTD(\"cqg.rtd\",,\"StudyData\",X$4,\"BAR\",\"\",\"Close\",$H$4,-1,$H$6,$H$10,,$H$8,$H$12))/RTD(\"cqg.rtd\",,\"StudyData\",X$4,\"BAR\",\"\",\"Close\",$H$4,-1,$H$6,$H$10,,$H$8,$H$12),\"\")","v":4.8899755501230144E-4},{"$f":"IFERROR((RTD(\"cqg.rtd\",,\"StudyData\",Y$4,\"BAR\",\"\",\"Close\",$H$4,0,$H$6,$H$10,,$H$8,$H$12)-RTD(\"cqg.rtd\",,\"StudyData\",Y$4,\"BAR\",\"\",\"Close\",$H$4,-1,$H$6,$H$10,,$H$8,$H$12))/RTD(\"cqg.rtd\",,\"StudyData\",Y$4,\"BAR\",\"\",\"Close\",$H$4,-1,$H$6,$H$10,,$H$8,$H$12),\"\")","v":1.1471937875044224E-2},{"$f":"IFERROR((RTD(\"cqg.rtd\",,\"StudyData\",Z$4,\"BAR\",\"\",\"Close\",$H$4,0,$H$6,$H$10,,$H$8,$H$12)-RTD(\"cqg.rtd\",,\"StudyData\",Z$4,\"BAR\",\"\",\"Close\",$H$4,-1,$H$6,$H$10,,$H$8,$H$12))/RTD(\"cqg.rtd\",,\"StudyData\",Z$4,\"BAR\",\"\",\"Close\",$H$4,-1,$H$6,$H$10,,$H$8,$H$12),\"\")","v":-7.7630822311673372E-3},{"$f":"IFERROR((RTD(\"cqg.rtd\",,\"StudyData\",AA$4,\"BAR\",\"\",\"Close\",$H$4,0,$H$6,$H$10,,$H$8,$H$12)-RTD(\"cqg.rtd\",,\"StudyData\",AA$4,\"BAR\",\"\",\"Close\",$H$4,-1,$H$6,$H$10,,$H$8,$H$12))/RTD(\"cqg.rtd\",,\"StudyData\",AA$4,\"BAR\",\"\",\"Close\",$H$4,-1,$H$6,$H$10,,$H$8,$H$12),\"\")","v":-1.0332950631458095E-2},{"$f":"IFERROR((RTD(\"cqg.rtd\",,\"StudyData\",AB$4,\"BAR\",\"\",\"Close\",$H$4,0,$H$6,$H$10,,$H$8,$H$12)-RTD(\"cqg.rtd\",,\"StudyData\",AB$4,\"BAR\",\"\",\"Close\",$H$4,-1,$H$6,$H$10,,$H$8,$H$12))/RTD(\"cqg.rtd\",,\"StudyData\",AB$4,\"BAR\",\"\",\"Close\",$H$4,-1,$H$6,$H$10,,$H$8,$H$12),\"\")","v":-1.2776831345826235E-2},{"$f":"IFERROR((RTD(\"cqg.rtd\",,\"StudyData\",AC$4,\"BAR\",\"\",\"Close\",$H$4,0,$H$6,$H$10,,$H$8,$H$12)-RTD(\"cqg.rtd\",,\"StudyData\",AC$4,\"BAR\",\"\",\"Close\",$H$4,-1,$H$6,$H$10,,$H$8,$H$12))/RTD(\"cqg.rtd\",,\"StudyData\",AC$4,\"BAR\",\"\",\"Close\",$H$4,-1,$H$6,$H$10,,$H$8,$H$12),\"\")","v":-6.2949640287769783E-3}]
[{"$f":"M4","v":"DXE"},{"$f":"IFERROR((RTD(\"cqg.rtd\",,\"StudyData\",$A6,\"BAR\",\"\",\"Close\",$H$4,0,$H$6,$H$10,,$H$8,$H$12)-RTD(\"cqg.rtd\",,\"StudyData\",$A6,\"BAR\",\"\",\"Close\",$H$4,-1,$H$6,$H$10,,$H$8,$H$12))/RTD(\"cqg.rtd\",,\"StudyData\",$A6,\"BAR\",\"\",\"Close\",$H$4,-1,$H$6,$H$10,,$H$8,$H$12),\"\")","v":5.480384004838512E-4},{"$f":"IFERROR(RANK($B6,$B$2:B$22)+COUNTIF($B$2:B6,B6)-1,\"\")","v":5},"DXE",5,"DXE",5.480384004838512E-4,"All",{"$f":"IFERROR((RTD(\"cqg.rtd\",,\"StudyData\",I$4,\"BAR\",\"\",\"Close\",$H$4,-1,$H$6,$H$10,,$H$8,$H$12)-RTD(\"cqg.rtd\",,\"StudyData\",I$4,\"BAR\",\"\",\"Close\",$H$4,-2,$H$6,$H$10,,$H$8,$H$12))/RTD(\"cqg.rtd\",,\"StudyData\",I$4,\"BAR\",\"\",\"Close\",$H$4,-2,$H$6,$H$10,,$H$8,$H$12),\"\")","v":-8.6340491476643785E-3},{"$f":"IFERROR((RTD(\"cqg.rtd\",,\"StudyData\",J$4,\"BAR\",\"\",\"Close\",$H$4,-1,$H$6,$H$10,,$H$8,$H$12)-RTD(\"cqg.rtd\",,\"StudyData\",J$4,\"BAR\",\"\",\"Close\",$H$4,-2,$H$6,$H$10,,$H$8,$H$12))/RTD(\"cqg.rtd\",,\"StudyData\",J$4,\"BAR\",\"\",\"Close\",$H$4,-2,$H$6,$H$10,,$H$8,$H$12),\"\")","v":0.12169474221541603},{"$f":"IFERROR((RTD(\"cqg.rtd\",,\"StudyData\",K$4,\"BAR\",\"\",\"Close\",$H$4,-1,$H$6,$H$10,,$H$8,$H$12)-RTD(\"cqg.rtd\",,\"StudyData\",K$4,\"BAR\",\"\",\"Close\",$H$4,-2,$H$6,$H$10,,$H$8,$H$12))/RTD(\"cqg.rtd\",,\"StudyData\",K$4,\"BAR\",\"\",\"Close\",$H$4,-2,$H$6,$H$10,,$H$8,$H$12),\"\")","v":-1.4382694741686804E-2},{"$f":"IFERROR((RTD(\"cqg.rtd\",,\"StudyData\",L$4,\"BAR\",\"\",\"Close\",$H$4,-1,$H$6,$H$10,,$H$8,$H$12)-RTD(\"cqg.rtd\",,\"StudyData\",L$4,\"BAR\",\"\",\"Close\",$H$4,-2,$H$6,$H$10,,$H$8,$H$12))/RTD(\"cqg.rtd\",,\"StudyData\",L$4,\"BAR\",\"\",\"Close\",$H$4,-2,$H$6,$H$10,,$H$8,$H$12),\"\")","v":5.3116147308781793E-3},{"$f":"IFERROR((RTD(\"cqg.rtd\",,\"StudyData\",M$4,\"BAR\",\"\",\"Close\",$H$4,-1,$H$6,$H$10,,$H$8,$H$12)-RTD(\"cqg.rtd\",,\"StudyData\",M$4,\"BAR\",\"\",\"Close\",$H$4,-2,$H$6,$H$10,,$H$8,$H$12))/RTD(\"cqg.rtd\",,\"StudyData\",M$4,\"BAR\",\"\",\"Close\",$H$4,-2,$H$6,$H$10,,$H$8,$H$12),\"\")","v":1.6921140375320654E-2},{"$f":"IFERROR((RTD(\"cqg.rtd\",,\"StudyData\",N$4,\"BAR\",\"\",\"Close\",$H$4,-1,$H$6,$H$10,,$H$8,$H$12)-RTD(\"cqg.rtd\",,\"StudyData\",N$4,\"BAR\",\"\",\"Close\",$H$4,-2,$H$6,$H$10,,$H$8,$H$12))/RTD(\"cqg.rtd\",,\"StudyData\",N$4,\"BAR\",\"\",\"Close\",$H$4,-2,$H$6,$H$10,,$H$8,$H$12),\"\")","v":-1.826799190134357E-2},{"$f":"IFERROR((RTD(\"cqg.rtd\",,\"StudyData\",O$4,\"BAR\",\"\",\"Close\",$H$4,-1,$H$6,$H$10,,$H$8,$H$12)-RTD(\"cqg.rtd\",,\"StudyData\",O$4,\"BAR\",\"\",\"Close\",$H$4,-2,$H$6,$H$10,,$H$8,$H$12))/RTD(\"cqg.rtd\",,\"StudyData\",O$4,\"BAR\",\"\",\"Close\",$H$4,-2,$H$6,$H$10,,$H$8,$H$12),\"\")","v":1.3114331169110377E-2},{"$f":"IFERROR((RTD(\"cqg.rtd\",,\"StudyData\",P$4,\"BAR\",\"\",\"Close\",$H$4,-1,$H$6,$H$10,,$H$8,$H$12)-RTD(\"cqg.rtd\",,\"StudyData\",P$4,\"BAR\",\"\",\"Close\",$H$4,-2,$H$6,$H$10,,$H$8,$H$12))/RTD(\"cqg.rtd\",,\"StudyData\",P$4,\"BAR\",\"\",\"Close\",$H$4,-2,$H$6,$H$10,,$H$8,$H$12),\"\")","v":3.6465638148667919E-3},{"$f":"IFERROR((RTD(\"cqg.rtd\",,\"StudyData\",Q$4,\"BAR\",\"\",\"Close\",$H$4,-1,$H$6,$H$10,,$H$8,$H$12)-RTD(\"cqg.rtd\",,\"StudyData\",Q$4,\"BAR\",\"\",\"Close\",$H$4,-2,$H$6,$H$10,,$H$8,$H$12))/RTD(\"cqg.rtd\",,\"StudyData\",Q$4,\"BAR\",\"\",\"Close\",$H$4,-2,$H$6,$H$10,,$H$8,$H$12),\"\")","v":1.6788518819388001E-2},{"$f":"IFERROR((RTD(\"cqg.rtd\",,\"StudyData\",R$4,\"BAR\",\"\",\"Close\",$H$4,-1,$H$6,$H$10,,$H$8,$H$12)-RTD(\"cqg.rtd\",,\"StudyData\",R$4,\"BAR\",\"\",\"Close\",$H$4,-2,$H$6,$H$10,,$H$8,$H$12))/RTD(\"cqg.rtd\",,\"StudyData\",R$4,\"BAR\",\"\",\"Close\",$H$4,-2,$H$6,$H$10,,$H$8,$H$12),\"\")","v":-3.1698521456905986E-2},{"$f":"IFERROR((RTD(\"cqg.rtd\",,\"StudyData\",S$4,\"BAR\",\"\",\"Close\",$H$4,-1,$H$6,$H$10,,$H$8,$H$12)-RTD(\"cqg.rtd\",,\"StudyData\",S$4,\"BAR\",\"\",\"Close\",$H$4,-2,$H$6,$H$10,,$H$8,$H$12))/RTD(\"cqg.rtd\",,\"StudyData\",S$4,\"BAR\",\"\",\"Close\",$H$4,-2,$H$6,$H$10,,$H$8,$H$12),\"\")","v":-8.403361344537761E-3},{"$f":"IFERROR((RTD(\"cqg.rtd\",,\"StudyData\",T$4,\"BAR\",\"\",\"Close\",$H$4,-1,$H$6,$H$10,,$H$8,$H$12)-RTD(\"cqg.rtd\",,\"StudyData\",T$4,\"BAR\",\"\",\"Close\",$H$4,-2,$H$6,$H$10,,$H$8,$H$12))/RTD(\"cqg.rtd\",,\"StudyData\",T$4,\"BAR\",\"\",\"Close\",$H$4,-2,$H$6,$H$10,,$H$8,$H$12),\"\")","v":5.1717292038912073E-2},{"$f":"IFERROR((RTD(\"cqg.rtd\",,\"StudyData\",U$4,\"BAR\",\"\",\"Close\",$H$4,-1,$H$6,$H$10,,$H$8,$H$12)-RTD(\"cqg.rtd\",,\"StudyData\",U$4,\"BAR\",\"\",\"Close\",$H$4,-2,$H$6,$H$10,,$H$8,$H$12))/RTD(\"cqg.rtd\",,\"StudyData\",U$4,\"BAR\",\"\",\"Close\",$H$4,-2,$H$6,$H$10,,$H$8,$H$12),\"\")","v":6.6774367259019918E-2},{"$f":"IFERROR((RTD(\"cqg.rtd\",,\"StudyData\",V$4,\"BAR\",\"\",\"Close\",$H$4,-1,$H$6,$H$10,,$H$8,$H$12)-RTD(\"cqg.rtd\",,\"StudyData\",V$4,\"BAR\",\"\",\"Close\",$H$4,-2,$H$6,$H$10,,$H$8,$H$12))/RTD(\"cqg.rtd\",,\"StudyData\",V$4,\"BAR\",\"\",\"Close\",$H$4,-2,$H$6,$H$10,,$H$8,$H$12),\"\")","v":-7.8973346495557623E-3},{"$f":"IFERROR((RTD(\"cqg.rtd\",,\"StudyData\",W$4,\"BAR\",\"\",\"Close\",$H$4,-1,$H$6,$H$10,,$H$8,$H$12)-RTD(\"cqg.rtd\",,\"StudyData\",W$4,\"BAR\",\"\",\"Close\",$H$4,-2,$H$6,$H$10,,$H$8,$H$12))/RTD(\"cqg.rtd\",,\"StudyData\",W$4,\"BAR\",\"\",\"Close\",$H$4,-2,$H$6,$H$10,,$H$8,$H$12),\"\")","v":5.1280212292906758E-3},{"$f":"IFERROR((RTD(\"cqg.rtd\",,\"StudyData\",X$4,\"BAR\",\"\",\"Close\",$H$4,-1,$H$6,$H$10,,$H$8,$H$12)-RTD(\"cqg.rtd\",,\"StudyData\",X$4,\"BAR\",\"\",\"Close\",$H$4,-2,$H$6,$H$10,,$H$8,$H$12))/RTD(\"cqg.rtd\",,\"StudyData\",X$4,\"BAR\",\"\",\"Close\",$H$4,-2,$H$6,$H$10,,$H$8,$H$12),\"\")","v":-7.0031832651205064E-2},{"$f":"IFERROR((RTD(\"cqg.rtd\",,\"StudyData\",Y$4,\"BAR\",\"\",\"Close\",$H$4,-1,$H$6,$H$10,,$H$8,$H$12)-RTD(\"cqg.rtd\",,\"StudyData\",Y$4,\"BAR\",\"\",\"Close\",$H$4,-2,$H$6,$H$10,,$H$8,$H$12))/RTD(\"cqg.rtd\",,\"StudyData\",Y$4,\"BAR\",\"\",\"Close\",$H$4,-2,$H$6,$H$10,,$H$8,$H$12),\"\")","v":3.0069446969421453E-2},{"$f":"IFERROR((RTD(\"cqg.rtd\",,\"StudyData\",Z$4,\"BAR\",\"\",\"Close\",$H$4,-1,$H$6,$H$10,,$H$8,$H$12)-RTD(\"cqg.rtd\",,\"StudyData\",Z$4,\"BAR\",\"\",\"Close\",$H$4,-2,$H$6,$H$10,,$H$8,$H$12))/RTD(\"cqg.rtd\",,\"StudyData\",Z$4,\"BAR\",\"\",\"Close\",$H$4,-2,$H$6,$H$10,,$H$8,$H$12),\"\")","v":-8.8344257623254492E-3},{"$f":"IFERROR((RTD(\"cqg.rtd\",,\"StudyData\",AA$4,\"BAR\",\"\",\"Close\",$H$4,-1,$H$6,$H$10,,$H$8,$H$12)-RTD(\"cqg.rtd\",,\"StudyData\",AA$4,\"BAR\",\"\",\"Close\",$H$4,-2,$H$6,$H$10,,$H$8,$H$12))/RTD(\"cqg.rtd\",,\"StudyData\",AA$4,\"BAR\",\"\",\"Close\",$H$4,-2,$H$6,$H$10,,$H$8,$H$12),\"\")","v":2.8785261945883708E-3},{"$f":"IFERROR((RTD(\"cqg.rtd\",,\"StudyData\",AB$4,\"BAR\",\"\",\"Close\",$H$4,-1,$H$6,$H$10,,$H$8,$H$12)-RTD(\"cqg.rtd\",,\"StudyData\",AB$4,\"BAR\",\"\",\"Close\",$H$4,-2,$H$6,$H$10,,$H$8,$H$12))/RTD(\"cqg.rtd\",,\"StudyData\",AB$4,\"BAR\",\"\",\"Close\",$H$4,-2,$H$6,$H$10,,$H$8,$H$12),\"\")","v":-9.282700421940928E-3},{"$f":"IFERROR((RTD(\"cqg.rtd\",,\"StudyData\",AC$4,\"BAR\",\"\",\"Close\",$H$4,-1,$H$6,$H$10,,$H$8,$H$12)-RTD(\"cqg.rtd\",,\"StudyData\",AC$4,\"BAR\",\"\",\"Close\",$H$4,-2,$H$6,$H$10,,$H$8,$H$12))/RTD(\"cqg.rtd\",,\"StudyData\",AC$4,\"BAR\",\"\",\"Close\",$H$4,-2,$H$6,$H$10,,$H$8,$H$12),\"\")","v":-1.9832525341560159E-2}]
[{"$f":"N4","v":"EU6"},{"$f":"IFERROR((RTD(\"cqg.rtd\",,\"StudyData\",$A7,\"BAR\",\"\",\"Close\",$H$4,0,$H$6,$H$10,,$H$8,$H$12)-RTD(\"cqg.rtd\",,\"StudyData\",$A7,\"BAR\",\"\",\"Close\",$H$4,-1,$H$6,$H$10,,$H$8,$H$12))/RTD(\"cqg.rtd\",,\"StudyData\",$A7,\"BAR\",\"\",\"Close\",$H$4,-1,$H$6,$H$10,,$H$8,$H$12),\"\")","v":-3.2809936723700252E-4},{"$f":"IFERROR(RANK($B7,$B$2:B$22)+COUNTIF($B$2:B7,B7)-1,\"\")","v":7},"EU6",6,"SBE",4.8899755501230144E-4,"Continuation",20,{"$f":"I7-0.25","v":19.75},{"$f":"J7-0.25","v":19.5},19.25,19,18.75,18.5,18.25,18,17.75,17.5,17.25,17,16.75,16.5,16.25,16,15.75,15.5,15.25,15]
[{"$f":"O4","v":"GCE"},{"$f":"IFERROR((RTD(\"cqg.rtd\",,\"StudyData\",$A8,\"BAR\",\"\",\"Close\",$H$4,0,$H$6,$H$10,,$H$8,$H$12)-RTD(\"cqg.rtd\",,\"StudyData\",$A8,\"BAR\",\"\",\"Close\",$H$4,-1,$H$6,$H$10,,$H$8,$H$12))/RTD(\"cqg.rtd\",,\"StudyData\",$A8,\"BAR\",\"\",\"Close\",$H$4,-1,$H$6,$H$10,,$H$8,$H$12),\"\")","v":-2.8860028860027706E-3},{"$f":"IFERROR(RANK($B8,$B$2:B$22)+COUNTIF($B$2:B8,B8)-1,\"\")","v":9},"GCE",7,"EU6",-3.2809936723700252E-4,true,20,{"$f":"I8-0.25","v":19.75},19.5,19.25,19,18.75,18.5,18.25,18,17.75,17.5,17.25,17,16.75,16.5,16.25,16,15.75,15.5,15.25,15]
[{"$f":"P4","v":"GLE"},{"$f":"IFERROR((RTD(\"cqg.rtd\",,\"StudyData\",$A9,\"BAR\",\"\",\"Close\",$H$4,0,$H$6,$H$10,,$H$8,$H$12)-RTD(\"cqg.rtd\",,\"StudyData\",$A9,\"BAR\",\"\",\"Close\",$H$4,-1,$H$6,$H$10,,$H$8,$H$12))/RTD(\"cqg.rtd\",,\"StudyData\",$A9,\"BAR\",\"\",\"Close\",$H$4,-1,$H$6,$H$10,,$H$8,$H$12),\"\")","v":1.299608719955276E-2},{"$f":"IFERROR(RANK($B9,$B$2:B$22)+COUNTIF($B$2:B9,B9)-1,\"\")","v":2},"GLE",8,"HE",-1.8641810918774665E-3,"CustomSessionName eg 700to800"]
[{"$f":"Q4","v":"HE"},{"$f":"IFERROR((RTD(\"cqg.rtd\",,\"StudyData\",$A10,\"BAR\",\"\",\"Close\",$H$4,0,$H$6,$H$10,,$H$8,$H$12)-RTD(\"cqg.rtd\",,\"StudyData\",$A10,\"BAR\",\"\",\"Close\",$H$4,-1,$H$6,$H$10,,$H$8,$H$12))/RTD(\"cqg.rtd\",,\"StudyData\",$A10,\"BAR\",\"\",\"Close\",$H$4,-1,$H$6,$H$10,,$H$8,$H$12),\"\")","v":-1.8641810918774665E-3},{"$f":"IFERROR(RANK($B10,$B$2:B$22)+COUNTIF($B$2:B10,B10)-1,\"\")","v":8},"HE",9,"GCE",-2.8860028860027706E-3]
[{"$f":"R4","v":"HOE"},{"$f":"IFERROR((RTD(\"cqg.rtd\",,\"StudyData\",$A11,\"BAR\",\"\",\"Close\",$H$4,0,$H$6,$H$10,,$H$8,$H$12)-RTD(\"cqg.rtd\",,\"StudyData\",$A11,\"BAR\",\"\",\"Close\",$H$4,-1,$H$6,$H$10,,$H$8,$H$12))/RTD(\"cqg.rtd\",,\"StudyData\",$A11,\"BAR\",\"\",\"Close\",$H$4,-1,$H$6,$H$10,,$H$8,$H$12),\"\")","v":-1.7206063088897917E-2},{"$f":"IFERROR(RANK($B11,$B$2:B$22)+COUNTIF($B$2:B11,B11)-1,\"\")","v":19},"HOE",10,"ZWA",-6.2949640287769783E-3,"Decimal=T, Tick=D"]
[{"$f":"S4","v":"NGE"},{"$f":"IFERROR((RTD(\"cqg.rtd\",,\"StudyData\",$A12,\"BAR\",\"\",\"Close\",$H$4,0,$H$6,$H$10,,$H$8,$H$12)-RTD(\"cqg.rtd\",,\"StudyData\",$A12,\"BAR\",\"\",\"Close\",$H$4,-1,$H$6,$H$10,,$H$8,$H$12))/RTD(\"cqg.rtd\",,\"StudyData\",$A12,\"BAR\",\"\",\"Close\",$H$4,-1,$H$6,$H$10,,$H$8,$H$12),\"\")","v":-2.5988700564971774E-2},{"$f":"IFERROR(RANK($B12,$B$2:B$22)+COUNTIF($B$2:B12,B12)-1,\"\")","v":20},"NGE",11,"TYA",-7.7630822311673372E-3,"T"]
[{"$f":"T4","v":"PAE"},{"$f":"IFERROR((RTD(\"cqg.rtd\",,\"StudyData\",$A13,\"BAR\",\"\",\"Close\",$H$4,0,$H$6,$H$10,,$H$8,$H$12)-RTD(\"cqg.rtd\",,\"StudyData\",$A13,\"BAR\",\"\",\"Close\",$H$4,-1,$H$6,$H$10,,$H$8,$H$12))/RTD(\"cqg.rtd\",,\"StudyData\",$A13,\"BAR\",\"\",\"Close\",$H$4,-1,$H$6,$H$10,,$H$8,$H$12),\"\")","v":-1.368570080226522E-2},{"$f":"IFERROR(RANK($B13,$B$2:B$22)+COUNTIF($B$2:B13,B13)-1,\"\")","v":17},"PAE",12,"ZCE",-1.0332950631458095E-2]
[{"$f":"U4","v":"PLE"},{"$f":"IFERROR((RTD(\"cqg.rtd\",,\"StudyData\",$A14,\"BAR\",\"\",\"Close\",$H$4,0,$H$6,$H$10,,$H$8,$H$12)-RTD(\"cqg.rtd\",,\"StudyData\",$A14,\"BAR\",\"\",\"Close\",$H$4,-1,$H$6,$H$10,,$H$8,$H$12))/RTD(\"cqg.rtd\",,\"StudyData\",$A14,\"BAR\",\"\",\"Close\",$H$4,-1,$H$6,$H$10,,$H$8,$H$12),\"\")","v":""},{"$f":"IFERROR(RANK($B14,$B$2:B$22)+COUNTIF($B$2:B14,B14)-1,\"\")","v":""},"PLE",13,"CLE",-1.0506654214335647E-2]
[{"$f":"V4","v":"QO"},{"$f":"IFERROR((RTD(\"cqg.rtd\",,\"StudyData\",$A15,\"BAR\",\"\",\"Close\",$H$4,0,$H$6,$H$10,,$H$8,$H$12)-RTD(\"cqg.rtd\",,\"StudyData\",$A15,\"BAR\",\"\",\"Close\",$H$4,-1,$H$6,$H$10,,$H$8,$H$12))/RTD(\"cqg.rtd\",,\"StudyData\",$A15,\"BAR\",\"\",\"Close\",$H$4,-1,$H$6,$H$10,,$H$8,$H$12),\"\")","v":-1.1166390270867939E-2},{"$f":"IFERROR(RANK($B15,$B$2:B$22)+COUNTIF($B$2:B15,B15)-1,\"\")","v":14},"QO",14,"QO",-1.1166390270867939E-2]
[{"$f":"W4","v":"RBE"},{"$f":"IFERROR((RTD(\"cqg.rtd\",,\"StudyData\",$A16,\"BAR\",\"\",\"Close\",$H$4,0,$H$6,$H$10,,$H$8,$H$12)-RTD(\"cqg.rtd\",,\"StudyData\",$A16,\"BAR\",\"\",\"Close\",$H$4,-1,$H$6,$H$10,,$H$8,$H$12))/RTD(\"cqg.rtd\",,\"StudyData\",$A16,\"BAR\",\"\",\"Close\",$H$4,-1,$H$6,$H$10,,$H$8,$H$12),\"\")","v":-1.2380034963787489E-2},{"$f":"IFERROR(RANK($B16,$B$2:B$22)+COUNTIF($B$2:B16,B16)-1,\"\")","v":15},"RBE",15,"RBE",-1.2380034963787489E-2]
[{"$f":"X4","v":"SBE"},{"$f":"IFERROR((RTD(\"cqg.rtd\",,\"StudyData\",$A17,\"BAR\",\"\",\"Close\",$H$4,0,$H$6,$H$10,,$H$8,$H$12)-RTD(\"cqg.rtd\",,\"StudyData\",$A17,\"BAR\",\"\",\"Close\",$H$4,-1,$H$6,$H$10,,$H$8,$H$12))/RTD(\"cqg.rtd\",,\"StudyData\",$A17,\"BAR\",\"\",\"Close\",$H$4,-1,$H$6,$H$10,,$H$8,$H$12),\"\")","v":4.8899755501230144E-4},{"$f":"IFERROR(RANK($B17,$B$2:B$22)+COUNTIF($B$2:B17,B17)-1,\"\")","v":6},"SBE",16,"ZSE",-1.2776831345826235E-2]
[{"$f":"Y4","v":"SIE"},{"$f":"IFERROR((RTD(\"cqg.rtd\",,\"StudyData\",$A18,\"BAR\",\"\",\"Close\",$H$4,0,$H$6,$H$10,,$H$8,$H$12)-RTD(\"cqg.rtd\",,\"StudyData\",$A18,\"BAR\",\"\",\"Close\",$H$4,-1,$H$6,$H$10,,$H$8,$H$12))/RTD(\"cqg.rtd\",,\"StudyData\",$A18,\"BAR\",\"\",\"Close\",$H$4,-1,$H$6,$H$10,,$H$8,$H$12),\"\")","v":1.1471937875044224E-2},{"$f":"IFERROR(RANK($B18,$B$2:B$22)+COUNTIF($B$2:B18,B18)-1,\"\")","v":3},"SIE",17,"PAE",-1.368570080226522E-2]
[{"$f":"Z4","v":"TYA"},{"$f":"IFERROR((RTD(\"cqg.rtd\",,\"StudyData\",$A19,\"BAR\",\"\",\"Close\",$H$4,0,$H$6,$H$10,,$H$8,$H$12)-RTD(\"cqg.rtd\",,\"StudyData\",$A19,\"BAR\",\"\",\"Close\",$H$4,-1,$H$6,$H$10,,$H$8,$H$12))/RTD(\"cqg.rtd\",,\"StudyData\",$A19,\"BAR\",\"\",\"Close\",$H$4,-1,$H$6,$H$10,,$H$8,$H$12),\"\")","v":-7.7630822311673372E-3},{"$f":"IFERROR(RANK($B19,$B$2:B$22)+COUNTIF($B$2:B19,B19)-1,\"\")","v":11},"TYA",18,"BTC",-1.5259788596099449E-2]
[{"$f":"AA4","v":"ZCE"},{"$f":"IFERROR((RTD(\"cqg.rtd\",,\"StudyData\",$A20,\"BAR\",\"\",\"Close\",$H$4,0,$H$6,$H$10,,$H$8,$H$12)-RTD(\"cqg.rtd\",,\"StudyData\",$A20,\"BAR\",\"\",\"Close\",$H$4,-1,$H$6,$H$10,,$H$8,$H$12))/RTD(\"cqg.rtd\",,\"StudyData\",$A20,\"BAR\",\"\",\"Close\",$H$4,-1,$H$6,$H$10,,$H$8,$H$12),\"\")","v":-1.0332950631458095E-2},{"$f":"IFERROR(RANK($B20,$B$2:B$22)+COUNTIF($B$2:B20,B20)-1,\"\")","v":12},"ZCE",19,"HOE",-1.7206063088897917E-2]
[{"$f":"AB4","v":"ZSE"},{"$f":"IFERROR((RTD(\"cqg.rtd\",,\"StudyData\",$A21,\"BAR\",\"\",\"Close\",$H$4,0,$H$6,$H$10,,$H$8,$H$12)-RTD(\"cqg.rtd\",,\"StudyData\",$A21,\"BAR\",\"\",\"Close\",$H$4,-1,$H$6,$H$10,,$H$8,$H$12))/RTD(\"cqg.rtd\",,\"StudyData\",$A21,\"BAR\",\"\",\"Close\",$H$4,-1,$H$6,$H$10,,$H$8,$H$12),\"\")","v":-1.2776831345826235E-2},{"$f":"IFERROR(RANK($B21,$B$2:B$22)+COUNTIF($B$2:B21,B21)-1,\"\")","v":16},"ZSE",20,"NGE",-2.5988700564971774E-2]
[{"$f":"AC4","v":"ZWA"},{"$f":"IFERROR((RTD(\"cqg.rtd\",,\"StudyData\",$A22,\"BAR\",\"\",\"Close\",$H$4,0,$H$6,$H$10,,$H$8,$H$12)-RTD(\"cqg.rtd\",,\"StudyData\",$A22,\"BAR\",\"\",\"Close\",$H$4,-1,$H$6,$H$10,,$H$8,$H$12))/RTD(\"cqg.rtd\",,\"StudyData\",$A22,\"BAR\",\"\",\"Close\",$H$4,-1,$H$6,$H$10,,$H$8,$H$12),\"\")","v":-6.2949640287769783E-3},{"$f":"IFERROR(RANK($B22,$B$2:B$22)+COUNTIF($B$2:B22,B22)-1,\"\")","v":10},"ZWA",21,"",{"$f":"IFERROR(VLOOKUP(F22,$A$2:$B$22,2,FALSE),\"\")","v":""}]