{"text_format":"1","workbook":"xlsx","n_sheets":2,"sheets":["Display","XLF"],"not_rendered":{"charts":2,"images":2,"macros":1,"external_links":0,"defined_names":0,"comments":0,"pivot_tables":0},"unopened":[],"bounds":{"document_bytes":16777216,"sheet_cells":100000,"rows_first":2000,"rows_last":500,"rows_between":2000,"halvings":0,"cell_chars":16384,"cell_head_chars":4096},"cells_cut":0,"cells_raw":0,"read":"whole","date_system":"1900"}

{"sheet":"Display","index":0,"n_rows":49,"n_cols":28,"rows_kept":49,"cut":false,"hidden":false,"merged":[[48,1,48,3],[48,4,48,6],[48,11,48,24],[48,7,48,10],[35,2,35,6],[35,14,35,15],[36,2,36,6],[36,14,36,15],[46,2,46,6],[46,14,46,15],[47,2,47,6],[47,14,47,15],[37,2,37,6],[37,14,37,15],[38,2,38,6],[38,14,38,15],[39,2,39,6],[39,14,39,15],[44,2,44,6],[44,14,44,15],[45,2,45,6],[45,14,45,15],[40,2,40,6],[40,14,40,15],[42,2,42,6],[42,14,42,15],[41,2,41,6],[41,14,41,15],[43,2,43,6],[43,14,43,15],[31,2,31,6],[31,14,31,15],[33,2,33,6],[33,14,33,15],[34,2,34,6],[34,14,34,15],[32,2,32,6],[32,14,32,15],[28,2,28,6],[28,14,28,15],[29,2,29,6],[29,14,29,15],[30,2,30,6],[30,14,30,15],[25,2,25,6],[25,14,25,15],[26,2,26,6],[26,14,26,15],[27,2,27,6],[27,14,27,15],[22,2,22,6],[22,14,22,15],[23,2,23,6],[23,14,23,15],[24,2,24,6],[24,14,24,15],[5,14,5,15],[4,1,4,16],[18,2,18,6],[18,14,18,15],[19,2,19,6],[19,14,19,15],[16,2,16,6],[16,14,16,15],[1,1,2,4],[1,27,2,30],[1,5,2,26],[4,18,4,30],[17,2,17,6],[17,14,17,15],[15,2,15,6],[5,2,5,6],[15,14,15,15],[14,14,14,15],[13,14,13,15],[12,14,12,15],[11,14,11,15],[10,14,10,15],[9,14,9,15],[9,2,9,6],[26,18,26,30],[6,2,6,6],[7,2,7,6],[8,2,8,6],[14,2,14,6],[10,2,10,6],[11,2,11,6],[12,2,12,6],[13,2,13,6],[8,14,8,15],[7,14,7,15],[6,14,6,15],[20,2,20,6],[20,14,20,15],[21,2,21,6],[21,14,21,15]]}
[]
[null,null,null,null,null,"CQG SPDR® S&P® Financial Select Sector ETF Performance",null,null,null,null,null,null,null,null,null,null,null,null,null,null,null,null,null,null,null,null,null,{"$f":"RTD(\"cqg.rtd\", ,\"SystemInfo\", \"Linetime\")","v":45698.697500000002}]
[]
[]
[null,"Exchange Traded Funds Performance",null,null,null,null,null,null,null,null,null,null,null,null,null,null,null,null,"Top 15 Performing Companies "]
[null,"Symbol","Description",null,null,null,null,"Last","NC","%NC","NC/ATR","Open","High","Low","Volume",null,"Ratio"]
[null,"XLF",{"$f":"RTD(\"cqg.rtd\", ,\"ContractData\",B7, \"LongDescription\",, \"T\")","v":"Financial Select Sector SPDR"},null,null,null,null,{"$f":"RTD(\"cqg.rtd\", ,\"ContractData\",B7, \"LastTradeToday\",, \"T\")","v":51.410000000000004},{"$f":"RTD(\"cqg.rtd\", ,\"ContractData\",B7, \"NetLastTradeToday\",, \"T\")","v":-0.41000000000000003},{"$f":"IFERROR(RTD(\"cqg.rtd\", ,\"ContractData\",B7, \"PerCentNetLastTrade\",, \"T\")/100,\"\")","v":-7.9120030876109609E-3},{"$f":"IFERROR(I7/RTD(\"cqg.rtd\",,\"StudyData\",B7, \"ATR\", \"MaType=Sim,Period=10\", \"ATR\",\"D\",\"-1\",\"ALL\",,,\"FALSE\",\"T\")/100,\"\")","v":-6.7656765676567662E-3},{"$f":"RTD(\"cqg.rtd\", ,\"ContractData\",B7, \"OPen\",, \"T\")","v":51.910000000000004},{"$f":"RTD(\"cqg.rtd\", ,\"ContractData\", B7, \"HIgh\",, \"T\")","v":51.97},{"$f":"RTD(\"cqg.rtd\", ,\"ContractData\",B7, \"LOw\",, \"T\")","v":51.19},{"$f":"RTD(\"cqg.rtd\", ,\"ContractData\",B7, \"T_CVol\",, \"T\")","v":37916864},null,{"$f":" IFERROR(O7/RTD(\"cqg.rtd\",,\"StudyData\",B7, \"MA\", \"InputChoice=Vol,MAType=Sim,Period=21\", \"MA\",\"D\",\"-1\",\"all\",,,,\"T\"),\"\")","v":0.8617484367358651}]
[null,"SPY",{"$f":"RTD(\"cqg.rtd\", ,\"ContractData\",B8, \"LongDescription\",, \"T\")","v":"SPDR S&P 500"},null,null,null,null,{"$f":"RTD(\"cqg.rtd\", ,\"ContractData\",B8, \"LastTradeToday\",, \"T\")","v":604.38},{"$f":"RTD(\"cqg.rtd\", ,\"ContractData\",B8, \"NetLastTradeToday\",, \"T\")","v":4.08},{"$f":"IFERROR(RTD(\"cqg.rtd\", ,\"ContractData\",B8, \"PerCentNetLastTrade\",, \"T\")/100,\"\")","v":6.7912845182016412E-3},{"$f":"IFERROR(I8/RTD(\"cqg.rtd\",,\"StudyData\",B8, \"ATR\", \"MaType=Sim,Period=10\", \"ATR\",\"D\",\"-1\",\"ALL\",,,\"FALSE\",\"T\")/100,\"\")","v":5.3939714436805923E-3},{"$f":"RTD(\"cqg.rtd\", ,\"ContractData\",B8, \"OPen\",, \"T\")","v":604.03},{"$f":"RTD(\"cqg.rtd\", ,\"ContractData\", B8, \"HIgh\",, \"T\")","v":605.49},{"$f":"RTD(\"cqg.rtd\", ,\"ContractData\",B8, \"LOw\",, \"T\")","v":602.74},{"$f":"RTD(\"cqg.rtd\", ,\"ContractData\",B8, \"T_CVol\",, \"T\")","v":25872995},null,{"$f":" IFERROR(O8/RTD(\"cqg.rtd\",,\"StudyData\",B8, \"MA\", \"InputChoice=Vol,MAType=Sim,Period=21\", \"MA\",\"D\",\"-1\",\"all\",,,,\"T\"),\"\")","v":0.53503237965563}]
[null,"S.MSFT",{"$f":"RTD(\"cqg.rtd\", ,\"ContractData\",B9, \"LongDescription\",, \"T\")","v":"Microsoft Corporation"},null,null,null,null,{"$f":"RTD(\"cqg.rtd\", ,\"ContractData\",B9, \"LastTradeToday\",, \"T\")","v":412.22},{"$f":"RTD(\"cqg.rtd\", ,\"ContractData\",B9, \"NetLastTradeToday\",, \"T\")","v":2.4700000000000002},{"$f":"IFERROR(RTD(\"cqg.rtd\", ,\"ContractData\",B9, \"PerCentNetLastTrade\",, \"T\")/100,\"\")","v":6.0280658938377061E-3},{"$f":"IFERROR(I9/RTD(\"cqg.rtd\",,\"StudyData\",B9, \"ATR\", \"MaType=Sim,Period=10\", \"ATR\",\"D\",\"-1\",\"ALL\",,,\"FALSE\",\"T\")/100,\"\")","v":2.263770506827972E-3},{"$f":"RTD(\"cqg.rtd\", ,\"ContractData\",B9, \"OPen\",, \"T\")","v":413.71000000000004},{"$f":"RTD(\"cqg.rtd\", ,\"ContractData\", B9, \"HIgh\",, \"T\")","v":415.46000000000004},{"$f":"RTD(\"cqg.rtd\", ,\"ContractData\",B9, \"LOw\",, \"T\")","v":410.92},{"$f":"RTD(\"cqg.rtd\", ,\"ContractData\",B9, \"T_CVol\",, \"T\")","v":20788747},null,{"$f":" IFERROR(O9/RTD(\"cqg.rtd\",,\"StudyData\",B9, \"MA\", \"InputChoice=Vol,MAType=Sim,Period=21\", \"MA\",\"D\",\"-1\",\"all\",,,,\"T\"),\"\")","v":0.88726233968639479}]
[null,"S.AAPL",{"$f":"RTD(\"cqg.rtd\", ,\"ContractData\",B10, \"LongDescription\",, \"T\")","v":"Apple Inc"},null,null,null,null,{"$f":"RTD(\"cqg.rtd\", ,\"ContractData\",B10, \"LastTradeToday\",, \"T\")","v":227.65},{"$f":"RTD(\"cqg.rtd\", ,\"ContractData\",B10, \"NetLastTradeToday\",, \"T\")","v":0.02},{"$f":"IFERROR(RTD(\"cqg.rtd\", ,\"ContractData\",B10, \"PerCentNetLastTrade\",, \"T\")/100,\"\")","v":8.7861881122874836E-5},{"$f":"IFERROR(I10/RTD(\"cqg.rtd\",,\"StudyData\",B10, \"ATR\", \"MaType=Sim,Period=10\", \"ATR\",\"D\",\"-1\",\"ALL\",,,\"FALSE\",\"T\")/100,\"\")","v":2.6917900403768505E-5},{"$f":"RTD(\"cqg.rtd\", ,\"ContractData\",B10, \"OPen\",, \"T\")","v":229.57},{"$f":"RTD(\"cqg.rtd\", ,\"ContractData\", B10, \"HIgh\",, \"T\")","v":230.58},{"$f":"RTD(\"cqg.rtd\", ,\"ContractData\",B10, \"LOw\",, \"T\")","v":227.20000000000002},{"$f":"RTD(\"cqg.rtd\", ,\"ContractData\",B10, \"T_CVol\",, \"T\")","v":33020309},null,{"$f":" IFERROR(O10/RTD(\"cqg.rtd\",,\"StudyData\",B10, \"MA\", \"InputChoice=Vol,MAType=Sim,Period=21\", \"MA\",\"D\",\"-1\",\"all\",,,,\"T\"),\"\")","v":0.55659648714616905}]
[null,"KBE",{"$f":"RTD(\"cqg.rtd\", ,\"ContractData\",B11, \"LongDescription\",, \"T\")","v":"SPDR S&P Bank ETF"},null,null,null,null,{"$f":"RTD(\"cqg.rtd\", ,\"ContractData\",B11, \"LastTradeToday\",, \"T\")","v":58.620000000000005},{"$f":"RTD(\"cqg.rtd\", ,\"ContractData\",B11, \"NetLastTradeToday\",, \"T\")","v":-0.64},{"$f":"IFERROR(RTD(\"cqg.rtd\", ,\"ContractData\",B11, \"PerCentNetLastTrade\",, \"T\")/100,\"\")","v":-1.0799865001687479E-2},{"$f":"IFERROR(I11/RTD(\"cqg.rtd\",,\"StudyData\",B11, \"ATR\", \"MaType=Sim,Period=10\", \"ATR\",\"D\",\"-1\",\"ALL\",,,\"FALSE\",\"T\")/100,\"\")","v":-5.5944055944055944E-3},{"$f":"RTD(\"cqg.rtd\", ,\"ContractData\",B11, \"OPen\",, \"T\")","v":59.45},{"$f":"RTD(\"cqg.rtd\", ,\"ContractData\", B11, \"HIgh\",, \"T\")","v":59.480000000000004},{"$f":"RTD(\"cqg.rtd\", ,\"ContractData\",B11, \"LOw\",, \"T\")","v":58.550000000000004},{"$f":"RTD(\"cqg.rtd\", ,\"ContractData\",B11, \"T_CVol\",, \"T\")","v":1012514},null,{"$f":" IFERROR(O11/RTD(\"cqg.rtd\",,\"StudyData\",B11, \"MA\", \"InputChoice=Vol,MAType=Sim,Period=21\", \"MA\",\"D\",\"-1\",\"all\",,,,\"T\"),\"\")","v":0.46157428987845228}]
[null,"IWF",{"$f":"RTD(\"cqg.rtd\", ,\"ContractData\",B12, \"LongDescription\",, \"T\")","v":"iShares Russell 1000 Growth ETF"},null,null,null,null,{"$f":"RTD(\"cqg.rtd\", ,\"ContractData\",B12, \"LastTradeToday\",, \"T\")","v":412.26},{"$f":"RTD(\"cqg.rtd\", ,\"ContractData\",B12, \"NetLastTradeToday\",, \"T\")","v":4.1500000000000004},{"$f":"IFERROR(RTD(\"cqg.rtd\", ,\"ContractData\",B12, \"PerCentNetLastTrade\",, \"T\")/100,\"\")","v":1.0168827031927667E-2},{"$f":"IFERROR(I12/RTD(\"cqg.rtd\",,\"StudyData\",B12, \"ATR\", \"MaType=Sim,Period=10\", \"ATR\",\"D\",\"-1\",\"ALL\",,,\"FALSE\",\"T\")/100,\"\")","v":5.5156831472620953E-3},{"$f":"RTD(\"cqg.rtd\", ,\"ContractData\",B12, \"OPen\",, \"T\")","v":410.98},{"$f":"RTD(\"cqg.rtd\", ,\"ContractData\", B12, \"HIgh\",, \"T\")","v":413.32},{"$f":"RTD(\"cqg.rtd\", ,\"ContractData\",B12, \"LOw\",, \"T\")","v":410.49},{"$f":"RTD(\"cqg.rtd\", ,\"ContractData\",B12, \"T_CVol\",, \"T\")","v":738793},null,{"$f":" IFERROR(O12/RTD(\"cqg.rtd\",,\"StudyData\",B12, \"MA\", \"InputChoice=Vol,MAType=Sim,Period=21\", \"MA\",\"D\",\"-1\",\"all\",,,,\"T\"),\"\")","v":0.43702025461653971}]
[null,"IWO",{"$f":"RTD(\"cqg.rtd\", ,\"ContractData\",B13, \"LongDescription\",, \"T\")","v":"iShares Russell 2000 Growth ETF"},null,null,null,null,{"$f":"RTD(\"cqg.rtd\", ,\"ContractData\",B13, \"LastTradeToday\",, \"T\")","v":297.57},{"$f":"RTD(\"cqg.rtd\", ,\"ContractData\",B13, \"NetLastTradeToday\",, \"T\")","v":1.37},{"$f":"IFERROR(RTD(\"cqg.rtd\", ,\"ContractData\",B13, \"PerCentNetLastTrade\",, \"T\")/100,\"\")","v":4.6252532072923701E-3},{"$f":"IFERROR(I13/RTD(\"cqg.rtd\",,\"StudyData\",B13, \"ATR\", \"MaType=Sim,Period=10\", \"ATR\",\"D\",\"-1\",\"ALL\",,,\"FALSE\",\"T\")/100,\"\")","v":2.4609304832045988E-3},{"$f":"RTD(\"cqg.rtd\", ,\"ContractData\",B13, \"OPen\",, \"T\")","v":297.77},{"$f":"RTD(\"cqg.rtd\", ,\"ContractData\", B13, \"HIgh\",, \"T\")","v":298.36},{"$f":"RTD(\"cqg.rtd\", ,\"ContractData\",B13, \"LOw\",, \"T\")","v":296.25},{"$f":"RTD(\"cqg.rtd\", ,\"ContractData\",B13, \"T_CVol\",, \"T\")","v":195243},null,{"$f":" IFERROR(O13/RTD(\"cqg.rtd\",,\"StudyData\",B13, \"MA\", \"InputChoice=Vol,MAType=Sim,Period=21\", \"MA\",\"D\",\"-1\",\"all\",,,,\"T\"),\"\")","v":0.56014800104594809}]
[null,"EP",{"$f":"RTD(\"cqg.rtd\", ,\"ContractData\",B14, \"LongDescription\",, \"T\")","v":"E-Mini S&P 500, Mar 25"},null,null,null,null,{"$f":"RTD(\"cqg.rtd\", ,\"ContractData\",B14, \"LastTradeToday\",, \"T\")","v":""},{"$f":"RTD(\"cqg.rtd\", ,\"ContractData\",B14, \"NetLastTradeToday\",, \"T\")","v":""},{"$f":"IFERROR(RTD(\"cqg.rtd\", ,\"ContractData\",B14, \"PerCentNetLastTrade\",, \"T\")/100,\"\")","v":""},{"$f":"IFERROR(I14/RTD(\"cqg.rtd\",,\"StudyData\",B14, \"ATR\", \"MaType=Sim,Period=10\", \"ATR\",\"D\",\"-1\",\"ALL\",,,\"FALSE\",\"T\")/100,\"\")","v":""},{"$f":"RTD(\"cqg.rtd\", ,\"ContractData\",B14, \"OPen\",, \"T\")","v":""},{"$f":"RTD(\"cqg.rtd\", ,\"ContractData\", B14, \"HIgh\",, \"T\")","v":""},{"$f":"RTD(\"cqg.rtd\", ,\"ContractData\",B14, \"LOw\",, \"T\")","v":""},{"$f":"RTD(\"cqg.rtd\", ,\"ContractData\",B14, \"T_CVol\",, \"T\")","v":0},null,{"$f":" IFERROR(O14/RTD(\"cqg.rtd\",,\"StudyData\",B14, \"MA\", \"InputChoice=Vol,MAType=Sim,Period=21\", \"MA\",\"D\",\"-1\",\"all\",,,,\"T\"),\"\")","v":0}]
[null,"XLE",{"$f":"RTD(\"cqg.rtd\", ,\"ContractData\",B15, \"LongDescription\",, \"T\")","v":"Energy Select Sector SPDR"},null,null,null,null,{"$f":"RTD(\"cqg.rtd\", ,\"ContractData\",B15, \"LastTradeToday\",, \"T\")","v":90.51},{"$f":"RTD(\"cqg.rtd\", ,\"ContractData\",B15, \"NetLastTradeToday\",, \"T\")","v":1.95},{"$f":"IFERROR(RTD(\"cqg.rtd\", ,\"ContractData\",B15, \"PerCentNetLastTrade\",, \"T\")/100,\"\")","v":2.2018970189701895E-2},{"$f":"IFERROR(I15/RTD(\"cqg.rtd\",,\"StudyData\",B15, \"ATR\", \"MaType=Sim,Period=10\", \"ATR\",\"D\",\"-1\",\"ALL\",,,\"FALSE\",\"T\")/100,\"\")","v":1.1410181392627268E-2},{"$f":"RTD(\"cqg.rtd\", ,\"ContractData\",B15, \"OPen\",, \"T\")","v":89.350000000000009},{"$f":"RTD(\"cqg.rtd\", ,\"ContractData\", B15, \"HIgh\",, \"T\")","v":90.66},{"$f":"RTD(\"cqg.rtd\", ,\"ContractData\",B15, \"LOw\",, \"T\")","v":89.350000000000009},{"$f":"RTD(\"cqg.rtd\", ,\"ContractData\",B15, \"T_CVol\",, \"T\")","v":12930840},null,{"$f":" IFERROR(O15/RTD(\"cqg.rtd\",,\"StudyData\",B15, \"MA\", \"InputChoice=Vol,MAType=Sim,Period=21\", \"MA\",\"D\",\"-1\",\"all\",,,,\"T\"),\"\")","v":0.76538537973593124}]
[null,"RSP",{"$f":"RTD(\"cqg.rtd\", ,\"ContractData\",B16, \"LongDescription\",, \"T\")","v":"Invesco S&P 500 Equal Weight ETF"},null,null,null,null,{"$f":"RTD(\"cqg.rtd\", ,\"ContractData\",B16, \"LastTradeToday\",, \"T\")","v":180.73},{"$f":"RTD(\"cqg.rtd\", ,\"ContractData\",B16, \"NetLastTradeToday\",, \"T\")","v":0.51},{"$f":"IFERROR(RTD(\"cqg.rtd\", ,\"ContractData\",B16, \"PerCentNetLastTrade\",, \"T\")/100,\"\")","v":2.8298745977139049E-3},{"$f":"IFERROR(I16/RTD(\"cqg.rtd\",,\"StudyData\",B16, \"ATR\", \"MaType=Sim,Period=10\", \"ATR\",\"D\",\"-1\",\"ALL\",,,\"FALSE\",\"T\")/100,\"\")","v":2.6998411858125994E-3},{"$f":"RTD(\"cqg.rtd\", ,\"ContractData\",B16, \"OPen\",, \"T\")","v":181.03},{"$f":"RTD(\"cqg.rtd\", ,\"ContractData\", B16, \"HIgh\",, \"T\")","v":181.1},{"$f":"RTD(\"cqg.rtd\", ,\"ContractData\",B16, \"LOw\",, \"T\")","v":180.08},{"$f":"RTD(\"cqg.rtd\", ,\"ContractData\",B16, \"T_CVol\",, \"T\")","v":5189258},null,{"$f":" IFERROR(O16/RTD(\"cqg.rtd\",,\"StudyData\",B16, \"MA\", \"InputChoice=Vol,MAType=Sim,Period=21\", \"MA\",\"D\",\"-1\",\"all\",,,,\"T\"),\"\")","v":0.59435458465977065}]
[null,null,"Top 15 Description",null,null,null,null,"Last","NC","%NC","NC/ATR","Open","High","Low","Volume",null,"Ratio"]
[{"$f":"TRIM(XLF!O1)","v":"S.US.PFG"},"News",{"$f":"IFERROR(RTD(\"cqg.rtd\", ,\"ContractData\",A18, \"LongDescription\",, \"T\")&\" (\"&RIGHT(A18,LEN(A18)-5)&\")\",\"\")","v":"Principal Financial Group (PFG)"},null,null,null,null,{"$f":"IFERROR(RTD(\"cqg.rtd\", ,\"ContractData\",A18, \"LastTradeToday\",, \"T\"),\"\")","v":84.38},{"$f":"IFERROR(RTD(\"cqg.rtd\", ,\"ContractData\",A18, \"NetLastTradeToday\",, \"T\"),\"\")","v":2.0499999999999998},{"$f":"IFERROR(RTD(\"cqg.rtd\", ,\"ContractData\",A18, \"PerCentNetLastTrade\",, \"T\")/100,\"\")","v":2.4899793513907444E-2},{"$f":"IFERROR(I18/RTD(\"cqg.rtd\",,\"StudyData\",A18, \"ATR\", \"MaType=Sim,Period=10\", \"ATR\",\"D\",\"-1\",\"ALL\",,,\"FALSE\",\"T\")/100,\"\")","v":1.2561274509803922E-2},{"$f":"IFERROR(RTD(\"cqg.rtd\", ,\"ContractData\",A18, \"OPen\",, \"T\"),\"\")","v":82.78},{"$f":"IFERROR(RTD(\"cqg.rtd\", ,\"ContractData\", A18, \"HIgh\",, \"T\"),\"\")","v":85.5},{"$f":"IFERROR(RTD(\"cqg.rtd\", ,\"ContractData\",A18, \"LOw\",, \"T\"),\"\")","v":82.070000000000007},{"$f":"IFERROR(RTD(\"cqg.rtd\", ,\"ContractData\",A18, \"T_CVol\",, \"T\"),\"\")","v":2610083},null,{"$f":" IFERROR(O18/RTD(\"cqg.rtd\",,\"StudyData\",A18, \"MA\", \"InputChoice=Vol,MAType=Sim,Period=21\", \"MA\",\"D\",\"-1\",\"all\",,,,\"T\"),\"\")","v":1.7173660922378295},{"$f":"XLF!Q1","v":"https://finance.yahoo.com/quote/PFG"}]
[{"$f":"TRIM(XLF!O2)","v":"S.US.PYPL"},"News",{"$f":"IFERROR(RTD(\"cqg.rtd\", ,\"ContractData\",A19, \"LongDescription\",, \"T\")&\" (\"&RIGHT(A19,LEN(A19)-5)&\")\",\"\")","v":"PayPal Holdings, Inc. (PYPL)"},null,null,null,null,{"$f":"IFERROR(RTD(\"cqg.rtd\", ,\"ContractData\",A19, \"LastTradeToday\",, \"T\"),\"\")","v":78.239999999999995},{"$f":"IFERROR(RTD(\"cqg.rtd\", ,\"ContractData\",A19, \"NetLastTradeToday\",, \"T\"),\"\")","v":0.93},{"$f":"IFERROR(RTD(\"cqg.rtd\", ,\"ContractData\",A19, \"PerCentNetLastTrade\",, \"T\")/100,\"\")","v":1.2029491656965463E-2},{"$f":"IFERROR(I19/RTD(\"cqg.rtd\",,\"StudyData\",A19, \"ATR\", \"MaType=Sim,Period=10\", \"ATR\",\"D\",\"-1\",\"ALL\",,,\"FALSE\",\"T\")/100,\"\")","v":2.8113663845223701E-3},{"$f":"IFERROR(RTD(\"cqg.rtd\", ,\"ContractData\",A19, \"OPen\",, \"T\"),\"\")","v":78.16},{"$f":"IFERROR(RTD(\"cqg.rtd\", ,\"ContractData\", A19, \"HIgh\",, \"T\"),\"\")","v":78.92},{"$f":"IFERROR(RTD(\"cqg.rtd\", ,\"ContractData\",A19, \"LOw\",, \"T\"),\"\")","v":77.61},{"$f":"IFERROR(RTD(\"cqg.rtd\", ,\"ContractData\",A19, \"T_CVol\",, \"T\"),\"\")","v":11806820},null,{"$f":" IFERROR(O19/RTD(\"cqg.rtd\",,\"StudyData\",A19, \"MA\", \"InputChoice=Vol,MAType=Sim,Period=21\", \"MA\",\"D\",\"-1\",\"all\",,,,\"T\"),\"\")","v":0.95533647670425992},{"$f":"XLF!Q2","v":"https://finance.yahoo.com/quote/PYPL"}]
[{"$f":"TRIM(XLF!O3)","v":"S.US.V"},"News",{"$f":"IFERROR(RTD(\"cqg.rtd\", ,\"ContractData\",A20, \"LongDescription\",, \"T\")&\" (\"&RIGHT(A20,LEN(A20)-5)&\")\",\"\")","v":"Visa Inc. (V)"},null,null,null,null,{"$f":"IFERROR(RTD(\"cqg.rtd\", ,\"ContractData\",A20, \"LastTradeToday\",, \"T\"),\"\")","v":351.23},{"$f":"IFERROR(RTD(\"cqg.rtd\", ,\"ContractData\",A20, \"NetLastTradeToday\",, \"T\"),\"\")","v":3.21},{"$f":"IFERROR(RTD(\"cqg.rtd\", ,\"ContractData\",A20, \"PerCentNetLastTrade\",, \"T\")/100,\"\")","v":9.2236078386299641E-3},{"$f":"IFERROR(I20/RTD(\"cqg.rtd\",,\"StudyData\",A20, \"ATR\", \"MaType=Sim,Period=10\", \"ATR\",\"D\",\"-1\",\"ALL\",,,\"FALSE\",\"T\")/100,\"\")","v":5.8120586637696904E-3},{"$f":"IFERROR(RTD(\"cqg.rtd\", ,\"ContractData\",A20, \"OPen\",, \"T\"),\"\")","v":348.7},{"$f":"IFERROR(RTD(\"cqg.rtd\", ,\"ContractData\", A20, \"HIgh\",, \"T\"),\"\")","v":351.90000000000003},{"$f":"IFERROR(RTD(\"cqg.rtd\", ,\"ContractData\",A20, \"LOw\",, \"T\"),\"\")","v":347.7},{"$f":"IFERROR(RTD(\"cqg.rtd\", ,\"ContractData\",A20, \"T_CVol\",, \"T\"),\"\")","v":6059090},null,{"$f":" IFERROR(O20/RTD(\"cqg.rtd\",,\"StudyData\",A20, \"MA\", \"InputChoice=Vol,MAType=Sim,Period=21\", \"MA\",\"D\",\"-1\",\"all\",,,,\"T\"),\"\")","v":1.0269391435794224},{"$f":"XLF!Q3","v":"https://finance.yahoo.com/quote/V"}]
[{"$f":"TRIM(XLF!O4)","v":"S.US.MSCI"},"News",{"$f":"IFERROR(RTD(\"cqg.rtd\", ,\"ContractData\",A21, \"LongDescription\",, \"T\")&\" (\"&RIGHT(A21,LEN(A21)-5)&\")\",\"\")","v":"MSCI, Inc. (MSCI)"},null,null,null,null,{"$f":"IFERROR(RTD(\"cqg.rtd\", ,\"ContractData\",A21, \"LastTradeToday\",, \"T\"),\"\")","v":583.48},{"$f":"IFERROR(RTD(\"cqg.rtd\", ,\"ContractData\",A21, \"NetLastTradeToday\",, \"T\"),\"\")","v":4.09},{"$f":"IFERROR(RTD(\"cqg.rtd\", ,\"ContractData\",A21, \"PerCentNetLastTrade\",, \"T\")/100,\"\")","v":7.0591484147120246E-3},{"$f":"IFERROR(I21/RTD(\"cqg.rtd\",,\"StudyData\",A21, \"ATR\", \"MaType=Sim,Period=10\", \"ATR\",\"D\",\"-1\",\"ALL\",,,\"FALSE\",\"T\")/100,\"\")","v":2.3822004776049856E-3},{"$f":"IFERROR(RTD(\"cqg.rtd\", ,\"ContractData\",A21, \"OPen\",, \"T\"),\"\")","v":582.05000000000007},{"$f":"IFERROR(RTD(\"cqg.rtd\", ,\"ContractData\", A21, \"HIgh\",, \"T\"),\"\")","v":583.83000000000004},{"$f":"IFERROR(RTD(\"cqg.rtd\", ,\"ContractData\",A21, \"LOw\",, \"T\"),\"\")","v":575.59},{"$f":"IFERROR(RTD(\"cqg.rtd\", ,\"ContractData\",A21, \"T_CVol\",, \"T\"),\"\")","v":547416},null,{"$f":" IFERROR(O21/RTD(\"cqg.rtd\",,\"StudyData\",A21, \"MA\", \"InputChoice=Vol,MAType=Sim,Period=21\", \"MA\",\"D\",\"-1\",\"all\",,,,\"T\"),\"\")","v":0.99004046030704373},{"$f":"XLF!Q4","v":"https://finance.yahoo.com/quote/MSCI"}]
[{"$f":"TRIM(XLF!O5)","v":"S.US.AJG"},"News",{"$f":"IFERROR(RTD(\"cqg.rtd\", ,\"ContractData\",A22, \"LongDescription\",, \"T\")&\" (\"&RIGHT(A22,LEN(A22)-5)&\")\",\"\")","v":"Arthur J Gallagher Co (AJG)"},null,null,null,null,{"$f":"IFERROR(RTD(\"cqg.rtd\", ,\"ContractData\",A22, \"LastTradeToday\",, \"T\"),\"\")","v":324.29000000000002},{"$f":"IFERROR(RTD(\"cqg.rtd\", ,\"ContractData\",A22, \"NetLastTradeToday\",, \"T\"),\"\")","v":1.96},{"$f":"IFERROR(RTD(\"cqg.rtd\", ,\"ContractData\",A22, \"PerCentNetLastTrade\",, \"T\")/100,\"\")","v":6.0807247231098559E-3},{"$f":"IFERROR(I22/RTD(\"cqg.rtd\",,\"StudyData\",A22, \"ATR\", \"MaType=Sim,Period=10\", \"ATR\",\"D\",\"-1\",\"ALL\",,,\"FALSE\",\"T\")/100,\"\")","v":3.1435445068163591E-3},{"$f":"IFERROR(RTD(\"cqg.rtd\", ,\"ContractData\",A22, \"OPen\",, \"T\"),\"\")","v":322.07},{"$f":"IFERROR(RTD(\"cqg.rtd\", ,\"ContractData\", A22, \"HIgh\",, \"T\"),\"\")","v":324.79000000000002},{"$f":"IFERROR(RTD(\"cqg.rtd\", ,\"ContractData\",A22, \"LOw\",, \"T\"),\"\")","v":319.81},{"$f":"IFERROR(RTD(\"cqg.rtd\", ,\"ContractData\",A22, \"T_CVol\",, \"T\"),\"\")","v":1573138},null,{"$f":" IFERROR(O22/RTD(\"cqg.rtd\",,\"StudyData\",A22, \"MA\", \"InputChoice=Vol,MAType=Sim,Period=21\", \"MA\",\"D\",\"-1\",\"all\",,,,\"T\"),\"\")","v":0.88730875437162582},{"$f":"XLF!Q5","v":"https://finance.yahoo.com/quote/AJG"}]
[{"$f":"TRIM(XLF!O6)","v":"S.US.AIG"},"News",{"$f":"IFERROR(RTD(\"cqg.rtd\", ,\"ContractData\",A23, \"LongDescription\",, \"T\")&\" (\"&RIGHT(A23,LEN(A23)-5)&\")\",\"\")","v":"American Intl Group Inc (AIG)"},null,null,null,null,{"$f":"IFERROR(RTD(\"cqg.rtd\", ,\"ContractData\",A23, \"LastTradeToday\",, \"T\"),\"\")","v":75.09},{"$f":"IFERROR(RTD(\"cqg.rtd\", ,\"ContractData\",A23, \"NetLastTradeToday\",, \"T\"),\"\")","v":0.4},{"$f":"IFERROR(RTD(\"cqg.rtd\", ,\"ContractData\",A23, \"PerCentNetLastTrade\",, \"T\")/100,\"\")","v":5.3554692729950457E-3},{"$f":"IFERROR(I23/RTD(\"cqg.rtd\",,\"StudyData\",A23, \"ATR\", \"MaType=Sim,Period=10\", \"ATR\",\"D\",\"-1\",\"ALL\",,,\"FALSE\",\"T\")/100,\"\")","v":2.7173913043478264E-3},{"$f":"IFERROR(RTD(\"cqg.rtd\", ,\"ContractData\",A23, \"OPen\",, \"T\"),\"\")","v":74.81},{"$f":"IFERROR(RTD(\"cqg.rtd\", ,\"ContractData\", A23, \"HIgh\",, \"T\"),\"\")","v":75.430000000000007},{"$f":"IFERROR(RTD(\"cqg.rtd\", ,\"ContractData\",A23, \"LOw\",, \"T\"),\"\")","v":74.7},{"$f":"IFERROR(RTD(\"cqg.rtd\", ,\"ContractData\",A23, \"T_CVol\",, \"T\"),\"\")","v":3839529},null,{"$f":" IFERROR(O23/RTD(\"cqg.rtd\",,\"StudyData\",A23, \"MA\", \"InputChoice=Vol,MAType=Sim,Period=21\", \"MA\",\"D\",\"-1\",\"all\",,,,\"T\"),\"\")","v":0.96415212393887861},{"$f":"XLF!Q6","v":"https://finance.yahoo.com/quote/AIG"}]
[{"$f":"TRIM(XLF!O7)","v":"S.US.MA"},"News",{"$f":"IFERROR(RTD(\"cqg.rtd\", ,\"ContractData\",A24, \"LongDescription\",, \"T\")&\" (\"&RIGHT(A24,LEN(A24)-5)&\")\",\"\")","v":"Mastercard Inc. (MA)"},null,null,null,null,{"$f":"IFERROR(RTD(\"cqg.rtd\", ,\"ContractData\",A24, \"LastTradeToday\",, \"T\"),\"\")","v":565.49},{"$f":"IFERROR(RTD(\"cqg.rtd\", ,\"ContractData\",A24, \"NetLastTradeToday\",, \"T\"),\"\")","v":2.74},{"$f":"IFERROR(RTD(\"cqg.rtd\", ,\"ContractData\",A24, \"PerCentNetLastTrade\",, \"T\")/100,\"\")","v":4.8689471346068415E-3},{"$f":"IFERROR(I24/RTD(\"cqg.rtd\",,\"StudyData\",A24, \"ATR\", \"MaType=Sim,Period=10\", \"ATR\",\"D\",\"-1\",\"ALL\",,,\"FALSE\",\"T\")/100,\"\")","v":2.3134076325565687E-3},{"$f":"IFERROR(RTD(\"cqg.rtd\", ,\"ContractData\",A24, \"OPen\",, \"T\"),\"\")","v":565.25},{"$f":"IFERROR(RTD(\"cqg.rtd\", ,\"ContractData\", A24, \"HIgh\",, \"T\"),\"\")","v":567.27},{"$f":"IFERROR(RTD(\"cqg.rtd\", ,\"ContractData\",A24, \"LOw\",, \"T\"),\"\")","v":561},{"$f":"IFERROR(RTD(\"cqg.rtd\", ,\"ContractData\",A24, \"T_CVol\",, \"T\"),\"\")","v":2357342},null,{"$f":" IFERROR(O24/RTD(\"cqg.rtd\",,\"StudyData\",A24, \"MA\", \"InputChoice=Vol,MAType=Sim,Period=21\", \"MA\",\"D\",\"-1\",\"all\",,,,\"T\"),\"\")","v":0.82781268492525573},{"$f":"XLF!Q7","v":"https://finance.yahoo.com/quote/MA"}]
[{"$f":"TRIM(XLF!O8)","v":"S.US.BRO"},"News",{"$f":"IFERROR(RTD(\"cqg.rtd\", ,\"ContractData\",A25, \"LongDescription\",, \"T\")&\" (\"&RIGHT(A25,LEN(A25)-5)&\")\",\"\")","v":"BROWN AND BROWN INC (BRO)"},null,null,null,null,{"$f":"IFERROR(RTD(\"cqg.rtd\", ,\"ContractData\",A25, \"LastTradeToday\",, \"T\"),\"\")","v":108.91},{"$f":"IFERROR(RTD(\"cqg.rtd\", ,\"ContractData\",A25, \"NetLastTradeToday\",, \"T\"),\"\")","v":0.33},{"$f":"IFERROR(RTD(\"cqg.rtd\", ,\"ContractData\",A25, \"PerCentNetLastTrade\",, \"T\")/100,\"\")","v":3.0392337447043656E-3},{"$f":"IFERROR(I25/RTD(\"cqg.rtd\",,\"StudyData\",A25, \"ATR\", \"MaType=Sim,Period=10\", \"ATR\",\"D\",\"-1\",\"ALL\",,,\"FALSE\",\"T\")/100,\"\")","v":1.5625000000000001E-3},{"$f":"IFERROR(RTD(\"cqg.rtd\", ,\"ContractData\",A25, \"OPen\",, \"T\"),\"\")","v":108.35000000000001},{"$f":"IFERROR(RTD(\"cqg.rtd\", ,\"ContractData\", A25, \"HIgh\",, \"T\"),\"\")","v":109.15},{"$f":"IFERROR(RTD(\"cqg.rtd\", ,\"ContractData\",A25, \"LOw\",, \"T\"),\"\")","v":107.63},{"$f":"IFERROR(RTD(\"cqg.rtd\", ,\"ContractData\",A25, \"T_CVol\",, \"T\"),\"\")","v":2077204},null,{"$f":" IFERROR(O25/RTD(\"cqg.rtd\",,\"StudyData\",A25, \"MA\", \"InputChoice=Vol,MAType=Sim,Period=21\", \"MA\",\"D\",\"-1\",\"all\",,,,\"T\"),\"\")","v":1.2343502954161536},{"$f":"XLF!Q8","v":"https://finance.yahoo.com/quote/BRO"}]
[{"$f":"TRIM(XLF!O9)","v":"S.US.MMC"},"News",{"$f":"IFERROR(RTD(\"cqg.rtd\", ,\"ContractData\",A26, \"LongDescription\",, \"T\")&\" (\"&RIGHT(A26,LEN(A26)-5)&\")\",\"\")","v":"Marsh & McLennan Cos Inc (MMC)"},null,null,null,null,{"$f":"IFERROR(RTD(\"cqg.rtd\", ,\"ContractData\",A26, \"LastTradeToday\",, \"T\"),\"\")","v":228.05},{"$f":"IFERROR(RTD(\"cqg.rtd\", ,\"ContractData\",A26, \"NetLastTradeToday\",, \"T\"),\"\")","v":0.65},{"$f":"IFERROR(RTD(\"cqg.rtd\", ,\"ContractData\",A26, \"PerCentNetLastTrade\",, \"T\")/100,\"\")","v":2.8583992963940193E-3},{"$f":"IFERROR(I26/RTD(\"cqg.rtd\",,\"StudyData\",A26, \"ATR\", \"MaType=Sim,Period=10\", \"ATR\",\"D\",\"-1\",\"ALL\",,,\"FALSE\",\"T\")/100,\"\")","v":1.5322960867515322E-3},{"$f":"IFERROR(RTD(\"cqg.rtd\", ,\"ContractData\",A26, \"OPen\",, \"T\"),\"\")","v":227.37},{"$f":"IFERROR(RTD(\"cqg.rtd\", ,\"ContractData\", A26, \"HIgh\",, \"T\"),\"\")","v":228.47},{"$f":"IFERROR(RTD(\"cqg.rtd\", ,\"ContractData\",A26, \"LOw\",, \"T\"),\"\")","v":225.45000000000002},{"$f":"IFERROR(RTD(\"cqg.rtd\", ,\"ContractData\",A26, \"T_CVol\",, \"T\"),\"\")","v":1698714},null,{"$f":" IFERROR(O26/RTD(\"cqg.rtd\",,\"StudyData\",A26, \"MA\", \"InputChoice=Vol,MAType=Sim,Period=21\", \"MA\",\"D\",\"-1\",\"all\",,,,\"T\"),\"\")","v":0.69686668969044474},{"$f":"XLF!Q9","v":"https://finance.yahoo.com/quote/MMC"}]
[{"$f":"TRIM(XLF!O10)","v":"S.US.FI"},"News",{"$f":"IFERROR(RTD(\"cqg.rtd\", ,\"ContractData\",A27, \"LongDescription\",, \"T\")&\" (\"&RIGHT(A27,LEN(A27)-5)&\")\",\"\")","v":"Fiserv, Inc. (FI)"},null,null,null,null,{"$f":"IFERROR(RTD(\"cqg.rtd\", ,\"ContractData\",A27, \"LastTradeToday\",, \"T\"),\"\")","v":230.65},{"$f":"IFERROR(RTD(\"cqg.rtd\", ,\"ContractData\",A27, \"NetLastTradeToday\",, \"T\"),\"\")","v":0.59},{"$f":"IFERROR(RTD(\"cqg.rtd\", ,\"ContractData\",A27, \"PerCentNetLastTrade\",, \"T\")/100,\"\")","v":2.5645483786838215E-3},{"$f":"IFERROR(I27/RTD(\"cqg.rtd\",,\"StudyData\",A27, \"ATR\", \"MaType=Sim,Period=10\", \"ATR\",\"D\",\"-1\",\"ALL\",,,\"FALSE\",\"T\")/100,\"\")","v":9.4794344473007701E-4},{"$f":"IFERROR(RTD(\"cqg.rtd\", ,\"ContractData\",A27, \"OPen\",, \"T\"),\"\")","v":229.68},{"$f":"IFERROR(RTD(\"cqg.rtd\", ,\"ContractData\", A27, \"HIgh\",, \"T\"),\"\")","v":231.49},{"$f":"IFERROR(RTD(\"cqg.rtd\", ,\"ContractData\",A27, \"LOw\",, \"T\"),\"\")","v":229.03},{"$f":"IFERROR(RTD(\"cqg.rtd\", ,\"ContractData\",A27, \"T_CVol\",, \"T\"),\"\")","v":2907399},null,{"$f":" IFERROR(O27/RTD(\"cqg.rtd\",,\"StudyData\",A27, \"MA\", \"InputChoice=Vol,MAType=Sim,Period=21\", \"MA\",\"D\",\"-1\",\"all\",,,,\"T\"),\"\")","v":1.0542348535079364},{"$f":"XLF!Q10","v":"https://finance.yahoo.com/quote/FI"},"Bottom 15 Performing Companies "]
[{"$f":"TRIM(XLF!O11)","v":"S.US.MCO"},"News",{"$f":"IFERROR(RTD(\"cqg.rtd\", ,\"ContractData\",A28, \"LongDescription\",, \"T\")&\" (\"&RIGHT(A28,LEN(A28)-5)&\")\",\"\")","v":"Moodys Corp (MCO)"},null,null,null,null,{"$f":"IFERROR(RTD(\"cqg.rtd\", ,\"ContractData\",A28, \"LastTradeToday\",, \"T\"),\"\")","v":504.23},{"$f":"IFERROR(RTD(\"cqg.rtd\", ,\"ContractData\",A28, \"NetLastTradeToday\",, \"T\"),\"\")","v":0.93},{"$f":"IFERROR(RTD(\"cqg.rtd\", ,\"ContractData\",A28, \"PerCentNetLastTrade\",, \"T\")/100,\"\")","v":1.8478044903636002E-3},{"$f":"IFERROR(I28/RTD(\"cqg.rtd\",,\"StudyData\",A28, \"ATR\", \"MaType=Sim,Period=10\", \"ATR\",\"D\",\"-1\",\"ALL\",,,\"FALSE\",\"T\")/100,\"\")","v":1.047179371692377E-3},{"$f":"IFERROR(RTD(\"cqg.rtd\", ,\"ContractData\",A28, \"OPen\",, \"T\"),\"\")","v":505.42},{"$f":"IFERROR(RTD(\"cqg.rtd\", ,\"ContractData\", A28, \"HIgh\",, \"T\"),\"\")","v":505.5},{"$f":"IFERROR(RTD(\"cqg.rtd\", ,\"ContractData\",A28, \"LOw\",, \"T\"),\"\")","v":498},{"$f":"IFERROR(RTD(\"cqg.rtd\", ,\"ContractData\",A28, \"T_CVol\",, \"T\"),\"\")","v":847872},null,{"$f":" IFERROR(O28/RTD(\"cqg.rtd\",,\"StudyData\",A28, \"MA\", \"InputChoice=Vol,MAType=Sim,Period=21\", \"MA\",\"D\",\"-1\",\"all\",,,,\"T\"),\"\")","v":1.2310832388516835},{"$f":"XLF!Q11","v":"https://finance.yahoo.com/quote/MCO"}]
[{"$f":"TRIM(XLF!O12)","v":"S.US.ICE"},"News",{"$f":"IFERROR(RTD(\"cqg.rtd\", ,\"ContractData\",A29, \"LongDescription\",, \"T\")&\" (\"&RIGHT(A29,LEN(A29)-5)&\")\",\"\")","v":"Intercontinental, Inc. (ICE)"},null,null,null,null,{"$f":"IFERROR(RTD(\"cqg.rtd\", ,\"ContractData\",A29, \"LastTradeToday\",, \"T\"),\"\")","v":167.12},{"$f":"IFERROR(RTD(\"cqg.rtd\", ,\"ContractData\",A29, \"NetLastTradeToday\",, \"T\"),\"\")","v":0.28999999999999998},{"$f":"IFERROR(RTD(\"cqg.rtd\", ,\"ContractData\",A29, \"PerCentNetLastTrade\",, \"T\")/100,\"\")","v":1.7382964694599293E-3},{"$f":"IFERROR(I29/RTD(\"cqg.rtd\",,\"StudyData\",A29, \"ATR\", \"MaType=Sim,Period=10\", \"ATR\",\"D\",\"-1\",\"ALL\",,,\"FALSE\",\"T\")/100,\"\")","v":8.276255707762556E-4},{"$f":"IFERROR(RTD(\"cqg.rtd\", ,\"ContractData\",A29, \"OPen\",, \"T\"),\"\")","v":167.31},{"$f":"IFERROR(RTD(\"cqg.rtd\", ,\"ContractData\", A29, \"HIgh\",, \"T\"),\"\")","v":167.75},{"$f":"IFERROR(RTD(\"cqg.rtd\", ,\"ContractData\",A29, \"LOw\",, \"T\"),\"\")","v":165.77},{"$f":"IFERROR(RTD(\"cqg.rtd\", ,\"ContractData\",A29, \"T_CVol\",, \"T\"),\"\")","v":3650161},null,{"$f":" IFERROR(O29/RTD(\"cqg.rtd\",,\"StudyData\",A29, \"MA\", \"InputChoice=Vol,MAType=Sim,Period=21\", \"MA\",\"D\",\"-1\",\"all\",,,,\"T\"),\"\")","v":1.1162566176062081},{"$f":"XLF!Q12","v":"https://finance.yahoo.com/quote/ICE"}]
[{"$f":"TRIM(XLF!O13)","v":"S.US.GPN"},"News",{"$f":"IFERROR(RTD(\"cqg.rtd\", ,\"ContractData\",A30, \"LongDescription\",, \"T\")&\" (\"&RIGHT(A30,LEN(A30)-5)&\")\",\"\")","v":"Global Payments (GPN)"},null,null,null,null,{"$f":"IFERROR(RTD(\"cqg.rtd\", ,\"ContractData\",A30, \"LastTradeToday\",, \"T\"),\"\")","v":109.62},{"$f":"IFERROR(RTD(\"cqg.rtd\", ,\"ContractData\",A30, \"NetLastTradeToday\",, \"T\"),\"\")","v":0.02},{"$f":"IFERROR(RTD(\"cqg.rtd\", ,\"ContractData\",A30, \"PerCentNetLastTrade\",, \"T\")/100,\"\")","v":1.8248175182481751E-4},{"$f":"IFERROR(I30/RTD(\"cqg.rtd\",,\"StudyData\",A30, \"ATR\", \"MaType=Sim,Period=10\", \"ATR\",\"D\",\"-1\",\"ALL\",,,\"FALSE\",\"T\")/100,\"\")","v":8.9968511021142601E-5},{"$f":"IFERROR(RTD(\"cqg.rtd\", ,\"ContractData\",A30, \"OPen\",, \"T\"),\"\")","v":110.02},{"$f":"IFERROR(RTD(\"cqg.rtd\", ,\"ContractData\", A30, \"HIgh\",, \"T\"),\"\")","v":110.48},{"$f":"IFERROR(RTD(\"cqg.rtd\", ,\"ContractData\",A30, \"LOw\",, \"T\"),\"\")","v":109.27},{"$f":"IFERROR(RTD(\"cqg.rtd\", ,\"ContractData\",A30, \"T_CVol\",, \"T\"),\"\")","v":1426393},null,{"$f":" IFERROR(O30/RTD(\"cqg.rtd\",,\"StudyData\",A30, \"MA\", \"InputChoice=Vol,MAType=Sim,Period=21\", \"MA\",\"D\",\"-1\",\"all\",,,,\"T\"),\"\")","v":0.89255074749078345},{"$f":"XLF!Q13","v":"https://finance.yahoo.com/quote/GPN"}]
[{"$f":"TRIM(XLF!O14)","v":"S.US.JKHY"},"News",{"$f":"IFERROR(RTD(\"cqg.rtd\", ,\"ContractData\",A31, \"LongDescription\",, \"T\")&\" (\"&RIGHT(A31,LEN(A31)-5)&\")\",\"\")","v":"Jack Henry/Associates Inc (JKHY)"},null,null,null,null,{"$f":"IFERROR(RTD(\"cqg.rtd\", ,\"ContractData\",A31, \"LastTradeToday\",, \"T\"),\"\")","v":173.66},{"$f":"IFERROR(RTD(\"cqg.rtd\", ,\"ContractData\",A31, \"NetLastTradeToday\",, \"T\"),\"\")","v":-0.15},{"$f":"IFERROR(RTD(\"cqg.rtd\", ,\"ContractData\",A31, \"PerCentNetLastTrade\",, \"T\")/100,\"\")","v":-8.6301133421552267E-4},{"$f":"IFERROR(I31/RTD(\"cqg.rtd\",,\"StudyData\",A31, \"ATR\", \"MaType=Sim,Period=10\", \"ATR\",\"D\",\"-1\",\"ALL\",,,\"FALSE\",\"T\")/100,\"\")","v":-4.1367898510755651E-4},{"$f":"IFERROR(RTD(\"cqg.rtd\", ,\"ContractData\",A31, \"OPen\",, \"T\"),\"\")","v":174},{"$f":"IFERROR(RTD(\"cqg.rtd\", ,\"ContractData\", A31, \"HIgh\",, \"T\"),\"\")","v":174.75},{"$f":"IFERROR(RTD(\"cqg.rtd\", ,\"ContractData\",A31, \"LOw\",, \"T\"),\"\")","v":173.08},{"$f":"IFERROR(RTD(\"cqg.rtd\", ,\"ContractData\",A31, \"T_CVol\",, \"T\"),\"\")","v":454923},null,{"$f":" IFERROR(O31/RTD(\"cqg.rtd\",,\"StudyData\",A31, \"MA\", \"InputChoice=Vol,MAType=Sim,Period=21\", \"MA\",\"D\",\"-1\",\"all\",,,,\"T\"),\"\")","v":0.71557715991448456},{"$f":"XLF!Q14","v":"https://finance.yahoo.com/quote/JKHY"}]
[{"$f":"TRIM(XLF!O15)","v":"S.US.WTW"},"News",{"$f":"IFERROR(RTD(\"cqg.rtd\", ,\"ContractData\",A32, \"LongDescription\",, \"T\")&\" (\"&RIGHT(A32,LEN(A32)-5)&\")\",\"\")","v":"Willis Towers Watson (WTW)"},null,null,null,null,{"$f":"IFERROR(RTD(\"cqg.rtd\", ,\"ContractData\",A32, \"LastTradeToday\",, \"T\"),\"\")","v":325.18},{"$f":"IFERROR(RTD(\"cqg.rtd\", ,\"ContractData\",A32, \"NetLastTradeToday\",, \"T\"),\"\")","v":-0.61},{"$f":"IFERROR(RTD(\"cqg.rtd\", ,\"ContractData\",A32, \"PerCentNetLastTrade\",, \"T\")/100,\"\")","v":-1.872371773228153E-3},{"$f":"IFERROR(I32/RTD(\"cqg.rtd\",,\"StudyData\",A32, \"ATR\", \"MaType=Sim,Period=10\", \"ATR\",\"D\",\"-1\",\"ALL\",,,\"FALSE\",\"T\")/100,\"\")","v":-6.9153157238408338E-4},{"$f":"IFERROR(RTD(\"cqg.rtd\", ,\"ContractData\",A32, \"OPen\",, \"T\"),\"\")","v":326.79000000000002},{"$f":"IFERROR(RTD(\"cqg.rtd\", ,\"ContractData\", A32, \"HIgh\",, \"T\"),\"\")","v":326.79000000000002},{"$f":"IFERROR(RTD(\"cqg.rtd\", ,\"ContractData\",A32, \"LOw\",, \"T\"),\"\")","v":321.59000000000003},{"$f":"IFERROR(RTD(\"cqg.rtd\", ,\"ContractData\",A32, \"T_CVol\",, \"T\"),\"\")","v":451371},null,{"$f":" IFERROR(O32/RTD(\"cqg.rtd\",,\"StudyData\",A32, \"MA\", \"InputChoice=Vol,MAType=Sim,Period=21\", \"MA\",\"D\",\"-1\",\"all\",,,,\"T\"),\"\")","v":0.8124634591238038},{"$f":"XLF!Q15","v":"https://finance.yahoo.com/quote/WTW"}]
[null,null,"Bottom 15 Description",null,null,null,null,"Last","NC","%NC","NC/ATR","Open","High","Low","Volume",null,"Ratio"]
[{"$f":"TRIM(XLF!O59)","v":"S.US.KEY"},"News",{"$f":"IFERROR(RTD(\"cqg.rtd\", ,\"ContractData\",A34, \"LongDescription\",, \"T\")&\" (\"&RIGHT(A34,LEN(A34)-5)&\")\",\"\")","v":"KeyCorp (KEY)"},null,null,null,null,{"$f":"IFERROR(RTD(\"cqg.rtd\", ,\"ContractData\",A34, \"LastTradeToday\",, \"T\"),\"\")","v":17.510000000000002},{"$f":"IFERROR(RTD(\"cqg.rtd\", ,\"ContractData\",A34, \"NetLastTradeToday\",, \"T\"),\"\")","v":-0.33},{"$f":"IFERROR(RTD(\"cqg.rtd\", ,\"ContractData\",A34, \"PerCentNetLastTrade\",, \"T\")/100,\"\")","v":-1.849775784753363E-2},{"$f":"IFERROR(I34/RTD(\"cqg.rtd\",,\"StudyData\",A34, \"ATR\", \"MaType=Sim,Period=10\", \"ATR\",\"D\",\"-1\",\"ALL\",,,\"FALSE\",\"T\")/100,\"\")","v":-7.7830188679245292E-3},{"$f":"IFERROR(RTD(\"cqg.rtd\", ,\"ContractData\",A34, \"OPen\",, \"T\"),\"\")","v":17.920000000000002},{"$f":"IFERROR(RTD(\"cqg.rtd\", ,\"ContractData\", A34, \"HIgh\",, \"T\"),\"\")","v":17.920000000000002},{"$f":"IFERROR(RTD(\"cqg.rtd\", ,\"ContractData\",A34, \"LOw\",, \"T\"),\"\")","v":17.5},{"$f":"IFERROR(RTD(\"cqg.rtd\", ,\"ContractData\",A34, \"T_CVol\",, \"T\"),\"\")","v":8148132},null,{"$f":" IFERROR(O34/RTD(\"cqg.rtd\",,\"StudyData\",A34, \"MA\", \"InputChoice=Vol,MAType=Sim,Period=21\", \"MA\",\"D\",\"-1\",\"all\",,,,\"T\"),\"\")","v":0.56859910569410832},{"$f":"XLF!Q59","v":"https://finance.yahoo.com/quote/KEY"}]
[{"$f":"TRIM(XLF!O60)","v":"S.US.ERIE"},"News",{"$f":"IFERROR(RTD(\"cqg.rtd\", ,\"ContractData\",A35, \"LongDescription\",, \"T\")&\" (\"&RIGHT(A35,LEN(A35)-5)&\")\",\"\")","v":"Erie Indemnity Co (ERIE)"},null,null,null,null,{"$f":"IFERROR(RTD(\"cqg.rtd\", ,\"ContractData\",A35, \"LastTradeToday\",, \"T\"),\"\")","v":404.43},{"$f":"IFERROR(RTD(\"cqg.rtd\", ,\"ContractData\",A35, \"NetLastTradeToday\",, \"T\"),\"\")","v":-7.8100000000000005},{"$f":"IFERROR(RTD(\"cqg.rtd\", ,\"ContractData\",A35, \"PerCentNetLastTrade\",, \"T\")/100,\"\")","v":-1.8945274597321947E-2},{"$f":"IFERROR(I35/RTD(\"cqg.rtd\",,\"StudyData\",A35, \"ATR\", \"MaType=Sim,Period=10\", \"ATR\",\"D\",\"-1\",\"ALL\",,,\"FALSE\",\"T\")/100,\"\")","v":-6.2480000000000001E-3},{"$f":"IFERROR(RTD(\"cqg.rtd\", ,\"ContractData\",A35, \"OPen\",, \"T\"),\"\")","v":414.42},{"$f":"IFERROR(RTD(\"cqg.rtd\", ,\"ContractData\", A35, \"HIgh\",, \"T\"),\"\")","v":414.76},{"$f":"IFERROR(RTD(\"cqg.rtd\", ,\"ContractData\",A35, \"LOw\",, \"T\"),\"\")","v":402.7},{"$f":"IFERROR(RTD(\"cqg.rtd\", ,\"ContractData\",A35, \"T_CVol\",, \"T\"),\"\")","v":98687},null,{"$f":" IFERROR(O35/RTD(\"cqg.rtd\",,\"StudyData\",A35, \"MA\", \"InputChoice=Vol,MAType=Sim,Period=21\", \"MA\",\"D\",\"-1\",\"all\",,,,\"T\"),\"\")","v":0.47487148230425597},{"$f":"XLF!Q60","v":"https://finance.yahoo.com/quote/ERIE"}]
[{"$f":"TRIM(XLF!O61)","v":"S.US.MS"},"News",{"$f":"IFERROR(RTD(\"cqg.rtd\", ,\"ContractData\",A36, \"LongDescription\",, \"T\")&\" (\"&RIGHT(A36,LEN(A36)-5)&\")\",\"\")","v":"Morgan Stanley (MS)"},null,null,null,null,{"$f":"IFERROR(RTD(\"cqg.rtd\", ,\"ContractData\",A36, \"LastTradeToday\",, \"T\"),\"\")","v":137.31},{"$f":"IFERROR(RTD(\"cqg.rtd\", ,\"ContractData\",A36, \"NetLastTradeToday\",, \"T\"),\"\")","v":-2.67},{"$f":"IFERROR(RTD(\"cqg.rtd\", ,\"ContractData\",A36, \"PerCentNetLastTrade\",, \"T\")/100,\"\")","v":-1.9074153450492928E-2},{"$f":"IFERROR(I36/RTD(\"cqg.rtd\",,\"StudyData\",A36, \"ATR\", \"MaType=Sim,Period=10\", \"ATR\",\"D\",\"-1\",\"ALL\",,,\"FALSE\",\"T\")/100,\"\")","v":-9.6599131693198264E-3},{"$f":"IFERROR(RTD(\"cqg.rtd\", ,\"ContractData\",A36, \"OPen\",, \"T\"),\"\")","v":140.25},{"$f":"IFERROR(RTD(\"cqg.rtd\", ,\"ContractData\", A36, \"HIgh\",, \"T\"),\"\")","v":140.31},{"$f":"IFERROR(RTD(\"cqg.rtd\", ,\"ContractData\",A36, \"LOw\",, \"T\"),\"\")","v":135.61000000000001},{"$f":"IFERROR(RTD(\"cqg.rtd\", ,\"ContractData\",A36, \"T_CVol\",, \"T\"),\"\")","v":5515919},null,{"$f":" IFERROR(O36/RTD(\"cqg.rtd\",,\"StudyData\",A36, \"MA\", \"InputChoice=Vol,MAType=Sim,Period=21\", \"MA\",\"D\",\"-1\",\"all\",,,,\"T\"),\"\")","v":0.76060803966282864},{"$f":"XLF!Q61","v":"https://finance.yahoo.com/quote/MS"}]
[{"$f":"TRIM(XLF!O62)","v":"S.US.ALL"},"News",{"$f":"IFERROR(RTD(\"cqg.rtd\", ,\"ContractData\",A37, \"LongDescription\",, \"T\")&\" (\"&RIGHT(A37,LEN(A37)-5)&\")\",\"\")","v":"Allstate Corporation (ALL)"},null,null,null,null,{"$f":"IFERROR(RTD(\"cqg.rtd\", ,\"ContractData\",A37, \"LastTradeToday\",, \"T\"),\"\")","v":186.58},{"$f":"IFERROR(RTD(\"cqg.rtd\", ,\"ContractData\",A37, \"NetLastTradeToday\",, \"T\"),\"\")","v":-3.66},{"$f":"IFERROR(RTD(\"cqg.rtd\", ,\"ContractData\",A37, \"PerCentNetLastTrade\",, \"T\")/100,\"\")","v":-1.9238856181665265E-2},{"$f":"IFERROR(I37/RTD(\"cqg.rtd\",,\"StudyData\",A37, \"ATR\", \"MaType=Sim,Period=10\", \"ATR\",\"D\",\"-1\",\"ALL\",,,\"FALSE\",\"T\")/100,\"\")","v":-8.3580726193194805E-3},{"$f":"IFERROR(RTD(\"cqg.rtd\", ,\"ContractData\",A37, \"OPen\",, \"T\"),\"\")","v":189.73},{"$f":"IFERROR(RTD(\"cqg.rtd\", ,\"ContractData\", A37, \"HIgh\",, \"T\"),\"\")","v":190.14000000000001},{"$f":"IFERROR(RTD(\"cqg.rtd\", ,\"ContractData\",A37, \"LOw\",, \"T\"),\"\")","v":185.53},{"$f":"IFERROR(RTD(\"cqg.rtd\", ,\"ContractData\",A37, \"T_CVol\",, \"T\"),\"\")","v":1544146},null,{"$f":" IFERROR(O37/RTD(\"cqg.rtd\",,\"StudyData\",A37, \"MA\", \"InputChoice=Vol,MAType=Sim,Period=21\", \"MA\",\"D\",\"-1\",\"all\",,,,\"T\"),\"\")","v":0.89070194432859084},{"$f":"XLF!Q62","v":"https://finance.yahoo.com/quote/ALL"}]
[{"$f":"TRIM(XLF!O63)","v":"S.US.NDAQ"},"News",{"$f":"IFERROR(RTD(\"cqg.rtd\", ,\"ContractData\",A38, \"LongDescription\",, \"T\")&\" (\"&RIGHT(A38,LEN(A38)-5)&\")\",\"\")","v":"Nasdaq, Inc. (NDAQ)"},null,null,null,null,{"$f":"IFERROR(RTD(\"cqg.rtd\", ,\"ContractData\",A38, \"LastTradeToday\",, \"T\"),\"\")","v":81.210000000000008},{"$f":"IFERROR(RTD(\"cqg.rtd\", ,\"ContractData\",A38, \"NetLastTradeToday\",, \"T\"),\"\")","v":-1.61},{"$f":"IFERROR(RTD(\"cqg.rtd\", ,\"ContractData\",A38, \"PerCentNetLastTrade\",, \"T\")/100,\"\")","v":-1.9439748852934074E-2},{"$f":"IFERROR(I38/RTD(\"cqg.rtd\",,\"StudyData\",A38, \"ATR\", \"MaType=Sim,Period=10\", \"ATR\",\"D\",\"-1\",\"ALL\",,,\"FALSE\",\"T\")/100,\"\")","v":-8.759521218715996E-3},{"$f":"IFERROR(RTD(\"cqg.rtd\", ,\"ContractData\",A38, \"OPen\",, \"T\"),\"\")","v":83.01},{"$f":"IFERROR(RTD(\"cqg.rtd\", ,\"ContractData\", A38, \"HIgh\",, \"T\"),\"\")","v":83.93},{"$f":"IFERROR(RTD(\"cqg.rtd\", ,\"ContractData\",A38, \"LOw\",, \"T\"),\"\")","v":81.070000000000007},{"$f":"IFERROR(RTD(\"cqg.rtd\", ,\"ContractData\",A38, \"T_CVol\",, \"T\"),\"\")","v":2883902},null,{"$f":" IFERROR(O38/RTD(\"cqg.rtd\",,\"StudyData\",A38, \"MA\", \"InputChoice=Vol,MAType=Sim,Period=21\", \"MA\",\"D\",\"-1\",\"all\",,,,\"T\"),\"\")","v":1.0083943977095511},{"$f":"XLF!Q63","v":"https://finance.yahoo.com/quote/NDAQ"}]
[{"$f":"TRIM(XLF!O64)","v":"S.US.WFC"},"News",{"$f":"IFERROR(RTD(\"cqg.rtd\", ,\"ContractData\",A39, \"LongDescription\",, \"T\")&\" (\"&RIGHT(A39,LEN(A39)-5)&\")\",\"\")","v":"Wells Fargo & Co New (WFC)"},null,null,null,null,{"$f":"IFERROR(RTD(\"cqg.rtd\", ,\"ContractData\",A39, \"LastTradeToday\",, \"T\"),\"\")","v":79.100000000000009},{"$f":"IFERROR(RTD(\"cqg.rtd\", ,\"ContractData\",A39, \"NetLastTradeToday\",, \"T\"),\"\")","v":-1.57},{"$f":"IFERROR(RTD(\"cqg.rtd\", ,\"ContractData\",A39, \"PerCentNetLastTrade\",, \"T\")/100,\"\")","v":-1.9462005702243709E-2},{"$f":"IFERROR(I39/RTD(\"cqg.rtd\",,\"StudyData\",A39, \"ATR\", \"MaType=Sim,Period=10\", \"ATR\",\"D\",\"-1\",\"ALL\",,,\"FALSE\",\"T\")/100,\"\")","v":-1.1048557353976075E-2},{"$f":"IFERROR(RTD(\"cqg.rtd\", ,\"ContractData\",A39, \"OPen\",, \"T\"),\"\")","v":80.460000000000008},{"$f":"IFERROR(RTD(\"cqg.rtd\", ,\"ContractData\", A39, \"HIgh\",, \"T\"),\"\")","v":80.570000000000007},{"$f":"IFERROR(RTD(\"cqg.rtd\", ,\"ContractData\",A39, \"LOw\",, \"T\"),\"\")","v":78.25},{"$f":"IFERROR(RTD(\"cqg.rtd\", ,\"ContractData\",A39, \"T_CVol\",, \"T\"),\"\")","v":18355126},null,{"$f":" IFERROR(O39/RTD(\"cqg.rtd\",,\"StudyData\",A39, \"MA\", \"InputChoice=Vol,MAType=Sim,Period=21\", \"MA\",\"D\",\"-1\",\"all\",,,,\"T\"),\"\")","v":1.153775017406556},{"$f":"XLF!Q64","v":"https://finance.yahoo.com/quote/WFC"}]
[{"$f":"TRIM(XLF!O65)","v":"S.US.AXP"},"News",{"$f":"IFERROR(RTD(\"cqg.rtd\", ,\"ContractData\",A40, \"LongDescription\",, \"T\")&\" (\"&RIGHT(A40,LEN(A40)-5)&\")\",\"\")","v":"American Express Co (AXP)"},null,null,null,null,{"$f":"IFERROR(RTD(\"cqg.rtd\", ,\"ContractData\",A40, \"LastTradeToday\",, \"T\"),\"\")","v":310.26},{"$f":"IFERROR(RTD(\"cqg.rtd\", ,\"ContractData\",A40, \"NetLastTradeToday\",, \"T\"),\"\")","v":-6.51},{"$f":"IFERROR(RTD(\"cqg.rtd\", ,\"ContractData\",A40, \"PerCentNetLastTrade\",, \"T\")/100,\"\")","v":-2.0551188559522683E-2},{"$f":"IFERROR(I40/RTD(\"cqg.rtd\",,\"StudyData\",A40, \"ATR\", \"MaType=Sim,Period=10\", \"ATR\",\"D\",\"-1\",\"ALL\",,,\"FALSE\",\"T\")/100,\"\")","v":-1.0165521549031855E-2},{"$f":"IFERROR(RTD(\"cqg.rtd\", ,\"ContractData\",A40, \"OPen\",, \"T\"),\"\")","v":318.45},{"$f":"IFERROR(RTD(\"cqg.rtd\", ,\"ContractData\", A40, \"HIgh\",, \"T\"),\"\")","v":318.45},{"$f":"IFERROR(RTD(\"cqg.rtd\", ,\"ContractData\",A40, \"LOw\",, \"T\"),\"\")","v":306.01},{"$f":"IFERROR(RTD(\"cqg.rtd\", ,\"ContractData\",A40, \"T_CVol\",, \"T\"),\"\")","v":3225751},null,{"$f":" IFERROR(O40/RTD(\"cqg.rtd\",,\"StudyData\",A40, \"MA\", \"InputChoice=Vol,MAType=Sim,Period=21\", \"MA\",\"D\",\"-1\",\"all\",,,,\"T\"),\"\")","v":1.2454511581681413},{"$f":"XLF!Q65","v":"https://finance.yahoo.com/quote/AXP"}]
[{"$f":"TRIM(XLF!O66)","v":"S.US.COF"},"News",{"$f":"IFERROR(RTD(\"cqg.rtd\", ,\"ContractData\",A41, \"LongDescription\",, \"T\")&\" (\"&RIGHT(A41,LEN(A41)-5)&\")\",\"\")","v":"Capital One Financl Corp (COF)"},null,null,null,null,{"$f":"IFERROR(RTD(\"cqg.rtd\", ,\"ContractData\",A41, \"LastTradeToday\",, \"T\"),\"\")","v":198.79},{"$f":"IFERROR(RTD(\"cqg.rtd\", ,\"ContractData\",A41, \"NetLastTradeToday\",, \"T\"),\"\")","v":-4.42},{"$f":"IFERROR(RTD(\"cqg.rtd\", ,\"ContractData\",A41, \"PerCentNetLastTrade\",, \"T\")/100,\"\")","v":-2.1750898085724127E-2},{"$f":"IFERROR(I41/RTD(\"cqg.rtd\",,\"StudyData\",A41, \"ATR\", \"MaType=Sim,Period=10\", \"ATR\",\"D\",\"-1\",\"ALL\",,,\"FALSE\",\"T\")/100,\"\")","v":-9.7809249834034072E-3},{"$f":"IFERROR(RTD(\"cqg.rtd\", ,\"ContractData\",A41, \"OPen\",, \"T\"),\"\")","v":203.42000000000002},{"$f":"IFERROR(RTD(\"cqg.rtd\", ,\"ContractData\", A41, \"HIgh\",, \"T\"),\"\")","v":203.6},{"$f":"IFERROR(RTD(\"cqg.rtd\", ,\"ContractData\",A41, \"LOw\",, \"T\"),\"\")","v":197.98000000000002},{"$f":"IFERROR(RTD(\"cqg.rtd\", ,\"ContractData\",A41, \"T_CVol\",, \"T\"),\"\")","v":2595388},null,{"$f":" IFERROR(O41/RTD(\"cqg.rtd\",,\"StudyData\",A41, \"MA\", \"InputChoice=Vol,MAType=Sim,Period=21\", \"MA\",\"D\",\"-1\",\"all\",,,,\"T\"),\"\")","v":0.72094788191793879},{"$f":"XLF!Q66","v":"https://finance.yahoo.com/quote/COF"}]
[{"$f":"TRIM(XLF!O67)","v":"S.US.ACGL"},"News",{"$f":"IFERROR(RTD(\"cqg.rtd\", ,\"ContractData\",A42, \"LongDescription\",, \"T\")&\" (\"&RIGHT(A42,LEN(A42)-5)&\")\",\"\")","v":"Arch Capital Grp Ltd (ACGL)"},null,null,null,null,{"$f":"IFERROR(RTD(\"cqg.rtd\", ,\"ContractData\",A42, \"LastTradeToday\",, \"T\"),\"\")","v":91.460000000000008},{"$f":"IFERROR(RTD(\"cqg.rtd\", ,\"ContractData\",A42, \"NetLastTradeToday\",, \"T\"),\"\")","v":-2.04},{"$f":"IFERROR(RTD(\"cqg.rtd\", ,\"ContractData\",A42, \"PerCentNetLastTrade\",, \"T\")/100,\"\")","v":-2.1818181818181816E-2},{"$f":"IFERROR(I42/RTD(\"cqg.rtd\",,\"StudyData\",A42, \"ATR\", \"MaType=Sim,Period=10\", \"ATR\",\"D\",\"-1\",\"ALL\",,,\"FALSE\",\"T\")/100,\"\")","v":-1.0950080515297906E-2},{"$f":"IFERROR(RTD(\"cqg.rtd\", ,\"ContractData\",A42, \"OPen\",, \"T\"),\"\")","v":93.59},{"$f":"IFERROR(RTD(\"cqg.rtd\", ,\"ContractData\", A42, \"HIgh\",, \"T\"),\"\")","v":93.69},{"$f":"IFERROR(RTD(\"cqg.rtd\", ,\"ContractData\",A42, \"LOw\",, \"T\"),\"\")","v":91.23},{"$f":"IFERROR(RTD(\"cqg.rtd\", ,\"ContractData\",A42, \"T_CVol\",, \"T\"),\"\")","v":1980959},null,{"$f":" IFERROR(O42/RTD(\"cqg.rtd\",,\"StudyData\",A42, \"MA\", \"InputChoice=Vol,MAType=Sim,Period=21\", \"MA\",\"D\",\"-1\",\"all\",,,,\"T\"),\"\")","v":1.0230949132554905},{"$f":"XLF!Q67","v":"https://finance.yahoo.com/quote/ACGL"}]
[{"$f":"TRIM(XLF!O68)","v":"S.US.DFS"},"News",{"$f":"IFERROR(RTD(\"cqg.rtd\", ,\"ContractData\",A43, \"LongDescription\",, \"T\")&\" (\"&RIGHT(A43,LEN(A43)-5)&\")\",\"\")","v":"Discover Financial Services (DFS)"},null,null,null,null,{"$f":"IFERROR(RTD(\"cqg.rtd\", ,\"ContractData\",A43, \"LastTradeToday\",, \"T\"),\"\")","v":195.41},{"$f":"IFERROR(RTD(\"cqg.rtd\", ,\"ContractData\",A43, \"NetLastTradeToday\",, \"T\"),\"\")","v":-4.3600000000000003},{"$f":"IFERROR(RTD(\"cqg.rtd\", ,\"ContractData\",A43, \"PerCentNetLastTrade\",, \"T\")/100,\"\")","v":-2.1825098863693247E-2},{"$f":"IFERROR(I43/RTD(\"cqg.rtd\",,\"StudyData\",A43, \"ATR\", \"MaType=Sim,Period=10\", \"ATR\",\"D\",\"-1\",\"ALL\",,,\"FALSE\",\"T\")/100,\"\")","v":-9.5196506550218347E-3},{"$f":"IFERROR(RTD(\"cqg.rtd\", ,\"ContractData\",A43, \"OPen\",, \"T\"),\"\")","v":199.94},{"$f":"IFERROR(RTD(\"cqg.rtd\", ,\"ContractData\", A43, \"HIgh\",, \"T\"),\"\")","v":200},{"$f":"IFERROR(RTD(\"cqg.rtd\", ,\"ContractData\",A43, \"LOw\",, \"T\"),\"\")","v":194.72},{"$f":"IFERROR(RTD(\"cqg.rtd\", ,\"ContractData\",A43, \"T_CVol\",, \"T\"),\"\")","v":974754},null,{"$f":" IFERROR(O43/RTD(\"cqg.rtd\",,\"StudyData\",A43, \"MA\", \"InputChoice=Vol,MAType=Sim,Period=21\", \"MA\",\"D\",\"-1\",\"all\",,,,\"T\"),\"\")","v":0.62646089447589204},{"$f":"XLF!Q68","v":"https://finance.yahoo.com/quote/DFS"}]
[{"$f":"TRIM(XLF!O69)","v":"S.US.NTRS"},"News",{"$f":"IFERROR(RTD(\"cqg.rtd\", ,\"ContractData\",A44, \"LongDescription\",, \"T\")&\" (\"&RIGHT(A44,LEN(A44)-5)&\")\",\"\")","v":"Northern Trust Corp (NTRS)"},null,null,null,null,{"$f":"IFERROR(RTD(\"cqg.rtd\", ,\"ContractData\",A44, \"LastTradeToday\",, \"T\"),\"\")","v":111},{"$f":"IFERROR(RTD(\"cqg.rtd\", ,\"ContractData\",A44, \"NetLastTradeToday\",, \"T\"),\"\")","v":-2.5100000000000002},{"$f":"IFERROR(RTD(\"cqg.rtd\", ,\"ContractData\",A44, \"PerCentNetLastTrade\",, \"T\")/100,\"\")","v":-2.21125891991895E-2},{"$f":"IFERROR(I44/RTD(\"cqg.rtd\",,\"StudyData\",A44, \"ATR\", \"MaType=Sim,Period=10\", \"ATR\",\"D\",\"-1\",\"ALL\",,,\"FALSE\",\"T\")/100,\"\")","v":-1.3821585903083702E-2},{"$f":"IFERROR(RTD(\"cqg.rtd\", ,\"ContractData\",A44, \"OPen\",, \"T\"),\"\")","v":113.52},{"$f":"IFERROR(RTD(\"cqg.rtd\", ,\"ContractData\", A44, \"HIgh\",, \"T\"),\"\")","v":113.57000000000001},{"$f":"IFERROR(RTD(\"cqg.rtd\", ,\"ContractData\",A44, \"LOw\",, \"T\"),\"\")","v":110.87},{"$f":"IFERROR(RTD(\"cqg.rtd\", ,\"ContractData\",A44, \"T_CVol\",, \"T\"),\"\")","v":947198},null,{"$f":" IFERROR(O44/RTD(\"cqg.rtd\",,\"StudyData\",A44, \"MA\", \"InputChoice=Vol,MAType=Sim,Period=21\", \"MA\",\"D\",\"-1\",\"all\",,,,\"T\"),\"\")","v":0.77677597690879829},{"$f":"XLF!Q69","v":"https://finance.yahoo.com/quote/NTRS"}]
[{"$f":"TRIM(XLF!O70)","v":"S.US.SCHW"},"News",{"$f":"IFERROR(RTD(\"cqg.rtd\", ,\"ContractData\",A45, \"LongDescription\",, \"T\")&\" (\"&RIGHT(A45,LEN(A45)-5)&\")\",\"\")","v":"Charles Schwab Corp (SCHW)"},null,null,null,null,{"$f":"IFERROR(RTD(\"cqg.rtd\", ,\"ContractData\",A45, \"LastTradeToday\",, \"T\"),\"\")","v":81.17},{"$f":"IFERROR(RTD(\"cqg.rtd\", ,\"ContractData\",A45, \"NetLastTradeToday\",, \"T\"),\"\")","v":-2.0100000000000002},{"$f":"IFERROR(RTD(\"cqg.rtd\", ,\"ContractData\",A45, \"PerCentNetLastTrade\",, \"T\")/100,\"\")","v":-2.4164462611204619E-2},{"$f":"IFERROR(I45/RTD(\"cqg.rtd\",,\"StudyData\",A45, \"ATR\", \"MaType=Sim,Period=10\", \"ATR\",\"D\",\"-1\",\"ALL\",,,\"FALSE\",\"T\")/100,\"\")","v":-1.302657161373947E-2},{"$f":"IFERROR(RTD(\"cqg.rtd\", ,\"ContractData\",A45, \"OPen\",, \"T\"),\"\")","v":81.55},{"$f":"IFERROR(RTD(\"cqg.rtd\", ,\"ContractData\", A45, \"HIgh\",, \"T\"),\"\")","v":81.760000000000005},{"$f":"IFERROR(RTD(\"cqg.rtd\", ,\"ContractData\",A45, \"LOw\",, \"T\"),\"\")","v":80.260000000000005},{"$f":"IFERROR(RTD(\"cqg.rtd\", ,\"ContractData\",A45, \"T_CVol\",, \"T\"),\"\")","v":17729632},null,{"$f":" IFERROR(O45/RTD(\"cqg.rtd\",,\"StudyData\",A45, \"MA\", \"InputChoice=Vol,MAType=Sim,Period=21\", \"MA\",\"D\",\"-1\",\"all\",,,,\"T\"),\"\")","v":2.0879532957666664},{"$f":"XLF!Q70","v":"https://finance.yahoo.com/quote/SCHW"}]
[{"$f":"TRIM(XLF!O71)","v":"S.US.MKTX"},"News",{"$f":"IFERROR(RTD(\"cqg.rtd\", ,\"ContractData\",A46, \"LongDescription\",, \"T\")&\" (\"&RIGHT(A46,LEN(A46)-5)&\")\",\"\")","v":"MarketAxcess Inc (MKTX)"},null,null,null,null,{"$f":"IFERROR(RTD(\"cqg.rtd\", ,\"ContractData\",A46, \"LastTradeToday\",, \"T\"),\"\")","v":196.20000000000002},{"$f":"IFERROR(RTD(\"cqg.rtd\", ,\"ContractData\",A46, \"NetLastTradeToday\",, \"T\"),\"\")","v":-5.17},{"$f":"IFERROR(RTD(\"cqg.rtd\", ,\"ContractData\",A46, \"PerCentNetLastTrade\",, \"T\")/100,\"\")","v":-2.5674132194467892E-2},{"$f":"IFERROR(I46/RTD(\"cqg.rtd\",,\"StudyData\",A46, \"ATR\", \"MaType=Sim,Period=10\", \"ATR\",\"D\",\"-1\",\"ALL\",,,\"FALSE\",\"T\")/100,\"\")","v":-7.2025633881303988E-3},{"$f":"IFERROR(RTD(\"cqg.rtd\", ,\"ContractData\",A46, \"OPen\",, \"T\"),\"\")","v":201.13},{"$f":"IFERROR(RTD(\"cqg.rtd\", ,\"ContractData\", A46, \"HIgh\",, \"T\"),\"\")","v":202.54},{"$f":"IFERROR(RTD(\"cqg.rtd\", ,\"ContractData\",A46, \"LOw\",, \"T\"),\"\")","v":196.04},{"$f":"IFERROR(RTD(\"cqg.rtd\", ,\"ContractData\",A46, \"T_CVol\",, \"T\"),\"\")","v":591613},null,{"$f":" IFERROR(O46/RTD(\"cqg.rtd\",,\"StudyData\",A46, \"MA\", \"InputChoice=Vol,MAType=Sim,Period=21\", \"MA\",\"D\",\"-1\",\"all\",,,,\"T\"),\"\")","v":1.1058130813221514},{"$f":"XLF!Q71","v":"https://finance.yahoo.com/quote/MKTX"}]
[{"$f":"TRIM(XLF!O72)","v":"S.US.SYF"},"News",{"$f":"IFERROR(RTD(\"cqg.rtd\", ,\"ContractData\",A47, \"LongDescription\",, \"T\")&\" (\"&RIGHT(A47,LEN(A47)-5)&\")\",\"\")","v":"Synchrony Financial (SYF)"},null,null,null,null,{"$f":"IFERROR(RTD(\"cqg.rtd\", ,\"ContractData\",A47, \"LastTradeToday\",, \"T\"),\"\")","v":65.52},{"$f":"IFERROR(RTD(\"cqg.rtd\", ,\"ContractData\",A47, \"NetLastTradeToday\",, \"T\"),\"\")","v":-1.97},{"$f":"IFERROR(RTD(\"cqg.rtd\", ,\"ContractData\",A47, \"PerCentNetLastTrade\",, \"T\")/100,\"\")","v":-2.9189509556971402E-2},{"$f":"IFERROR(I47/RTD(\"cqg.rtd\",,\"StudyData\",A47, \"ATR\", \"MaType=Sim,Period=10\", \"ATR\",\"D\",\"-1\",\"ALL\",,,\"FALSE\",\"T\")/100,\"\")","v":-7.9821717990275539E-3},{"$f":"IFERROR(RTD(\"cqg.rtd\", ,\"ContractData\",A47, \"OPen\",, \"T\"),\"\")","v":68.05},{"$f":"IFERROR(RTD(\"cqg.rtd\", ,\"ContractData\", A47, \"HIgh\",, \"T\"),\"\")","v":68.05},{"$f":"IFERROR(RTD(\"cqg.rtd\", ,\"ContractData\",A47, \"LOw\",, \"T\"),\"\")","v":64.61},{"$f":"IFERROR(RTD(\"cqg.rtd\", ,\"ContractData\",A47, \"T_CVol\",, \"T\"),\"\")","v":5396059},null,{"$f":" IFERROR(O47/RTD(\"cqg.rtd\",,\"StudyData\",A47, \"MA\", \"InputChoice=Vol,MAType=Sim,Period=21\", \"MA\",\"D\",\"-1\",\"all\",,,,\"T\"),\"\")","v":1.4107634812958403},{"$f":"XLF!Q72","v":"https://finance.yahoo.com/quote/SYF"}]
[{"$f":"TRIM(XLF!O73)","v":"S.US.RJF"},"News",{"$f":"IFERROR(RTD(\"cqg.rtd\", ,\"ContractData\",A48, \"LongDescription\",, \"T\")&\" (\"&RIGHT(A48,LEN(A48)-5)&\")\",\"\")","v":"Raymond James Fincl Inc (RJF)"},null,null,null,null,{"$f":"IFERROR(RTD(\"cqg.rtd\", ,\"ContractData\",A48, \"LastTradeToday\",, \"T\"),\"\")","v":162.42000000000002},{"$f":"IFERROR(RTD(\"cqg.rtd\", ,\"ContractData\",A48, \"NetLastTradeToday\",, \"T\"),\"\")","v":-5.01},{"$f":"IFERROR(RTD(\"cqg.rtd\", ,\"ContractData\",A48, \"PerCentNetLastTrade\",, \"T\")/100,\"\")","v":-2.9922952875828704E-2},{"$f":"IFERROR(I48/RTD(\"cqg.rtd\",,\"StudyData\",A48, \"ATR\", \"MaType=Sim,Period=10\", \"ATR\",\"D\",\"-1\",\"ALL\",,,\"FALSE\",\"T\")/100,\"\")","v":-1.0960402537737913E-2},{"$f":"IFERROR(RTD(\"cqg.rtd\", ,\"ContractData\",A48, \"OPen\",, \"T\"),\"\")","v":167.58},{"$f":"IFERROR(RTD(\"cqg.rtd\", ,\"ContractData\", A48, \"HIgh\",, \"T\"),\"\")","v":167.72},{"$f":"IFERROR(RTD(\"cqg.rtd\", ,\"ContractData\",A48, \"LOw\",, \"T\"),\"\")","v":161.42000000000002},{"$f":"IFERROR(RTD(\"cqg.rtd\", ,\"ContractData\",A48, \"T_CVol\",, \"T\"),\"\")","v":1423326},null,{"$f":" IFERROR(O48/RTD(\"cqg.rtd\",,\"StudyData\",A48, \"MA\", \"InputChoice=Vol,MAType=Sim,Period=21\", \"MA\",\"D\",\"-1\",\"all\",,,,\"T\"),\"\")","v":1.0739897985175411},{"$f":"XLF!Q73","v":"https://finance.yahoo.com/quote/RJF"}]
[null,"CQG Inc., Copyright © 2025",null,null,"Designed by Thom Hartle",null,null,"Links to finance.yahoo.com",null,null,null,"Standard & Poor's®, S&P® and SPDR® are registered trademarks of Standard & Poor’s Financial Services LLC.",null,null,null,null,null,null,null,null,null,null,null,null,null,{"$f":"XLF!AB170","v":0.17808219178082191},"of the stocks in the ETF are higher today"]

{"sheet":"XLF","index":1,"n_rows":170,"n_cols":32,"rows_kept":170,"cut":false,"hidden":true,"merged":[]}
[{"$f":"RTD(\"cqg.rtd\", ,\"ContractData\",C1, \"LongDescription\",, \"T\")","v":"Arch Capital Grp Ltd"},"S.US.ACGL","S.US.ACGL",{"$f":"RTD(\"cqg.rtd\", ,\"ContractData\",C1, \"LongDescription\",, \"T\")","v":"Arch Capital Grp Ltd"},{"$f":"RTD(\"cqg.rtd\", ,\"ContractData\",C1, \"Open\",, \"T\")","v":93.59},{"$f":"RTD(\"cqg.rtd\", ,\"ContractData\",C1, \"High\",, \"T\")","v":93.69},{"$f":"RTD(\"cqg.rtd\", ,\"ContractData\",C1, \"Low\",, \"T\")","v":91.23},{"$f":"RTD(\"cqg.rtd\", ,\"ContractData\",C1, \"LastTradeToday\",, \"T\")","v":91.460000000000008},{"$f":"RTD(\"cqg.rtd\", ,\"ContractData\",C1, \"NetLastTradeToday\",, \"T\")","v":-2.04},{"$f":"IFERROR(RTD(\"cqg.rtd\", ,\"ContractData\",C1, \"PerCentNetLastTrade\",, \"T\")/100,0)","v":-2.1818181818181816E-2},{"$f":"RTD(\"cqg.rtd\", ,\"ContractData\", C1, \"T_CVol\",, \"T\")","v":1980959},1,{"$f":"RANK($J1,$J$1:J$73)+COUNTIF($J$1:J1,J1)-1","v":67},{"$f":"C1","v":"S.US.ACGL"},{"$f":"VLOOKUP($L1,$M$1:$N$73,2,FALSE)","v":"S.US.PFG"},{"$f":"RTD(\"cqg.rtd\", ,\"ContractData\",O1, \"PerCentNetLastTrade\",, \"T\")/100","v":2.4899793513907444E-2},{"$f":"\"https://finance.yahoo.com/quote/\"&RIGHT(O1,(LEN(O1)-5))","v":"https://finance.yahoo.com/quote/PFG"},null,{"$f":"IF(P1>=0,P1,NA())","v":2.4899793513907444E-2},{"$f":"IF(P1>=0,NA(),-1*P1)","v":{"$error":"#N/A"}},null,{"$f":"IFERROR(RTD(\"cqg.rtd\", ,\"ContractData\",O1, \"LongDescription\",, \"T\"),\"\")","v":"Principal Financial Group"},null,null,{"$f":"IFERROR(S1,P1)","v":2.4899793513907444E-2},null,{"$f":"IF(S1=\"NA()\",0,1)","v":1},{"$f":"IFERROR(AA1,0)","v":1},null,{"$f":"IFERROR(S1,\"\")","v":2.4899793513907444E-2},{"$f":"IFERROR(T1,\"\")","v":""},{"$f":"IF(AE1=\"\",\"\",Y1)","v":""}]
[{"$f":"RTD(\"cqg.rtd\", ,\"ContractData\",C2, \"LongDescription\",, \"T\")","v":"AFLAC Inc"},"S.US.AFL","S.US.AFL",{"$f":"RTD(\"cqg.rtd\", ,\"ContractData\",C2, \"LongDescription\",, \"T\")","v":"AFLAC Inc"},{"$f":"RTD(\"cqg.rtd\", ,\"ContractData\",C2, \"Open\",, \"T\")","v":103.48},{"$f":"RTD(\"cqg.rtd\", ,\"ContractData\",C2, \"High\",, \"T\")","v":103.81},{"$f":"RTD(\"cqg.rtd\", ,\"ContractData\",C2, \"Low\",, \"T\")","v":102.45},{"$f":"RTD(\"cqg.rtd\", ,\"ContractData\",C2, \"LastTradeToday\",, \"T\")","v":102.61},{"$f":"RTD(\"cqg.rtd\", ,\"ContractData\",C2, \"NetLastTradeToday\",, \"T\")","v":-0.97},{"$f":"IFERROR(RTD(\"cqg.rtd\", ,\"ContractData\",C2, \"PerCentNetLastTrade\",, \"T\")/100,0)","v":-9.3647422282293873E-3},{"$f":"RTD(\"cqg.rtd\", ,\"ContractData\", C2, \"T_CVol\",, \"T\")","v":1955554},{"$f":"L1+1","v":2},{"$f":"RANK($J2,$J$1:J$73)+COUNTIF($J$1:J2,J2)-1","v":31},"S.US.AFL",{"$f":"VLOOKUP($L2,$M$1:$N$73,2,FALSE)","v":"S.US.PYPL"},{"$f":"RTD(\"cqg.rtd\", ,\"ContractData\",O2, \"PerCentNetLastTrade\",, \"T\")/100","v":1.2029491656965463E-2},{"$f":"\"https://finance.yahoo.com/quote/\"&RIGHT(O2,(LEN(O2)-5))","v":"https://finance.yahoo.com/quote/PYPL"},null,{"$f":"IF(P2>=0,P2,NA())","v":1.2029491656965463E-2},{"$f":"IF(P2>=0,NA(),-1*P2)","v":{"$error":"#N/A"}},null,{"$f":"IFERROR(RTD(\"cqg.rtd\", ,\"ContractData\",O2, \"LongDescription\",, \"T\"),\"\")","v":"PayPal Holdings, Inc."},null,null,{"$f":"IFERROR(S2,P2)","v":1.2029491656965463E-2},null,{"$f":"IF(S2=\"NA()\",0,1)","v":1},{"$f":"IFERROR(AA2,0)","v":1},null,{"$f":"IFERROR(S2,\"\")","v":1.2029491656965463E-2},"",{"$f":"IF(AE2=\"\",\"\",Y2)","v":""}]
[{"$f":"RTD(\"cqg.rtd\", ,\"ContractData\",C3, \"LongDescription\",, \"T\")","v":"American Intl Group Inc"},"S.US.AIG","S.US.AIG",{"$f":"RTD(\"cqg.rtd\", ,\"ContractData\",C3, \"LongDescription\",, \"T\")","v":"American Intl Group Inc"},{"$f":"RTD(\"cqg.rtd\", ,\"ContractData\",C3, \"Open\",, \"T\")","v":74.81},{"$f":"RTD(\"cqg.rtd\", ,\"ContractData\",C3, \"High\",, \"T\")","v":75.430000000000007},{"$f":"RTD(\"cqg.rtd\", ,\"ContractData\",C3, \"Low\",, \"T\")","v":74.7},{"$f":"RTD(\"cqg.rtd\", ,\"ContractData\",C3, \"LastTradeToday\",, \"T\")","v":75.09},{"$f":"RTD(\"cqg.rtd\", ,\"ContractData\",C3, \"NetLastTradeToday\",, \"T\")","v":0.4},{"$f":"IFERROR(RTD(\"cqg.rtd\", ,\"ContractData\",C3, \"PerCentNetLastTrade\",, \"T\")/100,0)","v":5.3554692729950457E-3},{"$f":"RTD(\"cqg.rtd\", ,\"ContractData\", C3, \"T_CVol\",, \"T\")","v":3839529},{"$f":"L2+1","v":3},{"$f":"RANK($J3,$J$1:J$73)+COUNTIF($J$1:J3,J3)-1","v":6},"S.US.AIG","S.US.V",{"$f":"RTD(\"cqg.rtd\", ,\"ContractData\",O3, \"PerCentNetLastTrade\",, \"T\")/100","v":9.2236078386299641E-3},"https://finance.yahoo.com/quote/V",null,9.2236078386299641E-3,{"$error":"#N/A"},null,{"$f":"IFERROR(RTD(\"cqg.rtd\", ,\"ContractData\",O3, \"LongDescription\",, \"T\"),\"\")","v":"Visa Inc."},null,null,9.2236078386299641E-3,null,1,1,null,9.2236078386299641E-3,"",""]
[{"$f":"RTD(\"cqg.rtd\", ,\"ContractData\",C4, \"LongDescription\",, \"T\")","v":"Assurant Inc"},"S.US.AIZ","S.US.AIZ",{"$f":"RTD(\"cqg.rtd\", ,\"ContractData\",C4, \"LongDescription\",, \"T\")","v":"Assurant Inc"},{"$f":"RTD(\"cqg.rtd\", ,\"ContractData\",C4, \"Open\",, \"T\")","v":215.43},{"$f":"RTD(\"cqg.rtd\", ,\"ContractData\",C4, \"High\",, \"T\")","v":215.43},{"$f":"RTD(\"cqg.rtd\", ,\"ContractData\",C4, \"Low\",, \"T\")","v":212.29},{"$f":"RTD(\"cqg.rtd\", ,\"ContractData\",C4, \"LastTradeToday\",, \"T\")","v":212.53},{"$f":"RTD(\"cqg.rtd\", ,\"ContractData\",C4, \"NetLastTradeToday\",, \"T\")","v":-2.63},{"$f":"IFERROR(RTD(\"cqg.rtd\", ,\"ContractData\",C4, \"PerCentNetLastTrade\",, \"T\")/100,0)","v":-1.2223461609964676E-2},{"$f":"RTD(\"cqg.rtd\", ,\"ContractData\", C4, \"T_CVol\",, \"T\")","v":459431},4,{"$f":"RANK($J4,$J$1:J$73)+COUNTIF($J$1:J4,J4)-1","v":44},"S.US.AIZ","S.US.MSCI",{"$f":"RTD(\"cqg.rtd\", ,\"ContractData\",O4, \"PerCentNetLastTrade\",, \"T\")/100","v":7.0591484147120246E-3},"https://finance.yahoo.com/quote/MSCI",null,7.0591484147120246E-3,{"$error":"#N/A"},null,{"$f":"IFERROR(RTD(\"cqg.rtd\", ,\"ContractData\",O4, \"LongDescription\",, \"T\"),\"\")","v":"MSCI, Inc."},null,null,7.0591484147120246E-3,null,1,1,null,7.0591484147120246E-3,"",""]
[{"$f":"RTD(\"cqg.rtd\", ,\"ContractData\",C5, \"LongDescription\",, \"T\")","v":"Arthur J Gallagher Co"},"S.US.AJG","S.US.AJG",{"$f":"RTD(\"cqg.rtd\", ,\"ContractData\",C5, \"LongDescription\",, \"T\")","v":"Arthur J Gallagher Co"},{"$f":"RTD(\"cqg.rtd\", ,\"ContractData\",C5, \"Open\",, \"T\")","v":322.07},{"$f":"RTD(\"cqg.rtd\", ,\"ContractData\",C5, \"High\",, \"T\")","v":324.79000000000002},{"$f":"RTD(\"cqg.rtd\", ,\"ContractData\",C5, \"Low\",, \"T\")","v":319.81},{"$f":"RTD(\"cqg.rtd\", ,\"ContractData\",C5, \"LastTradeToday\",, \"T\")","v":324.29000000000002},{"$f":"RTD(\"cqg.rtd\", ,\"ContractData\",C5, \"NetLastTradeToday\",, \"T\")","v":1.96},{"$f":"IFERROR(RTD(\"cqg.rtd\", ,\"ContractData\",C5, \"PerCentNetLastTrade\",, \"T\")/100,0)","v":6.0807247231098559E-3},{"$f":"RTD(\"cqg.rtd\", ,\"ContractData\", C5, \"T_CVol\",, \"T\")","v":1573138},5,{"$f":"RANK($J5,$J$1:J$73)+COUNTIF($J$1:J5,J5)-1","v":5},"S.US.AJG","S.US.AJG",{"$f":"RTD(\"cqg.rtd\", ,\"ContractData\",O5, \"PerCentNetLastTrade\",, \"T\")/100","v":6.0807247231098559E-3},"https://finance.yahoo.com/quote/AJG",null,6.0807247231098559E-3,{"$error":"#N/A"},null,{"$f":"IFERROR(RTD(\"cqg.rtd\", ,\"ContractData\",O5, \"LongDescription\",, \"T\"),\"\")","v":"Arthur J Gallagher Co"},null,null,6.0807247231098559E-3,null,1,1,null,6.0807247231098559E-3,"",""]
[{"$f":"RTD(\"cqg.rtd\", ,\"ContractData\",C6, \"LongDescription\",, \"T\")","v":"Allstate Corporation"},"S.US.ALL","S.US.ALL",{"$f":"RTD(\"cqg.rtd\", ,\"ContractData\",C6, \"LongDescription\",, \"T\")","v":"Allstate Corporation"},{"$f":"RTD(\"cqg.rtd\", ,\"ContractData\",C6, \"Open\",, \"T\")","v":189.73},{"$f":"RTD(\"cqg.rtd\", ,\"ContractData\",C6, \"High\",, \"T\")","v":190.14000000000001},{"$f":"RTD(\"cqg.rtd\", ,\"ContractData\",C6, \"Low\",, \"T\")","v":185.53},{"$f":"RTD(\"cqg.rtd\", ,\"ContractData\",C6, \"LastTradeToday\",, \"T\")","v":186.58},{"$f":"RTD(\"cqg.rtd\", ,\"ContractData\",C6, \"NetLastTradeToday\",, \"T\")","v":-3.66},{"$f":"IFERROR(RTD(\"cqg.rtd\", ,\"ContractData\",C6, \"PerCentNetLastTrade\",, \"T\")/100,0)","v":-1.9238856181665265E-2},{"$f":"RTD(\"cqg.rtd\", ,\"ContractData\", C6, \"T_CVol\",, \"T\")","v":1544146},6,{"$f":"RANK($J6,$J$1:J$73)+COUNTIF($J$1:J6,J6)-1","v":62},"S.US.ALL","S.US.AIG",{"$f":"RTD(\"cqg.rtd\", ,\"ContractData\",O6, \"PerCentNetLastTrade\",, \"T\")/100","v":5.3554692729950457E-3},"https://finance.yahoo.com/quote/AIG",null,5.3554692729950457E-3,{"$error":"#N/A"},null,{"$f":"IFERROR(RTD(\"cqg.rtd\", ,\"ContractData\",O6, \"LongDescription\",, \"T\"),\"\")","v":"American Intl Group Inc"},null,null,5.3554692729950457E-3,null,1,1,null,5.3554692729950457E-3,"",""]
[{"$f":"RTD(\"cqg.rtd\", ,\"ContractData\",C7, \"LongDescription\",, \"T\")","v":"Ameriprise Financial Inc"},"S.US.AMP","S.US.AMP",{"$f":"RTD(\"cqg.rtd\", ,\"ContractData\",C7, \"LongDescription\",, \"T\")","v":"Ameriprise Financial Inc"},{"$f":"RTD(\"cqg.rtd\", ,\"ContractData\",C7, \"Open\",, \"T\")","v":538.91},{"$f":"RTD(\"cqg.rtd\", ,\"ContractData\",C7, \"High\",, \"T\")","v":539.83000000000004},{"$f":"RTD(\"cqg.rtd\", ,\"ContractData\",C7, \"Low\",, \"T\")","v":522.41999999999996},{"$f":"RTD(\"cqg.rtd\", ,\"ContractData\",C7, \"LastTradeToday\",, \"T\")","v":529.18000000000006},{"$f":"RTD(\"cqg.rtd\", ,\"ContractData\",C7, \"NetLastTradeToday\",, \"T\")","v":-9.42},{"$f":"IFERROR(RTD(\"cqg.rtd\", ,\"ContractData\",C7, \"PerCentNetLastTrade\",, \"T\")/100,0)","v":-1.7489788340141105E-2},{"$f":"RTD(\"cqg.rtd\", ,\"ContractData\", C7, \"T_CVol\",, \"T\")","v":613741},7,{"$f":"RANK($J7,$J$1:J$73)+COUNTIF($J$1:J7,J7)-1","v":58},"S.US.AMP","S.US.MA",{"$f":"RTD(\"cqg.rtd\", ,\"ContractData\",O7, \"PerCentNetLastTrade\",, \"T\")/100","v":4.8689471346068415E-3},"https://finance.yahoo.com/quote/MA",null,4.8689471346068415E-3,{"$error":"#N/A"},null,{"$f":"IFERROR(RTD(\"cqg.rtd\", ,\"ContractData\",O7, \"LongDescription\",, \"T\"),\"\")","v":"Mastercard Inc."},null,null,4.8689471346068415E-3,null,1,1,null,4.8689471346068415E-3,"",""]
[{"$f":"RTD(\"cqg.rtd\", ,\"ContractData\",C8, \"LongDescription\",, \"T\")","v":"AON Corporation"},"S.US.AON","S.US.AON",{"$f":"RTD(\"cqg.rtd\", ,\"ContractData\",C8, \"LongDescription\",, \"T\")","v":"AON Corporation"},{"$f":"RTD(\"cqg.rtd\", ,\"ContractData\",C8, \"Open\",, \"T\")","v":386.36},{"$f":"RTD(\"cqg.rtd\", ,\"ContractData\",C8, \"High\",, \"T\")","v":387},{"$f":"RTD(\"cqg.rtd\", ,\"ContractData\",C8, \"Low\",, \"T\")","v":383.12},{"$f":"RTD(\"cqg.rtd\", ,\"ContractData\",C8, \"LastTradeToday\",, \"T\")","v":385.6},{"$f":"RTD(\"cqg.rtd\", ,\"ContractData\",C8, \"NetLastTradeToday\",, \"T\")","v":-0.91},{"$f":"IFERROR(RTD(\"cqg.rtd\", ,\"ContractData\",C8, \"PerCentNetLastTrade\",, \"T\")/100,0)","v":-2.3544022146904349E-3},{"$f":"RTD(\"cqg.rtd\", ,\"ContractData\", C8, \"T_CVol\",, \"T\")","v":686358},8,{"$f":"RANK($J8,$J$1:J$73)+COUNTIF($J$1:J8,J8)-1","v":17},"S.US.AON","S.US.BRO",{"$f":"(RTD(\"cqg.rtd\",,\"ContractData\",O8,\"LastTradeToday\",,\"T\")-RTD(\"cqg.rtd\",,\"ContractData\",O8,\"Y_Close\",,\"T\"))/RTD(\"cqg.rtd\",,\"ContractData\",O8,\"Y_Close\",,\"T\")","v":3.03923374470435E-3},"https://finance.yahoo.com/quote/BRO",null,3.03923374470435E-3,{"$error":"#N/A"},null,{"$f":"IFERROR(RTD(\"cqg.rtd\", ,\"ContractData\",O8, \"LongDescription\",, \"T\"),\"\")","v":"BROWN AND BROWN INC"},null,null,3.03923374470435E-3,null,1,1,null,3.03923374470435E-3,"",""]
[{"$f":"RTD(\"cqg.rtd\", ,\"ContractData\",C9, \"LongDescription\",, \"T\")","v":"Apollo Global Management, LLC"},"S.US.APO","S.US.APO",{"$f":"RTD(\"cqg.rtd\", ,\"ContractData\",C9, \"LongDescription\",, \"T\")","v":"Apollo Global Management, LLC"},{"$f":"RTD(\"cqg.rtd\", ,\"ContractData\",C9, \"Open\",, \"T\")","v":164.49},{"$f":"RTD(\"cqg.rtd\", ,\"ContractData\",C9, \"High\",, \"T\")","v":164.76},{"$f":"RTD(\"cqg.rtd\", ,\"ContractData\",C9, \"Low\",, \"T\")","v":160.79},{"$f":"RTD(\"cqg.rtd\", ,\"ContractData\",C9, \"LastTradeToday\",, \"T\")","v":162.17000000000002},{"$f":"RTD(\"cqg.rtd\", ,\"ContractData\",C9, \"NetLastTradeToday\",, \"T\")","v":-1.28},{"$f":"IFERROR(RTD(\"cqg.rtd\", ,\"ContractData\",C9, \"PerCentNetLastTrade\",, \"T\")/100,0)","v":-7.8311410217191801E-3},{"$f":"RTD(\"cqg.rtd\", ,\"ContractData\", C9, \"T_CVol\",, \"T\")","v":2165151},9,{"$f":"RANK($J9,$J$1:J$73)+COUNTIF($J$1:J9,J9)-1","v":27},"S.US.APO","S.US.MMC",{"$f":"RTD(\"cqg.rtd\", ,\"ContractData\",O9, \"PerCentNetLastTrade\",, \"T\")/100","v":2.8583992963940193E-3},"https://finance.yahoo.com/quote/MMC",null,2.8583992963940193E-3,{"$error":"#N/A"},null,{"$f":"IFERROR(RTD(\"cqg.rtd\", ,\"ContractData\",O9, \"LongDescription\",, \"T\"),\"\")","v":"Marsh & McLennan Cos Inc"},null,null,2.8583992963940193E-3,null,1,1,null,2.8583992963940193E-3,"",""]
[{"$f":"RTD(\"cqg.rtd\", ,\"ContractData\",C10, \"LongDescription\",, \"T\")","v":"American Express Co"},"S.US.AXP","S.US.AXP",{"$f":"RTD(\"cqg.rtd\", ,\"ContractData\",C10, \"LongDescription\",, \"T\")","v":"American Express Co"},{"$f":"RTD(\"cqg.rtd\", ,\"ContractData\",C10, \"Open\",, \"T\")","v":318.45},{"$f":"RTD(\"cqg.rtd\", ,\"ContractData\",C10, \"High\",, \"T\")","v":318.45},{"$f":"RTD(\"cqg.rtd\", ,\"ContractData\",C10, \"Low\",, \"T\")","v":306.01},{"$f":"RTD(\"cqg.rtd\", ,\"ContractData\",C10, \"LastTradeToday\",, \"T\")","v":310.26},{"$f":"RTD(\"cqg.rtd\", ,\"ContractData\",C10, \"NetLastTradeToday\",, \"T\")","v":-6.51},{"$f":"IFERROR(RTD(\"cqg.rtd\", ,\"ContractData\",C10, \"PerCentNetLastTrade\",, \"T\")/100,0)","v":-2.0551188559522683E-2},{"$f":"RTD(\"cqg.rtd\", ,\"ContractData\", C10, \"T_CVol\",, \"T\")","v":3225751},10,{"$f":"RANK($J10,$J$1:J$73)+COUNTIF($J$1:J10,J10)-1","v":65},"S.US.AXP","S.US.FI",{"$f":"RTD(\"cqg.rtd\", ,\"ContractData\",O10, \"PerCentNetLastTrade\",, \"T\")/100","v":2.5645483786838215E-3},"https://finance.yahoo.com/quote/FI",null,2.5645483786838215E-3,{"$error":"#N/A"},null,{"$f":"IFERROR(RTD(\"cqg.rtd\", ,\"ContractData\",O10, \"LongDescription\",, \"T\"),\"\")","v":"Fiserv, Inc."},null,null,2.5645483786838215E-3,null,1,1,null,2.5645483786838215E-3,"",""]
[{"$f":"RTD(\"cqg.rtd\", ,\"ContractData\",C11, \"LongDescription\",, \"T\")","v":"Bank of America Corp"},"S.US.BAC","S.US.BAC",{"$f":"RTD(\"cqg.rtd\", ,\"ContractData\",C11, \"LongDescription\",, \"T\")","v":"Bank of America Corp"},{"$f":"RTD(\"cqg.rtd\", ,\"ContractData\",C11, \"Open\",, \"T\")","v":47.480000000000004},{"$f":"RTD(\"cqg.rtd\", ,\"ContractData\",C11, \"High\",, \"T\")","v":47.550000000000004},{"$f":"RTD(\"cqg.rtd\", ,\"ContractData\",C11, \"Low\",, \"T\")","v":46.4},{"$f":"RTD(\"cqg.rtd\", ,\"ContractData\",C11, \"LastTradeToday\",, \"T\")","v":46.67},{"$f":"RTD(\"cqg.rtd\", ,\"ContractData\",C11, \"NetLastTradeToday\",, \"T\")","v":-0.73},{"$f":"IFERROR(RTD(\"cqg.rtd\", ,\"ContractData\",C11, \"PerCentNetLastTrade\",, \"T\")/100,0)","v":-1.540084388185654E-2},{"$f":"RTD(\"cqg.rtd\", ,\"ContractData\", C11, \"T_CVol\",, \"T\")","v":26720525},11,{"$f":"RANK($J11,$J$1:J$73)+COUNTIF($J$1:J11,J11)-1","v":54},"S.US.BAC","S.US.MCO",{"$f":"RTD(\"cqg.rtd\", ,\"ContractData\",O11, \"PerCentNetLastTrade\",, \"T\")/100","v":1.8478044903636002E-3},"https://finance.yahoo.com/quote/MCO",null,1.8478044903636002E-3,{"$error":"#N/A"},null,{"$f":"IFERROR(RTD(\"cqg.rtd\", ,\"ContractData\",O11, \"LongDescription\",, \"T\"),\"\")","v":"Moodys Corp"},null,null,1.8478044903636002E-3,null,1,1,null,1.8478044903636002E-3,"",""]
[{"$f":"RTD(\"cqg.rtd\", ,\"ContractData\",C12, \"LongDescription\",, \"T\")","v":"Franklin Resources Inc"},"S.US.BEN","S.US.BEN",{"$f":"RTD(\"cqg.rtd\", ,\"ContractData\",C12, \"LongDescription\",, \"T\")","v":"Franklin Resources Inc"},{"$f":"RTD(\"cqg.rtd\", ,\"ContractData\",C12, \"Open\",, \"T\")","v":20.5},{"$f":"RTD(\"cqg.rtd\", ,\"ContractData\",C12, \"High\",, \"T\")","v":20.56},{"$f":"RTD(\"cqg.rtd\", ,\"ContractData\",C12, \"Low\",, \"T\")","v":20.21},{"$f":"RTD(\"cqg.rtd\", ,\"ContractData\",C12, \"LastTradeToday\",, \"T\")","v":20.27},{"$f":"RTD(\"cqg.rtd\", ,\"ContractData\",C12, \"NetLastTradeToday\",, \"T\")","v":-0.16},{"$f":"IFERROR(RTD(\"cqg.rtd\", ,\"ContractData\",C12, \"PerCentNetLastTrade\",, \"T\")/100,0)","v":-7.8316201664219293E-3},{"$f":"RTD(\"cqg.rtd\", ,\"ContractData\", C12, \"T_CVol\",, \"T\")","v":2941233},12,{"$f":"RANK($J12,$J$1:J$73)+COUNTIF($J$1:J12,J12)-1","v":28},"S.US.BEN","S.US.ICE",{"$f":"RTD(\"cqg.rtd\", ,\"ContractData\",O12, \"PerCentNetLastTrade\",, \"T\")/100","v":1.7382964694599293E-3},"https://finance.yahoo.com/quote/ICE",null,1.7382964694599293E-3,{"$error":"#N/A"},null,{"$f":"IFERROR(RTD(\"cqg.rtd\", ,\"ContractData\",O12, \"LongDescription\",, \"T\"),\"\")","v":"Intercontinental, Inc."},null,null,1.7382964694599293E-3,null,1,1,null,1.7382964694599293E-3,"",""]
[{"$f":"RTD(\"cqg.rtd\", ,\"ContractData\",C13, \"LongDescription\",, \"T\")","v":"Bank of New York Co Inc"},"S.US.BK","S.US.BK",{"$f":"RTD(\"cqg.rtd\", ,\"ContractData\",C13, \"LongDescription\",, \"T\")","v":"Bank of New York Co Inc"},{"$f":"RTD(\"cqg.rtd\", ,\"ContractData\",C13, \"Open\",, \"T\")","v":86.15},{"$f":"RTD(\"cqg.rtd\", ,\"ContractData\",C13, \"High\",, \"T\")","v":86.39},{"$f":"RTD(\"cqg.rtd\", ,\"ContractData\",C13, \"Low\",, \"T\")","v":84.68},{"$f":"RTD(\"cqg.rtd\", ,\"ContractData\",C13, \"LastTradeToday\",, \"T\")","v":85.03},{"$f":"RTD(\"cqg.rtd\", ,\"ContractData\",C13, \"NetLastTradeToday\",, \"T\")","v":-1.1200000000000001},{"$f":"IFERROR(RTD(\"cqg.rtd\", ,\"ContractData\",C13, \"PerCentNetLastTrade\",, \"T\")/100,0)","v":-1.3000580383052816E-2},{"$f":"RTD(\"cqg.rtd\", ,\"ContractData\", C13, \"T_CVol\",, \"T\")","v":2446647},13,{"$f":"RANK($J13,$J$1:J$73)+COUNTIF($J$1:J13,J13)-1","v":46},"S.US.BK","S.US.GPN",{"$f":"RTD(\"cqg.rtd\", ,\"ContractData\",O13, \"PerCentNetLastTrade\",, \"T\")/100","v":1.8248175182481751E-4},"https://finance.yahoo.com/quote/GPN",null,1.8248175182481751E-4,{"$error":"#N/A"},null,{"$f":"IFERROR(RTD(\"cqg.rtd\", ,\"ContractData\",O13, \"LongDescription\",, \"T\"),\"\")","v":"Global Payments"},null,null,1.8248175182481751E-4,null,1,1,null,1.8248175182481751E-4,"",""]
[{"$f":"RTD(\"cqg.rtd\", ,\"ContractData\",C14, \"LongDescription\",, \"T\")","v":"BlackRock, Inc."},"S.US.BLK","S.US.BLK",{"$f":"RTD(\"cqg.rtd\", ,\"ContractData\",C14, \"LongDescription\",, \"T\")","v":"BlackRock, Inc."},{"$f":"RTD(\"cqg.rtd\", ,\"ContractData\",C14, \"Open\",, \"T\")","v":995},{"$f":"RTD(\"cqg.rtd\", ,\"ContractData\",C14, \"High\",, \"T\")","v":996.34},{"$f":"RTD(\"cqg.rtd\", ,\"ContractData\",C14, \"Low\",, \"T\")","v":976.78},{"$f":"RTD(\"cqg.rtd\", ,\"ContractData\",C14, \"LastTradeToday\",, \"T\")","v":985.55000000000007},{"$f":"RTD(\"cqg.rtd\", ,\"ContractData\",C14, \"NetLastTradeToday\",, \"T\")","v":-6.49},{"$f":"IFERROR(RTD(\"cqg.rtd\", ,\"ContractData\",C14, \"PerCentNetLastTrade\",, \"T\")/100,0)","v":-6.5420749163340184E-3},{"$f":"RTD(\"cqg.rtd\", ,\"ContractData\", C14, \"T_CVol\",, \"T\")","v":683614},14,{"$f":"RANK($J14,$J$1:J$73)+COUNTIF($J$1:J14,J14)-1","v":23},"S.US.BLK","S.US.JKHY",{"$f":"RTD(\"cqg.rtd\", ,\"ContractData\",O14, \"PerCentNetLastTrade\",, \"T\")/100","v":-8.6301133421552267E-4},"https://finance.yahoo.com/quote/JKHY",null,{"$error":"#N/A"},8.6301133421552267E-4,null,{"$f":"IFERROR(RTD(\"cqg.rtd\", ,\"ContractData\",O14, \"LongDescription\",, \"T\"),\"\")","v":"Jack Henry/Associates Inc"},null,null,-8.6301133421552267E-4,null,{"$error":"#N/A"},0,null,"",8.6301133421552267E-4,-8.6301133421552267E-4]
[{"$f":"RTD(\"cqg.rtd\", ,\"ContractData\",C15, \"LongDescription\",, \"T\")","v":"Berkshire Hathaway Inc. ClsB"},"S.US.BRKB","S.US.BRKB",{"$f":"RTD(\"cqg.rtd\", ,\"ContractData\",C15, \"LongDescription\",, \"T\")","v":"Berkshire Hathaway Inc. ClsB"},{"$f":"RTD(\"cqg.rtd\", ,\"ContractData\",C15, \"Open\",, \"T\")","v":473.96000000000004},{"$f":"RTD(\"cqg.rtd\", ,\"ContractData\",C15, \"High\",, \"T\")","v":474.2},{"$f":"RTD(\"cqg.rtd\", ,\"ContractData\",C15, \"Low\",, \"T\")","v":469.37},{"$f":"RTD(\"cqg.rtd\", ,\"ContractData\",C15, \"LastTradeToday\",, \"T\")","v":470.17},{"$f":"RTD(\"cqg.rtd\", ,\"ContractData\",C15, \"NetLastTradeToday\",, \"T\")","v":-2.57},{"$f":"IFERROR(RTD(\"cqg.rtd\", ,\"ContractData\",C15, \"PerCentNetLastTrade\",, \"T\")/100,0)","v":-5.4363920971358462E-3},{"$f":"RTD(\"cqg.rtd\", ,\"ContractData\", C15, \"T_CVol\",, \"T\")","v":2903539},15,{"$f":"RANK($J15,$J$1:J$73)+COUNTIF($J$1:J15,J15)-1","v":21},"S.US.BRKB","S.US.WTW",{"$f":"RTD(\"cqg.rtd\", ,\"ContractData\",O15, \"PerCentNetLastTrade\",, \"T\")/100","v":-1.872371773228153E-3},"https://finance.yahoo.com/quote/WTW",null,{"$error":"#N/A"},1.872371773228153E-3,null,{"$f":"IFERROR(RTD(\"cqg.rtd\", ,\"ContractData\",O15, \"LongDescription\",, \"T\"),\"\")","v":"Willis Towers Watson"},null,null,-1.872371773228153E-3,null,{"$error":"#N/A"},0,null,"",1.872371773228153E-3,-1.872371773228153E-3]
[{"$f":"RTD(\"cqg.rtd\", ,\"ContractData\",C16, \"LongDescription\",, \"T\")","v":"BROWN AND BROWN INC"},"S.US.BRO","S.US.BRO",{"$f":"RTD(\"cqg.rtd\", ,\"ContractData\",C16, \"LongDescription\",, \"T\")","v":"BROWN AND BROWN INC"},{"$f":"RTD(\"cqg.rtd\", ,\"ContractData\",C16, \"Open\",, \"T\")","v":108.35000000000001},{"$f":"RTD(\"cqg.rtd\", ,\"ContractData\",C16, \"High\",, \"T\")","v":109.15},{"$f":"RTD(\"cqg.rtd\", ,\"ContractData\",C16, \"Low\",, \"T\")","v":107.63},{"$f":"RTD(\"cqg.rtd\", ,\"ContractData\",C16, \"LastTradeToday\",, \"T\")","v":108.91},{"$f":"RTD(\"cqg.rtd\", ,\"ContractData\",C16, \"NetLastTradeToday\",, \"T\")","v":0.33},{"$f":"IFERROR(RTD(\"cqg.rtd\", ,\"ContractData\",C16, \"PerCentNetLastTrade\",, \"T\")/100,0)","v":3.0392337447043656E-3},{"$f":"RTD(\"cqg.rtd\", ,\"ContractData\", C16, \"T_CVol\",, \"T\")","v":2077204},16,{"$f":"RANK($J16,$J$1:J$73)+COUNTIF($J$1:J16,J16)-1","v":8},"S.US.BRO","S.US.CPAY",{"$f":"RTD(\"cqg.rtd\", ,\"ContractData\",O16, \"PerCentNetLastTrade\",, \"T\")/100","v":-1.8890012238599479E-3},"https://finance.yahoo.com/quote/CPAY",null,{"$error":"#N/A"},1.8890012238599479E-3,null,{"$f":"IFERROR(RTD(\"cqg.rtd\", ,\"ContractData\",O16, \"LongDescription\",, \"T\"),\"\")","v":"Corpay, Inc."},null,null,-1.8890012238599479E-3,null,{"$error":"#N/A"},0,null,"",1.8890012238599479E-3,-1.8890012238599479E-3]
[{"$f":"RTD(\"cqg.rtd\", ,\"ContractData\",C17, \"LongDescription\",, \"T\")","v":"Blackstone Inc."},"S.US.BX","S.US.BX",{"$f":"RTD(\"cqg.rtd\", ,\"ContractData\",C17, \"LongDescription\",, \"T\")","v":"Blackstone Inc."},{"$f":"RTD(\"cqg.rtd\", ,\"ContractData\",C17, \"Open\",, \"T\")","v":170.58},{"$f":"RTD(\"cqg.rtd\", ,\"ContractData\",C17, \"High\",, \"T\")","v":172.67000000000002},{"$f":"RTD(\"cqg.rtd\", ,\"ContractData\",C17, \"Low\",, \"T\")","v":166.37},{"$f":"RTD(\"cqg.rtd\", ,\"ContractData\",C17, \"LastTradeToday\",, \"T\")","v":168.61},{"$f":"RTD(\"cqg.rtd\", ,\"ContractData\",C17, \"NetLastTradeToday\",, \"T\")","v":-1.6600000000000001},{"$f":"IFERROR(RTD(\"cqg.rtd\", ,\"ContractData\",C17, \"PerCentNetLastTrade\",, \"T\")/100,0)","v":-9.749221824161625E-3},{"$f":"RTD(\"cqg.rtd\", ,\"ContractData\", C17, \"T_CVol\",, \"T\")","v":2333438},17,{"$f":"RANK($J17,$J$1:J$73)+COUNTIF($J$1:J17,J17)-1","v":33},"S.US.BX","S.US.AON",{"$f":"RTD(\"cqg.rtd\", ,\"ContractData\",O17, \"PerCentNetLastTrade\",, \"T\")/100","v":-2.3544022146904349E-3},"https://finance.yahoo.com/quote/AON",null,{"$error":"#N/A"},2.3544022146904349E-3,null,{"$f":"IFERROR(RTD(\"cqg.rtd\", ,\"ContractData\",O17, \"LongDescription\",, \"T\"),\"\")","v":"AON Corporation"},null,null,-2.3544022146904349E-3,null,{"$error":"#N/A"},0,null,"",2.3544022146904349E-3,-2.3544022146904349E-3]
[{"$f":"RTD(\"cqg.rtd\", ,\"ContractData\",C18, \"LongDescription\",, \"T\")","v":"Citigroup Inc"},"S.US.C","S.US.C",{"$f":"RTD(\"cqg.rtd\", ,\"ContractData\",C18, \"LongDescription\",, \"T\")","v":"Citigroup Inc"},{"$f":"RTD(\"cqg.rtd\", ,\"ContractData\",C18, \"Open\",, \"T\")","v":81.63},{"$f":"RTD(\"cqg.rtd\", ,\"ContractData\",C18, \"High\",, \"T\")","v":81.820000000000007},{"$f":"RTD(\"cqg.rtd\", ,\"ContractData\",C18, \"Low\",, \"T\")","v":80.070000000000007},{"$f":"RTD(\"cqg.rtd\", ,\"ContractData\",C18, \"LastTradeToday\",, \"T\")","v":80.73},{"$f":"RTD(\"cqg.rtd\", ,\"ContractData\",C18, \"NetLastTradeToday\",, \"T\")","v":-0.99},{"$f":"IFERROR(RTD(\"cqg.rtd\", ,\"ContractData\",C18, \"PerCentNetLastTrade\",, \"T\")/100,0)","v":-1.2114537444933921E-2},{"$f":"RTD(\"cqg.rtd\", ,\"ContractData\", C18, \"T_CVol\",, \"T\")","v":10678658},18,{"$f":"RANK($J18,$J$1:J$73)+COUNTIF($J$1:J18,J18)-1","v":43},"S.US.C","S.US.PGR",{"$f":"RTD(\"cqg.rtd\", ,\"ContractData\",O18, \"PerCentNetLastTrade\",, \"T\")/100","v":-3.6312849162011174E-3},"https://finance.yahoo.com/quote/PGR",null,{"$error":"#N/A"},3.6312849162011174E-3,null,{"$f":"IFERROR(RTD(\"cqg.rtd\", ,\"ContractData\",O18, \"LongDescription\",, \"T\"),\"\")","v":"Progressive Corp"},null,null,-3.6312849162011174E-3,null,{"$error":"#N/A"},0,null,"",3.6312849162011174E-3,-3.6312849162011174E-3]
[{"$f":"RTD(\"cqg.rtd\", ,\"ContractData\",C19, \"LongDescription\",, \"T\")","v":"Chubb Limited"},"S.US.CB","S.US.CB",{"$f":"RTD(\"cqg.rtd\", ,\"ContractData\",C19, \"LongDescription\",, \"T\")","v":"Chubb Limited"},{"$f":"RTD(\"cqg.rtd\", ,\"ContractData\",C19, \"Open\",, \"T\")","v":270},{"$f":"RTD(\"cqg.rtd\", ,\"ContractData\",C19, \"High\",, \"T\")","v":270.53000000000003},{"$f":"RTD(\"cqg.rtd\", ,\"ContractData\",C19, \"Low\",, \"T\")","v":266.18},{"$f":"RTD(\"cqg.rtd\", ,\"ContractData\",C19, \"LastTradeToday\",, \"T\")","v":266.58},{"$f":"RTD(\"cqg.rtd\", ,\"ContractData\",C19, \"NetLastTradeToday\",, \"T\")","v":-3.58},{"$f":"IFERROR(RTD(\"cqg.rtd\", ,\"ContractData\",C19, \"PerCentNetLastTrade\",, \"T\")/100,0)","v":-1.3251406573882143E-2},{"$f":"RTD(\"cqg.rtd\", ,\"ContractData\", C19, \"T_CVol\",, \"T\")","v":1836550},19,{"$f":"RANK($J19,$J$1:J$73)+COUNTIF($J$1:J19,J19)-1","v":48},"S.US.CB","S.US.KKR",{"$f":"RTD(\"cqg.rtd\", ,\"ContractData\",O19, \"PerCentNetLastTrade\",, \"T\")/100","v":-4.5757351456833326E-3},"https://finance.yahoo.com/quote/KKR",null,{"$error":"#N/A"},4.5757351456833326E-3,null,{"$f":"IFERROR(RTD(\"cqg.rtd\", ,\"ContractData\",O19, \"LongDescription\",, \"T\"),\"\")","v":"KKR & Co. Inc."},null,null,-4.5757351456833326E-3,null,{"$error":"#N/A"},0,null,"",4.5757351456833326E-3,-4.5757351456833326E-3]
[{"$f":"RTD(\"cqg.rtd\", ,\"ContractData\",C20, \"LongDescription\",, \"T\")","v":"Cboe Global Markets, Inc."},"S.US.CBOE","S.US.CBOE",{"$f":"RTD(\"cqg.rtd\", ,\"ContractData\",C20, \"LongDescription\",, \"T\")","v":"Cboe Global Markets, Inc."},{"$f":"RTD(\"cqg.rtd\", ,\"ContractData\",C20, \"Open\",, \"T\")","v":213.05},{"$f":"RTD(\"cqg.rtd\", ,\"ContractData\",C20, \"High\",, \"T\")","v":216.82},{"$f":"RTD(\"cqg.rtd\", ,\"ContractData\",C20, \"Low\",, \"T\")","v":209.61},{"$f":"RTD(\"cqg.rtd\", ,\"ContractData\",C20, \"LastTradeToday\",, \"T\")","v":209.71},{"$f":"RTD(\"cqg.rtd\", ,\"ContractData\",C20, \"NetLastTradeToday\",, \"T\")","v":-1.46},{"$f":"IFERROR(RTD(\"cqg.rtd\", ,\"ContractData\",C20, \"PerCentNetLastTrade\",, \"T\")/100,0)","v":-6.9138608703887862E-3},{"$f":"RTD(\"cqg.rtd\", ,\"ContractData\", C20, \"T_CVol\",, \"T\")","v":854186},20,{"$f":"RANK($J20,$J$1:J$73)+COUNTIF($J$1:J20,J20)-1","v":24},"S.US.CBOE","S.US.TROW",{"$f":"RTD(\"cqg.rtd\", ,\"ContractData\",O20, \"PerCentNetLastTrade\",, \"T\")/100","v":-4.721263846014164E-3},"https://finance.yahoo.com/quote/TROW",null,{"$error":"#N/A"},4.721263846014164E-3,null,{"$f":"IFERROR(RTD(\"cqg.rtd\", ,\"ContractData\",O20, \"LongDescription\",, \"T\"),\"\")","v":"T Rowe Price Group Inc"},null,null,-4.721263846014164E-3,null,{"$error":"#N/A"},0,null,"",4.721263846014164E-3,-4.721263846014164E-3]
[{"$f":"RTD(\"cqg.rtd\", ,\"ContractData\",C21, \"LongDescription\",, \"T\")","v":"Citizens Financial Group, Inc."},"S.US.CFG","S.US.CFG",{"$f":"RTD(\"cqg.rtd\", ,\"ContractData\",C21, \"LongDescription\",, \"T\")","v":"Citizens Financial Group, Inc."},{"$f":"RTD(\"cqg.rtd\", ,\"ContractData\",C21, \"Open\",, \"T\")","v":47.910000000000004},{"$f":"RTD(\"cqg.rtd\", ,\"ContractData\",C21, \"High\",, \"T\")","v":48.09},{"$f":"RTD(\"cqg.rtd\", ,\"ContractData\",C21, \"Low\",, \"T\")","v":47.160000000000004},{"$f":"RTD(\"cqg.rtd\", ,\"ContractData\",C21, \"LastTradeToday\",, \"T\")","v":47.36},{"$f":"RTD(\"cqg.rtd\", ,\"ContractData\",C21, \"NetLastTradeToday\",, \"T\")","v":-0.57000000000000006},{"$f":"IFERROR(RTD(\"cqg.rtd\", ,\"ContractData\",C21, \"PerCentNetLastTrade\",, \"T\")/100,0)","v":-1.1892343000208638E-2},{"$f":"RTD(\"cqg.rtd\", ,\"ContractData\", C21, \"T_CVol\",, \"T\")","v":3368397},21,{"$f":"RANK($J21,$J$1:J$73)+COUNTIF($J$1:J21,J21)-1","v":42},"S.US.CFG","S.US.BRKB",{"$f":"RTD(\"cqg.rtd\", ,\"ContractData\",O21, \"PerCentNetLastTrade\",, \"T\")/100","v":-5.4363920971358462E-3},"https://finance.yahoo.com/quote/BRKB",null,{"$error":"#N/A"},5.4363920971358462E-3,null,{"$f":"IFERROR(RTD(\"cqg.rtd\", ,\"ContractData\",O21, \"LongDescription\",, \"T\"),\"\")","v":"Berkshire Hathaway Inc. ClsB"},null,null,-5.4363920971358462E-3,null,{"$error":"#N/A"},0,null,"",{"$f":"IFERROR(T21,\"\")","v":5.4363920971358462E-3},-5.4363920971358462E-3]
[{"$f":"RTD(\"cqg.rtd\", ,\"ContractData\",C22, \"LongDescription\",, \"T\")","v":"Cincinnati Fincl Corp"},"S.US.CINF","S.US.CINF",{"$f":"RTD(\"cqg.rtd\", ,\"ContractData\",C22, \"LongDescription\",, \"T\")","v":"Cincinnati Fincl Corp"},{"$f":"RTD(\"cqg.rtd\", ,\"ContractData\",C22, \"Open\",, \"T\")","v":137.41},{"$f":"RTD(\"cqg.rtd\", ,\"ContractData\",C22, \"High\",, \"T\")","v":137.72999999999999},{"$f":"RTD(\"cqg.rtd\", ,\"ContractData\",C22, \"Low\",, \"T\")","v":135.44},{"$f":"RTD(\"cqg.rtd\", ,\"ContractData\",C22, \"LastTradeToday\",, \"T\")","v":135.62},{"$f":"RTD(\"cqg.rtd\", ,\"ContractData\",C22, \"NetLastTradeToday\",, \"T\")","v":-1.34},{"$f":"IFERROR(RTD(\"cqg.rtd\", ,\"ContractData\",C22, \"PerCentNetLastTrade\",, \"T\")/100,0)","v":-9.7838785046728965E-3},{"$f":"RTD(\"cqg.rtd\", ,\"ContractData\", C22, \"T_CVol\",, \"T\")","v":833382},22,{"$f":"RANK($J22,$J$1:J$73)+COUNTIF($J$1:J22,J22)-1","v":34},"S.US.CINF","S.US.PRU",{"$f":"RTD(\"cqg.rtd\", ,\"ContractData\",O22, \"PerCentNetLastTrade\",, \"T\")/100","v":-6.4704839567452576E-3},"https://finance.yahoo.com/quote/PRU",null,{"$error":"#N/A"},6.4704839567452576E-3,null,{"$f":"IFERROR(RTD(\"cqg.rtd\", ,\"ContractData\",O22, \"LongDescription\",, \"T\"),\"\")","v":"Prudential Financial Inc"},null,null,-6.4704839567452576E-3,null,{"$error":"#N/A"},0,null,"",6.4704839567452576E-3,-6.4704839567452576E-3]
[{"$f":"RTD(\"cqg.rtd\", ,\"ContractData\",C23, \"LongDescription\",, \"T\")","v":"Chicago Merc Exch Holding Inc"},"S.US.CME","S.US.CME",{"$f":"RTD(\"cqg.rtd\", ,\"ContractData\",C23, \"LongDescription\",, \"T\")","v":"Chicago Merc Exch Holding Inc"},{"$f":"RTD(\"cqg.rtd\", ,\"ContractData\",C23, \"Open\",, \"T\")","v":244.38},{"$f":"RTD(\"cqg.rtd\", ,\"ContractData\",C23, \"High\",, \"T\")","v":245.23000000000002},{"$f":"RTD(\"cqg.rtd\", ,\"ContractData\",C23, \"Low\",, \"T\")","v":241.16},{"$f":"RTD(\"cqg.rtd\", ,\"ContractData\",C23, \"LastTradeToday\",, \"T\")","v":241.81},{"$f":"RTD(\"cqg.rtd\", ,\"ContractData\",C23, \"NetLastTradeToday\",, \"T\")","v":-3.02},{"$f":"IFERROR(RTD(\"cqg.rtd\", ,\"ContractData\",C23, \"PerCentNetLastTrade\",, \"T\")/100,0)","v":-1.2335089654045664E-2},{"$f":"RTD(\"cqg.rtd\", ,\"ContractData\", C23, \"T_CVol\",, \"T\")","v":1716968},23,{"$f":"RANK($J23,$J$1:J$73)+COUNTIF($J$1:J23,J23)-1","v":45},"S.US.CME","S.US.BLK",{"$f":"RTD(\"cqg.rtd\", ,\"ContractData\",O23, \"PerCentNetLastTrade\",, \"T\")/100","v":-6.5420749163340184E-3},"https://finance.yahoo.com/quote/BLK",null,{"$error":"#N/A"},6.5420749163340184E-3,null,{"$f":"IFERROR(RTD(\"cqg.rtd\", ,\"ContractData\",O23, \"LongDescription\",, \"T\"),\"\")","v":"BlackRock, Inc."},null,null,-6.5420749163340184E-3,null,{"$error":"#N/A"},0,null,"",{"$f":"IFERROR(T23,\"\")","v":6.5420749163340184E-3},-6.5420749163340184E-3]
[{"$f":"RTD(\"cqg.rtd\", ,\"ContractData\",C24, \"LongDescription\",, \"T\")","v":"Capital One Financl Corp"},"S.US.COF","S.US.COF",{"$f":"RTD(\"cqg.rtd\", ,\"ContractData\",C24, \"LongDescription\",, \"T\")","v":"Capital One Financl Corp"},{"$f":"RTD(\"cqg.rtd\", ,\"ContractData\",C24, \"Open\",, \"T\")","v":203.42000000000002},{"$f":"RTD(\"cqg.rtd\", ,\"ContractData\",C24, \"High\",, \"T\")","v":203.6},{"$f":"RTD(\"cqg.rtd\", ,\"ContractData\",C24, \"Low\",, \"T\")","v":197.98000000000002},{"$f":"RTD(\"cqg.rtd\", ,\"ContractData\",C24, \"LastTradeToday\",, \"T\")","v":198.79},{"$f":"RTD(\"cqg.rtd\", ,\"ContractData\",C24, \"NetLastTradeToday\",, \"T\")","v":-4.42},{"$f":"IFERROR(RTD(\"cqg.rtd\", ,\"ContractData\",C24, \"PerCentNetLastTrade\",, \"T\")/100,0)","v":-2.1750898085724127E-2},{"$f":"RTD(\"cqg.rtd\", ,\"ContractData\", C24, \"T_CVol\",, \"T\")","v":2595388},24,{"$f":"RANK($J24,$J$1:J$73)+COUNTIF($J$1:J24,J24)-1","v":66},"S.US.COF","S.US.CBOE",{"$f":"RTD(\"cqg.rtd\", ,\"ContractData\",O24, \"PerCentNetLastTrade\",, \"T\")/100","v":-6.9138608703887862E-3},"https://finance.yahoo.com/quote/CBOE",null,{"$error":"#N/A"},6.9138608703887862E-3,null,{"$f":"IFERROR(RTD(\"cqg.rtd\", ,\"ContractData\",O24, \"LongDescription\",, \"T\"),\"\")","v":"Cboe Global Markets, Inc."},null,null,-6.9138608703887862E-3,null,{"$error":"#N/A"},0,null,"",6.9138608703887862E-3,-6.9138608703887862E-3]
[{"$f":"RTD(\"cqg.rtd\", ,\"ContractData\",C25, \"LongDescription\",, \"T\")","v":"Corpay, Inc."},"S.US.CPAY","S.US.CPAY",{"$f":"RTD(\"cqg.rtd\", ,\"ContractData\",C25, \"LongDescription\",, \"T\")","v":"Corpay, Inc."},{"$f":"RTD(\"cqg.rtd\", ,\"ContractData\",C25, \"Open\",, \"T\")","v":375},{"$f":"RTD(\"cqg.rtd\", ,\"ContractData\",C25, \"High\",, \"T\")","v":379.88},{"$f":"RTD(\"cqg.rtd\", ,\"ContractData\",C25, \"Low\",, \"T\")","v":373.44},{"$f":"RTD(\"cqg.rtd\", ,\"ContractData\",C25, \"LastTradeToday\",, \"T\")","v":375.15000000000003},{"$f":"RTD(\"cqg.rtd\", ,\"ContractData\",C25, \"NetLastTradeToday\",, \"T\")","v":-0.71},{"$f":"IFERROR(RTD(\"cqg.rtd\", ,\"ContractData\",C25, \"PerCentNetLastTrade\",, \"T\")/100,0)","v":-1.8890012238599479E-3},{"$f":"RTD(\"cqg.rtd\", ,\"ContractData\", C25, \"T_CVol\",, \"T\")","v":511575},25,{"$f":"RANK($J25,$J$1:J$73)+COUNTIF($J$1:J25,J25)-1","v":16},"S.US.CPAY","S.US.USB",{"$f":"RTD(\"cqg.rtd\", ,\"ContractData\",O25, \"PerCentNetLastTrade\",, \"T\")/100","v":-7.4105441456701251E-3},"https://finance.yahoo.com/quote/USB",null,{"$error":"#N/A"},7.4105441456701251E-3,null,{"$f":"IFERROR(RTD(\"cqg.rtd\", ,\"ContractData\",O25, \"LongDescription\",, \"T\"),\"\")","v":"U S Bancorp"},null,null,-7.4105441456701251E-3,null,{"$error":"#N/A"},0,null,{"$f":"IFERROR(S25,\"\")","v":""},7.4105441456701251E-3,-7.4105441456701251E-3]
[{"$f":"RTD(\"cqg.rtd\", ,\"ContractData\",C26, \"LongDescription\",, \"T\")","v":"Discover Financial Services"},"S.US.DFS","S.US.DFS",{"$f":"RTD(\"cqg.rtd\", ,\"ContractData\",C26, \"LongDescription\",, \"T\")","v":"Discover Financial Services"},{"$f":"RTD(\"cqg.rtd\", ,\"ContractData\",C26, \"Open\",, \"T\")","v":199.94},{"$f":"RTD(\"cqg.rtd\", ,\"ContractData\",C26, \"High\",, \"T\")","v":200},{"$f":"RTD(\"cqg.rtd\", ,\"ContractData\",C26, \"Low\",, \"T\")","v":194.72},{"$f":"RTD(\"cqg.rtd\", ,\"ContractData\",C26, \"LastTradeToday\",, \"T\")","v":195.41},{"$f":"RTD(\"cqg.rtd\", ,\"ContractData\",C26, \"NetLastTradeToday\",, \"T\")","v":-4.3600000000000003},{"$f":"IFERROR(RTD(\"cqg.rtd\", ,\"ContractData\",C26, \"PerCentNetLastTrade\",, \"T\")/100,0)","v":-2.1825098863693247E-2},{"$f":"RTD(\"cqg.rtd\", ,\"ContractData\", C26, \"T_CVol\",, \"T\")","v":974754},26,{"$f":"RANK($J26,$J$1:J$73)+COUNTIF($J$1:J26,J26)-1","v":68},"S.US.DFS","S.US.SPGI",{"$f":"RTD(\"cqg.rtd\", ,\"ContractData\",O26, \"PerCentNetLastTrade\",, \"T\")/100","v":-7.4159684099007993E-3},"https://finance.yahoo.com/quote/SPGI",null,{"$error":"#N/A"},7.4159684099007993E-3,null,{"$f":"IFERROR(RTD(\"cqg.rtd\", ,\"ContractData\",O26, \"LongDescription\",, \"T\"),\"\")","v":"S&P Global Inc."},null,null,-7.4159684099007993E-3,null,{"$error":"#N/A"},0,null,"",7.4159684099007993E-3,-7.4159684099007993E-3]
[{"$f":"RTD(\"cqg.rtd\", ,\"ContractData\",C27, \"LongDescription\",, \"T\")","v":"Everest Group, Ltd."},"S.US.EG","S.US.EG",{"$f":"RTD(\"cqg.rtd\", ,\"ContractData\",C27, \"LongDescription\",, \"T\")","v":"Everest Group, Ltd."},{"$f":"RTD(\"cqg.rtd\", ,\"ContractData\",C27, \"Open\",, \"T\")","v":338.11},{"$f":"RTD(\"cqg.rtd\", ,\"ContractData\",C27, \"High\",, \"T\")","v":340.79},{"$f":"RTD(\"cqg.rtd\", ,\"ContractData\",C27, \"Low\",, \"T\")","v":333.27},{"$f":"RTD(\"cqg.rtd\", ,\"ContractData\",C27, \"LastTradeToday\",, \"T\")","v":333.47},{"$f":"RTD(\"cqg.rtd\", ,\"ContractData\",C27, \"NetLastTradeToday\",, \"T\")","v":-4.5600000000000005},{"$f":"IFERROR(RTD(\"cqg.rtd\", ,\"ContractData\",C27, \"PerCentNetLastTrade\",, \"T\")/100,0)","v":-1.3489926929562466E-2},{"$f":"RTD(\"cqg.rtd\", ,\"ContractData\", C27, \"T_CVol\",, \"T\")","v":447475},27,{"$f":"RANK($J27,$J$1:J$73)+COUNTIF($J$1:J27,J27)-1","v":49},"S.US.EG","S.US.APO",{"$f":"RTD(\"cqg.rtd\", ,\"ContractData\",O27, \"PerCentNetLastTrade\",, \"T\")/100","v":-7.8311410217191801E-3},"https://finance.yahoo.com/quote/APO",null,{"$error":"#N/A"},7.8311410217191801E-3,null,{"$f":"IFERROR(RTD(\"cqg.rtd\", ,\"ContractData\",O27, \"LongDescription\",, \"T\"),\"\")","v":"Apollo Global Management, LLC"},null,null,-7.8311410217191801E-3,null,{"$error":"#N/A"},0,null,"",7.8311410217191801E-3,-7.8311410217191801E-3]
[{"$f":"RTD(\"cqg.rtd\", ,\"ContractData\",C28, \"LongDescription\",, \"T\")","v":"Erie Indemnity Co"},"S.US.ERIE","S.US.ERIE",{"$f":"RTD(\"cqg.rtd\", ,\"ContractData\",C28, \"LongDescription\",, \"T\")","v":"Erie Indemnity Co"},{"$f":"RTD(\"cqg.rtd\", ,\"ContractData\",C28, \"Open\",, \"T\")","v":414.42},{"$f":"RTD(\"cqg.rtd\", ,\"ContractData\",C28, \"High\",, \"T\")","v":414.76},{"$f":"RTD(\"cqg.rtd\", ,\"ContractData\",C28, \"Low\",, \"T\")","v":402.7},{"$f":"RTD(\"cqg.rtd\", ,\"ContractData\",C28, \"LastTradeToday\",, \"T\")","v":404.43},{"$f":"RTD(\"cqg.rtd\", ,\"ContractData\",C28, \"NetLastTradeToday\",, \"T\")","v":-7.8100000000000005},{"$f":"IFERROR(RTD(\"cqg.rtd\", ,\"ContractData\",C28, \"PerCentNetLastTrade\",, \"T\")/100,0)","v":-1.8945274597321947E-2},{"$f":"RTD(\"cqg.rtd\", ,\"ContractData\", C28, \"T_CVol\",, \"T\")","v":98687},28,{"$f":"RANK($J28,$J$1:J$73)+COUNTIF($J$1:J28,J28)-1","v":60},"S.US.ERIE","S.US.BEN",{"$f":"RTD(\"cqg.rtd\", ,\"ContractData\",O28, \"PerCentNetLastTrade\",, \"T\")/100","v":-7.8316201664219293E-3},"https://finance.yahoo.com/quote/BEN",null,{"$error":"#N/A"},7.8316201664219293E-3,null,{"$f":"IFERROR(RTD(\"cqg.rtd\", ,\"ContractData\",O28, \"LongDescription\",, \"T\"),\"\")","v":"Franklin Resources Inc"},null,null,-7.8316201664219293E-3,null,{"$error":"#N/A"},0,null,"",7.8316201664219293E-3,-7.8316201664219293E-3]
[{"$f":"RTD(\"cqg.rtd\", ,\"ContractData\",C29, \"LongDescription\",, \"T\")","v":"Factet Research"},"S.US.FDS","S.US.FDS",{"$f":"RTD(\"cqg.rtd\", ,\"ContractData\",C29, \"LongDescription\",, \"T\")","v":"Factet Research"},{"$f":"RTD(\"cqg.rtd\", ,\"ContractData\",C29, \"Open\",, \"T\")","v":472.47},{"$f":"RTD(\"cqg.rtd\", ,\"ContractData\",C29, \"High\",, \"T\")","v":472.47},{"$f":"RTD(\"cqg.rtd\", ,\"ContractData\",C29, \"Low\",, \"T\")","v":459.13},{"$f":"RTD(\"cqg.rtd\", ,\"ContractData\",C29, \"LastTradeToday\",, \"T\")","v":460.66},{"$f":"RTD(\"cqg.rtd\", ,\"ContractData\",C29, \"NetLastTradeToday\",, \"T\")","v":-6.13},{"$f":"IFERROR(RTD(\"cqg.rtd\", ,\"ContractData\",C29, \"PerCentNetLastTrade\",, \"T\")/100,0)","v":-1.313224362132865E-2},{"$f":"RTD(\"cqg.rtd\", ,\"ContractData\", C29, \"T_CVol\",, \"T\")","v":222053},29,{"$f":"RANK($J29,$J$1:J$73)+COUNTIF($J$1:J29,J29)-1","v":47},"S.US.FDS","S.US.GS",{"$f":"RTD(\"cqg.rtd\", ,\"ContractData\",O29, \"PerCentNetLastTrade\",, \"T\")/100","v":-8.1872236621436181E-3},"https://finance.yahoo.com/quote/GS",null,{"$error":"#N/A"},8.1872236621436181E-3,null,{"$f":"IFERROR(RTD(\"cqg.rtd\", ,\"ContractData\",O29, \"LongDescription\",, \"T\"),\"\")","v":"Goldman Sachs Group"},null,null,-8.1872236621436181E-3,null,{"$error":"#N/A"},0,null,"",8.1872236621436181E-3,-8.1872236621436181E-3]
[{"$f":"RTD(\"cqg.rtd\", ,\"ContractData\",C30, \"LongDescription\",, \"T\")","v":"Fiserv, Inc."},"S.US.FI","S.US.FI",{"$f":"RTD(\"cqg.rtd\", ,\"ContractData\",C30, \"LongDescription\",, \"T\")","v":"Fiserv, Inc."},{"$f":"RTD(\"cqg.rtd\", ,\"ContractData\",C30, \"Open\",, \"T\")","v":229.68},{"$f":"RTD(\"cqg.rtd\", ,\"ContractData\",C30, \"High\",, \"T\")","v":231.49},{"$f":"RTD(\"cqg.rtd\", ,\"ContractData\",C30, \"Low\",, \"T\")","v":229.03},{"$f":"RTD(\"cqg.rtd\", ,\"ContractData\",C30, \"LastTradeToday\",, \"T\")","v":230.65},{"$f":"RTD(\"cqg.rtd\", ,\"ContractData\",C30, \"NetLastTradeToday\",, \"T\")","v":0.59},{"$f":"IFERROR(RTD(\"cqg.rtd\", ,\"ContractData\",C30, \"PerCentNetLastTrade\",, \"T\")/100,0)","v":2.5645483786838215E-3},{"$f":"RTD(\"cqg.rtd\", ,\"ContractData\", C30, \"T_CVol\",, \"T\")","v":2907399},30,{"$f":"RANK($J30,$J$1:J$73)+COUNTIF($J$1:J30,J30)-1","v":10},"S.US.FI","S.US.FIS",{"$f":"RTD(\"cqg.rtd\", ,\"ContractData\",O30, \"PerCentNetLastTrade\",, \"T\")/100","v":-9.1105250539438992E-3},"https://finance.yahoo.com/quote/FIS",null,{"$error":"#N/A"},9.1105250539438992E-3,null,{"$f":"IFERROR(RTD(\"cqg.rtd\", ,\"ContractData\",O30, \"LongDescription\",, \"T\"),\"\")","v":"Fidelity National Info Services"},null,null,-9.1105250539438992E-3,null,{"$error":"#N/A"},0,null,"",9.1105250539438992E-3,-9.1105250539438992E-3]
[{"$f":"RTD(\"cqg.rtd\", ,\"ContractData\",C31, \"LongDescription\",, \"T\")","v":"Fidelity National Info Services"},"S.US.FIS","S.US.FIS",{"$f":"RTD(\"cqg.rtd\", ,\"ContractData\",C31, \"LongDescription\",, \"T\")","v":"Fidelity National Info Services"},{"$f":"RTD(\"cqg.rtd\", ,\"ContractData\",C31, \"Open\",, \"T\")","v":83.58},{"$f":"RTD(\"cqg.rtd\", ,\"ContractData\",C31, \"High\",, \"T\")","v":83.7},{"$f":"RTD(\"cqg.rtd\", ,\"ContractData\",C31, \"Low\",, \"T\")","v":82.48},{"$f":"RTD(\"cqg.rtd\", ,\"ContractData\",C31, \"LastTradeToday\",, \"T\")","v":82.66},{"$f":"RTD(\"cqg.rtd\", ,\"ContractData\",C31, \"NetLastTradeToday\",, \"T\")","v":-0.76},{"$f":"IFERROR(RTD(\"cqg.rtd\", ,\"ContractData\",C31, \"PerCentNetLastTrade\",, \"T\")/100,0)","v":-9.1105250539438992E-3},{"$f":"RTD(\"cqg.rtd\", ,\"ContractData\", C31, \"T_CVol\",, \"T\")","v":3450616},31,{"$f":"RANK($J31,$J$1:J$73)+COUNTIF($J$1:J31,J31)-1","v":30},"S.US.FIS","S.US.AFL",{"$f":"RTD(\"cqg.rtd\", ,\"ContractData\",O31, \"PerCentNetLastTrade\",, \"T\")/100","v":-9.3647422282293873E-3},"https://finance.yahoo.com/quote/AFL",null,{"$error":"#N/A"},9.3647422282293873E-3,null,{"$f":"IFERROR(RTD(\"cqg.rtd\", ,\"ContractData\",O31, \"LongDescription\",, \"T\"),\"\")","v":"AFLAC Inc"},null,null,-9.3647422282293873E-3,null,{"$error":"#N/A"},0,null,"",9.3647422282293873E-3,-9.3647422282293873E-3]
[{"$f":"RTD(\"cqg.rtd\", ,\"ContractData\",C32, \"LongDescription\",, \"T\")","v":"Fifth Third Bancorp"},"S.US.FITB","S.US.FITB",{"$f":"RTD(\"cqg.rtd\", ,\"ContractData\",C32, \"LongDescription\",, \"T\")","v":"Fifth Third Bancorp"},{"$f":"RTD(\"cqg.rtd\", ,\"ContractData\",C32, \"Open\",, \"T\")","v":44.29},{"$f":"RTD(\"cqg.rtd\", ,\"ContractData\",C32, \"High\",, \"T\")","v":44.29},{"$f":"RTD(\"cqg.rtd\", ,\"ContractData\",C32, \"Low\",, \"T\")","v":43.27},{"$f":"RTD(\"cqg.rtd\", ,\"ContractData\",C32, \"LastTradeToday\",, \"T\")","v":43.33},{"$f":"RTD(\"cqg.rtd\", ,\"ContractData\",C32, \"NetLastTradeToday\",, \"T\")","v":-0.71},{"$f":"IFERROR(RTD(\"cqg.rtd\", ,\"ContractData\",C32, \"PerCentNetLastTrade\",, \"T\")/100,0)","v":-1.612170753860127E-2},{"$f":"RTD(\"cqg.rtd\", ,\"ContractData\", C32, \"T_CVol\",, \"T\")","v":4061879},32,{"$f":"RANK($J32,$J$1:J$73)+COUNTIF($J$1:J32,J32)-1","v":55},"S.US.FITB","S.US.L",{"$f":"RTD(\"cqg.rtd\", ,\"ContractData\",O32, \"PerCentNetLastTrade\",, \"T\")/100","v":-9.5655180361876226E-3},"https://finance.yahoo.com/quote/L",null,{"$error":"#N/A"},9.5655180361876226E-3,null,{"$f":"IFERROR(RTD(\"cqg.rtd\", ,\"ContractData\",O32, \"LongDescription\",, \"T\"),\"\")","v":"Loews Corporation"},null,null,-9.5655180361876226E-3,null,{"$error":"#N/A"},0,null,"",9.5655180361876226E-3,-9.5655180361876226E-3]
[{"$f":"RTD(\"cqg.rtd\", ,\"ContractData\",C33, \"LongDescription\",, \"T\")","v":"Globe Life Inc."},"S.US.GL","S.US.GL",{"$f":"RTD(\"cqg.rtd\", ,\"ContractData\",C33, \"LongDescription\",, \"T\")","v":"Globe Life Inc."},{"$f":"RTD(\"cqg.rtd\", ,\"ContractData\",C33, \"Open\",, \"T\")","v":123.11},{"$f":"RTD(\"cqg.rtd\", ,\"ContractData\",C33, \"High\",, \"T\")","v":123.64},{"$f":"RTD(\"cqg.rtd\", ,\"ContractData\",C33, \"Low\",, \"T\")","v":121.81},{"$f":"RTD(\"cqg.rtd\", ,\"ContractData\",C33, \"LastTradeToday\",, \"T\")","v":122.25},{"$f":"RTD(\"cqg.rtd\", ,\"ContractData\",C33, \"NetLastTradeToday\",, \"T\")","v":-1.22},{"$f":"IFERROR(RTD(\"cqg.rtd\", ,\"ContractData\",C33, \"PerCentNetLastTrade\",, \"T\")/100,0)","v":-9.8809427391269126E-3},{"$f":"RTD(\"cqg.rtd\", ,\"ContractData\", C33, \"T_CVol\",, \"T\")","v":450373},33,{"$f":"RANK($J33,$J$1:J$73)+COUNTIF($J$1:J33,J33)-1","v":35},"S.US.GL","S.US.BX",{"$f":"RTD(\"cqg.rtd\", ,\"ContractData\",O33, \"PerCentNetLastTrade\",, \"T\")/100","v":-9.749221824161625E-3},"https://finance.yahoo.com/quote/BX",null,{"$error":"#N/A"},9.749221824161625E-3,null,{"$f":"IFERROR(RTD(\"cqg.rtd\", ,\"ContractData\",O33, \"LongDescription\",, \"T\"),\"\")","v":"Blackstone Inc."},null,null,-9.749221824161625E-3,null,{"$error":"#N/A"},0,null,"",9.749221824161625E-3,-9.749221824161625E-3]
[{"$f":"RTD(\"cqg.rtd\", ,\"ContractData\",C34, \"LongDescription\",, \"T\")","v":"Global Payments"},"S.US.GPN","S.US.GPN",{"$f":"RTD(\"cqg.rtd\", ,\"ContractData\",C34, \"LongDescription\",, \"T\")","v":"Global Payments"},{"$f":"RTD(\"cqg.rtd\", ,\"ContractData\",C34, \"Open\",, \"T\")","v":110.02},{"$f":"RTD(\"cqg.rtd\", ,\"ContractData\",C34, \"High\",, \"T\")","v":110.48},{"$f":"RTD(\"cqg.rtd\", ,\"ContractData\",C34, \"Low\",, \"T\")","v":109.27},{"$f":"RTD(\"cqg.rtd\", ,\"ContractData\",C34, \"LastTradeToday\",, \"T\")","v":109.62},{"$f":"RTD(\"cqg.rtd\", ,\"ContractData\",C34, \"NetLastTradeToday\",, \"T\")","v":0.02},{"$f":"IFERROR(RTD(\"cqg.rtd\", ,\"ContractData\",C34, \"PerCentNetLastTrade\",, \"T\")/100,0)","v":1.8248175182481751E-4},{"$f":"RTD(\"cqg.rtd\", ,\"ContractData\", C34, \"T_CVol\",, \"T\")","v":1426393},34,{"$f":"RANK($J34,$J$1:J$73)+COUNTIF($J$1:J34,J34)-1","v":13},"S.US.GPN","S.US.CINF",{"$f":"RTD(\"cqg.rtd\", ,\"ContractData\",O34, \"PerCentNetLastTrade\",, \"T\")/100","v":-9.7838785046728965E-3},"https://finance.yahoo.com/quote/CINF",null,{"$error":"#N/A"},9.7838785046728965E-3,null,{"$f":"IFERROR(RTD(\"cqg.rtd\", ,\"ContractData\",O34, \"LongDescription\",, \"T\"),\"\")","v":"Cincinnati Fincl Corp"},null,null,-9.7838785046728965E-3,null,{"$error":"#N/A"},0,null,"",9.7838785046728965E-3,-9.7838785046728965E-3]
[{"$f":"RTD(\"cqg.rtd\", ,\"ContractData\",C35, \"LongDescription\",, \"T\")","v":"Goldman Sachs Group"},"S.US.GS","S.US.GS",{"$f":"RTD(\"cqg.rtd\", ,\"ContractData\",C35, \"LongDescription\",, \"T\")","v":"Goldman Sachs Group"},{"$f":"RTD(\"cqg.rtd\", ,\"ContractData\",C35, \"Open\",, \"T\")","v":659.02},{"$f":"RTD(\"cqg.rtd\", ,\"ContractData\",C35, \"High\",, \"T\")","v":662.49},{"$f":"RTD(\"cqg.rtd\", ,\"ContractData\",C35, \"Low\",, \"T\")","v":644.25},{"$f":"RTD(\"cqg.rtd\", ,\"ContractData\",C35, \"LastTradeToday\",, \"T\")","v":650.53},{"$f":"RTD(\"cqg.rtd\", ,\"ContractData\",C35, \"NetLastTradeToday\",, \"T\")","v":-5.37},{"$f":"IFERROR(RTD(\"cqg.rtd\", ,\"ContractData\",C35, \"PerCentNetLastTrade\",, \"T\")/100,0)","v":-8.1872236621436181E-3},{"$f":"RTD(\"cqg.rtd\", ,\"ContractData\", C35, \"T_CVol\",, \"T\")","v":2351495},35,{"$f":"RANK($J35,$J$1:J$73)+COUNTIF($J$1:J35,J35)-1","v":29},"S.US.GS","S.US.GL",{"$f":"RTD(\"cqg.rtd\", ,\"ContractData\",O35, \"PerCentNetLastTrade\",, \"T\")/100","v":-9.8809427391269126E-3},"https://finance.yahoo.com/quote/GL",null,{"$error":"#N/A"},9.8809427391269126E-3,null,{"$f":"IFERROR(RTD(\"cqg.rtd\", ,\"ContractData\",O35, \"LongDescription\",, \"T\"),\"\")","v":"Globe Life Inc."},null,null,-9.8809427391269126E-3,null,{"$error":"#N/A"},0,null,"",9.8809427391269126E-3,-9.8809427391269126E-3]
[{"$f":"RTD(\"cqg.rtd\", ,\"ContractData\",C36, \"LongDescription\",, \"T\")","v":"Huntington Bancshrs Inc"},"S.US.HBAN","S.US.HBAN",{"$f":"RTD(\"cqg.rtd\", ,\"ContractData\",C36, \"LongDescription\",, \"T\")","v":"Huntington Bancshrs Inc"},{"$f":"RTD(\"cqg.rtd\", ,\"ContractData\",C36, \"Open\",, \"T\")","v":16.95},{"$f":"RTD(\"cqg.rtd\", ,\"ContractData\",C36, \"High\",, \"T\")","v":16.98},{"$f":"RTD(\"cqg.rtd\", ,\"ContractData\",C36, \"Low\",, \"T\")","v":16.649999999999999},{"$f":"RTD(\"cqg.rtd\", ,\"ContractData\",C36, \"LastTradeToday\",, \"T\")","v":16.73},{"$f":"RTD(\"cqg.rtd\", ,\"ContractData\",C36, \"NetLastTradeToday\",, \"T\")","v":-0.19},{"$f":"IFERROR(RTD(\"cqg.rtd\", ,\"ContractData\",C36, \"PerCentNetLastTrade\",, \"T\")/100,0)","v":-1.1229314420803781E-2},{"$f":"RTD(\"cqg.rtd\", ,\"ContractData\", C36, \"T_CVol\",, \"T\")","v":17997187},36,{"$f":"RANK($J36,$J$1:J$73)+COUNTIF($J$1:J36,J36)-1","v":40},"S.US.HBAN","S.US.MET",{"$f":"RTD(\"cqg.rtd\", ,\"ContractData\",O36, \"PerCentNetLastTrade\",, \"T\")/100","v":-1.0009532888465204E-2},"https://finance.yahoo.com/quote/MET",null,{"$error":"#N/A"},1.0009532888465204E-2,null,{"$f":"IFERROR(RTD(\"cqg.rtd\", ,\"ContractData\",O36, \"LongDescription\",, \"T\"),\"\")","v":"MetLife Inc"},null,null,-1.0009532888465204E-2,null,{"$error":"#N/A"},0,null,"",1.0009532888465204E-2,-1.0009532888465204E-2]
[{"$f":"RTD(\"cqg.rtd\", ,\"ContractData\",C37, \"LongDescription\",, \"T\")","v":"The Hartford Fincl Svcs Grp"},"S.US.HIG","S.US.HIG",{"$f":"RTD(\"cqg.rtd\", ,\"ContractData\",C37, \"LongDescription\",, \"T\")","v":"The Hartford Fincl Svcs Grp"},{"$f":"RTD(\"cqg.rtd\", ,\"ContractData\",C37, \"Open\",, \"T\")","v":113.34},{"$f":"RTD(\"cqg.rtd\", ,\"ContractData\",C37, \"High\",, \"T\")","v":113.65},{"$f":"RTD(\"cqg.rtd\", ,\"ContractData\",C37, \"Low\",, \"T\")","v":111.89},{"$f":"RTD(\"cqg.rtd\", ,\"ContractData\",C37, \"LastTradeToday\",, \"T\")","v":111.96000000000001},{"$f":"RTD(\"cqg.rtd\", ,\"ContractData\",C37, \"NetLastTradeToday\",, \"T\")","v":-1.56},{"$f":"IFERROR(RTD(\"cqg.rtd\", ,\"ContractData\",C37, \"PerCentNetLastTrade\",, \"T\")/100,0)","v":-1.3742071881606765E-2},{"$f":"RTD(\"cqg.rtd\", ,\"ContractData\", C37, \"T_CVol\",, \"T\")","v":1573459},37,{"$f":"RANK($J37,$J$1:J$73)+COUNTIF($J$1:J37,J37)-1","v":50},"S.US.HIG","S.US.IVZ",{"$f":"RTD(\"cqg.rtd\", ,\"ContractData\",O37, \"PerCentNetLastTrade\",, \"T\")/100","v":-1.0576414595452142E-2},"https://finance.yahoo.com/quote/IVZ",null,{"$error":"#N/A"},1.0576414595452142E-2,null,{"$f":"IFERROR(RTD(\"cqg.rtd\", ,\"ContractData\",O37, \"LongDescription\",, \"T\"),\"\")","v":"Invesco Ltd."},null,null,-1.0576414595452142E-2,null,{"$error":"#N/A"},0,null,"",1.0576414595452142E-2,-1.0576414595452142E-2]
[{"$f":"RTD(\"cqg.rtd\", ,\"ContractData\",C38, \"LongDescription\",, \"T\")","v":"Intercontinental, Inc."},"S.US.ICE","S.US.ICE",{"$f":"RTD(\"cqg.rtd\", ,\"ContractData\",C38, \"LongDescription\",, \"T\")","v":"Intercontinental, Inc."},{"$f":"RTD(\"cqg.rtd\", ,\"ContractData\",C38, \"Open\",, \"T\")","v":167.31},{"$f":"RTD(\"cqg.rtd\", ,\"ContractData\",C38, \"High\",, \"T\")","v":167.75},{"$f":"RTD(\"cqg.rtd\", ,\"ContractData\",C38, \"Low\",, \"T\")","v":165.77},{"$f":"RTD(\"cqg.rtd\", ,\"ContractData\",C38, \"LastTradeToday\",, \"T\")","v":167.12},{"$f":"RTD(\"cqg.rtd\", ,\"ContractData\",C38, \"NetLastTradeToday\",, \"T\")","v":0.28999999999999998},{"$f":"IFERROR(RTD(\"cqg.rtd\", ,\"ContractData\",C38, \"PerCentNetLastTrade\",, \"T\")/100,0)","v":1.7382964694599293E-3},{"$f":"RTD(\"cqg.rtd\", ,\"ContractData\", C38, \"T_CVol\",, \"T\")","v":3650161},38,{"$f":"RANK($J38,$J$1:J$73)+COUNTIF($J$1:J38,J38)-1","v":12},"S.US.ICE","S.US.TFC",{"$f":"RTD(\"cqg.rtd\", ,\"ContractData\",O38, \"PerCentNetLastTrade\",, \"T\")/100","v":-1.1115771812080536E-2},"https://finance.yahoo.com/quote/TFC",null,{"$error":"#N/A"},1.1115771812080536E-2,null,{"$f":"IFERROR(RTD(\"cqg.rtd\", ,\"ContractData\",O38, \"LongDescription\",, \"T\"),\"\")","v":"Truist Financial Corporation"},null,null,-1.1115771812080536E-2,null,{"$error":"#N/A"},0,null,"",1.1115771812080536E-2,-1.1115771812080536E-2]
[{"$f":"RTD(\"cqg.rtd\", ,\"ContractData\",C39, \"LongDescription\",, \"T\")","v":"Invesco Ltd."},"S.US.IVZ","S.US.IVZ",{"$f":"RTD(\"cqg.rtd\", ,\"ContractData\",C39, \"LongDescription\",, \"T\")","v":"Invesco Ltd."},{"$f":"RTD(\"cqg.rtd\", ,\"ContractData\",C39, \"Open\",, \"T\")","v":19},{"$f":"RTD(\"cqg.rtd\", ,\"ContractData\",C39, \"High\",, \"T\")","v":19.100000000000001},{"$f":"RTD(\"cqg.rtd\", ,\"ContractData\",C39, \"Low\",, \"T\")","v":18.59},{"$f":"RTD(\"cqg.rtd\", ,\"ContractData\",C39, \"LastTradeToday\",, \"T\")","v":18.71},{"$f":"RTD(\"cqg.rtd\", ,\"ContractData\",C39, \"NetLastTradeToday\",, \"T\")","v":-0.2},{"$f":"IFERROR(RTD(\"cqg.rtd\", ,\"ContractData\",C39, \"PerCentNetLastTrade\",, \"T\")/100,0)","v":-1.0576414595452142E-2},{"$f":"RTD(\"cqg.rtd\", ,\"ContractData\", C39, \"T_CVol\",, \"T\")","v":3917174},39,{"$f":"RANK($J39,$J$1:J$73)+COUNTIF($J$1:J39,J39)-1","v":37},"S.US.IVZ","S.US.WRB",{"$f":"RTD(\"cqg.rtd\", ,\"ContractData\",O39, \"PerCentNetLastTrade\",, \"T\")/100","v":-1.1217688180783612E-2},"https://finance.yahoo.com/quote/WRB",null,{"$error":"#N/A"},1.1217688180783612E-2,null,{"$f":"IFERROR(RTD(\"cqg.rtd\", ,\"ContractData\",O39, \"LongDescription\",, \"T\"),\"\")","v":"WR Berkley Corp"},null,null,-1.1217688180783612E-2,null,{"$f":"IF(S39=\"#N/A\",0,1)","v":{"$error":"#N/A"}},0,null,"",1.1217688180783612E-2,-1.1217688180783612E-2]
[{"$f":"RTD(\"cqg.rtd\", ,\"ContractData\",C40, \"LongDescription\",, \"T\")","v":"Jack Henry/Associates Inc"},"S.US.JKHY","S.US.JKHY",{"$f":"RTD(\"cqg.rtd\", ,\"ContractData\",C40, \"LongDescription\",, \"T\")","v":"Jack Henry/Associates Inc"},{"$f":"RTD(\"cqg.rtd\", ,\"ContractData\",C40, \"Open\",, \"T\")","v":174},{"$f":"RTD(\"cqg.rtd\", ,\"ContractData\",C40, \"High\",, \"T\")","v":174.75},{"$f":"RTD(\"cqg.rtd\", ,\"ContractData\",C40, \"Low\",, \"T\")","v":173.08},{"$f":"RTD(\"cqg.rtd\", ,\"ContractData\",C40, \"LastTradeToday\",, \"T\")","v":173.66},{"$f":"RTD(\"cqg.rtd\", ,\"ContractData\",C40, \"NetLastTradeToday\",, \"T\")","v":-0.15},{"$f":"IFERROR(RTD(\"cqg.rtd\", ,\"ContractData\",C40, \"PerCentNetLastTrade\",, \"T\")/100,0)","v":-8.6301133421552267E-4},{"$f":"RTD(\"cqg.rtd\", ,\"ContractData\", C40, \"T_CVol\",, \"T\")","v":454923},40,{"$f":"RANK($J40,$J$1:J$73)+COUNTIF($J$1:J40,J40)-1","v":14},"S.US.JKHY","S.US.HBAN",{"$f":"RTD(\"cqg.rtd\", ,\"ContractData\",O40, \"PerCentNetLastTrade\",, \"T\")/100","v":-1.1229314420803781E-2},"https://finance.yahoo.com/quote/HBAN",null,{"$error":"#N/A"},1.1229314420803781E-2,null,{"$f":"IFERROR(RTD(\"cqg.rtd\", ,\"ContractData\",O40, \"LongDescription\",, \"T\"),\"\")","v":"Huntington Bancshrs Inc"},null,null,-1.1229314420803781E-2,null,{"$error":"#N/A"},0,null,"",1.1229314420803781E-2,-1.1229314420803781E-2]
[{"$f":"RTD(\"cqg.rtd\", ,\"ContractData\",C41, \"LongDescription\",, \"T\")","v":"JPMorgan Chase & Co."},"S.US.JPM","S.US.JPM",{"$f":"RTD(\"cqg.rtd\", ,\"ContractData\",C41, \"LongDescription\",, \"T\")","v":"JPMorgan Chase & Co."},{"$f":"RTD(\"cqg.rtd\", ,\"ContractData\",C41, \"Open\",, \"T\")","v":276.15000000000003},{"$f":"RTD(\"cqg.rtd\", ,\"ContractData\",C41, \"High\",, \"T\")","v":276.18},{"$f":"RTD(\"cqg.rtd\", ,\"ContractData\",C41, \"Low\",, \"T\")","v":269.59000000000003},{"$f":"RTD(\"cqg.rtd\", ,\"ContractData\",C41, \"LastTradeToday\",, \"T\")","v":271.04000000000002},{"$f":"RTD(\"cqg.rtd\", ,\"ContractData\",C41, \"NetLastTradeToday\",, \"T\")","v":-4.76},{"$f":"IFERROR(RTD(\"cqg.rtd\", ,\"ContractData\",C41, \"PerCentNetLastTrade\",, \"T\")/100,0)","v":-1.7258883248730966E-2},{"$f":"RTD(\"cqg.rtd\", ,\"ContractData\", C41, \"T_CVol\",, \"T\")","v":8623100},41,{"$f":"RANK($J41,$J$1:J$73)+COUNTIF($J$1:J41,J41)-1","v":57},"S.US.JPM","S.US.TRV",{"$f":"RTD(\"cqg.rtd\", ,\"ContractData\",O41, \"PerCentNetLastTrade\",, \"T\")/100","v":-1.1297361230066479E-2},"https://finance.yahoo.com/quote/TRV",null,{"$error":"#N/A"},1.1297361230066479E-2,null,{"$f":"IFERROR(RTD(\"cqg.rtd\", ,\"ContractData\",O41, \"LongDescription\",, \"T\"),\"\")","v":"Travelers Companies, Inc"},null,null,-1.1297361230066479E-2,null,{"$error":"#N/A"},0,null,"",1.1297361230066479E-2,-1.1297361230066479E-2]
[{"$f":"RTD(\"cqg.rtd\", ,\"ContractData\",C42, \"LongDescription\",, \"T\")","v":"KeyCorp"},"S.US.KEY","S.US.KEY",{"$f":"RTD(\"cqg.rtd\", ,\"ContractData\",C42, \"LongDescription\",, \"T\")","v":"KeyCorp"},{"$f":"RTD(\"cqg.rtd\", ,\"ContractData\",C42, \"Open\",, \"T\")","v":17.920000000000002},{"$f":"RTD(\"cqg.rtd\", ,\"ContractData\",C42, \"High\",, \"T\")","v":17.920000000000002},{"$f":"RTD(\"cqg.rtd\", ,\"ContractData\",C42, \"Low\",, \"T\")","v":17.5},{"$f":"RTD(\"cqg.rtd\", ,\"ContractData\",C42, \"LastTradeToday\",, \"T\")","v":17.510000000000002},{"$f":"RTD(\"cqg.rtd\", ,\"ContractData\",C42, \"NetLastTradeToday\",, \"T\")","v":-0.33},{"$f":"IFERROR(RTD(\"cqg.rtd\", ,\"ContractData\",C42, \"PerCentNetLastTrade\",, \"T\")/100,0)","v":-1.849775784753363E-2},{"$f":"RTD(\"cqg.rtd\", ,\"ContractData\", C42, \"T_CVol\",, \"T\")","v":8148132},42,{"$f":"RANK($J42,$J$1:J$73)+COUNTIF($J$1:J42,J42)-1","v":59},"S.US.KEY","S.US.CFG",{"$f":"RTD(\"cqg.rtd\", ,\"ContractData\",O42, \"PerCentNetLastTrade\",, \"T\")/100","v":-1.1892343000208638E-2},"https://finance.yahoo.com/quote/CFG",null,{"$error":"#N/A"},1.1892343000208638E-2,null,{"$f":"IFERROR(RTD(\"cqg.rtd\", ,\"ContractData\",O42, \"LongDescription\",, \"T\"),\"\")","v":"Citizens Financial Group, Inc."},null,null,-1.1892343000208638E-2,null,{"$error":"#N/A"},0,null,"",1.1892343000208638E-2,-1.1892343000208638E-2]
[{"$f":"RTD(\"cqg.rtd\", ,\"ContractData\",C43, \"LongDescription\",, \"T\")","v":"KKR & Co. Inc."},"S.US.KKR","S.US.KKR",{"$f":"RTD(\"cqg.rtd\", ,\"ContractData\",C43, \"LongDescription\",, \"T\")","v":"KKR & Co. Inc."},{"$f":"RTD(\"cqg.rtd\", ,\"ContractData\",C43, \"Open\",, \"T\")","v":150.1},{"$f":"RTD(\"cqg.rtd\", ,\"ContractData\",C43, \"High\",, \"T\")","v":151.39000000000001},{"$f":"RTD(\"cqg.rtd\", ,\"ContractData\",C43, \"Low\",, \"T\")","v":146.56},{"$f":"RTD(\"cqg.rtd\", ,\"ContractData\",C43, \"LastTradeToday\",, \"T\")","v":147.93},{"$f":"RTD(\"cqg.rtd\", ,\"ContractData\",C43, \"NetLastTradeToday\",, \"T\")","v":-0.68},{"$f":"IFERROR(RTD(\"cqg.rtd\", ,\"ContractData\",C43, \"PerCentNetLastTrade\",, \"T\")/100,0)","v":-4.5757351456833326E-3},{"$f":"RTD(\"cqg.rtd\", ,\"ContractData\", C43, \"T_CVol\",, \"T\")","v":4150670},43,{"$f":"RANK($J43,$J$1:J$73)+COUNTIF($J$1:J43,J43)-1","v":19},"S.US.KKR","S.US.C",{"$f":"RTD(\"cqg.rtd\", ,\"ContractData\",O43, \"PerCentNetLastTrade\",, \"T\")/100","v":-1.2114537444933921E-2},"https://finance.yahoo.com/quote/C",null,{"$error":"#N/A"},1.2114537444933921E-2,null,{"$f":"IFERROR(RTD(\"cqg.rtd\", ,\"ContractData\",O43, \"LongDescription\",, \"T\"),\"\")","v":"Citigroup Inc"},null,null,-1.2114537444933921E-2,null,{"$error":"#N/A"},0,null,"",1.2114537444933921E-2,-1.2114537444933921E-2]
[{"$f":"RTD(\"cqg.rtd\", ,\"ContractData\",C44, \"LongDescription\",, \"T\")","v":"Loews Corporation"},"S.US.L","S.US.L",{"$f":"RTD(\"cqg.rtd\", ,\"ContractData\",C44, \"LongDescription\",, \"T\")","v":"Loews Corporation"},{"$f":"RTD(\"cqg.rtd\", ,\"ContractData\",C44, \"Open\",, \"T\")","v":85.89},{"$f":"RTD(\"cqg.rtd\", ,\"ContractData\",C44, \"High\",, \"T\")","v":88.29},{"$f":"RTD(\"cqg.rtd\", ,\"ContractData\",C44, \"Low\",, \"T\")","v":85.16},{"$f":"RTD(\"cqg.rtd\", ,\"ContractData\",C44, \"LastTradeToday\",, \"T\")","v":85.94},{"$f":"RTD(\"cqg.rtd\", ,\"ContractData\",C44, \"NetLastTradeToday\",, \"T\")","v":-0.83000000000000007},{"$f":"IFERROR(RTD(\"cqg.rtd\", ,\"ContractData\",C44, \"PerCentNetLastTrade\",, \"T\")/100,0)","v":-9.5655180361876226E-3},{"$f":"RTD(\"cqg.rtd\", ,\"ContractData\", C44, \"T_CVol\",, \"T\")","v":1111551},44,{"$f":"RANK($J44,$J$1:J$73)+COUNTIF($J$1:J44,J44)-1","v":32},"S.US.L","S.US.AIZ",{"$f":"RTD(\"cqg.rtd\", ,\"ContractData\",O44, \"PerCentNetLastTrade\",, \"T\")/100","v":-1.2223461609964676E-2},"https://finance.yahoo.com/quote/AIZ",null,{"$error":"#N/A"},1.2223461609964676E-2,null,{"$f":"IFERROR(RTD(\"cqg.rtd\", ,\"ContractData\",O44, \"LongDescription\",, \"T\"),\"\")","v":"Assurant Inc"},null,null,-1.2223461609964676E-2,null,{"$error":"#N/A"},0,null,"",1.2223461609964676E-2,-1.2223461609964676E-2]
[{"$f":"RTD(\"cqg.rtd\", ,\"ContractData\",C45, \"LongDescription\",, \"T\")","v":"Mastercard Inc."},"S.US.MA","S.US.MA",{"$f":"RTD(\"cqg.rtd\", ,\"ContractData\",C45, \"LongDescription\",, \"T\")","v":"Mastercard Inc."},{"$f":"RTD(\"cqg.rtd\", ,\"ContractData\",C45, \"Open\",, \"T\")","v":565.25},{"$f":"RTD(\"cqg.rtd\", ,\"ContractData\",C45, \"High\",, \"T\")","v":567.27},{"$f":"RTD(\"cqg.rtd\", ,\"ContractData\",C45, \"Low\",, \"T\")","v":561},{"$f":"RTD(\"cqg.rtd\", ,\"ContractData\",C45, \"LastTradeToday\",, \"T\")","v":565.49},{"$f":"RTD(\"cqg.rtd\", ,\"ContractData\",C45, \"NetLastTradeToday\",, \"T\")","v":2.74},{"$f":"IFERROR(RTD(\"cqg.rtd\", ,\"ContractData\",C45, \"PerCentNetLastTrade\",, \"T\")/100,0)","v":4.8689471346068415E-3},{"$f":"RTD(\"cqg.rtd\", ,\"ContractData\", C45, \"T_CVol\",, \"T\")","v":2357342},45,{"$f":"RANK($J45,$J$1:J$73)+COUNTIF($J$1:J45,J45)-1","v":7},"S.US.MA","S.US.CME",{"$f":"RTD(\"cqg.rtd\", ,\"ContractData\",O45, \"PerCentNetLastTrade\",, \"T\")/100","v":-1.2335089654045664E-2},"https://finance.yahoo.com/quote/CME",null,{"$error":"#N/A"},1.2335089654045664E-2,null,{"$f":"IFERROR(RTD(\"cqg.rtd\", ,\"ContractData\",O45, \"LongDescription\",, \"T\"),\"\")","v":"Chicago Merc Exch Holding Inc"},null,null,-1.2335089654045664E-2,null,{"$error":"#N/A"},0,null,"",1.2335089654045664E-2,-1.2335089654045664E-2]
[{"$f":"RTD(\"cqg.rtd\", ,\"ContractData\",C46, \"LongDescription\",, \"T\")","v":"Moodys Corp"},"S.US.MCO","S.US.MCO",{"$f":"RTD(\"cqg.rtd\", ,\"ContractData\",C46, \"LongDescription\",, \"T\")","v":"Moodys Corp"},{"$f":"RTD(\"cqg.rtd\", ,\"ContractData\",C46, \"Open\",, \"T\")","v":505.42},{"$f":"RTD(\"cqg.rtd\", ,\"ContractData\",C46, \"High\",, \"T\")","v":505.5},{"$f":"RTD(\"cqg.rtd\", ,\"ContractData\",C46, \"Low\",, \"T\")","v":498},{"$f":"RTD(\"cqg.rtd\", ,\"ContractData\",C46, \"LastTradeToday\",, \"T\")","v":504.23},{"$f":"RTD(\"cqg.rtd\", ,\"ContractData\",C46, \"NetLastTradeToday\",, \"T\")","v":0.93},{"$f":"IFERROR(RTD(\"cqg.rtd\", ,\"ContractData\",C46, \"PerCentNetLastTrade\",, \"T\")/100,0)","v":1.8478044903636002E-3},{"$f":"RTD(\"cqg.rtd\", ,\"ContractData\", C46, \"T_CVol\",, \"T\")","v":847872},46,{"$f":"RANK($J46,$J$1:J$73)+COUNTIF($J$1:J46,J46)-1","v":11},"S.US.MCO","S.US.BK",{"$f":"RTD(\"cqg.rtd\", ,\"ContractData\",O46, \"PerCentNetLastTrade\",, \"T\")/100","v":-1.3000580383052816E-2},"https://finance.yahoo.com/quote/BK",null,{"$error":"#N/A"},1.3000580383052816E-2,null,{"$f":"IFERROR(RTD(\"cqg.rtd\", ,\"ContractData\",O46, \"LongDescription\",, \"T\"),\"\")","v":"Bank of New York Co Inc"},null,null,-1.3000580383052816E-2,null,{"$error":"#N/A"},0,null,"",1.3000580383052816E-2,-1.3000580383052816E-2]
[{"$f":"RTD(\"cqg.rtd\", ,\"ContractData\",C47, \"LongDescription\",, \"T\")","v":"MetLife Inc"},"S.US.MET","S.US.MET",{"$f":"RTD(\"cqg.rtd\", ,\"ContractData\",C47, \"LongDescription\",, \"T\")","v":"MetLife Inc"},{"$f":"RTD(\"cqg.rtd\", ,\"ContractData\",C47, \"Open\",, \"T\")","v":83.76},{"$f":"RTD(\"cqg.rtd\", ,\"ContractData\",C47, \"High\",, \"T\")","v":84.15},{"$f":"RTD(\"cqg.rtd\", ,\"ContractData\",C47, \"Low\",, \"T\")","v":82.4},{"$f":"RTD(\"cqg.rtd\", ,\"ContractData\",C47, \"LastTradeToday\",, \"T\")","v":83.08},{"$f":"RTD(\"cqg.rtd\", ,\"ContractData\",C47, \"NetLastTradeToday\",, \"T\")","v":-0.84},{"$f":"IFERROR(RTD(\"cqg.rtd\", ,\"ContractData\",C47, \"PerCentNetLastTrade\",, \"T\")/100,0)","v":-1.0009532888465204E-2},{"$f":"RTD(\"cqg.rtd\", ,\"ContractData\", C47, \"T_CVol\",, \"T\")","v":3656281},47,{"$f":"RANK($J47,$J$1:J$73)+COUNTIF($J$1:J47,J47)-1","v":36},"S.US.MET","S.US.FDS",{"$f":"RTD(\"cqg.rtd\", ,\"ContractData\",O47, \"PerCentNetLastTrade\",, \"T\")/100","v":-1.313224362132865E-2},"https://finance.yahoo.com/quote/FDS",null,{"$error":"#N/A"},1.313224362132865E-2,null,{"$f":"IFERROR(RTD(\"cqg.rtd\", ,\"ContractData\",O47, \"LongDescription\",, \"T\"),\"\")","v":"Factet Research"},null,null,-1.313224362132865E-2,null,{"$error":"#N/A"},0,null,"",1.313224362132865E-2,-1.313224362132865E-2]
[{"$f":"RTD(\"cqg.rtd\", ,\"ContractData\",C48, \"LongDescription\",, \"T\")","v":"MarketAxcess Inc"},"S.US.MKTX","S.US.MKTX",{"$f":"RTD(\"cqg.rtd\", ,\"ContractData\",C48, \"LongDescription\",, \"T\")","v":"MarketAxcess Inc"},{"$f":"RTD(\"cqg.rtd\", ,\"ContractData\",C48, \"Open\",, \"T\")","v":201.13},{"$f":"RTD(\"cqg.rtd\", ,\"ContractData\",C48, \"High\",, \"T\")","v":202.54},{"$f":"RTD(\"cqg.rtd\", ,\"ContractData\",C48, \"Low\",, \"T\")","v":196.04},{"$f":"RTD(\"cqg.rtd\", ,\"ContractData\",C48, \"LastTradeToday\",, \"T\")","v":196.20000000000002},{"$f":"RTD(\"cqg.rtd\", ,\"ContractData\",C48, \"NetLastTradeToday\",, \"T\")","v":-5.17},{"$f":"IFERROR(RTD(\"cqg.rtd\", ,\"ContractData\",C48, \"PerCentNetLastTrade\",, \"T\")/100,0)","v":-2.5674132194467892E-2},{"$f":"RTD(\"cqg.rtd\", ,\"ContractData\", C48, \"T_CVol\",, \"T\")","v":591613},48,{"$f":"RANK($J48,$J$1:J$73)+COUNTIF($J$1:J48,J48)-1","v":71},"S.US.MKTX","S.US.CB",{"$f":"RTD(\"cqg.rtd\", ,\"ContractData\",O48, \"PerCentNetLastTrade\",, \"T\")/100","v":-1.3251406573882143E-2},"https://finance.yahoo.com/quote/CB",null,{"$error":"#N/A"},1.3251406573882143E-2,null,{"$f":"IFERROR(RTD(\"cqg.rtd\", ,\"ContractData\",O48, \"LongDescription\",, \"T\"),\"\")","v":"Chubb Limited"},null,null,-1.3251406573882143E-2,null,{"$error":"#N/A"},0,null,"",1.3251406573882143E-2,-1.3251406573882143E-2]
[{"$f":"RTD(\"cqg.rtd\", ,\"ContractData\",C49, \"LongDescription\",, \"T\")","v":"Marsh & McLennan Cos Inc"},"S.US.MMC","S.US.MMC",{"$f":"RTD(\"cqg.rtd\", ,\"ContractData\",C49, \"LongDescription\",, \"T\")","v":"Marsh & McLennan Cos Inc"},{"$f":"RTD(\"cqg.rtd\", ,\"ContractData\",C49, \"Open\",, \"T\")","v":227.37},{"$f":"RTD(\"cqg.rtd\", ,\"ContractData\",C49, \"High\",, \"T\")","v":228.47},{"$f":"RTD(\"cqg.rtd\", ,\"ContractData\",C49, \"Low\",, \"T\")","v":225.45000000000002},{"$f":"RTD(\"cqg.rtd\", ,\"ContractData\",C49, \"LastTradeToday\",, \"T\")","v":228.05},{"$f":"RTD(\"cqg.rtd\", ,\"ContractData\",C49, \"NetLastTradeToday\",, \"T\")","v":0.65},{"$f":"IFERROR(RTD(\"cqg.rtd\", ,\"ContractData\",C49, \"PerCentNetLastTrade\",, \"T\")/100,0)","v":2.8583992963940193E-3},{"$f":"RTD(\"cqg.rtd\", ,\"ContractData\", C49, \"T_CVol\",, \"T\")","v":1698714},49,{"$f":"RANK($J49,$J$1:J$73)+COUNTIF($J$1:J49,J49)-1","v":9},"S.US.MMC","S.US.EG",{"$f":"RTD(\"cqg.rtd\", ,\"ContractData\",O49, \"PerCentNetLastTrade\",, \"T\")/100","v":-1.3489926929562466E-2},"https://finance.yahoo.com/quote/EG",null,{"$error":"#N/A"},1.3489926929562466E-2,null,{"$f":"IFERROR(RTD(\"cqg.rtd\", ,\"ContractData\",O49, \"LongDescription\",, \"T\"),\"\")","v":"Everest Group, Ltd."},null,null,-1.3489926929562466E-2,null,{"$error":"#N/A"},0,null,"",1.3489926929562466E-2,-1.3489926929562466E-2]
[{"$f":"RTD(\"cqg.rtd\", ,\"ContractData\",C50, \"LongDescription\",, \"T\")","v":"Morgan Stanley"},"S.US.MS","S.US.MS",{"$f":"RTD(\"cqg.rtd\", ,\"ContractData\",C50, \"LongDescription\",, \"T\")","v":"Morgan Stanley"},{"$f":"RTD(\"cqg.rtd\", ,\"ContractData\",C50, \"Open\",, \"T\")","v":140.25},{"$f":"RTD(\"cqg.rtd\", ,\"ContractData\",C50, \"High\",, \"T\")","v":140.31},{"$f":"RTD(\"cqg.rtd\", ,\"ContractData\",C50, \"Low\",, \"T\")","v":135.61000000000001},{"$f":"RTD(\"cqg.rtd\", ,\"ContractData\",C50, \"LastTradeToday\",, \"T\")","v":137.31},{"$f":"RTD(\"cqg.rtd\", ,\"ContractData\",C50, \"NetLastTradeToday\",, \"T\")","v":-2.67},{"$f":"IFERROR(RTD(\"cqg.rtd\", ,\"ContractData\",C50, \"PerCentNetLastTrade\",, \"T\")/100,0)","v":-1.9074153450492928E-2},{"$f":"RTD(\"cqg.rtd\", ,\"ContractData\", C50, \"T_CVol\",, \"T\")","v":5515919},50,{"$f":"RANK($J50,$J$1:J$73)+COUNTIF($J$1:J50,J50)-1","v":61},"S.US.MS","S.US.HIG",{"$f":"RTD(\"cqg.rtd\", ,\"ContractData\",O50, \"PerCentNetLastTrade\",, \"T\")/100","v":-1.3742071881606765E-2},"https://finance.yahoo.com/quote/HIG",null,{"$error":"#N/A"},1.3742071881606765E-2,null,{"$f":"IFERROR(RTD(\"cqg.rtd\", ,\"ContractData\",O50, \"LongDescription\",, \"T\"),\"\")","v":"The Hartford Fincl Svcs Grp"},null,null,-1.3742071881606765E-2,null,{"$error":"#N/A"},0,null,"",1.3742071881606765E-2,-1.3742071881606765E-2]
[{"$f":"RTD(\"cqg.rtd\", ,\"ContractData\",C51, \"LongDescription\",, \"T\")","v":"MSCI, Inc."},"S.US.MSCI","S.US.MSCI",{"$f":"RTD(\"cqg.rtd\", ,\"ContractData\",C51, \"LongDescription\",, \"T\")","v":"MSCI, Inc."},{"$f":"RTD(\"cqg.rtd\", ,\"ContractData\",C51, \"Open\",, \"T\")","v":582.05000000000007},{"$f":"RTD(\"cqg.rtd\", ,\"ContractData\",C51, \"High\",, \"T\")","v":583.83000000000004},{"$f":"RTD(\"cqg.rtd\", ,\"ContractData\",C51, \"Low\",, \"T\")","v":575.59},{"$f":"RTD(\"cqg.rtd\", ,\"ContractData\",C51, \"LastTradeToday\",, \"T\")","v":583.48},{"$f":"RTD(\"cqg.rtd\", ,\"ContractData\",C51, \"NetLastTradeToday\",, \"T\")","v":4.09},{"$f":"IFERROR(RTD(\"cqg.rtd\", ,\"ContractData\",C51, \"PerCentNetLastTrade\",, \"T\")/100,0)","v":7.0591484147120246E-3},{"$f":"RTD(\"cqg.rtd\", ,\"ContractData\", C51, \"T_CVol\",, \"T\")","v":547416},51,{"$f":"RANK($J51,$J$1:J$73)+COUNTIF($J$1:J51,J51)-1","v":4},"S.US.MSCI","S.US.STT",{"$f":"RTD(\"cqg.rtd\", ,\"ContractData\",O51, \"PerCentNetLastTrade\",, \"T\")/100","v":-1.3978278358809333E-2},"https://finance.yahoo.com/quote/STT",null,{"$error":"#N/A"},1.3978278358809333E-2,null,{"$f":"IFERROR(RTD(\"cqg.rtd\", ,\"ContractData\",O51, \"LongDescription\",, \"T\"),\"\")","v":"State Street Corp"},null,null,-1.3978278358809333E-2,null,{"$error":"#N/A"},0,null,"",1.3978278358809333E-2,-1.3978278358809333E-2]
[{"$f":"RTD(\"cqg.rtd\", ,\"ContractData\",C52, \"LongDescription\",, \"T\")","v":"M&T Bank Corp"},"S.US.MTB","S.US.MTB",{"$f":"RTD(\"cqg.rtd\", ,\"ContractData\",C52, \"LongDescription\",, \"T\")","v":"M&T Bank Corp"},{"$f":"RTD(\"cqg.rtd\", ,\"ContractData\",C52, \"Open\",, \"T\")","v":200.23000000000002},{"$f":"RTD(\"cqg.rtd\", ,\"ContractData\",C52, \"High\",, \"T\")","v":200.39000000000001},{"$f":"RTD(\"cqg.rtd\", ,\"ContractData\",C52, \"Low\",, \"T\")","v":197.26},{"$f":"RTD(\"cqg.rtd\", ,\"ContractData\",C52, \"LastTradeToday\",, \"T\")","v":197.53},{"$f":"RTD(\"cqg.rtd\", ,\"ContractData\",C52, \"NetLastTradeToday\",, \"T\")","v":-2.85},{"$f":"IFERROR(RTD(\"cqg.rtd\", ,\"ContractData\",C52, \"PerCentNetLastTrade\",, \"T\")/100,0)","v":-1.4222976344944604E-2},{"$f":"RTD(\"cqg.rtd\", ,\"ContractData\", C52, \"T_CVol\",, \"T\")","v":608113},52,{"$f":"RANK($J52,$J$1:J$73)+COUNTIF($J$1:J52,J52)-1","v":52},"S.US.MTB","S.US.MTB",{"$f":"RTD(\"cqg.rtd\", ,\"ContractData\",O52, \"PerCentNetLastTrade\",, \"T\")/100","v":-1.4222976344944604E-2},"https://finance.yahoo.com/quote/MTB",null,{"$error":"#N/A"},1.4222976344944604E-2,null,{"$f":"IFERROR(RTD(\"cqg.rtd\", ,\"ContractData\",O52, \"LongDescription\",, \"T\"),\"\")","v":"M&T Bank Corp"},null,null,-1.4222976344944604E-2,null,{"$error":"#N/A"},0,null,"",1.4222976344944604E-2,-1.4222976344944604E-2]
[{"$f":"RTD(\"cqg.rtd\", ,\"ContractData\",C53, \"LongDescription\",, \"T\")","v":"Nasdaq, Inc."},"S.US.NDAQ","S.US.NDAQ",{"$f":"RTD(\"cqg.rtd\", ,\"ContractData\",C53, \"LongDescription\",, \"T\")","v":"Nasdaq, Inc."},{"$f":"RTD(\"cqg.rtd\", ,\"ContractData\",C53, \"Open\",, \"T\")","v":83.01},{"$f":"RTD(\"cqg.rtd\", ,\"ContractData\",C53, \"High\",, \"T\")","v":83.93},{"$f":"RTD(\"cqg.rtd\", ,\"ContractData\",C53, \"Low\",, \"T\")","v":81.070000000000007},{"$f":"RTD(\"cqg.rtd\", ,\"ContractData\",C53, \"LastTradeToday\",, \"T\")","v":81.210000000000008},{"$f":"RTD(\"cqg.rtd\", ,\"ContractData\",C53, \"NetLastTradeToday\",, \"T\")","v":-1.61},{"$f":"IFERROR(RTD(\"cqg.rtd\", ,\"ContractData\",C53, \"PerCentNetLastTrade\",, \"T\")/100,0)","v":-1.9439748852934074E-2},{"$f":"RTD(\"cqg.rtd\", ,\"ContractData\", C53, \"T_CVol\",, \"T\")","v":2883902},53,{"$f":"RANK($J53,$J$1:J$73)+COUNTIF($J$1:J53,J53)-1","v":63},"S.US.NDAQ","S.US.RF",{"$f":"RTD(\"cqg.rtd\", ,\"ContractData\",O53, \"PerCentNetLastTrade\",, \"T\")/100","v":-1.5132924335378323E-2},"https://finance.yahoo.com/quote/RF",null,{"$error":"#N/A"},1.5132924335378323E-2,null,{"$f":"IFERROR(RTD(\"cqg.rtd\", ,\"ContractData\",O53, \"LongDescription\",, \"T\"),\"\")","v":"Regions Financial Corp"},null,null,-1.5132924335378323E-2,null,{"$error":"#N/A"},0,null,"",1.5132924335378323E-2,-1.5132924335378323E-2]
[{"$f":"RTD(\"cqg.rtd\", ,\"ContractData\",C54, \"LongDescription\",, \"T\")","v":"Northern Trust Corp"},"S.US.NTRS","S.US.NTRS",{"$f":"RTD(\"cqg.rtd\", ,\"ContractData\",C54, \"LongDescription\",, \"T\")","v":"Northern Trust Corp"},{"$f":"RTD(\"cqg.rtd\", ,\"ContractData\",C54, \"Open\",, \"T\")","v":113.52},{"$f":"RTD(\"cqg.rtd\", ,\"ContractData\",C54, \"High\",, \"T\")","v":113.57000000000001},{"$f":"RTD(\"cqg.rtd\", ,\"ContractData\",C54, \"Low\",, \"T\")","v":110.87},{"$f":"RTD(\"cqg.rtd\", ,\"ContractData\",C54, \"LastTradeToday\",, \"T\")","v":111},{"$f":"RTD(\"cqg.rtd\", ,\"ContractData\",C54, \"NetLastTradeToday\",, \"T\")","v":-2.5100000000000002},{"$f":"IFERROR(RTD(\"cqg.rtd\", ,\"ContractData\",C54, \"PerCentNetLastTrade\",, \"T\")/100,0)","v":-2.21125891991895E-2},{"$f":"RTD(\"cqg.rtd\", ,\"ContractData\", C54, \"T_CVol\",, \"T\")","v":947198},54,{"$f":"RANK($J54,$J$1:J$73)+COUNTIF($J$1:J54,J54)-1","v":69},"S.US.NTRS","S.US.BAC",{"$f":"RTD(\"cqg.rtd\", ,\"ContractData\",O54, \"PerCentNetLastTrade\",, \"T\")/100","v":-1.540084388185654E-2},"https://finance.yahoo.com/quote/BAC",null,{"$error":"#N/A"},1.540084388185654E-2,null,{"$f":"IFERROR(RTD(\"cqg.rtd\", ,\"ContractData\",O54, \"LongDescription\",, \"T\"),\"\")","v":"Bank of America Corp"},null,null,-1.540084388185654E-2,null,{"$error":"#N/A"},0,null,"",1.540084388185654E-2,-1.540084388185654E-2]
[{"$f":"RTD(\"cqg.rtd\", ,\"ContractData\",C55, \"LongDescription\",, \"T\")","v":"Principal Financial Group"},"S.US.PFG","S.US.PFG",{"$f":"RTD(\"cqg.rtd\", ,\"ContractData\",C55, \"LongDescription\",, \"T\")","v":"Principal Financial Group"},{"$f":"RTD(\"cqg.rtd\", ,\"ContractData\",C55, \"Open\",, \"T\")","v":82.78},{"$f":"RTD(\"cqg.rtd\", ,\"ContractData\",C55, \"High\",, \"T\")","v":85.5},{"$f":"RTD(\"cqg.rtd\", ,\"ContractData\",C55, \"Low\",, \"T\")","v":82.070000000000007},{"$f":"RTD(\"cqg.rtd\", ,\"ContractData\",C55, \"LastTradeToday\",, \"T\")","v":84.38},{"$f":"RTD(\"cqg.rtd\", ,\"ContractData\",C55, \"NetLastTradeToday\",, \"T\")","v":2.0499999999999998},{"$f":"IFERROR(RTD(\"cqg.rtd\", ,\"ContractData\",C55, \"PerCentNetLastTrade\",, \"T\")/100,0)","v":2.4899793513907444E-2},{"$f":"RTD(\"cqg.rtd\", ,\"ContractData\", C55, \"T_CVol\",, \"T\")","v":2610083},55,{"$f":"RANK($J55,$J$1:J$73)+COUNTIF($J$1:J55,J55)-1","v":1},"S.US.PFG","S.US.FITB",{"$f":"RTD(\"cqg.rtd\", ,\"ContractData\",O55, \"PerCentNetLastTrade\",, \"T\")/100","v":-1.612170753860127E-2},"https://finance.yahoo.com/quote/FITB",null,{"$error":"#N/A"},1.612170753860127E-2,null,{"$f":"IFERROR(RTD(\"cqg.rtd\", ,\"ContractData\",O55, \"LongDescription\",, \"T\"),\"\")","v":"Fifth Third Bancorp"},null,null,-1.612170753860127E-2,null,{"$error":"#N/A"},0,null,"",1.612170753860127E-2,-1.612170753860127E-2]
[{"$f":"RTD(\"cqg.rtd\", ,\"ContractData\",C56, \"LongDescription\",, \"T\")","v":"Progressive Corp"},"S.US.PGR","S.US.PGR",{"$f":"RTD(\"cqg.rtd\", ,\"ContractData\",C56, \"LongDescription\",, \"T\")","v":"Progressive Corp"},{"$f":"RTD(\"cqg.rtd\", ,\"ContractData\",C56, \"Open\",, \"T\")","v":252},{"$f":"RTD(\"cqg.rtd\", ,\"ContractData\",C56, \"High\",, \"T\")","v":252.47},{"$f":"RTD(\"cqg.rtd\", ,\"ContractData\",C56, \"Low\",, \"T\")","v":248.51000000000002},{"$f":"RTD(\"cqg.rtd\", ,\"ContractData\",C56, \"LastTradeToday\",, \"T\")","v":249.69},{"$f":"RTD(\"cqg.rtd\", ,\"ContractData\",C56, \"NetLastTradeToday\",, \"T\")","v":-0.91},{"$f":"IFERROR(RTD(\"cqg.rtd\", ,\"ContractData\",C56, \"PerCentNetLastTrade\",, \"T\")/100,0)","v":-3.6312849162011174E-3},{"$f":"RTD(\"cqg.rtd\", ,\"ContractData\", C56, \"T_CVol\",, \"T\")","v":1881292},56,{"$f":"RANK($J56,$J$1:J$73)+COUNTIF($J$1:J56,J56)-1","v":18},"S.US.PGR","S.US.PNC",{"$f":"RTD(\"cqg.rtd\", ,\"ContractData\",O56, \"PerCentNetLastTrade\",, \"T\")/100","v":-1.7138302112395375E-2},"https://finance.yahoo.com/quote/PNC",null,{"$error":"#N/A"},1.7138302112395375E-2,null,{"$f":"IFERROR(RTD(\"cqg.rtd\", ,\"ContractData\",O56, \"LongDescription\",, \"T\"),\"\")","v":"PNC Fincl Svcs Grp Inc"},null,null,-1.7138302112395375E-2,null,{"$error":"#N/A"},0,null,"",1.7138302112395375E-2,-1.7138302112395375E-2]
[{"$f":"RTD(\"cqg.rtd\", ,\"ContractData\",C57, \"LongDescription\",, \"T\")","v":"PNC Fincl Svcs Grp Inc"},"S.US.PNC","S.US.PNC",{"$f":"RTD(\"cqg.rtd\", ,\"ContractData\",C57, \"LongDescription\",, \"T\")","v":"PNC Fincl Svcs Grp Inc"},{"$f":"RTD(\"cqg.rtd\", ,\"ContractData\",C57, \"Open\",, \"T\")","v":200.72},{"$f":"RTD(\"cqg.rtd\", ,\"ContractData\",C57, \"High\",, \"T\")","v":200.95000000000002},{"$f":"RTD(\"cqg.rtd\", ,\"ContractData\",C57, \"Low\",, \"T\")","v":196.56},{"$f":"RTD(\"cqg.rtd\", ,\"ContractData\",C57, \"LastTradeToday\",, \"T\")","v":197.28},{"$f":"RTD(\"cqg.rtd\", ,\"ContractData\",C57, \"NetLastTradeToday\",, \"T\")","v":-3.44},{"$f":"IFERROR(RTD(\"cqg.rtd\", ,\"ContractData\",C57, \"PerCentNetLastTrade\",, \"T\")/100,0)","v":-1.7138302112395375E-2},{"$f":"RTD(\"cqg.rtd\", ,\"ContractData\", C57, \"T_CVol\",, \"T\")","v":1452975},57,{"$f":"RANK($J57,$J$1:J$73)+COUNTIF($J$1:J57,J57)-1","v":56},"S.US.PNC","S.US.JPM",{"$f":"RTD(\"cqg.rtd\", ,\"ContractData\",O57, \"PerCentNetLastTrade\",, \"T\")/100","v":-1.7258883248730966E-2},"https://finance.yahoo.com/quote/JPM",null,{"$error":"#N/A"},1.7258883248730966E-2,null,{"$f":"IFERROR(RTD(\"cqg.rtd\", ,\"ContractData\",O57, \"LongDescription\",, \"T\"),\"\")","v":"JPMorgan Chase & Co."},null,null,-1.7258883248730966E-2,null,{"$error":"#N/A"},0,null,"",1.7258883248730966E-2,-1.7258883248730966E-2]
[{"$f":"RTD(\"cqg.rtd\", ,\"ContractData\",C58, \"LongDescription\",, \"T\")","v":"Prudential Financial Inc"},"S.US.PRU","S.US.PRU",{"$f":"RTD(\"cqg.rtd\", ,\"ContractData\",C58, \"LongDescription\",, \"T\")","v":"Prudential Financial Inc"},{"$f":"RTD(\"cqg.rtd\", ,\"ContractData\",C58, \"Open\",, \"T\")","v":112.86},{"$f":"RTD(\"cqg.rtd\", ,\"ContractData\",C58, \"High\",, \"T\")","v":113.35000000000001},{"$f":"RTD(\"cqg.rtd\", ,\"ContractData\",C58, \"Low\",, \"T\")","v":111.41},{"$f":"RTD(\"cqg.rtd\", ,\"ContractData\",C58, \"LastTradeToday\",, \"T\")","v":112.09},{"$f":"RTD(\"cqg.rtd\", ,\"ContractData\",C58, \"NetLastTradeToday\",, \"T\")","v":-0.73},{"$f":"IFERROR(RTD(\"cqg.rtd\", ,\"ContractData\",C58, \"PerCentNetLastTrade\",, \"T\")/100,0)","v":-6.4704839567452576E-3},{"$f":"RTD(\"cqg.rtd\", ,\"ContractData\", C58, \"T_CVol\",, \"T\")","v":1496615},58,{"$f":"RANK($J58,$J$1:J$73)+COUNTIF($J$1:J58,J58)-1","v":22},"S.US.PRU","S.US.AMP",{"$f":"RTD(\"cqg.rtd\", ,\"ContractData\",O58, \"PerCentNetLastTrade\",, \"T\")/100","v":-1.7489788340141105E-2},"https://finance.yahoo.com/quote/AMP",null,{"$error":"#N/A"},1.7489788340141105E-2,null,{"$f":"IFERROR(RTD(\"cqg.rtd\", ,\"ContractData\",O58, \"LongDescription\",, \"T\"),\"\")","v":"Ameriprise Financial Inc"},null,null,-1.7489788340141105E-2,null,{"$error":"#N/A"},0,null,"",1.7489788340141105E-2,-1.7489788340141105E-2]
[{"$f":"RTD(\"cqg.rtd\", ,\"ContractData\",C59, \"LongDescription\",, \"T\")","v":"PayPal Holdings, Inc."},"S.US.PYPL","S.US.PYPL",{"$f":"RTD(\"cqg.rtd\", ,\"ContractData\",C59, \"LongDescription\",, \"T\")","v":"PayPal Holdings, Inc."},{"$f":"RTD(\"cqg.rtd\", ,\"ContractData\",C59, \"Open\",, \"T\")","v":78.16},{"$f":"RTD(\"cqg.rtd\", ,\"ContractData\",C59, \"High\",, \"T\")","v":78.92},{"$f":"RTD(\"cqg.rtd\", ,\"ContractData\",C59, \"Low\",, \"T\")","v":77.61},{"$f":"RTD(\"cqg.rtd\", ,\"ContractData\",C59, \"LastTradeToday\",, \"T\")","v":78.239999999999995},{"$f":"RTD(\"cqg.rtd\", ,\"ContractData\",C59, \"NetLastTradeToday\",, \"T\")","v":0.93},{"$f":"IFERROR(RTD(\"cqg.rtd\", ,\"ContractData\",C59, \"PerCentNetLastTrade\",, \"T\")/100,0)","v":1.2029491656965463E-2},{"$f":"RTD(\"cqg.rtd\", ,\"ContractData\", C59, \"T_CVol\",, \"T\")","v":11806820},59,{"$f":"RANK($J59,$J$1:J$73)+COUNTIF($J$1:J59,J59)-1","v":2},"S.US.PYPL","S.US.KEY",{"$f":"RTD(\"cqg.rtd\", ,\"ContractData\",O59, \"PerCentNetLastTrade\",, \"T\")/100","v":-1.849775784753363E-2},"https://finance.yahoo.com/quote/KEY",null,{"$error":"#N/A"},1.849775784753363E-2,null,{"$f":"IFERROR(RTD(\"cqg.rtd\", ,\"ContractData\",O59, \"LongDescription\",, \"T\"),\"\")","v":"KeyCorp"},null,null,-1.849775784753363E-2,null,{"$error":"#N/A"},0,null,"",1.849775784753363E-2,-1.849775784753363E-2]
[{"$f":"RTD(\"cqg.rtd\", ,\"ContractData\",C60, \"LongDescription\",, \"T\")","v":"Regions Financial Corp"},"S.US.RF","S.US.RF",{"$f":"RTD(\"cqg.rtd\", ,\"ContractData\",C60, \"LongDescription\",, \"T\")","v":"Regions Financial Corp"},{"$f":"RTD(\"cqg.rtd\", ,\"ContractData\",C60, \"Open\",, \"T\")","v":24.490000000000002},{"$f":"RTD(\"cqg.rtd\", ,\"ContractData\",C60, \"High\",, \"T\")","v":24.490000000000002},{"$f":"RTD(\"cqg.rtd\", ,\"ContractData\",C60, \"Low\",, \"T\")","v":24.05},{"$f":"RTD(\"cqg.rtd\", ,\"ContractData\",C60, \"LastTradeToday\",, \"T\")","v":24.080000000000002},{"$f":"RTD(\"cqg.rtd\", ,\"ContractData\",C60, \"NetLastTradeToday\",, \"T\")","v":-0.37},{"$f":"IFERROR(RTD(\"cqg.rtd\", ,\"ContractData\",C60, \"PerCentNetLastTrade\",, \"T\")/100,0)","v":-1.5132924335378323E-2},{"$f":"RTD(\"cqg.rtd\", ,\"ContractData\", C60, \"T_CVol\",, \"T\")","v":4989888},60,{"$f":"RANK($J60,$J$1:J$73)+COUNTIF($J$1:J60,J60)-1","v":53},"S.US.RF","S.US.ERIE",{"$f":"RTD(\"cqg.rtd\", ,\"ContractData\",O60, \"PerCentNetLastTrade\",, \"T\")/100","v":-1.8945274597321947E-2},"https://finance.yahoo.com/quote/ERIE",null,{"$error":"#N/A"},1.8945274597321947E-2,null,{"$f":"IFERROR(RTD(\"cqg.rtd\", ,\"ContractData\",O60, \"LongDescription\",, \"T\"),\"\")","v":"Erie Indemnity Co"},null,null,-1.8945274597321947E-2,null,{"$error":"#N/A"},0,null,"",1.8945274597321947E-2,-1.8945274597321947E-2]
[{"$f":"RTD(\"cqg.rtd\", ,\"ContractData\",C61, \"LongDescription\",, \"T\")","v":"Raymond James Fincl Inc"},"S.US.RJF","S.US.RJF",{"$f":"RTD(\"cqg.rtd\", ,\"ContractData\",C61, \"LongDescription\",, \"T\")","v":"Raymond James Fincl Inc"},{"$f":"RTD(\"cqg.rtd\", ,\"ContractData\",C61, \"Open\",, \"T\")","v":167.58},{"$f":"RTD(\"cqg.rtd\", ,\"ContractData\",C61, \"High\",, \"T\")","v":167.72},{"$f":"RTD(\"cqg.rtd\", ,\"ContractData\",C61, \"Low\",, \"T\")","v":161.42000000000002},{"$f":"RTD(\"cqg.rtd\", ,\"ContractData\",C61, \"LastTradeToday\",, \"T\")","v":162.42000000000002},{"$f":"RTD(\"cqg.rtd\", ,\"ContractData\",C61, \"NetLastTradeToday\",, \"T\")","v":-5.01},{"$f":"IFERROR(RTD(\"cqg.rtd\", ,\"ContractData\",C61, \"PerCentNetLastTrade\",, \"T\")/100,0)","v":-2.9922952875828704E-2},{"$f":"RTD(\"cqg.rtd\", ,\"ContractData\", C61, \"T_CVol\",, \"T\")","v":1423326},61,{"$f":"RANK($J61,$J$1:J$73)+COUNTIF($J$1:J61,J61)-1","v":73},"S.US.RJF","S.US.MS",{"$f":"RTD(\"cqg.rtd\", ,\"ContractData\",O61, \"PerCentNetLastTrade\",, \"T\")/100","v":-1.9074153450492928E-2},"https://finance.yahoo.com/quote/MS",null,{"$error":"#N/A"},1.9074153450492928E-2,null,{"$f":"IFERROR(RTD(\"cqg.rtd\", ,\"ContractData\",O61, \"LongDescription\",, \"T\"),\"\")","v":"Morgan Stanley"},null,null,-1.9074153450492928E-2,null,{"$error":"#N/A"},0,null,"",1.9074153450492928E-2,-1.9074153450492928E-2]
[{"$f":"RTD(\"cqg.rtd\", ,\"ContractData\",C62, \"LongDescription\",, \"T\")","v":"Charles Schwab Corp"},"S.US.SCHW","S.US.SCHW",{"$f":"RTD(\"cqg.rtd\", ,\"ContractData\",C62, \"LongDescription\",, \"T\")","v":"Charles Schwab Corp"},{"$f":"RTD(\"cqg.rtd\", ,\"ContractData\",C62, \"Open\",, \"T\")","v":81.55},{"$f":"RTD(\"cqg.rtd\", ,\"ContractData\",C62, \"High\",, \"T\")","v":81.760000000000005},{"$f":"RTD(\"cqg.rtd\", ,\"ContractData\",C62, \"Low\",, \"T\")","v":80.260000000000005},{"$f":"RTD(\"cqg.rtd\", ,\"ContractData\",C62, \"LastTradeToday\",, \"T\")","v":81.17},{"$f":"RTD(\"cqg.rtd\", ,\"ContractData\",C62, \"NetLastTradeToday\",, \"T\")","v":-2.0100000000000002},{"$f":"IFERROR(RTD(\"cqg.rtd\", ,\"ContractData\",C62, \"PerCentNetLastTrade\",, \"T\")/100,0)","v":-2.4164462611204619E-2},{"$f":"RTD(\"cqg.rtd\", ,\"ContractData\", C62, \"T_CVol\",, \"T\")","v":17729632},62,{"$f":"RANK($J62,$J$1:J$73)+COUNTIF($J$1:J62,J62)-1","v":70},"S.US.SCHW","S.US.ALL",{"$f":"RTD(\"cqg.rtd\", ,\"ContractData\",O62, \"PerCentNetLastTrade\",, \"T\")/100","v":-1.9238856181665265E-2},"https://finance.yahoo.com/quote/ALL",null,{"$error":"#N/A"},1.9238856181665265E-2,null,{"$f":"IFERROR(RTD(\"cqg.rtd\", ,\"ContractData\",O62, \"LongDescription\",, \"T\"),\"\")","v":"Allstate Corporation"},null,null,-1.9238856181665265E-2,null,{"$error":"#N/A"},0,null,"",1.9238856181665265E-2,-1.9238856181665265E-2]
[{"$f":"RTD(\"cqg.rtd\", ,\"ContractData\",C63, \"LongDescription\",, \"T\")","v":"S&P Global Inc."},"S.US.SPGI","S.US.SPGI",{"$f":"RTD(\"cqg.rtd\", ,\"ContractData\",C63, \"LongDescription\",, \"T\")","v":"S&P Global Inc."},{"$f":"RTD(\"cqg.rtd\", ,\"ContractData\",C63, \"Open\",, \"T\")","v":518},{"$f":"RTD(\"cqg.rtd\", ,\"ContractData\",C63, \"High\",, \"T\")","v":520.62},{"$f":"RTD(\"cqg.rtd\", ,\"ContractData\",C63, \"Low\",, \"T\")","v":513.5},{"$f":"RTD(\"cqg.rtd\", ,\"ContractData\",C63, \"LastTradeToday\",, \"T\")","v":515.29999999999995},{"$f":"RTD(\"cqg.rtd\", ,\"ContractData\",C63, \"NetLastTradeToday\",, \"T\")","v":-3.85},{"$f":"IFERROR(RTD(\"cqg.rtd\", ,\"ContractData\",C63, \"PerCentNetLastTrade\",, \"T\")/100,0)","v":-7.4159684099007993E-3},{"$f":"RTD(\"cqg.rtd\", ,\"ContractData\", C63, \"T_CVol\",, \"T\")","v":1695751},63,{"$f":"RANK($J63,$J$1:J$73)+COUNTIF($J$1:J63,J63)-1","v":26},"S.US.SPGI","S.US.NDAQ",{"$f":"RTD(\"cqg.rtd\", ,\"ContractData\",O63, \"PerCentNetLastTrade\",, \"T\")/100","v":-1.9439748852934074E-2},"https://finance.yahoo.com/quote/NDAQ",null,{"$error":"#N/A"},1.9439748852934074E-2,null,{"$f":"IFERROR(RTD(\"cqg.rtd\", ,\"ContractData\",O63, \"LongDescription\",, \"T\"),\"\")","v":"Nasdaq, Inc."},null,null,-1.9439748852934074E-2,null,{"$error":"#N/A"},0,null,"",1.9439748852934074E-2,-1.9439748852934074E-2]
[{"$f":"RTD(\"cqg.rtd\", ,\"ContractData\",C64, \"LongDescription\",, \"T\")","v":"State Street Corp"},"S.US.STT","S.US.STT",{"$f":"RTD(\"cqg.rtd\", ,\"ContractData\",C64, \"LongDescription\",, \"T\")","v":"State Street Corp"},{"$f":"RTD(\"cqg.rtd\", ,\"ContractData\",C64, \"Open\",, \"T\")","v":99.75},{"$f":"RTD(\"cqg.rtd\", ,\"ContractData\",C64, \"High\",, \"T\")","v":99.91},{"$f":"RTD(\"cqg.rtd\", ,\"ContractData\",C64, \"Low\",, \"T\")","v":97.75},{"$f":"RTD(\"cqg.rtd\", ,\"ContractData\",C64, \"LastTradeToday\",, \"T\")","v":98.05},{"$f":"RTD(\"cqg.rtd\", ,\"ContractData\",C64, \"NetLastTradeToday\",, \"T\")","v":-1.3900000000000001},{"$f":"IFERROR(RTD(\"cqg.rtd\", ,\"ContractData\",C64, \"PerCentNetLastTrade\",, \"T\")/100,0)","v":-1.3978278358809333E-2},{"$f":"RTD(\"cqg.rtd\", ,\"ContractData\", C64, \"T_CVol\",, \"T\")","v":1666851},64,{"$f":"RANK($J64,$J$1:J$73)+COUNTIF($J$1:J64,J64)-1","v":51},"S.US.STT","S.US.WFC",{"$f":"RTD(\"cqg.rtd\", ,\"ContractData\",O64, \"PerCentNetLastTrade\",, \"T\")/100","v":-1.9462005702243709E-2},"https://finance.yahoo.com/quote/WFC",null,{"$error":"#N/A"},1.9462005702243709E-2,null,{"$f":"IFERROR(RTD(\"cqg.rtd\", ,\"ContractData\",O64, \"LongDescription\",, \"T\"),\"\")","v":"Wells Fargo & Co New"},null,null,-1.9462005702243709E-2,null,{"$error":"#N/A"},0,null,"",1.9462005702243709E-2,-1.9462005702243709E-2]
[{"$f":"RTD(\"cqg.rtd\", ,\"ContractData\",C65, \"LongDescription\",, \"T\")","v":"Synchrony Financial"},"S.US.SYF","S.US.SYF",{"$f":"RTD(\"cqg.rtd\", ,\"ContractData\",C65, \"LongDescription\",, \"T\")","v":"Synchrony Financial"},{"$f":"RTD(\"cqg.rtd\", ,\"ContractData\",C65, \"Open\",, \"T\")","v":68.05},{"$f":"RTD(\"cqg.rtd\", ,\"ContractData\",C65, \"High\",, \"T\")","v":68.05},{"$f":"RTD(\"cqg.rtd\", ,\"ContractData\",C65, \"Low\",, \"T\")","v":64.61},{"$f":"RTD(\"cqg.rtd\", ,\"ContractData\",C65, \"LastTradeToday\",, \"T\")","v":65.52},{"$f":"RTD(\"cqg.rtd\", ,\"ContractData\",C65, \"NetLastTradeToday\",, \"T\")","v":-1.97},{"$f":"IFERROR(RTD(\"cqg.rtd\", ,\"ContractData\",C65, \"PerCentNetLastTrade\",, \"T\")/100,0)","v":-2.9189509556971402E-2},{"$f":"RTD(\"cqg.rtd\", ,\"ContractData\", C65, \"T_CVol\",, \"T\")","v":5396059},65,{"$f":"RANK($J65,$J$1:J$73)+COUNTIF($J$1:J65,J65)-1","v":72},{"$f":"C65","v":"S.US.SYF"},"S.US.AXP",{"$f":"RTD(\"cqg.rtd\", ,\"ContractData\",O65, \"PerCentNetLastTrade\",, \"T\")/100","v":-2.0551188559522683E-2},"https://finance.yahoo.com/quote/AXP",null,{"$error":"#N/A"},2.0551188559522683E-2,null,{"$f":"IFERROR(RTD(\"cqg.rtd\", ,\"ContractData\",O65, \"LongDescription\",, \"T\"),\"\")","v":"American Express Co"},null,null,-2.0551188559522683E-2,null,{"$error":"#N/A"},0,null,"",2.0551188559522683E-2,-2.0551188559522683E-2]
[{"$f":"RTD(\"cqg.rtd\", ,\"ContractData\",C66, \"LongDescription\",, \"T\")","v":"Truist Financial Corporation"},"S.US.TFC","S.US.TFC",{"$f":"RTD(\"cqg.rtd\", ,\"ContractData\",C66, \"LongDescription\",, \"T\")","v":"Truist Financial Corporation"},{"$f":"RTD(\"cqg.rtd\", ,\"ContractData\",C66, \"Open\",, \"T\")","v":47.68},{"$f":"RTD(\"cqg.rtd\", ,\"ContractData\",C66, \"High\",, \"T\")","v":47.72},{"$f":"RTD(\"cqg.rtd\", ,\"ContractData\",C66, \"Low\",, \"T\")","v":46.94},{"$f":"RTD(\"cqg.rtd\", ,\"ContractData\",C66, \"LastTradeToday\",, \"T\")","v":47.15},{"$f":"RTD(\"cqg.rtd\", ,\"ContractData\",C66, \"NetLastTradeToday\",, \"T\")","v":-0.53},{"$f":"IFERROR(RTD(\"cqg.rtd\", ,\"ContractData\",C66, \"PerCentNetLastTrade\",, \"T\")/100,0)","v":-1.1115771812080536E-2},{"$f":"RTD(\"cqg.rtd\", ,\"ContractData\", C66, \"T_CVol\",, \"T\")","v":6493979},66,{"$f":"RANK($J66,$J$1:J$73)+COUNTIF($J$1:J66,J66)-1","v":38},"S.US.TFC",{"$f":"VLOOKUP($L66,$M$1:$N$73,2,FALSE)","v":"S.US.COF"},{"$f":"RTD(\"cqg.rtd\", ,\"ContractData\",O66, \"PerCentNetLastTrade\",, \"T\")/100","v":-2.1750898085724127E-2},{"$f":"\"https://finance.yahoo.com/quote/\"&RIGHT(O66,(LEN(O66)-5))","v":"https://finance.yahoo.com/quote/COF"},null,{"$f":"IF(P66>=0,P66,NA())","v":{"$error":"#N/A"}},{"$f":"IF(P66>=0,NA(),-1*P66)","v":2.1750898085724127E-2},null,{"$f":"IFERROR(RTD(\"cqg.rtd\", ,\"ContractData\",O66, \"LongDescription\",, \"T\"),\"\")","v":"Capital One Financl Corp"},null,null,{"$f":"IFERROR(S66,P66)","v":-2.1750898085724127E-2},null,{"$f":"IF(S66=\"NA()\",0,1)","v":{"$error":"#N/A"}},{"$f":"IFERROR(AA66,0)","v":0},null,"",2.1750898085724127E-2,{"$f":"IF(AE66=\"\",\"\",Y66)","v":-2.1750898085724127E-2}]
[{"$f":"RTD(\"cqg.rtd\", ,\"ContractData\",C67, \"LongDescription\",, \"T\")","v":"T Rowe Price Group Inc"},"S.US.TROW","S.US.TROW",{"$f":"RTD(\"cqg.rtd\", ,\"ContractData\",C67, \"LongDescription\",, \"T\")","v":"T Rowe Price Group Inc"},{"$f":"RTD(\"cqg.rtd\", ,\"ContractData\",C67, \"Open\",, \"T\")","v":110.5},{"$f":"RTD(\"cqg.rtd\", ,\"ContractData\",C67, \"High\",, \"T\")","v":110.82000000000001},{"$f":"RTD(\"cqg.rtd\", ,\"ContractData\",C67, \"Low\",, \"T\")","v":109.41},{"$f":"RTD(\"cqg.rtd\", ,\"ContractData\",C67, \"LastTradeToday\",, \"T\")","v":109.61},{"$f":"RTD(\"cqg.rtd\", ,\"ContractData\",C67, \"NetLastTradeToday\",, \"T\")","v":-0.52},{"$f":"IFERROR(RTD(\"cqg.rtd\", ,\"ContractData\",C67, \"PerCentNetLastTrade\",, \"T\")/100,0)","v":-4.721263846014164E-3},{"$f":"RTD(\"cqg.rtd\", ,\"ContractData\", C67, \"T_CVol\",, \"T\")","v":1240563},{"$f":"L66+1","v":67},{"$f":"RANK($J67,$J$1:J$73)+COUNTIF($J$1:J67,J67)-1","v":20},"S.US.TROW","S.US.ACGL",{"$f":"RTD(\"cqg.rtd\", ,\"ContractData\",O67, \"PerCentNetLastTrade\",, \"T\")/100","v":-2.1818181818181816E-2},"https://finance.yahoo.com/quote/ACGL",null,{"$error":"#N/A"},2.1818181818181816E-2,null,{"$f":"IFERROR(RTD(\"cqg.rtd\", ,\"ContractData\",O67, \"LongDescription\",, \"T\"),\"\")","v":"Arch Capital Grp Ltd"},null,null,-2.1818181818181816E-2,null,{"$error":"#N/A"},0,null,"",2.1818181818181816E-2,-2.1818181818181816E-2]
[{"$f":"RTD(\"cqg.rtd\", ,\"ContractData\",C68, \"LongDescription\",, \"T\")","v":"Travelers Companies, Inc"},"S.US.TRV","S.US.TRV",{"$f":"RTD(\"cqg.rtd\", ,\"ContractData\",C68, \"LongDescription\",, \"T\")","v":"Travelers Companies, Inc"},{"$f":"RTD(\"cqg.rtd\", ,\"ContractData\",C68, \"Open\",, \"T\")","v":245},{"$f":"RTD(\"cqg.rtd\", ,\"ContractData\",C68, \"High\",, \"T\")","v":245.19},{"$f":"RTD(\"cqg.rtd\", ,\"ContractData\",C68, \"Low\",, \"T\")","v":241.96},{"$f":"RTD(\"cqg.rtd\", ,\"ContractData\",C68, \"LastTradeToday\",, \"T\")","v":242.42000000000002},{"$f":"RTD(\"cqg.rtd\", ,\"ContractData\",C68, \"NetLastTradeToday\",, \"T\")","v":-2.77},{"$f":"IFERROR(RTD(\"cqg.rtd\", ,\"ContractData\",C68, \"PerCentNetLastTrade\",, \"T\")/100,0)","v":-1.1297361230066479E-2},{"$f":"RTD(\"cqg.rtd\", ,\"ContractData\", C68, \"T_CVol\",, \"T\")","v":954024},68,{"$f":"RANK($J68,$J$1:J$73)+COUNTIF($J$1:J68,J68)-1","v":41},"S.US.TRV","S.US.DFS",{"$f":"RTD(\"cqg.rtd\", ,\"ContractData\",O68, \"PerCentNetLastTrade\",, \"T\")/100","v":-2.1825098863693247E-2},"https://finance.yahoo.com/quote/DFS",null,{"$error":"#N/A"},2.1825098863693247E-2,null,{"$f":"IFERROR(RTD(\"cqg.rtd\", ,\"ContractData\",O68, \"LongDescription\",, \"T\"),\"\")","v":"Discover Financial Services"},null,null,-2.1825098863693247E-2,null,{"$error":"#N/A"},0,null,"",2.1825098863693247E-2,-2.1825098863693247E-2]
[{"$f":"RTD(\"cqg.rtd\", ,\"ContractData\",C69, \"LongDescription\",, \"T\")","v":"U S Bancorp"},"S.US.USB","S.US.USB",{"$f":"RTD(\"cqg.rtd\", ,\"ContractData\",C69, \"LongDescription\",, \"T\")","v":"U S Bancorp"},{"$f":"RTD(\"cqg.rtd\", ,\"ContractData\",C69, \"Open\",, \"T\")","v":47.28},{"$f":"RTD(\"cqg.rtd\", ,\"ContractData\",C69, \"High\",, \"T\")","v":47.32},{"$f":"RTD(\"cqg.rtd\", ,\"ContractData\",C69, \"Low\",, \"T\")","v":46.47},{"$f":"RTD(\"cqg.rtd\", ,\"ContractData\",C69, \"LastTradeToday\",, \"T\")","v":46.88},{"$f":"RTD(\"cqg.rtd\", ,\"ContractData\",C69, \"NetLastTradeToday\",, \"T\")","v":-0.35000000000000003},{"$f":"IFERROR(RTD(\"cqg.rtd\", ,\"ContractData\",C69, \"PerCentNetLastTrade\",, \"T\")/100,0)","v":-7.4105441456701251E-3},{"$f":"RTD(\"cqg.rtd\", ,\"ContractData\", C69, \"T_CVol\",, \"T\")","v":8457723},69,{"$f":"RANK($J69,$J$1:J$73)+COUNTIF($J$1:J69,J69)-1","v":25},"S.US.USB","S.US.NTRS",{"$f":"RTD(\"cqg.rtd\", ,\"ContractData\",O69, \"PerCentNetLastTrade\",, \"T\")/100","v":-2.21125891991895E-2},"https://finance.yahoo.com/quote/NTRS",null,{"$error":"#N/A"},2.21125891991895E-2,null,{"$f":"IFERROR(RTD(\"cqg.rtd\", ,\"ContractData\",O69, \"LongDescription\",, \"T\"),\"\")","v":"Northern Trust Corp"},null,null,-2.21125891991895E-2,null,{"$error":"#N/A"},0,null,"",2.21125891991895E-2,-2.21125891991895E-2]
[{"$f":"RTD(\"cqg.rtd\", ,\"ContractData\",C70, \"LongDescription\",, \"T\")","v":"Visa Inc."},"S.US.V","S.US.V",{"$f":"RTD(\"cqg.rtd\", ,\"ContractData\",C70, \"LongDescription\",, \"T\")","v":"Visa Inc."},{"$f":"RTD(\"cqg.rtd\", ,\"ContractData\",C70, \"Open\",, \"T\")","v":348.7},{"$f":"RTD(\"cqg.rtd\", ,\"ContractData\",C70, \"High\",, \"T\")","v":351.90000000000003},{"$f":"RTD(\"cqg.rtd\", ,\"ContractData\",C70, \"Low\",, \"T\")","v":347.7},{"$f":"RTD(\"cqg.rtd\", ,\"ContractData\",C70, \"LastTradeToday\",, \"T\")","v":351.23},{"$f":"RTD(\"cqg.rtd\", ,\"ContractData\",C70, \"NetLastTradeToday\",, \"T\")","v":3.21},{"$f":"IFERROR(RTD(\"cqg.rtd\", ,\"ContractData\",C70, \"PerCentNetLastTrade\",, \"T\")/100,0)","v":9.2236078386299641E-3},{"$f":"RTD(\"cqg.rtd\", ,\"ContractData\", C70, \"T_CVol\",, \"T\")","v":6059090},70,{"$f":"RANK($J70,$J$1:J$73)+COUNTIF($J$1:J70,J70)-1","v":3},"S.US.V","S.US.SCHW",{"$f":"RTD(\"cqg.rtd\", ,\"ContractData\",O70, \"PerCentNetLastTrade\",, \"T\")/100","v":-2.4164462611204619E-2},"https://finance.yahoo.com/quote/SCHW",null,{"$error":"#N/A"},2.4164462611204619E-2,null,{"$f":"IFERROR(RTD(\"cqg.rtd\", ,\"ContractData\",O70, \"LongDescription\",, \"T\"),\"\")","v":"Charles Schwab Corp"},null,null,-2.4164462611204619E-2,null,{"$error":"#N/A"},0,null,"",2.4164462611204619E-2,-2.4164462611204619E-2]
[{"$f":"RTD(\"cqg.rtd\", ,\"ContractData\",C71, \"LongDescription\",, \"T\")","v":"Wells Fargo & Co New"},"S.US.WFC","S.US.WFC",{"$f":"RTD(\"cqg.rtd\", ,\"ContractData\",C71, \"LongDescription\",, \"T\")","v":"Wells Fargo & Co New"},{"$f":"RTD(\"cqg.rtd\", ,\"ContractData\",C71, \"Open\",, \"T\")","v":80.460000000000008},{"$f":"RTD(\"cqg.rtd\", ,\"ContractData\",C71, \"High\",, \"T\")","v":80.570000000000007},{"$f":"RTD(\"cqg.rtd\", ,\"ContractData\",C71, \"Low\",, \"T\")","v":78.25},{"$f":"RTD(\"cqg.rtd\", ,\"ContractData\",C71, \"LastTradeToday\",, \"T\")","v":79.100000000000009},{"$f":"RTD(\"cqg.rtd\", ,\"ContractData\",C71, \"NetLastTradeToday\",, \"T\")","v":-1.57},{"$f":"IFERROR(RTD(\"cqg.rtd\", ,\"ContractData\",C71, \"PerCentNetLastTrade\",, \"T\")/100,0)","v":-1.9462005702243709E-2},{"$f":"RTD(\"cqg.rtd\", ,\"ContractData\", C71, \"T_CVol\",, \"T\")","v":18355126},71,{"$f":"RANK($J71,$J$1:J$73)+COUNTIF($J$1:J71,J71)-1","v":64},"S.US.WFC","S.US.MKTX",{"$f":"RTD(\"cqg.rtd\", ,\"ContractData\",O71, \"PerCentNetLastTrade\",, \"T\")/100","v":-2.5674132194467892E-2},"https://finance.yahoo.com/quote/MKTX",null,{"$error":"#N/A"},2.5674132194467892E-2,null,{"$f":"IFERROR(RTD(\"cqg.rtd\", ,\"ContractData\",O71, \"LongDescription\",, \"T\"),\"\")","v":"MarketAxcess Inc"},null,null,-2.5674132194467892E-2,null,{"$error":"#N/A"},0,null,"",2.5674132194467892E-2,-2.5674132194467892E-2]
[{"$f":"RTD(\"cqg.rtd\", ,\"ContractData\",C72, \"LongDescription\",, \"T\")","v":"WR Berkley Corp"},"S.US.WRB","S.US.WRB",{"$f":"RTD(\"cqg.rtd\", ,\"ContractData\",C72, \"LongDescription\",, \"T\")","v":"WR Berkley Corp"},{"$f":"RTD(\"cqg.rtd\", ,\"ContractData\",C72, \"Open\",, \"T\")","v":61.33},{"$f":"RTD(\"cqg.rtd\", ,\"ContractData\",C72, \"High\",, \"T\")","v":61.47},{"$f":"RTD(\"cqg.rtd\", ,\"ContractData\",C72, \"Low\",, \"T\")","v":60.53},{"$f":"RTD(\"cqg.rtd\", ,\"ContractData\",C72, \"LastTradeToday\",, \"T\")","v":60.82},{"$f":"RTD(\"cqg.rtd\", ,\"ContractData\",C72, \"NetLastTradeToday\",, \"T\")","v":-0.69000000000000006},{"$f":"IFERROR(RTD(\"cqg.rtd\", ,\"ContractData\",C72, \"PerCentNetLastTrade\",, \"T\")/100,0)","v":-1.1217688180783612E-2},{"$f":"RTD(\"cqg.rtd\", ,\"ContractData\", C72, \"T_CVol\",, \"T\")","v":1455230},72,{"$f":"RANK($J72,$J$1:J$73)+COUNTIF($J$1:J72,J72)-1","v":39},"S.US.WRB","S.US.SYF",{"$f":"RTD(\"cqg.rtd\", ,\"ContractData\",O72, \"PerCentNetLastTrade\",, \"T\")/100","v":-2.9189509556971402E-2},"https://finance.yahoo.com/quote/SYF",null,{"$error":"#N/A"},2.9189509556971402E-2,null,{"$f":"IFERROR(RTD(\"cqg.rtd\", ,\"ContractData\",O72, \"LongDescription\",, \"T\"),\"\")","v":"Synchrony Financial"},null,null,-2.9189509556971402E-2,null,{"$error":"#N/A"},0,null,"",2.9189509556971402E-2,-2.9189509556971402E-2]
[{"$f":"RTD(\"cqg.rtd\", ,\"ContractData\",C73, \"LongDescription\",, \"T\")","v":"Willis Towers Watson"},"S.US.WTW","S.US.WTW",{"$f":"RTD(\"cqg.rtd\", ,\"ContractData\",C73, \"LongDescription\",, \"T\")","v":"Willis Towers Watson"},{"$f":"RTD(\"cqg.rtd\", ,\"ContractData\",C73, \"Open\",, \"T\")","v":326.79000000000002},{"$f":"RTD(\"cqg.rtd\", ,\"ContractData\",C73, \"High\",, \"T\")","v":326.79000000000002},{"$f":"RTD(\"cqg.rtd\", ,\"ContractData\",C73, \"Low\",, \"T\")","v":321.59000000000003},{"$f":"RTD(\"cqg.rtd\", ,\"ContractData\",C73, \"LastTradeToday\",, \"T\")","v":325.18},{"$f":"RTD(\"cqg.rtd\", ,\"ContractData\",C73, \"NetLastTradeToday\",, \"T\")","v":-0.61},{"$f":"IFERROR(RTD(\"cqg.rtd\", ,\"ContractData\",C73, \"PerCentNetLastTrade\",, \"T\")/100,0)","v":-1.872371773228153E-3},{"$f":"RTD(\"cqg.rtd\", ,\"ContractData\", C73, \"T_CVol\",, \"T\")","v":451371},73,{"$f":"RANK($J73,$J$1:J$73)+COUNTIF($J$1:J73,J73)-1","v":15},"S.US.WTW","S.US.RJF",{"$f":"RTD(\"cqg.rtd\", ,\"ContractData\",O73, \"PerCentNetLastTrade\",, \"T\")/100","v":-2.9922952875828704E-2},"https://finance.yahoo.com/quote/RJF",null,{"$error":"#N/A"},2.9922952875828704E-2,null,{"$f":"IFERROR(RTD(\"cqg.rtd\", ,\"ContractData\",O73, \"LongDescription\",, \"T\"),\"\")","v":"Raymond James Fincl Inc"},null,null,-2.9922952875828704E-2,null,{"$error":"#N/A"},0,null,"",2.9922952875828704E-2,-2.9922952875828704E-2]
[]
[]
[]
[]
[]
[]
[]
[]
[]
[]
[]
[]
[]
[]
[]
[]
[]
[]
[]
[]
[]
[]
[]
[]
[]
[]
[]
[]
[]
[]
[]
[]
[]
[]
[]
[]
[]
[]
[]
[]
[]
[]
[]
[]
[]
[]
[]
[]
[]
[]
[]
[]
[]
[]
[]
[]
[]
[]
[]
[]
[]
[]
[]
[]
[null,null,null,null,null,null,null,null,null,null,null,null,null,null,null,null,null,null,null,null,null,null,null,null,null,null,null,null,null,null,{"$f":"IFERROR(T138,\"\")","v":0},{"$f":"IF(AE138=\"\",\"\",Y138)","v":0}]
[]
[]
[]
[]
[]
[]
[]
[]
[]
[]
[]
[]
[]
[]
[]
[]
[]
[]
[]
[]
[]
[]
[]
[]
[]
[]
[]
[]
[]
[]
[]
[null,null,null,null,null,null,null,null,null,null,null,null,null,null,null,null,null,null,null,null,null,null,null,null,null,null,null,{"$f":"SUM(AB1:AB138)/73","v":0.17808219178082191}]